{"text_format":"1","workbook":"xlsx","n_sheets":17,"sheets":["ACCUEIL","CARNET","CARNETSOLO","EVALCONTINUE2TAB","CCF TAB","REFERENTIELS","PHYSIO-ENTRAINEMENT","SECU","FC","PAS","TOUSLESPAS","LEXIQUE","DEBUTSTEP","APPEL","CCF","EVALUATION CONTINUE","EVALCONTINUE2"],"not_rendered":{"charts":0,"images":68,"macros":1,"external_links":0,"defined_names":20,"comments":0,"pivot_tables":0},"unopened":[],"bounds":{"document_bytes":16777216,"sheet_cells":100000,"rows_first":2000,"rows_last":500,"rows_between":2000,"halvings":0,"cell_chars":16384,"cell_head_chars":4096},"cells_cut":0,"cells_raw":0,"read":"whole","date_system":"1900"}

{"sheet":"ACCUEIL","index":0,"n_rows":3,"n_cols":5,"rows_kept":3,"cut":false,"hidden":false,"merged":[[2,4,3,4]]}
[]
[]
[null,null,null,null,"LE CARNET DE CC"]

{"sheet":"CARNET","index":1,"n_rows":92,"n_cols":149,"rows_kept":92,"cut":false,"hidden":false,"merged":[[39,0,41,0],[93,136,93,149],[90,138,90,139],[90,140,90,141],[90,142,90,143],[90,144,90,145],[90,146,90,147],[91,138,91,139],[91,140,91,141],[91,142,91,143],[91,144,91,145],[91,146,91,147],[88,138,88,139],[88,140,88,141],[88,142,88,143],[88,144,88,145],[88,146,88,147],[89,138,89,139],[89,140,89,141],[89,142,89,143],[89,144,89,145],[89,146,89,147],[83,137,83,147],[85,136,85,147],[86,138,86,139],[86,140,86,141],[86,142,86,143],[86,144,86,145],[86,146,86,147],[87,138,87,139],[87,140,87,141],[87,142,87,143],[87,144,87,145],[87,146,87,147],[78,136,80,136],[78,137,78,138],[78,140,78,141],[78,143,78,144],[78,146,78,147],[80,137,80,138],[80,140,80,141],[80,143,80,144],[80,146,80,147],[74,136,76,136],[74,137,74,138],[74,140,74,141],[74,143,74,144],[74,146,74,147],[76,137,76,138],[76,140,76,141],[76,143,76,144],[76,146,76,147],[70,136,72,136],[70,137,70,138],[70,140,70,141],[70,143,70,144],[70,146,70,147],[72,137,72,138],[72,140,72,141],[72,143,72,144],[72,146,72,147],[66,136,68,136],[66,137,66,138],[66,140,66,141],[66,143,66,144],[66,146,66,147],[68,137,68,138],[68,140,68,141],[68,143,68,144],[68,146,68,147],[58,147,59,147],[62,138,62,139],[62,140,62,141],[62,142,62,143],[62,144,62,145],[62,146,62,147],[63,138,63,147],[64,136,64,147],[65,136,65,146],[58,138,59,138],[58,139,59,139],[58,140,59,140],[58,141,59,141],[58,142,59,142],[58,143,59,143],[58,144,59,144],[58,145,59,145],[58,146,59,146],[54,147,55,147],[56,138,57,138],[56,139,57,139],[56,140,57,140],[56,141,57,141],[56,142,57,142],[56,143,57,143],[56,144,57,144],[56,145,57,145],[56,146,57,146],[56,147,57,147],[54,138,55,138],[54,139,55,139],[54,140,55,140],[54,141,55,141],[54,142,55,142],[54,143,55,143],[54,144,55,144],[54,145,55,145],[54,146,55,146],[50,147,51,147],[52,138,53,138],[52,139,53,139],[52,140,53,140],[52,141,53,141],[52,142,53,142],[52,143,53,143],[52,144,53,144],[52,145,53,145],[52,146,53,146],[52,147,53,147],[50,138,51,138],[50,139,51,139],[50,140,51,140],[50,141,51,141],[50,142,51,142],[50,143,51,143],[50,144,51,144],[50,145,51,145],[50,146,51,146],[46,147,47,147],[48,138,49,138],[48,139,49,139],[48,140,49,140],[48,141,49,141],[48,142,49,142],[48,143,49,143],[48,144,49,144],[48,145,49,145],[48,146,49,146],[48,147,49,147],[46,138,47,138],[46,139,47,139],[46,140,47,140],[46,141,47,141],[46,142,47,142],[46,143,47,143],[46,144,47,144],[46,145,47,145],[46,146,47,146],[42,147,43,147],[44,138,45,138],[44,139,45,139],[44,140,45,140],[44,141,45,141],[44,142,45,142],[44,143,45,143],[44,144,45,144],[44,145,45,145],[44,146,45,146],[44,147,45,147],[42,138,43,138],[42,139,43,139],[42,140,43,140],[42,141,43,141],[42,142,43,142],[42,143,43,143],[42,144,43,144],[42,145,43,145],[42,146,43,146],[27,136,27,147],[35,138,35,147],[36,138,36,139],[36,140,36,141],[36,142,36,143],[36,144,36,145],[36,146,36,147],[38,136,38,147],[39,138,40,138],[39,139,40,139],[39,140,40,140],[39,141,40,141],[39,142,40,142],[39,143,40,143],[39,144,40,144],[39,145,40,145],[39,146,40,146],[39,147,40,147],[23,136,23,137],[23,138,23,140],[23,141,23,143],[23,144,23,146],[25,138,25,139],[25,140,25,141],[25,142,25,143],[25,144,25,145],[25,146,25,147],[20,136,22,137],[20,138,20,140],[20,141,20,143],[20,144,20,146],[21,138,21,140],[21,141,21,143],[21,144,21,146],[22,138,22,140],[22,141,22,143],[22,144,22,146],[93,121,93,134],[0,137,1,148],[0,149,92,149],[3,136,3,147],[10,136,10,138],[10,139,10,141],[10,142,10,146],[12,136,12,147],[13,138,13,145],[14,138,14,146],[16,136,17,137],[16,138,16,140],[16,141,16,143],[16,144,16,146],[17,138,17,140],[17,141,17,143],[17,144,17,146],[18,136,18,137],[18,138,18,140],[18,141,18,143],[18,144,18,146],[19,138,19,140],[19,141,19,143],[19,144,19,146],[90,123,90,124],[90,125,90,126],[90,127,90,128],[90,129,90,130],[90,131,90,132],[91,123,91,124],[91,125,91,126],[91,127,91,128],[91,129,91,130],[91,131,91,132],[88,123,88,124],[88,125,88,126],[88,127,88,128],[88,129,88,130],[88,131,88,132],[89,123,89,124],[89,125,89,126],[89,127,89,128],[89,129,89,130],[89,131,89,132],[83,122,83,132],[85,121,85,132],[86,123,86,124],[86,125,86,126],[86,127,86,128],[86,129,86,130],[86,131,86,132],[87,123,87,124],[87,125,87,126],[87,127,87,128],[87,129,87,130],[87,131,87,132],[78,121,80,121],[78,122,78,123],[78,125,78,126],[78,128,78,129],[78,131,78,132],[80,122,80,123],[80,125,80,126],[80,128,80,129],[80,131,80,132],[74,121,76,121],[74,122,74,123],[74,125,74,126],[74,128,74,129],[74,131,74,132],[76,122,76,123],[76,125,76,126],[76,128,76,129],[76,131,76,132],[70,121,72,121],[70,122,70,123],[70,125,70,126],[70,128,70,129],[70,131,70,132],[72,122,72,123],[72,125,72,126],[72,128,72,129],[72,131,72,132],[66,121,68,121],[66,122,66,123],[66,125,66,126],[66,128,66,129],[66,131,66,132],[68,122,68,123],[68,125,68,126],[68,128,68,129],[68,131,68,132],[58,132,59,132],[62,123,62,124],[62,125,62,126],[62,127,62,128],[62,129,62,130],[62,131,62,132],[63,123,63,132],[64,121,64,132],[65,121,65,131],[58,123,59,123],[58,124,59,124],[58,125,59,125],[58,126,59,126],[58,127,59,127],[58,128,59,128],[58,129,59,129],[58,130,59,130],[58,131,59,131],[54,132,55,132],[56,123,57,123],[56,124,57,124],[56,125,57,125],[56,126,57,126],[56,127,57,127],[56,128,57,128],[56,129,57,129],[56,130,57,130],[56,131,57,131],[56,132,57,132],[54,123,55,123],[54,124,55,124],[54,125,55,125],[54,126,55,126],[54,127,55,127],[54,128,55,128],[54,129,55,129],[54,130,55,130],[54,131,55,131],[50,132,51,132],[52,123,53,123],[52,124,53,124],[52,125,53,125],[52,126,53,126],[52,127,53,127],[52,128,53,128],[52,129,53,129],[52,130,53,130],[52,131,53,131],[52,132,53,132],[50,123,51,123],[50,124,51,124],[50,125,51,125],[50,126,51,126],[50,127,51,127],[50,128,51,128],[50,129,51,129],[50,130,51,130],[50,131,51,131],[46,132,47,132],[48,123,49,123],[48,124,49,124],[48,125,49,125],[48,126,49,126],[48,127,49,127],[48,128,49,128],[48,129,49,129],[48,130,49,130],[48,131,49,131],[48,132,49,132],[46,123,47,123],[46,124,47,124],[46,125,47,125],[46,126,47,126],[46,127,47,127],[46,128,47,128],[46,129,47,129],[46,130,47,130],[46,131,47,131],[42,132,43,132],[44,123,45,123],[44,124,45,124],[44,125,45,125],[44,126,45,126],[44,127,45,127],[44,128,45,128],[44,129,45,129],[44,130,45,130],[44,131,45,131],[44,132,45,132],[42,123,43,123],[42,124,43,124],[42,125,43,125],[42,126,43,126],[42,127,43,127],[42,128,43,128],[42,129,43,129],[42,130,43,130],[42,131,43,131],[27,121,27,132],[35,123,35,132],[36,123,36,124],[36,125,36,126],[36,127,36,128],[36,129,36,130],[36,131,36,132],[38,121,38,132],[39,123,40,123],[39,124,40,124],[39,125,40,125],[39,126,40,126],[39,127,40,127],[39,128,40,128],[39,129,40,129],[39,130,40,130],[39,131,40,131],[39,132,40,132],[23,121,23,122],[23,123,23,125],[23,126,23,128],[23,129,23,131],[25,123,25,124],[25,125,25,126],[25,127,25,128],[25,129,25,130],[25,131,25,132],[20,121,22,122],[20,123,20,125],[20,126,20,128],[20,129,20,131],[21,123,21,125],[21,126,21,128],[21,129,21,131],[22,123,22,125],[22,126,22,128],[22,129,22,131],[93,106,93,119],[0,122,1,133],[0,134,92,134],[3,121,3,132],[10,121,10,123],[10,124,10,126],[10,127,10,131],[12,121,12,132],[13,123,13,130],[14,123,14,131],[16,121,17,122],[16,123,16,125],[16,126,16,128],[16,129,16,131],[17,123,17,125],[17,126,17,128],[17,129,17,131],[18,121,18,122],[18,123,18,125],[18,126,18,128],[18,129,18,131],[19,123,19,125],[19,126,19,128],[19,129,19,131],[90,108,90,109],[90,110,90,111],[90,112,90,113],[90,114,90,115],[90,116,90,117],[91,108,91,109],[91,110,91,111],[91,112,91,113],[91,114,91,115],[91,116,91,117],[88,108,88,109],[88,110,88,111],[88,112,88,113],[88,114,88,115],[88,116,88,117],[89,108,89,109],[89,110,89,111],[89,112,89,113],[89,114,89,115],[89,116,89,117],[83,107,83,117],[85,106,85,117],[86,108,86,109],[86,110,86,111],[86,112,86,113],[86,114,86,115],[86,116,86,117],[87,108,87,109],[87,110,87,111],[87,112,87,113],[87,114,87,115],[87,116,87,117],[78,106,80,106],[78,107,78,108],[78,110,78,111],[78,113,78,114],[78,116,78,117],[80,107,80,108],[80,110,80,111],[80,113,80,114],[80,116,80,117],[74,106,76,106],[74,107,74,108],[74,110,74,111],[74,113,74,114],[74,116,74,117],[76,107,76,108],[76,110,76,111],[76,113,76,114],[76,116,76,117],[70,106,72,106],[70,107,70,108],[70,110,70,111],[70,113,70,114],[70,116,70,117],[72,107,72,108],[72,110,72,111],[72,113,72,114],[72,116,72,117],[66,106,68,106],[66,107,66,108],[66,110,66,111],[66,113,66,114],[66,116,66,117],[68,107,68,108],[68,110,68,111],[68,113,68,114],[68,116,68,117],[58,117,59,117],[62,108,62,109],[62,110,62,111],[62,112,62,113],[62,114,62,115],[62,116,62,117],[63,108,63,117],[64,106,64,117],[65,106,65,116],[58,108,59,108],[58,109,59,109],[58,110,59,110],[58,111,59,111],[58,112,59,112],[58,113,59,113],[58,114,59,114],[58,115,59,115],[58,116,59,116],[54,117,55,117],[56,108,57,108],[56,109,57,109],[56,110,57,110],[56,111,57,111],[56,112,57,112],[56,113,57,113],[56,114,57,114],[56,115,57,115],[56,116,57,116],[56,117,57,117],[54,108,55,108],[54,109,55,109],[54,110,55,110],[54,111,55,111],[54,112,55,112],[54,113,55,113],[54,114,55,114],[54,115,55,115],[54,116,55,116],[50,117,51,117],[52,108,53,108],[52,109,53,109],[52,110,53,110],[52,111,53,111],[52,112,53,112],[52,113,53,113],[52,114,53,114],[52,115,53,115],[52,116,53,116],[52,117,53,117],[50,108,51,108],[50,109,51,109],[50,110,51,110],[50,111,51,111],[50,112,51,112],[50,113,51,113],[50,114,51,114],[50,115,51,115],[50,116,51,116],[46,117,47,117],[48,108,49,108],[48,109,49,109],[48,110,49,110],[48,111,49,111],[48,112,49,112],[48,113,49,113],[48,114,49,114],[48,115,49,115],[48,116,49,116],[48,117,49,117],[46,108,47,108],[46,109,47,109],[46,110,47,110],[46,111,47,111],[46,112,47,112],[46,113,47,113],[46,114,47,114],[46,115,47,115],[46,116,47,116],[42,117,43,117],[44,108,45,108],[44,109,45,109],[44,110,45,110],[44,111,45,111],[44,112,45,112],[44,113,45,113],[44,114,45,114],[44,115,45,115],[44,116,45,116],[44,117,45,117],[42,108,43,108],[42,109,43,109],[42,110,43,110],[42,111,43,111],[42,112,43,112],[42,113,43,113],[42,114,43,114],[42,115,43,115],[42,116,43,116],[27,106,27,117],[35,108,35,117],[36,108,36,109],[36,110,36,111],[36,112,36,113],[36,114,36,115],[36,116,36,117],[38,106,38,117],[39,108,40,108],[39,109,40,109],[39,110,40,110],[39,111,40,111],[39,112,40,112],[39,113,40,113],[39,114,40,114],[39,115,40,115],[39,116,40,116],[39,117,40,117],[23,106,23,107],[23,108,23,110],[23,111,23,113],[23,114,23,116],[25,108,25,109],[25,110,25,111],[25,112,25,113],[25,114,25,115],[25,116,25,117],[20,106,22,107],[20,108,20,110],[20,111,20,113],[20,114,20,116],[21,108,21,110],[21,111,21,113],[21,114,21,116],[22,108,22,110],[22,111,22,113],[22,114,22,116],[93,91,93,104],[0,107,1,118],[0,119,92,119],[3,106,3,117],[10,106,10,108],[10,109,10,111],[10,112,10,116],[12,106,12,117],[13,108,13,115],[14,108,14,116],[16,106,17,107],[16,108,16,110],[16,111,16,113],[16,114,16,116],[17,108,17,110],[17,111,17,113],[17,114,17,116],[18,106,18,107],[18,108,18,110],[18,111,18,113],[18,114,18,116],[19,108,19,110],[19,111,19,113],[19,114,19,116],[90,93,90,94],[90,95,90,96],[90,97,90,98],[90,99,90,100],[90,101,90,102],[91,93,91,94],[91,95,91,96],[91,97,91,98],[91,99,91,100],[91,101,91,102],[88,93,88,94],[88,95,88,96],[88,97,88,98],[88,99,88,100],[88,101,88,102],[89,93,89,94],[89,95,89,96],[89,97,89,98],[89,99,89,100],[89,101,89,102],[83,92,83,102],[85,91,85,102],[86,93,86,94],[86,95,86,96],[86,97,86,98],[86,99,86,100],[86,101,86,102],[87,93,87,94],[87,95,87,96],[87,97,87,98],[87,99,87,100],[87,101,87,102],[78,91,80,91],[78,92,78,93],[78,95,78,96],[78,98,78,99],[78,101,78,102],[80,92,80,93],[80,95,80,96],[80,98,80,99],[80,101,80,102],[74,91,76,91],[74,92,74,93],[74,95,74,96],[74,98,74,99],[74,101,74,102],[76,92,76,93],[76,95,76,96],[76,98,76,99],[76,101,76,102],[70,91,72,91],[70,92,70,93],[70,95,70,96],[70,98,70,99],[70,101,70,102],[72,92,72,93],[72,95,72,96],[72,98,72,99],[72,101,72,102],[66,91,68,91],[66,92,66,93],[66,95,66,96],[66,98,66,99],[66,101,66,102],[68,92,68,93],[68,95,68,96],[68,98,68,99],[68,101,68,102],[58,102,59,102],[62,93,62,94],[62,95,62,96],[62,97,62,98],[62,99,62,100],[62,101,62,102],[63,93,63,102],[64,91,64,102],[65,91,65,101],[58,93,59,93],[58,94,59,94],[58,95,59,95],[58,96,59,96],[58,97,59,97],[58,98,59,98],[58,99,59,99],[58,100,59,100],[58,101,59,101],[54,102,55,102],[56,93,57,93],[56,94,57,94],[56,95,57,95],[56,96,57,96],[56,97,57,97],[56,98,57,98],[56,99,57,99],[56,100,57,100],[56,101,57,101],[56,102,57,102],[54,93,55,93],[54,94,55,94],[54,95,55,95],[54,96,55,96],[54,97,55,97],[54,98,55,98],[54,99,55,99],[54,100,55,100],[54,101,55,101],[50,102,51,102],[52,93,53,93],[52,94,53,94],[52,95,53,95],[52,96,53,96],[52,97,53,97],[52,98,53,98],[52,99,53,99],[52,100,53,100],[52,101,53,101],[52,102,53,102],[50,93,51,93],[50,94,51,94],[50,95,51,95],[50,96,51,96],[50,97,51,97],[50,98,51,98],[50,99,51,99],[50,100,51,100],[50,101,51,101],[46,102,47,102],[48,93,49,93],[48,94,49,94],[48,95,49,95],[48,96,49,96],[48,97,49,97],[48,98,49,98],[48,99,49,99],[48,100,49,100],[48,101,49,101],[48,102,49,102],[46,93,47,93],[46,94,47,94],[46,95,47,95],[46,96,47,96],[46,97,47,97],[46,98,47,98],[46,99,47,99],[46,100,47,100],[46,101,47,101],[42,102,43,102],[44,93,45,93],[44,94,45,94],[44,95,45,95],[44,96,45,96],[44,97,45,97],[44,98,45,98],[44,99,45,99],[44,100,45,100],[44,101,45,101],[44,102,45,102],[42,93,43,93],[42,94,43,94],[42,95,43,95],[42,96,43,96],[42,97,43,97],[42,98,43,98],[42,99,43,99],[42,100,43,100],[42,101,43,101],[27,91,27,102],[35,93,35,102],[36,93,36,94],[36,95,36,96],[36,97,36,98],[36,99,36,100],[36,101,36,102],[38,91,38,102],[39,93,40,93],[39,94,40,94],[39,95,40,95],[39,96,40,96],[39,97,40,97],[39,98,40,98],[39,99,40,99],[39,100,40,100],[39,101,40,101],[39,102,40,102],[23,91,23,92],[23,93,23,95],[23,96,23,98],[23,99,23,101],[25,93,25,94],[25,95,25,96],[25,97,25,98],[25,99,25,100],[25,101,25,102],[20,91,22,92],[20,93,20,95],[20,96,20,98],[20,99,20,101],[21,93,21,95],[21,96,21,98],[21,99,21,101],[22,93,22,95],[22,96,22,98],[22,99,22,101],[93,76,93,89],[0,92,1,103],[0,104,92,104],[3,91,3,102],[10,91,10,93],[10,94,10,96],[10,97,10,101],[12,91,12,102],[13,93,13,100],[14,93,14,101],[16,91,17,92],[16,93,16,95],[16,96,16,98],[16,99,16,101],[17,93,17,95],[17,96,17,98],[17,99,17,101],[18,91,18,92],[18,93,18,95],[18,96,18,98],[18,99,18,101],[19,93,19,95],[19,96,19,98],[19,99,19,101],[90,78,90,79],[90,80,90,81],[90,82,90,83],[90,84,90,85],[90,86,90,87],[91,78,91,79],[91,80,91,81],[91,82,91,83],[91,84,91,85],[91,86,91,87],[88,78,88,79],[88,80,88,81],[88,82,88,83],[88,84,88,85],[88,86,88,87],[89,78,89,79],[89,80,89,81],[89,82,89,83],[89,84,89,85],[89,86,89,87],[83,77,83,87],[85,76,85,87],[86,78,86,79],[86,80,86,81],[86,82,86,83],[86,84,86,85],[86,86,86,87],[87,78,87,79],[87,80,87,81],[87,82,87,83],[87,84,87,85],[87,86,87,87],[78,76,80,76],[78,77,78,78],[78,80,78,81],[78,83,78,84],[78,86,78,87],[80,77,80,78],[80,80,80,81],[80,83,80,84],[80,86,80,87],[74,76,76,76],[74,77,74,78],[74,80,74,81],[74,83,74,84],[74,86,74,87],[76,77,76,78],[76,80,76,81],[76,83,76,84],[76,86,76,87],[70,76,72,76],[70,77,70,78],[70,80,70,81],[70,83,70,84],[70,86,70,87],[72,77,72,78],[72,80,72,81],[72,83,72,84],[72,86,72,87],[66,76,68,76],[66,77,66,78],[66,80,66,81],[66,83,66,84],[66,86,66,87],[68,77,68,78],[68,80,68,81],[68,83,68,84],[68,86,68,87],[58,87,59,87],[62,78,62,79],[62,80,62,81],[62,82,62,83],[62,84,62,85],[62,86,62,87],[63,78,63,87],[64,76,64,87],[65,76,65,86],[58,78,59,78],[58,79,59,79],[58,80,59,80],[58,81,59,81],[58,82,59,82],[58,83,59,83],[58,84,59,84],[58,85,59,85],[58,86,59,86],[54,87,55,87],[56,78,57,78],[56,79,57,79],[56,80,57,80]],"merged_total":2273,"flags":["merged_cut"]}
[null,null,"SEANCE 1",null,null,null,null,null,null,null,null,null,null,null,null,null,null,"SEANCE 2",null,null,null,null,null,null,null,null,null,null,null,null,null,null,"SEANCE 3",null,null,null,null,null,null,null,null,null,null,null,null,null,null,"SEANCE 4",null,null,null,null,null,null,null,null,null,null,null,null,null,null,"SEANCE 5",null,null,null,null,null,null,null,null,null,null,null,null,null,null,"SEANCE 6",null,null,null,null,null,null,null,null,null,null,null,null,null,null,"SEANCE 7",null,null,null,null,null,null,null,null,null,null,null,null,null,null,"SEANCE 8",null,null,null,null,null,null,null,null,null,null,null,null,null,null,"SEANCE 9",null,null,null,null,null,null,null,null,null,null,null,null,null,null,"SEANCE 10"]
[null,"TAPR",null,null,null,null,null,null,null,null,null,null,null,null,null,null,{"$f":"B2","v":"TAPR"},null,null,null,null,null,null,null,null,null,null,null,null,null,null,{"$f":"Q2","v":"TAPR"},null,null,null,null,null,null,null,null,null,null,null,null,null,null,{"$f":"AF2","v":"TAPR"},null,null,null,null,null,null,null,null,null,null,null,null,null,null,{"$f":"AU2","v":"TAPR"},null,null,null,null,null,null,null,null,null,null,null,null,null,null,{"$f":"BJ2","v":"TAPR"},null,null,null,null,null,null,null,null,null,null,null,null,null,null,{"$f":"BY2","v":"TAPR"},null,null,null,null,null,null,null,null,null,null,null,null,null,null,{"$f":"CN2","v":"TAPR"},null,null,null,null,null,null,null,null,null,null,null,null,null,null,{"$f":"DC2","v":"TAPR"},null,null,null,null,null,null,null,null,null,null,null,null,null,null,{"$f":"DR2","v":"TAPR"}]
[null,"Nom du groupe",null,"Alexandrine",null,"Chadia",null,"Asiya",null,"Asiya",null,"Behija",null,null,null,null,{"$f":"B3","v":"Nom du groupe"},null,{"$f":"IF(D3=\"\",\"\",D3)","v":"Alexandrine"},null,{"$f":"IF(F3=\"\",\"\",F3)","v":"Chadia"},null,{"$f":"IF(H3=\"\",\"\",H3)","v":"Asiya"},null,{"$f":"IF(J3=\"\",\"\",J3)","v":"Asiya"},null,{"$f":"IF(L3=\"\",\"\",L3)","v":"Behija"},null,null,null,null,{"$f":"Q3","v":"Nom du groupe"},null,{"$f":"IF(S3=\"\",\"\",S3)","v":"Alexandrine"},null,{"$f":"IF(U3=\"\",\"\",U3)","v":"Chadia"},null,{"$f":"IF(W3=\"\",\"\",W3)","v":"Asiya"},null,{"$f":"IF(Y3=\"\",\"\",Y3)","v":"Asiya"},null,{"$f":"IF(AA3=\"\",\"\",AA3)","v":"Behija"},null,null,null,null,{"$f":"AF3","v":"Nom du groupe"},null,{"$f":"IF(AH3=\"\",\"\",AH3)","v":"Alexandrine"},null,{"$f":"IF(AJ3=\"\",\"\",AJ3)","v":"Chadia"},null,{"$f":"IF(AL3=\"\",\"\",AL3)","v":"Asiya"},null,{"$f":"IF(AN3=\"\",\"\",AN3)","v":"Asiya"},null,{"$f":"IF(AP3=\"\",\"\",AP3)","v":"Behija"},null,null,null,null,{"$f":"AU3","v":"Nom du groupe"},null,{"$f":"IF(AW3=\"\",\"\",AW3)","v":"Alexandrine"},null,{"$f":"IF(AY3=\"\",\"\",AY3)","v":"Chadia"},null,{"$f":"IF(BA3=\"\",\"\",BA3)","v":"Asiya"},null,{"$f":"IF(BC3=\"\",\"\",BC3)","v":"Asiya"},null,{"$f":"IF(BE3=\"\",\"\",BE3)","v":"Behija"},null,null,null,null,{"$f":"BJ3","v":"Nom du groupe"},null,{"$f":"IF(BL3=\"\",\"\",BL3)","v":"Alexandrine"},null,{"$f":"IF(BN3=\"\",\"\",BN3)","v":"Chadia"},null,{"$f":"IF(BP3=\"\",\"\",BP3)","v":"Asiya"},null,{"$f":"IF(BR3=\"\",\"\",BR3)","v":"Asiya"},null,{"$f":"IF(BT3=\"\",\"\",BT3)","v":"Behija"},null,null,null,null,{"$f":"BY3","v":"Nom du groupe"},null,{"$f":"IF(CA3=\"\",\"\",CA3)","v":"Alexandrine"},null,{"$f":"IF(CC3=\"\",\"\",CC3)","v":"Chadia"},null,{"$f":"IF(CE3=\"\",\"\",CE3)","v":"Asiya"},null,{"$f":"IF(CG3=\"\",\"\",CG3)","v":"Asiya"},null,{"$f":"IF(CI3=\"\",\"\",CI3)","v":"Behija"},null,null,null,null,{"$f":"CN3","v":"Nom du groupe"},null,{"$f":"IF(CP3=\"\",\"\",CP3)","v":"Alexandrine"},null,{"$f":"IF(CR3=\"\",\"\",CR3)","v":"Chadia"},null,{"$f":"IF(CT3=\"\",\"\",CT3)","v":"Asiya"},null,{"$f":"IF(CV3=\"\",\"\",CV3)","v":"Asiya"},null,{"$f":"IF(CX3=\"\",\"\",CX3)","v":"Behija"},null,null,null,null,{"$f":"DC3","v":"Nom du groupe"},null,{"$f":"IF(DE3=\"\",\"\",DE3)","v":"Alexandrine"},null,{"$f":"IF(DG3=\"\",\"\",DG3)","v":"Chadia"},null,{"$f":"IF(DI3=\"\",\"\",DI3)","v":"Asiya"},null,{"$f":"IF(DK3=\"\",\"\",DK3)","v":"Asiya"},null,{"$f":"IF(DM3=\"\",\"\",DM3)","v":"Behija"},null,null,null,null,{"$f":"DR3","v":"Nom du groupe"},null,{"$f":"IF(DT3=\"\",\"\",DT3)","v":"Alexandrine"},null,{"$f":"IF(DV3=\"\",\"\",DV3)","v":"Chadia"},null,{"$f":"IF(DX3=\"\",\"\",DX3)","v":"Asiya"},null,{"$f":"IF(DZ3=\"\",\"\",DZ3)","v":"Asiya"},null,{"$f":"IF(EB3=\"\",\"\",EB3)","v":"Behija"}]
[null,"FREQUENCE CARDIAQUE",null,null,null,null,null,null,null,null,null,null,null,null,null,null,"FREQUENCE CARDIAQUE",null,null,null,null,null,null,null,null,null,null,null,null,null,null,"FREQUENCE CARDIAQUE",null,null,null,null,null,null,null,null,null,null,null,null,null,null,"FREQUENCE CARDIAQUE",null,null,null,null,null,null,null,null,null,null,null,null,null,null,"FREQUENCE CARDIAQUE",null,null,null,null,null,null,null,null,null,null,null,null,null,null,"FREQUENCE CARDIAQUE",null,null,null,null,null,null,null,null,null,null,null,null,null,null,"FREQUENCE CARDIAQUE",null,null,null,null,null,null,null,null,null,null,null,null,null,null,"FREQUENCE CARDIAQUE",null,null,null,null,null,null,null,null,null,null,null,null,null,null,"FREQUENCE CARDIAQUE",null,null,null,null,null,null,null,null,null,null,null,null,null,null,"FREQUENCE CARDIAQUE"]
["FC AU REPOS",70,"bpm",{"$f":"IF(D3=\"\",\"\",B$5)","v":70},null,{"$f":"IF(F3=\"\",\"\",B$5)","v":70},null,{"$f":"IF(H3=\"\",\"\",B$5)","v":70},null,{"$f":"IF(J3=\"\",\"\",B$5)","v":70},null,{"$f":"IF(L3=\"\",\"\",B$5)","v":70},null,null,null,null,70,null,{"$f":"IF(S3=\"\",\"\",$Q$5)","v":70},"bpm",{"$f":"IF(U3=\"\",\"\",$Q$5)","v":70},"bpm",{"$f":"IF(W3=\"\",\"\",Q$5)","v":70},null,{"$f":"IF(Y3=\"\",\"\",Q$5)","v":70},null,{"$f":"IF(AA3=\"\",\"\",Q$5)","v":70},null,null,null,null,70,null,{"$f":"IF(AH3=\"\",\"\",AF$5)","v":70},"bpm",{"$f":"IF(AJ3=\"\",\"\",AF$5)","v":70},"bpm",{"$f":"IF(AL3=\"\",\"\",AF$5)","v":70},null,{"$f":"IF(AN3=\"\",\"\",AF$5)","v":70},null,{"$f":"IF(AP3=\"\",\"\",AF$5)","v":70},null,null,null,null,70,null,{"$f":"IF(AW3=\"\",\"\",AU$5)","v":70},"bpm",{"$f":"IF(AY3=\"\",\"\",AU$5)","v":70},"bpm",{"$f":"IF(BA3=\"\",\"\",AU$5)","v":70},null,{"$f":"IF(BC3=\"\",\"\",AU$5)","v":70},null,{"$f":"IF(BE3=\"\",\"\",AU$5)","v":70},null,null,null,null,70,null,{"$f":"IF(BL3=\"\",\"\",BJ$5)","v":70},"bpm",{"$f":"IF(BN3=\"\",\"\",BJ$5)","v":70},"bpm",{"$f":"IF(BP3=\"\",\"\",BJ$5)","v":70},null,{"$f":"IF(BR3=\"\",\"\",BJ$5)","v":70},null,{"$f":"IF(BT3=\"\",\"\",BJ$5)","v":70},null,null,null,null,70,null,{"$f":"IF(CA3=\"\",\"\",BY$5)","v":70},"bpm",{"$f":"IF(CC3=\"\",\"\",BY$5)","v":70},"bpm",{"$f":"IF(CE3=\"\",\"\",BY$5)","v":70},null,{"$f":"IF(CG3=\"\",\"\",BY$5)","v":70},null,{"$f":"IF(CI3=\"\",\"\",BY$5)","v":70},null,null,null,null,70,null,{"$f":"IF(CP3=\"\",\"\",CN$5)","v":70},"bpm",{"$f":"IF(CR3=\"\",\"\",CN$5)","v":70},"bpm",{"$f":"IF(CT3=\"\",\"\",CN$5)","v":70},null,{"$f":"IF(CV3=\"\",\"\",CN$5)","v":70},null,{"$f":"IF(CX3=\"\",\"\",CN$5)","v":70},null,null,null,null,70,null,{"$f":"IF(DE3=\"\",\"\",DC$5)","v":70},"bpm",{"$f":"IF(DG3=\"\",\"\",DC$5)","v":70},"bpm",{"$f":"IF(DI3=\"\",\"\",DC$5)","v":70},null,{"$f":"IF(DK3=\"\",\"\",DC$5)","v":70},null,{"$f":"IF(DM3=\"\",\"\",DC$5)","v":70},null,null,null,null,70,null,{"$f":"IF(DT3=\"\",\"\",DR$5)","v":70},"bpm",{"$f":"IF(DV3=\"\",\"\",DR$5)","v":70},"bpm",{"$f":"IF(DX3=\"\",\"\",DR$5)","v":70},null,{"$f":"IF(DZ3=\"\",\"\",DR$5)","v":70},null,{"$f":"IF(EB3=\"\",\"\",DR$5)","v":70},null,null,null,null,60,null,{"$f":"IF(EI3=\"\",\"\",EG$5)","v":60},"bpm",{"$f":"IF(EK3=\"\",\"\",EG$5)","v":60},"bpm",{"$f":"IF(EM3=\"\",\"\",EG$5)","v":60},null,{"$f":"IF(EO3=\"\",\"\",EG$5)","v":60},null,{"$f":"IF(EQ3=\"\",\"\",EG$5)","v":60}]
["AGE",18,"ans",{"$f":"IF(D3=\"\",\"\",B$6)","v":18},null,{"$f":"IF(F3=\"\",\"\",B$6)","v":18},null,{"$f":"IF(H3=\"\",\"\",B$6)","v":18},null,{"$f":"IF(J3=\"\",\"\",B$6)","v":18},null,{"$f":"IF(L3=\"\",\"\",B$6)","v":18},null,null,null,null,{"$f":"B6","v":18},null,{"$f":"D6","v":18},"ans",{"$f":"F6","v":18},"ans",{"$f":"H6","v":18},null,{"$f":"J6","v":18},null,{"$f":"L6","v":18},null,null,null,null,{"$f":"Q6","v":18},null,{"$f":"S6","v":18},"ans",{"$f":"U6","v":18},"ans",{"$f":"W6","v":18},null,{"$f":"Y6","v":18},null,{"$f":"AA6","v":18},null,null,null,null,{"$f":"AF6","v":18},null,{"$f":"AH6","v":18},"ans",{"$f":"AJ6","v":18},"ans",{"$f":"AL6","v":18},null,{"$f":"AN6","v":18},null,{"$f":"AP6","v":18},null,null,null,null,{"$f":"AU6","v":18},null,{"$f":"AW6","v":18},"ans",{"$f":"AY6","v":18},"ans",{"$f":"BA6","v":18},null,{"$f":"BC6","v":18},null,{"$f":"BE6","v":18},null,null,null,null,{"$f":"BJ6","v":18},null,{"$f":"BL6","v":18},"ans",{"$f":"BN6","v":18},"ans",{"$f":"BP6","v":18},null,{"$f":"BR6","v":18},null,{"$f":"BT6","v":18},null,null,null,null,{"$f":"BY6","v":18},null,{"$f":"CA6","v":18},"ans",{"$f":"CC6","v":18},"ans",{"$f":"CE6","v":18},null,{"$f":"CG6","v":18},null,{"$f":"CI6","v":18},null,null,null,null,{"$f":"CN6","v":18},null,{"$f":"CP6","v":18},"ans",{"$f":"CR6","v":18},"ans",{"$f":"CT6","v":18},null,{"$f":"CV6","v":18},null,{"$f":"CX6","v":18},null,null,null,null,{"$f":"DC6","v":18},null,{"$f":"DE6","v":18},"ans",{"$f":"DG6","v":18},"ans",{"$f":"DI6","v":18},null,{"$f":"DK6","v":18},null,{"$f":"DM6","v":18},null,null,null,null,{"$f":"DR6","v":18},null,{"$f":"DT6","v":18},"ans",{"$f":"DV6","v":18},"ans",{"$f":"DX6","v":18},null,{"$f":"DZ6","v":18},null,{"$f":"EB6","v":18}]
["FC max",{"$f":"220-B6","v":202},"bpm",{"$f":"IF(D3=\"\",\"\",220-D6)","v":202},null,{"$f":"IF(F3=\"\",\"\",220-F6)","v":202},null,{"$f":"IF(H3=\"\",\"\",220-H6)","v":202},null,{"$f":"IF(J3=\"\",\"\",220-J6)","v":202},null,{"$f":"IF(L3=\"\",\"\",220-L6)","v":202},null,null,null,null,{"$f":"220-Q6","v":202},null,{"$f":"IF(S3=\"\",\"\",220-S6)","v":202},"bpm",{"$f":"IF(U3=\"\",\"\",220-U6)","v":202},"bpm",{"$f":"IF(W3=\"\",\"\",220-W6)","v":202},null,{"$f":"IF(Y3=\"\",\"\",220-Y6)","v":202},null,{"$f":"IF(AA3=\"\",\"\",220-AA6)","v":202},null,null,null,null,{"$f":"220-AF6","v":202},null,{"$f":"IF(AH3=\"\",\"\",220-AH6)","v":202},"bpm",{"$f":"IF(AJ3=\"\",\"\",220-AJ6)","v":202},"bpm",{"$f":"IF(AL3=\"\",\"\",220-AL6)","v":202},null,{"$f":"IF(AN3=\"\",\"\",220-AN6)","v":202},null,{"$f":"IF(AP3=\"\",\"\",220-AP6)","v":202},null,null,null,null,{"$f":"220-AU6","v":202},null,{"$f":"IF(AW3=\"\",\"\",220-AW6)","v":202},"bpm",{"$f":"IF(AY3=\"\",\"\",220-AY6)","v":202},"bpm",{"$f":"IF(BA3=\"\",\"\",220-BA6)","v":202},null,{"$f":"IF(BC3=\"\",\"\",220-BC6)","v":202},null,{"$f":"IF(BE3=\"\",\"\",220-BE6)","v":202},null,null,null,null,{"$f":"220-BJ6","v":202},null,{"$f":"IF(BL3=\"\",\"\",220-BL6)","v":202},"bpm",{"$f":"IF(BN3=\"\",\"\",220-BN6)","v":202},"bpm",{"$f":"IF(BP3=\"\",\"\",220-BP6)","v":202},null,{"$f":"IF(BR3=\"\",\"\",220-BR6)","v":202},null,{"$f":"IF(BT3=\"\",\"\",220-BT6)","v":202},null,null,null,null,{"$f":"220-BY6","v":202},null,{"$f":"IF(CA3=\"\",\"\",220-CA6)","v":202},"bpm",{"$f":"IF(CC3=\"\",\"\",220-CC6)","v":202},"bpm",{"$f":"IF(CE3=\"\",\"\",220-CE6)","v":202},null,{"$f":"IF(CG3=\"\",\"\",220-CG6)","v":202},null,{"$f":"IF(CI3=\"\",\"\",220-CI6)","v":202},null,null,null,null,{"$f":"220-CN6","v":202},null,{"$f":"IF(CP3=\"\",\"\",220-CP6)","v":202},"bpm",{"$f":"IF(CR3=\"\",\"\",220-CR6)","v":202},"bpm",{"$f":"IF(CT3=\"\",\"\",220-CT6)","v":202},null,{"$f":"IF(CV3=\"\",\"\",220-CV6)","v":202},null,{"$f":"IF(CX3=\"\",\"\",220-CX6)","v":202},null,null,null,null,{"$f":"220-DC6","v":202},null,{"$f":"IF(DE3=\"\",\"\",220-DE6)","v":202},"bpm",{"$f":"IF(DG3=\"\",\"\",220-DG6)","v":202},"bpm",{"$f":"IF(DI3=\"\",\"\",220-DI6)","v":202},null,{"$f":"IF(DK3=\"\",\"\",220-DK6)","v":202},null,{"$f":"IF(DM3=\"\",\"\",220-DM6)","v":202},null,null,null,null,{"$f":"220-DR6","v":202},null,{"$f":"IF(DT3=\"\",\"\",220-DT6)","v":202},"bpm",{"$f":"IF(DV3=\"\",\"\",220-DV6)","v":202},"bpm",{"$f":"IF(DX3=\"\",\"\",220-DX6)","v":202},null,{"$f":"IF(DZ3=\"\",\"\",220-DZ6)","v":202},null,{"$f":"IF(EB3=\"\",\"\",220-EB6)","v":202},null,null,null,null,{"$f":"220-EG6","v":202},null,{"$f":"IF(EI3=\"\",\"\",220-EI6)","v":202},"bpm",{"$f":"IF(EK3=\"\",\"\",220-EK6)","v":202},"bpm",{"$f":"IF(EM3=\"\",\"\",220-EM6)","v":202},null,{"$f":"IF(EO3=\"\",\"\",220-EO6)","v":202},null,{"$f":"IF(EQ3=\"\",\"\",220-EQ6)","v":202}]
["FC Réserve",{"$f":"B7-B5","v":132},"bpm",{"$f":"IF(D3=\"\",\"\",D7-D5)","v":132},null,{"$f":"IF(F3=\"\",\"\",F7-F5)","v":132},null,{"$f":"IF(H3=\"\",\"\",H7-H5)","v":132},null,{"$f":"IF(J3=\"\",\"\",J7-J5)","v":132},null,{"$f":"IF(L3=\"\",\"\",L7-L5)","v":132},null,null,null,null,{"$f":"Q7-Q5","v":132},null,{"$f":"IF(S3=\"\",\"\",S7-S5)","v":132},"bpm",{"$f":"IF(U3=\"\",\"\",U7-U5)","v":132},"bpm",{"$f":"IF(W3=\"\",\"\",W7-W5)","v":132},null,{"$f":"IF(Y3=\"\",\"\",Y7-Y5)","v":132},null,{"$f":"IF(AA3=\"\",\"\",AA7-AA5)","v":132},null,null,null,null,{"$f":"AF7-AF5","v":132},null,{"$f":"IF(AH3=\"\",\"\",AH7-AH5)","v":132},"bpm",{"$f":"IF(AJ3=\"\",\"\",AJ7-AJ5)","v":132},"bpm",{"$f":"IF(AL3=\"\",\"\",AL7-AL5)","v":132},null,{"$f":"IF(AN3=\"\",\"\",AN7-AN5)","v":132},null,{"$f":"IF(AP3=\"\",\"\",AP7-AP5)","v":132},null,null,null,null,{"$f":"AU7-AU5","v":132},null,{"$f":"IF(AW3=\"\",\"\",AW7-AW5)","v":132},"bpm",{"$f":"IF(AY3=\"\",\"\",AY7-AY5)","v":132},"bpm",{"$f":"IF(BA3=\"\",\"\",BA7-BA5)","v":132},null,{"$f":"IF(BC3=\"\",\"\",BC7-BC5)","v":132},null,{"$f":"IF(BE3=\"\",\"\",BE7-BE5)","v":132},null,null,null,null,{"$f":"BJ7-BJ5","v":132},null,{"$f":"IF(BL3=\"\",\"\",BL7-BL5)","v":132},"bpm",{"$f":"IF(BN3=\"\",\"\",BN7-BN5)","v":132},"bpm",{"$f":"IF(BP3=\"\",\"\",BP7-BP5)","v":132},null,{"$f":"IF(BR3=\"\",\"\",BR7-BR5)","v":132},null,{"$f":"IF(BT3=\"\",\"\",BT7-BT5)","v":132},null,null,null,null,{"$f":"BY7-BY5","v":132},null,{"$f":"IF(CA3=\"\",\"\",CA7-CA5)","v":132},"bpm",{"$f":"IF(CC3=\"\",\"\",CC7-CC5)","v":132},"bpm",{"$f":"IF(CE3=\"\",\"\",CE7-CE5)","v":132},null,{"$f":"IF(CG3=\"\",\"\",CG7-CG5)","v":132},null,{"$f":"IF(CI3=\"\",\"\",CI7-CI5)","v":132},null,null,null,null,{"$f":"CN7-CN5","v":132},null,{"$f":"IF(CP3=\"\",\"\",CP7-CP5)","v":132},"bpm",{"$f":"IF(CR3=\"\",\"\",CR7-CR5)","v":132},"bpm",{"$f":"IF(CT3=\"\",\"\",CT7-CT5)","v":132},null,{"$f":"IF(CV3=\"\",\"\",CV7-CV5)","v":132},null,{"$f":"IF(CX3=\"\",\"\",CX7-CX5)","v":132},null,null,null,null,{"$f":"DC7-DC5","v":132},null,{"$f":"IF(DE3=\"\",\"\",DE7-DE5)","v":132},"bpm",{"$f":"IF(DG3=\"\",\"\",DG7-DG5)","v":132},"bpm",{"$f":"IF(DI3=\"\",\"\",DI7-DI5)","v":132},null,{"$f":"IF(DK3=\"\",\"\",DK7-DK5)","v":132},null,{"$f":"IF(DM3=\"\",\"\",DM7-DM5)","v":132},null,null,null,null,{"$f":"DR7-DR5","v":132},null,{"$f":"IF(DT3=\"\",\"\",DT7-DT5)","v":132},"bpm",{"$f":"IF(DV3=\"\",\"\",DV7-DV5)","v":132},"bpm",{"$f":"IF(DX3=\"\",\"\",DX7-DX5)","v":132},null,{"$f":"IF(DZ3=\"\",\"\",DZ7-DZ5)","v":132},null,{"$f":"IF(EB3=\"\",\"\",EB7-EB5)","v":132},null,null,null,null,{"$f":"EG7-EG5","v":142},null,{"$f":"IF(EI3=\"\",\"\",EI7-EI5)","v":142},"bpm",{"$f":"IF(EK3=\"\",\"\",EK7-EK5)","v":142},"bpm",{"$f":"IF(EM3=\"\",\"\",EM7-EM5)","v":142},null,{"$f":"IF(EO3=\"\",\"\",EO7-EO5)","v":142},null,{"$f":"IF(EQ3=\"\",\"\",EQ7-EQ5)","v":142}]
["% Intensité travail choisi",75,"%",{"$f":"IF(D3=\"\",\"\",B$9)","v":75},null,{"$f":"IF(F3=\"\",\"\",B$9)","v":75},null,{"$f":"IF(H3=\"\",\"\",B$9)","v":75},null,{"$f":"IF(J3=\"\",\"\",B$9)","v":75},null,{"$f":"IF(L3=\"\",\"\",B$9)","v":75},null,null,null,null,85,null,{"$f":"IF(S3=\"\",\"\",$Q$9)","v":85},"%",{"$f":"IF(U3=\"\",\"\",$Q$9)","v":85},"%",{"$f":"IF(W3=\"\",\"\",Q$9)","v":85},null,{"$f":"IF(Y3=\"\",\"\",Q$9)","v":85},null,{"$f":"IF(AA3=\"\",\"\",Q$9)","v":85},null,null,null,null,85,null,{"$f":"IF(AH3=\"\",\"\",AF$9)","v":85},"%",{"$f":"IF(AJ3=\"\",\"\",AF$9)","v":85},"%",{"$f":"IF(AL3=\"\",\"\",AF$9)","v":85},null,{"$f":"IF(AN3=\"\",\"\",AF$9)","v":85},null,{"$f":"IF(AP3=\"\",\"\",AF$9)","v":85},null,null,null,null,85,null,{"$f":"IF(AW3=\"\",\"\",AU$9)","v":85},"%",{"$f":"IF(AY3=\"\",\"\",AU$9)","v":85},"%",{"$f":"IF(BA3=\"\",\"\",AU$9)","v":85},null,{"$f":"IF(BC3=\"\",\"\",AU$9)","v":85},null,{"$f":"IF(BE3=\"\",\"\",AU$9)","v":85},null,null,null,null,85,null,{"$f":"IF(BL3=\"\",\"\",BJ$9)","v":85},"%",{"$f":"IF(BN3=\"\",\"\",BJ$9)","v":85},"%",{"$f":"IF(BP3=\"\",\"\",BJ$9)","v":85},null,{"$f":"IF(BR3=\"\",\"\",BJ$9)","v":85},null,{"$f":"IF(BT3=\"\",\"\",BJ$9)","v":85},null,null,null,null,85,null,{"$f":"IF(CA3=\"\",\"\",BY$9)","v":85},"%",{"$f":"IF(CC3=\"\",\"\",BY$9)","v":85},"%",{"$f":"IF(CE3=\"\",\"\",BY$9)","v":85},null,{"$f":"IF(CG3=\"\",\"\",BY$9)","v":85},null,{"$f":"IF(CI3=\"\",\"\",BY$9)","v":85},null,null,null,null,85,null,{"$f":"IF(CP3=\"\",\"\",CN$9)","v":85},"%",{"$f":"IF(CR3=\"\",\"\",CN$9)","v":85},"%",{"$f":"IF(CT3=\"\",\"\",CN$9)","v":85},null,{"$f":"IF(CV3=\"\",\"\",CN$9)","v":85},null,{"$f":"IF(CX3=\"\",\"\",CN$9)","v":85},null,null,null,null,85,null,{"$f":"IF(DE3=\"\",\"\",DC$9)","v":85},"%",{"$f":"IF(DG3=\"\",\"\",DC$9)","v":85},"%",{"$f":"IF(DI3=\"\",\"\",DC$9)","v":85},null,{"$f":"IF(DK3=\"\",\"\",DC$9)","v":85},null,{"$f":"IF(DM3=\"\",\"\",DC$9)","v":85},null,null,null,null,85,null,{"$f":"IF(DT3=\"\",\"\",DR$9)","v":85},"%",{"$f":"IF(DV3=\"\",\"\",DR$9)","v":85},"%",{"$f":"IF(DX3=\"\",\"\",DR$9)","v":85},null,{"$f":"IF(DZ3=\"\",\"\",DR$9)","v":85},null,{"$f":"IF(EB3=\"\",\"\",DR$9)","v":85},null,null,null,null,60,null,{"$f":"IF(EI3=\"\",\"\",EG$9)","v":60},"%",{"$f":"IF(EK3=\"\",\"\",EG$9)","v":60},"%",{"$f":"IF(EM3=\"\",\"\",EG$9)","v":60},null,{"$f":"IF(EO3=\"\",\"\",EG$9)","v":60},null,{"$f":"IF(EQ3=\"\",\"\",EG$9)","v":60}]
["FC ENTRAINEMENT",{"$f":"B8*B9/100 +B5","v":169},"bpm",{"$f":"IF(D3=\"\",\"\",D8*D9/100 +D5)","v":169},null,{"$f":"IF(F3=\"\",\"\",F8*F9/100 +F5)","v":169},null,{"$f":"IF(H3=\"\",\"\",H8*H9/100 +H5)","v":169},null,{"$f":"IF(J3=\"\",\"\",J8*J9/100 +J5)","v":169},null,{"$f":"IF(L3=\"\",\"\",L8*L9/100 +L5)","v":169},null,null,null,null,{"$f":"Q8*Q9/100 +Q5","v":182.2},null,{"$f":"IF(S3=\"\",\"\",S8*S9/100 +S5)","v":182.2},"bpm",{"$f":"IF(U3=\"\",\"\",U8*U9/100 +U5)","v":182.2},"bpm",{"$f":"IF(W3=\"\",\"\",W8*W9/100 +W5)","v":182.2},null,{"$f":"IF(Y3=\"\",\"\",Y8*Y9/100 +Y5)","v":182.2},null,{"$f":"IF(AA3=\"\",\"\",AA8*AA9/100 +AA5)","v":182.2},null,null,null,null,{"$f":"AF8*AF9/100 +AF5","v":182.2},null,{"$f":"IF(AH3=\"\",\"\",AH8*AH9/100 +AH5)","v":182.2},"bpm",{"$f":"IF(AJ3=\"\",\"\",AJ8*AJ9/100 +AJ5)","v":182.2},"bpm",{"$f":"IF(AL3=\"\",\"\",AL8*AL9/100 +AL5)","v":182.2},null,{"$f":"IF(AN3=\"\",\"\",AN8*AN9/100 +AN5)","v":182.2},null,{"$f":"IF(AP3=\"\",\"\",AP8*AP9/100 +AP5)","v":182.2},null,null,null,null,{"$f":"AU8*AU9/100 +AU5","v":182.2},null,{"$f":"IF(AW3=\"\",\"\",AW8*AW9/100 +AW5)","v":182.2},"bpm",{"$f":"IF(AY3=\"\",\"\",AY8*AY9/100 +AY5)","v":182.2},"bpm",{"$f":"IF(BA3=\"\",\"\",BA8*BA9/100 +BA5)","v":182.2},null,{"$f":"IF(BC3=\"\",\"\",BC8*BC9/100 +BC5)","v":182.2},null,{"$f":"IF(BE3=\"\",\"\",BE8*BE9/100 +BE5)","v":182.2},null,null,null,null,{"$f":"BJ8*BJ9/100 +BJ5","v":182.2},null,{"$f":"IF(BL3=\"\",\"\",BL8*BL9/100 +BL5)","v":182.2},"bpm",{"$f":"IF(BN3=\"\",\"\",BN8*BN9/100 +BN5)","v":182.2},"bpm",{"$f":"IF(BP3=\"\",\"\",BP8*BP9/100 +BP5)","v":182.2},null,{"$f":"IF(BR3=\"\",\"\",BR8*BR9/100 +BR5)","v":182.2},null,{"$f":"IF(BT3=\"\",\"\",BT8*BT9/100 +BT5)","v":182.2},null,null,null,null,{"$f":"BY8*BY9/100 +BY5","v":182.2},null,{"$f":"IF(CA3=\"\",\"\",CA8*CA9/100 +CA5)","v":182.2},"bpm",{"$f":"IF(CC3=\"\",\"\",CC8*CC9/100 +CC5)","v":182.2},"bpm",{"$f":"IF(CE3=\"\",\"\",CE8*CE9/100 +CE5)","v":182.2},null,{"$f":"IF(CG3=\"\",\"\",CG8*CG9/100 +CG5)","v":182.2},null,{"$f":"IF(CI3=\"\",\"\",CI8*CI9/100 +CI5)","v":182.2},null,null,null,null,{"$f":"CN8*CN9/100 +CN5","v":182.2},null,{"$f":"IF(CP3=\"\",\"\",CP8*CP9/100 +CP5)","v":182.2},"bpm",{"$f":"IF(CR3=\"\",\"\",CR8*CR9/100 +CR5)","v":182.2},"bpm",{"$f":"IF(CT3=\"\",\"\",CT8*CT9/100 +CT5)","v":182.2},null,{"$f":"IF(CV3=\"\",\"\",CV8*CV9/100 +CV5)","v":182.2},null,{"$f":"IF(CX3=\"\",\"\",CX8*CX9/100 +CX5)","v":182.2},null,null,null,null,{"$f":"DC8*DC9/100 +DC5","v":182.2},null,{"$f":"IF(DE3=\"\",\"\",DE8*DE9/100 +DE5)","v":182.2},"bpm",{"$f":"IF(DG3=\"\",\"\",DG8*DG9/100 +DG5)","v":182.2},"bpm",{"$f":"IF(DI3=\"\",\"\",DI8*DI9/100 +DI5)","v":182.2},null,{"$f":"IF(DK3=\"\",\"\",DK8*DK9/100 +DK5)","v":182.2},null,{"$f":"IF(DM3=\"\",\"\",DM8*DM9/100 +DM5)","v":182.2},null,null,null,null,{"$f":"DR8*DR9/100 +DR5","v":182.2},null,{"$f":"IF(DT3=\"\",\"\",DT8*DT9/100 +DT5)","v":182.2},"bpm",{"$f":"IF(DV3=\"\",\"\",DV8*DV9/100 +DV5)","v":182.2},"bpm",{"$f":"IF(DX3=\"\",\"\",DX8*DX9/100 +DX5)","v":182.2},null,{"$f":"IF(DZ3=\"\",\"\",DZ8*DZ9/100 +DZ5)","v":182.2},null,{"$f":"IF(EB3=\"\",\"\",EB8*EB9/100 +EB5)","v":182.2},null,null,null,null,{"$f":"EG8*EG9/100 +EG5","v":145.19999999999999},null,{"$f":"IF(EI3=\"\",\"\",EI8*EI9/100 +EI5)","v":145.19999999999999},"bpm",{"$f":"IF(EK3=\"\",\"\",EK8*EK9/100 +EK5)","v":145.19999999999999},"bpm",{"$f":"IF(EM3=\"\",\"\",EM8*EM9/100 +EM5)","v":145.19999999999999},null,{"$f":"IF(EO3=\"\",\"\",EO8*EO9/100 +EO5)","v":145.19999999999999},null,{"$f":"IF(EQ3=\"\",\"\",EQ8*EQ9/100 +EQ5)","v":145.19999999999999}]
[null,"FC max = 226 - âge ",null,null,"FC Réserve = FC max - FC repos",null,null,"FC Entrainement = FC Réserve x % intensité travail choisi + FC repos",null,null,null,null,null,null,null,null,"FC max = 226 - âge ",null,null,"FC Réserve = FC max - FC repos",null,null,"FC Entrainement = FC Réserve x % intensité travail choisi + FC repos",null,null,null,null,null,null,null,null,"FC max = 226 - âge ",null,null,"FC Réserve = FC max - FC repos",null,null,"FC Entrainement = FC Réserve x % intensité travail choisi + FC repos",null,null,null,null,null,null,null,null,"FC max = 226 - âge ",null,null,"FC Réserve = FC max - FC repos",null,null,"FC Entrainement = FC Réserve x % intensité travail choisi + FC repos",null,null,null,null,null,null,null,null,"FC max = 226 - âge ",null,null,"FC Réserve = FC max - FC repos",null,null,"FC Entrainement = FC Réserve x % intensité travail choisi + FC repos",null,null,null,null,null,null,null,null,"FC max = 226 - âge ",null,null,"FC Réserve = FC max - FC repos",null,null,"FC Entrainement = FC Réserve x % intensité travail choisi + FC repos",null,null,null,null,null,null,null,null,"FC max = 226 - âge ",null,null,"FC Réserve = FC max - FC repos",null,null,"FC Entrainement = FC Réserve x % intensité travail choisi + FC repos",null,null,null,null,null,null,null,null,"FC max = 226 - âge ",null,null,"FC Réserve = FC max - FC repos",null,null,"FC Entrainement = FC Réserve x % intensité travail choisi + FC repos",null,null,null,null,null,null,null,null,"FC max = 226 - âge ",null,null,"FC Réserve = FC max - FC repos",null,null,"FC Entrainement = FC Réserve x % intensité travail choisi + FC repos",null,null,null,null,null,null,null,null,"FC max = 226 - âge ",null,null,"FC Réserve = FC max - FC repos",null,null,"FC Entrainement = FC Réserve x % intensité travail choisi + FC repos"]
[]
[null,"CHOIX DU MOBILE",null,null,null,null,null,null,null,null,null,null,null,null,null,null,"CHOIX DU MOBILE",null,null,null,null,null,null,null,null,null,null,null,null,null,null,"CHOIX DU MOBILE",null,null,null,null,null,null,null,null,null,null,null,null,null,null,"CHOIX DU MOBILE",null,null,null,null,null,null,null,null,null,null,null,null,null,null,"CHOIX DU MOBILE",null,null,null,null,null,null,null,null,null,null,null,null,null,null,"CHOIX DU MOBILE",null,null,null,null,null,null,null,null,null,null,null,null,null,null,"CHOIX DU MOBILE",null,null,null,null,null,null,null,null,null,null,null,null,null,null,"CHOIX DU MOBILE",null,null,null,null,null,null,null,null,null,null,null,null,null,null,"CHOIX DU MOBILE",null,null,null,null,null,null,null,null,null,null,null,null,null,null,"CHOIX DU MOBILE"]
["Choix du mobile",null,null,"Effort bref et intense",null,null,null,null,null,null,null,null,null,null,null,null,null,null,"Effort long et soutenu",null,null,null,null,null,null,null,null,null,null,null,null,null,null,"Effort modéré et prolongé",null,null,null,null,null,null,null,null,null,null,null,null,null,null,"Mobiles",null,null,null,null,null,null,null,null,null,null,null,null,null,null,"Mobiles",null,null,null,null,null,null,null,null,null,null,null,null,null,null,"Mobiles",null,null,null,null,null,null,null,null,null,null,null,null,null,null,"Mobiles",null,null,null,null,null,null,null,null,null,null,null,null,null,null,"Effort bref et intense",null,null,null,null,null,null,null,null,null,null,null,null,null,null,"Mobiles",null,null,null,null,null,null,null,null,null,null,null,null,null,null,"Mobiles"]
["Temps de travail",null,null,{"$f":"VLOOKUP(D14,DEBUTSTEP!$V$4:$X$25,2,FALSE)","v":"12 à 18'"},null,null,null,null,null,null,null,null,null,null,null,null,null,null,{"$f":"VLOOKUP(S14,DEBUTSTEP!$V$4:$X$25,2,FALSE)","v":"16 à 22'"},null,null,null,null,null,null,null,null,null,null,null,null,null,null,{"$f":"VLOOKUP(AH14,DEBUTSTEP!$V$4:$X$25,2,FALSE)","v":"20 à 26'"},null,null,null,null,null,null,null,null,null,null,null,null,null,null,{"$f":"VLOOKUP(AW14,DEBUTSTEP!$V$4:$X$25,2,FALSE)","v":"Temps de travail"},null,null,null,null,null,null,null,null,null,null,null,null,null,null,{"$f":"VLOOKUP(BL14,DEBUTSTEP!$V$4:$X$25,2,FALSE)","v":"Temps de travail"},null,null,null,null,null,null,null,null,null,null,null,null,null,null,{"$f":"VLOOKUP(CA14,DEBUTSTEP!$V$4:$X$25,2,FALSE)","v":"Temps de travail"},null,null,null,null,null,null,null,null,null,null,null,null,null,null,{"$f":"VLOOKUP(CP14,DEBUTSTEP!$V$4:$X$25,2,FALSE)","v":"Temps de travail"},null,null,null,null,null,null,null,null,null,null,null,null,null,null,{"$f":"VLOOKUP(DE14,DEBUTSTEP!$V$4:$X$25,2,FALSE)","v":"12 à 18'"},null,null,null,null,null,null,null,null,null,null,null,null,null,null,{"$f":"VLOOKUP(DT14,DEBUTSTEP!$V$4:$X$25,2,FALSE)","v":"Temps de travail"},null,null,null,null,null,null,null,null,null,null,null,null,null,null,{"$f":"VLOOKUP(EI14,DEBUTSTEP!$V$4:$X$25,2,FALSE)","v":"Temps de travail"}]
[]
["Mobile ","Quel type d'effort ?",null,1,null,null,2,null,null,3,null,null,null,null,null,null,"Quel type d'effort ?",null,1,null,null,2,null,null,3,null,null,null,null,null,null,"Quel type d'effort ?",null,1,null,null,2,null,null,3,null,null,null,null,null,null,"Quel type d'effort ?",null,1,null,null,2,null,null,3,null,null,null,null,null,null,"Quel type d'effort ?",null,1,null,null,2,null,null,3,null,null,null,null,null,null,"Quel type d'effort ?",null,1,null,null,2,null,null,3,null,null,null,null,null,null,"Quel type d'effort ?",null,1,null,null,2,null,null,3,null,null,null,null,null,null,"Quel type d'effort ?",null,1,null,null,2,null,null,3,null,null,null,null,null,null,"Quel type d'effort ?",null,1,null,null,2,null,null,3,null,null,null,null,null,null,"Quel type d'effort ?",null,1,null,null,2,null,null,3]
[null,null,null,"Effort bref et intense",null,null,"Effort long et soutenu",null,null,"Effort modéré et prolongé",null,null,null,null,null,null,null,null,"Effort bref et intense",null,null,"Effort long et soutenu",null,null,"Effort modéré et prolongé",null,null,null,null,null,null,null,null,"Effort bref et intense",null,null,"Effort long et soutenu",null,null,"Effort modéré et prolongé",null,null,null,null,null,null,null,null,"Effort bref et intense",null,null,"Effort long et soutenu",null,null,"Effort modéré et prolongé",null,null,null,null,null,null,null,null,"Effort bref et intense",null,null,"Effort long et soutenu",null,null,"Effort modéré et prolongé",null,null,null,null,null,null,null,null,"Effort bref et intense",null,null,"Effort long et soutenu",null,null,"Effort modéré et prolongé",null,null,null,null,null,null,null,null,"Effort bref et intense",null,null,"Effort long et soutenu",null,null,"Effort modéré et prolongé",null,null,null,null,null,null,null,null,"Effort bref et intense",null,null,"Effort long et soutenu",null,null,"Effort modéré et prolongé",null,null,null,null,null,null,null,null,"Effort bref et intense",null,null,"Effort long et soutenu",null,null,"Effort modéré et prolongé",null,null,null,null,null,null,null,null,"Effort bref et intense",null,null,"Effort long et soutenu",null,null,"Effort modéré et prolongé"]
["Filières énergétiques","Quelles qualités développées ?",null,{"$f":"VLOOKUP(D$18,DEBUTSTEP!$V$4:$AG$22,7,FALSE)","v":"La puissance aérobie"},null,null,{"$f":"VLOOKUP(G$18,DEBUTSTEP!$V$4:$AG$22,7,FALSE)","v":"La capacité aérobie"},null,null,{"$f":"VLOOKUP(J$18,DEBUTSTEP!$V$4:$AG$22,7,FALSE)","v":"L’endurance fondamentale"},null,null,null,null,null,null,"Quelles qualités développées ?",null,{"$f":"VLOOKUP($D$18,DEBUTSTEP!$V$4:$AG$22,7,FALSE)","v":"La puissance aérobie"},null,null,{"$f":"VLOOKUP($G$18,DEBUTSTEP!$V$4:$AG$22,7,FALSE)","v":"La capacité aérobie"},null,null,{"$f":"VLOOKUP($J$18,DEBUTSTEP!$V$4:$AG$22,7,FALSE)","v":"L’endurance fondamentale"},null,null,null,null,null,null,"Quelles qualités développées ?",null,{"$f":"VLOOKUP($D$18,DEBUTSTEP!$V$4:$AG$22,7,FALSE)","v":"La puissance aérobie"},null,null,{"$f":"VLOOKUP($G$18,DEBUTSTEP!$V$4:$AG$22,7,FALSE)","v":"La capacité aérobie"},null,null,{"$f":"VLOOKUP($J$18,DEBUTSTEP!$V$4:$AG$22,7,FALSE)","v":"L’endurance fondamentale"},null,null,null,null,null,null,"Quelles qualités développées ?",null,{"$f":"VLOOKUP($D$18,DEBUTSTEP!$V$4:$AG$22,7,FALSE)","v":"La puissance aérobie"},null,null,{"$f":"VLOOKUP($G$18,DEBUTSTEP!$V$4:$AG$22,7,FALSE)","v":"La capacité aérobie"},null,null,{"$f":"VLOOKUP($J$18,DEBUTSTEP!$V$4:$AG$22,7,FALSE)","v":"L’endurance fondamentale"},null,null,null,null,null,null,"Quelles qualités développées ?",null,{"$f":"VLOOKUP($D$18,DEBUTSTEP!$V$4:$AG$22,7,FALSE)","v":"La puissance aérobie"},null,null,{"$f":"VLOOKUP($G$18,DEBUTSTEP!$V$4:$AG$22,7,FALSE)","v":"La capacité aérobie"},null,null,{"$f":"VLOOKUP($J$18,DEBUTSTEP!$V$4:$AG$22,7,FALSE)","v":"L’endurance fondamentale"},null,null,null,null,null,null,"Quelles qualités développées ?",null,{"$f":"VLOOKUP($D$18,DEBUTSTEP!$V$4:$AG$22,7,FALSE)","v":"La puissance aérobie"},null,null,{"$f":"VLOOKUP($G$18,DEBUTSTEP!$V$4:$AG$22,7,FALSE)","v":"La capacité aérobie"},null,null,{"$f":"VLOOKUP($J$18,DEBUTSTEP!$V$4:$AG$22,7,FALSE)","v":"L’endurance fondamentale"},null,null,null,null,null,null,"Quelles qualités développées ?",null,{"$f":"VLOOKUP($D$18,DEBUTSTEP!$V$4:$AG$22,7,FALSE)","v":"La puissance aérobie"},null,null,{"$f":"VLOOKUP($G$18,DEBUTSTEP!$V$4:$AG$22,7,FALSE)","v":"La capacité aérobie"},null,null,{"$f":"VLOOKUP($J$18,DEBUTSTEP!$V$4:$AG$22,7,FALSE)","v":"L’endurance fondamentale"},null,null,null,null,null,null,"Quelles qualités développées ?",null,{"$f":"VLOOKUP($D$18,DEBUTSTEP!$V$4:$AG$22,7,FALSE)","v":"La puissance aérobie"},null,null,{"$f":"VLOOKUP($G$18,DEBUTSTEP!$V$4:$AG$22,7,FALSE)","v":"La capacité aérobie"},null,null,{"$f":"VLOOKUP($J$18,DEBUTSTEP!$V$4:$AG$22,7,FALSE)","v":"L’endurance fondamentale"},null,null,null,null,null,null,"Quelles qualités développées ?",null,{"$f":"VLOOKUP($D$18,DEBUTSTEP!$V$4:$AG$22,7,FALSE)","v":"La puissance aérobie"},null,null,{"$f":"VLOOKUP($G$18,DEBUTSTEP!$V$4:$AG$22,7,FALSE)","v":"La capacité aérobie"},null,null,{"$f":"VLOOKUP($J$18,DEBUTSTEP!$V$4:$AG$22,7,FALSE)","v":"L’endurance fondamentale"},null,null,null,null,null,null,"Quelles qualités développées ?",null,{"$f":"VLOOKUP($D$18,DEBUTSTEP!$V$4:$AG$22,7,FALSE)","v":"La puissance aérobie"},null,null,{"$f":"VLOOKUP($G$18,DEBUTSTEP!$V$4:$AG$22,7,FALSE)","v":"La capacité aérobie"},null,null,{"$f":"VLOOKUP($J$18,DEBUTSTEP!$V$4:$AG$22,7,FALSE)","v":"L’endurance fondamentale"}]
["FCE",null,null,{"$f":"VLOOKUP(D$18,DEBUTSTEP!$V$4:$AC$22,6,FALSE)","v":">85% de FCR"},null,null,{"$f":"VLOOKUP(G$18,DEBUTSTEP!$V$4:$AC$22,6,FALSE)","v":"70 à 85% de FCR"},null,null,{"$f":"VLOOKUP(J$18,DEBUTSTEP!$V$4:$AC$22,6,FALSE)","v":"50 à 65% de FCR"},null,null,null,null,null,null,null,null,{"$f":"VLOOKUP($D$18,DEBUTSTEP!$V$4:$AC$22,6,FALSE)","v":">85% de FCR"},null,null,{"$f":"VLOOKUP($G$18,DEBUTSTEP!$V$4:$AC$22,6,FALSE)","v":"70 à 85% de FCR"},null,null,{"$f":"VLOOKUP($J$18,DEBUTSTEP!$V$4:$AC$22,6,FALSE)","v":"50 à 65% de FCR"},null,null,null,null,null,null,null,null,{"$f":"VLOOKUP($D$18,DEBUTSTEP!$V$4:$AC$22,6,FALSE)","v":">85% de FCR"},null,null,{"$f":"VLOOKUP($G$18,DEBUTSTEP!$V$4:$AC$22,6,FALSE)","v":"70 à 85% de FCR"},null,null,{"$f":"VLOOKUP($J$18,DEBUTSTEP!$V$4:$AC$22,6,FALSE)","v":"50 à 65% de FCR"},null,null,null,null,null,null,null,null,{"$f":"VLOOKUP($D$18,DEBUTSTEP!$V$4:$AC$22,6,FALSE)","v":">85% de FCR"},null,null,{"$f":"VLOOKUP($G$18,DEBUTSTEP!$V$4:$AC$22,6,FALSE)","v":"70 à 85% de FCR"},null,null,{"$f":"VLOOKUP($J$18,DEBUTSTEP!$V$4:$AC$22,6,FALSE)","v":"50 à 65% de FCR"},null,null,null,null,null,null,null,null,{"$f":"VLOOKUP($D$18,DEBUTSTEP!$V$4:$AC$22,6,FALSE)","v":">85% de FCR"},null,null,{"$f":"VLOOKUP($G$18,DEBUTSTEP!$V$4:$AC$22,6,FALSE)","v":"70 à 85% de FCR"},null,null,{"$f":"VLOOKUP($J$18,DEBUTSTEP!$V$4:$AC$22,6,FALSE)","v":"50 à 65% de FCR"},null,null,null,null,null,null,null,null,{"$f":"VLOOKUP($D$18,DEBUTSTEP!$V$4:$AC$22,6,FALSE)","v":">85% de FCR"},null,null,{"$f":"VLOOKUP($G$18,DEBUTSTEP!$V$4:$AC$22,6,FALSE)","v":"70 à 85% de FCR"},null,null,{"$f":"VLOOKUP($J$18,DEBUTSTEP!$V$4:$AC$22,6,FALSE)","v":"50 à 65% de FCR"},null,null,null,null,null,null,null,null,{"$f":"VLOOKUP($D$18,DEBUTSTEP!$V$4:$AC$22,6,FALSE)","v":">85% de FCR"},null,null,{"$f":"VLOOKUP($G$18,DEBUTSTEP!$V$4:$AC$22,6,FALSE)","v":"70 à 85% de FCR"},null,null,{"$f":"VLOOKUP($J$18,DEBUTSTEP!$V$4:$AC$22,6,FALSE)","v":"50 à 65% de FCR"},null,null,null,null,null,null,null,null,{"$f":"VLOOKUP($D$18,DEBUTSTEP!$V$4:$AC$22,6,FALSE)","v":">85% de FCR"},null,null,{"$f":"VLOOKUP($G$18,DEBUTSTEP!$V$4:$AC$22,6,FALSE)","v":"70 à 85% de FCR"},null,null,{"$f":"VLOOKUP($J$18,DEBUTSTEP!$V$4:$AC$22,6,FALSE)","v":"50 à 65% de FCR"},null,null,null,null,null,null,null,null,{"$f":"VLOOKUP($D$18,DEBUTSTEP!$V$4:$AC$22,6,FALSE)","v":">85% de FCR"},null,null,{"$f":"VLOOKUP($G$18,DEBUTSTEP!$V$4:$AC$22,6,FALSE)","v":"70 à 85% de FCR"},null,null,{"$f":"VLOOKUP($J$18,DEBUTSTEP!$V$4:$AC$22,6,FALSE)","v":"50 à 65% de FCR"},null,null,null,null,null,null,null,null,{"$f":"VLOOKUP($D$18,DEBUTSTEP!$V$4:$AC$22,6,FALSE)","v":">85% de FCR"},null,null,{"$f":"VLOOKUP($G$18,DEBUTSTEP!$V$4:$AC$22,6,FALSE)","v":"70 à 85% de FCR"},null,null,{"$f":"VLOOKUP($J$18,DEBUTSTEP!$V$4:$AC$22,6,FALSE)","v":"50 à 65% de FCR"}]
["Temps de travail","Alterner temps de travail et récupération à une intenisté adaptée à l'objectif",null,{"$f":"VLOOKUP(D$18,DEBUTSTEP!$V$4:$AC$22,2,FALSE)","v":"12 à 18'"},null,null,{"$f":"VLOOKUP(G$18,DEBUTSTEP!$V$4:$AC$22,2,FALSE)","v":"16 à 22'"},null,null,{"$f":"VLOOKUP(J$18,DEBUTSTEP!$V$4:$AC$22,2,FALSE)","v":"20 à 26'"},null,null,null,null,null,null,"Alterner temps de travail et récupération à une intenisté adaptée à l'objectif",null,{"$f":"VLOOKUP($D$18,DEBUTSTEP!$V$4:$AC$22,2,FALSE)","v":"12 à 18'"},null,null,{"$f":"VLOOKUP($G$18,DEBUTSTEP!$V$4:$AC$22,2,FALSE)","v":"16 à 22'"},null,null,{"$f":"VLOOKUP($J$18,DEBUTSTEP!$V$4:$AC$22,2,FALSE)","v":"20 à 26'"},null,null,null,null,null,null,"Alterner temps de travail et récupération à une intenisté adaptée à l'objectif",null,{"$f":"VLOOKUP($D$18,DEBUTSTEP!$V$4:$AC$22,2,FALSE)","v":"12 à 18'"},null,null,{"$f":"VLOOKUP($G$18,DEBUTSTEP!$V$4:$AC$22,2,FALSE)","v":"16 à 22'"},null,null,{"$f":"VLOOKUP($J$18,DEBUTSTEP!$V$4:$AC$22,2,FALSE)","v":"20 à 26'"},null,null,null,null,null,null,"Alterner temps de travail et récupération à une intenisté adaptée à l'objectif",null,{"$f":"VLOOKUP($D$18,DEBUTSTEP!$V$4:$AC$22,2,FALSE)","v":"12 à 18'"},null,null,{"$f":"VLOOKUP($G$18,DEBUTSTEP!$V$4:$AC$22,2,FALSE)","v":"16 à 22'"},null,null,{"$f":"VLOOKUP($J$18,DEBUTSTEP!$V$4:$AC$22,2,FALSE)","v":"20 à 26'"},null,null,null,null,null,null,"Alterner temps de travail et récupération à une intenisté adaptée à l'objectif",null,{"$f":"VLOOKUP($D$18,DEBUTSTEP!$V$4:$AC$22,2,FALSE)","v":"12 à 18'"},null,null,{"$f":"VLOOKUP($G$18,DEBUTSTEP!$V$4:$AC$22,2,FALSE)","v":"16 à 22'"},null,null,{"$f":"VLOOKUP($J$18,DEBUTSTEP!$V$4:$AC$22,2,FALSE)","v":"20 à 26'"},null,null,null,null,null,null,"Alterner temps de travail et récupération à une intenisté adaptée à l'objectif",null,{"$f":"VLOOKUP($D$18,DEBUTSTEP!$V$4:$AC$22,2,FALSE)","v":"12 à 18'"},null,null,{"$f":"VLOOKUP($G$18,DEBUTSTEP!$V$4:$AC$22,2,FALSE)","v":"16 à 22'"},null,null,{"$f":"VLOOKUP($J$18,DEBUTSTEP!$V$4:$AC$22,2,FALSE)","v":"20 à 26'"},null,null,null,null,null,null,"Alterner temps de travail et récupération à une intenisté adaptée à l'objectif",null,{"$f":"VLOOKUP($D$18,DEBUTSTEP!$V$4:$AC$22,2,FALSE)","v":"12 à 18'"},null,null,{"$f":"VLOOKUP($G$18,DEBUTSTEP!$V$4:$AC$22,2,FALSE)","v":"16 à 22'"},null,null,{"$f":"VLOOKUP($J$18,DEBUTSTEP!$V$4:$AC$22,2,FALSE)","v":"20 à 26'"},null,null,null,null,null,null,"Alterner temps de travail et récupération à une intenisté adaptée à l'objectif",null,{"$f":"VLOOKUP($D$18,DEBUTSTEP!$V$4:$AC$22,2,FALSE)","v":"12 à 18'"},null,null,{"$f":"VLOOKUP($G$18,DEBUTSTEP!$V$4:$AC$22,2,FALSE)","v":"16 à 22'"},null,null,{"$f":"VLOOKUP($J$18,DEBUTSTEP!$V$4:$AC$22,2,FALSE)","v":"20 à 26'"},null,null,null,null,null,null,"Alterner temps de travail et récupération à une intenisté adaptée à l'objectif",null,{"$f":"VLOOKUP($D$18,DEBUTSTEP!$V$4:$AC$22,2,FALSE)","v":"12 à 18'"},null,null,{"$f":"VLOOKUP($G$18,DEBUTSTEP!$V$4:$AC$22,2,FALSE)","v":"16 à 22'"},null,null,{"$f":"VLOOKUP($J$18,DEBUTSTEP!$V$4:$AC$22,2,FALSE)","v":"20 à 26'"},null,null,null,null,null,null,"Alterner temps de travail et récupération à une intenisté adaptée à l'objectif",null,{"$f":"VLOOKUP($D$18,DEBUTSTEP!$V$4:$AC$22,2,FALSE)","v":"12 à 18'"},null,null,{"$f":"VLOOKUP($G$18,DEBUTSTEP!$V$4:$AC$22,2,FALSE)","v":"16 à 22'"},null,null,{"$f":"VLOOKUP($J$18,DEBUTSTEP!$V$4:$AC$22,2,FALSE)","v":"20 à 26'"}]
["Séries",null,null,{"$f":"VLOOKUP(D$18,DEBUTSTEP!$V$4:$AC$22,3,FALSE)","v":"jusqu'à 4'"},null,null,{"$f":"VLOOKUP(G$18,DEBUTSTEP!$V$4:$AC$22,3,FALSE)","v":"Au moins 3 séries"},null,null,{"$f":"VLOOKUP(J$18,DEBUTSTEP!$V$4:$AC$22,3,FALSE)","v":"Au moins 3 séries"},null,null,null,null,null,null,null,null,{"$f":"VLOOKUP($D$18,DEBUTSTEP!$V$4:$AC$22,3,FALSE)","v":"jusqu'à 4'"},null,null,{"$f":"VLOOKUP($G$18,DEBUTSTEP!$V$4:$AC$22,3,FALSE)","v":"Au moins 3 séries"},null,null,{"$f":"VLOOKUP($J$18,DEBUTSTEP!$V$4:$AC$22,3,FALSE)","v":"Au moins 3 séries"},null,null,null,null,null,null,null,null,{"$f":"VLOOKUP($D$18,DEBUTSTEP!$V$4:$AC$22,3,FALSE)","v":"jusqu'à 4'"},null,null,{"$f":"VLOOKUP($G$18,DEBUTSTEP!$V$4:$AC$22,3,FALSE)","v":"Au moins 3 séries"},null,null,{"$f":"VLOOKUP($J$18,DEBUTSTEP!$V$4:$AC$22,3,FALSE)","v":"Au moins 3 séries"},null,null,null,null,null,null,null,null,"2x2'",null,null,"1x7'",null,null,"1x5'",null,null,null,null,null,null,null,null,"3x2'",null,null,"2x5'",null,null,"2x5'",null,null,null,null,null,null,null,null,"4x2'",null,null,"3x4'",null,null,"2x6'",null,null,null,null,null,null,null,null,"5x2'",null,null,"2x7'",null,null,"3x5'",null,null,null,null,null,null,null,null,"6x2'",null,null,"3x6'",null,null,"3x7'",null,null,null,null,null,null,null,null,{"$f":"VLOOKUP($D$18,DEBUTSTEP!$V$4:$AC$22,3,FALSE)","v":"jusqu'à 4'"},null,null,{"$f":"VLOOKUP($G$18,DEBUTSTEP!$V$4:$AC$22,3,FALSE)","v":"Au moins 3 séries"},null,null,{"$f":"VLOOKUP($J$18,DEBUTSTEP!$V$4:$AC$22,3,FALSE)","v":"Au moins 3 séries"},null,null,null,null,null,null,null,null,{"$f":"VLOOKUP($D$18,DEBUTSTEP!$V$4:$AC$22,3,FALSE)","v":"jusqu'à 4'"},null,null,{"$f":"VLOOKUP($G$18,DEBUTSTEP!$V$4:$AC$22,3,FALSE)","v":"Au moins 3 séries"},null,null,{"$f":"VLOOKUP($J$18,DEBUTSTEP!$V$4:$AC$22,3,FALSE)","v":"Au moins 3 séries"}]
["Repos",null,null,{"$f":"VLOOKUP(D$18,DEBUTSTEP!$V$4:$AC$22,4,FALSE)","v":"jusqu'à 4'"},null,null,{"$f":"VLOOKUP(G$18,DEBUTSTEP!$V$4:$AC$22,4,FALSE)","v":"jusqu'à 4'"},null,null,{"$f":"VLOOKUP(J$18,DEBUTSTEP!$V$4:$AC$22,4,FALSE)","v":"jusqu'à 5'"},null,null,null,null,null,null,null,null,{"$f":"VLOOKUP($D$18,DEBUTSTEP!$V$4:$AC$22,4,FALSE)","v":"jusqu'à 4'"},null,null,{"$f":"VLOOKUP($G$18,DEBUTSTEP!$V$4:$AC$22,4,FALSE)","v":"jusqu'à 4'"},null,null,{"$f":"VLOOKUP($J$18,DEBUTSTEP!$V$4:$AC$22,4,FALSE)","v":"jusqu'à 5'"},null,null,null,null,null,null,null,null,{"$f":"VLOOKUP($D$18,DEBUTSTEP!$V$4:$AC$22,4,FALSE)","v":"jusqu'à 4'"},null,null,{"$f":"VLOOKUP($G$18,DEBUTSTEP!$V$4:$AC$22,4,FALSE)","v":"jusqu'à 4'"},null,null,{"$f":"VLOOKUP($J$18,DEBUTSTEP!$V$4:$AC$22,4,FALSE)","v":"jusqu'à 5'"},null,null,null,null,null,null,null,null,{"$f":"VLOOKUP($G$18,DEBUTSTEP!$V$4:$AC$22,4,FALSE)","v":"jusqu'à 4'"},null,null,{"$f":"VLOOKUP($G$18,DEBUTSTEP!$V$4:$AC$22,4,FALSE)","v":"jusqu'à 4'"},null,null,{"$f":"VLOOKUP($J$18,DEBUTSTEP!$V$4:$AC$22,4,FALSE)","v":"jusqu'à 5'"},null,null,null,null,null,null,null,null,{"$f":"VLOOKUP($D$18,DEBUTSTEP!$V$4:$AC$22,4,FALSE)","v":"jusqu'à 4'"},null,null,{"$f":"VLOOKUP($G$18,DEBUTSTEP!$V$4:$AC$22,4,FALSE)","v":"jusqu'à 4'"},null,null,{"$f":"VLOOKUP($J$18,DEBUTSTEP!$V$4:$AC$22,4,FALSE)","v":"jusqu'à 5'"},null,null,null,null,null,null,null,null,{"$f":"VLOOKUP($D$18,DEBUTSTEP!$V$4:$AC$22,4,FALSE)","v":"jusqu'à 4'"},null,null,"3'",null,null,"4'",null,null,null,null,null,null,null,null,"2'",null,null,{"$f":"VLOOKUP($G$18,DEBUTSTEP!$V$4:$AC$22,4,FALSE)","v":"jusqu'à 4'"},null,null,{"$f":"VLOOKUP($J$18,DEBUTSTEP!$V$4:$AC$22,4,FALSE)","v":"jusqu'à 5'"},null,null,null,null,null,null,null,null,"2'",null,null,{"$f":"VLOOKUP($G$18,DEBUTSTEP!$V$4:$AC$22,4,FALSE)","v":"jusqu'à 4'"},null,null,"4'",null,null,null,null,null,null,null,null,{"$f":"VLOOKUP($D$18,DEBUTSTEP!$V$4:$AC$22,4,FALSE)","v":"jusqu'à 4'"},null,null,{"$f":"VLOOKUP($G$18,DEBUTSTEP!$V$4:$AC$22,4,FALSE)","v":"jusqu'à 4'"},null,null,{"$f":"VLOOKUP($J$18,DEBUTSTEP!$V$4:$AC$22,4,FALSE)","v":"jusqu'à 5'"},null,null,null,null,null,null,null,null,{"$f":"VLOOKUP($D$18,DEBUTSTEP!$V$4:$AC$22,4,FALSE)","v":"jusqu'à 4'"},null,null,{"$f":"VLOOKUP($G$18,DEBUTSTEP!$V$4:$AC$22,4,FALSE)","v":"jusqu'à 4'"},null,null,{"$f":"VLOOKUP($J$18,DEBUTSTEP!$V$4:$AC$22,4,FALSE)","v":"jusqu'à 5'"}]
["Indicateurs","Repères sur mon activité ",null,{"$f":"VLOOKUP(D18,DEBUTSTEP!$V$4:$AG$22,8,FALSE)","v":"FC s’approche progressivement du maximum\r- Ventilation fortement marquée et accélérée\r- Séries plutôt courtes\r- Motricité variée qui ne gêne pas l’engagement.\r- Paramètres, variateurs d’intensité,\ressentiellement d’ordre énergétique : sursauts, lests, hauteur du step, bras au-dessus des épaules.\r- Tempo > 135 bpm le plus souvent."},null,null,{"$f":"VLOOKUP(G18,DEBUTSTEP!$V$4:$AG$22,8,FALSE)","v":"FC élevée\r- Ventilation accentuée et rythmée sans gêne excessive\r- Séries à minima 3\"\r- Coordination et dissociations présentes\r- Paramètres d’ordre énergétique : sursauts, bras au-dessus des\répaules, lests, hauteur du step.\r- 130 bpm < tempo < 140 bpm."},null,null,{"$f":"VLOOKUP(J18,DEBUTSTEP!$V$4:$AG$22,8,FALSE)","v":"FC modérée\r- Aisance respiratoire\r- Séries longues et \"à minima 3\"\r- Temps de récupération minimisé\r- Motricité explorée de façon ambitieuse\r- Paramètres essentiellement d’ordre biomécanique : pas complexes, bras en\rdissociation, changement d'orientation, éléments réalisés à côté du step\r- Tempo le plus souvent proche de 130 bpm"},null,null,null,null,null,null,"Repères sur mon activité ",null,{"$f":"VLOOKUP(S18,DEBUTSTEP!$V$4:$AG$22,8,FALSE)","v":"FC s’approche progressivement du maximum\r- Ventilation fortement marquée et accélérée\r- Séries plutôt courtes\r- Motricité variée qui ne gêne pas l’engagement.\r- Paramètres, variateurs d’intensité,\ressentiellement d’ordre énergétique : sursauts, lests, hauteur du step, bras au-dessus des épaules.\r- Tempo > 135 bpm le plus souvent."},null,null,{"$f":"VLOOKUP(V18,DEBUTSTEP!$V$4:$AG$22,8,FALSE)","v":"FC élevée\r- Ventilation accentuée et rythmée sans gêne excessive\r- Séries à minima 3\"\r- Coordination et dissociations présentes\r- Paramètres d’ordre énergétique : sursauts, bras au-dessus des\répaules, lests, hauteur du step.\r- 130 bpm < tempo < 140 bpm."},null,null,{"$f":"VLOOKUP(Y18,DEBUTSTEP!$V$4:$AG$22,8,FALSE)","v":"FC modérée\r- Aisance respiratoire\r- Séries longues et \"à minima 3\"\r- Temps de récupération minimisé\r- Motricité explorée de façon ambitieuse\r- Paramètres essentiellement d’ordre biomécanique : pas complexes, bras en\rdissociation, changement d'orientation, éléments réalisés à côté du step\r- Tempo le plus souvent proche de 130 bpm"},null,null,null,null,null,null,"Repères sur mon activité ",null,{"$f":"VLOOKUP(AH18,DEBUTSTEP!$V$4:$AG$22,8,FALSE)","v":"FC s’approche progressivement du maximum\r- Ventilation fortement marquée et accélérée\r- Séries plutôt courtes\r- Motricité variée qui ne gêne pas l’engagement.\r- Paramètres, variateurs d’intensité,\ressentiellement d’ordre énergétique : sursauts, lests, hauteur du step, bras au-dessus des épaules.\r- Tempo > 135 bpm le plus souvent."},null,null,{"$f":"VLOOKUP(AK18,DEBUTSTEP!$V$4:$AG$22,8,FALSE)","v":"FC élevée\r- Ventilation accentuée et rythmée sans gêne excessive\r- Séries à minima 3\"\r- Coordination et dissociations présentes\r- Paramètres d’ordre énergétique : sursauts, bras au-dessus des\répaules, lests, hauteur du step.\r- 130 bpm < tempo < 140 bpm."},null,null,{"$f":"VLOOKUP(AN18,DEBUTSTEP!$V$4:$AG$22,8,FALSE)","v":"FC modérée\r- Aisance respiratoire\r- Séries longues et \"à minima 3\"\r- Temps de récupération minimisé\r- Motricité explorée de façon ambitieuse\r- Paramètres essentiellement d’ordre biomécanique : pas complexes, bras en\rdissociation, changement d'orientation, éléments réalisés à côté du step\r- Tempo le plus souvent proche de 130 bpm"},null,null,null,null,null,null,"Repères sur mon activité ",null,{"$f":"VLOOKUP(AW18,DEBUTSTEP!$V$4:$AG$22,8,FALSE)","v":"FC s’approche progressivement du maximum\r- Ventilation fortement marquée et accélérée\r- Séries plutôt courtes\r- Motricité variée qui ne gêne pas l’engagement.\r- Paramètres, variateurs d’intensité,\ressentiellement d’ordre énergétique : sursauts, lests, hauteur du step, bras au-dessus des épaules.\r- Tempo > 135 bpm le plus souvent."},null,null,{"$f":"VLOOKUP(AZ18,DEBUTSTEP!$V$4:$AG$22,8,FALSE)","v":"FC élevée\r- Ventilation accentuée et rythmée sans gêne excessive\r- Séries à minima 3\"\r- Coordination et dissociations présentes\r- Paramètres d’ordre énergétique : sursauts, bras au-dessus des\répaules, lests, hauteur du step.\r- 130 bpm < tempo < 140 bpm."},null,null,{"$f":"VLOOKUP(BC18,DEBUTSTEP!$V$4:$AG$22,8,FALSE)","v":"FC modérée\r- Aisance respiratoire\r- Séries longues et \"à minima 3\"\r- Temps de récupération minimisé\r- Motricité explorée de façon ambitieuse\r- Paramètres essentiellement d’ordre biomécanique : pas complexes, bras en\rdissociation, changement d'orientation, éléments réalisés à côté du step\r- Tempo le plus souvent proche de 130 bpm"},null,null,null,null,null,null,"Repères sur mon activité ",null,{"$f":"VLOOKUP(BL18,DEBUTSTEP!$V$4:$AG$22,8,FALSE)","v":"FC s’approche progressivement du maximum\r- Ventilation fortement marquée et accélérée\r- Séries plutôt courtes\r- Motricité variée qui ne gêne pas l’engagement.\r- Paramètres, variateurs d’intensité,\ressentiellement d’ordre énergétique : sursauts, lests, hauteur du step, bras au-dessus des épaules.\r- Tempo > 135 bpm le plus souvent."},null,null,{"$f":"VLOOKUP(BO18,DEBUTSTEP!$V$4:$AG$22,8,FALSE)","v":"FC élevée\r- Ventilation accentuée et rythmée sans gêne excessive\r- Séries à minima 3\"\r- Coordination et dissociations présentes\r- Paramètres d’ordre énergétique : sursauts, bras au-dessus des\répaules, lests, hauteur du step.\r- 130 bpm < tempo < 140 bpm."},null,null,{"$f":"VLOOKUP(BR18,DEBUTSTEP!$V$4:$AG$22,8,FALSE)","v":"FC modérée\r- Aisance respiratoire\r- Séries longues et \"à minima 3\"\r- Temps de récupération minimisé\r- Motricité explorée de façon ambitieuse\r- Paramètres essentiellement d’ordre biomécanique : pas complexes, bras en\rdissociation, changement d'orientation, éléments réalisés à côté du step\r- Tempo le plus souvent proche de 130 bpm"},null,null,null,null,null,null,"Repères sur mon activité ",null,{"$f":"VLOOKUP(CA18,DEBUTSTEP!$V$4:$AG$22,8,FALSE)","v":"FC s’approche progressivement du maximum\r- Ventilation fortement marquée et accélérée\r- Séries plutôt courtes\r- Motricité variée qui ne gêne pas l’engagement.\r- Paramètres, variateurs d’intensité,\ressentiellement d’ordre énergétique : sursauts, lests, hauteur du step, bras au-dessus des épaules.\r- Tempo > 135 bpm le plus souvent."},null,null,{"$f":"VLOOKUP(CD18,DEBUTSTEP!$V$4:$AG$22,8,FALSE)","v":"FC élevée\r- Ventilation accentuée et rythmée sans gêne excessive\r- Séries à minima 3\"\r- Coordination et dissociations présentes\r- Paramètres d’ordre énergétique : sursauts, bras au-dessus des\répaules, lests, hauteur du step.\r- 130 bpm < tempo < 140 bpm."},null,null,{"$f":"VLOOKUP(CG18,DEBUTSTEP!$V$4:$AG$22,8,FALSE)","v":"FC modérée\r- Aisance respiratoire\r- Séries longues et \"à minima 3\"\r- Temps de récupération minimisé\r- Motricité explorée de façon ambitieuse\r- Paramètres essentiellement d’ordre biomécanique : pas complexes, bras en\rdissociation, changement d'orientation, éléments réalisés à côté du step\r- Tempo le plus souvent proche de 130 bpm"},null,null,null,null,null,null,"Repères sur mon activité ",null,{"$f":"VLOOKUP(CP18,DEBUTSTEP!$V$4:$AG$22,8,FALSE)","v":"FC s’approche progressivement du maximum\r- Ventilation fortement marquée et accélérée\r- Séries plutôt courtes\r- Motricité variée qui ne gêne pas l’engagement.\r- Paramètres, variateurs d’intensité,\ressentiellement d’ordre énergétique : sursauts, lests, hauteur du step, bras au-dessus des épaules.\r- Tempo > 135 bpm le plus souvent."},null,null,{"$f":"VLOOKUP(CS18,DEBUTSTEP!$V$4:$AG$22,8,FALSE)","v":"FC élevée\r- Ventilation accentuée et rythmée sans gêne excessive\r- Séries à minima 3\"\r- Coordination et dissociations présentes\r- Paramètres d’ordre énergétique : sursauts, bras au-dessus des\répaules, lests, hauteur du step.\r- 130 bpm < tempo < 140 bpm."},null,null,{"$f":"VLOOKUP(CV18,DEBUTSTEP!$V$4:$AG$22,8,FALSE)","v":"FC modérée\r- Aisance respiratoire\r- Séries longues et \"à minima 3\"\r- Temps de récupération minimisé\r- Motricité explorée de façon ambitieuse\r- Paramètres essentiellement d’ordre biomécanique : pas complexes, bras en\rdissociation, changement d'orientation, éléments réalisés à côté du step\r- Tempo le plus souvent proche de 130 bpm"},null,null,null,null,null,null,"Repères sur mon activité ",null,{"$f":"VLOOKUP(DE18,DEBUTSTEP!$V$4:$AG$22,8,FALSE)","v":"FC s’approche progressivement du maximum\r- Ventilation fortement marquée et accélérée\r- Séries plutôt courtes\r- Motricité variée qui ne gêne pas l’engagement.\r- Paramètres, variateurs d’intensité,\ressentiellement d’ordre énergétique : sursauts, lests, hauteur du step, bras au-dessus des épaules.\r- Tempo > 135 bpm le plus souvent."},null,null,{"$f":"VLOOKUP(DH18,DEBUTSTEP!$V$4:$AG$22,8,FALSE)","v":"FC élevée\r- Ventilation accentuée et rythmée sans gêne excessive\r- Séries à minima 3\"\r- Coordination et dissociations présentes\r- Paramètres d’ordre énergétique : sursauts, bras au-dessus des\répaules, lests, hauteur du step.\r- 130 bpm < tempo < 140 bpm."},null,null,{"$f":"VLOOKUP(DK18,DEBUTSTEP!$V$4:$AG$22,8,FALSE)","v":"FC modérée\r- Aisance respiratoire\r- Séries longues et \"à minima 3\"\r- Temps de récupération minimisé\r- Motricité explorée de façon ambitieuse\r- Paramètres essentiellement d’ordre biomécanique : pas complexes, bras en\rdissociation, changement d'orientation, éléments réalisés à côté du step\r- Tempo le plus souvent proche de 130 bpm"},null,null,null,null,null,null,"Repères sur mon activité ",null,{"$f":"VLOOKUP(DT18,DEBUTSTEP!$V$4:$AG$22,8,FALSE)","v":"FC s’approche progressivement du maximum\r- Ventilation fortement marquée et accélérée\r- Séries plutôt courtes\r- Motricité variée qui ne gêne pas l’engagement.\r- Paramètres, variateurs d’intensité,\ressentiellement d’ordre énergétique : sursauts, lests, hauteur du step, bras au-dessus des épaules.\r- Tempo > 135 bpm le plus souvent."},null,null,{"$f":"VLOOKUP(DW18,DEBUTSTEP!$V$4:$AG$22,8,FALSE)","v":"FC élevée\r- Ventilation accentuée et rythmée sans gêne excessive\r- Séries à minima 3\"\r- Coordination et dissociations présentes\r- Paramètres d’ordre énergétique : sursauts, bras au-dessus des\répaules, lests, hauteur du step.\r- 130 bpm < tempo < 140 bpm."},null,null,{"$f":"VLOOKUP(DZ18,DEBUTSTEP!$V$4:$AG$22,8,FALSE)","v":"FC modérée\r- Aisance respiratoire\r- Séries longues et \"à minima 3\"\r- Temps de récupération minimisé\r- Motricité explorée de façon ambitieuse\r- Paramètres essentiellement d’ordre biomécanique : pas complexes, bras en\rdissociation, changement d'orientation, éléments réalisés à côté du step\r- Tempo le plus souvent proche de 130 bpm"},null,null,null,null,null,null,"Repères sur mon activité ",null,{"$f":"VLOOKUP(EI18,DEBUTSTEP!$V$4:$AG$22,8,FALSE)","v":"FC s’approche progressivement du maximum\r- Ventilation fortement marquée et accélérée\r- Séries plutôt courtes\r- Motricité variée qui ne gêne pas l’engagement.\r- Paramètres, variateurs d’intensité,\ressentiellement d’ordre énergétique : sursauts, lests, hauteur du step, bras au-dessus des épaules.\r- Tempo > 135 bpm le plus souvent."},null,null,{"$f":"VLOOKUP(EL18,DEBUTSTEP!$V$4:$AG$22,8,FALSE)","v":"FC élevée\r- Ventilation accentuée et rythmée sans gêne excessive\r- Séries à minima 3\"\r- Coordination et dissociations présentes\r- Paramètres d’ordre énergétique : sursauts, bras au-dessus des\répaules, lests, hauteur du step.\r- 130 bpm < tempo < 140 bpm."},null,null,{"$f":"VLOOKUP(EO18,DEBUTSTEP!$V$4:$AG$22,8,FALSE)","v":"FC modérée\r- Aisance respiratoire\r- Séries longues et \"à minima 3\"\r- Temps de récupération minimisé\r- Motricité explorée de façon ambitieuse\r- Paramètres essentiellement d’ordre biomécanique : pas complexes, bras en\rdissociation, changement d'orientation, éléments réalisés à côté du step\r- Tempo le plus souvent proche de 130 bpm"}]
[]
["Pourquoi avoir choisi cet objectif ? (expression libre)"]
[]
[null,"CHOIX DES PARAMETRES POUR AUGMENTER LA FREQUENCE",null,null,null,null,null,null,null,null,null,null,null,null,null,null,"CHOIX DES PARAMETRES POUR AUGMENTER LA FREQUENCE",null,null,null,null,null,null,null,null,null,null,null,null,null,null,"CHOIX DES PARAMETRES POUR AUGMENTER LA FREQUENCE",null,null,null,null,null,null,null,null,null,null,null,null,null,null,"CHOIX DES PARAMETRES POUR AUGMENTER LA FREQUENCE",null,null,null,null,null,null,null,null,null,null,null,null,null,null,"CHOIX DES PARAMETRES POUR AUGMENTER LA FREQUENCE",null,null,null,null,null,null,null,null,null,null,null,null,null,null,"CHOIX DES PARAMETRES POUR AUGMENTER LA FREQUENCE",null,null,null,null,null,null,null,null,null,null,null,null,null,null,"CHOIX DES PARAMETRES POUR AUGMENTER LA FREQUENCE",null,null,null,null,null,null,null,null,null,null,null,null,null,null,"CHOIX DES PARAMETRES POUR AUGMENTER LA FREQUENCE",null,null,null,null,null,null,null,null,null,null,null,null,null,null,"CHOIX DES PARAMETRES POUR AUGMENTER LA FREQUENCE",null,null,null,null,null,null,null,null,null,null,null,null,null,null,"CHOIX DES PARAMETRES POUR AUGMENTER LA FREQUENCE"]
["Choix du type d'effort",{"$f":"D14","v":"Effort bref et intense"},null,{"$f":"IF(D3=\"\",\"\",B$29)","v":"Effort bref et intense"},null,{"$f":"IF(F3=\"\",\"\",B$29)","v":"Effort bref et intense"},null,{"$f":"IF(H3=\"\",\"\",B$29)","v":"Effort bref et intense"},null,{"$f":"IF(J3=\"\",\"\",B$29)","v":"Effort bref et intense"},null,{"$f":"IF(L3=\"\",\"\",B$29)","v":"Effort bref et intense"},null,null,null,null,{"$f":"S14","v":"Effort long et soutenu"},null,{"$f":"IF(S3=\"\",\"\",$Q$29)","v":"Effort long et soutenu"},null,{"$f":"IF(U3=\"\",\"\",$Q$29)","v":"Effort long et soutenu"},null,{"$f":"IF(W3=\"\",\"\",Q$29)","v":"Effort long et soutenu"},null,{"$f":"IF(Y3=\"\",\"\",Q$29)","v":"Effort long et soutenu"},null,{"$f":"IF(AA3=\"\",\"\",Q$29)","v":"Effort long et soutenu"},null,null,null,null,{"$f":"AH14","v":"Effort modéré et prolongé"},null,{"$f":"IF(AH3=\"\",\"\",AF$29)","v":"Effort modéré et prolongé"},null,{"$f":"IF(AJ3=\"\",\"\",AF$29)","v":"Effort modéré et prolongé"},null,{"$f":"IF(AL3=\"\",\"\",AF$29)","v":"Effort modéré et prolongé"},null,{"$f":"IF(AN3=\"\",\"\",AF$29)","v":"Effort modéré et prolongé"},null,{"$f":"IF(AP3=\"\",\"\",AF$29)","v":"Effort modéré et prolongé"},null,null,null,null,{"$f":"AW14","v":"Mobiles"},null,{"$f":"IF(AW3=\"\",\"\",AU$29)","v":"Mobiles"},null,{"$f":"IF(AY3=\"\",\"\",AU$29)","v":"Mobiles"},null,{"$f":"IF(BA3=\"\",\"\",AU$29)","v":"Mobiles"},null,{"$f":"IF(BC3=\"\",\"\",AU$29)","v":"Mobiles"},null,{"$f":"IF(BE3=\"\",\"\",AU$29)","v":"Mobiles"},null,null,null,null,{"$f":"BL14","v":"Mobiles"},null,{"$f":"IF(BL3=\"\",\"\",BJ$29)","v":"Mobiles"},null,{"$f":"IF(BN3=\"\",\"\",BJ$29)","v":"Mobiles"},null,{"$f":"IF(BP3=\"\",\"\",BJ$29)","v":"Mobiles"},null,{"$f":"IF(BR3=\"\",\"\",BJ$29)","v":"Mobiles"},null,{"$f":"IF(BT3=\"\",\"\",BJ$29)","v":"Mobiles"},null,null,null,null,{"$f":"CA14","v":"Mobiles"},null,{"$f":"IF(CA3=\"\",\"\",BY$29)","v":"Mobiles"},null,{"$f":"IF(CC3=\"\",\"\",BY$29)","v":"Mobiles"},null,{"$f":"IF(CE3=\"\",\"\",BY$29)","v":"Mobiles"},null,{"$f":"IF(CG3=\"\",\"\",BY$29)","v":"Mobiles"},null,{"$f":"IF(CI3=\"\",\"\",BY$29)","v":"Mobiles"},null,null,null,null,{"$f":"CP14","v":"Mobiles"},null,{"$f":"IF(CP3=\"\",\"\",CN$29)","v":"Mobiles"},null,{"$f":"IF(CR3=\"\",\"\",CN$29)","v":"Mobiles"},null,{"$f":"IF(CT3=\"\",\"\",CN$29)","v":"Mobiles"},null,{"$f":"IF(CV3=\"\",\"\",CN$29)","v":"Mobiles"},null,{"$f":"IF(CX3=\"\",\"\",CN$29)","v":"Mobiles"},null,null,null,null,{"$f":"DE14","v":"Effort bref et intense"},null,{"$f":"IF(DE3=\"\",\"\",DC$29)","v":"Effort bref et intense"},null,{"$f":"IF(DG3=\"\",\"\",DC$29)","v":"Effort bref et intense"},null,{"$f":"IF(DI3=\"\",\"\",DC$29)","v":"Effort bref et intense"},null,{"$f":"IF(DK3=\"\",\"\",DC$29)","v":"Effort bref et intense"},null,{"$f":"IF(DM3=\"\",\"\",DC$29)","v":"Effort bref et intense"},null,null,null,null,{"$f":"DT14","v":"Mobiles"},null,{"$f":"IF(DT3=\"\",\"\",DR$29)","v":"Mobiles"},null,{"$f":"IF(DV3=\"\",\"\",DR$29)","v":"Mobiles"},null,{"$f":"IF(DX3=\"\",\"\",DR$29)","v":"Mobiles"},null,{"$f":"IF(DZ3=\"\",\"\",DR$29)","v":"Mobiles"},null,{"$f":"IF(EB3=\"\",\"\",DR$29)","v":"Mobiles"},null,null,null,null,{"$f":"EI14","v":"Mobiles"},null,{"$f":"IF(EI3=\"\",\"\",EG$29)","v":"Mobiles"},null,{"$f":"IF(EK3=\"\",\"\",EG$29)","v":"Mobiles"},null,{"$f":"IF(EM3=\"\",\"\",EG$29)","v":"Mobiles"},null,{"$f":"IF(EO3=\"\",\"\",EG$29)","v":"Mobiles"},null,{"$f":"IF(EQ3=\"\",\"\",EG$29)","v":"Mobiles"}]
["Tempo",135,null,{"$f":"IF(D3=\"\",\"\",B$30)","v":135},null,{"$f":"IF(F3=\"\",\"\",B$30)","v":135},null,{"$f":"IF(H3=\"\",\"\",B$30)","v":135},null,{"$f":"IF(J3=\"\",\"\",B$30)","v":135},null,{"$f":"IF(L3=\"\",\"\",B$30)","v":135},null,null,null,null,140,null,{"$f":"IF(S3=\"\",\"\",$Q$30)","v":140},null,{"$f":"IF(U3=\"\",\"\",$Q$30)","v":140},null,{"$f":"IF(W3=\"\",\"\",Q$30)","v":140},null,{"$f":"IF(Y3=\"\",\"\",Q$30)","v":140},null,{"$f":"IF(AA3=\"\",\"\",Q$30)","v":140},null,null,null,null,130,null,{"$f":"IF(AH3=\"\",\"\",AF$30)","v":130},null,{"$f":"IF(AJ3=\"\",\"\",AF$30)","v":130},null,{"$f":"IF(AL3=\"\",\"\",AF$30)","v":130},null,{"$f":"IF(AN3=\"\",\"\",AF$30)","v":130},null,{"$f":"IF(AP3=\"\",\"\",AF$30)","v":130},null,null,null,null,130,null,{"$f":"IF(AW3=\"\",\"\",AU$30)","v":130},null,{"$f":"IF(AY3=\"\",\"\",AU$30)","v":130},null,{"$f":"IF(BA3=\"\",\"\",AU$30)","v":130},null,{"$f":"IF(BC3=\"\",\"\",AU$30)","v":130},null,{"$f":"IF(BE3=\"\",\"\",AU$30)","v":130},null,null,null,null,130,null,{"$f":"IF(BL3=\"\",\"\",BJ$30)","v":130},null,{"$f":"IF(BN3=\"\",\"\",BJ$30)","v":130},null,{"$f":"IF(BP3=\"\",\"\",BJ$30)","v":130},null,{"$f":"IF(BR3=\"\",\"\",BJ$30)","v":130},null,{"$f":"IF(BT3=\"\",\"\",BJ$30)","v":130},null,null,null,null,130,null,{"$f":"IF(CA3=\"\",\"\",BY$30)","v":130},null,{"$f":"IF(CC3=\"\",\"\",BY$30)","v":130},null,{"$f":"IF(CE3=\"\",\"\",BY$30)","v":130},null,{"$f":"IF(CG3=\"\",\"\",BY$30)","v":130},null,{"$f":"IF(CI3=\"\",\"\",BY$30)","v":130},null,null,null,null,130,null,{"$f":"IF(CP3=\"\",\"\",CN$30)","v":130},null,{"$f":"IF(CR3=\"\",\"\",CN$30)","v":130},null,{"$f":"IF(CT3=\"\",\"\",CN$30)","v":130},null,{"$f":"IF(CV3=\"\",\"\",CN$30)","v":130},null,{"$f":"IF(CX3=\"\",\"\",CN$30)","v":130},null,null,null,null,130,null,{"$f":"IF(DE3=\"\",\"\",DC$30)","v":130},null,{"$f":"IF(DG3=\"\",\"\",DC$30)","v":130},null,{"$f":"IF(DI3=\"\",\"\",DC$30)","v":130},null,{"$f":"IF(DK3=\"\",\"\",DC$30)","v":130},null,{"$f":"IF(DM3=\"\",\"\",DC$30)","v":130},null,null,null,null,130,null,{"$f":"IF(DT3=\"\",\"\",DR$30)","v":130},null,{"$f":"IF(DV3=\"\",\"\",DR$30)","v":130},null,{"$f":"IF(DX3=\"\",\"\",DR$30)","v":130},null,{"$f":"IF(DZ3=\"\",\"\",DR$30)","v":130},null,{"$f":"IF(EB3=\"\",\"\",DR$30)","v":130},null,null,null,null,130,null,{"$f":"IF(EI3=\"\",\"\",EG$30)","v":130},null,{"$f":"IF(EK3=\"\",\"\",EG$30)","v":130},null,{"$f":"IF(EM3=\"\",\"\",EG$30)","v":130},null,{"$f":"IF(EO3=\"\",\"\",EG$30)","v":130},null,{"$f":"IF(EQ3=\"\",\"\",EG$30)","v":130}]
["Hauteur step","HAUT",null,{"$f":"IF(D3=\"\",\"\",B$31)","v":"HAUT"},null,{"$f":"IF(F3=\"\",\"\",B$31)","v":"HAUT"},null,{"$f":"IF(H3=\"\",\"\",B$31)","v":"HAUT"},null,{"$f":"IF(J3=\"\",\"\",B$31)","v":"HAUT"},null,{"$f":"IF(L3=\"\",\"\",B$31)","v":"HAUT"},null,null,null,null,null,null,{"$f":"IF(S3=\"\",\"\",$Q$31)","v":0},null,{"$f":"IF(U3=\"\",\"\",$Q$31)","v":0},null,{"$f":"IF(W3=\"\",\"\",Q$31)","v":0},null,{"$f":"IF(Y3=\"\",\"\",Q$31)","v":0},null,{"$f":"IF(AA3=\"\",\"\",Q$31)","v":0},null,null,null,null,null,null,{"$f":"IF(AH3=\"\",\"\",AF$31)","v":0},null,{"$f":"IF(AJ3=\"\",\"\",AF$31)","v":0},null,{"$f":"IF(AL3=\"\",\"\",AF$31)","v":0},null,{"$f":"IF(AN3=\"\",\"\",AF$31)","v":0},null,{"$f":"IF(AP3=\"\",\"\",AF$31)","v":0},null,null,null,null,null,null,{"$f":"IF(AW3=\"\",\"\",AU$31)","v":0},null,{"$f":"IF(AY3=\"\",\"\",AU$31)","v":0},null,{"$f":"IF(BA3=\"\",\"\",AU$31)","v":0},null,{"$f":"IF(BC3=\"\",\"\",AU$31)","v":0},null,{"$f":"IF(BE3=\"\",\"\",AU$31)","v":0},null,null,null,null,null,null,{"$f":"IF(BL3=\"\",\"\",BJ$31)","v":0},null,{"$f":"IF(BN3=\"\",\"\",BJ$31)","v":0},null,{"$f":"IF(BP3=\"\",\"\",BJ$31)","v":0},null,{"$f":"IF(BR3=\"\",\"\",BJ$31)","v":0},null,{"$f":"IF(BT3=\"\",\"\",BJ$31)","v":0},null,null,null,null,null,null,{"$f":"IF(CA3=\"\",\"\",BY$31)","v":0},null,{"$f":"IF(CC3=\"\",\"\",BY$31)","v":0},null,{"$f":"IF(CE3=\"\",\"\",BY$31)","v":0},null,{"$f":"IF(CG3=\"\",\"\",BY$31)","v":0},null,{"$f":"IF(CI3=\"\",\"\",BY$31)","v":0},null,null,null,null,null,null,{"$f":"IF(CP3=\"\",\"\",CN$31)","v":0},null,{"$f":"IF(CR3=\"\",\"\",CN$31)","v":0},null,{"$f":"IF(CT3=\"\",\"\",CN$31)","v":0},null,{"$f":"IF(CV3=\"\",\"\",CN$31)","v":0},null,{"$f":"IF(CX3=\"\",\"\",CN$31)","v":0},null,null,null,null,null,null,{"$f":"IF(DE3=\"\",\"\",DC$31)","v":0},null,{"$f":"IF(DG3=\"\",\"\",DC$31)","v":0},null,{"$f":"IF(DI3=\"\",\"\",DC$31)","v":0},null,{"$f":"IF(DK3=\"\",\"\",DC$31)","v":0},null,{"$f":"IF(DM3=\"\",\"\",DC$31)","v":0},null,null,null,null,null,null,{"$f":"IF(DT3=\"\",\"\",DR$31)","v":0},null,{"$f":"IF(DV3=\"\",\"\",DR$31)","v":0},null,{"$f":"IF(DX3=\"\",\"\",DR$31)","v":0},null,{"$f":"IF(DZ3=\"\",\"\",DR$31)","v":0},null,{"$f":"IF(EB3=\"\",\"\",DR$31)","v":0},null,null,null,null,null,null,{"$f":"IF(EI3=\"\",\"\",EG$31)","v":0},null,{"$f":"IF(EK3=\"\",\"\",EG$31)","v":0},null,{"$f":"IF(EM3=\"\",\"\",EG$31)","v":0},null,{"$f":"IF(EO3=\"\",\"\",EG$31)","v":0},null,{"$f":"IF(EQ3=\"\",\"\",EG$31)","v":0}]
["Bras","Toujours",null,{"$f":"IF(D3=\"\",\"\",B$32)","v":"Toujours"},null,{"$f":"IF(F3=\"\",\"\",B$32)","v":"Toujours"},null,{"$f":"IF(H3=\"\",\"\",B$32)","v":"Toujours"},null,{"$f":"IF(J3=\"\",\"\",B$32)","v":"Toujours"},null,{"$f":"IF(L3=\"\",\"\",B$32)","v":"Toujours"},null,null,null,null,null,null,{"$f":"IF(S3=\"\",\"\",$Q$32)","v":0},null,{"$f":"IF(U3=\"\",\"\",$Q$32)","v":0},null,{"$f":"IF(W3=\"\",\"\",Q$32)","v":0},null,{"$f":"IF(Y3=\"\",\"\",Q$32)","v":0},null,{"$f":"IF(AA3=\"\",\"\",Q$32)","v":0},null,null,null,null,null,null,{"$f":"IF(AH3=\"\",\"\",AF$32)","v":0},null,{"$f":"IF(AJ3=\"\",\"\",AF$32)","v":0},null,{"$f":"IF(AL3=\"\",\"\",AF$32)","v":0},null,{"$f":"IF(AN3=\"\",\"\",AF$32)","v":0},null,{"$f":"IF(AP3=\"\",\"\",AF$32)","v":0},null,null,null,null,null,null,{"$f":"IF(AW3=\"\",\"\",AU$32)","v":0},null,{"$f":"IF(AY3=\"\",\"\",AU$32)","v":0},null,{"$f":"IF(BA3=\"\",\"\",AU$32)","v":0},null,{"$f":"IF(BC3=\"\",\"\",AU$32)","v":0},null,{"$f":"IF(BE3=\"\",\"\",AU$32)","v":0},null,null,null,null,null,null,{"$f":"IF(BL3=\"\",\"\",BJ$32)","v":0},null,{"$f":"IF(BN3=\"\",\"\",BJ$32)","v":0},null,{"$f":"IF(BP3=\"\",\"\",BJ$32)","v":0},null,{"$f":"IF(BR3=\"\",\"\",BJ$32)","v":0},null,{"$f":"IF(BT3=\"\",\"\",BJ$32)","v":0},null,null,null,null,null,null,{"$f":"IF(CA3=\"\",\"\",BY$32)","v":0},null,{"$f":"IF(CC3=\"\",\"\",BY$32)","v":0},null,{"$f":"IF(CE3=\"\",\"\",BY$32)","v":0},null,{"$f":"IF(CG3=\"\",\"\",BY$32)","v":0},null,{"$f":"IF(CI3=\"\",\"\",BY$32)","v":0},null,null,null,null,null,null,{"$f":"IF(CP3=\"\",\"\",CN$32)","v":0},null,{"$f":"IF(CR3=\"\",\"\",CN$32)","v":0},null,{"$f":"IF(CT3=\"\",\"\",CN$32)","v":0},null,{"$f":"IF(CV3=\"\",\"\",CN$32)","v":0},null,{"$f":"IF(CX3=\"\",\"\",CN$32)","v":0},null,null,null,null,null,null,{"$f":"IF(DE3=\"\",\"\",DC$32)","v":0},null,{"$f":"IF(DG3=\"\",\"\",DC$32)","v":0},null,{"$f":"IF(DI3=\"\",\"\",DC$32)","v":0},null,{"$f":"IF(DK3=\"\",\"\",DC$32)","v":0},null,{"$f":"IF(DM3=\"\",\"\",DC$32)","v":0},null,null,null,null,null,null,{"$f":"IF(DT3=\"\",\"\",DR$32)","v":0},null,{"$f":"IF(DV3=\"\",\"\",DR$32)","v":0},null,{"$f":"IF(DX3=\"\",\"\",DR$32)","v":0},null,{"$f":"IF(DZ3=\"\",\"\",DR$32)","v":0},null,{"$f":"IF(EB3=\"\",\"\",DR$32)","v":0},null,null,null,null,null,null,{"$f":"IF(EI3=\"\",\"\",EG$32)","v":0},null,{"$f":"IF(EK3=\"\",\"\",EG$32)","v":0},null,{"$f":"IF(EM3=\"\",\"\",EG$32)","v":0},null,{"$f":"IF(EO3=\"\",\"\",EG$32)","v":0},null,{"$f":"IF(EQ3=\"\",\"\",EG$32)","v":0}]
["Impulsions","Avec",null,{"$f":"IF(D3=\"\",\"\",B$33)","v":"Avec"},null,{"$f":"IF(F3=\"\",\"\",B$33)","v":"Avec"},null,{"$f":"IF(H3=\"\",\"\",B$33)","v":"Avec"},null,{"$f":"IF(J3=\"\",\"\",B$33)","v":"Avec"},null,{"$f":"IF(L3=\"\",\"\",B$33)","v":"Avec"},null,null,null,null,null,null,{"$f":"IF(S3=\"\",\"\",$Q$33)","v":0},null,{"$f":"IF(U3=\"\",\"\",$Q$33)","v":0},null,{"$f":"IF(W3=\"\",\"\",Q$33)","v":0},null,{"$f":"IF(Y3=\"\",\"\",Q$33)","v":0},null,{"$f":"IF(AA3=\"\",\"\",Q$33)","v":0},null,null,null,null,null,null,{"$f":"IF(AH3=\"\",\"\",AF$33)","v":0},null,{"$f":"IF(AJ3=\"\",\"\",AF$33)","v":0},null,{"$f":"IF(AL3=\"\",\"\",AF$33)","v":0},null,{"$f":"IF(AN3=\"\",\"\",AF$33)","v":0},null,{"$f":"IF(AP3=\"\",\"\",AF$33)","v":0},null,null,null,null,null,null,{"$f":"IF(AW3=\"\",\"\",AU$33)","v":0},null,{"$f":"IF(AY3=\"\",\"\",AU$33)","v":0},null,{"$f":"IF(BA3=\"\",\"\",AU$33)","v":0},null,{"$f":"IF(BC3=\"\",\"\",AU$33)","v":0},null,{"$f":"IF(BE3=\"\",\"\",AU$33)","v":0},null,null,null,null,null,null,{"$f":"IF(BL3=\"\",\"\",BJ$33)","v":0},null,{"$f":"IF(BN3=\"\",\"\",BJ$33)","v":0},null,{"$f":"IF(BP3=\"\",\"\",BJ$33)","v":0},null,{"$f":"IF(BR3=\"\",\"\",BJ$33)","v":0},null,{"$f":"IF(BT3=\"\",\"\",BJ$33)","v":0},null,null,null,null,null,null,{"$f":"IF(CA3=\"\",\"\",BY$33)","v":0},null,{"$f":"IF(CC3=\"\",\"\",BY$33)","v":0},null,{"$f":"IF(CE3=\"\",\"\",BY$33)","v":0},null,{"$f":"IF(CG3=\"\",\"\",BY$33)","v":0},null,{"$f":"IF(CI3=\"\",\"\",BY$33)","v":0},null,null,null,null,null,null,{"$f":"IF(CP3=\"\",\"\",CN$33)","v":0},null,{"$f":"IF(CR3=\"\",\"\",CN$33)","v":0},null,{"$f":"IF(CT3=\"\",\"\",CN$33)","v":0},null,{"$f":"IF(CV3=\"\",\"\",CN$33)","v":0},null,{"$f":"IF(CX3=\"\",\"\",CN$33)","v":0},null,null,null,null,null,null,{"$f":"IF(DE3=\"\",\"\",DC$33)","v":0},null,{"$f":"IF(DG3=\"\",\"\",DC$33)","v":0},null,{"$f":"IF(DI3=\"\",\"\",DC$33)","v":0},null,{"$f":"IF(DK3=\"\",\"\",DC$33)","v":0},null,{"$f":"IF(DM3=\"\",\"\",DC$33)","v":0},null,null,null,null,null,null,{"$f":"IF(DT3=\"\",\"\",DR$33)","v":0},null,{"$f":"IF(DV3=\"\",\"\",DR$33)","v":0},null,{"$f":"IF(DX3=\"\",\"\",DR$33)","v":0},null,{"$f":"IF(DZ3=\"\",\"\",DR$33)","v":0},null,{"$f":"IF(EB3=\"\",\"\",DR$33)","v":0},null,null,null,null,null,null,{"$f":"IF(EI3=\"\",\"\",EG$33)","v":0},null,{"$f":"IF(EK3=\"\",\"\",EG$33)","v":0},null,{"$f":"IF(EM3=\"\",\"\",EG$33)","v":0},null,{"$f":"IF(EO3=\"\",\"\",EG$33)","v":0},null,{"$f":"IF(EQ3=\"\",\"\",EG$33)","v":0}]
["Amplitude","Moyenne",null,{"$f":"IF(D3=\"\",\"\",B$34)","v":"Moyenne"},null,{"$f":"IF(F3=\"\",\"\",B$34)","v":"Moyenne"},null,{"$f":"IF(H3=\"\",\"\",B$34)","v":"Moyenne"},null,{"$f":"IF(J3=\"\",\"\",B$34)","v":"Moyenne"},null,{"$f":"IF(L3=\"\",\"\",B$34)","v":"Moyenne"},null,null,null,null,null,null,{"$f":"IF(S3=\"\",\"\",$Q$34)","v":0},null,{"$f":"IF(U3=\"\",\"\",$Q$34)","v":0},null,{"$f":"IF(W3=\"\",\"\",Q$34)","v":0},null,{"$f":"IF(Y3=\"\",\"\",Q$34)","v":0},null,{"$f":"IF(AA3=\"\",\"\",Q$34)","v":0},null,null,null,null,null,null,{"$f":"IF(AH3=\"\",\"\",AF$34)","v":0},null,{"$f":"IF(AJ3=\"\",\"\",AF$34)","v":0},null,{"$f":"IF(AL3=\"\",\"\",AF$34)","v":0},null,{"$f":"IF(AN3=\"\",\"\",AF$34)","v":0},null,{"$f":"IF(AP3=\"\",\"\",AF$34)","v":0},null,null,null,null,null,null,{"$f":"IF(AW3=\"\",\"\",AU$34)","v":0},null,{"$f":"IF(AY3=\"\",\"\",AU$34)","v":0},null,{"$f":"IF(BA3=\"\",\"\",AU$34)","v":0},null,{"$f":"IF(BC3=\"\",\"\",AU$34)","v":0},null,{"$f":"IF(BE3=\"\",\"\",AU$34)","v":0},null,null,null,null,null,null,{"$f":"IF(BL3=\"\",\"\",BJ$34)","v":0},null,{"$f":"IF(BN3=\"\",\"\",BJ$34)","v":0},null,{"$f":"IF(BP3=\"\",\"\",BJ$34)","v":0},null,{"$f":"IF(BR3=\"\",\"\",BJ$34)","v":0},null,{"$f":"IF(BT3=\"\",\"\",BJ$34)","v":0},null,null,null,null,null,null,{"$f":"IF(CA3=\"\",\"\",BY$34)","v":0},null,{"$f":"IF(CC3=\"\",\"\",BY$34)","v":0},null,{"$f":"IF(CE3=\"\",\"\",BY$34)","v":0},null,{"$f":"IF(CG3=\"\",\"\",BY$34)","v":0},null,{"$f":"IF(CI3=\"\",\"\",BY$34)","v":0},null,null,null,null,null,null,{"$f":"IF(CP3=\"\",\"\",CN$34)","v":0},null,{"$f":"IF(CR3=\"\",\"\",CN$34)","v":0},null,{"$f":"IF(CT3=\"\",\"\",CN$34)","v":0},null,{"$f":"IF(CV3=\"\",\"\",CN$34)","v":0},null,{"$f":"IF(CX3=\"\",\"\",CN$34)","v":0},null,null,null,null,null,null,{"$f":"IF(DE3=\"\",\"\",DC$34)","v":0},null,{"$f":"IF(DG3=\"\",\"\",DC$34)","v":0},null,{"$f":"IF(DI3=\"\",\"\",DC$34)","v":0},null,{"$f":"IF(DK3=\"\",\"\",DC$34)","v":0},null,{"$f":"IF(DM3=\"\",\"\",DC$34)","v":0},null,null,null,null,null,null,{"$f":"IF(DT3=\"\",\"\",DR$34)","v":0},null,{"$f":"IF(DV3=\"\",\"\",DR$34)","v":0},null,{"$f":"IF(DX3=\"\",\"\",DR$34)","v":0},null,{"$f":"IF(DZ3=\"\",\"\",DR$34)","v":0},null,{"$f":"IF(EB3=\"\",\"\",DR$34)","v":0},null,null,null,null,null,null,{"$f":"IF(EI3=\"\",\"\",EG$34)","v":0},null,{"$f":"IF(EK3=\"\",\"\",EG$34)","v":0},null,{"$f":"IF(EM3=\"\",\"\",EG$34)","v":0},null,{"$f":"IF(EO3=\"\",\"\",EG$34)","v":0},null,{"$f":"IF(EQ3=\"\",\"\",EG$34)","v":0}]
["Lests","1 kg",null,{"$f":"IF(D3=\"\",\"\",B$35)","v":"1 kg"},null,{"$f":"IF(F3=\"\",\"\",B$35)","v":"1 kg"},null,{"$f":"IF(H3=\"\",\"\",B$35)","v":"1 kg"},null,{"$f":"IF(J3=\"\",\"\",B$35)","v":"1 kg"},null,{"$f":"IF(L3=\"\",\"\",B$35)","v":"1 kg"},null,null,null,null,null,null,{"$f":"IF(S3=\"\",\"\",$Q$35)","v":0},null,{"$f":"IF(U3=\"\",\"\",$Q$35)","v":0},null,{"$f":"IF(W3=\"\",\"\",Q$35)","v":0},null,{"$f":"IF(Y3=\"\",\"\",Q$35)","v":0},null,{"$f":"IF(AA3=\"\",\"\",Q$35)","v":0},null,null,null,null,null,null,{"$f":"IF(AH3=\"\",\"\",AF$35)","v":0},null,{"$f":"IF(AJ3=\"\",\"\",AF$35)","v":0},null,{"$f":"IF(AL3=\"\",\"\",AF$35)","v":0},null,{"$f":"IF(AN3=\"\",\"\",AF$35)","v":0},null,{"$f":"IF(AP3=\"\",\"\",AF$35)","v":0},null,null,null,null,null,null,{"$f":"IF(AW3=\"\",\"\",AU$35)","v":0},null,{"$f":"IF(AY3=\"\",\"\",AU$35)","v":0},null,{"$f":"IF(BA3=\"\",\"\",AU$35)","v":0},null,{"$f":"IF(BC3=\"\",\"\",AU$35)","v":0},null,{"$f":"IF(BE3=\"\",\"\",AU$35)","v":0},null,null,null,null,null,null,{"$f":"IF(BL3=\"\",\"\",BJ$35)","v":0},null,{"$f":"IF(BN3=\"\",\"\",BJ$35)","v":0},null,{"$f":"IF(BP3=\"\",\"\",BJ$35)","v":0},null,{"$f":"IF(BR3=\"\",\"\",BJ$35)","v":0},null,{"$f":"IF(BT3=\"\",\"\",BJ$35)","v":0},null,null,null,null,null,null,{"$f":"IF(CA3=\"\",\"\",BY$35)","v":0},null,{"$f":"IF(CC3=\"\",\"\",BY$35)","v":0},null,{"$f":"IF(CE3=\"\",\"\",BY$35)","v":0},null,{"$f":"IF(CG3=\"\",\"\",BY$35)","v":0},null,{"$f":"IF(CI3=\"\",\"\",BY$35)","v":0},null,null,null,null,null,null,{"$f":"IF(CP3=\"\",\"\",CN$35)","v":0},null,{"$f":"IF(CR3=\"\",\"\",CN$35)","v":0},null,{"$f":"IF(CT3=\"\",\"\",CN$35)","v":0},null,{"$f":"IF(CV3=\"\",\"\",CN$35)","v":0},null,{"$f":"IF(CX3=\"\",\"\",CN$35)","v":0},null,null,null,null,null,null,{"$f":"IF(DE3=\"\",\"\",DC$35)","v":0},null,{"$f":"IF(DG3=\"\",\"\",DC$35)","v":0},null,{"$f":"IF(DI3=\"\",\"\",DC$35)","v":0},null,{"$f":"IF(DK3=\"\",\"\",DC$35)","v":0},null,{"$f":"IF(DM3=\"\",\"\",DC$35)","v":0},null,null,null,null,null,null,{"$f":"IF(DT3=\"\",\"\",DR$35)","v":0},null,{"$f":"IF(DV3=\"\",\"\",DR$35)","v":0},null,{"$f":"IF(DX3=\"\",\"\",DR$35)","v":0},null,{"$f":"IF(DZ3=\"\",\"\",DR$35)","v":0},null,{"$f":"IF(EB3=\"\",\"\",DR$35)","v":0},null,null,null,null,null,null,{"$f":"IF(EI3=\"\",\"\",EG$35)","v":0},null,{"$f":"IF(EK3=\"\",\"\",EG$35)","v":0},null,{"$f":"IF(EM3=\"\",\"\",EG$35)","v":0},null,{"$f":"IF(EO3=\"\",\"\",EG$35)","v":0},null,{"$f":"IF(EQ3=\"\",\"\",EG$35)","v":0}]
[]
["Pourquoi avoir choisi ces paramètres ? (expression libre)"]
[]
[null,"ENTRAINEMENT PREVU",null,null,null,null,null,null,null,null,null,null,null,null,null,null,"ENTRAINEMENT PREVU",null,null,null,null,null,null,null,null,null,null,null,null,null,null,"ENTRAINEMENT PREVU",null,null,null,null,null,null,null,null,null,null,null,null,null,null,"ENTRAINEMENT PREVU",null,null,null,null,null,null,null,null,null,null,null,null,null,null,"ENTRAINEMENT PREVU",null,null,null,null,null,null,null,null,null,null,null,null,null,null,"ENTRAINEMENT PREVU",null,null,null,null,null,null,null,null,null,null,null,null,null,null,"ENTRAINEMENT PREVU",null,null,null,null,null,null,null,null,null,null,null,null,null,null,"ENTRAINEMENT PREVU",null,null,null,null,null,null,null,null,null,null,null,null,null,null,"ENTRAINEMENT PREVU",null,null,null,null,null,null,null,null,null,null,null,null,null,null,"ENTRAINEMENT PREVU"]
["FC de reprise\n110-120 bpm",8,"Séries","FC",null,"FC",null,"FC",null,"FC",null,"FC",null,null,null,null,3,"Séries","FC",null,"FC",null,"FC",null,"FC",null,"FC",null,null,null,null,4,"Séries","FC",null,"FC",null,"FC",null,"FC",null,"FC",null,null,null,null,4,"Séries","FC",null,"FC",null,"FC",null,"FC",null,"FC",null,null,null,null,4,"Séries","FC",null,"FC",null,"FC",null,"FC",null,"FC",null,null,null,null,4,"Séries","FC",null,"FC",null,"FC",null,"FC",null,"FC",null,null,null,null,4,"Séries","FC",null,"FC",null,"FC",null,"FC",null,"FC",null,null,null,null,4,"Séries","FC",null,"FC",null,"FC",null,"FC",null,"FC",null,null,null,null,4,"Séries","FC",null,"FC",null,"FC",null,"FC",null,"FC",null,null,null,null,4,"Séries","FC",null,"FC",null,"FC",null,"FC",null,"FC"]
[null,"2'","Effort",null,null,null,null,null,null,null,null,null,null,null,null,null,"7'","Effort",null,null,null,null,null,null,null,null,null,null,null,null,null,"5'","Effort",null,null,null,null,null,null,null,null,null,null,null,null,null,"2'","Effort",null,null,null,null,null,null,null,null,null,null,null,null,null,"2'","Effort",null,null,null,null,null,null,null,null,null,null,null,null,null,"2'","Effort",null,null,null,null,null,null,null,null,null,null,null,null,null,"2'","Effort",null,null,null,null,null,null,null,null,null,null,null,null,null,"2'","Effort",null,null,null,null,null,null,null,null,null,null,null,null,null,"2'","Effort",null,null,null,null,null,null,null,null,null,null,null,null,null,"2'","Effort"]
[null,"2'","Récup'",null,null,null,null,null,null,null,null,null,null,null,null,null,"4'","Récup'",null,null,null,null,null,null,null,null,null,null,null,null,null,"4'","Récup'",null,null,null,null,null,null,null,null,null,null,null,null,null,"2'","Récup'",null,null,null,null,null,null,null,null,null,null,null,null,null,"2'","Récup'",null,null,null,null,null,null,null,null,null,null,null,null,null,"2'","Récup'",null,null,null,null,null,null,null,null,null,null,null,null,null,"2'","Récup'",null,null,null,null,null,null,null,null,null,null,null,null,null,"2'","Récup'",null,null,null,null,null,null,null,null,null,null,null,null,null,"2'","Récup'",null,null,null,null,null,null,null,null,null,null,null,null,null,"2'","Récup'"]
["Effort",{"$f":"IF(B$40>=1,B$41,\"\")","v":"2'"},{"$f":"IFERROR(VLOOKUP(B43,DEBUTSTEP!$D$5:$E$68,2,FALSE),0)","v":120},180,null,null,null,null,null,null,null,null,null,null,null,null,{"$f":"IF(Q$40>=1,Q$41,\"\")","v":"7'"},{"$f":"IFERROR(VLOOKUP(Q43,DEBUTSTEP!$D$5:$E$68,2,FALSE),0)","v":420},180,null,null,null,null,null,null,null,null,null,null,null,null,{"$f":"IF(AF$40>=1,AF$41,\"\")","v":"5'"},{"$f":"IFERROR(VLOOKUP(AF43,DEBUTSTEP!$D$5:$E$68,2,FALSE),0)","v":300},180,null,null,null,null,null,null,null,null,null,null,null,null,{"$f":"IF(AU$40>=1,AU$41,\"\")","v":"2'"},{"$f":"IFERROR(VLOOKUP(AU43,DEBUTSTEP!$D$5:$E$68,2,FALSE),0)","v":120},180,null,null,null,null,null,null,null,null,null,null,null,null,{"$f":"IF(BJ$40>=1,BJ$41,\"\")","v":"2'"},{"$f":"IFERROR(VLOOKUP(BJ43,DEBUTSTEP!$D$5:$E$68,2,FALSE),0)","v":120},180,null,null,null,null,null,null,null,null,null,null,null,null,{"$f":"IF(BY$40>=1,BY$41,\"\")","v":"2'"},{"$f":"IFERROR(VLOOKUP(BY43,DEBUTSTEP!$D$5:$E$68,2,FALSE),0)","v":120},180,null,null,null,null,null,null,null,null,null,null,null,null,{"$f":"IF(CN$40>=1,CN$41,\"\")","v":"2'"},{"$f":"IFERROR(VLOOKUP(CN43,DEBUTSTEP!$D$5:$E$68,2,FALSE),0)","v":120},180,null,null,null,null,null,null,null,null,null,null,null,null,{"$f":"IF(DC$40>=1,DC$41,\"\")","v":"2'"},{"$f":"IFERROR(VLOOKUP(DC43,DEBUTSTEP!$D$5:$E$68,2,FALSE),0)","v":120},180,null,null,null,null,null,null,null,null,null,null,null,null,{"$f":"IF(DR$40>=1,DR$41,\"\")","v":"2'"},{"$f":"IFERROR(VLOOKUP(DR43,DEBUTSTEP!$D$5:$E$68,2,FALSE),0)","v":120},180,null,null,null,null,null,null,null,null,null,null,null,null,{"$f":"IF(EG$40>=1,EG$41,\"\")","v":"2'"},{"$f":"IFERROR(VLOOKUP(EG43,DEBUTSTEP!$D$5:$E$68,2,FALSE),0)","v":120},180]
["Récup'",{"$f":"IF(B$40>=1,B$42,\"\")","v":"2'"},{"$f":"IFERROR(VLOOKUP(B44,DEBUTSTEP!$D$5:$E$68,2,FALSE),0)","v":120},null,null,null,null,null,null,null,null,null,null,null,null,null,{"$f":"IF(Q$40>=1,Q$42,\"\")","v":"4'"},{"$f":"IFERROR(VLOOKUP(Q44,DEBUTSTEP!$D$5:$E$68,2,FALSE),0)","v":240},null,null,null,null,null,null,null,null,null,null,null,null,null,{"$f":"IF(AF$40>=1,AF$42,\"\")","v":"4'"},{"$f":"IFERROR(VLOOKUP(AF44,DEBUTSTEP!$D$5:$E$68,2,FALSE),0)","v":240},null,null,null,null,null,null,null,null,null,null,null,null,null,{"$f":"IF(AU$40>=1,AU$42,\"\")","v":"2'"},{"$f":"IFERROR(VLOOKUP(AU44,DEBUTSTEP!$D$5:$E$68,2,FALSE),0)","v":120},null,null,null,null,null,null,null,null,null,null,null,null,null,{"$f":"IF(BJ$40>=1,BJ$42,\"\")","v":"2'"},{"$f":"IFERROR(VLOOKUP(BJ44,DEBUTSTEP!$D$5:$E$68,2,FALSE),0)","v":120},null,null,null,null,null,null,null,null,null,null,null,null,null,{"$f":"IF(BY$40>=1,BY$42,\"\")","v":"2'"},{"$f":"IFERROR(VLOOKUP(BY44,DEBUTSTEP!$D$5:$E$68,2,FALSE),0)","v":120},null,null,null,null,null,null,null,null,null,null,null,null,null,{"$f":"IF(CN$40>=1,CN$42,\"\")","v":"2'"},{"$f":"IFERROR(VLOOKUP(CN44,DEBUTSTEP!$D$5:$E$68,2,FALSE),0)","v":120},null,null,null,null,null,null,null,null,null,null,null,null,null,{"$f":"IF(DC$40>=1,DC$42,\"\")","v":"2'"},{"$f":"IFERROR(VLOOKUP(DC44,DEBUTSTEP!$D$5:$E$68,2,FALSE),0)","v":120},null,null,null,null,null,null,null,null,null,null,null,null,null,{"$f":"IF(DR$40>=1,DR$42,\"\")","v":"2'"},{"$f":"IFERROR(VLOOKUP(DR44,DEBUTSTEP!$D$5:$E$68,2,FALSE),0)","v":120},null,null,null,null,null,null,null,null,null,null,null,null,null,{"$f":"IF(EG$40>=1,EG$42,\"\")","v":"2'"},{"$f":"IFERROR(VLOOKUP(EG44,DEBUTSTEP!$D$5:$E$68,2,FALSE),0)","v":120}]
["Effort",{"$f":"IF(B$40>=2,B$41,\"\")","v":"2'"},{"$f":"IFERROR(VLOOKUP(B45,DEBUTSTEP!$D$5:$E$68,2,FALSE),0)","v":120},null,null,null,null,null,null,null,null,null,null,null,null,null,{"$f":"IF(Q$40>=2,Q$41,\"\")","v":"7'"},{"$f":"IFERROR(VLOOKUP(Q45,DEBUTSTEP!$D$5:$E$68,2,FALSE),0)","v":420},null,null,null,null,null,null,null,null,null,null,null,null,null,{"$f":"IF(AF$40>=2,AF$41,\"\")","v":"5'"},{"$f":"IFERROR(VLOOKUP(AF45,DEBUTSTEP!$D$5:$E$68,2,FALSE),0)","v":300},null,null,null,null,null,null,null,null,null,null,null,null,null,{"$f":"IF(AU$40>=2,AU$41,\"\")","v":"2'"},{"$f":"IFERROR(VLOOKUP(AU45,DEBUTSTEP!$D$5:$E$68,2,FALSE),0)","v":120},null,null,null,null,null,null,null,null,null,null,null,null,null,{"$f":"IF(BJ$40>=2,BJ$41,\"\")","v":"2'"},{"$f":"IFERROR(VLOOKUP(BJ45,DEBUTSTEP!$D$5:$E$68,2,FALSE),0)","v":120},null,null,null,null,null,null,null,null,null,null,null,null,null,{"$f":"IF(BY$40>=2,BY$41,\"\")","v":"2'"},{"$f":"IFERROR(VLOOKUP(BY45,DEBUTSTEP!$D$5:$E$68,2,FALSE),0)","v":120},null,null,null,null,null,null,null,null,null,null,null,null,null,{"$f":"IF(CN$40>=2,CN$41,\"\")","v":"2'"},{"$f":"IFERROR(VLOOKUP(CN45,DEBUTSTEP!$D$5:$E$68,2,FALSE),0)","v":120},null,null,null,null,null,null,null,null,null,null,null,null,null,{"$f":"IF(DC$40>=2,DC$41,\"\")","v":"2'"},{"$f":"IFERROR(VLOOKUP(DC45,DEBUTSTEP!$D$5:$E$68,2,FALSE),0)","v":120},null,null,null,null,null,null,null,null,null,null,null,null,null,{"$f":"IF(DR$40>=2,DR$41,\"\")","v":"2'"},{"$f":"IFERROR(VLOOKUP(DR45,DEBUTSTEP!$D$5:$E$68,2,FALSE),0)","v":120},null,null,null,null,null,null,null,null,null,null,null,null,null,{"$f":"IF(EG$40>=2,EG$41,\"\")","v":"2'"},{"$f":"IFERROR(VLOOKUP(EG45,DEBUTSTEP!$D$5:$E$68,2,FALSE),0)","v":120}]
["Récup'",{"$f":"IF(B$40>=2,B$42,\"\")","v":"2'"},{"$f":"IFERROR(VLOOKUP(B46,DEBUTSTEP!$D$5:$E$68,2,FALSE),0)","v":120},null,null,null,null,null,null,null,null,null,null,null,null,null,{"$f":"IF(Q$40>=2,Q$42,\"\")","v":"4'"},{"$f":"IFERROR(VLOOKUP(Q46,DEBUTSTEP!$D$5:$E$68,2,FALSE),0)","v":240},null,null,null,null,null,null,null,null,null,null,null,null,null,{"$f":"IF(AF$40>=2,AF$42,\"\")","v":"4'"},{"$f":"IFERROR(VLOOKUP(AF46,DEBUTSTEP!$D$5:$E$68,2,FALSE),0)","v":240},null,null,null,null,null,null,null,null,null,null,null,null,null,{"$f":"IF(AU$40>=2,AU$42,\"\")","v":"2'"},{"$f":"IFERROR(VLOOKUP(AU46,DEBUTSTEP!$D$5:$E$68,2,FALSE),0)","v":120},null,null,null,null,null,null,null,null,null,null,null,null,null,{"$f":"IF(BJ$40>=2,BJ$42,\"\")","v":"2'"},{"$f":"IFERROR(VLOOKUP(BJ46,DEBUTSTEP!$D$5:$E$68,2,FALSE),0)","v":120},null,null,null,null,null,null,null,null,null,null,null,null,null,{"$f":"IF(BY$40>=2,BY$42,\"\")","v":"2'"},{"$f":"IFERROR(VLOOKUP(BY46,DEBUTSTEP!$D$5:$E$68,2,FALSE),0)","v":120},null,null,null,null,null,null,null,null,null,null,null,null,null,{"$f":"IF(CN$40>=2,CN$42,\"\")","v":"2'"},{"$f":"IFERROR(VLOOKUP(CN46,DEBUTSTEP!$D$5:$E$68,2,FALSE),0)","v":120},null,null,null,null,null,null,null,null,null,null,null,null,null,{"$f":"IF(DC$40>=2,DC$42,\"\")","v":"2'"},{"$f":"IFERROR(VLOOKUP(DC46,DEBUTSTEP!$D$5:$E$68,2,FALSE),0)","v":120},null,null,null,null,null,null,null,null,null,null,null,null,null,{"$f":"IF(DR$40>=2,DR$42,\"\")","v":"2'"},{"$f":"IFERROR(VLOOKUP(DR46,DEBUTSTEP!$D$5:$E$68,2,FALSE),0)","v":120},null,null,null,null,null,null,null,null,null,null,null,null,null,{"$f":"IF(EG$40>=2,EG$42,\"\")","v":"2'"},{"$f":"IFERROR(VLOOKUP(EG46,DEBUTSTEP!$D$5:$E$68,2,FALSE),0)","v":120}]
["Effort",{"$f":"IF(B$40>=3,B$41,\"\")","v":"2'"},{"$f":"IFERROR(VLOOKUP(B47,DEBUTSTEP!$D$5:$E$68,2,FALSE),0)","v":120},null,null,null,null,null,null,null,null,null,null,null,null,null,{"$f":"IF(Q$40>=3,Q$41,\"\")","v":"7'"},{"$f":"IFERROR(VLOOKUP(Q47,DEBUTSTEP!$D$5:$E$68,2,FALSE),0)","v":420},null,null,null,null,null,null,null,null,null,null,null,null,null,{"$f":"IF(AF$40>=3,AF$41,\"\")","v":"5'"},{"$f":"IFERROR(VLOOKUP(AF47,DEBUTSTEP!$D$5:$E$68,2,FALSE),0)","v":300},null,null,null,null,null,null,null,null,null,null,null,null,null,{"$f":"IF(AU$40>=3,AU$41,\"\")","v":"2'"},{"$f":"IFERROR(VLOOKUP(AU47,DEBUTSTEP!$D$5:$E$68,2,FALSE),0)","v":120},null,null,null,null,null,null,null,null,null,null,null,null,null,{"$f":"IF(BJ$40>=3,BJ$41,\"\")","v":"2'"},{"$f":"IFERROR(VLOOKUP(BJ47,DEBUTSTEP!$D$5:$E$68,2,FALSE),0)","v":120},null,null,null,null,null,null,null,null,null,null,null,null,null,{"$f":"IF(BY$40>=3,BY$41,\"\")","v":"2'"},{"$f":"IFERROR(VLOOKUP(BY47,DEBUTSTEP!$D$5:$E$68,2,FALSE),0)","v":120},null,null,null,null,null,null,null,null,null,null,null,null,null,{"$f":"IF(CN$40>=3,CN$41,\"\")","v":"2'"},{"$f":"IFERROR(VLOOKUP(CN47,DEBUTSTEP!$D$5:$E$68,2,FALSE),0)","v":120},null,null,null,null,null,null,null,null,null,null,null,null,null,{"$f":"IF(DC$40>=3,DC$41,\"\")","v":"2'"},{"$f":"IFERROR(VLOOKUP(DC47,DEBUTSTEP!$D$5:$E$68,2,FALSE),0)","v":120},null,null,null,null,null,null,null,null,null,null,null,null,null,{"$f":"IF(DR$40>=3,DR$41,\"\")","v":"2'"},{"$f":"IFERROR(VLOOKUP(DR47,DEBUTSTEP!$D$5:$E$68,2,FALSE),0)","v":120},null,null,null,null,null,null,null,null,null,null,null,null,null,{"$f":"IF(EG$40>=3,EG$41,\"\")","v":"2'"},{"$f":"IFERROR(VLOOKUP(EG47,DEBUTSTEP!$D$5:$E$68,2,FALSE),0)","v":120}]
["Récup'",{"$f":"IF(B$40>=3,B$42,\"\")","v":"2'"},{"$f":"IFERROR(VLOOKUP(B48,DEBUTSTEP!$D$5:$E$68,2,FALSE),0)","v":120},null,null,null,null,null,null,null,null,null,null,null,null,null,{"$f":"IF(Q$40>=3,Q$42,\"\")","v":"4'"},{"$f":"IFERROR(VLOOKUP(Q48,DEBUTSTEP!$D$5:$E$68,2,FALSE),0)","v":240},null,null,null,null,null,null,null,null,null,null,null,null,null,{"$f":"IF(AF$40>=3,AF$42,\"\")","v":"4'"},{"$f":"IFERROR(VLOOKUP(AF48,DEBUTSTEP!$D$5:$E$68,2,FALSE),0)","v":240},null,null,null,null,null,null,null,null,null,null,null,null,null,{"$f":"IF(AU$40>=3,AU$42,\"\")","v":"2'"},{"$f":"IFERROR(VLOOKUP(AU48,DEBUTSTEP!$D$5:$E$68,2,FALSE),0)","v":120},null,null,null,null,null,null,null,null,null,null,null,null,null,{"$f":"IF(BJ$40>=3,BJ$42,\"\")","v":"2'"},{"$f":"IFERROR(VLOOKUP(BJ48,DEBUTSTEP!$D$5:$E$68,2,FALSE),0)","v":120},null,null,null,null,null,null,null,null,null,null,null,null,null,{"$f":"IF(BY$40>=3,BY$42,\"\")","v":"2'"},{"$f":"IFERROR(VLOOKUP(BY48,DEBUTSTEP!$D$5:$E$68,2,FALSE),0)","v":120},null,null,null,null,null,null,null,null,null,null,null,null,null,{"$f":"IF(CN$40>=3,CN$42,\"\")","v":"2'"},{"$f":"IFERROR(VLOOKUP(CN48,DEBUTSTEP!$D$5:$E$68,2,FALSE),0)","v":120},null,null,null,null,null,null,null,null,null,null,null,null,null,{"$f":"IF(DC$40>=3,DC$42,\"\")","v":"2'"},{"$f":"IFERROR(VLOOKUP(DC48,DEBUTSTEP!$D$5:$E$68,2,FALSE),0)","v":120},null,null,null,null,null,null,null,null,null,null,null,null,null,{"$f":"IF(DR$40>=3,DR$42,\"\")","v":"2'"},{"$f":"IFERROR(VLOOKUP(DR48,DEBUTSTEP!$D$5:$E$68,2,FALSE),0)","v":120},null,null,null,null,null,null,null,null,null,null,null,null,null,{"$f":"IF(EG$40>=3,EG$42,\"\")","v":"2'"},{"$f":"IFERROR(VLOOKUP(EG48,DEBUTSTEP!$D$5:$E$68,2,FALSE),0)","v":120}]
["Effort",{"$f":"IF(B$40>=4,B$41,\"\")","v":"2'"},{"$f":"IFERROR(VLOOKUP(B49,DEBUTSTEP!$D$5:$E$68,2,FALSE),0)","v":120},null,null,null,null,null,null,null,null,null,null,null,null,null,{"$f":"IF(Q$40>=4,Q$41,\"\")","v":""},{"$f":"IFERROR(VLOOKUP(Q49,DEBUTSTEP!$D$5:$E$68,2,FALSE),0)","v":0},null,null,null,null,null,null,null,null,null,null,null,null,null,{"$f":"IF(AF$40>=4,AF$41,\"\")","v":"5'"},{"$f":"IFERROR(VLOOKUP(AF49,DEBUTSTEP!$D$5:$E$68,2,FALSE),0)","v":300},null,null,null,null,null,null,null,null,null,null,null,null,null,{"$f":"IF(AU$40>=4,AU$41,\"\")","v":"2'"},{"$f":"IFERROR(VLOOKUP(AU49,DEBUTSTEP!$D$5:$E$68,2,FALSE),0)","v":120},null,null,null,null,null,null,null,null,null,null,null,null,null,{"$f":"IF(BJ$40>=4,BJ$41,\"\")","v":"2'"},{"$f":"IFERROR(VLOOKUP(BJ49,DEBUTSTEP!$D$5:$E$68,2,FALSE),0)","v":120},null,null,null,null,null,null,null,null,null,null,null,null,null,{"$f":"IF(BY$40>=4,BY$41,\"\")","v":"2'"},{"$f":"IFERROR(VLOOKUP(BY49,DEBUTSTEP!$D$5:$E$68,2,FALSE),0)","v":120},null,null,null,null,null,null,null,null,null,null,null,null,null,{"$f":"IF(CN$40>=4,CN$41,\"\")","v":"2'"},{"$f":"IFERROR(VLOOKUP(CN49,DEBUTSTEP!$D$5:$E$68,2,FALSE),0)","v":120},null,null,null,null,null,null,null,null,null,null,null,null,null,{"$f":"IF(DC$40>=4,DC$41,\"\")","v":"2'"},{"$f":"IFERROR(VLOOKUP(DC49,DEBUTSTEP!$D$5:$E$68,2,FALSE),0)","v":120},null,null,null,null,null,null,null,null,null,null,null,null,null,{"$f":"IF(DR$40>=4,DR$41,\"\")","v":"2'"},{"$f":"IFERROR(VLOOKUP(DR49,DEBUTSTEP!$D$5:$E$68,2,FALSE),0)","v":120},null,null,null,null,null,null,null,null,null,null,null,null,null,{"$f":"IF(EG$40>=4,EG$41,\"\")","v":"2'"},{"$f":"IFERROR(VLOOKUP(EG49,DEBUTSTEP!$D$5:$E$68,2,FALSE),0)","v":120}]
["Récup'",{"$f":"IF(B$40>=4,B$42,\"\")","v":"2'"},{"$f":"IFERROR(VLOOKUP(B50,DEBUTSTEP!$D$5:$E$68,2,FALSE),0)","v":120},null,null,null,null,null,null,null,null,null,null,null,null,null,{"$f":"IF(Q$40>=4,Q$42,\"\")","v":""},{"$f":"IFERROR(VLOOKUP(Q50,DEBUTSTEP!$D$5:$E$68,2,FALSE),0)","v":0},null,null,null,null,null,null,null,null,null,null,null,null,null,{"$f":"IF(AF$40>=4,AF$42,\"\")","v":"4'"},{"$f":"IFERROR(VLOOKUP(AF50,DEBUTSTEP!$D$5:$E$68,2,FALSE),0)","v":240},null,null,null,null,null,null,null,null,null,null,null,null,null,{"$f":"IF(AU$40>=4,AU$42,\"\")","v":"2'"},{"$f":"IFERROR(VLOOKUP(AU50,DEBUTSTEP!$D$5:$E$68,2,FALSE),0)","v":120},null,null,null,null,null,null,null,null,null,null,null,null,null,{"$f":"IF(BJ$40>=4,BJ$42,\"\")","v":"2'"},{"$f":"IFERROR(VLOOKUP(BJ50,DEBUTSTEP!$D$5:$E$68,2,FALSE),0)","v":120},null,null,null,null,null,null,null,null,null,null,null,null,null,{"$f":"IF(BY$40>=4,BY$42,\"\")","v":"2'"},{"$f":"IFERROR(VLOOKUP(BY50,DEBUTSTEP!$D$5:$E$68,2,FALSE),0)","v":120},null,null,null,null,null,null,null,null,null,null,null,null,null,{"$f":"IF(CN$40>=4,CN$42,\"\")","v":"2'"},{"$f":"IFERROR(VLOOKUP(CN50,DEBUTSTEP!$D$5:$E$68,2,FALSE),0)","v":120},null,null,null,null,null,null,null,null,null,null,null,null,null,{"$f":"IF(DC$40>=4,DC$42,\"\")","v":"2'"},{"$f":"IFERROR(VLOOKUP(DC50,DEBUTSTEP!$D$5:$E$68,2,FALSE),0)","v":120},null,null,null,null,null,null,null,null,null,null,null,null,null,{"$f":"IF(DR$40>=4,DR$42,\"\")","v":"2'"},{"$f":"IFERROR(VLOOKUP(DR50,DEBUTSTEP!$D$5:$E$68,2,FALSE),0)","v":120},null,null,null,null,null,null,null,null,null,null,null,null,null,{"$f":"IF(EG$40>=4,EG$42,\"\")","v":"2'"},{"$f":"IFERROR(VLOOKUP(EG50,DEBUTSTEP!$D$5:$E$68,2,FALSE),0)","v":120}]
["Effort",{"$f":"IF(B$40>=5,B$41,\"\")","v":"2'"},{"$f":"IFERROR(VLOOKUP(B51,DEBUTSTEP!$D$5:$E$68,2,FALSE),0)","v":120},null,null,null,null,null,null,null,null,null,null,null,null,null,{"$f":"IF(Q$40>=5,Q$41,\"\")","v":""},{"$f":"IFERROR(VLOOKUP(Q51,DEBUTSTEP!$D$5:$E$68,2,FALSE),0)","v":0},null,null,null,null,null,null,null,null,null,null,null,null,null,{"$f":"IF(AF$40>=5,AF$41,\"\")","v":""},{"$f":"IFERROR(VLOOKUP(AF51,DEBUTSTEP!$D$5:$E$68,2,FALSE),0)","v":0},null,null,null,null,null,null,null,null,null,null,null,null,null,{"$f":"IF(AU$40>=5,AU$41,\"\")","v":""},{"$f":"IFERROR(VLOOKUP(AU51,DEBUTSTEP!$D$5:$E$68,2,FALSE),0)","v":0},null,null,null,null,null,null,null,null,null,null,null,null,null,{"$f":"IF(BJ$40>=5,BJ$41,\"\")","v":""},{"$f":"IFERROR(VLOOKUP(BJ51,DEBUTSTEP!$D$5:$E$68,2,FALSE),0)","v":0},null,null,null,null,null,null,null,null,null,null,null,null,null,{"$f":"IF(BY$40>=5,BY$41,\"\")","v":""},{"$f":"IFERROR(VLOOKUP(BY51,DEBUTSTEP!$D$5:$E$68,2,FALSE),0)","v":0},null,null,null,null,null,null,null,null,null,null,null,null,null,{"$f":"IF(CN$40>=5,CN$41,\"\")","v":""},{"$f":"IFERROR(VLOOKUP(CN51,DEBUTSTEP!$D$5:$E$68,2,FALSE),0)","v":0},null,null,null,null,null,null,null,null,null,null,null,null,null,{"$f":"IF(DC$40>=5,DC$41,\"\")","v":""},{"$f":"IFERROR(VLOOKUP(DC51,DEBUTSTEP!$D$5:$E$68,2,FALSE),0)","v":0},null,null,null,null,null,null,null,null,null,null,null,null,null,{"$f":"IF(DR$40>=5,DR$41,\"\")","v":""},{"$f":"IFERROR(VLOOKUP(DR51,DEBUTSTEP!$D$5:$E$68,2,FALSE),0)","v":0},null,null,null,null,null,null,null,null,null,null,null,null,null,{"$f":"IF(EG$40>=5,EG$41,\"\")","v":""},{"$f":"IFERROR(VLOOKUP(EG51,DEBUTSTEP!$D$5:$E$68,2,FALSE),0)","v":0}]
["Récup'",{"$f":"IF(B$40>=5,B$42,\"\")","v":"2'"},{"$f":"IFERROR(VLOOKUP(B52,DEBUTSTEP!$D$5:$E$68,2,FALSE),0)","v":120},null,null,null,null,null,null,null,null,null,null,null,null,null,{"$f":"IF(Q$40>=5,Q$42,\"\")","v":""},{"$f":"IFERROR(VLOOKUP(Q52,DEBUTSTEP!$D$5:$E$68,2,FALSE),0)","v":0},null,null,null,null,null,null,null,null,null,null,null,null,null,{"$f":"IF(AF$40>=5,AF$42,\"\")","v":""},{"$f":"IFERROR(VLOOKUP(AF52,DEBUTSTEP!$D$5:$E$68,2,FALSE),0)","v":0},null,null,null,null,null,null,null,null,null,null,null,null,null,{"$f":"IF(AU$40>=5,AU$42,\"\")","v":""},{"$f":"IFERROR(VLOOKUP(AU52,DEBUTSTEP!$D$5:$E$68,2,FALSE),0)","v":0},null,null,null,null,null,null,null,null,null,null,null,null,null,{"$f":"IF(BJ$40>=5,BJ$42,\"\")","v":""},{"$f":"IFERROR(VLOOKUP(BJ52,DEBUTSTEP!$D$5:$E$68,2,FALSE),0)","v":0},null,null,null,null,null,null,null,null,null,null,null,null,null,{"$f":"IF(BY$40>=5,BY$42,\"\")","v":""},{"$f":"IFERROR(VLOOKUP(BY52,DEBUTSTEP!$D$5:$E$68,2,FALSE),0)","v":0},null,null,null,null,null,null,null,null,null,null,null,null,null,{"$f":"IF(CN$40>=5,CN$42,\"\")","v":""},{"$f":"IFERROR(VLOOKUP(CN52,DEBUTSTEP!$D$5:$E$68,2,FALSE),0)","v":0},null,null,null,null,null,null,null,null,null,null,null,null,null,{"$f":"IF(DC$40>=5,DC$42,\"\")","v":""},{"$f":"IFERROR(VLOOKUP(DC52,DEBUTSTEP!$D$5:$E$68,2,FALSE),0)","v":0},null,null,null,null,null,null,null,null,null,null,null,null,null,{"$f":"IF(DR$40>=5,DR$42,\"\")","v":""},{"$f":"IFERROR(VLOOKUP(DR52,DEBUTSTEP!$D$5:$E$68,2,FALSE),0)","v":0},null,null,null,null,null,null,null,null,null,null,null,null,null,{"$f":"IF(EG$40>=5,EG$42,\"\")","v":""},{"$f":"IFERROR(VLOOKUP(EG52,DEBUTSTEP!$D$5:$E$68,2,FALSE),0)","v":0}]
["Effort",{"$f":"IF(B$40>=6,B$41,\"\")","v":"2'"},{"$f":"IFERROR(VLOOKUP(B53,DEBUTSTEP!$D$5:$E$68,2,FALSE),0)","v":120},null,null,null,null,null,null,null,null,null,null,null,null,null,{"$f":"IF(Q$40>=6,Q$41,\"\")","v":""},{"$f":"IFERROR(VLOOKUP(Q53,DEBUTSTEP!$D$5:$E$68,2,FALSE),0)","v":0},null,null,null,null,null,null,null,null,null,null,null,null,null,{"$f":"IF(AF$40>=6,AF$41,\"\")","v":""},{"$f":"IFERROR(VLOOKUP(AF53,DEBUTSTEP!$D$5:$E$68,2,FALSE),0)","v":0},null,null,null,null,null,null,null,null,null,null,null,null,null,{"$f":"IF(AU$40>=6,AU$41,\"\")","v":""},{"$f":"IFERROR(VLOOKUP(AU53,DEBUTSTEP!$D$5:$E$68,2,FALSE),0)","v":0},null,null,null,null,null,null,null,null,null,null,null,null,null,{"$f":"IF(BJ$40>=6,BJ$41,\"\")","v":""},{"$f":"IFERROR(VLOOKUP(BJ53,DEBUTSTEP!$D$5:$E$68,2,FALSE),0)","v":0},null,null,null,null,null,null,null,null,null,null,null,null,null,{"$f":"IF(BY$40>=6,BY$41,\"\")","v":""},{"$f":"IFERROR(VLOOKUP(BY53,DEBUTSTEP!$D$5:$E$68,2,FALSE),0)","v":0},null,null,null,null,null,null,null,null,null,null,null,null,null,{"$f":"IF(CN$40>=6,CN$41,\"\")","v":""},{"$f":"IFERROR(VLOOKUP(CN53,DEBUTSTEP!$D$5:$E$68,2,FALSE),0)","v":0},null,null,null,null,null,null,null,null,null,null,null,null,null,{"$f":"IF(DC$40>=6,DC$41,\"\")","v":""},{"$f":"IFERROR(VLOOKUP(DC53,DEBUTSTEP!$D$5:$E$68,2,FALSE),0)","v":0},null,null,null,null,null,null,null,null,null,null,null,null,null,{"$f":"IF(DR$40>=6,DR$41,\"\")","v":""},{"$f":"IFERROR(VLOOKUP(DR53,DEBUTSTEP!$D$5:$E$68,2,FALSE),0)","v":0},null,null,null,null,null,null,null,null,null,null,null,null,null,{"$f":"IF(EG$40>=6,EG$41,\"\")","v":""},{"$f":"IFERROR(VLOOKUP(EG53,DEBUTSTEP!$D$5:$E$68,2,FALSE),0)","v":0}]
["Récup'",{"$f":"IF(B$40>=6,B$42,\"\")","v":"2'"},{"$f":"IFERROR(VLOOKUP(B54,DEBUTSTEP!$D$5:$E$68,2,FALSE),0)","v":120},null,null,null,null,null,null,null,null,null,null,null,null,null,{"$f":"IF(Q$40>=6,Q$42,\"\")","v":""},{"$f":"IFERROR(VLOOKUP(Q54,DEBUTSTEP!$D$5:$E$68,2,FALSE),0)","v":0},null,null,null,null,null,null,null,null,null,null,null,null,null,{"$f":"IF(AF$40>=6,AF$42,\"\")","v":""},{"$f":"IFERROR(VLOOKUP(AF54,DEBUTSTEP!$D$5:$E$68,2,FALSE),0)","v":0},null,null,null,null,null,null,null,null,null,null,null,null,null,{"$f":"IF(AU$40>=6,AU$42,\"\")","v":""},{"$f":"IFERROR(VLOOKUP(AU54,DEBUTSTEP!$D$5:$E$68,2,FALSE),0)","v":0},null,null,null,null,null,null,null,null,null,null,null,null,null,{"$f":"IF(BJ$40>=6,BJ$42,\"\")","v":""},{"$f":"IFERROR(VLOOKUP(BJ54,DEBUTSTEP!$D$5:$E$68,2,FALSE),0)","v":0},null,null,null,null,null,null,null,null,null,null,null,null,null,{"$f":"IF(BY$40>=6,BY$42,\"\")","v":""},{"$f":"IFERROR(VLOOKUP(BY54,DEBUTSTEP!$D$5:$E$68,2,FALSE),0)","v":0},null,null,null,null,null,null,null,null,null,null,null,null,null,{"$f":"IF(CN$40>=6,CN$42,\"\")","v":""},{"$f":"IFERROR(VLOOKUP(CN54,DEBUTSTEP!$D$5:$E$68,2,FALSE),0)","v":0},null,null,null,null,null,null,null,null,null,null,null,null,null,{"$f":"IF(DC$40>=6,DC$42,\"\")","v":""},{"$f":"IFERROR(VLOOKUP(DC54,DEBUTSTEP!$D$5:$E$68,2,FALSE),0)","v":0},null,null,null,null,null,null,null,null,null,null,null,null,null,{"$f":"IF(DR$40>=6,DR$42,\"\")","v":""},{"$f":"IFERROR(VLOOKUP(DR54,DEBUTSTEP!$D$5:$E$68,2,FALSE),0)","v":0},null,null,null,null,null,null,null,null,null,null,null,null,null,{"$f":"IF(EG$40>=6,EG$42,\"\")","v":""},{"$f":"IFERROR(VLOOKUP(EG54,DEBUTSTEP!$D$5:$E$68,2,FALSE),0)","v":0}]
["Effort",{"$f":"IF(B$40>=7,B$41,\"\")","v":"2'"},{"$f":"IFERROR(VLOOKUP(B55,DEBUTSTEP!$D$5:$E$68,2,FALSE),0)","v":120},null,null,null,null,null,null,null,null,null,null,null,null,null,{"$f":"IF(Q$40>=7,Q$41,\"\")","v":""},{"$f":"IFERROR(VLOOKUP(Q55,DEBUTSTEP!$D$5:$E$68,2,FALSE),0)","v":0},null,null,null,null,null,null,null,null,null,null,null,null,null,{"$f":"IF(AF$40>=7,AF$41,\"\")","v":""},{"$f":"IFERROR(VLOOKUP(AF55,DEBUTSTEP!$D$5:$E$68,2,FALSE),0)","v":0},null,null,null,null,null,null,null,null,null,null,null,null,null,{"$f":"IF(AU$40>=7,AU$41,\"\")","v":""},{"$f":"IFERROR(VLOOKUP(AU55,DEBUTSTEP!$D$5:$E$68,2,FALSE),0)","v":0},null,null,null,null,null,null,null,null,null,null,null,null,null,{"$f":"IF(BJ$40>=7,BJ$41,\"\")","v":""},{"$f":"IFERROR(VLOOKUP(BJ55,DEBUTSTEP!$D$5:$E$68,2,FALSE),0)","v":0},null,null,null,null,null,null,null,null,null,null,null,null,null,{"$f":"IF(BY$40>=7,BY$41,\"\")","v":""},{"$f":"IFERROR(VLOOKUP(BY55,DEBUTSTEP!$D$5:$E$68,2,FALSE),0)","v":0},null,null,null,null,null,null,null,null,null,null,null,null,null,{"$f":"IF(CN$40>=7,CN$41,\"\")","v":""},{"$f":"IFERROR(VLOOKUP(CN55,DEBUTSTEP!$D$5:$E$68,2,FALSE),0)","v":0},null,null,null,null,null,null,null,null,null,null,null,null,null,{"$f":"IF(DC$40>=7,DC$41,\"\")","v":""},{"$f":"IFERROR(VLOOKUP(DC55,DEBUTSTEP!$D$5:$E$68,2,FALSE),0)","v":0},null,null,null,null,null,null,null,null,null,null,null,null,null,{"$f":"IF(DR$40>=7,DR$41,\"\")","v":""},{"$f":"IFERROR(VLOOKUP(DR55,DEBUTSTEP!$D$5:$E$68,2,FALSE),0)","v":0},null,null,null,null,null,null,null,null,null,null,null,null,null,{"$f":"IF(EG$40>=7,EG$41,\"\")","v":""},{"$f":"IFERROR(VLOOKUP(EG55,DEBUTSTEP!$D$5:$E$68,2,FALSE),0)","v":0}]
["Récup'",{"$f":"IF(B$40>=7,B$42,\"\")","v":"2'"},{"$f":"IFERROR(VLOOKUP(B56,DEBUTSTEP!$D$5:$E$68,2,FALSE),0)","v":120},null,null,null,null,null,null,null,null,null,null,null,null,null,{"$f":"IF(Q$40>=7,Q$42,\"\")","v":""},{"$f":"IFERROR(VLOOKUP(Q56,DEBUTSTEP!$D$5:$E$68,2,FALSE),0)","v":0},null,null,null,null,null,null,null,null,null,null,null,null,null,{"$f":"IF(AF$40>=7,AF$42,\"\")","v":""},{"$f":"IFERROR(VLOOKUP(AF56,DEBUTSTEP!$D$5:$E$68,2,FALSE),0)","v":0},null,null,null,null,null,null,null,null,null,null,null,null,null,{"$f":"IF(AU$40>=7,AU$42,\"\")","v":""},{"$f":"IFERROR(VLOOKUP(AU56,DEBUTSTEP!$D$5:$E$68,2,FALSE),0)","v":0},null,null,null,null,null,null,null,null,null,null,null,null,null,{"$f":"IF(BJ$40>=7,BJ$42,\"\")","v":""},{"$f":"IFERROR(VLOOKUP(BJ56,DEBUTSTEP!$D$5:$E$68,2,FALSE),0)","v":0},null,null,null,null,null,null,null,null,null,null,null,null,null,{"$f":"IF(BY$40>=7,BY$42,\"\")","v":""},{"$f":"IFERROR(VLOOKUP(BY56,DEBUTSTEP!$D$5:$E$68,2,FALSE),0)","v":0},null,null,null,null,null,null,null,null,null,null,null,null,null,{"$f":"IF(CN$40>=7,CN$42,\"\")","v":""},{"$f":"IFERROR(VLOOKUP(CN56,DEBUTSTEP!$D$5:$E$68,2,FALSE),0)","v":0},null,null,null,null,null,null,null,null,null,null,null,null,null,{"$f":"IF(DC$40>=7,DC$42,\"\")","v":""},{"$f":"IFERROR(VLOOKUP(DC56,DEBUTSTEP!$D$5:$E$68,2,FALSE),0)","v":0},null,null,null,null,null,null,null,null,null,null,null,null,null,{"$f":"IF(DR$40>=7,DR$42,\"\")","v":""},{"$f":"IFERROR(VLOOKUP(DR56,DEBUTSTEP!$D$5:$E$68,2,FALSE),0)","v":0},null,null,null,null,null,null,null,null,null,null,null,null,null,{"$f":"IF(EG$40>=7,EG$42,\"\")","v":""},{"$f":"IFERROR(VLOOKUP(EG56,DEBUTSTEP!$D$5:$E$68,2,FALSE),0)","v":0}]
["Effort",{"$f":"IF(B$40>=8,B$41,\"\")","v":"2'"},{"$f":"IFERROR(VLOOKUP(B57,DEBUTSTEP!$D$5:$E$68,2,FALSE),0)","v":120},null,null,null,null,null,null,null,null,null,null,null,null,null,{"$f":"IF(Q$40>=8,Q$41,\"\")","v":""},{"$f":"IFERROR(VLOOKUP(Q57,DEBUTSTEP!$D$5:$E$68,2,FALSE),0)","v":0},null,null,null,null,null,null,null,null,null,null,null,null,null,{"$f":"IF(AF$40>=8,AF$41,\"\")","v":""},{"$f":"IFERROR(VLOOKUP(AF57,DEBUTSTEP!$D$5:$E$68,2,FALSE),0)","v":0},null,null,null,null,null,null,null,null,null,null,null,null,null,{"$f":"IF(AU$40>=8,AU$41,\"\")","v":""},{"$f":"IFERROR(VLOOKUP(AU57,DEBUTSTEP!$D$5:$E$68,2,FALSE),0)","v":0},null,null,null,null,null,null,null,null,null,null,null,null,null,{"$f":"IF(BJ$40>=8,BJ$41,\"\")","v":""},{"$f":"IFERROR(VLOOKUP(BJ57,DEBUTSTEP!$D$5:$E$68,2,FALSE),0)","v":0},null,null,null,null,null,null,null,null,null,null,null,null,null,{"$f":"IF(BY$40>=8,BY$41,\"\")","v":""},{"$f":"IFERROR(VLOOKUP(BY57,DEBUTSTEP!$D$5:$E$68,2,FALSE),0)","v":0},null,null,null,null,null,null,null,null,null,null,null,null,null,{"$f":"IF(CN$40>=8,CN$41,\"\")","v":""},{"$f":"IFERROR(VLOOKUP(CN57,DEBUTSTEP!$D$5:$E$68,2,FALSE),0)","v":0},null,null,null,null,null,null,null,null,null,null,null,null,null,{"$f":"IF(DC$40>=8,DC$41,\"\")","v":""},{"$f":"IFERROR(VLOOKUP(DC57,DEBUTSTEP!$D$5:$E$68,2,FALSE),0)","v":0},null,null,null,null,null,null,null,null,null,null,null,null,null,{"$f":"IF(DR$40>=8,DR$41,\"\")","v":""},{"$f":"IFERROR(VLOOKUP(DR57,DEBUTSTEP!$D$5:$E$68,2,FALSE),0)","v":0},null,null,null,null,null,null,null,null,null,null,null,null,null,{"$f":"IF(EG$40>=8,EG$41,\"\")","v":""},{"$f":"IFERROR(VLOOKUP(EG57,DEBUTSTEP!$D$5:$E$68,2,FALSE),0)","v":0}]
["Récup'",{"$f":"IF(B$40>=8,B$42,\"\")","v":"2'"},{"$f":"IFERROR(VLOOKUP(B58,DEBUTSTEP!$D$5:$E$68,2,FALSE),0)","v":120},null,null,null,null,null,null,null,null,null,null,null,null,null,{"$f":"IF(Q$40>=8,Q$42,\"\")","v":""},{"$f":"IFERROR(VLOOKUP(Q58,DEBUTSTEP!$D$5:$E$68,2,FALSE),0)","v":0},null,null,null,null,null,null,null,null,null,null,null,null,null,{"$f":"IF(AF$40>=8,AF$42,\"\")","v":""},{"$f":"IFERROR(VLOOKUP(AF58,DEBUTSTEP!$D$5:$E$68,2,FALSE),0)","v":0},null,null,null,null,null,null,null,null,null,null,null,null,null,{"$f":"IF(AU$40>=8,AU$42,\"\")","v":""},{"$f":"IFERROR(VLOOKUP(AU58,DEBUTSTEP!$D$5:$E$68,2,FALSE),0)","v":0},null,null,null,null,null,null,null,null,null,null,null,null,null,{"$f":"IF(BJ$40>=8,BJ$42,\"\")","v":""},{"$f":"IFERROR(VLOOKUP(BJ58,DEBUTSTEP!$D$5:$E$68,2,FALSE),0)","v":0},null,null,null,null,null,null,null,null,null,null,null,null,null,{"$f":"IF(BY$40>=8,BY$42,\"\")","v":""},{"$f":"IFERROR(VLOOKUP(BY58,DEBUTSTEP!$D$5:$E$68,2,FALSE),0)","v":0},null,null,null,null,null,null,null,null,null,null,null,null,null,{"$f":"IF(CN$40>=8,CN$42,\"\")","v":""},{"$f":"IFERROR(VLOOKUP(CN58,DEBUTSTEP!$D$5:$E$68,2,FALSE),0)","v":0},null,null,null,null,null,null,null,null,null,null,null,null,null,{"$f":"IF(DC$40>=8,DC$42,\"\")","v":""},{"$f":"IFERROR(VLOOKUP(DC58,DEBUTSTEP!$D$5:$E$68,2,FALSE),0)","v":0},null,null,null,null,null,null,null,null,null,null,null,null,null,{"$f":"IF(DR$40>=8,DR$42,\"\")","v":""},{"$f":"IFERROR(VLOOKUP(DR58,DEBUTSTEP!$D$5:$E$68,2,FALSE),0)","v":0},null,null,null,null,null,null,null,null,null,null,null,null,null,{"$f":"IF(EG$40>=8,EG$42,\"\")","v":""},{"$f":"IFERROR(VLOOKUP(EG58,DEBUTSTEP!$D$5:$E$68,2,FALSE),0)","v":0}]
["Effort",{"$f":"IF(B$40>=9,B$41,\"\")","v":""},{"$f":"IFERROR(VLOOKUP(B59,DEBUTSTEP!$D$5:$E$68,2,FALSE),0)","v":0},null,null,null,null,null,null,null,null,null,null,null,null,null,{"$f":"IF(Q$40>=9,Q$41,\"\")","v":""},{"$f":"IFERROR(VLOOKUP(Q59,DEBUTSTEP!$D$5:$E$68,2,FALSE),0)","v":0},null,null,null,null,null,null,null,null,null,null,null,null,null,{"$f":"IF(AF$40>=9,AF$41,\"\")","v":""},{"$f":"IFERROR(VLOOKUP(AF59,DEBUTSTEP!$D$5:$E$68,2,FALSE),0)","v":0},null,null,null,null,null,null,null,null,null,null,null,null,null,{"$f":"IF(AU$40>=9,AU$41,\"\")","v":""},{"$f":"IFERROR(VLOOKUP(AU59,DEBUTSTEP!$D$5:$E$68,2,FALSE),0)","v":0},null,null,null,null,null,null,null,null,null,null,null,null,null,{"$f":"IF(BJ$40>=9,BJ$41,\"\")","v":""},{"$f":"IFERROR(VLOOKUP(BJ59,DEBUTSTEP!$D$5:$E$68,2,FALSE),0)","v":0},null,null,null,null,null,null,null,null,null,null,null,null,null,{"$f":"IF(BY$40>=9,BY$41,\"\")","v":""},{"$f":"IFERROR(VLOOKUP(BY59,DEBUTSTEP!$D$5:$E$68,2,FALSE),0)","v":0},null,null,null,null,null,null,null,null,null,null,null,null,null,{"$f":"IF(CN$40>=9,CN$41,\"\")","v":""},{"$f":"IFERROR(VLOOKUP(CN59,DEBUTSTEP!$D$5:$E$68,2,FALSE),0)","v":0},null,null,null,null,null,null,null,null,null,null,null,null,null,{"$f":"IF(DC$40>=9,DC$41,\"\")","v":""},{"$f":"IFERROR(VLOOKUP(DC59,DEBUTSTEP!$D$5:$E$68,2,FALSE),0)","v":0},null,null,null,null,null,null,null,null,null,null,null,null,null,{"$f":"IF(DR$40>=9,DR$41,\"\")","v":""},{"$f":"IFERROR(VLOOKUP(DR59,DEBUTSTEP!$D$5:$E$68,2,FALSE),0)","v":0},null,null,null,null,null,null,null,null,null,null,null,null,null,{"$f":"IF(EG$40>=9,EG$41,\"\")","v":""},{"$f":"IFERROR(VLOOKUP(EG59,DEBUTSTEP!$D$5:$E$68,2,FALSE),0)","v":0}]
["Récup'",{"$f":"IF(B$40>=9,B$42,\"\")","v":""},{"$f":"IFERROR(VLOOKUP(B60,DEBUTSTEP!$D$5:$E$68,2,FALSE),0)","v":0},null,null,null,null,null,null,null,null,null,null,null,null,null,{"$f":"IF(Q$40>=9,Q$42,\"\")","v":""},{"$f":"IFERROR(VLOOKUP(Q60,DEBUTSTEP!$D$5:$E$68,2,FALSE),0)","v":0},null,null,null,null,null,null,null,null,null,null,null,null,null,{"$f":"IF(AF$40>=9,AF$42,\"\")","v":""},{"$f":"IFERROR(VLOOKUP(AF60,DEBUTSTEP!$D$5:$E$68,2,FALSE),0)","v":0},null,null,null,null,null,null,null,null,null,null,null,null,null,{"$f":"IF(AU$40>=9,AU$42,\"\")","v":""},{"$f":"IFERROR(VLOOKUP(AU60,DEBUTSTEP!$D$5:$E$68,2,FALSE),0)","v":0},null,null,null,null,null,null,null,null,null,null,null,null,null,{"$f":"IF(BJ$40>=9,BJ$42,\"\")","v":""},{"$f":"IFERROR(VLOOKUP(BJ60,DEBUTSTEP!$D$5:$E$68,2,FALSE),0)","v":0},null,null,null,null,null,null,null,null,null,null,null,null,null,{"$f":"IF(BY$40>=9,BY$42,\"\")","v":""},{"$f":"IFERROR(VLOOKUP(BY60,DEBUTSTEP!$D$5:$E$68,2,FALSE),0)","v":0},null,null,null,null,null,null,null,null,null,null,null,null,null,{"$f":"IF(CN$40>=9,CN$42,\"\")","v":""},{"$f":"IFERROR(VLOOKUP(CN60,DEBUTSTEP!$D$5:$E$68,2,FALSE),0)","v":0},null,null,null,null,null,null,null,null,null,null,null,null,null,{"$f":"IF(DC$40>=9,DC$42,\"\")","v":""},{"$f":"IFERROR(VLOOKUP(DC60,DEBUTSTEP!$D$5:$E$68,2,FALSE),0)","v":0},null,null,null,null,null,null,null,null,null,null,null,null,null,{"$f":"IF(DR$40>=9,DR$42,\"\")","v":""},{"$f":"IFERROR(VLOOKUP(DR60,DEBUTSTEP!$D$5:$E$68,2,FALSE),0)","v":0},null,null,null,null,null,null,null,null,null,null,null,null,null,{"$f":"IF(EG$40>=9,EG$42,\"\")","v":""},{"$f":"IFERROR(VLOOKUP(EG60,DEBUTSTEP!$D$5:$E$68,2,FALSE),0)","v":0}]
["EFFORT TOTAL",{"$f":"(C43+C45+C47+C49+C51+C53+C55+C57+C59)*\"00:00:01\"","v":"00:16:00"},{"$f":"IFERROR((C44+C46+C48+C50+C52+C54+C56+C58+C60)*\"00:00:01\",0)","v":"00:16:00"},null,null,null,null,null,null,null,null,null,null,null,null,null,{"$f":"(R43+R45+R47+R49+R51+R53+R55+R57+R59)*\"00:00:01\"","v":"00:21:00"},{"$f":"IFERROR((R44+R46+R48+R50+R52+R54+R56+R58+R60)*\"00:00:01\",0)","v":"00:12:00"},null,null,null,null,null,null,null,null,null,null,null,null,null,{"$f":"(AG43+AG45+AG47+AG49+AG51+AG53+AG55+AG57+AG59)*\"00:00:01\"","v":"00:20:00"},{"$f":"IFERROR((AG44+AG46+AG48+AG50+AG52+AG54+AG56+AG58+AG60)*\"00:00:01\",0)","v":"00:16:00"},null,null,null,null,null,null,null,null,null,null,null,null,null,{"$f":"(AV43+AV45+AV47+AV49+AV51+AV53+AV55+AV57+AV59)*\"00:00:01\"","v":"00:08:00"},{"$f":"IFERROR((AV44+AV46+AV48+AV50+AV52+AV54+AV56+AV58+AV60)*\"00:00:01\",0)","v":"00:08:00"},null,null,null,null,null,null,null,null,null,null,null,null,null,{"$f":"(BK43+BK45+BK47+BK49+BK51+BK53+BK55+BK57+BK59)*\"00:00:01\"","v":"00:08:00"},{"$f":"IFERROR((BK44+BK46+BK48+BK50+BK52+BK54+BK56+BK58+BK60)*\"00:00:01\",0)","v":"00:08:00"},null,null,null,null,null,null,null,null,null,null,null,null,null,{"$f":"(BZ43+BZ45+BZ47+BZ49+BZ51+BZ53+BZ55+BZ57+BZ59)*\"00:00:01\"","v":"00:08:00"},{"$f":"IFERROR((BZ44+BZ46+BZ48+BZ50+BZ52+BZ54+BZ56+BZ58+BZ60)*\"00:00:01\",0)","v":"00:08:00"},null,null,null,null,null,null,null,null,null,null,null,null,null,{"$f":"(CO43+CO45+CO47+CO49+CO51+CO53+CO55+CO57+CO59)*\"00:00:01\"","v":"00:08:00"},{"$f":"IFERROR((CO44+CO46+CO48+CO50+CO52+CO54+CO56+CO58+CO60)*\"00:00:01\",0)","v":"00:08:00"},null,null,null,null,null,null,null,null,null,null,null,null,null,{"$f":"(DD43+DD45+DD47+DD49+DD51+DD53+DD55+DD57+DD59)*\"00:00:01\"","v":"00:08:00"},{"$f":"IFERROR((DD44+DD46+DD48+DD50+DD52+DD54+DD56+DD58+DD60)*\"00:00:01\",0)","v":"00:08:00"},null,null,null,null,null,null,null,null,null,null,null,null,null,{"$f":"(DS43+DS45+DS47+DS49+DS51+DS53+DS55+DS57+DS59)*\"00:00:01\"","v":"00:08:00"},{"$f":"IFERROR((DS44+DS46+DS48+DS50+DS52+DS54+DS56+DS58+DS60)*\"00:00:01\",0)","v":"00:08:00"},null,null,null,null,null,null,null,null,null,null,null,null,null,{"$f":"(EH43+EH45+EH47+EH49+EH51+EH53+EH55+EH57+EH59)*\"00:00:01\"","v":"00:08:00"},{"$f":"IFERROR((EH44+EH46+EH48+EH50+EH52+EH54+EH56+EH58+EH60)*\"00:00:01\",0)","v":"00:08:00"}]
[]
["Pourquoi avoir choisi cet entrainement ? (expression libre)"]
[]
[null,"BLOCS CHOISIS ",null,null,null,null,null,null,null,null,null,null,null,null,null,null,"BLOCS CHOISIS ",null,null,null,null,null,null,null,null,null,null,null,null,null,null,"BLOCS CHOISIS ",null,null,null,null,null,null,null,null,null,null,null,null,null,null,"BLOCS CHOISIS ",null,null,null,null,null,null,null,null,null,null,null,null,null,null,"BLOCS CHOISIS ",null,null,null,null,null,null,null,null,null,null,null,null,null,null,"BLOCS CHOISIS ",null,null,null,null,null,null,null,null,null,null,null,null,null,null,"BLOCS CHOISIS ",null,null,null,null,null,null,null,null,null,null,null,null,null,null,"BLOCS CHOISIS ",null,null,null,null,null,null,null,null,null,null,null,null,null,null,"BLOCS CHOISIS ",null,null,null,null,null,null,null,null,null,null,null,null,null,null,"BLOCS CHOISIS "]
[null,"1 BLOC = 4x8 TEMPS",null,null,null,null,null,null,null,null,null,null,null,null,null,null,"1 BLOC = 4x8 TEMPS",null,null,null,null,null,null,null,null,null,null,null,null,null,null,"1 BLOC = 4x8 TEMPS",null,null,null,null,null,null,null,null,null,null,null,null,null,null,"1 BLOC = 4x8 TEMPS",null,null,null,null,null,null,null,null,null,null,null,null,null,null,"1 BLOC = 4x8 TEMPS",null,null,null,null,null,null,null,null,null,null,null,null,null,null,"1 BLOC = 4x8 TEMPS",null,null,null,null,null,null,null,null,null,null,null,null,null,null,"1 BLOC = 4x8 TEMPS",null,null,null,null,null,null,null,null,null,null,null,null,null,null,"1 BLOC = 4x8 TEMPS",null,null,null,null,null,null,null,null,null,null,null,null,null,null,"1 BLOC = 4x8 TEMPS",null,null,null,null,null,null,null,null,null,null,null,null,null,null,"1 BLOC = 4x8 TEMPS"]
["BLOC 1",{"$f":"CONCATENATE(SUMIF(E67,\"<>\")+SUMIF(H67,\"<>\")+SUMIF(K67,\"<>\")+SUMIF(N67,\"<>\")+SUMIF(E69,\"<>\")+SUMIF(H69,\"<>\")+SUMIF(K69,\"<>\")+SUMIF(N69,\"<>\"),\" temps\")","v":"32 temps"},"MARCHE",null,{"$f":"IFERROR(VLOOKUP(C67,TOUSLESPAS!$B$4:$C$207,2,FALSE),\"\")","v":4},"MARCHE",null,{"$f":"IFERROR(VLOOKUP(F67,TOUSLESPAS!$B$4:$C$207,2,FALSE),\"\")","v":4},"V-STEP",null,{"$f":"IFERROR(VLOOKUP(I67,TOUSLESPAS!$B$4:$C$207,2,FALSE),\"\")","v":4},"V-STEP",null,{"$f":"IFERROR(VLOOKUP(L67,TOUSLESPAS!$B$4:$C$207,2,FALSE),\"\")","v":4},null,null,{"$f":"CONCATENATE(SUMIF(T67,\"<>\")+SUMIF(W67,\"<>\")+SUMIF(Z67,\"<>\")+SUMIF(AC67,\"<>\")+SUMIF(T69,\"<>\")+SUMIF(W69,\"<>\")+SUMIF(Z69,\"<>\")+SUMIF(AC69,\"<>\"),\" temps\")","v":"32 temps"},{"$f":"IF(C67=\"\",\"\",C67)","v":"MARCHE"},null,{"$f":"IFERROR(VLOOKUP(R67,TOUSLESPAS!$B$4:$C$207,2,FALSE),\"\")","v":4},{"$f":"IF(F67=\"\",\"\",F67)","v":"MARCHE"},null,{"$f":"IFERROR(VLOOKUP(U67,TOUSLESPAS!$B$4:$C$207,2,FALSE),\"\")","v":4},{"$f":"IF(I67=\"\",\"\",I67)","v":"V-STEP"},null,{"$f":"IFERROR(VLOOKUP(X67,TOUSLESPAS!$B$4:$C$207,2,FALSE),\"\")","v":4},{"$f":"IF(L67=\"\",\"\",L67)","v":"V-STEP"},null,{"$f":"IFERROR(VLOOKUP(AA67,TOUSLESPAS!$B$4:$C$207,2,FALSE),\"\")","v":4},null,null,{"$f":"CONCATENATE(SUMIF(AI67,\"<>\")+SUMIF(AL67,\"<>\")+SUMIF(AO67,\"<>\")+SUMIF(AR67,\"<>\")+SUMIF(AI69,\"<>\")+SUMIF(AL69,\"<>\")+SUMIF(AO69,\"<>\")+SUMIF(AR69,\"<>\"),\" temps\")","v":"32 temps"},{"$f":"IF(R67=\"\",\"\",R67)","v":"MARCHE"},null,{"$f":"IFERROR(VLOOKUP(AG67,TOUSLESPAS!$B$4:$C$207,2,FALSE),\"\")","v":4},{"$f":"IF(U67=\"\",\"\",U67)","v":"MARCHE"},null,{"$f":"IFERROR(VLOOKUP(AJ67,TOUSLESPAS!$B$4:$C$207,2,FALSE),\"\")","v":4},{"$f":"IF(X67=\"\",\"\",X67)","v":"V-STEP"},null,{"$f":"IFERROR(VLOOKUP(AM67,TOUSLESPAS!$B$4:$C$207,2,FALSE),\"\")","v":4},{"$f":"IF(AA67=\"\",\"\",AA67)","v":"V-STEP"},null,{"$f":"IFERROR(VLOOKUP(AP67,TOUSLESPAS!$B$4:$C$207,2,FALSE),\"\")","v":4},null,null,{"$f":"CONCATENATE(SUMIF(AX67,\"<>\")+SUMIF(BA67,\"<>\")+SUMIF(BD67,\"<>\")+SUMIF(BG67,\"<>\")+SUMIF(AX69,\"<>\")+SUMIF(BA69,\"<>\")+SUMIF(BD69,\"<>\")+SUMIF(BG69,\"<>\"),\" temps\")","v":"32 temps"},{"$f":"IF(AG67=\"\",\"\",AG67)","v":"MARCHE"},null,{"$f":"IFERROR(VLOOKUP(AV67,TOUSLESPAS!$B$4:$C$207,2,FALSE),\"\")","v":4},{"$f":"IF(AJ67=\"\",\"\",AJ67)","v":"MARCHE"},null,{"$f":"IFERROR(VLOOKUP(AY67,TOUSLESPAS!$B$4:$C$207,2,FALSE),\"\")","v":4},{"$f":"IF(AM67=\"\",\"\",AM67)","v":"V-STEP"},null,{"$f":"IFERROR(VLOOKUP(BB67,TOUSLESPAS!$B$4:$C$207,2,FALSE),\"\")","v":4},{"$f":"IF(AP67=\"\",\"\",AP67)","v":"V-STEP"},null,{"$f":"IFERROR(VLOOKUP(BE67,TOUSLESPAS!$B$4:$C$207,2,FALSE),\"\")","v":4},null,null,{"$f":"CONCATENATE(SUMIF(BM67,\"<>\")+SUMIF(BP67,\"<>\")+SUMIF(BS67,\"<>\")+SUMIF(BV67,\"<>\")+SUMIF(BM69,\"<>\")+SUMIF(BP69,\"<>\")+SUMIF(BS69,\"<>\")+SUMIF(BV69,\"<>\"),\" temps\")","v":"32 temps"},{"$f":"IF(AV67=\"\",\"\",AV67)","v":"MARCHE"},null,{"$f":"IFERROR(VLOOKUP(BK67,TOUSLESPAS!$B$4:$C$207,2,FALSE),\"\")","v":4},{"$f":"IF(AY67=\"\",\"\",AY67)","v":"MARCHE"},null,{"$f":"IFERROR(VLOOKUP(BN67,TOUSLESPAS!$B$4:$C$207,2,FALSE),\"\")","v":4},{"$f":"IF(BB67=\"\",\"\",BB67)","v":"V-STEP"},null,{"$f":"IFERROR(VLOOKUP(BQ67,TOUSLESPAS!$B$4:$C$207,2,FALSE),\"\")","v":4},{"$f":"IF(BE67=\"\",\"\",BE67)","v":"V-STEP"},null,{"$f":"IFERROR(VLOOKUP(BT67,TOUSLESPAS!$B$4:$C$207,2,FALSE),\"\")","v":4},null,null,{"$f":"CONCATENATE(SUMIF(CB67,\"<>\")+SUMIF(CE67,\"<>\")+SUMIF(CH67,\"<>\")+SUMIF(CK67,\"<>\")+SUMIF(CB69,\"<>\")+SUMIF(CE69,\"<>\")+SUMIF(CH69,\"<>\")+SUMIF(CK69,\"<>\"),\" temps\")","v":"32 temps"},{"$f":"IF(BK67=\"\",\"\",BK67)","v":"MARCHE"},null,{"$f":"IFERROR(VLOOKUP(BZ67,TOUSLESPAS!$B$4:$C$207,2,FALSE),\"\")","v":4},{"$f":"IF(BN67=\"\",\"\",BN67)","v":"MARCHE"},null,{"$f":"IFERROR(VLOOKUP(CC67,TOUSLESPAS!$B$4:$C$207,2,FALSE),\"\")","v":4},{"$f":"IF(BQ67=\"\",\"\",BQ67)","v":"V-STEP"},null,{"$f":"IFERROR(VLOOKUP(CF67,TOUSLESPAS!$B$4:$C$207,2,FALSE),\"\")","v":4},{"$f":"IF(BT67=\"\",\"\",BT67)","v":"V-STEP"},null,{"$f":"IFERROR(VLOOKUP(CI67,TOUSLESPAS!$B$4:$C$207,2,FALSE),\"\")","v":4},null,null,{"$f":"CONCATENATE(SUMIF(CQ67,\"<>\")+SUMIF(CT67,\"<>\")+SUMIF(CW67,\"<>\")+SUMIF(CZ67,\"<>\")+SUMIF(CQ69,\"<>\")+SUMIF(CT69,\"<>\")+SUMIF(CW69,\"<>\")+SUMIF(CZ69,\"<>\"),\" temps\")","v":"32 temps"},{"$f":"IF(BZ67=\"\",\"\",BZ67)","v":"MARCHE"},null,{"$f":"IFERROR(VLOOKUP(CO67,TOUSLESPAS!$B$4:$C$207,2,FALSE),\"\")","v":4},{"$f":"IF(CC67=\"\",\"\",CC67)","v":"MARCHE"},null,{"$f":"IFERROR(VLOOKUP(CR67,TOUSLESPAS!$B$4:$C$207,2,FALSE),\"\")","v":4},{"$f":"IF(CF67=\"\",\"\",CF67)","v":"V-STEP"},null,{"$f":"IFERROR(VLOOKUP(CU67,TOUSLESPAS!$B$4:$C$207,2,FALSE),\"\")","v":4},{"$f":"IF(CI67=\"\",\"\",CI67)","v":"V-STEP"},null,{"$f":"IFERROR(VLOOKUP(CX67,TOUSLESPAS!$B$4:$C$207,2,FALSE),\"\")","v":4},null,null,{"$f":"CONCATENATE(SUMIF(DF67,\"<>\")+SUMIF(DI67,\"<>\")+SUMIF(DL67,\"<>\")+SUMIF(DO67,\"<>\")+SUMIF(DF69,\"<>\")+SUMIF(DI69,\"<>\")+SUMIF(DL69,\"<>\")+SUMIF(DO69,\"<>\"),\" temps\")","v":"32 temps"},{"$f":"IF(CO67=\"\",\"\",CO67)","v":"MARCHE"},null,{"$f":"IFERROR(VLOOKUP(DD67,TOUSLESPAS!$B$4:$C$207,2,FALSE),\"\")","v":4},{"$f":"IF(CR67=\"\",\"\",CR67)","v":"MARCHE"},null,{"$f":"IFERROR(VLOOKUP(DG67,TOUSLESPAS!$B$4:$C$207,2,FALSE),\"\")","v":4},{"$f":"IF(CU67=\"\",\"\",CU67)","v":"V-STEP"},null,{"$f":"IFERROR(VLOOKUP(DJ67,TOUSLESPAS!$B$4:$C$207,2,FALSE),\"\")","v":4},{"$f":"IF(CX67=\"\",\"\",CX67)","v":"V-STEP"},null,{"$f":"IFERROR(VLOOKUP(DM67,TOUSLESPAS!$B$4:$C$207,2,FALSE),\"\")","v":4},null,null,{"$f":"CONCATENATE(SUMIF(DU67,\"<>\")+SUMIF(DX67,\"<>\")+SUMIF(EA67,\"<>\")+SUMIF(ED67,\"<>\")+SUMIF(DU69,\"<>\")+SUMIF(DX69,\"<>\")+SUMIF(EA69,\"<>\")+SUMIF(ED69,\"<>\"),\" temps\")","v":"32 temps"},{"$f":"IF(DD67=\"\",\"\",DD67)","v":"MARCHE"},null,{"$f":"IFERROR(VLOOKUP(DS67,TOUSLESPAS!$B$4:$C$207,2,FALSE),\"\")","v":4},{"$f":"IF(DG67=\"\",\"\",DG67)","v":"MARCHE"},null,{"$f":"IFERROR(VLOOKUP(DV67,TOUSLESPAS!$B$4:$C$207,2,FALSE),\"\")","v":4},{"$f":"IF(DJ67=\"\",\"\",DJ67)","v":"V-STEP"},null,{"$f":"IFERROR(VLOOKUP(DY67,TOUSLESPAS!$B$4:$C$207,2,FALSE),\"\")","v":4},{"$f":"IF(DM67=\"\",\"\",DM67)","v":"V-STEP"},null,{"$f":"IFERROR(VLOOKUP(EB67,TOUSLESPAS!$B$4:$C$207,2,FALSE),\"\")","v":4},null,null,{"$f":"CONCATENATE(SUMIF(EJ67,\"<>\")+SUMIF(EM67,\"<>\")+SUMIF(EP67,\"<>\")+SUMIF(ES67,\"<>\")+SUMIF(EJ69,\"<>\")+SUMIF(EM69,\"<>\")+SUMIF(EP69,\"<>\")+SUMIF(ES69,\"<>\"),\" temps\")","v":"32 temps"},{"$f":"IF(DS67=\"\",\"\",DS67)","v":"MARCHE"},null,{"$f":"IFERROR(VLOOKUP(EH67,TOUSLESPAS!$B$4:$C$207,2,FALSE),\"\")","v":4},{"$f":"IF(DV67=\"\",\"\",DV67)","v":"MARCHE"},null,{"$f":"IFERROR(VLOOKUP(EK67,TOUSLESPAS!$B$4:$C$207,2,FALSE),\"\")","v":4},{"$f":"IF(DY67=\"\",\"\",DY67)","v":"V-STEP"},null,{"$f":"IFERROR(VLOOKUP(EN67,TOUSLESPAS!$B$4:$C$207,2,FALSE),\"\")","v":4},{"$f":"IF(EB67=\"\",\"\",EB67)","v":"V-STEP"},null,{"$f":"IFERROR(VLOOKUP(EQ67,TOUSLESPAS!$B$4:$C$207,2,FALSE),\"\")","v":4}]
[]
[null,null,"PAS CHASSES",null,{"$f":"IFERROR(VLOOKUP(C69,TOUSLESPAS!$B$4:$C$207,2,FALSE),\"\")","v":4},"PAS CHASSES",null,{"$f":"IFERROR(VLOOKUP(F69,TOUSLESPAS!$B$4:$C$207,2,FALSE),\"\")","v":4},"COUP DE PIED",null,{"$f":"IFERROR(VLOOKUP(I69,TOUSLESPAS!$B$4:$C$207,2,FALSE),\"\")","v":4},"COUP DE PIED",null,{"$f":"IFERROR(VLOOKUP(L69,TOUSLESPAS!$B$4:$C$207,2,FALSE),\"\")","v":4},null,null,null,{"$f":"IF(C69=\"\",\"\",C69)","v":"PAS CHASSES"},null,{"$f":"IFERROR(VLOOKUP(R69,TOUSLESPAS!$B$4:$C$207,2,FALSE),\"\")","v":4},{"$f":"IF(F69=\"\",\"\",F69)","v":"PAS CHASSES"},null,{"$f":"IFERROR(VLOOKUP(U69,TOUSLESPAS!$B$4:$C$207,2,FALSE),\"\")","v":4},{"$f":"IF(I69=\"\",\"\",I69)","v":"COUP DE PIED"},null,{"$f":"IFERROR(VLOOKUP(X69,TOUSLESPAS!$B$4:$C$207,2,FALSE),\"\")","v":4},{"$f":"IF(L69=\"\",\"\",L69)","v":"COUP DE PIED"},null,{"$f":"IFERROR(VLOOKUP(AA69,TOUSLESPAS!$B$4:$C$207,2,FALSE),\"\")","v":4},null,null,null,{"$f":"IF(R69=\"\",\"\",R69)","v":"PAS CHASSES"},null,{"$f":"IFERROR(VLOOKUP(AG69,TOUSLESPAS!$B$4:$C$207,2,FALSE),\"\")","v":4},{"$f":"IF(U69=\"\",\"\",U69)","v":"PAS CHASSES"},null,{"$f":"IFERROR(VLOOKUP(AJ69,TOUSLESPAS!$B$4:$C$207,2,FALSE),\"\")","v":4},{"$f":"IF(X69=\"\",\"\",X69)","v":"COUP DE PIED"},null,{"$f":"IFERROR(VLOOKUP(AM69,TOUSLESPAS!$B$4:$C$207,2,FALSE),\"\")","v":4},{"$f":"IF(AA69=\"\",\"\",AA69)","v":"COUP DE PIED"},null,{"$f":"IFERROR(VLOOKUP(AP69,TOUSLESPAS!$B$4:$C$207,2,FALSE),\"\")","v":4},null,null,null,{"$f":"IF(AG69=\"\",\"\",AG69)","v":"PAS CHASSES"},null,{"$f":"IFERROR(VLOOKUP(AV69,TOUSLESPAS!$B$4:$C$207,2,FALSE),\"\")","v":4},{"$f":"IF(AJ69=\"\",\"\",AJ69)","v":"PAS CHASSES"},null,{"$f":"IFERROR(VLOOKUP(AY69,TOUSLESPAS!$B$4:$C$207,2,FALSE),\"\")","v":4},{"$f":"IF(AM69=\"\",\"\",AM69)","v":"COUP DE PIED"},null,{"$f":"IFERROR(VLOOKUP(BB69,TOUSLESPAS!$B$4:$C$207,2,FALSE),\"\")","v":4},{"$f":"IF(AP69=\"\",\"\",AP69)","v":"COUP DE PIED"},null,{"$f":"IFERROR(VLOOKUP(BE69,TOUSLESPAS!$B$4:$C$207,2,FALSE),\"\")","v":4},null,null,null,{"$f":"IF(AV69=\"\",\"\",AV69)","v":"PAS CHASSES"},null,{"$f":"IFERROR(VLOOKUP(BK69,TOUSLESPAS!$B$4:$C$207,2,FALSE),\"\")","v":4},{"$f":"IF(AY69=\"\",\"\",AY69)","v":"PAS CHASSES"},null,{"$f":"IFERROR(VLOOKUP(BN69,TOUSLESPAS!$B$4:$C$207,2,FALSE),\"\")","v":4},{"$f":"IF(BB69=\"\",\"\",BB69)","v":"COUP DE PIED"},null,{"$f":"IFERROR(VLOOKUP(BQ69,TOUSLESPAS!$B$4:$C$207,2,FALSE),\"\")","v":4},{"$f":"IF(BE69=\"\",\"\",BE69)","v":"COUP DE PIED"},null,{"$f":"IFERROR(VLOOKUP(BT69,TOUSLESPAS!$B$4:$C$207,2,FALSE),\"\")","v":4},null,null,null,{"$f":"IF(BK69=\"\",\"\",BK69)","v":"PAS CHASSES"},null,{"$f":"IFERROR(VLOOKUP(BZ69,TOUSLESPAS!$B$4:$C$207,2,FALSE),\"\")","v":4},{"$f":"IF(BN69=\"\",\"\",BN69)","v":"PAS CHASSES"},null,{"$f":"IFERROR(VLOOKUP(CC69,TOUSLESPAS!$B$4:$C$207,2,FALSE),\"\")","v":4},{"$f":"IF(BQ69=\"\",\"\",BQ69)","v":"COUP DE PIED"},null,{"$f":"IFERROR(VLOOKUP(CF69,TOUSLESPAS!$B$4:$C$207,2,FALSE),\"\")","v":4},{"$f":"IF(BT69=\"\",\"\",BT69)","v":"COUP DE PIED"},null,{"$f":"IFERROR(VLOOKUP(CI69,TOUSLESPAS!$B$4:$C$207,2,FALSE),\"\")","v":4},null,null,null,{"$f":"IF(BZ69=\"\",\"\",BZ69)","v":"PAS CHASSES"},null,{"$f":"IFERROR(VLOOKUP(CO69,TOUSLESPAS!$B$4:$C$207,2,FALSE),\"\")","v":4},{"$f":"IF(CC69=\"\",\"\",CC69)","v":"PAS CHASSES"},null,{"$f":"IFERROR(VLOOKUP(CR69,TOUSLESPAS!$B$4:$C$207,2,FALSE),\"\")","v":4},{"$f":"IF(CF69=\"\",\"\",CF69)","v":"COUP DE PIED"},null,{"$f":"IFERROR(VLOOKUP(CU69,TOUSLESPAS!$B$4:$C$207,2,FALSE),\"\")","v":4},{"$f":"IF(CI69=\"\",\"\",CI69)","v":"COUP DE PIED"},null,{"$f":"IFERROR(VLOOKUP(CX69,TOUSLESPAS!$B$4:$C$207,2,FALSE),\"\")","v":4},null,null,null,{"$f":"IF(CO69=\"\",\"\",CO69)","v":"PAS CHASSES"},null,{"$f":"IFERROR(VLOOKUP(DD69,TOUSLESPAS!$B$4:$C$207,2,FALSE),\"\")","v":4},{"$f":"IF(CR69=\"\",\"\",CR69)","v":"PAS CHASSES"},null,{"$f":"IFERROR(VLOOKUP(DG69,TOUSLESPAS!$B$4:$C$207,2,FALSE),\"\")","v":4},{"$f":"IF(CU69=\"\",\"\",CU69)","v":"COUP DE PIED"},null,{"$f":"IFERROR(VLOOKUP(DJ69,TOUSLESPAS!$B$4:$C$207,2,FALSE),\"\")","v":4},{"$f":"IF(CX69=\"\",\"\",CX69)","v":"COUP DE PIED"},null,{"$f":"IFERROR(VLOOKUP(DM69,TOUSLESPAS!$B$4:$C$207,2,FALSE),\"\")","v":4},null,null,null,{"$f":"IF(DD69=\"\",\"\",DD69)","v":"PAS CHASSES"},null,{"$f":"IFERROR(VLOOKUP(DS69,TOUSLESPAS!$B$4:$C$207,2,FALSE),\"\")","v":4},{"$f":"IF(DG69=\"\",\"\",DG69)","v":"PAS CHASSES"},null,{"$f":"IFERROR(VLOOKUP(DV69,TOUSLESPAS!$B$4:$C$207,2,FALSE),\"\")","v":4},{"$f":"IF(DJ69=\"\",\"\",DJ69)","v":"COUP DE PIED"},null,{"$f":"IFERROR(VLOOKUP(DY69,TOUSLESPAS!$B$4:$C$207,2,FALSE),\"\")","v":4},{"$f":"IF(DM69=\"\",\"\",DM69)","v":"COUP DE PIED"},null,{"$f":"IFERROR(VLOOKUP(EB69,TOUSLESPAS!$B$4:$C$207,2,FALSE),\"\")","v":4},null,null,null,{"$f":"IF(DS69=\"\",\"\",DS69)","v":"PAS CHASSES"},null,{"$f":"IFERROR(VLOOKUP(EH69,TOUSLESPAS!$B$4:$C$207,2,FALSE),\"\")","v":4},{"$f":"IF(DV69=\"\",\"\",DV69)","v":"PAS CHASSES"},null,{"$f":"IFERROR(VLOOKUP(EK69,TOUSLESPAS!$B$4:$C$207,2,FALSE),\"\")","v":4},{"$f":"IF(DY69=\"\",\"\",DY69)","v":"COUP DE PIED"},null,{"$f":"IFERROR(VLOOKUP(EN69,TOUSLESPAS!$B$4:$C$207,2,FALSE),\"\")","v":4},{"$f":"IF(EB69=\"\",\"\",EB69)","v":"COUP DE PIED"},null,{"$f":"IFERROR(VLOOKUP(EQ69,TOUSLESPAS!$B$4:$C$207,2,FALSE),\"\")","v":4}]
[]
["BLOC 2",{"$f":"CONCATENATE(SUMIF(E71,\"<>\")+SUMIF(H71,\"<>\")+SUMIF(K71,\"<>\")+SUMIF(N71,\"<>\")+SUMIF(E73,\"<>\")+SUMIF(H73,\"<>\")+SUMIF(K73,\"<>\")+SUMIF(N73,\"<>\"),\" temps\")","v":"32 temps"},"COURSE",null,{"$f":"IFERROR(VLOOKUP(C71,TOUSLESPAS!$B$4:$C$207,2,FALSE),\"\")","v":4},"COURSE",null,{"$f":"IFERROR(VLOOKUP(F71,TOUSLESPAS!$B$4:$C$207,2,FALSE),\"\")","v":4},"CHARLESTON",null,{"$f":"IFERROR(VLOOKUP(I71,TOUSLESPAS!$B$4:$C$207,2,FALSE),\"\")","v":8},"HELICO",null,{"$f":"IFERROR(VLOOKUP(L71,TOUSLESPAS!$B$4:$C$207,2,FALSE),\"\")","v":8},null,null,{"$f":"CONCATENATE(SUMIF(T71,\"<>\")+SUMIF(W71,\"<>\")+SUMIF(Z71,\"<>\")+SUMIF(AC71,\"<>\")+SUMIF(T73,\"<>\")+SUMIF(W73,\"<>\")+SUMIF(Z73,\"<>\")+SUMIF(AC73,\"<>\"),\" temps\")","v":"32 temps"},{"$f":"IF(C71=\"\",\"\",C71)","v":"COURSE"},null,{"$f":"IFERROR(VLOOKUP(R71,TOUSLESPAS!$B$4:$C$207,2,FALSE),\"\")","v":4},{"$f":"IF(F71=\"\",\"\",F71)","v":"COURSE"},null,{"$f":"IFERROR(VLOOKUP(U71,TOUSLESPAS!$B$4:$C$207,2,FALSE),\"\")","v":4},{"$f":"IF(I71=\"\",\"\",I71)","v":"CHARLESTON"},null,{"$f":"IFERROR(VLOOKUP(X71,TOUSLESPAS!$B$4:$C$207,2,FALSE),\"\")","v":8},{"$f":"IF(L71=\"\",\"\",L71)","v":"HELICO"},null,{"$f":"IFERROR(VLOOKUP(AA71,TOUSLESPAS!$B$4:$C$207,2,FALSE),\"\")","v":8},null,null,{"$f":"CONCATENATE(SUMIF(AI71,\"<>\")+SUMIF(AL71,\"<>\")+SUMIF(AO71,\"<>\")+SUMIF(AR71,\"<>\")+SUMIF(AI73,\"<>\")+SUMIF(AL73,\"<>\")+SUMIF(AO73,\"<>\")+SUMIF(AR73,\"<>\"),\" temps\")","v":"32 temps"},{"$f":"IF(R71=\"\",\"\",R71)","v":"COURSE"},null,{"$f":"IFERROR(VLOOKUP(AG71,TOUSLESPAS!$B$4:$C$207,2,FALSE),\"\")","v":4},{"$f":"IF(U71=\"\",\"\",U71)","v":"COURSE"},null,{"$f":"IFERROR(VLOOKUP(AJ71,TOUSLESPAS!$B$4:$C$207,2,FALSE),\"\")","v":4},{"$f":"IF(X71=\"\",\"\",X71)","v":"CHARLESTON"},null,{"$f":"IFERROR(VLOOKUP(AM71,TOUSLESPAS!$B$4:$C$207,2,FALSE),\"\")","v":8},{"$f":"IF(AA71=\"\",\"\",AA71)","v":"HELICO"},null,{"$f":"IFERROR(VLOOKUP(AP71,TOUSLESPAS!$B$4:$C$207,2,FALSE),\"\")","v":8},null,null,{"$f":"CONCATENATE(SUMIF(AX71,\"<>\")+SUMIF(BA71,\"<>\")+SUMIF(BD71,\"<>\")+SUMIF(BG71,\"<>\")+SUMIF(AX73,\"<>\")+SUMIF(BA73,\"<>\")+SUMIF(BD73,\"<>\")+SUMIF(BG73,\"<>\"),\" temps\")","v":"32 temps"},{"$f":"IF(AG71=\"\",\"\",AG71)","v":"COURSE"},null,{"$f":"IFERROR(VLOOKUP(AV71,TOUSLESPAS!$B$4:$C$207,2,FALSE),\"\")","v":4},{"$f":"IF(AJ71=\"\",\"\",AJ71)","v":"COURSE"},null,{"$f":"IFERROR(VLOOKUP(AY71,TOUSLESPAS!$B$4:$C$207,2,FALSE),\"\")","v":4},{"$f":"IF(AM71=\"\",\"\",AM71)","v":"CHARLESTON"},null,{"$f":"IFERROR(VLOOKUP(BB71,TOUSLESPAS!$B$4:$C$207,2,FALSE),\"\")","v":8},{"$f":"IF(AP71=\"\",\"\",AP71)","v":"HELICO"},null,{"$f":"IFERROR(VLOOKUP(BE71,TOUSLESPAS!$B$4:$C$207,2,FALSE),\"\")","v":8},null,null,{"$f":"CONCATENATE(SUMIF(BM71,\"<>\")+SUMIF(BP71,\"<>\")+SUMIF(BS71,\"<>\")+SUMIF(BV71,\"<>\")+SUMIF(BM73,\"<>\")+SUMIF(BP73,\"<>\")+SUMIF(BS73,\"<>\")+SUMIF(BV73,\"<>\"),\" temps\")","v":"32 temps"},{"$f":"IF(AV71=\"\",\"\",AV71)","v":"COURSE"},null,{"$f":"IFERROR(VLOOKUP(BK71,TOUSLESPAS!$B$4:$C$207,2,FALSE),\"\")","v":4},{"$f":"IF(AY71=\"\",\"\",AY71)","v":"COURSE"},null,{"$f":"IFERROR(VLOOKUP(BN71,TOUSLESPAS!$B$4:$C$207,2,FALSE),\"\")","v":4},{"$f":"IF(BB71=\"\",\"\",BB71)","v":"CHARLESTON"},null,{"$f":"IFERROR(VLOOKUP(BQ71,TOUSLESPAS!$B$4:$C$207,2,FALSE),\"\")","v":8},{"$f":"IF(BE71=\"\",\"\",BE71)","v":"HELICO"},null,{"$f":"IFERROR(VLOOKUP(BT71,TOUSLESPAS!$B$4:$C$207,2,FALSE),\"\")","v":8},null,null,{"$f":"CONCATENATE(SUMIF(CB71,\"<>\")+SUMIF(CE71,\"<>\")+SUMIF(CH71,\"<>\")+SUMIF(CK71,\"<>\")+SUMIF(CB73,\"<>\")+SUMIF(CE73,\"<>\")+SUMIF(CH73,\"<>\")+SUMIF(CK73,\"<>\"),\" temps\")","v":"32 temps"},{"$f":"IF(BK71=\"\",\"\",BK71)","v":"COURSE"},null,{"$f":"IFERROR(VLOOKUP(BZ71,TOUSLESPAS!$B$4:$C$207,2,FALSE),\"\")","v":4},{"$f":"IF(BN71=\"\",\"\",BN71)","v":"COURSE"},null,{"$f":"IFERROR(VLOOKUP(CC71,TOUSLESPAS!$B$4:$C$207,2,FALSE),\"\")","v":4},{"$f":"IF(BQ71=\"\",\"\",BQ71)","v":"CHARLESTON"},null,{"$f":"IFERROR(VLOOKUP(CF71,TOUSLESPAS!$B$4:$C$207,2,FALSE),\"\")","v":8},{"$f":"IF(BT71=\"\",\"\",BT71)","v":"HELICO"},null,{"$f":"IFERROR(VLOOKUP(CI71,TOUSLESPAS!$B$4:$C$207,2,FALSE),\"\")","v":8},null,null,{"$f":"CONCATENATE(SUMIF(CQ71,\"<>\")+SUMIF(CT71,\"<>\")+SUMIF(CW71,\"<>\")+SUMIF(CZ71,\"<>\")+SUMIF(CQ73,\"<>\")+SUMIF(CT73,\"<>\")+SUMIF(CW73,\"<>\")+SUMIF(CZ73,\"<>\"),\" temps\")","v":"32 temps"},{"$f":"IF(BZ71=\"\",\"\",BZ71)","v":"COURSE"},null,{"$f":"IFERROR(VLOOKUP(CO71,TOUSLESPAS!$B$4:$C$207,2,FALSE),\"\")","v":4},{"$f":"IF(CC71=\"\",\"\",CC71)","v":"COURSE"},null,{"$f":"IFERROR(VLOOKUP(CR71,TOUSLESPAS!$B$4:$C$207,2,FALSE),\"\")","v":4},{"$f":"IF(CF71=\"\",\"\",CF71)","v":"CHARLESTON"},null,{"$f":"IFERROR(VLOOKUP(CU71,TOUSLESPAS!$B$4:$C$207,2,FALSE),\"\")","v":8},{"$f":"IF(CI71=\"\",\"\",CI71)","v":"HELICO"},null,{"$f":"IFERROR(VLOOKUP(CX71,TOUSLESPAS!$B$4:$C$207,2,FALSE),\"\")","v":8},null,null,{"$f":"CONCATENATE(SUMIF(DF71,\"<>\")+SUMIF(DI71,\"<>\")+SUMIF(DL71,\"<>\")+SUMIF(DO71,\"<>\")+SUMIF(DF73,\"<>\")+SUMIF(DI73,\"<>\")+SUMIF(DL73,\"<>\")+SUMIF(DO73,\"<>\"),\" temps\")","v":"32 temps"},{"$f":"IF(CO71=\"\",\"\",CO71)","v":"COURSE"},null,{"$f":"IFERROR(VLOOKUP(DD71,TOUSLESPAS!$B$4:$C$207,2,FALSE),\"\")","v":4},{"$f":"IF(CR71=\"\",\"\",CR71)","v":"COURSE"},null,{"$f":"IFERROR(VLOOKUP(DG71,TOUSLESPAS!$B$4:$C$207,2,FALSE),\"\")","v":4},{"$f":"IF(CU71=\"\",\"\",CU71)","v":"CHARLESTON"},null,{"$f":"IFERROR(VLOOKUP(DJ71,TOUSLESPAS!$B$4:$C$207,2,FALSE),\"\")","v":8},{"$f":"IF(CX71=\"\",\"\",CX71)","v":"HELICO"},null,{"$f":"IFERROR(VLOOKUP(DM71,TOUSLESPAS!$B$4:$C$207,2,FALSE),\"\")","v":8},null,null,{"$f":"CONCATENATE(SUMIF(DU71,\"<>\")+SUMIF(DX71,\"<>\")+SUMIF(EA71,\"<>\")+SUMIF(ED71,\"<>\")+SUMIF(DU73,\"<>\")+SUMIF(DX73,\"<>\")+SUMIF(EA73,\"<>\")+SUMIF(ED73,\"<>\"),\" temps\")","v":"32 temps"},{"$f":"IF(DD71=\"\",\"\",DD71)","v":"COURSE"},null,{"$f":"IFERROR(VLOOKUP(DS71,TOUSLESPAS!$B$4:$C$207,2,FALSE),\"\")","v":4},{"$f":"IF(DG71=\"\",\"\",DG71)","v":"COURSE"},null,{"$f":"IFERROR(VLOOKUP(DV71,TOUSLESPAS!$B$4:$C$207,2,FALSE),\"\")","v":4},{"$f":"IF(DJ71=\"\",\"\",DJ71)","v":"CHARLESTON"},null,{"$f":"IFERROR(VLOOKUP(DY71,TOUSLESPAS!$B$4:$C$207,2,FALSE),\"\")","v":8},{"$f":"IF(DM71=\"\",\"\",DM71)","v":"HELICO"},null,{"$f":"IFERROR(VLOOKUP(EB71,TOUSLESPAS!$B$4:$C$207,2,FALSE),\"\")","v":8},null,null,{"$f":"CONCATENATE(SUMIF(EJ71,\"<>\")+SUMIF(EM71,\"<>\")+SUMIF(EP71,\"<>\")+SUMIF(ES71,\"<>\")+SUMIF(EJ73,\"<>\")+SUMIF(EM73,\"<>\")+SUMIF(EP73,\"<>\")+SUMIF(ES73,\"<>\"),\" temps\")","v":"32 temps"},{"$f":"IF(DS71=\"\",\"\",DS71)","v":"COURSE"},null,{"$f":"IFERROR(VLOOKUP(EH71,TOUSLESPAS!$B$4:$C$207,2,FALSE),\"\")","v":4},{"$f":"IF(DV71=\"\",\"\",DV71)","v":"COURSE"},null,{"$f":"IFERROR(VLOOKUP(EK71,TOUSLESPAS!$B$4:$C$207,2,FALSE),\"\")","v":4},{"$f":"IF(DY71=\"\",\"\",DY71)","v":"CHARLESTON"},null,{"$f":"IFERROR(VLOOKUP(EN71,TOUSLESPAS!$B$4:$C$207,2,FALSE),\"\")","v":8},{"$f":"IF(EB71=\"\",\"\",EB71)","v":"HELICO"},null,{"$f":"IFERROR(VLOOKUP(EQ71,TOUSLESPAS!$B$4:$C$207,2,FALSE),\"\")","v":8}]
[]
[null,null,"SQUAT",null,{"$f":"IFERROR(VLOOKUP(C73,TOUSLESPAS!$B$4:$C$207,2,FALSE),\"\")","v":4},"SQUAT",null,{"$f":"IFERROR(VLOOKUP(F73,TOUSLESPAS!$B$4:$C$207,2,FALSE),\"\")","v":4},null,null,{"$f":"IFERROR(VLOOKUP(I73,TOUSLESPAS!$B$4:$C$207,2,FALSE),\"\")","v":""},null,null,{"$f":"IFERROR(VLOOKUP(L73,TOUSLESPAS!$B$4:$C$207,2,FALSE),\"\")","v":""},null,null,null,{"$f":"IF(C73=\"\",\"\",C73)","v":"SQUAT"},null,{"$f":"IFERROR(VLOOKUP(R73,TOUSLESPAS!$B$4:$C$207,2,FALSE),\"\")","v":4},{"$f":"IF(F73=\"\",\"\",F73)","v":"SQUAT"},null,{"$f":"IFERROR(VLOOKUP(U73,TOUSLESPAS!$B$4:$C$207,2,FALSE),\"\")","v":4},{"$f":"IF(I73=\"\",\"\",I73)","v":""},null,{"$f":"IFERROR(VLOOKUP(X73,TOUSLESPAS!$B$4:$C$207,2,FALSE),\"\")","v":""},{"$f":"IF(L73=\"\",\"\",L73)","v":""},null,{"$f":"IFERROR(VLOOKUP(AA73,TOUSLESPAS!$B$4:$C$207,2,FALSE),\"\")","v":""},null,null,null,{"$f":"IF(R73=\"\",\"\",R73)","v":"SQUAT"},null,{"$f":"IFERROR(VLOOKUP(AG73,TOUSLESPAS!$B$4:$C$207,2,FALSE),\"\")","v":4},{"$f":"IF(U73=\"\",\"\",U73)","v":"SQUAT"},null,{"$f":"IFERROR(VLOOKUP(AJ73,TOUSLESPAS!$B$4:$C$207,2,FALSE),\"\")","v":4},{"$f":"IF(X73=\"\",\"\",X73)","v":""},null,{"$f":"IFERROR(VLOOKUP(AM73,TOUSLESPAS!$B$4:$C$207,2,FALSE),\"\")","v":""},{"$f":"IF(AA73=\"\",\"\",AA73)","v":""},null,{"$f":"IFERROR(VLOOKUP(AP73,TOUSLESPAS!$B$4:$C$207,2,FALSE),\"\")","v":""},null,null,null,{"$f":"IF(AG73=\"\",\"\",AG73)","v":"SQUAT"},null,{"$f":"IFERROR(VLOOKUP(AV73,TOUSLESPAS!$B$4:$C$207,2,FALSE),\"\")","v":4},{"$f":"IF(AJ73=\"\",\"\",AJ73)","v":"SQUAT"},null,{"$f":"IFERROR(VLOOKUP(AY73,TOUSLESPAS!$B$4:$C$207,2,FALSE),\"\")","v":4},{"$f":"IF(AM73=\"\",\"\",AM73)","v":""},null,{"$f":"IFERROR(VLOOKUP(BB73,TOUSLESPAS!$B$4:$C$207,2,FALSE),\"\")","v":""},{"$f":"IF(AP73=\"\",\"\",AP73)","v":""},null,{"$f":"IFERROR(VLOOKUP(BE73,TOUSLESPAS!$B$4:$C$207,2,FALSE),\"\")","v":""},null,null,null,{"$f":"IF(AV73=\"\",\"\",AV73)","v":"SQUAT"},null,{"$f":"IFERROR(VLOOKUP(BK73,TOUSLESPAS!$B$4:$C$207,2,FALSE),\"\")","v":4},{"$f":"IF(AY73=\"\",\"\",AY73)","v":"SQUAT"},null,{"$f":"IFERROR(VLOOKUP(BN73,TOUSLESPAS!$B$4:$C$207,2,FALSE),\"\")","v":4},{"$f":"IF(BB73=\"\",\"\",BB73)","v":""},null,{"$f":"IFERROR(VLOOKUP(BQ73,TOUSLESPAS!$B$4:$C$207,2,FALSE),\"\")","v":""},{"$f":"IF(BE73=\"\",\"\",BE73)","v":""},null,{"$f":"IFERROR(VLOOKUP(BT73,TOUSLESPAS!$B$4:$C$207,2,FALSE),\"\")","v":""},null,null,null,{"$f":"IF(BK73=\"\",\"\",BK73)","v":"SQUAT"},null,{"$f":"IFERROR(VLOOKUP(BZ73,TOUSLESPAS!$B$4:$C$207,2,FALSE),\"\")","v":4},{"$f":"IF(BN73=\"\",\"\",BN73)","v":"SQUAT"},null,{"$f":"IFERROR(VLOOKUP(CC73,TOUSLESPAS!$B$4:$C$207,2,FALSE),\"\")","v":4},{"$f":"IF(BQ73=\"\",\"\",BQ73)","v":""},null,{"$f":"IFERROR(VLOOKUP(CF73,TOUSLESPAS!$B$4:$C$207,2,FALSE),\"\")","v":""},{"$f":"IF(BT73=\"\",\"\",BT73)","v":""},null,{"$f":"IFERROR(VLOOKUP(CI73,TOUSLESPAS!$B$4:$C$207,2,FALSE),\"\")","v":""},null,null,null,{"$f":"IF(BZ73=\"\",\"\",BZ73)","v":"SQUAT"},null,{"$f":"IFERROR(VLOOKUP(CO73,TOUSLESPAS!$B$4:$C$207,2,FALSE),\"\")","v":4},{"$f":"IF(CC73=\"\",\"\",CC73)","v":"SQUAT"},null,{"$f":"IFERROR(VLOOKUP(CR73,TOUSLESPAS!$B$4:$C$207,2,FALSE),\"\")","v":4},{"$f":"IF(CF73=\"\",\"\",CF73)","v":""},null,{"$f":"IFERROR(VLOOKUP(CU73,TOUSLESPAS!$B$4:$C$207,2,FALSE),\"\")","v":""},{"$f":"IF(CI73=\"\",\"\",CI73)","v":""},null,{"$f":"IFERROR(VLOOKUP(CX73,TOUSLESPAS!$B$4:$C$207,2,FALSE),\"\")","v":""},null,null,null,{"$f":"IF(CO73=\"\",\"\",CO73)","v":"SQUAT"},null,{"$f":"IFERROR(VLOOKUP(DD73,TOUSLESPAS!$B$4:$C$207,2,FALSE),\"\")","v":4},{"$f":"IF(CR73=\"\",\"\",CR73)","v":"SQUAT"},null,{"$f":"IFERROR(VLOOKUP(DG73,TOUSLESPAS!$B$4:$C$207,2,FALSE),\"\")","v":4},{"$f":"IF(CU73=\"\",\"\",CU73)","v":""},null,{"$f":"IFERROR(VLOOKUP(DJ73,TOUSLESPAS!$B$4:$C$207,2,FALSE),\"\")","v":""},{"$f":"IF(CX73=\"\",\"\",CX73)","v":""},null,{"$f":"IFERROR(VLOOKUP(DM73,TOUSLESPAS!$B$4:$C$207,2,FALSE),\"\")","v":""},null,null,null,{"$f":"IF(DD73=\"\",\"\",DD73)","v":"SQUAT"},null,{"$f":"IFERROR(VLOOKUP(DS73,TOUSLESPAS!$B$4:$C$207,2,FALSE),\"\")","v":4},{"$f":"IF(DG73=\"\",\"\",DG73)","v":"SQUAT"},null,{"$f":"IFERROR(VLOOKUP(DV73,TOUSLESPAS!$B$4:$C$207,2,FALSE),\"\")","v":4},{"$f":"IF(DJ73=\"\",\"\",DJ73)","v":""},null,{"$f":"IFERROR(VLOOKUP(DY73,TOUSLESPAS!$B$4:$C$207,2,FALSE),\"\")","v":""},{"$f":"IF(DM73=\"\",\"\",DM73)","v":""},null,{"$f":"IFERROR(VLOOKUP(EB73,TOUSLESPAS!$B$4:$C$207,2,FALSE),\"\")","v":""},null,null,null,{"$f":"IF(DS73=\"\",\"\",DS73)","v":"SQUAT"},null,{"$f":"IFERROR(VLOOKUP(EH73,TOUSLESPAS!$B$4:$C$207,2,FALSE),\"\")","v":4},{"$f":"IF(DV73=\"\",\"\",DV73)","v":"SQUAT"},null,{"$f":"IFERROR(VLOOKUP(EK73,TOUSLESPAS!$B$4:$C$207,2,FALSE),\"\")","v":4},{"$f":"IF(DY73=\"\",\"\",DY73)","v":""},null,{"$f":"IFERROR(VLOOKUP(EN73,TOUSLESPAS!$B$4:$C$207,2,FALSE),\"\")","v":""},{"$f":"IF(EB73=\"\",\"\",EB73)","v":""},null,{"$f":"IFERROR(VLOOKUP(EQ73,TOUSLESPAS!$B$4:$C$207,2,FALSE),\"\")","v":""}]
[]
["BLOC 3",{"$f":"CONCATENATE(SUMIF(E75,\"<>\")+SUMIF(H75,\"<>\")+SUMIF(K75,\"<>\")+SUMIF(N75,\"<>\")+SUMIF(E77,\"<>\")+SUMIF(H77,\"<>\")+SUMIF(K77,\"<>\")+SUMIF(N77,\"<>\"),\" temps\")","v":"0 temps"},null,null,{"$f":"IFERROR(VLOOKUP(C75,TOUSLESPAS!$B$4:$C$207,2,FALSE),\"\")","v":""},null,null,{"$f":"IFERROR(VLOOKUP(F75,TOUSLESPAS!$B$4:$C$207,2,FALSE),\"\")","v":""},null,null,{"$f":"IFERROR(VLOOKUP(I75,TOUSLESPAS!$B$4:$C$207,2,FALSE),\"\")","v":""},null,null,{"$f":"IFERROR(VLOOKUP(L75,TOUSLESPAS!$B$4:$C$207,2,FALSE),\"\")","v":""},null,null,{"$f":"CONCATENATE(SUMIF(T75,\"<>\")+SUMIF(W75,\"<>\")+SUMIF(Z75,\"<>\")+SUMIF(AC75,\"<>\")+SUMIF(T77,\"<>\")+SUMIF(W77,\"<>\")+SUMIF(Z77,\"<>\")+SUMIF(AC77,\"<>\"),\" temps\")","v":"0 temps"},{"$f":"IF(C75=\"\",\"\",C75)","v":""},null,{"$f":"IFERROR(VLOOKUP(R75,TOUSLESPAS!$B$4:$C$207,2,FALSE),\"\")","v":""},{"$f":"IF(F75=\"\",\"\",F75)","v":""},null,{"$f":"IFERROR(VLOOKUP(U75,TOUSLESPAS!$B$4:$C$207,2,FALSE),\"\")","v":""},{"$f":"IF(I75=\"\",\"\",I75)","v":""},null,{"$f":"IFERROR(VLOOKUP(X75,TOUSLESPAS!$B$4:$C$207,2,FALSE),\"\")","v":""},{"$f":"IF(L75=\"\",\"\",L75)","v":""},null,{"$f":"IFERROR(VLOOKUP(AA75,TOUSLESPAS!$B$4:$C$207,2,FALSE),\"\")","v":""},null,null,{"$f":"CONCATENATE(SUMIF(AI75,\"<>\")+SUMIF(AL75,\"<>\")+SUMIF(AO75,\"<>\")+SUMIF(AR75,\"<>\")+SUMIF(AI77,\"<>\")+SUMIF(AL77,\"<>\")+SUMIF(AO77,\"<>\")+SUMIF(AR77,\"<>\"),\" temps\")","v":"0 temps"},{"$f":"IF(R75=\"\",\"\",R75)","v":""},null,{"$f":"IFERROR(VLOOKUP(AG75,TOUSLESPAS!$B$4:$C$207,2,FALSE),\"\")","v":""},{"$f":"IF(U75=\"\",\"\",U75)","v":""},null,{"$f":"IFERROR(VLOOKUP(AJ75,TOUSLESPAS!$B$4:$C$207,2,FALSE),\"\")","v":""},{"$f":"IF(X75=\"\",\"\",X75)","v":""},null,{"$f":"IFERROR(VLOOKUP(AM75,TOUSLESPAS!$B$4:$C$207,2,FALSE),\"\")","v":""},{"$f":"IF(AA75=\"\",\"\",AA75)","v":""},null,{"$f":"IFERROR(VLOOKUP(AP75,TOUSLESPAS!$B$4:$C$207,2,FALSE),\"\")","v":""},null,null,{"$f":"CONCATENATE(SUMIF(AX75,\"<>\")+SUMIF(BA75,\"<>\")+SUMIF(BD75,\"<>\")+SUMIF(BG75,\"<>\")+SUMIF(AX77,\"<>\")+SUMIF(BA77,\"<>\")+SUMIF(BD77,\"<>\")+SUMIF(BG77,\"<>\"),\" temps\")","v":"0 temps"},{"$f":"IF(AG75=\"\",\"\",AG75)","v":""},null,{"$f":"IFERROR(VLOOKUP(AV75,TOUSLESPAS!$B$4:$C$207,2,FALSE),\"\")","v":""},{"$f":"IF(AJ75=\"\",\"\",AJ75)","v":""},null,{"$f":"IFERROR(VLOOKUP(AY75,TOUSLESPAS!$B$4:$C$207,2,FALSE),\"\")","v":""},{"$f":"IF(AM75=\"\",\"\",AM75)","v":""},null,{"$f":"IFERROR(VLOOKUP(BB75,TOUSLESPAS!$B$4:$C$207,2,FALSE),\"\")","v":""},{"$f":"IF(AP75=\"\",\"\",AP75)","v":""},null,{"$f":"IFERROR(VLOOKUP(BE75,TOUSLESPAS!$B$4:$C$207,2,FALSE),\"\")","v":""},null,null,{"$f":"CONCATENATE(SUMIF(BM75,\"<>\")+SUMIF(BP75,\"<>\")+SUMIF(BS75,\"<>\")+SUMIF(BV75,\"<>\")+SUMIF(BM77,\"<>\")+SUMIF(BP77,\"<>\")+SUMIF(BS77,\"<>\")+SUMIF(BV77,\"<>\"),\" temps\")","v":"0 temps"},{"$f":"IF(AV75=\"\",\"\",AV75)","v":""},null,{"$f":"IFERROR(VLOOKUP(BK75,TOUSLESPAS!$B$4:$C$207,2,FALSE),\"\")","v":""},{"$f":"IF(AY75=\"\",\"\",AY75)","v":""},null,{"$f":"IFERROR(VLOOKUP(BN75,TOUSLESPAS!$B$4:$C$207,2,FALSE),\"\")","v":""},{"$f":"IF(BB75=\"\",\"\",BB75)","v":""},null,{"$f":"IFERROR(VLOOKUP(BQ75,TOUSLESPAS!$B$4:$C$207,2,FALSE),\"\")","v":""},{"$f":"IF(BE75=\"\",\"\",BE75)","v":""},null,{"$f":"IFERROR(VLOOKUP(BT75,TOUSLESPAS!$B$4:$C$207,2,FALSE),\"\")","v":""},null,null,{"$f":"CONCATENATE(SUMIF(CB75,\"<>\")+SUMIF(CE75,\"<>\")+SUMIF(CH75,\"<>\")+SUMIF(CK75,\"<>\")+SUMIF(CB77,\"<>\")+SUMIF(CE77,\"<>\")+SUMIF(CH77,\"<>\")+SUMIF(CK77,\"<>\"),\" temps\")","v":"0 temps"},{"$f":"IF(BK75=\"\",\"\",BK75)","v":""},null,{"$f":"IFERROR(VLOOKUP(BZ75,TOUSLESPAS!$B$4:$C$207,2,FALSE),\"\")","v":""},{"$f":"IF(BN75=\"\",\"\",BN75)","v":""},null,{"$f":"IFERROR(VLOOKUP(CC75,TOUSLESPAS!$B$4:$C$207,2,FALSE),\"\")","v":""},{"$f":"IF(BQ75=\"\",\"\",BQ75)","v":""},null,{"$f":"IFERROR(VLOOKUP(CF75,TOUSLESPAS!$B$4:$C$207,2,FALSE),\"\")","v":""},{"$f":"IF(BT75=\"\",\"\",BT75)","v":""},null,{"$f":"IFERROR(VLOOKUP(CI75,TOUSLESPAS!$B$4:$C$207,2,FALSE),\"\")","v":""},null,null,{"$f":"CONCATENATE(SUMIF(CQ75,\"<>\")+SUMIF(CT75,\"<>\")+SUMIF(CW75,\"<>\")+SUMIF(CZ75,\"<>\")+SUMIF(CQ77,\"<>\")+SUMIF(CT77,\"<>\")+SUMIF(CW77,\"<>\")+SUMIF(CZ77,\"<>\"),\" temps\")","v":"0 temps"},{"$f":"IF(BZ75=\"\",\"\",BZ75)","v":""},null,{"$f":"IFERROR(VLOOKUP(CO75,TOUSLESPAS!$B$4:$C$207,2,FALSE),\"\")","v":""},{"$f":"IF(CC75=\"\",\"\",CC75)","v":""},null,{"$f":"IFERROR(VLOOKUP(CR75,TOUSLESPAS!$B$4:$C$207,2,FALSE),\"\")","v":""},{"$f":"IF(CF75=\"\",\"\",CF75)","v":""},null,{"$f":"IFERROR(VLOOKUP(CU75,TOUSLESPAS!$B$4:$C$207,2,FALSE),\"\")","v":""},{"$f":"IF(CI75=\"\",\"\",CI75)","v":""},null,{"$f":"IFERROR(VLOOKUP(CX75,TOUSLESPAS!$B$4:$C$207,2,FALSE),\"\")","v":""},null,null,{"$f":"CONCATENATE(SUMIF(DF75,\"<>\")+SUMIF(DI75,\"<>\")+SUMIF(DL75,\"<>\")+SUMIF(DO75,\"<>\")+SUMIF(DF77,\"<>\")+SUMIF(DI77,\"<>\")+SUMIF(DL77,\"<>\")+SUMIF(DO77,\"<>\"),\" temps\")","v":"0 temps"},{"$f":"IF(CO75=\"\",\"\",CO75)","v":""},null,{"$f":"IFERROR(VLOOKUP(DD75,TOUSLESPAS!$B$4:$C$207,2,FALSE),\"\")","v":""},{"$f":"IF(CR75=\"\",\"\",CR75)","v":""},null,{"$f":"IFERROR(VLOOKUP(DG75,TOUSLESPAS!$B$4:$C$207,2,FALSE),\"\")","v":""},{"$f":"IF(CU75=\"\",\"\",CU75)","v":""},null,{"$f":"IFERROR(VLOOKUP(DJ75,TOUSLESPAS!$B$4:$C$207,2,FALSE),\"\")","v":""},{"$f":"IF(CX75=\"\",\"\",CX75)","v":""},null,{"$f":"IFERROR(VLOOKUP(DM75,TOUSLESPAS!$B$4:$C$207,2,FALSE),\"\")","v":""},null,null,{"$f":"CONCATENATE(SUMIF(DU75,\"<>\")+SUMIF(DX75,\"<>\")+SUMIF(EA75,\"<>\")+SUMIF(ED75,\"<>\")+SUMIF(DU77,\"<>\")+SUMIF(DX77,\"<>\")+SUMIF(EA77,\"<>\")+SUMIF(ED77,\"<>\"),\" temps\")","v":"0 temps"},{"$f":"IF(DD75=\"\",\"\",DD75)","v":""},null,{"$f":"IFERROR(VLOOKUP(DS75,TOUSLESPAS!$B$4:$C$207,2,FALSE),\"\")","v":""},{"$f":"IF(DG75=\"\",\"\",DG75)","v":""},null,{"$f":"IFERROR(VLOOKUP(DV75,TOUSLESPAS!$B$4:$C$207,2,FALSE),\"\")","v":""},{"$f":"IF(DJ75=\"\",\"\",DJ75)","v":""},null,{"$f":"IFERROR(VLOOKUP(DY75,TOUSLESPAS!$B$4:$C$207,2,FALSE),\"\")","v":""},{"$f":"IF(DM75=\"\",\"\",DM75)","v":""},null,{"$f":"IFERROR(VLOOKUP(EB75,TOUSLESPAS!$B$4:$C$207,2,FALSE),\"\")","v":""},null,null,{"$f":"CONCATENATE(SUMIF(EJ75,\"<>\")+SUMIF(EM75,\"<>\")+SUMIF(EP75,\"<>\")+SUMIF(ES75,\"<>\")+SUMIF(EJ77,\"<>\")+SUMIF(EM77,\"<>\")+SUMIF(EP77,\"<>\")+SUMIF(ES77,\"<>\"),\" temps\")","v":"0 temps"},{"$f":"IF(DS75=\"\",\"\",DS75)","v":""},null,{"$f":"IFERROR(VLOOKUP(EH75,TOUSLESPAS!$B$4:$C$207,2,FALSE),\"\")","v":""},{"$f":"IF(DV75=\"\",\"\",DV75)","v":""},null,{"$f":"IFERROR(VLOOKUP(EK75,TOUSLESPAS!$B$4:$C$207,2,FALSE),\"\")","v":""},{"$f":"IF(DY75=\"\",\"\",DY75)","v":""},null,{"$f":"IFERROR(VLOOKUP(EN75,TOUSLESPAS!$B$4:$C$207,2,FALSE),\"\")","v":""},{"$f":"IF(EB75=\"\",\"\",EB75)","v":""},null,{"$f":"IFERROR(VLOOKUP(EQ75,TOUSLESPAS!$B$4:$C$207,2,FALSE),\"\")","v":""}]
[]
[null,null,null,null,{"$f":"IFERROR(VLOOKUP(C77,TOUSLESPAS!$B$4:$C$207,2,FALSE),\"\")","v":""},null,null,{"$f":"IFERROR(VLOOKUP(F77,TOUSLESPAS!$B$4:$C$207,2,FALSE),\"\")","v":""},null,null,{"$f":"IFERROR(VLOOKUP(I77,TOUSLESPAS!$B$4:$C$207,2,FALSE),\"\")","v":""},null,null,{"$f":"IFERROR(VLOOKUP(L77,TOUSLESPAS!$B$4:$C$207,2,FALSE),\"\")","v":""},null,null,null,{"$f":"IF(C77=\"\",\"\",C77)","v":""},null,{"$f":"IFERROR(VLOOKUP(R77,TOUSLESPAS!$B$4:$C$207,2,FALSE),\"\")","v":""},{"$f":"IF(F77=\"\",\"\",F77)","v":""},null,{"$f":"IFERROR(VLOOKUP(U77,TOUSLESPAS!$B$4:$C$207,2,FALSE),\"\")","v":""},{"$f":"IF(I77=\"\",\"\",I77)","v":""},null,{"$f":"IFERROR(VLOOKUP(X77,TOUSLESPAS!$B$4:$C$207,2,FALSE),\"\")","v":""},{"$f":"IF(L77=\"\",\"\",L77)","v":""},null,{"$f":"IFERROR(VLOOKUP(AA77,TOUSLESPAS!$B$4:$C$207,2,FALSE),\"\")","v":""},null,null,null,{"$f":"IF(R77=\"\",\"\",R77)","v":""},null,{"$f":"IFERROR(VLOOKUP(AG77,TOUSLESPAS!$B$4:$C$207,2,FALSE),\"\")","v":""},{"$f":"IF(U77=\"\",\"\",U77)","v":""},null,{"$f":"IFERROR(VLOOKUP(AJ77,TOUSLESPAS!$B$4:$C$207,2,FALSE),\"\")","v":""},{"$f":"IF(X77=\"\",\"\",X77)","v":""},null,{"$f":"IFERROR(VLOOKUP(AM77,TOUSLESPAS!$B$4:$C$207,2,FALSE),\"\")","v":""},{"$f":"IF(AA77=\"\",\"\",AA77)","v":""},null,{"$f":"IFERROR(VLOOKUP(AP77,TOUSLESPAS!$B$4:$C$207,2,FALSE),\"\")","v":""},null,null,null,{"$f":"IF(AG77=\"\",\"\",AG77)","v":""},null,{"$f":"IFERROR(VLOOKUP(AV77,TOUSLESPAS!$B$4:$C$207,2,FALSE),\"\")","v":""},{"$f":"IF(AJ77=\"\",\"\",AJ77)","v":""},null,{"$f":"IFERROR(VLOOKUP(AY77,TOUSLESPAS!$B$4:$C$207,2,FALSE),\"\")","v":""},{"$f":"IF(AM77=\"\",\"\",AM77)","v":""},null,{"$f":"IFERROR(VLOOKUP(BB77,TOUSLESPAS!$B$4:$C$207,2,FALSE),\"\")","v":""},{"$f":"IF(AP77=\"\",\"\",AP77)","v":""},null,{"$f":"IFERROR(VLOOKUP(BE77,TOUSLESPAS!$B$4:$C$207,2,FALSE),\"\")","v":""},null,null,null,{"$f":"IF(AV77=\"\",\"\",AV77)","v":""},null,{"$f":"IFERROR(VLOOKUP(BK77,TOUSLESPAS!$B$4:$C$207,2,FALSE),\"\")","v":""},{"$f":"IF(AY77=\"\",\"\",AY77)","v":""},null,{"$f":"IFERROR(VLOOKUP(BN77,TOUSLESPAS!$B$4:$C$207,2,FALSE),\"\")","v":""},{"$f":"IF(BB77=\"\",\"\",BB77)","v":""},null,{"$f":"IFERROR(VLOOKUP(BQ77,TOUSLESPAS!$B$4:$C$207,2,FALSE),\"\")","v":""},{"$f":"IF(BE77=\"\",\"\",BE77)","v":""},null,{"$f":"IFERROR(VLOOKUP(BT77,TOUSLESPAS!$B$4:$C$207,2,FALSE),\"\")","v":""},null,null,null,{"$f":"IF(BK77=\"\",\"\",BK77)","v":""},null,{"$f":"IFERROR(VLOOKUP(BZ77,TOUSLESPAS!$B$4:$C$207,2,FALSE),\"\")","v":""},{"$f":"IF(BN77=\"\",\"\",BN77)","v":""},null,{"$f":"IFERROR(VLOOKUP(CC77,TOUSLESPAS!$B$4:$C$207,2,FALSE),\"\")","v":""},{"$f":"IF(BQ77=\"\",\"\",BQ77)","v":""},null,{"$f":"IFERROR(VLOOKUP(CF77,TOUSLESPAS!$B$4:$C$207,2,FALSE),\"\")","v":""},{"$f":"IF(BT77=\"\",\"\",BT77)","v":""},null,{"$f":"IFERROR(VLOOKUP(CI77,TOUSLESPAS!$B$4:$C$207,2,FALSE),\"\")","v":""},null,null,null,{"$f":"IF(BZ77=\"\",\"\",BZ77)","v":""},null,{"$f":"IFERROR(VLOOKUP(CO77,TOUSLESPAS!$B$4:$C$207,2,FALSE),\"\")","v":""},{"$f":"IF(CC77=\"\",\"\",CC77)","v":""},null,{"$f":"IFERROR(VLOOKUP(CR77,TOUSLESPAS!$B$4:$C$207,2,FALSE),\"\")","v":""},{"$f":"IF(CF77=\"\",\"\",CF77)","v":""},null,{"$f":"IFERROR(VLOOKUP(CU77,TOUSLESPAS!$B$4:$C$207,2,FALSE),\"\")","v":""},{"$f":"IF(CI77=\"\",\"\",CI77)","v":""},null,{"$f":"IFERROR(VLOOKUP(CX77,TOUSLESPAS!$B$4:$C$207,2,FALSE),\"\")","v":""},null,null,null,{"$f":"IF(CO77=\"\",\"\",CO77)","v":""},null,{"$f":"IFERROR(VLOOKUP(DD77,TOUSLESPAS!$B$4:$C$207,2,FALSE),\"\")","v":""},{"$f":"IF(CR77=\"\",\"\",CR77)","v":""},null,{"$f":"IFERROR(VLOOKUP(DG77,TOUSLESPAS!$B$4:$C$207,2,FALSE),\"\")","v":""},{"$f":"IF(CU77=\"\",\"\",CU77)","v":""},null,{"$f":"IFERROR(VLOOKUP(DJ77,TOUSLESPAS!$B$4:$C$207,2,FALSE),\"\")","v":""},{"$f":"IF(CX77=\"\",\"\",CX77)","v":""},null,{"$f":"IFERROR(VLOOKUP(DM77,TOUSLESPAS!$B$4:$C$207,2,FALSE),\"\")","v":""},null,null,null,{"$f":"IF(DD77=\"\",\"\",DD77)","v":""},null,{"$f":"IFERROR(VLOOKUP(DS77,TOUSLESPAS!$B$4:$C$207,2,FALSE),\"\")","v":""},{"$f":"IF(DG77=\"\",\"\",DG77)","v":""},null,{"$f":"IFERROR(VLOOKUP(DV77,TOUSLESPAS!$B$4:$C$207,2,FALSE),\"\")","v":""},{"$f":"IF(DJ77=\"\",\"\",DJ77)","v":""},null,{"$f":"IFERROR(VLOOKUP(DY77,TOUSLESPAS!$B$4:$C$207,2,FALSE),\"\")","v":""},{"$f":"IF(DM77=\"\",\"\",DM77)","v":""},null,{"$f":"IFERROR(VLOOKUP(EB77,TOUSLESPAS!$B$4:$C$207,2,FALSE),\"\")","v":""},null,null,null,{"$f":"IF(DS77=\"\",\"\",DS77)","v":""},null,{"$f":"IFERROR(VLOOKUP(EH77,TOUSLESPAS!$B$4:$C$207,2,FALSE),\"\")","v":""},{"$f":"IF(DV77=\"\",\"\",DV77)","v":""},null,{"$f":"IFERROR(VLOOKUP(EK77,TOUSLESPAS!$B$4:$C$207,2,FALSE),\"\")","v":""},{"$f":"IF(DY77=\"\",\"\",DY77)","v":""},null,{"$f":"IFERROR(VLOOKUP(EN77,TOUSLESPAS!$B$4:$C$207,2,FALSE),\"\")","v":""},{"$f":"IF(EB77=\"\",\"\",EB77)","v":""},null,{"$f":"IFERROR(VLOOKUP(EQ77,TOUSLESPAS!$B$4:$C$207,2,FALSE),\"\")","v":""}]
[]
["BLOC 4",{"$f":"CONCATENATE(SUMIF(E79,\"<>\")+SUMIF(H79,\"<>\")+SUMIF(K79,\"<>\")+SUMIF(N79,\"<>\")+SUMIF(E81,\"<>\")+SUMIF(H81,\"<>\")+SUMIF(K81,\"<>\")+SUMIF(N81,\"<>\"),\" temps\")","v":"0 temps"},null,null,{"$f":"IFERROR(VLOOKUP(C79,TOUSLESPAS!$B$4:$C$207,2,FALSE),\"\")","v":""},null,null,{"$f":"IFERROR(VLOOKUP(F79,TOUSLESPAS!$B$4:$C$207,2,FALSE),\"\")","v":""},null,null,{"$f":"IFERROR(VLOOKUP(I79,TOUSLESPAS!$B$4:$C$207,2,FALSE),\"\")","v":""},null,null,{"$f":"IFERROR(VLOOKUP(L79,TOUSLESPAS!$B$4:$C$207,2,FALSE),\"\")","v":""},null,null,{"$f":"CONCATENATE(SUMIF(T79,\"<>\")+SUMIF(W79,\"<>\")+SUMIF(Z79,\"<>\")+SUMIF(AC79,\"<>\")+SUMIF(T81,\"<>\")+SUMIF(W81,\"<>\")+SUMIF(Z81,\"<>\")+SUMIF(AC81,\"<>\"),\" temps\")","v":"0 temps"},{"$f":"IF(C79=\"\",\"\",C79)","v":""},null,{"$f":"IFERROR(VLOOKUP(R79,TOUSLESPAS!$B$4:$C$207,2,FALSE),\"\")","v":""},{"$f":"IF(F79=\"\",\"\",F79)","v":""},null,{"$f":"IFERROR(VLOOKUP(U79,TOUSLESPAS!$B$4:$C$207,2,FALSE),\"\")","v":""},{"$f":"IF(I79=\"\",\"\",I79)","v":""},null,{"$f":"IFERROR(VLOOKUP(X79,TOUSLESPAS!$B$4:$C$207,2,FALSE),\"\")","v":""},{"$f":"IF(L79=\"\",\"\",L79)","v":""},null,{"$f":"IFERROR(VLOOKUP(AA79,TOUSLESPAS!$B$4:$C$207,2,FALSE),\"\")","v":""},null,null,{"$f":"CONCATENATE(SUMIF(AI79,\"<>\")+SUMIF(AL79,\"<>\")+SUMIF(AO79,\"<>\")+SUMIF(AR79,\"<>\")+SUMIF(AI81,\"<>\")+SUMIF(AL81,\"<>\")+SUMIF(AO81,\"<>\")+SUMIF(AR81,\"<>\"),\" temps\")","v":"0 temps"},{"$f":"IF(R79=\"\",\"\",R79)","v":""},null,{"$f":"IFERROR(VLOOKUP(AG79,TOUSLESPAS!$B$4:$C$207,2,FALSE),\"\")","v":""},{"$f":"IF(U79=\"\",\"\",U79)","v":""},null,{"$f":"IFERROR(VLOOKUP(AJ79,TOUSLESPAS!$B$4:$C$207,2,FALSE),\"\")","v":""},{"$f":"IF(X79=\"\",\"\",X79)","v":""},null,{"$f":"IFERROR(VLOOKUP(AM79,TOUSLESPAS!$B$4:$C$207,2,FALSE),\"\")","v":""},{"$f":"IF(AA79=\"\",\"\",AA79)","v":""},null,{"$f":"IFERROR(VLOOKUP(AP79,TOUSLESPAS!$B$4:$C$207,2,FALSE),\"\")","v":""},null,null,{"$f":"CONCATENATE(SUMIF(AX79,\"<>\")+SUMIF(BA79,\"<>\")+SUMIF(BD79,\"<>\")+SUMIF(BG79,\"<>\")+SUMIF(AX81,\"<>\")+SUMIF(BA81,\"<>\")+SUMIF(BD81,\"<>\")+SUMIF(BG81,\"<>\"),\" temps\")","v":"0 temps"},{"$f":"IF(AG79=\"\",\"\",AG79)","v":""},null,{"$f":"IFERROR(VLOOKUP(AV79,TOUSLESPAS!$B$4:$C$207,2,FALSE),\"\")","v":""},{"$f":"IF(AJ79=\"\",\"\",AJ79)","v":""},null,{"$f":"IFERROR(VLOOKUP(AY79,TOUSLESPAS!$B$4:$C$207,2,FALSE),\"\")","v":""},{"$f":"IF(AM79=\"\",\"\",AM79)","v":""},null,{"$f":"IFERROR(VLOOKUP(BB79,TOUSLESPAS!$B$4:$C$207,2,FALSE),\"\")","v":""},{"$f":"IF(AP79=\"\",\"\",AP79)","v":""},null,{"$f":"IFERROR(VLOOKUP(BE79,TOUSLESPAS!$B$4:$C$207,2,FALSE),\"\")","v":""},null,null,{"$f":"CONCATENATE(SUMIF(BM79,\"<>\")+SUMIF(BP79,\"<>\")+SUMIF(BS79,\"<>\")+SUMIF(BV79,\"<>\")+SUMIF(BM81,\"<>\")+SUMIF(BP81,\"<>\")+SUMIF(BS81,\"<>\")+SUMIF(BV81,\"<>\"),\" temps\")","v":"0 temps"},{"$f":"IF(AV79=\"\",\"\",AV79)","v":""},null,{"$f":"IFERROR(VLOOKUP(BK79,TOUSLESPAS!$B$4:$C$207,2,FALSE),\"\")","v":""},{"$f":"IF(AY79=\"\",\"\",AY79)","v":""},null,{"$f":"IFERROR(VLOOKUP(BN79,TOUSLESPAS!$B$4:$C$207,2,FALSE),\"\")","v":""},{"$f":"IF(BB79=\"\",\"\",BB79)","v":""},null,{"$f":"IFERROR(VLOOKUP(BQ79,TOUSLESPAS!$B$4:$C$207,2,FALSE),\"\")","v":""},{"$f":"IF(BE79=\"\",\"\",BE79)","v":""},null,{"$f":"IFERROR(VLOOKUP(BT79,TOUSLESPAS!$B$4:$C$207,2,FALSE),\"\")","v":""},null,null,{"$f":"CONCATENATE(SUMIF(CB79,\"<>\")+SUMIF(CE79,\"<>\")+SUMIF(CH79,\"<>\")+SUMIF(CK79,\"<>\")+SUMIF(CB81,\"<>\")+SUMIF(CE81,\"<>\")+SUMIF(CH81,\"<>\")+SUMIF(CK81,\"<>\"),\" temps\")","v":"0 temps"},{"$f":"IF(BK79=\"\",\"\",BK79)","v":""},null,{"$f":"IFERROR(VLOOKUP(BZ79,TOUSLESPAS!$B$4:$C$207,2,FALSE),\"\")","v":""},{"$f":"IF(BN79=\"\",\"\",BN79)","v":""},null,{"$f":"IFERROR(VLOOKUP(CC79,TOUSLESPAS!$B$4:$C$207,2,FALSE),\"\")","v":""},{"$f":"IF(BQ79=\"\",\"\",BQ79)","v":""},null,{"$f":"IFERROR(VLOOKUP(CF79,TOUSLESPAS!$B$4:$C$207,2,FALSE),\"\")","v":""},{"$f":"IF(BT79=\"\",\"\",BT79)","v":""},null,{"$f":"IFERROR(VLOOKUP(CI79,TOUSLESPAS!$B$4:$C$207,2,FALSE),\"\")","v":""},null,null,{"$f":"CONCATENATE(SUMIF(CQ79,\"<>\")+SUMIF(CT79,\"<>\")+SUMIF(CW79,\"<>\")+SUMIF(CZ79,\"<>\")+SUMIF(CQ81,\"<>\")+SUMIF(CT81,\"<>\")+SUMIF(CW81,\"<>\")+SUMIF(CZ81,\"<>\"),\" temps\")","v":"0 temps"},{"$f":"IF(BZ79=\"\",\"\",BZ79)","v":""},null,{"$f":"IFERROR(VLOOKUP(CO79,TOUSLESPAS!$B$4:$C$207,2,FALSE),\"\")","v":""},{"$f":"IF(CC79=\"\",\"\",CC79)","v":""},null,{"$f":"IFERROR(VLOOKUP(CR79,TOUSLESPAS!$B$4:$C$207,2,FALSE),\"\")","v":""},{"$f":"IF(CF79=\"\",\"\",CF79)","v":""},null,{"$f":"IFERROR(VLOOKUP(CU79,TOUSLESPAS!$B$4:$C$207,2,FALSE),\"\")","v":""},{"$f":"IF(CI79=\"\",\"\",CI79)","v":""},null,{"$f":"IFERROR(VLOOKUP(CX79,TOUSLESPAS!$B$4:$C$207,2,FALSE),\"\")","v":""},null,null,{"$f":"CONCATENATE(SUMIF(DF79,\"<>\")+SUMIF(DI79,\"<>\")+SUMIF(DL79,\"<>\")+SUMIF(DO79,\"<>\")+SUMIF(DF81,\"<>\")+SUMIF(DI81,\"<>\")+SUMIF(DL81,\"<>\")+SUMIF(DO81,\"<>\"),\" temps\")","v":"0 temps"},{"$f":"IF(CO79=\"\",\"\",CO79)","v":""},null,{"$f":"IFERROR(VLOOKUP(DD79,TOUSLESPAS!$B$4:$C$207,2,FALSE),\"\")","v":""},{"$f":"IF(CR79=\"\",\"\",CR79)","v":""},null,{"$f":"IFERROR(VLOOKUP(DG79,TOUSLESPAS!$B$4:$C$207,2,FALSE),\"\")","v":""},{"$f":"IF(CU79=\"\",\"\",CU79)","v":""},null,{"$f":"IFERROR(VLOOKUP(DJ79,TOUSLESPAS!$B$4:$C$207,2,FALSE),\"\")","v":""},{"$f":"IF(CX79=\"\",\"\",CX79)","v":""},null,{"$f":"IFERROR(VLOOKUP(DM79,TOUSLESPAS!$B$4:$C$207,2,FALSE),\"\")","v":""},null,null,{"$f":"CONCATENATE(SUMIF(DU79,\"<>\")+SUMIF(DX79,\"<>\")+SUMIF(EA79,\"<>\")+SUMIF(ED79,\"<>\")+SUMIF(DU81,\"<>\")+SUMIF(DX81,\"<>\")+SUMIF(EA81,\"<>\")+SUMIF(ED81,\"<>\"),\" temps\")","v":"0 temps"},{"$f":"IF(DD79=\"\",\"\",DD79)","v":""},null,{"$f":"IFERROR(VLOOKUP(DS79,TOUSLESPAS!$B$4:$C$207,2,FALSE),\"\")","v":""},{"$f":"IF(DG79=\"\",\"\",DG79)","v":""},null,{"$f":"IFERROR(VLOOKUP(DV79,TOUSLESPAS!$B$4:$C$207,2,FALSE),\"\")","v":""},{"$f":"IF(DJ79=\"\",\"\",DJ79)","v":""},null,{"$f":"IFERROR(VLOOKUP(DY79,TOUSLESPAS!$B$4:$C$207,2,FALSE),\"\")","v":""},{"$f":"IF(DM79=\"\",\"\",DM79)","v":""},null,{"$f":"IFERROR(VLOOKUP(EB79,TOUSLESPAS!$B$4:$C$207,2,FALSE),\"\")","v":""},null,null,{"$f":"CONCATENATE(SUMIF(EJ79,\"<>\")+SUMIF(EM79,\"<>\")+SUMIF(EP79,\"<>\")+SUMIF(ES79,\"<>\")+SUMIF(EJ81,\"<>\")+SUMIF(EM81,\"<>\")+SUMIF(EP81,\"<>\")+SUMIF(ES81,\"<>\"),\" temps\")","v":"0 temps"},{"$f":"IF(DS79=\"\",\"\",DS79)","v":""},null,{"$f":"IFERROR(VLOOKUP(EH79,TOUSLESPAS!$B$4:$C$207,2,FALSE),\"\")","v":""},{"$f":"IF(DV79=\"\",\"\",DV79)","v":""},null,{"$f":"IFERROR(VLOOKUP(EK79,TOUSLESPAS!$B$4:$C$207,2,FALSE),\"\")","v":""},{"$f":"IF(DY79=\"\",\"\",DY79)","v":""},null,{"$f":"IFERROR(VLOOKUP(EN79,TOUSLESPAS!$B$4:$C$207,2,FALSE),\"\")","v":""},{"$f":"IF(EB79=\"\",\"\",EB79)","v":""},null,{"$f":"IFERROR(VLOOKUP(EQ79,TOUSLESPAS!$B$4:$C$207,2,FALSE),\"\")","v":""}]
[]
[null,null,null,null,{"$f":"IFERROR(VLOOKUP(C81,TOUSLESPAS!$B$4:$C$207,2,FALSE),\"\")","v":""},null,null,{"$f":"IFERROR(VLOOKUP(F81,TOUSLESPAS!$B$4:$C$207,2,FALSE),\"\")","v":""},null,null,{"$f":"IFERROR(VLOOKUP(I81,TOUSLESPAS!$B$4:$C$207,2,FALSE),\"\")","v":""},null,null,{"$f":"IFERROR(VLOOKUP(L81,TOUSLESPAS!$B$4:$C$207,2,FALSE),\"\")","v":""},null,null,null,{"$f":"IF(C81=\"\",\"\",C81)","v":""},null,{"$f":"IFERROR(VLOOKUP(R81,TOUSLESPAS!$B$4:$C$207,2,FALSE),\"\")","v":""},{"$f":"IF(F81=\"\",\"\",F81)","v":""},null,{"$f":"IFERROR(VLOOKUP(U81,TOUSLESPAS!$B$4:$C$207,2,FALSE),\"\")","v":""},{"$f":"IF(I81=\"\",\"\",I81)","v":""},null,{"$f":"IFERROR(VLOOKUP(X81,TOUSLESPAS!$B$4:$C$207,2,FALSE),\"\")","v":""},{"$f":"IF(L81=\"\",\"\",L81)","v":""},null,{"$f":"IFERROR(VLOOKUP(AA81,TOUSLESPAS!$B$4:$C$207,2,FALSE),\"\")","v":""},null,null,null,{"$f":"IF(R81=\"\",\"\",R81)","v":""},null,{"$f":"IFERROR(VLOOKUP(AG81,TOUSLESPAS!$B$4:$C$207,2,FALSE),\"\")","v":""},{"$f":"IF(U81=\"\",\"\",U81)","v":""},null,{"$f":"IFERROR(VLOOKUP(AJ81,TOUSLESPAS!$B$4:$C$207,2,FALSE),\"\")","v":""},{"$f":"IF(X81=\"\",\"\",X81)","v":""},null,{"$f":"IFERROR(VLOOKUP(AM81,TOUSLESPAS!$B$4:$C$207,2,FALSE),\"\")","v":""},{"$f":"IF(AA81=\"\",\"\",AA81)","v":""},null,{"$f":"IFERROR(VLOOKUP(AP81,TOUSLESPAS!$B$4:$C$207,2,FALSE),\"\")","v":""},null,null,null,{"$f":"IF(AG81=\"\",\"\",AG81)","v":""},null,{"$f":"IFERROR(VLOOKUP(AV81,TOUSLESPAS!$B$4:$C$207,2,FALSE),\"\")","v":""},{"$f":"IF(AJ81=\"\",\"\",AJ81)","v":""},null,{"$f":"IFERROR(VLOOKUP(AY81,TOUSLESPAS!$B$4:$C$207,2,FALSE),\"\")","v":""},{"$f":"IF(AM81=\"\",\"\",AM81)","v":""},null,{"$f":"IFERROR(VLOOKUP(BB81,TOUSLESPAS!$B$4:$C$207,2,FALSE),\"\")","v":""},{"$f":"IF(AP81=\"\",\"\",AP81)","v":""},null,{"$f":"IFERROR(VLOOKUP(BE81,TOUSLESPAS!$B$4:$C$207,2,FALSE),\"\")","v":""},null,null,null,{"$f":"IF(AV81=\"\",\"\",AV81)","v":""},null,{"$f":"IFERROR(VLOOKUP(BK81,TOUSLESPAS!$B$4:$C$207,2,FALSE),\"\")","v":""},{"$f":"IF(AY81=\"\",\"\",AY81)","v":""},null,{"$f":"IFERROR(VLOOKUP(BN81,TOUSLESPAS!$B$4:$C$207,2,FALSE),\"\")","v":""},{"$f":"IF(BB81=\"\",\"\",BB81)","v":""},null,{"$f":"IFERROR(VLOOKUP(BQ81,TOUSLESPAS!$B$4:$C$207,2,FALSE),\"\")","v":""},{"$f":"IF(BE81=\"\",\"\",BE81)","v":""},null,{"$f":"IFERROR(VLOOKUP(BT81,TOUSLESPAS!$B$4:$C$207,2,FALSE),\"\")","v":""},null,null,null,{"$f":"IF(BK81=\"\",\"\",BK81)","v":""},null,{"$f":"IFERROR(VLOOKUP(BZ81,TOUSLESPAS!$B$4:$C$207,2,FALSE),\"\")","v":""},{"$f":"IF(BN81=\"\",\"\",BN81)","v":""},null,{"$f":"IFERROR(VLOOKUP(CC81,TOUSLESPAS!$B$4:$C$207,2,FALSE),\"\")","v":""},{"$f":"IF(BQ81=\"\",\"\",BQ81)","v":""},null,{"$f":"IFERROR(VLOOKUP(CF81,TOUSLESPAS!$B$4:$C$207,2,FALSE),\"\")","v":""},{"$f":"IF(BT81=\"\",\"\",BT81)","v":""},null,{"$f":"IFERROR(VLOOKUP(CI81,TOUSLESPAS!$B$4:$C$207,2,FALSE),\"\")","v":""},null,null,null,{"$f":"IF(BZ81=\"\",\"\",BZ81)","v":""},null,{"$f":"IFERROR(VLOOKUP(CO81,TOUSLESPAS!$B$4:$C$207,2,FALSE),\"\")","v":""},{"$f":"IF(CC81=\"\",\"\",CC81)","v":""},null,{"$f":"IFERROR(VLOOKUP(CR81,TOUSLESPAS!$B$4:$C$207,2,FALSE),\"\")","v":""},{"$f":"IF(CF81=\"\",\"\",CF81)","v":""},null,{"$f":"IFERROR(VLOOKUP(CU81,TOUSLESPAS!$B$4:$C$207,2,FALSE),\"\")","v":""},{"$f":"IF(CI81=\"\",\"\",CI81)","v":""},null,{"$f":"IFERROR(VLOOKUP(CX81,TOUSLESPAS!$B$4:$C$207,2,FALSE),\"\")","v":""},null,null,null,{"$f":"IF(CO81=\"\",\"\",CO81)","v":""},null,{"$f":"IFERROR(VLOOKUP(DD81,TOUSLESPAS!$B$4:$C$207,2,FALSE),\"\")","v":""},{"$f":"IF(CR81=\"\",\"\",CR81)","v":""},null,{"$f":"IFERROR(VLOOKUP(DG81,TOUSLESPAS!$B$4:$C$207,2,FALSE),\"\")","v":""},{"$f":"IF(CU81=\"\",\"\",CU81)","v":""},null,{"$f":"IFERROR(VLOOKUP(DJ81,TOUSLESPAS!$B$4:$C$207,2,FALSE),\"\")","v":""},{"$f":"IF(CX81=\"\",\"\",CX81)","v":""},null,{"$f":"IFERROR(VLOOKUP(DM81,TOUSLESPAS!$B$4:$C$207,2,FALSE),\"\")","v":""},null,null,null,{"$f":"IF(DD81=\"\",\"\",DD81)","v":""},null,{"$f":"IFERROR(VLOOKUP(DS81,TOUSLESPAS!$B$4:$C$207,2,FALSE),\"\")","v":""},{"$f":"IF(DG81=\"\",\"\",DG81)","v":""},null,{"$f":"IFERROR(VLOOKUP(DV81,TOUSLESPAS!$B$4:$C$207,2,FALSE),\"\")","v":""},{"$f":"IF(DJ81=\"\",\"\",DJ81)","v":""},null,{"$f":"IFERROR(VLOOKUP(DY81,TOUSLESPAS!$B$4:$C$207,2,FALSE),\"\")","v":""},{"$f":"IF(DM81=\"\",\"\",DM81)","v":""},null,{"$f":"IFERROR(VLOOKUP(EB81,TOUSLESPAS!$B$4:$C$207,2,FALSE),\"\")","v":""},null,null,null,{"$f":"IF(DS81=\"\",\"\",DS81)","v":""},null,{"$f":"IFERROR(VLOOKUP(EH81,TOUSLESPAS!$B$4:$C$207,2,FALSE),\"\")","v":""},{"$f":"IF(DV81=\"\",\"\",DV81)","v":""},null,{"$f":"IFERROR(VLOOKUP(EK81,TOUSLESPAS!$B$4:$C$207,2,FALSE),\"\")","v":""},{"$f":"IF(DY81=\"\",\"\",DY81)","v":""},null,{"$f":"IFERROR(VLOOKUP(EN81,TOUSLESPAS!$B$4:$C$207,2,FALSE),\"\")","v":""},{"$f":"IF(EB81=\"\",\"\",EB81)","v":""},null,{"$f":"IFERROR(VLOOKUP(EQ81,TOUSLESPAS!$B$4:$C$207,2,FALSE),\"\")","v":""}]
[]
[]
["MUSIQUE CHOISIE",null,"Rihanna",null,null,null,null,null,null,null,null,null,null,null,null,null,null,"Rihanna",null,null,null,null,null,null,null,null,null,null,null,null,null,null,"Rihanna",null,null,null,null,null,null,null,null,null,null,null,null,null,null,"Rihanna",null,null,null,null,null,null,null,null,null,null,null,null,null,null,"Rihanna",null,null,null,null,null,null,null,null,null,null,null,null,null,null,"Rihanna",null,null,null,null,null,null,null,null,null,null,null,null,null,null,"Rihanna",null,null,null,null,null,null,null,null,null,null,null,null,null,null,"Rihanna",null,null,null,null,null,null,null,null,null,null,null,null,null,null,"Rihanna",null,null,null,null,null,null,null,null,null,null,null,null,null,null,"Rihanna"]
[]
[null,"ANALYSE DE LA PRESTATION",null,null,null,null,null,null,null,null,null,null,null,null,null,null,"ANALYSE DE LA PRESTATION",null,null,null,null,null,null,null,null,null,null,null,null,null,null,"ANALYSE DE LA PRESTATION",null,null,null,null,null,null,null,null,null,null,null,null,null,null,"ANALYSE DE LA PRESTATION",null,null,null,null,null,null,null,null,null,null,null,null,null,null,"ANALYSE DE LA PRESTATION",null,null,null,null,null,null,null,null,null,null,null,null,null,null,"ANALYSE DE LA PRESTATION",null,null,null,null,null,null,null,null,null,null,null,null,null,null,"ANALYSE DE LA PRESTATION",null,null,null,null,null,null,null,null,null,null,null,null,null,null,"ANALYSE DE LA PRESTATION",null,null,null,null,null,null,null,null,null,null,null,null,null,null,"ANALYSE DE LA PRESTATION",null,null,null,null,null,null,null,null,null,null,null,null,null,null,"ANALYSE DE LA PRESTATION"]
["Ta prestation est-elle réussie ? Pourquoi ? (expression libre)"]
["Respiration","Assez essoufflé",null,{"$f":"IF(D3=\"\",\"\",B$88)","v":"Assez essoufflé"},null,{"$f":"IF(F3=\"\",\"\",B$88)","v":"Assez essoufflé"},null,{"$f":"IF(H3=\"\",\"\",B$88)","v":"Assez essoufflé"},null,{"$f":"IF(J3=\"\",\"\",B$88)","v":"Assez essoufflé"},null,{"$f":"IF(L3=\"\",\"\",B$88)","v":"Assez essoufflé"},null,null,null,null,"Non essouflé",null,{"$f":"IF(S3=\"\",\"\",$Q$88)","v":"Non essouflé"},null,{"$f":"IF(U3=\"\",\"\",$Q$88)","v":"Non essouflé"},null,{"$f":"IF(W3=\"\",\"\",Q$88)","v":"Non essouflé"},null,{"$f":"IF(Y3=\"\",\"\",Q$88)","v":"Non essouflé"},null,{"$f":"IF(AA3=\"\",\"\",Q$88)","v":"Non essouflé"},null,null,null,null,"Non essouflé",null,{"$f":"IF(AH3=\"\",\"\",AF$88)","v":"Non essouflé"},null,{"$f":"IF(AJ3=\"\",\"\",AF$88)","v":"Non essouflé"},null,{"$f":"IF(AL3=\"\",\"\",AF$88)","v":"Non essouflé"},null,{"$f":"IF(AN3=\"\",\"\",AF$88)","v":"Non essouflé"},null,{"$f":"IF(AP3=\"\",\"\",AF$88)","v":"Non essouflé"},null,null,null,null,"Non essouflé",null,{"$f":"IF(AW3=\"\",\"\",AU$88)","v":"Non essouflé"},null,{"$f":"IF(AY3=\"\",\"\",AU$88)","v":"Non essouflé"},null,{"$f":"IF(BA3=\"\",\"\",AU$88)","v":"Non essouflé"},null,{"$f":"IF(BC3=\"\",\"\",AU$88)","v":"Non essouflé"},null,{"$f":"IF(BE3=\"\",\"\",AU$88)","v":"Non essouflé"},null,null,null,null,"Non essouflé",null,{"$f":"IF(BL3=\"\",\"\",BJ$88)","v":"Non essouflé"},null,{"$f":"IF(BN3=\"\",\"\",BJ$88)","v":"Non essouflé"},null,{"$f":"IF(BP3=\"\",\"\",BJ$88)","v":"Non essouflé"},null,{"$f":"IF(BR3=\"\",\"\",BJ$88)","v":"Non essouflé"},null,{"$f":"IF(BT3=\"\",\"\",BJ$88)","v":"Non essouflé"},null,null,null,null,"Non essouflé",null,{"$f":"IF(CA3=\"\",\"\",BY$88)","v":"Non essouflé"},null,{"$f":"IF(CC3=\"\",\"\",BY$88)","v":"Non essouflé"},null,{"$f":"IF(CE3=\"\",\"\",BY$88)","v":"Non essouflé"},null,{"$f":"IF(CG3=\"\",\"\",BY$88)","v":"Non essouflé"},null,{"$f":"IF(CI3=\"\",\"\",BY$88)","v":"Non essouflé"},null,null,null,null,"Non essouflé",null,{"$f":"IF(CP3=\"\",\"\",CN$88)","v":"Non essouflé"},null,{"$f":"IF(CR3=\"\",\"\",CN$88)","v":"Non essouflé"},null,{"$f":"IF(CT3=\"\",\"\",CN$88)","v":"Non essouflé"},null,{"$f":"IF(CV3=\"\",\"\",CN$88)","v":"Non essouflé"},null,{"$f":"IF(CX3=\"\",\"\",CN$88)","v":"Non essouflé"},null,null,null,null,"Non essouflé",null,{"$f":"IF(DE3=\"\",\"\",DC$88)","v":"Non essouflé"},null,{"$f":"IF(DG3=\"\",\"\",DC$88)","v":"Non essouflé"},null,{"$f":"IF(DI3=\"\",\"\",DC$88)","v":"Non essouflé"},null,{"$f":"IF(DK3=\"\",\"\",DC$88)","v":"Non essouflé"},null,{"$f":"IF(DM3=\"\",\"\",DC$88)","v":"Non essouflé"},null,null,null,null,"Non essouflé",null,{"$f":"IF(DT3=\"\",\"\",DR$88)","v":"Non essouflé"},null,{"$f":"IF(DV3=\"\",\"\",DR$88)","v":"Non essouflé"},null,{"$f":"IF(DX3=\"\",\"\",DR$88)","v":"Non essouflé"},null,{"$f":"IF(DZ3=\"\",\"\",DR$88)","v":"Non essouflé"},null,{"$f":"IF(EB3=\"\",\"\",DR$88)","v":"Non essouflé"},null,null,null,null,"Non essouflé",null,{"$f":"IF(EI3=\"\",\"\",EG$88)","v":"Non essouflé"},null,{"$f":"IF(EK3=\"\",\"\",EG$88)","v":"Non essouflé"},null,{"$f":"IF(EM3=\"\",\"\",EG$88)","v":"Non essouflé"},null,{"$f":"IF(EO3=\"\",\"\",EG$88)","v":"Non essouflé"},null,{"$f":"IF(EQ3=\"\",\"\",EG$88)","v":"Non essouflé"}]
["Transpiration","Aucune",null,{"$f":"IF(D3=\"\",\"\",B$89)","v":"Aucune"},null,{"$f":"IF(F3=\"\",\"\",B$89)","v":"Aucune"},null,{"$f":"IF(H3=\"\",\"\",B$89)","v":"Aucune"},null,{"$f":"IF(J3=\"\",\"\",B$89)","v":"Aucune"},null,{"$f":"IF(L3=\"\",\"\",B$89)","v":"Aucune"},null,null,null,null,"Aucune",null,{"$f":"IF(S3=\"\",\"\",$Q$89)","v":"Aucune"},null,{"$f":"IF(U3=\"\",\"\",$Q$89)","v":"Aucune"},null,{"$f":"IF(W3=\"\",\"\",Q$89)","v":"Aucune"},null,{"$f":"IF(Y3=\"\",\"\",Q$89)","v":"Aucune"},null,{"$f":"IF(AA3=\"\",\"\",Q$89)","v":"Aucune"},null,null,null,null,"Aucune",null,{"$f":"IF(AH3=\"\",\"\",AF$89)","v":"Aucune"},null,{"$f":"IF(AJ3=\"\",\"\",AF$89)","v":"Aucune"},null,{"$f":"IF(AL3=\"\",\"\",AF$89)","v":"Aucune"},null,{"$f":"IF(AN3=\"\",\"\",AF$89)","v":"Aucune"},null,{"$f":"IF(AP3=\"\",\"\",AF$89)","v":"Aucune"},null,null,null,null,"Aucune",null,{"$f":"IF(AW3=\"\",\"\",AU$89)","v":"Aucune"},null,{"$f":"IF(AY3=\"\",\"\",AU$89)","v":"Aucune"},null,{"$f":"IF(BA3=\"\",\"\",AU$89)","v":"Aucune"},null,{"$f":"IF(BC3=\"\",\"\",AU$89)","v":"Aucune"},null,{"$f":"IF(BE3=\"\",\"\",AU$89)","v":"Aucune"},null,null,null,null,"Aucune",null,{"$f":"IF(BL3=\"\",\"\",BJ$89)","v":"Aucune"},null,{"$f":"IF(BN3=\"\",\"\",BJ$89)","v":"Aucune"},null,{"$f":"IF(BP3=\"\",\"\",BJ$89)","v":"Aucune"},null,{"$f":"IF(BR3=\"\",\"\",BJ$89)","v":"Aucune"},null,{"$f":"IF(BT3=\"\",\"\",BJ$89)","v":"Aucune"},null,null,null,null,"Aucune",null,{"$f":"IF(CA3=\"\",\"\",BY$89)","v":"Aucune"},null,{"$f":"IF(CC3=\"\",\"\",BY$89)","v":"Aucune"},null,{"$f":"IF(CE3=\"\",\"\",BY$89)","v":"Aucune"},null,{"$f":"IF(CG3=\"\",\"\",BY$89)","v":"Aucune"},null,{"$f":"IF(CI3=\"\",\"\",BY$89)","v":"Aucune"},null,null,null,null,"Aucune",null,{"$f":"IF(CP3=\"\",\"\",CN$89)","v":"Aucune"},null,{"$f":"IF(CR3=\"\",\"\",CN$89)","v":"Aucune"},null,{"$f":"IF(CT3=\"\",\"\",CN$89)","v":"Aucune"},null,{"$f":"IF(CV3=\"\",\"\",CN$89)","v":"Aucune"},null,{"$f":"IF(CX3=\"\",\"\",CN$89)","v":"Aucune"},null,null,null,null,"Aucune",null,{"$f":"IF(DE3=\"\",\"\",DC$89)","v":"Aucune"},null,{"$f":"IF(DG3=\"\",\"\",DC$89)","v":"Aucune"},null,{"$f":"IF(DI3=\"\",\"\",DC$89)","v":"Aucune"},null,{"$f":"IF(DK3=\"\",\"\",DC$89)","v":"Aucune"},null,{"$f":"IF(DM3=\"\",\"\",DC$89)","v":"Aucune"},null,null,null,null,"Aucune",null,{"$f":"IF(DT3=\"\",\"\",DR$89)","v":"Aucune"},null,{"$f":"IF(DV3=\"\",\"\",DR$89)","v":"Aucune"},null,{"$f":"IF(DX3=\"\",\"\",DR$89)","v":"Aucune"},null,{"$f":"IF(DZ3=\"\",\"\",DR$89)","v":"Aucune"},null,{"$f":"IF(EB3=\"\",\"\",DR$89)","v":"Aucune"},null,null,null,null,"Aucune",null,{"$f":"IF(EI3=\"\",\"\",EG$89)","v":"Aucune"},null,{"$f":"IF(EK3=\"\",\"\",EG$89)","v":"Aucune"},null,{"$f":"IF(EM3=\"\",\"\",EG$89)","v":"Aucune"},null,{"$f":"IF(EO3=\"\",\"\",EG$89)","v":"Aucune"},null,{"$f":"IF(EQ3=\"\",\"\",EG$89)","v":"Aucune"}]
["Perception Effort","Très très léger",null,{"$f":"IF(D3=\"\",\"\",B$90)","v":"Très très léger"},null,{"$f":"IF(F3=\"\",\"\",B$90)","v":"Très très léger"},null,{"$f":"IF(H3=\"\",\"\",B$90)","v":"Très très léger"},null,{"$f":"IF(J3=\"\",\"\",B$90)","v":"Très très léger"},null,{"$f":"IF(L3=\"\",\"\",B$90)","v":"Très très léger"},null,null,null,null,"Très très léger",null,{"$f":"IF(S3=\"\",\"\",$Q$90)","v":"Très très léger"},null,{"$f":"IF(U3=\"\",\"\",$Q$90)","v":"Très très léger"},null,{"$f":"IF(W3=\"\",\"\",Q$90)","v":"Très très léger"},null,{"$f":"IF(Y3=\"\",\"\",Q$90)","v":"Très très léger"},null,{"$f":"IF(AA3=\"\",\"\",Q$90)","v":"Très très léger"},null,null,null,null,"Très très léger",null,{"$f":"IF(AH3=\"\",\"\",AF$90)","v":"Très très léger"},null,{"$f":"IF(AJ3=\"\",\"\",AF$90)","v":"Très très léger"},null,{"$f":"IF(AL3=\"\",\"\",AF$90)","v":"Très très léger"},null,{"$f":"IF(AN3=\"\",\"\",AF$90)","v":"Très très léger"},null,{"$f":"IF(AP3=\"\",\"\",AF$90)","v":"Très très léger"},null,null,null,null,"Très très léger",null,{"$f":"IF(AW3=\"\",\"\",AU$90)","v":"Très très léger"},null,{"$f":"IF(AY3=\"\",\"\",AU$90)","v":"Très très léger"},null,{"$f":"IF(BA3=\"\",\"\",AU$90)","v":"Très très léger"},null,{"$f":"IF(BC3=\"\",\"\",AU$90)","v":"Très très léger"},null,{"$f":"IF(BE3=\"\",\"\",AU$90)","v":"Très très léger"},null,null,null,null,"Très très léger",null,{"$f":"IF(BL3=\"\",\"\",BJ$90)","v":"Très très léger"},null,{"$f":"IF(BN3=\"\",\"\",BJ$90)","v":"Très très léger"},null,{"$f":"IF(BP3=\"\",\"\",BJ$90)","v":"Très très léger"},null,{"$f":"IF(BR3=\"\",\"\",BJ$90)","v":"Très très léger"},null,{"$f":"IF(BT3=\"\",\"\",BJ$90)","v":"Très très léger"},null,null,null,null,"Très très léger",null,{"$f":"IF(CA3=\"\",\"\",BY$90)","v":"Très très léger"},null,{"$f":"IF(CC3=\"\",\"\",BY$90)","v":"Très très léger"},null,{"$f":"IF(CE3=\"\",\"\",BY$90)","v":"Très très léger"},null,{"$f":"IF(CG3=\"\",\"\",BY$90)","v":"Très très léger"},null,{"$f":"IF(CI3=\"\",\"\",BY$90)","v":"Très très léger"},null,null,null,null,"Très très léger",null,{"$f":"IF(CP3=\"\",\"\",CN$90)","v":"Très très léger"},null,{"$f":"IF(CR3=\"\",\"\",CN$90)","v":"Très très léger"},null,{"$f":"IF(CT3=\"\",\"\",CN$90)","v":"Très très léger"},null,{"$f":"IF(CV3=\"\",\"\",CN$90)","v":"Très très léger"},null,{"$f":"IF(CX3=\"\",\"\",CN$90)","v":"Très très léger"},null,null,null,null,"Très très léger",null,{"$f":"IF(DE3=\"\",\"\",DC$90)","v":"Très très léger"},null,{"$f":"IF(DG3=\"\",\"\",DC$90)","v":"Très très léger"},null,{"$f":"IF(DI3=\"\",\"\",DC$90)","v":"Très très léger"},null,{"$f":"IF(DK3=\"\",\"\",DC$90)","v":"Très très léger"},null,{"$f":"IF(DM3=\"\",\"\",DC$90)","v":"Très très léger"},null,null,null,null,"Très très léger",null,{"$f":"IF(DT3=\"\",\"\",DR$90)","v":"Très très léger"},null,{"$f":"IF(DV3=\"\",\"\",DR$90)","v":"Très très léger"},null,{"$f":"IF(DX3=\"\",\"\",DR$90)","v":"Très très léger"},null,{"$f":"IF(DZ3=\"\",\"\",DR$90)","v":"Très très léger"},null,{"$f":"IF(EB3=\"\",\"\",DR$90)","v":"Très très léger"},null,null,null,null,"Très très léger",null,{"$f":"IF(EI3=\"\",\"\",EG$90)","v":"Très très léger"},null,{"$f":"IF(EK3=\"\",\"\",EG$90)","v":"Très très léger"},null,{"$f":"IF(EM3=\"\",\"\",EG$90)","v":"Très très léger"},null,{"$f":"IF(EO3=\"\",\"\",EG$90)","v":"Très très léger"},null,{"$f":"IF(EQ3=\"\",\"\",EG$90)","v":"Très très léger"}]
["Fatigue","Je suis obligé de faire des pauses",null,{"$f":"IF(D3=\"\",\"\",B$91)","v":"Je suis obligé de faire des pauses"},null,{"$f":"IF(F3=\"\",\"\",B$91)","v":"Je suis obligé de faire des pauses"},null,{"$f":"IF(H3=\"\",\"\",B$91)","v":"Je suis obligé de faire des pauses"},null,{"$f":"IF(J3=\"\",\"\",B$91)","v":"Je suis obligé de faire des pauses"},null,{"$f":"IF(L3=\"\",\"\",B$91)","v":"Je suis obligé de faire des pauses"},null,null,null,null,"Je suis obligé de faire des pauses",null,{"$f":"IF(S3=\"\",\"\",$Q$91)","v":"Je suis obligé de faire des pauses"},null,{"$f":"IF(U3=\"\",\"\",$Q$91)","v":"Je suis obligé de faire des pauses"},null,{"$f":"IF(W3=\"\",\"\",Q$91)","v":"Je suis obligé de faire des pauses"},null,{"$f":"IF(Y3=\"\",\"\",Q$91)","v":"Je suis obligé de faire des pauses"},null,{"$f":"IF(AA3=\"\",\"\",Q$91)","v":"Je suis obligé de faire des pauses"},null,null,null,null,"Je suis obligé de faire des pauses",null,{"$f":"IF(AH3=\"\",\"\",AF$91)","v":"Je suis obligé de faire des pauses"},null,{"$f":"IF(AJ3=\"\",\"\",AF$91)","v":"Je suis obligé de faire des pauses"},null,{"$f":"IF(AL3=\"\",\"\",AF$91)","v":"Je suis obligé de faire des pauses"},null,{"$f":"IF(AN3=\"\",\"\",AF$91)","v":"Je suis obligé de faire des pauses"},null,{"$f":"IF(AP3=\"\",\"\",AF$91)","v":"Je suis obligé de faire des pauses"},null,null,null,null,"Je suis obligé de faire des pauses",null,{"$f":"IF(AW3=\"\",\"\",AU$91)","v":"Je suis obligé de faire des pauses"},null,{"$f":"IF(AY3=\"\",\"\",AU$91)","v":"Je suis obligé de faire des pauses"},null,{"$f":"IF(BA3=\"\",\"\",AU$91)","v":"Je suis obligé de faire des pauses"},null,{"$f":"IF(BC3=\"\",\"\",AU$91)","v":"Je suis obligé de faire des pauses"},null,{"$f":"IF(BE3=\"\",\"\",AU$91)","v":"Je suis obligé de faire des pauses"},null,null,null,null,"Je suis obligé de faire des pauses",null,{"$f":"IF(BL3=\"\",\"\",BJ$91)","v":"Je suis obligé de faire des pauses"},null,{"$f":"IF(BN3=\"\",\"\",BJ$91)","v":"Je suis obligé de faire des pauses"},null,{"$f":"IF(BP3=\"\",\"\",BJ$91)","v":"Je suis obligé de faire des pauses"},null,{"$f":"IF(BR3=\"\",\"\",BJ$91)","v":"Je suis obligé de faire des pauses"},null,{"$f":"IF(BT3=\"\",\"\",BJ$91)","v":"Je suis obligé de faire des pauses"},null,null,null,null,"Je suis obligé de faire des pauses",null,{"$f":"IF(CA3=\"\",\"\",BY$91)","v":"Je suis obligé de faire des pauses"},null,{"$f":"IF(CC3=\"\",\"\",BY$91)","v":"Je suis obligé de faire des pauses"},null,{"$f":"IF(CE3=\"\",\"\",BY$91)","v":"Je suis obligé de faire des pauses"},null,{"$f":"IF(CG3=\"\",\"\",BY$91)","v":"Je suis obligé de faire des pauses"},null,{"$f":"IF(CI3=\"\",\"\",BY$91)","v":"Je suis obligé de faire des pauses"},null,null,null,null,"Je suis obligé de faire des pauses",null,{"$f":"IF(CP3=\"\",\"\",CN$91)","v":"Je suis obligé de faire des pauses"},null,{"$f":"IF(CR3=\"\",\"\",CN$91)","v":"Je suis obligé de faire des pauses"},null,{"$f":"IF(CT3=\"\",\"\",CN$91)","v":"Je suis obligé de faire des pauses"},null,{"$f":"IF(CV3=\"\",\"\",CN$91)","v":"Je suis obligé de faire des pauses"},null,{"$f":"IF(CX3=\"\",\"\",CN$91)","v":"Je suis obligé de faire des pauses"},null,null,null,null,"Je suis obligé de faire des pauses",null,{"$f":"IF(DE3=\"\",\"\",DC$91)","v":"Je suis obligé de faire des pauses"},null,{"$f":"IF(DG3=\"\",\"\",DC$91)","v":"Je suis obligé de faire des pauses"},null,{"$f":"IF(DI3=\"\",\"\",DC$91)","v":"Je suis obligé de faire des pauses"},null,{"$f":"IF(DK3=\"\",\"\",DC$91)","v":"Je suis obligé de faire des pauses"},null,{"$f":"IF(DM3=\"\",\"\",DC$91)","v":"Je suis obligé de faire des pauses"},null,null,null,null,"Je suis obligé de faire des pauses",null,{"$f":"IF(DT3=\"\",\"\",DR$91)","v":"Je suis obligé de faire des pauses"},null,{"$f":"IF(DV3=\"\",\"\",DR$91)","v":"Je suis obligé de faire des pauses"},null,{"$f":"IF(DX3=\"\",\"\",DR$91)","v":"Je suis obligé de faire des pauses"},null,{"$f":"IF(DZ3=\"\",\"\",DR$91)","v":"Je suis obligé de faire des pauses"},null,{"$f":"IF(EB3=\"\",\"\",DR$91)","v":"Je suis obligé de faire des pauses"},null,null,null,null,"Je suis obligé de faire des pauses",null,{"$f":"IF(EI3=\"\",\"\",EG$91)","v":"Je suis obligé de faire des pauses"},null,{"$f":"IF(EK3=\"\",\"\",EG$91)","v":"Je suis obligé de faire des pauses"},null,{"$f":"IF(EM3=\"\",\"\",EG$91)","v":"Je suis obligé de faire des pauses"},null,{"$f":"IF(EO3=\"\",\"\",EG$91)","v":"Je suis obligé de faire des pauses"},null,{"$f":"IF(EQ3=\"\",\"\",EG$91)","v":"Je suis obligé de faire des pauses"}]
["Mémoire","Beaucoup de trous",null,{"$f":"IF(D3=\"\",\"\",B$92)","v":"Beaucoup de trous"},null,{"$f":"IF(F3=\"\",\"\",B$92)","v":"Beaucoup de trous"},null,{"$f":"IF(H3=\"\",\"\",B$92)","v":"Beaucoup de trous"},null,{"$f":"IF(J3=\"\",\"\",B$92)","v":"Beaucoup de trous"},null,{"$f":"IF(L3=\"\",\"\",B$92)","v":"Beaucoup de trous"},null,null,null,null,"Beaucoup de trous",null,{"$f":"IF(S3=\"\",\"\",$Q$92)","v":"Beaucoup de trous"},null,{"$f":"IF(U3=\"\",\"\",$Q$92)","v":"Beaucoup de trous"},null,{"$f":"IF(W3=\"\",\"\",Q$92)","v":"Beaucoup de trous"},null,{"$f":"IF(Y3=\"\",\"\",Q$92)","v":"Beaucoup de trous"},null,{"$f":"IF(AA3=\"\",\"\",Q$92)","v":"Beaucoup de trous"},null,null,null,null,"Beaucoup de trous",null,{"$f":"IF(AH3=\"\",\"\",AF$92)","v":"Beaucoup de trous"},null,{"$f":"IF(AJ3=\"\",\"\",AF$92)","v":"Beaucoup de trous"},null,{"$f":"IF(AL3=\"\",\"\",AF$92)","v":"Beaucoup de trous"},null,{"$f":"IF(AN3=\"\",\"\",AF$92)","v":"Beaucoup de trous"},null,{"$f":"IF(AP3=\"\",\"\",AF$92)","v":"Beaucoup de trous"},null,null,null,null,"Beaucoup de trous",null,{"$f":"IF(AW3=\"\",\"\",AU$92)","v":"Beaucoup de trous"},null,{"$f":"IF(AY3=\"\",\"\",AU$92)","v":"Beaucoup de trous"},null,{"$f":"IF(BA3=\"\",\"\",AU$92)","v":"Beaucoup de trous"},null,{"$f":"IF(BC3=\"\",\"\",AU$92)","v":"Beaucoup de trous"},null,{"$f":"IF(BE3=\"\",\"\",AU$92)","v":"Beaucoup de trous"},null,null,null,null,"Beaucoup de trous",null,{"$f":"IF(BL3=\"\",\"\",BJ$92)","v":"Beaucoup de trous"},null,{"$f":"IF(BN3=\"\",\"\",BJ$92)","v":"Beaucoup de trous"},null,{"$f":"IF(BP3=\"\",\"\",BJ$92)","v":"Beaucoup de trous"},null,{"$f":"IF(BR3=\"\",\"\",BJ$92)","v":"Beaucoup de trous"},null,{"$f":"IF(BT3=\"\",\"\",BJ$92)","v":"Beaucoup de trous"},null,null,null,null,"Beaucoup de trous",null,{"$f":"IF(CA3=\"\",\"\",BY$92)","v":"Beaucoup de trous"},null,{"$f":"IF(CC3=\"\",\"\",BY$92)","v":"Beaucoup de trous"},null,{"$f":"IF(CE3=\"\",\"\",BY$92)","v":"Beaucoup de trous"},null,{"$f":"IF(CG3=\"\",\"\",BY$92)","v":"Beaucoup de trous"},null,{"$f":"IF(CI3=\"\",\"\",BY$92)","v":"Beaucoup de trous"},null,null,null,null,"Beaucoup de trous",null,{"$f":"IF(CP3=\"\",\"\",CN$92)","v":"Beaucoup de trous"},null,{"$f":"IF(CR3=\"\",\"\",CN$92)","v":"Beaucoup de trous"},null,{"$f":"IF(CT3=\"\",\"\",CN$92)","v":"Beaucoup de trous"},null,{"$f":"IF(CV3=\"\",\"\",CN$92)","v":"Beaucoup de trous"},null,{"$f":"IF(CX3=\"\",\"\",CN$92)","v":"Beaucoup de trous"},null,null,null,null,"Beaucoup de trous",null,{"$f":"IF(DE3=\"\",\"\",DC$92)","v":"Beaucoup de trous"},null,{"$f":"IF(DG3=\"\",\"\",DC$92)","v":"Beaucoup de trous"},null,{"$f":"IF(DI3=\"\",\"\",DC$92)","v":"Beaucoup de trous"},null,{"$f":"IF(DK3=\"\",\"\",DC$92)","v":"Beaucoup de trous"},null,{"$f":"IF(DM3=\"\",\"\",DC$92)","v":"Beaucoup de trous"},null,null,null,null,"Beaucoup de trous",null,{"$f":"IF(DT3=\"\",\"\",DR$92)","v":"Beaucoup de trous"},null,{"$f":"IF(DV3=\"\",\"\",DR$92)","v":"Beaucoup de trous"},null,{"$f":"IF(DX3=\"\",\"\",DR$92)","v":"Beaucoup de trous"},null,{"$f":"IF(DZ3=\"\",\"\",DR$92)","v":"Beaucoup de trous"},null,{"$f":"IF(EB3=\"\",\"\",DR$92)","v":"Beaucoup de trous"},null,null,null,null,"Beaucoup de trous",null,{"$f":"IF(EI3=\"\",\"\",EG$92)","v":"Beaucoup de trous"},null,{"$f":"IF(EK3=\"\",\"\",EG$92)","v":"Beaucoup de trous"},null,{"$f":"IF(EM3=\"\",\"\",EG$92)","v":"Beaucoup de trous"},null,{"$f":"IF(EO3=\"\",\"\",EG$92)","v":"Beaucoup de trous"},null,{"$f":"IF(EQ3=\"\",\"\",EG$92)","v":"Beaucoup de trous"}]

{"sheet":"CARNETSOLO","index":2,"n_rows":92,"n_cols":149,"rows_kept":92,"cut":false,"hidden":false,"merged":[[39,0,41,0],[85,106,85,117],[85,121,85,132],[85,136,85,147],[83,107,83,117],[83,122,83,132],[83,137,83,147],[85,1,85,12],[85,16,85,27],[85,31,85,42],[85,46,85,57],[85,61,85,72],[85,76,85,87],[85,91,85,102],[91,48,91,57],[93,136,93,149],[2,3,2,11],[25,1,25,12],[36,1,36,12],[62,1,62,12],[86,1,86,12],[25,16,25,27],[36,16,36,27],[62,16,62,27],[86,16,86,27],[93,31,93,44],[93,46,93,59],[93,61,93,74],[93,76,93,89],[93,91,93,104],[93,106,93,119],[93,121,93,134],[80,140,80,141],[80,143,80,144],[80,146,80,147],[83,2,83,12],[83,17,83,27],[83,32,83,42],[83,47,83,57],[83,62,83,72],[83,77,83,87],[83,92,83,102],[80,86,80,87],[80,92,80,93],[80,95,80,96],[80,98,80,99],[80,101,80,102],[80,107,80,108],[80,50,80,51],[80,53,80,54],[80,56,80,57],[80,62,80,63],[80,65,80,66],[80,68,80,69],[78,143,78,144],[78,146,78,147],[80,2,80,3],[80,5,80,6],[80,8,80,9],[80,11,80,12],[80,17,80,18],[80,20,80,21],[80,23,80,24],[80,26,80,27],[78,125,78,126],[78,128,78,129],[78,131,78,132],[78,136,80,136],[78,137,78,138],[78,140,78,141],[80,125,80,126],[80,128,80,129],[80,131,80,132],[80,137,80,138],[78,107,78,108],[78,110,78,111],[78,113,78,114],[78,116,78,117],[78,121,80,121],[78,122,78,123],[80,110,80,111],[80,113,80,114],[80,116,80,117],[80,122,80,123],[78,91,80,91],[78,92,78,93],[78,17,78,18],[78,20,78,21],[78,23,78,24],[78,26,78,27],[78,31,80,31],[78,32,78,33],[80,32,80,33],[78,95,78,96],[78,98,78,99],[78,101,78,102],[78,106,80,106],[78,71,78,72],[78,76,80,76],[78,77,78,78],[78,80,78,81],[78,83,78,84],[78,86,78,87],[80,71,80,72],[80,77,80,78],[80,80,80,81],[80,83,80,84],[78,53,78,54],[78,56,78,57],[78,61,80,61],[78,62,78,63],[78,65,78,66],[78,68,78,69],[76,140,76,141],[76,143,76,144],[76,146,76,147],[78,0,80,0],[78,1,80,1],[78,2,78,3],[78,5,78,6],[78,8,78,9],[78,11,78,12],[78,16,80,16],[76,86,76,87],[76,92,76,93],[76,95,76,96],[76,98,76,99],[76,101,76,102],[76,107,76,108],[76,50,76,51],[76,53,76,54],[76,56,76,57],[76,62,76,63],[76,65,76,66],[76,68,76,69],[78,35,78,36],[78,38,78,39],[78,41,78,42],[78,46,80,46],[78,47,78,48],[78,50,78,51],[80,35,80,36],[80,38,80,39],[80,41,80,42],[80,47,80,48],[74,143,74,144],[74,146,74,147],[76,2,76,3],[76,5,76,6],[76,8,76,9],[76,11,76,12],[76,17,76,18],[76,20,76,21],[76,23,76,24],[76,26,76,27],[74,125,74,126],[74,128,74,129],[74,131,74,132],[74,136,76,136],[74,137,74,138],[74,140,74,141],[76,125,76,126],[76,128,76,129],[76,131,76,132],[76,137,76,138],[74,107,74,108],[74,110,74,111],[74,113,74,114],[74,116,74,117],[74,121,76,121],[74,122,74,123],[76,110,76,111],[76,113,76,114],[76,116,76,117],[76,122,76,123],[74,91,76,91],[74,92,74,93],[74,17,74,18],[74,20,74,21],[74,23,74,24],[74,26,74,27],[74,31,76,31],[74,32,74,33],[76,32,76,33],[74,95,74,96],[74,98,74,99],[74,101,74,102],[74,106,76,106],[74,71,74,72],[74,76,76,76],[74,77,74,78],[74,80,74,81],[74,83,74,84],[74,86,74,87],[76,71,76,72],[76,77,76,78],[76,80,76,81],[76,83,76,84],[74,53,74,54],[74,56,74,57],[74,61,76,61],[74,62,74,63],[74,65,74,66],[74,68,74,69],[72,140,72,141],[72,143,72,144],[72,146,72,147],[74,0,76,0],[74,1,76,1],[74,2,74,3],[74,5,74,6],[74,8,74,9],[74,11,74,12],[74,16,76,16],[72,86,72,87],[72,92,72,93],[72,95,72,96],[72,98,72,99],[72,101,72,102],[72,107,72,108],[72,50,72,51],[72,53,72,54],[72,56,72,57],[72,62,72,63],[72,65,72,66],[72,68,72,69],[74,35,74,36],[74,38,74,39],[74,41,74,42],[74,46,76,46],[74,47,74,48],[74,50,74,51],[76,35,76,36],[76,38,76,39],[76,41,76,42],[76,47,76,48],[70,143,70,144],[70,146,70,147],[72,2,72,3],[72,5,72,6],[72,8,72,9],[72,11,72,12],[72,17,72,18],[72,20,72,21],[72,23,72,24],[72,26,72,27],[70,125,70,126],[70,128,70,129],[70,131,70,132],[70,136,72,136],[70,137,70,138],[70,140,70,141],[72,125,72,126],[72,128,72,129],[72,131,72,132],[72,137,72,138],[70,107,70,108],[70,110,70,111],[70,113,70,114],[70,116,70,117],[70,121,72,121],[70,122,70,123],[72,110,72,111],[72,113,72,114],[72,116,72,117],[72,122,72,123],[70,91,72,91],[70,92,70,93],[70,17,70,18],[70,20,70,21],[70,23,70,24],[70,26,70,27],[70,31,72,31],[70,32,70,33],[72,32,72,33],[70,95,70,96],[70,98,70,99],[70,101,70,102],[70,106,72,106],[70,71,70,72],[70,76,72,76],[70,77,70,78],[70,80,70,81],[70,83,70,84],[70,86,70,87],[72,71,72,72],[72,77,72,78],[72,80,72,81],[72,83,72,84],[70,53,70,54],[70,56,70,57],[70,61,72,61],[70,62,70,63],[70,65,70,66],[70,68,70,69],[68,140,68,141],[68,143,68,144],[68,146,68,147],[70,0,72,0],[70,1,72,1],[70,2,70,3],[70,5,70,6],[70,8,70,9],[70,11,70,12],[70,16,72,16],[68,86,68,87],[68,92,68,93],[68,95,68,96],[68,98,68,99],[68,101,68,102],[68,107,68,108],[68,50,68,51],[68,53,68,54],[68,56,68,57],[68,62,68,63],[68,65,68,66],[68,68,68,69],[70,35,70,36],[70,38,70,39],[70,41,70,42],[70,46,72,46],[70,47,70,48],[70,50,70,51],[72,35,72,36],[72,38,72,39],[72,41,72,42],[72,47,72,48],[66,143,66,144],[66,146,66,147],[68,2,68,3],[68,5,68,6],[68,8,68,9],[68,11,68,12],[68,17,68,18],[68,20,68,21],[68,23,68,24],[68,26,68,27],[66,125,66,126],[66,128,66,129],[66,131,66,132],[66,136,68,136],[66,137,66,138],[66,140,66,141],[68,125,68,126],[68,128,68,129],[68,131,68,132],[68,137,68,138],[66,107,66,108],[66,110,66,111],[66,113,66,114],[66,116,66,117],[66,121,68,121],[66,122,66,123],[68,110,68,111],[68,113,68,114],[68,116,68,117],[68,122,68,123],[66,91,68,91],[66,92,66,93],[66,50,66,51],[68,35,68,36],[68,38,68,39],[68,41,68,42],[68,47,68,48],[66,17,66,18],[66,20,66,21],[66,23,66,24],[66,26,66,27],[66,31,68,31],[66,32,66,33],[68,32,68,33],[66,95,66,96],[66,98,66,99],[66,101,66,102],[66,106,68,106],[66,71,66,72],[66,76,68,76],[66,77,66,78],[66,80,66,81],[66,83,66,84],[66,86,66,87],[68,71,68,72],[68,77,68,78],[68,80,68,81],[68,83,68,84],[66,53,66,54],[66,56,66,57],[66,61,68,61],[66,62,66,63],[66,65,66,66],[66,68,66,69],[58,143,59,143],[58,144,59,144],[58,145,59,145],[58,146,59,146],[58,147,59,147],[58,132,59,132],[58,138,59,138],[65,106,65,116],[65,121,65,131],[65,136,65,146],[66,0,68,0],[66,1,68,1],[66,2,66,3],[66,5,66,6],[66,8,66,9],[66,11,66,12],[66,16,68,16],[64,106,64,117],[64,121,64,132],[64,136,64,147],[65,1,65,11],[65,16,65,26],[65,31,65,41],[65,46,65,56],[65,61,65,71],[65,76,65,86],[65,91,65,101],[66,35,66,36],[66,38,66,39],[66,41,66,42],[66,46,68,46],[66,47,66,48],[63,108,63,117],[63,123,63,132],[63,138,63,147],[64,1,64,12],[64,16,64,27],[64,31,64,42],[64,46,64,57],[64,61,64,72],[64,76,64,87],[64,91,64,102],[63,3,63,12],[63,18,63,27],[63,33,63,42],[63,48,63,57],[63,63,63,72],[63,78,63,87],[63,93,63,102],[58,139,59,139],[58,140,59,140],[58,141,59,141],[58,142,59,142],[58,126,59,126],[58,127,59,127],[58,128,59,128],[58,129,59,129],[58,130,59,130],[58,131,59,131],[58,111,59,111],[58,112,59,112],[58,113,59,113],[58,114,59,114],[58,98,59,98],[58,99,59,99],[58,100,59,100],[58,101,59,101],[58,102,59,102],[58,108,59,108],[58,115,59,115],[58,116,59,116],[58,117,59,117],[58,123,59,123],[58,124,59,124],[58,125,59,125],[58,109,59,109],[58,110,59,110],[58,87,59,87],[58,93,59,93],[58,94,59,94],[58,95,59,95],[58,96,59,96],[58,97,59,97],[58,81,59,81],[58,82,59,82],[58,83,59,83],[58,84,59,84],[58,85,59,85],[58,86,59,86],[58,70,59,70],[58,71,59,71],[58,72,59,72],[58,78,59,78],[58,79,59,79],[58,80,59,80],[58,64,59,64],[58,65,59,65],[58,66,59,66],[58,67,59,67],[58,68,59,68],[58,69,59,69],[58,53,59,53],[58,54,59,54],[58,55,59,55],[58,56,59,56],[58,57,59,57],[58,63,59,63],[58,42,59,42],[58,48,59,48],[58,49,59,49],[58,50,59,50],[58,51,59,51],[58,52,59,52],[58,36,59,36],[58,37,59,37],[58,38,59,38],[58,39,59,39],[58,40,59,40],[58,41,59,41],[58,25,59,25],[58,26,59,26],[58,27,59,27],[58,33,59,33],[58,34,59,34],[58,35,59,35],[58,19,59,19],[58,20,59,20],[58,21,59,21],[58,22,59,22],[58,23,59,23],[58,24,59,24],[58,8,59,8],[58,9,59,9],[58,10,59,10],[58,11,59,11],[58,12,59,12],[58,18,59,18],[56,143,57,143],[56,144,57,144],[56,145,57,145],[56,146,57,146],[56,147,57,147],[56,101,57,101],[56,102,57,102],[56,108,57,108],[56,87,57,87],[56,93,57,93],[56,94,57,94],[56,95,57,95],[56,96,57,96],[56,97,57,97],[56,81,57,81],[56,82,57,82],[56,83,57,83],[56,84,57,84],[56,85,57,85],[56,86,57,86],[56,70,57,70],[56,71,57,71],[56,72,57,72],[56,78,57,78],[56,79,57,79],[56,80,57,80],[58,3,59,3],[58,4,59,4],[58,5,59,5],[58,6,59,6],[58,7,59,7],[56,132,57,132],[56,138,57,138],[56,139,57,139],[56,140,57,140],[56,141,57,141],[56,142,57,142],[56,126,57,126],[56,127,57,127],[56,128,57,128],[56,129,57,129],[56,130,57,130],[56,131,57,131],[56,115,57,115],[56,116,57,116],[56,117,57,117],[56,123,57,123],[56,124,57,124],[56,125,57,125],[56,109,57,109],[56,110,57,110],[56,111,57,111],[56,112,57,112],[56,113,57,113],[56,114,57,114],[56,98,57,98],[56,99,57,99],[56,100,57,100],[56,64,57,64],[56,65,57,65],[56,66,57,66],[56,67,57,67],[56,68,57,68],[56,69,57,69],[56,53,57,53],[56,54,57,54],[56,55,57,55],[56,56,57,56],[56,57,57,57],[56,63,57,63],[56,42,57,42],[56,48,57,48],[56,49,57,49],[56,50,57,50],[56,51,57,51],[56,52,57,52],[56,36,57,36],[56,37,57,37],[56,38,57,38],[56,39,57,39],[56,40,57,40],[56,41,57,41],[56,25,57,25],[56,26,57,26],[56,27,57,27],[56,33,57,33],[56,34,57,34],[56,35,57,35],[56,19,57,19],[56,20,57,20],[56,21,57,21],[56,22,57,22],[56,23,57,23],[56,24,57,24],[56,8,57,8],[56,9,57,9],[56,10,57,10],[56,11,57,11],[56,12,57,12],[56,18,57,18],[54,143,55,143],[54,144,55,144],[54,145,55,145],[54,146,55,146],[54,147,55,147],[54,101,55,101],[54,102,55,102],[54,108,55,108],[54,87,55,87],[54,93,55,93],[54,94,55,94],[54,95,55,95],[54,96,55,96],[54,97,55,97],[54,81,55,81],[54,82,55,82],[54,83,55,83],[54,84,55,84],[54,85,55,85],[54,86,55,86],[54,70,55,70],[54,71,55,71],[54,72,55,72],[54,78,55,78],[54,79,55,79],[54,80,55,80],[56,3,57,3],[56,4,57,4],[56,5,57,5],[56,6,57,6],[56,7,57,7],[54,132,55,132],[54,138,55,138],[54,139,55,139],[54,140,55,140],[54,141,55,141],[54,142,55,142],[54,126,55,126],[54,127,55,127],[54,128,55,128],[54,129,55,129],[54,130,55,130],[54,131,55,131],[54,115,55,115],[54,116,55,116],[54,117,55,117],[54,123,55,123],[54,124,55,124],[54,125,55,125],[54,109,55,109],[54,110,55,110],[54,111,55,111],[54,112,55,112],[54,113,55,113],[54,114,55,114],[54,98,55,98],[54,99,55,99],[54,100,55,100],[54,64,55,64],[54,65,55,65],[54,66,55,66],[54,67,55,67],[54,68,55,68],[54,69,55,69],[54,53,55,53],[54,54,55,54],[54,55,55,55],[54,56,55,56],[54,57,55,57],[54,63,55,63],[54,42,55,42],[54,48,55,48],[54,49,55,49],[54,50,55,50],[54,51,55,51],[54,52,55,52],[54,36,55,36],[54,37,55,37],[54,38,55,38],[54,39,55,39],[54,40,55,40],[54,41,55,41],[54,25,55,25],[54,26,55,26],[54,27,55,27],[54,33,55,33],[54,34,55,34],[54,35,55,35],[54,19,55,19],[54,20,55,20],[54,21,55,21],[54,22,55,22],[54,23,55,23],[54,24,55,24],[54,8,55,8],[54,9,55,9],[54,10,55,10],[54,11,55,11],[54,12,55,12],[54,18,55,18],[52,143,53,143],[52,144,53,144],[52,145,53,145],[52,146,53,146],[52,147,53,147],[52,101,53,101],[52,102,53,102],[52,108,53,108],[52,87,53,87],[52,93,53,93],[52,94,53,94],[52,95,53,95],[52,96,53,96],[52,97,53,97],[52,81,53,81],[52,82,53,82],[52,83,53,83],[52,84,53,84],[52,85,53,85],[52,86,53,86],[52,70,53,70],[52,71,53,71],[52,72,53,72],[52,78,53,78],[52,79,53,79],[52,80,53,80],[54,3,55,3],[54,4,55,4],[54,5,55,5],[54,6,55,6],[54,7,55,7],[52,132,53,132],[52,138,53,138],[52,139,53,139],[52,140,53,140],[52,141,53,141],[52,142,53,142],[52,126,53,126],[52,127,53,127],[52,128,53,128],[52,129,53,129],[52,130,53,130],[52,131,53,131],[52,115,53,115],[52,116,53,116],[52,117,53,117],[52,123,53,123],[52,124,53,124],[52,125,53,125],[52,109,53,109],[52,110,53,110],[52,111,53,111],[52,112,53,112],[52,113,53,113],[52,114,53,114],[52,98,53,98],[52,99,53,99],[52,100,53,100],[52,64,53,64],[52,65,53,65],[52,66,53,66],[52,67,53,67],[52,68,53,68],[52,69,53,69],[52,53,53,53],[52,54,53,54],[52,55,53,55],[52,56,53,56],[52,57,53,57],[52,63,53,63],[52,42,53,42],[52,48,53,48],[52,49,53,49],[52,50,53,50],[52,51,53,51],[52,52,53,52],[52,36,53,36],[52,37,53,37],[52,38,53,38],[52,39,53,39],[52,40,53,40],[52,41,53,41],[52,25,53,25],[52,26,53,26],[52,27,53,27],[52,33,53,33],[52,34,53,34],[52,35,53,35],[52,19,53,19],[52,20,53,20],[52,21,53,21],[52,22,53,22],[52,23,53,23],[52,24,53,24],[52,8,53,8],[52,9,53,9],[52,10,53,10],[52,11,53,11],[52,12,53,12],[52,18,53,18],[50,143,51,143],[50,144,51,144],[50,145,51,145],[50,146,51,146],[50,147,51,147],[50,101,51,101],[50,102,51,102],[50,108,51,108],[50,87,51,87],[50,93,51,93],[50,94,51,94],[50,95,51,95],[50,96,51,96],[50,97,51,97],[50,81,51,81],[50,82,51,82],[50,83,51,83],[50,84,51,84],[50,85,51,85],[50,86,51,86],[50,70,51,70],[50,71,51,71],[50,72,51,72],[50,78,51,78],[50,79,51,79],[50,80,51,80],[52,3,53,3],[52,4,53,4],[52,5,53,5],[52,6,53,6],[52,7,53,7],[50,132,51,132],[50,138,51,138],[50,139,51,139],[50,140,51,140],[50,141,51,141],[50,142,51,142],[50,126,51,126],[50,127,51,127],[50,128,51,128],[50,129,51,129],[50,130,51,130],[50,131,51,131],[50,115,51,115],[50,116,51,116],[50,117,51,117],[50,123,51,123],[50,124,51,124],[50,125,51,125],[50,109,51,109],[50,110,51,110],[50,111,51,111],[50,112,51,112],[50,113,51,113],[50,114,51,114],[50,98,51,98],[50,99,51,99],[50,100,51,100],[50,64,51,64],[50,65,51,65],[50,66,51,66],[50,67,51,67],[50,68,51,68],[50,69,51,69],[50,53,51,53],[50,54,51,54],[50,55,51,55],[50,56,51,56],[50,57,51,57],[50,63,51,63],[50,42,51,42],[50,48,51,48],[50,49,51,49],[50,50,51,50],[50,51,51,51],[50,52,51,52],[50,36,51,36],[50,37,51,37],[50,38,51,38],[50,39,51,39],[50,40,51,40],[50,41,51,41],[50,25,51,25],[50,26,51,26],[50,27,51,27],[50,33,51,33],[50,34,51,34],[50,35,51,35],[50,19,51,19],[50,20,51,20],[50,21,51,21],[50,22,51,22],[50,23,51,23],[50,24,51,24],[50,8,51,8],[50,9,51,9],[50,10,51,10],[50,11,51,11],[50,12,51,12],[50,18,51,18],[48,143,49,143],[48,144,49,144],[48,145,49,145],[48,146,49,146],[48,147,49,147],[48,101,49,101],[48,102,49,102],[48,108,49,108],[48,87,49,87],[48,93,49,93],[48,94,49,94],[48,95,49,95],[48,96,49,96],[48,97,49,97],[48,81,49,81],[48,82,49,82],[48,83,49,83],[48,84,49,84],[48,85,49,85],[48,86,49,86],[48,70,49,70],[48,71,49,71],[48,72,49,72],[48,78,49,78],[48,79,49,79],[48,80,49,80],[50,3,51,3],[50,4,51,4],[50,5,51,5],[50,6,51,6],[50,7,51,7],[48,132,49,132],[48,138,49,138],[48,139,49,139],[48,140,49,140],[48,141,49,141],[48,142,49,142],[48,126,49,126],[48,127,49,127],[48,128,49,128],[48,129,49,129],[48,130,49,130],[48,131,49,131],[48,115,49,115],[48,116,49,116],[48,117,49,117],[48,123,49,123],[48,124,49,124],[48,125,49,125],[48,109,49,109],[48,110,49,110],[48,111,49,111],[48,112,49,112],[48,113,49,113],[48,114,49,114],[48,98,49,98],[48,99,49,99],[48,100,49,100],[48,64,49,64],[48,65,49,65],[48,66,49,66],[48,67,49,67],[48,68,49,68],[48,69,49,69],[48,53,49,53],[48,54,49,54],[48,55,49,55],[48,56,49,56],[48,57,49,57],[48,63,49,63],[48,42,49,42],[48,48,49,48]],"merged_total":1923,"flags":["merged_cut"]}
[null,null,"SEANCE 1",null,null,null,null,null,null,null,null,null,null,null,null,null,null,"SEANCE 2",null,null,null,null,null,null,null,null,null,null,null,null,null,null,"SEANCE 3",null,null,null,null,null,null,null,null,null,null,null,null,null,null,"SEANCE 4",null,null,null,null,null,null,null,null,null,null,null,null,null,null,"SEANCE 5",null,null,null,null,null,null,null,null,null,null,null,null,null,null,"SEANCE 6",null,null,null,null,null,null,null,null,null,null,null,null,null,null,"SEANCE 7",null,null,null,null,null,null,null,null,null,null,null,null,null,null,"SEANCE 8",null,null,null,null,null,null,null,null,null,null,null,null,null,null,"SEANCE 9",null,null,null,null,null,null,null,null,null,null,null,null,null,null,"SEANCE 10"]
[null,"TPROE",null,null,null,null,null,null,null,null,null,null,null,null,null,null,{"$f":"$B$2","v":"TPROE"},null,null,null,null,null,null,null,null,null,null,null,null,null,null,{"$f":"$B$2","v":"TPROE"},null,null,null,null,null,null,null,null,null,null,null,null,null,null,{"$f":"$B$2","v":"TPROE"},null,null,null,null,null,null,null,null,null,null,null,null,null,null,{"$f":"$B$2","v":"TPROE"},null,null,null,null,null,null,null,null,null,null,null,null,null,null,{"$f":"$B$2","v":"TPROE"},null,null,null,null,null,null,null,null,null,null,null,null,null,null,{"$f":"$B$2","v":"TPROE"},null,null,null,null,null,null,null,null,null,null,null,null,null,null,{"$f":"$B$2","v":"TPROE"},null,null,null,null,null,null,null,null,null,null,null,null,null,null,{"$f":"$B$2","v":"TPROE"},null,null,null,null,null,null,null,null,null,null,null,null,null,null,{"$f":"$B$2","v":"TPROE"}]
[null,"Abdelwahid",null,"Nom du groupe",null,null,null,null,null,null,null,null,null,null,null,null,{"$f":"$B$3","v":"Abdelwahid"},null,{"$f":"D3","v":"Nom du groupe"},null,null,null,null,null,null,null,null,null,null,null,null,{"$f":"$B$3","v":"Abdelwahid"},null,{"$f":"S3","v":"Nom du groupe"},null,null,null,null,null,null,null,null,null,null,null,null,{"$f":"$B$3","v":"Abdelwahid"},null,{"$f":"AH3","v":"Nom du groupe"},null,null,null,null,null,null,null,null,null,null,null,null,{"$f":"$B$3","v":"Abdelwahid"},null,"Nom du groupe",null,null,null,null,null,null,null,null,null,null,null,null,{"$f":"$B$3","v":"Abdelwahid"},null,{"$f":"BL3","v":"Nom du groupe"},null,null,null,null,null,null,null,null,null,null,null,null,{"$f":"$B$3","v":"Abdelwahid"},null,{"$f":"CA3","v":"Nom du groupe"},null,null,null,null,null,null,null,null,null,null,null,null,{"$f":"$B$3","v":"Abdelwahid"},null,{"$f":"CP3","v":"Nom du groupe"},null,null,null,null,null,null,null,null,null,null,null,null,{"$f":"$B$3","v":"Abdelwahid"},null,{"$f":"DE3","v":"Nom du groupe"},null,null,null,null,null,null,null,null,null,null,null,null,{"$f":"$B$3","v":"Abdelwahid"},null,{"$f":"DT3","v":"Nom du groupe"}]
[null,"FREQUENCE CARDIAQUE",null,null,null,null,null,null,null,null,null,null,null,null,null,null,"FREQUENCE CARDIAQUE",null,null,null,null,null,null,null,null,null,null,null,null,null,null,"FREQUENCE CARDIAQUE",null,null,null,null,null,null,null,null,null,null,null,null,null,null,"FREQUENCE CARDIAQUE",null,null,null,null,null,null,null,null,null,null,null,null,null,null,"FREQUENCE CARDIAQUE",null,null,null,null,null,null,null,null,null,null,null,null,null,null,"FREQUENCE CARDIAQUE",null,null,null,null,null,null,null,null,null,null,null,null,null,null,"FREQUENCE CARDIAQUE",null,null,null,null,null,null,null,null,null,null,null,null,null,null,"FREQUENCE CARDIAQUE",null,null,null,null,null,null,null,null,null,null,null,null,null,null,"FREQUENCE CARDIAQUE",null,null,null,null,null,null,null,null,null,null,null,null,null,null,"FREQUENCE CARDIAQUE"]
["FC AU REPOS",70,"bpm",null,null,null,null,null,null,null,null,null,null,null,null,null,70,"bpm",null,null,null,null,null,null,null,null,null,null,null,null,null,70,"bpm",null,null,null,null,null,null,null,null,null,null,null,null,null,70,"bpm",null,null,null,null,null,null,null,null,null,null,null,null,null,70,"bpm",null,null,null,null,null,null,null,null,null,null,null,null,null,70,"bpm",null,null,null,null,null,null,null,null,null,null,null,null,null,70,"bpm",null,null,null,null,null,null,null,null,null,null,null,null,null,70,"bpm",null,null,null,null,null,null,null,null,null,null,null,null,null,70,"bpm",null,null,null,null,null,null,null,null,null,null,null,null,null,70,"bpm"]
["AGE",16,"ans",null,null,null,null,null,null,null,null,null,null,null,null,null,{"$f":"B6","v":16},"ans",null,null,null,null,null,null,null,null,null,null,null,null,null,{"$f":"Q6","v":16},"ans",null,null,null,null,null,null,null,null,null,null,null,null,null,{"$f":"AF6","v":16},"ans",null,null,null,null,null,null,null,null,null,null,null,null,null,{"$f":"AU6","v":16},"ans",null,null,null,null,null,null,null,null,null,null,null,null,null,{"$f":"BJ6","v":16},"ans",null,null,null,null,null,null,null,null,null,null,null,null,null,{"$f":"BY6","v":16},"ans",null,null,null,null,null,null,null,null,null,null,null,null,null,{"$f":"CN6","v":16},"ans",null,null,null,null,null,null,null,null,null,null,null,null,null,{"$f":"DC6","v":16},"ans",null,null,null,null,null,null,null,null,null,null,null,null,null,{"$f":"DR6","v":16},"ans"]
["FC max",{"$f":"220-B6","v":204},"bpm",null,null,null,null,null,null,null,null,null,null,null,null,null,{"$f":"220-Q6","v":204},"bpm",null,null,null,null,null,null,null,null,null,null,null,null,null,{"$f":"220-AF6","v":204},"bpm",null,null,null,null,null,null,null,null,null,null,null,null,null,{"$f":"220-AU6","v":204},"bpm",null,null,null,null,null,null,null,null,null,null,null,null,null,{"$f":"220-BJ6","v":204},"bpm",null,null,null,null,null,null,null,null,null,null,null,null,null,{"$f":"220-BY6","v":204},"bpm",null,null,null,null,null,null,null,null,null,null,null,null,null,{"$f":"220-CN6","v":204},"bpm",null,null,null,null,null,null,null,null,null,null,null,null,null,{"$f":"220-DC6","v":204},"bpm",null,null,null,null,null,null,null,null,null,null,null,null,null,{"$f":"220-DR6","v":204},"bpm",null,null,null,null,null,null,null,null,null,null,null,null,null,{"$f":"220-EG6","v":204},"bpm"]
["FC Réserve",{"$f":"B7-B5","v":134},"bpm",null,null,null,null,null,null,null,null,null,null,null,null,null,{"$f":"Q7-Q5","v":134},"bpm",null,null,null,null,null,null,null,null,null,null,null,null,null,{"$f":"AF7-AF5","v":134},"bpm",null,null,null,null,null,null,null,null,null,null,null,null,null,{"$f":"AU7-AU5","v":134},"bpm",null,null,null,null,null,null,null,null,null,null,null,null,null,{"$f":"BJ7-BJ5","v":134},"bpm",null,null,null,null,null,null,null,null,null,null,null,null,null,{"$f":"BY7-BY5","v":134},"bpm",null,null,null,null,null,null,null,null,null,null,null,null,null,{"$f":"CN7-CN5","v":134},"bpm",null,null,null,null,null,null,null,null,null,null,null,null,null,{"$f":"DC7-DC5","v":134},"bpm",null,null,null,null,null,null,null,null,null,null,null,null,null,{"$f":"DR7-DR5","v":134},"bpm",null,null,null,null,null,null,null,null,null,null,null,null,null,{"$f":"EG7-EG5","v":134},"bpm"]
["% Intensité travail choisi",85,"%",null,null,null,null,null,null,null,null,null,null,null,null,null,85,"%",null,null,null,null,null,null,null,null,null,null,null,null,null,85,"%",null,null,null,null,null,null,null,null,null,null,null,null,null,85,"%",null,null,null,null,null,null,null,null,null,null,null,null,null,85,"%",null,null,null,null,null,null,null,null,null,null,null,null,null,85,"%",null,null,null,null,null,null,null,null,null,null,null,null,null,85,"%",null,null,null,null,null,null,null,null,null,null,null,null,null,85,"%",null,null,null,null,null,null,null,null,null,null,null,null,null,85,"%",null,null,null,null,null,null,null,null,null,null,null,null,null,85,"%"]
["FC ENTRAINEMENT",{"$f":"B8*B9/100 +B5","v":183.9},"bpm",null,null,null,null,null,null,null,null,null,null,null,null,null,{"$f":"Q8*Q9/100 +Q5","v":183.9},"bpm",null,null,null,null,null,null,null,null,null,null,null,null,null,{"$f":"AF8*AF9/100 +AF5","v":183.9},"bpm",null,null,null,null,null,null,null,null,null,null,null,null,null,{"$f":"AU8*AU9/100 +AU5","v":183.9},"bpm",null,null,null,null,null,null,null,null,null,null,null,null,null,{"$f":"BJ8*BJ9/100 +BJ5","v":183.9},"bpm",null,null,null,null,null,null,null,null,null,null,null,null,null,{"$f":"BY8*BY9/100 +BY5","v":183.9},"bpm",null,null,null,null,null,null,null,null,null,null,null,null,null,{"$f":"CN8*CN9/100 +CN5","v":183.9},"bpm",null,null,null,null,null,null,null,null,null,null,null,null,null,{"$f":"DC8*DC9/100 +DC5","v":183.9},"bpm",null,null,null,null,null,null,null,null,null,null,null,null,null,{"$f":"DR8*DR9/100 +DR5","v":183.9},"bpm",null,null,null,null,null,null,null,null,null,null,null,null,null,{"$f":"EG8*EG9/100 +EG5","v":183.9},"bpm"]
[null,"FC max = 226 - âge ",null,null,"FC Réserve = FC max - FC repos",null,null,"FC Entrainement = FC Réserve x % intensité travail choisi + FC repos",null,null,null,null,null,null,null,null,"FC max = 226 - âge ",null,null,"FC Réserve = FC max - FC repos",null,null,"FC Entrainement = FC Réserve x % intensité travail choisi + FC repos",null,null,null,null,null,null,null,null,"FC max = 226 - âge ",null,null,"FC Réserve = FC max - FC repos",null,null,"FC Entrainement = FC Réserve x % intensité travail choisi + FC repos",null,null,null,null,null,null,null,null,"FC max = 226 - âge ",null,null,"FC Réserve = FC max - FC repos",null,null,"FC Entrainement = FC Réserve x % intensité travail choisi + FC repos",null,null,null,null,null,null,null,null,"FC max = 226 - âge ",null,null,"FC Réserve = FC max - FC repos",null,null,"FC Entrainement = FC Réserve x % intensité travail choisi + FC repos",null,null,null,null,null,null,null,null,"FC max = 226 - âge ",null,null,"FC Réserve = FC max - FC repos",null,null,"FC Entrainement = FC Réserve x % intensité travail choisi + FC repos",null,null,null,null,null,null,null,null,"FC max = 226 - âge ",null,null,"FC Réserve = FC max - FC repos",null,null,"FC Entrainement = FC Réserve x % intensité travail choisi + FC repos",null,null,null,null,null,null,null,null,"FC max = 226 - âge ",null,null,"FC Réserve = FC max - FC repos",null,null,"FC Entrainement = FC Réserve x % intensité travail choisi + FC repos",null,null,null,null,null,null,null,null,"FC max = 226 - âge ",null,null,"FC Réserve = FC max - FC repos",null,null,"FC Entrainement = FC Réserve x % intensité travail choisi + FC repos",null,null,null,null,null,null,null,null,"FC max = 226 - âge ",null,null,"FC Réserve = FC max - FC repos",null,null,"FC Entrainement = FC Réserve x % intensité travail choisi + FC repos"]
[]
[null,"CHOIX DU MOBILE",null,null,null,null,null,null,null,null,null,null,null,null,null,null,"CHOIX DU MOBILE",null,null,null,null,null,null,null,null,null,null,null,null,null,null,"CHOIX DU MOBILE",null,null,null,null,null,null,null,null,null,null,null,null,null,null,"CHOIX DU MOBILE",null,null,null,null,null,null,null,null,null,null,null,null,null,null,"CHOIX DU MOBILE",null,null,null,null,null,null,null,null,null,null,null,null,null,null,"CHOIX DU MOBILE",null,null,null,null,null,null,null,null,null,null,null,null,null,null,"CHOIX DU MOBILE",null,null,null,null,null,null,null,null,null,null,null,null,null,null,"CHOIX DU MOBILE",null,null,null,null,null,null,null,null,null,null,null,null,null,null,"CHOIX DU MOBILE",null,null,null,null,null,null,null,null,null,null,null,null,null,null,"CHOIX DU MOBILE"]
["Choix du mobile",null,null,"Effort bref et intense",null,null,null,null,null,null,null,null,null,null,null,null,null,null,"Effort long et soutenu",null,null,null,null,null,null,null,null,null,null,null,null,null,null,"Effort modéré et prolongé",null,null,null,null,null,null,null,null,null,null,null,null,null,null,"Mobiles",null,null,null,null,null,null,null,null,null,null,null,null,null,null,"Mobiles",null,null,null,null,null,null,null,null,null,null,null,null,null,null,"Mobiles",null,null,null,null,null,null,null,null,null,null,null,null,null,null,"Mobiles",null,null,null,null,null,null,null,null,null,null,null,null,null,null,"Mobiles",null,null,null,null,null,null,null,null,null,null,null,null,null,null,"Mobiles",null,null,null,null,null,null,null,null,null,null,null,null,null,null,"Mobiles"]
["Temps de travail",null,null,{"$f":"VLOOKUP(D14,DEBUTSTEP!$V$4:$X$25,2,FALSE)","v":"12 à 18'"},null,null,null,null,null,null,null,null,null,null,null,null,null,null,{"$f":"VLOOKUP(S14,DEBUTSTEP!$V$4:$X$25,2,FALSE)","v":"16 à 22'"},null,null,null,null,null,null,null,null,null,null,null,null,null,null,{"$f":"VLOOKUP(AH14,DEBUTSTEP!$V$4:$X$25,2,FALSE)","v":"20 à 26'"},null,null,null,null,null,null,null,null,null,null,null,null,null,null,{"$f":"VLOOKUP(AW14,DEBUTSTEP!$V$4:$X$25,2,FALSE)","v":"Temps de travail"},null,null,null,null,null,null,null,null,null,null,null,null,null,null,{"$f":"VLOOKUP(BL14,DEBUTSTEP!$V$4:$X$25,2,FALSE)","v":"Temps de travail"},null,null,null,null,null,null,null,null,null,null,null,null,null,null,{"$f":"VLOOKUP(CA14,DEBUTSTEP!$V$4:$X$25,2,FALSE)","v":"Temps de travail"},null,null,null,null,null,null,null,null,null,null,null,null,null,null,{"$f":"VLOOKUP(CP14,DEBUTSTEP!$V$4:$X$25,2,FALSE)","v":"Temps de travail"},null,null,null,null,null,null,null,null,null,null,null,null,null,null,{"$f":"VLOOKUP(DE14,DEBUTSTEP!$V$4:$X$25,2,FALSE)","v":"Temps de travail"},null,null,null,null,null,null,null,null,null,null,null,null,null,null,{"$f":"VLOOKUP(DT14,DEBUTSTEP!$V$4:$X$25,2,FALSE)","v":"Temps de travail"},null,null,null,null,null,null,null,null,null,null,null,null,null,null,{"$f":"VLOOKUP(EI14,DEBUTSTEP!$V$4:$X$25,2,FALSE)","v":"Temps de travail"}]
[]
["Mobile ","Quel type d'effort ?",null,1,null,null,2,null,null,3,null,null,null,null,null,null,"Quel type d'effort ?",null,1,null,null,2,null,null,3,null,null,null,null,null,null,"Quel type d'effort ?",null,1,null,null,2,null,null,3,null,null,null,null,null,null,"Quel type d'effort ?",null,1,null,null,2,null,null,3,null,null,null,null,null,null,"Quel type d'effort ?",null,1,null,null,2,null,null,3,null,null,null,null,null,null,"Quel type d'effort ?",null,1,null,null,2,null,null,3,null,null,null,null,null,null,"Quel type d'effort ?",null,1,null,null,2,null,null,3,null,null,null,null,null,null,"Quel type d'effort ?",null,1,null,null,2,null,null,3,null,null,null,null,null,null,"Quel type d'effort ?",null,1,null,null,2,null,null,3,null,null,null,null,null,null,"Quel type d'effort ?",null,1,null,null,2,null,null,3]
[null,null,null,"Effort bref et intense",null,null,"Effort long et soutenu",null,null,"Effort modéré et prolongé",null,null,null,null,null,null,null,null,"Effort bref et intense",null,null,"Effort long et soutenu",null,null,"Effort modéré et prolongé",null,null,null,null,null,null,null,null,"Effort bref et intense",null,null,"Effort long et soutenu",null,null,"Effort modéré et prolongé",null,null,null,null,null,null,null,null,"Effort bref et intense",null,null,"Effort long et soutenu",null,null,"Effort modéré et prolongé",null,null,null,null,null,null,null,null,"Effort bref et intense",null,null,"Effort long et soutenu",null,null,"Effort modéré et prolongé",null,null,null,null,null,null,null,null,"Effort bref et intense",null,null,"Effort long et soutenu",null,null,"Effort modéré et prolongé",null,null,null,null,null,null,null,null,"Effort bref et intense",null,null,"Effort long et soutenu",null,null,"Effort modéré et prolongé",null,null,null,null,null,null,null,null,"Effort bref et intense",null,null,"Effort long et soutenu",null,null,"Effort modéré et prolongé",null,null,null,null,null,null,null,null,"Effort bref et intense",null,null,"Effort long et soutenu",null,null,"Effort modéré et prolongé",null,null,null,null,null,null,null,null,"Effort bref et intense",null,null,"Effort long et soutenu",null,null,"Effort modéré et prolongé"]
["Filières énergétiques","Quelles qualités développées ?",null,{"$f":"VLOOKUP($D$18,DEBUTSTEP!$V$4:$AG$22,7,FALSE)","v":"La puissance aérobie"},null,null,{"$f":"VLOOKUP($G$18,DEBUTSTEP!$V$4:$AG$22,7,FALSE)","v":"La capacité aérobie"},null,null,{"$f":"VLOOKUP($J$18,DEBUTSTEP!$V$4:$AG$22,7,FALSE)","v":"L’endurance fondamentale"},null,null,null,null,null,null,"Quelles qualités développées ?",null,{"$f":"VLOOKUP($D$18,DEBUTSTEP!$V$4:$AG$22,7,FALSE)","v":"La puissance aérobie"},null,null,{"$f":"VLOOKUP($G$18,DEBUTSTEP!$V$4:$AG$22,7,FALSE)","v":"La capacité aérobie"},null,null,{"$f":"VLOOKUP($J$18,DEBUTSTEP!$V$4:$AG$22,7,FALSE)","v":"L’endurance fondamentale"},null,null,null,null,null,null,"Quelles qualités développées ?",null,{"$f":"VLOOKUP($D$18,DEBUTSTEP!$V$4:$AG$22,7,FALSE)","v":"La puissance aérobie"},null,null,{"$f":"VLOOKUP($G$18,DEBUTSTEP!$V$4:$AG$22,7,FALSE)","v":"La capacité aérobie"},null,null,{"$f":"VLOOKUP($J$18,DEBUTSTEP!$V$4:$AG$22,7,FALSE)","v":"L’endurance fondamentale"},null,null,null,null,null,null,"Quelles qualités développées ?",null,{"$f":"VLOOKUP($D$18,DEBUTSTEP!$V$4:$AG$22,7,FALSE)","v":"La puissance aérobie"},null,null,{"$f":"VLOOKUP($G$18,DEBUTSTEP!$V$4:$AG$22,7,FALSE)","v":"La capacité aérobie"},null,null,{"$f":"VLOOKUP($J$18,DEBUTSTEP!$V$4:$AG$22,7,FALSE)","v":"L’endurance fondamentale"},null,null,null,null,null,null,"Quelles qualités développées ?",null,{"$f":"VLOOKUP($D$18,DEBUTSTEP!$V$4:$AG$22,7,FALSE)","v":"La puissance aérobie"},null,null,{"$f":"VLOOKUP($G$18,DEBUTSTEP!$V$4:$AG$22,7,FALSE)","v":"La capacité aérobie"},null,null,{"$f":"VLOOKUP($J$18,DEBUTSTEP!$V$4:$AG$22,7,FALSE)","v":"L’endurance fondamentale"},null,null,null,null,null,null,"Quelles qualités développées ?",null,{"$f":"VLOOKUP($D$18,DEBUTSTEP!$V$4:$AG$22,7,FALSE)","v":"La puissance aérobie"},null,null,{"$f":"VLOOKUP($G$18,DEBUTSTEP!$V$4:$AG$22,7,FALSE)","v":"La capacité aérobie"},null,null,{"$f":"VLOOKUP($J$18,DEBUTSTEP!$V$4:$AG$22,7,FALSE)","v":"L’endurance fondamentale"},null,null,null,null,null,null,"Quelles qualités développées ?",null,{"$f":"VLOOKUP($D$18,DEBUTSTEP!$V$4:$AG$22,7,FALSE)","v":"La puissance aérobie"},null,null,{"$f":"VLOOKUP($G$18,DEBUTSTEP!$V$4:$AG$22,7,FALSE)","v":"La capacité aérobie"},null,null,{"$f":"VLOOKUP($J$18,DEBUTSTEP!$V$4:$AG$22,7,FALSE)","v":"L’endurance fondamentale"},null,null,null,null,null,null,"Quelles qualités développées ?",null,{"$f":"VLOOKUP($D$18,DEBUTSTEP!$V$4:$AG$22,7,FALSE)","v":"La puissance aérobie"},null,null,{"$f":"VLOOKUP($G$18,DEBUTSTEP!$V$4:$AG$22,7,FALSE)","v":"La capacité aérobie"},null,null,{"$f":"VLOOKUP($J$18,DEBUTSTEP!$V$4:$AG$22,7,FALSE)","v":"L’endurance fondamentale"},null,null,null,null,null,null,"Quelles qualités développées ?",null,{"$f":"VLOOKUP($D$18,DEBUTSTEP!$V$4:$AG$22,7,FALSE)","v":"La puissance aérobie"},null,null,{"$f":"VLOOKUP($G$18,DEBUTSTEP!$V$4:$AG$22,7,FALSE)","v":"La capacité aérobie"},null,null,{"$f":"VLOOKUP($J$18,DEBUTSTEP!$V$4:$AG$22,7,FALSE)","v":"L’endurance fondamentale"},null,null,null,null,null,null,"Quelles qualités développées ?",null,{"$f":"VLOOKUP($D$18,DEBUTSTEP!$V$4:$AG$22,7,FALSE)","v":"La puissance aérobie"},null,null,{"$f":"VLOOKUP($G$18,DEBUTSTEP!$V$4:$AG$22,7,FALSE)","v":"La capacité aérobie"},null,null,{"$f":"VLOOKUP($J$18,DEBUTSTEP!$V$4:$AG$22,7,FALSE)","v":"L’endurance fondamentale"}]
["FCE",null,null,{"$f":"VLOOKUP($D$18,DEBUTSTEP!$V$4:$AC$22,6,FALSE)","v":">85% de FCR"},null,null,{"$f":"VLOOKUP($G$18,DEBUTSTEP!$V$4:$AC$22,6,FALSE)","v":"70 à 85% de FCR"},null,null,{"$f":"VLOOKUP($J$18,DEBUTSTEP!$V$4:$AC$22,6,FALSE)","v":"50 à 65% de FCR"},null,null,null,null,null,null,null,null,{"$f":"VLOOKUP($D$18,DEBUTSTEP!$V$4:$AC$22,6,FALSE)","v":">85% de FCR"},null,null,{"$f":"VLOOKUP($G$18,DEBUTSTEP!$V$4:$AC$22,6,FALSE)","v":"70 à 85% de FCR"},null,null,{"$f":"VLOOKUP($J$18,DEBUTSTEP!$V$4:$AC$22,6,FALSE)","v":"50 à 65% de FCR"},null,null,null,null,null,null,null,null,{"$f":"VLOOKUP($D$18,DEBUTSTEP!$V$4:$AC$22,6,FALSE)","v":">85% de FCR"},null,null,{"$f":"VLOOKUP($G$18,DEBUTSTEP!$V$4:$AC$22,6,FALSE)","v":"70 à 85% de FCR"},null,null,{"$f":"VLOOKUP($J$18,DEBUTSTEP!$V$4:$AC$22,6,FALSE)","v":"50 à 65% de FCR"},null,null,null,null,null,null,null,null,{"$f":"VLOOKUP($D$18,DEBUTSTEP!$V$4:$AC$22,6,FALSE)","v":">85% de FCR"},null,null,{"$f":"VLOOKUP($G$18,DEBUTSTEP!$V$4:$AC$22,6,FALSE)","v":"70 à 85% de FCR"},null,null,{"$f":"VLOOKUP($J$18,DEBUTSTEP!$V$4:$AC$22,6,FALSE)","v":"50 à 65% de FCR"},null,null,null,null,null,null,null,null,{"$f":"VLOOKUP($D$18,DEBUTSTEP!$V$4:$AC$22,6,FALSE)","v":">85% de FCR"},null,null,{"$f":"VLOOKUP($G$18,DEBUTSTEP!$V$4:$AC$22,6,FALSE)","v":"70 à 85% de FCR"},null,null,{"$f":"VLOOKUP($J$18,DEBUTSTEP!$V$4:$AC$22,6,FALSE)","v":"50 à 65% de FCR"},null,null,null,null,null,null,null,null,{"$f":"VLOOKUP($D$18,DEBUTSTEP!$V$4:$AC$22,6,FALSE)","v":">85% de FCR"},null,null,{"$f":"VLOOKUP($G$18,DEBUTSTEP!$V$4:$AC$22,6,FALSE)","v":"70 à 85% de FCR"},null,null,{"$f":"VLOOKUP($J$18,DEBUTSTEP!$V$4:$AC$22,6,FALSE)","v":"50 à 65% de FCR"},null,null,null,null,null,null,null,null,{"$f":"VLOOKUP($D$18,DEBUTSTEP!$V$4:$AC$22,6,FALSE)","v":">85% de FCR"},null,null,{"$f":"VLOOKUP($G$18,DEBUTSTEP!$V$4:$AC$22,6,FALSE)","v":"70 à 85% de FCR"},null,null,{"$f":"VLOOKUP($J$18,DEBUTSTEP!$V$4:$AC$22,6,FALSE)","v":"50 à 65% de FCR"},null,null,null,null,null,null,null,null,{"$f":"VLOOKUP($D$18,DEBUTSTEP!$V$4:$AC$22,6,FALSE)","v":">85% de FCR"},null,null,{"$f":"VLOOKUP($G$18,DEBUTSTEP!$V$4:$AC$22,6,FALSE)","v":"70 à 85% de FCR"},null,null,{"$f":"VLOOKUP($J$18,DEBUTSTEP!$V$4:$AC$22,6,FALSE)","v":"50 à 65% de FCR"},null,null,null,null,null,null,null,null,{"$f":"VLOOKUP($D$18,DEBUTSTEP!$V$4:$AC$22,6,FALSE)","v":">85% de FCR"},null,null,{"$f":"VLOOKUP($G$18,DEBUTSTEP!$V$4:$AC$22,6,FALSE)","v":"70 à 85% de FCR"},null,null,{"$f":"VLOOKUP($J$18,DEBUTSTEP!$V$4:$AC$22,6,FALSE)","v":"50 à 65% de FCR"},null,null,null,null,null,null,null,null,{"$f":"VLOOKUP($D$18,DEBUTSTEP!$V$4:$AC$22,6,FALSE)","v":">85% de FCR"},null,null,{"$f":"VLOOKUP($G$18,DEBUTSTEP!$V$4:$AC$22,6,FALSE)","v":"70 à 85% de FCR"},null,null,{"$f":"VLOOKUP($J$18,DEBUTSTEP!$V$4:$AC$22,6,FALSE)","v":"50 à 65% de FCR"}]
["Temps de travail","Alterner temps de travail et récupération à une intenisté adaptée à l'objectif",null,{"$f":"VLOOKUP($D$18,DEBUTSTEP!$V$4:$AC$22,2,FALSE)","v":"12 à 18'"},null,null,{"$f":"VLOOKUP($G$18,DEBUTSTEP!$V$4:$AC$22,2,FALSE)","v":"16 à 22'"},null,null,{"$f":"VLOOKUP($J$18,DEBUTSTEP!$V$4:$AC$22,2,FALSE)","v":"20 à 26'"},null,null,null,null,null,null,"Alterner temps de travail et récupération à une intenisté adaptée à l'objectif",null,{"$f":"VLOOKUP($D$18,DEBUTSTEP!$V$4:$AC$22,2,FALSE)","v":"12 à 18'"},null,null,{"$f":"VLOOKUP($G$18,DEBUTSTEP!$V$4:$AC$22,2,FALSE)","v":"16 à 22'"},null,null,{"$f":"VLOOKUP($J$18,DEBUTSTEP!$V$4:$AC$22,2,FALSE)","v":"20 à 26'"},null,null,null,null,null,null,"Alterner temps de travail et récupération à une intenisté adaptée à l'objectif",null,{"$f":"VLOOKUP($D$18,DEBUTSTEP!$V$4:$AC$22,2,FALSE)","v":"12 à 18'"},null,null,{"$f":"VLOOKUP($G$18,DEBUTSTEP!$V$4:$AC$22,2,FALSE)","v":"16 à 22'"},null,null,{"$f":"VLOOKUP($J$18,DEBUTSTEP!$V$4:$AC$22,2,FALSE)","v":"20 à 26'"},null,null,null,null,null,null,"Alterner temps de travail et récupération à une intenisté adaptée à l'objectif",null,{"$f":"VLOOKUP($D$18,DEBUTSTEP!$V$4:$AC$22,2,FALSE)","v":"12 à 18'"},null,null,{"$f":"VLOOKUP($G$18,DEBUTSTEP!$V$4:$AC$22,2,FALSE)","v":"16 à 22'"},null,null,{"$f":"VLOOKUP($J$18,DEBUTSTEP!$V$4:$AC$22,2,FALSE)","v":"20 à 26'"},null,null,null,null,null,null,"Alterner temps de travail et récupération à une intenisté adaptée à l'objectif",null,{"$f":"VLOOKUP($D$18,DEBUTSTEP!$V$4:$AC$22,2,FALSE)","v":"12 à 18'"},null,null,{"$f":"VLOOKUP($G$18,DEBUTSTEP!$V$4:$AC$22,2,FALSE)","v":"16 à 22'"},null,null,{"$f":"VLOOKUP($J$18,DEBUTSTEP!$V$4:$AC$22,2,FALSE)","v":"20 à 26'"},null,null,null,null,null,null,"Alterner temps de travail et récupération à une intenisté adaptée à l'objectif",null,{"$f":"VLOOKUP($D$18,DEBUTSTEP!$V$4:$AC$22,2,FALSE)","v":"12 à 18'"},null,null,{"$f":"VLOOKUP($G$18,DEBUTSTEP!$V$4:$AC$22,2,FALSE)","v":"16 à 22'"},null,null,{"$f":"VLOOKUP($J$18,DEBUTSTEP!$V$4:$AC$22,2,FALSE)","v":"20 à 26'"},null,null,null,null,null,null,"Alterner temps de travail et récupération à une intenisté adaptée à l'objectif",null,{"$f":"VLOOKUP($D$18,DEBUTSTEP!$V$4:$AC$22,2,FALSE)","v":"12 à 18'"},null,null,{"$f":"VLOOKUP($G$18,DEBUTSTEP!$V$4:$AC$22,2,FALSE)","v":"16 à 22'"},null,null,{"$f":"VLOOKUP($J$18,DEBUTSTEP!$V$4:$AC$22,2,FALSE)","v":"20 à 26'"},null,null,null,null,null,null,"Alterner temps de travail et récupération à une intenisté adaptée à l'objectif",null,{"$f":"VLOOKUP($D$18,DEBUTSTEP!$V$4:$AC$22,2,FALSE)","v":"12 à 18'"},null,null,{"$f":"VLOOKUP($G$18,DEBUTSTEP!$V$4:$AC$22,2,FALSE)","v":"16 à 22'"},null,null,{"$f":"VLOOKUP($J$18,DEBUTSTEP!$V$4:$AC$22,2,FALSE)","v":"20 à 26'"},null,null,null,null,null,null,"Alterner temps de travail et récupération à une intenisté adaptée à l'objectif",null,{"$f":"VLOOKUP($D$18,DEBUTSTEP!$V$4:$AC$22,2,FALSE)","v":"12 à 18'"},null,null,{"$f":"VLOOKUP($G$18,DEBUTSTEP!$V$4:$AC$22,2,FALSE)","v":"16 à 22'"},null,null,{"$f":"VLOOKUP($J$18,DEBUTSTEP!$V$4:$AC$22,2,FALSE)","v":"20 à 26'"},null,null,null,null,null,null,"Alterner temps de travail et récupération à une intenisté adaptée à l'objectif",null,{"$f":"VLOOKUP($D$18,DEBUTSTEP!$V$4:$AC$22,2,FALSE)","v":"12 à 18'"},null,null,{"$f":"VLOOKUP($G$18,DEBUTSTEP!$V$4:$AC$22,2,FALSE)","v":"16 à 22'"},null,null,{"$f":"VLOOKUP($J$18,DEBUTSTEP!$V$4:$AC$22,2,FALSE)","v":"20 à 26'"}]
["Séries",null,null,{"$f":"VLOOKUP($D$18,DEBUTSTEP!$V$4:$AC$22,3,FALSE)","v":"jusqu'à 4'"},null,null,{"$f":"VLOOKUP($G$18,DEBUTSTEP!$V$4:$AC$22,3,FALSE)","v":"Au moins 3 séries"},null,null,{"$f":"VLOOKUP($J$18,DEBUTSTEP!$V$4:$AC$22,3,FALSE)","v":"Au moins 3 séries"},null,null,null,null,null,null,null,null,{"$f":"VLOOKUP($D$18,DEBUTSTEP!$V$4:$AC$22,3,FALSE)","v":"jusqu'à 4'"},null,null,{"$f":"VLOOKUP($G$18,DEBUTSTEP!$V$4:$AC$22,3,FALSE)","v":"Au moins 3 séries"},null,null,{"$f":"VLOOKUP($J$18,DEBUTSTEP!$V$4:$AC$22,3,FALSE)","v":"Au moins 3 séries"},null,null,null,null,null,null,null,null,{"$f":"VLOOKUP($D$18,DEBUTSTEP!$V$4:$AC$22,3,FALSE)","v":"jusqu'à 4'"},null,null,{"$f":"VLOOKUP($G$18,DEBUTSTEP!$V$4:$AC$22,3,FALSE)","v":"Au moins 3 séries"},null,null,{"$f":"VLOOKUP($J$18,DEBUTSTEP!$V$4:$AC$22,3,FALSE)","v":"Au moins 3 séries"},null,null,null,null,null,null,null,null,{"$f":"VLOOKUP($D$18,DEBUTSTEP!$V$4:$AC$22,3,FALSE)","v":"jusqu'à 4'"},null,null,{"$f":"VLOOKUP($G$18,DEBUTSTEP!$V$4:$AC$22,3,FALSE)","v":"Au moins 3 séries"},null,null,{"$f":"VLOOKUP($J$18,DEBUTSTEP!$V$4:$AC$22,3,FALSE)","v":"Au moins 3 séries"},null,null,null,null,null,null,null,null,{"$f":"VLOOKUP($D$18,DEBUTSTEP!$V$4:$AC$22,3,FALSE)","v":"jusqu'à 4'"},null,null,{"$f":"VLOOKUP($G$18,DEBUTSTEP!$V$4:$AC$22,3,FALSE)","v":"Au moins 3 séries"},null,null,{"$f":"VLOOKUP($J$18,DEBUTSTEP!$V$4:$AC$22,3,FALSE)","v":"Au moins 3 séries"},null,null,null,null,null,null,null,null,{"$f":"VLOOKUP($D$18,DEBUTSTEP!$V$4:$AC$22,3,FALSE)","v":"jusqu'à 4'"},null,null,{"$f":"VLOOKUP($G$18,DEBUTSTEP!$V$4:$AC$22,3,FALSE)","v":"Au moins 3 séries"},null,null,{"$f":"VLOOKUP($J$18,DEBUTSTEP!$V$4:$AC$22,3,FALSE)","v":"Au moins 3 séries"},null,null,null,null,null,null,null,null,{"$f":"VLOOKUP($D$18,DEBUTSTEP!$V$4:$AC$22,3,FALSE)","v":"jusqu'à 4'"},null,null,{"$f":"VLOOKUP($G$18,DEBUTSTEP!$V$4:$AC$22,3,FALSE)","v":"Au moins 3 séries"},null,null,{"$f":"VLOOKUP($J$18,DEBUTSTEP!$V$4:$AC$22,3,FALSE)","v":"Au moins 3 séries"},null,null,null,null,null,null,null,null,{"$f":"VLOOKUP($D$18,DEBUTSTEP!$V$4:$AC$22,3,FALSE)","v":"jusqu'à 4'"},null,null,{"$f":"VLOOKUP($G$18,DEBUTSTEP!$V$4:$AC$22,3,FALSE)","v":"Au moins 3 séries"},null,null,{"$f":"VLOOKUP($J$18,DEBUTSTEP!$V$4:$AC$22,3,FALSE)","v":"Au moins 3 séries"},null,null,null,null,null,null,null,null,{"$f":"VLOOKUP($D$18,DEBUTSTEP!$V$4:$AC$22,3,FALSE)","v":"jusqu'à 4'"},null,null,{"$f":"VLOOKUP($G$18,DEBUTSTEP!$V$4:$AC$22,3,FALSE)","v":"Au moins 3 séries"},null,null,{"$f":"VLOOKUP($J$18,DEBUTSTEP!$V$4:$AC$22,3,FALSE)","v":"Au moins 3 séries"},null,null,null,null,null,null,null,null,{"$f":"VLOOKUP($D$18,DEBUTSTEP!$V$4:$AC$22,3,FALSE)","v":"jusqu'à 4'"},null,null,{"$f":"VLOOKUP($G$18,DEBUTSTEP!$V$4:$AC$22,3,FALSE)","v":"Au moins 3 séries"},null,null,{"$f":"VLOOKUP($J$18,DEBUTSTEP!$V$4:$AC$22,3,FALSE)","v":"Au moins 3 séries"}]
["Repos",null,null,{"$f":"VLOOKUP($D$18,DEBUTSTEP!$V$4:$AC$22,4,FALSE)","v":"jusqu'à 4'"},null,null,{"$f":"VLOOKUP($G$18,DEBUTSTEP!$V$4:$AC$22,4,FALSE)","v":"jusqu'à 4'"},null,null,{"$f":"VLOOKUP($J$18,DEBUTSTEP!$V$4:$AC$22,4,FALSE)","v":"jusqu'à 5'"},null,null,null,null,null,null,null,null,{"$f":"VLOOKUP($D$18,DEBUTSTEP!$V$4:$AC$22,4,FALSE)","v":"jusqu'à 4'"},null,null,{"$f":"VLOOKUP($G$18,DEBUTSTEP!$V$4:$AC$22,4,FALSE)","v":"jusqu'à 4'"},null,null,{"$f":"VLOOKUP($J$18,DEBUTSTEP!$V$4:$AC$22,4,FALSE)","v":"jusqu'à 5'"},null,null,null,null,null,null,null,null,{"$f":"VLOOKUP($D$18,DEBUTSTEP!$V$4:$AC$22,4,FALSE)","v":"jusqu'à 4'"},null,null,{"$f":"VLOOKUP($G$18,DEBUTSTEP!$V$4:$AC$22,4,FALSE)","v":"jusqu'à 4'"},null,null,{"$f":"VLOOKUP($J$18,DEBUTSTEP!$V$4:$AC$22,4,FALSE)","v":"jusqu'à 5'"},null,null,null,null,null,null,null,null,{"$f":"VLOOKUP($D$18,DEBUTSTEP!$V$4:$AC$22,4,FALSE)","v":"jusqu'à 4'"},null,null,{"$f":"VLOOKUP($G$18,DEBUTSTEP!$V$4:$AC$22,4,FALSE)","v":"jusqu'à 4'"},null,null,{"$f":"VLOOKUP($J$18,DEBUTSTEP!$V$4:$AC$22,4,FALSE)","v":"jusqu'à 5'"},null,null,null,null,null,null,null,null,{"$f":"VLOOKUP($D$18,DEBUTSTEP!$V$4:$AC$22,4,FALSE)","v":"jusqu'à 4'"},null,null,{"$f":"VLOOKUP($G$18,DEBUTSTEP!$V$4:$AC$22,4,FALSE)","v":"jusqu'à 4'"},null,null,{"$f":"VLOOKUP($J$18,DEBUTSTEP!$V$4:$AC$22,4,FALSE)","v":"jusqu'à 5'"},null,null,null,null,null,null,null,null,{"$f":"VLOOKUP($D$18,DEBUTSTEP!$V$4:$AC$22,4,FALSE)","v":"jusqu'à 4'"},null,null,{"$f":"VLOOKUP($G$18,DEBUTSTEP!$V$4:$AC$22,4,FALSE)","v":"jusqu'à 4'"},null,null,{"$f":"VLOOKUP($J$18,DEBUTSTEP!$V$4:$AC$22,4,FALSE)","v":"jusqu'à 5'"},null,null,null,null,null,null,null,null,{"$f":"VLOOKUP($D$18,DEBUTSTEP!$V$4:$AC$22,4,FALSE)","v":"jusqu'à 4'"},null,null,{"$f":"VLOOKUP($G$18,DEBUTSTEP!$V$4:$AC$22,4,FALSE)","v":"jusqu'à 4'"},null,null,{"$f":"VLOOKUP($J$18,DEBUTSTEP!$V$4:$AC$22,4,FALSE)","v":"jusqu'à 5'"},null,null,null,null,null,null,null,null,{"$f":"VLOOKUP($D$18,DEBUTSTEP!$V$4:$AC$22,4,FALSE)","v":"jusqu'à 4'"},null,null,{"$f":"VLOOKUP($G$18,DEBUTSTEP!$V$4:$AC$22,4,FALSE)","v":"jusqu'à 4'"},null,null,{"$f":"VLOOKUP($J$18,DEBUTSTEP!$V$4:$AC$22,4,FALSE)","v":"jusqu'à 5'"},null,null,null,null,null,null,null,null,{"$f":"VLOOKUP($D$18,DEBUTSTEP!$V$4:$AC$22,4,FALSE)","v":"jusqu'à 4'"},null,null,{"$f":"VLOOKUP($G$18,DEBUTSTEP!$V$4:$AC$22,4,FALSE)","v":"jusqu'à 4'"},null,null,{"$f":"VLOOKUP($J$18,DEBUTSTEP!$V$4:$AC$22,4,FALSE)","v":"jusqu'à 5'"},null,null,null,null,null,null,null,null,{"$f":"VLOOKUP($D$18,DEBUTSTEP!$V$4:$AC$22,4,FALSE)","v":"jusqu'à 4'"},null,null,{"$f":"VLOOKUP($G$18,DEBUTSTEP!$V$4:$AC$22,4,FALSE)","v":"jusqu'à 4'"},null,null,{"$f":"VLOOKUP($J$18,DEBUTSTEP!$V$4:$AC$22,4,FALSE)","v":"jusqu'à 5'"}]
["Indicateurs","Repères sur mon activité ",null,{"$f":"VLOOKUP(D18,DEBUTSTEP!$V$4:$AG$22,8,FALSE)","v":"FC s’approche progressivement du maximum\r- Ventilation fortement marquée et accélérée\r- Séries plutôt courtes\r- Motricité variée qui ne gêne pas l’engagement.\r- Paramètres, variateurs d’intensité,\ressentiellement d’ordre énergétique : sursauts, lests, hauteur du step, bras au-dessus des épaules.\r- Tempo > 135 bpm le plus souvent."},null,null,{"$f":"VLOOKUP(G18,DEBUTSTEP!$V$4:$AG$22,8,FALSE)","v":"FC élevée\r- Ventilation accentuée et rythmée sans gêne excessive\r- Séries à minima 3\"\r- Coordination et dissociations présentes\r- Paramètres d’ordre énergétique : sursauts, bras au-dessus des\répaules, lests, hauteur du step.\r- 130 bpm < tempo < 140 bpm."},null,null,{"$f":"VLOOKUP(J18,DEBUTSTEP!$V$4:$AG$22,8,FALSE)","v":"FC modérée\r- Aisance respiratoire\r- Séries longues et \"à minima 3\"\r- Temps de récupération minimisé\r- Motricité explorée de façon ambitieuse\r- Paramètres essentiellement d’ordre biomécanique : pas complexes, bras en\rdissociation, changement d'orientation, éléments réalisés à côté du step\r- Tempo le plus souvent proche de 130 bpm"},null,null,null,null,null,null,"Repères sur mon activité ",null,{"$f":"VLOOKUP(S18,DEBUTSTEP!$V$4:$AG$22,8,FALSE)","v":"FC s’approche progressivement du maximum\r- Ventilation fortement marquée et accélérée\r- Séries plutôt courtes\r- Motricité variée qui ne gêne pas l’engagement.\r- Paramètres, variateurs d’intensité,\ressentiellement d’ordre énergétique : sursauts, lests, hauteur du step, bras au-dessus des épaules.\r- Tempo > 135 bpm le plus souvent."},null,null,{"$f":"VLOOKUP(V18,DEBUTSTEP!$V$4:$AG$22,8,FALSE)","v":"FC élevée\r- Ventilation accentuée et rythmée sans gêne excessive\r- Séries à minima 3\"\r- Coordination et dissociations présentes\r- Paramètres d’ordre énergétique : sursauts, bras au-dessus des\répaules, lests, hauteur du step.\r- 130 bpm < tempo < 140 bpm."},null,null,{"$f":"VLOOKUP(Y18,DEBUTSTEP!$V$4:$AG$22,8,FALSE)","v":"FC modérée\r- Aisance respiratoire\r- Séries longues et \"à minima 3\"\r- Temps de récupération minimisé\r- Motricité explorée de façon ambitieuse\r- Paramètres essentiellement d’ordre biomécanique : pas complexes, bras en\rdissociation, changement d'orientation, éléments réalisés à côté du step\r- Tempo le plus souvent proche de 130 bpm"},null,null,null,null,null,null,"Repères sur mon activité ",null,{"$f":"VLOOKUP(AH18,DEBUTSTEP!$V$4:$AG$22,8,FALSE)","v":"FC s’approche progressivement du maximum\r- Ventilation fortement marquée et accélérée\r- Séries plutôt courtes\r- Motricité variée qui ne gêne pas l’engagement.\r- Paramètres, variateurs d’intensité,\ressentiellement d’ordre énergétique : sursauts, lests, hauteur du step, bras au-dessus des épaules.\r- Tempo > 135 bpm le plus souvent."},null,null,{"$f":"VLOOKUP(AK18,DEBUTSTEP!$V$4:$AG$22,8,FALSE)","v":"FC élevée\r- Ventilation accentuée et rythmée sans gêne excessive\r- Séries à minima 3\"\r- Coordination et dissociations présentes\r- Paramètres d’ordre énergétique : sursauts, bras au-dessus des\répaules, lests, hauteur du step.\r- 130 bpm < tempo < 140 bpm."},null,null,{"$f":"VLOOKUP(AN18,DEBUTSTEP!$V$4:$AG$22,8,FALSE)","v":"FC modérée\r- Aisance respiratoire\r- Séries longues et \"à minima 3\"\r- Temps de récupération minimisé\r- Motricité explorée de façon ambitieuse\r- Paramètres essentiellement d’ordre biomécanique : pas complexes, bras en\rdissociation, changement d'orientation, éléments réalisés à côté du step\r- Tempo le plus souvent proche de 130 bpm"},null,null,null,null,null,null,"Repères sur mon activité ",null,{"$f":"VLOOKUP(AW18,DEBUTSTEP!$V$4:$AG$22,8,FALSE)","v":"FC s’approche progressivement du maximum\r- Ventilation fortement marquée et accélérée\r- Séries plutôt courtes\r- Motricité variée qui ne gêne pas l’engagement.\r- Paramètres, variateurs d’intensité,\ressentiellement d’ordre énergétique : sursauts, lests, hauteur du step, bras au-dessus des épaules.\r- Tempo > 135 bpm le plus souvent."},null,null,{"$f":"VLOOKUP(AZ18,DEBUTSTEP!$V$4:$AG$22,8,FALSE)","v":"FC élevée\r- Ventilation accentuée et rythmée sans gêne excessive\r- Séries à minima 3\"\r- Coordination et dissociations présentes\r- Paramètres d’ordre énergétique : sursauts, bras au-dessus des\répaules, lests, hauteur du step.\r- 130 bpm < tempo < 140 bpm."},null,null,{"$f":"VLOOKUP(BC18,DEBUTSTEP!$V$4:$AG$22,8,FALSE)","v":"FC modérée\r- Aisance respiratoire\r- Séries longues et \"à minima 3\"\r- Temps de récupération minimisé\r- Motricité explorée de façon ambitieuse\r- Paramètres essentiellement d’ordre biomécanique : pas complexes, bras en\rdissociation, changement d'orientation, éléments réalisés à côté du step\r- Tempo le plus souvent proche de 130 bpm"},null,null,null,null,null,null,"Repères sur mon activité ",null,{"$f":"VLOOKUP(BL18,DEBUTSTEP!$V$4:$AG$22,8,FALSE)","v":"FC s’approche progressivement du maximum\r- Ventilation fortement marquée et accélérée\r- Séries plutôt courtes\r- Motricité variée qui ne gêne pas l’engagement.\r- Paramètres, variateurs d’intensité,\ressentiellement d’ordre énergétique : sursauts, lests, hauteur du step, bras au-dessus des épaules.\r- Tempo > 135 bpm le plus souvent."},null,null,{"$f":"VLOOKUP(BO18,DEBUTSTEP!$V$4:$AG$22,8,FALSE)","v":"FC élevée\r- Ventilation accentuée et rythmée sans gêne excessive\r- Séries à minima 3\"\r- Coordination et dissociations présentes\r- Paramètres d’ordre énergétique : sursauts, bras au-dessus des\répaules, lests, hauteur du step.\r- 130 bpm < tempo < 140 bpm."},null,null,{"$f":"VLOOKUP(BR18,DEBUTSTEP!$V$4:$AG$22,8,FALSE)","v":"FC modérée\r- Aisance respiratoire\r- Séries longues et \"à minima 3\"\r- Temps de récupération minimisé\r- Motricité explorée de façon ambitieuse\r- Paramètres essentiellement d’ordre biomécanique : pas complexes, bras en\rdissociation, changement d'orientation, éléments réalisés à côté du step\r- Tempo le plus souvent proche de 130 bpm"},null,null,null,null,null,null,"Repères sur mon activité ",null,{"$f":"VLOOKUP(CA18,DEBUTSTEP!$V$4:$AG$22,8,FALSE)","v":"FC s’approche progressivement du maximum\r- Ventilation fortement marquée et accélérée\r- Séries plutôt courtes\r- Motricité variée qui ne gêne pas l’engagement.\r- Paramètres, variateurs d’intensité,\ressentiellement d’ordre énergétique : sursauts, lests, hauteur du step, bras au-dessus des épaules.\r- Tempo > 135 bpm le plus souvent."},null,null,{"$f":"VLOOKUP(CD18,DEBUTSTEP!$V$4:$AG$22,8,FALSE)","v":"FC élevée\r- Ventilation accentuée et rythmée sans gêne excessive\r- Séries à minima 3\"\r- Coordination et dissociations présentes\r- Paramètres d’ordre énergétique : sursauts, bras au-dessus des\répaules, lests, hauteur du step.\r- 130 bpm < tempo < 140 bpm."},null,null,{"$f":"VLOOKUP(CG18,DEBUTSTEP!$V$4:$AG$22,8,FALSE)","v":"FC modérée\r- Aisance respiratoire\r- Séries longues et \"à minima 3\"\r- Temps de récupération minimisé\r- Motricité explorée de façon ambitieuse\r- Paramètres essentiellement d’ordre biomécanique : pas complexes, bras en\rdissociation, changement d'orientation, éléments réalisés à côté du step\r- Tempo le plus souvent proche de 130 bpm"},null,null,null,null,null,null,"Repères sur mon activité ",null,{"$f":"VLOOKUP(CP18,DEBUTSTEP!$V$4:$AG$22,8,FALSE)","v":"FC s’approche progressivement du maximum\r- Ventilation fortement marquée et accélérée\r- Séries plutôt courtes\r- Motricité variée qui ne gêne pas l’engagement.\r- Paramètres, variateurs d’intensité,\ressentiellement d’ordre énergétique : sursauts, lests, hauteur du step, bras au-dessus des épaules.\r- Tempo > 135 bpm le plus souvent."},null,null,{"$f":"VLOOKUP(CS18,DEBUTSTEP!$V$4:$AG$22,8,FALSE)","v":"FC élevée\r- Ventilation accentuée et rythmée sans gêne excessive\r- Séries à minima 3\"\r- Coordination et dissociations présentes\r- Paramètres d’ordre énergétique : sursauts, bras au-dessus des\répaules, lests, hauteur du step.\r- 130 bpm < tempo < 140 bpm."},null,null,{"$f":"VLOOKUP(CV18,DEBUTSTEP!$V$4:$AG$22,8,FALSE)","v":"FC modérée\r- Aisance respiratoire\r- Séries longues et \"à minima 3\"\r- Temps de récupération minimisé\r- Motricité explorée de façon ambitieuse\r- Paramètres essentiellement d’ordre biomécanique : pas complexes, bras en\rdissociation, changement d'orientation, éléments réalisés à côté du step\r- Tempo le plus souvent proche de 130 bpm"},null,null,null,null,null,null,"Repères sur mon activité ",null,{"$f":"VLOOKUP(DE18,DEBUTSTEP!$V$4:$AG$22,8,FALSE)","v":"FC s’approche progressivement du maximum\r- Ventilation fortement marquée et accélérée\r- Séries plutôt courtes\r- Motricité variée qui ne gêne pas l’engagement.\r- Paramètres, variateurs d’intensité,\ressentiellement d’ordre énergétique : sursauts, lests, hauteur du step, bras au-dessus des épaules.\r- Tempo > 135 bpm le plus souvent."},null,null,{"$f":"VLOOKUP(DH18,DEBUTSTEP!$V$4:$AG$22,8,FALSE)","v":"FC élevée\r- Ventilation accentuée et rythmée sans gêne excessive\r- Séries à minima 3\"\r- Coordination et dissociations présentes\r- Paramètres d’ordre énergétique : sursauts, bras au-dessus des\répaules, lests, hauteur du step.\r- 130 bpm < tempo < 140 bpm."},null,null,{"$f":"VLOOKUP(DK18,DEBUTSTEP!$V$4:$AG$22,8,FALSE)","v":"FC modérée\r- Aisance respiratoire\r- Séries longues et \"à minima 3\"\r- Temps de récupération minimisé\r- Motricité explorée de façon ambitieuse\r- Paramètres essentiellement d’ordre biomécanique : pas complexes, bras en\rdissociation, changement d'orientation, éléments réalisés à côté du step\r- Tempo le plus souvent proche de 130 bpm"},null,null,null,null,null,null,"Repères sur mon activité ",null,{"$f":"VLOOKUP(DT18,DEBUTSTEP!$V$4:$AG$22,8,FALSE)","v":"FC s’approche progressivement du maximum\r- Ventilation fortement marquée et accélérée\r- Séries plutôt courtes\r- Motricité variée qui ne gêne pas l’engagement.\r- Paramètres, variateurs d’intensité,\ressentiellement d’ordre énergétique : sursauts, lests, hauteur du step, bras au-dessus des épaules.\r- Tempo > 135 bpm le plus souvent."},null,null,{"$f":"VLOOKUP(DW18,DEBUTSTEP!$V$4:$AG$22,8,FALSE)","v":"FC élevée\r- Ventilation accentuée et rythmée sans gêne excessive\r- Séries à minima 3\"\r- Coordination et dissociations présentes\r- Paramètres d’ordre énergétique : sursauts, bras au-dessus des\répaules, lests, hauteur du step.\r- 130 bpm < tempo < 140 bpm."},null,null,{"$f":"VLOOKUP(DZ18,DEBUTSTEP!$V$4:$AG$22,8,FALSE)","v":"FC modérée\r- Aisance respiratoire\r- Séries longues et \"à minima 3\"\r- Temps de récupération minimisé\r- Motricité explorée de façon ambitieuse\r- Paramètres essentiellement d’ordre biomécanique : pas complexes, bras en\rdissociation, changement d'orientation, éléments réalisés à côté du step\r- Tempo le plus souvent proche de 130 bpm"},null,null,null,null,null,null,"Repères sur mon activité ",null,{"$f":"VLOOKUP(EI18,DEBUTSTEP!$V$4:$AG$22,8,FALSE)","v":"FC s’approche progressivement du maximum\r- Ventilation fortement marquée et accélérée\r- Séries plutôt courtes\r- Motricité variée qui ne gêne pas l’engagement.\r- Paramètres, variateurs d’intensité,\ressentiellement d’ordre énergétique : sursauts, lests, hauteur du step, bras au-dessus des épaules.\r- Tempo > 135 bpm le plus souvent."},null,null,{"$f":"VLOOKUP(EL18,DEBUTSTEP!$V$4:$AG$22,8,FALSE)","v":"FC élevée\r- Ventilation accentuée et rythmée sans gêne excessive\r- Séries à minima 3\"\r- Coordination et dissociations présentes\r- Paramètres d’ordre énergétique : sursauts, bras au-dessus des\répaules, lests, hauteur du step.\r- 130 bpm < tempo < 140 bpm."},null,null,{"$f":"VLOOKUP(EO18,DEBUTSTEP!$V$4:$AG$22,8,FALSE)","v":"FC modérée\r- Aisance respiratoire\r- Séries longues et \"à minima 3\"\r- Temps de récupération minimisé\r- Motricité explorée de façon ambitieuse\r- Paramètres essentiellement d’ordre biomécanique : pas complexes, bras en\rdissociation, changement d'orientation, éléments réalisés à côté du step\r- Tempo le plus souvent proche de 130 bpm"}]
[]
["Pourquoi avoir choisi cet objectif ? (expression libre)"]
[]
[null,"CHOIX DES PARAMETRES POUR AUGMENTER LA FREQUENCE",null,null,null,null,null,null,null,null,null,null,null,null,null,null,"CHOIX DES PARAMETRES POUR AUGMENTER LA FREQUENCE",null,null,null,null,null,null,null,null,null,null,null,null,null,null,"CHOIX DES PARAMETRES POUR AUGMENTER LA FREQUENCE",null,null,null,null,null,null,null,null,null,null,null,null,null,null,"CHOIX DES PARAMETRES POUR AUGMENTER LA FREQUENCE",null,null,null,null,null,null,null,null,null,null,null,null,null,null,"CHOIX DES PARAMETRES POUR AUGMENTER LA FREQUENCE",null,null,null,null,null,null,null,null,null,null,null,null,null,null,"CHOIX DES PARAMETRES POUR AUGMENTER LA FREQUENCE",null,null,null,null,null,null,null,null,null,null,null,null,null,null,"CHOIX DES PARAMETRES POUR AUGMENTER LA FREQUENCE",null,null,null,null,null,null,null,null,null,null,null,null,null,null,"CHOIX DES PARAMETRES POUR AUGMENTER LA FREQUENCE",null,null,null,null,null,null,null,null,null,null,null,null,null,null,"CHOIX DES PARAMETRES POUR AUGMENTER LA FREQUENCE",null,null,null,null,null,null,null,null,null,null,null,null,null,null,"CHOIX DES PARAMETRES POUR AUGMENTER LA FREQUENCE"]
["Choix du type d'effort",{"$f":"D14","v":"Effort bref et intense"},null,null,null,null,null,null,null,null,null,null,null,null,null,null,{"$f":"S14","v":"Effort long et soutenu"},null,null,null,null,null,null,null,null,null,null,null,null,null,null,{"$f":"AH14","v":"Effort modéré et prolongé"},null,null,null,null,null,null,null,null,null,null,null,null,null,null,{"$f":"AW14","v":"Mobiles"},null,null,null,null,null,null,null,null,null,null,null,null,null,null,{"$f":"BL14","v":"Mobiles"},null,null,null,null,null,null,null,null,null,null,null,null,null,null,{"$f":"CA14","v":"Mobiles"},null,null,null,null,null,null,null,null,null,null,null,null,null,null,{"$f":"CP14","v":"Mobiles"},null,null,null,null,null,null,null,null,null,null,null,null,null,null,{"$f":"DE14","v":"Mobiles"},null,null,null,null,null,null,null,null,null,null,null,null,null,null,{"$f":"DT14","v":"Mobiles"},null,null,null,null,null,null,null,null,null,null,null,null,null,null,{"$f":"EI14","v":"Mobiles"}]
["Tempo",128,null,null,null,null,null,null,null,null,null,null,null,null,null,null,128,null,null,null,null,null,null,null,null,null,null,null,null,null,null,128,null,null,null,null,null,null,null,null,null,null,null,null,null,null,128,null,null,null,null,null,null,null,null,null,null,null,null,null,null,128,null,null,null,null,null,null,null,null,null,null,null,null,null,null,128,null,null,null,null,null,null,null,null,null,null,null,null,null,null,128,null,null,null,null,null,null,null,null,null,null,null,null,null,null,128,null,null,null,null,null,null,null,null,null,null,null,null,null,null,128,null,null,null,null,null,null,null,null,null,null,null,null,null,null,128]
["Hauteur step","HAUT",null,null,null,null,null,null,null,null,null,null,null,null,null,null,"HAUT",null,null,null,null,null,null,null,null,null,null,null,null,null,null,"HAUT",null,null,null,null,null,null,null,null,null,null,null,null,null,null,"HAUT",null,null,null,null,null,null,null,null,null,null,null,null,null,null,"HAUT",null,null,null,null,null,null,null,null,null,null,null,null,null,null,"HAUT",null,null,null,null,null,null,null,null,null,null,null,null,null,null,"HAUT",null,null,null,null,null,null,null,null,null,null,null,null,null,null,"HAUT",null,null,null,null,null,null,null,null,null,null,null,null,null,null,"HAUT",null,null,null,null,null,null,null,null,null,null,null,null,null,null,"HAUT"]
["Bras","Toujours",null,null,null,null,null,null,null,null,null,null,null,null,null,null,"Toujours",null,null,null,null,null,null,null,null,null,null,null,null,null,null,"Toujours",null,null,null,null,null,null,null,null,null,null,null,null,null,null,"Toujours",null,null,null,null,null,null,null,null,null,null,null,null,null,null,"Toujours",null,null,null,null,null,null,null,null,null,null,null,null,null,null,"Toujours",null,null,null,null,null,null,null,null,null,null,null,null,null,null,"Toujours",null,null,null,null,null,null,null,null,null,null,null,null,null,null,"Toujours",null,null,null,null,null,null,null,null,null,null,null,null,null,null,"Toujours",null,null,null,null,null,null,null,null,null,null,null,null,null,null,"Toujours"]
["Impulsions","Avec",null,null,null,null,null,null,null,null,null,null,null,null,null,null,"Avec",null,null,null,null,null,null,null,null,null,null,null,null,null,null,"Avec",null,null,null,null,null,null,null,null,null,null,null,null,null,null,"Avec",null,null,null,null,null,null,null,null,null,null,null,null,null,null,"Avec",null,null,null,null,null,null,null,null,null,null,null,null,null,null,"Avec",null,null,null,null,null,null,null,null,null,null,null,null,null,null,"Avec",null,null,null,null,null,null,null,null,null,null,null,null,null,null,"Avec",null,null,null,null,null,null,null,null,null,null,null,null,null,null,"Avec",null,null,null,null,null,null,null,null,null,null,null,null,null,null,"Avec"]
["Amplitude","Moyenne",null,null,null,null,null,null,null,null,null,null,null,null,null,null,"Moyenne",null,null,null,null,null,null,null,null,null,null,null,null,null,null,"Moyenne",null,null,null,null,null,null,null,null,null,null,null,null,null,null,"Moyenne",null,null,null,null,null,null,null,null,null,null,null,null,null,null,"Moyenne",null,null,null,null,null,null,null,null,null,null,null,null,null,null,"Moyenne",null,null,null,null,null,null,null,null,null,null,null,null,null,null,"Moyenne",null,null,null,null,null,null,null,null,null,null,null,null,null,null,"Moyenne",null,null,null,null,null,null,null,null,null,null,null,null,null,null,"Moyenne",null,null,null,null,null,null,null,null,null,null,null,null,null,null,"Moyenne"]
["Lests","1 kg",null,null,null,null,null,null,null,null,null,null,null,null,null,null,"1 kg",null,null,null,null,null,null,null,null,null,null,null,null,null,null,"1 kg",null,null,null,null,null,null,null,null,null,null,null,null,null,null,"1 kg",null,null,null,null,null,null,null,null,null,null,null,null,null,null,"1 kg",null,null,null,null,null,null,null,null,null,null,null,null,null,null,"1 kg",null,null,null,null,null,null,null,null,null,null,null,null,null,null,"1 kg",null,null,null,null,null,null,null,null,null,null,null,null,null,null,"1 kg",null,null,null,null,null,null,null,null,null,null,null,null,null,null,"1 kg",null,null,null,null,null,null,null,null,null,null,null,null,null,null,"1 kg"]
[]
["Pourquoi avoir choisi ces paramètres ? (expression libre)"]
[]
[null,"ENTRAINEMENT PREVU",null,null,null,null,null,null,null,null,null,null,null,null,null,null,"ENTRAINEMENT PREVU",null,null,null,null,null,null,null,null,null,null,null,null,null,null,"ENTRAINEMENT PREVU",null,null,null,null,null,null,null,null,null,null,null,null,null,null,"ENTRAINEMENT PREVU",null,null,null,null,null,null,null,null,null,null,null,null,null,null,"ENTRAINEMENT PREVU",null,null,null,null,null,null,null,null,null,null,null,null,null,null,"ENTRAINEMENT PREVU",null,null,null,null,null,null,null,null,null,null,null,null,null,null,"ENTRAINEMENT PREVU",null,null,null,null,null,null,null,null,null,null,null,null,null,null,"ENTRAINEMENT PREVU",null,null,null,null,null,null,null,null,null,null,null,null,null,null,"ENTRAINEMENT PREVU",null,null,null,null,null,null,null,null,null,null,null,null,null,null,"ENTRAINEMENT PREVU"]
["FC de reprise\n110-120 bpm",8,"Séries","FC",null,null,null,null,null,null,null,null,null,null,null,null,3,"Séries","FC",null,null,null,null,null,null,null,null,null,null,null,null,4,"Séries","FC",null,null,null,null,null,null,null,null,null,null,null,null,8,"Séries","FC",null,null,null,null,null,null,null,null,null,null,null,null,8,"Séries","FC",null,null,null,null,null,null,null,null,null,null,null,null,8,"Séries","FC",null,null,null,null,null,null,null,null,null,null,null,null,8,"Séries","FC",null,null,null,null,null,null,null,null,null,null,null,null,8,"Séries","FC",null,null,null,null,null,null,null,null,null,null,null,null,8,"Séries","FC",null,null,null,null,null,null,null,null,null,null,null,null,8,"Séries","FC"]
[null,"2'","Effort",null,null,null,null,null,null,null,null,null,null,null,null,null,"7'","Effort",null,null,null,null,null,null,null,null,null,null,null,null,null,"5'","Effort",null,null,null,null,null,null,null,null,null,null,null,null,null,"2'","Effort",null,null,null,null,null,null,null,null,null,null,null,null,null,"2'","Effort",null,null,null,null,null,null,null,null,null,null,null,null,null,"2'","Effort",null,null,null,null,null,null,null,null,null,null,null,null,null,"2'","Effort",null,null,null,null,null,null,null,null,null,null,null,null,null,"2'","Effort",null,null,null,null,null,null,null,null,null,null,null,null,null,"2'","Effort",null,null,null,null,null,null,null,null,null,null,null,null,null,"2'","Effort"]
[null,"2'","Récup'",null,null,null,null,null,null,null,null,null,null,null,null,null,"4'","Récup'",null,null,null,null,null,null,null,null,null,null,null,null,null,"4'","Récup'",null,null,null,null,null,null,null,null,null,null,null,null,null,"2'","Récup'",null,null,null,null,null,null,null,null,null,null,null,null,null,"2'","Récup'",null,null,null,null,null,null,null,null,null,null,null,null,null,"2'","Récup'",null,null,null,null,null,null,null,null,null,null,null,null,null,"2'","Récup'",null,null,null,null,null,null,null,null,null,null,null,null,null,"2'","Récup'",null,null,null,null,null,null,null,null,null,null,null,null,null,"2'","Récup'",null,null,null,null,null,null,null,null,null,null,null,null,null,"2'","Récup'"]
["Effort",{"$f":"IF(B$40>=1,B$41,\"\")","v":"2'"},{"$f":"IFERROR(VLOOKUP(B43,DEBUTSTEP!$D$5:$E$68,2,FALSE),0)","v":120},180,null,null,null,null,null,null,null,null,null,null,null,null,{"$f":"IF(Q$40>=1,Q$41,\"\")","v":"7'"},{"$f":"IFERROR(VLOOKUP(Q43,DEBUTSTEP!$D$5:$E$68,2,FALSE),0)","v":420},180,null,null,null,null,null,null,null,null,null,null,null,null,{"$f":"IF(AF$40>=1,AF$41,\"\")","v":"5'"},{"$f":"IFERROR(VLOOKUP(AF43,DEBUTSTEP!$D$5:$E$68,2,FALSE),0)","v":300},180,null,null,null,null,null,null,null,null,null,null,null,null,{"$f":"IF(AU$40>=1,AU$41,\"\")","v":"2'"},{"$f":"IFERROR(VLOOKUP(AU43,DEBUTSTEP!$D$5:$E$68,2,FALSE),0)","v":120},180,null,null,null,null,null,null,null,null,null,null,null,null,{"$f":"IF(BJ$40>=1,BJ$41,\"\")","v":"2'"},{"$f":"IFERROR(VLOOKUP(BJ43,DEBUTSTEP!$D$5:$E$68,2,FALSE),0)","v":120},180,null,null,null,null,null,null,null,null,null,null,null,null,{"$f":"IF(BY$40>=1,BY$41,\"\")","v":"2'"},{"$f":"IFERROR(VLOOKUP(BY43,DEBUTSTEP!$D$5:$E$68,2,FALSE),0)","v":120},180,null,null,null,null,null,null,null,null,null,null,null,null,{"$f":"IF(CN$40>=1,CN$41,\"\")","v":"2'"},{"$f":"IFERROR(VLOOKUP(CN43,DEBUTSTEP!$D$5:$E$68,2,FALSE),0)","v":120},180,null,null,null,null,null,null,null,null,null,null,null,null,{"$f":"IF(DC$40>=1,DC$41,\"\")","v":"2'"},{"$f":"IFERROR(VLOOKUP(DC43,DEBUTSTEP!$D$5:$E$68,2,FALSE),0)","v":120},180,null,null,null,null,null,null,null,null,null,null,null,null,{"$f":"IF(DR$40>=1,DR$41,\"\")","v":"2'"},{"$f":"IFERROR(VLOOKUP(DR43,DEBUTSTEP!$D$5:$E$68,2,FALSE),0)","v":120},180,null,null,null,null,null,null,null,null,null,null,null,null,{"$f":"IF(EG$40>=1,EG$41,\"\")","v":"2'"},{"$f":"IFERROR(VLOOKUP(EG43,DEBUTSTEP!$D$5:$E$68,2,FALSE),0)","v":120},180]
["Récup'",{"$f":"IF(B$40>=1,B$42,\"\")","v":"2'"},{"$f":"IFERROR(VLOOKUP(B44,DEBUTSTEP!$D$5:$E$68,2,FALSE),0)","v":120},null,null,null,null,null,null,null,null,null,null,null,null,null,{"$f":"IF(Q$40>=1,Q$42,\"\")","v":"4'"},{"$f":"IFERROR(VLOOKUP(Q44,DEBUTSTEP!$D$5:$E$68,2,FALSE),0)","v":240},null,null,null,null,null,null,null,null,null,null,null,null,null,{"$f":"IF(AF$40>=1,AF$42,\"\")","v":"4'"},{"$f":"IFERROR(VLOOKUP(AF44,DEBUTSTEP!$D$5:$E$68,2,FALSE),0)","v":240},null,null,null,null,null,null,null,null,null,null,null,null,null,{"$f":"IF(AU$40>=1,AU$42,\"\")","v":"2'"},{"$f":"IFERROR(VLOOKUP(AU44,DEBUTSTEP!$D$5:$E$68,2,FALSE),0)","v":120},null,null,null,null,null,null,null,null,null,null,null,null,null,{"$f":"IF(BJ$40>=1,BJ$42,\"\")","v":"2'"},{"$f":"IFERROR(VLOOKUP(BJ44,DEBUTSTEP!$D$5:$E$68,2,FALSE),0)","v":120},null,null,null,null,null,null,null,null,null,null,null,null,null,{"$f":"IF(BY$40>=1,BY$42,\"\")","v":"2'"},{"$f":"IFERROR(VLOOKUP(BY44,DEBUTSTEP!$D$5:$E$68,2,FALSE),0)","v":120},null,null,null,null,null,null,null,null,null,null,null,null,null,{"$f":"IF(CN$40>=1,CN$42,\"\")","v":"2'"},{"$f":"IFERROR(VLOOKUP(CN44,DEBUTSTEP!$D$5:$E$68,2,FALSE),0)","v":120},null,null,null,null,null,null,null,null,null,null,null,null,null,{"$f":"IF(DC$40>=1,DC$42,\"\")","v":"2'"},{"$f":"IFERROR(VLOOKUP(DC44,DEBUTSTEP!$D$5:$E$68,2,FALSE),0)","v":120},null,null,null,null,null,null,null,null,null,null,null,null,null,{"$f":"IF(DR$40>=1,DR$42,\"\")","v":"2'"},{"$f":"IFERROR(VLOOKUP(DR44,DEBUTSTEP!$D$5:$E$68,2,FALSE),0)","v":120},null,null,null,null,null,null,null,null,null,null,null,null,null,{"$f":"IF(EG$40>=1,EG$42,\"\")","v":"2'"},{"$f":"IFERROR(VLOOKUP(EG44,DEBUTSTEP!$D$5:$E$68,2,FALSE),0)","v":120}]
["Effort",{"$f":"IF(B$40>=2,B$41,\"\")","v":"2'"},{"$f":"IFERROR(VLOOKUP(B45,DEBUTSTEP!$D$5:$E$68,2,FALSE),0)","v":120},null,null,null,null,null,null,null,null,null,null,null,null,null,{"$f":"IF(Q$40>=2,Q$41,\"\")","v":"7'"},{"$f":"IFERROR(VLOOKUP(Q45,DEBUTSTEP!$D$5:$E$68,2,FALSE),0)","v":420},null,null,null,null,null,null,null,null,null,null,null,null,null,{"$f":"IF(AF$40>=2,AF$41,\"\")","v":"5'"},{"$f":"IFERROR(VLOOKUP(AF45,DEBUTSTEP!$D$5:$E$68,2,FALSE),0)","v":300},null,null,null,null,null,null,null,null,null,null,null,null,null,{"$f":"IF(AU$40>=2,AU$41,\"\")","v":"2'"},{"$f":"IFERROR(VLOOKUP(AU45,DEBUTSTEP!$D$5:$E$68,2,FALSE),0)","v":120},null,null,null,null,null,null,null,null,null,null,null,null,null,{"$f":"IF(BJ$40>=2,BJ$41,\"\")","v":"2'"},{"$f":"IFERROR(VLOOKUP(BJ45,DEBUTSTEP!$D$5:$E$68,2,FALSE),0)","v":120},null,null,null,null,null,null,null,null,null,null,null,null,null,{"$f":"IF(BY$40>=2,BY$41,\"\")","v":"2'"},{"$f":"IFERROR(VLOOKUP(BY45,DEBUTSTEP!$D$5:$E$68,2,FALSE),0)","v":120},null,null,null,null,null,null,null,null,null,null,null,null,null,{"$f":"IF(CN$40>=2,CN$41,\"\")","v":"2'"},{"$f":"IFERROR(VLOOKUP(CN45,DEBUTSTEP!$D$5:$E$68,2,FALSE),0)","v":120},null,null,null,null,null,null,null,null,null,null,null,null,null,{"$f":"IF(DC$40>=2,DC$41,\"\")","v":"2'"},{"$f":"IFERROR(VLOOKUP(DC45,DEBUTSTEP!$D$5:$E$68,2,FALSE),0)","v":120},null,null,null,null,null,null,null,null,null,null,null,null,null,{"$f":"IF(DR$40>=2,DR$41,\"\")","v":"2'"},{"$f":"IFERROR(VLOOKUP(DR45,DEBUTSTEP!$D$5:$E$68,2,FALSE),0)","v":120},null,null,null,null,null,null,null,null,null,null,null,null,null,{"$f":"IF(EG$40>=2,EG$41,\"\")","v":"2'"},{"$f":"IFERROR(VLOOKUP(EG45,DEBUTSTEP!$D$5:$E$68,2,FALSE),0)","v":120}]
["Récup'",{"$f":"IF(B$40>=2,B$42,\"\")","v":"2'"},{"$f":"IFERROR(VLOOKUP(B46,DEBUTSTEP!$D$5:$E$68,2,FALSE),0)","v":120},null,null,null,null,null,null,null,null,null,null,null,null,null,{"$f":"IF(Q$40>=2,Q$42,\"\")","v":"4'"},{"$f":"IFERROR(VLOOKUP(Q46,DEBUTSTEP!$D$5:$E$68,2,FALSE),0)","v":240},null,null,null,null,null,null,null,null,null,null,null,null,null,{"$f":"IF(AF$40>=2,AF$42,\"\")","v":"4'"},{"$f":"IFERROR(VLOOKUP(AF46,DEBUTSTEP!$D$5:$E$68,2,FALSE),0)","v":240},null,null,null,null,null,null,null,null,null,null,null,null,null,{"$f":"IF(AU$40>=2,AU$42,\"\")","v":"2'"},{"$f":"IFERROR(VLOOKUP(AU46,DEBUTSTEP!$D$5:$E$68,2,FALSE),0)","v":120},null,null,null,null,null,null,null,null,null,null,null,null,null,{"$f":"IF(BJ$40>=2,BJ$42,\"\")","v":"2'"},{"$f":"IFERROR(VLOOKUP(BJ46,DEBUTSTEP!$D$5:$E$68,2,FALSE),0)","v":120},null,null,null,null,null,null,null,null,null,null,null,null,null,{"$f":"IF(BY$40>=2,BY$42,\"\")","v":"2'"},{"$f":"IFERROR(VLOOKUP(BY46,DEBUTSTEP!$D$5:$E$68,2,FALSE),0)","v":120},null,null,null,null,null,null,null,null,null,null,null,null,null,{"$f":"IF(CN$40>=2,CN$42,\"\")","v":"2'"},{"$f":"IFERROR(VLOOKUP(CN46,DEBUTSTEP!$D$5:$E$68,2,FALSE),0)","v":120},null,null,null,null,null,null,null,null,null,null,null,null,null,{"$f":"IF(DC$40>=2,DC$42,\"\")","v":"2'"},{"$f":"IFERROR(VLOOKUP(DC46,DEBUTSTEP!$D$5:$E$68,2,FALSE),0)","v":120},null,null,null,null,null,null,null,null,null,null,null,null,null,{"$f":"IF(DR$40>=2,DR$42,\"\")","v":"2'"},{"$f":"IFERROR(VLOOKUP(DR46,DEBUTSTEP!$D$5:$E$68,2,FALSE),0)","v":120},null,null,null,null,null,null,null,null,null,null,null,null,null,{"$f":"IF(EG$40>=2,EG$42,\"\")","v":"2'"},{"$f":"IFERROR(VLOOKUP(EG46,DEBUTSTEP!$D$5:$E$68,2,FALSE),0)","v":120}]
["Effort",{"$f":"IF(B$40>=3,B$41,\"\")","v":"2'"},{"$f":"IFERROR(VLOOKUP(B47,DEBUTSTEP!$D$5:$E$68,2,FALSE),0)","v":120},null,null,null,null,null,null,null,null,null,null,null,null,null,{"$f":"IF(Q$40>=3,Q$41,\"\")","v":"7'"},{"$f":"IFERROR(VLOOKUP(Q47,DEBUTSTEP!$D$5:$E$68,2,FALSE),0)","v":420},null,null,null,null,null,null,null,null,null,null,null,null,null,{"$f":"IF(AF$40>=3,AF$41,\"\")","v":"5'"},{"$f":"IFERROR(VLOOKUP(AF47,DEBUTSTEP!$D$5:$E$68,2,FALSE),0)","v":300},null,null,null,null,null,null,null,null,null,null,null,null,null,{"$f":"IF(AU$40>=3,AU$41,\"\")","v":"2'"},{"$f":"IFERROR(VLOOKUP(AU47,DEBUTSTEP!$D$5:$E$68,2,FALSE),0)","v":120},null,null,null,null,null,null,null,null,null,null,null,null,null,{"$f":"IF(BJ$40>=3,BJ$41,\"\")","v":"2'"},{"$f":"IFERROR(VLOOKUP(BJ47,DEBUTSTEP!$D$5:$E$68,2,FALSE),0)","v":120},null,null,null,null,null,null,null,null,null,null,null,null,null,{"$f":"IF(BY$40>=3,BY$41,\"\")","v":"2'"},{"$f":"IFERROR(VLOOKUP(BY47,DEBUTSTEP!$D$5:$E$68,2,FALSE),0)","v":120},null,null,null,null,null,null,null,null,null,null,null,null,null,{"$f":"IF(CN$40>=3,CN$41,\"\")","v":"2'"},{"$f":"IFERROR(VLOOKUP(CN47,DEBUTSTEP!$D$5:$E$68,2,FALSE),0)","v":120},null,null,null,null,null,null,null,null,null,null,null,null,null,{"$f":"IF(DC$40>=3,DC$41,\"\")","v":"2'"},{"$f":"IFERROR(VLOOKUP(DC47,DEBUTSTEP!$D$5:$E$68,2,FALSE),0)","v":120},null,null,null,null,null,null,null,null,null,null,null,null,null,{"$f":"IF(DR$40>=3,DR$41,\"\")","v":"2'"},{"$f":"IFERROR(VLOOKUP(DR47,DEBUTSTEP!$D$5:$E$68,2,FALSE),0)","v":120},null,null,null,null,null,null,null,null,null,null,null,null,null,{"$f":"IF(EG$40>=3,EG$41,\"\")","v":"2'"},{"$f":"IFERROR(VLOOKUP(EG47,DEBUTSTEP!$D$5:$E$68,2,FALSE),0)","v":120}]
["Récup'",{"$f":"IF(B$40>=3,B$42,\"\")","v":"2'"},{"$f":"IFERROR(VLOOKUP(B48,DEBUTSTEP!$D$5:$E$68,2,FALSE),0)","v":120},null,null,null,null,null,null,null,null,null,null,null,null,null,{"$f":"IF(Q$40>=3,Q$42,\"\")","v":"4'"},{"$f":"IFERROR(VLOOKUP(Q48,DEBUTSTEP!$D$5:$E$68,2,FALSE),0)","v":240},null,null,null,null,null,null,null,null,null,null,null,null,null,{"$f":"IF(AF$40>=3,AF$42,\"\")","v":"4'"},{"$f":"IFERROR(VLOOKUP(AF48,DEBUTSTEP!$D$5:$E$68,2,FALSE),0)","v":240},null,null,null,null,null,null,null,null,null,null,null,null,null,{"$f":"IF(AU$40>=3,AU$42,\"\")","v":"2'"},{"$f":"IFERROR(VLOOKUP(AU48,DEBUTSTEP!$D$5:$E$68,2,FALSE),0)","v":120},null,null,null,null,null,null,null,null,null,null,null,null,null,{"$f":"IF(BJ$40>=3,BJ$42,\"\")","v":"2'"},{"$f":"IFERROR(VLOOKUP(BJ48,DEBUTSTEP!$D$5:$E$68,2,FALSE),0)","v":120},null,null,null,null,null,null,null,null,null,null,null,null,null,{"$f":"IF(BY$40>=3,BY$42,\"\")","v":"2'"},{"$f":"IFERROR(VLOOKUP(BY48,DEBUTSTEP!$D$5:$E$68,2,FALSE),0)","v":120},null,null,null,null,null,null,null,null,null,null,null,null,null,{"$f":"IF(CN$40>=3,CN$42,\"\")","v":"2'"},{"$f":"IFERROR(VLOOKUP(CN48,DEBUTSTEP!$D$5:$E$68,2,FALSE),0)","v":120},null,null,null,null,null,null,null,null,null,null,null,null,null,{"$f":"IF(DC$40>=3,DC$42,\"\")","v":"2'"},{"$f":"IFERROR(VLOOKUP(DC48,DEBUTSTEP!$D$5:$E$68,2,FALSE),0)","v":120},null,null,null,null,null,null,null,null,null,null,null,null,null,{"$f":"IF(DR$40>=3,DR$42,\"\")","v":"2'"},{"$f":"IFERROR(VLOOKUP(DR48,DEBUTSTEP!$D$5:$E$68,2,FALSE),0)","v":120},null,null,null,null,null,null,null,null,null,null,null,null,null,{"$f":"IF(EG$40>=3,EG$42,\"\")","v":"2'"},{"$f":"IFERROR(VLOOKUP(EG48,DEBUTSTEP!$D$5:$E$68,2,FALSE),0)","v":120}]
["Effort",{"$f":"IF(B$40>=4,B$41,\"\")","v":"2'"},{"$f":"IFERROR(VLOOKUP(B49,DEBUTSTEP!$D$5:$E$68,2,FALSE),0)","v":120},null,null,null,null,null,null,null,null,null,null,null,null,null,{"$f":"IF(Q$40>=4,Q$41,\"\")","v":""},{"$f":"IFERROR(VLOOKUP(Q49,DEBUTSTEP!$D$5:$E$68,2,FALSE),0)","v":0},null,null,null,null,null,null,null,null,null,null,null,null,null,{"$f":"IF(AF$40>=4,AF$41,\"\")","v":"5'"},{"$f":"IFERROR(VLOOKUP(AF49,DEBUTSTEP!$D$5:$E$68,2,FALSE),0)","v":300},null,null,null,null,null,null,null,null,null,null,null,null,null,{"$f":"IF(AU$40>=4,AU$41,\"\")","v":"2'"},{"$f":"IFERROR(VLOOKUP(AU49,DEBUTSTEP!$D$5:$E$68,2,FALSE),0)","v":120},null,null,null,null,null,null,null,null,null,null,null,null,null,{"$f":"IF(BJ$40>=4,BJ$41,\"\")","v":"2'"},{"$f":"IFERROR(VLOOKUP(BJ49,DEBUTSTEP!$D$5:$E$68,2,FALSE),0)","v":120},null,null,null,null,null,null,null,null,null,null,null,null,null,{"$f":"IF(BY$40>=4,BY$41,\"\")","v":"2'"},{"$f":"IFERROR(VLOOKUP(BY49,DEBUTSTEP!$D$5:$E$68,2,FALSE),0)","v":120},null,null,null,null,null,null,null,null,null,null,null,null,null,{"$f":"IF(CN$40>=4,CN$41,\"\")","v":"2'"},{"$f":"IFERROR(VLOOKUP(CN49,DEBUTSTEP!$D$5:$E$68,2,FALSE),0)","v":120},null,null,null,null,null,null,null,null,null,null,null,null,null,{"$f":"IF(DC$40>=4,DC$41,\"\")","v":"2'"},{"$f":"IFERROR(VLOOKUP(DC49,DEBUTSTEP!$D$5:$E$68,2,FALSE),0)","v":120},null,null,null,null,null,null,null,null,null,null,null,null,null,{"$f":"IF(DR$40>=4,DR$41,\"\")","v":"2'"},{"$f":"IFERROR(VLOOKUP(DR49,DEBUTSTEP!$D$5:$E$68,2,FALSE),0)","v":120},null,null,null,null,null,null,null,null,null,null,null,null,null,{"$f":"IF(EG$40>=4,EG$41,\"\")","v":"2'"},{"$f":"IFERROR(VLOOKUP(EG49,DEBUTSTEP!$D$5:$E$68,2,FALSE),0)","v":120}]
["Récup'",{"$f":"IF(B$40>=4,B$42,\"\")","v":"2'"},{"$f":"IFERROR(VLOOKUP(B50,DEBUTSTEP!$D$5:$E$68,2,FALSE),0)","v":120},null,null,null,null,null,null,null,null,null,null,null,null,null,{"$f":"IF(Q$40>=4,Q$42,\"\")","v":""},{"$f":"IFERROR(VLOOKUP(Q50,DEBUTSTEP!$D$5:$E$68,2,FALSE),0)","v":0},null,null,null,null,null,null,null,null,null,null,null,null,null,{"$f":"IF(AF$40>=4,AF$42,\"\")","v":"4'"},{"$f":"IFERROR(VLOOKUP(AF50,DEBUTSTEP!$D$5:$E$68,2,FALSE),0)","v":240},null,null,null,null,null,null,null,null,null,null,null,null,null,{"$f":"IF(AU$40>=4,AU$42,\"\")","v":"2'"},{"$f":"IFERROR(VLOOKUP(AU50,DEBUTSTEP!$D$5:$E$68,2,FALSE),0)","v":120},null,null,null,null,null,null,null,null,null,null,null,null,null,{"$f":"IF(BJ$40>=4,BJ$42,\"\")","v":"2'"},{"$f":"IFERROR(VLOOKUP(BJ50,DEBUTSTEP!$D$5:$E$68,2,FALSE),0)","v":120},null,null,null,null,null,null,null,null,null,null,null,null,null,{"$f":"IF(BY$40>=4,BY$42,\"\")","v":"2'"},{"$f":"IFERROR(VLOOKUP(BY50,DEBUTSTEP!$D$5:$E$68,2,FALSE),0)","v":120},null,null,null,null,null,null,null,null,null,null,null,null,null,{"$f":"IF(CN$40>=4,CN$42,\"\")","v":"2'"},{"$f":"IFERROR(VLOOKUP(CN50,DEBUTSTEP!$D$5:$E$68,2,FALSE),0)","v":120},null,null,null,null,null,null,null,null,null,null,null,null,null,{"$f":"IF(DC$40>=4,DC$42,\"\")","v":"2'"},{"$f":"IFERROR(VLOOKUP(DC50,DEBUTSTEP!$D$5:$E$68,2,FALSE),0)","v":120},null,null,null,null,null,null,null,null,null,null,null,null,null,{"$f":"IF(DR$40>=4,DR$42,\"\")","v":"2'"},{"$f":"IFERROR(VLOOKUP(DR50,DEBUTSTEP!$D$5:$E$68,2,FALSE),0)","v":120},null,null,null,null,null,null,null,null,null,null,null,null,null,{"$f":"IF(EG$40>=4,EG$42,\"\")","v":"2'"},{"$f":"IFERROR(VLOOKUP(EG50,DEBUTSTEP!$D$5:$E$68,2,FALSE),0)","v":120}]
["Effort",{"$f":"IF(B$40>=5,B$41,\"\")","v":"2'"},{"$f":"IFERROR(VLOOKUP(B51,DEBUTSTEP!$D$5:$E$68,2,FALSE),0)","v":120},null,null,null,null,null,null,null,null,null,null,null,null,null,{"$f":"IF(Q$40>=5,Q$41,\"\")","v":""},{"$f":"IFERROR(VLOOKUP(Q51,DEBUTSTEP!$D$5:$E$68,2,FALSE),0)","v":0},null,null,null,null,null,null,null,null,null,null,null,null,null,{"$f":"IF(AF$40>=5,AF$41,\"\")","v":""},{"$f":"IFERROR(VLOOKUP(AF51,DEBUTSTEP!$D$5:$E$68,2,FALSE),0)","v":0},null,null,null,null,null,null,null,null,null,null,null,null,null,{"$f":"IF(AU$40>=5,AU$41,\"\")","v":"2'"},{"$f":"IFERROR(VLOOKUP(AU51,DEBUTSTEP!$D$5:$E$68,2,FALSE),0)","v":120},null,null,null,null,null,null,null,null,null,null,null,null,null,{"$f":"IF(BJ$40>=5,BJ$41,\"\")","v":"2'"},{"$f":"IFERROR(VLOOKUP(BJ51,DEBUTSTEP!$D$5:$E$68,2,FALSE),0)","v":120},null,null,null,null,null,null,null,null,null,null,null,null,null,{"$f":"IF(BY$40>=5,BY$41,\"\")","v":"2'"},{"$f":"IFERROR(VLOOKUP(BY51,DEBUTSTEP!$D$5:$E$68,2,FALSE),0)","v":120},null,null,null,null,null,null,null,null,null,null,null,null,null,{"$f":"IF(CN$40>=5,CN$41,\"\")","v":"2'"},{"$f":"IFERROR(VLOOKUP(CN51,DEBUTSTEP!$D$5:$E$68,2,FALSE),0)","v":120},null,null,null,null,null,null,null,null,null,null,null,null,null,{"$f":"IF(DC$40>=5,DC$41,\"\")","v":"2'"},{"$f":"IFERROR(VLOOKUP(DC51,DEBUTSTEP!$D$5:$E$68,2,FALSE),0)","v":120},null,null,null,null,null,null,null,null,null,null,null,null,null,{"$f":"IF(DR$40>=5,DR$41,\"\")","v":"2'"},{"$f":"IFERROR(VLOOKUP(DR51,DEBUTSTEP!$D$5:$E$68,2,FALSE),0)","v":120},null,null,null,null,null,null,null,null,null,null,null,null,null,{"$f":"IF(EG$40>=5,EG$41,\"\")","v":"2'"},{"$f":"IFERROR(VLOOKUP(EG51,DEBUTSTEP!$D$5:$E$68,2,FALSE),0)","v":120}]
["Récup'",{"$f":"IF(B$40>=5,B$42,\"\")","v":"2'"},{"$f":"IFERROR(VLOOKUP(B52,DEBUTSTEP!$D$5:$E$68,2,FALSE),0)","v":120},null,null,null,null,null,null,null,null,null,null,null,null,null,{"$f":"IF(Q$40>=5,Q$42,\"\")","v":""},{"$f":"IFERROR(VLOOKUP(Q52,DEBUTSTEP!$D$5:$E$68,2,FALSE),0)","v":0},null,null,null,null,null,null,null,null,null,null,null,null,null,{"$f":"IF(AF$40>=5,AF$42,\"\")","v":""},{"$f":"IFERROR(VLOOKUP(AF52,DEBUTSTEP!$D$5:$E$68,2,FALSE),0)","v":0},null,null,null,null,null,null,null,null,null,null,null,null,null,{"$f":"IF(AU$40>=5,AU$42,\"\")","v":"2'"},{"$f":"IFERROR(VLOOKUP(AU52,DEBUTSTEP!$D$5:$E$68,2,FALSE),0)","v":120},null,null,null,null,null,null,null,null,null,null,null,null,null,{"$f":"IF(BJ$40>=5,BJ$42,\"\")","v":"2'"},{"$f":"IFERROR(VLOOKUP(BJ52,DEBUTSTEP!$D$5:$E$68,2,FALSE),0)","v":120},null,null,null,null,null,null,null,null,null,null,null,null,null,{"$f":"IF(BY$40>=5,BY$42,\"\")","v":"2'"},{"$f":"IFERROR(VLOOKUP(BY52,DEBUTSTEP!$D$5:$E$68,2,FALSE),0)","v":120},null,null,null,null,null,null,null,null,null,null,null,null,null,{"$f":"IF(CN$40>=5,CN$42,\"\")","v":"2'"},{"$f":"IFERROR(VLOOKUP(CN52,DEBUTSTEP!$D$5:$E$68,2,FALSE),0)","v":120},null,null,null,null,null,null,null,null,null,null,null,null,null,{"$f":"IF(DC$40>=5,DC$42,\"\")","v":"2'"},{"$f":"IFERROR(VLOOKUP(DC52,DEBUTSTEP!$D$5:$E$68,2,FALSE),0)","v":120},null,null,null,null,null,null,null,null,null,null,null,null,null,{"$f":"IF(DR$40>=5,DR$42,\"\")","v":"2'"},{"$f":"IFERROR(VLOOKUP(DR52,DEBUTSTEP!$D$5:$E$68,2,FALSE),0)","v":120},null,null,null,null,null,null,null,null,null,null,null,null,null,{"$f":"IF(EG$40>=5,EG$42,\"\")","v":"2'"},{"$f":"IFERROR(VLOOKUP(EG52,DEBUTSTEP!$D$5:$E$68,2,FALSE),0)","v":120}]
["Effort",{"$f":"IF(B$40>=6,B$41,\"\")","v":"2'"},{"$f":"IFERROR(VLOOKUP(B53,DEBUTSTEP!$D$5:$E$68,2,FALSE),0)","v":120},null,null,null,null,null,null,null,null,null,null,null,null,null,{"$f":"IF(Q$40>=6,Q$41,\"\")","v":""},{"$f":"IFERROR(VLOOKUP(Q53,DEBUTSTEP!$D$5:$E$68,2,FALSE),0)","v":0},null,null,null,null,null,null,null,null,null,null,null,null,null,{"$f":"IF(AF$40>=6,AF$41,\"\")","v":""},{"$f":"IFERROR(VLOOKUP(AF53,DEBUTSTEP!$D$5:$E$68,2,FALSE),0)","v":0},null,null,null,null,null,null,null,null,null,null,null,null,null,{"$f":"IF(AU$40>=6,AU$41,\"\")","v":"2'"},{"$f":"IFERROR(VLOOKUP(AU53,DEBUTSTEP!$D$5:$E$68,2,FALSE),0)","v":120},null,null,null,null,null,null,null,null,null,null,null,null,null,{"$f":"IF(BJ$40>=6,BJ$41,\"\")","v":"2'"},{"$f":"IFERROR(VLOOKUP(BJ53,DEBUTSTEP!$D$5:$E$68,2,FALSE),0)","v":120},null,null,null,null,null,null,null,null,null,null,null,null,null,{"$f":"IF(BY$40>=6,BY$41,\"\")","v":"2'"},{"$f":"IFERROR(VLOOKUP(BY53,DEBUTSTEP!$D$5:$E$68,2,FALSE),0)","v":120},null,null,null,null,null,null,null,null,null,null,null,null,null,{"$f":"IF(CN$40>=6,CN$41,\"\")","v":"2'"},{"$f":"IFERROR(VLOOKUP(CN53,DEBUTSTEP!$D$5:$E$68,2,FALSE),0)","v":120},null,null,null,null,null,null,null,null,null,null,null,null,null,{"$f":"IF(DC$40>=6,DC$41,\"\")","v":"2'"},{"$f":"IFERROR(VLOOKUP(DC53,DEBUTSTEP!$D$5:$E$68,2,FALSE),0)","v":120},null,null,null,null,null,null,null,null,null,null,null,null,null,{"$f":"IF(DR$40>=6,DR$41,\"\")","v":"2'"},{"$f":"IFERROR(VLOOKUP(DR53,DEBUTSTEP!$D$5:$E$68,2,FALSE),0)","v":120},null,null,null,null,null,null,null,null,null,null,null,null,null,{"$f":"IF(EG$40>=6,EG$41,\"\")","v":"2'"},{"$f":"IFERROR(VLOOKUP(EG53,DEBUTSTEP!$D$5:$E$68,2,FALSE),0)","v":120}]
["Récup'",{"$f":"IF(B$40>=6,B$42,\"\")","v":"2'"},{"$f":"IFERROR(VLOOKUP(B54,DEBUTSTEP!$D$5:$E$68,2,FALSE),0)","v":120},null,null,null,null,null,null,null,null,null,null,null,null,null,{"$f":"IF(Q$40>=6,Q$42,\"\")","v":""},{"$f":"IFERROR(VLOOKUP(Q54,DEBUTSTEP!$D$5:$E$68,2,FALSE),0)","v":0},null,null,null,null,null,null,null,null,null,null,null,null,null,{"$f":"IF(AF$40>=6,AF$42,\"\")","v":""},{"$f":"IFERROR(VLOOKUP(AF54,DEBUTSTEP!$D$5:$E$68,2,FALSE),0)","v":0},null,null,null,null,null,null,null,null,null,null,null,null,null,{"$f":"IF(AU$40>=6,AU$42,\"\")","v":"2'"},{"$f":"IFERROR(VLOOKUP(AU54,DEBUTSTEP!$D$5:$E$68,2,FALSE),0)","v":120},null,null,null,null,null,null,null,null,null,null,null,null,null,{"$f":"IF(BJ$40>=6,BJ$42,\"\")","v":"2'"},{"$f":"IFERROR(VLOOKUP(BJ54,DEBUTSTEP!$D$5:$E$68,2,FALSE),0)","v":120},null,null,null,null,null,null,null,null,null,null,null,null,null,{"$f":"IF(BY$40>=6,BY$42,\"\")","v":"2'"},{"$f":"IFERROR(VLOOKUP(BY54,DEBUTSTEP!$D$5:$E$68,2,FALSE),0)","v":120},null,null,null,null,null,null,null,null,null,null,null,null,null,{"$f":"IF(CN$40>=6,CN$42,\"\")","v":"2'"},{"$f":"IFERROR(VLOOKUP(CN54,DEBUTSTEP!$D$5:$E$68,2,FALSE),0)","v":120},null,null,null,null,null,null,null,null,null,null,null,null,null,{"$f":"IF(DC$40>=6,DC$42,\"\")","v":"2'"},{"$f":"IFERROR(VLOOKUP(DC54,DEBUTSTEP!$D$5:$E$68,2,FALSE),0)","v":120},null,null,null,null,null,null,null,null,null,null,null,null,null,{"$f":"IF(DR$40>=6,DR$42,\"\")","v":"2'"},{"$f":"IFERROR(VLOOKUP(DR54,DEBUTSTEP!$D$5:$E$68,2,FALSE),0)","v":120},null,null,null,null,null,null,null,null,null,null,null,null,null,{"$f":"IF(EG$40>=6,EG$42,\"\")","v":"2'"},{"$f":"IFERROR(VLOOKUP(EG54,DEBUTSTEP!$D$5:$E$68,2,FALSE),0)","v":120}]
["Effort",{"$f":"IF(B$40>=7,B$41,\"\")","v":"2'"},{"$f":"IFERROR(VLOOKUP(B55,DEBUTSTEP!$D$5:$E$68,2,FALSE),0)","v":120},null,null,null,null,null,null,null,null,null,null,null,null,null,{"$f":"IF(Q$40>=7,Q$41,\"\")","v":""},{"$f":"IFERROR(VLOOKUP(Q55,DEBUTSTEP!$D$5:$E$68,2,FALSE),0)","v":0},null,null,null,null,null,null,null,null,null,null,null,null,null,{"$f":"IF(AF$40>=7,AF$41,\"\")","v":""},{"$f":"IFERROR(VLOOKUP(AF55,DEBUTSTEP!$D$5:$E$68,2,FALSE),0)","v":0},null,null,null,null,null,null,null,null,null,null,null,null,null,{"$f":"IF(AU$40>=7,AU$41,\"\")","v":"2'"},{"$f":"IFERROR(VLOOKUP(AU55,DEBUTSTEP!$D$5:$E$68,2,FALSE),0)","v":120},null,null,null,null,null,null,null,null,null,null,null,null,null,{"$f":"IF(BJ$40>=7,BJ$41,\"\")","v":"2'"},{"$f":"IFERROR(VLOOKUP(BJ55,DEBUTSTEP!$D$5:$E$68,2,FALSE),0)","v":120},null,null,null,null,null,null,null,null,null,null,null,null,null,{"$f":"IF(BY$40>=7,BY$41,\"\")","v":"2'"},{"$f":"IFERROR(VLOOKUP(BY55,DEBUTSTEP!$D$5:$E$68,2,FALSE),0)","v":120},null,null,null,null,null,null,null,null,null,null,null,null,null,{"$f":"IF(CN$40>=7,CN$41,\"\")","v":"2'"},{"$f":"IFERROR(VLOOKUP(CN55,DEBUTSTEP!$D$5:$E$68,2,FALSE),0)","v":120},null,null,null,null,null,null,null,null,null,null,null,null,null,{"$f":"IF(DC$40>=7,DC$41,\"\")","v":"2'"},{"$f":"IFERROR(VLOOKUP(DC55,DEBUTSTEP!$D$5:$E$68,2,FALSE),0)","v":120},null,null,null,null,null,null,null,null,null,null,null,null,null,{"$f":"IF(DR$40>=7,DR$41,\"\")","v":"2'"},{"$f":"IFERROR(VLOOKUP(DR55,DEBUTSTEP!$D$5:$E$68,2,FALSE),0)","v":120},null,null,null,null,null,null,null,null,null,null,null,null,null,{"$f":"IF(EG$40>=7,EG$41,\"\")","v":"2'"},{"$f":"IFERROR(VLOOKUP(EG55,DEBUTSTEP!$D$5:$E$68,2,FALSE),0)","v":120}]
["Récup'",{"$f":"IF(B$40>=7,B$42,\"\")","v":"2'"},{"$f":"IFERROR(VLOOKUP(B56,DEBUTSTEP!$D$5:$E$68,2,FALSE),0)","v":120},null,null,null,null,null,null,null,null,null,null,null,null,null,{"$f":"IF(Q$40>=7,Q$42,\"\")","v":""},{"$f":"IFERROR(VLOOKUP(Q56,DEBUTSTEP!$D$5:$E$68,2,FALSE),0)","v":0},null,null,null,null,null,null,null,null,null,null,null,null,null,{"$f":"IF(AF$40>=7,AF$42,\"\")","v":""},{"$f":"IFERROR(VLOOKUP(AF56,DEBUTSTEP!$D$5:$E$68,2,FALSE),0)","v":0},null,null,null,null,null,null,null,null,null,null,null,null,null,{"$f":"IF(AU$40>=7,AU$42,\"\")","v":"2'"},{"$f":"IFERROR(VLOOKUP(AU56,DEBUTSTEP!$D$5:$E$68,2,FALSE),0)","v":120},null,null,null,null,null,null,null,null,null,null,null,null,null,{"$f":"IF(BJ$40>=7,BJ$42,\"\")","v":"2'"},{"$f":"IFERROR(VLOOKUP(BJ56,DEBUTSTEP!$D$5:$E$68,2,FALSE),0)","v":120},null,null,null,null,null,null,null,null,null,null,null,null,null,{"$f":"IF(BY$40>=7,BY$42,\"\")","v":"2'"},{"$f":"IFERROR(VLOOKUP(BY56,DEBUTSTEP!$D$5:$E$68,2,FALSE),0)","v":120},null,null,null,null,null,null,null,null,null,null,null,null,null,{"$f":"IF(CN$40>=7,CN$42,\"\")","v":"2'"},{"$f":"IFERROR(VLOOKUP(CN56,DEBUTSTEP!$D$5:$E$68,2,FALSE),0)","v":120},null,null,null,null,null,null,null,null,null,null,null,null,null,{"$f":"IF(DC$40>=7,DC$42,\"\")","v":"2'"},{"$f":"IFERROR(VLOOKUP(DC56,DEBUTSTEP!$D$5:$E$68,2,FALSE),0)","v":120},null,null,null,null,null,null,null,null,null,null,null,null,null,{"$f":"IF(DR$40>=7,DR$42,\"\")","v":"2'"},{"$f":"IFERROR(VLOOKUP(DR56,DEBUTSTEP!$D$5:$E$68,2,FALSE),0)","v":120},null,null,null,null,null,null,null,null,null,null,null,null,null,{"$f":"IF(EG$40>=7,EG$42,\"\")","v":"2'"},{"$f":"IFERROR(VLOOKUP(EG56,DEBUTSTEP!$D$5:$E$68,2,FALSE),0)","v":120}]
["Effort",{"$f":"IF(B$40>=8,B$41,\"\")","v":"2'"},{"$f":"IFERROR(VLOOKUP(B57,DEBUTSTEP!$D$5:$E$68,2,FALSE),0)","v":120},null,null,null,null,null,null,null,null,null,null,null,null,null,{"$f":"IF(Q$40>=8,Q$41,\"\")","v":""},{"$f":"IFERROR(VLOOKUP(Q57,DEBUTSTEP!$D$5:$E$68,2,FALSE),0)","v":0},null,null,null,null,null,null,null,null,null,null,null,null,null,{"$f":"IF(AF$40>=8,AF$41,\"\")","v":""},{"$f":"IFERROR(VLOOKUP(AF57,DEBUTSTEP!$D$5:$E$68,2,FALSE),0)","v":0},null,null,null,null,null,null,null,null,null,null,null,null,null,{"$f":"IF(AU$40>=8,AU$41,\"\")","v":"2'"},{"$f":"IFERROR(VLOOKUP(AU57,DEBUTSTEP!$D$5:$E$68,2,FALSE),0)","v":120},null,null,null,null,null,null,null,null,null,null,null,null,null,{"$f":"IF(BJ$40>=8,BJ$41,\"\")","v":"2'"},{"$f":"IFERROR(VLOOKUP(BJ57,DEBUTSTEP!$D$5:$E$68,2,FALSE),0)","v":120},null,null,null,null,null,null,null,null,null,null,null,null,null,{"$f":"IF(BY$40>=8,BY$41,\"\")","v":"2'"},{"$f":"IFERROR(VLOOKUP(BY57,DEBUTSTEP!$D$5:$E$68,2,FALSE),0)","v":120},null,null,null,null,null,null,null,null,null,null,null,null,null,{"$f":"IF(CN$40>=8,CN$41,\"\")","v":"2'"},{"$f":"IFERROR(VLOOKUP(CN57,DEBUTSTEP!$D$5:$E$68,2,FALSE),0)","v":120},null,null,null,null,null,null,null,null,null,null,null,null,null,{"$f":"IF(DC$40>=8,DC$41,\"\")","v":"2'"},{"$f":"IFERROR(VLOOKUP(DC57,DEBUTSTEP!$D$5:$E$68,2,FALSE),0)","v":120},null,null,null,null,null,null,null,null,null,null,null,null,null,{"$f":"IF(DR$40>=8,DR$41,\"\")","v":"2'"},{"$f":"IFERROR(VLOOKUP(DR57,DEBUTSTEP!$D$5:$E$68,2,FALSE),0)","v":120},null,null,null,null,null,null,null,null,null,null,null,null,null,{"$f":"IF(EG$40>=8,EG$41,\"\")","v":"2'"},{"$f":"IFERROR(VLOOKUP(EG57,DEBUTSTEP!$D$5:$E$68,2,FALSE),0)","v":120}]
["Récup'",{"$f":"IF(B$40>=8,B$42,\"\")","v":"2'"},{"$f":"IFERROR(VLOOKUP(B58,DEBUTSTEP!$D$5:$E$68,2,FALSE),0)","v":120},null,null,null,null,null,null,null,null,null,null,null,null,null,{"$f":"IF(Q$40>=8,Q$42,\"\")","v":""},{"$f":"IFERROR(VLOOKUP(Q58,DEBUTSTEP!$D$5:$E$68,2,FALSE),0)","v":0},null,null,null,null,null,null,null,null,null,null,null,null,null,{"$f":"IF(AF$40>=8,AF$42,\"\")","v":""},{"$f":"IFERROR(VLOOKUP(AF58,DEBUTSTEP!$D$5:$E$68,2,FALSE),0)","v":0},null,null,null,null,null,null,null,null,null,null,null,null,null,{"$f":"IF(AU$40>=8,AU$42,\"\")","v":"2'"},{"$f":"IFERROR(VLOOKUP(AU58,DEBUTSTEP!$D$5:$E$68,2,FALSE),0)","v":120},null,null,null,null,null,null,null,null,null,null,null,null,null,{"$f":"IF(BJ$40>=8,BJ$42,\"\")","v":"2'"},{"$f":"IFERROR(VLOOKUP(BJ58,DEBUTSTEP!$D$5:$E$68,2,FALSE),0)","v":120},null,null,null,null,null,null,null,null,null,null,null,null,null,{"$f":"IF(BY$40>=8,BY$42,\"\")","v":"2'"},{"$f":"IFERROR(VLOOKUP(BY58,DEBUTSTEP!$D$5:$E$68,2,FALSE),0)","v":120},null,null,null,null,null,null,null,null,null,null,null,null,null,{"$f":"IF(CN$40>=8,CN$42,\"\")","v":"2'"},{"$f":"IFERROR(VLOOKUP(CN58,DEBUTSTEP!$D$5:$E$68,2,FALSE),0)","v":120},null,null,null,null,null,null,null,null,null,null,null,null,null,{"$f":"IF(DC$40>=8,DC$42,\"\")","v":"2'"},{"$f":"IFERROR(VLOOKUP(DC58,DEBUTSTEP!$D$5:$E$68,2,FALSE),0)","v":120},null,null,null,null,null,null,null,null,null,null,null,null,null,{"$f":"IF(DR$40>=8,DR$42,\"\")","v":"2'"},{"$f":"IFERROR(VLOOKUP(DR58,DEBUTSTEP!$D$5:$E$68,2,FALSE),0)","v":120},null,null,null,null,null,null,null,null,null,null,null,null,null,{"$f":"IF(EG$40>=8,EG$42,\"\")","v":"2'"},{"$f":"IFERROR(VLOOKUP(EG58,DEBUTSTEP!$D$5:$E$68,2,FALSE),0)","v":120}]
["Effort",{"$f":"IF(B$40>=9,B$41,\"\")","v":""},{"$f":"IFERROR(VLOOKUP(B59,DEBUTSTEP!$D$5:$E$68,2,FALSE),0)","v":0},null,null,null,null,null,null,null,null,null,null,null,null,null,{"$f":"IF(Q$40>=9,Q$41,\"\")","v":""},{"$f":"IFERROR(VLOOKUP(Q59,DEBUTSTEP!$D$5:$E$68,2,FALSE),0)","v":0},null,null,null,null,null,null,null,null,null,null,null,null,null,{"$f":"IF(AF$40>=9,AF$41,\"\")","v":""},{"$f":"IFERROR(VLOOKUP(AF59,DEBUTSTEP!$D$5:$E$68,2,FALSE),0)","v":0},null,null,null,null,null,null,null,null,null,null,null,null,null,{"$f":"IF(AU$40>=9,AU$41,\"\")","v":""},{"$f":"IFERROR(VLOOKUP(AU59,DEBUTSTEP!$D$5:$E$68,2,FALSE),0)","v":0},null,null,null,null,null,null,null,null,null,null,null,null,null,{"$f":"IF(BJ$40>=9,BJ$41,\"\")","v":""},{"$f":"IFERROR(VLOOKUP(BJ59,DEBUTSTEP!$D$5:$E$68,2,FALSE),0)","v":0},null,null,null,null,null,null,null,null,null,null,null,null,null,{"$f":"IF(BY$40>=9,BY$41,\"\")","v":""},{"$f":"IFERROR(VLOOKUP(BY59,DEBUTSTEP!$D$5:$E$68,2,FALSE),0)","v":0},null,null,null,null,null,null,null,null,null,null,null,null,null,{"$f":"IF(CN$40>=9,CN$41,\"\")","v":""},{"$f":"IFERROR(VLOOKUP(CN59,DEBUTSTEP!$D$5:$E$68,2,FALSE),0)","v":0},null,null,null,null,null,null,null,null,null,null,null,null,null,{"$f":"IF(DC$40>=9,DC$41,\"\")","v":""},{"$f":"IFERROR(VLOOKUP(DC59,DEBUTSTEP!$D$5:$E$68,2,FALSE),0)","v":0},null,null,null,null,null,null,null,null,null,null,null,null,null,{"$f":"IF(DR$40>=9,DR$41,\"\")","v":""},{"$f":"IFERROR(VLOOKUP(DR59,DEBUTSTEP!$D$5:$E$68,2,FALSE),0)","v":0},null,null,null,null,null,null,null,null,null,null,null,null,null,{"$f":"IF(EG$40>=9,EG$41,\"\")","v":""},{"$f":"IFERROR(VLOOKUP(EG59,DEBUTSTEP!$D$5:$E$68,2,FALSE),0)","v":0}]
["Récup'",{"$f":"IF(B$40>=9,B$42,\"\")","v":""},{"$f":"IFERROR(VLOOKUP(B60,DEBUTSTEP!$D$5:$E$68,2,FALSE),0)","v":0},null,null,null,null,null,null,null,null,null,null,null,null,null,{"$f":"IF(Q$40>=9,Q$42,\"\")","v":""},{"$f":"IFERROR(VLOOKUP(Q60,DEBUTSTEP!$D$5:$E$68,2,FALSE),0)","v":0},null,null,null,null,null,null,null,null,null,null,null,null,null,{"$f":"IF(AF$40>=9,AF$42,\"\")","v":""},{"$f":"IFERROR(VLOOKUP(AF60,DEBUTSTEP!$D$5:$E$68,2,FALSE),0)","v":0},null,null,null,null,null,null,null,null,null,null,null,null,null,{"$f":"IF(AU$40>=9,AU$42,\"\")","v":""},{"$f":"IFERROR(VLOOKUP(AU60,DEBUTSTEP!$D$5:$E$68,2,FALSE),0)","v":0},null,null,null,null,null,null,null,null,null,null,null,null,null,{"$f":"IF(BJ$40>=9,BJ$42,\"\")","v":""},{"$f":"IFERROR(VLOOKUP(BJ60,DEBUTSTEP!$D$5:$E$68,2,FALSE),0)","v":0},null,null,null,null,null,null,null,null,null,null,null,null,null,{"$f":"IF(BY$40>=9,BY$42,\"\")","v":""},{"$f":"IFERROR(VLOOKUP(BY60,DEBUTSTEP!$D$5:$E$68,2,FALSE),0)","v":0},null,null,null,null,null,null,null,null,null,null,null,null,null,{"$f":"IF(CN$40>=9,CN$42,\"\")","v":""},{"$f":"IFERROR(VLOOKUP(CN60,DEBUTSTEP!$D$5:$E$68,2,FALSE),0)","v":0},null,null,null,null,null,null,null,null,null,null,null,null,null,{"$f":"IF(DC$40>=9,DC$42,\"\")","v":""},{"$f":"IFERROR(VLOOKUP(DC60,DEBUTSTEP!$D$5:$E$68,2,FALSE),0)","v":0},null,null,null,null,null,null,null,null,null,null,null,null,null,{"$f":"IF(DR$40>=9,DR$42,\"\")","v":""},{"$f":"IFERROR(VLOOKUP(DR60,DEBUTSTEP!$D$5:$E$68,2,FALSE),0)","v":0},null,null,null,null,null,null,null,null,null,null,null,null,null,{"$f":"IF(EG$40>=9,EG$42,\"\")","v":""},{"$f":"IFERROR(VLOOKUP(EG60,DEBUTSTEP!$D$5:$E$68,2,FALSE),0)","v":0}]
["EFFORT TOTAL",{"$f":"(C43+C45+C47+C49+C51+C53+C55+C57+C59)*\"00:00:01\"","v":"00:16:00"},{"$f":"IFERROR((C44+C46+C48+C50+C52+C54+C56+C58+C60)*\"00:00:01\",0)","v":"00:16:00"},null,null,null,null,null,null,null,null,null,null,null,null,null,{"$f":"(R43+R45+R47+R49+R51+R53+R55+R57+R59)*\"00:00:01\"","v":"00:21:00"},{"$f":"IFERROR((R44+R46+R48+R50+R52+R54+R56+R58+R60)*\"00:00:01\",0)","v":"00:12:00"},null,null,null,null,null,null,null,null,null,null,null,null,null,{"$f":"(AG43+AG45+AG47+AG49+AG51+AG53+AG55+AG57+AG59)*\"00:00:01\"","v":"00:20:00"},{"$f":"IFERROR((AG44+AG46+AG48+AG50+AG52+AG54+AG56+AG58+AG60)*\"00:00:01\",0)","v":"00:16:00"},null,null,null,null,null,null,null,null,null,null,null,null,null,{"$f":"(AV43+AV45+AV47+AV49+AV51+AV53+AV55+AV57+AV59)*\"00:00:01\"","v":"00:16:00"},{"$f":"IFERROR((AV44+AV46+AV48+AV50+AV52+AV54+AV56+AV58+AV60)*\"00:00:01\",0)","v":"00:16:00"},null,null,null,null,null,null,null,null,null,null,null,null,null,{"$f":"(BK43+BK45+BK47+BK49+BK51+BK53+BK55+BK57+BK59)*\"00:00:01\"","v":"00:16:00"},{"$f":"IFERROR((BK44+BK46+BK48+BK50+BK52+BK54+BK56+BK58+BK60)*\"00:00:01\",0)","v":"00:16:00"},null,null,null,null,null,null,null,null,null,null,null,null,null,{"$f":"(BZ43+BZ45+BZ47+BZ49+BZ51+BZ53+BZ55+BZ57+BZ59)*\"00:00:01\"","v":"00:16:00"},{"$f":"IFERROR((BZ44+BZ46+BZ48+BZ50+BZ52+BZ54+BZ56+BZ58+BZ60)*\"00:00:01\",0)","v":"00:16:00"},null,null,null,null,null,null,null,null,null,null,null,null,null,{"$f":"(CO43+CO45+CO47+CO49+CO51+CO53+CO55+CO57+CO59)*\"00:00:01\"","v":"00:16:00"},{"$f":"IFERROR((CO44+CO46+CO48+CO50+CO52+CO54+CO56+CO58+CO60)*\"00:00:01\",0)","v":"00:16:00"},null,null,null,null,null,null,null,null,null,null,null,null,null,{"$f":"(DD43+DD45+DD47+DD49+DD51+DD53+DD55+DD57+DD59)*\"00:00:01\"","v":"00:16:00"},{"$f":"IFERROR((DD44+DD46+DD48+DD50+DD52+DD54+DD56+DD58+DD60)*\"00:00:01\",0)","v":"00:16:00"},null,null,null,null,null,null,null,null,null,null,null,null,null,{"$f":"(DS43+DS45+DS47+DS49+DS51+DS53+DS55+DS57+DS59)*\"00:00:01\"","v":"00:16:00"},{"$f":"IFERROR((DS44+DS46+DS48+DS50+DS52+DS54+DS56+DS58+DS60)*\"00:00:01\",0)","v":"00:16:00"},null,null,null,null,null,null,null,null,null,null,null,null,null,{"$f":"(EH43+EH45+EH47+EH49+EH51+EH53+EH55+EH57+EH59)*\"00:00:01\"","v":"00:16:00"},{"$f":"IFERROR((EH44+EH46+EH48+EH50+EH52+EH54+EH56+EH58+EH60)*\"00:00:01\",0)","v":"00:16:00"}]
[]
["Pourquoi avoir choisi cet entrainement ? (expression libre)"]
[]
[null,"BLOCS CHOISIS ",null,null,null,null,null,null,null,null,null,null,null,null,null,null,"BLOCS CHOISIS ",null,null,null,null,null,null,null,null,null,null,null,null,null,null,"BLOCS CHOISIS ",null,null,null,null,null,null,null,null,null,null,null,null,null,null,"BLOCS CHOISIS ",null,null,null,null,null,null,null,null,null,null,null,null,null,null,"BLOCS CHOISIS ",null,null,null,null,null,null,null,null,null,null,null,null,null,null,"BLOCS CHOISIS ",null,null,null,null,null,null,null,null,null,null,null,null,null,null,"BLOCS CHOISIS ",null,null,null,null,null,null,null,null,null,null,null,null,null,null,"BLOCS CHOISIS ",null,null,null,null,null,null,null,null,null,null,null,null,null,null,"BLOCS CHOISIS ",null,null,null,null,null,null,null,null,null,null,null,null,null,null,"BLOCS CHOISIS "]
[null,"1 BLOC = 4x8 TEMPS",null,null,null,null,null,null,null,null,null,null,null,null,null,null,"1 BLOC = 4x8 TEMPS",null,null,null,null,null,null,null,null,null,null,null,null,null,null,"1 BLOC = 4x8 TEMPS",null,null,null,null,null,null,null,null,null,null,null,null,null,null,"1 BLOC = 4x8 TEMPS",null,null,null,null,null,null,null,null,null,null,null,null,null,null,"1 BLOC = 4x8 TEMPS",null,null,null,null,null,null,null,null,null,null,null,null,null,null,"1 BLOC = 4x8 TEMPS",null,null,null,null,null,null,null,null,null,null,null,null,null,null,"1 BLOC = 4x8 TEMPS",null,null,null,null,null,null,null,null,null,null,null,null,null,null,"1 BLOC = 4x8 TEMPS",null,null,null,null,null,null,null,null,null,null,null,null,null,null,"1 BLOC = 4x8 TEMPS",null,null,null,null,null,null,null,null,null,null,null,null,null,null,"1 BLOC = 4x8 TEMPS"]
["BLOC 1",{"$f":"CONCATENATE(SUMIF(E67,\"<>\")+SUMIF(H67,\"<>\")+SUMIF(K67,\"<>\")+SUMIF(N67,\"<>\")+SUMIF(E69,\"<>\")+SUMIF(H69,\"<>\")+SUMIF(K69,\"<>\")+SUMIF(N69,\"<>\"),\" temps\")","v":"32 temps"},"MARCHE",null,{"$f":"IFERROR(VLOOKUP(C67,TOUSLESPAS!$B$4:$C$207,2,FALSE),\"\")","v":4},"MARCHE",null,{"$f":"IFERROR(VLOOKUP(F67,TOUSLESPAS!$B$4:$C$207,2,FALSE),\"\")","v":4},"V-STEP",null,{"$f":"IFERROR(VLOOKUP(I67,TOUSLESPAS!$B$4:$C$207,2,FALSE),\"\")","v":4},"V-STEP",null,{"$f":"IFERROR(VLOOKUP(L67,TOUSLESPAS!$B$4:$C$207,2,FALSE),\"\")","v":4},null,null,{"$f":"CONCATENATE(SUMIF(T67,\"<>\")+SUMIF(W67,\"<>\")+SUMIF(Z67,\"<>\")+SUMIF(AC67,\"<>\")+SUMIF(T69,\"<>\")+SUMIF(W69,\"<>\")+SUMIF(Z69,\"<>\")+SUMIF(AC69,\"<>\"),\" temps\")","v":"32 temps"},{"$f":"IF(C67=\"\",\"\",C67)","v":"MARCHE"},null,{"$f":"IFERROR(VLOOKUP(R67,TOUSLESPAS!$B$4:$C$207,2,FALSE),\"\")","v":4},{"$f":"IF(F67=\"\",\"\",F67)","v":"MARCHE"},null,{"$f":"IFERROR(VLOOKUP(U67,TOUSLESPAS!$B$4:$C$207,2,FALSE),\"\")","v":4},{"$f":"IF(I67=\"\",\"\",I67)","v":"V-STEP"},null,{"$f":"IFERROR(VLOOKUP(X67,TOUSLESPAS!$B$4:$C$207,2,FALSE),\"\")","v":4},{"$f":"IF(L67=\"\",\"\",L67)","v":"V-STEP"},null,{"$f":"IFERROR(VLOOKUP(AA67,TOUSLESPAS!$B$4:$C$207,2,FALSE),\"\")","v":4},null,null,{"$f":"CONCATENATE(SUMIF(AI67,\"<>\")+SUMIF(AL67,\"<>\")+SUMIF(AO67,\"<>\")+SUMIF(AR67,\"<>\")+SUMIF(AI69,\"<>\")+SUMIF(AL69,\"<>\")+SUMIF(AO69,\"<>\")+SUMIF(AR69,\"<>\"),\" temps\")","v":"32 temps"},{"$f":"IF(R67=\"\",\"\",R67)","v":"MARCHE"},null,{"$f":"IFERROR(VLOOKUP(AG67,TOUSLESPAS!$B$4:$C$207,2,FALSE),\"\")","v":4},{"$f":"IF(U67=\"\",\"\",U67)","v":"MARCHE"},null,{"$f":"IFERROR(VLOOKUP(AJ67,TOUSLESPAS!$B$4:$C$207,2,FALSE),\"\")","v":4},{"$f":"IF(X67=\"\",\"\",X67)","v":"V-STEP"},null,{"$f":"IFERROR(VLOOKUP(AM67,TOUSLESPAS!$B$4:$C$207,2,FALSE),\"\")","v":4},{"$f":"IF(AA67=\"\",\"\",AA67)","v":"V-STEP"},null,{"$f":"IFERROR(VLOOKUP(AP67,TOUSLESPAS!$B$4:$C$207,2,FALSE),\"\")","v":4},null,null,{"$f":"CONCATENATE(SUMIF(AX67,\"<>\")+SUMIF(BA67,\"<>\")+SUMIF(BD67,\"<>\")+SUMIF(BG67,\"<>\")+SUMIF(AX69,\"<>\")+SUMIF(BA69,\"<>\")+SUMIF(BD69,\"<>\")+SUMIF(BG69,\"<>\"),\" temps\")","v":"32 temps"},{"$f":"IF(AG67=\"\",\"\",AG67)","v":"MARCHE"},null,{"$f":"IFERROR(VLOOKUP(AV67,TOUSLESPAS!$B$4:$C$207,2,FALSE),\"\")","v":4},{"$f":"IF(AJ67=\"\",\"\",AJ67)","v":"MARCHE"},null,{"$f":"IFERROR(VLOOKUP(AY67,TOUSLESPAS!$B$4:$C$207,2,FALSE),\"\")","v":4},{"$f":"IF(AM67=\"\",\"\",AM67)","v":"V-STEP"},null,{"$f":"IFERROR(VLOOKUP(BB67,TOUSLESPAS!$B$4:$C$207,2,FALSE),\"\")","v":4},{"$f":"IF(AP67=\"\",\"\",AP67)","v":"V-STEP"},null,{"$f":"IFERROR(VLOOKUP(BE67,TOUSLESPAS!$B$4:$C$207,2,FALSE),\"\")","v":4},null,null,{"$f":"CONCATENATE(SUMIF(BM67,\"<>\")+SUMIF(BP67,\"<>\")+SUMIF(BS67,\"<>\")+SUMIF(BV67,\"<>\")+SUMIF(BM69,\"<>\")+SUMIF(BP69,\"<>\")+SUMIF(BS69,\"<>\")+SUMIF(BV69,\"<>\"),\" temps\")","v":"32 temps"},{"$f":"IF(AV67=\"\",\"\",AV67)","v":"MARCHE"},null,{"$f":"IFERROR(VLOOKUP(BK67,TOUSLESPAS!$B$4:$C$207,2,FALSE),\"\")","v":4},{"$f":"IF(AY67=\"\",\"\",AY67)","v":"MARCHE"},null,{"$f":"IFERROR(VLOOKUP(BN67,TOUSLESPAS!$B$4:$C$207,2,FALSE),\"\")","v":4},{"$f":"IF(BB67=\"\",\"\",BB67)","v":"V-STEP"},null,{"$f":"IFERROR(VLOOKUP(BQ67,TOUSLESPAS!$B$4:$C$207,2,FALSE),\"\")","v":4},{"$f":"IF(BE67=\"\",\"\",BE67)","v":"V-STEP"},null,{"$f":"IFERROR(VLOOKUP(BT67,TOUSLESPAS!$B$4:$C$207,2,FALSE),\"\")","v":4},null,null,{"$f":"CONCATENATE(SUMIF(CB67,\"<>\")+SUMIF(CE67,\"<>\")+SUMIF(CH67,\"<>\")+SUMIF(CK67,\"<>\")+SUMIF(CB69,\"<>\")+SUMIF(CE69,\"<>\")+SUMIF(CH69,\"<>\")+SUMIF(CK69,\"<>\"),\" temps\")","v":"32 temps"},{"$f":"IF(BK67=\"\",\"\",BK67)","v":"MARCHE"},null,{"$f":"IFERROR(VLOOKUP(BZ67,TOUSLESPAS!$B$4:$C$207,2,FALSE),\"\")","v":4},{"$f":"IF(BN67=\"\",\"\",BN67)","v":"MARCHE"},null,{"$f":"IFERROR(VLOOKUP(CC67,TOUSLESPAS!$B$4:$C$207,2,FALSE),\"\")","v":4},{"$f":"IF(BQ67=\"\",\"\",BQ67)","v":"V-STEP"},null,{"$f":"IFERROR(VLOOKUP(CF67,TOUSLESPAS!$B$4:$C$207,2,FALSE),\"\")","v":4},{"$f":"IF(BT67=\"\",\"\",BT67)","v":"V-STEP"},null,{"$f":"IFERROR(VLOOKUP(CI67,TOUSLESPAS!$B$4:$C$207,2,FALSE),\"\")","v":4},null,null,{"$f":"CONCATENATE(SUMIF(CQ67,\"<>\")+SUMIF(CT67,\"<>\")+SUMIF(CW67,\"<>\")+SUMIF(CZ67,\"<>\")+SUMIF(CQ69,\"<>\")+SUMIF(CT69,\"<>\")+SUMIF(CW69,\"<>\")+SUMIF(CZ69,\"<>\"),\" temps\")","v":"32 temps"},{"$f":"IF(BZ67=\"\",\"\",BZ67)","v":"MARCHE"},null,{"$f":"IFERROR(VLOOKUP(CO67,TOUSLESPAS!$B$4:$C$207,2,FALSE),\"\")","v":4},{"$f":"IF(CC67=\"\",\"\",CC67)","v":"MARCHE"},null,{"$f":"IFERROR(VLOOKUP(CR67,TOUSLESPAS!$B$4:$C$207,2,FALSE),\"\")","v":4},{"$f":"IF(CF67=\"\",\"\",CF67)","v":"V-STEP"},null,{"$f":"IFERROR(VLOOKUP(CU67,TOUSLESPAS!$B$4:$C$207,2,FALSE),\"\")","v":4},{"$f":"IF(CI67=\"\",\"\",CI67)","v":"V-STEP"},null,{"$f":"IFERROR(VLOOKUP(CX67,TOUSLESPAS!$B$4:$C$207,2,FALSE),\"\")","v":4},null,null,{"$f":"CONCATENATE(SUMIF(DF67,\"<>\")+SUMIF(DI67,\"<>\")+SUMIF(DL67,\"<>\")+SUMIF(DO67,\"<>\")+SUMIF(DF69,\"<>\")+SUMIF(DI69,\"<>\")+SUMIF(DL69,\"<>\")+SUMIF(DO69,\"<>\"),\" temps\")","v":"32 temps"},{"$f":"IF(CO67=\"\",\"\",CO67)","v":"MARCHE"},null,{"$f":"IFERROR(VLOOKUP(DD67,TOUSLESPAS!$B$4:$C$207,2,FALSE),\"\")","v":4},{"$f":"IF(CR67=\"\",\"\",CR67)","v":"MARCHE"},null,{"$f":"IFERROR(VLOOKUP(DG67,TOUSLESPAS!$B$4:$C$207,2,FALSE),\"\")","v":4},{"$f":"IF(CU67=\"\",\"\",CU67)","v":"V-STEP"},null,{"$f":"IFERROR(VLOOKUP(DJ67,TOUSLESPAS!$B$4:$C$207,2,FALSE),\"\")","v":4},{"$f":"IF(CX67=\"\",\"\",CX67)","v":"V-STEP"},null,{"$f":"IFERROR(VLOOKUP(DM67,TOUSLESPAS!$B$4:$C$207,2,FALSE),\"\")","v":4},null,null,{"$f":"CONCATENATE(SUMIF(DU67,\"<>\")+SUMIF(DX67,\"<>\")+SUMIF(EA67,\"<>\")+SUMIF(ED67,\"<>\")+SUMIF(DU69,\"<>\")+SUMIF(DX69,\"<>\")+SUMIF(EA69,\"<>\")+SUMIF(ED69,\"<>\"),\" temps\")","v":"32 temps"},{"$f":"IF(DD67=\"\",\"\",DD67)","v":"MARCHE"},null,{"$f":"IFERROR(VLOOKUP(DS67,TOUSLESPAS!$B$4:$C$207,2,FALSE),\"\")","v":4},{"$f":"IF(DG67=\"\",\"\",DG67)","v":"MARCHE"},null,{"$f":"IFERROR(VLOOKUP(DV67,TOUSLESPAS!$B$4:$C$207,2,FALSE),\"\")","v":4},{"$f":"IF(DJ67=\"\",\"\",DJ67)","v":"V-STEP"},null,{"$f":"IFERROR(VLOOKUP(DY67,TOUSLESPAS!$B$4:$C$207,2,FALSE),\"\")","v":4},{"$f":"IF(DM67=\"\",\"\",DM67)","v":"V-STEP"},null,{"$f":"IFERROR(VLOOKUP(EB67,TOUSLESPAS!$B$4:$C$207,2,FALSE),\"\")","v":4},null,null,{"$f":"CONCATENATE(SUMIF(EJ67,\"<>\")+SUMIF(EM67,\"<>\")+SUMIF(EP67,\"<>\")+SUMIF(ES67,\"<>\")+SUMIF(EJ69,\"<>\")+SUMIF(EM69,\"<>\")+SUMIF(EP69,\"<>\")+SUMIF(ES69,\"<>\"),\" temps\")","v":"32 temps"},{"$f":"IF(DS67=\"\",\"\",DS67)","v":"MARCHE"},null,{"$f":"IFERROR(VLOOKUP(EH67,TOUSLESPAS!$B$4:$C$207,2,FALSE),\"\")","v":4},{"$f":"IF(DV67=\"\",\"\",DV67)","v":"MARCHE"},null,{"$f":"IFERROR(VLOOKUP(EK67,TOUSLESPAS!$B$4:$C$207,2,FALSE),\"\")","v":4},{"$f":"IF(DY67=\"\",\"\",DY67)","v":"V-STEP"},null,{"$f":"IFERROR(VLOOKUP(EN67,TOUSLESPAS!$B$4:$C$207,2,FALSE),\"\")","v":4},{"$f":"IF(EB67=\"\",\"\",EB67)","v":"V-STEP"},null,{"$f":"IFERROR(VLOOKUP(EQ67,TOUSLESPAS!$B$4:$C$207,2,FALSE),\"\")","v":4}]
[]
[null,null,"GENOU",null,{"$f":"IFERROR(VLOOKUP(C69,TOUSLESPAS!$B$4:$C$207,2,FALSE),\"\")","v":4},"GENOU",null,{"$f":"IFERROR(VLOOKUP(F69,TOUSLESPAS!$B$4:$C$207,2,FALSE),\"\")","v":4},"COUP DE PIED",null,{"$f":"IFERROR(VLOOKUP(I69,TOUSLESPAS!$B$4:$C$207,2,FALSE),\"\")","v":4},"COUP DE PIED",null,{"$f":"IFERROR(VLOOKUP(L69,TOUSLESPAS!$B$4:$C$207,2,FALSE),\"\")","v":4},null,null,null,{"$f":"IF(C69=\"\",\"\",C69)","v":"GENOU"},null,{"$f":"IFERROR(VLOOKUP(R69,TOUSLESPAS!$B$4:$C$207,2,FALSE),\"\")","v":4},{"$f":"IF(F69=\"\",\"\",F69)","v":"GENOU"},null,{"$f":"IFERROR(VLOOKUP(U69,TOUSLESPAS!$B$4:$C$207,2,FALSE),\"\")","v":4},{"$f":"IF(I69=\"\",\"\",I69)","v":"COUP DE PIED"},null,{"$f":"IFERROR(VLOOKUP(X69,TOUSLESPAS!$B$4:$C$207,2,FALSE),\"\")","v":4},{"$f":"IF(L69=\"\",\"\",L69)","v":"COUP DE PIED"},null,{"$f":"IFERROR(VLOOKUP(AA69,TOUSLESPAS!$B$4:$C$207,2,FALSE),\"\")","v":4},null,null,null,{"$f":"IF(R69=\"\",\"\",R69)","v":"GENOU"},null,{"$f":"IFERROR(VLOOKUP(AG69,TOUSLESPAS!$B$4:$C$207,2,FALSE),\"\")","v":4},{"$f":"IF(U69=\"\",\"\",U69)","v":"GENOU"},null,{"$f":"IFERROR(VLOOKUP(AJ69,TOUSLESPAS!$B$4:$C$207,2,FALSE),\"\")","v":4},{"$f":"IF(X69=\"\",\"\",X69)","v":"COUP DE PIED"},null,{"$f":"IFERROR(VLOOKUP(AM69,TOUSLESPAS!$B$4:$C$207,2,FALSE),\"\")","v":4},{"$f":"IF(AA69=\"\",\"\",AA69)","v":"COUP DE PIED"},null,{"$f":"IFERROR(VLOOKUP(AP69,TOUSLESPAS!$B$4:$C$207,2,FALSE),\"\")","v":4},null,null,null,{"$f":"IF(AG69=\"\",\"\",AG69)","v":"GENOU"},null,{"$f":"IFERROR(VLOOKUP(AV69,TOUSLESPAS!$B$4:$C$207,2,FALSE),\"\")","v":4},{"$f":"IF(AJ69=\"\",\"\",AJ69)","v":"GENOU"},null,{"$f":"IFERROR(VLOOKUP(AY69,TOUSLESPAS!$B$4:$C$207,2,FALSE),\"\")","v":4},{"$f":"IF(AM69=\"\",\"\",AM69)","v":"COUP DE PIED"},null,{"$f":"IFERROR(VLOOKUP(BB69,TOUSLESPAS!$B$4:$C$207,2,FALSE),\"\")","v":4},{"$f":"IF(AP69=\"\",\"\",AP69)","v":"COUP DE PIED"},null,{"$f":"IFERROR(VLOOKUP(BE69,TOUSLESPAS!$B$4:$C$207,2,FALSE),\"\")","v":4},null,null,null,{"$f":"IF(AV69=\"\",\"\",AV69)","v":"GENOU"},null,{"$f":"IFERROR(VLOOKUP(BK69,TOUSLESPAS!$B$4:$C$207,2,FALSE),\"\")","v":4},{"$f":"IF(AY69=\"\",\"\",AY69)","v":"GENOU"},null,{"$f":"IFERROR(VLOOKUP(BN69,TOUSLESPAS!$B$4:$C$207,2,FALSE),\"\")","v":4},{"$f":"IF(BB69=\"\",\"\",BB69)","v":"COUP DE PIED"},null,{"$f":"IFERROR(VLOOKUP(BQ69,TOUSLESPAS!$B$4:$C$207,2,FALSE),\"\")","v":4},{"$f":"IF(BE69=\"\",\"\",BE69)","v":"COUP DE PIED"},null,{"$f":"IFERROR(VLOOKUP(BT69,TOUSLESPAS!$B$4:$C$207,2,FALSE),\"\")","v":4},null,null,null,{"$f":"IF(BK69=\"\",\"\",BK69)","v":"GENOU"},null,{"$f":"IFERROR(VLOOKUP(BZ69,TOUSLESPAS!$B$4:$C$207,2,FALSE),\"\")","v":4},{"$f":"IF(BN69=\"\",\"\",BN69)","v":"GENOU"},null,{"$f":"IFERROR(VLOOKUP(CC69,TOUSLESPAS!$B$4:$C$207,2,FALSE),\"\")","v":4},{"$f":"IF(BQ69=\"\",\"\",BQ69)","v":"COUP DE PIED"},null,{"$f":"IFERROR(VLOOKUP(CF69,TOUSLESPAS!$B$4:$C$207,2,FALSE),\"\")","v":4},{"$f":"IF(BT69=\"\",\"\",BT69)","v":"COUP DE PIED"},null,{"$f":"IFERROR(VLOOKUP(CI69,TOUSLESPAS!$B$4:$C$207,2,FALSE),\"\")","v":4},null,null,null,{"$f":"IF(BZ69=\"\",\"\",BZ69)","v":"GENOU"},null,{"$f":"IFERROR(VLOOKUP(CO69,TOUSLESPAS!$B$4:$C$207,2,FALSE),\"\")","v":4},{"$f":"IF(CC69=\"\",\"\",CC69)","v":"GENOU"},null,{"$f":"IFERROR(VLOOKUP(CR69,TOUSLESPAS!$B$4:$C$207,2,FALSE),\"\")","v":4},{"$f":"IF(CF69=\"\",\"\",CF69)","v":"COUP DE PIED"},null,{"$f":"IFERROR(VLOOKUP(CU69,TOUSLESPAS!$B$4:$C$207,2,FALSE),\"\")","v":4},{"$f":"IF(CI69=\"\",\"\",CI69)","v":"COUP DE PIED"},null,{"$f":"IFERROR(VLOOKUP(CX69,TOUSLESPAS!$B$4:$C$207,2,FALSE),\"\")","v":4},null,null,null,{"$f":"IF(CO69=\"\",\"\",CO69)","v":"GENOU"},null,{"$f":"IFERROR(VLOOKUP(DD69,TOUSLESPAS!$B$4:$C$207,2,FALSE),\"\")","v":4},{"$f":"IF(CR69=\"\",\"\",CR69)","v":"GENOU"},null,{"$f":"IFERROR(VLOOKUP(DG69,TOUSLESPAS!$B$4:$C$207,2,FALSE),\"\")","v":4},{"$f":"IF(CU69=\"\",\"\",CU69)","v":"COUP DE PIED"},null,{"$f":"IFERROR(VLOOKUP(DJ69,TOUSLESPAS!$B$4:$C$207,2,FALSE),\"\")","v":4},{"$f":"IF(CX69=\"\",\"\",CX69)","v":"COUP DE PIED"},null,{"$f":"IFERROR(VLOOKUP(DM69,TOUSLESPAS!$B$4:$C$207,2,FALSE),\"\")","v":4},null,null,null,{"$f":"IF(DD69=\"\",\"\",DD69)","v":"GENOU"},null,{"$f":"IFERROR(VLOOKUP(DS69,TOUSLESPAS!$B$4:$C$207,2,FALSE),\"\")","v":4},{"$f":"IF(DG69=\"\",\"\",DG69)","v":"GENOU"},null,{"$f":"IFERROR(VLOOKUP(DV69,TOUSLESPAS!$B$4:$C$207,2,FALSE),\"\")","v":4},{"$f":"IF(DJ69=\"\",\"\",DJ69)","v":"COUP DE PIED"},null,{"$f":"IFERROR(VLOOKUP(DY69,TOUSLESPAS!$B$4:$C$207,2,FALSE),\"\")","v":4},{"$f":"IF(DM69=\"\",\"\",DM69)","v":"COUP DE PIED"},null,{"$f":"IFERROR(VLOOKUP(EB69,TOUSLESPAS!$B$4:$C$207,2,FALSE),\"\")","v":4},null,null,null,{"$f":"IF(DS69=\"\",\"\",DS69)","v":"GENOU"},null,{"$f":"IFERROR(VLOOKUP(EH69,TOUSLESPAS!$B$4:$C$207,2,FALSE),\"\")","v":4},{"$f":"IF(DV69=\"\",\"\",DV69)","v":"GENOU"},null,{"$f":"IFERROR(VLOOKUP(EK69,TOUSLESPAS!$B$4:$C$207,2,FALSE),\"\")","v":4},{"$f":"IF(DY69=\"\",\"\",DY69)","v":"COUP DE PIED"},null,{"$f":"IFERROR(VLOOKUP(EN69,TOUSLESPAS!$B$4:$C$207,2,FALSE),\"\")","v":4},{"$f":"IF(EB69=\"\",\"\",EB69)","v":"COUP DE PIED"},null,{"$f":"IFERROR(VLOOKUP(EQ69,TOUSLESPAS!$B$4:$C$207,2,FALSE),\"\")","v":4}]
[]
["BLOC 2",{"$f":"CONCATENATE(SUMIF(E71,\"<>\")+SUMIF(H71,\"<>\")+SUMIF(K71,\"<>\")+SUMIF(N71,\"<>\")+SUMIF(E73,\"<>\")+SUMIF(H73,\"<>\")+SUMIF(K73,\"<>\")+SUMIF(N73,\"<>\"),\" temps\")","v":"0 temps"},null,null,{"$f":"IFERROR(VLOOKUP(C71,TOUSLESPAS!$B$4:$C$207,2,FALSE),\"\")","v":""},null,null,{"$f":"IFERROR(VLOOKUP(F71,TOUSLESPAS!$B$4:$C$207,2,FALSE),\"\")","v":""},null,null,{"$f":"IFERROR(VLOOKUP(I71,TOUSLESPAS!$B$4:$C$207,2,FALSE),\"\")","v":""},null,null,{"$f":"IFERROR(VLOOKUP(L71,TOUSLESPAS!$B$4:$C$207,2,FALSE),\"\")","v":""},null,null,{"$f":"CONCATENATE(SUMIF(T71,\"<>\")+SUMIF(W71,\"<>\")+SUMIF(Z71,\"<>\")+SUMIF(AC71,\"<>\")+SUMIF(T73,\"<>\")+SUMIF(W73,\"<>\")+SUMIF(Z73,\"<>\")+SUMIF(AC73,\"<>\"),\" temps\")","v":"0 temps"},{"$f":"IF(C71=\"\",\"\",C71)","v":""},null,{"$f":"IFERROR(VLOOKUP(R71,TOUSLESPAS!$B$4:$C$207,2,FALSE),\"\")","v":""},{"$f":"IF(F71=\"\",\"\",F71)","v":""},null,{"$f":"IFERROR(VLOOKUP(U71,TOUSLESPAS!$B$4:$C$207,2,FALSE),\"\")","v":""},{"$f":"IF(I71=\"\",\"\",I71)","v":""},null,{"$f":"IFERROR(VLOOKUP(X71,TOUSLESPAS!$B$4:$C$207,2,FALSE),\"\")","v":""},{"$f":"IF(L71=\"\",\"\",L71)","v":""},null,{"$f":"IFERROR(VLOOKUP(AA71,TOUSLESPAS!$B$4:$C$207,2,FALSE),\"\")","v":""},null,null,{"$f":"CONCATENATE(SUMIF(AI71,\"<>\")+SUMIF(AL71,\"<>\")+SUMIF(AO71,\"<>\")+SUMIF(AR71,\"<>\")+SUMIF(AI73,\"<>\")+SUMIF(AL73,\"<>\")+SUMIF(AO73,\"<>\")+SUMIF(AR73,\"<>\"),\" temps\")","v":"0 temps"},{"$f":"IF(R71=\"\",\"\",R71)","v":""},null,{"$f":"IFERROR(VLOOKUP(AG71,TOUSLESPAS!$B$4:$C$207,2,FALSE),\"\")","v":""},{"$f":"IF(U71=\"\",\"\",U71)","v":""},null,{"$f":"IFERROR(VLOOKUP(AJ71,TOUSLESPAS!$B$4:$C$207,2,FALSE),\"\")","v":""},{"$f":"IF(X71=\"\",\"\",X71)","v":""},null,{"$f":"IFERROR(VLOOKUP(AM71,TOUSLESPAS!$B$4:$C$207,2,FALSE),\"\")","v":""},{"$f":"IF(AA71=\"\",\"\",AA71)","v":""},null,{"$f":"IFERROR(VLOOKUP(AP71,TOUSLESPAS!$B$4:$C$207,2,FALSE),\"\")","v":""},null,null,{"$f":"CONCATENATE(SUMIF(AX71,\"<>\")+SUMIF(BA71,\"<>\")+SUMIF(BD71,\"<>\")+SUMIF(BG71,\"<>\")+SUMIF(AX73,\"<>\")+SUMIF(BA73,\"<>\")+SUMIF(BD73,\"<>\")+SUMIF(BG73,\"<>\"),\" temps\")","v":"0 temps"},{"$f":"IF(AG71=\"\",\"\",AG71)","v":""},null,{"$f":"IFERROR(VLOOKUP(AV71,TOUSLESPAS!$B$4:$C$207,2,FALSE),\"\")","v":""},{"$f":"IF(AJ71=\"\",\"\",AJ71)","v":""},null,{"$f":"IFERROR(VLOOKUP(AY71,TOUSLESPAS!$B$4:$C$207,2,FALSE),\"\")","v":""},{"$f":"IF(AM71=\"\",\"\",AM71)","v":""},null,{"$f":"IFERROR(VLOOKUP(BB71,TOUSLESPAS!$B$4:$C$207,2,FALSE),\"\")","v":""},{"$f":"IF(AP71=\"\",\"\",AP71)","v":""},null,{"$f":"IFERROR(VLOOKUP(BE71,TOUSLESPAS!$B$4:$C$207,2,FALSE),\"\")","v":""},null,null,{"$f":"CONCATENATE(SUMIF(BM71,\"<>\")+SUMIF(BP71,\"<>\")+SUMIF(BS71,\"<>\")+SUMIF(BV71,\"<>\")+SUMIF(BM73,\"<>\")+SUMIF(BP73,\"<>\")+SUMIF(BS73,\"<>\")+SUMIF(BV73,\"<>\"),\" temps\")","v":"0 temps"},{"$f":"IF(AV71=\"\",\"\",AV71)","v":""},null,{"$f":"IFERROR(VLOOKUP(BK71,TOUSLESPAS!$B$4:$C$207,2,FALSE),\"\")","v":""},{"$f":"IF(AY71=\"\",\"\",AY71)","v":""},null,{"$f":"IFERROR(VLOOKUP(BN71,TOUSLESPAS!$B$4:$C$207,2,FALSE),\"\")","v":""},{"$f":"IF(BB71=\"\",\"\",BB71)","v":""},null,{"$f":"IFERROR(VLOOKUP(BQ71,TOUSLESPAS!$B$4:$C$207,2,FALSE),\"\")","v":""},{"$f":"IF(BE71=\"\",\"\",BE71)","v":""},null,{"$f":"IFERROR(VLOOKUP(BT71,TOUSLESPAS!$B$4:$C$207,2,FALSE),\"\")","v":""},null,null,{"$f":"CONCATENATE(SUMIF(CB71,\"<>\")+SUMIF(CE71,\"<>\")+SUMIF(CH71,\"<>\")+SUMIF(CK71,\"<>\")+SUMIF(CB73,\"<>\")+SUMIF(CE73,\"<>\")+SUMIF(CH73,\"<>\")+SUMIF(CK73,\"<>\"),\" temps\")","v":"0 temps"},{"$f":"IF(BK71=\"\",\"\",BK71)","v":""},null,{"$f":"IFERROR(VLOOKUP(BZ71,TOUSLESPAS!$B$4:$C$207,2,FALSE),\"\")","v":""},{"$f":"IF(BN71=\"\",\"\",BN71)","v":""},null,{"$f":"IFERROR(VLOOKUP(CC71,TOUSLESPAS!$B$4:$C$207,2,FALSE),\"\")","v":""},{"$f":"IF(BQ71=\"\",\"\",BQ71)","v":""},null,{"$f":"IFERROR(VLOOKUP(CF71,TOUSLESPAS!$B$4:$C$207,2,FALSE),\"\")","v":""},{"$f":"IF(BT71=\"\",\"\",BT71)","v":""},null,{"$f":"IFERROR(VLOOKUP(CI71,TOUSLESPAS!$B$4:$C$207,2,FALSE),\"\")","v":""},null,null,{"$f":"CONCATENATE(SUMIF(CQ71,\"<>\")+SUMIF(CT71,\"<>\")+SUMIF(CW71,\"<>\")+SUMIF(CZ71,\"<>\")+SUMIF(CQ73,\"<>\")+SUMIF(CT73,\"<>\")+SUMIF(CW73,\"<>\")+SUMIF(CZ73,\"<>\"),\" temps\")","v":"0 temps"},{"$f":"IF(BZ71=\"\",\"\",BZ71)","v":""},null,{"$f":"IFERROR(VLOOKUP(CO71,TOUSLESPAS!$B$4:$C$207,2,FALSE),\"\")","v":""},{"$f":"IF(CC71=\"\",\"\",CC71)","v":""},null,{"$f":"IFERROR(VLOOKUP(CR71,TOUSLESPAS!$B$4:$C$207,2,FALSE),\"\")","v":""},{"$f":"IF(CF71=\"\",\"\",CF71)","v":""},null,{"$f":"IFERROR(VLOOKUP(CU71,TOUSLESPAS!$B$4:$C$207,2,FALSE),\"\")","v":""},{"$f":"IF(CI71=\"\",\"\",CI71)","v":""},null,{"$f":"IFERROR(VLOOKUP(CX71,TOUSLESPAS!$B$4:$C$207,2,FALSE),\"\")","v":""},null,null,{"$f":"CONCATENATE(SUMIF(DF71,\"<>\")+SUMIF(DI71,\"<>\")+SUMIF(DL71,\"<>\")+SUMIF(DO71,\"<>\")+SUMIF(DF73,\"<>\")+SUMIF(DI73,\"<>\")+SUMIF(DL73,\"<>\")+SUMIF(DO73,\"<>\"),\" temps\")","v":"0 temps"},{"$f":"IF(CO71=\"\",\"\",CO71)","v":""},null,{"$f":"IFERROR(VLOOKUP(DD71,TOUSLESPAS!$B$4:$C$207,2,FALSE),\"\")","v":""},{"$f":"IF(CR71=\"\",\"\",CR71)","v":""},null,{"$f":"IFERROR(VLOOKUP(DG71,TOUSLESPAS!$B$4:$C$207,2,FALSE),\"\")","v":""},{"$f":"IF(CU71=\"\",\"\",CU71)","v":""},null,{"$f":"IFERROR(VLOOKUP(DJ71,TOUSLESPAS!$B$4:$C$207,2,FALSE),\"\")","v":""},{"$f":"IF(CX71=\"\",\"\",CX71)","v":""},null,{"$f":"IFERROR(VLOOKUP(DM71,TOUSLESPAS!$B$4:$C$207,2,FALSE),\"\")","v":""},null,null,{"$f":"CONCATENATE(SUMIF(DU71,\"<>\")+SUMIF(DX71,\"<>\")+SUMIF(EA71,\"<>\")+SUMIF(ED71,\"<>\")+SUMIF(DU73,\"<>\")+SUMIF(DX73,\"<>\")+SUMIF(EA73,\"<>\")+SUMIF(ED73,\"<>\"),\" temps\")","v":"0 temps"},{"$f":"IF(DD71=\"\",\"\",DD71)","v":""},null,{"$f":"IFERROR(VLOOKUP(DS71,TOUSLESPAS!$B$4:$C$207,2,FALSE),\"\")","v":""},{"$f":"IF(DG71=\"\",\"\",DG71)","v":""},null,{"$f":"IFERROR(VLOOKUP(DV71,TOUSLESPAS!$B$4:$C$207,2,FALSE),\"\")","v":""},{"$f":"IF(DJ71=\"\",\"\",DJ71)","v":""},null,{"$f":"IFERROR(VLOOKUP(DY71,TOUSLESPAS!$B$4:$C$207,2,FALSE),\"\")","v":""},{"$f":"IF(DM71=\"\",\"\",DM71)","v":""},null,{"$f":"IFERROR(VLOOKUP(EB71,TOUSLESPAS!$B$4:$C$207,2,FALSE),\"\")","v":""},null,null,{"$f":"CONCATENATE(SUMIF(EJ71,\"<>\")+SUMIF(EM71,\"<>\")+SUMIF(EP71,\"<>\")+SUMIF(ES71,\"<>\")+SUMIF(EJ73,\"<>\")+SUMIF(EM73,\"<>\")+SUMIF(EP73,\"<>\")+SUMIF(ES73,\"<>\"),\" temps\")","v":"0 temps"},{"$f":"IF(DS71=\"\",\"\",DS71)","v":""},null,{"$f":"IFERROR(VLOOKUP(EH71,TOUSLESPAS!$B$4:$C$207,2,FALSE),\"\")","v":""},{"$f":"IF(DV71=\"\",\"\",DV71)","v":""},null,{"$f":"IFERROR(VLOOKUP(EK71,TOUSLESPAS!$B$4:$C$207,2,FALSE),\"\")","v":""},{"$f":"IF(DY71=\"\",\"\",DY71)","v":""},null,{"$f":"IFERROR(VLOOKUP(EN71,TOUSLESPAS!$B$4:$C$207,2,FALSE),\"\")","v":""},{"$f":"IF(EB71=\"\",\"\",EB71)","v":""},null,{"$f":"IFERROR(VLOOKUP(EQ71,TOUSLESPAS!$B$4:$C$207,2,FALSE),\"\")","v":""}]
[]
[null,null,null,null,{"$f":"IFERROR(VLOOKUP(C73,TOUSLESPAS!$B$4:$C$207,2,FALSE),\"\")","v":""},null,null,{"$f":"IFERROR(VLOOKUP(F73,TOUSLESPAS!$B$4:$C$207,2,FALSE),\"\")","v":""},null,null,{"$f":"IFERROR(VLOOKUP(I73,TOUSLESPAS!$B$4:$C$207,2,FALSE),\"\")","v":""},null,null,{"$f":"IFERROR(VLOOKUP(L73,TOUSLESPAS!$B$4:$C$207,2,FALSE),\"\")","v":""},null,null,null,{"$f":"IF(C73=\"\",\"\",C73)","v":""},null,{"$f":"IFERROR(VLOOKUP(R73,TOUSLESPAS!$B$4:$C$207,2,FALSE),\"\")","v":""},{"$f":"IF(F73=\"\",\"\",F73)","v":""},null,{"$f":"IFERROR(VLOOKUP(U73,TOUSLESPAS!$B$4:$C$207,2,FALSE),\"\")","v":""},{"$f":"IF(I73=\"\",\"\",I73)","v":""},null,{"$f":"IFERROR(VLOOKUP(X73,TOUSLESPAS!$B$4:$C$207,2,FALSE),\"\")","v":""},{"$f":"IF(L73=\"\",\"\",L73)","v":""},null,{"$f":"IFERROR(VLOOKUP(AA73,TOUSLESPAS!$B$4:$C$207,2,FALSE),\"\")","v":""},null,null,null,{"$f":"IF(R73=\"\",\"\",R73)","v":""},null,{"$f":"IFERROR(VLOOKUP(AG73,TOUSLESPAS!$B$4:$C$207,2,FALSE),\"\")","v":""},{"$f":"IF(U73=\"\",\"\",U73)","v":""},null,{"$f":"IFERROR(VLOOKUP(AJ73,TOUSLESPAS!$B$4:$C$207,2,FALSE),\"\")","v":""},{"$f":"IF(X73=\"\",\"\",X73)","v":""},null,{"$f":"IFERROR(VLOOKUP(AM73,TOUSLESPAS!$B$4:$C$207,2,FALSE),\"\")","v":""},{"$f":"IF(AA73=\"\",\"\",AA73)","v":""},null,{"$f":"IFERROR(VLOOKUP(AP73,TOUSLESPAS!$B$4:$C$207,2,FALSE),\"\")","v":""},null,null,null,{"$f":"IF(AG73=\"\",\"\",AG73)","v":""},null,{"$f":"IFERROR(VLOOKUP(AV73,TOUSLESPAS!$B$4:$C$207,2,FALSE),\"\")","v":""},{"$f":"IF(AJ73=\"\",\"\",AJ73)","v":""},null,{"$f":"IFERROR(VLOOKUP(AY73,TOUSLESPAS!$B$4:$C$207,2,FALSE),\"\")","v":""},{"$f":"IF(AM73=\"\",\"\",AM73)","v":""},null,{"$f":"IFERROR(VLOOKUP(BB73,TOUSLESPAS!$B$4:$C$207,2,FALSE),\"\")","v":""},{"$f":"IF(AP73=\"\",\"\",AP73)","v":""},null,{"$f":"IFERROR(VLOOKUP(BE73,TOUSLESPAS!$B$4:$C$207,2,FALSE),\"\")","v":""},null,null,null,{"$f":"IF(AV73=\"\",\"\",AV73)","v":""},null,{"$f":"IFERROR(VLOOKUP(BK73,TOUSLESPAS!$B$4:$C$207,2,FALSE),\"\")","v":""},{"$f":"IF(AY73=\"\",\"\",AY73)","v":""},null,{"$f":"IFERROR(VLOOKUP(BN73,TOUSLESPAS!$B$4:$C$207,2,FALSE),\"\")","v":""},{"$f":"IF(BB73=\"\",\"\",BB73)","v":""},null,{"$f":"IFERROR(VLOOKUP(BQ73,TOUSLESPAS!$B$4:$C$207,2,FALSE),\"\")","v":""},{"$f":"IF(BE73=\"\",\"\",BE73)","v":""},null,{"$f":"IFERROR(VLOOKUP(BT73,TOUSLESPAS!$B$4:$C$207,2,FALSE),\"\")","v":""},null,null,null,{"$f":"IF(BK73=\"\",\"\",BK73)","v":""},null,{"$f":"IFERROR(VLOOKUP(BZ73,TOUSLESPAS!$B$4:$C$207,2,FALSE),\"\")","v":""},{"$f":"IF(BN73=\"\",\"\",BN73)","v":""},null,{"$f":"IFERROR(VLOOKUP(CC73,TOUSLESPAS!$B$4:$C$207,2,FALSE),\"\")","v":""},{"$f":"IF(BQ73=\"\",\"\",BQ73)","v":""},null,{"$f":"IFERROR(VLOOKUP(CF73,TOUSLESPAS!$B$4:$C$207,2,FALSE),\"\")","v":""},{"$f":"IF(BT73=\"\",\"\",BT73)","v":""},null,{"$f":"IFERROR(VLOOKUP(CI73,TOUSLESPAS!$B$4:$C$207,2,FALSE),\"\")","v":""},null,null,null,{"$f":"IF(BZ73=\"\",\"\",BZ73)","v":""},null,{"$f":"IFERROR(VLOOKUP(CO73,TOUSLESPAS!$B$4:$C$207,2,FALSE),\"\")","v":""},{"$f":"IF(CC73=\"\",\"\",CC73)","v":""},null,{"$f":"IFERROR(VLOOKUP(CR73,TOUSLESPAS!$B$4:$C$207,2,FALSE),\"\")","v":""},{"$f":"IF(CF73=\"\",\"\",CF73)","v":""},null,{"$f":"IFERROR(VLOOKUP(CU73,TOUSLESPAS!$B$4:$C$207,2,FALSE),\"\")","v":""},{"$f":"IF(CI73=\"\",\"\",CI73)","v":""},null,{"$f":"IFERROR(VLOOKUP(CX73,TOUSLESPAS!$B$4:$C$207,2,FALSE),\"\")","v":""},null,null,null,{"$f":"IF(CO73=\"\",\"\",CO73)","v":""},null,{"$f":"IFERROR(VLOOKUP(DD73,TOUSLESPAS!$B$4:$C$207,2,FALSE),\"\")","v":""},{"$f":"IF(CR73=\"\",\"\",CR73)","v":""},null,{"$f":"IFERROR(VLOOKUP(DG73,TOUSLESPAS!$B$4:$C$207,2,FALSE),\"\")","v":""},{"$f":"IF(CU73=\"\",\"\",CU73)","v":""},null,{"$f":"IFERROR(VLOOKUP(DJ73,TOUSLESPAS!$B$4:$C$207,2,FALSE),\"\")","v":""},{"$f":"IF(CX73=\"\",\"\",CX73)","v":""},null,{"$f":"IFERROR(VLOOKUP(DM73,TOUSLESPAS!$B$4:$C$207,2,FALSE),\"\")","v":""},null,null,null,{"$f":"IF(DD73=\"\",\"\",DD73)","v":""},null,{"$f":"IFERROR(VLOOKUP(DS73,TOUSLESPAS!$B$4:$C$207,2,FALSE),\"\")","v":""},{"$f":"IF(DG73=\"\",\"\",DG73)","v":""},null,{"$f":"IFERROR(VLOOKUP(DV73,TOUSLESPAS!$B$4:$C$207,2,FALSE),\"\")","v":""},{"$f":"IF(DJ73=\"\",\"\",DJ73)","v":""},null,{"$f":"IFERROR(VLOOKUP(DY73,TOUSLESPAS!$B$4:$C$207,2,FALSE),\"\")","v":""},{"$f":"IF(DM73=\"\",\"\",DM73)","v":""},null,{"$f":"IFERROR(VLOOKUP(EB73,TOUSLESPAS!$B$4:$C$207,2,FALSE),\"\")","v":""},null,null,null,{"$f":"IF(DS73=\"\",\"\",DS73)","v":""},null,{"$f":"IFERROR(VLOOKUP(EH73,TOUSLESPAS!$B$4:$C$207,2,FALSE),\"\")","v":""},{"$f":"IF(DV73=\"\",\"\",DV73)","v":""},null,{"$f":"IFERROR(VLOOKUP(EK73,TOUSLESPAS!$B$4:$C$207,2,FALSE),\"\")","v":""},{"$f":"IF(DY73=\"\",\"\",DY73)","v":""},null,{"$f":"IFERROR(VLOOKUP(EN73,TOUSLESPAS!$B$4:$C$207,2,FALSE),\"\")","v":""},{"$f":"IF(EB73=\"\",\"\",EB73)","v":""},null,{"$f":"IFERROR(VLOOKUP(EQ73,TOUSLESPAS!$B$4:$C$207,2,FALSE),\"\")","v":""}]
[]
["BLOC 3",{"$f":"CONCATENATE(SUMIF(E75,\"<>\")+SUMIF(H75,\"<>\")+SUMIF(K75,\"<>\")+SUMIF(N75,\"<>\")+SUMIF(E77,\"<>\")+SUMIF(H77,\"<>\")+SUMIF(K77,\"<>\")+SUMIF(N77,\"<>\"),\" temps\")","v":"0 temps"},null,null,{"$f":"IFERROR(VLOOKUP(C75,TOUSLESPAS!$B$4:$C$207,2,FALSE),\"\")","v":""},null,null,{"$f":"IFERROR(VLOOKUP(F75,TOUSLESPAS!$B$4:$C$207,2,FALSE),\"\")","v":""},null,null,{"$f":"IFERROR(VLOOKUP(I75,TOUSLESPAS!$B$4:$C$207,2,FALSE),\"\")","v":""},null,null,{"$f":"IFERROR(VLOOKUP(L75,TOUSLESPAS!$B$4:$C$207,2,FALSE),\"\")","v":""},null,null,{"$f":"CONCATENATE(SUMIF(T75,\"<>\")+SUMIF(W75,\"<>\")+SUMIF(Z75,\"<>\")+SUMIF(AC75,\"<>\")+SUMIF(T77,\"<>\")+SUMIF(W77,\"<>\")+SUMIF(Z77,\"<>\")+SUMIF(AC77,\"<>\"),\" temps\")","v":"0 temps"},{"$f":"IF(C75=\"\",\"\",C75)","v":""},null,{"$f":"IFERROR(VLOOKUP(R75,TOUSLESPAS!$B$4:$C$207,2,FALSE),\"\")","v":""},{"$f":"IF(F75=\"\",\"\",F75)","v":""},null,{"$f":"IFERROR(VLOOKUP(U75,TOUSLESPAS!$B$4:$C$207,2,FALSE),\"\")","v":""},{"$f":"IF(I75=\"\",\"\",I75)","v":""},null,{"$f":"IFERROR(VLOOKUP(X75,TOUSLESPAS!$B$4:$C$207,2,FALSE),\"\")","v":""},{"$f":"IF(L75=\"\",\"\",L75)","v":""},null,{"$f":"IFERROR(VLOOKUP(AA75,TOUSLESPAS!$B$4:$C$207,2,FALSE),\"\")","v":""},null,null,{"$f":"CONCATENATE(SUMIF(AI75,\"<>\")+SUMIF(AL75,\"<>\")+SUMIF(AO75,\"<>\")+SUMIF(AR75,\"<>\")+SUMIF(AI77,\"<>\")+SUMIF(AL77,\"<>\")+SUMIF(AO77,\"<>\")+SUMIF(AR77,\"<>\"),\" temps\")","v":"0 temps"},{"$f":"IF(R75=\"\",\"\",R75)","v":""},null,{"$f":"IFERROR(VLOOKUP(AG75,TOUSLESPAS!$B$4:$C$207,2,FALSE),\"\")","v":""},{"$f":"IF(U75=\"\",\"\",U75)","v":""},null,{"$f":"IFERROR(VLOOKUP(AJ75,TOUSLESPAS!$B$4:$C$207,2,FALSE),\"\")","v":""},{"$f":"IF(X75=\"\",\"\",X75)","v":""},null,{"$f":"IFERROR(VLOOKUP(AM75,TOUSLESPAS!$B$4:$C$207,2,FALSE),\"\")","v":""},{"$f":"IF(AA75=\"\",\"\",AA75)","v":""},null,{"$f":"IFERROR(VLOOKUP(AP75,TOUSLESPAS!$B$4:$C$207,2,FALSE),\"\")","v":""},null,null,{"$f":"CONCATENATE(SUMIF(AX75,\"<>\")+SUMIF(BA75,\"<>\")+SUMIF(BD75,\"<>\")+SUMIF(BG75,\"<>\")+SUMIF(AX77,\"<>\")+SUMIF(BA77,\"<>\")+SUMIF(BD77,\"<>\")+SUMIF(BG77,\"<>\"),\" temps\")","v":"0 temps"},{"$f":"IF(AG75=\"\",\"\",AG75)","v":""},null,{"$f":"IFERROR(VLOOKUP(AV75,TOUSLESPAS!$B$4:$C$207,2,FALSE),\"\")","v":""},{"$f":"IF(AJ75=\"\",\"\",AJ75)","v":""},null,{"$f":"IFERROR(VLOOKUP(AY75,TOUSLESPAS!$B$4:$C$207,2,FALSE),\"\")","v":""},{"$f":"IF(AM75=\"\",\"\",AM75)","v":""},null,{"$f":"IFERROR(VLOOKUP(BB75,TOUSLESPAS!$B$4:$C$207,2,FALSE),\"\")","v":""},{"$f":"IF(AP75=\"\",\"\",AP75)","v":""},null,{"$f":"IFERROR(VLOOKUP(BE75,TOUSLESPAS!$B$4:$C$207,2,FALSE),\"\")","v":""},null,null,{"$f":"CONCATENATE(SUMIF(BM75,\"<>\")+SUMIF(BP75,\"<>\")+SUMIF(BS75,\"<>\")+SUMIF(BV75,\"<>\")+SUMIF(BM77,\"<>\")+SUMIF(BP77,\"<>\")+SUMIF(BS77,\"<>\")+SUMIF(BV77,\"<>\"),\" temps\")","v":"0 temps"},{"$f":"IF(AV75=\"\",\"\",AV75)","v":""},null,{"$f":"IFERROR(VLOOKUP(BK75,TOUSLESPAS!$B$4:$C$207,2,FALSE),\"\")","v":""},{"$f":"IF(AY75=\"\",\"\",AY75)","v":""},null,{"$f":"IFERROR(VLOOKUP(BN75,TOUSLESPAS!$B$4:$C$207,2,FALSE),\"\")","v":""},{"$f":"IF(BB75=\"\",\"\",BB75)","v":""},null,{"$f":"IFERROR(VLOOKUP(BQ75,TOUSLESPAS!$B$4:$C$207,2,FALSE),\"\")","v":""},{"$f":"IF(BE75=\"\",\"\",BE75)","v":""},null,{"$f":"IFERROR(VLOOKUP(BT75,TOUSLESPAS!$B$4:$C$207,2,FALSE),\"\")","v":""},null,null,{"$f":"CONCATENATE(SUMIF(CB75,\"<>\")+SUMIF(CE75,\"<>\")+SUMIF(CH75,\"<>\")+SUMIF(CK75,\"<>\")+SUMIF(CB77,\"<>\")+SUMIF(CE77,\"<>\")+SUMIF(CH77,\"<>\")+SUMIF(CK77,\"<>\"),\" temps\")","v":"0 temps"},{"$f":"IF(BK75=\"\",\"\",BK75)","v":""},null,{"$f":"IFERROR(VLOOKUP(BZ75,TOUSLESPAS!$B$4:$C$207,2,FALSE),\"\")","v":""},{"$f":"IF(BN75=\"\",\"\",BN75)","v":""},null,{"$f":"IFERROR(VLOOKUP(CC75,TOUSLESPAS!$B$4:$C$207,2,FALSE),\"\")","v":""},{"$f":"IF(BQ75=\"\",\"\",BQ75)","v":""},null,{"$f":"IFERROR(VLOOKUP(CF75,TOUSLESPAS!$B$4:$C$207,2,FALSE),\"\")","v":""},{"$f":"IF(BT75=\"\",\"\",BT75)","v":""},null,{"$f":"IFERROR(VLOOKUP(CI75,TOUSLESPAS!$B$4:$C$207,2,FALSE),\"\")","v":""},null,null,{"$f":"CONCATENATE(SUMIF(CQ75,\"<>\")+SUMIF(CT75,\"<>\")+SUMIF(CW75,\"<>\")+SUMIF(CZ75,\"<>\")+SUMIF(CQ77,\"<>\")+SUMIF(CT77,\"<>\")+SUMIF(CW77,\"<>\")+SUMIF(CZ77,\"<>\"),\" temps\")","v":"0 temps"},{"$f":"IF(BZ75=\"\",\"\",BZ75)","v":""},null,{"$f":"IFERROR(VLOOKUP(CO75,TOUSLESPAS!$B$4:$C$207,2,FALSE),\"\")","v":""},{"$f":"IF(CC75=\"\",\"\",CC75)","v":""},null,{"$f":"IFERROR(VLOOKUP(CR75,TOUSLESPAS!$B$4:$C$207,2,FALSE),\"\")","v":""},{"$f":"IF(CF75=\"\",\"\",CF75)","v":""},null,{"$f":"IFERROR(VLOOKUP(CU75,TOUSLESPAS!$B$4:$C$207,2,FALSE),\"\")","v":""},{"$f":"IF(CI75=\"\",\"\",CI75)","v":""},null,{"$f":"IFERROR(VLOOKUP(CX75,TOUSLESPAS!$B$4:$C$207,2,FALSE),\"\")","v":""},null,null,{"$f":"CONCATENATE(SUMIF(DF75,\"<>\")+SUMIF(DI75,\"<>\")+SUMIF(DL75,\"<>\")+SUMIF(DO75,\"<>\")+SUMIF(DF77,\"<>\")+SUMIF(DI77,\"<>\")+SUMIF(DL77,\"<>\")+SUMIF(DO77,\"<>\"),\" temps\")","v":"0 temps"},{"$f":"IF(CO75=\"\",\"\",CO75)","v":""},null,{"$f":"IFERROR(VLOOKUP(DD75,TOUSLESPAS!$B$4:$C$207,2,FALSE),\"\")","v":""},{"$f":"IF(CR75=\"\",\"\",CR75)","v":""},null,{"$f":"IFERROR(VLOOKUP(DG75,TOUSLESPAS!$B$4:$C$207,2,FALSE),\"\")","v":""},{"$f":"IF(CU75=\"\",\"\",CU75)","v":""},null,{"$f":"IFERROR(VLOOKUP(DJ75,TOUSLESPAS!$B$4:$C$207,2,FALSE),\"\")","v":""},{"$f":"IF(CX75=\"\",\"\",CX75)","v":""},null,{"$f":"IFERROR(VLOOKUP(DM75,TOUSLESPAS!$B$4:$C$207,2,FALSE),\"\")","v":""},null,null,{"$f":"CONCATENATE(SUMIF(DU75,\"<>\")+SUMIF(DX75,\"<>\")+SUMIF(EA75,\"<>\")+SUMIF(ED75,\"<>\")+SUMIF(DU77,\"<>\")+SUMIF(DX77,\"<>\")+SUMIF(EA77,\"<>\")+SUMIF(ED77,\"<>\"),\" temps\")","v":"0 temps"},{"$f":"IF(DD75=\"\",\"\",DD75)","v":""},null,{"$f":"IFERROR(VLOOKUP(DS75,TOUSLESPAS!$B$4:$C$207,2,FALSE),\"\")","v":""},{"$f":"IF(DG75=\"\",\"\",DG75)","v":""},null,{"$f":"IFERROR(VLOOKUP(DV75,TOUSLESPAS!$B$4:$C$207,2,FALSE),\"\")","v":""},{"$f":"IF(DJ75=\"\",\"\",DJ75)","v":""},null,{"$f":"IFERROR(VLOOKUP(DY75,TOUSLESPAS!$B$4:$C$207,2,FALSE),\"\")","v":""},{"$f":"IF(DM75=\"\",\"\",DM75)","v":""},null,{"$f":"IFERROR(VLOOKUP(EB75,TOUSLESPAS!$B$4:$C$207,2,FALSE),\"\")","v":""},null,null,{"$f":"CONCATENATE(SUMIF(EJ75,\"<>\")+SUMIF(EM75,\"<>\")+SUMIF(EP75,\"<>\")+SUMIF(ES75,\"<>\")+SUMIF(EJ77,\"<>\")+SUMIF(EM77,\"<>\")+SUMIF(EP77,\"<>\")+SUMIF(ES77,\"<>\"),\" temps\")","v":"0 temps"},{"$f":"IF(DS75=\"\",\"\",DS75)","v":""},null,{"$f":"IFERROR(VLOOKUP(EH75,TOUSLESPAS!$B$4:$C$207,2,FALSE),\"\")","v":""},{"$f":"IF(DV75=\"\",\"\",DV75)","v":""},null,{"$f":"IFERROR(VLOOKUP(EK75,TOUSLESPAS!$B$4:$C$207,2,FALSE),\"\")","v":""},{"$f":"IF(DY75=\"\",\"\",DY75)","v":""},null,{"$f":"IFERROR(VLOOKUP(EN75,TOUSLESPAS!$B$4:$C$207,2,FALSE),\"\")","v":""},{"$f":"IF(EB75=\"\",\"\",EB75)","v":""},null,{"$f":"IFERROR(VLOOKUP(EQ75,TOUSLESPAS!$B$4:$C$207,2,FALSE),\"\")","v":""}]
[]
[null,null,null,null,{"$f":"IFERROR(VLOOKUP(C77,TOUSLESPAS!$B$4:$C$207,2,FALSE),\"\")","v":""},null,null,{"$f":"IFERROR(VLOOKUP(F77,TOUSLESPAS!$B$4:$C$207,2,FALSE),\"\")","v":""},null,null,{"$f":"IFERROR(VLOOKUP(I77,TOUSLESPAS!$B$4:$C$207,2,FALSE),\"\")","v":""},null,null,{"$f":"IFERROR(VLOOKUP(L77,TOUSLESPAS!$B$4:$C$207,2,FALSE),\"\")","v":""},null,null,null,{"$f":"IF(C77=\"\",\"\",C77)","v":""},null,{"$f":"IFERROR(VLOOKUP(R77,TOUSLESPAS!$B$4:$C$207,2,FALSE),\"\")","v":""},{"$f":"IF(F77=\"\",\"\",F77)","v":""},null,{"$f":"IFERROR(VLOOKUP(U77,TOUSLESPAS!$B$4:$C$207,2,FALSE),\"\")","v":""},{"$f":"IF(I77=\"\",\"\",I77)","v":""},null,{"$f":"IFERROR(VLOOKUP(X77,TOUSLESPAS!$B$4:$C$207,2,FALSE),\"\")","v":""},{"$f":"IF(L77=\"\",\"\",L77)","v":""},null,{"$f":"IFERROR(VLOOKUP(AA77,TOUSLESPAS!$B$4:$C$207,2,FALSE),\"\")","v":""},null,null,null,{"$f":"IF(R77=\"\",\"\",R77)","v":""},null,{"$f":"IFERROR(VLOOKUP(AG77,TOUSLESPAS!$B$4:$C$207,2,FALSE),\"\")","v":""},{"$f":"IF(U77=\"\",\"\",U77)","v":""},null,{"$f":"IFERROR(VLOOKUP(AJ77,TOUSLESPAS!$B$4:$C$207,2,FALSE),\"\")","v":""},{"$f":"IF(X77=\"\",\"\",X77)","v":""},null,{"$f":"IFERROR(VLOOKUP(AM77,TOUSLESPAS!$B$4:$C$207,2,FALSE),\"\")","v":""},{"$f":"IF(AA77=\"\",\"\",AA77)","v":""},null,{"$f":"IFERROR(VLOOKUP(AP77,TOUSLESPAS!$B$4:$C$207,2,FALSE),\"\")","v":""},null,null,null,{"$f":"IF(AG77=\"\",\"\",AG77)","v":""},null,{"$f":"IFERROR(VLOOKUP(AV77,TOUSLESPAS!$B$4:$C$207,2,FALSE),\"\")","v":""},{"$f":"IF(AJ77=\"\",\"\",AJ77)","v":""},null,{"$f":"IFERROR(VLOOKUP(AY77,TOUSLESPAS!$B$4:$C$207,2,FALSE),\"\")","v":""},{"$f":"IF(AM77=\"\",\"\",AM77)","v":""},null,{"$f":"IFERROR(VLOOKUP(BB77,TOUSLESPAS!$B$4:$C$207,2,FALSE),\"\")","v":""},{"$f":"IF(AP77=\"\",\"\",AP77)","v":""},null,{"$f":"IFERROR(VLOOKUP(BE77,TOUSLESPAS!$B$4:$C$207,2,FALSE),\"\")","v":""},null,null,null,{"$f":"IF(AV77=\"\",\"\",AV77)","v":""},null,{"$f":"IFERROR(VLOOKUP(BK77,TOUSLESPAS!$B$4:$C$207,2,FALSE),\"\")","v":""},{"$f":"IF(AY77=\"\",\"\",AY77)","v":""},null,{"$f":"IFERROR(VLOOKUP(BN77,TOUSLESPAS!$B$4:$C$207,2,FALSE),\"\")","v":""},{"$f":"IF(BB77=\"\",\"\",BB77)","v":""},null,{"$f":"IFERROR(VLOOKUP(BQ77,TOUSLESPAS!$B$4:$C$207,2,FALSE),\"\")","v":""},{"$f":"IF(BE77=\"\",\"\",BE77)","v":""},null,{"$f":"IFERROR(VLOOKUP(BT77,TOUSLESPAS!$B$4:$C$207,2,FALSE),\"\")","v":""},null,null,null,{"$f":"IF(BK77=\"\",\"\",BK77)","v":""},null,{"$f":"IFERROR(VLOOKUP(BZ77,TOUSLESPAS!$B$4:$C$207,2,FALSE),\"\")","v":""},{"$f":"IF(BN77=\"\",\"\",BN77)","v":""},null,{"$f":"IFERROR(VLOOKUP(CC77,TOUSLESPAS!$B$4:$C$207,2,FALSE),\"\")","v":""},{"$f":"IF(BQ77=\"\",\"\",BQ77)","v":""},null,{"$f":"IFERROR(VLOOKUP(CF77,TOUSLESPAS!$B$4:$C$207,2,FALSE),\"\")","v":""},{"$f":"IF(BT77=\"\",\"\",BT77)","v":""},null,{"$f":"IFERROR(VLOOKUP(CI77,TOUSLESPAS!$B$4:$C$207,2,FALSE),\"\")","v":""},null,null,null,{"$f":"IF(BZ77=\"\",\"\",BZ77)","v":""},null,{"$f":"IFERROR(VLOOKUP(CO77,TOUSLESPAS!$B$4:$C$207,2,FALSE),\"\")","v":""},{"$f":"IF(CC77=\"\",\"\",CC77)","v":""},null,{"$f":"IFERROR(VLOOKUP(CR77,TOUSLESPAS!$B$4:$C$207,2,FALSE),\"\")","v":""},{"$f":"IF(CF77=\"\",\"\",CF77)","v":""},null,{"$f":"IFERROR(VLOOKUP(CU77,TOUSLESPAS!$B$4:$C$207,2,FALSE),\"\")","v":""},{"$f":"IF(CI77=\"\",\"\",CI77)","v":""},null,{"$f":"IFERROR(VLOOKUP(CX77,TOUSLESPAS!$B$4:$C$207,2,FALSE),\"\")","v":""},null,null,null,{"$f":"IF(CO77=\"\",\"\",CO77)","v":""},null,{"$f":"IFERROR(VLOOKUP(DD77,TOUSLESPAS!$B$4:$C$207,2,FALSE),\"\")","v":""},{"$f":"IF(CR77=\"\",\"\",CR77)","v":""},null,{"$f":"IFERROR(VLOOKUP(DG77,TOUSLESPAS!$B$4:$C$207,2,FALSE),\"\")","v":""},{"$f":"IF(CU77=\"\",\"\",CU77)","v":""},null,{"$f":"IFERROR(VLOOKUP(DJ77,TOUSLESPAS!$B$4:$C$207,2,FALSE),\"\")","v":""},{"$f":"IF(CX77=\"\",\"\",CX77)","v":""},null,{"$f":"IFERROR(VLOOKUP(DM77,TOUSLESPAS!$B$4:$C$207,2,FALSE),\"\")","v":""},null,null,null,{"$f":"IF(DD77=\"\",\"\",DD77)","v":""},null,{"$f":"IFERROR(VLOOKUP(DS77,TOUSLESPAS!$B$4:$C$207,2,FALSE),\"\")","v":""},{"$f":"IF(DG77=\"\",\"\",DG77)","v":""},null,{"$f":"IFERROR(VLOOKUP(DV77,TOUSLESPAS!$B$4:$C$207,2,FALSE),\"\")","v":""},{"$f":"IF(DJ77=\"\",\"\",DJ77)","v":""},null,{"$f":"IFERROR(VLOOKUP(DY77,TOUSLESPAS!$B$4:$C$207,2,FALSE),\"\")","v":""},{"$f":"IF(DM77=\"\",\"\",DM77)","v":""},null,{"$f":"IFERROR(VLOOKUP(EB77,TOUSLESPAS!$B$4:$C$207,2,FALSE),\"\")","v":""},null,null,null,{"$f":"IF(DS77=\"\",\"\",DS77)","v":""},null,{"$f":"IFERROR(VLOOKUP(EH77,TOUSLESPAS!$B$4:$C$207,2,FALSE),\"\")","v":""},{"$f":"IF(DV77=\"\",\"\",DV77)","v":""},null,{"$f":"IFERROR(VLOOKUP(EK77,TOUSLESPAS!$B$4:$C$207,2,FALSE),\"\")","v":""},{"$f":"IF(DY77=\"\",\"\",DY77)","v":""},null,{"$f":"IFERROR(VLOOKUP(EN77,TOUSLESPAS!$B$4:$C$207,2,FALSE),\"\")","v":""},{"$f":"IF(EB77=\"\",\"\",EB77)","v":""},null,{"$f":"IFERROR(VLOOKUP(EQ77,TOUSLESPAS!$B$4:$C$207,2,FALSE),\"\")","v":""}]
[]
["BLOC 4",{"$f":"CONCATENATE(SUMIF(E79,\"<>\")+SUMIF(H79,\"<>\")+SUMIF(K79,\"<>\")+SUMIF(N79,\"<>\")+SUMIF(E81,\"<>\")+SUMIF(H81,\"<>\")+SUMIF(K81,\"<>\")+SUMIF(N81,\"<>\"),\" temps\")","v":"0 temps"},null,null,{"$f":"IFERROR(VLOOKUP(C79,TOUSLESPAS!$B$4:$C$207,2,FALSE),\"\")","v":""},null,null,{"$f":"IFERROR(VLOOKUP(F79,TOUSLESPAS!$B$4:$C$207,2,FALSE),\"\")","v":""},null,null,{"$f":"IFERROR(VLOOKUP(I79,TOUSLESPAS!$B$4:$C$207,2,FALSE),\"\")","v":""},null,null,{"$f":"IFERROR(VLOOKUP(L79,TOUSLESPAS!$B$4:$C$207,2,FALSE),\"\")","v":""},null,null,{"$f":"CONCATENATE(SUMIF(T79,\"<>\")+SUMIF(W79,\"<>\")+SUMIF(Z79,\"<>\")+SUMIF(AC79,\"<>\")+SUMIF(T81,\"<>\")+SUMIF(W81,\"<>\")+SUMIF(Z81,\"<>\")+SUMIF(AC81,\"<>\"),\" temps\")","v":"0 temps"},{"$f":"IF(C79=\"\",\"\",C79)","v":""},null,{"$f":"IFERROR(VLOOKUP(R79,TOUSLESPAS!$B$4:$C$207,2,FALSE),\"\")","v":""},{"$f":"IF(F79=\"\",\"\",F79)","v":""},null,{"$f":"IFERROR(VLOOKUP(U79,TOUSLESPAS!$B$4:$C$207,2,FALSE),\"\")","v":""},{"$f":"IF(I79=\"\",\"\",I79)","v":""},null,{"$f":"IFERROR(VLOOKUP(X79,TOUSLESPAS!$B$4:$C$207,2,FALSE),\"\")","v":""},{"$f":"IF(L79=\"\",\"\",L79)","v":""},null,{"$f":"IFERROR(VLOOKUP(AA79,TOUSLESPAS!$B$4:$C$207,2,FALSE),\"\")","v":""},null,null,{"$f":"CONCATENATE(SUMIF(AI79,\"<>\")+SUMIF(AL79,\"<>\")+SUMIF(AO79,\"<>\")+SUMIF(AR79,\"<>\")+SUMIF(AI81,\"<>\")+SUMIF(AL81,\"<>\")+SUMIF(AO81,\"<>\")+SUMIF(AR81,\"<>\"),\" temps\")","v":"0 temps"},{"$f":"IF(R79=\"\",\"\",R79)","v":""},null,{"$f":"IFERROR(VLOOKUP(AG79,TOUSLESPAS!$B$4:$C$207,2,FALSE),\"\")","v":""},{"$f":"IF(U79=\"\",\"\",U79)","v":""},null,{"$f":"IFERROR(VLOOKUP(AJ79,TOUSLESPAS!$B$4:$C$207,2,FALSE),\"\")","v":""},{"$f":"IF(X79=\"\",\"\",X79)","v":""},null,{"$f":"IFERROR(VLOOKUP(AM79,TOUSLESPAS!$B$4:$C$207,2,FALSE),\"\")","v":""},{"$f":"IF(AA79=\"\",\"\",AA79)","v":""},null,{"$f":"IFERROR(VLOOKUP(AP79,TOUSLESPAS!$B$4:$C$207,2,FALSE),\"\")","v":""},null,null,{"$f":"CONCATENATE(SUMIF(AX79,\"<>\")+SUMIF(BA79,\"<>\")+SUMIF(BD79,\"<>\")+SUMIF(BG79,\"<>\")+SUMIF(AX81,\"<>\")+SUMIF(BA81,\"<>\")+SUMIF(BD81,\"<>\")+SUMIF(BG81,\"<>\"),\" temps\")","v":"0 temps"},{"$f":"IF(AG79=\"\",\"\",AG79)","v":""},null,{"$f":"IFERROR(VLOOKUP(AV79,TOUSLESPAS!$B$4:$C$207,2,FALSE),\"\")","v":""},{"$f":"IF(AJ79=\"\",\"\",AJ79)","v":""},null,{"$f":"IFERROR(VLOOKUP(AY79,TOUSLESPAS!$B$4:$C$207,2,FALSE),\"\")","v":""},{"$f":"IF(AM79=\"\",\"\",AM79)","v":""},null,{"$f":"IFERROR(VLOOKUP(BB79,TOUSLESPAS!$B$4:$C$207,2,FALSE),\"\")","v":""},{"$f":"IF(AP79=\"\",\"\",AP79)","v":""},null,{"$f":"IFERROR(VLOOKUP(BE79,TOUSLESPAS!$B$4:$C$207,2,FALSE),\"\")","v":""},null,null,{"$f":"CONCATENATE(SUMIF(BM79,\"<>\")+SUMIF(BP79,\"<>\")+SUMIF(BS79,\"<>\")+SUMIF(BV79,\"<>\")+SUMIF(BM81,\"<>\")+SUMIF(BP81,\"<>\")+SUMIF(BS81,\"<>\")+SUMIF(BV81,\"<>\"),\" temps\")","v":"0 temps"},{"$f":"IF(AV79=\"\",\"\",AV79)","v":""},null,{"$f":"IFERROR(VLOOKUP(BK79,TOUSLESPAS!$B$4:$C$207,2,FALSE),\"\")","v":""},{"$f":"IF(AY79=\"\",\"\",AY79)","v":""},null,{"$f":"IFERROR(VLOOKUP(BN79,TOUSLESPAS!$B$4:$C$207,2,FALSE),\"\")","v":""},{"$f":"IF(BB79=\"\",\"\",BB79)","v":""},null,{"$f":"IFERROR(VLOOKUP(BQ79,TOUSLESPAS!$B$4:$C$207,2,FALSE),\"\")","v":""},{"$f":"IF(BE79=\"\",\"\",BE79)","v":""},null,{"$f":"IFERROR(VLOOKUP(BT79,TOUSLESPAS!$B$4:$C$207,2,FALSE),\"\")","v":""},null,null,{"$f":"CONCATENATE(SUMIF(CB79,\"<>\")+SUMIF(CE79,\"<>\")+SUMIF(CH79,\"<>\")+SUMIF(CK79,\"<>\")+SUMIF(CB81,\"<>\")+SUMIF(CE81,\"<>\")+SUMIF(CH81,\"<>\")+SUMIF(CK81,\"<>\"),\" temps\")","v":"0 temps"},{"$f":"IF(BK79=\"\",\"\",BK79)","v":""},null,{"$f":"IFERROR(VLOOKUP(BZ79,TOUSLESPAS!$B$4:$C$207,2,FALSE),\"\")","v":""},{"$f":"IF(BN79=\"\",\"\",BN79)","v":""},null,{"$f":"IFERROR(VLOOKUP(CC79,TOUSLESPAS!$B$4:$C$207,2,FALSE),\"\")","v":""},{"$f":"IF(BQ79=\"\",\"\",BQ79)","v":""},null,{"$f":"IFERROR(VLOOKUP(CF79,TOUSLESPAS!$B$4:$C$207,2,FALSE),\"\")","v":""},{"$f":"IF(BT79=\"\",\"\",BT79)","v":""},null,{"$f":"IFERROR(VLOOKUP(CI79,TOUSLESPAS!$B$4:$C$207,2,FALSE),\"\")","v":""},null,null,{"$f":"CONCATENATE(SUMIF(CQ79,\"<>\")+SUMIF(CT79,\"<>\")+SUMIF(CW79,\"<>\")+SUMIF(CZ79,\"<>\")+SUMIF(CQ81,\"<>\")+SUMIF(CT81,\"<>\")+SUMIF(CW81,\"<>\")+SUMIF(CZ81,\"<>\"),\" temps\")","v":"0 temps"},{"$f":"IF(BZ79=\"\",\"\",BZ79)","v":""},null,{"$f":"IFERROR(VLOOKUP(CO79,TOUSLESPAS!$B$4:$C$207,2,FALSE),\"\")","v":""},{"$f":"IF(CC79=\"\",\"\",CC79)","v":""},null,{"$f":"IFERROR(VLOOKUP(CR79,TOUSLESPAS!$B$4:$C$207,2,FALSE),\"\")","v":""},{"$f":"IF(CF79=\"\",\"\",CF79)","v":""},null,{"$f":"IFERROR(VLOOKUP(CU79,TOUSLESPAS!$B$4:$C$207,2,FALSE),\"\")","v":""},{"$f":"IF(CI79=\"\",\"\",CI79)","v":""},null,{"$f":"IFERROR(VLOOKUP(CX79,TOUSLESPAS!$B$4:$C$207,2,FALSE),\"\")","v":""},null,null,{"$f":"CONCATENATE(SUMIF(DF79,\"<>\")+SUMIF(DI79,\"<>\")+SUMIF(DL79,\"<>\")+SUMIF(DO79,\"<>\")+SUMIF(DF81,\"<>\")+SUMIF(DI81,\"<>\")+SUMIF(DL81,\"<>\")+SUMIF(DO81,\"<>\"),\" temps\")","v":"0 temps"},{"$f":"IF(CO79=\"\",\"\",CO79)","v":""},null,{"$f":"IFERROR(VLOOKUP(DD79,TOUSLESPAS!$B$4:$C$207,2,FALSE),\"\")","v":""},{"$f":"IF(CR79=\"\",\"\",CR79)","v":""},null,{"$f":"IFERROR(VLOOKUP(DG79,TOUSLESPAS!$B$4:$C$207,2,FALSE),\"\")","v":""},{"$f":"IF(CU79=\"\",\"\",CU79)","v":""},null,{"$f":"IFERROR(VLOOKUP(DJ79,TOUSLESPAS!$B$4:$C$207,2,FALSE),\"\")","v":""},{"$f":"IF(CX79=\"\",\"\",CX79)","v":""},null,{"$f":"IFERROR(VLOOKUP(DM79,TOUSLESPAS!$B$4:$C$207,2,FALSE),\"\")","v":""},null,null,{"$f":"CONCATENATE(SUMIF(DU79,\"<>\")+SUMIF(DX79,\"<>\")+SUMIF(EA79,\"<>\")+SUMIF(ED79,\"<>\")+SUMIF(DU81,\"<>\")+SUMIF(DX81,\"<>\")+SUMIF(EA81,\"<>\")+SUMIF(ED81,\"<>\"),\" temps\")","v":"0 temps"},{"$f":"IF(DD79=\"\",\"\",DD79)","v":""},null,{"$f":"IFERROR(VLOOKUP(DS79,TOUSLESPAS!$B$4:$C$207,2,FALSE),\"\")","v":""},{"$f":"IF(DG79=\"\",\"\",DG79)","v":""},null,{"$f":"IFERROR(VLOOKUP(DV79,TOUSLESPAS!$B$4:$C$207,2,FALSE),\"\")","v":""},{"$f":"IF(DJ79=\"\",\"\",DJ79)","v":""},null,{"$f":"IFERROR(VLOOKUP(DY79,TOUSLESPAS!$B$4:$C$207,2,FALSE),\"\")","v":""},{"$f":"IF(DM79=\"\",\"\",DM79)","v":""},null,{"$f":"IFERROR(VLOOKUP(EB79,TOUSLESPAS!$B$4:$C$207,2,FALSE),\"\")","v":""},null,null,{"$f":"CONCATENATE(SUMIF(EJ79,\"<>\")+SUMIF(EM79,\"<>\")+SUMIF(EP79,\"<>\")+SUMIF(ES79,\"<>\")+SUMIF(EJ81,\"<>\")+SUMIF(EM81,\"<>\")+SUMIF(EP81,\"<>\")+SUMIF(ES81,\"<>\"),\" temps\")","v":"0 temps"},{"$f":"IF(DS79=\"\",\"\",DS79)","v":""},null,{"$f":"IFERROR(VLOOKUP(EH79,TOUSLESPAS!$B$4:$C$207,2,FALSE),\"\")","v":""},{"$f":"IF(DV79=\"\",\"\",DV79)","v":""},null,{"$f":"IFERROR(VLOOKUP(EK79,TOUSLESPAS!$B$4:$C$207,2,FALSE),\"\")","v":""},{"$f":"IF(DY79=\"\",\"\",DY79)","v":""},null,{"$f":"IFERROR(VLOOKUP(EN79,TOUSLESPAS!$B$4:$C$207,2,FALSE),\"\")","v":""},{"$f":"IF(EB79=\"\",\"\",EB79)","v":""},null,{"$f":"IFERROR(VLOOKUP(EQ79,TOUSLESPAS!$B$4:$C$207,2,FALSE),\"\")","v":""}]
[]
[null,null,null,null,{"$f":"IFERROR(VLOOKUP(C81,TOUSLESPAS!$B$4:$C$207,2,FALSE),\"\")","v":""},null,null,{"$f":"IFERROR(VLOOKUP(F81,TOUSLESPAS!$B$4:$C$207,2,FALSE),\"\")","v":""},null,null,{"$f":"IFERROR(VLOOKUP(I81,TOUSLESPAS!$B$4:$C$207,2,FALSE),\"\")","v":""},null,null,{"$f":"IFERROR(VLOOKUP(L81,TOUSLESPAS!$B$4:$C$207,2,FALSE),\"\")","v":""},null,null,null,{"$f":"IF(C81=\"\",\"\",C81)","v":""},null,{"$f":"IFERROR(VLOOKUP(R81,TOUSLESPAS!$B$4:$C$207,2,FALSE),\"\")","v":""},{"$f":"IF(F81=\"\",\"\",F81)","v":""},null,{"$f":"IFERROR(VLOOKUP(U81,TOUSLESPAS!$B$4:$C$207,2,FALSE),\"\")","v":""},{"$f":"IF(I81=\"\",\"\",I81)","v":""},null,{"$f":"IFERROR(VLOOKUP(X81,TOUSLESPAS!$B$4:$C$207,2,FALSE),\"\")","v":""},{"$f":"IF(L81=\"\",\"\",L81)","v":""},null,{"$f":"IFERROR(VLOOKUP(AA81,TOUSLESPAS!$B$4:$C$207,2,FALSE),\"\")","v":""},null,null,null,{"$f":"IF(R81=\"\",\"\",R81)","v":""},null,{"$f":"IFERROR(VLOOKUP(AG81,TOUSLESPAS!$B$4:$C$207,2,FALSE),\"\")","v":""},{"$f":"IF(U81=\"\",\"\",U81)","v":""},null,{"$f":"IFERROR(VLOOKUP(AJ81,TOUSLESPAS!$B$4:$C$207,2,FALSE),\"\")","v":""},{"$f":"IF(X81=\"\",\"\",X81)","v":""},null,{"$f":"IFERROR(VLOOKUP(AM81,TOUSLESPAS!$B$4:$C$207,2,FALSE),\"\")","v":""},{"$f":"IF(AA81=\"\",\"\",AA81)","v":""},null,{"$f":"IFERROR(VLOOKUP(AP81,TOUSLESPAS!$B$4:$C$207,2,FALSE),\"\")","v":""},null,null,null,{"$f":"IF(AG81=\"\",\"\",AG81)","v":""},null,{"$f":"IFERROR(VLOOKUP(AV81,TOUSLESPAS!$B$4:$C$207,2,FALSE),\"\")","v":""},{"$f":"IF(AJ81=\"\",\"\",AJ81)","v":""},null,{"$f":"IFERROR(VLOOKUP(AY81,TOUSLESPAS!$B$4:$C$207,2,FALSE),\"\")","v":""},{"$f":"IF(AM81=\"\",\"\",AM81)","v":""},null,{"$f":"IFERROR(VLOOKUP(BB81,TOUSLESPAS!$B$4:$C$207,2,FALSE),\"\")","v":""},{"$f":"IF(AP81=\"\",\"\",AP81)","v":""},null,{"$f":"IFERROR(VLOOKUP(BE81,TOUSLESPAS!$B$4:$C$207,2,FALSE),\"\")","v":""},null,null,null,{"$f":"IF(AV81=\"\",\"\",AV81)","v":""},null,{"$f":"IFERROR(VLOOKUP(BK81,TOUSLESPAS!$B$4:$C$207,2,FALSE),\"\")","v":""},{"$f":"IF(AY81=\"\",\"\",AY81)","v":""},null,{"$f":"IFERROR(VLOOKUP(BN81,TOUSLESPAS!$B$4:$C$207,2,FALSE),\"\")","v":""},{"$f":"IF(BB81=\"\",\"\",BB81)","v":""},null,{"$f":"IFERROR(VLOOKUP(BQ81,TOUSLESPAS!$B$4:$C$207,2,FALSE),\"\")","v":""},{"$f":"IF(BE81=\"\",\"\",BE81)","v":""},null,{"$f":"IFERROR(VLOOKUP(BT81,TOUSLESPAS!$B$4:$C$207,2,FALSE),\"\")","v":""},null,null,null,{"$f":"IF(BK81=\"\",\"\",BK81)","v":""},null,{"$f":"IFERROR(VLOOKUP(BZ81,TOUSLESPAS!$B$4:$C$207,2,FALSE),\"\")","v":""},{"$f":"IF(BN81=\"\",\"\",BN81)","v":""},null,{"$f":"IFERROR(VLOOKUP(CC81,TOUSLESPAS!$B$4:$C$207,2,FALSE),\"\")","v":""},{"$f":"IF(BQ81=\"\",\"\",BQ81)","v":""},null,{"$f":"IFERROR(VLOOKUP(CF81,TOUSLESPAS!$B$4:$C$207,2,FALSE),\"\")","v":""},{"$f":"IF(BT81=\"\",\"\",BT81)","v":""},null,{"$f":"IFERROR(VLOOKUP(CI81,TOUSLESPAS!$B$4:$C$207,2,FALSE),\"\")","v":""},null,null,null,{"$f":"IF(BZ81=\"\",\"\",BZ81)","v":""},null,{"$f":"IFERROR(VLOOKUP(CO81,TOUSLESPAS!$B$4:$C$207,2,FALSE),\"\")","v":""},{"$f":"IF(CC81=\"\",\"\",CC81)","v":""},null,{"$f":"IFERROR(VLOOKUP(CR81,TOUSLESPAS!$B$4:$C$207,2,FALSE),\"\")","v":""},{"$f":"IF(CF81=\"\",\"\",CF81)","v":""},null,{"$f":"IFERROR(VLOOKUP(CU81,TOUSLESPAS!$B$4:$C$207,2,FALSE),\"\")","v":""},{"$f":"IF(CI81=\"\",\"\",CI81)","v":""},null,{"$f":"IFERROR(VLOOKUP(CX81,TOUSLESPAS!$B$4:$C$207,2,FALSE),\"\")","v":""},null,null,null,{"$f":"IF(CO81=\"\",\"\",CO81)","v":""},null,{"$f":"IFERROR(VLOOKUP(DD81,TOUSLESPAS!$B$4:$C$207,2,FALSE),\"\")","v":""},{"$f":"IF(CR81=\"\",\"\",CR81)","v":""},null,{"$f":"IFERROR(VLOOKUP(DG81,TOUSLESPAS!$B$4:$C$207,2,FALSE),\"\")","v":""},{"$f":"IF(CU81=\"\",\"\",CU81)","v":""},null,{"$f":"IFERROR(VLOOKUP(DJ81,TOUSLESPAS!$B$4:$C$207,2,FALSE),\"\")","v":""},{"$f":"IF(CX81=\"\",\"\",CX81)","v":""},null,{"$f":"IFERROR(VLOOKUP(DM81,TOUSLESPAS!$B$4:$C$207,2,FALSE),\"\")","v":""},null,null,null,{"$f":"IF(DD81=\"\",\"\",DD81)","v":""},null,{"$f":"IFERROR(VLOOKUP(DS81,TOUSLESPAS!$B$4:$C$207,2,FALSE),\"\")","v":""},{"$f":"IF(DG81=\"\",\"\",DG81)","v":""},null,{"$f":"IFERROR(VLOOKUP(DV81,TOUSLESPAS!$B$4:$C$207,2,FALSE),\"\")","v":""},{"$f":"IF(DJ81=\"\",\"\",DJ81)","v":""},null,{"$f":"IFERROR(VLOOKUP(DY81,TOUSLESPAS!$B$4:$C$207,2,FALSE),\"\")","v":""},{"$f":"IF(DM81=\"\",\"\",DM81)","v":""},null,{"$f":"IFERROR(VLOOKUP(EB81,TOUSLESPAS!$B$4:$C$207,2,FALSE),\"\")","v":""},null,null,null,{"$f":"IF(DS81=\"\",\"\",DS81)","v":""},null,{"$f":"IFERROR(VLOOKUP(EH81,TOUSLESPAS!$B$4:$C$207,2,FALSE),\"\")","v":""},{"$f":"IF(DV81=\"\",\"\",DV81)","v":""},null,{"$f":"IFERROR(VLOOKUP(EK81,TOUSLESPAS!$B$4:$C$207,2,FALSE),\"\")","v":""},{"$f":"IF(DY81=\"\",\"\",DY81)","v":""},null,{"$f":"IFERROR(VLOOKUP(EN81,TOUSLESPAS!$B$4:$C$207,2,FALSE),\"\")","v":""},{"$f":"IF(EB81=\"\",\"\",EB81)","v":""},null,{"$f":"IFERROR(VLOOKUP(EQ81,TOUSLESPAS!$B$4:$C$207,2,FALSE),\"\")","v":""}]
[]
[]
["MUSIQUE CHOISIE",null,"Rihanna",null,null,null,null,null,null,null,null,null,null,null,null,null,null,"Rihanna",null,null,null,null,null,null,null,null,null,null,null,null,null,null,"Rihanna",null,null,null,null,null,null,null,null,null,null,null,null,null,null,"Rihanna",null,null,null,null,null,null,null,null,null,null,null,null,null,null,"Rihanna",null,null,null,null,null,null,null,null,null,null,null,null,null,null,"Rihanna",null,null,null,null,null,null,null,null,null,null,null,null,null,null,"Rihanna",null,null,null,null,null,null,null,null,null,null,null,null,null,null,"Rihanna",null,null,null,null,null,null,null,null,null,null,null,null,null,null,"Rihanna",null,null,null,null,null,null,null,null,null,null,null,null,null,null,"Rihanna"]
[]
[null,"ANALYSE DE LA PRESTATION",null,null,null,null,null,null,null,null,null,null,null,null,null,null,"ANALYSE DE LA PRESTATION",null,null,null,null,null,null,null,null,null,null,null,null,null,null,"ANALYSE DE LA PRESTATION",null,null,null,null,null,null,null,null,null,null,null,null,null,null,"ANALYSE DE LA PRESTATION",null,null,null,null,null,null,null,null,null,null,null,null,null,null,"ANALYSE DE LA PRESTATION",null,null,null,null,null,null,null,null,null,null,null,null,null,null,"ANALYSE DE LA PRESTATION",null,null,null,null,null,null,null,null,null,null,null,null,null,null,"ANALYSE DE LA PRESTATION",null,null,null,null,null,null,null,null,null,null,null,null,null,null,"ANALYSE DE LA PRESTATION",null,null,null,null,null,null,null,null,null,null,null,null,null,null,"ANALYSE DE LA PRESTATION",null,null,null,null,null,null,null,null,null,null,null,null,null,null,"ANALYSE DE LA PRESTATION"]
["Ta prestation est-elle réussie ? Pourquoi ? (expression libre)"]
["Respiration","Assez essoufflé",null,{"$f":"IF(F3=\"\",\"\",$B$88)","v":""},null,null,null,null,null,null,null,null,null,null,null,null,"Assez essoufflé",null,{"$f":"IF(U3=\"\",\"\",$B$88)","v":""},null,null,null,null,null,null,null,null,null,null,null,null,"Assez essoufflé",null,{"$f":"IF(AJ3=\"\",\"\",$B$88)","v":""},null,null,null,null,null,null,null,null,null,null,null,null,"Assez essoufflé",null,{"$f":"IF(AY3=\"\",\"\",$B$88)","v":""},null,null,null,null,null,null,null,null,null,null,null,null,"Assez essoufflé",null,{"$f":"IF(BN3=\"\",\"\",$B$88)","v":""},null,null,null,null,null,null,null,null,null,null,null,null,"Assez essoufflé",null,{"$f":"IF(CC3=\"\",\"\",$B$88)","v":""},null,null,null,null,null,null,null,null,null,null,null,null,"Assez essoufflé",null,{"$f":"IF(CR3=\"\",\"\",$B$88)","v":""},null,null,null,null,null,null,null,null,null,null,null,null,"Assez essoufflé",null,{"$f":"IF(DG3=\"\",\"\",$B$88)","v":""},null,null,null,null,null,null,null,null,null,null,null,null,"Assez essoufflé",null,{"$f":"IF(DV3=\"\",\"\",$B$88)","v":""},null,null,null,null,null,null,null,null,null,null,null,null,"Assez essoufflé",null,{"$f":"IF(EK3=\"\",\"\",$B$88)","v":""}]
["Transpiration","Aucune",null,{"$f":"IF(F4=\"\",\"\",$B$88)","v":""},null,null,null,null,null,null,null,null,null,null,null,null,"Aucune",null,{"$f":"IF(U4=\"\",\"\",$B$88)","v":""},null,null,null,null,null,null,null,null,null,null,null,null,"Aucune",null,{"$f":"IF(AJ4=\"\",\"\",$B$88)","v":""},null,null,null,null,null,null,null,null,null,null,null,null,"Aucune",null,{"$f":"IF(AY4=\"\",\"\",$B$88)","v":""},null,null,null,null,null,null,null,null,null,null,null,null,"Aucune",null,{"$f":"IF(BN4=\"\",\"\",$B$88)","v":""},null,null,null,null,null,null,null,null,null,null,null,null,"Aucune",null,{"$f":"IF(CC4=\"\",\"\",$B$88)","v":""},null,null,null,null,null,null,null,null,null,null,null,null,"Aucune",null,{"$f":"IF(CR4=\"\",\"\",$B$88)","v":""},null,null,null,null,null,null,null,null,null,null,null,null,"Aucune",null,{"$f":"IF(DG4=\"\",\"\",$B$88)","v":""},null,null,null,null,null,null,null,null,null,null,null,null,"Aucune",null,{"$f":"IF(DV4=\"\",\"\",$B$88)","v":""},null,null,null,null,null,null,null,null,null,null,null,null,"Aucune",null,{"$f":"IF(EK4=\"\",\"\",$B$88)","v":""}]
["Perception Effort","Très très léger",null,"",null,null,null,null,null,null,null,null,null,null,null,null,"Très très léger",null,"",null,null,null,null,null,null,null,null,null,null,null,null,"Très très léger",null,"",null,null,null,null,null,null,null,null,null,null,null,null,"Très très léger",null,"",null,null,null,null,null,null,null,null,null,null,null,null,"Très très léger",null,"",null,null,null,null,null,null,null,null,null,null,null,null,"Très très léger",null,"",null,null,null,null,null,null,null,null,null,null,null,null,"Très très léger",null,"",null,null,null,null,null,null,null,null,null,null,null,null,"Très très léger",null,"",null,null,null,null,null,null,null,null,null,null,null,null,"Très très léger",null,"",null,null,null,null,null,null,null,null,null,null,null,null,"Très très léger",null,""]
["Fatigue","Je suis obligé de faire des pauses",null,"",null,null,null,null,null,null,null,null,null,null,null,null,"Je suis obligé de faire des pauses",null,"",null,null,null,null,null,null,null,null,null,null,null,null,"Je suis obligé de faire des pauses",null,"",null,null,null,null,null,null,null,null,null,null,null,null,"Je suis obligé de faire des pauses",null,"",null,null,null,null,null,null,null,null,null,null,null,null,"Je suis obligé de faire des pauses",null,"",null,null,null,null,null,null,null,null,null,null,null,null,"Je suis obligé de faire des pauses",null,"",null,null,null,null,null,null,null,null,null,null,null,null,"Je suis obligé de faire des pauses",null,"",null,null,null,null,null,null,null,null,null,null,null,null,"Je suis obligé de faire des pauses",null,"",null,null,null,null,null,null,null,null,null,null,null,null,"Je suis obligé de faire des pauses",null,"",null,null,null,null,null,null,null,null,null,null,null,null,"Je suis obligé de faire des pauses",null,""]
["Mémoire","Beaucoup de trous",null,"",null,null,null,null,null,null,null,null,null,null,null,null,"Beaucoup de trous",null,"",null,null,null,null,null,null,null,null,null,null,null,null,"Beaucoup de trous",null,"",null,null,null,null,null,null,null,null,null,null,null,null,"Beaucoup de trous",null,"",null,null,null,null,null,null,null,null,null,null,null,null,"Beaucoup de trous",null,"",null,null,null,null,null,null,null,null,null,null,null,null,"Beaucoup de trous",null,"",null,null,null,null,null,null,null,null,null,null,null,null,"Beaucoup de trous",null,"",null,null,null,null,null,null,null,null,null,null,null,null,"Beaucoup de trous",null,"",null,null,null,null,null,null,null,null,null,null,null,null,"Beaucoup de trous",null,"",null,null,null,null,null,null,null,null,null,null,null,null,"Beaucoup de trous",null,""]

{"sheet":"EVALCONTINUE2TAB","index":3,"n_rows":83,"n_cols":72,"rows_kept":83,"cut":false,"hidden":false,"merged":[[52,0,58,0],[60,0,66,0],[68,0,74,0],[76,0,82,0],[4,0,10,0],[12,0,18,0],[20,0,26,0],[28,0,34,0],[36,0,42,0],[44,0,50,0]]}
[]
[null,"TAPR"]
[null,null,"Asiya",null,"Inès",null,"Narjisse",null,null,null,null,null,"Aslem",null,"Hamza",null,null,null,null,null,null,null,"Dhayaeddine",null,"Abdelwahid",null,"Abdelwahid",null,"Abdelwahid",null,"Abdelwahid",null,"Abdelwahid",null,"Abdelwahid",null,"Abdelwahid",null,null,null,"Abdelwahid",null,"Abdelwahid",null,"Abdelwahid",null,"Abdelwahid",null,"Abdelwahid",null,null,null,"Abdelwahid",null,null,null,"Abdelwahid",null,"Abdelwahid",null,null,null,"Abdelwahid",null,"Abdelwahid",null,"Abdelwahid",null,"Abdelwahid"]
[]
["SEANCE 1",{"$f":"DEBUTSTEP!$AP$4","v":"Prendre sa FC efficacement"},"Régulière mais pas au bon moment",{"$f":"VLOOKUP(C5,DEBUTSTEP!$AP$4:$AQ$33,2,FALSE)","v":"A"},"absent",{"$f":"VLOOKUP(E5,DEBUTSTEP!$AP$4:$AQ$33,2,FALSE)","v":"X"},"Aléatoire",{"$f":"VLOOKUP(G5,DEBUTSTEP!$AP$4:$AQ$33,2,FALSE)","v":"ECA"},"Jamais",{"$f":"VLOOKUP(I5,DEBUTSTEP!$AP$4:$AQ$33,2,FALSE)","v":"NA"},"Jamais",{"$f":"VLOOKUP(K5,DEBUTSTEP!$AP$4:$AQ$33,2,FALSE)","v":"NA"},"Jamais",{"$f":"VLOOKUP(M5,DEBUTSTEP!$AP$4:$AQ$33,2,FALSE)","v":"NA"},"Jamais",{"$f":"VLOOKUP(O5,DEBUTSTEP!$AP$4:$AQ$33,2,FALSE)","v":"NA"},"Jamais",{"$f":"VLOOKUP(Q5,DEBUTSTEP!$AP$4:$AQ$33,2,FALSE)","v":"NA"},"Jamais",{"$f":"VLOOKUP(S5,DEBUTSTEP!$AP$4:$AQ$33,2,FALSE)","v":"NA"},"Jamais",{"$f":"VLOOKUP(U5,DEBUTSTEP!$AP$4:$AQ$33,2,FALSE)","v":"NA"},"Jamais",{"$f":"VLOOKUP(W5,DEBUTSTEP!$AP$4:$AQ$33,2,FALSE)","v":"NA"},"Jamais",{"$f":"VLOOKUP(Y5,DEBUTSTEP!$AP$4:$AQ$33,2,FALSE)","v":"NA"},"Jamais",{"$f":"VLOOKUP(AA5,DEBUTSTEP!$AP$4:$AQ$33,2,FALSE)","v":"NA"},"Jamais",{"$f":"VLOOKUP(AC5,DEBUTSTEP!$AP$4:$AQ$33,2,FALSE)","v":"NA"},"Jamais",{"$f":"VLOOKUP(AE5,DEBUTSTEP!$AP$4:$AQ$33,2,FALSE)","v":"NA"},"Jamais",{"$f":"VLOOKUP(AG5,DEBUTSTEP!$AP$4:$AQ$33,2,FALSE)","v":"NA"},"Jamais",{"$f":"VLOOKUP(AI5,DEBUTSTEP!$AP$4:$AQ$33,2,FALSE)","v":"NA"},"Jamais",{"$f":"VLOOKUP(AK5,DEBUTSTEP!$AP$4:$AQ$33,2,FALSE)","v":"NA"},"Jamais",{"$f":"VLOOKUP(AM5,DEBUTSTEP!$AP$4:$AQ$33,2,FALSE)","v":"NA"},"Jamais",{"$f":"VLOOKUP(AO5,DEBUTSTEP!$AP$4:$AQ$33,2,FALSE)","v":"NA"},"Jamais",{"$f":"VLOOKUP(AQ5,DEBUTSTEP!$AP$4:$AQ$33,2,FALSE)","v":"NA"},"Jamais",{"$f":"VLOOKUP(AS5,DEBUTSTEP!$AP$4:$AQ$33,2,FALSE)","v":"NA"},"Jamais",{"$f":"VLOOKUP(AU5,DEBUTSTEP!$AP$4:$AQ$33,2,FALSE)","v":"NA"},"Jamais",{"$f":"VLOOKUP(AW5,DEBUTSTEP!$AP$4:$AQ$33,2,FALSE)","v":"NA"},"Jamais",{"$f":"VLOOKUP(AY5,DEBUTSTEP!$AP$4:$AQ$33,2,FALSE)","v":"NA"},"Jamais",{"$f":"VLOOKUP(BA5,DEBUTSTEP!$AP$4:$AQ$33,2,FALSE)","v":"NA"},"Jamais",{"$f":"VLOOKUP(BC5,DEBUTSTEP!$AP$4:$AQ$33,2,FALSE)","v":"NA"},"Jamais",{"$f":"VLOOKUP(BE5,DEBUTSTEP!$AP$4:$AQ$33,2,FALSE)","v":"NA"},"Jamais",{"$f":"VLOOKUP(BG5,DEBUTSTEP!$AP$4:$AQ$33,2,FALSE)","v":"NA"},"Jamais",{"$f":"VLOOKUP(BI5,DEBUTSTEP!$AP$4:$AQ$33,2,FALSE)","v":"NA"},"Jamais",{"$f":"VLOOKUP(BK5,DEBUTSTEP!$AP$4:$AQ$33,2,FALSE)","v":"NA"},"Jamais",{"$f":"VLOOKUP(BM5,DEBUTSTEP!$AP$4:$AQ$33,2,FALSE)","v":"NA"},"Jamais",{"$f":"VLOOKUP(BO5,DEBUTSTEP!$AP$4:$AQ$33,2,FALSE)","v":"NA"},"Jamais",{"$f":"VLOOKUP(BQ5,DEBUTSTEP!$AP$4:$AQ$33,2,FALSE)","v":"NA"},"Jamais",{"$f":"VLOOKUP(BS5,DEBUTSTEP!$AP$4:$AQ$33,2,FALSE)","v":"NA"}]
[null,{"$f":"DEBUTSTEP!$AR$4","v":"S'engager dans le mobile"},"Modéré",{"$f":"VLOOKUP(C6,DEBUTSTEP!$AR$4:$AS$33,2,FALSE)","v":2},null,{"$f":"VLOOKUP(E6,DEBUTSTEP!$AR$4:$AS$33,2,FALSE)","v":0},null,{"$f":"VLOOKUP(G6,DEBUTSTEP!$AR$4:$AS$33,2,FALSE)","v":0},"Faible",{"$f":"VLOOKUP(I6,DEBUTSTEP!$AR$4:$AS$33,2,FALSE)","v":1},"Faible",{"$f":"VLOOKUP(K6,DEBUTSTEP!$AR$4:$AS$33,2,FALSE)","v":1},"Faible",{"$f":"VLOOKUP(M6,DEBUTSTEP!$AR$4:$AS$33,2,FALSE)","v":1},"Faible",{"$f":"VLOOKUP(O6,DEBUTSTEP!$AR$4:$AS$33,2,FALSE)","v":1},"Faible",{"$f":"VLOOKUP(Q6,DEBUTSTEP!$AR$4:$AS$33,2,FALSE)","v":1},"Faible",{"$f":"VLOOKUP(S6,DEBUTSTEP!$AR$4:$AS$33,2,FALSE)","v":1},"Faible",{"$f":"VLOOKUP(U6,DEBUTSTEP!$AR$4:$AS$33,2,FALSE)","v":1},"Faible",{"$f":"VLOOKUP(W6,DEBUTSTEP!$AR$4:$AS$33,2,FALSE)","v":1},"Faible",{"$f":"VLOOKUP(Y6,DEBUTSTEP!$AR$4:$AS$33,2,FALSE)","v":1},"Faible",{"$f":"VLOOKUP(AA6,DEBUTSTEP!$AR$4:$AS$33,2,FALSE)","v":1},"Faible",{"$f":"VLOOKUP(AC6,DEBUTSTEP!$AR$4:$AS$33,2,FALSE)","v":1},"Faible",{"$f":"VLOOKUP(AE6,DEBUTSTEP!$AR$4:$AS$33,2,FALSE)","v":1},"Faible",{"$f":"VLOOKUP(AG6,DEBUTSTEP!$AR$4:$AS$33,2,FALSE)","v":1},"Faible",{"$f":"VLOOKUP(AI6,DEBUTSTEP!$AR$4:$AS$33,2,FALSE)","v":1},"Faible",{"$f":"VLOOKUP(AK6,DEBUTSTEP!$AR$4:$AS$33,2,FALSE)","v":1},"Faible",{"$f":"VLOOKUP(AM6,DEBUTSTEP!$AR$4:$AS$33,2,FALSE)","v":1},"Faible",{"$f":"VLOOKUP(AO6,DEBUTSTEP!$AR$4:$AS$33,2,FALSE)","v":1},"Faible",{"$f":"VLOOKUP(AQ6,DEBUTSTEP!$AR$4:$AS$33,2,FALSE)","v":1},"Faible",{"$f":"VLOOKUP(AS6,DEBUTSTEP!$AR$4:$AS$33,2,FALSE)","v":1},"Faible",{"$f":"VLOOKUP(AU6,DEBUTSTEP!$AR$4:$AS$33,2,FALSE)","v":1},"Faible",{"$f":"VLOOKUP(AW6,DEBUTSTEP!$AR$4:$AS$33,2,FALSE)","v":1},"Faible",{"$f":"VLOOKUP(AY6,DEBUTSTEP!$AR$4:$AS$33,2,FALSE)","v":1},"Faible",{"$f":"VLOOKUP(BA6,DEBUTSTEP!$AR$4:$AS$33,2,FALSE)","v":1},"Faible",{"$f":"VLOOKUP(BC6,DEBUTSTEP!$AR$4:$AS$33,2,FALSE)","v":1},"Faible",{"$f":"VLOOKUP(BE6,DEBUTSTEP!$AR$4:$AS$33,2,FALSE)","v":1},"Faible",{"$f":"VLOOKUP(BG6,DEBUTSTEP!$AR$4:$AS$33,2,FALSE)","v":1},"Faible",{"$f":"VLOOKUP(BI6,DEBUTSTEP!$AR$4:$AS$33,2,FALSE)","v":1},"Faible",{"$f":"VLOOKUP(BK6,DEBUTSTEP!$AR$4:$AS$33,2,FALSE)","v":1},"Faible",{"$f":"VLOOKUP(BM6,DEBUTSTEP!$AR$4:$AS$33,2,FALSE)","v":1},"Faible",{"$f":"VLOOKUP(BO6,DEBUTSTEP!$AR$4:$AS$33,2,FALSE)","v":1},"Faible",{"$f":"VLOOKUP(BQ6,DEBUTSTEP!$AR$4:$AS$33,2,FALSE)","v":1},"Faible",{"$f":"VLOOKUP(BS6,DEBUTSTEP!$AR$4:$AS$33,2,FALSE)","v":1}]
[null,{"$f":"DEBUTSTEP!$AT$4","v":"Agir en sécu"},"Quelques avertissements",{"$f":"VLOOKUP(C7,DEBUTSTEP!$AT$4:$AU$33,2,FALSE)","v":1},null,{"$f":"VLOOKUP(E7,DEBUTSTEP!$AT$4:$AU$33,2,FALSE)","v":0},null,{"$f":"VLOOKUP(G7,DEBUTSTEP!$AT$4:$AU$33,2,FALSE)","v":0},"Quelques avertissements",{"$f":"VLOOKUP(I7,DEBUTSTEP!$AT$4:$AU$33,2,FALSE)","v":1},"Quelques avertissements",{"$f":"VLOOKUP(K7,DEBUTSTEP!$AT$4:$AU$33,2,FALSE)","v":1},"Quelques avertissements",{"$f":"VLOOKUP(M7,DEBUTSTEP!$AT$4:$AU$33,2,FALSE)","v":1},"Quelques avertissements",{"$f":"VLOOKUP(O7,DEBUTSTEP!$AT$4:$AU$33,2,FALSE)","v":1},"Quelques avertissements",{"$f":"VLOOKUP(Q7,DEBUTSTEP!$AT$4:$AU$33,2,FALSE)","v":1},"Quelques avertissements",{"$f":"VLOOKUP(S7,DEBUTSTEP!$AT$4:$AU$33,2,FALSE)","v":1},"Quelques avertissements",{"$f":"VLOOKUP(U7,DEBUTSTEP!$AT$4:$AU$33,2,FALSE)","v":1},"Quelques avertissements",{"$f":"VLOOKUP(W7,DEBUTSTEP!$AT$4:$AU$33,2,FALSE)","v":1},"Quelques avertissements",{"$f":"VLOOKUP(Y7,DEBUTSTEP!$AT$4:$AU$33,2,FALSE)","v":1},"Quelques avertissements",{"$f":"VLOOKUP(AA7,DEBUTSTEP!$AT$4:$AU$33,2,FALSE)","v":1},"Quelques avertissements",{"$f":"VLOOKUP(AC7,DEBUTSTEP!$AT$4:$AU$33,2,FALSE)","v":1},"Quelques avertissements",{"$f":"VLOOKUP(AE7,DEBUTSTEP!$AT$4:$AU$33,2,FALSE)","v":1},"Quelques avertissements",{"$f":"VLOOKUP(AG7,DEBUTSTEP!$AT$4:$AU$33,2,FALSE)","v":1},"Quelques avertissements",{"$f":"VLOOKUP(AI7,DEBUTSTEP!$AT$4:$AU$33,2,FALSE)","v":1},"Quelques avertissements",{"$f":"VLOOKUP(AK7,DEBUTSTEP!$AT$4:$AU$33,2,FALSE)","v":1},"Quelques avertissements",{"$f":"VLOOKUP(AM7,DEBUTSTEP!$AT$4:$AU$33,2,FALSE)","v":1},"Quelques avertissements",{"$f":"VLOOKUP(AO7,DEBUTSTEP!$AT$4:$AU$33,2,FALSE)","v":1},"Quelques avertissements",{"$f":"VLOOKUP(AQ7,DEBUTSTEP!$AT$4:$AU$33,2,FALSE)","v":1},"Quelques avertissements",{"$f":"VLOOKUP(AS7,DEBUTSTEP!$AT$4:$AU$33,2,FALSE)","v":1},"Quelques avertissements",{"$f":"VLOOKUP(AU7,DEBUTSTEP!$AT$4:$AU$33,2,FALSE)","v":1},"Quelques avertissements",{"$f":"VLOOKUP(AW7,DEBUTSTEP!$AT$4:$AU$33,2,FALSE)","v":1},"Quelques avertissements",{"$f":"VLOOKUP(AY7,DEBUTSTEP!$AT$4:$AU$33,2,FALSE)","v":1},"Quelques avertissements",{"$f":"VLOOKUP(BA7,DEBUTSTEP!$AT$4:$AU$33,2,FALSE)","v":1},"Quelques avertissements",{"$f":"VLOOKUP(BC7,DEBUTSTEP!$AT$4:$AU$33,2,FALSE)","v":1},"Quelques avertissements",{"$f":"VLOOKUP(BE7,DEBUTSTEP!$AT$4:$AU$33,2,FALSE)","v":1},"Quelques avertissements",{"$f":"VLOOKUP(BG7,DEBUTSTEP!$AT$4:$AU$33,2,FALSE)","v":1},"Quelques avertissements",{"$f":"VLOOKUP(BI7,DEBUTSTEP!$AT$4:$AU$33,2,FALSE)","v":1},"Quelques avertissements",{"$f":"VLOOKUP(BK7,DEBUTSTEP!$AT$4:$AU$33,2,FALSE)","v":1},"Quelques avertissements",{"$f":"VLOOKUP(BM7,DEBUTSTEP!$AT$4:$AU$33,2,FALSE)","v":1},"Quelques avertissements",{"$f":"VLOOKUP(BO7,DEBUTSTEP!$AT$4:$AU$33,2,FALSE)","v":1},"Quelques avertissements",{"$f":"VLOOKUP(BQ7,DEBUTSTEP!$AT$4:$AU$33,2,FALSE)","v":1},"Quelques avertissements",{"$f":"VLOOKUP(BS7,DEBUTSTEP!$AT$4:$AU$33,2,FALSE)","v":1}]
[null,{"$f":"DEBUTSTEP!$AV$4","v":"Respect de l'entrainement proposé"},"Aléatoire",{"$f":"VLOOKUP(C8,DEBUTSTEP!$AV$4:$AW$33,2,FALSE)","v":1},null,{"$f":"VLOOKUP(E8,DEBUTSTEP!$AV$4:$AW$33,2,FALSE)","v":0},null,{"$f":"VLOOKUP(G8,DEBUTSTEP!$AV$4:$AW$33,2,FALSE)","v":0},"Aléatoire",{"$f":"VLOOKUP(I8,DEBUTSTEP!$AV$4:$AW$33,2,FALSE)","v":1},"Aléatoire",{"$f":"VLOOKUP(K8,DEBUTSTEP!$AV$4:$AW$33,2,FALSE)","v":1},"Aléatoire",{"$f":"VLOOKUP(M8,DEBUTSTEP!$AV$4:$AW$33,2,FALSE)","v":1},"Aléatoire",{"$f":"VLOOKUP(O8,DEBUTSTEP!$AV$4:$AW$33,2,FALSE)","v":1},"Aléatoire",{"$f":"VLOOKUP(Q8,DEBUTSTEP!$AV$4:$AW$33,2,FALSE)","v":1},"Aléatoire",{"$f":"VLOOKUP(S8,DEBUTSTEP!$AV$4:$AW$33,2,FALSE)","v":1},"Aléatoire",{"$f":"VLOOKUP(U8,DEBUTSTEP!$AV$4:$AW$33,2,FALSE)","v":1},"Aléatoire",{"$f":"VLOOKUP(W8,DEBUTSTEP!$AV$4:$AW$33,2,FALSE)","v":1},"Aléatoire",{"$f":"VLOOKUP(Y8,DEBUTSTEP!$AV$4:$AW$33,2,FALSE)","v":1},"Aléatoire",{"$f":"VLOOKUP(AA8,DEBUTSTEP!$AV$4:$AW$33,2,FALSE)","v":1},"Aléatoire",{"$f":"VLOOKUP(AC8,DEBUTSTEP!$AV$4:$AW$33,2,FALSE)","v":1},"Aléatoire",{"$f":"VLOOKUP(AE8,DEBUTSTEP!$AV$4:$AW$33,2,FALSE)","v":1},"Aléatoire",{"$f":"VLOOKUP(AG8,DEBUTSTEP!$AV$4:$AW$33,2,FALSE)","v":1},"Aléatoire",{"$f":"VLOOKUP(AI8,DEBUTSTEP!$AV$4:$AW$33,2,FALSE)","v":1},"Aléatoire",{"$f":"VLOOKUP(AK8,DEBUTSTEP!$AV$4:$AW$33,2,FALSE)","v":1},"Aléatoire",{"$f":"VLOOKUP(AM8,DEBUTSTEP!$AV$4:$AW$33,2,FALSE)","v":1},"Aléatoire",{"$f":"VLOOKUP(AO8,DEBUTSTEP!$AV$4:$AW$33,2,FALSE)","v":1},"Aléatoire",{"$f":"VLOOKUP(AQ8,DEBUTSTEP!$AV$4:$AW$33,2,FALSE)","v":1},"Aléatoire",{"$f":"VLOOKUP(AS8,DEBUTSTEP!$AV$4:$AW$33,2,FALSE)","v":1},"Aléatoire",{"$f":"VLOOKUP(AU8,DEBUTSTEP!$AV$4:$AW$33,2,FALSE)","v":1},"Aléatoire",{"$f":"VLOOKUP(AW8,DEBUTSTEP!$AV$4:$AW$33,2,FALSE)","v":1},"Aléatoire",{"$f":"VLOOKUP(AY8,DEBUTSTEP!$AV$4:$AW$33,2,FALSE)","v":1},"Aléatoire",{"$f":"VLOOKUP(BA8,DEBUTSTEP!$AV$4:$AW$33,2,FALSE)","v":1},"Aléatoire",{"$f":"VLOOKUP(BC8,DEBUTSTEP!$AV$4:$AW$33,2,FALSE)","v":1},"Aléatoire",{"$f":"VLOOKUP(BE8,DEBUTSTEP!$AV$4:$AW$33,2,FALSE)","v":1},"Aléatoire",{"$f":"VLOOKUP(BG8,DEBUTSTEP!$AV$4:$AW$33,2,FALSE)","v":1},"Aléatoire",{"$f":"VLOOKUP(BI8,DEBUTSTEP!$AV$4:$AW$33,2,FALSE)","v":1},"Aléatoire",{"$f":"VLOOKUP(BK8,DEBUTSTEP!$AV$4:$AW$33,2,FALSE)","v":1},"Aléatoire",{"$f":"VLOOKUP(BM8,DEBUTSTEP!$AV$4:$AW$33,2,FALSE)","v":1},"Aléatoire",{"$f":"VLOOKUP(BO8,DEBUTSTEP!$AV$4:$AW$33,2,FALSE)","v":1},"Aléatoire",{"$f":"VLOOKUP(BQ8,DEBUTSTEP!$AV$4:$AW$33,2,FALSE)","v":1},"Aléatoire",{"$f":"VLOOKUP(BS8,DEBUTSTEP!$AV$4:$AW$33,2,FALSE)","v":1}]
[null,{"$f":"DEBUTSTEP!$AX$4","v":"Mémorisation des blocs"},"Beaucoup d'erreurs",{"$f":"VLOOKUP(C9,DEBUTSTEP!$AX$4:$AY$33,2,FALSE)","v":1},null,{"$f":"VLOOKUP(E9,DEBUTSTEP!$AX$4:$AY$33,2,FALSE)","v":0},null,{"$f":"VLOOKUP(G9,DEBUTSTEP!$AX$4:$AY$33,2,FALSE)","v":0},"Beaucoup d'erreurs",{"$f":"VLOOKUP(I9,DEBUTSTEP!$AX$4:$AY$33,2,FALSE)","v":1},"Beaucoup d'erreurs",{"$f":"VLOOKUP(K9,DEBUTSTEP!$AX$4:$AY$33,2,FALSE)","v":1},"Beaucoup d'erreurs",{"$f":"VLOOKUP(M9,DEBUTSTEP!$AX$4:$AY$33,2,FALSE)","v":1},"Beaucoup d'erreurs",{"$f":"VLOOKUP(O9,DEBUTSTEP!$AX$4:$AY$33,2,FALSE)","v":1},"Beaucoup d'erreurs",{"$f":"VLOOKUP(Q9,DEBUTSTEP!$AX$4:$AY$33,2,FALSE)","v":1},"Beaucoup d'erreurs",{"$f":"VLOOKUP(S9,DEBUTSTEP!$AX$4:$AY$33,2,FALSE)","v":1},"Beaucoup d'erreurs",{"$f":"VLOOKUP(U9,DEBUTSTEP!$AX$4:$AY$33,2,FALSE)","v":1},"Beaucoup d'erreurs",{"$f":"VLOOKUP(W9,DEBUTSTEP!$AX$4:$AY$33,2,FALSE)","v":1},"Beaucoup d'erreurs",{"$f":"VLOOKUP(Y9,DEBUTSTEP!$AX$4:$AY$33,2,FALSE)","v":1},"Beaucoup d'erreurs",{"$f":"VLOOKUP(AA9,DEBUTSTEP!$AX$4:$AY$33,2,FALSE)","v":1},"Beaucoup d'erreurs",{"$f":"VLOOKUP(AC9,DEBUTSTEP!$AX$4:$AY$33,2,FALSE)","v":1},"Beaucoup d'erreurs",{"$f":"VLOOKUP(AE9,DEBUTSTEP!$AX$4:$AY$33,2,FALSE)","v":1},"Beaucoup d'erreurs",{"$f":"VLOOKUP(AG9,DEBUTSTEP!$AX$4:$AY$33,2,FALSE)","v":1},"Beaucoup d'erreurs",{"$f":"VLOOKUP(AI9,DEBUTSTEP!$AX$4:$AY$33,2,FALSE)","v":1},"Beaucoup d'erreurs",{"$f":"VLOOKUP(AK9,DEBUTSTEP!$AX$4:$AY$33,2,FALSE)","v":1},"Beaucoup d'erreurs",{"$f":"VLOOKUP(AM9,DEBUTSTEP!$AX$4:$AY$33,2,FALSE)","v":1},"Beaucoup d'erreurs",{"$f":"VLOOKUP(AO9,DEBUTSTEP!$AX$4:$AY$33,2,FALSE)","v":1},"Beaucoup d'erreurs",{"$f":"VLOOKUP(AQ9,DEBUTSTEP!$AX$4:$AY$33,2,FALSE)","v":1},"Beaucoup d'erreurs",{"$f":"VLOOKUP(AS9,DEBUTSTEP!$AX$4:$AY$33,2,FALSE)","v":1},"Beaucoup d'erreurs",{"$f":"VLOOKUP(AU9,DEBUTSTEP!$AX$4:$AY$33,2,FALSE)","v":1},"Beaucoup d'erreurs",{"$f":"VLOOKUP(AW9,DEBUTSTEP!$AX$4:$AY$33,2,FALSE)","v":1},"Beaucoup d'erreurs",{"$f":"VLOOKUP(AY9,DEBUTSTEP!$AX$4:$AY$33,2,FALSE)","v":1},"Beaucoup d'erreurs",{"$f":"VLOOKUP(BA9,DEBUTSTEP!$AX$4:$AY$33,2,FALSE)","v":1},"Beaucoup d'erreurs",{"$f":"VLOOKUP(BC9,DEBUTSTEP!$AX$4:$AY$33,2,FALSE)","v":1},"Beaucoup d'erreurs",{"$f":"VLOOKUP(BE9,DEBUTSTEP!$AX$4:$AY$33,2,FALSE)","v":1},"Beaucoup d'erreurs",{"$f":"VLOOKUP(BG9,DEBUTSTEP!$AX$4:$AY$33,2,FALSE)","v":1},"Beaucoup d'erreurs",{"$f":"VLOOKUP(BI9,DEBUTSTEP!$AX$4:$AY$33,2,FALSE)","v":1},"Beaucoup d'erreurs",{"$f":"VLOOKUP(BK9,DEBUTSTEP!$AX$4:$AY$33,2,FALSE)","v":1},"Beaucoup d'erreurs",{"$f":"VLOOKUP(BM9,DEBUTSTEP!$AX$4:$AY$33,2,FALSE)","v":1},"Beaucoup d'erreurs",{"$f":"VLOOKUP(BO9,DEBUTSTEP!$AX$4:$AY$33,2,FALSE)","v":1},"Beaucoup d'erreurs",{"$f":"VLOOKUP(BQ9,DEBUTSTEP!$AX$4:$AY$33,2,FALSE)","v":1},"Beaucoup d'erreurs",{"$f":"VLOOKUP(BS9,DEBUTSTEP!$AX$4:$AY$33,2,FALSE)","v":1}]
[null,{"$f":"DEBUTSTEP!$AZ$4","v":"Analyse de sa prestation"},"Pertinente",{"$f":"VLOOKUP(C10,DEBUTSTEP!$AZ$4:$BA$33,2,FALSE)","v":3},null,{"$f":"VLOOKUP(E10,DEBUTSTEP!$AZ$4:$BA$33,2,FALSE)","v":0},null,{"$f":"VLOOKUP(G10,DEBUTSTEP!$AZ$4:$BA$33,2,FALSE)","v":0},"Pertinente",{"$f":"VLOOKUP(I10,DEBUTSTEP!$AZ$4:$BA$33,2,FALSE)","v":3},"Pertinente",{"$f":"VLOOKUP(K10,DEBUTSTEP!$AZ$4:$BA$33,2,FALSE)","v":3},"Pertinente",{"$f":"VLOOKUP(M10,DEBUTSTEP!$AZ$4:$BA$33,2,FALSE)","v":3},"Pertinente",{"$f":"VLOOKUP(O10,DEBUTSTEP!$AZ$4:$BA$33,2,FALSE)","v":3},"Pertinente",{"$f":"VLOOKUP(Q10,DEBUTSTEP!$AZ$4:$BA$33,2,FALSE)","v":3},"Pertinente",{"$f":"VLOOKUP(S10,DEBUTSTEP!$AZ$4:$BA$33,2,FALSE)","v":3},"Pertinente",{"$f":"VLOOKUP(U10,DEBUTSTEP!$AZ$4:$BA$33,2,FALSE)","v":3},"Pertinente",{"$f":"VLOOKUP(W10,DEBUTSTEP!$AZ$4:$BA$33,2,FALSE)","v":3},"Pertinente",{"$f":"VLOOKUP(Y10,DEBUTSTEP!$AZ$4:$BA$33,2,FALSE)","v":3},"Pertinente",{"$f":"VLOOKUP(AA10,DEBUTSTEP!$AZ$4:$BA$33,2,FALSE)","v":3},"Pertinente",{"$f":"VLOOKUP(AC10,DEBUTSTEP!$AZ$4:$BA$33,2,FALSE)","v":3},"Pertinente",{"$f":"VLOOKUP(AE10,DEBUTSTEP!$AZ$4:$BA$33,2,FALSE)","v":3},"Pertinente",{"$f":"VLOOKUP(AG10,DEBUTSTEP!$AZ$4:$BA$33,2,FALSE)","v":3},"Pertinente",{"$f":"VLOOKUP(AI10,DEBUTSTEP!$AZ$4:$BA$33,2,FALSE)","v":3},"Pertinente",{"$f":"VLOOKUP(AK10,DEBUTSTEP!$AZ$4:$BA$33,2,FALSE)","v":3},"Pertinente",{"$f":"VLOOKUP(AM10,DEBUTSTEP!$AZ$4:$BA$33,2,FALSE)","v":3},"Pertinente",{"$f":"VLOOKUP(AO10,DEBUTSTEP!$AZ$4:$BA$33,2,FALSE)","v":3},"Pertinente",{"$f":"VLOOKUP(AQ10,DEBUTSTEP!$AZ$4:$BA$33,2,FALSE)","v":3},"Pertinente",{"$f":"VLOOKUP(AS10,DEBUTSTEP!$AZ$4:$BA$33,2,FALSE)","v":3},"Pertinente",{"$f":"VLOOKUP(AU10,DEBUTSTEP!$AZ$4:$BA$33,2,FALSE)","v":3},"Pertinente",{"$f":"VLOOKUP(AW10,DEBUTSTEP!$AZ$4:$BA$33,2,FALSE)","v":3},"Pertinente",{"$f":"VLOOKUP(AY10,DEBUTSTEP!$AZ$4:$BA$33,2,FALSE)","v":3},"Pertinente",{"$f":"VLOOKUP(BA10,DEBUTSTEP!$AZ$4:$BA$33,2,FALSE)","v":3},"Pertinente",{"$f":"VLOOKUP(BC10,DEBUTSTEP!$AZ$4:$BA$33,2,FALSE)","v":3},"Pertinente",{"$f":"VLOOKUP(BE10,DEBUTSTEP!$AZ$4:$BA$33,2,FALSE)","v":3},"Pertinente",{"$f":"VLOOKUP(BG10,DEBUTSTEP!$AZ$4:$BA$33,2,FALSE)","v":3},"Pertinente",{"$f":"VLOOKUP(BI10,DEBUTSTEP!$AZ$4:$BA$33,2,FALSE)","v":3},"Pertinente",{"$f":"VLOOKUP(BK10,DEBUTSTEP!$AZ$4:$BA$33,2,FALSE)","v":3},"Pertinente",{"$f":"VLOOKUP(BM10,DEBUTSTEP!$AZ$4:$BA$33,2,FALSE)","v":3},"Pertinente",{"$f":"VLOOKUP(BO10,DEBUTSTEP!$AZ$4:$BA$33,2,FALSE)","v":3},"Pertinente",{"$f":"VLOOKUP(BQ10,DEBUTSTEP!$AZ$4:$BA$33,2,FALSE)","v":3},"Pertinente",{"$f":"VLOOKUP(BS10,DEBUTSTEP!$AZ$4:$BA$33,2,FALSE)","v":3}]
[null,"NOTE",{"$f":"IF(OR(D5=\"x\",D6=\"x\",D7=\"x\",D8=\"x\",D9=\"x\",D10=\"x\"),\"ABSENT\",SUMIF(D5,\"<>X\")+SUMIF(D6,\"<>X\")+SUMIF(D7,\"<>X\")+SUMIF(D8,\"<>X\")+SUMIF(D9,\"<>X\")+SUMIF(D10,\"<>X\"))","v":8},null,{"$f":"IF(OR(F5=\"x\",F6=\"x\",F7=\"x\",F8=\"x\",F9=\"x\",F10=\"x\"),\"ABSENT\",SUMIF(F5,\"<>X\")+SUMIF(F6,\"<>X\")+SUMIF(F7,\"<>X\")+SUMIF(F8,\"<>X\")+SUMIF(F9,\"<>X\")+SUMIF(F10,\"<>X\"))","v":"ABSENT"},null,{"$f":"IF(OR(H5=\"x\",H6=\"x\",H7=\"x\",H8=\"x\",H9=\"x\",H10=\"x\"),\"ABSENT\",SUMIF(H5,\"<>X\")+SUMIF(H6,\"<>X\")+SUMIF(H7,\"<>X\")+SUMIF(H8,\"<>X\")+SUMIF(H9,\"<>X\")+SUMIF(H10,\"<>X\"))","v":0},null,{"$f":"IF(OR(J5=\"x\",J6=\"x\",J7=\"x\",J8=\"x\",J9=\"x\",J10=\"x\"),\"ABSENT\",SUMIF(J5,\"<>X\")+SUMIF(J6,\"<>X\")+SUMIF(J7,\"<>X\")+SUMIF(J8,\"<>X\")+SUMIF(J9,\"<>X\")+SUMIF(J10,\"<>X\"))","v":7},null,{"$f":"IF(OR(L5=\"x\",L6=\"x\",L7=\"x\",L8=\"x\",L9=\"x\",L10=\"x\"),\"ABSENT\",SUMIF(L5,\"<>X\")+SUMIF(L6,\"<>X\")+SUMIF(L7,\"<>X\")+SUMIF(L8,\"<>X\")+SUMIF(L9,\"<>X\")+SUMIF(L10,\"<>X\"))","v":7},null,{"$f":"IF(OR(N5=\"x\",N6=\"x\",N7=\"x\",N8=\"x\",N9=\"x\",N10=\"x\"),\"ABSENT\",SUMIF(N5,\"<>X\")+SUMIF(N6,\"<>X\")+SUMIF(N7,\"<>X\")+SUMIF(N8,\"<>X\")+SUMIF(N9,\"<>X\")+SUMIF(N10,\"<>X\"))","v":7},null,{"$f":"IF(OR(P5=\"x\",P6=\"x\",P7=\"x\",P8=\"x\",P9=\"x\",P10=\"x\"),\"ABSENT\",SUMIF(P5,\"<>X\")+SUMIF(P6,\"<>X\")+SUMIF(P7,\"<>X\")+SUMIF(P8,\"<>X\")+SUMIF(P9,\"<>X\")+SUMIF(P10,\"<>X\"))","v":7},null,{"$f":"IF(OR(R5=\"x\",R6=\"x\",R7=\"x\",R8=\"x\",R9=\"x\",R10=\"x\"),\"ABSENT\",SUMIF(R5,\"<>X\")+SUMIF(R6,\"<>X\")+SUMIF(R7,\"<>X\")+SUMIF(R8,\"<>X\")+SUMIF(R9,\"<>X\")+SUMIF(R10,\"<>X\"))","v":7},null,{"$f":"IF(OR(T5=\"x\",T6=\"x\",T7=\"x\",T8=\"x\",T9=\"x\",T10=\"x\"),\"ABSENT\",SUMIF(T5,\"<>X\")+SUMIF(T6,\"<>X\")+SUMIF(T7,\"<>X\")+SUMIF(T8,\"<>X\")+SUMIF(T9,\"<>X\")+SUMIF(T10,\"<>X\"))","v":7},null,{"$f":"IF(OR(V5=\"x\",V6=\"x\",V7=\"x\",V8=\"x\",V9=\"x\",V10=\"x\"),\"ABSENT\",SUMIF(V5,\"<>X\")+SUMIF(V6,\"<>X\")+SUMIF(V7,\"<>X\")+SUMIF(V8,\"<>X\")+SUMIF(V9,\"<>X\")+SUMIF(V10,\"<>X\"))","v":7},null,{"$f":"IF(OR(X5=\"x\",X6=\"x\",X7=\"x\",X8=\"x\",X9=\"x\",X10=\"x\"),\"ABSENT\",SUMIF(X5,\"<>X\")+SUMIF(X6,\"<>X\")+SUMIF(X7,\"<>X\")+SUMIF(X8,\"<>X\")+SUMIF(X9,\"<>X\")+SUMIF(X10,\"<>X\"))","v":7},null,{"$f":"IF(OR(Z5=\"x\",Z6=\"x\",Z7=\"x\",Z8=\"x\",Z9=\"x\",Z10=\"x\"),\"ABSENT\",SUMIF(Z5,\"<>X\")+SUMIF(Z6,\"<>X\")+SUMIF(Z7,\"<>X\")+SUMIF(Z8,\"<>X\")+SUMIF(Z9,\"<>X\")+SUMIF(Z10,\"<>X\"))","v":7},null,{"$f":"IF(OR(AB5=\"x\",AB6=\"x\",AB7=\"x\",AB8=\"x\",AB9=\"x\",AB10=\"x\"),\"ABSENT\",SUMIF(AB5,\"<>X\")+SUMIF(AB6,\"<>X\")+SUMIF(AB7,\"<>X\")+SUMIF(AB8,\"<>X\")+SUMIF(AB9,\"<>X\")+SUMIF(AB10,\"<>X\"))","v":7},null,{"$f":"IF(OR(AD5=\"x\",AD6=\"x\",AD7=\"x\",AD8=\"x\",AD9=\"x\",AD10=\"x\"),\"ABSENT\",SUMIF(AD5,\"<>X\")+SUMIF(AD6,\"<>X\")+SUMIF(AD7,\"<>X\")+SUMIF(AD8,\"<>X\")+SUMIF(AD9,\"<>X\")+SUMIF(AD10,\"<>X\"))","v":7},null,{"$f":"IF(OR(AF5=\"x\",AF6=\"x\",AF7=\"x\",AF8=\"x\",AF9=\"x\",AF10=\"x\"),\"ABSENT\",SUMIF(AF5,\"<>X\")+SUMIF(AF6,\"<>X\")+SUMIF(AF7,\"<>X\")+SUMIF(AF8,\"<>X\")+SUMIF(AF9,\"<>X\")+SUMIF(AF10,\"<>X\"))","v":7},null,{"$f":"IF(OR(AH5=\"x\",AH6=\"x\",AH7=\"x\",AH8=\"x\",AH9=\"x\",AH10=\"x\"),\"ABSENT\",SUMIF(AH5,\"<>X\")+SUMIF(AH6,\"<>X\")+SUMIF(AH7,\"<>X\")+SUMIF(AH8,\"<>X\")+SUMIF(AH9,\"<>X\")+SUMIF(AH10,\"<>X\"))","v":7},null,{"$f":"IF(OR(AJ5=\"x\",AJ6=\"x\",AJ7=\"x\",AJ8=\"x\",AJ9=\"x\",AJ10=\"x\"),\"ABSENT\",SUMIF(AJ5,\"<>X\")+SUMIF(AJ6,\"<>X\")+SUMIF(AJ7,\"<>X\")+SUMIF(AJ8,\"<>X\")+SUMIF(AJ9,\"<>X\")+SUMIF(AJ10,\"<>X\"))","v":7},null,{"$f":"IF(OR(AL5=\"x\",AL6=\"x\",AL7=\"x\",AL8=\"x\",AL9=\"x\",AL10=\"x\"),\"ABSENT\",SUMIF(AL5,\"<>X\")+SUMIF(AL6,\"<>X\")+SUMIF(AL7,\"<>X\")+SUMIF(AL8,\"<>X\")+SUMIF(AL9,\"<>X\")+SUMIF(AL10,\"<>X\"))","v":7},null,{"$f":"IF(OR(AN5=\"x\",AN6=\"x\",AN7=\"x\",AN8=\"x\",AN9=\"x\",AN10=\"x\"),\"ABSENT\",SUMIF(AN5,\"<>X\")+SUMIF(AN6,\"<>X\")+SUMIF(AN7,\"<>X\")+SUMIF(AN8,\"<>X\")+SUMIF(AN9,\"<>X\")+SUMIF(AN10,\"<>X\"))","v":7},null,{"$f":"IF(OR(AP5=\"x\",AP6=\"x\",AP7=\"x\",AP8=\"x\",AP9=\"x\",AP10=\"x\"),\"ABSENT\",SUMIF(AP5,\"<>X\")+SUMIF(AP6,\"<>X\")+SUMIF(AP7,\"<>X\")+SUMIF(AP8,\"<>X\")+SUMIF(AP9,\"<>X\")+SUMIF(AP10,\"<>X\"))","v":7},null,{"$f":"IF(OR(AR5=\"x\",AR6=\"x\",AR7=\"x\",AR8=\"x\",AR9=\"x\",AR10=\"x\"),\"ABSENT\",SUMIF(AR5,\"<>X\")+SUMIF(AR6,\"<>X\")+SUMIF(AR7,\"<>X\")+SUMIF(AR8,\"<>X\")+SUMIF(AR9,\"<>X\")+SUMIF(AR10,\"<>X\"))","v":7},null,{"$f":"IF(OR(AT5=\"x\",AT6=\"x\",AT7=\"x\",AT8=\"x\",AT9=\"x\",AT10=\"x\"),\"ABSENT\",SUMIF(AT5,\"<>X\")+SUMIF(AT6,\"<>X\")+SUMIF(AT7,\"<>X\")+SUMIF(AT8,\"<>X\")+SUMIF(AT9,\"<>X\")+SUMIF(AT10,\"<>X\"))","v":7},null,{"$f":"IF(OR(AV5=\"x\",AV6=\"x\",AV7=\"x\",AV8=\"x\",AV9=\"x\",AV10=\"x\"),\"ABSENT\",SUMIF(AV5,\"<>X\")+SUMIF(AV6,\"<>X\")+SUMIF(AV7,\"<>X\")+SUMIF(AV8,\"<>X\")+SUMIF(AV9,\"<>X\")+SUMIF(AV10,\"<>X\"))","v":7},null,{"$f":"IF(OR(AX5=\"x\",AX6=\"x\",AX7=\"x\",AX8=\"x\",AX9=\"x\",AX10=\"x\"),\"ABSENT\",SUMIF(AX5,\"<>X\")+SUMIF(AX6,\"<>X\")+SUMIF(AX7,\"<>X\")+SUMIF(AX8,\"<>X\")+SUMIF(AX9,\"<>X\")+SUMIF(AX10,\"<>X\"))","v":7},null,{"$f":"IF(OR(AZ5=\"x\",AZ6=\"x\",AZ7=\"x\",AZ8=\"x\",AZ9=\"x\",AZ10=\"x\"),\"ABSENT\",SUMIF(AZ5,\"<>X\")+SUMIF(AZ6,\"<>X\")+SUMIF(AZ7,\"<>X\")+SUMIF(AZ8,\"<>X\")+SUMIF(AZ9,\"<>X\")+SUMIF(AZ10,\"<>X\"))","v":7},null,{"$f":"IF(OR(BB5=\"x\",BB6=\"x\",BB7=\"x\",BB8=\"x\",BB9=\"x\",BB10=\"x\"),\"ABSENT\",SUMIF(BB5,\"<>X\")+SUMIF(BB6,\"<>X\")+SUMIF(BB7,\"<>X\")+SUMIF(BB8,\"<>X\")+SUMIF(BB9,\"<>X\")+SUMIF(BB10,\"<>X\"))","v":7},null,{"$f":"IF(OR(BD5=\"x\",BD6=\"x\",BD7=\"x\",BD8=\"x\",BD9=\"x\",BD10=\"x\"),\"ABSENT\",SUMIF(BD5,\"<>X\")+SUMIF(BD6,\"<>X\")+SUMIF(BD7,\"<>X\")+SUMIF(BD8,\"<>X\")+SUMIF(BD9,\"<>X\")+SUMIF(BD10,\"<>X\"))","v":7},null,{"$f":"IF(OR(BF5=\"x\",BF6=\"x\",BF7=\"x\",BF8=\"x\",BF9=\"x\",BF10=\"x\"),\"ABSENT\",SUMIF(BF5,\"<>X\")+SUMIF(BF6,\"<>X\")+SUMIF(BF7,\"<>X\")+SUMIF(BF8,\"<>X\")+SUMIF(BF9,\"<>X\")+SUMIF(BF10,\"<>X\"))","v":7},null,{"$f":"IF(OR(BH5=\"x\",BH6=\"x\",BH7=\"x\",BH8=\"x\",BH9=\"x\",BH10=\"x\"),\"ABSENT\",SUMIF(BH5,\"<>X\")+SUMIF(BH6,\"<>X\")+SUMIF(BH7,\"<>X\")+SUMIF(BH8,\"<>X\")+SUMIF(BH9,\"<>X\")+SUMIF(BH10,\"<>X\"))","v":7},null,{"$f":"IF(OR(BJ5=\"x\",BJ6=\"x\",BJ7=\"x\",BJ8=\"x\",BJ9=\"x\",BJ10=\"x\"),\"ABSENT\",SUMIF(BJ5,\"<>X\")+SUMIF(BJ6,\"<>X\")+SUMIF(BJ7,\"<>X\")+SUMIF(BJ8,\"<>X\")+SUMIF(BJ9,\"<>X\")+SUMIF(BJ10,\"<>X\"))","v":7},null,{"$f":"IF(OR(BL5=\"x\",BL6=\"x\",BL7=\"x\",BL8=\"x\",BL9=\"x\",BL10=\"x\"),\"ABSENT\",SUMIF(BL5,\"<>X\")+SUMIF(BL6,\"<>X\")+SUMIF(BL7,\"<>X\")+SUMIF(BL8,\"<>X\")+SUMIF(BL9,\"<>X\")+SUMIF(BL10,\"<>X\"))","v":7},null,{"$f":"IF(OR(BN5=\"x\",BN6=\"x\",BN7=\"x\",BN8=\"x\",BN9=\"x\",BN10=\"x\"),\"ABSENT\",SUMIF(BN5,\"<>X\")+SUMIF(BN6,\"<>X\")+SUMIF(BN7,\"<>X\")+SUMIF(BN8,\"<>X\")+SUMIF(BN9,\"<>X\")+SUMIF(BN10,\"<>X\"))","v":7},null,{"$f":"IF(OR(BP5=\"x\",BP6=\"x\",BP7=\"x\",BP8=\"x\",BP9=\"x\",BP10=\"x\"),\"ABSENT\",SUMIF(BP5,\"<>X\")+SUMIF(BP6,\"<>X\")+SUMIF(BP7,\"<>X\")+SUMIF(BP8,\"<>X\")+SUMIF(BP9,\"<>X\")+SUMIF(BP10,\"<>X\"))","v":7},null,{"$f":"IF(OR(BR5=\"x\",BR6=\"x\",BR7=\"x\",BR8=\"x\",BR9=\"x\",BR10=\"x\"),\"ABSENT\",SUMIF(BR5,\"<>X\")+SUMIF(BR6,\"<>X\")+SUMIF(BR7,\"<>X\")+SUMIF(BR8,\"<>X\")+SUMIF(BR9,\"<>X\")+SUMIF(BR10,\"<>X\"))","v":7},null,{"$f":"IF(OR(BT5=\"x\",BT6=\"x\",BT7=\"x\",BT8=\"x\",BT9=\"x\",BT10=\"x\"),\"ABSENT\",SUMIF(BT5,\"<>X\")+SUMIF(BT6,\"<>X\")+SUMIF(BT7,\"<>X\")+SUMIF(BT8,\"<>X\")+SUMIF(BT9,\"<>X\")+SUMIF(BT10,\"<>X\"))","v":7}]
[]
["SEANCE 2",{"$f":"DEBUTSTEP!$AP$4","v":"Prendre sa FC efficacement"},"Jamais",{"$f":"VLOOKUP(C13,DEBUTSTEP!$AP$4:$AQ$33,2,FALSE)","v":"NA"},"Jamais",{"$f":"VLOOKUP(E13,DEBUTSTEP!$AP$4:$AQ$33,2,FALSE)","v":"NA"},"Jamais",{"$f":"VLOOKUP(G13,DEBUTSTEP!$AP$4:$AQ$33,2,FALSE)","v":"NA"},"Jamais",{"$f":"VLOOKUP(I13,DEBUTSTEP!$AP$4:$AQ$33,2,FALSE)","v":"NA"},"Jamais",{"$f":"VLOOKUP(K13,DEBUTSTEP!$AP$4:$AQ$33,2,FALSE)","v":"NA"},"Jamais",{"$f":"VLOOKUP(M13,DEBUTSTEP!$AP$4:$AQ$33,2,FALSE)","v":"NA"},"Jamais",{"$f":"VLOOKUP(O13,DEBUTSTEP!$AP$4:$AQ$33,2,FALSE)","v":"NA"},"Jamais",{"$f":"VLOOKUP(Q13,DEBUTSTEP!$AP$4:$AQ$33,2,FALSE)","v":"NA"},"Jamais",{"$f":"VLOOKUP(S13,DEBUTSTEP!$AP$4:$AQ$33,2,FALSE)","v":"NA"},"Jamais",{"$f":"VLOOKUP(U13,DEBUTSTEP!$AP$4:$AQ$33,2,FALSE)","v":"NA"},"Jamais",{"$f":"VLOOKUP(W13,DEBUTSTEP!$AP$4:$AQ$33,2,FALSE)","v":"NA"},"Jamais",{"$f":"VLOOKUP(Y13,DEBUTSTEP!$AP$4:$AQ$33,2,FALSE)","v":"NA"},"Jamais",{"$f":"VLOOKUP(AA13,DEBUTSTEP!$AP$4:$AQ$33,2,FALSE)","v":"NA"},"Jamais",{"$f":"VLOOKUP(AC13,DEBUTSTEP!$AP$4:$AQ$33,2,FALSE)","v":"NA"},"Jamais",{"$f":"VLOOKUP(AE13,DEBUTSTEP!$AP$4:$AQ$33,2,FALSE)","v":"NA"},"Jamais",{"$f":"VLOOKUP(AG13,DEBUTSTEP!$AP$4:$AQ$33,2,FALSE)","v":"NA"},"Jamais",{"$f":"VLOOKUP(AI13,DEBUTSTEP!$AP$4:$AQ$33,2,FALSE)","v":"NA"},"Jamais",{"$f":"VLOOKUP(AK13,DEBUTSTEP!$AP$4:$AQ$33,2,FALSE)","v":"NA"},"Jamais",{"$f":"VLOOKUP(AM13,DEBUTSTEP!$AP$4:$AQ$33,2,FALSE)","v":"NA"},"Jamais",{"$f":"VLOOKUP(AO13,DEBUTSTEP!$AP$4:$AQ$33,2,FALSE)","v":"NA"},"Jamais",{"$f":"VLOOKUP(AQ13,DEBUTSTEP!$AP$4:$AQ$33,2,FALSE)","v":"NA"},"Jamais",{"$f":"VLOOKUP(AS13,DEBUTSTEP!$AP$4:$AQ$33,2,FALSE)","v":"NA"},"Jamais",{"$f":"VLOOKUP(AU13,DEBUTSTEP!$AP$4:$AQ$33,2,FALSE)","v":"NA"},"Jamais",{"$f":"VLOOKUP(AW13,DEBUTSTEP!$AP$4:$AQ$33,2,FALSE)","v":"NA"},"Jamais",{"$f":"VLOOKUP(AY13,DEBUTSTEP!$AP$4:$AQ$33,2,FALSE)","v":"NA"},"Jamais",{"$f":"VLOOKUP(BA13,DEBUTSTEP!$AP$4:$AQ$33,2,FALSE)","v":"NA"},"Jamais",{"$f":"VLOOKUP(BC13,DEBUTSTEP!$AP$4:$AQ$33,2,FALSE)","v":"NA"},"Jamais",{"$f":"VLOOKUP(BE13,DEBUTSTEP!$AP$4:$AQ$33,2,FALSE)","v":"NA"},"Jamais",{"$f":"VLOOKUP(BG13,DEBUTSTEP!$AP$4:$AQ$33,2,FALSE)","v":"NA"},"Jamais",{"$f":"VLOOKUP(BI13,DEBUTSTEP!$AP$4:$AQ$33,2,FALSE)","v":"NA"},"Jamais",{"$f":"VLOOKUP(BK13,DEBUTSTEP!$AP$4:$AQ$33,2,FALSE)","v":"NA"},"Jamais",{"$f":"VLOOKUP(BM13,DEBUTSTEP!$AP$4:$AQ$33,2,FALSE)","v":"NA"},"Jamais",{"$f":"VLOOKUP(BO13,DEBUTSTEP!$AP$4:$AQ$33,2,FALSE)","v":"NA"},"Jamais",{"$f":"VLOOKUP(BQ13,DEBUTSTEP!$AP$4:$AQ$33,2,FALSE)","v":"NA"},"Jamais",{"$f":"VLOOKUP(BS13,DEBUTSTEP!$AP$4:$AQ$33,2,FALSE)","v":"NA"}]
[null,{"$f":"DEBUTSTEP!$AR$4","v":"S'engager dans le mobile"},"Faible",{"$f":"VLOOKUP(C14,DEBUTSTEP!$AR$4:$AS$33,2,FALSE)","v":1},"Faible",{"$f":"VLOOKUP(E14,DEBUTSTEP!$AR$4:$AS$33,2,FALSE)","v":1},"Faible",{"$f":"VLOOKUP(G14,DEBUTSTEP!$AR$4:$AS$33,2,FALSE)","v":1},"Faible",{"$f":"VLOOKUP(I14,DEBUTSTEP!$AR$4:$AS$33,2,FALSE)","v":1},"Faible",{"$f":"VLOOKUP(K14,DEBUTSTEP!$AR$4:$AS$33,2,FALSE)","v":1},"Faible",{"$f":"VLOOKUP(M14,DEBUTSTEP!$AR$4:$AS$33,2,FALSE)","v":1},"Faible",{"$f":"VLOOKUP(O14,DEBUTSTEP!$AR$4:$AS$33,2,FALSE)","v":1},"Faible",{"$f":"VLOOKUP(Q14,DEBUTSTEP!$AR$4:$AS$33,2,FALSE)","v":1},"Faible",{"$f":"VLOOKUP(S14,DEBUTSTEP!$AR$4:$AS$33,2,FALSE)","v":1},"Faible",{"$f":"VLOOKUP(U14,DEBUTSTEP!$AR$4:$AS$33,2,FALSE)","v":1},"Faible",{"$f":"VLOOKUP(W14,DEBUTSTEP!$AR$4:$AS$33,2,FALSE)","v":1},"Faible",{"$f":"VLOOKUP(Y14,DEBUTSTEP!$AR$4:$AS$33,2,FALSE)","v":1},"Faible",{"$f":"VLOOKUP(AA14,DEBUTSTEP!$AR$4:$AS$33,2,FALSE)","v":1},"Faible",{"$f":"VLOOKUP(AC14,DEBUTSTEP!$AR$4:$AS$33,2,FALSE)","v":1},"Faible",{"$f":"VLOOKUP(AE14,DEBUTSTEP!$AR$4:$AS$33,2,FALSE)","v":1},"Faible",{"$f":"VLOOKUP(AG14,DEBUTSTEP!$AR$4:$AS$33,2,FALSE)","v":1},"Faible",{"$f":"VLOOKUP(AI14,DEBUTSTEP!$AR$4:$AS$33,2,FALSE)","v":1},"Faible",{"$f":"VLOOKUP(AK14,DEBUTSTEP!$AR$4:$AS$33,2,FALSE)","v":1},"Faible",{"$f":"VLOOKUP(AM14,DEBUTSTEP!$AR$4:$AS$33,2,FALSE)","v":1},"Faible",{"$f":"VLOOKUP(AO14,DEBUTSTEP!$AR$4:$AS$33,2,FALSE)","v":1},"Faible",{"$f":"VLOOKUP(AQ14,DEBUTSTEP!$AR$4:$AS$33,2,FALSE)","v":1},"Faible",{"$f":"VLOOKUP(AS14,DEBUTSTEP!$AR$4:$AS$33,2,FALSE)","v":1},"Faible",{"$f":"VLOOKUP(AU14,DEBUTSTEP!$AR$4:$AS$33,2,FALSE)","v":1},"Faible",{"$f":"VLOOKUP(AW14,DEBUTSTEP!$AR$4:$AS$33,2,FALSE)","v":1},"Faible",{"$f":"VLOOKUP(AY14,DEBUTSTEP!$AR$4:$AS$33,2,FALSE)","v":1},"Faible",{"$f":"VLOOKUP(BA14,DEBUTSTEP!$AR$4:$AS$33,2,FALSE)","v":1},"Faible",{"$f":"VLOOKUP(BC14,DEBUTSTEP!$AR$4:$AS$33,2,FALSE)","v":1},"Faible",{"$f":"VLOOKUP(BE14,DEBUTSTEP!$AR$4:$AS$33,2,FALSE)","v":1},"Faible",{"$f":"VLOOKUP(BG14,DEBUTSTEP!$AR$4:$AS$33,2,FALSE)","v":1},"Faible",{"$f":"VLOOKUP(BI14,DEBUTSTEP!$AR$4:$AS$33,2,FALSE)","v":1},"Faible",{"$f":"VLOOKUP(BK14,DEBUTSTEP!$AR$4:$AS$33,2,FALSE)","v":1},"Faible",{"$f":"VLOOKUP(BM14,DEBUTSTEP!$AR$4:$AS$33,2,FALSE)","v":1},"Faible",{"$f":"VLOOKUP(BO14,DEBUTSTEP!$AR$4:$AS$33,2,FALSE)","v":1},"Faible",{"$f":"VLOOKUP(BQ14,DEBUTSTEP!$AR$4:$AS$33,2,FALSE)","v":1},"Faible",{"$f":"VLOOKUP(BS14,DEBUTSTEP!$AR$4:$AS$33,2,FALSE)","v":1}]
[null,{"$f":"DEBUTSTEP!$AT$4","v":"Agir en sécu"},"Quelques avertissements",{"$f":"VLOOKUP(C15,DEBUTSTEP!$AT$4:$AU$33,2,FALSE)","v":1},"Quelques avertissements",{"$f":"VLOOKUP(E15,DEBUTSTEP!$AT$4:$AU$33,2,FALSE)","v":1},"Quelques avertissements",{"$f":"VLOOKUP(G15,DEBUTSTEP!$AT$4:$AU$33,2,FALSE)","v":1},"Quelques avertissements",{"$f":"VLOOKUP(I15,DEBUTSTEP!$AT$4:$AU$33,2,FALSE)","v":1},"Quelques avertissements",{"$f":"VLOOKUP(K15,DEBUTSTEP!$AT$4:$AU$33,2,FALSE)","v":1},"Quelques avertissements",{"$f":"VLOOKUP(M15,DEBUTSTEP!$AT$4:$AU$33,2,FALSE)","v":1},"Quelques avertissements",{"$f":"VLOOKUP(O15,DEBUTSTEP!$AT$4:$AU$33,2,FALSE)","v":1},"Quelques avertissements",{"$f":"VLOOKUP(Q15,DEBUTSTEP!$AT$4:$AU$33,2,FALSE)","v":1},"Quelques avertissements",{"$f":"VLOOKUP(S15,DEBUTSTEP!$AT$4:$AU$33,2,FALSE)","v":1},"Quelques avertissements",{"$f":"VLOOKUP(U15,DEBUTSTEP!$AT$4:$AU$33,2,FALSE)","v":1},"Quelques avertissements",{"$f":"VLOOKUP(W15,DEBUTSTEP!$AT$4:$AU$33,2,FALSE)","v":1},"Quelques avertissements",{"$f":"VLOOKUP(Y15,DEBUTSTEP!$AT$4:$AU$33,2,FALSE)","v":1},"Quelques avertissements",{"$f":"VLOOKUP(AA15,DEBUTSTEP!$AT$4:$AU$33,2,FALSE)","v":1},"Quelques avertissements",{"$f":"VLOOKUP(AC15,DEBUTSTEP!$AT$4:$AU$33,2,FALSE)","v":1},"Quelques avertissements",{"$f":"VLOOKUP(AE15,DEBUTSTEP!$AT$4:$AU$33,2,FALSE)","v":1},"Quelques avertissements",{"$f":"VLOOKUP(AG15,DEBUTSTEP!$AT$4:$AU$33,2,FALSE)","v":1},"Quelques avertissements",{"$f":"VLOOKUP(AI15,DEBUTSTEP!$AT$4:$AU$33,2,FALSE)","v":1},"Quelques avertissements",{"$f":"VLOOKUP(AK15,DEBUTSTEP!$AT$4:$AU$33,2,FALSE)","v":1},"Quelques avertissements",{"$f":"VLOOKUP(AM15,DEBUTSTEP!$AT$4:$AU$33,2,FALSE)","v":1},"Quelques avertissements",{"$f":"VLOOKUP(AO15,DEBUTSTEP!$AT$4:$AU$33,2,FALSE)","v":1},"Quelques avertissements",{"$f":"VLOOKUP(AQ15,DEBUTSTEP!$AT$4:$AU$33,2,FALSE)","v":1},"Quelques avertissements",{"$f":"VLOOKUP(AS15,DEBUTSTEP!$AT$4:$AU$33,2,FALSE)","v":1},"Quelques avertissements",{"$f":"VLOOKUP(AU15,DEBUTSTEP!$AT$4:$AU$33,2,FALSE)","v":1},"Quelques avertissements",{"$f":"VLOOKUP(AW15,DEBUTSTEP!$AT$4:$AU$33,2,FALSE)","v":1},"Quelques avertissements",{"$f":"VLOOKUP(AY15,DEBUTSTEP!$AT$4:$AU$33,2,FALSE)","v":1},"Quelques avertissements",{"$f":"VLOOKUP(BA15,DEBUTSTEP!$AT$4:$AU$33,2,FALSE)","v":1},"Quelques avertissements",{"$f":"VLOOKUP(BC15,DEBUTSTEP!$AT$4:$AU$33,2,FALSE)","v":1},"Quelques avertissements",{"$f":"VLOOKUP(BE15,DEBUTSTEP!$AT$4:$AU$33,2,FALSE)","v":1},"Quelques avertissements",{"$f":"VLOOKUP(BG15,DEBUTSTEP!$AT$4:$AU$33,2,FALSE)","v":1},"Quelques avertissements",{"$f":"VLOOKUP(BI15,DEBUTSTEP!$AT$4:$AU$33,2,FALSE)","v":1},"Quelques avertissements",{"$f":"VLOOKUP(BK15,DEBUTSTEP!$AT$4:$AU$33,2,FALSE)","v":1},"Quelques avertissements",{"$f":"VLOOKUP(BM15,DEBUTSTEP!$AT$4:$AU$33,2,FALSE)","v":1},"Quelques avertissements",{"$f":"VLOOKUP(BO15,DEBUTSTEP!$AT$4:$AU$33,2,FALSE)","v":1},"Quelques avertissements",{"$f":"VLOOKUP(BQ15,DEBUTSTEP!$AT$4:$AU$33,2,FALSE)","v":1},"Quelques avertissements",{"$f":"VLOOKUP(BS15,DEBUTSTEP!$AT$4:$AU$33,2,FALSE)","v":1}]
[null,{"$f":"DEBUTSTEP!$AV$4","v":"Respect de l'entrainement proposé"},"Aléatoire",{"$f":"VLOOKUP(C16,DEBUTSTEP!$AV$4:$AW$33,2,FALSE)","v":1},"Aléatoire",{"$f":"VLOOKUP(E16,DEBUTSTEP!$AV$4:$AW$33,2,FALSE)","v":1},"Aléatoire",{"$f":"VLOOKUP(G16,DEBUTSTEP!$AV$4:$AW$33,2,FALSE)","v":1},"Aléatoire",{"$f":"VLOOKUP(I16,DEBUTSTEP!$AV$4:$AW$33,2,FALSE)","v":1},"Aléatoire",{"$f":"VLOOKUP(K16,DEBUTSTEP!$AV$4:$AW$33,2,FALSE)","v":1},"Aléatoire",{"$f":"VLOOKUP(M16,DEBUTSTEP!$AV$4:$AW$33,2,FALSE)","v":1},"Aléatoire",{"$f":"VLOOKUP(O16,DEBUTSTEP!$AV$4:$AW$33,2,FALSE)","v":1},"Aléatoire",{"$f":"VLOOKUP(Q16,DEBUTSTEP!$AV$4:$AW$33,2,FALSE)","v":1},"Aléatoire",{"$f":"VLOOKUP(S16,DEBUTSTEP!$AV$4:$AW$33,2,FALSE)","v":1},"Aléatoire",{"$f":"VLOOKUP(U16,DEBUTSTEP!$AV$4:$AW$33,2,FALSE)","v":1},"Aléatoire",{"$f":"VLOOKUP(W16,DEBUTSTEP!$AV$4:$AW$33,2,FALSE)","v":1},"Aléatoire",{"$f":"VLOOKUP(Y16,DEBUTSTEP!$AV$4:$AW$33,2,FALSE)","v":1},"Aléatoire",{"$f":"VLOOKUP(AA16,DEBUTSTEP!$AV$4:$AW$33,2,FALSE)","v":1},"Aléatoire",{"$f":"VLOOKUP(AC16,DEBUTSTEP!$AV$4:$AW$33,2,FALSE)","v":1},"Aléatoire",{"$f":"VLOOKUP(AE16,DEBUTSTEP!$AV$4:$AW$33,2,FALSE)","v":1},"Aléatoire",{"$f":"VLOOKUP(AG16,DEBUTSTEP!$AV$4:$AW$33,2,FALSE)","v":1},"Aléatoire",{"$f":"VLOOKUP(AI16,DEBUTSTEP!$AV$4:$AW$33,2,FALSE)","v":1},"Aléatoire",{"$f":"VLOOKUP(AK16,DEBUTSTEP!$AV$4:$AW$33,2,FALSE)","v":1},"Aléatoire",{"$f":"VLOOKUP(AM16,DEBUTSTEP!$AV$4:$AW$33,2,FALSE)","v":1},"Aléatoire",{"$f":"VLOOKUP(AO16,DEBUTSTEP!$AV$4:$AW$33,2,FALSE)","v":1},"Aléatoire",{"$f":"VLOOKUP(AQ16,DEBUTSTEP!$AV$4:$AW$33,2,FALSE)","v":1},"Aléatoire",{"$f":"VLOOKUP(AS16,DEBUTSTEP!$AV$4:$AW$33,2,FALSE)","v":1},"Aléatoire",{"$f":"VLOOKUP(AU16,DEBUTSTEP!$AV$4:$AW$33,2,FALSE)","v":1},"Aléatoire",{"$f":"VLOOKUP(AW16,DEBUTSTEP!$AV$4:$AW$33,2,FALSE)","v":1},"Aléatoire",{"$f":"VLOOKUP(AY16,DEBUTSTEP!$AV$4:$AW$33,2,FALSE)","v":1},"Aléatoire",{"$f":"VLOOKUP(BA16,DEBUTSTEP!$AV$4:$AW$33,2,FALSE)","v":1},"Aléatoire",{"$f":"VLOOKUP(BC16,DEBUTSTEP!$AV$4:$AW$33,2,FALSE)","v":1},"Aléatoire",{"$f":"VLOOKUP(BE16,DEBUTSTEP!$AV$4:$AW$33,2,FALSE)","v":1},"Aléatoire",{"$f":"VLOOKUP(BG16,DEBUTSTEP!$AV$4:$AW$33,2,FALSE)","v":1},"Aléatoire",{"$f":"VLOOKUP(BI16,DEBUTSTEP!$AV$4:$AW$33,2,FALSE)","v":1},"Aléatoire",{"$f":"VLOOKUP(BK16,DEBUTSTEP!$AV$4:$AW$33,2,FALSE)","v":1},"Aléatoire",{"$f":"VLOOKUP(BM16,DEBUTSTEP!$AV$4:$AW$33,2,FALSE)","v":1},"Aléatoire",{"$f":"VLOOKUP(BO16,DEBUTSTEP!$AV$4:$AW$33,2,FALSE)","v":1},"Aléatoire",{"$f":"VLOOKUP(BQ16,DEBUTSTEP!$AV$4:$AW$33,2,FALSE)","v":1},"Aléatoire",{"$f":"VLOOKUP(BS16,DEBUTSTEP!$AV$4:$AW$33,2,FALSE)","v":1}]
[null,{"$f":"DEBUTSTEP!$AX$4","v":"Mémorisation des blocs"},"Beaucoup d'erreurs",{"$f":"VLOOKUP(C17,DEBUTSTEP!$AX$4:$AY$33,2,FALSE)","v":1},"Beaucoup d'erreurs",{"$f":"VLOOKUP(E17,DEBUTSTEP!$AX$4:$AY$33,2,FALSE)","v":1},"Beaucoup d'erreurs",{"$f":"VLOOKUP(G17,DEBUTSTEP!$AX$4:$AY$33,2,FALSE)","v":1},"Beaucoup d'erreurs",{"$f":"VLOOKUP(I17,DEBUTSTEP!$AX$4:$AY$33,2,FALSE)","v":1},"Beaucoup d'erreurs",{"$f":"VLOOKUP(K17,DEBUTSTEP!$AX$4:$AY$33,2,FALSE)","v":1},"Beaucoup d'erreurs",{"$f":"VLOOKUP(M17,DEBUTSTEP!$AX$4:$AY$33,2,FALSE)","v":1},"Beaucoup d'erreurs",{"$f":"VLOOKUP(O17,DEBUTSTEP!$AX$4:$AY$33,2,FALSE)","v":1},"Beaucoup d'erreurs",{"$f":"VLOOKUP(Q17,DEBUTSTEP!$AX$4:$AY$33,2,FALSE)","v":1},"Beaucoup d'erreurs",{"$f":"VLOOKUP(S17,DEBUTSTEP!$AX$4:$AY$33,2,FALSE)","v":1},"Beaucoup d'erreurs",{"$f":"VLOOKUP(U17,DEBUTSTEP!$AX$4:$AY$33,2,FALSE)","v":1},"Beaucoup d'erreurs",{"$f":"VLOOKUP(W17,DEBUTSTEP!$AX$4:$AY$33,2,FALSE)","v":1},"Beaucoup d'erreurs",{"$f":"VLOOKUP(Y17,DEBUTSTEP!$AX$4:$AY$33,2,FALSE)","v":1},"Beaucoup d'erreurs",{"$f":"VLOOKUP(AA17,DEBUTSTEP!$AX$4:$AY$33,2,FALSE)","v":1},"Beaucoup d'erreurs",{"$f":"VLOOKUP(AC17,DEBUTSTEP!$AX$4:$AY$33,2,FALSE)","v":1},"Beaucoup d'erreurs",{"$f":"VLOOKUP(AE17,DEBUTSTEP!$AX$4:$AY$33,2,FALSE)","v":1},"Beaucoup d'erreurs",{"$f":"VLOOKUP(AG17,DEBUTSTEP!$AX$4:$AY$33,2,FALSE)","v":1},"Beaucoup d'erreurs",{"$f":"VLOOKUP(AI17,DEBUTSTEP!$AX$4:$AY$33,2,FALSE)","v":1},"Beaucoup d'erreurs",{"$f":"VLOOKUP(AK17,DEBUTSTEP!$AX$4:$AY$33,2,FALSE)","v":1},"Beaucoup d'erreurs",{"$f":"VLOOKUP(AM17,DEBUTSTEP!$AX$4:$AY$33,2,FALSE)","v":1},"Beaucoup d'erreurs",{"$f":"VLOOKUP(AO17,DEBUTSTEP!$AX$4:$AY$33,2,FALSE)","v":1},"Beaucoup d'erreurs",{"$f":"VLOOKUP(AQ17,DEBUTSTEP!$AX$4:$AY$33,2,FALSE)","v":1},"Beaucoup d'erreurs",{"$f":"VLOOKUP(AS17,DEBUTSTEP!$AX$4:$AY$33,2,FALSE)","v":1},"Beaucoup d'erreurs",{"$f":"VLOOKUP(AU17,DEBUTSTEP!$AX$4:$AY$33,2,FALSE)","v":1},"Beaucoup d'erreurs",{"$f":"VLOOKUP(AW17,DEBUTSTEP!$AX$4:$AY$33,2,FALSE)","v":1},"Beaucoup d'erreurs",{"$f":"VLOOKUP(AY17,DEBUTSTEP!$AX$4:$AY$33,2,FALSE)","v":1},"Beaucoup d'erreurs",{"$f":"VLOOKUP(BA17,DEBUTSTEP!$AX$4:$AY$33,2,FALSE)","v":1},"Beaucoup d'erreurs",{"$f":"VLOOKUP(BC17,DEBUTSTEP!$AX$4:$AY$33,2,FALSE)","v":1},"Beaucoup d'erreurs",{"$f":"VLOOKUP(BE17,DEBUTSTEP!$AX$4:$AY$33,2,FALSE)","v":1},"Beaucoup d'erreurs",{"$f":"VLOOKUP(BG17,DEBUTSTEP!$AX$4:$AY$33,2,FALSE)","v":1},"Beaucoup d'erreurs",{"$f":"VLOOKUP(BI17,DEBUTSTEP!$AX$4:$AY$33,2,FALSE)","v":1},"Beaucoup d'erreurs",{"$f":"VLOOKUP(BK17,DEBUTSTEP!$AX$4:$AY$33,2,FALSE)","v":1},"Beaucoup d'erreurs",{"$f":"VLOOKUP(BM17,DEBUTSTEP!$AX$4:$AY$33,2,FALSE)","v":1},"Beaucoup d'erreurs",{"$f":"VLOOKUP(BO17,DEBUTSTEP!$AX$4:$AY$33,2,FALSE)","v":1},"Beaucoup d'erreurs",{"$f":"VLOOKUP(BQ17,DEBUTSTEP!$AX$4:$AY$33,2,FALSE)","v":1},"Beaucoup d'erreurs",{"$f":"VLOOKUP(BS17,DEBUTSTEP!$AX$4:$AY$33,2,FALSE)","v":1}]
[null,{"$f":"DEBUTSTEP!$AZ$4","v":"Analyse de sa prestation"},"Pertinente",{"$f":"VLOOKUP(C18,DEBUTSTEP!$AZ$4:$BA$33,2,FALSE)","v":3},"Pertinente",{"$f":"VLOOKUP(E18,DEBUTSTEP!$AZ$4:$BA$33,2,FALSE)","v":3},"Pertinente",{"$f":"VLOOKUP(G18,DEBUTSTEP!$AZ$4:$BA$33,2,FALSE)","v":3},"Pertinente",{"$f":"VLOOKUP(I18,DEBUTSTEP!$AZ$4:$BA$33,2,FALSE)","v":3},"Pertinente",{"$f":"VLOOKUP(K18,DEBUTSTEP!$AZ$4:$BA$33,2,FALSE)","v":3},"Pertinente",{"$f":"VLOOKUP(M18,DEBUTSTEP!$AZ$4:$BA$33,2,FALSE)","v":3},"Pertinente",{"$f":"VLOOKUP(O18,DEBUTSTEP!$AZ$4:$BA$33,2,FALSE)","v":3},"Pertinente",{"$f":"VLOOKUP(Q18,DEBUTSTEP!$AZ$4:$BA$33,2,FALSE)","v":3},"Pertinente",{"$f":"VLOOKUP(S18,DEBUTSTEP!$AZ$4:$BA$33,2,FALSE)","v":3},"Pertinente",{"$f":"VLOOKUP(U18,DEBUTSTEP!$AZ$4:$BA$33,2,FALSE)","v":3},"Pertinente",{"$f":"VLOOKUP(W18,DEBUTSTEP!$AZ$4:$BA$33,2,FALSE)","v":3},"Pertinente",{"$f":"VLOOKUP(Y18,DEBUTSTEP!$AZ$4:$BA$33,2,FALSE)","v":3},"Pertinente",{"$f":"VLOOKUP(AA18,DEBUTSTEP!$AZ$4:$BA$33,2,FALSE)","v":3},"Pertinente",{"$f":"VLOOKUP(AC18,DEBUTSTEP!$AZ$4:$BA$33,2,FALSE)","v":3},"Pertinente",{"$f":"VLOOKUP(AE18,DEBUTSTEP!$AZ$4:$BA$33,2,FALSE)","v":3},"Pertinente",{"$f":"VLOOKUP(AG18,DEBUTSTEP!$AZ$4:$BA$33,2,FALSE)","v":3},"Pertinente",{"$f":"VLOOKUP(AI18,DEBUTSTEP!$AZ$4:$BA$33,2,FALSE)","v":3},"Pertinente",{"$f":"VLOOKUP(AK18,DEBUTSTEP!$AZ$4:$BA$33,2,FALSE)","v":3},"Pertinente",{"$f":"VLOOKUP(AM18,DEBUTSTEP!$AZ$4:$BA$33,2,FALSE)","v":3},"Pertinente",{"$f":"VLOOKUP(AO18,DEBUTSTEP!$AZ$4:$BA$33,2,FALSE)","v":3},"Pertinente",{"$f":"VLOOKUP(AQ18,DEBUTSTEP!$AZ$4:$BA$33,2,FALSE)","v":3},"Pertinente",{"$f":"VLOOKUP(AS18,DEBUTSTEP!$AZ$4:$BA$33,2,FALSE)","v":3},"Pertinente",{"$f":"VLOOKUP(AU18,DEBUTSTEP!$AZ$4:$BA$33,2,FALSE)","v":3},"Pertinente",{"$f":"VLOOKUP(AW18,DEBUTSTEP!$AZ$4:$BA$33,2,FALSE)","v":3},"Pertinente",{"$f":"VLOOKUP(AY18,DEBUTSTEP!$AZ$4:$BA$33,2,FALSE)","v":3},"Pertinente",{"$f":"VLOOKUP(BA18,DEBUTSTEP!$AZ$4:$BA$33,2,FALSE)","v":3},"Pertinente",{"$f":"VLOOKUP(BC18,DEBUTSTEP!$AZ$4:$BA$33,2,FALSE)","v":3},"Pertinente",{"$f":"VLOOKUP(BE18,DEBUTSTEP!$AZ$4:$BA$33,2,FALSE)","v":3},"Pertinente",{"$f":"VLOOKUP(BG18,DEBUTSTEP!$AZ$4:$BA$33,2,FALSE)","v":3},"Pertinente",{"$f":"VLOOKUP(BI18,DEBUTSTEP!$AZ$4:$BA$33,2,FALSE)","v":3},"Pertinente",{"$f":"VLOOKUP(BK18,DEBUTSTEP!$AZ$4:$BA$33,2,FALSE)","v":3},"Pertinente",{"$f":"VLOOKUP(BM18,DEBUTSTEP!$AZ$4:$BA$33,2,FALSE)","v":3},"Pertinente",{"$f":"VLOOKUP(BO18,DEBUTSTEP!$AZ$4:$BA$33,2,FALSE)","v":3},"Pertinente",{"$f":"VLOOKUP(BQ18,DEBUTSTEP!$AZ$4:$BA$33,2,FALSE)","v":3},"Pertinente",{"$f":"VLOOKUP(BS18,DEBUTSTEP!$AZ$4:$BA$33,2,FALSE)","v":3}]
[null,"NOTE",{"$f":"IF(OR(D13=\"x\",D14=\"x\",D15=\"x\",D16=\"x\",D17=\"x\",D18=\"x\"),\"ABSENT\",SUMIF(D13,\"<>X\")+SUMIF(D14,\"<>X\")+SUMIF(D15,\"<>X\")+SUMIF(D16,\"<>X\")+SUMIF(D17,\"<>X\")+SUMIF(D18,\"<>X\"))","v":7},null,{"$f":"IF(OR(F13=\"x\",F14=\"x\",F15=\"x\",F16=\"x\",F17=\"x\",F18=\"x\"),\"ABSENT\",SUMIF(F13,\"<>X\")+SUMIF(F14,\"<>X\")+SUMIF(F15,\"<>X\")+SUMIF(F16,\"<>X\")+SUMIF(F17,\"<>X\")+SUMIF(F18,\"<>X\"))","v":7},null,{"$f":"IF(OR(H13=\"x\",H14=\"x\",H15=\"x\",H16=\"x\",H17=\"x\",H18=\"x\"),\"ABSENT\",SUMIF(H13,\"<>X\")+SUMIF(H14,\"<>X\")+SUMIF(H15,\"<>X\")+SUMIF(H16,\"<>X\")+SUMIF(H17,\"<>X\")+SUMIF(H18,\"<>X\"))","v":7},null,{"$f":"IF(OR(J13=\"x\",J14=\"x\",J15=\"x\",J16=\"x\",J17=\"x\",J18=\"x\"),\"ABSENT\",SUMIF(J13,\"<>X\")+SUMIF(J14,\"<>X\")+SUMIF(J15,\"<>X\")+SUMIF(J16,\"<>X\")+SUMIF(J17,\"<>X\")+SUMIF(J18,\"<>X\"))","v":7},null,{"$f":"IF(OR(L13=\"x\",L14=\"x\",L15=\"x\",L16=\"x\",L17=\"x\",L18=\"x\"),\"ABSENT\",SUMIF(L13,\"<>X\")+SUMIF(L14,\"<>X\")+SUMIF(L15,\"<>X\")+SUMIF(L16,\"<>X\")+SUMIF(L17,\"<>X\")+SUMIF(L18,\"<>X\"))","v":7},null,{"$f":"IF(OR(N13=\"x\",N14=\"x\",N15=\"x\",N16=\"x\",N17=\"x\",N18=\"x\"),\"ABSENT\",SUMIF(N13,\"<>X\")+SUMIF(N14,\"<>X\")+SUMIF(N15,\"<>X\")+SUMIF(N16,\"<>X\")+SUMIF(N17,\"<>X\")+SUMIF(N18,\"<>X\"))","v":7},null,{"$f":"IF(OR(P13=\"x\",P14=\"x\",P15=\"x\",P16=\"x\",P17=\"x\",P18=\"x\"),\"ABSENT\",SUMIF(P13,\"<>X\")+SUMIF(P14,\"<>X\")+SUMIF(P15,\"<>X\")+SUMIF(P16,\"<>X\")+SUMIF(P17,\"<>X\")+SUMIF(P18,\"<>X\"))","v":7},null,{"$f":"IF(OR(R13=\"x\",R14=\"x\",R15=\"x\",R16=\"x\",R17=\"x\",R18=\"x\"),\"ABSENT\",SUMIF(R13,\"<>X\")+SUMIF(R14,\"<>X\")+SUMIF(R15,\"<>X\")+SUMIF(R16,\"<>X\")+SUMIF(R17,\"<>X\")+SUMIF(R18,\"<>X\"))","v":7},null,{"$f":"IF(OR(T13=\"x\",T14=\"x\",T15=\"x\",T16=\"x\",T17=\"x\",T18=\"x\"),\"ABSENT\",SUMIF(T13,\"<>X\")+SUMIF(T14,\"<>X\")+SUMIF(T15,\"<>X\")+SUMIF(T16,\"<>X\")+SUMIF(T17,\"<>X\")+SUMIF(T18,\"<>X\"))","v":7},null,{"$f":"IF(OR(V13=\"x\",V14=\"x\",V15=\"x\",V16=\"x\",V17=\"x\",V18=\"x\"),\"ABSENT\",SUMIF(V13,\"<>X\")+SUMIF(V14,\"<>X\")+SUMIF(V15,\"<>X\")+SUMIF(V16,\"<>X\")+SUMIF(V17,\"<>X\")+SUMIF(V18,\"<>X\"))","v":7},null,{"$f":"IF(OR(X13=\"x\",X14=\"x\",X15=\"x\",X16=\"x\",X17=\"x\",X18=\"x\"),\"ABSENT\",SUMIF(X13,\"<>X\")+SUMIF(X14,\"<>X\")+SUMIF(X15,\"<>X\")+SUMIF(X16,\"<>X\")+SUMIF(X17,\"<>X\")+SUMIF(X18,\"<>X\"))","v":7},null,{"$f":"IF(OR(Z13=\"x\",Z14=\"x\",Z15=\"x\",Z16=\"x\",Z17=\"x\",Z18=\"x\"),\"ABSENT\",SUMIF(Z13,\"<>X\")+SUMIF(Z14,\"<>X\")+SUMIF(Z15,\"<>X\")+SUMIF(Z16,\"<>X\")+SUMIF(Z17,\"<>X\")+SUMIF(Z18,\"<>X\"))","v":7},null,{"$f":"IF(OR(AB13=\"x\",AB14=\"x\",AB15=\"x\",AB16=\"x\",AB17=\"x\",AB18=\"x\"),\"ABSENT\",SUMIF(AB13,\"<>X\")+SUMIF(AB14,\"<>X\")+SUMIF(AB15,\"<>X\")+SUMIF(AB16,\"<>X\")+SUMIF(AB17,\"<>X\")+SUMIF(AB18,\"<>X\"))","v":7},null,{"$f":"IF(OR(AD13=\"x\",AD14=\"x\",AD15=\"x\",AD16=\"x\",AD17=\"x\",AD18=\"x\"),\"ABSENT\",SUMIF(AD13,\"<>X\")+SUMIF(AD14,\"<>X\")+SUMIF(AD15,\"<>X\")+SUMIF(AD16,\"<>X\")+SUMIF(AD17,\"<>X\")+SUMIF(AD18,\"<>X\"))","v":7},null,{"$f":"IF(OR(AF13=\"x\",AF14=\"x\",AF15=\"x\",AF16=\"x\",AF17=\"x\",AF18=\"x\"),\"ABSENT\",SUMIF(AF13,\"<>X\")+SUMIF(AF14,\"<>X\")+SUMIF(AF15,\"<>X\")+SUMIF(AF16,\"<>X\")+SUMIF(AF17,\"<>X\")+SUMIF(AF18,\"<>X\"))","v":7},null,{"$f":"IF(OR(AH13=\"x\",AH14=\"x\",AH15=\"x\",AH16=\"x\",AH17=\"x\",AH18=\"x\"),\"ABSENT\",SUMIF(AH13,\"<>X\")+SUMIF(AH14,\"<>X\")+SUMIF(AH15,\"<>X\")+SUMIF(AH16,\"<>X\")+SUMIF(AH17,\"<>X\")+SUMIF(AH18,\"<>X\"))","v":7},null,{"$f":"IF(OR(AJ13=\"x\",AJ14=\"x\",AJ15=\"x\",AJ16=\"x\",AJ17=\"x\",AJ18=\"x\"),\"ABSENT\",SUMIF(AJ13,\"<>X\")+SUMIF(AJ14,\"<>X\")+SUMIF(AJ15,\"<>X\")+SUMIF(AJ16,\"<>X\")+SUMIF(AJ17,\"<>X\")+SUMIF(AJ18,\"<>X\"))","v":7},null,{"$f":"IF(OR(AL13=\"x\",AL14=\"x\",AL15=\"x\",AL16=\"x\",AL17=\"x\",AL18=\"x\"),\"ABSENT\",SUMIF(AL13,\"<>X\")+SUMIF(AL14,\"<>X\")+SUMIF(AL15,\"<>X\")+SUMIF(AL16,\"<>X\")+SUMIF(AL17,\"<>X\")+SUMIF(AL18,\"<>X\"))","v":7},null,{"$f":"IF(OR(AN13=\"x\",AN14=\"x\",AN15=\"x\",AN16=\"x\",AN17=\"x\",AN18=\"x\"),\"ABSENT\",SUMIF(AN13,\"<>X\")+SUMIF(AN14,\"<>X\")+SUMIF(AN15,\"<>X\")+SUMIF(AN16,\"<>X\")+SUMIF(AN17,\"<>X\")+SUMIF(AN18,\"<>X\"))","v":7},null,{"$f":"IF(OR(AP13=\"x\",AP14=\"x\",AP15=\"x\",AP16=\"x\",AP17=\"x\",AP18=\"x\"),\"ABSENT\",SUMIF(AP13,\"<>X\")+SUMIF(AP14,\"<>X\")+SUMIF(AP15,\"<>X\")+SUMIF(AP16,\"<>X\")+SUMIF(AP17,\"<>X\")+SUMIF(AP18,\"<>X\"))","v":7},null,{"$f":"IF(OR(AR13=\"x\",AR14=\"x\",AR15=\"x\",AR16=\"x\",AR17=\"x\",AR18=\"x\"),\"ABSENT\",SUMIF(AR13,\"<>X\")+SUMIF(AR14,\"<>X\")+SUMIF(AR15,\"<>X\")+SUMIF(AR16,\"<>X\")+SUMIF(AR17,\"<>X\")+SUMIF(AR18,\"<>X\"))","v":7},null,{"$f":"IF(OR(AT13=\"x\",AT14=\"x\",AT15=\"x\",AT16=\"x\",AT17=\"x\",AT18=\"x\"),\"ABSENT\",SUMIF(AT13,\"<>X\")+SUMIF(AT14,\"<>X\")+SUMIF(AT15,\"<>X\")+SUMIF(AT16,\"<>X\")+SUMIF(AT17,\"<>X\")+SUMIF(AT18,\"<>X\"))","v":7},null,{"$f":"IF(OR(AV13=\"x\",AV14=\"x\",AV15=\"x\",AV16=\"x\",AV17=\"x\",AV18=\"x\"),\"ABSENT\",SUMIF(AV13,\"<>X\")+SUMIF(AV14,\"<>X\")+SUMIF(AV15,\"<>X\")+SUMIF(AV16,\"<>X\")+SUMIF(AV17,\"<>X\")+SUMIF(AV18,\"<>X\"))","v":7},null,{"$f":"IF(OR(AX13=\"x\",AX14=\"x\",AX15=\"x\",AX16=\"x\",AX17=\"x\",AX18=\"x\"),\"ABSENT\",SUMIF(AX13,\"<>X\")+SUMIF(AX14,\"<>X\")+SUMIF(AX15,\"<>X\")+SUMIF(AX16,\"<>X\")+SUMIF(AX17,\"<>X\")+SUMIF(AX18,\"<>X\"))","v":7},null,{"$f":"IF(OR(AZ13=\"x\",AZ14=\"x\",AZ15=\"x\",AZ16=\"x\",AZ17=\"x\",AZ18=\"x\"),\"ABSENT\",SUMIF(AZ13,\"<>X\")+SUMIF(AZ14,\"<>X\")+SUMIF(AZ15,\"<>X\")+SUMIF(AZ16,\"<>X\")+SUMIF(AZ17,\"<>X\")+SUMIF(AZ18,\"<>X\"))","v":7},null,{"$f":"IF(OR(BB13=\"x\",BB14=\"x\",BB15=\"x\",BB16=\"x\",BB17=\"x\",BB18=\"x\"),\"ABSENT\",SUMIF(BB13,\"<>X\")+SUMIF(BB14,\"<>X\")+SUMIF(BB15,\"<>X\")+SUMIF(BB16,\"<>X\")+SUMIF(BB17,\"<>X\")+SUMIF(BB18,\"<>X\"))","v":7},null,{"$f":"IF(OR(BD13=\"x\",BD14=\"x\",BD15=\"x\",BD16=\"x\",BD17=\"x\",BD18=\"x\"),\"ABSENT\",SUMIF(BD13,\"<>X\")+SUMIF(BD14,\"<>X\")+SUMIF(BD15,\"<>X\")+SUMIF(BD16,\"<>X\")+SUMIF(BD17,\"<>X\")+SUMIF(BD18,\"<>X\"))","v":7},null,{"$f":"IF(OR(BF13=\"x\",BF14=\"x\",BF15=\"x\",BF16=\"x\",BF17=\"x\",BF18=\"x\"),\"ABSENT\",SUMIF(BF13,\"<>X\")+SUMIF(BF14,\"<>X\")+SUMIF(BF15,\"<>X\")+SUMIF(BF16,\"<>X\")+SUMIF(BF17,\"<>X\")+SUMIF(BF18,\"<>X\"))","v":7},null,{"$f":"IF(OR(BH13=\"x\",BH14=\"x\",BH15=\"x\",BH16=\"x\",BH17=\"x\",BH18=\"x\"),\"ABSENT\",SUMIF(BH13,\"<>X\")+SUMIF(BH14,\"<>X\")+SUMIF(BH15,\"<>X\")+SUMIF(BH16,\"<>X\")+SUMIF(BH17,\"<>X\")+SUMIF(BH18,\"<>X\"))","v":7},null,{"$f":"IF(OR(BJ13=\"x\",BJ14=\"x\",BJ15=\"x\",BJ16=\"x\",BJ17=\"x\",BJ18=\"x\"),\"ABSENT\",SUMIF(BJ13,\"<>X\")+SUMIF(BJ14,\"<>X\")+SUMIF(BJ15,\"<>X\")+SUMIF(BJ16,\"<>X\")+SUMIF(BJ17,\"<>X\")+SUMIF(BJ18,\"<>X\"))","v":7},null,{"$f":"IF(OR(BL13=\"x\",BL14=\"x\",BL15=\"x\",BL16=\"x\",BL17=\"x\",BL18=\"x\"),\"ABSENT\",SUMIF(BL13,\"<>X\")+SUMIF(BL14,\"<>X\")+SUMIF(BL15,\"<>X\")+SUMIF(BL16,\"<>X\")+SUMIF(BL17,\"<>X\")+SUMIF(BL18,\"<>X\"))","v":7},null,{"$f":"IF(OR(BN13=\"x\",BN14=\"x\",BN15=\"x\",BN16=\"x\",BN17=\"x\",BN18=\"x\"),\"ABSENT\",SUMIF(BN13,\"<>X\")+SUMIF(BN14,\"<>X\")+SUMIF(BN15,\"<>X\")+SUMIF(BN16,\"<>X\")+SUMIF(BN17,\"<>X\")+SUMIF(BN18,\"<>X\"))","v":7},null,{"$f":"IF(OR(BP13=\"x\",BP14=\"x\",BP15=\"x\",BP16=\"x\",BP17=\"x\",BP18=\"x\"),\"ABSENT\",SUMIF(BP13,\"<>X\")+SUMIF(BP14,\"<>X\")+SUMIF(BP15,\"<>X\")+SUMIF(BP16,\"<>X\")+SUMIF(BP17,\"<>X\")+SUMIF(BP18,\"<>X\"))","v":7},null,{"$f":"IF(OR(BR13=\"x\",BR14=\"x\",BR15=\"x\",BR16=\"x\",BR17=\"x\",BR18=\"x\"),\"ABSENT\",SUMIF(BR13,\"<>X\")+SUMIF(BR14,\"<>X\")+SUMIF(BR15,\"<>X\")+SUMIF(BR16,\"<>X\")+SUMIF(BR17,\"<>X\")+SUMIF(BR18,\"<>X\"))","v":7},null,{"$f":"IF(OR(BT13=\"x\",BT14=\"x\",BT15=\"x\",BT16=\"x\",BT17=\"x\",BT18=\"x\"),\"ABSENT\",SUMIF(BT13,\"<>X\")+SUMIF(BT14,\"<>X\")+SUMIF(BT15,\"<>X\")+SUMIF(BT16,\"<>X\")+SUMIF(BT17,\"<>X\")+SUMIF(BT18,\"<>X\"))","v":7}]
[]
["SEANCE 3",{"$f":"DEBUTSTEP!$AP$4","v":"Prendre sa FC efficacement"},"Jamais",{"$f":"VLOOKUP(C21,DEBUTSTEP!$AP$4:$AQ$33,2,FALSE)","v":"NA"},"Jamais",{"$f":"VLOOKUP(E21,DEBUTSTEP!$AP$4:$AQ$33,2,FALSE)","v":"NA"},"Jamais",{"$f":"VLOOKUP(G21,DEBUTSTEP!$AP$4:$AQ$33,2,FALSE)","v":"NA"},"Jamais",{"$f":"VLOOKUP(I21,DEBUTSTEP!$AP$4:$AQ$33,2,FALSE)","v":"NA"},"Jamais",{"$f":"VLOOKUP(K21,DEBUTSTEP!$AP$4:$AQ$33,2,FALSE)","v":"NA"},"Jamais",{"$f":"VLOOKUP(M21,DEBUTSTEP!$AP$4:$AQ$33,2,FALSE)","v":"NA"},"Jamais",{"$f":"VLOOKUP(O21,DEBUTSTEP!$AP$4:$AQ$33,2,FALSE)","v":"NA"},"Jamais",{"$f":"VLOOKUP(Q21,DEBUTSTEP!$AP$4:$AQ$33,2,FALSE)","v":"NA"},"Jamais",{"$f":"VLOOKUP(S21,DEBUTSTEP!$AP$4:$AQ$33,2,FALSE)","v":"NA"},"Jamais",{"$f":"VLOOKUP(U21,DEBUTSTEP!$AP$4:$AQ$33,2,FALSE)","v":"NA"},"Jamais",{"$f":"VLOOKUP(W21,DEBUTSTEP!$AP$4:$AQ$33,2,FALSE)","v":"NA"},"Jamais",{"$f":"VLOOKUP(Y21,DEBUTSTEP!$AP$4:$AQ$33,2,FALSE)","v":"NA"},"Jamais",{"$f":"VLOOKUP(AA21,DEBUTSTEP!$AP$4:$AQ$33,2,FALSE)","v":"NA"},"Jamais",{"$f":"VLOOKUP(AC21,DEBUTSTEP!$AP$4:$AQ$33,2,FALSE)","v":"NA"},"Jamais",{"$f":"VLOOKUP(AE21,DEBUTSTEP!$AP$4:$AQ$33,2,FALSE)","v":"NA"},"Jamais",{"$f":"VLOOKUP(AG21,DEBUTSTEP!$AP$4:$AQ$33,2,FALSE)","v":"NA"},"Jamais",{"$f":"VLOOKUP(AI21,DEBUTSTEP!$AP$4:$AQ$33,2,FALSE)","v":"NA"},"Jamais",{"$f":"VLOOKUP(AK21,DEBUTSTEP!$AP$4:$AQ$33,2,FALSE)","v":"NA"},"Jamais",{"$f":"VLOOKUP(AM21,DEBUTSTEP!$AP$4:$AQ$33,2,FALSE)","v":"NA"},"Jamais",{"$f":"VLOOKUP(AO21,DEBUTSTEP!$AP$4:$AQ$33,2,FALSE)","v":"NA"},"Jamais",{"$f":"VLOOKUP(AQ21,DEBUTSTEP!$AP$4:$AQ$33,2,FALSE)","v":"NA"},"Jamais",{"$f":"VLOOKUP(AS21,DEBUTSTEP!$AP$4:$AQ$33,2,FALSE)","v":"NA"},"Jamais",{"$f":"VLOOKUP(AU21,DEBUTSTEP!$AP$4:$AQ$33,2,FALSE)","v":"NA"},"Jamais",{"$f":"VLOOKUP(AW21,DEBUTSTEP!$AP$4:$AQ$33,2,FALSE)","v":"NA"},"Jamais",{"$f":"VLOOKUP(AY21,DEBUTSTEP!$AP$4:$AQ$33,2,FALSE)","v":"NA"},"Jamais",{"$f":"VLOOKUP(BA21,DEBUTSTEP!$AP$4:$AQ$33,2,FALSE)","v":"NA"},"Jamais",{"$f":"VLOOKUP(BC21,DEBUTSTEP!$AP$4:$AQ$33,2,FALSE)","v":"NA"},"Jamais",{"$f":"VLOOKUP(BE21,DEBUTSTEP!$AP$4:$AQ$33,2,FALSE)","v":"NA"},"Jamais",{"$f":"VLOOKUP(BG21,DEBUTSTEP!$AP$4:$AQ$33,2,FALSE)","v":"NA"},"Jamais",{"$f":"VLOOKUP(BI21,DEBUTSTEP!$AP$4:$AQ$33,2,FALSE)","v":"NA"},"Jamais",{"$f":"VLOOKUP(BK21,DEBUTSTEP!$AP$4:$AQ$33,2,FALSE)","v":"NA"},"Jamais",{"$f":"VLOOKUP(BM21,DEBUTSTEP!$AP$4:$AQ$33,2,FALSE)","v":"NA"},"Jamais",{"$f":"VLOOKUP(BO21,DEBUTSTEP!$AP$4:$AQ$33,2,FALSE)","v":"NA"},"Jamais",{"$f":"VLOOKUP(BQ21,DEBUTSTEP!$AP$4:$AQ$33,2,FALSE)","v":"NA"},"Jamais",{"$f":"VLOOKUP(BS21,DEBUTSTEP!$AP$4:$AQ$33,2,FALSE)","v":"NA"}]
[null,{"$f":"DEBUTSTEP!$AR$4","v":"S'engager dans le mobile"},"Faible",{"$f":"VLOOKUP(C22,DEBUTSTEP!$AR$4:$AS$33,2,FALSE)","v":1},"Faible",{"$f":"VLOOKUP(E22,DEBUTSTEP!$AR$4:$AS$33,2,FALSE)","v":1},"Faible",{"$f":"VLOOKUP(G22,DEBUTSTEP!$AR$4:$AS$33,2,FALSE)","v":1},"Faible",{"$f":"VLOOKUP(I22,DEBUTSTEP!$AR$4:$AS$33,2,FALSE)","v":1},"Faible",{"$f":"VLOOKUP(K22,DEBUTSTEP!$AR$4:$AS$33,2,FALSE)","v":1},"Faible",{"$f":"VLOOKUP(M22,DEBUTSTEP!$AR$4:$AS$33,2,FALSE)","v":1},"Faible",{"$f":"VLOOKUP(O22,DEBUTSTEP!$AR$4:$AS$33,2,FALSE)","v":1},"Faible",{"$f":"VLOOKUP(Q22,DEBUTSTEP!$AR$4:$AS$33,2,FALSE)","v":1},"Faible",{"$f":"VLOOKUP(S22,DEBUTSTEP!$AR$4:$AS$33,2,FALSE)","v":1},"Faible",{"$f":"VLOOKUP(U22,DEBUTSTEP!$AR$4:$AS$33,2,FALSE)","v":1},"Faible",{"$f":"VLOOKUP(W22,DEBUTSTEP!$AR$4:$AS$33,2,FALSE)","v":1},"Faible",{"$f":"VLOOKUP(Y22,DEBUTSTEP!$AR$4:$AS$33,2,FALSE)","v":1},"Faible",{"$f":"VLOOKUP(AA22,DEBUTSTEP!$AR$4:$AS$33,2,FALSE)","v":1},"Faible",{"$f":"VLOOKUP(AC22,DEBUTSTEP!$AR$4:$AS$33,2,FALSE)","v":1},"Faible",{"$f":"VLOOKUP(AE22,DEBUTSTEP!$AR$4:$AS$33,2,FALSE)","v":1},"Faible",{"$f":"VLOOKUP(AG22,DEBUTSTEP!$AR$4:$AS$33,2,FALSE)","v":1},"Faible",{"$f":"VLOOKUP(AI22,DEBUTSTEP!$AR$4:$AS$33,2,FALSE)","v":1},"Faible",{"$f":"VLOOKUP(AK22,DEBUTSTEP!$AR$4:$AS$33,2,FALSE)","v":1},"Faible",{"$f":"VLOOKUP(AM22,DEBUTSTEP!$AR$4:$AS$33,2,FALSE)","v":1},"Faible",{"$f":"VLOOKUP(AO22,DEBUTSTEP!$AR$4:$AS$33,2,FALSE)","v":1},"Faible",{"$f":"VLOOKUP(AQ22,DEBUTSTEP!$AR$4:$AS$33,2,FALSE)","v":1},"Faible",{"$f":"VLOOKUP(AS22,DEBUTSTEP!$AR$4:$AS$33,2,FALSE)","v":1},"Faible",{"$f":"VLOOKUP(AU22,DEBUTSTEP!$AR$4:$AS$33,2,FALSE)","v":1},"Faible",{"$f":"VLOOKUP(AW22,DEBUTSTEP!$AR$4:$AS$33,2,FALSE)","v":1},"Faible",{"$f":"VLOOKUP(AY22,DEBUTSTEP!$AR$4:$AS$33,2,FALSE)","v":1},"Faible",{"$f":"VLOOKUP(BA22,DEBUTSTEP!$AR$4:$AS$33,2,FALSE)","v":1},"Faible",{"$f":"VLOOKUP(BC22,DEBUTSTEP!$AR$4:$AS$33,2,FALSE)","v":1},"Faible",{"$f":"VLOOKUP(BE22,DEBUTSTEP!$AR$4:$AS$33,2,FALSE)","v":1},"Faible",{"$f":"VLOOKUP(BG22,DEBUTSTEP!$AR$4:$AS$33,2,FALSE)","v":1},"Faible",{"$f":"VLOOKUP(BI22,DEBUTSTEP!$AR$4:$AS$33,2,FALSE)","v":1},"Faible",{"$f":"VLOOKUP(BK22,DEBUTSTEP!$AR$4:$AS$33,2,FALSE)","v":1},"Faible",{"$f":"VLOOKUP(BM22,DEBUTSTEP!$AR$4:$AS$33,2,FALSE)","v":1},"Faible",{"$f":"VLOOKUP(BO22,DEBUTSTEP!$AR$4:$AS$33,2,FALSE)","v":1},"Faible",{"$f":"VLOOKUP(BQ22,DEBUTSTEP!$AR$4:$AS$33,2,FALSE)","v":1},"Faible",{"$f":"VLOOKUP(BS22,DEBUTSTEP!$AR$4:$AS$33,2,FALSE)","v":1}]
[null,{"$f":"DEBUTSTEP!$AT$4","v":"Agir en sécu"},"Quelques avertissements",{"$f":"VLOOKUP(C23,DEBUTSTEP!$AT$4:$AU$33,2,FALSE)","v":1},"Quelques avertissements",{"$f":"VLOOKUP(E23,DEBUTSTEP!$AT$4:$AU$33,2,FALSE)","v":1},"Quelques avertissements",{"$f":"VLOOKUP(G23,DEBUTSTEP!$AT$4:$AU$33,2,FALSE)","v":1},"Quelques avertissements",{"$f":"VLOOKUP(I23,DEBUTSTEP!$AT$4:$AU$33,2,FALSE)","v":1},"Quelques avertissements",{"$f":"VLOOKUP(K23,DEBUTSTEP!$AT$4:$AU$33,2,FALSE)","v":1},"Quelques avertissements",{"$f":"VLOOKUP(M23,DEBUTSTEP!$AT$4:$AU$33,2,FALSE)","v":1},"Quelques avertissements",{"$f":"VLOOKUP(O23,DEBUTSTEP!$AT$4:$AU$33,2,FALSE)","v":1},"Quelques avertissements",{"$f":"VLOOKUP(Q23,DEBUTSTEP!$AT$4:$AU$33,2,FALSE)","v":1},"Quelques avertissements",{"$f":"VLOOKUP(S23,DEBUTSTEP!$AT$4:$AU$33,2,FALSE)","v":1},"Quelques avertissements",{"$f":"VLOOKUP(U23,DEBUTSTEP!$AT$4:$AU$33,2,FALSE)","v":1},"Quelques avertissements",{"$f":"VLOOKUP(W23,DEBUTSTEP!$AT$4:$AU$33,2,FALSE)","v":1},"Quelques avertissements",{"$f":"VLOOKUP(Y23,DEBUTSTEP!$AT$4:$AU$33,2,FALSE)","v":1},"Quelques avertissements",{"$f":"VLOOKUP(AA23,DEBUTSTEP!$AT$4:$AU$33,2,FALSE)","v":1},"Quelques avertissements",{"$f":"VLOOKUP(AC23,DEBUTSTEP!$AT$4:$AU$33,2,FALSE)","v":1},"Quelques avertissements",{"$f":"VLOOKUP(AE23,DEBUTSTEP!$AT$4:$AU$33,2,FALSE)","v":1},"Quelques avertissements",{"$f":"VLOOKUP(AG23,DEBUTSTEP!$AT$4:$AU$33,2,FALSE)","v":1},"Quelques avertissements",{"$f":"VLOOKUP(AI23,DEBUTSTEP!$AT$4:$AU$33,2,FALSE)","v":1},"Quelques avertissements",{"$f":"VLOOKUP(AK23,DEBUTSTEP!$AT$4:$AU$33,2,FALSE)","v":1},"Quelques avertissements",{"$f":"VLOOKUP(AM23,DEBUTSTEP!$AT$4:$AU$33,2,FALSE)","v":1},"Quelques avertissements",{"$f":"VLOOKUP(AO23,DEBUTSTEP!$AT$4:$AU$33,2,FALSE)","v":1},"Quelques avertissements",{"$f":"VLOOKUP(AQ23,DEBUTSTEP!$AT$4:$AU$33,2,FALSE)","v":1},"Quelques avertissements",{"$f":"VLOOKUP(AS23,DEBUTSTEP!$AT$4:$AU$33,2,FALSE)","v":1},"Quelques avertissements",{"$f":"VLOOKUP(AU23,DEBUTSTEP!$AT$4:$AU$33,2,FALSE)","v":1},"Quelques avertissements",{"$f":"VLOOKUP(AW23,DEBUTSTEP!$AT$4:$AU$33,2,FALSE)","v":1},"Quelques avertissements",{"$f":"VLOOKUP(AY23,DEBUTSTEP!$AT$4:$AU$33,2,FALSE)","v":1},"Quelques avertissements",{"$f":"VLOOKUP(BA23,DEBUTSTEP!$AT$4:$AU$33,2,FALSE)","v":1},"Quelques avertissements",{"$f":"VLOOKUP(BC23,DEBUTSTEP!$AT$4:$AU$33,2,FALSE)","v":1},"Quelques avertissements",{"$f":"VLOOKUP(BE23,DEBUTSTEP!$AT$4:$AU$33,2,FALSE)","v":1},"Quelques avertissements",{"$f":"VLOOKUP(BG23,DEBUTSTEP!$AT$4:$AU$33,2,FALSE)","v":1},"Quelques avertissements",{"$f":"VLOOKUP(BI23,DEBUTSTEP!$AT$4:$AU$33,2,FALSE)","v":1},"Quelques avertissements",{"$f":"VLOOKUP(BK23,DEBUTSTEP!$AT$4:$AU$33,2,FALSE)","v":1},"Quelques avertissements",{"$f":"VLOOKUP(BM23,DEBUTSTEP!$AT$4:$AU$33,2,FALSE)","v":1},"Quelques avertissements",{"$f":"VLOOKUP(BO23,DEBUTSTEP!$AT$4:$AU$33,2,FALSE)","v":1},"Quelques avertissements",{"$f":"VLOOKUP(BQ23,DEBUTSTEP!$AT$4:$AU$33,2,FALSE)","v":1},"Quelques avertissements",{"$f":"VLOOKUP(BS23,DEBUTSTEP!$AT$4:$AU$33,2,FALSE)","v":1}]
[null,{"$f":"DEBUTSTEP!$AV$4","v":"Respect de l'entrainement proposé"},"Aléatoire",{"$f":"VLOOKUP(C24,DEBUTSTEP!$AV$4:$AW$33,2,FALSE)","v":1},"Aléatoire",{"$f":"VLOOKUP(E24,DEBUTSTEP!$AV$4:$AW$33,2,FALSE)","v":1},"Aléatoire",{"$f":"VLOOKUP(G24,DEBUTSTEP!$AV$4:$AW$33,2,FALSE)","v":1},"Aléatoire",{"$f":"VLOOKUP(I24,DEBUTSTEP!$AV$4:$AW$33,2,FALSE)","v":1},"Aléatoire",{"$f":"VLOOKUP(K24,DEBUTSTEP!$AV$4:$AW$33,2,FALSE)","v":1},"Aléatoire",{"$f":"VLOOKUP(M24,DEBUTSTEP!$AV$4:$AW$33,2,FALSE)","v":1},"Aléatoire",{"$f":"VLOOKUP(O24,DEBUTSTEP!$AV$4:$AW$33,2,FALSE)","v":1},"Aléatoire",{"$f":"VLOOKUP(Q24,DEBUTSTEP!$AV$4:$AW$33,2,FALSE)","v":1},"Aléatoire",{"$f":"VLOOKUP(S24,DEBUTSTEP!$AV$4:$AW$33,2,FALSE)","v":1},"Aléatoire",{"$f":"VLOOKUP(U24,DEBUTSTEP!$AV$4:$AW$33,2,FALSE)","v":1},"Aléatoire",{"$f":"VLOOKUP(W24,DEBUTSTEP!$AV$4:$AW$33,2,FALSE)","v":1},"Aléatoire",{"$f":"VLOOKUP(Y24,DEBUTSTEP!$AV$4:$AW$33,2,FALSE)","v":1},"Aléatoire",{"$f":"VLOOKUP(AA24,DEBUTSTEP!$AV$4:$AW$33,2,FALSE)","v":1},"Aléatoire",{"$f":"VLOOKUP(AC24,DEBUTSTEP!$AV$4:$AW$33,2,FALSE)","v":1},"Aléatoire",{"$f":"VLOOKUP(AE24,DEBUTSTEP!$AV$4:$AW$33,2,FALSE)","v":1},"Aléatoire",{"$f":"VLOOKUP(AG24,DEBUTSTEP!$AV$4:$AW$33,2,FALSE)","v":1},"Aléatoire",{"$f":"VLOOKUP(AI24,DEBUTSTEP!$AV$4:$AW$33,2,FALSE)","v":1},"Aléatoire",{"$f":"VLOOKUP(AK24,DEBUTSTEP!$AV$4:$AW$33,2,FALSE)","v":1},"Aléatoire",{"$f":"VLOOKUP(AM24,DEBUTSTEP!$AV$4:$AW$33,2,FALSE)","v":1},"Aléatoire",{"$f":"VLOOKUP(AO24,DEBUTSTEP!$AV$4:$AW$33,2,FALSE)","v":1},"Aléatoire",{"$f":"VLOOKUP(AQ24,DEBUTSTEP!$AV$4:$AW$33,2,FALSE)","v":1},"Aléatoire",{"$f":"VLOOKUP(AS24,DEBUTSTEP!$AV$4:$AW$33,2,FALSE)","v":1},"Aléatoire",{"$f":"VLOOKUP(AU24,DEBUTSTEP!$AV$4:$AW$33,2,FALSE)","v":1},"Aléatoire",{"$f":"VLOOKUP(AW24,DEBUTSTEP!$AV$4:$AW$33,2,FALSE)","v":1},"Aléatoire",{"$f":"VLOOKUP(AY24,DEBUTSTEP!$AV$4:$AW$33,2,FALSE)","v":1},"Aléatoire",{"$f":"VLOOKUP(BA24,DEBUTSTEP!$AV$4:$AW$33,2,FALSE)","v":1},"Aléatoire",{"$f":"VLOOKUP(BC24,DEBUTSTEP!$AV$4:$AW$33,2,FALSE)","v":1},"Aléatoire",{"$f":"VLOOKUP(BE24,DEBUTSTEP!$AV$4:$AW$33,2,FALSE)","v":1},"Aléatoire",{"$f":"VLOOKUP(BG24,DEBUTSTEP!$AV$4:$AW$33,2,FALSE)","v":1},"Aléatoire",{"$f":"VLOOKUP(BI24,DEBUTSTEP!$AV$4:$AW$33,2,FALSE)","v":1},"Aléatoire",{"$f":"VLOOKUP(BK24,DEBUTSTEP!$AV$4:$AW$33,2,FALSE)","v":1},"Aléatoire",{"$f":"VLOOKUP(BM24,DEBUTSTEP!$AV$4:$AW$33,2,FALSE)","v":1},"Aléatoire",{"$f":"VLOOKUP(BO24,DEBUTSTEP!$AV$4:$AW$33,2,FALSE)","v":1},"Aléatoire",{"$f":"VLOOKUP(BQ24,DEBUTSTEP!$AV$4:$AW$33,2,FALSE)","v":1},"Aléatoire",{"$f":"VLOOKUP(BS24,DEBUTSTEP!$AV$4:$AW$33,2,FALSE)","v":1}]
[null,{"$f":"DEBUTSTEP!$AX$4","v":"Mémorisation des blocs"},"Beaucoup d'erreurs",{"$f":"VLOOKUP(C25,DEBUTSTEP!$AX$4:$AY$33,2,FALSE)","v":1},"Beaucoup d'erreurs",{"$f":"VLOOKUP(E25,DEBUTSTEP!$AX$4:$AY$33,2,FALSE)","v":1},"Beaucoup d'erreurs",{"$f":"VLOOKUP(G25,DEBUTSTEP!$AX$4:$AY$33,2,FALSE)","v":1},"Beaucoup d'erreurs",{"$f":"VLOOKUP(I25,DEBUTSTEP!$AX$4:$AY$33,2,FALSE)","v":1},"Beaucoup d'erreurs",{"$f":"VLOOKUP(K25,DEBUTSTEP!$AX$4:$AY$33,2,FALSE)","v":1},"Beaucoup d'erreurs",{"$f":"VLOOKUP(M25,DEBUTSTEP!$AX$4:$AY$33,2,FALSE)","v":1},"Beaucoup d'erreurs",{"$f":"VLOOKUP(O25,DEBUTSTEP!$AX$4:$AY$33,2,FALSE)","v":1},"Beaucoup d'erreurs",{"$f":"VLOOKUP(Q25,DEBUTSTEP!$AX$4:$AY$33,2,FALSE)","v":1},"Beaucoup d'erreurs",{"$f":"VLOOKUP(S25,DEBUTSTEP!$AX$4:$AY$33,2,FALSE)","v":1},"Beaucoup d'erreurs",{"$f":"VLOOKUP(U25,DEBUTSTEP!$AX$4:$AY$33,2,FALSE)","v":1},"Beaucoup d'erreurs",{"$f":"VLOOKUP(W25,DEBUTSTEP!$AX$4:$AY$33,2,FALSE)","v":1},"Beaucoup d'erreurs",{"$f":"VLOOKUP(Y25,DEBUTSTEP!$AX$4:$AY$33,2,FALSE)","v":1},"Beaucoup d'erreurs",{"$f":"VLOOKUP(AA25,DEBUTSTEP!$AX$4:$AY$33,2,FALSE)","v":1},"Beaucoup d'erreurs",{"$f":"VLOOKUP(AC25,DEBUTSTEP!$AX$4:$AY$33,2,FALSE)","v":1},"Beaucoup d'erreurs",{"$f":"VLOOKUP(AE25,DEBUTSTEP!$AX$4:$AY$33,2,FALSE)","v":1},"Beaucoup d'erreurs",{"$f":"VLOOKUP(AG25,DEBUTSTEP!$AX$4:$AY$33,2,FALSE)","v":1},"Beaucoup d'erreurs",{"$f":"VLOOKUP(AI25,DEBUTSTEP!$AX$4:$AY$33,2,FALSE)","v":1},"Beaucoup d'erreurs",{"$f":"VLOOKUP(AK25,DEBUTSTEP!$AX$4:$AY$33,2,FALSE)","v":1},"Beaucoup d'erreurs",{"$f":"VLOOKUP(AM25,DEBUTSTEP!$AX$4:$AY$33,2,FALSE)","v":1},"Beaucoup d'erreurs",{"$f":"VLOOKUP(AO25,DEBUTSTEP!$AX$4:$AY$33,2,FALSE)","v":1},"Beaucoup d'erreurs",{"$f":"VLOOKUP(AQ25,DEBUTSTEP!$AX$4:$AY$33,2,FALSE)","v":1},"Beaucoup d'erreurs",{"$f":"VLOOKUP(AS25,DEBUTSTEP!$AX$4:$AY$33,2,FALSE)","v":1},"Beaucoup d'erreurs",{"$f":"VLOOKUP(AU25,DEBUTSTEP!$AX$4:$AY$33,2,FALSE)","v":1},"Beaucoup d'erreurs",{"$f":"VLOOKUP(AW25,DEBUTSTEP!$AX$4:$AY$33,2,FALSE)","v":1},"Beaucoup d'erreurs",{"$f":"VLOOKUP(AY25,DEBUTSTEP!$AX$4:$AY$33,2,FALSE)","v":1},"Beaucoup d'erreurs",{"$f":"VLOOKUP(BA25,DEBUTSTEP!$AX$4:$AY$33,2,FALSE)","v":1},"Beaucoup d'erreurs",{"$f":"VLOOKUP(BC25,DEBUTSTEP!$AX$4:$AY$33,2,FALSE)","v":1},"Beaucoup d'erreurs",{"$f":"VLOOKUP(BE25,DEBUTSTEP!$AX$4:$AY$33,2,FALSE)","v":1},"Beaucoup d'erreurs",{"$f":"VLOOKUP(BG25,DEBUTSTEP!$AX$4:$AY$33,2,FALSE)","v":1},"Beaucoup d'erreurs",{"$f":"VLOOKUP(BI25,DEBUTSTEP!$AX$4:$AY$33,2,FALSE)","v":1},"Beaucoup d'erreurs",{"$f":"VLOOKUP(BK25,DEBUTSTEP!$AX$4:$AY$33,2,FALSE)","v":1},"Beaucoup d'erreurs",{"$f":"VLOOKUP(BM25,DEBUTSTEP!$AX$4:$AY$33,2,FALSE)","v":1},"Beaucoup d'erreurs",{"$f":"VLOOKUP(BO25,DEBUTSTEP!$AX$4:$AY$33,2,FALSE)","v":1},"Beaucoup d'erreurs",{"$f":"VLOOKUP(BQ25,DEBUTSTEP!$AX$4:$AY$33,2,FALSE)","v":1},"Beaucoup d'erreurs",{"$f":"VLOOKUP(BS25,DEBUTSTEP!$AX$4:$AY$33,2,FALSE)","v":1}]
[null,{"$f":"DEBUTSTEP!$AZ$4","v":"Analyse de sa prestation"},"Pertinente",{"$f":"VLOOKUP(C26,DEBUTSTEP!$AZ$4:$BA$33,2,FALSE)","v":3},"Pertinente",{"$f":"VLOOKUP(E26,DEBUTSTEP!$AZ$4:$BA$33,2,FALSE)","v":3},"Pertinente",{"$f":"VLOOKUP(G26,DEBUTSTEP!$AZ$4:$BA$33,2,FALSE)","v":3},"Pertinente",{"$f":"VLOOKUP(I26,DEBUTSTEP!$AZ$4:$BA$33,2,FALSE)","v":3},"Pertinente",{"$f":"VLOOKUP(K26,DEBUTSTEP!$AZ$4:$BA$33,2,FALSE)","v":3},"Pertinente",{"$f":"VLOOKUP(M26,DEBUTSTEP!$AZ$4:$BA$33,2,FALSE)","v":3},"Pertinente",{"$f":"VLOOKUP(O26,DEBUTSTEP!$AZ$4:$BA$33,2,FALSE)","v":3},"Pertinente",{"$f":"VLOOKUP(Q26,DEBUTSTEP!$AZ$4:$BA$33,2,FALSE)","v":3},"Pertinente",{"$f":"VLOOKUP(S26,DEBUTSTEP!$AZ$4:$BA$33,2,FALSE)","v":3},"Pertinente",{"$f":"VLOOKUP(U26,DEBUTSTEP!$AZ$4:$BA$33,2,FALSE)","v":3},"Pertinente",{"$f":"VLOOKUP(W26,DEBUTSTEP!$AZ$4:$BA$33,2,FALSE)","v":3},"Pertinente",{"$f":"VLOOKUP(Y26,DEBUTSTEP!$AZ$4:$BA$33,2,FALSE)","v":3},"Pertinente",{"$f":"VLOOKUP(AA26,DEBUTSTEP!$AZ$4:$BA$33,2,FALSE)","v":3},"Pertinente",{"$f":"VLOOKUP(AC26,DEBUTSTEP!$AZ$4:$BA$33,2,FALSE)","v":3},"Pertinente",{"$f":"VLOOKUP(AE26,DEBUTSTEP!$AZ$4:$BA$33,2,FALSE)","v":3},"Pertinente",{"$f":"VLOOKUP(AG26,DEBUTSTEP!$AZ$4:$BA$33,2,FALSE)","v":3},"Pertinente",{"$f":"VLOOKUP(AI26,DEBUTSTEP!$AZ$4:$BA$33,2,FALSE)","v":3},"Pertinente",{"$f":"VLOOKUP(AK26,DEBUTSTEP!$AZ$4:$BA$33,2,FALSE)","v":3},"Pertinente",{"$f":"VLOOKUP(AM26,DEBUTSTEP!$AZ$4:$BA$33,2,FALSE)","v":3},"Pertinente",{"$f":"VLOOKUP(AO26,DEBUTSTEP!$AZ$4:$BA$33,2,FALSE)","v":3},"Pertinente",{"$f":"VLOOKUP(AQ26,DEBUTSTEP!$AZ$4:$BA$33,2,FALSE)","v":3},"Pertinente",{"$f":"VLOOKUP(AS26,DEBUTSTEP!$AZ$4:$BA$33,2,FALSE)","v":3},"Pertinente",{"$f":"VLOOKUP(AU26,DEBUTSTEP!$AZ$4:$BA$33,2,FALSE)","v":3},"Pertinente",{"$f":"VLOOKUP(AW26,DEBUTSTEP!$AZ$4:$BA$33,2,FALSE)","v":3},"Pertinente",{"$f":"VLOOKUP(AY26,DEBUTSTEP!$AZ$4:$BA$33,2,FALSE)","v":3},"Pertinente",{"$f":"VLOOKUP(BA26,DEBUTSTEP!$AZ$4:$BA$33,2,FALSE)","v":3},"Pertinente",{"$f":"VLOOKUP(BC26,DEBUTSTEP!$AZ$4:$BA$33,2,FALSE)","v":3},"Pertinente",{"$f":"VLOOKUP(BE26,DEBUTSTEP!$AZ$4:$BA$33,2,FALSE)","v":3},"Pertinente",{"$f":"VLOOKUP(BG26,DEBUTSTEP!$AZ$4:$BA$33,2,FALSE)","v":3},"Pertinente",{"$f":"VLOOKUP(BI26,DEBUTSTEP!$AZ$4:$BA$33,2,FALSE)","v":3},"Pertinente",{"$f":"VLOOKUP(BK26,DEBUTSTEP!$AZ$4:$BA$33,2,FALSE)","v":3},"Pertinente",{"$f":"VLOOKUP(BM26,DEBUTSTEP!$AZ$4:$BA$33,2,FALSE)","v":3},"Pertinente",{"$f":"VLOOKUP(BO26,DEBUTSTEP!$AZ$4:$BA$33,2,FALSE)","v":3},"Pertinente",{"$f":"VLOOKUP(BQ26,DEBUTSTEP!$AZ$4:$BA$33,2,FALSE)","v":3},"Pertinente",{"$f":"VLOOKUP(BS26,DEBUTSTEP!$AZ$4:$BA$33,2,FALSE)","v":3}]
[null,"NOTE",{"$f":"IF(OR(D21=\"x\",D22=\"x\",D23=\"x\",D24=\"x\",D25=\"x\",D26=\"x\"),\"ABSENT\",SUMIF(D21,\"<>X\")+SUMIF(D22,\"<>X\")+SUMIF(D23,\"<>X\")+SUMIF(D24,\"<>X\")+SUMIF(D25,\"<>X\")+SUMIF(D26,\"<>X\"))","v":7},null,{"$f":"IF(OR(F21=\"x\",F22=\"x\",F23=\"x\",F24=\"x\",F25=\"x\",F26=\"x\"),\"ABSENT\",SUMIF(F21,\"<>X\")+SUMIF(F22,\"<>X\")+SUMIF(F23,\"<>X\")+SUMIF(F24,\"<>X\")+SUMIF(F25,\"<>X\")+SUMIF(F26,\"<>X\"))","v":7},null,{"$f":"IF(OR(H21=\"x\",H22=\"x\",H23=\"x\",H24=\"x\",H25=\"x\",H26=\"x\"),\"ABSENT\",SUMIF(H21,\"<>X\")+SUMIF(H22,\"<>X\")+SUMIF(H23,\"<>X\")+SUMIF(H24,\"<>X\")+SUMIF(H25,\"<>X\")+SUMIF(H26,\"<>X\"))","v":7},null,{"$f":"IF(OR(J21=\"x\",J22=\"x\",J23=\"x\",J24=\"x\",J25=\"x\",J26=\"x\"),\"ABSENT\",SUMIF(J21,\"<>X\")+SUMIF(J22,\"<>X\")+SUMIF(J23,\"<>X\")+SUMIF(J24,\"<>X\")+SUMIF(J25,\"<>X\")+SUMIF(J26,\"<>X\"))","v":7},null,{"$f":"IF(OR(L21=\"x\",L22=\"x\",L23=\"x\",L24=\"x\",L25=\"x\",L26=\"x\"),\"ABSENT\",SUMIF(L21,\"<>X\")+SUMIF(L22,\"<>X\")+SUMIF(L23,\"<>X\")+SUMIF(L24,\"<>X\")+SUMIF(L25,\"<>X\")+SUMIF(L26,\"<>X\"))","v":7},null,{"$f":"IF(OR(N21=\"x\",N22=\"x\",N23=\"x\",N24=\"x\",N25=\"x\",N26=\"x\"),\"ABSENT\",SUMIF(N21,\"<>X\")+SUMIF(N22,\"<>X\")+SUMIF(N23,\"<>X\")+SUMIF(N24,\"<>X\")+SUMIF(N25,\"<>X\")+SUMIF(N26,\"<>X\"))","v":7},null,{"$f":"IF(OR(P21=\"x\",P22=\"x\",P23=\"x\",P24=\"x\",P25=\"x\",P26=\"x\"),\"ABSENT\",SUMIF(P21,\"<>X\")+SUMIF(P22,\"<>X\")+SUMIF(P23,\"<>X\")+SUMIF(P24,\"<>X\")+SUMIF(P25,\"<>X\")+SUMIF(P26,\"<>X\"))","v":7},null,{"$f":"IF(OR(R21=\"x\",R22=\"x\",R23=\"x\",R24=\"x\",R25=\"x\",R26=\"x\"),\"ABSENT\",SUMIF(R21,\"<>X\")+SUMIF(R22,\"<>X\")+SUMIF(R23,\"<>X\")+SUMIF(R24,\"<>X\")+SUMIF(R25,\"<>X\")+SUMIF(R26,\"<>X\"))","v":7},null,{"$f":"IF(OR(T21=\"x\",T22=\"x\",T23=\"x\",T24=\"x\",T25=\"x\",T26=\"x\"),\"ABSENT\",SUMIF(T21,\"<>X\")+SUMIF(T22,\"<>X\")+SUMIF(T23,\"<>X\")+SUMIF(T24,\"<>X\")+SUMIF(T25,\"<>X\")+SUMIF(T26,\"<>X\"))","v":7},null,{"$f":"IF(OR(V21=\"x\",V22=\"x\",V23=\"x\",V24=\"x\",V25=\"x\",V26=\"x\"),\"ABSENT\",SUMIF(V21,\"<>X\")+SUMIF(V22,\"<>X\")+SUMIF(V23,\"<>X\")+SUMIF(V24,\"<>X\")+SUMIF(V25,\"<>X\")+SUMIF(V26,\"<>X\"))","v":7},null,{"$f":"IF(OR(X21=\"x\",X22=\"x\",X23=\"x\",X24=\"x\",X25=\"x\",X26=\"x\"),\"ABSENT\",SUMIF(X21,\"<>X\")+SUMIF(X22,\"<>X\")+SUMIF(X23,\"<>X\")+SUMIF(X24,\"<>X\")+SUMIF(X25,\"<>X\")+SUMIF(X26,\"<>X\"))","v":7},null,{"$f":"IF(OR(Z21=\"x\",Z22=\"x\",Z23=\"x\",Z24=\"x\",Z25=\"x\",Z26=\"x\"),\"ABSENT\",SUMIF(Z21,\"<>X\")+SUMIF(Z22,\"<>X\")+SUMIF(Z23,\"<>X\")+SUMIF(Z24,\"<>X\")+SUMIF(Z25,\"<>X\")+SUMIF(Z26,\"<>X\"))","v":7},null,{"$f":"IF(OR(AB21=\"x\",AB22=\"x\",AB23=\"x\",AB24=\"x\",AB25=\"x\",AB26=\"x\"),\"ABSENT\",SUMIF(AB21,\"<>X\")+SUMIF(AB22,\"<>X\")+SUMIF(AB23,\"<>X\")+SUMIF(AB24,\"<>X\")+SUMIF(AB25,\"<>X\")+SUMIF(AB26,\"<>X\"))","v":7},null,{"$f":"IF(OR(AD21=\"x\",AD22=\"x\",AD23=\"x\",AD24=\"x\",AD25=\"x\",AD26=\"x\"),\"ABSENT\",SUMIF(AD21,\"<>X\")+SUMIF(AD22,\"<>X\")+SUMIF(AD23,\"<>X\")+SUMIF(AD24,\"<>X\")+SUMIF(AD25,\"<>X\")+SUMIF(AD26,\"<>X\"))","v":7},null,{"$f":"IF(OR(AF21=\"x\",AF22=\"x\",AF23=\"x\",AF24=\"x\",AF25=\"x\",AF26=\"x\"),\"ABSENT\",SUMIF(AF21,\"<>X\")+SUMIF(AF22,\"<>X\")+SUMIF(AF23,\"<>X\")+SUMIF(AF24,\"<>X\")+SUMIF(AF25,\"<>X\")+SUMIF(AF26,\"<>X\"))","v":7},null,{"$f":"IF(OR(AH21=\"x\",AH22=\"x\",AH23=\"x\",AH24=\"x\",AH25=\"x\",AH26=\"x\"),\"ABSENT\",SUMIF(AH21,\"<>X\")+SUMIF(AH22,\"<>X\")+SUMIF(AH23,\"<>X\")+SUMIF(AH24,\"<>X\")+SUMIF(AH25,\"<>X\")+SUMIF(AH26,\"<>X\"))","v":7},null,{"$f":"IF(OR(AJ21=\"x\",AJ22=\"x\",AJ23=\"x\",AJ24=\"x\",AJ25=\"x\",AJ26=\"x\"),\"ABSENT\",SUMIF(AJ21,\"<>X\")+SUMIF(AJ22,\"<>X\")+SUMIF(AJ23,\"<>X\")+SUMIF(AJ24,\"<>X\")+SUMIF(AJ25,\"<>X\")+SUMIF(AJ26,\"<>X\"))","v":7},null,{"$f":"IF(OR(AL21=\"x\",AL22=\"x\",AL23=\"x\",AL24=\"x\",AL25=\"x\",AL26=\"x\"),\"ABSENT\",SUMIF(AL21,\"<>X\")+SUMIF(AL22,\"<>X\")+SUMIF(AL23,\"<>X\")+SUMIF(AL24,\"<>X\")+SUMIF(AL25,\"<>X\")+SUMIF(AL26,\"<>X\"))","v":7},null,{"$f":"IF(OR(AN21=\"x\",AN22=\"x\",AN23=\"x\",AN24=\"x\",AN25=\"x\",AN26=\"x\"),\"ABSENT\",SUMIF(AN21,\"<>X\")+SUMIF(AN22,\"<>X\")+SUMIF(AN23,\"<>X\")+SUMIF(AN24,\"<>X\")+SUMIF(AN25,\"<>X\")+SUMIF(AN26,\"<>X\"))","v":7},null,{"$f":"IF(OR(AP21=\"x\",AP22=\"x\",AP23=\"x\",AP24=\"x\",AP25=\"x\",AP26=\"x\"),\"ABSENT\",SUMIF(AP21,\"<>X\")+SUMIF(AP22,\"<>X\")+SUMIF(AP23,\"<>X\")+SUMIF(AP24,\"<>X\")+SUMIF(AP25,\"<>X\")+SUMIF(AP26,\"<>X\"))","v":7},null,{"$f":"IF(OR(AR21=\"x\",AR22=\"x\",AR23=\"x\",AR24=\"x\",AR25=\"x\",AR26=\"x\"),\"ABSENT\",SUMIF(AR21,\"<>X\")+SUMIF(AR22,\"<>X\")+SUMIF(AR23,\"<>X\")+SUMIF(AR24,\"<>X\")+SUMIF(AR25,\"<>X\")+SUMIF(AR26,\"<>X\"))","v":7},null,{"$f":"IF(OR(AT21=\"x\",AT22=\"x\",AT23=\"x\",AT24=\"x\",AT25=\"x\",AT26=\"x\"),\"ABSENT\",SUMIF(AT21,\"<>X\")+SUMIF(AT22,\"<>X\")+SUMIF(AT23,\"<>X\")+SUMIF(AT24,\"<>X\")+SUMIF(AT25,\"<>X\")+SUMIF(AT26,\"<>X\"))","v":7},null,{"$f":"IF(OR(AV21=\"x\",AV22=\"x\",AV23=\"x\",AV24=\"x\",AV25=\"x\",AV26=\"x\"),\"ABSENT\",SUMIF(AV21,\"<>X\")+SUMIF(AV22,\"<>X\")+SUMIF(AV23,\"<>X\")+SUMIF(AV24,\"<>X\")+SUMIF(AV25,\"<>X\")+SUMIF(AV26,\"<>X\"))","v":7},null,{"$f":"IF(OR(AX21=\"x\",AX22=\"x\",AX23=\"x\",AX24=\"x\",AX25=\"x\",AX26=\"x\"),\"ABSENT\",SUMIF(AX21,\"<>X\")+SUMIF(AX22,\"<>X\")+SUMIF(AX23,\"<>X\")+SUMIF(AX24,\"<>X\")+SUMIF(AX25,\"<>X\")+SUMIF(AX26,\"<>X\"))","v":7},null,{"$f":"IF(OR(AZ21=\"x\",AZ22=\"x\",AZ23=\"x\",AZ24=\"x\",AZ25=\"x\",AZ26=\"x\"),\"ABSENT\",SUMIF(AZ21,\"<>X\")+SUMIF(AZ22,\"<>X\")+SUMIF(AZ23,\"<>X\")+SUMIF(AZ24,\"<>X\")+SUMIF(AZ25,\"<>X\")+SUMIF(AZ26,\"<>X\"))","v":7},null,{"$f":"IF(OR(BB21=\"x\",BB22=\"x\",BB23=\"x\",BB24=\"x\",BB25=\"x\",BB26=\"x\"),\"ABSENT\",SUMIF(BB21,\"<>X\")+SUMIF(BB22,\"<>X\")+SUMIF(BB23,\"<>X\")+SUMIF(BB24,\"<>X\")+SUMIF(BB25,\"<>X\")+SUMIF(BB26,\"<>X\"))","v":7},null,{"$f":"IF(OR(BD21=\"x\",BD22=\"x\",BD23=\"x\",BD24=\"x\",BD25=\"x\",BD26=\"x\"),\"ABSENT\",SUMIF(BD21,\"<>X\")+SUMIF(BD22,\"<>X\")+SUMIF(BD23,\"<>X\")+SUMIF(BD24,\"<>X\")+SUMIF(BD25,\"<>X\")+SUMIF(BD26,\"<>X\"))","v":7},null,{"$f":"IF(OR(BF21=\"x\",BF22=\"x\",BF23=\"x\",BF24=\"x\",BF25=\"x\",BF26=\"x\"),\"ABSENT\",SUMIF(BF21,\"<>X\")+SUMIF(BF22,\"<>X\")+SUMIF(BF23,\"<>X\")+SUMIF(BF24,\"<>X\")+SUMIF(BF25,\"<>X\")+SUMIF(BF26,\"<>X\"))","v":7},null,{"$f":"IF(OR(BH21=\"x\",BH22=\"x\",BH23=\"x\",BH24=\"x\",BH25=\"x\",BH26=\"x\"),\"ABSENT\",SUMIF(BH21,\"<>X\")+SUMIF(BH22,\"<>X\")+SUMIF(BH23,\"<>X\")+SUMIF(BH24,\"<>X\")+SUMIF(BH25,\"<>X\")+SUMIF(BH26,\"<>X\"))","v":7},null,{"$f":"IF(OR(BJ21=\"x\",BJ22=\"x\",BJ23=\"x\",BJ24=\"x\",BJ25=\"x\",BJ26=\"x\"),\"ABSENT\",SUMIF(BJ21,\"<>X\")+SUMIF(BJ22,\"<>X\")+SUMIF(BJ23,\"<>X\")+SUMIF(BJ24,\"<>X\")+SUMIF(BJ25,\"<>X\")+SUMIF(BJ26,\"<>X\"))","v":7},null,{"$f":"IF(OR(BL21=\"x\",BL22=\"x\",BL23=\"x\",BL24=\"x\",BL25=\"x\",BL26=\"x\"),\"ABSENT\",SUMIF(BL21,\"<>X\")+SUMIF(BL22,\"<>X\")+SUMIF(BL23,\"<>X\")+SUMIF(BL24,\"<>X\")+SUMIF(BL25,\"<>X\")+SUMIF(BL26,\"<>X\"))","v":7},null,{"$f":"IF(OR(BN21=\"x\",BN22=\"x\",BN23=\"x\",BN24=\"x\",BN25=\"x\",BN26=\"x\"),\"ABSENT\",SUMIF(BN21,\"<>X\")+SUMIF(BN22,\"<>X\")+SUMIF(BN23,\"<>X\")+SUMIF(BN24,\"<>X\")+SUMIF(BN25,\"<>X\")+SUMIF(BN26,\"<>X\"))","v":7},null,{"$f":"IF(OR(BP21=\"x\",BP22=\"x\",BP23=\"x\",BP24=\"x\",BP25=\"x\",BP26=\"x\"),\"ABSENT\",SUMIF(BP21,\"<>X\")+SUMIF(BP22,\"<>X\")+SUMIF(BP23,\"<>X\")+SUMIF(BP24,\"<>X\")+SUMIF(BP25,\"<>X\")+SUMIF(BP26,\"<>X\"))","v":7},null,{"$f":"IF(OR(BR21=\"x\",BR22=\"x\",BR23=\"x\",BR24=\"x\",BR25=\"x\",BR26=\"x\"),\"ABSENT\",SUMIF(BR21,\"<>X\")+SUMIF(BR22,\"<>X\")+SUMIF(BR23,\"<>X\")+SUMIF(BR24,\"<>X\")+SUMIF(BR25,\"<>X\")+SUMIF(BR26,\"<>X\"))","v":7},null,{"$f":"IF(OR(BT21=\"x\",BT22=\"x\",BT23=\"x\",BT24=\"x\",BT25=\"x\",BT26=\"x\"),\"ABSENT\",SUMIF(BT21,\"<>X\")+SUMIF(BT22,\"<>X\")+SUMIF(BT23,\"<>X\")+SUMIF(BT24,\"<>X\")+SUMIF(BT25,\"<>X\")+SUMIF(BT26,\"<>X\"))","v":7}]
[]
["SEANCE 4",{"$f":"DEBUTSTEP!$AP$4","v":"Prendre sa FC efficacement"},"Jamais",{"$f":"VLOOKUP(C29,DEBUTSTEP!$AP$4:$AQ$33,2,FALSE)","v":"NA"},"Jamais",{"$f":"VLOOKUP(E29,DEBUTSTEP!$AP$4:$AQ$33,2,FALSE)","v":"NA"},"Jamais",{"$f":"VLOOKUP(G29,DEBUTSTEP!$AP$4:$AQ$33,2,FALSE)","v":"NA"},"Jamais",{"$f":"VLOOKUP(I29,DEBUTSTEP!$AP$4:$AQ$33,2,FALSE)","v":"NA"},"Jamais",{"$f":"VLOOKUP(K29,DEBUTSTEP!$AP$4:$AQ$33,2,FALSE)","v":"NA"},"Jamais",{"$f":"VLOOKUP(M29,DEBUTSTEP!$AP$4:$AQ$33,2,FALSE)","v":"NA"},"Jamais",{"$f":"VLOOKUP(O29,DEBUTSTEP!$AP$4:$AQ$33,2,FALSE)","v":"NA"},"Jamais",{"$f":"VLOOKUP(Q29,DEBUTSTEP!$AP$4:$AQ$33,2,FALSE)","v":"NA"},"Jamais",{"$f":"VLOOKUP(S29,DEBUTSTEP!$AP$4:$AQ$33,2,FALSE)","v":"NA"},"Jamais",{"$f":"VLOOKUP(U29,DEBUTSTEP!$AP$4:$AQ$33,2,FALSE)","v":"NA"},"Jamais",{"$f":"VLOOKUP(W29,DEBUTSTEP!$AP$4:$AQ$33,2,FALSE)","v":"NA"},"Jamais",{"$f":"VLOOKUP(Y29,DEBUTSTEP!$AP$4:$AQ$33,2,FALSE)","v":"NA"},"Jamais",{"$f":"VLOOKUP(AA29,DEBUTSTEP!$AP$4:$AQ$33,2,FALSE)","v":"NA"},"Jamais",{"$f":"VLOOKUP(AC29,DEBUTSTEP!$AP$4:$AQ$33,2,FALSE)","v":"NA"},"Jamais",{"$f":"VLOOKUP(AE29,DEBUTSTEP!$AP$4:$AQ$33,2,FALSE)","v":"NA"},"Jamais",{"$f":"VLOOKUP(AG29,DEBUTSTEP!$AP$4:$AQ$33,2,FALSE)","v":"NA"},"Jamais",{"$f":"VLOOKUP(AI29,DEBUTSTEP!$AP$4:$AQ$33,2,FALSE)","v":"NA"},"Jamais",{"$f":"VLOOKUP(AK29,DEBUTSTEP!$AP$4:$AQ$33,2,FALSE)","v":"NA"},"Jamais",{"$f":"VLOOKUP(AM29,DEBUTSTEP!$AP$4:$AQ$33,2,FALSE)","v":"NA"},"Jamais",{"$f":"VLOOKUP(AO29,DEBUTSTEP!$AP$4:$AQ$33,2,FALSE)","v":"NA"},"Jamais",{"$f":"VLOOKUP(AQ29,DEBUTSTEP!$AP$4:$AQ$33,2,FALSE)","v":"NA"},"Jamais",{"$f":"VLOOKUP(AS29,DEBUTSTEP!$AP$4:$AQ$33,2,FALSE)","v":"NA"},"Jamais",{"$f":"VLOOKUP(AU29,DEBUTSTEP!$AP$4:$AQ$33,2,FALSE)","v":"NA"},"Jamais",{"$f":"VLOOKUP(AW29,DEBUTSTEP!$AP$4:$AQ$33,2,FALSE)","v":"NA"},"Jamais",{"$f":"VLOOKUP(AY29,DEBUTSTEP!$AP$4:$AQ$33,2,FALSE)","v":"NA"},"Jamais",{"$f":"VLOOKUP(BA29,DEBUTSTEP!$AP$4:$AQ$33,2,FALSE)","v":"NA"},"Jamais",{"$f":"VLOOKUP(BC29,DEBUTSTEP!$AP$4:$AQ$33,2,FALSE)","v":"NA"},"Jamais",{"$f":"VLOOKUP(BE29,DEBUTSTEP!$AP$4:$AQ$33,2,FALSE)","v":"NA"},"Jamais",{"$f":"VLOOKUP(BG29,DEBUTSTEP!$AP$4:$AQ$33,2,FALSE)","v":"NA"},"Jamais",{"$f":"VLOOKUP(BI29,DEBUTSTEP!$AP$4:$AQ$33,2,FALSE)","v":"NA"},"Jamais",{"$f":"VLOOKUP(BK29,DEBUTSTEP!$AP$4:$AQ$33,2,FALSE)","v":"NA"},"Jamais",{"$f":"VLOOKUP(BM29,DEBUTSTEP!$AP$4:$AQ$33,2,FALSE)","v":"NA"},"Jamais",{"$f":"VLOOKUP(BO29,DEBUTSTEP!$AP$4:$AQ$33,2,FALSE)","v":"NA"},"Jamais",{"$f":"VLOOKUP(BQ29,DEBUTSTEP!$AP$4:$AQ$33,2,FALSE)","v":"NA"},"Jamais",{"$f":"VLOOKUP(BS29,DEBUTSTEP!$AP$4:$AQ$33,2,FALSE)","v":"NA"}]
[null,{"$f":"DEBUTSTEP!$AR$4","v":"S'engager dans le mobile"},"Faible",{"$f":"VLOOKUP(C30,DEBUTSTEP!$AR$4:$AS$33,2,FALSE)","v":1},"Faible",{"$f":"VLOOKUP(E30,DEBUTSTEP!$AR$4:$AS$33,2,FALSE)","v":1},"Faible",{"$f":"VLOOKUP(G30,DEBUTSTEP!$AR$4:$AS$33,2,FALSE)","v":1},"Faible",{"$f":"VLOOKUP(I30,DEBUTSTEP!$AR$4:$AS$33,2,FALSE)","v":1},"Faible",{"$f":"VLOOKUP(K30,DEBUTSTEP!$AR$4:$AS$33,2,FALSE)","v":1},"Faible",{"$f":"VLOOKUP(M30,DEBUTSTEP!$AR$4:$AS$33,2,FALSE)","v":1},"Faible",{"$f":"VLOOKUP(O30,DEBUTSTEP!$AR$4:$AS$33,2,FALSE)","v":1},"Faible",{"$f":"VLOOKUP(Q30,DEBUTSTEP!$AR$4:$AS$33,2,FALSE)","v":1},"Faible",{"$f":"VLOOKUP(S30,DEBUTSTEP!$AR$4:$AS$33,2,FALSE)","v":1},"Faible",{"$f":"VLOOKUP(U30,DEBUTSTEP!$AR$4:$AS$33,2,FALSE)","v":1},"Faible",{"$f":"VLOOKUP(W30,DEBUTSTEP!$AR$4:$AS$33,2,FALSE)","v":1},"Faible",{"$f":"VLOOKUP(Y30,DEBUTSTEP!$AR$4:$AS$33,2,FALSE)","v":1},"Faible",{"$f":"VLOOKUP(AA30,DEBUTSTEP!$AR$4:$AS$33,2,FALSE)","v":1},"Faible",{"$f":"VLOOKUP(AC30,DEBUTSTEP!$AR$4:$AS$33,2,FALSE)","v":1},"Faible",{"$f":"VLOOKUP(AE30,DEBUTSTEP!$AR$4:$AS$33,2,FALSE)","v":1},"Faible",{"$f":"VLOOKUP(AG30,DEBUTSTEP!$AR$4:$AS$33,2,FALSE)","v":1},"Faible",{"$f":"VLOOKUP(AI30,DEBUTSTEP!$AR$4:$AS$33,2,FALSE)","v":1},"Faible",{"$f":"VLOOKUP(AK30,DEBUTSTEP!$AR$4:$AS$33,2,FALSE)","v":1},"Faible",{"$f":"VLOOKUP(AM30,DEBUTSTEP!$AR$4:$AS$33,2,FALSE)","v":1},"Faible",{"$f":"VLOOKUP(AO30,DEBUTSTEP!$AR$4:$AS$33,2,FALSE)","v":1},"Faible",{"$f":"VLOOKUP(AQ30,DEBUTSTEP!$AR$4:$AS$33,2,FALSE)","v":1},"Faible",{"$f":"VLOOKUP(AS30,DEBUTSTEP!$AR$4:$AS$33,2,FALSE)","v":1},"Faible",{"$f":"VLOOKUP(AU30,DEBUTSTEP!$AR$4:$AS$33,2,FALSE)","v":1},"Faible",{"$f":"VLOOKUP(AW30,DEBUTSTEP!$AR$4:$AS$33,2,FALSE)","v":1},"Faible",{"$f":"VLOOKUP(AY30,DEBUTSTEP!$AR$4:$AS$33,2,FALSE)","v":1},"Faible",{"$f":"VLOOKUP(BA30,DEBUTSTEP!$AR$4:$AS$33,2,FALSE)","v":1},"Faible",{"$f":"VLOOKUP(BC30,DEBUTSTEP!$AR$4:$AS$33,2,FALSE)","v":1},"Faible",{"$f":"VLOOKUP(BE30,DEBUTSTEP!$AR$4:$AS$33,2,FALSE)","v":1},"Faible",{"$f":"VLOOKUP(BG30,DEBUTSTEP!$AR$4:$AS$33,2,FALSE)","v":1},"Faible",{"$f":"VLOOKUP(BI30,DEBUTSTEP!$AR$4:$AS$33,2,FALSE)","v":1},"Faible",{"$f":"VLOOKUP(BK30,DEBUTSTEP!$AR$4:$AS$33,2,FALSE)","v":1},"Faible",{"$f":"VLOOKUP(BM30,DEBUTSTEP!$AR$4:$AS$33,2,FALSE)","v":1},"Faible",{"$f":"VLOOKUP(BO30,DEBUTSTEP!$AR$4:$AS$33,2,FALSE)","v":1},"Faible",{"$f":"VLOOKUP(BQ30,DEBUTSTEP!$AR$4:$AS$33,2,FALSE)","v":1},"Faible",{"$f":"VLOOKUP(BS30,DEBUTSTEP!$AR$4:$AS$33,2,FALSE)","v":1}]
[null,{"$f":"DEBUTSTEP!$AT$4","v":"Agir en sécu"},"Quelques avertissements",{"$f":"VLOOKUP(C31,DEBUTSTEP!$AT$4:$AU$33,2,FALSE)","v":1},"Quelques avertissements",{"$f":"VLOOKUP(E31,DEBUTSTEP!$AT$4:$AU$33,2,FALSE)","v":1},"Quelques avertissements",{"$f":"VLOOKUP(G31,DEBUTSTEP!$AT$4:$AU$33,2,FALSE)","v":1},"Quelques avertissements",{"$f":"VLOOKUP(I31,DEBUTSTEP!$AT$4:$AU$33,2,FALSE)","v":1},"Quelques avertissements",{"$f":"VLOOKUP(K31,DEBUTSTEP!$AT$4:$AU$33,2,FALSE)","v":1},"Quelques avertissements",{"$f":"VLOOKUP(M31,DEBUTSTEP!$AT$4:$AU$33,2,FALSE)","v":1},"Quelques avertissements",{"$f":"VLOOKUP(O31,DEBUTSTEP!$AT$4:$AU$33,2,FALSE)","v":1},"Quelques avertissements",{"$f":"VLOOKUP(Q31,DEBUTSTEP!$AT$4:$AU$33,2,FALSE)","v":1},"Quelques avertissements",{"$f":"VLOOKUP(S31,DEBUTSTEP!$AT$4:$AU$33,2,FALSE)","v":1},"Quelques avertissements",{"$f":"VLOOKUP(U31,DEBUTSTEP!$AT$4:$AU$33,2,FALSE)","v":1},"Quelques avertissements",{"$f":"VLOOKUP(W31,DEBUTSTEP!$AT$4:$AU$33,2,FALSE)","v":1},"Quelques avertissements",{"$f":"VLOOKUP(Y31,DEBUTSTEP!$AT$4:$AU$33,2,FALSE)","v":1},"Quelques avertissements",{"$f":"VLOOKUP(AA31,DEBUTSTEP!$AT$4:$AU$33,2,FALSE)","v":1},"Quelques avertissements",{"$f":"VLOOKUP(AC31,DEBUTSTEP!$AT$4:$AU$33,2,FALSE)","v":1},"Quelques avertissements",{"$f":"VLOOKUP(AE31,DEBUTSTEP!$AT$4:$AU$33,2,FALSE)","v":1},"Quelques avertissements",{"$f":"VLOOKUP(AG31,DEBUTSTEP!$AT$4:$AU$33,2,FALSE)","v":1},"Quelques avertissements",{"$f":"VLOOKUP(AI31,DEBUTSTEP!$AT$4:$AU$33,2,FALSE)","v":1},"Quelques avertissements",{"$f":"VLOOKUP(AK31,DEBUTSTEP!$AT$4:$AU$33,2,FALSE)","v":1},"Quelques avertissements",{"$f":"VLOOKUP(AM31,DEBUTSTEP!$AT$4:$AU$33,2,FALSE)","v":1},"Quelques avertissements",{"$f":"VLOOKUP(AO31,DEBUTSTEP!$AT$4:$AU$33,2,FALSE)","v":1},"Quelques avertissements",{"$f":"VLOOKUP(AQ31,DEBUTSTEP!$AT$4:$AU$33,2,FALSE)","v":1},"Quelques avertissements",{"$f":"VLOOKUP(AS31,DEBUTSTEP!$AT$4:$AU$33,2,FALSE)","v":1},"Quelques avertissements",{"$f":"VLOOKUP(AU31,DEBUTSTEP!$AT$4:$AU$33,2,FALSE)","v":1},"Quelques avertissements",{"$f":"VLOOKUP(AW31,DEBUTSTEP!$AT$4:$AU$33,2,FALSE)","v":1},"Quelques avertissements",{"$f":"VLOOKUP(AY31,DEBUTSTEP!$AT$4:$AU$33,2,FALSE)","v":1},"Quelques avertissements",{"$f":"VLOOKUP(BA31,DEBUTSTEP!$AT$4:$AU$33,2,FALSE)","v":1},"Quelques avertissements",{"$f":"VLOOKUP(BC31,DEBUTSTEP!$AT$4:$AU$33,2,FALSE)","v":1},"Quelques avertissements",{"$f":"VLOOKUP(BE31,DEBUTSTEP!$AT$4:$AU$33,2,FALSE)","v":1},"Quelques avertissements",{"$f":"VLOOKUP(BG31,DEBUTSTEP!$AT$4:$AU$33,2,FALSE)","v":1},"Quelques avertissements",{"$f":"VLOOKUP(BI31,DEBUTSTEP!$AT$4:$AU$33,2,FALSE)","v":1},"Quelques avertissements",{"$f":"VLOOKUP(BK31,DEBUTSTEP!$AT$4:$AU$33,2,FALSE)","v":1},"Quelques avertissements",{"$f":"VLOOKUP(BM31,DEBUTSTEP!$AT$4:$AU$33,2,FALSE)","v":1},"Quelques avertissements",{"$f":"VLOOKUP(BO31,DEBUTSTEP!$AT$4:$AU$33,2,FALSE)","v":1},"Quelques avertissements",{"$f":"VLOOKUP(BQ31,DEBUTSTEP!$AT$4:$AU$33,2,FALSE)","v":1},"Quelques avertissements",{"$f":"VLOOKUP(BS31,DEBUTSTEP!$AT$4:$AU$33,2,FALSE)","v":1}]
[null,{"$f":"DEBUTSTEP!$AV$4","v":"Respect de l'entrainement proposé"},"Aléatoire",{"$f":"VLOOKUP(C32,DEBUTSTEP!$AV$4:$AW$33,2,FALSE)","v":1},"Aléatoire",{"$f":"VLOOKUP(E32,DEBUTSTEP!$AV$4:$AW$33,2,FALSE)","v":1},"Aléatoire",{"$f":"VLOOKUP(G32,DEBUTSTEP!$AV$4:$AW$33,2,FALSE)","v":1},"Aléatoire",{"$f":"VLOOKUP(I32,DEBUTSTEP!$AV$4:$AW$33,2,FALSE)","v":1},"Aléatoire",{"$f":"VLOOKUP(K32,DEBUTSTEP!$AV$4:$AW$33,2,FALSE)","v":1},"Aléatoire",{"$f":"VLOOKUP(M32,DEBUTSTEP!$AV$4:$AW$33,2,FALSE)","v":1},"Aléatoire",{"$f":"VLOOKUP(O32,DEBUTSTEP!$AV$4:$AW$33,2,FALSE)","v":1},"Aléatoire",{"$f":"VLOOKUP(Q32,DEBUTSTEP!$AV$4:$AW$33,2,FALSE)","v":1},"Aléatoire",{"$f":"VLOOKUP(S32,DEBUTSTEP!$AV$4:$AW$33,2,FALSE)","v":1},"Aléatoire",{"$f":"VLOOKUP(U32,DEBUTSTEP!$AV$4:$AW$33,2,FALSE)","v":1},"Aléatoire",{"$f":"VLOOKUP(W32,DEBUTSTEP!$AV$4:$AW$33,2,FALSE)","v":1},"Aléatoire",{"$f":"VLOOKUP(Y32,DEBUTSTEP!$AV$4:$AW$33,2,FALSE)","v":1},"Aléatoire",{"$f":"VLOOKUP(AA32,DEBUTSTEP!$AV$4:$AW$33,2,FALSE)","v":1},"Aléatoire",{"$f":"VLOOKUP(AC32,DEBUTSTEP!$AV$4:$AW$33,2,FALSE)","v":1},"Aléatoire",{"$f":"VLOOKUP(AE32,DEBUTSTEP!$AV$4:$AW$33,2,FALSE)","v":1},"Aléatoire",{"$f":"VLOOKUP(AG32,DEBUTSTEP!$AV$4:$AW$33,2,FALSE)","v":1},"Aléatoire",{"$f":"VLOOKUP(AI32,DEBUTSTEP!$AV$4:$AW$33,2,FALSE)","v":1},"Aléatoire",{"$f":"VLOOKUP(AK32,DEBUTSTEP!$AV$4:$AW$33,2,FALSE)","v":1},"Aléatoire",{"$f":"VLOOKUP(AM32,DEBUTSTEP!$AV$4:$AW$33,2,FALSE)","v":1},"Aléatoire",{"$f":"VLOOKUP(AO32,DEBUTSTEP!$AV$4:$AW$33,2,FALSE)","v":1},"Aléatoire",{"$f":"VLOOKUP(AQ32,DEBUTSTEP!$AV$4:$AW$33,2,FALSE)","v":1},"Aléatoire",{"$f":"VLOOKUP(AS32,DEBUTSTEP!$AV$4:$AW$33,2,FALSE)","v":1},"Aléatoire",{"$f":"VLOOKUP(AU32,DEBUTSTEP!$AV$4:$AW$33,2,FALSE)","v":1},"Aléatoire",{"$f":"VLOOKUP(AW32,DEBUTSTEP!$AV$4:$AW$33,2,FALSE)","v":1},"Aléatoire",{"$f":"VLOOKUP(AY32,DEBUTSTEP!$AV$4:$AW$33,2,FALSE)","v":1},"Aléatoire",{"$f":"VLOOKUP(BA32,DEBUTSTEP!$AV$4:$AW$33,2,FALSE)","v":1},"Aléatoire",{"$f":"VLOOKUP(BC32,DEBUTSTEP!$AV$4:$AW$33,2,FALSE)","v":1},"Aléatoire",{"$f":"VLOOKUP(BE32,DEBUTSTEP!$AV$4:$AW$33,2,FALSE)","v":1},"Aléatoire",{"$f":"VLOOKUP(BG32,DEBUTSTEP!$AV$4:$AW$33,2,FALSE)","v":1},"Aléatoire",{"$f":"VLOOKUP(BI32,DEBUTSTEP!$AV$4:$AW$33,2,FALSE)","v":1},"Aléatoire",{"$f":"VLOOKUP(BK32,DEBUTSTEP!$AV$4:$AW$33,2,FALSE)","v":1},"Aléatoire",{"$f":"VLOOKUP(BM32,DEBUTSTEP!$AV$4:$AW$33,2,FALSE)","v":1},"Aléatoire",{"$f":"VLOOKUP(BO32,DEBUTSTEP!$AV$4:$AW$33,2,FALSE)","v":1},"Aléatoire",{"$f":"VLOOKUP(BQ32,DEBUTSTEP!$AV$4:$AW$33,2,FALSE)","v":1},"Aléatoire",{"$f":"VLOOKUP(BS32,DEBUTSTEP!$AV$4:$AW$33,2,FALSE)","v":1}]
[null,{"$f":"DEBUTSTEP!$AX$4","v":"Mémorisation des blocs"},"Beaucoup d'erreurs",{"$f":"VLOOKUP(C33,DEBUTSTEP!$AX$4:$AY$33,2,FALSE)","v":1},"Beaucoup d'erreurs",{"$f":"VLOOKUP(E33,DEBUTSTEP!$AX$4:$AY$33,2,FALSE)","v":1},"Beaucoup d'erreurs",{"$f":"VLOOKUP(G33,DEBUTSTEP!$AX$4:$AY$33,2,FALSE)","v":1},"Beaucoup d'erreurs",{"$f":"VLOOKUP(I33,DEBUTSTEP!$AX$4:$AY$33,2,FALSE)","v":1},"Beaucoup d'erreurs",{"$f":"VLOOKUP(K33,DEBUTSTEP!$AX$4:$AY$33,2,FALSE)","v":1},"Beaucoup d'erreurs",{"$f":"VLOOKUP(M33,DEBUTSTEP!$AX$4:$AY$33,2,FALSE)","v":1},"Beaucoup d'erreurs",{"$f":"VLOOKUP(O33,DEBUTSTEP!$AX$4:$AY$33,2,FALSE)","v":1},"Beaucoup d'erreurs",{"$f":"VLOOKUP(Q33,DEBUTSTEP!$AX$4:$AY$33,2,FALSE)","v":1},"Beaucoup d'erreurs",{"$f":"VLOOKUP(S33,DEBUTSTEP!$AX$4:$AY$33,2,FALSE)","v":1},"Beaucoup d'erreurs",{"$f":"VLOOKUP(U33,DEBUTSTEP!$AX$4:$AY$33,2,FALSE)","v":1},"Beaucoup d'erreurs",{"$f":"VLOOKUP(W33,DEBUTSTEP!$AX$4:$AY$33,2,FALSE)","v":1},"Beaucoup d'erreurs",{"$f":"VLOOKUP(Y33,DEBUTSTEP!$AX$4:$AY$33,2,FALSE)","v":1},"Beaucoup d'erreurs",{"$f":"VLOOKUP(AA33,DEBUTSTEP!$AX$4:$AY$33,2,FALSE)","v":1},"Beaucoup d'erreurs",{"$f":"VLOOKUP(AC33,DEBUTSTEP!$AX$4:$AY$33,2,FALSE)","v":1},"Beaucoup d'erreurs",{"$f":"VLOOKUP(AE33,DEBUTSTEP!$AX$4:$AY$33,2,FALSE)","v":1},"Beaucoup d'erreurs",{"$f":"VLOOKUP(AG33,DEBUTSTEP!$AX$4:$AY$33,2,FALSE)","v":1},"Beaucoup d'erreurs",{"$f":"VLOOKUP(AI33,DEBUTSTEP!$AX$4:$AY$33,2,FALSE)","v":1},"Beaucoup d'erreurs",{"$f":"VLOOKUP(AK33,DEBUTSTEP!$AX$4:$AY$33,2,FALSE)","v":1},"Beaucoup d'erreurs",{"$f":"VLOOKUP(AM33,DEBUTSTEP!$AX$4:$AY$33,2,FALSE)","v":1},"Beaucoup d'erreurs",{"$f":"VLOOKUP(AO33,DEBUTSTEP!$AX$4:$AY$33,2,FALSE)","v":1},"Beaucoup d'erreurs",{"$f":"VLOOKUP(AQ33,DEBUTSTEP!$AX$4:$AY$33,2,FALSE)","v":1},"Beaucoup d'erreurs",{"$f":"VLOOKUP(AS33,DEBUTSTEP!$AX$4:$AY$33,2,FALSE)","v":1},"Beaucoup d'erreurs",{"$f":"VLOOKUP(AU33,DEBUTSTEP!$AX$4:$AY$33,2,FALSE)","v":1},"Beaucoup d'erreurs",{"$f":"VLOOKUP(AW33,DEBUTSTEP!$AX$4:$AY$33,2,FALSE)","v":1},"Beaucoup d'erreurs",{"$f":"VLOOKUP(AY33,DEBUTSTEP!$AX$4:$AY$33,2,FALSE)","v":1},"Beaucoup d'erreurs",{"$f":"VLOOKUP(BA33,DEBUTSTEP!$AX$4:$AY$33,2,FALSE)","v":1},"Beaucoup d'erreurs",{"$f":"VLOOKUP(BC33,DEBUTSTEP!$AX$4:$AY$33,2,FALSE)","v":1},"Beaucoup d'erreurs",{"$f":"VLOOKUP(BE33,DEBUTSTEP!$AX$4:$AY$33,2,FALSE)","v":1},"Beaucoup d'erreurs",{"$f":"VLOOKUP(BG33,DEBUTSTEP!$AX$4:$AY$33,2,FALSE)","v":1},"Beaucoup d'erreurs",{"$f":"VLOOKUP(BI33,DEBUTSTEP!$AX$4:$AY$33,2,FALSE)","v":1},"Beaucoup d'erreurs",{"$f":"VLOOKUP(BK33,DEBUTSTEP!$AX$4:$AY$33,2,FALSE)","v":1},"Beaucoup d'erreurs",{"$f":"VLOOKUP(BM33,DEBUTSTEP!$AX$4:$AY$33,2,FALSE)","v":1},"Beaucoup d'erreurs",{"$f":"VLOOKUP(BO33,DEBUTSTEP!$AX$4:$AY$33,2,FALSE)","v":1},"Beaucoup d'erreurs",{"$f":"VLOOKUP(BQ33,DEBUTSTEP!$AX$4:$AY$33,2,FALSE)","v":1},"Beaucoup d'erreurs",{"$f":"VLOOKUP(BS33,DEBUTSTEP!$AX$4:$AY$33,2,FALSE)","v":1}]
[null,{"$f":"DEBUTSTEP!$AZ$4","v":"Analyse de sa prestation"},"Pertinente",{"$f":"VLOOKUP(C34,DEBUTSTEP!$AZ$4:$BA$33,2,FALSE)","v":3},"Pertinente",{"$f":"VLOOKUP(E34,DEBUTSTEP!$AZ$4:$BA$33,2,FALSE)","v":3},"Pertinente",{"$f":"VLOOKUP(G34,DEBUTSTEP!$AZ$4:$BA$33,2,FALSE)","v":3},"Pertinente",{"$f":"VLOOKUP(I34,DEBUTSTEP!$AZ$4:$BA$33,2,FALSE)","v":3},"Pertinente",{"$f":"VLOOKUP(K34,DEBUTSTEP!$AZ$4:$BA$33,2,FALSE)","v":3},"Pertinente",{"$f":"VLOOKUP(M34,DEBUTSTEP!$AZ$4:$BA$33,2,FALSE)","v":3},"Pertinente",{"$f":"VLOOKUP(O34,DEBUTSTEP!$AZ$4:$BA$33,2,FALSE)","v":3},"Pertinente",{"$f":"VLOOKUP(Q34,DEBUTSTEP!$AZ$4:$BA$33,2,FALSE)","v":3},"Pertinente",{"$f":"VLOOKUP(S34,DEBUTSTEP!$AZ$4:$BA$33,2,FALSE)","v":3},"Pertinente",{"$f":"VLOOKUP(U34,DEBUTSTEP!$AZ$4:$BA$33,2,FALSE)","v":3},"Pertinente",{"$f":"VLOOKUP(W34,DEBUTSTEP!$AZ$4:$BA$33,2,FALSE)","v":3},"Pertinente",{"$f":"VLOOKUP(Y34,DEBUTSTEP!$AZ$4:$BA$33,2,FALSE)","v":3},"Pertinente",{"$f":"VLOOKUP(AA34,DEBUTSTEP!$AZ$4:$BA$33,2,FALSE)","v":3},"Pertinente",{"$f":"VLOOKUP(AC34,DEBUTSTEP!$AZ$4:$BA$33,2,FALSE)","v":3},"Pertinente",{"$f":"VLOOKUP(AE34,DEBUTSTEP!$AZ$4:$BA$33,2,FALSE)","v":3},"Pertinente",{"$f":"VLOOKUP(AG34,DEBUTSTEP!$AZ$4:$BA$33,2,FALSE)","v":3},"Pertinente",{"$f":"VLOOKUP(AI34,DEBUTSTEP!$AZ$4:$BA$33,2,FALSE)","v":3},"Pertinente",{"$f":"VLOOKUP(AK34,DEBUTSTEP!$AZ$4:$BA$33,2,FALSE)","v":3},"Pertinente",{"$f":"VLOOKUP(AM34,DEBUTSTEP!$AZ$4:$BA$33,2,FALSE)","v":3},"Pertinente",{"$f":"VLOOKUP(AO34,DEBUTSTEP!$AZ$4:$BA$33,2,FALSE)","v":3},"Pertinente",{"$f":"VLOOKUP(AQ34,DEBUTSTEP!$AZ$4:$BA$33,2,FALSE)","v":3},"Pertinente",{"$f":"VLOOKUP(AS34,DEBUTSTEP!$AZ$4:$BA$33,2,FALSE)","v":3},"Pertinente",{"$f":"VLOOKUP(AU34,DEBUTSTEP!$AZ$4:$BA$33,2,FALSE)","v":3},"Pertinente",{"$f":"VLOOKUP(AW34,DEBUTSTEP!$AZ$4:$BA$33,2,FALSE)","v":3},"Pertinente",{"$f":"VLOOKUP(AY34,DEBUTSTEP!$AZ$4:$BA$33,2,FALSE)","v":3},"Pertinente",{"$f":"VLOOKUP(BA34,DEBUTSTEP!$AZ$4:$BA$33,2,FALSE)","v":3},"Pertinente",{"$f":"VLOOKUP(BC34,DEBUTSTEP!$AZ$4:$BA$33,2,FALSE)","v":3},"Pertinente",{"$f":"VLOOKUP(BE34,DEBUTSTEP!$AZ$4:$BA$33,2,FALSE)","v":3},"Pertinente",{"$f":"VLOOKUP(BG34,DEBUTSTEP!$AZ$4:$BA$33,2,FALSE)","v":3},"Pertinente",{"$f":"VLOOKUP(BI34,DEBUTSTEP!$AZ$4:$BA$33,2,FALSE)","v":3},"Pertinente",{"$f":"VLOOKUP(BK34,DEBUTSTEP!$AZ$4:$BA$33,2,FALSE)","v":3},"Pertinente",{"$f":"VLOOKUP(BM34,DEBUTSTEP!$AZ$4:$BA$33,2,FALSE)","v":3},"Pertinente",{"$f":"VLOOKUP(BO34,DEBUTSTEP!$AZ$4:$BA$33,2,FALSE)","v":3},"Pertinente",{"$f":"VLOOKUP(BQ34,DEBUTSTEP!$AZ$4:$BA$33,2,FALSE)","v":3},"Pertinente",{"$f":"VLOOKUP(BS34,DEBUTSTEP!$AZ$4:$BA$33,2,FALSE)","v":3}]
[null,"NOTE",{"$f":"IF(OR(D29=\"x\",D30=\"x\",D31=\"x\",D32=\"x\",D33=\"x\",D34=\"x\"),\"ABSENT\",SUMIF(D29,\"<>X\")+SUMIF(D30,\"<>X\")+SUMIF(D31,\"<>X\")+SUMIF(D32,\"<>X\")+SUMIF(D33,\"<>X\")+SUMIF(D34,\"<>X\"))","v":7},null,{"$f":"IF(OR(F29=\"x\",F30=\"x\",F31=\"x\",F32=\"x\",F33=\"x\",F34=\"x\"),\"ABSENT\",SUMIF(F29,\"<>X\")+SUMIF(F30,\"<>X\")+SUMIF(F31,\"<>X\")+SUMIF(F32,\"<>X\")+SUMIF(F33,\"<>X\")+SUMIF(F34,\"<>X\"))","v":7},null,{"$f":"IF(OR(H29=\"x\",H30=\"x\",H31=\"x\",H32=\"x\",H33=\"x\",H34=\"x\"),\"ABSENT\",SUMIF(H29,\"<>X\")+SUMIF(H30,\"<>X\")+SUMIF(H31,\"<>X\")+SUMIF(H32,\"<>X\")+SUMIF(H33,\"<>X\")+SUMIF(H34,\"<>X\"))","v":7},null,{"$f":"IF(OR(J29=\"x\",J30=\"x\",J31=\"x\",J32=\"x\",J33=\"x\",J34=\"x\"),\"ABSENT\",SUMIF(J29,\"<>X\")+SUMIF(J30,\"<>X\")+SUMIF(J31,\"<>X\")+SUMIF(J32,\"<>X\")+SUMIF(J33,\"<>X\")+SUMIF(J34,\"<>X\"))","v":7},null,{"$f":"IF(OR(L29=\"x\",L30=\"x\",L31=\"x\",L32=\"x\",L33=\"x\",L34=\"x\"),\"ABSENT\",SUMIF(L29,\"<>X\")+SUMIF(L30,\"<>X\")+SUMIF(L31,\"<>X\")+SUMIF(L32,\"<>X\")+SUMIF(L33,\"<>X\")+SUMIF(L34,\"<>X\"))","v":7},null,{"$f":"IF(OR(N29=\"x\",N30=\"x\",N31=\"x\",N32=\"x\",N33=\"x\",N34=\"x\"),\"ABSENT\",SUMIF(N29,\"<>X\")+SUMIF(N30,\"<>X\")+SUMIF(N31,\"<>X\")+SUMIF(N32,\"<>X\")+SUMIF(N33,\"<>X\")+SUMIF(N34,\"<>X\"))","v":7},null,{"$f":"IF(OR(P29=\"x\",P30=\"x\",P31=\"x\",P32=\"x\",P33=\"x\",P34=\"x\"),\"ABSENT\",SUMIF(P29,\"<>X\")+SUMIF(P30,\"<>X\")+SUMIF(P31,\"<>X\")+SUMIF(P32,\"<>X\")+SUMIF(P33,\"<>X\")+SUMIF(P34,\"<>X\"))","v":7},null,{"$f":"IF(OR(R29=\"x\",R30=\"x\",R31=\"x\",R32=\"x\",R33=\"x\",R34=\"x\"),\"ABSENT\",SUMIF(R29,\"<>X\")+SUMIF(R30,\"<>X\")+SUMIF(R31,\"<>X\")+SUMIF(R32,\"<>X\")+SUMIF(R33,\"<>X\")+SUMIF(R34,\"<>X\"))","v":7},null,{"$f":"IF(OR(T29=\"x\",T30=\"x\",T31=\"x\",T32=\"x\",T33=\"x\",T34=\"x\"),\"ABSENT\",SUMIF(T29,\"<>X\")+SUMIF(T30,\"<>X\")+SUMIF(T31,\"<>X\")+SUMIF(T32,\"<>X\")+SUMIF(T33,\"<>X\")+SUMIF(T34,\"<>X\"))","v":7},null,{"$f":"IF(OR(V29=\"x\",V30=\"x\",V31=\"x\",V32=\"x\",V33=\"x\",V34=\"x\"),\"ABSENT\",SUMIF(V29,\"<>X\")+SUMIF(V30,\"<>X\")+SUMIF(V31,\"<>X\")+SUMIF(V32,\"<>X\")+SUMIF(V33,\"<>X\")+SUMIF(V34,\"<>X\"))","v":7},null,{"$f":"IF(OR(X29=\"x\",X30=\"x\",X31=\"x\",X32=\"x\",X33=\"x\",X34=\"x\"),\"ABSENT\",SUMIF(X29,\"<>X\")+SUMIF(X30,\"<>X\")+SUMIF(X31,\"<>X\")+SUMIF(X32,\"<>X\")+SUMIF(X33,\"<>X\")+SUMIF(X34,\"<>X\"))","v":7},null,{"$f":"IF(OR(Z29=\"x\",Z30=\"x\",Z31=\"x\",Z32=\"x\",Z33=\"x\",Z34=\"x\"),\"ABSENT\",SUMIF(Z29,\"<>X\")+SUMIF(Z30,\"<>X\")+SUMIF(Z31,\"<>X\")+SUMIF(Z32,\"<>X\")+SUMIF(Z33,\"<>X\")+SUMIF(Z34,\"<>X\"))","v":7},null,{"$f":"IF(OR(AB29=\"x\",AB30=\"x\",AB31=\"x\",AB32=\"x\",AB33=\"x\",AB34=\"x\"),\"ABSENT\",SUMIF(AB29,\"<>X\")+SUMIF(AB30,\"<>X\")+SUMIF(AB31,\"<>X\")+SUMIF(AB32,\"<>X\")+SUMIF(AB33,\"<>X\")+SUMIF(AB34,\"<>X\"))","v":7},null,{"$f":"IF(OR(AD29=\"x\",AD30=\"x\",AD31=\"x\",AD32=\"x\",AD33=\"x\",AD34=\"x\"),\"ABSENT\",SUMIF(AD29,\"<>X\")+SUMIF(AD30,\"<>X\")+SUMIF(AD31,\"<>X\")+SUMIF(AD32,\"<>X\")+SUMIF(AD33,\"<>X\")+SUMIF(AD34,\"<>X\"))","v":7},null,{"$f":"IF(OR(AF29=\"x\",AF30=\"x\",AF31=\"x\",AF32=\"x\",AF33=\"x\",AF34=\"x\"),\"ABSENT\",SUMIF(AF29,\"<>X\")+SUMIF(AF30,\"<>X\")+SUMIF(AF31,\"<>X\")+SUMIF(AF32,\"<>X\")+SUMIF(AF33,\"<>X\")+SUMIF(AF34,\"<>X\"))","v":7},null,{"$f":"IF(OR(AH29=\"x\",AH30=\"x\",AH31=\"x\",AH32=\"x\",AH33=\"x\",AH34=\"x\"),\"ABSENT\",SUMIF(AH29,\"<>X\")+SUMIF(AH30,\"<>X\")+SUMIF(AH31,\"<>X\")+SUMIF(AH32,\"<>X\")+SUMIF(AH33,\"<>X\")+SUMIF(AH34,\"<>X\"))","v":7},null,{"$f":"IF(OR(AJ29=\"x\",AJ30=\"x\",AJ31=\"x\",AJ32=\"x\",AJ33=\"x\",AJ34=\"x\"),\"ABSENT\",SUMIF(AJ29,\"<>X\")+SUMIF(AJ30,\"<>X\")+SUMIF(AJ31,\"<>X\")+SUMIF(AJ32,\"<>X\")+SUMIF(AJ33,\"<>X\")+SUMIF(AJ34,\"<>X\"))","v":7},null,{"$f":"IF(OR(AL29=\"x\",AL30=\"x\",AL31=\"x\",AL32=\"x\",AL33=\"x\",AL34=\"x\"),\"ABSENT\",SUMIF(AL29,\"<>X\")+SUMIF(AL30,\"<>X\")+SUMIF(AL31,\"<>X\")+SUMIF(AL32,\"<>X\")+SUMIF(AL33,\"<>X\")+SUMIF(AL34,\"<>X\"))","v":7},null,{"$f":"IF(OR(AN29=\"x\",AN30=\"x\",AN31=\"x\",AN32=\"x\",AN33=\"x\",AN34=\"x\"),\"ABSENT\",SUMIF(AN29,\"<>X\")+SUMIF(AN30,\"<>X\")+SUMIF(AN31,\"<>X\")+SUMIF(AN32,\"<>X\")+SUMIF(AN33,\"<>X\")+SUMIF(AN34,\"<>X\"))","v":7},null,{"$f":"IF(OR(AP29=\"x\",AP30=\"x\",AP31=\"x\",AP32=\"x\",AP33=\"x\",AP34=\"x\"),\"ABSENT\",SUMIF(AP29,\"<>X\")+SUMIF(AP30,\"<>X\")+SUMIF(AP31,\"<>X\")+SUMIF(AP32,\"<>X\")+SUMIF(AP33,\"<>X\")+SUMIF(AP34,\"<>X\"))","v":7},null,{"$f":"IF(OR(AR29=\"x\",AR30=\"x\",AR31=\"x\",AR32=\"x\",AR33=\"x\",AR34=\"x\"),\"ABSENT\",SUMIF(AR29,\"<>X\")+SUMIF(AR30,\"<>X\")+SUMIF(AR31,\"<>X\")+SUMIF(AR32,\"<>X\")+SUMIF(AR33,\"<>X\")+SUMIF(AR34,\"<>X\"))","v":7},null,{"$f":"IF(OR(AT29=\"x\",AT30=\"x\",AT31=\"x\",AT32=\"x\",AT33=\"x\",AT34=\"x\"),\"ABSENT\",SUMIF(AT29,\"<>X\")+SUMIF(AT30,\"<>X\")+SUMIF(AT31,\"<>X\")+SUMIF(AT32,\"<>X\")+SUMIF(AT33,\"<>X\")+SUMIF(AT34,\"<>X\"))","v":7},null,{"$f":"IF(OR(AV29=\"x\",AV30=\"x\",AV31=\"x\",AV32=\"x\",AV33=\"x\",AV34=\"x\"),\"ABSENT\",SUMIF(AV29,\"<>X\")+SUMIF(AV30,\"<>X\")+SUMIF(AV31,\"<>X\")+SUMIF(AV32,\"<>X\")+SUMIF(AV33,\"<>X\")+SUMIF(AV34,\"<>X\"))","v":7},null,{"$f":"IF(OR(AX29=\"x\",AX30=\"x\",AX31=\"x\",AX32=\"x\",AX33=\"x\",AX34=\"x\"),\"ABSENT\",SUMIF(AX29,\"<>X\")+SUMIF(AX30,\"<>X\")+SUMIF(AX31,\"<>X\")+SUMIF(AX32,\"<>X\")+SUMIF(AX33,\"<>X\")+SUMIF(AX34,\"<>X\"))","v":7},null,{"$f":"IF(OR(AZ29=\"x\",AZ30=\"x\",AZ31=\"x\",AZ32=\"x\",AZ33=\"x\",AZ34=\"x\"),\"ABSENT\",SUMIF(AZ29,\"<>X\")+SUMIF(AZ30,\"<>X\")+SUMIF(AZ31,\"<>X\")+SUMIF(AZ32,\"<>X\")+SUMIF(AZ33,\"<>X\")+SUMIF(AZ34,\"<>X\"))","v":7},null,{"$f":"IF(OR(BB29=\"x\",BB30=\"x\",BB31=\"x\",BB32=\"x\",BB33=\"x\",BB34=\"x\"),\"ABSENT\",SUMIF(BB29,\"<>X\")+SUMIF(BB30,\"<>X\")+SUMIF(BB31,\"<>X\")+SUMIF(BB32,\"<>X\")+SUMIF(BB33,\"<>X\")+SUMIF(BB34,\"<>X\"))","v":7},null,{"$f":"IF(OR(BD29=\"x\",BD30=\"x\",BD31=\"x\",BD32=\"x\",BD33=\"x\",BD34=\"x\"),\"ABSENT\",SUMIF(BD29,\"<>X\")+SUMIF(BD30,\"<>X\")+SUMIF(BD31,\"<>X\")+SUMIF(BD32,\"<>X\")+SUMIF(BD33,\"<>X\")+SUMIF(BD34,\"<>X\"))","v":7},null,{"$f":"IF(OR(BF29=\"x\",BF30=\"x\",BF31=\"x\",BF32=\"x\",BF33=\"x\",BF34=\"x\"),\"ABSENT\",SUMIF(BF29,\"<>X\")+SUMIF(BF30,\"<>X\")+SUMIF(BF31,\"<>X\")+SUMIF(BF32,\"<>X\")+SUMIF(BF33,\"<>X\")+SUMIF(BF34,\"<>X\"))","v":7},null,{"$f":"IF(OR(BH29=\"x\",BH30=\"x\",BH31=\"x\",BH32=\"x\",BH33=\"x\",BH34=\"x\"),\"ABSENT\",SUMIF(BH29,\"<>X\")+SUMIF(BH30,\"<>X\")+SUMIF(BH31,\"<>X\")+SUMIF(BH32,\"<>X\")+SUMIF(BH33,\"<>X\")+SUMIF(BH34,\"<>X\"))","v":7},null,{"$f":"IF(OR(BJ29=\"x\",BJ30=\"x\",BJ31=\"x\",BJ32=\"x\",BJ33=\"x\",BJ34=\"x\"),\"ABSENT\",SUMIF(BJ29,\"<>X\")+SUMIF(BJ30,\"<>X\")+SUMIF(BJ31,\"<>X\")+SUMIF(BJ32,\"<>X\")+SUMIF(BJ33,\"<>X\")+SUMIF(BJ34,\"<>X\"))","v":7},null,{"$f":"IF(OR(BL29=\"x\",BL30=\"x\",BL31=\"x\",BL32=\"x\",BL33=\"x\",BL34=\"x\"),\"ABSENT\",SUMIF(BL29,\"<>X\")+SUMIF(BL30,\"<>X\")+SUMIF(BL31,\"<>X\")+SUMIF(BL32,\"<>X\")+SUMIF(BL33,\"<>X\")+SUMIF(BL34,\"<>X\"))","v":7},null,{"$f":"IF(OR(BN29=\"x\",BN30=\"x\",BN31=\"x\",BN32=\"x\",BN33=\"x\",BN34=\"x\"),\"ABSENT\",SUMIF(BN29,\"<>X\")+SUMIF(BN30,\"<>X\")+SUMIF(BN31,\"<>X\")+SUMIF(BN32,\"<>X\")+SUMIF(BN33,\"<>X\")+SUMIF(BN34,\"<>X\"))","v":7},null,{"$f":"IF(OR(BP29=\"x\",BP30=\"x\",BP31=\"x\",BP32=\"x\",BP33=\"x\",BP34=\"x\"),\"ABSENT\",SUMIF(BP29,\"<>X\")+SUMIF(BP30,\"<>X\")+SUMIF(BP31,\"<>X\")+SUMIF(BP32,\"<>X\")+SUMIF(BP33,\"<>X\")+SUMIF(BP34,\"<>X\"))","v":7},null,{"$f":"IF(OR(BR29=\"x\",BR30=\"x\",BR31=\"x\",BR32=\"x\",BR33=\"x\",BR34=\"x\"),\"ABSENT\",SUMIF(BR29,\"<>X\")+SUMIF(BR30,\"<>X\")+SUMIF(BR31,\"<>X\")+SUMIF(BR32,\"<>X\")+SUMIF(BR33,\"<>X\")+SUMIF(BR34,\"<>X\"))","v":7},null,{"$f":"IF(OR(BT29=\"x\",BT30=\"x\",BT31=\"x\",BT32=\"x\",BT33=\"x\",BT34=\"x\"),\"ABSENT\",SUMIF(BT29,\"<>X\")+SUMIF(BT30,\"<>X\")+SUMIF(BT31,\"<>X\")+SUMIF(BT32,\"<>X\")+SUMIF(BT33,\"<>X\")+SUMIF(BT34,\"<>X\"))","v":7}]
[]
["SEANCE 5",{"$f":"DEBUTSTEP!$AP$4","v":"Prendre sa FC efficacement"},"Jamais",{"$f":"VLOOKUP(C37,DEBUTSTEP!$AP$4:$AQ$33,2,FALSE)","v":"NA"},"Jamais",{"$f":"VLOOKUP(E37,DEBUTSTEP!$AP$4:$AQ$33,2,FALSE)","v":"NA"},"Jamais",{"$f":"VLOOKUP(G37,DEBUTSTEP!$AP$4:$AQ$33,2,FALSE)","v":"NA"},"Jamais",{"$f":"VLOOKUP(I37,DEBUTSTEP!$AP$4:$AQ$33,2,FALSE)","v":"NA"},"Jamais",{"$f":"VLOOKUP(K37,DEBUTSTEP!$AP$4:$AQ$33,2,FALSE)","v":"NA"},"Jamais",{"$f":"VLOOKUP(M37,DEBUTSTEP!$AP$4:$AQ$33,2,FALSE)","v":"NA"},"Jamais",{"$f":"VLOOKUP(O37,DEBUTSTEP!$AP$4:$AQ$33,2,FALSE)","v":"NA"},"Jamais",{"$f":"VLOOKUP(Q37,DEBUTSTEP!$AP$4:$AQ$33,2,FALSE)","v":"NA"},"Jamais",{"$f":"VLOOKUP(S37,DEBUTSTEP!$AP$4:$AQ$33,2,FALSE)","v":"NA"},"Jamais",{"$f":"VLOOKUP(U37,DEBUTSTEP!$AP$4:$AQ$33,2,FALSE)","v":"NA"},"Jamais",{"$f":"VLOOKUP(W37,DEBUTSTEP!$AP$4:$AQ$33,2,FALSE)","v":"NA"},"Jamais",{"$f":"VLOOKUP(Y37,DEBUTSTEP!$AP$4:$AQ$33,2,FALSE)","v":"NA"},"Jamais",{"$f":"VLOOKUP(AA37,DEBUTSTEP!$AP$4:$AQ$33,2,FALSE)","v":"NA"},"Jamais",{"$f":"VLOOKUP(AC37,DEBUTSTEP!$AP$4:$AQ$33,2,FALSE)","v":"NA"},"Jamais",{"$f":"VLOOKUP(AE37,DEBUTSTEP!$AP$4:$AQ$33,2,FALSE)","v":"NA"},"Jamais",{"$f":"VLOOKUP(AG37,DEBUTSTEP!$AP$4:$AQ$33,2,FALSE)","v":"NA"},"Jamais",{"$f":"VLOOKUP(AI37,DEBUTSTEP!$AP$4:$AQ$33,2,FALSE)","v":"NA"},"Jamais",{"$f":"VLOOKUP(AK37,DEBUTSTEP!$AP$4:$AQ$33,2,FALSE)","v":"NA"},"Jamais",{"$f":"VLOOKUP(AM37,DEBUTSTEP!$AP$4:$AQ$33,2,FALSE)","v":"NA"},"Jamais",{"$f":"VLOOKUP(AO37,DEBUTSTEP!$AP$4:$AQ$33,2,FALSE)","v":"NA"},"Jamais",{"$f":"VLOOKUP(AQ37,DEBUTSTEP!$AP$4:$AQ$33,2,FALSE)","v":"NA"},"Jamais",{"$f":"VLOOKUP(AS37,DEBUTSTEP!$AP$4:$AQ$33,2,FALSE)","v":"NA"},"Jamais",{"$f":"VLOOKUP(AU37,DEBUTSTEP!$AP$4:$AQ$33,2,FALSE)","v":"NA"},"Jamais",{"$f":"VLOOKUP(AW37,DEBUTSTEP!$AP$4:$AQ$33,2,FALSE)","v":"NA"},"Jamais",{"$f":"VLOOKUP(AY37,DEBUTSTEP!$AP$4:$AQ$33,2,FALSE)","v":"NA"},"Jamais",{"$f":"VLOOKUP(BA37,DEBUTSTEP!$AP$4:$AQ$33,2,FALSE)","v":"NA"},"Jamais",{"$f":"VLOOKUP(BC37,DEBUTSTEP!$AP$4:$AQ$33,2,FALSE)","v":"NA"},"Jamais",{"$f":"VLOOKUP(BE37,DEBUTSTEP!$AP$4:$AQ$33,2,FALSE)","v":"NA"},"Jamais",{"$f":"VLOOKUP(BG37,DEBUTSTEP!$AP$4:$AQ$33,2,FALSE)","v":"NA"},"Jamais",{"$f":"VLOOKUP(BI37,DEBUTSTEP!$AP$4:$AQ$33,2,FALSE)","v":"NA"},"Jamais",{"$f":"VLOOKUP(BK37,DEBUTSTEP!$AP$4:$AQ$33,2,FALSE)","v":"NA"},"Jamais",{"$f":"VLOOKUP(BM37,DEBUTSTEP!$AP$4:$AQ$33,2,FALSE)","v":"NA"},"Jamais",{"$f":"VLOOKUP(BO37,DEBUTSTEP!$AP$4:$AQ$33,2,FALSE)","v":"NA"},"Jamais",{"$f":"VLOOKUP(BQ37,DEBUTSTEP!$AP$4:$AQ$33,2,FALSE)","v":"NA"},"Jamais",{"$f":"VLOOKUP(BS37,DEBUTSTEP!$AP$4:$AQ$33,2,FALSE)","v":"NA"}]
[null,{"$f":"DEBUTSTEP!$AR$4","v":"S'engager dans le mobile"},"Faible",{"$f":"VLOOKUP(C38,DEBUTSTEP!$AR$4:$AS$33,2,FALSE)","v":1},"Faible",{"$f":"VLOOKUP(E38,DEBUTSTEP!$AR$4:$AS$33,2,FALSE)","v":1},"Faible",{"$f":"VLOOKUP(G38,DEBUTSTEP!$AR$4:$AS$33,2,FALSE)","v":1},"Faible",{"$f":"VLOOKUP(I38,DEBUTSTEP!$AR$4:$AS$33,2,FALSE)","v":1},"Faible",{"$f":"VLOOKUP(K38,DEBUTSTEP!$AR$4:$AS$33,2,FALSE)","v":1},"Faible",{"$f":"VLOOKUP(M38,DEBUTSTEP!$AR$4:$AS$33,2,FALSE)","v":1},"Faible",{"$f":"VLOOKUP(O38,DEBUTSTEP!$AR$4:$AS$33,2,FALSE)","v":1},"Faible",{"$f":"VLOOKUP(Q38,DEBUTSTEP!$AR$4:$AS$33,2,FALSE)","v":1},"Faible",{"$f":"VLOOKUP(S38,DEBUTSTEP!$AR$4:$AS$33,2,FALSE)","v":1},"Faible",{"$f":"VLOOKUP(U38,DEBUTSTEP!$AR$4:$AS$33,2,FALSE)","v":1},"Faible",{"$f":"VLOOKUP(W38,DEBUTSTEP!$AR$4:$AS$33,2,FALSE)","v":1},"Faible",{"$f":"VLOOKUP(Y38,DEBUTSTEP!$AR$4:$AS$33,2,FALSE)","v":1},"Faible",{"$f":"VLOOKUP(AA38,DEBUTSTEP!$AR$4:$AS$33,2,FALSE)","v":1},"Faible",{"$f":"VLOOKUP(AC38,DEBUTSTEP!$AR$4:$AS$33,2,FALSE)","v":1},"Faible",{"$f":"VLOOKUP(AE38,DEBUTSTEP!$AR$4:$AS$33,2,FALSE)","v":1},"Faible",{"$f":"VLOOKUP(AG38,DEBUTSTEP!$AR$4:$AS$33,2,FALSE)","v":1},"Faible",{"$f":"VLOOKUP(AI38,DEBUTSTEP!$AR$4:$AS$33,2,FALSE)","v":1},"Faible",{"$f":"VLOOKUP(AK38,DEBUTSTEP!$AR$4:$AS$33,2,FALSE)","v":1},"Faible",{"$f":"VLOOKUP(AM38,DEBUTSTEP!$AR$4:$AS$33,2,FALSE)","v":1},"Faible",{"$f":"VLOOKUP(AO38,DEBUTSTEP!$AR$4:$AS$33,2,FALSE)","v":1},"Faible",{"$f":"VLOOKUP(AQ38,DEBUTSTEP!$AR$4:$AS$33,2,FALSE)","v":1},"Faible",{"$f":"VLOOKUP(AS38,DEBUTSTEP!$AR$4:$AS$33,2,FALSE)","v":1},"Faible",{"$f":"VLOOKUP(AU38,DEBUTSTEP!$AR$4:$AS$33,2,FALSE)","v":1},"Faible",{"$f":"VLOOKUP(AW38,DEBUTSTEP!$AR$4:$AS$33,2,FALSE)","v":1},"Faible",{"$f":"VLOOKUP(AY38,DEBUTSTEP!$AR$4:$AS$33,2,FALSE)","v":1},"Faible",{"$f":"VLOOKUP(BA38,DEBUTSTEP!$AR$4:$AS$33,2,FALSE)","v":1},"Faible",{"$f":"VLOOKUP(BC38,DEBUTSTEP!$AR$4:$AS$33,2,FALSE)","v":1},"Faible",{"$f":"VLOOKUP(BE38,DEBUTSTEP!$AR$4:$AS$33,2,FALSE)","v":1},"Faible",{"$f":"VLOOKUP(BG38,DEBUTSTEP!$AR$4:$AS$33,2,FALSE)","v":1},"Faible",{"$f":"VLOOKUP(BI38,DEBUTSTEP!$AR$4:$AS$33,2,FALSE)","v":1},"Faible",{"$f":"VLOOKUP(BK38,DEBUTSTEP!$AR$4:$AS$33,2,FALSE)","v":1},"Faible",{"$f":"VLOOKUP(BM38,DEBUTSTEP!$AR$4:$AS$33,2,FALSE)","v":1},"Faible",{"$f":"VLOOKUP(BO38,DEBUTSTEP!$AR$4:$AS$33,2,FALSE)","v":1},"Faible",{"$f":"VLOOKUP(BQ38,DEBUTSTEP!$AR$4:$AS$33,2,FALSE)","v":1},"Faible",{"$f":"VLOOKUP(BS38,DEBUTSTEP!$AR$4:$AS$33,2,FALSE)","v":1}]
[null,{"$f":"DEBUTSTEP!$AT$4","v":"Agir en sécu"},"Quelques avertissements",{"$f":"VLOOKUP(C39,DEBUTSTEP!$AT$4:$AU$33,2,FALSE)","v":1},"Quelques avertissements",{"$f":"VLOOKUP(E39,DEBUTSTEP!$AT$4:$AU$33,2,FALSE)","v":1},"Quelques avertissements",{"$f":"VLOOKUP(G39,DEBUTSTEP!$AT$4:$AU$33,2,FALSE)","v":1},"Quelques avertissements",{"$f":"VLOOKUP(I39,DEBUTSTEP!$AT$4:$AU$33,2,FALSE)","v":1},"Quelques avertissements",{"$f":"VLOOKUP(K39,DEBUTSTEP!$AT$4:$AU$33,2,FALSE)","v":1},"Quelques avertissements",{"$f":"VLOOKUP(M39,DEBUTSTEP!$AT$4:$AU$33,2,FALSE)","v":1},"Quelques avertissements",{"$f":"VLOOKUP(O39,DEBUTSTEP!$AT$4:$AU$33,2,FALSE)","v":1},"Quelques avertissements",{"$f":"VLOOKUP(Q39,DEBUTSTEP!$AT$4:$AU$33,2,FALSE)","v":1},"Quelques avertissements",{"$f":"VLOOKUP(S39,DEBUTSTEP!$AT$4:$AU$33,2,FALSE)","v":1},"Quelques avertissements",{"$f":"VLOOKUP(U39,DEBUTSTEP!$AT$4:$AU$33,2,FALSE)","v":1},"Quelques avertissements",{"$f":"VLOOKUP(W39,DEBUTSTEP!$AT$4:$AU$33,2,FALSE)","v":1},"Quelques avertissements",{"$f":"VLOOKUP(Y39,DEBUTSTEP!$AT$4:$AU$33,2,FALSE)","v":1},"Quelques avertissements",{"$f":"VLOOKUP(AA39,DEBUTSTEP!$AT$4:$AU$33,2,FALSE)","v":1},"Quelques avertissements",{"$f":"VLOOKUP(AC39,DEBUTSTEP!$AT$4:$AU$33,2,FALSE)","v":1},"Quelques avertissements",{"$f":"VLOOKUP(AE39,DEBUTSTEP!$AT$4:$AU$33,2,FALSE)","v":1},"Quelques avertissements",{"$f":"VLOOKUP(AG39,DEBUTSTEP!$AT$4:$AU$33,2,FALSE)","v":1},"Quelques avertissements",{"$f":"VLOOKUP(AI39,DEBUTSTEP!$AT$4:$AU$33,2,FALSE)","v":1},"Quelques avertissements",{"$f":"VLOOKUP(AK39,DEBUTSTEP!$AT$4:$AU$33,2,FALSE)","v":1},"Quelques avertissements",{"$f":"VLOOKUP(AM39,DEBUTSTEP!$AT$4:$AU$33,2,FALSE)","v":1},"Quelques avertissements",{"$f":"VLOOKUP(AO39,DEBUTSTEP!$AT$4:$AU$33,2,FALSE)","v":1},"Quelques avertissements",{"$f":"VLOOKUP(AQ39,DEBUTSTEP!$AT$4:$AU$33,2,FALSE)","v":1},"Quelques avertissements",{"$f":"VLOOKUP(AS39,DEBUTSTEP!$AT$4:$AU$33,2,FALSE)","v":1},"Quelques avertissements",{"$f":"VLOOKUP(AU39,DEBUTSTEP!$AT$4:$AU$33,2,FALSE)","v":1},"Quelques avertissements",{"$f":"VLOOKUP(AW39,DEBUTSTEP!$AT$4:$AU$33,2,FALSE)","v":1},"Quelques avertissements",{"$f":"VLOOKUP(AY39,DEBUTSTEP!$AT$4:$AU$33,2,FALSE)","v":1},"Quelques avertissements",{"$f":"VLOOKUP(BA39,DEBUTSTEP!$AT$4:$AU$33,2,FALSE)","v":1},"Quelques avertissements",{"$f":"VLOOKUP(BC39,DEBUTSTEP!$AT$4:$AU$33,2,FALSE)","v":1},"Quelques avertissements",{"$f":"VLOOKUP(BE39,DEBUTSTEP!$AT$4:$AU$33,2,FALSE)","v":1},"Quelques avertissements",{"$f":"VLOOKUP(BG39,DEBUTSTEP!$AT$4:$AU$33,2,FALSE)","v":1},"Quelques avertissements",{"$f":"VLOOKUP(BI39,DEBUTSTEP!$AT$4:$AU$33,2,FALSE)","v":1},"Quelques avertissements",{"$f":"VLOOKUP(BK39,DEBUTSTEP!$AT$4:$AU$33,2,FALSE)","v":1},"Quelques avertissements",{"$f":"VLOOKUP(BM39,DEBUTSTEP!$AT$4:$AU$33,2,FALSE)","v":1},"Quelques avertissements",{"$f":"VLOOKUP(BO39,DEBUTSTEP!$AT$4:$AU$33,2,FALSE)","v":1},"Quelques avertissements",{"$f":"VLOOKUP(BQ39,DEBUTSTEP!$AT$4:$AU$33,2,FALSE)","v":1},"Quelques avertissements",{"$f":"VLOOKUP(BS39,DEBUTSTEP!$AT$4:$AU$33,2,FALSE)","v":1}]
[null,{"$f":"DEBUTSTEP!$AV$4","v":"Respect de l'entrainement proposé"},"Aléatoire",{"$f":"VLOOKUP(C40,DEBUTSTEP!$AV$4:$AW$33,2,FALSE)","v":1},"Aléatoire",{"$f":"VLOOKUP(E40,DEBUTSTEP!$AV$4:$AW$33,2,FALSE)","v":1},"Aléatoire",{"$f":"VLOOKUP(G40,DEBUTSTEP!$AV$4:$AW$33,2,FALSE)","v":1},"Aléatoire",{"$f":"VLOOKUP(I40,DEBUTSTEP!$AV$4:$AW$33,2,FALSE)","v":1},"Aléatoire",{"$f":"VLOOKUP(K40,DEBUTSTEP!$AV$4:$AW$33,2,FALSE)","v":1},"Aléatoire",{"$f":"VLOOKUP(M40,DEBUTSTEP!$AV$4:$AW$33,2,FALSE)","v":1},"Aléatoire",{"$f":"VLOOKUP(O40,DEBUTSTEP!$AV$4:$AW$33,2,FALSE)","v":1},"Aléatoire",{"$f":"VLOOKUP(Q40,DEBUTSTEP!$AV$4:$AW$33,2,FALSE)","v":1},"Aléatoire",{"$f":"VLOOKUP(S40,DEBUTSTEP!$AV$4:$AW$33,2,FALSE)","v":1},"Aléatoire",{"$f":"VLOOKUP(U40,DEBUTSTEP!$AV$4:$AW$33,2,FALSE)","v":1},"Aléatoire",{"$f":"VLOOKUP(W40,DEBUTSTEP!$AV$4:$AW$33,2,FALSE)","v":1},"Aléatoire",{"$f":"VLOOKUP(Y40,DEBUTSTEP!$AV$4:$AW$33,2,FALSE)","v":1},"Aléatoire",{"$f":"VLOOKUP(AA40,DEBUTSTEP!$AV$4:$AW$33,2,FALSE)","v":1},"Aléatoire",{"$f":"VLOOKUP(AC40,DEBUTSTEP!$AV$4:$AW$33,2,FALSE)","v":1},"Aléatoire",{"$f":"VLOOKUP(AE40,DEBUTSTEP!$AV$4:$AW$33,2,FALSE)","v":1},"Aléatoire",{"$f":"VLOOKUP(AG40,DEBUTSTEP!$AV$4:$AW$33,2,FALSE)","v":1},"Aléatoire",{"$f":"VLOOKUP(AI40,DEBUTSTEP!$AV$4:$AW$33,2,FALSE)","v":1},"Aléatoire",{"$f":"VLOOKUP(AK40,DEBUTSTEP!$AV$4:$AW$33,2,FALSE)","v":1},"Aléatoire",{"$f":"VLOOKUP(AM40,DEBUTSTEP!$AV$4:$AW$33,2,FALSE)","v":1},"Aléatoire",{"$f":"VLOOKUP(AO40,DEBUTSTEP!$AV$4:$AW$33,2,FALSE)","v":1},"Aléatoire",{"$f":"VLOOKUP(AQ40,DEBUTSTEP!$AV$4:$AW$33,2,FALSE)","v":1},"Aléatoire",{"$f":"VLOOKUP(AS40,DEBUTSTEP!$AV$4:$AW$33,2,FALSE)","v":1},"Aléatoire",{"$f":"VLOOKUP(AU40,DEBUTSTEP!$AV$4:$AW$33,2,FALSE)","v":1},"Aléatoire",{"$f":"VLOOKUP(AW40,DEBUTSTEP!$AV$4:$AW$33,2,FALSE)","v":1},"Aléatoire",{"$f":"VLOOKUP(AY40,DEBUTSTEP!$AV$4:$AW$33,2,FALSE)","v":1},"Aléatoire",{"$f":"VLOOKUP(BA40,DEBUTSTEP!$AV$4:$AW$33,2,FALSE)","v":1},"Aléatoire",{"$f":"VLOOKUP(BC40,DEBUTSTEP!$AV$4:$AW$33,2,FALSE)","v":1},"Aléatoire",{"$f":"VLOOKUP(BE40,DEBUTSTEP!$AV$4:$AW$33,2,FALSE)","v":1},"Aléatoire",{"$f":"VLOOKUP(BG40,DEBUTSTEP!$AV$4:$AW$33,2,FALSE)","v":1},"Aléatoire",{"$f":"VLOOKUP(BI40,DEBUTSTEP!$AV$4:$AW$33,2,FALSE)","v":1},"Aléatoire",{"$f":"VLOOKUP(BK40,DEBUTSTEP!$AV$4:$AW$33,2,FALSE)","v":1},"Aléatoire",{"$f":"VLOOKUP(BM40,DEBUTSTEP!$AV$4:$AW$33,2,FALSE)","v":1},"Aléatoire",{"$f":"VLOOKUP(BO40,DEBUTSTEP!$AV$4:$AW$33,2,FALSE)","v":1},"Aléatoire",{"$f":"VLOOKUP(BQ40,DEBUTSTEP!$AV$4:$AW$33,2,FALSE)","v":1},"Aléatoire",{"$f":"VLOOKUP(BS40,DEBUTSTEP!$AV$4:$AW$33,2,FALSE)","v":1}]
[null,{"$f":"DEBUTSTEP!$AX$4","v":"Mémorisation des blocs"},"Beaucoup d'erreurs",{"$f":"VLOOKUP(C41,DEBUTSTEP!$AX$4:$AY$33,2,FALSE)","v":1},"Beaucoup d'erreurs",{"$f":"VLOOKUP(E41,DEBUTSTEP!$AX$4:$AY$33,2,FALSE)","v":1},"Beaucoup d'erreurs",{"$f":"VLOOKUP(G41,DEBUTSTEP!$AX$4:$AY$33,2,FALSE)","v":1},"Beaucoup d'erreurs",{"$f":"VLOOKUP(I41,DEBUTSTEP!$AX$4:$AY$33,2,FALSE)","v":1},"Beaucoup d'erreurs",{"$f":"VLOOKUP(K41,DEBUTSTEP!$AX$4:$AY$33,2,FALSE)","v":1},"Beaucoup d'erreurs",{"$f":"VLOOKUP(M41,DEBUTSTEP!$AX$4:$AY$33,2,FALSE)","v":1},"Beaucoup d'erreurs",{"$f":"VLOOKUP(O41,DEBUTSTEP!$AX$4:$AY$33,2,FALSE)","v":1},"Beaucoup d'erreurs",{"$f":"VLOOKUP(Q41,DEBUTSTEP!$AX$4:$AY$33,2,FALSE)","v":1},"Beaucoup d'erreurs",{"$f":"VLOOKUP(S41,DEBUTSTEP!$AX$4:$AY$33,2,FALSE)","v":1},"Beaucoup d'erreurs",{"$f":"VLOOKUP(U41,DEBUTSTEP!$AX$4:$AY$33,2,FALSE)","v":1},"Beaucoup d'erreurs",{"$f":"VLOOKUP(W41,DEBUTSTEP!$AX$4:$AY$33,2,FALSE)","v":1},"Beaucoup d'erreurs",{"$f":"VLOOKUP(Y41,DEBUTSTEP!$AX$4:$AY$33,2,FALSE)","v":1},"Beaucoup d'erreurs",{"$f":"VLOOKUP(AA41,DEBUTSTEP!$AX$4:$AY$33,2,FALSE)","v":1},"Beaucoup d'erreurs",{"$f":"VLOOKUP(AC41,DEBUTSTEP!$AX$4:$AY$33,2,FALSE)","v":1},"Beaucoup d'erreurs",{"$f":"VLOOKUP(AE41,DEBUTSTEP!$AX$4:$AY$33,2,FALSE)","v":1},"Beaucoup d'erreurs",{"$f":"VLOOKUP(AG41,DEBUTSTEP!$AX$4:$AY$33,2,FALSE)","v":1},"Beaucoup d'erreurs",{"$f":"VLOOKUP(AI41,DEBUTSTEP!$AX$4:$AY$33,2,FALSE)","v":1},"Beaucoup d'erreurs",{"$f":"VLOOKUP(AK41,DEBUTSTEP!$AX$4:$AY$33,2,FALSE)","v":1},"Beaucoup d'erreurs",{"$f":"VLOOKUP(AM41,DEBUTSTEP!$AX$4:$AY$33,2,FALSE)","v":1},"Beaucoup d'erreurs",{"$f":"VLOOKUP(AO41,DEBUTSTEP!$AX$4:$AY$33,2,FALSE)","v":1},"Beaucoup d'erreurs",{"$f":"VLOOKUP(AQ41,DEBUTSTEP!$AX$4:$AY$33,2,FALSE)","v":1},"Beaucoup d'erreurs",{"$f":"VLOOKUP(AS41,DEBUTSTEP!$AX$4:$AY$33,2,FALSE)","v":1},"Beaucoup d'erreurs",{"$f":"VLOOKUP(AU41,DEBUTSTEP!$AX$4:$AY$33,2,FALSE)","v":1},"Beaucoup d'erreurs",{"$f":"VLOOKUP(AW41,DEBUTSTEP!$AX$4:$AY$33,2,FALSE)","v":1},"Beaucoup d'erreurs",{"$f":"VLOOKUP(AY41,DEBUTSTEP!$AX$4:$AY$33,2,FALSE)","v":1},"Beaucoup d'erreurs",{"$f":"VLOOKUP(BA41,DEBUTSTEP!$AX$4:$AY$33,2,FALSE)","v":1},"Beaucoup d'erreurs",{"$f":"VLOOKUP(BC41,DEBUTSTEP!$AX$4:$AY$33,2,FALSE)","v":1},"Beaucoup d'erreurs",{"$f":"VLOOKUP(BE41,DEBUTSTEP!$AX$4:$AY$33,2,FALSE)","v":1},"Beaucoup d'erreurs",{"$f":"VLOOKUP(BG41,DEBUTSTEP!$AX$4:$AY$33,2,FALSE)","v":1},"Beaucoup d'erreurs",{"$f":"VLOOKUP(BI41,DEBUTSTEP!$AX$4:$AY$33,2,FALSE)","v":1},"Beaucoup d'erreurs",{"$f":"VLOOKUP(BK41,DEBUTSTEP!$AX$4:$AY$33,2,FALSE)","v":1},"Beaucoup d'erreurs",{"$f":"VLOOKUP(BM41,DEBUTSTEP!$AX$4:$AY$33,2,FALSE)","v":1},"Beaucoup d'erreurs",{"$f":"VLOOKUP(BO41,DEBUTSTEP!$AX$4:$AY$33,2,FALSE)","v":1},"Beaucoup d'erreurs",{"$f":"VLOOKUP(BQ41,DEBUTSTEP!$AX$4:$AY$33,2,FALSE)","v":1},"Beaucoup d'erreurs",{"$f":"VLOOKUP(BS41,DEBUTSTEP!$AX$4:$AY$33,2,FALSE)","v":1}]
[null,{"$f":"DEBUTSTEP!$AZ$4","v":"Analyse de sa prestation"},"Pertinente",{"$f":"VLOOKUP(C42,DEBUTSTEP!$AZ$4:$BA$33,2,FALSE)","v":3},"Pertinente",{"$f":"VLOOKUP(E42,DEBUTSTEP!$AZ$4:$BA$33,2,FALSE)","v":3},"Pertinente",{"$f":"VLOOKUP(G42,DEBUTSTEP!$AZ$4:$BA$33,2,FALSE)","v":3},"Pertinente",{"$f":"VLOOKUP(I42,DEBUTSTEP!$AZ$4:$BA$33,2,FALSE)","v":3},"Pertinente",{"$f":"VLOOKUP(K42,DEBUTSTEP!$AZ$4:$BA$33,2,FALSE)","v":3},"Pertinente",{"$f":"VLOOKUP(M42,DEBUTSTEP!$AZ$4:$BA$33,2,FALSE)","v":3},"Pertinente",{"$f":"VLOOKUP(O42,DEBUTSTEP!$AZ$4:$BA$33,2,FALSE)","v":3},"Pertinente",{"$f":"VLOOKUP(Q42,DEBUTSTEP!$AZ$4:$BA$33,2,FALSE)","v":3},"Pertinente",{"$f":"VLOOKUP(S42,DEBUTSTEP!$AZ$4:$BA$33,2,FALSE)","v":3},"Pertinente",{"$f":"VLOOKUP(U42,DEBUTSTEP!$AZ$4:$BA$33,2,FALSE)","v":3},"Pertinente",{"$f":"VLOOKUP(W42,DEBUTSTEP!$AZ$4:$BA$33,2,FALSE)","v":3},"Pertinente",{"$f":"VLOOKUP(Y42,DEBUTSTEP!$AZ$4:$BA$33,2,FALSE)","v":3},"Pertinente",{"$f":"VLOOKUP(AA42,DEBUTSTEP!$AZ$4:$BA$33,2,FALSE)","v":3},"Pertinente",{"$f":"VLOOKUP(AC42,DEBUTSTEP!$AZ$4:$BA$33,2,FALSE)","v":3},"Pertinente",{"$f":"VLOOKUP(AE42,DEBUTSTEP!$AZ$4:$BA$33,2,FALSE)","v":3},"Pertinente",{"$f":"VLOOKUP(AG42,DEBUTSTEP!$AZ$4:$BA$33,2,FALSE)","v":3},"Pertinente",{"$f":"VLOOKUP(AI42,DEBUTSTEP!$AZ$4:$BA$33,2,FALSE)","v":3},"Pertinente",{"$f":"VLOOKUP(AK42,DEBUTSTEP!$AZ$4:$BA$33,2,FALSE)","v":3},"Pertinente",{"$f":"VLOOKUP(AM42,DEBUTSTEP!$AZ$4:$BA$33,2,FALSE)","v":3},"Pertinente",{"$f":"VLOOKUP(AO42,DEBUTSTEP!$AZ$4:$BA$33,2,FALSE)","v":3},"Pertinente",{"$f":"VLOOKUP(AQ42,DEBUTSTEP!$AZ$4:$BA$33,2,FALSE)","v":3},"Pertinente",{"$f":"VLOOKUP(AS42,DEBUTSTEP!$AZ$4:$BA$33,2,FALSE)","v":3},"Pertinente",{"$f":"VLOOKUP(AU42,DEBUTSTEP!$AZ$4:$BA$33,2,FALSE)","v":3},"Pertinente",{"$f":"VLOOKUP(AW42,DEBUTSTEP!$AZ$4:$BA$33,2,FALSE)","v":3},"Pertinente",{"$f":"VLOOKUP(AY42,DEBUTSTEP!$AZ$4:$BA$33,2,FALSE)","v":3},"Pertinente",{"$f":"VLOOKUP(BA42,DEBUTSTEP!$AZ$4:$BA$33,2,FALSE)","v":3},"Pertinente",{"$f":"VLOOKUP(BC42,DEBUTSTEP!$AZ$4:$BA$33,2,FALSE)","v":3},"Pertinente",{"$f":"VLOOKUP(BE42,DEBUTSTEP!$AZ$4:$BA$33,2,FALSE)","v":3},"Pertinente",{"$f":"VLOOKUP(BG42,DEBUTSTEP!$AZ$4:$BA$33,2,FALSE)","v":3},"Pertinente",{"$f":"VLOOKUP(BI42,DEBUTSTEP!$AZ$4:$BA$33,2,FALSE)","v":3},"Pertinente",{"$f":"VLOOKUP(BK42,DEBUTSTEP!$AZ$4:$BA$33,2,FALSE)","v":3},"Pertinente",{"$f":"VLOOKUP(BM42,DEBUTSTEP!$AZ$4:$BA$33,2,FALSE)","v":3},"Pertinente",{"$f":"VLOOKUP(BO42,DEBUTSTEP!$AZ$4:$BA$33,2,FALSE)","v":3},"Pertinente",{"$f":"VLOOKUP(BQ42,DEBUTSTEP!$AZ$4:$BA$33,2,FALSE)","v":3},"Pertinente",{"$f":"VLOOKUP(BS42,DEBUTSTEP!$AZ$4:$BA$33,2,FALSE)","v":3}]
[null,"NOTE",{"$f":"IF(OR(D37=\"x\",D38=\"x\",D39=\"x\",D40=\"x\",D41=\"x\",D42=\"x\"),\"ABSENT\",SUMIF(D37,\"<>X\")+SUMIF(D38,\"<>X\")+SUMIF(D39,\"<>X\")+SUMIF(D40,\"<>X\")+SUMIF(D41,\"<>X\")+SUMIF(D42,\"<>X\"))","v":7},null,{"$f":"IF(OR(F37=\"x\",F38=\"x\",F39=\"x\",F40=\"x\",F41=\"x\",F42=\"x\"),\"ABSENT\",SUMIF(F37,\"<>X\")+SUMIF(F38,\"<>X\")+SUMIF(F39,\"<>X\")+SUMIF(F40,\"<>X\")+SUMIF(F41,\"<>X\")+SUMIF(F42,\"<>X\"))","v":7},null,{"$f":"IF(OR(H37=\"x\",H38=\"x\",H39=\"x\",H40=\"x\",H41=\"x\",H42=\"x\"),\"ABSENT\",SUMIF(H37,\"<>X\")+SUMIF(H38,\"<>X\")+SUMIF(H39,\"<>X\")+SUMIF(H40,\"<>X\")+SUMIF(H41,\"<>X\")+SUMIF(H42,\"<>X\"))","v":7},null,{"$f":"IF(OR(J37=\"x\",J38=\"x\",J39=\"x\",J40=\"x\",J41=\"x\",J42=\"x\"),\"ABSENT\",SUMIF(J37,\"<>X\")+SUMIF(J38,\"<>X\")+SUMIF(J39,\"<>X\")+SUMIF(J40,\"<>X\")+SUMIF(J41,\"<>X\")+SUMIF(J42,\"<>X\"))","v":7},null,{"$f":"IF(OR(L37=\"x\",L38=\"x\",L39=\"x\",L40=\"x\",L41=\"x\",L42=\"x\"),\"ABSENT\",SUMIF(L37,\"<>X\")+SUMIF(L38,\"<>X\")+SUMIF(L39,\"<>X\")+SUMIF(L40,\"<>X\")+SUMIF(L41,\"<>X\")+SUMIF(L42,\"<>X\"))","v":7},null,{"$f":"IF(OR(N37=\"x\",N38=\"x\",N39=\"x\",N40=\"x\",N41=\"x\",N42=\"x\"),\"ABSENT\",SUMIF(N37,\"<>X\")+SUMIF(N38,\"<>X\")+SUMIF(N39,\"<>X\")+SUMIF(N40,\"<>X\")+SUMIF(N41,\"<>X\")+SUMIF(N42,\"<>X\"))","v":7},null,{"$f":"IF(OR(P37=\"x\",P38=\"x\",P39=\"x\",P40=\"x\",P41=\"x\",P42=\"x\"),\"ABSENT\",SUMIF(P37,\"<>X\")+SUMIF(P38,\"<>X\")+SUMIF(P39,\"<>X\")+SUMIF(P40,\"<>X\")+SUMIF(P41,\"<>X\")+SUMIF(P42,\"<>X\"))","v":7},null,{"$f":"IF(OR(R37=\"x\",R38=\"x\",R39=\"x\",R40=\"x\",R41=\"x\",R42=\"x\"),\"ABSENT\",SUMIF(R37,\"<>X\")+SUMIF(R38,\"<>X\")+SUMIF(R39,\"<>X\")+SUMIF(R40,\"<>X\")+SUMIF(R41,\"<>X\")+SUMIF(R42,\"<>X\"))","v":7},null,{"$f":"IF(OR(T37=\"x\",T38=\"x\",T39=\"x\",T40=\"x\",T41=\"x\",T42=\"x\"),\"ABSENT\",SUMIF(T37,\"<>X\")+SUMIF(T38,\"<>X\")+SUMIF(T39,\"<>X\")+SUMIF(T40,\"<>X\")+SUMIF(T41,\"<>X\")+SUMIF(T42,\"<>X\"))","v":7},null,{"$f":"IF(OR(V37=\"x\",V38=\"x\",V39=\"x\",V40=\"x\",V41=\"x\",V42=\"x\"),\"ABSENT\",SUMIF(V37,\"<>X\")+SUMIF(V38,\"<>X\")+SUMIF(V39,\"<>X\")+SUMIF(V40,\"<>X\")+SUMIF(V41,\"<>X\")+SUMIF(V42,\"<>X\"))","v":7},null,{"$f":"IF(OR(X37=\"x\",X38=\"x\",X39=\"x\",X40=\"x\",X41=\"x\",X42=\"x\"),\"ABSENT\",SUMIF(X37,\"<>X\")+SUMIF(X38,\"<>X\")+SUMIF(X39,\"<>X\")+SUMIF(X40,\"<>X\")+SUMIF(X41,\"<>X\")+SUMIF(X42,\"<>X\"))","v":7},null,{"$f":"IF(OR(Z37=\"x\",Z38=\"x\",Z39=\"x\",Z40=\"x\",Z41=\"x\",Z42=\"x\"),\"ABSENT\",SUMIF(Z37,\"<>X\")+SUMIF(Z38,\"<>X\")+SUMIF(Z39,\"<>X\")+SUMIF(Z40,\"<>X\")+SUMIF(Z41,\"<>X\")+SUMIF(Z42,\"<>X\"))","v":7},null,{"$f":"IF(OR(AB37=\"x\",AB38=\"x\",AB39=\"x\",AB40=\"x\",AB41=\"x\",AB42=\"x\"),\"ABSENT\",SUMIF(AB37,\"<>X\")+SUMIF(AB38,\"<>X\")+SUMIF(AB39,\"<>X\")+SUMIF(AB40,\"<>X\")+SUMIF(AB41,\"<>X\")+SUMIF(AB42,\"<>X\"))","v":7},null,{"$f":"IF(OR(AD37=\"x\",AD38=\"x\",AD39=\"x\",AD40=\"x\",AD41=\"x\",AD42=\"x\"),\"ABSENT\",SUMIF(AD37,\"<>X\")+SUMIF(AD38,\"<>X\")+SUMIF(AD39,\"<>X\")+SUMIF(AD40,\"<>X\")+SUMIF(AD41,\"<>X\")+SUMIF(AD42,\"<>X\"))","v":7},null,{"$f":"IF(OR(AF37=\"x\",AF38=\"x\",AF39=\"x\",AF40=\"x\",AF41=\"x\",AF42=\"x\"),\"ABSENT\",SUMIF(AF37,\"<>X\")+SUMIF(AF38,\"<>X\")+SUMIF(AF39,\"<>X\")+SUMIF(AF40,\"<>X\")+SUMIF(AF41,\"<>X\")+SUMIF(AF42,\"<>X\"))","v":7},null,{"$f":"IF(OR(AH37=\"x\",AH38=\"x\",AH39=\"x\",AH40=\"x\",AH41=\"x\",AH42=\"x\"),\"ABSENT\",SUMIF(AH37,\"<>X\")+SUMIF(AH38,\"<>X\")+SUMIF(AH39,\"<>X\")+SUMIF(AH40,\"<>X\")+SUMIF(AH41,\"<>X\")+SUMIF(AH42,\"<>X\"))","v":7},null,{"$f":"IF(OR(AJ37=\"x\",AJ38=\"x\",AJ39=\"x\",AJ40=\"x\",AJ41=\"x\",AJ42=\"x\"),\"ABSENT\",SUMIF(AJ37,\"<>X\")+SUMIF(AJ38,\"<>X\")+SUMIF(AJ39,\"<>X\")+SUMIF(AJ40,\"<>X\")+SUMIF(AJ41,\"<>X\")+SUMIF(AJ42,\"<>X\"))","v":7},null,{"$f":"IF(OR(AL37=\"x\",AL38=\"x\",AL39=\"x\",AL40=\"x\",AL41=\"x\",AL42=\"x\"),\"ABSENT\",SUMIF(AL37,\"<>X\")+SUMIF(AL38,\"<>X\")+SUMIF(AL39,\"<>X\")+SUMIF(AL40,\"<>X\")+SUMIF(AL41,\"<>X\")+SUMIF(AL42,\"<>X\"))","v":7},null,{"$f":"IF(OR(AN37=\"x\",AN38=\"x\",AN39=\"x\",AN40=\"x\",AN41=\"x\",AN42=\"x\"),\"ABSENT\",SUMIF(AN37,\"<>X\")+SUMIF(AN38,\"<>X\")+SUMIF(AN39,\"<>X\")+SUMIF(AN40,\"<>X\")+SUMIF(AN41,\"<>X\")+SUMIF(AN42,\"<>X\"))","v":7},null,{"$f":"IF(OR(AP37=\"x\",AP38=\"x\",AP39=\"x\",AP40=\"x\",AP41=\"x\",AP42=\"x\"),\"ABSENT\",SUMIF(AP37,\"<>X\")+SUMIF(AP38,\"<>X\")+SUMIF(AP39,\"<>X\")+SUMIF(AP40,\"<>X\")+SUMIF(AP41,\"<>X\")+SUMIF(AP42,\"<>X\"))","v":7},null,{"$f":"IF(OR(AR37=\"x\",AR38=\"x\",AR39=\"x\",AR40=\"x\",AR41=\"x\",AR42=\"x\"),\"ABSENT\",SUMIF(AR37,\"<>X\")+SUMIF(AR38,\"<>X\")+SUMIF(AR39,\"<>X\")+SUMIF(AR40,\"<>X\")+SUMIF(AR41,\"<>X\")+SUMIF(AR42,\"<>X\"))","v":7},null,{"$f":"IF(OR(AT37=\"x\",AT38=\"x\",AT39=\"x\",AT40=\"x\",AT41=\"x\",AT42=\"x\"),\"ABSENT\",SUMIF(AT37,\"<>X\")+SUMIF(AT38,\"<>X\")+SUMIF(AT39,\"<>X\")+SUMIF(AT40,\"<>X\")+SUMIF(AT41,\"<>X\")+SUMIF(AT42,\"<>X\"))","v":7},null,{"$f":"IF(OR(AV37=\"x\",AV38=\"x\",AV39=\"x\",AV40=\"x\",AV41=\"x\",AV42=\"x\"),\"ABSENT\",SUMIF(AV37,\"<>X\")+SUMIF(AV38,\"<>X\")+SUMIF(AV39,\"<>X\")+SUMIF(AV40,\"<>X\")+SUMIF(AV41,\"<>X\")+SUMIF(AV42,\"<>X\"))","v":7},null,{"$f":"IF(OR(AX37=\"x\",AX38=\"x\",AX39=\"x\",AX40=\"x\",AX41=\"x\",AX42=\"x\"),\"ABSENT\",SUMIF(AX37,\"<>X\")+SUMIF(AX38,\"<>X\")+SUMIF(AX39,\"<>X\")+SUMIF(AX40,\"<>X\")+SUMIF(AX41,\"<>X\")+SUMIF(AX42,\"<>X\"))","v":7},null,{"$f":"IF(OR(AZ37=\"x\",AZ38=\"x\",AZ39=\"x\",AZ40=\"x\",AZ41=\"x\",AZ42=\"x\"),\"ABSENT\",SUMIF(AZ37,\"<>X\")+SUMIF(AZ38,\"<>X\")+SUMIF(AZ39,\"<>X\")+SUMIF(AZ40,\"<>X\")+SUMIF(AZ41,\"<>X\")+SUMIF(AZ42,\"<>X\"))","v":7},null,{"$f":"IF(OR(BB37=\"x\",BB38=\"x\",BB39=\"x\",BB40=\"x\",BB41=\"x\",BB42=\"x\"),\"ABSENT\",SUMIF(BB37,\"<>X\")+SUMIF(BB38,\"<>X\")+SUMIF(BB39,\"<>X\")+SUMIF(BB40,\"<>X\")+SUMIF(BB41,\"<>X\")+SUMIF(BB42,\"<>X\"))","v":7},null,{"$f":"IF(OR(BD37=\"x\",BD38=\"x\",BD39=\"x\",BD40=\"x\",BD41=\"x\",BD42=\"x\"),\"ABSENT\",SUMIF(BD37,\"<>X\")+SUMIF(BD38,\"<>X\")+SUMIF(BD39,\"<>X\")+SUMIF(BD40,\"<>X\")+SUMIF(BD41,\"<>X\")+SUMIF(BD42,\"<>X\"))","v":7},null,{"$f":"IF(OR(BF37=\"x\",BF38=\"x\",BF39=\"x\",BF40=\"x\",BF41=\"x\",BF42=\"x\"),\"ABSENT\",SUMIF(BF37,\"<>X\")+SUMIF(BF38,\"<>X\")+SUMIF(BF39,\"<>X\")+SUMIF(BF40,\"<>X\")+SUMIF(BF41,\"<>X\")+SUMIF(BF42,\"<>X\"))","v":7},null,{"$f":"IF(OR(BH37=\"x\",BH38=\"x\",BH39=\"x\",BH40=\"x\",BH41=\"x\",BH42=\"x\"),\"ABSENT\",SUMIF(BH37,\"<>X\")+SUMIF(BH38,\"<>X\")+SUMIF(BH39,\"<>X\")+SUMIF(BH40,\"<>X\")+SUMIF(BH41,\"<>X\")+SUMIF(BH42,\"<>X\"))","v":7},null,{"$f":"IF(OR(BJ37=\"x\",BJ38=\"x\",BJ39=\"x\",BJ40=\"x\",BJ41=\"x\",BJ42=\"x\"),\"ABSENT\",SUMIF(BJ37,\"<>X\")+SUMIF(BJ38,\"<>X\")+SUMIF(BJ39,\"<>X\")+SUMIF(BJ40,\"<>X\")+SUMIF(BJ41,\"<>X\")+SUMIF(BJ42,\"<>X\"))","v":7},null,{"$f":"IF(OR(BL37=\"x\",BL38=\"x\",BL39=\"x\",BL40=\"x\",BL41=\"x\",BL42=\"x\"),\"ABSENT\",SUMIF(BL37,\"<>X\")+SUMIF(BL38,\"<>X\")+SUMIF(BL39,\"<>X\")+SUMIF(BL40,\"<>X\")+SUMIF(BL41,\"<>X\")+SUMIF(BL42,\"<>X\"))","v":7},null,{"$f":"IF(OR(BN37=\"x\",BN38=\"x\",BN39=\"x\",BN40=\"x\",BN41=\"x\",BN42=\"x\"),\"ABSENT\",SUMIF(BN37,\"<>X\")+SUMIF(BN38,\"<>X\")+SUMIF(BN39,\"<>X\")+SUMIF(BN40,\"<>X\")+SUMIF(BN41,\"<>X\")+SUMIF(BN42,\"<>X\"))","v":7},null,{"$f":"IF(OR(BP37=\"x\",BP38=\"x\",BP39=\"x\",BP40=\"x\",BP41=\"x\",BP42=\"x\"),\"ABSENT\",SUMIF(BP37,\"<>X\")+SUMIF(BP38,\"<>X\")+SUMIF(BP39,\"<>X\")+SUMIF(BP40,\"<>X\")+SUMIF(BP41,\"<>X\")+SUMIF(BP42,\"<>X\"))","v":7},null,{"$f":"IF(OR(BR37=\"x\",BR38=\"x\",BR39=\"x\",BR40=\"x\",BR41=\"x\",BR42=\"x\"),\"ABSENT\",SUMIF(BR37,\"<>X\")+SUMIF(BR38,\"<>X\")+SUMIF(BR39,\"<>X\")+SUMIF(BR40,\"<>X\")+SUMIF(BR41,\"<>X\")+SUMIF(BR42,\"<>X\"))","v":7},null,{"$f":"IF(OR(BT37=\"x\",BT38=\"x\",BT39=\"x\",BT40=\"x\",BT41=\"x\",BT42=\"x\"),\"ABSENT\",SUMIF(BT37,\"<>X\")+SUMIF(BT38,\"<>X\")+SUMIF(BT39,\"<>X\")+SUMIF(BT40,\"<>X\")+SUMIF(BT41,\"<>X\")+SUMIF(BT42,\"<>X\"))","v":7}]
[]
["SEANCE 6",{"$f":"DEBUTSTEP!$AP$4","v":"Prendre sa FC efficacement"},"Jamais",{"$f":"VLOOKUP(C45,DEBUTSTEP!$AP$4:$AQ$33,2,FALSE)","v":"NA"},"Jamais",{"$f":"VLOOKUP(E45,DEBUTSTEP!$AP$4:$AQ$33,2,FALSE)","v":"NA"},"Jamais",{"$f":"VLOOKUP(G45,DEBUTSTEP!$AP$4:$AQ$33,2,FALSE)","v":"NA"},"Jamais",{"$f":"VLOOKUP(I45,DEBUTSTEP!$AP$4:$AQ$33,2,FALSE)","v":"NA"},"Jamais",{"$f":"VLOOKUP(K45,DEBUTSTEP!$AP$4:$AQ$33,2,FALSE)","v":"NA"},"Jamais",{"$f":"VLOOKUP(M45,DEBUTSTEP!$AP$4:$AQ$33,2,FALSE)","v":"NA"},"Jamais",{"$f":"VLOOKUP(O45,DEBUTSTEP!$AP$4:$AQ$33,2,FALSE)","v":"NA"},"Jamais",{"$f":"VLOOKUP(Q45,DEBUTSTEP!$AP$4:$AQ$33,2,FALSE)","v":"NA"},"Jamais",{"$f":"VLOOKUP(S45,DEBUTSTEP!$AP$4:$AQ$33,2,FALSE)","v":"NA"},"Jamais",{"$f":"VLOOKUP(U45,DEBUTSTEP!$AP$4:$AQ$33,2,FALSE)","v":"NA"},"Jamais",{"$f":"VLOOKUP(W45,DEBUTSTEP!$AP$4:$AQ$33,2,FALSE)","v":"NA"},"Jamais",{"$f":"VLOOKUP(Y45,DEBUTSTEP!$AP$4:$AQ$33,2,FALSE)","v":"NA"},"Jamais",{"$f":"VLOOKUP(AA45,DEBUTSTEP!$AP$4:$AQ$33,2,FALSE)","v":"NA"},"Jamais",{"$f":"VLOOKUP(AC45,DEBUTSTEP!$AP$4:$AQ$33,2,FALSE)","v":"NA"},"Jamais",{"$f":"VLOOKUP(AE45,DEBUTSTEP!$AP$4:$AQ$33,2,FALSE)","v":"NA"},"Jamais",{"$f":"VLOOKUP(AG45,DEBUTSTEP!$AP$4:$AQ$33,2,FALSE)","v":"NA"},"Jamais",{"$f":"VLOOKUP(AI45,DEBUTSTEP!$AP$4:$AQ$33,2,FALSE)","v":"NA"},"Jamais",{"$f":"VLOOKUP(AK45,DEBUTSTEP!$AP$4:$AQ$33,2,FALSE)","v":"NA"},"Jamais",{"$f":"VLOOKUP(AM45,DEBUTSTEP!$AP$4:$AQ$33,2,FALSE)","v":"NA"},"Jamais",{"$f":"VLOOKUP(AO45,DEBUTSTEP!$AP$4:$AQ$33,2,FALSE)","v":"NA"},"Jamais",{"$f":"VLOOKUP(AQ45,DEBUTSTEP!$AP$4:$AQ$33,2,FALSE)","v":"NA"},"Jamais",{"$f":"VLOOKUP(AS45,DEBUTSTEP!$AP$4:$AQ$33,2,FALSE)","v":"NA"},"Jamais",{"$f":"VLOOKUP(AU45,DEBUTSTEP!$AP$4:$AQ$33,2,FALSE)","v":"NA"},"Jamais",{"$f":"VLOOKUP(AW45,DEBUTSTEP!$AP$4:$AQ$33,2,FALSE)","v":"NA"},"Jamais",{"$f":"VLOOKUP(AY45,DEBUTSTEP!$AP$4:$AQ$33,2,FALSE)","v":"NA"},"Jamais",{"$f":"VLOOKUP(BA45,DEBUTSTEP!$AP$4:$AQ$33,2,FALSE)","v":"NA"},"Jamais",{"$f":"VLOOKUP(BC45,DEBUTSTEP!$AP$4:$AQ$33,2,FALSE)","v":"NA"},"Jamais",{"$f":"VLOOKUP(BE45,DEBUTSTEP!$AP$4:$AQ$33,2,FALSE)","v":"NA"},"Jamais",{"$f":"VLOOKUP(BG45,DEBUTSTEP!$AP$4:$AQ$33,2,FALSE)","v":"NA"},"Jamais",{"$f":"VLOOKUP(BI45,DEBUTSTEP!$AP$4:$AQ$33,2,FALSE)","v":"NA"},"Jamais",{"$f":"VLOOKUP(BK45,DEBUTSTEP!$AP$4:$AQ$33,2,FALSE)","v":"NA"},"Jamais",{"$f":"VLOOKUP(BM45,DEBUTSTEP!$AP$4:$AQ$33,2,FALSE)","v":"NA"},"Jamais",{"$f":"VLOOKUP(BO45,DEBUTSTEP!$AP$4:$AQ$33,2,FALSE)","v":"NA"},"Jamais",{"$f":"VLOOKUP(BQ45,DEBUTSTEP!$AP$4:$AQ$33,2,FALSE)","v":"NA"},"Jamais",{"$f":"VLOOKUP(BS45,DEBUTSTEP!$AP$4:$AQ$33,2,FALSE)","v":"NA"}]
[null,{"$f":"DEBUTSTEP!$AR$4","v":"S'engager dans le mobile"},"Faible",{"$f":"VLOOKUP(C46,DEBUTSTEP!$AR$4:$AS$33,2,FALSE)","v":1},"Faible",{"$f":"VLOOKUP(E46,DEBUTSTEP!$AR$4:$AS$33,2,FALSE)","v":1},"Faible",{"$f":"VLOOKUP(G46,DEBUTSTEP!$AR$4:$AS$33,2,FALSE)","v":1},"Faible",{"$f":"VLOOKUP(I46,DEBUTSTEP!$AR$4:$AS$33,2,FALSE)","v":1},"Faible",{"$f":"VLOOKUP(K46,DEBUTSTEP!$AR$4:$AS$33,2,FALSE)","v":1},"Faible",{"$f":"VLOOKUP(M46,DEBUTSTEP!$AR$4:$AS$33,2,FALSE)","v":1},"Faible",{"$f":"VLOOKUP(O46,DEBUTSTEP!$AR$4:$AS$33,2,FALSE)","v":1},"Faible",{"$f":"VLOOKUP(Q46,DEBUTSTEP!$AR$4:$AS$33,2,FALSE)","v":1},"Faible",{"$f":"VLOOKUP(S46,DEBUTSTEP!$AR$4:$AS$33,2,FALSE)","v":1},"Faible",{"$f":"VLOOKUP(U46,DEBUTSTEP!$AR$4:$AS$33,2,FALSE)","v":1},"Faible",{"$f":"VLOOKUP(W46,DEBUTSTEP!$AR$4:$AS$33,2,FALSE)","v":1},"Faible",{"$f":"VLOOKUP(Y46,DEBUTSTEP!$AR$4:$AS$33,2,FALSE)","v":1},"Faible",{"$f":"VLOOKUP(AA46,DEBUTSTEP!$AR$4:$AS$33,2,FALSE)","v":1},"Faible",{"$f":"VLOOKUP(AC46,DEBUTSTEP!$AR$4:$AS$33,2,FALSE)","v":1},"Faible",{"$f":"VLOOKUP(AE46,DEBUTSTEP!$AR$4:$AS$33,2,FALSE)","v":1},"Faible",{"$f":"VLOOKUP(AG46,DEBUTSTEP!$AR$4:$AS$33,2,FALSE)","v":1},"Faible",{"$f":"VLOOKUP(AI46,DEBUTSTEP!$AR$4:$AS$33,2,FALSE)","v":1},"Faible",{"$f":"VLOOKUP(AK46,DEBUTSTEP!$AR$4:$AS$33,2,FALSE)","v":1},"Faible",{"$f":"VLOOKUP(AM46,DEBUTSTEP!$AR$4:$AS$33,2,FALSE)","v":1},"Faible",{"$f":"VLOOKUP(AO46,DEBUTSTEP!$AR$4:$AS$33,2,FALSE)","v":1},"Faible",{"$f":"VLOOKUP(AQ46,DEBUTSTEP!$AR$4:$AS$33,2,FALSE)","v":1},"Faible",{"$f":"VLOOKUP(AS46,DEBUTSTEP!$AR$4:$AS$33,2,FALSE)","v":1},"Faible",{"$f":"VLOOKUP(AU46,DEBUTSTEP!$AR$4:$AS$33,2,FALSE)","v":1},"Faible",{"$f":"VLOOKUP(AW46,DEBUTSTEP!$AR$4:$AS$33,2,FALSE)","v":1},"Faible",{"$f":"VLOOKUP(AY46,DEBUTSTEP!$AR$4:$AS$33,2,FALSE)","v":1},"Faible",{"$f":"VLOOKUP(BA46,DEBUTSTEP!$AR$4:$AS$33,2,FALSE)","v":1},"Faible",{"$f":"VLOOKUP(BC46,DEBUTSTEP!$AR$4:$AS$33,2,FALSE)","v":1},"Faible",{"$f":"VLOOKUP(BE46,DEBUTSTEP!$AR$4:$AS$33,2,FALSE)","v":1},"Faible",{"$f":"VLOOKUP(BG46,DEBUTSTEP!$AR$4:$AS$33,2,FALSE)","v":1},"Faible",{"$f":"VLOOKUP(BI46,DEBUTSTEP!$AR$4:$AS$33,2,FALSE)","v":1},"Faible",{"$f":"VLOOKUP(BK46,DEBUTSTEP!$AR$4:$AS$33,2,FALSE)","v":1},"Faible",{"$f":"VLOOKUP(BM46,DEBUTSTEP!$AR$4:$AS$33,2,FALSE)","v":1},"Faible",{"$f":"VLOOKUP(BO46,DEBUTSTEP!$AR$4:$AS$33,2,FALSE)","v":1},"Faible",{"$f":"VLOOKUP(BQ46,DEBUTSTEP!$AR$4:$AS$33,2,FALSE)","v":1},"Faible",{"$f":"VLOOKUP(BS46,DEBUTSTEP!$AR$4:$AS$33,2,FALSE)","v":1}]
[null,{"$f":"DEBUTSTEP!$AT$4","v":"Agir en sécu"},"Quelques avertissements",{"$f":"VLOOKUP(C47,DEBUTSTEP!$AT$4:$AU$33,2,FALSE)","v":1},"Quelques avertissements",{"$f":"VLOOKUP(E47,DEBUTSTEP!$AT$4:$AU$33,2,FALSE)","v":1},"Quelques avertissements",{"$f":"VLOOKUP(G47,DEBUTSTEP!$AT$4:$AU$33,2,FALSE)","v":1},"Quelques avertissements",{"$f":"VLOOKUP(I47,DEBUTSTEP!$AT$4:$AU$33,2,FALSE)","v":1},"Quelques avertissements",{"$f":"VLOOKUP(K47,DEBUTSTEP!$AT$4:$AU$33,2,FALSE)","v":1},"Quelques avertissements",{"$f":"VLOOKUP(M47,DEBUTSTEP!$AT$4:$AU$33,2,FALSE)","v":1},"Quelques avertissements",{"$f":"VLOOKUP(O47,DEBUTSTEP!$AT$4:$AU$33,2,FALSE)","v":1},"Quelques avertissements",{"$f":"VLOOKUP(Q47,DEBUTSTEP!$AT$4:$AU$33,2,FALSE)","v":1},"Quelques avertissements",{"$f":"VLOOKUP(S47,DEBUTSTEP!$AT$4:$AU$33,2,FALSE)","v":1},"Quelques avertissements",{"$f":"VLOOKUP(U47,DEBUTSTEP!$AT$4:$AU$33,2,FALSE)","v":1},"Quelques avertissements",{"$f":"VLOOKUP(W47,DEBUTSTEP!$AT$4:$AU$33,2,FALSE)","v":1},"Quelques avertissements",{"$f":"VLOOKUP(Y47,DEBUTSTEP!$AT$4:$AU$33,2,FALSE)","v":1},"Quelques avertissements",{"$f":"VLOOKUP(AA47,DEBUTSTEP!$AT$4:$AU$33,2,FALSE)","v":1},"Quelques avertissements",{"$f":"VLOOKUP(AC47,DEBUTSTEP!$AT$4:$AU$33,2,FALSE)","v":1},"Quelques avertissements",{"$f":"VLOOKUP(AE47,DEBUTSTEP!$AT$4:$AU$33,2,FALSE)","v":1},"Quelques avertissements",{"$f":"VLOOKUP(AG47,DEBUTSTEP!$AT$4:$AU$33,2,FALSE)","v":1},"Quelques avertissements",{"$f":"VLOOKUP(AI47,DEBUTSTEP!$AT$4:$AU$33,2,FALSE)","v":1},"Quelques avertissements",{"$f":"VLOOKUP(AK47,DEBUTSTEP!$AT$4:$AU$33,2,FALSE)","v":1},"Quelques avertissements",{"$f":"VLOOKUP(AM47,DEBUTSTEP!$AT$4:$AU$33,2,FALSE)","v":1},"Quelques avertissements",{"$f":"VLOOKUP(AO47,DEBUTSTEP!$AT$4:$AU$33,2,FALSE)","v":1},"Quelques avertissements",{"$f":"VLOOKUP(AQ47,DEBUTSTEP!$AT$4:$AU$33,2,FALSE)","v":1},"Quelques avertissements",{"$f":"VLOOKUP(AS47,DEBUTSTEP!$AT$4:$AU$33,2,FALSE)","v":1},"Quelques avertissements",{"$f":"VLOOKUP(AU47,DEBUTSTEP!$AT$4:$AU$33,2,FALSE)","v":1},"Quelques avertissements",{"$f":"VLOOKUP(AW47,DEBUTSTEP!$AT$4:$AU$33,2,FALSE)","v":1},"Quelques avertissements",{"$f":"VLOOKUP(AY47,DEBUTSTEP!$AT$4:$AU$33,2,FALSE)","v":1},"Quelques avertissements",{"$f":"VLOOKUP(BA47,DEBUTSTEP!$AT$4:$AU$33,2,FALSE)","v":1},"Quelques avertissements",{"$f":"VLOOKUP(BC47,DEBUTSTEP!$AT$4:$AU$33,2,FALSE)","v":1},"Quelques avertissements",{"$f":"VLOOKUP(BE47,DEBUTSTEP!$AT$4:$AU$33,2,FALSE)","v":1},"Quelques avertissements",{"$f":"VLOOKUP(BG47,DEBUTSTEP!$AT$4:$AU$33,2,FALSE)","v":1},"Quelques avertissements",{"$f":"VLOOKUP(BI47,DEBUTSTEP!$AT$4:$AU$33,2,FALSE)","v":1},"Quelques avertissements",{"$f":"VLOOKUP(BK47,DEBUTSTEP!$AT$4:$AU$33,2,FALSE)","v":1},"Quelques avertissements",{"$f":"VLOOKUP(BM47,DEBUTSTEP!$AT$4:$AU$33,2,FALSE)","v":1},"Quelques avertissements",{"$f":"VLOOKUP(BO47,DEBUTSTEP!$AT$4:$AU$33,2,FALSE)","v":1},"Quelques avertissements",{"$f":"VLOOKUP(BQ47,DEBUTSTEP!$AT$4:$AU$33,2,FALSE)","v":1},"Quelques avertissements",{"$f":"VLOOKUP(BS47,DEBUTSTEP!$AT$4:$AU$33,2,FALSE)","v":1}]
[null,{"$f":"DEBUTSTEP!$AV$4","v":"Respect de l'entrainement proposé"},"Aléatoire",{"$f":"VLOOKUP(C48,DEBUTSTEP!$AV$4:$AW$33,2,FALSE)","v":1},"Aléatoire",{"$f":"VLOOKUP(E48,DEBUTSTEP!$AV$4:$AW$33,2,FALSE)","v":1},"Aléatoire",{"$f":"VLOOKUP(G48,DEBUTSTEP!$AV$4:$AW$33,2,FALSE)","v":1},"Aléatoire",{"$f":"VLOOKUP(I48,DEBUTSTEP!$AV$4:$AW$33,2,FALSE)","v":1},"Aléatoire",{"$f":"VLOOKUP(K48,DEBUTSTEP!$AV$4:$AW$33,2,FALSE)","v":1},"Aléatoire",{"$f":"VLOOKUP(M48,DEBUTSTEP!$AV$4:$AW$33,2,FALSE)","v":1},"Aléatoire",{"$f":"VLOOKUP(O48,DEBUTSTEP!$AV$4:$AW$33,2,FALSE)","v":1},"Aléatoire",{"$f":"VLOOKUP(Q48,DEBUTSTEP!$AV$4:$AW$33,2,FALSE)","v":1},"Aléatoire",{"$f":"VLOOKUP(S48,DEBUTSTEP!$AV$4:$AW$33,2,FALSE)","v":1},"Aléatoire",{"$f":"VLOOKUP(U48,DEBUTSTEP!$AV$4:$AW$33,2,FALSE)","v":1},"Aléatoire",{"$f":"VLOOKUP(W48,DEBUTSTEP!$AV$4:$AW$33,2,FALSE)","v":1},"Aléatoire",{"$f":"VLOOKUP(Y48,DEBUTSTEP!$AV$4:$AW$33,2,FALSE)","v":1},"Aléatoire",{"$f":"VLOOKUP(AA48,DEBUTSTEP!$AV$4:$AW$33,2,FALSE)","v":1},"Aléatoire",{"$f":"VLOOKUP(AC48,DEBUTSTEP!$AV$4:$AW$33,2,FALSE)","v":1},"Aléatoire",{"$f":"VLOOKUP(AE48,DEBUTSTEP!$AV$4:$AW$33,2,FALSE)","v":1},"Aléatoire",{"$f":"VLOOKUP(AG48,DEBUTSTEP!$AV$4:$AW$33,2,FALSE)","v":1},"Aléatoire",{"$f":"VLOOKUP(AI48,DEBUTSTEP!$AV$4:$AW$33,2,FALSE)","v":1},"Aléatoire",{"$f":"VLOOKUP(AK48,DEBUTSTEP!$AV$4:$AW$33,2,FALSE)","v":1},"Aléatoire",{"$f":"VLOOKUP(AM48,DEBUTSTEP!$AV$4:$AW$33,2,FALSE)","v":1},"Aléatoire",{"$f":"VLOOKUP(AO48,DEBUTSTEP!$AV$4:$AW$33,2,FALSE)","v":1},"Aléatoire",{"$f":"VLOOKUP(AQ48,DEBUTSTEP!$AV$4:$AW$33,2,FALSE)","v":1},"Aléatoire",{"$f":"VLOOKUP(AS48,DEBUTSTEP!$AV$4:$AW$33,2,FALSE)","v":1},"Aléatoire",{"$f":"VLOOKUP(AU48,DEBUTSTEP!$AV$4:$AW$33,2,FALSE)","v":1},"Aléatoire",{"$f":"VLOOKUP(AW48,DEBUTSTEP!$AV$4:$AW$33,2,FALSE)","v":1},"Aléatoire",{"$f":"VLOOKUP(AY48,DEBUTSTEP!$AV$4:$AW$33,2,FALSE)","v":1},"Aléatoire",{"$f":"VLOOKUP(BA48,DEBUTSTEP!$AV$4:$AW$33,2,FALSE)","v":1},"Aléatoire",{"$f":"VLOOKUP(BC48,DEBUTSTEP!$AV$4:$AW$33,2,FALSE)","v":1},"Aléatoire",{"$f":"VLOOKUP(BE48,DEBUTSTEP!$AV$4:$AW$33,2,FALSE)","v":1},"Aléatoire",{"$f":"VLOOKUP(BG48,DEBUTSTEP!$AV$4:$AW$33,2,FALSE)","v":1},"Aléatoire",{"$f":"VLOOKUP(BI48,DEBUTSTEP!$AV$4:$AW$33,2,FALSE)","v":1},"Aléatoire",{"$f":"VLOOKUP(BK48,DEBUTSTEP!$AV$4:$AW$33,2,FALSE)","v":1},"Aléatoire",{"$f":"VLOOKUP(BM48,DEBUTSTEP!$AV$4:$AW$33,2,FALSE)","v":1},"Aléatoire",{"$f":"VLOOKUP(BO48,DEBUTSTEP!$AV$4:$AW$33,2,FALSE)","v":1},"Aléatoire",{"$f":"VLOOKUP(BQ48,DEBUTSTEP!$AV$4:$AW$33,2,FALSE)","v":1},"Aléatoire",{"$f":"VLOOKUP(BS48,DEBUTSTEP!$AV$4:$AW$33,2,FALSE)","v":1}]
[null,{"$f":"DEBUTSTEP!$AX$4","v":"Mémorisation des blocs"},"Beaucoup d'erreurs",{"$f":"VLOOKUP(C49,DEBUTSTEP!$AX$4:$AY$33,2,FALSE)","v":1},"Beaucoup d'erreurs",{"$f":"VLOOKUP(E49,DEBUTSTEP!$AX$4:$AY$33,2,FALSE)","v":1},"Beaucoup d'erreurs",{"$f":"VLOOKUP(G49,DEBUTSTEP!$AX$4:$AY$33,2,FALSE)","v":1},"Beaucoup d'erreurs",{"$f":"VLOOKUP(I49,DEBUTSTEP!$AX$4:$AY$33,2,FALSE)","v":1},"Beaucoup d'erreurs",{"$f":"VLOOKUP(K49,DEBUTSTEP!$AX$4:$AY$33,2,FALSE)","v":1},"Beaucoup d'erreurs",{"$f":"VLOOKUP(M49,DEBUTSTEP!$AX$4:$AY$33,2,FALSE)","v":1},"Beaucoup d'erreurs",{"$f":"VLOOKUP(O49,DEBUTSTEP!$AX$4:$AY$33,2,FALSE)","v":1},"Beaucoup d'erreurs",{"$f":"VLOOKUP(Q49,DEBUTSTEP!$AX$4:$AY$33,2,FALSE)","v":1},"Beaucoup d'erreurs",{"$f":"VLOOKUP(S49,DEBUTSTEP!$AX$4:$AY$33,2,FALSE)","v":1},"Beaucoup d'erreurs",{"$f":"VLOOKUP(U49,DEBUTSTEP!$AX$4:$AY$33,2,FALSE)","v":1},"Beaucoup d'erreurs",{"$f":"VLOOKUP(W49,DEBUTSTEP!$AX$4:$AY$33,2,FALSE)","v":1},"Beaucoup d'erreurs",{"$f":"VLOOKUP(Y49,DEBUTSTEP!$AX$4:$AY$33,2,FALSE)","v":1},"Beaucoup d'erreurs",{"$f":"VLOOKUP(AA49,DEBUTSTEP!$AX$4:$AY$33,2,FALSE)","v":1},"Beaucoup d'erreurs",{"$f":"VLOOKUP(AC49,DEBUTSTEP!$AX$4:$AY$33,2,FALSE)","v":1},"Beaucoup d'erreurs",{"$f":"VLOOKUP(AE49,DEBUTSTEP!$AX$4:$AY$33,2,FALSE)","v":1},"Beaucoup d'erreurs",{"$f":"VLOOKUP(AG49,DEBUTSTEP!$AX$4:$AY$33,2,FALSE)","v":1},"Beaucoup d'erreurs",{"$f":"VLOOKUP(AI49,DEBUTSTEP!$AX$4:$AY$33,2,FALSE)","v":1},"Beaucoup d'erreurs",{"$f":"VLOOKUP(AK49,DEBUTSTEP!$AX$4:$AY$33,2,FALSE)","v":1},"Beaucoup d'erreurs",{"$f":"VLOOKUP(AM49,DEBUTSTEP!$AX$4:$AY$33,2,FALSE)","v":1},"Beaucoup d'erreurs",{"$f":"VLOOKUP(AO49,DEBUTSTEP!$AX$4:$AY$33,2,FALSE)","v":1},"Beaucoup d'erreurs",{"$f":"VLOOKUP(AQ49,DEBUTSTEP!$AX$4:$AY$33,2,FALSE)","v":1},"Beaucoup d'erreurs",{"$f":"VLOOKUP(AS49,DEBUTSTEP!$AX$4:$AY$33,2,FALSE)","v":1},"Beaucoup d'erreurs",{"$f":"VLOOKUP(AU49,DEBUTSTEP!$AX$4:$AY$33,2,FALSE)","v":1},"Beaucoup d'erreurs",{"$f":"VLOOKUP(AW49,DEBUTSTEP!$AX$4:$AY$33,2,FALSE)","v":1},"Beaucoup d'erreurs",{"$f":"VLOOKUP(AY49,DEBUTSTEP!$AX$4:$AY$33,2,FALSE)","v":1},"Beaucoup d'erreurs",{"$f":"VLOOKUP(BA49,DEBUTSTEP!$AX$4:$AY$33,2,FALSE)","v":1},"Beaucoup d'erreurs",{"$f":"VLOOKUP(BC49,DEBUTSTEP!$AX$4:$AY$33,2,FALSE)","v":1},"Beaucoup d'erreurs",{"$f":"VLOOKUP(BE49,DEBUTSTEP!$AX$4:$AY$33,2,FALSE)","v":1},"Beaucoup d'erreurs",{"$f":"VLOOKUP(BG49,DEBUTSTEP!$AX$4:$AY$33,2,FALSE)","v":1},"Beaucoup d'erreurs",{"$f":"VLOOKUP(BI49,DEBUTSTEP!$AX$4:$AY$33,2,FALSE)","v":1},"Beaucoup d'erreurs",{"$f":"VLOOKUP(BK49,DEBUTSTEP!$AX$4:$AY$33,2,FALSE)","v":1},"Beaucoup d'erreurs",{"$f":"VLOOKUP(BM49,DEBUTSTEP!$AX$4:$AY$33,2,FALSE)","v":1},"Beaucoup d'erreurs",{"$f":"VLOOKUP(BO49,DEBUTSTEP!$AX$4:$AY$33,2,FALSE)","v":1},"Beaucoup d'erreurs",{"$f":"VLOOKUP(BQ49,DEBUTSTEP!$AX$4:$AY$33,2,FALSE)","v":1},"Beaucoup d'erreurs",{"$f":"VLOOKUP(BS49,DEBUTSTEP!$AX$4:$AY$33,2,FALSE)","v":1}]
[null,{"$f":"DEBUTSTEP!$AZ$4","v":"Analyse de sa prestation"},"Pertinente",{"$f":"VLOOKUP(C50,DEBUTSTEP!$AZ$4:$BA$33,2,FALSE)","v":3},"Pertinente",{"$f":"VLOOKUP(E50,DEBUTSTEP!$AZ$4:$BA$33,2,FALSE)","v":3},"Pertinente",{"$f":"VLOOKUP(G50,DEBUTSTEP!$AZ$4:$BA$33,2,FALSE)","v":3},"Pertinente",{"$f":"VLOOKUP(I50,DEBUTSTEP!$AZ$4:$BA$33,2,FALSE)","v":3},"Pertinente",{"$f":"VLOOKUP(K50,DEBUTSTEP!$AZ$4:$BA$33,2,FALSE)","v":3},"Pertinente",{"$f":"VLOOKUP(M50,DEBUTSTEP!$AZ$4:$BA$33,2,FALSE)","v":3},"Pertinente",{"$f":"VLOOKUP(O50,DEBUTSTEP!$AZ$4:$BA$33,2,FALSE)","v":3},"Pertinente",{"$f":"VLOOKUP(Q50,DEBUTSTEP!$AZ$4:$BA$33,2,FALSE)","v":3},"Pertinente",{"$f":"VLOOKUP(S50,DEBUTSTEP!$AZ$4:$BA$33,2,FALSE)","v":3},"Pertinente",{"$f":"VLOOKUP(U50,DEBUTSTEP!$AZ$4:$BA$33,2,FALSE)","v":3},"Pertinente",{"$f":"VLOOKUP(W50,DEBUTSTEP!$AZ$4:$BA$33,2,FALSE)","v":3},"Pertinente",{"$f":"VLOOKUP(Y50,DEBUTSTEP!$AZ$4:$BA$33,2,FALSE)","v":3},"Pertinente",{"$f":"VLOOKUP(AA50,DEBUTSTEP!$AZ$4:$BA$33,2,FALSE)","v":3},"Pertinente",{"$f":"VLOOKUP(AC50,DEBUTSTEP!$AZ$4:$BA$33,2,FALSE)","v":3},"Pertinente",{"$f":"VLOOKUP(AE50,DEBUTSTEP!$AZ$4:$BA$33,2,FALSE)","v":3},"Pertinente",{"$f":"VLOOKUP(AG50,DEBUTSTEP!$AZ$4:$BA$33,2,FALSE)","v":3},"Pertinente",{"$f":"VLOOKUP(AI50,DEBUTSTEP!$AZ$4:$BA$33,2,FALSE)","v":3},"Pertinente",{"$f":"VLOOKUP(AK50,DEBUTSTEP!$AZ$4:$BA$33,2,FALSE)","v":3},"Pertinente",{"$f":"VLOOKUP(AM50,DEBUTSTEP!$AZ$4:$BA$33,2,FALSE)","v":3},"Pertinente",{"$f":"VLOOKUP(AO50,DEBUTSTEP!$AZ$4:$BA$33,2,FALSE)","v":3},"Pertinente",{"$f":"VLOOKUP(AQ50,DEBUTSTEP!$AZ$4:$BA$33,2,FALSE)","v":3},"Pertinente",{"$f":"VLOOKUP(AS50,DEBUTSTEP!$AZ$4:$BA$33,2,FALSE)","v":3},"Pertinente",{"$f":"VLOOKUP(AU50,DEBUTSTEP!$AZ$4:$BA$33,2,FALSE)","v":3},"Pertinente",{"$f":"VLOOKUP(AW50,DEBUTSTEP!$AZ$4:$BA$33,2,FALSE)","v":3},"Pertinente",{"$f":"VLOOKUP(AY50,DEBUTSTEP!$AZ$4:$BA$33,2,FALSE)","v":3},"Pertinente",{"$f":"VLOOKUP(BA50,DEBUTSTEP!$AZ$4:$BA$33,2,FALSE)","v":3},"Pertinente",{"$f":"VLOOKUP(BC50,DEBUTSTEP!$AZ$4:$BA$33,2,FALSE)","v":3},"Pertinente",{"$f":"VLOOKUP(BE50,DEBUTSTEP!$AZ$4:$BA$33,2,FALSE)","v":3},"Pertinente",{"$f":"VLOOKUP(BG50,DEBUTSTEP!$AZ$4:$BA$33,2,FALSE)","v":3},"Pertinente",{"$f":"VLOOKUP(BI50,DEBUTSTEP!$AZ$4:$BA$33,2,FALSE)","v":3},"Pertinente",{"$f":"VLOOKUP(BK50,DEBUTSTEP!$AZ$4:$BA$33,2,FALSE)","v":3},"Pertinente",{"$f":"VLOOKUP(BM50,DEBUTSTEP!$AZ$4:$BA$33,2,FALSE)","v":3},"Pertinente",{"$f":"VLOOKUP(BO50,DEBUTSTEP!$AZ$4:$BA$33,2,FALSE)","v":3},"Pertinente",{"$f":"VLOOKUP(BQ50,DEBUTSTEP!$AZ$4:$BA$33,2,FALSE)","v":3},"Pertinente",{"$f":"VLOOKUP(BS50,DEBUTSTEP!$AZ$4:$BA$33,2,FALSE)","v":3}]
[null,"NOTE",{"$f":"IF(OR(D45=\"x\",D46=\"x\",D47=\"x\",D48=\"x\",D49=\"x\",D50=\"x\"),\"ABSENT\",SUMIF(D45,\"<>X\")+SUMIF(D46,\"<>X\")+SUMIF(D47,\"<>X\")+SUMIF(D48,\"<>X\")+SUMIF(D49,\"<>X\")+SUMIF(D50,\"<>X\"))","v":7},null,{"$f":"IF(OR(F45=\"x\",F46=\"x\",F47=\"x\",F48=\"x\",F49=\"x\",F50=\"x\"),\"ABSENT\",SUMIF(F45,\"<>X\")+SUMIF(F46,\"<>X\")+SUMIF(F47,\"<>X\")+SUMIF(F48,\"<>X\")+SUMIF(F49,\"<>X\")+SUMIF(F50,\"<>X\"))","v":7},null,{"$f":"IF(OR(H45=\"x\",H46=\"x\",H47=\"x\",H48=\"x\",H49=\"x\",H50=\"x\"),\"ABSENT\",SUMIF(H45,\"<>X\")+SUMIF(H46,\"<>X\")+SUMIF(H47,\"<>X\")+SUMIF(H48,\"<>X\")+SUMIF(H49,\"<>X\")+SUMIF(H50,\"<>X\"))","v":7},null,{"$f":"IF(OR(J45=\"x\",J46=\"x\",J47=\"x\",J48=\"x\",J49=\"x\",J50=\"x\"),\"ABSENT\",SUMIF(J45,\"<>X\")+SUMIF(J46,\"<>X\")+SUMIF(J47,\"<>X\")+SUMIF(J48,\"<>X\")+SUMIF(J49,\"<>X\")+SUMIF(J50,\"<>X\"))","v":7},null,{"$f":"IF(OR(L45=\"x\",L46=\"x\",L47=\"x\",L48=\"x\",L49=\"x\",L50=\"x\"),\"ABSENT\",SUMIF(L45,\"<>X\")+SUMIF(L46,\"<>X\")+SUMIF(L47,\"<>X\")+SUMIF(L48,\"<>X\")+SUMIF(L49,\"<>X\")+SUMIF(L50,\"<>X\"))","v":7},null,{"$f":"IF(OR(N45=\"x\",N46=\"x\",N47=\"x\",N48=\"x\",N49=\"x\",N50=\"x\"),\"ABSENT\",SUMIF(N45,\"<>X\")+SUMIF(N46,\"<>X\")+SUMIF(N47,\"<>X\")+SUMIF(N48,\"<>X\")+SUMIF(N49,\"<>X\")+SUMIF(N50,\"<>X\"))","v":7},null,{"$f":"IF(OR(P45=\"x\",P46=\"x\",P47=\"x\",P48=\"x\",P49=\"x\",P50=\"x\"),\"ABSENT\",SUMIF(P45,\"<>X\")+SUMIF(P46,\"<>X\")+SUMIF(P47,\"<>X\")+SUMIF(P48,\"<>X\")+SUMIF(P49,\"<>X\")+SUMIF(P50,\"<>X\"))","v":7},null,{"$f":"IF(OR(R45=\"x\",R46=\"x\",R47=\"x\",R48=\"x\",R49=\"x\",R50=\"x\"),\"ABSENT\",SUMIF(R45,\"<>X\")+SUMIF(R46,\"<>X\")+SUMIF(R47,\"<>X\")+SUMIF(R48,\"<>X\")+SUMIF(R49,\"<>X\")+SUMIF(R50,\"<>X\"))","v":7},null,{"$f":"IF(OR(T45=\"x\",T46=\"x\",T47=\"x\",T48=\"x\",T49=\"x\",T50=\"x\"),\"ABSENT\",SUMIF(T45,\"<>X\")+SUMIF(T46,\"<>X\")+SUMIF(T47,\"<>X\")+SUMIF(T48,\"<>X\")+SUMIF(T49,\"<>X\")+SUMIF(T50,\"<>X\"))","v":7},null,{"$f":"IF(OR(V45=\"x\",V46=\"x\",V47=\"x\",V48=\"x\",V49=\"x\",V50=\"x\"),\"ABSENT\",SUMIF(V45,\"<>X\")+SUMIF(V46,\"<>X\")+SUMIF(V47,\"<>X\")+SUMIF(V48,\"<>X\")+SUMIF(V49,\"<>X\")+SUMIF(V50,\"<>X\"))","v":7},null,{"$f":"IF(OR(X45=\"x\",X46=\"x\",X47=\"x\",X48=\"x\",X49=\"x\",X50=\"x\"),\"ABSENT\",SUMIF(X45,\"<>X\")+SUMIF(X46,\"<>X\")+SUMIF(X47,\"<>X\")+SUMIF(X48,\"<>X\")+SUMIF(X49,\"<>X\")+SUMIF(X50,\"<>X\"))","v":7},null,{"$f":"IF(OR(Z45=\"x\",Z46=\"x\",Z47=\"x\",Z48=\"x\",Z49=\"x\",Z50=\"x\"),\"ABSENT\",SUMIF(Z45,\"<>X\")+SUMIF(Z46,\"<>X\")+SUMIF(Z47,\"<>X\")+SUMIF(Z48,\"<>X\")+SUMIF(Z49,\"<>X\")+SUMIF(Z50,\"<>X\"))","v":7},null,{"$f":"IF(OR(AB45=\"x\",AB46=\"x\",AB47=\"x\",AB48=\"x\",AB49=\"x\",AB50=\"x\"),\"ABSENT\",SUMIF(AB45,\"<>X\")+SUMIF(AB46,\"<>X\")+SUMIF(AB47,\"<>X\")+SUMIF(AB48,\"<>X\")+SUMIF(AB49,\"<>X\")+SUMIF(AB50,\"<>X\"))","v":7},null,{"$f":"IF(OR(AD45=\"x\",AD46=\"x\",AD47=\"x\",AD48=\"x\",AD49=\"x\",AD50=\"x\"),\"ABSENT\",SUMIF(AD45,\"<>X\")+SUMIF(AD46,\"<>X\")+SUMIF(AD47,\"<>X\")+SUMIF(AD48,\"<>X\")+SUMIF(AD49,\"<>X\")+SUMIF(AD50,\"<>X\"))","v":7},null,{"$f":"IF(OR(AF45=\"x\",AF46=\"x\",AF47=\"x\",AF48=\"x\",AF49=\"x\",AF50=\"x\"),\"ABSENT\",SUMIF(AF45,\"<>X\")+SUMIF(AF46,\"<>X\")+SUMIF(AF47,\"<>X\")+SUMIF(AF48,\"<>X\")+SUMIF(AF49,\"<>X\")+SUMIF(AF50,\"<>X\"))","v":7},null,{"$f":"IF(OR(AH45=\"x\",AH46=\"x\",AH47=\"x\",AH48=\"x\",AH49=\"x\",AH50=\"x\"),\"ABSENT\",SUMIF(AH45,\"<>X\")+SUMIF(AH46,\"<>X\")+SUMIF(AH47,\"<>X\")+SUMIF(AH48,\"<>X\")+SUMIF(AH49,\"<>X\")+SUMIF(AH50,\"<>X\"))","v":7},null,{"$f":"IF(OR(AJ45=\"x\",AJ46=\"x\",AJ47=\"x\",AJ48=\"x\",AJ49=\"x\",AJ50=\"x\"),\"ABSENT\",SUMIF(AJ45,\"<>X\")+SUMIF(AJ46,\"<>X\")+SUMIF(AJ47,\"<>X\")+SUMIF(AJ48,\"<>X\")+SUMIF(AJ49,\"<>X\")+SUMIF(AJ50,\"<>X\"))","v":7},null,{"$f":"IF(OR(AL45=\"x\",AL46=\"x\",AL47=\"x\",AL48=\"x\",AL49=\"x\",AL50=\"x\"),\"ABSENT\",SUMIF(AL45,\"<>X\")+SUMIF(AL46,\"<>X\")+SUMIF(AL47,\"<>X\")+SUMIF(AL48,\"<>X\")+SUMIF(AL49,\"<>X\")+SUMIF(AL50,\"<>X\"))","v":7},null,{"$f":"IF(OR(AN45=\"x\",AN46=\"x\",AN47=\"x\",AN48=\"x\",AN49=\"x\",AN50=\"x\"),\"ABSENT\",SUMIF(AN45,\"<>X\")+SUMIF(AN46,\"<>X\")+SUMIF(AN47,\"<>X\")+SUMIF(AN48,\"<>X\")+SUMIF(AN49,\"<>X\")+SUMIF(AN50,\"<>X\"))","v":7},null,{"$f":"IF(OR(AP45=\"x\",AP46=\"x\",AP47=\"x\",AP48=\"x\",AP49=\"x\",AP50=\"x\"),\"ABSENT\",SUMIF(AP45,\"<>X\")+SUMIF(AP46,\"<>X\")+SUMIF(AP47,\"<>X\")+SUMIF(AP48,\"<>X\")+SUMIF(AP49,\"<>X\")+SUMIF(AP50,\"<>X\"))","v":7},null,{"$f":"IF(OR(AR45=\"x\",AR46=\"x\",AR47=\"x\",AR48=\"x\",AR49=\"x\",AR50=\"x\"),\"ABSENT\",SUMIF(AR45,\"<>X\")+SUMIF(AR46,\"<>X\")+SUMIF(AR47,\"<>X\")+SUMIF(AR48,\"<>X\")+SUMIF(AR49,\"<>X\")+SUMIF(AR50,\"<>X\"))","v":7},null,{"$f":"IF(OR(AT45=\"x\",AT46=\"x\",AT47=\"x\",AT48=\"x\",AT49=\"x\",AT50=\"x\"),\"ABSENT\",SUMIF(AT45,\"<>X\")+SUMIF(AT46,\"<>X\")+SUMIF(AT47,\"<>X\")+SUMIF(AT48,\"<>X\")+SUMIF(AT49,\"<>X\")+SUMIF(AT50,\"<>X\"))","v":7},null,{"$f":"IF(OR(AV45=\"x\",AV46=\"x\",AV47=\"x\",AV48=\"x\",AV49=\"x\",AV50=\"x\"),\"ABSENT\",SUMIF(AV45,\"<>X\")+SUMIF(AV46,\"<>X\")+SUMIF(AV47,\"<>X\")+SUMIF(AV48,\"<>X\")+SUMIF(AV49,\"<>X\")+SUMIF(AV50,\"<>X\"))","v":7},null,{"$f":"IF(OR(AX45=\"x\",AX46=\"x\",AX47=\"x\",AX48=\"x\",AX49=\"x\",AX50=\"x\"),\"ABSENT\",SUMIF(AX45,\"<>X\")+SUMIF(AX46,\"<>X\")+SUMIF(AX47,\"<>X\")+SUMIF(AX48,\"<>X\")+SUMIF(AX49,\"<>X\")+SUMIF(AX50,\"<>X\"))","v":7},null,{"$f":"IF(OR(AZ45=\"x\",AZ46=\"x\",AZ47=\"x\",AZ48=\"x\",AZ49=\"x\",AZ50=\"x\"),\"ABSENT\",SUMIF(AZ45,\"<>X\")+SUMIF(AZ46,\"<>X\")+SUMIF(AZ47,\"<>X\")+SUMIF(AZ48,\"<>X\")+SUMIF(AZ49,\"<>X\")+SUMIF(AZ50,\"<>X\"))","v":7},null,{"$f":"IF(OR(BB45=\"x\",BB46=\"x\",BB47=\"x\",BB48=\"x\",BB49=\"x\",BB50=\"x\"),\"ABSENT\",SUMIF(BB45,\"<>X\")+SUMIF(BB46,\"<>X\")+SUMIF(BB47,\"<>X\")+SUMIF(BB48,\"<>X\")+SUMIF(BB49,\"<>X\")+SUMIF(BB50,\"<>X\"))","v":7},null,{"$f":"IF(OR(BD45=\"x\",BD46=\"x\",BD47=\"x\",BD48=\"x\",BD49=\"x\",BD50=\"x\"),\"ABSENT\",SUMIF(BD45,\"<>X\")+SUMIF(BD46,\"<>X\")+SUMIF(BD47,\"<>X\")+SUMIF(BD48,\"<>X\")+SUMIF(BD49,\"<>X\")+SUMIF(BD50,\"<>X\"))","v":7},null,{"$f":"IF(OR(BF45=\"x\",BF46=\"x\",BF47=\"x\",BF48=\"x\",BF49=\"x\",BF50=\"x\"),\"ABSENT\",SUMIF(BF45,\"<>X\")+SUMIF(BF46,\"<>X\")+SUMIF(BF47,\"<>X\")+SUMIF(BF48,\"<>X\")+SUMIF(BF49,\"<>X\")+SUMIF(BF50,\"<>X\"))","v":7},null,{"$f":"IF(OR(BH45=\"x\",BH46=\"x\",BH47=\"x\",BH48=\"x\",BH49=\"x\",BH50=\"x\"),\"ABSENT\",SUMIF(BH45,\"<>X\")+SUMIF(BH46,\"<>X\")+SUMIF(BH47,\"<>X\")+SUMIF(BH48,\"<>X\")+SUMIF(BH49,\"<>X\")+SUMIF(BH50,\"<>X\"))","v":7},null,{"$f":"IF(OR(BJ45=\"x\",BJ46=\"x\",BJ47=\"x\",BJ48=\"x\",BJ49=\"x\",BJ50=\"x\"),\"ABSENT\",SUMIF(BJ45,\"<>X\")+SUMIF(BJ46,\"<>X\")+SUMIF(BJ47,\"<>X\")+SUMIF(BJ48,\"<>X\")+SUMIF(BJ49,\"<>X\")+SUMIF(BJ50,\"<>X\"))","v":7},null,{"$f":"IF(OR(BL45=\"x\",BL46=\"x\",BL47=\"x\",BL48=\"x\",BL49=\"x\",BL50=\"x\"),\"ABSENT\",SUMIF(BL45,\"<>X\")+SUMIF(BL46,\"<>X\")+SUMIF(BL47,\"<>X\")+SUMIF(BL48,\"<>X\")+SUMIF(BL49,\"<>X\")+SUMIF(BL50,\"<>X\"))","v":7},null,{"$f":"IF(OR(BN45=\"x\",BN46=\"x\",BN47=\"x\",BN48=\"x\",BN49=\"x\",BN50=\"x\"),\"ABSENT\",SUMIF(BN45,\"<>X\")+SUMIF(BN46,\"<>X\")+SUMIF(BN47,\"<>X\")+SUMIF(BN48,\"<>X\")+SUMIF(BN49,\"<>X\")+SUMIF(BN50,\"<>X\"))","v":7},null,{"$f":"IF(OR(BP45=\"x\",BP46=\"x\",BP47=\"x\",BP48=\"x\",BP49=\"x\",BP50=\"x\"),\"ABSENT\",SUMIF(BP45,\"<>X\")+SUMIF(BP46,\"<>X\")+SUMIF(BP47,\"<>X\")+SUMIF(BP48,\"<>X\")+SUMIF(BP49,\"<>X\")+SUMIF(BP50,\"<>X\"))","v":7},null,{"$f":"IF(OR(BR45=\"x\",BR46=\"x\",BR47=\"x\",BR48=\"x\",BR49=\"x\",BR50=\"x\"),\"ABSENT\",SUMIF(BR45,\"<>X\")+SUMIF(BR46,\"<>X\")+SUMIF(BR47,\"<>X\")+SUMIF(BR48,\"<>X\")+SUMIF(BR49,\"<>X\")+SUMIF(BR50,\"<>X\"))","v":7},null,{"$f":"IF(OR(BT45=\"x\",BT46=\"x\",BT47=\"x\",BT48=\"x\",BT49=\"x\",BT50=\"x\"),\"ABSENT\",SUMIF(BT45,\"<>X\")+SUMIF(BT46,\"<>X\")+SUMIF(BT47,\"<>X\")+SUMIF(BT48,\"<>X\")+SUMIF(BT49,\"<>X\")+SUMIF(BT50,\"<>X\"))","v":7}]
[]
["SEANCE 7",{"$f":"DEBUTSTEP!$AP$4","v":"Prendre sa FC efficacement"},"Jamais",{"$f":"VLOOKUP(C53,DEBUTSTEP!$AP$4:$AQ$33,2,FALSE)","v":"NA"},"Jamais",{"$f":"VLOOKUP(E53,DEBUTSTEP!$AP$4:$AQ$33,2,FALSE)","v":"NA"},"Jamais",{"$f":"VLOOKUP(G53,DEBUTSTEP!$AP$4:$AQ$33,2,FALSE)","v":"NA"},"Jamais",{"$f":"VLOOKUP(I53,DEBUTSTEP!$AP$4:$AQ$33,2,FALSE)","v":"NA"},"Jamais",{"$f":"VLOOKUP(K53,DEBUTSTEP!$AP$4:$AQ$33,2,FALSE)","v":"NA"},"Jamais",{"$f":"VLOOKUP(M53,DEBUTSTEP!$AP$4:$AQ$33,2,FALSE)","v":"NA"},"Jamais",{"$f":"VLOOKUP(O53,DEBUTSTEP!$AP$4:$AQ$33,2,FALSE)","v":"NA"},"Jamais",{"$f":"VLOOKUP(Q53,DEBUTSTEP!$AP$4:$AQ$33,2,FALSE)","v":"NA"},"Jamais",{"$f":"VLOOKUP(S53,DEBUTSTEP!$AP$4:$AQ$33,2,FALSE)","v":"NA"},"Jamais",{"$f":"VLOOKUP(U53,DEBUTSTEP!$AP$4:$AQ$33,2,FALSE)","v":"NA"},"Jamais",{"$f":"VLOOKUP(W53,DEBUTSTEP!$AP$4:$AQ$33,2,FALSE)","v":"NA"},"Jamais",{"$f":"VLOOKUP(Y53,DEBUTSTEP!$AP$4:$AQ$33,2,FALSE)","v":"NA"},"Jamais",{"$f":"VLOOKUP(AA53,DEBUTSTEP!$AP$4:$AQ$33,2,FALSE)","v":"NA"},"Jamais",{"$f":"VLOOKUP(AC53,DEBUTSTEP!$AP$4:$AQ$33,2,FALSE)","v":"NA"},"Jamais",{"$f":"VLOOKUP(AE53,DEBUTSTEP!$AP$4:$AQ$33,2,FALSE)","v":"NA"},"Jamais",{"$f":"VLOOKUP(AG53,DEBUTSTEP!$AP$4:$AQ$33,2,FALSE)","v":"NA"},"Jamais",{"$f":"VLOOKUP(AI53,DEBUTSTEP!$AP$4:$AQ$33,2,FALSE)","v":"NA"},"Jamais",{"$f":"VLOOKUP(AK53,DEBUTSTEP!$AP$4:$AQ$33,2,FALSE)","v":"NA"},"Jamais",{"$f":"VLOOKUP(AM53,DEBUTSTEP!$AP$4:$AQ$33,2,FALSE)","v":"NA"},"Jamais",{"$f":"VLOOKUP(AO53,DEBUTSTEP!$AP$4:$AQ$33,2,FALSE)","v":"NA"},"Jamais",{"$f":"VLOOKUP(AQ53,DEBUTSTEP!$AP$4:$AQ$33,2,FALSE)","v":"NA"},"Jamais",{"$f":"VLOOKUP(AS53,DEBUTSTEP!$AP$4:$AQ$33,2,FALSE)","v":"NA"},"Jamais",{"$f":"VLOOKUP(AU53,DEBUTSTEP!$AP$4:$AQ$33,2,FALSE)","v":"NA"},"Jamais",{"$f":"VLOOKUP(AW53,DEBUTSTEP!$AP$4:$AQ$33,2,FALSE)","v":"NA"},"Jamais",{"$f":"VLOOKUP(AY53,DEBUTSTEP!$AP$4:$AQ$33,2,FALSE)","v":"NA"},"Jamais",{"$f":"VLOOKUP(BA53,DEBUTSTEP!$AP$4:$AQ$33,2,FALSE)","v":"NA"},"Jamais",{"$f":"VLOOKUP(BC53,DEBUTSTEP!$AP$4:$AQ$33,2,FALSE)","v":"NA"},"Jamais",{"$f":"VLOOKUP(BE53,DEBUTSTEP!$AP$4:$AQ$33,2,FALSE)","v":"NA"},"Jamais",{"$f":"VLOOKUP(BG53,DEBUTSTEP!$AP$4:$AQ$33,2,FALSE)","v":"NA"},"Jamais",{"$f":"VLOOKUP(BI53,DEBUTSTEP!$AP$4:$AQ$33,2,FALSE)","v":"NA"},"Jamais",{"$f":"VLOOKUP(BK53,DEBUTSTEP!$AP$4:$AQ$33,2,FALSE)","v":"NA"},"Jamais",{"$f":"VLOOKUP(BM53,DEBUTSTEP!$AP$4:$AQ$33,2,FALSE)","v":"NA"},"Jamais",{"$f":"VLOOKUP(BO53,DEBUTSTEP!$AP$4:$AQ$33,2,FALSE)","v":"NA"},"Jamais",{"$f":"VLOOKUP(BQ53,DEBUTSTEP!$AP$4:$AQ$33,2,FALSE)","v":"NA"},"Jamais",{"$f":"VLOOKUP(BS53,DEBUTSTEP!$AP$4:$AQ$33,2,FALSE)","v":"NA"}]
[null,{"$f":"DEBUTSTEP!$AR$4","v":"S'engager dans le mobile"},"Faible",{"$f":"VLOOKUP(C54,DEBUTSTEP!$AR$4:$AS$33,2,FALSE)","v":1},"Faible",{"$f":"VLOOKUP(E54,DEBUTSTEP!$AR$4:$AS$33,2,FALSE)","v":1},"Faible",{"$f":"VLOOKUP(G54,DEBUTSTEP!$AR$4:$AS$33,2,FALSE)","v":1},"Faible",{"$f":"VLOOKUP(I54,DEBUTSTEP!$AR$4:$AS$33,2,FALSE)","v":1},"Faible",{"$f":"VLOOKUP(K54,DEBUTSTEP!$AR$4:$AS$33,2,FALSE)","v":1},"Faible",{"$f":"VLOOKUP(M54,DEBUTSTEP!$AR$4:$AS$33,2,FALSE)","v":1},"Faible",{"$f":"VLOOKUP(O54,DEBUTSTEP!$AR$4:$AS$33,2,FALSE)","v":1},"Faible",{"$f":"VLOOKUP(Q54,DEBUTSTEP!$AR$4:$AS$33,2,FALSE)","v":1},"Faible",{"$f":"VLOOKUP(S54,DEBUTSTEP!$AR$4:$AS$33,2,FALSE)","v":1},"Faible",{"$f":"VLOOKUP(U54,DEBUTSTEP!$AR$4:$AS$33,2,FALSE)","v":1},"Faible",{"$f":"VLOOKUP(W54,DEBUTSTEP!$AR$4:$AS$33,2,FALSE)","v":1},"Faible",{"$f":"VLOOKUP(Y54,DEBUTSTEP!$AR$4:$AS$33,2,FALSE)","v":1},"Faible",{"$f":"VLOOKUP(AA54,DEBUTSTEP!$AR$4:$AS$33,2,FALSE)","v":1},"Faible",{"$f":"VLOOKUP(AC54,DEBUTSTEP!$AR$4:$AS$33,2,FALSE)","v":1},"Faible",{"$f":"VLOOKUP(AE54,DEBUTSTEP!$AR$4:$AS$33,2,FALSE)","v":1},"Faible",{"$f":"VLOOKUP(AG54,DEBUTSTEP!$AR$4:$AS$33,2,FALSE)","v":1},"Faible",{"$f":"VLOOKUP(AI54,DEBUTSTEP!$AR$4:$AS$33,2,FALSE)","v":1},"Faible",{"$f":"VLOOKUP(AK54,DEBUTSTEP!$AR$4:$AS$33,2,FALSE)","v":1},"Faible",{"$f":"VLOOKUP(AM54,DEBUTSTEP!$AR$4:$AS$33,2,FALSE)","v":1},"Faible",{"$f":"VLOOKUP(AO54,DEBUTSTEP!$AR$4:$AS$33,2,FALSE)","v":1},"Faible",{"$f":"VLOOKUP(AQ54,DEBUTSTEP!$AR$4:$AS$33,2,FALSE)","v":1},"Faible",{"$f":"VLOOKUP(AS54,DEBUTSTEP!$AR$4:$AS$33,2,FALSE)","v":1},"Faible",{"$f":"VLOOKUP(AU54,DEBUTSTEP!$AR$4:$AS$33,2,FALSE)","v":1},"Faible",{"$f":"VLOOKUP(AW54,DEBUTSTEP!$AR$4:$AS$33,2,FALSE)","v":1},"Faible",{"$f":"VLOOKUP(AY54,DEBUTSTEP!$AR$4:$AS$33,2,FALSE)","v":1},"Faible",{"$f":"VLOOKUP(BA54,DEBUTSTEP!$AR$4:$AS$33,2,FALSE)","v":1},"Faible",{"$f":"VLOOKUP(BC54,DEBUTSTEP!$AR$4:$AS$33,2,FALSE)","v":1},"Faible",{"$f":"VLOOKUP(BE54,DEBUTSTEP!$AR$4:$AS$33,2,FALSE)","v":1},"Faible",{"$f":"VLOOKUP(BG54,DEBUTSTEP!$AR$4:$AS$33,2,FALSE)","v":1},"Faible",{"$f":"VLOOKUP(BI54,DEBUTSTEP!$AR$4:$AS$33,2,FALSE)","v":1},"Faible",{"$f":"VLOOKUP(BK54,DEBUTSTEP!$AR$4:$AS$33,2,FALSE)","v":1},"Faible",{"$f":"VLOOKUP(BM54,DEBUTSTEP!$AR$4:$AS$33,2,FALSE)","v":1},"Faible",{"$f":"VLOOKUP(BO54,DEBUTSTEP!$AR$4:$AS$33,2,FALSE)","v":1},"Faible",{"$f":"VLOOKUP(BQ54,DEBUTSTEP!$AR$4:$AS$33,2,FALSE)","v":1},"Faible",{"$f":"VLOOKUP(BS54,DEBUTSTEP!$AR$4:$AS$33,2,FALSE)","v":1}]
[null,{"$f":"DEBUTSTEP!$AT$4","v":"Agir en sécu"},"Quelques avertissements",{"$f":"VLOOKUP(C55,DEBUTSTEP!$AT$4:$AU$33,2,FALSE)","v":1},"Quelques avertissements",{"$f":"VLOOKUP(E55,DEBUTSTEP!$AT$4:$AU$33,2,FALSE)","v":1},"Quelques avertissements",{"$f":"VLOOKUP(G55,DEBUTSTEP!$AT$4:$AU$33,2,FALSE)","v":1},"Quelques avertissements",{"$f":"VLOOKUP(I55,DEBUTSTEP!$AT$4:$AU$33,2,FALSE)","v":1},"Quelques avertissements",{"$f":"VLOOKUP(K55,DEBUTSTEP!$AT$4:$AU$33,2,FALSE)","v":1},"Quelques avertissements",{"$f":"VLOOKUP(M55,DEBUTSTEP!$AT$4:$AU$33,2,FALSE)","v":1},"Quelques avertissements",{"$f":"VLOOKUP(O55,DEBUTSTEP!$AT$4:$AU$33,2,FALSE)","v":1},"Quelques avertissements",{"$f":"VLOOKUP(Q55,DEBUTSTEP!$AT$4:$AU$33,2,FALSE)","v":1},"Quelques avertissements",{"$f":"VLOOKUP(S55,DEBUTSTEP!$AT$4:$AU$33,2,FALSE)","v":1},"Quelques avertissements",{"$f":"VLOOKUP(U55,DEBUTSTEP!$AT$4:$AU$33,2,FALSE)","v":1},"Quelques avertissements",{"$f":"VLOOKUP(W55,DEBUTSTEP!$AT$4:$AU$33,2,FALSE)","v":1},"Quelques avertissements",{"$f":"VLOOKUP(Y55,DEBUTSTEP!$AT$4:$AU$33,2,FALSE)","v":1},"Quelques avertissements",{"$f":"VLOOKUP(AA55,DEBUTSTEP!$AT$4:$AU$33,2,FALSE)","v":1},"Quelques avertissements",{"$f":"VLOOKUP(AC55,DEBUTSTEP!$AT$4:$AU$33,2,FALSE)","v":1},"Quelques avertissements",{"$f":"VLOOKUP(AE55,DEBUTSTEP!$AT$4:$AU$33,2,FALSE)","v":1},"Quelques avertissements",{"$f":"VLOOKUP(AG55,DEBUTSTEP!$AT$4:$AU$33,2,FALSE)","v":1},"Quelques avertissements",{"$f":"VLOOKUP(AI55,DEBUTSTEP!$AT$4:$AU$33,2,FALSE)","v":1},"Quelques avertissements",{"$f":"VLOOKUP(AK55,DEBUTSTEP!$AT$4:$AU$33,2,FALSE)","v":1},"Quelques avertissements",{"$f":"VLOOKUP(AM55,DEBUTSTEP!$AT$4:$AU$33,2,FALSE)","v":1},"Quelques avertissements",{"$f":"VLOOKUP(AO55,DEBUTSTEP!$AT$4:$AU$33,2,FALSE)","v":1},"Quelques avertissements",{"$f":"VLOOKUP(AQ55,DEBUTSTEP!$AT$4:$AU$33,2,FALSE)","v":1},"Quelques avertissements",{"$f":"VLOOKUP(AS55,DEBUTSTEP!$AT$4:$AU$33,2,FALSE)","v":1},"Quelques avertissements",{"$f":"VLOOKUP(AU55,DEBUTSTEP!$AT$4:$AU$33,2,FALSE)","v":1},"Quelques avertissements",{"$f":"VLOOKUP(AW55,DEBUTSTEP!$AT$4:$AU$33,2,FALSE)","v":1},"Quelques avertissements",{"$f":"VLOOKUP(AY55,DEBUTSTEP!$AT$4:$AU$33,2,FALSE)","v":1},"Quelques avertissements",{"$f":"VLOOKUP(BA55,DEBUTSTEP!$AT$4:$AU$33,2,FALSE)","v":1},"Quelques avertissements",{"$f":"VLOOKUP(BC55,DEBUTSTEP!$AT$4:$AU$33,2,FALSE)","v":1},"Quelques avertissements",{"$f":"VLOOKUP(BE55,DEBUTSTEP!$AT$4:$AU$33,2,FALSE)","v":1},"Quelques avertissements",{"$f":"VLOOKUP(BG55,DEBUTSTEP!$AT$4:$AU$33,2,FALSE)","v":1},"Quelques avertissements",{"$f":"VLOOKUP(BI55,DEBUTSTEP!$AT$4:$AU$33,2,FALSE)","v":1},"Quelques avertissements",{"$f":"VLOOKUP(BK55,DEBUTSTEP!$AT$4:$AU$33,2,FALSE)","v":1},"Quelques avertissements",{"$f":"VLOOKUP(BM55,DEBUTSTEP!$AT$4:$AU$33,2,FALSE)","v":1},"Quelques avertissements",{"$f":"VLOOKUP(BO55,DEBUTSTEP!$AT$4:$AU$33,2,FALSE)","v":1},"Quelques avertissements",{"$f":"VLOOKUP(BQ55,DEBUTSTEP!$AT$4:$AU$33,2,FALSE)","v":1},"Quelques avertissements",{"$f":"VLOOKUP(BS55,DEBUTSTEP!$AT$4:$AU$33,2,FALSE)","v":1}]
[null,{"$f":"DEBUTSTEP!$AV$4","v":"Respect de l'entrainement proposé"},"Aléatoire",{"$f":"VLOOKUP(C56,DEBUTSTEP!$AV$4:$AW$33,2,FALSE)","v":1},"Aléatoire",{"$f":"VLOOKUP(E56,DEBUTSTEP!$AV$4:$AW$33,2,FALSE)","v":1},"Aléatoire",{"$f":"VLOOKUP(G56,DEBUTSTEP!$AV$4:$AW$33,2,FALSE)","v":1},"Aléatoire",{"$f":"VLOOKUP(I56,DEBUTSTEP!$AV$4:$AW$33,2,FALSE)","v":1},"Aléatoire",{"$f":"VLOOKUP(K56,DEBUTSTEP!$AV$4:$AW$33,2,FALSE)","v":1},"Aléatoire",{"$f":"VLOOKUP(M56,DEBUTSTEP!$AV$4:$AW$33,2,FALSE)","v":1},"Aléatoire",{"$f":"VLOOKUP(O56,DEBUTSTEP!$AV$4:$AW$33,2,FALSE)","v":1},"Aléatoire",{"$f":"VLOOKUP(Q56,DEBUTSTEP!$AV$4:$AW$33,2,FALSE)","v":1},"Aléatoire",{"$f":"VLOOKUP(S56,DEBUTSTEP!$AV$4:$AW$33,2,FALSE)","v":1},"Aléatoire",{"$f":"VLOOKUP(U56,DEBUTSTEP!$AV$4:$AW$33,2,FALSE)","v":1},"Aléatoire",{"$f":"VLOOKUP(W56,DEBUTSTEP!$AV$4:$AW$33,2,FALSE)","v":1},"Aléatoire",{"$f":"VLOOKUP(Y56,DEBUTSTEP!$AV$4:$AW$33,2,FALSE)","v":1},"Aléatoire",{"$f":"VLOOKUP(AA56,DEBUTSTEP!$AV$4:$AW$33,2,FALSE)","v":1},"Aléatoire",{"$f":"VLOOKUP(AC56,DEBUTSTEP!$AV$4:$AW$33,2,FALSE)","v":1},"Aléatoire",{"$f":"VLOOKUP(AE56,DEBUTSTEP!$AV$4:$AW$33,2,FALSE)","v":1},"Aléatoire",{"$f":"VLOOKUP(AG56,DEBUTSTEP!$AV$4:$AW$33,2,FALSE)","v":1},"Aléatoire",{"$f":"VLOOKUP(AI56,DEBUTSTEP!$AV$4:$AW$33,2,FALSE)","v":1},"Aléatoire",{"$f":"VLOOKUP(AK56,DEBUTSTEP!$AV$4:$AW$33,2,FALSE)","v":1},"Aléatoire",{"$f":"VLOOKUP(AM56,DEBUTSTEP!$AV$4:$AW$33,2,FALSE)","v":1},"Aléatoire",{"$f":"VLOOKUP(AO56,DEBUTSTEP!$AV$4:$AW$33,2,FALSE)","v":1},"Aléatoire",{"$f":"VLOOKUP(AQ56,DEBUTSTEP!$AV$4:$AW$33,2,FALSE)","v":1},"Aléatoire",{"$f":"VLOOKUP(AS56,DEBUTSTEP!$AV$4:$AW$33,2,FALSE)","v":1},"Aléatoire",{"$f":"VLOOKUP(AU56,DEBUTSTEP!$AV$4:$AW$33,2,FALSE)","v":1},"Aléatoire",{"$f":"VLOOKUP(AW56,DEBUTSTEP!$AV$4:$AW$33,2,FALSE)","v":1},"Aléatoire",{"$f":"VLOOKUP(AY56,DEBUTSTEP!$AV$4:$AW$33,2,FALSE)","v":1},"Aléatoire",{"$f":"VLOOKUP(BA56,DEBUTSTEP!$AV$4:$AW$33,2,FALSE)","v":1},"Aléatoire",{"$f":"VLOOKUP(BC56,DEBUTSTEP!$AV$4:$AW$33,2,FALSE)","v":1},"Aléatoire",{"$f":"VLOOKUP(BE56,DEBUTSTEP!$AV$4:$AW$33,2,FALSE)","v":1},"Aléatoire",{"$f":"VLOOKUP(BG56,DEBUTSTEP!$AV$4:$AW$33,2,FALSE)","v":1},"Aléatoire",{"$f":"VLOOKUP(BI56,DEBUTSTEP!$AV$4:$AW$33,2,FALSE)","v":1},"Aléatoire",{"$f":"VLOOKUP(BK56,DEBUTSTEP!$AV$4:$AW$33,2,FALSE)","v":1},"Aléatoire",{"$f":"VLOOKUP(BM56,DEBUTSTEP!$AV$4:$AW$33,2,FALSE)","v":1},"Aléatoire",{"$f":"VLOOKUP(BO56,DEBUTSTEP!$AV$4:$AW$33,2,FALSE)","v":1},"Aléatoire",{"$f":"VLOOKUP(BQ56,DEBUTSTEP!$AV$4:$AW$33,2,FALSE)","v":1},"Aléatoire",{"$f":"VLOOKUP(BS56,DEBUTSTEP!$AV$4:$AW$33,2,FALSE)","v":1}]
[null,{"$f":"DEBUTSTEP!$AX$4","v":"Mémorisation des blocs"},"Beaucoup d'erreurs",{"$f":"VLOOKUP(C57,DEBUTSTEP!$AX$4:$AY$33,2,FALSE)","v":1},"Beaucoup d'erreurs",{"$f":"VLOOKUP(E57,DEBUTSTEP!$AX$4:$AY$33,2,FALSE)","v":1},"Beaucoup d'erreurs",{"$f":"VLOOKUP(G57,DEBUTSTEP!$AX$4:$AY$33,2,FALSE)","v":1},"Beaucoup d'erreurs",{"$f":"VLOOKUP(I57,DEBUTSTEP!$AX$4:$AY$33,2,FALSE)","v":1},"Beaucoup d'erreurs",{"$f":"VLOOKUP(K57,DEBUTSTEP!$AX$4:$AY$33,2,FALSE)","v":1},"Beaucoup d'erreurs",{"$f":"VLOOKUP(M57,DEBUTSTEP!$AX$4:$AY$33,2,FALSE)","v":1},"Beaucoup d'erreurs",{"$f":"VLOOKUP(O57,DEBUTSTEP!$AX$4:$AY$33,2,FALSE)","v":1},"Beaucoup d'erreurs",{"$f":"VLOOKUP(Q57,DEBUTSTEP!$AX$4:$AY$33,2,FALSE)","v":1},"Beaucoup d'erreurs",{"$f":"VLOOKUP(S57,DEBUTSTEP!$AX$4:$AY$33,2,FALSE)","v":1},"Beaucoup d'erreurs",{"$f":"VLOOKUP(U57,DEBUTSTEP!$AX$4:$AY$33,2,FALSE)","v":1},"Beaucoup d'erreurs",{"$f":"VLOOKUP(W57,DEBUTSTEP!$AX$4:$AY$33,2,FALSE)","v":1},"Beaucoup d'erreurs",{"$f":"VLOOKUP(Y57,DEBUTSTEP!$AX$4:$AY$33,2,FALSE)","v":1},"Beaucoup d'erreurs",{"$f":"VLOOKUP(AA57,DEBUTSTEP!$AX$4:$AY$33,2,FALSE)","v":1},"Beaucoup d'erreurs",{"$f":"VLOOKUP(AC57,DEBUTSTEP!$AX$4:$AY$33,2,FALSE)","v":1},"Beaucoup d'erreurs",{"$f":"VLOOKUP(AE57,DEBUTSTEP!$AX$4:$AY$33,2,FALSE)","v":1},"Beaucoup d'erreurs",{"$f":"VLOOKUP(AG57,DEBUTSTEP!$AX$4:$AY$33,2,FALSE)","v":1},"Beaucoup d'erreurs",{"$f":"VLOOKUP(AI57,DEBUTSTEP!$AX$4:$AY$33,2,FALSE)","v":1},"Beaucoup d'erreurs",{"$f":"VLOOKUP(AK57,DEBUTSTEP!$AX$4:$AY$33,2,FALSE)","v":1},"Beaucoup d'erreurs",{"$f":"VLOOKUP(AM57,DEBUTSTEP!$AX$4:$AY$33,2,FALSE)","v":1},"Beaucoup d'erreurs",{"$f":"VLOOKUP(AO57,DEBUTSTEP!$AX$4:$AY$33,2,FALSE)","v":1},"Beaucoup d'erreurs",{"$f":"VLOOKUP(AQ57,DEBUTSTEP!$AX$4:$AY$33,2,FALSE)","v":1},"Beaucoup d'erreurs",{"$f":"VLOOKUP(AS57,DEBUTSTEP!$AX$4:$AY$33,2,FALSE)","v":1},"Beaucoup d'erreurs",{"$f":"VLOOKUP(AU57,DEBUTSTEP!$AX$4:$AY$33,2,FALSE)","v":1},"Beaucoup d'erreurs",{"$f":"VLOOKUP(AW57,DEBUTSTEP!$AX$4:$AY$33,2,FALSE)","v":1},"Beaucoup d'erreurs",{"$f":"VLOOKUP(AY57,DEBUTSTEP!$AX$4:$AY$33,2,FALSE)","v":1},"Beaucoup d'erreurs",{"$f":"VLOOKUP(BA57,DEBUTSTEP!$AX$4:$AY$33,2,FALSE)","v":1},"Beaucoup d'erreurs",{"$f":"VLOOKUP(BC57,DEBUTSTEP!$AX$4:$AY$33,2,FALSE)","v":1},"Beaucoup d'erreurs",{"$f":"VLOOKUP(BE57,DEBUTSTEP!$AX$4:$AY$33,2,FALSE)","v":1},"Beaucoup d'erreurs",{"$f":"VLOOKUP(BG57,DEBUTSTEP!$AX$4:$AY$33,2,FALSE)","v":1},"Beaucoup d'erreurs",{"$f":"VLOOKUP(BI57,DEBUTSTEP!$AX$4:$AY$33,2,FALSE)","v":1},"Beaucoup d'erreurs",{"$f":"VLOOKUP(BK57,DEBUTSTEP!$AX$4:$AY$33,2,FALSE)","v":1},"Beaucoup d'erreurs",{"$f":"VLOOKUP(BM57,DEBUTSTEP!$AX$4:$AY$33,2,FALSE)","v":1},"Beaucoup d'erreurs",{"$f":"VLOOKUP(BO57,DEBUTSTEP!$AX$4:$AY$33,2,FALSE)","v":1},"Beaucoup d'erreurs",{"$f":"VLOOKUP(BQ57,DEBUTSTEP!$AX$4:$AY$33,2,FALSE)","v":1},"Beaucoup d'erreurs",{"$f":"VLOOKUP(BS57,DEBUTSTEP!$AX$4:$AY$33,2,FALSE)","v":1}]
[null,{"$f":"DEBUTSTEP!$AZ$4","v":"Analyse de sa prestation"},"Pertinente",{"$f":"VLOOKUP(C58,DEBUTSTEP!$AZ$4:$BA$33,2,FALSE)","v":3},"Pertinente",{"$f":"VLOOKUP(E58,DEBUTSTEP!$AZ$4:$BA$33,2,FALSE)","v":3},"Pertinente",{"$f":"VLOOKUP(G58,DEBUTSTEP!$AZ$4:$BA$33,2,FALSE)","v":3},"Pertinente",{"$f":"VLOOKUP(I58,DEBUTSTEP!$AZ$4:$BA$33,2,FALSE)","v":3},"Pertinente",{"$f":"VLOOKUP(K58,DEBUTSTEP!$AZ$4:$BA$33,2,FALSE)","v":3},"Pertinente",{"$f":"VLOOKUP(M58,DEBUTSTEP!$AZ$4:$BA$33,2,FALSE)","v":3},"Pertinente",{"$f":"VLOOKUP(O58,DEBUTSTEP!$AZ$4:$BA$33,2,FALSE)","v":3},"Pertinente",{"$f":"VLOOKUP(Q58,DEBUTSTEP!$AZ$4:$BA$33,2,FALSE)","v":3},"Pertinente",{"$f":"VLOOKUP(S58,DEBUTSTEP!$AZ$4:$BA$33,2,FALSE)","v":3},"Pertinente",{"$f":"VLOOKUP(U58,DEBUTSTEP!$AZ$4:$BA$33,2,FALSE)","v":3},"Pertinente",{"$f":"VLOOKUP(W58,DEBUTSTEP!$AZ$4:$BA$33,2,FALSE)","v":3},"Pertinente",{"$f":"VLOOKUP(Y58,DEBUTSTEP!$AZ$4:$BA$33,2,FALSE)","v":3},"Pertinente",{"$f":"VLOOKUP(AA58,DEBUTSTEP!$AZ$4:$BA$33,2,FALSE)","v":3},"Pertinente",{"$f":"VLOOKUP(AC58,DEBUTSTEP!$AZ$4:$BA$33,2,FALSE)","v":3},"Pertinente",{"$f":"VLOOKUP(AE58,DEBUTSTEP!$AZ$4:$BA$33,2,FALSE)","v":3},"Pertinente",{"$f":"VLOOKUP(AG58,DEBUTSTEP!$AZ$4:$BA$33,2,FALSE)","v":3},"Pertinente",{"$f":"VLOOKUP(AI58,DEBUTSTEP!$AZ$4:$BA$33,2,FALSE)","v":3},"Pertinente",{"$f":"VLOOKUP(AK58,DEBUTSTEP!$AZ$4:$BA$33,2,FALSE)","v":3},"Pertinente",{"$f":"VLOOKUP(AM58,DEBUTSTEP!$AZ$4:$BA$33,2,FALSE)","v":3},"Pertinente",{"$f":"VLOOKUP(AO58,DEBUTSTEP!$AZ$4:$BA$33,2,FALSE)","v":3},"Pertinente",{"$f":"VLOOKUP(AQ58,DEBUTSTEP!$AZ$4:$BA$33,2,FALSE)","v":3},"Pertinente",{"$f":"VLOOKUP(AS58,DEBUTSTEP!$AZ$4:$BA$33,2,FALSE)","v":3},"Pertinente",{"$f":"VLOOKUP(AU58,DEBUTSTEP!$AZ$4:$BA$33,2,FALSE)","v":3},"Pertinente",{"$f":"VLOOKUP(AW58,DEBUTSTEP!$AZ$4:$BA$33,2,FALSE)","v":3},"Pertinente",{"$f":"VLOOKUP(AY58,DEBUTSTEP!$AZ$4:$BA$33,2,FALSE)","v":3},"Pertinente",{"$f":"VLOOKUP(BA58,DEBUTSTEP!$AZ$4:$BA$33,2,FALSE)","v":3},"Pertinente",{"$f":"VLOOKUP(BC58,DEBUTSTEP!$AZ$4:$BA$33,2,FALSE)","v":3},"Pertinente",{"$f":"VLOOKUP(BE58,DEBUTSTEP!$AZ$4:$BA$33,2,FALSE)","v":3},"Pertinente",{"$f":"VLOOKUP(BG58,DEBUTSTEP!$AZ$4:$BA$33,2,FALSE)","v":3},"Pertinente",{"$f":"VLOOKUP(BI58,DEBUTSTEP!$AZ$4:$BA$33,2,FALSE)","v":3},"Pertinente",{"$f":"VLOOKUP(BK58,DEBUTSTEP!$AZ$4:$BA$33,2,FALSE)","v":3},"Pertinente",{"$f":"VLOOKUP(BM58,DEBUTSTEP!$AZ$4:$BA$33,2,FALSE)","v":3},"Pertinente",{"$f":"VLOOKUP(BO58,DEBUTSTEP!$AZ$4:$BA$33,2,FALSE)","v":3},"Pertinente",{"$f":"VLOOKUP(BQ58,DEBUTSTEP!$AZ$4:$BA$33,2,FALSE)","v":3},"Pertinente",{"$f":"VLOOKUP(BS58,DEBUTSTEP!$AZ$4:$BA$33,2,FALSE)","v":3}]
[null,"NOTE",{"$f":"IF(OR(D53=\"x\",D54=\"x\",D55=\"x\",D56=\"x\",D57=\"x\",D58=\"x\"),\"ABSENT\",SUMIF(D53,\"<>X\")+SUMIF(D54,\"<>X\")+SUMIF(D55,\"<>X\")+SUMIF(D56,\"<>X\")+SUMIF(D57,\"<>X\")+SUMIF(D58,\"<>X\"))","v":7},null,{"$f":"IF(OR(F53=\"x\",F54=\"x\",F55=\"x\",F56=\"x\",F57=\"x\",F58=\"x\"),\"ABSENT\",SUMIF(F53,\"<>X\")+SUMIF(F54,\"<>X\")+SUMIF(F55,\"<>X\")+SUMIF(F56,\"<>X\")+SUMIF(F57,\"<>X\")+SUMIF(F58,\"<>X\"))","v":7},null,{"$f":"IF(OR(H53=\"x\",H54=\"x\",H55=\"x\",H56=\"x\",H57=\"x\",H58=\"x\"),\"ABSENT\",SUMIF(H53,\"<>X\")+SUMIF(H54,\"<>X\")+SUMIF(H55,\"<>X\")+SUMIF(H56,\"<>X\")+SUMIF(H57,\"<>X\")+SUMIF(H58,\"<>X\"))","v":7},null,{"$f":"IF(OR(J53=\"x\",J54=\"x\",J55=\"x\",J56=\"x\",J57=\"x\",J58=\"x\"),\"ABSENT\",SUMIF(J53,\"<>X\")+SUMIF(J54,\"<>X\")+SUMIF(J55,\"<>X\")+SUMIF(J56,\"<>X\")+SUMIF(J57,\"<>X\")+SUMIF(J58,\"<>X\"))","v":7},null,{"$f":"IF(OR(L53=\"x\",L54=\"x\",L55=\"x\",L56=\"x\",L57=\"x\",L58=\"x\"),\"ABSENT\",SUMIF(L53,\"<>X\")+SUMIF(L54,\"<>X\")+SUMIF(L55,\"<>X\")+SUMIF(L56,\"<>X\")+SUMIF(L57,\"<>X\")+SUMIF(L58,\"<>X\"))","v":7},null,{"$f":"IF(OR(N53=\"x\",N54=\"x\",N55=\"x\",N56=\"x\",N57=\"x\",N58=\"x\"),\"ABSENT\",SUMIF(N53,\"<>X\")+SUMIF(N54,\"<>X\")+SUMIF(N55,\"<>X\")+SUMIF(N56,\"<>X\")+SUMIF(N57,\"<>X\")+SUMIF(N58,\"<>X\"))","v":7},null,{"$f":"IF(OR(P53=\"x\",P54=\"x\",P55=\"x\",P56=\"x\",P57=\"x\",P58=\"x\"),\"ABSENT\",SUMIF(P53,\"<>X\")+SUMIF(P54,\"<>X\")+SUMIF(P55,\"<>X\")+SUMIF(P56,\"<>X\")+SUMIF(P57,\"<>X\")+SUMIF(P58,\"<>X\"))","v":7},null,{"$f":"IF(OR(R53=\"x\",R54=\"x\",R55=\"x\",R56=\"x\",R57=\"x\",R58=\"x\"),\"ABSENT\",SUMIF(R53,\"<>X\")+SUMIF(R54,\"<>X\")+SUMIF(R55,\"<>X\")+SUMIF(R56,\"<>X\")+SUMIF(R57,\"<>X\")+SUMIF(R58,\"<>X\"))","v":7},null,{"$f":"IF(OR(T53=\"x\",T54=\"x\",T55=\"x\",T56=\"x\",T57=\"x\",T58=\"x\"),\"ABSENT\",SUMIF(T53,\"<>X\")+SUMIF(T54,\"<>X\")+SUMIF(T55,\"<>X\")+SUMIF(T56,\"<>X\")+SUMIF(T57,\"<>X\")+SUMIF(T58,\"<>X\"))","v":7},null,{"$f":"IF(OR(V53=\"x\",V54=\"x\",V55=\"x\",V56=\"x\",V57=\"x\",V58=\"x\"),\"ABSENT\",SUMIF(V53,\"<>X\")+SUMIF(V54,\"<>X\")+SUMIF(V55,\"<>X\")+SUMIF(V56,\"<>X\")+SUMIF(V57,\"<>X\")+SUMIF(V58,\"<>X\"))","v":7},null,{"$f":"IF(OR(X53=\"x\",X54=\"x\",X55=\"x\",X56=\"x\",X57=\"x\",X58=\"x\"),\"ABSENT\",SUMIF(X53,\"<>X\")+SUMIF(X54,\"<>X\")+SUMIF(X55,\"<>X\")+SUMIF(X56,\"<>X\")+SUMIF(X57,\"<>X\")+SUMIF(X58,\"<>X\"))","v":7},null,{"$f":"IF(OR(Z53=\"x\",Z54=\"x\",Z55=\"x\",Z56=\"x\",Z57=\"x\",Z58=\"x\"),\"ABSENT\",SUMIF(Z53,\"<>X\")+SUMIF(Z54,\"<>X\")+SUMIF(Z55,\"<>X\")+SUMIF(Z56,\"<>X\")+SUMIF(Z57,\"<>X\")+SUMIF(Z58,\"<>X\"))","v":7},null,{"$f":"IF(OR(AB53=\"x\",AB54=\"x\",AB55=\"x\",AB56=\"x\",AB57=\"x\",AB58=\"x\"),\"ABSENT\",SUMIF(AB53,\"<>X\")+SUMIF(AB54,\"<>X\")+SUMIF(AB55,\"<>X\")+SUMIF(AB56,\"<>X\")+SUMIF(AB57,\"<>X\")+SUMIF(AB58,\"<>X\"))","v":7},null,{"$f":"IF(OR(AD53=\"x\",AD54=\"x\",AD55=\"x\",AD56=\"x\",AD57=\"x\",AD58=\"x\"),\"ABSENT\",SUMIF(AD53,\"<>X\")+SUMIF(AD54,\"<>X\")+SUMIF(AD55,\"<>X\")+SUMIF(AD56,\"<>X\")+SUMIF(AD57,\"<>X\")+SUMIF(AD58,\"<>X\"))","v":7},null,{"$f":"IF(OR(AF53=\"x\",AF54=\"x\",AF55=\"x\",AF56=\"x\",AF57=\"x\",AF58=\"x\"),\"ABSENT\",SUMIF(AF53,\"<>X\")+SUMIF(AF54,\"<>X\")+SUMIF(AF55,\"<>X\")+SUMIF(AF56,\"<>X\")+SUMIF(AF57,\"<>X\")+SUMIF(AF58,\"<>X\"))","v":7},null,{"$f":"IF(OR(AH53=\"x\",AH54=\"x\",AH55=\"x\",AH56=\"x\",AH57=\"x\",AH58=\"x\"),\"ABSENT\",SUMIF(AH53,\"<>X\")+SUMIF(AH54,\"<>X\")+SUMIF(AH55,\"<>X\")+SUMIF(AH56,\"<>X\")+SUMIF(AH57,\"<>X\")+SUMIF(AH58,\"<>X\"))","v":7},null,{"$f":"IF(OR(AJ53=\"x\",AJ54=\"x\",AJ55=\"x\",AJ56=\"x\",AJ57=\"x\",AJ58=\"x\"),\"ABSENT\",SUMIF(AJ53,\"<>X\")+SUMIF(AJ54,\"<>X\")+SUMIF(AJ55,\"<>X\")+SUMIF(AJ56,\"<>X\")+SUMIF(AJ57,\"<>X\")+SUMIF(AJ58,\"<>X\"))","v":7},null,{"$f":"IF(OR(AL53=\"x\",AL54=\"x\",AL55=\"x\",AL56=\"x\",AL57=\"x\",AL58=\"x\"),\"ABSENT\",SUMIF(AL53,\"<>X\")+SUMIF(AL54,\"<>X\")+SUMIF(AL55,\"<>X\")+SUMIF(AL56,\"<>X\")+SUMIF(AL57,\"<>X\")+SUMIF(AL58,\"<>X\"))","v":7},null,{"$f":"IF(OR(AN53=\"x\",AN54=\"x\",AN55=\"x\",AN56=\"x\",AN57=\"x\",AN58=\"x\"),\"ABSENT\",SUMIF(AN53,\"<>X\")+SUMIF(AN54,\"<>X\")+SUMIF(AN55,\"<>X\")+SUMIF(AN56,\"<>X\")+SUMIF(AN57,\"<>X\")+SUMIF(AN58,\"<>X\"))","v":7},null,{"$f":"IF(OR(AP53=\"x\",AP54=\"x\",AP55=\"x\",AP56=\"x\",AP57=\"x\",AP58=\"x\"),\"ABSENT\",SUMIF(AP53,\"<>X\")+SUMIF(AP54,\"<>X\")+SUMIF(AP55,\"<>X\")+SUMIF(AP56,\"<>X\")+SUMIF(AP57,\"<>X\")+SUMIF(AP58,\"<>X\"))","v":7},null,{"$f":"IF(OR(AR53=\"x\",AR54=\"x\",AR55=\"x\",AR56=\"x\",AR57=\"x\",AR58=\"x\"),\"ABSENT\",SUMIF(AR53,\"<>X\")+SUMIF(AR54,\"<>X\")+SUMIF(AR55,\"<>X\")+SUMIF(AR56,\"<>X\")+SUMIF(AR57,\"<>X\")+SUMIF(AR58,\"<>X\"))","v":7},null,{"$f":"IF(OR(AT53=\"x\",AT54=\"x\",AT55=\"x\",AT56=\"x\",AT57=\"x\",AT58=\"x\"),\"ABSENT\",SUMIF(AT53,\"<>X\")+SUMIF(AT54,\"<>X\")+SUMIF(AT55,\"<>X\")+SUMIF(AT56,\"<>X\")+SUMIF(AT57,\"<>X\")+SUMIF(AT58,\"<>X\"))","v":7},null,{"$f":"IF(OR(AV53=\"x\",AV54=\"x\",AV55=\"x\",AV56=\"x\",AV57=\"x\",AV58=\"x\"),\"ABSENT\",SUMIF(AV53,\"<>X\")+SUMIF(AV54,\"<>X\")+SUMIF(AV55,\"<>X\")+SUMIF(AV56,\"<>X\")+SUMIF(AV57,\"<>X\")+SUMIF(AV58,\"<>X\"))","v":7},null,{"$f":"IF(OR(AX53=\"x\",AX54=\"x\",AX55=\"x\",AX56=\"x\",AX57=\"x\",AX58=\"x\"),\"ABSENT\",SUMIF(AX53,\"<>X\")+SUMIF(AX54,\"<>X\")+SUMIF(AX55,\"<>X\")+SUMIF(AX56,\"<>X\")+SUMIF(AX57,\"<>X\")+SUMIF(AX58,\"<>X\"))","v":7},null,{"$f":"IF(OR(AZ53=\"x\",AZ54=\"x\",AZ55=\"x\",AZ56=\"x\",AZ57=\"x\",AZ58=\"x\"),\"ABSENT\",SUMIF(AZ53,\"<>X\")+SUMIF(AZ54,\"<>X\")+SUMIF(AZ55,\"<>X\")+SUMIF(AZ56,\"<>X\")+SUMIF(AZ57,\"<>X\")+SUMIF(AZ58,\"<>X\"))","v":7},null,{"$f":"IF(OR(BB53=\"x\",BB54=\"x\",BB55=\"x\",BB56=\"x\",BB57=\"x\",BB58=\"x\"),\"ABSENT\",SUMIF(BB53,\"<>X\")+SUMIF(BB54,\"<>X\")+SUMIF(BB55,\"<>X\")+SUMIF(BB56,\"<>X\")+SUMIF(BB57,\"<>X\")+SUMIF(BB58,\"<>X\"))","v":7},null,{"$f":"IF(OR(BD53=\"x\",BD54=\"x\",BD55=\"x\",BD56=\"x\",BD57=\"x\",BD58=\"x\"),\"ABSENT\",SUMIF(BD53,\"<>X\")+SUMIF(BD54,\"<>X\")+SUMIF(BD55,\"<>X\")+SUMIF(BD56,\"<>X\")+SUMIF(BD57,\"<>X\")+SUMIF(BD58,\"<>X\"))","v":7},null,{"$f":"IF(OR(BF53=\"x\",BF54=\"x\",BF55=\"x\",BF56=\"x\",BF57=\"x\",BF58=\"x\"),\"ABSENT\",SUMIF(BF53,\"<>X\")+SUMIF(BF54,\"<>X\")+SUMIF(BF55,\"<>X\")+SUMIF(BF56,\"<>X\")+SUMIF(BF57,\"<>X\")+SUMIF(BF58,\"<>X\"))","v":7},null,{"$f":"IF(OR(BH53=\"x\",BH54=\"x\",BH55=\"x\",BH56=\"x\",BH57=\"x\",BH58=\"x\"),\"ABSENT\",SUMIF(BH53,\"<>X\")+SUMIF(BH54,\"<>X\")+SUMIF(BH55,\"<>X\")+SUMIF(BH56,\"<>X\")+SUMIF(BH57,\"<>X\")+SUMIF(BH58,\"<>X\"))","v":7},null,{"$f":"IF(OR(BJ53=\"x\",BJ54=\"x\",BJ55=\"x\",BJ56=\"x\",BJ57=\"x\",BJ58=\"x\"),\"ABSENT\",SUMIF(BJ53,\"<>X\")+SUMIF(BJ54,\"<>X\")+SUMIF(BJ55,\"<>X\")+SUMIF(BJ56,\"<>X\")+SUMIF(BJ57,\"<>X\")+SUMIF(BJ58,\"<>X\"))","v":7},null,{"$f":"IF(OR(BL53=\"x\",BL54=\"x\",BL55=\"x\",BL56=\"x\",BL57=\"x\",BL58=\"x\"),\"ABSENT\",SUMIF(BL53,\"<>X\")+SUMIF(BL54,\"<>X\")+SUMIF(BL55,\"<>X\")+SUMIF(BL56,\"<>X\")+SUMIF(BL57,\"<>X\")+SUMIF(BL58,\"<>X\"))","v":7},null,{"$f":"IF(OR(BN53=\"x\",BN54=\"x\",BN55=\"x\",BN56=\"x\",BN57=\"x\",BN58=\"x\"),\"ABSENT\",SUMIF(BN53,\"<>X\")+SUMIF(BN54,\"<>X\")+SUMIF(BN55,\"<>X\")+SUMIF(BN56,\"<>X\")+SUMIF(BN57,\"<>X\")+SUMIF(BN58,\"<>X\"))","v":7},null,{"$f":"IF(OR(BP53=\"x\",BP54=\"x\",BP55=\"x\",BP56=\"x\",BP57=\"x\",BP58=\"x\"),\"ABSENT\",SUMIF(BP53,\"<>X\")+SUMIF(BP54,\"<>X\")+SUMIF(BP55,\"<>X\")+SUMIF(BP56,\"<>X\")+SUMIF(BP57,\"<>X\")+SUMIF(BP58,\"<>X\"))","v":7},null,{"$f":"IF(OR(BR53=\"x\",BR54=\"x\",BR55=\"x\",BR56=\"x\",BR57=\"x\",BR58=\"x\"),\"ABSENT\",SUMIF(BR53,\"<>X\")+SUMIF(BR54,\"<>X\")+SUMIF(BR55,\"<>X\")+SUMIF(BR56,\"<>X\")+SUMIF(BR57,\"<>X\")+SUMIF(BR58,\"<>X\"))","v":7},null,{"$f":"IF(OR(BT53=\"x\",BT54=\"x\",BT55=\"x\",BT56=\"x\",BT57=\"x\",BT58=\"x\"),\"ABSENT\",SUMIF(BT53,\"<>X\")+SUMIF(BT54,\"<>X\")+SUMIF(BT55,\"<>X\")+SUMIF(BT56,\"<>X\")+SUMIF(BT57,\"<>X\")+SUMIF(BT58,\"<>X\"))","v":7}]
[]
["SEANCE 8",{"$f":"DEBUTSTEP!$AP$4","v":"Prendre sa FC efficacement"},"Jamais",{"$f":"VLOOKUP(C61,DEBUTSTEP!$AP$4:$AQ$33,2,FALSE)","v":"NA"},"Jamais",{"$f":"VLOOKUP(E61,DEBUTSTEP!$AP$4:$AQ$33,2,FALSE)","v":"NA"},"Jamais",{"$f":"VLOOKUP(G61,DEBUTSTEP!$AP$4:$AQ$33,2,FALSE)","v":"NA"},"Jamais",{"$f":"VLOOKUP(I61,DEBUTSTEP!$AP$4:$AQ$33,2,FALSE)","v":"NA"},"Jamais",{"$f":"VLOOKUP(K61,DEBUTSTEP!$AP$4:$AQ$33,2,FALSE)","v":"NA"},"Jamais",{"$f":"VLOOKUP(M61,DEBUTSTEP!$AP$4:$AQ$33,2,FALSE)","v":"NA"},"Jamais",{"$f":"VLOOKUP(O61,DEBUTSTEP!$AP$4:$AQ$33,2,FALSE)","v":"NA"},"Jamais",{"$f":"VLOOKUP(Q61,DEBUTSTEP!$AP$4:$AQ$33,2,FALSE)","v":"NA"},"Jamais",{"$f":"VLOOKUP(S61,DEBUTSTEP!$AP$4:$AQ$33,2,FALSE)","v":"NA"},"Jamais",{"$f":"VLOOKUP(U61,DEBUTSTEP!$AP$4:$AQ$33,2,FALSE)","v":"NA"},"Jamais",{"$f":"VLOOKUP(W61,DEBUTSTEP!$AP$4:$AQ$33,2,FALSE)","v":"NA"},"Jamais",{"$f":"VLOOKUP(Y61,DEBUTSTEP!$AP$4:$AQ$33,2,FALSE)","v":"NA"},"Jamais",{"$f":"VLOOKUP(AA61,DEBUTSTEP!$AP$4:$AQ$33,2,FALSE)","v":"NA"},"Jamais",{"$f":"VLOOKUP(AC61,DEBUTSTEP!$AP$4:$AQ$33,2,FALSE)","v":"NA"},"Jamais",{"$f":"VLOOKUP(AE61,DEBUTSTEP!$AP$4:$AQ$33,2,FALSE)","v":"NA"},"Jamais",{"$f":"VLOOKUP(AG61,DEBUTSTEP!$AP$4:$AQ$33,2,FALSE)","v":"NA"},"Jamais",{"$f":"VLOOKUP(AI61,DEBUTSTEP!$AP$4:$AQ$33,2,FALSE)","v":"NA"},"Jamais",{"$f":"VLOOKUP(AK61,DEBUTSTEP!$AP$4:$AQ$33,2,FALSE)","v":"NA"},"Jamais",{"$f":"VLOOKUP(AM61,DEBUTSTEP!$AP$4:$AQ$33,2,FALSE)","v":"NA"},"Jamais",{"$f":"VLOOKUP(AO61,DEBUTSTEP!$AP$4:$AQ$33,2,FALSE)","v":"NA"},"Jamais",{"$f":"VLOOKUP(AQ61,DEBUTSTEP!$AP$4:$AQ$33,2,FALSE)","v":"NA"},"Jamais",{"$f":"VLOOKUP(AS61,DEBUTSTEP!$AP$4:$AQ$33,2,FALSE)","v":"NA"},"Jamais",{"$f":"VLOOKUP(AU61,DEBUTSTEP!$AP$4:$AQ$33,2,FALSE)","v":"NA"},"Jamais",{"$f":"VLOOKUP(AW61,DEBUTSTEP!$AP$4:$AQ$33,2,FALSE)","v":"NA"},"Jamais",{"$f":"VLOOKUP(AY61,DEBUTSTEP!$AP$4:$AQ$33,2,FALSE)","v":"NA"},"Jamais",{"$f":"VLOOKUP(BA61,DEBUTSTEP!$AP$4:$AQ$33,2,FALSE)","v":"NA"},"Jamais",{"$f":"VLOOKUP(BC61,DEBUTSTEP!$AP$4:$AQ$33,2,FALSE)","v":"NA"},"Jamais",{"$f":"VLOOKUP(BE61,DEBUTSTEP!$AP$4:$AQ$33,2,FALSE)","v":"NA"},"Jamais",{"$f":"VLOOKUP(BG61,DEBUTSTEP!$AP$4:$AQ$33,2,FALSE)","v":"NA"},"Jamais",{"$f":"VLOOKUP(BI61,DEBUTSTEP!$AP$4:$AQ$33,2,FALSE)","v":"NA"},"Jamais",{"$f":"VLOOKUP(BK61,DEBUTSTEP!$AP$4:$AQ$33,2,FALSE)","v":"NA"},"Jamais",{"$f":"VLOOKUP(BM61,DEBUTSTEP!$AP$4:$AQ$33,2,FALSE)","v":"NA"},"Jamais",{"$f":"VLOOKUP(BO61,DEBUTSTEP!$AP$4:$AQ$33,2,FALSE)","v":"NA"},"Jamais",{"$f":"VLOOKUP(BQ61,DEBUTSTEP!$AP$4:$AQ$33,2,FALSE)","v":"NA"},"Jamais",{"$f":"VLOOKUP(BS61,DEBUTSTEP!$AP$4:$AQ$33,2,FALSE)","v":"NA"}]
[null,{"$f":"DEBUTSTEP!$AR$4","v":"S'engager dans le mobile"},"Faible",{"$f":"VLOOKUP(C62,DEBUTSTEP!$AR$4:$AS$33,2,FALSE)","v":1},"Faible",{"$f":"VLOOKUP(E62,DEBUTSTEP!$AR$4:$AS$33,2,FALSE)","v":1},"Faible",{"$f":"VLOOKUP(G62,DEBUTSTEP!$AR$4:$AS$33,2,FALSE)","v":1},"Faible",{"$f":"VLOOKUP(I62,DEBUTSTEP!$AR$4:$AS$33,2,FALSE)","v":1},"Faible",{"$f":"VLOOKUP(K62,DEBUTSTEP!$AR$4:$AS$33,2,FALSE)","v":1},"Faible",{"$f":"VLOOKUP(M62,DEBUTSTEP!$AR$4:$AS$33,2,FALSE)","v":1},"Faible",{"$f":"VLOOKUP(O62,DEBUTSTEP!$AR$4:$AS$33,2,FALSE)","v":1},"Faible",{"$f":"VLOOKUP(Q62,DEBUTSTEP!$AR$4:$AS$33,2,FALSE)","v":1},"Faible",{"$f":"VLOOKUP(S62,DEBUTSTEP!$AR$4:$AS$33,2,FALSE)","v":1},"Faible",{"$f":"VLOOKUP(U62,DEBUTSTEP!$AR$4:$AS$33,2,FALSE)","v":1},"Faible",{"$f":"VLOOKUP(W62,DEBUTSTEP!$AR$4:$AS$33,2,FALSE)","v":1},"Faible",{"$f":"VLOOKUP(Y62,DEBUTSTEP!$AR$4:$AS$33,2,FALSE)","v":1},"Faible",{"$f":"VLOOKUP(AA62,DEBUTSTEP!$AR$4:$AS$33,2,FALSE)","v":1},"Faible",{"$f":"VLOOKUP(AC62,DEBUTSTEP!$AR$4:$AS$33,2,FALSE)","v":1},"Faible",{"$f":"VLOOKUP(AE62,DEBUTSTEP!$AR$4:$AS$33,2,FALSE)","v":1},"Faible",{"$f":"VLOOKUP(AG62,DEBUTSTEP!$AR$4:$AS$33,2,FALSE)","v":1},"Faible",{"$f":"VLOOKUP(AI62,DEBUTSTEP!$AR$4:$AS$33,2,FALSE)","v":1},"Faible",{"$f":"VLOOKUP(AK62,DEBUTSTEP!$AR$4:$AS$33,2,FALSE)","v":1},"Faible",{"$f":"VLOOKUP(AM62,DEBUTSTEP!$AR$4:$AS$33,2,FALSE)","v":1},"Faible",{"$f":"VLOOKUP(AO62,DEBUTSTEP!$AR$4:$AS$33,2,FALSE)","v":1},"Faible",{"$f":"VLOOKUP(AQ62,DEBUTSTEP!$AR$4:$AS$33,2,FALSE)","v":1},"Faible",{"$f":"VLOOKUP(AS62,DEBUTSTEP!$AR$4:$AS$33,2,FALSE)","v":1},"Faible",{"$f":"VLOOKUP(AU62,DEBUTSTEP!$AR$4:$AS$33,2,FALSE)","v":1},"Faible",{"$f":"VLOOKUP(AW62,DEBUTSTEP!$AR$4:$AS$33,2,FALSE)","v":1},"Faible",{"$f":"VLOOKUP(AY62,DEBUTSTEP!$AR$4:$AS$33,2,FALSE)","v":1},"Faible",{"$f":"VLOOKUP(BA62,DEBUTSTEP!$AR$4:$AS$33,2,FALSE)","v":1},"Faible",{"$f":"VLOOKUP(BC62,DEBUTSTEP!$AR$4:$AS$33,2,FALSE)","v":1},"Faible",{"$f":"VLOOKUP(BE62,DEBUTSTEP!$AR$4:$AS$33,2,FALSE)","v":1},"Faible",{"$f":"VLOOKUP(BG62,DEBUTSTEP!$AR$4:$AS$33,2,FALSE)","v":1},"Faible",{"$f":"VLOOKUP(BI62,DEBUTSTEP!$AR$4:$AS$33,2,FALSE)","v":1},"Faible",{"$f":"VLOOKUP(BK62,DEBUTSTEP!$AR$4:$AS$33,2,FALSE)","v":1},"Faible",{"$f":"VLOOKUP(BM62,DEBUTSTEP!$AR$4:$AS$33,2,FALSE)","v":1},"Faible",{"$f":"VLOOKUP(BO62,DEBUTSTEP!$AR$4:$AS$33,2,FALSE)","v":1},"Faible",{"$f":"VLOOKUP(BQ62,DEBUTSTEP!$AR$4:$AS$33,2,FALSE)","v":1},"Faible",{"$f":"VLOOKUP(BS62,DEBUTSTEP!$AR$4:$AS$33,2,FALSE)","v":1}]
[null,{"$f":"DEBUTSTEP!$AT$4","v":"Agir en sécu"},"Quelques avertissements",{"$f":"VLOOKUP(C63,DEBUTSTEP!$AT$4:$AU$33,2,FALSE)","v":1},"Quelques avertissements",{"$f":"VLOOKUP(E63,DEBUTSTEP!$AT$4:$AU$33,2,FALSE)","v":1},"Quelques avertissements",{"$f":"VLOOKUP(G63,DEBUTSTEP!$AT$4:$AU$33,2,FALSE)","v":1},"Quelques avertissements",{"$f":"VLOOKUP(I63,DEBUTSTEP!$AT$4:$AU$33,2,FALSE)","v":1},"Quelques avertissements",{"$f":"VLOOKUP(K63,DEBUTSTEP!$AT$4:$AU$33,2,FALSE)","v":1},"Quelques avertissements",{"$f":"VLOOKUP(M63,DEBUTSTEP!$AT$4:$AU$33,2,FALSE)","v":1},"Quelques avertissements",{"$f":"VLOOKUP(O63,DEBUTSTEP!$AT$4:$AU$33,2,FALSE)","v":1},"Quelques avertissements",{"$f":"VLOOKUP(Q63,DEBUTSTEP!$AT$4:$AU$33,2,FALSE)","v":1},"Quelques avertissements",{"$f":"VLOOKUP(S63,DEBUTSTEP!$AT$4:$AU$33,2,FALSE)","v":1},"Quelques avertissements",{"$f":"VLOOKUP(U63,DEBUTSTEP!$AT$4:$AU$33,2,FALSE)","v":1},"Quelques avertissements",{"$f":"VLOOKUP(W63,DEBUTSTEP!$AT$4:$AU$33,2,FALSE)","v":1},"Quelques avertissements",{"$f":"VLOOKUP(Y63,DEBUTSTEP!$AT$4:$AU$33,2,FALSE)","v":1},"Quelques avertissements",{"$f":"VLOOKUP(AA63,DEBUTSTEP!$AT$4:$AU$33,2,FALSE)","v":1},"Quelques avertissements",{"$f":"VLOOKUP(AC63,DEBUTSTEP!$AT$4:$AU$33,2,FALSE)","v":1},"Quelques avertissements",{"$f":"VLOOKUP(AE63,DEBUTSTEP!$AT$4:$AU$33,2,FALSE)","v":1},"Quelques avertissements",{"$f":"VLOOKUP(AG63,DEBUTSTEP!$AT$4:$AU$33,2,FALSE)","v":1},"Quelques avertissements",{"$f":"VLOOKUP(AI63,DEBUTSTEP!$AT$4:$AU$33,2,FALSE)","v":1},"Quelques avertissements",{"$f":"VLOOKUP(AK63,DEBUTSTEP!$AT$4:$AU$33,2,FALSE)","v":1},"Quelques avertissements",{"$f":"VLOOKUP(AM63,DEBUTSTEP!$AT$4:$AU$33,2,FALSE)","v":1},"Quelques avertissements",{"$f":"VLOOKUP(AO63,DEBUTSTEP!$AT$4:$AU$33,2,FALSE)","v":1},"Quelques avertissements",{"$f":"VLOOKUP(AQ63,DEBUTSTEP!$AT$4:$AU$33,2,FALSE)","v":1},"Quelques avertissements",{"$f":"VLOOKUP(AS63,DEBUTSTEP!$AT$4:$AU$33,2,FALSE)","v":1},"Quelques avertissements",{"$f":"VLOOKUP(AU63,DEBUTSTEP!$AT$4:$AU$33,2,FALSE)","v":1},"Quelques avertissements",{"$f":"VLOOKUP(AW63,DEBUTSTEP!$AT$4:$AU$33,2,FALSE)","v":1},"Quelques avertissements",{"$f":"VLOOKUP(AY63,DEBUTSTEP!$AT$4:$AU$33,2,FALSE)","v":1},"Quelques avertissements",{"$f":"VLOOKUP(BA63,DEBUTSTEP!$AT$4:$AU$33,2,FALSE)","v":1},"Quelques avertissements",{"$f":"VLOOKUP(BC63,DEBUTSTEP!$AT$4:$AU$33,2,FALSE)","v":1},"Quelques avertissements",{"$f":"VLOOKUP(BE63,DEBUTSTEP!$AT$4:$AU$33,2,FALSE)","v":1},"Quelques avertissements",{"$f":"VLOOKUP(BG63,DEBUTSTEP!$AT$4:$AU$33,2,FALSE)","v":1},"Quelques avertissements",{"$f":"VLOOKUP(BI63,DEBUTSTEP!$AT$4:$AU$33,2,FALSE)","v":1},"Quelques avertissements",{"$f":"VLOOKUP(BK63,DEBUTSTEP!$AT$4:$AU$33,2,FALSE)","v":1},"Quelques avertissements",{"$f":"VLOOKUP(BM63,DEBUTSTEP!$AT$4:$AU$33,2,FALSE)","v":1},"Quelques avertissements",{"$f":"VLOOKUP(BO63,DEBUTSTEP!$AT$4:$AU$33,2,FALSE)","v":1},"Quelques avertissements",{"$f":"VLOOKUP(BQ63,DEBUTSTEP!$AT$4:$AU$33,2,FALSE)","v":1},"Quelques avertissements",{"$f":"VLOOKUP(BS63,DEBUTSTEP!$AT$4:$AU$33,2,FALSE)","v":1}]
[null,{"$f":"DEBUTSTEP!$AV$4","v":"Respect de l'entrainement proposé"},"Aléatoire",{"$f":"VLOOKUP(C64,DEBUTSTEP!$AV$4:$AW$33,2,FALSE)","v":1},"Aléatoire",{"$f":"VLOOKUP(E64,DEBUTSTEP!$AV$4:$AW$33,2,FALSE)","v":1},"Aléatoire",{"$f":"VLOOKUP(G64,DEBUTSTEP!$AV$4:$AW$33,2,FALSE)","v":1},"Aléatoire",{"$f":"VLOOKUP(I64,DEBUTSTEP!$AV$4:$AW$33,2,FALSE)","v":1},"Aléatoire",{"$f":"VLOOKUP(K64,DEBUTSTEP!$AV$4:$AW$33,2,FALSE)","v":1},"Aléatoire",{"$f":"VLOOKUP(M64,DEBUTSTEP!$AV$4:$AW$33,2,FALSE)","v":1},"Aléatoire",{"$f":"VLOOKUP(O64,DEBUTSTEP!$AV$4:$AW$33,2,FALSE)","v":1},"Aléatoire",{"$f":"VLOOKUP(Q64,DEBUTSTEP!$AV$4:$AW$33,2,FALSE)","v":1},"Aléatoire",{"$f":"VLOOKUP(S64,DEBUTSTEP!$AV$4:$AW$33,2,FALSE)","v":1},"Aléatoire",{"$f":"VLOOKUP(U64,DEBUTSTEP!$AV$4:$AW$33,2,FALSE)","v":1},"Aléatoire",{"$f":"VLOOKUP(W64,DEBUTSTEP!$AV$4:$AW$33,2,FALSE)","v":1},"Aléatoire",{"$f":"VLOOKUP(Y64,DEBUTSTEP!$AV$4:$AW$33,2,FALSE)","v":1},"Aléatoire",{"$f":"VLOOKUP(AA64,DEBUTSTEP!$AV$4:$AW$33,2,FALSE)","v":1},"Aléatoire",{"$f":"VLOOKUP(AC64,DEBUTSTEP!$AV$4:$AW$33,2,FALSE)","v":1},"Aléatoire",{"$f":"VLOOKUP(AE64,DEBUTSTEP!$AV$4:$AW$33,2,FALSE)","v":1},"Aléatoire",{"$f":"VLOOKUP(AG64,DEBUTSTEP!$AV$4:$AW$33,2,FALSE)","v":1},"Aléatoire",{"$f":"VLOOKUP(AI64,DEBUTSTEP!$AV$4:$AW$33,2,FALSE)","v":1},"Aléatoire",{"$f":"VLOOKUP(AK64,DEBUTSTEP!$AV$4:$AW$33,2,FALSE)","v":1},"Aléatoire",{"$f":"VLOOKUP(AM64,DEBUTSTEP!$AV$4:$AW$33,2,FALSE)","v":1},"Aléatoire",{"$f":"VLOOKUP(AO64,DEBUTSTEP!$AV$4:$AW$33,2,FALSE)","v":1},"Aléatoire",{"$f":"VLOOKUP(AQ64,DEBUTSTEP!$AV$4:$AW$33,2,FALSE)","v":1},"Aléatoire",{"$f":"VLOOKUP(AS64,DEBUTSTEP!$AV$4:$AW$33,2,FALSE)","v":1},"Aléatoire",{"$f":"VLOOKUP(AU64,DEBUTSTEP!$AV$4:$AW$33,2,FALSE)","v":1},"Aléatoire",{"$f":"VLOOKUP(AW64,DEBUTSTEP!$AV$4:$AW$33,2,FALSE)","v":1},"Aléatoire",{"$f":"VLOOKUP(AY64,DEBUTSTEP!$AV$4:$AW$33,2,FALSE)","v":1},"Aléatoire",{"$f":"VLOOKUP(BA64,DEBUTSTEP!$AV$4:$AW$33,2,FALSE)","v":1},"Aléatoire",{"$f":"VLOOKUP(BC64,DEBUTSTEP!$AV$4:$AW$33,2,FALSE)","v":1},"Aléatoire",{"$f":"VLOOKUP(BE64,DEBUTSTEP!$AV$4:$AW$33,2,FALSE)","v":1},"Aléatoire",{"$f":"VLOOKUP(BG64,DEBUTSTEP!$AV$4:$AW$33,2,FALSE)","v":1},"Aléatoire",{"$f":"VLOOKUP(BI64,DEBUTSTEP!$AV$4:$AW$33,2,FALSE)","v":1},"Aléatoire",{"$f":"VLOOKUP(BK64,DEBUTSTEP!$AV$4:$AW$33,2,FALSE)","v":1},"Aléatoire",{"$f":"VLOOKUP(BM64,DEBUTSTEP!$AV$4:$AW$33,2,FALSE)","v":1},"Aléatoire",{"$f":"VLOOKUP(BO64,DEBUTSTEP!$AV$4:$AW$33,2,FALSE)","v":1},"Aléatoire",{"$f":"VLOOKUP(BQ64,DEBUTSTEP!$AV$4:$AW$33,2,FALSE)","v":1},"Aléatoire",{"$f":"VLOOKUP(BS64,DEBUTSTEP!$AV$4:$AW$33,2,FALSE)","v":1}]
[null,{"$f":"DEBUTSTEP!$AX$4","v":"Mémorisation des blocs"},"Beaucoup d'erreurs",{"$f":"VLOOKUP(C65,DEBUTSTEP!$AX$4:$AY$33,2,FALSE)","v":1},"Beaucoup d'erreurs",{"$f":"VLOOKUP(E65,DEBUTSTEP!$AX$4:$AY$33,2,FALSE)","v":1},"Beaucoup d'erreurs",{"$f":"VLOOKUP(G65,DEBUTSTEP!$AX$4:$AY$33,2,FALSE)","v":1},"Beaucoup d'erreurs",{"$f":"VLOOKUP(I65,DEBUTSTEP!$AX$4:$AY$33,2,FALSE)","v":1},"Beaucoup d'erreurs",{"$f":"VLOOKUP(K65,DEBUTSTEP!$AX$4:$AY$33,2,FALSE)","v":1},"Beaucoup d'erreurs",{"$f":"VLOOKUP(M65,DEBUTSTEP!$AX$4:$AY$33,2,FALSE)","v":1},"Beaucoup d'erreurs",{"$f":"VLOOKUP(O65,DEBUTSTEP!$AX$4:$AY$33,2,FALSE)","v":1},"Beaucoup d'erreurs",{"$f":"VLOOKUP(Q65,DEBUTSTEP!$AX$4:$AY$33,2,FALSE)","v":1},"Beaucoup d'erreurs",{"$f":"VLOOKUP(S65,DEBUTSTEP!$AX$4:$AY$33,2,FALSE)","v":1},"Beaucoup d'erreurs",{"$f":"VLOOKUP(U65,DEBUTSTEP!$AX$4:$AY$33,2,FALSE)","v":1},"Beaucoup d'erreurs",{"$f":"VLOOKUP(W65,DEBUTSTEP!$AX$4:$AY$33,2,FALSE)","v":1},"Beaucoup d'erreurs",{"$f":"VLOOKUP(Y65,DEBUTSTEP!$AX$4:$AY$33,2,FALSE)","v":1},"Beaucoup d'erreurs",{"$f":"VLOOKUP(AA65,DEBUTSTEP!$AX$4:$AY$33,2,FALSE)","v":1},"Beaucoup d'erreurs",{"$f":"VLOOKUP(AC65,DEBUTSTEP!$AX$4:$AY$33,2,FALSE)","v":1},"Beaucoup d'erreurs",{"$f":"VLOOKUP(AE65,DEBUTSTEP!$AX$4:$AY$33,2,FALSE)","v":1},"Beaucoup d'erreurs",{"$f":"VLOOKUP(AG65,DEBUTSTEP!$AX$4:$AY$33,2,FALSE)","v":1},"Beaucoup d'erreurs",{"$f":"VLOOKUP(AI65,DEBUTSTEP!$AX$4:$AY$33,2,FALSE)","v":1},"Beaucoup d'erreurs",{"$f":"VLOOKUP(AK65,DEBUTSTEP!$AX$4:$AY$33,2,FALSE)","v":1},"Beaucoup d'erreurs",{"$f":"VLOOKUP(AM65,DEBUTSTEP!$AX$4:$AY$33,2,FALSE)","v":1},"Beaucoup d'erreurs",{"$f":"VLOOKUP(AO65,DEBUTSTEP!$AX$4:$AY$33,2,FALSE)","v":1},"Beaucoup d'erreurs",{"$f":"VLOOKUP(AQ65,DEBUTSTEP!$AX$4:$AY$33,2,FALSE)","v":1},"Beaucoup d'erreurs",{"$f":"VLOOKUP(AS65,DEBUTSTEP!$AX$4:$AY$33,2,FALSE)","v":1},"Beaucoup d'erreurs",{"$f":"VLOOKUP(AU65,DEBUTSTEP!$AX$4:$AY$33,2,FALSE)","v":1},"Beaucoup d'erreurs",{"$f":"VLOOKUP(AW65,DEBUTSTEP!$AX$4:$AY$33,2,FALSE)","v":1},"Beaucoup d'erreurs",{"$f":"VLOOKUP(AY65,DEBUTSTEP!$AX$4:$AY$33,2,FALSE)","v":1},"Beaucoup d'erreurs",{"$f":"VLOOKUP(BA65,DEBUTSTEP!$AX$4:$AY$33,2,FALSE)","v":1},"Beaucoup d'erreurs",{"$f":"VLOOKUP(BC65,DEBUTSTEP!$AX$4:$AY$33,2,FALSE)","v":1},"Beaucoup d'erreurs",{"$f":"VLOOKUP(BE65,DEBUTSTEP!$AX$4:$AY$33,2,FALSE)","v":1},"Beaucoup d'erreurs",{"$f":"VLOOKUP(BG65,DEBUTSTEP!$AX$4:$AY$33,2,FALSE)","v":1},"Beaucoup d'erreurs",{"$f":"VLOOKUP(BI65,DEBUTSTEP!$AX$4:$AY$33,2,FALSE)","v":1},"Beaucoup d'erreurs",{"$f":"VLOOKUP(BK65,DEBUTSTEP!$AX$4:$AY$33,2,FALSE)","v":1},"Beaucoup d'erreurs",{"$f":"VLOOKUP(BM65,DEBUTSTEP!$AX$4:$AY$33,2,FALSE)","v":1},"Beaucoup d'erreurs",{"$f":"VLOOKUP(BO65,DEBUTSTEP!$AX$4:$AY$33,2,FALSE)","v":1},"Beaucoup d'erreurs",{"$f":"VLOOKUP(BQ65,DEBUTSTEP!$AX$4:$AY$33,2,FALSE)","v":1},"Beaucoup d'erreurs",{"$f":"VLOOKUP(BS65,DEBUTSTEP!$AX$4:$AY$33,2,FALSE)","v":1}]
[null,{"$f":"DEBUTSTEP!$AZ$4","v":"Analyse de sa prestation"},"Pertinente",{"$f":"VLOOKUP(C66,DEBUTSTEP!$AZ$4:$BA$33,2,FALSE)","v":3},"Pertinente",{"$f":"VLOOKUP(E66,DEBUTSTEP!$AZ$4:$BA$33,2,FALSE)","v":3},"Pertinente",{"$f":"VLOOKUP(G66,DEBUTSTEP!$AZ$4:$BA$33,2,FALSE)","v":3},"Pertinente",{"$f":"VLOOKUP(I66,DEBUTSTEP!$AZ$4:$BA$33,2,FALSE)","v":3},"Pertinente",{"$f":"VLOOKUP(K66,DEBUTSTEP!$AZ$4:$BA$33,2,FALSE)","v":3},"Pertinente",{"$f":"VLOOKUP(M66,DEBUTSTEP!$AZ$4:$BA$33,2,FALSE)","v":3},"Pertinente",{"$f":"VLOOKUP(O66,DEBUTSTEP!$AZ$4:$BA$33,2,FALSE)","v":3},"Pertinente",{"$f":"VLOOKUP(Q66,DEBUTSTEP!$AZ$4:$BA$33,2,FALSE)","v":3},"Pertinente",{"$f":"VLOOKUP(S66,DEBUTSTEP!$AZ$4:$BA$33,2,FALSE)","v":3},"Pertinente",{"$f":"VLOOKUP(U66,DEBUTSTEP!$AZ$4:$BA$33,2,FALSE)","v":3},"Pertinente",{"$f":"VLOOKUP(W66,DEBUTSTEP!$AZ$4:$BA$33,2,FALSE)","v":3},"Pertinente",{"$f":"VLOOKUP(Y66,DEBUTSTEP!$AZ$4:$BA$33,2,FALSE)","v":3},"Pertinente",{"$f":"VLOOKUP(AA66,DEBUTSTEP!$AZ$4:$BA$33,2,FALSE)","v":3},"Pertinente",{"$f":"VLOOKUP(AC66,DEBUTSTEP!$AZ$4:$BA$33,2,FALSE)","v":3},"Pertinente",{"$f":"VLOOKUP(AE66,DEBUTSTEP!$AZ$4:$BA$33,2,FALSE)","v":3},"Pertinente",{"$f":"VLOOKUP(AG66,DEBUTSTEP!$AZ$4:$BA$33,2,FALSE)","v":3},"Pertinente",{"$f":"VLOOKUP(AI66,DEBUTSTEP!$AZ$4:$BA$33,2,FALSE)","v":3},"Pertinente",{"$f":"VLOOKUP(AK66,DEBUTSTEP!$AZ$4:$BA$33,2,FALSE)","v":3},"Pertinente",{"$f":"VLOOKUP(AM66,DEBUTSTEP!$AZ$4:$BA$33,2,FALSE)","v":3},"Pertinente",{"$f":"VLOOKUP(AO66,DEBUTSTEP!$AZ$4:$BA$33,2,FALSE)","v":3},"Pertinente",{"$f":"VLOOKUP(AQ66,DEBUTSTEP!$AZ$4:$BA$33,2,FALSE)","v":3},"Pertinente",{"$f":"VLOOKUP(AS66,DEBUTSTEP!$AZ$4:$BA$33,2,FALSE)","v":3},"Pertinente",{"$f":"VLOOKUP(AU66,DEBUTSTEP!$AZ$4:$BA$33,2,FALSE)","v":3},"Pertinente",{"$f":"VLOOKUP(AW66,DEBUTSTEP!$AZ$4:$BA$33,2,FALSE)","v":3},"Pertinente",{"$f":"VLOOKUP(AY66,DEBUTSTEP!$AZ$4:$BA$33,2,FALSE)","v":3},"Pertinente",{"$f":"VLOOKUP(BA66,DEBUTSTEP!$AZ$4:$BA$33,2,FALSE)","v":3},"Pertinente",{"$f":"VLOOKUP(BC66,DEBUTSTEP!$AZ$4:$BA$33,2,FALSE)","v":3},"Pertinente",{"$f":"VLOOKUP(BE66,DEBUTSTEP!$AZ$4:$BA$33,2,FALSE)","v":3},"Pertinente",{"$f":"VLOOKUP(BG66,DEBUTSTEP!$AZ$4:$BA$33,2,FALSE)","v":3},"Pertinente",{"$f":"VLOOKUP(BI66,DEBUTSTEP!$AZ$4:$BA$33,2,FALSE)","v":3},"Pertinente",{"$f":"VLOOKUP(BK66,DEBUTSTEP!$AZ$4:$BA$33,2,FALSE)","v":3},"Pertinente",{"$f":"VLOOKUP(BM66,DEBUTSTEP!$AZ$4:$BA$33,2,FALSE)","v":3},"Pertinente",{"$f":"VLOOKUP(BO66,DEBUTSTEP!$AZ$4:$BA$33,2,FALSE)","v":3},"Pertinente",{"$f":"VLOOKUP(BQ66,DEBUTSTEP!$AZ$4:$BA$33,2,FALSE)","v":3},"Pertinente",{"$f":"VLOOKUP(BS66,DEBUTSTEP!$AZ$4:$BA$33,2,FALSE)","v":3}]
[null,"NOTE",{"$f":"IF(OR(D61=\"x\",D62=\"x\",D63=\"x\",D64=\"x\",D65=\"x\",D66=\"x\"),\"ABSENT\",SUMIF(D61,\"<>X\")+SUMIF(D62,\"<>X\")+SUMIF(D63,\"<>X\")+SUMIF(D64,\"<>X\")+SUMIF(D65,\"<>X\")+SUMIF(D66,\"<>X\"))","v":7},null,{"$f":"IF(OR(F61=\"x\",F62=\"x\",F63=\"x\",F64=\"x\",F65=\"x\",F66=\"x\"),\"ABSENT\",SUMIF(F61,\"<>X\")+SUMIF(F62,\"<>X\")+SUMIF(F63,\"<>X\")+SUMIF(F64,\"<>X\")+SUMIF(F65,\"<>X\")+SUMIF(F66,\"<>X\"))","v":7},null,{"$f":"IF(OR(H61=\"x\",H62=\"x\",H63=\"x\",H64=\"x\",H65=\"x\",H66=\"x\"),\"ABSENT\",SUMIF(H61,\"<>X\")+SUMIF(H62,\"<>X\")+SUMIF(H63,\"<>X\")+SUMIF(H64,\"<>X\")+SUMIF(H65,\"<>X\")+SUMIF(H66,\"<>X\"))","v":7},null,{"$f":"IF(OR(J61=\"x\",J62=\"x\",J63=\"x\",J64=\"x\",J65=\"x\",J66=\"x\"),\"ABSENT\",SUMIF(J61,\"<>X\")+SUMIF(J62,\"<>X\")+SUMIF(J63,\"<>X\")+SUMIF(J64,\"<>X\")+SUMIF(J65,\"<>X\")+SUMIF(J66,\"<>X\"))","v":7},null,{"$f":"IF(OR(L61=\"x\",L62=\"x\",L63=\"x\",L64=\"x\",L65=\"x\",L66=\"x\"),\"ABSENT\",SUMIF(L61,\"<>X\")+SUMIF(L62,\"<>X\")+SUMIF(L63,\"<>X\")+SUMIF(L64,\"<>X\")+SUMIF(L65,\"<>X\")+SUMIF(L66,\"<>X\"))","v":7},null,{"$f":"IF(OR(N61=\"x\",N62=\"x\",N63=\"x\",N64=\"x\",N65=\"x\",N66=\"x\"),\"ABSENT\",SUMIF(N61,\"<>X\")+SUMIF(N62,\"<>X\")+SUMIF(N63,\"<>X\")+SUMIF(N64,\"<>X\")+SUMIF(N65,\"<>X\")+SUMIF(N66,\"<>X\"))","v":7},null,{"$f":"IF(OR(P61=\"x\",P62=\"x\",P63=\"x\",P64=\"x\",P65=\"x\",P66=\"x\"),\"ABSENT\",SUMIF(P61,\"<>X\")+SUMIF(P62,\"<>X\")+SUMIF(P63,\"<>X\")+SUMIF(P64,\"<>X\")+SUMIF(P65,\"<>X\")+SUMIF(P66,\"<>X\"))","v":7},null,{"$f":"IF(OR(R61=\"x\",R62=\"x\",R63=\"x\",R64=\"x\",R65=\"x\",R66=\"x\"),\"ABSENT\",SUMIF(R61,\"<>X\")+SUMIF(R62,\"<>X\")+SUMIF(R63,\"<>X\")+SUMIF(R64,\"<>X\")+SUMIF(R65,\"<>X\")+SUMIF(R66,\"<>X\"))","v":7},null,{"$f":"IF(OR(T61=\"x\",T62=\"x\",T63=\"x\",T64=\"x\",T65=\"x\",T66=\"x\"),\"ABSENT\",SUMIF(T61,\"<>X\")+SUMIF(T62,\"<>X\")+SUMIF(T63,\"<>X\")+SUMIF(T64,\"<>X\")+SUMIF(T65,\"<>X\")+SUMIF(T66,\"<>X\"))","v":7},null,{"$f":"IF(OR(V61=\"x\",V62=\"x\",V63=\"x\",V64=\"x\",V65=\"x\",V66=\"x\"),\"ABSENT\",SUMIF(V61,\"<>X\")+SUMIF(V62,\"<>X\")+SUMIF(V63,\"<>X\")+SUMIF(V64,\"<>X\")+SUMIF(V65,\"<>X\")+SUMIF(V66,\"<>X\"))","v":7},null,{"$f":"IF(OR(X61=\"x\",X62=\"x\",X63=\"x\",X64=\"x\",X65=\"x\",X66=\"x\"),\"ABSENT\",SUMIF(X61,\"<>X\")+SUMIF(X62,\"<>X\")+SUMIF(X63,\"<>X\")+SUMIF(X64,\"<>X\")+SUMIF(X65,\"<>X\")+SUMIF(X66,\"<>X\"))","v":7},null,{"$f":"IF(OR(Z61=\"x\",Z62=\"x\",Z63=\"x\",Z64=\"x\",Z65=\"x\",Z66=\"x\"),\"ABSENT\",SUMIF(Z61,\"<>X\")+SUMIF(Z62,\"<>X\")+SUMIF(Z63,\"<>X\")+SUMIF(Z64,\"<>X\")+SUMIF(Z65,\"<>X\")+SUMIF(Z66,\"<>X\"))","v":7},null,{"$f":"IF(OR(AB61=\"x\",AB62=\"x\",AB63=\"x\",AB64=\"x\",AB65=\"x\",AB66=\"x\"),\"ABSENT\",SUMIF(AB61,\"<>X\")+SUMIF(AB62,\"<>X\")+SUMIF(AB63,\"<>X\")+SUMIF(AB64,\"<>X\")+SUMIF(AB65,\"<>X\")+SUMIF(AB66,\"<>X\"))","v":7},null,{"$f":"IF(OR(AD61=\"x\",AD62=\"x\",AD63=\"x\",AD64=\"x\",AD65=\"x\",AD66=\"x\"),\"ABSENT\",SUMIF(AD61,\"<>X\")+SUMIF(AD62,\"<>X\")+SUMIF(AD63,\"<>X\")+SUMIF(AD64,\"<>X\")+SUMIF(AD65,\"<>X\")+SUMIF(AD66,\"<>X\"))","v":7},null,{"$f":"IF(OR(AF61=\"x\",AF62=\"x\",AF63=\"x\",AF64=\"x\",AF65=\"x\",AF66=\"x\"),\"ABSENT\",SUMIF(AF61,\"<>X\")+SUMIF(AF62,\"<>X\")+SUMIF(AF63,\"<>X\")+SUMIF(AF64,\"<>X\")+SUMIF(AF65,\"<>X\")+SUMIF(AF66,\"<>X\"))","v":7},null,{"$f":"IF(OR(AH61=\"x\",AH62=\"x\",AH63=\"x\",AH64=\"x\",AH65=\"x\",AH66=\"x\"),\"ABSENT\",SUMIF(AH61,\"<>X\")+SUMIF(AH62,\"<>X\")+SUMIF(AH63,\"<>X\")+SUMIF(AH64,\"<>X\")+SUMIF(AH65,\"<>X\")+SUMIF(AH66,\"<>X\"))","v":7},null,{"$f":"IF(OR(AJ61=\"x\",AJ62=\"x\",AJ63=\"x\",AJ64=\"x\",AJ65=\"x\",AJ66=\"x\"),\"ABSENT\",SUMIF(AJ61,\"<>X\")+SUMIF(AJ62,\"<>X\")+SUMIF(AJ63,\"<>X\")+SUMIF(AJ64,\"<>X\")+SUMIF(AJ65,\"<>X\")+SUMIF(AJ66,\"<>X\"))","v":7},null,{"$f":"IF(OR(AL61=\"x\",AL62=\"x\",AL63=\"x\",AL64=\"x\",AL65=\"x\",AL66=\"x\"),\"ABSENT\",SUMIF(AL61,\"<>X\")+SUMIF(AL62,\"<>X\")+SUMIF(AL63,\"<>X\")+SUMIF(AL64,\"<>X\")+SUMIF(AL65,\"<>X\")+SUMIF(AL66,\"<>X\"))","v":7},null,{"$f":"IF(OR(AN61=\"x\",AN62=\"x\",AN63=\"x\",AN64=\"x\",AN65=\"x\",AN66=\"x\"),\"ABSENT\",SUMIF(AN61,\"<>X\")+SUMIF(AN62,\"<>X\")+SUMIF(AN63,\"<>X\")+SUMIF(AN64,\"<>X\")+SUMIF(AN65,\"<>X\")+SUMIF(AN66,\"<>X\"))","v":7},null,{"$f":"IF(OR(AP61=\"x\",AP62=\"x\",AP63=\"x\",AP64=\"x\",AP65=\"x\",AP66=\"x\"),\"ABSENT\",SUMIF(AP61,\"<>X\")+SUMIF(AP62,\"<>X\")+SUMIF(AP63,\"<>X\")+SUMIF(AP64,\"<>X\")+SUMIF(AP65,\"<>X\")+SUMIF(AP66,\"<>X\"))","v":7},null,{"$f":"IF(OR(AR61=\"x\",AR62=\"x\",AR63=\"x\",AR64=\"x\",AR65=\"x\",AR66=\"x\"),\"ABSENT\",SUMIF(AR61,\"<>X\")+SUMIF(AR62,\"<>X\")+SUMIF(AR63,\"<>X\")+SUMIF(AR64,\"<>X\")+SUMIF(AR65,\"<>X\")+SUMIF(AR66,\"<>X\"))","v":7},null,{"$f":"IF(OR(AT61=\"x\",AT62=\"x\",AT63=\"x\",AT64=\"x\",AT65=\"x\",AT66=\"x\"),\"ABSENT\",SUMIF(AT61,\"<>X\")+SUMIF(AT62,\"<>X\")+SUMIF(AT63,\"<>X\")+SUMIF(AT64,\"<>X\")+SUMIF(AT65,\"<>X\")+SUMIF(AT66,\"<>X\"))","v":7},null,{"$f":"IF(OR(AV61=\"x\",AV62=\"x\",AV63=\"x\",AV64=\"x\",AV65=\"x\",AV66=\"x\"),\"ABSENT\",SUMIF(AV61,\"<>X\")+SUMIF(AV62,\"<>X\")+SUMIF(AV63,\"<>X\")+SUMIF(AV64,\"<>X\")+SUMIF(AV65,\"<>X\")+SUMIF(AV66,\"<>X\"))","v":7},null,{"$f":"IF(OR(AX61=\"x\",AX62=\"x\",AX63=\"x\",AX64=\"x\",AX65=\"x\",AX66=\"x\"),\"ABSENT\",SUMIF(AX61,\"<>X\")+SUMIF(AX62,\"<>X\")+SUMIF(AX63,\"<>X\")+SUMIF(AX64,\"<>X\")+SUMIF(AX65,\"<>X\")+SUMIF(AX66,\"<>X\"))","v":7},null,{"$f":"IF(OR(AZ61=\"x\",AZ62=\"x\",AZ63=\"x\",AZ64=\"x\",AZ65=\"x\",AZ66=\"x\"),\"ABSENT\",SUMIF(AZ61,\"<>X\")+SUMIF(AZ62,\"<>X\")+SUMIF(AZ63,\"<>X\")+SUMIF(AZ64,\"<>X\")+SUMIF(AZ65,\"<>X\")+SUMIF(AZ66,\"<>X\"))","v":7},null,{"$f":"IF(OR(BB61=\"x\",BB62=\"x\",BB63=\"x\",BB64=\"x\",BB65=\"x\",BB66=\"x\"),\"ABSENT\",SUMIF(BB61,\"<>X\")+SUMIF(BB62,\"<>X\")+SUMIF(BB63,\"<>X\")+SUMIF(BB64,\"<>X\")+SUMIF(BB65,\"<>X\")+SUMIF(BB66,\"<>X\"))","v":7},null,{"$f":"IF(OR(BD61=\"x\",BD62=\"x\",BD63=\"x\",BD64=\"x\",BD65=\"x\",BD66=\"x\"),\"ABSENT\",SUMIF(BD61,\"<>X\")+SUMIF(BD62,\"<>X\")+SUMIF(BD63,\"<>X\")+SUMIF(BD64,\"<>X\")+SUMIF(BD65,\"<>X\")+SUMIF(BD66,\"<>X\"))","v":7},null,{"$f":"IF(OR(BF61=\"x\",BF62=\"x\",BF63=\"x\",BF64=\"x\",BF65=\"x\",BF66=\"x\"),\"ABSENT\",SUMIF(BF61,\"<>X\")+SUMIF(BF62,\"<>X\")+SUMIF(BF63,\"<>X\")+SUMIF(BF64,\"<>X\")+SUMIF(BF65,\"<>X\")+SUMIF(BF66,\"<>X\"))","v":7},null,{"$f":"IF(OR(BH61=\"x\",BH62=\"x\",BH63=\"x\",BH64=\"x\",BH65=\"x\",BH66=\"x\"),\"ABSENT\",SUMIF(BH61,\"<>X\")+SUMIF(BH62,\"<>X\")+SUMIF(BH63,\"<>X\")+SUMIF(BH64,\"<>X\")+SUMIF(BH65,\"<>X\")+SUMIF(BH66,\"<>X\"))","v":7},null,{"$f":"IF(OR(BJ61=\"x\",BJ62=\"x\",BJ63=\"x\",BJ64=\"x\",BJ65=\"x\",BJ66=\"x\"),\"ABSENT\",SUMIF(BJ61,\"<>X\")+SUMIF(BJ62,\"<>X\")+SUMIF(BJ63,\"<>X\")+SUMIF(BJ64,\"<>X\")+SUMIF(BJ65,\"<>X\")+SUMIF(BJ66,\"<>X\"))","v":7},null,{"$f":"IF(OR(BL61=\"x\",BL62=\"x\",BL63=\"x\",BL64=\"x\",BL65=\"x\",BL66=\"x\"),\"ABSENT\",SUMIF(BL61,\"<>X\")+SUMIF(BL62,\"<>X\")+SUMIF(BL63,\"<>X\")+SUMIF(BL64,\"<>X\")+SUMIF(BL65,\"<>X\")+SUMIF(BL66,\"<>X\"))","v":7},null,{"$f":"IF(OR(BN61=\"x\",BN62=\"x\",BN63=\"x\",BN64=\"x\",BN65=\"x\",BN66=\"x\"),\"ABSENT\",SUMIF(BN61,\"<>X\")+SUMIF(BN62,\"<>X\")+SUMIF(BN63,\"<>X\")+SUMIF(BN64,\"<>X\")+SUMIF(BN65,\"<>X\")+SUMIF(BN66,\"<>X\"))","v":7},null,{"$f":"IF(OR(BP61=\"x\",BP62=\"x\",BP63=\"x\",BP64=\"x\",BP65=\"x\",BP66=\"x\"),\"ABSENT\",SUMIF(BP61,\"<>X\")+SUMIF(BP62,\"<>X\")+SUMIF(BP63,\"<>X\")+SUMIF(BP64,\"<>X\")+SUMIF(BP65,\"<>X\")+SUMIF(BP66,\"<>X\"))","v":7},null,{"$f":"IF(OR(BR61=\"x\",BR62=\"x\",BR63=\"x\",BR64=\"x\",BR65=\"x\",BR66=\"x\"),\"ABSENT\",SUMIF(BR61,\"<>X\")+SUMIF(BR62,\"<>X\")+SUMIF(BR63,\"<>X\")+SUMIF(BR64,\"<>X\")+SUMIF(BR65,\"<>X\")+SUMIF(BR66,\"<>X\"))","v":7},null,{"$f":"IF(OR(BT61=\"x\",BT62=\"x\",BT63=\"x\",BT64=\"x\",BT65=\"x\",BT66=\"x\"),\"ABSENT\",SUMIF(BT61,\"<>X\")+SUMIF(BT62,\"<>X\")+SUMIF(BT63,\"<>X\")+SUMIF(BT64,\"<>X\")+SUMIF(BT65,\"<>X\")+SUMIF(BT66,\"<>X\"))","v":7}]
[]
["SEANCE 9",{"$f":"DEBUTSTEP!$AP$4","v":"Prendre sa FC efficacement"},"Jamais",{"$f":"VLOOKUP(C69,DEBUTSTEP!$AP$4:$AQ$33,2,FALSE)","v":"NA"},"Jamais",{"$f":"VLOOKUP(E69,DEBUTSTEP!$AP$4:$AQ$33,2,FALSE)","v":"NA"},"Jamais",{"$f":"VLOOKUP(G69,DEBUTSTEP!$AP$4:$AQ$33,2,FALSE)","v":"NA"},"Jamais",{"$f":"VLOOKUP(I69,DEBUTSTEP!$AP$4:$AQ$33,2,FALSE)","v":"NA"},"Jamais",{"$f":"VLOOKUP(K69,DEBUTSTEP!$AP$4:$AQ$33,2,FALSE)","v":"NA"},"Jamais",{"$f":"VLOOKUP(M69,DEBUTSTEP!$AP$4:$AQ$33,2,FALSE)","v":"NA"},"Jamais",{"$f":"VLOOKUP(O69,DEBUTSTEP!$AP$4:$AQ$33,2,FALSE)","v":"NA"},"Jamais",{"$f":"VLOOKUP(Q69,DEBUTSTEP!$AP$4:$AQ$33,2,FALSE)","v":"NA"},"Jamais",{"$f":"VLOOKUP(S69,DEBUTSTEP!$AP$4:$AQ$33,2,FALSE)","v":"NA"},"Jamais",{"$f":"VLOOKUP(U69,DEBUTSTEP!$AP$4:$AQ$33,2,FALSE)","v":"NA"},"Jamais",{"$f":"VLOOKUP(W69,DEBUTSTEP!$AP$4:$AQ$33,2,FALSE)","v":"NA"},"Jamais",{"$f":"VLOOKUP(Y69,DEBUTSTEP!$AP$4:$AQ$33,2,FALSE)","v":"NA"},"Jamais",{"$f":"VLOOKUP(AA69,DEBUTSTEP!$AP$4:$AQ$33,2,FALSE)","v":"NA"},"Jamais",{"$f":"VLOOKUP(AC69,DEBUTSTEP!$AP$4:$AQ$33,2,FALSE)","v":"NA"},"Jamais",{"$f":"VLOOKUP(AE69,DEBUTSTEP!$AP$4:$AQ$33,2,FALSE)","v":"NA"},"Jamais",{"$f":"VLOOKUP(AG69,DEBUTSTEP!$AP$4:$AQ$33,2,FALSE)","v":"NA"},"Jamais",{"$f":"VLOOKUP(AI69,DEBUTSTEP!$AP$4:$AQ$33,2,FALSE)","v":"NA"},"Jamais",{"$f":"VLOOKUP(AK69,DEBUTSTEP!$AP$4:$AQ$33,2,FALSE)","v":"NA"},"Jamais",{"$f":"VLOOKUP(AM69,DEBUTSTEP!$AP$4:$AQ$33,2,FALSE)","v":"NA"},"Jamais",{"$f":"VLOOKUP(AO69,DEBUTSTEP!$AP$4:$AQ$33,2,FALSE)","v":"NA"},"Jamais",{"$f":"VLOOKUP(AQ69,DEBUTSTEP!$AP$4:$AQ$33,2,FALSE)","v":"NA"},"Jamais",{"$f":"VLOOKUP(AS69,DEBUTSTEP!$AP$4:$AQ$33,2,FALSE)","v":"NA"},"Jamais",{"$f":"VLOOKUP(AU69,DEBUTSTEP!$AP$4:$AQ$33,2,FALSE)","v":"NA"},"Jamais",{"$f":"VLOOKUP(AW69,DEBUTSTEP!$AP$4:$AQ$33,2,FALSE)","v":"NA"},"Jamais",{"$f":"VLOOKUP(AY69,DEBUTSTEP!$AP$4:$AQ$33,2,FALSE)","v":"NA"},"Jamais",{"$f":"VLOOKUP(BA69,DEBUTSTEP!$AP$4:$AQ$33,2,FALSE)","v":"NA"},"Jamais",{"$f":"VLOOKUP(BC69,DEBUTSTEP!$AP$4:$AQ$33,2,FALSE)","v":"NA"},"Jamais",{"$f":"VLOOKUP(BE69,DEBUTSTEP!$AP$4:$AQ$33,2,FALSE)","v":"NA"},"Jamais",{"$f":"VLOOKUP(BG69,DEBUTSTEP!$AP$4:$AQ$33,2,FALSE)","v":"NA"},"Jamais",{"$f":"VLOOKUP(BI69,DEBUTSTEP!$AP$4:$AQ$33,2,FALSE)","v":"NA"},"Jamais",{"$f":"VLOOKUP(BK69,DEBUTSTEP!$AP$4:$AQ$33,2,FALSE)","v":"NA"},"Jamais",{"$f":"VLOOKUP(BM69,DEBUTSTEP!$AP$4:$AQ$33,2,FALSE)","v":"NA"},"Jamais",{"$f":"VLOOKUP(BO69,DEBUTSTEP!$AP$4:$AQ$33,2,FALSE)","v":"NA"},"Jamais",{"$f":"VLOOKUP(BQ69,DEBUTSTEP!$AP$4:$AQ$33,2,FALSE)","v":"NA"},"Jamais",{"$f":"VLOOKUP(BS69,DEBUTSTEP!$AP$4:$AQ$33,2,FALSE)","v":"NA"}]
[null,{"$f":"DEBUTSTEP!$AR$4","v":"S'engager dans le mobile"},"Faible",{"$f":"VLOOKUP(C70,DEBUTSTEP!$AR$4:$AS$33,2,FALSE)","v":1},"Faible",{"$f":"VLOOKUP(E70,DEBUTSTEP!$AR$4:$AS$33,2,FALSE)","v":1},"Faible",{"$f":"VLOOKUP(G70,DEBUTSTEP!$AR$4:$AS$33,2,FALSE)","v":1},"Faible",{"$f":"VLOOKUP(I70,DEBUTSTEP!$AR$4:$AS$33,2,FALSE)","v":1},"Faible",{"$f":"VLOOKUP(K70,DEBUTSTEP!$AR$4:$AS$33,2,FALSE)","v":1},"Faible",{"$f":"VLOOKUP(M70,DEBUTSTEP!$AR$4:$AS$33,2,FALSE)","v":1},"Faible",{"$f":"VLOOKUP(O70,DEBUTSTEP!$AR$4:$AS$33,2,FALSE)","v":1},"Faible",{"$f":"VLOOKUP(Q70,DEBUTSTEP!$AR$4:$AS$33,2,FALSE)","v":1},"Faible",{"$f":"VLOOKUP(S70,DEBUTSTEP!$AR$4:$AS$33,2,FALSE)","v":1},"Faible",{"$f":"VLOOKUP(U70,DEBUTSTEP!$AR$4:$AS$33,2,FALSE)","v":1},"Faible",{"$f":"VLOOKUP(W70,DEBUTSTEP!$AR$4:$AS$33,2,FALSE)","v":1},"Faible",{"$f":"VLOOKUP(Y70,DEBUTSTEP!$AR$4:$AS$33,2,FALSE)","v":1},"Faible",{"$f":"VLOOKUP(AA70,DEBUTSTEP!$AR$4:$AS$33,2,FALSE)","v":1},"Faible",{"$f":"VLOOKUP(AC70,DEBUTSTEP!$AR$4:$AS$33,2,FALSE)","v":1},"Faible",{"$f":"VLOOKUP(AE70,DEBUTSTEP!$AR$4:$AS$33,2,FALSE)","v":1},"Faible",{"$f":"VLOOKUP(AG70,DEBUTSTEP!$AR$4:$AS$33,2,FALSE)","v":1},"Faible",{"$f":"VLOOKUP(AI70,DEBUTSTEP!$AR$4:$AS$33,2,FALSE)","v":1},"Faible",{"$f":"VLOOKUP(AK70,DEBUTSTEP!$AR$4:$AS$33,2,FALSE)","v":1},"Faible",{"$f":"VLOOKUP(AM70,DEBUTSTEP!$AR$4:$AS$33,2,FALSE)","v":1},"Faible",{"$f":"VLOOKUP(AO70,DEBUTSTEP!$AR$4:$AS$33,2,FALSE)","v":1},"Faible",{"$f":"VLOOKUP(AQ70,DEBUTSTEP!$AR$4:$AS$33,2,FALSE)","v":1},"Faible",{"$f":"VLOOKUP(AS70,DEBUTSTEP!$AR$4:$AS$33,2,FALSE)","v":1},"Faible",{"$f":"VLOOKUP(AU70,DEBUTSTEP!$AR$4:$AS$33,2,FALSE)","v":1},"Faible",{"$f":"VLOOKUP(AW70,DEBUTSTEP!$AR$4:$AS$33,2,FALSE)","v":1},"Faible",{"$f":"VLOOKUP(AY70,DEBUTSTEP!$AR$4:$AS$33,2,FALSE)","v":1},"Faible",{"$f":"VLOOKUP(BA70,DEBUTSTEP!$AR$4:$AS$33,2,FALSE)","v":1},"Faible",{"$f":"VLOOKUP(BC70,DEBUTSTEP!$AR$4:$AS$33,2,FALSE)","v":1},"Faible",{"$f":"VLOOKUP(BE70,DEBUTSTEP!$AR$4:$AS$33,2,FALSE)","v":1},"Faible",{"$f":"VLOOKUP(BG70,DEBUTSTEP!$AR$4:$AS$33,2,FALSE)","v":1},"Faible",{"$f":"VLOOKUP(BI70,DEBUTSTEP!$AR$4:$AS$33,2,FALSE)","v":1},"Faible",{"$f":"VLOOKUP(BK70,DEBUTSTEP!$AR$4:$AS$33,2,FALSE)","v":1},"Faible",{"$f":"VLOOKUP(BM70,DEBUTSTEP!$AR$4:$AS$33,2,FALSE)","v":1},"Faible",{"$f":"VLOOKUP(BO70,DEBUTSTEP!$AR$4:$AS$33,2,FALSE)","v":1},"Faible",{"$f":"VLOOKUP(BQ70,DEBUTSTEP!$AR$4:$AS$33,2,FALSE)","v":1},"Faible",{"$f":"VLOOKUP(BS70,DEBUTSTEP!$AR$4:$AS$33,2,FALSE)","v":1}]
[null,{"$f":"DEBUTSTEP!$AT$4","v":"Agir en sécu"},"Quelques avertissements",{"$f":"VLOOKUP(C71,DEBUTSTEP!$AT$4:$AU$33,2,FALSE)","v":1},"Quelques avertissements",{"$f":"VLOOKUP(E71,DEBUTSTEP!$AT$4:$AU$33,2,FALSE)","v":1},"Quelques avertissements",{"$f":"VLOOKUP(G71,DEBUTSTEP!$AT$4:$AU$33,2,FALSE)","v":1},"Quelques avertissements",{"$f":"VLOOKUP(I71,DEBUTSTEP!$AT$4:$AU$33,2,FALSE)","v":1},"Quelques avertissements",{"$f":"VLOOKUP(K71,DEBUTSTEP!$AT$4:$AU$33,2,FALSE)","v":1},"Quelques avertissements",{"$f":"VLOOKUP(M71,DEBUTSTEP!$AT$4:$AU$33,2,FALSE)","v":1},"Quelques avertissements",{"$f":"VLOOKUP(O71,DEBUTSTEP!$AT$4:$AU$33,2,FALSE)","v":1},"Quelques avertissements",{"$f":"VLOOKUP(Q71,DEBUTSTEP!$AT$4:$AU$33,2,FALSE)","v":1},"Quelques avertissements",{"$f":"VLOOKUP(S71,DEBUTSTEP!$AT$4:$AU$33,2,FALSE)","v":1},"Quelques avertissements",{"$f":"VLOOKUP(U71,DEBUTSTEP!$AT$4:$AU$33,2,FALSE)","v":1},"Quelques avertissements",{"$f":"VLOOKUP(W71,DEBUTSTEP!$AT$4:$AU$33,2,FALSE)","v":1},"Quelques avertissements",{"$f":"VLOOKUP(Y71,DEBUTSTEP!$AT$4:$AU$33,2,FALSE)","v":1},"Quelques avertissements",{"$f":"VLOOKUP(AA71,DEBUTSTEP!$AT$4:$AU$33,2,FALSE)","v":1},"Quelques avertissements",{"$f":"VLOOKUP(AC71,DEBUTSTEP!$AT$4:$AU$33,2,FALSE)","v":1},"Quelques avertissements",{"$f":"VLOOKUP(AE71,DEBUTSTEP!$AT$4:$AU$33,2,FALSE)","v":1},"Quelques avertissements",{"$f":"VLOOKUP(AG71,DEBUTSTEP!$AT$4:$AU$33,2,FALSE)","v":1},"Quelques avertissements",{"$f":"VLOOKUP(AI71,DEBUTSTEP!$AT$4:$AU$33,2,FALSE)","v":1},"Quelques avertissements",{"$f":"VLOOKUP(AK71,DEBUTSTEP!$AT$4:$AU$33,2,FALSE)","v":1},"Quelques avertissements",{"$f":"VLOOKUP(AM71,DEBUTSTEP!$AT$4:$AU$33,2,FALSE)","v":1},"Quelques avertissements",{"$f":"VLOOKUP(AO71,DEBUTSTEP!$AT$4:$AU$33,2,FALSE)","v":1},"Quelques avertissements",{"$f":"VLOOKUP(AQ71,DEBUTSTEP!$AT$4:$AU$33,2,FALSE)","v":1},"Quelques avertissements",{"$f":"VLOOKUP(AS71,DEBUTSTEP!$AT$4:$AU$33,2,FALSE)","v":1},"Quelques avertissements",{"$f":"VLOOKUP(AU71,DEBUTSTEP!$AT$4:$AU$33,2,FALSE)","v":1},"Quelques avertissements",{"$f":"VLOOKUP(AW71,DEBUTSTEP!$AT$4:$AU$33,2,FALSE)","v":1},"Quelques avertissements",{"$f":"VLOOKUP(AY71,DEBUTSTEP!$AT$4:$AU$33,2,FALSE)","v":1},"Quelques avertissements",{"$f":"VLOOKUP(BA71,DEBUTSTEP!$AT$4:$AU$33,2,FALSE)","v":1},"Quelques avertissements",{"$f":"VLOOKUP(BC71,DEBUTSTEP!$AT$4:$AU$33,2,FALSE)","v":1},"Quelques avertissements",{"$f":"VLOOKUP(BE71,DEBUTSTEP!$AT$4:$AU$33,2,FALSE)","v":1},"Quelques avertissements",{"$f":"VLOOKUP(BG71,DEBUTSTEP!$AT$4:$AU$33,2,FALSE)","v":1},"Quelques avertissements",{"$f":"VLOOKUP(BI71,DEBUTSTEP!$AT$4:$AU$33,2,FALSE)","v":1},"Quelques avertissements",{"$f":"VLOOKUP(BK71,DEBUTSTEP!$AT$4:$AU$33,2,FALSE)","v":1},"Quelques avertissements",{"$f":"VLOOKUP(BM71,DEBUTSTEP!$AT$4:$AU$33,2,FALSE)","v":1},"Quelques avertissements",{"$f":"VLOOKUP(BO71,DEBUTSTEP!$AT$4:$AU$33,2,FALSE)","v":1},"Quelques avertissements",{"$f":"VLOOKUP(BQ71,DEBUTSTEP!$AT$4:$AU$33,2,FALSE)","v":1},"Quelques avertissements",{"$f":"VLOOKUP(BS71,DEBUTSTEP!$AT$4:$AU$33,2,FALSE)","v":1}]
[null,{"$f":"DEBUTSTEP!$AV$4","v":"Respect de l'entrainement proposé"},"Aléatoire",{"$f":"VLOOKUP(C72,DEBUTSTEP!$AV$4:$AW$33,2,FALSE)","v":1},"Aléatoire",{"$f":"VLOOKUP(E72,DEBUTSTEP!$AV$4:$AW$33,2,FALSE)","v":1},"Aléatoire",{"$f":"VLOOKUP(G72,DEBUTSTEP!$AV$4:$AW$33,2,FALSE)","v":1},"Aléatoire",{"$f":"VLOOKUP(I72,DEBUTSTEP!$AV$4:$AW$33,2,FALSE)","v":1},"Aléatoire",{"$f":"VLOOKUP(K72,DEBUTSTEP!$AV$4:$AW$33,2,FALSE)","v":1},"Aléatoire",{"$f":"VLOOKUP(M72,DEBUTSTEP!$AV$4:$AW$33,2,FALSE)","v":1},"Aléatoire",{"$f":"VLOOKUP(O72,DEBUTSTEP!$AV$4:$AW$33,2,FALSE)","v":1},"Correct",{"$f":"VLOOKUP(Q72,DEBUTSTEP!$AV$4:$AW$33,2,FALSE)","v":2},"Aléatoire",{"$f":"VLOOKUP(S72,DEBUTSTEP!$AV$4:$AW$33,2,FALSE)","v":1},"Aléatoire",{"$f":"VLOOKUP(U72,DEBUTSTEP!$AV$4:$AW$33,2,FALSE)","v":1},"Aléatoire",{"$f":"VLOOKUP(W72,DEBUTSTEP!$AV$4:$AW$33,2,FALSE)","v":1},"Aléatoire",{"$f":"VLOOKUP(Y72,DEBUTSTEP!$AV$4:$AW$33,2,FALSE)","v":1},"Aléatoire",{"$f":"VLOOKUP(AA72,DEBUTSTEP!$AV$4:$AW$33,2,FALSE)","v":1},"Aléatoire",{"$f":"VLOOKUP(AC72,DEBUTSTEP!$AV$4:$AW$33,2,FALSE)","v":1},"Aléatoire",{"$f":"VLOOKUP(AE72,DEBUTSTEP!$AV$4:$AW$33,2,FALSE)","v":1},"Aléatoire",{"$f":"VLOOKUP(AG72,DEBUTSTEP!$AV$4:$AW$33,2,FALSE)","v":1},"Aléatoire",{"$f":"VLOOKUP(AI72,DEBUTSTEP!$AV$4:$AW$33,2,FALSE)","v":1},"Aléatoire",{"$f":"VLOOKUP(AK72,DEBUTSTEP!$AV$4:$AW$33,2,FALSE)","v":1},"Aléatoire",{"$f":"VLOOKUP(AM72,DEBUTSTEP!$AV$4:$AW$33,2,FALSE)","v":1},"Aléatoire",{"$f":"VLOOKUP(AO72,DEBUTSTEP!$AV$4:$AW$33,2,FALSE)","v":1},"Aléatoire",{"$f":"VLOOKUP(AQ72,DEBUTSTEP!$AV$4:$AW$33,2,FALSE)","v":1},"Aléatoire",{"$f":"VLOOKUP(AS72,DEBUTSTEP!$AV$4:$AW$33,2,FALSE)","v":1},"Aléatoire",{"$f":"VLOOKUP(AU72,DEBUTSTEP!$AV$4:$AW$33,2,FALSE)","v":1},"Aléatoire",{"$f":"VLOOKUP(AW72,DEBUTSTEP!$AV$4:$AW$33,2,FALSE)","v":1},"Aléatoire",{"$f":"VLOOKUP(AY72,DEBUTSTEP!$AV$4:$AW$33,2,FALSE)","v":1},"Aléatoire",{"$f":"VLOOKUP(BA72,DEBUTSTEP!$AV$4:$AW$33,2,FALSE)","v":1},"Aléatoire",{"$f":"VLOOKUP(BC72,DEBUTSTEP!$AV$4:$AW$33,2,FALSE)","v":1},"Aléatoire",{"$f":"VLOOKUP(BE72,DEBUTSTEP!$AV$4:$AW$33,2,FALSE)","v":1},"Aléatoire",{"$f":"VLOOKUP(BG72,DEBUTSTEP!$AV$4:$AW$33,2,FALSE)","v":1},"Aléatoire",{"$f":"VLOOKUP(BI72,DEBUTSTEP!$AV$4:$AW$33,2,FALSE)","v":1},"Aléatoire",{"$f":"VLOOKUP(BK72,DEBUTSTEP!$AV$4:$AW$33,2,FALSE)","v":1},"Aléatoire",{"$f":"VLOOKUP(BM72,DEBUTSTEP!$AV$4:$AW$33,2,FALSE)","v":1},"Aléatoire",{"$f":"VLOOKUP(BO72,DEBUTSTEP!$AV$4:$AW$33,2,FALSE)","v":1},"Aléatoire",{"$f":"VLOOKUP(BQ72,DEBUTSTEP!$AV$4:$AW$33,2,FALSE)","v":1},"Aléatoire",{"$f":"VLOOKUP(BS72,DEBUTSTEP!$AV$4:$AW$33,2,FALSE)","v":1}]
[null,{"$f":"DEBUTSTEP!$AX$4","v":"Mémorisation des blocs"},"Beaucoup d'erreurs",{"$f":"VLOOKUP(C73,DEBUTSTEP!$AX$4:$AY$33,2,FALSE)","v":1},"Beaucoup d'erreurs",{"$f":"VLOOKUP(E73,DEBUTSTEP!$AX$4:$AY$33,2,FALSE)","v":1},"Beaucoup d'erreurs",{"$f":"VLOOKUP(G73,DEBUTSTEP!$AX$4:$AY$33,2,FALSE)","v":1},"Beaucoup d'erreurs",{"$f":"VLOOKUP(I73,DEBUTSTEP!$AX$4:$AY$33,2,FALSE)","v":1},"Beaucoup d'erreurs",{"$f":"VLOOKUP(K73,DEBUTSTEP!$AX$4:$AY$33,2,FALSE)","v":1},"Beaucoup d'erreurs",{"$f":"VLOOKUP(M73,DEBUTSTEP!$AX$4:$AY$33,2,FALSE)","v":1},"Aucune mémorisation",{"$f":"VLOOKUP(O73,DEBUTSTEP!$AX$4:$AY$33,2,FALSE)","v":0},"Beaucoup d'erreurs",{"$f":"VLOOKUP(Q73,DEBUTSTEP!$AX$4:$AY$33,2,FALSE)","v":1},"Beaucoup d'erreurs",{"$f":"VLOOKUP(S73,DEBUTSTEP!$AX$4:$AY$33,2,FALSE)","v":1},"Beaucoup d'erreurs",{"$f":"VLOOKUP(U73,DEBUTSTEP!$AX$4:$AY$33,2,FALSE)","v":1},"Beaucoup d'erreurs",{"$f":"VLOOKUP(W73,DEBUTSTEP!$AX$4:$AY$33,2,FALSE)","v":1},"Beaucoup d'erreurs",{"$f":"VLOOKUP(Y73,DEBUTSTEP!$AX$4:$AY$33,2,FALSE)","v":1},"Beaucoup d'erreurs",{"$f":"VLOOKUP(AA73,DEBUTSTEP!$AX$4:$AY$33,2,FALSE)","v":1},"Beaucoup d'erreurs",{"$f":"VLOOKUP(AC73,DEBUTSTEP!$AX$4:$AY$33,2,FALSE)","v":1},"Beaucoup d'erreurs",{"$f":"VLOOKUP(AE73,DEBUTSTEP!$AX$4:$AY$33,2,FALSE)","v":1},"Beaucoup d'erreurs",{"$f":"VLOOKUP(AG73,DEBUTSTEP!$AX$4:$AY$33,2,FALSE)","v":1},"Beaucoup d'erreurs",{"$f":"VLOOKUP(AI73,DEBUTSTEP!$AX$4:$AY$33,2,FALSE)","v":1},"Beaucoup d'erreurs",{"$f":"VLOOKUP(AK73,DEBUTSTEP!$AX$4:$AY$33,2,FALSE)","v":1},"Beaucoup d'erreurs",{"$f":"VLOOKUP(AM73,DEBUTSTEP!$AX$4:$AY$33,2,FALSE)","v":1},"Beaucoup d'erreurs",{"$f":"VLOOKUP(AO73,DEBUTSTEP!$AX$4:$AY$33,2,FALSE)","v":1},"Beaucoup d'erreurs",{"$f":"VLOOKUP(AQ73,DEBUTSTEP!$AX$4:$AY$33,2,FALSE)","v":1},"Beaucoup d'erreurs",{"$f":"VLOOKUP(AS73,DEBUTSTEP!$AX$4:$AY$33,2,FALSE)","v":1},"Beaucoup d'erreurs",{"$f":"VLOOKUP(AU73,DEBUTSTEP!$AX$4:$AY$33,2,FALSE)","v":1},"Beaucoup d'erreurs",{"$f":"VLOOKUP(AW73,DEBUTSTEP!$AX$4:$AY$33,2,FALSE)","v":1},"Beaucoup d'erreurs",{"$f":"VLOOKUP(AY73,DEBUTSTEP!$AX$4:$AY$33,2,FALSE)","v":1},"Beaucoup d'erreurs",{"$f":"VLOOKUP(BA73,DEBUTSTEP!$AX$4:$AY$33,2,FALSE)","v":1},"Beaucoup d'erreurs",{"$f":"VLOOKUP(BC73,DEBUTSTEP!$AX$4:$AY$33,2,FALSE)","v":1},"Beaucoup d'erreurs",{"$f":"VLOOKUP(BE73,DEBUTSTEP!$AX$4:$AY$33,2,FALSE)","v":1},"Beaucoup d'erreurs",{"$f":"VLOOKUP(BG73,DEBUTSTEP!$AX$4:$AY$33,2,FALSE)","v":1},"Beaucoup d'erreurs",{"$f":"VLOOKUP(BI73,DEBUTSTEP!$AX$4:$AY$33,2,FALSE)","v":1},"Beaucoup d'erreurs",{"$f":"VLOOKUP(BK73,DEBUTSTEP!$AX$4:$AY$33,2,FALSE)","v":1},"Beaucoup d'erreurs",{"$f":"VLOOKUP(BM73,DEBUTSTEP!$AX$4:$AY$33,2,FALSE)","v":1},"Beaucoup d'erreurs",{"$f":"VLOOKUP(BO73,DEBUTSTEP!$AX$4:$AY$33,2,FALSE)","v":1},"Beaucoup d'erreurs",{"$f":"VLOOKUP(BQ73,DEBUTSTEP!$AX$4:$AY$33,2,FALSE)","v":1},"Beaucoup d'erreurs",{"$f":"VLOOKUP(BS73,DEBUTSTEP!$AX$4:$AY$33,2,FALSE)","v":1}]
[null,{"$f":"DEBUTSTEP!$AZ$4","v":"Analyse de sa prestation"},"Pertinente",{"$f":"VLOOKUP(C74,DEBUTSTEP!$AZ$4:$BA$33,2,FALSE)","v":3},"Pertinente",{"$f":"VLOOKUP(E74,DEBUTSTEP!$AZ$4:$BA$33,2,FALSE)","v":3},"Pertinente",{"$f":"VLOOKUP(G74,DEBUTSTEP!$AZ$4:$BA$33,2,FALSE)","v":3},"Pertinente",{"$f":"VLOOKUP(I74,DEBUTSTEP!$AZ$4:$BA$33,2,FALSE)","v":3},"Pertinente",{"$f":"VLOOKUP(K74,DEBUTSTEP!$AZ$4:$BA$33,2,FALSE)","v":3},"Pertinente",{"$f":"VLOOKUP(M74,DEBUTSTEP!$AZ$4:$BA$33,2,FALSE)","v":3},"Pertinente",{"$f":"VLOOKUP(O74,DEBUTSTEP!$AZ$4:$BA$33,2,FALSE)","v":3},"Pertinente",{"$f":"VLOOKUP(Q74,DEBUTSTEP!$AZ$4:$BA$33,2,FALSE)","v":3},"Pertinente",{"$f":"VLOOKUP(S74,DEBUTSTEP!$AZ$4:$BA$33,2,FALSE)","v":3},"Pertinente",{"$f":"VLOOKUP(U74,DEBUTSTEP!$AZ$4:$BA$33,2,FALSE)","v":3},"Pertinente",{"$f":"VLOOKUP(W74,DEBUTSTEP!$AZ$4:$BA$33,2,FALSE)","v":3},"Pertinente",{"$f":"VLOOKUP(Y74,DEBUTSTEP!$AZ$4:$BA$33,2,FALSE)","v":3},"Pertinente",{"$f":"VLOOKUP(AA74,DEBUTSTEP!$AZ$4:$BA$33,2,FALSE)","v":3},"Pertinente",{"$f":"VLOOKUP(AC74,DEBUTSTEP!$AZ$4:$BA$33,2,FALSE)","v":3},"Pertinente",{"$f":"VLOOKUP(AE74,DEBUTSTEP!$AZ$4:$BA$33,2,FALSE)","v":3},"Pertinente",{"$f":"VLOOKUP(AG74,DEBUTSTEP!$AZ$4:$BA$33,2,FALSE)","v":3},"Pertinente",{"$f":"VLOOKUP(AI74,DEBUTSTEP!$AZ$4:$BA$33,2,FALSE)","v":3},"Pertinente",{"$f":"VLOOKUP(AK74,DEBUTSTEP!$AZ$4:$BA$33,2,FALSE)","v":3},"Pertinente",{"$f":"VLOOKUP(AM74,DEBUTSTEP!$AZ$4:$BA$33,2,FALSE)","v":3},"Pertinente",{"$f":"VLOOKUP(AO74,DEBUTSTEP!$AZ$4:$BA$33,2,FALSE)","v":3},"Pertinente",{"$f":"VLOOKUP(AQ74,DEBUTSTEP!$AZ$4:$BA$33,2,FALSE)","v":3},"Pertinente",{"$f":"VLOOKUP(AS74,DEBUTSTEP!$AZ$4:$BA$33,2,FALSE)","v":3},"Pertinente",{"$f":"VLOOKUP(AU74,DEBUTSTEP!$AZ$4:$BA$33,2,FALSE)","v":3},"Pertinente",{"$f":"VLOOKUP(AW74,DEBUTSTEP!$AZ$4:$BA$33,2,FALSE)","v":3},"Pertinente",{"$f":"VLOOKUP(AY74,DEBUTSTEP!$AZ$4:$BA$33,2,FALSE)","v":3},"Pertinente",{"$f":"VLOOKUP(BA74,DEBUTSTEP!$AZ$4:$BA$33,2,FALSE)","v":3},"Pertinente",{"$f":"VLOOKUP(BC74,DEBUTSTEP!$AZ$4:$BA$33,2,FALSE)","v":3},"Pertinente",{"$f":"VLOOKUP(BE74,DEBUTSTEP!$AZ$4:$BA$33,2,FALSE)","v":3},"Pertinente",{"$f":"VLOOKUP(BG74,DEBUTSTEP!$AZ$4:$BA$33,2,FALSE)","v":3},"Pertinente",{"$f":"VLOOKUP(BI74,DEBUTSTEP!$AZ$4:$BA$33,2,FALSE)","v":3},"Pertinente",{"$f":"VLOOKUP(BK74,DEBUTSTEP!$AZ$4:$BA$33,2,FALSE)","v":3},"Pertinente",{"$f":"VLOOKUP(BM74,DEBUTSTEP!$AZ$4:$BA$33,2,FALSE)","v":3},"Pertinente",{"$f":"VLOOKUP(BO74,DEBUTSTEP!$AZ$4:$BA$33,2,FALSE)","v":3},"Pertinente",{"$f":"VLOOKUP(BQ74,DEBUTSTEP!$AZ$4:$BA$33,2,FALSE)","v":3},"Pertinente",{"$f":"VLOOKUP(BS74,DEBUTSTEP!$AZ$4:$BA$33,2,FALSE)","v":3}]
[null,"NOTE",{"$f":"IF(OR(D69=\"x\",D70=\"x\",D71=\"x\",D72=\"x\",D73=\"x\",D74=\"x\"),\"ABSENT\",SUMIF(D69,\"<>X\")+SUMIF(D70,\"<>X\")+SUMIF(D71,\"<>X\")+SUMIF(D72,\"<>X\")+SUMIF(D73,\"<>X\")+SUMIF(D74,\"<>X\"))","v":7},null,{"$f":"IF(OR(F69=\"x\",F70=\"x\",F71=\"x\",F72=\"x\",F73=\"x\",F74=\"x\"),\"ABSENT\",SUMIF(F69,\"<>X\")+SUMIF(F70,\"<>X\")+SUMIF(F71,\"<>X\")+SUMIF(F72,\"<>X\")+SUMIF(F73,\"<>X\")+SUMIF(F74,\"<>X\"))","v":7},null,{"$f":"IF(OR(H69=\"x\",H70=\"x\",H71=\"x\",H72=\"x\",H73=\"x\",H74=\"x\"),\"ABSENT\",SUMIF(H69,\"<>X\")+SUMIF(H70,\"<>X\")+SUMIF(H71,\"<>X\")+SUMIF(H72,\"<>X\")+SUMIF(H73,\"<>X\")+SUMIF(H74,\"<>X\"))","v":7},null,{"$f":"IF(OR(J69=\"x\",J70=\"x\",J71=\"x\",J72=\"x\",J73=\"x\",J74=\"x\"),\"ABSENT\",SUMIF(J69,\"<>X\")+SUMIF(J70,\"<>X\")+SUMIF(J71,\"<>X\")+SUMIF(J72,\"<>X\")+SUMIF(J73,\"<>X\")+SUMIF(J74,\"<>X\"))","v":7},null,{"$f":"IF(OR(L69=\"x\",L70=\"x\",L71=\"x\",L72=\"x\",L73=\"x\",L74=\"x\"),\"ABSENT\",SUMIF(L69,\"<>X\")+SUMIF(L70,\"<>X\")+SUMIF(L71,\"<>X\")+SUMIF(L72,\"<>X\")+SUMIF(L73,\"<>X\")+SUMIF(L74,\"<>X\"))","v":7},null,{"$f":"IF(OR(N69=\"x\",N70=\"x\",N71=\"x\",N72=\"x\",N73=\"x\",N74=\"x\"),\"ABSENT\",SUMIF(N69,\"<>X\")+SUMIF(N70,\"<>X\")+SUMIF(N71,\"<>X\")+SUMIF(N72,\"<>X\")+SUMIF(N73,\"<>X\")+SUMIF(N74,\"<>X\"))","v":7},null,{"$f":"IF(OR(P69=\"x\",P70=\"x\",P71=\"x\",P72=\"x\",P73=\"x\",P74=\"x\"),\"ABSENT\",SUMIF(P69,\"<>X\")+SUMIF(P70,\"<>X\")+SUMIF(P71,\"<>X\")+SUMIF(P72,\"<>X\")+SUMIF(P73,\"<>X\")+SUMIF(P74,\"<>X\"))","v":6},null,{"$f":"IF(OR(R69=\"x\",R70=\"x\",R71=\"x\",R72=\"x\",R73=\"x\",R74=\"x\"),\"ABSENT\",SUMIF(R69,\"<>X\")+SUMIF(R70,\"<>X\")+SUMIF(R71,\"<>X\")+SUMIF(R72,\"<>X\")+SUMIF(R73,\"<>X\")+SUMIF(R74,\"<>X\"))","v":8},null,{"$f":"IF(OR(T69=\"x\",T70=\"x\",T71=\"x\",T72=\"x\",T73=\"x\",T74=\"x\"),\"ABSENT\",SUMIF(T69,\"<>X\")+SUMIF(T70,\"<>X\")+SUMIF(T71,\"<>X\")+SUMIF(T72,\"<>X\")+SUMIF(T73,\"<>X\")+SUMIF(T74,\"<>X\"))","v":7},null,{"$f":"IF(OR(V69=\"x\",V70=\"x\",V71=\"x\",V72=\"x\",V73=\"x\",V74=\"x\"),\"ABSENT\",SUMIF(V69,\"<>X\")+SUMIF(V70,\"<>X\")+SUMIF(V71,\"<>X\")+SUMIF(V72,\"<>X\")+SUMIF(V73,\"<>X\")+SUMIF(V74,\"<>X\"))","v":7},null,{"$f":"IF(OR(X69=\"x\",X70=\"x\",X71=\"x\",X72=\"x\",X73=\"x\",X74=\"x\"),\"ABSENT\",SUMIF(X69,\"<>X\")+SUMIF(X70,\"<>X\")+SUMIF(X71,\"<>X\")+SUMIF(X72,\"<>X\")+SUMIF(X73,\"<>X\")+SUMIF(X74,\"<>X\"))","v":7},null,{"$f":"IF(OR(Z69=\"x\",Z70=\"x\",Z71=\"x\",Z72=\"x\",Z73=\"x\",Z74=\"x\"),\"ABSENT\",SUMIF(Z69,\"<>X\")+SUMIF(Z70,\"<>X\")+SUMIF(Z71,\"<>X\")+SUMIF(Z72,\"<>X\")+SUMIF(Z73,\"<>X\")+SUMIF(Z74,\"<>X\"))","v":7},null,{"$f":"IF(OR(AB69=\"x\",AB70=\"x\",AB71=\"x\",AB72=\"x\",AB73=\"x\",AB74=\"x\"),\"ABSENT\",SUMIF(AB69,\"<>X\")+SUMIF(AB70,\"<>X\")+SUMIF(AB71,\"<>X\")+SUMIF(AB72,\"<>X\")+SUMIF(AB73,\"<>X\")+SUMIF(AB74,\"<>X\"))","v":7},null,{"$f":"IF(OR(AD69=\"x\",AD70=\"x\",AD71=\"x\",AD72=\"x\",AD73=\"x\",AD74=\"x\"),\"ABSENT\",SUMIF(AD69,\"<>X\")+SUMIF(AD70,\"<>X\")+SUMIF(AD71,\"<>X\")+SUMIF(AD72,\"<>X\")+SUMIF(AD73,\"<>X\")+SUMIF(AD74,\"<>X\"))","v":7},null,{"$f":"IF(OR(AF69=\"x\",AF70=\"x\",AF71=\"x\",AF72=\"x\",AF73=\"x\",AF74=\"x\"),\"ABSENT\",SUMIF(AF69,\"<>X\")+SUMIF(AF70,\"<>X\")+SUMIF(AF71,\"<>X\")+SUMIF(AF72,\"<>X\")+SUMIF(AF73,\"<>X\")+SUMIF(AF74,\"<>X\"))","v":7},null,{"$f":"IF(OR(AH69=\"x\",AH70=\"x\",AH71=\"x\",AH72=\"x\",AH73=\"x\",AH74=\"x\"),\"ABSENT\",SUMIF(AH69,\"<>X\")+SUMIF(AH70,\"<>X\")+SUMIF(AH71,\"<>X\")+SUMIF(AH72,\"<>X\")+SUMIF(AH73,\"<>X\")+SUMIF(AH74,\"<>X\"))","v":7},null,{"$f":"IF(OR(AJ69=\"x\",AJ70=\"x\",AJ71=\"x\",AJ72=\"x\",AJ73=\"x\",AJ74=\"x\"),\"ABSENT\",SUMIF(AJ69,\"<>X\")+SUMIF(AJ70,\"<>X\")+SUMIF(AJ71,\"<>X\")+SUMIF(AJ72,\"<>X\")+SUMIF(AJ73,\"<>X\")+SUMIF(AJ74,\"<>X\"))","v":7},null,{"$f":"IF(OR(AL69=\"x\",AL70=\"x\",AL71=\"x\",AL72=\"x\",AL73=\"x\",AL74=\"x\"),\"ABSENT\",SUMIF(AL69,\"<>X\")+SUMIF(AL70,\"<>X\")+SUMIF(AL71,\"<>X\")+SUMIF(AL72,\"<>X\")+SUMIF(AL73,\"<>X\")+SUMIF(AL74,\"<>X\"))","v":7},null,{"$f":"IF(OR(AN69=\"x\",AN70=\"x\",AN71=\"x\",AN72=\"x\",AN73=\"x\",AN74=\"x\"),\"ABSENT\",SUMIF(AN69,\"<>X\")+SUMIF(AN70,\"<>X\")+SUMIF(AN71,\"<>X\")+SUMIF(AN72,\"<>X\")+SUMIF(AN73,\"<>X\")+SUMIF(AN74,\"<>X\"))","v":7},null,{"$f":"IF(OR(AP69=\"x\",AP70=\"x\",AP71=\"x\",AP72=\"x\",AP73=\"x\",AP74=\"x\"),\"ABSENT\",SUMIF(AP69,\"<>X\")+SUMIF(AP70,\"<>X\")+SUMIF(AP71,\"<>X\")+SUMIF(AP72,\"<>X\")+SUMIF(AP73,\"<>X\")+SUMIF(AP74,\"<>X\"))","v":7},null,{"$f":"IF(OR(AR69=\"x\",AR70=\"x\",AR71=\"x\",AR72=\"x\",AR73=\"x\",AR74=\"x\"),\"ABSENT\",SUMIF(AR69,\"<>X\")+SUMIF(AR70,\"<>X\")+SUMIF(AR71,\"<>X\")+SUMIF(AR72,\"<>X\")+SUMIF(AR73,\"<>X\")+SUMIF(AR74,\"<>X\"))","v":7},null,{"$f":"IF(OR(AT69=\"x\",AT70=\"x\",AT71=\"x\",AT72=\"x\",AT73=\"x\",AT74=\"x\"),\"ABSENT\",SUMIF(AT69,\"<>X\")+SUMIF(AT70,\"<>X\")+SUMIF(AT71,\"<>X\")+SUMIF(AT72,\"<>X\")+SUMIF(AT73,\"<>X\")+SUMIF(AT74,\"<>X\"))","v":7},null,{"$f":"IF(OR(AV69=\"x\",AV70=\"x\",AV71=\"x\",AV72=\"x\",AV73=\"x\",AV74=\"x\"),\"ABSENT\",SUMIF(AV69,\"<>X\")+SUMIF(AV70,\"<>X\")+SUMIF(AV71,\"<>X\")+SUMIF(AV72,\"<>X\")+SUMIF(AV73,\"<>X\")+SUMIF(AV74,\"<>X\"))","v":7},null,{"$f":"IF(OR(AX69=\"x\",AX70=\"x\",AX71=\"x\",AX72=\"x\",AX73=\"x\",AX74=\"x\"),\"ABSENT\",SUMIF(AX69,\"<>X\")+SUMIF(AX70,\"<>X\")+SUMIF(AX71,\"<>X\")+SUMIF(AX72,\"<>X\")+SUMIF(AX73,\"<>X\")+SUMIF(AX74,\"<>X\"))","v":7},null,{"$f":"IF(OR(AZ69=\"x\",AZ70=\"x\",AZ71=\"x\",AZ72=\"x\",AZ73=\"x\",AZ74=\"x\"),\"ABSENT\",SUMIF(AZ69,\"<>X\")+SUMIF(AZ70,\"<>X\")+SUMIF(AZ71,\"<>X\")+SUMIF(AZ72,\"<>X\")+SUMIF(AZ73,\"<>X\")+SUMIF(AZ74,\"<>X\"))","v":7},null,{"$f":"IF(OR(BB69=\"x\",BB70=\"x\",BB71=\"x\",BB72=\"x\",BB73=\"x\",BB74=\"x\"),\"ABSENT\",SUMIF(BB69,\"<>X\")+SUMIF(BB70,\"<>X\")+SUMIF(BB71,\"<>X\")+SUMIF(BB72,\"<>X\")+SUMIF(BB73,\"<>X\")+SUMIF(BB74,\"<>X\"))","v":7},null,{"$f":"IF(OR(BD69=\"x\",BD70=\"x\",BD71=\"x\",BD72=\"x\",BD73=\"x\",BD74=\"x\"),\"ABSENT\",SUMIF(BD69,\"<>X\")+SUMIF(BD70,\"<>X\")+SUMIF(BD71,\"<>X\")+SUMIF(BD72,\"<>X\")+SUMIF(BD73,\"<>X\")+SUMIF(BD74,\"<>X\"))","v":7},null,{"$f":"IF(OR(BF69=\"x\",BF70=\"x\",BF71=\"x\",BF72=\"x\",BF73=\"x\",BF74=\"x\"),\"ABSENT\",SUMIF(BF69,\"<>X\")+SUMIF(BF70,\"<>X\")+SUMIF(BF71,\"<>X\")+SUMIF(BF72,\"<>X\")+SUMIF(BF73,\"<>X\")+SUMIF(BF74,\"<>X\"))","v":7},null,{"$f":"IF(OR(BH69=\"x\",BH70=\"x\",BH71=\"x\",BH72=\"x\",BH73=\"x\",BH74=\"x\"),\"ABSENT\",SUMIF(BH69,\"<>X\")+SUMIF(BH70,\"<>X\")+SUMIF(BH71,\"<>X\")+SUMIF(BH72,\"<>X\")+SUMIF(BH73,\"<>X\")+SUMIF(BH74,\"<>X\"))","v":7},null,{"$f":"IF(OR(BJ69=\"x\",BJ70=\"x\",BJ71=\"x\",BJ72=\"x\",BJ73=\"x\",BJ74=\"x\"),\"ABSENT\",SUMIF(BJ69,\"<>X\")+SUMIF(BJ70,\"<>X\")+SUMIF(BJ71,\"<>X\")+SUMIF(BJ72,\"<>X\")+SUMIF(BJ73,\"<>X\")+SUMIF(BJ74,\"<>X\"))","v":7},null,{"$f":"IF(OR(BL69=\"x\",BL70=\"x\",BL71=\"x\",BL72=\"x\",BL73=\"x\",BL74=\"x\"),\"ABSENT\",SUMIF(BL69,\"<>X\")+SUMIF(BL70,\"<>X\")+SUMIF(BL71,\"<>X\")+SUMIF(BL72,\"<>X\")+SUMIF(BL73,\"<>X\")+SUMIF(BL74,\"<>X\"))","v":7},null,{"$f":"IF(OR(BN69=\"x\",BN70=\"x\",BN71=\"x\",BN72=\"x\",BN73=\"x\",BN74=\"x\"),\"ABSENT\",SUMIF(BN69,\"<>X\")+SUMIF(BN70,\"<>X\")+SUMIF(BN71,\"<>X\")+SUMIF(BN72,\"<>X\")+SUMIF(BN73,\"<>X\")+SUMIF(BN74,\"<>X\"))","v":7},null,{"$f":"IF(OR(BP69=\"x\",BP70=\"x\",BP71=\"x\",BP72=\"x\",BP73=\"x\",BP74=\"x\"),\"ABSENT\",SUMIF(BP69,\"<>X\")+SUMIF(BP70,\"<>X\")+SUMIF(BP71,\"<>X\")+SUMIF(BP72,\"<>X\")+SUMIF(BP73,\"<>X\")+SUMIF(BP74,\"<>X\"))","v":7},null,{"$f":"IF(OR(BR69=\"x\",BR70=\"x\",BR71=\"x\",BR72=\"x\",BR73=\"x\",BR74=\"x\"),\"ABSENT\",SUMIF(BR69,\"<>X\")+SUMIF(BR70,\"<>X\")+SUMIF(BR71,\"<>X\")+SUMIF(BR72,\"<>X\")+SUMIF(BR73,\"<>X\")+SUMIF(BR74,\"<>X\"))","v":7},null,{"$f":"IF(OR(BT69=\"x\",BT70=\"x\",BT71=\"x\",BT72=\"x\",BT73=\"x\",BT74=\"x\"),\"ABSENT\",SUMIF(BT69,\"<>X\")+SUMIF(BT70,\"<>X\")+SUMIF(BT71,\"<>X\")+SUMIF(BT72,\"<>X\")+SUMIF(BT73,\"<>X\")+SUMIF(BT74,\"<>X\"))","v":7}]
[]
["SEANCE 10",{"$f":"DEBUTSTEP!$AP$4","v":"Prendre sa FC efficacement"},"Jamais",{"$f":"VLOOKUP(C77,DEBUTSTEP!$AP$4:$AQ$33,2,FALSE)","v":"NA"},"Jamais",{"$f":"VLOOKUP(E77,DEBUTSTEP!$AP$4:$AQ$33,2,FALSE)","v":"NA"},"Jamais",{"$f":"VLOOKUP(G77,DEBUTSTEP!$AP$4:$AQ$33,2,FALSE)","v":"NA"},"Jamais",{"$f":"VLOOKUP(I77,DEBUTSTEP!$AP$4:$AQ$33,2,FALSE)","v":"NA"},"Jamais",{"$f":"VLOOKUP(K77,DEBUTSTEP!$AP$4:$AQ$33,2,FALSE)","v":"NA"},"Jamais",{"$f":"VLOOKUP(M77,DEBUTSTEP!$AP$4:$AQ$33,2,FALSE)","v":"NA"},"Jamais",{"$f":"VLOOKUP(O77,DEBUTSTEP!$AP$4:$AQ$33,2,FALSE)","v":"NA"},"Jamais",{"$f":"VLOOKUP(Q77,DEBUTSTEP!$AP$4:$AQ$33,2,FALSE)","v":"NA"},"Jamais",{"$f":"VLOOKUP(S77,DEBUTSTEP!$AP$4:$AQ$33,2,FALSE)","v":"NA"},"Jamais",{"$f":"VLOOKUP(U77,DEBUTSTEP!$AP$4:$AQ$33,2,FALSE)","v":"NA"},"Jamais",{"$f":"VLOOKUP(W77,DEBUTSTEP!$AP$4:$AQ$33,2,FALSE)","v":"NA"},"Jamais",{"$f":"VLOOKUP(Y77,DEBUTSTEP!$AP$4:$AQ$33,2,FALSE)","v":"NA"},"Jamais",{"$f":"VLOOKUP(AA77,DEBUTSTEP!$AP$4:$AQ$33,2,FALSE)","v":"NA"},"Jamais",{"$f":"VLOOKUP(AC77,DEBUTSTEP!$AP$4:$AQ$33,2,FALSE)","v":"NA"},"Jamais",{"$f":"VLOOKUP(AE77,DEBUTSTEP!$AP$4:$AQ$33,2,FALSE)","v":"NA"},"Jamais",{"$f":"VLOOKUP(AG77,DEBUTSTEP!$AP$4:$AQ$33,2,FALSE)","v":"NA"},"Jamais",{"$f":"VLOOKUP(AI77,DEBUTSTEP!$AP$4:$AQ$33,2,FALSE)","v":"NA"},"Jamais",{"$f":"VLOOKUP(AK77,DEBUTSTEP!$AP$4:$AQ$33,2,FALSE)","v":"NA"},"Jamais",{"$f":"VLOOKUP(AM77,DEBUTSTEP!$AP$4:$AQ$33,2,FALSE)","v":"NA"},"Jamais",{"$f":"VLOOKUP(AO77,DEBUTSTEP!$AP$4:$AQ$33,2,FALSE)","v":"NA"},"Jamais",{"$f":"VLOOKUP(AQ77,DEBUTSTEP!$AP$4:$AQ$33,2,FALSE)","v":"NA"},"Jamais",{"$f":"VLOOKUP(AS77,DEBUTSTEP!$AP$4:$AQ$33,2,FALSE)","v":"NA"},"Jamais",{"$f":"VLOOKUP(AU77,DEBUTSTEP!$AP$4:$AQ$33,2,FALSE)","v":"NA"},"Jamais",{"$f":"VLOOKUP(AW77,DEBUTSTEP!$AP$4:$AQ$33,2,FALSE)","v":"NA"},"Jamais",{"$f":"VLOOKUP(AY77,DEBUTSTEP!$AP$4:$AQ$33,2,FALSE)","v":"NA"},"Jamais",{"$f":"VLOOKUP(BA77,DEBUTSTEP!$AP$4:$AQ$33,2,FALSE)","v":"NA"},"Jamais",{"$f":"VLOOKUP(BC77,DEBUTSTEP!$AP$4:$AQ$33,2,FALSE)","v":"NA"},"Jamais",{"$f":"VLOOKUP(BE77,DEBUTSTEP!$AP$4:$AQ$33,2,FALSE)","v":"NA"},"Jamais",{"$f":"VLOOKUP(BG77,DEBUTSTEP!$AP$4:$AQ$33,2,FALSE)","v":"NA"},"Jamais",{"$f":"VLOOKUP(BI77,DEBUTSTEP!$AP$4:$AQ$33,2,FALSE)","v":"NA"},"Jamais",{"$f":"VLOOKUP(BK77,DEBUTSTEP!$AP$4:$AQ$33,2,FALSE)","v":"NA"},"Jamais",{"$f":"VLOOKUP(BM77,DEBUTSTEP!$AP$4:$AQ$33,2,FALSE)","v":"NA"},"Jamais",{"$f":"VLOOKUP(BO77,DEBUTSTEP!$AP$4:$AQ$33,2,FALSE)","v":"NA"},"Jamais",{"$f":"VLOOKUP(BQ77,DEBUTSTEP!$AP$4:$AQ$33,2,FALSE)","v":"NA"},"Jamais",{"$f":"VLOOKUP(BS77,DEBUTSTEP!$AP$4:$AQ$33,2,FALSE)","v":"NA"}]
[null,{"$f":"DEBUTSTEP!$AR$4","v":"S'engager dans le mobile"},"Faible",{"$f":"VLOOKUP(C78,DEBUTSTEP!$AR$4:$AS$33,2,FALSE)","v":1},"Faible",{"$f":"VLOOKUP(E78,DEBUTSTEP!$AR$4:$AS$33,2,FALSE)","v":1},"Faible",{"$f":"VLOOKUP(G78,DEBUTSTEP!$AR$4:$AS$33,2,FALSE)","v":1},"Faible",{"$f":"VLOOKUP(I78,DEBUTSTEP!$AR$4:$AS$33,2,FALSE)","v":1},"Faible",{"$f":"VLOOKUP(K78,DEBUTSTEP!$AR$4:$AS$33,2,FALSE)","v":1},"Faible",{"$f":"VLOOKUP(M78,DEBUTSTEP!$AR$4:$AS$33,2,FALSE)","v":1},"Faible",{"$f":"VLOOKUP(O78,DEBUTSTEP!$AR$4:$AS$33,2,FALSE)","v":1},"Faible",{"$f":"VLOOKUP(Q78,DEBUTSTEP!$AR$4:$AS$33,2,FALSE)","v":1},"Faible",{"$f":"VLOOKUP(S78,DEBUTSTEP!$AR$4:$AS$33,2,FALSE)","v":1},"Faible",{"$f":"VLOOKUP(U78,DEBUTSTEP!$AR$4:$AS$33,2,FALSE)","v":1},"Faible",{"$f":"VLOOKUP(W78,DEBUTSTEP!$AR$4:$AS$33,2,FALSE)","v":1},"Faible",{"$f":"VLOOKUP(Y78,DEBUTSTEP!$AR$4:$AS$33,2,FALSE)","v":1},"Faible",{"$f":"VLOOKUP(AA78,DEBUTSTEP!$AR$4:$AS$33,2,FALSE)","v":1},"Faible",{"$f":"VLOOKUP(AC78,DEBUTSTEP!$AR$4:$AS$33,2,FALSE)","v":1},"Faible",{"$f":"VLOOKUP(AE78,DEBUTSTEP!$AR$4:$AS$33,2,FALSE)","v":1},"Faible",{"$f":"VLOOKUP(AG78,DEBUTSTEP!$AR$4:$AS$33,2,FALSE)","v":1},"Faible",{"$f":"VLOOKUP(AI78,DEBUTSTEP!$AR$4:$AS$33,2,FALSE)","v":1},"Faible",{"$f":"VLOOKUP(AK78,DEBUTSTEP!$AR$4:$AS$33,2,FALSE)","v":1},"Faible",{"$f":"VLOOKUP(AM78,DEBUTSTEP!$AR$4:$AS$33,2,FALSE)","v":1},"Faible",{"$f":"VLOOKUP(AO78,DEBUTSTEP!$AR$4:$AS$33,2,FALSE)","v":1},"Faible",{"$f":"VLOOKUP(AQ78,DEBUTSTEP!$AR$4:$AS$33,2,FALSE)","v":1},"Faible",{"$f":"VLOOKUP(AS78,DEBUTSTEP!$AR$4:$AS$33,2,FALSE)","v":1},"Faible",{"$f":"VLOOKUP(AU78,DEBUTSTEP!$AR$4:$AS$33,2,FALSE)","v":1},"Faible",{"$f":"VLOOKUP(AW78,DEBUTSTEP!$AR$4:$AS$33,2,FALSE)","v":1},"Faible",{"$f":"VLOOKUP(AY78,DEBUTSTEP!$AR$4:$AS$33,2,FALSE)","v":1},"Faible",{"$f":"VLOOKUP(BA78,DEBUTSTEP!$AR$4:$AS$33,2,FALSE)","v":1},"Faible",{"$f":"VLOOKUP(BC78,DEBUTSTEP!$AR$4:$AS$33,2,FALSE)","v":1},"Faible",{"$f":"VLOOKUP(BE78,DEBUTSTEP!$AR$4:$AS$33,2,FALSE)","v":1},"Faible",{"$f":"VLOOKUP(BG78,DEBUTSTEP!$AR$4:$AS$33,2,FALSE)","v":1},"Faible",{"$f":"VLOOKUP(BI78,DEBUTSTEP!$AR$4:$AS$33,2,FALSE)","v":1},"Faible",{"$f":"VLOOKUP(BK78,DEBUTSTEP!$AR$4:$AS$33,2,FALSE)","v":1},"Faible",{"$f":"VLOOKUP(BM78,DEBUTSTEP!$AR$4:$AS$33,2,FALSE)","v":1},"Faible",{"$f":"VLOOKUP(BO78,DEBUTSTEP!$AR$4:$AS$33,2,FALSE)","v":1},"Faible",{"$f":"VLOOKUP(BQ78,DEBUTSTEP!$AR$4:$AS$33,2,FALSE)","v":1},"Faible",{"$f":"VLOOKUP(BS78,DEBUTSTEP!$AR$4:$AS$33,2,FALSE)","v":1}]
[null,{"$f":"DEBUTSTEP!$AT$4","v":"Agir en sécu"},"Quelques avertissements",{"$f":"VLOOKUP(C79,DEBUTSTEP!$AT$4:$AU$33,2,FALSE)","v":1},"Quelques avertissements",{"$f":"VLOOKUP(E79,DEBUTSTEP!$AT$4:$AU$33,2,FALSE)","v":1},"Quelques avertissements",{"$f":"VLOOKUP(G79,DEBUTSTEP!$AT$4:$AU$33,2,FALSE)","v":1},"Quelques avertissements",{"$f":"VLOOKUP(I79,DEBUTSTEP!$AT$4:$AU$33,2,FALSE)","v":1},"Quelques avertissements",{"$f":"VLOOKUP(K79,DEBUTSTEP!$AT$4:$AU$33,2,FALSE)","v":1},"Quelques avertissements",{"$f":"VLOOKUP(M79,DEBUTSTEP!$AT$4:$AU$33,2,FALSE)","v":1},"Quelques avertissements",{"$f":"VLOOKUP(O79,DEBUTSTEP!$AT$4:$AU$33,2,FALSE)","v":1},"Quelques avertissements",{"$f":"VLOOKUP(Q79,DEBUTSTEP!$AT$4:$AU$33,2,FALSE)","v":1},"Quelques avertissements",{"$f":"VLOOKUP(S79,DEBUTSTEP!$AT$4:$AU$33,2,FALSE)","v":1},"Quelques avertissements",{"$f":"VLOOKUP(U79,DEBUTSTEP!$AT$4:$AU$33,2,FALSE)","v":1},"Quelques avertissements",{"$f":"VLOOKUP(W79,DEBUTSTEP!$AT$4:$AU$33,2,FALSE)","v":1},"Quelques avertissements",{"$f":"VLOOKUP(Y79,DEBUTSTEP!$AT$4:$AU$33,2,FALSE)","v":1},"Quelques avertissements",{"$f":"VLOOKUP(AA79,DEBUTSTEP!$AT$4:$AU$33,2,FALSE)","v":1},"Quelques avertissements",{"$f":"VLOOKUP(AC79,DEBUTSTEP!$AT$4:$AU$33,2,FALSE)","v":1},"Quelques avertissements",{"$f":"VLOOKUP(AE79,DEBUTSTEP!$AT$4:$AU$33,2,FALSE)","v":1},"Quelques avertissements",{"$f":"VLOOKUP(AG79,DEBUTSTEP!$AT$4:$AU$33,2,FALSE)","v":1},"Quelques avertissements",{"$f":"VLOOKUP(AI79,DEBUTSTEP!$AT$4:$AU$33,2,FALSE)","v":1},"Quelques avertissements",{"$f":"VLOOKUP(AK79,DEBUTSTEP!$AT$4:$AU$33,2,FALSE)","v":1},"Quelques avertissements",{"$f":"VLOOKUP(AM79,DEBUTSTEP!$AT$4:$AU$33,2,FALSE)","v":1},"Quelques avertissements",{"$f":"VLOOKUP(AO79,DEBUTSTEP!$AT$4:$AU$33,2,FALSE)","v":1},"Quelques avertissements",{"$f":"VLOOKUP(AQ79,DEBUTSTEP!$AT$4:$AU$33,2,FALSE)","v":1},"Quelques avertissements",{"$f":"VLOOKUP(AS79,DEBUTSTEP!$AT$4:$AU$33,2,FALSE)","v":1},"Quelques avertissements",{"$f":"VLOOKUP(AU79,DEBUTSTEP!$AT$4:$AU$33,2,FALSE)","v":1},"Quelques avertissements",{"$f":"VLOOKUP(AW79,DEBUTSTEP!$AT$4:$AU$33,2,FALSE)","v":1},"Quelques avertissements",{"$f":"VLOOKUP(AY79,DEBUTSTEP!$AT$4:$AU$33,2,FALSE)","v":1},"Quelques avertissements",{"$f":"VLOOKUP(BA79,DEBUTSTEP!$AT$4:$AU$33,2,FALSE)","v":1},"Quelques avertissements",{"$f":"VLOOKUP(BC79,DEBUTSTEP!$AT$4:$AU$33,2,FALSE)","v":1},"Quelques avertissements",{"$f":"VLOOKUP(BE79,DEBUTSTEP!$AT$4:$AU$33,2,FALSE)","v":1},"Quelques avertissements",{"$f":"VLOOKUP(BG79,DEBUTSTEP!$AT$4:$AU$33,2,FALSE)","v":1},"Quelques avertissements",{"$f":"VLOOKUP(BI79,DEBUTSTEP!$AT$4:$AU$33,2,FALSE)","v":1},"Quelques avertissements",{"$f":"VLOOKUP(BK79,DEBUTSTEP!$AT$4:$AU$33,2,FALSE)","v":1},"Quelques avertissements",{"$f":"VLOOKUP(BM79,DEBUTSTEP!$AT$4:$AU$33,2,FALSE)","v":1},"Quelques avertissements",{"$f":"VLOOKUP(BO79,DEBUTSTEP!$AT$4:$AU$33,2,FALSE)","v":1},"Quelques avertissements",{"$f":"VLOOKUP(BQ79,DEBUTSTEP!$AT$4:$AU$33,2,FALSE)","v":1},"Quelques avertissements",{"$f":"VLOOKUP(BS79,DEBUTSTEP!$AT$4:$AU$33,2,FALSE)","v":1}]
[null,{"$f":"DEBUTSTEP!$AV$4","v":"Respect de l'entrainement proposé"},"Aléatoire",{"$f":"VLOOKUP(C80,DEBUTSTEP!$AV$4:$AW$33,2,FALSE)","v":1},"Aléatoire",{"$f":"VLOOKUP(E80,DEBUTSTEP!$AV$4:$AW$33,2,FALSE)","v":1},"Aléatoire",{"$f":"VLOOKUP(G80,DEBUTSTEP!$AV$4:$AW$33,2,FALSE)","v":1},"Aléatoire",{"$f":"VLOOKUP(I80,DEBUTSTEP!$AV$4:$AW$33,2,FALSE)","v":1},"Aléatoire",{"$f":"VLOOKUP(K80,DEBUTSTEP!$AV$4:$AW$33,2,FALSE)","v":1},"Aléatoire",{"$f":"VLOOKUP(M80,DEBUTSTEP!$AV$4:$AW$33,2,FALSE)","v":1},"Aléatoire",{"$f":"VLOOKUP(O80,DEBUTSTEP!$AV$4:$AW$33,2,FALSE)","v":1},"Aléatoire",{"$f":"VLOOKUP(Q80,DEBUTSTEP!$AV$4:$AW$33,2,FALSE)","v":1},"Aléatoire",{"$f":"VLOOKUP(S80,DEBUTSTEP!$AV$4:$AW$33,2,FALSE)","v":1},"Aléatoire",{"$f":"VLOOKUP(U80,DEBUTSTEP!$AV$4:$AW$33,2,FALSE)","v":1},"Aléatoire",{"$f":"VLOOKUP(W80,DEBUTSTEP!$AV$4:$AW$33,2,FALSE)","v":1},"Aléatoire",{"$f":"VLOOKUP(Y80,DEBUTSTEP!$AV$4:$AW$33,2,FALSE)","v":1},"Aléatoire",{"$f":"VLOOKUP(AA80,DEBUTSTEP!$AV$4:$AW$33,2,FALSE)","v":1},"Aléatoire",{"$f":"VLOOKUP(AC80,DEBUTSTEP!$AV$4:$AW$33,2,FALSE)","v":1},"Aléatoire",{"$f":"VLOOKUP(AE80,DEBUTSTEP!$AV$4:$AW$33,2,FALSE)","v":1},"Aléatoire",{"$f":"VLOOKUP(AG80,DEBUTSTEP!$AV$4:$AW$33,2,FALSE)","v":1},"Aléatoire",{"$f":"VLOOKUP(AI80,DEBUTSTEP!$AV$4:$AW$33,2,FALSE)","v":1},"Aléatoire",{"$f":"VLOOKUP(AK80,DEBUTSTEP!$AV$4:$AW$33,2,FALSE)","v":1},"Aléatoire",{"$f":"VLOOKUP(AM80,DEBUTSTEP!$AV$4:$AW$33,2,FALSE)","v":1},"Aléatoire",{"$f":"VLOOKUP(AO80,DEBUTSTEP!$AV$4:$AW$33,2,FALSE)","v":1},"Aléatoire",{"$f":"VLOOKUP(AQ80,DEBUTSTEP!$AV$4:$AW$33,2,FALSE)","v":1},"Aléatoire",{"$f":"VLOOKUP(AS80,DEBUTSTEP!$AV$4:$AW$33,2,FALSE)","v":1},"Aléatoire",{"$f":"VLOOKUP(AU80,DEBUTSTEP!$AV$4:$AW$33,2,FALSE)","v":1},"Aléatoire",{"$f":"VLOOKUP(AW80,DEBUTSTEP!$AV$4:$AW$33,2,FALSE)","v":1},"Aléatoire",{"$f":"VLOOKUP(AY80,DEBUTSTEP!$AV$4:$AW$33,2,FALSE)","v":1},"Aléatoire",{"$f":"VLOOKUP(BA80,DEBUTSTEP!$AV$4:$AW$33,2,FALSE)","v":1},"Aléatoire",{"$f":"VLOOKUP(BC80,DEBUTSTEP!$AV$4:$AW$33,2,FALSE)","v":1},"Aléatoire",{"$f":"VLOOKUP(BE80,DEBUTSTEP!$AV$4:$AW$33,2,FALSE)","v":1},"Aléatoire",{"$f":"VLOOKUP(BG80,DEBUTSTEP!$AV$4:$AW$33,2,FALSE)","v":1},"Aléatoire",{"$f":"VLOOKUP(BI80,DEBUTSTEP!$AV$4:$AW$33,2,FALSE)","v":1},"Aléatoire",{"$f":"VLOOKUP(BK80,DEBUTSTEP!$AV$4:$AW$33,2,FALSE)","v":1},"Aléatoire",{"$f":"VLOOKUP(BM80,DEBUTSTEP!$AV$4:$AW$33,2,FALSE)","v":1},"Aléatoire",{"$f":"VLOOKUP(BO80,DEBUTSTEP!$AV$4:$AW$33,2,FALSE)","v":1},"Aléatoire",{"$f":"VLOOKUP(BQ80,DEBUTSTEP!$AV$4:$AW$33,2,FALSE)","v":1},"Aléatoire",{"$f":"VLOOKUP(BS80,DEBUTSTEP!$AV$4:$AW$33,2,FALSE)","v":1}]
[null,{"$f":"DEBUTSTEP!$AX$4","v":"Mémorisation des blocs"},"Beaucoup d'erreurs",{"$f":"VLOOKUP(C81,DEBUTSTEP!$AX$4:$AY$33,2,FALSE)","v":1},"Beaucoup d'erreurs",{"$f":"VLOOKUP(E81,DEBUTSTEP!$AX$4:$AY$33,2,FALSE)","v":1},"Beaucoup d'erreurs",{"$f":"VLOOKUP(G81,DEBUTSTEP!$AX$4:$AY$33,2,FALSE)","v":1},"Beaucoup d'erreurs",{"$f":"VLOOKUP(I81,DEBUTSTEP!$AX$4:$AY$33,2,FALSE)","v":1},"Beaucoup d'erreurs",{"$f":"VLOOKUP(K81,DEBUTSTEP!$AX$4:$AY$33,2,FALSE)","v":1},"Beaucoup d'erreurs",{"$f":"VLOOKUP(M81,DEBUTSTEP!$AX$4:$AY$33,2,FALSE)","v":1},"Beaucoup d'erreurs",{"$f":"VLOOKUP(O81,DEBUTSTEP!$AX$4:$AY$33,2,FALSE)","v":1},"Beaucoup d'erreurs",{"$f":"VLOOKUP(Q81,DEBUTSTEP!$AX$4:$AY$33,2,FALSE)","v":1},"Beaucoup d'erreurs",{"$f":"VLOOKUP(S81,DEBUTSTEP!$AX$4:$AY$33,2,FALSE)","v":1},"Beaucoup d'erreurs",{"$f":"VLOOKUP(U81,DEBUTSTEP!$AX$4:$AY$33,2,FALSE)","v":1},"Beaucoup d'erreurs",{"$f":"VLOOKUP(W81,DEBUTSTEP!$AX$4:$AY$33,2,FALSE)","v":1},"Beaucoup d'erreurs",{"$f":"VLOOKUP(Y81,DEBUTSTEP!$AX$4:$AY$33,2,FALSE)","v":1},"Beaucoup d'erreurs",{"$f":"VLOOKUP(AA81,DEBUTSTEP!$AX$4:$AY$33,2,FALSE)","v":1},"Beaucoup d'erreurs",{"$f":"VLOOKUP(AC81,DEBUTSTEP!$AX$4:$AY$33,2,FALSE)","v":1},"Beaucoup d'erreurs",{"$f":"VLOOKUP(AE81,DEBUTSTEP!$AX$4:$AY$33,2,FALSE)","v":1},"Beaucoup d'erreurs",{"$f":"VLOOKUP(AG81,DEBUTSTEP!$AX$4:$AY$33,2,FALSE)","v":1},"Beaucoup d'erreurs",{"$f":"VLOOKUP(AI81,DEBUTSTEP!$AX$4:$AY$33,2,FALSE)","v":1},"Beaucoup d'erreurs",{"$f":"VLOOKUP(AK81,DEBUTSTEP!$AX$4:$AY$33,2,FALSE)","v":1},"Beaucoup d'erreurs",{"$f":"VLOOKUP(AM81,DEBUTSTEP!$AX$4:$AY$33,2,FALSE)","v":1},"Beaucoup d'erreurs",{"$f":"VLOOKUP(AO81,DEBUTSTEP!$AX$4:$AY$33,2,FALSE)","v":1},"Beaucoup d'erreurs",{"$f":"VLOOKUP(AQ81,DEBUTSTEP!$AX$4:$AY$33,2,FALSE)","v":1},"Beaucoup d'erreurs",{"$f":"VLOOKUP(AS81,DEBUTSTEP!$AX$4:$AY$33,2,FALSE)","v":1},"Beaucoup d'erreurs",{"$f":"VLOOKUP(AU81,DEBUTSTEP!$AX$4:$AY$33,2,FALSE)","v":1},"Beaucoup d'erreurs",{"$f":"VLOOKUP(AW81,DEBUTSTEP!$AX$4:$AY$33,2,FALSE)","v":1},"Beaucoup d'erreurs",{"$f":"VLOOKUP(AY81,DEBUTSTEP!$AX$4:$AY$33,2,FALSE)","v":1},"Beaucoup d'erreurs",{"$f":"VLOOKUP(BA81,DEBUTSTEP!$AX$4:$AY$33,2,FALSE)","v":1},"Beaucoup d'erreurs",{"$f":"VLOOKUP(BC81,DEBUTSTEP!$AX$4:$AY$33,2,FALSE)","v":1},"Beaucoup d'erreurs",{"$f":"VLOOKUP(BE81,DEBUTSTEP!$AX$4:$AY$33,2,FALSE)","v":1},"Beaucoup d'erreurs",{"$f":"VLOOKUP(BG81,DEBUTSTEP!$AX$4:$AY$33,2,FALSE)","v":1},"Beaucoup d'erreurs",{"$f":"VLOOKUP(BI81,DEBUTSTEP!$AX$4:$AY$33,2,FALSE)","v":1},"Beaucoup d'erreurs",{"$f":"VLOOKUP(BK81,DEBUTSTEP!$AX$4:$AY$33,2,FALSE)","v":1},"Beaucoup d'erreurs",{"$f":"VLOOKUP(BM81,DEBUTSTEP!$AX$4:$AY$33,2,FALSE)","v":1},"Beaucoup d'erreurs",{"$f":"VLOOKUP(BO81,DEBUTSTEP!$AX$4:$AY$33,2,FALSE)","v":1},"Beaucoup d'erreurs",{"$f":"VLOOKUP(BQ81,DEBUTSTEP!$AX$4:$AY$33,2,FALSE)","v":1},"Beaucoup d'erreurs",{"$f":"VLOOKUP(BS81,DEBUTSTEP!$AX$4:$AY$33,2,FALSE)","v":1}]
[null,{"$f":"DEBUTSTEP!$AZ$4","v":"Analyse de sa prestation"},"Pertinente",{"$f":"VLOOKUP(C82,DEBUTSTEP!$AZ$4:$BA$33,2,FALSE)","v":3},"Pertinente",{"$f":"VLOOKUP(E82,DEBUTSTEP!$AZ$4:$BA$33,2,FALSE)","v":3},"Pertinente",{"$f":"VLOOKUP(G82,DEBUTSTEP!$AZ$4:$BA$33,2,FALSE)","v":3},"Pertinente",{"$f":"VLOOKUP(I82,DEBUTSTEP!$AZ$4:$BA$33,2,FALSE)","v":3},"Pertinente",{"$f":"VLOOKUP(K82,DEBUTSTEP!$AZ$4:$BA$33,2,FALSE)","v":3},"Pertinente",{"$f":"VLOOKUP(M82,DEBUTSTEP!$AZ$4:$BA$33,2,FALSE)","v":3},"Pertinente",{"$f":"VLOOKUP(O82,DEBUTSTEP!$AZ$4:$BA$33,2,FALSE)","v":3},"Pertinente",{"$f":"VLOOKUP(Q82,DEBUTSTEP!$AZ$4:$BA$33,2,FALSE)","v":3},"Pertinente",{"$f":"VLOOKUP(S82,DEBUTSTEP!$AZ$4:$BA$33,2,FALSE)","v":3},"Pertinente",{"$f":"VLOOKUP(U82,DEBUTSTEP!$AZ$4:$BA$33,2,FALSE)","v":3},"Pertinente",{"$f":"VLOOKUP(W82,DEBUTSTEP!$AZ$4:$BA$33,2,FALSE)","v":3},"Pertinente",{"$f":"VLOOKUP(Y82,DEBUTSTEP!$AZ$4:$BA$33,2,FALSE)","v":3},"Pertinente",{"$f":"VLOOKUP(AA82,DEBUTSTEP!$AZ$4:$BA$33,2,FALSE)","v":3},"Pertinente",{"$f":"VLOOKUP(AC82,DEBUTSTEP!$AZ$4:$BA$33,2,FALSE)","v":3},"Pertinente",{"$f":"VLOOKUP(AE82,DEBUTSTEP!$AZ$4:$BA$33,2,FALSE)","v":3},"Pertinente",{"$f":"VLOOKUP(AG82,DEBUTSTEP!$AZ$4:$BA$33,2,FALSE)","v":3},"Pertinente",{"$f":"VLOOKUP(AI82,DEBUTSTEP!$AZ$4:$BA$33,2,FALSE)","v":3},"Pertinente",{"$f":"VLOOKUP(AK82,DEBUTSTEP!$AZ$4:$BA$33,2,FALSE)","v":3},"Pertinente",{"$f":"VLOOKUP(AM82,DEBUTSTEP!$AZ$4:$BA$33,2,FALSE)","v":3},"Pertinente",{"$f":"VLOOKUP(AO82,DEBUTSTEP!$AZ$4:$BA$33,2,FALSE)","v":3},"Pertinente",{"$f":"VLOOKUP(AQ82,DEBUTSTEP!$AZ$4:$BA$33,2,FALSE)","v":3},"Pertinente",{"$f":"VLOOKUP(AS82,DEBUTSTEP!$AZ$4:$BA$33,2,FALSE)","v":3},"Pertinente",{"$f":"VLOOKUP(AU82,DEBUTSTEP!$AZ$4:$BA$33,2,FALSE)","v":3},"Pertinente",{"$f":"VLOOKUP(AW82,DEBUTSTEP!$AZ$4:$BA$33,2,FALSE)","v":3},"Pertinente",{"$f":"VLOOKUP(AY82,DEBUTSTEP!$AZ$4:$BA$33,2,FALSE)","v":3},"Pertinente",{"$f":"VLOOKUP(BA82,DEBUTSTEP!$AZ$4:$BA$33,2,FALSE)","v":3},"Pertinente",{"$f":"VLOOKUP(BC82,DEBUTSTEP!$AZ$4:$BA$33,2,FALSE)","v":3},"Pertinente",{"$f":"VLOOKUP(BE82,DEBUTSTEP!$AZ$4:$BA$33,2,FALSE)","v":3},"Pertinente",{"$f":"VLOOKUP(BG82,DEBUTSTEP!$AZ$4:$BA$33,2,FALSE)","v":3},"Pertinente",{"$f":"VLOOKUP(BI82,DEBUTSTEP!$AZ$4:$BA$33,2,FALSE)","v":3},"Pertinente",{"$f":"VLOOKUP(BK82,DEBUTSTEP!$AZ$4:$BA$33,2,FALSE)","v":3},"Pertinente",{"$f":"VLOOKUP(BM82,DEBUTSTEP!$AZ$4:$BA$33,2,FALSE)","v":3},"Pertinente",{"$f":"VLOOKUP(BO82,DEBUTSTEP!$AZ$4:$BA$33,2,FALSE)","v":3},"Pertinente",{"$f":"VLOOKUP(BQ82,DEBUTSTEP!$AZ$4:$BA$33,2,FALSE)","v":3},"Pertinente",{"$f":"VLOOKUP(BS82,DEBUTSTEP!$AZ$4:$BA$33,2,FALSE)","v":3}]
[null,"NOTE",{"$f":"IF(OR(D77=\"x\",D78=\"x\",D79=\"x\",D80=\"x\",D81=\"x\",D82=\"x\"),\"ABSENT\",SUMIF(D77,\"<>X\")+SUMIF(D78,\"<>X\")+SUMIF(D79,\"<>X\")+SUMIF(D80,\"<>X\")+SUMIF(D81,\"<>X\")+SUMIF(D82,\"<>X\"))","v":7},null,{"$f":"IF(OR(F77=\"x\",F78=\"x\",F79=\"x\",F80=\"x\",F81=\"x\",F82=\"x\"),\"ABSENT\",SUMIF(F77,\"<>X\")+SUMIF(F78,\"<>X\")+SUMIF(F79,\"<>X\")+SUMIF(F80,\"<>X\")+SUMIF(F81,\"<>X\")+SUMIF(F82,\"<>X\"))","v":7},null,{"$f":"IF(OR(H77=\"x\",H78=\"x\",H79=\"x\",H80=\"x\",H81=\"x\",H82=\"x\"),\"ABSENT\",SUMIF(H77,\"<>X\")+SUMIF(H78,\"<>X\")+SUMIF(H79,\"<>X\")+SUMIF(H80,\"<>X\")+SUMIF(H81,\"<>X\")+SUMIF(H82,\"<>X\"))","v":7},null,{"$f":"IF(OR(J77=\"x\",J78=\"x\",J79=\"x\",J80=\"x\",J81=\"x\",J82=\"x\"),\"ABSENT\",SUMIF(J77,\"<>X\")+SUMIF(J78,\"<>X\")+SUMIF(J79,\"<>X\")+SUMIF(J80,\"<>X\")+SUMIF(J81,\"<>X\")+SUMIF(J82,\"<>X\"))","v":7},null,{"$f":"IF(OR(L77=\"x\",L78=\"x\",L79=\"x\",L80=\"x\",L81=\"x\",L82=\"x\"),\"ABSENT\",SUMIF(L77,\"<>X\")+SUMIF(L78,\"<>X\")+SUMIF(L79,\"<>X\")+SUMIF(L80,\"<>X\")+SUMIF(L81,\"<>X\")+SUMIF(L82,\"<>X\"))","v":7},null,{"$f":"IF(OR(N77=\"x\",N78=\"x\",N79=\"x\",N80=\"x\",N81=\"x\",N82=\"x\"),\"ABSENT\",SUMIF(N77,\"<>X\")+SUMIF(N78,\"<>X\")+SUMIF(N79,\"<>X\")+SUMIF(N80,\"<>X\")+SUMIF(N81,\"<>X\")+SUMIF(N82,\"<>X\"))","v":7},null,{"$f":"IF(OR(P77=\"x\",P78=\"x\",P79=\"x\",P80=\"x\",P81=\"x\",P82=\"x\"),\"ABSENT\",SUMIF(P77,\"<>X\")+SUMIF(P78,\"<>X\")+SUMIF(P79,\"<>X\")+SUMIF(P80,\"<>X\")+SUMIF(P81,\"<>X\")+SUMIF(P82,\"<>X\"))","v":7},null,{"$f":"IF(OR(R77=\"x\",R78=\"x\",R79=\"x\",R80=\"x\",R81=\"x\",R82=\"x\"),\"ABSENT\",SUMIF(R77,\"<>X\")+SUMIF(R78,\"<>X\")+SUMIF(R79,\"<>X\")+SUMIF(R80,\"<>X\")+SUMIF(R81,\"<>X\")+SUMIF(R82,\"<>X\"))","v":7},null,{"$f":"IF(OR(T77=\"x\",T78=\"x\",T79=\"x\",T80=\"x\",T81=\"x\",T82=\"x\"),\"ABSENT\",SUMIF(T77,\"<>X\")+SUMIF(T78,\"<>X\")+SUMIF(T79,\"<>X\")+SUMIF(T80,\"<>X\")+SUMIF(T81,\"<>X\")+SUMIF(T82,\"<>X\"))","v":7},null,{"$f":"IF(OR(V77=\"x\",V78=\"x\",V79=\"x\",V80=\"x\",V81=\"x\",V82=\"x\"),\"ABSENT\",SUMIF(V77,\"<>X\")+SUMIF(V78,\"<>X\")+SUMIF(V79,\"<>X\")+SUMIF(V80,\"<>X\")+SUMIF(V81,\"<>X\")+SUMIF(V82,\"<>X\"))","v":7},null,{"$f":"IF(OR(X77=\"x\",X78=\"x\",X79=\"x\",X80=\"x\",X81=\"x\",X82=\"x\"),\"ABSENT\",SUMIF(X77,\"<>X\")+SUMIF(X78,\"<>X\")+SUMIF(X79,\"<>X\")+SUMIF(X80,\"<>X\")+SUMIF(X81,\"<>X\")+SUMIF(X82,\"<>X\"))","v":7},null,{"$f":"IF(OR(Z77=\"x\",Z78=\"x\",Z79=\"x\",Z80=\"x\",Z81=\"x\",Z82=\"x\"),\"ABSENT\",SUMIF(Z77,\"<>X\")+SUMIF(Z78,\"<>X\")+SUMIF(Z79,\"<>X\")+SUMIF(Z80,\"<>X\")+SUMIF(Z81,\"<>X\")+SUMIF(Z82,\"<>X\"))","v":7},null,{"$f":"IF(OR(AB77=\"x\",AB78=\"x\",AB79=\"x\",AB80=\"x\",AB81=\"x\",AB82=\"x\"),\"ABSENT\",SUMIF(AB77,\"<>X\")+SUMIF(AB78,\"<>X\")+SUMIF(AB79,\"<>X\")+SUMIF(AB80,\"<>X\")+SUMIF(AB81,\"<>X\")+SUMIF(AB82,\"<>X\"))","v":7},null,{"$f":"IF(OR(AD77=\"x\",AD78=\"x\",AD79=\"x\",AD80=\"x\",AD81=\"x\",AD82=\"x\"),\"ABSENT\",SUMIF(AD77,\"<>X\")+SUMIF(AD78,\"<>X\")+SUMIF(AD79,\"<>X\")+SUMIF(AD80,\"<>X\")+SUMIF(AD81,\"<>X\")+SUMIF(AD82,\"<>X\"))","v":7},null,{"$f":"IF(OR(AF77=\"x\",AF78=\"x\",AF79=\"x\",AF80=\"x\",AF81=\"x\",AF82=\"x\"),\"ABSENT\",SUMIF(AF77,\"<>X\")+SUMIF(AF78,\"<>X\")+SUMIF(AF79,\"<>X\")+SUMIF(AF80,\"<>X\")+SUMIF(AF81,\"<>X\")+SUMIF(AF82,\"<>X\"))","v":7},null,{"$f":"IF(OR(AH77=\"x\",AH78=\"x\",AH79=\"x\",AH80=\"x\",AH81=\"x\",AH82=\"x\"),\"ABSENT\",SUMIF(AH77,\"<>X\")+SUMIF(AH78,\"<>X\")+SUMIF(AH79,\"<>X\")+SUMIF(AH80,\"<>X\")+SUMIF(AH81,\"<>X\")+SUMIF(AH82,\"<>X\"))","v":7},null,{"$f":"IF(OR(AJ77=\"x\",AJ78=\"x\",AJ79=\"x\",AJ80=\"x\",AJ81=\"x\",AJ82=\"x\"),\"ABSENT\",SUMIF(AJ77,\"<>X\")+SUMIF(AJ78,\"<>X\")+SUMIF(AJ79,\"<>X\")+SUMIF(AJ80,\"<>X\")+SUMIF(AJ81,\"<>X\")+SUMIF(AJ82,\"<>X\"))","v":7},null,{"$f":"IF(OR(AL77=\"x\",AL78=\"x\",AL79=\"x\",AL80=\"x\",AL81=\"x\",AL82=\"x\"),\"ABSENT\",SUMIF(AL77,\"<>X\")+SUMIF(AL78,\"<>X\")+SUMIF(AL79,\"<>X\")+SUMIF(AL80,\"<>X\")+SUMIF(AL81,\"<>X\")+SUMIF(AL82,\"<>X\"))","v":7},null,{"$f":"IF(OR(AN77=\"x\",AN78=\"x\",AN79=\"x\",AN80=\"x\",AN81=\"x\",AN82=\"x\"),\"ABSENT\",SUMIF(AN77,\"<>X\")+SUMIF(AN78,\"<>X\")+SUMIF(AN79,\"<>X\")+SUMIF(AN80,\"<>X\")+SUMIF(AN81,\"<>X\")+SUMIF(AN82,\"<>X\"))","v":7},null,{"$f":"IF(OR(AP77=\"x\",AP78=\"x\",AP79=\"x\",AP80=\"x\",AP81=\"x\",AP82=\"x\"),\"ABSENT\",SUMIF(AP77,\"<>X\")+SUMIF(AP78,\"<>X\")+SUMIF(AP79,\"<>X\")+SUMIF(AP80,\"<>X\")+SUMIF(AP81,\"<>X\")+SUMIF(AP82,\"<>X\"))","v":7},null,{"$f":"IF(OR(AR77=\"x\",AR78=\"x\",AR79=\"x\",AR80=\"x\",AR81=\"x\",AR82=\"x\"),\"ABSENT\",SUMIF(AR77,\"<>X\")+SUMIF(AR78,\"<>X\")+SUMIF(AR79,\"<>X\")+SUMIF(AR80,\"<>X\")+SUMIF(AR81,\"<>X\")+SUMIF(AR82,\"<>X\"))","v":7},null,{"$f":"IF(OR(AT77=\"x\",AT78=\"x\",AT79=\"x\",AT80=\"x\",AT81=\"x\",AT82=\"x\"),\"ABSENT\",SUMIF(AT77,\"<>X\")+SUMIF(AT78,\"<>X\")+SUMIF(AT79,\"<>X\")+SUMIF(AT80,\"<>X\")+SUMIF(AT81,\"<>X\")+SUMIF(AT82,\"<>X\"))","v":7},null,{"$f":"IF(OR(AV77=\"x\",AV78=\"x\",AV79=\"x\",AV80=\"x\",AV81=\"x\",AV82=\"x\"),\"ABSENT\",SUMIF(AV77,\"<>X\")+SUMIF(AV78,\"<>X\")+SUMIF(AV79,\"<>X\")+SUMIF(AV80,\"<>X\")+SUMIF(AV81,\"<>X\")+SUMIF(AV82,\"<>X\"))","v":7},null,{"$f":"IF(OR(AX77=\"x\",AX78=\"x\",AX79=\"x\",AX80=\"x\",AX81=\"x\",AX82=\"x\"),\"ABSENT\",SUMIF(AX77,\"<>X\")+SUMIF(AX78,\"<>X\")+SUMIF(AX79,\"<>X\")+SUMIF(AX80,\"<>X\")+SUMIF(AX81,\"<>X\")+SUMIF(AX82,\"<>X\"))","v":7},null,{"$f":"IF(OR(AZ77=\"x\",AZ78=\"x\",AZ79=\"x\",AZ80=\"x\",AZ81=\"x\",AZ82=\"x\"),\"ABSENT\",SUMIF(AZ77,\"<>X\")+SUMIF(AZ78,\"<>X\")+SUMIF(AZ79,\"<>X\")+SUMIF(AZ80,\"<>X\")+SUMIF(AZ81,\"<>X\")+SUMIF(AZ82,\"<>X\"))","v":7},null,{"$f":"IF(OR(BB77=\"x\",BB78=\"x\",BB79=\"x\",BB80=\"x\",BB81=\"x\",BB82=\"x\"),\"ABSENT\",SUMIF(BB77,\"<>X\")+SUMIF(BB78,\"<>X\")+SUMIF(BB79,\"<>X\")+SUMIF(BB80,\"<>X\")+SUMIF(BB81,\"<>X\")+SUMIF(BB82,\"<>X\"))","v":7},null,{"$f":"IF(OR(BD77=\"x\",BD78=\"x\",BD79=\"x\",BD80=\"x\",BD81=\"x\",BD82=\"x\"),\"ABSENT\",SUMIF(BD77,\"<>X\")+SUMIF(BD78,\"<>X\")+SUMIF(BD79,\"<>X\")+SUMIF(BD80,\"<>X\")+SUMIF(BD81,\"<>X\")+SUMIF(BD82,\"<>X\"))","v":7},null,{"$f":"IF(OR(BF77=\"x\",BF78=\"x\",BF79=\"x\",BF80=\"x\",BF81=\"x\",BF82=\"x\"),\"ABSENT\",SUMIF(BF77,\"<>X\")+SUMIF(BF78,\"<>X\")+SUMIF(BF79,\"<>X\")+SUMIF(BF80,\"<>X\")+SUMIF(BF81,\"<>X\")+SUMIF(BF82,\"<>X\"))","v":7},null,{"$f":"IF(OR(BH77=\"x\",BH78=\"x\",BH79=\"x\",BH80=\"x\",BH81=\"x\",BH82=\"x\"),\"ABSENT\",SUMIF(BH77,\"<>X\")+SUMIF(BH78,\"<>X\")+SUMIF(BH79,\"<>X\")+SUMIF(BH80,\"<>X\")+SUMIF(BH81,\"<>X\")+SUMIF(BH82,\"<>X\"))","v":7},null,{"$f":"IF(OR(BJ77=\"x\",BJ78=\"x\",BJ79=\"x\",BJ80=\"x\",BJ81=\"x\",BJ82=\"x\"),\"ABSENT\",SUMIF(BJ77,\"<>X\")+SUMIF(BJ78,\"<>X\")+SUMIF(BJ79,\"<>X\")+SUMIF(BJ80,\"<>X\")+SUMIF(BJ81,\"<>X\")+SUMIF(BJ82,\"<>X\"))","v":7},null,{"$f":"IF(OR(BL77=\"x\",BL78=\"x\",BL79=\"x\",BL80=\"x\",BL81=\"x\",BL82=\"x\"),\"ABSENT\",SUMIF(BL77,\"<>X\")+SUMIF(BL78,\"<>X\")+SUMIF(BL79,\"<>X\")+SUMIF(BL80,\"<>X\")+SUMIF(BL81,\"<>X\")+SUMIF(BL82,\"<>X\"))","v":7},null,{"$f":"IF(OR(BN77=\"x\",BN78=\"x\",BN79=\"x\",BN80=\"x\",BN81=\"x\",BN82=\"x\"),\"ABSENT\",SUMIF(BN77,\"<>X\")+SUMIF(BN78,\"<>X\")+SUMIF(BN79,\"<>X\")+SUMIF(BN80,\"<>X\")+SUMIF(BN81,\"<>X\")+SUMIF(BN82,\"<>X\"))","v":7},null,{"$f":"IF(OR(BP77=\"x\",BP78=\"x\",BP79=\"x\",BP80=\"x\",BP81=\"x\",BP82=\"x\"),\"ABSENT\",SUMIF(BP77,\"<>X\")+SUMIF(BP78,\"<>X\")+SUMIF(BP79,\"<>X\")+SUMIF(BP80,\"<>X\")+SUMIF(BP81,\"<>X\")+SUMIF(BP82,\"<>X\"))","v":7},null,{"$f":"IF(OR(BR77=\"x\",BR78=\"x\",BR79=\"x\",BR80=\"x\",BR81=\"x\",BR82=\"x\"),\"ABSENT\",SUMIF(BR77,\"<>X\")+SUMIF(BR78,\"<>X\")+SUMIF(BR79,\"<>X\")+SUMIF(BR80,\"<>X\")+SUMIF(BR81,\"<>X\")+SUMIF(BR82,\"<>X\"))","v":7},null,{"$f":"IF(OR(BT77=\"x\",BT78=\"x\",BT79=\"x\",BT80=\"x\",BT81=\"x\",BT82=\"x\"),\"ABSENT\",SUMIF(BT77,\"<>X\")+SUMIF(BT78,\"<>X\")+SUMIF(BT79,\"<>X\")+SUMIF(BT80,\"<>X\")+SUMIF(BT81,\"<>X\")+SUMIF(BT82,\"<>X\"))","v":7}]

{"sheet":"CCF TAB","index":4,"n_rows":13,"n_cols":72,"rows_kept":13,"cut":false,"hidden":false,"merged":[[3,0,4,0],[5,0,8,0],[9,0,10,0]]}
[]
[null,"1COM-1ELEC"]
[null,null,"Abdelwahid",null,"Dhayaeddine",null,"Abdelwahid",null,"Abdelwahid",null,"Abdelwahid",null,"Abdelwahid",null,"Abdelwahid",null,"Abdelwahid",null,"Abdelwahid",null,"Abdelwahid",null,"Abdelwahid",null,"Abdelwahid",null,"Abdelwahid",null,"Abdelwahid",null,"Abdelwahid",null,"Abdelwahid",null,"Abdelwahid",null,"Abdelwahid",null,"Abdelwahid",null,"Abdelwahid",null,"Abdelwahid",null,"Abdelwahid",null,"Abdelwahid",null,"Abdelwahid",null,"Abdelwahid",null,"Abdelwahid",null,"Abdelwahid",null,"Abdelwahid",null,"Abdelwahid",null,"Abdelwahid",null,"Abdelwahid",null,"Abdelwahid",null,"Abdelwahid",null,"Abdelwahid",null,"Abdelwahid"]
["CONCEVOIR","Choix des paramètres","Aléatoire",{"$f":"VLOOKUP(C4,DEBUTSTEP!$BE$4:$BF$33,2,FALSE)","v":0.5},"Aide enseignant",{"$f":"VLOOKUP(E4,DEBUTSTEP!$BE$4:$BF$33,2,FALSE)","v":1},"Aide enseignant",{"$f":"VLOOKUP(G4,DEBUTSTEP!$BE$4:$BF$33,2,FALSE)","v":1},"Aléatoire",{"$f":"VLOOKUP(I4,DEBUTSTEP!$BE$4:$BF$33,2,FALSE)","v":0.5},"Aléatoire",{"$f":"VLOOKUP(K4,DEBUTSTEP!$BE$4:$BF$33,2,FALSE)","v":0.5},"Aléatoire",{"$f":"VLOOKUP(M4,DEBUTSTEP!$BE$4:$BF$33,2,FALSE)","v":0.5},"Sans aide",{"$f":"VLOOKUP(O4,DEBUTSTEP!$BE$4:$BF$33,2,FALSE)","v":1.5},null,{"$f":"VLOOKUP(Q4,DEBUTSTEP!$BE$4:$BF$33,2,FALSE)","v":0},"Aléatoire",{"$f":"VLOOKUP(S4,DEBUTSTEP!$BE$4:$BF$33,2,FALSE)","v":0.5},"Aléatoire",{"$f":"VLOOKUP(U4,DEBUTSTEP!$BE$4:$BF$33,2,FALSE)","v":0.5},"Aléatoire",{"$f":"VLOOKUP(W4,DEBUTSTEP!$BE$4:$BF$33,2,FALSE)","v":0.5},"Aléatoire",{"$f":"VLOOKUP(Y4,DEBUTSTEP!$BE$4:$BF$33,2,FALSE)","v":0.5},"Aléatoire",{"$f":"VLOOKUP(AA4,DEBUTSTEP!$BE$4:$BF$33,2,FALSE)","v":0.5},"Aléatoire",{"$f":"VLOOKUP(AC4,DEBUTSTEP!$BE$4:$BF$33,2,FALSE)","v":0.5},"Aléatoire",{"$f":"VLOOKUP(AE4,DEBUTSTEP!$BE$4:$BF$33,2,FALSE)","v":0.5},"Aléatoire",{"$f":"VLOOKUP(AG4,DEBUTSTEP!$BE$4:$BF$33,2,FALSE)","v":0.5},"Aléatoire",{"$f":"VLOOKUP(AI4,DEBUTSTEP!$BE$4:$BF$33,2,FALSE)","v":0.5},"Aléatoire",{"$f":"VLOOKUP(AK4,DEBUTSTEP!$BE$4:$BF$33,2,FALSE)","v":0.5},"Aléatoire",{"$f":"VLOOKUP(AM4,DEBUTSTEP!$BE$4:$BF$33,2,FALSE)","v":0.5},"Aléatoire",{"$f":"VLOOKUP(AO4,DEBUTSTEP!$BE$4:$BF$33,2,FALSE)","v":0.5},"Aléatoire",{"$f":"VLOOKUP(AQ4,DEBUTSTEP!$BE$4:$BF$33,2,FALSE)","v":0.5},"Aléatoire",{"$f":"VLOOKUP(AS4,DEBUTSTEP!$BE$4:$BF$33,2,FALSE)","v":0.5},"Aléatoire",{"$f":"VLOOKUP(AU4,DEBUTSTEP!$BE$4:$BF$33,2,FALSE)","v":0.5},"Aléatoire",{"$f":"VLOOKUP(AW4,DEBUTSTEP!$BE$4:$BF$33,2,FALSE)","v":0.5},"Aléatoire",{"$f":"VLOOKUP(AY4,DEBUTSTEP!$BE$4:$BF$33,2,FALSE)","v":0.5},"Aléatoire",{"$f":"VLOOKUP(BA4,DEBUTSTEP!$BE$4:$BF$33,2,FALSE)","v":0.5},"Aléatoire",{"$f":"VLOOKUP(BC4,DEBUTSTEP!$BE$4:$BF$33,2,FALSE)","v":0.5},"Aléatoire",{"$f":"VLOOKUP(BE4,DEBUTSTEP!$BE$4:$BF$33,2,FALSE)","v":0.5},"Aléatoire",{"$f":"VLOOKUP(BG4,DEBUTSTEP!$BE$4:$BF$33,2,FALSE)","v":0.5},"Aléatoire",{"$f":"VLOOKUP(BI4,DEBUTSTEP!$BE$4:$BF$33,2,FALSE)","v":0.5},"Aléatoire",{"$f":"VLOOKUP(BK4,DEBUTSTEP!$BE$4:$BF$33,2,FALSE)","v":0.5},"Aléatoire",{"$f":"VLOOKUP(BM4,DEBUTSTEP!$BE$4:$BF$33,2,FALSE)","v":0.5},"Aléatoire",{"$f":"VLOOKUP(BO4,DEBUTSTEP!$BE$4:$BF$33,2,FALSE)","v":0.5},"Aléatoire",{"$f":"VLOOKUP(BQ4,DEBUTSTEP!$BE$4:$BF$33,2,FALSE)","v":0.5},"Aléatoire",{"$f":"VLOOKUP(BS4,DEBUTSTEP!$BE$4:$BF$33,2,FALSE)","v":0.5}]
[null,"Cohérence de l'enchainement","Aucune ",{"$f":"VLOOKUP(C5,DEBUTSTEP!$BG$4:$BH$33,2,FALSE)","v":0},"Cohérent",{"$f":"VLOOKUP(E5,DEBUTSTEP!$BG$4:$BH$33,2,FALSE)","v":1},"Incohérent",{"$f":"VLOOKUP(G5,DEBUTSTEP!$BG$4:$BH$33,2,FALSE)","v":0.5},"Incohérent",{"$f":"VLOOKUP(I5,DEBUTSTEP!$BG$4:$BH$33,2,FALSE)","v":0.5},"Incohérent",{"$f":"VLOOKUP(K5,DEBUTSTEP!$BG$4:$BH$33,2,FALSE)","v":0.5},"Incohérent",{"$f":"VLOOKUP(M5,DEBUTSTEP!$BG$4:$BH$33,2,FALSE)","v":0.5},"Incohérent",{"$f":"VLOOKUP(O5,DEBUTSTEP!$BG$4:$BH$33,2,FALSE)","v":0.5},"Incohérent",{"$f":"VLOOKUP(Q5,DEBUTSTEP!$BG$4:$BH$33,2,FALSE)","v":0.5},"Incohérent",{"$f":"VLOOKUP(S5,DEBUTSTEP!$BG$4:$BH$33,2,FALSE)","v":0.5},"Incohérent",{"$f":"VLOOKUP(U5,DEBUTSTEP!$BG$4:$BH$33,2,FALSE)","v":0.5},"Incohérent",{"$f":"VLOOKUP(W5,DEBUTSTEP!$BG$4:$BH$33,2,FALSE)","v":0.5},"Incohérent",{"$f":"VLOOKUP(Y5,DEBUTSTEP!$BG$4:$BH$33,2,FALSE)","v":0.5},"Incohérent",{"$f":"VLOOKUP(AA5,DEBUTSTEP!$BG$4:$BH$33,2,FALSE)","v":0.5},"Incohérent",{"$f":"VLOOKUP(AC5,DEBUTSTEP!$BG$4:$BH$33,2,FALSE)","v":0.5},"Incohérent",{"$f":"VLOOKUP(AE5,DEBUTSTEP!$BG$4:$BH$33,2,FALSE)","v":0.5},"Incohérent",{"$f":"VLOOKUP(AG5,DEBUTSTEP!$BG$4:$BH$33,2,FALSE)","v":0.5},"Incohérent",{"$f":"VLOOKUP(AI5,DEBUTSTEP!$BG$4:$BH$33,2,FALSE)","v":0.5},"Incohérent",{"$f":"VLOOKUP(AK5,DEBUTSTEP!$BG$4:$BH$33,2,FALSE)","v":0.5},"Incohérent",{"$f":"VLOOKUP(AM5,DEBUTSTEP!$BG$4:$BH$33,2,FALSE)","v":0.5},"Incohérent",{"$f":"VLOOKUP(AO5,DEBUTSTEP!$BG$4:$BH$33,2,FALSE)","v":0.5},"Incohérent",{"$f":"VLOOKUP(AQ5,DEBUTSTEP!$BG$4:$BH$33,2,FALSE)","v":0.5},"Incohérent",{"$f":"VLOOKUP(AS5,DEBUTSTEP!$BG$4:$BH$33,2,FALSE)","v":0.5},"Incohérent",{"$f":"VLOOKUP(AU5,DEBUTSTEP!$BG$4:$BH$33,2,FALSE)","v":0.5},"Incohérent",{"$f":"VLOOKUP(AW5,DEBUTSTEP!$BG$4:$BH$33,2,FALSE)","v":0.5},"Incohérent",{"$f":"VLOOKUP(AY5,DEBUTSTEP!$BG$4:$BH$33,2,FALSE)","v":0.5},"Incohérent",{"$f":"VLOOKUP(BA5,DEBUTSTEP!$BG$4:$BH$33,2,FALSE)","v":0.5},"Incohérent",{"$f":"VLOOKUP(BC5,DEBUTSTEP!$BG$4:$BH$33,2,FALSE)","v":0.5},"Incohérent",{"$f":"VLOOKUP(BE5,DEBUTSTEP!$BG$4:$BH$33,2,FALSE)","v":0.5},"Incohérent",{"$f":"VLOOKUP(BG5,DEBUTSTEP!$BG$4:$BH$33,2,FALSE)","v":0.5},"Incohérent",{"$f":"VLOOKUP(BI5,DEBUTSTEP!$BG$4:$BH$33,2,FALSE)","v":0.5},"Incohérent",{"$f":"VLOOKUP(BK5,DEBUTSTEP!$BG$4:$BH$33,2,FALSE)","v":0.5},"Incohérent",{"$f":"VLOOKUP(BM5,DEBUTSTEP!$BG$4:$BH$33,2,FALSE)","v":0.5},"Incohérent",{"$f":"VLOOKUP(BO5,DEBUTSTEP!$BG$4:$BH$33,2,FALSE)","v":0.5},"Incohérent",{"$f":"VLOOKUP(BQ5,DEBUTSTEP!$BG$4:$BH$33,2,FALSE)","v":0.5},"Incohérent",{"$f":"VLOOKUP(BS5,DEBUTSTEP!$BG$4:$BH$33,2,FALSE)","v":0.5}]
["PRODUIRE","Fourchette FCE","Le plus souvent dedans",{"$f":"VLOOKUP(C6,DEBUTSTEP!$BI$4:$BJ$33,2,FALSE)","v":4},"En dehors",{"$f":"VLOOKUP(E6,DEBUTSTEP!$BI$4:$BJ$33,2,FALSE)","v":1},"En dehors",{"$f":"VLOOKUP(G6,DEBUTSTEP!$BI$4:$BJ$33,2,FALSE)","v":1},"En dehors",{"$f":"VLOOKUP(I6,DEBUTSTEP!$BI$4:$BJ$33,2,FALSE)","v":1},"En dehors",{"$f":"VLOOKUP(K6,DEBUTSTEP!$BI$4:$BJ$33,2,FALSE)","v":1},"En dehors",{"$f":"VLOOKUP(M6,DEBUTSTEP!$BI$4:$BJ$33,2,FALSE)","v":1},"En dehors",{"$f":"VLOOKUP(O6,DEBUTSTEP!$BI$4:$BJ$33,2,FALSE)","v":1},"En dehors",{"$f":"VLOOKUP(Q6,DEBUTSTEP!$BI$4:$BJ$33,2,FALSE)","v":1},"En dehors",{"$f":"VLOOKUP(S6,DEBUTSTEP!$BI$4:$BJ$33,2,FALSE)","v":1},"En dehors",{"$f":"VLOOKUP(U6,DEBUTSTEP!$BI$4:$BJ$33,2,FALSE)","v":1},"En dehors",{"$f":"VLOOKUP(W6,DEBUTSTEP!$BI$4:$BJ$33,2,FALSE)","v":1},"En dehors",{"$f":"VLOOKUP(Y6,DEBUTSTEP!$BI$4:$BJ$33,2,FALSE)","v":1},"En dehors",{"$f":"VLOOKUP(AA6,DEBUTSTEP!$BI$4:$BJ$33,2,FALSE)","v":1},"En dehors",{"$f":"VLOOKUP(AC6,DEBUTSTEP!$BI$4:$BJ$33,2,FALSE)","v":1},"En dehors",{"$f":"VLOOKUP(AE6,DEBUTSTEP!$BI$4:$BJ$33,2,FALSE)","v":1},"En dehors",{"$f":"VLOOKUP(AG6,DEBUTSTEP!$BI$4:$BJ$33,2,FALSE)","v":1},"En dehors",{"$f":"VLOOKUP(AI6,DEBUTSTEP!$BI$4:$BJ$33,2,FALSE)","v":1},"En dehors",{"$f":"VLOOKUP(AK6,DEBUTSTEP!$BI$4:$BJ$33,2,FALSE)","v":1},"En dehors",{"$f":"VLOOKUP(AM6,DEBUTSTEP!$BI$4:$BJ$33,2,FALSE)","v":1},"En dehors",{"$f":"VLOOKUP(AO6,DEBUTSTEP!$BI$4:$BJ$33,2,FALSE)","v":1},"En dehors",{"$f":"VLOOKUP(AQ6,DEBUTSTEP!$BI$4:$BJ$33,2,FALSE)","v":1},"En dehors",{"$f":"VLOOKUP(AS6,DEBUTSTEP!$BI$4:$BJ$33,2,FALSE)","v":1},"En dehors",{"$f":"VLOOKUP(AU6,DEBUTSTEP!$BI$4:$BJ$33,2,FALSE)","v":1},"En dehors",{"$f":"VLOOKUP(AW6,DEBUTSTEP!$BI$4:$BJ$33,2,FALSE)","v":1},"En dehors",{"$f":"VLOOKUP(AY6,DEBUTSTEP!$BI$4:$BJ$33,2,FALSE)","v":1},"En dehors",{"$f":"VLOOKUP(BA6,DEBUTSTEP!$BI$4:$BJ$33,2,FALSE)","v":1},"En dehors",{"$f":"VLOOKUP(BC6,DEBUTSTEP!$BI$4:$BJ$33,2,FALSE)","v":1},"En dehors",{"$f":"VLOOKUP(BE6,DEBUTSTEP!$BI$4:$BJ$33,2,FALSE)","v":1},"En dehors",{"$f":"VLOOKUP(BG6,DEBUTSTEP!$BI$4:$BJ$33,2,FALSE)","v":1},"En dehors",{"$f":"VLOOKUP(BI6,DEBUTSTEP!$BI$4:$BJ$33,2,FALSE)","v":1},"En dehors",{"$f":"VLOOKUP(BK6,DEBUTSTEP!$BI$4:$BJ$33,2,FALSE)","v":1},"En dehors",{"$f":"VLOOKUP(BM6,DEBUTSTEP!$BI$4:$BJ$33,2,FALSE)","v":1},"En dehors",{"$f":"VLOOKUP(BO6,DEBUTSTEP!$BI$4:$BJ$33,2,FALSE)","v":1},"En dehors",{"$f":"VLOOKUP(BQ6,DEBUTSTEP!$BI$4:$BJ$33,2,FALSE)","v":1},"En dehors",{"$f":"VLOOKUP(BS6,DEBUTSTEP!$BI$4:$BJ$33,2,FALSE)","v":1}]
[null,"SECU","Nombreuses erreurs",{"$f":"VLOOKUP(C7,DEBUTSTEP!$BK$4:$BL$33,2,FALSE)","v":1},"Nombreuses erreurs",{"$f":"VLOOKUP(E7,DEBUTSTEP!$BK$4:$BL$33,2,FALSE)","v":1},"Nombreuses erreurs",{"$f":"VLOOKUP(G7,DEBUTSTEP!$BK$4:$BL$33,2,FALSE)","v":1},"Nombreuses erreurs",{"$f":"VLOOKUP(I7,DEBUTSTEP!$BK$4:$BL$33,2,FALSE)","v":1},"Nombreuses erreurs",{"$f":"VLOOKUP(K7,DEBUTSTEP!$BK$4:$BL$33,2,FALSE)","v":1},"Nombreuses erreurs",{"$f":"VLOOKUP(M7,DEBUTSTEP!$BK$4:$BL$33,2,FALSE)","v":1},"Nombreuses erreurs",{"$f":"VLOOKUP(O7,DEBUTSTEP!$BK$4:$BL$33,2,FALSE)","v":1},"Nombreuses erreurs",{"$f":"VLOOKUP(Q7,DEBUTSTEP!$BK$4:$BL$33,2,FALSE)","v":1},"Nombreuses erreurs",{"$f":"VLOOKUP(S7,DEBUTSTEP!$BK$4:$BL$33,2,FALSE)","v":1},"Nombreuses erreurs",{"$f":"VLOOKUP(U7,DEBUTSTEP!$BK$4:$BL$33,2,FALSE)","v":1},"Nombreuses erreurs",{"$f":"VLOOKUP(W7,DEBUTSTEP!$BK$4:$BL$33,2,FALSE)","v":1},"Nombreuses erreurs",{"$f":"VLOOKUP(Y7,DEBUTSTEP!$BK$4:$BL$33,2,FALSE)","v":1},"Nombreuses erreurs",{"$f":"VLOOKUP(AA7,DEBUTSTEP!$BK$4:$BL$33,2,FALSE)","v":1},"Nombreuses erreurs",{"$f":"VLOOKUP(AC7,DEBUTSTEP!$BK$4:$BL$33,2,FALSE)","v":1},"Nombreuses erreurs",{"$f":"VLOOKUP(AE7,DEBUTSTEP!$BK$4:$BL$33,2,FALSE)","v":1},"Nombreuses erreurs",{"$f":"VLOOKUP(AG7,DEBUTSTEP!$BK$4:$BL$33,2,FALSE)","v":1},"Nombreuses erreurs",{"$f":"VLOOKUP(AI7,DEBUTSTEP!$BK$4:$BL$33,2,FALSE)","v":1},"Nombreuses erreurs",{"$f":"VLOOKUP(AK7,DEBUTSTEP!$BK$4:$BL$33,2,FALSE)","v":1},"Nombreuses erreurs",{"$f":"VLOOKUP(AM7,DEBUTSTEP!$BK$4:$BL$33,2,FALSE)","v":1},"Nombreuses erreurs",{"$f":"VLOOKUP(AO7,DEBUTSTEP!$BK$4:$BL$33,2,FALSE)","v":1},"Nombreuses erreurs",{"$f":"VLOOKUP(AQ7,DEBUTSTEP!$BK$4:$BL$33,2,FALSE)","v":1},"Nombreuses erreurs",{"$f":"VLOOKUP(AS7,DEBUTSTEP!$BK$4:$BL$33,2,FALSE)","v":1},"Nombreuses erreurs",{"$f":"VLOOKUP(AU7,DEBUTSTEP!$BK$4:$BL$33,2,FALSE)","v":1},"Nombreuses erreurs",{"$f":"VLOOKUP(AW7,DEBUTSTEP!$BK$4:$BL$33,2,FALSE)","v":1},"Nombreuses erreurs",{"$f":"VLOOKUP(AY7,DEBUTSTEP!$BK$4:$BL$33,2,FALSE)","v":1},"Nombreuses erreurs",{"$f":"VLOOKUP(BA7,DEBUTSTEP!$BK$4:$BL$33,2,FALSE)","v":1},"Nombreuses erreurs",{"$f":"VLOOKUP(BC7,DEBUTSTEP!$BK$4:$BL$33,2,FALSE)","v":1},"Nombreuses erreurs",{"$f":"VLOOKUP(BE7,DEBUTSTEP!$BK$4:$BL$33,2,FALSE)","v":1},"Nombreuses erreurs",{"$f":"VLOOKUP(BG7,DEBUTSTEP!$BK$4:$BL$33,2,FALSE)","v":1},"Nombreuses erreurs",{"$f":"VLOOKUP(BI7,DEBUTSTEP!$BK$4:$BL$33,2,FALSE)","v":1},"Nombreuses erreurs",{"$f":"VLOOKUP(BK7,DEBUTSTEP!$BK$4:$BL$33,2,FALSE)","v":1},"Nombreuses erreurs",{"$f":"VLOOKUP(BM7,DEBUTSTEP!$BK$4:$BL$33,2,FALSE)","v":1},"Nombreuses erreurs",{"$f":"VLOOKUP(BO7,DEBUTSTEP!$BK$4:$BL$33,2,FALSE)","v":1},"Nombreuses erreurs",{"$f":"VLOOKUP(BQ7,DEBUTSTEP!$BK$4:$BL$33,2,FALSE)","v":1},"Nombreuses erreurs",{"$f":"VLOOKUP(BS7,DEBUTSTEP!$BK$4:$BL$33,2,FALSE)","v":1}]
[null,"Continuité","Des arrêts",{"$f":"VLOOKUP(C8,DEBUTSTEP!$BM$4:$BN$33,2,FALSE)","v":1},"Quelques ruptures",{"$f":"VLOOKUP(E8,DEBUTSTEP!$BM$4:$BN$33,2,FALSE)","v":1.5},"Max 2 ruptures",{"$f":"VLOOKUP(G8,DEBUTSTEP!$BM$4:$BN$33,2,FALSE)","v":3},"Des arrêts",{"$f":"VLOOKUP(I8,DEBUTSTEP!$BM$4:$BN$33,2,FALSE)","v":1},"Des arrêts",{"$f":"VLOOKUP(K8,DEBUTSTEP!$BM$4:$BN$33,2,FALSE)","v":1},"Des arrêts",{"$f":"VLOOKUP(M8,DEBUTSTEP!$BM$4:$BN$33,2,FALSE)","v":1},"Des arrêts",{"$f":"VLOOKUP(O8,DEBUTSTEP!$BM$4:$BN$33,2,FALSE)","v":1},"Des arrêts",{"$f":"VLOOKUP(Q8,DEBUTSTEP!$BM$4:$BN$33,2,FALSE)","v":1},"Des arrêts",{"$f":"VLOOKUP(S8,DEBUTSTEP!$BM$4:$BN$33,2,FALSE)","v":1},"Des arrêts",{"$f":"VLOOKUP(U8,DEBUTSTEP!$BM$4:$BN$33,2,FALSE)","v":1},"Des arrêts",{"$f":"VLOOKUP(W8,DEBUTSTEP!$BM$4:$BN$33,2,FALSE)","v":1},"Des arrêts",{"$f":"VLOOKUP(Y8,DEBUTSTEP!$BM$4:$BN$33,2,FALSE)","v":1},"Des arrêts",{"$f":"VLOOKUP(AA8,DEBUTSTEP!$BM$4:$BN$33,2,FALSE)","v":1},"Des arrêts",{"$f":"VLOOKUP(AC8,DEBUTSTEP!$BM$4:$BN$33,2,FALSE)","v":1},"Des arrêts",{"$f":"VLOOKUP(AE8,DEBUTSTEP!$BM$4:$BN$33,2,FALSE)","v":1},"Des arrêts",{"$f":"VLOOKUP(AG8,DEBUTSTEP!$BM$4:$BN$33,2,FALSE)","v":1},"Des arrêts",{"$f":"VLOOKUP(AI8,DEBUTSTEP!$BM$4:$BN$33,2,FALSE)","v":1},"Des arrêts",{"$f":"VLOOKUP(AK8,DEBUTSTEP!$BM$4:$BN$33,2,FALSE)","v":1},"Des arrêts",{"$f":"VLOOKUP(AM8,DEBUTSTEP!$BM$4:$BN$33,2,FALSE)","v":1},"Des arrêts",{"$f":"VLOOKUP(AO8,DEBUTSTEP!$BM$4:$BN$33,2,FALSE)","v":1},"Des arrêts",{"$f":"VLOOKUP(AQ8,DEBUTSTEP!$BM$4:$BN$33,2,FALSE)","v":1},"Des arrêts",{"$f":"VLOOKUP(AS8,DEBUTSTEP!$BM$4:$BN$33,2,FALSE)","v":1},"Des arrêts",{"$f":"VLOOKUP(AU8,DEBUTSTEP!$BM$4:$BN$33,2,FALSE)","v":1},"Des arrêts",{"$f":"VLOOKUP(AW8,DEBUTSTEP!$BM$4:$BN$33,2,FALSE)","v":1},"Des arrêts",{"$f":"VLOOKUP(AY8,DEBUTSTEP!$BM$4:$BN$33,2,FALSE)","v":1},"Des arrêts",{"$f":"VLOOKUP(BA8,DEBUTSTEP!$BM$4:$BN$33,2,FALSE)","v":1},"Des arrêts",{"$f":"VLOOKUP(BC8,DEBUTSTEP!$BM$4:$BN$33,2,FALSE)","v":1},"Des arrêts",{"$f":"VLOOKUP(BE8,DEBUTSTEP!$BM$4:$BN$33,2,FALSE)","v":1},"Des arrêts",{"$f":"VLOOKUP(BG8,DEBUTSTEP!$BM$4:$BN$33,2,FALSE)","v":1},"Des arrêts",{"$f":"VLOOKUP(BI8,DEBUTSTEP!$BM$4:$BN$33,2,FALSE)","v":1},"Des arrêts",{"$f":"VLOOKUP(BK8,DEBUTSTEP!$BM$4:$BN$33,2,FALSE)","v":1},"Des arrêts",{"$f":"VLOOKUP(BM8,DEBUTSTEP!$BM$4:$BN$33,2,FALSE)","v":1},"Des arrêts",{"$f":"VLOOKUP(BO8,DEBUTSTEP!$BM$4:$BN$33,2,FALSE)","v":1},"Des arrêts",{"$f":"VLOOKUP(BQ8,DEBUTSTEP!$BM$4:$BN$33,2,FALSE)","v":1},"Des arrêts",{"$f":"VLOOKUP(BS8,DEBUTSTEP!$BM$4:$BN$33,2,FALSE)","v":1}]
[null,"Tonicité / Amplitude","Manque",{"$f":"VLOOKUP(C9,DEBUTSTEP!$BO$4:$BP$33,2,FALSE)","v":1},"Manque",{"$f":"VLOOKUP(E9,DEBUTSTEP!$BO$4:$BP$33,2,FALSE)","v":1},"Manque",{"$f":"VLOOKUP(G9,DEBUTSTEP!$BO$4:$BP$33,2,FALSE)","v":1},"Manque",{"$f":"VLOOKUP(I9,DEBUTSTEP!$BO$4:$BP$33,2,FALSE)","v":1},"Manque",{"$f":"VLOOKUP(K9,DEBUTSTEP!$BO$4:$BP$33,2,FALSE)","v":1},"Manque",{"$f":"VLOOKUP(M9,DEBUTSTEP!$BO$4:$BP$33,2,FALSE)","v":1},"Maintenue",{"$f":"VLOOKUP(O9,DEBUTSTEP!$BO$4:$BP$33,2,FALSE)","v":4},"Manque",{"$f":"VLOOKUP(Q9,DEBUTSTEP!$BO$4:$BP$33,2,FALSE)","v":1},"Manque",{"$f":"VLOOKUP(S9,DEBUTSTEP!$BO$4:$BP$33,2,FALSE)","v":1},"Manque",{"$f":"VLOOKUP(U9,DEBUTSTEP!$BO$4:$BP$33,2,FALSE)","v":1},"Manque",{"$f":"VLOOKUP(W9,DEBUTSTEP!$BO$4:$BP$33,2,FALSE)","v":1},"Manque",{"$f":"VLOOKUP(Y9,DEBUTSTEP!$BO$4:$BP$33,2,FALSE)","v":1},"Manque",{"$f":"VLOOKUP(AA9,DEBUTSTEP!$BO$4:$BP$33,2,FALSE)","v":1},"Manque",{"$f":"VLOOKUP(AC9,DEBUTSTEP!$BO$4:$BP$33,2,FALSE)","v":1},"Manque",{"$f":"VLOOKUP(AE9,DEBUTSTEP!$BO$4:$BP$33,2,FALSE)","v":1},"Manque",{"$f":"VLOOKUP(AG9,DEBUTSTEP!$BO$4:$BP$33,2,FALSE)","v":1},"Manque",{"$f":"VLOOKUP(AI9,DEBUTSTEP!$BO$4:$BP$33,2,FALSE)","v":1},"Manque",{"$f":"VLOOKUP(AK9,DEBUTSTEP!$BO$4:$BP$33,2,FALSE)","v":1},"Manque",{"$f":"VLOOKUP(AM9,DEBUTSTEP!$BO$4:$BP$33,2,FALSE)","v":1},"Manque",{"$f":"VLOOKUP(AO9,DEBUTSTEP!$BO$4:$BP$33,2,FALSE)","v":1},"Manque",{"$f":"VLOOKUP(AQ9,DEBUTSTEP!$BO$4:$BP$33,2,FALSE)","v":1},"Manque",{"$f":"VLOOKUP(AS9,DEBUTSTEP!$BO$4:$BP$33,2,FALSE)","v":1},"Manque",{"$f":"VLOOKUP(AU9,DEBUTSTEP!$BO$4:$BP$33,2,FALSE)","v":1},"Manque",{"$f":"VLOOKUP(AW9,DEBUTSTEP!$BO$4:$BP$33,2,FALSE)","v":1},"Manque",{"$f":"VLOOKUP(AY9,DEBUTSTEP!$BO$4:$BP$33,2,FALSE)","v":1},"Manque",{"$f":"VLOOKUP(BA9,DEBUTSTEP!$BO$4:$BP$33,2,FALSE)","v":1},"Manque",{"$f":"VLOOKUP(BC9,DEBUTSTEP!$BO$4:$BP$33,2,FALSE)","v":1},"Manque",{"$f":"VLOOKUP(BE9,DEBUTSTEP!$BO$4:$BP$33,2,FALSE)","v":1},"Manque",{"$f":"VLOOKUP(BG9,DEBUTSTEP!$BO$4:$BP$33,2,FALSE)","v":1},"Manque",{"$f":"VLOOKUP(BI9,DEBUTSTEP!$BO$4:$BP$33,2,FALSE)","v":1},"Manque",{"$f":"VLOOKUP(BK9,DEBUTSTEP!$BO$4:$BP$33,2,FALSE)","v":1},"Manque",{"$f":"VLOOKUP(BM9,DEBUTSTEP!$BO$4:$BP$33,2,FALSE)","v":1},"Manque",{"$f":"VLOOKUP(BO9,DEBUTSTEP!$BO$4:$BP$33,2,FALSE)","v":1},"Manque",{"$f":"VLOOKUP(BQ9,DEBUTSTEP!$BO$4:$BP$33,2,FALSE)","v":1},"Manque",{"$f":"VLOOKUP(BS9,DEBUTSTEP!$BO$4:$BP$33,2,FALSE)","v":1}]
["ANALYSER","Choix des paramètres","Peu de référence",{"$f":"VLOOKUP(C10,DEBUTSTEP!$BQ$4:$BR$33,2,FALSE)","v":0.5},"Peu de référence",{"$f":"VLOOKUP(E10,DEBUTSTEP!$BQ$4:$BR$33,2,FALSE)","v":0.5},"Peu de référence",{"$f":"VLOOKUP(G10,DEBUTSTEP!$BQ$4:$BR$33,2,FALSE)","v":0.5},"Peu de référence",{"$f":"VLOOKUP(I10,DEBUTSTEP!$BQ$4:$BR$33,2,FALSE)","v":0.5},"Peu de référence",{"$f":"VLOOKUP(K10,DEBUTSTEP!$BQ$4:$BR$33,2,FALSE)","v":0.5},"Peu de référence",{"$f":"VLOOKUP(M10,DEBUTSTEP!$BQ$4:$BR$33,2,FALSE)","v":0.5},"Peu de référence",{"$f":"VLOOKUP(O10,DEBUTSTEP!$BQ$4:$BR$33,2,FALSE)","v":0.5},"Peu de référence",{"$f":"VLOOKUP(Q10,DEBUTSTEP!$BQ$4:$BR$33,2,FALSE)","v":0.5},"Peu de référence",{"$f":"VLOOKUP(S10,DEBUTSTEP!$BQ$4:$BR$33,2,FALSE)","v":0.5},"Peu de référence",{"$f":"VLOOKUP(U10,DEBUTSTEP!$BQ$4:$BR$33,2,FALSE)","v":0.5},"Peu de référence",{"$f":"VLOOKUP(W10,DEBUTSTEP!$BQ$4:$BR$33,2,FALSE)","v":0.5},"Peu de référence",{"$f":"VLOOKUP(Y10,DEBUTSTEP!$BQ$4:$BR$33,2,FALSE)","v":0.5},"Peu de référence",{"$f":"VLOOKUP(AA10,DEBUTSTEP!$BQ$4:$BR$33,2,FALSE)","v":0.5},"Peu de référence",{"$f":"VLOOKUP(AC10,DEBUTSTEP!$BQ$4:$BR$33,2,FALSE)","v":0.5},"Peu de référence",{"$f":"VLOOKUP(AE10,DEBUTSTEP!$BQ$4:$BR$33,2,FALSE)","v":0.5},"Peu de référence",{"$f":"VLOOKUP(AG10,DEBUTSTEP!$BQ$4:$BR$33,2,FALSE)","v":0.5},"Peu de référence",{"$f":"VLOOKUP(AI10,DEBUTSTEP!$BQ$4:$BR$33,2,FALSE)","v":0.5},"Peu de référence",{"$f":"VLOOKUP(AK10,DEBUTSTEP!$BQ$4:$BR$33,2,FALSE)","v":0.5},"Peu de référence",{"$f":"VLOOKUP(AM10,DEBUTSTEP!$BQ$4:$BR$33,2,FALSE)","v":0.5},"Peu de référence",{"$f":"VLOOKUP(AO10,DEBUTSTEP!$BQ$4:$BR$33,2,FALSE)","v":0.5},"Peu de référence",{"$f":"VLOOKUP(AQ10,DEBUTSTEP!$BQ$4:$BR$33,2,FALSE)","v":0.5},"Peu de référence",{"$f":"VLOOKUP(AS10,DEBUTSTEP!$BQ$4:$BR$33,2,FALSE)","v":0.5},"Peu de référence",{"$f":"VLOOKUP(AU10,DEBUTSTEP!$BQ$4:$BR$33,2,FALSE)","v":0.5},"Peu de référence",{"$f":"VLOOKUP(AW10,DEBUTSTEP!$BQ$4:$BR$33,2,FALSE)","v":0.5},"Peu de référence",{"$f":"VLOOKUP(AY10,DEBUTSTEP!$BQ$4:$BR$33,2,FALSE)","v":0.5},"Peu de référence",{"$f":"VLOOKUP(BA10,DEBUTSTEP!$BQ$4:$BR$33,2,FALSE)","v":0.5},"Peu de référence",{"$f":"VLOOKUP(BC10,DEBUTSTEP!$BQ$4:$BR$33,2,FALSE)","v":0.5},"Peu de référence",{"$f":"VLOOKUP(BE10,DEBUTSTEP!$BQ$4:$BR$33,2,FALSE)","v":0.5},"Peu de référence",{"$f":"VLOOKUP(BG10,DEBUTSTEP!$BQ$4:$BR$33,2,FALSE)","v":0.5},"Peu de référence",{"$f":"VLOOKUP(BI10,DEBUTSTEP!$BQ$4:$BR$33,2,FALSE)","v":0.5},"Peu de référence",{"$f":"VLOOKUP(BK10,DEBUTSTEP!$BQ$4:$BR$33,2,FALSE)","v":0.5},"Peu de référence",{"$f":"VLOOKUP(BM10,DEBUTSTEP!$BQ$4:$BR$33,2,FALSE)","v":0.5},"Peu de référence",{"$f":"VLOOKUP(BO10,DEBUTSTEP!$BQ$4:$BR$33,2,FALSE)","v":0.5},"Peu de référence",{"$f":"VLOOKUP(BQ10,DEBUTSTEP!$BQ$4:$BR$33,2,FALSE)","v":0.5},"Peu de référence",{"$f":"VLOOKUP(BS10,DEBUTSTEP!$BQ$4:$BR$33,2,FALSE)","v":0.5}]
[null,"Ressentis","Peu de référence",{"$f":"VLOOKUP(C11,DEBUTSTEP!$BS$4:$BT$33,2,FALSE)","v":0.5},"Peu de référence",{"$f":"VLOOKUP(E11,DEBUTSTEP!$BS$4:$BT$33,2,FALSE)","v":0.5},"Peu de référence",{"$f":"VLOOKUP(G11,DEBUTSTEP!$BS$4:$BT$33,2,FALSE)","v":0.5},"Peu de référence",{"$f":"VLOOKUP(I11,DEBUTSTEP!$BS$4:$BT$33,2,FALSE)","v":0.5},"Peu de référence",{"$f":"VLOOKUP(K11,DEBUTSTEP!$BS$4:$BT$33,2,FALSE)","v":0.5},"Peu de référence",{"$f":"VLOOKUP(M11,DEBUTSTEP!$BS$4:$BT$33,2,FALSE)","v":0.5},"Peu de référence",{"$f":"VLOOKUP(O11,DEBUTSTEP!$BS$4:$BT$33,2,FALSE)","v":0.5},"Peu de référence",{"$f":"VLOOKUP(Q11,DEBUTSTEP!$BS$4:$BT$33,2,FALSE)","v":0.5},"Peu de référence",{"$f":"VLOOKUP(S11,DEBUTSTEP!$BS$4:$BT$33,2,FALSE)","v":0.5},"Peu de référence",{"$f":"VLOOKUP(U11,DEBUTSTEP!$BS$4:$BT$33,2,FALSE)","v":0.5},"Peu de référence",{"$f":"VLOOKUP(W11,DEBUTSTEP!$BS$4:$BT$33,2,FALSE)","v":0.5},"Peu de référence",{"$f":"VLOOKUP(Y11,DEBUTSTEP!$BS$4:$BT$33,2,FALSE)","v":0.5},"Peu de référence",{"$f":"VLOOKUP(AA11,DEBUTSTEP!$BS$4:$BT$33,2,FALSE)","v":0.5},"Peu de référence",{"$f":"VLOOKUP(AC11,DEBUTSTEP!$BS$4:$BT$33,2,FALSE)","v":0.5},"Peu de référence",{"$f":"VLOOKUP(AE11,DEBUTSTEP!$BS$4:$BT$33,2,FALSE)","v":0.5},"Peu de référence",{"$f":"VLOOKUP(AG11,DEBUTSTEP!$BS$4:$BT$33,2,FALSE)","v":0.5},"Peu de référence",{"$f":"VLOOKUP(AI11,DEBUTSTEP!$BS$4:$BT$33,2,FALSE)","v":0.5},"Peu de référence",{"$f":"VLOOKUP(AK11,DEBUTSTEP!$BS$4:$BT$33,2,FALSE)","v":0.5},"Peu de référence",{"$f":"VLOOKUP(AM11,DEBUTSTEP!$BS$4:$BT$33,2,FALSE)","v":0.5},"Peu de référence",{"$f":"VLOOKUP(AO11,DEBUTSTEP!$BS$4:$BT$33,2,FALSE)","v":0.5},"Peu de référence",{"$f":"VLOOKUP(AQ11,DEBUTSTEP!$BS$4:$BT$33,2,FALSE)","v":0.5},"Peu de référence",{"$f":"VLOOKUP(AS11,DEBUTSTEP!$BS$4:$BT$33,2,FALSE)","v":0.5},"Peu de référence",{"$f":"VLOOKUP(AU11,DEBUTSTEP!$BS$4:$BT$33,2,FALSE)","v":0.5},"Peu de référence",{"$f":"VLOOKUP(AW11,DEBUTSTEP!$BS$4:$BT$33,2,FALSE)","v":0.5},"Peu de référence",{"$f":"VLOOKUP(AY11,DEBUTSTEP!$BS$4:$BT$33,2,FALSE)","v":0.5},"Peu de référence",{"$f":"VLOOKUP(BA11,DEBUTSTEP!$BS$4:$BT$33,2,FALSE)","v":0.5},"Peu de référence",{"$f":"VLOOKUP(BC11,DEBUTSTEP!$BS$4:$BT$33,2,FALSE)","v":0.5},"Peu de référence",{"$f":"VLOOKUP(BE11,DEBUTSTEP!$BS$4:$BT$33,2,FALSE)","v":0.5},"Peu de référence",{"$f":"VLOOKUP(BG11,DEBUTSTEP!$BS$4:$BT$33,2,FALSE)","v":0.5},"Peu de référence",{"$f":"VLOOKUP(BI11,DEBUTSTEP!$BS$4:$BT$33,2,FALSE)","v":0.5},"Peu de référence",{"$f":"VLOOKUP(BK11,DEBUTSTEP!$BS$4:$BT$33,2,FALSE)","v":0.5},"Peu de référence",{"$f":"VLOOKUP(BM11,DEBUTSTEP!$BS$4:$BT$33,2,FALSE)","v":0.5},"Peu de référence",{"$f":"VLOOKUP(BO11,DEBUTSTEP!$BS$4:$BT$33,2,FALSE)","v":0.5},"Peu de référence",{"$f":"VLOOKUP(BQ11,DEBUTSTEP!$BS$4:$BT$33,2,FALSE)","v":0.5},"Peu de référence",{"$f":"VLOOKUP(BS11,DEBUTSTEP!$BS$4:$BT$33,2,FALSE)","v":0.5}]
[]
[null,"NOTE",{"$f":"IF(OR(D4=\"x\",D5=\"x\",D6=\"x\",D7=\"x\",D8=\"x\",D9=\"x\",,D10=\"x\",,D11=\"x\"),\"ABSENT\",SUMIF(D4,\"<>X\")+SUMIF(D5,\"<>X\")+SUMIF(D6,\"<>X\")+SUMIF(D7,\"<>X\")+SUMIF(D8,\"<>X\")+SUMIF(D9,\"<>X\")+(SUMIF(D10,\"<>X\")+(SUMIF(D11,\"<>X\"))))","v":8.5},null,{"$f":"IF(OR(F4=\"x\",F5=\"x\",F6=\"x\",F7=\"x\",F8=\"x\",F9=\"x\",,F10=\"x\",,F11=\"x\"),\"ABSENT\",SUMIF(F4,\"<>X\")+SUMIF(F5,\"<>X\")+SUMIF(F6,\"<>X\")+SUMIF(F7,\"<>X\")+SUMIF(F8,\"<>X\")+SUMIF(F9,\"<>X\")+(SUMIF(F10,\"<>X\")+(SUMIF(F11,\"<>X\"))))","v":7.5},null,{"$f":"IF(OR(H4=\"x\",H5=\"x\",H6=\"x\",H7=\"x\",H8=\"x\",H9=\"x\",,H10=\"x\",,H11=\"x\"),\"ABSENT\",SUMIF(H4,\"<>X\")+SUMIF(H5,\"<>X\")+SUMIF(H6,\"<>X\")+SUMIF(H7,\"<>X\")+SUMIF(H8,\"<>X\")+SUMIF(H9,\"<>X\")+(SUMIF(H10,\"<>X\")+(SUMIF(H11,\"<>X\"))))","v":8.5},null,{"$f":"IF(OR(J4=\"x\",J5=\"x\",J6=\"x\",J7=\"x\",J8=\"x\",J9=\"x\",,J10=\"x\",,J11=\"x\"),\"ABSENT\",SUMIF(J4,\"<>X\")+SUMIF(J5,\"<>X\")+SUMIF(J6,\"<>X\")+SUMIF(J7,\"<>X\")+SUMIF(J8,\"<>X\")+SUMIF(J9,\"<>X\")+(SUMIF(J10,\"<>X\")+(SUMIF(J11,\"<>X\"))))","v":6},null,{"$f":"IF(OR(L4=\"x\",L5=\"x\",L6=\"x\",L7=\"x\",L8=\"x\",L9=\"x\",,L10=\"x\",,L11=\"x\"),\"ABSENT\",SUMIF(L4,\"<>X\")+SUMIF(L5,\"<>X\")+SUMIF(L6,\"<>X\")+SUMIF(L7,\"<>X\")+SUMIF(L8,\"<>X\")+SUMIF(L9,\"<>X\")+(SUMIF(L10,\"<>X\")+(SUMIF(L11,\"<>X\"))))","v":6},null,{"$f":"IF(OR(N4=\"x\",N5=\"x\",N6=\"x\",N7=\"x\",N8=\"x\",N9=\"x\",,N10=\"x\",,N11=\"x\"),\"ABSENT\",SUMIF(N4,\"<>X\")+SUMIF(N5,\"<>X\")+SUMIF(N6,\"<>X\")+SUMIF(N7,\"<>X\")+SUMIF(N8,\"<>X\")+SUMIF(N9,\"<>X\")+(SUMIF(N10,\"<>X\")+(SUMIF(N11,\"<>X\"))))","v":6},null,{"$f":"IF(OR(P4=\"x\",P5=\"x\",P6=\"x\",P7=\"x\",P8=\"x\",P9=\"x\",,P10=\"x\",,P11=\"x\"),\"ABSENT\",SUMIF(P4,\"<>X\")+SUMIF(P5,\"<>X\")+SUMIF(P6,\"<>X\")+SUMIF(P7,\"<>X\")+SUMIF(P8,\"<>X\")+SUMIF(P9,\"<>X\")+(SUMIF(P10,\"<>X\")+(SUMIF(P11,\"<>X\"))))","v":10},null,{"$f":"IF(OR(R4=\"x\",R5=\"x\",R6=\"x\",R7=\"x\",R8=\"x\",R9=\"x\",,R10=\"x\",,R11=\"x\"),\"ABSENT\",SUMIF(R4,\"<>X\")+SUMIF(R5,\"<>X\")+SUMIF(R6,\"<>X\")+SUMIF(R7,\"<>X\")+SUMIF(R8,\"<>X\")+SUMIF(R9,\"<>X\")+(SUMIF(R10,\"<>X\")+(SUMIF(R11,\"<>X\"))))","v":5.5},null,{"$f":"IF(OR(T4=\"x\",T5=\"x\",T6=\"x\",T7=\"x\",T8=\"x\",T9=\"x\",,T10=\"x\",,T11=\"x\"),\"ABSENT\",SUMIF(T4,\"<>X\")+SUMIF(T5,\"<>X\")+SUMIF(T6,\"<>X\")+SUMIF(T7,\"<>X\")+SUMIF(T8,\"<>X\")+SUMIF(T9,\"<>X\")+(SUMIF(T10,\"<>X\")+(SUMIF(T11,\"<>X\"))))","v":6},null,{"$f":"IF(OR(V4=\"x\",V5=\"x\",V6=\"x\",V7=\"x\",V8=\"x\",V9=\"x\",,V10=\"x\",,V11=\"x\"),\"ABSENT\",SUMIF(V4,\"<>X\")+SUMIF(V5,\"<>X\")+SUMIF(V6,\"<>X\")+SUMIF(V7,\"<>X\")+SUMIF(V8,\"<>X\")+SUMIF(V9,\"<>X\")+(SUMIF(V10,\"<>X\")+(SUMIF(V11,\"<>X\"))))","v":6},null,{"$f":"IF(OR(X4=\"x\",X5=\"x\",X6=\"x\",X7=\"x\",X8=\"x\",X9=\"x\",,X10=\"x\",,X11=\"x\"),\"ABSENT\",SUMIF(X4,\"<>X\")+SUMIF(X5,\"<>X\")+SUMIF(X6,\"<>X\")+SUMIF(X7,\"<>X\")+SUMIF(X8,\"<>X\")+SUMIF(X9,\"<>X\")+(SUMIF(X10,\"<>X\")+(SUMIF(X11,\"<>X\"))))","v":6},null,{"$f":"IF(OR(Z4=\"x\",Z5=\"x\",Z6=\"x\",Z7=\"x\",Z8=\"x\",Z9=\"x\",,Z10=\"x\",,Z11=\"x\"),\"ABSENT\",SUMIF(Z4,\"<>X\")+SUMIF(Z5,\"<>X\")+SUMIF(Z6,\"<>X\")+SUMIF(Z7,\"<>X\")+SUMIF(Z8,\"<>X\")+SUMIF(Z9,\"<>X\")+(SUMIF(Z10,\"<>X\")+(SUMIF(Z11,\"<>X\"))))","v":6},null,{"$f":"IF(OR(AB4=\"x\",AB5=\"x\",AB6=\"x\",AB7=\"x\",AB8=\"x\",AB9=\"x\",,AB10=\"x\",,AB11=\"x\"),\"ABSENT\",SUMIF(AB4,\"<>X\")+SUMIF(AB5,\"<>X\")+SUMIF(AB6,\"<>X\")+SUMIF(AB7,\"<>X\")+SUMIF(AB8,\"<>X\")+SUMIF(AB9,\"<>X\")+(SUMIF(AB10,\"<>X\")+(SUMIF(AB11,\"<>X\"))))","v":6},null,{"$f":"IF(OR(AD4=\"x\",AD5=\"x\",AD6=\"x\",AD7=\"x\",AD8=\"x\",AD9=\"x\",,AD10=\"x\",,AD11=\"x\"),\"ABSENT\",SUMIF(AD4,\"<>X\")+SUMIF(AD5,\"<>X\")+SUMIF(AD6,\"<>X\")+SUMIF(AD7,\"<>X\")+SUMIF(AD8,\"<>X\")+SUMIF(AD9,\"<>X\")+(SUMIF(AD10,\"<>X\")+(SUMIF(AD11,\"<>X\"))))","v":6},null,{"$f":"IF(OR(AF4=\"x\",AF5=\"x\",AF6=\"x\",AF7=\"x\",AF8=\"x\",AF9=\"x\",,AF10=\"x\",,AF11=\"x\"),\"ABSENT\",SUMIF(AF4,\"<>X\")+SUMIF(AF5,\"<>X\")+SUMIF(AF6,\"<>X\")+SUMIF(AF7,\"<>X\")+SUMIF(AF8,\"<>X\")+SUMIF(AF9,\"<>X\")+(SUMIF(AF10,\"<>X\")+(SUMIF(AF11,\"<>X\"))))","v":6},null,{"$f":"IF(OR(AH4=\"x\",AH5=\"x\",AH6=\"x\",AH7=\"x\",AH8=\"x\",AH9=\"x\",,AH10=\"x\",,AH11=\"x\"),\"ABSENT\",SUMIF(AH4,\"<>X\")+SUMIF(AH5,\"<>X\")+SUMIF(AH6,\"<>X\")+SUMIF(AH7,\"<>X\")+SUMIF(AH8,\"<>X\")+SUMIF(AH9,\"<>X\")+(SUMIF(AH10,\"<>X\")+(SUMIF(AH11,\"<>X\"))))","v":6},null,{"$f":"IF(OR(AJ4=\"x\",AJ5=\"x\",AJ6=\"x\",AJ7=\"x\",AJ8=\"x\",AJ9=\"x\",,AJ10=\"x\",,AJ11=\"x\"),\"ABSENT\",SUMIF(AJ4,\"<>X\")+SUMIF(AJ5,\"<>X\")+SUMIF(AJ6,\"<>X\")+SUMIF(AJ7,\"<>X\")+SUMIF(AJ8,\"<>X\")+SUMIF(AJ9,\"<>X\")+(SUMIF(AJ10,\"<>X\")+(SUMIF(AJ11,\"<>X\"))))","v":6},null,{"$f":"IF(OR(AL4=\"x\",AL5=\"x\",AL6=\"x\",AL7=\"x\",AL8=\"x\",AL9=\"x\",,AL10=\"x\",,AL11=\"x\"),\"ABSENT\",SUMIF(AL4,\"<>X\")+SUMIF(AL5,\"<>X\")+SUMIF(AL6,\"<>X\")+SUMIF(AL7,\"<>X\")+SUMIF(AL8,\"<>X\")+SUMIF(AL9,\"<>X\")+(SUMIF(AL10,\"<>X\")+(SUMIF(AL11,\"<>X\"))))","v":6},null,{"$f":"IF(OR(AN4=\"x\",AN5=\"x\",AN6=\"x\",AN7=\"x\",AN8=\"x\",AN9=\"x\",,AN10=\"x\",,AN11=\"x\"),\"ABSENT\",SUMIF(AN4,\"<>X\")+SUMIF(AN5,\"<>X\")+SUMIF(AN6,\"<>X\")+SUMIF(AN7,\"<>X\")+SUMIF(AN8,\"<>X\")+SUMIF(AN9,\"<>X\")+(SUMIF(AN10,\"<>X\")+(SUMIF(AN11,\"<>X\"))))","v":6},null,{"$f":"IF(OR(AP4=\"x\",AP5=\"x\",AP6=\"x\",AP7=\"x\",AP8=\"x\",AP9=\"x\",,AP10=\"x\",,AP11=\"x\"),\"ABSENT\",SUMIF(AP4,\"<>X\")+SUMIF(AP5,\"<>X\")+SUMIF(AP6,\"<>X\")+SUMIF(AP7,\"<>X\")+SUMIF(AP8,\"<>X\")+SUMIF(AP9,\"<>X\")+(SUMIF(AP10,\"<>X\")+(SUMIF(AP11,\"<>X\"))))","v":6},null,{"$f":"IF(OR(AR4=\"x\",AR5=\"x\",AR6=\"x\",AR7=\"x\",AR8=\"x\",AR9=\"x\",,AR10=\"x\",,AR11=\"x\"),\"ABSENT\",SUMIF(AR4,\"<>X\")+SUMIF(AR5,\"<>X\")+SUMIF(AR6,\"<>X\")+SUMIF(AR7,\"<>X\")+SUMIF(AR8,\"<>X\")+SUMIF(AR9,\"<>X\")+(SUMIF(AR10,\"<>X\")+(SUMIF(AR11,\"<>X\"))))","v":6},null,{"$f":"IF(OR(AT4=\"x\",AT5=\"x\",AT6=\"x\",AT7=\"x\",AT8=\"x\",AT9=\"x\",,AT10=\"x\",,AT11=\"x\"),\"ABSENT\",SUMIF(AT4,\"<>X\")+SUMIF(AT5,\"<>X\")+SUMIF(AT6,\"<>X\")+SUMIF(AT7,\"<>X\")+SUMIF(AT8,\"<>X\")+SUMIF(AT9,\"<>X\")+(SUMIF(AT10,\"<>X\")+(SUMIF(AT11,\"<>X\"))))","v":6},null,{"$f":"IF(OR(AV4=\"x\",AV5=\"x\",AV6=\"x\",AV7=\"x\",AV8=\"x\",AV9=\"x\",,AV10=\"x\",,AV11=\"x\"),\"ABSENT\",SUMIF(AV4,\"<>X\")+SUMIF(AV5,\"<>X\")+SUMIF(AV6,\"<>X\")+SUMIF(AV7,\"<>X\")+SUMIF(AV8,\"<>X\")+SUMIF(AV9,\"<>X\")+(SUMIF(AV10,\"<>X\")+(SUMIF(AV11,\"<>X\"))))","v":6},null,{"$f":"IF(OR(AX4=\"x\",AX5=\"x\",AX6=\"x\",AX7=\"x\",AX8=\"x\",AX9=\"x\",,AX10=\"x\",,AX11=\"x\"),\"ABSENT\",SUMIF(AX4,\"<>X\")+SUMIF(AX5,\"<>X\")+SUMIF(AX6,\"<>X\")+SUMIF(AX7,\"<>X\")+SUMIF(AX8,\"<>X\")+SUMIF(AX9,\"<>X\")+(SUMIF(AX10,\"<>X\")+(SUMIF(AX11,\"<>X\"))))","v":6},null,{"$f":"IF(OR(AZ4=\"x\",AZ5=\"x\",AZ6=\"x\",AZ7=\"x\",AZ8=\"x\",AZ9=\"x\",,AZ10=\"x\",,AZ11=\"x\"),\"ABSENT\",SUMIF(AZ4,\"<>X\")+SUMIF(AZ5,\"<>X\")+SUMIF(AZ6,\"<>X\")+SUMIF(AZ7,\"<>X\")+SUMIF(AZ8,\"<>X\")+SUMIF(AZ9,\"<>X\")+(SUMIF(AZ10,\"<>X\")+(SUMIF(AZ11,\"<>X\"))))","v":6},null,{"$f":"IF(OR(BB4=\"x\",BB5=\"x\",BB6=\"x\",BB7=\"x\",BB8=\"x\",BB9=\"x\",,BB10=\"x\",,BB11=\"x\"),\"ABSENT\",SUMIF(BB4,\"<>X\")+SUMIF(BB5,\"<>X\")+SUMIF(BB6,\"<>X\")+SUMIF(BB7,\"<>X\")+SUMIF(BB8,\"<>X\")+SUMIF(BB9,\"<>X\")+(SUMIF(BB10,\"<>X\")+(SUMIF(BB11,\"<>X\"))))","v":6},null,{"$f":"IF(OR(BD4=\"x\",BD5=\"x\",BD6=\"x\",BD7=\"x\",BD8=\"x\",BD9=\"x\",,BD10=\"x\",,BD11=\"x\"),\"ABSENT\",SUMIF(BD4,\"<>X\")+SUMIF(BD5,\"<>X\")+SUMIF(BD6,\"<>X\")+SUMIF(BD7,\"<>X\")+SUMIF(BD8,\"<>X\")+SUMIF(BD9,\"<>X\")+(SUMIF(BD10,\"<>X\")+(SUMIF(BD11,\"<>X\"))))","v":6},null,{"$f":"IF(OR(BF4=\"x\",BF5=\"x\",BF6=\"x\",BF7=\"x\",BF8=\"x\",BF9=\"x\",,BF10=\"x\",,BF11=\"x\"),\"ABSENT\",SUMIF(BF4,\"<>X\")+SUMIF(BF5,\"<>X\")+SUMIF(BF6,\"<>X\")+SUMIF(BF7,\"<>X\")+SUMIF(BF8,\"<>X\")+SUMIF(BF9,\"<>X\")+(SUMIF(BF10,\"<>X\")+(SUMIF(BF11,\"<>X\"))))","v":6},null,{"$f":"IF(OR(BH4=\"x\",BH5=\"x\",BH6=\"x\",BH7=\"x\",BH8=\"x\",BH9=\"x\",,BH10=\"x\",,BH11=\"x\"),\"ABSENT\",SUMIF(BH4,\"<>X\")+SUMIF(BH5,\"<>X\")+SUMIF(BH6,\"<>X\")+SUMIF(BH7,\"<>X\")+SUMIF(BH8,\"<>X\")+SUMIF(BH9,\"<>X\")+(SUMIF(BH10,\"<>X\")+(SUMIF(BH11,\"<>X\"))))","v":6},null,{"$f":"IF(OR(BJ4=\"x\",BJ5=\"x\",BJ6=\"x\",BJ7=\"x\",BJ8=\"x\",BJ9=\"x\",,BJ10=\"x\",,BJ11=\"x\"),\"ABSENT\",SUMIF(BJ4,\"<>X\")+SUMIF(BJ5,\"<>X\")+SUMIF(BJ6,\"<>X\")+SUMIF(BJ7,\"<>X\")+SUMIF(BJ8,\"<>X\")+SUMIF(BJ9,\"<>X\")+(SUMIF(BJ10,\"<>X\")+(SUMIF(BJ11,\"<>X\"))))","v":6},null,{"$f":"IF(OR(BL4=\"x\",BL5=\"x\",BL6=\"x\",BL7=\"x\",BL8=\"x\",BL9=\"x\",,BL10=\"x\",,BL11=\"x\"),\"ABSENT\",SUMIF(BL4,\"<>X\")+SUMIF(BL5,\"<>X\")+SUMIF(BL6,\"<>X\")+SUMIF(BL7,\"<>X\")+SUMIF(BL8,\"<>X\")+SUMIF(BL9,\"<>X\")+(SUMIF(BL10,\"<>X\")+(SUMIF(BL11,\"<>X\"))))","v":6},null,{"$f":"IF(OR(BN4=\"x\",BN5=\"x\",BN6=\"x\",BN7=\"x\",BN8=\"x\",BN9=\"x\",,BN10=\"x\",,BN11=\"x\"),\"ABSENT\",SUMIF(BN4,\"<>X\")+SUMIF(BN5,\"<>X\")+SUMIF(BN6,\"<>X\")+SUMIF(BN7,\"<>X\")+SUMIF(BN8,\"<>X\")+SUMIF(BN9,\"<>X\")+(SUMIF(BN10,\"<>X\")+(SUMIF(BN11,\"<>X\"))))","v":6},null,{"$f":"IF(OR(BP4=\"x\",BP5=\"x\",BP6=\"x\",BP7=\"x\",BP8=\"x\",BP9=\"x\",,BP10=\"x\",,BP11=\"x\"),\"ABSENT\",SUMIF(BP4,\"<>X\")+SUMIF(BP5,\"<>X\")+SUMIF(BP6,\"<>X\")+SUMIF(BP7,\"<>X\")+SUMIF(BP8,\"<>X\")+SUMIF(BP9,\"<>X\")+(SUMIF(BP10,\"<>X\")+(SUMIF(BP11,\"<>X\"))))","v":6},null,{"$f":"IF(OR(BR4=\"x\",BR5=\"x\",BR6=\"x\",BR7=\"x\",BR8=\"x\",BR9=\"x\",,BR10=\"x\",,BR11=\"x\"),\"ABSENT\",SUMIF(BR4,\"<>X\")+SUMIF(BR5,\"<>X\")+SUMIF(BR6,\"<>X\")+SUMIF(BR7,\"<>X\")+SUMIF(BR8,\"<>X\")+SUMIF(BR9,\"<>X\")+(SUMIF(BR10,\"<>X\")+(SUMIF(BR11,\"<>X\"))))","v":6},null,{"$f":"IF(OR(BT4=\"x\",BT5=\"x\",BT6=\"x\",BT7=\"x\",BT8=\"x\",BT9=\"x\",,BT10=\"x\",,BT11=\"x\"),\"ABSENT\",SUMIF(BT4,\"<>X\")+SUMIF(BT5,\"<>X\")+SUMIF(BT6,\"<>X\")+SUMIF(BT7,\"<>X\")+SUMIF(BT8,\"<>X\")+SUMIF(BT9,\"<>X\")+(SUMIF(BT10,\"<>X\")+(SUMIF(BT11,\"<>X\"))))","v":6}]

{"sheet":"REFERENTIELS","index":5,"n_rows":32,"n_cols":42,"rows_kept":32,"cut":false,"hidden":false,"merged":[[15,2,15,4],[15,5,15,10],[16,0,17,0],[16,1,17,1],[16,2,17,4],[16,5,17,7],[16,8,17,10],[30,2,30,4],[30,5,30,7],[30,8,30,10],[18,2,18,4],[18,5,18,7],[18,8,18,10],[19,2,19,4],[19,5,19,7],[19,8,19,10],[28,2,28,4],[28,5,28,7],[28,8,28,10],[29,2,29,4],[29,5,29,7],[29,8,29,10],[26,0,27,0],[26,1,27,1],[9,2,9,4],[9,5,9,7],[9,8,9,10],[6,2,7,4],[6,5,7,7],[6,8,7,10],[13,0,13,1],[13,2,13,10],[14,0,14,1],[14,2,14,10],[3,0,3,1],[3,2,3,10],[4,0,4,1],[4,2,4,10],[5,2,5,4],[5,5,5,10],[6,0,7,0],[6,1,7,1],[8,2,8,4],[8,5,8,7],[8,8,8,10],[26,2,27,4],[26,5,27,7],[26,8,27,10],[16,13,17,13],[16,12,17,12],[26,12,27,12],[26,13,27,13],[23,0,23,1],[23,2,23,10],[24,0,24,1],[24,2,24,10],[25,2,25,4],[25,5,25,10],[16,14,17,14],[1,12,2,12],[1,13,2,13],[6,12,7,12],[6,13,7,13],[1,19,2,19],[1,20,2,20],[1,21,2,21],[1,22,2,22],[16,20,17,20],[16,21,17,21],[16,22,17,22],[1,23,2,23],[1,14,2,14],[1,15,2,15],[1,16,2,16],[1,17,2,17],[1,18,2,18],[1,37,2,37],[1,38,2,38],[1,29,2,29],[1,30,2,30],[1,31,2,31],[1,32,2,32],[1,33,2,33],[1,24,2,24],[1,25,2,25],[1,26,2,26],[1,27,2,27],[1,28,2,28],[6,27,7,27],[6,28,7,28],[6,29,7,29],[6,30,7,30],[6,31,7,31],[1,39,2,39],[1,40,2,40],[1,41,2,41],[6,14,7,14],[6,15,7,15],[6,16,7,16],[6,17,7,17],[6,18,7,18],[6,19,7,19],[6,20,7,20],[6,21,7,21],[6,22,7,22],[6,23,7,23],[6,24,7,24],[6,25,7,25],[6,26,7,26],[1,34,2,34],[1,35,2,35],[1,36,2,36],[6,37,7,37],[6,38,7,38],[6,39,7,39],[6,40,7,40],[6,41,7,41],[6,32,7,32],[6,33,7,33],[6,34,7,34],[6,35,7,35],[6,36,7,36],[16,23,17,23],[16,24,17,24],[16,15,17,15],[16,16,17,16],[16,17,17,17],[16,18,17,18],[16,19,17,19],[16,38,17,38],[16,39,17,39],[16,30,17,30],[16,31,17,31],[16,32,17,32],[16,33,17,33],[16,34,17,34],[16,25,17,25],[16,26,17,26],[16,27,17,27],[16,28,17,28],[16,29,17,29],[26,28,27,28],[26,29,27,29],[26,30,27,30],[26,31,27,31],[26,32,27,32],[16,40,17,40],[16,41,17,41],[26,14,27,14],[26,15,27,15],[26,16,27,16],[26,17,27,17],[26,18,27,18],[26,19,27,19],[26,20,27,20],[26,21,27,21],[26,22,27,22],[26,23,27,23],[26,24,27,24],[26,25,27,25],[26,26,27,26],[26,27,27,27],[16,35,17,35],[16,36,17,36],[16,37,17,37],[26,38,27,38],[26,39,27,39],[26,40,27,40],[26,41,27,41],[26,33,27,33],[26,34,27,34],[26,35,27,35],[26,36,27,36],[26,37,27,37]]}
[null,null,null,null,null,null,null,null,null,null,null,null,1,2,3,4,5,6,7,8,9,10,11,12,13,14,15,16,17,18,19,20,21,22,23,24,25,26,27,28,29,30]
[null,"TAPR",null,null,null,null,null,null,null,null,null,null,{"$f":"OFFSET(INDEX(eleves,MATCH(M1,numeros,0),MATCH($B$2,classes,0)),0,1)","v":"Alexandrine"},"Asiya","Bacary","Behija","Chadia","Chafion","Christopher","Dorin","Ines","Inès","Jeremy ","Jessie","Nahidul","Narjisse","Petronela","Queenster","Syntiche","Victor","Yanis",0,0,0,0,0,0,0,0,0,0,0]
["CAP-BEP NIVEAU 3"]
["COMPETENCES ATTENDUES",null,"PRINCIPES D’ELABORATION DE L’EPREUVE"]
["Niveau 3 : Concevoir un enchaînement défini par différents paramètres (intensité, durée, coordination) et le réaliser seul ou à plusieurs, pour produire sur soi des effets immédiats sur l’organisme proches de ceux qui sont attendus\nPour grimper en tête des voies de difficulté 4 à 5, conduire son déplacement en s'économisant selon des itinéraires variés en direction.\nAssurer sa sécurité et celle d'autrui à la montée comme à la descente.",null,"- S'engager dans un effort bref et intense. Temps de travail de 12 à 18 minutes - Séries jusqu’ à 4 minutes - Temps de repos entre les séries jusqu’à 4 minutes, avec une FC minimale de reprise de 110 à 120 pulsations. \n- S'engager dans un effort long et soutenu. Temps de travail de 16 à 22 minutes - Au moins 3 séries - Temps de repos entre les séries jusqu'à 4 minutes, avec une FC minimale de reprise de 110 à 120 pulsations. \n- S'engager dans un effort modéré et prolongé. Temps de travail de 20 à 26 minutes - Au moins 3 séries - Temps de repos maximum de 5 minutes. - au moins 3 séries avec une FC minimale de reprise de 110 à 120 pulsations. La\nRecommandations : le cardio-fréquence mètre codé est fortement indiqué.\n 3 à 4 blocs différents répétés en boucle, dont au moins deux seront composés par l’enseignant (bloc = 4 phrases différentes de 8 temps). Les deux côtés, droit et gauche, doivent être investis. Le rythme musical est compris entre 130 et 145 Battements Par Minute (BPM) maximum. Le candidat peut présenter l’épreuve individuellement ou au sein d’un collectif mais l'évaluation est individuelle.\nLe candidat choisit les modalités de l’enchaînement (temps de travail et de repos, nombre de séries) et les paramètres pour ajuster sa production à l’objectif poursuivi.\nLes paramètres : variateurs d’intensité\n- d’ordre énergétique : variation de la hauteur du step, utilisation des bras au-dessus du plan horizontal défini par le niveau des épaules, utilisation d'éléments de contrainte musculaire au niveau du haut du corps (ex : lests aux poignets), impulsions-sursauts, variation des BPM, utilisation d'éléments réalisés à côté du step (maximum 8 temps par bloc).\n- d’ordre biomécanique (coordination) : combinaison de pas complexes, utilisation des bras en dissociation (bras/bras et/ou bras/jambes), changement d'orientation, vitesse d’exécution, trajets marqués, contretemps.\nA l’issue de la production, le candidat analyse sa prestation, en s'appuyant sur différents ressentis. Il explique les écarts éventuels entre le projet et sa réalisation.\nSelon les efforts le % d’intensité de FCR diffère : Effort bref et intense : > 85% de FCR - Effort long et soutenu : 70% à 85% de FCR – Effort modéré et prolongé : 50 à 65% de FCR"]
["POINTS A AFFECTER","ELEMENTS A EVALUER","NIVEAU 3 EN COURS D’ACQUISITION\nDe 0 à 9 pts",null,null,"DEGRE D’ACQUISITION DU  NIVEAU 3\nde 10 à 20"]
[3,"CONCEVOIR\nEn lien avec un thème d’entrainement","- Choix de l’élève aléatoires\n- Enchaînement incohérent au regard du thème\nd’entraînement.\nDe 0 à 1 point",null,null,"Choix des modalités et des paramètres de l’enchaînement avec l’aide de l’enseignant - Enchaînement cohérent au regard du thème\nd’entraînement\nDe 1,5 à 2 points",null,null,"Choix des modalités et des paramètres de l’enchaînement sans l’aide de l’enseignant.\n- Enchaînement cohérent au regard du thème d’entraînement\nDe 2,5 à 3 points"]
[]
[14,"PRODUIRE\nEnchainer des blocs en respectant des exigences","Exigences très partiellement respectées\n- FCE : souvent en dehors de la fourchette fixée\n- Sécurité : de nombreuses erreurs dans la pose\nde pied et l’alignement segmentaire\n- Continuité de l’enchaînement : des arrêts dans\nplusieurs séries\n- Manque manifeste de tonicité et/ou d’amplitude\nDe 1 à 7 points",null,null,"Exigences globalement respectées\n- FCE : majoritairement dans la fourchette fixée\n- Sécurité : quelques erreurs dans la pose de pied et\nl’alignement segmentaire en fin de prestation\n- Continuité de l’enchaînement : quelques ruptures\n- Tonicité et/ou amplitude : quelques dégradations en fin\nde prestation\nDe 7,5 à 10 points",null,null,"Exigences respectées du début à la fin de la prestation\n- FCE : le plus souvent dans la fourchette fixée\n- La sécurité est maintenue tout au long de la\nprestation malgré la fatigue\n- Continuité de l’enchaînement : 2 ruptures au\nmaximum\n- Tonicité et/ou amplitude : maintenue tout au long\nde la prestation\nDe 10,5 à 14 points"]
[3,"ANALYSER\nRéaliser un bilan"," Pas de référence aux paramètres choisis\n- Peu de référence à des ressentis personnels\nDe 0 à 1 point",null,null,"- Les paramètres choisis sont évoqués\n- Les ressentis sont personnels et de plusieurs ordres\nDe 1,5 à 2 points",null,null,"Le choix des paramètres est justifié\n- Les ressentis personnels sont justifiés.\nDe 2,5 à 3 points",null,null,null,20,20,20,20,20,20,20,20,20,20,20,20,20,20,20,20,20,20,20,20,20,20,20,20,20,20,20,20,20,20]
[null,null,null,null,null,null,null,null,null,null,null,"NOTE / 20",{"$f":"SUM(M7:M10)","v":20},{"$f":"SUM(N7:N10)","v":20},20,20,20,20,20,20,20,20,20,20,20,20,20,20,20,20,20,20,20,20,20,20,20,20,20,20,20,20]
[]
["BAC PRO NIVEAU 4"]
["COMPETENCES ATTENDUES",null,"PRINCIPES D’ELABORATION DE L’EPREUVE"]
["Niveau 4 : Pour produire et identifier sur soi des effets différés liés à un mobile personnel ou partagé, prévoir et réaliser un enchaînement seul ou à plusieurs, en utilisant différents paramètres (intensité, durée, coordination)",null,"Au début de l’épreuve le candidat présente la conception de sa séance en lien avec son carnet d’entrainement qui peut être numérique. Le mobile personnel ou partagé doit être explicité.\nPendant l’épreuve : le candidat doit réaliser un enchaînement de quatre à six blocs différents répétés en boucle, dont au moins trois seront composés par l’enseignant (bloc = 4 phrases différentes de 8 temps). Les deux côtés, droit et gauche, doivent être investis. Le rythme musical est compris entre 130 et 145 Battements Par Minute (BPM) maximum. Le candidat peut présenter l’épreuve individuellement ou au sein d’un collectif mais l'évaluation est individuelle.\nLe candidat choisit les modalités de l’enchaînement (durée d’effort et de récupération, nombre de séries) et les paramètres pour ajuster sa production à l’objectif poursuivi.\nThèmes d’entraînement :\n- s’engager dans un effort bref et intense. Temps d’effort de 14 à 22 minutes - Séries jusqu’à 4 minutes - Temps de repos entre les séries jusqu’ à 4 minutes, avec une FC minimale de reprise de 110 à 120 pulsations.\n- s’engager dans un effort long et soutenu. Temps d’effort de 20 à 26 minutes – au moins 3 séries - Temps de repos entre les séries jusqu’ à 4 minutes, avec une FC minimale de reprise de 110 à 120 pulsations.\n- s’engager dans un effort modéré et prolongé. Temps d’effort de 25 à 30 minutes - 2 ou 4 séries - Temps de repos entre les séries, au maximum de 5 minutes, avec une FC minimale de reprise de 110 à 120 pulsations.\nLa fréquence cardiaque est l’indicateur d’effort (1).\nLes paramètres : variateurs d’intensité\n- d’ordre énergétique : variation de la hauteur du step, utilisation des bras au-dessus du plan horizontal défini par le niveau des épaules, utilisation d'éléments de contrainte musculaire au niveau du haut du corps (ex : lests aux poignets), impulsions-sursauts, variation des BPM, utilisation d'éléments réalisés à côté du step (maximum 8 temps par bloc). - d’ordre biomécanique (coordination) : combinaison de pas complexes, utilisation des bras en dissociation (bras/bras et/ou bras/jambes), changement d'orientation, vitesse d’exécution, trajets marqués, contretemps.\nÀ l’issue de la production, le candidat analyse sa prestation, en s'appuyant sur les différents types de ressentis. Il explique les écarts éventuels entre le projet et sa réalisation, et identifie les effets différés liés à son mobile.\nPour les voies générales et technologiques, les co-évaluateurs ont accès au carnet d’entrainement."]
["POINTS A AFFECTER","ELEMENTS A EVALUER","NIVEAU 3 EN COURS D’ACQUISITION\nDe 0 à 9 pts",null,null,"DEGRE D’ACQUISITION DU  NIVEAU 3\nde 10 à 20"]
[3,"Concevoir\nCohérence des choix","Pas de justification du choix de l’objectif\n- Modalités choisies de l’épreuve ne correspondant\npas ou peu au thème d’entraînement.\n- Lecture du carnet d’entraînement n ‘éclairant pas le\nchoix des paramètres\nDe 0 à 1 point",null,null,"Justification succincte du choix de l’objectif\n- Modalités choisies de l’épreuve, correspondant au\nthème d’entraînement.\n- Lecture du carnet d’entraînement éclairant partiellement\nle choix des paramètres\nDe 1.5 à 2 points",null,null,"Justification du choix de l’objectif référée à un mobile d’agir\n- Modalités choisies de l’épreuve, adaptées et justifiées au regard au thème d’entraînement.\n- Lecture du carnet d’entraînement éclairant le choix des paramètres De 2 ,5 à 3 points",null,null,null,2,2,2,2,2,2,2,2,2,2,2,2,2,2,2,2,2,2,2,2,2,2,2,2,2,2,2,2,2,2]
[]
[14,"PRODUIRE\nEnchainer des blocs en respectant des exigences","Exigences très partiellement respectées\n- FCE : souvent en-dehors de la fourchette fixée\n- Sécurité : échauffement inapproprié\n- Des erreurs récurrentes dans la pose de pied et\nl’alignement segmentaire\n- Continuité de l’enchaînement : enchaînement haché.\nDes arrêts dans plusieurs séries\n- Manque manifeste de tonicité et/ou d’amplitude\n- Côtés droit et gauche non investis de façon\néquilibrée\n- Peu ou pas de pas complexes\nDe 0 à 7 points",null,null,"Exigences globalement respectées\n- FCE : majoritairement dans la fourchette fixée\n- Sécurité : échauffement préparatoire à la première série\n- Quelques erreurs dans la pose de pied et l’alignement\nsegmentaire apparaissent en fin de prestation\n- Continuité de l’enchaînement : majoritairement fluide,\nquelques ruptures répétées\n- Tonicité et/ou amplitude : quelques dégradations en fin\nde prestation\n- Côtés droit et gauche investis de façon équilibrée\n- Plusieurs pas complexes De 7,5 à 10 points",null,null,"Exigences respectées du début à la fin de la prestation\n- FCE : le plus souvent dans la fourchette fixée\n- Sécurité : échauffement et utilisation des temps de\nrepos appropriés. Sécurité maintenue tout au long de la\nprestation malgré la fatigue.\n- Continuité de l’enchaînement : fluidité, quelques\nhésitations\n- Tonicité et/ou amplitude : maintenue tout au long de la\nprestation\n- Côtés droit et gauche investis de façon équilibrée avec\nla même qualité d’exécution\n- Des pas complexes dans plusieurs blocs\nDe 10.5 à 14 points"]
[3,"Analyser\nS’appuyer sur des analyseurs Proposer des perspectives","Analyse sommaire\n- Pas de caractérisation des points forts et faibles au regard des analyseurs (FCE, continuité, tonicité, sécurité )\n- Perspectives (échauffement, hydratation, objectif, modalités de l’évaluation à modifier, à conserver) : non envisagées\nDe 0 à 1 point",null,null,"Analyse réaliste\n- Description des ressentis, des points forts et faibles grâce aux analyseurs (FCE, continuité, tonicité, sécurité ...)\n- Perspectives (échauffement, hydratation, objectif, modalités de l’évaluation à modifier, à conserver) : propositions recevables mais basiques et peu argumentées\nDe 1,5 à 2 points",null,null,"Analyse bilan argumenté\n- Analyse du relevé des FC et des ressentis en lien avec un ou deux analyseurs choisis (FCE, continuité, tonicité, sécurité...)\n- Perspectives (échauffement, hydratation, objectif, modalités de l’évaluation à modifier, à conserver) Propositions recevables et étayées\nDe 2,5 à 3 points",null,null,null,20,20,20,20,20,20,20,20,20,20,20,20,20,20,20,20,20,20,20,20,20,20,20,20,20,20,20,20,20,20]
[null,null,null,null,null,null,null,null,null,null,null,"NOTE / 20",{"$f":"SUM(M17:M20)","v":22},{"$f":"SUM(N17:N20)","v":22},22,22,22,22,22,22,22,22,22,22,22,22,22,22,22,22,22,22,22,22,22,22,22,22,22,22,22,22]
[]
["EVALUATION CYCLE"]
["COMPETENCES ATTENDUES",null,"PRINCIPES D’ELABORATION DE L’EPREUVE"]
[]
["POINTS A AFFECTER","ELEMENTS A EVALUER","NIVEAU 3 EN COURS D’ACQUISITION\nDe 0 à 9 pts",null,null,"DEGRE D’ACQUISITION DU  NIVEAU 3\nde 10 à 20"]
[3,"Reproduction ou Conception des blocs",null,null,null,null,null,null,null,null,null,null,4,2,2,2,2,2,2,2,2,2,2,2,2,2,2,2,2,2,2,2,2,2,2,2,2,2,2,2,2,2]
[]
[10,"Dépense énergétique",null,null,null,null,null,null,null,null,null,null,2]
[5,"Remplir le carnet d'entrainement",null,null,null,null,null,null,null,null,null,null,2]
[2,"Assiduité"]
[null,null,null,null,null,null,null,null,null,null,null,"NOTE / 20",{"$f":"SUM(M27:M31)","v":8},{"$f":"SUM(N27:N31)","v":2},2,2,2,2,2,2,2,2,2,2,2,2,2,2,2,2,2,2,2,2,2,2,2,2,2,2,2,2]

{"sheet":"PHYSIO-ENTRAINEMENT","index":6,"n_rows":172,"n_cols":10,"rows_kept":172,"cut":false,"hidden":false,"merged":[[90,1,90,9],[92,1,92,9],[93,1,93,9],[95,1,95,9],[96,1,96,9],[97,1,97,9],[99,1,99,9],[100,1,100,9],[27,0,27,1],[28,0,28,1],[41,1,41,10],[47,1,47,9],[33,1,33,10],[34,1,34,10],[35,1,35,10],[37,1,37,10],[38,1,38,10],[36,2,36,8],[39,2,39,8],[42,2,42,8],[43,2,43,8],[44,2,44,8],[45,2,45,8],[57,2,57,8],[0,4,2,7],[29,2,29,3],[29,7,29,9],[29,4,29,6],[26,2,26,9],[31,2,31,9],[32,2,32,9],[21,2,21,9],[0,8,2,10],[51,3,51,4],[52,3,52,4],[52,5,52,6],[52,7,52,8],[46,2,46,8],[48,1,48,9],[61,1,61,9],[49,1,49,8],[55,1,55,2],[56,1,56,2],[55,3,55,4],[55,5,55,6],[55,7,55,8],[56,3,56,4],[56,5,56,6],[56,7,56,8],[53,3,53,4],[50,3,50,4],[50,5,50,6],[50,7,50,8],[51,5,51,6],[51,7,51,8],[71,2,71,8],[72,2,72,8],[63,2,63,8],[64,2,64,8],[65,2,65,8],[66,2,66,8],[67,2,67,8],[68,2,68,8],[58,2,58,8],[62,2,62,8],[76,2,76,8],[77,2,77,8],[69,2,69,8],[122,9,122,10],[123,1,123,2],[115,2,115,9],[111,7,111,8],[103,2,103,9],[104,2,104,9],[91,2,91,9],[84,2,84,8],[85,2,85,8],[106,2,106,9],[110,7,110,8],[98,2,98,9],[101,1,101,9],[102,1,102,9],[105,1,105,9],[108,1,108,2],[109,1,109,2],[110,1,110,2],[89,1,89,9],[112,7,112,8],[70,2,70,8],[125,5,125,6],[125,7,125,8],[128,1,128,10],[50,1,50,2],[74,2,74,9],[73,2,73,9],[87,2,87,9],[51,1,51,2],[52,1,52,2],[53,1,53,2],[54,1,54,2],[78,2,78,8],[79,2,79,8],[53,5,53,6],[53,7,53,8],[54,3,54,4],[54,5,54,6],[54,7,54,8],[86,1,86,9],[80,2,80,8],[81,2,81,8],[82,2,82,8],[83,2,83,8],[75,2,75,8],[200,2,200,9],[108,7,108,8],[109,7,109,8],[191,2,191,9],[192,2,192,9],[193,2,193,9],[194,2,194,9],[195,2,195,9],[196,2,196,9],[185,2,185,9],[186,2,186,9],[187,2,187,9],[188,2,188,9],[189,2,189,9],[190,2,190,9],[179,2,179,9],[180,2,180,9],[124,5,124,6],[124,7,124,8],[124,9,124,10],[168,2,168,9],[138,2,138,9],[139,2,139,9],[140,2,140,9],[172,2,172,9],[163,2,163,9],[166,2,166,9],[164,2,164,3],[165,2,165,3],[143,8,143,9],[159,2,159,9],[158,1,158,9],[167,2,167,9],[162,1,162,9],[145,1,145,9],[146,1,146,9],[148,1,148,9],[149,1,149,9],[151,1,151,9],[152,1,152,9],[154,1,154,9],[155,1,155,9],[157,1,157,9],[164,4,164,5],[144,2,144,9],[143,2,143,3],[143,4,143,5],[143,6,143,7],[122,3,122,4],[122,5,122,6],[122,7,122,8],[114,1,114,9],[117,1,117,9],[120,1,120,9],[169,2,169,9],[170,2,170,9],[171,2,171,9],[141,2,141,9],[142,2,142,3],[142,4,142,5],[142,6,142,7],[142,8,142,9],[137,1,137,9],[131,2,131,9],[132,2,132,9],[133,2,133,9],[135,2,135,9],[136,2,136,9],[127,2,127,9],[130,2,130,9],[125,1,125,2],[125,3,125,4],[197,2,197,9],[198,2,198,9],[199,2,199,9],[184,2,184,9],[173,2,173,9],[174,2,174,9],[175,2,175,9],[176,2,176,9],[177,2,177,9],[178,2,178,9],[181,2,181,9],[182,2,182,9],[183,2,183,9],[40,3,40,7],[165,4,165,5],[165,6,165,7],[165,8,165,9],[164,6,164,9],[5,2,5,9],[161,3,161,5],[125,9,125,10],[126,1,126,2],[126,3,126,4],[126,5,126,6],[126,7,126,8],[126,9,126,10],[123,3,123,4],[123,5,123,6],[123,7,123,8],[123,9,123,10],[124,1,124,2],[124,3,124,4],[111,1,111,2],[112,1,112,2],[118,2,118,9],[121,2,121,9],[122,1,122,2]]}
[null,null,null,null,"PHYSIOLOGIE et ENTRAINEMENT",null,null,null,"Version augmentée du travail du  Groupe CP5"]
[]
[]
[]
[]
[null,null,"SOMMAIRE"]
[null,null,"1-PHYSIOLOGIE : Développement des ressources énergétiques"]
[null,null,null,"1.1 La production d'énergie"]
[null,null,null,"1.2 Les filières énergétiques"]
[null,null,null,"1.3 les notions de bases"]
[null,null,null,null,"1.3.1 Capacité et Puissance"]
[null,null,null,null,"1.3.2 Le VO2 max"]
[null,null,null,null,"1.3.3 la Fréquence Cardiaque (FC)"]
[null,null,null,null,"1.3.4 Relations entre filières énergétiques, VO2 et FC"]
[null,null,"2- ENTRAINEMENT"]
[null,null,null,"2.1 Quel type de travail pour quel objectif ?"]
[null,null,null,"2.2 Tableau récapitulatif des possibilités de travail"]
[null,null,null,"2.3 Les effets de l'entrainement dans la filière aérobie"]
[null,null,"3- SENSATIONS"]
[null,null,null,"3.1 Les ressentis"]
[null,null,null,"3.2 L'échelle de sensations RPE"]
[null,null,"4- NUTRITION"]
[]
[]
[]
[null,null,"1-Rappels concernant le développement des ressources énergétiques"]
[null,null,"Pour développer ses ressources énergétiques, il est nécessaire d’améliorer ses fonctions cardio-respiratoires pour que l’organisme puisse produire et utiliser plus efficacement l’énergie nécessaire à tout exercice musculaire."]
["FC"]
["O2"]
[null,null,"POSITION ASSISE",null,"     MARCHE",null,null,"COURSE"]
[null,null,null,"1.1 La production d'énergie"]
[null,null,"Le corps a besoin de « carburants », issus des aliments et transformés pour être utilisables par le muscle. "]
[null,null,"La production d’énergie provient d’une combustion qui a lieu dans le muscle.  Selon l’intensité et la durée de l’exercice, cette combustion peut utiliser des «carburants » différents présents dans le muscle lui-même ou transportés par le sang :"]
[null," Pour les exercices de longue durée et de faible intensité, c’est surtout un mélange composé d’une petite quantité de glucides (sucres) et d’une grande quantité de lipides (graisses) qui en constitue le carburant essentiel."]
[null,"Lorsque l’intensité de l’exercice augmente progressivement, les proportions lipides/glucides s’inversent."]
[null,"A l’opposé, pour les exercices intenses, ce sont essentiellement les glucides et, plus particulièrement l’un d’entre eux « le glycogène », qui en deviennent les carburants presque exclusifs."]
[]
[null,"Comme dans toute combustion, ces carburants ne peuvent « brûler » longtemps sans apport conséquent d'oxygène. L'oxygène constitue en quelque soirte le \"comburant\" de toute combustion."]
[null,"L’oxygène est transporté par le sang et utilisé dans les muscles. Lorsque l’intensité de l’exercice augmente, le cœur (la « pompe » cardiaque) et la respiration s’accélèrent pour apporter plus d’oxygène et produire plus d’énergie. On dit que l’exercice se fait en « aérobie ». Quand l’exercice devient trop intense, voire maximal, l’organisme va rencontrer des difficultés pour transporter et utiliser l’oxygène, l’énergie sera produite sans oxygène durant un temps limité."]
[]
[null,null,null,"1.2 Les filières énergétiques"]
[null,"Les « carburants » issus de l’alimentation sont transformés et stockés sous forme de glucides, de lipides, de glycogène mais pour être utilisés par le muscle, ils doivent se transformer en ATP (Adénosine Triphosphate), seule molécule utilisable pour permettre au muscle de se contracter. Les cellules musculaires n’en contiennent qu’une toute petite quantité qui est épuisée en quelques secondes"]
[]
[]
[]
[]
[]
[null,"Il existe deux voies de production d’énergie qui se succèdent : \n1-En l’absence d’oxygène : c’est la voie anaérobie\n2-En présence d’oxygène : c’est la voie aérobie, celle que nous allons stimuler par notre travail en step."]
[null,"Tout effort est défini par son intensité et sa durée. Les filières énergétiques sont les différentes modalités de resynthèse de l'ATP."]
[null,"Résumé des caractéristiques essentielles des différentes filières énergétiques  \nD’après M.Pradet (1989)"]
[null,"Filières énergétiques",null,"Anaérobie Alactique",null,"Anaérobie Lactique ",null,"Aérobie"]
[null,"Substrats",null,"ATP\nCP",null,"Glucides (glucose et glycogène)",null,"Glucides\nLipides\nProtéines (faible %)"]
[null,"Délai d'efficacité max",null,"Nul",null,"20 à 30 secondes",null,"1 à 3 minutes"]
[null,"Puissance",null,"Très élevé ++++",null,"Elevée ++",null,"Dépend du VO2 max"]
[null,"Temps d'épuissement à puissance max",null,"2 à 3 secondes",null,"25 à 40 secondes",null,"3 à 15 min"]
[null,"Capacité",null,"Très faible",null,"Faible",null,"illimitée +++++"]
[null,"Temps d'épuisement de la capacité (réserve)",null,"Entre 7 et 20 secondes",null,"2 minutes",null,"Dépend du % de VO2 max utilisé"]
[]
[]
[null,null,null,"1.3 les notions de bases"]
[null,null,null,"1.3.1 Capacité et Puissance"]
[null,"Chaque filière énergétique possède :\nUne capacité : c'est la quantité totale (contenance) d'énergie disponible dans le réservoir\nUne puissance : c'est la quantité maximale d'énergie utilisable par unité de temps (débit du robinet)\n\nUne durée de maintien du processus qui est égale à :"]
[]
[]
[]
[]
[]
[]
[]
[]
[]
[]
[]
[]
[]
[]
[]
[]
[]
[]
[]
[]
[]
[]
[]
[]
[null,"On peut chercher à améliorer sa puissance et/ou améliorer sa capacité. \nCe n'est pas le même type d'entraînement."]
[]
[null,null,null,"1.3.2 Le VO2 max"]
[null,"L’aptitude d’un individu à fournir un exercice intense pendant une durée supérieure à deux minutes dépend grandement de sa capacité à prélever, transporter et utiliser l’oxygène depuis l’air ambiant jusqu’aux fibres musculaires actives."]
[null,"Le VO2max correspond au volume maximum d’oxygène qu’un individu peut consommer enune minute lors d'un exercice musculaire intense de longue durée (en millilitres par minute par kg). Autrement dit c'est la « cylindrée du moteur aérobie » : Au fur et à mesure que le sportif « roule » et accélère, sa consommation d’oxygène augmente ; mais à un moment donné, cette dernière n'augmente plus, il a donc atteint sa consommation maximale d'O2 ou VO2 Max. Au- delà de cette phase, s’il peut encore accélérer pendant quelques instants c’est grâce à sa volonté et à sa capacité à utiliser ses ressources anaérobies."]
[]
[null,"Le Tlim : Selon les physiologistes (Billat 1996), on peut tenir un effort à 100% de son Vo2max au mieux durant 6 à 8 minutes (pour nos élèves, la fourchette 4 à 6 minutes semble plus appropriée). Le temps maximal qu’un individu peut tenir à une intensité donnée, en termes de % de VO2max, est appelée le Tlim (temps limite). Le Tlim est une donnée supplémentaire intéressante pour déterminer le volume total d’un entraînement. (Gerbaux et al. Revue EPS N°259-1996)."]
[null,"La P.M.A., Puissance Maximale Aérobie, est la puissance correspondant à un effort à 100 % du VO2max .\n "]
[null,null,null,"1.3.3 la Fréquence Cardiaque (FC)"]
[null,"La fréquence cardiaque (FC), ou rythme cardiaque, définit le nombre de battements du cœur par minute (BPM). On parle de « pouls », qui correspond à la perception du sang éjecté par le cœur dans une artère. C’est pratiquement le seul indicateur physiologique qui est utilisable sur le terrain pour renseigner sur l’intensité de l’exercice."]
[null,"La FC de repos (FCR) correspond à la fréquence cardiaque au repos. Elle doit être prise le matin, dans son lit en se réveillant, ou avec nos élèves, après quelques minutes de calme, de préférence en position allongée. L’entraînement a un impact sur la fréquence cardiaque au repos. Ainsi, pour un adulte sédentaire la fréquence cardiaque au repos est d’environ 60 à 80 pulsations par minute. Pour un sportif entraîné, cette même fréquence peut descendre jusqu’à environ 40-50 pulsations par minute."]
[null,"La fréquence cardiaque maximum (FCmax) est le nombre maximum de battements par minute du cœur, c’est-à-dire que le cœur ne peut pas battre plus vite que la FCmax. L’effort maximum est donc à 100% de la FCmax , impossible d’aller plus haut.\n 100% de la FCmax correspond donc théoriquement à 100% de la FC max, impissible d'aller plus haut."]
[]
[null,"La fréquence cardiaque augmente de façon linéaire en fonction de la puissance de l’exercice. Mais à un % donné d’intensité ne correspond pas le même % de FC max. (ex : Pour une intensité à 80% de VO2max, la FC correspondante ne sera pas 80% de FC max) (cf. tableau)."]
[null,"Selon Astrand, la FCmax peut être calculée ainsi avec une approximation à plus ou moins 10 pulsations/minute :\n Pour les femmes : FCmax = 226 – âge \n Pour les hommes : FCmax = 220 – âge"]
[null,"La fréquence cardiaque de réserve (FCR) est la différence entre la FCmax et la FC repos :\n  FC réserve= FCmax-FC repos\n"]
[null,"La fréquence cardiaque d’entraînement (FCE) est la fréquence cardiaque « ciblée » durant un exercice musculaire à une intensité définie. Elle peut être calculée selon la méthode de Karvonen, qui semble plus « individualisée » puisqu’elle tient compte non seulement de la FCmax de l’individu mais aussi de sa FC de repos et de sa FC de réserve :"]
[]
[null,null,"FCE= (FC réserve) X (% intensité de travail choisi) + FC repos\n"]
[null,"La fréquence cardiaque de récupération entre deux efforts ne doit être : ni trop haute (on est trop fatigué pour repartir), ni trop basse (il faudrait refaire un échauffement) ; on considère, de manière générale que 120 pulsations/minutes (soit 2 pulsations/seconde) est le bon ordre de grandeur."]
[]
[null,null,null,"1.3.4 Relations entre filières énergétiques, VO2 et FC"]
[null,"Filières énergétiques",null,"% Moyen de VO2 max","% moyen FC max"]
[null,"Capacité aérobie",null,"60-70","75-85"]
[null,"Capacité aérobie",null,"70-80","85-92"]
[null,"Puissance aérobie (seuil anaérobie)",null,"80-90","92-96"]
[null,"Puissance max aérobie",null,100,100]
[]
[null,"Dans la pratique scolaire, nous n’utilisons pas la notion de « % de VO2max », un peu complexe pour nos élèves ; toutefois le pourcentage de l'intensité de travail se réfère bien à cette VO2 max et non à celui de la FC max. Le tableau ci-dessus nous oindique les décalages existants entre %VO2 max et % FC max dans les différentes intensité. \nEn step, quand nous parlons d'intensité de travail avec nos élèves, nous utilisons plus le terme de % d'effort max plutot que celui de % de VO2 max"]
[]
[null,null,"2-ENTRAINEMENT"]
[null,"Ces notions peuvent nous aider pour construire et proposer des séquences de travail. Elles nous informent sur les données « théoriques » mais des ajustements sont nécessaires dans la pratique, puisqu’il existe parfois des décalages avec la réalité du terrain et les ressources réelles des élèves."]
[]
[null,null,null,"2.1 Quel type de travail pour quel objectif ?"]
[null," En fonction de l’objectif choisi (« Intensité/ Se surpasser », « Se développer, se remettre en forme », ou\n« S’entretenir, s’affiner »), une filière et un système (puissance ou capacité) doivent être prioritairement mis en jeu.\n  C’est l’intensité (donnée concrètement par le % d’intensité de travail ou la FC associée) et la durée de l’effort fournies qui vont permettre l’amélioration / l’entretien d’une capacité ou d’une puissance dans une filière énergétique."]
[]
[null,"Objectif choisi",null,"Registre d'effort et filière",null,"Intensité et effort",null,"Durée totale de l'effort à cette intensité",null,"Type de travail"]
[null,"Intensité, se srupasser au max",null,"Puissance Maximale Aérobie",null,1,null,"12 à 18 min",null,"Fractionné en séries de courte durée"]
[null,"Intensité , se surpasser",null,"Puissance Aérobie",null,"85-95%",null,"12 à 24 min",null,"Fractionnée en séries de courte durée"]
[null,"Se développer, se remettre en forme",null,"Capacité aérobie",null,"70-80%",null,"20 à 60 min",null,"Fractionnée en séries de moyenne durées"]
[null,"S'entretenir, s'affiner",null,"Endurance fondamentale",null,"60-70%",null,"supérieur à 30 min",null,"Fractionnée en séries de longue durée ou travail continu"]
[]
[null,"L’objectif « développer sa motricité » peut être également choisi en step ; il peut être rattaché à la capacité ou à la puissance aérobie selon le niveau de compétence attendue du programme et des capacités des élèves qui ont choisi ce mobile (Cf. Niveau 5). Pour les niveaux 3 et 4, l’effort est aérobie avec une intensité de travail de 60-70% effort max."]
[null,null,null,"2.2 Tableau récapitulatif des possibilités de travail"]
[]
[]
[]
[]
[null,null,null,"2.3 Les effets de l'entrainement dans la filière aérobie"]
[]
[null,null,"S'entrainer : pourquoi faire ?"]
[null,"L’entraînement, « exercice musculaire répété selon un protocole qui est fonction de la discipline pratiqué » (Kedra. 2008) amène l’organisme à s’adapter pour répondre « au stress » crée et fournir les ressources nécessaires."]
[null,null,"Pourquoi développer le système aérobie ?"]
[]
[null,null,"Améliorations des fonctions"]
[]
[null,null,"CARDIAQUES",null,"RESPIRATOIRES",null,"CIRCULATOIRES",null,"MUSCULAIRES"]
[null,null," Baisse de la FC de repos (lié au développement du myocarde, parois et cavité cardiaque, et à l’augmentation du volume d’éjection systolique)\n Diminution de la FC max pour le même niveau d’effort\n Augmentation du débit cardiaque avec meilleure efficacité de la « distribution sanguine » (« du fin fond\ndu cerveau aux extrémités des orteils ! »)\n Stabilisation plus facile de la FC d’un sujet entraîné pour une même intensité d’exercice aérobie, et à un seuil plus bas.\n Retour à la FC normale (FC repos) plus rapide (récupération cardiaque)",null," Augmentation du débit respiratoire maximal\n Meilleur utilisation des muscles respiratoires.\n Amélioration de la récupération ventilatoire (Dette d’O2 plus faible) \n Augmentation de la conso max d’O2",null," Amélioration de la circulation sanguine\n Amélioration de l’irrigation des muscles et des tissus liée à l’augmentation le réseau capillaire\n Augmentation de la taille des vaisseaux et de la capacité d'extraction de l'oxygène du sang\n Augmentation du retour veineux et amélioration du drainage veineux et lymphatique par une meilleure\nréabsorption des liquides.\n Diminution de la tension artérielle : « Cooooool !!!!! »",null," Augmentation du nombre, du volume des mitochondries, « véritables usine à oxygène » d’où une augmentation de l’utilisation d’O2\n  Augmentation de l’activité des enzymes oxydatives\n Augmentation de la rapidité d’oxydation des glucides\n Augmentation de la rapidité et de la précocité de l’oxydation des graisses\n Augmentation de la dégradation et de la consommation des lactates, d’où une augmentation de la tolérance de l’effort entrainant un recul du seuil.\n Augmentation des fibres lentes oxydatives."]
[null,null,"POUR AUGMENTER SON CAPITAL SANTE \n-Etablir une bonne condtion physique \n-Prévenir les maladies cardio-vasculaires\n-Réduire les risques de cancer\n-Lutter conte l'obséité"]
[null,"Pourquoi travailler entre 60 et 70% de lare 60 et 70% du VO2 max ? (puilsations entre 140 et 1160)"]
[null,"Travailler à cette intensité favorise l’élimination des déchets, sollicite la disponibilité musculaire, active le transport d’oxygène, renforce les systèmes articulaires et ligamentaires.\nOn utilise également ce type d’effort pour récupérer d’efforts plus intenses (élimination des lactates), ou s’assurer une reprise d’entraînement. Ce type d’effort contribue à l’entretien de sa forme (tonification musculaire, meilleure assimilation de l’oxygène) et à la perte de poids."]
[]
[null,"Pourquoi travailler entre 70 et 80% de u VO2 max et ainsi développer sa capacité aérobie ? (puls entre 160 et 180)"]
[null,"Travailler dans cette zone permet d’améliorer la capillarisation et donc le transport de l’oxygène ainsi que la stabilisation et l’élimination des lactates pendant l’effort.\nC’est une zone de développement efficace de l’endurance aérobie. On améliore la « contenance du réservoir »."]
[]
[null,"Pourquoi travailler au dessu de 85% du VO2 max et ainsi développer sa puissance aéréobie ? (puls au dessus de 180)"]
[null,"Travailler dans cette zone améliore la tolérance lactique, le système cardio-respiratoire, la capillarisation musculaire.\nCe type d’effort permet également de récupérer et d’éliminer les déchets sans entamer les réserves de glycogène. On améliore le « débit du robinet » ce qui nous permet de faire un effort plus intense."]
[]
[null,"Quelle utilité des efforts à PMA (puissance maximale aérobie) ?"]
[null,"Les efforts à puissance maximale aérobie sont des efforts proches de FC max. Ils améliorent le débit cardiaque (la « pompe se muscle » : amélioration du débit du robinet), l’utilisation de l’oxygène intramusculaire. Ces efforts abaissent donc le délai d’installation de VO2 Max.\n On améliore le débit du robinet pour faire un effort plus intense plus longtemps. On travaille également la résistance aux lactates."]
[]
[null," Finalement, l’entraînement va permettre :\n De faire un effort plus long pour une même intensité.\n De faire un effort plus intense.\n De développer la capacité de récupération, donc d’augmenter la charge d’entraînement.\n De « s’aérer la tête ». C’est ici la détente, l’évacuation du (« mauvais ») stress qui se rattache à cette expression."]
[null," Amélioration de son état général de \"forme\" physique et mentale"]
[]
[null,null,"3- SENSATIONS"]
[null,null,null,"3.1 Les ressentis"]
[null,"On peut définir le « ressenti » comme l’impression (interne) que l'on a de quelque chose ou de\nquelqu'un, d'une sensation ou d'un sentiment.\nC’est une notion subjective mais qui nous semble essentielle dans les activités de la CP5. En effet, cela permet, sur le terrain, d’ajuster et d’adapter l’utilisation des connaissances scientifiques et théoriques sur la physiologie de l’effort. Elle valorise également la notion d’auto-référencement en autorisant l’élève à adapter la charge d’entraînement en fonction de ses ressources propres.\nNature :\nOn peut aider les élèves à identifier la nature et la valeur du ressenti en donnant des exemples et en graduant ces ressentis selon une échelle de valeur :"]
[]
[null,null,"Musculaires et articulaires",null,"Cardio-respiratoires",null,"Psychologiques / mentaux - / +"]
[null,null,"Tensions\nLourdeur <\nDurcissement \nContracture \nSensation de vide (« plus de jus »)...",null,"Essouflement\nTranspiration\nChaleur \nRougeur (peau) \nBrûlures \nAccélération rythme cardiaque...",null,"Lassitude\nNonchalance\nMollesse\nPassivité \nFatigue \nPerte de « mémoire » /oublis...",null,"Motivation\nDynamisme \nBien-être \nEuphorie..."]
[]
[]
[]
[]
[]
[null,null,"4- NUTRITION"]

{"sheet":"SECU","index":7,"n_rows":18,"n_cols":3,"rows_kept":18,"cut":false,"hidden":false,"merged":[]}
[]
[]
[]
[]
[null,null,"INSTALLATION DES STEPS"]
[null,null,"PAS TROP PRES LES UNS DES AUTRES (min 1,50m)"]
[null,null,"STEP LARGE EN BON ETAT AVEC ANTI-DERAPANTS"]
[null,null,"PLACEMENT DU CORPS ET DU PIED"]
[null,null,"Buste légèrement penché en avant"]
[null,null,"Abdos contractés"]
[null,null,"Monter tout le pied sur le step"]
[null,null,"Ne pas descendre trop loin (max 1 pied)"]
[null,null,"MOUVEMENTS CONTRE-INDIQUES ou INTERDITS"]
[null,null,"NE PAS DESCENDRE EN AVANT"]
[null,null,"MONTER EN ARRIERE"]
[null,null,"SAUTS DU STEP VERS LE SOL"]
[null,null,"Rotations avec genou en charge"]
[null,null,"ALLEGER SUR LES ROTATIONS"]

{"sheet":"FC","index":8,"n_rows":9,"n_cols":14,"rows_kept":9,"cut":false,"hidden":false,"merged":[]}
[]
[]
[null,"Age",null,18,"ans"]
[null,"Sexe","Fille ou garçon","F",null,null,null,null,null,null,"Pouls au repos","Zone de travail Aérobie \n60 à 70% de la FCE","Zone de travail CAPACITE : 70 à 80% de la FCE","Zone de travail PUISSANCE : 80 à 95% de la FCE"]
[null,"FC repos","Fréquence Cardiaque prise au repos",50,"bpm","Au réveil",null,null,null,null,"50 à 60","141 à 160","160 à 175","175 à 190"]
[null,"FC MAX","Fréquence Cardiaque Maximale",{"$f":"IF(D4=\"f\",220-D3,226-D3)","v":202},"bpm","=220-âge (garçons) et 226-âge (filles)",null,null,null,null,"60 à 80","145 à 165","165 à 180","180 à 195"]
[null,"FCR","Fréquence Cardiaque de Réserve",{"$f":"D6-D5","v":152},"bpm","=FC Max - FC repos",null,null,null,null,"80 à 95","155 à 170","170 à 180","180 à 198"]
[null,"FCE","Fréquence Cardiaque d'Entrainement",{"$f":"D5+(D7*D9/100)","v":164},"bpm","=FC repos+(FCR x % IT)"]
[null,"% IT","% Intensité de Travail",75,"%"]

{"sheet":"PAS","index":9,"n_rows":9,"n_cols":9,"rows_kept":9,"cut":false,"hidden":false,"merged":[[4,1,4,2]]}
[]
[]
[]
[null,null,null,null,null,null,null,"DIFFICULTE"]
[null,"A-STEP",null,null,{"$f":"VLOOKUP($B$5,TOUSLESPAS!$B$5:$H$200,4,FALSE)","v":"A-STEP"},null,null,{"$f":"CONCATENATE(VLOOKUP($B$5,TOUSLESPAS!$B$5:$H$200,7,FALSE),\"/5\")","v":"3/5"},"CRITERES DE REALISATION"]
[]
[null,null,null,null,null,null,null,null,{"$f":"VLOOKUP($B$5,TOUSLESPAS!$B$5:$H$200,5,FALSE)","v":"Démarrer dans un angle du step en étant de profil. On dessine un A sans la barre du milieu."}]
[null,null,null,null,null,null,null,null,"REPERES"]
[null,null,null,null,null,null,null,null,{"$f":"VLOOKUP($B$5,TOUSLESPAS!$B$5:$H$200,6,FALSE)","v":0}]

{"sheet":"TOUSLESPAS","index":10,"n_rows":54,"n_cols":10,"rows_kept":54,"cut":false,"hidden":false,"merged":[]}
[]
[null,null,null,null,null,null,null,null,null,"2,88x5,91"]
[null,null,null,null,null,null,null,"DIFFICULTE"]
[null,"PAS","TEMPS","ETAPES","NOM ANGLAIS","CRITERES DE REALISATION","REPERES","DIFFICULTE"]
[null,"A-STEP",4,null,"A-STEP","Démarrer dans un angle du step en étant de profil. On dessine un A sans la barre du milieu.",null,3]
[null,"CHACHACHA",4,null,"CHACHACHA","Contre temps dans le mouvement",null,4]
[null,"CHARLESTON",8,null,"CHARLESTON","Monter sur le step dans un angle. Coup de pied et on reviens",null,3]
[null,"CHEVAL",8,null,"HORSE","Imaginez vous sur un cheval : on monte dessus, on l'enjambe et on reviens en position",null,3]
[null,"CHEVAL A BASCULE",8,null,"ROCKING HORSE",null,null,4]
[null,"CHEVAL SAUTE",8,null,"HORSE JUMP","C'est comme le cheval sauf qu'on saute dessus.",null,4]
[null,"CISEAUX",8,null,"SCISSORS","On découpe le step et on finit par un genou",null,4]
[null,"COIN VERS COIN",8,null,"CORNER TO CORNER","On passe d'un coin à l'autre",null,4]
[null,"COUP DE PIED",4,null,"KICK",null,null,2]
[null,"COURSE",4,null,"RUN","On cours sur le step (2 foulées)",null,2]
[null,"DEGAGE"]
[null,"DIAGONALE",4,null,"DIAGONAL","On traverse le step dans sa diagonale",null,3]
[null,"ESCALIER",8,null,"STAIRS","On mime qu'on monte des escaliers (on les descends aussi)",null,3]
[null,"ESSUIE GLACE",8,null,"WIPER"]
[null,"FER A CHEVAL",8,null,"HORSESHOE","On fait le tour du cheval cette fois",null,4]
[null,"FLAMENCO",8,null,"FLAMINGO","Tout est dans le nom",null,4]
[null,"GENOU",4,null,"KNEE UP","Et bien on monte le genou",null,2]
[null,"HELICO",8,null,"HELICOPTER","On passe d'un côte à l'autre du step",null,3]
[null,"HIPS",4,null,"EXTENSION DE HANCHE",null,null,3]
[null,"I-STEP",8,null,"I-STEP","On dessine un I sur la largeur du step.",null,3]
[null,"INDECISION",8,null,"INDECISION","On hésite, on va ou, on monte un pied on descend 2 …",null,4]
[null,"JAZZ SQUARE",4,null,"JAZZ SQUARE","On croise les pieds dessus",null,3]
[null,"K-STEP",8,null,"K-STEP","On dessine un K",null,4]
[null,"L-STEP",8,null,"L-STEP","On dessine un L",null,3]
[null,"MAMBO",8,null,"MAMBO","Comme le basic mais on fait rouler les hanches ",null,3]
[null,"MARCHE",4,null,"BASIC","On monte et descend du step tout simplement",null,1]
[null,"MARCHE HESITANTE",8,null,"SPLIT BASIC",null,null,3]
[null,"PAS CHASSES",4,null,"OVER THE TOP","On traverse la largeur du step",null,3]
[null,"PAS DE BOURRE",4,null,"GRAPEVINE","Croise devant croise derrière",null,3]
[null,"PENDULUM",null,null,"PENDULUM",null,null,3]
[null,"REVERSE V-STEP",4,null,"REVERSE V-STEP","C'est comme le V mais avec un demi-tour",null,3]
[null,"SAUT ECART",4,null,"JUMPING JACK","Comme au crossfit",null,2]
[null,"SAUTE SAUTE",8,null,"JUMP JUMP","On enchaine plusieurs sauts  sur le step",null,4]
[null,"SIDE LIFT",null,null,"SIDE LIFT"]
[null,"SQUAT",4]
[null,"STEP BOX",null,null,"BOX STEP"]
[null,"T-STEP",8,null,"T-STEP","On dessine un T",null,3]
[null,"TALON",4,null,"HEEL","On monte les talons vers les fesses (le contraire de genou)",null,2]
[null,"TAP UP",4,null,"TAP UP","On touche le step avec le pied",null,1]
[null,"TCHA TCHA",null,null,"TCHA TCHA","Tchatcha-tchatchatcha",null,4]
[null,"TOUR DU MONDE",16,null,"AROUND THE WORLD","On fait le tour du step en entier",null,3]
[null,"TOURNE",4,null,"TURN STEP",null,null,3]
[null,"TRAVERSE",4,null,"ACROSS THE TOP","On traverse le step dans sa longueur",null,2]
[null,"TRIPLE GENOU",8,null,"THREE KNEE ","On réalise 3 montées de genou en posant à chaque fois un appui différent",null,3]
[null,"TWIST",null,null,"TWIST",null,null,3]
[null,"V-STEP",4,null,"V-STEP","On dessine un V",null,2]
[null,"VIRAGE INVERSE",4,null,"REVERSE TURN","On se retrouve en face de sa postion intiale (miroir)",null,2]
[null,"X-STEP",8,null,"X-STEP","On dessine un X",null,3]
[null,"Y-STEP",8,null,"Y-STEP","On dessine un Y",null,3]
[null,"Z-STEP",8,null,"Z-STEP","On dessine un Z",null,3]

{"sheet":"LEXIQUE","index":11,"n_rows":21,"n_cols":2,"rows_kept":21,"cut":false,"hidden":false,"merged":[]}
[]
[]
[null,"Amplitude : Flexion et extension complète dans les mouvements de bras ou de jambes – Grandissement du corps."]
[null,"Bloc : 4 phrases = 4 x 8 temps soit 32 temps - Commencer un bloc au début d’une phrase musicale, sur le temps fort qui sert de repère"]
[null,"Phrases : 8 temps consécutifs."]
[null,"BPM : Tempo de la musique : nombre de Battements Par Minute."]
[null,"Cardio-fréquence mètre codé : signal codé, évite les interférences avec les autres cardio-fréquencemètres."]
[null,"Collectif : présentation de l’enchaînement à plusieurs : motivation, aide aux apprentissages - individualisation possible des choix de paramètres sur une phrase ou plus "]
[null,"Continuité : enchaînement des blocs sans hésitation, sans rupture de rythme et/ou sans arrêt"]
[null,"Fréquences cardiaques (FC) La Fréquence cardiaque définit le cœur de l’APSA\n- FC : Nombre de pulsations cardiaques par minute.\n- FC Maximale : FCM garçon : 220-l’âge et FCM fille : 226-l’âge\n- FC Repos : FC prise avant un effort, au calme, de préférence le matin avant de se lever. Pendant le cours d’EPS :assis(e) (retirer 10 pulsations), allongé(e) (retirer 6 pulsations)\n- FC de réserve : La FCR=FCM-FC Repos\n- FC d’entraînement (fréquence cible) d’après Karvonen. FCE = FC Repos + [(FC Max - FC Repos) x % d’intensité de travail définie selon le thème d’entraînement choisi]\nEx d’une fille âgée de 17 ans de FC Repos 70 et pourcentage d’intensité choisie 90 : FCE = 70 + [ ((226-17) – 70) x 90 ] = 195 "]
[null,"Pas complexes : pas de base associés à une rotation, un contre temps, un changement de direction, un croisement."]
[null,"Bras complexes : bras dissociés, gauche/droite ou dans le temps ou dans les plans. "]
[null,"Ressentis : Respiratoires : essoufflements, gêne, régularité - Musculaires : brûlures, tiraillements, crampes - Psychologiques et cognitifs : lassitude, motivation, mémorisation"]
[null,"Sécurité : Passive : écart entre les STEPS dans un espace d’évolution - adhérence au sol des steps, sans tapis - Active : Pose de tout le pied à plat sur le step, sans bruit pour éviter les vibrations, placement du dos dans l’alignement \"pied d’appui-bassin-épaule\", pas de cambrures ni de dos rond. Descente du step amortie, interdite par l’avant. Maintien de la tonicité tout au long de l’enchaînement."]
[null,"Tonicité : État de tension du corps : fessiers et abdominaux gainés, tête haute, regard horizontal, doigts tendus"]
[]
[]
[]
[null,"Tests de terrain POUR LA MESURE DE LA FCMAX : 1. enchaîner sans s’arrêter un 400m à allure modérée (70% de VMA) avec un 200m à allure soutenue (100% de VMA) puis 100m à allure très rapide (120% de VMA) pour finir le dernier 100m à allure maximale (> à 130% de VMA) - 2. Après échauffement, enchaîner flexions (squat complet sans charge)- sprint de 10m à 15m- \"burpees\"-retour sprint-puis ajouter 1 flexion et 1\" burpees\" à chaque aller-retour (1 puis 2 puis 3 etc) sur une durée totale d'1'30"]
[]
[null,"http://eduscol.education.fr/pid25070/videos-interacademiques-2010-entretien-et-developpement-de-soi-en-eps.html\nhttp://eps.ac-amiens.fr/spip.php?article537"]

{"sheet":"DEBUTSTEP","index":12,"n_rows":42,"n_cols":72,"rows_kept":42,"cut":false,"hidden":false,"merged":[[2,68,2,71],[0,56,1,61],[1,41,2,44],[2,56,2,59],[2,60,2,67]]}
[null,null,null,null,null,null,null,null,null,null,null,null,null,null,null,null,null,null,null,null,null,null,null,null,null,null,null,null,null,null,null,null,null,null,null,null,null,null,null,null,null,null,null,null,null,null,null,null,null,null,null,null,null,null,null,null,"EVALUATION CCF N3"]
[null,null,null,null,null,null,null,null,null,null,null,null,null,null,null,null,null,null,null,null,null,null,null,null,null,null,null,null,null,null,null,null,null,null,null,null,null,null,null,null,null,"EVALUATION CONTINUE"]
[null,null,null,null,null,null,null,null,null,null,null,null,null,null,null,null,null,null,null,null,null,null,null,null,null,null,null,null,null,null,null,null,null,null,null,null,null,null,null,null,null,null,null,null,null,null,null,null,null,null,null,null,null,null,null,null,"CONCEPTION /3",null,null,null,"PRODUCTION /14",null,null,null,null,null,null,null,"ANALYSE /3"]
[null,"FC REPOS","Séries","DUREE","Equivalent en secondes","AGE","Sexe","TEMPO","HAUTEUR STEP","LESTS","BRAS","AMPLITUDE","IMPULSIONS",null,"PERCEPTION EFFORT",null,"NOTE",null,null,"Musiques",null,"Mobiles","Temps de travail","Séries","Repos","FC minimale de reprise","FCE","énergétiques","Indicateurs","Exemples de mobiles",null,"Respiration","Transpiration","Impression de fatigue","Mémoire",null,null,null,null,null,null,"Prendre sa FC efficacement","Note","S'engager dans le mobile","Note","Agir en sécu","Note","Respect de l'entrainement proposé","Note","Mémorisation des blocs","Note","Analyse de sa prestation","Note","Travail de groupe","Note",null,"Choix des paramètres","Note","Cohérence de l'enchianement","Note","Fourchette FCE","Note","SECU","Note","Continuité","Note","Tonicité/amplitude","Note","Choix des paramètres","Note","Variété des ressentis","Note"]
[null,null,null,null,null,null,null,null,null,null,null,null,null,null,null,null,null,null,null,null,null,"Effort bref et intense","12 à 18'","jusqu'à 4'","jusqu'à 4'","110-120",">85% de FCR","La puissance aérobie","FC s’approche progressivement du maximum\n- Ventilation fortement marquée et accélérée\n- Séries plutôt courtes\n- Motricité variée qui ne gêne pas l’engagement.\n- Paramètres, variateurs d’intensité,\nessentiellement d’ordre énergétique : sursauts, lests, hauteur du step, bras au-dessus des épaules.\n- Tempo > 135 bpm le plus souvent.","« J’aime repousser mes limites et me dépenser à fond surtout en suivant la musique. »\n« Car c'est l'objectif le plus intensif des 3, et j'ai besoin de me dépenser quand je fais du sport sinon c'est ennuyeux »\n« Car ça me correspond mieux, comme je préfère le sprint à l'endurance, je préfère les efforts courts et intenses, se donner à fond et être épuisée à la fin »"]
[null,45,1,"30\"",30,12,"F",125,"BAS","AVEC","Jamais","Faible","Avec",null,"Très très léger",null,0,null,null,"Rihanna",null,"Effort long et soutenu","16 à 22'","Au moins 3 séries","jusqu'à 4'","110-120","70 à 85% de FCR","La capacité aérobie","FC élevée\n- Ventilation accentuée et rythmée sans gêne excessive\n- Séries à minima 3\"\n- Coordination et dissociations présentes\n- Paramètres d’ordre énergétique : sursauts, bras au-dessus des\népaules, lests, hauteur du step.\n- 130 bpm < tempo < 140 bpm.","« Je me sens souvent fatigué(e) et pas assez actif (ve). Je voudrais être plus résistant(e) et me sentir en meilleure forme toute la journée. »\n« Quand je nage avec mes ami(e)s, je suis obligé(e) de m’arrêter régulièrement pour \"recharger mes batteries » ; je voudrais pouvoir les suivre plus longtemps. »\n« Car suite à des problèmes au genou gauche en début d'année (dispense), j'évite de trop sauter et c'est ce qui me correspond le mieux pour me remuscler »",null,"Non essouflé","Aucune","Effort très facile","Aucun problèmes",null,null,null,null,null,1,"Jamais","NA","Aucun",0,"Danger",0,"Pas du tout",0,"Aucune mémorisation",0,"Aucune",0,"Aucun",null,1,"Aucun ",0,"Aucune ",0,"Rien à voir",0,"Que d'erreurs",0,"Beaucoup trop d'arrêts",0,"Aucune",0,"Aucune",0,"Aucun ressenti",0]
[null,50,2,"1'",60,13,"G",128,"NORMAL","SANS","Un peu ","Moyenne","Sans",null,"Très léger",null,1,null,null,"Chris Brown",null,"Effort modéré et prolongé","20 à 26'","Au moins 3 séries","jusqu'à 5'","140-170","50 à 65% de FCR","L’endurance fondamentale","FC modérée\n- Aisance respiratoire\n- Séries longues et \"à minima 3\"\n- Temps de récupération minimisé\n- Motricité explorée de façon ambitieuse\n- Paramètres essentiellement d’ordre biomécanique : pas complexes, bras en\ndissociation, changement d'orientation, éléments réalisés à côté du step\n- Tempo le plus souvent proche de 130 bpm","« J’ai besoin de faire de l’exercice qui dure assez longtemps pour me vider la tête après les cours. »\n« Je voudrais inclure une séance de récupération dans mon programme d’entrainement qui a déjà 2 séances technique et physique + le match du dimanche » « Maintenir un effort assez longtemps me motive et me prouve que je suis une battante »",null,"Un peu essoufflé","Légère","A peine fatiguant","Quelques erreurs",null,null,null,null,null,2,"Aléatoire","ECA","Faible",1,"Quelques avertissements",1,"Aléatoire",1,"Beaucoup d'erreurs",1,"Imprécise",1,"Peu d'échanges",null,2,"Aléatoire",0.5,"Incohérent",0.5,"En dehors",1,"Nombreuses erreurs",1,"Des arrêts",1,"Manque",1,"Peu de référence",0.5,"Peu de référence",0.5]
[null,55,3,"1'30",90,14,null,130,"HAUT","1 kg","Souvent","Elevée",null,null,"Léger",null,2,null,null,"Daddy yankee",null,null,null,null,null,null,null,null,null,null,null,"Assez essoufflé","Moyenne","Assez fatiguant","Beaucoup de trous",null,null,null,null,null,3,"Régulière mais pas au bon moment","A","Modéré",2,"Correct",2,"Correct",2,"Peu d'erreurs",2,"Bonne ",2,"Echanges aléatoires",null,3,"Aide enseignant",1,"Cohérent",1,"Majoritairement dedans",2.5,"Quelques erreurs",1.5,"Quelques ruptures",1.5,"Qqs dégradations",2.5,"Evoqués",1,"Persos et d'ordres différents",1]
[null,60,4,"2'",120,15,null,132,null,"2 kg","Toujours",null,null,null,"Ni léger ni dur",null,3,null,null,null,null,null,null,null,null,null,null,null,null,null,null,"Très essouflé","Abondante","Je suis obligé de faire des pauses","Trop difficile",null,null,null,null,null,4,"Efficace","A+","Intense",4,"En toute sécu",3,"Bon",4,"Bonne mémorisation",4,"Pertinente",3,"Echanges efficaces",null,4,"Sans aide",1.5,"Cohérent ++",1.5,"Le plus souvent dedans",4,"En sécu",3,"Max 2 ruptures",3,"Maintenue",4,"Justifiés",1.5,"Justifiés",1.5]
[null,65,5,"2'30",150,16,null,135,null,"3 kg",null,null,null,null,"Je suis en forme",null,4,null,null,null,null,null,null,null,null,null,null,null,null,null,null,null,null,null,null,null,null,null,null,null,"absent","absent","X","absent","X","absent","X","absent","X","absent","X","absent","X","absent","X",null,0,0,0,0,0,0,0,0,0,0,0,0,0,0,0,0]
[null,70,6,"3'",180,17,null,140,null,"4 kg",null,null,null,null,null,null,5,null,null,null,null,null,null,null,null,null,null,null,null,null,null,null,null,null,null,null,null,null,null,null,null,0,0,0,0,0,0,0,0,0,0,0,0,0,0,null,1,1,1,1,1,1,1,1,1,1,1,1,1,1,1,1]
[null,75,7,"3'30",210,18,null,145,null,"5 kg",null,null,null,null,null,null,6,null,null,null,null,null,null,null,null,null,null,null,null,null,null,null,null,null,null,null,null,null,null,null,null,1,1,1,1,1,1,1,1,1,1,1,1,1,1,null,2,2,2,2,2,2,2,2,2,2,2,2,2,2,2,2]
[null,80,8,"4'",240,19,null,150,null,null,null,null,null,null,"Dur",null,7,null,null,null,null,null,null,null,null,null,null,null,null,null,null,null,null,null,null,null,null,null,null,null,null,2,2,2,2,2,2,2,2,2,2,2,2,2,2,null,3,3,3,3,3,3,3,3,3,3,3,3,3,3,3,3]
[null,85,9,"4'30",270,20,null,155,null,null,null,null,null,null,"Très dur",null,8,null,null,null,null,null,null,null,null,null,null,null,null,null,null,null,null,null,null,null,null,null,null,null,null,3,3,3,3,3,3,3,3,3,3,3,3,3,3,null,4,4,4,4,4,4,4,4,4,4,4,4,4,4,4,4]
[null,90,10,"5'",300,21,null,160,null,null,null,null,null,null,"Très très dur",null,9,null,null,null,null,null,null,null,null,null,null,null,null,null,null,null,null,null,null,null,null,null,null,null,null,4,4,4,4,4,4,4,4,4,4,4,4,4,4]
[null,95,11,"5'30",330,22,null,null,null,null,null,null,null,null,"Obliger d'arrêter",null,10]
[null,100,12,"6'",360,23,null,null,null,null,null,null,null,null,null,null,11]
[null,105,13,"6'30",390,24,null,null,null,null,null,null,null,null,null,null,12]
[null,110,14,"7'",420,25,null,null,null,null,null,null,null,null,null,null,13]
[null,115,15,"7'30",450,26,null,null,null,null,null,null,null,null,null,null,14]
[null,120,16,"8'",480,27,null,null,null,null,null,null,null,null,null,null,15]
[null,125,17,"8'30",510,28,null,null,null,null,null,null,null,null,null,null,16]
[null,130,18,"9'",540,29,null,null,null,null,null,null,null,null,null,null,17]
[null,135,19,"9'30",570,30,null,null,null,null,null,null,null,null,null,null,18]
[null,140,20,"10'",600,31,null,null,null,null,null,null,null,null,null,null,19]
[null,145,21,"10'30",630,32,null,null,null,null,null,null,null,null,null,null,20]
[null,150,22,"11'",660,33]
[null,155,23,"11'30",690,34]
[null,160,24,"12'",720,35]
[null,165,null,null,null,36]
[null,170,null,null,null,37]
[null,175,null,null,null,38]
[null,180,null,null,null,39]
[null,185,null,null,null,40]
[null,190,null,null,null,41]
[null,195]
[null,200]
[null,205]
[null,210]
[null,215]
[null,220]
[null,225]

{"sheet":"APPEL","index":13,"n_rows":38,"n_cols":28,"rows_kept":38,"cut":false,"hidden":false,"merged":[[0,19,0,20],[0,22,0,23],[0,25,0,26],[0,1,0,2],[0,4,0,5],[0,7,0,8],[0,10,0,11],[0,13,0,14],[0,16,0,17]]}
[null,"TPROE",null,null,"TAPR",null,null,"1COM-1ELEC",null,null,"2COM-2GA",null,null,"2ELEC-2TU",null,null,"TTU-TELEC",null,null,"1CIP-1META-1PROE",null,null,"1TU-1GA"]
[null,"PRENOMS","NOMS","sexe","PRENOMS","NOMS","sexe","PRENOMS","NOMS","sexe","PRENOMS","NOMS","sexe","PRENOMS","NOMS","sexe","PRENOMS","NOMS","sexe","PRENOMS","NOMS","sexe","PRENOMS","NOMS","sexe","PRENOMS","NOMS","sexe"]
[1,null,"Abdelwahid","g",null,"Alexandrine","f",null,null,null,null,null,null,null,"Achraf","g"]
[2,null,"Ali","g",null,"Asiya","f",null,null,null,null,null,null,null,"Adel","g"]
[3,null,"Fares","g",null,"Bacary","g",null,null,null,null,null,null,null,"Adem","g"]
[4,null,"Haykel Riadh","g",null,"Behija","f",null,null,null,null,null,null,null,"Amar","g"]
[5,null,"Jeff","g",null,"Chadia","f",null,null,null,null,null,null,null,"Ayoub","g"]
[6,null,"Maxence","g",null,"Chafion","g",null,null,null,null,null,null,null,"Azedine","g"]
[7,null,"Mohamed","g",null,"Christopher","g",null,null,null,null,null,null,null,"Bilal","g"]
[8,null,"Mohamed","g",null,"Dorin","g",null,null,null,null,null,null,null,"Bilal","g"]
[9,null,"Mohamed","g",null,"Ines","f",null,null,null,null,null,null,null,"Djaoidou","g"]
[10,null,"Phi Tram","g",null,"Inès","f",null,null,null,null,null,null,null,"Fahade","g"]
[11,null,"Ryad","g",null,"Jeremy ","g",null,null,null,null,null,null,null,"Farhane","g"]
[12,null,"Samy","g",null,"Jessie","f",null,null,null,null,null,null,null,"Faudel","g"]
[13,null,null,null,null,"Nahidul","g",null,null,null,null,null,null,null,"Fazil","g"]
[14,null,null,null,null,"Narjisse","f",null,null,null,null,null,null,null,"Hicham","g"]
[15,null,null,null,null,"Petronela","f",null,null,null,null,null,null,null,"Jassim","g"]
[16,null,null,null,null,"Queenster","f",null,null,null,null,null,null,null,"Jean Alexandre","g"]
[17,null,null,null,null,"Syntiche","f",null,null,null,null,null,null,null,"John","g"]
[18,null,null,null,null,"Victor","g",null,null,null,null,null,null,null,"Kail-Mourad","g"]
[19,null,null,null,null,"Yanis","g",null,null,null,null,null,null,null,"Malcom","g"]
[20,null,null,null,null,null,null,null,null,null,null,null,null,null,"Nicolas","g"]
[21,null,null,null,null,null,null,null,null,null,null,null,null,null,"Oumar","g"]
[22,null,null,null,null,null,null,null,null,null,null,null,null,null,"Quintimo","g"]
[23,null,null,null,null,null,null,null,null,null,null,null,null,null,"Raphaël","g"]
[24,null,null,null,null,null,null,null,null,null,null,null,null,null,"Richmond","g"]
[25,null,null,null,null,null,null,null,null,null,null,null,null,null,"Valentin","g"]
[26,null,null,null,null,null,null,null,null,null,null,null,null,null,"Willy","g"]
[27,null,null,null,null,null,null,null,null,null,null,null,null,null,"Yahia","g"]
[28,null,null,null,null,null,null,null,null,null,null,null,null,null,"Yamine","g"]
[29,null,null,null,null,null,null,null,null,null,null,null,null,null,"Yanis","g"]
[30,null,null,null,null,null,null,null,null,null,null,null,null,null,"Yousri","g"]
[31]
[32]
[33]
[34]
[35]
[36]

{"sheet":"CCF","index":14,"n_rows":21,"n_cols":72,"rows_kept":21,"cut":false,"hidden":false,"merged":[[3,0,6,0],[7,0,14,0],[15,0,18,0]]}
[]
[null,"1COM-1ELEC"]
[null,null,"Abdelwahid",null,"Dhayaeddine",null,"Abdelwahid",null,"Abdelwahid",null,"Abdelwahid",null,"Abdelwahid",null,"Abdelwahid",null,"Abdelwahid",null,"Abdelwahid",null,"Abdelwahid",null,"Abdelwahid",null,"Abdelwahid",null,"Abdelwahid",null,"Abdelwahid",null,"Abdelwahid",null,"Abdelwahid",null,"Abdelwahid",null,"Abdelwahid",null,"Abdelwahid",null,"Abdelwahid",null,"Abdelwahid",null,"Abdelwahid",null,"Abdelwahid",null,"Abdelwahid",null,"Abdelwahid",null,"Abdelwahid",null,"Abdelwahid",null,"Abdelwahid",null,"Abdelwahid",null,"Abdelwahid",null,"Abdelwahid",null,"Abdelwahid",null,"Abdelwahid",null,"Abdelwahid",null,"Abdelwahid"]
["CONCEVOIR","ETAPE",null,null,null,"->",null,null,null,null,null,null,null,null,null,"->",null,null,null,null,null,null,null,null,null,"->",null,null,null,null,null,null,null,null,null,"->",null,null,null,null,null,null,null,null,null,"->",null,null,null,null,null,null,null,null,null,"->",null,null,null,null,null,null,null,null,null,"->"]
[null,"Choix des paramètres","Aléatoire",{"$f":"VLOOKUP(C5,DEBUTSTEP!$BE$4:$BF$33,2,FALSE)","v":0.5},"Aide enseignant",{"$f":"VLOOKUP(E5,DEBUTSTEP!$BE$4:$BF$33,2,FALSE)","v":1},"Aide enseignant",{"$f":"VLOOKUP(G5,DEBUTSTEP!$BE$4:$BF$33,2,FALSE)","v":1},"Aléatoire",{"$f":"VLOOKUP(I5,DEBUTSTEP!$BE$4:$BF$33,2,FALSE)","v":0.5},"Aléatoire",{"$f":"VLOOKUP(K5,DEBUTSTEP!$BE$4:$BF$33,2,FALSE)","v":0.5},"Aléatoire",{"$f":"VLOOKUP(M5,DEBUTSTEP!$BE$4:$BF$33,2,FALSE)","v":0.5},"Sans aide",{"$f":"VLOOKUP(O5,DEBUTSTEP!$BE$4:$BF$33,2,FALSE)","v":1.5},null,{"$f":"VLOOKUP(Q5,DEBUTSTEP!$BE$4:$BF$33,2,FALSE)","v":0},"Aléatoire",{"$f":"VLOOKUP(S5,DEBUTSTEP!$BE$4:$BF$33,2,FALSE)","v":0.5},"Aléatoire",{"$f":"VLOOKUP(U5,DEBUTSTEP!$BE$4:$BF$33,2,FALSE)","v":0.5},"Aléatoire",{"$f":"VLOOKUP(W5,DEBUTSTEP!$BE$4:$BF$33,2,FALSE)","v":0.5},"Aléatoire",{"$f":"VLOOKUP(Y5,DEBUTSTEP!$BE$4:$BF$33,2,FALSE)","v":0.5},"Aléatoire",{"$f":"VLOOKUP(AA5,DEBUTSTEP!$BE$4:$BF$33,2,FALSE)","v":0.5},"Aléatoire",{"$f":"VLOOKUP(AC5,DEBUTSTEP!$BE$4:$BF$33,2,FALSE)","v":0.5},"Aléatoire",{"$f":"VLOOKUP(AE5,DEBUTSTEP!$BE$4:$BF$33,2,FALSE)","v":0.5},"Aléatoire",{"$f":"VLOOKUP(AG5,DEBUTSTEP!$BE$4:$BF$33,2,FALSE)","v":0.5},"Aléatoire",{"$f":"VLOOKUP(AI5,DEBUTSTEP!$BE$4:$BF$33,2,FALSE)","v":0.5},"Aléatoire",{"$f":"VLOOKUP(AK5,DEBUTSTEP!$BE$4:$BF$33,2,FALSE)","v":0.5},"Aléatoire",{"$f":"VLOOKUP(AM5,DEBUTSTEP!$BE$4:$BF$33,2,FALSE)","v":0.5},"Aléatoire",{"$f":"VLOOKUP(AO5,DEBUTSTEP!$BE$4:$BF$33,2,FALSE)","v":0.5},"Aléatoire",{"$f":"VLOOKUP(AQ5,DEBUTSTEP!$BE$4:$BF$33,2,FALSE)","v":0.5},"Aléatoire",{"$f":"VLOOKUP(AS5,DEBUTSTEP!$BE$4:$BF$33,2,FALSE)","v":0.5},"Aléatoire",{"$f":"VLOOKUP(AU5,DEBUTSTEP!$BE$4:$BF$33,2,FALSE)","v":0.5},"Aléatoire",{"$f":"VLOOKUP(AW5,DEBUTSTEP!$BE$4:$BF$33,2,FALSE)","v":0.5},"Aléatoire",{"$f":"VLOOKUP(AY5,DEBUTSTEP!$BE$4:$BF$33,2,FALSE)","v":0.5},"Aléatoire",{"$f":"VLOOKUP(BA5,DEBUTSTEP!$BE$4:$BF$33,2,FALSE)","v":0.5},"Aléatoire",{"$f":"VLOOKUP(BC5,DEBUTSTEP!$BE$4:$BF$33,2,FALSE)","v":0.5},"Aléatoire",{"$f":"VLOOKUP(BE5,DEBUTSTEP!$BE$4:$BF$33,2,FALSE)","v":0.5},"Aléatoire",{"$f":"VLOOKUP(BG5,DEBUTSTEP!$BE$4:$BF$33,2,FALSE)","v":0.5},"Aléatoire",{"$f":"VLOOKUP(BI5,DEBUTSTEP!$BE$4:$BF$33,2,FALSE)","v":0.5},"Aléatoire",{"$f":"VLOOKUP(BK5,DEBUTSTEP!$BE$4:$BF$33,2,FALSE)","v":0.5},"Aléatoire",{"$f":"VLOOKUP(BM5,DEBUTSTEP!$BE$4:$BF$33,2,FALSE)","v":0.5},"Aléatoire",{"$f":"VLOOKUP(BO5,DEBUTSTEP!$BE$4:$BF$33,2,FALSE)","v":0.5},"Aléatoire",{"$f":"VLOOKUP(BQ5,DEBUTSTEP!$BE$4:$BF$33,2,FALSE)","v":0.5},"Aléatoire",{"$f":"VLOOKUP(BS5,DEBUTSTEP!$BE$4:$BF$33,2,FALSE)","v":0.5}]
[null,"ETAPE",null,null,null,"->",null,null,null,null,null,null,null,null,null,"->",null,null,null,null,null,null,null,null,null,"->",null,null,null,null,null,null,null,null,null,"->",null,null,null,null,null,null,null,null,null,"->",null,null,null,null,null,null,null,null,null,"->",null,null,null,null,null,null,null,null,null,"->"]
[null,"Cohérence de l'enchainement","Aucune ",{"$f":"VLOOKUP(C7,DEBUTSTEP!$BG$4:$BH$33,2,FALSE)","v":0},"Cohérent",{"$f":"VLOOKUP(E7,DEBUTSTEP!$BG$4:$BH$33,2,FALSE)","v":1},"Incohérent",{"$f":"VLOOKUP(G7,DEBUTSTEP!$BG$4:$BH$33,2,FALSE)","v":0.5},"Incohérent",{"$f":"VLOOKUP(I7,DEBUTSTEP!$BG$4:$BH$33,2,FALSE)","v":0.5},"Incohérent",{"$f":"VLOOKUP(K7,DEBUTSTEP!$BG$4:$BH$33,2,FALSE)","v":0.5},"Incohérent",{"$f":"VLOOKUP(M7,DEBUTSTEP!$BG$4:$BH$33,2,FALSE)","v":0.5},"Incohérent",{"$f":"VLOOKUP(O7,DEBUTSTEP!$BG$4:$BH$33,2,FALSE)","v":0.5},"Incohérent",{"$f":"VLOOKUP(Q7,DEBUTSTEP!$BG$4:$BH$33,2,FALSE)","v":0.5},"Incohérent",{"$f":"VLOOKUP(S7,DEBUTSTEP!$BG$4:$BH$33,2,FALSE)","v":0.5},"Incohérent",{"$f":"VLOOKUP(U7,DEBUTSTEP!$BG$4:$BH$33,2,FALSE)","v":0.5},"Incohérent",{"$f":"VLOOKUP(W7,DEBUTSTEP!$BG$4:$BH$33,2,FALSE)","v":0.5},"Incohérent",{"$f":"VLOOKUP(Y7,DEBUTSTEP!$BG$4:$BH$33,2,FALSE)","v":0.5},"Incohérent",{"$f":"VLOOKUP(AA7,DEBUTSTEP!$BG$4:$BH$33,2,FALSE)","v":0.5},"Incohérent",{"$f":"VLOOKUP(AC7,DEBUTSTEP!$BG$4:$BH$33,2,FALSE)","v":0.5},"Incohérent",{"$f":"VLOOKUP(AE7,DEBUTSTEP!$BG$4:$BH$33,2,FALSE)","v":0.5},"Incohérent",{"$f":"VLOOKUP(AG7,DEBUTSTEP!$BG$4:$BH$33,2,FALSE)","v":0.5},"Incohérent",{"$f":"VLOOKUP(AI7,DEBUTSTEP!$BG$4:$BH$33,2,FALSE)","v":0.5},"Incohérent",{"$f":"VLOOKUP(AK7,DEBUTSTEP!$BG$4:$BH$33,2,FALSE)","v":0.5},"Incohérent",{"$f":"VLOOKUP(AM7,DEBUTSTEP!$BG$4:$BH$33,2,FALSE)","v":0.5},"Incohérent",{"$f":"VLOOKUP(AO7,DEBUTSTEP!$BG$4:$BH$33,2,FALSE)","v":0.5},"Incohérent",{"$f":"VLOOKUP(AQ7,DEBUTSTEP!$BG$4:$BH$33,2,FALSE)","v":0.5},"Incohérent",{"$f":"VLOOKUP(AS7,DEBUTSTEP!$BG$4:$BH$33,2,FALSE)","v":0.5},"Incohérent",{"$f":"VLOOKUP(AU7,DEBUTSTEP!$BG$4:$BH$33,2,FALSE)","v":0.5},"Incohérent",{"$f":"VLOOKUP(AW7,DEBUTSTEP!$BG$4:$BH$33,2,FALSE)","v":0.5},"Incohérent",{"$f":"VLOOKUP(AY7,DEBUTSTEP!$BG$4:$BH$33,2,FALSE)","v":0.5},"Incohérent",{"$f":"VLOOKUP(BA7,DEBUTSTEP!$BG$4:$BH$33,2,FALSE)","v":0.5},"Incohérent",{"$f":"VLOOKUP(BC7,DEBUTSTEP!$BG$4:$BH$33,2,FALSE)","v":0.5},"Incohérent",{"$f":"VLOOKUP(BE7,DEBUTSTEP!$BG$4:$BH$33,2,FALSE)","v":0.5},"Incohérent",{"$f":"VLOOKUP(BG7,DEBUTSTEP!$BG$4:$BH$33,2,FALSE)","v":0.5},"Incohérent",{"$f":"VLOOKUP(BI7,DEBUTSTEP!$BG$4:$BH$33,2,FALSE)","v":0.5},"Incohérent",{"$f":"VLOOKUP(BK7,DEBUTSTEP!$BG$4:$BH$33,2,FALSE)","v":0.5},"Incohérent",{"$f":"VLOOKUP(BM7,DEBUTSTEP!$BG$4:$BH$33,2,FALSE)","v":0.5},"Incohérent",{"$f":"VLOOKUP(BO7,DEBUTSTEP!$BG$4:$BH$33,2,FALSE)","v":0.5},"Incohérent",{"$f":"VLOOKUP(BQ7,DEBUTSTEP!$BG$4:$BH$33,2,FALSE)","v":0.5},"Incohérent",{"$f":"VLOOKUP(BS7,DEBUTSTEP!$BG$4:$BH$33,2,FALSE)","v":0.5}]
["PRODUIRE","ETAPE",null,null,null,"->",null,null,null,null,null,null,null,null,null,"->",null,null,null,null,null,null,null,null,null,"->",null,null,null,null,null,null,null,null,null,"->",null,null,null,null,null,null,null,null,null,"->",null,null,null,null,null,null,null,null,null,"->",null,null,null,null,null,null,null,null,null,"->"]
[null,"Fourchette FCE","Le plus souvent dedans",{"$f":"VLOOKUP(C9,DEBUTSTEP!$BI$4:$BJ$33,2,FALSE)","v":4},"En dehors",{"$f":"VLOOKUP(E9,DEBUTSTEP!$BI$4:$BJ$33,2,FALSE)","v":1},"En dehors",{"$f":"VLOOKUP(G9,DEBUTSTEP!$BI$4:$BJ$33,2,FALSE)","v":1},"En dehors",{"$f":"VLOOKUP(I9,DEBUTSTEP!$BI$4:$BJ$33,2,FALSE)","v":1},"En dehors",{"$f":"VLOOKUP(K9,DEBUTSTEP!$BI$4:$BJ$33,2,FALSE)","v":1},"En dehors",{"$f":"VLOOKUP(M9,DEBUTSTEP!$BI$4:$BJ$33,2,FALSE)","v":1},"En dehors",{"$f":"VLOOKUP(O9,DEBUTSTEP!$BI$4:$BJ$33,2,FALSE)","v":1},"En dehors",{"$f":"VLOOKUP(Q9,DEBUTSTEP!$BI$4:$BJ$33,2,FALSE)","v":1},"En dehors",{"$f":"VLOOKUP(S9,DEBUTSTEP!$BI$4:$BJ$33,2,FALSE)","v":1},"En dehors",{"$f":"VLOOKUP(U9,DEBUTSTEP!$BI$4:$BJ$33,2,FALSE)","v":1},"En dehors",{"$f":"VLOOKUP(W9,DEBUTSTEP!$BI$4:$BJ$33,2,FALSE)","v":1},"En dehors",{"$f":"VLOOKUP(Y9,DEBUTSTEP!$BI$4:$BJ$33,2,FALSE)","v":1},"En dehors",{"$f":"VLOOKUP(AA9,DEBUTSTEP!$BI$4:$BJ$33,2,FALSE)","v":1},"En dehors",{"$f":"VLOOKUP(AC9,DEBUTSTEP!$BI$4:$BJ$33,2,FALSE)","v":1},"En dehors",{"$f":"VLOOKUP(AE9,DEBUTSTEP!$BI$4:$BJ$33,2,FALSE)","v":1},"En dehors",{"$f":"VLOOKUP(AG9,DEBUTSTEP!$BI$4:$BJ$33,2,FALSE)","v":1},"En dehors",{"$f":"VLOOKUP(AI9,DEBUTSTEP!$BI$4:$BJ$33,2,FALSE)","v":1},"En dehors",{"$f":"VLOOKUP(AK9,DEBUTSTEP!$BI$4:$BJ$33,2,FALSE)","v":1},"En dehors",{"$f":"VLOOKUP(AM9,DEBUTSTEP!$BI$4:$BJ$33,2,FALSE)","v":1},"En dehors",{"$f":"VLOOKUP(AO9,DEBUTSTEP!$BI$4:$BJ$33,2,FALSE)","v":1},"En dehors",{"$f":"VLOOKUP(AQ9,DEBUTSTEP!$BI$4:$BJ$33,2,FALSE)","v":1},"En dehors",{"$f":"VLOOKUP(AS9,DEBUTSTEP!$BI$4:$BJ$33,2,FALSE)","v":1},"En dehors",{"$f":"VLOOKUP(AU9,DEBUTSTEP!$BI$4:$BJ$33,2,FALSE)","v":1},"En dehors",{"$f":"VLOOKUP(AW9,DEBUTSTEP!$BI$4:$BJ$33,2,FALSE)","v":1},"En dehors",{"$f":"VLOOKUP(AY9,DEBUTSTEP!$BI$4:$BJ$33,2,FALSE)","v":1},"En dehors",{"$f":"VLOOKUP(BA9,DEBUTSTEP!$BI$4:$BJ$33,2,FALSE)","v":1},"En dehors",{"$f":"VLOOKUP(BC9,DEBUTSTEP!$BI$4:$BJ$33,2,FALSE)","v":1},"En dehors",{"$f":"VLOOKUP(BE9,DEBUTSTEP!$BI$4:$BJ$33,2,FALSE)","v":1},"En dehors",{"$f":"VLOOKUP(BG9,DEBUTSTEP!$BI$4:$BJ$33,2,FALSE)","v":1},"En dehors",{"$f":"VLOOKUP(BI9,DEBUTSTEP!$BI$4:$BJ$33,2,FALSE)","v":1},"En dehors",{"$f":"VLOOKUP(BK9,DEBUTSTEP!$BI$4:$BJ$33,2,FALSE)","v":1},"En dehors",{"$f":"VLOOKUP(BM9,DEBUTSTEP!$BI$4:$BJ$33,2,FALSE)","v":1},"En dehors",{"$f":"VLOOKUP(BO9,DEBUTSTEP!$BI$4:$BJ$33,2,FALSE)","v":1},"En dehors",{"$f":"VLOOKUP(BQ9,DEBUTSTEP!$BI$4:$BJ$33,2,FALSE)","v":1},"En dehors",{"$f":"VLOOKUP(BS9,DEBUTSTEP!$BI$4:$BJ$33,2,FALSE)","v":1}]
[null,"ETAPE",null,null,null,"->",null,null,null,null,null,null,null,null,null,"->",null,null,null,null,null,null,null,null,null,"->",null,null,null,null,null,null,null,null,null,"->",null,null,null,null,null,null,null,null,null,"->",null,null,null,null,null,null,null,null,null,"->",null,null,null,null,null,null,null,null,null,"->"]
[null,"SECU","Nombreuses erreurs",{"$f":"VLOOKUP(C11,DEBUTSTEP!$BK$4:$BL$33,2,FALSE)","v":1},"Nombreuses erreurs",{"$f":"VLOOKUP(E11,DEBUTSTEP!$BK$4:$BL$33,2,FALSE)","v":1},"Nombreuses erreurs",{"$f":"VLOOKUP(G11,DEBUTSTEP!$BK$4:$BL$33,2,FALSE)","v":1},"Nombreuses erreurs",{"$f":"VLOOKUP(I11,DEBUTSTEP!$BK$4:$BL$33,2,FALSE)","v":1},"Nombreuses erreurs",{"$f":"VLOOKUP(K11,DEBUTSTEP!$BK$4:$BL$33,2,FALSE)","v":1},"Nombreuses erreurs",{"$f":"VLOOKUP(M11,DEBUTSTEP!$BK$4:$BL$33,2,FALSE)","v":1},"Nombreuses erreurs",{"$f":"VLOOKUP(O11,DEBUTSTEP!$BK$4:$BL$33,2,FALSE)","v":1},"Nombreuses erreurs",{"$f":"VLOOKUP(Q11,DEBUTSTEP!$BK$4:$BL$33,2,FALSE)","v":1},"Nombreuses erreurs",{"$f":"VLOOKUP(S11,DEBUTSTEP!$BK$4:$BL$33,2,FALSE)","v":1},"Nombreuses erreurs",{"$f":"VLOOKUP(U11,DEBUTSTEP!$BK$4:$BL$33,2,FALSE)","v":1},"Nombreuses erreurs",{"$f":"VLOOKUP(W11,DEBUTSTEP!$BK$4:$BL$33,2,FALSE)","v":1},"Nombreuses erreurs",{"$f":"VLOOKUP(Y11,DEBUTSTEP!$BK$4:$BL$33,2,FALSE)","v":1},"Nombreuses erreurs",{"$f":"VLOOKUP(AA11,DEBUTSTEP!$BK$4:$BL$33,2,FALSE)","v":1},"Nombreuses erreurs",{"$f":"VLOOKUP(AC11,DEBUTSTEP!$BK$4:$BL$33,2,FALSE)","v":1},"Nombreuses erreurs",{"$f":"VLOOKUP(AE11,DEBUTSTEP!$BK$4:$BL$33,2,FALSE)","v":1},"Nombreuses erreurs",{"$f":"VLOOKUP(AG11,DEBUTSTEP!$BK$4:$BL$33,2,FALSE)","v":1},"Nombreuses erreurs",{"$f":"VLOOKUP(AI11,DEBUTSTEP!$BK$4:$BL$33,2,FALSE)","v":1},"Nombreuses erreurs",{"$f":"VLOOKUP(AK11,DEBUTSTEP!$BK$4:$BL$33,2,FALSE)","v":1},"Nombreuses erreurs",{"$f":"VLOOKUP(AM11,DEBUTSTEP!$BK$4:$BL$33,2,FALSE)","v":1},"Nombreuses erreurs",{"$f":"VLOOKUP(AO11,DEBUTSTEP!$BK$4:$BL$33,2,FALSE)","v":1},"Nombreuses erreurs",{"$f":"VLOOKUP(AQ11,DEBUTSTEP!$BK$4:$BL$33,2,FALSE)","v":1},"Nombreuses erreurs",{"$f":"VLOOKUP(AS11,DEBUTSTEP!$BK$4:$BL$33,2,FALSE)","v":1},"Nombreuses erreurs",{"$f":"VLOOKUP(AU11,DEBUTSTEP!$BK$4:$BL$33,2,FALSE)","v":1},"Nombreuses erreurs",{"$f":"VLOOKUP(AW11,DEBUTSTEP!$BK$4:$BL$33,2,FALSE)","v":1},"Nombreuses erreurs",{"$f":"VLOOKUP(AY11,DEBUTSTEP!$BK$4:$BL$33,2,FALSE)","v":1},"Nombreuses erreurs",{"$f":"VLOOKUP(BA11,DEBUTSTEP!$BK$4:$BL$33,2,FALSE)","v":1},"Nombreuses erreurs",{"$f":"VLOOKUP(BC11,DEBUTSTEP!$BK$4:$BL$33,2,FALSE)","v":1},"Nombreuses erreurs",{"$f":"VLOOKUP(BE11,DEBUTSTEP!$BK$4:$BL$33,2,FALSE)","v":1},"Nombreuses erreurs",{"$f":"VLOOKUP(BG11,DEBUTSTEP!$BK$4:$BL$33,2,FALSE)","v":1},"Nombreuses erreurs",{"$f":"VLOOKUP(BI11,DEBUTSTEP!$BK$4:$BL$33,2,FALSE)","v":1},"Nombreuses erreurs",{"$f":"VLOOKUP(BK11,DEBUTSTEP!$BK$4:$BL$33,2,FALSE)","v":1},"Nombreuses erreurs",{"$f":"VLOOKUP(BM11,DEBUTSTEP!$BK$4:$BL$33,2,FALSE)","v":1},"Nombreuses erreurs",{"$f":"VLOOKUP(BO11,DEBUTSTEP!$BK$4:$BL$33,2,FALSE)","v":1},"Nombreuses erreurs",{"$f":"VLOOKUP(BQ11,DEBUTSTEP!$BK$4:$BL$33,2,FALSE)","v":1},"Nombreuses erreurs",{"$f":"VLOOKUP(BS11,DEBUTSTEP!$BK$4:$BL$33,2,FALSE)","v":1}]
[null,"ETAPE",null,null,null,"->",null,null,null,null,null,null,null,null,null,"->",null,null,null,null,null,null,null,null,null,"->",null,null,null,null,null,null,null,null,null,"->",null,null,null,null,null,null,null,null,null,"->",null,null,null,null,null,null,null,null,null,"->",null,null,null,null,null,null,null,null,null,"->"]
[null,"Continuité","Des arrêts",{"$f":"VLOOKUP(C13,DEBUTSTEP!$BM$4:$BN$33,2,FALSE)","v":1},"Quelques ruptures",{"$f":"VLOOKUP(E13,DEBUTSTEP!$BM$4:$BN$33,2,FALSE)","v":1.5},"Max 2 ruptures",{"$f":"VLOOKUP(G13,DEBUTSTEP!$BM$4:$BN$33,2,FALSE)","v":3},"Des arrêts",{"$f":"VLOOKUP(I13,DEBUTSTEP!$BM$4:$BN$33,2,FALSE)","v":1},"Des arrêts",{"$f":"VLOOKUP(K13,DEBUTSTEP!$BM$4:$BN$33,2,FALSE)","v":1},"Des arrêts",{"$f":"VLOOKUP(M13,DEBUTSTEP!$BM$4:$BN$33,2,FALSE)","v":1},"Des arrêts",{"$f":"VLOOKUP(O13,DEBUTSTEP!$BM$4:$BN$33,2,FALSE)","v":1},"Des arrêts",{"$f":"VLOOKUP(Q13,DEBUTSTEP!$BM$4:$BN$33,2,FALSE)","v":1},"Des arrêts",{"$f":"VLOOKUP(S13,DEBUTSTEP!$BM$4:$BN$33,2,FALSE)","v":1},"Des arrêts",{"$f":"VLOOKUP(U13,DEBUTSTEP!$BM$4:$BN$33,2,FALSE)","v":1},"Des arrêts",{"$f":"VLOOKUP(W13,DEBUTSTEP!$BM$4:$BN$33,2,FALSE)","v":1},"Des arrêts",{"$f":"VLOOKUP(Y13,DEBUTSTEP!$BM$4:$BN$33,2,FALSE)","v":1},"Des arrêts",{"$f":"VLOOKUP(AA13,DEBUTSTEP!$BM$4:$BN$33,2,FALSE)","v":1},"Des arrêts",{"$f":"VLOOKUP(AC13,DEBUTSTEP!$BM$4:$BN$33,2,FALSE)","v":1},"Des arrêts",{"$f":"VLOOKUP(AE13,DEBUTSTEP!$BM$4:$BN$33,2,FALSE)","v":1},"Des arrêts",{"$f":"VLOOKUP(AG13,DEBUTSTEP!$BM$4:$BN$33,2,FALSE)","v":1},"Des arrêts",{"$f":"VLOOKUP(AI13,DEBUTSTEP!$BM$4:$BN$33,2,FALSE)","v":1},"Des arrêts",{"$f":"VLOOKUP(AK13,DEBUTSTEP!$BM$4:$BN$33,2,FALSE)","v":1},"Des arrêts",{"$f":"VLOOKUP(AM13,DEBUTSTEP!$BM$4:$BN$33,2,FALSE)","v":1},"Des arrêts",{"$f":"VLOOKUP(AO13,DEBUTSTEP!$BM$4:$BN$33,2,FALSE)","v":1},"Des arrêts",{"$f":"VLOOKUP(AQ13,DEBUTSTEP!$BM$4:$BN$33,2,FALSE)","v":1},"Des arrêts",{"$f":"VLOOKUP(AS13,DEBUTSTEP!$BM$4:$BN$33,2,FALSE)","v":1},"Des arrêts",{"$f":"VLOOKUP(AU13,DEBUTSTEP!$BM$4:$BN$33,2,FALSE)","v":1},"Des arrêts",{"$f":"VLOOKUP(AW13,DEBUTSTEP!$BM$4:$BN$33,2,FALSE)","v":1},"Des arrêts",{"$f":"VLOOKUP(AY13,DEBUTSTEP!$BM$4:$BN$33,2,FALSE)","v":1},"Des arrêts",{"$f":"VLOOKUP(BA13,DEBUTSTEP!$BM$4:$BN$33,2,FALSE)","v":1},"Des arrêts",{"$f":"VLOOKUP(BC13,DEBUTSTEP!$BM$4:$BN$33,2,FALSE)","v":1},"Des arrêts",{"$f":"VLOOKUP(BE13,DEBUTSTEP!$BM$4:$BN$33,2,FALSE)","v":1},"Des arrêts",{"$f":"VLOOKUP(BG13,DEBUTSTEP!$BM$4:$BN$33,2,FALSE)","v":1},"Des arrêts",{"$f":"VLOOKUP(BI13,DEBUTSTEP!$BM$4:$BN$33,2,FALSE)","v":1},"Des arrêts",{"$f":"VLOOKUP(BK13,DEBUTSTEP!$BM$4:$BN$33,2,FALSE)","v":1},"Des arrêts",{"$f":"VLOOKUP(BM13,DEBUTSTEP!$BM$4:$BN$33,2,FALSE)","v":1},"Des arrêts",{"$f":"VLOOKUP(BO13,DEBUTSTEP!$BM$4:$BN$33,2,FALSE)","v":1},"Des arrêts",{"$f":"VLOOKUP(BQ13,DEBUTSTEP!$BM$4:$BN$33,2,FALSE)","v":1},"Des arrêts",{"$f":"VLOOKUP(BS13,DEBUTSTEP!$BM$4:$BN$33,2,FALSE)","v":1}]
[null,"ETAPE",null,null,null,"->",null,null,null,null,null,null,null,null,null,"->",null,null,null,null,null,null,null,null,null,"->",null,null,null,null,null,null,null,null,null,"->",null,null,null,null,null,null,null,null,null,"->",null,null,null,null,null,null,null,null,null,"->",null,null,null,null,null,null,null,null,null,"->"]
[null,"Tonicité / Amplitude","Manque",{"$f":"VLOOKUP(C15,DEBUTSTEP!$BO$4:$BP$33,2,FALSE)","v":1},"Manque",{"$f":"VLOOKUP(E15,DEBUTSTEP!$BO$4:$BP$33,2,FALSE)","v":1},"Manque",{"$f":"VLOOKUP(G15,DEBUTSTEP!$BO$4:$BP$33,2,FALSE)","v":1},"Manque",{"$f":"VLOOKUP(I15,DEBUTSTEP!$BO$4:$BP$33,2,FALSE)","v":1},"Manque",{"$f":"VLOOKUP(K15,DEBUTSTEP!$BO$4:$BP$33,2,FALSE)","v":1},"Manque",{"$f":"VLOOKUP(M15,DEBUTSTEP!$BO$4:$BP$33,2,FALSE)","v":1},"Maintenue",{"$f":"VLOOKUP(O15,DEBUTSTEP!$BO$4:$BP$33,2,FALSE)","v":4},"Manque",{"$f":"VLOOKUP(Q15,DEBUTSTEP!$BO$4:$BP$33,2,FALSE)","v":1},"Manque",{"$f":"VLOOKUP(S15,DEBUTSTEP!$BO$4:$BP$33,2,FALSE)","v":1},"Manque",{"$f":"VLOOKUP(U15,DEBUTSTEP!$BO$4:$BP$33,2,FALSE)","v":1},"Manque",{"$f":"VLOOKUP(W15,DEBUTSTEP!$BO$4:$BP$33,2,FALSE)","v":1},"Manque",{"$f":"VLOOKUP(Y15,DEBUTSTEP!$BO$4:$BP$33,2,FALSE)","v":1},"Manque",{"$f":"VLOOKUP(AA15,DEBUTSTEP!$BO$4:$BP$33,2,FALSE)","v":1},"Manque",{"$f":"VLOOKUP(AC15,DEBUTSTEP!$BO$4:$BP$33,2,FALSE)","v":1},"Manque",{"$f":"VLOOKUP(AE15,DEBUTSTEP!$BO$4:$BP$33,2,FALSE)","v":1},"Manque",{"$f":"VLOOKUP(AG15,DEBUTSTEP!$BO$4:$BP$33,2,FALSE)","v":1},"Manque",{"$f":"VLOOKUP(AI15,DEBUTSTEP!$BO$4:$BP$33,2,FALSE)","v":1},"Manque",{"$f":"VLOOKUP(AK15,DEBUTSTEP!$BO$4:$BP$33,2,FALSE)","v":1},"Manque",{"$f":"VLOOKUP(AM15,DEBUTSTEP!$BO$4:$BP$33,2,FALSE)","v":1},"Manque",{"$f":"VLOOKUP(AO15,DEBUTSTEP!$BO$4:$BP$33,2,FALSE)","v":1},"Manque",{"$f":"VLOOKUP(AQ15,DEBUTSTEP!$BO$4:$BP$33,2,FALSE)","v":1},"Manque",{"$f":"VLOOKUP(AS15,DEBUTSTEP!$BO$4:$BP$33,2,FALSE)","v":1},"Manque",{"$f":"VLOOKUP(AU15,DEBUTSTEP!$BO$4:$BP$33,2,FALSE)","v":1},"Manque",{"$f":"VLOOKUP(AW15,DEBUTSTEP!$BO$4:$BP$33,2,FALSE)","v":1},"Manque",{"$f":"VLOOKUP(AY15,DEBUTSTEP!$BO$4:$BP$33,2,FALSE)","v":1},"Manque",{"$f":"VLOOKUP(BA15,DEBUTSTEP!$BO$4:$BP$33,2,FALSE)","v":1},"Manque",{"$f":"VLOOKUP(BC15,DEBUTSTEP!$BO$4:$BP$33,2,FALSE)","v":1},"Manque",{"$f":"VLOOKUP(BE15,DEBUTSTEP!$BO$4:$BP$33,2,FALSE)","v":1},"Manque",{"$f":"VLOOKUP(BG15,DEBUTSTEP!$BO$4:$BP$33,2,FALSE)","v":1},"Manque",{"$f":"VLOOKUP(BI15,DEBUTSTEP!$BO$4:$BP$33,2,FALSE)","v":1},"Manque",{"$f":"VLOOKUP(BK15,DEBUTSTEP!$BO$4:$BP$33,2,FALSE)","v":1},"Manque",{"$f":"VLOOKUP(BM15,DEBUTSTEP!$BO$4:$BP$33,2,FALSE)","v":1},"Manque",{"$f":"VLOOKUP(BO15,DEBUTSTEP!$BO$4:$BP$33,2,FALSE)","v":1},"Manque",{"$f":"VLOOKUP(BQ15,DEBUTSTEP!$BO$4:$BP$33,2,FALSE)","v":1},"Manque",{"$f":"VLOOKUP(BS15,DEBUTSTEP!$BO$4:$BP$33,2,FALSE)","v":1}]
["ANALYSER","ETAPE",null,null,null,"->",null,null,null,null,null,null,null,null,null,"->",null,null,null,null,null,null,null,null,null,"->",null,null,null,null,null,null,null,null,null,"->",null,null,null,null,null,null,null,null,null,"->",null,null,null,null,null,null,null,null,null,"->",null,null,null,null,null,null,null,null,null,"->"]
[null,"Choix des paramètres","Peu de référence",{"$f":"VLOOKUP(C17,DEBUTSTEP!$BQ$4:$BR$33,2,FALSE)","v":0.5},"Peu de référence",{"$f":"VLOOKUP(E17,DEBUTSTEP!$BQ$4:$BR$33,2,FALSE)","v":0.5},"Peu de référence",{"$f":"VLOOKUP(G17,DEBUTSTEP!$BQ$4:$BR$33,2,FALSE)","v":0.5},"Peu de référence",{"$f":"VLOOKUP(I17,DEBUTSTEP!$BQ$4:$BR$33,2,FALSE)","v":0.5},"Peu de référence",{"$f":"VLOOKUP(K17,DEBUTSTEP!$BQ$4:$BR$33,2,FALSE)","v":0.5},"Peu de référence",{"$f":"VLOOKUP(M17,DEBUTSTEP!$BQ$4:$BR$33,2,FALSE)","v":0.5},"Peu de référence",{"$f":"VLOOKUP(O17,DEBUTSTEP!$BQ$4:$BR$33,2,FALSE)","v":0.5},"Peu de référence",{"$f":"VLOOKUP(Q17,DEBUTSTEP!$BQ$4:$BR$33,2,FALSE)","v":0.5},"Peu de référence",{"$f":"VLOOKUP(S17,DEBUTSTEP!$BQ$4:$BR$33,2,FALSE)","v":0.5},"Peu de référence",{"$f":"VLOOKUP(U17,DEBUTSTEP!$BQ$4:$BR$33,2,FALSE)","v":0.5},"Peu de référence",{"$f":"VLOOKUP(W17,DEBUTSTEP!$BQ$4:$BR$33,2,FALSE)","v":0.5},"Peu de référence",{"$f":"VLOOKUP(Y17,DEBUTSTEP!$BQ$4:$BR$33,2,FALSE)","v":0.5},"Peu de référence",{"$f":"VLOOKUP(AA17,DEBUTSTEP!$BQ$4:$BR$33,2,FALSE)","v":0.5},"Peu de référence",{"$f":"VLOOKUP(AC17,DEBUTSTEP!$BQ$4:$BR$33,2,FALSE)","v":0.5},"Peu de référence",{"$f":"VLOOKUP(AE17,DEBUTSTEP!$BQ$4:$BR$33,2,FALSE)","v":0.5},"Peu de référence",{"$f":"VLOOKUP(AG17,DEBUTSTEP!$BQ$4:$BR$33,2,FALSE)","v":0.5},"Peu de référence",{"$f":"VLOOKUP(AI17,DEBUTSTEP!$BQ$4:$BR$33,2,FALSE)","v":0.5},"Peu de référence",{"$f":"VLOOKUP(AK17,DEBUTSTEP!$BQ$4:$BR$33,2,FALSE)","v":0.5},"Peu de référence",{"$f":"VLOOKUP(AM17,DEBUTSTEP!$BQ$4:$BR$33,2,FALSE)","v":0.5},"Peu de référence",{"$f":"VLOOKUP(AO17,DEBUTSTEP!$BQ$4:$BR$33,2,FALSE)","v":0.5},"Peu de référence",{"$f":"VLOOKUP(AQ17,DEBUTSTEP!$BQ$4:$BR$33,2,FALSE)","v":0.5},"Peu de référence",{"$f":"VLOOKUP(AS17,DEBUTSTEP!$BQ$4:$BR$33,2,FALSE)","v":0.5},"Peu de référence",{"$f":"VLOOKUP(AU17,DEBUTSTEP!$BQ$4:$BR$33,2,FALSE)","v":0.5},"Peu de référence",{"$f":"VLOOKUP(AW17,DEBUTSTEP!$BQ$4:$BR$33,2,FALSE)","v":0.5},"Peu de référence",{"$f":"VLOOKUP(AY17,DEBUTSTEP!$BQ$4:$BR$33,2,FALSE)","v":0.5},"Peu de référence",{"$f":"VLOOKUP(BA17,DEBUTSTEP!$BQ$4:$BR$33,2,FALSE)","v":0.5},"Peu de référence",{"$f":"VLOOKUP(BC17,DEBUTSTEP!$BQ$4:$BR$33,2,FALSE)","v":0.5},"Peu de référence",{"$f":"VLOOKUP(BE17,DEBUTSTEP!$BQ$4:$BR$33,2,FALSE)","v":0.5},"Peu de référence",{"$f":"VLOOKUP(BG17,DEBUTSTEP!$BQ$4:$BR$33,2,FALSE)","v":0.5},"Peu de référence",{"$f":"VLOOKUP(BI17,DEBUTSTEP!$BQ$4:$BR$33,2,FALSE)","v":0.5},"Peu de référence",{"$f":"VLOOKUP(BK17,DEBUTSTEP!$BQ$4:$BR$33,2,FALSE)","v":0.5},"Peu de référence",{"$f":"VLOOKUP(BM17,DEBUTSTEP!$BQ$4:$BR$33,2,FALSE)","v":0.5},"Peu de référence",{"$f":"VLOOKUP(BO17,DEBUTSTEP!$BQ$4:$BR$33,2,FALSE)","v":0.5},"Peu de référence",{"$f":"VLOOKUP(BQ17,DEBUTSTEP!$BQ$4:$BR$33,2,FALSE)","v":0.5},"Peu de référence",{"$f":"VLOOKUP(BS17,DEBUTSTEP!$BQ$4:$BR$33,2,FALSE)","v":0.5}]
[null,"ETAPE",null,null,null,"->",null,null,null,null,null,null,null,null,null,"->",null,null,null,null,null,null,null,null,null,"->",null,null,null,null,null,null,null,null,null,"->",null,null,null,null,null,null,null,null,null,"->",null,null,null,null,null,null,null,null,null,"->",null,null,null,null,null,null,null,null,null,"->"]
[null,"Ressentis","Peu de référence",{"$f":"VLOOKUP(C19,DEBUTSTEP!$BS$4:$BT$33,2,FALSE)","v":0.5},"Peu de référence",{"$f":"VLOOKUP(E19,DEBUTSTEP!$BS$4:$BT$33,2,FALSE)","v":0.5},"Peu de référence",{"$f":"VLOOKUP(G19,DEBUTSTEP!$BS$4:$BT$33,2,FALSE)","v":0.5},"Peu de référence",{"$f":"VLOOKUP(I19,DEBUTSTEP!$BS$4:$BT$33,2,FALSE)","v":0.5},"Peu de référence",{"$f":"VLOOKUP(K19,DEBUTSTEP!$BS$4:$BT$33,2,FALSE)","v":0.5},"Peu de référence",{"$f":"VLOOKUP(M19,DEBUTSTEP!$BS$4:$BT$33,2,FALSE)","v":0.5},"Peu de référence",{"$f":"VLOOKUP(O19,DEBUTSTEP!$BS$4:$BT$33,2,FALSE)","v":0.5},"Peu de référence",{"$f":"VLOOKUP(Q19,DEBUTSTEP!$BS$4:$BT$33,2,FALSE)","v":0.5},"Peu de référence",{"$f":"VLOOKUP(S19,DEBUTSTEP!$BS$4:$BT$33,2,FALSE)","v":0.5},"Peu de référence",{"$f":"VLOOKUP(U19,DEBUTSTEP!$BS$4:$BT$33,2,FALSE)","v":0.5},"Peu de référence",{"$f":"VLOOKUP(W19,DEBUTSTEP!$BS$4:$BT$33,2,FALSE)","v":0.5},"Peu de référence",{"$f":"VLOOKUP(Y19,DEBUTSTEP!$BS$4:$BT$33,2,FALSE)","v":0.5},"Peu de référence",{"$f":"VLOOKUP(AA19,DEBUTSTEP!$BS$4:$BT$33,2,FALSE)","v":0.5},"Peu de référence",{"$f":"VLOOKUP(AC19,DEBUTSTEP!$BS$4:$BT$33,2,FALSE)","v":0.5},"Peu de référence",{"$f":"VLOOKUP(AE19,DEBUTSTEP!$BS$4:$BT$33,2,FALSE)","v":0.5},"Peu de référence",{"$f":"VLOOKUP(AG19,DEBUTSTEP!$BS$4:$BT$33,2,FALSE)","v":0.5},"Peu de référence",{"$f":"VLOOKUP(AI19,DEBUTSTEP!$BS$4:$BT$33,2,FALSE)","v":0.5},"Peu de référence",{"$f":"VLOOKUP(AK19,DEBUTSTEP!$BS$4:$BT$33,2,FALSE)","v":0.5},"Peu de référence",{"$f":"VLOOKUP(AM19,DEBUTSTEP!$BS$4:$BT$33,2,FALSE)","v":0.5},"Peu de référence",{"$f":"VLOOKUP(AO19,DEBUTSTEP!$BS$4:$BT$33,2,FALSE)","v":0.5},"Peu de référence",{"$f":"VLOOKUP(AQ19,DEBUTSTEP!$BS$4:$BT$33,2,FALSE)","v":0.5},"Peu de référence",{"$f":"VLOOKUP(AS19,DEBUTSTEP!$BS$4:$BT$33,2,FALSE)","v":0.5},"Peu de référence",{"$f":"VLOOKUP(AU19,DEBUTSTEP!$BS$4:$BT$33,2,FALSE)","v":0.5},"Peu de référence",{"$f":"VLOOKUP(AW19,DEBUTSTEP!$BS$4:$BT$33,2,FALSE)","v":0.5},"Peu de référence",{"$f":"VLOOKUP(AY19,DEBUTSTEP!$BS$4:$BT$33,2,FALSE)","v":0.5},"Peu de référence",{"$f":"VLOOKUP(BA19,DEBUTSTEP!$BS$4:$BT$33,2,FALSE)","v":0.5},"Peu de référence",{"$f":"VLOOKUP(BC19,DEBUTSTEP!$BS$4:$BT$33,2,FALSE)","v":0.5},"Peu de référence",{"$f":"VLOOKUP(BE19,DEBUTSTEP!$BS$4:$BT$33,2,FALSE)","v":0.5},"Peu de référence",{"$f":"VLOOKUP(BG19,DEBUTSTEP!$BS$4:$BT$33,2,FALSE)","v":0.5},"Peu de référence",{"$f":"VLOOKUP(BI19,DEBUTSTEP!$BS$4:$BT$33,2,FALSE)","v":0.5},"Peu de référence",{"$f":"VLOOKUP(BK19,DEBUTSTEP!$BS$4:$BT$33,2,FALSE)","v":0.5},"Peu de référence",{"$f":"VLOOKUP(BM19,DEBUTSTEP!$BS$4:$BT$33,2,FALSE)","v":0.5},"Peu de référence",{"$f":"VLOOKUP(BO19,DEBUTSTEP!$BS$4:$BT$33,2,FALSE)","v":0.5},"Peu de référence",{"$f":"VLOOKUP(BQ19,DEBUTSTEP!$BS$4:$BT$33,2,FALSE)","v":0.5},"Peu de référence",{"$f":"VLOOKUP(BS19,DEBUTSTEP!$BS$4:$BT$33,2,FALSE)","v":0.5}]
[]
[null,"NOTE",{"$f":"IF(OR(D5=\"x\",D7=\"x\",D9=\"x\",D11=\"x\",D13=\"x\",D15=\"x\",,D17=\"x\",,D19=\"x\"),\"ABSENT\",SUMIF(D5,\"<>X\")+SUMIF(D7,\"<>X\")+SUMIF(D9,\"<>X\")+SUMIF(D11,\"<>X\")+SUMIF(D13,\"<>X\")+SUMIF(D15,\"<>X\")+(SUMIF(D17,\"<>X\")+(SUMIF(D19,\"<>X\"))))","v":8.5},null,{"$f":"IF(OR(F5=\"x\",F7=\"x\",F9=\"x\",F11=\"x\",F13=\"x\",F15=\"x\",,F17=\"x\",,F19=\"x\"),\"ABSENT\",SUMIF(F5,\"<>X\")+SUMIF(F7,\"<>X\")+SUMIF(F9,\"<>X\")+SUMIF(F11,\"<>X\")+SUMIF(F13,\"<>X\")+SUMIF(F15,\"<>X\")+(SUMIF(F17,\"<>X\")+(SUMIF(F19,\"<>X\"))))","v":7.5},null,{"$f":"IF(OR(H5=\"x\",H7=\"x\",H9=\"x\",H11=\"x\",H13=\"x\",H15=\"x\",,H17=\"x\",,H19=\"x\"),\"ABSENT\",SUMIF(H5,\"<>X\")+SUMIF(H7,\"<>X\")+SUMIF(H9,\"<>X\")+SUMIF(H11,\"<>X\")+SUMIF(H13,\"<>X\")+SUMIF(H15,\"<>X\")+(SUMIF(H17,\"<>X\")+(SUMIF(H19,\"<>X\"))))","v":8.5},null,{"$f":"IF(OR(J5=\"x\",J7=\"x\",J9=\"x\",J11=\"x\",J13=\"x\",J15=\"x\",,J17=\"x\",,J19=\"x\"),\"ABSENT\",SUMIF(J5,\"<>X\")+SUMIF(J7,\"<>X\")+SUMIF(J9,\"<>X\")+SUMIF(J11,\"<>X\")+SUMIF(J13,\"<>X\")+SUMIF(J15,\"<>X\")+(SUMIF(J17,\"<>X\")+(SUMIF(J19,\"<>X\"))))","v":6},null,{"$f":"IF(OR(L5=\"x\",L7=\"x\",L9=\"x\",L11=\"x\",L13=\"x\",L15=\"x\",,L17=\"x\",,L19=\"x\"),\"ABSENT\",SUMIF(L5,\"<>X\")+SUMIF(L7,\"<>X\")+SUMIF(L9,\"<>X\")+SUMIF(L11,\"<>X\")+SUMIF(L13,\"<>X\")+SUMIF(L15,\"<>X\")+(SUMIF(L17,\"<>X\")+(SUMIF(L19,\"<>X\"))))","v":6},null,{"$f":"IF(OR(N5=\"x\",N7=\"x\",N9=\"x\",N11=\"x\",N13=\"x\",N15=\"x\",,N17=\"x\",,N19=\"x\"),\"ABSENT\",SUMIF(N5,\"<>X\")+SUMIF(N7,\"<>X\")+SUMIF(N9,\"<>X\")+SUMIF(N11,\"<>X\")+SUMIF(N13,\"<>X\")+SUMIF(N15,\"<>X\")+(SUMIF(N17,\"<>X\")+(SUMIF(N19,\"<>X\"))))","v":6},null,{"$f":"IF(OR(P5=\"x\",P7=\"x\",P9=\"x\",P11=\"x\",P13=\"x\",P15=\"x\",,P17=\"x\",,P19=\"x\"),\"ABSENT\",SUMIF(P5,\"<>X\")+SUMIF(P7,\"<>X\")+SUMIF(P9,\"<>X\")+SUMIF(P11,\"<>X\")+SUMIF(P13,\"<>X\")+SUMIF(P15,\"<>X\")+(SUMIF(P17,\"<>X\")+(SUMIF(P19,\"<>X\"))))","v":10},null,{"$f":"IF(OR(R5=\"x\",R7=\"x\",R9=\"x\",R11=\"x\",R13=\"x\",R15=\"x\",,R17=\"x\",,R19=\"x\"),\"ABSENT\",SUMIF(R5,\"<>X\")+SUMIF(R7,\"<>X\")+SUMIF(R9,\"<>X\")+SUMIF(R11,\"<>X\")+SUMIF(R13,\"<>X\")+SUMIF(R15,\"<>X\")+(SUMIF(R17,\"<>X\")+(SUMIF(R19,\"<>X\"))))","v":5.5},null,{"$f":"IF(OR(T5=\"x\",T7=\"x\",T9=\"x\",T11=\"x\",T13=\"x\",T15=\"x\",,T17=\"x\",,T19=\"x\"),\"ABSENT\",SUMIF(T5,\"<>X\")+SUMIF(T7,\"<>X\")+SUMIF(T9,\"<>X\")+SUMIF(T11,\"<>X\")+SUMIF(T13,\"<>X\")+SUMIF(T15,\"<>X\")+(SUMIF(T17,\"<>X\")+(SUMIF(T19,\"<>X\"))))","v":6},null,{"$f":"IF(OR(V5=\"x\",V7=\"x\",V9=\"x\",V11=\"x\",V13=\"x\",V15=\"x\",,V17=\"x\",,V19=\"x\"),\"ABSENT\",SUMIF(V5,\"<>X\")+SUMIF(V7,\"<>X\")+SUMIF(V9,\"<>X\")+SUMIF(V11,\"<>X\")+SUMIF(V13,\"<>X\")+SUMIF(V15,\"<>X\")+(SUMIF(V17,\"<>X\")+(SUMIF(V19,\"<>X\"))))","v":6},null,{"$f":"IF(OR(X5=\"x\",X7=\"x\",X9=\"x\",X11=\"x\",X13=\"x\",X15=\"x\",,X17=\"x\",,X19=\"x\"),\"ABSENT\",SUMIF(X5,\"<>X\")+SUMIF(X7,\"<>X\")+SUMIF(X9,\"<>X\")+SUMIF(X11,\"<>X\")+SUMIF(X13,\"<>X\")+SUMIF(X15,\"<>X\")+(SUMIF(X17,\"<>X\")+(SUMIF(X19,\"<>X\"))))","v":6},null,{"$f":"IF(OR(Z5=\"x\",Z7=\"x\",Z9=\"x\",Z11=\"x\",Z13=\"x\",Z15=\"x\",,Z17=\"x\",,Z19=\"x\"),\"ABSENT\",SUMIF(Z5,\"<>X\")+SUMIF(Z7,\"<>X\")+SUMIF(Z9,\"<>X\")+SUMIF(Z11,\"<>X\")+SUMIF(Z13,\"<>X\")+SUMIF(Z15,\"<>X\")+(SUMIF(Z17,\"<>X\")+(SUMIF(Z19,\"<>X\"))))","v":6},null,{"$f":"IF(OR(AB5=\"x\",AB7=\"x\",AB9=\"x\",AB11=\"x\",AB13=\"x\",AB15=\"x\",,AB17=\"x\",,AB19=\"x\"),\"ABSENT\",SUMIF(AB5,\"<>X\")+SUMIF(AB7,\"<>X\")+SUMIF(AB9,\"<>X\")+SUMIF(AB11,\"<>X\")+SUMIF(AB13,\"<>X\")+SUMIF(AB15,\"<>X\")+(SUMIF(AB17,\"<>X\")+(SUMIF(AB19,\"<>X\"))))","v":6},null,{"$f":"IF(OR(AD5=\"x\",AD7=\"x\",AD9=\"x\",AD11=\"x\",AD13=\"x\",AD15=\"x\",,AD17=\"x\",,AD19=\"x\"),\"ABSENT\",SUMIF(AD5,\"<>X\")+SUMIF(AD7,\"<>X\")+SUMIF(AD9,\"<>X\")+SUMIF(AD11,\"<>X\")+SUMIF(AD13,\"<>X\")+SUMIF(AD15,\"<>X\")+(SUMIF(AD17,\"<>X\")+(SUMIF(AD19,\"<>X\"))))","v":6},null,{"$f":"IF(OR(AF5=\"x\",AF7=\"x\",AF9=\"x\",AF11=\"x\",AF13=\"x\",AF15=\"x\",,AF17=\"x\",,AF19=\"x\"),\"ABSENT\",SUMIF(AF5,\"<>X\")+SUMIF(AF7,\"<>X\")+SUMIF(AF9,\"<>X\")+SUMIF(AF11,\"<>X\")+SUMIF(AF13,\"<>X\")+SUMIF(AF15,\"<>X\")+(SUMIF(AF17,\"<>X\")+(SUMIF(AF19,\"<>X\"))))","v":6},null,{"$f":"IF(OR(AH5=\"x\",AH7=\"x\",AH9=\"x\",AH11=\"x\",AH13=\"x\",AH15=\"x\",,AH17=\"x\",,AH19=\"x\"),\"ABSENT\",SUMIF(AH5,\"<>X\")+SUMIF(AH7,\"<>X\")+SUMIF(AH9,\"<>X\")+SUMIF(AH11,\"<>X\")+SUMIF(AH13,\"<>X\")+SUMIF(AH15,\"<>X\")+(SUMIF(AH17,\"<>X\")+(SUMIF(AH19,\"<>X\"))))","v":6},null,{"$f":"IF(OR(AJ5=\"x\",AJ7=\"x\",AJ9=\"x\",AJ11=\"x\",AJ13=\"x\",AJ15=\"x\",,AJ17=\"x\",,AJ19=\"x\"),\"ABSENT\",SUMIF(AJ5,\"<>X\")+SUMIF(AJ7,\"<>X\")+SUMIF(AJ9,\"<>X\")+SUMIF(AJ11,\"<>X\")+SUMIF(AJ13,\"<>X\")+SUMIF(AJ15,\"<>X\")+(SUMIF(AJ17,\"<>X\")+(SUMIF(AJ19,\"<>X\"))))","v":6},null,{"$f":"IF(OR(AL5=\"x\",AL7=\"x\",AL9=\"x\",AL11=\"x\",AL13=\"x\",AL15=\"x\",,AL17=\"x\",,AL19=\"x\"),\"ABSENT\",SUMIF(AL5,\"<>X\")+SUMIF(AL7,\"<>X\")+SUMIF(AL9,\"<>X\")+SUMIF(AL11,\"<>X\")+SUMIF(AL13,\"<>X\")+SUMIF(AL15,\"<>X\")+(SUMIF(AL17,\"<>X\")+(SUMIF(AL19,\"<>X\"))))","v":6},null,{"$f":"IF(OR(AN5=\"x\",AN7=\"x\",AN9=\"x\",AN11=\"x\",AN13=\"x\",AN15=\"x\",,AN17=\"x\",,AN19=\"x\"),\"ABSENT\",SUMIF(AN5,\"<>X\")+SUMIF(AN7,\"<>X\")+SUMIF(AN9,\"<>X\")+SUMIF(AN11,\"<>X\")+SUMIF(AN13,\"<>X\")+SUMIF(AN15,\"<>X\")+(SUMIF(AN17,\"<>X\")+(SUMIF(AN19,\"<>X\"))))","v":6},null,{"$f":"IF(OR(AP5=\"x\",AP7=\"x\",AP9=\"x\",AP11=\"x\",AP13=\"x\",AP15=\"x\",,AP17=\"x\",,AP19=\"x\"),\"ABSENT\",SUMIF(AP5,\"<>X\")+SUMIF(AP7,\"<>X\")+SUMIF(AP9,\"<>X\")+SUMIF(AP11,\"<>X\")+SUMIF(AP13,\"<>X\")+SUMIF(AP15,\"<>X\")+(SUMIF(AP17,\"<>X\")+(SUMIF(AP19,\"<>X\"))))","v":6},null,{"$f":"IF(OR(AR5=\"x\",AR7=\"x\",AR9=\"x\",AR11=\"x\",AR13=\"x\",AR15=\"x\",,AR17=\"x\",,AR19=\"x\"),\"ABSENT\",SUMIF(AR5,\"<>X\")+SUMIF(AR7,\"<>X\")+SUMIF(AR9,\"<>X\")+SUMIF(AR11,\"<>X\")+SUMIF(AR13,\"<>X\")+SUMIF(AR15,\"<>X\")+(SUMIF(AR17,\"<>X\")+(SUMIF(AR19,\"<>X\"))))","v":6},null,{"$f":"IF(OR(AT5=\"x\",AT7=\"x\",AT9=\"x\",AT11=\"x\",AT13=\"x\",AT15=\"x\",,AT17=\"x\",,AT19=\"x\"),\"ABSENT\",SUMIF(AT5,\"<>X\")+SUMIF(AT7,\"<>X\")+SUMIF(AT9,\"<>X\")+SUMIF(AT11,\"<>X\")+SUMIF(AT13,\"<>X\")+SUMIF(AT15,\"<>X\")+(SUMIF(AT17,\"<>X\")+(SUMIF(AT19,\"<>X\"))))","v":6},null,{"$f":"IF(OR(AV5=\"x\",AV7=\"x\",AV9=\"x\",AV11=\"x\",AV13=\"x\",AV15=\"x\",,AV17=\"x\",,AV19=\"x\"),\"ABSENT\",SUMIF(AV5,\"<>X\")+SUMIF(AV7,\"<>X\")+SUMIF(AV9,\"<>X\")+SUMIF(AV11,\"<>X\")+SUMIF(AV13,\"<>X\")+SUMIF(AV15,\"<>X\")+(SUMIF(AV17,\"<>X\")+(SUMIF(AV19,\"<>X\"))))","v":6},null,{"$f":"IF(OR(AX5=\"x\",AX7=\"x\",AX9=\"x\",AX11=\"x\",AX13=\"x\",AX15=\"x\",,AX17=\"x\",,AX19=\"x\"),\"ABSENT\",SUMIF(AX5,\"<>X\")+SUMIF(AX7,\"<>X\")+SUMIF(AX9,\"<>X\")+SUMIF(AX11,\"<>X\")+SUMIF(AX13,\"<>X\")+SUMIF(AX15,\"<>X\")+(SUMIF(AX17,\"<>X\")+(SUMIF(AX19,\"<>X\"))))","v":6},null,{"$f":"IF(OR(AZ5=\"x\",AZ7=\"x\",AZ9=\"x\",AZ11=\"x\",AZ13=\"x\",AZ15=\"x\",,AZ17=\"x\",,AZ19=\"x\"),\"ABSENT\",SUMIF(AZ5,\"<>X\")+SUMIF(AZ7,\"<>X\")+SUMIF(AZ9,\"<>X\")+SUMIF(AZ11,\"<>X\")+SUMIF(AZ13,\"<>X\")+SUMIF(AZ15,\"<>X\")+(SUMIF(AZ17,\"<>X\")+(SUMIF(AZ19,\"<>X\"))))","v":6},null,{"$f":"IF(OR(BB5=\"x\",BB7=\"x\",BB9=\"x\",BB11=\"x\",BB13=\"x\",BB15=\"x\",,BB17=\"x\",,BB19=\"x\"),\"ABSENT\",SUMIF(BB5,\"<>X\")+SUMIF(BB7,\"<>X\")+SUMIF(BB9,\"<>X\")+SUMIF(BB11,\"<>X\")+SUMIF(BB13,\"<>X\")+SUMIF(BB15,\"<>X\")+(SUMIF(BB17,\"<>X\")+(SUMIF(BB19,\"<>X\"))))","v":6},null,{"$f":"IF(OR(BD5=\"x\",BD7=\"x\",BD9=\"x\",BD11=\"x\",BD13=\"x\",BD15=\"x\",,BD17=\"x\",,BD19=\"x\"),\"ABSENT\",SUMIF(BD5,\"<>X\")+SUMIF(BD7,\"<>X\")+SUMIF(BD9,\"<>X\")+SUMIF(BD11,\"<>X\")+SUMIF(BD13,\"<>X\")+SUMIF(BD15,\"<>X\")+(SUMIF(BD17,\"<>X\")+(SUMIF(BD19,\"<>X\"))))","v":6},null,{"$f":"IF(OR(BF5=\"x\",BF7=\"x\",BF9=\"x\",BF11=\"x\",BF13=\"x\",BF15=\"x\",,BF17=\"x\",,BF19=\"x\"),\"ABSENT\",SUMIF(BF5,\"<>X\")+SUMIF(BF7,\"<>X\")+SUMIF(BF9,\"<>X\")+SUMIF(BF11,\"<>X\")+SUMIF(BF13,\"<>X\")+SUMIF(BF15,\"<>X\")+(SUMIF(BF17,\"<>X\")+(SUMIF(BF19,\"<>X\"))))","v":6},null,{"$f":"IF(OR(BH5=\"x\",BH7=\"x\",BH9=\"x\",BH11=\"x\",BH13=\"x\",BH15=\"x\",,BH17=\"x\",,BH19=\"x\"),\"ABSENT\",SUMIF(BH5,\"<>X\")+SUMIF(BH7,\"<>X\")+SUMIF(BH9,\"<>X\")+SUMIF(BH11,\"<>X\")+SUMIF(BH13,\"<>X\")+SUMIF(BH15,\"<>X\")+(SUMIF(BH17,\"<>X\")+(SUMIF(BH19,\"<>X\"))))","v":6},null,{"$f":"IF(OR(BJ5=\"x\",BJ7=\"x\",BJ9=\"x\",BJ11=\"x\",BJ13=\"x\",BJ15=\"x\",,BJ17=\"x\",,BJ19=\"x\"),\"ABSENT\",SUMIF(BJ5,\"<>X\")+SUMIF(BJ7,\"<>X\")+SUMIF(BJ9,\"<>X\")+SUMIF(BJ11,\"<>X\")+SUMIF(BJ13,\"<>X\")+SUMIF(BJ15,\"<>X\")+(SUMIF(BJ17,\"<>X\")+(SUMIF(BJ19,\"<>X\"))))","v":6},null,{"$f":"IF(OR(BL5=\"x\",BL7=\"x\",BL9=\"x\",BL11=\"x\",BL13=\"x\",BL15=\"x\",,BL17=\"x\",,BL19=\"x\"),\"ABSENT\",SUMIF(BL5,\"<>X\")+SUMIF(BL7,\"<>X\")+SUMIF(BL9,\"<>X\")+SUMIF(BL11,\"<>X\")+SUMIF(BL13,\"<>X\")+SUMIF(BL15,\"<>X\")+(SUMIF(BL17,\"<>X\")+(SUMIF(BL19,\"<>X\"))))","v":6},null,{"$f":"IF(OR(BN5=\"x\",BN7=\"x\",BN9=\"x\",BN11=\"x\",BN13=\"x\",BN15=\"x\",,BN17=\"x\",,BN19=\"x\"),\"ABSENT\",SUMIF(BN5,\"<>X\")+SUMIF(BN7,\"<>X\")+SUMIF(BN9,\"<>X\")+SUMIF(BN11,\"<>X\")+SUMIF(BN13,\"<>X\")+SUMIF(BN15,\"<>X\")+(SUMIF(BN17,\"<>X\")+(SUMIF(BN19,\"<>X\"))))","v":6},null,{"$f":"IF(OR(BP5=\"x\",BP7=\"x\",BP9=\"x\",BP11=\"x\",BP13=\"x\",BP15=\"x\",,BP17=\"x\",,BP19=\"x\"),\"ABSENT\",SUMIF(BP5,\"<>X\")+SUMIF(BP7,\"<>X\")+SUMIF(BP9,\"<>X\")+SUMIF(BP11,\"<>X\")+SUMIF(BP13,\"<>X\")+SUMIF(BP15,\"<>X\")+(SUMIF(BP17,\"<>X\")+(SUMIF(BP19,\"<>X\"))))","v":6},null,{"$f":"IF(OR(BR5=\"x\",BR7=\"x\",BR9=\"x\",BR11=\"x\",BR13=\"x\",BR15=\"x\",,BR17=\"x\",,BR19=\"x\"),\"ABSENT\",SUMIF(BR5,\"<>X\")+SUMIF(BR7,\"<>X\")+SUMIF(BR9,\"<>X\")+SUMIF(BR11,\"<>X\")+SUMIF(BR13,\"<>X\")+SUMIF(BR15,\"<>X\")+(SUMIF(BR17,\"<>X\")+(SUMIF(BR19,\"<>X\"))))","v":6},null,{"$f":"IF(OR(BT5=\"x\",BT7=\"x\",BT9=\"x\",BT11=\"x\",BT13=\"x\",BT15=\"x\",,BT17=\"x\",,BT19=\"x\"),\"ABSENT\",SUMIF(BT5,\"<>X\")+SUMIF(BT7,\"<>X\")+SUMIF(BT9,\"<>X\")+SUMIF(BT11,\"<>X\")+SUMIF(BT13,\"<>X\")+SUMIF(BT15,\"<>X\")+(SUMIF(BT17,\"<>X\")+(SUMIF(BT19,\"<>X\"))))","v":6}]

{"sheet":"EVALUATION CONTINUE","index":15,"n_rows":88,"n_cols":72,"rows_kept":88,"cut":false,"hidden":false,"merged":[[1,63,1,70],[3,62,3,71],[14,63,14,65],[14,66,14,70],[50,62,50,71],[1,53,1,60],[3,52,3,61],[14,53,14,55],[14,56,14,60],[50,52,50,61],[1,43,1,50],[3,42,3,51],[14,43,14,45],[14,46,14,50],[50,42,50,51],[1,33,1,40],[3,32,3,41],[14,33,14,35],[14,36,14,40],[50,32,50,41],[1,1,1,2],[1,3,1,10],[1,13,1,20],[3,12,3,21],[14,13,14,15],[14,16,14,20],[3,2,3,11],[76,1,76,11],[64,1,64,11],[61,0,62,0],[51,1,51,11],[50,2,50,11],[39,1,39,11],[27,1,27,11],[15,1,15,11],[14,1,14,2],[14,3,14,5],[14,6,14,10],[1,23,1,30],[3,22,3,31],[14,23,14,25],[14,26,14,30],[50,12,50,21],[50,22,50,31]]}
[]
[null,"TPROE",null,"Nom du groupe",null,null,null,null,null,null,null,null,null,"Nom du groupe",null,null,null,null,null,null,null,null,null,"Nom du groupe",null,null,null,null,null,null,null,null,null,"Nom du groupe",null,null,null,null,null,null,null,null,null,"Nom du groupe",null,null,null,null,null,null,null,null,null,"Nom du groupe",null,null,null,null,null,null,null,null,null,"Nom du groupe"]
[null,null,"Abdelwahid",null,"Fares",null,"Maxence",null,"Fares",null,null,null,"Abdelwahid",null,"Abdelwahid",null,"Abdelwahid",null,"Abdelwahid",null,"Abdelwahid",null,"Abdelwahid",null,"Abdelwahid",null,"Abdelwahid",null,"Abdelwahid",null,"Abdelwahid",null,"Abdelwahid",null,"Abdelwahid",null,"Abdelwahid",null,"Abdelwahid",null,"Abdelwahid",null,"Abdelwahid",null,"Abdelwahid",null,"Abdelwahid",null,"Abdelwahid",null,"Abdelwahid",null,"Abdelwahid",null,"Abdelwahid",null,"Abdelwahid",null,"Abdelwahid",null,"Abdelwahid",null,"Abdelwahid",null,"Abdelwahid",null,"Abdelwahid",null,"Abdelwahid",null,"Abdelwahid"]
[{"$f":"DEBUTSTEP!$AP$4","v":"Prendre sa FC efficacement"}]
["SEANCE 1",null,"bcp",{"$f":"VLOOKUP(C5,DEBUTSTEP!$AP$4:$AQ$33,2,FALSE)","v":{"$error":"#N/A"}},"bcp",{"$f":"VLOOKUP(E5,DEBUTSTEP!$AP$4:$AQ$33,2,FALSE)","v":{"$error":"#N/A"}},"a la folie",{"$f":"VLOOKUP(G5,DEBUTSTEP!$AP$4:$AQ$33,2,FALSE)","v":{"$error":"#N/A"}},"ABSENT",{"$f":"VLOOKUP(I5,DEBUTSTEP!$AP$4:$AQ$33,2,FALSE)","v":"X"},"ABSENT",{"$f":"VLOOKUP(K5,DEBUTSTEP!$AP$4:$AQ$33,2,FALSE)","v":"X"},"ABSENT",{"$f":"VLOOKUP(M5,DEBUTSTEP!$AP$4:$AQ$33,2,FALSE)","v":"X"},"ABSENT",{"$f":"VLOOKUP(O5,DEBUTSTEP!$AP$4:$AQ$33,2,FALSE)","v":"X"},"ABSENT",{"$f":"VLOOKUP(Q5,DEBUTSTEP!$AP$4:$AQ$33,2,FALSE)","v":"X"},"ABSENT",{"$f":"VLOOKUP(S5,DEBUTSTEP!$AP$4:$AQ$33,2,FALSE)","v":"X"},"ABSENT",{"$f":"VLOOKUP(U5,DEBUTSTEP!$AP$4:$AQ$33,2,FALSE)","v":"X"},"ABSENT",{"$f":"VLOOKUP(W5,DEBUTSTEP!$AP$4:$AQ$33,2,FALSE)","v":"X"},"ABSENT",{"$f":"VLOOKUP(Y5,DEBUTSTEP!$AP$4:$AQ$33,2,FALSE)","v":"X"},"ABSENT",{"$f":"VLOOKUP(AA5,DEBUTSTEP!$AP$4:$AQ$33,2,FALSE)","v":"X"},"ABSENT",{"$f":"VLOOKUP(AC5,DEBUTSTEP!$AP$4:$AQ$33,2,FALSE)","v":"X"},"ABSENT",{"$f":"VLOOKUP(AE5,DEBUTSTEP!$AP$4:$AQ$33,2,FALSE)","v":"X"},"ABSENT",{"$f":"VLOOKUP(AG5,DEBUTSTEP!$AP$4:$AQ$33,2,FALSE)","v":"X"},"ABSENT",{"$f":"VLOOKUP(AI5,DEBUTSTEP!$AP$4:$AQ$33,2,FALSE)","v":"X"},"ABSENT",{"$f":"VLOOKUP(AK5,DEBUTSTEP!$AP$4:$AQ$33,2,FALSE)","v":"X"},"ABSENT",{"$f":"VLOOKUP(AM5,DEBUTSTEP!$AP$4:$AQ$33,2,FALSE)","v":"X"},"ABSENT",{"$f":"VLOOKUP(AO5,DEBUTSTEP!$AP$4:$AQ$33,2,FALSE)","v":"X"},"ABSENT",{"$f":"VLOOKUP(AQ5,DEBUTSTEP!$AP$4:$AQ$33,2,FALSE)","v":"X"},"ABSENT",{"$f":"VLOOKUP(AS5,DEBUTSTEP!$AP$4:$AQ$33,2,FALSE)","v":"X"},"ABSENT",{"$f":"VLOOKUP(AU5,DEBUTSTEP!$AP$4:$AQ$33,2,FALSE)","v":"X"},"ABSENT",{"$f":"VLOOKUP(AW5,DEBUTSTEP!$AP$4:$AQ$33,2,FALSE)","v":"X"},"ABSENT",{"$f":"VLOOKUP(AY5,DEBUTSTEP!$AP$4:$AQ$33,2,FALSE)","v":"X"},"ABSENT",{"$f":"VLOOKUP(BA5,DEBUTSTEP!$AP$4:$AQ$33,2,FALSE)","v":"X"},"ABSENT",{"$f":"VLOOKUP(BC5,DEBUTSTEP!$AP$4:$AQ$33,2,FALSE)","v":"X"},"ABSENT",{"$f":"VLOOKUP(BE5,DEBUTSTEP!$AP$4:$AQ$33,2,FALSE)","v":"X"},"ABSENT",{"$f":"VLOOKUP(BG5,DEBUTSTEP!$AP$4:$AQ$33,2,FALSE)","v":"X"},"ABSENT",{"$f":"VLOOKUP(BI5,DEBUTSTEP!$AP$4:$AQ$33,2,FALSE)","v":"X"},"ABSENT",{"$f":"VLOOKUP(BK5,DEBUTSTEP!$AP$4:$AQ$33,2,FALSE)","v":"X"},"ABSENT",{"$f":"VLOOKUP(BM5,DEBUTSTEP!$AP$4:$AQ$33,2,FALSE)","v":"X"},"ABSENT",{"$f":"VLOOKUP(BO5,DEBUTSTEP!$AP$4:$AQ$33,2,FALSE)","v":"X"},"ABSENT",{"$f":"VLOOKUP(BQ5,DEBUTSTEP!$AP$4:$AQ$33,2,FALSE)","v":"X"},"ABSENT",{"$f":"VLOOKUP(BS5,DEBUTSTEP!$AP$4:$AQ$33,2,FALSE)","v":"X"}]
["SEANCE 2",null,"Je t'aime",{"$f":"VLOOKUP(C6,DEBUTSTEP!$AP$4:$AQ$33,2,FALSE)","v":{"$error":"#N/A"}},"ABSENT",{"$f":"VLOOKUP(E6,DEBUTSTEP!$AP$4:$AQ$33,2,FALSE)","v":"X"},"ABSENT",{"$f":"VLOOKUP(G6,DEBUTSTEP!$AP$4:$AQ$33,2,FALSE)","v":"X"},"ABSENT",{"$f":"VLOOKUP(I6,DEBUTSTEP!$AP$4:$AQ$33,2,FALSE)","v":"X"},"ABSENT",{"$f":"VLOOKUP(K6,DEBUTSTEP!$AP$4:$AQ$33,2,FALSE)","v":"X"},"ABSENT",{"$f":"VLOOKUP(M6,DEBUTSTEP!$AP$4:$AQ$33,2,FALSE)","v":"X"},"ABSENT",{"$f":"VLOOKUP(O6,DEBUTSTEP!$AP$4:$AQ$33,2,FALSE)","v":"X"},"ABSENT",{"$f":"VLOOKUP(Q6,DEBUTSTEP!$AP$4:$AQ$33,2,FALSE)","v":"X"},"ABSENT",{"$f":"VLOOKUP(S6,DEBUTSTEP!$AP$4:$AQ$33,2,FALSE)","v":"X"},"ABSENT",{"$f":"VLOOKUP(U6,DEBUTSTEP!$AP$4:$AQ$33,2,FALSE)","v":"X"},"ABSENT",{"$f":"VLOOKUP(W6,DEBUTSTEP!$AP$4:$AQ$33,2,FALSE)","v":"X"},"ABSENT",{"$f":"VLOOKUP(Y6,DEBUTSTEP!$AP$4:$AQ$33,2,FALSE)","v":"X"},"ABSENT",{"$f":"VLOOKUP(AA6,DEBUTSTEP!$AP$4:$AQ$33,2,FALSE)","v":"X"},"ABSENT",{"$f":"VLOOKUP(AC6,DEBUTSTEP!$AP$4:$AQ$33,2,FALSE)","v":"X"},"ABSENT",{"$f":"VLOOKUP(AE6,DEBUTSTEP!$AP$4:$AQ$33,2,FALSE)","v":"X"},"ABSENT",{"$f":"VLOOKUP(AG6,DEBUTSTEP!$AP$4:$AQ$33,2,FALSE)","v":"X"},"ABSENT",{"$f":"VLOOKUP(AI6,DEBUTSTEP!$AP$4:$AQ$33,2,FALSE)","v":"X"},"ABSENT",{"$f":"VLOOKUP(AK6,DEBUTSTEP!$AP$4:$AQ$33,2,FALSE)","v":"X"},"ABSENT",{"$f":"VLOOKUP(AM6,DEBUTSTEP!$AP$4:$AQ$33,2,FALSE)","v":"X"},"ABSENT",{"$f":"VLOOKUP(AO6,DEBUTSTEP!$AP$4:$AQ$33,2,FALSE)","v":"X"},"ABSENT",{"$f":"VLOOKUP(AQ6,DEBUTSTEP!$AP$4:$AQ$33,2,FALSE)","v":"X"},"ABSENT",{"$f":"VLOOKUP(AS6,DEBUTSTEP!$AP$4:$AQ$33,2,FALSE)","v":"X"},"ABSENT",{"$f":"VLOOKUP(AU6,DEBUTSTEP!$AP$4:$AQ$33,2,FALSE)","v":"X"},"ABSENT",{"$f":"VLOOKUP(AW6,DEBUTSTEP!$AP$4:$AQ$33,2,FALSE)","v":"X"},"ABSENT",{"$f":"VLOOKUP(AY6,DEBUTSTEP!$AP$4:$AQ$33,2,FALSE)","v":"X"},"ABSENT",{"$f":"VLOOKUP(BA6,DEBUTSTEP!$AP$4:$AQ$33,2,FALSE)","v":"X"},"ABSENT",{"$f":"VLOOKUP(BC6,DEBUTSTEP!$AP$4:$AQ$33,2,FALSE)","v":"X"},"ABSENT",{"$f":"VLOOKUP(BE6,DEBUTSTEP!$AP$4:$AQ$33,2,FALSE)","v":"X"},"ABSENT",{"$f":"VLOOKUP(BG6,DEBUTSTEP!$AP$4:$AQ$33,2,FALSE)","v":"X"},"ABSENT",{"$f":"VLOOKUP(BI6,DEBUTSTEP!$AP$4:$AQ$33,2,FALSE)","v":"X"},"ABSENT",{"$f":"VLOOKUP(BK6,DEBUTSTEP!$AP$4:$AQ$33,2,FALSE)","v":"X"},"ABSENT",{"$f":"VLOOKUP(BM6,DEBUTSTEP!$AP$4:$AQ$33,2,FALSE)","v":"X"},"ABSENT",{"$f":"VLOOKUP(BO6,DEBUTSTEP!$AP$4:$AQ$33,2,FALSE)","v":"X"},"ABSENT",{"$f":"VLOOKUP(BQ6,DEBUTSTEP!$AP$4:$AQ$33,2,FALSE)","v":"X"},"ABSENT",{"$f":"VLOOKUP(BS6,DEBUTSTEP!$AP$4:$AQ$33,2,FALSE)","v":"X"}]
["SEANCE 3",null,"Je t'aime",{"$f":"VLOOKUP(C7,DEBUTSTEP!$AP$4:$AQ$33,2,FALSE)","v":{"$error":"#N/A"}},"Ne prends jamais sa FC",{"$f":"VLOOKUP(E7,DEBUTSTEP!$AP$4:$AQ$33,2,FALSE)","v":{"$error":"#N/A"}},"Ne prends jamais sa FC",{"$f":"VLOOKUP(G7,DEBUTSTEP!$AP$4:$AQ$33,2,FALSE)","v":{"$error":"#N/A"}},"Ne prends jamais sa FC",{"$f":"VLOOKUP(I7,DEBUTSTEP!$AP$4:$AQ$33,2,FALSE)","v":{"$error":"#N/A"}},"Ne prends jamais sa FC",{"$f":"VLOOKUP(K7,DEBUTSTEP!$AP$4:$AQ$33,2,FALSE)","v":{"$error":"#N/A"}},"Ne prends jamais sa FC",{"$f":"VLOOKUP(M7,DEBUTSTEP!$AP$4:$AQ$33,2,FALSE)","v":{"$error":"#N/A"}},"Ne prends jamais sa FC",{"$f":"VLOOKUP(O7,DEBUTSTEP!$AP$4:$AQ$33,2,FALSE)","v":{"$error":"#N/A"}},"Ne prends jamais sa FC",{"$f":"VLOOKUP(Q7,DEBUTSTEP!$AP$4:$AQ$33,2,FALSE)","v":{"$error":"#N/A"}},"Ne prends jamais sa FC",{"$f":"VLOOKUP(S7,DEBUTSTEP!$AP$4:$AQ$33,2,FALSE)","v":{"$error":"#N/A"}},"Ne prends jamais sa FC",{"$f":"VLOOKUP(U7,DEBUTSTEP!$AP$4:$AQ$33,2,FALSE)","v":{"$error":"#N/A"}},"Ne prends jamais sa FC",{"$f":"VLOOKUP(W7,DEBUTSTEP!$AP$4:$AQ$33,2,FALSE)","v":{"$error":"#N/A"}},"Ne prends jamais sa FC",{"$f":"VLOOKUP(Y7,DEBUTSTEP!$AP$4:$AQ$33,2,FALSE)","v":{"$error":"#N/A"}},"Ne prends jamais sa FC",{"$f":"VLOOKUP(AA7,DEBUTSTEP!$AP$4:$AQ$33,2,FALSE)","v":{"$error":"#N/A"}},"Ne prends jamais sa FC",{"$f":"VLOOKUP(AC7,DEBUTSTEP!$AP$4:$AQ$33,2,FALSE)","v":{"$error":"#N/A"}},"Ne prends jamais sa FC",{"$f":"VLOOKUP(AE7,DEBUTSTEP!$AP$4:$AQ$33,2,FALSE)","v":{"$error":"#N/A"}},"Ne prends jamais sa FC",{"$f":"VLOOKUP(AG7,DEBUTSTEP!$AP$4:$AQ$33,2,FALSE)","v":{"$error":"#N/A"}},"Ne prends jamais sa FC",{"$f":"VLOOKUP(AI7,DEBUTSTEP!$AP$4:$AQ$33,2,FALSE)","v":{"$error":"#N/A"}},"Ne prends jamais sa FC",{"$f":"VLOOKUP(AK7,DEBUTSTEP!$AP$4:$AQ$33,2,FALSE)","v":{"$error":"#N/A"}},"Ne prends jamais sa FC",{"$f":"VLOOKUP(AM7,DEBUTSTEP!$AP$4:$AQ$33,2,FALSE)","v":{"$error":"#N/A"}},"Ne prends jamais sa FC",{"$f":"VLOOKUP(AO7,DEBUTSTEP!$AP$4:$AQ$33,2,FALSE)","v":{"$error":"#N/A"}},"Ne prends jamais sa FC",{"$f":"VLOOKUP(AQ7,DEBUTSTEP!$AP$4:$AQ$33,2,FALSE)","v":{"$error":"#N/A"}},"Ne prends jamais sa FC",{"$f":"VLOOKUP(AS7,DEBUTSTEP!$AP$4:$AQ$33,2,FALSE)","v":{"$error":"#N/A"}},"Ne prends jamais sa FC",{"$f":"VLOOKUP(AU7,DEBUTSTEP!$AP$4:$AQ$33,2,FALSE)","v":{"$error":"#N/A"}},"Ne prends jamais sa FC",{"$f":"VLOOKUP(AW7,DEBUTSTEP!$AP$4:$AQ$33,2,FALSE)","v":{"$error":"#N/A"}},"Ne prends jamais sa FC",{"$f":"VLOOKUP(AY7,DEBUTSTEP!$AP$4:$AQ$33,2,FALSE)","v":{"$error":"#N/A"}},"Ne prends jamais sa FC",{"$f":"VLOOKUP(BA7,DEBUTSTEP!$AP$4:$AQ$33,2,FALSE)","v":{"$error":"#N/A"}},"Ne prends jamais sa FC",{"$f":"VLOOKUP(BC7,DEBUTSTEP!$AP$4:$AQ$33,2,FALSE)","v":{"$error":"#N/A"}},"Ne prends jamais sa FC",{"$f":"VLOOKUP(BE7,DEBUTSTEP!$AP$4:$AQ$33,2,FALSE)","v":{"$error":"#N/A"}},"Ne prends jamais sa FC",{"$f":"VLOOKUP(BG7,DEBUTSTEP!$AP$4:$AQ$33,2,FALSE)","v":{"$error":"#N/A"}},"Ne prends jamais sa FC",{"$f":"VLOOKUP(BI7,DEBUTSTEP!$AP$4:$AQ$33,2,FALSE)","v":{"$error":"#N/A"}},"Ne prends jamais sa FC",{"$f":"VLOOKUP(BK7,DEBUTSTEP!$AP$4:$AQ$33,2,FALSE)","v":{"$error":"#N/A"}},"Ne prends jamais sa FC",{"$f":"VLOOKUP(BM7,DEBUTSTEP!$AP$4:$AQ$33,2,FALSE)","v":{"$error":"#N/A"}},"Ne prends jamais sa FC",{"$f":"VLOOKUP(BO7,DEBUTSTEP!$AP$4:$AQ$33,2,FALSE)","v":{"$error":"#N/A"}},"Ne prends jamais sa FC",{"$f":"VLOOKUP(BQ7,DEBUTSTEP!$AP$4:$AQ$33,2,FALSE)","v":{"$error":"#N/A"}},"Ne prends jamais sa FC",{"$f":"VLOOKUP(BS7,DEBUTSTEP!$AP$4:$AQ$33,2,FALSE)","v":{"$error":"#N/A"}}]
["SEANCE 4",null,"Je t'aime",{"$f":"VLOOKUP(C8,DEBUTSTEP!$AP$4:$AQ$33,2,FALSE)","v":{"$error":"#N/A"}},"Ne prends jamais sa FC",{"$f":"VLOOKUP(E8,DEBUTSTEP!$AP$4:$AQ$33,2,FALSE)","v":{"$error":"#N/A"}},"Ne prends jamais sa FC",{"$f":"VLOOKUP(G8,DEBUTSTEP!$AP$4:$AQ$33,2,FALSE)","v":{"$error":"#N/A"}},"Ne prends jamais sa FC",{"$f":"VLOOKUP(I8,DEBUTSTEP!$AP$4:$AQ$33,2,FALSE)","v":{"$error":"#N/A"}},"Ne prends jamais sa FC",{"$f":"VLOOKUP(K8,DEBUTSTEP!$AP$4:$AQ$33,2,FALSE)","v":{"$error":"#N/A"}},"Ne prends jamais sa FC",{"$f":"VLOOKUP(M8,DEBUTSTEP!$AP$4:$AQ$33,2,FALSE)","v":{"$error":"#N/A"}},"Ne prends jamais sa FC",{"$f":"VLOOKUP(O8,DEBUTSTEP!$AP$4:$AQ$33,2,FALSE)","v":{"$error":"#N/A"}},"Ne prends jamais sa FC",{"$f":"VLOOKUP(Q8,DEBUTSTEP!$AP$4:$AQ$33,2,FALSE)","v":{"$error":"#N/A"}},"Ne prends jamais sa FC",{"$f":"VLOOKUP(S8,DEBUTSTEP!$AP$4:$AQ$33,2,FALSE)","v":{"$error":"#N/A"}},"Ne prends jamais sa FC",{"$f":"VLOOKUP(U8,DEBUTSTEP!$AP$4:$AQ$33,2,FALSE)","v":{"$error":"#N/A"}},"Ne prends jamais sa FC",{"$f":"VLOOKUP(W8,DEBUTSTEP!$AP$4:$AQ$33,2,FALSE)","v":{"$error":"#N/A"}},"Ne prends jamais sa FC",{"$f":"VLOOKUP(Y8,DEBUTSTEP!$AP$4:$AQ$33,2,FALSE)","v":{"$error":"#N/A"}},"Ne prends jamais sa FC",{"$f":"VLOOKUP(AA8,DEBUTSTEP!$AP$4:$AQ$33,2,FALSE)","v":{"$error":"#N/A"}},"Ne prends jamais sa FC",{"$f":"VLOOKUP(AC8,DEBUTSTEP!$AP$4:$AQ$33,2,FALSE)","v":{"$error":"#N/A"}},"Ne prends jamais sa FC",{"$f":"VLOOKUP(AE8,DEBUTSTEP!$AP$4:$AQ$33,2,FALSE)","v":{"$error":"#N/A"}},"Ne prends jamais sa FC",{"$f":"VLOOKUP(AG8,DEBUTSTEP!$AP$4:$AQ$33,2,FALSE)","v":{"$error":"#N/A"}},"Ne prends jamais sa FC",{"$f":"VLOOKUP(AI8,DEBUTSTEP!$AP$4:$AQ$33,2,FALSE)","v":{"$error":"#N/A"}},"Ne prends jamais sa FC",{"$f":"VLOOKUP(AK8,DEBUTSTEP!$AP$4:$AQ$33,2,FALSE)","v":{"$error":"#N/A"}},"Ne prends jamais sa FC",{"$f":"VLOOKUP(AM8,DEBUTSTEP!$AP$4:$AQ$33,2,FALSE)","v":{"$error":"#N/A"}},"Ne prends jamais sa FC",{"$f":"VLOOKUP(AO8,DEBUTSTEP!$AP$4:$AQ$33,2,FALSE)","v":{"$error":"#N/A"}},"Ne prends jamais sa FC",{"$f":"VLOOKUP(AQ8,DEBUTSTEP!$AP$4:$AQ$33,2,FALSE)","v":{"$error":"#N/A"}},"Ne prends jamais sa FC",{"$f":"VLOOKUP(AS8,DEBUTSTEP!$AP$4:$AQ$33,2,FALSE)","v":{"$error":"#N/A"}},"Ne prends jamais sa FC",{"$f":"VLOOKUP(AU8,DEBUTSTEP!$AP$4:$AQ$33,2,FALSE)","v":{"$error":"#N/A"}},"Ne prends jamais sa FC",{"$f":"VLOOKUP(AW8,DEBUTSTEP!$AP$4:$AQ$33,2,FALSE)","v":{"$error":"#N/A"}},"Ne prends jamais sa FC",{"$f":"VLOOKUP(AY8,DEBUTSTEP!$AP$4:$AQ$33,2,FALSE)","v":{"$error":"#N/A"}},"Ne prends jamais sa FC",{"$f":"VLOOKUP(BA8,DEBUTSTEP!$AP$4:$AQ$33,2,FALSE)","v":{"$error":"#N/A"}},"Ne prends jamais sa FC",{"$f":"VLOOKUP(BC8,DEBUTSTEP!$AP$4:$AQ$33,2,FALSE)","v":{"$error":"#N/A"}},"Ne prends jamais sa FC",{"$f":"VLOOKUP(BE8,DEBUTSTEP!$AP$4:$AQ$33,2,FALSE)","v":{"$error":"#N/A"}},"Ne prends jamais sa FC",{"$f":"VLOOKUP(BG8,DEBUTSTEP!$AP$4:$AQ$33,2,FALSE)","v":{"$error":"#N/A"}},"Ne prends jamais sa FC",{"$f":"VLOOKUP(BI8,DEBUTSTEP!$AP$4:$AQ$33,2,FALSE)","v":{"$error":"#N/A"}},"Ne prends jamais sa FC",{"$f":"VLOOKUP(BK8,DEBUTSTEP!$AP$4:$AQ$33,2,FALSE)","v":{"$error":"#N/A"}},"Ne prends jamais sa FC",{"$f":"VLOOKUP(BM8,DEBUTSTEP!$AP$4:$AQ$33,2,FALSE)","v":{"$error":"#N/A"}},"Ne prends jamais sa FC",{"$f":"VLOOKUP(BO8,DEBUTSTEP!$AP$4:$AQ$33,2,FALSE)","v":{"$error":"#N/A"}},"Ne prends jamais sa FC",{"$f":"VLOOKUP(BQ8,DEBUTSTEP!$AP$4:$AQ$33,2,FALSE)","v":{"$error":"#N/A"}},"Ne prends jamais sa FC",{"$f":"VLOOKUP(BS8,DEBUTSTEP!$AP$4:$AQ$33,2,FALSE)","v":{"$error":"#N/A"}}]
["SEANCE 5",null,"Je t'aime",{"$f":"VLOOKUP(C9,DEBUTSTEP!$AP$4:$AQ$33,2,FALSE)","v":{"$error":"#N/A"}},"Ne prends jamais sa FC",{"$f":"VLOOKUP(E9,DEBUTSTEP!$AP$4:$AQ$33,2,FALSE)","v":{"$error":"#N/A"}},"Ne prends jamais sa FC",{"$f":"VLOOKUP(G9,DEBUTSTEP!$AP$4:$AQ$33,2,FALSE)","v":{"$error":"#N/A"}},"Ne prends jamais sa FC",{"$f":"VLOOKUP(I9,DEBUTSTEP!$AP$4:$AQ$33,2,FALSE)","v":{"$error":"#N/A"}},"Ne prends jamais sa FC",{"$f":"VLOOKUP(K9,DEBUTSTEP!$AP$4:$AQ$33,2,FALSE)","v":{"$error":"#N/A"}},"Ne prends jamais sa FC",{"$f":"VLOOKUP(M9,DEBUTSTEP!$AP$4:$AQ$33,2,FALSE)","v":{"$error":"#N/A"}},"Ne prends jamais sa FC",{"$f":"VLOOKUP(O9,DEBUTSTEP!$AP$4:$AQ$33,2,FALSE)","v":{"$error":"#N/A"}},"Ne prends jamais sa FC",{"$f":"VLOOKUP(Q9,DEBUTSTEP!$AP$4:$AQ$33,2,FALSE)","v":{"$error":"#N/A"}},"Ne prends jamais sa FC",{"$f":"VLOOKUP(S9,DEBUTSTEP!$AP$4:$AQ$33,2,FALSE)","v":{"$error":"#N/A"}},"Ne prends jamais sa FC",{"$f":"VLOOKUP(U9,DEBUTSTEP!$AP$4:$AQ$33,2,FALSE)","v":{"$error":"#N/A"}},"Ne prends jamais sa FC",{"$f":"VLOOKUP(W9,DEBUTSTEP!$AP$4:$AQ$33,2,FALSE)","v":{"$error":"#N/A"}},"Ne prends jamais sa FC",{"$f":"VLOOKUP(Y9,DEBUTSTEP!$AP$4:$AQ$33,2,FALSE)","v":{"$error":"#N/A"}},"Ne prends jamais sa FC",{"$f":"VLOOKUP(AA9,DEBUTSTEP!$AP$4:$AQ$33,2,FALSE)","v":{"$error":"#N/A"}},"Ne prends jamais sa FC",{"$f":"VLOOKUP(AC9,DEBUTSTEP!$AP$4:$AQ$33,2,FALSE)","v":{"$error":"#N/A"}},"Ne prends jamais sa FC",{"$f":"VLOOKUP(AE9,DEBUTSTEP!$AP$4:$AQ$33,2,FALSE)","v":{"$error":"#N/A"}},"Ne prends jamais sa FC",{"$f":"VLOOKUP(AG9,DEBUTSTEP!$AP$4:$AQ$33,2,FALSE)","v":{"$error":"#N/A"}},"Ne prends jamais sa FC",{"$f":"VLOOKUP(AI9,DEBUTSTEP!$AP$4:$AQ$33,2,FALSE)","v":{"$error":"#N/A"}},"Ne prends jamais sa FC",{"$f":"VLOOKUP(AK9,DEBUTSTEP!$AP$4:$AQ$33,2,FALSE)","v":{"$error":"#N/A"}},"Ne prends jamais sa FC",{"$f":"VLOOKUP(AM9,DEBUTSTEP!$AP$4:$AQ$33,2,FALSE)","v":{"$error":"#N/A"}},"Ne prends jamais sa FC",{"$f":"VLOOKUP(AO9,DEBUTSTEP!$AP$4:$AQ$33,2,FALSE)","v":{"$error":"#N/A"}},"Ne prends jamais sa FC",{"$f":"VLOOKUP(AQ9,DEBUTSTEP!$AP$4:$AQ$33,2,FALSE)","v":{"$error":"#N/A"}},"Ne prends jamais sa FC",{"$f":"VLOOKUP(AS9,DEBUTSTEP!$AP$4:$AQ$33,2,FALSE)","v":{"$error":"#N/A"}},"Ne prends jamais sa FC",{"$f":"VLOOKUP(AU9,DEBUTSTEP!$AP$4:$AQ$33,2,FALSE)","v":{"$error":"#N/A"}},"Ne prends jamais sa FC",{"$f":"VLOOKUP(AW9,DEBUTSTEP!$AP$4:$AQ$33,2,FALSE)","v":{"$error":"#N/A"}},"Ne prends jamais sa FC",{"$f":"VLOOKUP(AY9,DEBUTSTEP!$AP$4:$AQ$33,2,FALSE)","v":{"$error":"#N/A"}},"Ne prends jamais sa FC",{"$f":"VLOOKUP(BA9,DEBUTSTEP!$AP$4:$AQ$33,2,FALSE)","v":{"$error":"#N/A"}},"Ne prends jamais sa FC",{"$f":"VLOOKUP(BC9,DEBUTSTEP!$AP$4:$AQ$33,2,FALSE)","v":{"$error":"#N/A"}},"Ne prends jamais sa FC",{"$f":"VLOOKUP(BE9,DEBUTSTEP!$AP$4:$AQ$33,2,FALSE)","v":{"$error":"#N/A"}},"Ne prends jamais sa FC",{"$f":"VLOOKUP(BG9,DEBUTSTEP!$AP$4:$AQ$33,2,FALSE)","v":{"$error":"#N/A"}},"Ne prends jamais sa FC",{"$f":"VLOOKUP(BI9,DEBUTSTEP!$AP$4:$AQ$33,2,FALSE)","v":{"$error":"#N/A"}},"Ne prends jamais sa FC",{"$f":"VLOOKUP(BK9,DEBUTSTEP!$AP$4:$AQ$33,2,FALSE)","v":{"$error":"#N/A"}},"Ne prends jamais sa FC",{"$f":"VLOOKUP(BM9,DEBUTSTEP!$AP$4:$AQ$33,2,FALSE)","v":{"$error":"#N/A"}},"Ne prends jamais sa FC",{"$f":"VLOOKUP(BO9,DEBUTSTEP!$AP$4:$AQ$33,2,FALSE)","v":{"$error":"#N/A"}},"Ne prends jamais sa FC",{"$f":"VLOOKUP(BQ9,DEBUTSTEP!$AP$4:$AQ$33,2,FALSE)","v":{"$error":"#N/A"}},"Ne prends jamais sa FC",{"$f":"VLOOKUP(BS9,DEBUTSTEP!$AP$4:$AQ$33,2,FALSE)","v":{"$error":"#N/A"}}]
["SEANCE 6",null,"Je t'aime",{"$f":"VLOOKUP(C10,DEBUTSTEP!$AP$4:$AQ$33,2,FALSE)","v":{"$error":"#N/A"}},"Ne prends jamais sa FC",{"$f":"VLOOKUP(E10,DEBUTSTEP!$AP$4:$AQ$33,2,FALSE)","v":{"$error":"#N/A"}},"Ne prends jamais sa FC",{"$f":"VLOOKUP(G10,DEBUTSTEP!$AP$4:$AQ$33,2,FALSE)","v":{"$error":"#N/A"}},"Ne prends jamais sa FC",{"$f":"VLOOKUP(I10,DEBUTSTEP!$AP$4:$AQ$33,2,FALSE)","v":{"$error":"#N/A"}},"Ne prends jamais sa FC",{"$f":"VLOOKUP(K10,DEBUTSTEP!$AP$4:$AQ$33,2,FALSE)","v":{"$error":"#N/A"}},"Ne prends jamais sa FC",{"$f":"VLOOKUP(M10,DEBUTSTEP!$AP$4:$AQ$33,2,FALSE)","v":{"$error":"#N/A"}},"Ne prends jamais sa FC",{"$f":"VLOOKUP(O10,DEBUTSTEP!$AP$4:$AQ$33,2,FALSE)","v":{"$error":"#N/A"}},"Ne prends jamais sa FC",{"$f":"VLOOKUP(Q10,DEBUTSTEP!$AP$4:$AQ$33,2,FALSE)","v":{"$error":"#N/A"}},"Ne prends jamais sa FC",{"$f":"VLOOKUP(S10,DEBUTSTEP!$AP$4:$AQ$33,2,FALSE)","v":{"$error":"#N/A"}},"Ne prends jamais sa FC",{"$f":"VLOOKUP(U10,DEBUTSTEP!$AP$4:$AQ$33,2,FALSE)","v":{"$error":"#N/A"}},"Ne prends jamais sa FC",{"$f":"VLOOKUP(W10,DEBUTSTEP!$AP$4:$AQ$33,2,FALSE)","v":{"$error":"#N/A"}},"Ne prends jamais sa FC",{"$f":"VLOOKUP(Y10,DEBUTSTEP!$AP$4:$AQ$33,2,FALSE)","v":{"$error":"#N/A"}},"Ne prends jamais sa FC",{"$f":"VLOOKUP(AA10,DEBUTSTEP!$AP$4:$AQ$33,2,FALSE)","v":{"$error":"#N/A"}},"Ne prends jamais sa FC",{"$f":"VLOOKUP(AC10,DEBUTSTEP!$AP$4:$AQ$33,2,FALSE)","v":{"$error":"#N/A"}},"Ne prends jamais sa FC",{"$f":"VLOOKUP(AE10,DEBUTSTEP!$AP$4:$AQ$33,2,FALSE)","v":{"$error":"#N/A"}},"Ne prends jamais sa FC",{"$f":"VLOOKUP(AG10,DEBUTSTEP!$AP$4:$AQ$33,2,FALSE)","v":{"$error":"#N/A"}},"Ne prends jamais sa FC",{"$f":"VLOOKUP(AI10,DEBUTSTEP!$AP$4:$AQ$33,2,FALSE)","v":{"$error":"#N/A"}},"Ne prends jamais sa FC",{"$f":"VLOOKUP(AK10,DEBUTSTEP!$AP$4:$AQ$33,2,FALSE)","v":{"$error":"#N/A"}},"Ne prends jamais sa FC",{"$f":"VLOOKUP(AM10,DEBUTSTEP!$AP$4:$AQ$33,2,FALSE)","v":{"$error":"#N/A"}},"Ne prends jamais sa FC",{"$f":"VLOOKUP(AO10,DEBUTSTEP!$AP$4:$AQ$33,2,FALSE)","v":{"$error":"#N/A"}},"Ne prends jamais sa FC",{"$f":"VLOOKUP(AQ10,DEBUTSTEP!$AP$4:$AQ$33,2,FALSE)","v":{"$error":"#N/A"}},"Ne prends jamais sa FC",{"$f":"VLOOKUP(AS10,DEBUTSTEP!$AP$4:$AQ$33,2,FALSE)","v":{"$error":"#N/A"}},"Ne prends jamais sa FC",{"$f":"VLOOKUP(AU10,DEBUTSTEP!$AP$4:$AQ$33,2,FALSE)","v":{"$error":"#N/A"}},"Ne prends jamais sa FC",{"$f":"VLOOKUP(AW10,DEBUTSTEP!$AP$4:$AQ$33,2,FALSE)","v":{"$error":"#N/A"}},"Ne prends jamais sa FC",{"$f":"VLOOKUP(AY10,DEBUTSTEP!$AP$4:$AQ$33,2,FALSE)","v":{"$error":"#N/A"}},"Ne prends jamais sa FC",{"$f":"VLOOKUP(BA10,DEBUTSTEP!$AP$4:$AQ$33,2,FALSE)","v":{"$error":"#N/A"}},"Ne prends jamais sa FC",{"$f":"VLOOKUP(BC10,DEBUTSTEP!$AP$4:$AQ$33,2,FALSE)","v":{"$error":"#N/A"}},"Ne prends jamais sa FC",{"$f":"VLOOKUP(BE10,DEBUTSTEP!$AP$4:$AQ$33,2,FALSE)","v":{"$error":"#N/A"}},"Ne prends jamais sa FC",{"$f":"VLOOKUP(BG10,DEBUTSTEP!$AP$4:$AQ$33,2,FALSE)","v":{"$error":"#N/A"}},"Ne prends jamais sa FC",{"$f":"VLOOKUP(BI10,DEBUTSTEP!$AP$4:$AQ$33,2,FALSE)","v":{"$error":"#N/A"}},"Ne prends jamais sa FC",{"$f":"VLOOKUP(BK10,DEBUTSTEP!$AP$4:$AQ$33,2,FALSE)","v":{"$error":"#N/A"}},"Ne prends jamais sa FC",{"$f":"VLOOKUP(BM10,DEBUTSTEP!$AP$4:$AQ$33,2,FALSE)","v":{"$error":"#N/A"}},"Ne prends jamais sa FC",{"$f":"VLOOKUP(BO10,DEBUTSTEP!$AP$4:$AQ$33,2,FALSE)","v":{"$error":"#N/A"}},"Ne prends jamais sa FC",{"$f":"VLOOKUP(BQ10,DEBUTSTEP!$AP$4:$AQ$33,2,FALSE)","v":{"$error":"#N/A"}},"Ne prends jamais sa FC",{"$f":"VLOOKUP(BS10,DEBUTSTEP!$AP$4:$AQ$33,2,FALSE)","v":{"$error":"#N/A"}}]
["SEANCE 7",null,"Je t'aime",{"$f":"VLOOKUP(C11,DEBUTSTEP!$AP$4:$AQ$33,2,FALSE)","v":{"$error":"#N/A"}},"Ne prends jamais sa FC",{"$f":"VLOOKUP(E11,DEBUTSTEP!$AP$4:$AQ$33,2,FALSE)","v":{"$error":"#N/A"}},"Ne prends jamais sa FC",{"$f":"VLOOKUP(G11,DEBUTSTEP!$AP$4:$AQ$33,2,FALSE)","v":{"$error":"#N/A"}},"Ne prends jamais sa FC",{"$f":"VLOOKUP(I11,DEBUTSTEP!$AP$4:$AQ$33,2,FALSE)","v":{"$error":"#N/A"}},"Ne prends jamais sa FC",{"$f":"VLOOKUP(K11,DEBUTSTEP!$AP$4:$AQ$33,2,FALSE)","v":{"$error":"#N/A"}},"Ne prends jamais sa FC",{"$f":"VLOOKUP(M11,DEBUTSTEP!$AP$4:$AQ$33,2,FALSE)","v":{"$error":"#N/A"}},"Ne prends jamais sa FC",{"$f":"VLOOKUP(O11,DEBUTSTEP!$AP$4:$AQ$33,2,FALSE)","v":{"$error":"#N/A"}},"Ne prends jamais sa FC",{"$f":"VLOOKUP(Q11,DEBUTSTEP!$AP$4:$AQ$33,2,FALSE)","v":{"$error":"#N/A"}},"Ne prends jamais sa FC",{"$f":"VLOOKUP(S11,DEBUTSTEP!$AP$4:$AQ$33,2,FALSE)","v":{"$error":"#N/A"}},"Ne prends jamais sa FC",{"$f":"VLOOKUP(U11,DEBUTSTEP!$AP$4:$AQ$33,2,FALSE)","v":{"$error":"#N/A"}},"Ne prends jamais sa FC",{"$f":"VLOOKUP(W11,DEBUTSTEP!$AP$4:$AQ$33,2,FALSE)","v":{"$error":"#N/A"}},"Ne prends jamais sa FC",{"$f":"VLOOKUP(Y11,DEBUTSTEP!$AP$4:$AQ$33,2,FALSE)","v":{"$error":"#N/A"}},"Ne prends jamais sa FC",{"$f":"VLOOKUP(AA11,DEBUTSTEP!$AP$4:$AQ$33,2,FALSE)","v":{"$error":"#N/A"}},"Ne prends jamais sa FC",{"$f":"VLOOKUP(AC11,DEBUTSTEP!$AP$4:$AQ$33,2,FALSE)","v":{"$error":"#N/A"}},"Ne prends jamais sa FC",{"$f":"VLOOKUP(AE11,DEBUTSTEP!$AP$4:$AQ$33,2,FALSE)","v":{"$error":"#N/A"}},"Ne prends jamais sa FC",{"$f":"VLOOKUP(AG11,DEBUTSTEP!$AP$4:$AQ$33,2,FALSE)","v":{"$error":"#N/A"}},"Ne prends jamais sa FC",{"$f":"VLOOKUP(AI11,DEBUTSTEP!$AP$4:$AQ$33,2,FALSE)","v":{"$error":"#N/A"}},"Ne prends jamais sa FC",{"$f":"VLOOKUP(AK11,DEBUTSTEP!$AP$4:$AQ$33,2,FALSE)","v":{"$error":"#N/A"}},"Ne prends jamais sa FC",{"$f":"VLOOKUP(AM11,DEBUTSTEP!$AP$4:$AQ$33,2,FALSE)","v":{"$error":"#N/A"}},"Ne prends jamais sa FC",{"$f":"VLOOKUP(AO11,DEBUTSTEP!$AP$4:$AQ$33,2,FALSE)","v":{"$error":"#N/A"}},"Ne prends jamais sa FC",{"$f":"VLOOKUP(AQ11,DEBUTSTEP!$AP$4:$AQ$33,2,FALSE)","v":{"$error":"#N/A"}},"Ne prends jamais sa FC",{"$f":"VLOOKUP(AS11,DEBUTSTEP!$AP$4:$AQ$33,2,FALSE)","v":{"$error":"#N/A"}},"Ne prends jamais sa FC",{"$f":"VLOOKUP(AU11,DEBUTSTEP!$AP$4:$AQ$33,2,FALSE)","v":{"$error":"#N/A"}},"Ne prends jamais sa FC",{"$f":"VLOOKUP(AW11,DEBUTSTEP!$AP$4:$AQ$33,2,FALSE)","v":{"$error":"#N/A"}},"Ne prends jamais sa FC",{"$f":"VLOOKUP(AY11,DEBUTSTEP!$AP$4:$AQ$33,2,FALSE)","v":{"$error":"#N/A"}},"Ne prends jamais sa FC",{"$f":"VLOOKUP(BA11,DEBUTSTEP!$AP$4:$AQ$33,2,FALSE)","v":{"$error":"#N/A"}},"Ne prends jamais sa FC",{"$f":"VLOOKUP(BC11,DEBUTSTEP!$AP$4:$AQ$33,2,FALSE)","v":{"$error":"#N/A"}},"Ne prends jamais sa FC",{"$f":"VLOOKUP(BE11,DEBUTSTEP!$AP$4:$AQ$33,2,FALSE)","v":{"$error":"#N/A"}},"Ne prends jamais sa FC",{"$f":"VLOOKUP(BG11,DEBUTSTEP!$AP$4:$AQ$33,2,FALSE)","v":{"$error":"#N/A"}},"Ne prends jamais sa FC",{"$f":"VLOOKUP(BI11,DEBUTSTEP!$AP$4:$AQ$33,2,FALSE)","v":{"$error":"#N/A"}},"Ne prends jamais sa FC",{"$f":"VLOOKUP(BK11,DEBUTSTEP!$AP$4:$AQ$33,2,FALSE)","v":{"$error":"#N/A"}},"Ne prends jamais sa FC",{"$f":"VLOOKUP(BM11,DEBUTSTEP!$AP$4:$AQ$33,2,FALSE)","v":{"$error":"#N/A"}},"Ne prends jamais sa FC",{"$f":"VLOOKUP(BO11,DEBUTSTEP!$AP$4:$AQ$33,2,FALSE)","v":{"$error":"#N/A"}},"Ne prends jamais sa FC",{"$f":"VLOOKUP(BQ11,DEBUTSTEP!$AP$4:$AQ$33,2,FALSE)","v":{"$error":"#N/A"}},"Ne prends jamais sa FC",{"$f":"VLOOKUP(BS11,DEBUTSTEP!$AP$4:$AQ$33,2,FALSE)","v":{"$error":"#N/A"}}]
["SEANCE 8",null,"Je t'aime",{"$f":"VLOOKUP(C12,DEBUTSTEP!$AP$4:$AQ$33,2,FALSE)","v":{"$error":"#N/A"}},"Ne prends jamais sa FC",{"$f":"VLOOKUP(E12,DEBUTSTEP!$AP$4:$AQ$33,2,FALSE)","v":{"$error":"#N/A"}},"Ne prends jamais sa FC",{"$f":"VLOOKUP(G12,DEBUTSTEP!$AP$4:$AQ$33,2,FALSE)","v":{"$error":"#N/A"}},"Ne prends jamais sa FC",{"$f":"VLOOKUP(I12,DEBUTSTEP!$AP$4:$AQ$33,2,FALSE)","v":{"$error":"#N/A"}},"Ne prends jamais sa FC",{"$f":"VLOOKUP(K12,DEBUTSTEP!$AP$4:$AQ$33,2,FALSE)","v":{"$error":"#N/A"}},"Ne prends jamais sa FC",{"$f":"VLOOKUP(M12,DEBUTSTEP!$AP$4:$AQ$33,2,FALSE)","v":{"$error":"#N/A"}},"Ne prends jamais sa FC",{"$f":"VLOOKUP(O12,DEBUTSTEP!$AP$4:$AQ$33,2,FALSE)","v":{"$error":"#N/A"}},"Ne prends jamais sa FC",{"$f":"VLOOKUP(Q12,DEBUTSTEP!$AP$4:$AQ$33,2,FALSE)","v":{"$error":"#N/A"}},"Ne prends jamais sa FC",{"$f":"VLOOKUP(S12,DEBUTSTEP!$AP$4:$AQ$33,2,FALSE)","v":{"$error":"#N/A"}},"Ne prends jamais sa FC",{"$f":"VLOOKUP(U12,DEBUTSTEP!$AP$4:$AQ$33,2,FALSE)","v":{"$error":"#N/A"}},"Ne prends jamais sa FC",{"$f":"VLOOKUP(W12,DEBUTSTEP!$AP$4:$AQ$33,2,FALSE)","v":{"$error":"#N/A"}},"Ne prends jamais sa FC",{"$f":"VLOOKUP(Y12,DEBUTSTEP!$AP$4:$AQ$33,2,FALSE)","v":{"$error":"#N/A"}},"Ne prends jamais sa FC",{"$f":"VLOOKUP(AA12,DEBUTSTEP!$AP$4:$AQ$33,2,FALSE)","v":{"$error":"#N/A"}},"Ne prends jamais sa FC",{"$f":"VLOOKUP(AC12,DEBUTSTEP!$AP$4:$AQ$33,2,FALSE)","v":{"$error":"#N/A"}},"Ne prends jamais sa FC",{"$f":"VLOOKUP(AE12,DEBUTSTEP!$AP$4:$AQ$33,2,FALSE)","v":{"$error":"#N/A"}},"Ne prends jamais sa FC",{"$f":"VLOOKUP(AG12,DEBUTSTEP!$AP$4:$AQ$33,2,FALSE)","v":{"$error":"#N/A"}},"Ne prends jamais sa FC",{"$f":"VLOOKUP(AI12,DEBUTSTEP!$AP$4:$AQ$33,2,FALSE)","v":{"$error":"#N/A"}},"Ne prends jamais sa FC",{"$f":"VLOOKUP(AK12,DEBUTSTEP!$AP$4:$AQ$33,2,FALSE)","v":{"$error":"#N/A"}},"Ne prends jamais sa FC",{"$f":"VLOOKUP(AM12,DEBUTSTEP!$AP$4:$AQ$33,2,FALSE)","v":{"$error":"#N/A"}},"Ne prends jamais sa FC",{"$f":"VLOOKUP(AO12,DEBUTSTEP!$AP$4:$AQ$33,2,FALSE)","v":{"$error":"#N/A"}},"Ne prends jamais sa FC",{"$f":"VLOOKUP(AQ12,DEBUTSTEP!$AP$4:$AQ$33,2,FALSE)","v":{"$error":"#N/A"}},"Ne prends jamais sa FC",{"$f":"VLOOKUP(AS12,DEBUTSTEP!$AP$4:$AQ$33,2,FALSE)","v":{"$error":"#N/A"}},"Ne prends jamais sa FC",{"$f":"VLOOKUP(AU12,DEBUTSTEP!$AP$4:$AQ$33,2,FALSE)","v":{"$error":"#N/A"}},"Ne prends jamais sa FC",{"$f":"VLOOKUP(AW12,DEBUTSTEP!$AP$4:$AQ$33,2,FALSE)","v":{"$error":"#N/A"}},"Ne prends jamais sa FC",{"$f":"VLOOKUP(AY12,DEBUTSTEP!$AP$4:$AQ$33,2,FALSE)","v":{"$error":"#N/A"}},"Ne prends jamais sa FC",{"$f":"VLOOKUP(BA12,DEBUTSTEP!$AP$4:$AQ$33,2,FALSE)","v":{"$error":"#N/A"}},"Ne prends jamais sa FC",{"$f":"VLOOKUP(BC12,DEBUTSTEP!$AP$4:$AQ$33,2,FALSE)","v":{"$error":"#N/A"}},"Ne prends jamais sa FC",{"$f":"VLOOKUP(BE12,DEBUTSTEP!$AP$4:$AQ$33,2,FALSE)","v":{"$error":"#N/A"}},"Ne prends jamais sa FC",{"$f":"VLOOKUP(BG12,DEBUTSTEP!$AP$4:$AQ$33,2,FALSE)","v":{"$error":"#N/A"}},"Ne prends jamais sa FC",{"$f":"VLOOKUP(BI12,DEBUTSTEP!$AP$4:$AQ$33,2,FALSE)","v":{"$error":"#N/A"}},"Ne prends jamais sa FC",{"$f":"VLOOKUP(BK12,DEBUTSTEP!$AP$4:$AQ$33,2,FALSE)","v":{"$error":"#N/A"}},"Ne prends jamais sa FC",{"$f":"VLOOKUP(BM12,DEBUTSTEP!$AP$4:$AQ$33,2,FALSE)","v":{"$error":"#N/A"}},"Ne prends jamais sa FC",{"$f":"VLOOKUP(BO12,DEBUTSTEP!$AP$4:$AQ$33,2,FALSE)","v":{"$error":"#N/A"}},"Ne prends jamais sa FC",{"$f":"VLOOKUP(BQ12,DEBUTSTEP!$AP$4:$AQ$33,2,FALSE)","v":{"$error":"#N/A"}},"Ne prends jamais sa FC",{"$f":"VLOOKUP(BS12,DEBUTSTEP!$AP$4:$AQ$33,2,FALSE)","v":{"$error":"#N/A"}}]
["SEANCE 9",null,"Je t'aime",{"$f":"VLOOKUP(C13,DEBUTSTEP!$AP$4:$AQ$33,2,FALSE)","v":{"$error":"#N/A"}},"Ne prends jamais sa FC",{"$f":"VLOOKUP(E13,DEBUTSTEP!$AP$4:$AQ$33,2,FALSE)","v":{"$error":"#N/A"}},"Ne prends jamais sa FC",{"$f":"VLOOKUP(G13,DEBUTSTEP!$AP$4:$AQ$33,2,FALSE)","v":{"$error":"#N/A"}},"Ne prends jamais sa FC",{"$f":"VLOOKUP(I13,DEBUTSTEP!$AP$4:$AQ$33,2,FALSE)","v":{"$error":"#N/A"}},"Ne prends jamais sa FC",{"$f":"VLOOKUP(K13,DEBUTSTEP!$AP$4:$AQ$33,2,FALSE)","v":{"$error":"#N/A"}},"Ne prends jamais sa FC",{"$f":"VLOOKUP(M13,DEBUTSTEP!$AP$4:$AQ$33,2,FALSE)","v":{"$error":"#N/A"}},"Ne prends jamais sa FC",{"$f":"VLOOKUP(O13,DEBUTSTEP!$AP$4:$AQ$33,2,FALSE)","v":{"$error":"#N/A"}},"Ne prends jamais sa FC",{"$f":"VLOOKUP(Q13,DEBUTSTEP!$AP$4:$AQ$33,2,FALSE)","v":{"$error":"#N/A"}},"Ne prends jamais sa FC",{"$f":"VLOOKUP(S13,DEBUTSTEP!$AP$4:$AQ$33,2,FALSE)","v":{"$error":"#N/A"}},"Ne prends jamais sa FC",{"$f":"VLOOKUP(U13,DEBUTSTEP!$AP$4:$AQ$33,2,FALSE)","v":{"$error":"#N/A"}},"Ne prends jamais sa FC",{"$f":"VLOOKUP(W13,DEBUTSTEP!$AP$4:$AQ$33,2,FALSE)","v":{"$error":"#N/A"}},"Ne prends jamais sa FC",{"$f":"VLOOKUP(Y13,DEBUTSTEP!$AP$4:$AQ$33,2,FALSE)","v":{"$error":"#N/A"}},"Ne prends jamais sa FC",{"$f":"VLOOKUP(AA13,DEBUTSTEP!$AP$4:$AQ$33,2,FALSE)","v":{"$error":"#N/A"}},"Ne prends jamais sa FC",{"$f":"VLOOKUP(AC13,DEBUTSTEP!$AP$4:$AQ$33,2,FALSE)","v":{"$error":"#N/A"}},"Ne prends jamais sa FC",{"$f":"VLOOKUP(AE13,DEBUTSTEP!$AP$4:$AQ$33,2,FALSE)","v":{"$error":"#N/A"}},"Ne prends jamais sa FC",{"$f":"VLOOKUP(AG13,DEBUTSTEP!$AP$4:$AQ$33,2,FALSE)","v":{"$error":"#N/A"}},"Ne prends jamais sa FC",{"$f":"VLOOKUP(AI13,DEBUTSTEP!$AP$4:$AQ$33,2,FALSE)","v":{"$error":"#N/A"}},"Ne prends jamais sa FC",{"$f":"VLOOKUP(AK13,DEBUTSTEP!$AP$4:$AQ$33,2,FALSE)","v":{"$error":"#N/A"}},"Ne prends jamais sa FC",{"$f":"VLOOKUP(AM13,DEBUTSTEP!$AP$4:$AQ$33,2,FALSE)","v":{"$error":"#N/A"}},"Ne prends jamais sa FC",{"$f":"VLOOKUP(AO13,DEBUTSTEP!$AP$4:$AQ$33,2,FALSE)","v":{"$error":"#N/A"}},"Ne prends jamais sa FC",{"$f":"VLOOKUP(AQ13,DEBUTSTEP!$AP$4:$AQ$33,2,FALSE)","v":{"$error":"#N/A"}},"Ne prends jamais sa FC",{"$f":"VLOOKUP(AS13,DEBUTSTEP!$AP$4:$AQ$33,2,FALSE)","v":{"$error":"#N/A"}},"Ne prends jamais sa FC",{"$f":"VLOOKUP(AU13,DEBUTSTEP!$AP$4:$AQ$33,2,FALSE)","v":{"$error":"#N/A"}},"Ne prends jamais sa FC",{"$f":"VLOOKUP(AW13,DEBUTSTEP!$AP$4:$AQ$33,2,FALSE)","v":{"$error":"#N/A"}},"Ne prends jamais sa FC",{"$f":"VLOOKUP(AY13,DEBUTSTEP!$AP$4:$AQ$33,2,FALSE)","v":{"$error":"#N/A"}},"Ne prends jamais sa FC",{"$f":"VLOOKUP(BA13,DEBUTSTEP!$AP$4:$AQ$33,2,FALSE)","v":{"$error":"#N/A"}},"Ne prends jamais sa FC",{"$f":"VLOOKUP(BC13,DEBUTSTEP!$AP$4:$AQ$33,2,FALSE)","v":{"$error":"#N/A"}},"Ne prends jamais sa FC",{"$f":"VLOOKUP(BE13,DEBUTSTEP!$AP$4:$AQ$33,2,FALSE)","v":{"$error":"#N/A"}},"Ne prends jamais sa FC",{"$f":"VLOOKUP(BG13,DEBUTSTEP!$AP$4:$AQ$33,2,FALSE)","v":{"$error":"#N/A"}},"Ne prends jamais sa FC",{"$f":"VLOOKUP(BI13,DEBUTSTEP!$AP$4:$AQ$33,2,FALSE)","v":{"$error":"#N/A"}},"Ne prends jamais sa FC",{"$f":"VLOOKUP(BK13,DEBUTSTEP!$AP$4:$AQ$33,2,FALSE)","v":{"$error":"#N/A"}},"Ne prends jamais sa FC",{"$f":"VLOOKUP(BM13,DEBUTSTEP!$AP$4:$AQ$33,2,FALSE)","v":{"$error":"#N/A"}},"Ne prends jamais sa FC",{"$f":"VLOOKUP(BO13,DEBUTSTEP!$AP$4:$AQ$33,2,FALSE)","v":{"$error":"#N/A"}},"Ne prends jamais sa FC",{"$f":"VLOOKUP(BQ13,DEBUTSTEP!$AP$4:$AQ$33,2,FALSE)","v":{"$error":"#N/A"}},"Ne prends jamais sa FC",{"$f":"VLOOKUP(BS13,DEBUTSTEP!$AP$4:$AQ$33,2,FALSE)","v":{"$error":"#N/A"}}]
["SEANCE 10",null,"Je t'aime",{"$f":"VLOOKUP(C14,DEBUTSTEP!$AP$4:$AQ$33,2,FALSE)","v":{"$error":"#N/A"}},"Ne prends jamais sa FC",{"$f":"VLOOKUP(E14,DEBUTSTEP!$AP$4:$AQ$33,2,FALSE)","v":{"$error":"#N/A"}},"Ne prends jamais sa FC",{"$f":"VLOOKUP(G14,DEBUTSTEP!$AP$4:$AQ$33,2,FALSE)","v":{"$error":"#N/A"}},"Ne prends jamais sa FC",{"$f":"VLOOKUP(I14,DEBUTSTEP!$AP$4:$AQ$33,2,FALSE)","v":{"$error":"#N/A"}},"Ne prends jamais sa FC",{"$f":"VLOOKUP(K14,DEBUTSTEP!$AP$4:$AQ$33,2,FALSE)","v":{"$error":"#N/A"}},"Ne prends jamais sa FC",{"$f":"VLOOKUP(M14,DEBUTSTEP!$AP$4:$AQ$33,2,FALSE)","v":{"$error":"#N/A"}},"Ne prends jamais sa FC",{"$f":"VLOOKUP(O14,DEBUTSTEP!$AP$4:$AQ$33,2,FALSE)","v":{"$error":"#N/A"}},"Ne prends jamais sa FC",{"$f":"VLOOKUP(Q14,DEBUTSTEP!$AP$4:$AQ$33,2,FALSE)","v":{"$error":"#N/A"}},"Ne prends jamais sa FC",{"$f":"VLOOKUP(S14,DEBUTSTEP!$AP$4:$AQ$33,2,FALSE)","v":{"$error":"#N/A"}},"Ne prends jamais sa FC",{"$f":"VLOOKUP(U14,DEBUTSTEP!$AP$4:$AQ$33,2,FALSE)","v":{"$error":"#N/A"}},"Ne prends jamais sa FC",{"$f":"VLOOKUP(W14,DEBUTSTEP!$AP$4:$AQ$33,2,FALSE)","v":{"$error":"#N/A"}},"Ne prends jamais sa FC",{"$f":"VLOOKUP(Y14,DEBUTSTEP!$AP$4:$AQ$33,2,FALSE)","v":{"$error":"#N/A"}},"Ne prends jamais sa FC",{"$f":"VLOOKUP(AA14,DEBUTSTEP!$AP$4:$AQ$33,2,FALSE)","v":{"$error":"#N/A"}},"Ne prends jamais sa FC",{"$f":"VLOOKUP(AC14,DEBUTSTEP!$AP$4:$AQ$33,2,FALSE)","v":{"$error":"#N/A"}},"Ne prends jamais sa FC",{"$f":"VLOOKUP(AE14,DEBUTSTEP!$AP$4:$AQ$33,2,FALSE)","v":{"$error":"#N/A"}},"Ne prends jamais sa FC",{"$f":"VLOOKUP(AG14,DEBUTSTEP!$AP$4:$AQ$33,2,FALSE)","v":{"$error":"#N/A"}},"Ne prends jamais sa FC",{"$f":"VLOOKUP(AI14,DEBUTSTEP!$AP$4:$AQ$33,2,FALSE)","v":{"$error":"#N/A"}},"Ne prends jamais sa FC",{"$f":"VLOOKUP(AK14,DEBUTSTEP!$AP$4:$AQ$33,2,FALSE)","v":{"$error":"#N/A"}},"Ne prends jamais sa FC",{"$f":"VLOOKUP(AM14,DEBUTSTEP!$AP$4:$AQ$33,2,FALSE)","v":{"$error":"#N/A"}},"Ne prends jamais sa FC",{"$f":"VLOOKUP(AO14,DEBUTSTEP!$AP$4:$AQ$33,2,FALSE)","v":{"$error":"#N/A"}},"Ne prends jamais sa FC",{"$f":"VLOOKUP(AQ14,DEBUTSTEP!$AP$4:$AQ$33,2,FALSE)","v":{"$error":"#N/A"}},"Ne prends jamais sa FC",{"$f":"VLOOKUP(AS14,DEBUTSTEP!$AP$4:$AQ$33,2,FALSE)","v":{"$error":"#N/A"}},"Ne prends jamais sa FC",{"$f":"VLOOKUP(AU14,DEBUTSTEP!$AP$4:$AQ$33,2,FALSE)","v":{"$error":"#N/A"}},"Ne prends jamais sa FC",{"$f":"VLOOKUP(AW14,DEBUTSTEP!$AP$4:$AQ$33,2,FALSE)","v":{"$error":"#N/A"}},"Ne prends jamais sa FC",{"$f":"VLOOKUP(AY14,DEBUTSTEP!$AP$4:$AQ$33,2,FALSE)","v":{"$error":"#N/A"}},"Ne prends jamais sa FC",{"$f":"VLOOKUP(BA14,DEBUTSTEP!$AP$4:$AQ$33,2,FALSE)","v":{"$error":"#N/A"}},"Ne prends jamais sa FC",{"$f":"VLOOKUP(BC14,DEBUTSTEP!$AP$4:$AQ$33,2,FALSE)","v":{"$error":"#N/A"}},"Ne prends jamais sa FC",{"$f":"VLOOKUP(BE14,DEBUTSTEP!$AP$4:$AQ$33,2,FALSE)","v":{"$error":"#N/A"}},"Ne prends jamais sa FC",{"$f":"VLOOKUP(BG14,DEBUTSTEP!$AP$4:$AQ$33,2,FALSE)","v":{"$error":"#N/A"}},"Ne prends jamais sa FC",{"$f":"VLOOKUP(BI14,DEBUTSTEP!$AP$4:$AQ$33,2,FALSE)","v":{"$error":"#N/A"}},"Ne prends jamais sa FC",{"$f":"VLOOKUP(BK14,DEBUTSTEP!$AP$4:$AQ$33,2,FALSE)","v":{"$error":"#N/A"}},"Ne prends jamais sa FC",{"$f":"VLOOKUP(BM14,DEBUTSTEP!$AP$4:$AQ$33,2,FALSE)","v":{"$error":"#N/A"}},"Ne prends jamais sa FC",{"$f":"VLOOKUP(BO14,DEBUTSTEP!$AP$4:$AQ$33,2,FALSE)","v":{"$error":"#N/A"}},"Ne prends jamais sa FC",{"$f":"VLOOKUP(BQ14,DEBUTSTEP!$AP$4:$AQ$33,2,FALSE)","v":{"$error":"#N/A"}},"Ne prends jamais sa FC",{"$f":"VLOOKUP(BS14,DEBUTSTEP!$AP$4:$AQ$33,2,FALSE)","v":{"$error":"#N/A"}}]
[]
[{"$f":"DEBUTSTEP!$AR$4","v":"S'engager dans le mobile"}]
["SEANCE 1",null,"Aucun",{"$f":"VLOOKUP(C17,DEBUTSTEP!$AR$4:$AS$33,2,FALSE)","v":0},"Aucun",{"$f":"VLOOKUP(E17,DEBUTSTEP!$AR$4:$AS$33,2,FALSE)","v":0},"Aucun",{"$f":"VLOOKUP(G17,DEBUTSTEP!$AR$4:$AS$33,2,FALSE)","v":0},"Aucun",{"$f":"VLOOKUP(I17,DEBUTSTEP!$AR$4:$AS$33,2,FALSE)","v":0},"Aucun",{"$f":"VLOOKUP(K17,DEBUTSTEP!$AR$4:$AS$33,2,FALSE)","v":0},"Aucun",{"$f":"VLOOKUP(M17,DEBUTSTEP!$AR$4:$AS$33,2,FALSE)","v":0},"Aucun",{"$f":"VLOOKUP(O17,DEBUTSTEP!$AR$4:$AS$33,2,FALSE)","v":0},"Aucun",{"$f":"VLOOKUP(Q17,DEBUTSTEP!$AR$4:$AS$33,2,FALSE)","v":0},"Aucun",{"$f":"VLOOKUP(S17,DEBUTSTEP!$AR$4:$AS$33,2,FALSE)","v":0},"Aucun",{"$f":"VLOOKUP(U17,DEBUTSTEP!$AR$4:$AS$33,2,FALSE)","v":0},"Aucun",{"$f":"VLOOKUP(W17,DEBUTSTEP!$AR$4:$AS$33,2,FALSE)","v":0},"Aucun",{"$f":"VLOOKUP(Y17,DEBUTSTEP!$AR$4:$AS$33,2,FALSE)","v":0},"Aucun",{"$f":"VLOOKUP(AA17,DEBUTSTEP!$AR$4:$AS$33,2,FALSE)","v":0},"Aucun",{"$f":"VLOOKUP(AC17,DEBUTSTEP!$AR$4:$AS$33,2,FALSE)","v":0},"Aucun",{"$f":"VLOOKUP(AE17,DEBUTSTEP!$AR$4:$AS$33,2,FALSE)","v":0},"Aucun",{"$f":"VLOOKUP(AG17,DEBUTSTEP!$AR$4:$AS$33,2,FALSE)","v":0},"Aucun",{"$f":"VLOOKUP(AI17,DEBUTSTEP!$AR$4:$AS$33,2,FALSE)","v":0},"Aucun",{"$f":"VLOOKUP(AK17,DEBUTSTEP!$AR$4:$AS$33,2,FALSE)","v":0},"Aucun",{"$f":"VLOOKUP(AM17,DEBUTSTEP!$AR$4:$AS$33,2,FALSE)","v":0},"Aucun",{"$f":"VLOOKUP(AO17,DEBUTSTEP!$AR$4:$AS$33,2,FALSE)","v":0},"Aucun",{"$f":"VLOOKUP(AQ17,DEBUTSTEP!$AR$4:$AS$33,2,FALSE)","v":0},"Aucun",{"$f":"VLOOKUP(AS17,DEBUTSTEP!$AR$4:$AS$33,2,FALSE)","v":0},"Aucun",{"$f":"VLOOKUP(AU17,DEBUTSTEP!$AR$4:$AS$33,2,FALSE)","v":0},"Aucun",{"$f":"VLOOKUP(AW17,DEBUTSTEP!$AR$4:$AS$33,2,FALSE)","v":0},"Aucun",{"$f":"VLOOKUP(AY17,DEBUTSTEP!$AR$4:$AS$33,2,FALSE)","v":0},"Aucun",{"$f":"VLOOKUP(BA17,DEBUTSTEP!$AR$4:$AS$33,2,FALSE)","v":0},"Aucun",{"$f":"VLOOKUP(BC17,DEBUTSTEP!$AR$4:$AS$33,2,FALSE)","v":0},"Aucun",{"$f":"VLOOKUP(BE17,DEBUTSTEP!$AR$4:$AS$33,2,FALSE)","v":0},"Aucun",{"$f":"VLOOKUP(BG17,DEBUTSTEP!$AR$4:$AS$33,2,FALSE)","v":0},"Aucun",{"$f":"VLOOKUP(BI17,DEBUTSTEP!$AR$4:$AS$33,2,FALSE)","v":0},"Aucun",{"$f":"VLOOKUP(BK17,DEBUTSTEP!$AR$4:$AS$33,2,FALSE)","v":0},"Aucun",{"$f":"VLOOKUP(BM17,DEBUTSTEP!$AR$4:$AS$33,2,FALSE)","v":0},"Aucun",{"$f":"VLOOKUP(BO17,DEBUTSTEP!$AR$4:$AS$33,2,FALSE)","v":0},"Aucun",{"$f":"VLOOKUP(BQ17,DEBUTSTEP!$AR$4:$AS$33,2,FALSE)","v":0},"Aucun",{"$f":"VLOOKUP(BS17,DEBUTSTEP!$AR$4:$AS$33,2,FALSE)","v":0}]
["SEANCE 2",null,"Faible",{"$f":"VLOOKUP(C18,DEBUTSTEP!$AR$4:$AS$33,2,FALSE)","v":1},"Faible",{"$f":"VLOOKUP(E18,DEBUTSTEP!$AR$4:$AS$33,2,FALSE)","v":1},"Faible",{"$f":"VLOOKUP(G18,DEBUTSTEP!$AR$4:$AS$33,2,FALSE)","v":1},"Faible",{"$f":"VLOOKUP(I18,DEBUTSTEP!$AR$4:$AS$33,2,FALSE)","v":1},"Faible",{"$f":"VLOOKUP(K18,DEBUTSTEP!$AR$4:$AS$33,2,FALSE)","v":1},"Faible",{"$f":"VLOOKUP(M18,DEBUTSTEP!$AR$4:$AS$33,2,FALSE)","v":1},"Faible",{"$f":"VLOOKUP(O18,DEBUTSTEP!$AR$4:$AS$33,2,FALSE)","v":1},"Faible",{"$f":"VLOOKUP(Q18,DEBUTSTEP!$AR$4:$AS$33,2,FALSE)","v":1},"Faible",{"$f":"VLOOKUP(S18,DEBUTSTEP!$AR$4:$AS$33,2,FALSE)","v":1},"Faible",{"$f":"VLOOKUP(U18,DEBUTSTEP!$AR$4:$AS$33,2,FALSE)","v":1},"Faible",{"$f":"VLOOKUP(W18,DEBUTSTEP!$AR$4:$AS$33,2,FALSE)","v":1},"Faible",{"$f":"VLOOKUP(Y18,DEBUTSTEP!$AR$4:$AS$33,2,FALSE)","v":1},"Faible",{"$f":"VLOOKUP(AA18,DEBUTSTEP!$AR$4:$AS$33,2,FALSE)","v":1},"Faible",{"$f":"VLOOKUP(AC18,DEBUTSTEP!$AR$4:$AS$33,2,FALSE)","v":1},"Faible",{"$f":"VLOOKUP(AE18,DEBUTSTEP!$AR$4:$AS$33,2,FALSE)","v":1},"Faible",{"$f":"VLOOKUP(AG18,DEBUTSTEP!$AR$4:$AS$33,2,FALSE)","v":1},"Faible",{"$f":"VLOOKUP(AI18,DEBUTSTEP!$AR$4:$AS$33,2,FALSE)","v":1},"Faible",{"$f":"VLOOKUP(AK18,DEBUTSTEP!$AR$4:$AS$33,2,FALSE)","v":1},"Faible",{"$f":"VLOOKUP(AM18,DEBUTSTEP!$AR$4:$AS$33,2,FALSE)","v":1},"Faible",{"$f":"VLOOKUP(AO18,DEBUTSTEP!$AR$4:$AS$33,2,FALSE)","v":1},"Faible",{"$f":"VLOOKUP(AQ18,DEBUTSTEP!$AR$4:$AS$33,2,FALSE)","v":1},"Faible",{"$f":"VLOOKUP(AS18,DEBUTSTEP!$AR$4:$AS$33,2,FALSE)","v":1},"Faible",{"$f":"VLOOKUP(AU18,DEBUTSTEP!$AR$4:$AS$33,2,FALSE)","v":1},"Faible",{"$f":"VLOOKUP(AW18,DEBUTSTEP!$AR$4:$AS$33,2,FALSE)","v":1},"Faible",{"$f":"VLOOKUP(AY18,DEBUTSTEP!$AR$4:$AS$33,2,FALSE)","v":1},"Faible",{"$f":"VLOOKUP(BA18,DEBUTSTEP!$AR$4:$AS$33,2,FALSE)","v":1},"Faible",{"$f":"VLOOKUP(BC18,DEBUTSTEP!$AR$4:$AS$33,2,FALSE)","v":1},"Faible",{"$f":"VLOOKUP(BE18,DEBUTSTEP!$AR$4:$AS$33,2,FALSE)","v":1},"Faible",{"$f":"VLOOKUP(BG18,DEBUTSTEP!$AR$4:$AS$33,2,FALSE)","v":1},"Faible",{"$f":"VLOOKUP(BI18,DEBUTSTEP!$AR$4:$AS$33,2,FALSE)","v":1},"Faible",{"$f":"VLOOKUP(BK18,DEBUTSTEP!$AR$4:$AS$33,2,FALSE)","v":1},"Faible",{"$f":"VLOOKUP(BM18,DEBUTSTEP!$AR$4:$AS$33,2,FALSE)","v":1},"Faible",{"$f":"VLOOKUP(BO18,DEBUTSTEP!$AR$4:$AS$33,2,FALSE)","v":1},"Faible",{"$f":"VLOOKUP(BQ18,DEBUTSTEP!$AR$4:$AS$33,2,FALSE)","v":1},"Faible",{"$f":"VLOOKUP(BS18,DEBUTSTEP!$AR$4:$AS$33,2,FALSE)","v":1}]
["SEANCE 3",null,"Faible",{"$f":"VLOOKUP(C19,DEBUTSTEP!$AR$4:$AS$33,2,FALSE)","v":1},"Faible",{"$f":"VLOOKUP(E19,DEBUTSTEP!$AR$4:$AS$33,2,FALSE)","v":1},"Faible",{"$f":"VLOOKUP(G19,DEBUTSTEP!$AR$4:$AS$33,2,FALSE)","v":1},"Faible",{"$f":"VLOOKUP(I19,DEBUTSTEP!$AR$4:$AS$33,2,FALSE)","v":1},"Faible",{"$f":"VLOOKUP(K19,DEBUTSTEP!$AR$4:$AS$33,2,FALSE)","v":1},"Faible",{"$f":"VLOOKUP(M19,DEBUTSTEP!$AR$4:$AS$33,2,FALSE)","v":1},"Faible",{"$f":"VLOOKUP(O19,DEBUTSTEP!$AR$4:$AS$33,2,FALSE)","v":1},"Faible",{"$f":"VLOOKUP(Q19,DEBUTSTEP!$AR$4:$AS$33,2,FALSE)","v":1},"Faible",{"$f":"VLOOKUP(S19,DEBUTSTEP!$AR$4:$AS$33,2,FALSE)","v":1},"Faible",{"$f":"VLOOKUP(U19,DEBUTSTEP!$AR$4:$AS$33,2,FALSE)","v":1},"Faible",{"$f":"VLOOKUP(W19,DEBUTSTEP!$AR$4:$AS$33,2,FALSE)","v":1},"Faible",{"$f":"VLOOKUP(Y19,DEBUTSTEP!$AR$4:$AS$33,2,FALSE)","v":1},"Faible",{"$f":"VLOOKUP(AA19,DEBUTSTEP!$AR$4:$AS$33,2,FALSE)","v":1},"Faible",{"$f":"VLOOKUP(AC19,DEBUTSTEP!$AR$4:$AS$33,2,FALSE)","v":1},"Faible",{"$f":"VLOOKUP(AE19,DEBUTSTEP!$AR$4:$AS$33,2,FALSE)","v":1},"Faible",{"$f":"VLOOKUP(AG19,DEBUTSTEP!$AR$4:$AS$33,2,FALSE)","v":1},"Faible",{"$f":"VLOOKUP(AI19,DEBUTSTEP!$AR$4:$AS$33,2,FALSE)","v":1},"Faible",{"$f":"VLOOKUP(AK19,DEBUTSTEP!$AR$4:$AS$33,2,FALSE)","v":1},"Faible",{"$f":"VLOOKUP(AM19,DEBUTSTEP!$AR$4:$AS$33,2,FALSE)","v":1},"Faible",{"$f":"VLOOKUP(AO19,DEBUTSTEP!$AR$4:$AS$33,2,FALSE)","v":1},"Faible",{"$f":"VLOOKUP(AQ19,DEBUTSTEP!$AR$4:$AS$33,2,FALSE)","v":1},"Faible",{"$f":"VLOOKUP(AS19,DEBUTSTEP!$AR$4:$AS$33,2,FALSE)","v":1},"Faible",{"$f":"VLOOKUP(AU19,DEBUTSTEP!$AR$4:$AS$33,2,FALSE)","v":1},"Faible",{"$f":"VLOOKUP(AW19,DEBUTSTEP!$AR$4:$AS$33,2,FALSE)","v":1},"Faible",{"$f":"VLOOKUP(AY19,DEBUTSTEP!$AR$4:$AS$33,2,FALSE)","v":1},"Faible",{"$f":"VLOOKUP(BA19,DEBUTSTEP!$AR$4:$AS$33,2,FALSE)","v":1},"Faible",{"$f":"VLOOKUP(BC19,DEBUTSTEP!$AR$4:$AS$33,2,FALSE)","v":1},"Faible",{"$f":"VLOOKUP(BE19,DEBUTSTEP!$AR$4:$AS$33,2,FALSE)","v":1},"Faible",{"$f":"VLOOKUP(BG19,DEBUTSTEP!$AR$4:$AS$33,2,FALSE)","v":1},"Faible",{"$f":"VLOOKUP(BI19,DEBUTSTEP!$AR$4:$AS$33,2,FALSE)","v":1},"Faible",{"$f":"VLOOKUP(BK19,DEBUTSTEP!$AR$4:$AS$33,2,FALSE)","v":1},"Faible",{"$f":"VLOOKUP(BM19,DEBUTSTEP!$AR$4:$AS$33,2,FALSE)","v":1},"Faible",{"$f":"VLOOKUP(BO19,DEBUTSTEP!$AR$4:$AS$33,2,FALSE)","v":1},"Faible",{"$f":"VLOOKUP(BQ19,DEBUTSTEP!$AR$4:$AS$33,2,FALSE)","v":1},"Faible",{"$f":"VLOOKUP(BS19,DEBUTSTEP!$AR$4:$AS$33,2,FALSE)","v":1}]
["SEANCE 4",null,"Faible",{"$f":"VLOOKUP(C20,DEBUTSTEP!$AR$4:$AS$33,2,FALSE)","v":1},"Faible",{"$f":"VLOOKUP(E20,DEBUTSTEP!$AR$4:$AS$33,2,FALSE)","v":1},"Faible",{"$f":"VLOOKUP(G20,DEBUTSTEP!$AR$4:$AS$33,2,FALSE)","v":1},"Faible",{"$f":"VLOOKUP(I20,DEBUTSTEP!$AR$4:$AS$33,2,FALSE)","v":1},"Faible",{"$f":"VLOOKUP(K20,DEBUTSTEP!$AR$4:$AS$33,2,FALSE)","v":1},"Faible",{"$f":"VLOOKUP(M20,DEBUTSTEP!$AR$4:$AS$33,2,FALSE)","v":1},"Faible",{"$f":"VLOOKUP(O20,DEBUTSTEP!$AR$4:$AS$33,2,FALSE)","v":1},"Faible",{"$f":"VLOOKUP(Q20,DEBUTSTEP!$AR$4:$AS$33,2,FALSE)","v":1},"Faible",{"$f":"VLOOKUP(S20,DEBUTSTEP!$AR$4:$AS$33,2,FALSE)","v":1},"Faible",{"$f":"VLOOKUP(U20,DEBUTSTEP!$AR$4:$AS$33,2,FALSE)","v":1},"Faible",{"$f":"VLOOKUP(W20,DEBUTSTEP!$AR$4:$AS$33,2,FALSE)","v":1},"Faible",{"$f":"VLOOKUP(Y20,DEBUTSTEP!$AR$4:$AS$33,2,FALSE)","v":1},"Faible",{"$f":"VLOOKUP(AA20,DEBUTSTEP!$AR$4:$AS$33,2,FALSE)","v":1},"Faible",{"$f":"VLOOKUP(AC20,DEBUTSTEP!$AR$4:$AS$33,2,FALSE)","v":1},"Faible",{"$f":"VLOOKUP(AE20,DEBUTSTEP!$AR$4:$AS$33,2,FALSE)","v":1},"Faible",{"$f":"VLOOKUP(AG20,DEBUTSTEP!$AR$4:$AS$33,2,FALSE)","v":1},"Faible",{"$f":"VLOOKUP(AI20,DEBUTSTEP!$AR$4:$AS$33,2,FALSE)","v":1},"Faible",{"$f":"VLOOKUP(AK20,DEBUTSTEP!$AR$4:$AS$33,2,FALSE)","v":1},"Faible",{"$f":"VLOOKUP(AM20,DEBUTSTEP!$AR$4:$AS$33,2,FALSE)","v":1},"Faible",{"$f":"VLOOKUP(AO20,DEBUTSTEP!$AR$4:$AS$33,2,FALSE)","v":1},"Faible",{"$f":"VLOOKUP(AQ20,DEBUTSTEP!$AR$4:$AS$33,2,FALSE)","v":1},"Faible",{"$f":"VLOOKUP(AS20,DEBUTSTEP!$AR$4:$AS$33,2,FALSE)","v":1},"Faible",{"$f":"VLOOKUP(AU20,DEBUTSTEP!$AR$4:$AS$33,2,FALSE)","v":1},"Faible",{"$f":"VLOOKUP(AW20,DEBUTSTEP!$AR$4:$AS$33,2,FALSE)","v":1},"Faible",{"$f":"VLOOKUP(AY20,DEBUTSTEP!$AR$4:$AS$33,2,FALSE)","v":1},"Faible",{"$f":"VLOOKUP(BA20,DEBUTSTEP!$AR$4:$AS$33,2,FALSE)","v":1},"Faible",{"$f":"VLOOKUP(BC20,DEBUTSTEP!$AR$4:$AS$33,2,FALSE)","v":1},"Faible",{"$f":"VLOOKUP(BE20,DEBUTSTEP!$AR$4:$AS$33,2,FALSE)","v":1},"Faible",{"$f":"VLOOKUP(BG20,DEBUTSTEP!$AR$4:$AS$33,2,FALSE)","v":1},"Faible",{"$f":"VLOOKUP(BI20,DEBUTSTEP!$AR$4:$AS$33,2,FALSE)","v":1},"Faible",{"$f":"VLOOKUP(BK20,DEBUTSTEP!$AR$4:$AS$33,2,FALSE)","v":1},"Faible",{"$f":"VLOOKUP(BM20,DEBUTSTEP!$AR$4:$AS$33,2,FALSE)","v":1},"Faible",{"$f":"VLOOKUP(BO20,DEBUTSTEP!$AR$4:$AS$33,2,FALSE)","v":1},"Faible",{"$f":"VLOOKUP(BQ20,DEBUTSTEP!$AR$4:$AS$33,2,FALSE)","v":1},"Faible",{"$f":"VLOOKUP(BS20,DEBUTSTEP!$AR$4:$AS$33,2,FALSE)","v":1}]
["SEANCE 5",null,"Faible",{"$f":"VLOOKUP(C21,DEBUTSTEP!$AR$4:$AS$33,2,FALSE)","v":1},"Faible",{"$f":"VLOOKUP(E21,DEBUTSTEP!$AR$4:$AS$33,2,FALSE)","v":1},"Faible",{"$f":"VLOOKUP(G21,DEBUTSTEP!$AR$4:$AS$33,2,FALSE)","v":1},"Faible",{"$f":"VLOOKUP(I21,DEBUTSTEP!$AR$4:$AS$33,2,FALSE)","v":1},"Faible",{"$f":"VLOOKUP(K21,DEBUTSTEP!$AR$4:$AS$33,2,FALSE)","v":1},"Faible",{"$f":"VLOOKUP(M21,DEBUTSTEP!$AR$4:$AS$33,2,FALSE)","v":1},"Faible",{"$f":"VLOOKUP(O21,DEBUTSTEP!$AR$4:$AS$33,2,FALSE)","v":1},"Faible",{"$f":"VLOOKUP(Q21,DEBUTSTEP!$AR$4:$AS$33,2,FALSE)","v":1},"Faible",{"$f":"VLOOKUP(S21,DEBUTSTEP!$AR$4:$AS$33,2,FALSE)","v":1},"Faible",{"$f":"VLOOKUP(U21,DEBUTSTEP!$AR$4:$AS$33,2,FALSE)","v":1},"Faible",{"$f":"VLOOKUP(W21,DEBUTSTEP!$AR$4:$AS$33,2,FALSE)","v":1},"Faible",{"$f":"VLOOKUP(Y21,DEBUTSTEP!$AR$4:$AS$33,2,FALSE)","v":1},"Faible",{"$f":"VLOOKUP(AA21,DEBUTSTEP!$AR$4:$AS$33,2,FALSE)","v":1},"Faible",{"$f":"VLOOKUP(AC21,DEBUTSTEP!$AR$4:$AS$33,2,FALSE)","v":1},"Faible",{"$f":"VLOOKUP(AE21,DEBUTSTEP!$AR$4:$AS$33,2,FALSE)","v":1},"Faible",{"$f":"VLOOKUP(AG21,DEBUTSTEP!$AR$4:$AS$33,2,FALSE)","v":1},"Faible",{"$f":"VLOOKUP(AI21,DEBUTSTEP!$AR$4:$AS$33,2,FALSE)","v":1},"Faible",{"$f":"VLOOKUP(AK21,DEBUTSTEP!$AR$4:$AS$33,2,FALSE)","v":1},"Faible",{"$f":"VLOOKUP(AM21,DEBUTSTEP!$AR$4:$AS$33,2,FALSE)","v":1},"Faible",{"$f":"VLOOKUP(AO21,DEBUTSTEP!$AR$4:$AS$33,2,FALSE)","v":1},"Faible",{"$f":"VLOOKUP(AQ21,DEBUTSTEP!$AR$4:$AS$33,2,FALSE)","v":1},"Faible",{"$f":"VLOOKUP(AS21,DEBUTSTEP!$AR$4:$AS$33,2,FALSE)","v":1},"Faible",{"$f":"VLOOKUP(AU21,DEBUTSTEP!$AR$4:$AS$33,2,FALSE)","v":1},"Faible",{"$f":"VLOOKUP(AW21,DEBUTSTEP!$AR$4:$AS$33,2,FALSE)","v":1},"Faible",{"$f":"VLOOKUP(AY21,DEBUTSTEP!$AR$4:$AS$33,2,FALSE)","v":1},"Faible",{"$f":"VLOOKUP(BA21,DEBUTSTEP!$AR$4:$AS$33,2,FALSE)","v":1},"Faible",{"$f":"VLOOKUP(BC21,DEBUTSTEP!$AR$4:$AS$33,2,FALSE)","v":1},"Faible",{"$f":"VLOOKUP(BE21,DEBUTSTEP!$AR$4:$AS$33,2,FALSE)","v":1},"Faible",{"$f":"VLOOKUP(BG21,DEBUTSTEP!$AR$4:$AS$33,2,FALSE)","v":1},"Faible",{"$f":"VLOOKUP(BI21,DEBUTSTEP!$AR$4:$AS$33,2,FALSE)","v":1},"Faible",{"$f":"VLOOKUP(BK21,DEBUTSTEP!$AR$4:$AS$33,2,FALSE)","v":1},"Faible",{"$f":"VLOOKUP(BM21,DEBUTSTEP!$AR$4:$AS$33,2,FALSE)","v":1},"Faible",{"$f":"VLOOKUP(BO21,DEBUTSTEP!$AR$4:$AS$33,2,FALSE)","v":1},"Faible",{"$f":"VLOOKUP(BQ21,DEBUTSTEP!$AR$4:$AS$33,2,FALSE)","v":1},"Faible",{"$f":"VLOOKUP(BS21,DEBUTSTEP!$AR$4:$AS$33,2,FALSE)","v":1}]
["SEANCE 6",null,"Faible",{"$f":"VLOOKUP(C22,DEBUTSTEP!$AR$4:$AS$33,2,FALSE)","v":1},"Faible",{"$f":"VLOOKUP(E22,DEBUTSTEP!$AR$4:$AS$33,2,FALSE)","v":1},"Faible",{"$f":"VLOOKUP(G22,DEBUTSTEP!$AR$4:$AS$33,2,FALSE)","v":1},"Faible",{"$f":"VLOOKUP(I22,DEBUTSTEP!$AR$4:$AS$33,2,FALSE)","v":1},"Faible",{"$f":"VLOOKUP(K22,DEBUTSTEP!$AR$4:$AS$33,2,FALSE)","v":1},"Faible",{"$f":"VLOOKUP(M22,DEBUTSTEP!$AR$4:$AS$33,2,FALSE)","v":1},"Faible",{"$f":"VLOOKUP(O22,DEBUTSTEP!$AR$4:$AS$33,2,FALSE)","v":1},"Faible",{"$f":"VLOOKUP(Q22,DEBUTSTEP!$AR$4:$AS$33,2,FALSE)","v":1},"Faible",{"$f":"VLOOKUP(S22,DEBUTSTEP!$AR$4:$AS$33,2,FALSE)","v":1},"Faible",{"$f":"VLOOKUP(U22,DEBUTSTEP!$AR$4:$AS$33,2,FALSE)","v":1},"Faible",{"$f":"VLOOKUP(W22,DEBUTSTEP!$AR$4:$AS$33,2,FALSE)","v":1},"Faible",{"$f":"VLOOKUP(Y22,DEBUTSTEP!$AR$4:$AS$33,2,FALSE)","v":1},"Faible",{"$f":"VLOOKUP(AA22,DEBUTSTEP!$AR$4:$AS$33,2,FALSE)","v":1},"Faible",{"$f":"VLOOKUP(AC22,DEBUTSTEP!$AR$4:$AS$33,2,FALSE)","v":1},"Faible",{"$f":"VLOOKUP(AE22,DEBUTSTEP!$AR$4:$AS$33,2,FALSE)","v":1},"Faible",{"$f":"VLOOKUP(AG22,DEBUTSTEP!$AR$4:$AS$33,2,FALSE)","v":1},"Faible",{"$f":"VLOOKUP(AI22,DEBUTSTEP!$AR$4:$AS$33,2,FALSE)","v":1},"Faible",{"$f":"VLOOKUP(AK22,DEBUTSTEP!$AR$4:$AS$33,2,FALSE)","v":1},"Faible",{"$f":"VLOOKUP(AM22,DEBUTSTEP!$AR$4:$AS$33,2,FALSE)","v":1},"Faible",{"$f":"VLOOKUP(AO22,DEBUTSTEP!$AR$4:$AS$33,2,FALSE)","v":1},"Faible",{"$f":"VLOOKUP(AQ22,DEBUTSTEP!$AR$4:$AS$33,2,FALSE)","v":1},"Faible",{"$f":"VLOOKUP(AS22,DEBUTSTEP!$AR$4:$AS$33,2,FALSE)","v":1},"Faible",{"$f":"VLOOKUP(AU22,DEBUTSTEP!$AR$4:$AS$33,2,FALSE)","v":1},"Faible",{"$f":"VLOOKUP(AW22,DEBUTSTEP!$AR$4:$AS$33,2,FALSE)","v":1},"Faible",{"$f":"VLOOKUP(AY22,DEBUTSTEP!$AR$4:$AS$33,2,FALSE)","v":1},"Faible",{"$f":"VLOOKUP(BA22,DEBUTSTEP!$AR$4:$AS$33,2,FALSE)","v":1},"Faible",{"$f":"VLOOKUP(BC22,DEBUTSTEP!$AR$4:$AS$33,2,FALSE)","v":1},"Faible",{"$f":"VLOOKUP(BE22,DEBUTSTEP!$AR$4:$AS$33,2,FALSE)","v":1},"Faible",{"$f":"VLOOKUP(BG22,DEBUTSTEP!$AR$4:$AS$33,2,FALSE)","v":1},"Faible",{"$f":"VLOOKUP(BI22,DEBUTSTEP!$AR$4:$AS$33,2,FALSE)","v":1},"Faible",{"$f":"VLOOKUP(BK22,DEBUTSTEP!$AR$4:$AS$33,2,FALSE)","v":1},"Faible",{"$f":"VLOOKUP(BM22,DEBUTSTEP!$AR$4:$AS$33,2,FALSE)","v":1},"Faible",{"$f":"VLOOKUP(BO22,DEBUTSTEP!$AR$4:$AS$33,2,FALSE)","v":1},"Faible",{"$f":"VLOOKUP(BQ22,DEBUTSTEP!$AR$4:$AS$33,2,FALSE)","v":1},"Faible",{"$f":"VLOOKUP(BS22,DEBUTSTEP!$AR$4:$AS$33,2,FALSE)","v":1}]
["SEANCE 7",null,"Faible",{"$f":"VLOOKUP(C23,DEBUTSTEP!$AR$4:$AS$33,2,FALSE)","v":1},"Faible",{"$f":"VLOOKUP(E23,DEBUTSTEP!$AR$4:$AS$33,2,FALSE)","v":1},"Faible",{"$f":"VLOOKUP(G23,DEBUTSTEP!$AR$4:$AS$33,2,FALSE)","v":1},"Faible",{"$f":"VLOOKUP(I23,DEBUTSTEP!$AR$4:$AS$33,2,FALSE)","v":1},"Faible",{"$f":"VLOOKUP(K23,DEBUTSTEP!$AR$4:$AS$33,2,FALSE)","v":1},"Faible",{"$f":"VLOOKUP(M23,DEBUTSTEP!$AR$4:$AS$33,2,FALSE)","v":1},"Faible",{"$f":"VLOOKUP(O23,DEBUTSTEP!$AR$4:$AS$33,2,FALSE)","v":1},"Faible",{"$f":"VLOOKUP(Q23,DEBUTSTEP!$AR$4:$AS$33,2,FALSE)","v":1},"Faible",{"$f":"VLOOKUP(S23,DEBUTSTEP!$AR$4:$AS$33,2,FALSE)","v":1},"Faible",{"$f":"VLOOKUP(U23,DEBUTSTEP!$AR$4:$AS$33,2,FALSE)","v":1},"Faible",{"$f":"VLOOKUP(W23,DEBUTSTEP!$AR$4:$AS$33,2,FALSE)","v":1},"Faible",{"$f":"VLOOKUP(Y23,DEBUTSTEP!$AR$4:$AS$33,2,FALSE)","v":1},"Faible",{"$f":"VLOOKUP(AA23,DEBUTSTEP!$AR$4:$AS$33,2,FALSE)","v":1},"Faible",{"$f":"VLOOKUP(AC23,DEBUTSTEP!$AR$4:$AS$33,2,FALSE)","v":1},"Faible",{"$f":"VLOOKUP(AE23,DEBUTSTEP!$AR$4:$AS$33,2,FALSE)","v":1},"Faible",{"$f":"VLOOKUP(AG23,DEBUTSTEP!$AR$4:$AS$33,2,FALSE)","v":1},"Faible",{"$f":"VLOOKUP(AI23,DEBUTSTEP!$AR$4:$AS$33,2,FALSE)","v":1},"Faible",{"$f":"VLOOKUP(AK23,DEBUTSTEP!$AR$4:$AS$33,2,FALSE)","v":1},"Faible",{"$f":"VLOOKUP(AM23,DEBUTSTEP!$AR$4:$AS$33,2,FALSE)","v":1},"Faible",{"$f":"VLOOKUP(AO23,DEBUTSTEP!$AR$4:$AS$33,2,FALSE)","v":1},"Faible",{"$f":"VLOOKUP(AQ23,DEBUTSTEP!$AR$4:$AS$33,2,FALSE)","v":1},"Faible",{"$f":"VLOOKUP(AS23,DEBUTSTEP!$AR$4:$AS$33,2,FALSE)","v":1},"Faible",{"$f":"VLOOKUP(AU23,DEBUTSTEP!$AR$4:$AS$33,2,FALSE)","v":1},"Faible",{"$f":"VLOOKUP(AW23,DEBUTSTEP!$AR$4:$AS$33,2,FALSE)","v":1},"Faible",{"$f":"VLOOKUP(AY23,DEBUTSTEP!$AR$4:$AS$33,2,FALSE)","v":1},"Faible",{"$f":"VLOOKUP(BA23,DEBUTSTEP!$AR$4:$AS$33,2,FALSE)","v":1},"Faible",{"$f":"VLOOKUP(BC23,DEBUTSTEP!$AR$4:$AS$33,2,FALSE)","v":1},"Faible",{"$f":"VLOOKUP(BE23,DEBUTSTEP!$AR$4:$AS$33,2,FALSE)","v":1},"Faible",{"$f":"VLOOKUP(BG23,DEBUTSTEP!$AR$4:$AS$33,2,FALSE)","v":1},"Faible",{"$f":"VLOOKUP(BI23,DEBUTSTEP!$AR$4:$AS$33,2,FALSE)","v":1},"Faible",{"$f":"VLOOKUP(BK23,DEBUTSTEP!$AR$4:$AS$33,2,FALSE)","v":1},"Faible",{"$f":"VLOOKUP(BM23,DEBUTSTEP!$AR$4:$AS$33,2,FALSE)","v":1},"Faible",{"$f":"VLOOKUP(BO23,DEBUTSTEP!$AR$4:$AS$33,2,FALSE)","v":1},"Faible",{"$f":"VLOOKUP(BQ23,DEBUTSTEP!$AR$4:$AS$33,2,FALSE)","v":1},"Faible",{"$f":"VLOOKUP(BS23,DEBUTSTEP!$AR$4:$AS$33,2,FALSE)","v":1}]
["SEANCE 8",null,"Faible",{"$f":"VLOOKUP(C24,DEBUTSTEP!$AR$4:$AS$33,2,FALSE)","v":1},"Faible",{"$f":"VLOOKUP(E24,DEBUTSTEP!$AR$4:$AS$33,2,FALSE)","v":1},"Faible",{"$f":"VLOOKUP(G24,DEBUTSTEP!$AR$4:$AS$33,2,FALSE)","v":1},"Faible",{"$f":"VLOOKUP(I24,DEBUTSTEP!$AR$4:$AS$33,2,FALSE)","v":1},"Faible",{"$f":"VLOOKUP(K24,DEBUTSTEP!$AR$4:$AS$33,2,FALSE)","v":1},"Faible",{"$f":"VLOOKUP(M24,DEBUTSTEP!$AR$4:$AS$33,2,FALSE)","v":1},"Faible",{"$f":"VLOOKUP(O24,DEBUTSTEP!$AR$4:$AS$33,2,FALSE)","v":1},"Faible",{"$f":"VLOOKUP(Q24,DEBUTSTEP!$AR$4:$AS$33,2,FALSE)","v":1},"Faible",{"$f":"VLOOKUP(S24,DEBUTSTEP!$AR$4:$AS$33,2,FALSE)","v":1},"Faible",{"$f":"VLOOKUP(U24,DEBUTSTEP!$AR$4:$AS$33,2,FALSE)","v":1},"Faible",{"$f":"VLOOKUP(W24,DEBUTSTEP!$AR$4:$AS$33,2,FALSE)","v":1},"Faible",{"$f":"VLOOKUP(Y24,DEBUTSTEP!$AR$4:$AS$33,2,FALSE)","v":1},"Faible",{"$f":"VLOOKUP(AA24,DEBUTSTEP!$AR$4:$AS$33,2,FALSE)","v":1},"Faible",{"$f":"VLOOKUP(AC24,DEBUTSTEP!$AR$4:$AS$33,2,FALSE)","v":1},"Faible",{"$f":"VLOOKUP(AE24,DEBUTSTEP!$AR$4:$AS$33,2,FALSE)","v":1},"Faible",{"$f":"VLOOKUP(AG24,DEBUTSTEP!$AR$4:$AS$33,2,FALSE)","v":1},"Faible",{"$f":"VLOOKUP(AI24,DEBUTSTEP!$AR$4:$AS$33,2,FALSE)","v":1},"Faible",{"$f":"VLOOKUP(AK24,DEBUTSTEP!$AR$4:$AS$33,2,FALSE)","v":1},"Faible",{"$f":"VLOOKUP(AM24,DEBUTSTEP!$AR$4:$AS$33,2,FALSE)","v":1},"Faible",{"$f":"VLOOKUP(AO24,DEBUTSTEP!$AR$4:$AS$33,2,FALSE)","v":1},"Faible",{"$f":"VLOOKUP(AQ24,DEBUTSTEP!$AR$4:$AS$33,2,FALSE)","v":1},"Faible",{"$f":"VLOOKUP(AS24,DEBUTSTEP!$AR$4:$AS$33,2,FALSE)","v":1},"Faible",{"$f":"VLOOKUP(AU24,DEBUTSTEP!$AR$4:$AS$33,2,FALSE)","v":1},"Faible",{"$f":"VLOOKUP(AW24,DEBUTSTEP!$AR$4:$AS$33,2,FALSE)","v":1},"Faible",{"$f":"VLOOKUP(AY24,DEBUTSTEP!$AR$4:$AS$33,2,FALSE)","v":1},"Faible",{"$f":"VLOOKUP(BA24,DEBUTSTEP!$AR$4:$AS$33,2,FALSE)","v":1},"Faible",{"$f":"VLOOKUP(BC24,DEBUTSTEP!$AR$4:$AS$33,2,FALSE)","v":1},"Faible",{"$f":"VLOOKUP(BE24,DEBUTSTEP!$AR$4:$AS$33,2,FALSE)","v":1},"Faible",{"$f":"VLOOKUP(BG24,DEBUTSTEP!$AR$4:$AS$33,2,FALSE)","v":1},"Faible",{"$f":"VLOOKUP(BI24,DEBUTSTEP!$AR$4:$AS$33,2,FALSE)","v":1},"Faible",{"$f":"VLOOKUP(BK24,DEBUTSTEP!$AR$4:$AS$33,2,FALSE)","v":1},"Faible",{"$f":"VLOOKUP(BM24,DEBUTSTEP!$AR$4:$AS$33,2,FALSE)","v":1},"Faible",{"$f":"VLOOKUP(BO24,DEBUTSTEP!$AR$4:$AS$33,2,FALSE)","v":1},"Faible",{"$f":"VLOOKUP(BQ24,DEBUTSTEP!$AR$4:$AS$33,2,FALSE)","v":1},"Faible",{"$f":"VLOOKUP(BS24,DEBUTSTEP!$AR$4:$AS$33,2,FALSE)","v":1}]
["SEANCE 9",null,"Faible",{"$f":"VLOOKUP(C25,DEBUTSTEP!$AR$4:$AS$33,2,FALSE)","v":1},"Faible",{"$f":"VLOOKUP(E25,DEBUTSTEP!$AR$4:$AS$33,2,FALSE)","v":1},"Faible",{"$f":"VLOOKUP(G25,DEBUTSTEP!$AR$4:$AS$33,2,FALSE)","v":1},"Faible",{"$f":"VLOOKUP(I25,DEBUTSTEP!$AR$4:$AS$33,2,FALSE)","v":1},"Faible",{"$f":"VLOOKUP(K25,DEBUTSTEP!$AR$4:$AS$33,2,FALSE)","v":1},"Faible",{"$f":"VLOOKUP(M25,DEBUTSTEP!$AR$4:$AS$33,2,FALSE)","v":1},"Faible",{"$f":"VLOOKUP(O25,DEBUTSTEP!$AR$4:$AS$33,2,FALSE)","v":1},"Faible",{"$f":"VLOOKUP(Q25,DEBUTSTEP!$AR$4:$AS$33,2,FALSE)","v":1},"Faible",{"$f":"VLOOKUP(S25,DEBUTSTEP!$AR$4:$AS$33,2,FALSE)","v":1},"Faible",{"$f":"VLOOKUP(U25,DEBUTSTEP!$AR$4:$AS$33,2,FALSE)","v":1},"Faible",{"$f":"VLOOKUP(W25,DEBUTSTEP!$AR$4:$AS$33,2,FALSE)","v":1},"Faible",{"$f":"VLOOKUP(Y25,DEBUTSTEP!$AR$4:$AS$33,2,FALSE)","v":1},"Faible",{"$f":"VLOOKUP(AA25,DEBUTSTEP!$AR$4:$AS$33,2,FALSE)","v":1},"Faible",{"$f":"VLOOKUP(AC25,DEBUTSTEP!$AR$4:$AS$33,2,FALSE)","v":1},"Faible",{"$f":"VLOOKUP(AE25,DEBUTSTEP!$AR$4:$AS$33,2,FALSE)","v":1},"Faible",{"$f":"VLOOKUP(AG25,DEBUTSTEP!$AR$4:$AS$33,2,FALSE)","v":1},"Faible",{"$f":"VLOOKUP(AI25,DEBUTSTEP!$AR$4:$AS$33,2,FALSE)","v":1},"Faible",{"$f":"VLOOKUP(AK25,DEBUTSTEP!$AR$4:$AS$33,2,FALSE)","v":1},"Faible",{"$f":"VLOOKUP(AM25,DEBUTSTEP!$AR$4:$AS$33,2,FALSE)","v":1},"Faible",{"$f":"VLOOKUP(AO25,DEBUTSTEP!$AR$4:$AS$33,2,FALSE)","v":1},"Faible",{"$f":"VLOOKUP(AQ25,DEBUTSTEP!$AR$4:$AS$33,2,FALSE)","v":1},"Faible",{"$f":"VLOOKUP(AS25,DEBUTSTEP!$AR$4:$AS$33,2,FALSE)","v":1},"Faible",{"$f":"VLOOKUP(AU25,DEBUTSTEP!$AR$4:$AS$33,2,FALSE)","v":1},"Faible",{"$f":"VLOOKUP(AW25,DEBUTSTEP!$AR$4:$AS$33,2,FALSE)","v":1},"Faible",{"$f":"VLOOKUP(AY25,DEBUTSTEP!$AR$4:$AS$33,2,FALSE)","v":1},"Faible",{"$f":"VLOOKUP(BA25,DEBUTSTEP!$AR$4:$AS$33,2,FALSE)","v":1},"Faible",{"$f":"VLOOKUP(BC25,DEBUTSTEP!$AR$4:$AS$33,2,FALSE)","v":1},"Faible",{"$f":"VLOOKUP(BE25,DEBUTSTEP!$AR$4:$AS$33,2,FALSE)","v":1},"Faible",{"$f":"VLOOKUP(BG25,DEBUTSTEP!$AR$4:$AS$33,2,FALSE)","v":1},"Faible",{"$f":"VLOOKUP(BI25,DEBUTSTEP!$AR$4:$AS$33,2,FALSE)","v":1},"Faible",{"$f":"VLOOKUP(BK25,DEBUTSTEP!$AR$4:$AS$33,2,FALSE)","v":1},"Faible",{"$f":"VLOOKUP(BM25,DEBUTSTEP!$AR$4:$AS$33,2,FALSE)","v":1},"Faible",{"$f":"VLOOKUP(BO25,DEBUTSTEP!$AR$4:$AS$33,2,FALSE)","v":1},"Faible",{"$f":"VLOOKUP(BQ25,DEBUTSTEP!$AR$4:$AS$33,2,FALSE)","v":1},"Faible",{"$f":"VLOOKUP(BS25,DEBUTSTEP!$AR$4:$AS$33,2,FALSE)","v":1}]
["SEANCE 10",null,"Faible",{"$f":"VLOOKUP(C26,DEBUTSTEP!$AR$4:$AS$33,2,FALSE)","v":1},"Faible",{"$f":"VLOOKUP(E26,DEBUTSTEP!$AR$4:$AS$33,2,FALSE)","v":1},"Faible",{"$f":"VLOOKUP(G26,DEBUTSTEP!$AR$4:$AS$33,2,FALSE)","v":1},"Faible",{"$f":"VLOOKUP(I26,DEBUTSTEP!$AR$4:$AS$33,2,FALSE)","v":1},"Faible",{"$f":"VLOOKUP(K26,DEBUTSTEP!$AR$4:$AS$33,2,FALSE)","v":1},"Faible",{"$f":"VLOOKUP(M26,DEBUTSTEP!$AR$4:$AS$33,2,FALSE)","v":1},"Faible",{"$f":"VLOOKUP(O26,DEBUTSTEP!$AR$4:$AS$33,2,FALSE)","v":1},"Faible",{"$f":"VLOOKUP(Q26,DEBUTSTEP!$AR$4:$AS$33,2,FALSE)","v":1},"Faible",{"$f":"VLOOKUP(S26,DEBUTSTEP!$AR$4:$AS$33,2,FALSE)","v":1},"Faible",{"$f":"VLOOKUP(U26,DEBUTSTEP!$AR$4:$AS$33,2,FALSE)","v":1},"Faible",{"$f":"VLOOKUP(W26,DEBUTSTEP!$AR$4:$AS$33,2,FALSE)","v":1},"Faible",{"$f":"VLOOKUP(Y26,DEBUTSTEP!$AR$4:$AS$33,2,FALSE)","v":1},"Faible",{"$f":"VLOOKUP(AA26,DEBUTSTEP!$AR$4:$AS$33,2,FALSE)","v":1},"Faible",{"$f":"VLOOKUP(AC26,DEBUTSTEP!$AR$4:$AS$33,2,FALSE)","v":1},"Faible",{"$f":"VLOOKUP(AE26,DEBUTSTEP!$AR$4:$AS$33,2,FALSE)","v":1},"Faible",{"$f":"VLOOKUP(AG26,DEBUTSTEP!$AR$4:$AS$33,2,FALSE)","v":1},"Faible",{"$f":"VLOOKUP(AI26,DEBUTSTEP!$AR$4:$AS$33,2,FALSE)","v":1},"Faible",{"$f":"VLOOKUP(AK26,DEBUTSTEP!$AR$4:$AS$33,2,FALSE)","v":1},"Faible",{"$f":"VLOOKUP(AM26,DEBUTSTEP!$AR$4:$AS$33,2,FALSE)","v":1},"Faible",{"$f":"VLOOKUP(AO26,DEBUTSTEP!$AR$4:$AS$33,2,FALSE)","v":1},"Faible",{"$f":"VLOOKUP(AQ26,DEBUTSTEP!$AR$4:$AS$33,2,FALSE)","v":1},"Faible",{"$f":"VLOOKUP(AS26,DEBUTSTEP!$AR$4:$AS$33,2,FALSE)","v":1},"Faible",{"$f":"VLOOKUP(AU26,DEBUTSTEP!$AR$4:$AS$33,2,FALSE)","v":1},"Faible",{"$f":"VLOOKUP(AW26,DEBUTSTEP!$AR$4:$AS$33,2,FALSE)","v":1},"Faible",{"$f":"VLOOKUP(AY26,DEBUTSTEP!$AR$4:$AS$33,2,FALSE)","v":1},"Faible",{"$f":"VLOOKUP(BA26,DEBUTSTEP!$AR$4:$AS$33,2,FALSE)","v":1},"Faible",{"$f":"VLOOKUP(BC26,DEBUTSTEP!$AR$4:$AS$33,2,FALSE)","v":1},"Faible",{"$f":"VLOOKUP(BE26,DEBUTSTEP!$AR$4:$AS$33,2,FALSE)","v":1},"Faible",{"$f":"VLOOKUP(BG26,DEBUTSTEP!$AR$4:$AS$33,2,FALSE)","v":1},"Faible",{"$f":"VLOOKUP(BI26,DEBUTSTEP!$AR$4:$AS$33,2,FALSE)","v":1},"Faible",{"$f":"VLOOKUP(BK26,DEBUTSTEP!$AR$4:$AS$33,2,FALSE)","v":1},"Faible",{"$f":"VLOOKUP(BM26,DEBUTSTEP!$AR$4:$AS$33,2,FALSE)","v":1},"Faible",{"$f":"VLOOKUP(BO26,DEBUTSTEP!$AR$4:$AS$33,2,FALSE)","v":1},"Faible",{"$f":"VLOOKUP(BQ26,DEBUTSTEP!$AR$4:$AS$33,2,FALSE)","v":1},"Faible",{"$f":"VLOOKUP(BS26,DEBUTSTEP!$AR$4:$AS$33,2,FALSE)","v":1}]
[]
[{"$f":"DEBUTSTEP!$AT$4","v":"Agir en sécu"}]
["SEANCE 1",null,"Danger",{"$f":"VLOOKUP(C29,DEBUTSTEP!$AT$4:$AU$33,2,FALSE)","v":0},"Danger",{"$f":"VLOOKUP(E29,DEBUTSTEP!$AT$4:$AU$33,2,FALSE)","v":0},"Danger",{"$f":"VLOOKUP(G29,DEBUTSTEP!$AT$4:$AU$33,2,FALSE)","v":0},"Danger",{"$f":"VLOOKUP(I29,DEBUTSTEP!$AT$4:$AU$33,2,FALSE)","v":0},"Danger",{"$f":"VLOOKUP(K29,DEBUTSTEP!$AT$4:$AU$33,2,FALSE)","v":0},"Danger",{"$f":"VLOOKUP(M29,DEBUTSTEP!$AT$4:$AU$33,2,FALSE)","v":0},"Danger",{"$f":"VLOOKUP(O29,DEBUTSTEP!$AT$4:$AU$33,2,FALSE)","v":0},"Danger",{"$f":"VLOOKUP(Q29,DEBUTSTEP!$AT$4:$AU$33,2,FALSE)","v":0},"Danger",{"$f":"VLOOKUP(S29,DEBUTSTEP!$AT$4:$AU$33,2,FALSE)","v":0},"Danger",{"$f":"VLOOKUP(U29,DEBUTSTEP!$AT$4:$AU$33,2,FALSE)","v":0},"Danger",{"$f":"VLOOKUP(W29,DEBUTSTEP!$AT$4:$AU$33,2,FALSE)","v":0},"Danger",{"$f":"VLOOKUP(Y29,DEBUTSTEP!$AT$4:$AU$33,2,FALSE)","v":0},"Danger",{"$f":"VLOOKUP(AA29,DEBUTSTEP!$AT$4:$AU$33,2,FALSE)","v":0},"Danger",{"$f":"VLOOKUP(AC29,DEBUTSTEP!$AT$4:$AU$33,2,FALSE)","v":0},"Danger",{"$f":"VLOOKUP(AE29,DEBUTSTEP!$AT$4:$AU$33,2,FALSE)","v":0},"Danger",{"$f":"VLOOKUP(AG29,DEBUTSTEP!$AT$4:$AU$33,2,FALSE)","v":0},"Danger",{"$f":"VLOOKUP(AI29,DEBUTSTEP!$AT$4:$AU$33,2,FALSE)","v":0},"Danger",{"$f":"VLOOKUP(AK29,DEBUTSTEP!$AT$4:$AU$33,2,FALSE)","v":0},"Danger",{"$f":"VLOOKUP(AM29,DEBUTSTEP!$AT$4:$AU$33,2,FALSE)","v":0},"Danger",{"$f":"VLOOKUP(AO29,DEBUTSTEP!$AT$4:$AU$33,2,FALSE)","v":0},"Danger",{"$f":"VLOOKUP(AQ29,DEBUTSTEP!$AT$4:$AU$33,2,FALSE)","v":0},"Danger",{"$f":"VLOOKUP(AS29,DEBUTSTEP!$AT$4:$AU$33,2,FALSE)","v":0},"Danger",{"$f":"VLOOKUP(AU29,DEBUTSTEP!$AT$4:$AU$33,2,FALSE)","v":0},"Danger",{"$f":"VLOOKUP(AW29,DEBUTSTEP!$AT$4:$AU$33,2,FALSE)","v":0},"Danger",{"$f":"VLOOKUP(AY29,DEBUTSTEP!$AT$4:$AU$33,2,FALSE)","v":0},"Danger",{"$f":"VLOOKUP(BA29,DEBUTSTEP!$AT$4:$AU$33,2,FALSE)","v":0},"Danger",{"$f":"VLOOKUP(BC29,DEBUTSTEP!$AT$4:$AU$33,2,FALSE)","v":0},"Danger",{"$f":"VLOOKUP(BE29,DEBUTSTEP!$AT$4:$AU$33,2,FALSE)","v":0},"Danger",{"$f":"VLOOKUP(BG29,DEBUTSTEP!$AT$4:$AU$33,2,FALSE)","v":0},"Danger",{"$f":"VLOOKUP(BI29,DEBUTSTEP!$AT$4:$AU$33,2,FALSE)","v":0},"Danger",{"$f":"VLOOKUP(BK29,DEBUTSTEP!$AT$4:$AU$33,2,FALSE)","v":0},"Danger",{"$f":"VLOOKUP(BM29,DEBUTSTEP!$AT$4:$AU$33,2,FALSE)","v":0},"Danger",{"$f":"VLOOKUP(BO29,DEBUTSTEP!$AT$4:$AU$33,2,FALSE)","v":0},"Danger",{"$f":"VLOOKUP(BQ29,DEBUTSTEP!$AT$4:$AU$33,2,FALSE)","v":0},"Danger",{"$f":"VLOOKUP(BS29,DEBUTSTEP!$AT$4:$AU$33,2,FALSE)","v":0}]
["SEANCE 2",null,"Danger",{"$f":"VLOOKUP(C30,DEBUTSTEP!$AT$4:$AU$33,2,FALSE)","v":0},"Danger",{"$f":"VLOOKUP(E30,DEBUTSTEP!$AT$4:$AU$33,2,FALSE)","v":0},"Danger",{"$f":"VLOOKUP(G30,DEBUTSTEP!$AT$4:$AU$33,2,FALSE)","v":0},"Danger",{"$f":"VLOOKUP(I30,DEBUTSTEP!$AT$4:$AU$33,2,FALSE)","v":0},"Danger",{"$f":"VLOOKUP(K30,DEBUTSTEP!$AT$4:$AU$33,2,FALSE)","v":0},"Danger",{"$f":"VLOOKUP(M30,DEBUTSTEP!$AT$4:$AU$33,2,FALSE)","v":0},"Danger",{"$f":"VLOOKUP(O30,DEBUTSTEP!$AT$4:$AU$33,2,FALSE)","v":0},"Danger",{"$f":"VLOOKUP(Q30,DEBUTSTEP!$AT$4:$AU$33,2,FALSE)","v":0},"Danger",{"$f":"VLOOKUP(S30,DEBUTSTEP!$AT$4:$AU$33,2,FALSE)","v":0},"Danger",{"$f":"VLOOKUP(U30,DEBUTSTEP!$AT$4:$AU$33,2,FALSE)","v":0},"Danger",{"$f":"VLOOKUP(W30,DEBUTSTEP!$AT$4:$AU$33,2,FALSE)","v":0},"Danger",{"$f":"VLOOKUP(Y30,DEBUTSTEP!$AT$4:$AU$33,2,FALSE)","v":0},"Danger",{"$f":"VLOOKUP(AA30,DEBUTSTEP!$AT$4:$AU$33,2,FALSE)","v":0},"Danger",{"$f":"VLOOKUP(AC30,DEBUTSTEP!$AT$4:$AU$33,2,FALSE)","v":0},"Danger",{"$f":"VLOOKUP(AE30,DEBUTSTEP!$AT$4:$AU$33,2,FALSE)","v":0},"Danger",{"$f":"VLOOKUP(AG30,DEBUTSTEP!$AT$4:$AU$33,2,FALSE)","v":0},"Danger",{"$f":"VLOOKUP(AI30,DEBUTSTEP!$AT$4:$AU$33,2,FALSE)","v":0},"Danger",{"$f":"VLOOKUP(AK30,DEBUTSTEP!$AT$4:$AU$33,2,FALSE)","v":0},"Danger",{"$f":"VLOOKUP(AM30,DEBUTSTEP!$AT$4:$AU$33,2,FALSE)","v":0},"Danger",{"$f":"VLOOKUP(AO30,DEBUTSTEP!$AT$4:$AU$33,2,FALSE)","v":0},"Danger",{"$f":"VLOOKUP(AQ30,DEBUTSTEP!$AT$4:$AU$33,2,FALSE)","v":0},"Danger",{"$f":"VLOOKUP(AS30,DEBUTSTEP!$AT$4:$AU$33,2,FALSE)","v":0},"Danger",{"$f":"VLOOKUP(AU30,DEBUTSTEP!$AT$4:$AU$33,2,FALSE)","v":0},"Danger",{"$f":"VLOOKUP(AW30,DEBUTSTEP!$AT$4:$AU$33,2,FALSE)","v":0},"Danger",{"$f":"VLOOKUP(AY30,DEBUTSTEP!$AT$4:$AU$33,2,FALSE)","v":0},"Danger",{"$f":"VLOOKUP(BA30,DEBUTSTEP!$AT$4:$AU$33,2,FALSE)","v":0},"Danger",{"$f":"VLOOKUP(BC30,DEBUTSTEP!$AT$4:$AU$33,2,FALSE)","v":0},"Danger",{"$f":"VLOOKUP(BE30,DEBUTSTEP!$AT$4:$AU$33,2,FALSE)","v":0},"Danger",{"$f":"VLOOKUP(BG30,DEBUTSTEP!$AT$4:$AU$33,2,FALSE)","v":0},"Danger",{"$f":"VLOOKUP(BI30,DEBUTSTEP!$AT$4:$AU$33,2,FALSE)","v":0},"Danger",{"$f":"VLOOKUP(BK30,DEBUTSTEP!$AT$4:$AU$33,2,FALSE)","v":0},"Danger",{"$f":"VLOOKUP(BM30,DEBUTSTEP!$AT$4:$AU$33,2,FALSE)","v":0},"Danger",{"$f":"VLOOKUP(BO30,DEBUTSTEP!$AT$4:$AU$33,2,FALSE)","v":0},"Danger",{"$f":"VLOOKUP(BQ30,DEBUTSTEP!$AT$4:$AU$33,2,FALSE)","v":0},"Danger",{"$f":"VLOOKUP(BS30,DEBUTSTEP!$AT$4:$AU$33,2,FALSE)","v":0}]
["SEANCE 3",null,"Danger",{"$f":"VLOOKUP(C31,DEBUTSTEP!$AT$4:$AU$33,2,FALSE)","v":0},"Danger",{"$f":"VLOOKUP(E31,DEBUTSTEP!$AT$4:$AU$33,2,FALSE)","v":0},"Danger",{"$f":"VLOOKUP(G31,DEBUTSTEP!$AT$4:$AU$33,2,FALSE)","v":0},"Danger",{"$f":"VLOOKUP(I31,DEBUTSTEP!$AT$4:$AU$33,2,FALSE)","v":0},"Danger",{"$f":"VLOOKUP(K31,DEBUTSTEP!$AT$4:$AU$33,2,FALSE)","v":0},"Danger",{"$f":"VLOOKUP(M31,DEBUTSTEP!$AT$4:$AU$33,2,FALSE)","v":0},"Danger",{"$f":"VLOOKUP(O31,DEBUTSTEP!$AT$4:$AU$33,2,FALSE)","v":0},"Danger",{"$f":"VLOOKUP(Q31,DEBUTSTEP!$AT$4:$AU$33,2,FALSE)","v":0},"Danger",{"$f":"VLOOKUP(S31,DEBUTSTEP!$AT$4:$AU$33,2,FALSE)","v":0},"Danger",{"$f":"VLOOKUP(U31,DEBUTSTEP!$AT$4:$AU$33,2,FALSE)","v":0},"Danger",{"$f":"VLOOKUP(W31,DEBUTSTEP!$AT$4:$AU$33,2,FALSE)","v":0},"Danger",{"$f":"VLOOKUP(Y31,DEBUTSTEP!$AT$4:$AU$33,2,FALSE)","v":0},"Danger",{"$f":"VLOOKUP(AA31,DEBUTSTEP!$AT$4:$AU$33,2,FALSE)","v":0},"Danger",{"$f":"VLOOKUP(AC31,DEBUTSTEP!$AT$4:$AU$33,2,FALSE)","v":0},"Danger",{"$f":"VLOOKUP(AE31,DEBUTSTEP!$AT$4:$AU$33,2,FALSE)","v":0},"Danger",{"$f":"VLOOKUP(AG31,DEBUTSTEP!$AT$4:$AU$33,2,FALSE)","v":0},"Danger",{"$f":"VLOOKUP(AI31,DEBUTSTEP!$AT$4:$AU$33,2,FALSE)","v":0},"Danger",{"$f":"VLOOKUP(AK31,DEBUTSTEP!$AT$4:$AU$33,2,FALSE)","v":0},"Danger",{"$f":"VLOOKUP(AM31,DEBUTSTEP!$AT$4:$AU$33,2,FALSE)","v":0},"Danger",{"$f":"VLOOKUP(AO31,DEBUTSTEP!$AT$4:$AU$33,2,FALSE)","v":0},"Danger",{"$f":"VLOOKUP(AQ31,DEBUTSTEP!$AT$4:$AU$33,2,FALSE)","v":0},"Danger",{"$f":"VLOOKUP(AS31,DEBUTSTEP!$AT$4:$AU$33,2,FALSE)","v":0},"Danger",{"$f":"VLOOKUP(AU31,DEBUTSTEP!$AT$4:$AU$33,2,FALSE)","v":0},"Danger",{"$f":"VLOOKUP(AW31,DEBUTSTEP!$AT$4:$AU$33,2,FALSE)","v":0},"Danger",{"$f":"VLOOKUP(AY31,DEBUTSTEP!$AT$4:$AU$33,2,FALSE)","v":0},"Danger",{"$f":"VLOOKUP(BA31,DEBUTSTEP!$AT$4:$AU$33,2,FALSE)","v":0},"Danger",{"$f":"VLOOKUP(BC31,DEBUTSTEP!$AT$4:$AU$33,2,FALSE)","v":0},"Danger",{"$f":"VLOOKUP(BE31,DEBUTSTEP!$AT$4:$AU$33,2,FALSE)","v":0},"Danger",{"$f":"VLOOKUP(BG31,DEBUTSTEP!$AT$4:$AU$33,2,FALSE)","v":0},"Danger",{"$f":"VLOOKUP(BI31,DEBUTSTEP!$AT$4:$AU$33,2,FALSE)","v":0},"Danger",{"$f":"VLOOKUP(BK31,DEBUTSTEP!$AT$4:$AU$33,2,FALSE)","v":0},"Danger",{"$f":"VLOOKUP(BM31,DEBUTSTEP!$AT$4:$AU$33,2,FALSE)","v":0},"Danger",{"$f":"VLOOKUP(BO31,DEBUTSTEP!$AT$4:$AU$33,2,FALSE)","v":0},"Danger",{"$f":"VLOOKUP(BQ31,DEBUTSTEP!$AT$4:$AU$33,2,FALSE)","v":0},"Danger",{"$f":"VLOOKUP(BS31,DEBUTSTEP!$AT$4:$AU$33,2,FALSE)","v":0}]
["SEANCE 4",null,"Danger",{"$f":"VLOOKUP(C32,DEBUTSTEP!$AT$4:$AU$33,2,FALSE)","v":0},"Danger",{"$f":"VLOOKUP(E32,DEBUTSTEP!$AT$4:$AU$33,2,FALSE)","v":0},"Danger",{"$f":"VLOOKUP(G32,DEBUTSTEP!$AT$4:$AU$33,2,FALSE)","v":0},"Danger",{"$f":"VLOOKUP(I32,DEBUTSTEP!$AT$4:$AU$33,2,FALSE)","v":0},"Danger",{"$f":"VLOOKUP(K32,DEBUTSTEP!$AT$4:$AU$33,2,FALSE)","v":0},"Danger",{"$f":"VLOOKUP(M32,DEBUTSTEP!$AT$4:$AU$33,2,FALSE)","v":0},"Danger",{"$f":"VLOOKUP(O32,DEBUTSTEP!$AT$4:$AU$33,2,FALSE)","v":0},"Danger",{"$f":"VLOOKUP(Q32,DEBUTSTEP!$AT$4:$AU$33,2,FALSE)","v":0},"Danger",{"$f":"VLOOKUP(S32,DEBUTSTEP!$AT$4:$AU$33,2,FALSE)","v":0},"Danger",{"$f":"VLOOKUP(U32,DEBUTSTEP!$AT$4:$AU$33,2,FALSE)","v":0},"Danger",{"$f":"VLOOKUP(W32,DEBUTSTEP!$AT$4:$AU$33,2,FALSE)","v":0},"Danger",{"$f":"VLOOKUP(Y32,DEBUTSTEP!$AT$4:$AU$33,2,FALSE)","v":0},"Danger",{"$f":"VLOOKUP(AA32,DEBUTSTEP!$AT$4:$AU$33,2,FALSE)","v":0},"Danger",{"$f":"VLOOKUP(AC32,DEBUTSTEP!$AT$4:$AU$33,2,FALSE)","v":0},"Danger",{"$f":"VLOOKUP(AE32,DEBUTSTEP!$AT$4:$AU$33,2,FALSE)","v":0},"Danger",{"$f":"VLOOKUP(AG32,DEBUTSTEP!$AT$4:$AU$33,2,FALSE)","v":0},"Danger",{"$f":"VLOOKUP(AI32,DEBUTSTEP!$AT$4:$AU$33,2,FALSE)","v":0},"Danger",{"$f":"VLOOKUP(AK32,DEBUTSTEP!$AT$4:$AU$33,2,FALSE)","v":0},"Danger",{"$f":"VLOOKUP(AM32,DEBUTSTEP!$AT$4:$AU$33,2,FALSE)","v":0},"Danger",{"$f":"VLOOKUP(AO32,DEBUTSTEP!$AT$4:$AU$33,2,FALSE)","v":0},"Danger",{"$f":"VLOOKUP(AQ32,DEBUTSTEP!$AT$4:$AU$33,2,FALSE)","v":0},"Danger",{"$f":"VLOOKUP(AS32,DEBUTSTEP!$AT$4:$AU$33,2,FALSE)","v":0},"Danger",{"$f":"VLOOKUP(AU32,DEBUTSTEP!$AT$4:$AU$33,2,FALSE)","v":0},"Danger",{"$f":"VLOOKUP(AW32,DEBUTSTEP!$AT$4:$AU$33,2,FALSE)","v":0},"Danger",{"$f":"VLOOKUP(AY32,DEBUTSTEP!$AT$4:$AU$33,2,FALSE)","v":0},"Danger",{"$f":"VLOOKUP(BA32,DEBUTSTEP!$AT$4:$AU$33,2,FALSE)","v":0},"Danger",{"$f":"VLOOKUP(BC32,DEBUTSTEP!$AT$4:$AU$33,2,FALSE)","v":0},"Danger",{"$f":"VLOOKUP(BE32,DEBUTSTEP!$AT$4:$AU$33,2,FALSE)","v":0},"Danger",{"$f":"VLOOKUP(BG32,DEBUTSTEP!$AT$4:$AU$33,2,FALSE)","v":0},"Danger",{"$f":"VLOOKUP(BI32,DEBUTSTEP!$AT$4:$AU$33,2,FALSE)","v":0},"Danger",{"$f":"VLOOKUP(BK32,DEBUTSTEP!$AT$4:$AU$33,2,FALSE)","v":0},"Danger",{"$f":"VLOOKUP(BM32,DEBUTSTEP!$AT$4:$AU$33,2,FALSE)","v":0},"Danger",{"$f":"VLOOKUP(BO32,DEBUTSTEP!$AT$4:$AU$33,2,FALSE)","v":0},"Danger",{"$f":"VLOOKUP(BQ32,DEBUTSTEP!$AT$4:$AU$33,2,FALSE)","v":0},"Danger",{"$f":"VLOOKUP(BS32,DEBUTSTEP!$AT$4:$AU$33,2,FALSE)","v":0}]
["SEANCE 5",null,"Danger",{"$f":"VLOOKUP(C33,DEBUTSTEP!$AT$4:$AU$33,2,FALSE)","v":0},"Danger",{"$f":"VLOOKUP(E33,DEBUTSTEP!$AT$4:$AU$33,2,FALSE)","v":0},"Danger",{"$f":"VLOOKUP(G33,DEBUTSTEP!$AT$4:$AU$33,2,FALSE)","v":0},"Danger",{"$f":"VLOOKUP(I33,DEBUTSTEP!$AT$4:$AU$33,2,FALSE)","v":0},"Danger",{"$f":"VLOOKUP(K33,DEBUTSTEP!$AT$4:$AU$33,2,FALSE)","v":0},"Danger",{"$f":"VLOOKUP(M33,DEBUTSTEP!$AT$4:$AU$33,2,FALSE)","v":0},"Danger",{"$f":"VLOOKUP(O33,DEBUTSTEP!$AT$4:$AU$33,2,FALSE)","v":0},"Danger",{"$f":"VLOOKUP(Q33,DEBUTSTEP!$AT$4:$AU$33,2,FALSE)","v":0},"Danger",{"$f":"VLOOKUP(S33,DEBUTSTEP!$AT$4:$AU$33,2,FALSE)","v":0},"Danger",{"$f":"VLOOKUP(U33,DEBUTSTEP!$AT$4:$AU$33,2,FALSE)","v":0},"Danger",{"$f":"VLOOKUP(W33,DEBUTSTEP!$AT$4:$AU$33,2,FALSE)","v":0},"Danger",{"$f":"VLOOKUP(Y33,DEBUTSTEP!$AT$4:$AU$33,2,FALSE)","v":0},"Danger",{"$f":"VLOOKUP(AA33,DEBUTSTEP!$AT$4:$AU$33,2,FALSE)","v":0},"Danger",{"$f":"VLOOKUP(AC33,DEBUTSTEP!$AT$4:$AU$33,2,FALSE)","v":0},"Danger",{"$f":"VLOOKUP(AE33,DEBUTSTEP!$AT$4:$AU$33,2,FALSE)","v":0},"Danger",{"$f":"VLOOKUP(AG33,DEBUTSTEP!$AT$4:$AU$33,2,FALSE)","v":0},"Danger",{"$f":"VLOOKUP(AI33,DEBUTSTEP!$AT$4:$AU$33,2,FALSE)","v":0},"Danger",{"$f":"VLOOKUP(AK33,DEBUTSTEP!$AT$4:$AU$33,2,FALSE)","v":0},"Danger",{"$f":"VLOOKUP(AM33,DEBUTSTEP!$AT$4:$AU$33,2,FALSE)","v":0},"Danger",{"$f":"VLOOKUP(AO33,DEBUTSTEP!$AT$4:$AU$33,2,FALSE)","v":0},"Danger",{"$f":"VLOOKUP(AQ33,DEBUTSTEP!$AT$4:$AU$33,2,FALSE)","v":0},"Danger",{"$f":"VLOOKUP(AS33,DEBUTSTEP!$AT$4:$AU$33,2,FALSE)","v":0},"Danger",{"$f":"VLOOKUP(AU33,DEBUTSTEP!$AT$4:$AU$33,2,FALSE)","v":0},"Danger",{"$f":"VLOOKUP(AW33,DEBUTSTEP!$AT$4:$AU$33,2,FALSE)","v":0},"Danger",{"$f":"VLOOKUP(AY33,DEBUTSTEP!$AT$4:$AU$33,2,FALSE)","v":0},"Danger",{"$f":"VLOOKUP(BA33,DEBUTSTEP!$AT$4:$AU$33,2,FALSE)","v":0},"Danger",{"$f":"VLOOKUP(BC33,DEBUTSTEP!$AT$4:$AU$33,2,FALSE)","v":0},"Danger",{"$f":"VLOOKUP(BE33,DEBUTSTEP!$AT$4:$AU$33,2,FALSE)","v":0},"Danger",{"$f":"VLOOKUP(BG33,DEBUTSTEP!$AT$4:$AU$33,2,FALSE)","v":0},"Danger",{"$f":"VLOOKUP(BI33,DEBUTSTEP!$AT$4:$AU$33,2,FALSE)","v":0},"Danger",{"$f":"VLOOKUP(BK33,DEBUTSTEP!$AT$4:$AU$33,2,FALSE)","v":0},"Danger",{"$f":"VLOOKUP(BM33,DEBUTSTEP!$AT$4:$AU$33,2,FALSE)","v":0},"Danger",{"$f":"VLOOKUP(BO33,DEBUTSTEP!$AT$4:$AU$33,2,FALSE)","v":0},"Danger",{"$f":"VLOOKUP(BQ33,DEBUTSTEP!$AT$4:$AU$33,2,FALSE)","v":0},"Danger",{"$f":"VLOOKUP(BS33,DEBUTSTEP!$AT$4:$AU$33,2,FALSE)","v":0}]
["SEANCE 6",null,"Danger",{"$f":"VLOOKUP(C34,DEBUTSTEP!$AT$4:$AU$33,2,FALSE)","v":0},"Danger",{"$f":"VLOOKUP(E34,DEBUTSTEP!$AT$4:$AU$33,2,FALSE)","v":0},"Danger",{"$f":"VLOOKUP(G34,DEBUTSTEP!$AT$4:$AU$33,2,FALSE)","v":0},"Danger",{"$f":"VLOOKUP(I34,DEBUTSTEP!$AT$4:$AU$33,2,FALSE)","v":0},"Danger",{"$f":"VLOOKUP(K34,DEBUTSTEP!$AT$4:$AU$33,2,FALSE)","v":0},"Danger",{"$f":"VLOOKUP(M34,DEBUTSTEP!$AT$4:$AU$33,2,FALSE)","v":0},"Danger",{"$f":"VLOOKUP(O34,DEBUTSTEP!$AT$4:$AU$33,2,FALSE)","v":0},"Danger",{"$f":"VLOOKUP(Q34,DEBUTSTEP!$AT$4:$AU$33,2,FALSE)","v":0},"Danger",{"$f":"VLOOKUP(S34,DEBUTSTEP!$AT$4:$AU$33,2,FALSE)","v":0},"Danger",{"$f":"VLOOKUP(U34,DEBUTSTEP!$AT$4:$AU$33,2,FALSE)","v":0},"Danger",{"$f":"VLOOKUP(W34,DEBUTSTEP!$AT$4:$AU$33,2,FALSE)","v":0},"Danger",{"$f":"VLOOKUP(Y34,DEBUTSTEP!$AT$4:$AU$33,2,FALSE)","v":0},"Danger",{"$f":"VLOOKUP(AA34,DEBUTSTEP!$AT$4:$AU$33,2,FALSE)","v":0},"Danger",{"$f":"VLOOKUP(AC34,DEBUTSTEP!$AT$4:$AU$33,2,FALSE)","v":0},"Danger",{"$f":"VLOOKUP(AE34,DEBUTSTEP!$AT$4:$AU$33,2,FALSE)","v":0},"Danger",{"$f":"VLOOKUP(AG34,DEBUTSTEP!$AT$4:$AU$33,2,FALSE)","v":0},"Danger",{"$f":"VLOOKUP(AI34,DEBUTSTEP!$AT$4:$AU$33,2,FALSE)","v":0},"Danger",{"$f":"VLOOKUP(AK34,DEBUTSTEP!$AT$4:$AU$33,2,FALSE)","v":0},"Danger",{"$f":"VLOOKUP(AM34,DEBUTSTEP!$AT$4:$AU$33,2,FALSE)","v":0},"Danger",{"$f":"VLOOKUP(AO34,DEBUTSTEP!$AT$4:$AU$33,2,FALSE)","v":0},"Danger",{"$f":"VLOOKUP(AQ34,DEBUTSTEP!$AT$4:$AU$33,2,FALSE)","v":0},"Danger",{"$f":"VLOOKUP(AS34,DEBUTSTEP!$AT$4:$AU$33,2,FALSE)","v":0},"Danger",{"$f":"VLOOKUP(AU34,DEBUTSTEP!$AT$4:$AU$33,2,FALSE)","v":0},"Danger",{"$f":"VLOOKUP(AW34,DEBUTSTEP!$AT$4:$AU$33,2,FALSE)","v":0},"Danger",{"$f":"VLOOKUP(AY34,DEBUTSTEP!$AT$4:$AU$33,2,FALSE)","v":0},"Danger",{"$f":"VLOOKUP(BA34,DEBUTSTEP!$AT$4:$AU$33,2,FALSE)","v":0},"Danger",{"$f":"VLOOKUP(BC34,DEBUTSTEP!$AT$4:$AU$33,2,FALSE)","v":0},"Danger",{"$f":"VLOOKUP(BE34,DEBUTSTEP!$AT$4:$AU$33,2,FALSE)","v":0},"Danger",{"$f":"VLOOKUP(BG34,DEBUTSTEP!$AT$4:$AU$33,2,FALSE)","v":0},"Danger",{"$f":"VLOOKUP(BI34,DEBUTSTEP!$AT$4:$AU$33,2,FALSE)","v":0},"Danger",{"$f":"VLOOKUP(BK34,DEBUTSTEP!$AT$4:$AU$33,2,FALSE)","v":0},"Danger",{"$f":"VLOOKUP(BM34,DEBUTSTEP!$AT$4:$AU$33,2,FALSE)","v":0},"Danger",{"$f":"VLOOKUP(BO34,DEBUTSTEP!$AT$4:$AU$33,2,FALSE)","v":0},"Danger",{"$f":"VLOOKUP(BQ34,DEBUTSTEP!$AT$4:$AU$33,2,FALSE)","v":0},"Danger",{"$f":"VLOOKUP(BS34,DEBUTSTEP!$AT$4:$AU$33,2,FALSE)","v":0}]
["SEANCE 7",null,"Danger",{"$f":"VLOOKUP(C35,DEBUTSTEP!$AT$4:$AU$33,2,FALSE)","v":0},"Danger",{"$f":"VLOOKUP(E35,DEBUTSTEP!$AT$4:$AU$33,2,FALSE)","v":0},"Danger",{"$f":"VLOOKUP(G35,DEBUTSTEP!$AT$4:$AU$33,2,FALSE)","v":0},"Danger",{"$f":"VLOOKUP(I35,DEBUTSTEP!$AT$4:$AU$33,2,FALSE)","v":0},"Danger",{"$f":"VLOOKUP(K35,DEBUTSTEP!$AT$4:$AU$33,2,FALSE)","v":0},"Danger",{"$f":"VLOOKUP(M35,DEBUTSTEP!$AT$4:$AU$33,2,FALSE)","v":0},"Danger",{"$f":"VLOOKUP(O35,DEBUTSTEP!$AT$4:$AU$33,2,FALSE)","v":0},"Danger",{"$f":"VLOOKUP(Q35,DEBUTSTEP!$AT$4:$AU$33,2,FALSE)","v":0},"Danger",{"$f":"VLOOKUP(S35,DEBUTSTEP!$AT$4:$AU$33,2,FALSE)","v":0},"Danger",{"$f":"VLOOKUP(U35,DEBUTSTEP!$AT$4:$AU$33,2,FALSE)","v":0},"Danger",{"$f":"VLOOKUP(W35,DEBUTSTEP!$AT$4:$AU$33,2,FALSE)","v":0},"Danger",{"$f":"VLOOKUP(Y35,DEBUTSTEP!$AT$4:$AU$33,2,FALSE)","v":0},"Danger",{"$f":"VLOOKUP(AA35,DEBUTSTEP!$AT$4:$AU$33,2,FALSE)","v":0},"Danger",{"$f":"VLOOKUP(AC35,DEBUTSTEP!$AT$4:$AU$33,2,FALSE)","v":0},"Danger",{"$f":"VLOOKUP(AE35,DEBUTSTEP!$AT$4:$AU$33,2,FALSE)","v":0},"Danger",{"$f":"VLOOKUP(AG35,DEBUTSTEP!$AT$4:$AU$33,2,FALSE)","v":0},"Danger",{"$f":"VLOOKUP(AI35,DEBUTSTEP!$AT$4:$AU$33,2,FALSE)","v":0},"Danger",{"$f":"VLOOKUP(AK35,DEBUTSTEP!$AT$4:$AU$33,2,FALSE)","v":0},"Danger",{"$f":"VLOOKUP(AM35,DEBUTSTEP!$AT$4:$AU$33,2,FALSE)","v":0},"Danger",{"$f":"VLOOKUP(AO35,DEBUTSTEP!$AT$4:$AU$33,2,FALSE)","v":0},"Danger",{"$f":"VLOOKUP(AQ35,DEBUTSTEP!$AT$4:$AU$33,2,FALSE)","v":0},"Danger",{"$f":"VLOOKUP(AS35,DEBUTSTEP!$AT$4:$AU$33,2,FALSE)","v":0},"Danger",{"$f":"VLOOKUP(AU35,DEBUTSTEP!$AT$4:$AU$33,2,FALSE)","v":0},"Danger",{"$f":"VLOOKUP(AW35,DEBUTSTEP!$AT$4:$AU$33,2,FALSE)","v":0},"Danger",{"$f":"VLOOKUP(AY35,DEBUTSTEP!$AT$4:$AU$33,2,FALSE)","v":0},"Danger",{"$f":"VLOOKUP(BA35,DEBUTSTEP!$AT$4:$AU$33,2,FALSE)","v":0},"Danger",{"$f":"VLOOKUP(BC35,DEBUTSTEP!$AT$4:$AU$33,2,FALSE)","v":0},"Danger",{"$f":"VLOOKUP(BE35,DEBUTSTEP!$AT$4:$AU$33,2,FALSE)","v":0},"Danger",{"$f":"VLOOKUP(BG35,DEBUTSTEP!$AT$4:$AU$33,2,FALSE)","v":0},"Danger",{"$f":"VLOOKUP(BI35,DEBUTSTEP!$AT$4:$AU$33,2,FALSE)","v":0},"Danger",{"$f":"VLOOKUP(BK35,DEBUTSTEP!$AT$4:$AU$33,2,FALSE)","v":0},"Danger",{"$f":"VLOOKUP(BM35,DEBUTSTEP!$AT$4:$AU$33,2,FALSE)","v":0},"Danger",{"$f":"VLOOKUP(BO35,DEBUTSTEP!$AT$4:$AU$33,2,FALSE)","v":0},"Danger",{"$f":"VLOOKUP(BQ35,DEBUTSTEP!$AT$4:$AU$33,2,FALSE)","v":0},"Danger",{"$f":"VLOOKUP(BS35,DEBUTSTEP!$AT$4:$AU$33,2,FALSE)","v":0}]
["SEANCE 8",null,"Danger",{"$f":"VLOOKUP(C36,DEBUTSTEP!$AT$4:$AU$33,2,FALSE)","v":0},"Danger",{"$f":"VLOOKUP(E36,DEBUTSTEP!$AT$4:$AU$33,2,FALSE)","v":0},"Danger",{"$f":"VLOOKUP(G36,DEBUTSTEP!$AT$4:$AU$33,2,FALSE)","v":0},"Danger",{"$f":"VLOOKUP(I36,DEBUTSTEP!$AT$4:$AU$33,2,FALSE)","v":0},"Danger",{"$f":"VLOOKUP(K36,DEBUTSTEP!$AT$4:$AU$33,2,FALSE)","v":0},"Danger",{"$f":"VLOOKUP(M36,DEBUTSTEP!$AT$4:$AU$33,2,FALSE)","v":0},"Danger",{"$f":"VLOOKUP(O36,DEBUTSTEP!$AT$4:$AU$33,2,FALSE)","v":0},"Danger",{"$f":"VLOOKUP(Q36,DEBUTSTEP!$AT$4:$AU$33,2,FALSE)","v":0},"Danger",{"$f":"VLOOKUP(S36,DEBUTSTEP!$AT$4:$AU$33,2,FALSE)","v":0},"Danger",{"$f":"VLOOKUP(U36,DEBUTSTEP!$AT$4:$AU$33,2,FALSE)","v":0},"Danger",{"$f":"VLOOKUP(W36,DEBUTSTEP!$AT$4:$AU$33,2,FALSE)","v":0},"Danger",{"$f":"VLOOKUP(Y36,DEBUTSTEP!$AT$4:$AU$33,2,FALSE)","v":0},"Danger",{"$f":"VLOOKUP(AA36,DEBUTSTEP!$AT$4:$AU$33,2,FALSE)","v":0},"Danger",{"$f":"VLOOKUP(AC36,DEBUTSTEP!$AT$4:$AU$33,2,FALSE)","v":0},"Danger",{"$f":"VLOOKUP(AE36,DEBUTSTEP!$AT$4:$AU$33,2,FALSE)","v":0},"Danger",{"$f":"VLOOKUP(AG36,DEBUTSTEP!$AT$4:$AU$33,2,FALSE)","v":0},"Danger",{"$f":"VLOOKUP(AI36,DEBUTSTEP!$AT$4:$AU$33,2,FALSE)","v":0},"Danger",{"$f":"VLOOKUP(AK36,DEBUTSTEP!$AT$4:$AU$33,2,FALSE)","v":0},"Danger",{"$f":"VLOOKUP(AM36,DEBUTSTEP!$AT$4:$AU$33,2,FALSE)","v":0},"Danger",{"$f":"VLOOKUP(AO36,DEBUTSTEP!$AT$4:$AU$33,2,FALSE)","v":0},"Danger",{"$f":"VLOOKUP(AQ36,DEBUTSTEP!$AT$4:$AU$33,2,FALSE)","v":0},"Danger",{"$f":"VLOOKUP(AS36,DEBUTSTEP!$AT$4:$AU$33,2,FALSE)","v":0},"Danger",{"$f":"VLOOKUP(AU36,DEBUTSTEP!$AT$4:$AU$33,2,FALSE)","v":0},"Danger",{"$f":"VLOOKUP(AW36,DEBUTSTEP!$AT$4:$AU$33,2,FALSE)","v":0},"Danger",{"$f":"VLOOKUP(AY36,DEBUTSTEP!$AT$4:$AU$33,2,FALSE)","v":0},"Danger",{"$f":"VLOOKUP(BA36,DEBUTSTEP!$AT$4:$AU$33,2,FALSE)","v":0},"Danger",{"$f":"VLOOKUP(BC36,DEBUTSTEP!$AT$4:$AU$33,2,FALSE)","v":0},"Danger",{"$f":"VLOOKUP(BE36,DEBUTSTEP!$AT$4:$AU$33,2,FALSE)","v":0},"Danger",{"$f":"VLOOKUP(BG36,DEBUTSTEP!$AT$4:$AU$33,2,FALSE)","v":0},"Danger",{"$f":"VLOOKUP(BI36,DEBUTSTEP!$AT$4:$AU$33,2,FALSE)","v":0},"Danger",{"$f":"VLOOKUP(BK36,DEBUTSTEP!$AT$4:$AU$33,2,FALSE)","v":0},"Danger",{"$f":"VLOOKUP(BM36,DEBUTSTEP!$AT$4:$AU$33,2,FALSE)","v":0},"Danger",{"$f":"VLOOKUP(BO36,DEBUTSTEP!$AT$4:$AU$33,2,FALSE)","v":0},"Danger",{"$f":"VLOOKUP(BQ36,DEBUTSTEP!$AT$4:$AU$33,2,FALSE)","v":0},"Danger",{"$f":"VLOOKUP(BS36,DEBUTSTEP!$AT$4:$AU$33,2,FALSE)","v":0}]
["SEANCE 9",null,"Danger",{"$f":"VLOOKUP(C37,DEBUTSTEP!$AT$4:$AU$33,2,FALSE)","v":0},"Danger",{"$f":"VLOOKUP(E37,DEBUTSTEP!$AT$4:$AU$33,2,FALSE)","v":0},"Danger",{"$f":"VLOOKUP(G37,DEBUTSTEP!$AT$4:$AU$33,2,FALSE)","v":0},"Danger",{"$f":"VLOOKUP(I37,DEBUTSTEP!$AT$4:$AU$33,2,FALSE)","v":0},"Danger",{"$f":"VLOOKUP(K37,DEBUTSTEP!$AT$4:$AU$33,2,FALSE)","v":0},"Danger",{"$f":"VLOOKUP(M37,DEBUTSTEP!$AT$4:$AU$33,2,FALSE)","v":0},"Danger",{"$f":"VLOOKUP(O37,DEBUTSTEP!$AT$4:$AU$33,2,FALSE)","v":0},"Danger",{"$f":"VLOOKUP(Q37,DEBUTSTEP!$AT$4:$AU$33,2,FALSE)","v":0},"Danger",{"$f":"VLOOKUP(S37,DEBUTSTEP!$AT$4:$AU$33,2,FALSE)","v":0},"Danger",{"$f":"VLOOKUP(U37,DEBUTSTEP!$AT$4:$AU$33,2,FALSE)","v":0},"Danger",{"$f":"VLOOKUP(W37,DEBUTSTEP!$AT$4:$AU$33,2,FALSE)","v":0},"Danger",{"$f":"VLOOKUP(Y37,DEBUTSTEP!$AT$4:$AU$33,2,FALSE)","v":0},"Danger",{"$f":"VLOOKUP(AA37,DEBUTSTEP!$AT$4:$AU$33,2,FALSE)","v":0},"Danger",{"$f":"VLOOKUP(AC37,DEBUTSTEP!$AT$4:$AU$33,2,FALSE)","v":0},"Danger",{"$f":"VLOOKUP(AE37,DEBUTSTEP!$AT$4:$AU$33,2,FALSE)","v":0},"Danger",{"$f":"VLOOKUP(AG37,DEBUTSTEP!$AT$4:$AU$33,2,FALSE)","v":0},"Danger",{"$f":"VLOOKUP(AI37,DEBUTSTEP!$AT$4:$AU$33,2,FALSE)","v":0},"Danger",{"$f":"VLOOKUP(AK37,DEBUTSTEP!$AT$4:$AU$33,2,FALSE)","v":0},"Danger",{"$f":"VLOOKUP(AM37,DEBUTSTEP!$AT$4:$AU$33,2,FALSE)","v":0},"Danger",{"$f":"VLOOKUP(AO37,DEBUTSTEP!$AT$4:$AU$33,2,FALSE)","v":0},"Danger",{"$f":"VLOOKUP(AQ37,DEBUTSTEP!$AT$4:$AU$33,2,FALSE)","v":0},"Danger",{"$f":"VLOOKUP(AS37,DEBUTSTEP!$AT$4:$AU$33,2,FALSE)","v":0},"Danger",{"$f":"VLOOKUP(AU37,DEBUTSTEP!$AT$4:$AU$33,2,FALSE)","v":0},"Danger",{"$f":"VLOOKUP(AW37,DEBUTSTEP!$AT$4:$AU$33,2,FALSE)","v":0},"Danger",{"$f":"VLOOKUP(AY37,DEBUTSTEP!$AT$4:$AU$33,2,FALSE)","v":0},"Danger",{"$f":"VLOOKUP(BA37,DEBUTSTEP!$AT$4:$AU$33,2,FALSE)","v":0},"Danger",{"$f":"VLOOKUP(BC37,DEBUTSTEP!$AT$4:$AU$33,2,FALSE)","v":0},"Danger",{"$f":"VLOOKUP(BE37,DEBUTSTEP!$AT$4:$AU$33,2,FALSE)","v":0},"Danger",{"$f":"VLOOKUP(BG37,DEBUTSTEP!$AT$4:$AU$33,2,FALSE)","v":0},"Danger",{"$f":"VLOOKUP(BI37,DEBUTSTEP!$AT$4:$AU$33,2,FALSE)","v":0},"Danger",{"$f":"VLOOKUP(BK37,DEBUTSTEP!$AT$4:$AU$33,2,FALSE)","v":0},"Danger",{"$f":"VLOOKUP(BM37,DEBUTSTEP!$AT$4:$AU$33,2,FALSE)","v":0},"Danger",{"$f":"VLOOKUP(BO37,DEBUTSTEP!$AT$4:$AU$33,2,FALSE)","v":0},"Danger",{"$f":"VLOOKUP(BQ37,DEBUTSTEP!$AT$4:$AU$33,2,FALSE)","v":0},"Danger",{"$f":"VLOOKUP(BS37,DEBUTSTEP!$AT$4:$AU$33,2,FALSE)","v":0}]
["SEANCE 10",null,"Danger",{"$f":"VLOOKUP(C38,DEBUTSTEP!$AT$4:$AU$33,2,FALSE)","v":0},"Danger",{"$f":"VLOOKUP(E38,DEBUTSTEP!$AT$4:$AU$33,2,FALSE)","v":0},"Danger",{"$f":"VLOOKUP(G38,DEBUTSTEP!$AT$4:$AU$33,2,FALSE)","v":0},"Danger",{"$f":"VLOOKUP(I38,DEBUTSTEP!$AT$4:$AU$33,2,FALSE)","v":0},"Danger",{"$f":"VLOOKUP(K38,DEBUTSTEP!$AT$4:$AU$33,2,FALSE)","v":0},"Danger",{"$f":"VLOOKUP(M38,DEBUTSTEP!$AT$4:$AU$33,2,FALSE)","v":0},"Danger",{"$f":"VLOOKUP(O38,DEBUTSTEP!$AT$4:$AU$33,2,FALSE)","v":0},"Danger",{"$f":"VLOOKUP(Q38,DEBUTSTEP!$AT$4:$AU$33,2,FALSE)","v":0},"Danger",{"$f":"VLOOKUP(S38,DEBUTSTEP!$AT$4:$AU$33,2,FALSE)","v":0},"Danger",{"$f":"VLOOKUP(U38,DEBUTSTEP!$AT$4:$AU$33,2,FALSE)","v":0},"Danger",{"$f":"VLOOKUP(W38,DEBUTSTEP!$AT$4:$AU$33,2,FALSE)","v":0},"Danger",{"$f":"VLOOKUP(Y38,DEBUTSTEP!$AT$4:$AU$33,2,FALSE)","v":0},"Danger",{"$f":"VLOOKUP(AA38,DEBUTSTEP!$AT$4:$AU$33,2,FALSE)","v":0},"Danger",{"$f":"VLOOKUP(AC38,DEBUTSTEP!$AT$4:$AU$33,2,FALSE)","v":0},"Danger",{"$f":"VLOOKUP(AE38,DEBUTSTEP!$AT$4:$AU$33,2,FALSE)","v":0},"Danger",{"$f":"VLOOKUP(AG38,DEBUTSTEP!$AT$4:$AU$33,2,FALSE)","v":0},"Danger",{"$f":"VLOOKUP(AI38,DEBUTSTEP!$AT$4:$AU$33,2,FALSE)","v":0},"Danger",{"$f":"VLOOKUP(AK38,DEBUTSTEP!$AT$4:$AU$33,2,FALSE)","v":0},"Danger",{"$f":"VLOOKUP(AM38,DEBUTSTEP!$AT$4:$AU$33,2,FALSE)","v":0},"Danger",{"$f":"VLOOKUP(AO38,DEBUTSTEP!$AT$4:$AU$33,2,FALSE)","v":0},"Danger",{"$f":"VLOOKUP(AQ38,DEBUTSTEP!$AT$4:$AU$33,2,FALSE)","v":0},"Danger",{"$f":"VLOOKUP(AS38,DEBUTSTEP!$AT$4:$AU$33,2,FALSE)","v":0},"Danger",{"$f":"VLOOKUP(AU38,DEBUTSTEP!$AT$4:$AU$33,2,FALSE)","v":0},"Danger",{"$f":"VLOOKUP(AW38,DEBUTSTEP!$AT$4:$AU$33,2,FALSE)","v":0},"Danger",{"$f":"VLOOKUP(AY38,DEBUTSTEP!$AT$4:$AU$33,2,FALSE)","v":0},"Danger",{"$f":"VLOOKUP(BA38,DEBUTSTEP!$AT$4:$AU$33,2,FALSE)","v":0},"Danger",{"$f":"VLOOKUP(BC38,DEBUTSTEP!$AT$4:$AU$33,2,FALSE)","v":0},"Danger",{"$f":"VLOOKUP(BE38,DEBUTSTEP!$AT$4:$AU$33,2,FALSE)","v":0},"Danger",{"$f":"VLOOKUP(BG38,DEBUTSTEP!$AT$4:$AU$33,2,FALSE)","v":0},"Danger",{"$f":"VLOOKUP(BI38,DEBUTSTEP!$AT$4:$AU$33,2,FALSE)","v":0},"Danger",{"$f":"VLOOKUP(BK38,DEBUTSTEP!$AT$4:$AU$33,2,FALSE)","v":0},"Danger",{"$f":"VLOOKUP(BM38,DEBUTSTEP!$AT$4:$AU$33,2,FALSE)","v":0},"Danger",{"$f":"VLOOKUP(BO38,DEBUTSTEP!$AT$4:$AU$33,2,FALSE)","v":0},"Danger",{"$f":"VLOOKUP(BQ38,DEBUTSTEP!$AT$4:$AU$33,2,FALSE)","v":0},"Danger",{"$f":"VLOOKUP(BS38,DEBUTSTEP!$AT$4:$AU$33,2,FALSE)","v":0}]
[]
[{"$f":"DEBUTSTEP!$AV$4","v":"Respect de l'entrainement proposé"}]
["SEANCE 1",null,"Pas du tout",{"$f":"VLOOKUP(C41,DEBUTSTEP!$AV$4:$AW$33,2,FALSE)","v":0},"Pas du tout",{"$f":"VLOOKUP(E41,DEBUTSTEP!$AV$4:$AW$33,2,FALSE)","v":0},"Pas du tout",{"$f":"VLOOKUP(G41,DEBUTSTEP!$AV$4:$AW$33,2,FALSE)","v":0},"Pas du tout",{"$f":"VLOOKUP(I41,DEBUTSTEP!$AV$4:$AW$33,2,FALSE)","v":0},"Pas du tout",{"$f":"VLOOKUP(K41,DEBUTSTEP!$AV$4:$AW$33,2,FALSE)","v":0},"Pas du tout",{"$f":"VLOOKUP(M41,DEBUTSTEP!$AV$4:$AW$33,2,FALSE)","v":0},"Pas du tout",{"$f":"VLOOKUP(O41,DEBUTSTEP!$AV$4:$AW$33,2,FALSE)","v":0},"Pas du tout",{"$f":"VLOOKUP(Q41,DEBUTSTEP!$AV$4:$AW$33,2,FALSE)","v":0},"Pas du tout",{"$f":"VLOOKUP(S41,DEBUTSTEP!$AV$4:$AW$33,2,FALSE)","v":0},"Pas du tout",{"$f":"VLOOKUP(U41,DEBUTSTEP!$AV$4:$AW$33,2,FALSE)","v":0},"Pas du tout",{"$f":"VLOOKUP(W41,DEBUTSTEP!$AV$4:$AW$33,2,FALSE)","v":0},"Pas du tout",{"$f":"VLOOKUP(Y41,DEBUTSTEP!$AV$4:$AW$33,2,FALSE)","v":0},"Pas du tout",{"$f":"VLOOKUP(AA41,DEBUTSTEP!$AV$4:$AW$33,2,FALSE)","v":0},"Pas du tout",{"$f":"VLOOKUP(AC41,DEBUTSTEP!$AV$4:$AW$33,2,FALSE)","v":0},"Pas du tout",{"$f":"VLOOKUP(AE41,DEBUTSTEP!$AV$4:$AW$33,2,FALSE)","v":0},"Pas du tout",{"$f":"VLOOKUP(AG41,DEBUTSTEP!$AV$4:$AW$33,2,FALSE)","v":0},"Pas du tout",{"$f":"VLOOKUP(AI41,DEBUTSTEP!$AV$4:$AW$33,2,FALSE)","v":0},"Pas du tout",{"$f":"VLOOKUP(AK41,DEBUTSTEP!$AV$4:$AW$33,2,FALSE)","v":0},"Pas du tout",{"$f":"VLOOKUP(AM41,DEBUTSTEP!$AV$4:$AW$33,2,FALSE)","v":0},"Pas du tout",{"$f":"VLOOKUP(AO41,DEBUTSTEP!$AV$4:$AW$33,2,FALSE)","v":0},"Pas du tout",{"$f":"VLOOKUP(AQ41,DEBUTSTEP!$AV$4:$AW$33,2,FALSE)","v":0},"Pas du tout",{"$f":"VLOOKUP(AS41,DEBUTSTEP!$AV$4:$AW$33,2,FALSE)","v":0},"Pas du tout",{"$f":"VLOOKUP(AU41,DEBUTSTEP!$AV$4:$AW$33,2,FALSE)","v":0},"Pas du tout",{"$f":"VLOOKUP(AW41,DEBUTSTEP!$AV$4:$AW$33,2,FALSE)","v":0},"Pas du tout",{"$f":"VLOOKUP(AY41,DEBUTSTEP!$AV$4:$AW$33,2,FALSE)","v":0},"Pas du tout",{"$f":"VLOOKUP(BA41,DEBUTSTEP!$AV$4:$AW$33,2,FALSE)","v":0},"Pas du tout",{"$f":"VLOOKUP(BC41,DEBUTSTEP!$AV$4:$AW$33,2,FALSE)","v":0},"Pas du tout",{"$f":"VLOOKUP(BE41,DEBUTSTEP!$AV$4:$AW$33,2,FALSE)","v":0},"Pas du tout",{"$f":"VLOOKUP(BG41,DEBUTSTEP!$AV$4:$AW$33,2,FALSE)","v":0},"Pas du tout",{"$f":"VLOOKUP(BI41,DEBUTSTEP!$AV$4:$AW$33,2,FALSE)","v":0},"Pas du tout",{"$f":"VLOOKUP(BK41,DEBUTSTEP!$AV$4:$AW$33,2,FALSE)","v":0},"Pas du tout",{"$f":"VLOOKUP(BM41,DEBUTSTEP!$AV$4:$AW$33,2,FALSE)","v":0},"Pas du tout",{"$f":"VLOOKUP(BO41,DEBUTSTEP!$AV$4:$AW$33,2,FALSE)","v":0},"Pas du tout",{"$f":"VLOOKUP(BQ41,DEBUTSTEP!$AV$4:$AW$33,2,FALSE)","v":0},"Pas du tout",{"$f":"VLOOKUP(BS41,DEBUTSTEP!$AV$4:$AW$33,2,FALSE)","v":0}]
["SEANCE 2",null,"Pas du tout",{"$f":"VLOOKUP(C42,DEBUTSTEP!$AV$4:$AW$33,2,FALSE)","v":0},"Pas du tout",{"$f":"VLOOKUP(E42,DEBUTSTEP!$AV$4:$AW$33,2,FALSE)","v":0},"Pas du tout",{"$f":"VLOOKUP(G42,DEBUTSTEP!$AV$4:$AW$33,2,FALSE)","v":0},"Pas du tout",{"$f":"VLOOKUP(I42,DEBUTSTEP!$AV$4:$AW$33,2,FALSE)","v":0},"Pas du tout",{"$f":"VLOOKUP(K42,DEBUTSTEP!$AV$4:$AW$33,2,FALSE)","v":0},"Pas du tout",{"$f":"VLOOKUP(M42,DEBUTSTEP!$AV$4:$AW$33,2,FALSE)","v":0},"Pas du tout",{"$f":"VLOOKUP(O42,DEBUTSTEP!$AV$4:$AW$33,2,FALSE)","v":0},"Pas du tout",{"$f":"VLOOKUP(Q42,DEBUTSTEP!$AV$4:$AW$33,2,FALSE)","v":0},"Pas du tout",{"$f":"VLOOKUP(S42,DEBUTSTEP!$AV$4:$AW$33,2,FALSE)","v":0},"Pas du tout",{"$f":"VLOOKUP(U42,DEBUTSTEP!$AV$4:$AW$33,2,FALSE)","v":0},"Pas du tout",{"$f":"VLOOKUP(W42,DEBUTSTEP!$AV$4:$AW$33,2,FALSE)","v":0},"Pas du tout",{"$f":"VLOOKUP(Y42,DEBUTSTEP!$AV$4:$AW$33,2,FALSE)","v":0},"Pas du tout",{"$f":"VLOOKUP(AA42,DEBUTSTEP!$AV$4:$AW$33,2,FALSE)","v":0},"Pas du tout",{"$f":"VLOOKUP(AC42,DEBUTSTEP!$AV$4:$AW$33,2,FALSE)","v":0},"Pas du tout",{"$f":"VLOOKUP(AE42,DEBUTSTEP!$AV$4:$AW$33,2,FALSE)","v":0},"Pas du tout",{"$f":"VLOOKUP(AG42,DEBUTSTEP!$AV$4:$AW$33,2,FALSE)","v":0},"Pas du tout",{"$f":"VLOOKUP(AI42,DEBUTSTEP!$AV$4:$AW$33,2,FALSE)","v":0},"Pas du tout",{"$f":"VLOOKUP(AK42,DEBUTSTEP!$AV$4:$AW$33,2,FALSE)","v":0},"Pas du tout",{"$f":"VLOOKUP(AM42,DEBUTSTEP!$AV$4:$AW$33,2,FALSE)","v":0},"Pas du tout",{"$f":"VLOOKUP(AO42,DEBUTSTEP!$AV$4:$AW$33,2,FALSE)","v":0},"Pas du tout",{"$f":"VLOOKUP(AQ42,DEBUTSTEP!$AV$4:$AW$33,2,FALSE)","v":0},"Pas du tout",{"$f":"VLOOKUP(AS42,DEBUTSTEP!$AV$4:$AW$33,2,FALSE)","v":0},"Pas du tout",{"$f":"VLOOKUP(AU42,DEBUTSTEP!$AV$4:$AW$33,2,FALSE)","v":0},"Pas du tout",{"$f":"VLOOKUP(AW42,DEBUTSTEP!$AV$4:$AW$33,2,FALSE)","v":0},"Pas du tout",{"$f":"VLOOKUP(AY42,DEBUTSTEP!$AV$4:$AW$33,2,FALSE)","v":0},"Pas du tout",{"$f":"VLOOKUP(BA42,DEBUTSTEP!$AV$4:$AW$33,2,FALSE)","v":0},"Pas du tout",{"$f":"VLOOKUP(BC42,DEBUTSTEP!$AV$4:$AW$33,2,FALSE)","v":0},"Pas du tout",{"$f":"VLOOKUP(BE42,DEBUTSTEP!$AV$4:$AW$33,2,FALSE)","v":0},"Pas du tout",{"$f":"VLOOKUP(BG42,DEBUTSTEP!$AV$4:$AW$33,2,FALSE)","v":0},"Pas du tout",{"$f":"VLOOKUP(BI42,DEBUTSTEP!$AV$4:$AW$33,2,FALSE)","v":0},"Pas du tout",{"$f":"VLOOKUP(BK42,DEBUTSTEP!$AV$4:$AW$33,2,FALSE)","v":0},"Pas du tout",{"$f":"VLOOKUP(BM42,DEBUTSTEP!$AV$4:$AW$33,2,FALSE)","v":0},"Pas du tout",{"$f":"VLOOKUP(BO42,DEBUTSTEP!$AV$4:$AW$33,2,FALSE)","v":0},"Pas du tout",{"$f":"VLOOKUP(BQ42,DEBUTSTEP!$AV$4:$AW$33,2,FALSE)","v":0},"Pas du tout",{"$f":"VLOOKUP(BS42,DEBUTSTEP!$AV$4:$AW$33,2,FALSE)","v":0}]
["SEANCE 3",null,"Pas du tout",{"$f":"VLOOKUP(C43,DEBUTSTEP!$AV$4:$AW$33,2,FALSE)","v":0},"Pas du tout",{"$f":"VLOOKUP(E43,DEBUTSTEP!$AV$4:$AW$33,2,FALSE)","v":0},"Pas du tout",{"$f":"VLOOKUP(G43,DEBUTSTEP!$AV$4:$AW$33,2,FALSE)","v":0},"Pas du tout",{"$f":"VLOOKUP(I43,DEBUTSTEP!$AV$4:$AW$33,2,FALSE)","v":0},"Pas du tout",{"$f":"VLOOKUP(K43,DEBUTSTEP!$AV$4:$AW$33,2,FALSE)","v":0},"Pas du tout",{"$f":"VLOOKUP(M43,DEBUTSTEP!$AV$4:$AW$33,2,FALSE)","v":0},"Pas du tout",{"$f":"VLOOKUP(O43,DEBUTSTEP!$AV$4:$AW$33,2,FALSE)","v":0},"Pas du tout",{"$f":"VLOOKUP(Q43,DEBUTSTEP!$AV$4:$AW$33,2,FALSE)","v":0},"Pas du tout",{"$f":"VLOOKUP(S43,DEBUTSTEP!$AV$4:$AW$33,2,FALSE)","v":0},"Pas du tout",{"$f":"VLOOKUP(U43,DEBUTSTEP!$AV$4:$AW$33,2,FALSE)","v":0},"Pas du tout",{"$f":"VLOOKUP(W43,DEBUTSTEP!$AV$4:$AW$33,2,FALSE)","v":0},"Pas du tout",{"$f":"VLOOKUP(Y43,DEBUTSTEP!$AV$4:$AW$33,2,FALSE)","v":0},"Pas du tout",{"$f":"VLOOKUP(AA43,DEBUTSTEP!$AV$4:$AW$33,2,FALSE)","v":0},"Pas du tout",{"$f":"VLOOKUP(AC43,DEBUTSTEP!$AV$4:$AW$33,2,FALSE)","v":0},"Pas du tout",{"$f":"VLOOKUP(AE43,DEBUTSTEP!$AV$4:$AW$33,2,FALSE)","v":0},"Pas du tout",{"$f":"VLOOKUP(AG43,DEBUTSTEP!$AV$4:$AW$33,2,FALSE)","v":0},"Pas du tout",{"$f":"VLOOKUP(AI43,DEBUTSTEP!$AV$4:$AW$33,2,FALSE)","v":0},"Pas du tout",{"$f":"VLOOKUP(AK43,DEBUTSTEP!$AV$4:$AW$33,2,FALSE)","v":0},"Pas du tout",{"$f":"VLOOKUP(AM43,DEBUTSTEP!$AV$4:$AW$33,2,FALSE)","v":0},"Pas du tout",{"$f":"VLOOKUP(AO43,DEBUTSTEP!$AV$4:$AW$33,2,FALSE)","v":0},"Pas du tout",{"$f":"VLOOKUP(AQ43,DEBUTSTEP!$AV$4:$AW$33,2,FALSE)","v":0},"Pas du tout",{"$f":"VLOOKUP(AS43,DEBUTSTEP!$AV$4:$AW$33,2,FALSE)","v":0},"Pas du tout",{"$f":"VLOOKUP(AU43,DEBUTSTEP!$AV$4:$AW$33,2,FALSE)","v":0},"Pas du tout",{"$f":"VLOOKUP(AW43,DEBUTSTEP!$AV$4:$AW$33,2,FALSE)","v":0},"Pas du tout",{"$f":"VLOOKUP(AY43,DEBUTSTEP!$AV$4:$AW$33,2,FALSE)","v":0},"Pas du tout",{"$f":"VLOOKUP(BA43,DEBUTSTEP!$AV$4:$AW$33,2,FALSE)","v":0},"Pas du tout",{"$f":"VLOOKUP(BC43,DEBUTSTEP!$AV$4:$AW$33,2,FALSE)","v":0},"Pas du tout",{"$f":"VLOOKUP(BE43,DEBUTSTEP!$AV$4:$AW$33,2,FALSE)","v":0},"Pas du tout",{"$f":"VLOOKUP(BG43,DEBUTSTEP!$AV$4:$AW$33,2,FALSE)","v":0},"Pas du tout",{"$f":"VLOOKUP(BI43,DEBUTSTEP!$AV$4:$AW$33,2,FALSE)","v":0},"Pas du tout",{"$f":"VLOOKUP(BK43,DEBUTSTEP!$AV$4:$AW$33,2,FALSE)","v":0},"Pas du tout",{"$f":"VLOOKUP(BM43,DEBUTSTEP!$AV$4:$AW$33,2,FALSE)","v":0},"Pas du tout",{"$f":"VLOOKUP(BO43,DEBUTSTEP!$AV$4:$AW$33,2,FALSE)","v":0},"Pas du tout",{"$f":"VLOOKUP(BQ43,DEBUTSTEP!$AV$4:$AW$33,2,FALSE)","v":0},"Pas du tout",{"$f":"VLOOKUP(BS43,DEBUTSTEP!$AV$4:$AW$33,2,FALSE)","v":0}]
["SEANCE 4",null,"Pas du tout",{"$f":"VLOOKUP(C44,DEBUTSTEP!$AV$4:$AW$33,2,FALSE)","v":0},"Pas du tout",{"$f":"VLOOKUP(E44,DEBUTSTEP!$AV$4:$AW$33,2,FALSE)","v":0},"Pas du tout",{"$f":"VLOOKUP(G44,DEBUTSTEP!$AV$4:$AW$33,2,FALSE)","v":0},"Pas du tout",{"$f":"VLOOKUP(I44,DEBUTSTEP!$AV$4:$AW$33,2,FALSE)","v":0},"Pas du tout",{"$f":"VLOOKUP(K44,DEBUTSTEP!$AV$4:$AW$33,2,FALSE)","v":0},"Pas du tout",{"$f":"VLOOKUP(M44,DEBUTSTEP!$AV$4:$AW$33,2,FALSE)","v":0},"Pas du tout",{"$f":"VLOOKUP(O44,DEBUTSTEP!$AV$4:$AW$33,2,FALSE)","v":0},"Pas du tout",{"$f":"VLOOKUP(Q44,DEBUTSTEP!$AV$4:$AW$33,2,FALSE)","v":0},"Pas du tout",{"$f":"VLOOKUP(S44,DEBUTSTEP!$AV$4:$AW$33,2,FALSE)","v":0},"Pas du tout",{"$f":"VLOOKUP(U44,DEBUTSTEP!$AV$4:$AW$33,2,FALSE)","v":0},"Pas du tout",{"$f":"VLOOKUP(W44,DEBUTSTEP!$AV$4:$AW$33,2,FALSE)","v":0},"Pas du tout",{"$f":"VLOOKUP(Y44,DEBUTSTEP!$AV$4:$AW$33,2,FALSE)","v":0},"Pas du tout",{"$f":"VLOOKUP(AA44,DEBUTSTEP!$AV$4:$AW$33,2,FALSE)","v":0},"Pas du tout",{"$f":"VLOOKUP(AC44,DEBUTSTEP!$AV$4:$AW$33,2,FALSE)","v":0},"Pas du tout",{"$f":"VLOOKUP(AE44,DEBUTSTEP!$AV$4:$AW$33,2,FALSE)","v":0},"Pas du tout",{"$f":"VLOOKUP(AG44,DEBUTSTEP!$AV$4:$AW$33,2,FALSE)","v":0},"Pas du tout",{"$f":"VLOOKUP(AI44,DEBUTSTEP!$AV$4:$AW$33,2,FALSE)","v":0},"Pas du tout",{"$f":"VLOOKUP(AK44,DEBUTSTEP!$AV$4:$AW$33,2,FALSE)","v":0},"Pas du tout",{"$f":"VLOOKUP(AM44,DEBUTSTEP!$AV$4:$AW$33,2,FALSE)","v":0},"Pas du tout",{"$f":"VLOOKUP(AO44,DEBUTSTEP!$AV$4:$AW$33,2,FALSE)","v":0},"Pas du tout",{"$f":"VLOOKUP(AQ44,DEBUTSTEP!$AV$4:$AW$33,2,FALSE)","v":0},"Pas du tout",{"$f":"VLOOKUP(AS44,DEBUTSTEP!$AV$4:$AW$33,2,FALSE)","v":0},"Pas du tout",{"$f":"VLOOKUP(AU44,DEBUTSTEP!$AV$4:$AW$33,2,FALSE)","v":0},"Pas du tout",{"$f":"VLOOKUP(AW44,DEBUTSTEP!$AV$4:$AW$33,2,FALSE)","v":0},"Pas du tout",{"$f":"VLOOKUP(AY44,DEBUTSTEP!$AV$4:$AW$33,2,FALSE)","v":0},"Pas du tout",{"$f":"VLOOKUP(BA44,DEBUTSTEP!$AV$4:$AW$33,2,FALSE)","v":0},"Pas du tout",{"$f":"VLOOKUP(BC44,DEBUTSTEP!$AV$4:$AW$33,2,FALSE)","v":0},"Pas du tout",{"$f":"VLOOKUP(BE44,DEBUTSTEP!$AV$4:$AW$33,2,FALSE)","v":0},"Pas du tout",{"$f":"VLOOKUP(BG44,DEBUTSTEP!$AV$4:$AW$33,2,FALSE)","v":0},"Pas du tout",{"$f":"VLOOKUP(BI44,DEBUTSTEP!$AV$4:$AW$33,2,FALSE)","v":0},"Pas du tout",{"$f":"VLOOKUP(BK44,DEBUTSTEP!$AV$4:$AW$33,2,FALSE)","v":0},"Pas du tout",{"$f":"VLOOKUP(BM44,DEBUTSTEP!$AV$4:$AW$33,2,FALSE)","v":0},"Pas du tout",{"$f":"VLOOKUP(BO44,DEBUTSTEP!$AV$4:$AW$33,2,FALSE)","v":0},"Pas du tout",{"$f":"VLOOKUP(BQ44,DEBUTSTEP!$AV$4:$AW$33,2,FALSE)","v":0},"Pas du tout",{"$f":"VLOOKUP(BS44,DEBUTSTEP!$AV$4:$AW$33,2,FALSE)","v":0}]
["SEANCE 5",null,"Pas du tout",{"$f":"VLOOKUP(C45,DEBUTSTEP!$AV$4:$AW$33,2,FALSE)","v":0},"Pas du tout",{"$f":"VLOOKUP(E45,DEBUTSTEP!$AV$4:$AW$33,2,FALSE)","v":0},"Pas du tout",{"$f":"VLOOKUP(G45,DEBUTSTEP!$AV$4:$AW$33,2,FALSE)","v":0},"Pas du tout",{"$f":"VLOOKUP(I45,DEBUTSTEP!$AV$4:$AW$33,2,FALSE)","v":0},"Pas du tout",{"$f":"VLOOKUP(K45,DEBUTSTEP!$AV$4:$AW$33,2,FALSE)","v":0},"Pas du tout",{"$f":"VLOOKUP(M45,DEBUTSTEP!$AV$4:$AW$33,2,FALSE)","v":0},"Pas du tout",{"$f":"VLOOKUP(O45,DEBUTSTEP!$AV$4:$AW$33,2,FALSE)","v":0},"Pas du tout",{"$f":"VLOOKUP(Q45,DEBUTSTEP!$AV$4:$AW$33,2,FALSE)","v":0},"Pas du tout",{"$f":"VLOOKUP(S45,DEBUTSTEP!$AV$4:$AW$33,2,FALSE)","v":0},"Pas du tout",{"$f":"VLOOKUP(U45,DEBUTSTEP!$AV$4:$AW$33,2,FALSE)","v":0},"Pas du tout",{"$f":"VLOOKUP(W45,DEBUTSTEP!$AV$4:$AW$33,2,FALSE)","v":0},"Pas du tout",{"$f":"VLOOKUP(Y45,DEBUTSTEP!$AV$4:$AW$33,2,FALSE)","v":0},"Pas du tout",{"$f":"VLOOKUP(AA45,DEBUTSTEP!$AV$4:$AW$33,2,FALSE)","v":0},"Pas du tout",{"$f":"VLOOKUP(AC45,DEBUTSTEP!$AV$4:$AW$33,2,FALSE)","v":0},"Pas du tout",{"$f":"VLOOKUP(AE45,DEBUTSTEP!$AV$4:$AW$33,2,FALSE)","v":0},"Pas du tout",{"$f":"VLOOKUP(AG45,DEBUTSTEP!$AV$4:$AW$33,2,FALSE)","v":0},"Pas du tout",{"$f":"VLOOKUP(AI45,DEBUTSTEP!$AV$4:$AW$33,2,FALSE)","v":0},"Pas du tout",{"$f":"VLOOKUP(AK45,DEBUTSTEP!$AV$4:$AW$33,2,FALSE)","v":0},"Pas du tout",{"$f":"VLOOKUP(AM45,DEBUTSTEP!$AV$4:$AW$33,2,FALSE)","v":0},"Pas du tout",{"$f":"VLOOKUP(AO45,DEBUTSTEP!$AV$4:$AW$33,2,FALSE)","v":0},"Pas du tout",{"$f":"VLOOKUP(AQ45,DEBUTSTEP!$AV$4:$AW$33,2,FALSE)","v":0},"Pas du tout",{"$f":"VLOOKUP(AS45,DEBUTSTEP!$AV$4:$AW$33,2,FALSE)","v":0},"Pas du tout",{"$f":"VLOOKUP(AU45,DEBUTSTEP!$AV$4:$AW$33,2,FALSE)","v":0},"Pas du tout",{"$f":"VLOOKUP(AW45,DEBUTSTEP!$AV$4:$AW$33,2,FALSE)","v":0},"Pas du tout",{"$f":"VLOOKUP(AY45,DEBUTSTEP!$AV$4:$AW$33,2,FALSE)","v":0},"Pas du tout",{"$f":"VLOOKUP(BA45,DEBUTSTEP!$AV$4:$AW$33,2,FALSE)","v":0},"Pas du tout",{"$f":"VLOOKUP(BC45,DEBUTSTEP!$AV$4:$AW$33,2,FALSE)","v":0},"Pas du tout",{"$f":"VLOOKUP(BE45,DEBUTSTEP!$AV$4:$AW$33,2,FALSE)","v":0},"Pas du tout",{"$f":"VLOOKUP(BG45,DEBUTSTEP!$AV$4:$AW$33,2,FALSE)","v":0},"Pas du tout",{"$f":"VLOOKUP(BI45,DEBUTSTEP!$AV$4:$AW$33,2,FALSE)","v":0},"Pas du tout",{"$f":"VLOOKUP(BK45,DEBUTSTEP!$AV$4:$AW$33,2,FALSE)","v":0},"Pas du tout",{"$f":"VLOOKUP(BM45,DEBUTSTEP!$AV$4:$AW$33,2,FALSE)","v":0},"Pas du tout",{"$f":"VLOOKUP(BO45,DEBUTSTEP!$AV$4:$AW$33,2,FALSE)","v":0},"Pas du tout",{"$f":"VLOOKUP(BQ45,DEBUTSTEP!$AV$4:$AW$33,2,FALSE)","v":0},"Pas du tout",{"$f":"VLOOKUP(BS45,DEBUTSTEP!$AV$4:$AW$33,2,FALSE)","v":0}]
["SEANCE 6",null,"Pas du tout",{"$f":"VLOOKUP(C46,DEBUTSTEP!$AV$4:$AW$33,2,FALSE)","v":0},"Pas du tout",{"$f":"VLOOKUP(E46,DEBUTSTEP!$AV$4:$AW$33,2,FALSE)","v":0},"Pas du tout",{"$f":"VLOOKUP(G46,DEBUTSTEP!$AV$4:$AW$33,2,FALSE)","v":0},"Pas du tout",{"$f":"VLOOKUP(I46,DEBUTSTEP!$AV$4:$AW$33,2,FALSE)","v":0},"Pas du tout",{"$f":"VLOOKUP(K46,DEBUTSTEP!$AV$4:$AW$33,2,FALSE)","v":0},"Pas du tout",{"$f":"VLOOKUP(M46,DEBUTSTEP!$AV$4:$AW$33,2,FALSE)","v":0},"Pas du tout",{"$f":"VLOOKUP(O46,DEBUTSTEP!$AV$4:$AW$33,2,FALSE)","v":0},"Pas du tout",{"$f":"VLOOKUP(Q46,DEBUTSTEP!$AV$4:$AW$33,2,FALSE)","v":0},"Pas du tout",{"$f":"VLOOKUP(S46,DEBUTSTEP!$AV$4:$AW$33,2,FALSE)","v":0},"Pas du tout",{"$f":"VLOOKUP(U46,DEBUTSTEP!$AV$4:$AW$33,2,FALSE)","v":0},"Pas du tout",{"$f":"VLOOKUP(W46,DEBUTSTEP!$AV$4:$AW$33,2,FALSE)","v":0},"Pas du tout",{"$f":"VLOOKUP(Y46,DEBUTSTEP!$AV$4:$AW$33,2,FALSE)","v":0},"Pas du tout",{"$f":"VLOOKUP(AA46,DEBUTSTEP!$AV$4:$AW$33,2,FALSE)","v":0},"Pas du tout",{"$f":"VLOOKUP(AC46,DEBUTSTEP!$AV$4:$AW$33,2,FALSE)","v":0},"Pas du tout",{"$f":"VLOOKUP(AE46,DEBUTSTEP!$AV$4:$AW$33,2,FALSE)","v":0},"Pas du tout",{"$f":"VLOOKUP(AG46,DEBUTSTEP!$AV$4:$AW$33,2,FALSE)","v":0},"Pas du tout",{"$f":"VLOOKUP(AI46,DEBUTSTEP!$AV$4:$AW$33,2,FALSE)","v":0},"Pas du tout",{"$f":"VLOOKUP(AK46,DEBUTSTEP!$AV$4:$AW$33,2,FALSE)","v":0},"Pas du tout",{"$f":"VLOOKUP(AM46,DEBUTSTEP!$AV$4:$AW$33,2,FALSE)","v":0},"Pas du tout",{"$f":"VLOOKUP(AO46,DEBUTSTEP!$AV$4:$AW$33,2,FALSE)","v":0},"Pas du tout",{"$f":"VLOOKUP(AQ46,DEBUTSTEP!$AV$4:$AW$33,2,FALSE)","v":0},"Pas du tout",{"$f":"VLOOKUP(AS46,DEBUTSTEP!$AV$4:$AW$33,2,FALSE)","v":0},"Pas du tout",{"$f":"VLOOKUP(AU46,DEBUTSTEP!$AV$4:$AW$33,2,FALSE)","v":0},"Pas du tout",{"$f":"VLOOKUP(AW46,DEBUTSTEP!$AV$4:$AW$33,2,FALSE)","v":0},"Pas du tout",{"$f":"VLOOKUP(AY46,DEBUTSTEP!$AV$4:$AW$33,2,FALSE)","v":0},"Pas du tout",{"$f":"VLOOKUP(BA46,DEBUTSTEP!$AV$4:$AW$33,2,FALSE)","v":0},"Pas du tout",{"$f":"VLOOKUP(BC46,DEBUTSTEP!$AV$4:$AW$33,2,FALSE)","v":0},"Pas du tout",{"$f":"VLOOKUP(BE46,DEBUTSTEP!$AV$4:$AW$33,2,FALSE)","v":0},"Pas du tout",{"$f":"VLOOKUP(BG46,DEBUTSTEP!$AV$4:$AW$33,2,FALSE)","v":0},"Pas du tout",{"$f":"VLOOKUP(BI46,DEBUTSTEP!$AV$4:$AW$33,2,FALSE)","v":0},"Pas du tout",{"$f":"VLOOKUP(BK46,DEBUTSTEP!$AV$4:$AW$33,2,FALSE)","v":0},"Pas du tout",{"$f":"VLOOKUP(BM46,DEBUTSTEP!$AV$4:$AW$33,2,FALSE)","v":0},"Pas du tout",{"$f":"VLOOKUP(BO46,DEBUTSTEP!$AV$4:$AW$33,2,FALSE)","v":0},"Pas du tout",{"$f":"VLOOKUP(BQ46,DEBUTSTEP!$AV$4:$AW$33,2,FALSE)","v":0},"Pas du tout",{"$f":"VLOOKUP(BS46,DEBUTSTEP!$AV$4:$AW$33,2,FALSE)","v":0}]
["SEANCE 7",null,"Pas du tout",{"$f":"VLOOKUP(C47,DEBUTSTEP!$AV$4:$AW$33,2,FALSE)","v":0},"Pas du tout",{"$f":"VLOOKUP(E47,DEBUTSTEP!$AV$4:$AW$33,2,FALSE)","v":0},"Pas du tout",{"$f":"VLOOKUP(G47,DEBUTSTEP!$AV$4:$AW$33,2,FALSE)","v":0},"Pas du tout",{"$f":"VLOOKUP(I47,DEBUTSTEP!$AV$4:$AW$33,2,FALSE)","v":0},"Pas du tout",{"$f":"VLOOKUP(K47,DEBUTSTEP!$AV$4:$AW$33,2,FALSE)","v":0},"Pas du tout",{"$f":"VLOOKUP(M47,DEBUTSTEP!$AV$4:$AW$33,2,FALSE)","v":0},"Pas du tout",{"$f":"VLOOKUP(O47,DEBUTSTEP!$AV$4:$AW$33,2,FALSE)","v":0},"Pas du tout",{"$f":"VLOOKUP(Q47,DEBUTSTEP!$AV$4:$AW$33,2,FALSE)","v":0},"Pas du tout",{"$f":"VLOOKUP(S47,DEBUTSTEP!$AV$4:$AW$33,2,FALSE)","v":0},"Pas du tout",{"$f":"VLOOKUP(U47,DEBUTSTEP!$AV$4:$AW$33,2,FALSE)","v":0},"Pas du tout",{"$f":"VLOOKUP(W47,DEBUTSTEP!$AV$4:$AW$33,2,FALSE)","v":0},"Pas du tout",{"$f":"VLOOKUP(Y47,DEBUTSTEP!$AV$4:$AW$33,2,FALSE)","v":0},"Pas du tout",{"$f":"VLOOKUP(AA47,DEBUTSTEP!$AV$4:$AW$33,2,FALSE)","v":0},"Pas du tout",{"$f":"VLOOKUP(AC47,DEBUTSTEP!$AV$4:$AW$33,2,FALSE)","v":0},"Pas du tout",{"$f":"VLOOKUP(AE47,DEBUTSTEP!$AV$4:$AW$33,2,FALSE)","v":0},"Pas du tout",{"$f":"VLOOKUP(AG47,DEBUTSTEP!$AV$4:$AW$33,2,FALSE)","v":0},"Pas du tout",{"$f":"VLOOKUP(AI47,DEBUTSTEP!$AV$4:$AW$33,2,FALSE)","v":0},"Pas du tout",{"$f":"VLOOKUP(AK47,DEBUTSTEP!$AV$4:$AW$33,2,FALSE)","v":0},"Pas du tout",{"$f":"VLOOKUP(AM47,DEBUTSTEP!$AV$4:$AW$33,2,FALSE)","v":0},"Pas du tout",{"$f":"VLOOKUP(AO47,DEBUTSTEP!$AV$4:$AW$33,2,FALSE)","v":0},"Pas du tout",{"$f":"VLOOKUP(AQ47,DEBUTSTEP!$AV$4:$AW$33,2,FALSE)","v":0},"Pas du tout",{"$f":"VLOOKUP(AS47,DEBUTSTEP!$AV$4:$AW$33,2,FALSE)","v":0},"Pas du tout",{"$f":"VLOOKUP(AU47,DEBUTSTEP!$AV$4:$AW$33,2,FALSE)","v":0},"Pas du tout",{"$f":"VLOOKUP(AW47,DEBUTSTEP!$AV$4:$AW$33,2,FALSE)","v":0},"Pas du tout",{"$f":"VLOOKUP(AY47,DEBUTSTEP!$AV$4:$AW$33,2,FALSE)","v":0},"Pas du tout",{"$f":"VLOOKUP(BA47,DEBUTSTEP!$AV$4:$AW$33,2,FALSE)","v":0},"Pas du tout",{"$f":"VLOOKUP(BC47,DEBUTSTEP!$AV$4:$AW$33,2,FALSE)","v":0},"Pas du tout",{"$f":"VLOOKUP(BE47,DEBUTSTEP!$AV$4:$AW$33,2,FALSE)","v":0},"Pas du tout",{"$f":"VLOOKUP(BG47,DEBUTSTEP!$AV$4:$AW$33,2,FALSE)","v":0},"Pas du tout",{"$f":"VLOOKUP(BI47,DEBUTSTEP!$AV$4:$AW$33,2,FALSE)","v":0},"Pas du tout",{"$f":"VLOOKUP(BK47,DEBUTSTEP!$AV$4:$AW$33,2,FALSE)","v":0},"Pas du tout",{"$f":"VLOOKUP(BM47,DEBUTSTEP!$AV$4:$AW$33,2,FALSE)","v":0},"Pas du tout",{"$f":"VLOOKUP(BO47,DEBUTSTEP!$AV$4:$AW$33,2,FALSE)","v":0},"Pas du tout",{"$f":"VLOOKUP(BQ47,DEBUTSTEP!$AV$4:$AW$33,2,FALSE)","v":0},"Pas du tout",{"$f":"VLOOKUP(BS47,DEBUTSTEP!$AV$4:$AW$33,2,FALSE)","v":0}]
["SEANCE 8",null,"Pas du tout",{"$f":"VLOOKUP(C48,DEBUTSTEP!$AV$4:$AW$33,2,FALSE)","v":0},"Pas du tout",{"$f":"VLOOKUP(E48,DEBUTSTEP!$AV$4:$AW$33,2,FALSE)","v":0},"Pas du tout",{"$f":"VLOOKUP(G48,DEBUTSTEP!$AV$4:$AW$33,2,FALSE)","v":0},"Pas du tout",{"$f":"VLOOKUP(I48,DEBUTSTEP!$AV$4:$AW$33,2,FALSE)","v":0},"Pas du tout",{"$f":"VLOOKUP(K48,DEBUTSTEP!$AV$4:$AW$33,2,FALSE)","v":0},"Pas du tout",{"$f":"VLOOKUP(M48,DEBUTSTEP!$AV$4:$AW$33,2,FALSE)","v":0},"Pas du tout",{"$f":"VLOOKUP(O48,DEBUTSTEP!$AV$4:$AW$33,2,FALSE)","v":0},"Pas du tout",{"$f":"VLOOKUP(Q48,DEBUTSTEP!$AV$4:$AW$33,2,FALSE)","v":0},"Pas du tout",{"$f":"VLOOKUP(S48,DEBUTSTEP!$AV$4:$AW$33,2,FALSE)","v":0},"Pas du tout",{"$f":"VLOOKUP(U48,DEBUTSTEP!$AV$4:$AW$33,2,FALSE)","v":0},"Pas du tout",{"$f":"VLOOKUP(W48,DEBUTSTEP!$AV$4:$AW$33,2,FALSE)","v":0},"Pas du tout",{"$f":"VLOOKUP(Y48,DEBUTSTEP!$AV$4:$AW$33,2,FALSE)","v":0},"Pas du tout",{"$f":"VLOOKUP(AA48,DEBUTSTEP!$AV$4:$AW$33,2,FALSE)","v":0},"Pas du tout",{"$f":"VLOOKUP(AC48,DEBUTSTEP!$AV$4:$AW$33,2,FALSE)","v":0},"Pas du tout",{"$f":"VLOOKUP(AE48,DEBUTSTEP!$AV$4:$AW$33,2,FALSE)","v":0},"Pas du tout",{"$f":"VLOOKUP(AG48,DEBUTSTEP!$AV$4:$AW$33,2,FALSE)","v":0},"Pas du tout",{"$f":"VLOOKUP(AI48,DEBUTSTEP!$AV$4:$AW$33,2,FALSE)","v":0},"Pas du tout",{"$f":"VLOOKUP(AK48,DEBUTSTEP!$AV$4:$AW$33,2,FALSE)","v":0},"Pas du tout",{"$f":"VLOOKUP(AM48,DEBUTSTEP!$AV$4:$AW$33,2,FALSE)","v":0},"Pas du tout",{"$f":"VLOOKUP(AO48,DEBUTSTEP!$AV$4:$AW$33,2,FALSE)","v":0},"Pas du tout",{"$f":"VLOOKUP(AQ48,DEBUTSTEP!$AV$4:$AW$33,2,FALSE)","v":0},"Pas du tout",{"$f":"VLOOKUP(AS48,DEBUTSTEP!$AV$4:$AW$33,2,FALSE)","v":0},"Pas du tout",{"$f":"VLOOKUP(AU48,DEBUTSTEP!$AV$4:$AW$33,2,FALSE)","v":0},"Pas du tout",{"$f":"VLOOKUP(AW48,DEBUTSTEP!$AV$4:$AW$33,2,FALSE)","v":0},"Pas du tout",{"$f":"VLOOKUP(AY48,DEBUTSTEP!$AV$4:$AW$33,2,FALSE)","v":0},"Pas du tout",{"$f":"VLOOKUP(BA48,DEBUTSTEP!$AV$4:$AW$33,2,FALSE)","v":0},"Pas du tout",{"$f":"VLOOKUP(BC48,DEBUTSTEP!$AV$4:$AW$33,2,FALSE)","v":0},"Pas du tout",{"$f":"VLOOKUP(BE48,DEBUTSTEP!$AV$4:$AW$33,2,FALSE)","v":0},"Pas du tout",{"$f":"VLOOKUP(BG48,DEBUTSTEP!$AV$4:$AW$33,2,FALSE)","v":0},"Pas du tout",{"$f":"VLOOKUP(BI48,DEBUTSTEP!$AV$4:$AW$33,2,FALSE)","v":0},"Pas du tout",{"$f":"VLOOKUP(BK48,DEBUTSTEP!$AV$4:$AW$33,2,FALSE)","v":0},"Pas du tout",{"$f":"VLOOKUP(BM48,DEBUTSTEP!$AV$4:$AW$33,2,FALSE)","v":0},"Pas du tout",{"$f":"VLOOKUP(BO48,DEBUTSTEP!$AV$4:$AW$33,2,FALSE)","v":0},"Pas du tout",{"$f":"VLOOKUP(BQ48,DEBUTSTEP!$AV$4:$AW$33,2,FALSE)","v":0},"Pas du tout",{"$f":"VLOOKUP(BS48,DEBUTSTEP!$AV$4:$AW$33,2,FALSE)","v":0}]
["SEANCE 9",null,"Pas du tout",{"$f":"VLOOKUP(C49,DEBUTSTEP!$AV$4:$AW$33,2,FALSE)","v":0},"Pas du tout",{"$f":"VLOOKUP(E49,DEBUTSTEP!$AV$4:$AW$33,2,FALSE)","v":0},"Pas du tout",{"$f":"VLOOKUP(G49,DEBUTSTEP!$AV$4:$AW$33,2,FALSE)","v":0},"Pas du tout",{"$f":"VLOOKUP(I49,DEBUTSTEP!$AV$4:$AW$33,2,FALSE)","v":0},"Pas du tout",{"$f":"VLOOKUP(K49,DEBUTSTEP!$AV$4:$AW$33,2,FALSE)","v":0},"Pas du tout",{"$f":"VLOOKUP(M49,DEBUTSTEP!$AV$4:$AW$33,2,FALSE)","v":0},"Pas du tout",{"$f":"VLOOKUP(O49,DEBUTSTEP!$AV$4:$AW$33,2,FALSE)","v":0},"Pas du tout",{"$f":"VLOOKUP(Q49,DEBUTSTEP!$AV$4:$AW$33,2,FALSE)","v":0},"Pas du tout",{"$f":"VLOOKUP(S49,DEBUTSTEP!$AV$4:$AW$33,2,FALSE)","v":0},"Pas du tout",{"$f":"VLOOKUP(U49,DEBUTSTEP!$AV$4:$AW$33,2,FALSE)","v":0},"Pas du tout",{"$f":"VLOOKUP(W49,DEBUTSTEP!$AV$4:$AW$33,2,FALSE)","v":0},"Pas du tout",{"$f":"VLOOKUP(Y49,DEBUTSTEP!$AV$4:$AW$33,2,FALSE)","v":0},"Pas du tout",{"$f":"VLOOKUP(AA49,DEBUTSTEP!$AV$4:$AW$33,2,FALSE)","v":0},"Pas du tout",{"$f":"VLOOKUP(AC49,DEBUTSTEP!$AV$4:$AW$33,2,FALSE)","v":0},"Pas du tout",{"$f":"VLOOKUP(AE49,DEBUTSTEP!$AV$4:$AW$33,2,FALSE)","v":0},"Pas du tout",{"$f":"VLOOKUP(AG49,DEBUTSTEP!$AV$4:$AW$33,2,FALSE)","v":0},"Pas du tout",{"$f":"VLOOKUP(AI49,DEBUTSTEP!$AV$4:$AW$33,2,FALSE)","v":0},"Pas du tout",{"$f":"VLOOKUP(AK49,DEBUTSTEP!$AV$4:$AW$33,2,FALSE)","v":0},"Pas du tout",{"$f":"VLOOKUP(AM49,DEBUTSTEP!$AV$4:$AW$33,2,FALSE)","v":0},"Pas du tout",{"$f":"VLOOKUP(AO49,DEBUTSTEP!$AV$4:$AW$33,2,FALSE)","v":0},"Pas du tout",{"$f":"VLOOKUP(AQ49,DEBUTSTEP!$AV$4:$AW$33,2,FALSE)","v":0},"Pas du tout",{"$f":"VLOOKUP(AS49,DEBUTSTEP!$AV$4:$AW$33,2,FALSE)","v":0},"Pas du tout",{"$f":"VLOOKUP(AU49,DEBUTSTEP!$AV$4:$AW$33,2,FALSE)","v":0},"Pas du tout",{"$f":"VLOOKUP(AW49,DEBUTSTEP!$AV$4:$AW$33,2,FALSE)","v":0},"Pas du tout",{"$f":"VLOOKUP(AY49,DEBUTSTEP!$AV$4:$AW$33,2,FALSE)","v":0},"Pas du tout",{"$f":"VLOOKUP(BA49,DEBUTSTEP!$AV$4:$AW$33,2,FALSE)","v":0},"Pas du tout",{"$f":"VLOOKUP(BC49,DEBUTSTEP!$AV$4:$AW$33,2,FALSE)","v":0},"Pas du tout",{"$f":"VLOOKUP(BE49,DEBUTSTEP!$AV$4:$AW$33,2,FALSE)","v":0},"Pas du tout",{"$f":"VLOOKUP(BG49,DEBUTSTEP!$AV$4:$AW$33,2,FALSE)","v":0},"Pas du tout",{"$f":"VLOOKUP(BI49,DEBUTSTEP!$AV$4:$AW$33,2,FALSE)","v":0},"Pas du tout",{"$f":"VLOOKUP(BK49,DEBUTSTEP!$AV$4:$AW$33,2,FALSE)","v":0},"Pas du tout",{"$f":"VLOOKUP(BM49,DEBUTSTEP!$AV$4:$AW$33,2,FALSE)","v":0},"Pas du tout",{"$f":"VLOOKUP(BO49,DEBUTSTEP!$AV$4:$AW$33,2,FALSE)","v":0},"Pas du tout",{"$f":"VLOOKUP(BQ49,DEBUTSTEP!$AV$4:$AW$33,2,FALSE)","v":0},"Pas du tout",{"$f":"VLOOKUP(BS49,DEBUTSTEP!$AV$4:$AW$33,2,FALSE)","v":0}]
["SEANCE 10",null,"Pas du tout",{"$f":"VLOOKUP(C50,DEBUTSTEP!$AV$4:$AW$33,2,FALSE)","v":0},"Pas du tout",{"$f":"VLOOKUP(E50,DEBUTSTEP!$AV$4:$AW$33,2,FALSE)","v":0},"Pas du tout",{"$f":"VLOOKUP(G50,DEBUTSTEP!$AV$4:$AW$33,2,FALSE)","v":0},"Pas du tout",{"$f":"VLOOKUP(I50,DEBUTSTEP!$AV$4:$AW$33,2,FALSE)","v":0},"Pas du tout",{"$f":"VLOOKUP(K50,DEBUTSTEP!$AV$4:$AW$33,2,FALSE)","v":0},"Pas du tout",{"$f":"VLOOKUP(M50,DEBUTSTEP!$AV$4:$AW$33,2,FALSE)","v":0},"Pas du tout",{"$f":"VLOOKUP(O50,DEBUTSTEP!$AV$4:$AW$33,2,FALSE)","v":0},"Pas du tout",{"$f":"VLOOKUP(Q50,DEBUTSTEP!$AV$4:$AW$33,2,FALSE)","v":0},"Pas du tout",{"$f":"VLOOKUP(S50,DEBUTSTEP!$AV$4:$AW$33,2,FALSE)","v":0},"Pas du tout",{"$f":"VLOOKUP(U50,DEBUTSTEP!$AV$4:$AW$33,2,FALSE)","v":0},"Pas du tout",{"$f":"VLOOKUP(W50,DEBUTSTEP!$AV$4:$AW$33,2,FALSE)","v":0},"Pas du tout",{"$f":"VLOOKUP(Y50,DEBUTSTEP!$AV$4:$AW$33,2,FALSE)","v":0},"Pas du tout",{"$f":"VLOOKUP(AA50,DEBUTSTEP!$AV$4:$AW$33,2,FALSE)","v":0},"Pas du tout",{"$f":"VLOOKUP(AC50,DEBUTSTEP!$AV$4:$AW$33,2,FALSE)","v":0},"Pas du tout",{"$f":"VLOOKUP(AE50,DEBUTSTEP!$AV$4:$AW$33,2,FALSE)","v":0},"Pas du tout",{"$f":"VLOOKUP(AG50,DEBUTSTEP!$AV$4:$AW$33,2,FALSE)","v":0},"Pas du tout",{"$f":"VLOOKUP(AI50,DEBUTSTEP!$AV$4:$AW$33,2,FALSE)","v":0},"Pas du tout",{"$f":"VLOOKUP(AK50,DEBUTSTEP!$AV$4:$AW$33,2,FALSE)","v":0},"Pas du tout",{"$f":"VLOOKUP(AM50,DEBUTSTEP!$AV$4:$AW$33,2,FALSE)","v":0},"Pas du tout",{"$f":"VLOOKUP(AO50,DEBUTSTEP!$AV$4:$AW$33,2,FALSE)","v":0},"Pas du tout",{"$f":"VLOOKUP(AQ50,DEBUTSTEP!$AV$4:$AW$33,2,FALSE)","v":0},"Pas du tout",{"$f":"VLOOKUP(AS50,DEBUTSTEP!$AV$4:$AW$33,2,FALSE)","v":0},"Pas du tout",{"$f":"VLOOKUP(AU50,DEBUTSTEP!$AV$4:$AW$33,2,FALSE)","v":0},"Pas du tout",{"$f":"VLOOKUP(AW50,DEBUTSTEP!$AV$4:$AW$33,2,FALSE)","v":0},"Pas du tout",{"$f":"VLOOKUP(AY50,DEBUTSTEP!$AV$4:$AW$33,2,FALSE)","v":0},"Pas du tout",{"$f":"VLOOKUP(BA50,DEBUTSTEP!$AV$4:$AW$33,2,FALSE)","v":0},"Pas du tout",{"$f":"VLOOKUP(BC50,DEBUTSTEP!$AV$4:$AW$33,2,FALSE)","v":0},"Pas du tout",{"$f":"VLOOKUP(BE50,DEBUTSTEP!$AV$4:$AW$33,2,FALSE)","v":0},"Pas du tout",{"$f":"VLOOKUP(BG50,DEBUTSTEP!$AV$4:$AW$33,2,FALSE)","v":0},"Pas du tout",{"$f":"VLOOKUP(BI50,DEBUTSTEP!$AV$4:$AW$33,2,FALSE)","v":0},"Pas du tout",{"$f":"VLOOKUP(BK50,DEBUTSTEP!$AV$4:$AW$33,2,FALSE)","v":0},"Pas du tout",{"$f":"VLOOKUP(BM50,DEBUTSTEP!$AV$4:$AW$33,2,FALSE)","v":0},"Pas du tout",{"$f":"VLOOKUP(BO50,DEBUTSTEP!$AV$4:$AW$33,2,FALSE)","v":0},"Pas du tout",{"$f":"VLOOKUP(BQ50,DEBUTSTEP!$AV$4:$AW$33,2,FALSE)","v":0},"Pas du tout",{"$f":"VLOOKUP(BS50,DEBUTSTEP!$AV$4:$AW$33,2,FALSE)","v":0}]
[]
[{"$f":"DEBUTSTEP!$AX$4","v":"Mémorisation des blocs"}]
["SEANCE 1",null,"Aucune mémorisation",{"$f":"VLOOKUP(C53,DEBUTSTEP!$AX$4:$AY$33,2,FALSE)","v":0},"Aucune mémorisation",{"$f":"VLOOKUP(E53,DEBUTSTEP!$AX$4:$AY$33,2,FALSE)","v":0},"Aucune mémorisation",{"$f":"VLOOKUP(G53,DEBUTSTEP!$AX$4:$AY$33,2,FALSE)","v":0},"Aucune mémorisation",{"$f":"VLOOKUP(I53,DEBUTSTEP!$AX$4:$AY$33,2,FALSE)","v":0},"Aucune mémorisation",{"$f":"VLOOKUP(K53,DEBUTSTEP!$AX$4:$AY$33,2,FALSE)","v":0},"Aucune mémorisation",{"$f":"VLOOKUP(M53,DEBUTSTEP!$AX$4:$AY$33,2,FALSE)","v":0},"Aucune mémorisation",{"$f":"VLOOKUP(O53,DEBUTSTEP!$AX$4:$AY$33,2,FALSE)","v":0},"Aucune mémorisation",{"$f":"VLOOKUP(Q53,DEBUTSTEP!$AX$4:$AY$33,2,FALSE)","v":0},"Aucune mémorisation",{"$f":"VLOOKUP(S53,DEBUTSTEP!$AX$4:$AY$33,2,FALSE)","v":0},"Aucune mémorisation",{"$f":"VLOOKUP(U53,DEBUTSTEP!$AX$4:$AY$33,2,FALSE)","v":0},"Aucune mémorisation",{"$f":"VLOOKUP(W53,DEBUTSTEP!$AX$4:$AY$33,2,FALSE)","v":0},"Aucune mémorisation",{"$f":"VLOOKUP(Y53,DEBUTSTEP!$AX$4:$AY$33,2,FALSE)","v":0},"Aucune mémorisation",{"$f":"VLOOKUP(AA53,DEBUTSTEP!$AX$4:$AY$33,2,FALSE)","v":0},"Aucune mémorisation",{"$f":"VLOOKUP(AC53,DEBUTSTEP!$AX$4:$AY$33,2,FALSE)","v":0},"Aucune mémorisation",{"$f":"VLOOKUP(AE53,DEBUTSTEP!$AX$4:$AY$33,2,FALSE)","v":0},"Aucune mémorisation",{"$f":"VLOOKUP(AG53,DEBUTSTEP!$AX$4:$AY$33,2,FALSE)","v":0},"Aucune mémorisation",{"$f":"VLOOKUP(AI53,DEBUTSTEP!$AX$4:$AY$33,2,FALSE)","v":0},"Aucune mémorisation",{"$f":"VLOOKUP(AK53,DEBUTSTEP!$AX$4:$AY$33,2,FALSE)","v":0},"Aucune mémorisation",{"$f":"VLOOKUP(AM53,DEBUTSTEP!$AX$4:$AY$33,2,FALSE)","v":0},"Aucune mémorisation",{"$f":"VLOOKUP(AO53,DEBUTSTEP!$AX$4:$AY$33,2,FALSE)","v":0},"Aucune mémorisation",{"$f":"VLOOKUP(AQ53,DEBUTSTEP!$AX$4:$AY$33,2,FALSE)","v":0},"Aucune mémorisation",{"$f":"VLOOKUP(AS53,DEBUTSTEP!$AX$4:$AY$33,2,FALSE)","v":0},"Aucune mémorisation",{"$f":"VLOOKUP(AU53,DEBUTSTEP!$AX$4:$AY$33,2,FALSE)","v":0},"Aucune mémorisation",{"$f":"VLOOKUP(AW53,DEBUTSTEP!$AX$4:$AY$33,2,FALSE)","v":0},"Aucune mémorisation",{"$f":"VLOOKUP(AY53,DEBUTSTEP!$AX$4:$AY$33,2,FALSE)","v":0},"Aucune mémorisation",{"$f":"VLOOKUP(BA53,DEBUTSTEP!$AX$4:$AY$33,2,FALSE)","v":0},"Aucune mémorisation",{"$f":"VLOOKUP(BC53,DEBUTSTEP!$AX$4:$AY$33,2,FALSE)","v":0},"Aucune mémorisation",{"$f":"VLOOKUP(BE53,DEBUTSTEP!$AX$4:$AY$33,2,FALSE)","v":0},"Aucune mémorisation",{"$f":"VLOOKUP(BG53,DEBUTSTEP!$AX$4:$AY$33,2,FALSE)","v":0},"Aucune mémorisation",{"$f":"VLOOKUP(BI53,DEBUTSTEP!$AX$4:$AY$33,2,FALSE)","v":0},"Aucune mémorisation",{"$f":"VLOOKUP(BK53,DEBUTSTEP!$AX$4:$AY$33,2,FALSE)","v":0},"Aucune mémorisation",{"$f":"VLOOKUP(BM53,DEBUTSTEP!$AX$4:$AY$33,2,FALSE)","v":0},"Aucune mémorisation",{"$f":"VLOOKUP(BO53,DEBUTSTEP!$AX$4:$AY$33,2,FALSE)","v":0},"Aucune mémorisation",{"$f":"VLOOKUP(BQ53,DEBUTSTEP!$AX$4:$AY$33,2,FALSE)","v":0},"Aucune mémorisation",{"$f":"VLOOKUP(BS53,DEBUTSTEP!$AX$4:$AY$33,2,FALSE)","v":0}]
["SEANCE 2",null,"Aucune mémorisation",{"$f":"VLOOKUP(C54,DEBUTSTEP!$AX$4:$AY$33,2,FALSE)","v":0},"Aucune mémorisation",{"$f":"VLOOKUP(E54,DEBUTSTEP!$AX$4:$AY$33,2,FALSE)","v":0},"Aucune mémorisation",{"$f":"VLOOKUP(G54,DEBUTSTEP!$AX$4:$AY$33,2,FALSE)","v":0},"Aucune mémorisation",{"$f":"VLOOKUP(I54,DEBUTSTEP!$AX$4:$AY$33,2,FALSE)","v":0},"Aucune mémorisation",{"$f":"VLOOKUP(K54,DEBUTSTEP!$AX$4:$AY$33,2,FALSE)","v":0},"Aucune mémorisation",{"$f":"VLOOKUP(M54,DEBUTSTEP!$AX$4:$AY$33,2,FALSE)","v":0},"Aucune mémorisation",{"$f":"VLOOKUP(O54,DEBUTSTEP!$AX$4:$AY$33,2,FALSE)","v":0},"Aucune mémorisation",{"$f":"VLOOKUP(Q54,DEBUTSTEP!$AX$4:$AY$33,2,FALSE)","v":0},"Aucune mémorisation",{"$f":"VLOOKUP(S54,DEBUTSTEP!$AX$4:$AY$33,2,FALSE)","v":0},"Aucune mémorisation",{"$f":"VLOOKUP(U54,DEBUTSTEP!$AX$4:$AY$33,2,FALSE)","v":0},"Aucune mémorisation",{"$f":"VLOOKUP(W54,DEBUTSTEP!$AX$4:$AY$33,2,FALSE)","v":0},"Aucune mémorisation",{"$f":"VLOOKUP(Y54,DEBUTSTEP!$AX$4:$AY$33,2,FALSE)","v":0},"Aucune mémorisation",{"$f":"VLOOKUP(AA54,DEBUTSTEP!$AX$4:$AY$33,2,FALSE)","v":0},"Aucune mémorisation",{"$f":"VLOOKUP(AC54,DEBUTSTEP!$AX$4:$AY$33,2,FALSE)","v":0},"Aucune mémorisation",{"$f":"VLOOKUP(AE54,DEBUTSTEP!$AX$4:$AY$33,2,FALSE)","v":0},"Aucune mémorisation",{"$f":"VLOOKUP(AG54,DEBUTSTEP!$AX$4:$AY$33,2,FALSE)","v":0},"Aucune mémorisation",{"$f":"VLOOKUP(AI54,DEBUTSTEP!$AX$4:$AY$33,2,FALSE)","v":0},"Aucune mémorisation",{"$f":"VLOOKUP(AK54,DEBUTSTEP!$AX$4:$AY$33,2,FALSE)","v":0},"Aucune mémorisation",{"$f":"VLOOKUP(AM54,DEBUTSTEP!$AX$4:$AY$33,2,FALSE)","v":0},"Aucune mémorisation",{"$f":"VLOOKUP(AO54,DEBUTSTEP!$AX$4:$AY$33,2,FALSE)","v":0},"Aucune mémorisation",{"$f":"VLOOKUP(AQ54,DEBUTSTEP!$AX$4:$AY$33,2,FALSE)","v":0},"Aucune mémorisation",{"$f":"VLOOKUP(AS54,DEBUTSTEP!$AX$4:$AY$33,2,FALSE)","v":0},"Aucune mémorisation",{"$f":"VLOOKUP(AU54,DEBUTSTEP!$AX$4:$AY$33,2,FALSE)","v":0},"Aucune mémorisation",{"$f":"VLOOKUP(AW54,DEBUTSTEP!$AX$4:$AY$33,2,FALSE)","v":0},"Aucune mémorisation",{"$f":"VLOOKUP(AY54,DEBUTSTEP!$AX$4:$AY$33,2,FALSE)","v":0},"Aucune mémorisation",{"$f":"VLOOKUP(BA54,DEBUTSTEP!$AX$4:$AY$33,2,FALSE)","v":0},"Aucune mémorisation",{"$f":"VLOOKUP(BC54,DEBUTSTEP!$AX$4:$AY$33,2,FALSE)","v":0},"Aucune mémorisation",{"$f":"VLOOKUP(BE54,DEBUTSTEP!$AX$4:$AY$33,2,FALSE)","v":0},"Aucune mémorisation",{"$f":"VLOOKUP(BG54,DEBUTSTEP!$AX$4:$AY$33,2,FALSE)","v":0},"Aucune mémorisation",{"$f":"VLOOKUP(BI54,DEBUTSTEP!$AX$4:$AY$33,2,FALSE)","v":0},"Aucune mémorisation",{"$f":"VLOOKUP(BK54,DEBUTSTEP!$AX$4:$AY$33,2,FALSE)","v":0},"Aucune mémorisation",{"$f":"VLOOKUP(BM54,DEBUTSTEP!$AX$4:$AY$33,2,FALSE)","v":0},"Aucune mémorisation",{"$f":"VLOOKUP(BO54,DEBUTSTEP!$AX$4:$AY$33,2,FALSE)","v":0},"Aucune mémorisation",{"$f":"VLOOKUP(BQ54,DEBUTSTEP!$AX$4:$AY$33,2,FALSE)","v":0},"Aucune mémorisation",{"$f":"VLOOKUP(BS54,DEBUTSTEP!$AX$4:$AY$33,2,FALSE)","v":0}]
["SEANCE 3",null,"Aucune mémorisation",{"$f":"VLOOKUP(C55,DEBUTSTEP!$AX$4:$AY$33,2,FALSE)","v":0},"Aucune mémorisation",{"$f":"VLOOKUP(E55,DEBUTSTEP!$AX$4:$AY$33,2,FALSE)","v":0},"Aucune mémorisation",{"$f":"VLOOKUP(G55,DEBUTSTEP!$AX$4:$AY$33,2,FALSE)","v":0},"Aucune mémorisation",{"$f":"VLOOKUP(I55,DEBUTSTEP!$AX$4:$AY$33,2,FALSE)","v":0},"Aucune mémorisation",{"$f":"VLOOKUP(K55,DEBUTSTEP!$AX$4:$AY$33,2,FALSE)","v":0},"Aucune mémorisation",{"$f":"VLOOKUP(M55,DEBUTSTEP!$AX$4:$AY$33,2,FALSE)","v":0},"Aucune mémorisation",{"$f":"VLOOKUP(O55,DEBUTSTEP!$AX$4:$AY$33,2,FALSE)","v":0},"Aucune mémorisation",{"$f":"VLOOKUP(Q55,DEBUTSTEP!$AX$4:$AY$33,2,FALSE)","v":0},"Aucune mémorisation",{"$f":"VLOOKUP(S55,DEBUTSTEP!$AX$4:$AY$33,2,FALSE)","v":0},"Aucune mémorisation",{"$f":"VLOOKUP(U55,DEBUTSTEP!$AX$4:$AY$33,2,FALSE)","v":0},"Aucune mémorisation",{"$f":"VLOOKUP(W55,DEBUTSTEP!$AX$4:$AY$33,2,FALSE)","v":0},"Aucune mémorisation",{"$f":"VLOOKUP(Y55,DEBUTSTEP!$AX$4:$AY$33,2,FALSE)","v":0},"Aucune mémorisation",{"$f":"VLOOKUP(AA55,DEBUTSTEP!$AX$4:$AY$33,2,FALSE)","v":0},"Aucune mémorisation",{"$f":"VLOOKUP(AC55,DEBUTSTEP!$AX$4:$AY$33,2,FALSE)","v":0},"Aucune mémorisation",{"$f":"VLOOKUP(AE55,DEBUTSTEP!$AX$4:$AY$33,2,FALSE)","v":0},"Aucune mémorisation",{"$f":"VLOOKUP(AG55,DEBUTSTEP!$AX$4:$AY$33,2,FALSE)","v":0},"Aucune mémorisation",{"$f":"VLOOKUP(AI55,DEBUTSTEP!$AX$4:$AY$33,2,FALSE)","v":0},"Aucune mémorisation",{"$f":"VLOOKUP(AK55,DEBUTSTEP!$AX$4:$AY$33,2,FALSE)","v":0},"Aucune mémorisation",{"$f":"VLOOKUP(AM55,DEBUTSTEP!$AX$4:$AY$33,2,FALSE)","v":0},"Aucune mémorisation",{"$f":"VLOOKUP(AO55,DEBUTSTEP!$AX$4:$AY$33,2,FALSE)","v":0},"Aucune mémorisation",{"$f":"VLOOKUP(AQ55,DEBUTSTEP!$AX$4:$AY$33,2,FALSE)","v":0},"Aucune mémorisation",{"$f":"VLOOKUP(AS55,DEBUTSTEP!$AX$4:$AY$33,2,FALSE)","v":0},"Aucune mémorisation",{"$f":"VLOOKUP(AU55,DEBUTSTEP!$AX$4:$AY$33,2,FALSE)","v":0},"Aucune mémorisation",{"$f":"VLOOKUP(AW55,DEBUTSTEP!$AX$4:$AY$33,2,FALSE)","v":0},"Aucune mémorisation",{"$f":"VLOOKUP(AY55,DEBUTSTEP!$AX$4:$AY$33,2,FALSE)","v":0},"Aucune mémorisation",{"$f":"VLOOKUP(BA55,DEBUTSTEP!$AX$4:$AY$33,2,FALSE)","v":0},"Aucune mémorisation",{"$f":"VLOOKUP(BC55,DEBUTSTEP!$AX$4:$AY$33,2,FALSE)","v":0},"Aucune mémorisation",{"$f":"VLOOKUP(BE55,DEBUTSTEP!$AX$4:$AY$33,2,FALSE)","v":0},"Aucune mémorisation",{"$f":"VLOOKUP(BG55,DEBUTSTEP!$AX$4:$AY$33,2,FALSE)","v":0},"Aucune mémorisation",{"$f":"VLOOKUP(BI55,DEBUTSTEP!$AX$4:$AY$33,2,FALSE)","v":0},"Aucune mémorisation",{"$f":"VLOOKUP(BK55,DEBUTSTEP!$AX$4:$AY$33,2,FALSE)","v":0},"Aucune mémorisation",{"$f":"VLOOKUP(BM55,DEBUTSTEP!$AX$4:$AY$33,2,FALSE)","v":0},"Aucune mémorisation",{"$f":"VLOOKUP(BO55,DEBUTSTEP!$AX$4:$AY$33,2,FALSE)","v":0},"Aucune mémorisation",{"$f":"VLOOKUP(BQ55,DEBUTSTEP!$AX$4:$AY$33,2,FALSE)","v":0},"Aucune mémorisation",{"$f":"VLOOKUP(BS55,DEBUTSTEP!$AX$4:$AY$33,2,FALSE)","v":0}]
["SEANCE 4",null,"Aucune mémorisation",{"$f":"VLOOKUP(C56,DEBUTSTEP!$AX$4:$AY$33,2,FALSE)","v":0},"Aucune mémorisation",{"$f":"VLOOKUP(E56,DEBUTSTEP!$AX$4:$AY$33,2,FALSE)","v":0},"Aucune mémorisation",{"$f":"VLOOKUP(G56,DEBUTSTEP!$AX$4:$AY$33,2,FALSE)","v":0},"Aucune mémorisation",{"$f":"VLOOKUP(I56,DEBUTSTEP!$AX$4:$AY$33,2,FALSE)","v":0},"Aucune mémorisation",{"$f":"VLOOKUP(K56,DEBUTSTEP!$AX$4:$AY$33,2,FALSE)","v":0},"Aucune mémorisation",{"$f":"VLOOKUP(M56,DEBUTSTEP!$AX$4:$AY$33,2,FALSE)","v":0},"Aucune mémorisation",{"$f":"VLOOKUP(O56,DEBUTSTEP!$AX$4:$AY$33,2,FALSE)","v":0},"Aucune mémorisation",{"$f":"VLOOKUP(Q56,DEBUTSTEP!$AX$4:$AY$33,2,FALSE)","v":0},"Aucune mémorisation",{"$f":"VLOOKUP(S56,DEBUTSTEP!$AX$4:$AY$33,2,FALSE)","v":0},"Aucune mémorisation",{"$f":"VLOOKUP(U56,DEBUTSTEP!$AX$4:$AY$33,2,FALSE)","v":0},"Aucune mémorisation",{"$f":"VLOOKUP(W56,DEBUTSTEP!$AX$4:$AY$33,2,FALSE)","v":0},"Aucune mémorisation",{"$f":"VLOOKUP(Y56,DEBUTSTEP!$AX$4:$AY$33,2,FALSE)","v":0},"Aucune mémorisation",{"$f":"VLOOKUP(AA56,DEBUTSTEP!$AX$4:$AY$33,2,FALSE)","v":0},"Aucune mémorisation",{"$f":"VLOOKUP(AC56,DEBUTSTEP!$AX$4:$AY$33,2,FALSE)","v":0},"Aucune mémorisation",{"$f":"VLOOKUP(AE56,DEBUTSTEP!$AX$4:$AY$33,2,FALSE)","v":0},"Aucune mémorisation",{"$f":"VLOOKUP(AG56,DEBUTSTEP!$AX$4:$AY$33,2,FALSE)","v":0},"Aucune mémorisation",{"$f":"VLOOKUP(AI56,DEBUTSTEP!$AX$4:$AY$33,2,FALSE)","v":0},"Aucune mémorisation",{"$f":"VLOOKUP(AK56,DEBUTSTEP!$AX$4:$AY$33,2,FALSE)","v":0},"Aucune mémorisation",{"$f":"VLOOKUP(AM56,DEBUTSTEP!$AX$4:$AY$33,2,FALSE)","v":0},"Aucune mémorisation",{"$f":"VLOOKUP(AO56,DEBUTSTEP!$AX$4:$AY$33,2,FALSE)","v":0},"Aucune mémorisation",{"$f":"VLOOKUP(AQ56,DEBUTSTEP!$AX$4:$AY$33,2,FALSE)","v":0},"Aucune mémorisation",{"$f":"VLOOKUP(AS56,DEBUTSTEP!$AX$4:$AY$33,2,FALSE)","v":0},"Aucune mémorisation",{"$f":"VLOOKUP(AU56,DEBUTSTEP!$AX$4:$AY$33,2,FALSE)","v":0},"Aucune mémorisation",{"$f":"VLOOKUP(AW56,DEBUTSTEP!$AX$4:$AY$33,2,FALSE)","v":0},"Aucune mémorisation",{"$f":"VLOOKUP(AY56,DEBUTSTEP!$AX$4:$AY$33,2,FALSE)","v":0},"Aucune mémorisation",{"$f":"VLOOKUP(BA56,DEBUTSTEP!$AX$4:$AY$33,2,FALSE)","v":0},"Aucune mémorisation",{"$f":"VLOOKUP(BC56,DEBUTSTEP!$AX$4:$AY$33,2,FALSE)","v":0},"Aucune mémorisation",{"$f":"VLOOKUP(BE56,DEBUTSTEP!$AX$4:$AY$33,2,FALSE)","v":0},"Aucune mémorisation",{"$f":"VLOOKUP(BG56,DEBUTSTEP!$AX$4:$AY$33,2,FALSE)","v":0},"Aucune mémorisation",{"$f":"VLOOKUP(BI56,DEBUTSTEP!$AX$4:$AY$33,2,FALSE)","v":0},"Aucune mémorisation",{"$f":"VLOOKUP(BK56,DEBUTSTEP!$AX$4:$AY$33,2,FALSE)","v":0},"Aucune mémorisation",{"$f":"VLOOKUP(BM56,DEBUTSTEP!$AX$4:$AY$33,2,FALSE)","v":0},"Aucune mémorisation",{"$f":"VLOOKUP(BO56,DEBUTSTEP!$AX$4:$AY$33,2,FALSE)","v":0},"Aucune mémorisation",{"$f":"VLOOKUP(BQ56,DEBUTSTEP!$AX$4:$AY$33,2,FALSE)","v":0},"Aucune mémorisation",{"$f":"VLOOKUP(BS56,DEBUTSTEP!$AX$4:$AY$33,2,FALSE)","v":0}]
["SEANCE 5",null,"Aucune mémorisation",{"$f":"VLOOKUP(C57,DEBUTSTEP!$AX$4:$AY$33,2,FALSE)","v":0},"Aucune mémorisation",{"$f":"VLOOKUP(E57,DEBUTSTEP!$AX$4:$AY$33,2,FALSE)","v":0},"Aucune mémorisation",{"$f":"VLOOKUP(G57,DEBUTSTEP!$AX$4:$AY$33,2,FALSE)","v":0},"Aucune mémorisation",{"$f":"VLOOKUP(I57,DEBUTSTEP!$AX$4:$AY$33,2,FALSE)","v":0},"Aucune mémorisation",{"$f":"VLOOKUP(K57,DEBUTSTEP!$AX$4:$AY$33,2,FALSE)","v":0},"Aucune mémorisation",{"$f":"VLOOKUP(M57,DEBUTSTEP!$AX$4:$AY$33,2,FALSE)","v":0},"Aucune mémorisation",{"$f":"VLOOKUP(O57,DEBUTSTEP!$AX$4:$AY$33,2,FALSE)","v":0},"Aucune mémorisation",{"$f":"VLOOKUP(Q57,DEBUTSTEP!$AX$4:$AY$33,2,FALSE)","v":0},"Aucune mémorisation",{"$f":"VLOOKUP(S57,DEBUTSTEP!$AX$4:$AY$33,2,FALSE)","v":0},"Aucune mémorisation",{"$f":"VLOOKUP(U57,DEBUTSTEP!$AX$4:$AY$33,2,FALSE)","v":0},"Aucune mémorisation",{"$f":"VLOOKUP(W57,DEBUTSTEP!$AX$4:$AY$33,2,FALSE)","v":0},"Aucune mémorisation",{"$f":"VLOOKUP(Y57,DEBUTSTEP!$AX$4:$AY$33,2,FALSE)","v":0},"Aucune mémorisation",{"$f":"VLOOKUP(AA57,DEBUTSTEP!$AX$4:$AY$33,2,FALSE)","v":0},"Aucune mémorisation",{"$f":"VLOOKUP(AC57,DEBUTSTEP!$AX$4:$AY$33,2,FALSE)","v":0},"Aucune mémorisation",{"$f":"VLOOKUP(AE57,DEBUTSTEP!$AX$4:$AY$33,2,FALSE)","v":0},"Aucune mémorisation",{"$f":"VLOOKUP(AG57,DEBUTSTEP!$AX$4:$AY$33,2,FALSE)","v":0},"Aucune mémorisation",{"$f":"VLOOKUP(AI57,DEBUTSTEP!$AX$4:$AY$33,2,FALSE)","v":0},"Aucune mémorisation",{"$f":"VLOOKUP(AK57,DEBUTSTEP!$AX$4:$AY$33,2,FALSE)","v":0},"Aucune mémorisation",{"$f":"VLOOKUP(AM57,DEBUTSTEP!$AX$4:$AY$33,2,FALSE)","v":0},"Aucune mémorisation",{"$f":"VLOOKUP(AO57,DEBUTSTEP!$AX$4:$AY$33,2,FALSE)","v":0},"Aucune mémorisation",{"$f":"VLOOKUP(AQ57,DEBUTSTEP!$AX$4:$AY$33,2,FALSE)","v":0},"Aucune mémorisation",{"$f":"VLOOKUP(AS57,DEBUTSTEP!$AX$4:$AY$33,2,FALSE)","v":0},"Aucune mémorisation",{"$f":"VLOOKUP(AU57,DEBUTSTEP!$AX$4:$AY$33,2,FALSE)","v":0},"Aucune mémorisation",{"$f":"VLOOKUP(AW57,DEBUTSTEP!$AX$4:$AY$33,2,FALSE)","v":0},"Aucune mémorisation",{"$f":"VLOOKUP(AY57,DEBUTSTEP!$AX$4:$AY$33,2,FALSE)","v":0},"Aucune mémorisation",{"$f":"VLOOKUP(BA57,DEBUTSTEP!$AX$4:$AY$33,2,FALSE)","v":0},"Aucune mémorisation",{"$f":"VLOOKUP(BC57,DEBUTSTEP!$AX$4:$AY$33,2,FALSE)","v":0},"Aucune mémorisation",{"$f":"VLOOKUP(BE57,DEBUTSTEP!$AX$4:$AY$33,2,FALSE)","v":0},"Aucune mémorisation",{"$f":"VLOOKUP(BG57,DEBUTSTEP!$AX$4:$AY$33,2,FALSE)","v":0},"Aucune mémorisation",{"$f":"VLOOKUP(BI57,DEBUTSTEP!$AX$4:$AY$33,2,FALSE)","v":0},"Aucune mémorisation",{"$f":"VLOOKUP(BK57,DEBUTSTEP!$AX$4:$AY$33,2,FALSE)","v":0},"Aucune mémorisation",{"$f":"VLOOKUP(BM57,DEBUTSTEP!$AX$4:$AY$33,2,FALSE)","v":0},"Aucune mémorisation",{"$f":"VLOOKUP(BO57,DEBUTSTEP!$AX$4:$AY$33,2,FALSE)","v":0},"Aucune mémorisation",{"$f":"VLOOKUP(BQ57,DEBUTSTEP!$AX$4:$AY$33,2,FALSE)","v":0},"Aucune mémorisation",{"$f":"VLOOKUP(BS57,DEBUTSTEP!$AX$4:$AY$33,2,FALSE)","v":0}]
["SEANCE 6",null,"Aucune mémorisation",{"$f":"VLOOKUP(C58,DEBUTSTEP!$AX$4:$AY$33,2,FALSE)","v":0},"Aucune mémorisation",{"$f":"VLOOKUP(E58,DEBUTSTEP!$AX$4:$AY$33,2,FALSE)","v":0},"Aucune mémorisation",{"$f":"VLOOKUP(G58,DEBUTSTEP!$AX$4:$AY$33,2,FALSE)","v":0},"Aucune mémorisation",{"$f":"VLOOKUP(I58,DEBUTSTEP!$AX$4:$AY$33,2,FALSE)","v":0},"Aucune mémorisation",{"$f":"VLOOKUP(K58,DEBUTSTEP!$AX$4:$AY$33,2,FALSE)","v":0},"Aucune mémorisation",{"$f":"VLOOKUP(M58,DEBUTSTEP!$AX$4:$AY$33,2,FALSE)","v":0},"Aucune mémorisation",{"$f":"VLOOKUP(O58,DEBUTSTEP!$AX$4:$AY$33,2,FALSE)","v":0},"Aucune mémorisation",{"$f":"VLOOKUP(Q58,DEBUTSTEP!$AX$4:$AY$33,2,FALSE)","v":0},"Aucune mémorisation",{"$f":"VLOOKUP(S58,DEBUTSTEP!$AX$4:$AY$33,2,FALSE)","v":0},"Aucune mémorisation",{"$f":"VLOOKUP(U58,DEBUTSTEP!$AX$4:$AY$33,2,FALSE)","v":0},"Aucune mémorisation",{"$f":"VLOOKUP(W58,DEBUTSTEP!$AX$4:$AY$33,2,FALSE)","v":0},"Aucune mémorisation",{"$f":"VLOOKUP(Y58,DEBUTSTEP!$AX$4:$AY$33,2,FALSE)","v":0},"Aucune mémorisation",{"$f":"VLOOKUP(AA58,DEBUTSTEP!$AX$4:$AY$33,2,FALSE)","v":0},"Aucune mémorisation",{"$f":"VLOOKUP(AC58,DEBUTSTEP!$AX$4:$AY$33,2,FALSE)","v":0},"Aucune mémorisation",{"$f":"VLOOKUP(AE58,DEBUTSTEP!$AX$4:$AY$33,2,FALSE)","v":0},"Aucune mémorisation",{"$f":"VLOOKUP(AG58,DEBUTSTEP!$AX$4:$AY$33,2,FALSE)","v":0},"Aucune mémorisation",{"$f":"VLOOKUP(AI58,DEBUTSTEP!$AX$4:$AY$33,2,FALSE)","v":0},"Aucune mémorisation",{"$f":"VLOOKUP(AK58,DEBUTSTEP!$AX$4:$AY$33,2,FALSE)","v":0},"Aucune mémorisation",{"$f":"VLOOKUP(AM58,DEBUTSTEP!$AX$4:$AY$33,2,FALSE)","v":0},"Aucune mémorisation",{"$f":"VLOOKUP(AO58,DEBUTSTEP!$AX$4:$AY$33,2,FALSE)","v":0},"Aucune mémorisation",{"$f":"VLOOKUP(AQ58,DEBUTSTEP!$AX$4:$AY$33,2,FALSE)","v":0},"Aucune mémorisation",{"$f":"VLOOKUP(AS58,DEBUTSTEP!$AX$4:$AY$33,2,FALSE)","v":0},"Aucune mémorisation",{"$f":"VLOOKUP(AU58,DEBUTSTEP!$AX$4:$AY$33,2,FALSE)","v":0},"Aucune mémorisation",{"$f":"VLOOKUP(AW58,DEBUTSTEP!$AX$4:$AY$33,2,FALSE)","v":0},"Aucune mémorisation",{"$f":"VLOOKUP(AY58,DEBUTSTEP!$AX$4:$AY$33,2,FALSE)","v":0},"Aucune mémorisation",{"$f":"VLOOKUP(BA58,DEBUTSTEP!$AX$4:$AY$33,2,FALSE)","v":0},"Aucune mémorisation",{"$f":"VLOOKUP(BC58,DEBUTSTEP!$AX$4:$AY$33,2,FALSE)","v":0},"Aucune mémorisation",{"$f":"VLOOKUP(BE58,DEBUTSTEP!$AX$4:$AY$33,2,FALSE)","v":0},"Aucune mémorisation",{"$f":"VLOOKUP(BG58,DEBUTSTEP!$AX$4:$AY$33,2,FALSE)","v":0},"Aucune mémorisation",{"$f":"VLOOKUP(BI58,DEBUTSTEP!$AX$4:$AY$33,2,FALSE)","v":0},"Aucune mémorisation",{"$f":"VLOOKUP(BK58,DEBUTSTEP!$AX$4:$AY$33,2,FALSE)","v":0},"Aucune mémorisation",{"$f":"VLOOKUP(BM58,DEBUTSTEP!$AX$4:$AY$33,2,FALSE)","v":0},"Aucune mémorisation",{"$f":"VLOOKUP(BO58,DEBUTSTEP!$AX$4:$AY$33,2,FALSE)","v":0},"Aucune mémorisation",{"$f":"VLOOKUP(BQ58,DEBUTSTEP!$AX$4:$AY$33,2,FALSE)","v":0},"Aucune mémorisation",{"$f":"VLOOKUP(BS58,DEBUTSTEP!$AX$4:$AY$33,2,FALSE)","v":0}]
["SEANCE 7",null,"Aucune mémorisation",{"$f":"VLOOKUP(C59,DEBUTSTEP!$AX$4:$AY$33,2,FALSE)","v":0},"Aucune mémorisation",{"$f":"VLOOKUP(E59,DEBUTSTEP!$AX$4:$AY$33,2,FALSE)","v":0},"Aucune mémorisation",{"$f":"VLOOKUP(G59,DEBUTSTEP!$AX$4:$AY$33,2,FALSE)","v":0},"Aucune mémorisation",{"$f":"VLOOKUP(I59,DEBUTSTEP!$AX$4:$AY$33,2,FALSE)","v":0},"Aucune mémorisation",{"$f":"VLOOKUP(K59,DEBUTSTEP!$AX$4:$AY$33,2,FALSE)","v":0},"Aucune mémorisation",{"$f":"VLOOKUP(M59,DEBUTSTEP!$AX$4:$AY$33,2,FALSE)","v":0},"Aucune mémorisation",{"$f":"VLOOKUP(O59,DEBUTSTEP!$AX$4:$AY$33,2,FALSE)","v":0},"Aucune mémorisation",{"$f":"VLOOKUP(Q59,DEBUTSTEP!$AX$4:$AY$33,2,FALSE)","v":0},"Aucune mémorisation",{"$f":"VLOOKUP(S59,DEBUTSTEP!$AX$4:$AY$33,2,FALSE)","v":0},"Aucune mémorisation",{"$f":"VLOOKUP(U59,DEBUTSTEP!$AX$4:$AY$33,2,FALSE)","v":0},"Aucune mémorisation",{"$f":"VLOOKUP(W59,DEBUTSTEP!$AX$4:$AY$33,2,FALSE)","v":0},"Aucune mémorisation",{"$f":"VLOOKUP(Y59,DEBUTSTEP!$AX$4:$AY$33,2,FALSE)","v":0},"Aucune mémorisation",{"$f":"VLOOKUP(AA59,DEBUTSTEP!$AX$4:$AY$33,2,FALSE)","v":0},"Aucune mémorisation",{"$f":"VLOOKUP(AC59,DEBUTSTEP!$AX$4:$AY$33,2,FALSE)","v":0},"Aucune mémorisation",{"$f":"VLOOKUP(AE59,DEBUTSTEP!$AX$4:$AY$33,2,FALSE)","v":0},"Aucune mémorisation",{"$f":"VLOOKUP(AG59,DEBUTSTEP!$AX$4:$AY$33,2,FALSE)","v":0},"Aucune mémorisation",{"$f":"VLOOKUP(AI59,DEBUTSTEP!$AX$4:$AY$33,2,FALSE)","v":0},"Aucune mémorisation",{"$f":"VLOOKUP(AK59,DEBUTSTEP!$AX$4:$AY$33,2,FALSE)","v":0},"Aucune mémorisation",{"$f":"VLOOKUP(AM59,DEBUTSTEP!$AX$4:$AY$33,2,FALSE)","v":0},"Aucune mémorisation",{"$f":"VLOOKUP(AO59,DEBUTSTEP!$AX$4:$AY$33,2,FALSE)","v":0},"Aucune mémorisation",{"$f":"VLOOKUP(AQ59,DEBUTSTEP!$AX$4:$AY$33,2,FALSE)","v":0},"Aucune mémorisation",{"$f":"VLOOKUP(AS59,DEBUTSTEP!$AX$4:$AY$33,2,FALSE)","v":0},"Aucune mémorisation",{"$f":"VLOOKUP(AU59,DEBUTSTEP!$AX$4:$AY$33,2,FALSE)","v":0},"Aucune mémorisation",{"$f":"VLOOKUP(AW59,DEBUTSTEP!$AX$4:$AY$33,2,FALSE)","v":0},"Aucune mémorisation",{"$f":"VLOOKUP(AY59,DEBUTSTEP!$AX$4:$AY$33,2,FALSE)","v":0},"Aucune mémorisation",{"$f":"VLOOKUP(BA59,DEBUTSTEP!$AX$4:$AY$33,2,FALSE)","v":0},"Aucune mémorisation",{"$f":"VLOOKUP(BC59,DEBUTSTEP!$AX$4:$AY$33,2,FALSE)","v":0},"Aucune mémorisation",{"$f":"VLOOKUP(BE59,DEBUTSTEP!$AX$4:$AY$33,2,FALSE)","v":0},"Aucune mémorisation",{"$f":"VLOOKUP(BG59,DEBUTSTEP!$AX$4:$AY$33,2,FALSE)","v":0},"Aucune mémorisation",{"$f":"VLOOKUP(BI59,DEBUTSTEP!$AX$4:$AY$33,2,FALSE)","v":0},"Aucune mémorisation",{"$f":"VLOOKUP(BK59,DEBUTSTEP!$AX$4:$AY$33,2,FALSE)","v":0},"Aucune mémorisation",{"$f":"VLOOKUP(BM59,DEBUTSTEP!$AX$4:$AY$33,2,FALSE)","v":0},"Aucune mémorisation",{"$f":"VLOOKUP(BO59,DEBUTSTEP!$AX$4:$AY$33,2,FALSE)","v":0},"Aucune mémorisation",{"$f":"VLOOKUP(BQ59,DEBUTSTEP!$AX$4:$AY$33,2,FALSE)","v":0},"Aucune mémorisation",{"$f":"VLOOKUP(BS59,DEBUTSTEP!$AX$4:$AY$33,2,FALSE)","v":0}]
["SEANCE 8",null,"Aucune mémorisation",{"$f":"VLOOKUP(C60,DEBUTSTEP!$AX$4:$AY$33,2,FALSE)","v":0},"Aucune mémorisation",{"$f":"VLOOKUP(E60,DEBUTSTEP!$AX$4:$AY$33,2,FALSE)","v":0},"Aucune mémorisation",{"$f":"VLOOKUP(G60,DEBUTSTEP!$AX$4:$AY$33,2,FALSE)","v":0},"Aucune mémorisation",{"$f":"VLOOKUP(I60,DEBUTSTEP!$AX$4:$AY$33,2,FALSE)","v":0},"Aucune mémorisation",{"$f":"VLOOKUP(K60,DEBUTSTEP!$AX$4:$AY$33,2,FALSE)","v":0},"Aucune mémorisation",{"$f":"VLOOKUP(M60,DEBUTSTEP!$AX$4:$AY$33,2,FALSE)","v":0},"Aucune mémorisation",{"$f":"VLOOKUP(O60,DEBUTSTEP!$AX$4:$AY$33,2,FALSE)","v":0},"Aucune mémorisation",{"$f":"VLOOKUP(Q60,DEBUTSTEP!$AX$4:$AY$33,2,FALSE)","v":0},"Aucune mémorisation",{"$f":"VLOOKUP(S60,DEBUTSTEP!$AX$4:$AY$33,2,FALSE)","v":0},"Aucune mémorisation",{"$f":"VLOOKUP(U60,DEBUTSTEP!$AX$4:$AY$33,2,FALSE)","v":0},"Aucune mémorisation",{"$f":"VLOOKUP(W60,DEBUTSTEP!$AX$4:$AY$33,2,FALSE)","v":0},"Aucune mémorisation",{"$f":"VLOOKUP(Y60,DEBUTSTEP!$AX$4:$AY$33,2,FALSE)","v":0},"Aucune mémorisation",{"$f":"VLOOKUP(AA60,DEBUTSTEP!$AX$4:$AY$33,2,FALSE)","v":0},"Aucune mémorisation",{"$f":"VLOOKUP(AC60,DEBUTSTEP!$AX$4:$AY$33,2,FALSE)","v":0},"Aucune mémorisation",{"$f":"VLOOKUP(AE60,DEBUTSTEP!$AX$4:$AY$33,2,FALSE)","v":0},"Aucune mémorisation",{"$f":"VLOOKUP(AG60,DEBUTSTEP!$AX$4:$AY$33,2,FALSE)","v":0},"Aucune mémorisation",{"$f":"VLOOKUP(AI60,DEBUTSTEP!$AX$4:$AY$33,2,FALSE)","v":0},"Aucune mémorisation",{"$f":"VLOOKUP(AK60,DEBUTSTEP!$AX$4:$AY$33,2,FALSE)","v":0},"Aucune mémorisation",{"$f":"VLOOKUP(AM60,DEBUTSTEP!$AX$4:$AY$33,2,FALSE)","v":0},"Aucune mémorisation",{"$f":"VLOOKUP(AO60,DEBUTSTEP!$AX$4:$AY$33,2,FALSE)","v":0},"Aucune mémorisation",{"$f":"VLOOKUP(AQ60,DEBUTSTEP!$AX$4:$AY$33,2,FALSE)","v":0},"Aucune mémorisation",{"$f":"VLOOKUP(AS60,DEBUTSTEP!$AX$4:$AY$33,2,FALSE)","v":0},"Aucune mémorisation",{"$f":"VLOOKUP(AU60,DEBUTSTEP!$AX$4:$AY$33,2,FALSE)","v":0},"Aucune mémorisation",{"$f":"VLOOKUP(AW60,DEBUTSTEP!$AX$4:$AY$33,2,FALSE)","v":0},"Aucune mémorisation",{"$f":"VLOOKUP(AY60,DEBUTSTEP!$AX$4:$AY$33,2,FALSE)","v":0},"Aucune mémorisation",{"$f":"VLOOKUP(BA60,DEBUTSTEP!$AX$4:$AY$33,2,FALSE)","v":0},"Aucune mémorisation",{"$f":"VLOOKUP(BC60,DEBUTSTEP!$AX$4:$AY$33,2,FALSE)","v":0},"Aucune mémorisation",{"$f":"VLOOKUP(BE60,DEBUTSTEP!$AX$4:$AY$33,2,FALSE)","v":0},"Aucune mémorisation",{"$f":"VLOOKUP(BG60,DEBUTSTEP!$AX$4:$AY$33,2,FALSE)","v":0},"Aucune mémorisation",{"$f":"VLOOKUP(BI60,DEBUTSTEP!$AX$4:$AY$33,2,FALSE)","v":0},"Aucune mémorisation",{"$f":"VLOOKUP(BK60,DEBUTSTEP!$AX$4:$AY$33,2,FALSE)","v":0},"Aucune mémorisation",{"$f":"VLOOKUP(BM60,DEBUTSTEP!$AX$4:$AY$33,2,FALSE)","v":0},"Aucune mémorisation",{"$f":"VLOOKUP(BO60,DEBUTSTEP!$AX$4:$AY$33,2,FALSE)","v":0},"Aucune mémorisation",{"$f":"VLOOKUP(BQ60,DEBUTSTEP!$AX$4:$AY$33,2,FALSE)","v":0},"Aucune mémorisation",{"$f":"VLOOKUP(BS60,DEBUTSTEP!$AX$4:$AY$33,2,FALSE)","v":0}]
["SEANCE 9",null,"Aucune mémorisation",{"$f":"VLOOKUP(C61,DEBUTSTEP!$AX$4:$AY$33,2,FALSE)","v":0},"Aucune mémorisation",{"$f":"VLOOKUP(E61,DEBUTSTEP!$AX$4:$AY$33,2,FALSE)","v":0},"Aucune mémorisation",{"$f":"VLOOKUP(G61,DEBUTSTEP!$AX$4:$AY$33,2,FALSE)","v":0},"Aucune mémorisation",{"$f":"VLOOKUP(I61,DEBUTSTEP!$AX$4:$AY$33,2,FALSE)","v":0},"Aucune mémorisation",{"$f":"VLOOKUP(K61,DEBUTSTEP!$AX$4:$AY$33,2,FALSE)","v":0},"Aucune mémorisation",{"$f":"VLOOKUP(M61,DEBUTSTEP!$AX$4:$AY$33,2,FALSE)","v":0},"Aucune mémorisation",{"$f":"VLOOKUP(O61,DEBUTSTEP!$AX$4:$AY$33,2,FALSE)","v":0},"Aucune mémorisation",{"$f":"VLOOKUP(Q61,DEBUTSTEP!$AX$4:$AY$33,2,FALSE)","v":0},"Aucune mémorisation",{"$f":"VLOOKUP(S61,DEBUTSTEP!$AX$4:$AY$33,2,FALSE)","v":0},"Aucune mémorisation",{"$f":"VLOOKUP(U61,DEBUTSTEP!$AX$4:$AY$33,2,FALSE)","v":0},"Aucune mémorisation",{"$f":"VLOOKUP(W61,DEBUTSTEP!$AX$4:$AY$33,2,FALSE)","v":0},"Aucune mémorisation",{"$f":"VLOOKUP(Y61,DEBUTSTEP!$AX$4:$AY$33,2,FALSE)","v":0},"Aucune mémorisation",{"$f":"VLOOKUP(AA61,DEBUTSTEP!$AX$4:$AY$33,2,FALSE)","v":0},"Aucune mémorisation",{"$f":"VLOOKUP(AC61,DEBUTSTEP!$AX$4:$AY$33,2,FALSE)","v":0},"Aucune mémorisation",{"$f":"VLOOKUP(AE61,DEBUTSTEP!$AX$4:$AY$33,2,FALSE)","v":0},"Aucune mémorisation",{"$f":"VLOOKUP(AG61,DEBUTSTEP!$AX$4:$AY$33,2,FALSE)","v":0},"Aucune mémorisation",{"$f":"VLOOKUP(AI61,DEBUTSTEP!$AX$4:$AY$33,2,FALSE)","v":0},"Aucune mémorisation",{"$f":"VLOOKUP(AK61,DEBUTSTEP!$AX$4:$AY$33,2,FALSE)","v":0},"Aucune mémorisation",{"$f":"VLOOKUP(AM61,DEBUTSTEP!$AX$4:$AY$33,2,FALSE)","v":0},"Aucune mémorisation",{"$f":"VLOOKUP(AO61,DEBUTSTEP!$AX$4:$AY$33,2,FALSE)","v":0},"Aucune mémorisation",{"$f":"VLOOKUP(AQ61,DEBUTSTEP!$AX$4:$AY$33,2,FALSE)","v":0},"Aucune mémorisation",{"$f":"VLOOKUP(AS61,DEBUTSTEP!$AX$4:$AY$33,2,FALSE)","v":0},"Aucune mémorisation",{"$f":"VLOOKUP(AU61,DEBUTSTEP!$AX$4:$AY$33,2,FALSE)","v":0},"Aucune mémorisation",{"$f":"VLOOKUP(AW61,DEBUTSTEP!$AX$4:$AY$33,2,FALSE)","v":0},"Aucune mémorisation",{"$f":"VLOOKUP(AY61,DEBUTSTEP!$AX$4:$AY$33,2,FALSE)","v":0},"Aucune mémorisation",{"$f":"VLOOKUP(BA61,DEBUTSTEP!$AX$4:$AY$33,2,FALSE)","v":0},"Aucune mémorisation",{"$f":"VLOOKUP(BC61,DEBUTSTEP!$AX$4:$AY$33,2,FALSE)","v":0},"Aucune mémorisation",{"$f":"VLOOKUP(BE61,DEBUTSTEP!$AX$4:$AY$33,2,FALSE)","v":0},"Aucune mémorisation",{"$f":"VLOOKUP(BG61,DEBUTSTEP!$AX$4:$AY$33,2,FALSE)","v":0},"Aucune mémorisation",{"$f":"VLOOKUP(BI61,DEBUTSTEP!$AX$4:$AY$33,2,FALSE)","v":0},"Aucune mémorisation",{"$f":"VLOOKUP(BK61,DEBUTSTEP!$AX$4:$AY$33,2,FALSE)","v":0},"Aucune mémorisation",{"$f":"VLOOKUP(BM61,DEBUTSTEP!$AX$4:$AY$33,2,FALSE)","v":0},"Aucune mémorisation",{"$f":"VLOOKUP(BO61,DEBUTSTEP!$AX$4:$AY$33,2,FALSE)","v":0},"Aucune mémorisation",{"$f":"VLOOKUP(BQ61,DEBUTSTEP!$AX$4:$AY$33,2,FALSE)","v":0},"Aucune mémorisation",{"$f":"VLOOKUP(BS61,DEBUTSTEP!$AX$4:$AY$33,2,FALSE)","v":0}]
["SEANCE 10",null,"Aucune mémorisation",{"$f":"VLOOKUP(C62,DEBUTSTEP!$AX$4:$AY$33,2,FALSE)","v":0},"Aucune mémorisation",{"$f":"VLOOKUP(E62,DEBUTSTEP!$AX$4:$AY$33,2,FALSE)","v":0},"Aucune mémorisation",{"$f":"VLOOKUP(G62,DEBUTSTEP!$AX$4:$AY$33,2,FALSE)","v":0},"Aucune mémorisation",{"$f":"VLOOKUP(I62,DEBUTSTEP!$AX$4:$AY$33,2,FALSE)","v":0},"Aucune mémorisation",{"$f":"VLOOKUP(K62,DEBUTSTEP!$AX$4:$AY$33,2,FALSE)","v":0},"Aucune mémorisation",{"$f":"VLOOKUP(M62,DEBUTSTEP!$AX$4:$AY$33,2,FALSE)","v":0},"Aucune mémorisation",{"$f":"VLOOKUP(O62,DEBUTSTEP!$AX$4:$AY$33,2,FALSE)","v":0},"Aucune mémorisation",{"$f":"VLOOKUP(Q62,DEBUTSTEP!$AX$4:$AY$33,2,FALSE)","v":0},"Aucune mémorisation",{"$f":"VLOOKUP(S62,DEBUTSTEP!$AX$4:$AY$33,2,FALSE)","v":0},"Aucune mémorisation",{"$f":"VLOOKUP(U62,DEBUTSTEP!$AX$4:$AY$33,2,FALSE)","v":0},"Aucune mémorisation",{"$f":"VLOOKUP(W62,DEBUTSTEP!$AX$4:$AY$33,2,FALSE)","v":0},"Aucune mémorisation",{"$f":"VLOOKUP(Y62,DEBUTSTEP!$AX$4:$AY$33,2,FALSE)","v":0},"Aucune mémorisation",{"$f":"VLOOKUP(AA62,DEBUTSTEP!$AX$4:$AY$33,2,FALSE)","v":0},"Aucune mémorisation",{"$f":"VLOOKUP(AC62,DEBUTSTEP!$AX$4:$AY$33,2,FALSE)","v":0},"Aucune mémorisation",{"$f":"VLOOKUP(AE62,DEBUTSTEP!$AX$4:$AY$33,2,FALSE)","v":0},"Aucune mémorisation",{"$f":"VLOOKUP(AG62,DEBUTSTEP!$AX$4:$AY$33,2,FALSE)","v":0},"Aucune mémorisation",{"$f":"VLOOKUP(AI62,DEBUTSTEP!$AX$4:$AY$33,2,FALSE)","v":0},"Aucune mémorisation",{"$f":"VLOOKUP(AK62,DEBUTSTEP!$AX$4:$AY$33,2,FALSE)","v":0},"Aucune mémorisation",{"$f":"VLOOKUP(AM62,DEBUTSTEP!$AX$4:$AY$33,2,FALSE)","v":0},"Aucune mémorisation",{"$f":"VLOOKUP(AO62,DEBUTSTEP!$AX$4:$AY$33,2,FALSE)","v":0},"Aucune mémorisation",{"$f":"VLOOKUP(AQ62,DEBUTSTEP!$AX$4:$AY$33,2,FALSE)","v":0},"Aucune mémorisation",{"$f":"VLOOKUP(AS62,DEBUTSTEP!$AX$4:$AY$33,2,FALSE)","v":0},"Aucune mémorisation",{"$f":"VLOOKUP(AU62,DEBUTSTEP!$AX$4:$AY$33,2,FALSE)","v":0},"Aucune mémorisation",{"$f":"VLOOKUP(AW62,DEBUTSTEP!$AX$4:$AY$33,2,FALSE)","v":0},"Aucune mémorisation",{"$f":"VLOOKUP(AY62,DEBUTSTEP!$AX$4:$AY$33,2,FALSE)","v":0},"Aucune mémorisation",{"$f":"VLOOKUP(BA62,DEBUTSTEP!$AX$4:$AY$33,2,FALSE)","v":0},"Aucune mémorisation",{"$f":"VLOOKUP(BC62,DEBUTSTEP!$AX$4:$AY$33,2,FALSE)","v":0},"Aucune mémorisation",{"$f":"VLOOKUP(BE62,DEBUTSTEP!$AX$4:$AY$33,2,FALSE)","v":0},"Aucune mémorisation",{"$f":"VLOOKUP(BG62,DEBUTSTEP!$AX$4:$AY$33,2,FALSE)","v":0},"Aucune mémorisation",{"$f":"VLOOKUP(BI62,DEBUTSTEP!$AX$4:$AY$33,2,FALSE)","v":0},"Aucune mémorisation",{"$f":"VLOOKUP(BK62,DEBUTSTEP!$AX$4:$AY$33,2,FALSE)","v":0},"Aucune mémorisation",{"$f":"VLOOKUP(BM62,DEBUTSTEP!$AX$4:$AY$33,2,FALSE)","v":0},"Aucune mémorisation",{"$f":"VLOOKUP(BO62,DEBUTSTEP!$AX$4:$AY$33,2,FALSE)","v":0},"Aucune mémorisation",{"$f":"VLOOKUP(BQ62,DEBUTSTEP!$AX$4:$AY$33,2,FALSE)","v":0},"Aucune mémorisation",{"$f":"VLOOKUP(BS62,DEBUTSTEP!$AX$4:$AY$33,2,FALSE)","v":0}]
[]
[]
[{"$f":"DEBUTSTEP!$AZ$4","v":"Analyse de sa prestation"}]
["SEANCE 1",null,"Imprécise",{"$f":"VLOOKUP(C66,DEBUTSTEP!$AZ$4:$BA$33,2,FALSE)","v":1},"Imprécise",{"$f":"VLOOKUP(E66,DEBUTSTEP!$AZ$4:$BA$33,2,FALSE)","v":1},"Imprécise",{"$f":"VLOOKUP(G66,DEBUTSTEP!$AZ$4:$BA$33,2,FALSE)","v":1},"Imprécise",{"$f":"VLOOKUP(I66,DEBUTSTEP!$AZ$4:$BA$33,2,FALSE)","v":1},"Imprécise",{"$f":"VLOOKUP(K66,DEBUTSTEP!$AZ$4:$BA$33,2,FALSE)","v":1},"Imprécise",{"$f":"VLOOKUP(M66,DEBUTSTEP!$AZ$4:$BA$33,2,FALSE)","v":1},"Imprécise",{"$f":"VLOOKUP(O66,DEBUTSTEP!$AZ$4:$BA$33,2,FALSE)","v":1},"Imprécise",{"$f":"VLOOKUP(Q66,DEBUTSTEP!$AZ$4:$BA$33,2,FALSE)","v":1},"Imprécise",{"$f":"VLOOKUP(S66,DEBUTSTEP!$AZ$4:$BA$33,2,FALSE)","v":1},"Imprécise",{"$f":"VLOOKUP(U66,DEBUTSTEP!$AZ$4:$BA$33,2,FALSE)","v":1},"Imprécise",{"$f":"VLOOKUP(W66,DEBUTSTEP!$AZ$4:$BA$33,2,FALSE)","v":1},"Imprécise",{"$f":"VLOOKUP(Y66,DEBUTSTEP!$AZ$4:$BA$33,2,FALSE)","v":1},"Imprécise",{"$f":"VLOOKUP(AA66,DEBUTSTEP!$AZ$4:$BA$33,2,FALSE)","v":1},"Imprécise",{"$f":"VLOOKUP(AC66,DEBUTSTEP!$AZ$4:$BA$33,2,FALSE)","v":1},"Imprécise",{"$f":"VLOOKUP(AE66,DEBUTSTEP!$AZ$4:$BA$33,2,FALSE)","v":1},"Imprécise",{"$f":"VLOOKUP(AG66,DEBUTSTEP!$AZ$4:$BA$33,2,FALSE)","v":1},"Imprécise",{"$f":"VLOOKUP(AI66,DEBUTSTEP!$AZ$4:$BA$33,2,FALSE)","v":1},"Imprécise",{"$f":"VLOOKUP(AK66,DEBUTSTEP!$AZ$4:$BA$33,2,FALSE)","v":1},"Imprécise",{"$f":"VLOOKUP(AM66,DEBUTSTEP!$AZ$4:$BA$33,2,FALSE)","v":1},"Imprécise",{"$f":"VLOOKUP(AO66,DEBUTSTEP!$AZ$4:$BA$33,2,FALSE)","v":1},"Imprécise",{"$f":"VLOOKUP(AQ66,DEBUTSTEP!$AZ$4:$BA$33,2,FALSE)","v":1},"Imprécise",{"$f":"VLOOKUP(AS66,DEBUTSTEP!$AZ$4:$BA$33,2,FALSE)","v":1},"Imprécise",{"$f":"VLOOKUP(AU66,DEBUTSTEP!$AZ$4:$BA$33,2,FALSE)","v":1},"Imprécise",{"$f":"VLOOKUP(AW66,DEBUTSTEP!$AZ$4:$BA$33,2,FALSE)","v":1},"Imprécise",{"$f":"VLOOKUP(AY66,DEBUTSTEP!$AZ$4:$BA$33,2,FALSE)","v":1},"Imprécise",{"$f":"VLOOKUP(BA66,DEBUTSTEP!$AZ$4:$BA$33,2,FALSE)","v":1},"Imprécise",{"$f":"VLOOKUP(BC66,DEBUTSTEP!$AZ$4:$BA$33,2,FALSE)","v":1},"Imprécise",{"$f":"VLOOKUP(BE66,DEBUTSTEP!$AZ$4:$BA$33,2,FALSE)","v":1},"Imprécise",{"$f":"VLOOKUP(BG66,DEBUTSTEP!$AZ$4:$BA$33,2,FALSE)","v":1},"Imprécise",{"$f":"VLOOKUP(BI66,DEBUTSTEP!$AZ$4:$BA$33,2,FALSE)","v":1},"Imprécise",{"$f":"VLOOKUP(BK66,DEBUTSTEP!$AZ$4:$BA$33,2,FALSE)","v":1},"Imprécise",{"$f":"VLOOKUP(BM66,DEBUTSTEP!$AZ$4:$BA$33,2,FALSE)","v":1},"Imprécise",{"$f":"VLOOKUP(BO66,DEBUTSTEP!$AZ$4:$BA$33,2,FALSE)","v":1},"Imprécise",{"$f":"VLOOKUP(BQ66,DEBUTSTEP!$AZ$4:$BA$33,2,FALSE)","v":1},"Imprécise",{"$f":"VLOOKUP(BS66,DEBUTSTEP!$AZ$4:$BA$33,2,FALSE)","v":1}]
["SEANCE 2",null,"Aucune",{"$f":"VLOOKUP(C67,DEBUTSTEP!$AZ$4:$BA$33,2,FALSE)","v":0},"Aucune",{"$f":"VLOOKUP(E67,DEBUTSTEP!$AZ$4:$BA$33,2,FALSE)","v":0},"Aucune",{"$f":"VLOOKUP(G67,DEBUTSTEP!$AZ$4:$BA$33,2,FALSE)","v":0},"Aucune",{"$f":"VLOOKUP(I67,DEBUTSTEP!$AZ$4:$BA$33,2,FALSE)","v":0},"Aucune",{"$f":"VLOOKUP(K67,DEBUTSTEP!$AZ$4:$BA$33,2,FALSE)","v":0},"Aucune",{"$f":"VLOOKUP(M67,DEBUTSTEP!$AZ$4:$BA$33,2,FALSE)","v":0},"Aucune",{"$f":"VLOOKUP(O67,DEBUTSTEP!$AZ$4:$BA$33,2,FALSE)","v":0},"Aucune",{"$f":"VLOOKUP(Q67,DEBUTSTEP!$AZ$4:$BA$33,2,FALSE)","v":0},"Aucune",{"$f":"VLOOKUP(S67,DEBUTSTEP!$AZ$4:$BA$33,2,FALSE)","v":0},"Aucune",{"$f":"VLOOKUP(U67,DEBUTSTEP!$AZ$4:$BA$33,2,FALSE)","v":0},"Aucune",{"$f":"VLOOKUP(W67,DEBUTSTEP!$AZ$4:$BA$33,2,FALSE)","v":0},"Aucune",{"$f":"VLOOKUP(Y67,DEBUTSTEP!$AZ$4:$BA$33,2,FALSE)","v":0},"Aucune",{"$f":"VLOOKUP(AA67,DEBUTSTEP!$AZ$4:$BA$33,2,FALSE)","v":0},"Aucune",{"$f":"VLOOKUP(AC67,DEBUTSTEP!$AZ$4:$BA$33,2,FALSE)","v":0},"Aucune",{"$f":"VLOOKUP(AE67,DEBUTSTEP!$AZ$4:$BA$33,2,FALSE)","v":0},"Aucune",{"$f":"VLOOKUP(AG67,DEBUTSTEP!$AZ$4:$BA$33,2,FALSE)","v":0},"Aucune",{"$f":"VLOOKUP(AI67,DEBUTSTEP!$AZ$4:$BA$33,2,FALSE)","v":0},"Aucune",{"$f":"VLOOKUP(AK67,DEBUTSTEP!$AZ$4:$BA$33,2,FALSE)","v":0},"Aucune",{"$f":"VLOOKUP(AM67,DEBUTSTEP!$AZ$4:$BA$33,2,FALSE)","v":0},"Aucune",{"$f":"VLOOKUP(AO67,DEBUTSTEP!$AZ$4:$BA$33,2,FALSE)","v":0},"Aucune",{"$f":"VLOOKUP(AQ67,DEBUTSTEP!$AZ$4:$BA$33,2,FALSE)","v":0},"Aucune",{"$f":"VLOOKUP(AS67,DEBUTSTEP!$AZ$4:$BA$33,2,FALSE)","v":0},"Aucune",{"$f":"VLOOKUP(AU67,DEBUTSTEP!$AZ$4:$BA$33,2,FALSE)","v":0},"Aucune",{"$f":"VLOOKUP(AW67,DEBUTSTEP!$AZ$4:$BA$33,2,FALSE)","v":0},"Aucune",{"$f":"VLOOKUP(AY67,DEBUTSTEP!$AZ$4:$BA$33,2,FALSE)","v":0},"Aucune",{"$f":"VLOOKUP(BA67,DEBUTSTEP!$AZ$4:$BA$33,2,FALSE)","v":0},"Aucune",{"$f":"VLOOKUP(BC67,DEBUTSTEP!$AZ$4:$BA$33,2,FALSE)","v":0},"Aucune",{"$f":"VLOOKUP(BE67,DEBUTSTEP!$AZ$4:$BA$33,2,FALSE)","v":0},"Aucune",{"$f":"VLOOKUP(BG67,DEBUTSTEP!$AZ$4:$BA$33,2,FALSE)","v":0},"Aucune",{"$f":"VLOOKUP(BI67,DEBUTSTEP!$AZ$4:$BA$33,2,FALSE)","v":0},"Aucune",{"$f":"VLOOKUP(BK67,DEBUTSTEP!$AZ$4:$BA$33,2,FALSE)","v":0},"Aucune",{"$f":"VLOOKUP(BM67,DEBUTSTEP!$AZ$4:$BA$33,2,FALSE)","v":0},"Aucune",{"$f":"VLOOKUP(BO67,DEBUTSTEP!$AZ$4:$BA$33,2,FALSE)","v":0},"Aucune",{"$f":"VLOOKUP(BQ67,DEBUTSTEP!$AZ$4:$BA$33,2,FALSE)","v":0},"Aucune",{"$f":"VLOOKUP(BS67,DEBUTSTEP!$AZ$4:$BA$33,2,FALSE)","v":0}]
["SEANCE 3",null,"Bonne ",{"$f":"VLOOKUP(C68,DEBUTSTEP!$AZ$4:$BA$33,2,FALSE)","v":2},"Bonne ",{"$f":"VLOOKUP(E68,DEBUTSTEP!$AZ$4:$BA$33,2,FALSE)","v":2},"Bonne ",{"$f":"VLOOKUP(G68,DEBUTSTEP!$AZ$4:$BA$33,2,FALSE)","v":2},"Bonne ",{"$f":"VLOOKUP(I68,DEBUTSTEP!$AZ$4:$BA$33,2,FALSE)","v":2},"Bonne ",{"$f":"VLOOKUP(K68,DEBUTSTEP!$AZ$4:$BA$33,2,FALSE)","v":2},"Bonne ",{"$f":"VLOOKUP(M68,DEBUTSTEP!$AZ$4:$BA$33,2,FALSE)","v":2},"Bonne ",{"$f":"VLOOKUP(O68,DEBUTSTEP!$AZ$4:$BA$33,2,FALSE)","v":2},"Bonne ",{"$f":"VLOOKUP(Q68,DEBUTSTEP!$AZ$4:$BA$33,2,FALSE)","v":2},"Bonne ",{"$f":"VLOOKUP(S68,DEBUTSTEP!$AZ$4:$BA$33,2,FALSE)","v":2},"Bonne ",{"$f":"VLOOKUP(U68,DEBUTSTEP!$AZ$4:$BA$33,2,FALSE)","v":2},"Bonne ",{"$f":"VLOOKUP(W68,DEBUTSTEP!$AZ$4:$BA$33,2,FALSE)","v":2},"Bonne ",{"$f":"VLOOKUP(Y68,DEBUTSTEP!$AZ$4:$BA$33,2,FALSE)","v":2},"Bonne ",{"$f":"VLOOKUP(AA68,DEBUTSTEP!$AZ$4:$BA$33,2,FALSE)","v":2},"Bonne ",{"$f":"VLOOKUP(AC68,DEBUTSTEP!$AZ$4:$BA$33,2,FALSE)","v":2},"Bonne ",{"$f":"VLOOKUP(AE68,DEBUTSTEP!$AZ$4:$BA$33,2,FALSE)","v":2},"Bonne ",{"$f":"VLOOKUP(AG68,DEBUTSTEP!$AZ$4:$BA$33,2,FALSE)","v":2},"Bonne ",{"$f":"VLOOKUP(AI68,DEBUTSTEP!$AZ$4:$BA$33,2,FALSE)","v":2},"Bonne ",{"$f":"VLOOKUP(AK68,DEBUTSTEP!$AZ$4:$BA$33,2,FALSE)","v":2},"Bonne ",{"$f":"VLOOKUP(AM68,DEBUTSTEP!$AZ$4:$BA$33,2,FALSE)","v":2},"Bonne ",{"$f":"VLOOKUP(AO68,DEBUTSTEP!$AZ$4:$BA$33,2,FALSE)","v":2},"Bonne ",{"$f":"VLOOKUP(AQ68,DEBUTSTEP!$AZ$4:$BA$33,2,FALSE)","v":2},"Bonne ",{"$f":"VLOOKUP(AS68,DEBUTSTEP!$AZ$4:$BA$33,2,FALSE)","v":2},"Bonne ",{"$f":"VLOOKUP(AU68,DEBUTSTEP!$AZ$4:$BA$33,2,FALSE)","v":2},"Bonne ",{"$f":"VLOOKUP(AW68,DEBUTSTEP!$AZ$4:$BA$33,2,FALSE)","v":2},"Bonne ",{"$f":"VLOOKUP(AY68,DEBUTSTEP!$AZ$4:$BA$33,2,FALSE)","v":2},"Bonne ",{"$f":"VLOOKUP(BA68,DEBUTSTEP!$AZ$4:$BA$33,2,FALSE)","v":2},"Bonne ",{"$f":"VLOOKUP(BC68,DEBUTSTEP!$AZ$4:$BA$33,2,FALSE)","v":2},"Bonne ",{"$f":"VLOOKUP(BE68,DEBUTSTEP!$AZ$4:$BA$33,2,FALSE)","v":2},"Bonne ",{"$f":"VLOOKUP(BG68,DEBUTSTEP!$AZ$4:$BA$33,2,FALSE)","v":2},"Bonne ",{"$f":"VLOOKUP(BI68,DEBUTSTEP!$AZ$4:$BA$33,2,FALSE)","v":2},"Bonne ",{"$f":"VLOOKUP(BK68,DEBUTSTEP!$AZ$4:$BA$33,2,FALSE)","v":2},"Bonne ",{"$f":"VLOOKUP(BM68,DEBUTSTEP!$AZ$4:$BA$33,2,FALSE)","v":2},"Bonne ",{"$f":"VLOOKUP(BO68,DEBUTSTEP!$AZ$4:$BA$33,2,FALSE)","v":2},"Bonne ",{"$f":"VLOOKUP(BQ68,DEBUTSTEP!$AZ$4:$BA$33,2,FALSE)","v":2},"Bonne ",{"$f":"VLOOKUP(BS68,DEBUTSTEP!$AZ$4:$BA$33,2,FALSE)","v":2}]
["SEANCE 4",null,"Aucune",{"$f":"VLOOKUP(C69,DEBUTSTEP!$AZ$4:$BA$33,2,FALSE)","v":0},"Aucune",{"$f":"VLOOKUP(E69,DEBUTSTEP!$AZ$4:$BA$33,2,FALSE)","v":0},"Aucune",{"$f":"VLOOKUP(G69,DEBUTSTEP!$AZ$4:$BA$33,2,FALSE)","v":0},"Aucune",{"$f":"VLOOKUP(I69,DEBUTSTEP!$AZ$4:$BA$33,2,FALSE)","v":0},"Aucune",{"$f":"VLOOKUP(K69,DEBUTSTEP!$AZ$4:$BA$33,2,FALSE)","v":0},"Aucune",{"$f":"VLOOKUP(M69,DEBUTSTEP!$AZ$4:$BA$33,2,FALSE)","v":0},"Aucune",{"$f":"VLOOKUP(O69,DEBUTSTEP!$AZ$4:$BA$33,2,FALSE)","v":0},"Aucune",{"$f":"VLOOKUP(Q69,DEBUTSTEP!$AZ$4:$BA$33,2,FALSE)","v":0},"Aucune",{"$f":"VLOOKUP(S69,DEBUTSTEP!$AZ$4:$BA$33,2,FALSE)","v":0},"Aucune",{"$f":"VLOOKUP(U69,DEBUTSTEP!$AZ$4:$BA$33,2,FALSE)","v":0},"Aucune",{"$f":"VLOOKUP(W69,DEBUTSTEP!$AZ$4:$BA$33,2,FALSE)","v":0},"Aucune",{"$f":"VLOOKUP(Y69,DEBUTSTEP!$AZ$4:$BA$33,2,FALSE)","v":0},"Aucune",{"$f":"VLOOKUP(AA69,DEBUTSTEP!$AZ$4:$BA$33,2,FALSE)","v":0},"Aucune",{"$f":"VLOOKUP(AC69,DEBUTSTEP!$AZ$4:$BA$33,2,FALSE)","v":0},"Aucune",{"$f":"VLOOKUP(AE69,DEBUTSTEP!$AZ$4:$BA$33,2,FALSE)","v":0},"Aucune",{"$f":"VLOOKUP(AG69,DEBUTSTEP!$AZ$4:$BA$33,2,FALSE)","v":0},"Aucune",{"$f":"VLOOKUP(AI69,DEBUTSTEP!$AZ$4:$BA$33,2,FALSE)","v":0},"Aucune",{"$f":"VLOOKUP(AK69,DEBUTSTEP!$AZ$4:$BA$33,2,FALSE)","v":0},"Aucune",{"$f":"VLOOKUP(AM69,DEBUTSTEP!$AZ$4:$BA$33,2,FALSE)","v":0},"Aucune",{"$f":"VLOOKUP(AO69,DEBUTSTEP!$AZ$4:$BA$33,2,FALSE)","v":0},"Aucune",{"$f":"VLOOKUP(AQ69,DEBUTSTEP!$AZ$4:$BA$33,2,FALSE)","v":0},"Aucune",{"$f":"VLOOKUP(AS69,DEBUTSTEP!$AZ$4:$BA$33,2,FALSE)","v":0},"Aucune",{"$f":"VLOOKUP(AU69,DEBUTSTEP!$AZ$4:$BA$33,2,FALSE)","v":0},"Aucune",{"$f":"VLOOKUP(AW69,DEBUTSTEP!$AZ$4:$BA$33,2,FALSE)","v":0},"Aucune",{"$f":"VLOOKUP(AY69,DEBUTSTEP!$AZ$4:$BA$33,2,FALSE)","v":0},"Aucune",{"$f":"VLOOKUP(BA69,DEBUTSTEP!$AZ$4:$BA$33,2,FALSE)","v":0},"Aucune",{"$f":"VLOOKUP(BC69,DEBUTSTEP!$AZ$4:$BA$33,2,FALSE)","v":0},"Aucune",{"$f":"VLOOKUP(BE69,DEBUTSTEP!$AZ$4:$BA$33,2,FALSE)","v":0},"Aucune",{"$f":"VLOOKUP(BG69,DEBUTSTEP!$AZ$4:$BA$33,2,FALSE)","v":0},"Aucune",{"$f":"VLOOKUP(BI69,DEBUTSTEP!$AZ$4:$BA$33,2,FALSE)","v":0},"Aucune",{"$f":"VLOOKUP(BK69,DEBUTSTEP!$AZ$4:$BA$33,2,FALSE)","v":0},"Aucune",{"$f":"VLOOKUP(BM69,DEBUTSTEP!$AZ$4:$BA$33,2,FALSE)","v":0},"Aucune",{"$f":"VLOOKUP(BO69,DEBUTSTEP!$AZ$4:$BA$33,2,FALSE)","v":0},"Aucune",{"$f":"VLOOKUP(BQ69,DEBUTSTEP!$AZ$4:$BA$33,2,FALSE)","v":0},"Aucune",{"$f":"VLOOKUP(BS69,DEBUTSTEP!$AZ$4:$BA$33,2,FALSE)","v":0}]
["SEANCE 5",null,"Aucune",{"$f":"VLOOKUP(C70,DEBUTSTEP!$AZ$4:$BA$33,2,FALSE)","v":0},"Aucune",{"$f":"VLOOKUP(E70,DEBUTSTEP!$AZ$4:$BA$33,2,FALSE)","v":0},"Aucune",{"$f":"VLOOKUP(G70,DEBUTSTEP!$AZ$4:$BA$33,2,FALSE)","v":0},"Aucune",{"$f":"VLOOKUP(I70,DEBUTSTEP!$AZ$4:$BA$33,2,FALSE)","v":0},"Aucune",{"$f":"VLOOKUP(K70,DEBUTSTEP!$AZ$4:$BA$33,2,FALSE)","v":0},"Aucune",{"$f":"VLOOKUP(M70,DEBUTSTEP!$AZ$4:$BA$33,2,FALSE)","v":0},"Aucune",{"$f":"VLOOKUP(O70,DEBUTSTEP!$AZ$4:$BA$33,2,FALSE)","v":0},"Aucune",{"$f":"VLOOKUP(Q70,DEBUTSTEP!$AZ$4:$BA$33,2,FALSE)","v":0},"Aucune",{"$f":"VLOOKUP(S70,DEBUTSTEP!$AZ$4:$BA$33,2,FALSE)","v":0},"Aucune",{"$f":"VLOOKUP(U70,DEBUTSTEP!$AZ$4:$BA$33,2,FALSE)","v":0},"Aucune",{"$f":"VLOOKUP(W70,DEBUTSTEP!$AZ$4:$BA$33,2,FALSE)","v":0},"Aucune",{"$f":"VLOOKUP(Y70,DEBUTSTEP!$AZ$4:$BA$33,2,FALSE)","v":0},"Aucune",{"$f":"VLOOKUP(AA70,DEBUTSTEP!$AZ$4:$BA$33,2,FALSE)","v":0},"Aucune",{"$f":"VLOOKUP(AC70,DEBUTSTEP!$AZ$4:$BA$33,2,FALSE)","v":0},"Aucune",{"$f":"VLOOKUP(AE70,DEBUTSTEP!$AZ$4:$BA$33,2,FALSE)","v":0},"Aucune",{"$f":"VLOOKUP(AG70,DEBUTSTEP!$AZ$4:$BA$33,2,FALSE)","v":0},"Aucune",{"$f":"VLOOKUP(AI70,DEBUTSTEP!$AZ$4:$BA$33,2,FALSE)","v":0},"Aucune",{"$f":"VLOOKUP(AK70,DEBUTSTEP!$AZ$4:$BA$33,2,FALSE)","v":0},"Aucune",{"$f":"VLOOKUP(AM70,DEBUTSTEP!$AZ$4:$BA$33,2,FALSE)","v":0},"Aucune",{"$f":"VLOOKUP(AO70,DEBUTSTEP!$AZ$4:$BA$33,2,FALSE)","v":0},"Aucune",{"$f":"VLOOKUP(AQ70,DEBUTSTEP!$AZ$4:$BA$33,2,FALSE)","v":0},"Aucune",{"$f":"VLOOKUP(AS70,DEBUTSTEP!$AZ$4:$BA$33,2,FALSE)","v":0},"Aucune",{"$f":"VLOOKUP(AU70,DEBUTSTEP!$AZ$4:$BA$33,2,FALSE)","v":0},"Aucune",{"$f":"VLOOKUP(AW70,DEBUTSTEP!$AZ$4:$BA$33,2,FALSE)","v":0},"Aucune",{"$f":"VLOOKUP(AY70,DEBUTSTEP!$AZ$4:$BA$33,2,FALSE)","v":0},"Aucune",{"$f":"VLOOKUP(BA70,DEBUTSTEP!$AZ$4:$BA$33,2,FALSE)","v":0},"Aucune",{"$f":"VLOOKUP(BC70,DEBUTSTEP!$AZ$4:$BA$33,2,FALSE)","v":0},"Aucune",{"$f":"VLOOKUP(BE70,DEBUTSTEP!$AZ$4:$BA$33,2,FALSE)","v":0},"Aucune",{"$f":"VLOOKUP(BG70,DEBUTSTEP!$AZ$4:$BA$33,2,FALSE)","v":0},"Aucune",{"$f":"VLOOKUP(BI70,DEBUTSTEP!$AZ$4:$BA$33,2,FALSE)","v":0},"Aucune",{"$f":"VLOOKUP(BK70,DEBUTSTEP!$AZ$4:$BA$33,2,FALSE)","v":0},"Aucune",{"$f":"VLOOKUP(BM70,DEBUTSTEP!$AZ$4:$BA$33,2,FALSE)","v":0},"Aucune",{"$f":"VLOOKUP(BO70,DEBUTSTEP!$AZ$4:$BA$33,2,FALSE)","v":0},"Aucune",{"$f":"VLOOKUP(BQ70,DEBUTSTEP!$AZ$4:$BA$33,2,FALSE)","v":0},"Aucune",{"$f":"VLOOKUP(BS70,DEBUTSTEP!$AZ$4:$BA$33,2,FALSE)","v":0}]
["SEANCE 6",null,"Aucune",{"$f":"VLOOKUP(C71,DEBUTSTEP!$AZ$4:$BA$33,2,FALSE)","v":0},"Aucune",{"$f":"VLOOKUP(E71,DEBUTSTEP!$AZ$4:$BA$33,2,FALSE)","v":0},"Aucune",{"$f":"VLOOKUP(G71,DEBUTSTEP!$AZ$4:$BA$33,2,FALSE)","v":0},"Aucune",{"$f":"VLOOKUP(I71,DEBUTSTEP!$AZ$4:$BA$33,2,FALSE)","v":0},"Aucune",{"$f":"VLOOKUP(K71,DEBUTSTEP!$AZ$4:$BA$33,2,FALSE)","v":0},"Aucune",{"$f":"VLOOKUP(M71,DEBUTSTEP!$AZ$4:$BA$33,2,FALSE)","v":0},"Aucune",{"$f":"VLOOKUP(O71,DEBUTSTEP!$AZ$4:$BA$33,2,FALSE)","v":0},"Aucune",{"$f":"VLOOKUP(Q71,DEBUTSTEP!$AZ$4:$BA$33,2,FALSE)","v":0},"Aucune",{"$f":"VLOOKUP(S71,DEBUTSTEP!$AZ$4:$BA$33,2,FALSE)","v":0},"Aucune",{"$f":"VLOOKUP(U71,DEBUTSTEP!$AZ$4:$BA$33,2,FALSE)","v":0},"Aucune",{"$f":"VLOOKUP(W71,DEBUTSTEP!$AZ$4:$BA$33,2,FALSE)","v":0},"Aucune",{"$f":"VLOOKUP(Y71,DEBUTSTEP!$AZ$4:$BA$33,2,FALSE)","v":0},"Aucune",{"$f":"VLOOKUP(AA71,DEBUTSTEP!$AZ$4:$BA$33,2,FALSE)","v":0},"Aucune",{"$f":"VLOOKUP(AC71,DEBUTSTEP!$AZ$4:$BA$33,2,FALSE)","v":0},"Aucune",{"$f":"VLOOKUP(AE71,DEBUTSTEP!$AZ$4:$BA$33,2,FALSE)","v":0},"Aucune",{"$f":"VLOOKUP(AG71,DEBUTSTEP!$AZ$4:$BA$33,2,FALSE)","v":0},"Aucune",{"$f":"VLOOKUP(AI71,DEBUTSTEP!$AZ$4:$BA$33,2,FALSE)","v":0},"Aucune",{"$f":"VLOOKUP(AK71,DEBUTSTEP!$AZ$4:$BA$33,2,FALSE)","v":0},"Aucune",{"$f":"VLOOKUP(AM71,DEBUTSTEP!$AZ$4:$BA$33,2,FALSE)","v":0},"Aucune",{"$f":"VLOOKUP(AO71,DEBUTSTEP!$AZ$4:$BA$33,2,FALSE)","v":0},"Aucune",{"$f":"VLOOKUP(AQ71,DEBUTSTEP!$AZ$4:$BA$33,2,FALSE)","v":0},"Aucune",{"$f":"VLOOKUP(AS71,DEBUTSTEP!$AZ$4:$BA$33,2,FALSE)","v":0},"Aucune",{"$f":"VLOOKUP(AU71,DEBUTSTEP!$AZ$4:$BA$33,2,FALSE)","v":0},"Aucune",{"$f":"VLOOKUP(AW71,DEBUTSTEP!$AZ$4:$BA$33,2,FALSE)","v":0},"Aucune",{"$f":"VLOOKUP(AY71,DEBUTSTEP!$AZ$4:$BA$33,2,FALSE)","v":0},"Aucune",{"$f":"VLOOKUP(BA71,DEBUTSTEP!$AZ$4:$BA$33,2,FALSE)","v":0},"Aucune",{"$f":"VLOOKUP(BC71,DEBUTSTEP!$AZ$4:$BA$33,2,FALSE)","v":0},"Aucune",{"$f":"VLOOKUP(BE71,DEBUTSTEP!$AZ$4:$BA$33,2,FALSE)","v":0},"Aucune",{"$f":"VLOOKUP(BG71,DEBUTSTEP!$AZ$4:$BA$33,2,FALSE)","v":0},"Aucune",{"$f":"VLOOKUP(BI71,DEBUTSTEP!$AZ$4:$BA$33,2,FALSE)","v":0},"Aucune",{"$f":"VLOOKUP(BK71,DEBUTSTEP!$AZ$4:$BA$33,2,FALSE)","v":0},"Aucune",{"$f":"VLOOKUP(BM71,DEBUTSTEP!$AZ$4:$BA$33,2,FALSE)","v":0},"Aucune",{"$f":"VLOOKUP(BO71,DEBUTSTEP!$AZ$4:$BA$33,2,FALSE)","v":0},"Aucune",{"$f":"VLOOKUP(BQ71,DEBUTSTEP!$AZ$4:$BA$33,2,FALSE)","v":0},"Aucune",{"$f":"VLOOKUP(BS71,DEBUTSTEP!$AZ$4:$BA$33,2,FALSE)","v":0}]
["SEANCE 7",null,"Aucune",{"$f":"VLOOKUP(C72,DEBUTSTEP!$AZ$4:$BA$33,2,FALSE)","v":0},"Aucune",{"$f":"VLOOKUP(E72,DEBUTSTEP!$AZ$4:$BA$33,2,FALSE)","v":0},"Aucune",{"$f":"VLOOKUP(G72,DEBUTSTEP!$AZ$4:$BA$33,2,FALSE)","v":0},"Aucune",{"$f":"VLOOKUP(I72,DEBUTSTEP!$AZ$4:$BA$33,2,FALSE)","v":0},"Aucune",{"$f":"VLOOKUP(K72,DEBUTSTEP!$AZ$4:$BA$33,2,FALSE)","v":0},"Aucune",{"$f":"VLOOKUP(M72,DEBUTSTEP!$AZ$4:$BA$33,2,FALSE)","v":0},"Aucune",{"$f":"VLOOKUP(O72,DEBUTSTEP!$AZ$4:$BA$33,2,FALSE)","v":0},"Aucune",{"$f":"VLOOKUP(Q72,DEBUTSTEP!$AZ$4:$BA$33,2,FALSE)","v":0},"Aucune",{"$f":"VLOOKUP(S72,DEBUTSTEP!$AZ$4:$BA$33,2,FALSE)","v":0},"Aucune",{"$f":"VLOOKUP(U72,DEBUTSTEP!$AZ$4:$BA$33,2,FALSE)","v":0},"Aucune",{"$f":"VLOOKUP(W72,DEBUTSTEP!$AZ$4:$BA$33,2,FALSE)","v":0},"Aucune",{"$f":"VLOOKUP(Y72,DEBUTSTEP!$AZ$4:$BA$33,2,FALSE)","v":0},"Aucune",{"$f":"VLOOKUP(AA72,DEBUTSTEP!$AZ$4:$BA$33,2,FALSE)","v":0},"Aucune",{"$f":"VLOOKUP(AC72,DEBUTSTEP!$AZ$4:$BA$33,2,FALSE)","v":0},"Aucune",{"$f":"VLOOKUP(AE72,DEBUTSTEP!$AZ$4:$BA$33,2,FALSE)","v":0},"Aucune",{"$f":"VLOOKUP(AG72,DEBUTSTEP!$AZ$4:$BA$33,2,FALSE)","v":0},"Aucune",{"$f":"VLOOKUP(AI72,DEBUTSTEP!$AZ$4:$BA$33,2,FALSE)","v":0},"Aucune",{"$f":"VLOOKUP(AK72,DEBUTSTEP!$AZ$4:$BA$33,2,FALSE)","v":0},"Aucune",{"$f":"VLOOKUP(AM72,DEBUTSTEP!$AZ$4:$BA$33,2,FALSE)","v":0},"Aucune",{"$f":"VLOOKUP(AO72,DEBUTSTEP!$AZ$4:$BA$33,2,FALSE)","v":0},"Aucune",{"$f":"VLOOKUP(AQ72,DEBUTSTEP!$AZ$4:$BA$33,2,FALSE)","v":0},"Aucune",{"$f":"VLOOKUP(AS72,DEBUTSTEP!$AZ$4:$BA$33,2,FALSE)","v":0},"Aucune",{"$f":"VLOOKUP(AU72,DEBUTSTEP!$AZ$4:$BA$33,2,FALSE)","v":0},"Aucune",{"$f":"VLOOKUP(AW72,DEBUTSTEP!$AZ$4:$BA$33,2,FALSE)","v":0},"Aucune",{"$f":"VLOOKUP(AY72,DEBUTSTEP!$AZ$4:$BA$33,2,FALSE)","v":0},"Aucune",{"$f":"VLOOKUP(BA72,DEBUTSTEP!$AZ$4:$BA$33,2,FALSE)","v":0},"Aucune",{"$f":"VLOOKUP(BC72,DEBUTSTEP!$AZ$4:$BA$33,2,FALSE)","v":0},"Aucune",{"$f":"VLOOKUP(BE72,DEBUTSTEP!$AZ$4:$BA$33,2,FALSE)","v":0},"Aucune",{"$f":"VLOOKUP(BG72,DEBUTSTEP!$AZ$4:$BA$33,2,FALSE)","v":0},"Aucune",{"$f":"VLOOKUP(BI72,DEBUTSTEP!$AZ$4:$BA$33,2,FALSE)","v":0},"Aucune",{"$f":"VLOOKUP(BK72,DEBUTSTEP!$AZ$4:$BA$33,2,FALSE)","v":0},"Aucune",{"$f":"VLOOKUP(BM72,DEBUTSTEP!$AZ$4:$BA$33,2,FALSE)","v":0},"Aucune",{"$f":"VLOOKUP(BO72,DEBUTSTEP!$AZ$4:$BA$33,2,FALSE)","v":0},"Aucune",{"$f":"VLOOKUP(BQ72,DEBUTSTEP!$AZ$4:$BA$33,2,FALSE)","v":0},"Aucune",{"$f":"VLOOKUP(BS72,DEBUTSTEP!$AZ$4:$BA$33,2,FALSE)","v":0}]
["SEANCE 8",null,"Aucune",{"$f":"VLOOKUP(C73,DEBUTSTEP!$AZ$4:$BA$33,2,FALSE)","v":0},"Aucune",{"$f":"VLOOKUP(E73,DEBUTSTEP!$AZ$4:$BA$33,2,FALSE)","v":0},"Aucune",{"$f":"VLOOKUP(G73,DEBUTSTEP!$AZ$4:$BA$33,2,FALSE)","v":0},"Aucune",{"$f":"VLOOKUP(I73,DEBUTSTEP!$AZ$4:$BA$33,2,FALSE)","v":0},"Aucune",{"$f":"VLOOKUP(K73,DEBUTSTEP!$AZ$4:$BA$33,2,FALSE)","v":0},"Aucune",{"$f":"VLOOKUP(M73,DEBUTSTEP!$AZ$4:$BA$33,2,FALSE)","v":0},"Aucune",{"$f":"VLOOKUP(O73,DEBUTSTEP!$AZ$4:$BA$33,2,FALSE)","v":0},"Aucune",{"$f":"VLOOKUP(Q73,DEBUTSTEP!$AZ$4:$BA$33,2,FALSE)","v":0},"Aucune",{"$f":"VLOOKUP(S73,DEBUTSTEP!$AZ$4:$BA$33,2,FALSE)","v":0},"Aucune",{"$f":"VLOOKUP(U73,DEBUTSTEP!$AZ$4:$BA$33,2,FALSE)","v":0},"Aucune",{"$f":"VLOOKUP(W73,DEBUTSTEP!$AZ$4:$BA$33,2,FALSE)","v":0},"Aucune",{"$f":"VLOOKUP(Y73,DEBUTSTEP!$AZ$4:$BA$33,2,FALSE)","v":0},"Aucune",{"$f":"VLOOKUP(AA73,DEBUTSTEP!$AZ$4:$BA$33,2,FALSE)","v":0},"Aucune",{"$f":"VLOOKUP(AC73,DEBUTSTEP!$AZ$4:$BA$33,2,FALSE)","v":0},"Aucune",{"$f":"VLOOKUP(AE73,DEBUTSTEP!$AZ$4:$BA$33,2,FALSE)","v":0},"Aucune",{"$f":"VLOOKUP(AG73,DEBUTSTEP!$AZ$4:$BA$33,2,FALSE)","v":0},"Aucune",{"$f":"VLOOKUP(AI73,DEBUTSTEP!$AZ$4:$BA$33,2,FALSE)","v":0},"Aucune",{"$f":"VLOOKUP(AK73,DEBUTSTEP!$AZ$4:$BA$33,2,FALSE)","v":0},"Aucune",{"$f":"VLOOKUP(AM73,DEBUTSTEP!$AZ$4:$BA$33,2,FALSE)","v":0},"Aucune",{"$f":"VLOOKUP(AO73,DEBUTSTEP!$AZ$4:$BA$33,2,FALSE)","v":0},"Aucune",{"$f":"VLOOKUP(AQ73,DEBUTSTEP!$AZ$4:$BA$33,2,FALSE)","v":0},"Aucune",{"$f":"VLOOKUP(AS73,DEBUTSTEP!$AZ$4:$BA$33,2,FALSE)","v":0},"Aucune",{"$f":"VLOOKUP(AU73,DEBUTSTEP!$AZ$4:$BA$33,2,FALSE)","v":0},"Aucune",{"$f":"VLOOKUP(AW73,DEBUTSTEP!$AZ$4:$BA$33,2,FALSE)","v":0},"Aucune",{"$f":"VLOOKUP(AY73,DEBUTSTEP!$AZ$4:$BA$33,2,FALSE)","v":0},"Aucune",{"$f":"VLOOKUP(BA73,DEBUTSTEP!$AZ$4:$BA$33,2,FALSE)","v":0},"Aucune",{"$f":"VLOOKUP(BC73,DEBUTSTEP!$AZ$4:$BA$33,2,FALSE)","v":0},"Aucune",{"$f":"VLOOKUP(BE73,DEBUTSTEP!$AZ$4:$BA$33,2,FALSE)","v":0},"Aucune",{"$f":"VLOOKUP(BG73,DEBUTSTEP!$AZ$4:$BA$33,2,FALSE)","v":0},"Aucune",{"$f":"VLOOKUP(BI73,DEBUTSTEP!$AZ$4:$BA$33,2,FALSE)","v":0},"Aucune",{"$f":"VLOOKUP(BK73,DEBUTSTEP!$AZ$4:$BA$33,2,FALSE)","v":0},"Aucune",{"$f":"VLOOKUP(BM73,DEBUTSTEP!$AZ$4:$BA$33,2,FALSE)","v":0},"Aucune",{"$f":"VLOOKUP(BO73,DEBUTSTEP!$AZ$4:$BA$33,2,FALSE)","v":0},"Aucune",{"$f":"VLOOKUP(BQ73,DEBUTSTEP!$AZ$4:$BA$33,2,FALSE)","v":0},"Aucune",{"$f":"VLOOKUP(BS73,DEBUTSTEP!$AZ$4:$BA$33,2,FALSE)","v":0}]
["SEANCE 9",null,"Aucune",{"$f":"VLOOKUP(C74,DEBUTSTEP!$AZ$4:$BA$33,2,FALSE)","v":0},"Aucune",{"$f":"VLOOKUP(E74,DEBUTSTEP!$AZ$4:$BA$33,2,FALSE)","v":0},"Aucune",{"$f":"VLOOKUP(G74,DEBUTSTEP!$AZ$4:$BA$33,2,FALSE)","v":0},"Aucune",{"$f":"VLOOKUP(I74,DEBUTSTEP!$AZ$4:$BA$33,2,FALSE)","v":0},"Aucune",{"$f":"VLOOKUP(K74,DEBUTSTEP!$AZ$4:$BA$33,2,FALSE)","v":0},"Aucune",{"$f":"VLOOKUP(M74,DEBUTSTEP!$AZ$4:$BA$33,2,FALSE)","v":0},"Aucune",{"$f":"VLOOKUP(O74,DEBUTSTEP!$AZ$4:$BA$33,2,FALSE)","v":0},"Aucune",{"$f":"VLOOKUP(Q74,DEBUTSTEP!$AZ$4:$BA$33,2,FALSE)","v":0},"Aucune",{"$f":"VLOOKUP(S74,DEBUTSTEP!$AZ$4:$BA$33,2,FALSE)","v":0},"Aucune",{"$f":"VLOOKUP(U74,DEBUTSTEP!$AZ$4:$BA$33,2,FALSE)","v":0},"Aucune",{"$f":"VLOOKUP(W74,DEBUTSTEP!$AZ$4:$BA$33,2,FALSE)","v":0},"Aucune",{"$f":"VLOOKUP(Y74,DEBUTSTEP!$AZ$4:$BA$33,2,FALSE)","v":0},"Aucune",{"$f":"VLOOKUP(AA74,DEBUTSTEP!$AZ$4:$BA$33,2,FALSE)","v":0},"Aucune",{"$f":"VLOOKUP(AC74,DEBUTSTEP!$AZ$4:$BA$33,2,FALSE)","v":0},"Aucune",{"$f":"VLOOKUP(AE74,DEBUTSTEP!$AZ$4:$BA$33,2,FALSE)","v":0},"Aucune",{"$f":"VLOOKUP(AG74,DEBUTSTEP!$AZ$4:$BA$33,2,FALSE)","v":0},"Aucune",{"$f":"VLOOKUP(AI74,DEBUTSTEP!$AZ$4:$BA$33,2,FALSE)","v":0},"Aucune",{"$f":"VLOOKUP(AK74,DEBUTSTEP!$AZ$4:$BA$33,2,FALSE)","v":0},"Aucune",{"$f":"VLOOKUP(AM74,DEBUTSTEP!$AZ$4:$BA$33,2,FALSE)","v":0},"Aucune",{"$f":"VLOOKUP(AO74,DEBUTSTEP!$AZ$4:$BA$33,2,FALSE)","v":0},"Aucune",{"$f":"VLOOKUP(AQ74,DEBUTSTEP!$AZ$4:$BA$33,2,FALSE)","v":0},"Aucune",{"$f":"VLOOKUP(AS74,DEBUTSTEP!$AZ$4:$BA$33,2,FALSE)","v":0},"Aucune",{"$f":"VLOOKUP(AU74,DEBUTSTEP!$AZ$4:$BA$33,2,FALSE)","v":0},"Aucune",{"$f":"VLOOKUP(AW74,DEBUTSTEP!$AZ$4:$BA$33,2,FALSE)","v":0},"Aucune",{"$f":"VLOOKUP(AY74,DEBUTSTEP!$AZ$4:$BA$33,2,FALSE)","v":0},"Aucune",{"$f":"VLOOKUP(BA74,DEBUTSTEP!$AZ$4:$BA$33,2,FALSE)","v":0},"Aucune",{"$f":"VLOOKUP(BC74,DEBUTSTEP!$AZ$4:$BA$33,2,FALSE)","v":0},"Aucune",{"$f":"VLOOKUP(BE74,DEBUTSTEP!$AZ$4:$BA$33,2,FALSE)","v":0},"Aucune",{"$f":"VLOOKUP(BG74,DEBUTSTEP!$AZ$4:$BA$33,2,FALSE)","v":0},"Aucune",{"$f":"VLOOKUP(BI74,DEBUTSTEP!$AZ$4:$BA$33,2,FALSE)","v":0},"Aucune",{"$f":"VLOOKUP(BK74,DEBUTSTEP!$AZ$4:$BA$33,2,FALSE)","v":0},"Aucune",{"$f":"VLOOKUP(BM74,DEBUTSTEP!$AZ$4:$BA$33,2,FALSE)","v":0},"Aucune",{"$f":"VLOOKUP(BO74,DEBUTSTEP!$AZ$4:$BA$33,2,FALSE)","v":0},"Aucune",{"$f":"VLOOKUP(BQ74,DEBUTSTEP!$AZ$4:$BA$33,2,FALSE)","v":0},"Aucune",{"$f":"VLOOKUP(BS74,DEBUTSTEP!$AZ$4:$BA$33,2,FALSE)","v":0}]
["SEANCE 10",null,"Aucune",{"$f":"VLOOKUP(C75,DEBUTSTEP!$AZ$4:$BA$33,2,FALSE)","v":0},"Aucune",{"$f":"VLOOKUP(E75,DEBUTSTEP!$AZ$4:$BA$33,2,FALSE)","v":0},"Aucune",{"$f":"VLOOKUP(G75,DEBUTSTEP!$AZ$4:$BA$33,2,FALSE)","v":0},"Aucune",{"$f":"VLOOKUP(I75,DEBUTSTEP!$AZ$4:$BA$33,2,FALSE)","v":0},"Aucune",{"$f":"VLOOKUP(K75,DEBUTSTEP!$AZ$4:$BA$33,2,FALSE)","v":0},"Aucune",{"$f":"VLOOKUP(M75,DEBUTSTEP!$AZ$4:$BA$33,2,FALSE)","v":0},"Aucune",{"$f":"VLOOKUP(O75,DEBUTSTEP!$AZ$4:$BA$33,2,FALSE)","v":0},"Aucune",{"$f":"VLOOKUP(Q75,DEBUTSTEP!$AZ$4:$BA$33,2,FALSE)","v":0},"Aucune",{"$f":"VLOOKUP(S75,DEBUTSTEP!$AZ$4:$BA$33,2,FALSE)","v":0},"Aucune",{"$f":"VLOOKUP(U75,DEBUTSTEP!$AZ$4:$BA$33,2,FALSE)","v":0},"Aucune",{"$f":"VLOOKUP(W75,DEBUTSTEP!$AZ$4:$BA$33,2,FALSE)","v":0},"Aucune",{"$f":"VLOOKUP(Y75,DEBUTSTEP!$AZ$4:$BA$33,2,FALSE)","v":0},"Aucune",{"$f":"VLOOKUP(AA75,DEBUTSTEP!$AZ$4:$BA$33,2,FALSE)","v":0},"Aucune",{"$f":"VLOOKUP(AC75,DEBUTSTEP!$AZ$4:$BA$33,2,FALSE)","v":0},"Aucune",{"$f":"VLOOKUP(AE75,DEBUTSTEP!$AZ$4:$BA$33,2,FALSE)","v":0},"Aucune",{"$f":"VLOOKUP(AG75,DEBUTSTEP!$AZ$4:$BA$33,2,FALSE)","v":0},"Aucune",{"$f":"VLOOKUP(AI75,DEBUTSTEP!$AZ$4:$BA$33,2,FALSE)","v":0},"Aucune",{"$f":"VLOOKUP(AK75,DEBUTSTEP!$AZ$4:$BA$33,2,FALSE)","v":0},"Aucune",{"$f":"VLOOKUP(AM75,DEBUTSTEP!$AZ$4:$BA$33,2,FALSE)","v":0},"Aucune",{"$f":"VLOOKUP(AO75,DEBUTSTEP!$AZ$4:$BA$33,2,FALSE)","v":0},"Aucune",{"$f":"VLOOKUP(AQ75,DEBUTSTEP!$AZ$4:$BA$33,2,FALSE)","v":0},"Aucune",{"$f":"VLOOKUP(AS75,DEBUTSTEP!$AZ$4:$BA$33,2,FALSE)","v":0},"Aucune",{"$f":"VLOOKUP(AU75,DEBUTSTEP!$AZ$4:$BA$33,2,FALSE)","v":0},"Aucune",{"$f":"VLOOKUP(AW75,DEBUTSTEP!$AZ$4:$BA$33,2,FALSE)","v":0},"Aucune",{"$f":"VLOOKUP(AY75,DEBUTSTEP!$AZ$4:$BA$33,2,FALSE)","v":0},"Aucune",{"$f":"VLOOKUP(BA75,DEBUTSTEP!$AZ$4:$BA$33,2,FALSE)","v":0},"Aucune",{"$f":"VLOOKUP(BC75,DEBUTSTEP!$AZ$4:$BA$33,2,FALSE)","v":0},"Aucune",{"$f":"VLOOKUP(BE75,DEBUTSTEP!$AZ$4:$BA$33,2,FALSE)","v":0},"Aucune",{"$f":"VLOOKUP(BG75,DEBUTSTEP!$AZ$4:$BA$33,2,FALSE)","v":0},"Aucune",{"$f":"VLOOKUP(BI75,DEBUTSTEP!$AZ$4:$BA$33,2,FALSE)","v":0},"Aucune",{"$f":"VLOOKUP(BK75,DEBUTSTEP!$AZ$4:$BA$33,2,FALSE)","v":0},"Aucune",{"$f":"VLOOKUP(BM75,DEBUTSTEP!$AZ$4:$BA$33,2,FALSE)","v":0},"Aucune",{"$f":"VLOOKUP(BO75,DEBUTSTEP!$AZ$4:$BA$33,2,FALSE)","v":0},"Aucune",{"$f":"VLOOKUP(BQ75,DEBUTSTEP!$AZ$4:$BA$33,2,FALSE)","v":0},"Aucune",{"$f":"VLOOKUP(BS75,DEBUTSTEP!$AZ$4:$BA$33,2,FALSE)","v":0}]
[]
["NOTES"]
["SEANCE 1",null,{"$f":"IF(OR(D5=\"x\",D17=\"x\",D29=\"x\",D41=\"x\",D53=\"x\",D66=\"x\"),\"ABSENT\",SUMIF(D5,\"<>X\")+SUMIF(D17,\"<>X\")+SUMIF(D29,\"<>X\")+SUMIF(D41,\"<>X\")+SUMIF(D53,\"<>X\")+SUMIF(D66,\"<>X\"))","v":{"$error":"#N/A"}},null,{"$f":"IF(OR(F5=\"x\",F17=\"x\",F29=\"x\",F41=\"x\",F53=\"x\",F66=\"x\"),\"ABSENT\",SUMIF(F5,\"<>X\")+SUMIF(F17,\"<>X\")+SUMIF(F29,\"<>X\")+SUMIF(F41,\"<>X\")+SUMIF(F53,\"<>X\")+SUMIF(F66,\"<>X\"))","v":{"$error":"#N/A"}},null,{"$f":"IF(OR(H5=\"x\",H17=\"x\",H29=\"x\",H41=\"x\",H53=\"x\",H66=\"x\"),\"ABSENT\",SUMIF(H5,\"<>X\")+SUMIF(H17,\"<>X\")+SUMIF(H29,\"<>X\")+SUMIF(H41,\"<>X\")+SUMIF(H53,\"<>X\")+SUMIF(H66,\"<>X\"))","v":{"$error":"#N/A"}},null,{"$f":"IF(OR(J5=\"x\",J17=\"x\",J29=\"x\",J41=\"x\",J53=\"x\",J66=\"x\"),\"ABSENT\",SUMIF(J5,\"<>X\")+SUMIF(J17,\"<>X\")+SUMIF(J29,\"<>X\")+SUMIF(J41,\"<>X\")+SUMIF(J53,\"<>X\")+SUMIF(J66,\"<>X\"))","v":"ABSENT"},null,{"$f":"IF(OR(L5=\"x\",L17=\"x\",L29=\"x\",L41=\"x\",L53=\"x\",L66=\"x\"),\"ABSENT\",SUMIF(L5,\"<>X\")+SUMIF(L17,\"<>X\")+SUMIF(L29,\"<>X\")+SUMIF(L41,\"<>X\")+SUMIF(L53,\"<>X\")+SUMIF(L66,\"<>X\"))","v":"ABSENT"},null,{"$f":"IF(OR(N5=\"x\",N17=\"x\",N29=\"x\",N41=\"x\",N53=\"x\",N66=\"x\"),\"ABSENT\",SUMIF(N5,\"<>X\")+SUMIF(N17,\"<>X\")+SUMIF(N29,\"<>X\")+SUMIF(N41,\"<>X\")+SUMIF(N53,\"<>X\")+SUMIF(N66,\"<>X\"))","v":"ABSENT"},null,{"$f":"IF(OR(P5=\"x\",P17=\"x\",P29=\"x\",P41=\"x\",P53=\"x\",P66=\"x\"),\"ABSENT\",SUMIF(P5,\"<>X\")+SUMIF(P17,\"<>X\")+SUMIF(P29,\"<>X\")+SUMIF(P41,\"<>X\")+SUMIF(P53,\"<>X\")+SUMIF(P66,\"<>X\"))","v":"ABSENT"},null,{"$f":"IF(OR(R5=\"x\",R17=\"x\",R29=\"x\",R41=\"x\",R53=\"x\",R66=\"x\"),\"ABSENT\",SUMIF(R5,\"<>X\")+SUMIF(R17,\"<>X\")+SUMIF(R29,\"<>X\")+SUMIF(R41,\"<>X\")+SUMIF(R53,\"<>X\")+SUMIF(R66,\"<>X\"))","v":"ABSENT"},null,{"$f":"IF(OR(T5=\"x\",T17=\"x\",T29=\"x\",T41=\"x\",T53=\"x\",T66=\"x\"),\"ABSENT\",SUMIF(T5,\"<>X\")+SUMIF(T17,\"<>X\")+SUMIF(T29,\"<>X\")+SUMIF(T41,\"<>X\")+SUMIF(T53,\"<>X\")+SUMIF(T66,\"<>X\"))","v":"ABSENT"},null,{"$f":"IF(OR(V5=\"x\",V17=\"x\",V29=\"x\",V41=\"x\",V53=\"x\",V66=\"x\"),\"ABSENT\",SUMIF(V5,\"<>X\")+SUMIF(V17,\"<>X\")+SUMIF(V29,\"<>X\")+SUMIF(V41,\"<>X\")+SUMIF(V53,\"<>X\")+SUMIF(V66,\"<>X\"))","v":"ABSENT"},null,{"$f":"IF(OR(X5=\"x\",X17=\"x\",X29=\"x\",X41=\"x\",X53=\"x\",X66=\"x\"),\"ABSENT\",SUMIF(X5,\"<>X\")+SUMIF(X17,\"<>X\")+SUMIF(X29,\"<>X\")+SUMIF(X41,\"<>X\")+SUMIF(X53,\"<>X\")+SUMIF(X66,\"<>X\"))","v":"ABSENT"},null,{"$f":"IF(OR(Z5=\"x\",Z17=\"x\",Z29=\"x\",Z41=\"x\",Z53=\"x\",Z66=\"x\"),\"ABSENT\",SUMIF(Z5,\"<>X\")+SUMIF(Z17,\"<>X\")+SUMIF(Z29,\"<>X\")+SUMIF(Z41,\"<>X\")+SUMIF(Z53,\"<>X\")+SUMIF(Z66,\"<>X\"))","v":"ABSENT"},null,{"$f":"IF(OR(AB5=\"x\",AB17=\"x\",AB29=\"x\",AB41=\"x\",AB53=\"x\",AB66=\"x\"),\"ABSENT\",SUMIF(AB5,\"<>X\")+SUMIF(AB17,\"<>X\")+SUMIF(AB29,\"<>X\")+SUMIF(AB41,\"<>X\")+SUMIF(AB53,\"<>X\")+SUMIF(AB66,\"<>X\"))","v":"ABSENT"},null,{"$f":"IF(OR(AD5=\"x\",AD17=\"x\",AD29=\"x\",AD41=\"x\",AD53=\"x\",AD66=\"x\"),\"ABSENT\",SUMIF(AD5,\"<>X\")+SUMIF(AD17,\"<>X\")+SUMIF(AD29,\"<>X\")+SUMIF(AD41,\"<>X\")+SUMIF(AD53,\"<>X\")+SUMIF(AD66,\"<>X\"))","v":"ABSENT"},null,{"$f":"IF(OR(AF5=\"x\",AF17=\"x\",AF29=\"x\",AF41=\"x\",AF53=\"x\",AF66=\"x\"),\"ABSENT\",SUMIF(AF5,\"<>X\")+SUMIF(AF17,\"<>X\")+SUMIF(AF29,\"<>X\")+SUMIF(AF41,\"<>X\")+SUMIF(AF53,\"<>X\")+SUMIF(AF66,\"<>X\"))","v":"ABSENT"},null,{"$f":"IF(OR(AH5=\"x\",AH17=\"x\",AH29=\"x\",AH41=\"x\",AH53=\"x\",AH66=\"x\"),\"ABSENT\",SUMIF(AH5,\"<>X\")+SUMIF(AH17,\"<>X\")+SUMIF(AH29,\"<>X\")+SUMIF(AH41,\"<>X\")+SUMIF(AH53,\"<>X\")+SUMIF(AH66,\"<>X\"))","v":"ABSENT"},null,{"$f":"IF(OR(AJ5=\"x\",AJ17=\"x\",AJ29=\"x\",AJ41=\"x\",AJ53=\"x\",AJ66=\"x\"),\"ABSENT\",SUMIF(AJ5,\"<>X\")+SUMIF(AJ17,\"<>X\")+SUMIF(AJ29,\"<>X\")+SUMIF(AJ41,\"<>X\")+SUMIF(AJ53,\"<>X\")+SUMIF(AJ66,\"<>X\"))","v":"ABSENT"},null,{"$f":"IF(OR(AL5=\"x\",AL17=\"x\",AL29=\"x\",AL41=\"x\",AL53=\"x\",AL66=\"x\"),\"ABSENT\",SUMIF(AL5,\"<>X\")+SUMIF(AL17,\"<>X\")+SUMIF(AL29,\"<>X\")+SUMIF(AL41,\"<>X\")+SUMIF(AL53,\"<>X\")+SUMIF(AL66,\"<>X\"))","v":"ABSENT"},null,{"$f":"IF(OR(AN5=\"x\",AN17=\"x\",AN29=\"x\",AN41=\"x\",AN53=\"x\",AN66=\"x\"),\"ABSENT\",SUMIF(AN5,\"<>X\")+SUMIF(AN17,\"<>X\")+SUMIF(AN29,\"<>X\")+SUMIF(AN41,\"<>X\")+SUMIF(AN53,\"<>X\")+SUMIF(AN66,\"<>X\"))","v":"ABSENT"},null,{"$f":"IF(OR(AP5=\"x\",AP17=\"x\",AP29=\"x\",AP41=\"x\",AP53=\"x\",AP66=\"x\"),\"ABSENT\",SUMIF(AP5,\"<>X\")+SUMIF(AP17,\"<>X\")+SUMIF(AP29,\"<>X\")+SUMIF(AP41,\"<>X\")+SUMIF(AP53,\"<>X\")+SUMIF(AP66,\"<>X\"))","v":"ABSENT"},null,{"$f":"IF(OR(AR5=\"x\",AR17=\"x\",AR29=\"x\",AR41=\"x\",AR53=\"x\",AR66=\"x\"),\"ABSENT\",SUMIF(AR5,\"<>X\")+SUMIF(AR17,\"<>X\")+SUMIF(AR29,\"<>X\")+SUMIF(AR41,\"<>X\")+SUMIF(AR53,\"<>X\")+SUMIF(AR66,\"<>X\"))","v":"ABSENT"},null,{"$f":"IF(OR(AT5=\"x\",AT17=\"x\",AT29=\"x\",AT41=\"x\",AT53=\"x\",AT66=\"x\"),\"ABSENT\",SUMIF(AT5,\"<>X\")+SUMIF(AT17,\"<>X\")+SUMIF(AT29,\"<>X\")+SUMIF(AT41,\"<>X\")+SUMIF(AT53,\"<>X\")+SUMIF(AT66,\"<>X\"))","v":"ABSENT"},null,{"$f":"IF(OR(AV5=\"x\",AV17=\"x\",AV29=\"x\",AV41=\"x\",AV53=\"x\",AV66=\"x\"),\"ABSENT\",SUMIF(AV5,\"<>X\")+SUMIF(AV17,\"<>X\")+SUMIF(AV29,\"<>X\")+SUMIF(AV41,\"<>X\")+SUMIF(AV53,\"<>X\")+SUMIF(AV66,\"<>X\"))","v":"ABSENT"},null,{"$f":"IF(OR(AX5=\"x\",AX17=\"x\",AX29=\"x\",AX41=\"x\",AX53=\"x\",AX66=\"x\"),\"ABSENT\",SUMIF(AX5,\"<>X\")+SUMIF(AX17,\"<>X\")+SUMIF(AX29,\"<>X\")+SUMIF(AX41,\"<>X\")+SUMIF(AX53,\"<>X\")+SUMIF(AX66,\"<>X\"))","v":"ABSENT"},null,{"$f":"IF(OR(AZ5=\"x\",AZ17=\"x\",AZ29=\"x\",AZ41=\"x\",AZ53=\"x\",AZ66=\"x\"),\"ABSENT\",SUMIF(AZ5,\"<>X\")+SUMIF(AZ17,\"<>X\")+SUMIF(AZ29,\"<>X\")+SUMIF(AZ41,\"<>X\")+SUMIF(AZ53,\"<>X\")+SUMIF(AZ66,\"<>X\"))","v":"ABSENT"},null,{"$f":"IF(OR(BB5=\"x\",BB17=\"x\",BB29=\"x\",BB41=\"x\",BB53=\"x\",BB66=\"x\"),\"ABSENT\",SUMIF(BB5,\"<>X\")+SUMIF(BB17,\"<>X\")+SUMIF(BB29,\"<>X\")+SUMIF(BB41,\"<>X\")+SUMIF(BB53,\"<>X\")+SUMIF(BB66,\"<>X\"))","v":"ABSENT"},null,{"$f":"IF(OR(BD5=\"x\",BD17=\"x\",BD29=\"x\",BD41=\"x\",BD53=\"x\",BD66=\"x\"),\"ABSENT\",SUMIF(BD5,\"<>X\")+SUMIF(BD17,\"<>X\")+SUMIF(BD29,\"<>X\")+SUMIF(BD41,\"<>X\")+SUMIF(BD53,\"<>X\")+SUMIF(BD66,\"<>X\"))","v":"ABSENT"},null,{"$f":"IF(OR(BF5=\"x\",BF17=\"x\",BF29=\"x\",BF41=\"x\",BF53=\"x\",BF66=\"x\"),\"ABSENT\",SUMIF(BF5,\"<>X\")+SUMIF(BF17,\"<>X\")+SUMIF(BF29,\"<>X\")+SUMIF(BF41,\"<>X\")+SUMIF(BF53,\"<>X\")+SUMIF(BF66,\"<>X\"))","v":"ABSENT"},null,{"$f":"IF(OR(BH5=\"x\",BH17=\"x\",BH29=\"x\",BH41=\"x\",BH53=\"x\",BH66=\"x\"),\"ABSENT\",SUMIF(BH5,\"<>X\")+SUMIF(BH17,\"<>X\")+SUMIF(BH29,\"<>X\")+SUMIF(BH41,\"<>X\")+SUMIF(BH53,\"<>X\")+SUMIF(BH66,\"<>X\"))","v":"ABSENT"},null,{"$f":"IF(OR(BJ5=\"x\",BJ17=\"x\",BJ29=\"x\",BJ41=\"x\",BJ53=\"x\",BJ66=\"x\"),\"ABSENT\",SUMIF(BJ5,\"<>X\")+SUMIF(BJ17,\"<>X\")+SUMIF(BJ29,\"<>X\")+SUMIF(BJ41,\"<>X\")+SUMIF(BJ53,\"<>X\")+SUMIF(BJ66,\"<>X\"))","v":"ABSENT"},null,{"$f":"IF(OR(BL5=\"x\",BL17=\"x\",BL29=\"x\",BL41=\"x\",BL53=\"x\",BL66=\"x\"),\"ABSENT\",SUMIF(BL5,\"<>X\")+SUMIF(BL17,\"<>X\")+SUMIF(BL29,\"<>X\")+SUMIF(BL41,\"<>X\")+SUMIF(BL53,\"<>X\")+SUMIF(BL66,\"<>X\"))","v":"ABSENT"},null,{"$f":"IF(OR(BN5=\"x\",BN17=\"x\",BN29=\"x\",BN41=\"x\",BN53=\"x\",BN66=\"x\"),\"ABSENT\",SUMIF(BN5,\"<>X\")+SUMIF(BN17,\"<>X\")+SUMIF(BN29,\"<>X\")+SUMIF(BN41,\"<>X\")+SUMIF(BN53,\"<>X\")+SUMIF(BN66,\"<>X\"))","v":"ABSENT"},null,{"$f":"IF(OR(BP5=\"x\",BP17=\"x\",BP29=\"x\",BP41=\"x\",BP53=\"x\",BP66=\"x\"),\"ABSENT\",SUMIF(BP5,\"<>X\")+SUMIF(BP17,\"<>X\")+SUMIF(BP29,\"<>X\")+SUMIF(BP41,\"<>X\")+SUMIF(BP53,\"<>X\")+SUMIF(BP66,\"<>X\"))","v":"ABSENT"},null,{"$f":"IF(OR(BR5=\"x\",BR17=\"x\",BR29=\"x\",BR41=\"x\",BR53=\"x\",BR66=\"x\"),\"ABSENT\",SUMIF(BR5,\"<>X\")+SUMIF(BR17,\"<>X\")+SUMIF(BR29,\"<>X\")+SUMIF(BR41,\"<>X\")+SUMIF(BR53,\"<>X\")+SUMIF(BR66,\"<>X\"))","v":"ABSENT"},null,{"$f":"IF(OR(BT5=\"x\",BT17=\"x\",BT29=\"x\",BT41=\"x\",BT53=\"x\",BT66=\"x\"),\"ABSENT\",SUMIF(BT5,\"<>X\")+SUMIF(BT17,\"<>X\")+SUMIF(BT29,\"<>X\")+SUMIF(BT41,\"<>X\")+SUMIF(BT53,\"<>X\")+SUMIF(BT66,\"<>X\"))","v":"ABSENT"}]
["SEANCE 2",null,{"$error":"#N/A"},null,"ABSENT",null,"ABSENT",null,"ABSENT",null,"ABSENT",null,"ABSENT",null,"ABSENT",null,"ABSENT",null,"ABSENT",null,"ABSENT",null,"ABSENT",null,"ABSENT",null,"ABSENT",null,"ABSENT",null,"ABSENT",null,"ABSENT",null,"ABSENT",null,"ABSENT",null,"ABSENT",null,"ABSENT",null,"ABSENT",null,"ABSENT",null,"ABSENT",null,"ABSENT",null,"ABSENT",null,"ABSENT",null,"ABSENT",null,"ABSENT",null,"ABSENT",null,"ABSENT",null,"ABSENT",null,"ABSENT",null,"ABSENT",null,"ABSENT",null,"ABSENT"]
["SEANCE 3",null,{"$error":"#N/A"},null,{"$error":"#N/A"},null,{"$error":"#N/A"},null,{"$error":"#N/A"},null,{"$error":"#N/A"},null,{"$error":"#N/A"},null,{"$error":"#N/A"},null,{"$error":"#N/A"},null,{"$error":"#N/A"},null,{"$error":"#N/A"},null,{"$error":"#N/A"},null,{"$error":"#N/A"},null,{"$error":"#N/A"},null,{"$error":"#N/A"},null,{"$error":"#N/A"},null,{"$error":"#N/A"},null,{"$error":"#N/A"},null,{"$error":"#N/A"},null,{"$error":"#N/A"},null,{"$error":"#N/A"},null,{"$error":"#N/A"},null,{"$error":"#N/A"},null,{"$error":"#N/A"},null,{"$error":"#N/A"},null,{"$error":"#N/A"},null,{"$error":"#N/A"},null,{"$error":"#N/A"},null,{"$error":"#N/A"},null,{"$error":"#N/A"},null,{"$error":"#N/A"},null,{"$error":"#N/A"},null,{"$error":"#N/A"},null,{"$error":"#N/A"},null,{"$error":"#N/A"},null,{"$error":"#N/A"}]
["SEANCE 4",null,{"$error":"#N/A"},null,{"$error":"#N/A"},null,{"$error":"#N/A"},null,{"$error":"#N/A"},null,{"$error":"#N/A"},null,{"$error":"#N/A"},null,{"$error":"#N/A"},null,{"$error":"#N/A"},null,{"$error":"#N/A"},null,{"$error":"#N/A"},null,{"$error":"#N/A"},null,{"$error":"#N/A"},null,{"$error":"#N/A"},null,{"$error":"#N/A"},null,{"$error":"#N/A"},null,{"$error":"#N/A"},null,{"$error":"#N/A"},null,{"$error":"#N/A"},null,{"$error":"#N/A"},null,{"$error":"#N/A"},null,{"$error":"#N/A"},null,{"$error":"#N/A"},null,{"$error":"#N/A"},null,{"$error":"#N/A"},null,{"$error":"#N/A"},null,{"$error":"#N/A"},null,{"$error":"#N/A"},null,{"$error":"#N/A"},null,{"$error":"#N/A"},null,{"$error":"#N/A"},null,{"$error":"#N/A"},null,{"$error":"#N/A"},null,{"$error":"#N/A"},null,{"$error":"#N/A"},null,{"$error":"#N/A"}]
["SEANCE 5",null,{"$error":"#N/A"},null,{"$error":"#N/A"},null,{"$error":"#N/A"},null,{"$error":"#N/A"},null,{"$error":"#N/A"},null,{"$error":"#N/A"},null,{"$error":"#N/A"},null,{"$error":"#N/A"},null,{"$error":"#N/A"},null,{"$error":"#N/A"},null,{"$error":"#N/A"},null,{"$error":"#N/A"},null,{"$error":"#N/A"},null,{"$error":"#N/A"},null,{"$error":"#N/A"},null,{"$error":"#N/A"},null,{"$error":"#N/A"},null,{"$error":"#N/A"},null,{"$error":"#N/A"},null,{"$error":"#N/A"},null,{"$error":"#N/A"},null,{"$error":"#N/A"},null,{"$error":"#N/A"},null,{"$error":"#N/A"},null,{"$error":"#N/A"},null,{"$error":"#N/A"},null,{"$error":"#N/A"},null,{"$error":"#N/A"},null,{"$error":"#N/A"},null,{"$error":"#N/A"},null,{"$error":"#N/A"},null,{"$error":"#N/A"},null,{"$error":"#N/A"},null,{"$error":"#N/A"},null,{"$error":"#N/A"}]
["SEANCE 6",null,{"$error":"#N/A"},null,{"$error":"#N/A"},null,{"$error":"#N/A"},null,{"$error":"#N/A"},null,{"$error":"#N/A"},null,{"$error":"#N/A"},null,{"$error":"#N/A"},null,{"$error":"#N/A"},null,{"$error":"#N/A"},null,{"$error":"#N/A"},null,{"$error":"#N/A"},null,{"$error":"#N/A"},null,{"$error":"#N/A"},null,{"$error":"#N/A"},null,{"$error":"#N/A"},null,{"$error":"#N/A"},null,{"$error":"#N/A"},null,{"$error":"#N/A"},null,{"$error":"#N/A"},null,{"$error":"#N/A"},null,{"$error":"#N/A"},null,{"$error":"#N/A"},null,{"$error":"#N/A"},null,{"$error":"#N/A"},null,{"$error":"#N/A"},null,{"$error":"#N/A"},null,{"$error":"#N/A"},null,{"$error":"#N/A"},null,{"$error":"#N/A"},null,{"$error":"#N/A"},null,{"$error":"#N/A"},null,{"$error":"#N/A"},null,{"$error":"#N/A"},null,{"$error":"#N/A"},null,{"$error":"#N/A"}]
["SEANCE 7",null,{"$error":"#N/A"},null,{"$error":"#N/A"},null,{"$error":"#N/A"},null,{"$error":"#N/A"},null,{"$error":"#N/A"},null,{"$error":"#N/A"},null,{"$error":"#N/A"},null,{"$error":"#N/A"},null,{"$error":"#N/A"},null,{"$error":"#N/A"},null,{"$error":"#N/A"},null,{"$error":"#N/A"},null,{"$error":"#N/A"},null,{"$error":"#N/A"},null,{"$error":"#N/A"},null,{"$error":"#N/A"},null,{"$error":"#N/A"},null,{"$error":"#N/A"},null,{"$error":"#N/A"},null,{"$error":"#N/A"},null,{"$error":"#N/A"},null,{"$error":"#N/A"},null,{"$error":"#N/A"},null,{"$error":"#N/A"},null,{"$error":"#N/A"},null,{"$error":"#N/A"},null,{"$error":"#N/A"},null,{"$error":"#N/A"},null,{"$error":"#N/A"},null,{"$error":"#N/A"},null,{"$error":"#N/A"},null,{"$error":"#N/A"},null,{"$error":"#N/A"},null,{"$error":"#N/A"},null,{"$error":"#N/A"}]
["SEANCE 8",null,{"$error":"#N/A"},null,{"$error":"#N/A"},null,{"$error":"#N/A"},null,{"$error":"#N/A"},null,{"$error":"#N/A"},null,{"$error":"#N/A"},null,{"$error":"#N/A"},null,{"$error":"#N/A"},null,{"$error":"#N/A"},null,{"$error":"#N/A"},null,{"$error":"#N/A"},null,{"$error":"#N/A"},null,{"$error":"#N/A"},null,{"$error":"#N/A"},null,{"$error":"#N/A"},null,{"$error":"#N/A"},null,{"$error":"#N/A"},null,{"$error":"#N/A"},null,{"$error":"#N/A"},null,{"$error":"#N/A"},null,{"$error":"#N/A"},null,{"$error":"#N/A"},null,{"$error":"#N/A"},null,{"$error":"#N/A"},null,{"$error":"#N/A"},null,{"$error":"#N/A"},null,{"$error":"#N/A"},null,{"$error":"#N/A"},null,{"$error":"#N/A"},null,{"$error":"#N/A"},null,{"$error":"#N/A"},null,{"$error":"#N/A"},null,{"$error":"#N/A"},null,{"$error":"#N/A"},null,{"$error":"#N/A"}]
["SEANCE 9",null,{"$error":"#N/A"},null,{"$error":"#N/A"},null,{"$error":"#N/A"},null,{"$error":"#N/A"},null,{"$error":"#N/A"},null,{"$error":"#N/A"},null,{"$error":"#N/A"},null,{"$error":"#N/A"},null,{"$error":"#N/A"},null,{"$error":"#N/A"},null,{"$error":"#N/A"},null,{"$error":"#N/A"},null,{"$error":"#N/A"},null,{"$error":"#N/A"},null,{"$error":"#N/A"},null,{"$error":"#N/A"},null,{"$error":"#N/A"},null,{"$error":"#N/A"},null,{"$error":"#N/A"},null,{"$error":"#N/A"},null,{"$error":"#N/A"},null,{"$error":"#N/A"},null,{"$error":"#N/A"},null,{"$error":"#N/A"},null,{"$error":"#N/A"},null,{"$error":"#N/A"},null,{"$error":"#N/A"},null,{"$error":"#N/A"},null,{"$error":"#N/A"},null,{"$error":"#N/A"},null,{"$error":"#N/A"},null,{"$error":"#N/A"},null,{"$error":"#N/A"},null,{"$error":"#N/A"},null,{"$error":"#N/A"}]
["SEANCE 10",null,{"$error":"#N/A"},null,{"$error":"#N/A"},null,{"$error":"#N/A"},null,{"$error":"#N/A"},null,{"$error":"#N/A"},null,{"$error":"#N/A"},null,{"$error":"#N/A"},null,{"$error":"#N/A"},null,{"$error":"#N/A"},null,{"$error":"#N/A"},null,{"$error":"#N/A"},null,{"$error":"#N/A"},null,{"$error":"#N/A"},null,{"$error":"#N/A"},null,{"$error":"#N/A"},null,{"$error":"#N/A"},null,{"$error":"#N/A"},null,{"$error":"#N/A"},null,{"$error":"#N/A"},null,{"$error":"#N/A"},null,{"$error":"#N/A"},null,{"$error":"#N/A"},null,{"$error":"#N/A"},null,{"$error":"#N/A"},null,{"$error":"#N/A"},null,{"$error":"#N/A"},null,{"$error":"#N/A"},null,{"$error":"#N/A"},null,{"$error":"#N/A"},null,{"$error":"#N/A"},null,{"$error":"#N/A"},null,{"$error":"#N/A"},null,{"$error":"#N/A"},null,{"$error":"#N/A"},null,{"$error":"#N/A"}]
["MOYENNE",null,{"$f":"AVERAGE(C78:C87)","v":{"$error":"#N/A"}},null,{"$f":"AVERAGE(E78:E87)","v":{"$error":"#N/A"}},null,{"$f":"AVERAGE(G78:G87)","v":{"$error":"#N/A"}},null,{"$f":"AVERAGE(I78:I87)","v":{"$error":"#N/A"}},null,{"$f":"AVERAGE(K78:K87)","v":{"$error":"#N/A"}},null,{"$f":"AVERAGE(M78:M87)","v":{"$error":"#N/A"}},null,{"$f":"AVERAGE(O78:O87)","v":{"$error":"#N/A"}},null,{"$f":"AVERAGE(Q78:Q87)","v":{"$error":"#N/A"}},null,{"$f":"AVERAGE(S78:S87)","v":{"$error":"#N/A"}},null,{"$f":"AVERAGE(U78:U87)","v":{"$error":"#N/A"}},null,{"$f":"AVERAGE(W78:W87)","v":{"$error":"#N/A"}},null,{"$f":"AVERAGE(Y78:Y87)","v":{"$error":"#N/A"}},null,{"$f":"AVERAGE(AA78:AA87)","v":{"$error":"#N/A"}},null,{"$f":"AVERAGE(AC78:AC87)","v":{"$error":"#N/A"}},null,{"$f":"AVERAGE(AE78:AE87)","v":{"$error":"#N/A"}},null,{"$f":"AVERAGE(AG78:AG87)","v":{"$error":"#N/A"}},null,{"$f":"AVERAGE(AI78:AI87)","v":{"$error":"#N/A"}},null,{"$f":"AVERAGE(AK78:AK87)","v":{"$error":"#N/A"}},null,{"$f":"AVERAGE(AM78:AM87)","v":{"$error":"#N/A"}},null,{"$f":"AVERAGE(AO78:AO87)","v":{"$error":"#N/A"}},null,{"$f":"AVERAGE(AQ78:AQ87)","v":{"$error":"#N/A"}},null,{"$f":"AVERAGE(AS78:AS87)","v":{"$error":"#N/A"}},null,{"$f":"AVERAGE(AU78:AU87)","v":{"$error":"#N/A"}},null,{"$f":"AVERAGE(AW78:AW87)","v":{"$error":"#N/A"}},null,{"$f":"AVERAGE(AY78:AY87)","v":{"$error":"#N/A"}},null,{"$f":"AVERAGE(BA78:BA87)","v":{"$error":"#N/A"}},null,{"$f":"AVERAGE(BC78:BC87)","v":{"$error":"#N/A"}},null,{"$f":"AVERAGE(BE78:BE87)","v":{"$error":"#N/A"}},null,{"$f":"AVERAGE(BG78:BG87)","v":{"$error":"#N/A"}},null,{"$f":"AVERAGE(BI78:BI87)","v":{"$error":"#N/A"}},null,{"$f":"AVERAGE(BK78:BK87)","v":{"$error":"#N/A"}},null,{"$f":"AVERAGE(BM78:BM87)","v":{"$error":"#N/A"}},null,{"$f":"AVERAGE(BO78:BO87)","v":{"$error":"#N/A"}},null,{"$f":"AVERAGE(BQ78:BQ87)","v":{"$error":"#N/A"}},null,{"$f":"AVERAGE(BS78:BS87)","v":{"$error":"#N/A"}}]

{"sheet":"EVALCONTINUE2","index":16,"n_rows":143,"n_cols":72,"rows_kept":143,"cut":false,"hidden":false,"merged":[[130,0,142,0],[4,0,16,0],[18,0,30,0],[32,0,44,0],[46,0,58,0],[60,0,72,0],[74,0,86,0],[88,0,100,0],[102,0,114,0],[116,0,128,0]]}
[]
[null,"1COM-1ELEC"]
[null,null,"Abdelwahid",null,"Dhayaeddine",null,"Erwan",null,"Abdelwahid",null,"Abdelwahid",null,"Abdelwahid",null,"Abdelwahid",null,"Abdelwahid",null,"Abdelwahid",null,"Abdelwahid",null,"Abdelwahid",null,"Abdelwahid",null,"Abdelwahid",null,"Abdelwahid",null,"Abdelwahid",null,"Abdelwahid",null,"Abdelwahid",null,"Abdelwahid",null,"Abdelwahid",null,"Abdelwahid",null,"Abdelwahid",null,"Abdelwahid",null,"Abdelwahid",null,"Abdelwahid",null,"Abdelwahid",null,"Abdelwahid",null,"Abdelwahid",null,"Abdelwahid",null,"Abdelwahid",null,"Abdelwahid",null,"Abdelwahid",null,"Abdelwahid",null,"Abdelwahid",null,"Abdelwahid",null,"Abdelwahid"]
[]
["SEANCE 1",{"$f":"DEBUTSTEP!AP4","v":"Prendre sa FC efficacement"},"ABSENT",{"$f":"VLOOKUP(C5,DEBUTSTEP!$AP$4:$AQ$33,2,FALSE)","v":"X"},"Prise régulière mais pas tjs au bon moment",{"$f":"VLOOKUP(E5,DEBUTSTEP!$AP$4:$AQ$33,2,FALSE)","v":{"$error":"#N/A"}},"Prise efficace",{"$f":"VLOOKUP(G5,DEBUTSTEP!$AP$4:$AQ$33,2,FALSE)","v":{"$error":"#N/A"}},"Prise efficace",{"$f":"VLOOKUP(I5,DEBUTSTEP!$AP$4:$AQ$33,2,FALSE)","v":{"$error":"#N/A"}},"Prise imprécise et aléatoire",{"$f":"VLOOKUP(K5,DEBUTSTEP!$AP$4:$AQ$33,2,FALSE)","v":{"$error":"#N/A"}},"Prise régulière mais pas tjs au bon moment",{"$f":"VLOOKUP(M5,DEBUTSTEP!$AP$4:$AQ$33,2,FALSE)","v":{"$error":"#N/A"}},"Prise efficace",{"$f":"VLOOKUP(O5,DEBUTSTEP!$AP$4:$AQ$33,2,FALSE)","v":{"$error":"#N/A"}},"ABSENT",{"$f":"VLOOKUP(Q5,DEBUTSTEP!$AP$4:$AQ$33,2,FALSE)","v":"X"},"ABSENT",{"$f":"VLOOKUP(S5,DEBUTSTEP!$AP$4:$AQ$33,2,FALSE)","v":"X"},"ABSENT",{"$f":"VLOOKUP(U5,DEBUTSTEP!$AP$4:$AQ$33,2,FALSE)","v":"X"},"ABSENT",{"$f":"VLOOKUP(W5,DEBUTSTEP!$AP$4:$AQ$33,2,FALSE)","v":"X"},"ABSENT",{"$f":"VLOOKUP(Y5,DEBUTSTEP!$AP$4:$AQ$33,2,FALSE)","v":"X"},"ABSENT",{"$f":"VLOOKUP(AA5,DEBUTSTEP!$AP$4:$AQ$33,2,FALSE)","v":"X"},"ABSENT",{"$f":"VLOOKUP(AC5,DEBUTSTEP!$AP$4:$AQ$33,2,FALSE)","v":"X"},"ABSENT",{"$f":"VLOOKUP(AE5,DEBUTSTEP!$AP$4:$AQ$33,2,FALSE)","v":"X"},"ABSENT",{"$f":"VLOOKUP(AG5,DEBUTSTEP!$AP$4:$AQ$33,2,FALSE)","v":"X"},"ABSENT",{"$f":"VLOOKUP(AI5,DEBUTSTEP!$AP$4:$AQ$33,2,FALSE)","v":"X"},"ABSENT",{"$f":"VLOOKUP(AK5,DEBUTSTEP!$AP$4:$AQ$33,2,FALSE)","v":"X"},"ABSENT",{"$f":"VLOOKUP(AM5,DEBUTSTEP!$AP$4:$AQ$33,2,FALSE)","v":"X"},"ABSENT",{"$f":"VLOOKUP(AO5,DEBUTSTEP!$AP$4:$AQ$33,2,FALSE)","v":"X"},"ABSENT",{"$f":"VLOOKUP(AQ5,DEBUTSTEP!$AP$4:$AQ$33,2,FALSE)","v":"X"},"ABSENT",{"$f":"VLOOKUP(AS5,DEBUTSTEP!$AP$4:$AQ$33,2,FALSE)","v":"X"},"ABSENT",{"$f":"VLOOKUP(AU5,DEBUTSTEP!$AP$4:$AQ$33,2,FALSE)","v":"X"},"ABSENT",{"$f":"VLOOKUP(AW5,DEBUTSTEP!$AP$4:$AQ$33,2,FALSE)","v":"X"},"ABSENT",{"$f":"VLOOKUP(AY5,DEBUTSTEP!$AP$4:$AQ$33,2,FALSE)","v":"X"},"ABSENT",{"$f":"VLOOKUP(BA5,DEBUTSTEP!$AP$4:$AQ$33,2,FALSE)","v":"X"},"ABSENT",{"$f":"VLOOKUP(BC5,DEBUTSTEP!$AP$4:$AQ$33,2,FALSE)","v":"X"},"ABSENT",{"$f":"VLOOKUP(BE5,DEBUTSTEP!$AP$4:$AQ$33,2,FALSE)","v":"X"},"ABSENT",{"$f":"VLOOKUP(BG5,DEBUTSTEP!$AP$4:$AQ$33,2,FALSE)","v":"X"},"ABSENT",{"$f":"VLOOKUP(BI5,DEBUTSTEP!$AP$4:$AQ$33,2,FALSE)","v":"X"},"ABSENT",{"$f":"VLOOKUP(BK5,DEBUTSTEP!$AP$4:$AQ$33,2,FALSE)","v":"X"},"ABSENT",{"$f":"VLOOKUP(BM5,DEBUTSTEP!$AP$4:$AQ$33,2,FALSE)","v":"X"},"ABSENT",{"$f":"VLOOKUP(BO5,DEBUTSTEP!$AP$4:$AQ$33,2,FALSE)","v":"X"},"ABSENT",{"$f":"VLOOKUP(BQ5,DEBUTSTEP!$AP$4:$AQ$33,2,FALSE)","v":"X"},"ABSENT",{"$f":"VLOOKUP(BS5,DEBUTSTEP!$AP$4:$AQ$33,2,FALSE)","v":"X"}]
[]
[null,"S'engager dans le mobile proposé","Aucun",{"$f":"VLOOKUP(C7,DEBUTSTEP!$AR$4:$AS$33,2,FALSE)","v":0},"Aucun",{"$f":"VLOOKUP(E7,DEBUTSTEP!$AR$4:$AS$33,2,FALSE)","v":0},"Aucun",{"$f":"VLOOKUP(G7,DEBUTSTEP!$AR$4:$AS$33,2,FALSE)","v":0},"Aucun",{"$f":"VLOOKUP(I7,DEBUTSTEP!$AR$4:$AS$33,2,FALSE)","v":0},"Aucun",{"$f":"VLOOKUP(K7,DEBUTSTEP!$AR$4:$AS$33,2,FALSE)","v":0},"Aucun",{"$f":"VLOOKUP(M7,DEBUTSTEP!$AR$4:$AS$33,2,FALSE)","v":0},"Aucun",{"$f":"VLOOKUP(O7,DEBUTSTEP!$AR$4:$AS$33,2,FALSE)","v":0},"Aucun",{"$f":"VLOOKUP(Q7,DEBUTSTEP!$AR$4:$AS$33,2,FALSE)","v":0},"Aucun",{"$f":"VLOOKUP(S7,DEBUTSTEP!$AR$4:$AS$33,2,FALSE)","v":0},"Aucun",{"$f":"VLOOKUP(U7,DEBUTSTEP!$AR$4:$AS$33,2,FALSE)","v":0},"Aucun",{"$f":"VLOOKUP(W7,DEBUTSTEP!$AR$4:$AS$33,2,FALSE)","v":0},"Aucun",{"$f":"VLOOKUP(Y7,DEBUTSTEP!$AR$4:$AS$33,2,FALSE)","v":0},"Aucun",{"$f":"VLOOKUP(AA7,DEBUTSTEP!$AR$4:$AS$33,2,FALSE)","v":0},"Aucun",{"$f":"VLOOKUP(AC7,DEBUTSTEP!$AR$4:$AS$33,2,FALSE)","v":0},"Aucun",{"$f":"VLOOKUP(AE7,DEBUTSTEP!$AR$4:$AS$33,2,FALSE)","v":0},"Aucun",{"$f":"VLOOKUP(AG7,DEBUTSTEP!$AR$4:$AS$33,2,FALSE)","v":0},"Aucun",{"$f":"VLOOKUP(AI7,DEBUTSTEP!$AR$4:$AS$33,2,FALSE)","v":0},"Aucun",{"$f":"VLOOKUP(AK7,DEBUTSTEP!$AR$4:$AS$33,2,FALSE)","v":0},"Aucun",{"$f":"VLOOKUP(AM7,DEBUTSTEP!$AR$4:$AS$33,2,FALSE)","v":0},"Aucun",{"$f":"VLOOKUP(AO7,DEBUTSTEP!$AR$4:$AS$33,2,FALSE)","v":0},"Aucun",{"$f":"VLOOKUP(AQ7,DEBUTSTEP!$AR$4:$AS$33,2,FALSE)","v":0},"Aucun",{"$f":"VLOOKUP(AS7,DEBUTSTEP!$AR$4:$AS$33,2,FALSE)","v":0},"Aucun",{"$f":"VLOOKUP(AU7,DEBUTSTEP!$AR$4:$AS$33,2,FALSE)","v":0},"Aucun",{"$f":"VLOOKUP(AW7,DEBUTSTEP!$AR$4:$AS$33,2,FALSE)","v":0},"Aucun",{"$f":"VLOOKUP(AY7,DEBUTSTEP!$AR$4:$AS$33,2,FALSE)","v":0},"Aucun",{"$f":"VLOOKUP(BA7,DEBUTSTEP!$AR$4:$AS$33,2,FALSE)","v":0},"Aucun",{"$f":"VLOOKUP(BC7,DEBUTSTEP!$AR$4:$AS$33,2,FALSE)","v":0},"Aucun",{"$f":"VLOOKUP(BE7,DEBUTSTEP!$AR$4:$AS$33,2,FALSE)","v":0},"Aucun",{"$f":"VLOOKUP(BG7,DEBUTSTEP!$AR$4:$AS$33,2,FALSE)","v":0},"Aucun",{"$f":"VLOOKUP(BI7,DEBUTSTEP!$AR$4:$AS$33,2,FALSE)","v":0},"Aucun",{"$f":"VLOOKUP(BK7,DEBUTSTEP!$AR$4:$AS$33,2,FALSE)","v":0},"Aucun",{"$f":"VLOOKUP(BM7,DEBUTSTEP!$AR$4:$AS$33,2,FALSE)","v":0},"Aucun",{"$f":"VLOOKUP(BO7,DEBUTSTEP!$AR$4:$AS$33,2,FALSE)","v":0},"Aucun",{"$f":"VLOOKUP(BQ7,DEBUTSTEP!$AR$4:$AS$33,2,FALSE)","v":0},"Aucun",{"$f":"VLOOKUP(BS7,DEBUTSTEP!$AR$4:$AS$33,2,FALSE)","v":0}]
[]
[null,"Agir en sécu","Danger",{"$f":"VLOOKUP(C9,DEBUTSTEP!$AT$4:$AU$33,2,FALSE)","v":0},"Danger",{"$f":"VLOOKUP(E9,DEBUTSTEP!$AT$4:$AU$33,2,FALSE)","v":0},"Danger",{"$f":"VLOOKUP(G9,DEBUTSTEP!$AT$4:$AU$33,2,FALSE)","v":0},"Danger",{"$f":"VLOOKUP(I9,DEBUTSTEP!$AT$4:$AU$33,2,FALSE)","v":0},"Danger",{"$f":"VLOOKUP(K9,DEBUTSTEP!$AT$4:$AU$33,2,FALSE)","v":0},"Danger",{"$f":"VLOOKUP(M9,DEBUTSTEP!$AT$4:$AU$33,2,FALSE)","v":0},"Danger",{"$f":"VLOOKUP(O9,DEBUTSTEP!$AT$4:$AU$33,2,FALSE)","v":0},"Danger",{"$f":"VLOOKUP(Q9,DEBUTSTEP!$AT$4:$AU$33,2,FALSE)","v":0},"Danger",{"$f":"VLOOKUP(S9,DEBUTSTEP!$AT$4:$AU$33,2,FALSE)","v":0},"Danger",{"$f":"VLOOKUP(U9,DEBUTSTEP!$AT$4:$AU$33,2,FALSE)","v":0},"Danger",{"$f":"VLOOKUP(W9,DEBUTSTEP!$AT$4:$AU$33,2,FALSE)","v":0},"Danger",{"$f":"VLOOKUP(Y9,DEBUTSTEP!$AT$4:$AU$33,2,FALSE)","v":0},"Danger",{"$f":"VLOOKUP(AA9,DEBUTSTEP!$AT$4:$AU$33,2,FALSE)","v":0},"Danger",{"$f":"VLOOKUP(AC9,DEBUTSTEP!$AT$4:$AU$33,2,FALSE)","v":0},"Danger",{"$f":"VLOOKUP(AE9,DEBUTSTEP!$AT$4:$AU$33,2,FALSE)","v":0},"Danger",{"$f":"VLOOKUP(AG9,DEBUTSTEP!$AT$4:$AU$33,2,FALSE)","v":0},"Danger",{"$f":"VLOOKUP(AI9,DEBUTSTEP!$AT$4:$AU$33,2,FALSE)","v":0},"Danger",{"$f":"VLOOKUP(AK9,DEBUTSTEP!$AT$4:$AU$33,2,FALSE)","v":0},"Danger",{"$f":"VLOOKUP(AM9,DEBUTSTEP!$AT$4:$AU$33,2,FALSE)","v":0},"Danger",{"$f":"VLOOKUP(AO9,DEBUTSTEP!$AT$4:$AU$33,2,FALSE)","v":0},"Danger",{"$f":"VLOOKUP(AQ9,DEBUTSTEP!$AT$4:$AU$33,2,FALSE)","v":0},"Danger",{"$f":"VLOOKUP(AS9,DEBUTSTEP!$AT$4:$AU$33,2,FALSE)","v":0},"Danger",{"$f":"VLOOKUP(AU9,DEBUTSTEP!$AT$4:$AU$33,2,FALSE)","v":0},"Danger",{"$f":"VLOOKUP(AW9,DEBUTSTEP!$AT$4:$AU$33,2,FALSE)","v":0},"Danger",{"$f":"VLOOKUP(AY9,DEBUTSTEP!$AT$4:$AU$33,2,FALSE)","v":0},"Danger",{"$f":"VLOOKUP(BA9,DEBUTSTEP!$AT$4:$AU$33,2,FALSE)","v":0},"Danger",{"$f":"VLOOKUP(BC9,DEBUTSTEP!$AT$4:$AU$33,2,FALSE)","v":0},"Danger",{"$f":"VLOOKUP(BE9,DEBUTSTEP!$AT$4:$AU$33,2,FALSE)","v":0},"Danger",{"$f":"VLOOKUP(BG9,DEBUTSTEP!$AT$4:$AU$33,2,FALSE)","v":0},"Danger",{"$f":"VLOOKUP(BI9,DEBUTSTEP!$AT$4:$AU$33,2,FALSE)","v":0},"Danger",{"$f":"VLOOKUP(BK9,DEBUTSTEP!$AT$4:$AU$33,2,FALSE)","v":0},"Danger",{"$f":"VLOOKUP(BM9,DEBUTSTEP!$AT$4:$AU$33,2,FALSE)","v":0},"Danger",{"$f":"VLOOKUP(BO9,DEBUTSTEP!$AT$4:$AU$33,2,FALSE)","v":0},"Danger",{"$f":"VLOOKUP(BQ9,DEBUTSTEP!$AT$4:$AU$33,2,FALSE)","v":0},"Danger",{"$f":"VLOOKUP(BS9,DEBUTSTEP!$AT$4:$AU$33,2,FALSE)","v":0}]
[]
[null,"Respecter l'entrainement prévu","Pas du tout",{"$f":"VLOOKUP(C11,DEBUTSTEP!$AV$4:$AW$33,2,FALSE)","v":0},"Pas du tout",{"$f":"VLOOKUP(E11,DEBUTSTEP!$AV$4:$AW$33,2,FALSE)","v":0},"Pas du tout",{"$f":"VLOOKUP(G11,DEBUTSTEP!$AV$4:$AW$33,2,FALSE)","v":0},"Pas du tout",{"$f":"VLOOKUP(I11,DEBUTSTEP!$AV$4:$AW$33,2,FALSE)","v":0},"Pas du tout",{"$f":"VLOOKUP(K11,DEBUTSTEP!$AV$4:$AW$33,2,FALSE)","v":0},"Pas du tout",{"$f":"VLOOKUP(M11,DEBUTSTEP!$AV$4:$AW$33,2,FALSE)","v":0},"Pas du tout",{"$f":"VLOOKUP(O11,DEBUTSTEP!$AV$4:$AW$33,2,FALSE)","v":0},"Pas du tout",{"$f":"VLOOKUP(Q11,DEBUTSTEP!$AV$4:$AW$33,2,FALSE)","v":0},"Pas du tout",{"$f":"VLOOKUP(S11,DEBUTSTEP!$AV$4:$AW$33,2,FALSE)","v":0},"Pas du tout",{"$f":"VLOOKUP(U11,DEBUTSTEP!$AV$4:$AW$33,2,FALSE)","v":0},"Pas du tout",{"$f":"VLOOKUP(W11,DEBUTSTEP!$AV$4:$AW$33,2,FALSE)","v":0},"Pas du tout",{"$f":"VLOOKUP(Y11,DEBUTSTEP!$AV$4:$AW$33,2,FALSE)","v":0},"Pas du tout",{"$f":"VLOOKUP(AA11,DEBUTSTEP!$AV$4:$AW$33,2,FALSE)","v":0},"Pas du tout",{"$f":"VLOOKUP(AC11,DEBUTSTEP!$AV$4:$AW$33,2,FALSE)","v":0},"Pas du tout",{"$f":"VLOOKUP(AE11,DEBUTSTEP!$AV$4:$AW$33,2,FALSE)","v":0},"Pas du tout",{"$f":"VLOOKUP(AG11,DEBUTSTEP!$AV$4:$AW$33,2,FALSE)","v":0},"Pas du tout",{"$f":"VLOOKUP(AI11,DEBUTSTEP!$AV$4:$AW$33,2,FALSE)","v":0},"Pas du tout",{"$f":"VLOOKUP(AK11,DEBUTSTEP!$AV$4:$AW$33,2,FALSE)","v":0},"Pas du tout",{"$f":"VLOOKUP(AM11,DEBUTSTEP!$AV$4:$AW$33,2,FALSE)","v":0},"Pas du tout",{"$f":"VLOOKUP(AO11,DEBUTSTEP!$AV$4:$AW$33,2,FALSE)","v":0},"Pas du tout",{"$f":"VLOOKUP(AQ11,DEBUTSTEP!$AV$4:$AW$33,2,FALSE)","v":0},"Pas du tout",{"$f":"VLOOKUP(AS11,DEBUTSTEP!$AV$4:$AW$33,2,FALSE)","v":0},"Pas du tout",{"$f":"VLOOKUP(AU11,DEBUTSTEP!$AV$4:$AW$33,2,FALSE)","v":0},"Pas du tout",{"$f":"VLOOKUP(AW11,DEBUTSTEP!$AV$4:$AW$33,2,FALSE)","v":0},"Pas du tout",{"$f":"VLOOKUP(AY11,DEBUTSTEP!$AV$4:$AW$33,2,FALSE)","v":0},"Pas du tout",{"$f":"VLOOKUP(BA11,DEBUTSTEP!$AV$4:$AW$33,2,FALSE)","v":0},"Pas du tout",{"$f":"VLOOKUP(BC11,DEBUTSTEP!$AV$4:$AW$33,2,FALSE)","v":0},"Pas du tout",{"$f":"VLOOKUP(BE11,DEBUTSTEP!$AV$4:$AW$33,2,FALSE)","v":0},"Pas du tout",{"$f":"VLOOKUP(BG11,DEBUTSTEP!$AV$4:$AW$33,2,FALSE)","v":0},"Pas du tout",{"$f":"VLOOKUP(BI11,DEBUTSTEP!$AV$4:$AW$33,2,FALSE)","v":0},"Pas du tout",{"$f":"VLOOKUP(BK11,DEBUTSTEP!$AV$4:$AW$33,2,FALSE)","v":0},"Pas du tout",{"$f":"VLOOKUP(BM11,DEBUTSTEP!$AV$4:$AW$33,2,FALSE)","v":0},"Pas du tout",{"$f":"VLOOKUP(BO11,DEBUTSTEP!$AV$4:$AW$33,2,FALSE)","v":0},"Pas du tout",{"$f":"VLOOKUP(BQ11,DEBUTSTEP!$AV$4:$AW$33,2,FALSE)","v":0},"Pas du tout",{"$f":"VLOOKUP(BS11,DEBUTSTEP!$AV$4:$AW$33,2,FALSE)","v":0}]
[]
[null,"Mémoriser les blocs","Aucune mémorisation",{"$f":"VLOOKUP(C13,DEBUTSTEP!$AX$4:$AY$33,2,FALSE)","v":0},"Aucune mémorisation",{"$f":"VLOOKUP(E13,DEBUTSTEP!$AX$4:$AY$33,2,FALSE)","v":0},"Aucune mémorisation",{"$f":"VLOOKUP(G13,DEBUTSTEP!$AX$4:$AY$33,2,FALSE)","v":0},"Aucune mémorisation",{"$f":"VLOOKUP(I13,DEBUTSTEP!$AX$4:$AY$33,2,FALSE)","v":0},"Aucune mémorisation",{"$f":"VLOOKUP(K13,DEBUTSTEP!$AX$4:$AY$33,2,FALSE)","v":0},"Aucune mémorisation",{"$f":"VLOOKUP(M13,DEBUTSTEP!$AX$4:$AY$33,2,FALSE)","v":0},"Aucune mémorisation",{"$f":"VLOOKUP(O13,DEBUTSTEP!$AX$4:$AY$33,2,FALSE)","v":0},"Aucune mémorisation",{"$f":"VLOOKUP(Q13,DEBUTSTEP!$AX$4:$AY$33,2,FALSE)","v":0},"Aucune mémorisation",{"$f":"VLOOKUP(S13,DEBUTSTEP!$AX$4:$AY$33,2,FALSE)","v":0},"Aucune mémorisation",{"$f":"VLOOKUP(U13,DEBUTSTEP!$AX$4:$AY$33,2,FALSE)","v":0},"Aucune mémorisation",{"$f":"VLOOKUP(W13,DEBUTSTEP!$AX$4:$AY$33,2,FALSE)","v":0},"Aucune mémorisation",{"$f":"VLOOKUP(Y13,DEBUTSTEP!$AX$4:$AY$33,2,FALSE)","v":0},"Aucune mémorisation",{"$f":"VLOOKUP(AA13,DEBUTSTEP!$AX$4:$AY$33,2,FALSE)","v":0},"Aucune mémorisation",{"$f":"VLOOKUP(AC13,DEBUTSTEP!$AX$4:$AY$33,2,FALSE)","v":0},"Aucune mémorisation",{"$f":"VLOOKUP(AE13,DEBUTSTEP!$AX$4:$AY$33,2,FALSE)","v":0},"Aucune mémorisation",{"$f":"VLOOKUP(AG13,DEBUTSTEP!$AX$4:$AY$33,2,FALSE)","v":0},"Aucune mémorisation",{"$f":"VLOOKUP(AI13,DEBUTSTEP!$AX$4:$AY$33,2,FALSE)","v":0},"Aucune mémorisation",{"$f":"VLOOKUP(AK13,DEBUTSTEP!$AX$4:$AY$33,2,FALSE)","v":0},"Aucune mémorisation",{"$f":"VLOOKUP(AM13,DEBUTSTEP!$AX$4:$AY$33,2,FALSE)","v":0},"Aucune mémorisation",{"$f":"VLOOKUP(AO13,DEBUTSTEP!$AX$4:$AY$33,2,FALSE)","v":0},"Aucune mémorisation",{"$f":"VLOOKUP(AQ13,DEBUTSTEP!$AX$4:$AY$33,2,FALSE)","v":0},"Aucune mémorisation",{"$f":"VLOOKUP(AS13,DEBUTSTEP!$AX$4:$AY$33,2,FALSE)","v":0},"Aucune mémorisation",{"$f":"VLOOKUP(AU13,DEBUTSTEP!$AX$4:$AY$33,2,FALSE)","v":0},"Aucune mémorisation",{"$f":"VLOOKUP(AW13,DEBUTSTEP!$AX$4:$AY$33,2,FALSE)","v":0},"Aucune mémorisation",{"$f":"VLOOKUP(AY13,DEBUTSTEP!$AX$4:$AY$33,2,FALSE)","v":0},"Aucune mémorisation",{"$f":"VLOOKUP(BA13,DEBUTSTEP!$AX$4:$AY$33,2,FALSE)","v":0},"Aucune mémorisation",{"$f":"VLOOKUP(BC13,DEBUTSTEP!$AX$4:$AY$33,2,FALSE)","v":0},"Aucune mémorisation",{"$f":"VLOOKUP(BE13,DEBUTSTEP!$AX$4:$AY$33,2,FALSE)","v":0},"Aucune mémorisation",{"$f":"VLOOKUP(BG13,DEBUTSTEP!$AX$4:$AY$33,2,FALSE)","v":0},"Aucune mémorisation",{"$f":"VLOOKUP(BI13,DEBUTSTEP!$AX$4:$AY$33,2,FALSE)","v":0},"Aucune mémorisation",{"$f":"VLOOKUP(BK13,DEBUTSTEP!$AX$4:$AY$33,2,FALSE)","v":0},"Aucune mémorisation",{"$f":"VLOOKUP(BM13,DEBUTSTEP!$AX$4:$AY$33,2,FALSE)","v":0},"Aucune mémorisation",{"$f":"VLOOKUP(BO13,DEBUTSTEP!$AX$4:$AY$33,2,FALSE)","v":0},"Aucune mémorisation",{"$f":"VLOOKUP(BQ13,DEBUTSTEP!$AX$4:$AY$33,2,FALSE)","v":0},"Aucune mémorisation",{"$f":"VLOOKUP(BS13,DEBUTSTEP!$AX$4:$AY$33,2,FALSE)","v":0}]
[]
[null,"Analyser sa prestation","Imprécise",{"$f":"VLOOKUP(C15,DEBUTSTEP!$AZ$4:$BA$33,2,FALSE)","v":1},"Imprécise",{"$f":"VLOOKUP(E15,DEBUTSTEP!$AZ$4:$BA$33,2,FALSE)","v":1},"Imprécise",{"$f":"VLOOKUP(G15,DEBUTSTEP!$AZ$4:$BA$33,2,FALSE)","v":1},"Imprécise",{"$f":"VLOOKUP(I15,DEBUTSTEP!$AZ$4:$BA$33,2,FALSE)","v":1},"Imprécise",{"$f":"VLOOKUP(K15,DEBUTSTEP!$AZ$4:$BA$33,2,FALSE)","v":1},"Imprécise",{"$f":"VLOOKUP(M15,DEBUTSTEP!$AZ$4:$BA$33,2,FALSE)","v":1},"Imprécise",{"$f":"VLOOKUP(O15,DEBUTSTEP!$AZ$4:$BA$33,2,FALSE)","v":1},"Imprécise",{"$f":"VLOOKUP(Q15,DEBUTSTEP!$AZ$4:$BA$33,2,FALSE)","v":1},"Imprécise",{"$f":"VLOOKUP(S15,DEBUTSTEP!$AZ$4:$BA$33,2,FALSE)","v":1},"Imprécise",{"$f":"VLOOKUP(U15,DEBUTSTEP!$AZ$4:$BA$33,2,FALSE)","v":1},"Imprécise",{"$f":"VLOOKUP(W15,DEBUTSTEP!$AZ$4:$BA$33,2,FALSE)","v":1},"Imprécise",{"$f":"VLOOKUP(Y15,DEBUTSTEP!$AZ$4:$BA$33,2,FALSE)","v":1},"Imprécise",{"$f":"VLOOKUP(AA15,DEBUTSTEP!$AZ$4:$BA$33,2,FALSE)","v":1},"Imprécise",{"$f":"VLOOKUP(AC15,DEBUTSTEP!$AZ$4:$BA$33,2,FALSE)","v":1},"Imprécise",{"$f":"VLOOKUP(AE15,DEBUTSTEP!$AZ$4:$BA$33,2,FALSE)","v":1},"Imprécise",{"$f":"VLOOKUP(AG15,DEBUTSTEP!$AZ$4:$BA$33,2,FALSE)","v":1},"Imprécise",{"$f":"VLOOKUP(AI15,DEBUTSTEP!$AZ$4:$BA$33,2,FALSE)","v":1},"Imprécise",{"$f":"VLOOKUP(AK15,DEBUTSTEP!$AZ$4:$BA$33,2,FALSE)","v":1},"Imprécise",{"$f":"VLOOKUP(AM15,DEBUTSTEP!$AZ$4:$BA$33,2,FALSE)","v":1},"Imprécise",{"$f":"VLOOKUP(AO15,DEBUTSTEP!$AZ$4:$BA$33,2,FALSE)","v":1},"Imprécise",{"$f":"VLOOKUP(AQ15,DEBUTSTEP!$AZ$4:$BA$33,2,FALSE)","v":1},"Imprécise",{"$f":"VLOOKUP(AS15,DEBUTSTEP!$AZ$4:$BA$33,2,FALSE)","v":1},"Imprécise",{"$f":"VLOOKUP(AU15,DEBUTSTEP!$AZ$4:$BA$33,2,FALSE)","v":1},"Imprécise",{"$f":"VLOOKUP(AW15,DEBUTSTEP!$AZ$4:$BA$33,2,FALSE)","v":1},"Imprécise",{"$f":"VLOOKUP(AY15,DEBUTSTEP!$AZ$4:$BA$33,2,FALSE)","v":1},"Imprécise",{"$f":"VLOOKUP(BA15,DEBUTSTEP!$AZ$4:$BA$33,2,FALSE)","v":1},"Imprécise",{"$f":"VLOOKUP(BC15,DEBUTSTEP!$AZ$4:$BA$33,2,FALSE)","v":1},"Imprécise",{"$f":"VLOOKUP(BE15,DEBUTSTEP!$AZ$4:$BA$33,2,FALSE)","v":1},"Imprécise",{"$f":"VLOOKUP(BG15,DEBUTSTEP!$AZ$4:$BA$33,2,FALSE)","v":1},"Imprécise",{"$f":"VLOOKUP(BI15,DEBUTSTEP!$AZ$4:$BA$33,2,FALSE)","v":1},"Imprécise",{"$f":"VLOOKUP(BK15,DEBUTSTEP!$AZ$4:$BA$33,2,FALSE)","v":1},"Imprécise",{"$f":"VLOOKUP(BM15,DEBUTSTEP!$AZ$4:$BA$33,2,FALSE)","v":1},"Imprécise",{"$f":"VLOOKUP(BO15,DEBUTSTEP!$AZ$4:$BA$33,2,FALSE)","v":1},"Imprécise",{"$f":"VLOOKUP(BQ15,DEBUTSTEP!$AZ$4:$BA$33,2,FALSE)","v":1},"Imprécise",{"$f":"VLOOKUP(BS15,DEBUTSTEP!$AZ$4:$BA$33,2,FALSE)","v":1}]
[]
[null,"NOTE",{"$f":"IF(OR(D5=\"x\",D7=\"x\",D9=\"x\",D11=\"x\",D13=\"x\",D15=\"x\"),\"ABSENT\",SUMIF(D5,\"<>X\")+SUMIF(D7,\"<>X\")+SUMIF(D9,\"<>X\")+SUMIF(D11,\"<>X\")+SUMIF(D13,\"<>X\")+SUMIF(D15,\"<>X\"))","v":"ABSENT"},null,{"$f":"IF(OR(F5=\"x\",F7=\"x\",F9=\"x\",F11=\"x\",F13=\"x\",F15=\"x\"),\"ABSENT\",SUMIF(F5,\"<>X\")+SUMIF(F7,\"<>X\")+SUMIF(F9,\"<>X\")+SUMIF(F11,\"<>X\")+SUMIF(F13,\"<>X\")+SUMIF(F15,\"<>X\"))","v":{"$error":"#N/A"}},null,{"$f":"IF(OR(H5=\"x\",H7=\"x\",H9=\"x\",H11=\"x\",H13=\"x\",H15=\"x\"),\"ABSENT\",SUMIF(H5,\"<>X\")+SUMIF(H7,\"<>X\")+SUMIF(H9,\"<>X\")+SUMIF(H11,\"<>X\")+SUMIF(H13,\"<>X\")+SUMIF(H15,\"<>X\"))","v":{"$error":"#N/A"}},null,{"$f":"IF(OR(J5=\"x\",J7=\"x\",J9=\"x\",J11=\"x\",J13=\"x\",J15=\"x\"),\"ABSENT\",SUMIF(J5,\"<>X\")+SUMIF(J7,\"<>X\")+SUMIF(J9,\"<>X\")+SUMIF(J11,\"<>X\")+SUMIF(J13,\"<>X\")+SUMIF(J15,\"<>X\"))","v":{"$error":"#N/A"}},null,{"$f":"IF(OR(L5=\"x\",L7=\"x\",L9=\"x\",L11=\"x\",L13=\"x\",L15=\"x\"),\"ABSENT\",SUMIF(L5,\"<>X\")+SUMIF(L7,\"<>X\")+SUMIF(L9,\"<>X\")+SUMIF(L11,\"<>X\")+SUMIF(L13,\"<>X\")+SUMIF(L15,\"<>X\"))","v":{"$error":"#N/A"}},null,{"$f":"IF(OR(N5=\"x\",N7=\"x\",N9=\"x\",N11=\"x\",N13=\"x\",N15=\"x\"),\"ABSENT\",SUMIF(N5,\"<>X\")+SUMIF(N7,\"<>X\")+SUMIF(N9,\"<>X\")+SUMIF(N11,\"<>X\")+SUMIF(N13,\"<>X\")+SUMIF(N15,\"<>X\"))","v":{"$error":"#N/A"}},null,{"$f":"IF(OR(P5=\"x\",P7=\"x\",P9=\"x\",P11=\"x\",P13=\"x\",P15=\"x\"),\"ABSENT\",SUMIF(P5,\"<>X\")+SUMIF(P7,\"<>X\")+SUMIF(P9,\"<>X\")+SUMIF(P11,\"<>X\")+SUMIF(P13,\"<>X\")+SUMIF(P15,\"<>X\"))","v":{"$error":"#N/A"}},null,{"$f":"IF(OR(R5=\"x\",R7=\"x\",R9=\"x\",R11=\"x\",R13=\"x\",R15=\"x\"),\"ABSENT\",SUMIF(R5,\"<>X\")+SUMIF(R7,\"<>X\")+SUMIF(R9,\"<>X\")+SUMIF(R11,\"<>X\")+SUMIF(R13,\"<>X\")+SUMIF(R15,\"<>X\"))","v":"ABSENT"},null,{"$f":"IF(OR(T5=\"x\",T7=\"x\",T9=\"x\",T11=\"x\",T13=\"x\",T15=\"x\"),\"ABSENT\",SUMIF(T5,\"<>X\")+SUMIF(T7,\"<>X\")+SUMIF(T9,\"<>X\")+SUMIF(T11,\"<>X\")+SUMIF(T13,\"<>X\")+SUMIF(T15,\"<>X\"))","v":"ABSENT"},null,{"$f":"IF(OR(V5=\"x\",V7=\"x\",V9=\"x\",V11=\"x\",V13=\"x\",V15=\"x\"),\"ABSENT\",SUMIF(V5,\"<>X\")+SUMIF(V7,\"<>X\")+SUMIF(V9,\"<>X\")+SUMIF(V11,\"<>X\")+SUMIF(V13,\"<>X\")+SUMIF(V15,\"<>X\"))","v":"ABSENT"},null,{"$f":"IF(OR(X5=\"x\",X7=\"x\",X9=\"x\",X11=\"x\",X13=\"x\",X15=\"x\"),\"ABSENT\",SUMIF(X5,\"<>X\")+SUMIF(X7,\"<>X\")+SUMIF(X9,\"<>X\")+SUMIF(X11,\"<>X\")+SUMIF(X13,\"<>X\")+SUMIF(X15,\"<>X\"))","v":"ABSENT"},null,{"$f":"IF(OR(Z5=\"x\",Z7=\"x\",Z9=\"x\",Z11=\"x\",Z13=\"x\",Z15=\"x\"),\"ABSENT\",SUMIF(Z5,\"<>X\")+SUMIF(Z7,\"<>X\")+SUMIF(Z9,\"<>X\")+SUMIF(Z11,\"<>X\")+SUMIF(Z13,\"<>X\")+SUMIF(Z15,\"<>X\"))","v":"ABSENT"},null,{"$f":"IF(OR(AB5=\"x\",AB7=\"x\",AB9=\"x\",AB11=\"x\",AB13=\"x\",AB15=\"x\"),\"ABSENT\",SUMIF(AB5,\"<>X\")+SUMIF(AB7,\"<>X\")+SUMIF(AB9,\"<>X\")+SUMIF(AB11,\"<>X\")+SUMIF(AB13,\"<>X\")+SUMIF(AB15,\"<>X\"))","v":"ABSENT"},null,{"$f":"IF(OR(AD5=\"x\",AD7=\"x\",AD9=\"x\",AD11=\"x\",AD13=\"x\",AD15=\"x\"),\"ABSENT\",SUMIF(AD5,\"<>X\")+SUMIF(AD7,\"<>X\")+SUMIF(AD9,\"<>X\")+SUMIF(AD11,\"<>X\")+SUMIF(AD13,\"<>X\")+SUMIF(AD15,\"<>X\"))","v":"ABSENT"},null,{"$f":"IF(OR(AF5=\"x\",AF7=\"x\",AF9=\"x\",AF11=\"x\",AF13=\"x\",AF15=\"x\"),\"ABSENT\",SUMIF(AF5,\"<>X\")+SUMIF(AF7,\"<>X\")+SUMIF(AF9,\"<>X\")+SUMIF(AF11,\"<>X\")+SUMIF(AF13,\"<>X\")+SUMIF(AF15,\"<>X\"))","v":"ABSENT"},null,{"$f":"IF(OR(AH5=\"x\",AH7=\"x\",AH9=\"x\",AH11=\"x\",AH13=\"x\",AH15=\"x\"),\"ABSENT\",SUMIF(AH5,\"<>X\")+SUMIF(AH7,\"<>X\")+SUMIF(AH9,\"<>X\")+SUMIF(AH11,\"<>X\")+SUMIF(AH13,\"<>X\")+SUMIF(AH15,\"<>X\"))","v":"ABSENT"},null,{"$f":"IF(OR(AJ5=\"x\",AJ7=\"x\",AJ9=\"x\",AJ11=\"x\",AJ13=\"x\",AJ15=\"x\"),\"ABSENT\",SUMIF(AJ5,\"<>X\")+SUMIF(AJ7,\"<>X\")+SUMIF(AJ9,\"<>X\")+SUMIF(AJ11,\"<>X\")+SUMIF(AJ13,\"<>X\")+SUMIF(AJ15,\"<>X\"))","v":"ABSENT"},null,{"$f":"IF(OR(AL5=\"x\",AL7=\"x\",AL9=\"x\",AL11=\"x\",AL13=\"x\",AL15=\"x\"),\"ABSENT\",SUMIF(AL5,\"<>X\")+SUMIF(AL7,\"<>X\")+SUMIF(AL9,\"<>X\")+SUMIF(AL11,\"<>X\")+SUMIF(AL13,\"<>X\")+SUMIF(AL15,\"<>X\"))","v":"ABSENT"},null,{"$f":"IF(OR(AN5=\"x\",AN7=\"x\",AN9=\"x\",AN11=\"x\",AN13=\"x\",AN15=\"x\"),\"ABSENT\",SUMIF(AN5,\"<>X\")+SUMIF(AN7,\"<>X\")+SUMIF(AN9,\"<>X\")+SUMIF(AN11,\"<>X\")+SUMIF(AN13,\"<>X\")+SUMIF(AN15,\"<>X\"))","v":"ABSENT"},null,{"$f":"IF(OR(AP5=\"x\",AP7=\"x\",AP9=\"x\",AP11=\"x\",AP13=\"x\",AP15=\"x\"),\"ABSENT\",SUMIF(AP5,\"<>X\")+SUMIF(AP7,\"<>X\")+SUMIF(AP9,\"<>X\")+SUMIF(AP11,\"<>X\")+SUMIF(AP13,\"<>X\")+SUMIF(AP15,\"<>X\"))","v":"ABSENT"},null,{"$f":"IF(OR(AR5=\"x\",AR7=\"x\",AR9=\"x\",AR11=\"x\",AR13=\"x\",AR15=\"x\"),\"ABSENT\",SUMIF(AR5,\"<>X\")+SUMIF(AR7,\"<>X\")+SUMIF(AR9,\"<>X\")+SUMIF(AR11,\"<>X\")+SUMIF(AR13,\"<>X\")+SUMIF(AR15,\"<>X\"))","v":"ABSENT"},null,{"$f":"IF(OR(AT5=\"x\",AT7=\"x\",AT9=\"x\",AT11=\"x\",AT13=\"x\",AT15=\"x\"),\"ABSENT\",SUMIF(AT5,\"<>X\")+SUMIF(AT7,\"<>X\")+SUMIF(AT9,\"<>X\")+SUMIF(AT11,\"<>X\")+SUMIF(AT13,\"<>X\")+SUMIF(AT15,\"<>X\"))","v":"ABSENT"},null,{"$f":"IF(OR(AV5=\"x\",AV7=\"x\",AV9=\"x\",AV11=\"x\",AV13=\"x\",AV15=\"x\"),\"ABSENT\",SUMIF(AV5,\"<>X\")+SUMIF(AV7,\"<>X\")+SUMIF(AV9,\"<>X\")+SUMIF(AV11,\"<>X\")+SUMIF(AV13,\"<>X\")+SUMIF(AV15,\"<>X\"))","v":"ABSENT"},null,{"$f":"IF(OR(AX5=\"x\",AX7=\"x\",AX9=\"x\",AX11=\"x\",AX13=\"x\",AX15=\"x\"),\"ABSENT\",SUMIF(AX5,\"<>X\")+SUMIF(AX7,\"<>X\")+SUMIF(AX9,\"<>X\")+SUMIF(AX11,\"<>X\")+SUMIF(AX13,\"<>X\")+SUMIF(AX15,\"<>X\"))","v":"ABSENT"},null,{"$f":"IF(OR(AZ5=\"x\",AZ7=\"x\",AZ9=\"x\",AZ11=\"x\",AZ13=\"x\",AZ15=\"x\"),\"ABSENT\",SUMIF(AZ5,\"<>X\")+SUMIF(AZ7,\"<>X\")+SUMIF(AZ9,\"<>X\")+SUMIF(AZ11,\"<>X\")+SUMIF(AZ13,\"<>X\")+SUMIF(AZ15,\"<>X\"))","v":"ABSENT"},null,{"$f":"IF(OR(BB5=\"x\",BB7=\"x\",BB9=\"x\",BB11=\"x\",BB13=\"x\",BB15=\"x\"),\"ABSENT\",SUMIF(BB5,\"<>X\")+SUMIF(BB7,\"<>X\")+SUMIF(BB9,\"<>X\")+SUMIF(BB11,\"<>X\")+SUMIF(BB13,\"<>X\")+SUMIF(BB15,\"<>X\"))","v":"ABSENT"},null,{"$f":"IF(OR(BD5=\"x\",BD7=\"x\",BD9=\"x\",BD11=\"x\",BD13=\"x\",BD15=\"x\"),\"ABSENT\",SUMIF(BD5,\"<>X\")+SUMIF(BD7,\"<>X\")+SUMIF(BD9,\"<>X\")+SUMIF(BD11,\"<>X\")+SUMIF(BD13,\"<>X\")+SUMIF(BD15,\"<>X\"))","v":"ABSENT"},null,{"$f":"IF(OR(BF5=\"x\",BF7=\"x\",BF9=\"x\",BF11=\"x\",BF13=\"x\",BF15=\"x\"),\"ABSENT\",SUMIF(BF5,\"<>X\")+SUMIF(BF7,\"<>X\")+SUMIF(BF9,\"<>X\")+SUMIF(BF11,\"<>X\")+SUMIF(BF13,\"<>X\")+SUMIF(BF15,\"<>X\"))","v":"ABSENT"},null,{"$f":"IF(OR(BH5=\"x\",BH7=\"x\",BH9=\"x\",BH11=\"x\",BH13=\"x\",BH15=\"x\"),\"ABSENT\",SUMIF(BH5,\"<>X\")+SUMIF(BH7,\"<>X\")+SUMIF(BH9,\"<>X\")+SUMIF(BH11,\"<>X\")+SUMIF(BH13,\"<>X\")+SUMIF(BH15,\"<>X\"))","v":"ABSENT"},null,{"$f":"IF(OR(BJ5=\"x\",BJ7=\"x\",BJ9=\"x\",BJ11=\"x\",BJ13=\"x\",BJ15=\"x\"),\"ABSENT\",SUMIF(BJ5,\"<>X\")+SUMIF(BJ7,\"<>X\")+SUMIF(BJ9,\"<>X\")+SUMIF(BJ11,\"<>X\")+SUMIF(BJ13,\"<>X\")+SUMIF(BJ15,\"<>X\"))","v":"ABSENT"},null,{"$f":"IF(OR(BL5=\"x\",BL7=\"x\",BL9=\"x\",BL11=\"x\",BL13=\"x\",BL15=\"x\"),\"ABSENT\",SUMIF(BL5,\"<>X\")+SUMIF(BL7,\"<>X\")+SUMIF(BL9,\"<>X\")+SUMIF(BL11,\"<>X\")+SUMIF(BL13,\"<>X\")+SUMIF(BL15,\"<>X\"))","v":"ABSENT"},null,{"$f":"IF(OR(BN5=\"x\",BN7=\"x\",BN9=\"x\",BN11=\"x\",BN13=\"x\",BN15=\"x\"),\"ABSENT\",SUMIF(BN5,\"<>X\")+SUMIF(BN7,\"<>X\")+SUMIF(BN9,\"<>X\")+SUMIF(BN11,\"<>X\")+SUMIF(BN13,\"<>X\")+SUMIF(BN15,\"<>X\"))","v":"ABSENT"},null,{"$f":"IF(OR(BP5=\"x\",BP7=\"x\",BP9=\"x\",BP11=\"x\",BP13=\"x\",BP15=\"x\"),\"ABSENT\",SUMIF(BP5,\"<>X\")+SUMIF(BP7,\"<>X\")+SUMIF(BP9,\"<>X\")+SUMIF(BP11,\"<>X\")+SUMIF(BP13,\"<>X\")+SUMIF(BP15,\"<>X\"))","v":"ABSENT"},null,{"$f":"IF(OR(BR5=\"x\",BR7=\"x\",BR9=\"x\",BR11=\"x\",BR13=\"x\",BR15=\"x\"),\"ABSENT\",SUMIF(BR5,\"<>X\")+SUMIF(BR7,\"<>X\")+SUMIF(BR9,\"<>X\")+SUMIF(BR11,\"<>X\")+SUMIF(BR13,\"<>X\")+SUMIF(BR15,\"<>X\"))","v":"ABSENT"},null,{"$f":"IF(OR(BT5=\"x\",BT7=\"x\",BT9=\"x\",BT11=\"x\",BT13=\"x\",BT15=\"x\"),\"ABSENT\",SUMIF(BT5,\"<>X\")+SUMIF(BT7,\"<>X\")+SUMIF(BT9,\"<>X\")+SUMIF(BT11,\"<>X\")+SUMIF(BT13,\"<>X\")+SUMIF(BT15,\"<>X\"))","v":"ABSENT"}]
[]
["SEANCE 2","Prendre sa FC efficacement","ABSENT",{"$f":"VLOOKUP(C19,DEBUTSTEP!$AP$4:$AQ$33,2,FALSE)","v":"X"},"ABSENT",{"$f":"VLOOKUP(E19,DEBUTSTEP!$AP$4:$AQ$33,2,FALSE)","v":"X"},"ABSENT",{"$f":"VLOOKUP(G19,DEBUTSTEP!$AP$4:$AQ$33,2,FALSE)","v":"X"},"ABSENT",{"$f":"VLOOKUP(I19,DEBUTSTEP!$AP$4:$AQ$33,2,FALSE)","v":"X"},"ABSENT",{"$f":"VLOOKUP(K19,DEBUTSTEP!$AP$4:$AQ$33,2,FALSE)","v":"X"},"ABSENT",{"$f":"VLOOKUP(M19,DEBUTSTEP!$AP$4:$AQ$33,2,FALSE)","v":"X"},"ABSENT",{"$f":"VLOOKUP(O19,DEBUTSTEP!$AP$4:$AQ$33,2,FALSE)","v":"X"},"ABSENT",{"$f":"VLOOKUP(Q19,DEBUTSTEP!$AP$4:$AQ$33,2,FALSE)","v":"X"},"ABSENT",{"$f":"VLOOKUP(S19,DEBUTSTEP!$AP$4:$AQ$33,2,FALSE)","v":"X"},"ABSENT",{"$f":"VLOOKUP(U19,DEBUTSTEP!$AP$4:$AQ$33,2,FALSE)","v":"X"},"ABSENT",{"$f":"VLOOKUP(W19,DEBUTSTEP!$AP$4:$AQ$33,2,FALSE)","v":"X"},"ABSENT",{"$f":"VLOOKUP(Y19,DEBUTSTEP!$AP$4:$AQ$33,2,FALSE)","v":"X"},"ABSENT",{"$f":"VLOOKUP(AA19,DEBUTSTEP!$AP$4:$AQ$33,2,FALSE)","v":"X"},"ABSENT",{"$f":"VLOOKUP(AC19,DEBUTSTEP!$AP$4:$AQ$33,2,FALSE)","v":"X"},"ABSENT",{"$f":"VLOOKUP(AE19,DEBUTSTEP!$AP$4:$AQ$33,2,FALSE)","v":"X"},"ABSENT",{"$f":"VLOOKUP(AG19,DEBUTSTEP!$AP$4:$AQ$33,2,FALSE)","v":"X"},"ABSENT",{"$f":"VLOOKUP(AI19,DEBUTSTEP!$AP$4:$AQ$33,2,FALSE)","v":"X"},"ABSENT",{"$f":"VLOOKUP(AK19,DEBUTSTEP!$AP$4:$AQ$33,2,FALSE)","v":"X"},"ABSENT",{"$f":"VLOOKUP(AM19,DEBUTSTEP!$AP$4:$AQ$33,2,FALSE)","v":"X"},"ABSENT",{"$f":"VLOOKUP(AO19,DEBUTSTEP!$AP$4:$AQ$33,2,FALSE)","v":"X"},"ABSENT",{"$f":"VLOOKUP(AQ19,DEBUTSTEP!$AP$4:$AQ$33,2,FALSE)","v":"X"},"ABSENT",{"$f":"VLOOKUP(AS19,DEBUTSTEP!$AP$4:$AQ$33,2,FALSE)","v":"X"},"ABSENT",{"$f":"VLOOKUP(AU19,DEBUTSTEP!$AP$4:$AQ$33,2,FALSE)","v":"X"},"ABSENT",{"$f":"VLOOKUP(AW19,DEBUTSTEP!$AP$4:$AQ$33,2,FALSE)","v":"X"},"ABSENT",{"$f":"VLOOKUP(AY19,DEBUTSTEP!$AP$4:$AQ$33,2,FALSE)","v":"X"},"ABSENT",{"$f":"VLOOKUP(BA19,DEBUTSTEP!$AP$4:$AQ$33,2,FALSE)","v":"X"},"ABSENT",{"$f":"VLOOKUP(BC19,DEBUTSTEP!$AP$4:$AQ$33,2,FALSE)","v":"X"},"ABSENT",{"$f":"VLOOKUP(BE19,DEBUTSTEP!$AP$4:$AQ$33,2,FALSE)","v":"X"},"ABSENT",{"$f":"VLOOKUP(BG19,DEBUTSTEP!$AP$4:$AQ$33,2,FALSE)","v":"X"},"ABSENT",{"$f":"VLOOKUP(BI19,DEBUTSTEP!$AP$4:$AQ$33,2,FALSE)","v":"X"},"ABSENT",{"$f":"VLOOKUP(BK19,DEBUTSTEP!$AP$4:$AQ$33,2,FALSE)","v":"X"},"ABSENT",{"$f":"VLOOKUP(BM19,DEBUTSTEP!$AP$4:$AQ$33,2,FALSE)","v":"X"},"ABSENT",{"$f":"VLOOKUP(BO19,DEBUTSTEP!$AP$4:$AQ$33,2,FALSE)","v":"X"},"ABSENT",{"$f":"VLOOKUP(BQ19,DEBUTSTEP!$AP$4:$AQ$33,2,FALSE)","v":"X"},"ABSENT",{"$f":"VLOOKUP(BS19,DEBUTSTEP!$AP$4:$AQ$33,2,FALSE)","v":"X"}]
[]
[null,"S'engager dans le mobile proposé","Aucun",{"$f":"VLOOKUP(C21,DEBUTSTEP!$AR$4:$AS$33,2,FALSE)","v":0},"Aucun",{"$f":"VLOOKUP(E21,DEBUTSTEP!$AR$4:$AS$33,2,FALSE)","v":0},"Aucun",{"$f":"VLOOKUP(G21,DEBUTSTEP!$AR$4:$AS$33,2,FALSE)","v":0},"Aucun",{"$f":"VLOOKUP(I21,DEBUTSTEP!$AR$4:$AS$33,2,FALSE)","v":0},"Aucun",{"$f":"VLOOKUP(K21,DEBUTSTEP!$AR$4:$AS$33,2,FALSE)","v":0},"Aucun",{"$f":"VLOOKUP(M21,DEBUTSTEP!$AR$4:$AS$33,2,FALSE)","v":0},"Aucun",{"$f":"VLOOKUP(O21,DEBUTSTEP!$AR$4:$AS$33,2,FALSE)","v":0},"Aucun",{"$f":"VLOOKUP(Q21,DEBUTSTEP!$AR$4:$AS$33,2,FALSE)","v":0},"Aucun",{"$f":"VLOOKUP(S21,DEBUTSTEP!$AR$4:$AS$33,2,FALSE)","v":0},"Aucun",{"$f":"VLOOKUP(U21,DEBUTSTEP!$AR$4:$AS$33,2,FALSE)","v":0},"Aucun",{"$f":"VLOOKUP(W21,DEBUTSTEP!$AR$4:$AS$33,2,FALSE)","v":0},"Aucun",{"$f":"VLOOKUP(Y21,DEBUTSTEP!$AR$4:$AS$33,2,FALSE)","v":0},"Aucun",{"$f":"VLOOKUP(AA21,DEBUTSTEP!$AR$4:$AS$33,2,FALSE)","v":0},"Aucun",{"$f":"VLOOKUP(AC21,DEBUTSTEP!$AR$4:$AS$33,2,FALSE)","v":0},"Aucun",{"$f":"VLOOKUP(AE21,DEBUTSTEP!$AR$4:$AS$33,2,FALSE)","v":0},"Aucun",{"$f":"VLOOKUP(AG21,DEBUTSTEP!$AR$4:$AS$33,2,FALSE)","v":0},"Aucun",{"$f":"VLOOKUP(AI21,DEBUTSTEP!$AR$4:$AS$33,2,FALSE)","v":0},"Aucun",{"$f":"VLOOKUP(AK21,DEBUTSTEP!$AR$4:$AS$33,2,FALSE)","v":0},"Aucun",{"$f":"VLOOKUP(AM21,DEBUTSTEP!$AR$4:$AS$33,2,FALSE)","v":0},"Aucun",{"$f":"VLOOKUP(AO21,DEBUTSTEP!$AR$4:$AS$33,2,FALSE)","v":0},"Aucun",{"$f":"VLOOKUP(AQ21,DEBUTSTEP!$AR$4:$AS$33,2,FALSE)","v":0},"Aucun",{"$f":"VLOOKUP(AS21,DEBUTSTEP!$AR$4:$AS$33,2,FALSE)","v":0},"Aucun",{"$f":"VLOOKUP(AU21,DEBUTSTEP!$AR$4:$AS$33,2,FALSE)","v":0},"Aucun",{"$f":"VLOOKUP(AW21,DEBUTSTEP!$AR$4:$AS$33,2,FALSE)","v":0},"Aucun",{"$f":"VLOOKUP(AY21,DEBUTSTEP!$AR$4:$AS$33,2,FALSE)","v":0},"Aucun",{"$f":"VLOOKUP(BA21,DEBUTSTEP!$AR$4:$AS$33,2,FALSE)","v":0},"Aucun",{"$f":"VLOOKUP(BC21,DEBUTSTEP!$AR$4:$AS$33,2,FALSE)","v":0},"Aucun",{"$f":"VLOOKUP(BE21,DEBUTSTEP!$AR$4:$AS$33,2,FALSE)","v":0},"Aucun",{"$f":"VLOOKUP(BG21,DEBUTSTEP!$AR$4:$AS$33,2,FALSE)","v":0},"Aucun",{"$f":"VLOOKUP(BI21,DEBUTSTEP!$AR$4:$AS$33,2,FALSE)","v":0},"Aucun",{"$f":"VLOOKUP(BK21,DEBUTSTEP!$AR$4:$AS$33,2,FALSE)","v":0},"Aucun",{"$f":"VLOOKUP(BM21,DEBUTSTEP!$AR$4:$AS$33,2,FALSE)","v":0},"Aucun",{"$f":"VLOOKUP(BO21,DEBUTSTEP!$AR$4:$AS$33,2,FALSE)","v":0},"Aucun",{"$f":"VLOOKUP(BQ21,DEBUTSTEP!$AR$4:$AS$33,2,FALSE)","v":0},"Aucun",{"$f":"VLOOKUP(BS21,DEBUTSTEP!$AR$4:$AS$33,2,FALSE)","v":0}]
[]
[null,"Agir en sécu","Danger",{"$f":"VLOOKUP(C23,DEBUTSTEP!$AT$4:$AU$33,2,FALSE)","v":0},"Danger",{"$f":"VLOOKUP(E23,DEBUTSTEP!$AT$4:$AU$33,2,FALSE)","v":0},"Danger",{"$f":"VLOOKUP(G23,DEBUTSTEP!$AT$4:$AU$33,2,FALSE)","v":0},"Danger",{"$f":"VLOOKUP(I23,DEBUTSTEP!$AT$4:$AU$33,2,FALSE)","v":0},"Danger",{"$f":"VLOOKUP(K23,DEBUTSTEP!$AT$4:$AU$33,2,FALSE)","v":0},"Danger",{"$f":"VLOOKUP(M23,DEBUTSTEP!$AT$4:$AU$33,2,FALSE)","v":0},"Danger",{"$f":"VLOOKUP(O23,DEBUTSTEP!$AT$4:$AU$33,2,FALSE)","v":0},"Danger",{"$f":"VLOOKUP(Q23,DEBUTSTEP!$AT$4:$AU$33,2,FALSE)","v":0},"Danger",{"$f":"VLOOKUP(S23,DEBUTSTEP!$AT$4:$AU$33,2,FALSE)","v":0},"Danger",{"$f":"VLOOKUP(U23,DEBUTSTEP!$AT$4:$AU$33,2,FALSE)","v":0},"Danger",{"$f":"VLOOKUP(W23,DEBUTSTEP!$AT$4:$AU$33,2,FALSE)","v":0},"Danger",{"$f":"VLOOKUP(Y23,DEBUTSTEP!$AT$4:$AU$33,2,FALSE)","v":0},"Danger",{"$f":"VLOOKUP(AA23,DEBUTSTEP!$AT$4:$AU$33,2,FALSE)","v":0},"Danger",{"$f":"VLOOKUP(AC23,DEBUTSTEP!$AT$4:$AU$33,2,FALSE)","v":0},"Danger",{"$f":"VLOOKUP(AE23,DEBUTSTEP!$AT$4:$AU$33,2,FALSE)","v":0},"Danger",{"$f":"VLOOKUP(AG23,DEBUTSTEP!$AT$4:$AU$33,2,FALSE)","v":0},"Danger",{"$f":"VLOOKUP(AI23,DEBUTSTEP!$AT$4:$AU$33,2,FALSE)","v":0},"Danger",{"$f":"VLOOKUP(AK23,DEBUTSTEP!$AT$4:$AU$33,2,FALSE)","v":0},"Danger",{"$f":"VLOOKUP(AM23,DEBUTSTEP!$AT$4:$AU$33,2,FALSE)","v":0},"Danger",{"$f":"VLOOKUP(AO23,DEBUTSTEP!$AT$4:$AU$33,2,FALSE)","v":0},"Danger",{"$f":"VLOOKUP(AQ23,DEBUTSTEP!$AT$4:$AU$33,2,FALSE)","v":0},"Danger",{"$f":"VLOOKUP(AS23,DEBUTSTEP!$AT$4:$AU$33,2,FALSE)","v":0},"Danger",{"$f":"VLOOKUP(AU23,DEBUTSTEP!$AT$4:$AU$33,2,FALSE)","v":0},"Danger",{"$f":"VLOOKUP(AW23,DEBUTSTEP!$AT$4:$AU$33,2,FALSE)","v":0},"Danger",{"$f":"VLOOKUP(AY23,DEBUTSTEP!$AT$4:$AU$33,2,FALSE)","v":0},"Danger",{"$f":"VLOOKUP(BA23,DEBUTSTEP!$AT$4:$AU$33,2,FALSE)","v":0},"Danger",{"$f":"VLOOKUP(BC23,DEBUTSTEP!$AT$4:$AU$33,2,FALSE)","v":0},"Danger",{"$f":"VLOOKUP(BE23,DEBUTSTEP!$AT$4:$AU$33,2,FALSE)","v":0},"Danger",{"$f":"VLOOKUP(BG23,DEBUTSTEP!$AT$4:$AU$33,2,FALSE)","v":0},"Danger",{"$f":"VLOOKUP(BI23,DEBUTSTEP!$AT$4:$AU$33,2,FALSE)","v":0},"Danger",{"$f":"VLOOKUP(BK23,DEBUTSTEP!$AT$4:$AU$33,2,FALSE)","v":0},"Danger",{"$f":"VLOOKUP(BM23,DEBUTSTEP!$AT$4:$AU$33,2,FALSE)","v":0},"Danger",{"$f":"VLOOKUP(BO23,DEBUTSTEP!$AT$4:$AU$33,2,FALSE)","v":0},"Danger",{"$f":"VLOOKUP(BQ23,DEBUTSTEP!$AT$4:$AU$33,2,FALSE)","v":0},"Danger",{"$f":"VLOOKUP(BS23,DEBUTSTEP!$AT$4:$AU$33,2,FALSE)","v":0}]
[]
[null,"Respecter l'entrainement prévu","Pas du tout",{"$f":"VLOOKUP(C25,DEBUTSTEP!$AV$4:$AW$33,2,FALSE)","v":0},"Pas du tout",{"$f":"VLOOKUP(E25,DEBUTSTEP!$AV$4:$AW$33,2,FALSE)","v":0},"Pas du tout",{"$f":"VLOOKUP(G25,DEBUTSTEP!$AV$4:$AW$33,2,FALSE)","v":0},"Pas du tout",{"$f":"VLOOKUP(I25,DEBUTSTEP!$AV$4:$AW$33,2,FALSE)","v":0},"Pas du tout",{"$f":"VLOOKUP(K25,DEBUTSTEP!$AV$4:$AW$33,2,FALSE)","v":0},"Pas du tout",{"$f":"VLOOKUP(M25,DEBUTSTEP!$AV$4:$AW$33,2,FALSE)","v":0},"Pas du tout",{"$f":"VLOOKUP(O25,DEBUTSTEP!$AV$4:$AW$33,2,FALSE)","v":0},"Pas du tout",{"$f":"VLOOKUP(Q25,DEBUTSTEP!$AV$4:$AW$33,2,FALSE)","v":0},"Pas du tout",{"$f":"VLOOKUP(S25,DEBUTSTEP!$AV$4:$AW$33,2,FALSE)","v":0},"Pas du tout",{"$f":"VLOOKUP(U25,DEBUTSTEP!$AV$4:$AW$33,2,FALSE)","v":0},"Pas du tout",{"$f":"VLOOKUP(W25,DEBUTSTEP!$AV$4:$AW$33,2,FALSE)","v":0},"Pas du tout",{"$f":"VLOOKUP(Y25,DEBUTSTEP!$AV$4:$AW$33,2,FALSE)","v":0},"Pas du tout",{"$f":"VLOOKUP(AA25,DEBUTSTEP!$AV$4:$AW$33,2,FALSE)","v":0},"Pas du tout",{"$f":"VLOOKUP(AC25,DEBUTSTEP!$AV$4:$AW$33,2,FALSE)","v":0},"Pas du tout",{"$f":"VLOOKUP(AE25,DEBUTSTEP!$AV$4:$AW$33,2,FALSE)","v":0},"Pas du tout",{"$f":"VLOOKUP(AG25,DEBUTSTEP!$AV$4:$AW$33,2,FALSE)","v":0},"Pas du tout",{"$f":"VLOOKUP(AI25,DEBUTSTEP!$AV$4:$AW$33,2,FALSE)","v":0},"Pas du tout",{"$f":"VLOOKUP(AK25,DEBUTSTEP!$AV$4:$AW$33,2,FALSE)","v":0},"Pas du tout",{"$f":"VLOOKUP(AM25,DEBUTSTEP!$AV$4:$AW$33,2,FALSE)","v":0},"Pas du tout",{"$f":"VLOOKUP(AO25,DEBUTSTEP!$AV$4:$AW$33,2,FALSE)","v":0},"Pas du tout",{"$f":"VLOOKUP(AQ25,DEBUTSTEP!$AV$4:$AW$33,2,FALSE)","v":0},"Pas du tout",{"$f":"VLOOKUP(AS25,DEBUTSTEP!$AV$4:$AW$33,2,FALSE)","v":0},"Pas du tout",{"$f":"VLOOKUP(AU25,DEBUTSTEP!$AV$4:$AW$33,2,FALSE)","v":0},"Pas du tout",{"$f":"VLOOKUP(AW25,DEBUTSTEP!$AV$4:$AW$33,2,FALSE)","v":0},"Pas du tout",{"$f":"VLOOKUP(AY25,DEBUTSTEP!$AV$4:$AW$33,2,FALSE)","v":0},"Pas du tout",{"$f":"VLOOKUP(BA25,DEBUTSTEP!$AV$4:$AW$33,2,FALSE)","v":0},"Pas du tout",{"$f":"VLOOKUP(BC25,DEBUTSTEP!$AV$4:$AW$33,2,FALSE)","v":0},"Pas du tout",{"$f":"VLOOKUP(BE25,DEBUTSTEP!$AV$4:$AW$33,2,FALSE)","v":0},"Pas du tout",{"$f":"VLOOKUP(BG25,DEBUTSTEP!$AV$4:$AW$33,2,FALSE)","v":0},"Pas du tout",{"$f":"VLOOKUP(BI25,DEBUTSTEP!$AV$4:$AW$33,2,FALSE)","v":0},"Pas du tout",{"$f":"VLOOKUP(BK25,DEBUTSTEP!$AV$4:$AW$33,2,FALSE)","v":0},"Pas du tout",{"$f":"VLOOKUP(BM25,DEBUTSTEP!$AV$4:$AW$33,2,FALSE)","v":0},"Pas du tout",{"$f":"VLOOKUP(BO25,DEBUTSTEP!$AV$4:$AW$33,2,FALSE)","v":0},"Pas du tout",{"$f":"VLOOKUP(BQ25,DEBUTSTEP!$AV$4:$AW$33,2,FALSE)","v":0},"Pas du tout",{"$f":"VLOOKUP(BS25,DEBUTSTEP!$AV$4:$AW$33,2,FALSE)","v":0}]
[]
[null,"Mémoriser les blocs","Aucune mémorisation",{"$f":"VLOOKUP(C27,DEBUTSTEP!$AX$4:$AY$33,2,FALSE)","v":0},"Aucune mémorisation",{"$f":"VLOOKUP(E27,DEBUTSTEP!$AX$4:$AY$33,2,FALSE)","v":0},"Aucune mémorisation",{"$f":"VLOOKUP(G27,DEBUTSTEP!$AX$4:$AY$33,2,FALSE)","v":0},"Aucune mémorisation",{"$f":"VLOOKUP(I27,DEBUTSTEP!$AX$4:$AY$33,2,FALSE)","v":0},"Aucune mémorisation",{"$f":"VLOOKUP(K27,DEBUTSTEP!$AX$4:$AY$33,2,FALSE)","v":0},"Aucune mémorisation",{"$f":"VLOOKUP(M27,DEBUTSTEP!$AX$4:$AY$33,2,FALSE)","v":0},"Aucune mémorisation",{"$f":"VLOOKUP(O27,DEBUTSTEP!$AX$4:$AY$33,2,FALSE)","v":0},"Aucune mémorisation",{"$f":"VLOOKUP(Q27,DEBUTSTEP!$AX$4:$AY$33,2,FALSE)","v":0},"Aucune mémorisation",{"$f":"VLOOKUP(S27,DEBUTSTEP!$AX$4:$AY$33,2,FALSE)","v":0},"Aucune mémorisation",{"$f":"VLOOKUP(U27,DEBUTSTEP!$AX$4:$AY$33,2,FALSE)","v":0},"Aucune mémorisation",{"$f":"VLOOKUP(W27,DEBUTSTEP!$AX$4:$AY$33,2,FALSE)","v":0},"Aucune mémorisation",{"$f":"VLOOKUP(Y27,DEBUTSTEP!$AX$4:$AY$33,2,FALSE)","v":0},"Aucune mémorisation",{"$f":"VLOOKUP(AA27,DEBUTSTEP!$AX$4:$AY$33,2,FALSE)","v":0},"Aucune mémorisation",{"$f":"VLOOKUP(AC27,DEBUTSTEP!$AX$4:$AY$33,2,FALSE)","v":0},"Aucune mémorisation",{"$f":"VLOOKUP(AE27,DEBUTSTEP!$AX$4:$AY$33,2,FALSE)","v":0},"Aucune mémorisation",{"$f":"VLOOKUP(AG27,DEBUTSTEP!$AX$4:$AY$33,2,FALSE)","v":0},"Aucune mémorisation",{"$f":"VLOOKUP(AI27,DEBUTSTEP!$AX$4:$AY$33,2,FALSE)","v":0},"Aucune mémorisation",{"$f":"VLOOKUP(AK27,DEBUTSTEP!$AX$4:$AY$33,2,FALSE)","v":0},"Aucune mémorisation",{"$f":"VLOOKUP(AM27,DEBUTSTEP!$AX$4:$AY$33,2,FALSE)","v":0},"Aucune mémorisation",{"$f":"VLOOKUP(AO27,DEBUTSTEP!$AX$4:$AY$33,2,FALSE)","v":0},"Aucune mémorisation",{"$f":"VLOOKUP(AQ27,DEBUTSTEP!$AX$4:$AY$33,2,FALSE)","v":0},"Aucune mémorisation",{"$f":"VLOOKUP(AS27,DEBUTSTEP!$AX$4:$AY$33,2,FALSE)","v":0},"Aucune mémorisation",{"$f":"VLOOKUP(AU27,DEBUTSTEP!$AX$4:$AY$33,2,FALSE)","v":0},"Aucune mémorisation",{"$f":"VLOOKUP(AW27,DEBUTSTEP!$AX$4:$AY$33,2,FALSE)","v":0},"Aucune mémorisation",{"$f":"VLOOKUP(AY27,DEBUTSTEP!$AX$4:$AY$33,2,FALSE)","v":0},"Aucune mémorisation",{"$f":"VLOOKUP(BA27,DEBUTSTEP!$AX$4:$AY$33,2,FALSE)","v":0},"Aucune mémorisation",{"$f":"VLOOKUP(BC27,DEBUTSTEP!$AX$4:$AY$33,2,FALSE)","v":0},"Aucune mémorisation",{"$f":"VLOOKUP(BE27,DEBUTSTEP!$AX$4:$AY$33,2,FALSE)","v":0},"Aucune mémorisation",{"$f":"VLOOKUP(BG27,DEBUTSTEP!$AX$4:$AY$33,2,FALSE)","v":0},"Aucune mémorisation",{"$f":"VLOOKUP(BI27,DEBUTSTEP!$AX$4:$AY$33,2,FALSE)","v":0},"Aucune mémorisation",{"$f":"VLOOKUP(BK27,DEBUTSTEP!$AX$4:$AY$33,2,FALSE)","v":0},"Aucune mémorisation",{"$f":"VLOOKUP(BM27,DEBUTSTEP!$AX$4:$AY$33,2,FALSE)","v":0},"Aucune mémorisation",{"$f":"VLOOKUP(BO27,DEBUTSTEP!$AX$4:$AY$33,2,FALSE)","v":0},"Aucune mémorisation",{"$f":"VLOOKUP(BQ27,DEBUTSTEP!$AX$4:$AY$33,2,FALSE)","v":0},"Aucune mémorisation",{"$f":"VLOOKUP(BS27,DEBUTSTEP!$AX$4:$AY$33,2,FALSE)","v":0}]
[]
[null,"Analyser sa prestation","Imprécise",{"$f":"VLOOKUP(C29,DEBUTSTEP!$AZ$4:$BA$33,2,FALSE)","v":1},"Imprécise",{"$f":"VLOOKUP(E29,DEBUTSTEP!$AZ$4:$BA$33,2,FALSE)","v":1},"Imprécise",{"$f":"VLOOKUP(G29,DEBUTSTEP!$AZ$4:$BA$33,2,FALSE)","v":1},"Imprécise",{"$f":"VLOOKUP(I29,DEBUTSTEP!$AZ$4:$BA$33,2,FALSE)","v":1},"Imprécise",{"$f":"VLOOKUP(K29,DEBUTSTEP!$AZ$4:$BA$33,2,FALSE)","v":1},"Imprécise",{"$f":"VLOOKUP(M29,DEBUTSTEP!$AZ$4:$BA$33,2,FALSE)","v":1},"Imprécise",{"$f":"VLOOKUP(O29,DEBUTSTEP!$AZ$4:$BA$33,2,FALSE)","v":1},"Imprécise",{"$f":"VLOOKUP(Q29,DEBUTSTEP!$AZ$4:$BA$33,2,FALSE)","v":1},"Imprécise",{"$f":"VLOOKUP(S29,DEBUTSTEP!$AZ$4:$BA$33,2,FALSE)","v":1},"Imprécise",{"$f":"VLOOKUP(U29,DEBUTSTEP!$AZ$4:$BA$33,2,FALSE)","v":1},"Imprécise",{"$f":"VLOOKUP(W29,DEBUTSTEP!$AZ$4:$BA$33,2,FALSE)","v":1},"Imprécise",{"$f":"VLOOKUP(Y29,DEBUTSTEP!$AZ$4:$BA$33,2,FALSE)","v":1},"Imprécise",{"$f":"VLOOKUP(AA29,DEBUTSTEP!$AZ$4:$BA$33,2,FALSE)","v":1},"Imprécise",{"$f":"VLOOKUP(AC29,DEBUTSTEP!$AZ$4:$BA$33,2,FALSE)","v":1},"Imprécise",{"$f":"VLOOKUP(AE29,DEBUTSTEP!$AZ$4:$BA$33,2,FALSE)","v":1},"Imprécise",{"$f":"VLOOKUP(AG29,DEBUTSTEP!$AZ$4:$BA$33,2,FALSE)","v":1},"Imprécise",{"$f":"VLOOKUP(AI29,DEBUTSTEP!$AZ$4:$BA$33,2,FALSE)","v":1},"Imprécise",{"$f":"VLOOKUP(AK29,DEBUTSTEP!$AZ$4:$BA$33,2,FALSE)","v":1},"Imprécise",{"$f":"VLOOKUP(AM29,DEBUTSTEP!$AZ$4:$BA$33,2,FALSE)","v":1},"Imprécise",{"$f":"VLOOKUP(AO29,DEBUTSTEP!$AZ$4:$BA$33,2,FALSE)","v":1},"Imprécise",{"$f":"VLOOKUP(AQ29,DEBUTSTEP!$AZ$4:$BA$33,2,FALSE)","v":1},"Imprécise",{"$f":"VLOOKUP(AS29,DEBUTSTEP!$AZ$4:$BA$33,2,FALSE)","v":1},"Imprécise",{"$f":"VLOOKUP(AU29,DEBUTSTEP!$AZ$4:$BA$33,2,FALSE)","v":1},"Imprécise",{"$f":"VLOOKUP(AW29,DEBUTSTEP!$AZ$4:$BA$33,2,FALSE)","v":1},"Imprécise",{"$f":"VLOOKUP(AY29,DEBUTSTEP!$AZ$4:$BA$33,2,FALSE)","v":1},"Imprécise",{"$f":"VLOOKUP(BA29,DEBUTSTEP!$AZ$4:$BA$33,2,FALSE)","v":1},"Imprécise",{"$f":"VLOOKUP(BC29,DEBUTSTEP!$AZ$4:$BA$33,2,FALSE)","v":1},"Imprécise",{"$f":"VLOOKUP(BE29,DEBUTSTEP!$AZ$4:$BA$33,2,FALSE)","v":1},"Imprécise",{"$f":"VLOOKUP(BG29,DEBUTSTEP!$AZ$4:$BA$33,2,FALSE)","v":1},"Imprécise",{"$f":"VLOOKUP(BI29,DEBUTSTEP!$AZ$4:$BA$33,2,FALSE)","v":1},"Imprécise",{"$f":"VLOOKUP(BK29,DEBUTSTEP!$AZ$4:$BA$33,2,FALSE)","v":1},"Imprécise",{"$f":"VLOOKUP(BM29,DEBUTSTEP!$AZ$4:$BA$33,2,FALSE)","v":1},"Imprécise",{"$f":"VLOOKUP(BO29,DEBUTSTEP!$AZ$4:$BA$33,2,FALSE)","v":1},"Imprécise",{"$f":"VLOOKUP(BQ29,DEBUTSTEP!$AZ$4:$BA$33,2,FALSE)","v":1},"Imprécise",{"$f":"VLOOKUP(BS29,DEBUTSTEP!$AZ$4:$BA$33,2,FALSE)","v":1}]
[]
[null,"NOTE",{"$f":"IF(OR(D19=\"x\",D21=\"x\",D23=\"x\",D25=\"x\",D27=\"x\",D29=\"x\"),\"ABSENT\",SUMIF(D19,\"<>X\")+SUMIF(D21,\"<>X\")+SUMIF(D23,\"<>X\")+SUMIF(D25,\"<>X\")+SUMIF(D27,\"<>X\")+SUMIF(D29,\"<>X\"))","v":"ABSENT"},null,{"$f":"IF(OR(F19=\"x\",F21=\"x\",F23=\"x\",F25=\"x\",F27=\"x\",F29=\"x\"),\"ABSENT\",SUMIF(F19,\"<>X\")+SUMIF(F21,\"<>X\")+SUMIF(F23,\"<>X\")+SUMIF(F25,\"<>X\")+SUMIF(F27,\"<>X\")+SUMIF(F29,\"<>X\"))","v":"ABSENT"},null,{"$f":"IF(OR(H19=\"x\",H21=\"x\",H23=\"x\",H25=\"x\",H27=\"x\",H29=\"x\"),\"ABSENT\",SUMIF(H19,\"<>X\")+SUMIF(H21,\"<>X\")+SUMIF(H23,\"<>X\")+SUMIF(H25,\"<>X\")+SUMIF(H27,\"<>X\")+SUMIF(H29,\"<>X\"))","v":"ABSENT"},null,{"$f":"IF(OR(J19=\"x\",J21=\"x\",J23=\"x\",J25=\"x\",J27=\"x\",J29=\"x\"),\"ABSENT\",SUMIF(J19,\"<>X\")+SUMIF(J21,\"<>X\")+SUMIF(J23,\"<>X\")+SUMIF(J25,\"<>X\")+SUMIF(J27,\"<>X\")+SUMIF(J29,\"<>X\"))","v":"ABSENT"},null,{"$f":"IF(OR(L19=\"x\",L21=\"x\",L23=\"x\",L25=\"x\",L27=\"x\",L29=\"x\"),\"ABSENT\",SUMIF(L19,\"<>X\")+SUMIF(L21,\"<>X\")+SUMIF(L23,\"<>X\")+SUMIF(L25,\"<>X\")+SUMIF(L27,\"<>X\")+SUMIF(L29,\"<>X\"))","v":"ABSENT"},null,{"$f":"IF(OR(N19=\"x\",N21=\"x\",N23=\"x\",N25=\"x\",N27=\"x\",N29=\"x\"),\"ABSENT\",SUMIF(N19,\"<>X\")+SUMIF(N21,\"<>X\")+SUMIF(N23,\"<>X\")+SUMIF(N25,\"<>X\")+SUMIF(N27,\"<>X\")+SUMIF(N29,\"<>X\"))","v":"ABSENT"},null,{"$f":"IF(OR(P19=\"x\",P21=\"x\",P23=\"x\",P25=\"x\",P27=\"x\",P29=\"x\"),\"ABSENT\",SUMIF(P19,\"<>X\")+SUMIF(P21,\"<>X\")+SUMIF(P23,\"<>X\")+SUMIF(P25,\"<>X\")+SUMIF(P27,\"<>X\")+SUMIF(P29,\"<>X\"))","v":"ABSENT"},null,{"$f":"IF(OR(R19=\"x\",R21=\"x\",R23=\"x\",R25=\"x\",R27=\"x\",R29=\"x\"),\"ABSENT\",SUMIF(R19,\"<>X\")+SUMIF(R21,\"<>X\")+SUMIF(R23,\"<>X\")+SUMIF(R25,\"<>X\")+SUMIF(R27,\"<>X\")+SUMIF(R29,\"<>X\"))","v":"ABSENT"},null,{"$f":"IF(OR(T19=\"x\",T21=\"x\",T23=\"x\",T25=\"x\",T27=\"x\",T29=\"x\"),\"ABSENT\",SUMIF(T19,\"<>X\")+SUMIF(T21,\"<>X\")+SUMIF(T23,\"<>X\")+SUMIF(T25,\"<>X\")+SUMIF(T27,\"<>X\")+SUMIF(T29,\"<>X\"))","v":"ABSENT"},null,{"$f":"IF(OR(V19=\"x\",V21=\"x\",V23=\"x\",V25=\"x\",V27=\"x\",V29=\"x\"),\"ABSENT\",SUMIF(V19,\"<>X\")+SUMIF(V21,\"<>X\")+SUMIF(V23,\"<>X\")+SUMIF(V25,\"<>X\")+SUMIF(V27,\"<>X\")+SUMIF(V29,\"<>X\"))","v":"ABSENT"},null,{"$f":"IF(OR(X19=\"x\",X21=\"x\",X23=\"x\",X25=\"x\",X27=\"x\",X29=\"x\"),\"ABSENT\",SUMIF(X19,\"<>X\")+SUMIF(X21,\"<>X\")+SUMIF(X23,\"<>X\")+SUMIF(X25,\"<>X\")+SUMIF(X27,\"<>X\")+SUMIF(X29,\"<>X\"))","v":"ABSENT"},null,{"$f":"IF(OR(Z19=\"x\",Z21=\"x\",Z23=\"x\",Z25=\"x\",Z27=\"x\",Z29=\"x\"),\"ABSENT\",SUMIF(Z19,\"<>X\")+SUMIF(Z21,\"<>X\")+SUMIF(Z23,\"<>X\")+SUMIF(Z25,\"<>X\")+SUMIF(Z27,\"<>X\")+SUMIF(Z29,\"<>X\"))","v":"ABSENT"},null,{"$f":"IF(OR(AB19=\"x\",AB21=\"x\",AB23=\"x\",AB25=\"x\",AB27=\"x\",AB29=\"x\"),\"ABSENT\",SUMIF(AB19,\"<>X\")+SUMIF(AB21,\"<>X\")+SUMIF(AB23,\"<>X\")+SUMIF(AB25,\"<>X\")+SUMIF(AB27,\"<>X\")+SUMIF(AB29,\"<>X\"))","v":"ABSENT"},null,{"$f":"IF(OR(AD19=\"x\",AD21=\"x\",AD23=\"x\",AD25=\"x\",AD27=\"x\",AD29=\"x\"),\"ABSENT\",SUMIF(AD19,\"<>X\")+SUMIF(AD21,\"<>X\")+SUMIF(AD23,\"<>X\")+SUMIF(AD25,\"<>X\")+SUMIF(AD27,\"<>X\")+SUMIF(AD29,\"<>X\"))","v":"ABSENT"},null,{"$f":"IF(OR(AF19=\"x\",AF21=\"x\",AF23=\"x\",AF25=\"x\",AF27=\"x\",AF29=\"x\"),\"ABSENT\",SUMIF(AF19,\"<>X\")+SUMIF(AF21,\"<>X\")+SUMIF(AF23,\"<>X\")+SUMIF(AF25,\"<>X\")+SUMIF(AF27,\"<>X\")+SUMIF(AF29,\"<>X\"))","v":"ABSENT"},null,{"$f":"IF(OR(AH19=\"x\",AH21=\"x\",AH23=\"x\",AH25=\"x\",AH27=\"x\",AH29=\"x\"),\"ABSENT\",SUMIF(AH19,\"<>X\")+SUMIF(AH21,\"<>X\")+SUMIF(AH23,\"<>X\")+SUMIF(AH25,\"<>X\")+SUMIF(AH27,\"<>X\")+SUMIF(AH29,\"<>X\"))","v":"ABSENT"},null,{"$f":"IF(OR(AJ19=\"x\",AJ21=\"x\",AJ23=\"x\",AJ25=\"x\",AJ27=\"x\",AJ29=\"x\"),\"ABSENT\",SUMIF(AJ19,\"<>X\")+SUMIF(AJ21,\"<>X\")+SUMIF(AJ23,\"<>X\")+SUMIF(AJ25,\"<>X\")+SUMIF(AJ27,\"<>X\")+SUMIF(AJ29,\"<>X\"))","v":"ABSENT"},null,{"$f":"IF(OR(AL19=\"x\",AL21=\"x\",AL23=\"x\",AL25=\"x\",AL27=\"x\",AL29=\"x\"),\"ABSENT\",SUMIF(AL19,\"<>X\")+SUMIF(AL21,\"<>X\")+SUMIF(AL23,\"<>X\")+SUMIF(AL25,\"<>X\")+SUMIF(AL27,\"<>X\")+SUMIF(AL29,\"<>X\"))","v":"ABSENT"},null,{"$f":"IF(OR(AN19=\"x\",AN21=\"x\",AN23=\"x\",AN25=\"x\",AN27=\"x\",AN29=\"x\"),\"ABSENT\",SUMIF(AN19,\"<>X\")+SUMIF(AN21,\"<>X\")+SUMIF(AN23,\"<>X\")+SUMIF(AN25,\"<>X\")+SUMIF(AN27,\"<>X\")+SUMIF(AN29,\"<>X\"))","v":"ABSENT"},null,{"$f":"IF(OR(AP19=\"x\",AP21=\"x\",AP23=\"x\",AP25=\"x\",AP27=\"x\",AP29=\"x\"),\"ABSENT\",SUMIF(AP19,\"<>X\")+SUMIF(AP21,\"<>X\")+SUMIF(AP23,\"<>X\")+SUMIF(AP25,\"<>X\")+SUMIF(AP27,\"<>X\")+SUMIF(AP29,\"<>X\"))","v":"ABSENT"},null,{"$f":"IF(OR(AR19=\"x\",AR21=\"x\",AR23=\"x\",AR25=\"x\",AR27=\"x\",AR29=\"x\"),\"ABSENT\",SUMIF(AR19,\"<>X\")+SUMIF(AR21,\"<>X\")+SUMIF(AR23,\"<>X\")+SUMIF(AR25,\"<>X\")+SUMIF(AR27,\"<>X\")+SUMIF(AR29,\"<>X\"))","v":"ABSENT"},null,{"$f":"IF(OR(AT19=\"x\",AT21=\"x\",AT23=\"x\",AT25=\"x\",AT27=\"x\",AT29=\"x\"),\"ABSENT\",SUMIF(AT19,\"<>X\")+SUMIF(AT21,\"<>X\")+SUMIF(AT23,\"<>X\")+SUMIF(AT25,\"<>X\")+SUMIF(AT27,\"<>X\")+SUMIF(AT29,\"<>X\"))","v":"ABSENT"},null,{"$f":"IF(OR(AV19=\"x\",AV21=\"x\",AV23=\"x\",AV25=\"x\",AV27=\"x\",AV29=\"x\"),\"ABSENT\",SUMIF(AV19,\"<>X\")+SUMIF(AV21,\"<>X\")+SUMIF(AV23,\"<>X\")+SUMIF(AV25,\"<>X\")+SUMIF(AV27,\"<>X\")+SUMIF(AV29,\"<>X\"))","v":"ABSENT"},null,{"$f":"IF(OR(AX19=\"x\",AX21=\"x\",AX23=\"x\",AX25=\"x\",AX27=\"x\",AX29=\"x\"),\"ABSENT\",SUMIF(AX19,\"<>X\")+SUMIF(AX21,\"<>X\")+SUMIF(AX23,\"<>X\")+SUMIF(AX25,\"<>X\")+SUMIF(AX27,\"<>X\")+SUMIF(AX29,\"<>X\"))","v":"ABSENT"},null,{"$f":"IF(OR(AZ19=\"x\",AZ21=\"x\",AZ23=\"x\",AZ25=\"x\",AZ27=\"x\",AZ29=\"x\"),\"ABSENT\",SUMIF(AZ19,\"<>X\")+SUMIF(AZ21,\"<>X\")+SUMIF(AZ23,\"<>X\")+SUMIF(AZ25,\"<>X\")+SUMIF(AZ27,\"<>X\")+SUMIF(AZ29,\"<>X\"))","v":"ABSENT"},null,{"$f":"IF(OR(BB19=\"x\",BB21=\"x\",BB23=\"x\",BB25=\"x\",BB27=\"x\",BB29=\"x\"),\"ABSENT\",SUMIF(BB19,\"<>X\")+SUMIF(BB21,\"<>X\")+SUMIF(BB23,\"<>X\")+SUMIF(BB25,\"<>X\")+SUMIF(BB27,\"<>X\")+SUMIF(BB29,\"<>X\"))","v":"ABSENT"},null,{"$f":"IF(OR(BD19=\"x\",BD21=\"x\",BD23=\"x\",BD25=\"x\",BD27=\"x\",BD29=\"x\"),\"ABSENT\",SUMIF(BD19,\"<>X\")+SUMIF(BD21,\"<>X\")+SUMIF(BD23,\"<>X\")+SUMIF(BD25,\"<>X\")+SUMIF(BD27,\"<>X\")+SUMIF(BD29,\"<>X\"))","v":"ABSENT"},null,{"$f":"IF(OR(BF19=\"x\",BF21=\"x\",BF23=\"x\",BF25=\"x\",BF27=\"x\",BF29=\"x\"),\"ABSENT\",SUMIF(BF19,\"<>X\")+SUMIF(BF21,\"<>X\")+SUMIF(BF23,\"<>X\")+SUMIF(BF25,\"<>X\")+SUMIF(BF27,\"<>X\")+SUMIF(BF29,\"<>X\"))","v":"ABSENT"},null,{"$f":"IF(OR(BH19=\"x\",BH21=\"x\",BH23=\"x\",BH25=\"x\",BH27=\"x\",BH29=\"x\"),\"ABSENT\",SUMIF(BH19,\"<>X\")+SUMIF(BH21,\"<>X\")+SUMIF(BH23,\"<>X\")+SUMIF(BH25,\"<>X\")+SUMIF(BH27,\"<>X\")+SUMIF(BH29,\"<>X\"))","v":"ABSENT"},null,{"$f":"IF(OR(BJ19=\"x\",BJ21=\"x\",BJ23=\"x\",BJ25=\"x\",BJ27=\"x\",BJ29=\"x\"),\"ABSENT\",SUMIF(BJ19,\"<>X\")+SUMIF(BJ21,\"<>X\")+SUMIF(BJ23,\"<>X\")+SUMIF(BJ25,\"<>X\")+SUMIF(BJ27,\"<>X\")+SUMIF(BJ29,\"<>X\"))","v":"ABSENT"},null,{"$f":"IF(OR(BL19=\"x\",BL21=\"x\",BL23=\"x\",BL25=\"x\",BL27=\"x\",BL29=\"x\"),\"ABSENT\",SUMIF(BL19,\"<>X\")+SUMIF(BL21,\"<>X\")+SUMIF(BL23,\"<>X\")+SUMIF(BL25,\"<>X\")+SUMIF(BL27,\"<>X\")+SUMIF(BL29,\"<>X\"))","v":"ABSENT"},null,{"$f":"IF(OR(BN19=\"x\",BN21=\"x\",BN23=\"x\",BN25=\"x\",BN27=\"x\",BN29=\"x\"),\"ABSENT\",SUMIF(BN19,\"<>X\")+SUMIF(BN21,\"<>X\")+SUMIF(BN23,\"<>X\")+SUMIF(BN25,\"<>X\")+SUMIF(BN27,\"<>X\")+SUMIF(BN29,\"<>X\"))","v":"ABSENT"},null,{"$f":"IF(OR(BP19=\"x\",BP21=\"x\",BP23=\"x\",BP25=\"x\",BP27=\"x\",BP29=\"x\"),\"ABSENT\",SUMIF(BP19,\"<>X\")+SUMIF(BP21,\"<>X\")+SUMIF(BP23,\"<>X\")+SUMIF(BP25,\"<>X\")+SUMIF(BP27,\"<>X\")+SUMIF(BP29,\"<>X\"))","v":"ABSENT"},null,{"$f":"IF(OR(BR19=\"x\",BR21=\"x\",BR23=\"x\",BR25=\"x\",BR27=\"x\",BR29=\"x\"),\"ABSENT\",SUMIF(BR19,\"<>X\")+SUMIF(BR21,\"<>X\")+SUMIF(BR23,\"<>X\")+SUMIF(BR25,\"<>X\")+SUMIF(BR27,\"<>X\")+SUMIF(BR29,\"<>X\"))","v":"ABSENT"},null,{"$f":"IF(OR(BT19=\"x\",BT21=\"x\",BT23=\"x\",BT25=\"x\",BT27=\"x\",BT29=\"x\"),\"ABSENT\",SUMIF(BT19,\"<>X\")+SUMIF(BT21,\"<>X\")+SUMIF(BT23,\"<>X\")+SUMIF(BT25,\"<>X\")+SUMIF(BT27,\"<>X\")+SUMIF(BT29,\"<>X\"))","v":"ABSENT"}]
[]
["SEANCE 3","Prendre sa FC efficacement","ABSENT",{"$f":"VLOOKUP(C33,DEBUTSTEP!$AP$4:$AQ$33,2,FALSE)","v":"X"},"ABSENT",{"$f":"VLOOKUP(E33,DEBUTSTEP!$AP$4:$AQ$33,2,FALSE)","v":"X"},"ABSENT",{"$f":"VLOOKUP(G33,DEBUTSTEP!$AP$4:$AQ$33,2,FALSE)","v":"X"},"ABSENT",{"$f":"VLOOKUP(I33,DEBUTSTEP!$AP$4:$AQ$33,2,FALSE)","v":"X"},"ABSENT",{"$f":"VLOOKUP(K33,DEBUTSTEP!$AP$4:$AQ$33,2,FALSE)","v":"X"},"ABSENT",{"$f":"VLOOKUP(M33,DEBUTSTEP!$AP$4:$AQ$33,2,FALSE)","v":"X"},"ABSENT",{"$f":"VLOOKUP(O33,DEBUTSTEP!$AP$4:$AQ$33,2,FALSE)","v":"X"},"ABSENT",{"$f":"VLOOKUP(Q33,DEBUTSTEP!$AP$4:$AQ$33,2,FALSE)","v":"X"},"ABSENT",{"$f":"VLOOKUP(S33,DEBUTSTEP!$AP$4:$AQ$33,2,FALSE)","v":"X"},"ABSENT",{"$f":"VLOOKUP(U33,DEBUTSTEP!$AP$4:$AQ$33,2,FALSE)","v":"X"},"ABSENT",{"$f":"VLOOKUP(W33,DEBUTSTEP!$AP$4:$AQ$33,2,FALSE)","v":"X"},"ABSENT",{"$f":"VLOOKUP(Y33,DEBUTSTEP!$AP$4:$AQ$33,2,FALSE)","v":"X"},"ABSENT",{"$f":"VLOOKUP(AA33,DEBUTSTEP!$AP$4:$AQ$33,2,FALSE)","v":"X"},"ABSENT",{"$f":"VLOOKUP(AC33,DEBUTSTEP!$AP$4:$AQ$33,2,FALSE)","v":"X"},"ABSENT",{"$f":"VLOOKUP(AE33,DEBUTSTEP!$AP$4:$AQ$33,2,FALSE)","v":"X"},"ABSENT",{"$f":"VLOOKUP(AG33,DEBUTSTEP!$AP$4:$AQ$33,2,FALSE)","v":"X"},"ABSENT",{"$f":"VLOOKUP(AI33,DEBUTSTEP!$AP$4:$AQ$33,2,FALSE)","v":"X"},"ABSENT",{"$f":"VLOOKUP(AK33,DEBUTSTEP!$AP$4:$AQ$33,2,FALSE)","v":"X"},"ABSENT",{"$f":"VLOOKUP(AM33,DEBUTSTEP!$AP$4:$AQ$33,2,FALSE)","v":"X"},"ABSENT",{"$f":"VLOOKUP(AO33,DEBUTSTEP!$AP$4:$AQ$33,2,FALSE)","v":"X"},"ABSENT",{"$f":"VLOOKUP(AQ33,DEBUTSTEP!$AP$4:$AQ$33,2,FALSE)","v":"X"},"ABSENT",{"$f":"VLOOKUP(AS33,DEBUTSTEP!$AP$4:$AQ$33,2,FALSE)","v":"X"},"ABSENT",{"$f":"VLOOKUP(AU33,DEBUTSTEP!$AP$4:$AQ$33,2,FALSE)","v":"X"},"ABSENT",{"$f":"VLOOKUP(AW33,DEBUTSTEP!$AP$4:$AQ$33,2,FALSE)","v":"X"},"ABSENT",{"$f":"VLOOKUP(AY33,DEBUTSTEP!$AP$4:$AQ$33,2,FALSE)","v":"X"},"ABSENT",{"$f":"VLOOKUP(BA33,DEBUTSTEP!$AP$4:$AQ$33,2,FALSE)","v":"X"},"ABSENT",{"$f":"VLOOKUP(BC33,DEBUTSTEP!$AP$4:$AQ$33,2,FALSE)","v":"X"},"ABSENT",{"$f":"VLOOKUP(BE33,DEBUTSTEP!$AP$4:$AQ$33,2,FALSE)","v":"X"},"ABSENT",{"$f":"VLOOKUP(BG33,DEBUTSTEP!$AP$4:$AQ$33,2,FALSE)","v":"X"},"ABSENT",{"$f":"VLOOKUP(BI33,DEBUTSTEP!$AP$4:$AQ$33,2,FALSE)","v":"X"},"ABSENT",{"$f":"VLOOKUP(BK33,DEBUTSTEP!$AP$4:$AQ$33,2,FALSE)","v":"X"},"ABSENT",{"$f":"VLOOKUP(BM33,DEBUTSTEP!$AP$4:$AQ$33,2,FALSE)","v":"X"},"ABSENT",{"$f":"VLOOKUP(BO33,DEBUTSTEP!$AP$4:$AQ$33,2,FALSE)","v":"X"},"ABSENT",{"$f":"VLOOKUP(BQ33,DEBUTSTEP!$AP$4:$AQ$33,2,FALSE)","v":"X"},"ABSENT",{"$f":"VLOOKUP(BS33,DEBUTSTEP!$AP$4:$AQ$33,2,FALSE)","v":"X"}]
[]
[null,"S'engager dans le mobile proposé","Aucun",{"$f":"VLOOKUP(C35,DEBUTSTEP!$AR$4:$AS$33,2,FALSE)","v":0},"Aucun",{"$f":"VLOOKUP(E35,DEBUTSTEP!$AR$4:$AS$33,2,FALSE)","v":0},"Aucun",{"$f":"VLOOKUP(G35,DEBUTSTEP!$AR$4:$AS$33,2,FALSE)","v":0},"Aucun",{"$f":"VLOOKUP(I35,DEBUTSTEP!$AR$4:$AS$33,2,FALSE)","v":0},"Aucun",{"$f":"VLOOKUP(K35,DEBUTSTEP!$AR$4:$AS$33,2,FALSE)","v":0},"Aucun",{"$f":"VLOOKUP(M35,DEBUTSTEP!$AR$4:$AS$33,2,FALSE)","v":0},"Aucun",{"$f":"VLOOKUP(O35,DEBUTSTEP!$AR$4:$AS$33,2,FALSE)","v":0},"Aucun",{"$f":"VLOOKUP(Q35,DEBUTSTEP!$AR$4:$AS$33,2,FALSE)","v":0},"Aucun",{"$f":"VLOOKUP(S35,DEBUTSTEP!$AR$4:$AS$33,2,FALSE)","v":0},"Aucun",{"$f":"VLOOKUP(U35,DEBUTSTEP!$AR$4:$AS$33,2,FALSE)","v":0},"Aucun",{"$f":"VLOOKUP(W35,DEBUTSTEP!$AR$4:$AS$33,2,FALSE)","v":0},"Aucun",{"$f":"VLOOKUP(Y35,DEBUTSTEP!$AR$4:$AS$33,2,FALSE)","v":0},"Aucun",{"$f":"VLOOKUP(AA35,DEBUTSTEP!$AR$4:$AS$33,2,FALSE)","v":0},"Aucun",{"$f":"VLOOKUP(AC35,DEBUTSTEP!$AR$4:$AS$33,2,FALSE)","v":0},"Aucun",{"$f":"VLOOKUP(AE35,DEBUTSTEP!$AR$4:$AS$33,2,FALSE)","v":0},"Aucun",{"$f":"VLOOKUP(AG35,DEBUTSTEP!$AR$4:$AS$33,2,FALSE)","v":0},"Aucun",{"$f":"VLOOKUP(AI35,DEBUTSTEP!$AR$4:$AS$33,2,FALSE)","v":0},"Aucun",{"$f":"VLOOKUP(AK35,DEBUTSTEP!$AR$4:$AS$33,2,FALSE)","v":0},"Aucun",{"$f":"VLOOKUP(AM35,DEBUTSTEP!$AR$4:$AS$33,2,FALSE)","v":0},"Aucun",{"$f":"VLOOKUP(AO35,DEBUTSTEP!$AR$4:$AS$33,2,FALSE)","v":0},"Aucun",{"$f":"VLOOKUP(AQ35,DEBUTSTEP!$AR$4:$AS$33,2,FALSE)","v":0},"Aucun",{"$f":"VLOOKUP(AS35,DEBUTSTEP!$AR$4:$AS$33,2,FALSE)","v":0},"Aucun",{"$f":"VLOOKUP(AU35,DEBUTSTEP!$AR$4:$AS$33,2,FALSE)","v":0},"Aucun",{"$f":"VLOOKUP(AW35,DEBUTSTEP!$AR$4:$AS$33,2,FALSE)","v":0},"Aucun",{"$f":"VLOOKUP(AY35,DEBUTSTEP!$AR$4:$AS$33,2,FALSE)","v":0},"Aucun",{"$f":"VLOOKUP(BA35,DEBUTSTEP!$AR$4:$AS$33,2,FALSE)","v":0},"Aucun",{"$f":"VLOOKUP(BC35,DEBUTSTEP!$AR$4:$AS$33,2,FALSE)","v":0},"Aucun",{"$f":"VLOOKUP(BE35,DEBUTSTEP!$AR$4:$AS$33,2,FALSE)","v":0},"Aucun",{"$f":"VLOOKUP(BG35,DEBUTSTEP!$AR$4:$AS$33,2,FALSE)","v":0},"Aucun",{"$f":"VLOOKUP(BI35,DEBUTSTEP!$AR$4:$AS$33,2,FALSE)","v":0},"Aucun",{"$f":"VLOOKUP(BK35,DEBUTSTEP!$AR$4:$AS$33,2,FALSE)","v":0},"Aucun",{"$f":"VLOOKUP(BM35,DEBUTSTEP!$AR$4:$AS$33,2,FALSE)","v":0},"Aucun",{"$f":"VLOOKUP(BO35,DEBUTSTEP!$AR$4:$AS$33,2,FALSE)","v":0},"Aucun",{"$f":"VLOOKUP(BQ35,DEBUTSTEP!$AR$4:$AS$33,2,FALSE)","v":0},"Aucun",{"$f":"VLOOKUP(BS35,DEBUTSTEP!$AR$4:$AS$33,2,FALSE)","v":0}]
[]
[null,"Agir en sécu","Danger",{"$f":"VLOOKUP(C37,DEBUTSTEP!$AT$4:$AU$33,2,FALSE)","v":0},"Danger",{"$f":"VLOOKUP(E37,DEBUTSTEP!$AT$4:$AU$33,2,FALSE)","v":0},"Danger",{"$f":"VLOOKUP(G37,DEBUTSTEP!$AT$4:$AU$33,2,FALSE)","v":0},"Danger",{"$f":"VLOOKUP(I37,DEBUTSTEP!$AT$4:$AU$33,2,FALSE)","v":0},"Danger",{"$f":"VLOOKUP(K37,DEBUTSTEP!$AT$4:$AU$33,2,FALSE)","v":0},"Danger",{"$f":"VLOOKUP(M37,DEBUTSTEP!$AT$4:$AU$33,2,FALSE)","v":0},"Danger",{"$f":"VLOOKUP(O37,DEBUTSTEP!$AT$4:$AU$33,2,FALSE)","v":0},"Danger",{"$f":"VLOOKUP(Q37,DEBUTSTEP!$AT$4:$AU$33,2,FALSE)","v":0},"Danger",{"$f":"VLOOKUP(S37,DEBUTSTEP!$AT$4:$AU$33,2,FALSE)","v":0},"Danger",{"$f":"VLOOKUP(U37,DEBUTSTEP!$AT$4:$AU$33,2,FALSE)","v":0},"Danger",{"$f":"VLOOKUP(W37,DEBUTSTEP!$AT$4:$AU$33,2,FALSE)","v":0},"Danger",{"$f":"VLOOKUP(Y37,DEBUTSTEP!$AT$4:$AU$33,2,FALSE)","v":0},"Danger",{"$f":"VLOOKUP(AA37,DEBUTSTEP!$AT$4:$AU$33,2,FALSE)","v":0},"Danger",{"$f":"VLOOKUP(AC37,DEBUTSTEP!$AT$4:$AU$33,2,FALSE)","v":0},"Danger",{"$f":"VLOOKUP(AE37,DEBUTSTEP!$AT$4:$AU$33,2,FALSE)","v":0},"Danger",{"$f":"VLOOKUP(AG37,DEBUTSTEP!$AT$4:$AU$33,2,FALSE)","v":0},"Danger",{"$f":"VLOOKUP(AI37,DEBUTSTEP!$AT$4:$AU$33,2,FALSE)","v":0},"Danger",{"$f":"VLOOKUP(AK37,DEBUTSTEP!$AT$4:$AU$33,2,FALSE)","v":0},"Danger",{"$f":"VLOOKUP(AM37,DEBUTSTEP!$AT$4:$AU$33,2,FALSE)","v":0},"Danger",{"$f":"VLOOKUP(AO37,DEBUTSTEP!$AT$4:$AU$33,2,FALSE)","v":0},"Danger",{"$f":"VLOOKUP(AQ37,DEBUTSTEP!$AT$4:$AU$33,2,FALSE)","v":0},"Danger",{"$f":"VLOOKUP(AS37,DEBUTSTEP!$AT$4:$AU$33,2,FALSE)","v":0},"Danger",{"$f":"VLOOKUP(AU37,DEBUTSTEP!$AT$4:$AU$33,2,FALSE)","v":0},"Danger",{"$f":"VLOOKUP(AW37,DEBUTSTEP!$AT$4:$AU$33,2,FALSE)","v":0},"Danger",{"$f":"VLOOKUP(AY37,DEBUTSTEP!$AT$4:$AU$33,2,FALSE)","v":0},"Danger",{"$f":"VLOOKUP(BA37,DEBUTSTEP!$AT$4:$AU$33,2,FALSE)","v":0},"Danger",{"$f":"VLOOKUP(BC37,DEBUTSTEP!$AT$4:$AU$33,2,FALSE)","v":0},"Danger",{"$f":"VLOOKUP(BE37,DEBUTSTEP!$AT$4:$AU$33,2,FALSE)","v":0},"Danger",{"$f":"VLOOKUP(BG37,DEBUTSTEP!$AT$4:$AU$33,2,FALSE)","v":0},"Danger",{"$f":"VLOOKUP(BI37,DEBUTSTEP!$AT$4:$AU$33,2,FALSE)","v":0},"Danger",{"$f":"VLOOKUP(BK37,DEBUTSTEP!$AT$4:$AU$33,2,FALSE)","v":0},"Danger",{"$f":"VLOOKUP(BM37,DEBUTSTEP!$AT$4:$AU$33,2,FALSE)","v":0},"Danger",{"$f":"VLOOKUP(BO37,DEBUTSTEP!$AT$4:$AU$33,2,FALSE)","v":0},"Danger",{"$f":"VLOOKUP(BQ37,DEBUTSTEP!$AT$4:$AU$33,2,FALSE)","v":0},"Danger",{"$f":"VLOOKUP(BS37,DEBUTSTEP!$AT$4:$AU$33,2,FALSE)","v":0}]
[]
[null,"Respecter l'entrainement prévu","Pas du tout",{"$f":"VLOOKUP(C39,DEBUTSTEP!$AV$4:$AW$33,2,FALSE)","v":0},"Pas du tout",{"$f":"VLOOKUP(E39,DEBUTSTEP!$AV$4:$AW$33,2,FALSE)","v":0},"Pas du tout",{"$f":"VLOOKUP(G39,DEBUTSTEP!$AV$4:$AW$33,2,FALSE)","v":0},"Pas du tout",{"$f":"VLOOKUP(I39,DEBUTSTEP!$AV$4:$AW$33,2,FALSE)","v":0},"Pas du tout",{"$f":"VLOOKUP(K39,DEBUTSTEP!$AV$4:$AW$33,2,FALSE)","v":0},"Pas du tout",{"$f":"VLOOKUP(M39,DEBUTSTEP!$AV$4:$AW$33,2,FALSE)","v":0},"Pas du tout",{"$f":"VLOOKUP(O39,DEBUTSTEP!$AV$4:$AW$33,2,FALSE)","v":0},"Pas du tout",{"$f":"VLOOKUP(Q39,DEBUTSTEP!$AV$4:$AW$33,2,FALSE)","v":0},"Pas du tout",{"$f":"VLOOKUP(S39,DEBUTSTEP!$AV$4:$AW$33,2,FALSE)","v":0},"Pas du tout",{"$f":"VLOOKUP(U39,DEBUTSTEP!$AV$4:$AW$33,2,FALSE)","v":0},"Pas du tout",{"$f":"VLOOKUP(W39,DEBUTSTEP!$AV$4:$AW$33,2,FALSE)","v":0},"Pas du tout",{"$f":"VLOOKUP(Y39,DEBUTSTEP!$AV$4:$AW$33,2,FALSE)","v":0},"Pas du tout",{"$f":"VLOOKUP(AA39,DEBUTSTEP!$AV$4:$AW$33,2,FALSE)","v":0},"Pas du tout",{"$f":"VLOOKUP(AC39,DEBUTSTEP!$AV$4:$AW$33,2,FALSE)","v":0},"Pas du tout",{"$f":"VLOOKUP(AE39,DEBUTSTEP!$AV$4:$AW$33,2,FALSE)","v":0},"Pas du tout",{"$f":"VLOOKUP(AG39,DEBUTSTEP!$AV$4:$AW$33,2,FALSE)","v":0},"Pas du tout",{"$f":"VLOOKUP(AI39,DEBUTSTEP!$AV$4:$AW$33,2,FALSE)","v":0},"Pas du tout",{"$f":"VLOOKUP(AK39,DEBUTSTEP!$AV$4:$AW$33,2,FALSE)","v":0},"Pas du tout",{"$f":"VLOOKUP(AM39,DEBUTSTEP!$AV$4:$AW$33,2,FALSE)","v":0},"Pas du tout",{"$f":"VLOOKUP(AO39,DEBUTSTEP!$AV$4:$AW$33,2,FALSE)","v":0},"Pas du tout",{"$f":"VLOOKUP(AQ39,DEBUTSTEP!$AV$4:$AW$33,2,FALSE)","v":0},"Pas du tout",{"$f":"VLOOKUP(AS39,DEBUTSTEP!$AV$4:$AW$33,2,FALSE)","v":0},"Pas du tout",{"$f":"VLOOKUP(AU39,DEBUTSTEP!$AV$4:$AW$33,2,FALSE)","v":0},"Pas du tout",{"$f":"VLOOKUP(AW39,DEBUTSTEP!$AV$4:$AW$33,2,FALSE)","v":0},"Pas du tout",{"$f":"VLOOKUP(AY39,DEBUTSTEP!$AV$4:$AW$33,2,FALSE)","v":0},"Pas du tout",{"$f":"VLOOKUP(BA39,DEBUTSTEP!$AV$4:$AW$33,2,FALSE)","v":0},"Pas du tout",{"$f":"VLOOKUP(BC39,DEBUTSTEP!$AV$4:$AW$33,2,FALSE)","v":0},"Pas du tout",{"$f":"VLOOKUP(BE39,DEBUTSTEP!$AV$4:$AW$33,2,FALSE)","v":0},"Pas du tout",{"$f":"VLOOKUP(BG39,DEBUTSTEP!$AV$4:$AW$33,2,FALSE)","v":0},"Pas du tout",{"$f":"VLOOKUP(BI39,DEBUTSTEP!$AV$4:$AW$33,2,FALSE)","v":0},"Pas du tout",{"$f":"VLOOKUP(BK39,DEBUTSTEP!$AV$4:$AW$33,2,FALSE)","v":0},"Pas du tout",{"$f":"VLOOKUP(BM39,DEBUTSTEP!$AV$4:$AW$33,2,FALSE)","v":0},"Pas du tout",{"$f":"VLOOKUP(BO39,DEBUTSTEP!$AV$4:$AW$33,2,FALSE)","v":0},"Pas du tout",{"$f":"VLOOKUP(BQ39,DEBUTSTEP!$AV$4:$AW$33,2,FALSE)","v":0},"Pas du tout",{"$f":"VLOOKUP(BS39,DEBUTSTEP!$AV$4:$AW$33,2,FALSE)","v":0}]
[]
[null,"Mémoriser les blocs","Aucune mémorisation",{"$f":"VLOOKUP(C41,DEBUTSTEP!$AX$4:$AY$33,2,FALSE)","v":0},"Aucune mémorisation",{"$f":"VLOOKUP(E41,DEBUTSTEP!$AX$4:$AY$33,2,FALSE)","v":0},"Aucune mémorisation",{"$f":"VLOOKUP(G41,DEBUTSTEP!$AX$4:$AY$33,2,FALSE)","v":0},"Aucune mémorisation",{"$f":"VLOOKUP(I41,DEBUTSTEP!$AX$4:$AY$33,2,FALSE)","v":0},"Aucune mémorisation",{"$f":"VLOOKUP(K41,DEBUTSTEP!$AX$4:$AY$33,2,FALSE)","v":0},"Aucune mémorisation",{"$f":"VLOOKUP(M41,DEBUTSTEP!$AX$4:$AY$33,2,FALSE)","v":0},"Aucune mémorisation",{"$f":"VLOOKUP(O41,DEBUTSTEP!$AX$4:$AY$33,2,FALSE)","v":0},"Aucune mémorisation",{"$f":"VLOOKUP(Q41,DEBUTSTEP!$AX$4:$AY$33,2,FALSE)","v":0},"Aucune mémorisation",{"$f":"VLOOKUP(S41,DEBUTSTEP!$AX$4:$AY$33,2,FALSE)","v":0},"Aucune mémorisation",{"$f":"VLOOKUP(U41,DEBUTSTEP!$AX$4:$AY$33,2,FALSE)","v":0},"Aucune mémorisation",{"$f":"VLOOKUP(W41,DEBUTSTEP!$AX$4:$AY$33,2,FALSE)","v":0},"Aucune mémorisation",{"$f":"VLOOKUP(Y41,DEBUTSTEP!$AX$4:$AY$33,2,FALSE)","v":0},"Aucune mémorisation",{"$f":"VLOOKUP(AA41,DEBUTSTEP!$AX$4:$AY$33,2,FALSE)","v":0},"Aucune mémorisation",{"$f":"VLOOKUP(AC41,DEBUTSTEP!$AX$4:$AY$33,2,FALSE)","v":0},"Aucune mémorisation",{"$f":"VLOOKUP(AE41,DEBUTSTEP!$AX$4:$AY$33,2,FALSE)","v":0},"Aucune mémorisation",{"$f":"VLOOKUP(AG41,DEBUTSTEP!$AX$4:$AY$33,2,FALSE)","v":0},"Aucune mémorisation",{"$f":"VLOOKUP(AI41,DEBUTSTEP!$AX$4:$AY$33,2,FALSE)","v":0},"Aucune mémorisation",{"$f":"VLOOKUP(AK41,DEBUTSTEP!$AX$4:$AY$33,2,FALSE)","v":0},"Aucune mémorisation",{"$f":"VLOOKUP(AM41,DEBUTSTEP!$AX$4:$AY$33,2,FALSE)","v":0},"Aucune mémorisation",{"$f":"VLOOKUP(AO41,DEBUTSTEP!$AX$4:$AY$33,2,FALSE)","v":0},"Aucune mémorisation",{"$f":"VLOOKUP(AQ41,DEBUTSTEP!$AX$4:$AY$33,2,FALSE)","v":0},"Aucune mémorisation",{"$f":"VLOOKUP(AS41,DEBUTSTEP!$AX$4:$AY$33,2,FALSE)","v":0},"Aucune mémorisation",{"$f":"VLOOKUP(AU41,DEBUTSTEP!$AX$4:$AY$33,2,FALSE)","v":0},"Aucune mémorisation",{"$f":"VLOOKUP(AW41,DEBUTSTEP!$AX$4:$AY$33,2,FALSE)","v":0},"Aucune mémorisation",{"$f":"VLOOKUP(AY41,DEBUTSTEP!$AX$4:$AY$33,2,FALSE)","v":0},"Aucune mémorisation",{"$f":"VLOOKUP(BA41,DEBUTSTEP!$AX$4:$AY$33,2,FALSE)","v":0},"Aucune mémorisation",{"$f":"VLOOKUP(BC41,DEBUTSTEP!$AX$4:$AY$33,2,FALSE)","v":0},"Aucune mémorisation",{"$f":"VLOOKUP(BE41,DEBUTSTEP!$AX$4:$AY$33,2,FALSE)","v":0},"Aucune mémorisation",{"$f":"VLOOKUP(BG41,DEBUTSTEP!$AX$4:$AY$33,2,FALSE)","v":0},"Aucune mémorisation",{"$f":"VLOOKUP(BI41,DEBUTSTEP!$AX$4:$AY$33,2,FALSE)","v":0},"Aucune mémorisation",{"$f":"VLOOKUP(BK41,DEBUTSTEP!$AX$4:$AY$33,2,FALSE)","v":0},"Aucune mémorisation",{"$f":"VLOOKUP(BM41,DEBUTSTEP!$AX$4:$AY$33,2,FALSE)","v":0},"Aucune mémorisation",{"$f":"VLOOKUP(BO41,DEBUTSTEP!$AX$4:$AY$33,2,FALSE)","v":0},"Aucune mémorisation",{"$f":"VLOOKUP(BQ41,DEBUTSTEP!$AX$4:$AY$33,2,FALSE)","v":0},"Aucune mémorisation",{"$f":"VLOOKUP(BS41,DEBUTSTEP!$AX$4:$AY$33,2,FALSE)","v":0}]
[]
[null,"Analyser sa prestation","Imprécise",{"$f":"VLOOKUP(C43,DEBUTSTEP!$AZ$4:$BA$33,2,FALSE)","v":1},"Imprécise",{"$f":"VLOOKUP(E43,DEBUTSTEP!$AZ$4:$BA$33,2,FALSE)","v":1},"Imprécise",{"$f":"VLOOKUP(G43,DEBUTSTEP!$AZ$4:$BA$33,2,FALSE)","v":1},"Imprécise",{"$f":"VLOOKUP(I43,DEBUTSTEP!$AZ$4:$BA$33,2,FALSE)","v":1},"Imprécise",{"$f":"VLOOKUP(K43,DEBUTSTEP!$AZ$4:$BA$33,2,FALSE)","v":1},"Imprécise",{"$f":"VLOOKUP(M43,DEBUTSTEP!$AZ$4:$BA$33,2,FALSE)","v":1},"Imprécise",{"$f":"VLOOKUP(O43,DEBUTSTEP!$AZ$4:$BA$33,2,FALSE)","v":1},"Imprécise",{"$f":"VLOOKUP(Q43,DEBUTSTEP!$AZ$4:$BA$33,2,FALSE)","v":1},"Imprécise",{"$f":"VLOOKUP(S43,DEBUTSTEP!$AZ$4:$BA$33,2,FALSE)","v":1},"Imprécise",{"$f":"VLOOKUP(U43,DEBUTSTEP!$AZ$4:$BA$33,2,FALSE)","v":1},"Imprécise",{"$f":"VLOOKUP(W43,DEBUTSTEP!$AZ$4:$BA$33,2,FALSE)","v":1},"Imprécise",{"$f":"VLOOKUP(Y43,DEBUTSTEP!$AZ$4:$BA$33,2,FALSE)","v":1},"Imprécise",{"$f":"VLOOKUP(AA43,DEBUTSTEP!$AZ$4:$BA$33,2,FALSE)","v":1},"Imprécise",{"$f":"VLOOKUP(AC43,DEBUTSTEP!$AZ$4:$BA$33,2,FALSE)","v":1},"Imprécise",{"$f":"VLOOKUP(AE43,DEBUTSTEP!$AZ$4:$BA$33,2,FALSE)","v":1},"Imprécise",{"$f":"VLOOKUP(AG43,DEBUTSTEP!$AZ$4:$BA$33,2,FALSE)","v":1},"Imprécise",{"$f":"VLOOKUP(AI43,DEBUTSTEP!$AZ$4:$BA$33,2,FALSE)","v":1},"Imprécise",{"$f":"VLOOKUP(AK43,DEBUTSTEP!$AZ$4:$BA$33,2,FALSE)","v":1},"Imprécise",{"$f":"VLOOKUP(AM43,DEBUTSTEP!$AZ$4:$BA$33,2,FALSE)","v":1},"Imprécise",{"$f":"VLOOKUP(AO43,DEBUTSTEP!$AZ$4:$BA$33,2,FALSE)","v":1},"Imprécise",{"$f":"VLOOKUP(AQ43,DEBUTSTEP!$AZ$4:$BA$33,2,FALSE)","v":1},"Imprécise",{"$f":"VLOOKUP(AS43,DEBUTSTEP!$AZ$4:$BA$33,2,FALSE)","v":1},"Imprécise",{"$f":"VLOOKUP(AU43,DEBUTSTEP!$AZ$4:$BA$33,2,FALSE)","v":1},"Imprécise",{"$f":"VLOOKUP(AW43,DEBUTSTEP!$AZ$4:$BA$33,2,FALSE)","v":1},"Imprécise",{"$f":"VLOOKUP(AY43,DEBUTSTEP!$AZ$4:$BA$33,2,FALSE)","v":1},"Imprécise",{"$f":"VLOOKUP(BA43,DEBUTSTEP!$AZ$4:$BA$33,2,FALSE)","v":1},"Imprécise",{"$f":"VLOOKUP(BC43,DEBUTSTEP!$AZ$4:$BA$33,2,FALSE)","v":1},"Imprécise",{"$f":"VLOOKUP(BE43,DEBUTSTEP!$AZ$4:$BA$33,2,FALSE)","v":1},"Imprécise",{"$f":"VLOOKUP(BG43,DEBUTSTEP!$AZ$4:$BA$33,2,FALSE)","v":1},"Imprécise",{"$f":"VLOOKUP(BI43,DEBUTSTEP!$AZ$4:$BA$33,2,FALSE)","v":1},"Imprécise",{"$f":"VLOOKUP(BK43,DEBUTSTEP!$AZ$4:$BA$33,2,FALSE)","v":1},"Imprécise",{"$f":"VLOOKUP(BM43,DEBUTSTEP!$AZ$4:$BA$33,2,FALSE)","v":1},"Imprécise",{"$f":"VLOOKUP(BO43,DEBUTSTEP!$AZ$4:$BA$33,2,FALSE)","v":1},"Imprécise",{"$f":"VLOOKUP(BQ43,DEBUTSTEP!$AZ$4:$BA$33,2,FALSE)","v":1},"Imprécise",{"$f":"VLOOKUP(BS43,DEBUTSTEP!$AZ$4:$BA$33,2,FALSE)","v":1}]
[]
[null,"NOTE",{"$f":"IF(OR(D33=\"x\",D35=\"x\",D37=\"x\",D39=\"x\",D41=\"x\",D43=\"x\"),\"ABSENT\",SUMIF(D33,\"<>X\")+SUMIF(D35,\"<>X\")+SUMIF(D37,\"<>X\")+SUMIF(D39,\"<>X\")+SUMIF(D41,\"<>X\")+SUMIF(D43,\"<>X\"))","v":"ABSENT"},null,{"$f":"IF(OR(F33=\"x\",F35=\"x\",F37=\"x\",F39=\"x\",F41=\"x\",F43=\"x\"),\"ABSENT\",SUMIF(F33,\"<>X\")+SUMIF(F35,\"<>X\")+SUMIF(F37,\"<>X\")+SUMIF(F39,\"<>X\")+SUMIF(F41,\"<>X\")+SUMIF(F43,\"<>X\"))","v":"ABSENT"},null,{"$f":"IF(OR(H33=\"x\",H35=\"x\",H37=\"x\",H39=\"x\",H41=\"x\",H43=\"x\"),\"ABSENT\",SUMIF(H33,\"<>X\")+SUMIF(H35,\"<>X\")+SUMIF(H37,\"<>X\")+SUMIF(H39,\"<>X\")+SUMIF(H41,\"<>X\")+SUMIF(H43,\"<>X\"))","v":"ABSENT"},null,{"$f":"IF(OR(J33=\"x\",J35=\"x\",J37=\"x\",J39=\"x\",J41=\"x\",J43=\"x\"),\"ABSENT\",SUMIF(J33,\"<>X\")+SUMIF(J35,\"<>X\")+SUMIF(J37,\"<>X\")+SUMIF(J39,\"<>X\")+SUMIF(J41,\"<>X\")+SUMIF(J43,\"<>X\"))","v":"ABSENT"},null,{"$f":"IF(OR(L33=\"x\",L35=\"x\",L37=\"x\",L39=\"x\",L41=\"x\",L43=\"x\"),\"ABSENT\",SUMIF(L33,\"<>X\")+SUMIF(L35,\"<>X\")+SUMIF(L37,\"<>X\")+SUMIF(L39,\"<>X\")+SUMIF(L41,\"<>X\")+SUMIF(L43,\"<>X\"))","v":"ABSENT"},null,{"$f":"IF(OR(N33=\"x\",N35=\"x\",N37=\"x\",N39=\"x\",N41=\"x\",N43=\"x\"),\"ABSENT\",SUMIF(N33,\"<>X\")+SUMIF(N35,\"<>X\")+SUMIF(N37,\"<>X\")+SUMIF(N39,\"<>X\")+SUMIF(N41,\"<>X\")+SUMIF(N43,\"<>X\"))","v":"ABSENT"},null,{"$f":"IF(OR(P33=\"x\",P35=\"x\",P37=\"x\",P39=\"x\",P41=\"x\",P43=\"x\"),\"ABSENT\",SUMIF(P33,\"<>X\")+SUMIF(P35,\"<>X\")+SUMIF(P37,\"<>X\")+SUMIF(P39,\"<>X\")+SUMIF(P41,\"<>X\")+SUMIF(P43,\"<>X\"))","v":"ABSENT"},null,{"$f":"IF(OR(R33=\"x\",R35=\"x\",R37=\"x\",R39=\"x\",R41=\"x\",R43=\"x\"),\"ABSENT\",SUMIF(R33,\"<>X\")+SUMIF(R35,\"<>X\")+SUMIF(R37,\"<>X\")+SUMIF(R39,\"<>X\")+SUMIF(R41,\"<>X\")+SUMIF(R43,\"<>X\"))","v":"ABSENT"},null,{"$f":"IF(OR(T33=\"x\",T35=\"x\",T37=\"x\",T39=\"x\",T41=\"x\",T43=\"x\"),\"ABSENT\",SUMIF(T33,\"<>X\")+SUMIF(T35,\"<>X\")+SUMIF(T37,\"<>X\")+SUMIF(T39,\"<>X\")+SUMIF(T41,\"<>X\")+SUMIF(T43,\"<>X\"))","v":"ABSENT"},null,{"$f":"IF(OR(V33=\"x\",V35=\"x\",V37=\"x\",V39=\"x\",V41=\"x\",V43=\"x\"),\"ABSENT\",SUMIF(V33,\"<>X\")+SUMIF(V35,\"<>X\")+SUMIF(V37,\"<>X\")+SUMIF(V39,\"<>X\")+SUMIF(V41,\"<>X\")+SUMIF(V43,\"<>X\"))","v":"ABSENT"},null,{"$f":"IF(OR(X33=\"x\",X35=\"x\",X37=\"x\",X39=\"x\",X41=\"x\",X43=\"x\"),\"ABSENT\",SUMIF(X33,\"<>X\")+SUMIF(X35,\"<>X\")+SUMIF(X37,\"<>X\")+SUMIF(X39,\"<>X\")+SUMIF(X41,\"<>X\")+SUMIF(X43,\"<>X\"))","v":"ABSENT"},null,{"$f":"IF(OR(Z33=\"x\",Z35=\"x\",Z37=\"x\",Z39=\"x\",Z41=\"x\",Z43=\"x\"),\"ABSENT\",SUMIF(Z33,\"<>X\")+SUMIF(Z35,\"<>X\")+SUMIF(Z37,\"<>X\")+SUMIF(Z39,\"<>X\")+SUMIF(Z41,\"<>X\")+SUMIF(Z43,\"<>X\"))","v":"ABSENT"},null,{"$f":"IF(OR(AB33=\"x\",AB35=\"x\",AB37=\"x\",AB39=\"x\",AB41=\"x\",AB43=\"x\"),\"ABSENT\",SUMIF(AB33,\"<>X\")+SUMIF(AB35,\"<>X\")+SUMIF(AB37,\"<>X\")+SUMIF(AB39,\"<>X\")+SUMIF(AB41,\"<>X\")+SUMIF(AB43,\"<>X\"))","v":"ABSENT"},null,{"$f":"IF(OR(AD33=\"x\",AD35=\"x\",AD37=\"x\",AD39=\"x\",AD41=\"x\",AD43=\"x\"),\"ABSENT\",SUMIF(AD33,\"<>X\")+SUMIF(AD35,\"<>X\")+SUMIF(AD37,\"<>X\")+SUMIF(AD39,\"<>X\")+SUMIF(AD41,\"<>X\")+SUMIF(AD43,\"<>X\"))","v":"ABSENT"},null,{"$f":"IF(OR(AF33=\"x\",AF35=\"x\",AF37=\"x\",AF39=\"x\",AF41=\"x\",AF43=\"x\"),\"ABSENT\",SUMIF(AF33,\"<>X\")+SUMIF(AF35,\"<>X\")+SUMIF(AF37,\"<>X\")+SUMIF(AF39,\"<>X\")+SUMIF(AF41,\"<>X\")+SUMIF(AF43,\"<>X\"))","v":"ABSENT"},null,{"$f":"IF(OR(AH33=\"x\",AH35=\"x\",AH37=\"x\",AH39=\"x\",AH41=\"x\",AH43=\"x\"),\"ABSENT\",SUMIF(AH33,\"<>X\")+SUMIF(AH35,\"<>X\")+SUMIF(AH37,\"<>X\")+SUMIF(AH39,\"<>X\")+SUMIF(AH41,\"<>X\")+SUMIF(AH43,\"<>X\"))","v":"ABSENT"},null,{"$f":"IF(OR(AJ33=\"x\",AJ35=\"x\",AJ37=\"x\",AJ39=\"x\",AJ41=\"x\",AJ43=\"x\"),\"ABSENT\",SUMIF(AJ33,\"<>X\")+SUMIF(AJ35,\"<>X\")+SUMIF(AJ37,\"<>X\")+SUMIF(AJ39,\"<>X\")+SUMIF(AJ41,\"<>X\")+SUMIF(AJ43,\"<>X\"))","v":"ABSENT"},null,{"$f":"IF(OR(AL33=\"x\",AL35=\"x\",AL37=\"x\",AL39=\"x\",AL41=\"x\",AL43=\"x\"),\"ABSENT\",SUMIF(AL33,\"<>X\")+SUMIF(AL35,\"<>X\")+SUMIF(AL37,\"<>X\")+SUMIF(AL39,\"<>X\")+SUMIF(AL41,\"<>X\")+SUMIF(AL43,\"<>X\"))","v":"ABSENT"},null,{"$f":"IF(OR(AN33=\"x\",AN35=\"x\",AN37=\"x\",AN39=\"x\",AN41=\"x\",AN43=\"x\"),\"ABSENT\",SUMIF(AN33,\"<>X\")+SUMIF(AN35,\"<>X\")+SUMIF(AN37,\"<>X\")+SUMIF(AN39,\"<>X\")+SUMIF(AN41,\"<>X\")+SUMIF(AN43,\"<>X\"))","v":"ABSENT"},null,{"$f":"IF(OR(AP33=\"x\",AP35=\"x\",AP37=\"x\",AP39=\"x\",AP41=\"x\",AP43=\"x\"),\"ABSENT\",SUMIF(AP33,\"<>X\")+SUMIF(AP35,\"<>X\")+SUMIF(AP37,\"<>X\")+SUMIF(AP39,\"<>X\")+SUMIF(AP41,\"<>X\")+SUMIF(AP43,\"<>X\"))","v":"ABSENT"},null,{"$f":"IF(OR(AR33=\"x\",AR35=\"x\",AR37=\"x\",AR39=\"x\",AR41=\"x\",AR43=\"x\"),\"ABSENT\",SUMIF(AR33,\"<>X\")+SUMIF(AR35,\"<>X\")+SUMIF(AR37,\"<>X\")+SUMIF(AR39,\"<>X\")+SUMIF(AR41,\"<>X\")+SUMIF(AR43,\"<>X\"))","v":"ABSENT"},null,{"$f":"IF(OR(AT33=\"x\",AT35=\"x\",AT37=\"x\",AT39=\"x\",AT41=\"x\",AT43=\"x\"),\"ABSENT\",SUMIF(AT33,\"<>X\")+SUMIF(AT35,\"<>X\")+SUMIF(AT37,\"<>X\")+SUMIF(AT39,\"<>X\")+SUMIF(AT41,\"<>X\")+SUMIF(AT43,\"<>X\"))","v":"ABSENT"},null,{"$f":"IF(OR(AV33=\"x\",AV35=\"x\",AV37=\"x\",AV39=\"x\",AV41=\"x\",AV43=\"x\"),\"ABSENT\",SUMIF(AV33,\"<>X\")+SUMIF(AV35,\"<>X\")+SUMIF(AV37,\"<>X\")+SUMIF(AV39,\"<>X\")+SUMIF(AV41,\"<>X\")+SUMIF(AV43,\"<>X\"))","v":"ABSENT"},null,{"$f":"IF(OR(AX33=\"x\",AX35=\"x\",AX37=\"x\",AX39=\"x\",AX41=\"x\",AX43=\"x\"),\"ABSENT\",SUMIF(AX33,\"<>X\")+SUMIF(AX35,\"<>X\")+SUMIF(AX37,\"<>X\")+SUMIF(AX39,\"<>X\")+SUMIF(AX41,\"<>X\")+SUMIF(AX43,\"<>X\"))","v":"ABSENT"},null,{"$f":"IF(OR(AZ33=\"x\",AZ35=\"x\",AZ37=\"x\",AZ39=\"x\",AZ41=\"x\",AZ43=\"x\"),\"ABSENT\",SUMIF(AZ33,\"<>X\")+SUMIF(AZ35,\"<>X\")+SUMIF(AZ37,\"<>X\")+SUMIF(AZ39,\"<>X\")+SUMIF(AZ41,\"<>X\")+SUMIF(AZ43,\"<>X\"))","v":"ABSENT"},null,{"$f":"IF(OR(BB33=\"x\",BB35=\"x\",BB37=\"x\",BB39=\"x\",BB41=\"x\",BB43=\"x\"),\"ABSENT\",SUMIF(BB33,\"<>X\")+SUMIF(BB35,\"<>X\")+SUMIF(BB37,\"<>X\")+SUMIF(BB39,\"<>X\")+SUMIF(BB41,\"<>X\")+SUMIF(BB43,\"<>X\"))","v":"ABSENT"},null,{"$f":"IF(OR(BD33=\"x\",BD35=\"x\",BD37=\"x\",BD39=\"x\",BD41=\"x\",BD43=\"x\"),\"ABSENT\",SUMIF(BD33,\"<>X\")+SUMIF(BD35,\"<>X\")+SUMIF(BD37,\"<>X\")+SUMIF(BD39,\"<>X\")+SUMIF(BD41,\"<>X\")+SUMIF(BD43,\"<>X\"))","v":"ABSENT"},null,{"$f":"IF(OR(BF33=\"x\",BF35=\"x\",BF37=\"x\",BF39=\"x\",BF41=\"x\",BF43=\"x\"),\"ABSENT\",SUMIF(BF33,\"<>X\")+SUMIF(BF35,\"<>X\")+SUMIF(BF37,\"<>X\")+SUMIF(BF39,\"<>X\")+SUMIF(BF41,\"<>X\")+SUMIF(BF43,\"<>X\"))","v":"ABSENT"},null,{"$f":"IF(OR(BH33=\"x\",BH35=\"x\",BH37=\"x\",BH39=\"x\",BH41=\"x\",BH43=\"x\"),\"ABSENT\",SUMIF(BH33,\"<>X\")+SUMIF(BH35,\"<>X\")+SUMIF(BH37,\"<>X\")+SUMIF(BH39,\"<>X\")+SUMIF(BH41,\"<>X\")+SUMIF(BH43,\"<>X\"))","v":"ABSENT"},null,{"$f":"IF(OR(BJ33=\"x\",BJ35=\"x\",BJ37=\"x\",BJ39=\"x\",BJ41=\"x\",BJ43=\"x\"),\"ABSENT\",SUMIF(BJ33,\"<>X\")+SUMIF(BJ35,\"<>X\")+SUMIF(BJ37,\"<>X\")+SUMIF(BJ39,\"<>X\")+SUMIF(BJ41,\"<>X\")+SUMIF(BJ43,\"<>X\"))","v":"ABSENT"},null,{"$f":"IF(OR(BL33=\"x\",BL35=\"x\",BL37=\"x\",BL39=\"x\",BL41=\"x\",BL43=\"x\"),\"ABSENT\",SUMIF(BL33,\"<>X\")+SUMIF(BL35,\"<>X\")+SUMIF(BL37,\"<>X\")+SUMIF(BL39,\"<>X\")+SUMIF(BL41,\"<>X\")+SUMIF(BL43,\"<>X\"))","v":"ABSENT"},null,{"$f":"IF(OR(BN33=\"x\",BN35=\"x\",BN37=\"x\",BN39=\"x\",BN41=\"x\",BN43=\"x\"),\"ABSENT\",SUMIF(BN33,\"<>X\")+SUMIF(BN35,\"<>X\")+SUMIF(BN37,\"<>X\")+SUMIF(BN39,\"<>X\")+SUMIF(BN41,\"<>X\")+SUMIF(BN43,\"<>X\"))","v":"ABSENT"},null,{"$f":"IF(OR(BP33=\"x\",BP35=\"x\",BP37=\"x\",BP39=\"x\",BP41=\"x\",BP43=\"x\"),\"ABSENT\",SUMIF(BP33,\"<>X\")+SUMIF(BP35,\"<>X\")+SUMIF(BP37,\"<>X\")+SUMIF(BP39,\"<>X\")+SUMIF(BP41,\"<>X\")+SUMIF(BP43,\"<>X\"))","v":"ABSENT"},null,{"$f":"IF(OR(BR33=\"x\",BR35=\"x\",BR37=\"x\",BR39=\"x\",BR41=\"x\",BR43=\"x\"),\"ABSENT\",SUMIF(BR33,\"<>X\")+SUMIF(BR35,\"<>X\")+SUMIF(BR37,\"<>X\")+SUMIF(BR39,\"<>X\")+SUMIF(BR41,\"<>X\")+SUMIF(BR43,\"<>X\"))","v":"ABSENT"},null,{"$f":"IF(OR(BT33=\"x\",BT35=\"x\",BT37=\"x\",BT39=\"x\",BT41=\"x\",BT43=\"x\"),\"ABSENT\",SUMIF(BT33,\"<>X\")+SUMIF(BT35,\"<>X\")+SUMIF(BT37,\"<>X\")+SUMIF(BT39,\"<>X\")+SUMIF(BT41,\"<>X\")+SUMIF(BT43,\"<>X\"))","v":"ABSENT"}]
[]
["SEANCE 4","Prendre sa FC efficacement","ABSENT",{"$f":"VLOOKUP(C47,DEBUTSTEP!$AP$4:$AQ$33,2,FALSE)","v":"X"},"ABSENT",{"$f":"VLOOKUP(E47,DEBUTSTEP!$AP$4:$AQ$33,2,FALSE)","v":"X"},"ABSENT",{"$f":"VLOOKUP(G47,DEBUTSTEP!$AP$4:$AQ$33,2,FALSE)","v":"X"},"ABSENT",{"$f":"VLOOKUP(I47,DEBUTSTEP!$AP$4:$AQ$33,2,FALSE)","v":"X"},"ABSENT",{"$f":"VLOOKUP(K47,DEBUTSTEP!$AP$4:$AQ$33,2,FALSE)","v":"X"},"ABSENT",{"$f":"VLOOKUP(M47,DEBUTSTEP!$AP$4:$AQ$33,2,FALSE)","v":"X"},"ABSENT",{"$f":"VLOOKUP(O47,DEBUTSTEP!$AP$4:$AQ$33,2,FALSE)","v":"X"},"ABSENT",{"$f":"VLOOKUP(Q47,DEBUTSTEP!$AP$4:$AQ$33,2,FALSE)","v":"X"},"ABSENT",{"$f":"VLOOKUP(S47,DEBUTSTEP!$AP$4:$AQ$33,2,FALSE)","v":"X"},"ABSENT",{"$f":"VLOOKUP(U47,DEBUTSTEP!$AP$4:$AQ$33,2,FALSE)","v":"X"},"ABSENT",{"$f":"VLOOKUP(W47,DEBUTSTEP!$AP$4:$AQ$33,2,FALSE)","v":"X"},"ABSENT",{"$f":"VLOOKUP(Y47,DEBUTSTEP!$AP$4:$AQ$33,2,FALSE)","v":"X"},"ABSENT",{"$f":"VLOOKUP(AA47,DEBUTSTEP!$AP$4:$AQ$33,2,FALSE)","v":"X"},"ABSENT",{"$f":"VLOOKUP(AC47,DEBUTSTEP!$AP$4:$AQ$33,2,FALSE)","v":"X"},"ABSENT",{"$f":"VLOOKUP(AE47,DEBUTSTEP!$AP$4:$AQ$33,2,FALSE)","v":"X"},"ABSENT",{"$f":"VLOOKUP(AG47,DEBUTSTEP!$AP$4:$AQ$33,2,FALSE)","v":"X"},"ABSENT",{"$f":"VLOOKUP(AI47,DEBUTSTEP!$AP$4:$AQ$33,2,FALSE)","v":"X"},"ABSENT",{"$f":"VLOOKUP(AK47,DEBUTSTEP!$AP$4:$AQ$33,2,FALSE)","v":"X"},"ABSENT",{"$f":"VLOOKUP(AM47,DEBUTSTEP!$AP$4:$AQ$33,2,FALSE)","v":"X"},"ABSENT",{"$f":"VLOOKUP(AO47,DEBUTSTEP!$AP$4:$AQ$33,2,FALSE)","v":"X"},"ABSENT",{"$f":"VLOOKUP(AQ47,DEBUTSTEP!$AP$4:$AQ$33,2,FALSE)","v":"X"},"ABSENT",{"$f":"VLOOKUP(AS47,DEBUTSTEP!$AP$4:$AQ$33,2,FALSE)","v":"X"},"ABSENT",{"$f":"VLOOKUP(AU47,DEBUTSTEP!$AP$4:$AQ$33,2,FALSE)","v":"X"},"ABSENT",{"$f":"VLOOKUP(AW47,DEBUTSTEP!$AP$4:$AQ$33,2,FALSE)","v":"X"},"ABSENT",{"$f":"VLOOKUP(AY47,DEBUTSTEP!$AP$4:$AQ$33,2,FALSE)","v":"X"},"ABSENT",{"$f":"VLOOKUP(BA47,DEBUTSTEP!$AP$4:$AQ$33,2,FALSE)","v":"X"},"ABSENT",{"$f":"VLOOKUP(BC47,DEBUTSTEP!$AP$4:$AQ$33,2,FALSE)","v":"X"},"ABSENT",{"$f":"VLOOKUP(BE47,DEBUTSTEP!$AP$4:$AQ$33,2,FALSE)","v":"X"},"ABSENT",{"$f":"VLOOKUP(BG47,DEBUTSTEP!$AP$4:$AQ$33,2,FALSE)","v":"X"},"ABSENT",{"$f":"VLOOKUP(BI47,DEBUTSTEP!$AP$4:$AQ$33,2,FALSE)","v":"X"},"ABSENT",{"$f":"VLOOKUP(BK47,DEBUTSTEP!$AP$4:$AQ$33,2,FALSE)","v":"X"},"ABSENT",{"$f":"VLOOKUP(BM47,DEBUTSTEP!$AP$4:$AQ$33,2,FALSE)","v":"X"},"ABSENT",{"$f":"VLOOKUP(BO47,DEBUTSTEP!$AP$4:$AQ$33,2,FALSE)","v":"X"},"ABSENT",{"$f":"VLOOKUP(BQ47,DEBUTSTEP!$AP$4:$AQ$33,2,FALSE)","v":"X"},"ABSENT",{"$f":"VLOOKUP(BS47,DEBUTSTEP!$AP$4:$AQ$33,2,FALSE)","v":"X"}]
[]
[null,"S'engager dans le mobile proposé","Aucun",{"$f":"VLOOKUP(C49,DEBUTSTEP!$AR$4:$AS$33,2,FALSE)","v":0},"Aucun",{"$f":"VLOOKUP(E49,DEBUTSTEP!$AR$4:$AS$33,2,FALSE)","v":0},"Aucun",{"$f":"VLOOKUP(G49,DEBUTSTEP!$AR$4:$AS$33,2,FALSE)","v":0},"Aucun",{"$f":"VLOOKUP(I49,DEBUTSTEP!$AR$4:$AS$33,2,FALSE)","v":0},"Aucun",{"$f":"VLOOKUP(K49,DEBUTSTEP!$AR$4:$AS$33,2,FALSE)","v":0},"Aucun",{"$f":"VLOOKUP(M49,DEBUTSTEP!$AR$4:$AS$33,2,FALSE)","v":0},"Aucun",{"$f":"VLOOKUP(O49,DEBUTSTEP!$AR$4:$AS$33,2,FALSE)","v":0},"Aucun",{"$f":"VLOOKUP(Q49,DEBUTSTEP!$AR$4:$AS$33,2,FALSE)","v":0},"Aucun",{"$f":"VLOOKUP(S49,DEBUTSTEP!$AR$4:$AS$33,2,FALSE)","v":0},"Aucun",{"$f":"VLOOKUP(U49,DEBUTSTEP!$AR$4:$AS$33,2,FALSE)","v":0},"Aucun",{"$f":"VLOOKUP(W49,DEBUTSTEP!$AR$4:$AS$33,2,FALSE)","v":0},"Aucun",{"$f":"VLOOKUP(Y49,DEBUTSTEP!$AR$4:$AS$33,2,FALSE)","v":0},"Aucun",{"$f":"VLOOKUP(AA49,DEBUTSTEP!$AR$4:$AS$33,2,FALSE)","v":0},"Aucun",{"$f":"VLOOKUP(AC49,DEBUTSTEP!$AR$4:$AS$33,2,FALSE)","v":0},"Aucun",{"$f":"VLOOKUP(AE49,DEBUTSTEP!$AR$4:$AS$33,2,FALSE)","v":0},"Aucun",{"$f":"VLOOKUP(AG49,DEBUTSTEP!$AR$4:$AS$33,2,FALSE)","v":0},"Aucun",{"$f":"VLOOKUP(AI49,DEBUTSTEP!$AR$4:$AS$33,2,FALSE)","v":0},"Aucun",{"$f":"VLOOKUP(AK49,DEBUTSTEP!$AR$4:$AS$33,2,FALSE)","v":0},"Aucun",{"$f":"VLOOKUP(AM49,DEBUTSTEP!$AR$4:$AS$33,2,FALSE)","v":0},"Aucun",{"$f":"VLOOKUP(AO49,DEBUTSTEP!$AR$4:$AS$33,2,FALSE)","v":0},"Aucun",{"$f":"VLOOKUP(AQ49,DEBUTSTEP!$AR$4:$AS$33,2,FALSE)","v":0},"Aucun",{"$f":"VLOOKUP(AS49,DEBUTSTEP!$AR$4:$AS$33,2,FALSE)","v":0},"Aucun",{"$f":"VLOOKUP(AU49,DEBUTSTEP!$AR$4:$AS$33,2,FALSE)","v":0},"Aucun",{"$f":"VLOOKUP(AW49,DEBUTSTEP!$AR$4:$AS$33,2,FALSE)","v":0},"Aucun",{"$f":"VLOOKUP(AY49,DEBUTSTEP!$AR$4:$AS$33,2,FALSE)","v":0},"Aucun",{"$f":"VLOOKUP(BA49,DEBUTSTEP!$AR$4:$AS$33,2,FALSE)","v":0},"Aucun",{"$f":"VLOOKUP(BC49,DEBUTSTEP!$AR$4:$AS$33,2,FALSE)","v":0},"Aucun",{"$f":"VLOOKUP(BE49,DEBUTSTEP!$AR$4:$AS$33,2,FALSE)","v":0},"Aucun",{"$f":"VLOOKUP(BG49,DEBUTSTEP!$AR$4:$AS$33,2,FALSE)","v":0},"Aucun",{"$f":"VLOOKUP(BI49,DEBUTSTEP!$AR$4:$AS$33,2,FALSE)","v":0},"Aucun",{"$f":"VLOOKUP(BK49,DEBUTSTEP!$AR$4:$AS$33,2,FALSE)","v":0},"Aucun",{"$f":"VLOOKUP(BM49,DEBUTSTEP!$AR$4:$AS$33,2,FALSE)","v":0},"Aucun",{"$f":"VLOOKUP(BO49,DEBUTSTEP!$AR$4:$AS$33,2,FALSE)","v":0},"Aucun",{"$f":"VLOOKUP(BQ49,DEBUTSTEP!$AR$4:$AS$33,2,FALSE)","v":0},"Aucun",{"$f":"VLOOKUP(BS49,DEBUTSTEP!$AR$4:$AS$33,2,FALSE)","v":0}]
[]
[null,"Agir en sécu","Danger",{"$f":"VLOOKUP(C51,DEBUTSTEP!$AT$4:$AU$33,2,FALSE)","v":0},"Danger",{"$f":"VLOOKUP(E51,DEBUTSTEP!$AT$4:$AU$33,2,FALSE)","v":0},"Danger",{"$f":"VLOOKUP(G51,DEBUTSTEP!$AT$4:$AU$33,2,FALSE)","v":0},"Danger",{"$f":"VLOOKUP(I51,DEBUTSTEP!$AT$4:$AU$33,2,FALSE)","v":0},"Danger",{"$f":"VLOOKUP(K51,DEBUTSTEP!$AT$4:$AU$33,2,FALSE)","v":0},"Danger",{"$f":"VLOOKUP(M51,DEBUTSTEP!$AT$4:$AU$33,2,FALSE)","v":0},"Danger",{"$f":"VLOOKUP(O51,DEBUTSTEP!$AT$4:$AU$33,2,FALSE)","v":0},"Danger",{"$f":"VLOOKUP(Q51,DEBUTSTEP!$AT$4:$AU$33,2,FALSE)","v":0},"Danger",{"$f":"VLOOKUP(S51,DEBUTSTEP!$AT$4:$AU$33,2,FALSE)","v":0},"Danger",{"$f":"VLOOKUP(U51,DEBUTSTEP!$AT$4:$AU$33,2,FALSE)","v":0},"Danger",{"$f":"VLOOKUP(W51,DEBUTSTEP!$AT$4:$AU$33,2,FALSE)","v":0},"Danger",{"$f":"VLOOKUP(Y51,DEBUTSTEP!$AT$4:$AU$33,2,FALSE)","v":0},"Danger",{"$f":"VLOOKUP(AA51,DEBUTSTEP!$AT$4:$AU$33,2,FALSE)","v":0},"Danger",{"$f":"VLOOKUP(AC51,DEBUTSTEP!$AT$4:$AU$33,2,FALSE)","v":0},"Danger",{"$f":"VLOOKUP(AE51,DEBUTSTEP!$AT$4:$AU$33,2,FALSE)","v":0},"Danger",{"$f":"VLOOKUP(AG51,DEBUTSTEP!$AT$4:$AU$33,2,FALSE)","v":0},"Danger",{"$f":"VLOOKUP(AI51,DEBUTSTEP!$AT$4:$AU$33,2,FALSE)","v":0},"Danger",{"$f":"VLOOKUP(AK51,DEBUTSTEP!$AT$4:$AU$33,2,FALSE)","v":0},"Danger",{"$f":"VLOOKUP(AM51,DEBUTSTEP!$AT$4:$AU$33,2,FALSE)","v":0},"Danger",{"$f":"VLOOKUP(AO51,DEBUTSTEP!$AT$4:$AU$33,2,FALSE)","v":0},"Danger",{"$f":"VLOOKUP(AQ51,DEBUTSTEP!$AT$4:$AU$33,2,FALSE)","v":0},"Danger",{"$f":"VLOOKUP(AS51,DEBUTSTEP!$AT$4:$AU$33,2,FALSE)","v":0},"Danger",{"$f":"VLOOKUP(AU51,DEBUTSTEP!$AT$4:$AU$33,2,FALSE)","v":0},"Danger",{"$f":"VLOOKUP(AW51,DEBUTSTEP!$AT$4:$AU$33,2,FALSE)","v":0},"Danger",{"$f":"VLOOKUP(AY51,DEBUTSTEP!$AT$4:$AU$33,2,FALSE)","v":0},"Danger",{"$f":"VLOOKUP(BA51,DEBUTSTEP!$AT$4:$AU$33,2,FALSE)","v":0},"Danger",{"$f":"VLOOKUP(BC51,DEBUTSTEP!$AT$4:$AU$33,2,FALSE)","v":0},"Danger",{"$f":"VLOOKUP(BE51,DEBUTSTEP!$AT$4:$AU$33,2,FALSE)","v":0},"Danger",{"$f":"VLOOKUP(BG51,DEBUTSTEP!$AT$4:$AU$33,2,FALSE)","v":0},"Danger",{"$f":"VLOOKUP(BI51,DEBUTSTEP!$AT$4:$AU$33,2,FALSE)","v":0},"Danger",{"$f":"VLOOKUP(BK51,DEBUTSTEP!$AT$4:$AU$33,2,FALSE)","v":0},"Danger",{"$f":"VLOOKUP(BM51,DEBUTSTEP!$AT$4:$AU$33,2,FALSE)","v":0},"Danger",{"$f":"VLOOKUP(BO51,DEBUTSTEP!$AT$4:$AU$33,2,FALSE)","v":0},"Danger",{"$f":"VLOOKUP(BQ51,DEBUTSTEP!$AT$4:$AU$33,2,FALSE)","v":0},"Danger",{"$f":"VLOOKUP(BS51,DEBUTSTEP!$AT$4:$AU$33,2,FALSE)","v":0}]
[]
[null,"Respecter l'entrainement prévu","Pas du tout",{"$f":"VLOOKUP(C53,DEBUTSTEP!$AV$4:$AW$33,2,FALSE)","v":0},"Pas du tout",{"$f":"VLOOKUP(E53,DEBUTSTEP!$AV$4:$AW$33,2,FALSE)","v":0},"Pas du tout",{"$f":"VLOOKUP(G53,DEBUTSTEP!$AV$4:$AW$33,2,FALSE)","v":0},"Pas du tout",{"$f":"VLOOKUP(I53,DEBUTSTEP!$AV$4:$AW$33,2,FALSE)","v":0},"Pas du tout",{"$f":"VLOOKUP(K53,DEBUTSTEP!$AV$4:$AW$33,2,FALSE)","v":0},"Pas du tout",{"$f":"VLOOKUP(M53,DEBUTSTEP!$AV$4:$AW$33,2,FALSE)","v":0},"Pas du tout",{"$f":"VLOOKUP(O53,DEBUTSTEP!$AV$4:$AW$33,2,FALSE)","v":0},"Pas du tout",{"$f":"VLOOKUP(Q53,DEBUTSTEP!$AV$4:$AW$33,2,FALSE)","v":0},"Pas du tout",{"$f":"VLOOKUP(S53,DEBUTSTEP!$AV$4:$AW$33,2,FALSE)","v":0},"Pas du tout",{"$f":"VLOOKUP(U53,DEBUTSTEP!$AV$4:$AW$33,2,FALSE)","v":0},"Pas du tout",{"$f":"VLOOKUP(W53,DEBUTSTEP!$AV$4:$AW$33,2,FALSE)","v":0},"Pas du tout",{"$f":"VLOOKUP(Y53,DEBUTSTEP!$AV$4:$AW$33,2,FALSE)","v":0},"Pas du tout",{"$f":"VLOOKUP(AA53,DEBUTSTEP!$AV$4:$AW$33,2,FALSE)","v":0},"Pas du tout",{"$f":"VLOOKUP(AC53,DEBUTSTEP!$AV$4:$AW$33,2,FALSE)","v":0},"Pas du tout",{"$f":"VLOOKUP(AE53,DEBUTSTEP!$AV$4:$AW$33,2,FALSE)","v":0},"Pas du tout",{"$f":"VLOOKUP(AG53,DEBUTSTEP!$AV$4:$AW$33,2,FALSE)","v":0},"Pas du tout",{"$f":"VLOOKUP(AI53,DEBUTSTEP!$AV$4:$AW$33,2,FALSE)","v":0},"Pas du tout",{"$f":"VLOOKUP(AK53,DEBUTSTEP!$AV$4:$AW$33,2,FALSE)","v":0},"Pas du tout",{"$f":"VLOOKUP(AM53,DEBUTSTEP!$AV$4:$AW$33,2,FALSE)","v":0},"Pas du tout",{"$f":"VLOOKUP(AO53,DEBUTSTEP!$AV$4:$AW$33,2,FALSE)","v":0},"Pas du tout",{"$f":"VLOOKUP(AQ53,DEBUTSTEP!$AV$4:$AW$33,2,FALSE)","v":0},"Pas du tout",{"$f":"VLOOKUP(AS53,DEBUTSTEP!$AV$4:$AW$33,2,FALSE)","v":0},"Pas du tout",{"$f":"VLOOKUP(AU53,DEBUTSTEP!$AV$4:$AW$33,2,FALSE)","v":0},"Pas du tout",{"$f":"VLOOKUP(AW53,DEBUTSTEP!$AV$4:$AW$33,2,FALSE)","v":0},"Pas du tout",{"$f":"VLOOKUP(AY53,DEBUTSTEP!$AV$4:$AW$33,2,FALSE)","v":0},"Pas du tout",{"$f":"VLOOKUP(BA53,DEBUTSTEP!$AV$4:$AW$33,2,FALSE)","v":0},"Pas du tout",{"$f":"VLOOKUP(BC53,DEBUTSTEP!$AV$4:$AW$33,2,FALSE)","v":0},"Pas du tout",{"$f":"VLOOKUP(BE53,DEBUTSTEP!$AV$4:$AW$33,2,FALSE)","v":0},"Pas du tout",{"$f":"VLOOKUP(BG53,DEBUTSTEP!$AV$4:$AW$33,2,FALSE)","v":0},"Pas du tout",{"$f":"VLOOKUP(BI53,DEBUTSTEP!$AV$4:$AW$33,2,FALSE)","v":0},"Pas du tout",{"$f":"VLOOKUP(BK53,DEBUTSTEP!$AV$4:$AW$33,2,FALSE)","v":0},"Pas du tout",{"$f":"VLOOKUP(BM53,DEBUTSTEP!$AV$4:$AW$33,2,FALSE)","v":0},"Pas du tout",{"$f":"VLOOKUP(BO53,DEBUTSTEP!$AV$4:$AW$33,2,FALSE)","v":0},"Pas du tout",{"$f":"VLOOKUP(BQ53,DEBUTSTEP!$AV$4:$AW$33,2,FALSE)","v":0},"Pas du tout",{"$f":"VLOOKUP(BS53,DEBUTSTEP!$AV$4:$AW$33,2,FALSE)","v":0}]
[]
[null,"Mémoriser les blocs","Aucune mémorisation",{"$f":"VLOOKUP(C55,DEBUTSTEP!$AX$4:$AY$33,2,FALSE)","v":0},"Aucune mémorisation",{"$f":"VLOOKUP(E55,DEBUTSTEP!$AX$4:$AY$33,2,FALSE)","v":0},"Aucune mémorisation",{"$f":"VLOOKUP(G55,DEBUTSTEP!$AX$4:$AY$33,2,FALSE)","v":0},"Aucune mémorisation",{"$f":"VLOOKUP(I55,DEBUTSTEP!$AX$4:$AY$33,2,FALSE)","v":0},"Aucune mémorisation",{"$f":"VLOOKUP(K55,DEBUTSTEP!$AX$4:$AY$33,2,FALSE)","v":0},"Aucune mémorisation",{"$f":"VLOOKUP(M55,DEBUTSTEP!$AX$4:$AY$33,2,FALSE)","v":0},"Aucune mémorisation",{"$f":"VLOOKUP(O55,DEBUTSTEP!$AX$4:$AY$33,2,FALSE)","v":0},"Aucune mémorisation",{"$f":"VLOOKUP(Q55,DEBUTSTEP!$AX$4:$AY$33,2,FALSE)","v":0},"Aucune mémorisation",{"$f":"VLOOKUP(S55,DEBUTSTEP!$AX$4:$AY$33,2,FALSE)","v":0},"Aucune mémorisation",{"$f":"VLOOKUP(U55,DEBUTSTEP!$AX$4:$AY$33,2,FALSE)","v":0},"Aucune mémorisation",{"$f":"VLOOKUP(W55,DEBUTSTEP!$AX$4:$AY$33,2,FALSE)","v":0},"Aucune mémorisation",{"$f":"VLOOKUP(Y55,DEBUTSTEP!$AX$4:$AY$33,2,FALSE)","v":0},"Aucune mémorisation",{"$f":"VLOOKUP(AA55,DEBUTSTEP!$AX$4:$AY$33,2,FALSE)","v":0},"Aucune mémorisation",{"$f":"VLOOKUP(AC55,DEBUTSTEP!$AX$4:$AY$33,2,FALSE)","v":0},"Aucune mémorisation",{"$f":"VLOOKUP(AE55,DEBUTSTEP!$AX$4:$AY$33,2,FALSE)","v":0},"Aucune mémorisation",{"$f":"VLOOKUP(AG55,DEBUTSTEP!$AX$4:$AY$33,2,FALSE)","v":0},"Aucune mémorisation",{"$f":"VLOOKUP(AI55,DEBUTSTEP!$AX$4:$AY$33,2,FALSE)","v":0},"Aucune mémorisation",{"$f":"VLOOKUP(AK55,DEBUTSTEP!$AX$4:$AY$33,2,FALSE)","v":0},"Aucune mémorisation",{"$f":"VLOOKUP(AM55,DEBUTSTEP!$AX$4:$AY$33,2,FALSE)","v":0},"Aucune mémorisation",{"$f":"VLOOKUP(AO55,DEBUTSTEP!$AX$4:$AY$33,2,FALSE)","v":0},"Aucune mémorisation",{"$f":"VLOOKUP(AQ55,DEBUTSTEP!$AX$4:$AY$33,2,FALSE)","v":0},"Aucune mémorisation",{"$f":"VLOOKUP(AS55,DEBUTSTEP!$AX$4:$AY$33,2,FALSE)","v":0},"Aucune mémorisation",{"$f":"VLOOKUP(AU55,DEBUTSTEP!$AX$4:$AY$33,2,FALSE)","v":0},"Aucune mémorisation",{"$f":"VLOOKUP(AW55,DEBUTSTEP!$AX$4:$AY$33,2,FALSE)","v":0},"Aucune mémorisation",{"$f":"VLOOKUP(AY55,DEBUTSTEP!$AX$4:$AY$33,2,FALSE)","v":0},"Aucune mémorisation",{"$f":"VLOOKUP(BA55,DEBUTSTEP!$AX$4:$AY$33,2,FALSE)","v":0},"Aucune mémorisation",{"$f":"VLOOKUP(BC55,DEBUTSTEP!$AX$4:$AY$33,2,FALSE)","v":0},"Aucune mémorisation",{"$f":"VLOOKUP(BE55,DEBUTSTEP!$AX$4:$AY$33,2,FALSE)","v":0},"Aucune mémorisation",{"$f":"VLOOKUP(BG55,DEBUTSTEP!$AX$4:$AY$33,2,FALSE)","v":0},"Aucune mémorisation",{"$f":"VLOOKUP(BI55,DEBUTSTEP!$AX$4:$AY$33,2,FALSE)","v":0},"Aucune mémorisation",{"$f":"VLOOKUP(BK55,DEBUTSTEP!$AX$4:$AY$33,2,FALSE)","v":0},"Aucune mémorisation",{"$f":"VLOOKUP(BM55,DEBUTSTEP!$AX$4:$AY$33,2,FALSE)","v":0},"Aucune mémorisation",{"$f":"VLOOKUP(BO55,DEBUTSTEP!$AX$4:$AY$33,2,FALSE)","v":0},"Aucune mémorisation",{"$f":"VLOOKUP(BQ55,DEBUTSTEP!$AX$4:$AY$33,2,FALSE)","v":0},"Aucune mémorisation",{"$f":"VLOOKUP(BS55,DEBUTSTEP!$AX$4:$AY$33,2,FALSE)","v":0}]
[]
[null,"Analyser sa prestation","Imprécise",{"$f":"VLOOKUP(C57,DEBUTSTEP!$AZ$4:$BA$33,2,FALSE)","v":1},"Imprécise",{"$f":"VLOOKUP(E57,DEBUTSTEP!$AZ$4:$BA$33,2,FALSE)","v":1},"Imprécise",{"$f":"VLOOKUP(G57,DEBUTSTEP!$AZ$4:$BA$33,2,FALSE)","v":1},"Imprécise",{"$f":"VLOOKUP(I57,DEBUTSTEP!$AZ$4:$BA$33,2,FALSE)","v":1},"Imprécise",{"$f":"VLOOKUP(K57,DEBUTSTEP!$AZ$4:$BA$33,2,FALSE)","v":1},"Imprécise",{"$f":"VLOOKUP(M57,DEBUTSTEP!$AZ$4:$BA$33,2,FALSE)","v":1},"Imprécise",{"$f":"VLOOKUP(O57,DEBUTSTEP!$AZ$4:$BA$33,2,FALSE)","v":1},"Imprécise",{"$f":"VLOOKUP(Q57,DEBUTSTEP!$AZ$4:$BA$33,2,FALSE)","v":1},"Imprécise",{"$f":"VLOOKUP(S57,DEBUTSTEP!$AZ$4:$BA$33,2,FALSE)","v":1},"Imprécise",{"$f":"VLOOKUP(U57,DEBUTSTEP!$AZ$4:$BA$33,2,FALSE)","v":1},"Imprécise",{"$f":"VLOOKUP(W57,DEBUTSTEP!$AZ$4:$BA$33,2,FALSE)","v":1},"Imprécise",{"$f":"VLOOKUP(Y57,DEBUTSTEP!$AZ$4:$BA$33,2,FALSE)","v":1},"Imprécise",{"$f":"VLOOKUP(AA57,DEBUTSTEP!$AZ$4:$BA$33,2,FALSE)","v":1},"Imprécise",{"$f":"VLOOKUP(AC57,DEBUTSTEP!$AZ$4:$BA$33,2,FALSE)","v":1},"Imprécise",{"$f":"VLOOKUP(AE57,DEBUTSTEP!$AZ$4:$BA$33,2,FALSE)","v":1},"Imprécise",{"$f":"VLOOKUP(AG57,DEBUTSTEP!$AZ$4:$BA$33,2,FALSE)","v":1},"Imprécise",{"$f":"VLOOKUP(AI57,DEBUTSTEP!$AZ$4:$BA$33,2,FALSE)","v":1},"Imprécise",{"$f":"VLOOKUP(AK57,DEBUTSTEP!$AZ$4:$BA$33,2,FALSE)","v":1},"Imprécise",{"$f":"VLOOKUP(AM57,DEBUTSTEP!$AZ$4:$BA$33,2,FALSE)","v":1},"Imprécise",{"$f":"VLOOKUP(AO57,DEBUTSTEP!$AZ$4:$BA$33,2,FALSE)","v":1},"Imprécise",{"$f":"VLOOKUP(AQ57,DEBUTSTEP!$AZ$4:$BA$33,2,FALSE)","v":1},"Imprécise",{"$f":"VLOOKUP(AS57,DEBUTSTEP!$AZ$4:$BA$33,2,FALSE)","v":1},"Imprécise",{"$f":"VLOOKUP(AU57,DEBUTSTEP!$AZ$4:$BA$33,2,FALSE)","v":1},"Imprécise",{"$f":"VLOOKUP(AW57,DEBUTSTEP!$AZ$4:$BA$33,2,FALSE)","v":1},"Imprécise",{"$f":"VLOOKUP(AY57,DEBUTSTEP!$AZ$4:$BA$33,2,FALSE)","v":1},"Imprécise",{"$f":"VLOOKUP(BA57,DEBUTSTEP!$AZ$4:$BA$33,2,FALSE)","v":1},"Imprécise",{"$f":"VLOOKUP(BC57,DEBUTSTEP!$AZ$4:$BA$33,2,FALSE)","v":1},"Imprécise",{"$f":"VLOOKUP(BE57,DEBUTSTEP!$AZ$4:$BA$33,2,FALSE)","v":1},"Imprécise",{"$f":"VLOOKUP(BG57,DEBUTSTEP!$AZ$4:$BA$33,2,FALSE)","v":1},"Imprécise",{"$f":"VLOOKUP(BI57,DEBUTSTEP!$AZ$4:$BA$33,2,FALSE)","v":1},"Imprécise",{"$f":"VLOOKUP(BK57,DEBUTSTEP!$AZ$4:$BA$33,2,FALSE)","v":1},"Imprécise",{"$f":"VLOOKUP(BM57,DEBUTSTEP!$AZ$4:$BA$33,2,FALSE)","v":1},"Imprécise",{"$f":"VLOOKUP(BO57,DEBUTSTEP!$AZ$4:$BA$33,2,FALSE)","v":1},"Imprécise",{"$f":"VLOOKUP(BQ57,DEBUTSTEP!$AZ$4:$BA$33,2,FALSE)","v":1},"Imprécise",{"$f":"VLOOKUP(BS57,DEBUTSTEP!$AZ$4:$BA$33,2,FALSE)","v":1}]
[]
[null,"NOTE",{"$f":"IF(OR(D47=\"x\",D49=\"x\",D51=\"x\",D53=\"x\",D55=\"x\",D57=\"x\"),\"ABSENT\",SUMIF(D47,\"<>X\")+SUMIF(D49,\"<>X\")+SUMIF(D51,\"<>X\")+SUMIF(D53,\"<>X\")+SUMIF(D55,\"<>X\")+SUMIF(D57,\"<>X\"))","v":"ABSENT"},null,{"$f":"IF(OR(F47=\"x\",F49=\"x\",F51=\"x\",F53=\"x\",F55=\"x\",F57=\"x\"),\"ABSENT\",SUMIF(F47,\"<>X\")+SUMIF(F49,\"<>X\")+SUMIF(F51,\"<>X\")+SUMIF(F53,\"<>X\")+SUMIF(F55,\"<>X\")+SUMIF(F57,\"<>X\"))","v":"ABSENT"},null,{"$f":"IF(OR(H47=\"x\",H49=\"x\",H51=\"x\",H53=\"x\",H55=\"x\",H57=\"x\"),\"ABSENT\",SUMIF(H47,\"<>X\")+SUMIF(H49,\"<>X\")+SUMIF(H51,\"<>X\")+SUMIF(H53,\"<>X\")+SUMIF(H55,\"<>X\")+SUMIF(H57,\"<>X\"))","v":"ABSENT"},null,{"$f":"IF(OR(J47=\"x\",J49=\"x\",J51=\"x\",J53=\"x\",J55=\"x\",J57=\"x\"),\"ABSENT\",SUMIF(J47,\"<>X\")+SUMIF(J49,\"<>X\")+SUMIF(J51,\"<>X\")+SUMIF(J53,\"<>X\")+SUMIF(J55,\"<>X\")+SUMIF(J57,\"<>X\"))","v":"ABSENT"},null,{"$f":"IF(OR(L47=\"x\",L49=\"x\",L51=\"x\",L53=\"x\",L55=\"x\",L57=\"x\"),\"ABSENT\",SUMIF(L47,\"<>X\")+SUMIF(L49,\"<>X\")+SUMIF(L51,\"<>X\")+SUMIF(L53,\"<>X\")+SUMIF(L55,\"<>X\")+SUMIF(L57,\"<>X\"))","v":"ABSENT"},null,{"$f":"IF(OR(N47=\"x\",N49=\"x\",N51=\"x\",N53=\"x\",N55=\"x\",N57=\"x\"),\"ABSENT\",SUMIF(N47,\"<>X\")+SUMIF(N49,\"<>X\")+SUMIF(N51,\"<>X\")+SUMIF(N53,\"<>X\")+SUMIF(N55,\"<>X\")+SUMIF(N57,\"<>X\"))","v":"ABSENT"},null,{"$f":"IF(OR(P47=\"x\",P49=\"x\",P51=\"x\",P53=\"x\",P55=\"x\",P57=\"x\"),\"ABSENT\",SUMIF(P47,\"<>X\")+SUMIF(P49,\"<>X\")+SUMIF(P51,\"<>X\")+SUMIF(P53,\"<>X\")+SUMIF(P55,\"<>X\")+SUMIF(P57,\"<>X\"))","v":"ABSENT"},null,{"$f":"IF(OR(R47=\"x\",R49=\"x\",R51=\"x\",R53=\"x\",R55=\"x\",R57=\"x\"),\"ABSENT\",SUMIF(R47,\"<>X\")+SUMIF(R49,\"<>X\")+SUMIF(R51,\"<>X\")+SUMIF(R53,\"<>X\")+SUMIF(R55,\"<>X\")+SUMIF(R57,\"<>X\"))","v":"ABSENT"},null,{"$f":"IF(OR(T47=\"x\",T49=\"x\",T51=\"x\",T53=\"x\",T55=\"x\",T57=\"x\"),\"ABSENT\",SUMIF(T47,\"<>X\")+SUMIF(T49,\"<>X\")+SUMIF(T51,\"<>X\")+SUMIF(T53,\"<>X\")+SUMIF(T55,\"<>X\")+SUMIF(T57,\"<>X\"))","v":"ABSENT"},null,{"$f":"IF(OR(V47=\"x\",V49=\"x\",V51=\"x\",V53=\"x\",V55=\"x\",V57=\"x\"),\"ABSENT\",SUMIF(V47,\"<>X\")+SUMIF(V49,\"<>X\")+SUMIF(V51,\"<>X\")+SUMIF(V53,\"<>X\")+SUMIF(V55,\"<>X\")+SUMIF(V57,\"<>X\"))","v":"ABSENT"},null,{"$f":"IF(OR(X47=\"x\",X49=\"x\",X51=\"x\",X53=\"x\",X55=\"x\",X57=\"x\"),\"ABSENT\",SUMIF(X47,\"<>X\")+SUMIF(X49,\"<>X\")+SUMIF(X51,\"<>X\")+SUMIF(X53,\"<>X\")+SUMIF(X55,\"<>X\")+SUMIF(X57,\"<>X\"))","v":"ABSENT"},null,{"$f":"IF(OR(Z47=\"x\",Z49=\"x\",Z51=\"x\",Z53=\"x\",Z55=\"x\",Z57=\"x\"),\"ABSENT\",SUMIF(Z47,\"<>X\")+SUMIF(Z49,\"<>X\")+SUMIF(Z51,\"<>X\")+SUMIF(Z53,\"<>X\")+SUMIF(Z55,\"<>X\")+SUMIF(Z57,\"<>X\"))","v":"ABSENT"},null,{"$f":"IF(OR(AB47=\"x\",AB49=\"x\",AB51=\"x\",AB53=\"x\",AB55=\"x\",AB57=\"x\"),\"ABSENT\",SUMIF(AB47,\"<>X\")+SUMIF(AB49,\"<>X\")+SUMIF(AB51,\"<>X\")+SUMIF(AB53,\"<>X\")+SUMIF(AB55,\"<>X\")+SUMIF(AB57,\"<>X\"))","v":"ABSENT"},null,{"$f":"IF(OR(AD47=\"x\",AD49=\"x\",AD51=\"x\",AD53=\"x\",AD55=\"x\",AD57=\"x\"),\"ABSENT\",SUMIF(AD47,\"<>X\")+SUMIF(AD49,\"<>X\")+SUMIF(AD51,\"<>X\")+SUMIF(AD53,\"<>X\")+SUMIF(AD55,\"<>X\")+SUMIF(AD57,\"<>X\"))","v":"ABSENT"},null,{"$f":"IF(OR(AF47=\"x\",AF49=\"x\",AF51=\"x\",AF53=\"x\",AF55=\"x\",AF57=\"x\"),\"ABSENT\",SUMIF(AF47,\"<>X\")+SUMIF(AF49,\"<>X\")+SUMIF(AF51,\"<>X\")+SUMIF(AF53,\"<>X\")+SUMIF(AF55,\"<>X\")+SUMIF(AF57,\"<>X\"))","v":"ABSENT"},null,{"$f":"IF(OR(AH47=\"x\",AH49=\"x\",AH51=\"x\",AH53=\"x\",AH55=\"x\",AH57=\"x\"),\"ABSENT\",SUMIF(AH47,\"<>X\")+SUMIF(AH49,\"<>X\")+SUMIF(AH51,\"<>X\")+SUMIF(AH53,\"<>X\")+SUMIF(AH55,\"<>X\")+SUMIF(AH57,\"<>X\"))","v":"ABSENT"},null,{"$f":"IF(OR(AJ47=\"x\",AJ49=\"x\",AJ51=\"x\",AJ53=\"x\",AJ55=\"x\",AJ57=\"x\"),\"ABSENT\",SUMIF(AJ47,\"<>X\")+SUMIF(AJ49,\"<>X\")+SUMIF(AJ51,\"<>X\")+SUMIF(AJ53,\"<>X\")+SUMIF(AJ55,\"<>X\")+SUMIF(AJ57,\"<>X\"))","v":"ABSENT"},null,{"$f":"IF(OR(AL47=\"x\",AL49=\"x\",AL51=\"x\",AL53=\"x\",AL55=\"x\",AL57=\"x\"),\"ABSENT\",SUMIF(AL47,\"<>X\")+SUMIF(AL49,\"<>X\")+SUMIF(AL51,\"<>X\")+SUMIF(AL53,\"<>X\")+SUMIF(AL55,\"<>X\")+SUMIF(AL57,\"<>X\"))","v":"ABSENT"},null,{"$f":"IF(OR(AN47=\"x\",AN49=\"x\",AN51=\"x\",AN53=\"x\",AN55=\"x\",AN57=\"x\"),\"ABSENT\",SUMIF(AN47,\"<>X\")+SUMIF(AN49,\"<>X\")+SUMIF(AN51,\"<>X\")+SUMIF(AN53,\"<>X\")+SUMIF(AN55,\"<>X\")+SUMIF(AN57,\"<>X\"))","v":"ABSENT"},null,{"$f":"IF(OR(AP47=\"x\",AP49=\"x\",AP51=\"x\",AP53=\"x\",AP55=\"x\",AP57=\"x\"),\"ABSENT\",SUMIF(AP47,\"<>X\")+SUMIF(AP49,\"<>X\")+SUMIF(AP51,\"<>X\")+SUMIF(AP53,\"<>X\")+SUMIF(AP55,\"<>X\")+SUMIF(AP57,\"<>X\"))","v":"ABSENT"},null,{"$f":"IF(OR(AR47=\"x\",AR49=\"x\",AR51=\"x\",AR53=\"x\",AR55=\"x\",AR57=\"x\"),\"ABSENT\",SUMIF(AR47,\"<>X\")+SUMIF(AR49,\"<>X\")+SUMIF(AR51,\"<>X\")+SUMIF(AR53,\"<>X\")+SUMIF(AR55,\"<>X\")+SUMIF(AR57,\"<>X\"))","v":"ABSENT"},null,{"$f":"IF(OR(AT47=\"x\",AT49=\"x\",AT51=\"x\",AT53=\"x\",AT55=\"x\",AT57=\"x\"),\"ABSENT\",SUMIF(AT47,\"<>X\")+SUMIF(AT49,\"<>X\")+SUMIF(AT51,\"<>X\")+SUMIF(AT53,\"<>X\")+SUMIF(AT55,\"<>X\")+SUMIF(AT57,\"<>X\"))","v":"ABSENT"},null,{"$f":"IF(OR(AV47=\"x\",AV49=\"x\",AV51=\"x\",AV53=\"x\",AV55=\"x\",AV57=\"x\"),\"ABSENT\",SUMIF(AV47,\"<>X\")+SUMIF(AV49,\"<>X\")+SUMIF(AV51,\"<>X\")+SUMIF(AV53,\"<>X\")+SUMIF(AV55,\"<>X\")+SUMIF(AV57,\"<>X\"))","v":"ABSENT"},null,{"$f":"IF(OR(AX47=\"x\",AX49=\"x\",AX51=\"x\",AX53=\"x\",AX55=\"x\",AX57=\"x\"),\"ABSENT\",SUMIF(AX47,\"<>X\")+SUMIF(AX49,\"<>X\")+SUMIF(AX51,\"<>X\")+SUMIF(AX53,\"<>X\")+SUMIF(AX55,\"<>X\")+SUMIF(AX57,\"<>X\"))","v":"ABSENT"},null,{"$f":"IF(OR(AZ47=\"x\",AZ49=\"x\",AZ51=\"x\",AZ53=\"x\",AZ55=\"x\",AZ57=\"x\"),\"ABSENT\",SUMIF(AZ47,\"<>X\")+SUMIF(AZ49,\"<>X\")+SUMIF(AZ51,\"<>X\")+SUMIF(AZ53,\"<>X\")+SUMIF(AZ55,\"<>X\")+SUMIF(AZ57,\"<>X\"))","v":"ABSENT"},null,{"$f":"IF(OR(BB47=\"x\",BB49=\"x\",BB51=\"x\",BB53=\"x\",BB55=\"x\",BB57=\"x\"),\"ABSENT\",SUMIF(BB47,\"<>X\")+SUMIF(BB49,\"<>X\")+SUMIF(BB51,\"<>X\")+SUMIF(BB53,\"<>X\")+SUMIF(BB55,\"<>X\")+SUMIF(BB57,\"<>X\"))","v":"ABSENT"},null,{"$f":"IF(OR(BD47=\"x\",BD49=\"x\",BD51=\"x\",BD53=\"x\",BD55=\"x\",BD57=\"x\"),\"ABSENT\",SUMIF(BD47,\"<>X\")+SUMIF(BD49,\"<>X\")+SUMIF(BD51,\"<>X\")+SUMIF(BD53,\"<>X\")+SUMIF(BD55,\"<>X\")+SUMIF(BD57,\"<>X\"))","v":"ABSENT"},null,{"$f":"IF(OR(BF47=\"x\",BF49=\"x\",BF51=\"x\",BF53=\"x\",BF55=\"x\",BF57=\"x\"),\"ABSENT\",SUMIF(BF47,\"<>X\")+SUMIF(BF49,\"<>X\")+SUMIF(BF51,\"<>X\")+SUMIF(BF53,\"<>X\")+SUMIF(BF55,\"<>X\")+SUMIF(BF57,\"<>X\"))","v":"ABSENT"},null,{"$f":"IF(OR(BH47=\"x\",BH49=\"x\",BH51=\"x\",BH53=\"x\",BH55=\"x\",BH57=\"x\"),\"ABSENT\",SUMIF(BH47,\"<>X\")+SUMIF(BH49,\"<>X\")+SUMIF(BH51,\"<>X\")+SUMIF(BH53,\"<>X\")+SUMIF(BH55,\"<>X\")+SUMIF(BH57,\"<>X\"))","v":"ABSENT"},null,{"$f":"IF(OR(BJ47=\"x\",BJ49=\"x\",BJ51=\"x\",BJ53=\"x\",BJ55=\"x\",BJ57=\"x\"),\"ABSENT\",SUMIF(BJ47,\"<>X\")+SUMIF(BJ49,\"<>X\")+SUMIF(BJ51,\"<>X\")+SUMIF(BJ53,\"<>X\")+SUMIF(BJ55,\"<>X\")+SUMIF(BJ57,\"<>X\"))","v":"ABSENT"},null,{"$f":"IF(OR(BL47=\"x\",BL49=\"x\",BL51=\"x\",BL53=\"x\",BL55=\"x\",BL57=\"x\"),\"ABSENT\",SUMIF(BL47,\"<>X\")+SUMIF(BL49,\"<>X\")+SUMIF(BL51,\"<>X\")+SUMIF(BL53,\"<>X\")+SUMIF(BL55,\"<>X\")+SUMIF(BL57,\"<>X\"))","v":"ABSENT"},null,{"$f":"IF(OR(BN47=\"x\",BN49=\"x\",BN51=\"x\",BN53=\"x\",BN55=\"x\",BN57=\"x\"),\"ABSENT\",SUMIF(BN47,\"<>X\")+SUMIF(BN49,\"<>X\")+SUMIF(BN51,\"<>X\")+SUMIF(BN53,\"<>X\")+SUMIF(BN55,\"<>X\")+SUMIF(BN57,\"<>X\"))","v":"ABSENT"},null,{"$f":"IF(OR(BP47=\"x\",BP49=\"x\",BP51=\"x\",BP53=\"x\",BP55=\"x\",BP57=\"x\"),\"ABSENT\",SUMIF(BP47,\"<>X\")+SUMIF(BP49,\"<>X\")+SUMIF(BP51,\"<>X\")+SUMIF(BP53,\"<>X\")+SUMIF(BP55,\"<>X\")+SUMIF(BP57,\"<>X\"))","v":"ABSENT"},null,{"$f":"IF(OR(BR47=\"x\",BR49=\"x\",BR51=\"x\",BR53=\"x\",BR55=\"x\",BR57=\"x\"),\"ABSENT\",SUMIF(BR47,\"<>X\")+SUMIF(BR49,\"<>X\")+SUMIF(BR51,\"<>X\")+SUMIF(BR53,\"<>X\")+SUMIF(BR55,\"<>X\")+SUMIF(BR57,\"<>X\"))","v":"ABSENT"},null,{"$f":"IF(OR(BT47=\"x\",BT49=\"x\",BT51=\"x\",BT53=\"x\",BT55=\"x\",BT57=\"x\"),\"ABSENT\",SUMIF(BT47,\"<>X\")+SUMIF(BT49,\"<>X\")+SUMIF(BT51,\"<>X\")+SUMIF(BT53,\"<>X\")+SUMIF(BT55,\"<>X\")+SUMIF(BT57,\"<>X\"))","v":"ABSENT"}]
[]
["SEANCE 5","Prendre sa FC efficacement","ABSENT",{"$f":"VLOOKUP(C61,DEBUTSTEP!$AP$4:$AQ$33,2,FALSE)","v":"X"},"ABSENT",{"$f":"VLOOKUP(E61,DEBUTSTEP!$AP$4:$AQ$33,2,FALSE)","v":"X"},"ABSENT",{"$f":"VLOOKUP(G61,DEBUTSTEP!$AP$4:$AQ$33,2,FALSE)","v":"X"},"ABSENT",{"$f":"VLOOKUP(I61,DEBUTSTEP!$AP$4:$AQ$33,2,FALSE)","v":"X"},"ABSENT",{"$f":"VLOOKUP(K61,DEBUTSTEP!$AP$4:$AQ$33,2,FALSE)","v":"X"},"ABSENT",{"$f":"VLOOKUP(M61,DEBUTSTEP!$AP$4:$AQ$33,2,FALSE)","v":"X"},"ABSENT",{"$f":"VLOOKUP(O61,DEBUTSTEP!$AP$4:$AQ$33,2,FALSE)","v":"X"},"ABSENT",{"$f":"VLOOKUP(Q61,DEBUTSTEP!$AP$4:$AQ$33,2,FALSE)","v":"X"},"ABSENT",{"$f":"VLOOKUP(S61,DEBUTSTEP!$AP$4:$AQ$33,2,FALSE)","v":"X"},"ABSENT",{"$f":"VLOOKUP(U61,DEBUTSTEP!$AP$4:$AQ$33,2,FALSE)","v":"X"},"ABSENT",{"$f":"VLOOKUP(W61,DEBUTSTEP!$AP$4:$AQ$33,2,FALSE)","v":"X"},"ABSENT",{"$f":"VLOOKUP(Y61,DEBUTSTEP!$AP$4:$AQ$33,2,FALSE)","v":"X"},"ABSENT",{"$f":"VLOOKUP(AA61,DEBUTSTEP!$AP$4:$AQ$33,2,FALSE)","v":"X"},"ABSENT",{"$f":"VLOOKUP(AC61,DEBUTSTEP!$AP$4:$AQ$33,2,FALSE)","v":"X"},"ABSENT",{"$f":"VLOOKUP(AE61,DEBUTSTEP!$AP$4:$AQ$33,2,FALSE)","v":"X"},"ABSENT",{"$f":"VLOOKUP(AG61,DEBUTSTEP!$AP$4:$AQ$33,2,FALSE)","v":"X"},"ABSENT",{"$f":"VLOOKUP(AI61,DEBUTSTEP!$AP$4:$AQ$33,2,FALSE)","v":"X"},"ABSENT",{"$f":"VLOOKUP(AK61,DEBUTSTEP!$AP$4:$AQ$33,2,FALSE)","v":"X"},"ABSENT",{"$f":"VLOOKUP(AM61,DEBUTSTEP!$AP$4:$AQ$33,2,FALSE)","v":"X"},"ABSENT",{"$f":"VLOOKUP(AO61,DEBUTSTEP!$AP$4:$AQ$33,2,FALSE)","v":"X"},"ABSENT",{"$f":"VLOOKUP(AQ61,DEBUTSTEP!$AP$4:$AQ$33,2,FALSE)","v":"X"},"ABSENT",{"$f":"VLOOKUP(AS61,DEBUTSTEP!$AP$4:$AQ$33,2,FALSE)","v":"X"},"ABSENT",{"$f":"VLOOKUP(AU61,DEBUTSTEP!$AP$4:$AQ$33,2,FALSE)","v":"X"},"ABSENT",{"$f":"VLOOKUP(AW61,DEBUTSTEP!$AP$4:$AQ$33,2,FALSE)","v":"X"},"ABSENT",{"$f":"VLOOKUP(AY61,DEBUTSTEP!$AP$4:$AQ$33,2,FALSE)","v":"X"},"ABSENT",{"$f":"VLOOKUP(BA61,DEBUTSTEP!$AP$4:$AQ$33,2,FALSE)","v":"X"},"ABSENT",{"$f":"VLOOKUP(BC61,DEBUTSTEP!$AP$4:$AQ$33,2,FALSE)","v":"X"},"ABSENT",{"$f":"VLOOKUP(BE61,DEBUTSTEP!$AP$4:$AQ$33,2,FALSE)","v":"X"},"ABSENT",{"$f":"VLOOKUP(BG61,DEBUTSTEP!$AP$4:$AQ$33,2,FALSE)","v":"X"},"ABSENT",{"$f":"VLOOKUP(BI61,DEBUTSTEP!$AP$4:$AQ$33,2,FALSE)","v":"X"},"ABSENT",{"$f":"VLOOKUP(BK61,DEBUTSTEP!$AP$4:$AQ$33,2,FALSE)","v":"X"},"ABSENT",{"$f":"VLOOKUP(BM61,DEBUTSTEP!$AP$4:$AQ$33,2,FALSE)","v":"X"},"ABSENT",{"$f":"VLOOKUP(BO61,DEBUTSTEP!$AP$4:$AQ$33,2,FALSE)","v":"X"},"ABSENT",{"$f":"VLOOKUP(BQ61,DEBUTSTEP!$AP$4:$AQ$33,2,FALSE)","v":"X"},"ABSENT",{"$f":"VLOOKUP(BS61,DEBUTSTEP!$AP$4:$AQ$33,2,FALSE)","v":"X"}]
[]
[null,"S'engager dans le mobile proposé","Aucun",{"$f":"VLOOKUP(C63,DEBUTSTEP!$AR$4:$AS$33,2,FALSE)","v":0},"Aucun",{"$f":"VLOOKUP(E63,DEBUTSTEP!$AR$4:$AS$33,2,FALSE)","v":0},"Aucun",{"$f":"VLOOKUP(G63,DEBUTSTEP!$AR$4:$AS$33,2,FALSE)","v":0},"Aucun",{"$f":"VLOOKUP(I63,DEBUTSTEP!$AR$4:$AS$33,2,FALSE)","v":0},"Aucun",{"$f":"VLOOKUP(K63,DEBUTSTEP!$AR$4:$AS$33,2,FALSE)","v":0},"Aucun",{"$f":"VLOOKUP(M63,DEBUTSTEP!$AR$4:$AS$33,2,FALSE)","v":0},"Aucun",{"$f":"VLOOKUP(O63,DEBUTSTEP!$AR$4:$AS$33,2,FALSE)","v":0},"Aucun",{"$f":"VLOOKUP(Q63,DEBUTSTEP!$AR$4:$AS$33,2,FALSE)","v":0},"Aucun",{"$f":"VLOOKUP(S63,DEBUTSTEP!$AR$4:$AS$33,2,FALSE)","v":0},"Aucun",{"$f":"VLOOKUP(U63,DEBUTSTEP!$AR$4:$AS$33,2,FALSE)","v":0},"Aucun",{"$f":"VLOOKUP(W63,DEBUTSTEP!$AR$4:$AS$33,2,FALSE)","v":0},"Aucun",{"$f":"VLOOKUP(Y63,DEBUTSTEP!$AR$4:$AS$33,2,FALSE)","v":0},"Aucun",{"$f":"VLOOKUP(AA63,DEBUTSTEP!$AR$4:$AS$33,2,FALSE)","v":0},"Aucun",{"$f":"VLOOKUP(AC63,DEBUTSTEP!$AR$4:$AS$33,2,FALSE)","v":0},"Aucun",{"$f":"VLOOKUP(AE63,DEBUTSTEP!$AR$4:$AS$33,2,FALSE)","v":0},"Aucun",{"$f":"VLOOKUP(AG63,DEBUTSTEP!$AR$4:$AS$33,2,FALSE)","v":0},"Aucun",{"$f":"VLOOKUP(AI63,DEBUTSTEP!$AR$4:$AS$33,2,FALSE)","v":0},"Aucun",{"$f":"VLOOKUP(AK63,DEBUTSTEP!$AR$4:$AS$33,2,FALSE)","v":0},"Aucun",{"$f":"VLOOKUP(AM63,DEBUTSTEP!$AR$4:$AS$33,2,FALSE)","v":0},"Aucun",{"$f":"VLOOKUP(AO63,DEBUTSTEP!$AR$4:$AS$33,2,FALSE)","v":0},"Aucun",{"$f":"VLOOKUP(AQ63,DEBUTSTEP!$AR$4:$AS$33,2,FALSE)","v":0},"Aucun",{"$f":"VLOOKUP(AS63,DEBUTSTEP!$AR$4:$AS$33,2,FALSE)","v":0},"Aucun",{"$f":"VLOOKUP(AU63,DEBUTSTEP!$AR$4:$AS$33,2,FALSE)","v":0},"Aucun",{"$f":"VLOOKUP(AW63,DEBUTSTEP!$AR$4:$AS$33,2,FALSE)","v":0},"Aucun",{"$f":"VLOOKUP(AY63,DEBUTSTEP!$AR$4:$AS$33,2,FALSE)","v":0},"Aucun",{"$f":"VLOOKUP(BA63,DEBUTSTEP!$AR$4:$AS$33,2,FALSE)","v":0},"Aucun",{"$f":"VLOOKUP(BC63,DEBUTSTEP!$AR$4:$AS$33,2,FALSE)","v":0},"Aucun",{"$f":"VLOOKUP(BE63,DEBUTSTEP!$AR$4:$AS$33,2,FALSE)","v":0},"Aucun",{"$f":"VLOOKUP(BG63,DEBUTSTEP!$AR$4:$AS$33,2,FALSE)","v":0},"Aucun",{"$f":"VLOOKUP(BI63,DEBUTSTEP!$AR$4:$AS$33,2,FALSE)","v":0},"Aucun",{"$f":"VLOOKUP(BK63,DEBUTSTEP!$AR$4:$AS$33,2,FALSE)","v":0},"Aucun",{"$f":"VLOOKUP(BM63,DEBUTSTEP!$AR$4:$AS$33,2,FALSE)","v":0},"Aucun",{"$f":"VLOOKUP(BO63,DEBUTSTEP!$AR$4:$AS$33,2,FALSE)","v":0},"Aucun",{"$f":"VLOOKUP(BQ63,DEBUTSTEP!$AR$4:$AS$33,2,FALSE)","v":0},"Aucun",{"$f":"VLOOKUP(BS63,DEBUTSTEP!$AR$4:$AS$33,2,FALSE)","v":0}]
[]
[null,"Agir en sécu","Danger",{"$f":"VLOOKUP(C65,DEBUTSTEP!$AT$4:$AU$33,2,FALSE)","v":0},"Danger",{"$f":"VLOOKUP(E65,DEBUTSTEP!$AT$4:$AU$33,2,FALSE)","v":0},"Danger",{"$f":"VLOOKUP(G65,DEBUTSTEP!$AT$4:$AU$33,2,FALSE)","v":0},"Danger",{"$f":"VLOOKUP(I65,DEBUTSTEP!$AT$4:$AU$33,2,FALSE)","v":0},"Danger",{"$f":"VLOOKUP(K65,DEBUTSTEP!$AT$4:$AU$33,2,FALSE)","v":0},"Danger",{"$f":"VLOOKUP(M65,DEBUTSTEP!$AT$4:$AU$33,2,FALSE)","v":0},"Danger",{"$f":"VLOOKUP(O65,DEBUTSTEP!$AT$4:$AU$33,2,FALSE)","v":0},"Danger",{"$f":"VLOOKUP(Q65,DEBUTSTEP!$AT$4:$AU$33,2,FALSE)","v":0},"Danger",{"$f":"VLOOKUP(S65,DEBUTSTEP!$AT$4:$AU$33,2,FALSE)","v":0},"Danger",{"$f":"VLOOKUP(U65,DEBUTSTEP!$AT$4:$AU$33,2,FALSE)","v":0},"Danger",{"$f":"VLOOKUP(W65,DEBUTSTEP!$AT$4:$AU$33,2,FALSE)","v":0},"Danger",{"$f":"VLOOKUP(Y65,DEBUTSTEP!$AT$4:$AU$33,2,FALSE)","v":0},"Danger",{"$f":"VLOOKUP(AA65,DEBUTSTEP!$AT$4:$AU$33,2,FALSE)","v":0},"Danger",{"$f":"VLOOKUP(AC65,DEBUTSTEP!$AT$4:$AU$33,2,FALSE)","v":0},"Danger",{"$f":"VLOOKUP(AE65,DEBUTSTEP!$AT$4:$AU$33,2,FALSE)","v":0},"Danger",{"$f":"VLOOKUP(AG65,DEBUTSTEP!$AT$4:$AU$33,2,FALSE)","v":0},"Danger",{"$f":"VLOOKUP(AI65,DEBUTSTEP!$AT$4:$AU$33,2,FALSE)","v":0},"Danger",{"$f":"VLOOKUP(AK65,DEBUTSTEP!$AT$4:$AU$33,2,FALSE)","v":0},"Danger",{"$f":"VLOOKUP(AM65,DEBUTSTEP!$AT$4:$AU$33,2,FALSE)","v":0},"Danger",{"$f":"VLOOKUP(AO65,DEBUTSTEP!$AT$4:$AU$33,2,FALSE)","v":0},"Danger",{"$f":"VLOOKUP(AQ65,DEBUTSTEP!$AT$4:$AU$33,2,FALSE)","v":0},"Danger",{"$f":"VLOOKUP(AS65,DEBUTSTEP!$AT$4:$AU$33,2,FALSE)","v":0},"Danger",{"$f":"VLOOKUP(AU65,DEBUTSTEP!$AT$4:$AU$33,2,FALSE)","v":0},"Danger",{"$f":"VLOOKUP(AW65,DEBUTSTEP!$AT$4:$AU$33,2,FALSE)","v":0},"Danger",{"$f":"VLOOKUP(AY65,DEBUTSTEP!$AT$4:$AU$33,2,FALSE)","v":0},"Danger",{"$f":"VLOOKUP(BA65,DEBUTSTEP!$AT$4:$AU$33,2,FALSE)","v":0},"Danger",{"$f":"VLOOKUP(BC65,DEBUTSTEP!$AT$4:$AU$33,2,FALSE)","v":0},"Danger",{"$f":"VLOOKUP(BE65,DEBUTSTEP!$AT$4:$AU$33,2,FALSE)","v":0},"Danger",{"$f":"VLOOKUP(BG65,DEBUTSTEP!$AT$4:$AU$33,2,FALSE)","v":0},"Danger",{"$f":"VLOOKUP(BI65,DEBUTSTEP!$AT$4:$AU$33,2,FALSE)","v":0},"Danger",{"$f":"VLOOKUP(BK65,DEBUTSTEP!$AT$4:$AU$33,2,FALSE)","v":0},"Danger",{"$f":"VLOOKUP(BM65,DEBUTSTEP!$AT$4:$AU$33,2,FALSE)","v":0},"Danger",{"$f":"VLOOKUP(BO65,DEBUTSTEP!$AT$4:$AU$33,2,FALSE)","v":0},"Danger",{"$f":"VLOOKUP(BQ65,DEBUTSTEP!$AT$4:$AU$33,2,FALSE)","v":0},"Danger",{"$f":"VLOOKUP(BS65,DEBUTSTEP!$AT$4:$AU$33,2,FALSE)","v":0}]
[]
[null,"Respecter l'entrainement prévu","Pas du tout",{"$f":"VLOOKUP(C67,DEBUTSTEP!$AV$4:$AW$33,2,FALSE)","v":0},"Pas du tout",{"$f":"VLOOKUP(E67,DEBUTSTEP!$AV$4:$AW$33,2,FALSE)","v":0},"Pas du tout",{"$f":"VLOOKUP(G67,DEBUTSTEP!$AV$4:$AW$33,2,FALSE)","v":0},"Pas du tout",{"$f":"VLOOKUP(I67,DEBUTSTEP!$AV$4:$AW$33,2,FALSE)","v":0},"Pas du tout",{"$f":"VLOOKUP(K67,DEBUTSTEP!$AV$4:$AW$33,2,FALSE)","v":0},"Pas du tout",{"$f":"VLOOKUP(M67,DEBUTSTEP!$AV$4:$AW$33,2,FALSE)","v":0},"Pas du tout",{"$f":"VLOOKUP(O67,DEBUTSTEP!$AV$4:$AW$33,2,FALSE)","v":0},"Pas du tout",{"$f":"VLOOKUP(Q67,DEBUTSTEP!$AV$4:$AW$33,2,FALSE)","v":0},"Pas du tout",{"$f":"VLOOKUP(S67,DEBUTSTEP!$AV$4:$AW$33,2,FALSE)","v":0},"Pas du tout",{"$f":"VLOOKUP(U67,DEBUTSTEP!$AV$4:$AW$33,2,FALSE)","v":0},"Pas du tout",{"$f":"VLOOKUP(W67,DEBUTSTEP!$AV$4:$AW$33,2,FALSE)","v":0},"Pas du tout",{"$f":"VLOOKUP(Y67,DEBUTSTEP!$AV$4:$AW$33,2,FALSE)","v":0},"Pas du tout",{"$f":"VLOOKUP(AA67,DEBUTSTEP!$AV$4:$AW$33,2,FALSE)","v":0},"Pas du tout",{"$f":"VLOOKUP(AC67,DEBUTSTEP!$AV$4:$AW$33,2,FALSE)","v":0},"Pas du tout",{"$f":"VLOOKUP(AE67,DEBUTSTEP!$AV$4:$AW$33,2,FALSE)","v":0},"Pas du tout",{"$f":"VLOOKUP(AG67,DEBUTSTEP!$AV$4:$AW$33,2,FALSE)","v":0},"Pas du tout",{"$f":"VLOOKUP(AI67,DEBUTSTEP!$AV$4:$AW$33,2,FALSE)","v":0},"Pas du tout",{"$f":"VLOOKUP(AK67,DEBUTSTEP!$AV$4:$AW$33,2,FALSE)","v":0},"Pas du tout",{"$f":"VLOOKUP(AM67,DEBUTSTEP!$AV$4:$AW$33,2,FALSE)","v":0},"Pas du tout",{"$f":"VLOOKUP(AO67,DEBUTSTEP!$AV$4:$AW$33,2,FALSE)","v":0},"Pas du tout",{"$f":"VLOOKUP(AQ67,DEBUTSTEP!$AV$4:$AW$33,2,FALSE)","v":0},"Pas du tout",{"$f":"VLOOKUP(AS67,DEBUTSTEP!$AV$4:$AW$33,2,FALSE)","v":0},"Pas du tout",{"$f":"VLOOKUP(AU67,DEBUTSTEP!$AV$4:$AW$33,2,FALSE)","v":0},"Pas du tout",{"$f":"VLOOKUP(AW67,DEBUTSTEP!$AV$4:$AW$33,2,FALSE)","v":0},"Pas du tout",{"$f":"VLOOKUP(AY67,DEBUTSTEP!$AV$4:$AW$33,2,FALSE)","v":0},"Pas du tout",{"$f":"VLOOKUP(BA67,DEBUTSTEP!$AV$4:$AW$33,2,FALSE)","v":0},"Pas du tout",{"$f":"VLOOKUP(BC67,DEBUTSTEP!$AV$4:$AW$33,2,FALSE)","v":0},"Pas du tout",{"$f":"VLOOKUP(BE67,DEBUTSTEP!$AV$4:$AW$33,2,FALSE)","v":0},"Pas du tout",{"$f":"VLOOKUP(BG67,DEBUTSTEP!$AV$4:$AW$33,2,FALSE)","v":0},"Pas du tout",{"$f":"VLOOKUP(BI67,DEBUTSTEP!$AV$4:$AW$33,2,FALSE)","v":0},"Pas du tout",{"$f":"VLOOKUP(BK67,DEBUTSTEP!$AV$4:$AW$33,2,FALSE)","v":0},"Pas du tout",{"$f":"VLOOKUP(BM67,DEBUTSTEP!$AV$4:$AW$33,2,FALSE)","v":0},"Pas du tout",{"$f":"VLOOKUP(BO67,DEBUTSTEP!$AV$4:$AW$33,2,FALSE)","v":0},"Pas du tout",{"$f":"VLOOKUP(BQ67,DEBUTSTEP!$AV$4:$AW$33,2,FALSE)","v":0},"Pas du tout",{"$f":"VLOOKUP(BS67,DEBUTSTEP!$AV$4:$AW$33,2,FALSE)","v":0}]
[]
[null,"Mémoriser les blocs","Aucune mémorisation",{"$f":"VLOOKUP(C69,DEBUTSTEP!$AX$4:$AY$33,2,FALSE)","v":0},"Aucune mémorisation",{"$f":"VLOOKUP(E69,DEBUTSTEP!$AX$4:$AY$33,2,FALSE)","v":0},"Aucune mémorisation",{"$f":"VLOOKUP(G69,DEBUTSTEP!$AX$4:$AY$33,2,FALSE)","v":0},"Aucune mémorisation",{"$f":"VLOOKUP(I69,DEBUTSTEP!$AX$4:$AY$33,2,FALSE)","v":0},"Aucune mémorisation",{"$f":"VLOOKUP(K69,DEBUTSTEP!$AX$4:$AY$33,2,FALSE)","v":0},"Aucune mémorisation",{"$f":"VLOOKUP(M69,DEBUTSTEP!$AX$4:$AY$33,2,FALSE)","v":0},"Aucune mémorisation",{"$f":"VLOOKUP(O69,DEBUTSTEP!$AX$4:$AY$33,2,FALSE)","v":0},"Aucune mémorisation",{"$f":"VLOOKUP(Q69,DEBUTSTEP!$AX$4:$AY$33,2,FALSE)","v":0},"Aucune mémorisation",{"$f":"VLOOKUP(S69,DEBUTSTEP!$AX$4:$AY$33,2,FALSE)","v":0},"Aucune mémorisation",{"$f":"VLOOKUP(U69,DEBUTSTEP!$AX$4:$AY$33,2,FALSE)","v":0},"Aucune mémorisation",{"$f":"VLOOKUP(W69,DEBUTSTEP!$AX$4:$AY$33,2,FALSE)","v":0},"Aucune mémorisation",{"$f":"VLOOKUP(Y69,DEBUTSTEP!$AX$4:$AY$33,2,FALSE)","v":0},"Aucune mémorisation",{"$f":"VLOOKUP(AA69,DEBUTSTEP!$AX$4:$AY$33,2,FALSE)","v":0},"Aucune mémorisation",{"$f":"VLOOKUP(AC69,DEBUTSTEP!$AX$4:$AY$33,2,FALSE)","v":0},"Aucune mémorisation",{"$f":"VLOOKUP(AE69,DEBUTSTEP!$AX$4:$AY$33,2,FALSE)","v":0},"Aucune mémorisation",{"$f":"VLOOKUP(AG69,DEBUTSTEP!$AX$4:$AY$33,2,FALSE)","v":0},"Aucune mémorisation",{"$f":"VLOOKUP(AI69,DEBUTSTEP!$AX$4:$AY$33,2,FALSE)","v":0},"Aucune mémorisation",{"$f":"VLOOKUP(AK69,DEBUTSTEP!$AX$4:$AY$33,2,FALSE)","v":0},"Aucune mémorisation",{"$f":"VLOOKUP(AM69,DEBUTSTEP!$AX$4:$AY$33,2,FALSE)","v":0},"Aucune mémorisation",{"$f":"VLOOKUP(AO69,DEBUTSTEP!$AX$4:$AY$33,2,FALSE)","v":0},"Aucune mémorisation",{"$f":"VLOOKUP(AQ69,DEBUTSTEP!$AX$4:$AY$33,2,FALSE)","v":0},"Aucune mémorisation",{"$f":"VLOOKUP(AS69,DEBUTSTEP!$AX$4:$AY$33,2,FALSE)","v":0},"Aucune mémorisation",{"$f":"VLOOKUP(AU69,DEBUTSTEP!$AX$4:$AY$33,2,FALSE)","v":0},"Aucune mémorisation",{"$f":"VLOOKUP(AW69,DEBUTSTEP!$AX$4:$AY$33,2,FALSE)","v":0},"Aucune mémorisation",{"$f":"VLOOKUP(AY69,DEBUTSTEP!$AX$4:$AY$33,2,FALSE)","v":0},"Aucune mémorisation",{"$f":"VLOOKUP(BA69,DEBUTSTEP!$AX$4:$AY$33,2,FALSE)","v":0},"Aucune mémorisation",{"$f":"VLOOKUP(BC69,DEBUTSTEP!$AX$4:$AY$33,2,FALSE)","v":0},"Aucune mémorisation",{"$f":"VLOOKUP(BE69,DEBUTSTEP!$AX$4:$AY$33,2,FALSE)","v":0},"Aucune mémorisation",{"$f":"VLOOKUP(BG69,DEBUTSTEP!$AX$4:$AY$33,2,FALSE)","v":0},"Aucune mémorisation",{"$f":"VLOOKUP(BI69,DEBUTSTEP!$AX$4:$AY$33,2,FALSE)","v":0},"Aucune mémorisation",{"$f":"VLOOKUP(BK69,DEBUTSTEP!$AX$4:$AY$33,2,FALSE)","v":0},"Aucune mémorisation",{"$f":"VLOOKUP(BM69,DEBUTSTEP!$AX$4:$AY$33,2,FALSE)","v":0},"Aucune mémorisation",{"$f":"VLOOKUP(BO69,DEBUTSTEP!$AX$4:$AY$33,2,FALSE)","v":0},"Aucune mémorisation",{"$f":"VLOOKUP(BQ69,DEBUTSTEP!$AX$4:$AY$33,2,FALSE)","v":0},"Aucune mémorisation",{"$f":"VLOOKUP(BS69,DEBUTSTEP!$AX$4:$AY$33,2,FALSE)","v":0}]
[]
[null,"Analyser sa prestation","Imprécise",{"$f":"VLOOKUP(C71,DEBUTSTEP!$AZ$4:$BA$33,2,FALSE)","v":1},"Imprécise",{"$f":"VLOOKUP(E71,DEBUTSTEP!$AZ$4:$BA$33,2,FALSE)","v":1},"Imprécise",{"$f":"VLOOKUP(G71,DEBUTSTEP!$AZ$4:$BA$33,2,FALSE)","v":1},"Imprécise",{"$f":"VLOOKUP(I71,DEBUTSTEP!$AZ$4:$BA$33,2,FALSE)","v":1},"Imprécise",{"$f":"VLOOKUP(K71,DEBUTSTEP!$AZ$4:$BA$33,2,FALSE)","v":1},"Imprécise",{"$f":"VLOOKUP(M71,DEBUTSTEP!$AZ$4:$BA$33,2,FALSE)","v":1},"Imprécise",{"$f":"VLOOKUP(O71,DEBUTSTEP!$AZ$4:$BA$33,2,FALSE)","v":1},"Imprécise",{"$f":"VLOOKUP(Q71,DEBUTSTEP!$AZ$4:$BA$33,2,FALSE)","v":1},"Imprécise",{"$f":"VLOOKUP(S71,DEBUTSTEP!$AZ$4:$BA$33,2,FALSE)","v":1},"Imprécise",{"$f":"VLOOKUP(U71,DEBUTSTEP!$AZ$4:$BA$33,2,FALSE)","v":1},"Imprécise",{"$f":"VLOOKUP(W71,DEBUTSTEP!$AZ$4:$BA$33,2,FALSE)","v":1},"Imprécise",{"$f":"VLOOKUP(Y71,DEBUTSTEP!$AZ$4:$BA$33,2,FALSE)","v":1},"Imprécise",{"$f":"VLOOKUP(AA71,DEBUTSTEP!$AZ$4:$BA$33,2,FALSE)","v":1},"Imprécise",{"$f":"VLOOKUP(AC71,DEBUTSTEP!$AZ$4:$BA$33,2,FALSE)","v":1},"Imprécise",{"$f":"VLOOKUP(AE71,DEBUTSTEP!$AZ$4:$BA$33,2,FALSE)","v":1},"Imprécise",{"$f":"VLOOKUP(AG71,DEBUTSTEP!$AZ$4:$BA$33,2,FALSE)","v":1},"Imprécise",{"$f":"VLOOKUP(AI71,DEBUTSTEP!$AZ$4:$BA$33,2,FALSE)","v":1},"Imprécise",{"$f":"VLOOKUP(AK71,DEBUTSTEP!$AZ$4:$BA$33,2,FALSE)","v":1},"Imprécise",{"$f":"VLOOKUP(AM71,DEBUTSTEP!$AZ$4:$BA$33,2,FALSE)","v":1},"Imprécise",{"$f":"VLOOKUP(AO71,DEBUTSTEP!$AZ$4:$BA$33,2,FALSE)","v":1},"Imprécise",{"$f":"VLOOKUP(AQ71,DEBUTSTEP!$AZ$4:$BA$33,2,FALSE)","v":1},"Imprécise",{"$f":"VLOOKUP(AS71,DEBUTSTEP!$AZ$4:$BA$33,2,FALSE)","v":1},"Imprécise",{"$f":"VLOOKUP(AU71,DEBUTSTEP!$AZ$4:$BA$33,2,FALSE)","v":1},"Imprécise",{"$f":"VLOOKUP(AW71,DEBUTSTEP!$AZ$4:$BA$33,2,FALSE)","v":1},"Imprécise",{"$f":"VLOOKUP(AY71,DEBUTSTEP!$AZ$4:$BA$33,2,FALSE)","v":1},"Imprécise",{"$f":"VLOOKUP(BA71,DEBUTSTEP!$AZ$4:$BA$33,2,FALSE)","v":1},"Imprécise",{"$f":"VLOOKUP(BC71,DEBUTSTEP!$AZ$4:$BA$33,2,FALSE)","v":1},"Imprécise",{"$f":"VLOOKUP(BE71,DEBUTSTEP!$AZ$4:$BA$33,2,FALSE)","v":1},"Imprécise",{"$f":"VLOOKUP(BG71,DEBUTSTEP!$AZ$4:$BA$33,2,FALSE)","v":1},"Imprécise",{"$f":"VLOOKUP(BI71,DEBUTSTEP!$AZ$4:$BA$33,2,FALSE)","v":1},"Imprécise",{"$f":"VLOOKUP(BK71,DEBUTSTEP!$AZ$4:$BA$33,2,FALSE)","v":1},"Imprécise",{"$f":"VLOOKUP(BM71,DEBUTSTEP!$AZ$4:$BA$33,2,FALSE)","v":1},"Imprécise",{"$f":"VLOOKUP(BO71,DEBUTSTEP!$AZ$4:$BA$33,2,FALSE)","v":1},"Imprécise",{"$f":"VLOOKUP(BQ71,DEBUTSTEP!$AZ$4:$BA$33,2,FALSE)","v":1},"Imprécise",{"$f":"VLOOKUP(BS71,DEBUTSTEP!$AZ$4:$BA$33,2,FALSE)","v":1}]
[]
[null,"NOTE",{"$f":"IF(OR(D61=\"x\",D63=\"x\",D65=\"x\",D67=\"x\",D69=\"x\",D71=\"x\"),\"ABSENT\",SUMIF(D61,\"<>X\")+SUMIF(D63,\"<>X\")+SUMIF(D65,\"<>X\")+SUMIF(D67,\"<>X\")+SUMIF(D69,\"<>X\")+SUMIF(D71,\"<>X\"))","v":"ABSENT"},null,{"$f":"IF(OR(F61=\"x\",F63=\"x\",F65=\"x\",F67=\"x\",F69=\"x\",F71=\"x\"),\"ABSENT\",SUMIF(F61,\"<>X\")+SUMIF(F63,\"<>X\")+SUMIF(F65,\"<>X\")+SUMIF(F67,\"<>X\")+SUMIF(F69,\"<>X\")+SUMIF(F71,\"<>X\"))","v":"ABSENT"},null,{"$f":"IF(OR(H61=\"x\",H63=\"x\",H65=\"x\",H67=\"x\",H69=\"x\",H71=\"x\"),\"ABSENT\",SUMIF(H61,\"<>X\")+SUMIF(H63,\"<>X\")+SUMIF(H65,\"<>X\")+SUMIF(H67,\"<>X\")+SUMIF(H69,\"<>X\")+SUMIF(H71,\"<>X\"))","v":"ABSENT"},null,{"$f":"IF(OR(J61=\"x\",J63=\"x\",J65=\"x\",J67=\"x\",J69=\"x\",J71=\"x\"),\"ABSENT\",SUMIF(J61,\"<>X\")+SUMIF(J63,\"<>X\")+SUMIF(J65,\"<>X\")+SUMIF(J67,\"<>X\")+SUMIF(J69,\"<>X\")+SUMIF(J71,\"<>X\"))","v":"ABSENT"},null,{"$f":"IF(OR(L61=\"x\",L63=\"x\",L65=\"x\",L67=\"x\",L69=\"x\",L71=\"x\"),\"ABSENT\",SUMIF(L61,\"<>X\")+SUMIF(L63,\"<>X\")+SUMIF(L65,\"<>X\")+SUMIF(L67,\"<>X\")+SUMIF(L69,\"<>X\")+SUMIF(L71,\"<>X\"))","v":"ABSENT"},null,{"$f":"IF(OR(N61=\"x\",N63=\"x\",N65=\"x\",N67=\"x\",N69=\"x\",N71=\"x\"),\"ABSENT\",SUMIF(N61,\"<>X\")+SUMIF(N63,\"<>X\")+SUMIF(N65,\"<>X\")+SUMIF(N67,\"<>X\")+SUMIF(N69,\"<>X\")+SUMIF(N71,\"<>X\"))","v":"ABSENT"},null,{"$f":"IF(OR(P61=\"x\",P63=\"x\",P65=\"x\",P67=\"x\",P69=\"x\",P71=\"x\"),\"ABSENT\",SUMIF(P61,\"<>X\")+SUMIF(P63,\"<>X\")+SUMIF(P65,\"<>X\")+SUMIF(P67,\"<>X\")+SUMIF(P69,\"<>X\")+SUMIF(P71,\"<>X\"))","v":"ABSENT"},null,{"$f":"IF(OR(R61=\"x\",R63=\"x\",R65=\"x\",R67=\"x\",R69=\"x\",R71=\"x\"),\"ABSENT\",SUMIF(R61,\"<>X\")+SUMIF(R63,\"<>X\")+SUMIF(R65,\"<>X\")+SUMIF(R67,\"<>X\")+SUMIF(R69,\"<>X\")+SUMIF(R71,\"<>X\"))","v":"ABSENT"},null,{"$f":"IF(OR(T61=\"x\",T63=\"x\",T65=\"x\",T67=\"x\",T69=\"x\",T71=\"x\"),\"ABSENT\",SUMIF(T61,\"<>X\")+SUMIF(T63,\"<>X\")+SUMIF(T65,\"<>X\")+SUMIF(T67,\"<>X\")+SUMIF(T69,\"<>X\")+SUMIF(T71,\"<>X\"))","v":"ABSENT"},null,{"$f":"IF(OR(V61=\"x\",V63=\"x\",V65=\"x\",V67=\"x\",V69=\"x\",V71=\"x\"),\"ABSENT\",SUMIF(V61,\"<>X\")+SUMIF(V63,\"<>X\")+SUMIF(V65,\"<>X\")+SUMIF(V67,\"<>X\")+SUMIF(V69,\"<>X\")+SUMIF(V71,\"<>X\"))","v":"ABSENT"},null,{"$f":"IF(OR(X61=\"x\",X63=\"x\",X65=\"x\",X67=\"x\",X69=\"x\",X71=\"x\"),\"ABSENT\",SUMIF(X61,\"<>X\")+SUMIF(X63,\"<>X\")+SUMIF(X65,\"<>X\")+SUMIF(X67,\"<>X\")+SUMIF(X69,\"<>X\")+SUMIF(X71,\"<>X\"))","v":"ABSENT"},null,{"$f":"IF(OR(Z61=\"x\",Z63=\"x\",Z65=\"x\",Z67=\"x\",Z69=\"x\",Z71=\"x\"),\"ABSENT\",SUMIF(Z61,\"<>X\")+SUMIF(Z63,\"<>X\")+SUMIF(Z65,\"<>X\")+SUMIF(Z67,\"<>X\")+SUMIF(Z69,\"<>X\")+SUMIF(Z71,\"<>X\"))","v":"ABSENT"},null,{"$f":"IF(OR(AB61=\"x\",AB63=\"x\",AB65=\"x\",AB67=\"x\",AB69=\"x\",AB71=\"x\"),\"ABSENT\",SUMIF(AB61,\"<>X\")+SUMIF(AB63,\"<>X\")+SUMIF(AB65,\"<>X\")+SUMIF(AB67,\"<>X\")+SUMIF(AB69,\"<>X\")+SUMIF(AB71,\"<>X\"))","v":"ABSENT"},null,{"$f":"IF(OR(AD61=\"x\",AD63=\"x\",AD65=\"x\",AD67=\"x\",AD69=\"x\",AD71=\"x\"),\"ABSENT\",SUMIF(AD61,\"<>X\")+SUMIF(AD63,\"<>X\")+SUMIF(AD65,\"<>X\")+SUMIF(AD67,\"<>X\")+SUMIF(AD69,\"<>X\")+SUMIF(AD71,\"<>X\"))","v":"ABSENT"},null,{"$f":"IF(OR(AF61=\"x\",AF63=\"x\",AF65=\"x\",AF67=\"x\",AF69=\"x\",AF71=\"x\"),\"ABSENT\",SUMIF(AF61,\"<>X\")+SUMIF(AF63,\"<>X\")+SUMIF(AF65,\"<>X\")+SUMIF(AF67,\"<>X\")+SUMIF(AF69,\"<>X\")+SUMIF(AF71,\"<>X\"))","v":"ABSENT"},null,{"$f":"IF(OR(AH61=\"x\",AH63=\"x\",AH65=\"x\",AH67=\"x\",AH69=\"x\",AH71=\"x\"),\"ABSENT\",SUMIF(AH61,\"<>X\")+SUMIF(AH63,\"<>X\")+SUMIF(AH65,\"<>X\")+SUMIF(AH67,\"<>X\")+SUMIF(AH69,\"<>X\")+SUMIF(AH71,\"<>X\"))","v":"ABSENT"},null,{"$f":"IF(OR(AJ61=\"x\",AJ63=\"x\",AJ65=\"x\",AJ67=\"x\",AJ69=\"x\",AJ71=\"x\"),\"ABSENT\",SUMIF(AJ61,\"<>X\")+SUMIF(AJ63,\"<>X\")+SUMIF(AJ65,\"<>X\")+SUMIF(AJ67,\"<>X\")+SUMIF(AJ69,\"<>X\")+SUMIF(AJ71,\"<>X\"))","v":"ABSENT"},null,{"$f":"IF(OR(AL61=\"x\",AL63=\"x\",AL65=\"x\",AL67=\"x\",AL69=\"x\",AL71=\"x\"),\"ABSENT\",SUMIF(AL61,\"<>X\")+SUMIF(AL63,\"<>X\")+SUMIF(AL65,\"<>X\")+SUMIF(AL67,\"<>X\")+SUMIF(AL69,\"<>X\")+SUMIF(AL71,\"<>X\"))","v":"ABSENT"},null,{"$f":"IF(OR(AN61=\"x\",AN63=\"x\",AN65=\"x\",AN67=\"x\",AN69=\"x\",AN71=\"x\"),\"ABSENT\",SUMIF(AN61,\"<>X\")+SUMIF(AN63,\"<>X\")+SUMIF(AN65,\"<>X\")+SUMIF(AN67,\"<>X\")+SUMIF(AN69,\"<>X\")+SUMIF(AN71,\"<>X\"))","v":"ABSENT"},null,{"$f":"IF(OR(AP61=\"x\",AP63=\"x\",AP65=\"x\",AP67=\"x\",AP69=\"x\",AP71=\"x\"),\"ABSENT\",SUMIF(AP61,\"<>X\")+SUMIF(AP63,\"<>X\")+SUMIF(AP65,\"<>X\")+SUMIF(AP67,\"<>X\")+SUMIF(AP69,\"<>X\")+SUMIF(AP71,\"<>X\"))","v":"ABSENT"},null,{"$f":"IF(OR(AR61=\"x\",AR63=\"x\",AR65=\"x\",AR67=\"x\",AR69=\"x\",AR71=\"x\"),\"ABSENT\",SUMIF(AR61,\"<>X\")+SUMIF(AR63,\"<>X\")+SUMIF(AR65,\"<>X\")+SUMIF(AR67,\"<>X\")+SUMIF(AR69,\"<>X\")+SUMIF(AR71,\"<>X\"))","v":"ABSENT"},null,{"$f":"IF(OR(AT61=\"x\",AT63=\"x\",AT65=\"x\",AT67=\"x\",AT69=\"x\",AT71=\"x\"),\"ABSENT\",SUMIF(AT61,\"<>X\")+SUMIF(AT63,\"<>X\")+SUMIF(AT65,\"<>X\")+SUMIF(AT67,\"<>X\")+SUMIF(AT69,\"<>X\")+SUMIF(AT71,\"<>X\"))","v":"ABSENT"},null,{"$f":"IF(OR(AV61=\"x\",AV63=\"x\",AV65=\"x\",AV67=\"x\",AV69=\"x\",AV71=\"x\"),\"ABSENT\",SUMIF(AV61,\"<>X\")+SUMIF(AV63,\"<>X\")+SUMIF(AV65,\"<>X\")+SUMIF(AV67,\"<>X\")+SUMIF(AV69,\"<>X\")+SUMIF(AV71,\"<>X\"))","v":"ABSENT"},null,{"$f":"IF(OR(AX61=\"x\",AX63=\"x\",AX65=\"x\",AX67=\"x\",AX69=\"x\",AX71=\"x\"),\"ABSENT\",SUMIF(AX61,\"<>X\")+SUMIF(AX63,\"<>X\")+SUMIF(AX65,\"<>X\")+SUMIF(AX67,\"<>X\")+SUMIF(AX69,\"<>X\")+SUMIF(AX71,\"<>X\"))","v":"ABSENT"},null,{"$f":"IF(OR(AZ61=\"x\",AZ63=\"x\",AZ65=\"x\",AZ67=\"x\",AZ69=\"x\",AZ71=\"x\"),\"ABSENT\",SUMIF(AZ61,\"<>X\")+SUMIF(AZ63,\"<>X\")+SUMIF(AZ65,\"<>X\")+SUMIF(AZ67,\"<>X\")+SUMIF(AZ69,\"<>X\")+SUMIF(AZ71,\"<>X\"))","v":"ABSENT"},null,{"$f":"IF(OR(BB61=\"x\",BB63=\"x\",BB65=\"x\",BB67=\"x\",BB69=\"x\",BB71=\"x\"),\"ABSENT\",SUMIF(BB61,\"<>X\")+SUMIF(BB63,\"<>X\")+SUMIF(BB65,\"<>X\")+SUMIF(BB67,\"<>X\")+SUMIF(BB69,\"<>X\")+SUMIF(BB71,\"<>X\"))","v":"ABSENT"},null,{"$f":"IF(OR(BD61=\"x\",BD63=\"x\",BD65=\"x\",BD67=\"x\",BD69=\"x\",BD71=\"x\"),\"ABSENT\",SUMIF(BD61,\"<>X\")+SUMIF(BD63,\"<>X\")+SUMIF(BD65,\"<>X\")+SUMIF(BD67,\"<>X\")+SUMIF(BD69,\"<>X\")+SUMIF(BD71,\"<>X\"))","v":"ABSENT"},null,{"$f":"IF(OR(BF61=\"x\",BF63=\"x\",BF65=\"x\",BF67=\"x\",BF69=\"x\",BF71=\"x\"),\"ABSENT\",SUMIF(BF61,\"<>X\")+SUMIF(BF63,\"<>X\")+SUMIF(BF65,\"<>X\")+SUMIF(BF67,\"<>X\")+SUMIF(BF69,\"<>X\")+SUMIF(BF71,\"<>X\"))","v":"ABSENT"},null,{"$f":"IF(OR(BH61=\"x\",BH63=\"x\",BH65=\"x\",BH67=\"x\",BH69=\"x\",BH71=\"x\"),\"ABSENT\",SUMIF(BH61,\"<>X\")+SUMIF(BH63,\"<>X\")+SUMIF(BH65,\"<>X\")+SUMIF(BH67,\"<>X\")+SUMIF(BH69,\"<>X\")+SUMIF(BH71,\"<>X\"))","v":"ABSENT"},null,{"$f":"IF(OR(BJ61=\"x\",BJ63=\"x\",BJ65=\"x\",BJ67=\"x\",BJ69=\"x\",BJ71=\"x\"),\"ABSENT\",SUMIF(BJ61,\"<>X\")+SUMIF(BJ63,\"<>X\")+SUMIF(BJ65,\"<>X\")+SUMIF(BJ67,\"<>X\")+SUMIF(BJ69,\"<>X\")+SUMIF(BJ71,\"<>X\"))","v":"ABSENT"},null,{"$f":"IF(OR(BL61=\"x\",BL63=\"x\",BL65=\"x\",BL67=\"x\",BL69=\"x\",BL71=\"x\"),\"ABSENT\",SUMIF(BL61,\"<>X\")+SUMIF(BL63,\"<>X\")+SUMIF(BL65,\"<>X\")+SUMIF(BL67,\"<>X\")+SUMIF(BL69,\"<>X\")+SUMIF(BL71,\"<>X\"))","v":"ABSENT"},null,{"$f":"IF(OR(BN61=\"x\",BN63=\"x\",BN65=\"x\",BN67=\"x\",BN69=\"x\",BN71=\"x\"),\"ABSENT\",SUMIF(BN61,\"<>X\")+SUMIF(BN63,\"<>X\")+SUMIF(BN65,\"<>X\")+SUMIF(BN67,\"<>X\")+SUMIF(BN69,\"<>X\")+SUMIF(BN71,\"<>X\"))","v":"ABSENT"},null,{"$f":"IF(OR(BP61=\"x\",BP63=\"x\",BP65=\"x\",BP67=\"x\",BP69=\"x\",BP71=\"x\"),\"ABSENT\",SUMIF(BP61,\"<>X\")+SUMIF(BP63,\"<>X\")+SUMIF(BP65,\"<>X\")+SUMIF(BP67,\"<>X\")+SUMIF(BP69,\"<>X\")+SUMIF(BP71,\"<>X\"))","v":"ABSENT"},null,{"$f":"IF(OR(BR61=\"x\",BR63=\"x\",BR65=\"x\",BR67=\"x\",BR69=\"x\",BR71=\"x\"),\"ABSENT\",SUMIF(BR61,\"<>X\")+SUMIF(BR63,\"<>X\")+SUMIF(BR65,\"<>X\")+SUMIF(BR67,\"<>X\")+SUMIF(BR69,\"<>X\")+SUMIF(BR71,\"<>X\"))","v":"ABSENT"},null,{"$f":"IF(OR(BT61=\"x\",BT63=\"x\",BT65=\"x\",BT67=\"x\",BT69=\"x\",BT71=\"x\"),\"ABSENT\",SUMIF(BT61,\"<>X\")+SUMIF(BT63,\"<>X\")+SUMIF(BT65,\"<>X\")+SUMIF(BT67,\"<>X\")+SUMIF(BT69,\"<>X\")+SUMIF(BT71,\"<>X\"))","v":"ABSENT"}]
[]
["SEANCE 6","Prendre sa FC efficacement","ABSENT",{"$f":"VLOOKUP(C75,DEBUTSTEP!$AP$4:$AQ$33,2,FALSE)","v":"X"},"ABSENT",{"$f":"VLOOKUP(E75,DEBUTSTEP!$AP$4:$AQ$33,2,FALSE)","v":"X"},"ABSENT",{"$f":"VLOOKUP(G75,DEBUTSTEP!$AP$4:$AQ$33,2,FALSE)","v":"X"},"ABSENT",{"$f":"VLOOKUP(I75,DEBUTSTEP!$AP$4:$AQ$33,2,FALSE)","v":"X"},"ABSENT",{"$f":"VLOOKUP(K75,DEBUTSTEP!$AP$4:$AQ$33,2,FALSE)","v":"X"},"ABSENT",{"$f":"VLOOKUP(M75,DEBUTSTEP!$AP$4:$AQ$33,2,FALSE)","v":"X"},"ABSENT",{"$f":"VLOOKUP(O75,DEBUTSTEP!$AP$4:$AQ$33,2,FALSE)","v":"X"},"ABSENT",{"$f":"VLOOKUP(Q75,DEBUTSTEP!$AP$4:$AQ$33,2,FALSE)","v":"X"},"ABSENT",{"$f":"VLOOKUP(S75,DEBUTSTEP!$AP$4:$AQ$33,2,FALSE)","v":"X"},"ABSENT",{"$f":"VLOOKUP(U75,DEBUTSTEP!$AP$4:$AQ$33,2,FALSE)","v":"X"},"ABSENT",{"$f":"VLOOKUP(W75,DEBUTSTEP!$AP$4:$AQ$33,2,FALSE)","v":"X"},"ABSENT",{"$f":"VLOOKUP(Y75,DEBUTSTEP!$AP$4:$AQ$33,2,FALSE)","v":"X"},"ABSENT",{"$f":"VLOOKUP(AA75,DEBUTSTEP!$AP$4:$AQ$33,2,FALSE)","v":"X"},"ABSENT",{"$f":"VLOOKUP(AC75,DEBUTSTEP!$AP$4:$AQ$33,2,FALSE)","v":"X"},"ABSENT",{"$f":"VLOOKUP(AE75,DEBUTSTEP!$AP$4:$AQ$33,2,FALSE)","v":"X"},"ABSENT",{"$f":"VLOOKUP(AG75,DEBUTSTEP!$AP$4:$AQ$33,2,FALSE)","v":"X"},"ABSENT",{"$f":"VLOOKUP(AI75,DEBUTSTEP!$AP$4:$AQ$33,2,FALSE)","v":"X"},"ABSENT",{"$f":"VLOOKUP(AK75,DEBUTSTEP!$AP$4:$AQ$33,2,FALSE)","v":"X"},"ABSENT",{"$f":"VLOOKUP(AM75,DEBUTSTEP!$AP$4:$AQ$33,2,FALSE)","v":"X"},"ABSENT",{"$f":"VLOOKUP(AO75,DEBUTSTEP!$AP$4:$AQ$33,2,FALSE)","v":"X"},"ABSENT",{"$f":"VLOOKUP(AQ75,DEBUTSTEP!$AP$4:$AQ$33,2,FALSE)","v":"X"},"ABSENT",{"$f":"VLOOKUP(AS75,DEBUTSTEP!$AP$4:$AQ$33,2,FALSE)","v":"X"},"ABSENT",{"$f":"VLOOKUP(AU75,DEBUTSTEP!$AP$4:$AQ$33,2,FALSE)","v":"X"},"ABSENT",{"$f":"VLOOKUP(AW75,DEBUTSTEP!$AP$4:$AQ$33,2,FALSE)","v":"X"},"ABSENT",{"$f":"VLOOKUP(AY75,DEBUTSTEP!$AP$4:$AQ$33,2,FALSE)","v":"X"},"ABSENT",{"$f":"VLOOKUP(BA75,DEBUTSTEP!$AP$4:$AQ$33,2,FALSE)","v":"X"},"ABSENT",{"$f":"VLOOKUP(BC75,DEBUTSTEP!$AP$4:$AQ$33,2,FALSE)","v":"X"},"ABSENT",{"$f":"VLOOKUP(BE75,DEBUTSTEP!$AP$4:$AQ$33,2,FALSE)","v":"X"},"ABSENT",{"$f":"VLOOKUP(BG75,DEBUTSTEP!$AP$4:$AQ$33,2,FALSE)","v":"X"},"ABSENT",{"$f":"VLOOKUP(BI75,DEBUTSTEP!$AP$4:$AQ$33,2,FALSE)","v":"X"},"ABSENT",{"$f":"VLOOKUP(BK75,DEBUTSTEP!$AP$4:$AQ$33,2,FALSE)","v":"X"},"ABSENT",{"$f":"VLOOKUP(BM75,DEBUTSTEP!$AP$4:$AQ$33,2,FALSE)","v":"X"},"ABSENT",{"$f":"VLOOKUP(BO75,DEBUTSTEP!$AP$4:$AQ$33,2,FALSE)","v":"X"},"ABSENT",{"$f":"VLOOKUP(BQ75,DEBUTSTEP!$AP$4:$AQ$33,2,FALSE)","v":"X"},"ABSENT",{"$f":"VLOOKUP(BS75,DEBUTSTEP!$AP$4:$AQ$33,2,FALSE)","v":"X"}]
[]
[null,"S'engager dans le mobile proposé","Aucun",{"$f":"VLOOKUP(C77,DEBUTSTEP!$AR$4:$AS$33,2,FALSE)","v":0},"Aucun",{"$f":"VLOOKUP(E77,DEBUTSTEP!$AR$4:$AS$33,2,FALSE)","v":0},"Aucun",{"$f":"VLOOKUP(G77,DEBUTSTEP!$AR$4:$AS$33,2,FALSE)","v":0},"Aucun",{"$f":"VLOOKUP(I77,DEBUTSTEP!$AR$4:$AS$33,2,FALSE)","v":0},"Aucun",{"$f":"VLOOKUP(K77,DEBUTSTEP!$AR$4:$AS$33,2,FALSE)","v":0},"Aucun",{"$f":"VLOOKUP(M77,DEBUTSTEP!$AR$4:$AS$33,2,FALSE)","v":0},"Aucun",{"$f":"VLOOKUP(O77,DEBUTSTEP!$AR$4:$AS$33,2,FALSE)","v":0},"Aucun",{"$f":"VLOOKUP(Q77,DEBUTSTEP!$AR$4:$AS$33,2,FALSE)","v":0},"Aucun",{"$f":"VLOOKUP(S77,DEBUTSTEP!$AR$4:$AS$33,2,FALSE)","v":0},"Aucun",{"$f":"VLOOKUP(U77,DEBUTSTEP!$AR$4:$AS$33,2,FALSE)","v":0},"Aucun",{"$f":"VLOOKUP(W77,DEBUTSTEP!$AR$4:$AS$33,2,FALSE)","v":0},"Aucun",{"$f":"VLOOKUP(Y77,DEBUTSTEP!$AR$4:$AS$33,2,FALSE)","v":0},"Aucun",{"$f":"VLOOKUP(AA77,DEBUTSTEP!$AR$4:$AS$33,2,FALSE)","v":0},"Aucun",{"$f":"VLOOKUP(AC77,DEBUTSTEP!$AR$4:$AS$33,2,FALSE)","v":0},"Aucun",{"$f":"VLOOKUP(AE77,DEBUTSTEP!$AR$4:$AS$33,2,FALSE)","v":0},"Aucun",{"$f":"VLOOKUP(AG77,DEBUTSTEP!$AR$4:$AS$33,2,FALSE)","v":0},"Aucun",{"$f":"VLOOKUP(AI77,DEBUTSTEP!$AR$4:$AS$33,2,FALSE)","v":0},"Aucun",{"$f":"VLOOKUP(AK77,DEBUTSTEP!$AR$4:$AS$33,2,FALSE)","v":0},"Aucun",{"$f":"VLOOKUP(AM77,DEBUTSTEP!$AR$4:$AS$33,2,FALSE)","v":0},"Aucun",{"$f":"VLOOKUP(AO77,DEBUTSTEP!$AR$4:$AS$33,2,FALSE)","v":0},"Aucun",{"$f":"VLOOKUP(AQ77,DEBUTSTEP!$AR$4:$AS$33,2,FALSE)","v":0},"Aucun",{"$f":"VLOOKUP(AS77,DEBUTSTEP!$AR$4:$AS$33,2,FALSE)","v":0},"Aucun",{"$f":"VLOOKUP(AU77,DEBUTSTEP!$AR$4:$AS$33,2,FALSE)","v":0},"Aucun",{"$f":"VLOOKUP(AW77,DEBUTSTEP!$AR$4:$AS$33,2,FALSE)","v":0},"Aucun",{"$f":"VLOOKUP(AY77,DEBUTSTEP!$AR$4:$AS$33,2,FALSE)","v":0},"Aucun",{"$f":"VLOOKUP(BA77,DEBUTSTEP!$AR$4:$AS$33,2,FALSE)","v":0},"Aucun",{"$f":"VLOOKUP(BC77,DEBUTSTEP!$AR$4:$AS$33,2,FALSE)","v":0},"Aucun",{"$f":"VLOOKUP(BE77,DEBUTSTEP!$AR$4:$AS$33,2,FALSE)","v":0},"Aucun",{"$f":"VLOOKUP(BG77,DEBUTSTEP!$AR$4:$AS$33,2,FALSE)","v":0},"Aucun",{"$f":"VLOOKUP(BI77,DEBUTSTEP!$AR$4:$AS$33,2,FALSE)","v":0},"Aucun",{"$f":"VLOOKUP(BK77,DEBUTSTEP!$AR$4:$AS$33,2,FALSE)","v":0},"Aucun",{"$f":"VLOOKUP(BM77,DEBUTSTEP!$AR$4:$AS$33,2,FALSE)","v":0},"Aucun",{"$f":"VLOOKUP(BO77,DEBUTSTEP!$AR$4:$AS$33,2,FALSE)","v":0},"Aucun",{"$f":"VLOOKUP(BQ77,DEBUTSTEP!$AR$4:$AS$33,2,FALSE)","v":0},"Aucun",{"$f":"VLOOKUP(BS77,DEBUTSTEP!$AR$4:$AS$33,2,FALSE)","v":0}]
[]
[null,"Agir en sécu","Danger",{"$f":"VLOOKUP(C79,DEBUTSTEP!$AT$4:$AU$33,2,FALSE)","v":0},"Danger",{"$f":"VLOOKUP(E79,DEBUTSTEP!$AT$4:$AU$33,2,FALSE)","v":0},"Danger",{"$f":"VLOOKUP(G79,DEBUTSTEP!$AT$4:$AU$33,2,FALSE)","v":0},"Danger",{"$f":"VLOOKUP(I79,DEBUTSTEP!$AT$4:$AU$33,2,FALSE)","v":0},"Danger",{"$f":"VLOOKUP(K79,DEBUTSTEP!$AT$4:$AU$33,2,FALSE)","v":0},"Danger",{"$f":"VLOOKUP(M79,DEBUTSTEP!$AT$4:$AU$33,2,FALSE)","v":0},"Danger",{"$f":"VLOOKUP(O79,DEBUTSTEP!$AT$4:$AU$33,2,FALSE)","v":0},"Danger",{"$f":"VLOOKUP(Q79,DEBUTSTEP!$AT$4:$AU$33,2,FALSE)","v":0},"Danger",{"$f":"VLOOKUP(S79,DEBUTSTEP!$AT$4:$AU$33,2,FALSE)","v":0},"Danger",{"$f":"VLOOKUP(U79,DEBUTSTEP!$AT$4:$AU$33,2,FALSE)","v":0},"Danger",{"$f":"VLOOKUP(W79,DEBUTSTEP!$AT$4:$AU$33,2,FALSE)","v":0},"Danger",{"$f":"VLOOKUP(Y79,DEBUTSTEP!$AT$4:$AU$33,2,FALSE)","v":0},"Danger",{"$f":"VLOOKUP(AA79,DEBUTSTEP!$AT$4:$AU$33,2,FALSE)","v":0},"Danger",{"$f":"VLOOKUP(AC79,DEBUTSTEP!$AT$4:$AU$33,2,FALSE)","v":0},"Danger",{"$f":"VLOOKUP(AE79,DEBUTSTEP!$AT$4:$AU$33,2,FALSE)","v":0},"Danger",{"$f":"VLOOKUP(AG79,DEBUTSTEP!$AT$4:$AU$33,2,FALSE)","v":0},"Danger",{"$f":"VLOOKUP(AI79,DEBUTSTEP!$AT$4:$AU$33,2,FALSE)","v":0},"Danger",{"$f":"VLOOKUP(AK79,DEBUTSTEP!$AT$4:$AU$33,2,FALSE)","v":0},"Danger",{"$f":"VLOOKUP(AM79,DEBUTSTEP!$AT$4:$AU$33,2,FALSE)","v":0},"Danger",{"$f":"VLOOKUP(AO79,DEBUTSTEP!$AT$4:$AU$33,2,FALSE)","v":0},"Danger",{"$f":"VLOOKUP(AQ79,DEBUTSTEP!$AT$4:$AU$33,2,FALSE)","v":0},"Danger",{"$f":"VLOOKUP(AS79,DEBUTSTEP!$AT$4:$AU$33,2,FALSE)","v":0},"Danger",{"$f":"VLOOKUP(AU79,DEBUTSTEP!$AT$4:$AU$33,2,FALSE)","v":0},"Danger",{"$f":"VLOOKUP(AW79,DEBUTSTEP!$AT$4:$AU$33,2,FALSE)","v":0},"Danger",{"$f":"VLOOKUP(AY79,DEBUTSTEP!$AT$4:$AU$33,2,FALSE)","v":0},"Danger",{"$f":"VLOOKUP(BA79,DEBUTSTEP!$AT$4:$AU$33,2,FALSE)","v":0},"Danger",{"$f":"VLOOKUP(BC79,DEBUTSTEP!$AT$4:$AU$33,2,FALSE)","v":0},"Danger",{"$f":"VLOOKUP(BE79,DEBUTSTEP!$AT$4:$AU$33,2,FALSE)","v":0},"Danger",{"$f":"VLOOKUP(BG79,DEBUTSTEP!$AT$4:$AU$33,2,FALSE)","v":0},"Danger",{"$f":"VLOOKUP(BI79,DEBUTSTEP!$AT$4:$AU$33,2,FALSE)","v":0},"Danger",{"$f":"VLOOKUP(BK79,DEBUTSTEP!$AT$4:$AU$33,2,FALSE)","v":0},"Danger",{"$f":"VLOOKUP(BM79,DEBUTSTEP!$AT$4:$AU$33,2,FALSE)","v":0},"Danger",{"$f":"VLOOKUP(BO79,DEBUTSTEP!$AT$4:$AU$33,2,FALSE)","v":0},"Danger",{"$f":"VLOOKUP(BQ79,DEBUTSTEP!$AT$4:$AU$33,2,FALSE)","v":0},"Danger",{"$f":"VLOOKUP(BS79,DEBUTSTEP!$AT$4:$AU$33,2,FALSE)","v":0}]
[]
[null,"Respecter l'entrainement prévu","Pas du tout",{"$f":"VLOOKUP(C81,DEBUTSTEP!$AV$4:$AW$33,2,FALSE)","v":0},"Pas du tout",{"$f":"VLOOKUP(E81,DEBUTSTEP!$AV$4:$AW$33,2,FALSE)","v":0},"Pas du tout",{"$f":"VLOOKUP(G81,DEBUTSTEP!$AV$4:$AW$33,2,FALSE)","v":0},"Pas du tout",{"$f":"VLOOKUP(I81,DEBUTSTEP!$AV$4:$AW$33,2,FALSE)","v":0},"Pas du tout",{"$f":"VLOOKUP(K81,DEBUTSTEP!$AV$4:$AW$33,2,FALSE)","v":0},"Pas du tout",{"$f":"VLOOKUP(M81,DEBUTSTEP!$AV$4:$AW$33,2,FALSE)","v":0},"Pas du tout",{"$f":"VLOOKUP(O81,DEBUTSTEP!$AV$4:$AW$33,2,FALSE)","v":0},"Pas du tout",{"$f":"VLOOKUP(Q81,DEBUTSTEP!$AV$4:$AW$33,2,FALSE)","v":0},"Pas du tout",{"$f":"VLOOKUP(S81,DEBUTSTEP!$AV$4:$AW$33,2,FALSE)","v":0},"Pas du tout",{"$f":"VLOOKUP(U81,DEBUTSTEP!$AV$4:$AW$33,2,FALSE)","v":0},"Pas du tout",{"$f":"VLOOKUP(W81,DEBUTSTEP!$AV$4:$AW$33,2,FALSE)","v":0},"Pas du tout",{"$f":"VLOOKUP(Y81,DEBUTSTEP!$AV$4:$AW$33,2,FALSE)","v":0},"Pas du tout",{"$f":"VLOOKUP(AA81,DEBUTSTEP!$AV$4:$AW$33,2,FALSE)","v":0},"Pas du tout",{"$f":"VLOOKUP(AC81,DEBUTSTEP!$AV$4:$AW$33,2,FALSE)","v":0},"Pas du tout",{"$f":"VLOOKUP(AE81,DEBUTSTEP!$AV$4:$AW$33,2,FALSE)","v":0},"Pas du tout",{"$f":"VLOOKUP(AG81,DEBUTSTEP!$AV$4:$AW$33,2,FALSE)","v":0},"Pas du tout",{"$f":"VLOOKUP(AI81,DEBUTSTEP!$AV$4:$AW$33,2,FALSE)","v":0},"Pas du tout",{"$f":"VLOOKUP(AK81,DEBUTSTEP!$AV$4:$AW$33,2,FALSE)","v":0},"Pas du tout",{"$f":"VLOOKUP(AM81,DEBUTSTEP!$AV$4:$AW$33,2,FALSE)","v":0},"Pas du tout",{"$f":"VLOOKUP(AO81,DEBUTSTEP!$AV$4:$AW$33,2,FALSE)","v":0},"Pas du tout",{"$f":"VLOOKUP(AQ81,DEBUTSTEP!$AV$4:$AW$33,2,FALSE)","v":0},"Pas du tout",{"$f":"VLOOKUP(AS81,DEBUTSTEP!$AV$4:$AW$33,2,FALSE)","v":0},"Pas du tout",{"$f":"VLOOKUP(AU81,DEBUTSTEP!$AV$4:$AW$33,2,FALSE)","v":0},"Pas du tout",{"$f":"VLOOKUP(AW81,DEBUTSTEP!$AV$4:$AW$33,2,FALSE)","v":0},"Pas du tout",{"$f":"VLOOKUP(AY81,DEBUTSTEP!$AV$4:$AW$33,2,FALSE)","v":0},"Pas du tout",{"$f":"VLOOKUP(BA81,DEBUTSTEP!$AV$4:$AW$33,2,FALSE)","v":0},"Pas du tout",{"$f":"VLOOKUP(BC81,DEBUTSTEP!$AV$4:$AW$33,2,FALSE)","v":0},"Pas du tout",{"$f":"VLOOKUP(BE81,DEBUTSTEP!$AV$4:$AW$33,2,FALSE)","v":0},"Pas du tout",{"$f":"VLOOKUP(BG81,DEBUTSTEP!$AV$4:$AW$33,2,FALSE)","v":0},"Pas du tout",{"$f":"VLOOKUP(BI81,DEBUTSTEP!$AV$4:$AW$33,2,FALSE)","v":0},"Pas du tout",{"$f":"VLOOKUP(BK81,DEBUTSTEP!$AV$4:$AW$33,2,FALSE)","v":0},"Pas du tout",{"$f":"VLOOKUP(BM81,DEBUTSTEP!$AV$4:$AW$33,2,FALSE)","v":0},"Pas du tout",{"$f":"VLOOKUP(BO81,DEBUTSTEP!$AV$4:$AW$33,2,FALSE)","v":0},"Pas du tout",{"$f":"VLOOKUP(BQ81,DEBUTSTEP!$AV$4:$AW$33,2,FALSE)","v":0},"Pas du tout",{"$f":"VLOOKUP(BS81,DEBUTSTEP!$AV$4:$AW$33,2,FALSE)","v":0}]
[]
[null,"Mémoriser les blocs","Aucune mémorisation",{"$f":"VLOOKUP(C83,DEBUTSTEP!$AX$4:$AY$33,2,FALSE)","v":0},"Aucune mémorisation",{"$f":"VLOOKUP(E83,DEBUTSTEP!$AX$4:$AY$33,2,FALSE)","v":0},"Aucune mémorisation",{"$f":"VLOOKUP(G83,DEBUTSTEP!$AX$4:$AY$33,2,FALSE)","v":0},"Aucune mémorisation",{"$f":"VLOOKUP(I83,DEBUTSTEP!$AX$4:$AY$33,2,FALSE)","v":0},"Aucune mémorisation",{"$f":"VLOOKUP(K83,DEBUTSTEP!$AX$4:$AY$33,2,FALSE)","v":0},"Aucune mémorisation",{"$f":"VLOOKUP(M83,DEBUTSTEP!$AX$4:$AY$33,2,FALSE)","v":0},"Aucune mémorisation",{"$f":"VLOOKUP(O83,DEBUTSTEP!$AX$4:$AY$33,2,FALSE)","v":0},"Aucune mémorisation",{"$f":"VLOOKUP(Q83,DEBUTSTEP!$AX$4:$AY$33,2,FALSE)","v":0},"Aucune mémorisation",{"$f":"VLOOKUP(S83,DEBUTSTEP!$AX$4:$AY$33,2,FALSE)","v":0},"Aucune mémorisation",{"$f":"VLOOKUP(U83,DEBUTSTEP!$AX$4:$AY$33,2,FALSE)","v":0},"Aucune mémorisation",{"$f":"VLOOKUP(W83,DEBUTSTEP!$AX$4:$AY$33,2,FALSE)","v":0},"Aucune mémorisation",{"$f":"VLOOKUP(Y83,DEBUTSTEP!$AX$4:$AY$33,2,FALSE)","v":0},"Aucune mémorisation",{"$f":"VLOOKUP(AA83,DEBUTSTEP!$AX$4:$AY$33,2,FALSE)","v":0},"Aucune mémorisation",{"$f":"VLOOKUP(AC83,DEBUTSTEP!$AX$4:$AY$33,2,FALSE)","v":0},"Aucune mémorisation",{"$f":"VLOOKUP(AE83,DEBUTSTEP!$AX$4:$AY$33,2,FALSE)","v":0},"Aucune mémorisation",{"$f":"VLOOKUP(AG83,DEBUTSTEP!$AX$4:$AY$33,2,FALSE)","v":0},"Aucune mémorisation",{"$f":"VLOOKUP(AI83,DEBUTSTEP!$AX$4:$AY$33,2,FALSE)","v":0},"Aucune mémorisation",{"$f":"VLOOKUP(AK83,DEBUTSTEP!$AX$4:$AY$33,2,FALSE)","v":0},"Aucune mémorisation",{"$f":"VLOOKUP(AM83,DEBUTSTEP!$AX$4:$AY$33,2,FALSE)","v":0},"Aucune mémorisation",{"$f":"VLOOKUP(AO83,DEBUTSTEP!$AX$4:$AY$33,2,FALSE)","v":0},"Aucune mémorisation",{"$f":"VLOOKUP(AQ83,DEBUTSTEP!$AX$4:$AY$33,2,FALSE)","v":0},"Aucune mémorisation",{"$f":"VLOOKUP(AS83,DEBUTSTEP!$AX$4:$AY$33,2,FALSE)","v":0},"Aucune mémorisation",{"$f":"VLOOKUP(AU83,DEBUTSTEP!$AX$4:$AY$33,2,FALSE)","v":0},"Aucune mémorisation",{"$f":"VLOOKUP(AW83,DEBUTSTEP!$AX$4:$AY$33,2,FALSE)","v":0},"Aucune mémorisation",{"$f":"VLOOKUP(AY83,DEBUTSTEP!$AX$4:$AY$33,2,FALSE)","v":0},"Aucune mémorisation",{"$f":"VLOOKUP(BA83,DEBUTSTEP!$AX$4:$AY$33,2,FALSE)","v":0},"Aucune mémorisation",{"$f":"VLOOKUP(BC83,DEBUTSTEP!$AX$4:$AY$33,2,FALSE)","v":0},"Aucune mémorisation",{"$f":"VLOOKUP(BE83,DEBUTSTEP!$AX$4:$AY$33,2,FALSE)","v":0},"Aucune mémorisation",{"$f":"VLOOKUP(BG83,DEBUTSTEP!$AX$4:$AY$33,2,FALSE)","v":0},"Aucune mémorisation",{"$f":"VLOOKUP(BI83,DEBUTSTEP!$AX$4:$AY$33,2,FALSE)","v":0},"Aucune mémorisation",{"$f":"VLOOKUP(BK83,DEBUTSTEP!$AX$4:$AY$33,2,FALSE)","v":0},"Aucune mémorisation",{"$f":"VLOOKUP(BM83,DEBUTSTEP!$AX$4:$AY$33,2,FALSE)","v":0},"Aucune mémorisation",{"$f":"VLOOKUP(BO83,DEBUTSTEP!$AX$4:$AY$33,2,FALSE)","v":0},"Aucune mémorisation",{"$f":"VLOOKUP(BQ83,DEBUTSTEP!$AX$4:$AY$33,2,FALSE)","v":0},"Aucune mémorisation",{"$f":"VLOOKUP(BS83,DEBUTSTEP!$AX$4:$AY$33,2,FALSE)","v":0}]
[]
[null,"Analyser sa prestation","Imprécise",{"$f":"VLOOKUP(C85,DEBUTSTEP!$AZ$4:$BA$33,2,FALSE)","v":1},"Imprécise",{"$f":"VLOOKUP(E85,DEBUTSTEP!$AZ$4:$BA$33,2,FALSE)","v":1},"Imprécise",{"$f":"VLOOKUP(G85,DEBUTSTEP!$AZ$4:$BA$33,2,FALSE)","v":1},"Imprécise",{"$f":"VLOOKUP(I85,DEBUTSTEP!$AZ$4:$BA$33,2,FALSE)","v":1},"Imprécise",{"$f":"VLOOKUP(K85,DEBUTSTEP!$AZ$4:$BA$33,2,FALSE)","v":1},"Imprécise",{"$f":"VLOOKUP(M85,DEBUTSTEP!$AZ$4:$BA$33,2,FALSE)","v":1},"Imprécise",{"$f":"VLOOKUP(O85,DEBUTSTEP!$AZ$4:$BA$33,2,FALSE)","v":1},"Imprécise",{"$f":"VLOOKUP(Q85,DEBUTSTEP!$AZ$4:$BA$33,2,FALSE)","v":1},"Imprécise",{"$f":"VLOOKUP(S85,DEBUTSTEP!$AZ$4:$BA$33,2,FALSE)","v":1},"Imprécise",{"$f":"VLOOKUP(U85,DEBUTSTEP!$AZ$4:$BA$33,2,FALSE)","v":1},"Imprécise",{"$f":"VLOOKUP(W85,DEBUTSTEP!$AZ$4:$BA$33,2,FALSE)","v":1},"Imprécise",{"$f":"VLOOKUP(Y85,DEBUTSTEP!$AZ$4:$BA$33,2,FALSE)","v":1},"Imprécise",{"$f":"VLOOKUP(AA85,DEBUTSTEP!$AZ$4:$BA$33,2,FALSE)","v":1},"Imprécise",{"$f":"VLOOKUP(AC85,DEBUTSTEP!$AZ$4:$BA$33,2,FALSE)","v":1},"Imprécise",{"$f":"VLOOKUP(AE85,DEBUTSTEP!$AZ$4:$BA$33,2,FALSE)","v":1},"Imprécise",{"$f":"VLOOKUP(AG85,DEBUTSTEP!$AZ$4:$BA$33,2,FALSE)","v":1},"Imprécise",{"$f":"VLOOKUP(AI85,DEBUTSTEP!$AZ$4:$BA$33,2,FALSE)","v":1},"Imprécise",{"$f":"VLOOKUP(AK85,DEBUTSTEP!$AZ$4:$BA$33,2,FALSE)","v":1},"Imprécise",{"$f":"VLOOKUP(AM85,DEBUTSTEP!$AZ$4:$BA$33,2,FALSE)","v":1},"Imprécise",{"$f":"VLOOKUP(AO85,DEBUTSTEP!$AZ$4:$BA$33,2,FALSE)","v":1},"Imprécise",{"$f":"VLOOKUP(AQ85,DEBUTSTEP!$AZ$4:$BA$33,2,FALSE)","v":1},"Imprécise",{"$f":"VLOOKUP(AS85,DEBUTSTEP!$AZ$4:$BA$33,2,FALSE)","v":1},"Imprécise",{"$f":"VLOOKUP(AU85,DEBUTSTEP!$AZ$4:$BA$33,2,FALSE)","v":1},"Imprécise",{"$f":"VLOOKUP(AW85,DEBUTSTEP!$AZ$4:$BA$33,2,FALSE)","v":1},"Imprécise",{"$f":"VLOOKUP(AY85,DEBUTSTEP!$AZ$4:$BA$33,2,FALSE)","v":1},"Imprécise",{"$f":"VLOOKUP(BA85,DEBUTSTEP!$AZ$4:$BA$33,2,FALSE)","v":1},"Imprécise",{"$f":"VLOOKUP(BC85,DEBUTSTEP!$AZ$4:$BA$33,2,FALSE)","v":1},"Imprécise",{"$f":"VLOOKUP(BE85,DEBUTSTEP!$AZ$4:$BA$33,2,FALSE)","v":1},"Imprécise",{"$f":"VLOOKUP(BG85,DEBUTSTEP!$AZ$4:$BA$33,2,FALSE)","v":1},"Imprécise",{"$f":"VLOOKUP(BI85,DEBUTSTEP!$AZ$4:$BA$33,2,FALSE)","v":1},"Imprécise",{"$f":"VLOOKUP(BK85,DEBUTSTEP!$AZ$4:$BA$33,2,FALSE)","v":1},"Imprécise",{"$f":"VLOOKUP(BM85,DEBUTSTEP!$AZ$4:$BA$33,2,FALSE)","v":1},"Imprécise",{"$f":"VLOOKUP(BO85,DEBUTSTEP!$AZ$4:$BA$33,2,FALSE)","v":1},"Imprécise",{"$f":"VLOOKUP(BQ85,DEBUTSTEP!$AZ$4:$BA$33,2,FALSE)","v":1},"Imprécise",{"$f":"VLOOKUP(BS85,DEBUTSTEP!$AZ$4:$BA$33,2,FALSE)","v":1}]
[]
[null,"NOTE",{"$f":"IF(OR(D75=\"x\",D77=\"x\",D79=\"x\",D81=\"x\",D83=\"x\",D85=\"x\"),\"ABSENT\",SUMIF(D75,\"<>X\")+SUMIF(D77,\"<>X\")+SUMIF(D79,\"<>X\")+SUMIF(D81,\"<>X\")+SUMIF(D83,\"<>X\")+SUMIF(D85,\"<>X\"))","v":"ABSENT"},null,{"$f":"IF(OR(F75=\"x\",F77=\"x\",F79=\"x\",F81=\"x\",F83=\"x\",F85=\"x\"),\"ABSENT\",SUMIF(F75,\"<>X\")+SUMIF(F77,\"<>X\")+SUMIF(F79,\"<>X\")+SUMIF(F81,\"<>X\")+SUMIF(F83,\"<>X\")+SUMIF(F85,\"<>X\"))","v":"ABSENT"},null,{"$f":"IF(OR(H75=\"x\",H77=\"x\",H79=\"x\",H81=\"x\",H83=\"x\",H85=\"x\"),\"ABSENT\",SUMIF(H75,\"<>X\")+SUMIF(H77,\"<>X\")+SUMIF(H79,\"<>X\")+SUMIF(H81,\"<>X\")+SUMIF(H83,\"<>X\")+SUMIF(H85,\"<>X\"))","v":"ABSENT"},null,{"$f":"IF(OR(J75=\"x\",J77=\"x\",J79=\"x\",J81=\"x\",J83=\"x\",J85=\"x\"),\"ABSENT\",SUMIF(J75,\"<>X\")+SUMIF(J77,\"<>X\")+SUMIF(J79,\"<>X\")+SUMIF(J81,\"<>X\")+SUMIF(J83,\"<>X\")+SUMIF(J85,\"<>X\"))","v":"ABSENT"},null,{"$f":"IF(OR(L75=\"x\",L77=\"x\",L79=\"x\",L81=\"x\",L83=\"x\",L85=\"x\"),\"ABSENT\",SUMIF(L75,\"<>X\")+SUMIF(L77,\"<>X\")+SUMIF(L79,\"<>X\")+SUMIF(L81,\"<>X\")+SUMIF(L83,\"<>X\")+SUMIF(L85,\"<>X\"))","v":"ABSENT"},null,{"$f":"IF(OR(N75=\"x\",N77=\"x\",N79=\"x\",N81=\"x\",N83=\"x\",N85=\"x\"),\"ABSENT\",SUMIF(N75,\"<>X\")+SUMIF(N77,\"<>X\")+SUMIF(N79,\"<>X\")+SUMIF(N81,\"<>X\")+SUMIF(N83,\"<>X\")+SUMIF(N85,\"<>X\"))","v":"ABSENT"},null,{"$f":"IF(OR(P75=\"x\",P77=\"x\",P79=\"x\",P81=\"x\",P83=\"x\",P85=\"x\"),\"ABSENT\",SUMIF(P75,\"<>X\")+SUMIF(P77,\"<>X\")+SUMIF(P79,\"<>X\")+SUMIF(P81,\"<>X\")+SUMIF(P83,\"<>X\")+SUMIF(P85,\"<>X\"))","v":"ABSENT"},null,{"$f":"IF(OR(R75=\"x\",R77=\"x\",R79=\"x\",R81=\"x\",R83=\"x\",R85=\"x\"),\"ABSENT\",SUMIF(R75,\"<>X\")+SUMIF(R77,\"<>X\")+SUMIF(R79,\"<>X\")+SUMIF(R81,\"<>X\")+SUMIF(R83,\"<>X\")+SUMIF(R85,\"<>X\"))","v":"ABSENT"},null,{"$f":"IF(OR(T75=\"x\",T77=\"x\",T79=\"x\",T81=\"x\",T83=\"x\",T85=\"x\"),\"ABSENT\",SUMIF(T75,\"<>X\")+SUMIF(T77,\"<>X\")+SUMIF(T79,\"<>X\")+SUMIF(T81,\"<>X\")+SUMIF(T83,\"<>X\")+SUMIF(T85,\"<>X\"))","v":"ABSENT"},null,{"$f":"IF(OR(V75=\"x\",V77=\"x\",V79=\"x\",V81=\"x\",V83=\"x\",V85=\"x\"),\"ABSENT\",SUMIF(V75,\"<>X\")+SUMIF(V77,\"<>X\")+SUMIF(V79,\"<>X\")+SUMIF(V81,\"<>X\")+SUMIF(V83,\"<>X\")+SUMIF(V85,\"<>X\"))","v":"ABSENT"},null,{"$f":"IF(OR(X75=\"x\",X77=\"x\",X79=\"x\",X81=\"x\",X83=\"x\",X85=\"x\"),\"ABSENT\",SUMIF(X75,\"<>X\")+SUMIF(X77,\"<>X\")+SUMIF(X79,\"<>X\")+SUMIF(X81,\"<>X\")+SUMIF(X83,\"<>X\")+SUMIF(X85,\"<>X\"))","v":"ABSENT"},null,{"$f":"IF(OR(Z75=\"x\",Z77=\"x\",Z79=\"x\",Z81=\"x\",Z83=\"x\",Z85=\"x\"),\"ABSENT\",SUMIF(Z75,\"<>X\")+SUMIF(Z77,\"<>X\")+SUMIF(Z79,\"<>X\")+SUMIF(Z81,\"<>X\")+SUMIF(Z83,\"<>X\")+SUMIF(Z85,\"<>X\"))","v":"ABSENT"},null,{"$f":"IF(OR(AB75=\"x\",AB77=\"x\",AB79=\"x\",AB81=\"x\",AB83=\"x\",AB85=\"x\"),\"ABSENT\",SUMIF(AB75,\"<>X\")+SUMIF(AB77,\"<>X\")+SUMIF(AB79,\"<>X\")+SUMIF(AB81,\"<>X\")+SUMIF(AB83,\"<>X\")+SUMIF(AB85,\"<>X\"))","v":"ABSENT"},null,{"$f":"IF(OR(AD75=\"x\",AD77=\"x\",AD79=\"x\",AD81=\"x\",AD83=\"x\",AD85=\"x\"),\"ABSENT\",SUMIF(AD75,\"<>X\")+SUMIF(AD77,\"<>X\")+SUMIF(AD79,\"<>X\")+SUMIF(AD81,\"<>X\")+SUMIF(AD83,\"<>X\")+SUMIF(AD85,\"<>X\"))","v":"ABSENT"},null,{"$f":"IF(OR(AF75=\"x\",AF77=\"x\",AF79=\"x\",AF81=\"x\",AF83=\"x\",AF85=\"x\"),\"ABSENT\",SUMIF(AF75,\"<>X\")+SUMIF(AF77,\"<>X\")+SUMIF(AF79,\"<>X\")+SUMIF(AF81,\"<>X\")+SUMIF(AF83,\"<>X\")+SUMIF(AF85,\"<>X\"))","v":"ABSENT"},null,{"$f":"IF(OR(AH75=\"x\",AH77=\"x\",AH79=\"x\",AH81=\"x\",AH83=\"x\",AH85=\"x\"),\"ABSENT\",SUMIF(AH75,\"<>X\")+SUMIF(AH77,\"<>X\")+SUMIF(AH79,\"<>X\")+SUMIF(AH81,\"<>X\")+SUMIF(AH83,\"<>X\")+SUMIF(AH85,\"<>X\"))","v":"ABSENT"},null,{"$f":"IF(OR(AJ75=\"x\",AJ77=\"x\",AJ79=\"x\",AJ81=\"x\",AJ83=\"x\",AJ85=\"x\"),\"ABSENT\",SUMIF(AJ75,\"<>X\")+SUMIF(AJ77,\"<>X\")+SUMIF(AJ79,\"<>X\")+SUMIF(AJ81,\"<>X\")+SUMIF(AJ83,\"<>X\")+SUMIF(AJ85,\"<>X\"))","v":"ABSENT"},null,{"$f":"IF(OR(AL75=\"x\",AL77=\"x\",AL79=\"x\",AL81=\"x\",AL83=\"x\",AL85=\"x\"),\"ABSENT\",SUMIF(AL75,\"<>X\")+SUMIF(AL77,\"<>X\")+SUMIF(AL79,\"<>X\")+SUMIF(AL81,\"<>X\")+SUMIF(AL83,\"<>X\")+SUMIF(AL85,\"<>X\"))","v":"ABSENT"},null,{"$f":"IF(OR(AN75=\"x\",AN77=\"x\",AN79=\"x\",AN81=\"x\",AN83=\"x\",AN85=\"x\"),\"ABSENT\",SUMIF(AN75,\"<>X\")+SUMIF(AN77,\"<>X\")+SUMIF(AN79,\"<>X\")+SUMIF(AN81,\"<>X\")+SUMIF(AN83,\"<>X\")+SUMIF(AN85,\"<>X\"))","v":"ABSENT"},null,{"$f":"IF(OR(AP75=\"x\",AP77=\"x\",AP79=\"x\",AP81=\"x\",AP83=\"x\",AP85=\"x\"),\"ABSENT\",SUMIF(AP75,\"<>X\")+SUMIF(AP77,\"<>X\")+SUMIF(AP79,\"<>X\")+SUMIF(AP81,\"<>X\")+SUMIF(AP83,\"<>X\")+SUMIF(AP85,\"<>X\"))","v":"ABSENT"},null,{"$f":"IF(OR(AR75=\"x\",AR77=\"x\",AR79=\"x\",AR81=\"x\",AR83=\"x\",AR85=\"x\"),\"ABSENT\",SUMIF(AR75,\"<>X\")+SUMIF(AR77,\"<>X\")+SUMIF(AR79,\"<>X\")+SUMIF(AR81,\"<>X\")+SUMIF(AR83,\"<>X\")+SUMIF(AR85,\"<>X\"))","v":"ABSENT"},null,{"$f":"IF(OR(AT75=\"x\",AT77=\"x\",AT79=\"x\",AT81=\"x\",AT83=\"x\",AT85=\"x\"),\"ABSENT\",SUMIF(AT75,\"<>X\")+SUMIF(AT77,\"<>X\")+SUMIF(AT79,\"<>X\")+SUMIF(AT81,\"<>X\")+SUMIF(AT83,\"<>X\")+SUMIF(AT85,\"<>X\"))","v":"ABSENT"},null,{"$f":"IF(OR(AV75=\"x\",AV77=\"x\",AV79=\"x\",AV81=\"x\",AV83=\"x\",AV85=\"x\"),\"ABSENT\",SUMIF(AV75,\"<>X\")+SUMIF(AV77,\"<>X\")+SUMIF(AV79,\"<>X\")+SUMIF(AV81,\"<>X\")+SUMIF(AV83,\"<>X\")+SUMIF(AV85,\"<>X\"))","v":"ABSENT"},null,{"$f":"IF(OR(AX75=\"x\",AX77=\"x\",AX79=\"x\",AX81=\"x\",AX83=\"x\",AX85=\"x\"),\"ABSENT\",SUMIF(AX75,\"<>X\")+SUMIF(AX77,\"<>X\")+SUMIF(AX79,\"<>X\")+SUMIF(AX81,\"<>X\")+SUMIF(AX83,\"<>X\")+SUMIF(AX85,\"<>X\"))","v":"ABSENT"},null,{"$f":"IF(OR(AZ75=\"x\",AZ77=\"x\",AZ79=\"x\",AZ81=\"x\",AZ83=\"x\",AZ85=\"x\"),\"ABSENT\",SUMIF(AZ75,\"<>X\")+SUMIF(AZ77,\"<>X\")+SUMIF(AZ79,\"<>X\")+SUMIF(AZ81,\"<>X\")+SUMIF(AZ83,\"<>X\")+SUMIF(AZ85,\"<>X\"))","v":"ABSENT"},null,{"$f":"IF(OR(BB75=\"x\",BB77=\"x\",BB79=\"x\",BB81=\"x\",BB83=\"x\",BB85=\"x\"),\"ABSENT\",SUMIF(BB75,\"<>X\")+SUMIF(BB77,\"<>X\")+SUMIF(BB79,\"<>X\")+SUMIF(BB81,\"<>X\")+SUMIF(BB83,\"<>X\")+SUMIF(BB85,\"<>X\"))","v":"ABSENT"},null,{"$f":"IF(OR(BD75=\"x\",BD77=\"x\",BD79=\"x\",BD81=\"x\",BD83=\"x\",BD85=\"x\"),\"ABSENT\",SUMIF(BD75,\"<>X\")+SUMIF(BD77,\"<>X\")+SUMIF(BD79,\"<>X\")+SUMIF(BD81,\"<>X\")+SUMIF(BD83,\"<>X\")+SUMIF(BD85,\"<>X\"))","v":"ABSENT"},null,{"$f":"IF(OR(BF75=\"x\",BF77=\"x\",BF79=\"x\",BF81=\"x\",BF83=\"x\",BF85=\"x\"),\"ABSENT\",SUMIF(BF75,\"<>X\")+SUMIF(BF77,\"<>X\")+SUMIF(BF79,\"<>X\")+SUMIF(BF81,\"<>X\")+SUMIF(BF83,\"<>X\")+SUMIF(BF85,\"<>X\"))","v":"ABSENT"},null,{"$f":"IF(OR(BH75=\"x\",BH77=\"x\",BH79=\"x\",BH81=\"x\",BH83=\"x\",BH85=\"x\"),\"ABSENT\",SUMIF(BH75,\"<>X\")+SUMIF(BH77,\"<>X\")+SUMIF(BH79,\"<>X\")+SUMIF(BH81,\"<>X\")+SUMIF(BH83,\"<>X\")+SUMIF(BH85,\"<>X\"))","v":"ABSENT"},null,{"$f":"IF(OR(BJ75=\"x\",BJ77=\"x\",BJ79=\"x\",BJ81=\"x\",BJ83=\"x\",BJ85=\"x\"),\"ABSENT\",SUMIF(BJ75,\"<>X\")+SUMIF(BJ77,\"<>X\")+SUMIF(BJ79,\"<>X\")+SUMIF(BJ81,\"<>X\")+SUMIF(BJ83,\"<>X\")+SUMIF(BJ85,\"<>X\"))","v":"ABSENT"},null,{"$f":"IF(OR(BL75=\"x\",BL77=\"x\",BL79=\"x\",BL81=\"x\",BL83=\"x\",BL85=\"x\"),\"ABSENT\",SUMIF(BL75,\"<>X\")+SUMIF(BL77,\"<>X\")+SUMIF(BL79,\"<>X\")+SUMIF(BL81,\"<>X\")+SUMIF(BL83,\"<>X\")+SUMIF(BL85,\"<>X\"))","v":"ABSENT"},null,{"$f":"IF(OR(BN75=\"x\",BN77=\"x\",BN79=\"x\",BN81=\"x\",BN83=\"x\",BN85=\"x\"),\"ABSENT\",SUMIF(BN75,\"<>X\")+SUMIF(BN77,\"<>X\")+SUMIF(BN79,\"<>X\")+SUMIF(BN81,\"<>X\")+SUMIF(BN83,\"<>X\")+SUMIF(BN85,\"<>X\"))","v":"ABSENT"},null,{"$f":"IF(OR(BP75=\"x\",BP77=\"x\",BP79=\"x\",BP81=\"x\",BP83=\"x\",BP85=\"x\"),\"ABSENT\",SUMIF(BP75,\"<>X\")+SUMIF(BP77,\"<>X\")+SUMIF(BP79,\"<>X\")+SUMIF(BP81,\"<>X\")+SUMIF(BP83,\"<>X\")+SUMIF(BP85,\"<>X\"))","v":"ABSENT"},null,{"$f":"IF(OR(BR75=\"x\",BR77=\"x\",BR79=\"x\",BR81=\"x\",BR83=\"x\",BR85=\"x\"),\"ABSENT\",SUMIF(BR75,\"<>X\")+SUMIF(BR77,\"<>X\")+SUMIF(BR79,\"<>X\")+SUMIF(BR81,\"<>X\")+SUMIF(BR83,\"<>X\")+SUMIF(BR85,\"<>X\"))","v":"ABSENT"},null,{"$f":"IF(OR(BT75=\"x\",BT77=\"x\",BT79=\"x\",BT81=\"x\",BT83=\"x\",BT85=\"x\"),\"ABSENT\",SUMIF(BT75,\"<>X\")+SUMIF(BT77,\"<>X\")+SUMIF(BT79,\"<>X\")+SUMIF(BT81,\"<>X\")+SUMIF(BT83,\"<>X\")+SUMIF(BT85,\"<>X\"))","v":"ABSENT"}]
[]
["SEANCE 7","Prendre sa FC efficacement","ABSENT",{"$f":"VLOOKUP(C89,DEBUTSTEP!$AP$4:$AQ$33,2,FALSE)","v":"X"},"ABSENT",{"$f":"VLOOKUP(E89,DEBUTSTEP!$AP$4:$AQ$33,2,FALSE)","v":"X"},"ABSENT",{"$f":"VLOOKUP(G89,DEBUTSTEP!$AP$4:$AQ$33,2,FALSE)","v":"X"},"ABSENT",{"$f":"VLOOKUP(I89,DEBUTSTEP!$AP$4:$AQ$33,2,FALSE)","v":"X"},"ABSENT",{"$f":"VLOOKUP(K89,DEBUTSTEP!$AP$4:$AQ$33,2,FALSE)","v":"X"},"ABSENT",{"$f":"VLOOKUP(M89,DEBUTSTEP!$AP$4:$AQ$33,2,FALSE)","v":"X"},"ABSENT",{"$f":"VLOOKUP(O89,DEBUTSTEP!$AP$4:$AQ$33,2,FALSE)","v":"X"},"ABSENT",{"$f":"VLOOKUP(Q89,DEBUTSTEP!$AP$4:$AQ$33,2,FALSE)","v":"X"},"ABSENT",{"$f":"VLOOKUP(S89,DEBUTSTEP!$AP$4:$AQ$33,2,FALSE)","v":"X"},"ABSENT",{"$f":"VLOOKUP(U89,DEBUTSTEP!$AP$4:$AQ$33,2,FALSE)","v":"X"},"ABSENT",{"$f":"VLOOKUP(W89,DEBUTSTEP!$AP$4:$AQ$33,2,FALSE)","v":"X"},"ABSENT",{"$f":"VLOOKUP(Y89,DEBUTSTEP!$AP$4:$AQ$33,2,FALSE)","v":"X"},"ABSENT",{"$f":"VLOOKUP(AA89,DEBUTSTEP!$AP$4:$AQ$33,2,FALSE)","v":"X"},"ABSENT",{"$f":"VLOOKUP(AC89,DEBUTSTEP!$AP$4:$AQ$33,2,FALSE)","v":"X"},"ABSENT",{"$f":"VLOOKUP(AE89,DEBUTSTEP!$AP$4:$AQ$33,2,FALSE)","v":"X"},"ABSENT",{"$f":"VLOOKUP(AG89,DEBUTSTEP!$AP$4:$AQ$33,2,FALSE)","v":"X"},"ABSENT",{"$f":"VLOOKUP(AI89,DEBUTSTEP!$AP$4:$AQ$33,2,FALSE)","v":"X"},"ABSENT",{"$f":"VLOOKUP(AK89,DEBUTSTEP!$AP$4:$AQ$33,2,FALSE)","v":"X"},"ABSENT",{"$f":"VLOOKUP(AM89,DEBUTSTEP!$AP$4:$AQ$33,2,FALSE)","v":"X"},"ABSENT",{"$f":"VLOOKUP(AO89,DEBUTSTEP!$AP$4:$AQ$33,2,FALSE)","v":"X"},"ABSENT",{"$f":"VLOOKUP(AQ89,DEBUTSTEP!$AP$4:$AQ$33,2,FALSE)","v":"X"},"ABSENT",{"$f":"VLOOKUP(AS89,DEBUTSTEP!$AP$4:$AQ$33,2,FALSE)","v":"X"},"ABSENT",{"$f":"VLOOKUP(AU89,DEBUTSTEP!$AP$4:$AQ$33,2,FALSE)","v":"X"},"ABSENT",{"$f":"VLOOKUP(AW89,DEBUTSTEP!$AP$4:$AQ$33,2,FALSE)","v":"X"},"ABSENT",{"$f":"VLOOKUP(AY89,DEBUTSTEP!$AP$4:$AQ$33,2,FALSE)","v":"X"},"ABSENT",{"$f":"VLOOKUP(BA89,DEBUTSTEP!$AP$4:$AQ$33,2,FALSE)","v":"X"},"ABSENT",{"$f":"VLOOKUP(BC89,DEBUTSTEP!$AP$4:$AQ$33,2,FALSE)","v":"X"},"ABSENT",{"$f":"VLOOKUP(BE89,DEBUTSTEP!$AP$4:$AQ$33,2,FALSE)","v":"X"},"ABSENT",{"$f":"VLOOKUP(BG89,DEBUTSTEP!$AP$4:$AQ$33,2,FALSE)","v":"X"},"ABSENT",{"$f":"VLOOKUP(BI89,DEBUTSTEP!$AP$4:$AQ$33,2,FALSE)","v":"X"},"ABSENT",{"$f":"VLOOKUP(BK89,DEBUTSTEP!$AP$4:$AQ$33,2,FALSE)","v":"X"},"ABSENT",{"$f":"VLOOKUP(BM89,DEBUTSTEP!$AP$4:$AQ$33,2,FALSE)","v":"X"},"ABSENT",{"$f":"VLOOKUP(BO89,DEBUTSTEP!$AP$4:$AQ$33,2,FALSE)","v":"X"},"ABSENT",{"$f":"VLOOKUP(BQ89,DEBUTSTEP!$AP$4:$AQ$33,2,FALSE)","v":"X"},"ABSENT",{"$f":"VLOOKUP(BS89,DEBUTSTEP!$AP$4:$AQ$33,2,FALSE)","v":"X"}]
[]
[null,"S'engager dans le mobile proposé","Aucun",{"$f":"VLOOKUP(C91,DEBUTSTEP!$AR$4:$AS$33,2,FALSE)","v":0},"Aucun",{"$f":"VLOOKUP(E91,DEBUTSTEP!$AR$4:$AS$33,2,FALSE)","v":0},"Aucun",{"$f":"VLOOKUP(G91,DEBUTSTEP!$AR$4:$AS$33,2,FALSE)","v":0},"Aucun",{"$f":"VLOOKUP(I91,DEBUTSTEP!$AR$4:$AS$33,2,FALSE)","v":0},"Aucun",{"$f":"VLOOKUP(K91,DEBUTSTEP!$AR$4:$AS$33,2,FALSE)","v":0},"Aucun",{"$f":"VLOOKUP(M91,DEBUTSTEP!$AR$4:$AS$33,2,FALSE)","v":0},"Aucun",{"$f":"VLOOKUP(O91,DEBUTSTEP!$AR$4:$AS$33,2,FALSE)","v":0},"Aucun",{"$f":"VLOOKUP(Q91,DEBUTSTEP!$AR$4:$AS$33,2,FALSE)","v":0},"Aucun",{"$f":"VLOOKUP(S91,DEBUTSTEP!$AR$4:$AS$33,2,FALSE)","v":0},"Aucun",{"$f":"VLOOKUP(U91,DEBUTSTEP!$AR$4:$AS$33,2,FALSE)","v":0},"Aucun",{"$f":"VLOOKUP(W91,DEBUTSTEP!$AR$4:$AS$33,2,FALSE)","v":0},"Aucun",{"$f":"VLOOKUP(Y91,DEBUTSTEP!$AR$4:$AS$33,2,FALSE)","v":0},"Aucun",{"$f":"VLOOKUP(AA91,DEBUTSTEP!$AR$4:$AS$33,2,FALSE)","v":0},"Aucun",{"$f":"VLOOKUP(AC91,DEBUTSTEP!$AR$4:$AS$33,2,FALSE)","v":0},"Aucun",{"$f":"VLOOKUP(AE91,DEBUTSTEP!$AR$4:$AS$33,2,FALSE)","v":0},"Aucun",{"$f":"VLOOKUP(AG91,DEBUTSTEP!$AR$4:$AS$33,2,FALSE)","v":0},"Aucun",{"$f":"VLOOKUP(AI91,DEBUTSTEP!$AR$4:$AS$33,2,FALSE)","v":0},"Aucun",{"$f":"VLOOKUP(AK91,DEBUTSTEP!$AR$4:$AS$33,2,FALSE)","v":0},"Aucun",{"$f":"VLOOKUP(AM91,DEBUTSTEP!$AR$4:$AS$33,2,FALSE)","v":0},"Aucun",{"$f":"VLOOKUP(AO91,DEBUTSTEP!$AR$4:$AS$33,2,FALSE)","v":0},"Aucun",{"$f":"VLOOKUP(AQ91,DEBUTSTEP!$AR$4:$AS$33,2,FALSE)","v":0},"Aucun",{"$f":"VLOOKUP(AS91,DEBUTSTEP!$AR$4:$AS$33,2,FALSE)","v":0},"Aucun",{"$f":"VLOOKUP(AU91,DEBUTSTEP!$AR$4:$AS$33,2,FALSE)","v":0},"Aucun",{"$f":"VLOOKUP(AW91,DEBUTSTEP!$AR$4:$AS$33,2,FALSE)","v":0},"Aucun",{"$f":"VLOOKUP(AY91,DEBUTSTEP!$AR$4:$AS$33,2,FALSE)","v":0},"Aucun",{"$f":"VLOOKUP(BA91,DEBUTSTEP!$AR$4:$AS$33,2,FALSE)","v":0},"Aucun",{"$f":"VLOOKUP(BC91,DEBUTSTEP!$AR$4:$AS$33,2,FALSE)","v":0},"Aucun",{"$f":"VLOOKUP(BE91,DEBUTSTEP!$AR$4:$AS$33,2,FALSE)","v":0},"Aucun",{"$f":"VLOOKUP(BG91,DEBUTSTEP!$AR$4:$AS$33,2,FALSE)","v":0},"Aucun",{"$f":"VLOOKUP(BI91,DEBUTSTEP!$AR$4:$AS$33,2,FALSE)","v":0},"Aucun",{"$f":"VLOOKUP(BK91,DEBUTSTEP!$AR$4:$AS$33,2,FALSE)","v":0},"Aucun",{"$f":"VLOOKUP(BM91,DEBUTSTEP!$AR$4:$AS$33,2,FALSE)","v":0},"Aucun",{"$f":"VLOOKUP(BO91,DEBUTSTEP!$AR$4:$AS$33,2,FALSE)","v":0},"Aucun",{"$f":"VLOOKUP(BQ91,DEBUTSTEP!$AR$4:$AS$33,2,FALSE)","v":0},"Aucun",{"$f":"VLOOKUP(BS91,DEBUTSTEP!$AR$4:$AS$33,2,FALSE)","v":0}]
[]
[null,"Agir en sécu","Danger",{"$f":"VLOOKUP(C93,DEBUTSTEP!$AT$4:$AU$33,2,FALSE)","v":0},"Danger",{"$f":"VLOOKUP(E93,DEBUTSTEP!$AT$4:$AU$33,2,FALSE)","v":0},"Danger",{"$f":"VLOOKUP(G93,DEBUTSTEP!$AT$4:$AU$33,2,FALSE)","v":0},"Danger",{"$f":"VLOOKUP(I93,DEBUTSTEP!$AT$4:$AU$33,2,FALSE)","v":0},"Danger",{"$f":"VLOOKUP(K93,DEBUTSTEP!$AT$4:$AU$33,2,FALSE)","v":0},"Danger",{"$f":"VLOOKUP(M93,DEBUTSTEP!$AT$4:$AU$33,2,FALSE)","v":0},"Danger",{"$f":"VLOOKUP(O93,DEBUTSTEP!$AT$4:$AU$33,2,FALSE)","v":0},"Danger",{"$f":"VLOOKUP(Q93,DEBUTSTEP!$AT$4:$AU$33,2,FALSE)","v":0},"Danger",{"$f":"VLOOKUP(S93,DEBUTSTEP!$AT$4:$AU$33,2,FALSE)","v":0},"Danger",{"$f":"VLOOKUP(U93,DEBUTSTEP!$AT$4:$AU$33,2,FALSE)","v":0},"Danger",{"$f":"VLOOKUP(W93,DEBUTSTEP!$AT$4:$AU$33,2,FALSE)","v":0},"Danger",{"$f":"VLOOKUP(Y93,DEBUTSTEP!$AT$4:$AU$33,2,FALSE)","v":0},"Danger",{"$f":"VLOOKUP(AA93,DEBUTSTEP!$AT$4:$AU$33,2,FALSE)","v":0},"Danger",{"$f":"VLOOKUP(AC93,DEBUTSTEP!$AT$4:$AU$33,2,FALSE)","v":0},"Danger",{"$f":"VLOOKUP(AE93,DEBUTSTEP!$AT$4:$AU$33,2,FALSE)","v":0},"Danger",{"$f":"VLOOKUP(AG93,DEBUTSTEP!$AT$4:$AU$33,2,FALSE)","v":0},"Danger",{"$f":"VLOOKUP(AI93,DEBUTSTEP!$AT$4:$AU$33,2,FALSE)","v":0},"Danger",{"$f":"VLOOKUP(AK93,DEBUTSTEP!$AT$4:$AU$33,2,FALSE)","v":0},"Danger",{"$f":"VLOOKUP(AM93,DEBUTSTEP!$AT$4:$AU$33,2,FALSE)","v":0},"Danger",{"$f":"VLOOKUP(AO93,DEBUTSTEP!$AT$4:$AU$33,2,FALSE)","v":0},"Danger",{"$f":"VLOOKUP(AQ93,DEBUTSTEP!$AT$4:$AU$33,2,FALSE)","v":0},"Danger",{"$f":"VLOOKUP(AS93,DEBUTSTEP!$AT$4:$AU$33,2,FALSE)","v":0},"Danger",{"$f":"VLOOKUP(AU93,DEBUTSTEP!$AT$4:$AU$33,2,FALSE)","v":0},"Danger",{"$f":"VLOOKUP(AW93,DEBUTSTEP!$AT$4:$AU$33,2,FALSE)","v":0},"Danger",{"$f":"VLOOKUP(AY93,DEBUTSTEP!$AT$4:$AU$33,2,FALSE)","v":0},"Danger",{"$f":"VLOOKUP(BA93,DEBUTSTEP!$AT$4:$AU$33,2,FALSE)","v":0},"Danger",{"$f":"VLOOKUP(BC93,DEBUTSTEP!$AT$4:$AU$33,2,FALSE)","v":0},"Danger",{"$f":"VLOOKUP(BE93,DEBUTSTEP!$AT$4:$AU$33,2,FALSE)","v":0},"Danger",{"$f":"VLOOKUP(BG93,DEBUTSTEP!$AT$4:$AU$33,2,FALSE)","v":0},"Danger",{"$f":"VLOOKUP(BI93,DEBUTSTEP!$AT$4:$AU$33,2,FALSE)","v":0},"Danger",{"$f":"VLOOKUP(BK93,DEBUTSTEP!$AT$4:$AU$33,2,FALSE)","v":0},"Danger",{"$f":"VLOOKUP(BM93,DEBUTSTEP!$AT$4:$AU$33,2,FALSE)","v":0},"Danger",{"$f":"VLOOKUP(BO93,DEBUTSTEP!$AT$4:$AU$33,2,FALSE)","v":0},"Danger",{"$f":"VLOOKUP(BQ93,DEBUTSTEP!$AT$4:$AU$33,2,FALSE)","v":0},"Danger",{"$f":"VLOOKUP(BS93,DEBUTSTEP!$AT$4:$AU$33,2,FALSE)","v":0}]
[]
[null,"Respecter l'entrainement prévu","Pas du tout",{"$f":"VLOOKUP(C95,DEBUTSTEP!$AV$4:$AW$33,2,FALSE)","v":0},"Pas du tout",{"$f":"VLOOKUP(E95,DEBUTSTEP!$AV$4:$AW$33,2,FALSE)","v":0},"Pas du tout",{"$f":"VLOOKUP(G95,DEBUTSTEP!$AV$4:$AW$33,2,FALSE)","v":0},"Pas du tout",{"$f":"VLOOKUP(I95,DEBUTSTEP!$AV$4:$AW$33,2,FALSE)","v":0},"Pas du tout",{"$f":"VLOOKUP(K95,DEBUTSTEP!$AV$4:$AW$33,2,FALSE)","v":0},"Pas du tout",{"$f":"VLOOKUP(M95,DEBUTSTEP!$AV$4:$AW$33,2,FALSE)","v":0},"Pas du tout",{"$f":"VLOOKUP(O95,DEBUTSTEP!$AV$4:$AW$33,2,FALSE)","v":0},"Pas du tout",{"$f":"VLOOKUP(Q95,DEBUTSTEP!$AV$4:$AW$33,2,FALSE)","v":0},"Pas du tout",{"$f":"VLOOKUP(S95,DEBUTSTEP!$AV$4:$AW$33,2,FALSE)","v":0},"Pas du tout",{"$f":"VLOOKUP(U95,DEBUTSTEP!$AV$4:$AW$33,2,FALSE)","v":0},"Pas du tout",{"$f":"VLOOKUP(W95,DEBUTSTEP!$AV$4:$AW$33,2,FALSE)","v":0},"Pas du tout",{"$f":"VLOOKUP(Y95,DEBUTSTEP!$AV$4:$AW$33,2,FALSE)","v":0},"Pas du tout",{"$f":"VLOOKUP(AA95,DEBUTSTEP!$AV$4:$AW$33,2,FALSE)","v":0},"Pas du tout",{"$f":"VLOOKUP(AC95,DEBUTSTEP!$AV$4:$AW$33,2,FALSE)","v":0},"Pas du tout",{"$f":"VLOOKUP(AE95,DEBUTSTEP!$AV$4:$AW$33,2,FALSE)","v":0},"Pas du tout",{"$f":"VLOOKUP(AG95,DEBUTSTEP!$AV$4:$AW$33,2,FALSE)","v":0},"Pas du tout",{"$f":"VLOOKUP(AI95,DEBUTSTEP!$AV$4:$AW$33,2,FALSE)","v":0},"Pas du tout",{"$f":"VLOOKUP(AK95,DEBUTSTEP!$AV$4:$AW$33,2,FALSE)","v":0},"Pas du tout",{"$f":"VLOOKUP(AM95,DEBUTSTEP!$AV$4:$AW$33,2,FALSE)","v":0},"Pas du tout",{"$f":"VLOOKUP(AO95,DEBUTSTEP!$AV$4:$AW$33,2,FALSE)","v":0},"Pas du tout",{"$f":"VLOOKUP(AQ95,DEBUTSTEP!$AV$4:$AW$33,2,FALSE)","v":0},"Pas du tout",{"$f":"VLOOKUP(AS95,DEBUTSTEP!$AV$4:$AW$33,2,FALSE)","v":0},"Pas du tout",{"$f":"VLOOKUP(AU95,DEBUTSTEP!$AV$4:$AW$33,2,FALSE)","v":0},"Pas du tout",{"$f":"VLOOKUP(AW95,DEBUTSTEP!$AV$4:$AW$33,2,FALSE)","v":0},"Pas du tout",{"$f":"VLOOKUP(AY95,DEBUTSTEP!$AV$4:$AW$33,2,FALSE)","v":0},"Pas du tout",{"$f":"VLOOKUP(BA95,DEBUTSTEP!$AV$4:$AW$33,2,FALSE)","v":0},"Pas du tout",{"$f":"VLOOKUP(BC95,DEBUTSTEP!$AV$4:$AW$33,2,FALSE)","v":0},"Pas du tout",{"$f":"VLOOKUP(BE95,DEBUTSTEP!$AV$4:$AW$33,2,FALSE)","v":0},"Pas du tout",{"$f":"VLOOKUP(BG95,DEBUTSTEP!$AV$4:$AW$33,2,FALSE)","v":0},"Pas du tout",{"$f":"VLOOKUP(BI95,DEBUTSTEP!$AV$4:$AW$33,2,FALSE)","v":0},"Pas du tout",{"$f":"VLOOKUP(BK95,DEBUTSTEP!$AV$4:$AW$33,2,FALSE)","v":0},"Pas du tout",{"$f":"VLOOKUP(BM95,DEBUTSTEP!$AV$4:$AW$33,2,FALSE)","v":0},"Pas du tout",{"$f":"VLOOKUP(BO95,DEBUTSTEP!$AV$4:$AW$33,2,FALSE)","v":0},"Pas du tout",{"$f":"VLOOKUP(BQ95,DEBUTSTEP!$AV$4:$AW$33,2,FALSE)","v":0},"Pas du tout",{"$f":"VLOOKUP(BS95,DEBUTSTEP!$AV$4:$AW$33,2,FALSE)","v":0}]
[]
[null,"Mémoriser les blocs","Aucune mémorisation",{"$f":"VLOOKUP(C97,DEBUTSTEP!$AX$4:$AY$33,2,FALSE)","v":0},"Aucune mémorisation",{"$f":"VLOOKUP(E97,DEBUTSTEP!$AX$4:$AY$33,2,FALSE)","v":0},"Aucune mémorisation",{"$f":"VLOOKUP(G97,DEBUTSTEP!$AX$4:$AY$33,2,FALSE)","v":0},"Aucune mémorisation",{"$f":"VLOOKUP(I97,DEBUTSTEP!$AX$4:$AY$33,2,FALSE)","v":0},"Aucune mémorisation",{"$f":"VLOOKUP(K97,DEBUTSTEP!$AX$4:$AY$33,2,FALSE)","v":0},"Aucune mémorisation",{"$f":"VLOOKUP(M97,DEBUTSTEP!$AX$4:$AY$33,2,FALSE)","v":0},"Aucune mémorisation",{"$f":"VLOOKUP(O97,DEBUTSTEP!$AX$4:$AY$33,2,FALSE)","v":0},"Aucune mémorisation",{"$f":"VLOOKUP(Q97,DEBUTSTEP!$AX$4:$AY$33,2,FALSE)","v":0},"Aucune mémorisation",{"$f":"VLOOKUP(S97,DEBUTSTEP!$AX$4:$AY$33,2,FALSE)","v":0},"Aucune mémorisation",{"$f":"VLOOKUP(U97,DEBUTSTEP!$AX$4:$AY$33,2,FALSE)","v":0},"Aucune mémorisation",{"$f":"VLOOKUP(W97,DEBUTSTEP!$AX$4:$AY$33,2,FALSE)","v":0},"Aucune mémorisation",{"$f":"VLOOKUP(Y97,DEBUTSTEP!$AX$4:$AY$33,2,FALSE)","v":0},"Aucune mémorisation",{"$f":"VLOOKUP(AA97,DEBUTSTEP!$AX$4:$AY$33,2,FALSE)","v":0},"Aucune mémorisation",{"$f":"VLOOKUP(AC97,DEBUTSTEP!$AX$4:$AY$33,2,FALSE)","v":0},"Aucune mémorisation",{"$f":"VLOOKUP(AE97,DEBUTSTEP!$AX$4:$AY$33,2,FALSE)","v":0},"Aucune mémorisation",{"$f":"VLOOKUP(AG97,DEBUTSTEP!$AX$4:$AY$33,2,FALSE)","v":0},"Aucune mémorisation",{"$f":"VLOOKUP(AI97,DEBUTSTEP!$AX$4:$AY$33,2,FALSE)","v":0},"Aucune mémorisation",{"$f":"VLOOKUP(AK97,DEBUTSTEP!$AX$4:$AY$33,2,FALSE)","v":0},"Aucune mémorisation",{"$f":"VLOOKUP(AM97,DEBUTSTEP!$AX$4:$AY$33,2,FALSE)","v":0},"Aucune mémorisation",{"$f":"VLOOKUP(AO97,DEBUTSTEP!$AX$4:$AY$33,2,FALSE)","v":0},"Aucune mémorisation",{"$f":"VLOOKUP(AQ97,DEBUTSTEP!$AX$4:$AY$33,2,FALSE)","v":0},"Aucune mémorisation",{"$f":"VLOOKUP(AS97,DEBUTSTEP!$AX$4:$AY$33,2,FALSE)","v":0},"Aucune mémorisation",{"$f":"VLOOKUP(AU97,DEBUTSTEP!$AX$4:$AY$33,2,FALSE)","v":0},"Aucune mémorisation",{"$f":"VLOOKUP(AW97,DEBUTSTEP!$AX$4:$AY$33,2,FALSE)","v":0},"Aucune mémorisation",{"$f":"VLOOKUP(AY97,DEBUTSTEP!$AX$4:$AY$33,2,FALSE)","v":0},"Aucune mémorisation",{"$f":"VLOOKUP(BA97,DEBUTSTEP!$AX$4:$AY$33,2,FALSE)","v":0},"Aucune mémorisation",{"$f":"VLOOKUP(BC97,DEBUTSTEP!$AX$4:$AY$33,2,FALSE)","v":0},"Aucune mémorisation",{"$f":"VLOOKUP(BE97,DEBUTSTEP!$AX$4:$AY$33,2,FALSE)","v":0},"Aucune mémorisation",{"$f":"VLOOKUP(BG97,DEBUTSTEP!$AX$4:$AY$33,2,FALSE)","v":0},"Aucune mémorisation",{"$f":"VLOOKUP(BI97,DEBUTSTEP!$AX$4:$AY$33,2,FALSE)","v":0},"Aucune mémorisation",{"$f":"VLOOKUP(BK97,DEBUTSTEP!$AX$4:$AY$33,2,FALSE)","v":0},"Aucune mémorisation",{"$f":"VLOOKUP(BM97,DEBUTSTEP!$AX$4:$AY$33,2,FALSE)","v":0},"Aucune mémorisation",{"$f":"VLOOKUP(BO97,DEBUTSTEP!$AX$4:$AY$33,2,FALSE)","v":0},"Aucune mémorisation",{"$f":"VLOOKUP(BQ97,DEBUTSTEP!$AX$4:$AY$33,2,FALSE)","v":0},"Aucune mémorisation",{"$f":"VLOOKUP(BS97,DEBUTSTEP!$AX$4:$AY$33,2,FALSE)","v":0}]
[]
[null,"Analyser sa prestation","Imprécise",{"$f":"VLOOKUP(C99,DEBUTSTEP!$AZ$4:$BA$33,2,FALSE)","v":1},"Imprécise",{"$f":"VLOOKUP(E99,DEBUTSTEP!$AZ$4:$BA$33,2,FALSE)","v":1},"Imprécise",{"$f":"VLOOKUP(G99,DEBUTSTEP!$AZ$4:$BA$33,2,FALSE)","v":1},"Imprécise",{"$f":"VLOOKUP(I99,DEBUTSTEP!$AZ$4:$BA$33,2,FALSE)","v":1},"Imprécise",{"$f":"VLOOKUP(K99,DEBUTSTEP!$AZ$4:$BA$33,2,FALSE)","v":1},"Imprécise",{"$f":"VLOOKUP(M99,DEBUTSTEP!$AZ$4:$BA$33,2,FALSE)","v":1},"Imprécise",{"$f":"VLOOKUP(O99,DEBUTSTEP!$AZ$4:$BA$33,2,FALSE)","v":1},"Imprécise",{"$f":"VLOOKUP(Q99,DEBUTSTEP!$AZ$4:$BA$33,2,FALSE)","v":1},"Imprécise",{"$f":"VLOOKUP(S99,DEBUTSTEP!$AZ$4:$BA$33,2,FALSE)","v":1},"Imprécise",{"$f":"VLOOKUP(U99,DEBUTSTEP!$AZ$4:$BA$33,2,FALSE)","v":1},"Imprécise",{"$f":"VLOOKUP(W99,DEBUTSTEP!$AZ$4:$BA$33,2,FALSE)","v":1},"Imprécise",{"$f":"VLOOKUP(Y99,DEBUTSTEP!$AZ$4:$BA$33,2,FALSE)","v":1},"Imprécise",{"$f":"VLOOKUP(AA99,DEBUTSTEP!$AZ$4:$BA$33,2,FALSE)","v":1},"Imprécise",{"$f":"VLOOKUP(AC99,DEBUTSTEP!$AZ$4:$BA$33,2,FALSE)","v":1},"Imprécise",{"$f":"VLOOKUP(AE99,DEBUTSTEP!$AZ$4:$BA$33,2,FALSE)","v":1},"Imprécise",{"$f":"VLOOKUP(AG99,DEBUTSTEP!$AZ$4:$BA$33,2,FALSE)","v":1},"Imprécise",{"$f":"VLOOKUP(AI99,DEBUTSTEP!$AZ$4:$BA$33,2,FALSE)","v":1},"Imprécise",{"$f":"VLOOKUP(AK99,DEBUTSTEP!$AZ$4:$BA$33,2,FALSE)","v":1},"Imprécise",{"$f":"VLOOKUP(AM99,DEBUTSTEP!$AZ$4:$BA$33,2,FALSE)","v":1},"Imprécise",{"$f":"VLOOKUP(AO99,DEBUTSTEP!$AZ$4:$BA$33,2,FALSE)","v":1},"Imprécise",{"$f":"VLOOKUP(AQ99,DEBUTSTEP!$AZ$4:$BA$33,2,FALSE)","v":1},"Imprécise",{"$f":"VLOOKUP(AS99,DEBUTSTEP!$AZ$4:$BA$33,2,FALSE)","v":1},"Imprécise",{"$f":"VLOOKUP(AU99,DEBUTSTEP!$AZ$4:$BA$33,2,FALSE)","v":1},"Imprécise",{"$f":"VLOOKUP(AW99,DEBUTSTEP!$AZ$4:$BA$33,2,FALSE)","v":1},"Imprécise",{"$f":"VLOOKUP(AY99,DEBUTSTEP!$AZ$4:$BA$33,2,FALSE)","v":1},"Imprécise",{"$f":"VLOOKUP(BA99,DEBUTSTEP!$AZ$4:$BA$33,2,FALSE)","v":1},"Imprécise",{"$f":"VLOOKUP(BC99,DEBUTSTEP!$AZ$4:$BA$33,2,FALSE)","v":1},"Imprécise",{"$f":"VLOOKUP(BE99,DEBUTSTEP!$AZ$4:$BA$33,2,FALSE)","v":1},"Imprécise",{"$f":"VLOOKUP(BG99,DEBUTSTEP!$AZ$4:$BA$33,2,FALSE)","v":1},"Imprécise",{"$f":"VLOOKUP(BI99,DEBUTSTEP!$AZ$4:$BA$33,2,FALSE)","v":1},"Imprécise",{"$f":"VLOOKUP(BK99,DEBUTSTEP!$AZ$4:$BA$33,2,FALSE)","v":1},"Imprécise",{"$f":"VLOOKUP(BM99,DEBUTSTEP!$AZ$4:$BA$33,2,FALSE)","v":1},"Imprécise",{"$f":"VLOOKUP(BO99,DEBUTSTEP!$AZ$4:$BA$33,2,FALSE)","v":1},"Imprécise",{"$f":"VLOOKUP(BQ99,DEBUTSTEP!$AZ$4:$BA$33,2,FALSE)","v":1},"Imprécise",{"$f":"VLOOKUP(BS99,DEBUTSTEP!$AZ$4:$BA$33,2,FALSE)","v":1}]
[]
[null,"NOTE",{"$f":"IF(OR(D89=\"x\",D91=\"x\",D93=\"x\",D95=\"x\",D97=\"x\",D99=\"x\"),\"ABSENT\",SUMIF(D89,\"<>X\")+SUMIF(D91,\"<>X\")+SUMIF(D93,\"<>X\")+SUMIF(D95,\"<>X\")+SUMIF(D97,\"<>X\")+SUMIF(D99,\"<>X\"))","v":"ABSENT"},null,{"$f":"IF(OR(F89=\"x\",F91=\"x\",F93=\"x\",F95=\"x\",F97=\"x\",F99=\"x\"),\"ABSENT\",SUMIF(F89,\"<>X\")+SUMIF(F91,\"<>X\")+SUMIF(F93,\"<>X\")+SUMIF(F95,\"<>X\")+SUMIF(F97,\"<>X\")+SUMIF(F99,\"<>X\"))","v":"ABSENT"},null,{"$f":"IF(OR(H89=\"x\",H91=\"x\",H93=\"x\",H95=\"x\",H97=\"x\",H99=\"x\"),\"ABSENT\",SUMIF(H89,\"<>X\")+SUMIF(H91,\"<>X\")+SUMIF(H93,\"<>X\")+SUMIF(H95,\"<>X\")+SUMIF(H97,\"<>X\")+SUMIF(H99,\"<>X\"))","v":"ABSENT"},null,{"$f":"IF(OR(J89=\"x\",J91=\"x\",J93=\"x\",J95=\"x\",J97=\"x\",J99=\"x\"),\"ABSENT\",SUMIF(J89,\"<>X\")+SUMIF(J91,\"<>X\")+SUMIF(J93,\"<>X\")+SUMIF(J95,\"<>X\")+SUMIF(J97,\"<>X\")+SUMIF(J99,\"<>X\"))","v":"ABSENT"},null,{"$f":"IF(OR(L89=\"x\",L91=\"x\",L93=\"x\",L95=\"x\",L97=\"x\",L99=\"x\"),\"ABSENT\",SUMIF(L89,\"<>X\")+SUMIF(L91,\"<>X\")+SUMIF(L93,\"<>X\")+SUMIF(L95,\"<>X\")+SUMIF(L97,\"<>X\")+SUMIF(L99,\"<>X\"))","v":"ABSENT"},null,{"$f":"IF(OR(N89=\"x\",N91=\"x\",N93=\"x\",N95=\"x\",N97=\"x\",N99=\"x\"),\"ABSENT\",SUMIF(N89,\"<>X\")+SUMIF(N91,\"<>X\")+SUMIF(N93,\"<>X\")+SUMIF(N95,\"<>X\")+SUMIF(N97,\"<>X\")+SUMIF(N99,\"<>X\"))","v":"ABSENT"},null,{"$f":"IF(OR(P89=\"x\",P91=\"x\",P93=\"x\",P95=\"x\",P97=\"x\",P99=\"x\"),\"ABSENT\",SUMIF(P89,\"<>X\")+SUMIF(P91,\"<>X\")+SUMIF(P93,\"<>X\")+SUMIF(P95,\"<>X\")+SUMIF(P97,\"<>X\")+SUMIF(P99,\"<>X\"))","v":"ABSENT"},null,{"$f":"IF(OR(R89=\"x\",R91=\"x\",R93=\"x\",R95=\"x\",R97=\"x\",R99=\"x\"),\"ABSENT\",SUMIF(R89,\"<>X\")+SUMIF(R91,\"<>X\")+SUMIF(R93,\"<>X\")+SUMIF(R95,\"<>X\")+SUMIF(R97,\"<>X\")+SUMIF(R99,\"<>X\"))","v":"ABSENT"},null,{"$f":"IF(OR(T89=\"x\",T91=\"x\",T93=\"x\",T95=\"x\",T97=\"x\",T99=\"x\"),\"ABSENT\",SUMIF(T89,\"<>X\")+SUMIF(T91,\"<>X\")+SUMIF(T93,\"<>X\")+SUMIF(T95,\"<>X\")+SUMIF(T97,\"<>X\")+SUMIF(T99,\"<>X\"))","v":"ABSENT"},null,{"$f":"IF(OR(V89=\"x\",V91=\"x\",V93=\"x\",V95=\"x\",V97=\"x\",V99=\"x\"),\"ABSENT\",SUMIF(V89,\"<>X\")+SUMIF(V91,\"<>X\")+SUMIF(V93,\"<>X\")+SUMIF(V95,\"<>X\")+SUMIF(V97,\"<>X\")+SUMIF(V99,\"<>X\"))","v":"ABSENT"},null,{"$f":"IF(OR(X89=\"x\",X91=\"x\",X93=\"x\",X95=\"x\",X97=\"x\",X99=\"x\"),\"ABSENT\",SUMIF(X89,\"<>X\")+SUMIF(X91,\"<>X\")+SUMIF(X93,\"<>X\")+SUMIF(X95,\"<>X\")+SUMIF(X97,\"<>X\")+SUMIF(X99,\"<>X\"))","v":"ABSENT"},null,{"$f":"IF(OR(Z89=\"x\",Z91=\"x\",Z93=\"x\",Z95=\"x\",Z97=\"x\",Z99=\"x\"),\"ABSENT\",SUMIF(Z89,\"<>X\")+SUMIF(Z91,\"<>X\")+SUMIF(Z93,\"<>X\")+SUMIF(Z95,\"<>X\")+SUMIF(Z97,\"<>X\")+SUMIF(Z99,\"<>X\"))","v":"ABSENT"},null,{"$f":"IF(OR(AB89=\"x\",AB91=\"x\",AB93=\"x\",AB95=\"x\",AB97=\"x\",AB99=\"x\"),\"ABSENT\",SUMIF(AB89,\"<>X\")+SUMIF(AB91,\"<>X\")+SUMIF(AB93,\"<>X\")+SUMIF(AB95,\"<>X\")+SUMIF(AB97,\"<>X\")+SUMIF(AB99,\"<>X\"))","v":"ABSENT"},null,{"$f":"IF(OR(AD89=\"x\",AD91=\"x\",AD93=\"x\",AD95=\"x\",AD97=\"x\",AD99=\"x\"),\"ABSENT\",SUMIF(AD89,\"<>X\")+SUMIF(AD91,\"<>X\")+SUMIF(AD93,\"<>X\")+SUMIF(AD95,\"<>X\")+SUMIF(AD97,\"<>X\")+SUMIF(AD99,\"<>X\"))","v":"ABSENT"},null,{"$f":"IF(OR(AF89=\"x\",AF91=\"x\",AF93=\"x\",AF95=\"x\",AF97=\"x\",AF99=\"x\"),\"ABSENT\",SUMIF(AF89,\"<>X\")+SUMIF(AF91,\"<>X\")+SUMIF(AF93,\"<>X\")+SUMIF(AF95,\"<>X\")+SUMIF(AF97,\"<>X\")+SUMIF(AF99,\"<>X\"))","v":"ABSENT"},null,{"$f":"IF(OR(AH89=\"x\",AH91=\"x\",AH93=\"x\",AH95=\"x\",AH97=\"x\",AH99=\"x\"),\"ABSENT\",SUMIF(AH89,\"<>X\")+SUMIF(AH91,\"<>X\")+SUMIF(AH93,\"<>X\")+SUMIF(AH95,\"<>X\")+SUMIF(AH97,\"<>X\")+SUMIF(AH99,\"<>X\"))","v":"ABSENT"},null,{"$f":"IF(OR(AJ89=\"x\",AJ91=\"x\",AJ93=\"x\",AJ95=\"x\",AJ97=\"x\",AJ99=\"x\"),\"ABSENT\",SUMIF(AJ89,\"<>X\")+SUMIF(AJ91,\"<>X\")+SUMIF(AJ93,\"<>X\")+SUMIF(AJ95,\"<>X\")+SUMIF(AJ97,\"<>X\")+SUMIF(AJ99,\"<>X\"))","v":"ABSENT"},null,{"$f":"IF(OR(AL89=\"x\",AL91=\"x\",AL93=\"x\",AL95=\"x\",AL97=\"x\",AL99=\"x\"),\"ABSENT\",SUMIF(AL89,\"<>X\")+SUMIF(AL91,\"<>X\")+SUMIF(AL93,\"<>X\")+SUMIF(AL95,\"<>X\")+SUMIF(AL97,\"<>X\")+SUMIF(AL99,\"<>X\"))","v":"ABSENT"},null,{"$f":"IF(OR(AN89=\"x\",AN91=\"x\",AN93=\"x\",AN95=\"x\",AN97=\"x\",AN99=\"x\"),\"ABSENT\",SUMIF(AN89,\"<>X\")+SUMIF(AN91,\"<>X\")+SUMIF(AN93,\"<>X\")+SUMIF(AN95,\"<>X\")+SUMIF(AN97,\"<>X\")+SUMIF(AN99,\"<>X\"))","v":"ABSENT"},null,{"$f":"IF(OR(AP89=\"x\",AP91=\"x\",AP93=\"x\",AP95=\"x\",AP97=\"x\",AP99=\"x\"),\"ABSENT\",SUMIF(AP89,\"<>X\")+SUMIF(AP91,\"<>X\")+SUMIF(AP93,\"<>X\")+SUMIF(AP95,\"<>X\")+SUMIF(AP97,\"<>X\")+SUMIF(AP99,\"<>X\"))","v":"ABSENT"},null,{"$f":"IF(OR(AR89=\"x\",AR91=\"x\",AR93=\"x\",AR95=\"x\",AR97=\"x\",AR99=\"x\"),\"ABSENT\",SUMIF(AR89,\"<>X\")+SUMIF(AR91,\"<>X\")+SUMIF(AR93,\"<>X\")+SUMIF(AR95,\"<>X\")+SUMIF(AR97,\"<>X\")+SUMIF(AR99,\"<>X\"))","v":"ABSENT"},null,{"$f":"IF(OR(AT89=\"x\",AT91=\"x\",AT93=\"x\",AT95=\"x\",AT97=\"x\",AT99=\"x\"),\"ABSENT\",SUMIF(AT89,\"<>X\")+SUMIF(AT91,\"<>X\")+SUMIF(AT93,\"<>X\")+SUMIF(AT95,\"<>X\")+SUMIF(AT97,\"<>X\")+SUMIF(AT99,\"<>X\"))","v":"ABSENT"},null,{"$f":"IF(OR(AV89=\"x\",AV91=\"x\",AV93=\"x\",AV95=\"x\",AV97=\"x\",AV99=\"x\"),\"ABSENT\",SUMIF(AV89,\"<>X\")+SUMIF(AV91,\"<>X\")+SUMIF(AV93,\"<>X\")+SUMIF(AV95,\"<>X\")+SUMIF(AV97,\"<>X\")+SUMIF(AV99,\"<>X\"))","v":"ABSENT"},null,{"$f":"IF(OR(AX89=\"x\",AX91=\"x\",AX93=\"x\",AX95=\"x\",AX97=\"x\",AX99=\"x\"),\"ABSENT\",SUMIF(AX89,\"<>X\")+SUMIF(AX91,\"<>X\")+SUMIF(AX93,\"<>X\")+SUMIF(AX95,\"<>X\")+SUMIF(AX97,\"<>X\")+SUMIF(AX99,\"<>X\"))","v":"ABSENT"},null,{"$f":"IF(OR(AZ89=\"x\",AZ91=\"x\",AZ93=\"x\",AZ95=\"x\",AZ97=\"x\",AZ99=\"x\"),\"ABSENT\",SUMIF(AZ89,\"<>X\")+SUMIF(AZ91,\"<>X\")+SUMIF(AZ93,\"<>X\")+SUMIF(AZ95,\"<>X\")+SUMIF(AZ97,\"<>X\")+SUMIF(AZ99,\"<>X\"))","v":"ABSENT"},null,{"$f":"IF(OR(BB89=\"x\",BB91=\"x\",BB93=\"x\",BB95=\"x\",BB97=\"x\",BB99=\"x\"),\"ABSENT\",SUMIF(BB89,\"<>X\")+SUMIF(BB91,\"<>X\")+SUMIF(BB93,\"<>X\")+SUMIF(BB95,\"<>X\")+SUMIF(BB97,\"<>X\")+SUMIF(BB99,\"<>X\"))","v":"ABSENT"},null,{"$f":"IF(OR(BD89=\"x\",BD91=\"x\",BD93=\"x\",BD95=\"x\",BD97=\"x\",BD99=\"x\"),\"ABSENT\",SUMIF(BD89,\"<>X\")+SUMIF(BD91,\"<>X\")+SUMIF(BD93,\"<>X\")+SUMIF(BD95,\"<>X\")+SUMIF(BD97,\"<>X\")+SUMIF(BD99,\"<>X\"))","v":"ABSENT"},null,{"$f":"IF(OR(BF89=\"x\",BF91=\"x\",BF93=\"x\",BF95=\"x\",BF97=\"x\",BF99=\"x\"),\"ABSENT\",SUMIF(BF89,\"<>X\")+SUMIF(BF91,\"<>X\")+SUMIF(BF93,\"<>X\")+SUMIF(BF95,\"<>X\")+SUMIF(BF97,\"<>X\")+SUMIF(BF99,\"<>X\"))","v":"ABSENT"},null,{"$f":"IF(OR(BH89=\"x\",BH91=\"x\",BH93=\"x\",BH95=\"x\",BH97=\"x\",BH99=\"x\"),\"ABSENT\",SUMIF(BH89,\"<>X\")+SUMIF(BH91,\"<>X\")+SUMIF(BH93,\"<>X\")+SUMIF(BH95,\"<>X\")+SUMIF(BH97,\"<>X\")+SUMIF(BH99,\"<>X\"))","v":"ABSENT"},null,{"$f":"IF(OR(BJ89=\"x\",BJ91=\"x\",BJ93=\"x\",BJ95=\"x\",BJ97=\"x\",BJ99=\"x\"),\"ABSENT\",SUMIF(BJ89,\"<>X\")+SUMIF(BJ91,\"<>X\")+SUMIF(BJ93,\"<>X\")+SUMIF(BJ95,\"<>X\")+SUMIF(BJ97,\"<>X\")+SUMIF(BJ99,\"<>X\"))","v":"ABSENT"},null,{"$f":"IF(OR(BL89=\"x\",BL91=\"x\",BL93=\"x\",BL95=\"x\",BL97=\"x\",BL99=\"x\"),\"ABSENT\",SUMIF(BL89,\"<>X\")+SUMIF(BL91,\"<>X\")+SUMIF(BL93,\"<>X\")+SUMIF(BL95,\"<>X\")+SUMIF(BL97,\"<>X\")+SUMIF(BL99,\"<>X\"))","v":"ABSENT"},null,{"$f":"IF(OR(BN89=\"x\",BN91=\"x\",BN93=\"x\",BN95=\"x\",BN97=\"x\",BN99=\"x\"),\"ABSENT\",SUMIF(BN89,\"<>X\")+SUMIF(BN91,\"<>X\")+SUMIF(BN93,\"<>X\")+SUMIF(BN95,\"<>X\")+SUMIF(BN97,\"<>X\")+SUMIF(BN99,\"<>X\"))","v":"ABSENT"},null,{"$f":"IF(OR(BP89=\"x\",BP91=\"x\",BP93=\"x\",BP95=\"x\",BP97=\"x\",BP99=\"x\"),\"ABSENT\",SUMIF(BP89,\"<>X\")+SUMIF(BP91,\"<>X\")+SUMIF(BP93,\"<>X\")+SUMIF(BP95,\"<>X\")+SUMIF(BP97,\"<>X\")+SUMIF(BP99,\"<>X\"))","v":"ABSENT"},null,{"$f":"IF(OR(BR89=\"x\",BR91=\"x\",BR93=\"x\",BR95=\"x\",BR97=\"x\",BR99=\"x\"),\"ABSENT\",SUMIF(BR89,\"<>X\")+SUMIF(BR91,\"<>X\")+SUMIF(BR93,\"<>X\")+SUMIF(BR95,\"<>X\")+SUMIF(BR97,\"<>X\")+SUMIF(BR99,\"<>X\"))","v":"ABSENT"},null,{"$f":"IF(OR(BT89=\"x\",BT91=\"x\",BT93=\"x\",BT95=\"x\",BT97=\"x\",BT99=\"x\"),\"ABSENT\",SUMIF(BT89,\"<>X\")+SUMIF(BT91,\"<>X\")+SUMIF(BT93,\"<>X\")+SUMIF(BT95,\"<>X\")+SUMIF(BT97,\"<>X\")+SUMIF(BT99,\"<>X\"))","v":"ABSENT"}]
[]
["SEANCE 8","Prendre sa FC efficacement","ABSENT",{"$f":"VLOOKUP(C103,DEBUTSTEP!$AP$4:$AQ$33,2,FALSE)","v":"X"},"ABSENT",{"$f":"VLOOKUP(E103,DEBUTSTEP!$AP$4:$AQ$33,2,FALSE)","v":"X"},"ABSENT",{"$f":"VLOOKUP(G103,DEBUTSTEP!$AP$4:$AQ$33,2,FALSE)","v":"X"},"ABSENT",{"$f":"VLOOKUP(I103,DEBUTSTEP!$AP$4:$AQ$33,2,FALSE)","v":"X"},"ABSENT",{"$f":"VLOOKUP(K103,DEBUTSTEP!$AP$4:$AQ$33,2,FALSE)","v":"X"},"ABSENT",{"$f":"VLOOKUP(M103,DEBUTSTEP!$AP$4:$AQ$33,2,FALSE)","v":"X"},"ABSENT",{"$f":"VLOOKUP(O103,DEBUTSTEP!$AP$4:$AQ$33,2,FALSE)","v":"X"},"ABSENT",{"$f":"VLOOKUP(Q103,DEBUTSTEP!$AP$4:$AQ$33,2,FALSE)","v":"X"},"ABSENT",{"$f":"VLOOKUP(S103,DEBUTSTEP!$AP$4:$AQ$33,2,FALSE)","v":"X"},"ABSENT",{"$f":"VLOOKUP(U103,DEBUTSTEP!$AP$4:$AQ$33,2,FALSE)","v":"X"},"ABSENT",{"$f":"VLOOKUP(W103,DEBUTSTEP!$AP$4:$AQ$33,2,FALSE)","v":"X"},"ABSENT",{"$f":"VLOOKUP(Y103,DEBUTSTEP!$AP$4:$AQ$33,2,FALSE)","v":"X"},"ABSENT",{"$f":"VLOOKUP(AA103,DEBUTSTEP!$AP$4:$AQ$33,2,FALSE)","v":"X"},"ABSENT",{"$f":"VLOOKUP(AC103,DEBUTSTEP!$AP$4:$AQ$33,2,FALSE)","v":"X"},"ABSENT",{"$f":"VLOOKUP(AE103,DEBUTSTEP!$AP$4:$AQ$33,2,FALSE)","v":"X"},"ABSENT",{"$f":"VLOOKUP(AG103,DEBUTSTEP!$AP$4:$AQ$33,2,FALSE)","v":"X"},"ABSENT",{"$f":"VLOOKUP(AI103,DEBUTSTEP!$AP$4:$AQ$33,2,FALSE)","v":"X"},"ABSENT",{"$f":"VLOOKUP(AK103,DEBUTSTEP!$AP$4:$AQ$33,2,FALSE)","v":"X"},"ABSENT",{"$f":"VLOOKUP(AM103,DEBUTSTEP!$AP$4:$AQ$33,2,FALSE)","v":"X"},"ABSENT",{"$f":"VLOOKUP(AO103,DEBUTSTEP!$AP$4:$AQ$33,2,FALSE)","v":"X"},"ABSENT",{"$f":"VLOOKUP(AQ103,DEBUTSTEP!$AP$4:$AQ$33,2,FALSE)","v":"X"},"ABSENT",{"$f":"VLOOKUP(AS103,DEBUTSTEP!$AP$4:$AQ$33,2,FALSE)","v":"X"},"ABSENT",{"$f":"VLOOKUP(AU103,DEBUTSTEP!$AP$4:$AQ$33,2,FALSE)","v":"X"},"ABSENT",{"$f":"VLOOKUP(AW103,DEBUTSTEP!$AP$4:$AQ$33,2,FALSE)","v":"X"},"ABSENT",{"$f":"VLOOKUP(AY103,DEBUTSTEP!$AP$4:$AQ$33,2,FALSE)","v":"X"},"ABSENT",{"$f":"VLOOKUP(BA103,DEBUTSTEP!$AP$4:$AQ$33,2,FALSE)","v":"X"},"ABSENT",{"$f":"VLOOKUP(BC103,DEBUTSTEP!$AP$4:$AQ$33,2,FALSE)","v":"X"},"ABSENT",{"$f":"VLOOKUP(BE103,DEBUTSTEP!$AP$4:$AQ$33,2,FALSE)","v":"X"},"ABSENT",{"$f":"VLOOKUP(BG103,DEBUTSTEP!$AP$4:$AQ$33,2,FALSE)","v":"X"},"ABSENT",{"$f":"VLOOKUP(BI103,DEBUTSTEP!$AP$4:$AQ$33,2,FALSE)","v":"X"},"ABSENT",{"$f":"VLOOKUP(BK103,DEBUTSTEP!$AP$4:$AQ$33,2,FALSE)","v":"X"},"ABSENT",{"$f":"VLOOKUP(BM103,DEBUTSTEP!$AP$4:$AQ$33,2,FALSE)","v":"X"},"ABSENT",{"$f":"VLOOKUP(BO103,DEBUTSTEP!$AP$4:$AQ$33,2,FALSE)","v":"X"},"ABSENT",{"$f":"VLOOKUP(BQ103,DEBUTSTEP!$AP$4:$AQ$33,2,FALSE)","v":"X"},"ABSENT",{"$f":"VLOOKUP(BS103,DEBUTSTEP!$AP$4:$AQ$33,2,FALSE)","v":"X"}]
[]
[null,"S'engager dans le mobile proposé","Aucun",{"$f":"VLOOKUP(C105,DEBUTSTEP!$AR$4:$AS$33,2,FALSE)","v":0},"Aucun",{"$f":"VLOOKUP(E105,DEBUTSTEP!$AR$4:$AS$33,2,FALSE)","v":0},"Aucun",{"$f":"VLOOKUP(G105,DEBUTSTEP!$AR$4:$AS$33,2,FALSE)","v":0},"Aucun",{"$f":"VLOOKUP(I105,DEBUTSTEP!$AR$4:$AS$33,2,FALSE)","v":0},"Aucun",{"$f":"VLOOKUP(K105,DEBUTSTEP!$AR$4:$AS$33,2,FALSE)","v":0},"Aucun",{"$f":"VLOOKUP(M105,DEBUTSTEP!$AR$4:$AS$33,2,FALSE)","v":0},"Aucun",{"$f":"VLOOKUP(O105,DEBUTSTEP!$AR$4:$AS$33,2,FALSE)","v":0},"Aucun",{"$f":"VLOOKUP(Q105,DEBUTSTEP!$AR$4:$AS$33,2,FALSE)","v":0},"Aucun",{"$f":"VLOOKUP(S105,DEBUTSTEP!$AR$4:$AS$33,2,FALSE)","v":0},"Aucun",{"$f":"VLOOKUP(U105,DEBUTSTEP!$AR$4:$AS$33,2,FALSE)","v":0},"Aucun",{"$f":"VLOOKUP(W105,DEBUTSTEP!$AR$4:$AS$33,2,FALSE)","v":0},"Aucun",{"$f":"VLOOKUP(Y105,DEBUTSTEP!$AR$4:$AS$33,2,FALSE)","v":0},"Aucun",{"$f":"VLOOKUP(AA105,DEBUTSTEP!$AR$4:$AS$33,2,FALSE)","v":0},"Aucun",{"$f":"VLOOKUP(AC105,DEBUTSTEP!$AR$4:$AS$33,2,FALSE)","v":0},"Aucun",{"$f":"VLOOKUP(AE105,DEBUTSTEP!$AR$4:$AS$33,2,FALSE)","v":0},"Aucun",{"$f":"VLOOKUP(AG105,DEBUTSTEP!$AR$4:$AS$33,2,FALSE)","v":0},"Aucun",{"$f":"VLOOKUP(AI105,DEBUTSTEP!$AR$4:$AS$33,2,FALSE)","v":0},"Aucun",{"$f":"VLOOKUP(AK105,DEBUTSTEP!$AR$4:$AS$33,2,FALSE)","v":0},"Aucun",{"$f":"VLOOKUP(AM105,DEBUTSTEP!$AR$4:$AS$33,2,FALSE)","v":0},"Aucun",{"$f":"VLOOKUP(AO105,DEBUTSTEP!$AR$4:$AS$33,2,FALSE)","v":0},"Aucun",{"$f":"VLOOKUP(AQ105,DEBUTSTEP!$AR$4:$AS$33,2,FALSE)","v":0},"Aucun",{"$f":"VLOOKUP(AS105,DEBUTSTEP!$AR$4:$AS$33,2,FALSE)","v":0},"Aucun",{"$f":"VLOOKUP(AU105,DEBUTSTEP!$AR$4:$AS$33,2,FALSE)","v":0},"Aucun",{"$f":"VLOOKUP(AW105,DEBUTSTEP!$AR$4:$AS$33,2,FALSE)","v":0},"Aucun",{"$f":"VLOOKUP(AY105,DEBUTSTEP!$AR$4:$AS$33,2,FALSE)","v":0},"Aucun",{"$f":"VLOOKUP(BA105,DEBUTSTEP!$AR$4:$AS$33,2,FALSE)","v":0},"Aucun",{"$f":"VLOOKUP(BC105,DEBUTSTEP!$AR$4:$AS$33,2,FALSE)","v":0},"Aucun",{"$f":"VLOOKUP(BE105,DEBUTSTEP!$AR$4:$AS$33,2,FALSE)","v":0},"Aucun",{"$f":"VLOOKUP(BG105,DEBUTSTEP!$AR$4:$AS$33,2,FALSE)","v":0},"Aucun",{"$f":"VLOOKUP(BI105,DEBUTSTEP!$AR$4:$AS$33,2,FALSE)","v":0},"Aucun",{"$f":"VLOOKUP(BK105,DEBUTSTEP!$AR$4:$AS$33,2,FALSE)","v":0},"Aucun",{"$f":"VLOOKUP(BM105,DEBUTSTEP!$AR$4:$AS$33,2,FALSE)","v":0},"Aucun",{"$f":"VLOOKUP(BO105,DEBUTSTEP!$AR$4:$AS$33,2,FALSE)","v":0},"Aucun",{"$f":"VLOOKUP(BQ105,DEBUTSTEP!$AR$4:$AS$33,2,FALSE)","v":0},"Aucun",{"$f":"VLOOKUP(BS105,DEBUTSTEP!$AR$4:$AS$33,2,FALSE)","v":0}]
[]
[null,"Agir en sécu","Danger",{"$f":"VLOOKUP(C107,DEBUTSTEP!$AT$4:$AU$33,2,FALSE)","v":0},"Danger",{"$f":"VLOOKUP(E107,DEBUTSTEP!$AT$4:$AU$33,2,FALSE)","v":0},"Danger",{"$f":"VLOOKUP(G107,DEBUTSTEP!$AT$4:$AU$33,2,FALSE)","v":0},"Danger",{"$f":"VLOOKUP(I107,DEBUTSTEP!$AT$4:$AU$33,2,FALSE)","v":0},"Danger",{"$f":"VLOOKUP(K107,DEBUTSTEP!$AT$4:$AU$33,2,FALSE)","v":0},"Danger",{"$f":"VLOOKUP(M107,DEBUTSTEP!$AT$4:$AU$33,2,FALSE)","v":0},"Danger",{"$f":"VLOOKUP(O107,DEBUTSTEP!$AT$4:$AU$33,2,FALSE)","v":0},"Danger",{"$f":"VLOOKUP(Q107,DEBUTSTEP!$AT$4:$AU$33,2,FALSE)","v":0},"Danger",{"$f":"VLOOKUP(S107,DEBUTSTEP!$AT$4:$AU$33,2,FALSE)","v":0},"Danger",{"$f":"VLOOKUP(U107,DEBUTSTEP!$AT$4:$AU$33,2,FALSE)","v":0},"Danger",{"$f":"VLOOKUP(W107,DEBUTSTEP!$AT$4:$AU$33,2,FALSE)","v":0},"Danger",{"$f":"VLOOKUP(Y107,DEBUTSTEP!$AT$4:$AU$33,2,FALSE)","v":0},"Danger",{"$f":"VLOOKUP(AA107,DEBUTSTEP!$AT$4:$AU$33,2,FALSE)","v":0},"Danger",{"$f":"VLOOKUP(AC107,DEBUTSTEP!$AT$4:$AU$33,2,FALSE)","v":0},"Danger",{"$f":"VLOOKUP(AE107,DEBUTSTEP!$AT$4:$AU$33,2,FALSE)","v":0},"Danger",{"$f":"VLOOKUP(AG107,DEBUTSTEP!$AT$4:$AU$33,2,FALSE)","v":0},"Danger",{"$f":"VLOOKUP(AI107,DEBUTSTEP!$AT$4:$AU$33,2,FALSE)","v":0},"Danger",{"$f":"VLOOKUP(AK107,DEBUTSTEP!$AT$4:$AU$33,2,FALSE)","v":0},"Danger",{"$f":"VLOOKUP(AM107,DEBUTSTEP!$AT$4:$AU$33,2,FALSE)","v":0},"Danger",{"$f":"VLOOKUP(AO107,DEBUTSTEP!$AT$4:$AU$33,2,FALSE)","v":0},"Danger",{"$f":"VLOOKUP(AQ107,DEBUTSTEP!$AT$4:$AU$33,2,FALSE)","v":0},"Danger",{"$f":"VLOOKUP(AS107,DEBUTSTEP!$AT$4:$AU$33,2,FALSE)","v":0},"Danger",{"$f":"VLOOKUP(AU107,DEBUTSTEP!$AT$4:$AU$33,2,FALSE)","v":0},"Danger",{"$f":"VLOOKUP(AW107,DEBUTSTEP!$AT$4:$AU$33,2,FALSE)","v":0},"Danger",{"$f":"VLOOKUP(AY107,DEBUTSTEP!$AT$4:$AU$33,2,FALSE)","v":0},"Danger",{"$f":"VLOOKUP(BA107,DEBUTSTEP!$AT$4:$AU$33,2,FALSE)","v":0},"Danger",{"$f":"VLOOKUP(BC107,DEBUTSTEP!$AT$4:$AU$33,2,FALSE)","v":0},"Danger",{"$f":"VLOOKUP(BE107,DEBUTSTEP!$AT$4:$AU$33,2,FALSE)","v":0},"Danger",{"$f":"VLOOKUP(BG107,DEBUTSTEP!$AT$4:$AU$33,2,FALSE)","v":0},"Danger",{"$f":"VLOOKUP(BI107,DEBUTSTEP!$AT$4:$AU$33,2,FALSE)","v":0},"Danger",{"$f":"VLOOKUP(BK107,DEBUTSTEP!$AT$4:$AU$33,2,FALSE)","v":0},"Danger",{"$f":"VLOOKUP(BM107,DEBUTSTEP!$AT$4:$AU$33,2,FALSE)","v":0},"Danger",{"$f":"VLOOKUP(BO107,DEBUTSTEP!$AT$4:$AU$33,2,FALSE)","v":0},"Danger",{"$f":"VLOOKUP(BQ107,DEBUTSTEP!$AT$4:$AU$33,2,FALSE)","v":0},"Danger",{"$f":"VLOOKUP(BS107,DEBUTSTEP!$AT$4:$AU$33,2,FALSE)","v":0}]
[]
[null,"Respecter l'entrainement prévu","Pas du tout",{"$f":"VLOOKUP(C109,DEBUTSTEP!$AV$4:$AW$33,2,FALSE)","v":0},"Pas du tout",{"$f":"VLOOKUP(E109,DEBUTSTEP!$AV$4:$AW$33,2,FALSE)","v":0},"Pas du tout",{"$f":"VLOOKUP(G109,DEBUTSTEP!$AV$4:$AW$33,2,FALSE)","v":0},"Pas du tout",{"$f":"VLOOKUP(I109,DEBUTSTEP!$AV$4:$AW$33,2,FALSE)","v":0},"Pas du tout",{"$f":"VLOOKUP(K109,DEBUTSTEP!$AV$4:$AW$33,2,FALSE)","v":0},"Pas du tout",{"$f":"VLOOKUP(M109,DEBUTSTEP!$AV$4:$AW$33,2,FALSE)","v":0},"Pas du tout",{"$f":"VLOOKUP(O109,DEBUTSTEP!$AV$4:$AW$33,2,FALSE)","v":0},"Pas du tout",{"$f":"VLOOKUP(Q109,DEBUTSTEP!$AV$4:$AW$33,2,FALSE)","v":0},"Pas du tout",{"$f":"VLOOKUP(S109,DEBUTSTEP!$AV$4:$AW$33,2,FALSE)","v":0},"Pas du tout",{"$f":"VLOOKUP(U109,DEBUTSTEP!$AV$4:$AW$33,2,FALSE)","v":0},"Pas du tout",{"$f":"VLOOKUP(W109,DEBUTSTEP!$AV$4:$AW$33,2,FALSE)","v":0},"Pas du tout",{"$f":"VLOOKUP(Y109,DEBUTSTEP!$AV$4:$AW$33,2,FALSE)","v":0},"Pas du tout",{"$f":"VLOOKUP(AA109,DEBUTSTEP!$AV$4:$AW$33,2,FALSE)","v":0},"Pas du tout",{"$f":"VLOOKUP(AC109,DEBUTSTEP!$AV$4:$AW$33,2,FALSE)","v":0},"Pas du tout",{"$f":"VLOOKUP(AE109,DEBUTSTEP!$AV$4:$AW$33,2,FALSE)","v":0},"Pas du tout",{"$f":"VLOOKUP(AG109,DEBUTSTEP!$AV$4:$AW$33,2,FALSE)","v":0},"Pas du tout",{"$f":"VLOOKUP(AI109,DEBUTSTEP!$AV$4:$AW$33,2,FALSE)","v":0},"Pas du tout",{"$f":"VLOOKUP(AK109,DEBUTSTEP!$AV$4:$AW$33,2,FALSE)","v":0},"Pas du tout",{"$f":"VLOOKUP(AM109,DEBUTSTEP!$AV$4:$AW$33,2,FALSE)","v":0},"Pas du tout",{"$f":"VLOOKUP(AO109,DEBUTSTEP!$AV$4:$AW$33,2,FALSE)","v":0},"Pas du tout",{"$f":"VLOOKUP(AQ109,DEBUTSTEP!$AV$4:$AW$33,2,FALSE)","v":0},"Pas du tout",{"$f":"VLOOKUP(AS109,DEBUTSTEP!$AV$4:$AW$33,2,FALSE)","v":0},"Pas du tout",{"$f":"VLOOKUP(AU109,DEBUTSTEP!$AV$4:$AW$33,2,FALSE)","v":0},"Pas du tout",{"$f":"VLOOKUP(AW109,DEBUTSTEP!$AV$4:$AW$33,2,FALSE)","v":0},"Pas du tout",{"$f":"VLOOKUP(AY109,DEBUTSTEP!$AV$4:$AW$33,2,FALSE)","v":0},"Pas du tout",{"$f":"VLOOKUP(BA109,DEBUTSTEP!$AV$4:$AW$33,2,FALSE)","v":0},"Pas du tout",{"$f":"VLOOKUP(BC109,DEBUTSTEP!$AV$4:$AW$33,2,FALSE)","v":0},"Pas du tout",{"$f":"VLOOKUP(BE109,DEBUTSTEP!$AV$4:$AW$33,2,FALSE)","v":0},"Pas du tout",{"$f":"VLOOKUP(BG109,DEBUTSTEP!$AV$4:$AW$33,2,FALSE)","v":0},"Pas du tout",{"$f":"VLOOKUP(BI109,DEBUTSTEP!$AV$4:$AW$33,2,FALSE)","v":0},"Pas du tout",{"$f":"VLOOKUP(BK109,DEBUTSTEP!$AV$4:$AW$33,2,FALSE)","v":0},"Pas du tout",{"$f":"VLOOKUP(BM109,DEBUTSTEP!$AV$4:$AW$33,2,FALSE)","v":0},"Pas du tout",{"$f":"VLOOKUP(BO109,DEBUTSTEP!$AV$4:$AW$33,2,FALSE)","v":0},"Pas du tout",{"$f":"VLOOKUP(BQ109,DEBUTSTEP!$AV$4:$AW$33,2,FALSE)","v":0},"Pas du tout",{"$f":"VLOOKUP(BS109,DEBUTSTEP!$AV$4:$AW$33,2,FALSE)","v":0}]
[]
[null,"Mémoriser les blocs","Aucune mémorisation",{"$f":"VLOOKUP(C111,DEBUTSTEP!$AX$4:$AY$33,2,FALSE)","v":0},"Aucune mémorisation",{"$f":"VLOOKUP(E111,DEBUTSTEP!$AX$4:$AY$33,2,FALSE)","v":0},"Aucune mémorisation",{"$f":"VLOOKUP(G111,DEBUTSTEP!$AX$4:$AY$33,2,FALSE)","v":0},"Aucune mémorisation",{"$f":"VLOOKUP(I111,DEBUTSTEP!$AX$4:$AY$33,2,FALSE)","v":0},"Aucune mémorisation",{"$f":"VLOOKUP(K111,DEBUTSTEP!$AX$4:$AY$33,2,FALSE)","v":0},"Aucune mémorisation",{"$f":"VLOOKUP(M111,DEBUTSTEP!$AX$4:$AY$33,2,FALSE)","v":0},"Aucune mémorisation",{"$f":"VLOOKUP(O111,DEBUTSTEP!$AX$4:$AY$33,2,FALSE)","v":0},"Aucune mémorisation",{"$f":"VLOOKUP(Q111,DEBUTSTEP!$AX$4:$AY$33,2,FALSE)","v":0},"Aucune mémorisation",{"$f":"VLOOKUP(S111,DEBUTSTEP!$AX$4:$AY$33,2,FALSE)","v":0},"Aucune mémorisation",{"$f":"VLOOKUP(U111,DEBUTSTEP!$AX$4:$AY$33,2,FALSE)","v":0},"Aucune mémorisation",{"$f":"VLOOKUP(W111,DEBUTSTEP!$AX$4:$AY$33,2,FALSE)","v":0},"Aucune mémorisation",{"$f":"VLOOKUP(Y111,DEBUTSTEP!$AX$4:$AY$33,2,FALSE)","v":0},"Aucune mémorisation",{"$f":"VLOOKUP(AA111,DEBUTSTEP!$AX$4:$AY$33,2,FALSE)","v":0},"Aucune mémorisation",{"$f":"VLOOKUP(AC111,DEBUTSTEP!$AX$4:$AY$33,2,FALSE)","v":0},"Aucune mémorisation",{"$f":"VLOOKUP(AE111,DEBUTSTEP!$AX$4:$AY$33,2,FALSE)","v":0},"Aucune mémorisation",{"$f":"VLOOKUP(AG111,DEBUTSTEP!$AX$4:$AY$33,2,FALSE)","v":0},"Aucune mémorisation",{"$f":"VLOOKUP(AI111,DEBUTSTEP!$AX$4:$AY$33,2,FALSE)","v":0},"Aucune mémorisation",{"$f":"VLOOKUP(AK111,DEBUTSTEP!$AX$4:$AY$33,2,FALSE)","v":0},"Aucune mémorisation",{"$f":"VLOOKUP(AM111,DEBUTSTEP!$AX$4:$AY$33,2,FALSE)","v":0},"Aucune mémorisation",{"$f":"VLOOKUP(AO111,DEBUTSTEP!$AX$4:$AY$33,2,FALSE)","v":0},"Aucune mémorisation",{"$f":"VLOOKUP(AQ111,DEBUTSTEP!$AX$4:$AY$33,2,FALSE)","v":0},"Aucune mémorisation",{"$f":"VLOOKUP(AS111,DEBUTSTEP!$AX$4:$AY$33,2,FALSE)","v":0},"Aucune mémorisation",{"$f":"VLOOKUP(AU111,DEBUTSTEP!$AX$4:$AY$33,2,FALSE)","v":0},"Aucune mémorisation",{"$f":"VLOOKUP(AW111,DEBUTSTEP!$AX$4:$AY$33,2,FALSE)","v":0},"Aucune mémorisation",{"$f":"VLOOKUP(AY111,DEBUTSTEP!$AX$4:$AY$33,2,FALSE)","v":0},"Aucune mémorisation",{"$f":"VLOOKUP(BA111,DEBUTSTEP!$AX$4:$AY$33,2,FALSE)","v":0},"Aucune mémorisation",{"$f":"VLOOKUP(BC111,DEBUTSTEP!$AX$4:$AY$33,2,FALSE)","v":0},"Aucune mémorisation",{"$f":"VLOOKUP(BE111,DEBUTSTEP!$AX$4:$AY$33,2,FALSE)","v":0},"Aucune mémorisation",{"$f":"VLOOKUP(BG111,DEBUTSTEP!$AX$4:$AY$33,2,FALSE)","v":0},"Aucune mémorisation",{"$f":"VLOOKUP(BI111,DEBUTSTEP!$AX$4:$AY$33,2,FALSE)","v":0},"Aucune mémorisation",{"$f":"VLOOKUP(BK111,DEBUTSTEP!$AX$4:$AY$33,2,FALSE)","v":0},"Aucune mémorisation",{"$f":"VLOOKUP(BM111,DEBUTSTEP!$AX$4:$AY$33,2,FALSE)","v":0},"Aucune mémorisation",{"$f":"VLOOKUP(BO111,DEBUTSTEP!$AX$4:$AY$33,2,FALSE)","v":0},"Aucune mémorisation",{"$f":"VLOOKUP(BQ111,DEBUTSTEP!$AX$4:$AY$33,2,FALSE)","v":0},"Aucune mémorisation",{"$f":"VLOOKUP(BS111,DEBUTSTEP!$AX$4:$AY$33,2,FALSE)","v":0}]
[]
[null,"Analyser sa prestation","Imprécise",{"$f":"VLOOKUP(C113,DEBUTSTEP!$AZ$4:$BA$33,2,FALSE)","v":1},"Imprécise",{"$f":"VLOOKUP(E113,DEBUTSTEP!$AZ$4:$BA$33,2,FALSE)","v":1},"Imprécise",{"$f":"VLOOKUP(G113,DEBUTSTEP!$AZ$4:$BA$33,2,FALSE)","v":1},"Imprécise",{"$f":"VLOOKUP(I113,DEBUTSTEP!$AZ$4:$BA$33,2,FALSE)","v":1},"Imprécise",{"$f":"VLOOKUP(K113,DEBUTSTEP!$AZ$4:$BA$33,2,FALSE)","v":1},"Imprécise",{"$f":"VLOOKUP(M113,DEBUTSTEP!$AZ$4:$BA$33,2,FALSE)","v":1},"Imprécise",{"$f":"VLOOKUP(O113,DEBUTSTEP!$AZ$4:$BA$33,2,FALSE)","v":1},"Imprécise",{"$f":"VLOOKUP(Q113,DEBUTSTEP!$AZ$4:$BA$33,2,FALSE)","v":1},"Imprécise",{"$f":"VLOOKUP(S113,DEBUTSTEP!$AZ$4:$BA$33,2,FALSE)","v":1},"Imprécise",{"$f":"VLOOKUP(U113,DEBUTSTEP!$AZ$4:$BA$33,2,FALSE)","v":1},"Imprécise",{"$f":"VLOOKUP(W113,DEBUTSTEP!$AZ$4:$BA$33,2,FALSE)","v":1},"Imprécise",{"$f":"VLOOKUP(Y113,DEBUTSTEP!$AZ$4:$BA$33,2,FALSE)","v":1},"Imprécise",{"$f":"VLOOKUP(AA113,DEBUTSTEP!$AZ$4:$BA$33,2,FALSE)","v":1},"Imprécise",{"$f":"VLOOKUP(AC113,DEBUTSTEP!$AZ$4:$BA$33,2,FALSE)","v":1},"Imprécise",{"$f":"VLOOKUP(AE113,DEBUTSTEP!$AZ$4:$BA$33,2,FALSE)","v":1},"Imprécise",{"$f":"VLOOKUP(AG113,DEBUTSTEP!$AZ$4:$BA$33,2,FALSE)","v":1},"Imprécise",{"$f":"VLOOKUP(AI113,DEBUTSTEP!$AZ$4:$BA$33,2,FALSE)","v":1},"Imprécise",{"$f":"VLOOKUP(AK113,DEBUTSTEP!$AZ$4:$BA$33,2,FALSE)","v":1},"Imprécise",{"$f":"VLOOKUP(AM113,DEBUTSTEP!$AZ$4:$BA$33,2,FALSE)","v":1},"Imprécise",{"$f":"VLOOKUP(AO113,DEBUTSTEP!$AZ$4:$BA$33,2,FALSE)","v":1},"Imprécise",{"$f":"VLOOKUP(AQ113,DEBUTSTEP!$AZ$4:$BA$33,2,FALSE)","v":1},"Imprécise",{"$f":"VLOOKUP(AS113,DEBUTSTEP!$AZ$4:$BA$33,2,FALSE)","v":1},"Imprécise",{"$f":"VLOOKUP(AU113,DEBUTSTEP!$AZ$4:$BA$33,2,FALSE)","v":1},"Imprécise",{"$f":"VLOOKUP(AW113,DEBUTSTEP!$AZ$4:$BA$33,2,FALSE)","v":1},"Imprécise",{"$f":"VLOOKUP(AY113,DEBUTSTEP!$AZ$4:$BA$33,2,FALSE)","v":1},"Imprécise",{"$f":"VLOOKUP(BA113,DEBUTSTEP!$AZ$4:$BA$33,2,FALSE)","v":1},"Imprécise",{"$f":"VLOOKUP(BC113,DEBUTSTEP!$AZ$4:$BA$33,2,FALSE)","v":1},"Imprécise",{"$f":"VLOOKUP(BE113,DEBUTSTEP!$AZ$4:$BA$33,2,FALSE)","v":1},"Imprécise",{"$f":"VLOOKUP(BG113,DEBUTSTEP!$AZ$4:$BA$33,2,FALSE)","v":1},"Imprécise",{"$f":"VLOOKUP(BI113,DEBUTSTEP!$AZ$4:$BA$33,2,FALSE)","v":1},"Imprécise",{"$f":"VLOOKUP(BK113,DEBUTSTEP!$AZ$4:$BA$33,2,FALSE)","v":1},"Imprécise",{"$f":"VLOOKUP(BM113,DEBUTSTEP!$AZ$4:$BA$33,2,FALSE)","v":1},"Imprécise",{"$f":"VLOOKUP(BO113,DEBUTSTEP!$AZ$4:$BA$33,2,FALSE)","v":1},"Imprécise",{"$f":"VLOOKUP(BQ113,DEBUTSTEP!$AZ$4:$BA$33,2,FALSE)","v":1},"Imprécise",{"$f":"VLOOKUP(BS113,DEBUTSTEP!$AZ$4:$BA$33,2,FALSE)","v":1}]
[]
[null,"NOTE",{"$f":"IF(OR(D103=\"x\",D105=\"x\",D107=\"x\",D109=\"x\",D111=\"x\",D113=\"x\"),\"ABSENT\",SUMIF(D103,\"<>X\")+SUMIF(D105,\"<>X\")+SUMIF(D107,\"<>X\")+SUMIF(D109,\"<>X\")+SUMIF(D111,\"<>X\")+SUMIF(D113,\"<>X\"))","v":"ABSENT"},null,{"$f":"IF(OR(F103=\"x\",F105=\"x\",F107=\"x\",F109=\"x\",F111=\"x\",F113=\"x\"),\"ABSENT\",SUMIF(F103,\"<>X\")+SUMIF(F105,\"<>X\")+SUMIF(F107,\"<>X\")+SUMIF(F109,\"<>X\")+SUMIF(F111,\"<>X\")+SUMIF(F113,\"<>X\"))","v":"ABSENT"},null,{"$f":"IF(OR(H103=\"x\",H105=\"x\",H107=\"x\",H109=\"x\",H111=\"x\",H113=\"x\"),\"ABSENT\",SUMIF(H103,\"<>X\")+SUMIF(H105,\"<>X\")+SUMIF(H107,\"<>X\")+SUMIF(H109,\"<>X\")+SUMIF(H111,\"<>X\")+SUMIF(H113,\"<>X\"))","v":"ABSENT"},null,{"$f":"IF(OR(J103=\"x\",J105=\"x\",J107=\"x\",J109=\"x\",J111=\"x\",J113=\"x\"),\"ABSENT\",SUMIF(J103,\"<>X\")+SUMIF(J105,\"<>X\")+SUMIF(J107,\"<>X\")+SUMIF(J109,\"<>X\")+SUMIF(J111,\"<>X\")+SUMIF(J113,\"<>X\"))","v":"ABSENT"},null,{"$f":"IF(OR(L103=\"x\",L105=\"x\",L107=\"x\",L109=\"x\",L111=\"x\",L113=\"x\"),\"ABSENT\",SUMIF(L103,\"<>X\")+SUMIF(L105,\"<>X\")+SUMIF(L107,\"<>X\")+SUMIF(L109,\"<>X\")+SUMIF(L111,\"<>X\")+SUMIF(L113,\"<>X\"))","v":"ABSENT"},null,{"$f":"IF(OR(N103=\"x\",N105=\"x\",N107=\"x\",N109=\"x\",N111=\"x\",N113=\"x\"),\"ABSENT\",SUMIF(N103,\"<>X\")+SUMIF(N105,\"<>X\")+SUMIF(N107,\"<>X\")+SUMIF(N109,\"<>X\")+SUMIF(N111,\"<>X\")+SUMIF(N113,\"<>X\"))","v":"ABSENT"},null,{"$f":"IF(OR(P103=\"x\",P105=\"x\",P107=\"x\",P109=\"x\",P111=\"x\",P113=\"x\"),\"ABSENT\",SUMIF(P103,\"<>X\")+SUMIF(P105,\"<>X\")+SUMIF(P107,\"<>X\")+SUMIF(P109,\"<>X\")+SUMIF(P111,\"<>X\")+SUMIF(P113,\"<>X\"))","v":"ABSENT"},null,{"$f":"IF(OR(R103=\"x\",R105=\"x\",R107=\"x\",R109=\"x\",R111=\"x\",R113=\"x\"),\"ABSENT\",SUMIF(R103,\"<>X\")+SUMIF(R105,\"<>X\")+SUMIF(R107,\"<>X\")+SUMIF(R109,\"<>X\")+SUMIF(R111,\"<>X\")+SUMIF(R113,\"<>X\"))","v":"ABSENT"},null,{"$f":"IF(OR(T103=\"x\",T105=\"x\",T107=\"x\",T109=\"x\",T111=\"x\",T113=\"x\"),\"ABSENT\",SUMIF(T103,\"<>X\")+SUMIF(T105,\"<>X\")+SUMIF(T107,\"<>X\")+SUMIF(T109,\"<>X\")+SUMIF(T111,\"<>X\")+SUMIF(T113,\"<>X\"))","v":"ABSENT"},null,{"$f":"IF(OR(V103=\"x\",V105=\"x\",V107=\"x\",V109=\"x\",V111=\"x\",V113=\"x\"),\"ABSENT\",SUMIF(V103,\"<>X\")+SUMIF(V105,\"<>X\")+SUMIF(V107,\"<>X\")+SUMIF(V109,\"<>X\")+SUMIF(V111,\"<>X\")+SUMIF(V113,\"<>X\"))","v":"ABSENT"},null,{"$f":"IF(OR(X103=\"x\",X105=\"x\",X107=\"x\",X109=\"x\",X111=\"x\",X113=\"x\"),\"ABSENT\",SUMIF(X103,\"<>X\")+SUMIF(X105,\"<>X\")+SUMIF(X107,\"<>X\")+SUMIF(X109,\"<>X\")+SUMIF(X111,\"<>X\")+SUMIF(X113,\"<>X\"))","v":"ABSENT"},null,{"$f":"IF(OR(Z103=\"x\",Z105=\"x\",Z107=\"x\",Z109=\"x\",Z111=\"x\",Z113=\"x\"),\"ABSENT\",SUMIF(Z103,\"<>X\")+SUMIF(Z105,\"<>X\")+SUMIF(Z107,\"<>X\")+SUMIF(Z109,\"<>X\")+SUMIF(Z111,\"<>X\")+SUMIF(Z113,\"<>X\"))","v":"ABSENT"},null,{"$f":"IF(OR(AB103=\"x\",AB105=\"x\",AB107=\"x\",AB109=\"x\",AB111=\"x\",AB113=\"x\"),\"ABSENT\",SUMIF(AB103,\"<>X\")+SUMIF(AB105,\"<>X\")+SUMIF(AB107,\"<>X\")+SUMIF(AB109,\"<>X\")+SUMIF(AB111,\"<>X\")+SUMIF(AB113,\"<>X\"))","v":"ABSENT"},null,{"$f":"IF(OR(AD103=\"x\",AD105=\"x\",AD107=\"x\",AD109=\"x\",AD111=\"x\",AD113=\"x\"),\"ABSENT\",SUMIF(AD103,\"<>X\")+SUMIF(AD105,\"<>X\")+SUMIF(AD107,\"<>X\")+SUMIF(AD109,\"<>X\")+SUMIF(AD111,\"<>X\")+SUMIF(AD113,\"<>X\"))","v":"ABSENT"},null,{"$f":"IF(OR(AF103=\"x\",AF105=\"x\",AF107=\"x\",AF109=\"x\",AF111=\"x\",AF113=\"x\"),\"ABSENT\",SUMIF(AF103,\"<>X\")+SUMIF(AF105,\"<>X\")+SUMIF(AF107,\"<>X\")+SUMIF(AF109,\"<>X\")+SUMIF(AF111,\"<>X\")+SUMIF(AF113,\"<>X\"))","v":"ABSENT"},null,{"$f":"IF(OR(AH103=\"x\",AH105=\"x\",AH107=\"x\",AH109=\"x\",AH111=\"x\",AH113=\"x\"),\"ABSENT\",SUMIF(AH103,\"<>X\")+SUMIF(AH105,\"<>X\")+SUMIF(AH107,\"<>X\")+SUMIF(AH109,\"<>X\")+SUMIF(AH111,\"<>X\")+SUMIF(AH113,\"<>X\"))","v":"ABSENT"},null,{"$f":"IF(OR(AJ103=\"x\",AJ105=\"x\",AJ107=\"x\",AJ109=\"x\",AJ111=\"x\",AJ113=\"x\"),\"ABSENT\",SUMIF(AJ103,\"<>X\")+SUMIF(AJ105,\"<>X\")+SUMIF(AJ107,\"<>X\")+SUMIF(AJ109,\"<>X\")+SUMIF(AJ111,\"<>X\")+SUMIF(AJ113,\"<>X\"))","v":"ABSENT"},null,{"$f":"IF(OR(AL103=\"x\",AL105=\"x\",AL107=\"x\",AL109=\"x\",AL111=\"x\",AL113=\"x\"),\"ABSENT\",SUMIF(AL103,\"<>X\")+SUMIF(AL105,\"<>X\")+SUMIF(AL107,\"<>X\")+SUMIF(AL109,\"<>X\")+SUMIF(AL111,\"<>X\")+SUMIF(AL113,\"<>X\"))","v":"ABSENT"},null,{"$f":"IF(OR(AN103=\"x\",AN105=\"x\",AN107=\"x\",AN109=\"x\",AN111=\"x\",AN113=\"x\"),\"ABSENT\",SUMIF(AN103,\"<>X\")+SUMIF(AN105,\"<>X\")+SUMIF(AN107,\"<>X\")+SUMIF(AN109,\"<>X\")+SUMIF(AN111,\"<>X\")+SUMIF(AN113,\"<>X\"))","v":"ABSENT"},null,{"$f":"IF(OR(AP103=\"x\",AP105=\"x\",AP107=\"x\",AP109=\"x\",AP111=\"x\",AP113=\"x\"),\"ABSENT\",SUMIF(AP103,\"<>X\")+SUMIF(AP105,\"<>X\")+SUMIF(AP107,\"<>X\")+SUMIF(AP109,\"<>X\")+SUMIF(AP111,\"<>X\")+SUMIF(AP113,\"<>X\"))","v":"ABSENT"},null,{"$f":"IF(OR(AR103=\"x\",AR105=\"x\",AR107=\"x\",AR109=\"x\",AR111=\"x\",AR113=\"x\"),\"ABSENT\",SUMIF(AR103,\"<>X\")+SUMIF(AR105,\"<>X\")+SUMIF(AR107,\"<>X\")+SUMIF(AR109,\"<>X\")+SUMIF(AR111,\"<>X\")+SUMIF(AR113,\"<>X\"))","v":"ABSENT"},null,{"$f":"IF(OR(AT103=\"x\",AT105=\"x\",AT107=\"x\",AT109=\"x\",AT111=\"x\",AT113=\"x\"),\"ABSENT\",SUMIF(AT103,\"<>X\")+SUMIF(AT105,\"<>X\")+SUMIF(AT107,\"<>X\")+SUMIF(AT109,\"<>X\")+SUMIF(AT111,\"<>X\")+SUMIF(AT113,\"<>X\"))","v":"ABSENT"},null,{"$f":"IF(OR(AV103=\"x\",AV105=\"x\",AV107=\"x\",AV109=\"x\",AV111=\"x\",AV113=\"x\"),\"ABSENT\",SUMIF(AV103,\"<>X\")+SUMIF(AV105,\"<>X\")+SUMIF(AV107,\"<>X\")+SUMIF(AV109,\"<>X\")+SUMIF(AV111,\"<>X\")+SUMIF(AV113,\"<>X\"))","v":"ABSENT"},null,{"$f":"IF(OR(AX103=\"x\",AX105=\"x\",AX107=\"x\",AX109=\"x\",AX111=\"x\",AX113=\"x\"),\"ABSENT\",SUMIF(AX103,\"<>X\")+SUMIF(AX105,\"<>X\")+SUMIF(AX107,\"<>X\")+SUMIF(AX109,\"<>X\")+SUMIF(AX111,\"<>X\")+SUMIF(AX113,\"<>X\"))","v":"ABSENT"},null,{"$f":"IF(OR(AZ103=\"x\",AZ105=\"x\",AZ107=\"x\",AZ109=\"x\",AZ111=\"x\",AZ113=\"x\"),\"ABSENT\",SUMIF(AZ103,\"<>X\")+SUMIF(AZ105,\"<>X\")+SUMIF(AZ107,\"<>X\")+SUMIF(AZ109,\"<>X\")+SUMIF(AZ111,\"<>X\")+SUMIF(AZ113,\"<>X\"))","v":"ABSENT"},null,{"$f":"IF(OR(BB103=\"x\",BB105=\"x\",BB107=\"x\",BB109=\"x\",BB111=\"x\",BB113=\"x\"),\"ABSENT\",SUMIF(BB103,\"<>X\")+SUMIF(BB105,\"<>X\")+SUMIF(BB107,\"<>X\")+SUMIF(BB109,\"<>X\")+SUMIF(BB111,\"<>X\")+SUMIF(BB113,\"<>X\"))","v":"ABSENT"},null,{"$f":"IF(OR(BD103=\"x\",BD105=\"x\",BD107=\"x\",BD109=\"x\",BD111=\"x\",BD113=\"x\"),\"ABSENT\",SUMIF(BD103,\"<>X\")+SUMIF(BD105,\"<>X\")+SUMIF(BD107,\"<>X\")+SUMIF(BD109,\"<>X\")+SUMIF(BD111,\"<>X\")+SUMIF(BD113,\"<>X\"))","v":"ABSENT"},null,{"$f":"IF(OR(BF103=\"x\",BF105=\"x\",BF107=\"x\",BF109=\"x\",BF111=\"x\",BF113=\"x\"),\"ABSENT\",SUMIF(BF103,\"<>X\")+SUMIF(BF105,\"<>X\")+SUMIF(BF107,\"<>X\")+SUMIF(BF109,\"<>X\")+SUMIF(BF111,\"<>X\")+SUMIF(BF113,\"<>X\"))","v":"ABSENT"},null,{"$f":"IF(OR(BH103=\"x\",BH105=\"x\",BH107=\"x\",BH109=\"x\",BH111=\"x\",BH113=\"x\"),\"ABSENT\",SUMIF(BH103,\"<>X\")+SUMIF(BH105,\"<>X\")+SUMIF(BH107,\"<>X\")+SUMIF(BH109,\"<>X\")+SUMIF(BH111,\"<>X\")+SUMIF(BH113,\"<>X\"))","v":"ABSENT"},null,{"$f":"IF(OR(BJ103=\"x\",BJ105=\"x\",BJ107=\"x\",BJ109=\"x\",BJ111=\"x\",BJ113=\"x\"),\"ABSENT\",SUMIF(BJ103,\"<>X\")+SUMIF(BJ105,\"<>X\")+SUMIF(BJ107,\"<>X\")+SUMIF(BJ109,\"<>X\")+SUMIF(BJ111,\"<>X\")+SUMIF(BJ113,\"<>X\"))","v":"ABSENT"},null,{"$f":"IF(OR(BL103=\"x\",BL105=\"x\",BL107=\"x\",BL109=\"x\",BL111=\"x\",BL113=\"x\"),\"ABSENT\",SUMIF(BL103,\"<>X\")+SUMIF(BL105,\"<>X\")+SUMIF(BL107,\"<>X\")+SUMIF(BL109,\"<>X\")+SUMIF(BL111,\"<>X\")+SUMIF(BL113,\"<>X\"))","v":"ABSENT"},null,{"$f":"IF(OR(BN103=\"x\",BN105=\"x\",BN107=\"x\",BN109=\"x\",BN111=\"x\",BN113=\"x\"),\"ABSENT\",SUMIF(BN103,\"<>X\")+SUMIF(BN105,\"<>X\")+SUMIF(BN107,\"<>X\")+SUMIF(BN109,\"<>X\")+SUMIF(BN111,\"<>X\")+SUMIF(BN113,\"<>X\"))","v":"ABSENT"},null,{"$f":"IF(OR(BP103=\"x\",BP105=\"x\",BP107=\"x\",BP109=\"x\",BP111=\"x\",BP113=\"x\"),\"ABSENT\",SUMIF(BP103,\"<>X\")+SUMIF(BP105,\"<>X\")+SUMIF(BP107,\"<>X\")+SUMIF(BP109,\"<>X\")+SUMIF(BP111,\"<>X\")+SUMIF(BP113,\"<>X\"))","v":"ABSENT"},null,{"$f":"IF(OR(BR103=\"x\",BR105=\"x\",BR107=\"x\",BR109=\"x\",BR111=\"x\",BR113=\"x\"),\"ABSENT\",SUMIF(BR103,\"<>X\")+SUMIF(BR105,\"<>X\")+SUMIF(BR107,\"<>X\")+SUMIF(BR109,\"<>X\")+SUMIF(BR111,\"<>X\")+SUMIF(BR113,\"<>X\"))","v":"ABSENT"},null,{"$f":"IF(OR(BT103=\"x\",BT105=\"x\",BT107=\"x\",BT109=\"x\",BT111=\"x\",BT113=\"x\"),\"ABSENT\",SUMIF(BT103,\"<>X\")+SUMIF(BT105,\"<>X\")+SUMIF(BT107,\"<>X\")+SUMIF(BT109,\"<>X\")+SUMIF(BT111,\"<>X\")+SUMIF(BT113,\"<>X\"))","v":"ABSENT"}]
[]
["SEANCE 9","Prendre sa FC efficacement","ABSENT",{"$f":"VLOOKUP(C117,DEBUTSTEP!$AP$4:$AQ$33,2,FALSE)","v":"X"},"ABSENT",{"$f":"VLOOKUP(E117,DEBUTSTEP!$AP$4:$AQ$33,2,FALSE)","v":"X"},"ABSENT",{"$f":"VLOOKUP(G117,DEBUTSTEP!$AP$4:$AQ$33,2,FALSE)","v":"X"},"ABSENT",{"$f":"VLOOKUP(I117,DEBUTSTEP!$AP$4:$AQ$33,2,FALSE)","v":"X"},"ABSENT",{"$f":"VLOOKUP(K117,DEBUTSTEP!$AP$4:$AQ$33,2,FALSE)","v":"X"},"ABSENT",{"$f":"VLOOKUP(M117,DEBUTSTEP!$AP$4:$AQ$33,2,FALSE)","v":"X"},"ABSENT",{"$f":"VLOOKUP(O117,DEBUTSTEP!$AP$4:$AQ$33,2,FALSE)","v":"X"},"ABSENT",{"$f":"VLOOKUP(Q117,DEBUTSTEP!$AP$4:$AQ$33,2,FALSE)","v":"X"},"ABSENT",{"$f":"VLOOKUP(S117,DEBUTSTEP!$AP$4:$AQ$33,2,FALSE)","v":"X"},"ABSENT",{"$f":"VLOOKUP(U117,DEBUTSTEP!$AP$4:$AQ$33,2,FALSE)","v":"X"},"ABSENT",{"$f":"VLOOKUP(W117,DEBUTSTEP!$AP$4:$AQ$33,2,FALSE)","v":"X"},"ABSENT",{"$f":"VLOOKUP(Y117,DEBUTSTEP!$AP$4:$AQ$33,2,FALSE)","v":"X"},"ABSENT",{"$f":"VLOOKUP(AA117,DEBUTSTEP!$AP$4:$AQ$33,2,FALSE)","v":"X"},"ABSENT",{"$f":"VLOOKUP(AC117,DEBUTSTEP!$AP$4:$AQ$33,2,FALSE)","v":"X"},"ABSENT",{"$f":"VLOOKUP(AE117,DEBUTSTEP!$AP$4:$AQ$33,2,FALSE)","v":"X"},"ABSENT",{"$f":"VLOOKUP(AG117,DEBUTSTEP!$AP$4:$AQ$33,2,FALSE)","v":"X"},"ABSENT",{"$f":"VLOOKUP(AI117,DEBUTSTEP!$AP$4:$AQ$33,2,FALSE)","v":"X"},"ABSENT",{"$f":"VLOOKUP(AK117,DEBUTSTEP!$AP$4:$AQ$33,2,FALSE)","v":"X"},"ABSENT",{"$f":"VLOOKUP(AM117,DEBUTSTEP!$AP$4:$AQ$33,2,FALSE)","v":"X"},"ABSENT",{"$f":"VLOOKUP(AO117,DEBUTSTEP!$AP$4:$AQ$33,2,FALSE)","v":"X"},"ABSENT",{"$f":"VLOOKUP(AQ117,DEBUTSTEP!$AP$4:$AQ$33,2,FALSE)","v":"X"},"ABSENT",{"$f":"VLOOKUP(AS117,DEBUTSTEP!$AP$4:$AQ$33,2,FALSE)","v":"X"},"ABSENT",{"$f":"VLOOKUP(AU117,DEBUTSTEP!$AP$4:$AQ$33,2,FALSE)","v":"X"},"ABSENT",{"$f":"VLOOKUP(AW117,DEBUTSTEP!$AP$4:$AQ$33,2,FALSE)","v":"X"},"ABSENT",{"$f":"VLOOKUP(AY117,DEBUTSTEP!$AP$4:$AQ$33,2,FALSE)","v":"X"},"ABSENT",{"$f":"VLOOKUP(BA117,DEBUTSTEP!$AP$4:$AQ$33,2,FALSE)","v":"X"},"ABSENT",{"$f":"VLOOKUP(BC117,DEBUTSTEP!$AP$4:$AQ$33,2,FALSE)","v":"X"},"ABSENT",{"$f":"VLOOKUP(BE117,DEBUTSTEP!$AP$4:$AQ$33,2,FALSE)","v":"X"},"ABSENT",{"$f":"VLOOKUP(BG117,DEBUTSTEP!$AP$4:$AQ$33,2,FALSE)","v":"X"},"ABSENT",{"$f":"VLOOKUP(BI117,DEBUTSTEP!$AP$4:$AQ$33,2,FALSE)","v":"X"},"ABSENT",{"$f":"VLOOKUP(BK117,DEBUTSTEP!$AP$4:$AQ$33,2,FALSE)","v":"X"},"ABSENT",{"$f":"VLOOKUP(BM117,DEBUTSTEP!$AP$4:$AQ$33,2,FALSE)","v":"X"},"ABSENT",{"$f":"VLOOKUP(BO117,DEBUTSTEP!$AP$4:$AQ$33,2,FALSE)","v":"X"},"ABSENT",{"$f":"VLOOKUP(BQ117,DEBUTSTEP!$AP$4:$AQ$33,2,FALSE)","v":"X"},"ABSENT",{"$f":"VLOOKUP(BS117,DEBUTSTEP!$AP$4:$AQ$33,2,FALSE)","v":"X"}]
[]
[null,"S'engager dans le mobile proposé","Aucun",{"$f":"VLOOKUP(C119,DEBUTSTEP!$AR$4:$AS$33,2,FALSE)","v":0},"Aucun",{"$f":"VLOOKUP(E119,DEBUTSTEP!$AR$4:$AS$33,2,FALSE)","v":0},"Aucun",{"$f":"VLOOKUP(G119,DEBUTSTEP!$AR$4:$AS$33,2,FALSE)","v":0},"Aucun",{"$f":"VLOOKUP(I119,DEBUTSTEP!$AR$4:$AS$33,2,FALSE)","v":0},"Aucun",{"$f":"VLOOKUP(K119,DEBUTSTEP!$AR$4:$AS$33,2,FALSE)","v":0},"Aucun",{"$f":"VLOOKUP(M119,DEBUTSTEP!$AR$4:$AS$33,2,FALSE)","v":0},"Aucun",{"$f":"VLOOKUP(O119,DEBUTSTEP!$AR$4:$AS$33,2,FALSE)","v":0},"Aucun",{"$f":"VLOOKUP(Q119,DEBUTSTEP!$AR$4:$AS$33,2,FALSE)","v":0},"Aucun",{"$f":"VLOOKUP(S119,DEBUTSTEP!$AR$4:$AS$33,2,FALSE)","v":0},"Aucun",{"$f":"VLOOKUP(U119,DEBUTSTEP!$AR$4:$AS$33,2,FALSE)","v":0},"Aucun",{"$f":"VLOOKUP(W119,DEBUTSTEP!$AR$4:$AS$33,2,FALSE)","v":0},"Aucun",{"$f":"VLOOKUP(Y119,DEBUTSTEP!$AR$4:$AS$33,2,FALSE)","v":0},"Aucun",{"$f":"VLOOKUP(AA119,DEBUTSTEP!$AR$4:$AS$33,2,FALSE)","v":0},"Aucun",{"$f":"VLOOKUP(AC119,DEBUTSTEP!$AR$4:$AS$33,2,FALSE)","v":0},"Aucun",{"$f":"VLOOKUP(AE119,DEBUTSTEP!$AR$4:$AS$33,2,FALSE)","v":0},"Aucun",{"$f":"VLOOKUP(AG119,DEBUTSTEP!$AR$4:$AS$33,2,FALSE)","v":0},"Aucun",{"$f":"VLOOKUP(AI119,DEBUTSTEP!$AR$4:$AS$33,2,FALSE)","v":0},"Aucun",{"$f":"VLOOKUP(AK119,DEBUTSTEP!$AR$4:$AS$33,2,FALSE)","v":0},"Aucun",{"$f":"VLOOKUP(AM119,DEBUTSTEP!$AR$4:$AS$33,2,FALSE)","v":0},"Aucun",{"$f":"VLOOKUP(AO119,DEBUTSTEP!$AR$4:$AS$33,2,FALSE)","v":0},"Aucun",{"$f":"VLOOKUP(AQ119,DEBUTSTEP!$AR$4:$AS$33,2,FALSE)","v":0},"Aucun",{"$f":"VLOOKUP(AS119,DEBUTSTEP!$AR$4:$AS$33,2,FALSE)","v":0},"Aucun",{"$f":"VLOOKUP(AU119,DEBUTSTEP!$AR$4:$AS$33,2,FALSE)","v":0},"Aucun",{"$f":"VLOOKUP(AW119,DEBUTSTEP!$AR$4:$AS$33,2,FALSE)","v":0},"Aucun",{"$f":"VLOOKUP(AY119,DEBUTSTEP!$AR$4:$AS$33,2,FALSE)","v":0},"Aucun",{"$f":"VLOOKUP(BA119,DEBUTSTEP!$AR$4:$AS$33,2,FALSE)","v":0},"Aucun",{"$f":"VLOOKUP(BC119,DEBUTSTEP!$AR$4:$AS$33,2,FALSE)","v":0},"Aucun",{"$f":"VLOOKUP(BE119,DEBUTSTEP!$AR$4:$AS$33,2,FALSE)","v":0},"Aucun",{"$f":"VLOOKUP(BG119,DEBUTSTEP!$AR$4:$AS$33,2,FALSE)","v":0},"Aucun",{"$f":"VLOOKUP(BI119,DEBUTSTEP!$AR$4:$AS$33,2,FALSE)","v":0},"Aucun",{"$f":"VLOOKUP(BK119,DEBUTSTEP!$AR$4:$AS$33,2,FALSE)","v":0},"Aucun",{"$f":"VLOOKUP(BM119,DEBUTSTEP!$AR$4:$AS$33,2,FALSE)","v":0},"Aucun",{"$f":"VLOOKUP(BO119,DEBUTSTEP!$AR$4:$AS$33,2,FALSE)","v":0},"Aucun",{"$f":"VLOOKUP(BQ119,DEBUTSTEP!$AR$4:$AS$33,2,FALSE)","v":0},"Aucun",{"$f":"VLOOKUP(BS119,DEBUTSTEP!$AR$4:$AS$33,2,FALSE)","v":0}]
[]
[null,"Agir en sécu","Danger",{"$f":"VLOOKUP(C121,DEBUTSTEP!$AT$4:$AU$33,2,FALSE)","v":0},"Danger",{"$f":"VLOOKUP(E121,DEBUTSTEP!$AT$4:$AU$33,2,FALSE)","v":0},"Danger",{"$f":"VLOOKUP(G121,DEBUTSTEP!$AT$4:$AU$33,2,FALSE)","v":0},"Danger",{"$f":"VLOOKUP(I121,DEBUTSTEP!$AT$4:$AU$33,2,FALSE)","v":0},"Danger",{"$f":"VLOOKUP(K121,DEBUTSTEP!$AT$4:$AU$33,2,FALSE)","v":0},"Danger",{"$f":"VLOOKUP(M121,DEBUTSTEP!$AT$4:$AU$33,2,FALSE)","v":0},"Danger",{"$f":"VLOOKUP(O121,DEBUTSTEP!$AT$4:$AU$33,2,FALSE)","v":0},"Danger",{"$f":"VLOOKUP(Q121,DEBUTSTEP!$AT$4:$AU$33,2,FALSE)","v":0},"Danger",{"$f":"VLOOKUP(S121,DEBUTSTEP!$AT$4:$AU$33,2,FALSE)","v":0},"Danger",{"$f":"VLOOKUP(U121,DEBUTSTEP!$AT$4:$AU$33,2,FALSE)","v":0},"Danger",{"$f":"VLOOKUP(W121,DEBUTSTEP!$AT$4:$AU$33,2,FALSE)","v":0},"Danger",{"$f":"VLOOKUP(Y121,DEBUTSTEP!$AT$4:$AU$33,2,FALSE)","v":0},"Danger",{"$f":"VLOOKUP(AA121,DEBUTSTEP!$AT$4:$AU$33,2,FALSE)","v":0},"Danger",{"$f":"VLOOKUP(AC121,DEBUTSTEP!$AT$4:$AU$33,2,FALSE)","v":0},"Danger",{"$f":"VLOOKUP(AE121,DEBUTSTEP!$AT$4:$AU$33,2,FALSE)","v":0},"Danger",{"$f":"VLOOKUP(AG121,DEBUTSTEP!$AT$4:$AU$33,2,FALSE)","v":0},"Danger",{"$f":"VLOOKUP(AI121,DEBUTSTEP!$AT$4:$AU$33,2,FALSE)","v":0},"Danger",{"$f":"VLOOKUP(AK121,DEBUTSTEP!$AT$4:$AU$33,2,FALSE)","v":0},"Danger",{"$f":"VLOOKUP(AM121,DEBUTSTEP!$AT$4:$AU$33,2,FALSE)","v":0},"Danger",{"$f":"VLOOKUP(AO121,DEBUTSTEP!$AT$4:$AU$33,2,FALSE)","v":0},"Danger",{"$f":"VLOOKUP(AQ121,DEBUTSTEP!$AT$4:$AU$33,2,FALSE)","v":0},"Danger",{"$f":"VLOOKUP(AS121,DEBUTSTEP!$AT$4:$AU$33,2,FALSE)","v":0},"Danger",{"$f":"VLOOKUP(AU121,DEBUTSTEP!$AT$4:$AU$33,2,FALSE)","v":0},"Danger",{"$f":"VLOOKUP(AW121,DEBUTSTEP!$AT$4:$AU$33,2,FALSE)","v":0},"Danger",{"$f":"VLOOKUP(AY121,DEBUTSTEP!$AT$4:$AU$33,2,FALSE)","v":0},"Danger",{"$f":"VLOOKUP(BA121,DEBUTSTEP!$AT$4:$AU$33,2,FALSE)","v":0},"Danger",{"$f":"VLOOKUP(BC121,DEBUTSTEP!$AT$4:$AU$33,2,FALSE)","v":0},"Danger",{"$f":"VLOOKUP(BE121,DEBUTSTEP!$AT$4:$AU$33,2,FALSE)","v":0},"Danger",{"$f":"VLOOKUP(BG121,DEBUTSTEP!$AT$4:$AU$33,2,FALSE)","v":0},"Danger",{"$f":"VLOOKUP(BI121,DEBUTSTEP!$AT$4:$AU$33,2,FALSE)","v":0},"Danger",{"$f":"VLOOKUP(BK121,DEBUTSTEP!$AT$4:$AU$33,2,FALSE)","v":0},"Danger",{"$f":"VLOOKUP(BM121,DEBUTSTEP!$AT$4:$AU$33,2,FALSE)","v":0},"Danger",{"$f":"VLOOKUP(BO121,DEBUTSTEP!$AT$4:$AU$33,2,FALSE)","v":0},"Danger",{"$f":"VLOOKUP(BQ121,DEBUTSTEP!$AT$4:$AU$33,2,FALSE)","v":0},"Danger",{"$f":"VLOOKUP(BS121,DEBUTSTEP!$AT$4:$AU$33,2,FALSE)","v":0}]
[]
[null,"Respecter l'entrainement prévu","Pas du tout",{"$f":"VLOOKUP(C123,DEBUTSTEP!$AV$4:$AW$33,2,FALSE)","v":0},"Pas du tout",{"$f":"VLOOKUP(E123,DEBUTSTEP!$AV$4:$AW$33,2,FALSE)","v":0},"Pas du tout",{"$f":"VLOOKUP(G123,DEBUTSTEP!$AV$4:$AW$33,2,FALSE)","v":0},"Pas du tout",{"$f":"VLOOKUP(I123,DEBUTSTEP!$AV$4:$AW$33,2,FALSE)","v":0},"Pas du tout",{"$f":"VLOOKUP(K123,DEBUTSTEP!$AV$4:$AW$33,2,FALSE)","v":0},"Pas du tout",{"$f":"VLOOKUP(M123,DEBUTSTEP!$AV$4:$AW$33,2,FALSE)","v":0},"Pas du tout",{"$f":"VLOOKUP(O123,DEBUTSTEP!$AV$4:$AW$33,2,FALSE)","v":0},"Pas du tout",{"$f":"VLOOKUP(Q123,DEBUTSTEP!$AV$4:$AW$33,2,FALSE)","v":0},"Pas du tout",{"$f":"VLOOKUP(S123,DEBUTSTEP!$AV$4:$AW$33,2,FALSE)","v":0},"Pas du tout",{"$f":"VLOOKUP(U123,DEBUTSTEP!$AV$4:$AW$33,2,FALSE)","v":0},"Pas du tout",{"$f":"VLOOKUP(W123,DEBUTSTEP!$AV$4:$AW$33,2,FALSE)","v":0},"Pas du tout",{"$f":"VLOOKUP(Y123,DEBUTSTEP!$AV$4:$AW$33,2,FALSE)","v":0},"Pas du tout",{"$f":"VLOOKUP(AA123,DEBUTSTEP!$AV$4:$AW$33,2,FALSE)","v":0},"Pas du tout",{"$f":"VLOOKUP(AC123,DEBUTSTEP!$AV$4:$AW$33,2,FALSE)","v":0},"Pas du tout",{"$f":"VLOOKUP(AE123,DEBUTSTEP!$AV$4:$AW$33,2,FALSE)","v":0},"Pas du tout",{"$f":"VLOOKUP(AG123,DEBUTSTEP!$AV$4:$AW$33,2,FALSE)","v":0},"Pas du tout",{"$f":"VLOOKUP(AI123,DEBUTSTEP!$AV$4:$AW$33,2,FALSE)","v":0},"Pas du tout",{"$f":"VLOOKUP(AK123,DEBUTSTEP!$AV$4:$AW$33,2,FALSE)","v":0},"Pas du tout",{"$f":"VLOOKUP(AM123,DEBUTSTEP!$AV$4:$AW$33,2,FALSE)","v":0},"Pas du tout",{"$f":"VLOOKUP(AO123,DEBUTSTEP!$AV$4:$AW$33,2,FALSE)","v":0},"Pas du tout",{"$f":"VLOOKUP(AQ123,DEBUTSTEP!$AV$4:$AW$33,2,FALSE)","v":0},"Pas du tout",{"$f":"VLOOKUP(AS123,DEBUTSTEP!$AV$4:$AW$33,2,FALSE)","v":0},"Pas du tout",{"$f":"VLOOKUP(AU123,DEBUTSTEP!$AV$4:$AW$33,2,FALSE)","v":0},"Pas du tout",{"$f":"VLOOKUP(AW123,DEBUTSTEP!$AV$4:$AW$33,2,FALSE)","v":0},"Pas du tout",{"$f":"VLOOKUP(AY123,DEBUTSTEP!$AV$4:$AW$33,2,FALSE)","v":0},"Pas du tout",{"$f":"VLOOKUP(BA123,DEBUTSTEP!$AV$4:$AW$33,2,FALSE)","v":0},"Pas du tout",{"$f":"VLOOKUP(BC123,DEBUTSTEP!$AV$4:$AW$33,2,FALSE)","v":0},"Pas du tout",{"$f":"VLOOKUP(BE123,DEBUTSTEP!$AV$4:$AW$33,2,FALSE)","v":0},"Pas du tout",{"$f":"VLOOKUP(BG123,DEBUTSTEP!$AV$4:$AW$33,2,FALSE)","v":0},"Pas du tout",{"$f":"VLOOKUP(BI123,DEBUTSTEP!$AV$4:$AW$33,2,FALSE)","v":0},"Pas du tout",{"$f":"VLOOKUP(BK123,DEBUTSTEP!$AV$4:$AW$33,2,FALSE)","v":0},"Pas du tout",{"$f":"VLOOKUP(BM123,DEBUTSTEP!$AV$4:$AW$33,2,FALSE)","v":0},"Pas du tout",{"$f":"VLOOKUP(BO123,DEBUTSTEP!$AV$4:$AW$33,2,FALSE)","v":0},"Pas du tout",{"$f":"VLOOKUP(BQ123,DEBUTSTEP!$AV$4:$AW$33,2,FALSE)","v":0},"Pas du tout",{"$f":"VLOOKUP(BS123,DEBUTSTEP!$AV$4:$AW$33,2,FALSE)","v":0}]
[]
[null,"Mémoriser les blocs","Aucune mémorisation",{"$f":"VLOOKUP(C125,DEBUTSTEP!$AX$4:$AY$33,2,FALSE)","v":0},"Aucune mémorisation",{"$f":"VLOOKUP(E125,DEBUTSTEP!$AX$4:$AY$33,2,FALSE)","v":0},"Aucune mémorisation",{"$f":"VLOOKUP(G125,DEBUTSTEP!$AX$4:$AY$33,2,FALSE)","v":0},"Aucune mémorisation",{"$f":"VLOOKUP(I125,DEBUTSTEP!$AX$4:$AY$33,2,FALSE)","v":0},"Aucune mémorisation",{"$f":"VLOOKUP(K125,DEBUTSTEP!$AX$4:$AY$33,2,FALSE)","v":0},"Aucune mémorisation",{"$f":"VLOOKUP(M125,DEBUTSTEP!$AX$4:$AY$33,2,FALSE)","v":0},"Aucune mémorisation",{"$f":"VLOOKUP(O125,DEBUTSTEP!$AX$4:$AY$33,2,FALSE)","v":0},"Aucune mémorisation",{"$f":"VLOOKUP(Q125,DEBUTSTEP!$AX$4:$AY$33,2,FALSE)","v":0},"Aucune mémorisation",{"$f":"VLOOKUP(S125,DEBUTSTEP!$AX$4:$AY$33,2,FALSE)","v":0},"Aucune mémorisation",{"$f":"VLOOKUP(U125,DEBUTSTEP!$AX$4:$AY$33,2,FALSE)","v":0},"Aucune mémorisation",{"$f":"VLOOKUP(W125,DEBUTSTEP!$AX$4:$AY$33,2,FALSE)","v":0},"Aucune mémorisation",{"$f":"VLOOKUP(Y125,DEBUTSTEP!$AX$4:$AY$33,2,FALSE)","v":0},"Aucune mémorisation",{"$f":"VLOOKUP(AA125,DEBUTSTEP!$AX$4:$AY$33,2,FALSE)","v":0},"Aucune mémorisation",{"$f":"VLOOKUP(AC125,DEBUTSTEP!$AX$4:$AY$33,2,FALSE)","v":0},"Aucune mémorisation",{"$f":"VLOOKUP(AE125,DEBUTSTEP!$AX$4:$AY$33,2,FALSE)","v":0},"Aucune mémorisation",{"$f":"VLOOKUP(AG125,DEBUTSTEP!$AX$4:$AY$33,2,FALSE)","v":0},"Aucune mémorisation",{"$f":"VLOOKUP(AI125,DEBUTSTEP!$AX$4:$AY$33,2,FALSE)","v":0},"Aucune mémorisation",{"$f":"VLOOKUP(AK125,DEBUTSTEP!$AX$4:$AY$33,2,FALSE)","v":0},"Aucune mémorisation",{"$f":"VLOOKUP(AM125,DEBUTSTEP!$AX$4:$AY$33,2,FALSE)","v":0},"Aucune mémorisation",{"$f":"VLOOKUP(AO125,DEBUTSTEP!$AX$4:$AY$33,2,FALSE)","v":0},"Aucune mémorisation",{"$f":"VLOOKUP(AQ125,DEBUTSTEP!$AX$4:$AY$33,2,FALSE)","v":0},"Aucune mémorisation",{"$f":"VLOOKUP(AS125,DEBUTSTEP!$AX$4:$AY$33,2,FALSE)","v":0},"Aucune mémorisation",{"$f":"VLOOKUP(AU125,DEBUTSTEP!$AX$4:$AY$33,2,FALSE)","v":0},"Aucune mémorisation",{"$f":"VLOOKUP(AW125,DEBUTSTEP!$AX$4:$AY$33,2,FALSE)","v":0},"Aucune mémorisation",{"$f":"VLOOKUP(AY125,DEBUTSTEP!$AX$4:$AY$33,2,FALSE)","v":0},"Aucune mémorisation",{"$f":"VLOOKUP(BA125,DEBUTSTEP!$AX$4:$AY$33,2,FALSE)","v":0},"Aucune mémorisation",{"$f":"VLOOKUP(BC125,DEBUTSTEP!$AX$4:$AY$33,2,FALSE)","v":0},"Aucune mémorisation",{"$f":"VLOOKUP(BE125,DEBUTSTEP!$AX$4:$AY$33,2,FALSE)","v":0},"Aucune mémorisation",{"$f":"VLOOKUP(BG125,DEBUTSTEP!$AX$4:$AY$33,2,FALSE)","v":0},"Aucune mémorisation",{"$f":"VLOOKUP(BI125,DEBUTSTEP!$AX$4:$AY$33,2,FALSE)","v":0},"Aucune mémorisation",{"$f":"VLOOKUP(BK125,DEBUTSTEP!$AX$4:$AY$33,2,FALSE)","v":0},"Aucune mémorisation",{"$f":"VLOOKUP(BM125,DEBUTSTEP!$AX$4:$AY$33,2,FALSE)","v":0},"Aucune mémorisation",{"$f":"VLOOKUP(BO125,DEBUTSTEP!$AX$4:$AY$33,2,FALSE)","v":0},"Aucune mémorisation",{"$f":"VLOOKUP(BQ125,DEBUTSTEP!$AX$4:$AY$33,2,FALSE)","v":0},"Aucune mémorisation",{"$f":"VLOOKUP(BS125,DEBUTSTEP!$AX$4:$AY$33,2,FALSE)","v":0}]
[]
[null,"Analyser sa prestation","Imprécise",{"$f":"VLOOKUP(C127,DEBUTSTEP!$AZ$4:$BA$33,2,FALSE)","v":1},"Imprécise",{"$f":"VLOOKUP(E127,DEBUTSTEP!$AZ$4:$BA$33,2,FALSE)","v":1},"Imprécise",{"$f":"VLOOKUP(G127,DEBUTSTEP!$AZ$4:$BA$33,2,FALSE)","v":1},"Imprécise",{"$f":"VLOOKUP(I127,DEBUTSTEP!$AZ$4:$BA$33,2,FALSE)","v":1},"Imprécise",{"$f":"VLOOKUP(K127,DEBUTSTEP!$AZ$4:$BA$33,2,FALSE)","v":1},"Imprécise",{"$f":"VLOOKUP(M127,DEBUTSTEP!$AZ$4:$BA$33,2,FALSE)","v":1},"Imprécise",{"$f":"VLOOKUP(O127,DEBUTSTEP!$AZ$4:$BA$33,2,FALSE)","v":1},"Imprécise",{"$f":"VLOOKUP(Q127,DEBUTSTEP!$AZ$4:$BA$33,2,FALSE)","v":1},"Imprécise",{"$f":"VLOOKUP(S127,DEBUTSTEP!$AZ$4:$BA$33,2,FALSE)","v":1},"Imprécise",{"$f":"VLOOKUP(U127,DEBUTSTEP!$AZ$4:$BA$33,2,FALSE)","v":1},"Imprécise",{"$f":"VLOOKUP(W127,DEBUTSTEP!$AZ$4:$BA$33,2,FALSE)","v":1},"Imprécise",{"$f":"VLOOKUP(Y127,DEBUTSTEP!$AZ$4:$BA$33,2,FALSE)","v":1},"Imprécise",{"$f":"VLOOKUP(AA127,DEBUTSTEP!$AZ$4:$BA$33,2,FALSE)","v":1},"Imprécise",{"$f":"VLOOKUP(AC127,DEBUTSTEP!$AZ$4:$BA$33,2,FALSE)","v":1},"Imprécise",{"$f":"VLOOKUP(AE127,DEBUTSTEP!$AZ$4:$BA$33,2,FALSE)","v":1},"Imprécise",{"$f":"VLOOKUP(AG127,DEBUTSTEP!$AZ$4:$BA$33,2,FALSE)","v":1},"Imprécise",{"$f":"VLOOKUP(AI127,DEBUTSTEP!$AZ$4:$BA$33,2,FALSE)","v":1},"Imprécise",{"$f":"VLOOKUP(AK127,DEBUTSTEP!$AZ$4:$BA$33,2,FALSE)","v":1},"Imprécise",{"$f":"VLOOKUP(AM127,DEBUTSTEP!$AZ$4:$BA$33,2,FALSE)","v":1},"Imprécise",{"$f":"VLOOKUP(AO127,DEBUTSTEP!$AZ$4:$BA$33,2,FALSE)","v":1},"Imprécise",{"$f":"VLOOKUP(AQ127,DEBUTSTEP!$AZ$4:$BA$33,2,FALSE)","v":1},"Imprécise",{"$f":"VLOOKUP(AS127,DEBUTSTEP!$AZ$4:$BA$33,2,FALSE)","v":1},"Imprécise",{"$f":"VLOOKUP(AU127,DEBUTSTEP!$AZ$4:$BA$33,2,FALSE)","v":1},"Imprécise",{"$f":"VLOOKUP(AW127,DEBUTSTEP!$AZ$4:$BA$33,2,FALSE)","v":1},"Imprécise",{"$f":"VLOOKUP(AY127,DEBUTSTEP!$AZ$4:$BA$33,2,FALSE)","v":1},"Imprécise",{"$f":"VLOOKUP(BA127,DEBUTSTEP!$AZ$4:$BA$33,2,FALSE)","v":1},"Imprécise",{"$f":"VLOOKUP(BC127,DEBUTSTEP!$AZ$4:$BA$33,2,FALSE)","v":1},"Imprécise",{"$f":"VLOOKUP(BE127,DEBUTSTEP!$AZ$4:$BA$33,2,FALSE)","v":1},"Imprécise",{"$f":"VLOOKUP(BG127,DEBUTSTEP!$AZ$4:$BA$33,2,FALSE)","v":1},"Imprécise",{"$f":"VLOOKUP(BI127,DEBUTSTEP!$AZ$4:$BA$33,2,FALSE)","v":1},"Imprécise",{"$f":"VLOOKUP(BK127,DEBUTSTEP!$AZ$4:$BA$33,2,FALSE)","v":1},"Imprécise",{"$f":"VLOOKUP(BM127,DEBUTSTEP!$AZ$4:$BA$33,2,FALSE)","v":1},"Imprécise",{"$f":"VLOOKUP(BO127,DEBUTSTEP!$AZ$4:$BA$33,2,FALSE)","v":1},"Imprécise",{"$f":"VLOOKUP(BQ127,DEBUTSTEP!$AZ$4:$BA$33,2,FALSE)","v":1},"Imprécise",{"$f":"VLOOKUP(BS127,DEBUTSTEP!$AZ$4:$BA$33,2,FALSE)","v":1}]
[]
[null,"NOTE",{"$f":"IF(OR(D117=\"x\",D119=\"x\",D121=\"x\",D123=\"x\",D125=\"x\",D127=\"x\"),\"ABSENT\",SUMIF(D117,\"<>X\")+SUMIF(D119,\"<>X\")+SUMIF(D121,\"<>X\")+SUMIF(D123,\"<>X\")+SUMIF(D125,\"<>X\")+SUMIF(D127,\"<>X\"))","v":"ABSENT"},null,{"$f":"IF(OR(F117=\"x\",F119=\"x\",F121=\"x\",F123=\"x\",F125=\"x\",F127=\"x\"),\"ABSENT\",SUMIF(F117,\"<>X\")+SUMIF(F119,\"<>X\")+SUMIF(F121,\"<>X\")+SUMIF(F123,\"<>X\")+SUMIF(F125,\"<>X\")+SUMIF(F127,\"<>X\"))","v":"ABSENT"},null,{"$f":"IF(OR(H117=\"x\",H119=\"x\",H121=\"x\",H123=\"x\",H125=\"x\",H127=\"x\"),\"ABSENT\",SUMIF(H117,\"<>X\")+SUMIF(H119,\"<>X\")+SUMIF(H121,\"<>X\")+SUMIF(H123,\"<>X\")+SUMIF(H125,\"<>X\")+SUMIF(H127,\"<>X\"))","v":"ABSENT"},null,{"$f":"IF(OR(J117=\"x\",J119=\"x\",J121=\"x\",J123=\"x\",J125=\"x\",J127=\"x\"),\"ABSENT\",SUMIF(J117,\"<>X\")+SUMIF(J119,\"<>X\")+SUMIF(J121,\"<>X\")+SUMIF(J123,\"<>X\")+SUMIF(J125,\"<>X\")+SUMIF(J127,\"<>X\"))","v":"ABSENT"},null,{"$f":"IF(OR(L117=\"x\",L119=\"x\",L121=\"x\",L123=\"x\",L125=\"x\",L127=\"x\"),\"ABSENT\",SUMIF(L117,\"<>X\")+SUMIF(L119,\"<>X\")+SUMIF(L121,\"<>X\")+SUMIF(L123,\"<>X\")+SUMIF(L125,\"<>X\")+SUMIF(L127,\"<>X\"))","v":"ABSENT"},null,{"$f":"IF(OR(N117=\"x\",N119=\"x\",N121=\"x\",N123=\"x\",N125=\"x\",N127=\"x\"),\"ABSENT\",SUMIF(N117,\"<>X\")+SUMIF(N119,\"<>X\")+SUMIF(N121,\"<>X\")+SUMIF(N123,\"<>X\")+SUMIF(N125,\"<>X\")+SUMIF(N127,\"<>X\"))","v":"ABSENT"},null,{"$f":"IF(OR(P117=\"x\",P119=\"x\",P121=\"x\",P123=\"x\",P125=\"x\",P127=\"x\"),\"ABSENT\",SUMIF(P117,\"<>X\")+SUMIF(P119,\"<>X\")+SUMIF(P121,\"<>X\")+SUMIF(P123,\"<>X\")+SUMIF(P125,\"<>X\")+SUMIF(P127,\"<>X\"))","v":"ABSENT"},null,{"$f":"IF(OR(R117=\"x\",R119=\"x\",R121=\"x\",R123=\"x\",R125=\"x\",R127=\"x\"),\"ABSENT\",SUMIF(R117,\"<>X\")+SUMIF(R119,\"<>X\")+SUMIF(R121,\"<>X\")+SUMIF(R123,\"<>X\")+SUMIF(R125,\"<>X\")+SUMIF(R127,\"<>X\"))","v":"ABSENT"},null,{"$f":"IF(OR(T117=\"x\",T119=\"x\",T121=\"x\",T123=\"x\",T125=\"x\",T127=\"x\"),\"ABSENT\",SUMIF(T117,\"<>X\")+SUMIF(T119,\"<>X\")+SUMIF(T121,\"<>X\")+SUMIF(T123,\"<>X\")+SUMIF(T125,\"<>X\")+SUMIF(T127,\"<>X\"))","v":"ABSENT"},null,{"$f":"IF(OR(V117=\"x\",V119=\"x\",V121=\"x\",V123=\"x\",V125=\"x\",V127=\"x\"),\"ABSENT\",SUMIF(V117,\"<>X\")+SUMIF(V119,\"<>X\")+SUMIF(V121,\"<>X\")+SUMIF(V123,\"<>X\")+SUMIF(V125,\"<>X\")+SUMIF(V127,\"<>X\"))","v":"ABSENT"},null,{"$f":"IF(OR(X117=\"x\",X119=\"x\",X121=\"x\",X123=\"x\",X125=\"x\",X127=\"x\"),\"ABSENT\",SUMIF(X117,\"<>X\")+SUMIF(X119,\"<>X\")+SUMIF(X121,\"<>X\")+SUMIF(X123,\"<>X\")+SUMIF(X125,\"<>X\")+SUMIF(X127,\"<>X\"))","v":"ABSENT"},null,{"$f":"IF(OR(Z117=\"x\",Z119=\"x\",Z121=\"x\",Z123=\"x\",Z125=\"x\",Z127=\"x\"),\"ABSENT\",SUMIF(Z117,\"<>X\")+SUMIF(Z119,\"<>X\")+SUMIF(Z121,\"<>X\")+SUMIF(Z123,\"<>X\")+SUMIF(Z125,\"<>X\")+SUMIF(Z127,\"<>X\"))","v":"ABSENT"},null,{"$f":"IF(OR(AB117=\"x\",AB119=\"x\",AB121=\"x\",AB123=\"x\",AB125=\"x\",AB127=\"x\"),\"ABSENT\",SUMIF(AB117,\"<>X\")+SUMIF(AB119,\"<>X\")+SUMIF(AB121,\"<>X\")+SUMIF(AB123,\"<>X\")+SUMIF(AB125,\"<>X\")+SUMIF(AB127,\"<>X\"))","v":"ABSENT"},null,{"$f":"IF(OR(AD117=\"x\",AD119=\"x\",AD121=\"x\",AD123=\"x\",AD125=\"x\",AD127=\"x\"),\"ABSENT\",SUMIF(AD117,\"<>X\")+SUMIF(AD119,\"<>X\")+SUMIF(AD121,\"<>X\")+SUMIF(AD123,\"<>X\")+SUMIF(AD125,\"<>X\")+SUMIF(AD127,\"<>X\"))","v":"ABSENT"},null,{"$f":"IF(OR(AF117=\"x\",AF119=\"x\",AF121=\"x\",AF123=\"x\",AF125=\"x\",AF127=\"x\"),\"ABSENT\",SUMIF(AF117,\"<>X\")+SUMIF(AF119,\"<>X\")+SUMIF(AF121,\"<>X\")+SUMIF(AF123,\"<>X\")+SUMIF(AF125,\"<>X\")+SUMIF(AF127,\"<>X\"))","v":"ABSENT"},null,{"$f":"IF(OR(AH117=\"x\",AH119=\"x\",AH121=\"x\",AH123=\"x\",AH125=\"x\",AH127=\"x\"),\"ABSENT\",SUMIF(AH117,\"<>X\")+SUMIF(AH119,\"<>X\")+SUMIF(AH121,\"<>X\")+SUMIF(AH123,\"<>X\")+SUMIF(AH125,\"<>X\")+SUMIF(AH127,\"<>X\"))","v":"ABSENT"},null,{"$f":"IF(OR(AJ117=\"x\",AJ119=\"x\",AJ121=\"x\",AJ123=\"x\",AJ125=\"x\",AJ127=\"x\"),\"ABSENT\",SUMIF(AJ117,\"<>X\")+SUMIF(AJ119,\"<>X\")+SUMIF(AJ121,\"<>X\")+SUMIF(AJ123,\"<>X\")+SUMIF(AJ125,\"<>X\")+SUMIF(AJ127,\"<>X\"))","v":"ABSENT"},null,{"$f":"IF(OR(AL117=\"x\",AL119=\"x\",AL121=\"x\",AL123=\"x\",AL125=\"x\",AL127=\"x\"),\"ABSENT\",SUMIF(AL117,\"<>X\")+SUMIF(AL119,\"<>X\")+SUMIF(AL121,\"<>X\")+SUMIF(AL123,\"<>X\")+SUMIF(AL125,\"<>X\")+SUMIF(AL127,\"<>X\"))","v":"ABSENT"},null,{"$f":"IF(OR(AN117=\"x\",AN119=\"x\",AN121=\"x\",AN123=\"x\",AN125=\"x\",AN127=\"x\"),\"ABSENT\",SUMIF(AN117,\"<>X\")+SUMIF(AN119,\"<>X\")+SUMIF(AN121,\"<>X\")+SUMIF(AN123,\"<>X\")+SUMIF(AN125,\"<>X\")+SUMIF(AN127,\"<>X\"))","v":"ABSENT"},null,{"$f":"IF(OR(AP117=\"x\",AP119=\"x\",AP121=\"x\",AP123=\"x\",AP125=\"x\",AP127=\"x\"),\"ABSENT\",SUMIF(AP117,\"<>X\")+SUMIF(AP119,\"<>X\")+SUMIF(AP121,\"<>X\")+SUMIF(AP123,\"<>X\")+SUMIF(AP125,\"<>X\")+SUMIF(AP127,\"<>X\"))","v":"ABSENT"},null,{"$f":"IF(OR(AR117=\"x\",AR119=\"x\",AR121=\"x\",AR123=\"x\",AR125=\"x\",AR127=\"x\"),\"ABSENT\",SUMIF(AR117,\"<>X\")+SUMIF(AR119,\"<>X\")+SUMIF(AR121,\"<>X\")+SUMIF(AR123,\"<>X\")+SUMIF(AR125,\"<>X\")+SUMIF(AR127,\"<>X\"))","v":"ABSENT"},null,{"$f":"IF(OR(AT117=\"x\",AT119=\"x\",AT121=\"x\",AT123=\"x\",AT125=\"x\",AT127=\"x\"),\"ABSENT\",SUMIF(AT117,\"<>X\")+SUMIF(AT119,\"<>X\")+SUMIF(AT121,\"<>X\")+SUMIF(AT123,\"<>X\")+SUMIF(AT125,\"<>X\")+SUMIF(AT127,\"<>X\"))","v":"ABSENT"},null,{"$f":"IF(OR(AV117=\"x\",AV119=\"x\",AV121=\"x\",AV123=\"x\",AV125=\"x\",AV127=\"x\"),\"ABSENT\",SUMIF(AV117,\"<>X\")+SUMIF(AV119,\"<>X\")+SUMIF(AV121,\"<>X\")+SUMIF(AV123,\"<>X\")+SUMIF(AV125,\"<>X\")+SUMIF(AV127,\"<>X\"))","v":"ABSENT"},null,{"$f":"IF(OR(AX117=\"x\",AX119=\"x\",AX121=\"x\",AX123=\"x\",AX125=\"x\",AX127=\"x\"),\"ABSENT\",SUMIF(AX117,\"<>X\")+SUMIF(AX119,\"<>X\")+SUMIF(AX121,\"<>X\")+SUMIF(AX123,\"<>X\")+SUMIF(AX125,\"<>X\")+SUMIF(AX127,\"<>X\"))","v":"ABSENT"},null,{"$f":"IF(OR(AZ117=\"x\",AZ119=\"x\",AZ121=\"x\",AZ123=\"x\",AZ125=\"x\",AZ127=\"x\"),\"ABSENT\",SUMIF(AZ117,\"<>X\")+SUMIF(AZ119,\"<>X\")+SUMIF(AZ121,\"<>X\")+SUMIF(AZ123,\"<>X\")+SUMIF(AZ125,\"<>X\")+SUMIF(AZ127,\"<>X\"))","v":"ABSENT"},null,{"$f":"IF(OR(BB117=\"x\",BB119=\"x\",BB121=\"x\",BB123=\"x\",BB125=\"x\",BB127=\"x\"),\"ABSENT\",SUMIF(BB117,\"<>X\")+SUMIF(BB119,\"<>X\")+SUMIF(BB121,\"<>X\")+SUMIF(BB123,\"<>X\")+SUMIF(BB125,\"<>X\")+SUMIF(BB127,\"<>X\"))","v":"ABSENT"},null,{"$f":"IF(OR(BD117=\"x\",BD119=\"x\",BD121=\"x\",BD123=\"x\",BD125=\"x\",BD127=\"x\"),\"ABSENT\",SUMIF(BD117,\"<>X\")+SUMIF(BD119,\"<>X\")+SUMIF(BD121,\"<>X\")+SUMIF(BD123,\"<>X\")+SUMIF(BD125,\"<>X\")+SUMIF(BD127,\"<>X\"))","v":"ABSENT"},null,{"$f":"IF(OR(BF117=\"x\",BF119=\"x\",BF121=\"x\",BF123=\"x\",BF125=\"x\",BF127=\"x\"),\"ABSENT\",SUMIF(BF117,\"<>X\")+SUMIF(BF119,\"<>X\")+SUMIF(BF121,\"<>X\")+SUMIF(BF123,\"<>X\")+SUMIF(BF125,\"<>X\")+SUMIF(BF127,\"<>X\"))","v":"ABSENT"},null,{"$f":"IF(OR(BH117=\"x\",BH119=\"x\",BH121=\"x\",BH123=\"x\",BH125=\"x\",BH127=\"x\"),\"ABSENT\",SUMIF(BH117,\"<>X\")+SUMIF(BH119,\"<>X\")+SUMIF(BH121,\"<>X\")+SUMIF(BH123,\"<>X\")+SUMIF(BH125,\"<>X\")+SUMIF(BH127,\"<>X\"))","v":"ABSENT"},null,{"$f":"IF(OR(BJ117=\"x\",BJ119=\"x\",BJ121=\"x\",BJ123=\"x\",BJ125=\"x\",BJ127=\"x\"),\"ABSENT\",SUMIF(BJ117,\"<>X\")+SUMIF(BJ119,\"<>X\")+SUMIF(BJ121,\"<>X\")+SUMIF(BJ123,\"<>X\")+SUMIF(BJ125,\"<>X\")+SUMIF(BJ127,\"<>X\"))","v":"ABSENT"},null,{"$f":"IF(OR(BL117=\"x\",BL119=\"x\",BL121=\"x\",BL123=\"x\",BL125=\"x\",BL127=\"x\"),\"ABSENT\",SUMIF(BL117,\"<>X\")+SUMIF(BL119,\"<>X\")+SUMIF(BL121,\"<>X\")+SUMIF(BL123,\"<>X\")+SUMIF(BL125,\"<>X\")+SUMIF(BL127,\"<>X\"))","v":"ABSENT"},null,{"$f":"IF(OR(BN117=\"x\",BN119=\"x\",BN121=\"x\",BN123=\"x\",BN125=\"x\",BN127=\"x\"),\"ABSENT\",SUMIF(BN117,\"<>X\")+SUMIF(BN119,\"<>X\")+SUMIF(BN121,\"<>X\")+SUMIF(BN123,\"<>X\")+SUMIF(BN125,\"<>X\")+SUMIF(BN127,\"<>X\"))","v":"ABSENT"},null,{"$f":"IF(OR(BP117=\"x\",BP119=\"x\",BP121=\"x\",BP123=\"x\",BP125=\"x\",BP127=\"x\"),\"ABSENT\",SUMIF(BP117,\"<>X\")+SUMIF(BP119,\"<>X\")+SUMIF(BP121,\"<>X\")+SUMIF(BP123,\"<>X\")+SUMIF(BP125,\"<>X\")+SUMIF(BP127,\"<>X\"))","v":"ABSENT"},null,{"$f":"IF(OR(BR117=\"x\",BR119=\"x\",BR121=\"x\",BR123=\"x\",BR125=\"x\",BR127=\"x\"),\"ABSENT\",SUMIF(BR117,\"<>X\")+SUMIF(BR119,\"<>X\")+SUMIF(BR121,\"<>X\")+SUMIF(BR123,\"<>X\")+SUMIF(BR125,\"<>X\")+SUMIF(BR127,\"<>X\"))","v":"ABSENT"},null,{"$f":"IF(OR(BT117=\"x\",BT119=\"x\",BT121=\"x\",BT123=\"x\",BT125=\"x\",BT127=\"x\"),\"ABSENT\",SUMIF(BT117,\"<>X\")+SUMIF(BT119,\"<>X\")+SUMIF(BT121,\"<>X\")+SUMIF(BT123,\"<>X\")+SUMIF(BT125,\"<>X\")+SUMIF(BT127,\"<>X\"))","v":"ABSENT"}]
[]
["SEANCE 10","Prendre sa FC efficacement","ABSENT",{"$f":"VLOOKUP(C131,DEBUTSTEP!$AP$4:$AQ$33,2,FALSE)","v":"X"},"ABSENT",{"$f":"VLOOKUP(E131,DEBUTSTEP!$AP$4:$AQ$33,2,FALSE)","v":"X"},"ABSENT",{"$f":"VLOOKUP(G131,DEBUTSTEP!$AP$4:$AQ$33,2,FALSE)","v":"X"},"ABSENT",{"$f":"VLOOKUP(I131,DEBUTSTEP!$AP$4:$AQ$33,2,FALSE)","v":"X"},"ABSENT",{"$f":"VLOOKUP(K131,DEBUTSTEP!$AP$4:$AQ$33,2,FALSE)","v":"X"},"ABSENT",{"$f":"VLOOKUP(M131,DEBUTSTEP!$AP$4:$AQ$33,2,FALSE)","v":"X"},"ABSENT",{"$f":"VLOOKUP(O131,DEBUTSTEP!$AP$4:$AQ$33,2,FALSE)","v":"X"},"ABSENT",{"$f":"VLOOKUP(Q131,DEBUTSTEP!$AP$4:$AQ$33,2,FALSE)","v":"X"},"ABSENT",{"$f":"VLOOKUP(S131,DEBUTSTEP!$AP$4:$AQ$33,2,FALSE)","v":"X"},"ABSENT",{"$f":"VLOOKUP(U131,DEBUTSTEP!$AP$4:$AQ$33,2,FALSE)","v":"X"},"ABSENT",{"$f":"VLOOKUP(W131,DEBUTSTEP!$AP$4:$AQ$33,2,FALSE)","v":"X"},"ABSENT",{"$f":"VLOOKUP(Y131,DEBUTSTEP!$AP$4:$AQ$33,2,FALSE)","v":"X"},"ABSENT",{"$f":"VLOOKUP(AA131,DEBUTSTEP!$AP$4:$AQ$33,2,FALSE)","v":"X"},"ABSENT",{"$f":"VLOOKUP(AC131,DEBUTSTEP!$AP$4:$AQ$33,2,FALSE)","v":"X"},"ABSENT",{"$f":"VLOOKUP(AE131,DEBUTSTEP!$AP$4:$AQ$33,2,FALSE)","v":"X"},"ABSENT",{"$f":"VLOOKUP(AG131,DEBUTSTEP!$AP$4:$AQ$33,2,FALSE)","v":"X"},"ABSENT",{"$f":"VLOOKUP(AI131,DEBUTSTEP!$AP$4:$AQ$33,2,FALSE)","v":"X"},"ABSENT",{"$f":"VLOOKUP(AK131,DEBUTSTEP!$AP$4:$AQ$33,2,FALSE)","v":"X"},"ABSENT",{"$f":"VLOOKUP(AM131,DEBUTSTEP!$AP$4:$AQ$33,2,FALSE)","v":"X"},"ABSENT",{"$f":"VLOOKUP(AO131,DEBUTSTEP!$AP$4:$AQ$33,2,FALSE)","v":"X"},"ABSENT",{"$f":"VLOOKUP(AQ131,DEBUTSTEP!$AP$4:$AQ$33,2,FALSE)","v":"X"},"ABSENT",{"$f":"VLOOKUP(AS131,DEBUTSTEP!$AP$4:$AQ$33,2,FALSE)","v":"X"},"ABSENT",{"$f":"VLOOKUP(AU131,DEBUTSTEP!$AP$4:$AQ$33,2,FALSE)","v":"X"},"ABSENT",{"$f":"VLOOKUP(AW131,DEBUTSTEP!$AP$4:$AQ$33,2,FALSE)","v":"X"},"ABSENT",{"$f":"VLOOKUP(AY131,DEBUTSTEP!$AP$4:$AQ$33,2,FALSE)","v":"X"},"ABSENT",{"$f":"VLOOKUP(BA131,DEBUTSTEP!$AP$4:$AQ$33,2,FALSE)","v":"X"},"ABSENT",{"$f":"VLOOKUP(BC131,DEBUTSTEP!$AP$4:$AQ$33,2,FALSE)","v":"X"},"ABSENT",{"$f":"VLOOKUP(BE131,DEBUTSTEP!$AP$4:$AQ$33,2,FALSE)","v":"X"},"ABSENT",{"$f":"VLOOKUP(BG131,DEBUTSTEP!$AP$4:$AQ$33,2,FALSE)","v":"X"},"ABSENT",{"$f":"VLOOKUP(BI131,DEBUTSTEP!$AP$4:$AQ$33,2,FALSE)","v":"X"},"ABSENT",{"$f":"VLOOKUP(BK131,DEBUTSTEP!$AP$4:$AQ$33,2,FALSE)","v":"X"},"ABSENT",{"$f":"VLOOKUP(BM131,DEBUTSTEP!$AP$4:$AQ$33,2,FALSE)","v":"X"},"ABSENT",{"$f":"VLOOKUP(BO131,DEBUTSTEP!$AP$4:$AQ$33,2,FALSE)","v":"X"},"ABSENT",{"$f":"VLOOKUP(BQ131,DEBUTSTEP!$AP$4:$AQ$33,2,FALSE)","v":"X"},"ABSENT",{"$f":"VLOOKUP(BS131,DEBUTSTEP!$AP$4:$AQ$33,2,FALSE)","v":"X"}]
[]
[null,"S'engager dans le mobile proposé","Aucun",{"$f":"VLOOKUP(C133,DEBUTSTEP!$AR$4:$AS$33,2,FALSE)","v":0},"Aucun",{"$f":"VLOOKUP(E133,DEBUTSTEP!$AR$4:$AS$33,2,FALSE)","v":0},"Aucun",{"$f":"VLOOKUP(G133,DEBUTSTEP!$AR$4:$AS$33,2,FALSE)","v":0},"Aucun",{"$f":"VLOOKUP(I133,DEBUTSTEP!$AR$4:$AS$33,2,FALSE)","v":0},"Aucun",{"$f":"VLOOKUP(K133,DEBUTSTEP!$AR$4:$AS$33,2,FALSE)","v":0},"Aucun",{"$f":"VLOOKUP(M133,DEBUTSTEP!$AR$4:$AS$33,2,FALSE)","v":0},"Aucun",{"$f":"VLOOKUP(O133,DEBUTSTEP!$AR$4:$AS$33,2,FALSE)","v":0},"Aucun",{"$f":"VLOOKUP(Q133,DEBUTSTEP!$AR$4:$AS$33,2,FALSE)","v":0},"Aucun",{"$f":"VLOOKUP(S133,DEBUTSTEP!$AR$4:$AS$33,2,FALSE)","v":0},"Aucun",{"$f":"VLOOKUP(U133,DEBUTSTEP!$AR$4:$AS$33,2,FALSE)","v":0},"Aucun",{"$f":"VLOOKUP(W133,DEBUTSTEP!$AR$4:$AS$33,2,FALSE)","v":0},"Aucun",{"$f":"VLOOKUP(Y133,DEBUTSTEP!$AR$4:$AS$33,2,FALSE)","v":0},"Aucun",{"$f":"VLOOKUP(AA133,DEBUTSTEP!$AR$4:$AS$33,2,FALSE)","v":0},"Aucun",{"$f":"VLOOKUP(AC133,DEBUTSTEP!$AR$4:$AS$33,2,FALSE)","v":0},"Aucun",{"$f":"VLOOKUP(AE133,DEBUTSTEP!$AR$4:$AS$33,2,FALSE)","v":0},"Aucun",{"$f":"VLOOKUP(AG133,DEBUTSTEP!$AR$4:$AS$33,2,FALSE)","v":0},"Aucun",{"$f":"VLOOKUP(AI133,DEBUTSTEP!$AR$4:$AS$33,2,FALSE)","v":0},"Aucun",{"$f":"VLOOKUP(AK133,DEBUTSTEP!$AR$4:$AS$33,2,FALSE)","v":0},"Aucun",{"$f":"VLOOKUP(AM133,DEBUTSTEP!$AR$4:$AS$33,2,FALSE)","v":0},"Aucun",{"$f":"VLOOKUP(AO133,DEBUTSTEP!$AR$4:$AS$33,2,FALSE)","v":0},"Aucun",{"$f":"VLOOKUP(AQ133,DEBUTSTEP!$AR$4:$AS$33,2,FALSE)","v":0},"Aucun",{"$f":"VLOOKUP(AS133,DEBUTSTEP!$AR$4:$AS$33,2,FALSE)","v":0},"Aucun",{"$f":"VLOOKUP(AU133,DEBUTSTEP!$AR$4:$AS$33,2,FALSE)","v":0},"Aucun",{"$f":"VLOOKUP(AW133,DEBUTSTEP!$AR$4:$AS$33,2,FALSE)","v":0},"Aucun",{"$f":"VLOOKUP(AY133,DEBUTSTEP!$AR$4:$AS$33,2,FALSE)","v":0},"Aucun",{"$f":"VLOOKUP(BA133,DEBUTSTEP!$AR$4:$AS$33,2,FALSE)","v":0},"Aucun",{"$f":"VLOOKUP(BC133,DEBUTSTEP!$AR$4:$AS$33,2,FALSE)","v":0},"Aucun",{"$f":"VLOOKUP(BE133,DEBUTSTEP!$AR$4:$AS$33,2,FALSE)","v":0},"Aucun",{"$f":"VLOOKUP(BG133,DEBUTSTEP!$AR$4:$AS$33,2,FALSE)","v":0},"Aucun",{"$f":"VLOOKUP(BI133,DEBUTSTEP!$AR$4:$AS$33,2,FALSE)","v":0},"Aucun",{"$f":"VLOOKUP(BK133,DEBUTSTEP!$AR$4:$AS$33,2,FALSE)","v":0},"Aucun",{"$f":"VLOOKUP(BM133,DEBUTSTEP!$AR$4:$AS$33,2,FALSE)","v":0},"Aucun",{"$f":"VLOOKUP(BO133,DEBUTSTEP!$AR$4:$AS$33,2,FALSE)","v":0},"Aucun",{"$f":"VLOOKUP(BQ133,DEBUTSTEP!$AR$4:$AS$33,2,FALSE)","v":0},"Aucun",{"$f":"VLOOKUP(BS133,DEBUTSTEP!$AR$4:$AS$33,2,FALSE)","v":0}]
[]
[null,"Agir en sécu","Danger",{"$f":"VLOOKUP(C135,DEBUTSTEP!$AT$4:$AU$33,2,FALSE)","v":0},"Danger",{"$f":"VLOOKUP(E135,DEBUTSTEP!$AT$4:$AU$33,2,FALSE)","v":0},"Danger",{"$f":"VLOOKUP(G135,DEBUTSTEP!$AT$4:$AU$33,2,FALSE)","v":0},"Danger",{"$f":"VLOOKUP(I135,DEBUTSTEP!$AT$4:$AU$33,2,FALSE)","v":0},"Danger",{"$f":"VLOOKUP(K135,DEBUTSTEP!$AT$4:$AU$33,2,FALSE)","v":0},"Danger",{"$f":"VLOOKUP(M135,DEBUTSTEP!$AT$4:$AU$33,2,FALSE)","v":0},"Danger",{"$f":"VLOOKUP(O135,DEBUTSTEP!$AT$4:$AU$33,2,FALSE)","v":0},"Danger",{"$f":"VLOOKUP(Q135,DEBUTSTEP!$AT$4:$AU$33,2,FALSE)","v":0},"Danger",{"$f":"VLOOKUP(S135,DEBUTSTEP!$AT$4:$AU$33,2,FALSE)","v":0},"Danger",{"$f":"VLOOKUP(U135,DEBUTSTEP!$AT$4:$AU$33,2,FALSE)","v":0},"Danger",{"$f":"VLOOKUP(W135,DEBUTSTEP!$AT$4:$AU$33,2,FALSE)","v":0},"Danger",{"$f":"VLOOKUP(Y135,DEBUTSTEP!$AT$4:$AU$33,2,FALSE)","v":0},"Danger",{"$f":"VLOOKUP(AA135,DEBUTSTEP!$AT$4:$AU$33,2,FALSE)","v":0},"Danger",{"$f":"VLOOKUP(AC135,DEBUTSTEP!$AT$4:$AU$33,2,FALSE)","v":0},"Danger",{"$f":"VLOOKUP(AE135,DEBUTSTEP!$AT$4:$AU$33,2,FALSE)","v":0},"Danger",{"$f":"VLOOKUP(AG135,DEBUTSTEP!$AT$4:$AU$33,2,FALSE)","v":0},"Danger",{"$f":"VLOOKUP(AI135,DEBUTSTEP!$AT$4:$AU$33,2,FALSE)","v":0},"Danger",{"$f":"VLOOKUP(AK135,DEBUTSTEP!$AT$4:$AU$33,2,FALSE)","v":0},"Danger",{"$f":"VLOOKUP(AM135,DEBUTSTEP!$AT$4:$AU$33,2,FALSE)","v":0},"Danger",{"$f":"VLOOKUP(AO135,DEBUTSTEP!$AT$4:$AU$33,2,FALSE)","v":0},"Danger",{"$f":"VLOOKUP(AQ135,DEBUTSTEP!$AT$4:$AU$33,2,FALSE)","v":0},"Danger",{"$f":"VLOOKUP(AS135,DEBUTSTEP!$AT$4:$AU$33,2,FALSE)","v":0},"Danger",{"$f":"VLOOKUP(AU135,DEBUTSTEP!$AT$4:$AU$33,2,FALSE)","v":0},"Danger",{"$f":"VLOOKUP(AW135,DEBUTSTEP!$AT$4:$AU$33,2,FALSE)","v":0},"Danger",{"$f":"VLOOKUP(AY135,DEBUTSTEP!$AT$4:$AU$33,2,FALSE)","v":0},"Danger",{"$f":"VLOOKUP(BA135,DEBUTSTEP!$AT$4:$AU$33,2,FALSE)","v":0},"Danger",{"$f":"VLOOKUP(BC135,DEBUTSTEP!$AT$4:$AU$33,2,FALSE)","v":0},"Danger",{"$f":"VLOOKUP(BE135,DEBUTSTEP!$AT$4:$AU$33,2,FALSE)","v":0},"Danger",{"$f":"VLOOKUP(BG135,DEBUTSTEP!$AT$4:$AU$33,2,FALSE)","v":0},"Danger",{"$f":"VLOOKUP(BI135,DEBUTSTEP!$AT$4:$AU$33,2,FALSE)","v":0},"Danger",{"$f":"VLOOKUP(BK135,DEBUTSTEP!$AT$4:$AU$33,2,FALSE)","v":0},"Danger",{"$f":"VLOOKUP(BM135,DEBUTSTEP!$AT$4:$AU$33,2,FALSE)","v":0},"Danger",{"$f":"VLOOKUP(BO135,DEBUTSTEP!$AT$4:$AU$33,2,FALSE)","v":0},"Danger",{"$f":"VLOOKUP(BQ135,DEBUTSTEP!$AT$4:$AU$33,2,FALSE)","v":0},"Danger",{"$f":"VLOOKUP(BS135,DEBUTSTEP!$AT$4:$AU$33,2,FALSE)","v":0}]
[]
[null,"Respecter l'entrainement prévu","Pas du tout",{"$f":"VLOOKUP(C137,DEBUTSTEP!$AV$4:$AW$33,2,FALSE)","v":0},"Pas du tout",{"$f":"VLOOKUP(E137,DEBUTSTEP!$AV$4:$AW$33,2,FALSE)","v":0},"Pas du tout",{"$f":"VLOOKUP(G137,DEBUTSTEP!$AV$4:$AW$33,2,FALSE)","v":0},"Pas du tout",{"$f":"VLOOKUP(I137,DEBUTSTEP!$AV$4:$AW$33,2,FALSE)","v":0},"Pas du tout",{"$f":"VLOOKUP(K137,DEBUTSTEP!$AV$4:$AW$33,2,FALSE)","v":0},"Pas du tout",{"$f":"VLOOKUP(M137,DEBUTSTEP!$AV$4:$AW$33,2,FALSE)","v":0},"Pas du tout",{"$f":"VLOOKUP(O137,DEBUTSTEP!$AV$4:$AW$33,2,FALSE)","v":0},"Pas du tout",{"$f":"VLOOKUP(Q137,DEBUTSTEP!$AV$4:$AW$33,2,FALSE)","v":0},"Pas du tout",{"$f":"VLOOKUP(S137,DEBUTSTEP!$AV$4:$AW$33,2,FALSE)","v":0},"Pas du tout",{"$f":"VLOOKUP(U137,DEBUTSTEP!$AV$4:$AW$33,2,FALSE)","v":0},"Pas du tout",{"$f":"VLOOKUP(W137,DEBUTSTEP!$AV$4:$AW$33,2,FALSE)","v":0},"Pas du tout",{"$f":"VLOOKUP(Y137,DEBUTSTEP!$AV$4:$AW$33,2,FALSE)","v":0},"Pas du tout",{"$f":"VLOOKUP(AA137,DEBUTSTEP!$AV$4:$AW$33,2,FALSE)","v":0},"Pas du tout",{"$f":"VLOOKUP(AC137,DEBUTSTEP!$AV$4:$AW$33,2,FALSE)","v":0},"Pas du tout",{"$f":"VLOOKUP(AE137,DEBUTSTEP!$AV$4:$AW$33,2,FALSE)","v":0},"Pas du tout",{"$f":"VLOOKUP(AG137,DEBUTSTEP!$AV$4:$AW$33,2,FALSE)","v":0},"Pas du tout",{"$f":"VLOOKUP(AI137,DEBUTSTEP!$AV$4:$AW$33,2,FALSE)","v":0},"Pas du tout",{"$f":"VLOOKUP(AK137,DEBUTSTEP!$AV$4:$AW$33,2,FALSE)","v":0},"Pas du tout",{"$f":"VLOOKUP(AM137,DEBUTSTEP!$AV$4:$AW$33,2,FALSE)","v":0},"Pas du tout",{"$f":"VLOOKUP(AO137,DEBUTSTEP!$AV$4:$AW$33,2,FALSE)","v":0},"Pas du tout",{"$f":"VLOOKUP(AQ137,DEBUTSTEP!$AV$4:$AW$33,2,FALSE)","v":0},"Pas du tout",{"$f":"VLOOKUP(AS137,DEBUTSTEP!$AV$4:$AW$33,2,FALSE)","v":0},"Pas du tout",{"$f":"VLOOKUP(AU137,DEBUTSTEP!$AV$4:$AW$33,2,FALSE)","v":0},"Pas du tout",{"$f":"VLOOKUP(AW137,DEBUTSTEP!$AV$4:$AW$33,2,FALSE)","v":0},"Pas du tout",{"$f":"VLOOKUP(AY137,DEBUTSTEP!$AV$4:$AW$33,2,FALSE)","v":0},"Pas du tout",{"$f":"VLOOKUP(BA137,DEBUTSTEP!$AV$4:$AW$33,2,FALSE)","v":0},"Pas du tout",{"$f":"VLOOKUP(BC137,DEBUTSTEP!$AV$4:$AW$33,2,FALSE)","v":0},"Pas du tout",{"$f":"VLOOKUP(BE137,DEBUTSTEP!$AV$4:$AW$33,2,FALSE)","v":0},"Pas du tout",{"$f":"VLOOKUP(BG137,DEBUTSTEP!$AV$4:$AW$33,2,FALSE)","v":0},"Pas du tout",{"$f":"VLOOKUP(BI137,DEBUTSTEP!$AV$4:$AW$33,2,FALSE)","v":0},"Pas du tout",{"$f":"VLOOKUP(BK137,DEBUTSTEP!$AV$4:$AW$33,2,FALSE)","v":0},"Pas du tout",{"$f":"VLOOKUP(BM137,DEBUTSTEP!$AV$4:$AW$33,2,FALSE)","v":0},"Pas du tout",{"$f":"VLOOKUP(BO137,DEBUTSTEP!$AV$4:$AW$33,2,FALSE)","v":0},"Pas du tout",{"$f":"VLOOKUP(BQ137,DEBUTSTEP!$AV$4:$AW$33,2,FALSE)","v":0},"Pas du tout",{"$f":"VLOOKUP(BS137,DEBUTSTEP!$AV$4:$AW$33,2,FALSE)","v":0}]
[]
[null,"Mémoriser les blocs","Aucune mémorisation",{"$f":"VLOOKUP(C139,DEBUTSTEP!$AX$4:$AY$33,2,FALSE)","v":0},"Aucune mémorisation",{"$f":"VLOOKUP(E139,DEBUTSTEP!$AX$4:$AY$33,2,FALSE)","v":0},"Aucune mémorisation",{"$f":"VLOOKUP(G139,DEBUTSTEP!$AX$4:$AY$33,2,FALSE)","v":0},"Aucune mémorisation",{"$f":"VLOOKUP(I139,DEBUTSTEP!$AX$4:$AY$33,2,FALSE)","v":0},"Aucune mémorisation",{"$f":"VLOOKUP(K139,DEBUTSTEP!$AX$4:$AY$33,2,FALSE)","v":0},"Aucune mémorisation",{"$f":"VLOOKUP(M139,DEBUTSTEP!$AX$4:$AY$33,2,FALSE)","v":0},"Aucune mémorisation",{"$f":"VLOOKUP(O139,DEBUTSTEP!$AX$4:$AY$33,2,FALSE)","v":0},"Aucune mémorisation",{"$f":"VLOOKUP(Q139,DEBUTSTEP!$AX$4:$AY$33,2,FALSE)","v":0},"Aucune mémorisation",{"$f":"VLOOKUP(S139,DEBUTSTEP!$AX$4:$AY$33,2,FALSE)","v":0},"Aucune mémorisation",{"$f":"VLOOKUP(U139,DEBUTSTEP!$AX$4:$AY$33,2,FALSE)","v":0},"Aucune mémorisation",{"$f":"VLOOKUP(W139,DEBUTSTEP!$AX$4:$AY$33,2,FALSE)","v":0},"Aucune mémorisation",{"$f":"VLOOKUP(Y139,DEBUTSTEP!$AX$4:$AY$33,2,FALSE)","v":0},"Aucune mémorisation",{"$f":"VLOOKUP(AA139,DEBUTSTEP!$AX$4:$AY$33,2,FALSE)","v":0},"Aucune mémorisation",{"$f":"VLOOKUP(AC139,DEBUTSTEP!$AX$4:$AY$33,2,FALSE)","v":0},"Aucune mémorisation",{"$f":"VLOOKUP(AE139,DEBUTSTEP!$AX$4:$AY$33,2,FALSE)","v":0},"Aucune mémorisation",{"$f":"VLOOKUP(AG139,DEBUTSTEP!$AX$4:$AY$33,2,FALSE)","v":0},"Aucune mémorisation",{"$f":"VLOOKUP(AI139,DEBUTSTEP!$AX$4:$AY$33,2,FALSE)","v":0},"Aucune mémorisation",{"$f":"VLOOKUP(AK139,DEBUTSTEP!$AX$4:$AY$33,2,FALSE)","v":0},"Aucune mémorisation",{"$f":"VLOOKUP(AM139,DEBUTSTEP!$AX$4:$AY$33,2,FALSE)","v":0},"Aucune mémorisation",{"$f":"VLOOKUP(AO139,DEBUTSTEP!$AX$4:$AY$33,2,FALSE)","v":0},"Aucune mémorisation",{"$f":"VLOOKUP(AQ139,DEBUTSTEP!$AX$4:$AY$33,2,FALSE)","v":0},"Aucune mémorisation",{"$f":"VLOOKUP(AS139,DEBUTSTEP!$AX$4:$AY$33,2,FALSE)","v":0},"Aucune mémorisation",{"$f":"VLOOKUP(AU139,DEBUTSTEP!$AX$4:$AY$33,2,FALSE)","v":0},"Aucune mémorisation",{"$f":"VLOOKUP(AW139,DEBUTSTEP!$AX$4:$AY$33,2,FALSE)","v":0},"Aucune mémorisation",{"$f":"VLOOKUP(AY139,DEBUTSTEP!$AX$4:$AY$33,2,FALSE)","v":0},"Aucune mémorisation",{"$f":"VLOOKUP(BA139,DEBUTSTEP!$AX$4:$AY$33,2,FALSE)","v":0},"Aucune mémorisation",{"$f":"VLOOKUP(BC139,DEBUTSTEP!$AX$4:$AY$33,2,FALSE)","v":0},"Aucune mémorisation",{"$f":"VLOOKUP(BE139,DEBUTSTEP!$AX$4:$AY$33,2,FALSE)","v":0},"Aucune mémorisation",{"$f":"VLOOKUP(BG139,DEBUTSTEP!$AX$4:$AY$33,2,FALSE)","v":0},"Aucune mémorisation",{"$f":"VLOOKUP(BI139,DEBUTSTEP!$AX$4:$AY$33,2,FALSE)","v":0},"Aucune mémorisation",{"$f":"VLOOKUP(BK139,DEBUTSTEP!$AX$4:$AY$33,2,FALSE)","v":0},"Aucune mémorisation",{"$f":"VLOOKUP(BM139,DEBUTSTEP!$AX$4:$AY$33,2,FALSE)","v":0},"Aucune mémorisation",{"$f":"VLOOKUP(BO139,DEBUTSTEP!$AX$4:$AY$33,2,FALSE)","v":0},"Aucune mémorisation",{"$f":"VLOOKUP(BQ139,DEBUTSTEP!$AX$4:$AY$33,2,FALSE)","v":0},"Aucune mémorisation",{"$f":"VLOOKUP(BS139,DEBUTSTEP!$AX$4:$AY$33,2,FALSE)","v":0}]
[]
[null,"Analyser sa prestation","Imprécise",{"$f":"VLOOKUP(C141,DEBUTSTEP!$AZ$4:$BA$33,2,FALSE)","v":1},"Imprécise",{"$f":"VLOOKUP(E141,DEBUTSTEP!$AZ$4:$BA$33,2,FALSE)","v":1},"Imprécise",{"$f":"VLOOKUP(G141,DEBUTSTEP!$AZ$4:$BA$33,2,FALSE)","v":1},"Imprécise",{"$f":"VLOOKUP(I141,DEBUTSTEP!$AZ$4:$BA$33,2,FALSE)","v":1},"Imprécise",{"$f":"VLOOKUP(K141,DEBUTSTEP!$AZ$4:$BA$33,2,FALSE)","v":1},"Imprécise",{"$f":"VLOOKUP(M141,DEBUTSTEP!$AZ$4:$BA$33,2,FALSE)","v":1},"Imprécise",{"$f":"VLOOKUP(O141,DEBUTSTEP!$AZ$4:$BA$33,2,FALSE)","v":1},"Imprécise",{"$f":"VLOOKUP(Q141,DEBUTSTEP!$AZ$4:$BA$33,2,FALSE)","v":1},"Imprécise",{"$f":"VLOOKUP(S141,DEBUTSTEP!$AZ$4:$BA$33,2,FALSE)","v":1},"Imprécise",{"$f":"VLOOKUP(U141,DEBUTSTEP!$AZ$4:$BA$33,2,FALSE)","v":1},"Imprécise",{"$f":"VLOOKUP(W141,DEBUTSTEP!$AZ$4:$BA$33,2,FALSE)","v":1},"Imprécise",{"$f":"VLOOKUP(Y141,DEBUTSTEP!$AZ$4:$BA$33,2,FALSE)","v":1},"Imprécise",{"$f":"VLOOKUP(AA141,DEBUTSTEP!$AZ$4:$BA$33,2,FALSE)","v":1},"Imprécise",{"$f":"VLOOKUP(AC141,DEBUTSTEP!$AZ$4:$BA$33,2,FALSE)","v":1},"Imprécise",{"$f":"VLOOKUP(AE141,DEBUTSTEP!$AZ$4:$BA$33,2,FALSE)","v":1},"Imprécise",{"$f":"VLOOKUP(AG141,DEBUTSTEP!$AZ$4:$BA$33,2,FALSE)","v":1},"Imprécise",{"$f":"VLOOKUP(AI141,DEBUTSTEP!$AZ$4:$BA$33,2,FALSE)","v":1},"Imprécise",{"$f":"VLOOKUP(AK141,DEBUTSTEP!$AZ$4:$BA$33,2,FALSE)","v":1},"Imprécise",{"$f":"VLOOKUP(AM141,DEBUTSTEP!$AZ$4:$BA$33,2,FALSE)","v":1},"Imprécise",{"$f":"VLOOKUP(AO141,DEBUTSTEP!$AZ$4:$BA$33,2,FALSE)","v":1},"Imprécise",{"$f":"VLOOKUP(AQ141,DEBUTSTEP!$AZ$4:$BA$33,2,FALSE)","v":1},"Imprécise",{"$f":"VLOOKUP(AS141,DEBUTSTEP!$AZ$4:$BA$33,2,FALSE)","v":1},"Imprécise",{"$f":"VLOOKUP(AU141,DEBUTSTEP!$AZ$4:$BA$33,2,FALSE)","v":1},"Imprécise",{"$f":"VLOOKUP(AW141,DEBUTSTEP!$AZ$4:$BA$33,2,FALSE)","v":1},"Imprécise",{"$f":"VLOOKUP(AY141,DEBUTSTEP!$AZ$4:$BA$33,2,FALSE)","v":1},"Imprécise",{"$f":"VLOOKUP(BA141,DEBUTSTEP!$AZ$4:$BA$33,2,FALSE)","v":1},"Imprécise",{"$f":"VLOOKUP(BC141,DEBUTSTEP!$AZ$4:$BA$33,2,FALSE)","v":1},"Imprécise",{"$f":"VLOOKUP(BE141,DEBUTSTEP!$AZ$4:$BA$33,2,FALSE)","v":1},"Imprécise",{"$f":"VLOOKUP(BG141,DEBUTSTEP!$AZ$4:$BA$33,2,FALSE)","v":1},"Imprécise",{"$f":"VLOOKUP(BI141,DEBUTSTEP!$AZ$4:$BA$33,2,FALSE)","v":1},"Imprécise",{"$f":"VLOOKUP(BK141,DEBUTSTEP!$AZ$4:$BA$33,2,FALSE)","v":1},"Imprécise",{"$f":"VLOOKUP(BM141,DEBUTSTEP!$AZ$4:$BA$33,2,FALSE)","v":1},"Imprécise",{"$f":"VLOOKUP(BO141,DEBUTSTEP!$AZ$4:$BA$33,2,FALSE)","v":1},"Imprécise",{"$f":"VLOOKUP(BQ141,DEBUTSTEP!$AZ$4:$BA$33,2,FALSE)","v":1},"Imprécise",{"$f":"VLOOKUP(BS141,DEBUTSTEP!$AZ$4:$BA$33,2,FALSE)","v":1}]
[]
[null,"NOTE",{"$f":"IF(OR(D131=\"x\",D133=\"x\",D135=\"x\",D137=\"x\",D139=\"x\",D141=\"x\"),\"ABSENT\",SUMIF(D131,\"<>X\")+SUMIF(D133,\"<>X\")+SUMIF(D135,\"<>X\")+SUMIF(D137,\"<>X\")+SUMIF(D139,\"<>X\")+SUMIF(D141,\"<>X\"))","v":"ABSENT"},null,{"$f":"IF(OR(F131=\"x\",F133=\"x\",F135=\"x\",F137=\"x\",F139=\"x\",F141=\"x\"),\"ABSENT\",SUMIF(F131,\"<>X\")+SUMIF(F133,\"<>X\")+SUMIF(F135,\"<>X\")+SUMIF(F137,\"<>X\")+SUMIF(F139,\"<>X\")+SUMIF(F141,\"<>X\"))","v":"ABSENT"},null,{"$f":"IF(OR(H131=\"x\",H133=\"x\",H135=\"x\",H137=\"x\",H139=\"x\",H141=\"x\"),\"ABSENT\",SUMIF(H131,\"<>X\")+SUMIF(H133,\"<>X\")+SUMIF(H135,\"<>X\")+SUMIF(H137,\"<>X\")+SUMIF(H139,\"<>X\")+SUMIF(H141,\"<>X\"))","v":"ABSENT"},null,{"$f":"IF(OR(J131=\"x\",J133=\"x\",J135=\"x\",J137=\"x\",J139=\"x\",J141=\"x\"),\"ABSENT\",SUMIF(J131,\"<>X\")+SUMIF(J133,\"<>X\")+SUMIF(J135,\"<>X\")+SUMIF(J137,\"<>X\")+SUMIF(J139,\"<>X\")+SUMIF(J141,\"<>X\"))","v":"ABSENT"},null,{"$f":"IF(OR(L131=\"x\",L133=\"x\",L135=\"x\",L137=\"x\",L139=\"x\",L141=\"x\"),\"ABSENT\",SUMIF(L131,\"<>X\")+SUMIF(L133,\"<>X\")+SUMIF(L135,\"<>X\")+SUMIF(L137,\"<>X\")+SUMIF(L139,\"<>X\")+SUMIF(L141,\"<>X\"))","v":"ABSENT"},null,{"$f":"IF(OR(N131=\"x\",N133=\"x\",N135=\"x\",N137=\"x\",N139=\"x\",N141=\"x\"),\"ABSENT\",SUMIF(N131,\"<>X\")+SUMIF(N133,\"<>X\")+SUMIF(N135,\"<>X\")+SUMIF(N137,\"<>X\")+SUMIF(N139,\"<>X\")+SUMIF(N141,\"<>X\"))","v":"ABSENT"},null,{"$f":"IF(OR(P131=\"x\",P133=\"x\",P135=\"x\",P137=\"x\",P139=\"x\",P141=\"x\"),\"ABSENT\",SUMIF(P131,\"<>X\")+SUMIF(P133,\"<>X\")+SUMIF(P135,\"<>X\")+SUMIF(P137,\"<>X\")+SUMIF(P139,\"<>X\")+SUMIF(P141,\"<>X\"))","v":"ABSENT"},null,{"$f":"IF(OR(R131=\"x\",R133=\"x\",R135=\"x\",R137=\"x\",R139=\"x\",R141=\"x\"),\"ABSENT\",SUMIF(R131,\"<>X\")+SUMIF(R133,\"<>X\")+SUMIF(R135,\"<>X\")+SUMIF(R137,\"<>X\")+SUMIF(R139,\"<>X\")+SUMIF(R141,\"<>X\"))","v":"ABSENT"},null,{"$f":"IF(OR(T131=\"x\",T133=\"x\",T135=\"x\",T137=\"x\",T139=\"x\",T141=\"x\"),\"ABSENT\",SUMIF(T131,\"<>X\")+SUMIF(T133,\"<>X\")+SUMIF(T135,\"<>X\")+SUMIF(T137,\"<>X\")+SUMIF(T139,\"<>X\")+SUMIF(T141,\"<>X\"))","v":"ABSENT"},null,{"$f":"IF(OR(V131=\"x\",V133=\"x\",V135=\"x\",V137=\"x\",V139=\"x\",V141=\"x\"),\"ABSENT\",SUMIF(V131,\"<>X\")+SUMIF(V133,\"<>X\")+SUMIF(V135,\"<>X\")+SUMIF(V137,\"<>X\")+SUMIF(V139,\"<>X\")+SUMIF(V141,\"<>X\"))","v":"ABSENT"},null,{"$f":"IF(OR(X131=\"x\",X133=\"x\",X135=\"x\",X137=\"x\",X139=\"x\",X141=\"x\"),\"ABSENT\",SUMIF(X131,\"<>X\")+SUMIF(X133,\"<>X\")+SUMIF(X135,\"<>X\")+SUMIF(X137,\"<>X\")+SUMIF(X139,\"<>X\")+SUMIF(X141,\"<>X\"))","v":"ABSENT"},null,{"$f":"IF(OR(Z131=\"x\",Z133=\"x\",Z135=\"x\",Z137=\"x\",Z139=\"x\",Z141=\"x\"),\"ABSENT\",SUMIF(Z131,\"<>X\")+SUMIF(Z133,\"<>X\")+SUMIF(Z135,\"<>X\")+SUMIF(Z137,\"<>X\")+SUMIF(Z139,\"<>X\")+SUMIF(Z141,\"<>X\"))","v":"ABSENT"},null,{"$f":"IF(OR(AB131=\"x\",AB133=\"x\",AB135=\"x\",AB137=\"x\",AB139=\"x\",AB141=\"x\"),\"ABSENT\",SUMIF(AB131,\"<>X\")+SUMIF(AB133,\"<>X\")+SUMIF(AB135,\"<>X\")+SUMIF(AB137,\"<>X\")+SUMIF(AB139,\"<>X\")+SUMIF(AB141,\"<>X\"))","v":"ABSENT"},null,{"$f":"IF(OR(AD131=\"x\",AD133=\"x\",AD135=\"x\",AD137=\"x\",AD139=\"x\",AD141=\"x\"),\"ABSENT\",SUMIF(AD131,\"<>X\")+SUMIF(AD133,\"<>X\")+SUMIF(AD135,\"<>X\")+SUMIF(AD137,\"<>X\")+SUMIF(AD139,\"<>X\")+SUMIF(AD141,\"<>X\"))","v":"ABSENT"},null,{"$f":"IF(OR(AF131=\"x\",AF133=\"x\",AF135=\"x\",AF137=\"x\",AF139=\"x\",AF141=\"x\"),\"ABSENT\",SUMIF(AF131,\"<>X\")+SUMIF(AF133,\"<>X\")+SUMIF(AF135,\"<>X\")+SUMIF(AF137,\"<>X\")+SUMIF(AF139,\"<>X\")+SUMIF(AF141,\"<>X\"))","v":"ABSENT"},null,{"$f":"IF(OR(AH131=\"x\",AH133=\"x\",AH135=\"x\",AH137=\"x\",AH139=\"x\",AH141=\"x\"),\"ABSENT\",SUMIF(AH131,\"<>X\")+SUMIF(AH133,\"<>X\")+SUMIF(AH135,\"<>X\")+SUMIF(AH137,\"<>X\")+SUMIF(AH139,\"<>X\")+SUMIF(AH141,\"<>X\"))","v":"ABSENT"},null,{"$f":"IF(OR(AJ131=\"x\",AJ133=\"x\",AJ135=\"x\",AJ137=\"x\",AJ139=\"x\",AJ141=\"x\"),\"ABSENT\",SUMIF(AJ131,\"<>X\")+SUMIF(AJ133,\"<>X\")+SUMIF(AJ135,\"<>X\")+SUMIF(AJ137,\"<>X\")+SUMIF(AJ139,\"<>X\")+SUMIF(AJ141,\"<>X\"))","v":"ABSENT"},null,{"$f":"IF(OR(AL131=\"x\",AL133=\"x\",AL135=\"x\",AL137=\"x\",AL139=\"x\",AL141=\"x\"),\"ABSENT\",SUMIF(AL131,\"<>X\")+SUMIF(AL133,\"<>X\")+SUMIF(AL135,\"<>X\")+SUMIF(AL137,\"<>X\")+SUMIF(AL139,\"<>X\")+SUMIF(AL141,\"<>X\"))","v":"ABSENT"},null,{"$f":"IF(OR(AN131=\"x\",AN133=\"x\",AN135=\"x\",AN137=\"x\",AN139=\"x\",AN141=\"x\"),\"ABSENT\",SUMIF(AN131,\"<>X\")+SUMIF(AN133,\"<>X\")+SUMIF(AN135,\"<>X\")+SUMIF(AN137,\"<>X\")+SUMIF(AN139,\"<>X\")+SUMIF(AN141,\"<>X\"))","v":"ABSENT"},null,{"$f":"IF(OR(AP131=\"x\",AP133=\"x\",AP135=\"x\",AP137=\"x\",AP139=\"x\",AP141=\"x\"),\"ABSENT\",SUMIF(AP131,\"<>X\")+SUMIF(AP133,\"<>X\")+SUMIF(AP135,\"<>X\")+SUMIF(AP137,\"<>X\")+SUMIF(AP139,\"<>X\")+SUMIF(AP141,\"<>X\"))","v":"ABSENT"},null,{"$f":"IF(OR(AR131=\"x\",AR133=\"x\",AR135=\"x\",AR137=\"x\",AR139=\"x\",AR141=\"x\"),\"ABSENT\",SUMIF(AR131,\"<>X\")+SUMIF(AR133,\"<>X\")+SUMIF(AR135,\"<>X\")+SUMIF(AR137,\"<>X\")+SUMIF(AR139,\"<>X\")+SUMIF(AR141,\"<>X\"))","v":"ABSENT"},null,{"$f":"IF(OR(AT131=\"x\",AT133=\"x\",AT135=\"x\",AT137=\"x\",AT139=\"x\",AT141=\"x\"),\"ABSENT\",SUMIF(AT131,\"<>X\")+SUMIF(AT133,\"<>X\")+SUMIF(AT135,\"<>X\")+SUMIF(AT137,\"<>X\")+SUMIF(AT139,\"<>X\")+SUMIF(AT141,\"<>X\"))","v":"ABSENT"},null,{"$f":"IF(OR(AV131=\"x\",AV133=\"x\",AV135=\"x\",AV137=\"x\",AV139=\"x\",AV141=\"x\"),\"ABSENT\",SUMIF(AV131,\"<>X\")+SUMIF(AV133,\"<>X\")+SUMIF(AV135,\"<>X\")+SUMIF(AV137,\"<>X\")+SUMIF(AV139,\"<>X\")+SUMIF(AV141,\"<>X\"))","v":"ABSENT"},null,{"$f":"IF(OR(AX131=\"x\",AX133=\"x\",AX135=\"x\",AX137=\"x\",AX139=\"x\",AX141=\"x\"),\"ABSENT\",SUMIF(AX131,\"<>X\")+SUMIF(AX133,\"<>X\")+SUMIF(AX135,\"<>X\")+SUMIF(AX137,\"<>X\")+SUMIF(AX139,\"<>X\")+SUMIF(AX141,\"<>X\"))","v":"ABSENT"},null,{"$f":"IF(OR(AZ131=\"x\",AZ133=\"x\",AZ135=\"x\",AZ137=\"x\",AZ139=\"x\",AZ141=\"x\"),\"ABSENT\",SUMIF(AZ131,\"<>X\")+SUMIF(AZ133,\"<>X\")+SUMIF(AZ135,\"<>X\")+SUMIF(AZ137,\"<>X\")+SUMIF(AZ139,\"<>X\")+SUMIF(AZ141,\"<>X\"))","v":"ABSENT"},null,{"$f":"IF(OR(BB131=\"x\",BB133=\"x\",BB135=\"x\",BB137=\"x\",BB139=\"x\",BB141=\"x\"),\"ABSENT\",SUMIF(BB131,\"<>X\")+SUMIF(BB133,\"<>X\")+SUMIF(BB135,\"<>X\")+SUMIF(BB137,\"<>X\")+SUMIF(BB139,\"<>X\")+SUMIF(BB141,\"<>X\"))","v":"ABSENT"},null,{"$f":"IF(OR(BD131=\"x\",BD133=\"x\",BD135=\"x\",BD137=\"x\",BD139=\"x\",BD141=\"x\"),\"ABSENT\",SUMIF(BD131,\"<>X\")+SUMIF(BD133,\"<>X\")+SUMIF(BD135,\"<>X\")+SUMIF(BD137,\"<>X\")+SUMIF(BD139,\"<>X\")+SUMIF(BD141,\"<>X\"))","v":"ABSENT"},null,{"$f":"IF(OR(BF131=\"x\",BF133=\"x\",BF135=\"x\",BF137=\"x\",BF139=\"x\",BF141=\"x\"),\"ABSENT\",SUMIF(BF131,\"<>X\")+SUMIF(BF133,\"<>X\")+SUMIF(BF135,\"<>X\")+SUMIF(BF137,\"<>X\")+SUMIF(BF139,\"<>X\")+SUMIF(BF141,\"<>X\"))","v":"ABSENT"},null,{"$f":"IF(OR(BH131=\"x\",BH133=\"x\",BH135=\"x\",BH137=\"x\",BH139=\"x\",BH141=\"x\"),\"ABSENT\",SUMIF(BH131,\"<>X\")+SUMIF(BH133,\"<>X\")+SUMIF(BH135,\"<>X\")+SUMIF(BH137,\"<>X\")+SUMIF(BH139,\"<>X\")+SUMIF(BH141,\"<>X\"))","v":"ABSENT"},null,{"$f":"IF(OR(BJ131=\"x\",BJ133=\"x\",BJ135=\"x\",BJ137=\"x\",BJ139=\"x\",BJ141=\"x\"),\"ABSENT\",SUMIF(BJ131,\"<>X\")+SUMIF(BJ133,\"<>X\")+SUMIF(BJ135,\"<>X\")+SUMIF(BJ137,\"<>X\")+SUMIF(BJ139,\"<>X\")+SUMIF(BJ141,\"<>X\"))","v":"ABSENT"},null,{"$f":"IF(OR(BL131=\"x\",BL133=\"x\",BL135=\"x\",BL137=\"x\",BL139=\"x\",BL141=\"x\"),\"ABSENT\",SUMIF(BL131,\"<>X\")+SUMIF(BL133,\"<>X\")+SUMIF(BL135,\"<>X\")+SUMIF(BL137,\"<>X\")+SUMIF(BL139,\"<>X\")+SUMIF(BL141,\"<>X\"))","v":"ABSENT"},null,{"$f":"IF(OR(BN131=\"x\",BN133=\"x\",BN135=\"x\",BN137=\"x\",BN139=\"x\",BN141=\"x\"),\"ABSENT\",SUMIF(BN131,\"<>X\")+SUMIF(BN133,\"<>X\")+SUMIF(BN135,\"<>X\")+SUMIF(BN137,\"<>X\")+SUMIF(BN139,\"<>X\")+SUMIF(BN141,\"<>X\"))","v":"ABSENT"},null,{"$f":"IF(OR(BP131=\"x\",BP133=\"x\",BP135=\"x\",BP137=\"x\",BP139=\"x\",BP141=\"x\"),\"ABSENT\",SUMIF(BP131,\"<>X\")+SUMIF(BP133,\"<>X\")+SUMIF(BP135,\"<>X\")+SUMIF(BP137,\"<>X\")+SUMIF(BP139,\"<>X\")+SUMIF(BP141,\"<>X\"))","v":"ABSENT"},null,{"$f":"IF(OR(BR131=\"x\",BR133=\"x\",BR135=\"x\",BR137=\"x\",BR139=\"x\",BR141=\"x\"),\"ABSENT\",SUMIF(BR131,\"<>X\")+SUMIF(BR133,\"<>X\")+SUMIF(BR135,\"<>X\")+SUMIF(BR137,\"<>X\")+SUMIF(BR139,\"<>X\")+SUMIF(BR141,\"<>X\"))","v":"ABSENT"},null,{"$f":"IF(OR(BT131=\"x\",BT133=\"x\",BT135=\"x\",BT137=\"x\",BT139=\"x\",BT141=\"x\"),\"ABSENT\",SUMIF(BT131,\"<>X\")+SUMIF(BT133,\"<>X\")+SUMIF(BT135,\"<>X\")+SUMIF(BT137,\"<>X\")+SUMIF(BT139,\"<>X\")+SUMIF(BT141,\"<>X\"))","v":"ABSENT"}]