{"text_format":"1","workbook":"xlsx","n_sheets":18,"sheets":["Accueil","-","Explications","- - -","Avant la séance","--","Paramétrages","- -","Débuter la séance","---","Tournoi Victoires","----","Classement","-----","Arch1","------","Archives","Feuil1"],"not_rendered":{"charts":0,"images":6,"macros":1,"external_links":0,"defined_names":3,"comments":0,"pivot_tables":0},"unopened":[],"bounds":{"document_bytes":16777216,"sheet_cells":100000,"rows_first":2000,"rows_last":500,"rows_between":2000,"halvings":0,"cell_chars":16384,"cell_head_chars":4096},"cells_cut":0,"cells_raw":0,"read":"whole","date_system":"1900"}

{"sheet":"Accueil","index":0,"n_rows":20,"n_cols":10,"rows_kept":20,"cut":false,"hidden":false,"merged":[[20,1,20,8],[19,1,19,8],[1,1,1,10],[3,1,3,10],[19,9,19,10],[15,1,15,10],[16,1,16,10],[17,1,17,10],[18,1,18,8],[4,1,4,10]]}
[]
[null,"Présentation de Tournoi Victoires"]
[]
[null,"Pour la gestion d'un tournoi défi, dans une activité duelle, et sur un cycle"]
[]
[]
[]
[]
[]
[]
[]
[]
[]
[]
[]
[]
[null,"Cette application n'est pas verrouillée par mot de passe. Vous pourez donc la modifier à votre convenance. Il s'agit d'un tournoi qui vous permettra de classer vos élèves. "]
[null,"Un élève ne peut défier qu'un autre élève qui a le même nombre de victoires que lui."]
[null,"Ctrl + Shift + D    =>   Déverrouillage de l'application (L'application est verrouillée par défaut)"]
[null,"Ctrl + Shift + V    =>   Verrouillage de l'application",null,null,null,null,null,null,null,"Cette oeuvre est sous licence Creative Commons\n Paternité - Pas d'Utilisation Commerciale 2.0 France."]

{"sheet":"-","index":1,"n_rows":0,"n_cols":0,"rows_kept":0,"cut":false,"hidden":false,"merged":[]}

{"sheet":"Explications","index":2,"n_rows":64,"n_cols":9,"rows_kept":64,"cut":false,"hidden":false,"merged":[[21,8,22,10]]}
[]
["     Explications de l'application :"]
[]
[]
[" Il s'agit d'une application qui gère un tournoi défi en fonction du nombre de victoires."]
[" L'enseignant n'a que 2 étapes à suivre et le reste peut être réalisé par les élèves :"]
[]
[null,null,"Cette étape vous permet de renseigner les noms, les prénoms et la classe des élèves"]
[null,null,"sous 2 formes différentes (soit en 2 colonnes différentes, soit sous une forme concaténée, cad nom + prénom)"]
[]
[" Revenir à l'accueil"]
[null,null,null,null,null,null,null,null,"Remise à zéro des Noms et Prénoms"]
[]
[]
[]
[]
[null,null,"Cette étape vous permet de renseigner les Absents et les Inaptes : Pour cela, il faut cliquer sur la case blanche"]
[null,null,"devant le prénom, puis cliquer sur inapte ou absent. Cela rempli automatiquement le nombre d'élèves pour la séance."]
[]
[]
[]
[null,null,null,null,null,null,null,null,"Permet de revenir à la page précédente pour ajouter un prénom oublié."]
[]
[]
[]
[]
[]
[]
[null,null,"Cette étape vous fait accéder au tournoi défi et nous allons voir comment utiliser l'application :"]
[]
[]
[]
[]
[]
[]
[]
[]
[]
[]
[]
["1 - Pour accorder une victoire à un joueur, il suffit de sélectionner le joueur dans la colonne de gauche puis de cliquer sur le bouton \"Victoire\"."]
["      Si vous vous êtes trompés, il vous suffit de sélectionner de nouveau ce joueur puis de cliquer sur le bouton \"Correction\"."]
[]
["2 - Le bouton \"Classement\" permet aux élèves ou à l'enseignant de se tenir au courant au fur et à mesure du classement exact des élèves qui tient"]
["       compte du nombre de victoires."]
[]
[]
[]
[]
[]
[]
[]
[]
[]
[]
[]
[]
[]
[]
[]
[" Il vous suffira alors de cliquer sur le bouton \"Accéder à l'application Tournoi\" pour revenir au tournoi."]
[]
["3 - A la fin du cours ou lorsque vous avez terminé le tournoi, vous pouvez l'archiver en cliquant sur le bouton \"Archiver\"."]
["      Il est possible d'archiver jusqu'à 8 tournois et vous arrivez sur cette page :"]

{"sheet":"- - -","index":3,"n_rows":0,"n_cols":0,"rows_kept":0,"cut":false,"hidden":false,"merged":[]}

{"sheet":"Avant la séance","index":4,"n_rows":43,"n_cols":7,"rows_kept":43,"cut":false,"hidden":false,"merged":[]}
["Feuille de saisie des Noms et des Prénoms des participants",null,null,null,"Classe   "]
[]
[null,"NOM","Prénom",null,"NOM Prénom",null,"NOM Prénom"]
[1,null,null,1,null,1,{"$f":"IF(E4<>\"\",E4,IF(OR(B4<>\"\",C4<>\"\"),CONCATENATE(B4,\" \",C4),\"zzz\"))","v":"zzz"}]
[2,null,null,2,null,2,{"$f":"IF(E5<>\"\",E5,IF(OR(B5<>\"\",C5<>\"\"),CONCATENATE(B5,\" \",C5),\"zzz\"))","v":"zzz"}]
[3,null,null,3,null,3,"zzz"]
[4,null,null,4,null,4,"zzz"]
[5,null,null,5,null,5,"zzz"]
[6,null,null,6,null,6,"zzz"]
[7,null,null,7,null,7,"zzz"]
[8,null,null,8,null,8,"zzz"]
[9,null,null,9,null,9,"zzz"]
[10,null,null,10,null,10,"zzz"]
[11,null,null,11,null,11,"zzz"]
[12,null,null,12,null,12,"zzz"]
[13,null,null,13,null,13,"zzz"]
[14,null,null,14,null,14,"zzz"]
[15,null,null,15,null,15,"zzz"]
[16,null,null,16,null,16,"zzz"]
[17,null,null,17,null,17,"zzz"]
[18,null,null,18,null,18,"zzz"]
[19,null,null,19,null,19,"zzz"]
[20,null,null,20,null,20,"zzz"]
[21,null,null,21,null,21,"zzz"]
[22,null,null,22,null,22,"zzz"]
[23,null,null,23,null,23,"zzz"]
[24,null,null,24,null,24,"zzz"]
[25,null,null,25,null,25,"zzz"]
[26,null,null,26,null,26,"zzz"]
[27,null,null,27,null,27,"zzz"]
[28,null,null,28,null,28,"zzz"]
[29,null,null,29,null,29,"zzz"]
[30,null,null,30,null,30,"zzz"]
[31,null,null,31,null,31,"zzz"]
[32,null,null,32,null,32,"zzz"]
[33,null,null,33,null,33,"zzz"]
[34,null,null,34,null,34,"zzz"]
[35,null,null,35,null,35,"zzz"]
[36,null,null,36,null,36,"zzz"]
[37,null,null,37,null,37,"zzz"]
[38,null,null,38,null,38,"zzz"]
[39,null,null,39,null,39,"zzz"]
[40,null,null,40,null,40,"zzz"]

{"sheet":"--","index":5,"n_rows":0,"n_cols":0,"rows_kept":0,"cut":false,"hidden":false,"merged":[]}

{"sheet":"Paramétrages","index":6,"n_rows":125,"n_cols":8,"rows_kept":125,"cut":false,"hidden":false,"merged":[[14,0,15,9],[0,1,1,3],[0,7,1,7]]}
[null,"Passage de ceinture",null,null,null,null,null,"Nombre d'élèves"]
[]
[null,"en",{"$f":"IF(H3<7,1,VLOOKUP(H3,D23:E56,2))","v":7},{"$f":"IF(C3=1,\"victoire\",\"victoires\")","v":"victoires"},null,null,null,{"$f":"'Débuter la séance'!B2","v":40}]
[]
[null,"Ceintures"]
[null,"Blanche",1,{"$f":"C7-1","v":6}]
[null,"Jaune",{"$f":"$C$3*1","v":7},{"$f":"C8-1","v":13}]
[null,"Orange",{"$f":"$C$3*2","v":14},20]
[null,"Verte",{"$f":"$C$3*3","v":21},27]
[null,"Bleue",{"$f":"$C$3*4","v":28},34]
[null,"Marron",{"$f":"$C$3*5","v":35},41]
[null,"Noir",{"$f":"$C$3*6","v":42},{"$f":"C12&\" et +\"","v":"42 et +"}]
[]
[]
["Paramétrage des couleurs de ceinture - Nombre de victoires nécessaires pour obtenir la ceinture supérieure"]
[]
[]
[]
[]
[]
[]
[null,null,null,"Nbe élèves"]
[null,null,null,7,2]
[null,null,null,8,2]
[null,null,null,9,2]
[null,null,null,10,2]
[null,null,null,11,2]
[null,null,null,12,2]
[null,null,null,13,2]
[null,null,null,14,2]
[null,null,null,15,2]
[null,null,null,16,3]
[null,null,null,17,3]
[null,null,null,18,3]
[null,null,null,19,3]
[null,null,null,20,3]
[null,null,null,21,3]
[null,null,null,22,4]
[null,null,null,23,4]
[null,null,null,24,4]
[null,null,null,25,4]
[null,null,null,26,4]
[null,null,null,27,4]
[null,null,null,28,5]
[null,null,null,29,5]
[null,null,null,30,5]
[null,null,null,31,5]
[null,null,null,32,5]
[null,null,null,33,5]
[null,null,null,34,6]
[null,null,null,35,6]
[null,null,null,36,6]
[null,null,null,37,6]
[null,null,null,38,6]
[null,null,null,39,6]
[null,null,null,40,7]
[]
[]
[]
[]
[]
[]
[]
[]
[]
[]
[]
[]
[]
[]
[]
[]
[]
[]
[]
[]
[]
[]
[]
[]
[]
[]
[]
[]
[]
[]
[]
[]
[]
[]
[]
[]
[]
[]
[]
[]
[]
[]
[]
[]
[]
[]
[]
[]
[]
[]
[]
[]
[]
[]
[]
[]
[]
[]
[]
[]
[]
["Gestion des Archives du Tournoi"]
[]
[null,null,null,null,"DATE"]
[null,null,null,null,{"$f":"TODAY()","v":"2012-02-11"}]
[]
[]
[]
[null,null,null,null,"Date",null,"Classe"]

{"sheet":"- -","index":7,"n_rows":0,"n_cols":0,"rows_kept":0,"cut":false,"hidden":false,"merged":[]}

{"sheet":"Débuter la séance","index":8,"n_rows":43,"n_cols":10,"rows_kept":43,"cut":false,"hidden":false,"merged":[[13,1,13,3],[2,1,2,3],[3,1,3,3],[4,1,4,3],[5,1,5,3],[6,1,6,3],[7,1,7,3],[8,1,8,3],[9,1,9,3],[10,1,10,3],[11,1,11,3],[12,1,12,3],[25,1,25,3],[14,1,14,3],[15,1,15,3],[16,1,16,3],[17,1,17,3],[18,1,18,3],[19,1,19,3],[20,1,20,3],[21,1,21,3],[22,1,22,3],[23,1,23,3],[24,1,24,3],[37,1,37,3],[26,1,26,3],[27,1,27,3],[28,1,28,3],[29,1,29,3],[30,1,30,3],[31,1,31,3],[32,1,32,3],[33,1,33,3],[34,1,34,3],[35,1,35,3],[36,1,36,3],[38,1,38,3],[39,1,39,3],[40,1,40,3],[41,1,41,3],[42,1,42,3]]}
["Feuille de saisie des Absences et des Inaptitudes"]
[null,{"$f":"MAX(A4:A43)-C2-D2","v":40},{"$f":"COUNTIF(B4:B43,\"Inapte\")","v":0},{"$f":"COUNTIF(B4:B43,\"Absent(e)\")","v":0},{"$f":"MAX(A4:A43)","v":40}]
[0,"Absence / Inaptitude",null,null,"NOM Prénom  (classement alphabétique)",{"$f":"IF('Avant la séance'!F1=\"\",\"\",'Avant la séance'!F1)","v":""},"PARTICIPANTS  (classement alphabétique)",null,"PARTICIPANTS  (classement alphabétique)"]
[{"$f":"IF(E4=\"zzz\",\"\",A3+1)","v":1},null,null,null,null,{"$f":"IF(E4=\"zzz\",\"\",A3+1)","v":1},{"$f":"IF(OR(B4<>\"\",E4=\"\"),\"zzz\",E4)","v":"zzz"},1,"AMRANI Abderrahim",1]
[{"$f":"IF(E5=\"zzz\",\"\",A4+1)","v":2},null,null,null,null,{"$f":"IF(E5=\"zzz\",\"\",A4+1)","v":2},{"$f":"IF(OR(B5<>\"\",E5=\"\"),\"zzz\",E5)","v":"zzz"},2,"AOUN Narjes",2]
[3,null,null,null,null,3,"zzz",3,"BENAMMAR Randa",3]
[4,null,null,null,null,4,"zzz",4,"BOUDOUKARA Mohamed",4]
[5,null,null,null,null,5,"zzz",5,"DUNOYER Jonathan",5]
[6,null,null,null,null,6,"zzz",6,"EFOUBA AYISSI Théodore",6]
[7,null,null,null,null,7,"zzz",7,"FERRON Adrien",7]
[8,null,null,null,null,8,"zzz",8,"FLAMENT Solène",8]
[9,null,null,null,null,9,"zzz",9,"GANA Nahim",9]
[10,null,null,null,null,10,"zzz",10,"GBAMNAN Bedji Landry",10]
[11,null,null,null,null,11,"zzz",11,"GHOUILA Khalil",11]
[12,null,null,null,null,12,"zzz",12,"GRICHE Imène",12]
[13,null,null,null,null,13,"zzz",13,"KHALIA Rémaikia",13]
[14,null,null,null,null,14,"zzz",14,"KOUSSA Mohamed",14]
[15,null,null,null,null,15,"zzz",15,"LOUCIF Amina",15]
[16,null,null,null,null,16,"zzz",16,"LUGOT Nicolas",16]
[17,null,null,null,null,17,"zzz",17,"MOHAMED Rayhane",17]
[18,null,null,null,null,18,"zzz",18,"MOUALKIA Feriel",18]
[19,null,null,null,null,19,"zzz",19,"MOUHAMADI Moihédja",19]
[20,null,null,null,null,20,"zzz",20,"NIKIEMA Sekou",20]
[21,null,null,null,null,21,"zzz",21,"SALAH Hamza",21]
[22,null,null,null,null,22,"zzz",22,"SEGHAIER Inès",22]
[23,null,null,null,null,23,"zzz",23,"TORRES Manon",23]
[24,null,null,null,null,24,"zzz",24,"zzz",24]
[25,null,null,null,null,25,"zzz",25,"zzz",25]
[26,null,null,null,null,26,"zzz",26,"zzz",26]
[27,null,null,null,null,27,"zzz",27,"zzz",27]
[28,null,null,null,null,28,"zzz",28,"zzz",28]
[29,null,null,null,null,29,"zzz",29,"zzz",29]
[30,null,null,null,null,30,"zzz",30,"zzz",30]
[31,null,null,null,null,31,"zzz",31,"zzz",31]
[32,null,null,null,null,32,"zzz",32,"zzz",32]
[33,null,null,null,null,33,"zzz",33,"zzz",33]
[34,null,null,null,null,34,"zzz",34,"zzz",34]
[35,null,null,null,null,35,"zzz",35,"zzz",35]
[36,null,null,null,null,36,"zzz",36,"zzz",36]
[37,null,null,null,null,37,"zzz",37,"zzz",37]
[38,null,null,null,null,38,"zzz",38,"zzz",38]
[39,null,null,null,null,39,"zzz",39,"zzz",39]
[40,null,null,null,null,40,"zzz",40,"zzz",40]

{"sheet":"---","index":9,"n_rows":21,"n_cols":4,"rows_kept":21,"cut":false,"hidden":false,"merged":[]}
[]
[]
[]
[]
[]
[]
[]
[]
[]
[]
[]
[]
[]
[null,null,null,"Ceintures"]
[null,null,null,"Blanche"]
[null,null,null,"Jaune"]
[null,null,null,"Orange"]
[null,null,null,"Verte"]
[null,null,null,"Bleue"]
[null,null,null,"Marron"]
[null,null,null,"Noir"]

{"sheet":"Tournoi Victoires","index":10,"n_rows":1048576,"n_cols":22,"rows_kept":4500,"cut":true,"hidden":false,"merged":[[0,2,1,2],[0,7,0,8]],"bounds":{"rows_first":2000,"rows_last":500,"rows_between":2000,"halvings":0}}
[null,null,"Nombre de Victoires",null,null,null,"Le ",{"$f":"TODAY()","v":"2012-02-11"}]
[null,"NOM Prénom",null,{"$f":"Paramétrages!C6","v":1},{"$f":"Paramétrages!D6","v":6},{"$f":"Paramétrages!C7","v":7},{"$f":"Paramétrages!D7","v":13},{"$f":"Paramétrages!C8","v":14},{"$f":"Paramétrages!D8","v":20},{"$f":"Paramétrages!C9","v":21},{"$f":"Paramétrages!D9","v":27},{"$f":"Paramétrages!C10","v":28},{"$f":"Paramétrages!D10","v":34},{"$f":"Paramétrages!C11","v":35},{"$f":"Paramétrages!D11","v":41},{"$f":"Paramétrages!C12","v":42},{"$f":"Paramétrages!D12","v":"42 et +"}]
[null,null,0,{"$f":"IF(AND($C3>=$D$2,$C3<=$E$2),$B3,\"\")","v":""},{"$f":"IF(AND($C3>=$D$2,$C3<=$E$2),$C3,\"\")","v":""},{"$f":"IF(AND($C3>=$F$2,$C3<=$G$2),$B3,\"\")","v":""},{"$f":"IF(AND($C3>=$F$2,$C3<=$G$2),$C3,\"\")","v":""},{"$f":"IF(AND($C3>=$H$2,$C3<=$I$2),$B3,\"\")","v":""},{"$f":"IF(AND($C3>=$H$2,$C3<=$I$2),$C3,\"\")","v":""},{"$f":"IF(AND($C3>=$J$2,$C3<=$K$2),$B3,\"\")","v":""},{"$f":"IF(AND($C3>=$J$2,$C3<=$K$2),$C3,\"\")","v":""},{"$f":"IF(AND($C3>=$L$2,$C3<=$M$2),$B3,\"\")","v":""},{"$f":"IF(AND($C3>=$L$2,$C3<=$M$2),$C3,\"\")","v":""},{"$f":"IF(AND($C3>=$N$2,$C3<=$O$2),$B3,\"\")","v":""},{"$f":"IF(AND($C3>=$N$2,$C3<=$O$2),$C3,\"\")","v":""},{"$f":"IF(AND($C3>=$P$2,$C3<=$Q$2),$B3,\"\")","v":""},{"$f":"IF(AND($C3>=$P$2,$C3<=$Q$2),$C3,\"\")","v":""},"n",null,null,null,{"$f":"COUNTIF($C$3:$C$42,C3)","v":40}]
[null,null,0,{"$f":"IF(AND($C4>=$D$2,$C4<=$E$2),$B4,\"\")","v":""},{"$f":"IF(AND($C4>=$D$2,$C4<=$E$2),$C4,\"\")","v":""},{"$f":"IF(AND($C4>=$F$2,$C4<=$G$2),$B4,\"\")","v":""},{"$f":"IF(AND($C4>=$F$2,$C4<=$G$2),$C4,\"\")","v":""},{"$f":"IF(AND($C4>=$H$2,$C4<=$I$2),$B4,\"\")","v":""},{"$f":"IF(AND($C4>=$H$2,$C4<=$I$2),$C4,\"\")","v":""},{"$f":"IF(AND($C4>=$J$2,$C4<=$K$2),$B4,\"\")","v":""},{"$f":"IF(AND($C4>=$J$2,$C4<=$K$2),$C4,\"\")","v":""},{"$f":"IF(AND($C4>=$L$2,$C4<=$M$2),$B4,\"\")","v":""},{"$f":"IF(AND($C4>=$L$2,$C4<=$M$2),$C4,\"\")","v":""},{"$f":"IF(AND($C4>=$N$2,$C4<=$O$2),$B4,\"\")","v":""},{"$f":"IF(AND($C4>=$N$2,$C4<=$O$2),$C4,\"\")","v":""},{"$f":"IF(AND($C4>=$P$2,$C4<=$Q$2),$B4,\"\")","v":""},{"$f":"IF(AND($C4>=$P$2,$C4<=$Q$2),$C4,\"\")","v":""},"n",null,null,null,{"$f":"COUNTIF($C$3:$C$42,C4)","v":40}]
[null,null,0,{"$f":"IF(AND($C5>=$D$2,$C5<=$E$2),$B5,\"\")","v":""},"","","","","","","","","","","","","","n",null,null,null,40]
[null,null,0,{"$f":"IF(AND($C6>=$D$2,$C6<=$E$2),$B6,\"\")","v":""},"","","","","","","","","","","","","","n",null,null,null,40]
[null,null,0,"","","","","","","","","","","","","","","n",null,null,null,40]
[null,null,0,"","","","","","","","","","","","","","","n",null,null,null,40]
[null,null,0,"","","","","","","","","","","","","","","n",null,null,null,40]
[null,null,0,"","","","","","","","","","","","","","","n",null,null,null,40]
[null,null,0,"","","","","","","","","","","","","","","n",null,null,null,40]
[null,null,0,"","","","","","","","","","","","","","","n",null,null,null,40]
[null,null,0,"","",{"$f":"IF(AND($C13>=$F$2,$C13<=$G$2),$B13,\"\")","v":""},"","","","","","","","","","","","n",null,null,null,40]
[null,null,0,"","","","","","","","","","","","","","","n",null,null,null,40]
[null,null,0,"","",{"$f":"IF(AND($C15>=$F$2,$C15<=$G$2),$B15,\"\")","v":""},"","","","","","","","","","","","n",null,null,null,40]
[null,null,0,"","","","","","","","","","","","","","","n",null,null,null,40]
[null,null,0,"","","","","","","","","","","","","","","n",null,null,null,40]
[null,null,0,"","","","","","","","","","","","","","","n",null,null,null,40]
[null,null,0,"","","","",{"$f":"IF(AND($C19>=$H$2,$C19<=$I$2),$B19,\"\")","v":""},"","","","","","","","","","n",null,null,null,40]
[null,null,0,"","","","","","","","","","","","","","","n",null,null,null,40]
[null,null,0,"","","","","","","","","","","","","","","n",null,null,null,40]
[null,null,0,"","","","","","","","","","","","","","","n",null,null,null,40]
[null,null,0,"","","","","","","","","","","","","","","n",null,null,null,40]
[null,null,0,"","","","","","","","","","","","","","","n",null,null,null,40]
[null,null,0,"","","","","","","","","","","","","","","n",null,null,null,40]
[null,null,0,"","","","","","","","","","","","","","","n",null,null,null,40]
[null,null,0,"","","","","","","","","","","","","","","n",null,null,null,40]
[null,null,0,"","","","","","","","","","","","","","","n",null,null,null,40]
[null,null,0,"","","","","","","","","","","","","","","n",null,null,null,40]
[null,null,0,"","","","","","","","","","","","","","","n",null,null,null,40]
[null,null,0,"","","","","","","","","","","","","","","n",null,null,null,40]
[null,null,0,"","","","","","","","","","","","","","","n",null,null,null,40]
[null,null,0,"","","","","","","","","","","","","","","n",null,null,null,40]
[null,null,0,"","","","","","","","","","","","","","","n",null,null,null,40]
[null,null,0,"","","","","","","","","","","","","","","n",null,null,null,40]
[null,null,0,"","","","","","","","","","","","","","","n",null,null,null,40]
[null,null,0,"","","","","","","","","","","","","","","n",null,null,null,40]
[null,null,0,"","","","","","","","","","","","","","","n",null,null,null,40]
[null,null,0,"","","","","","","","","","","","","","","n",null,null,null,40]
[null,null,0,"","","","","","","","","","","","","","","n",null,null,null,40]
[null,null,0,"","","","","","","","","","","","","","","n",null,null,null,40]
[null,null,0,"","","","","","","","","","","","","","","n",null,null,null,40]
[]
[]
[]
[]
[]
[]
[]
[]
[]
[]
[]
[]
[]
[]
[]
[]
[]
[]
[]
[]
[]
[]
[]
[]
[]
[]
[]
[]
[]
[]
[]
[]
[]
[]
[]
[]
[]
[]
[]
[]
[]
[]
[]
[]
[]
[]
[]
[]
[]
[]
[]
[]
[]
[]
[]
[]
[]
[]
[]
[]
[]
[]
[]
[]
[]
[]
[]
[]
[]
[]
[]
[]
[]
[]
[]
[]
[]
[]
[]
[]
[]
[]
[]
[]
[]
[]
[]
[]
[]
[]
[]
[]
[]
[]
[]
[]
[]
[]
[]
[]
[]
[]
[]
[]
[]
[]
[]
[]
[]
[]
[]
[]
[]
[]
[]
[]
[]
[]
[]
[]
[]
[]
[]
[]
[]
[]
[]
[]
[]
[]
[]
[]
[]
[]
[]
[]
[]
[]
[]
[]
[]
[]
[]
[]
[]
[]
[]
[]
[]
[]
[]
[]
[]
[]
[]
[]
[]
[]
[]
[]
[]
[]
[]
[]
[]
[]
[]
[]
[]
[]
[]
[]
[]
[]
[]
[]
[]
[]
[]
[]
[]
[]
[]
[]
[]
[]
[]
[]
[]
[]
[]
[]
[]
[]
[]
[]
[]
[]
[]
[]
[]
[]
[]
[]
[]
[]
[]
[]
[]
[]
[]
[]
[]
[]
[]
[]
[]
[]
[]
[]
[]
[]
[]
[]
[]
[]
[]
[]
[]
[]
[]
[]
[]
[]
[]
[]
[]
[]
[]
[]
[]
[]
[]
[]
[]
[]
[]
[]
[]
[]
[]
[]
[]
[]
[]
[]
[]
[]
[]
[]
[]
[]
[]
[]
[]
[]
[]
[]
[]
[]
[]
[]
[]
[]
[]
[]
[]
[]
[]
[]
[]
[]
[]
[]
[]
[]
[]
[]
[]
[]
[]
[]
[]
[]
[]
[]
[]
[]
[]
[]
[]
[]
[]
[]
[]
[]
[]
[]
[]
[]
[]
[]
[]
[]
[]
[]
[]
[]
[]
[]
[]
[]
[]
[]
[]
[]
[]
[]
[]
[]
[]
[]
[]
[]
[]
[]
[]
[]
[]
[]
[]
[]
[]
[]
[]
[]
[]
[]
[]
[]
[]
[]
[]
[]
[]
[]
[]
[]
[]
[]
[]
[]
[]
[]
[]
[]
[]
[]
[]
[]
[]
[]
[]
[]
[]
[]
[]
[]
[]
[]
[]
[]
[]
[]
[]
[]
[]
[]
[]
[]
[]
[]
[]
[]
[]
[]
[]
[]
[]
[]
[]
[]
[]
[]
[]
[]
[]
[]
[]
[]
[]
[]
[]
[]
[]
[]
[]
[]
[]
[]
[]
[]
[]
[]
[]
[]
[]
[]
[]
[]
[]
[]
[]
[]
[]
[]
[]
[]
[]
[]
[]
[]
[]
[]
[]
[]
[]
[]
[]
[]
[]
[]
[]
[]
[]
[]
[]
[]
[]
[]
[]
[]
[]
[]
[]
[]
[]
[]
[]
[]
[]
[]
[]
[]
[]
[]
[]
[]
[]
[]
[]
[]
[]
[]
[]
[]
[]
[]
[]
[]
[]
[]
[]
[]
[]
[]
[]
[]
[]
[]
[]
[]
[]
[]
[]
[]
[]
[]
[]
[]
[]
[]
[]
[]
[]
[]
[]
[]
[]
[]
[]
[]
[]
[]
[]
[]
[]
[]
[]
[]
[]
[]
[]
[]
[]
[]
[]
[]
[]
[]
[]
[]
[]
[]
[]
[]
[]
[]
[]
[]
[]
[]
[]
[]
[]
[]
[]
[]
[]
[]
[]
[]
[]
[]
[]
[]
[]
[]
[]
[]
[]
[]
[]
[]
[]
[]
[]
[]
[]
[]
[]
[]
[]
[]
[]
[]
[]
[]
[]
[]
[]
[]
[]
[]
[]
[]
[]
[]
[]
[]
[]
[]
[]
[]
[]
[]
[]
[]
[]
[]
[]
[]
[]
[]
[]
[]
[]
[]
[]
[]
[]
[]
[]
[]
[]
[]
[]
[]
[]
[]
[]
[]
[]
[]
[]
[]
[]
[]
[]
[]
[]
[]
[]
[]
[]
[]
[]
[]
[]
[]
[]
[]
[]
[]
[]
[]
[]
[]
[]
[]
[]
[]
[]
[]
[]
[]
[]
[]
[]
[]
[]
[]
[]
[]
[]
[]
[]
[]
[]
[]
[]
[]
[]
[]
[]
[]
[]
[]
[]
[]
[]
[]
[]
[]
[]
[]
[]
[]
[]
[]
[]
[]
[]
[]
[]
[]
[]
[]
[]
[]
[]
[]
[]
[]
[]
[]
[]
[]
[]
[]
[]
[]
[]
[]
[]
[]
[]
[]
[]
[]
[]
[]
[]
[]
[]
[]
[]
[]
[]
[]
[]
[]
[]
[]
[]
[]
[]
[]
[]
[]
[]
[]
[]
[]
[]
[]
[]
[]
[]
[]
[]
[]
[]
[]
[]
[]
[]
[]
[]
[]
[]
[]
[]
[]
[]
[]
[]
[]
[]
[]
[]
[]
[]
[]
[]
[]
[]
[]
[]
[]
[]
[]
[]
[]
[]
[]
[]
[]
[]
[]
[]
[]
[]
[]
[]
[]
[]
[]
[]
[]
[]
[]
[]
[]
[]
[]
[]
[]
[]
[]
[]
[]
[]
[]
[]
[]
[]
[]
[]
[]
[]
[]
[]
[]
[]
[]
[]
[]
[]
[]
[]
[]
[]
[]
[]
[]
[]
[]
[]
[]
[]
[]
[]
[]
[]
[]
[]
[]
[]
[]
[]
[]
[]
[]
[]
[]
[]
[]
[]
[]
[]
[]
[]
[]
[]
[]
[]
[]
[]
[]
[]
[]
[]
[]
[]
[]
[]
[]
[]
[]
[]
[]
[]
[]
[]
[]
[]
[]
[]
[]
[]
[]
[]
[]
[]
[]
[]
[]
[]
[]
[]
[]
[]
[]
[]
[]
[]
[]
[]
[]
[]
[]
[]
[]
[]
[]
[]
[]
[]
[]
[]
[]
[]
[]
[]
[]
[]
[]
[]
[]
[]
[]
[]
[]
[]
[]
[]
[]
[]
[]
[]
[]
[]
[]
[]
[]
[]
[]
[]
[]
[]
[]
[]
[]
[]
[]
[]
[]
[]
[]
[]
[]
[]
[]
[]
[]
[]
[]
[]
[]
[]
[]
[]
[]
[]
[]
[]
[]
[]
[]
[]
[]
[]
[]
[]
[]
[]
[]
[]
[]
[]
[]
[]
[]
[]
[]
[]
[]
[]
[]
[]
[]
[]
[]
[]
[]
[]
[]
[]
[]
[]
[]
[]
[]
[]
[]
[]
[]
[]
[]
[]
[]
[]
[]
[]
[]
[]
[]
[]
[]
[]
[]
[]
[]
[]
[]
[]
[]
[]
[]
[]
[]
[]
[]
[]
[]
[]
[]
[]
[]
[]
[]
[]
[]
[]
[]
[]
[]
[]
[]
[]
[]
[]
[]
[]
[]
[]
[]
[]
[]
[]
[]
[]
[]
[]
[]
[]
[]
[]
[]
[]
[]
[]
[]
[]
[]
[]
[]
[]
[]
[]
[]
[]
[]
[]
[]
[]
[]
[]
[]
[]
[]
[]
[]
[]
[]
[]
[]
[]
[]
[]
[]
[]
[]
[]
[]
[]
[]
[]
[]
[]
[]
[]
[]
[]
[]
[]
[]
[]
[]
[]
[]
[]
[]
[]
[]
[]
[]
[]
[]
[]
[]
[]
[]
[]
[]
[]
[]
[]
[]
[]
[]
[]
[]
[]
[]
[]
[]
[]
[]
[]
[]
[]
[]
[]
[]
[]
[]
[]
[]
[]
[]
[]
[]
[]
[]
[]
[]
[]
[]
[]
[]
[]
[]
[]
[]
[]
[]
[]
[]
[]
[]
[]
[]
[]
[]
[]
[]
[]
[]
[]
[]
[]
[]
[]
[]
[]
[]
[]
[]
[]
[]
[]
[]
[]
[]
[]
[]
[]
[]
[]
[]
[]
[]
[]
[]
[]
[]
[]
[]
[]
[]
[]
[]
[]
[]
[]
[]
[]
[]
[]
[]
[]
[]
[]
[]
[]
[]
[]
[]
[]
[]
[]
[]
[]
[]
[]
[]
[]
[]
[]
[]
[]
[]
[]
[]
[]
[]
[]
[]
[]
[]
[]
[]
[]
[]
[]
[]
[]
[]
[]
[]
[]
[]
[]
[]
[]
[]
[]
[]
[]
[]
[]
[]
[]
[]
[]
[]
[]
[]
[]
[]
[]
[]
[]
[]
[]
[]
[]
[]
[]
[]
[]
[]
[]
[]
[]
[]
[]
[]
[]
[]
[]
[]
[]
[]
[]
[]
[]
[]
[]
[]
[]
[]
[]
[]
[]
[]
[]
[]
[]
[]
[]
[]
[]
[]
[]
[]
[]
[]
[]
[]
[]
[]
[]
[]
[]
[]
[]
[]
[]
[]
[]
[]
[]
[]
[]
[]
[]
[]
[]
[]
[]
[]
[]
[]
[]
[]
[]
[]
[]
[]
[]
[]
[]
[]
[]
[]
[]
[]
[]
[]
[]
[]
[]
[]
[]
[]
[]
[]
[]
[]
[]
[]
[]
[]
[]
[]
[]
[]
[]
[]
[]
[]
[]
[]
[]
[]
[]
[]
[]
[]
[]
[]
[]
[]
[]
[]
[]
[]
[]
[]
[]
[]
[]
[]
[]
[]
[]
[]
[]
[]
[]
[]
[]
[]
[]
[]
[]
[]
[]
[]
[]
[]
[]
[]
[]
[]
[]
[]
[]
[]
[]
[]
[]
[]
[]
[]
[]
[]
[]
[]
[]
[]
[]
[]
[]
[]
[]
[]
[]
[]
[]
[]
[]
[]
[]
[]
[]
[]
[]
[]
[]
[]
[]
[]
[]
[]
[]
[]
[]
[]
[]
[]
[]
[]
[]
[]
[]
[]
[]
[]
[]
[]
[]
[]
[]
[]
[]
[]
[]
[]
[]
[]
[]
[]
[]
[]
[]
[]
[]
[]
[]
[]
[]
[]
[]
[]
[]
[]
[]
[]
[]
[]
[]
[]
[]
[]
[]
[]
[]
[]
[]
[]
[]
[]
[]
[]
[]
[]
[]
[]
[]
[]
[]
[]
[]
[]
[]
[]
[]
[]
[]
[]
[]
[]
[]
[]
[]
[]
[]
[]
[]
[]
[]
[]
[]
[]
[]
[]
[]
[]
[]
[]
[]
[]
[]
[]
[]
[]
[]
[]
[]
[]
[]
[]
[]
[]
[]
[]
[]
[]
[]
[]
[]
[]
[]
[]
[]
[]
[]
[]
[]
[]
[]
[]
[]
[]
[]
[]
[]
[]
[]
[]
[]
[]
[]
[]
[]
[]
[]
[]
[]
[]
[]
[]
[]
[]
[]
[]
[]
[]
[]
[]
[]
[]
[]
[]
[]
[]
[]
[]
[]
[]
[]
[]
[]
[]
[]
[]
[]
[]
[]
[]
[]
[]
[]
[]
[]
[]
[]
[]
[]
[]
[]
[]
[]
[]
[]
[]
[]
[]
[]
[]
[]
[]
[]
[]
[]
[]
[]
[]
[]
[]
[]
[]
[]
[]
[]
[]
[]
[]
[]
[]
[]
[]
[]
[]
[]
[]
[]
[]
[]
[]
[]
[]
[]
[]
[]
[]
[]
[]
[]
[]
[]
[]
[]
[]
[]
[]
[]
[]
[]
[]
[]
[]
[]
[]
[]
[]
[]
[]
[]
[]
[]
[]
[]
[]
[]
[]
[]
[]
[]
[]
[]
[]
[]
[]
[]
[]
[]
[]
[]
[]
[]
[]
[]
[]
[]
[]
[]
[]
[]
[]
[]
[]
[]
[]
[]
[]
[]
[]
[]
[]
[]
[]
[]
[]
[]
[]
[]
[]
[]
[]
[]
[]
[]
[]
[]
[]
[]
[]
[]
[]
[]
[]
[]
[]
[]
[]
[]
[]
[]
[]
[]
[]
[]
[]
[]
[]
[]
[]
[]
[]
[]
[]
[]
[]
[]
[]
[]
[]
[]
[]
[]
[]
[]
[]
[]
[]
[]
[]
[]
[]
[]
[]
[]
[]
[]
[]
[]
[]
[]
[]
[]
[]
[]
[]
[]
[]
[]
[]
[]
[]
[]
[]
[]
[]
[]
[]
[]
[]
[]
[]
[]
[]
[]
[]
[]
[]
[]
[]
[]
[]
[]
[]
[]
[]
[]
[]
[]
[]
[]
[]
[]
[]
[]
[]
[]
[]
[]
[]
[]
[]
[]
[]
[]
[]
[]
[]
[]
[]
[]
[]
[]
[]
[]
[]
[]
[]
[]
[]
[]
[]
[]
[]
[]
[]
[]
[]
[]
[]
[]
[]
[]
[]
[]
[]
[]
[]
[]
[]
[]
[]
[]
[]
[]
[]
[]
[]
[]
[]
[]
[]
[]
[]
[]
[]
[]
[]
[]
[]
[]
[]
[]
[]
[]
[]
[]
[]
[]
[]
[]
[]
[]
[]
[]
[]
[]
[]
[]
[]
[]
[]
[]
[]
[]
[]
[]
[]
[]
[]
[]
[]
[]
[]
[]
[]
[]
[]
[]
[]
[]
[]
[]
[]
[]
[]
[]
[]
[]
[]
[]
[]
[]
[]
[]
[]
[]
[]
[]
[]
[]
[]
[]
[]
[]
[]
[]
[]
[]
[]
[]
[]
[]
[]
[]
[]
[]
[]
[]
[]
[]
[]
[]
[]
[]
[]
[]
[]
[]
[]
[]
[]
[]
[]
[]
[]
[]
[]
[]
[]
[]
[]
[]
[]
[]
[]
[]
[]
[]
[]
[]
[]
[]
[]
[]
[]
[]
[]
[]
[]
[]
[]
[]
[]
[]
[]
[]
[]
[]
[]
[]
[]
[]
[]
[]
[]
[]
[]
[]
[]
[]
[]
[]
[]
[]
[]
[]
[]
[]
[]
[]
[]
[]
[]
[]
[]
[]
[]
[]
[]
[]
[]
[]
[]
[]
[]
[]
[]
[]
[]
[]
[]
[]
[]
[]
[]
[]
[]
[]
[]
[]
[]
[]
[]
[]
[]
[]
[]
[]
[]
[]
[]
[]
[]
[]
[]
[]
[]
[]
[]
[]
[]
[]
[]
[]
[]
[]
[]
[]
[]
[]
[]
[]
[]
[]
[]
[]
[]
[]
[]
[]
[]
[]
[]
[]
[]
[]
[]
[]
[]
[]
[]
[]
[]
[]
[]
[]
[]
[]
[]
[]
[]
[]
[]
[]
[]
[]
[]
[]
[]
[]
[]
[]
[]
[]
[]
[]
[]
[]
[]
[]
[]
[]
[]
[]
[]
[]
[]
[]
[]
[]
[]
[]
[]
[]
[]
[]
[]
[]
[]
[]
[]
[]
[]
[]
[]
[]
[]
[]
[]
[]
[]
[]
[]
[]
[]
[]
[]
[]
[]
[]
[]
[]
[]
[]
[]
[]
[]
[]
[]
[]
[]
[]
[]
[]
[]
[]
[]
[]
[]
[]
[]
[]
[]
[]
[]
[]
[]
[]
[]
[]
[]
[]
[]
[]
[]
[]
[]
[]
[]
[]
[]
[]
[]
[]
[]
[]
[]
[]
[]
[]
[]
[]
[]
[]
[]
[]
[]
[]
[]
[]
[]
[]
[]
[]
[]
[]
[]
[]
[]
[]
[]
[]
[]
[]
[]
[]
[]
[]
[]
[]
[]
[]
[]
[]
[]
[]
[]
[]
[]
[]
[]
[]
[]
[]
[]
[]
[]
[]
[]
[]
[]
[]
[]
[]
[]
[]
[]
[]
[]
[]
[]
[]
[]
[]
[]
[]
[]
[]
[]
[]
[]
[]
[]
[]
[]
[]
[]
[]
[]
[]
[]
[]
[]
[]
[]
[]
[]
[]
[]
[]
[]
[]
[]
[]
[]
[]
[]
[]
[]
[]
[]
[]
[]
[]
[]
[]
[]
[]
[]
[]
[]
[]
[]
[]
[]
[]
[]
[]
[]
[]
[]
[]
[]
[]
[]
[]
[]
[]
[]
[]
[]
[]
[]
[]
[]
[]
[]
[]
[]
[]
[]
[]
[]
[]
[]
[]
[]
[]
[]
[]
[]
[]
[]
[]
[]
[]
[]
[]
[]
[]
[]
[]
[]
[]
[]
[]
[]
[]
[]
[]
[]
[]
[]
[]
[]
[]
[]
[]
[]
[]
[]
[]
[]
[]
[]
[]
[]
[]
[]
[]
[]
[]
[]
[]
[]
[]
[]
[]
[]
[]
[]
[]
[]
[]
[]
[]
[]
[]
[]
[]
[]
[]
[]
[]
[]
[]
[]
[]
[]
[]
[]
[]
[]
[]
[]
[]
[]
[]
[]
[]
[]
[]
[]
[]
[]
[]
[]
[]
[]
[]
[]
[]
[]
[]
[]
[]
[]
[]
[]
[]
[]
[]
[]
[]
[]
[]
[]
[]
[]
[]
[]
[]
[]
[]
[]
[]
[]
[]
[]
[]
[]
[]
[]
[]
[]
[]
[]
[]
[]
[]
[]
[]
[]
[]
[]
[]
[]
[]
[]
[]
[]
[]
[]
[]
[]
[]
[]
[]
[]
[]
[]
[]
[]
[]
[]
[]
[]
[]
[]
[]
[]
[]
[]
[]
[]
[]
[]
[]
[]
[]
[]
[]
[]
[]
[]
[]
[]
[]
[]
[]
[]
[]
[]
[]
[]
[]
[]
[]
[]
[]
[]
[]
[]
[]
[]
[]
[]
[]
[]
[]
[]
[]
[]
[]
[]
[]
[]
[]
[]
[]
[]
[]
[]
[]
[]
[]
[]
[]
[]
[]
[]
[]
[]
[]
[]
[]
[]
[]
[]
[]
[]
[]
[]
[]
[]
[]
[]
[]
[]
[]
[]
[]
[]
[]
[]
[]
[]
[]
[]
[]
[]
[]
[]
[]
[]
[]
[]
[]
[]
[]
[]
[]
[]
[]
[]
[]
[]
[]
[]
[]
[]
[]
[]
[]
[]
[]
[]
[]
[]
[]
[]
[]
[]
[]
[]
[]
[]
[]
[]
[]
[]
[]
[]
[]
[]
[]
[]
[]
[]
[]
[]
[]
[]
[]
[]
[]
[]
[]
[]
[]
[]
[]
[]
[]
[]
[]
[]
[]
[]
[]
[]
[]
[]
[]
[]
[]
[]
[]
[]
[]
[]
[]
[]
[]
[]
[]
[]
[]
[]
[]
[]
[]
[]
[]
[]
[]
[]
[]
[]
[]
[]
[]
[]
[]
[]
[]
[]
[]
[]
[]
[]
[]
[]
[]
[]
[]
[]
[]
[]
[]
[]
[]
[]
[]
[]
[]
[]
[]
[]
[]
[]
[]
[]
[]
[]
[]
[]
[]
[]
[]
[]
[]
[]
[]
[]
[]
[]
[]
[]
[]
[]
[]
[]
[]
[]
[]
[]
[]
[]
[]
[]
[]
[]
[]
[]
[]
[]
[]
[]
[]
[]
[]
[]
[]
[]
[]
[]
[]
[]
[]
[]
[]
[]
[]
[]
[]
[]
[]
[]
[]
[]
[]
[]
[]
[]
[]
[]
[]
[]
[]
[]
[]
[]
[]
[]
[]
[]
[]
[]
[]
[]
[]
[]
[]
[]
[]
[]
[]
[]
[]
[]
[]
[]
[]
[]
[]
[]
[]
[]
[]
[]
[]
[]
[]
[]
[]
[]
[]
[]
[]
[]
[]
[]
[]
[]
[]
[]
[]
[]
[]
[]
[]
[]
[]
[]
[]
[]
[]
[]
[]
[]
[]
[]
[]
[]
[]
[]
[]
[]
[]
[]
[]
[]
[]
[]
[]
[]
[]
[]
[]
[]
[]
[]
[]
[]
[]
[]
[]
[]
[]
[]
[]
[]
[]
[]
[]
[]
[]
[]
[]
[]
[]
[]
[]
[]
[]
[]
[]
[]
[]
[]
[]
[]
[]
[]
[]
[]
[]
[]
[]
[]
[]
[]
[]
[]
[]
[]
[]
[]
[]
[]
[]
[]
[]
[]
[]
[]
[]
[]
[]
[]
[]
[]
[]
[]
[]
[]
[]
[]
[]
[]
[]
[]
[]
[]
[]
[]
[]
[]
[]
[]
[]
[]
[]
[]
[]
[]
[]
[]
[]
[]
[]
[]
[]
[]
[]
[]
[]
[]
[]
[]
[]
[]
[]
[]
[]
[]
[]
[]
[]
[]
[]
[]
[]
[]
[]
[]
[]
[]
[]
[]
[]
[]
[]
[]
[]
[]
[]
[]
[]
[]
[]
[]
[]
[]
[]
[]
[]
[]
[]
[]
[]
[]
[]
[]
[]
[]
[]
[]
[]
[]
[]
[]
[]
[]
[]
[]
[]
[]
[]
[]
[]
[]
[]
[]
[]
[]
[]
[]
[]
[]
[]
[]
[]
[]
[]
[]
[]
[]
[]
[]
[]
[]
[]
[]
[]
[]
[]
[]
[]
[]
[]
[]
[]
[]
[]
[]
[]
[]
[]
[]
[]
[]
[]
[]
[]
[]
[]
[]
[]
[]
[]
[]
[]
[]
[]
[]
[]
[]
[]
[]
[]
[]
[]
[]
[]
[]
[]
[]
[]
[]
[]
[]
[]
[]
[]
[]
[]
[]
[]
[]
[]
[]
[]
[]
[]
[]
[]
[]
[]
[]
[]
[]
[]
[]
[]
[]
[]
[]
[]
[]
[]
[]
[]
[]
[]
[]
[]
[]
[]
[]
[]
[]
[]
[]
[]
[]
[]
[]
[]
[]
[]
[]
[]
[]
[]
[]
[]
[]
[]
[]
[]
[]
[]
[]
[]
[]
[]
[]
[]
[]
[]
[]
[]
[]
[]
[]
[]
[]
[]
[]
[]
[]
[]
[]
[]
[]
[]
[]
[]
[]
[]
[]
[]
[]
[]
[]
[]
[]
[]
[]
[]
[]
[]
[]
[]
[]
[]
[]
[]
[]
[]
[]
[]
[]
[]
[]
[]
[]
[]
[]
[]
[]
[]
[]
[]
[]
[]
[]
[]
[]
[]
[]
[]
[]
[]
[]
[]
[]
[]
[]
[]
[]
[]
[]
[]
[]
[]
[]
[]
[]
[]
[]
[]
[]
[]
[]
[]
[]
[]
[]
[]
[]
[]
[]
[]
[]
[]
[]
[]
[]
[]
[]
[]
[]
[]
[]
[]
[]
[]
[]
[]
[]
[]
[]
[]
[]
[]
[]
[]
[]
[]
[]
[]
[]
[]
[]
[]
[]
[]
[]
[]
[]
[]
[]
[]
[]
[]
[]
[]
[]
[]
[]
[]
[]
[]
[]
[]
[]
[]
[]
[]
[]
[]
[]
[]
[]
[]
[]
[]
[]
[]
[]
[]
[]
[]
[]
[]
[]
[]
[]
[]
[]
[]
[]
[]
[]
[]
[]
[]
[]
[]
[]
[]
[]
[]
[]
[]
[]
[]
[]
[]
[]
[]
[]
[]
[]
[]
[]
[]
[]
[]
[]
[]
[]
[]
[]
[]
[]
[]
[]
[]
[]
[]
[]
[]
[]
[]
[]
[]
[]
[]
[]
[]
[]
[]
[]
[]
[]
[]
[]
[]
[]
[]
[]
[]
[]
[]
[]
[]
[]
[]
[]
[]
[]
[]
[]
[]
[]
[]
[]
[]
[]
[]
[]
[]
[]
[]
[]
[]
[]
[]
[]
[]
[]
[]
[]
[]
[]
[]
[]
[]
[]
[]
[]
[]
[]
[]
[]
[]
[]
[]
[]
[]
[]
[]
[]
[]
[]
[]
[]
[]
[]
[]
[]
[]
[]
[]
[]
[]
[]
[]
[]
[]
[]
[]
[]
[]
[]
[]
[]
[]
[]
[]
[]
[]
[]
[]
[]
[]
[]
[]
[]
[]
[]
[]
[]
[]
[]
[]
[]
[]
[]
[]
[]
[]
[]
[]
[]
[]
[]
[]
[]
[]
[]
[]
[]
[]
[]
[]
[]
[]
[]
[]
[]
[]
[]
[]
[]
[]
[]
[]
[]
[]
[]
[]
[]
[]
[]
[]
[]
[]
[]
[]
[]
[]
[]
[]
[]
[]
[]
[]
[]
[]
[]
[]
[]
[]
[]
[]
[]
[]
[]
[]
[]
[]
[]
[]
[]
[]
[]
[]
[]
[]
[]
[]
[]
[]
[]
[]
[]
[]
[]
[]
[]
[]
[]
[]
[]
[]
[]
[]
[]
[]
[]
[]
[]
[]
[]
[]
[]
[]
[]
[]
[]
[]
[]
[]
[]
[]
[]
[]
[]
[]
[]
[]
[]
[]
[]
[]
[]
[]
[]
[]
[]
[]
[]
[]
[]
[]
[]
[]
[]
[]
[]
[]
[]
[]
[]
[]
[]
[]
[]
[]
[]
[]
[]
[]
[]
[]
[]
[]
[]
[]
[]
[]
[]
[]
[]
[]
[]
[]
[]
[]
[]
[]
[]
[]
[]
[]
[]
[]
[]
[]
[]
[]
[]
[]
[]
[]
[]
[]
[]
[]
[]
[]
[]
[]
[]
[]
[]
[]
[]
[]
[]
[]
[]
[]
[]
[]
[]
[]
[]
[]
[]
[]
[]
[]
[]
[]
[]
[]
[]
[]
[]
[]
[]
[]
[]
[]
[]
[]
[]
[]
[]
[]
[]
[]
[]
[]
[]
[]
[]
[]
[]
[]
[]
[]
[]
[]
[]
[]
[]
[]
[]
[]
[]
[]
[]
[]
[]
[]
[]
[]
[]
[]
[]
[]
[]
[]
[]
[]
[]
[]
[]
[]
[]
[]
[]
[]
[]
[]
[]
[]
[]
[]
[]
[]
[]
[]
[]
[]
[]
[]
[]
[]
[]
[]
[]
[]
[]
[]
[]
[]
[]
[]
[]
[]
[]
[]
[]
[]
[]
[]
[]
[]
[]
[]
[]
[]
[]
[]
[]
[]
[]
[]
[]
[]
[]
[]
[]
[]
[]
[]
[]
[]
[]
[]
[]
[]
[]
[]
[]
[]
[]
[]
[]
[]
[]
[]
[]
[]
[]
[]
[]
[]
[]
[]
[]
[]
[]
[]
[]
[]
[]
[]
[]
[]
[]
[]
[]
[]
[]
[]
[]
[]
[]
[]
[]
[]
[]
[]
[]
[]
[]
[]
[]
[]
[]
[]
[]
[]
[]
[]
[]
[]
[]
[]
[]
[]
[]
[]
[]
[]
[]
[]
[]
[]
[]
[]
[]
[]
[]
[]
[]
[]
[]
[]
[]
[]
[]
[]
[]
[]
[]
[]
[]
[]
[]
[]
[]
[]
[]
[]
[]
[]
[]
[]
[]
[]
[]
[]
[]
[]
[]
[]
[]
[]
[]
[]
[]
[]
[]
[]
[]
[]
[]
[]
[]
[]
[]
[]
[]
[]
[]
[]
[]
[]
[]
[]
[]
[]
[]
[]
[]
[]
[]
[]
[]
[]
[]
[]
[]
[]
[]
[]
[]
[]
[]
[]
[]
[]
[]
[]
[]
[]
[]
[]
[]
[]
[]
[]
[]
[]
[]
[]
[]
[]
[]
[]
[]
[]
[]
[]
[]
[]
[]
[]
[]
[]
[]
[]
[]
[]
[]
[]
[]
[]
[]
[]
[]
[]
[]
[]
[]
[]
[]
[]
[]
[]
[]
[]
[]
[]
[]
[]
[]
[]
[]
[]
[]
[]
[]
[]
[]
[]
[]
[]
[]
[]
[]
[]
[]
[]
[]
[]
[]
[]
[]
[]
[]
[]
[]
[]
[]
[]
[]
[]
[]
[]
[]
[]
[]
[]
[]
[]
[]
[]
[]
[]
[]
[]
[]
[]
[]
[]
[]
[]
[]
[]
[]
[]
[]
[]
[]
[]
[]
[]
[]
[]
[]
[]
[]
[]
[]
[]
[]
[]
[]
[]
[]
[]
[]
[]
[]
[]
[]
[]
[]
[]
[]
[]
[]
[]
[]
[]
[]
[]
[]
[]
[]
[]
[]
[]
[]
[]
[]
[]
[]
[]
[]
[]
[]
[]
[]
[]
[]
[]
[]
[]
[]
[]
[]
[]
[]
[]
[]
[]
[]
[]
[]
[]
[]
[]
[]
[]
[]
[]
[]
[]
[]
[]
[]
[]
[]
[]
[]
[]
[]
[]
[]
[]
[]
[]
[]
[]
[]
[]
[]
[]
[]
[]
[]
[]
[]
[]
[]
[]
[]
[]
[]
[]
[]
[]
[]
[]
[]
[]
[]
[]
[]
[]
[]
[]
[]
[]
[]
[]
[]
[]
[]
[]
[]
[]
[]
[]
[]
[]
[]
[]
[]
[]
[]
[]
[]
[]
[]
[]
[]
[]
[]
[]
[]
[]
[]
[]
[]
[]
[]
[]
[]
[]
[]
[]
[]
[]
[]
[]
[]
[]
[]
[]
[]
[]
[]
[]
[]
[]
[]
[]
[]
[]
[]
[]
[]
[]
[]
[]
[]
[]
[]
[]
[]
[]
[]
[]
[]
[]
[]
[]
[]
[]
[]
[]
[]
[]
[]
[]
[]
[]
[]
[]
[]
[]
[]
[]
[]
[]
[]
[]
[]
[]
[]
[]
[null,null,0]

{"sheet":"----","index":11,"n_rows":0,"n_cols":0,"rows_kept":0,"cut":false,"hidden":false,"merged":[]}

{"sheet":"Classement","index":12,"n_rows":41,"n_cols":9,"rows_kept":41,"cut":false,"hidden":false,"merged":[]}
["Classement  provisoire",null,null,null,null,null,null,null,{"$f":"IF('Avant la séance'!F1=\"\",\"\",'Avant la séance'!F1)","v":""}]
[null,1,null,null,null,null,{"$f":"IF(OR(D2=\"zzz\",D2=\"\"),\"\",TODAY())","v":""}]
[null,2,null,null,null,null,{"$f":"IF(OR(D3=\"zzz\",D3=\"\"),\"\",TODAY())","v":""}]
[null,3,null,null,null,null,""]
[null,4,null,null,null,null,""]
[null,5,null,null,null,null,""]
[null,6,null,null,null,null,""]
[null,7,null,null,null,null,""]
[null,8,null,null,null,null,""]
[null,9,null,null,null,null,""]
[null,10,null,null,null,null,""]
[null,11,null,null,null,null,""]
[null,12,null,null,null,null,""]
[null,13,null,null,null,null,""]
[null,14,null,null,null,null,""]
[null,15,null,null,null,null,""]
[null,16,null,null,null,null,""]
[null,17,null,null,null,null,""]
[null,18,null,null,null,null,""]
[null,19,null,null,null,null,""]
[null,20,null,null,null,null,""]
[null,21,null,null,null,null,""]
[null,22,null,null,null,null,""]
[null,23,null,null,null,null,""]
[null,24,null,null,null,null,""]
[null,25,null,null,null,null,""]
[null,26,null,null,null,null,""]
[null,27,null,null,null,null,""]
[null,28,null,null,null,null,""]
[null,29,null,null,null,null,""]
[null,30,null,null,null,null,""]
[null,31,null,null,null,null,""]
[null,32,null,null,null,null,""]
[null,33,null,null,null,null,""]
[null,34,null,null,null,null,""]
[null,35,null,null,null,null,""]
[null,36,null,null,null,null,""]
[null,37,null,null,null,null,""]
[null,38,null,null,null,null,""]
[null,39,null,null,null,null,""]
[null,40,null,null,null,null,""]

{"sheet":"-----","index":13,"n_rows":0,"n_cols":0,"rows_kept":0,"cut":false,"hidden":false,"merged":[]}

{"sheet":"Arch1","index":14,"n_rows":42,"n_cols":48,"rows_kept":42,"cut":false,"hidden":false,"merged":[]}
[]
[1,"Date",null,"NOMS Prénoms","Classe","Victoires",2,"Date",null,"NOMS Prénoms","Classe","Victoires",3,"Date",null,"NOMS Prénoms","Classe","Victoires",4,"Date",null,"NOMS Prénoms","Classe","Victoires",5,"Date",null,"NOMS Prénoms","Classe","Victoires",6,"Date",null,"NOMS Prénoms","Classe","Victoires",7,"Date",null,"NOMS Prénoms","Classe","Victoires",8,"Date",null,"NOMS Prénoms","Classe","Victoires"]
[null,null,1,null,{"$f":"IF(OR(Paramétrages!$G$127=\"\",D3=\"zzz\"),\"\",Paramétrages!$G$127)","v":""},null,null,null,1,null,{"$f":"IF(OR(Paramétrages!$G$129=\"\",J3=\"zzz\"),\"\",Paramétrages!$G$129)","v":""},null,null,null,1,null,{"$f":"IF(OR(Paramétrages!$G$131=\"\",P3=\"zzz\"),\"\",Paramétrages!$G$131)","v":""},null,null,null,1,null,{"$f":"IF(OR(Paramétrages!$G$133=\"\",V3=\"zzz\"),\"\",Paramétrages!$G$133)","v":""},null,null,null,1,null,{"$f":"IF(OR(Paramétrages!$G$135=\"\",AB3=\"zzz\"),\"\",Paramétrages!$G$135)","v":""},null,null,null,1,null,{"$f":"IF(OR(Paramétrages!$G$137=\"\",AH3=\"zzz\"),\"\",Paramétrages!$G$137)","v":""},null,null,null,1,null,{"$f":"IF(OR(Paramétrages!$G$139=\"\",AN3=\"zzz\"),\"\",Paramétrages!$G$139)","v":""},null,null,null,1,null,{"$f":"IF(OR(Paramétrages!$G$141=\"\",AT3=\"zzz\"),\"\",Paramétrages!$G$141)","v":""}]
[null,null,2,null,{"$f":"IF(OR(Paramétrages!$G$127=\"\",D4=\"zzz\"),\"\",Paramétrages!$G$127)","v":""},null,null,null,2,null,{"$f":"IF(OR(Paramétrages!$G$129=\"\",J4=\"zzz\"),\"\",Paramétrages!$G$129)","v":""},null,null,null,2,null,{"$f":"IF(OR(Paramétrages!$G$131=\"\",P4=\"zzz\"),\"\",Paramétrages!$G$131)","v":""},null,null,null,2,null,{"$f":"IF(OR(Paramétrages!$G$133=\"\",V4=\"zzz\"),\"\",Paramétrages!$G$133)","v":""},null,null,null,2,null,{"$f":"IF(OR(Paramétrages!$G$135=\"\",AB4=\"zzz\"),\"\",Paramétrages!$G$135)","v":""},null,null,null,2,null,{"$f":"IF(OR(Paramétrages!$G$137=\"\",AH4=\"zzz\"),\"\",Paramétrages!$G$137)","v":""},null,null,null,2,null,{"$f":"IF(OR(Paramétrages!$G$139=\"\",AN4=\"zzz\"),\"\",Paramétrages!$G$139)","v":""},null,null,null,2,null,{"$f":"IF(OR(Paramétrages!$G$141=\"\",AT4=\"zzz\"),\"\",Paramétrages!$G$141)","v":""}]
[null,null,3,null,{"$f":"IF(OR(Paramétrages!$G$127=\"\",D5=\"zzz\"),\"\",Paramétrages!$G$127)","v":""},null,null,null,3,null,{"$f":"IF(OR(Paramétrages!$G$129=\"\",J5=\"zzz\"),\"\",Paramétrages!$G$129)","v":""},null,null,null,3,null,{"$f":"IF(OR(Paramétrages!$G$131=\"\",P5=\"zzz\"),\"\",Paramétrages!$G$131)","v":""},null,null,null,3,null,{"$f":"IF(OR(Paramétrages!$G$133=\"\",V5=\"zzz\"),\"\",Paramétrages!$G$133)","v":""},null,null,null,3,null,{"$f":"IF(OR(Paramétrages!$G$135=\"\",AB5=\"zzz\"),\"\",Paramétrages!$G$135)","v":""},null,null,null,3,null,{"$f":"IF(OR(Paramétrages!$G$137=\"\",AH5=\"zzz\"),\"\",Paramétrages!$G$137)","v":""},null,null,null,3,null,{"$f":"IF(OR(Paramétrages!$G$139=\"\",AN5=\"zzz\"),\"\",Paramétrages!$G$139)","v":""},null,null,null,3,null,{"$f":"IF(OR(Paramétrages!$G$141=\"\",AT5=\"zzz\"),\"\",Paramétrages!$G$141)","v":""}]
[null,null,4,null,{"$f":"IF(OR(Paramétrages!$G$127=\"\",D6=\"zzz\"),\"\",Paramétrages!$G$127)","v":""},null,null,null,4,null,{"$f":"IF(OR(Paramétrages!$G$129=\"\",J6=\"zzz\"),\"\",Paramétrages!$G$129)","v":""},null,null,null,4,null,{"$f":"IF(OR(Paramétrages!$G$131=\"\",P6=\"zzz\"),\"\",Paramétrages!$G$131)","v":""},null,null,null,4,null,{"$f":"IF(OR(Paramétrages!$G$133=\"\",V6=\"zzz\"),\"\",Paramétrages!$G$133)","v":""},null,null,null,4,null,{"$f":"IF(OR(Paramétrages!$G$135=\"\",AB6=\"zzz\"),\"\",Paramétrages!$G$135)","v":""},null,null,null,4,null,{"$f":"IF(OR(Paramétrages!$G$137=\"\",AH6=\"zzz\"),\"\",Paramétrages!$G$137)","v":""},null,null,null,4,null,{"$f":"IF(OR(Paramétrages!$G$139=\"\",AN6=\"zzz\"),\"\",Paramétrages!$G$139)","v":""},null,null,null,4,null,{"$f":"IF(OR(Paramétrages!$G$141=\"\",AT6=\"zzz\"),\"\",Paramétrages!$G$141)","v":""}]
[null,null,5,null,{"$f":"IF(OR(Paramétrages!$G$127=\"\",D7=\"zzz\"),\"\",Paramétrages!$G$127)","v":""},null,null,null,5,null,{"$f":"IF(OR(Paramétrages!$G$129=\"\",J7=\"zzz\"),\"\",Paramétrages!$G$129)","v":""},null,null,null,5,null,{"$f":"IF(OR(Paramétrages!$G$131=\"\",P7=\"zzz\"),\"\",Paramétrages!$G$131)","v":""},null,null,null,5,null,{"$f":"IF(OR(Paramétrages!$G$133=\"\",V7=\"zzz\"),\"\",Paramétrages!$G$133)","v":""},null,null,null,5,null,{"$f":"IF(OR(Paramétrages!$G$135=\"\",AB7=\"zzz\"),\"\",Paramétrages!$G$135)","v":""},null,null,null,5,null,{"$f":"IF(OR(Paramétrages!$G$137=\"\",AH7=\"zzz\"),\"\",Paramétrages!$G$137)","v":""},null,null,null,5,null,{"$f":"IF(OR(Paramétrages!$G$139=\"\",AN7=\"zzz\"),\"\",Paramétrages!$G$139)","v":""},null,null,null,5,null,{"$f":"IF(OR(Paramétrages!$G$141=\"\",AT7=\"zzz\"),\"\",Paramétrages!$G$141)","v":""}]
[null,null,6,null,{"$f":"IF(OR(Paramétrages!$G$127=\"\",D8=\"zzz\"),\"\",Paramétrages!$G$127)","v":""},null,null,null,6,null,{"$f":"IF(OR(Paramétrages!$G$129=\"\",J8=\"zzz\"),\"\",Paramétrages!$G$129)","v":""},null,null,null,6,null,{"$f":"IF(OR(Paramétrages!$G$131=\"\",P8=\"zzz\"),\"\",Paramétrages!$G$131)","v":""},null,null,null,6,null,{"$f":"IF(OR(Paramétrages!$G$133=\"\",V8=\"zzz\"),\"\",Paramétrages!$G$133)","v":""},null,null,null,6,null,{"$f":"IF(OR(Paramétrages!$G$135=\"\",AB8=\"zzz\"),\"\",Paramétrages!$G$135)","v":""},null,null,null,6,null,{"$f":"IF(OR(Paramétrages!$G$137=\"\",AH8=\"zzz\"),\"\",Paramétrages!$G$137)","v":""},null,null,null,6,null,{"$f":"IF(OR(Paramétrages!$G$139=\"\",AN8=\"zzz\"),\"\",Paramétrages!$G$139)","v":""},null,null,null,6,null,{"$f":"IF(OR(Paramétrages!$G$141=\"\",AT8=\"zzz\"),\"\",Paramétrages!$G$141)","v":""}]
[null,null,7,null,{"$f":"IF(OR(Paramétrages!$G$127=\"\",D9=\"zzz\"),\"\",Paramétrages!$G$127)","v":""},null,null,null,7,null,{"$f":"IF(OR(Paramétrages!$G$129=\"\",J9=\"zzz\"),\"\",Paramétrages!$G$129)","v":""},null,null,null,7,null,{"$f":"IF(OR(Paramétrages!$G$131=\"\",P9=\"zzz\"),\"\",Paramétrages!$G$131)","v":""},null,null,null,7,null,{"$f":"IF(OR(Paramétrages!$G$133=\"\",V9=\"zzz\"),\"\",Paramétrages!$G$133)","v":""},null,null,null,7,null,{"$f":"IF(OR(Paramétrages!$G$135=\"\",AB9=\"zzz\"),\"\",Paramétrages!$G$135)","v":""},null,null,null,7,null,{"$f":"IF(OR(Paramétrages!$G$137=\"\",AH9=\"zzz\"),\"\",Paramétrages!$G$137)","v":""},null,null,null,7,null,{"$f":"IF(OR(Paramétrages!$G$139=\"\",AN9=\"zzz\"),\"\",Paramétrages!$G$139)","v":""},null,null,null,7,null,{"$f":"IF(OR(Paramétrages!$G$141=\"\",AT9=\"zzz\"),\"\",Paramétrages!$G$141)","v":""}]
[null,null,8,null,{"$f":"IF(OR(Paramétrages!$G$127=\"\",D10=\"zzz\"),\"\",Paramétrages!$G$127)","v":""},null,null,null,8,null,{"$f":"IF(OR(Paramétrages!$G$129=\"\",J10=\"zzz\"),\"\",Paramétrages!$G$129)","v":""},null,null,null,8,null,{"$f":"IF(OR(Paramétrages!$G$131=\"\",P10=\"zzz\"),\"\",Paramétrages!$G$131)","v":""},null,null,null,8,null,{"$f":"IF(OR(Paramétrages!$G$133=\"\",V10=\"zzz\"),\"\",Paramétrages!$G$133)","v":""},null,null,null,8,null,{"$f":"IF(OR(Paramétrages!$G$135=\"\",AB10=\"zzz\"),\"\",Paramétrages!$G$135)","v":""},null,null,null,8,null,{"$f":"IF(OR(Paramétrages!$G$137=\"\",AH10=\"zzz\"),\"\",Paramétrages!$G$137)","v":""},null,null,null,8,null,{"$f":"IF(OR(Paramétrages!$G$139=\"\",AN10=\"zzz\"),\"\",Paramétrages!$G$139)","v":""},null,null,null,8,null,{"$f":"IF(OR(Paramétrages!$G$141=\"\",AT10=\"zzz\"),\"\",Paramétrages!$G$141)","v":""}]
[null,null,9,null,{"$f":"IF(OR(Paramétrages!$G$127=\"\",D11=\"zzz\"),\"\",Paramétrages!$G$127)","v":""},null,null,null,9,null,{"$f":"IF(OR(Paramétrages!$G$129=\"\",J11=\"zzz\"),\"\",Paramétrages!$G$129)","v":""},null,null,null,9,null,{"$f":"IF(OR(Paramétrages!$G$131=\"\",P11=\"zzz\"),\"\",Paramétrages!$G$131)","v":""},null,null,null,9,null,{"$f":"IF(OR(Paramétrages!$G$133=\"\",V11=\"zzz\"),\"\",Paramétrages!$G$133)","v":""},null,null,null,9,null,{"$f":"IF(OR(Paramétrages!$G$135=\"\",AB11=\"zzz\"),\"\",Paramétrages!$G$135)","v":""},null,null,null,9,null,{"$f":"IF(OR(Paramétrages!$G$137=\"\",AH11=\"zzz\"),\"\",Paramétrages!$G$137)","v":""},null,null,null,9,null,{"$f":"IF(OR(Paramétrages!$G$139=\"\",AN11=\"zzz\"),\"\",Paramétrages!$G$139)","v":""},null,null,null,9,null,{"$f":"IF(OR(Paramétrages!$G$141=\"\",AT11=\"zzz\"),\"\",Paramétrages!$G$141)","v":""}]
[null,null,10,null,{"$f":"IF(OR(Paramétrages!$G$127=\"\",D12=\"zzz\"),\"\",Paramétrages!$G$127)","v":""},null,null,null,10,null,{"$f":"IF(OR(Paramétrages!$G$129=\"\",J12=\"zzz\"),\"\",Paramétrages!$G$129)","v":""},null,null,null,10,null,{"$f":"IF(OR(Paramétrages!$G$131=\"\",P12=\"zzz\"),\"\",Paramétrages!$G$131)","v":""},null,null,null,10,null,{"$f":"IF(OR(Paramétrages!$G$133=\"\",V12=\"zzz\"),\"\",Paramétrages!$G$133)","v":""},null,null,null,10,null,{"$f":"IF(OR(Paramétrages!$G$135=\"\",AB12=\"zzz\"),\"\",Paramétrages!$G$135)","v":""},null,null,null,10,null,{"$f":"IF(OR(Paramétrages!$G$137=\"\",AH12=\"zzz\"),\"\",Paramétrages!$G$137)","v":""},null,null,null,10,null,{"$f":"IF(OR(Paramétrages!$G$139=\"\",AN12=\"zzz\"),\"\",Paramétrages!$G$139)","v":""},null,null,null,10,null,{"$f":"IF(OR(Paramétrages!$G$141=\"\",AT12=\"zzz\"),\"\",Paramétrages!$G$141)","v":""}]
[null,null,11,null,{"$f":"IF(OR(Paramétrages!$G$127=\"\",D13=\"zzz\"),\"\",Paramétrages!$G$127)","v":""},null,null,null,11,null,{"$f":"IF(OR(Paramétrages!$G$129=\"\",J13=\"zzz\"),\"\",Paramétrages!$G$129)","v":""},null,null,null,11,null,{"$f":"IF(OR(Paramétrages!$G$131=\"\",P13=\"zzz\"),\"\",Paramétrages!$G$131)","v":""},null,null,null,11,null,{"$f":"IF(OR(Paramétrages!$G$133=\"\",V13=\"zzz\"),\"\",Paramétrages!$G$133)","v":""},null,null,null,11,null,{"$f":"IF(OR(Paramétrages!$G$135=\"\",AB13=\"zzz\"),\"\",Paramétrages!$G$135)","v":""},null,null,null,11,null,{"$f":"IF(OR(Paramétrages!$G$137=\"\",AH13=\"zzz\"),\"\",Paramétrages!$G$137)","v":""},null,null,null,11,null,{"$f":"IF(OR(Paramétrages!$G$139=\"\",AN13=\"zzz\"),\"\",Paramétrages!$G$139)","v":""},null,null,null,11,null,{"$f":"IF(OR(Paramétrages!$G$141=\"\",AT13=\"zzz\"),\"\",Paramétrages!$G$141)","v":""}]
[null,null,12,null,{"$f":"IF(OR(Paramétrages!$G$127=\"\",D14=\"zzz\"),\"\",Paramétrages!$G$127)","v":""},null,null,null,12,null,{"$f":"IF(OR(Paramétrages!$G$129=\"\",J14=\"zzz\"),\"\",Paramétrages!$G$129)","v":""},null,null,null,12,null,{"$f":"IF(OR(Paramétrages!$G$131=\"\",P14=\"zzz\"),\"\",Paramétrages!$G$131)","v":""},null,null,null,12,null,{"$f":"IF(OR(Paramétrages!$G$133=\"\",V14=\"zzz\"),\"\",Paramétrages!$G$133)","v":""},null,null,null,12,null,{"$f":"IF(OR(Paramétrages!$G$135=\"\",AB14=\"zzz\"),\"\",Paramétrages!$G$135)","v":""},null,null,null,12,null,{"$f":"IF(OR(Paramétrages!$G$137=\"\",AH14=\"zzz\"),\"\",Paramétrages!$G$137)","v":""},null,null,null,12,null,{"$f":"IF(OR(Paramétrages!$G$139=\"\",AN14=\"zzz\"),\"\",Paramétrages!$G$139)","v":""},null,null,null,12,null,{"$f":"IF(OR(Paramétrages!$G$141=\"\",AT14=\"zzz\"),\"\",Paramétrages!$G$141)","v":""}]
[null,null,13,null,{"$f":"IF(OR(Paramétrages!$G$127=\"\",D15=\"zzz\"),\"\",Paramétrages!$G$127)","v":""},null,null,null,13,null,{"$f":"IF(OR(Paramétrages!$G$129=\"\",J15=\"zzz\"),\"\",Paramétrages!$G$129)","v":""},null,null,null,13,null,{"$f":"IF(OR(Paramétrages!$G$131=\"\",P15=\"zzz\"),\"\",Paramétrages!$G$131)","v":""},null,null,null,13,null,{"$f":"IF(OR(Paramétrages!$G$133=\"\",V15=\"zzz\"),\"\",Paramétrages!$G$133)","v":""},null,null,null,13,null,{"$f":"IF(OR(Paramétrages!$G$135=\"\",AB15=\"zzz\"),\"\",Paramétrages!$G$135)","v":""},null,null,null,13,null,{"$f":"IF(OR(Paramétrages!$G$137=\"\",AH15=\"zzz\"),\"\",Paramétrages!$G$137)","v":""},null,null,null,13,null,{"$f":"IF(OR(Paramétrages!$G$139=\"\",AN15=\"zzz\"),\"\",Paramétrages!$G$139)","v":""},null,null,null,13,null,{"$f":"IF(OR(Paramétrages!$G$141=\"\",AT15=\"zzz\"),\"\",Paramétrages!$G$141)","v":""}]
[null,null,14,null,{"$f":"IF(OR(Paramétrages!$G$127=\"\",D16=\"zzz\"),\"\",Paramétrages!$G$127)","v":""},null,null,null,14,null,{"$f":"IF(OR(Paramétrages!$G$129=\"\",J16=\"zzz\"),\"\",Paramétrages!$G$129)","v":""},null,null,null,14,null,{"$f":"IF(OR(Paramétrages!$G$131=\"\",P16=\"zzz\"),\"\",Paramétrages!$G$131)","v":""},null,null,null,14,null,{"$f":"IF(OR(Paramétrages!$G$133=\"\",V16=\"zzz\"),\"\",Paramétrages!$G$133)","v":""},null,null,null,14,null,{"$f":"IF(OR(Paramétrages!$G$135=\"\",AB16=\"zzz\"),\"\",Paramétrages!$G$135)","v":""},null,null,null,14,null,{"$f":"IF(OR(Paramétrages!$G$137=\"\",AH16=\"zzz\"),\"\",Paramétrages!$G$137)","v":""},null,null,null,14,null,{"$f":"IF(OR(Paramétrages!$G$139=\"\",AN16=\"zzz\"),\"\",Paramétrages!$G$139)","v":""},null,null,null,14,null,{"$f":"IF(OR(Paramétrages!$G$141=\"\",AT16=\"zzz\"),\"\",Paramétrages!$G$141)","v":""}]
[null,null,15,null,{"$f":"IF(OR(Paramétrages!$G$127=\"\",D17=\"zzz\"),\"\",Paramétrages!$G$127)","v":""},null,null,null,15,null,{"$f":"IF(OR(Paramétrages!$G$129=\"\",J17=\"zzz\"),\"\",Paramétrages!$G$129)","v":""},null,null,null,15,null,{"$f":"IF(OR(Paramétrages!$G$131=\"\",P17=\"zzz\"),\"\",Paramétrages!$G$131)","v":""},null,null,null,15,null,{"$f":"IF(OR(Paramétrages!$G$133=\"\",V17=\"zzz\"),\"\",Paramétrages!$G$133)","v":""},null,null,null,15,null,{"$f":"IF(OR(Paramétrages!$G$135=\"\",AB17=\"zzz\"),\"\",Paramétrages!$G$135)","v":""},null,null,null,15,null,{"$f":"IF(OR(Paramétrages!$G$137=\"\",AH17=\"zzz\"),\"\",Paramétrages!$G$137)","v":""},null,null,null,15,null,{"$f":"IF(OR(Paramétrages!$G$139=\"\",AN17=\"zzz\"),\"\",Paramétrages!$G$139)","v":""},null,null,null,15,null,{"$f":"IF(OR(Paramétrages!$G$141=\"\",AT17=\"zzz\"),\"\",Paramétrages!$G$141)","v":""}]
[null,null,16,null,{"$f":"IF(OR(Paramétrages!$G$127=\"\",D18=\"zzz\"),\"\",Paramétrages!$G$127)","v":""},null,null,null,16,null,{"$f":"IF(OR(Paramétrages!$G$129=\"\",J18=\"zzz\"),\"\",Paramétrages!$G$129)","v":""},null,null,null,16,null,{"$f":"IF(OR(Paramétrages!$G$131=\"\",P18=\"zzz\"),\"\",Paramétrages!$G$131)","v":""},null,null,null,16,null,{"$f":"IF(OR(Paramétrages!$G$133=\"\",V18=\"zzz\"),\"\",Paramétrages!$G$133)","v":""},null,null,null,16,null,{"$f":"IF(OR(Paramétrages!$G$135=\"\",AB18=\"zzz\"),\"\",Paramétrages!$G$135)","v":""},null,null,null,16,null,{"$f":"IF(OR(Paramétrages!$G$137=\"\",AH18=\"zzz\"),\"\",Paramétrages!$G$137)","v":""},null,null,null,16,null,{"$f":"IF(OR(Paramétrages!$G$139=\"\",AN18=\"zzz\"),\"\",Paramétrages!$G$139)","v":""},null,null,null,16,null,{"$f":"IF(OR(Paramétrages!$G$141=\"\",AT18=\"zzz\"),\"\",Paramétrages!$G$141)","v":""}]
[null,null,17,null,{"$f":"IF(OR(Paramétrages!$G$127=\"\",D19=\"zzz\"),\"\",Paramétrages!$G$127)","v":""},null,null,null,17,null,{"$f":"IF(OR(Paramétrages!$G$129=\"\",J19=\"zzz\"),\"\",Paramétrages!$G$129)","v":""},null,null,null,17,null,{"$f":"IF(OR(Paramétrages!$G$131=\"\",P19=\"zzz\"),\"\",Paramétrages!$G$131)","v":""},null,null,null,17,null,{"$f":"IF(OR(Paramétrages!$G$133=\"\",V19=\"zzz\"),\"\",Paramétrages!$G$133)","v":""},null,null,null,17,null,{"$f":"IF(OR(Paramétrages!$G$135=\"\",AB19=\"zzz\"),\"\",Paramétrages!$G$135)","v":""},null,null,null,17,null,{"$f":"IF(OR(Paramétrages!$G$137=\"\",AH19=\"zzz\"),\"\",Paramétrages!$G$137)","v":""},null,null,null,17,null,{"$f":"IF(OR(Paramétrages!$G$139=\"\",AN19=\"zzz\"),\"\",Paramétrages!$G$139)","v":""},null,null,null,17,null,{"$f":"IF(OR(Paramétrages!$G$141=\"\",AT19=\"zzz\"),\"\",Paramétrages!$G$141)","v":""}]
[null,null,18,null,{"$f":"IF(OR(Paramétrages!$G$127=\"\",D20=\"zzz\"),\"\",Paramétrages!$G$127)","v":""},null,null,null,18,null,{"$f":"IF(OR(Paramétrages!$G$129=\"\",J20=\"zzz\"),\"\",Paramétrages!$G$129)","v":""},null,null,null,18,null,{"$f":"IF(OR(Paramétrages!$G$131=\"\",P20=\"zzz\"),\"\",Paramétrages!$G$131)","v":""},null,null,null,18,null,{"$f":"IF(OR(Paramétrages!$G$133=\"\",V20=\"zzz\"),\"\",Paramétrages!$G$133)","v":""},null,null,null,18,null,{"$f":"IF(OR(Paramétrages!$G$135=\"\",AB20=\"zzz\"),\"\",Paramétrages!$G$135)","v":""},null,null,null,18,null,{"$f":"IF(OR(Paramétrages!$G$137=\"\",AH20=\"zzz\"),\"\",Paramétrages!$G$137)","v":""},null,null,null,18,null,{"$f":"IF(OR(Paramétrages!$G$139=\"\",AN20=\"zzz\"),\"\",Paramétrages!$G$139)","v":""},null,null,null,18,null,{"$f":"IF(OR(Paramétrages!$G$141=\"\",AT20=\"zzz\"),\"\",Paramétrages!$G$141)","v":""}]
[null,null,19,null,{"$f":"IF(OR(Paramétrages!$G$127=\"\",D21=\"zzz\"),\"\",Paramétrages!$G$127)","v":""},null,null,null,19,null,{"$f":"IF(OR(Paramétrages!$G$129=\"\",J21=\"zzz\"),\"\",Paramétrages!$G$129)","v":""},null,null,null,19,null,{"$f":"IF(OR(Paramétrages!$G$131=\"\",P21=\"zzz\"),\"\",Paramétrages!$G$131)","v":""},null,null,null,19,null,{"$f":"IF(OR(Paramétrages!$G$133=\"\",V21=\"zzz\"),\"\",Paramétrages!$G$133)","v":""},null,null,null,19,null,{"$f":"IF(OR(Paramétrages!$G$135=\"\",AB21=\"zzz\"),\"\",Paramétrages!$G$135)","v":""},null,null,null,19,null,{"$f":"IF(OR(Paramétrages!$G$137=\"\",AH21=\"zzz\"),\"\",Paramétrages!$G$137)","v":""},null,null,null,19,null,{"$f":"IF(OR(Paramétrages!$G$139=\"\",AN21=\"zzz\"),\"\",Paramétrages!$G$139)","v":""},null,null,null,19,null,{"$f":"IF(OR(Paramétrages!$G$141=\"\",AT21=\"zzz\"),\"\",Paramétrages!$G$141)","v":""}]
[null,null,20,null,{"$f":"IF(OR(Paramétrages!$G$127=\"\",D22=\"zzz\"),\"\",Paramétrages!$G$127)","v":""},null,null,null,20,null,{"$f":"IF(OR(Paramétrages!$G$129=\"\",J22=\"zzz\"),\"\",Paramétrages!$G$129)","v":""},null,null,null,20,null,{"$f":"IF(OR(Paramétrages!$G$131=\"\",P22=\"zzz\"),\"\",Paramétrages!$G$131)","v":""},null,null,null,20,null,{"$f":"IF(OR(Paramétrages!$G$133=\"\",V22=\"zzz\"),\"\",Paramétrages!$G$133)","v":""},null,null,null,20,null,{"$f":"IF(OR(Paramétrages!$G$135=\"\",AB22=\"zzz\"),\"\",Paramétrages!$G$135)","v":""},null,null,null,20,null,{"$f":"IF(OR(Paramétrages!$G$137=\"\",AH22=\"zzz\"),\"\",Paramétrages!$G$137)","v":""},null,null,null,20,null,{"$f":"IF(OR(Paramétrages!$G$139=\"\",AN22=\"zzz\"),\"\",Paramétrages!$G$139)","v":""},null,null,null,20,null,{"$f":"IF(OR(Paramétrages!$G$141=\"\",AT22=\"zzz\"),\"\",Paramétrages!$G$141)","v":""}]
[null,null,21,null,{"$f":"IF(OR(Paramétrages!$G$127=\"\",D23=\"zzz\"),\"\",Paramétrages!$G$127)","v":""},null,null,null,21,null,{"$f":"IF(OR(Paramétrages!$G$129=\"\",J23=\"zzz\"),\"\",Paramétrages!$G$129)","v":""},null,null,null,21,null,{"$f":"IF(OR(Paramétrages!$G$131=\"\",P23=\"zzz\"),\"\",Paramétrages!$G$131)","v":""},null,null,null,21,null,{"$f":"IF(OR(Paramétrages!$G$133=\"\",V23=\"zzz\"),\"\",Paramétrages!$G$133)","v":""},null,null,null,21,null,{"$f":"IF(OR(Paramétrages!$G$135=\"\",AB23=\"zzz\"),\"\",Paramétrages!$G$135)","v":""},null,null,null,21,null,{"$f":"IF(OR(Paramétrages!$G$137=\"\",AH23=\"zzz\"),\"\",Paramétrages!$G$137)","v":""},null,null,null,21,null,{"$f":"IF(OR(Paramétrages!$G$139=\"\",AN23=\"zzz\"),\"\",Paramétrages!$G$139)","v":""},null,null,null,21,null,{"$f":"IF(OR(Paramétrages!$G$141=\"\",AT23=\"zzz\"),\"\",Paramétrages!$G$141)","v":""}]
[null,null,22,null,{"$f":"IF(OR(Paramétrages!$G$127=\"\",D24=\"zzz\"),\"\",Paramétrages!$G$127)","v":""},null,null,null,22,null,{"$f":"IF(OR(Paramétrages!$G$129=\"\",J24=\"zzz\"),\"\",Paramétrages!$G$129)","v":""},null,null,null,22,null,{"$f":"IF(OR(Paramétrages!$G$131=\"\",P24=\"zzz\"),\"\",Paramétrages!$G$131)","v":""},null,null,null,22,null,{"$f":"IF(OR(Paramétrages!$G$133=\"\",V24=\"zzz\"),\"\",Paramétrages!$G$133)","v":""},null,null,null,22,null,{"$f":"IF(OR(Paramétrages!$G$135=\"\",AB24=\"zzz\"),\"\",Paramétrages!$G$135)","v":""},null,null,null,22,null,{"$f":"IF(OR(Paramétrages!$G$137=\"\",AH24=\"zzz\"),\"\",Paramétrages!$G$137)","v":""},null,null,null,22,null,{"$f":"IF(OR(Paramétrages!$G$139=\"\",AN24=\"zzz\"),\"\",Paramétrages!$G$139)","v":""},null,null,null,22,null,{"$f":"IF(OR(Paramétrages!$G$141=\"\",AT24=\"zzz\"),\"\",Paramétrages!$G$141)","v":""}]
[null,null,23,null,{"$f":"IF(OR(Paramétrages!$G$127=\"\",D25=\"zzz\"),\"\",Paramétrages!$G$127)","v":""},null,null,null,23,null,{"$f":"IF(OR(Paramétrages!$G$129=\"\",J25=\"zzz\"),\"\",Paramétrages!$G$129)","v":""},null,null,null,23,null,{"$f":"IF(OR(Paramétrages!$G$131=\"\",P25=\"zzz\"),\"\",Paramétrages!$G$131)","v":""},null,null,null,23,null,{"$f":"IF(OR(Paramétrages!$G$133=\"\",V25=\"zzz\"),\"\",Paramétrages!$G$133)","v":""},null,null,null,23,null,{"$f":"IF(OR(Paramétrages!$G$135=\"\",AB25=\"zzz\"),\"\",Paramétrages!$G$135)","v":""},null,null,null,23,null,{"$f":"IF(OR(Paramétrages!$G$137=\"\",AH25=\"zzz\"),\"\",Paramétrages!$G$137)","v":""},null,null,null,23,null,{"$f":"IF(OR(Paramétrages!$G$139=\"\",AN25=\"zzz\"),\"\",Paramétrages!$G$139)","v":""},null,null,null,23,null,{"$f":"IF(OR(Paramétrages!$G$141=\"\",AT25=\"zzz\"),\"\",Paramétrages!$G$141)","v":""}]
[null,null,24,null,{"$f":"IF(OR(Paramétrages!$G$127=\"\",D26=\"zzz\"),\"\",Paramétrages!$G$127)","v":""},null,null,null,24,null,{"$f":"IF(OR(Paramétrages!$G$129=\"\",J26=\"zzz\"),\"\",Paramétrages!$G$129)","v":""},null,null,null,24,null,{"$f":"IF(OR(Paramétrages!$G$131=\"\",P26=\"zzz\"),\"\",Paramétrages!$G$131)","v":""},null,null,null,24,null,{"$f":"IF(OR(Paramétrages!$G$133=\"\",V26=\"zzz\"),\"\",Paramétrages!$G$133)","v":""},null,null,null,24,null,{"$f":"IF(OR(Paramétrages!$G$135=\"\",AB26=\"zzz\"),\"\",Paramétrages!$G$135)","v":""},null,null,null,24,null,{"$f":"IF(OR(Paramétrages!$G$137=\"\",AH26=\"zzz\"),\"\",Paramétrages!$G$137)","v":""},null,null,null,24,null,{"$f":"IF(OR(Paramétrages!$G$139=\"\",AN26=\"zzz\"),\"\",Paramétrages!$G$139)","v":""},null,null,null,24,null,{"$f":"IF(OR(Paramétrages!$G$141=\"\",AT26=\"zzz\"),\"\",Paramétrages!$G$141)","v":""}]
[null,null,25,null,{"$f":"IF(OR(Paramétrages!$G$127=\"\",D27=\"zzz\"),\"\",Paramétrages!$G$127)","v":""},null,null,null,25,null,{"$f":"IF(OR(Paramétrages!$G$129=\"\",J27=\"zzz\"),\"\",Paramétrages!$G$129)","v":""},null,null,null,25,null,{"$f":"IF(OR(Paramétrages!$G$131=\"\",P27=\"zzz\"),\"\",Paramétrages!$G$131)","v":""},null,null,null,25,null,{"$f":"IF(OR(Paramétrages!$G$133=\"\",V27=\"zzz\"),\"\",Paramétrages!$G$133)","v":""},null,null,null,25,null,{"$f":"IF(OR(Paramétrages!$G$135=\"\",AB27=\"zzz\"),\"\",Paramétrages!$G$135)","v":""},null,null,null,25,null,{"$f":"IF(OR(Paramétrages!$G$137=\"\",AH27=\"zzz\"),\"\",Paramétrages!$G$137)","v":""},null,null,null,25,null,{"$f":"IF(OR(Paramétrages!$G$139=\"\",AN27=\"zzz\"),\"\",Paramétrages!$G$139)","v":""},null,null,null,25,null,{"$f":"IF(OR(Paramétrages!$G$141=\"\",AT27=\"zzz\"),\"\",Paramétrages!$G$141)","v":""}]
[null,null,26,null,{"$f":"IF(OR(Paramétrages!$G$127=\"\",D28=\"zzz\"),\"\",Paramétrages!$G$127)","v":""},null,null,null,26,null,{"$f":"IF(OR(Paramétrages!$G$129=\"\",J28=\"zzz\"),\"\",Paramétrages!$G$129)","v":""},null,null,null,26,null,{"$f":"IF(OR(Paramétrages!$G$131=\"\",P28=\"zzz\"),\"\",Paramétrages!$G$131)","v":""},null,null,null,26,null,{"$f":"IF(OR(Paramétrages!$G$133=\"\",V28=\"zzz\"),\"\",Paramétrages!$G$133)","v":""},null,null,null,26,null,{"$f":"IF(OR(Paramétrages!$G$135=\"\",AB28=\"zzz\"),\"\",Paramétrages!$G$135)","v":""},null,null,null,26,null,{"$f":"IF(OR(Paramétrages!$G$137=\"\",AH28=\"zzz\"),\"\",Paramétrages!$G$137)","v":""},null,null,null,26,null,{"$f":"IF(OR(Paramétrages!$G$139=\"\",AN28=\"zzz\"),\"\",Paramétrages!$G$139)","v":""},null,null,null,26,null,{"$f":"IF(OR(Paramétrages!$G$141=\"\",AT28=\"zzz\"),\"\",Paramétrages!$G$141)","v":""}]
[null,null,27,null,{"$f":"IF(OR(Paramétrages!$G$127=\"\",D29=\"zzz\"),\"\",Paramétrages!$G$127)","v":""},null,null,null,27,null,{"$f":"IF(OR(Paramétrages!$G$129=\"\",J29=\"zzz\"),\"\",Paramétrages!$G$129)","v":""},null,null,null,27,null,{"$f":"IF(OR(Paramétrages!$G$131=\"\",P29=\"zzz\"),\"\",Paramétrages!$G$131)","v":""},null,null,null,27,null,{"$f":"IF(OR(Paramétrages!$G$133=\"\",V29=\"zzz\"),\"\",Paramétrages!$G$133)","v":""},null,null,null,27,null,{"$f":"IF(OR(Paramétrages!$G$135=\"\",AB29=\"zzz\"),\"\",Paramétrages!$G$135)","v":""},null,null,null,27,null,{"$f":"IF(OR(Paramétrages!$G$137=\"\",AH29=\"zzz\"),\"\",Paramétrages!$G$137)","v":""},null,null,null,27,null,{"$f":"IF(OR(Paramétrages!$G$139=\"\",AN29=\"zzz\"),\"\",Paramétrages!$G$139)","v":""},null,null,null,27,null,{"$f":"IF(OR(Paramétrages!$G$141=\"\",AT29=\"zzz\"),\"\",Paramétrages!$G$141)","v":""}]
[null,null,28,null,{"$f":"IF(OR(Paramétrages!$G$127=\"\",D30=\"zzz\"),\"\",Paramétrages!$G$127)","v":""},null,null,null,28,null,{"$f":"IF(OR(Paramétrages!$G$129=\"\",J30=\"zzz\"),\"\",Paramétrages!$G$129)","v":""},null,null,null,28,null,{"$f":"IF(OR(Paramétrages!$G$131=\"\",P30=\"zzz\"),\"\",Paramétrages!$G$131)","v":""},null,null,null,28,null,{"$f":"IF(OR(Paramétrages!$G$133=\"\",V30=\"zzz\"),\"\",Paramétrages!$G$133)","v":""},null,null,null,28,null,{"$f":"IF(OR(Paramétrages!$G$135=\"\",AB30=\"zzz\"),\"\",Paramétrages!$G$135)","v":""},null,null,null,28,null,{"$f":"IF(OR(Paramétrages!$G$137=\"\",AH30=\"zzz\"),\"\",Paramétrages!$G$137)","v":""},null,null,null,28,null,{"$f":"IF(OR(Paramétrages!$G$139=\"\",AN30=\"zzz\"),\"\",Paramétrages!$G$139)","v":""},null,null,null,28,null,{"$f":"IF(OR(Paramétrages!$G$141=\"\",AT30=\"zzz\"),\"\",Paramétrages!$G$141)","v":""}]
[null,null,29,null,{"$f":"IF(OR(Paramétrages!$G$127=\"\",D31=\"zzz\"),\"\",Paramétrages!$G$127)","v":""},null,null,null,29,null,{"$f":"IF(OR(Paramétrages!$G$129=\"\",J31=\"zzz\"),\"\",Paramétrages!$G$129)","v":""},null,null,null,29,null,{"$f":"IF(OR(Paramétrages!$G$131=\"\",P31=\"zzz\"),\"\",Paramétrages!$G$131)","v":""},null,null,null,29,null,{"$f":"IF(OR(Paramétrages!$G$133=\"\",V31=\"zzz\"),\"\",Paramétrages!$G$133)","v":""},null,null,null,29,null,{"$f":"IF(OR(Paramétrages!$G$135=\"\",AB31=\"zzz\"),\"\",Paramétrages!$G$135)","v":""},null,null,null,29,null,{"$f":"IF(OR(Paramétrages!$G$137=\"\",AH31=\"zzz\"),\"\",Paramétrages!$G$137)","v":""},null,null,null,29,null,{"$f":"IF(OR(Paramétrages!$G$139=\"\",AN31=\"zzz\"),\"\",Paramétrages!$G$139)","v":""},null,null,null,29,null,{"$f":"IF(OR(Paramétrages!$G$141=\"\",AT31=\"zzz\"),\"\",Paramétrages!$G$141)","v":""}]
[null,null,30,null,{"$f":"IF(OR(Paramétrages!$G$127=\"\",D32=\"zzz\"),\"\",Paramétrages!$G$127)","v":""},null,null,null,30,null,{"$f":"IF(OR(Paramétrages!$G$129=\"\",J32=\"zzz\"),\"\",Paramétrages!$G$129)","v":""},null,null,null,30,null,{"$f":"IF(OR(Paramétrages!$G$131=\"\",P32=\"zzz\"),\"\",Paramétrages!$G$131)","v":""},null,null,null,30,null,{"$f":"IF(OR(Paramétrages!$G$133=\"\",V32=\"zzz\"),\"\",Paramétrages!$G$133)","v":""},null,null,null,30,null,{"$f":"IF(OR(Paramétrages!$G$135=\"\",AB32=\"zzz\"),\"\",Paramétrages!$G$135)","v":""},null,null,null,30,null,{"$f":"IF(OR(Paramétrages!$G$137=\"\",AH32=\"zzz\"),\"\",Paramétrages!$G$137)","v":""},null,null,null,30,null,{"$f":"IF(OR(Paramétrages!$G$139=\"\",AN32=\"zzz\"),\"\",Paramétrages!$G$139)","v":""},null,null,null,30,null,{"$f":"IF(OR(Paramétrages!$G$141=\"\",AT32=\"zzz\"),\"\",Paramétrages!$G$141)","v":""}]
[null,null,31,null,{"$f":"IF(OR(Paramétrages!$G$127=\"\",D33=\"zzz\"),\"\",Paramétrages!$G$127)","v":""},null,null,null,31,null,{"$f":"IF(OR(Paramétrages!$G$129=\"\",J33=\"zzz\"),\"\",Paramétrages!$G$129)","v":""},null,null,null,31,null,{"$f":"IF(OR(Paramétrages!$G$131=\"\",P33=\"zzz\"),\"\",Paramétrages!$G$131)","v":""},null,null,null,31,null,{"$f":"IF(OR(Paramétrages!$G$133=\"\",V33=\"zzz\"),\"\",Paramétrages!$G$133)","v":""},null,null,null,31,null,{"$f":"IF(OR(Paramétrages!$G$135=\"\",AB33=\"zzz\"),\"\",Paramétrages!$G$135)","v":""},null,null,null,31,null,{"$f":"IF(OR(Paramétrages!$G$137=\"\",AH33=\"zzz\"),\"\",Paramétrages!$G$137)","v":""},null,null,null,31,null,{"$f":"IF(OR(Paramétrages!$G$139=\"\",AN33=\"zzz\"),\"\",Paramétrages!$G$139)","v":""},null,null,null,31,null,{"$f":"IF(OR(Paramétrages!$G$141=\"\",AT33=\"zzz\"),\"\",Paramétrages!$G$141)","v":""}]
[null,null,32,null,{"$f":"IF(OR(Paramétrages!$G$127=\"\",D34=\"zzz\"),\"\",Paramétrages!$G$127)","v":""},null,null,null,32,null,{"$f":"IF(OR(Paramétrages!$G$129=\"\",J34=\"zzz\"),\"\",Paramétrages!$G$129)","v":""},null,null,null,32,null,{"$f":"IF(OR(Paramétrages!$G$131=\"\",P34=\"zzz\"),\"\",Paramétrages!$G$131)","v":""},null,null,null,32,null,{"$f":"IF(OR(Paramétrages!$G$133=\"\",V34=\"zzz\"),\"\",Paramétrages!$G$133)","v":""},null,null,null,32,null,{"$f":"IF(OR(Paramétrages!$G$135=\"\",AB34=\"zzz\"),\"\",Paramétrages!$G$135)","v":""},null,null,null,32,null,{"$f":"IF(OR(Paramétrages!$G$137=\"\",AH34=\"zzz\"),\"\",Paramétrages!$G$137)","v":""},null,null,null,32,null,{"$f":"IF(OR(Paramétrages!$G$139=\"\",AN34=\"zzz\"),\"\",Paramétrages!$G$139)","v":""},null,null,null,32,null,{"$f":"IF(OR(Paramétrages!$G$141=\"\",AT34=\"zzz\"),\"\",Paramétrages!$G$141)","v":""}]
[null,null,33,null,{"$f":"IF(OR(Paramétrages!$G$127=\"\",D35=\"zzz\"),\"\",Paramétrages!$G$127)","v":""},null,null,null,33,null,{"$f":"IF(OR(Paramétrages!$G$129=\"\",J35=\"zzz\"),\"\",Paramétrages!$G$129)","v":""},null,null,null,33,null,{"$f":"IF(OR(Paramétrages!$G$131=\"\",P35=\"zzz\"),\"\",Paramétrages!$G$131)","v":""},null,null,null,33,null,{"$f":"IF(OR(Paramétrages!$G$133=\"\",V35=\"zzz\"),\"\",Paramétrages!$G$133)","v":""},null,null,null,33,null,{"$f":"IF(OR(Paramétrages!$G$135=\"\",AB35=\"zzz\"),\"\",Paramétrages!$G$135)","v":""},null,null,null,33,null,{"$f":"IF(OR(Paramétrages!$G$137=\"\",AH35=\"zzz\"),\"\",Paramétrages!$G$137)","v":""},null,null,null,33,null,{"$f":"IF(OR(Paramétrages!$G$139=\"\",AN35=\"zzz\"),\"\",Paramétrages!$G$139)","v":""},null,null,null,33,null,{"$f":"IF(OR(Paramétrages!$G$141=\"\",AT35=\"zzz\"),\"\",Paramétrages!$G$141)","v":""}]
[null,null,34,null,{"$f":"IF(OR(Paramétrages!$G$127=\"\",D36=\"zzz\"),\"\",Paramétrages!$G$127)","v":""},null,null,null,34,null,{"$f":"IF(OR(Paramétrages!$G$129=\"\",J36=\"zzz\"),\"\",Paramétrages!$G$129)","v":""},null,null,null,34,null,{"$f":"IF(OR(Paramétrages!$G$131=\"\",P36=\"zzz\"),\"\",Paramétrages!$G$131)","v":""},null,null,null,34,null,{"$f":"IF(OR(Paramétrages!$G$133=\"\",V36=\"zzz\"),\"\",Paramétrages!$G$133)","v":""},null,null,null,34,null,{"$f":"IF(OR(Paramétrages!$G$135=\"\",AB36=\"zzz\"),\"\",Paramétrages!$G$135)","v":""},null,null,null,34,null,{"$f":"IF(OR(Paramétrages!$G$137=\"\",AH36=\"zzz\"),\"\",Paramétrages!$G$137)","v":""},null,null,null,34,null,{"$f":"IF(OR(Paramétrages!$G$139=\"\",AN36=\"zzz\"),\"\",Paramétrages!$G$139)","v":""},null,null,null,34,null,{"$f":"IF(OR(Paramétrages!$G$141=\"\",AT36=\"zzz\"),\"\",Paramétrages!$G$141)","v":""}]
[null,null,35,null,{"$f":"IF(OR(Paramétrages!$G$127=\"\",D37=\"zzz\"),\"\",Paramétrages!$G$127)","v":""},null,null,null,35,null,{"$f":"IF(OR(Paramétrages!$G$129=\"\",J37=\"zzz\"),\"\",Paramétrages!$G$129)","v":""},null,null,null,35,null,{"$f":"IF(OR(Paramétrages!$G$131=\"\",P37=\"zzz\"),\"\",Paramétrages!$G$131)","v":""},null,null,null,35,null,{"$f":"IF(OR(Paramétrages!$G$133=\"\",V37=\"zzz\"),\"\",Paramétrages!$G$133)","v":""},null,null,null,35,null,{"$f":"IF(OR(Paramétrages!$G$135=\"\",AB37=\"zzz\"),\"\",Paramétrages!$G$135)","v":""},null,null,null,35,null,{"$f":"IF(OR(Paramétrages!$G$137=\"\",AH37=\"zzz\"),\"\",Paramétrages!$G$137)","v":""},null,null,null,35,null,{"$f":"IF(OR(Paramétrages!$G$139=\"\",AN37=\"zzz\"),\"\",Paramétrages!$G$139)","v":""},null,null,null,35,null,{"$f":"IF(OR(Paramétrages!$G$141=\"\",AT37=\"zzz\"),\"\",Paramétrages!$G$141)","v":""}]
[null,null,36,null,{"$f":"IF(OR(Paramétrages!$G$127=\"\",D38=\"zzz\"),\"\",Paramétrages!$G$127)","v":""},null,null,null,36,null,{"$f":"IF(OR(Paramétrages!$G$129=\"\",J38=\"zzz\"),\"\",Paramétrages!$G$129)","v":""},null,null,null,36,null,{"$f":"IF(OR(Paramétrages!$G$131=\"\",P38=\"zzz\"),\"\",Paramétrages!$G$131)","v":""},null,null,null,36,null,{"$f":"IF(OR(Paramétrages!$G$133=\"\",V38=\"zzz\"),\"\",Paramétrages!$G$133)","v":""},null,null,null,36,null,{"$f":"IF(OR(Paramétrages!$G$135=\"\",AB38=\"zzz\"),\"\",Paramétrages!$G$135)","v":""},null,null,null,36,null,{"$f":"IF(OR(Paramétrages!$G$137=\"\",AH38=\"zzz\"),\"\",Paramétrages!$G$137)","v":""},null,null,null,36,null,{"$f":"IF(OR(Paramétrages!$G$139=\"\",AN38=\"zzz\"),\"\",Paramétrages!$G$139)","v":""},null,null,null,36,null,{"$f":"IF(OR(Paramétrages!$G$141=\"\",AT38=\"zzz\"),\"\",Paramétrages!$G$141)","v":""}]
[null,null,37,null,{"$f":"IF(OR(Paramétrages!$G$127=\"\",D39=\"zzz\"),\"\",Paramétrages!$G$127)","v":""},null,null,null,37,null,{"$f":"IF(OR(Paramétrages!$G$129=\"\",J39=\"zzz\"),\"\",Paramétrages!$G$129)","v":""},null,null,null,37,null,{"$f":"IF(OR(Paramétrages!$G$131=\"\",P39=\"zzz\"),\"\",Paramétrages!$G$131)","v":""},null,null,null,37,null,{"$f":"IF(OR(Paramétrages!$G$133=\"\",V39=\"zzz\"),\"\",Paramétrages!$G$133)","v":""},null,null,null,37,null,{"$f":"IF(OR(Paramétrages!$G$135=\"\",AB39=\"zzz\"),\"\",Paramétrages!$G$135)","v":""},null,null,null,37,null,{"$f":"IF(OR(Paramétrages!$G$137=\"\",AH39=\"zzz\"),\"\",Paramétrages!$G$137)","v":""},null,null,null,37,null,{"$f":"IF(OR(Paramétrages!$G$139=\"\",AN39=\"zzz\"),\"\",Paramétrages!$G$139)","v":""},null,null,null,37,null,{"$f":"IF(OR(Paramétrages!$G$141=\"\",AT39=\"zzz\"),\"\",Paramétrages!$G$141)","v":""}]
[null,null,38,null,{"$f":"IF(OR(Paramétrages!$G$127=\"\",D40=\"zzz\"),\"\",Paramétrages!$G$127)","v":""},null,null,null,38,null,{"$f":"IF(OR(Paramétrages!$G$129=\"\",J40=\"zzz\"),\"\",Paramétrages!$G$129)","v":""},null,null,null,38,null,{"$f":"IF(OR(Paramétrages!$G$131=\"\",P40=\"zzz\"),\"\",Paramétrages!$G$131)","v":""},null,null,null,38,null,{"$f":"IF(OR(Paramétrages!$G$133=\"\",V40=\"zzz\"),\"\",Paramétrages!$G$133)","v":""},null,null,null,38,null,{"$f":"IF(OR(Paramétrages!$G$135=\"\",AB40=\"zzz\"),\"\",Paramétrages!$G$135)","v":""},null,null,null,38,null,{"$f":"IF(OR(Paramétrages!$G$137=\"\",AH40=\"zzz\"),\"\",Paramétrages!$G$137)","v":""},null,null,null,38,null,{"$f":"IF(OR(Paramétrages!$G$139=\"\",AN40=\"zzz\"),\"\",Paramétrages!$G$139)","v":""},null,null,null,38,null,{"$f":"IF(OR(Paramétrages!$G$141=\"\",AT40=\"zzz\"),\"\",Paramétrages!$G$141)","v":""}]
[null,null,39,null,{"$f":"IF(OR(Paramétrages!$G$127=\"\",D41=\"zzz\"),\"\",Paramétrages!$G$127)","v":""},null,null,null,39,null,{"$f":"IF(OR(Paramétrages!$G$129=\"\",J41=\"zzz\"),\"\",Paramétrages!$G$129)","v":""},null,null,null,39,null,{"$f":"IF(OR(Paramétrages!$G$131=\"\",P41=\"zzz\"),\"\",Paramétrages!$G$131)","v":""},null,null,null,39,null,{"$f":"IF(OR(Paramétrages!$G$133=\"\",V41=\"zzz\"),\"\",Paramétrages!$G$133)","v":""},null,null,null,39,null,{"$f":"IF(OR(Paramétrages!$G$135=\"\",AB41=\"zzz\"),\"\",Paramétrages!$G$135)","v":""},null,null,null,39,null,{"$f":"IF(OR(Paramétrages!$G$137=\"\",AH41=\"zzz\"),\"\",Paramétrages!$G$137)","v":""},null,null,null,39,null,{"$f":"IF(OR(Paramétrages!$G$139=\"\",AN41=\"zzz\"),\"\",Paramétrages!$G$139)","v":""},null,null,null,39,null,{"$f":"IF(OR(Paramétrages!$G$141=\"\",AT41=\"zzz\"),\"\",Paramétrages!$G$141)","v":""}]
[null,null,40,null,{"$f":"IF(OR(Paramétrages!$G$127=\"\",D42=\"zzz\"),\"\",Paramétrages!$G$127)","v":""},null,null,null,40,null,{"$f":"IF(OR(Paramétrages!$G$129=\"\",J42=\"zzz\"),\"\",Paramétrages!$G$129)","v":""},null,null,null,40,null,{"$f":"IF(OR(Paramétrages!$G$131=\"\",P42=\"zzz\"),\"\",Paramétrages!$G$131)","v":""},null,null,null,40,null,{"$f":"IF(OR(Paramétrages!$G$133=\"\",V42=\"zzz\"),\"\",Paramétrages!$G$133)","v":""},null,null,null,40,null,{"$f":"IF(OR(Paramétrages!$G$135=\"\",AB42=\"zzz\"),\"\",Paramétrages!$G$135)","v":""},null,null,null,40,null,{"$f":"IF(OR(Paramétrages!$G$137=\"\",AH42=\"zzz\"),\"\",Paramétrages!$G$137)","v":""},null,null,null,40,null,{"$f":"IF(OR(Paramétrages!$G$139=\"\",AN42=\"zzz\"),\"\",Paramétrages!$G$139)","v":""},null,null,null,40,null,{"$f":"IF(OR(Paramétrages!$G$141=\"\",AT42=\"zzz\"),\"\",Paramétrages!$G$141)","v":""}]

{"sheet":"------","index":15,"n_rows":0,"n_cols":0,"rows_kept":0,"cut":false,"hidden":false,"merged":[]}

{"sheet":"Archives","index":16,"n_rows":322,"n_cols":6,"rows_kept":322,"cut":false,"hidden":false,"merged":[]}
[]
[null,"Archive","Date","NOMS Prénoms","Classt","Classe"]
[null,1,{"$f":"IF(OR(D3=\"\",D3=\"zzz\"),\"\",Arch1!$B$3)","v":""},{"$f":"IF(Arch1!D3=\"\",\"\",Arch1!D3)","v":""},1,{"$f":"IF(Arch1!E3=\"\",\"\",Arch1!E3)","v":""}]
[null,1,{"$f":"IF(OR(D4=\"\",D4=\"zzz\"),\"\",Arch1!$B$3)","v":""},{"$f":"IF(Arch1!D4=\"\",\"\",Arch1!D4)","v":""},2,{"$f":"IF(Arch1!E4=\"\",\"\",Arch1!E4)","v":""}]
[null,1,{"$f":"IF(OR(D5=\"\",D5=\"zzz\"),\"\",Arch1!$B$3)","v":""},{"$f":"IF(Arch1!D5=\"\",\"\",Arch1!D5)","v":""},3,{"$f":"IF(Arch1!E5=\"\",\"\",Arch1!E5)","v":""}]
[null,1,{"$f":"IF(OR(D6=\"\",D6=\"zzz\"),\"\",Arch1!$B$3)","v":""},{"$f":"IF(Arch1!D6=\"\",\"\",Arch1!D6)","v":""},4,{"$f":"IF(Arch1!E6=\"\",\"\",Arch1!E6)","v":""}]
[null,1,{"$f":"IF(OR(D7=\"\",D7=\"zzz\"),\"\",Arch1!$B$3)","v":""},{"$f":"IF(Arch1!D7=\"\",\"\",Arch1!D7)","v":""},5,{"$f":"IF(Arch1!E7=\"\",\"\",Arch1!E7)","v":""}]
[null,1,{"$f":"IF(OR(D8=\"\",D8=\"zzz\"),\"\",Arch1!$B$3)","v":""},{"$f":"IF(Arch1!D8=\"\",\"\",Arch1!D8)","v":""},6,{"$f":"IF(Arch1!E8=\"\",\"\",Arch1!E8)","v":""}]
[null,1,{"$f":"IF(OR(D9=\"\",D9=\"zzz\"),\"\",Arch1!$B$3)","v":""},{"$f":"IF(Arch1!D9=\"\",\"\",Arch1!D9)","v":""},7,{"$f":"IF(Arch1!E9=\"\",\"\",Arch1!E9)","v":""}]
[null,1,{"$f":"IF(OR(D10=\"\",D10=\"zzz\"),\"\",Arch1!$B$3)","v":""},{"$f":"IF(Arch1!D10=\"\",\"\",Arch1!D10)","v":""},8,{"$f":"IF(Arch1!E10=\"\",\"\",Arch1!E10)","v":""}]
[null,1,{"$f":"IF(OR(D11=\"\",D11=\"zzz\"),\"\",Arch1!$B$3)","v":""},{"$f":"IF(Arch1!D11=\"\",\"\",Arch1!D11)","v":""},9,{"$f":"IF(Arch1!E11=\"\",\"\",Arch1!E11)","v":""}]
[null,1,{"$f":"IF(OR(D12=\"\",D12=\"zzz\"),\"\",Arch1!$B$3)","v":""},{"$f":"IF(Arch1!D12=\"\",\"\",Arch1!D12)","v":""},10,{"$f":"IF(Arch1!E12=\"\",\"\",Arch1!E12)","v":""}]
[null,1,{"$f":"IF(OR(D13=\"\",D13=\"zzz\"),\"\",Arch1!$B$3)","v":""},{"$f":"IF(Arch1!D13=\"\",\"\",Arch1!D13)","v":""},11,{"$f":"IF(Arch1!E13=\"\",\"\",Arch1!E13)","v":""}]
[null,1,{"$f":"IF(OR(D14=\"\",D14=\"zzz\"),\"\",Arch1!$B$3)","v":""},{"$f":"IF(Arch1!D14=\"\",\"\",Arch1!D14)","v":""},12,{"$f":"IF(Arch1!E14=\"\",\"\",Arch1!E14)","v":""}]
[null,1,{"$f":"IF(OR(D15=\"\",D15=\"zzz\"),\"\",Arch1!$B$3)","v":""},{"$f":"IF(Arch1!D15=\"\",\"\",Arch1!D15)","v":""},13,{"$f":"IF(Arch1!E15=\"\",\"\",Arch1!E15)","v":""}]
[null,1,{"$f":"IF(OR(D16=\"\",D16=\"zzz\"),\"\",Arch1!$B$3)","v":""},{"$f":"IF(Arch1!D16=\"\",\"\",Arch1!D16)","v":""},14,{"$f":"IF(Arch1!E16=\"\",\"\",Arch1!E16)","v":""}]
[null,1,{"$f":"IF(OR(D17=\"\",D17=\"zzz\"),\"\",Arch1!$B$3)","v":""},{"$f":"IF(Arch1!D17=\"\",\"\",Arch1!D17)","v":""},15,{"$f":"IF(Arch1!E17=\"\",\"\",Arch1!E17)","v":""}]
[null,1,{"$f":"IF(OR(D18=\"\",D18=\"zzz\"),\"\",Arch1!$B$3)","v":""},{"$f":"IF(Arch1!D18=\"\",\"\",Arch1!D18)","v":""},16,{"$f":"IF(Arch1!E18=\"\",\"\",Arch1!E18)","v":""}]
[null,1,{"$f":"IF(OR(D19=\"\",D19=\"zzz\"),\"\",Arch1!$B$3)","v":""},{"$f":"IF(Arch1!D19=\"\",\"\",Arch1!D19)","v":""},17,{"$f":"IF(Arch1!E19=\"\",\"\",Arch1!E19)","v":""}]
[null,1,{"$f":"IF(OR(D20=\"\",D20=\"zzz\"),\"\",Arch1!$B$3)","v":""},{"$f":"IF(Arch1!D20=\"\",\"\",Arch1!D20)","v":""},18,{"$f":"IF(Arch1!E20=\"\",\"\",Arch1!E20)","v":""}]
[null,1,{"$f":"IF(OR(D21=\"\",D21=\"zzz\"),\"\",Arch1!$B$3)","v":""},{"$f":"IF(Arch1!D21=\"\",\"\",Arch1!D21)","v":""},19,{"$f":"IF(Arch1!E21=\"\",\"\",Arch1!E21)","v":""}]
[null,1,{"$f":"IF(OR(D22=\"\",D22=\"zzz\"),\"\",Arch1!$B$3)","v":""},{"$f":"IF(Arch1!D22=\"\",\"\",Arch1!D22)","v":""},20,{"$f":"IF(Arch1!E22=\"\",\"\",Arch1!E22)","v":""}]
[null,1,{"$f":"IF(OR(D23=\"\",D23=\"zzz\"),\"\",Arch1!$B$3)","v":""},{"$f":"IF(Arch1!D23=\"\",\"\",Arch1!D23)","v":""},21,{"$f":"IF(Arch1!E23=\"\",\"\",Arch1!E23)","v":""}]
[null,1,{"$f":"IF(OR(D24=\"\",D24=\"zzz\"),\"\",Arch1!$B$3)","v":""},{"$f":"IF(Arch1!D24=\"\",\"\",Arch1!D24)","v":""},22,{"$f":"IF(Arch1!E24=\"\",\"\",Arch1!E24)","v":""}]
[null,1,{"$f":"IF(OR(D25=\"\",D25=\"zzz\"),\"\",Arch1!$B$3)","v":""},{"$f":"IF(Arch1!D25=\"\",\"\",Arch1!D25)","v":""},23,{"$f":"IF(Arch1!E25=\"\",\"\",Arch1!E25)","v":""}]
[null,1,{"$f":"IF(OR(D26=\"\",D26=\"zzz\"),\"\",Arch1!$B$3)","v":""},{"$f":"IF(Arch1!D26=\"\",\"\",Arch1!D26)","v":""},24,{"$f":"IF(Arch1!E26=\"\",\"\",Arch1!E26)","v":""}]
[null,1,{"$f":"IF(OR(D27=\"\",D27=\"zzz\"),\"\",Arch1!$B$3)","v":""},{"$f":"IF(Arch1!D27=\"\",\"\",Arch1!D27)","v":""},25,{"$f":"IF(Arch1!E27=\"\",\"\",Arch1!E27)","v":""}]
[null,1,{"$f":"IF(OR(D28=\"\",D28=\"zzz\"),\"\",Arch1!$B$3)","v":""},{"$f":"IF(Arch1!D28=\"\",\"\",Arch1!D28)","v":""},26,{"$f":"IF(Arch1!E28=\"\",\"\",Arch1!E28)","v":""}]
[null,1,{"$f":"IF(OR(D29=\"\",D29=\"zzz\"),\"\",Arch1!$B$3)","v":""},{"$f":"IF(Arch1!D29=\"\",\"\",Arch1!D29)","v":""},27,{"$f":"IF(Arch1!E29=\"\",\"\",Arch1!E29)","v":""}]
[null,1,{"$f":"IF(OR(D30=\"\",D30=\"zzz\"),\"\",Arch1!$B$3)","v":""},{"$f":"IF(Arch1!D30=\"\",\"\",Arch1!D30)","v":""},28,{"$f":"IF(Arch1!E30=\"\",\"\",Arch1!E30)","v":""}]
[null,1,{"$f":"IF(OR(D31=\"\",D31=\"zzz\"),\"\",Arch1!$B$3)","v":""},{"$f":"IF(Arch1!D31=\"\",\"\",Arch1!D31)","v":""},29,{"$f":"IF(Arch1!E31=\"\",\"\",Arch1!E31)","v":""}]
[null,1,{"$f":"IF(OR(D32=\"\",D32=\"zzz\"),\"\",Arch1!$B$3)","v":""},{"$f":"IF(Arch1!D32=\"\",\"\",Arch1!D32)","v":""},30,{"$f":"IF(Arch1!E32=\"\",\"\",Arch1!E32)","v":""}]
[null,1,{"$f":"IF(OR(D33=\"\",D33=\"zzz\"),\"\",Arch1!$B$3)","v":""},{"$f":"IF(Arch1!D33=\"\",\"\",Arch1!D33)","v":""},31,{"$f":"IF(Arch1!E33=\"\",\"\",Arch1!E33)","v":""}]
[null,1,{"$f":"IF(OR(D34=\"\",D34=\"zzz\"),\"\",Arch1!$B$3)","v":""},{"$f":"IF(Arch1!D34=\"\",\"\",Arch1!D34)","v":""},32,{"$f":"IF(Arch1!E34=\"\",\"\",Arch1!E34)","v":""}]
[null,1,{"$f":"IF(OR(D35=\"\",D35=\"zzz\"),\"\",Arch1!$B$3)","v":""},{"$f":"IF(Arch1!D35=\"\",\"\",Arch1!D35)","v":""},33,{"$f":"IF(Arch1!E35=\"\",\"\",Arch1!E35)","v":""}]
[null,1,{"$f":"IF(OR(D36=\"\",D36=\"zzz\"),\"\",Arch1!$B$3)","v":""},{"$f":"IF(Arch1!D36=\"\",\"\",Arch1!D36)","v":""},34,{"$f":"IF(Arch1!E36=\"\",\"\",Arch1!E36)","v":""}]
[null,1,{"$f":"IF(OR(D37=\"\",D37=\"zzz\"),\"\",Arch1!$B$3)","v":""},{"$f":"IF(Arch1!D37=\"\",\"\",Arch1!D37)","v":""},35,{"$f":"IF(Arch1!E37=\"\",\"\",Arch1!E37)","v":""}]
[null,1,{"$f":"IF(OR(D38=\"\",D38=\"zzz\"),\"\",Arch1!$B$3)","v":""},{"$f":"IF(Arch1!D38=\"\",\"\",Arch1!D38)","v":""},36,{"$f":"IF(Arch1!E38=\"\",\"\",Arch1!E38)","v":""}]
[null,1,{"$f":"IF(OR(D39=\"\",D39=\"zzz\"),\"\",Arch1!$B$3)","v":""},{"$f":"IF(Arch1!D39=\"\",\"\",Arch1!D39)","v":""},37,{"$f":"IF(Arch1!E39=\"\",\"\",Arch1!E39)","v":""}]
[null,1,{"$f":"IF(OR(D40=\"\",D40=\"zzz\"),\"\",Arch1!$B$3)","v":""},{"$f":"IF(Arch1!D40=\"\",\"\",Arch1!D40)","v":""},38,{"$f":"IF(Arch1!E40=\"\",\"\",Arch1!E40)","v":""}]
[null,1,{"$f":"IF(OR(D41=\"\",D41=\"zzz\"),\"\",Arch1!$B$3)","v":""},{"$f":"IF(Arch1!D41=\"\",\"\",Arch1!D41)","v":""},39,{"$f":"IF(Arch1!E41=\"\",\"\",Arch1!E41)","v":""}]
[null,1,{"$f":"IF(OR(D42=\"\",D42=\"zzz\"),\"\",Arch1!$B$3)","v":""},{"$f":"IF(Arch1!D42=\"\",\"\",Arch1!D42)","v":""},40,{"$f":"IF(Arch1!E42=\"\",\"\",Arch1!E42)","v":""}]
[null,2,{"$f":"IF(OR(D43=\"\",D43=\"zzz\"),\"\",Arch1!$B$3)","v":""},{"$f":"IF(Arch1!J3=\"\",\"\",Arch1!J3)","v":""},1,{"$f":"IF(Arch1!K3=\"\",\"\",Arch1!K3)","v":""}]
[null,2,{"$f":"IF(OR(D44=\"\",D44=\"zzz\"),\"\",Arch1!$B$3)","v":""},{"$f":"IF(Arch1!J4=\"\",\"\",Arch1!J4)","v":""},2,{"$f":"IF(Arch1!K4=\"\",\"\",Arch1!K4)","v":""}]
[null,2,{"$f":"IF(OR(D45=\"\",D45=\"zzz\"),\"\",Arch1!$B$3)","v":""},{"$f":"IF(Arch1!J5=\"\",\"\",Arch1!J5)","v":""},3,{"$f":"IF(Arch1!K5=\"\",\"\",Arch1!K5)","v":""}]
[null,2,{"$f":"IF(OR(D46=\"\",D46=\"zzz\"),\"\",Arch1!$B$3)","v":""},{"$f":"IF(Arch1!J6=\"\",\"\",Arch1!J6)","v":""},4,{"$f":"IF(Arch1!K6=\"\",\"\",Arch1!K6)","v":""}]
[null,2,{"$f":"IF(OR(D47=\"\",D47=\"zzz\"),\"\",Arch1!$B$3)","v":""},{"$f":"IF(Arch1!J7=\"\",\"\",Arch1!J7)","v":""},5,{"$f":"IF(Arch1!K7=\"\",\"\",Arch1!K7)","v":""}]
[null,2,{"$f":"IF(OR(D48=\"\",D48=\"zzz\"),\"\",Arch1!$B$3)","v":""},{"$f":"IF(Arch1!J8=\"\",\"\",Arch1!J8)","v":""},6,{"$f":"IF(Arch1!K8=\"\",\"\",Arch1!K8)","v":""}]
[null,2,{"$f":"IF(OR(D49=\"\",D49=\"zzz\"),\"\",Arch1!$B$3)","v":""},{"$f":"IF(Arch1!J9=\"\",\"\",Arch1!J9)","v":""},7,{"$f":"IF(Arch1!K9=\"\",\"\",Arch1!K9)","v":""}]
[null,2,{"$f":"IF(OR(D50=\"\",D50=\"zzz\"),\"\",Arch1!$B$3)","v":""},{"$f":"IF(Arch1!J10=\"\",\"\",Arch1!J10)","v":""},8,{"$f":"IF(Arch1!K10=\"\",\"\",Arch1!K10)","v":""}]
[null,2,{"$f":"IF(OR(D51=\"\",D51=\"zzz\"),\"\",Arch1!$B$3)","v":""},{"$f":"IF(Arch1!J11=\"\",\"\",Arch1!J11)","v":""},9,{"$f":"IF(Arch1!K11=\"\",\"\",Arch1!K11)","v":""}]
[null,2,{"$f":"IF(OR(D52=\"\",D52=\"zzz\"),\"\",Arch1!$B$3)","v":""},{"$f":"IF(Arch1!J12=\"\",\"\",Arch1!J12)","v":""},10,{"$f":"IF(Arch1!K12=\"\",\"\",Arch1!K12)","v":""}]
[null,2,{"$f":"IF(OR(D53=\"\",D53=\"zzz\"),\"\",Arch1!$B$3)","v":""},{"$f":"IF(Arch1!J13=\"\",\"\",Arch1!J13)","v":""},11,{"$f":"IF(Arch1!K13=\"\",\"\",Arch1!K13)","v":""}]
[null,2,{"$f":"IF(OR(D54=\"\",D54=\"zzz\"),\"\",Arch1!$B$3)","v":""},{"$f":"IF(Arch1!J14=\"\",\"\",Arch1!J14)","v":""},12,{"$f":"IF(Arch1!K14=\"\",\"\",Arch1!K14)","v":""}]
[null,2,{"$f":"IF(OR(D55=\"\",D55=\"zzz\"),\"\",Arch1!$B$3)","v":""},{"$f":"IF(Arch1!J15=\"\",\"\",Arch1!J15)","v":""},13,{"$f":"IF(Arch1!K15=\"\",\"\",Arch1!K15)","v":""}]
[null,2,{"$f":"IF(OR(D56=\"\",D56=\"zzz\"),\"\",Arch1!$B$3)","v":""},{"$f":"IF(Arch1!J16=\"\",\"\",Arch1!J16)","v":""},14,{"$f":"IF(Arch1!K16=\"\",\"\",Arch1!K16)","v":""}]
[null,2,{"$f":"IF(OR(D57=\"\",D57=\"zzz\"),\"\",Arch1!$B$3)","v":""},{"$f":"IF(Arch1!J17=\"\",\"\",Arch1!J17)","v":""},15,{"$f":"IF(Arch1!K17=\"\",\"\",Arch1!K17)","v":""}]
[null,2,{"$f":"IF(OR(D58=\"\",D58=\"zzz\"),\"\",Arch1!$B$3)","v":""},{"$f":"IF(Arch1!J18=\"\",\"\",Arch1!J18)","v":""},16,{"$f":"IF(Arch1!K18=\"\",\"\",Arch1!K18)","v":""}]
[null,2,{"$f":"IF(OR(D59=\"\",D59=\"zzz\"),\"\",Arch1!$B$3)","v":""},{"$f":"IF(Arch1!J19=\"\",\"\",Arch1!J19)","v":""},17,{"$f":"IF(Arch1!K19=\"\",\"\",Arch1!K19)","v":""}]
[null,2,{"$f":"IF(OR(D60=\"\",D60=\"zzz\"),\"\",Arch1!$B$3)","v":""},{"$f":"IF(Arch1!J20=\"\",\"\",Arch1!J20)","v":""},18,{"$f":"IF(Arch1!K20=\"\",\"\",Arch1!K20)","v":""}]
[null,2,{"$f":"IF(OR(D61=\"\",D61=\"zzz\"),\"\",Arch1!$B$3)","v":""},{"$f":"IF(Arch1!J21=\"\",\"\",Arch1!J21)","v":""},19,{"$f":"IF(Arch1!K21=\"\",\"\",Arch1!K21)","v":""}]
[null,2,{"$f":"IF(OR(D62=\"\",D62=\"zzz\"),\"\",Arch1!$B$3)","v":""},{"$f":"IF(Arch1!J22=\"\",\"\",Arch1!J22)","v":""},20,{"$f":"IF(Arch1!K22=\"\",\"\",Arch1!K22)","v":""}]
[null,2,{"$f":"IF(OR(D63=\"\",D63=\"zzz\"),\"\",Arch1!$B$3)","v":""},{"$f":"IF(Arch1!J23=\"\",\"\",Arch1!J23)","v":""},21,{"$f":"IF(Arch1!K23=\"\",\"\",Arch1!K23)","v":""}]
[null,2,{"$f":"IF(OR(D64=\"\",D64=\"zzz\"),\"\",Arch1!$B$3)","v":""},{"$f":"IF(Arch1!J24=\"\",\"\",Arch1!J24)","v":""},22,{"$f":"IF(Arch1!K24=\"\",\"\",Arch1!K24)","v":""}]
[null,2,{"$f":"IF(OR(D65=\"\",D65=\"zzz\"),\"\",Arch1!$B$3)","v":""},{"$f":"IF(Arch1!J25=\"\",\"\",Arch1!J25)","v":""},23,{"$f":"IF(Arch1!K25=\"\",\"\",Arch1!K25)","v":""}]
[null,2,{"$f":"IF(OR(D66=\"\",D66=\"zzz\"),\"\",Arch1!$B$3)","v":""},{"$f":"IF(Arch1!J26=\"\",\"\",Arch1!J26)","v":""},24,{"$f":"IF(Arch1!K26=\"\",\"\",Arch1!K26)","v":""}]
[null,2,{"$f":"IF(OR(D67=\"\",D67=\"zzz\"),\"\",Arch1!$B$3)","v":""},{"$f":"IF(Arch1!J27=\"\",\"\",Arch1!J27)","v":""},25,{"$f":"IF(Arch1!K27=\"\",\"\",Arch1!K27)","v":""}]
[null,2,{"$f":"IF(OR(D68=\"\",D68=\"zzz\"),\"\",Arch1!$B$3)","v":""},{"$f":"IF(Arch1!J28=\"\",\"\",Arch1!J28)","v":""},26,{"$f":"IF(Arch1!K28=\"\",\"\",Arch1!K28)","v":""}]
[null,2,{"$f":"IF(OR(D69=\"\",D69=\"zzz\"),\"\",Arch1!$B$3)","v":""},{"$f":"IF(Arch1!J29=\"\",\"\",Arch1!J29)","v":""},27,{"$f":"IF(Arch1!K29=\"\",\"\",Arch1!K29)","v":""}]
[null,2,{"$f":"IF(OR(D70=\"\",D70=\"zzz\"),\"\",Arch1!$B$3)","v":""},{"$f":"IF(Arch1!J30=\"\",\"\",Arch1!J30)","v":""},28,{"$f":"IF(Arch1!K30=\"\",\"\",Arch1!K30)","v":""}]
[null,2,{"$f":"IF(OR(D71=\"\",D71=\"zzz\"),\"\",Arch1!$B$3)","v":""},{"$f":"IF(Arch1!J31=\"\",\"\",Arch1!J31)","v":""},29,{"$f":"IF(Arch1!K31=\"\",\"\",Arch1!K31)","v":""}]
[null,2,{"$f":"IF(OR(D72=\"\",D72=\"zzz\"),\"\",Arch1!$B$3)","v":""},{"$f":"IF(Arch1!J32=\"\",\"\",Arch1!J32)","v":""},30,{"$f":"IF(Arch1!K32=\"\",\"\",Arch1!K32)","v":""}]
[null,2,{"$f":"IF(OR(D73=\"\",D73=\"zzz\"),\"\",Arch1!$B$3)","v":""},{"$f":"IF(Arch1!J33=\"\",\"\",Arch1!J33)","v":""},31,{"$f":"IF(Arch1!K33=\"\",\"\",Arch1!K33)","v":""}]
[null,2,{"$f":"IF(OR(D74=\"\",D74=\"zzz\"),\"\",Arch1!$B$3)","v":""},{"$f":"IF(Arch1!J34=\"\",\"\",Arch1!J34)","v":""},32,{"$f":"IF(Arch1!K34=\"\",\"\",Arch1!K34)","v":""}]
[null,2,{"$f":"IF(OR(D75=\"\",D75=\"zzz\"),\"\",Arch1!$B$3)","v":""},{"$f":"IF(Arch1!J35=\"\",\"\",Arch1!J35)","v":""},33,{"$f":"IF(Arch1!K35=\"\",\"\",Arch1!K35)","v":""}]
[null,2,{"$f":"IF(OR(D76=\"\",D76=\"zzz\"),\"\",Arch1!$B$3)","v":""},{"$f":"IF(Arch1!J36=\"\",\"\",Arch1!J36)","v":""},34,{"$f":"IF(Arch1!K36=\"\",\"\",Arch1!K36)","v":""}]
[null,2,{"$f":"IF(OR(D77=\"\",D77=\"zzz\"),\"\",Arch1!$B$3)","v":""},{"$f":"IF(Arch1!J37=\"\",\"\",Arch1!J37)","v":""},35,{"$f":"IF(Arch1!K37=\"\",\"\",Arch1!K37)","v":""}]
[null,2,{"$f":"IF(OR(D78=\"\",D78=\"zzz\"),\"\",Arch1!$B$3)","v":""},{"$f":"IF(Arch1!J38=\"\",\"\",Arch1!J38)","v":""},36,{"$f":"IF(Arch1!K38=\"\",\"\",Arch1!K38)","v":""}]
[null,2,{"$f":"IF(OR(D79=\"\",D79=\"zzz\"),\"\",Arch1!$B$3)","v":""},{"$f":"IF(Arch1!J39=\"\",\"\",Arch1!J39)","v":""},37,{"$f":"IF(Arch1!K39=\"\",\"\",Arch1!K39)","v":""}]
[null,2,{"$f":"IF(OR(D80=\"\",D80=\"zzz\"),\"\",Arch1!$B$3)","v":""},{"$f":"IF(Arch1!J40=\"\",\"\",Arch1!J40)","v":""},38,{"$f":"IF(Arch1!K40=\"\",\"\",Arch1!K40)","v":""}]
[null,2,{"$f":"IF(OR(D81=\"\",D81=\"zzz\"),\"\",Arch1!$B$3)","v":""},{"$f":"IF(Arch1!J41=\"\",\"\",Arch1!J41)","v":""},39,{"$f":"IF(Arch1!K41=\"\",\"\",Arch1!K41)","v":""}]
[null,2,{"$f":"IF(OR(D82=\"\",D82=\"zzz\"),\"\",Arch1!$B$3)","v":""},{"$f":"IF(Arch1!J42=\"\",\"\",Arch1!J42)","v":""},40,{"$f":"IF(Arch1!K42=\"\",\"\",Arch1!K42)","v":""}]
[null,3,{"$f":"IF(OR(D83=\"\",D83=\"zzz\"),\"\",Arch1!$B$3)","v":""},{"$f":"IF(Arch1!P3=\"\",\"\",Arch1!P3)","v":""},1,{"$f":"IF(Arch1!Q3=\"\",\"\",Arch1!Q3)","v":""}]
[null,3,{"$f":"IF(OR(D84=\"\",D84=\"zzz\"),\"\",Arch1!$B$3)","v":""},{"$f":"IF(Arch1!P4=\"\",\"\",Arch1!P4)","v":""},2,{"$f":"IF(Arch1!Q4=\"\",\"\",Arch1!Q4)","v":""}]
[null,3,{"$f":"IF(OR(D85=\"\",D85=\"zzz\"),\"\",Arch1!$B$3)","v":""},{"$f":"IF(Arch1!P5=\"\",\"\",Arch1!P5)","v":""},3,{"$f":"IF(Arch1!Q5=\"\",\"\",Arch1!Q5)","v":""}]
[null,3,{"$f":"IF(OR(D86=\"\",D86=\"zzz\"),\"\",Arch1!$B$3)","v":""},{"$f":"IF(Arch1!P6=\"\",\"\",Arch1!P6)","v":""},4,{"$f":"IF(Arch1!Q6=\"\",\"\",Arch1!Q6)","v":""}]
[null,3,{"$f":"IF(OR(D87=\"\",D87=\"zzz\"),\"\",Arch1!$B$3)","v":""},{"$f":"IF(Arch1!P7=\"\",\"\",Arch1!P7)","v":""},5,{"$f":"IF(Arch1!Q7=\"\",\"\",Arch1!Q7)","v":""}]
[null,3,{"$f":"IF(OR(D88=\"\",D88=\"zzz\"),\"\",Arch1!$B$3)","v":""},{"$f":"IF(Arch1!P8=\"\",\"\",Arch1!P8)","v":""},6,{"$f":"IF(Arch1!Q8=\"\",\"\",Arch1!Q8)","v":""}]
[null,3,{"$f":"IF(OR(D89=\"\",D89=\"zzz\"),\"\",Arch1!$B$3)","v":""},{"$f":"IF(Arch1!P9=\"\",\"\",Arch1!P9)","v":""},7,{"$f":"IF(Arch1!Q9=\"\",\"\",Arch1!Q9)","v":""}]
[null,3,{"$f":"IF(OR(D90=\"\",D90=\"zzz\"),\"\",Arch1!$B$3)","v":""},{"$f":"IF(Arch1!P10=\"\",\"\",Arch1!P10)","v":""},8,{"$f":"IF(Arch1!Q10=\"\",\"\",Arch1!Q10)","v":""}]
[null,3,{"$f":"IF(OR(D91=\"\",D91=\"zzz\"),\"\",Arch1!$B$3)","v":""},{"$f":"IF(Arch1!P11=\"\",\"\",Arch1!P11)","v":""},9,{"$f":"IF(Arch1!Q11=\"\",\"\",Arch1!Q11)","v":""}]
[null,3,{"$f":"IF(OR(D92=\"\",D92=\"zzz\"),\"\",Arch1!$B$3)","v":""},{"$f":"IF(Arch1!P12=\"\",\"\",Arch1!P12)","v":""},10,{"$f":"IF(Arch1!Q12=\"\",\"\",Arch1!Q12)","v":""}]
[null,3,{"$f":"IF(OR(D93=\"\",D93=\"zzz\"),\"\",Arch1!$B$3)","v":""},{"$f":"IF(Arch1!P13=\"\",\"\",Arch1!P13)","v":""},11,{"$f":"IF(Arch1!Q13=\"\",\"\",Arch1!Q13)","v":""}]
[null,3,{"$f":"IF(OR(D94=\"\",D94=\"zzz\"),\"\",Arch1!$B$3)","v":""},{"$f":"IF(Arch1!P14=\"\",\"\",Arch1!P14)","v":""},12,{"$f":"IF(Arch1!Q14=\"\",\"\",Arch1!Q14)","v":""}]
[null,3,{"$f":"IF(OR(D95=\"\",D95=\"zzz\"),\"\",Arch1!$B$3)","v":""},{"$f":"IF(Arch1!P15=\"\",\"\",Arch1!P15)","v":""},13,{"$f":"IF(Arch1!Q15=\"\",\"\",Arch1!Q15)","v":""}]
[null,3,{"$f":"IF(OR(D96=\"\",D96=\"zzz\"),\"\",Arch1!$B$3)","v":""},{"$f":"IF(Arch1!P16=\"\",\"\",Arch1!P16)","v":""},14,{"$f":"IF(Arch1!Q16=\"\",\"\",Arch1!Q16)","v":""}]
[null,3,{"$f":"IF(OR(D97=\"\",D97=\"zzz\"),\"\",Arch1!$B$3)","v":""},{"$f":"IF(Arch1!P17=\"\",\"\",Arch1!P17)","v":""},15,{"$f":"IF(Arch1!Q17=\"\",\"\",Arch1!Q17)","v":""}]
[null,3,{"$f":"IF(OR(D98=\"\",D98=\"zzz\"),\"\",Arch1!$B$3)","v":""},{"$f":"IF(Arch1!P18=\"\",\"\",Arch1!P18)","v":""},16,{"$f":"IF(Arch1!Q18=\"\",\"\",Arch1!Q18)","v":""}]
[null,3,{"$f":"IF(OR(D99=\"\",D99=\"zzz\"),\"\",Arch1!$B$3)","v":""},{"$f":"IF(Arch1!P19=\"\",\"\",Arch1!P19)","v":""},17,{"$f":"IF(Arch1!Q19=\"\",\"\",Arch1!Q19)","v":""}]
[null,3,{"$f":"IF(OR(D100=\"\",D100=\"zzz\"),\"\",Arch1!$B$3)","v":""},{"$f":"IF(Arch1!P20=\"\",\"\",Arch1!P20)","v":""},18,{"$f":"IF(Arch1!Q20=\"\",\"\",Arch1!Q20)","v":""}]
[null,3,{"$f":"IF(OR(D101=\"\",D101=\"zzz\"),\"\",Arch1!$B$3)","v":""},{"$f":"IF(Arch1!P21=\"\",\"\",Arch1!P21)","v":""},19,{"$f":"IF(Arch1!Q21=\"\",\"\",Arch1!Q21)","v":""}]
[null,3,{"$f":"IF(OR(D102=\"\",D102=\"zzz\"),\"\",Arch1!$B$3)","v":""},{"$f":"IF(Arch1!P22=\"\",\"\",Arch1!P22)","v":""},20,{"$f":"IF(Arch1!Q22=\"\",\"\",Arch1!Q22)","v":""}]
[null,3,{"$f":"IF(OR(D103=\"\",D103=\"zzz\"),\"\",Arch1!$B$3)","v":""},{"$f":"IF(Arch1!P23=\"\",\"\",Arch1!P23)","v":""},21,{"$f":"IF(Arch1!Q23=\"\",\"\",Arch1!Q23)","v":""}]
[null,3,{"$f":"IF(OR(D104=\"\",D104=\"zzz\"),\"\",Arch1!$B$3)","v":""},{"$f":"IF(Arch1!P24=\"\",\"\",Arch1!P24)","v":""},22,{"$f":"IF(Arch1!Q24=\"\",\"\",Arch1!Q24)","v":""}]
[null,3,{"$f":"IF(OR(D105=\"\",D105=\"zzz\"),\"\",Arch1!$B$3)","v":""},{"$f":"IF(Arch1!P25=\"\",\"\",Arch1!P25)","v":""},23,{"$f":"IF(Arch1!Q25=\"\",\"\",Arch1!Q25)","v":""}]
[null,3,{"$f":"IF(OR(D106=\"\",D106=\"zzz\"),\"\",Arch1!$B$3)","v":""},{"$f":"IF(Arch1!P26=\"\",\"\",Arch1!P26)","v":""},24,{"$f":"IF(Arch1!Q26=\"\",\"\",Arch1!Q26)","v":""}]
[null,3,{"$f":"IF(OR(D107=\"\",D107=\"zzz\"),\"\",Arch1!$B$3)","v":""},{"$f":"IF(Arch1!P27=\"\",\"\",Arch1!P27)","v":""},25,{"$f":"IF(Arch1!Q27=\"\",\"\",Arch1!Q27)","v":""}]
[null,3,{"$f":"IF(OR(D108=\"\",D108=\"zzz\"),\"\",Arch1!$B$3)","v":""},{"$f":"IF(Arch1!P28=\"\",\"\",Arch1!P28)","v":""},26,{"$f":"IF(Arch1!Q28=\"\",\"\",Arch1!Q28)","v":""}]
[null,3,{"$f":"IF(OR(D109=\"\",D109=\"zzz\"),\"\",Arch1!$B$3)","v":""},{"$f":"IF(Arch1!P29=\"\",\"\",Arch1!P29)","v":""},27,{"$f":"IF(Arch1!Q29=\"\",\"\",Arch1!Q29)","v":""}]
[null,3,{"$f":"IF(OR(D110=\"\",D110=\"zzz\"),\"\",Arch1!$B$3)","v":""},{"$f":"IF(Arch1!P30=\"\",\"\",Arch1!P30)","v":""},28,{"$f":"IF(Arch1!Q30=\"\",\"\",Arch1!Q30)","v":""}]
[null,3,{"$f":"IF(OR(D111=\"\",D111=\"zzz\"),\"\",Arch1!$B$3)","v":""},{"$f":"IF(Arch1!P31=\"\",\"\",Arch1!P31)","v":""},29,{"$f":"IF(Arch1!Q31=\"\",\"\",Arch1!Q31)","v":""}]
[null,3,{"$f":"IF(OR(D112=\"\",D112=\"zzz\"),\"\",Arch1!$B$3)","v":""},{"$f":"IF(Arch1!P32=\"\",\"\",Arch1!P32)","v":""},30,{"$f":"IF(Arch1!Q32=\"\",\"\",Arch1!Q32)","v":""}]
[null,3,{"$f":"IF(OR(D113=\"\",D113=\"zzz\"),\"\",Arch1!$B$3)","v":""},{"$f":"IF(Arch1!P33=\"\",\"\",Arch1!P33)","v":""},31,{"$f":"IF(Arch1!Q33=\"\",\"\",Arch1!Q33)","v":""}]
[null,3,{"$f":"IF(OR(D114=\"\",D114=\"zzz\"),\"\",Arch1!$B$3)","v":""},{"$f":"IF(Arch1!P34=\"\",\"\",Arch1!P34)","v":""},32,{"$f":"IF(Arch1!Q34=\"\",\"\",Arch1!Q34)","v":""}]
[null,3,{"$f":"IF(OR(D115=\"\",D115=\"zzz\"),\"\",Arch1!$B$3)","v":""},{"$f":"IF(Arch1!P35=\"\",\"\",Arch1!P35)","v":""},33,{"$f":"IF(Arch1!Q35=\"\",\"\",Arch1!Q35)","v":""}]
[null,3,{"$f":"IF(OR(D116=\"\",D116=\"zzz\"),\"\",Arch1!$B$3)","v":""},{"$f":"IF(Arch1!P36=\"\",\"\",Arch1!P36)","v":""},34,{"$f":"IF(Arch1!Q36=\"\",\"\",Arch1!Q36)","v":""}]
[null,3,{"$f":"IF(OR(D117=\"\",D117=\"zzz\"),\"\",Arch1!$B$3)","v":""},{"$f":"IF(Arch1!P37=\"\",\"\",Arch1!P37)","v":""},35,{"$f":"IF(Arch1!Q37=\"\",\"\",Arch1!Q37)","v":""}]
[null,3,{"$f":"IF(OR(D118=\"\",D118=\"zzz\"),\"\",Arch1!$B$3)","v":""},{"$f":"IF(Arch1!P38=\"\",\"\",Arch1!P38)","v":""},36,{"$f":"IF(Arch1!Q38=\"\",\"\",Arch1!Q38)","v":""}]
[null,3,{"$f":"IF(OR(D119=\"\",D119=\"zzz\"),\"\",Arch1!$B$3)","v":""},{"$f":"IF(Arch1!P39=\"\",\"\",Arch1!P39)","v":""},37,{"$f":"IF(Arch1!Q39=\"\",\"\",Arch1!Q39)","v":""}]
[null,3,{"$f":"IF(OR(D120=\"\",D120=\"zzz\"),\"\",Arch1!$B$3)","v":""},{"$f":"IF(Arch1!P40=\"\",\"\",Arch1!P40)","v":""},38,{"$f":"IF(Arch1!Q40=\"\",\"\",Arch1!Q40)","v":""}]
[null,3,{"$f":"IF(OR(D121=\"\",D121=\"zzz\"),\"\",Arch1!$B$3)","v":""},{"$f":"IF(Arch1!P41=\"\",\"\",Arch1!P41)","v":""},39,{"$f":"IF(Arch1!Q41=\"\",\"\",Arch1!Q41)","v":""}]
[null,3,{"$f":"IF(OR(D122=\"\",D122=\"zzz\"),\"\",Arch1!$B$3)","v":""},{"$f":"IF(Arch1!P42=\"\",\"\",Arch1!P42)","v":""},40,{"$f":"IF(Arch1!Q42=\"\",\"\",Arch1!Q42)","v":""}]
[null,4,{"$f":"IF(OR(D123=\"\",D123=\"zzz\"),\"\",Arch1!$B$3)","v":""},{"$f":"IF(Arch1!V3=\"\",\"\",Arch1!V3)","v":""},1,{"$f":"IF(Arch1!W3=\"\",\"\",Arch1!W3)","v":""}]
[null,4,{"$f":"IF(OR(D124=\"\",D124=\"zzz\"),\"\",Arch1!$B$3)","v":""},{"$f":"IF(Arch1!V4=\"\",\"\",Arch1!V4)","v":""},2,{"$f":"IF(Arch1!W4=\"\",\"\",Arch1!W4)","v":""}]
[null,4,{"$f":"IF(OR(D125=\"\",D125=\"zzz\"),\"\",Arch1!$B$3)","v":""},{"$f":"IF(Arch1!V5=\"\",\"\",Arch1!V5)","v":""},3,{"$f":"IF(Arch1!W5=\"\",\"\",Arch1!W5)","v":""}]
[null,4,{"$f":"IF(OR(D126=\"\",D126=\"zzz\"),\"\",Arch1!$B$3)","v":""},{"$f":"IF(Arch1!V6=\"\",\"\",Arch1!V6)","v":""},4,{"$f":"IF(Arch1!W6=\"\",\"\",Arch1!W6)","v":""}]
[null,4,{"$f":"IF(OR(D127=\"\",D127=\"zzz\"),\"\",Arch1!$B$3)","v":""},{"$f":"IF(Arch1!V7=\"\",\"\",Arch1!V7)","v":""},5,{"$f":"IF(Arch1!W7=\"\",\"\",Arch1!W7)","v":""}]
[null,4,{"$f":"IF(OR(D128=\"\",D128=\"zzz\"),\"\",Arch1!$B$3)","v":""},{"$f":"IF(Arch1!V8=\"\",\"\",Arch1!V8)","v":""},6,{"$f":"IF(Arch1!W8=\"\",\"\",Arch1!W8)","v":""}]
[null,4,{"$f":"IF(OR(D129=\"\",D129=\"zzz\"),\"\",Arch1!$B$3)","v":""},{"$f":"IF(Arch1!V9=\"\",\"\",Arch1!V9)","v":""},7,{"$f":"IF(Arch1!W9=\"\",\"\",Arch1!W9)","v":""}]
[null,4,{"$f":"IF(OR(D130=\"\",D130=\"zzz\"),\"\",Arch1!$B$3)","v":""},{"$f":"IF(Arch1!V10=\"\",\"\",Arch1!V10)","v":""},8,{"$f":"IF(Arch1!W10=\"\",\"\",Arch1!W10)","v":""}]
[null,4,{"$f":"IF(OR(D131=\"\",D131=\"zzz\"),\"\",Arch1!$B$3)","v":""},{"$f":"IF(Arch1!V11=\"\",\"\",Arch1!V11)","v":""},9,{"$f":"IF(Arch1!W11=\"\",\"\",Arch1!W11)","v":""}]
[null,4,{"$f":"IF(OR(D132=\"\",D132=\"zzz\"),\"\",Arch1!$B$3)","v":""},{"$f":"IF(Arch1!V12=\"\",\"\",Arch1!V12)","v":""},10,{"$f":"IF(Arch1!W12=\"\",\"\",Arch1!W12)","v":""}]
[null,4,{"$f":"IF(OR(D133=\"\",D133=\"zzz\"),\"\",Arch1!$B$3)","v":""},{"$f":"IF(Arch1!V13=\"\",\"\",Arch1!V13)","v":""},11,{"$f":"IF(Arch1!W13=\"\",\"\",Arch1!W13)","v":""}]
[null,4,{"$f":"IF(OR(D134=\"\",D134=\"zzz\"),\"\",Arch1!$B$3)","v":""},{"$f":"IF(Arch1!V14=\"\",\"\",Arch1!V14)","v":""},12,{"$f":"IF(Arch1!W14=\"\",\"\",Arch1!W14)","v":""}]
[null,4,{"$f":"IF(OR(D135=\"\",D135=\"zzz\"),\"\",Arch1!$B$3)","v":""},{"$f":"IF(Arch1!V15=\"\",\"\",Arch1!V15)","v":""},13,{"$f":"IF(Arch1!W15=\"\",\"\",Arch1!W15)","v":""}]
[null,4,{"$f":"IF(OR(D136=\"\",D136=\"zzz\"),\"\",Arch1!$B$3)","v":""},{"$f":"IF(Arch1!V16=\"\",\"\",Arch1!V16)","v":""},14,{"$f":"IF(Arch1!W16=\"\",\"\",Arch1!W16)","v":""}]
[null,4,{"$f":"IF(OR(D137=\"\",D137=\"zzz\"),\"\",Arch1!$B$3)","v":""},{"$f":"IF(Arch1!V17=\"\",\"\",Arch1!V17)","v":""},15,{"$f":"IF(Arch1!W17=\"\",\"\",Arch1!W17)","v":""}]
[null,4,{"$f":"IF(OR(D138=\"\",D138=\"zzz\"),\"\",Arch1!$B$3)","v":""},{"$f":"IF(Arch1!V18=\"\",\"\",Arch1!V18)","v":""},16,{"$f":"IF(Arch1!W18=\"\",\"\",Arch1!W18)","v":""}]
[null,4,{"$f":"IF(OR(D139=\"\",D139=\"zzz\"),\"\",Arch1!$B$3)","v":""},{"$f":"IF(Arch1!V19=\"\",\"\",Arch1!V19)","v":""},17,{"$f":"IF(Arch1!W19=\"\",\"\",Arch1!W19)","v":""}]
[null,4,{"$f":"IF(OR(D140=\"\",D140=\"zzz\"),\"\",Arch1!$B$3)","v":""},{"$f":"IF(Arch1!V20=\"\",\"\",Arch1!V20)","v":""},18,{"$f":"IF(Arch1!W20=\"\",\"\",Arch1!W20)","v":""}]
[null,4,{"$f":"IF(OR(D141=\"\",D141=\"zzz\"),\"\",Arch1!$B$3)","v":""},{"$f":"IF(Arch1!V21=\"\",\"\",Arch1!V21)","v":""},19,{"$f":"IF(Arch1!W21=\"\",\"\",Arch1!W21)","v":""}]
[null,4,{"$f":"IF(OR(D142=\"\",D142=\"zzz\"),\"\",Arch1!$B$3)","v":""},{"$f":"IF(Arch1!V22=\"\",\"\",Arch1!V22)","v":""},20,{"$f":"IF(Arch1!W22=\"\",\"\",Arch1!W22)","v":""}]
[null,4,{"$f":"IF(OR(D143=\"\",D143=\"zzz\"),\"\",Arch1!$B$3)","v":""},{"$f":"IF(Arch1!V23=\"\",\"\",Arch1!V23)","v":""},21,{"$f":"IF(Arch1!W23=\"\",\"\",Arch1!W23)","v":""}]
[null,4,{"$f":"IF(OR(D144=\"\",D144=\"zzz\"),\"\",Arch1!$B$3)","v":""},{"$f":"IF(Arch1!V24=\"\",\"\",Arch1!V24)","v":""},22,{"$f":"IF(Arch1!W24=\"\",\"\",Arch1!W24)","v":""}]
[null,4,{"$f":"IF(OR(D145=\"\",D145=\"zzz\"),\"\",Arch1!$B$3)","v":""},{"$f":"IF(Arch1!V25=\"\",\"\",Arch1!V25)","v":""},23,{"$f":"IF(Arch1!W25=\"\",\"\",Arch1!W25)","v":""}]
[null,4,{"$f":"IF(OR(D146=\"\",D146=\"zzz\"),\"\",Arch1!$B$3)","v":""},{"$f":"IF(Arch1!V26=\"\",\"\",Arch1!V26)","v":""},24,{"$f":"IF(Arch1!W26=\"\",\"\",Arch1!W26)","v":""}]
[null,4,{"$f":"IF(OR(D147=\"\",D147=\"zzz\"),\"\",Arch1!$B$3)","v":""},{"$f":"IF(Arch1!V27=\"\",\"\",Arch1!V27)","v":""},25,{"$f":"IF(Arch1!W27=\"\",\"\",Arch1!W27)","v":""}]
[null,4,{"$f":"IF(OR(D148=\"\",D148=\"zzz\"),\"\",Arch1!$B$3)","v":""},{"$f":"IF(Arch1!V28=\"\",\"\",Arch1!V28)","v":""},26,{"$f":"IF(Arch1!W28=\"\",\"\",Arch1!W28)","v":""}]
[null,4,{"$f":"IF(OR(D149=\"\",D149=\"zzz\"),\"\",Arch1!$B$3)","v":""},{"$f":"IF(Arch1!V29=\"\",\"\",Arch1!V29)","v":""},27,{"$f":"IF(Arch1!W29=\"\",\"\",Arch1!W29)","v":""}]
[null,4,{"$f":"IF(OR(D150=\"\",D150=\"zzz\"),\"\",Arch1!$B$3)","v":""},{"$f":"IF(Arch1!V30=\"\",\"\",Arch1!V30)","v":""},28,{"$f":"IF(Arch1!W30=\"\",\"\",Arch1!W30)","v":""}]
[null,4,{"$f":"IF(OR(D151=\"\",D151=\"zzz\"),\"\",Arch1!$B$3)","v":""},{"$f":"IF(Arch1!V31=\"\",\"\",Arch1!V31)","v":""},29,{"$f":"IF(Arch1!W31=\"\",\"\",Arch1!W31)","v":""}]
[null,4,{"$f":"IF(OR(D152=\"\",D152=\"zzz\"),\"\",Arch1!$B$3)","v":""},{"$f":"IF(Arch1!V32=\"\",\"\",Arch1!V32)","v":""},30,{"$f":"IF(Arch1!W32=\"\",\"\",Arch1!W32)","v":""}]
[null,4,{"$f":"IF(OR(D153=\"\",D153=\"zzz\"),\"\",Arch1!$B$3)","v":""},{"$f":"IF(Arch1!V33=\"\",\"\",Arch1!V33)","v":""},31,{"$f":"IF(Arch1!W33=\"\",\"\",Arch1!W33)","v":""}]
[null,4,{"$f":"IF(OR(D154=\"\",D154=\"zzz\"),\"\",Arch1!$B$3)","v":""},{"$f":"IF(Arch1!V34=\"\",\"\",Arch1!V34)","v":""},32,{"$f":"IF(Arch1!W34=\"\",\"\",Arch1!W34)","v":""}]
[null,4,{"$f":"IF(OR(D155=\"\",D155=\"zzz\"),\"\",Arch1!$B$3)","v":""},{"$f":"IF(Arch1!V35=\"\",\"\",Arch1!V35)","v":""},33,{"$f":"IF(Arch1!W35=\"\",\"\",Arch1!W35)","v":""}]
[null,4,{"$f":"IF(OR(D156=\"\",D156=\"zzz\"),\"\",Arch1!$B$3)","v":""},{"$f":"IF(Arch1!V36=\"\",\"\",Arch1!V36)","v":""},34,{"$f":"IF(Arch1!W36=\"\",\"\",Arch1!W36)","v":""}]
[null,4,{"$f":"IF(OR(D157=\"\",D157=\"zzz\"),\"\",Arch1!$B$3)","v":""},{"$f":"IF(Arch1!V37=\"\",\"\",Arch1!V37)","v":""},35,{"$f":"IF(Arch1!W37=\"\",\"\",Arch1!W37)","v":""}]
[null,4,{"$f":"IF(OR(D158=\"\",D158=\"zzz\"),\"\",Arch1!$B$3)","v":""},{"$f":"IF(Arch1!V38=\"\",\"\",Arch1!V38)","v":""},36,{"$f":"IF(Arch1!W38=\"\",\"\",Arch1!W38)","v":""}]
[null,4,{"$f":"IF(OR(D159=\"\",D159=\"zzz\"),\"\",Arch1!$B$3)","v":""},{"$f":"IF(Arch1!V39=\"\",\"\",Arch1!V39)","v":""},37,{"$f":"IF(Arch1!W39=\"\",\"\",Arch1!W39)","v":""}]
[null,4,{"$f":"IF(OR(D160=\"\",D160=\"zzz\"),\"\",Arch1!$B$3)","v":""},{"$f":"IF(Arch1!V40=\"\",\"\",Arch1!V40)","v":""},38,{"$f":"IF(Arch1!W40=\"\",\"\",Arch1!W40)","v":""}]
[null,4,{"$f":"IF(OR(D161=\"\",D161=\"zzz\"),\"\",Arch1!$B$3)","v":""},{"$f":"IF(Arch1!V41=\"\",\"\",Arch1!V41)","v":""},39,{"$f":"IF(Arch1!W41=\"\",\"\",Arch1!W41)","v":""}]
[null,4,{"$f":"IF(OR(D162=\"\",D162=\"zzz\"),\"\",Arch1!$B$3)","v":""},{"$f":"IF(Arch1!V42=\"\",\"\",Arch1!V42)","v":""},40,{"$f":"IF(Arch1!W42=\"\",\"\",Arch1!W42)","v":""}]
[null,5,{"$f":"IF(OR(D163=\"\",D163=\"zzz\"),\"\",Arch1!$B$3)","v":""},{"$f":"IF(Arch1!AB3=\"\",\"\",Arch1!AB3)","v":""},1,{"$f":"IF(Arch1!AC3=\"\",\"\",Arch1!AC3)","v":""}]
[null,5,{"$f":"IF(OR(D164=\"\",D164=\"zzz\"),\"\",Arch1!$B$3)","v":""},{"$f":"IF(Arch1!AB4=\"\",\"\",Arch1!AB4)","v":""},2,{"$f":"IF(Arch1!AC4=\"\",\"\",Arch1!AC4)","v":""}]
[null,5,{"$f":"IF(OR(D165=\"\",D165=\"zzz\"),\"\",Arch1!$B$3)","v":""},{"$f":"IF(Arch1!AB5=\"\",\"\",Arch1!AB5)","v":""},3,{"$f":"IF(Arch1!AC5=\"\",\"\",Arch1!AC5)","v":""}]
[null,5,{"$f":"IF(OR(D166=\"\",D166=\"zzz\"),\"\",Arch1!$B$3)","v":""},{"$f":"IF(Arch1!AB6=\"\",\"\",Arch1!AB6)","v":""},4,{"$f":"IF(Arch1!AC6=\"\",\"\",Arch1!AC6)","v":""}]
[null,5,{"$f":"IF(OR(D167=\"\",D167=\"zzz\"),\"\",Arch1!$B$3)","v":""},{"$f":"IF(Arch1!AB7=\"\",\"\",Arch1!AB7)","v":""},5,{"$f":"IF(Arch1!AC7=\"\",\"\",Arch1!AC7)","v":""}]
[null,5,{"$f":"IF(OR(D168=\"\",D168=\"zzz\"),\"\",Arch1!$B$3)","v":""},{"$f":"IF(Arch1!AB8=\"\",\"\",Arch1!AB8)","v":""},6,{"$f":"IF(Arch1!AC8=\"\",\"\",Arch1!AC8)","v":""}]
[null,5,{"$f":"IF(OR(D169=\"\",D169=\"zzz\"),\"\",Arch1!$B$3)","v":""},{"$f":"IF(Arch1!AB9=\"\",\"\",Arch1!AB9)","v":""},7,{"$f":"IF(Arch1!AC9=\"\",\"\",Arch1!AC9)","v":""}]
[null,5,{"$f":"IF(OR(D170=\"\",D170=\"zzz\"),\"\",Arch1!$B$3)","v":""},{"$f":"IF(Arch1!AB10=\"\",\"\",Arch1!AB10)","v":""},8,{"$f":"IF(Arch1!AC10=\"\",\"\",Arch1!AC10)","v":""}]
[null,5,{"$f":"IF(OR(D171=\"\",D171=\"zzz\"),\"\",Arch1!$B$3)","v":""},{"$f":"IF(Arch1!AB11=\"\",\"\",Arch1!AB11)","v":""},9,{"$f":"IF(Arch1!AC11=\"\",\"\",Arch1!AC11)","v":""}]
[null,5,{"$f":"IF(OR(D172=\"\",D172=\"zzz\"),\"\",Arch1!$B$3)","v":""},{"$f":"IF(Arch1!AB12=\"\",\"\",Arch1!AB12)","v":""},10,{"$f":"IF(Arch1!AC12=\"\",\"\",Arch1!AC12)","v":""}]
[null,5,{"$f":"IF(OR(D173=\"\",D173=\"zzz\"),\"\",Arch1!$B$3)","v":""},{"$f":"IF(Arch1!AB13=\"\",\"\",Arch1!AB13)","v":""},11,{"$f":"IF(Arch1!AC13=\"\",\"\",Arch1!AC13)","v":""}]
[null,5,{"$f":"IF(OR(D174=\"\",D174=\"zzz\"),\"\",Arch1!$B$3)","v":""},{"$f":"IF(Arch1!AB14=\"\",\"\",Arch1!AB14)","v":""},12,{"$f":"IF(Arch1!AC14=\"\",\"\",Arch1!AC14)","v":""}]
[null,5,{"$f":"IF(OR(D175=\"\",D175=\"zzz\"),\"\",Arch1!$B$3)","v":""},{"$f":"IF(Arch1!AB15=\"\",\"\",Arch1!AB15)","v":""},13,{"$f":"IF(Arch1!AC15=\"\",\"\",Arch1!AC15)","v":""}]
[null,5,{"$f":"IF(OR(D176=\"\",D176=\"zzz\"),\"\",Arch1!$B$3)","v":""},{"$f":"IF(Arch1!AB16=\"\",\"\",Arch1!AB16)","v":""},14,{"$f":"IF(Arch1!AC16=\"\",\"\",Arch1!AC16)","v":""}]
[null,5,{"$f":"IF(OR(D177=\"\",D177=\"zzz\"),\"\",Arch1!$B$3)","v":""},{"$f":"IF(Arch1!AB17=\"\",\"\",Arch1!AB17)","v":""},15,{"$f":"IF(Arch1!AC17=\"\",\"\",Arch1!AC17)","v":""}]
[null,5,{"$f":"IF(OR(D178=\"\",D178=\"zzz\"),\"\",Arch1!$B$3)","v":""},{"$f":"IF(Arch1!AB18=\"\",\"\",Arch1!AB18)","v":""},16,{"$f":"IF(Arch1!AC18=\"\",\"\",Arch1!AC18)","v":""}]
[null,5,{"$f":"IF(OR(D179=\"\",D179=\"zzz\"),\"\",Arch1!$B$3)","v":""},{"$f":"IF(Arch1!AB19=\"\",\"\",Arch1!AB19)","v":""},17,{"$f":"IF(Arch1!AC19=\"\",\"\",Arch1!AC19)","v":""}]
[null,5,{"$f":"IF(OR(D180=\"\",D180=\"zzz\"),\"\",Arch1!$B$3)","v":""},{"$f":"IF(Arch1!AB20=\"\",\"\",Arch1!AB20)","v":""},18,{"$f":"IF(Arch1!AC20=\"\",\"\",Arch1!AC20)","v":""}]
[null,5,{"$f":"IF(OR(D181=\"\",D181=\"zzz\"),\"\",Arch1!$B$3)","v":""},{"$f":"IF(Arch1!AB21=\"\",\"\",Arch1!AB21)","v":""},19,{"$f":"IF(Arch1!AC21=\"\",\"\",Arch1!AC21)","v":""}]
[null,5,{"$f":"IF(OR(D182=\"\",D182=\"zzz\"),\"\",Arch1!$B$3)","v":""},{"$f":"IF(Arch1!AB22=\"\",\"\",Arch1!AB22)","v":""},20,{"$f":"IF(Arch1!AC22=\"\",\"\",Arch1!AC22)","v":""}]
[null,5,{"$f":"IF(OR(D183=\"\",D183=\"zzz\"),\"\",Arch1!$B$3)","v":""},{"$f":"IF(Arch1!AB23=\"\",\"\",Arch1!AB23)","v":""},21,{"$f":"IF(Arch1!AC23=\"\",\"\",Arch1!AC23)","v":""}]
[null,5,{"$f":"IF(OR(D184=\"\",D184=\"zzz\"),\"\",Arch1!$B$3)","v":""},{"$f":"IF(Arch1!AB24=\"\",\"\",Arch1!AB24)","v":""},22,{"$f":"IF(Arch1!AC24=\"\",\"\",Arch1!AC24)","v":""}]
[null,5,{"$f":"IF(OR(D185=\"\",D185=\"zzz\"),\"\",Arch1!$B$3)","v":""},{"$f":"IF(Arch1!AB25=\"\",\"\",Arch1!AB25)","v":""},23,{"$f":"IF(Arch1!AC25=\"\",\"\",Arch1!AC25)","v":""}]
[null,5,{"$f":"IF(OR(D186=\"\",D186=\"zzz\"),\"\",Arch1!$B$3)","v":""},{"$f":"IF(Arch1!AB26=\"\",\"\",Arch1!AB26)","v":""},24,{"$f":"IF(Arch1!AC26=\"\",\"\",Arch1!AC26)","v":""}]
[null,5,{"$f":"IF(OR(D187=\"\",D187=\"zzz\"),\"\",Arch1!$B$3)","v":""},{"$f":"IF(Arch1!AB27=\"\",\"\",Arch1!AB27)","v":""},25,{"$f":"IF(Arch1!AC27=\"\",\"\",Arch1!AC27)","v":""}]
[null,5,{"$f":"IF(OR(D188=\"\",D188=\"zzz\"),\"\",Arch1!$B$3)","v":""},{"$f":"IF(Arch1!AB28=\"\",\"\",Arch1!AB28)","v":""},26,{"$f":"IF(Arch1!AC28=\"\",\"\",Arch1!AC28)","v":""}]
[null,5,{"$f":"IF(OR(D189=\"\",D189=\"zzz\"),\"\",Arch1!$B$3)","v":""},{"$f":"IF(Arch1!AB29=\"\",\"\",Arch1!AB29)","v":""},27,{"$f":"IF(Arch1!AC29=\"\",\"\",Arch1!AC29)","v":""}]
[null,5,{"$f":"IF(OR(D190=\"\",D190=\"zzz\"),\"\",Arch1!$B$3)","v":""},{"$f":"IF(Arch1!AB30=\"\",\"\",Arch1!AB30)","v":""},28,{"$f":"IF(Arch1!AC30=\"\",\"\",Arch1!AC30)","v":""}]
[null,5,{"$f":"IF(OR(D191=\"\",D191=\"zzz\"),\"\",Arch1!$B$3)","v":""},{"$f":"IF(Arch1!AB31=\"\",\"\",Arch1!AB31)","v":""},29,{"$f":"IF(Arch1!AC31=\"\",\"\",Arch1!AC31)","v":""}]
[null,5,{"$f":"IF(OR(D192=\"\",D192=\"zzz\"),\"\",Arch1!$B$3)","v":""},{"$f":"IF(Arch1!AB32=\"\",\"\",Arch1!AB32)","v":""},30,{"$f":"IF(Arch1!AC32=\"\",\"\",Arch1!AC32)","v":""}]
[null,5,{"$f":"IF(OR(D193=\"\",D193=\"zzz\"),\"\",Arch1!$B$3)","v":""},{"$f":"IF(Arch1!AB33=\"\",\"\",Arch1!AB33)","v":""},31,{"$f":"IF(Arch1!AC33=\"\",\"\",Arch1!AC33)","v":""}]
[null,5,{"$f":"IF(OR(D194=\"\",D194=\"zzz\"),\"\",Arch1!$B$3)","v":""},{"$f":"IF(Arch1!AB34=\"\",\"\",Arch1!AB34)","v":""},32,{"$f":"IF(Arch1!AC34=\"\",\"\",Arch1!AC34)","v":""}]
[null,5,{"$f":"IF(OR(D195=\"\",D195=\"zzz\"),\"\",Arch1!$B$3)","v":""},{"$f":"IF(Arch1!AB35=\"\",\"\",Arch1!AB35)","v":""},33,{"$f":"IF(Arch1!AC35=\"\",\"\",Arch1!AC35)","v":""}]
[null,5,{"$f":"IF(OR(D196=\"\",D196=\"zzz\"),\"\",Arch1!$B$3)","v":""},{"$f":"IF(Arch1!AB36=\"\",\"\",Arch1!AB36)","v":""},34,{"$f":"IF(Arch1!AC36=\"\",\"\",Arch1!AC36)","v":""}]
[null,5,{"$f":"IF(OR(D197=\"\",D197=\"zzz\"),\"\",Arch1!$B$3)","v":""},{"$f":"IF(Arch1!AB37=\"\",\"\",Arch1!AB37)","v":""},35,{"$f":"IF(Arch1!AC37=\"\",\"\",Arch1!AC37)","v":""}]
[null,5,{"$f":"IF(OR(D198=\"\",D198=\"zzz\"),\"\",Arch1!$B$3)","v":""},{"$f":"IF(Arch1!AB38=\"\",\"\",Arch1!AB38)","v":""},36,{"$f":"IF(Arch1!AC38=\"\",\"\",Arch1!AC38)","v":""}]
[null,5,{"$f":"IF(OR(D199=\"\",D199=\"zzz\"),\"\",Arch1!$B$3)","v":""},{"$f":"IF(Arch1!AB39=\"\",\"\",Arch1!AB39)","v":""},37,{"$f":"IF(Arch1!AC39=\"\",\"\",Arch1!AC39)","v":""}]
[null,5,{"$f":"IF(OR(D200=\"\",D200=\"zzz\"),\"\",Arch1!$B$3)","v":""},{"$f":"IF(Arch1!AB40=\"\",\"\",Arch1!AB40)","v":""},38,{"$f":"IF(Arch1!AC40=\"\",\"\",Arch1!AC40)","v":""}]
[null,5,{"$f":"IF(OR(D201=\"\",D201=\"zzz\"),\"\",Arch1!$B$3)","v":""},{"$f":"IF(Arch1!AB41=\"\",\"\",Arch1!AB41)","v":""},39,{"$f":"IF(Arch1!AC41=\"\",\"\",Arch1!AC41)","v":""}]
[null,5,{"$f":"IF(OR(D202=\"\",D202=\"zzz\"),\"\",Arch1!$B$3)","v":""},{"$f":"IF(Arch1!AB42=\"\",\"\",Arch1!AB42)","v":""},40,{"$f":"IF(Arch1!AC42=\"\",\"\",Arch1!AC42)","v":""}]
[null,6,{"$f":"IF(OR(D203=\"\",D203=\"zzz\"),\"\",Arch1!$B$3)","v":""},{"$f":"IF(Arch1!AH3=\"\",\"\",Arch1!AH3)","v":""},1,{"$f":"IF(Arch1!AI3=\"\",\"\",Arch1!AI3)","v":""}]
[null,6,{"$f":"IF(OR(D204=\"\",D204=\"zzz\"),\"\",Arch1!$B$3)","v":""},{"$f":"IF(Arch1!AH4=\"\",\"\",Arch1!AH4)","v":""},2,{"$f":"IF(Arch1!AI4=\"\",\"\",Arch1!AI4)","v":""}]
[null,6,{"$f":"IF(OR(D205=\"\",D205=\"zzz\"),\"\",Arch1!$B$3)","v":""},{"$f":"IF(Arch1!AH5=\"\",\"\",Arch1!AH5)","v":""},3,{"$f":"IF(Arch1!AI5=\"\",\"\",Arch1!AI5)","v":""}]
[null,6,{"$f":"IF(OR(D206=\"\",D206=\"zzz\"),\"\",Arch1!$B$3)","v":""},{"$f":"IF(Arch1!AH6=\"\",\"\",Arch1!AH6)","v":""},4,{"$f":"IF(Arch1!AI6=\"\",\"\",Arch1!AI6)","v":""}]
[null,6,{"$f":"IF(OR(D207=\"\",D207=\"zzz\"),\"\",Arch1!$B$3)","v":""},{"$f":"IF(Arch1!AH7=\"\",\"\",Arch1!AH7)","v":""},5,{"$f":"IF(Arch1!AI7=\"\",\"\",Arch1!AI7)","v":""}]
[null,6,{"$f":"IF(OR(D208=\"\",D208=\"zzz\"),\"\",Arch1!$B$3)","v":""},{"$f":"IF(Arch1!AH8=\"\",\"\",Arch1!AH8)","v":""},6,{"$f":"IF(Arch1!AI8=\"\",\"\",Arch1!AI8)","v":""}]
[null,6,{"$f":"IF(OR(D209=\"\",D209=\"zzz\"),\"\",Arch1!$B$3)","v":""},{"$f":"IF(Arch1!AH9=\"\",\"\",Arch1!AH9)","v":""},7,{"$f":"IF(Arch1!AI9=\"\",\"\",Arch1!AI9)","v":""}]
[null,6,{"$f":"IF(OR(D210=\"\",D210=\"zzz\"),\"\",Arch1!$B$3)","v":""},{"$f":"IF(Arch1!AH10=\"\",\"\",Arch1!AH10)","v":""},8,{"$f":"IF(Arch1!AI10=\"\",\"\",Arch1!AI10)","v":""}]
[null,6,{"$f":"IF(OR(D211=\"\",D211=\"zzz\"),\"\",Arch1!$B$3)","v":""},{"$f":"IF(Arch1!AH11=\"\",\"\",Arch1!AH11)","v":""},9,{"$f":"IF(Arch1!AI11=\"\",\"\",Arch1!AI11)","v":""}]
[null,6,{"$f":"IF(OR(D212=\"\",D212=\"zzz\"),\"\",Arch1!$B$3)","v":""},{"$f":"IF(Arch1!AH12=\"\",\"\",Arch1!AH12)","v":""},10,{"$f":"IF(Arch1!AI12=\"\",\"\",Arch1!AI12)","v":""}]
[null,6,{"$f":"IF(OR(D213=\"\",D213=\"zzz\"),\"\",Arch1!$B$3)","v":""},{"$f":"IF(Arch1!AH13=\"\",\"\",Arch1!AH13)","v":""},11,{"$f":"IF(Arch1!AI13=\"\",\"\",Arch1!AI13)","v":""}]
[null,6,{"$f":"IF(OR(D214=\"\",D214=\"zzz\"),\"\",Arch1!$B$3)","v":""},{"$f":"IF(Arch1!AH14=\"\",\"\",Arch1!AH14)","v":""},12,{"$f":"IF(Arch1!AI14=\"\",\"\",Arch1!AI14)","v":""}]
[null,6,{"$f":"IF(OR(D215=\"\",D215=\"zzz\"),\"\",Arch1!$B$3)","v":""},{"$f":"IF(Arch1!AH15=\"\",\"\",Arch1!AH15)","v":""},13,{"$f":"IF(Arch1!AI15=\"\",\"\",Arch1!AI15)","v":""}]
[null,6,{"$f":"IF(OR(D216=\"\",D216=\"zzz\"),\"\",Arch1!$B$3)","v":""},{"$f":"IF(Arch1!AH16=\"\",\"\",Arch1!AH16)","v":""},14,{"$f":"IF(Arch1!AI16=\"\",\"\",Arch1!AI16)","v":""}]
[null,6,{"$f":"IF(OR(D217=\"\",D217=\"zzz\"),\"\",Arch1!$B$3)","v":""},{"$f":"IF(Arch1!AH17=\"\",\"\",Arch1!AH17)","v":""},15,{"$f":"IF(Arch1!AI17=\"\",\"\",Arch1!AI17)","v":""}]
[null,6,{"$f":"IF(OR(D218=\"\",D218=\"zzz\"),\"\",Arch1!$B$3)","v":""},{"$f":"IF(Arch1!AH18=\"\",\"\",Arch1!AH18)","v":""},16,{"$f":"IF(Arch1!AI18=\"\",\"\",Arch1!AI18)","v":""}]
[null,6,{"$f":"IF(OR(D219=\"\",D219=\"zzz\"),\"\",Arch1!$B$3)","v":""},{"$f":"IF(Arch1!AH19=\"\",\"\",Arch1!AH19)","v":""},17,{"$f":"IF(Arch1!AI19=\"\",\"\",Arch1!AI19)","v":""}]
[null,6,{"$f":"IF(OR(D220=\"\",D220=\"zzz\"),\"\",Arch1!$B$3)","v":""},{"$f":"IF(Arch1!AH20=\"\",\"\",Arch1!AH20)","v":""},18,{"$f":"IF(Arch1!AI20=\"\",\"\",Arch1!AI20)","v":""}]
[null,6,{"$f":"IF(OR(D221=\"\",D221=\"zzz\"),\"\",Arch1!$B$3)","v":""},{"$f":"IF(Arch1!AH21=\"\",\"\",Arch1!AH21)","v":""},19,{"$f":"IF(Arch1!AI21=\"\",\"\",Arch1!AI21)","v":""}]
[null,6,{"$f":"IF(OR(D222=\"\",D222=\"zzz\"),\"\",Arch1!$B$3)","v":""},{"$f":"IF(Arch1!AH22=\"\",\"\",Arch1!AH22)","v":""},20,{"$f":"IF(Arch1!AI22=\"\",\"\",Arch1!AI22)","v":""}]
[null,6,{"$f":"IF(OR(D223=\"\",D223=\"zzz\"),\"\",Arch1!$B$3)","v":""},{"$f":"IF(Arch1!AH23=\"\",\"\",Arch1!AH23)","v":""},21,{"$f":"IF(Arch1!AI23=\"\",\"\",Arch1!AI23)","v":""}]
[null,6,{"$f":"IF(OR(D224=\"\",D224=\"zzz\"),\"\",Arch1!$B$3)","v":""},{"$f":"IF(Arch1!AH24=\"\",\"\",Arch1!AH24)","v":""},22,{"$f":"IF(Arch1!AI24=\"\",\"\",Arch1!AI24)","v":""}]
[null,6,{"$f":"IF(OR(D225=\"\",D225=\"zzz\"),\"\",Arch1!$B$3)","v":""},{"$f":"IF(Arch1!AH25=\"\",\"\",Arch1!AH25)","v":""},23,{"$f":"IF(Arch1!AI25=\"\",\"\",Arch1!AI25)","v":""}]
[null,6,{"$f":"IF(OR(D226=\"\",D226=\"zzz\"),\"\",Arch1!$B$3)","v":""},{"$f":"IF(Arch1!AH26=\"\",\"\",Arch1!AH26)","v":""},24,{"$f":"IF(Arch1!AI26=\"\",\"\",Arch1!AI26)","v":""}]
[null,6,{"$f":"IF(OR(D227=\"\",D227=\"zzz\"),\"\",Arch1!$B$3)","v":""},{"$f":"IF(Arch1!AH27=\"\",\"\",Arch1!AH27)","v":""},25,{"$f":"IF(Arch1!AI27=\"\",\"\",Arch1!AI27)","v":""}]
[null,6,{"$f":"IF(OR(D228=\"\",D228=\"zzz\"),\"\",Arch1!$B$3)","v":""},{"$f":"IF(Arch1!AH28=\"\",\"\",Arch1!AH28)","v":""},26,{"$f":"IF(Arch1!AI28=\"\",\"\",Arch1!AI28)","v":""}]
[null,6,{"$f":"IF(OR(D229=\"\",D229=\"zzz\"),\"\",Arch1!$B$3)","v":""},{"$f":"IF(Arch1!AH29=\"\",\"\",Arch1!AH29)","v":""},27,{"$f":"IF(Arch1!AI29=\"\",\"\",Arch1!AI29)","v":""}]
[null,6,{"$f":"IF(OR(D230=\"\",D230=\"zzz\"),\"\",Arch1!$B$3)","v":""},{"$f":"IF(Arch1!AH30=\"\",\"\",Arch1!AH30)","v":""},28,{"$f":"IF(Arch1!AI30=\"\",\"\",Arch1!AI30)","v":""}]
[null,6,{"$f":"IF(OR(D231=\"\",D231=\"zzz\"),\"\",Arch1!$B$3)","v":""},{"$f":"IF(Arch1!AH31=\"\",\"\",Arch1!AH31)","v":""},29,{"$f":"IF(Arch1!AI31=\"\",\"\",Arch1!AI31)","v":""}]
[null,6,{"$f":"IF(OR(D232=\"\",D232=\"zzz\"),\"\",Arch1!$B$3)","v":""},{"$f":"IF(Arch1!AH32=\"\",\"\",Arch1!AH32)","v":""},30,{"$f":"IF(Arch1!AI32=\"\",\"\",Arch1!AI32)","v":""}]
[null,6,{"$f":"IF(OR(D233=\"\",D233=\"zzz\"),\"\",Arch1!$B$3)","v":""},{"$f":"IF(Arch1!AH33=\"\",\"\",Arch1!AH33)","v":""},31,{"$f":"IF(Arch1!AI33=\"\",\"\",Arch1!AI33)","v":""}]
[null,6,{"$f":"IF(OR(D234=\"\",D234=\"zzz\"),\"\",Arch1!$B$3)","v":""},{"$f":"IF(Arch1!AH34=\"\",\"\",Arch1!AH34)","v":""},32,{"$f":"IF(Arch1!AI34=\"\",\"\",Arch1!AI34)","v":""}]
[null,6,{"$f":"IF(OR(D235=\"\",D235=\"zzz\"),\"\",Arch1!$B$3)","v":""},{"$f":"IF(Arch1!AH35=\"\",\"\",Arch1!AH35)","v":""},33,{"$f":"IF(Arch1!AI35=\"\",\"\",Arch1!AI35)","v":""}]
[null,6,{"$f":"IF(OR(D236=\"\",D236=\"zzz\"),\"\",Arch1!$B$3)","v":""},{"$f":"IF(Arch1!AH36=\"\",\"\",Arch1!AH36)","v":""},34,{"$f":"IF(Arch1!AI36=\"\",\"\",Arch1!AI36)","v":""}]
[null,6,{"$f":"IF(OR(D237=\"\",D237=\"zzz\"),\"\",Arch1!$B$3)","v":""},{"$f":"IF(Arch1!AH37=\"\",\"\",Arch1!AH37)","v":""},35,{"$f":"IF(Arch1!AI37=\"\",\"\",Arch1!AI37)","v":""}]
[null,6,{"$f":"IF(OR(D238=\"\",D238=\"zzz\"),\"\",Arch1!$B$3)","v":""},{"$f":"IF(Arch1!AH38=\"\",\"\",Arch1!AH38)","v":""},36,{"$f":"IF(Arch1!AI38=\"\",\"\",Arch1!AI38)","v":""}]
[null,6,{"$f":"IF(OR(D239=\"\",D239=\"zzz\"),\"\",Arch1!$B$3)","v":""},{"$f":"IF(Arch1!AH39=\"\",\"\",Arch1!AH39)","v":""},37,{"$f":"IF(Arch1!AI39=\"\",\"\",Arch1!AI39)","v":""}]
[null,6,{"$f":"IF(OR(D240=\"\",D240=\"zzz\"),\"\",Arch1!$B$3)","v":""},{"$f":"IF(Arch1!AH40=\"\",\"\",Arch1!AH40)","v":""},38,{"$f":"IF(Arch1!AI40=\"\",\"\",Arch1!AI40)","v":""}]
[null,6,{"$f":"IF(OR(D241=\"\",D241=\"zzz\"),\"\",Arch1!$B$3)","v":""},{"$f":"IF(Arch1!AH41=\"\",\"\",Arch1!AH41)","v":""},39,{"$f":"IF(Arch1!AI41=\"\",\"\",Arch1!AI41)","v":""}]
[null,6,{"$f":"IF(OR(D242=\"\",D242=\"zzz\"),\"\",Arch1!$B$3)","v":""},{"$f":"IF(Arch1!AH42=\"\",\"\",Arch1!AH42)","v":""},40,{"$f":"IF(Arch1!AI42=\"\",\"\",Arch1!AI42)","v":""}]
[null,7,{"$f":"IF(OR(D243=\"\",D243=\"zzz\"),\"\",Arch1!$B$3)","v":""},{"$f":"IF(Arch1!AN3=\"\",\"\",Arch1!AN3)","v":""},1,{"$f":"IF(Arch1!AO3=\"\",\"\",Arch1!AO3)","v":""}]
[null,7,{"$f":"IF(OR(D244=\"\",D244=\"zzz\"),\"\",Arch1!$B$3)","v":""},{"$f":"IF(Arch1!AN4=\"\",\"\",Arch1!AN4)","v":""},2,{"$f":"IF(Arch1!AO4=\"\",\"\",Arch1!AO4)","v":""}]
[null,7,{"$f":"IF(OR(D245=\"\",D245=\"zzz\"),\"\",Arch1!$B$3)","v":""},{"$f":"IF(Arch1!AN5=\"\",\"\",Arch1!AN5)","v":""},3,{"$f":"IF(Arch1!AO5=\"\",\"\",Arch1!AO5)","v":""}]
[null,7,{"$f":"IF(OR(D246=\"\",D246=\"zzz\"),\"\",Arch1!$B$3)","v":""},{"$f":"IF(Arch1!AN6=\"\",\"\",Arch1!AN6)","v":""},4,{"$f":"IF(Arch1!AO6=\"\",\"\",Arch1!AO6)","v":""}]
[null,7,{"$f":"IF(OR(D247=\"\",D247=\"zzz\"),\"\",Arch1!$B$3)","v":""},{"$f":"IF(Arch1!AN7=\"\",\"\",Arch1!AN7)","v":""},5,{"$f":"IF(Arch1!AO7=\"\",\"\",Arch1!AO7)","v":""}]
[null,7,{"$f":"IF(OR(D248=\"\",D248=\"zzz\"),\"\",Arch1!$B$3)","v":""},{"$f":"IF(Arch1!AN8=\"\",\"\",Arch1!AN8)","v":""},6,{"$f":"IF(Arch1!AO8=\"\",\"\",Arch1!AO8)","v":""}]
[null,7,{"$f":"IF(OR(D249=\"\",D249=\"zzz\"),\"\",Arch1!$B$3)","v":""},{"$f":"IF(Arch1!AN9=\"\",\"\",Arch1!AN9)","v":""},7,{"$f":"IF(Arch1!AO9=\"\",\"\",Arch1!AO9)","v":""}]
[null,7,{"$f":"IF(OR(D250=\"\",D250=\"zzz\"),\"\",Arch1!$B$3)","v":""},{"$f":"IF(Arch1!AN10=\"\",\"\",Arch1!AN10)","v":""},8,{"$f":"IF(Arch1!AO10=\"\",\"\",Arch1!AO10)","v":""}]
[null,7,{"$f":"IF(OR(D251=\"\",D251=\"zzz\"),\"\",Arch1!$B$3)","v":""},{"$f":"IF(Arch1!AN11=\"\",\"\",Arch1!AN11)","v":""},9,{"$f":"IF(Arch1!AO11=\"\",\"\",Arch1!AO11)","v":""}]
[null,7,{"$f":"IF(OR(D252=\"\",D252=\"zzz\"),\"\",Arch1!$B$3)","v":""},{"$f":"IF(Arch1!AN12=\"\",\"\",Arch1!AN12)","v":""},10,{"$f":"IF(Arch1!AO12=\"\",\"\",Arch1!AO12)","v":""}]
[null,7,{"$f":"IF(OR(D253=\"\",D253=\"zzz\"),\"\",Arch1!$B$3)","v":""},{"$f":"IF(Arch1!AN13=\"\",\"\",Arch1!AN13)","v":""},11,{"$f":"IF(Arch1!AO13=\"\",\"\",Arch1!AO13)","v":""}]
[null,7,{"$f":"IF(OR(D254=\"\",D254=\"zzz\"),\"\",Arch1!$B$3)","v":""},{"$f":"IF(Arch1!AN14=\"\",\"\",Arch1!AN14)","v":""},12,{"$f":"IF(Arch1!AO14=\"\",\"\",Arch1!AO14)","v":""}]
[null,7,{"$f":"IF(OR(D255=\"\",D255=\"zzz\"),\"\",Arch1!$B$3)","v":""},{"$f":"IF(Arch1!AN15=\"\",\"\",Arch1!AN15)","v":""},13,{"$f":"IF(Arch1!AO15=\"\",\"\",Arch1!AO15)","v":""}]
[null,7,{"$f":"IF(OR(D256=\"\",D256=\"zzz\"),\"\",Arch1!$B$3)","v":""},{"$f":"IF(Arch1!AN16=\"\",\"\",Arch1!AN16)","v":""},14,{"$f":"IF(Arch1!AO16=\"\",\"\",Arch1!AO16)","v":""}]
[null,7,{"$f":"IF(OR(D257=\"\",D257=\"zzz\"),\"\",Arch1!$B$3)","v":""},{"$f":"IF(Arch1!AN17=\"\",\"\",Arch1!AN17)","v":""},15,{"$f":"IF(Arch1!AO17=\"\",\"\",Arch1!AO17)","v":""}]
[null,7,{"$f":"IF(OR(D258=\"\",D258=\"zzz\"),\"\",Arch1!$B$3)","v":""},{"$f":"IF(Arch1!AN18=\"\",\"\",Arch1!AN18)","v":""},16,{"$f":"IF(Arch1!AO18=\"\",\"\",Arch1!AO18)","v":""}]
[null,7,{"$f":"IF(OR(D259=\"\",D259=\"zzz\"),\"\",Arch1!$B$3)","v":""},{"$f":"IF(Arch1!AN19=\"\",\"\",Arch1!AN19)","v":""},17,{"$f":"IF(Arch1!AO19=\"\",\"\",Arch1!AO19)","v":""}]
[null,7,{"$f":"IF(OR(D260=\"\",D260=\"zzz\"),\"\",Arch1!$B$3)","v":""},{"$f":"IF(Arch1!AN20=\"\",\"\",Arch1!AN20)","v":""},18,{"$f":"IF(Arch1!AO20=\"\",\"\",Arch1!AO20)","v":""}]
[null,7,{"$f":"IF(OR(D261=\"\",D261=\"zzz\"),\"\",Arch1!$B$3)","v":""},{"$f":"IF(Arch1!AN21=\"\",\"\",Arch1!AN21)","v":""},19,{"$f":"IF(Arch1!AO21=\"\",\"\",Arch1!AO21)","v":""}]
[null,7,{"$f":"IF(OR(D262=\"\",D262=\"zzz\"),\"\",Arch1!$B$3)","v":""},{"$f":"IF(Arch1!AN22=\"\",\"\",Arch1!AN22)","v":""},20,{"$f":"IF(Arch1!AO22=\"\",\"\",Arch1!AO22)","v":""}]
[null,7,{"$f":"IF(OR(D263=\"\",D263=\"zzz\"),\"\",Arch1!$B$3)","v":""},{"$f":"IF(Arch1!AN23=\"\",\"\",Arch1!AN23)","v":""},21,{"$f":"IF(Arch1!AO23=\"\",\"\",Arch1!AO23)","v":""}]
[null,7,{"$f":"IF(OR(D264=\"\",D264=\"zzz\"),\"\",Arch1!$B$3)","v":""},{"$f":"IF(Arch1!AN24=\"\",\"\",Arch1!AN24)","v":""},22,{"$f":"IF(Arch1!AO24=\"\",\"\",Arch1!AO24)","v":""}]
[null,7,{"$f":"IF(OR(D265=\"\",D265=\"zzz\"),\"\",Arch1!$B$3)","v":""},{"$f":"IF(Arch1!AN25=\"\",\"\",Arch1!AN25)","v":""},23,{"$f":"IF(Arch1!AO25=\"\",\"\",Arch1!AO25)","v":""}]
[null,7,{"$f":"IF(OR(D266=\"\",D266=\"zzz\"),\"\",Arch1!$B$3)","v":""},{"$f":"IF(Arch1!AN26=\"\",\"\",Arch1!AN26)","v":""},24,{"$f":"IF(Arch1!AO26=\"\",\"\",Arch1!AO26)","v":""}]
[null,7,{"$f":"IF(OR(D267=\"\",D267=\"zzz\"),\"\",Arch1!$B$3)","v":""},{"$f":"IF(Arch1!AN27=\"\",\"\",Arch1!AN27)","v":""},25,{"$f":"IF(Arch1!AO27=\"\",\"\",Arch1!AO27)","v":""}]
[null,7,{"$f":"IF(OR(D268=\"\",D268=\"zzz\"),\"\",Arch1!$B$3)","v":""},{"$f":"IF(Arch1!AN28=\"\",\"\",Arch1!AN28)","v":""},26,{"$f":"IF(Arch1!AO28=\"\",\"\",Arch1!AO28)","v":""}]
[null,7,{"$f":"IF(OR(D269=\"\",D269=\"zzz\"),\"\",Arch1!$B$3)","v":""},{"$f":"IF(Arch1!AN29=\"\",\"\",Arch1!AN29)","v":""},27,{"$f":"IF(Arch1!AO29=\"\",\"\",Arch1!AO29)","v":""}]
[null,7,{"$f":"IF(OR(D270=\"\",D270=\"zzz\"),\"\",Arch1!$B$3)","v":""},{"$f":"IF(Arch1!AN30=\"\",\"\",Arch1!AN30)","v":""},28,{"$f":"IF(Arch1!AO30=\"\",\"\",Arch1!AO30)","v":""}]
[null,7,{"$f":"IF(OR(D271=\"\",D271=\"zzz\"),\"\",Arch1!$B$3)","v":""},{"$f":"IF(Arch1!AN31=\"\",\"\",Arch1!AN31)","v":""},29,{"$f":"IF(Arch1!AO31=\"\",\"\",Arch1!AO31)","v":""}]
[null,7,{"$f":"IF(OR(D272=\"\",D272=\"zzz\"),\"\",Arch1!$B$3)","v":""},{"$f":"IF(Arch1!AN32=\"\",\"\",Arch1!AN32)","v":""},30,{"$f":"IF(Arch1!AO32=\"\",\"\",Arch1!AO32)","v":""}]
[null,7,{"$f":"IF(OR(D273=\"\",D273=\"zzz\"),\"\",Arch1!$B$3)","v":""},{"$f":"IF(Arch1!AN33=\"\",\"\",Arch1!AN33)","v":""},31,{"$f":"IF(Arch1!AO33=\"\",\"\",Arch1!AO33)","v":""}]
[null,7,{"$f":"IF(OR(D274=\"\",D274=\"zzz\"),\"\",Arch1!$B$3)","v":""},{"$f":"IF(Arch1!AN34=\"\",\"\",Arch1!AN34)","v":""},32,{"$f":"IF(Arch1!AO34=\"\",\"\",Arch1!AO34)","v":""}]
[null,7,{"$f":"IF(OR(D275=\"\",D275=\"zzz\"),\"\",Arch1!$B$3)","v":""},{"$f":"IF(Arch1!AN35=\"\",\"\",Arch1!AN35)","v":""},33,{"$f":"IF(Arch1!AO35=\"\",\"\",Arch1!AO35)","v":""}]
[null,7,{"$f":"IF(OR(D276=\"\",D276=\"zzz\"),\"\",Arch1!$B$3)","v":""},{"$f":"IF(Arch1!AN36=\"\",\"\",Arch1!AN36)","v":""},34,{"$f":"IF(Arch1!AO36=\"\",\"\",Arch1!AO36)","v":""}]
[null,7,{"$f":"IF(OR(D277=\"\",D277=\"zzz\"),\"\",Arch1!$B$3)","v":""},{"$f":"IF(Arch1!AN37=\"\",\"\",Arch1!AN37)","v":""},35,{"$f":"IF(Arch1!AO37=\"\",\"\",Arch1!AO37)","v":""}]
[null,7,{"$f":"IF(OR(D278=\"\",D278=\"zzz\"),\"\",Arch1!$B$3)","v":""},{"$f":"IF(Arch1!AN38=\"\",\"\",Arch1!AN38)","v":""},36,{"$f":"IF(Arch1!AO38=\"\",\"\",Arch1!AO38)","v":""}]
[null,7,{"$f":"IF(OR(D279=\"\",D279=\"zzz\"),\"\",Arch1!$B$3)","v":""},{"$f":"IF(Arch1!AN39=\"\",\"\",Arch1!AN39)","v":""},37,{"$f":"IF(Arch1!AO39=\"\",\"\",Arch1!AO39)","v":""}]
[null,7,{"$f":"IF(OR(D280=\"\",D280=\"zzz\"),\"\",Arch1!$B$3)","v":""},{"$f":"IF(Arch1!AN40=\"\",\"\",Arch1!AN40)","v":""},38,{"$f":"IF(Arch1!AO40=\"\",\"\",Arch1!AO40)","v":""}]
[null,7,{"$f":"IF(OR(D281=\"\",D281=\"zzz\"),\"\",Arch1!$B$3)","v":""},{"$f":"IF(Arch1!AN41=\"\",\"\",Arch1!AN41)","v":""},39,{"$f":"IF(Arch1!AO41=\"\",\"\",Arch1!AO41)","v":""}]
[null,7,{"$f":"IF(OR(D282=\"\",D282=\"zzz\"),\"\",Arch1!$B$3)","v":""},{"$f":"IF(Arch1!AN42=\"\",\"\",Arch1!AN42)","v":""},40,{"$f":"IF(Arch1!AO42=\"\",\"\",Arch1!AO42)","v":""}]
[null,8,{"$f":"IF(OR(D283=\"\",D283=\"zzz\"),\"\",Arch1!$B$3)","v":""},{"$f":"IF(Arch1!AT3=\"\",\"\",Arch1!AT3)","v":""},1,{"$f":"IF(Arch1!AU3=\"\",\"\",Arch1!AU3)","v":""}]
[null,8,{"$f":"IF(OR(D284=\"\",D284=\"zzz\"),\"\",Arch1!$B$3)","v":""},{"$f":"IF(Arch1!AT4=\"\",\"\",Arch1!AT4)","v":""},2,{"$f":"IF(Arch1!AU4=\"\",\"\",Arch1!AU4)","v":""}]
[null,8,{"$f":"IF(OR(D285=\"\",D285=\"zzz\"),\"\",Arch1!$B$3)","v":""},{"$f":"IF(Arch1!AT5=\"\",\"\",Arch1!AT5)","v":""},3,{"$f":"IF(Arch1!AU5=\"\",\"\",Arch1!AU5)","v":""}]
[null,8,{"$f":"IF(OR(D286=\"\",D286=\"zzz\"),\"\",Arch1!$B$3)","v":""},{"$f":"IF(Arch1!AT6=\"\",\"\",Arch1!AT6)","v":""},4,{"$f":"IF(Arch1!AU6=\"\",\"\",Arch1!AU6)","v":""}]
[null,8,{"$f":"IF(OR(D287=\"\",D287=\"zzz\"),\"\",Arch1!$B$3)","v":""},{"$f":"IF(Arch1!AT7=\"\",\"\",Arch1!AT7)","v":""},5,{"$f":"IF(Arch1!AU7=\"\",\"\",Arch1!AU7)","v":""}]
[null,8,{"$f":"IF(OR(D288=\"\",D288=\"zzz\"),\"\",Arch1!$B$3)","v":""},{"$f":"IF(Arch1!AT8=\"\",\"\",Arch1!AT8)","v":""},6,{"$f":"IF(Arch1!AU8=\"\",\"\",Arch1!AU8)","v":""}]
[null,8,{"$f":"IF(OR(D289=\"\",D289=\"zzz\"),\"\",Arch1!$B$3)","v":""},{"$f":"IF(Arch1!AT9=\"\",\"\",Arch1!AT9)","v":""},7,{"$f":"IF(Arch1!AU9=\"\",\"\",Arch1!AU9)","v":""}]
[null,8,{"$f":"IF(OR(D290=\"\",D290=\"zzz\"),\"\",Arch1!$B$3)","v":""},{"$f":"IF(Arch1!AT10=\"\",\"\",Arch1!AT10)","v":""},8,{"$f":"IF(Arch1!AU10=\"\",\"\",Arch1!AU10)","v":""}]
[null,8,{"$f":"IF(OR(D291=\"\",D291=\"zzz\"),\"\",Arch1!$B$3)","v":""},{"$f":"IF(Arch1!AT11=\"\",\"\",Arch1!AT11)","v":""},9,{"$f":"IF(Arch1!AU11=\"\",\"\",Arch1!AU11)","v":""}]
[null,8,{"$f":"IF(OR(D292=\"\",D292=\"zzz\"),\"\",Arch1!$B$3)","v":""},{"$f":"IF(Arch1!AT12=\"\",\"\",Arch1!AT12)","v":""},10,{"$f":"IF(Arch1!AU12=\"\",\"\",Arch1!AU12)","v":""}]
[null,8,{"$f":"IF(OR(D293=\"\",D293=\"zzz\"),\"\",Arch1!$B$3)","v":""},{"$f":"IF(Arch1!AT13=\"\",\"\",Arch1!AT13)","v":""},11,{"$f":"IF(Arch1!AU13=\"\",\"\",Arch1!AU13)","v":""}]
[null,8,{"$f":"IF(OR(D294=\"\",D294=\"zzz\"),\"\",Arch1!$B$3)","v":""},{"$f":"IF(Arch1!AT14=\"\",\"\",Arch1!AT14)","v":""},12,{"$f":"IF(Arch1!AU14=\"\",\"\",Arch1!AU14)","v":""}]
[null,8,{"$f":"IF(OR(D295=\"\",D295=\"zzz\"),\"\",Arch1!$B$3)","v":""},{"$f":"IF(Arch1!AT15=\"\",\"\",Arch1!AT15)","v":""},13,{"$f":"IF(Arch1!AU15=\"\",\"\",Arch1!AU15)","v":""}]
[null,8,{"$f":"IF(OR(D296=\"\",D296=\"zzz\"),\"\",Arch1!$B$3)","v":""},{"$f":"IF(Arch1!AT16=\"\",\"\",Arch1!AT16)","v":""},14,{"$f":"IF(Arch1!AU16=\"\",\"\",Arch1!AU16)","v":""}]
[null,8,{"$f":"IF(OR(D297=\"\",D297=\"zzz\"),\"\",Arch1!$B$3)","v":""},{"$f":"IF(Arch1!AT17=\"\",\"\",Arch1!AT17)","v":""},15,{"$f":"IF(Arch1!AU17=\"\",\"\",Arch1!AU17)","v":""}]
[null,8,{"$f":"IF(OR(D298=\"\",D298=\"zzz\"),\"\",Arch1!$B$3)","v":""},{"$f":"IF(Arch1!AT18=\"\",\"\",Arch1!AT18)","v":""},16,{"$f":"IF(Arch1!AU18=\"\",\"\",Arch1!AU18)","v":""}]
[null,8,{"$f":"IF(OR(D299=\"\",D299=\"zzz\"),\"\",Arch1!$B$3)","v":""},{"$f":"IF(Arch1!AT19=\"\",\"\",Arch1!AT19)","v":""},17,{"$f":"IF(Arch1!AU19=\"\",\"\",Arch1!AU19)","v":""}]
[null,8,{"$f":"IF(OR(D300=\"\",D300=\"zzz\"),\"\",Arch1!$B$3)","v":""},{"$f":"IF(Arch1!AT20=\"\",\"\",Arch1!AT20)","v":""},18,{"$f":"IF(Arch1!AU20=\"\",\"\",Arch1!AU20)","v":""}]
[null,8,{"$f":"IF(OR(D301=\"\",D301=\"zzz\"),\"\",Arch1!$B$3)","v":""},{"$f":"IF(Arch1!AT21=\"\",\"\",Arch1!AT21)","v":""},19,{"$f":"IF(Arch1!AU21=\"\",\"\",Arch1!AU21)","v":""}]
[null,8,{"$f":"IF(OR(D302=\"\",D302=\"zzz\"),\"\",Arch1!$B$3)","v":""},{"$f":"IF(Arch1!AT22=\"\",\"\",Arch1!AT22)","v":""},20,{"$f":"IF(Arch1!AU22=\"\",\"\",Arch1!AU22)","v":""}]
[null,8,{"$f":"IF(OR(D303=\"\",D303=\"zzz\"),\"\",Arch1!$B$3)","v":""},{"$f":"IF(Arch1!AT23=\"\",\"\",Arch1!AT23)","v":""},21,{"$f":"IF(Arch1!AU23=\"\",\"\",Arch1!AU23)","v":""}]
[null,8,{"$f":"IF(OR(D304=\"\",D304=\"zzz\"),\"\",Arch1!$B$3)","v":""},{"$f":"IF(Arch1!AT24=\"\",\"\",Arch1!AT24)","v":""},22,{"$f":"IF(Arch1!AU24=\"\",\"\",Arch1!AU24)","v":""}]
[null,8,{"$f":"IF(OR(D305=\"\",D305=\"zzz\"),\"\",Arch1!$B$3)","v":""},{"$f":"IF(Arch1!AT25=\"\",\"\",Arch1!AT25)","v":""},23,{"$f":"IF(Arch1!AU25=\"\",\"\",Arch1!AU25)","v":""}]
[null,8,{"$f":"IF(OR(D306=\"\",D306=\"zzz\"),\"\",Arch1!$B$3)","v":""},{"$f":"IF(Arch1!AT26=\"\",\"\",Arch1!AT26)","v":""},24,{"$f":"IF(Arch1!AU26=\"\",\"\",Arch1!AU26)","v":""}]
[null,8,{"$f":"IF(OR(D307=\"\",D307=\"zzz\"),\"\",Arch1!$B$3)","v":""},{"$f":"IF(Arch1!AT27=\"\",\"\",Arch1!AT27)","v":""},25,{"$f":"IF(Arch1!AU27=\"\",\"\",Arch1!AU27)","v":""}]
[null,8,{"$f":"IF(OR(D308=\"\",D308=\"zzz\"),\"\",Arch1!$B$3)","v":""},{"$f":"IF(Arch1!AT28=\"\",\"\",Arch1!AT28)","v":""},26,{"$f":"IF(Arch1!AU28=\"\",\"\",Arch1!AU28)","v":""}]
[null,8,{"$f":"IF(OR(D309=\"\",D309=\"zzz\"),\"\",Arch1!$B$3)","v":""},{"$f":"IF(Arch1!AT29=\"\",\"\",Arch1!AT29)","v":""},27,{"$f":"IF(Arch1!AU29=\"\",\"\",Arch1!AU29)","v":""}]
[null,8,{"$f":"IF(OR(D310=\"\",D310=\"zzz\"),\"\",Arch1!$B$3)","v":""},{"$f":"IF(Arch1!AT30=\"\",\"\",Arch1!AT30)","v":""},28,{"$f":"IF(Arch1!AU30=\"\",\"\",Arch1!AU30)","v":""}]
[null,8,{"$f":"IF(OR(D311=\"\",D311=\"zzz\"),\"\",Arch1!$B$3)","v":""},{"$f":"IF(Arch1!AT31=\"\",\"\",Arch1!AT31)","v":""},29,{"$f":"IF(Arch1!AU31=\"\",\"\",Arch1!AU31)","v":""}]
[null,8,{"$f":"IF(OR(D312=\"\",D312=\"zzz\"),\"\",Arch1!$B$3)","v":""},{"$f":"IF(Arch1!AT32=\"\",\"\",Arch1!AT32)","v":""},30,{"$f":"IF(Arch1!AU32=\"\",\"\",Arch1!AU32)","v":""}]
[null,8,{"$f":"IF(OR(D313=\"\",D313=\"zzz\"),\"\",Arch1!$B$3)","v":""},{"$f":"IF(Arch1!AT33=\"\",\"\",Arch1!AT33)","v":""},31,{"$f":"IF(Arch1!AU33=\"\",\"\",Arch1!AU33)","v":""}]
[null,8,{"$f":"IF(OR(D314=\"\",D314=\"zzz\"),\"\",Arch1!$B$3)","v":""},{"$f":"IF(Arch1!AT34=\"\",\"\",Arch1!AT34)","v":""},32,{"$f":"IF(Arch1!AU34=\"\",\"\",Arch1!AU34)","v":""}]
[null,8,{"$f":"IF(OR(D315=\"\",D315=\"zzz\"),\"\",Arch1!$B$3)","v":""},{"$f":"IF(Arch1!AT35=\"\",\"\",Arch1!AT35)","v":""},33,{"$f":"IF(Arch1!AU35=\"\",\"\",Arch1!AU35)","v":""}]
[null,8,{"$f":"IF(OR(D316=\"\",D316=\"zzz\"),\"\",Arch1!$B$3)","v":""},{"$f":"IF(Arch1!AT36=\"\",\"\",Arch1!AT36)","v":""},34,{"$f":"IF(Arch1!AU36=\"\",\"\",Arch1!AU36)","v":""}]
[null,8,{"$f":"IF(OR(D317=\"\",D317=\"zzz\"),\"\",Arch1!$B$3)","v":""},{"$f":"IF(Arch1!AT37=\"\",\"\",Arch1!AT37)","v":""},35,{"$f":"IF(Arch1!AU37=\"\",\"\",Arch1!AU37)","v":""}]
[null,8,{"$f":"IF(OR(D318=\"\",D318=\"zzz\"),\"\",Arch1!$B$3)","v":""},{"$f":"IF(Arch1!AT38=\"\",\"\",Arch1!AT38)","v":""},36,{"$f":"IF(Arch1!AU38=\"\",\"\",Arch1!AU38)","v":""}]
[null,8,{"$f":"IF(OR(D319=\"\",D319=\"zzz\"),\"\",Arch1!$B$3)","v":""},{"$f":"IF(Arch1!AT39=\"\",\"\",Arch1!AT39)","v":""},37,{"$f":"IF(Arch1!AU39=\"\",\"\",Arch1!AU39)","v":""}]
[null,8,{"$f":"IF(OR(D320=\"\",D320=\"zzz\"),\"\",Arch1!$B$3)","v":""},{"$f":"IF(Arch1!AT40=\"\",\"\",Arch1!AT40)","v":""},38,{"$f":"IF(Arch1!AU40=\"\",\"\",Arch1!AU40)","v":""}]
[null,8,{"$f":"IF(OR(D321=\"\",D321=\"zzz\"),\"\",Arch1!$B$3)","v":""},{"$f":"IF(Arch1!AT41=\"\",\"\",Arch1!AT41)","v":""},39,{"$f":"IF(Arch1!AU41=\"\",\"\",Arch1!AU41)","v":""}]
[null,8,{"$f":"IF(OR(D322=\"\",D322=\"zzz\"),\"\",Arch1!$B$3)","v":""},{"$f":"IF(Arch1!AT42=\"\",\"\",Arch1!AT42)","v":""},40,{"$f":"IF(Arch1!AU42=\"\",\"\",Arch1!AU42)","v":""}]

{"sheet":"Feuil1","index":17,"n_rows":0,"n_cols":0,"rows_kept":0,"cut":false,"hidden":false,"merged":[]}