{"text_format":"1","workbook":"xlsx","n_sheets":5,"sheets":["ACCUEIL","CLASSEMENTELEVES","GROUPES TERRAIN","MATCHSELEVES","NOTECYCLE"],"not_rendered":{"charts":0,"images":6,"macros":1,"external_links":0,"defined_names":18,"comments":0,"pivot_tables":0},"unopened":[],"bounds":{"document_bytes":16777216,"sheet_cells":100000,"rows_first":2000,"rows_last":500,"rows_between":2000,"halvings":0,"cell_chars":16384,"cell_head_chars":4096},"cells_cut":0,"cells_raw":0,"read":"whole","date_system":"1900"}

{"sheet":"ACCUEIL","index":0,"n_rows":6,"n_cols":5,"rows_kept":6,"cut":false,"hidden":false,"merged":[]}
[]
[null,null,null,null,"MODE D'EMPLOI"]
[]
[]
[null,null,null,null,"BAD "]
[null,null,null,null,"Les défis des CANUTS"]

{"sheet":"CLASSEMENTELEVES","index":1,"n_rows":86,"n_cols":500,"rows_kept":86,"cut":false,"hidden":false,"merged":[[1,16,1,17],[1,18,1,19],[1,6,1,7],[1,8,1,9],[1,10,1,11],[1,12,1,13],[1,14,1,15]]}
[null,null,null,null,null,null,2]
[null,null,null,"DEFI","ABSENT/BONUS","TOTAL ABSENCES","MATCHS JOUES",null,"VICTOIRES",null,"POINTS MARQUES",null,"POINTS ENCAISSES",null,"POINTS THEMES",null,"CLASSEMENT GENERAL",null,"DEFIS",null,null,null,null,null,null,null,null,null,null,null,null,null,null,null,null,null,null,null,null,null,null,null,null,null,null,null,null,null,null,null,null,null,null,null,null,null,null,null,null,null,null,null,null,null,null,null,null,null,null,null,null,null,null,null,null,null,null,null,null,null,null,null,null,null,null,null,null,null,null,null,null,null,null,null,null,null,null,null,null,null,null,null,null,null,null,null,null,null,null,null,null,null,null,null,null,null,null,null,null,null,null,null,null,null,null,null,null,null,null,null,null,null,null,null,20,null,null,null,null,null,null,null,null,null,null,null,null,null,null,null,null,null,null,null,null,null,null,null,null,null,null,null,null,null,null,null,null,null,null,null,null,null,null,null,null,null,null,null,null,null,null,null,null,null,null,null,null,null,null,null,null,null,null,null,null,null,null,null,null,null,null,null,null,null,null,null,null,null,null,null,null,null,null,null,null,null,null,null,null,null,null,null,null,null,null,null,null,null,null,null,null,null,null,null,null,null,null,null,null,null,null,null,null,null,null,null,null,null,null,null,null,null,null,null,40,null,null,null,null,null,null,null,null,null,null,null,null,null,null,null,null,null,null,null,null,null,null,null,null,null,null,null,null,null,null,null,null,null,null,null,null,null,null,null,null,null,null,null,null,null,null,null,null,null,null,null,null,null,null,null,null,null,null,null,null,null,null,null,null,null,null,null,null,null,null,null,null,null,null,null,null,null,null,null,null,null,null,null,null,null,null,null,null,null,null,null,null,null,null,null,null,null,null,null,null,null,null,null,null,null,null,null,null,null,null,null,null,null,null,null,null,null,null,null,20,null,null,null,null,null,null,null,null,null,null,null,null,null,null,null,null,null,null,null,null,null,null,null,null,null,null,null,null,null,null,null,null,null,null,null,null,null,null,null,null,null,null,null,null,null,null,null,null,null,null,null,null,null,null,null,null,null,null,null,null,null,null,null,null,null,null,null,null,null,null,null,null,null,null,null,null,null,null,null,null,null,null,null,null,null,null,null,null,null,null,null,null,null,null,null,null,null,null,null,null,null,null,null,null,null,null,null,null,null,null,null,null,null,null,null,null,null,null,null,40]
["Colonne1"," ","CLASSE","CLASSEMENT1","A/B","A","Nombre de matchs joués","CLASSEMENT2","Nombre de victoires","CLASSEMENT3","Nombre de points marqués","CLASSEMENT4","Nombre de points encaissés","CLASSEMENT5","Nombre de points thèmes","CLASSEMENT6","MOYENNE CLASSEMENTS","CLASSEMENT8","CLASSEMENT82","Colonne1","Elève","POINTS","PTS THEME","PTS ENCAISSES","PTS ATP","classement","Elève","POINTS","PTS THEME","PTS ENCAISSES","PTS ATP","classement","Elève","POINTS","PTS THEME","PTS ENCAISSES","PTS ATP","classement","Elève","POINTS","PTS THEME","PTS ENCAISSES","PTS ATP","classement","Elève","POINTS","PTS THEME","PTS ENCAISSES","PTS ATP","classement","Elève","POINTS","PTS THEME","PTS ENCAISSES","PTS ATP","classement","Elève","POINTS","PTS THEME","PTS ENCAISSES","PTS ATP","classement","Elève","POINTS","PTS THEME","PTS ENCAISSES","PTS ATP","classement","Elève","POINTS","PTS THEME","PTS ENCAISSES","PTS ATP","classement","Elève","POINTS","PTS THEME","PTS ENCAISSES","PTS ATP","classement","Elève","POINTS","PTS THEME","PTS ENCAISSES","PTS ATP","classement","Elève","POINTS","PTS THEME","PTS ENCAISSES","PTS ATP","classement","Elève","POINTS","PTS THEME","PTS ENCAISSES","PTS ATP","classement","Elève","POINTS","PTS THEME","PTS ENCAISSES","PTS ATP","classement","Elève","POINTS","PTS THEME","PTS ENCAISSES","PTS ATP","classement","Elève","POINTS","PTS THEME","PTS ENCAISSES","PTS ATP","classement","Elève","POINTS","PTS THEME","PTS ENCAISSES","PTS ATP","classement","Elève","POINTS","PTS THEME","PTS ENCAISSES","PTS ATP","classement","Elève","POINTS","PTS THEME","PTS ENCAISSES","PTS ATP","classement","Elève","POINTS","PTS THEME","PTS ENCAISSES","PTS ATP","classement","Elève","POINTS","PTS THEME","PTS ENCAISSES","PTS ATP","classement","Elève","POINTS","PTS THEME","PTS ENCAISSES","PTS ATP","classement","Elève","POINTS","PTS THEME","PTS ENCAISSES","PTS ATP","classement","Elève","POINTS","PTS THEME","PTS ENCAISSES","PTS ATP","classement","Elève","POINTS","PTS THEME","PTS ENCAISSES","PTS ATP","classement","Elève","POINTS","PTS THEME","PTS ENCAISSES","PTS ATP","classement","Elève","POINTS","PTS THEME","PTS ENCAISSES","PTS ATP","classement","Elève","POINTS","PTS THEME","PTS ENCAISSES","PTS ATP","classement","Elève","POINTS","PTS THEME","PTS ENCAISSES","PTS ATP","classement","Elève","POINTS","PTS THEME","PTS ENCAISSES","PTS ATP","classement","Elève","POINTS","PTS THEME","PTS ENCAISSES","PTS ATP","classement","Elève","POINTS","PTS THEME","PTS ENCAISSES","PTS ATP","classement","Elève","POINTS","PTS THEME","PTS ENCAISSES","PTS ATP","classement","Elève","POINTS","PTS THEME","PTS ENCAISSES","PTS ATP","classement","Elève","POINTS","PTS THEME","PTS ENCAISSES","PTS ATP","classement","Elève","POINTS","PTS THEME","PTS ENCAISSES","PTS ATP","classement","Elève","POINTS","PTS THEME","PTS ENCAISSES","PTS ATP","classement","Elève","POINTS","PTS THEME","PTS ENCAISSES","PTS ATP","classement","Elève","POINTS","PTS THEME","PTS ENCAISSES","PTS ATP","classement","Elève","POINTS","PTS THEME","PTS ENCAISSES","PTS ATP","classement","Elève","POINTS","PTS THEME","PTS ENCAISSES","PTS ATP","classement","Elève","POINTS","PTS THEME","PTS ENCAISSES","PTS ATP","classement","Elève","POINTS","PTS THEME","PTS ENCAISSES","PTS ATP","classement","Elève","POINTS","PTS THEME","PTS ENCAISSES","PTS ATP","classement","Elève","POINTS","PTS THEME","PTS ENCAISSES","PTS ATP","classement","Elève","POINTS","PTS THEME","PTS ENCAISSES","PTS ATP","classement","Elève","POINTS","PTS THEME","PTS ENCAISSES","PTS ATP","classement","Elève","POINTS","PTS THEME","PTS ENCAISSES","PTS ATP","classement","Elève","POINTS","PTS THEME","PTS ENCAISSES","PTS ATP","classement","Elève","POINTS","PTS THEME","PTS ENCAISSES","PTS ATP","classement","Elève","POINTS","PTS THEME","PTS ENCAISSES","PTS ATP","classement","Elève","POINTS","PTS THEME","PTS ENCAISSES","PTS ATP","classement","Elève","POINTS","PTS THEME","PTS ENCAISSES","PTS ATP","classement","Elève","POINTS","PTS THEME","PTS ENCAISSES","PTS ATP","classement","Elève","POINTS","PTS THEME","PTS ENCAISSES","PTS ATP","classement","Elève","POINTS","PTS THEME","PTS ENCAISSES","PTS ATP","classement","Elève","POINTS","PTS THEME","PTS ENCAISSES","PTS ATP","classement","Elève","POINTS","PTS THEME","PTS ENCAISSES","PTS ATP","classement","Elève","POINTS","PTS THEME","PTS ENCAISSES","PTS ATP","classement","Elève","POINTS","PTS THEME","PTS ENCAISSES","PTS ATP","classement","Elève","POINTS","PTS THEME","PTS ENCAISSES","PTS ATP","classement","Elève","POINTS","PTS THEME","PTS ENCAISSES","PTS ATP","classement","Elève","POINTS","PTS THEME","PTS ENCAISSES","PTS ATP","classement","Elève","POINTS","PTS THEME","PTS ENCAISSES","PTS ATP","classement","Elève","POINTS","PTS THEME","PTS ENCAISSES","PTS ATP","classement","Elève","POINTS","PTS THEME","PTS ENCAISSES","PTS ATP","classement","Elève","POINTS","PTS THEME","PTS ENCAISSES","PTS ATP","classement","Elève","POINTS","PTS THEME","PTS ENCAISSES","PTS ATP","classement","Elève","POINTS","PTS THEME","PTS ENCAISSES","PTS ATP","classement","Elève","POINTS","PTS THEME","PTS ENCAISSES","PTS ATP","classement","Elève","POINTS","PTS THEME","PTS ENCAISSES","PTS ATP","classement","Elève","POINTS","PTS THEME","PTS ENCAISSES","PTS ATP","classement","Elève","POINTS","PTS THEME","PTS ENCAISSES","PTS ATP","classement","Elève","POINTS","PTS THEME","PTS ENCAISSES","PTS ATP","classement","Elève","POINTS","PTS THEME","PTS ENCAISSES","PTS ATP","classement","Elève","POINTS","PTS THEME","PTS ENCAISSES","PTS ATP","classement","Elève","POINTS","PTS THEME","PTS ENCAISSES","PTS ATP","classement","Elève","POINTS","PTS THEME","PTS ENCAISSES","PTS ATP","classement","Elève","POINTS","PTS THEME","PTS ENCAISSES","PTS ATP","classement","Elève","POINTS","PTS THEME","PTS ENCAISSES","PTS ATP","classement"]
[1,null,"Abdelnour",1,null,null,{"$f":"COUNTIF(MATCHSELEVES!$Z$14:$Z$600,C4)+COUNTIF(MATCHSELEVES!$Z$14:$Z$600,$C4&\"p\")","v":0},{"$f":"RANK(G4,$G$4:$G$43)","v":1},{"$f":"COUNTIF(MATCHSELEVES!$F$14:$H$249,C4)","v":0},{"$f":"RANK(I4,$I$4:$I$43)","v":1},{"$f":"V4+AB4+AH4+AN4+AT4+AZ4+BF4+BL4+BX4+CD4+CJ4+CP4+CV4+DB4+DH4+DN4+DT4+DZ4+EF4+EL4+ER4+EX4+FD4+FJ4+FP4+FV4+GB4+GH4+GN4+GT4+GZ4+HF4+HL4+HR4+HX4+ID4+IJ4+IV4+JB4+JH4+JN4+JT4+JZ4+KF4+KL4+KR4+KX4+LD4+LJ4+LP4+LV4+MB4+MH4+MN4+MT4+MZ4+NF4+NL4+NX4+OD4+OJ4+OP4+OV4+PB4+PH4+PN4+PT4+PZ4+QF4+QL4+QR4+RD4+QX4+RJ4+RP4+RV4+SB4+BR4+IP4+NR4","v":0},{"$f":"RANK(K4,$K$4:$K$43)","v":1},{"$f":"IFERROR(M47/Tableau10[[#This Row],[Nombre de matchs joués]],0)","v":0},{"$f":"IF(Tableau10[[#This Row],[Nombre de points encaissés]]=0,$C$45,SUMPRODUCT((M$4:M$43<M4)*(M$4:M$43<>0))+1)","v":40},{"$f":"W4+AC4+AO4+AU4+BA4+BG4+BM4+BS4+BY4+CE4+CK4+CQ4+CW4+DC4+DI4+DO4+DU4+EA4+EM4+ES4+EY4+FE4+FK4+FQ4+FW4+GI4+GO4+GU4+HA4+HG4+HM4+HS4+HY4+IE4+IK4+IQ4+IW4+JC4+JI4+JO4+JU4+KA4+KG4+KM4+KS4+KY4+LE4+LK4+LQ4+LW4+MC4+MI4+MO4+MU4+NA4+NG4+NM4+NS4+NY4+OE4+OK4+OW4+PC4+OQ4+PO4+PI4+PU4+QA4+QG4+QM4+QS4+QY4+RK4+RQ4+RW4+SC4+AI4+EG4+GC4+RE4","v":0},{"$f":"RANK(O4,$O$4:$O$43)","v":1},{"$f":"(Tableau10[[#This Row],[CLASSEMENT1]]+Tableau10[[#This Row],[CLASSEMENT2]]+Tableau10[[#This Row],[CLASSEMENT3]]+Tableau10[[#This Row],[CLASSEMENT4]]+Tableau10[[#This Row],[CLASSEMENT5]]+Tableau10[[#This Row],[CLASSEMENT6]])/6","v":7.5},{"$f":"RANK(Tableau10[[#This Row],[MOYENNE CLASSEMENTS]],Tableau10[MOYENNE CLASSEMENTS],1)","v":1},null,{"$f":"Tableau10[[#This Row],[CLASSEMENT1]]","v":1},{"$f":"$C4&\"_1\"","v":"Abdelnour_1"},{"$f":"IFERROR(VLOOKUP(U4,MATCHSELEVES!$Y$14:$AE$600,3,FALSE),0)","v":0},{"$f":"IFERROR(VLOOKUP(U4,MATCHSELEVES!$Y$14:$AE$600,4,FALSE),0)","v":0},{"$f":"IFERROR(VLOOKUP(U4,MATCHSELEVES!$Y$14:$AE$600,5,FALSE),0)","v":0},{"$f":"IFERROR(VLOOKUP(U4,MATCHSELEVES!$Y$14:$AF$600,8,FALSE),0)","v":0},{"$f":"IFERROR(VLOOKUP(U4,MATCHSELEVES!$Y$14:$AG$600,9,FALSE),0)","v":0},{"$f":"$C4&\"_2\"","v":"Abdelnour_2"},{"$f":"IFERROR(VLOOKUP(AA4,MATCHSELEVES!$Y$14:$AE$600,3,FALSE),0)","v":0},{"$f":"IFERROR(VLOOKUP(AA4,MATCHSELEVES!$Y$14:$AE$600,4,FALSE),0)","v":0},{"$f":"IFERROR(VLOOKUP(AA4,MATCHSELEVES!$Y$14:$AE$600,5,FALSE),0)","v":0},{"$f":"IFERROR(VLOOKUP(AA4,MATCHSELEVES!$Y$14:$AF$600,8,FALSE),0)","v":0},{"$f":"IFERROR(VLOOKUP(AA4,MATCHSELEVES!$Y$14:$AG$600,9,FALSE),0)","v":0},{"$f":"$C4&\"_3\"","v":"Abdelnour_3"},{"$f":"IFERROR(VLOOKUP(AG4,MATCHSELEVES!$Y$14:$AE$600,3,FALSE),0)","v":0},{"$f":"IFERROR(VLOOKUP(AG4,MATCHSELEVES!$Y$14:$AE$600,4,FALSE),0)","v":0},{"$f":"IFERROR(VLOOKUP(AG4,MATCHSELEVES!$Y$14:$AE$600,5,FALSE),0)","v":0},{"$f":"IFERROR(VLOOKUP(AG4,MATCHSELEVES!$Y$14:$AF$600,8,FALSE),0)","v":0},{"$f":"IFERROR(VLOOKUP(AG4,MATCHSELEVES!$Y$14:$AG$600,9,FALSE),0)","v":0},{"$f":"$C4&\"_4\"","v":"Abdelnour_4"},{"$f":"IFERROR(VLOOKUP(AM4,MATCHSELEVES!$Y$14:$AE$600,3,FALSE),0)","v":0},{"$f":"IFERROR(VLOOKUP(AM4,MATCHSELEVES!$Y$14:$AE$600,4,FALSE),0)","v":0},{"$f":"IFERROR(VLOOKUP(AM4,MATCHSELEVES!$Y$14:$AE$600,5,FALSE),0)","v":0},{"$f":"IFERROR(VLOOKUP(AM4,MATCHSELEVES!$Y$14:$AF$600,8,FALSE),0)","v":0},{"$f":"IFERROR(VLOOKUP(AM4,MATCHSELEVES!$Y$14:$AG$600,9,FALSE),0)","v":0},{"$f":"$C4&\"_5\"","v":"Abdelnour_5"},{"$f":"IFERROR(VLOOKUP(AS4,MATCHSELEVES!$Y$14:$AE$600,3,FALSE),0)","v":0},{"$f":"IFERROR(VLOOKUP(AS4,MATCHSELEVES!$Y$14:$AE$600,4,FALSE),0)","v":0},{"$f":"IFERROR(VLOOKUP(AS4,MATCHSELEVES!$Y$14:$AE$600,5,FALSE),0)","v":0},{"$f":"IFERROR(VLOOKUP(AS4,MATCHSELEVES!$Y$14:$AF$600,8,FALSE),0)","v":0},{"$f":"IFERROR(VLOOKUP(AS4,MATCHSELEVES!$Y$14:$AG$600,9,FALSE),0)","v":0},{"$f":"$C4&\"_6\"","v":"Abdelnour_6"},{"$f":"IFERROR(VLOOKUP(AY4,MATCHSELEVES!$Y$14:$AE$600,3,FALSE),0)","v":0},{"$f":"IFERROR(VLOOKUP(AY4,MATCHSELEVES!$Y$14:$AE$600,4,FALSE),0)","v":0},{"$f":"IFERROR(VLOOKUP(AY4,MATCHSELEVES!$Y$14:$AE$600,5,FALSE),0)","v":0},{"$f":"IFERROR(VLOOKUP(AY4,MATCHSELEVES!$Y$14:$AF$600,8,FALSE),0)","v":0},{"$f":"IFERROR(VLOOKUP(AY4,MATCHSELEVES!$Y$14:$AG$600,9,FALSE),0)","v":0},{"$f":"$C4&\"_7\"","v":"Abdelnour_7"},{"$f":"IFERROR(VLOOKUP(BE4,MATCHSELEVES!$Y$14:$AE$600,3,FALSE),0)","v":0},{"$f":"IFERROR(VLOOKUP(BE4,MATCHSELEVES!$Y$14:$AE$600,4,FALSE),0)","v":0},{"$f":"IFERROR(VLOOKUP(BE4,MATCHSELEVES!$Y$14:$AE$600,5,FALSE),0)","v":0},{"$f":"IFERROR(VLOOKUP(BE4,MATCHSELEVES!$Y$14:$AF$600,8,FALSE),0)","v":0},{"$f":"IFERROR(VLOOKUP(BE4,MATCHSELEVES!$Y$14:$AG$600,9,FALSE),0)","v":0},{"$f":"$C4&\"_8\"","v":"Abdelnour_8"},{"$f":"IFERROR(VLOOKUP(BK4,MATCHSELEVES!$Y$14:$AE$600,3,FALSE),0)","v":0},{"$f":"IFERROR(VLOOKUP(BK4,MATCHSELEVES!$Y$14:$AE$600,4,FALSE),0)","v":0},{"$f":"IFERROR(VLOOKUP(BK4,MATCHSELEVES!$Y$14:$AE$600,5,FALSE),0)","v":0},{"$f":"IFERROR(VLOOKUP(BK4,MATCHSELEVES!$Y$14:$AF$600,8,FALSE),0)","v":0},{"$f":"IFERROR(VLOOKUP(BK4,MATCHSELEVES!$Y$14:$AG$600,9,FALSE),0)","v":0},{"$f":"$C4&\"_9\"","v":"Abdelnour_9"},{"$f":"IFERROR(VLOOKUP(BQ4,MATCHSELEVES!$Y$14:$AE$600,3,FALSE),0)","v":0},{"$f":"IFERROR(VLOOKUP(BQ4,MATCHSELEVES!$Y$14:$AE$600,4,FALSE),0)","v":0},{"$f":"IFERROR(VLOOKUP(BQ4,MATCHSELEVES!$Y$14:$AE$600,5,FALSE),0)","v":0},{"$f":"IFERROR(VLOOKUP(BQ4,MATCHSELEVES!$Y$14:$AF$600,8,FALSE),0)","v":0},{"$f":"IFERROR(VLOOKUP(BQ4,MATCHSELEVES!$Y$14:$AG$600,9,FALSE),0)","v":0},{"$f":"$C4&\"_10\"","v":"Abdelnour_10"},{"$f":"IFERROR(VLOOKUP(BW4,MATCHSELEVES!$Y$14:$AE$600,3,FALSE),0)","v":0},{"$f":"IFERROR(VLOOKUP(BW4,MATCHSELEVES!$Y$14:$AE$600,4,FALSE),0)","v":0},{"$f":"IFERROR(VLOOKUP(BW4,MATCHSELEVES!$Y$14:$AE$600,5,FALSE),0)","v":0},{"$f":"IFERROR(VLOOKUP(BW4,MATCHSELEVES!$Y$14:$AF$600,8,FALSE),0)","v":0},{"$f":"IFERROR(VLOOKUP(BW4,MATCHSELEVES!$Y$14:$AG$600,9,FALSE),0)","v":0},{"$f":"$C4&\"_11\"","v":"Abdelnour_11"},{"$f":"IFERROR(VLOOKUP(CC4,MATCHSELEVES!$Y$14:$AE$600,3,FALSE),0)","v":0},{"$f":"IFERROR(VLOOKUP(CC4,MATCHSELEVES!$Y$14:$AE$600,4,FALSE),0)","v":0},{"$f":"IFERROR(VLOOKUP(CC4,MATCHSELEVES!$Y$14:$AE$600,5,FALSE),0)","v":0},{"$f":"IFERROR(VLOOKUP(CC4,MATCHSELEVES!$Y$14:$AF$600,8,FALSE),0)","v":0},{"$f":"IFERROR(VLOOKUP(CC4,MATCHSELEVES!$Y$14:$AG$600,9,FALSE),0)","v":0},{"$f":"$C4&\"_12\"","v":"Abdelnour_12"},{"$f":"IFERROR(VLOOKUP(CI4,MATCHSELEVES!$Y$14:$AE$600,3,FALSE),0)","v":0},{"$f":"IFERROR(VLOOKUP(CI4,MATCHSELEVES!$Y$14:$AE$600,4,FALSE),0)","v":0},{"$f":"IFERROR(VLOOKUP(CI4,MATCHSELEVES!$Y$14:$AE$600,5,FALSE),0)","v":0},{"$f":"IFERROR(VLOOKUP(CI4,MATCHSELEVES!$Y$14:$AF$600,8,FALSE),0)","v":0},{"$f":"IFERROR(VLOOKUP(CI4,MATCHSELEVES!$Y$14:$AG$600,9,FALSE),0)","v":0},{"$f":"$C4&\"_13\"","v":"Abdelnour_13"},{"$f":"IFERROR(VLOOKUP(CO4,MATCHSELEVES!$Y$14:$AE$600,3,FALSE),0)","v":0},{"$f":"IFERROR(VLOOKUP(CO4,MATCHSELEVES!$Y$14:$AE$600,4,FALSE),0)","v":0},{"$f":"IFERROR(VLOOKUP(CO4,MATCHSELEVES!$Y$14:$AE$600,5,FALSE),0)","v":0},{"$f":"IFERROR(VLOOKUP(CO4,MATCHSELEVES!$Y$14:$AF$600,8,FALSE),0)","v":0},{"$f":"IFERROR(VLOOKUP(CO4,MATCHSELEVES!$Y$14:$AG$600,9,FALSE),0)","v":0},{"$f":"$C4&\"_14\"","v":"Abdelnour_14"},{"$f":"IFERROR(VLOOKUP(CU4,MATCHSELEVES!$Y$14:$AE$600,3,FALSE),0)","v":0},{"$f":"IFERROR(VLOOKUP(CU4,MATCHSELEVES!$Y$14:$AE$600,4,FALSE),0)","v":0},{"$f":"IFERROR(VLOOKUP(CU4,MATCHSELEVES!$Y$14:$AE$600,5,FALSE),0)","v":0},{"$f":"IFERROR(VLOOKUP(CU4,MATCHSELEVES!$Y$14:$AF$600,8,FALSE),0)","v":0},{"$f":"IFERROR(VLOOKUP(CU4,MATCHSELEVES!$Y$14:$AG$600,9,FALSE),0)","v":0},{"$f":"$C4&\"_15\"","v":"Abdelnour_15"},{"$f":"IFERROR(VLOOKUP(DA4,MATCHSELEVES!$Y$14:$AE$600,3,FALSE),0)","v":0},{"$f":"IFERROR(VLOOKUP(DA4,MATCHSELEVES!$Y$14:$AE$600,4,FALSE),0)","v":0},{"$f":"IFERROR(VLOOKUP(DA4,MATCHSELEVES!$Y$14:$AE$600,5,FALSE),0)","v":0},{"$f":"IFERROR(VLOOKUP(DA4,MATCHSELEVES!$Y$14:$AF$600,8,FALSE),0)","v":0},{"$f":"IFERROR(VLOOKUP(DA4,MATCHSELEVES!$Y$14:$AG$600,9,FALSE),0)","v":0},{"$f":"$C4&\"_16\"","v":"Abdelnour_16"},{"$f":"IFERROR(VLOOKUP(DG4,MATCHSELEVES!$Y$14:$AE$600,3,FALSE),0)","v":0},{"$f":"IFERROR(VLOOKUP(DG4,MATCHSELEVES!$Y$14:$AE$600,4,FALSE),0)","v":0},{"$f":"IFERROR(VLOOKUP(DG4,MATCHSELEVES!$Y$14:$AE$600,5,FALSE),0)","v":0},{"$f":"IFERROR(VLOOKUP(DG4,MATCHSELEVES!$Y$14:$AF$600,8,FALSE),0)","v":0},{"$f":"IFERROR(VLOOKUP(DG4,MATCHSELEVES!$Y$14:$AG$600,9,FALSE),0)","v":0},{"$f":"$C4&\"_17\"","v":"Abdelnour_17"},{"$f":"IFERROR(VLOOKUP(DM4,MATCHSELEVES!$Y$14:$AE$600,3,FALSE),0)","v":0},{"$f":"IFERROR(VLOOKUP(DM4,MATCHSELEVES!$Y$14:$AE$600,4,FALSE),0)","v":0},{"$f":"IFERROR(VLOOKUP(DM4,MATCHSELEVES!$Y$14:$AE$600,5,FALSE),0)","v":0},{"$f":"IFERROR(VLOOKUP(DM4,MATCHSELEVES!$Y$14:$AF$600,8,FALSE),0)","v":0},{"$f":"IFERROR(VLOOKUP(DM4,MATCHSELEVES!$Y$14:$AG$600,9,FALSE),0)","v":0},{"$f":"$C4&\"_18\"","v":"Abdelnour_18"},{"$f":"IFERROR(VLOOKUP(DS4,MATCHSELEVES!$Y$14:$AE$600,3,FALSE),0)","v":0},{"$f":"IFERROR(VLOOKUP(DS4,MATCHSELEVES!$Y$14:$AE$600,4,FALSE),0)","v":0},{"$f":"IFERROR(VLOOKUP(DS4,MATCHSELEVES!$Y$14:$AE$600,5,FALSE),0)","v":0},{"$f":"IFERROR(VLOOKUP(DS4,MATCHSELEVES!$Y$14:$AF$600,8,FALSE),0)","v":0},{"$f":"IFERROR(VLOOKUP(DS4,MATCHSELEVES!$Y$14:$AG$600,9,FALSE),0)","v":0},{"$f":"$C4&\"_19\"","v":"Abdelnour_19"},{"$f":"IFERROR(VLOOKUP(DY4,MATCHSELEVES!$Y$14:$AE$600,3,FALSE),0)","v":0},{"$f":"IFERROR(VLOOKUP(DY4,MATCHSELEVES!$Y$14:$AE$600,4,FALSE),0)","v":0},{"$f":"IFERROR(VLOOKUP(DY4,MATCHSELEVES!$Y$14:$AE$600,5,FALSE),0)","v":0},{"$f":"IFERROR(VLOOKUP(DY4,MATCHSELEVES!$Y$14:$AF$600,8,FALSE),0)","v":0},{"$f":"IFERROR(VLOOKUP(DY4,MATCHSELEVES!$Y$14:$AG$600,9,FALSE),0)","v":0},{"$f":"$C4&\"_20\"","v":"Abdelnour_20"},{"$f":"IFERROR(VLOOKUP(EE4,MATCHSELEVES!$Y$14:$AE$600,3,FALSE),0)","v":0},{"$f":"IFERROR(VLOOKUP(EE4,MATCHSELEVES!$Y$14:$AE$600,4,FALSE),0)","v":0},{"$f":"IFERROR(VLOOKUP(EE4,MATCHSELEVES!$Y$14:$AE$600,5,FALSE),0)","v":0},{"$f":"IFERROR(VLOOKUP(EE4,MATCHSELEVES!$Y$14:$AF$600,8,FALSE),0)","v":0},{"$f":"IFERROR(VLOOKUP(EE4,MATCHSELEVES!$Y$14:$AG$600,9,FALSE),0)","v":0},{"$f":"$C4&\"_21\"","v":"Abdelnour_21"},{"$f":"IFERROR(VLOOKUP(EK4,MATCHSELEVES!$Y$14:$AE$600,3,FALSE),0)","v":0},{"$f":"IFERROR(VLOOKUP(EK4,MATCHSELEVES!$Y$14:$AE$600,4,FALSE),0)","v":0},{"$f":"IFERROR(VLOOKUP(EK4,MATCHSELEVES!$Y$14:$AE$600,5,FALSE),0)","v":0},{"$f":"IFERROR(VLOOKUP(EK4,MATCHSELEVES!$Y$14:$AF$600,8,FALSE),0)","v":0},{"$f":"IFERROR(VLOOKUP(EK4,MATCHSELEVES!$Y$14:$AG$600,9,FALSE),0)","v":0},{"$f":"$C4&\"_22\"","v":"Abdelnour_22"},{"$f":"IFERROR(VLOOKUP(EQ4,MATCHSELEVES!$Y$14:$AE$600,3,FALSE),0)","v":0},{"$f":"IFERROR(VLOOKUP(EQ4,MATCHSELEVES!$Y$14:$AE$600,4,FALSE),0)","v":0},{"$f":"IFERROR(VLOOKUP(EQ4,MATCHSELEVES!$Y$14:$AE$600,5,FALSE),0)","v":0},{"$f":"IFERROR(VLOOKUP(EQ4,MATCHSELEVES!$Y$14:$AF$600,8,FALSE),0)","v":0},{"$f":"IFERROR(VLOOKUP(EQ4,MATCHSELEVES!$Y$14:$AG$600,9,FALSE),0)","v":0},{"$f":"$C4&\"_23\"","v":"Abdelnour_23"},{"$f":"IFERROR(VLOOKUP(EW4,MATCHSELEVES!$Y$14:$AE$600,3,FALSE),0)","v":0},{"$f":"IFERROR(VLOOKUP(EW4,MATCHSELEVES!$Y$14:$AE$600,4,FALSE),0)","v":0},{"$f":"IFERROR(VLOOKUP(EW4,MATCHSELEVES!$Y$14:$AE$600,5,FALSE),0)","v":0},{"$f":"IFERROR(VLOOKUP(EW4,MATCHSELEVES!$Y$14:$AF$600,8,FALSE),0)","v":0},{"$f":"IFERROR(VLOOKUP(EW4,MATCHSELEVES!$Y$14:$AG$600,9,FALSE),0)","v":0},{"$f":"$C4&\"_24\"","v":"Abdelnour_24"},{"$f":"IFERROR(VLOOKUP(FC4,MATCHSELEVES!$Y$14:$AE$600,3,FALSE),0)","v":0},{"$f":"IFERROR(VLOOKUP(FC4,MATCHSELEVES!$Y$14:$AE$600,4,FALSE),0)","v":0},{"$f":"IFERROR(VLOOKUP(FC4,MATCHSELEVES!$Y$14:$AE$600,5,FALSE),0)","v":0},{"$f":"IFERROR(VLOOKUP(FC4,MATCHSELEVES!$Y$14:$AF$600,8,FALSE),0)","v":0},{"$f":"IFERROR(VLOOKUP(FC4,MATCHSELEVES!$Y$14:$AG$600,9,FALSE),0)","v":0},{"$f":"$C4&\"_25\"","v":"Abdelnour_25"},{"$f":"IFERROR(VLOOKUP(FI4,MATCHSELEVES!$Y$14:$AE$600,3,FALSE),0)","v":0},{"$f":"IFERROR(VLOOKUP(FI4,MATCHSELEVES!$Y$14:$AE$600,4,FALSE),0)","v":0},{"$f":"IFERROR(VLOOKUP(FI4,MATCHSELEVES!$Y$14:$AE$600,5,FALSE),0)","v":0},{"$f":"IFERROR(VLOOKUP(FI4,MATCHSELEVES!$Y$14:$AF$600,8,FALSE),0)","v":0},{"$f":"IFERROR(VLOOKUP(FI4,MATCHSELEVES!$Y$14:$AG$600,9,FALSE),0)","v":0},{"$f":"$C4&\"_26\"","v":"Abdelnour_26"},{"$f":"IFERROR(VLOOKUP(FO4,MATCHSELEVES!$Y$14:$AE$600,3,FALSE),0)","v":0},{"$f":"IFERROR(VLOOKUP(FO4,MATCHSELEVES!$Y$14:$AE$600,4,FALSE),0)","v":0},{"$f":"IFERROR(VLOOKUP(FO4,MATCHSELEVES!$Y$14:$AE$600,5,FALSE),0)","v":0},{"$f":"IFERROR(VLOOKUP(FO4,MATCHSELEVES!$Y$14:$AF$600,8,FALSE),0)","v":0},{"$f":"IFERROR(VLOOKUP(FO4,MATCHSELEVES!$Y$14:$AG$600,9,FALSE),0)","v":0},{"$f":"$C4&\"_27\"","v":"Abdelnour_27"},{"$f":"IFERROR(VLOOKUP(FU4,MATCHSELEVES!$Y$14:$AE$600,3,FALSE),0)","v":0},{"$f":"IFERROR(VLOOKUP(FU4,MATCHSELEVES!$Y$14:$AE$600,4,FALSE),0)","v":0},{"$f":"IFERROR(VLOOKUP(FU4,MATCHSELEVES!$Y$14:$AE$600,5,FALSE),0)","v":0},{"$f":"IFERROR(VLOOKUP(FU4,MATCHSELEVES!$Y$14:$AF$600,8,FALSE),0)","v":0},{"$f":"IFERROR(VLOOKUP(FU4,MATCHSELEVES!$Y$14:$AG$600,9,FALSE),0)","v":0},{"$f":"$C4&\"_28\"","v":"Abdelnour_28"},{"$f":"IFERROR(VLOOKUP(GA4,MATCHSELEVES!$Y$14:$AE$600,3,FALSE),0)","v":0},{"$f":"IFERROR(VLOOKUP(GA4,MATCHSELEVES!$Y$14:$AE$600,4,FALSE),0)","v":0},{"$f":"IFERROR(VLOOKUP(GA4,MATCHSELEVES!$Y$14:$AE$600,5,FALSE),0)","v":0},{"$f":"IFERROR(VLOOKUP(GA4,MATCHSELEVES!$Y$14:$AF$600,8,FALSE),0)","v":0},{"$f":"IFERROR(VLOOKUP(GA4,MATCHSELEVES!$Y$14:$AG$600,9,FALSE),0)","v":0},{"$f":"$C4&\"_29\"","v":"Abdelnour_29"},{"$f":"IFERROR(VLOOKUP(GG4,MATCHSELEVES!$Y$14:$AE$600,3,FALSE),0)","v":0},{"$f":"IFERROR(VLOOKUP(GG4,MATCHSELEVES!$Y$14:$AE$600,4,FALSE),0)","v":0},{"$f":"IFERROR(VLOOKUP(GG4,MATCHSELEVES!$Y$14:$AE$600,5,FALSE),0)","v":0},{"$f":"IFERROR(VLOOKUP(GG4,MATCHSELEVES!$Y$14:$AF$600,8,FALSE),0)","v":0},{"$f":"IFERROR(VLOOKUP(GG4,MATCHSELEVES!$Y$14:$AG$600,9,FALSE),0)","v":0},{"$f":"$C4&\"_30\"","v":"Abdelnour_30"},{"$f":"IFERROR(VLOOKUP(GM4,MATCHSELEVES!$Y$14:$AE$600,3,FALSE),0)","v":0},{"$f":"IFERROR(VLOOKUP(GM4,MATCHSELEVES!$Y$14:$AE$600,4,FALSE),0)","v":0},{"$f":"IFERROR(VLOOKUP(GM4,MATCHSELEVES!$Y$14:$AE$600,5,FALSE),0)","v":0},{"$f":"IFERROR(VLOOKUP(GM4,MATCHSELEVES!$Y$14:$AF$600,8,FALSE),0)","v":0},{"$f":"IFERROR(VLOOKUP(GM4,MATCHSELEVES!$Y$14:$AG$600,9,FALSE),0)","v":0},{"$f":"$C4&\"_31\"","v":"Abdelnour_31"},{"$f":"IFERROR(VLOOKUP(GS4,MATCHSELEVES!$Y$14:$AE$600,3,FALSE),0)","v":0},{"$f":"IFERROR(VLOOKUP(GS4,MATCHSELEVES!$Y$14:$AE$600,4,FALSE),0)","v":0},{"$f":"IFERROR(VLOOKUP(GS4,MATCHSELEVES!$Y$14:$AE$600,5,FALSE),0)","v":0},{"$f":"IFERROR(VLOOKUP(GS4,MATCHSELEVES!$Y$14:$AF$600,8,FALSE),0)","v":0},{"$f":"IFERROR(VLOOKUP(GS4,MATCHSELEVES!$Y$14:$AG$600,9,FALSE),0)","v":0},{"$f":"$C4&\"_32\"","v":"Abdelnour_32"},{"$f":"IFERROR(VLOOKUP(GY4,MATCHSELEVES!$Y$14:$AE$600,3,FALSE),0)","v":0},{"$f":"IFERROR(VLOOKUP(GY4,MATCHSELEVES!$Y$14:$AE$600,4,FALSE),0)","v":0},{"$f":"IFERROR(VLOOKUP(GY4,MATCHSELEVES!$Y$14:$AE$600,5,FALSE),0)","v":0},{"$f":"IFERROR(VLOOKUP(GY4,MATCHSELEVES!$Y$14:$AF$600,8,FALSE),0)","v":0},{"$f":"IFERROR(VLOOKUP(GY4,MATCHSELEVES!$Y$14:$AG$600,9,FALSE),0)","v":0},{"$f":"$C4&\"_33\"","v":"Abdelnour_33"},{"$f":"IFERROR(VLOOKUP(HE4,MATCHSELEVES!$Y$14:$AE$600,3,FALSE),0)","v":0},{"$f":"IFERROR(VLOOKUP(HE4,MATCHSELEVES!$Y$14:$AE$600,4,FALSE),0)","v":0},{"$f":"IFERROR(VLOOKUP(HE4,MATCHSELEVES!$Y$14:$AE$600,5,FALSE),0)","v":0},{"$f":"IFERROR(VLOOKUP(HE4,MATCHSELEVES!$Y$14:$AF$600,8,FALSE),0)","v":0},{"$f":"IFERROR(VLOOKUP(HE4,MATCHSELEVES!$Y$14:$AG$600,9,FALSE),0)","v":0},{"$f":"$C4&\"_34\"","v":"Abdelnour_34"},{"$f":"IFERROR(VLOOKUP(HK4,MATCHSELEVES!$Y$14:$AE$600,3,FALSE),0)","v":0},{"$f":"IFERROR(VLOOKUP(HK4,MATCHSELEVES!$Y$14:$AE$600,4,FALSE),0)","v":0},{"$f":"IFERROR(VLOOKUP(HK4,MATCHSELEVES!$Y$14:$AE$600,5,FALSE),0)","v":0},{"$f":"IFERROR(VLOOKUP(HK4,MATCHSELEVES!$Y$14:$AF$600,8,FALSE),0)","v":0},{"$f":"IFERROR(VLOOKUP(HK4,MATCHSELEVES!$Y$14:$AG$600,9,FALSE),0)","v":0},{"$f":"$C4&\"_35\"","v":"Abdelnour_35"},{"$f":"IFERROR(VLOOKUP(HQ4,MATCHSELEVES!$Y$14:$AE$600,3,FALSE),0)","v":0},{"$f":"IFERROR(VLOOKUP(HQ4,MATCHSELEVES!$Y$14:$AE$600,4,FALSE),0)","v":0},{"$f":"IFERROR(VLOOKUP(HQ4,MATCHSELEVES!$Y$14:$AE$600,5,FALSE),0)","v":0},{"$f":"IFERROR(VLOOKUP(HQ4,MATCHSELEVES!$Y$14:$AF$600,8,FALSE),0)","v":0},{"$f":"IFERROR(VLOOKUP(HQ4,MATCHSELEVES!$Y$14:$AG$600,9,FALSE),0)","v":0},{"$f":"$C4&\"_36\"","v":"Abdelnour_36"},{"$f":"IFERROR(VLOOKUP(HW4,MATCHSELEVES!$Y$14:$AE$600,3,FALSE),0)","v":0},{"$f":"IFERROR(VLOOKUP(HW4,MATCHSELEVES!$Y$14:$AE$600,4,FALSE),0)","v":0},{"$f":"IFERROR(VLOOKUP(HW4,MATCHSELEVES!$Y$14:$AE$600,5,FALSE),0)","v":0},{"$f":"IFERROR(VLOOKUP(HW4,MATCHSELEVES!$Y$14:$AF$600,8,FALSE),0)","v":0},{"$f":"IFERROR(VLOOKUP(HW4,MATCHSELEVES!$Y$14:$AG$600,9,FALSE),0)","v":0},{"$f":"$C4&\"_37\"","v":"Abdelnour_37"},{"$f":"IFERROR(VLOOKUP(IC4,MATCHSELEVES!$Y$14:$AE$600,3,FALSE),0)","v":0},{"$f":"IFERROR(VLOOKUP(IC4,MATCHSELEVES!$Y$14:$AE$600,4,FALSE),0)","v":0},{"$f":"IFERROR(VLOOKUP(IC4,MATCHSELEVES!$Y$14:$AE$600,5,FALSE),0)","v":0},{"$f":"IFERROR(VLOOKUP(IC4,MATCHSELEVES!$Y$14:$AF$600,8,FALSE),0)","v":0},{"$f":"IFERROR(VLOOKUP(IC4,MATCHSELEVES!$Y$14:$AG$600,9,FALSE),0)","v":0},{"$f":"$C4&\"_38\"","v":"Abdelnour_38"},{"$f":"IFERROR(VLOOKUP(II4,MATCHSELEVES!$Y$14:$AE$600,3,FALSE),0)","v":0},{"$f":"IFERROR(VLOOKUP(II4,MATCHSELEVES!$Y$14:$AE$600,4,FALSE),0)","v":0},{"$f":"IFERROR(VLOOKUP(II4,MATCHSELEVES!$Y$14:$AE$600,5,FALSE),0)","v":0},{"$f":"IFERROR(VLOOKUP(II4,MATCHSELEVES!$Y$14:$AF$600,8,FALSE),0)","v":0},{"$f":"IFERROR(VLOOKUP(II4,MATCHSELEVES!$Y$14:$AG$600,9,FALSE),0)","v":0},{"$f":"$C4&\"_39\"","v":"Abdelnour_39"},{"$f":"IFERROR(VLOOKUP(IO4,MATCHSELEVES!$Y$14:$AE$600,3,FALSE),0)","v":0},{"$f":"IFERROR(VLOOKUP(IO4,MATCHSELEVES!$Y$14:$AE$600,4,FALSE),0)","v":0},{"$f":"IFERROR(VLOOKUP(IO4,MATCHSELEVES!$Y$14:$AE$600,5,FALSE),0)","v":0},{"$f":"IFERROR(VLOOKUP(IO4,MATCHSELEVES!$Y$14:$AF$600,8,FALSE),0)","v":0},{"$f":"IFERROR(VLOOKUP(IO4,MATCHSELEVES!$Y$14:$AG$600,9,FALSE),0)","v":0},{"$f":"$C4&\"_40\"","v":"Abdelnour_40"},{"$f":"IFERROR(VLOOKUP(IU4,MATCHSELEVES!$Y$14:$AE$600,3,FALSE),0)","v":0},{"$f":"IFERROR(VLOOKUP(IU4,MATCHSELEVES!$Y$14:$AE$600,4,FALSE),0)","v":0},{"$f":"IFERROR(VLOOKUP(IU4,MATCHSELEVES!$Y$14:$AE$600,5,FALSE),0)","v":0},{"$f":"IFERROR(VLOOKUP(IU4,MATCHSELEVES!$Y$14:$AF$600,8,FALSE),0)","v":0},{"$f":"IFERROR(VLOOKUP(IU4,MATCHSELEVES!$Y$14:$AG$600,9,FALSE),0)","v":0},{"$f":"$C4&\"p_1\"","v":"Abdelnourp_1"},{"$f":"IFERROR(VLOOKUP(JA4,MATCHSELEVES!$Y$14:$AE$600,3,FALSE),0)","v":0},{"$f":"IFERROR(VLOOKUP(JA4,MATCHSELEVES!$Y$14:$AE$600,4,FALSE),0)","v":0},{"$f":"IFERROR(VLOOKUP(JA4,MATCHSELEVES!$Y$14:$AE$600,5,FALSE),0)","v":0},{"$f":"IFERROR(VLOOKUP(JA4,MATCHSELEVES!$Y$14:$AF$600,8,FALSE),0)","v":0},{"$f":"IFERROR(VLOOKUP(JA4,MATCHSELEVES!$Y$14:$AG$600,9,FALSE),0)","v":0},{"$f":"$C4&\"p_2\"","v":"Abdelnourp_2"},{"$f":"IFERROR(VLOOKUP(JG4,MATCHSELEVES!$Y$14:$AE$600,3,FALSE),0)","v":0},{"$f":"IFERROR(VLOOKUP(JG4,MATCHSELEVES!$Y$14:$AE$600,4,FALSE),0)","v":0},{"$f":"IFERROR(VLOOKUP(JG4,MATCHSELEVES!$Y$14:$AE$600,5,FALSE),0)","v":0},{"$f":"IFERROR(VLOOKUP(JG4,MATCHSELEVES!$Y$14:$AF$600,8,FALSE),0)","v":0},{"$f":"IFERROR(VLOOKUP(JG4,MATCHSELEVES!$Y$14:$AG$600,9,FALSE),0)","v":0},{"$f":"$C4&\"p_3\"","v":"Abdelnourp_3"},{"$f":"IFERROR(VLOOKUP(JM4,MATCHSELEVES!$Y$14:$AE$600,3,FALSE),0)","v":0},{"$f":"IFERROR(VLOOKUP(JM4,MATCHSELEVES!$Y$14:$AE$600,4,FALSE),0)","v":0},{"$f":"IFERROR(VLOOKUP(JM4,MATCHSELEVES!$Y$14:$AE$600,5,FALSE),0)","v":0},{"$f":"IFERROR(VLOOKUP(JM4,MATCHSELEVES!$Y$14:$AF$600,8,FALSE),0)","v":0},{"$f":"IFERROR(VLOOKUP(JM4,MATCHSELEVES!$Y$14:$AG$600,9,FALSE),0)","v":0},{"$f":"$C4&\"p_4\"","v":"Abdelnourp_4"},{"$f":"IFERROR(VLOOKUP(JS4,MATCHSELEVES!$Y$14:$AE$600,3,FALSE),0)","v":0},{"$f":"IFERROR(VLOOKUP(JS4,MATCHSELEVES!$Y$14:$AE$600,4,FALSE),0)","v":0},{"$f":"IFERROR(VLOOKUP(JS4,MATCHSELEVES!$Y$14:$AE$600,5,FALSE),0)","v":0},{"$f":"IFERROR(VLOOKUP(JS4,MATCHSELEVES!$Y$14:$AF$600,8,FALSE),0)","v":0},{"$f":"IFERROR(VLOOKUP(JS4,MATCHSELEVES!$Y$14:$AG$600,9,FALSE),0)","v":0},{"$f":"$C4&\"p_5\"","v":"Abdelnourp_5"},{"$f":"IFERROR(VLOOKUP(JY4,MATCHSELEVES!$Y$14:$AE$600,3,FALSE),0)","v":0},{"$f":"IFERROR(VLOOKUP(JY4,MATCHSELEVES!$Y$14:$AE$600,4,FALSE),0)","v":0},{"$f":"IFERROR(VLOOKUP(JY4,MATCHSELEVES!$Y$14:$AE$600,5,FALSE),0)","v":0},{"$f":"IFERROR(VLOOKUP(JY4,MATCHSELEVES!$Y$14:$AF$600,8,FALSE),0)","v":0},{"$f":"IFERROR(VLOOKUP(JY4,MATCHSELEVES!$Y$14:$AG$600,9,FALSE),0)","v":0},{"$f":"$C4&\"p_6\"","v":"Abdelnourp_6"},{"$f":"IFERROR(VLOOKUP(KE4,MATCHSELEVES!$Y$14:$AE$600,3,FALSE),0)","v":0},{"$f":"IFERROR(VLOOKUP(KE4,MATCHSELEVES!$Y$14:$AE$600,4,FALSE),0)","v":0},{"$f":"IFERROR(VLOOKUP(KE4,MATCHSELEVES!$Y$14:$AE$600,5,FALSE),0)","v":0},{"$f":"IFERROR(VLOOKUP(KE4,MATCHSELEVES!$Y$14:$AF$600,8,FALSE),0)","v":0},{"$f":"IFERROR(VLOOKUP(KE4,MATCHSELEVES!$Y$14:$AG$600,9,FALSE),0)","v":0},{"$f":"$C4&\"p_7\"","v":"Abdelnourp_7"},{"$f":"IFERROR(VLOOKUP(KK4,MATCHSELEVES!$Y$14:$AE$600,3,FALSE),0)","v":0},{"$f":"IFERROR(VLOOKUP(KK4,MATCHSELEVES!$Y$14:$AE$600,4,FALSE),0)","v":0},{"$f":"IFERROR(VLOOKUP(KK4,MATCHSELEVES!$Y$14:$AE$600,5,FALSE),0)","v":0},{"$f":"IFERROR(VLOOKUP(KK4,MATCHSELEVES!$Y$14:$AF$600,8,FALSE),0)","v":0},{"$f":"IFERROR(VLOOKUP(KK4,MATCHSELEVES!$Y$14:$AG$600,9,FALSE),0)","v":0},{"$f":"$C4&\"p_8\"","v":"Abdelnourp_8"},{"$f":"IFERROR(VLOOKUP(KQ4,MATCHSELEVES!$Y$14:$AE$600,3,FALSE),0)","v":0},{"$f":"IFERROR(VLOOKUP(KQ4,MATCHSELEVES!$Y$14:$AE$600,4,FALSE),0)","v":0},{"$f":"IFERROR(VLOOKUP(KQ4,MATCHSELEVES!$Y$14:$AE$600,5,FALSE),0)","v":0},{"$f":"IFERROR(VLOOKUP(KQ4,MATCHSELEVES!$Y$14:$AF$600,8,FALSE),0)","v":0},{"$f":"IFERROR(VLOOKUP(KQ4,MATCHSELEVES!$Y$14:$AG$600,9,FALSE),0)","v":0},{"$f":"$C4&\"p_9\"","v":"Abdelnourp_9"},{"$f":"IFERROR(VLOOKUP(KW4,MATCHSELEVES!$Y$14:$AE$600,3,FALSE),0)","v":0},{"$f":"IFERROR(VLOOKUP(KW4,MATCHSELEVES!$Y$14:$AE$600,4,FALSE),0)","v":0},{"$f":"IFERROR(VLOOKUP(KW4,MATCHSELEVES!$Y$14:$AE$600,5,FALSE),0)","v":0},{"$f":"IFERROR(VLOOKUP(KW4,MATCHSELEVES!$Y$14:$AF$600,8,FALSE),0)","v":0},{"$f":"IFERROR(VLOOKUP(KW4,MATCHSELEVES!$Y$14:$AG$600,9,FALSE),0)","v":0},{"$f":"$C4&\"p_10\"","v":"Abdelnourp_10"},{"$f":"IFERROR(VLOOKUP(LC4,MATCHSELEVES!$Y$14:$AE$600,3,FALSE),0)","v":0},{"$f":"IFERROR(VLOOKUP(LC4,MATCHSELEVES!$Y$14:$AE$600,4,FALSE),0)","v":0},{"$f":"IFERROR(VLOOKUP(LC4,MATCHSELEVES!$Y$14:$AE$600,5,FALSE),0)","v":0},{"$f":"IFERROR(VLOOKUP(LC4,MATCHSELEVES!$Y$14:$AF$600,8,FALSE),0)","v":0},{"$f":"IFERROR(VLOOKUP(LC4,MATCHSELEVES!$Y$14:$AG$600,9,FALSE),0)","v":0},{"$f":"$C4&\"p_11\"","v":"Abdelnourp_11"},{"$f":"IFERROR(VLOOKUP(LI4,MATCHSELEVES!$Y$14:$AE$600,3,FALSE),0)","v":0},{"$f":"IFERROR(VLOOKUP(LI4,MATCHSELEVES!$Y$14:$AE$600,4,FALSE),0)","v":0},{"$f":"IFERROR(VLOOKUP(LI4,MATCHSELEVES!$Y$14:$AE$600,5,FALSE),0)","v":0},{"$f":"IFERROR(VLOOKUP(LI4,MATCHSELEVES!$Y$14:$AF$600,8,FALSE),0)","v":0},{"$f":"IFERROR(VLOOKUP(LI4,MATCHSELEVES!$Y$14:$AG$600,9,FALSE),0)","v":0},{"$f":"$C4&\"p_12\"","v":"Abdelnourp_12"},{"$f":"IFERROR(VLOOKUP(LO4,MATCHSELEVES!$Y$14:$AE$600,3,FALSE),0)","v":0},{"$f":"IFERROR(VLOOKUP(LO4,MATCHSELEVES!$Y$14:$AE$600,4,FALSE),0)","v":0},{"$f":"IFERROR(VLOOKUP(LO4,MATCHSELEVES!$Y$14:$AE$600,5,FALSE),0)","v":0},{"$f":"IFERROR(VLOOKUP(LO4,MATCHSELEVES!$Y$14:$AF$600,8,FALSE),0)","v":0},{"$f":"IFERROR(VLOOKUP(LO4,MATCHSELEVES!$Y$14:$AG$600,9,FALSE),0)","v":0},{"$f":"$C4&\"p_13\"","v":"Abdelnourp_13"},{"$f":"IFERROR(VLOOKUP(LU4,MATCHSELEVES!$Y$14:$AE$600,3,FALSE),0)","v":0},{"$f":"IFERROR(VLOOKUP(LU4,MATCHSELEVES!$Y$14:$AE$600,4,FALSE),0)","v":0},{"$f":"IFERROR(VLOOKUP(LU4,MATCHSELEVES!$Y$14:$AE$600,5,FALSE),0)","v":0},{"$f":"IFERROR(VLOOKUP(LU4,MATCHSELEVES!$Y$14:$AF$600,8,FALSE),0)","v":0},{"$f":"IFERROR(VLOOKUP(LU4,MATCHSELEVES!$Y$14:$AG$600,9,FALSE),0)","v":0},{"$f":"$C4&\"p_14\"","v":"Abdelnourp_14"},{"$f":"IFERROR(VLOOKUP(MA4,MATCHSELEVES!$Y$14:$AE$600,3,FALSE),0)","v":0},{"$f":"IFERROR(VLOOKUP(MA4,MATCHSELEVES!$Y$14:$AE$600,4,FALSE),0)","v":0},{"$f":"IFERROR(VLOOKUP(MA4,MATCHSELEVES!$Y$14:$AE$600,5,FALSE),0)","v":0},{"$f":"IFERROR(VLOOKUP(MA4,MATCHSELEVES!$Y$14:$AF$600,8,FALSE),0)","v":0},{"$f":"IFERROR(VLOOKUP(MA4,MATCHSELEVES!$Y$14:$AG$600,9,FALSE),0)","v":0},{"$f":"$C4&\"p_15\"","v":"Abdelnourp_15"},{"$f":"IFERROR(VLOOKUP(MG4,MATCHSELEVES!$Y$14:$AE$600,3,FALSE),0)","v":0},{"$f":"IFERROR(VLOOKUP(MG4,MATCHSELEVES!$Y$14:$AE$600,4,FALSE),0)","v":0},{"$f":"IFERROR(VLOOKUP(MG4,MATCHSELEVES!$Y$14:$AE$600,5,FALSE),0)","v":0},{"$f":"IFERROR(VLOOKUP(MG4,MATCHSELEVES!$Y$14:$AF$600,8,FALSE),0)","v":0},{"$f":"IFERROR(VLOOKUP(MG4,MATCHSELEVES!$Y$14:$AG$600,9,FALSE),0)","v":0},{"$f":"$C4&\"p_16\"","v":"Abdelnourp_16"},{"$f":"IFERROR(VLOOKUP(MM4,MATCHSELEVES!$Y$14:$AE$600,3,FALSE),0)","v":0},{"$f":"IFERROR(VLOOKUP(MM4,MATCHSELEVES!$Y$14:$AE$600,4,FALSE),0)","v":0},{"$f":"IFERROR(VLOOKUP(MM4,MATCHSELEVES!$Y$14:$AE$600,5,FALSE),0)","v":0},{"$f":"IFERROR(VLOOKUP(MM4,MATCHSELEVES!$Y$14:$AF$600,8,FALSE),0)","v":0},{"$f":"IFERROR(VLOOKUP(MM4,MATCHSELEVES!$Y$14:$AG$600,9,FALSE),0)","v":0},{"$f":"$C4&\"p_17\"","v":"Abdelnourp_17"},{"$f":"IFERROR(VLOOKUP(MS4,MATCHSELEVES!$Y$14:$AE$600,3,FALSE),0)","v":0},{"$f":"IFERROR(VLOOKUP(MS4,MATCHSELEVES!$Y$14:$AE$600,4,FALSE),0)","v":0},{"$f":"IFERROR(VLOOKUP(MS4,MATCHSELEVES!$Y$14:$AE$600,5,FALSE),0)","v":0},{"$f":"IFERROR(VLOOKUP(MS4,MATCHSELEVES!$Y$14:$AF$600,8,FALSE),0)","v":0},{"$f":"IFERROR(VLOOKUP(MS4,MATCHSELEVES!$Y$14:$AG$600,9,FALSE),0)","v":0},{"$f":"$C4&\"p_18\"","v":"Abdelnourp_18"},{"$f":"IFERROR(VLOOKUP(MY4,MATCHSELEVES!$Y$14:$AE$600,3,FALSE),0)","v":0},{"$f":"IFERROR(VLOOKUP(MY4,MATCHSELEVES!$Y$14:$AE$600,4,FALSE),0)","v":0},{"$f":"IFERROR(VLOOKUP(MY4,MATCHSELEVES!$Y$14:$AE$600,5,FALSE),0)","v":0},{"$f":"IFERROR(VLOOKUP(MY4,MATCHSELEVES!$Y$14:$AF$600,8,FALSE),0)","v":0},{"$f":"IFERROR(VLOOKUP(MY4,MATCHSELEVES!$Y$14:$AG$600,9,FALSE),0)","v":0},{"$f":"$C4&\"p_19\"","v":"Abdelnourp_19"},{"$f":"IFERROR(VLOOKUP(NE4,MATCHSELEVES!$Y$14:$AE$600,3,FALSE),0)","v":0},{"$f":"IFERROR(VLOOKUP(NE4,MATCHSELEVES!$Y$14:$AE$600,4,FALSE),0)","v":0},{"$f":"IFERROR(VLOOKUP(NE4,MATCHSELEVES!$Y$14:$AE$600,5,FALSE),0)","v":0},{"$f":"IFERROR(VLOOKUP(NE4,MATCHSELEVES!$Y$14:$AF$600,8,FALSE),0)","v":0},{"$f":"IFERROR(VLOOKUP(NE4,MATCHSELEVES!$Y$14:$AG$600,9,FALSE),0)","v":0},{"$f":"$C4&\"p_20\"","v":"Abdelnourp_20"},{"$f":"IFERROR(VLOOKUP(NK4,MATCHSELEVES!$Y$14:$AE$600,3,FALSE),0)","v":0},{"$f":"IFERROR(VLOOKUP(NK4,MATCHSELEVES!$Y$14:$AE$600,4,FALSE),0)","v":0},{"$f":"IFERROR(VLOOKUP(NK4,MATCHSELEVES!$Y$14:$AE$600,5,FALSE),0)","v":0},{"$f":"IFERROR(VLOOKUP(NK4,MATCHSELEVES!$Y$14:$AF$600,8,FALSE),0)","v":0},{"$f":"IFERROR(VLOOKUP(NK4,MATCHSELEVES!$Y$14:$AG$600,9,FALSE),0)","v":0},{"$f":"$C4&\"p_21\"","v":"Abdelnourp_21"},{"$f":"IFERROR(VLOOKUP(NQ4,MATCHSELEVES!$Y$14:$AE$600,3,FALSE),0)","v":0},{"$f":"IFERROR(VLOOKUP(NQ4,MATCHSELEVES!$Y$14:$AE$600,4,FALSE),0)","v":0},{"$f":"IFERROR(VLOOKUP(NQ4,MATCHSELEVES!$Y$14:$AE$600,5,FALSE),0)","v":0},{"$f":"IFERROR(VLOOKUP(NQ4,MATCHSELEVES!$Y$14:$AF$600,8,FALSE),0)","v":0},{"$f":"IFERROR(VLOOKUP(NQ4,MATCHSELEVES!$Y$14:$AG$600,9,FALSE),0)","v":0},{"$f":"$C4&\"p_22\"","v":"Abdelnourp_22"},{"$f":"IFERROR(VLOOKUP(NW4,MATCHSELEVES!$Y$14:$AE$600,3,FALSE),0)","v":0},{"$f":"IFERROR(VLOOKUP(NW4,MATCHSELEVES!$Y$14:$AE$600,4,FALSE),0)","v":0},{"$f":"IFERROR(VLOOKUP(NW4,MATCHSELEVES!$Y$14:$AE$600,5,FALSE),0)","v":0},{"$f":"IFERROR(VLOOKUP(NW4,MATCHSELEVES!$Y$14:$AF$600,8,FALSE),0)","v":0},{"$f":"IFERROR(VLOOKUP(NW4,MATCHSELEVES!$Y$14:$AG$600,9,FALSE),0)","v":0},{"$f":"$C4&\"p_23\"","v":"Abdelnourp_23"},{"$f":"IFERROR(VLOOKUP(OC4,MATCHSELEVES!$Y$14:$AE$600,3,FALSE),0)","v":0},{"$f":"IFERROR(VLOOKUP(OC4,MATCHSELEVES!$Y$14:$AE$600,4,FALSE),0)","v":0},{"$f":"IFERROR(VLOOKUP(OC4,MATCHSELEVES!$Y$14:$AE$600,5,FALSE),0)","v":0},{"$f":"IFERROR(VLOOKUP(OC4,MATCHSELEVES!$Y$14:$AF$600,8,FALSE),0)","v":0},{"$f":"IFERROR(VLOOKUP(OC4,MATCHSELEVES!$Y$14:$AG$600,9,FALSE),0)","v":0},{"$f":"$C4&\"p_24\"","v":"Abdelnourp_24"},{"$f":"IFERROR(VLOOKUP(OI4,MATCHSELEVES!$Y$14:$AE$600,3,FALSE),0)","v":0},{"$f":"IFERROR(VLOOKUP(OI4,MATCHSELEVES!$Y$14:$AE$600,4,FALSE),0)","v":0},{"$f":"IFERROR(VLOOKUP(OI4,MATCHSELEVES!$Y$14:$AE$600,5,FALSE),0)","v":0},{"$f":"IFERROR(VLOOKUP(OI4,MATCHSELEVES!$Y$14:$AF$600,8,FALSE),0)","v":0},{"$f":"IFERROR(VLOOKUP(OI4,MATCHSELEVES!$Y$14:$AG$600,9,FALSE),0)","v":0},{"$f":"$C4&\"p_25\"","v":"Abdelnourp_25"},{"$f":"IFERROR(VLOOKUP(OO4,MATCHSELEVES!$Y$14:$AE$600,3,FALSE),0)","v":0},{"$f":"IFERROR(VLOOKUP(OO4,MATCHSELEVES!$Y$14:$AE$600,4,FALSE),0)","v":0},{"$f":"IFERROR(VLOOKUP(OO4,MATCHSELEVES!$Y$14:$AE$600,5,FALSE),0)","v":0},{"$f":"IFERROR(VLOOKUP(OO4,MATCHSELEVES!$Y$14:$AF$600,8,FALSE),0)","v":0},{"$f":"IFERROR(VLOOKUP(OO4,MATCHSELEVES!$Y$14:$AG$600,9,FALSE),0)","v":0},{"$f":"$C4&\"p_26\"","v":"Abdelnourp_26"},{"$f":"IFERROR(VLOOKUP(OU4,MATCHSELEVES!$Y$14:$AE$600,3,FALSE),0)","v":0},{"$f":"IFERROR(VLOOKUP(OU4,MATCHSELEVES!$Y$14:$AE$600,4,FALSE),0)","v":0},{"$f":"IFERROR(VLOOKUP(OU4,MATCHSELEVES!$Y$14:$AE$600,5,FALSE),0)","v":0},{"$f":"IFERROR(VLOOKUP(OU4,MATCHSELEVES!$Y$14:$AF$600,8,FALSE),0)","v":0},{"$f":"IFERROR(VLOOKUP(OU4,MATCHSELEVES!$Y$14:$AG$600,9,FALSE),0)","v":0},{"$f":"$C4&\"p_27\"","v":"Abdelnourp_27"},{"$f":"IFERROR(VLOOKUP(PA4,MATCHSELEVES!$Y$14:$AE$600,3,FALSE),0)","v":0},{"$f":"IFERROR(VLOOKUP(PA4,MATCHSELEVES!$Y$14:$AE$600,4,FALSE),0)","v":0},{"$f":"IFERROR(VLOOKUP(PA4,MATCHSELEVES!$Y$14:$AE$600,5,FALSE),0)","v":0},{"$f":"IFERROR(VLOOKUP(PA4,MATCHSELEVES!$Y$14:$AF$600,8,FALSE),0)","v":0},{"$f":"IFERROR(VLOOKUP(PA4,MATCHSELEVES!$Y$14:$AG$600,9,FALSE),0)","v":0},{"$f":"$C4&\"p_28\"","v":"Abdelnourp_28"},{"$f":"IFERROR(VLOOKUP(PG4,MATCHSELEVES!$Y$14:$AE$600,3,FALSE),0)","v":0},{"$f":"IFERROR(VLOOKUP(PG4,MATCHSELEVES!$Y$14:$AE$600,4,FALSE),0)","v":0},{"$f":"IFERROR(VLOOKUP(PG4,MATCHSELEVES!$Y$14:$AE$600,5,FALSE),0)","v":0},{"$f":"IFERROR(VLOOKUP(PG4,MATCHSELEVES!$Y$14:$AF$600,8,FALSE),0)","v":0},{"$f":"IFERROR(VLOOKUP(PG4,MATCHSELEVES!$Y$14:$AG$600,9,FALSE),0)","v":0},{"$f":"$C4&\"p_29\"","v":"Abdelnourp_29"},{"$f":"IFERROR(VLOOKUP(PM4,MATCHSELEVES!$Y$14:$AE$600,3,FALSE),0)","v":0},{"$f":"IFERROR(VLOOKUP(PM4,MATCHSELEVES!$Y$14:$AE$600,4,FALSE),0)","v":0},{"$f":"IFERROR(VLOOKUP(PM4,MATCHSELEVES!$Y$14:$AE$600,5,FALSE),0)","v":0},{"$f":"IFERROR(VLOOKUP(PM4,MATCHSELEVES!$Y$14:$AF$600,8,FALSE),0)","v":0},{"$f":"IFERROR(VLOOKUP(PM4,MATCHSELEVES!$Y$14:$AG$600,9,FALSE),0)","v":0},{"$f":"$C4&\"p_30\"","v":"Abdelnourp_30"},{"$f":"IFERROR(VLOOKUP(PS4,MATCHSELEVES!$Y$14:$AE$600,3,FALSE),0)","v":0},{"$f":"IFERROR(VLOOKUP(PS4,MATCHSELEVES!$Y$14:$AE$600,4,FALSE),0)","v":0},{"$f":"IFERROR(VLOOKUP(PS4,MATCHSELEVES!$Y$14:$AE$600,5,FALSE),0)","v":0},{"$f":"IFERROR(VLOOKUP(PS4,MATCHSELEVES!$Y$14:$AF$600,8,FALSE),0)","v":0},{"$f":"IFERROR(VLOOKUP(PS4,MATCHSELEVES!$Y$14:$AG$600,9,FALSE),0)","v":0},{"$f":"$C4&\"p_31\"","v":"Abdelnourp_31"},{"$f":"IFERROR(VLOOKUP(PY4,MATCHSELEVES!$Y$14:$AE$600,3,FALSE),0)","v":0},{"$f":"IFERROR(VLOOKUP(PY4,MATCHSELEVES!$Y$14:$AE$600,4,FALSE),0)","v":0},{"$f":"IFERROR(VLOOKUP(PY4,MATCHSELEVES!$Y$14:$AE$600,5,FALSE),0)","v":0},{"$f":"IFERROR(VLOOKUP(PY4,MATCHSELEVES!$Y$14:$AF$600,8,FALSE),0)","v":0},{"$f":"IFERROR(VLOOKUP(PY4,MATCHSELEVES!$Y$14:$AG$600,9,FALSE),0)","v":0},{"$f":"$C4&\"p_32\"","v":"Abdelnourp_32"},{"$f":"IFERROR(VLOOKUP(QE4,MATCHSELEVES!$Y$14:$AE$600,3,FALSE),0)","v":0},{"$f":"IFERROR(VLOOKUP(QE4,MATCHSELEVES!$Y$14:$AE$600,4,FALSE),0)","v":0},{"$f":"IFERROR(VLOOKUP(QE4,MATCHSELEVES!$Y$14:$AE$600,5,FALSE),0)","v":0},{"$f":"IFERROR(VLOOKUP(QE4,MATCHSELEVES!$Y$14:$AF$600,8,FALSE),0)","v":0},{"$f":"IFERROR(VLOOKUP(QE4,MATCHSELEVES!$Y$14:$AG$600,9,FALSE),0)","v":0},{"$f":"$C4&\"p_33\"","v":"Abdelnourp_33"},{"$f":"IFERROR(VLOOKUP(QK4,MATCHSELEVES!$Y$14:$AE$600,3,FALSE),0)","v":0},{"$f":"IFERROR(VLOOKUP(QK4,MATCHSELEVES!$Y$14:$AE$600,4,FALSE),0)","v":0},{"$f":"IFERROR(VLOOKUP(QK4,MATCHSELEVES!$Y$14:$AE$600,5,FALSE),0)","v":0},{"$f":"IFERROR(VLOOKUP(QK4,MATCHSELEVES!$Y$14:$AF$600,8,FALSE),0)","v":0},{"$f":"IFERROR(VLOOKUP(QK4,MATCHSELEVES!$Y$14:$AG$600,9,FALSE),0)","v":0},{"$f":"$C4&\"p_34\"","v":"Abdelnourp_34"},{"$f":"IFERROR(VLOOKUP(QQ4,MATCHSELEVES!$Y$14:$AE$600,3,FALSE),0)","v":0},{"$f":"IFERROR(VLOOKUP(QQ4,MATCHSELEVES!$Y$14:$AE$600,4,FALSE),0)","v":0},{"$f":"IFERROR(VLOOKUP(QQ4,MATCHSELEVES!$Y$14:$AE$600,5,FALSE),0)","v":0},{"$f":"IFERROR(VLOOKUP(QQ4,MATCHSELEVES!$Y$14:$AF$600,8,FALSE),0)","v":0},{"$f":"IFERROR(VLOOKUP(QQ4,MATCHSELEVES!$Y$14:$AG$600,9,FALSE),0)","v":0},{"$f":"$C4&\"p_35\"","v":"Abdelnourp_35"},{"$f":"IFERROR(VLOOKUP(QW4,MATCHSELEVES!$Y$14:$AE$600,3,FALSE),0)","v":0},{"$f":"IFERROR(VLOOKUP(QW4,MATCHSELEVES!$Y$14:$AE$600,4,FALSE),0)","v":0},{"$f":"IFERROR(VLOOKUP(QW4,MATCHSELEVES!$Y$14:$AE$600,5,FALSE),0)","v":0},{"$f":"IFERROR(VLOOKUP(QW4,MATCHSELEVES!$Y$14:$AF$600,8,FALSE),0)","v":0},{"$f":"IFERROR(VLOOKUP(QW4,MATCHSELEVES!$Y$14:$AG$600,9,FALSE),0)","v":0},{"$f":"$C4&\"p_36\"","v":"Abdelnourp_36"},{"$f":"IFERROR(VLOOKUP(RC4,MATCHSELEVES!$Y$14:$AE$600,3,FALSE),0)","v":0},{"$f":"IFERROR(VLOOKUP(RC4,MATCHSELEVES!$Y$14:$AE$600,4,FALSE),0)","v":0},{"$f":"IFERROR(VLOOKUP(RC4,MATCHSELEVES!$Y$14:$AE$600,5,FALSE),0)","v":0},{"$f":"IFERROR(VLOOKUP(RC4,MATCHSELEVES!$Y$14:$AF$600,8,FALSE),0)","v":0},{"$f":"IFERROR(VLOOKUP(RC4,MATCHSELEVES!$Y$14:$AG$600,9,FALSE),0)","v":0},{"$f":"$C4&\"p_37\"","v":"Abdelnourp_37"},{"$f":"IFERROR(VLOOKUP(RI4,MATCHSELEVES!$Y$14:$AE$600,3,FALSE),0)","v":0},{"$f":"IFERROR(VLOOKUP(RI4,MATCHSELEVES!$Y$14:$AE$600,4,FALSE),0)","v":0},{"$f":"IFERROR(VLOOKUP(RI4,MATCHSELEVES!$Y$14:$AE$600,5,FALSE),0)","v":0},{"$f":"IFERROR(VLOOKUP(RI4,MATCHSELEVES!$Y$14:$AF$600,8,FALSE),0)","v":0},{"$f":"IFERROR(VLOOKUP(RI4,MATCHSELEVES!$Y$14:$AG$600,9,FALSE),0)","v":0},{"$f":"$C4&\"p_38\"","v":"Abdelnourp_38"},{"$f":"IFERROR(VLOOKUP(RO4,MATCHSELEVES!$Y$14:$AE$600,3,FALSE),0)","v":0},{"$f":"IFERROR(VLOOKUP(RO4,MATCHSELEVES!$Y$14:$AE$600,4,FALSE),0)","v":0},{"$f":"IFERROR(VLOOKUP(RO4,MATCHSELEVES!$Y$14:$AE$600,5,FALSE),0)","v":0},{"$f":"IFERROR(VLOOKUP(RO4,MATCHSELEVES!$Y$14:$AF$600,8,FALSE),0)","v":0},{"$f":"IFERROR(VLOOKUP(RO4,MATCHSELEVES!$Y$14:$AG$600,9,FALSE),0)","v":0},{"$f":"$C4&\"p_39\"","v":"Abdelnourp_39"},{"$f":"IFERROR(VLOOKUP(RU4,MATCHSELEVES!$Y$14:$AE$600,3,FALSE),0)","v":0},{"$f":"IFERROR(VLOOKUP(RU4,MATCHSELEVES!$Y$14:$AE$600,4,FALSE),0)","v":0},{"$f":"IFERROR(VLOOKUP(RU4,MATCHSELEVES!$Y$14:$AE$600,5,FALSE),0)","v":0},{"$f":"IFERROR(VLOOKUP(RU4,MATCHSELEVES!$Y$14:$AF$600,8,FALSE),0)","v":0},{"$f":"IFERROR(VLOOKUP(RU4,MATCHSELEVES!$Y$14:$AG$600,9,FALSE),0)","v":0},{"$f":"$C4&\"p_40\"","v":"Abdelnourp_40"},{"$f":"IFERROR(VLOOKUP(SA4,MATCHSELEVES!$Y$14:$AE$600,3,FALSE),0)","v":0},{"$f":"IFERROR(VLOOKUP(SA4,MATCHSELEVES!$Y$14:$AE$600,4,FALSE),0)","v":0},{"$f":"IFERROR(VLOOKUP(SA4,MATCHSELEVES!$Y$14:$AE$600,5,FALSE),0)","v":0},{"$f":"IFERROR(VLOOKUP(SA4,MATCHSELEVES!$Y$14:$AF$600,8,FALSE),0)","v":0},{"$f":"IFERROR(VLOOKUP(SA4,MATCHSELEVES!$Y$14:$AG$600,9,FALSE),0)","v":0}]
[2,null,"Açelya",2,null,null,{"$f":"COUNTIF(MATCHSELEVES!$Z$14:$Z$600,C5)+COUNTIF(MATCHSELEVES!$Z$14:$Z$600,$C5&\"p\")","v":0},{"$f":"RANK(G5,$G$4:$G$43)","v":1},{"$f":"COUNTIF(MATCHSELEVES!$F$14:$H$249,C5)","v":0},{"$f":"RANK(I5,$I$4:$I$43)","v":1},0,{"$f":"RANK(K5,$K$4:$K$43)","v":1},{"$f":"IFERROR(M48/Tableau10[[#This Row],[Nombre de matchs joués]],0)","v":0},{"$f":"IF(Tableau10[[#This Row],[Nombre de points encaissés]]=0,$C$45,SUMPRODUCT((M$4:M$43<M5)*(M$4:M$43<>0))+1)","v":40},0,{"$f":"RANK(O5,$O$4:$O$43)","v":1},{"$f":"(Tableau10[[#This Row],[CLASSEMENT1]]+Tableau10[[#This Row],[CLASSEMENT2]]+Tableau10[[#This Row],[CLASSEMENT3]]+Tableau10[[#This Row],[CLASSEMENT4]]+Tableau10[[#This Row],[CLASSEMENT5]]+Tableau10[[#This Row],[CLASSEMENT6]])/6","v":7.666666666666667},{"$f":"RANK(Tableau10[[#This Row],[MOYENNE CLASSEMENTS]],Tableau10[MOYENNE CLASSEMENTS],1)","v":2},null,{"$f":"Tableau10[[#This Row],[CLASSEMENT1]]","v":2},{"$f":"$C5&\"_1\"","v":"Açelya_1"},{"$f":"IFERROR(VLOOKUP(U5,MATCHSELEVES!$Y$14:$AE$600,3,FALSE),0)","v":0},{"$f":"IFERROR(VLOOKUP(U5,MATCHSELEVES!$Y$14:$AE$600,4,FALSE),0)","v":0},{"$f":"IFERROR(VLOOKUP(U5,MATCHSELEVES!$Y$14:$AE$600,5,FALSE),0)","v":0},{"$f":"IFERROR(VLOOKUP(U5,MATCHSELEVES!$Y$14:$AF$600,8,FALSE),0)","v":0},{"$f":"IFERROR(VLOOKUP(U5,MATCHSELEVES!$Y$14:$AG$600,9,FALSE),0)","v":0},"Açelya_2",{"$f":"IFERROR(VLOOKUP(AA5,MATCHSELEVES!$Y$14:$AE$600,3,FALSE),0)","v":0},{"$f":"IFERROR(VLOOKUP(AA5,MATCHSELEVES!$Y$14:$AE$600,4,FALSE),0)","v":0},{"$f":"IFERROR(VLOOKUP(AA5,MATCHSELEVES!$Y$14:$AE$600,5,FALSE),0)","v":0},{"$f":"IFERROR(VLOOKUP(AA5,MATCHSELEVES!$Y$14:$AF$600,8,FALSE),0)","v":0},{"$f":"IFERROR(VLOOKUP(AA5,MATCHSELEVES!$Y$14:$AG$600,9,FALSE),0)","v":0},"Açelya_3",{"$f":"IFERROR(VLOOKUP(AG5,MATCHSELEVES!$Y$14:$AE$600,3,FALSE),0)","v":0},{"$f":"IFERROR(VLOOKUP(AG5,MATCHSELEVES!$Y$14:$AE$600,4,FALSE),0)","v":0},{"$f":"IFERROR(VLOOKUP(AG5,MATCHSELEVES!$Y$14:$AE$600,5,FALSE),0)","v":0},{"$f":"IFERROR(VLOOKUP(AG5,MATCHSELEVES!$Y$14:$AF$600,8,FALSE),0)","v":0},{"$f":"IFERROR(VLOOKUP(AG5,MATCHSELEVES!$Y$14:$AG$600,9,FALSE),0)","v":0},"Açelya_4",{"$f":"IFERROR(VLOOKUP(AM5,MATCHSELEVES!$Y$14:$AE$600,3,FALSE),0)","v":0},{"$f":"IFERROR(VLOOKUP(AM5,MATCHSELEVES!$Y$14:$AE$600,4,FALSE),0)","v":0},{"$f":"IFERROR(VLOOKUP(AM5,MATCHSELEVES!$Y$14:$AE$600,5,FALSE),0)","v":0},{"$f":"IFERROR(VLOOKUP(AM5,MATCHSELEVES!$Y$14:$AF$600,8,FALSE),0)","v":0},{"$f":"IFERROR(VLOOKUP(AM5,MATCHSELEVES!$Y$14:$AG$600,9,FALSE),0)","v":0},"Açelya_5",{"$f":"IFERROR(VLOOKUP(AS5,MATCHSELEVES!$Y$14:$AE$600,3,FALSE),0)","v":0},{"$f":"IFERROR(VLOOKUP(AS5,MATCHSELEVES!$Y$14:$AE$600,4,FALSE),0)","v":0},{"$f":"IFERROR(VLOOKUP(AS5,MATCHSELEVES!$Y$14:$AE$600,5,FALSE),0)","v":0},{"$f":"IFERROR(VLOOKUP(AS5,MATCHSELEVES!$Y$14:$AF$600,8,FALSE),0)","v":0},{"$f":"IFERROR(VLOOKUP(AS5,MATCHSELEVES!$Y$14:$AG$600,9,FALSE),0)","v":0},"Açelya_6",{"$f":"IFERROR(VLOOKUP(AY5,MATCHSELEVES!$Y$14:$AE$600,3,FALSE),0)","v":0},{"$f":"IFERROR(VLOOKUP(AY5,MATCHSELEVES!$Y$14:$AE$600,4,FALSE),0)","v":0},{"$f":"IFERROR(VLOOKUP(AY5,MATCHSELEVES!$Y$14:$AE$600,5,FALSE),0)","v":0},{"$f":"IFERROR(VLOOKUP(AY5,MATCHSELEVES!$Y$14:$AF$600,8,FALSE),0)","v":0},{"$f":"IFERROR(VLOOKUP(AY5,MATCHSELEVES!$Y$14:$AG$600,9,FALSE),0)","v":0},"Açelya_7",{"$f":"IFERROR(VLOOKUP(BE5,MATCHSELEVES!$Y$14:$AE$600,3,FALSE),0)","v":0},{"$f":"IFERROR(VLOOKUP(BE5,MATCHSELEVES!$Y$14:$AE$600,4,FALSE),0)","v":0},{"$f":"IFERROR(VLOOKUP(BE5,MATCHSELEVES!$Y$14:$AE$600,5,FALSE),0)","v":0},{"$f":"IFERROR(VLOOKUP(BE5,MATCHSELEVES!$Y$14:$AF$600,8,FALSE),0)","v":0},{"$f":"IFERROR(VLOOKUP(BE5,MATCHSELEVES!$Y$14:$AG$600,9,FALSE),0)","v":0},"Açelya_8",{"$f":"IFERROR(VLOOKUP(BK5,MATCHSELEVES!$Y$14:$AE$600,3,FALSE),0)","v":0},{"$f":"IFERROR(VLOOKUP(BK5,MATCHSELEVES!$Y$14:$AE$600,4,FALSE),0)","v":0},{"$f":"IFERROR(VLOOKUP(BK5,MATCHSELEVES!$Y$14:$AE$600,5,FALSE),0)","v":0},{"$f":"IFERROR(VLOOKUP(BK5,MATCHSELEVES!$Y$14:$AF$600,8,FALSE),0)","v":0},{"$f":"IFERROR(VLOOKUP(BK5,MATCHSELEVES!$Y$14:$AG$600,9,FALSE),0)","v":0},"Açelya_9",{"$f":"IFERROR(VLOOKUP(BQ5,MATCHSELEVES!$Y$14:$AE$600,3,FALSE),0)","v":0},{"$f":"IFERROR(VLOOKUP(BQ5,MATCHSELEVES!$Y$14:$AE$600,4,FALSE),0)","v":0},{"$f":"IFERROR(VLOOKUP(BQ5,MATCHSELEVES!$Y$14:$AE$600,5,FALSE),0)","v":0},{"$f":"IFERROR(VLOOKUP(BQ5,MATCHSELEVES!$Y$14:$AF$600,8,FALSE),0)","v":0},{"$f":"IFERROR(VLOOKUP(BQ5,MATCHSELEVES!$Y$14:$AG$600,9,FALSE),0)","v":0},"Açelya_10",{"$f":"IFERROR(VLOOKUP(BW5,MATCHSELEVES!$Y$14:$AE$600,3,FALSE),0)","v":0},{"$f":"IFERROR(VLOOKUP(BW5,MATCHSELEVES!$Y$14:$AE$600,4,FALSE),0)","v":0},{"$f":"IFERROR(VLOOKUP(BW5,MATCHSELEVES!$Y$14:$AE$600,5,FALSE),0)","v":0},{"$f":"IFERROR(VLOOKUP(BW5,MATCHSELEVES!$Y$14:$AF$600,8,FALSE),0)","v":0},{"$f":"IFERROR(VLOOKUP(BW5,MATCHSELEVES!$Y$14:$AG$600,9,FALSE),0)","v":0},"Açelya_11",{"$f":"IFERROR(VLOOKUP(CC5,MATCHSELEVES!$Y$14:$AE$600,3,FALSE),0)","v":0},{"$f":"IFERROR(VLOOKUP(CC5,MATCHSELEVES!$Y$14:$AE$600,4,FALSE),0)","v":0},{"$f":"IFERROR(VLOOKUP(CC5,MATCHSELEVES!$Y$14:$AE$600,5,FALSE),0)","v":0},{"$f":"IFERROR(VLOOKUP(CC5,MATCHSELEVES!$Y$14:$AF$600,8,FALSE),0)","v":0},{"$f":"IFERROR(VLOOKUP(CC5,MATCHSELEVES!$Y$14:$AG$600,9,FALSE),0)","v":0},"Açelya_12",{"$f":"IFERROR(VLOOKUP(CI5,MATCHSELEVES!$Y$14:$AE$600,3,FALSE),0)","v":0},{"$f":"IFERROR(VLOOKUP(CI5,MATCHSELEVES!$Y$14:$AE$600,4,FALSE),0)","v":0},{"$f":"IFERROR(VLOOKUP(CI5,MATCHSELEVES!$Y$14:$AE$600,5,FALSE),0)","v":0},{"$f":"IFERROR(VLOOKUP(CI5,MATCHSELEVES!$Y$14:$AF$600,8,FALSE),0)","v":0},{"$f":"IFERROR(VLOOKUP(CI5,MATCHSELEVES!$Y$14:$AG$600,9,FALSE),0)","v":0},"Açelya_13",{"$f":"IFERROR(VLOOKUP(CO5,MATCHSELEVES!$Y$14:$AE$600,3,FALSE),0)","v":0},{"$f":"IFERROR(VLOOKUP(CO5,MATCHSELEVES!$Y$14:$AE$600,4,FALSE),0)","v":0},{"$f":"IFERROR(VLOOKUP(CO5,MATCHSELEVES!$Y$14:$AE$600,5,FALSE),0)","v":0},{"$f":"IFERROR(VLOOKUP(CO5,MATCHSELEVES!$Y$14:$AF$600,8,FALSE),0)","v":0},{"$f":"IFERROR(VLOOKUP(CO5,MATCHSELEVES!$Y$14:$AG$600,9,FALSE),0)","v":0},"Açelya_14",{"$f":"IFERROR(VLOOKUP(CU5,MATCHSELEVES!$Y$14:$AE$600,3,FALSE),0)","v":0},{"$f":"IFERROR(VLOOKUP(CU5,MATCHSELEVES!$Y$14:$AE$600,4,FALSE),0)","v":0},{"$f":"IFERROR(VLOOKUP(CU5,MATCHSELEVES!$Y$14:$AE$600,5,FALSE),0)","v":0},{"$f":"IFERROR(VLOOKUP(CU5,MATCHSELEVES!$Y$14:$AF$600,8,FALSE),0)","v":0},{"$f":"IFERROR(VLOOKUP(CU5,MATCHSELEVES!$Y$14:$AG$600,9,FALSE),0)","v":0},"Açelya_15",{"$f":"IFERROR(VLOOKUP(DA5,MATCHSELEVES!$Y$14:$AE$600,3,FALSE),0)","v":0},{"$f":"IFERROR(VLOOKUP(DA5,MATCHSELEVES!$Y$14:$AE$600,4,FALSE),0)","v":0},{"$f":"IFERROR(VLOOKUP(DA5,MATCHSELEVES!$Y$14:$AE$600,5,FALSE),0)","v":0},{"$f":"IFERROR(VLOOKUP(DA5,MATCHSELEVES!$Y$14:$AF$600,8,FALSE),0)","v":0},{"$f":"IFERROR(VLOOKUP(DA5,MATCHSELEVES!$Y$14:$AG$600,9,FALSE),0)","v":0},"Açelya_16",{"$f":"IFERROR(VLOOKUP(DG5,MATCHSELEVES!$Y$14:$AE$600,3,FALSE),0)","v":0},{"$f":"IFERROR(VLOOKUP(DG5,MATCHSELEVES!$Y$14:$AE$600,4,FALSE),0)","v":0},{"$f":"IFERROR(VLOOKUP(DG5,MATCHSELEVES!$Y$14:$AE$600,5,FALSE),0)","v":0},{"$f":"IFERROR(VLOOKUP(DG5,MATCHSELEVES!$Y$14:$AF$600,8,FALSE),0)","v":0},{"$f":"IFERROR(VLOOKUP(DG5,MATCHSELEVES!$Y$14:$AG$600,9,FALSE),0)","v":0},"Açelya_17",{"$f":"IFERROR(VLOOKUP(DM5,MATCHSELEVES!$Y$14:$AE$600,3,FALSE),0)","v":0},{"$f":"IFERROR(VLOOKUP(DM5,MATCHSELEVES!$Y$14:$AE$600,4,FALSE),0)","v":0},{"$f":"IFERROR(VLOOKUP(DM5,MATCHSELEVES!$Y$14:$AE$600,5,FALSE),0)","v":0},{"$f":"IFERROR(VLOOKUP(DM5,MATCHSELEVES!$Y$14:$AF$600,8,FALSE),0)","v":0},{"$f":"IFERROR(VLOOKUP(DM5,MATCHSELEVES!$Y$14:$AG$600,9,FALSE),0)","v":0},"Açelya_18",{"$f":"IFERROR(VLOOKUP(DS5,MATCHSELEVES!$Y$14:$AE$600,3,FALSE),0)","v":0},{"$f":"IFERROR(VLOOKUP(DS5,MATCHSELEVES!$Y$14:$AE$600,4,FALSE),0)","v":0},{"$f":"IFERROR(VLOOKUP(DS5,MATCHSELEVES!$Y$14:$AE$600,5,FALSE),0)","v":0},{"$f":"IFERROR(VLOOKUP(DS5,MATCHSELEVES!$Y$14:$AF$600,8,FALSE),0)","v":0},{"$f":"IFERROR(VLOOKUP(DS5,MATCHSELEVES!$Y$14:$AG$600,9,FALSE),0)","v":0},"Açelya_19",{"$f":"IFERROR(VLOOKUP(DY5,MATCHSELEVES!$Y$14:$AE$600,3,FALSE),0)","v":0},{"$f":"IFERROR(VLOOKUP(DY5,MATCHSELEVES!$Y$14:$AE$600,4,FALSE),0)","v":0},{"$f":"IFERROR(VLOOKUP(DY5,MATCHSELEVES!$Y$14:$AE$600,5,FALSE),0)","v":0},{"$f":"IFERROR(VLOOKUP(DY5,MATCHSELEVES!$Y$14:$AF$600,8,FALSE),0)","v":0},{"$f":"IFERROR(VLOOKUP(DY5,MATCHSELEVES!$Y$14:$AG$600,9,FALSE),0)","v":0},"Açelya_20",{"$f":"IFERROR(VLOOKUP(EE5,MATCHSELEVES!$Y$14:$AE$600,3,FALSE),0)","v":0},{"$f":"IFERROR(VLOOKUP(EE5,MATCHSELEVES!$Y$14:$AE$600,4,FALSE),0)","v":0},{"$f":"IFERROR(VLOOKUP(EE5,MATCHSELEVES!$Y$14:$AE$600,5,FALSE),0)","v":0},{"$f":"IFERROR(VLOOKUP(EE5,MATCHSELEVES!$Y$14:$AF$600,8,FALSE),0)","v":0},{"$f":"IFERROR(VLOOKUP(EE5,MATCHSELEVES!$Y$14:$AG$600,9,FALSE),0)","v":0},"Açelya_21",{"$f":"IFERROR(VLOOKUP(EK5,MATCHSELEVES!$Y$14:$AE$600,3,FALSE),0)","v":0},{"$f":"IFERROR(VLOOKUP(EK5,MATCHSELEVES!$Y$14:$AE$600,4,FALSE),0)","v":0},{"$f":"IFERROR(VLOOKUP(EK5,MATCHSELEVES!$Y$14:$AE$600,5,FALSE),0)","v":0},{"$f":"IFERROR(VLOOKUP(EK5,MATCHSELEVES!$Y$14:$AF$600,8,FALSE),0)","v":0},{"$f":"IFERROR(VLOOKUP(EK5,MATCHSELEVES!$Y$14:$AG$600,9,FALSE),0)","v":0},"Açelya_22",{"$f":"IFERROR(VLOOKUP(EQ5,MATCHSELEVES!$Y$14:$AE$600,3,FALSE),0)","v":0},{"$f":"IFERROR(VLOOKUP(EQ5,MATCHSELEVES!$Y$14:$AE$600,4,FALSE),0)","v":0},{"$f":"IFERROR(VLOOKUP(EQ5,MATCHSELEVES!$Y$14:$AE$600,5,FALSE),0)","v":0},{"$f":"IFERROR(VLOOKUP(EQ5,MATCHSELEVES!$Y$14:$AF$600,8,FALSE),0)","v":0},{"$f":"IFERROR(VLOOKUP(EQ5,MATCHSELEVES!$Y$14:$AG$600,9,FALSE),0)","v":0},"Açelya_23",{"$f":"IFERROR(VLOOKUP(EW5,MATCHSELEVES!$Y$14:$AE$600,3,FALSE),0)","v":0},{"$f":"IFERROR(VLOOKUP(EW5,MATCHSELEVES!$Y$14:$AE$600,4,FALSE),0)","v":0},{"$f":"IFERROR(VLOOKUP(EW5,MATCHSELEVES!$Y$14:$AE$600,5,FALSE),0)","v":0},{"$f":"IFERROR(VLOOKUP(EW5,MATCHSELEVES!$Y$14:$AF$600,8,FALSE),0)","v":0},{"$f":"IFERROR(VLOOKUP(EW5,MATCHSELEVES!$Y$14:$AG$600,9,FALSE),0)","v":0},"Açelya_24",{"$f":"IFERROR(VLOOKUP(FC5,MATCHSELEVES!$Y$14:$AE$600,3,FALSE),0)","v":0},{"$f":"IFERROR(VLOOKUP(FC5,MATCHSELEVES!$Y$14:$AE$600,4,FALSE),0)","v":0},{"$f":"IFERROR(VLOOKUP(FC5,MATCHSELEVES!$Y$14:$AE$600,5,FALSE),0)","v":0},{"$f":"IFERROR(VLOOKUP(FC5,MATCHSELEVES!$Y$14:$AF$600,8,FALSE),0)","v":0},{"$f":"IFERROR(VLOOKUP(FC5,MATCHSELEVES!$Y$14:$AG$600,9,FALSE),0)","v":0},"Açelya_25",{"$f":"IFERROR(VLOOKUP(FI5,MATCHSELEVES!$Y$14:$AE$600,3,FALSE),0)","v":0},{"$f":"IFERROR(VLOOKUP(FI5,MATCHSELEVES!$Y$14:$AE$600,4,FALSE),0)","v":0},{"$f":"IFERROR(VLOOKUP(FI5,MATCHSELEVES!$Y$14:$AE$600,5,FALSE),0)","v":0},{"$f":"IFERROR(VLOOKUP(FI5,MATCHSELEVES!$Y$14:$AF$600,8,FALSE),0)","v":0},{"$f":"IFERROR(VLOOKUP(FI5,MATCHSELEVES!$Y$14:$AG$600,9,FALSE),0)","v":0},"Açelya_26",{"$f":"IFERROR(VLOOKUP(FO5,MATCHSELEVES!$Y$14:$AE$600,3,FALSE),0)","v":0},{"$f":"IFERROR(VLOOKUP(FO5,MATCHSELEVES!$Y$14:$AE$600,4,FALSE),0)","v":0},{"$f":"IFERROR(VLOOKUP(FO5,MATCHSELEVES!$Y$14:$AE$600,5,FALSE),0)","v":0},{"$f":"IFERROR(VLOOKUP(FO5,MATCHSELEVES!$Y$14:$AF$600,8,FALSE),0)","v":0},{"$f":"IFERROR(VLOOKUP(FO5,MATCHSELEVES!$Y$14:$AG$600,9,FALSE),0)","v":0},"Açelya_27",{"$f":"IFERROR(VLOOKUP(FU5,MATCHSELEVES!$Y$14:$AE$600,3,FALSE),0)","v":0},{"$f":"IFERROR(VLOOKUP(FU5,MATCHSELEVES!$Y$14:$AE$600,4,FALSE),0)","v":0},{"$f":"IFERROR(VLOOKUP(FU5,MATCHSELEVES!$Y$14:$AE$600,5,FALSE),0)","v":0},{"$f":"IFERROR(VLOOKUP(FU5,MATCHSELEVES!$Y$14:$AF$600,8,FALSE),0)","v":0},{"$f":"IFERROR(VLOOKUP(FU5,MATCHSELEVES!$Y$14:$AG$600,9,FALSE),0)","v":0},"Açelya_28",{"$f":"IFERROR(VLOOKUP(GA5,MATCHSELEVES!$Y$14:$AE$600,3,FALSE),0)","v":0},{"$f":"IFERROR(VLOOKUP(GA5,MATCHSELEVES!$Y$14:$AE$600,4,FALSE),0)","v":0},{"$f":"IFERROR(VLOOKUP(GA5,MATCHSELEVES!$Y$14:$AE$600,5,FALSE),0)","v":0},{"$f":"IFERROR(VLOOKUP(GA5,MATCHSELEVES!$Y$14:$AF$600,8,FALSE),0)","v":0},{"$f":"IFERROR(VLOOKUP(GA5,MATCHSELEVES!$Y$14:$AG$600,9,FALSE),0)","v":0},"Açelya_29",{"$f":"IFERROR(VLOOKUP(GG5,MATCHSELEVES!$Y$14:$AE$600,3,FALSE),0)","v":0},{"$f":"IFERROR(VLOOKUP(GG5,MATCHSELEVES!$Y$14:$AE$600,4,FALSE),0)","v":0},{"$f":"IFERROR(VLOOKUP(GG5,MATCHSELEVES!$Y$14:$AE$600,5,FALSE),0)","v":0},{"$f":"IFERROR(VLOOKUP(GG5,MATCHSELEVES!$Y$14:$AF$600,8,FALSE),0)","v":0},{"$f":"IFERROR(VLOOKUP(GG5,MATCHSELEVES!$Y$14:$AG$600,9,FALSE),0)","v":0},"Açelya_30",{"$f":"IFERROR(VLOOKUP(GM5,MATCHSELEVES!$Y$14:$AE$600,3,FALSE),0)","v":0},{"$f":"IFERROR(VLOOKUP(GM5,MATCHSELEVES!$Y$14:$AE$600,4,FALSE),0)","v":0},{"$f":"IFERROR(VLOOKUP(GM5,MATCHSELEVES!$Y$14:$AE$600,5,FALSE),0)","v":0},{"$f":"IFERROR(VLOOKUP(GM5,MATCHSELEVES!$Y$14:$AF$600,8,FALSE),0)","v":0},{"$f":"IFERROR(VLOOKUP(GM5,MATCHSELEVES!$Y$14:$AG$600,9,FALSE),0)","v":0},"Açelya_31",{"$f":"IFERROR(VLOOKUP(GS5,MATCHSELEVES!$Y$14:$AE$600,3,FALSE),0)","v":0},{"$f":"IFERROR(VLOOKUP(GS5,MATCHSELEVES!$Y$14:$AE$600,4,FALSE),0)","v":0},{"$f":"IFERROR(VLOOKUP(GS5,MATCHSELEVES!$Y$14:$AE$600,5,FALSE),0)","v":0},{"$f":"IFERROR(VLOOKUP(GS5,MATCHSELEVES!$Y$14:$AF$600,8,FALSE),0)","v":0},{"$f":"IFERROR(VLOOKUP(GS5,MATCHSELEVES!$Y$14:$AG$600,9,FALSE),0)","v":0},"Açelya_32",{"$f":"IFERROR(VLOOKUP(GY5,MATCHSELEVES!$Y$14:$AE$600,3,FALSE),0)","v":0},{"$f":"IFERROR(VLOOKUP(GY5,MATCHSELEVES!$Y$14:$AE$600,4,FALSE),0)","v":0},{"$f":"IFERROR(VLOOKUP(GY5,MATCHSELEVES!$Y$14:$AE$600,5,FALSE),0)","v":0},{"$f":"IFERROR(VLOOKUP(GY5,MATCHSELEVES!$Y$14:$AF$600,8,FALSE),0)","v":0},{"$f":"IFERROR(VLOOKUP(GY5,MATCHSELEVES!$Y$14:$AG$600,9,FALSE),0)","v":0},"Açelya_33",{"$f":"IFERROR(VLOOKUP(HE5,MATCHSELEVES!$Y$14:$AE$600,3,FALSE),0)","v":0},{"$f":"IFERROR(VLOOKUP(HE5,MATCHSELEVES!$Y$14:$AE$600,4,FALSE),0)","v":0},{"$f":"IFERROR(VLOOKUP(HE5,MATCHSELEVES!$Y$14:$AE$600,5,FALSE),0)","v":0},{"$f":"IFERROR(VLOOKUP(HE5,MATCHSELEVES!$Y$14:$AF$600,8,FALSE),0)","v":0},{"$f":"IFERROR(VLOOKUP(HE5,MATCHSELEVES!$Y$14:$AG$600,9,FALSE),0)","v":0},"Açelya_34",{"$f":"IFERROR(VLOOKUP(HK5,MATCHSELEVES!$Y$14:$AE$600,3,FALSE),0)","v":0},{"$f":"IFERROR(VLOOKUP(HK5,MATCHSELEVES!$Y$14:$AE$600,4,FALSE),0)","v":0},{"$f":"IFERROR(VLOOKUP(HK5,MATCHSELEVES!$Y$14:$AE$600,5,FALSE),0)","v":0},{"$f":"IFERROR(VLOOKUP(HK5,MATCHSELEVES!$Y$14:$AF$600,8,FALSE),0)","v":0},{"$f":"IFERROR(VLOOKUP(HK5,MATCHSELEVES!$Y$14:$AG$600,9,FALSE),0)","v":0},"Açelya_35",{"$f":"IFERROR(VLOOKUP(HQ5,MATCHSELEVES!$Y$14:$AE$600,3,FALSE),0)","v":0},{"$f":"IFERROR(VLOOKUP(HQ5,MATCHSELEVES!$Y$14:$AE$600,4,FALSE),0)","v":0},{"$f":"IFERROR(VLOOKUP(HQ5,MATCHSELEVES!$Y$14:$AE$600,5,FALSE),0)","v":0},{"$f":"IFERROR(VLOOKUP(HQ5,MATCHSELEVES!$Y$14:$AF$600,8,FALSE),0)","v":0},{"$f":"IFERROR(VLOOKUP(HQ5,MATCHSELEVES!$Y$14:$AG$600,9,FALSE),0)","v":0},"Açelya_36",{"$f":"IFERROR(VLOOKUP(HW5,MATCHSELEVES!$Y$14:$AE$600,3,FALSE),0)","v":0},{"$f":"IFERROR(VLOOKUP(HW5,MATCHSELEVES!$Y$14:$AE$600,4,FALSE),0)","v":0},{"$f":"IFERROR(VLOOKUP(HW5,MATCHSELEVES!$Y$14:$AE$600,5,FALSE),0)","v":0},{"$f":"IFERROR(VLOOKUP(HW5,MATCHSELEVES!$Y$14:$AF$600,8,FALSE),0)","v":0},{"$f":"IFERROR(VLOOKUP(HW5,MATCHSELEVES!$Y$14:$AG$600,9,FALSE),0)","v":0},"Açelya_37",{"$f":"IFERROR(VLOOKUP(IC5,MATCHSELEVES!$Y$14:$AE$600,3,FALSE),0)","v":0},{"$f":"IFERROR(VLOOKUP(IC5,MATCHSELEVES!$Y$14:$AE$600,4,FALSE),0)","v":0},{"$f":"IFERROR(VLOOKUP(IC5,MATCHSELEVES!$Y$14:$AE$600,5,FALSE),0)","v":0},{"$f":"IFERROR(VLOOKUP(IC5,MATCHSELEVES!$Y$14:$AF$600,8,FALSE),0)","v":0},{"$f":"IFERROR(VLOOKUP(IC5,MATCHSELEVES!$Y$14:$AG$600,9,FALSE),0)","v":0},"Açelya_38",{"$f":"IFERROR(VLOOKUP(II5,MATCHSELEVES!$Y$14:$AE$600,3,FALSE),0)","v":0},{"$f":"IFERROR(VLOOKUP(II5,MATCHSELEVES!$Y$14:$AE$600,4,FALSE),0)","v":0},{"$f":"IFERROR(VLOOKUP(II5,MATCHSELEVES!$Y$14:$AE$600,5,FALSE),0)","v":0},{"$f":"IFERROR(VLOOKUP(II5,MATCHSELEVES!$Y$14:$AF$600,8,FALSE),0)","v":0},{"$f":"IFERROR(VLOOKUP(II5,MATCHSELEVES!$Y$14:$AG$600,9,FALSE),0)","v":0},"Açelya_39",{"$f":"IFERROR(VLOOKUP(IO5,MATCHSELEVES!$Y$14:$AE$600,3,FALSE),0)","v":0},{"$f":"IFERROR(VLOOKUP(IO5,MATCHSELEVES!$Y$14:$AE$600,4,FALSE),0)","v":0},{"$f":"IFERROR(VLOOKUP(IO5,MATCHSELEVES!$Y$14:$AE$600,5,FALSE),0)","v":0},{"$f":"IFERROR(VLOOKUP(IO5,MATCHSELEVES!$Y$14:$AF$600,8,FALSE),0)","v":0},{"$f":"IFERROR(VLOOKUP(IO5,MATCHSELEVES!$Y$14:$AG$600,9,FALSE),0)","v":0},"Açelya_40",{"$f":"IFERROR(VLOOKUP(IU5,MATCHSELEVES!$Y$14:$AE$600,3,FALSE),0)","v":0},{"$f":"IFERROR(VLOOKUP(IU5,MATCHSELEVES!$Y$14:$AE$600,4,FALSE),0)","v":0},{"$f":"IFERROR(VLOOKUP(IU5,MATCHSELEVES!$Y$14:$AE$600,5,FALSE),0)","v":0},{"$f":"IFERROR(VLOOKUP(IU5,MATCHSELEVES!$Y$14:$AF$600,8,FALSE),0)","v":0},{"$f":"IFERROR(VLOOKUP(IU5,MATCHSELEVES!$Y$14:$AG$600,9,FALSE),0)","v":0},{"$f":"$C5&\"p_1\"","v":"Açelyap_1"},{"$f":"IFERROR(VLOOKUP(JA5,MATCHSELEVES!$Y$14:$AE$600,3,FALSE),0)","v":0},{"$f":"IFERROR(VLOOKUP(JA5,MATCHSELEVES!$Y$14:$AE$600,4,FALSE),0)","v":0},{"$f":"IFERROR(VLOOKUP(JA5,MATCHSELEVES!$Y$14:$AE$600,5,FALSE),0)","v":0},{"$f":"IFERROR(VLOOKUP(JA5,MATCHSELEVES!$Y$14:$AF$600,8,FALSE),0)","v":0},{"$f":"IFERROR(VLOOKUP(JA5,MATCHSELEVES!$Y$14:$AG$600,9,FALSE),0)","v":0},{"$f":"$C5&\"p_2\"","v":"Açelyap_2"},{"$f":"IFERROR(VLOOKUP(JG5,MATCHSELEVES!$Y$14:$AE$600,3,FALSE),0)","v":0},{"$f":"IFERROR(VLOOKUP(JG5,MATCHSELEVES!$Y$14:$AE$600,4,FALSE),0)","v":0},{"$f":"IFERROR(VLOOKUP(JG5,MATCHSELEVES!$Y$14:$AE$600,5,FALSE),0)","v":0},{"$f":"IFERROR(VLOOKUP(JG5,MATCHSELEVES!$Y$14:$AF$600,8,FALSE),0)","v":0},{"$f":"IFERROR(VLOOKUP(JG5,MATCHSELEVES!$Y$14:$AG$600,9,FALSE),0)","v":0},{"$f":"$C5&\"p_3\"","v":"Açelyap_3"},{"$f":"IFERROR(VLOOKUP(JM5,MATCHSELEVES!$Y$14:$AE$600,3,FALSE),0)","v":0},{"$f":"IFERROR(VLOOKUP(JM5,MATCHSELEVES!$Y$14:$AE$600,4,FALSE),0)","v":0},{"$f":"IFERROR(VLOOKUP(JM5,MATCHSELEVES!$Y$14:$AE$600,5,FALSE),0)","v":0},{"$f":"IFERROR(VLOOKUP(JM5,MATCHSELEVES!$Y$14:$AF$600,8,FALSE),0)","v":0},{"$f":"IFERROR(VLOOKUP(JM5,MATCHSELEVES!$Y$14:$AG$600,9,FALSE),0)","v":0},{"$f":"$C5&\"p_4\"","v":"Açelyap_4"},{"$f":"IFERROR(VLOOKUP(JS5,MATCHSELEVES!$Y$14:$AE$600,3,FALSE),0)","v":0},{"$f":"IFERROR(VLOOKUP(JS5,MATCHSELEVES!$Y$14:$AE$600,4,FALSE),0)","v":0},{"$f":"IFERROR(VLOOKUP(JS5,MATCHSELEVES!$Y$14:$AE$600,5,FALSE),0)","v":0},{"$f":"IFERROR(VLOOKUP(JS5,MATCHSELEVES!$Y$14:$AF$600,8,FALSE),0)","v":0},{"$f":"IFERROR(VLOOKUP(JS5,MATCHSELEVES!$Y$14:$AG$600,9,FALSE),0)","v":0},{"$f":"$C5&\"p_5\"","v":"Açelyap_5"},{"$f":"IFERROR(VLOOKUP(JY5,MATCHSELEVES!$Y$14:$AE$600,3,FALSE),0)","v":0},{"$f":"IFERROR(VLOOKUP(JY5,MATCHSELEVES!$Y$14:$AE$600,4,FALSE),0)","v":0},{"$f":"IFERROR(VLOOKUP(JY5,MATCHSELEVES!$Y$14:$AE$600,5,FALSE),0)","v":0},{"$f":"IFERROR(VLOOKUP(JY5,MATCHSELEVES!$Y$14:$AF$600,8,FALSE),0)","v":0},{"$f":"IFERROR(VLOOKUP(JY5,MATCHSELEVES!$Y$14:$AG$600,9,FALSE),0)","v":0},{"$f":"$C5&\"p_6\"","v":"Açelyap_6"},{"$f":"IFERROR(VLOOKUP(KE5,MATCHSELEVES!$Y$14:$AE$600,3,FALSE),0)","v":0},{"$f":"IFERROR(VLOOKUP(KE5,MATCHSELEVES!$Y$14:$AE$600,4,FALSE),0)","v":0},{"$f":"IFERROR(VLOOKUP(KE5,MATCHSELEVES!$Y$14:$AE$600,5,FALSE),0)","v":0},{"$f":"IFERROR(VLOOKUP(KE5,MATCHSELEVES!$Y$14:$AF$600,8,FALSE),0)","v":0},{"$f":"IFERROR(VLOOKUP(KE5,MATCHSELEVES!$Y$14:$AG$600,9,FALSE),0)","v":0},{"$f":"$C5&\"p_7\"","v":"Açelyap_7"},{"$f":"IFERROR(VLOOKUP(KK5,MATCHSELEVES!$Y$14:$AE$600,3,FALSE),0)","v":0},{"$f":"IFERROR(VLOOKUP(KK5,MATCHSELEVES!$Y$14:$AE$600,4,FALSE),0)","v":0},{"$f":"IFERROR(VLOOKUP(KK5,MATCHSELEVES!$Y$14:$AE$600,5,FALSE),0)","v":0},{"$f":"IFERROR(VLOOKUP(KK5,MATCHSELEVES!$Y$14:$AF$600,8,FALSE),0)","v":0},{"$f":"IFERROR(VLOOKUP(KK5,MATCHSELEVES!$Y$14:$AG$600,9,FALSE),0)","v":0},{"$f":"$C5&\"p_8\"","v":"Açelyap_8"},{"$f":"IFERROR(VLOOKUP(KQ5,MATCHSELEVES!$Y$14:$AE$600,3,FALSE),0)","v":0},{"$f":"IFERROR(VLOOKUP(KQ5,MATCHSELEVES!$Y$14:$AE$600,4,FALSE),0)","v":0},{"$f":"IFERROR(VLOOKUP(KQ5,MATCHSELEVES!$Y$14:$AE$600,5,FALSE),0)","v":0},{"$f":"IFERROR(VLOOKUP(KQ5,MATCHSELEVES!$Y$14:$AF$600,8,FALSE),0)","v":0},{"$f":"IFERROR(VLOOKUP(KQ5,MATCHSELEVES!$Y$14:$AG$600,9,FALSE),0)","v":0},{"$f":"$C5&\"p_9\"","v":"Açelyap_9"},{"$f":"IFERROR(VLOOKUP(KW5,MATCHSELEVES!$Y$14:$AE$600,3,FALSE),0)","v":0},{"$f":"IFERROR(VLOOKUP(KW5,MATCHSELEVES!$Y$14:$AE$600,4,FALSE),0)","v":0},{"$f":"IFERROR(VLOOKUP(KW5,MATCHSELEVES!$Y$14:$AE$600,5,FALSE),0)","v":0},{"$f":"IFERROR(VLOOKUP(KW5,MATCHSELEVES!$Y$14:$AF$600,8,FALSE),0)","v":0},{"$f":"IFERROR(VLOOKUP(KW5,MATCHSELEVES!$Y$14:$AG$600,9,FALSE),0)","v":0},{"$f":"$C5&\"p_10\"","v":"Açelyap_10"},{"$f":"IFERROR(VLOOKUP(LC5,MATCHSELEVES!$Y$14:$AE$600,3,FALSE),0)","v":0},{"$f":"IFERROR(VLOOKUP(LC5,MATCHSELEVES!$Y$14:$AE$600,4,FALSE),0)","v":0},{"$f":"IFERROR(VLOOKUP(LC5,MATCHSELEVES!$Y$14:$AE$600,5,FALSE),0)","v":0},{"$f":"IFERROR(VLOOKUP(LC5,MATCHSELEVES!$Y$14:$AF$600,8,FALSE),0)","v":0},{"$f":"IFERROR(VLOOKUP(LC5,MATCHSELEVES!$Y$14:$AG$600,9,FALSE),0)","v":0},{"$f":"$C5&\"p_11\"","v":"Açelyap_11"},{"$f":"IFERROR(VLOOKUP(LI5,MATCHSELEVES!$Y$14:$AE$600,3,FALSE),0)","v":0},{"$f":"IFERROR(VLOOKUP(LI5,MATCHSELEVES!$Y$14:$AE$600,4,FALSE),0)","v":0},{"$f":"IFERROR(VLOOKUP(LI5,MATCHSELEVES!$Y$14:$AE$600,5,FALSE),0)","v":0},{"$f":"IFERROR(VLOOKUP(LI5,MATCHSELEVES!$Y$14:$AF$600,8,FALSE),0)","v":0},{"$f":"IFERROR(VLOOKUP(LI5,MATCHSELEVES!$Y$14:$AG$600,9,FALSE),0)","v":0},{"$f":"$C5&\"p_12\"","v":"Açelyap_12"},{"$f":"IFERROR(VLOOKUP(LO5,MATCHSELEVES!$Y$14:$AE$600,3,FALSE),0)","v":0},{"$f":"IFERROR(VLOOKUP(LO5,MATCHSELEVES!$Y$14:$AE$600,4,FALSE),0)","v":0},{"$f":"IFERROR(VLOOKUP(LO5,MATCHSELEVES!$Y$14:$AE$600,5,FALSE),0)","v":0},{"$f":"IFERROR(VLOOKUP(LO5,MATCHSELEVES!$Y$14:$AF$600,8,FALSE),0)","v":0},{"$f":"IFERROR(VLOOKUP(LO5,MATCHSELEVES!$Y$14:$AG$600,9,FALSE),0)","v":0},{"$f":"$C5&\"p_13\"","v":"Açelyap_13"},{"$f":"IFERROR(VLOOKUP(LU5,MATCHSELEVES!$Y$14:$AE$600,3,FALSE),0)","v":0},{"$f":"IFERROR(VLOOKUP(LU5,MATCHSELEVES!$Y$14:$AE$600,4,FALSE),0)","v":0},{"$f":"IFERROR(VLOOKUP(LU5,MATCHSELEVES!$Y$14:$AE$600,5,FALSE),0)","v":0},{"$f":"IFERROR(VLOOKUP(LU5,MATCHSELEVES!$Y$14:$AF$600,8,FALSE),0)","v":0},{"$f":"IFERROR(VLOOKUP(LU5,MATCHSELEVES!$Y$14:$AG$600,9,FALSE),0)","v":0},{"$f":"$C5&\"p_14\"","v":"Açelyap_14"},{"$f":"IFERROR(VLOOKUP(MA5,MATCHSELEVES!$Y$14:$AE$600,3,FALSE),0)","v":0},{"$f":"IFERROR(VLOOKUP(MA5,MATCHSELEVES!$Y$14:$AE$600,4,FALSE),0)","v":0},{"$f":"IFERROR(VLOOKUP(MA5,MATCHSELEVES!$Y$14:$AE$600,5,FALSE),0)","v":0},{"$f":"IFERROR(VLOOKUP(MA5,MATCHSELEVES!$Y$14:$AF$600,8,FALSE),0)","v":0},{"$f":"IFERROR(VLOOKUP(MA5,MATCHSELEVES!$Y$14:$AG$600,9,FALSE),0)","v":0},{"$f":"$C5&\"p_15\"","v":"Açelyap_15"},{"$f":"IFERROR(VLOOKUP(MG5,MATCHSELEVES!$Y$14:$AE$600,3,FALSE),0)","v":0},{"$f":"IFERROR(VLOOKUP(MG5,MATCHSELEVES!$Y$14:$AE$600,4,FALSE),0)","v":0},{"$f":"IFERROR(VLOOKUP(MG5,MATCHSELEVES!$Y$14:$AE$600,5,FALSE),0)","v":0},{"$f":"IFERROR(VLOOKUP(MG5,MATCHSELEVES!$Y$14:$AF$600,8,FALSE),0)","v":0},{"$f":"IFERROR(VLOOKUP(MG5,MATCHSELEVES!$Y$14:$AG$600,9,FALSE),0)","v":0},{"$f":"$C5&\"p_16\"","v":"Açelyap_16"},{"$f":"IFERROR(VLOOKUP(MM5,MATCHSELEVES!$Y$14:$AE$600,3,FALSE),0)","v":0},{"$f":"IFERROR(VLOOKUP(MM5,MATCHSELEVES!$Y$14:$AE$600,4,FALSE),0)","v":0},{"$f":"IFERROR(VLOOKUP(MM5,MATCHSELEVES!$Y$14:$AE$600,5,FALSE),0)","v":0},{"$f":"IFERROR(VLOOKUP(MM5,MATCHSELEVES!$Y$14:$AF$600,8,FALSE),0)","v":0},{"$f":"IFERROR(VLOOKUP(MM5,MATCHSELEVES!$Y$14:$AG$600,9,FALSE),0)","v":0},{"$f":"$C5&\"p_17\"","v":"Açelyap_17"},{"$f":"IFERROR(VLOOKUP(MS5,MATCHSELEVES!$Y$14:$AE$600,3,FALSE),0)","v":0},{"$f":"IFERROR(VLOOKUP(MS5,MATCHSELEVES!$Y$14:$AE$600,4,FALSE),0)","v":0},{"$f":"IFERROR(VLOOKUP(MS5,MATCHSELEVES!$Y$14:$AE$600,5,FALSE),0)","v":0},{"$f":"IFERROR(VLOOKUP(MS5,MATCHSELEVES!$Y$14:$AF$600,8,FALSE),0)","v":0},{"$f":"IFERROR(VLOOKUP(MS5,MATCHSELEVES!$Y$14:$AG$600,9,FALSE),0)","v":0},{"$f":"$C5&\"p_18\"","v":"Açelyap_18"},{"$f":"IFERROR(VLOOKUP(MY5,MATCHSELEVES!$Y$14:$AE$600,3,FALSE),0)","v":0},{"$f":"IFERROR(VLOOKUP(MY5,MATCHSELEVES!$Y$14:$AE$600,4,FALSE),0)","v":0},{"$f":"IFERROR(VLOOKUP(MY5,MATCHSELEVES!$Y$14:$AE$600,5,FALSE),0)","v":0},{"$f":"IFERROR(VLOOKUP(MY5,MATCHSELEVES!$Y$14:$AF$600,8,FALSE),0)","v":0},{"$f":"IFERROR(VLOOKUP(MY5,MATCHSELEVES!$Y$14:$AG$600,9,FALSE),0)","v":0},{"$f":"$C5&\"p_19\"","v":"Açelyap_19"},{"$f":"IFERROR(VLOOKUP(NE5,MATCHSELEVES!$Y$14:$AE$600,3,FALSE),0)","v":0},{"$f":"IFERROR(VLOOKUP(NE5,MATCHSELEVES!$Y$14:$AE$600,4,FALSE),0)","v":0},{"$f":"IFERROR(VLOOKUP(NE5,MATCHSELEVES!$Y$14:$AE$600,5,FALSE),0)","v":0},{"$f":"IFERROR(VLOOKUP(NE5,MATCHSELEVES!$Y$14:$AF$600,8,FALSE),0)","v":0},{"$f":"IFERROR(VLOOKUP(NE5,MATCHSELEVES!$Y$14:$AG$600,9,FALSE),0)","v":0},{"$f":"$C5&\"p_20\"","v":"Açelyap_20"},{"$f":"IFERROR(VLOOKUP(NK5,MATCHSELEVES!$Y$14:$AE$600,3,FALSE),0)","v":0},{"$f":"IFERROR(VLOOKUP(NK5,MATCHSELEVES!$Y$14:$AE$600,4,FALSE),0)","v":0},{"$f":"IFERROR(VLOOKUP(NK5,MATCHSELEVES!$Y$14:$AE$600,5,FALSE),0)","v":0},{"$f":"IFERROR(VLOOKUP(NK5,MATCHSELEVES!$Y$14:$AF$600,8,FALSE),0)","v":0},{"$f":"IFERROR(VLOOKUP(NK5,MATCHSELEVES!$Y$14:$AG$600,9,FALSE),0)","v":0},{"$f":"$C5&\"p_21\"","v":"Açelyap_21"},{"$f":"IFERROR(VLOOKUP(NQ5,MATCHSELEVES!$Y$14:$AE$600,3,FALSE),0)","v":0},{"$f":"IFERROR(VLOOKUP(NQ5,MATCHSELEVES!$Y$14:$AE$600,4,FALSE),0)","v":0},{"$f":"IFERROR(VLOOKUP(NQ5,MATCHSELEVES!$Y$14:$AE$600,5,FALSE),0)","v":0},{"$f":"IFERROR(VLOOKUP(NQ5,MATCHSELEVES!$Y$14:$AF$600,8,FALSE),0)","v":0},{"$f":"IFERROR(VLOOKUP(NQ5,MATCHSELEVES!$Y$14:$AG$600,9,FALSE),0)","v":0},{"$f":"$C5&\"p_22\"","v":"Açelyap_22"},{"$f":"IFERROR(VLOOKUP(NW5,MATCHSELEVES!$Y$14:$AE$600,3,FALSE),0)","v":0},{"$f":"IFERROR(VLOOKUP(NW5,MATCHSELEVES!$Y$14:$AE$600,4,FALSE),0)","v":0},{"$f":"IFERROR(VLOOKUP(NW5,MATCHSELEVES!$Y$14:$AE$600,5,FALSE),0)","v":0},{"$f":"IFERROR(VLOOKUP(NW5,MATCHSELEVES!$Y$14:$AF$600,8,FALSE),0)","v":0},{"$f":"IFERROR(VLOOKUP(NW5,MATCHSELEVES!$Y$14:$AG$600,9,FALSE),0)","v":0},{"$f":"$C5&\"p_23\"","v":"Açelyap_23"},{"$f":"IFERROR(VLOOKUP(OC5,MATCHSELEVES!$Y$14:$AE$600,3,FALSE),0)","v":0},{"$f":"IFERROR(VLOOKUP(OC5,MATCHSELEVES!$Y$14:$AE$600,4,FALSE),0)","v":0},{"$f":"IFERROR(VLOOKUP(OC5,MATCHSELEVES!$Y$14:$AE$600,5,FALSE),0)","v":0},{"$f":"IFERROR(VLOOKUP(OC5,MATCHSELEVES!$Y$14:$AF$600,8,FALSE),0)","v":0},{"$f":"IFERROR(VLOOKUP(OC5,MATCHSELEVES!$Y$14:$AG$600,9,FALSE),0)","v":0},{"$f":"$C5&\"p_24\"","v":"Açelyap_24"},{"$f":"IFERROR(VLOOKUP(OI5,MATCHSELEVES!$Y$14:$AE$600,3,FALSE),0)","v":0},{"$f":"IFERROR(VLOOKUP(OI5,MATCHSELEVES!$Y$14:$AE$600,4,FALSE),0)","v":0},{"$f":"IFERROR(VLOOKUP(OI5,MATCHSELEVES!$Y$14:$AE$600,5,FALSE),0)","v":0},{"$f":"IFERROR(VLOOKUP(OI5,MATCHSELEVES!$Y$14:$AF$600,8,FALSE),0)","v":0},{"$f":"IFERROR(VLOOKUP(OI5,MATCHSELEVES!$Y$14:$AG$600,9,FALSE),0)","v":0},{"$f":"$C5&\"p_25\"","v":"Açelyap_25"},{"$f":"IFERROR(VLOOKUP(OO5,MATCHSELEVES!$Y$14:$AE$600,3,FALSE),0)","v":0},{"$f":"IFERROR(VLOOKUP(OO5,MATCHSELEVES!$Y$14:$AE$600,4,FALSE),0)","v":0},{"$f":"IFERROR(VLOOKUP(OO5,MATCHSELEVES!$Y$14:$AE$600,5,FALSE),0)","v":0},{"$f":"IFERROR(VLOOKUP(OO5,MATCHSELEVES!$Y$14:$AF$600,8,FALSE),0)","v":0},{"$f":"IFERROR(VLOOKUP(OO5,MATCHSELEVES!$Y$14:$AG$600,9,FALSE),0)","v":0},{"$f":"$C5&\"p_26\"","v":"Açelyap_26"},{"$f":"IFERROR(VLOOKUP(OU5,MATCHSELEVES!$Y$14:$AE$600,3,FALSE),0)","v":0},{"$f":"IFERROR(VLOOKUP(OU5,MATCHSELEVES!$Y$14:$AE$600,4,FALSE),0)","v":0},{"$f":"IFERROR(VLOOKUP(OU5,MATCHSELEVES!$Y$14:$AE$600,5,FALSE),0)","v":0},{"$f":"IFERROR(VLOOKUP(OU5,MATCHSELEVES!$Y$14:$AF$600,8,FALSE),0)","v":0},{"$f":"IFERROR(VLOOKUP(OU5,MATCHSELEVES!$Y$14:$AG$600,9,FALSE),0)","v":0},{"$f":"$C5&\"p_27\"","v":"Açelyap_27"},{"$f":"IFERROR(VLOOKUP(PA5,MATCHSELEVES!$Y$14:$AE$600,3,FALSE),0)","v":0},{"$f":"IFERROR(VLOOKUP(PA5,MATCHSELEVES!$Y$14:$AE$600,4,FALSE),0)","v":0},{"$f":"IFERROR(VLOOKUP(PA5,MATCHSELEVES!$Y$14:$AE$600,5,FALSE),0)","v":0},{"$f":"IFERROR(VLOOKUP(PA5,MATCHSELEVES!$Y$14:$AF$600,8,FALSE),0)","v":0},{"$f":"IFERROR(VLOOKUP(PA5,MATCHSELEVES!$Y$14:$AG$600,9,FALSE),0)","v":0},{"$f":"$C5&\"p_28\"","v":"Açelyap_28"},{"$f":"IFERROR(VLOOKUP(PG5,MATCHSELEVES!$Y$14:$AE$600,3,FALSE),0)","v":0},{"$f":"IFERROR(VLOOKUP(PG5,MATCHSELEVES!$Y$14:$AE$600,4,FALSE),0)","v":0},{"$f":"IFERROR(VLOOKUP(PG5,MATCHSELEVES!$Y$14:$AE$600,5,FALSE),0)","v":0},{"$f":"IFERROR(VLOOKUP(PG5,MATCHSELEVES!$Y$14:$AF$600,8,FALSE),0)","v":0},{"$f":"IFERROR(VLOOKUP(PG5,MATCHSELEVES!$Y$14:$AG$600,9,FALSE),0)","v":0},{"$f":"$C5&\"p_29\"","v":"Açelyap_29"},{"$f":"IFERROR(VLOOKUP(PM5,MATCHSELEVES!$Y$14:$AE$600,3,FALSE),0)","v":0},{"$f":"IFERROR(VLOOKUP(PM5,MATCHSELEVES!$Y$14:$AE$600,4,FALSE),0)","v":0},{"$f":"IFERROR(VLOOKUP(PM5,MATCHSELEVES!$Y$14:$AE$600,5,FALSE),0)","v":0},{"$f":"IFERROR(VLOOKUP(PM5,MATCHSELEVES!$Y$14:$AF$600,8,FALSE),0)","v":0},{"$f":"IFERROR(VLOOKUP(PM5,MATCHSELEVES!$Y$14:$AG$600,9,FALSE),0)","v":0},{"$f":"$C5&\"p_30\"","v":"Açelyap_30"},{"$f":"IFERROR(VLOOKUP(PS5,MATCHSELEVES!$Y$14:$AE$600,3,FALSE),0)","v":0},{"$f":"IFERROR(VLOOKUP(PS5,MATCHSELEVES!$Y$14:$AE$600,4,FALSE),0)","v":0},{"$f":"IFERROR(VLOOKUP(PS5,MATCHSELEVES!$Y$14:$AE$600,5,FALSE),0)","v":0},{"$f":"IFERROR(VLOOKUP(PS5,MATCHSELEVES!$Y$14:$AF$600,8,FALSE),0)","v":0},{"$f":"IFERROR(VLOOKUP(PS5,MATCHSELEVES!$Y$14:$AG$600,9,FALSE),0)","v":0},{"$f":"$C5&\"p_31\"","v":"Açelyap_31"},{"$f":"IFERROR(VLOOKUP(PY5,MATCHSELEVES!$Y$14:$AE$600,3,FALSE),0)","v":0},{"$f":"IFERROR(VLOOKUP(PY5,MATCHSELEVES!$Y$14:$AE$600,4,FALSE),0)","v":0},{"$f":"IFERROR(VLOOKUP(PY5,MATCHSELEVES!$Y$14:$AE$600,5,FALSE),0)","v":0},{"$f":"IFERROR(VLOOKUP(PY5,MATCHSELEVES!$Y$14:$AF$600,8,FALSE),0)","v":0},{"$f":"IFERROR(VLOOKUP(PY5,MATCHSELEVES!$Y$14:$AG$600,9,FALSE),0)","v":0},{"$f":"$C5&\"p_32\"","v":"Açelyap_32"},{"$f":"IFERROR(VLOOKUP(QE5,MATCHSELEVES!$Y$14:$AE$600,3,FALSE),0)","v":0},{"$f":"IFERROR(VLOOKUP(QE5,MATCHSELEVES!$Y$14:$AE$600,4,FALSE),0)","v":0},{"$f":"IFERROR(VLOOKUP(QE5,MATCHSELEVES!$Y$14:$AE$600,5,FALSE),0)","v":0},{"$f":"IFERROR(VLOOKUP(QE5,MATCHSELEVES!$Y$14:$AF$600,8,FALSE),0)","v":0},{"$f":"IFERROR(VLOOKUP(QE5,MATCHSELEVES!$Y$14:$AG$600,9,FALSE),0)","v":0},{"$f":"$C5&\"p_33\"","v":"Açelyap_33"},{"$f":"IFERROR(VLOOKUP(QK5,MATCHSELEVES!$Y$14:$AE$600,3,FALSE),0)","v":0},{"$f":"IFERROR(VLOOKUP(QK5,MATCHSELEVES!$Y$14:$AE$600,4,FALSE),0)","v":0},{"$f":"IFERROR(VLOOKUP(QK5,MATCHSELEVES!$Y$14:$AE$600,5,FALSE),0)","v":0},{"$f":"IFERROR(VLOOKUP(QK5,MATCHSELEVES!$Y$14:$AF$600,8,FALSE),0)","v":0},{"$f":"IFERROR(VLOOKUP(QK5,MATCHSELEVES!$Y$14:$AG$600,9,FALSE),0)","v":0},{"$f":"$C5&\"p_34\"","v":"Açelyap_34"},{"$f":"IFERROR(VLOOKUP(QQ5,MATCHSELEVES!$Y$14:$AE$600,3,FALSE),0)","v":0},{"$f":"IFERROR(VLOOKUP(QQ5,MATCHSELEVES!$Y$14:$AE$600,4,FALSE),0)","v":0},{"$f":"IFERROR(VLOOKUP(QQ5,MATCHSELEVES!$Y$14:$AE$600,5,FALSE),0)","v":0},{"$f":"IFERROR(VLOOKUP(QQ5,MATCHSELEVES!$Y$14:$AF$600,8,FALSE),0)","v":0},{"$f":"IFERROR(VLOOKUP(QQ5,MATCHSELEVES!$Y$14:$AG$600,9,FALSE),0)","v":0},{"$f":"$C5&\"p_35\"","v":"Açelyap_35"},{"$f":"IFERROR(VLOOKUP(QW5,MATCHSELEVES!$Y$14:$AE$600,3,FALSE),0)","v":0},{"$f":"IFERROR(VLOOKUP(QW5,MATCHSELEVES!$Y$14:$AE$600,4,FALSE),0)","v":0},{"$f":"IFERROR(VLOOKUP(QW5,MATCHSELEVES!$Y$14:$AE$600,5,FALSE),0)","v":0},{"$f":"IFERROR(VLOOKUP(QW5,MATCHSELEVES!$Y$14:$AF$600,8,FALSE),0)","v":0},{"$f":"IFERROR(VLOOKUP(QW5,MATCHSELEVES!$Y$14:$AG$600,9,FALSE),0)","v":0},{"$f":"$C5&\"p_36\"","v":"Açelyap_36"},{"$f":"IFERROR(VLOOKUP(RC5,MATCHSELEVES!$Y$14:$AE$600,3,FALSE),0)","v":0},{"$f":"IFERROR(VLOOKUP(RC5,MATCHSELEVES!$Y$14:$AE$600,4,FALSE),0)","v":0},{"$f":"IFERROR(VLOOKUP(RC5,MATCHSELEVES!$Y$14:$AE$600,5,FALSE),0)","v":0},{"$f":"IFERROR(VLOOKUP(RC5,MATCHSELEVES!$Y$14:$AF$600,8,FALSE),0)","v":0},{"$f":"IFERROR(VLOOKUP(RC5,MATCHSELEVES!$Y$14:$AG$600,9,FALSE),0)","v":0},{"$f":"$C5&\"p_37\"","v":"Açelyap_37"},{"$f":"IFERROR(VLOOKUP(RI5,MATCHSELEVES!$Y$14:$AE$600,3,FALSE),0)","v":0},{"$f":"IFERROR(VLOOKUP(RI5,MATCHSELEVES!$Y$14:$AE$600,4,FALSE),0)","v":0},{"$f":"IFERROR(VLOOKUP(RI5,MATCHSELEVES!$Y$14:$AE$600,5,FALSE),0)","v":0},{"$f":"IFERROR(VLOOKUP(RI5,MATCHSELEVES!$Y$14:$AF$600,8,FALSE),0)","v":0},{"$f":"IFERROR(VLOOKUP(RI5,MATCHSELEVES!$Y$14:$AG$600,9,FALSE),0)","v":0},{"$f":"$C5&\"p_38\"","v":"Açelyap_38"},{"$f":"IFERROR(VLOOKUP(RO5,MATCHSELEVES!$Y$14:$AE$600,3,FALSE),0)","v":0},{"$f":"IFERROR(VLOOKUP(RO5,MATCHSELEVES!$Y$14:$AE$600,4,FALSE),0)","v":0},{"$f":"IFERROR(VLOOKUP(RO5,MATCHSELEVES!$Y$14:$AE$600,5,FALSE),0)","v":0},{"$f":"IFERROR(VLOOKUP(RO5,MATCHSELEVES!$Y$14:$AF$600,8,FALSE),0)","v":0},{"$f":"IFERROR(VLOOKUP(RO5,MATCHSELEVES!$Y$14:$AG$600,9,FALSE),0)","v":0},{"$f":"$C5&\"p_39\"","v":"Açelyap_39"},{"$f":"IFERROR(VLOOKUP(RU5,MATCHSELEVES!$Y$14:$AE$600,3,FALSE),0)","v":0},{"$f":"IFERROR(VLOOKUP(RU5,MATCHSELEVES!$Y$14:$AE$600,4,FALSE),0)","v":0},{"$f":"IFERROR(VLOOKUP(RU5,MATCHSELEVES!$Y$14:$AE$600,5,FALSE),0)","v":0},{"$f":"IFERROR(VLOOKUP(RU5,MATCHSELEVES!$Y$14:$AF$600,8,FALSE),0)","v":0},{"$f":"IFERROR(VLOOKUP(RU5,MATCHSELEVES!$Y$14:$AG$600,9,FALSE),0)","v":0},{"$f":"$C5&\"p_40\"","v":"Açelyap_40"},{"$f":"IFERROR(VLOOKUP(SA5,MATCHSELEVES!$Y$14:$AE$600,3,FALSE),0)","v":0},{"$f":"IFERROR(VLOOKUP(SA5,MATCHSELEVES!$Y$14:$AE$600,4,FALSE),0)","v":0},{"$f":"IFERROR(VLOOKUP(SA5,MATCHSELEVES!$Y$14:$AE$600,5,FALSE),0)","v":0},{"$f":"IFERROR(VLOOKUP(SA5,MATCHSELEVES!$Y$14:$AF$600,8,FALSE),0)","v":0},{"$f":"IFERROR(VLOOKUP(SA5,MATCHSELEVES!$Y$14:$AG$600,9,FALSE),0)","v":0}]
[3,null,"Adgy",3,null,null,{"$f":"COUNTIF(MATCHSELEVES!$Z$14:$Z$600,C6)+COUNTIF(MATCHSELEVES!$Z$14:$Z$600,$C6&\"p\")","v":0},1,{"$f":"COUNTIF(MATCHSELEVES!$F$14:$H$249,C6)","v":0},1,0,1,{"$f":"IFERROR(M49/Tableau10[[#This Row],[Nombre de matchs joués]],0)","v":0},{"$f":"IF(Tableau10[[#This Row],[Nombre de points encaissés]]=0,$C$45,SUMPRODUCT((M$4:M$43<M6)*(M$4:M$43<>0))+1)","v":40},0,1,{"$f":"(Tableau10[[#This Row],[CLASSEMENT1]]+Tableau10[[#This Row],[CLASSEMENT2]]+Tableau10[[#This Row],[CLASSEMENT3]]+Tableau10[[#This Row],[CLASSEMENT4]]+Tableau10[[#This Row],[CLASSEMENT5]]+Tableau10[[#This Row],[CLASSEMENT6]])/6","v":7.833333333333333},{"$f":"RANK(Tableau10[[#This Row],[MOYENNE CLASSEMENTS]],Tableau10[MOYENNE CLASSEMENTS],1)","v":3},null,{"$f":"Tableau10[[#This Row],[CLASSEMENT1]]","v":3},"Adgy_1",{"$f":"IFERROR(VLOOKUP(U6,MATCHSELEVES!$Y$14:$AE$600,3,FALSE),0)","v":0},{"$f":"IFERROR(VLOOKUP(U6,MATCHSELEVES!$Y$14:$AE$600,4,FALSE),0)","v":0},{"$f":"IFERROR(VLOOKUP(U6,MATCHSELEVES!$Y$14:$AE$600,5,FALSE),0)","v":0},{"$f":"IFERROR(VLOOKUP(U6,MATCHSELEVES!$Y$14:$AF$600,8,FALSE),0)","v":0},{"$f":"IFERROR(VLOOKUP(U6,MATCHSELEVES!$Y$14:$AG$600,9,FALSE),0)","v":0},"Adgy_2",{"$f":"IFERROR(VLOOKUP(AA6,MATCHSELEVES!$Y$14:$AE$600,3,FALSE),0)","v":0},{"$f":"IFERROR(VLOOKUP(AA6,MATCHSELEVES!$Y$14:$AE$600,4,FALSE),0)","v":0},{"$f":"IFERROR(VLOOKUP(AA6,MATCHSELEVES!$Y$14:$AE$600,5,FALSE),0)","v":0},{"$f":"IFERROR(VLOOKUP(AA6,MATCHSELEVES!$Y$14:$AF$600,8,FALSE),0)","v":0},{"$f":"IFERROR(VLOOKUP(AA6,MATCHSELEVES!$Y$14:$AG$600,9,FALSE),0)","v":0},"Adgy_3",{"$f":"IFERROR(VLOOKUP(AG6,MATCHSELEVES!$Y$14:$AE$600,3,FALSE),0)","v":0},{"$f":"IFERROR(VLOOKUP(AG6,MATCHSELEVES!$Y$14:$AE$600,4,FALSE),0)","v":0},{"$f":"IFERROR(VLOOKUP(AG6,MATCHSELEVES!$Y$14:$AE$600,5,FALSE),0)","v":0},{"$f":"IFERROR(VLOOKUP(AG6,MATCHSELEVES!$Y$14:$AF$600,8,FALSE),0)","v":0},{"$f":"IFERROR(VLOOKUP(AG6,MATCHSELEVES!$Y$14:$AG$600,9,FALSE),0)","v":0},"Adgy_4",{"$f":"IFERROR(VLOOKUP(AM6,MATCHSELEVES!$Y$14:$AE$600,3,FALSE),0)","v":0},{"$f":"IFERROR(VLOOKUP(AM6,MATCHSELEVES!$Y$14:$AE$600,4,FALSE),0)","v":0},{"$f":"IFERROR(VLOOKUP(AM6,MATCHSELEVES!$Y$14:$AE$600,5,FALSE),0)","v":0},{"$f":"IFERROR(VLOOKUP(AM6,MATCHSELEVES!$Y$14:$AF$600,8,FALSE),0)","v":0},{"$f":"IFERROR(VLOOKUP(AM6,MATCHSELEVES!$Y$14:$AG$600,9,FALSE),0)","v":0},"Adgy_5",{"$f":"IFERROR(VLOOKUP(AS6,MATCHSELEVES!$Y$14:$AE$600,3,FALSE),0)","v":0},{"$f":"IFERROR(VLOOKUP(AS6,MATCHSELEVES!$Y$14:$AE$600,4,FALSE),0)","v":0},{"$f":"IFERROR(VLOOKUP(AS6,MATCHSELEVES!$Y$14:$AE$600,5,FALSE),0)","v":0},{"$f":"IFERROR(VLOOKUP(AS6,MATCHSELEVES!$Y$14:$AF$600,8,FALSE),0)","v":0},{"$f":"IFERROR(VLOOKUP(AS6,MATCHSELEVES!$Y$14:$AG$600,9,FALSE),0)","v":0},"Adgy_6",{"$f":"IFERROR(VLOOKUP(AY6,MATCHSELEVES!$Y$14:$AE$600,3,FALSE),0)","v":0},{"$f":"IFERROR(VLOOKUP(AY6,MATCHSELEVES!$Y$14:$AE$600,4,FALSE),0)","v":0},{"$f":"IFERROR(VLOOKUP(AY6,MATCHSELEVES!$Y$14:$AE$600,5,FALSE),0)","v":0},{"$f":"IFERROR(VLOOKUP(AY6,MATCHSELEVES!$Y$14:$AF$600,8,FALSE),0)","v":0},{"$f":"IFERROR(VLOOKUP(AY6,MATCHSELEVES!$Y$14:$AG$600,9,FALSE),0)","v":0},"Adgy_7",{"$f":"IFERROR(VLOOKUP(BE6,MATCHSELEVES!$Y$14:$AE$600,3,FALSE),0)","v":0},{"$f":"IFERROR(VLOOKUP(BE6,MATCHSELEVES!$Y$14:$AE$600,4,FALSE),0)","v":0},{"$f":"IFERROR(VLOOKUP(BE6,MATCHSELEVES!$Y$14:$AE$600,5,FALSE),0)","v":0},{"$f":"IFERROR(VLOOKUP(BE6,MATCHSELEVES!$Y$14:$AF$600,8,FALSE),0)","v":0},{"$f":"IFERROR(VLOOKUP(BE6,MATCHSELEVES!$Y$14:$AG$600,9,FALSE),0)","v":0},"Adgy_8",{"$f":"IFERROR(VLOOKUP(BK6,MATCHSELEVES!$Y$14:$AE$600,3,FALSE),0)","v":0},{"$f":"IFERROR(VLOOKUP(BK6,MATCHSELEVES!$Y$14:$AE$600,4,FALSE),0)","v":0},{"$f":"IFERROR(VLOOKUP(BK6,MATCHSELEVES!$Y$14:$AE$600,5,FALSE),0)","v":0},{"$f":"IFERROR(VLOOKUP(BK6,MATCHSELEVES!$Y$14:$AF$600,8,FALSE),0)","v":0},{"$f":"IFERROR(VLOOKUP(BK6,MATCHSELEVES!$Y$14:$AG$600,9,FALSE),0)","v":0},"Adgy_9",{"$f":"IFERROR(VLOOKUP(BQ6,MATCHSELEVES!$Y$14:$AE$600,3,FALSE),0)","v":0},{"$f":"IFERROR(VLOOKUP(BQ6,MATCHSELEVES!$Y$14:$AE$600,4,FALSE),0)","v":0},{"$f":"IFERROR(VLOOKUP(BQ6,MATCHSELEVES!$Y$14:$AE$600,5,FALSE),0)","v":0},{"$f":"IFERROR(VLOOKUP(BQ6,MATCHSELEVES!$Y$14:$AF$600,8,FALSE),0)","v":0},{"$f":"IFERROR(VLOOKUP(BQ6,MATCHSELEVES!$Y$14:$AG$600,9,FALSE),0)","v":0},"Adgy_10",{"$f":"IFERROR(VLOOKUP(BW6,MATCHSELEVES!$Y$14:$AE$600,3,FALSE),0)","v":0},{"$f":"IFERROR(VLOOKUP(BW6,MATCHSELEVES!$Y$14:$AE$600,4,FALSE),0)","v":0},{"$f":"IFERROR(VLOOKUP(BW6,MATCHSELEVES!$Y$14:$AE$600,5,FALSE),0)","v":0},{"$f":"IFERROR(VLOOKUP(BW6,MATCHSELEVES!$Y$14:$AF$600,8,FALSE),0)","v":0},{"$f":"IFERROR(VLOOKUP(BW6,MATCHSELEVES!$Y$14:$AG$600,9,FALSE),0)","v":0},"Adgy_11",{"$f":"IFERROR(VLOOKUP(CC6,MATCHSELEVES!$Y$14:$AE$600,3,FALSE),0)","v":0},{"$f":"IFERROR(VLOOKUP(CC6,MATCHSELEVES!$Y$14:$AE$600,4,FALSE),0)","v":0},{"$f":"IFERROR(VLOOKUP(CC6,MATCHSELEVES!$Y$14:$AE$600,5,FALSE),0)","v":0},{"$f":"IFERROR(VLOOKUP(CC6,MATCHSELEVES!$Y$14:$AF$600,8,FALSE),0)","v":0},{"$f":"IFERROR(VLOOKUP(CC6,MATCHSELEVES!$Y$14:$AG$600,9,FALSE),0)","v":0},"Adgy_12",{"$f":"IFERROR(VLOOKUP(CI6,MATCHSELEVES!$Y$14:$AE$600,3,FALSE),0)","v":0},{"$f":"IFERROR(VLOOKUP(CI6,MATCHSELEVES!$Y$14:$AE$600,4,FALSE),0)","v":0},{"$f":"IFERROR(VLOOKUP(CI6,MATCHSELEVES!$Y$14:$AE$600,5,FALSE),0)","v":0},{"$f":"IFERROR(VLOOKUP(CI6,MATCHSELEVES!$Y$14:$AF$600,8,FALSE),0)","v":0},{"$f":"IFERROR(VLOOKUP(CI6,MATCHSELEVES!$Y$14:$AG$600,9,FALSE),0)","v":0},"Adgy_13",{"$f":"IFERROR(VLOOKUP(CO6,MATCHSELEVES!$Y$14:$AE$600,3,FALSE),0)","v":0},{"$f":"IFERROR(VLOOKUP(CO6,MATCHSELEVES!$Y$14:$AE$600,4,FALSE),0)","v":0},{"$f":"IFERROR(VLOOKUP(CO6,MATCHSELEVES!$Y$14:$AE$600,5,FALSE),0)","v":0},{"$f":"IFERROR(VLOOKUP(CO6,MATCHSELEVES!$Y$14:$AF$600,8,FALSE),0)","v":0},{"$f":"IFERROR(VLOOKUP(CO6,MATCHSELEVES!$Y$14:$AG$600,9,FALSE),0)","v":0},"Adgy_14",{"$f":"IFERROR(VLOOKUP(CU6,MATCHSELEVES!$Y$14:$AE$600,3,FALSE),0)","v":0},{"$f":"IFERROR(VLOOKUP(CU6,MATCHSELEVES!$Y$14:$AE$600,4,FALSE),0)","v":0},{"$f":"IFERROR(VLOOKUP(CU6,MATCHSELEVES!$Y$14:$AE$600,5,FALSE),0)","v":0},{"$f":"IFERROR(VLOOKUP(CU6,MATCHSELEVES!$Y$14:$AF$600,8,FALSE),0)","v":0},{"$f":"IFERROR(VLOOKUP(CU6,MATCHSELEVES!$Y$14:$AG$600,9,FALSE),0)","v":0},"Adgy_15",{"$f":"IFERROR(VLOOKUP(DA6,MATCHSELEVES!$Y$14:$AE$600,3,FALSE),0)","v":0},{"$f":"IFERROR(VLOOKUP(DA6,MATCHSELEVES!$Y$14:$AE$600,4,FALSE),0)","v":0},{"$f":"IFERROR(VLOOKUP(DA6,MATCHSELEVES!$Y$14:$AE$600,5,FALSE),0)","v":0},{"$f":"IFERROR(VLOOKUP(DA6,MATCHSELEVES!$Y$14:$AF$600,8,FALSE),0)","v":0},{"$f":"IFERROR(VLOOKUP(DA6,MATCHSELEVES!$Y$14:$AG$600,9,FALSE),0)","v":0},"Adgy_16",{"$f":"IFERROR(VLOOKUP(DG6,MATCHSELEVES!$Y$14:$AE$600,3,FALSE),0)","v":0},{"$f":"IFERROR(VLOOKUP(DG6,MATCHSELEVES!$Y$14:$AE$600,4,FALSE),0)","v":0},{"$f":"IFERROR(VLOOKUP(DG6,MATCHSELEVES!$Y$14:$AE$600,5,FALSE),0)","v":0},{"$f":"IFERROR(VLOOKUP(DG6,MATCHSELEVES!$Y$14:$AF$600,8,FALSE),0)","v":0},{"$f":"IFERROR(VLOOKUP(DG6,MATCHSELEVES!$Y$14:$AG$600,9,FALSE),0)","v":0},"Adgy_17",{"$f":"IFERROR(VLOOKUP(DM6,MATCHSELEVES!$Y$14:$AE$600,3,FALSE),0)","v":0},{"$f":"IFERROR(VLOOKUP(DM6,MATCHSELEVES!$Y$14:$AE$600,4,FALSE),0)","v":0},{"$f":"IFERROR(VLOOKUP(DM6,MATCHSELEVES!$Y$14:$AE$600,5,FALSE),0)","v":0},{"$f":"IFERROR(VLOOKUP(DM6,MATCHSELEVES!$Y$14:$AF$600,8,FALSE),0)","v":0},{"$f":"IFERROR(VLOOKUP(DM6,MATCHSELEVES!$Y$14:$AG$600,9,FALSE),0)","v":0},"Adgy_18",{"$f":"IFERROR(VLOOKUP(DS6,MATCHSELEVES!$Y$14:$AE$600,3,FALSE),0)","v":0},{"$f":"IFERROR(VLOOKUP(DS6,MATCHSELEVES!$Y$14:$AE$600,4,FALSE),0)","v":0},{"$f":"IFERROR(VLOOKUP(DS6,MATCHSELEVES!$Y$14:$AE$600,5,FALSE),0)","v":0},{"$f":"IFERROR(VLOOKUP(DS6,MATCHSELEVES!$Y$14:$AF$600,8,FALSE),0)","v":0},{"$f":"IFERROR(VLOOKUP(DS6,MATCHSELEVES!$Y$14:$AG$600,9,FALSE),0)","v":0},"Adgy_19",{"$f":"IFERROR(VLOOKUP(DY6,MATCHSELEVES!$Y$14:$AE$600,3,FALSE),0)","v":0},{"$f":"IFERROR(VLOOKUP(DY6,MATCHSELEVES!$Y$14:$AE$600,4,FALSE),0)","v":0},{"$f":"IFERROR(VLOOKUP(DY6,MATCHSELEVES!$Y$14:$AE$600,5,FALSE),0)","v":0},{"$f":"IFERROR(VLOOKUP(DY6,MATCHSELEVES!$Y$14:$AF$600,8,FALSE),0)","v":0},{"$f":"IFERROR(VLOOKUP(DY6,MATCHSELEVES!$Y$14:$AG$600,9,FALSE),0)","v":0},"Adgy_20",{"$f":"IFERROR(VLOOKUP(EE6,MATCHSELEVES!$Y$14:$AE$600,3,FALSE),0)","v":0},{"$f":"IFERROR(VLOOKUP(EE6,MATCHSELEVES!$Y$14:$AE$600,4,FALSE),0)","v":0},{"$f":"IFERROR(VLOOKUP(EE6,MATCHSELEVES!$Y$14:$AE$600,5,FALSE),0)","v":0},{"$f":"IFERROR(VLOOKUP(EE6,MATCHSELEVES!$Y$14:$AF$600,8,FALSE),0)","v":0},{"$f":"IFERROR(VLOOKUP(EE6,MATCHSELEVES!$Y$14:$AG$600,9,FALSE),0)","v":0},"Adgy_21",{"$f":"IFERROR(VLOOKUP(EK6,MATCHSELEVES!$Y$14:$AE$600,3,FALSE),0)","v":0},{"$f":"IFERROR(VLOOKUP(EK6,MATCHSELEVES!$Y$14:$AE$600,4,FALSE),0)","v":0},{"$f":"IFERROR(VLOOKUP(EK6,MATCHSELEVES!$Y$14:$AE$600,5,FALSE),0)","v":0},{"$f":"IFERROR(VLOOKUP(EK6,MATCHSELEVES!$Y$14:$AF$600,8,FALSE),0)","v":0},{"$f":"IFERROR(VLOOKUP(EK6,MATCHSELEVES!$Y$14:$AG$600,9,FALSE),0)","v":0},"Adgy_22",{"$f":"IFERROR(VLOOKUP(EQ6,MATCHSELEVES!$Y$14:$AE$600,3,FALSE),0)","v":0},{"$f":"IFERROR(VLOOKUP(EQ6,MATCHSELEVES!$Y$14:$AE$600,4,FALSE),0)","v":0},{"$f":"IFERROR(VLOOKUP(EQ6,MATCHSELEVES!$Y$14:$AE$600,5,FALSE),0)","v":0},{"$f":"IFERROR(VLOOKUP(EQ6,MATCHSELEVES!$Y$14:$AF$600,8,FALSE),0)","v":0},{"$f":"IFERROR(VLOOKUP(EQ6,MATCHSELEVES!$Y$14:$AG$600,9,FALSE),0)","v":0},"Adgy_23",{"$f":"IFERROR(VLOOKUP(EW6,MATCHSELEVES!$Y$14:$AE$600,3,FALSE),0)","v":0},{"$f":"IFERROR(VLOOKUP(EW6,MATCHSELEVES!$Y$14:$AE$600,4,FALSE),0)","v":0},{"$f":"IFERROR(VLOOKUP(EW6,MATCHSELEVES!$Y$14:$AE$600,5,FALSE),0)","v":0},{"$f":"IFERROR(VLOOKUP(EW6,MATCHSELEVES!$Y$14:$AF$600,8,FALSE),0)","v":0},{"$f":"IFERROR(VLOOKUP(EW6,MATCHSELEVES!$Y$14:$AG$600,9,FALSE),0)","v":0},"Adgy_24",{"$f":"IFERROR(VLOOKUP(FC6,MATCHSELEVES!$Y$14:$AE$600,3,FALSE),0)","v":0},{"$f":"IFERROR(VLOOKUP(FC6,MATCHSELEVES!$Y$14:$AE$600,4,FALSE),0)","v":0},{"$f":"IFERROR(VLOOKUP(FC6,MATCHSELEVES!$Y$14:$AE$600,5,FALSE),0)","v":0},{"$f":"IFERROR(VLOOKUP(FC6,MATCHSELEVES!$Y$14:$AF$600,8,FALSE),0)","v":0},{"$f":"IFERROR(VLOOKUP(FC6,MATCHSELEVES!$Y$14:$AG$600,9,FALSE),0)","v":0},"Adgy_25",{"$f":"IFERROR(VLOOKUP(FI6,MATCHSELEVES!$Y$14:$AE$600,3,FALSE),0)","v":0},{"$f":"IFERROR(VLOOKUP(FI6,MATCHSELEVES!$Y$14:$AE$600,4,FALSE),0)","v":0},{"$f":"IFERROR(VLOOKUP(FI6,MATCHSELEVES!$Y$14:$AE$600,5,FALSE),0)","v":0},{"$f":"IFERROR(VLOOKUP(FI6,MATCHSELEVES!$Y$14:$AF$600,8,FALSE),0)","v":0},{"$f":"IFERROR(VLOOKUP(FI6,MATCHSELEVES!$Y$14:$AG$600,9,FALSE),0)","v":0},"Adgy_26",{"$f":"IFERROR(VLOOKUP(FO6,MATCHSELEVES!$Y$14:$AE$600,3,FALSE),0)","v":0},{"$f":"IFERROR(VLOOKUP(FO6,MATCHSELEVES!$Y$14:$AE$600,4,FALSE),0)","v":0},{"$f":"IFERROR(VLOOKUP(FO6,MATCHSELEVES!$Y$14:$AE$600,5,FALSE),0)","v":0},{"$f":"IFERROR(VLOOKUP(FO6,MATCHSELEVES!$Y$14:$AF$600,8,FALSE),0)","v":0},{"$f":"IFERROR(VLOOKUP(FO6,MATCHSELEVES!$Y$14:$AG$600,9,FALSE),0)","v":0},"Adgy_27",{"$f":"IFERROR(VLOOKUP(FU6,MATCHSELEVES!$Y$14:$AE$600,3,FALSE),0)","v":0},{"$f":"IFERROR(VLOOKUP(FU6,MATCHSELEVES!$Y$14:$AE$600,4,FALSE),0)","v":0},{"$f":"IFERROR(VLOOKUP(FU6,MATCHSELEVES!$Y$14:$AE$600,5,FALSE),0)","v":0},{"$f":"IFERROR(VLOOKUP(FU6,MATCHSELEVES!$Y$14:$AF$600,8,FALSE),0)","v":0},{"$f":"IFERROR(VLOOKUP(FU6,MATCHSELEVES!$Y$14:$AG$600,9,FALSE),0)","v":0},"Adgy_28",{"$f":"IFERROR(VLOOKUP(GA6,MATCHSELEVES!$Y$14:$AE$600,3,FALSE),0)","v":0},{"$f":"IFERROR(VLOOKUP(GA6,MATCHSELEVES!$Y$14:$AE$600,4,FALSE),0)","v":0},{"$f":"IFERROR(VLOOKUP(GA6,MATCHSELEVES!$Y$14:$AE$600,5,FALSE),0)","v":0},{"$f":"IFERROR(VLOOKUP(GA6,MATCHSELEVES!$Y$14:$AF$600,8,FALSE),0)","v":0},{"$f":"IFERROR(VLOOKUP(GA6,MATCHSELEVES!$Y$14:$AG$600,9,FALSE),0)","v":0},"Adgy_29",{"$f":"IFERROR(VLOOKUP(GG6,MATCHSELEVES!$Y$14:$AE$600,3,FALSE),0)","v":0},{"$f":"IFERROR(VLOOKUP(GG6,MATCHSELEVES!$Y$14:$AE$600,4,FALSE),0)","v":0},{"$f":"IFERROR(VLOOKUP(GG6,MATCHSELEVES!$Y$14:$AE$600,5,FALSE),0)","v":0},{"$f":"IFERROR(VLOOKUP(GG6,MATCHSELEVES!$Y$14:$AF$600,8,FALSE),0)","v":0},{"$f":"IFERROR(VLOOKUP(GG6,MATCHSELEVES!$Y$14:$AG$600,9,FALSE),0)","v":0},"Adgy_30",{"$f":"IFERROR(VLOOKUP(GM6,MATCHSELEVES!$Y$14:$AE$600,3,FALSE),0)","v":0},{"$f":"IFERROR(VLOOKUP(GM6,MATCHSELEVES!$Y$14:$AE$600,4,FALSE),0)","v":0},{"$f":"IFERROR(VLOOKUP(GM6,MATCHSELEVES!$Y$14:$AE$600,5,FALSE),0)","v":0},{"$f":"IFERROR(VLOOKUP(GM6,MATCHSELEVES!$Y$14:$AF$600,8,FALSE),0)","v":0},{"$f":"IFERROR(VLOOKUP(GM6,MATCHSELEVES!$Y$14:$AG$600,9,FALSE),0)","v":0},"Adgy_31",{"$f":"IFERROR(VLOOKUP(GS6,MATCHSELEVES!$Y$14:$AE$600,3,FALSE),0)","v":0},{"$f":"IFERROR(VLOOKUP(GS6,MATCHSELEVES!$Y$14:$AE$600,4,FALSE),0)","v":0},{"$f":"IFERROR(VLOOKUP(GS6,MATCHSELEVES!$Y$14:$AE$600,5,FALSE),0)","v":0},{"$f":"IFERROR(VLOOKUP(GS6,MATCHSELEVES!$Y$14:$AF$600,8,FALSE),0)","v":0},{"$f":"IFERROR(VLOOKUP(GS6,MATCHSELEVES!$Y$14:$AG$600,9,FALSE),0)","v":0},"Adgy_32",{"$f":"IFERROR(VLOOKUP(GY6,MATCHSELEVES!$Y$14:$AE$600,3,FALSE),0)","v":0},{"$f":"IFERROR(VLOOKUP(GY6,MATCHSELEVES!$Y$14:$AE$600,4,FALSE),0)","v":0},{"$f":"IFERROR(VLOOKUP(GY6,MATCHSELEVES!$Y$14:$AE$600,5,FALSE),0)","v":0},{"$f":"IFERROR(VLOOKUP(GY6,MATCHSELEVES!$Y$14:$AF$600,8,FALSE),0)","v":0},{"$f":"IFERROR(VLOOKUP(GY6,MATCHSELEVES!$Y$14:$AG$600,9,FALSE),0)","v":0},"Adgy_33",{"$f":"IFERROR(VLOOKUP(HE6,MATCHSELEVES!$Y$14:$AE$600,3,FALSE),0)","v":0},{"$f":"IFERROR(VLOOKUP(HE6,MATCHSELEVES!$Y$14:$AE$600,4,FALSE),0)","v":0},{"$f":"IFERROR(VLOOKUP(HE6,MATCHSELEVES!$Y$14:$AE$600,5,FALSE),0)","v":0},{"$f":"IFERROR(VLOOKUP(HE6,MATCHSELEVES!$Y$14:$AF$600,8,FALSE),0)","v":0},{"$f":"IFERROR(VLOOKUP(HE6,MATCHSELEVES!$Y$14:$AG$600,9,FALSE),0)","v":0},"Adgy_34",{"$f":"IFERROR(VLOOKUP(HK6,MATCHSELEVES!$Y$14:$AE$600,3,FALSE),0)","v":0},{"$f":"IFERROR(VLOOKUP(HK6,MATCHSELEVES!$Y$14:$AE$600,4,FALSE),0)","v":0},{"$f":"IFERROR(VLOOKUP(HK6,MATCHSELEVES!$Y$14:$AE$600,5,FALSE),0)","v":0},{"$f":"IFERROR(VLOOKUP(HK6,MATCHSELEVES!$Y$14:$AF$600,8,FALSE),0)","v":0},{"$f":"IFERROR(VLOOKUP(HK6,MATCHSELEVES!$Y$14:$AG$600,9,FALSE),0)","v":0},"Adgy_35",{"$f":"IFERROR(VLOOKUP(HQ6,MATCHSELEVES!$Y$14:$AE$600,3,FALSE),0)","v":0},{"$f":"IFERROR(VLOOKUP(HQ6,MATCHSELEVES!$Y$14:$AE$600,4,FALSE),0)","v":0},{"$f":"IFERROR(VLOOKUP(HQ6,MATCHSELEVES!$Y$14:$AE$600,5,FALSE),0)","v":0},{"$f":"IFERROR(VLOOKUP(HQ6,MATCHSELEVES!$Y$14:$AF$600,8,FALSE),0)","v":0},{"$f":"IFERROR(VLOOKUP(HQ6,MATCHSELEVES!$Y$14:$AG$600,9,FALSE),0)","v":0},"Adgy_36",{"$f":"IFERROR(VLOOKUP(HW6,MATCHSELEVES!$Y$14:$AE$600,3,FALSE),0)","v":0},{"$f":"IFERROR(VLOOKUP(HW6,MATCHSELEVES!$Y$14:$AE$600,4,FALSE),0)","v":0},{"$f":"IFERROR(VLOOKUP(HW6,MATCHSELEVES!$Y$14:$AE$600,5,FALSE),0)","v":0},{"$f":"IFERROR(VLOOKUP(HW6,MATCHSELEVES!$Y$14:$AF$600,8,FALSE),0)","v":0},{"$f":"IFERROR(VLOOKUP(HW6,MATCHSELEVES!$Y$14:$AG$600,9,FALSE),0)","v":0},"Adgy_37",{"$f":"IFERROR(VLOOKUP(IC6,MATCHSELEVES!$Y$14:$AE$600,3,FALSE),0)","v":0},{"$f":"IFERROR(VLOOKUP(IC6,MATCHSELEVES!$Y$14:$AE$600,4,FALSE),0)","v":0},{"$f":"IFERROR(VLOOKUP(IC6,MATCHSELEVES!$Y$14:$AE$600,5,FALSE),0)","v":0},{"$f":"IFERROR(VLOOKUP(IC6,MATCHSELEVES!$Y$14:$AF$600,8,FALSE),0)","v":0},{"$f":"IFERROR(VLOOKUP(IC6,MATCHSELEVES!$Y$14:$AG$600,9,FALSE),0)","v":0},"Adgy_38",{"$f":"IFERROR(VLOOKUP(II6,MATCHSELEVES!$Y$14:$AE$600,3,FALSE),0)","v":0},{"$f":"IFERROR(VLOOKUP(II6,MATCHSELEVES!$Y$14:$AE$600,4,FALSE),0)","v":0},{"$f":"IFERROR(VLOOKUP(II6,MATCHSELEVES!$Y$14:$AE$600,5,FALSE),0)","v":0},{"$f":"IFERROR(VLOOKUP(II6,MATCHSELEVES!$Y$14:$AF$600,8,FALSE),0)","v":0},{"$f":"IFERROR(VLOOKUP(II6,MATCHSELEVES!$Y$14:$AG$600,9,FALSE),0)","v":0},"Adgy_39",{"$f":"IFERROR(VLOOKUP(IO6,MATCHSELEVES!$Y$14:$AE$600,3,FALSE),0)","v":0},{"$f":"IFERROR(VLOOKUP(IO6,MATCHSELEVES!$Y$14:$AE$600,4,FALSE),0)","v":0},{"$f":"IFERROR(VLOOKUP(IO6,MATCHSELEVES!$Y$14:$AE$600,5,FALSE),0)","v":0},{"$f":"IFERROR(VLOOKUP(IO6,MATCHSELEVES!$Y$14:$AF$600,8,FALSE),0)","v":0},{"$f":"IFERROR(VLOOKUP(IO6,MATCHSELEVES!$Y$14:$AG$600,9,FALSE),0)","v":0},"Adgy_40",{"$f":"IFERROR(VLOOKUP(IU6,MATCHSELEVES!$Y$14:$AE$600,3,FALSE),0)","v":0},{"$f":"IFERROR(VLOOKUP(IU6,MATCHSELEVES!$Y$14:$AE$600,4,FALSE),0)","v":0},{"$f":"IFERROR(VLOOKUP(IU6,MATCHSELEVES!$Y$14:$AE$600,5,FALSE),0)","v":0},{"$f":"IFERROR(VLOOKUP(IU6,MATCHSELEVES!$Y$14:$AF$600,8,FALSE),0)","v":0},{"$f":"IFERROR(VLOOKUP(IU6,MATCHSELEVES!$Y$14:$AG$600,9,FALSE),0)","v":0},"Adgyp_1",{"$f":"IFERROR(VLOOKUP(JA6,MATCHSELEVES!$Y$14:$AE$600,3,FALSE),0)","v":0},{"$f":"IFERROR(VLOOKUP(JA6,MATCHSELEVES!$Y$14:$AE$600,4,FALSE),0)","v":0},{"$f":"IFERROR(VLOOKUP(JA6,MATCHSELEVES!$Y$14:$AE$600,5,FALSE),0)","v":0},{"$f":"IFERROR(VLOOKUP(JA6,MATCHSELEVES!$Y$14:$AF$600,8,FALSE),0)","v":0},{"$f":"IFERROR(VLOOKUP(JA6,MATCHSELEVES!$Y$14:$AG$600,9,FALSE),0)","v":0},"Adgyp_2",{"$f":"IFERROR(VLOOKUP(JG6,MATCHSELEVES!$Y$14:$AE$600,3,FALSE),0)","v":0},{"$f":"IFERROR(VLOOKUP(JG6,MATCHSELEVES!$Y$14:$AE$600,4,FALSE),0)","v":0},{"$f":"IFERROR(VLOOKUP(JG6,MATCHSELEVES!$Y$14:$AE$600,5,FALSE),0)","v":0},{"$f":"IFERROR(VLOOKUP(JG6,MATCHSELEVES!$Y$14:$AF$600,8,FALSE),0)","v":0},{"$f":"IFERROR(VLOOKUP(JG6,MATCHSELEVES!$Y$14:$AG$600,9,FALSE),0)","v":0},"Adgyp_3",{"$f":"IFERROR(VLOOKUP(JM6,MATCHSELEVES!$Y$14:$AE$600,3,FALSE),0)","v":0},{"$f":"IFERROR(VLOOKUP(JM6,MATCHSELEVES!$Y$14:$AE$600,4,FALSE),0)","v":0},{"$f":"IFERROR(VLOOKUP(JM6,MATCHSELEVES!$Y$14:$AE$600,5,FALSE),0)","v":0},{"$f":"IFERROR(VLOOKUP(JM6,MATCHSELEVES!$Y$14:$AF$600,8,FALSE),0)","v":0},{"$f":"IFERROR(VLOOKUP(JM6,MATCHSELEVES!$Y$14:$AG$600,9,FALSE),0)","v":0},"Adgyp_4",{"$f":"IFERROR(VLOOKUP(JS6,MATCHSELEVES!$Y$14:$AE$600,3,FALSE),0)","v":0},{"$f":"IFERROR(VLOOKUP(JS6,MATCHSELEVES!$Y$14:$AE$600,4,FALSE),0)","v":0},{"$f":"IFERROR(VLOOKUP(JS6,MATCHSELEVES!$Y$14:$AE$600,5,FALSE),0)","v":0},{"$f":"IFERROR(VLOOKUP(JS6,MATCHSELEVES!$Y$14:$AF$600,8,FALSE),0)","v":0},{"$f":"IFERROR(VLOOKUP(JS6,MATCHSELEVES!$Y$14:$AG$600,9,FALSE),0)","v":0},"Adgyp_5",{"$f":"IFERROR(VLOOKUP(JY6,MATCHSELEVES!$Y$14:$AE$600,3,FALSE),0)","v":0},{"$f":"IFERROR(VLOOKUP(JY6,MATCHSELEVES!$Y$14:$AE$600,4,FALSE),0)","v":0},{"$f":"IFERROR(VLOOKUP(JY6,MATCHSELEVES!$Y$14:$AE$600,5,FALSE),0)","v":0},{"$f":"IFERROR(VLOOKUP(JY6,MATCHSELEVES!$Y$14:$AF$600,8,FALSE),0)","v":0},{"$f":"IFERROR(VLOOKUP(JY6,MATCHSELEVES!$Y$14:$AG$600,9,FALSE),0)","v":0},"Adgyp_6",{"$f":"IFERROR(VLOOKUP(KE6,MATCHSELEVES!$Y$14:$AE$600,3,FALSE),0)","v":0},{"$f":"IFERROR(VLOOKUP(KE6,MATCHSELEVES!$Y$14:$AE$600,4,FALSE),0)","v":0},{"$f":"IFERROR(VLOOKUP(KE6,MATCHSELEVES!$Y$14:$AE$600,5,FALSE),0)","v":0},{"$f":"IFERROR(VLOOKUP(KE6,MATCHSELEVES!$Y$14:$AF$600,8,FALSE),0)","v":0},{"$f":"IFERROR(VLOOKUP(KE6,MATCHSELEVES!$Y$14:$AG$600,9,FALSE),0)","v":0},"Adgyp_7",{"$f":"IFERROR(VLOOKUP(KK6,MATCHSELEVES!$Y$14:$AE$600,3,FALSE),0)","v":0},{"$f":"IFERROR(VLOOKUP(KK6,MATCHSELEVES!$Y$14:$AE$600,4,FALSE),0)","v":0},{"$f":"IFERROR(VLOOKUP(KK6,MATCHSELEVES!$Y$14:$AE$600,5,FALSE),0)","v":0},{"$f":"IFERROR(VLOOKUP(KK6,MATCHSELEVES!$Y$14:$AF$600,8,FALSE),0)","v":0},{"$f":"IFERROR(VLOOKUP(KK6,MATCHSELEVES!$Y$14:$AG$600,9,FALSE),0)","v":0},"Adgyp_8",{"$f":"IFERROR(VLOOKUP(KQ6,MATCHSELEVES!$Y$14:$AE$600,3,FALSE),0)","v":0},{"$f":"IFERROR(VLOOKUP(KQ6,MATCHSELEVES!$Y$14:$AE$600,4,FALSE),0)","v":0},{"$f":"IFERROR(VLOOKUP(KQ6,MATCHSELEVES!$Y$14:$AE$600,5,FALSE),0)","v":0},{"$f":"IFERROR(VLOOKUP(KQ6,MATCHSELEVES!$Y$14:$AF$600,8,FALSE),0)","v":0},{"$f":"IFERROR(VLOOKUP(KQ6,MATCHSELEVES!$Y$14:$AG$600,9,FALSE),0)","v":0},"Adgyp_9",{"$f":"IFERROR(VLOOKUP(KW6,MATCHSELEVES!$Y$14:$AE$600,3,FALSE),0)","v":0},{"$f":"IFERROR(VLOOKUP(KW6,MATCHSELEVES!$Y$14:$AE$600,4,FALSE),0)","v":0},{"$f":"IFERROR(VLOOKUP(KW6,MATCHSELEVES!$Y$14:$AE$600,5,FALSE),0)","v":0},{"$f":"IFERROR(VLOOKUP(KW6,MATCHSELEVES!$Y$14:$AF$600,8,FALSE),0)","v":0},{"$f":"IFERROR(VLOOKUP(KW6,MATCHSELEVES!$Y$14:$AG$600,9,FALSE),0)","v":0},"Adgyp_10",{"$f":"IFERROR(VLOOKUP(LC6,MATCHSELEVES!$Y$14:$AE$600,3,FALSE),0)","v":0},{"$f":"IFERROR(VLOOKUP(LC6,MATCHSELEVES!$Y$14:$AE$600,4,FALSE),0)","v":0},{"$f":"IFERROR(VLOOKUP(LC6,MATCHSELEVES!$Y$14:$AE$600,5,FALSE),0)","v":0},{"$f":"IFERROR(VLOOKUP(LC6,MATCHSELEVES!$Y$14:$AF$600,8,FALSE),0)","v":0},{"$f":"IFERROR(VLOOKUP(LC6,MATCHSELEVES!$Y$14:$AG$600,9,FALSE),0)","v":0},"Adgyp_11",{"$f":"IFERROR(VLOOKUP(LI6,MATCHSELEVES!$Y$14:$AE$600,3,FALSE),0)","v":0},{"$f":"IFERROR(VLOOKUP(LI6,MATCHSELEVES!$Y$14:$AE$600,4,FALSE),0)","v":0},{"$f":"IFERROR(VLOOKUP(LI6,MATCHSELEVES!$Y$14:$AE$600,5,FALSE),0)","v":0},{"$f":"IFERROR(VLOOKUP(LI6,MATCHSELEVES!$Y$14:$AF$600,8,FALSE),0)","v":0},{"$f":"IFERROR(VLOOKUP(LI6,MATCHSELEVES!$Y$14:$AG$600,9,FALSE),0)","v":0},"Adgyp_12",{"$f":"IFERROR(VLOOKUP(LO6,MATCHSELEVES!$Y$14:$AE$600,3,FALSE),0)","v":0},{"$f":"IFERROR(VLOOKUP(LO6,MATCHSELEVES!$Y$14:$AE$600,4,FALSE),0)","v":0},{"$f":"IFERROR(VLOOKUP(LO6,MATCHSELEVES!$Y$14:$AE$600,5,FALSE),0)","v":0},{"$f":"IFERROR(VLOOKUP(LO6,MATCHSELEVES!$Y$14:$AF$600,8,FALSE),0)","v":0},{"$f":"IFERROR(VLOOKUP(LO6,MATCHSELEVES!$Y$14:$AG$600,9,FALSE),0)","v":0},"Adgyp_13",{"$f":"IFERROR(VLOOKUP(LU6,MATCHSELEVES!$Y$14:$AE$600,3,FALSE),0)","v":0},{"$f":"IFERROR(VLOOKUP(LU6,MATCHSELEVES!$Y$14:$AE$600,4,FALSE),0)","v":0},{"$f":"IFERROR(VLOOKUP(LU6,MATCHSELEVES!$Y$14:$AE$600,5,FALSE),0)","v":0},{"$f":"IFERROR(VLOOKUP(LU6,MATCHSELEVES!$Y$14:$AF$600,8,FALSE),0)","v":0},{"$f":"IFERROR(VLOOKUP(LU6,MATCHSELEVES!$Y$14:$AG$600,9,FALSE),0)","v":0},"Adgyp_14",{"$f":"IFERROR(VLOOKUP(MA6,MATCHSELEVES!$Y$14:$AE$600,3,FALSE),0)","v":0},{"$f":"IFERROR(VLOOKUP(MA6,MATCHSELEVES!$Y$14:$AE$600,4,FALSE),0)","v":0},{"$f":"IFERROR(VLOOKUP(MA6,MATCHSELEVES!$Y$14:$AE$600,5,FALSE),0)","v":0},{"$f":"IFERROR(VLOOKUP(MA6,MATCHSELEVES!$Y$14:$AF$600,8,FALSE),0)","v":0},{"$f":"IFERROR(VLOOKUP(MA6,MATCHSELEVES!$Y$14:$AG$600,9,FALSE),0)","v":0},"Adgyp_15",{"$f":"IFERROR(VLOOKUP(MG6,MATCHSELEVES!$Y$14:$AE$600,3,FALSE),0)","v":0},{"$f":"IFERROR(VLOOKUP(MG6,MATCHSELEVES!$Y$14:$AE$600,4,FALSE),0)","v":0},{"$f":"IFERROR(VLOOKUP(MG6,MATCHSELEVES!$Y$14:$AE$600,5,FALSE),0)","v":0},{"$f":"IFERROR(VLOOKUP(MG6,MATCHSELEVES!$Y$14:$AF$600,8,FALSE),0)","v":0},{"$f":"IFERROR(VLOOKUP(MG6,MATCHSELEVES!$Y$14:$AG$600,9,FALSE),0)","v":0},"Adgyp_16",{"$f":"IFERROR(VLOOKUP(MM6,MATCHSELEVES!$Y$14:$AE$600,3,FALSE),0)","v":0},{"$f":"IFERROR(VLOOKUP(MM6,MATCHSELEVES!$Y$14:$AE$600,4,FALSE),0)","v":0},{"$f":"IFERROR(VLOOKUP(MM6,MATCHSELEVES!$Y$14:$AE$600,5,FALSE),0)","v":0},{"$f":"IFERROR(VLOOKUP(MM6,MATCHSELEVES!$Y$14:$AF$600,8,FALSE),0)","v":0},{"$f":"IFERROR(VLOOKUP(MM6,MATCHSELEVES!$Y$14:$AG$600,9,FALSE),0)","v":0},"Adgyp_17",{"$f":"IFERROR(VLOOKUP(MS6,MATCHSELEVES!$Y$14:$AE$600,3,FALSE),0)","v":0},{"$f":"IFERROR(VLOOKUP(MS6,MATCHSELEVES!$Y$14:$AE$600,4,FALSE),0)","v":0},{"$f":"IFERROR(VLOOKUP(MS6,MATCHSELEVES!$Y$14:$AE$600,5,FALSE),0)","v":0},{"$f":"IFERROR(VLOOKUP(MS6,MATCHSELEVES!$Y$14:$AF$600,8,FALSE),0)","v":0},{"$f":"IFERROR(VLOOKUP(MS6,MATCHSELEVES!$Y$14:$AG$600,9,FALSE),0)","v":0},"Adgyp_18",{"$f":"IFERROR(VLOOKUP(MY6,MATCHSELEVES!$Y$14:$AE$600,3,FALSE),0)","v":0},{"$f":"IFERROR(VLOOKUP(MY6,MATCHSELEVES!$Y$14:$AE$600,4,FALSE),0)","v":0},{"$f":"IFERROR(VLOOKUP(MY6,MATCHSELEVES!$Y$14:$AE$600,5,FALSE),0)","v":0},{"$f":"IFERROR(VLOOKUP(MY6,MATCHSELEVES!$Y$14:$AF$600,8,FALSE),0)","v":0},{"$f":"IFERROR(VLOOKUP(MY6,MATCHSELEVES!$Y$14:$AG$600,9,FALSE),0)","v":0},"Adgyp_19",{"$f":"IFERROR(VLOOKUP(NE6,MATCHSELEVES!$Y$14:$AE$600,3,FALSE),0)","v":0},{"$f":"IFERROR(VLOOKUP(NE6,MATCHSELEVES!$Y$14:$AE$600,4,FALSE),0)","v":0},{"$f":"IFERROR(VLOOKUP(NE6,MATCHSELEVES!$Y$14:$AE$600,5,FALSE),0)","v":0},{"$f":"IFERROR(VLOOKUP(NE6,MATCHSELEVES!$Y$14:$AF$600,8,FALSE),0)","v":0},{"$f":"IFERROR(VLOOKUP(NE6,MATCHSELEVES!$Y$14:$AG$600,9,FALSE),0)","v":0},"Adgyp_20",{"$f":"IFERROR(VLOOKUP(NK6,MATCHSELEVES!$Y$14:$AE$600,3,FALSE),0)","v":0},{"$f":"IFERROR(VLOOKUP(NK6,MATCHSELEVES!$Y$14:$AE$600,4,FALSE),0)","v":0},{"$f":"IFERROR(VLOOKUP(NK6,MATCHSELEVES!$Y$14:$AE$600,5,FALSE),0)","v":0},{"$f":"IFERROR(VLOOKUP(NK6,MATCHSELEVES!$Y$14:$AF$600,8,FALSE),0)","v":0},{"$f":"IFERROR(VLOOKUP(NK6,MATCHSELEVES!$Y$14:$AG$600,9,FALSE),0)","v":0},"Adgyp_21",{"$f":"IFERROR(VLOOKUP(NQ6,MATCHSELEVES!$Y$14:$AE$600,3,FALSE),0)","v":0},{"$f":"IFERROR(VLOOKUP(NQ6,MATCHSELEVES!$Y$14:$AE$600,4,FALSE),0)","v":0},{"$f":"IFERROR(VLOOKUP(NQ6,MATCHSELEVES!$Y$14:$AE$600,5,FALSE),0)","v":0},{"$f":"IFERROR(VLOOKUP(NQ6,MATCHSELEVES!$Y$14:$AF$600,8,FALSE),0)","v":0},{"$f":"IFERROR(VLOOKUP(NQ6,MATCHSELEVES!$Y$14:$AG$600,9,FALSE),0)","v":0},"Adgyp_22",{"$f":"IFERROR(VLOOKUP(NW6,MATCHSELEVES!$Y$14:$AE$600,3,FALSE),0)","v":0},{"$f":"IFERROR(VLOOKUP(NW6,MATCHSELEVES!$Y$14:$AE$600,4,FALSE),0)","v":0},{"$f":"IFERROR(VLOOKUP(NW6,MATCHSELEVES!$Y$14:$AE$600,5,FALSE),0)","v":0},{"$f":"IFERROR(VLOOKUP(NW6,MATCHSELEVES!$Y$14:$AF$600,8,FALSE),0)","v":0},{"$f":"IFERROR(VLOOKUP(NW6,MATCHSELEVES!$Y$14:$AG$600,9,FALSE),0)","v":0},"Adgyp_23",{"$f":"IFERROR(VLOOKUP(OC6,MATCHSELEVES!$Y$14:$AE$600,3,FALSE),0)","v":0},{"$f":"IFERROR(VLOOKUP(OC6,MATCHSELEVES!$Y$14:$AE$600,4,FALSE),0)","v":0},{"$f":"IFERROR(VLOOKUP(OC6,MATCHSELEVES!$Y$14:$AE$600,5,FALSE),0)","v":0},{"$f":"IFERROR(VLOOKUP(OC6,MATCHSELEVES!$Y$14:$AF$600,8,FALSE),0)","v":0},{"$f":"IFERROR(VLOOKUP(OC6,MATCHSELEVES!$Y$14:$AG$600,9,FALSE),0)","v":0},"Adgyp_24",{"$f":"IFERROR(VLOOKUP(OI6,MATCHSELEVES!$Y$14:$AE$600,3,FALSE),0)","v":0},{"$f":"IFERROR(VLOOKUP(OI6,MATCHSELEVES!$Y$14:$AE$600,4,FALSE),0)","v":0},{"$f":"IFERROR(VLOOKUP(OI6,MATCHSELEVES!$Y$14:$AE$600,5,FALSE),0)","v":0},{"$f":"IFERROR(VLOOKUP(OI6,MATCHSELEVES!$Y$14:$AF$600,8,FALSE),0)","v":0},{"$f":"IFERROR(VLOOKUP(OI6,MATCHSELEVES!$Y$14:$AG$600,9,FALSE),0)","v":0},"Adgyp_25",{"$f":"IFERROR(VLOOKUP(OO6,MATCHSELEVES!$Y$14:$AE$600,3,FALSE),0)","v":0},{"$f":"IFERROR(VLOOKUP(OO6,MATCHSELEVES!$Y$14:$AE$600,4,FALSE),0)","v":0},{"$f":"IFERROR(VLOOKUP(OO6,MATCHSELEVES!$Y$14:$AE$600,5,FALSE),0)","v":0},{"$f":"IFERROR(VLOOKUP(OO6,MATCHSELEVES!$Y$14:$AF$600,8,FALSE),0)","v":0},{"$f":"IFERROR(VLOOKUP(OO6,MATCHSELEVES!$Y$14:$AG$600,9,FALSE),0)","v":0},"Adgyp_26",{"$f":"IFERROR(VLOOKUP(OU6,MATCHSELEVES!$Y$14:$AE$600,3,FALSE),0)","v":0},{"$f":"IFERROR(VLOOKUP(OU6,MATCHSELEVES!$Y$14:$AE$600,4,FALSE),0)","v":0},{"$f":"IFERROR(VLOOKUP(OU6,MATCHSELEVES!$Y$14:$AE$600,5,FALSE),0)","v":0},{"$f":"IFERROR(VLOOKUP(OU6,MATCHSELEVES!$Y$14:$AF$600,8,FALSE),0)","v":0},{"$f":"IFERROR(VLOOKUP(OU6,MATCHSELEVES!$Y$14:$AG$600,9,FALSE),0)","v":0},"Adgyp_27",{"$f":"IFERROR(VLOOKUP(PA6,MATCHSELEVES!$Y$14:$AE$600,3,FALSE),0)","v":0},{"$f":"IFERROR(VLOOKUP(PA6,MATCHSELEVES!$Y$14:$AE$600,4,FALSE),0)","v":0},{"$f":"IFERROR(VLOOKUP(PA6,MATCHSELEVES!$Y$14:$AE$600,5,FALSE),0)","v":0},{"$f":"IFERROR(VLOOKUP(PA6,MATCHSELEVES!$Y$14:$AF$600,8,FALSE),0)","v":0},{"$f":"IFERROR(VLOOKUP(PA6,MATCHSELEVES!$Y$14:$AG$600,9,FALSE),0)","v":0},"Adgyp_28",{"$f":"IFERROR(VLOOKUP(PG6,MATCHSELEVES!$Y$14:$AE$600,3,FALSE),0)","v":0},{"$f":"IFERROR(VLOOKUP(PG6,MATCHSELEVES!$Y$14:$AE$600,4,FALSE),0)","v":0},{"$f":"IFERROR(VLOOKUP(PG6,MATCHSELEVES!$Y$14:$AE$600,5,FALSE),0)","v":0},{"$f":"IFERROR(VLOOKUP(PG6,MATCHSELEVES!$Y$14:$AF$600,8,FALSE),0)","v":0},{"$f":"IFERROR(VLOOKUP(PG6,MATCHSELEVES!$Y$14:$AG$600,9,FALSE),0)","v":0},"Adgyp_29",{"$f":"IFERROR(VLOOKUP(PM6,MATCHSELEVES!$Y$14:$AE$600,3,FALSE),0)","v":0},{"$f":"IFERROR(VLOOKUP(PM6,MATCHSELEVES!$Y$14:$AE$600,4,FALSE),0)","v":0},{"$f":"IFERROR(VLOOKUP(PM6,MATCHSELEVES!$Y$14:$AE$600,5,FALSE),0)","v":0},{"$f":"IFERROR(VLOOKUP(PM6,MATCHSELEVES!$Y$14:$AF$600,8,FALSE),0)","v":0},{"$f":"IFERROR(VLOOKUP(PM6,MATCHSELEVES!$Y$14:$AG$600,9,FALSE),0)","v":0},"Adgyp_30",{"$f":"IFERROR(VLOOKUP(PS6,MATCHSELEVES!$Y$14:$AE$600,3,FALSE),0)","v":0},{"$f":"IFERROR(VLOOKUP(PS6,MATCHSELEVES!$Y$14:$AE$600,4,FALSE),0)","v":0},{"$f":"IFERROR(VLOOKUP(PS6,MATCHSELEVES!$Y$14:$AE$600,5,FALSE),0)","v":0},{"$f":"IFERROR(VLOOKUP(PS6,MATCHSELEVES!$Y$14:$AF$600,8,FALSE),0)","v":0},{"$f":"IFERROR(VLOOKUP(PS6,MATCHSELEVES!$Y$14:$AG$600,9,FALSE),0)","v":0},"Adgyp_31",{"$f":"IFERROR(VLOOKUP(PY6,MATCHSELEVES!$Y$14:$AE$600,3,FALSE),0)","v":0},{"$f":"IFERROR(VLOOKUP(PY6,MATCHSELEVES!$Y$14:$AE$600,4,FALSE),0)","v":0},{"$f":"IFERROR(VLOOKUP(PY6,MATCHSELEVES!$Y$14:$AE$600,5,FALSE),0)","v":0},{"$f":"IFERROR(VLOOKUP(PY6,MATCHSELEVES!$Y$14:$AF$600,8,FALSE),0)","v":0},{"$f":"IFERROR(VLOOKUP(PY6,MATCHSELEVES!$Y$14:$AG$600,9,FALSE),0)","v":0},"Adgyp_32",{"$f":"IFERROR(VLOOKUP(QE6,MATCHSELEVES!$Y$14:$AE$600,3,FALSE),0)","v":0},{"$f":"IFERROR(VLOOKUP(QE6,MATCHSELEVES!$Y$14:$AE$600,4,FALSE),0)","v":0},{"$f":"IFERROR(VLOOKUP(QE6,MATCHSELEVES!$Y$14:$AE$600,5,FALSE),0)","v":0},{"$f":"IFERROR(VLOOKUP(QE6,MATCHSELEVES!$Y$14:$AF$600,8,FALSE),0)","v":0},{"$f":"IFERROR(VLOOKUP(QE6,MATCHSELEVES!$Y$14:$AG$600,9,FALSE),0)","v":0},"Adgyp_33",{"$f":"IFERROR(VLOOKUP(QK6,MATCHSELEVES!$Y$14:$AE$600,3,FALSE),0)","v":0},{"$f":"IFERROR(VLOOKUP(QK6,MATCHSELEVES!$Y$14:$AE$600,4,FALSE),0)","v":0},{"$f":"IFERROR(VLOOKUP(QK6,MATCHSELEVES!$Y$14:$AE$600,5,FALSE),0)","v":0},{"$f":"IFERROR(VLOOKUP(QK6,MATCHSELEVES!$Y$14:$AF$600,8,FALSE),0)","v":0},{"$f":"IFERROR(VLOOKUP(QK6,MATCHSELEVES!$Y$14:$AG$600,9,FALSE),0)","v":0},"Adgyp_34",{"$f":"IFERROR(VLOOKUP(QQ6,MATCHSELEVES!$Y$14:$AE$600,3,FALSE),0)","v":0},{"$f":"IFERROR(VLOOKUP(QQ6,MATCHSELEVES!$Y$14:$AE$600,4,FALSE),0)","v":0},{"$f":"IFERROR(VLOOKUP(QQ6,MATCHSELEVES!$Y$14:$AE$600,5,FALSE),0)","v":0},{"$f":"IFERROR(VLOOKUP(QQ6,MATCHSELEVES!$Y$14:$AF$600,8,FALSE),0)","v":0},{"$f":"IFERROR(VLOOKUP(QQ6,MATCHSELEVES!$Y$14:$AG$600,9,FALSE),0)","v":0},"Adgyp_35",{"$f":"IFERROR(VLOOKUP(QW6,MATCHSELEVES!$Y$14:$AE$600,3,FALSE),0)","v":0},{"$f":"IFERROR(VLOOKUP(QW6,MATCHSELEVES!$Y$14:$AE$600,4,FALSE),0)","v":0},{"$f":"IFERROR(VLOOKUP(QW6,MATCHSELEVES!$Y$14:$AE$600,5,FALSE),0)","v":0},{"$f":"IFERROR(VLOOKUP(QW6,MATCHSELEVES!$Y$14:$AF$600,8,FALSE),0)","v":0},{"$f":"IFERROR(VLOOKUP(QW6,MATCHSELEVES!$Y$14:$AG$600,9,FALSE),0)","v":0},"Adgyp_36",{"$f":"IFERROR(VLOOKUP(RC6,MATCHSELEVES!$Y$14:$AE$600,3,FALSE),0)","v":0},{"$f":"IFERROR(VLOOKUP(RC6,MATCHSELEVES!$Y$14:$AE$600,4,FALSE),0)","v":0},{"$f":"IFERROR(VLOOKUP(RC6,MATCHSELEVES!$Y$14:$AE$600,5,FALSE),0)","v":0},{"$f":"IFERROR(VLOOKUP(RC6,MATCHSELEVES!$Y$14:$AF$600,8,FALSE),0)","v":0},{"$f":"IFERROR(VLOOKUP(RC6,MATCHSELEVES!$Y$14:$AG$600,9,FALSE),0)","v":0},"Adgyp_37",{"$f":"IFERROR(VLOOKUP(RI6,MATCHSELEVES!$Y$14:$AE$600,3,FALSE),0)","v":0},{"$f":"IFERROR(VLOOKUP(RI6,MATCHSELEVES!$Y$14:$AE$600,4,FALSE),0)","v":0},{"$f":"IFERROR(VLOOKUP(RI6,MATCHSELEVES!$Y$14:$AE$600,5,FALSE),0)","v":0},{"$f":"IFERROR(VLOOKUP(RI6,MATCHSELEVES!$Y$14:$AF$600,8,FALSE),0)","v":0},{"$f":"IFERROR(VLOOKUP(RI6,MATCHSELEVES!$Y$14:$AG$600,9,FALSE),0)","v":0},"Adgyp_38",{"$f":"IFERROR(VLOOKUP(RO6,MATCHSELEVES!$Y$14:$AE$600,3,FALSE),0)","v":0},{"$f":"IFERROR(VLOOKUP(RO6,MATCHSELEVES!$Y$14:$AE$600,4,FALSE),0)","v":0},{"$f":"IFERROR(VLOOKUP(RO6,MATCHSELEVES!$Y$14:$AE$600,5,FALSE),0)","v":0},{"$f":"IFERROR(VLOOKUP(RO6,MATCHSELEVES!$Y$14:$AF$600,8,FALSE),0)","v":0},{"$f":"IFERROR(VLOOKUP(RO6,MATCHSELEVES!$Y$14:$AG$600,9,FALSE),0)","v":0},"Adgyp_39",{"$f":"IFERROR(VLOOKUP(RU6,MATCHSELEVES!$Y$14:$AE$600,3,FALSE),0)","v":0},{"$f":"IFERROR(VLOOKUP(RU6,MATCHSELEVES!$Y$14:$AE$600,4,FALSE),0)","v":0},{"$f":"IFERROR(VLOOKUP(RU6,MATCHSELEVES!$Y$14:$AE$600,5,FALSE),0)","v":0},{"$f":"IFERROR(VLOOKUP(RU6,MATCHSELEVES!$Y$14:$AF$600,8,FALSE),0)","v":0},{"$f":"IFERROR(VLOOKUP(RU6,MATCHSELEVES!$Y$14:$AG$600,9,FALSE),0)","v":0},"Adgyp_40",{"$f":"IFERROR(VLOOKUP(SA6,MATCHSELEVES!$Y$14:$AE$600,3,FALSE),0)","v":0},{"$f":"IFERROR(VLOOKUP(SA6,MATCHSELEVES!$Y$14:$AE$600,4,FALSE),0)","v":0},{"$f":"IFERROR(VLOOKUP(SA6,MATCHSELEVES!$Y$14:$AE$600,5,FALSE),0)","v":0},{"$f":"IFERROR(VLOOKUP(SA6,MATCHSELEVES!$Y$14:$AF$600,8,FALSE),0)","v":0},{"$f":"IFERROR(VLOOKUP(SA6,MATCHSELEVES!$Y$14:$AG$600,9,FALSE),0)","v":0}]
[4,null,"Ayoub",4,null,null,{"$f":"COUNTIF(MATCHSELEVES!$Z$14:$Z$600,C7)+COUNTIF(MATCHSELEVES!$Z$14:$Z$600,$C7&\"p\")","v":0},1,{"$f":"COUNTIF(MATCHSELEVES!$F$14:$H$249,C7)","v":0},1,0,1,{"$f":"IFERROR(M50/Tableau10[[#This Row],[Nombre de matchs joués]],0)","v":0},{"$f":"IF(Tableau10[[#This Row],[Nombre de points encaissés]]=0,$C$45,SUMPRODUCT((M$4:M$43<M7)*(M$4:M$43<>0))+1)","v":40},0,1,{"$f":"(Tableau10[[#This Row],[CLASSEMENT1]]+Tableau10[[#This Row],[CLASSEMENT2]]+Tableau10[[#This Row],[CLASSEMENT3]]+Tableau10[[#This Row],[CLASSEMENT4]]+Tableau10[[#This Row],[CLASSEMENT5]]+Tableau10[[#This Row],[CLASSEMENT6]])/6","v":8},{"$f":"RANK(Tableau10[[#This Row],[MOYENNE CLASSEMENTS]],Tableau10[MOYENNE CLASSEMENTS],1)","v":4},null,{"$f":"Tableau10[[#This Row],[CLASSEMENT1]]","v":4},"Ayoub_1",{"$f":"IFERROR(VLOOKUP(U7,MATCHSELEVES!$Y$14:$AE$600,3,FALSE),0)","v":0},{"$f":"IFERROR(VLOOKUP(U7,MATCHSELEVES!$Y$14:$AE$600,4,FALSE),0)","v":0},{"$f":"IFERROR(VLOOKUP(U7,MATCHSELEVES!$Y$14:$AE$600,5,FALSE),0)","v":0},{"$f":"IFERROR(VLOOKUP(U7,MATCHSELEVES!$Y$14:$AF$600,8,FALSE),0)","v":0},{"$f":"IFERROR(VLOOKUP(U7,MATCHSELEVES!$Y$14:$AG$600,9,FALSE),0)","v":0},"Ayoub_2",{"$f":"IFERROR(VLOOKUP(AA7,MATCHSELEVES!$Y$14:$AE$600,3,FALSE),0)","v":0},{"$f":"IFERROR(VLOOKUP(AA7,MATCHSELEVES!$Y$14:$AE$600,4,FALSE),0)","v":0},{"$f":"IFERROR(VLOOKUP(AA7,MATCHSELEVES!$Y$14:$AE$600,5,FALSE),0)","v":0},{"$f":"IFERROR(VLOOKUP(AA7,MATCHSELEVES!$Y$14:$AF$600,8,FALSE),0)","v":0},{"$f":"IFERROR(VLOOKUP(AA7,MATCHSELEVES!$Y$14:$AG$600,9,FALSE),0)","v":0},"Ayoub_3",{"$f":"IFERROR(VLOOKUP(AG7,MATCHSELEVES!$Y$14:$AE$600,3,FALSE),0)","v":0},{"$f":"IFERROR(VLOOKUP(AG7,MATCHSELEVES!$Y$14:$AE$600,4,FALSE),0)","v":0},{"$f":"IFERROR(VLOOKUP(AG7,MATCHSELEVES!$Y$14:$AE$600,5,FALSE),0)","v":0},{"$f":"IFERROR(VLOOKUP(AG7,MATCHSELEVES!$Y$14:$AF$600,8,FALSE),0)","v":0},{"$f":"IFERROR(VLOOKUP(AG7,MATCHSELEVES!$Y$14:$AG$600,9,FALSE),0)","v":0},"Ayoub_4",{"$f":"IFERROR(VLOOKUP(AM7,MATCHSELEVES!$Y$14:$AE$600,3,FALSE),0)","v":0},{"$f":"IFERROR(VLOOKUP(AM7,MATCHSELEVES!$Y$14:$AE$600,4,FALSE),0)","v":0},{"$f":"IFERROR(VLOOKUP(AM7,MATCHSELEVES!$Y$14:$AE$600,5,FALSE),0)","v":0},{"$f":"IFERROR(VLOOKUP(AM7,MATCHSELEVES!$Y$14:$AF$600,8,FALSE),0)","v":0},{"$f":"IFERROR(VLOOKUP(AM7,MATCHSELEVES!$Y$14:$AG$600,9,FALSE),0)","v":0},"Ayoub_5",{"$f":"IFERROR(VLOOKUP(AS7,MATCHSELEVES!$Y$14:$AE$600,3,FALSE),0)","v":0},{"$f":"IFERROR(VLOOKUP(AS7,MATCHSELEVES!$Y$14:$AE$600,4,FALSE),0)","v":0},{"$f":"IFERROR(VLOOKUP(AS7,MATCHSELEVES!$Y$14:$AE$600,5,FALSE),0)","v":0},{"$f":"IFERROR(VLOOKUP(AS7,MATCHSELEVES!$Y$14:$AF$600,8,FALSE),0)","v":0},{"$f":"IFERROR(VLOOKUP(AS7,MATCHSELEVES!$Y$14:$AG$600,9,FALSE),0)","v":0},"Ayoub_6",{"$f":"IFERROR(VLOOKUP(AY7,MATCHSELEVES!$Y$14:$AE$600,3,FALSE),0)","v":0},{"$f":"IFERROR(VLOOKUP(AY7,MATCHSELEVES!$Y$14:$AE$600,4,FALSE),0)","v":0},{"$f":"IFERROR(VLOOKUP(AY7,MATCHSELEVES!$Y$14:$AE$600,5,FALSE),0)","v":0},{"$f":"IFERROR(VLOOKUP(AY7,MATCHSELEVES!$Y$14:$AF$600,8,FALSE),0)","v":0},{"$f":"IFERROR(VLOOKUP(AY7,MATCHSELEVES!$Y$14:$AG$600,9,FALSE),0)","v":0},"Ayoub_7",{"$f":"IFERROR(VLOOKUP(BE7,MATCHSELEVES!$Y$14:$AE$600,3,FALSE),0)","v":0},{"$f":"IFERROR(VLOOKUP(BE7,MATCHSELEVES!$Y$14:$AE$600,4,FALSE),0)","v":0},{"$f":"IFERROR(VLOOKUP(BE7,MATCHSELEVES!$Y$14:$AE$600,5,FALSE),0)","v":0},{"$f":"IFERROR(VLOOKUP(BE7,MATCHSELEVES!$Y$14:$AF$600,8,FALSE),0)","v":0},{"$f":"IFERROR(VLOOKUP(BE7,MATCHSELEVES!$Y$14:$AG$600,9,FALSE),0)","v":0},"Ayoub_8",{"$f":"IFERROR(VLOOKUP(BK7,MATCHSELEVES!$Y$14:$AE$600,3,FALSE),0)","v":0},{"$f":"IFERROR(VLOOKUP(BK7,MATCHSELEVES!$Y$14:$AE$600,4,FALSE),0)","v":0},{"$f":"IFERROR(VLOOKUP(BK7,MATCHSELEVES!$Y$14:$AE$600,5,FALSE),0)","v":0},{"$f":"IFERROR(VLOOKUP(BK7,MATCHSELEVES!$Y$14:$AF$600,8,FALSE),0)","v":0},{"$f":"IFERROR(VLOOKUP(BK7,MATCHSELEVES!$Y$14:$AG$600,9,FALSE),0)","v":0},"Ayoub_9",{"$f":"IFERROR(VLOOKUP(BQ7,MATCHSELEVES!$Y$14:$AE$600,3,FALSE),0)","v":0},{"$f":"IFERROR(VLOOKUP(BQ7,MATCHSELEVES!$Y$14:$AE$600,4,FALSE),0)","v":0},{"$f":"IFERROR(VLOOKUP(BQ7,MATCHSELEVES!$Y$14:$AE$600,5,FALSE),0)","v":0},{"$f":"IFERROR(VLOOKUP(BQ7,MATCHSELEVES!$Y$14:$AF$600,8,FALSE),0)","v":0},{"$f":"IFERROR(VLOOKUP(BQ7,MATCHSELEVES!$Y$14:$AG$600,9,FALSE),0)","v":0},"Ayoub_10",{"$f":"IFERROR(VLOOKUP(BW7,MATCHSELEVES!$Y$14:$AE$600,3,FALSE),0)","v":0},{"$f":"IFERROR(VLOOKUP(BW7,MATCHSELEVES!$Y$14:$AE$600,4,FALSE),0)","v":0},{"$f":"IFERROR(VLOOKUP(BW7,MATCHSELEVES!$Y$14:$AE$600,5,FALSE),0)","v":0},{"$f":"IFERROR(VLOOKUP(BW7,MATCHSELEVES!$Y$14:$AF$600,8,FALSE),0)","v":0},{"$f":"IFERROR(VLOOKUP(BW7,MATCHSELEVES!$Y$14:$AG$600,9,FALSE),0)","v":0},"Ayoub_11",{"$f":"IFERROR(VLOOKUP(CC7,MATCHSELEVES!$Y$14:$AE$600,3,FALSE),0)","v":0},{"$f":"IFERROR(VLOOKUP(CC7,MATCHSELEVES!$Y$14:$AE$600,4,FALSE),0)","v":0},{"$f":"IFERROR(VLOOKUP(CC7,MATCHSELEVES!$Y$14:$AE$600,5,FALSE),0)","v":0},{"$f":"IFERROR(VLOOKUP(CC7,MATCHSELEVES!$Y$14:$AF$600,8,FALSE),0)","v":0},{"$f":"IFERROR(VLOOKUP(CC7,MATCHSELEVES!$Y$14:$AG$600,9,FALSE),0)","v":0},"Ayoub_12",{"$f":"IFERROR(VLOOKUP(CI7,MATCHSELEVES!$Y$14:$AE$600,3,FALSE),0)","v":0},{"$f":"IFERROR(VLOOKUP(CI7,MATCHSELEVES!$Y$14:$AE$600,4,FALSE),0)","v":0},{"$f":"IFERROR(VLOOKUP(CI7,MATCHSELEVES!$Y$14:$AE$600,5,FALSE),0)","v":0},{"$f":"IFERROR(VLOOKUP(CI7,MATCHSELEVES!$Y$14:$AF$600,8,FALSE),0)","v":0},{"$f":"IFERROR(VLOOKUP(CI7,MATCHSELEVES!$Y$14:$AG$600,9,FALSE),0)","v":0},"Ayoub_13",{"$f":"IFERROR(VLOOKUP(CO7,MATCHSELEVES!$Y$14:$AE$600,3,FALSE),0)","v":0},{"$f":"IFERROR(VLOOKUP(CO7,MATCHSELEVES!$Y$14:$AE$600,4,FALSE),0)","v":0},{"$f":"IFERROR(VLOOKUP(CO7,MATCHSELEVES!$Y$14:$AE$600,5,FALSE),0)","v":0},{"$f":"IFERROR(VLOOKUP(CO7,MATCHSELEVES!$Y$14:$AF$600,8,FALSE),0)","v":0},{"$f":"IFERROR(VLOOKUP(CO7,MATCHSELEVES!$Y$14:$AG$600,9,FALSE),0)","v":0},"Ayoub_14",{"$f":"IFERROR(VLOOKUP(CU7,MATCHSELEVES!$Y$14:$AE$600,3,FALSE),0)","v":0},{"$f":"IFERROR(VLOOKUP(CU7,MATCHSELEVES!$Y$14:$AE$600,4,FALSE),0)","v":0},{"$f":"IFERROR(VLOOKUP(CU7,MATCHSELEVES!$Y$14:$AE$600,5,FALSE),0)","v":0},{"$f":"IFERROR(VLOOKUP(CU7,MATCHSELEVES!$Y$14:$AF$600,8,FALSE),0)","v":0},{"$f":"IFERROR(VLOOKUP(CU7,MATCHSELEVES!$Y$14:$AG$600,9,FALSE),0)","v":0},"Ayoub_15",{"$f":"IFERROR(VLOOKUP(DA7,MATCHSELEVES!$Y$14:$AE$600,3,FALSE),0)","v":0},{"$f":"IFERROR(VLOOKUP(DA7,MATCHSELEVES!$Y$14:$AE$600,4,FALSE),0)","v":0},{"$f":"IFERROR(VLOOKUP(DA7,MATCHSELEVES!$Y$14:$AE$600,5,FALSE),0)","v":0},{"$f":"IFERROR(VLOOKUP(DA7,MATCHSELEVES!$Y$14:$AF$600,8,FALSE),0)","v":0},{"$f":"IFERROR(VLOOKUP(DA7,MATCHSELEVES!$Y$14:$AG$600,9,FALSE),0)","v":0},"Ayoub_16",{"$f":"IFERROR(VLOOKUP(DG7,MATCHSELEVES!$Y$14:$AE$600,3,FALSE),0)","v":0},{"$f":"IFERROR(VLOOKUP(DG7,MATCHSELEVES!$Y$14:$AE$600,4,FALSE),0)","v":0},{"$f":"IFERROR(VLOOKUP(DG7,MATCHSELEVES!$Y$14:$AE$600,5,FALSE),0)","v":0},{"$f":"IFERROR(VLOOKUP(DG7,MATCHSELEVES!$Y$14:$AF$600,8,FALSE),0)","v":0},{"$f":"IFERROR(VLOOKUP(DG7,MATCHSELEVES!$Y$14:$AG$600,9,FALSE),0)","v":0},"Ayoub_17",{"$f":"IFERROR(VLOOKUP(DM7,MATCHSELEVES!$Y$14:$AE$600,3,FALSE),0)","v":0},{"$f":"IFERROR(VLOOKUP(DM7,MATCHSELEVES!$Y$14:$AE$600,4,FALSE),0)","v":0},{"$f":"IFERROR(VLOOKUP(DM7,MATCHSELEVES!$Y$14:$AE$600,5,FALSE),0)","v":0},{"$f":"IFERROR(VLOOKUP(DM7,MATCHSELEVES!$Y$14:$AF$600,8,FALSE),0)","v":0},{"$f":"IFERROR(VLOOKUP(DM7,MATCHSELEVES!$Y$14:$AG$600,9,FALSE),0)","v":0},"Ayoub_18",{"$f":"IFERROR(VLOOKUP(DS7,MATCHSELEVES!$Y$14:$AE$600,3,FALSE),0)","v":0},{"$f":"IFERROR(VLOOKUP(DS7,MATCHSELEVES!$Y$14:$AE$600,4,FALSE),0)","v":0},{"$f":"IFERROR(VLOOKUP(DS7,MATCHSELEVES!$Y$14:$AE$600,5,FALSE),0)","v":0},{"$f":"IFERROR(VLOOKUP(DS7,MATCHSELEVES!$Y$14:$AF$600,8,FALSE),0)","v":0},{"$f":"IFERROR(VLOOKUP(DS7,MATCHSELEVES!$Y$14:$AG$600,9,FALSE),0)","v":0},"Ayoub_19",{"$f":"IFERROR(VLOOKUP(DY7,MATCHSELEVES!$Y$14:$AE$600,3,FALSE),0)","v":0},{"$f":"IFERROR(VLOOKUP(DY7,MATCHSELEVES!$Y$14:$AE$600,4,FALSE),0)","v":0},{"$f":"IFERROR(VLOOKUP(DY7,MATCHSELEVES!$Y$14:$AE$600,5,FALSE),0)","v":0},{"$f":"IFERROR(VLOOKUP(DY7,MATCHSELEVES!$Y$14:$AF$600,8,FALSE),0)","v":0},{"$f":"IFERROR(VLOOKUP(DY7,MATCHSELEVES!$Y$14:$AG$600,9,FALSE),0)","v":0},"Ayoub_20",{"$f":"IFERROR(VLOOKUP(EE7,MATCHSELEVES!$Y$14:$AE$600,3,FALSE),0)","v":0},{"$f":"IFERROR(VLOOKUP(EE7,MATCHSELEVES!$Y$14:$AE$600,4,FALSE),0)","v":0},{"$f":"IFERROR(VLOOKUP(EE7,MATCHSELEVES!$Y$14:$AE$600,5,FALSE),0)","v":0},{"$f":"IFERROR(VLOOKUP(EE7,MATCHSELEVES!$Y$14:$AF$600,8,FALSE),0)","v":0},{"$f":"IFERROR(VLOOKUP(EE7,MATCHSELEVES!$Y$14:$AG$600,9,FALSE),0)","v":0},"Ayoub_21",{"$f":"IFERROR(VLOOKUP(EK7,MATCHSELEVES!$Y$14:$AE$600,3,FALSE),0)","v":0},{"$f":"IFERROR(VLOOKUP(EK7,MATCHSELEVES!$Y$14:$AE$600,4,FALSE),0)","v":0},{"$f":"IFERROR(VLOOKUP(EK7,MATCHSELEVES!$Y$14:$AE$600,5,FALSE),0)","v":0},{"$f":"IFERROR(VLOOKUP(EK7,MATCHSELEVES!$Y$14:$AF$600,8,FALSE),0)","v":0},{"$f":"IFERROR(VLOOKUP(EK7,MATCHSELEVES!$Y$14:$AG$600,9,FALSE),0)","v":0},"Ayoub_22",{"$f":"IFERROR(VLOOKUP(EQ7,MATCHSELEVES!$Y$14:$AE$600,3,FALSE),0)","v":0},{"$f":"IFERROR(VLOOKUP(EQ7,MATCHSELEVES!$Y$14:$AE$600,4,FALSE),0)","v":0},{"$f":"IFERROR(VLOOKUP(EQ7,MATCHSELEVES!$Y$14:$AE$600,5,FALSE),0)","v":0},{"$f":"IFERROR(VLOOKUP(EQ7,MATCHSELEVES!$Y$14:$AF$600,8,FALSE),0)","v":0},{"$f":"IFERROR(VLOOKUP(EQ7,MATCHSELEVES!$Y$14:$AG$600,9,FALSE),0)","v":0},"Ayoub_23",{"$f":"IFERROR(VLOOKUP(EW7,MATCHSELEVES!$Y$14:$AE$600,3,FALSE),0)","v":0},{"$f":"IFERROR(VLOOKUP(EW7,MATCHSELEVES!$Y$14:$AE$600,4,FALSE),0)","v":0},{"$f":"IFERROR(VLOOKUP(EW7,MATCHSELEVES!$Y$14:$AE$600,5,FALSE),0)","v":0},{"$f":"IFERROR(VLOOKUP(EW7,MATCHSELEVES!$Y$14:$AF$600,8,FALSE),0)","v":0},{"$f":"IFERROR(VLOOKUP(EW7,MATCHSELEVES!$Y$14:$AG$600,9,FALSE),0)","v":0},"Ayoub_24",{"$f":"IFERROR(VLOOKUP(FC7,MATCHSELEVES!$Y$14:$AE$600,3,FALSE),0)","v":0},{"$f":"IFERROR(VLOOKUP(FC7,MATCHSELEVES!$Y$14:$AE$600,4,FALSE),0)","v":0},{"$f":"IFERROR(VLOOKUP(FC7,MATCHSELEVES!$Y$14:$AE$600,5,FALSE),0)","v":0},{"$f":"IFERROR(VLOOKUP(FC7,MATCHSELEVES!$Y$14:$AF$600,8,FALSE),0)","v":0},{"$f":"IFERROR(VLOOKUP(FC7,MATCHSELEVES!$Y$14:$AG$600,9,FALSE),0)","v":0},"Ayoub_25",{"$f":"IFERROR(VLOOKUP(FI7,MATCHSELEVES!$Y$14:$AE$600,3,FALSE),0)","v":0},{"$f":"IFERROR(VLOOKUP(FI7,MATCHSELEVES!$Y$14:$AE$600,4,FALSE),0)","v":0},{"$f":"IFERROR(VLOOKUP(FI7,MATCHSELEVES!$Y$14:$AE$600,5,FALSE),0)","v":0},{"$f":"IFERROR(VLOOKUP(FI7,MATCHSELEVES!$Y$14:$AF$600,8,FALSE),0)","v":0},{"$f":"IFERROR(VLOOKUP(FI7,MATCHSELEVES!$Y$14:$AG$600,9,FALSE),0)","v":0},"Ayoub_26",{"$f":"IFERROR(VLOOKUP(FO7,MATCHSELEVES!$Y$14:$AE$600,3,FALSE),0)","v":0},{"$f":"IFERROR(VLOOKUP(FO7,MATCHSELEVES!$Y$14:$AE$600,4,FALSE),0)","v":0},{"$f":"IFERROR(VLOOKUP(FO7,MATCHSELEVES!$Y$14:$AE$600,5,FALSE),0)","v":0},{"$f":"IFERROR(VLOOKUP(FO7,MATCHSELEVES!$Y$14:$AF$600,8,FALSE),0)","v":0},{"$f":"IFERROR(VLOOKUP(FO7,MATCHSELEVES!$Y$14:$AG$600,9,FALSE),0)","v":0},"Ayoub_27",{"$f":"IFERROR(VLOOKUP(FU7,MATCHSELEVES!$Y$14:$AE$600,3,FALSE),0)","v":0},{"$f":"IFERROR(VLOOKUP(FU7,MATCHSELEVES!$Y$14:$AE$600,4,FALSE),0)","v":0},{"$f":"IFERROR(VLOOKUP(FU7,MATCHSELEVES!$Y$14:$AE$600,5,FALSE),0)","v":0},{"$f":"IFERROR(VLOOKUP(FU7,MATCHSELEVES!$Y$14:$AF$600,8,FALSE),0)","v":0},{"$f":"IFERROR(VLOOKUP(FU7,MATCHSELEVES!$Y$14:$AG$600,9,FALSE),0)","v":0},"Ayoub_28",{"$f":"IFERROR(VLOOKUP(GA7,MATCHSELEVES!$Y$14:$AE$600,3,FALSE),0)","v":0},{"$f":"IFERROR(VLOOKUP(GA7,MATCHSELEVES!$Y$14:$AE$600,4,FALSE),0)","v":0},{"$f":"IFERROR(VLOOKUP(GA7,MATCHSELEVES!$Y$14:$AE$600,5,FALSE),0)","v":0},{"$f":"IFERROR(VLOOKUP(GA7,MATCHSELEVES!$Y$14:$AF$600,8,FALSE),0)","v":0},{"$f":"IFERROR(VLOOKUP(GA7,MATCHSELEVES!$Y$14:$AG$600,9,FALSE),0)","v":0},"Ayoub_29",{"$f":"IFERROR(VLOOKUP(GG7,MATCHSELEVES!$Y$14:$AE$600,3,FALSE),0)","v":0},{"$f":"IFERROR(VLOOKUP(GG7,MATCHSELEVES!$Y$14:$AE$600,4,FALSE),0)","v":0},{"$f":"IFERROR(VLOOKUP(GG7,MATCHSELEVES!$Y$14:$AE$600,5,FALSE),0)","v":0},{"$f":"IFERROR(VLOOKUP(GG7,MATCHSELEVES!$Y$14:$AF$600,8,FALSE),0)","v":0},{"$f":"IFERROR(VLOOKUP(GG7,MATCHSELEVES!$Y$14:$AG$600,9,FALSE),0)","v":0},"Ayoub_30",{"$f":"IFERROR(VLOOKUP(GM7,MATCHSELEVES!$Y$14:$AE$600,3,FALSE),0)","v":0},{"$f":"IFERROR(VLOOKUP(GM7,MATCHSELEVES!$Y$14:$AE$600,4,FALSE),0)","v":0},{"$f":"IFERROR(VLOOKUP(GM7,MATCHSELEVES!$Y$14:$AE$600,5,FALSE),0)","v":0},{"$f":"IFERROR(VLOOKUP(GM7,MATCHSELEVES!$Y$14:$AF$600,8,FALSE),0)","v":0},{"$f":"IFERROR(VLOOKUP(GM7,MATCHSELEVES!$Y$14:$AG$600,9,FALSE),0)","v":0},"Ayoub_31",{"$f":"IFERROR(VLOOKUP(GS7,MATCHSELEVES!$Y$14:$AE$600,3,FALSE),0)","v":0},{"$f":"IFERROR(VLOOKUP(GS7,MATCHSELEVES!$Y$14:$AE$600,4,FALSE),0)","v":0},{"$f":"IFERROR(VLOOKUP(GS7,MATCHSELEVES!$Y$14:$AE$600,5,FALSE),0)","v":0},{"$f":"IFERROR(VLOOKUP(GS7,MATCHSELEVES!$Y$14:$AF$600,8,FALSE),0)","v":0},{"$f":"IFERROR(VLOOKUP(GS7,MATCHSELEVES!$Y$14:$AG$600,9,FALSE),0)","v":0},"Ayoub_32",{"$f":"IFERROR(VLOOKUP(GY7,MATCHSELEVES!$Y$14:$AE$600,3,FALSE),0)","v":0},{"$f":"IFERROR(VLOOKUP(GY7,MATCHSELEVES!$Y$14:$AE$600,4,FALSE),0)","v":0},{"$f":"IFERROR(VLOOKUP(GY7,MATCHSELEVES!$Y$14:$AE$600,5,FALSE),0)","v":0},{"$f":"IFERROR(VLOOKUP(GY7,MATCHSELEVES!$Y$14:$AF$600,8,FALSE),0)","v":0},{"$f":"IFERROR(VLOOKUP(GY7,MATCHSELEVES!$Y$14:$AG$600,9,FALSE),0)","v":0},"Ayoub_33",{"$f":"IFERROR(VLOOKUP(HE7,MATCHSELEVES!$Y$14:$AE$600,3,FALSE),0)","v":0},{"$f":"IFERROR(VLOOKUP(HE7,MATCHSELEVES!$Y$14:$AE$600,4,FALSE),0)","v":0},{"$f":"IFERROR(VLOOKUP(HE7,MATCHSELEVES!$Y$14:$AE$600,5,FALSE),0)","v":0},{"$f":"IFERROR(VLOOKUP(HE7,MATCHSELEVES!$Y$14:$AF$600,8,FALSE),0)","v":0},{"$f":"IFERROR(VLOOKUP(HE7,MATCHSELEVES!$Y$14:$AG$600,9,FALSE),0)","v":0},"Ayoub_34",{"$f":"IFERROR(VLOOKUP(HK7,MATCHSELEVES!$Y$14:$AE$600,3,FALSE),0)","v":0},{"$f":"IFERROR(VLOOKUP(HK7,MATCHSELEVES!$Y$14:$AE$600,4,FALSE),0)","v":0},{"$f":"IFERROR(VLOOKUP(HK7,MATCHSELEVES!$Y$14:$AE$600,5,FALSE),0)","v":0},{"$f":"IFERROR(VLOOKUP(HK7,MATCHSELEVES!$Y$14:$AF$600,8,FALSE),0)","v":0},{"$f":"IFERROR(VLOOKUP(HK7,MATCHSELEVES!$Y$14:$AG$600,9,FALSE),0)","v":0},"Ayoub_35",{"$f":"IFERROR(VLOOKUP(HQ7,MATCHSELEVES!$Y$14:$AE$600,3,FALSE),0)","v":0},{"$f":"IFERROR(VLOOKUP(HQ7,MATCHSELEVES!$Y$14:$AE$600,4,FALSE),0)","v":0},{"$f":"IFERROR(VLOOKUP(HQ7,MATCHSELEVES!$Y$14:$AE$600,5,FALSE),0)","v":0},{"$f":"IFERROR(VLOOKUP(HQ7,MATCHSELEVES!$Y$14:$AF$600,8,FALSE),0)","v":0},{"$f":"IFERROR(VLOOKUP(HQ7,MATCHSELEVES!$Y$14:$AG$600,9,FALSE),0)","v":0},"Ayoub_36",{"$f":"IFERROR(VLOOKUP(HW7,MATCHSELEVES!$Y$14:$AE$600,3,FALSE),0)","v":0},{"$f":"IFERROR(VLOOKUP(HW7,MATCHSELEVES!$Y$14:$AE$600,4,FALSE),0)","v":0},{"$f":"IFERROR(VLOOKUP(HW7,MATCHSELEVES!$Y$14:$AE$600,5,FALSE),0)","v":0},{"$f":"IFERROR(VLOOKUP(HW7,MATCHSELEVES!$Y$14:$AF$600,8,FALSE),0)","v":0},{"$f":"IFERROR(VLOOKUP(HW7,MATCHSELEVES!$Y$14:$AG$600,9,FALSE),0)","v":0},"Ayoub_37",{"$f":"IFERROR(VLOOKUP(IC7,MATCHSELEVES!$Y$14:$AE$600,3,FALSE),0)","v":0},{"$f":"IFERROR(VLOOKUP(IC7,MATCHSELEVES!$Y$14:$AE$600,4,FALSE),0)","v":0},{"$f":"IFERROR(VLOOKUP(IC7,MATCHSELEVES!$Y$14:$AE$600,5,FALSE),0)","v":0},{"$f":"IFERROR(VLOOKUP(IC7,MATCHSELEVES!$Y$14:$AF$600,8,FALSE),0)","v":0},{"$f":"IFERROR(VLOOKUP(IC7,MATCHSELEVES!$Y$14:$AG$600,9,FALSE),0)","v":0},"Ayoub_38",{"$f":"IFERROR(VLOOKUP(II7,MATCHSELEVES!$Y$14:$AE$600,3,FALSE),0)","v":0},{"$f":"IFERROR(VLOOKUP(II7,MATCHSELEVES!$Y$14:$AE$600,4,FALSE),0)","v":0},{"$f":"IFERROR(VLOOKUP(II7,MATCHSELEVES!$Y$14:$AE$600,5,FALSE),0)","v":0},{"$f":"IFERROR(VLOOKUP(II7,MATCHSELEVES!$Y$14:$AF$600,8,FALSE),0)","v":0},{"$f":"IFERROR(VLOOKUP(II7,MATCHSELEVES!$Y$14:$AG$600,9,FALSE),0)","v":0},"Ayoub_39",{"$f":"IFERROR(VLOOKUP(IO7,MATCHSELEVES!$Y$14:$AE$600,3,FALSE),0)","v":0},{"$f":"IFERROR(VLOOKUP(IO7,MATCHSELEVES!$Y$14:$AE$600,4,FALSE),0)","v":0},{"$f":"IFERROR(VLOOKUP(IO7,MATCHSELEVES!$Y$14:$AE$600,5,FALSE),0)","v":0},{"$f":"IFERROR(VLOOKUP(IO7,MATCHSELEVES!$Y$14:$AF$600,8,FALSE),0)","v":0},{"$f":"IFERROR(VLOOKUP(IO7,MATCHSELEVES!$Y$14:$AG$600,9,FALSE),0)","v":0},"Ayoub_40",{"$f":"IFERROR(VLOOKUP(IU7,MATCHSELEVES!$Y$14:$AE$600,3,FALSE),0)","v":0},{"$f":"IFERROR(VLOOKUP(IU7,MATCHSELEVES!$Y$14:$AE$600,4,FALSE),0)","v":0},{"$f":"IFERROR(VLOOKUP(IU7,MATCHSELEVES!$Y$14:$AE$600,5,FALSE),0)","v":0},{"$f":"IFERROR(VLOOKUP(IU7,MATCHSELEVES!$Y$14:$AF$600,8,FALSE),0)","v":0},{"$f":"IFERROR(VLOOKUP(IU7,MATCHSELEVES!$Y$14:$AG$600,9,FALSE),0)","v":0},"Ayoubp_1",{"$f":"IFERROR(VLOOKUP(JA7,MATCHSELEVES!$Y$14:$AE$600,3,FALSE),0)","v":0},{"$f":"IFERROR(VLOOKUP(JA7,MATCHSELEVES!$Y$14:$AE$600,4,FALSE),0)","v":0},{"$f":"IFERROR(VLOOKUP(JA7,MATCHSELEVES!$Y$14:$AE$600,5,FALSE),0)","v":0},{"$f":"IFERROR(VLOOKUP(JA7,MATCHSELEVES!$Y$14:$AF$600,8,FALSE),0)","v":0},{"$f":"IFERROR(VLOOKUP(JA7,MATCHSELEVES!$Y$14:$AG$600,9,FALSE),0)","v":0},"Ayoubp_2",{"$f":"IFERROR(VLOOKUP(JG7,MATCHSELEVES!$Y$14:$AE$600,3,FALSE),0)","v":0},{"$f":"IFERROR(VLOOKUP(JG7,MATCHSELEVES!$Y$14:$AE$600,4,FALSE),0)","v":0},{"$f":"IFERROR(VLOOKUP(JG7,MATCHSELEVES!$Y$14:$AE$600,5,FALSE),0)","v":0},{"$f":"IFERROR(VLOOKUP(JG7,MATCHSELEVES!$Y$14:$AF$600,8,FALSE),0)","v":0},{"$f":"IFERROR(VLOOKUP(JG7,MATCHSELEVES!$Y$14:$AG$600,9,FALSE),0)","v":0},"Ayoubp_3",{"$f":"IFERROR(VLOOKUP(JM7,MATCHSELEVES!$Y$14:$AE$600,3,FALSE),0)","v":0},{"$f":"IFERROR(VLOOKUP(JM7,MATCHSELEVES!$Y$14:$AE$600,4,FALSE),0)","v":0},{"$f":"IFERROR(VLOOKUP(JM7,MATCHSELEVES!$Y$14:$AE$600,5,FALSE),0)","v":0},{"$f":"IFERROR(VLOOKUP(JM7,MATCHSELEVES!$Y$14:$AF$600,8,FALSE),0)","v":0},{"$f":"IFERROR(VLOOKUP(JM7,MATCHSELEVES!$Y$14:$AG$600,9,FALSE),0)","v":0},"Ayoubp_4",{"$f":"IFERROR(VLOOKUP(JS7,MATCHSELEVES!$Y$14:$AE$600,3,FALSE),0)","v":0},{"$f":"IFERROR(VLOOKUP(JS7,MATCHSELEVES!$Y$14:$AE$600,4,FALSE),0)","v":0},{"$f":"IFERROR(VLOOKUP(JS7,MATCHSELEVES!$Y$14:$AE$600,5,FALSE),0)","v":0},{"$f":"IFERROR(VLOOKUP(JS7,MATCHSELEVES!$Y$14:$AF$600,8,FALSE),0)","v":0},{"$f":"IFERROR(VLOOKUP(JS7,MATCHSELEVES!$Y$14:$AG$600,9,FALSE),0)","v":0},"Ayoubp_5",{"$f":"IFERROR(VLOOKUP(JY7,MATCHSELEVES!$Y$14:$AE$600,3,FALSE),0)","v":0},{"$f":"IFERROR(VLOOKUP(JY7,MATCHSELEVES!$Y$14:$AE$600,4,FALSE),0)","v":0},{"$f":"IFERROR(VLOOKUP(JY7,MATCHSELEVES!$Y$14:$AE$600,5,FALSE),0)","v":0},{"$f":"IFERROR(VLOOKUP(JY7,MATCHSELEVES!$Y$14:$AF$600,8,FALSE),0)","v":0},{"$f":"IFERROR(VLOOKUP(JY7,MATCHSELEVES!$Y$14:$AG$600,9,FALSE),0)","v":0},"Ayoubp_6",{"$f":"IFERROR(VLOOKUP(KE7,MATCHSELEVES!$Y$14:$AE$600,3,FALSE),0)","v":0},{"$f":"IFERROR(VLOOKUP(KE7,MATCHSELEVES!$Y$14:$AE$600,4,FALSE),0)","v":0},{"$f":"IFERROR(VLOOKUP(KE7,MATCHSELEVES!$Y$14:$AE$600,5,FALSE),0)","v":0},{"$f":"IFERROR(VLOOKUP(KE7,MATCHSELEVES!$Y$14:$AF$600,8,FALSE),0)","v":0},{"$f":"IFERROR(VLOOKUP(KE7,MATCHSELEVES!$Y$14:$AG$600,9,FALSE),0)","v":0},"Ayoubp_7",{"$f":"IFERROR(VLOOKUP(KK7,MATCHSELEVES!$Y$14:$AE$600,3,FALSE),0)","v":0},{"$f":"IFERROR(VLOOKUP(KK7,MATCHSELEVES!$Y$14:$AE$600,4,FALSE),0)","v":0},{"$f":"IFERROR(VLOOKUP(KK7,MATCHSELEVES!$Y$14:$AE$600,5,FALSE),0)","v":0},{"$f":"IFERROR(VLOOKUP(KK7,MATCHSELEVES!$Y$14:$AF$600,8,FALSE),0)","v":0},{"$f":"IFERROR(VLOOKUP(KK7,MATCHSELEVES!$Y$14:$AG$600,9,FALSE),0)","v":0},"Ayoubp_8",{"$f":"IFERROR(VLOOKUP(KQ7,MATCHSELEVES!$Y$14:$AE$600,3,FALSE),0)","v":0},{"$f":"IFERROR(VLOOKUP(KQ7,MATCHSELEVES!$Y$14:$AE$600,4,FALSE),0)","v":0},{"$f":"IFERROR(VLOOKUP(KQ7,MATCHSELEVES!$Y$14:$AE$600,5,FALSE),0)","v":0},{"$f":"IFERROR(VLOOKUP(KQ7,MATCHSELEVES!$Y$14:$AF$600,8,FALSE),0)","v":0},{"$f":"IFERROR(VLOOKUP(KQ7,MATCHSELEVES!$Y$14:$AG$600,9,FALSE),0)","v":0},"Ayoubp_9",{"$f":"IFERROR(VLOOKUP(KW7,MATCHSELEVES!$Y$14:$AE$600,3,FALSE),0)","v":0},{"$f":"IFERROR(VLOOKUP(KW7,MATCHSELEVES!$Y$14:$AE$600,4,FALSE),0)","v":0},{"$f":"IFERROR(VLOOKUP(KW7,MATCHSELEVES!$Y$14:$AE$600,5,FALSE),0)","v":0},{"$f":"IFERROR(VLOOKUP(KW7,MATCHSELEVES!$Y$14:$AF$600,8,FALSE),0)","v":0},{"$f":"IFERROR(VLOOKUP(KW7,MATCHSELEVES!$Y$14:$AG$600,9,FALSE),0)","v":0},"Ayoubp_10",{"$f":"IFERROR(VLOOKUP(LC7,MATCHSELEVES!$Y$14:$AE$600,3,FALSE),0)","v":0},{"$f":"IFERROR(VLOOKUP(LC7,MATCHSELEVES!$Y$14:$AE$600,4,FALSE),0)","v":0},{"$f":"IFERROR(VLOOKUP(LC7,MATCHSELEVES!$Y$14:$AE$600,5,FALSE),0)","v":0},{"$f":"IFERROR(VLOOKUP(LC7,MATCHSELEVES!$Y$14:$AF$600,8,FALSE),0)","v":0},{"$f":"IFERROR(VLOOKUP(LC7,MATCHSELEVES!$Y$14:$AG$600,9,FALSE),0)","v":0},"Ayoubp_11",{"$f":"IFERROR(VLOOKUP(LI7,MATCHSELEVES!$Y$14:$AE$600,3,FALSE),0)","v":0},{"$f":"IFERROR(VLOOKUP(LI7,MATCHSELEVES!$Y$14:$AE$600,4,FALSE),0)","v":0},{"$f":"IFERROR(VLOOKUP(LI7,MATCHSELEVES!$Y$14:$AE$600,5,FALSE),0)","v":0},{"$f":"IFERROR(VLOOKUP(LI7,MATCHSELEVES!$Y$14:$AF$600,8,FALSE),0)","v":0},{"$f":"IFERROR(VLOOKUP(LI7,MATCHSELEVES!$Y$14:$AG$600,9,FALSE),0)","v":0},"Ayoubp_12",{"$f":"IFERROR(VLOOKUP(LO7,MATCHSELEVES!$Y$14:$AE$600,3,FALSE),0)","v":0},{"$f":"IFERROR(VLOOKUP(LO7,MATCHSELEVES!$Y$14:$AE$600,4,FALSE),0)","v":0},{"$f":"IFERROR(VLOOKUP(LO7,MATCHSELEVES!$Y$14:$AE$600,5,FALSE),0)","v":0},{"$f":"IFERROR(VLOOKUP(LO7,MATCHSELEVES!$Y$14:$AF$600,8,FALSE),0)","v":0},{"$f":"IFERROR(VLOOKUP(LO7,MATCHSELEVES!$Y$14:$AG$600,9,FALSE),0)","v":0},"Ayoubp_13",{"$f":"IFERROR(VLOOKUP(LU7,MATCHSELEVES!$Y$14:$AE$600,3,FALSE),0)","v":0},{"$f":"IFERROR(VLOOKUP(LU7,MATCHSELEVES!$Y$14:$AE$600,4,FALSE),0)","v":0},{"$f":"IFERROR(VLOOKUP(LU7,MATCHSELEVES!$Y$14:$AE$600,5,FALSE),0)","v":0},{"$f":"IFERROR(VLOOKUP(LU7,MATCHSELEVES!$Y$14:$AF$600,8,FALSE),0)","v":0},{"$f":"IFERROR(VLOOKUP(LU7,MATCHSELEVES!$Y$14:$AG$600,9,FALSE),0)","v":0},"Ayoubp_14",{"$f":"IFERROR(VLOOKUP(MA7,MATCHSELEVES!$Y$14:$AE$600,3,FALSE),0)","v":0},{"$f":"IFERROR(VLOOKUP(MA7,MATCHSELEVES!$Y$14:$AE$600,4,FALSE),0)","v":0},{"$f":"IFERROR(VLOOKUP(MA7,MATCHSELEVES!$Y$14:$AE$600,5,FALSE),0)","v":0},{"$f":"IFERROR(VLOOKUP(MA7,MATCHSELEVES!$Y$14:$AF$600,8,FALSE),0)","v":0},{"$f":"IFERROR(VLOOKUP(MA7,MATCHSELEVES!$Y$14:$AG$600,9,FALSE),0)","v":0},"Ayoubp_15",{"$f":"IFERROR(VLOOKUP(MG7,MATCHSELEVES!$Y$14:$AE$600,3,FALSE),0)","v":0},{"$f":"IFERROR(VLOOKUP(MG7,MATCHSELEVES!$Y$14:$AE$600,4,FALSE),0)","v":0},{"$f":"IFERROR(VLOOKUP(MG7,MATCHSELEVES!$Y$14:$AE$600,5,FALSE),0)","v":0},{"$f":"IFERROR(VLOOKUP(MG7,MATCHSELEVES!$Y$14:$AF$600,8,FALSE),0)","v":0},{"$f":"IFERROR(VLOOKUP(MG7,MATCHSELEVES!$Y$14:$AG$600,9,FALSE),0)","v":0},"Ayoubp_16",{"$f":"IFERROR(VLOOKUP(MM7,MATCHSELEVES!$Y$14:$AE$600,3,FALSE),0)","v":0},{"$f":"IFERROR(VLOOKUP(MM7,MATCHSELEVES!$Y$14:$AE$600,4,FALSE),0)","v":0},{"$f":"IFERROR(VLOOKUP(MM7,MATCHSELEVES!$Y$14:$AE$600,5,FALSE),0)","v":0},{"$f":"IFERROR(VLOOKUP(MM7,MATCHSELEVES!$Y$14:$AF$600,8,FALSE),0)","v":0},{"$f":"IFERROR(VLOOKUP(MM7,MATCHSELEVES!$Y$14:$AG$600,9,FALSE),0)","v":0},"Ayoubp_17",{"$f":"IFERROR(VLOOKUP(MS7,MATCHSELEVES!$Y$14:$AE$600,3,FALSE),0)","v":0},{"$f":"IFERROR(VLOOKUP(MS7,MATCHSELEVES!$Y$14:$AE$600,4,FALSE),0)","v":0},{"$f":"IFERROR(VLOOKUP(MS7,MATCHSELEVES!$Y$14:$AE$600,5,FALSE),0)","v":0},{"$f":"IFERROR(VLOOKUP(MS7,MATCHSELEVES!$Y$14:$AF$600,8,FALSE),0)","v":0},{"$f":"IFERROR(VLOOKUP(MS7,MATCHSELEVES!$Y$14:$AG$600,9,FALSE),0)","v":0},"Ayoubp_18",{"$f":"IFERROR(VLOOKUP(MY7,MATCHSELEVES!$Y$14:$AE$600,3,FALSE),0)","v":0},{"$f":"IFERROR(VLOOKUP(MY7,MATCHSELEVES!$Y$14:$AE$600,4,FALSE),0)","v":0},{"$f":"IFERROR(VLOOKUP(MY7,MATCHSELEVES!$Y$14:$AE$600,5,FALSE),0)","v":0},{"$f":"IFERROR(VLOOKUP(MY7,MATCHSELEVES!$Y$14:$AF$600,8,FALSE),0)","v":0},{"$f":"IFERROR(VLOOKUP(MY7,MATCHSELEVES!$Y$14:$AG$600,9,FALSE),0)","v":0},"Ayoubp_19",{"$f":"IFERROR(VLOOKUP(NE7,MATCHSELEVES!$Y$14:$AE$600,3,FALSE),0)","v":0},{"$f":"IFERROR(VLOOKUP(NE7,MATCHSELEVES!$Y$14:$AE$600,4,FALSE),0)","v":0},{"$f":"IFERROR(VLOOKUP(NE7,MATCHSELEVES!$Y$14:$AE$600,5,FALSE),0)","v":0},{"$f":"IFERROR(VLOOKUP(NE7,MATCHSELEVES!$Y$14:$AF$600,8,FALSE),0)","v":0},{"$f":"IFERROR(VLOOKUP(NE7,MATCHSELEVES!$Y$14:$AG$600,9,FALSE),0)","v":0},"Ayoubp_20",{"$f":"IFERROR(VLOOKUP(NK7,MATCHSELEVES!$Y$14:$AE$600,3,FALSE),0)","v":0},{"$f":"IFERROR(VLOOKUP(NK7,MATCHSELEVES!$Y$14:$AE$600,4,FALSE),0)","v":0},{"$f":"IFERROR(VLOOKUP(NK7,MATCHSELEVES!$Y$14:$AE$600,5,FALSE),0)","v":0},{"$f":"IFERROR(VLOOKUP(NK7,MATCHSELEVES!$Y$14:$AF$600,8,FALSE),0)","v":0},{"$f":"IFERROR(VLOOKUP(NK7,MATCHSELEVES!$Y$14:$AG$600,9,FALSE),0)","v":0},"Ayoubp_21",{"$f":"IFERROR(VLOOKUP(NQ7,MATCHSELEVES!$Y$14:$AE$600,3,FALSE),0)","v":0},{"$f":"IFERROR(VLOOKUP(NQ7,MATCHSELEVES!$Y$14:$AE$600,4,FALSE),0)","v":0},{"$f":"IFERROR(VLOOKUP(NQ7,MATCHSELEVES!$Y$14:$AE$600,5,FALSE),0)","v":0},{"$f":"IFERROR(VLOOKUP(NQ7,MATCHSELEVES!$Y$14:$AF$600,8,FALSE),0)","v":0},{"$f":"IFERROR(VLOOKUP(NQ7,MATCHSELEVES!$Y$14:$AG$600,9,FALSE),0)","v":0},"Ayoubp_22",{"$f":"IFERROR(VLOOKUP(NW7,MATCHSELEVES!$Y$14:$AE$600,3,FALSE),0)","v":0},{"$f":"IFERROR(VLOOKUP(NW7,MATCHSELEVES!$Y$14:$AE$600,4,FALSE),0)","v":0},{"$f":"IFERROR(VLOOKUP(NW7,MATCHSELEVES!$Y$14:$AE$600,5,FALSE),0)","v":0},{"$f":"IFERROR(VLOOKUP(NW7,MATCHSELEVES!$Y$14:$AF$600,8,FALSE),0)","v":0},{"$f":"IFERROR(VLOOKUP(NW7,MATCHSELEVES!$Y$14:$AG$600,9,FALSE),0)","v":0},"Ayoubp_23",{"$f":"IFERROR(VLOOKUP(OC7,MATCHSELEVES!$Y$14:$AE$600,3,FALSE),0)","v":0},{"$f":"IFERROR(VLOOKUP(OC7,MATCHSELEVES!$Y$14:$AE$600,4,FALSE),0)","v":0},{"$f":"IFERROR(VLOOKUP(OC7,MATCHSELEVES!$Y$14:$AE$600,5,FALSE),0)","v":0},{"$f":"IFERROR(VLOOKUP(OC7,MATCHSELEVES!$Y$14:$AF$600,8,FALSE),0)","v":0},{"$f":"IFERROR(VLOOKUP(OC7,MATCHSELEVES!$Y$14:$AG$600,9,FALSE),0)","v":0},"Ayoubp_24",{"$f":"IFERROR(VLOOKUP(OI7,MATCHSELEVES!$Y$14:$AE$600,3,FALSE),0)","v":0},{"$f":"IFERROR(VLOOKUP(OI7,MATCHSELEVES!$Y$14:$AE$600,4,FALSE),0)","v":0},{"$f":"IFERROR(VLOOKUP(OI7,MATCHSELEVES!$Y$14:$AE$600,5,FALSE),0)","v":0},{"$f":"IFERROR(VLOOKUP(OI7,MATCHSELEVES!$Y$14:$AF$600,8,FALSE),0)","v":0},{"$f":"IFERROR(VLOOKUP(OI7,MATCHSELEVES!$Y$14:$AG$600,9,FALSE),0)","v":0},"Ayoubp_25",{"$f":"IFERROR(VLOOKUP(OO7,MATCHSELEVES!$Y$14:$AE$600,3,FALSE),0)","v":0},{"$f":"IFERROR(VLOOKUP(OO7,MATCHSELEVES!$Y$14:$AE$600,4,FALSE),0)","v":0},{"$f":"IFERROR(VLOOKUP(OO7,MATCHSELEVES!$Y$14:$AE$600,5,FALSE),0)","v":0},{"$f":"IFERROR(VLOOKUP(OO7,MATCHSELEVES!$Y$14:$AF$600,8,FALSE),0)","v":0},{"$f":"IFERROR(VLOOKUP(OO7,MATCHSELEVES!$Y$14:$AG$600,9,FALSE),0)","v":0},"Ayoubp_26",{"$f":"IFERROR(VLOOKUP(OU7,MATCHSELEVES!$Y$14:$AE$600,3,FALSE),0)","v":0},{"$f":"IFERROR(VLOOKUP(OU7,MATCHSELEVES!$Y$14:$AE$600,4,FALSE),0)","v":0},{"$f":"IFERROR(VLOOKUP(OU7,MATCHSELEVES!$Y$14:$AE$600,5,FALSE),0)","v":0},{"$f":"IFERROR(VLOOKUP(OU7,MATCHSELEVES!$Y$14:$AF$600,8,FALSE),0)","v":0},{"$f":"IFERROR(VLOOKUP(OU7,MATCHSELEVES!$Y$14:$AG$600,9,FALSE),0)","v":0},"Ayoubp_27",{"$f":"IFERROR(VLOOKUP(PA7,MATCHSELEVES!$Y$14:$AE$600,3,FALSE),0)","v":0},{"$f":"IFERROR(VLOOKUP(PA7,MATCHSELEVES!$Y$14:$AE$600,4,FALSE),0)","v":0},{"$f":"IFERROR(VLOOKUP(PA7,MATCHSELEVES!$Y$14:$AE$600,5,FALSE),0)","v":0},{"$f":"IFERROR(VLOOKUP(PA7,MATCHSELEVES!$Y$14:$AF$600,8,FALSE),0)","v":0},{"$f":"IFERROR(VLOOKUP(PA7,MATCHSELEVES!$Y$14:$AG$600,9,FALSE),0)","v":0},"Ayoubp_28",{"$f":"IFERROR(VLOOKUP(PG7,MATCHSELEVES!$Y$14:$AE$600,3,FALSE),0)","v":0},{"$f":"IFERROR(VLOOKUP(PG7,MATCHSELEVES!$Y$14:$AE$600,4,FALSE),0)","v":0},{"$f":"IFERROR(VLOOKUP(PG7,MATCHSELEVES!$Y$14:$AE$600,5,FALSE),0)","v":0},{"$f":"IFERROR(VLOOKUP(PG7,MATCHSELEVES!$Y$14:$AF$600,8,FALSE),0)","v":0},{"$f":"IFERROR(VLOOKUP(PG7,MATCHSELEVES!$Y$14:$AG$600,9,FALSE),0)","v":0},"Ayoubp_29",{"$f":"IFERROR(VLOOKUP(PM7,MATCHSELEVES!$Y$14:$AE$600,3,FALSE),0)","v":0},{"$f":"IFERROR(VLOOKUP(PM7,MATCHSELEVES!$Y$14:$AE$600,4,FALSE),0)","v":0},{"$f":"IFERROR(VLOOKUP(PM7,MATCHSELEVES!$Y$14:$AE$600,5,FALSE),0)","v":0},{"$f":"IFERROR(VLOOKUP(PM7,MATCHSELEVES!$Y$14:$AF$600,8,FALSE),0)","v":0},{"$f":"IFERROR(VLOOKUP(PM7,MATCHSELEVES!$Y$14:$AG$600,9,FALSE),0)","v":0},"Ayoubp_30",{"$f":"IFERROR(VLOOKUP(PS7,MATCHSELEVES!$Y$14:$AE$600,3,FALSE),0)","v":0},{"$f":"IFERROR(VLOOKUP(PS7,MATCHSELEVES!$Y$14:$AE$600,4,FALSE),0)","v":0},{"$f":"IFERROR(VLOOKUP(PS7,MATCHSELEVES!$Y$14:$AE$600,5,FALSE),0)","v":0},{"$f":"IFERROR(VLOOKUP(PS7,MATCHSELEVES!$Y$14:$AF$600,8,FALSE),0)","v":0},{"$f":"IFERROR(VLOOKUP(PS7,MATCHSELEVES!$Y$14:$AG$600,9,FALSE),0)","v":0},"Ayoubp_31",{"$f":"IFERROR(VLOOKUP(PY7,MATCHSELEVES!$Y$14:$AE$600,3,FALSE),0)","v":0},{"$f":"IFERROR(VLOOKUP(PY7,MATCHSELEVES!$Y$14:$AE$600,4,FALSE),0)","v":0},{"$f":"IFERROR(VLOOKUP(PY7,MATCHSELEVES!$Y$14:$AE$600,5,FALSE),0)","v":0},{"$f":"IFERROR(VLOOKUP(PY7,MATCHSELEVES!$Y$14:$AF$600,8,FALSE),0)","v":0},{"$f":"IFERROR(VLOOKUP(PY7,MATCHSELEVES!$Y$14:$AG$600,9,FALSE),0)","v":0},"Ayoubp_32",{"$f":"IFERROR(VLOOKUP(QE7,MATCHSELEVES!$Y$14:$AE$600,3,FALSE),0)","v":0},{"$f":"IFERROR(VLOOKUP(QE7,MATCHSELEVES!$Y$14:$AE$600,4,FALSE),0)","v":0},{"$f":"IFERROR(VLOOKUP(QE7,MATCHSELEVES!$Y$14:$AE$600,5,FALSE),0)","v":0},{"$f":"IFERROR(VLOOKUP(QE7,MATCHSELEVES!$Y$14:$AF$600,8,FALSE),0)","v":0},{"$f":"IFERROR(VLOOKUP(QE7,MATCHSELEVES!$Y$14:$AG$600,9,FALSE),0)","v":0},"Ayoubp_33",{"$f":"IFERROR(VLOOKUP(QK7,MATCHSELEVES!$Y$14:$AE$600,3,FALSE),0)","v":0},{"$f":"IFERROR(VLOOKUP(QK7,MATCHSELEVES!$Y$14:$AE$600,4,FALSE),0)","v":0},{"$f":"IFERROR(VLOOKUP(QK7,MATCHSELEVES!$Y$14:$AE$600,5,FALSE),0)","v":0},{"$f":"IFERROR(VLOOKUP(QK7,MATCHSELEVES!$Y$14:$AF$600,8,FALSE),0)","v":0},{"$f":"IFERROR(VLOOKUP(QK7,MATCHSELEVES!$Y$14:$AG$600,9,FALSE),0)","v":0},"Ayoubp_34",{"$f":"IFERROR(VLOOKUP(QQ7,MATCHSELEVES!$Y$14:$AE$600,3,FALSE),0)","v":0},{"$f":"IFERROR(VLOOKUP(QQ7,MATCHSELEVES!$Y$14:$AE$600,4,FALSE),0)","v":0},{"$f":"IFERROR(VLOOKUP(QQ7,MATCHSELEVES!$Y$14:$AE$600,5,FALSE),0)","v":0},{"$f":"IFERROR(VLOOKUP(QQ7,MATCHSELEVES!$Y$14:$AF$600,8,FALSE),0)","v":0},{"$f":"IFERROR(VLOOKUP(QQ7,MATCHSELEVES!$Y$14:$AG$600,9,FALSE),0)","v":0},"Ayoubp_35",{"$f":"IFERROR(VLOOKUP(QW7,MATCHSELEVES!$Y$14:$AE$600,3,FALSE),0)","v":0},{"$f":"IFERROR(VLOOKUP(QW7,MATCHSELEVES!$Y$14:$AE$600,4,FALSE),0)","v":0},{"$f":"IFERROR(VLOOKUP(QW7,MATCHSELEVES!$Y$14:$AE$600,5,FALSE),0)","v":0},{"$f":"IFERROR(VLOOKUP(QW7,MATCHSELEVES!$Y$14:$AF$600,8,FALSE),0)","v":0},{"$f":"IFERROR(VLOOKUP(QW7,MATCHSELEVES!$Y$14:$AG$600,9,FALSE),0)","v":0},"Ayoubp_36",{"$f":"IFERROR(VLOOKUP(RC7,MATCHSELEVES!$Y$14:$AE$600,3,FALSE),0)","v":0},{"$f":"IFERROR(VLOOKUP(RC7,MATCHSELEVES!$Y$14:$AE$600,4,FALSE),0)","v":0},{"$f":"IFERROR(VLOOKUP(RC7,MATCHSELEVES!$Y$14:$AE$600,5,FALSE),0)","v":0},{"$f":"IFERROR(VLOOKUP(RC7,MATCHSELEVES!$Y$14:$AF$600,8,FALSE),0)","v":0},{"$f":"IFERROR(VLOOKUP(RC7,MATCHSELEVES!$Y$14:$AG$600,9,FALSE),0)","v":0},"Ayoubp_37",{"$f":"IFERROR(VLOOKUP(RI7,MATCHSELEVES!$Y$14:$AE$600,3,FALSE),0)","v":0},{"$f":"IFERROR(VLOOKUP(RI7,MATCHSELEVES!$Y$14:$AE$600,4,FALSE),0)","v":0},{"$f":"IFERROR(VLOOKUP(RI7,MATCHSELEVES!$Y$14:$AE$600,5,FALSE),0)","v":0},{"$f":"IFERROR(VLOOKUP(RI7,MATCHSELEVES!$Y$14:$AF$600,8,FALSE),0)","v":0},{"$f":"IFERROR(VLOOKUP(RI7,MATCHSELEVES!$Y$14:$AG$600,9,FALSE),0)","v":0},"Ayoubp_38",{"$f":"IFERROR(VLOOKUP(RO7,MATCHSELEVES!$Y$14:$AE$600,3,FALSE),0)","v":0},{"$f":"IFERROR(VLOOKUP(RO7,MATCHSELEVES!$Y$14:$AE$600,4,FALSE),0)","v":0},{"$f":"IFERROR(VLOOKUP(RO7,MATCHSELEVES!$Y$14:$AE$600,5,FALSE),0)","v":0},{"$f":"IFERROR(VLOOKUP(RO7,MATCHSELEVES!$Y$14:$AF$600,8,FALSE),0)","v":0},{"$f":"IFERROR(VLOOKUP(RO7,MATCHSELEVES!$Y$14:$AG$600,9,FALSE),0)","v":0},"Ayoubp_39",{"$f":"IFERROR(VLOOKUP(RU7,MATCHSELEVES!$Y$14:$AE$600,3,FALSE),0)","v":0},{"$f":"IFERROR(VLOOKUP(RU7,MATCHSELEVES!$Y$14:$AE$600,4,FALSE),0)","v":0},{"$f":"IFERROR(VLOOKUP(RU7,MATCHSELEVES!$Y$14:$AE$600,5,FALSE),0)","v":0},{"$f":"IFERROR(VLOOKUP(RU7,MATCHSELEVES!$Y$14:$AF$600,8,FALSE),0)","v":0},{"$f":"IFERROR(VLOOKUP(RU7,MATCHSELEVES!$Y$14:$AG$600,9,FALSE),0)","v":0},"Ayoubp_40",{"$f":"IFERROR(VLOOKUP(SA7,MATCHSELEVES!$Y$14:$AE$600,3,FALSE),0)","v":0},{"$f":"IFERROR(VLOOKUP(SA7,MATCHSELEVES!$Y$14:$AE$600,4,FALSE),0)","v":0},{"$f":"IFERROR(VLOOKUP(SA7,MATCHSELEVES!$Y$14:$AE$600,5,FALSE),0)","v":0},{"$f":"IFERROR(VLOOKUP(SA7,MATCHSELEVES!$Y$14:$AF$600,8,FALSE),0)","v":0},{"$f":"IFERROR(VLOOKUP(SA7,MATCHSELEVES!$Y$14:$AG$600,9,FALSE),0)","v":0}]
[5,null,"balise",5,null,null,{"$f":"COUNTIF(MATCHSELEVES!$Z$14:$Z$600,C8)+COUNTIF(MATCHSELEVES!$Z$14:$Z$600,$C8&\"p\")","v":0},1,{"$f":"COUNTIF(MATCHSELEVES!$F$14:$H$249,C8)","v":0},1,0,1,{"$f":"IFERROR(M51/Tableau10[[#This Row],[Nombre de matchs joués]],0)","v":0},{"$f":"IF(Tableau10[[#This Row],[Nombre de points encaissés]]=0,$C$45,SUMPRODUCT((M$4:M$43<M8)*(M$4:M$43<>0))+1)","v":40},0,1,{"$f":"(Tableau10[[#This Row],[CLASSEMENT1]]+Tableau10[[#This Row],[CLASSEMENT2]]+Tableau10[[#This Row],[CLASSEMENT3]]+Tableau10[[#This Row],[CLASSEMENT4]]+Tableau10[[#This Row],[CLASSEMENT5]]+Tableau10[[#This Row],[CLASSEMENT6]])/6","v":8.1666666666666661},{"$f":"RANK(Tableau10[[#This Row],[MOYENNE CLASSEMENTS]],Tableau10[MOYENNE CLASSEMENTS],1)","v":5},null,{"$f":"Tableau10[[#This Row],[CLASSEMENT1]]","v":5},"balise_1",{"$f":"IFERROR(VLOOKUP(U8,MATCHSELEVES!$Y$14:$AE$600,3,FALSE),0)","v":0},{"$f":"IFERROR(VLOOKUP(U8,MATCHSELEVES!$Y$14:$AE$600,4,FALSE),0)","v":0},{"$f":"IFERROR(VLOOKUP(U8,MATCHSELEVES!$Y$14:$AE$600,5,FALSE),0)","v":0},{"$f":"IFERROR(VLOOKUP(U8,MATCHSELEVES!$Y$14:$AF$600,8,FALSE),0)","v":0},{"$f":"IFERROR(VLOOKUP(U8,MATCHSELEVES!$Y$14:$AG$600,9,FALSE),0)","v":0},"balise_2",{"$f":"IFERROR(VLOOKUP(AA8,MATCHSELEVES!$Y$14:$AE$600,3,FALSE),0)","v":0},{"$f":"IFERROR(VLOOKUP(AA8,MATCHSELEVES!$Y$14:$AE$600,4,FALSE),0)","v":0},{"$f":"IFERROR(VLOOKUP(AA8,MATCHSELEVES!$Y$14:$AE$600,5,FALSE),0)","v":0},{"$f":"IFERROR(VLOOKUP(AA8,MATCHSELEVES!$Y$14:$AF$600,8,FALSE),0)","v":0},{"$f":"IFERROR(VLOOKUP(AA8,MATCHSELEVES!$Y$14:$AG$600,9,FALSE),0)","v":0},"balise_3",{"$f":"IFERROR(VLOOKUP(AG8,MATCHSELEVES!$Y$14:$AE$600,3,FALSE),0)","v":0},{"$f":"IFERROR(VLOOKUP(AG8,MATCHSELEVES!$Y$14:$AE$600,4,FALSE),0)","v":0},{"$f":"IFERROR(VLOOKUP(AG8,MATCHSELEVES!$Y$14:$AE$600,5,FALSE),0)","v":0},{"$f":"IFERROR(VLOOKUP(AG8,MATCHSELEVES!$Y$14:$AF$600,8,FALSE),0)","v":0},{"$f":"IFERROR(VLOOKUP(AG8,MATCHSELEVES!$Y$14:$AG$600,9,FALSE),0)","v":0},"balise_4",{"$f":"IFERROR(VLOOKUP(AM8,MATCHSELEVES!$Y$14:$AE$600,3,FALSE),0)","v":0},{"$f":"IFERROR(VLOOKUP(AM8,MATCHSELEVES!$Y$14:$AE$600,4,FALSE),0)","v":0},{"$f":"IFERROR(VLOOKUP(AM8,MATCHSELEVES!$Y$14:$AE$600,5,FALSE),0)","v":0},{"$f":"IFERROR(VLOOKUP(AM8,MATCHSELEVES!$Y$14:$AF$600,8,FALSE),0)","v":0},{"$f":"IFERROR(VLOOKUP(AM8,MATCHSELEVES!$Y$14:$AG$600,9,FALSE),0)","v":0},"balise_5",{"$f":"IFERROR(VLOOKUP(AS8,MATCHSELEVES!$Y$14:$AE$600,3,FALSE),0)","v":0},{"$f":"IFERROR(VLOOKUP(AS8,MATCHSELEVES!$Y$14:$AE$600,4,FALSE),0)","v":0},{"$f":"IFERROR(VLOOKUP(AS8,MATCHSELEVES!$Y$14:$AE$600,5,FALSE),0)","v":0},{"$f":"IFERROR(VLOOKUP(AS8,MATCHSELEVES!$Y$14:$AF$600,8,FALSE),0)","v":0},{"$f":"IFERROR(VLOOKUP(AS8,MATCHSELEVES!$Y$14:$AG$600,9,FALSE),0)","v":0},"balise_6",{"$f":"IFERROR(VLOOKUP(AY8,MATCHSELEVES!$Y$14:$AE$600,3,FALSE),0)","v":0},{"$f":"IFERROR(VLOOKUP(AY8,MATCHSELEVES!$Y$14:$AE$600,4,FALSE),0)","v":0},{"$f":"IFERROR(VLOOKUP(AY8,MATCHSELEVES!$Y$14:$AE$600,5,FALSE),0)","v":0},{"$f":"IFERROR(VLOOKUP(AY8,MATCHSELEVES!$Y$14:$AF$600,8,FALSE),0)","v":0},{"$f":"IFERROR(VLOOKUP(AY8,MATCHSELEVES!$Y$14:$AG$600,9,FALSE),0)","v":0},"balise_7",{"$f":"IFERROR(VLOOKUP(BE8,MATCHSELEVES!$Y$14:$AE$600,3,FALSE),0)","v":0},{"$f":"IFERROR(VLOOKUP(BE8,MATCHSELEVES!$Y$14:$AE$600,4,FALSE),0)","v":0},{"$f":"IFERROR(VLOOKUP(BE8,MATCHSELEVES!$Y$14:$AE$600,5,FALSE),0)","v":0},{"$f":"IFERROR(VLOOKUP(BE8,MATCHSELEVES!$Y$14:$AF$600,8,FALSE),0)","v":0},{"$f":"IFERROR(VLOOKUP(BE8,MATCHSELEVES!$Y$14:$AG$600,9,FALSE),0)","v":0},"balise_8",{"$f":"IFERROR(VLOOKUP(BK8,MATCHSELEVES!$Y$14:$AE$600,3,FALSE),0)","v":0},{"$f":"IFERROR(VLOOKUP(BK8,MATCHSELEVES!$Y$14:$AE$600,4,FALSE),0)","v":0},{"$f":"IFERROR(VLOOKUP(BK8,MATCHSELEVES!$Y$14:$AE$600,5,FALSE),0)","v":0},{"$f":"IFERROR(VLOOKUP(BK8,MATCHSELEVES!$Y$14:$AF$600,8,FALSE),0)","v":0},{"$f":"IFERROR(VLOOKUP(BK8,MATCHSELEVES!$Y$14:$AG$600,9,FALSE),0)","v":0},"balise_9",{"$f":"IFERROR(VLOOKUP(BQ8,MATCHSELEVES!$Y$14:$AE$600,3,FALSE),0)","v":0},{"$f":"IFERROR(VLOOKUP(BQ8,MATCHSELEVES!$Y$14:$AE$600,4,FALSE),0)","v":0},{"$f":"IFERROR(VLOOKUP(BQ8,MATCHSELEVES!$Y$14:$AE$600,5,FALSE),0)","v":0},{"$f":"IFERROR(VLOOKUP(BQ8,MATCHSELEVES!$Y$14:$AF$600,8,FALSE),0)","v":0},{"$f":"IFERROR(VLOOKUP(BQ8,MATCHSELEVES!$Y$14:$AG$600,9,FALSE),0)","v":0},"balise_10",{"$f":"IFERROR(VLOOKUP(BW8,MATCHSELEVES!$Y$14:$AE$600,3,FALSE),0)","v":0},{"$f":"IFERROR(VLOOKUP(BW8,MATCHSELEVES!$Y$14:$AE$600,4,FALSE),0)","v":0},{"$f":"IFERROR(VLOOKUP(BW8,MATCHSELEVES!$Y$14:$AE$600,5,FALSE),0)","v":0},{"$f":"IFERROR(VLOOKUP(BW8,MATCHSELEVES!$Y$14:$AF$600,8,FALSE),0)","v":0},{"$f":"IFERROR(VLOOKUP(BW8,MATCHSELEVES!$Y$14:$AG$600,9,FALSE),0)","v":0},"balise_11",{"$f":"IFERROR(VLOOKUP(CC8,MATCHSELEVES!$Y$14:$AE$600,3,FALSE),0)","v":0},{"$f":"IFERROR(VLOOKUP(CC8,MATCHSELEVES!$Y$14:$AE$600,4,FALSE),0)","v":0},{"$f":"IFERROR(VLOOKUP(CC8,MATCHSELEVES!$Y$14:$AE$600,5,FALSE),0)","v":0},{"$f":"IFERROR(VLOOKUP(CC8,MATCHSELEVES!$Y$14:$AF$600,8,FALSE),0)","v":0},{"$f":"IFERROR(VLOOKUP(CC8,MATCHSELEVES!$Y$14:$AG$600,9,FALSE),0)","v":0},"balise_12",{"$f":"IFERROR(VLOOKUP(CI8,MATCHSELEVES!$Y$14:$AE$600,3,FALSE),0)","v":0},{"$f":"IFERROR(VLOOKUP(CI8,MATCHSELEVES!$Y$14:$AE$600,4,FALSE),0)","v":0},{"$f":"IFERROR(VLOOKUP(CI8,MATCHSELEVES!$Y$14:$AE$600,5,FALSE),0)","v":0},{"$f":"IFERROR(VLOOKUP(CI8,MATCHSELEVES!$Y$14:$AF$600,8,FALSE),0)","v":0},{"$f":"IFERROR(VLOOKUP(CI8,MATCHSELEVES!$Y$14:$AG$600,9,FALSE),0)","v":0},"balise_13",{"$f":"IFERROR(VLOOKUP(CO8,MATCHSELEVES!$Y$14:$AE$600,3,FALSE),0)","v":0},{"$f":"IFERROR(VLOOKUP(CO8,MATCHSELEVES!$Y$14:$AE$600,4,FALSE),0)","v":0},{"$f":"IFERROR(VLOOKUP(CO8,MATCHSELEVES!$Y$14:$AE$600,5,FALSE),0)","v":0},{"$f":"IFERROR(VLOOKUP(CO8,MATCHSELEVES!$Y$14:$AF$600,8,FALSE),0)","v":0},{"$f":"IFERROR(VLOOKUP(CO8,MATCHSELEVES!$Y$14:$AG$600,9,FALSE),0)","v":0},"balise_14",{"$f":"IFERROR(VLOOKUP(CU8,MATCHSELEVES!$Y$14:$AE$600,3,FALSE),0)","v":0},{"$f":"IFERROR(VLOOKUP(CU8,MATCHSELEVES!$Y$14:$AE$600,4,FALSE),0)","v":0},{"$f":"IFERROR(VLOOKUP(CU8,MATCHSELEVES!$Y$14:$AE$600,5,FALSE),0)","v":0},{"$f":"IFERROR(VLOOKUP(CU8,MATCHSELEVES!$Y$14:$AF$600,8,FALSE),0)","v":0},{"$f":"IFERROR(VLOOKUP(CU8,MATCHSELEVES!$Y$14:$AG$600,9,FALSE),0)","v":0},"balise_15",{"$f":"IFERROR(VLOOKUP(DA8,MATCHSELEVES!$Y$14:$AE$600,3,FALSE),0)","v":0},{"$f":"IFERROR(VLOOKUP(DA8,MATCHSELEVES!$Y$14:$AE$600,4,FALSE),0)","v":0},{"$f":"IFERROR(VLOOKUP(DA8,MATCHSELEVES!$Y$14:$AE$600,5,FALSE),0)","v":0},{"$f":"IFERROR(VLOOKUP(DA8,MATCHSELEVES!$Y$14:$AF$600,8,FALSE),0)","v":0},{"$f":"IFERROR(VLOOKUP(DA8,MATCHSELEVES!$Y$14:$AG$600,9,FALSE),0)","v":0},"balise_16",{"$f":"IFERROR(VLOOKUP(DG8,MATCHSELEVES!$Y$14:$AE$600,3,FALSE),0)","v":0},{"$f":"IFERROR(VLOOKUP(DG8,MATCHSELEVES!$Y$14:$AE$600,4,FALSE),0)","v":0},{"$f":"IFERROR(VLOOKUP(DG8,MATCHSELEVES!$Y$14:$AE$600,5,FALSE),0)","v":0},{"$f":"IFERROR(VLOOKUP(DG8,MATCHSELEVES!$Y$14:$AF$600,8,FALSE),0)","v":0},{"$f":"IFERROR(VLOOKUP(DG8,MATCHSELEVES!$Y$14:$AG$600,9,FALSE),0)","v":0},"balise_17",{"$f":"IFERROR(VLOOKUP(DM8,MATCHSELEVES!$Y$14:$AE$600,3,FALSE),0)","v":0},{"$f":"IFERROR(VLOOKUP(DM8,MATCHSELEVES!$Y$14:$AE$600,4,FALSE),0)","v":0},{"$f":"IFERROR(VLOOKUP(DM8,MATCHSELEVES!$Y$14:$AE$600,5,FALSE),0)","v":0},{"$f":"IFERROR(VLOOKUP(DM8,MATCHSELEVES!$Y$14:$AF$600,8,FALSE),0)","v":0},{"$f":"IFERROR(VLOOKUP(DM8,MATCHSELEVES!$Y$14:$AG$600,9,FALSE),0)","v":0},"balise_18",{"$f":"IFERROR(VLOOKUP(DS8,MATCHSELEVES!$Y$14:$AE$600,3,FALSE),0)","v":0},{"$f":"IFERROR(VLOOKUP(DS8,MATCHSELEVES!$Y$14:$AE$600,4,FALSE),0)","v":0},{"$f":"IFERROR(VLOOKUP(DS8,MATCHSELEVES!$Y$14:$AE$600,5,FALSE),0)","v":0},{"$f":"IFERROR(VLOOKUP(DS8,MATCHSELEVES!$Y$14:$AF$600,8,FALSE),0)","v":0},{"$f":"IFERROR(VLOOKUP(DS8,MATCHSELEVES!$Y$14:$AG$600,9,FALSE),0)","v":0},"balise_19",{"$f":"IFERROR(VLOOKUP(DY8,MATCHSELEVES!$Y$14:$AE$600,3,FALSE),0)","v":0},{"$f":"IFERROR(VLOOKUP(DY8,MATCHSELEVES!$Y$14:$AE$600,4,FALSE),0)","v":0},{"$f":"IFERROR(VLOOKUP(DY8,MATCHSELEVES!$Y$14:$AE$600,5,FALSE),0)","v":0},{"$f":"IFERROR(VLOOKUP(DY8,MATCHSELEVES!$Y$14:$AF$600,8,FALSE),0)","v":0},{"$f":"IFERROR(VLOOKUP(DY8,MATCHSELEVES!$Y$14:$AG$600,9,FALSE),0)","v":0},"balise_20",{"$f":"IFERROR(VLOOKUP(EE8,MATCHSELEVES!$Y$14:$AE$600,3,FALSE),0)","v":0},{"$f":"IFERROR(VLOOKUP(EE8,MATCHSELEVES!$Y$14:$AE$600,4,FALSE),0)","v":0},{"$f":"IFERROR(VLOOKUP(EE8,MATCHSELEVES!$Y$14:$AE$600,5,FALSE),0)","v":0},{"$f":"IFERROR(VLOOKUP(EE8,MATCHSELEVES!$Y$14:$AF$600,8,FALSE),0)","v":0},{"$f":"IFERROR(VLOOKUP(EE8,MATCHSELEVES!$Y$14:$AG$600,9,FALSE),0)","v":0},"balise_21",{"$f":"IFERROR(VLOOKUP(EK8,MATCHSELEVES!$Y$14:$AE$600,3,FALSE),0)","v":0},{"$f":"IFERROR(VLOOKUP(EK8,MATCHSELEVES!$Y$14:$AE$600,4,FALSE),0)","v":0},{"$f":"IFERROR(VLOOKUP(EK8,MATCHSELEVES!$Y$14:$AE$600,5,FALSE),0)","v":0},{"$f":"IFERROR(VLOOKUP(EK8,MATCHSELEVES!$Y$14:$AF$600,8,FALSE),0)","v":0},{"$f":"IFERROR(VLOOKUP(EK8,MATCHSELEVES!$Y$14:$AG$600,9,FALSE),0)","v":0},"balise_22",{"$f":"IFERROR(VLOOKUP(EQ8,MATCHSELEVES!$Y$14:$AE$600,3,FALSE),0)","v":0},{"$f":"IFERROR(VLOOKUP(EQ8,MATCHSELEVES!$Y$14:$AE$600,4,FALSE),0)","v":0},{"$f":"IFERROR(VLOOKUP(EQ8,MATCHSELEVES!$Y$14:$AE$600,5,FALSE),0)","v":0},{"$f":"IFERROR(VLOOKUP(EQ8,MATCHSELEVES!$Y$14:$AF$600,8,FALSE),0)","v":0},{"$f":"IFERROR(VLOOKUP(EQ8,MATCHSELEVES!$Y$14:$AG$600,9,FALSE),0)","v":0},"balise_23",{"$f":"IFERROR(VLOOKUP(EW8,MATCHSELEVES!$Y$14:$AE$600,3,FALSE),0)","v":0},{"$f":"IFERROR(VLOOKUP(EW8,MATCHSELEVES!$Y$14:$AE$600,4,FALSE),0)","v":0},{"$f":"IFERROR(VLOOKUP(EW8,MATCHSELEVES!$Y$14:$AE$600,5,FALSE),0)","v":0},{"$f":"IFERROR(VLOOKUP(EW8,MATCHSELEVES!$Y$14:$AF$600,8,FALSE),0)","v":0},{"$f":"IFERROR(VLOOKUP(EW8,MATCHSELEVES!$Y$14:$AG$600,9,FALSE),0)","v":0},"balise_24",{"$f":"IFERROR(VLOOKUP(FC8,MATCHSELEVES!$Y$14:$AE$600,3,FALSE),0)","v":0},{"$f":"IFERROR(VLOOKUP(FC8,MATCHSELEVES!$Y$14:$AE$600,4,FALSE),0)","v":0},{"$f":"IFERROR(VLOOKUP(FC8,MATCHSELEVES!$Y$14:$AE$600,5,FALSE),0)","v":0},{"$f":"IFERROR(VLOOKUP(FC8,MATCHSELEVES!$Y$14:$AF$600,8,FALSE),0)","v":0},{"$f":"IFERROR(VLOOKUP(FC8,MATCHSELEVES!$Y$14:$AG$600,9,FALSE),0)","v":0},"balise_25",{"$f":"IFERROR(VLOOKUP(FI8,MATCHSELEVES!$Y$14:$AE$600,3,FALSE),0)","v":0},{"$f":"IFERROR(VLOOKUP(FI8,MATCHSELEVES!$Y$14:$AE$600,4,FALSE),0)","v":0},{"$f":"IFERROR(VLOOKUP(FI8,MATCHSELEVES!$Y$14:$AE$600,5,FALSE),0)","v":0},{"$f":"IFERROR(VLOOKUP(FI8,MATCHSELEVES!$Y$14:$AF$600,8,FALSE),0)","v":0},{"$f":"IFERROR(VLOOKUP(FI8,MATCHSELEVES!$Y$14:$AG$600,9,FALSE),0)","v":0},"balise_26",{"$f":"IFERROR(VLOOKUP(FO8,MATCHSELEVES!$Y$14:$AE$600,3,FALSE),0)","v":0},{"$f":"IFERROR(VLOOKUP(FO8,MATCHSELEVES!$Y$14:$AE$600,4,FALSE),0)","v":0},{"$f":"IFERROR(VLOOKUP(FO8,MATCHSELEVES!$Y$14:$AE$600,5,FALSE),0)","v":0},{"$f":"IFERROR(VLOOKUP(FO8,MATCHSELEVES!$Y$14:$AF$600,8,FALSE),0)","v":0},{"$f":"IFERROR(VLOOKUP(FO8,MATCHSELEVES!$Y$14:$AG$600,9,FALSE),0)","v":0},"balise_27",{"$f":"IFERROR(VLOOKUP(FU8,MATCHSELEVES!$Y$14:$AE$600,3,FALSE),0)","v":0},{"$f":"IFERROR(VLOOKUP(FU8,MATCHSELEVES!$Y$14:$AE$600,4,FALSE),0)","v":0},{"$f":"IFERROR(VLOOKUP(FU8,MATCHSELEVES!$Y$14:$AE$600,5,FALSE),0)","v":0},{"$f":"IFERROR(VLOOKUP(FU8,MATCHSELEVES!$Y$14:$AF$600,8,FALSE),0)","v":0},{"$f":"IFERROR(VLOOKUP(FU8,MATCHSELEVES!$Y$14:$AG$600,9,FALSE),0)","v":0},"balise_28",{"$f":"IFERROR(VLOOKUP(GA8,MATCHSELEVES!$Y$14:$AE$600,3,FALSE),0)","v":0},{"$f":"IFERROR(VLOOKUP(GA8,MATCHSELEVES!$Y$14:$AE$600,4,FALSE),0)","v":0},{"$f":"IFERROR(VLOOKUP(GA8,MATCHSELEVES!$Y$14:$AE$600,5,FALSE),0)","v":0},{"$f":"IFERROR(VLOOKUP(GA8,MATCHSELEVES!$Y$14:$AF$600,8,FALSE),0)","v":0},{"$f":"IFERROR(VLOOKUP(GA8,MATCHSELEVES!$Y$14:$AG$600,9,FALSE),0)","v":0},"balise_29",{"$f":"IFERROR(VLOOKUP(GG8,MATCHSELEVES!$Y$14:$AE$600,3,FALSE),0)","v":0},{"$f":"IFERROR(VLOOKUP(GG8,MATCHSELEVES!$Y$14:$AE$600,4,FALSE),0)","v":0},{"$f":"IFERROR(VLOOKUP(GG8,MATCHSELEVES!$Y$14:$AE$600,5,FALSE),0)","v":0},{"$f":"IFERROR(VLOOKUP(GG8,MATCHSELEVES!$Y$14:$AF$600,8,FALSE),0)","v":0},{"$f":"IFERROR(VLOOKUP(GG8,MATCHSELEVES!$Y$14:$AG$600,9,FALSE),0)","v":0},"balise_30",{"$f":"IFERROR(VLOOKUP(GM8,MATCHSELEVES!$Y$14:$AE$600,3,FALSE),0)","v":0},{"$f":"IFERROR(VLOOKUP(GM8,MATCHSELEVES!$Y$14:$AE$600,4,FALSE),0)","v":0},{"$f":"IFERROR(VLOOKUP(GM8,MATCHSELEVES!$Y$14:$AE$600,5,FALSE),0)","v":0},{"$f":"IFERROR(VLOOKUP(GM8,MATCHSELEVES!$Y$14:$AF$600,8,FALSE),0)","v":0},{"$f":"IFERROR(VLOOKUP(GM8,MATCHSELEVES!$Y$14:$AG$600,9,FALSE),0)","v":0},"balise_31",{"$f":"IFERROR(VLOOKUP(GS8,MATCHSELEVES!$Y$14:$AE$600,3,FALSE),0)","v":0},{"$f":"IFERROR(VLOOKUP(GS8,MATCHSELEVES!$Y$14:$AE$600,4,FALSE),0)","v":0},{"$f":"IFERROR(VLOOKUP(GS8,MATCHSELEVES!$Y$14:$AE$600,5,FALSE),0)","v":0},{"$f":"IFERROR(VLOOKUP(GS8,MATCHSELEVES!$Y$14:$AF$600,8,FALSE),0)","v":0},{"$f":"IFERROR(VLOOKUP(GS8,MATCHSELEVES!$Y$14:$AG$600,9,FALSE),0)","v":0},"balise_32",{"$f":"IFERROR(VLOOKUP(GY8,MATCHSELEVES!$Y$14:$AE$600,3,FALSE),0)","v":0},{"$f":"IFERROR(VLOOKUP(GY8,MATCHSELEVES!$Y$14:$AE$600,4,FALSE),0)","v":0},{"$f":"IFERROR(VLOOKUP(GY8,MATCHSELEVES!$Y$14:$AE$600,5,FALSE),0)","v":0},{"$f":"IFERROR(VLOOKUP(GY8,MATCHSELEVES!$Y$14:$AF$600,8,FALSE),0)","v":0},{"$f":"IFERROR(VLOOKUP(GY8,MATCHSELEVES!$Y$14:$AG$600,9,FALSE),0)","v":0},"balise_33",{"$f":"IFERROR(VLOOKUP(HE8,MATCHSELEVES!$Y$14:$AE$600,3,FALSE),0)","v":0},{"$f":"IFERROR(VLOOKUP(HE8,MATCHSELEVES!$Y$14:$AE$600,4,FALSE),0)","v":0},{"$f":"IFERROR(VLOOKUP(HE8,MATCHSELEVES!$Y$14:$AE$600,5,FALSE),0)","v":0},{"$f":"IFERROR(VLOOKUP(HE8,MATCHSELEVES!$Y$14:$AF$600,8,FALSE),0)","v":0},{"$f":"IFERROR(VLOOKUP(HE8,MATCHSELEVES!$Y$14:$AG$600,9,FALSE),0)","v":0},"balise_34",{"$f":"IFERROR(VLOOKUP(HK8,MATCHSELEVES!$Y$14:$AE$600,3,FALSE),0)","v":0},{"$f":"IFERROR(VLOOKUP(HK8,MATCHSELEVES!$Y$14:$AE$600,4,FALSE),0)","v":0},{"$f":"IFERROR(VLOOKUP(HK8,MATCHSELEVES!$Y$14:$AE$600,5,FALSE),0)","v":0},{"$f":"IFERROR(VLOOKUP(HK8,MATCHSELEVES!$Y$14:$AF$600,8,FALSE),0)","v":0},{"$f":"IFERROR(VLOOKUP(HK8,MATCHSELEVES!$Y$14:$AG$600,9,FALSE),0)","v":0},"balise_35",{"$f":"IFERROR(VLOOKUP(HQ8,MATCHSELEVES!$Y$14:$AE$600,3,FALSE),0)","v":0},{"$f":"IFERROR(VLOOKUP(HQ8,MATCHSELEVES!$Y$14:$AE$600,4,FALSE),0)","v":0},{"$f":"IFERROR(VLOOKUP(HQ8,MATCHSELEVES!$Y$14:$AE$600,5,FALSE),0)","v":0},{"$f":"IFERROR(VLOOKUP(HQ8,MATCHSELEVES!$Y$14:$AF$600,8,FALSE),0)","v":0},{"$f":"IFERROR(VLOOKUP(HQ8,MATCHSELEVES!$Y$14:$AG$600,9,FALSE),0)","v":0},"balise_36",{"$f":"IFERROR(VLOOKUP(HW8,MATCHSELEVES!$Y$14:$AE$600,3,FALSE),0)","v":0},{"$f":"IFERROR(VLOOKUP(HW8,MATCHSELEVES!$Y$14:$AE$600,4,FALSE),0)","v":0},{"$f":"IFERROR(VLOOKUP(HW8,MATCHSELEVES!$Y$14:$AE$600,5,FALSE),0)","v":0},{"$f":"IFERROR(VLOOKUP(HW8,MATCHSELEVES!$Y$14:$AF$600,8,FALSE),0)","v":0},{"$f":"IFERROR(VLOOKUP(HW8,MATCHSELEVES!$Y$14:$AG$600,9,FALSE),0)","v":0},"balise_37",{"$f":"IFERROR(VLOOKUP(IC8,MATCHSELEVES!$Y$14:$AE$600,3,FALSE),0)","v":0},{"$f":"IFERROR(VLOOKUP(IC8,MATCHSELEVES!$Y$14:$AE$600,4,FALSE),0)","v":0},{"$f":"IFERROR(VLOOKUP(IC8,MATCHSELEVES!$Y$14:$AE$600,5,FALSE),0)","v":0},{"$f":"IFERROR(VLOOKUP(IC8,MATCHSELEVES!$Y$14:$AF$600,8,FALSE),0)","v":0},{"$f":"IFERROR(VLOOKUP(IC8,MATCHSELEVES!$Y$14:$AG$600,9,FALSE),0)","v":0},"balise_38",{"$f":"IFERROR(VLOOKUP(II8,MATCHSELEVES!$Y$14:$AE$600,3,FALSE),0)","v":0},{"$f":"IFERROR(VLOOKUP(II8,MATCHSELEVES!$Y$14:$AE$600,4,FALSE),0)","v":0},{"$f":"IFERROR(VLOOKUP(II8,MATCHSELEVES!$Y$14:$AE$600,5,FALSE),0)","v":0},{"$f":"IFERROR(VLOOKUP(II8,MATCHSELEVES!$Y$14:$AF$600,8,FALSE),0)","v":0},{"$f":"IFERROR(VLOOKUP(II8,MATCHSELEVES!$Y$14:$AG$600,9,FALSE),0)","v":0},"balise_39",{"$f":"IFERROR(VLOOKUP(IO8,MATCHSELEVES!$Y$14:$AE$600,3,FALSE),0)","v":0},{"$f":"IFERROR(VLOOKUP(IO8,MATCHSELEVES!$Y$14:$AE$600,4,FALSE),0)","v":0},{"$f":"IFERROR(VLOOKUP(IO8,MATCHSELEVES!$Y$14:$AE$600,5,FALSE),0)","v":0},{"$f":"IFERROR(VLOOKUP(IO8,MATCHSELEVES!$Y$14:$AF$600,8,FALSE),0)","v":0},{"$f":"IFERROR(VLOOKUP(IO8,MATCHSELEVES!$Y$14:$AG$600,9,FALSE),0)","v":0},"balise_40",{"$f":"IFERROR(VLOOKUP(IU8,MATCHSELEVES!$Y$14:$AE$600,3,FALSE),0)","v":0},{"$f":"IFERROR(VLOOKUP(IU8,MATCHSELEVES!$Y$14:$AE$600,4,FALSE),0)","v":0},{"$f":"IFERROR(VLOOKUP(IU8,MATCHSELEVES!$Y$14:$AE$600,5,FALSE),0)","v":0},{"$f":"IFERROR(VLOOKUP(IU8,MATCHSELEVES!$Y$14:$AF$600,8,FALSE),0)","v":0},{"$f":"IFERROR(VLOOKUP(IU8,MATCHSELEVES!$Y$14:$AG$600,9,FALSE),0)","v":0},"balisep_1",{"$f":"IFERROR(VLOOKUP(JA8,MATCHSELEVES!$Y$14:$AE$600,3,FALSE),0)","v":0},{"$f":"IFERROR(VLOOKUP(JA8,MATCHSELEVES!$Y$14:$AE$600,4,FALSE),0)","v":0},{"$f":"IFERROR(VLOOKUP(JA8,MATCHSELEVES!$Y$14:$AE$600,5,FALSE),0)","v":0},{"$f":"IFERROR(VLOOKUP(JA8,MATCHSELEVES!$Y$14:$AF$600,8,FALSE),0)","v":0},{"$f":"IFERROR(VLOOKUP(JA8,MATCHSELEVES!$Y$14:$AG$600,9,FALSE),0)","v":0},"balisep_2",{"$f":"IFERROR(VLOOKUP(JG8,MATCHSELEVES!$Y$14:$AE$600,3,FALSE),0)","v":0},{"$f":"IFERROR(VLOOKUP(JG8,MATCHSELEVES!$Y$14:$AE$600,4,FALSE),0)","v":0},{"$f":"IFERROR(VLOOKUP(JG8,MATCHSELEVES!$Y$14:$AE$600,5,FALSE),0)","v":0},{"$f":"IFERROR(VLOOKUP(JG8,MATCHSELEVES!$Y$14:$AF$600,8,FALSE),0)","v":0},{"$f":"IFERROR(VLOOKUP(JG8,MATCHSELEVES!$Y$14:$AG$600,9,FALSE),0)","v":0},"balisep_3",{"$f":"IFERROR(VLOOKUP(JM8,MATCHSELEVES!$Y$14:$AE$600,3,FALSE),0)","v":0},{"$f":"IFERROR(VLOOKUP(JM8,MATCHSELEVES!$Y$14:$AE$600,4,FALSE),0)","v":0},{"$f":"IFERROR(VLOOKUP(JM8,MATCHSELEVES!$Y$14:$AE$600,5,FALSE),0)","v":0},{"$f":"IFERROR(VLOOKUP(JM8,MATCHSELEVES!$Y$14:$AF$600,8,FALSE),0)","v":0},{"$f":"IFERROR(VLOOKUP(JM8,MATCHSELEVES!$Y$14:$AG$600,9,FALSE),0)","v":0},"balisep_4",{"$f":"IFERROR(VLOOKUP(JS8,MATCHSELEVES!$Y$14:$AE$600,3,FALSE),0)","v":0},{"$f":"IFERROR(VLOOKUP(JS8,MATCHSELEVES!$Y$14:$AE$600,4,FALSE),0)","v":0},{"$f":"IFERROR(VLOOKUP(JS8,MATCHSELEVES!$Y$14:$AE$600,5,FALSE),0)","v":0},{"$f":"IFERROR(VLOOKUP(JS8,MATCHSELEVES!$Y$14:$AF$600,8,FALSE),0)","v":0},{"$f":"IFERROR(VLOOKUP(JS8,MATCHSELEVES!$Y$14:$AG$600,9,FALSE),0)","v":0},"balisep_5",{"$f":"IFERROR(VLOOKUP(JY8,MATCHSELEVES!$Y$14:$AE$600,3,FALSE),0)","v":0},{"$f":"IFERROR(VLOOKUP(JY8,MATCHSELEVES!$Y$14:$AE$600,4,FALSE),0)","v":0},{"$f":"IFERROR(VLOOKUP(JY8,MATCHSELEVES!$Y$14:$AE$600,5,FALSE),0)","v":0},{"$f":"IFERROR(VLOOKUP(JY8,MATCHSELEVES!$Y$14:$AF$600,8,FALSE),0)","v":0},{"$f":"IFERROR(VLOOKUP(JY8,MATCHSELEVES!$Y$14:$AG$600,9,FALSE),0)","v":0},"balisep_6",{"$f":"IFERROR(VLOOKUP(KE8,MATCHSELEVES!$Y$14:$AE$600,3,FALSE),0)","v":0},{"$f":"IFERROR(VLOOKUP(KE8,MATCHSELEVES!$Y$14:$AE$600,4,FALSE),0)","v":0},{"$f":"IFERROR(VLOOKUP(KE8,MATCHSELEVES!$Y$14:$AE$600,5,FALSE),0)","v":0},{"$f":"IFERROR(VLOOKUP(KE8,MATCHSELEVES!$Y$14:$AF$600,8,FALSE),0)","v":0},{"$f":"IFERROR(VLOOKUP(KE8,MATCHSELEVES!$Y$14:$AG$600,9,FALSE),0)","v":0},"balisep_7",{"$f":"IFERROR(VLOOKUP(KK8,MATCHSELEVES!$Y$14:$AE$600,3,FALSE),0)","v":0},{"$f":"IFERROR(VLOOKUP(KK8,MATCHSELEVES!$Y$14:$AE$600,4,FALSE),0)","v":0},{"$f":"IFERROR(VLOOKUP(KK8,MATCHSELEVES!$Y$14:$AE$600,5,FALSE),0)","v":0},{"$f":"IFERROR(VLOOKUP(KK8,MATCHSELEVES!$Y$14:$AF$600,8,FALSE),0)","v":0},{"$f":"IFERROR(VLOOKUP(KK8,MATCHSELEVES!$Y$14:$AG$600,9,FALSE),0)","v":0},"balisep_8",{"$f":"IFERROR(VLOOKUP(KQ8,MATCHSELEVES!$Y$14:$AE$600,3,FALSE),0)","v":0},{"$f":"IFERROR(VLOOKUP(KQ8,MATCHSELEVES!$Y$14:$AE$600,4,FALSE),0)","v":0},{"$f":"IFERROR(VLOOKUP(KQ8,MATCHSELEVES!$Y$14:$AE$600,5,FALSE),0)","v":0},{"$f":"IFERROR(VLOOKUP(KQ8,MATCHSELEVES!$Y$14:$AF$600,8,FALSE),0)","v":0},{"$f":"IFERROR(VLOOKUP(KQ8,MATCHSELEVES!$Y$14:$AG$600,9,FALSE),0)","v":0},"balisep_9",{"$f":"IFERROR(VLOOKUP(KW8,MATCHSELEVES!$Y$14:$AE$600,3,FALSE),0)","v":0},{"$f":"IFERROR(VLOOKUP(KW8,MATCHSELEVES!$Y$14:$AE$600,4,FALSE),0)","v":0},{"$f":"IFERROR(VLOOKUP(KW8,MATCHSELEVES!$Y$14:$AE$600,5,FALSE),0)","v":0},{"$f":"IFERROR(VLOOKUP(KW8,MATCHSELEVES!$Y$14:$AF$600,8,FALSE),0)","v":0},{"$f":"IFERROR(VLOOKUP(KW8,MATCHSELEVES!$Y$14:$AG$600,9,FALSE),0)","v":0},"balisep_10",{"$f":"IFERROR(VLOOKUP(LC8,MATCHSELEVES!$Y$14:$AE$600,3,FALSE),0)","v":0},{"$f":"IFERROR(VLOOKUP(LC8,MATCHSELEVES!$Y$14:$AE$600,4,FALSE),0)","v":0},{"$f":"IFERROR(VLOOKUP(LC8,MATCHSELEVES!$Y$14:$AE$600,5,FALSE),0)","v":0},{"$f":"IFERROR(VLOOKUP(LC8,MATCHSELEVES!$Y$14:$AF$600,8,FALSE),0)","v":0},{"$f":"IFERROR(VLOOKUP(LC8,MATCHSELEVES!$Y$14:$AG$600,9,FALSE),0)","v":0},"balisep_11",{"$f":"IFERROR(VLOOKUP(LI8,MATCHSELEVES!$Y$14:$AE$600,3,FALSE),0)","v":0},{"$f":"IFERROR(VLOOKUP(LI8,MATCHSELEVES!$Y$14:$AE$600,4,FALSE),0)","v":0},{"$f":"IFERROR(VLOOKUP(LI8,MATCHSELEVES!$Y$14:$AE$600,5,FALSE),0)","v":0},{"$f":"IFERROR(VLOOKUP(LI8,MATCHSELEVES!$Y$14:$AF$600,8,FALSE),0)","v":0},{"$f":"IFERROR(VLOOKUP(LI8,MATCHSELEVES!$Y$14:$AG$600,9,FALSE),0)","v":0},"balisep_12",{"$f":"IFERROR(VLOOKUP(LO8,MATCHSELEVES!$Y$14:$AE$600,3,FALSE),0)","v":0},{"$f":"IFERROR(VLOOKUP(LO8,MATCHSELEVES!$Y$14:$AE$600,4,FALSE),0)","v":0},{"$f":"IFERROR(VLOOKUP(LO8,MATCHSELEVES!$Y$14:$AE$600,5,FALSE),0)","v":0},{"$f":"IFERROR(VLOOKUP(LO8,MATCHSELEVES!$Y$14:$AF$600,8,FALSE),0)","v":0},{"$f":"IFERROR(VLOOKUP(LO8,MATCHSELEVES!$Y$14:$AG$600,9,FALSE),0)","v":0},"balisep_13",{"$f":"IFERROR(VLOOKUP(LU8,MATCHSELEVES!$Y$14:$AE$600,3,FALSE),0)","v":0},{"$f":"IFERROR(VLOOKUP(LU8,MATCHSELEVES!$Y$14:$AE$600,4,FALSE),0)","v":0},{"$f":"IFERROR(VLOOKUP(LU8,MATCHSELEVES!$Y$14:$AE$600,5,FALSE),0)","v":0},{"$f":"IFERROR(VLOOKUP(LU8,MATCHSELEVES!$Y$14:$AF$600,8,FALSE),0)","v":0},{"$f":"IFERROR(VLOOKUP(LU8,MATCHSELEVES!$Y$14:$AG$600,9,FALSE),0)","v":0},"balisep_14",{"$f":"IFERROR(VLOOKUP(MA8,MATCHSELEVES!$Y$14:$AE$600,3,FALSE),0)","v":0},{"$f":"IFERROR(VLOOKUP(MA8,MATCHSELEVES!$Y$14:$AE$600,4,FALSE),0)","v":0},{"$f":"IFERROR(VLOOKUP(MA8,MATCHSELEVES!$Y$14:$AE$600,5,FALSE),0)","v":0},{"$f":"IFERROR(VLOOKUP(MA8,MATCHSELEVES!$Y$14:$AF$600,8,FALSE),0)","v":0},{"$f":"IFERROR(VLOOKUP(MA8,MATCHSELEVES!$Y$14:$AG$600,9,FALSE),0)","v":0},"balisep_15",{"$f":"IFERROR(VLOOKUP(MG8,MATCHSELEVES!$Y$14:$AE$600,3,FALSE),0)","v":0},{"$f":"IFERROR(VLOOKUP(MG8,MATCHSELEVES!$Y$14:$AE$600,4,FALSE),0)","v":0},{"$f":"IFERROR(VLOOKUP(MG8,MATCHSELEVES!$Y$14:$AE$600,5,FALSE),0)","v":0},{"$f":"IFERROR(VLOOKUP(MG8,MATCHSELEVES!$Y$14:$AF$600,8,FALSE),0)","v":0},{"$f":"IFERROR(VLOOKUP(MG8,MATCHSELEVES!$Y$14:$AG$600,9,FALSE),0)","v":0},"balisep_16",{"$f":"IFERROR(VLOOKUP(MM8,MATCHSELEVES!$Y$14:$AE$600,3,FALSE),0)","v":0},{"$f":"IFERROR(VLOOKUP(MM8,MATCHSELEVES!$Y$14:$AE$600,4,FALSE),0)","v":0},{"$f":"IFERROR(VLOOKUP(MM8,MATCHSELEVES!$Y$14:$AE$600,5,FALSE),0)","v":0},{"$f":"IFERROR(VLOOKUP(MM8,MATCHSELEVES!$Y$14:$AF$600,8,FALSE),0)","v":0},{"$f":"IFERROR(VLOOKUP(MM8,MATCHSELEVES!$Y$14:$AG$600,9,FALSE),0)","v":0},"balisep_17",{"$f":"IFERROR(VLOOKUP(MS8,MATCHSELEVES!$Y$14:$AE$600,3,FALSE),0)","v":0},{"$f":"IFERROR(VLOOKUP(MS8,MATCHSELEVES!$Y$14:$AE$600,4,FALSE),0)","v":0},{"$f":"IFERROR(VLOOKUP(MS8,MATCHSELEVES!$Y$14:$AE$600,5,FALSE),0)","v":0},{"$f":"IFERROR(VLOOKUP(MS8,MATCHSELEVES!$Y$14:$AF$600,8,FALSE),0)","v":0},{"$f":"IFERROR(VLOOKUP(MS8,MATCHSELEVES!$Y$14:$AG$600,9,FALSE),0)","v":0},"balisep_18",{"$f":"IFERROR(VLOOKUP(MY8,MATCHSELEVES!$Y$14:$AE$600,3,FALSE),0)","v":0},{"$f":"IFERROR(VLOOKUP(MY8,MATCHSELEVES!$Y$14:$AE$600,4,FALSE),0)","v":0},{"$f":"IFERROR(VLOOKUP(MY8,MATCHSELEVES!$Y$14:$AE$600,5,FALSE),0)","v":0},{"$f":"IFERROR(VLOOKUP(MY8,MATCHSELEVES!$Y$14:$AF$600,8,FALSE),0)","v":0},{"$f":"IFERROR(VLOOKUP(MY8,MATCHSELEVES!$Y$14:$AG$600,9,FALSE),0)","v":0},"balisep_19",{"$f":"IFERROR(VLOOKUP(NE8,MATCHSELEVES!$Y$14:$AE$600,3,FALSE),0)","v":0},{"$f":"IFERROR(VLOOKUP(NE8,MATCHSELEVES!$Y$14:$AE$600,4,FALSE),0)","v":0},{"$f":"IFERROR(VLOOKUP(NE8,MATCHSELEVES!$Y$14:$AE$600,5,FALSE),0)","v":0},{"$f":"IFERROR(VLOOKUP(NE8,MATCHSELEVES!$Y$14:$AF$600,8,FALSE),0)","v":0},{"$f":"IFERROR(VLOOKUP(NE8,MATCHSELEVES!$Y$14:$AG$600,9,FALSE),0)","v":0},"balisep_20",{"$f":"IFERROR(VLOOKUP(NK8,MATCHSELEVES!$Y$14:$AE$600,3,FALSE),0)","v":0},{"$f":"IFERROR(VLOOKUP(NK8,MATCHSELEVES!$Y$14:$AE$600,4,FALSE),0)","v":0},{"$f":"IFERROR(VLOOKUP(NK8,MATCHSELEVES!$Y$14:$AE$600,5,FALSE),0)","v":0},{"$f":"IFERROR(VLOOKUP(NK8,MATCHSELEVES!$Y$14:$AF$600,8,FALSE),0)","v":0},{"$f":"IFERROR(VLOOKUP(NK8,MATCHSELEVES!$Y$14:$AG$600,9,FALSE),0)","v":0},"balisep_21",{"$f":"IFERROR(VLOOKUP(NQ8,MATCHSELEVES!$Y$14:$AE$600,3,FALSE),0)","v":0},{"$f":"IFERROR(VLOOKUP(NQ8,MATCHSELEVES!$Y$14:$AE$600,4,FALSE),0)","v":0},{"$f":"IFERROR(VLOOKUP(NQ8,MATCHSELEVES!$Y$14:$AE$600,5,FALSE),0)","v":0},{"$f":"IFERROR(VLOOKUP(NQ8,MATCHSELEVES!$Y$14:$AF$600,8,FALSE),0)","v":0},{"$f":"IFERROR(VLOOKUP(NQ8,MATCHSELEVES!$Y$14:$AG$600,9,FALSE),0)","v":0},"balisep_22",{"$f":"IFERROR(VLOOKUP(NW8,MATCHSELEVES!$Y$14:$AE$600,3,FALSE),0)","v":0},{"$f":"IFERROR(VLOOKUP(NW8,MATCHSELEVES!$Y$14:$AE$600,4,FALSE),0)","v":0},{"$f":"IFERROR(VLOOKUP(NW8,MATCHSELEVES!$Y$14:$AE$600,5,FALSE),0)","v":0},{"$f":"IFERROR(VLOOKUP(NW8,MATCHSELEVES!$Y$14:$AF$600,8,FALSE),0)","v":0},{"$f":"IFERROR(VLOOKUP(NW8,MATCHSELEVES!$Y$14:$AG$600,9,FALSE),0)","v":0},"balisep_23",{"$f":"IFERROR(VLOOKUP(OC8,MATCHSELEVES!$Y$14:$AE$600,3,FALSE),0)","v":0},{"$f":"IFERROR(VLOOKUP(OC8,MATCHSELEVES!$Y$14:$AE$600,4,FALSE),0)","v":0},{"$f":"IFERROR(VLOOKUP(OC8,MATCHSELEVES!$Y$14:$AE$600,5,FALSE),0)","v":0},{"$f":"IFERROR(VLOOKUP(OC8,MATCHSELEVES!$Y$14:$AF$600,8,FALSE),0)","v":0},{"$f":"IFERROR(VLOOKUP(OC8,MATCHSELEVES!$Y$14:$AG$600,9,FALSE),0)","v":0},"balisep_24",{"$f":"IFERROR(VLOOKUP(OI8,MATCHSELEVES!$Y$14:$AE$600,3,FALSE),0)","v":0},{"$f":"IFERROR(VLOOKUP(OI8,MATCHSELEVES!$Y$14:$AE$600,4,FALSE),0)","v":0},{"$f":"IFERROR(VLOOKUP(OI8,MATCHSELEVES!$Y$14:$AE$600,5,FALSE),0)","v":0},{"$f":"IFERROR(VLOOKUP(OI8,MATCHSELEVES!$Y$14:$AF$600,8,FALSE),0)","v":0},{"$f":"IFERROR(VLOOKUP(OI8,MATCHSELEVES!$Y$14:$AG$600,9,FALSE),0)","v":0},"balisep_25",{"$f":"IFERROR(VLOOKUP(OO8,MATCHSELEVES!$Y$14:$AE$600,3,FALSE),0)","v":0},{"$f":"IFERROR(VLOOKUP(OO8,MATCHSELEVES!$Y$14:$AE$600,4,FALSE),0)","v":0},{"$f":"IFERROR(VLOOKUP(OO8,MATCHSELEVES!$Y$14:$AE$600,5,FALSE),0)","v":0},{"$f":"IFERROR(VLOOKUP(OO8,MATCHSELEVES!$Y$14:$AF$600,8,FALSE),0)","v":0},{"$f":"IFERROR(VLOOKUP(OO8,MATCHSELEVES!$Y$14:$AG$600,9,FALSE),0)","v":0},"balisep_26",{"$f":"IFERROR(VLOOKUP(OU8,MATCHSELEVES!$Y$14:$AE$600,3,FALSE),0)","v":0},{"$f":"IFERROR(VLOOKUP(OU8,MATCHSELEVES!$Y$14:$AE$600,4,FALSE),0)","v":0},{"$f":"IFERROR(VLOOKUP(OU8,MATCHSELEVES!$Y$14:$AE$600,5,FALSE),0)","v":0},{"$f":"IFERROR(VLOOKUP(OU8,MATCHSELEVES!$Y$14:$AF$600,8,FALSE),0)","v":0},{"$f":"IFERROR(VLOOKUP(OU8,MATCHSELEVES!$Y$14:$AG$600,9,FALSE),0)","v":0},"balisep_27",{"$f":"IFERROR(VLOOKUP(PA8,MATCHSELEVES!$Y$14:$AE$600,3,FALSE),0)","v":0},{"$f":"IFERROR(VLOOKUP(PA8,MATCHSELEVES!$Y$14:$AE$600,4,FALSE),0)","v":0},{"$f":"IFERROR(VLOOKUP(PA8,MATCHSELEVES!$Y$14:$AE$600,5,FALSE),0)","v":0},{"$f":"IFERROR(VLOOKUP(PA8,MATCHSELEVES!$Y$14:$AF$600,8,FALSE),0)","v":0},{"$f":"IFERROR(VLOOKUP(PA8,MATCHSELEVES!$Y$14:$AG$600,9,FALSE),0)","v":0},"balisep_28",{"$f":"IFERROR(VLOOKUP(PG8,MATCHSELEVES!$Y$14:$AE$600,3,FALSE),0)","v":0},{"$f":"IFERROR(VLOOKUP(PG8,MATCHSELEVES!$Y$14:$AE$600,4,FALSE),0)","v":0},{"$f":"IFERROR(VLOOKUP(PG8,MATCHSELEVES!$Y$14:$AE$600,5,FALSE),0)","v":0},{"$f":"IFERROR(VLOOKUP(PG8,MATCHSELEVES!$Y$14:$AF$600,8,FALSE),0)","v":0},{"$f":"IFERROR(VLOOKUP(PG8,MATCHSELEVES!$Y$14:$AG$600,9,FALSE),0)","v":0},"balisep_29",{"$f":"IFERROR(VLOOKUP(PM8,MATCHSELEVES!$Y$14:$AE$600,3,FALSE),0)","v":0},{"$f":"IFERROR(VLOOKUP(PM8,MATCHSELEVES!$Y$14:$AE$600,4,FALSE),0)","v":0},{"$f":"IFERROR(VLOOKUP(PM8,MATCHSELEVES!$Y$14:$AE$600,5,FALSE),0)","v":0},{"$f":"IFERROR(VLOOKUP(PM8,MATCHSELEVES!$Y$14:$AF$600,8,FALSE),0)","v":0},{"$f":"IFERROR(VLOOKUP(PM8,MATCHSELEVES!$Y$14:$AG$600,9,FALSE),0)","v":0},"balisep_30",{"$f":"IFERROR(VLOOKUP(PS8,MATCHSELEVES!$Y$14:$AE$600,3,FALSE),0)","v":0},{"$f":"IFERROR(VLOOKUP(PS8,MATCHSELEVES!$Y$14:$AE$600,4,FALSE),0)","v":0},{"$f":"IFERROR(VLOOKUP(PS8,MATCHSELEVES!$Y$14:$AE$600,5,FALSE),0)","v":0},{"$f":"IFERROR(VLOOKUP(PS8,MATCHSELEVES!$Y$14:$AF$600,8,FALSE),0)","v":0},{"$f":"IFERROR(VLOOKUP(PS8,MATCHSELEVES!$Y$14:$AG$600,9,FALSE),0)","v":0},"balisep_31",{"$f":"IFERROR(VLOOKUP(PY8,MATCHSELEVES!$Y$14:$AE$600,3,FALSE),0)","v":0},{"$f":"IFERROR(VLOOKUP(PY8,MATCHSELEVES!$Y$14:$AE$600,4,FALSE),0)","v":0},{"$f":"IFERROR(VLOOKUP(PY8,MATCHSELEVES!$Y$14:$AE$600,5,FALSE),0)","v":0},{"$f":"IFERROR(VLOOKUP(PY8,MATCHSELEVES!$Y$14:$AF$600,8,FALSE),0)","v":0},{"$f":"IFERROR(VLOOKUP(PY8,MATCHSELEVES!$Y$14:$AG$600,9,FALSE),0)","v":0},"balisep_32",{"$f":"IFERROR(VLOOKUP(QE8,MATCHSELEVES!$Y$14:$AE$600,3,FALSE),0)","v":0},{"$f":"IFERROR(VLOOKUP(QE8,MATCHSELEVES!$Y$14:$AE$600,4,FALSE),0)","v":0},{"$f":"IFERROR(VLOOKUP(QE8,MATCHSELEVES!$Y$14:$AE$600,5,FALSE),0)","v":0},{"$f":"IFERROR(VLOOKUP(QE8,MATCHSELEVES!$Y$14:$AF$600,8,FALSE),0)","v":0},{"$f":"IFERROR(VLOOKUP(QE8,MATCHSELEVES!$Y$14:$AG$600,9,FALSE),0)","v":0},"balisep_33",{"$f":"IFERROR(VLOOKUP(QK8,MATCHSELEVES!$Y$14:$AE$600,3,FALSE),0)","v":0},{"$f":"IFERROR(VLOOKUP(QK8,MATCHSELEVES!$Y$14:$AE$600,4,FALSE),0)","v":0},{"$f":"IFERROR(VLOOKUP(QK8,MATCHSELEVES!$Y$14:$AE$600,5,FALSE),0)","v":0},{"$f":"IFERROR(VLOOKUP(QK8,MATCHSELEVES!$Y$14:$AF$600,8,FALSE),0)","v":0},{"$f":"IFERROR(VLOOKUP(QK8,MATCHSELEVES!$Y$14:$AG$600,9,FALSE),0)","v":0},"balisep_34",{"$f":"IFERROR(VLOOKUP(QQ8,MATCHSELEVES!$Y$14:$AE$600,3,FALSE),0)","v":0},{"$f":"IFERROR(VLOOKUP(QQ8,MATCHSELEVES!$Y$14:$AE$600,4,FALSE),0)","v":0},{"$f":"IFERROR(VLOOKUP(QQ8,MATCHSELEVES!$Y$14:$AE$600,5,FALSE),0)","v":0},{"$f":"IFERROR(VLOOKUP(QQ8,MATCHSELEVES!$Y$14:$AF$600,8,FALSE),0)","v":0},{"$f":"IFERROR(VLOOKUP(QQ8,MATCHSELEVES!$Y$14:$AG$600,9,FALSE),0)","v":0},"balisep_35",{"$f":"IFERROR(VLOOKUP(QW8,MATCHSELEVES!$Y$14:$AE$600,3,FALSE),0)","v":0},{"$f":"IFERROR(VLOOKUP(QW8,MATCHSELEVES!$Y$14:$AE$600,4,FALSE),0)","v":0},{"$f":"IFERROR(VLOOKUP(QW8,MATCHSELEVES!$Y$14:$AE$600,5,FALSE),0)","v":0},{"$f":"IFERROR(VLOOKUP(QW8,MATCHSELEVES!$Y$14:$AF$600,8,FALSE),0)","v":0},{"$f":"IFERROR(VLOOKUP(QW8,MATCHSELEVES!$Y$14:$AG$600,9,FALSE),0)","v":0},"balisep_36",{"$f":"IFERROR(VLOOKUP(RC8,MATCHSELEVES!$Y$14:$AE$600,3,FALSE),0)","v":0},{"$f":"IFERROR(VLOOKUP(RC8,MATCHSELEVES!$Y$14:$AE$600,4,FALSE),0)","v":0},{"$f":"IFERROR(VLOOKUP(RC8,MATCHSELEVES!$Y$14:$AE$600,5,FALSE),0)","v":0},{"$f":"IFERROR(VLOOKUP(RC8,MATCHSELEVES!$Y$14:$AF$600,8,FALSE),0)","v":0},{"$f":"IFERROR(VLOOKUP(RC8,MATCHSELEVES!$Y$14:$AG$600,9,FALSE),0)","v":0},"balisep_37",{"$f":"IFERROR(VLOOKUP(RI8,MATCHSELEVES!$Y$14:$AE$600,3,FALSE),0)","v":0},{"$f":"IFERROR(VLOOKUP(RI8,MATCHSELEVES!$Y$14:$AE$600,4,FALSE),0)","v":0},{"$f":"IFERROR(VLOOKUP(RI8,MATCHSELEVES!$Y$14:$AE$600,5,FALSE),0)","v":0},{"$f":"IFERROR(VLOOKUP(RI8,MATCHSELEVES!$Y$14:$AF$600,8,FALSE),0)","v":0},{"$f":"IFERROR(VLOOKUP(RI8,MATCHSELEVES!$Y$14:$AG$600,9,FALSE),0)","v":0},"balisep_38",{"$f":"IFERROR(VLOOKUP(RO8,MATCHSELEVES!$Y$14:$AE$600,3,FALSE),0)","v":0},{"$f":"IFERROR(VLOOKUP(RO8,MATCHSELEVES!$Y$14:$AE$600,4,FALSE),0)","v":0},{"$f":"IFERROR(VLOOKUP(RO8,MATCHSELEVES!$Y$14:$AE$600,5,FALSE),0)","v":0},{"$f":"IFERROR(VLOOKUP(RO8,MATCHSELEVES!$Y$14:$AF$600,8,FALSE),0)","v":0},{"$f":"IFERROR(VLOOKUP(RO8,MATCHSELEVES!$Y$14:$AG$600,9,FALSE),0)","v":0},"balisep_39",{"$f":"IFERROR(VLOOKUP(RU8,MATCHSELEVES!$Y$14:$AE$600,3,FALSE),0)","v":0},{"$f":"IFERROR(VLOOKUP(RU8,MATCHSELEVES!$Y$14:$AE$600,4,FALSE),0)","v":0},{"$f":"IFERROR(VLOOKUP(RU8,MATCHSELEVES!$Y$14:$AE$600,5,FALSE),0)","v":0},{"$f":"IFERROR(VLOOKUP(RU8,MATCHSELEVES!$Y$14:$AF$600,8,FALSE),0)","v":0},{"$f":"IFERROR(VLOOKUP(RU8,MATCHSELEVES!$Y$14:$AG$600,9,FALSE),0)","v":0},"balisep_40",{"$f":"IFERROR(VLOOKUP(SA8,MATCHSELEVES!$Y$14:$AE$600,3,FALSE),0)","v":0},{"$f":"IFERROR(VLOOKUP(SA8,MATCHSELEVES!$Y$14:$AE$600,4,FALSE),0)","v":0},{"$f":"IFERROR(VLOOKUP(SA8,MATCHSELEVES!$Y$14:$AE$600,5,FALSE),0)","v":0},{"$f":"IFERROR(VLOOKUP(SA8,MATCHSELEVES!$Y$14:$AF$600,8,FALSE),0)","v":0},{"$f":"IFERROR(VLOOKUP(SA8,MATCHSELEVES!$Y$14:$AG$600,9,FALSE),0)","v":0}]
[6,null,"Beqir",6,null,null,{"$f":"COUNTIF(MATCHSELEVES!$Z$14:$Z$600,C9)+COUNTIF(MATCHSELEVES!$Z$14:$Z$600,$C9&\"p\")","v":0},1,{"$f":"COUNTIF(MATCHSELEVES!$F$14:$H$249,C9)","v":0},1,0,1,{"$f":"IFERROR(M52/Tableau10[[#This Row],[Nombre de matchs joués]],0)","v":0},{"$f":"IF(Tableau10[[#This Row],[Nombre de points encaissés]]=0,$C$45,SUMPRODUCT((M$4:M$43<M9)*(M$4:M$43<>0))+1)","v":40},0,1,{"$f":"(Tableau10[[#This Row],[CLASSEMENT1]]+Tableau10[[#This Row],[CLASSEMENT2]]+Tableau10[[#This Row],[CLASSEMENT3]]+Tableau10[[#This Row],[CLASSEMENT4]]+Tableau10[[#This Row],[CLASSEMENT5]]+Tableau10[[#This Row],[CLASSEMENT6]])/6","v":8.3333333333333339},{"$f":"RANK(Tableau10[[#This Row],[MOYENNE CLASSEMENTS]],Tableau10[MOYENNE CLASSEMENTS],1)","v":6},null,{"$f":"Tableau10[[#This Row],[CLASSEMENT1]]","v":6},"Beqir_1",{"$f":"IFERROR(VLOOKUP(U9,MATCHSELEVES!$Y$14:$AE$600,3,FALSE),0)","v":0},{"$f":"IFERROR(VLOOKUP(U9,MATCHSELEVES!$Y$14:$AE$600,4,FALSE),0)","v":0},{"$f":"IFERROR(VLOOKUP(U9,MATCHSELEVES!$Y$14:$AE$600,5,FALSE),0)","v":0},{"$f":"IFERROR(VLOOKUP(U9,MATCHSELEVES!$Y$14:$AF$600,8,FALSE),0)","v":0},{"$f":"IFERROR(VLOOKUP(U9,MATCHSELEVES!$Y$14:$AG$600,9,FALSE),0)","v":0},"Beqir_2",{"$f":"IFERROR(VLOOKUP(AA9,MATCHSELEVES!$Y$14:$AE$600,3,FALSE),0)","v":0},{"$f":"IFERROR(VLOOKUP(AA9,MATCHSELEVES!$Y$14:$AE$600,4,FALSE),0)","v":0},{"$f":"IFERROR(VLOOKUP(AA9,MATCHSELEVES!$Y$14:$AE$600,5,FALSE),0)","v":0},{"$f":"IFERROR(VLOOKUP(AA9,MATCHSELEVES!$Y$14:$AF$600,8,FALSE),0)","v":0},{"$f":"IFERROR(VLOOKUP(AA9,MATCHSELEVES!$Y$14:$AG$600,9,FALSE),0)","v":0},"Beqir_3",{"$f":"IFERROR(VLOOKUP(AG9,MATCHSELEVES!$Y$14:$AE$600,3,FALSE),0)","v":0},{"$f":"IFERROR(VLOOKUP(AG9,MATCHSELEVES!$Y$14:$AE$600,4,FALSE),0)","v":0},{"$f":"IFERROR(VLOOKUP(AG9,MATCHSELEVES!$Y$14:$AE$600,5,FALSE),0)","v":0},{"$f":"IFERROR(VLOOKUP(AG9,MATCHSELEVES!$Y$14:$AF$600,8,FALSE),0)","v":0},{"$f":"IFERROR(VLOOKUP(AG9,MATCHSELEVES!$Y$14:$AG$600,9,FALSE),0)","v":0},"Beqir_4",{"$f":"IFERROR(VLOOKUP(AM9,MATCHSELEVES!$Y$14:$AE$600,3,FALSE),0)","v":0},{"$f":"IFERROR(VLOOKUP(AM9,MATCHSELEVES!$Y$14:$AE$600,4,FALSE),0)","v":0},{"$f":"IFERROR(VLOOKUP(AM9,MATCHSELEVES!$Y$14:$AE$600,5,FALSE),0)","v":0},{"$f":"IFERROR(VLOOKUP(AM9,MATCHSELEVES!$Y$14:$AF$600,8,FALSE),0)","v":0},{"$f":"IFERROR(VLOOKUP(AM9,MATCHSELEVES!$Y$14:$AG$600,9,FALSE),0)","v":0},"Beqir_5",{"$f":"IFERROR(VLOOKUP(AS9,MATCHSELEVES!$Y$14:$AE$600,3,FALSE),0)","v":0},{"$f":"IFERROR(VLOOKUP(AS9,MATCHSELEVES!$Y$14:$AE$600,4,FALSE),0)","v":0},{"$f":"IFERROR(VLOOKUP(AS9,MATCHSELEVES!$Y$14:$AE$600,5,FALSE),0)","v":0},{"$f":"IFERROR(VLOOKUP(AS9,MATCHSELEVES!$Y$14:$AF$600,8,FALSE),0)","v":0},{"$f":"IFERROR(VLOOKUP(AS9,MATCHSELEVES!$Y$14:$AG$600,9,FALSE),0)","v":0},"Beqir_6",{"$f":"IFERROR(VLOOKUP(AY9,MATCHSELEVES!$Y$14:$AE$600,3,FALSE),0)","v":0},{"$f":"IFERROR(VLOOKUP(AY9,MATCHSELEVES!$Y$14:$AE$600,4,FALSE),0)","v":0},{"$f":"IFERROR(VLOOKUP(AY9,MATCHSELEVES!$Y$14:$AE$600,5,FALSE),0)","v":0},{"$f":"IFERROR(VLOOKUP(AY9,MATCHSELEVES!$Y$14:$AF$600,8,FALSE),0)","v":0},{"$f":"IFERROR(VLOOKUP(AY9,MATCHSELEVES!$Y$14:$AG$600,9,FALSE),0)","v":0},"Beqir_7",{"$f":"IFERROR(VLOOKUP(BE9,MATCHSELEVES!$Y$14:$AE$600,3,FALSE),0)","v":0},{"$f":"IFERROR(VLOOKUP(BE9,MATCHSELEVES!$Y$14:$AE$600,4,FALSE),0)","v":0},{"$f":"IFERROR(VLOOKUP(BE9,MATCHSELEVES!$Y$14:$AE$600,5,FALSE),0)","v":0},{"$f":"IFERROR(VLOOKUP(BE9,MATCHSELEVES!$Y$14:$AF$600,8,FALSE),0)","v":0},{"$f":"IFERROR(VLOOKUP(BE9,MATCHSELEVES!$Y$14:$AG$600,9,FALSE),0)","v":0},"Beqir_8",{"$f":"IFERROR(VLOOKUP(BK9,MATCHSELEVES!$Y$14:$AE$600,3,FALSE),0)","v":0},{"$f":"IFERROR(VLOOKUP(BK9,MATCHSELEVES!$Y$14:$AE$600,4,FALSE),0)","v":0},{"$f":"IFERROR(VLOOKUP(BK9,MATCHSELEVES!$Y$14:$AE$600,5,FALSE),0)","v":0},{"$f":"IFERROR(VLOOKUP(BK9,MATCHSELEVES!$Y$14:$AF$600,8,FALSE),0)","v":0},{"$f":"IFERROR(VLOOKUP(BK9,MATCHSELEVES!$Y$14:$AG$600,9,FALSE),0)","v":0},"Beqir_9",{"$f":"IFERROR(VLOOKUP(BQ9,MATCHSELEVES!$Y$14:$AE$600,3,FALSE),0)","v":0},{"$f":"IFERROR(VLOOKUP(BQ9,MATCHSELEVES!$Y$14:$AE$600,4,FALSE),0)","v":0},{"$f":"IFERROR(VLOOKUP(BQ9,MATCHSELEVES!$Y$14:$AE$600,5,FALSE),0)","v":0},{"$f":"IFERROR(VLOOKUP(BQ9,MATCHSELEVES!$Y$14:$AF$600,8,FALSE),0)","v":0},{"$f":"IFERROR(VLOOKUP(BQ9,MATCHSELEVES!$Y$14:$AG$600,9,FALSE),0)","v":0},"Beqir_10",{"$f":"IFERROR(VLOOKUP(BW9,MATCHSELEVES!$Y$14:$AE$600,3,FALSE),0)","v":0},{"$f":"IFERROR(VLOOKUP(BW9,MATCHSELEVES!$Y$14:$AE$600,4,FALSE),0)","v":0},{"$f":"IFERROR(VLOOKUP(BW9,MATCHSELEVES!$Y$14:$AE$600,5,FALSE),0)","v":0},{"$f":"IFERROR(VLOOKUP(BW9,MATCHSELEVES!$Y$14:$AF$600,8,FALSE),0)","v":0},{"$f":"IFERROR(VLOOKUP(BW9,MATCHSELEVES!$Y$14:$AG$600,9,FALSE),0)","v":0},"Beqir_11",{"$f":"IFERROR(VLOOKUP(CC9,MATCHSELEVES!$Y$14:$AE$600,3,FALSE),0)","v":0},{"$f":"IFERROR(VLOOKUP(CC9,MATCHSELEVES!$Y$14:$AE$600,4,FALSE),0)","v":0},{"$f":"IFERROR(VLOOKUP(CC9,MATCHSELEVES!$Y$14:$AE$600,5,FALSE),0)","v":0},{"$f":"IFERROR(VLOOKUP(CC9,MATCHSELEVES!$Y$14:$AF$600,8,FALSE),0)","v":0},{"$f":"IFERROR(VLOOKUP(CC9,MATCHSELEVES!$Y$14:$AG$600,9,FALSE),0)","v":0},"Beqir_12",{"$f":"IFERROR(VLOOKUP(CI9,MATCHSELEVES!$Y$14:$AE$600,3,FALSE),0)","v":0},{"$f":"IFERROR(VLOOKUP(CI9,MATCHSELEVES!$Y$14:$AE$600,4,FALSE),0)","v":0},{"$f":"IFERROR(VLOOKUP(CI9,MATCHSELEVES!$Y$14:$AE$600,5,FALSE),0)","v":0},{"$f":"IFERROR(VLOOKUP(CI9,MATCHSELEVES!$Y$14:$AF$600,8,FALSE),0)","v":0},{"$f":"IFERROR(VLOOKUP(CI9,MATCHSELEVES!$Y$14:$AG$600,9,FALSE),0)","v":0},"Beqir_13",{"$f":"IFERROR(VLOOKUP(CO9,MATCHSELEVES!$Y$14:$AE$600,3,FALSE),0)","v":0},{"$f":"IFERROR(VLOOKUP(CO9,MATCHSELEVES!$Y$14:$AE$600,4,FALSE),0)","v":0},{"$f":"IFERROR(VLOOKUP(CO9,MATCHSELEVES!$Y$14:$AE$600,5,FALSE),0)","v":0},{"$f":"IFERROR(VLOOKUP(CO9,MATCHSELEVES!$Y$14:$AF$600,8,FALSE),0)","v":0},{"$f":"IFERROR(VLOOKUP(CO9,MATCHSELEVES!$Y$14:$AG$600,9,FALSE),0)","v":0},"Beqir_14",{"$f":"IFERROR(VLOOKUP(CU9,MATCHSELEVES!$Y$14:$AE$600,3,FALSE),0)","v":0},{"$f":"IFERROR(VLOOKUP(CU9,MATCHSELEVES!$Y$14:$AE$600,4,FALSE),0)","v":0},{"$f":"IFERROR(VLOOKUP(CU9,MATCHSELEVES!$Y$14:$AE$600,5,FALSE),0)","v":0},{"$f":"IFERROR(VLOOKUP(CU9,MATCHSELEVES!$Y$14:$AF$600,8,FALSE),0)","v":0},{"$f":"IFERROR(VLOOKUP(CU9,MATCHSELEVES!$Y$14:$AG$600,9,FALSE),0)","v":0},"Beqir_15",{"$f":"IFERROR(VLOOKUP(DA9,MATCHSELEVES!$Y$14:$AE$600,3,FALSE),0)","v":0},{"$f":"IFERROR(VLOOKUP(DA9,MATCHSELEVES!$Y$14:$AE$600,4,FALSE),0)","v":0},{"$f":"IFERROR(VLOOKUP(DA9,MATCHSELEVES!$Y$14:$AE$600,5,FALSE),0)","v":0},{"$f":"IFERROR(VLOOKUP(DA9,MATCHSELEVES!$Y$14:$AF$600,8,FALSE),0)","v":0},{"$f":"IFERROR(VLOOKUP(DA9,MATCHSELEVES!$Y$14:$AG$600,9,FALSE),0)","v":0},"Beqir_16",{"$f":"IFERROR(VLOOKUP(DG9,MATCHSELEVES!$Y$14:$AE$600,3,FALSE),0)","v":0},{"$f":"IFERROR(VLOOKUP(DG9,MATCHSELEVES!$Y$14:$AE$600,4,FALSE),0)","v":0},{"$f":"IFERROR(VLOOKUP(DG9,MATCHSELEVES!$Y$14:$AE$600,5,FALSE),0)","v":0},{"$f":"IFERROR(VLOOKUP(DG9,MATCHSELEVES!$Y$14:$AF$600,8,FALSE),0)","v":0},{"$f":"IFERROR(VLOOKUP(DG9,MATCHSELEVES!$Y$14:$AG$600,9,FALSE),0)","v":0},"Beqir_17",{"$f":"IFERROR(VLOOKUP(DM9,MATCHSELEVES!$Y$14:$AE$600,3,FALSE),0)","v":0},{"$f":"IFERROR(VLOOKUP(DM9,MATCHSELEVES!$Y$14:$AE$600,4,FALSE),0)","v":0},{"$f":"IFERROR(VLOOKUP(DM9,MATCHSELEVES!$Y$14:$AE$600,5,FALSE),0)","v":0},{"$f":"IFERROR(VLOOKUP(DM9,MATCHSELEVES!$Y$14:$AF$600,8,FALSE),0)","v":0},{"$f":"IFERROR(VLOOKUP(DM9,MATCHSELEVES!$Y$14:$AG$600,9,FALSE),0)","v":0},"Beqir_18",{"$f":"IFERROR(VLOOKUP(DS9,MATCHSELEVES!$Y$14:$AE$600,3,FALSE),0)","v":0},{"$f":"IFERROR(VLOOKUP(DS9,MATCHSELEVES!$Y$14:$AE$600,4,FALSE),0)","v":0},{"$f":"IFERROR(VLOOKUP(DS9,MATCHSELEVES!$Y$14:$AE$600,5,FALSE),0)","v":0},{"$f":"IFERROR(VLOOKUP(DS9,MATCHSELEVES!$Y$14:$AF$600,8,FALSE),0)","v":0},{"$f":"IFERROR(VLOOKUP(DS9,MATCHSELEVES!$Y$14:$AG$600,9,FALSE),0)","v":0},"Beqir_19",{"$f":"IFERROR(VLOOKUP(DY9,MATCHSELEVES!$Y$14:$AE$600,3,FALSE),0)","v":0},{"$f":"IFERROR(VLOOKUP(DY9,MATCHSELEVES!$Y$14:$AE$600,4,FALSE),0)","v":0},{"$f":"IFERROR(VLOOKUP(DY9,MATCHSELEVES!$Y$14:$AE$600,5,FALSE),0)","v":0},{"$f":"IFERROR(VLOOKUP(DY9,MATCHSELEVES!$Y$14:$AF$600,8,FALSE),0)","v":0},{"$f":"IFERROR(VLOOKUP(DY9,MATCHSELEVES!$Y$14:$AG$600,9,FALSE),0)","v":0},"Beqir_20",{"$f":"IFERROR(VLOOKUP(EE9,MATCHSELEVES!$Y$14:$AE$600,3,FALSE),0)","v":0},{"$f":"IFERROR(VLOOKUP(EE9,MATCHSELEVES!$Y$14:$AE$600,4,FALSE),0)","v":0},{"$f":"IFERROR(VLOOKUP(EE9,MATCHSELEVES!$Y$14:$AE$600,5,FALSE),0)","v":0},{"$f":"IFERROR(VLOOKUP(EE9,MATCHSELEVES!$Y$14:$AF$600,8,FALSE),0)","v":0},{"$f":"IFERROR(VLOOKUP(EE9,MATCHSELEVES!$Y$14:$AG$600,9,FALSE),0)","v":0},"Beqir_21",{"$f":"IFERROR(VLOOKUP(EK9,MATCHSELEVES!$Y$14:$AE$600,3,FALSE),0)","v":0},{"$f":"IFERROR(VLOOKUP(EK9,MATCHSELEVES!$Y$14:$AE$600,4,FALSE),0)","v":0},{"$f":"IFERROR(VLOOKUP(EK9,MATCHSELEVES!$Y$14:$AE$600,5,FALSE),0)","v":0},{"$f":"IFERROR(VLOOKUP(EK9,MATCHSELEVES!$Y$14:$AF$600,8,FALSE),0)","v":0},{"$f":"IFERROR(VLOOKUP(EK9,MATCHSELEVES!$Y$14:$AG$600,9,FALSE),0)","v":0},"Beqir_22",{"$f":"IFERROR(VLOOKUP(EQ9,MATCHSELEVES!$Y$14:$AE$600,3,FALSE),0)","v":0},{"$f":"IFERROR(VLOOKUP(EQ9,MATCHSELEVES!$Y$14:$AE$600,4,FALSE),0)","v":0},{"$f":"IFERROR(VLOOKUP(EQ9,MATCHSELEVES!$Y$14:$AE$600,5,FALSE),0)","v":0},{"$f":"IFERROR(VLOOKUP(EQ9,MATCHSELEVES!$Y$14:$AF$600,8,FALSE),0)","v":0},{"$f":"IFERROR(VLOOKUP(EQ9,MATCHSELEVES!$Y$14:$AG$600,9,FALSE),0)","v":0},"Beqir_23",{"$f":"IFERROR(VLOOKUP(EW9,MATCHSELEVES!$Y$14:$AE$600,3,FALSE),0)","v":0},{"$f":"IFERROR(VLOOKUP(EW9,MATCHSELEVES!$Y$14:$AE$600,4,FALSE),0)","v":0},{"$f":"IFERROR(VLOOKUP(EW9,MATCHSELEVES!$Y$14:$AE$600,5,FALSE),0)","v":0},{"$f":"IFERROR(VLOOKUP(EW9,MATCHSELEVES!$Y$14:$AF$600,8,FALSE),0)","v":0},{"$f":"IFERROR(VLOOKUP(EW9,MATCHSELEVES!$Y$14:$AG$600,9,FALSE),0)","v":0},"Beqir_24",{"$f":"IFERROR(VLOOKUP(FC9,MATCHSELEVES!$Y$14:$AE$600,3,FALSE),0)","v":0},{"$f":"IFERROR(VLOOKUP(FC9,MATCHSELEVES!$Y$14:$AE$600,4,FALSE),0)","v":0},{"$f":"IFERROR(VLOOKUP(FC9,MATCHSELEVES!$Y$14:$AE$600,5,FALSE),0)","v":0},{"$f":"IFERROR(VLOOKUP(FC9,MATCHSELEVES!$Y$14:$AF$600,8,FALSE),0)","v":0},{"$f":"IFERROR(VLOOKUP(FC9,MATCHSELEVES!$Y$14:$AG$600,9,FALSE),0)","v":0},"Beqir_25",{"$f":"IFERROR(VLOOKUP(FI9,MATCHSELEVES!$Y$14:$AE$600,3,FALSE),0)","v":0},{"$f":"IFERROR(VLOOKUP(FI9,MATCHSELEVES!$Y$14:$AE$600,4,FALSE),0)","v":0},{"$f":"IFERROR(VLOOKUP(FI9,MATCHSELEVES!$Y$14:$AE$600,5,FALSE),0)","v":0},{"$f":"IFERROR(VLOOKUP(FI9,MATCHSELEVES!$Y$14:$AF$600,8,FALSE),0)","v":0},{"$f":"IFERROR(VLOOKUP(FI9,MATCHSELEVES!$Y$14:$AG$600,9,FALSE),0)","v":0},"Beqir_26",{"$f":"IFERROR(VLOOKUP(FO9,MATCHSELEVES!$Y$14:$AE$600,3,FALSE),0)","v":0},{"$f":"IFERROR(VLOOKUP(FO9,MATCHSELEVES!$Y$14:$AE$600,4,FALSE),0)","v":0},{"$f":"IFERROR(VLOOKUP(FO9,MATCHSELEVES!$Y$14:$AE$600,5,FALSE),0)","v":0},{"$f":"IFERROR(VLOOKUP(FO9,MATCHSELEVES!$Y$14:$AF$600,8,FALSE),0)","v":0},{"$f":"IFERROR(VLOOKUP(FO9,MATCHSELEVES!$Y$14:$AG$600,9,FALSE),0)","v":0},"Beqir_27",{"$f":"IFERROR(VLOOKUP(FU9,MATCHSELEVES!$Y$14:$AE$600,3,FALSE),0)","v":0},{"$f":"IFERROR(VLOOKUP(FU9,MATCHSELEVES!$Y$14:$AE$600,4,FALSE),0)","v":0},{"$f":"IFERROR(VLOOKUP(FU9,MATCHSELEVES!$Y$14:$AE$600,5,FALSE),0)","v":0},{"$f":"IFERROR(VLOOKUP(FU9,MATCHSELEVES!$Y$14:$AF$600,8,FALSE),0)","v":0},{"$f":"IFERROR(VLOOKUP(FU9,MATCHSELEVES!$Y$14:$AG$600,9,FALSE),0)","v":0},"Beqir_28",{"$f":"IFERROR(VLOOKUP(GA9,MATCHSELEVES!$Y$14:$AE$600,3,FALSE),0)","v":0},{"$f":"IFERROR(VLOOKUP(GA9,MATCHSELEVES!$Y$14:$AE$600,4,FALSE),0)","v":0},{"$f":"IFERROR(VLOOKUP(GA9,MATCHSELEVES!$Y$14:$AE$600,5,FALSE),0)","v":0},{"$f":"IFERROR(VLOOKUP(GA9,MATCHSELEVES!$Y$14:$AF$600,8,FALSE),0)","v":0},{"$f":"IFERROR(VLOOKUP(GA9,MATCHSELEVES!$Y$14:$AG$600,9,FALSE),0)","v":0},"Beqir_29",{"$f":"IFERROR(VLOOKUP(GG9,MATCHSELEVES!$Y$14:$AE$600,3,FALSE),0)","v":0},{"$f":"IFERROR(VLOOKUP(GG9,MATCHSELEVES!$Y$14:$AE$600,4,FALSE),0)","v":0},{"$f":"IFERROR(VLOOKUP(GG9,MATCHSELEVES!$Y$14:$AE$600,5,FALSE),0)","v":0},{"$f":"IFERROR(VLOOKUP(GG9,MATCHSELEVES!$Y$14:$AF$600,8,FALSE),0)","v":0},{"$f":"IFERROR(VLOOKUP(GG9,MATCHSELEVES!$Y$14:$AG$600,9,FALSE),0)","v":0},"Beqir_30",{"$f":"IFERROR(VLOOKUP(GM9,MATCHSELEVES!$Y$14:$AE$600,3,FALSE),0)","v":0},{"$f":"IFERROR(VLOOKUP(GM9,MATCHSELEVES!$Y$14:$AE$600,4,FALSE),0)","v":0},{"$f":"IFERROR(VLOOKUP(GM9,MATCHSELEVES!$Y$14:$AE$600,5,FALSE),0)","v":0},{"$f":"IFERROR(VLOOKUP(GM9,MATCHSELEVES!$Y$14:$AF$600,8,FALSE),0)","v":0},{"$f":"IFERROR(VLOOKUP(GM9,MATCHSELEVES!$Y$14:$AG$600,9,FALSE),0)","v":0},"Beqir_31",{"$f":"IFERROR(VLOOKUP(GS9,MATCHSELEVES!$Y$14:$AE$600,3,FALSE),0)","v":0},{"$f":"IFERROR(VLOOKUP(GS9,MATCHSELEVES!$Y$14:$AE$600,4,FALSE),0)","v":0},{"$f":"IFERROR(VLOOKUP(GS9,MATCHSELEVES!$Y$14:$AE$600,5,FALSE),0)","v":0},{"$f":"IFERROR(VLOOKUP(GS9,MATCHSELEVES!$Y$14:$AF$600,8,FALSE),0)","v":0},{"$f":"IFERROR(VLOOKUP(GS9,MATCHSELEVES!$Y$14:$AG$600,9,FALSE),0)","v":0},"Beqir_32",{"$f":"IFERROR(VLOOKUP(GY9,MATCHSELEVES!$Y$14:$AE$600,3,FALSE),0)","v":0},{"$f":"IFERROR(VLOOKUP(GY9,MATCHSELEVES!$Y$14:$AE$600,4,FALSE),0)","v":0},{"$f":"IFERROR(VLOOKUP(GY9,MATCHSELEVES!$Y$14:$AE$600,5,FALSE),0)","v":0},{"$f":"IFERROR(VLOOKUP(GY9,MATCHSELEVES!$Y$14:$AF$600,8,FALSE),0)","v":0},{"$f":"IFERROR(VLOOKUP(GY9,MATCHSELEVES!$Y$14:$AG$600,9,FALSE),0)","v":0},"Beqir_33",{"$f":"IFERROR(VLOOKUP(HE9,MATCHSELEVES!$Y$14:$AE$600,3,FALSE),0)","v":0},{"$f":"IFERROR(VLOOKUP(HE9,MATCHSELEVES!$Y$14:$AE$600,4,FALSE),0)","v":0},{"$f":"IFERROR(VLOOKUP(HE9,MATCHSELEVES!$Y$14:$AE$600,5,FALSE),0)","v":0},{"$f":"IFERROR(VLOOKUP(HE9,MATCHSELEVES!$Y$14:$AF$600,8,FALSE),0)","v":0},{"$f":"IFERROR(VLOOKUP(HE9,MATCHSELEVES!$Y$14:$AG$600,9,FALSE),0)","v":0},"Beqir_34",{"$f":"IFERROR(VLOOKUP(HK9,MATCHSELEVES!$Y$14:$AE$600,3,FALSE),0)","v":0},{"$f":"IFERROR(VLOOKUP(HK9,MATCHSELEVES!$Y$14:$AE$600,4,FALSE),0)","v":0},{"$f":"IFERROR(VLOOKUP(HK9,MATCHSELEVES!$Y$14:$AE$600,5,FALSE),0)","v":0},{"$f":"IFERROR(VLOOKUP(HK9,MATCHSELEVES!$Y$14:$AF$600,8,FALSE),0)","v":0},{"$f":"IFERROR(VLOOKUP(HK9,MATCHSELEVES!$Y$14:$AG$600,9,FALSE),0)","v":0},"Beqir_35",{"$f":"IFERROR(VLOOKUP(HQ9,MATCHSELEVES!$Y$14:$AE$600,3,FALSE),0)","v":0},{"$f":"IFERROR(VLOOKUP(HQ9,MATCHSELEVES!$Y$14:$AE$600,4,FALSE),0)","v":0},{"$f":"IFERROR(VLOOKUP(HQ9,MATCHSELEVES!$Y$14:$AE$600,5,FALSE),0)","v":0},{"$f":"IFERROR(VLOOKUP(HQ9,MATCHSELEVES!$Y$14:$AF$600,8,FALSE),0)","v":0},{"$f":"IFERROR(VLOOKUP(HQ9,MATCHSELEVES!$Y$14:$AG$600,9,FALSE),0)","v":0},"Beqir_36",{"$f":"IFERROR(VLOOKUP(HW9,MATCHSELEVES!$Y$14:$AE$600,3,FALSE),0)","v":0},{"$f":"IFERROR(VLOOKUP(HW9,MATCHSELEVES!$Y$14:$AE$600,4,FALSE),0)","v":0},{"$f":"IFERROR(VLOOKUP(HW9,MATCHSELEVES!$Y$14:$AE$600,5,FALSE),0)","v":0},{"$f":"IFERROR(VLOOKUP(HW9,MATCHSELEVES!$Y$14:$AF$600,8,FALSE),0)","v":0},{"$f":"IFERROR(VLOOKUP(HW9,MATCHSELEVES!$Y$14:$AG$600,9,FALSE),0)","v":0},"Beqir_37",{"$f":"IFERROR(VLOOKUP(IC9,MATCHSELEVES!$Y$14:$AE$600,3,FALSE),0)","v":0},{"$f":"IFERROR(VLOOKUP(IC9,MATCHSELEVES!$Y$14:$AE$600,4,FALSE),0)","v":0},{"$f":"IFERROR(VLOOKUP(IC9,MATCHSELEVES!$Y$14:$AE$600,5,FALSE),0)","v":0},{"$f":"IFERROR(VLOOKUP(IC9,MATCHSELEVES!$Y$14:$AF$600,8,FALSE),0)","v":0},{"$f":"IFERROR(VLOOKUP(IC9,MATCHSELEVES!$Y$14:$AG$600,9,FALSE),0)","v":0},"Beqir_38",{"$f":"IFERROR(VLOOKUP(II9,MATCHSELEVES!$Y$14:$AE$600,3,FALSE),0)","v":0},{"$f":"IFERROR(VLOOKUP(II9,MATCHSELEVES!$Y$14:$AE$600,4,FALSE),0)","v":0},{"$f":"IFERROR(VLOOKUP(II9,MATCHSELEVES!$Y$14:$AE$600,5,FALSE),0)","v":0},{"$f":"IFERROR(VLOOKUP(II9,MATCHSELEVES!$Y$14:$AF$600,8,FALSE),0)","v":0},{"$f":"IFERROR(VLOOKUP(II9,MATCHSELEVES!$Y$14:$AG$600,9,FALSE),0)","v":0},"Beqir_39",{"$f":"IFERROR(VLOOKUP(IO9,MATCHSELEVES!$Y$14:$AE$600,3,FALSE),0)","v":0},{"$f":"IFERROR(VLOOKUP(IO9,MATCHSELEVES!$Y$14:$AE$600,4,FALSE),0)","v":0},{"$f":"IFERROR(VLOOKUP(IO9,MATCHSELEVES!$Y$14:$AE$600,5,FALSE),0)","v":0},{"$f":"IFERROR(VLOOKUP(IO9,MATCHSELEVES!$Y$14:$AF$600,8,FALSE),0)","v":0},{"$f":"IFERROR(VLOOKUP(IO9,MATCHSELEVES!$Y$14:$AG$600,9,FALSE),0)","v":0},"Beqir_40",{"$f":"IFERROR(VLOOKUP(IU9,MATCHSELEVES!$Y$14:$AE$600,3,FALSE),0)","v":0},{"$f":"IFERROR(VLOOKUP(IU9,MATCHSELEVES!$Y$14:$AE$600,4,FALSE),0)","v":0},{"$f":"IFERROR(VLOOKUP(IU9,MATCHSELEVES!$Y$14:$AE$600,5,FALSE),0)","v":0},{"$f":"IFERROR(VLOOKUP(IU9,MATCHSELEVES!$Y$14:$AF$600,8,FALSE),0)","v":0},{"$f":"IFERROR(VLOOKUP(IU9,MATCHSELEVES!$Y$14:$AG$600,9,FALSE),0)","v":0},"Beqirp_1",{"$f":"IFERROR(VLOOKUP(JA9,MATCHSELEVES!$Y$14:$AE$600,3,FALSE),0)","v":0},{"$f":"IFERROR(VLOOKUP(JA9,MATCHSELEVES!$Y$14:$AE$600,4,FALSE),0)","v":0},{"$f":"IFERROR(VLOOKUP(JA9,MATCHSELEVES!$Y$14:$AE$600,5,FALSE),0)","v":0},{"$f":"IFERROR(VLOOKUP(JA9,MATCHSELEVES!$Y$14:$AF$600,8,FALSE),0)","v":0},{"$f":"IFERROR(VLOOKUP(JA9,MATCHSELEVES!$Y$14:$AG$600,9,FALSE),0)","v":0},"Beqirp_2",{"$f":"IFERROR(VLOOKUP(JG9,MATCHSELEVES!$Y$14:$AE$600,3,FALSE),0)","v":0},{"$f":"IFERROR(VLOOKUP(JG9,MATCHSELEVES!$Y$14:$AE$600,4,FALSE),0)","v":0},{"$f":"IFERROR(VLOOKUP(JG9,MATCHSELEVES!$Y$14:$AE$600,5,FALSE),0)","v":0},{"$f":"IFERROR(VLOOKUP(JG9,MATCHSELEVES!$Y$14:$AF$600,8,FALSE),0)","v":0},{"$f":"IFERROR(VLOOKUP(JG9,MATCHSELEVES!$Y$14:$AG$600,9,FALSE),0)","v":0},"Beqirp_3",{"$f":"IFERROR(VLOOKUP(JM9,MATCHSELEVES!$Y$14:$AE$600,3,FALSE),0)","v":0},{"$f":"IFERROR(VLOOKUP(JM9,MATCHSELEVES!$Y$14:$AE$600,4,FALSE),0)","v":0},{"$f":"IFERROR(VLOOKUP(JM9,MATCHSELEVES!$Y$14:$AE$600,5,FALSE),0)","v":0},{"$f":"IFERROR(VLOOKUP(JM9,MATCHSELEVES!$Y$14:$AF$600,8,FALSE),0)","v":0},{"$f":"IFERROR(VLOOKUP(JM9,MATCHSELEVES!$Y$14:$AG$600,9,FALSE),0)","v":0},"Beqirp_4",{"$f":"IFERROR(VLOOKUP(JS9,MATCHSELEVES!$Y$14:$AE$600,3,FALSE),0)","v":0},{"$f":"IFERROR(VLOOKUP(JS9,MATCHSELEVES!$Y$14:$AE$600,4,FALSE),0)","v":0},{"$f":"IFERROR(VLOOKUP(JS9,MATCHSELEVES!$Y$14:$AE$600,5,FALSE),0)","v":0},{"$f":"IFERROR(VLOOKUP(JS9,MATCHSELEVES!$Y$14:$AF$600,8,FALSE),0)","v":0},{"$f":"IFERROR(VLOOKUP(JS9,MATCHSELEVES!$Y$14:$AG$600,9,FALSE),0)","v":0},"Beqirp_5",{"$f":"IFERROR(VLOOKUP(JY9,MATCHSELEVES!$Y$14:$AE$600,3,FALSE),0)","v":0},{"$f":"IFERROR(VLOOKUP(JY9,MATCHSELEVES!$Y$14:$AE$600,4,FALSE),0)","v":0},{"$f":"IFERROR(VLOOKUP(JY9,MATCHSELEVES!$Y$14:$AE$600,5,FALSE),0)","v":0},{"$f":"IFERROR(VLOOKUP(JY9,MATCHSELEVES!$Y$14:$AF$600,8,FALSE),0)","v":0},{"$f":"IFERROR(VLOOKUP(JY9,MATCHSELEVES!$Y$14:$AG$600,9,FALSE),0)","v":0},"Beqirp_6",{"$f":"IFERROR(VLOOKUP(KE9,MATCHSELEVES!$Y$14:$AE$600,3,FALSE),0)","v":0},{"$f":"IFERROR(VLOOKUP(KE9,MATCHSELEVES!$Y$14:$AE$600,4,FALSE),0)","v":0},{"$f":"IFERROR(VLOOKUP(KE9,MATCHSELEVES!$Y$14:$AE$600,5,FALSE),0)","v":0},{"$f":"IFERROR(VLOOKUP(KE9,MATCHSELEVES!$Y$14:$AF$600,8,FALSE),0)","v":0},{"$f":"IFERROR(VLOOKUP(KE9,MATCHSELEVES!$Y$14:$AG$600,9,FALSE),0)","v":0},"Beqirp_7",{"$f":"IFERROR(VLOOKUP(KK9,MATCHSELEVES!$Y$14:$AE$600,3,FALSE),0)","v":0},{"$f":"IFERROR(VLOOKUP(KK9,MATCHSELEVES!$Y$14:$AE$600,4,FALSE),0)","v":0},{"$f":"IFERROR(VLOOKUP(KK9,MATCHSELEVES!$Y$14:$AE$600,5,FALSE),0)","v":0},{"$f":"IFERROR(VLOOKUP(KK9,MATCHSELEVES!$Y$14:$AF$600,8,FALSE),0)","v":0},{"$f":"IFERROR(VLOOKUP(KK9,MATCHSELEVES!$Y$14:$AG$600,9,FALSE),0)","v":0},"Beqirp_8",{"$f":"IFERROR(VLOOKUP(KQ9,MATCHSELEVES!$Y$14:$AE$600,3,FALSE),0)","v":0},{"$f":"IFERROR(VLOOKUP(KQ9,MATCHSELEVES!$Y$14:$AE$600,4,FALSE),0)","v":0},{"$f":"IFERROR(VLOOKUP(KQ9,MATCHSELEVES!$Y$14:$AE$600,5,FALSE),0)","v":0},{"$f":"IFERROR(VLOOKUP(KQ9,MATCHSELEVES!$Y$14:$AF$600,8,FALSE),0)","v":0},{"$f":"IFERROR(VLOOKUP(KQ9,MATCHSELEVES!$Y$14:$AG$600,9,FALSE),0)","v":0},"Beqirp_9",{"$f":"IFERROR(VLOOKUP(KW9,MATCHSELEVES!$Y$14:$AE$600,3,FALSE),0)","v":0},{"$f":"IFERROR(VLOOKUP(KW9,MATCHSELEVES!$Y$14:$AE$600,4,FALSE),0)","v":0},{"$f":"IFERROR(VLOOKUP(KW9,MATCHSELEVES!$Y$14:$AE$600,5,FALSE),0)","v":0},{"$f":"IFERROR(VLOOKUP(KW9,MATCHSELEVES!$Y$14:$AF$600,8,FALSE),0)","v":0},{"$f":"IFERROR(VLOOKUP(KW9,MATCHSELEVES!$Y$14:$AG$600,9,FALSE),0)","v":0},"Beqirp_10",{"$f":"IFERROR(VLOOKUP(LC9,MATCHSELEVES!$Y$14:$AE$600,3,FALSE),0)","v":0},{"$f":"IFERROR(VLOOKUP(LC9,MATCHSELEVES!$Y$14:$AE$600,4,FALSE),0)","v":0},{"$f":"IFERROR(VLOOKUP(LC9,MATCHSELEVES!$Y$14:$AE$600,5,FALSE),0)","v":0},{"$f":"IFERROR(VLOOKUP(LC9,MATCHSELEVES!$Y$14:$AF$600,8,FALSE),0)","v":0},{"$f":"IFERROR(VLOOKUP(LC9,MATCHSELEVES!$Y$14:$AG$600,9,FALSE),0)","v":0},"Beqirp_11",{"$f":"IFERROR(VLOOKUP(LI9,MATCHSELEVES!$Y$14:$AE$600,3,FALSE),0)","v":0},{"$f":"IFERROR(VLOOKUP(LI9,MATCHSELEVES!$Y$14:$AE$600,4,FALSE),0)","v":0},{"$f":"IFERROR(VLOOKUP(LI9,MATCHSELEVES!$Y$14:$AE$600,5,FALSE),0)","v":0},{"$f":"IFERROR(VLOOKUP(LI9,MATCHSELEVES!$Y$14:$AF$600,8,FALSE),0)","v":0},{"$f":"IFERROR(VLOOKUP(LI9,MATCHSELEVES!$Y$14:$AG$600,9,FALSE),0)","v":0},"Beqirp_12",{"$f":"IFERROR(VLOOKUP(LO9,MATCHSELEVES!$Y$14:$AE$600,3,FALSE),0)","v":0},{"$f":"IFERROR(VLOOKUP(LO9,MATCHSELEVES!$Y$14:$AE$600,4,FALSE),0)","v":0},{"$f":"IFERROR(VLOOKUP(LO9,MATCHSELEVES!$Y$14:$AE$600,5,FALSE),0)","v":0},{"$f":"IFERROR(VLOOKUP(LO9,MATCHSELEVES!$Y$14:$AF$600,8,FALSE),0)","v":0},{"$f":"IFERROR(VLOOKUP(LO9,MATCHSELEVES!$Y$14:$AG$600,9,FALSE),0)","v":0},"Beqirp_13",{"$f":"IFERROR(VLOOKUP(LU9,MATCHSELEVES!$Y$14:$AE$600,3,FALSE),0)","v":0},{"$f":"IFERROR(VLOOKUP(LU9,MATCHSELEVES!$Y$14:$AE$600,4,FALSE),0)","v":0},{"$f":"IFERROR(VLOOKUP(LU9,MATCHSELEVES!$Y$14:$AE$600,5,FALSE),0)","v":0},{"$f":"IFERROR(VLOOKUP(LU9,MATCHSELEVES!$Y$14:$AF$600,8,FALSE),0)","v":0},{"$f":"IFERROR(VLOOKUP(LU9,MATCHSELEVES!$Y$14:$AG$600,9,FALSE),0)","v":0},"Beqirp_14",{"$f":"IFERROR(VLOOKUP(MA9,MATCHSELEVES!$Y$14:$AE$600,3,FALSE),0)","v":0},{"$f":"IFERROR(VLOOKUP(MA9,MATCHSELEVES!$Y$14:$AE$600,4,FALSE),0)","v":0},{"$f":"IFERROR(VLOOKUP(MA9,MATCHSELEVES!$Y$14:$AE$600,5,FALSE),0)","v":0},{"$f":"IFERROR(VLOOKUP(MA9,MATCHSELEVES!$Y$14:$AF$600,8,FALSE),0)","v":0},{"$f":"IFERROR(VLOOKUP(MA9,MATCHSELEVES!$Y$14:$AG$600,9,FALSE),0)","v":0},"Beqirp_15",{"$f":"IFERROR(VLOOKUP(MG9,MATCHSELEVES!$Y$14:$AE$600,3,FALSE),0)","v":0},{"$f":"IFERROR(VLOOKUP(MG9,MATCHSELEVES!$Y$14:$AE$600,4,FALSE),0)","v":0},{"$f":"IFERROR(VLOOKUP(MG9,MATCHSELEVES!$Y$14:$AE$600,5,FALSE),0)","v":0},{"$f":"IFERROR(VLOOKUP(MG9,MATCHSELEVES!$Y$14:$AF$600,8,FALSE),0)","v":0},{"$f":"IFERROR(VLOOKUP(MG9,MATCHSELEVES!$Y$14:$AG$600,9,FALSE),0)","v":0},"Beqirp_16",{"$f":"IFERROR(VLOOKUP(MM9,MATCHSELEVES!$Y$14:$AE$600,3,FALSE),0)","v":0},{"$f":"IFERROR(VLOOKUP(MM9,MATCHSELEVES!$Y$14:$AE$600,4,FALSE),0)","v":0},{"$f":"IFERROR(VLOOKUP(MM9,MATCHSELEVES!$Y$14:$AE$600,5,FALSE),0)","v":0},{"$f":"IFERROR(VLOOKUP(MM9,MATCHSELEVES!$Y$14:$AF$600,8,FALSE),0)","v":0},{"$f":"IFERROR(VLOOKUP(MM9,MATCHSELEVES!$Y$14:$AG$600,9,FALSE),0)","v":0},"Beqirp_17",{"$f":"IFERROR(VLOOKUP(MS9,MATCHSELEVES!$Y$14:$AE$600,3,FALSE),0)","v":0},{"$f":"IFERROR(VLOOKUP(MS9,MATCHSELEVES!$Y$14:$AE$600,4,FALSE),0)","v":0},{"$f":"IFERROR(VLOOKUP(MS9,MATCHSELEVES!$Y$14:$AE$600,5,FALSE),0)","v":0},{"$f":"IFERROR(VLOOKUP(MS9,MATCHSELEVES!$Y$14:$AF$600,8,FALSE),0)","v":0},{"$f":"IFERROR(VLOOKUP(MS9,MATCHSELEVES!$Y$14:$AG$600,9,FALSE),0)","v":0},"Beqirp_18",{"$f":"IFERROR(VLOOKUP(MY9,MATCHSELEVES!$Y$14:$AE$600,3,FALSE),0)","v":0},{"$f":"IFERROR(VLOOKUP(MY9,MATCHSELEVES!$Y$14:$AE$600,4,FALSE),0)","v":0},{"$f":"IFERROR(VLOOKUP(MY9,MATCHSELEVES!$Y$14:$AE$600,5,FALSE),0)","v":0},{"$f":"IFERROR(VLOOKUP(MY9,MATCHSELEVES!$Y$14:$AF$600,8,FALSE),0)","v":0},{"$f":"IFERROR(VLOOKUP(MY9,MATCHSELEVES!$Y$14:$AG$600,9,FALSE),0)","v":0},"Beqirp_19",{"$f":"IFERROR(VLOOKUP(NE9,MATCHSELEVES!$Y$14:$AE$600,3,FALSE),0)","v":0},{"$f":"IFERROR(VLOOKUP(NE9,MATCHSELEVES!$Y$14:$AE$600,4,FALSE),0)","v":0},{"$f":"IFERROR(VLOOKUP(NE9,MATCHSELEVES!$Y$14:$AE$600,5,FALSE),0)","v":0},{"$f":"IFERROR(VLOOKUP(NE9,MATCHSELEVES!$Y$14:$AF$600,8,FALSE),0)","v":0},{"$f":"IFERROR(VLOOKUP(NE9,MATCHSELEVES!$Y$14:$AG$600,9,FALSE),0)","v":0},"Beqirp_20",{"$f":"IFERROR(VLOOKUP(NK9,MATCHSELEVES!$Y$14:$AE$600,3,FALSE),0)","v":0},{"$f":"IFERROR(VLOOKUP(NK9,MATCHSELEVES!$Y$14:$AE$600,4,FALSE),0)","v":0},{"$f":"IFERROR(VLOOKUP(NK9,MATCHSELEVES!$Y$14:$AE$600,5,FALSE),0)","v":0},{"$f":"IFERROR(VLOOKUP(NK9,MATCHSELEVES!$Y$14:$AF$600,8,FALSE),0)","v":0},{"$f":"IFERROR(VLOOKUP(NK9,MATCHSELEVES!$Y$14:$AG$600,9,FALSE),0)","v":0},"Beqirp_21",{"$f":"IFERROR(VLOOKUP(NQ9,MATCHSELEVES!$Y$14:$AE$600,3,FALSE),0)","v":0},{"$f":"IFERROR(VLOOKUP(NQ9,MATCHSELEVES!$Y$14:$AE$600,4,FALSE),0)","v":0},{"$f":"IFERROR(VLOOKUP(NQ9,MATCHSELEVES!$Y$14:$AE$600,5,FALSE),0)","v":0},{"$f":"IFERROR(VLOOKUP(NQ9,MATCHSELEVES!$Y$14:$AF$600,8,FALSE),0)","v":0},{"$f":"IFERROR(VLOOKUP(NQ9,MATCHSELEVES!$Y$14:$AG$600,9,FALSE),0)","v":0},"Beqirp_22",{"$f":"IFERROR(VLOOKUP(NW9,MATCHSELEVES!$Y$14:$AE$600,3,FALSE),0)","v":0},{"$f":"IFERROR(VLOOKUP(NW9,MATCHSELEVES!$Y$14:$AE$600,4,FALSE),0)","v":0},{"$f":"IFERROR(VLOOKUP(NW9,MATCHSELEVES!$Y$14:$AE$600,5,FALSE),0)","v":0},{"$f":"IFERROR(VLOOKUP(NW9,MATCHSELEVES!$Y$14:$AF$600,8,FALSE),0)","v":0},{"$f":"IFERROR(VLOOKUP(NW9,MATCHSELEVES!$Y$14:$AG$600,9,FALSE),0)","v":0},"Beqirp_23",{"$f":"IFERROR(VLOOKUP(OC9,MATCHSELEVES!$Y$14:$AE$600,3,FALSE),0)","v":0},{"$f":"IFERROR(VLOOKUP(OC9,MATCHSELEVES!$Y$14:$AE$600,4,FALSE),0)","v":0},{"$f":"IFERROR(VLOOKUP(OC9,MATCHSELEVES!$Y$14:$AE$600,5,FALSE),0)","v":0},{"$f":"IFERROR(VLOOKUP(OC9,MATCHSELEVES!$Y$14:$AF$600,8,FALSE),0)","v":0},{"$f":"IFERROR(VLOOKUP(OC9,MATCHSELEVES!$Y$14:$AG$600,9,FALSE),0)","v":0},"Beqirp_24",{"$f":"IFERROR(VLOOKUP(OI9,MATCHSELEVES!$Y$14:$AE$600,3,FALSE),0)","v":0},{"$f":"IFERROR(VLOOKUP(OI9,MATCHSELEVES!$Y$14:$AE$600,4,FALSE),0)","v":0},{"$f":"IFERROR(VLOOKUP(OI9,MATCHSELEVES!$Y$14:$AE$600,5,FALSE),0)","v":0},{"$f":"IFERROR(VLOOKUP(OI9,MATCHSELEVES!$Y$14:$AF$600,8,FALSE),0)","v":0},{"$f":"IFERROR(VLOOKUP(OI9,MATCHSELEVES!$Y$14:$AG$600,9,FALSE),0)","v":0},"Beqirp_25",{"$f":"IFERROR(VLOOKUP(OO9,MATCHSELEVES!$Y$14:$AE$600,3,FALSE),0)","v":0},{"$f":"IFERROR(VLOOKUP(OO9,MATCHSELEVES!$Y$14:$AE$600,4,FALSE),0)","v":0},{"$f":"IFERROR(VLOOKUP(OO9,MATCHSELEVES!$Y$14:$AE$600,5,FALSE),0)","v":0},{"$f":"IFERROR(VLOOKUP(OO9,MATCHSELEVES!$Y$14:$AF$600,8,FALSE),0)","v":0},{"$f":"IFERROR(VLOOKUP(OO9,MATCHSELEVES!$Y$14:$AG$600,9,FALSE),0)","v":0},"Beqirp_26",{"$f":"IFERROR(VLOOKUP(OU9,MATCHSELEVES!$Y$14:$AE$600,3,FALSE),0)","v":0},{"$f":"IFERROR(VLOOKUP(OU9,MATCHSELEVES!$Y$14:$AE$600,4,FALSE),0)","v":0},{"$f":"IFERROR(VLOOKUP(OU9,MATCHSELEVES!$Y$14:$AE$600,5,FALSE),0)","v":0},{"$f":"IFERROR(VLOOKUP(OU9,MATCHSELEVES!$Y$14:$AF$600,8,FALSE),0)","v":0},{"$f":"IFERROR(VLOOKUP(OU9,MATCHSELEVES!$Y$14:$AG$600,9,FALSE),0)","v":0},"Beqirp_27",{"$f":"IFERROR(VLOOKUP(PA9,MATCHSELEVES!$Y$14:$AE$600,3,FALSE),0)","v":0},{"$f":"IFERROR(VLOOKUP(PA9,MATCHSELEVES!$Y$14:$AE$600,4,FALSE),0)","v":0},{"$f":"IFERROR(VLOOKUP(PA9,MATCHSELEVES!$Y$14:$AE$600,5,FALSE),0)","v":0},{"$f":"IFERROR(VLOOKUP(PA9,MATCHSELEVES!$Y$14:$AF$600,8,FALSE),0)","v":0},{"$f":"IFERROR(VLOOKUP(PA9,MATCHSELEVES!$Y$14:$AG$600,9,FALSE),0)","v":0},"Beqirp_28",{"$f":"IFERROR(VLOOKUP(PG9,MATCHSELEVES!$Y$14:$AE$600,3,FALSE),0)","v":0},{"$f":"IFERROR(VLOOKUP(PG9,MATCHSELEVES!$Y$14:$AE$600,4,FALSE),0)","v":0},{"$f":"IFERROR(VLOOKUP(PG9,MATCHSELEVES!$Y$14:$AE$600,5,FALSE),0)","v":0},{"$f":"IFERROR(VLOOKUP(PG9,MATCHSELEVES!$Y$14:$AF$600,8,FALSE),0)","v":0},{"$f":"IFERROR(VLOOKUP(PG9,MATCHSELEVES!$Y$14:$AG$600,9,FALSE),0)","v":0},"Beqirp_29",{"$f":"IFERROR(VLOOKUP(PM9,MATCHSELEVES!$Y$14:$AE$600,3,FALSE),0)","v":0},{"$f":"IFERROR(VLOOKUP(PM9,MATCHSELEVES!$Y$14:$AE$600,4,FALSE),0)","v":0},{"$f":"IFERROR(VLOOKUP(PM9,MATCHSELEVES!$Y$14:$AE$600,5,FALSE),0)","v":0},{"$f":"IFERROR(VLOOKUP(PM9,MATCHSELEVES!$Y$14:$AF$600,8,FALSE),0)","v":0},{"$f":"IFERROR(VLOOKUP(PM9,MATCHSELEVES!$Y$14:$AG$600,9,FALSE),0)","v":0},"Beqirp_30",{"$f":"IFERROR(VLOOKUP(PS9,MATCHSELEVES!$Y$14:$AE$600,3,FALSE),0)","v":0},{"$f":"IFERROR(VLOOKUP(PS9,MATCHSELEVES!$Y$14:$AE$600,4,FALSE),0)","v":0},{"$f":"IFERROR(VLOOKUP(PS9,MATCHSELEVES!$Y$14:$AE$600,5,FALSE),0)","v":0},{"$f":"IFERROR(VLOOKUP(PS9,MATCHSELEVES!$Y$14:$AF$600,8,FALSE),0)","v":0},{"$f":"IFERROR(VLOOKUP(PS9,MATCHSELEVES!$Y$14:$AG$600,9,FALSE),0)","v":0},"Beqirp_31",{"$f":"IFERROR(VLOOKUP(PY9,MATCHSELEVES!$Y$14:$AE$600,3,FALSE),0)","v":0},{"$f":"IFERROR(VLOOKUP(PY9,MATCHSELEVES!$Y$14:$AE$600,4,FALSE),0)","v":0},{"$f":"IFERROR(VLOOKUP(PY9,MATCHSELEVES!$Y$14:$AE$600,5,FALSE),0)","v":0},{"$f":"IFERROR(VLOOKUP(PY9,MATCHSELEVES!$Y$14:$AF$600,8,FALSE),0)","v":0},{"$f":"IFERROR(VLOOKUP(PY9,MATCHSELEVES!$Y$14:$AG$600,9,FALSE),0)","v":0},"Beqirp_32",{"$f":"IFERROR(VLOOKUP(QE9,MATCHSELEVES!$Y$14:$AE$600,3,FALSE),0)","v":0},{"$f":"IFERROR(VLOOKUP(QE9,MATCHSELEVES!$Y$14:$AE$600,4,FALSE),0)","v":0},{"$f":"IFERROR(VLOOKUP(QE9,MATCHSELEVES!$Y$14:$AE$600,5,FALSE),0)","v":0},{"$f":"IFERROR(VLOOKUP(QE9,MATCHSELEVES!$Y$14:$AF$600,8,FALSE),0)","v":0},{"$f":"IFERROR(VLOOKUP(QE9,MATCHSELEVES!$Y$14:$AG$600,9,FALSE),0)","v":0},"Beqirp_33",{"$f":"IFERROR(VLOOKUP(QK9,MATCHSELEVES!$Y$14:$AE$600,3,FALSE),0)","v":0},{"$f":"IFERROR(VLOOKUP(QK9,MATCHSELEVES!$Y$14:$AE$600,4,FALSE),0)","v":0},{"$f":"IFERROR(VLOOKUP(QK9,MATCHSELEVES!$Y$14:$AE$600,5,FALSE),0)","v":0},{"$f":"IFERROR(VLOOKUP(QK9,MATCHSELEVES!$Y$14:$AF$600,8,FALSE),0)","v":0},{"$f":"IFERROR(VLOOKUP(QK9,MATCHSELEVES!$Y$14:$AG$600,9,FALSE),0)","v":0},"Beqirp_34",{"$f":"IFERROR(VLOOKUP(QQ9,MATCHSELEVES!$Y$14:$AE$600,3,FALSE),0)","v":0},{"$f":"IFERROR(VLOOKUP(QQ9,MATCHSELEVES!$Y$14:$AE$600,4,FALSE),0)","v":0},{"$f":"IFERROR(VLOOKUP(QQ9,MATCHSELEVES!$Y$14:$AE$600,5,FALSE),0)","v":0},{"$f":"IFERROR(VLOOKUP(QQ9,MATCHSELEVES!$Y$14:$AF$600,8,FALSE),0)","v":0},{"$f":"IFERROR(VLOOKUP(QQ9,MATCHSELEVES!$Y$14:$AG$600,9,FALSE),0)","v":0},"Beqirp_35",{"$f":"IFERROR(VLOOKUP(QW9,MATCHSELEVES!$Y$14:$AE$600,3,FALSE),0)","v":0},{"$f":"IFERROR(VLOOKUP(QW9,MATCHSELEVES!$Y$14:$AE$600,4,FALSE),0)","v":0},{"$f":"IFERROR(VLOOKUP(QW9,MATCHSELEVES!$Y$14:$AE$600,5,FALSE),0)","v":0},{"$f":"IFERROR(VLOOKUP(QW9,MATCHSELEVES!$Y$14:$AF$600,8,FALSE),0)","v":0},{"$f":"IFERROR(VLOOKUP(QW9,MATCHSELEVES!$Y$14:$AG$600,9,FALSE),0)","v":0},"Beqirp_36",{"$f":"IFERROR(VLOOKUP(RC9,MATCHSELEVES!$Y$14:$AE$600,3,FALSE),0)","v":0},{"$f":"IFERROR(VLOOKUP(RC9,MATCHSELEVES!$Y$14:$AE$600,4,FALSE),0)","v":0},{"$f":"IFERROR(VLOOKUP(RC9,MATCHSELEVES!$Y$14:$AE$600,5,FALSE),0)","v":0},{"$f":"IFERROR(VLOOKUP(RC9,MATCHSELEVES!$Y$14:$AF$600,8,FALSE),0)","v":0},{"$f":"IFERROR(VLOOKUP(RC9,MATCHSELEVES!$Y$14:$AG$600,9,FALSE),0)","v":0},"Beqirp_37",{"$f":"IFERROR(VLOOKUP(RI9,MATCHSELEVES!$Y$14:$AE$600,3,FALSE),0)","v":0},{"$f":"IFERROR(VLOOKUP(RI9,MATCHSELEVES!$Y$14:$AE$600,4,FALSE),0)","v":0},{"$f":"IFERROR(VLOOKUP(RI9,MATCHSELEVES!$Y$14:$AE$600,5,FALSE),0)","v":0},{"$f":"IFERROR(VLOOKUP(RI9,MATCHSELEVES!$Y$14:$AF$600,8,FALSE),0)","v":0},{"$f":"IFERROR(VLOOKUP(RI9,MATCHSELEVES!$Y$14:$AG$600,9,FALSE),0)","v":0},"Beqirp_38",{"$f":"IFERROR(VLOOKUP(RO9,MATCHSELEVES!$Y$14:$AE$600,3,FALSE),0)","v":0},{"$f":"IFERROR(VLOOKUP(RO9,MATCHSELEVES!$Y$14:$AE$600,4,FALSE),0)","v":0},{"$f":"IFERROR(VLOOKUP(RO9,MATCHSELEVES!$Y$14:$AE$600,5,FALSE),0)","v":0},{"$f":"IFERROR(VLOOKUP(RO9,MATCHSELEVES!$Y$14:$AF$600,8,FALSE),0)","v":0},{"$f":"IFERROR(VLOOKUP(RO9,MATCHSELEVES!$Y$14:$AG$600,9,FALSE),0)","v":0},"Beqirp_39",{"$f":"IFERROR(VLOOKUP(RU9,MATCHSELEVES!$Y$14:$AE$600,3,FALSE),0)","v":0},{"$f":"IFERROR(VLOOKUP(RU9,MATCHSELEVES!$Y$14:$AE$600,4,FALSE),0)","v":0},{"$f":"IFERROR(VLOOKUP(RU9,MATCHSELEVES!$Y$14:$AE$600,5,FALSE),0)","v":0},{"$f":"IFERROR(VLOOKUP(RU9,MATCHSELEVES!$Y$14:$AF$600,8,FALSE),0)","v":0},{"$f":"IFERROR(VLOOKUP(RU9,MATCHSELEVES!$Y$14:$AG$600,9,FALSE),0)","v":0},"Beqirp_40",{"$f":"IFERROR(VLOOKUP(SA9,MATCHSELEVES!$Y$14:$AE$600,3,FALSE),0)","v":0},{"$f":"IFERROR(VLOOKUP(SA9,MATCHSELEVES!$Y$14:$AE$600,4,FALSE),0)","v":0},{"$f":"IFERROR(VLOOKUP(SA9,MATCHSELEVES!$Y$14:$AE$600,5,FALSE),0)","v":0},{"$f":"IFERROR(VLOOKUP(SA9,MATCHSELEVES!$Y$14:$AF$600,8,FALSE),0)","v":0},{"$f":"IFERROR(VLOOKUP(SA9,MATCHSELEVES!$Y$14:$AG$600,9,FALSE),0)","v":0}]
[7,null,"Caméllia",7,null,null,{"$f":"COUNTIF(MATCHSELEVES!$Z$14:$Z$600,C10)+COUNTIF(MATCHSELEVES!$Z$14:$Z$600,$C10&\"p\")","v":0},1,{"$f":"COUNTIF(MATCHSELEVES!$F$14:$H$249,C10)","v":0},1,0,1,{"$f":"IFERROR(M53/Tableau10[[#This Row],[Nombre de matchs joués]],0)","v":0},{"$f":"IF(Tableau10[[#This Row],[Nombre de points encaissés]]=0,$C$45,SUMPRODUCT((M$4:M$43<M10)*(M$4:M$43<>0))+1)","v":40},0,1,{"$f":"(Tableau10[[#This Row],[CLASSEMENT1]]+Tableau10[[#This Row],[CLASSEMENT2]]+Tableau10[[#This Row],[CLASSEMENT3]]+Tableau10[[#This Row],[CLASSEMENT4]]+Tableau10[[#This Row],[CLASSEMENT5]]+Tableau10[[#This Row],[CLASSEMENT6]])/6","v":8.5},{"$f":"RANK(Tableau10[[#This Row],[MOYENNE CLASSEMENTS]],Tableau10[MOYENNE CLASSEMENTS],1)","v":7},null,{"$f":"Tableau10[[#This Row],[CLASSEMENT1]]","v":7},"Caméllia_1",{"$f":"IFERROR(VLOOKUP(U10,MATCHSELEVES!$Y$14:$AE$600,3,FALSE),0)","v":0},{"$f":"IFERROR(VLOOKUP(U10,MATCHSELEVES!$Y$14:$AE$600,4,FALSE),0)","v":0},{"$f":"IFERROR(VLOOKUP(U10,MATCHSELEVES!$Y$14:$AE$600,5,FALSE),0)","v":0},{"$f":"IFERROR(VLOOKUP(U10,MATCHSELEVES!$Y$14:$AF$600,8,FALSE),0)","v":0},{"$f":"IFERROR(VLOOKUP(U10,MATCHSELEVES!$Y$14:$AG$600,9,FALSE),0)","v":0},"Caméllia_2",{"$f":"IFERROR(VLOOKUP(AA10,MATCHSELEVES!$Y$14:$AE$600,3,FALSE),0)","v":0},{"$f":"IFERROR(VLOOKUP(AA10,MATCHSELEVES!$Y$14:$AE$600,4,FALSE),0)","v":0},{"$f":"IFERROR(VLOOKUP(AA10,MATCHSELEVES!$Y$14:$AE$600,5,FALSE),0)","v":0},{"$f":"IFERROR(VLOOKUP(AA10,MATCHSELEVES!$Y$14:$AF$600,8,FALSE),0)","v":0},{"$f":"IFERROR(VLOOKUP(AA10,MATCHSELEVES!$Y$14:$AG$600,9,FALSE),0)","v":0},"Caméllia_3",{"$f":"IFERROR(VLOOKUP(AG10,MATCHSELEVES!$Y$14:$AE$600,3,FALSE),0)","v":0},{"$f":"IFERROR(VLOOKUP(AG10,MATCHSELEVES!$Y$14:$AE$600,4,FALSE),0)","v":0},{"$f":"IFERROR(VLOOKUP(AG10,MATCHSELEVES!$Y$14:$AE$600,5,FALSE),0)","v":0},{"$f":"IFERROR(VLOOKUP(AG10,MATCHSELEVES!$Y$14:$AF$600,8,FALSE),0)","v":0},{"$f":"IFERROR(VLOOKUP(AG10,MATCHSELEVES!$Y$14:$AG$600,9,FALSE),0)","v":0},"Caméllia_4",{"$f":"IFERROR(VLOOKUP(AM10,MATCHSELEVES!$Y$14:$AE$600,3,FALSE),0)","v":0},{"$f":"IFERROR(VLOOKUP(AM10,MATCHSELEVES!$Y$14:$AE$600,4,FALSE),0)","v":0},{"$f":"IFERROR(VLOOKUP(AM10,MATCHSELEVES!$Y$14:$AE$600,5,FALSE),0)","v":0},{"$f":"IFERROR(VLOOKUP(AM10,MATCHSELEVES!$Y$14:$AF$600,8,FALSE),0)","v":0},{"$f":"IFERROR(VLOOKUP(AM10,MATCHSELEVES!$Y$14:$AG$600,9,FALSE),0)","v":0},"Caméllia_5",{"$f":"IFERROR(VLOOKUP(AS10,MATCHSELEVES!$Y$14:$AE$600,3,FALSE),0)","v":0},{"$f":"IFERROR(VLOOKUP(AS10,MATCHSELEVES!$Y$14:$AE$600,4,FALSE),0)","v":0},{"$f":"IFERROR(VLOOKUP(AS10,MATCHSELEVES!$Y$14:$AE$600,5,FALSE),0)","v":0},{"$f":"IFERROR(VLOOKUP(AS10,MATCHSELEVES!$Y$14:$AF$600,8,FALSE),0)","v":0},{"$f":"IFERROR(VLOOKUP(AS10,MATCHSELEVES!$Y$14:$AG$600,9,FALSE),0)","v":0},"Caméllia_6",{"$f":"IFERROR(VLOOKUP(AY10,MATCHSELEVES!$Y$14:$AE$600,3,FALSE),0)","v":0},{"$f":"IFERROR(VLOOKUP(AY10,MATCHSELEVES!$Y$14:$AE$600,4,FALSE),0)","v":0},{"$f":"IFERROR(VLOOKUP(AY10,MATCHSELEVES!$Y$14:$AE$600,5,FALSE),0)","v":0},{"$f":"IFERROR(VLOOKUP(AY10,MATCHSELEVES!$Y$14:$AF$600,8,FALSE),0)","v":0},{"$f":"IFERROR(VLOOKUP(AY10,MATCHSELEVES!$Y$14:$AG$600,9,FALSE),0)","v":0},"Caméllia_7",{"$f":"IFERROR(VLOOKUP(BE10,MATCHSELEVES!$Y$14:$AE$600,3,FALSE),0)","v":0},{"$f":"IFERROR(VLOOKUP(BE10,MATCHSELEVES!$Y$14:$AE$600,4,FALSE),0)","v":0},{"$f":"IFERROR(VLOOKUP(BE10,MATCHSELEVES!$Y$14:$AE$600,5,FALSE),0)","v":0},{"$f":"IFERROR(VLOOKUP(BE10,MATCHSELEVES!$Y$14:$AF$600,8,FALSE),0)","v":0},{"$f":"IFERROR(VLOOKUP(BE10,MATCHSELEVES!$Y$14:$AG$600,9,FALSE),0)","v":0},"Caméllia_8",{"$f":"IFERROR(VLOOKUP(BK10,MATCHSELEVES!$Y$14:$AE$600,3,FALSE),0)","v":0},{"$f":"IFERROR(VLOOKUP(BK10,MATCHSELEVES!$Y$14:$AE$600,4,FALSE),0)","v":0},{"$f":"IFERROR(VLOOKUP(BK10,MATCHSELEVES!$Y$14:$AE$600,5,FALSE),0)","v":0},{"$f":"IFERROR(VLOOKUP(BK10,MATCHSELEVES!$Y$14:$AF$600,8,FALSE),0)","v":0},{"$f":"IFERROR(VLOOKUP(BK10,MATCHSELEVES!$Y$14:$AG$600,9,FALSE),0)","v":0},"Caméllia_9",{"$f":"IFERROR(VLOOKUP(BQ10,MATCHSELEVES!$Y$14:$AE$600,3,FALSE),0)","v":0},{"$f":"IFERROR(VLOOKUP(BQ10,MATCHSELEVES!$Y$14:$AE$600,4,FALSE),0)","v":0},{"$f":"IFERROR(VLOOKUP(BQ10,MATCHSELEVES!$Y$14:$AE$600,5,FALSE),0)","v":0},{"$f":"IFERROR(VLOOKUP(BQ10,MATCHSELEVES!$Y$14:$AF$600,8,FALSE),0)","v":0},{"$f":"IFERROR(VLOOKUP(BQ10,MATCHSELEVES!$Y$14:$AG$600,9,FALSE),0)","v":0},"Caméllia_10",{"$f":"IFERROR(VLOOKUP(BW10,MATCHSELEVES!$Y$14:$AE$600,3,FALSE),0)","v":0},{"$f":"IFERROR(VLOOKUP(BW10,MATCHSELEVES!$Y$14:$AE$600,4,FALSE),0)","v":0},{"$f":"IFERROR(VLOOKUP(BW10,MATCHSELEVES!$Y$14:$AE$600,5,FALSE),0)","v":0},{"$f":"IFERROR(VLOOKUP(BW10,MATCHSELEVES!$Y$14:$AF$600,8,FALSE),0)","v":0},{"$f":"IFERROR(VLOOKUP(BW10,MATCHSELEVES!$Y$14:$AG$600,9,FALSE),0)","v":0},"Caméllia_11",{"$f":"IFERROR(VLOOKUP(CC10,MATCHSELEVES!$Y$14:$AE$600,3,FALSE),0)","v":0},{"$f":"IFERROR(VLOOKUP(CC10,MATCHSELEVES!$Y$14:$AE$600,4,FALSE),0)","v":0},{"$f":"IFERROR(VLOOKUP(CC10,MATCHSELEVES!$Y$14:$AE$600,5,FALSE),0)","v":0},{"$f":"IFERROR(VLOOKUP(CC10,MATCHSELEVES!$Y$14:$AF$600,8,FALSE),0)","v":0},{"$f":"IFERROR(VLOOKUP(CC10,MATCHSELEVES!$Y$14:$AG$600,9,FALSE),0)","v":0},"Caméllia_12",{"$f":"IFERROR(VLOOKUP(CI10,MATCHSELEVES!$Y$14:$AE$600,3,FALSE),0)","v":0},{"$f":"IFERROR(VLOOKUP(CI10,MATCHSELEVES!$Y$14:$AE$600,4,FALSE),0)","v":0},{"$f":"IFERROR(VLOOKUP(CI10,MATCHSELEVES!$Y$14:$AE$600,5,FALSE),0)","v":0},{"$f":"IFERROR(VLOOKUP(CI10,MATCHSELEVES!$Y$14:$AF$600,8,FALSE),0)","v":0},{"$f":"IFERROR(VLOOKUP(CI10,MATCHSELEVES!$Y$14:$AG$600,9,FALSE),0)","v":0},"Caméllia_13",{"$f":"IFERROR(VLOOKUP(CO10,MATCHSELEVES!$Y$14:$AE$600,3,FALSE),0)","v":0},{"$f":"IFERROR(VLOOKUP(CO10,MATCHSELEVES!$Y$14:$AE$600,4,FALSE),0)","v":0},{"$f":"IFERROR(VLOOKUP(CO10,MATCHSELEVES!$Y$14:$AE$600,5,FALSE),0)","v":0},{"$f":"IFERROR(VLOOKUP(CO10,MATCHSELEVES!$Y$14:$AF$600,8,FALSE),0)","v":0},{"$f":"IFERROR(VLOOKUP(CO10,MATCHSELEVES!$Y$14:$AG$600,9,FALSE),0)","v":0},"Caméllia_14",{"$f":"IFERROR(VLOOKUP(CU10,MATCHSELEVES!$Y$14:$AE$600,3,FALSE),0)","v":0},{"$f":"IFERROR(VLOOKUP(CU10,MATCHSELEVES!$Y$14:$AE$600,4,FALSE),0)","v":0},{"$f":"IFERROR(VLOOKUP(CU10,MATCHSELEVES!$Y$14:$AE$600,5,FALSE),0)","v":0},{"$f":"IFERROR(VLOOKUP(CU10,MATCHSELEVES!$Y$14:$AF$600,8,FALSE),0)","v":0},{"$f":"IFERROR(VLOOKUP(CU10,MATCHSELEVES!$Y$14:$AG$600,9,FALSE),0)","v":0},"Caméllia_15",{"$f":"IFERROR(VLOOKUP(DA10,MATCHSELEVES!$Y$14:$AE$600,3,FALSE),0)","v":0},{"$f":"IFERROR(VLOOKUP(DA10,MATCHSELEVES!$Y$14:$AE$600,4,FALSE),0)","v":0},{"$f":"IFERROR(VLOOKUP(DA10,MATCHSELEVES!$Y$14:$AE$600,5,FALSE),0)","v":0},{"$f":"IFERROR(VLOOKUP(DA10,MATCHSELEVES!$Y$14:$AF$600,8,FALSE),0)","v":0},{"$f":"IFERROR(VLOOKUP(DA10,MATCHSELEVES!$Y$14:$AG$600,9,FALSE),0)","v":0},"Caméllia_16",{"$f":"IFERROR(VLOOKUP(DG10,MATCHSELEVES!$Y$14:$AE$600,3,FALSE),0)","v":0},{"$f":"IFERROR(VLOOKUP(DG10,MATCHSELEVES!$Y$14:$AE$600,4,FALSE),0)","v":0},{"$f":"IFERROR(VLOOKUP(DG10,MATCHSELEVES!$Y$14:$AE$600,5,FALSE),0)","v":0},{"$f":"IFERROR(VLOOKUP(DG10,MATCHSELEVES!$Y$14:$AF$600,8,FALSE),0)","v":0},{"$f":"IFERROR(VLOOKUP(DG10,MATCHSELEVES!$Y$14:$AG$600,9,FALSE),0)","v":0},"Caméllia_17",{"$f":"IFERROR(VLOOKUP(DM10,MATCHSELEVES!$Y$14:$AE$600,3,FALSE),0)","v":0},{"$f":"IFERROR(VLOOKUP(DM10,MATCHSELEVES!$Y$14:$AE$600,4,FALSE),0)","v":0},{"$f":"IFERROR(VLOOKUP(DM10,MATCHSELEVES!$Y$14:$AE$600,5,FALSE),0)","v":0},{"$f":"IFERROR(VLOOKUP(DM10,MATCHSELEVES!$Y$14:$AF$600,8,FALSE),0)","v":0},{"$f":"IFERROR(VLOOKUP(DM10,MATCHSELEVES!$Y$14:$AG$600,9,FALSE),0)","v":0},"Caméllia_18",{"$f":"IFERROR(VLOOKUP(DS10,MATCHSELEVES!$Y$14:$AE$600,3,FALSE),0)","v":0},{"$f":"IFERROR(VLOOKUP(DS10,MATCHSELEVES!$Y$14:$AE$600,4,FALSE),0)","v":0},{"$f":"IFERROR(VLOOKUP(DS10,MATCHSELEVES!$Y$14:$AE$600,5,FALSE),0)","v":0},{"$f":"IFERROR(VLOOKUP(DS10,MATCHSELEVES!$Y$14:$AF$600,8,FALSE),0)","v":0},{"$f":"IFERROR(VLOOKUP(DS10,MATCHSELEVES!$Y$14:$AG$600,9,FALSE),0)","v":0},"Caméllia_19",{"$f":"IFERROR(VLOOKUP(DY10,MATCHSELEVES!$Y$14:$AE$600,3,FALSE),0)","v":0},{"$f":"IFERROR(VLOOKUP(DY10,MATCHSELEVES!$Y$14:$AE$600,4,FALSE),0)","v":0},{"$f":"IFERROR(VLOOKUP(DY10,MATCHSELEVES!$Y$14:$AE$600,5,FALSE),0)","v":0},{"$f":"IFERROR(VLOOKUP(DY10,MATCHSELEVES!$Y$14:$AF$600,8,FALSE),0)","v":0},{"$f":"IFERROR(VLOOKUP(DY10,MATCHSELEVES!$Y$14:$AG$600,9,FALSE),0)","v":0},"Caméllia_20",{"$f":"IFERROR(VLOOKUP(EE10,MATCHSELEVES!$Y$14:$AE$600,3,FALSE),0)","v":0},{"$f":"IFERROR(VLOOKUP(EE10,MATCHSELEVES!$Y$14:$AE$600,4,FALSE),0)","v":0},{"$f":"IFERROR(VLOOKUP(EE10,MATCHSELEVES!$Y$14:$AE$600,5,FALSE),0)","v":0},{"$f":"IFERROR(VLOOKUP(EE10,MATCHSELEVES!$Y$14:$AF$600,8,FALSE),0)","v":0},{"$f":"IFERROR(VLOOKUP(EE10,MATCHSELEVES!$Y$14:$AG$600,9,FALSE),0)","v":0},"Caméllia_21",{"$f":"IFERROR(VLOOKUP(EK10,MATCHSELEVES!$Y$14:$AE$600,3,FALSE),0)","v":0},{"$f":"IFERROR(VLOOKUP(EK10,MATCHSELEVES!$Y$14:$AE$600,4,FALSE),0)","v":0},{"$f":"IFERROR(VLOOKUP(EK10,MATCHSELEVES!$Y$14:$AE$600,5,FALSE),0)","v":0},{"$f":"IFERROR(VLOOKUP(EK10,MATCHSELEVES!$Y$14:$AF$600,8,FALSE),0)","v":0},{"$f":"IFERROR(VLOOKUP(EK10,MATCHSELEVES!$Y$14:$AG$600,9,FALSE),0)","v":0},"Caméllia_22",{"$f":"IFERROR(VLOOKUP(EQ10,MATCHSELEVES!$Y$14:$AE$600,3,FALSE),0)","v":0},{"$f":"IFERROR(VLOOKUP(EQ10,MATCHSELEVES!$Y$14:$AE$600,4,FALSE),0)","v":0},{"$f":"IFERROR(VLOOKUP(EQ10,MATCHSELEVES!$Y$14:$AE$600,5,FALSE),0)","v":0},{"$f":"IFERROR(VLOOKUP(EQ10,MATCHSELEVES!$Y$14:$AF$600,8,FALSE),0)","v":0},{"$f":"IFERROR(VLOOKUP(EQ10,MATCHSELEVES!$Y$14:$AG$600,9,FALSE),0)","v":0},"Caméllia_23",{"$f":"IFERROR(VLOOKUP(EW10,MATCHSELEVES!$Y$14:$AE$600,3,FALSE),0)","v":0},{"$f":"IFERROR(VLOOKUP(EW10,MATCHSELEVES!$Y$14:$AE$600,4,FALSE),0)","v":0},{"$f":"IFERROR(VLOOKUP(EW10,MATCHSELEVES!$Y$14:$AE$600,5,FALSE),0)","v":0},{"$f":"IFERROR(VLOOKUP(EW10,MATCHSELEVES!$Y$14:$AF$600,8,FALSE),0)","v":0},{"$f":"IFERROR(VLOOKUP(EW10,MATCHSELEVES!$Y$14:$AG$600,9,FALSE),0)","v":0},"Caméllia_24",{"$f":"IFERROR(VLOOKUP(FC10,MATCHSELEVES!$Y$14:$AE$600,3,FALSE),0)","v":0},{"$f":"IFERROR(VLOOKUP(FC10,MATCHSELEVES!$Y$14:$AE$600,4,FALSE),0)","v":0},{"$f":"IFERROR(VLOOKUP(FC10,MATCHSELEVES!$Y$14:$AE$600,5,FALSE),0)","v":0},{"$f":"IFERROR(VLOOKUP(FC10,MATCHSELEVES!$Y$14:$AF$600,8,FALSE),0)","v":0},{"$f":"IFERROR(VLOOKUP(FC10,MATCHSELEVES!$Y$14:$AG$600,9,FALSE),0)","v":0},"Caméllia_25",{"$f":"IFERROR(VLOOKUP(FI10,MATCHSELEVES!$Y$14:$AE$600,3,FALSE),0)","v":0},{"$f":"IFERROR(VLOOKUP(FI10,MATCHSELEVES!$Y$14:$AE$600,4,FALSE),0)","v":0},{"$f":"IFERROR(VLOOKUP(FI10,MATCHSELEVES!$Y$14:$AE$600,5,FALSE),0)","v":0},{"$f":"IFERROR(VLOOKUP(FI10,MATCHSELEVES!$Y$14:$AF$600,8,FALSE),0)","v":0},{"$f":"IFERROR(VLOOKUP(FI10,MATCHSELEVES!$Y$14:$AG$600,9,FALSE),0)","v":0},"Caméllia_26",{"$f":"IFERROR(VLOOKUP(FO10,MATCHSELEVES!$Y$14:$AE$600,3,FALSE),0)","v":0},{"$f":"IFERROR(VLOOKUP(FO10,MATCHSELEVES!$Y$14:$AE$600,4,FALSE),0)","v":0},{"$f":"IFERROR(VLOOKUP(FO10,MATCHSELEVES!$Y$14:$AE$600,5,FALSE),0)","v":0},{"$f":"IFERROR(VLOOKUP(FO10,MATCHSELEVES!$Y$14:$AF$600,8,FALSE),0)","v":0},{"$f":"IFERROR(VLOOKUP(FO10,MATCHSELEVES!$Y$14:$AG$600,9,FALSE),0)","v":0},"Caméllia_27",{"$f":"IFERROR(VLOOKUP(FU10,MATCHSELEVES!$Y$14:$AE$600,3,FALSE),0)","v":0},{"$f":"IFERROR(VLOOKUP(FU10,MATCHSELEVES!$Y$14:$AE$600,4,FALSE),0)","v":0},{"$f":"IFERROR(VLOOKUP(FU10,MATCHSELEVES!$Y$14:$AE$600,5,FALSE),0)","v":0},{"$f":"IFERROR(VLOOKUP(FU10,MATCHSELEVES!$Y$14:$AF$600,8,FALSE),0)","v":0},{"$f":"IFERROR(VLOOKUP(FU10,MATCHSELEVES!$Y$14:$AG$600,9,FALSE),0)","v":0},"Caméllia_28",{"$f":"IFERROR(VLOOKUP(GA10,MATCHSELEVES!$Y$14:$AE$600,3,FALSE),0)","v":0},{"$f":"IFERROR(VLOOKUP(GA10,MATCHSELEVES!$Y$14:$AE$600,4,FALSE),0)","v":0},{"$f":"IFERROR(VLOOKUP(GA10,MATCHSELEVES!$Y$14:$AE$600,5,FALSE),0)","v":0},{"$f":"IFERROR(VLOOKUP(GA10,MATCHSELEVES!$Y$14:$AF$600,8,FALSE),0)","v":0},{"$f":"IFERROR(VLOOKUP(GA10,MATCHSELEVES!$Y$14:$AG$600,9,FALSE),0)","v":0},"Caméllia_29",{"$f":"IFERROR(VLOOKUP(GG10,MATCHSELEVES!$Y$14:$AE$600,3,FALSE),0)","v":0},{"$f":"IFERROR(VLOOKUP(GG10,MATCHSELEVES!$Y$14:$AE$600,4,FALSE),0)","v":0},{"$f":"IFERROR(VLOOKUP(GG10,MATCHSELEVES!$Y$14:$AE$600,5,FALSE),0)","v":0},{"$f":"IFERROR(VLOOKUP(GG10,MATCHSELEVES!$Y$14:$AF$600,8,FALSE),0)","v":0},{"$f":"IFERROR(VLOOKUP(GG10,MATCHSELEVES!$Y$14:$AG$600,9,FALSE),0)","v":0},"Caméllia_30",{"$f":"IFERROR(VLOOKUP(GM10,MATCHSELEVES!$Y$14:$AE$600,3,FALSE),0)","v":0},{"$f":"IFERROR(VLOOKUP(GM10,MATCHSELEVES!$Y$14:$AE$600,4,FALSE),0)","v":0},{"$f":"IFERROR(VLOOKUP(GM10,MATCHSELEVES!$Y$14:$AE$600,5,FALSE),0)","v":0},{"$f":"IFERROR(VLOOKUP(GM10,MATCHSELEVES!$Y$14:$AF$600,8,FALSE),0)","v":0},{"$f":"IFERROR(VLOOKUP(GM10,MATCHSELEVES!$Y$14:$AG$600,9,FALSE),0)","v":0},"Caméllia_31",{"$f":"IFERROR(VLOOKUP(GS10,MATCHSELEVES!$Y$14:$AE$600,3,FALSE),0)","v":0},{"$f":"IFERROR(VLOOKUP(GS10,MATCHSELEVES!$Y$14:$AE$600,4,FALSE),0)","v":0},{"$f":"IFERROR(VLOOKUP(GS10,MATCHSELEVES!$Y$14:$AE$600,5,FALSE),0)","v":0},{"$f":"IFERROR(VLOOKUP(GS10,MATCHSELEVES!$Y$14:$AF$600,8,FALSE),0)","v":0},{"$f":"IFERROR(VLOOKUP(GS10,MATCHSELEVES!$Y$14:$AG$600,9,FALSE),0)","v":0},"Caméllia_32",{"$f":"IFERROR(VLOOKUP(GY10,MATCHSELEVES!$Y$14:$AE$600,3,FALSE),0)","v":0},{"$f":"IFERROR(VLOOKUP(GY10,MATCHSELEVES!$Y$14:$AE$600,4,FALSE),0)","v":0},{"$f":"IFERROR(VLOOKUP(GY10,MATCHSELEVES!$Y$14:$AE$600,5,FALSE),0)","v":0},{"$f":"IFERROR(VLOOKUP(GY10,MATCHSELEVES!$Y$14:$AF$600,8,FALSE),0)","v":0},{"$f":"IFERROR(VLOOKUP(GY10,MATCHSELEVES!$Y$14:$AG$600,9,FALSE),0)","v":0},"Caméllia_33",{"$f":"IFERROR(VLOOKUP(HE10,MATCHSELEVES!$Y$14:$AE$600,3,FALSE),0)","v":0},{"$f":"IFERROR(VLOOKUP(HE10,MATCHSELEVES!$Y$14:$AE$600,4,FALSE),0)","v":0},{"$f":"IFERROR(VLOOKUP(HE10,MATCHSELEVES!$Y$14:$AE$600,5,FALSE),0)","v":0},{"$f":"IFERROR(VLOOKUP(HE10,MATCHSELEVES!$Y$14:$AF$600,8,FALSE),0)","v":0},{"$f":"IFERROR(VLOOKUP(HE10,MATCHSELEVES!$Y$14:$AG$600,9,FALSE),0)","v":0},"Caméllia_34",{"$f":"IFERROR(VLOOKUP(HK10,MATCHSELEVES!$Y$14:$AE$600,3,FALSE),0)","v":0},{"$f":"IFERROR(VLOOKUP(HK10,MATCHSELEVES!$Y$14:$AE$600,4,FALSE),0)","v":0},{"$f":"IFERROR(VLOOKUP(HK10,MATCHSELEVES!$Y$14:$AE$600,5,FALSE),0)","v":0},{"$f":"IFERROR(VLOOKUP(HK10,MATCHSELEVES!$Y$14:$AF$600,8,FALSE),0)","v":0},{"$f":"IFERROR(VLOOKUP(HK10,MATCHSELEVES!$Y$14:$AG$600,9,FALSE),0)","v":0},"Caméllia_35",{"$f":"IFERROR(VLOOKUP(HQ10,MATCHSELEVES!$Y$14:$AE$600,3,FALSE),0)","v":0},{"$f":"IFERROR(VLOOKUP(HQ10,MATCHSELEVES!$Y$14:$AE$600,4,FALSE),0)","v":0},{"$f":"IFERROR(VLOOKUP(HQ10,MATCHSELEVES!$Y$14:$AE$600,5,FALSE),0)","v":0},{"$f":"IFERROR(VLOOKUP(HQ10,MATCHSELEVES!$Y$14:$AF$600,8,FALSE),0)","v":0},{"$f":"IFERROR(VLOOKUP(HQ10,MATCHSELEVES!$Y$14:$AG$600,9,FALSE),0)","v":0},"Caméllia_36",{"$f":"IFERROR(VLOOKUP(HW10,MATCHSELEVES!$Y$14:$AE$600,3,FALSE),0)","v":0},{"$f":"IFERROR(VLOOKUP(HW10,MATCHSELEVES!$Y$14:$AE$600,4,FALSE),0)","v":0},{"$f":"IFERROR(VLOOKUP(HW10,MATCHSELEVES!$Y$14:$AE$600,5,FALSE),0)","v":0},{"$f":"IFERROR(VLOOKUP(HW10,MATCHSELEVES!$Y$14:$AF$600,8,FALSE),0)","v":0},{"$f":"IFERROR(VLOOKUP(HW10,MATCHSELEVES!$Y$14:$AG$600,9,FALSE),0)","v":0},"Caméllia_37",{"$f":"IFERROR(VLOOKUP(IC10,MATCHSELEVES!$Y$14:$AE$600,3,FALSE),0)","v":0},{"$f":"IFERROR(VLOOKUP(IC10,MATCHSELEVES!$Y$14:$AE$600,4,FALSE),0)","v":0},{"$f":"IFERROR(VLOOKUP(IC10,MATCHSELEVES!$Y$14:$AE$600,5,FALSE),0)","v":0},{"$f":"IFERROR(VLOOKUP(IC10,MATCHSELEVES!$Y$14:$AF$600,8,FALSE),0)","v":0},{"$f":"IFERROR(VLOOKUP(IC10,MATCHSELEVES!$Y$14:$AG$600,9,FALSE),0)","v":0},"Caméllia_38",{"$f":"IFERROR(VLOOKUP(II10,MATCHSELEVES!$Y$14:$AE$600,3,FALSE),0)","v":0},{"$f":"IFERROR(VLOOKUP(II10,MATCHSELEVES!$Y$14:$AE$600,4,FALSE),0)","v":0},{"$f":"IFERROR(VLOOKUP(II10,MATCHSELEVES!$Y$14:$AE$600,5,FALSE),0)","v":0},{"$f":"IFERROR(VLOOKUP(II10,MATCHSELEVES!$Y$14:$AF$600,8,FALSE),0)","v":0},{"$f":"IFERROR(VLOOKUP(II10,MATCHSELEVES!$Y$14:$AG$600,9,FALSE),0)","v":0},"Caméllia_39",{"$f":"IFERROR(VLOOKUP(IO10,MATCHSELEVES!$Y$14:$AE$600,3,FALSE),0)","v":0},{"$f":"IFERROR(VLOOKUP(IO10,MATCHSELEVES!$Y$14:$AE$600,4,FALSE),0)","v":0},{"$f":"IFERROR(VLOOKUP(IO10,MATCHSELEVES!$Y$14:$AE$600,5,FALSE),0)","v":0},{"$f":"IFERROR(VLOOKUP(IO10,MATCHSELEVES!$Y$14:$AF$600,8,FALSE),0)","v":0},{"$f":"IFERROR(VLOOKUP(IO10,MATCHSELEVES!$Y$14:$AG$600,9,FALSE),0)","v":0},"Caméllia_40",{"$f":"IFERROR(VLOOKUP(IU10,MATCHSELEVES!$Y$14:$AE$600,3,FALSE),0)","v":0},{"$f":"IFERROR(VLOOKUP(IU10,MATCHSELEVES!$Y$14:$AE$600,4,FALSE),0)","v":0},{"$f":"IFERROR(VLOOKUP(IU10,MATCHSELEVES!$Y$14:$AE$600,5,FALSE),0)","v":0},{"$f":"IFERROR(VLOOKUP(IU10,MATCHSELEVES!$Y$14:$AF$600,8,FALSE),0)","v":0},{"$f":"IFERROR(VLOOKUP(IU10,MATCHSELEVES!$Y$14:$AG$600,9,FALSE),0)","v":0},"Camélliap_1",{"$f":"IFERROR(VLOOKUP(JA10,MATCHSELEVES!$Y$14:$AE$600,3,FALSE),0)","v":0},{"$f":"IFERROR(VLOOKUP(JA10,MATCHSELEVES!$Y$14:$AE$600,4,FALSE),0)","v":0},{"$f":"IFERROR(VLOOKUP(JA10,MATCHSELEVES!$Y$14:$AE$600,5,FALSE),0)","v":0},{"$f":"IFERROR(VLOOKUP(JA10,MATCHSELEVES!$Y$14:$AF$600,8,FALSE),0)","v":0},{"$f":"IFERROR(VLOOKUP(JA10,MATCHSELEVES!$Y$14:$AG$600,9,FALSE),0)","v":0},"Camélliap_2",{"$f":"IFERROR(VLOOKUP(JG10,MATCHSELEVES!$Y$14:$AE$600,3,FALSE),0)","v":0},{"$f":"IFERROR(VLOOKUP(JG10,MATCHSELEVES!$Y$14:$AE$600,4,FALSE),0)","v":0},{"$f":"IFERROR(VLOOKUP(JG10,MATCHSELEVES!$Y$14:$AE$600,5,FALSE),0)","v":0},{"$f":"IFERROR(VLOOKUP(JG10,MATCHSELEVES!$Y$14:$AF$600,8,FALSE),0)","v":0},{"$f":"IFERROR(VLOOKUP(JG10,MATCHSELEVES!$Y$14:$AG$600,9,FALSE),0)","v":0},"Camélliap_3",{"$f":"IFERROR(VLOOKUP(JM10,MATCHSELEVES!$Y$14:$AE$600,3,FALSE),0)","v":0},{"$f":"IFERROR(VLOOKUP(JM10,MATCHSELEVES!$Y$14:$AE$600,4,FALSE),0)","v":0},{"$f":"IFERROR(VLOOKUP(JM10,MATCHSELEVES!$Y$14:$AE$600,5,FALSE),0)","v":0},{"$f":"IFERROR(VLOOKUP(JM10,MATCHSELEVES!$Y$14:$AF$600,8,FALSE),0)","v":0},{"$f":"IFERROR(VLOOKUP(JM10,MATCHSELEVES!$Y$14:$AG$600,9,FALSE),0)","v":0},"Camélliap_4",{"$f":"IFERROR(VLOOKUP(JS10,MATCHSELEVES!$Y$14:$AE$600,3,FALSE),0)","v":0},{"$f":"IFERROR(VLOOKUP(JS10,MATCHSELEVES!$Y$14:$AE$600,4,FALSE),0)","v":0},{"$f":"IFERROR(VLOOKUP(JS10,MATCHSELEVES!$Y$14:$AE$600,5,FALSE),0)","v":0},{"$f":"IFERROR(VLOOKUP(JS10,MATCHSELEVES!$Y$14:$AF$600,8,FALSE),0)","v":0},{"$f":"IFERROR(VLOOKUP(JS10,MATCHSELEVES!$Y$14:$AG$600,9,FALSE),0)","v":0},"Camélliap_5",{"$f":"IFERROR(VLOOKUP(JY10,MATCHSELEVES!$Y$14:$AE$600,3,FALSE),0)","v":0},{"$f":"IFERROR(VLOOKUP(JY10,MATCHSELEVES!$Y$14:$AE$600,4,FALSE),0)","v":0},{"$f":"IFERROR(VLOOKUP(JY10,MATCHSELEVES!$Y$14:$AE$600,5,FALSE),0)","v":0},{"$f":"IFERROR(VLOOKUP(JY10,MATCHSELEVES!$Y$14:$AF$600,8,FALSE),0)","v":0},{"$f":"IFERROR(VLOOKUP(JY10,MATCHSELEVES!$Y$14:$AG$600,9,FALSE),0)","v":0},"Camélliap_6",{"$f":"IFERROR(VLOOKUP(KE10,MATCHSELEVES!$Y$14:$AE$600,3,FALSE),0)","v":0},{"$f":"IFERROR(VLOOKUP(KE10,MATCHSELEVES!$Y$14:$AE$600,4,FALSE),0)","v":0},{"$f":"IFERROR(VLOOKUP(KE10,MATCHSELEVES!$Y$14:$AE$600,5,FALSE),0)","v":0},{"$f":"IFERROR(VLOOKUP(KE10,MATCHSELEVES!$Y$14:$AF$600,8,FALSE),0)","v":0},{"$f":"IFERROR(VLOOKUP(KE10,MATCHSELEVES!$Y$14:$AG$600,9,FALSE),0)","v":0},"Camélliap_7",{"$f":"IFERROR(VLOOKUP(KK10,MATCHSELEVES!$Y$14:$AE$600,3,FALSE),0)","v":0},{"$f":"IFERROR(VLOOKUP(KK10,MATCHSELEVES!$Y$14:$AE$600,4,FALSE),0)","v":0},{"$f":"IFERROR(VLOOKUP(KK10,MATCHSELEVES!$Y$14:$AE$600,5,FALSE),0)","v":0},{"$f":"IFERROR(VLOOKUP(KK10,MATCHSELEVES!$Y$14:$AF$600,8,FALSE),0)","v":0},{"$f":"IFERROR(VLOOKUP(KK10,MATCHSELEVES!$Y$14:$AG$600,9,FALSE),0)","v":0},"Camélliap_8",{"$f":"IFERROR(VLOOKUP(KQ10,MATCHSELEVES!$Y$14:$AE$600,3,FALSE),0)","v":0},{"$f":"IFERROR(VLOOKUP(KQ10,MATCHSELEVES!$Y$14:$AE$600,4,FALSE),0)","v":0},{"$f":"IFERROR(VLOOKUP(KQ10,MATCHSELEVES!$Y$14:$AE$600,5,FALSE),0)","v":0},{"$f":"IFERROR(VLOOKUP(KQ10,MATCHSELEVES!$Y$14:$AF$600,8,FALSE),0)","v":0},{"$f":"IFERROR(VLOOKUP(KQ10,MATCHSELEVES!$Y$14:$AG$600,9,FALSE),0)","v":0},"Camélliap_9",{"$f":"IFERROR(VLOOKUP(KW10,MATCHSELEVES!$Y$14:$AE$600,3,FALSE),0)","v":0},{"$f":"IFERROR(VLOOKUP(KW10,MATCHSELEVES!$Y$14:$AE$600,4,FALSE),0)","v":0},{"$f":"IFERROR(VLOOKUP(KW10,MATCHSELEVES!$Y$14:$AE$600,5,FALSE),0)","v":0},{"$f":"IFERROR(VLOOKUP(KW10,MATCHSELEVES!$Y$14:$AF$600,8,FALSE),0)","v":0},{"$f":"IFERROR(VLOOKUP(KW10,MATCHSELEVES!$Y$14:$AG$600,9,FALSE),0)","v":0},"Camélliap_10",{"$f":"IFERROR(VLOOKUP(LC10,MATCHSELEVES!$Y$14:$AE$600,3,FALSE),0)","v":0},{"$f":"IFERROR(VLOOKUP(LC10,MATCHSELEVES!$Y$14:$AE$600,4,FALSE),0)","v":0},{"$f":"IFERROR(VLOOKUP(LC10,MATCHSELEVES!$Y$14:$AE$600,5,FALSE),0)","v":0},{"$f":"IFERROR(VLOOKUP(LC10,MATCHSELEVES!$Y$14:$AF$600,8,FALSE),0)","v":0},{"$f":"IFERROR(VLOOKUP(LC10,MATCHSELEVES!$Y$14:$AG$600,9,FALSE),0)","v":0},"Camélliap_11",{"$f":"IFERROR(VLOOKUP(LI10,MATCHSELEVES!$Y$14:$AE$600,3,FALSE),0)","v":0},{"$f":"IFERROR(VLOOKUP(LI10,MATCHSELEVES!$Y$14:$AE$600,4,FALSE),0)","v":0},{"$f":"IFERROR(VLOOKUP(LI10,MATCHSELEVES!$Y$14:$AE$600,5,FALSE),0)","v":0},{"$f":"IFERROR(VLOOKUP(LI10,MATCHSELEVES!$Y$14:$AF$600,8,FALSE),0)","v":0},{"$f":"IFERROR(VLOOKUP(LI10,MATCHSELEVES!$Y$14:$AG$600,9,FALSE),0)","v":0},"Camélliap_12",{"$f":"IFERROR(VLOOKUP(LO10,MATCHSELEVES!$Y$14:$AE$600,3,FALSE),0)","v":0},{"$f":"IFERROR(VLOOKUP(LO10,MATCHSELEVES!$Y$14:$AE$600,4,FALSE),0)","v":0},{"$f":"IFERROR(VLOOKUP(LO10,MATCHSELEVES!$Y$14:$AE$600,5,FALSE),0)","v":0},{"$f":"IFERROR(VLOOKUP(LO10,MATCHSELEVES!$Y$14:$AF$600,8,FALSE),0)","v":0},{"$f":"IFERROR(VLOOKUP(LO10,MATCHSELEVES!$Y$14:$AG$600,9,FALSE),0)","v":0},"Camélliap_13",{"$f":"IFERROR(VLOOKUP(LU10,MATCHSELEVES!$Y$14:$AE$600,3,FALSE),0)","v":0},{"$f":"IFERROR(VLOOKUP(LU10,MATCHSELEVES!$Y$14:$AE$600,4,FALSE),0)","v":0},{"$f":"IFERROR(VLOOKUP(LU10,MATCHSELEVES!$Y$14:$AE$600,5,FALSE),0)","v":0},{"$f":"IFERROR(VLOOKUP(LU10,MATCHSELEVES!$Y$14:$AF$600,8,FALSE),0)","v":0},{"$f":"IFERROR(VLOOKUP(LU10,MATCHSELEVES!$Y$14:$AG$600,9,FALSE),0)","v":0},"Camélliap_14",{"$f":"IFERROR(VLOOKUP(MA10,MATCHSELEVES!$Y$14:$AE$600,3,FALSE),0)","v":0},{"$f":"IFERROR(VLOOKUP(MA10,MATCHSELEVES!$Y$14:$AE$600,4,FALSE),0)","v":0},{"$f":"IFERROR(VLOOKUP(MA10,MATCHSELEVES!$Y$14:$AE$600,5,FALSE),0)","v":0},{"$f":"IFERROR(VLOOKUP(MA10,MATCHSELEVES!$Y$14:$AF$600,8,FALSE),0)","v":0},{"$f":"IFERROR(VLOOKUP(MA10,MATCHSELEVES!$Y$14:$AG$600,9,FALSE),0)","v":0},"Camélliap_15",{"$f":"IFERROR(VLOOKUP(MG10,MATCHSELEVES!$Y$14:$AE$600,3,FALSE),0)","v":0},{"$f":"IFERROR(VLOOKUP(MG10,MATCHSELEVES!$Y$14:$AE$600,4,FALSE),0)","v":0},{"$f":"IFERROR(VLOOKUP(MG10,MATCHSELEVES!$Y$14:$AE$600,5,FALSE),0)","v":0},{"$f":"IFERROR(VLOOKUP(MG10,MATCHSELEVES!$Y$14:$AF$600,8,FALSE),0)","v":0},{"$f":"IFERROR(VLOOKUP(MG10,MATCHSELEVES!$Y$14:$AG$600,9,FALSE),0)","v":0},"Camélliap_16",{"$f":"IFERROR(VLOOKUP(MM10,MATCHSELEVES!$Y$14:$AE$600,3,FALSE),0)","v":0},{"$f":"IFERROR(VLOOKUP(MM10,MATCHSELEVES!$Y$14:$AE$600,4,FALSE),0)","v":0},{"$f":"IFERROR(VLOOKUP(MM10,MATCHSELEVES!$Y$14:$AE$600,5,FALSE),0)","v":0},{"$f":"IFERROR(VLOOKUP(MM10,MATCHSELEVES!$Y$14:$AF$600,8,FALSE),0)","v":0},{"$f":"IFERROR(VLOOKUP(MM10,MATCHSELEVES!$Y$14:$AG$600,9,FALSE),0)","v":0},"Camélliap_17",{"$f":"IFERROR(VLOOKUP(MS10,MATCHSELEVES!$Y$14:$AE$600,3,FALSE),0)","v":0},{"$f":"IFERROR(VLOOKUP(MS10,MATCHSELEVES!$Y$14:$AE$600,4,FALSE),0)","v":0},{"$f":"IFERROR(VLOOKUP(MS10,MATCHSELEVES!$Y$14:$AE$600,5,FALSE),0)","v":0},{"$f":"IFERROR(VLOOKUP(MS10,MATCHSELEVES!$Y$14:$AF$600,8,FALSE),0)","v":0},{"$f":"IFERROR(VLOOKUP(MS10,MATCHSELEVES!$Y$14:$AG$600,9,FALSE),0)","v":0},"Camélliap_18",{"$f":"IFERROR(VLOOKUP(MY10,MATCHSELEVES!$Y$14:$AE$600,3,FALSE),0)","v":0},{"$f":"IFERROR(VLOOKUP(MY10,MATCHSELEVES!$Y$14:$AE$600,4,FALSE),0)","v":0},{"$f":"IFERROR(VLOOKUP(MY10,MATCHSELEVES!$Y$14:$AE$600,5,FALSE),0)","v":0},{"$f":"IFERROR(VLOOKUP(MY10,MATCHSELEVES!$Y$14:$AF$600,8,FALSE),0)","v":0},{"$f":"IFERROR(VLOOKUP(MY10,MATCHSELEVES!$Y$14:$AG$600,9,FALSE),0)","v":0},"Camélliap_19",{"$f":"IFERROR(VLOOKUP(NE10,MATCHSELEVES!$Y$14:$AE$600,3,FALSE),0)","v":0},{"$f":"IFERROR(VLOOKUP(NE10,MATCHSELEVES!$Y$14:$AE$600,4,FALSE),0)","v":0},{"$f":"IFERROR(VLOOKUP(NE10,MATCHSELEVES!$Y$14:$AE$600,5,FALSE),0)","v":0},{"$f":"IFERROR(VLOOKUP(NE10,MATCHSELEVES!$Y$14:$AF$600,8,FALSE),0)","v":0},{"$f":"IFERROR(VLOOKUP(NE10,MATCHSELEVES!$Y$14:$AG$600,9,FALSE),0)","v":0},"Camélliap_20",{"$f":"IFERROR(VLOOKUP(NK10,MATCHSELEVES!$Y$14:$AE$600,3,FALSE),0)","v":0},{"$f":"IFERROR(VLOOKUP(NK10,MATCHSELEVES!$Y$14:$AE$600,4,FALSE),0)","v":0},{"$f":"IFERROR(VLOOKUP(NK10,MATCHSELEVES!$Y$14:$AE$600,5,FALSE),0)","v":0},{"$f":"IFERROR(VLOOKUP(NK10,MATCHSELEVES!$Y$14:$AF$600,8,FALSE),0)","v":0},{"$f":"IFERROR(VLOOKUP(NK10,MATCHSELEVES!$Y$14:$AG$600,9,FALSE),0)","v":0},"Camélliap_21",{"$f":"IFERROR(VLOOKUP(NQ10,MATCHSELEVES!$Y$14:$AE$600,3,FALSE),0)","v":0},{"$f":"IFERROR(VLOOKUP(NQ10,MATCHSELEVES!$Y$14:$AE$600,4,FALSE),0)","v":0},{"$f":"IFERROR(VLOOKUP(NQ10,MATCHSELEVES!$Y$14:$AE$600,5,FALSE),0)","v":0},{"$f":"IFERROR(VLOOKUP(NQ10,MATCHSELEVES!$Y$14:$AF$600,8,FALSE),0)","v":0},{"$f":"IFERROR(VLOOKUP(NQ10,MATCHSELEVES!$Y$14:$AG$600,9,FALSE),0)","v":0},"Camélliap_22",{"$f":"IFERROR(VLOOKUP(NW10,MATCHSELEVES!$Y$14:$AE$600,3,FALSE),0)","v":0},{"$f":"IFERROR(VLOOKUP(NW10,MATCHSELEVES!$Y$14:$AE$600,4,FALSE),0)","v":0},{"$f":"IFERROR(VLOOKUP(NW10,MATCHSELEVES!$Y$14:$AE$600,5,FALSE),0)","v":0},{"$f":"IFERROR(VLOOKUP(NW10,MATCHSELEVES!$Y$14:$AF$600,8,FALSE),0)","v":0},{"$f":"IFERROR(VLOOKUP(NW10,MATCHSELEVES!$Y$14:$AG$600,9,FALSE),0)","v":0},"Camélliap_23",{"$f":"IFERROR(VLOOKUP(OC10,MATCHSELEVES!$Y$14:$AE$600,3,FALSE),0)","v":0},{"$f":"IFERROR(VLOOKUP(OC10,MATCHSELEVES!$Y$14:$AE$600,4,FALSE),0)","v":0},{"$f":"IFERROR(VLOOKUP(OC10,MATCHSELEVES!$Y$14:$AE$600,5,FALSE),0)","v":0},{"$f":"IFERROR(VLOOKUP(OC10,MATCHSELEVES!$Y$14:$AF$600,8,FALSE),0)","v":0},{"$f":"IFERROR(VLOOKUP(OC10,MATCHSELEVES!$Y$14:$AG$600,9,FALSE),0)","v":0},"Camélliap_24",{"$f":"IFERROR(VLOOKUP(OI10,MATCHSELEVES!$Y$14:$AE$600,3,FALSE),0)","v":0},{"$f":"IFERROR(VLOOKUP(OI10,MATCHSELEVES!$Y$14:$AE$600,4,FALSE),0)","v":0},{"$f":"IFERROR(VLOOKUP(OI10,MATCHSELEVES!$Y$14:$AE$600,5,FALSE),0)","v":0},{"$f":"IFERROR(VLOOKUP(OI10,MATCHSELEVES!$Y$14:$AF$600,8,FALSE),0)","v":0},{"$f":"IFERROR(VLOOKUP(OI10,MATCHSELEVES!$Y$14:$AG$600,9,FALSE),0)","v":0},"Camélliap_25",{"$f":"IFERROR(VLOOKUP(OO10,MATCHSELEVES!$Y$14:$AE$600,3,FALSE),0)","v":0},{"$f":"IFERROR(VLOOKUP(OO10,MATCHSELEVES!$Y$14:$AE$600,4,FALSE),0)","v":0},{"$f":"IFERROR(VLOOKUP(OO10,MATCHSELEVES!$Y$14:$AE$600,5,FALSE),0)","v":0},{"$f":"IFERROR(VLOOKUP(OO10,MATCHSELEVES!$Y$14:$AF$600,8,FALSE),0)","v":0},{"$f":"IFERROR(VLOOKUP(OO10,MATCHSELEVES!$Y$14:$AG$600,9,FALSE),0)","v":0},"Camélliap_26",{"$f":"IFERROR(VLOOKUP(OU10,MATCHSELEVES!$Y$14:$AE$600,3,FALSE),0)","v":0},{"$f":"IFERROR(VLOOKUP(OU10,MATCHSELEVES!$Y$14:$AE$600,4,FALSE),0)","v":0},{"$f":"IFERROR(VLOOKUP(OU10,MATCHSELEVES!$Y$14:$AE$600,5,FALSE),0)","v":0},{"$f":"IFERROR(VLOOKUP(OU10,MATCHSELEVES!$Y$14:$AF$600,8,FALSE),0)","v":0},{"$f":"IFERROR(VLOOKUP(OU10,MATCHSELEVES!$Y$14:$AG$600,9,FALSE),0)","v":0},"Camélliap_27",{"$f":"IFERROR(VLOOKUP(PA10,MATCHSELEVES!$Y$14:$AE$600,3,FALSE),0)","v":0},{"$f":"IFERROR(VLOOKUP(PA10,MATCHSELEVES!$Y$14:$AE$600,4,FALSE),0)","v":0},{"$f":"IFERROR(VLOOKUP(PA10,MATCHSELEVES!$Y$14:$AE$600,5,FALSE),0)","v":0},{"$f":"IFERROR(VLOOKUP(PA10,MATCHSELEVES!$Y$14:$AF$600,8,FALSE),0)","v":0},{"$f":"IFERROR(VLOOKUP(PA10,MATCHSELEVES!$Y$14:$AG$600,9,FALSE),0)","v":0},"Camélliap_28",{"$f":"IFERROR(VLOOKUP(PG10,MATCHSELEVES!$Y$14:$AE$600,3,FALSE),0)","v":0},{"$f":"IFERROR(VLOOKUP(PG10,MATCHSELEVES!$Y$14:$AE$600,4,FALSE),0)","v":0},{"$f":"IFERROR(VLOOKUP(PG10,MATCHSELEVES!$Y$14:$AE$600,5,FALSE),0)","v":0},{"$f":"IFERROR(VLOOKUP(PG10,MATCHSELEVES!$Y$14:$AF$600,8,FALSE),0)","v":0},{"$f":"IFERROR(VLOOKUP(PG10,MATCHSELEVES!$Y$14:$AG$600,9,FALSE),0)","v":0},"Camélliap_29",{"$f":"IFERROR(VLOOKUP(PM10,MATCHSELEVES!$Y$14:$AE$600,3,FALSE),0)","v":0},{"$f":"IFERROR(VLOOKUP(PM10,MATCHSELEVES!$Y$14:$AE$600,4,FALSE),0)","v":0},{"$f":"IFERROR(VLOOKUP(PM10,MATCHSELEVES!$Y$14:$AE$600,5,FALSE),0)","v":0},{"$f":"IFERROR(VLOOKUP(PM10,MATCHSELEVES!$Y$14:$AF$600,8,FALSE),0)","v":0},{"$f":"IFERROR(VLOOKUP(PM10,MATCHSELEVES!$Y$14:$AG$600,9,FALSE),0)","v":0},"Camélliap_30",{"$f":"IFERROR(VLOOKUP(PS10,MATCHSELEVES!$Y$14:$AE$600,3,FALSE),0)","v":0},{"$f":"IFERROR(VLOOKUP(PS10,MATCHSELEVES!$Y$14:$AE$600,4,FALSE),0)","v":0},{"$f":"IFERROR(VLOOKUP(PS10,MATCHSELEVES!$Y$14:$AE$600,5,FALSE),0)","v":0},{"$f":"IFERROR(VLOOKUP(PS10,MATCHSELEVES!$Y$14:$AF$600,8,FALSE),0)","v":0},{"$f":"IFERROR(VLOOKUP(PS10,MATCHSELEVES!$Y$14:$AG$600,9,FALSE),0)","v":0},"Camélliap_31",{"$f":"IFERROR(VLOOKUP(PY10,MATCHSELEVES!$Y$14:$AE$600,3,FALSE),0)","v":0},{"$f":"IFERROR(VLOOKUP(PY10,MATCHSELEVES!$Y$14:$AE$600,4,FALSE),0)","v":0},{"$f":"IFERROR(VLOOKUP(PY10,MATCHSELEVES!$Y$14:$AE$600,5,FALSE),0)","v":0},{"$f":"IFERROR(VLOOKUP(PY10,MATCHSELEVES!$Y$14:$AF$600,8,FALSE),0)","v":0},{"$f":"IFERROR(VLOOKUP(PY10,MATCHSELEVES!$Y$14:$AG$600,9,FALSE),0)","v":0},"Camélliap_32",{"$f":"IFERROR(VLOOKUP(QE10,MATCHSELEVES!$Y$14:$AE$600,3,FALSE),0)","v":0},{"$f":"IFERROR(VLOOKUP(QE10,MATCHSELEVES!$Y$14:$AE$600,4,FALSE),0)","v":0},{"$f":"IFERROR(VLOOKUP(QE10,MATCHSELEVES!$Y$14:$AE$600,5,FALSE),0)","v":0},{"$f":"IFERROR(VLOOKUP(QE10,MATCHSELEVES!$Y$14:$AF$600,8,FALSE),0)","v":0},{"$f":"IFERROR(VLOOKUP(QE10,MATCHSELEVES!$Y$14:$AG$600,9,FALSE),0)","v":0},"Camélliap_33",{"$f":"IFERROR(VLOOKUP(QK10,MATCHSELEVES!$Y$14:$AE$600,3,FALSE),0)","v":0},{"$f":"IFERROR(VLOOKUP(QK10,MATCHSELEVES!$Y$14:$AE$600,4,FALSE),0)","v":0},{"$f":"IFERROR(VLOOKUP(QK10,MATCHSELEVES!$Y$14:$AE$600,5,FALSE),0)","v":0},{"$f":"IFERROR(VLOOKUP(QK10,MATCHSELEVES!$Y$14:$AF$600,8,FALSE),0)","v":0},{"$f":"IFERROR(VLOOKUP(QK10,MATCHSELEVES!$Y$14:$AG$600,9,FALSE),0)","v":0},"Camélliap_34",{"$f":"IFERROR(VLOOKUP(QQ10,MATCHSELEVES!$Y$14:$AE$600,3,FALSE),0)","v":0},{"$f":"IFERROR(VLOOKUP(QQ10,MATCHSELEVES!$Y$14:$AE$600,4,FALSE),0)","v":0},{"$f":"IFERROR(VLOOKUP(QQ10,MATCHSELEVES!$Y$14:$AE$600,5,FALSE),0)","v":0},{"$f":"IFERROR(VLOOKUP(QQ10,MATCHSELEVES!$Y$14:$AF$600,8,FALSE),0)","v":0},{"$f":"IFERROR(VLOOKUP(QQ10,MATCHSELEVES!$Y$14:$AG$600,9,FALSE),0)","v":0},"Camélliap_35",{"$f":"IFERROR(VLOOKUP(QW10,MATCHSELEVES!$Y$14:$AE$600,3,FALSE),0)","v":0},{"$f":"IFERROR(VLOOKUP(QW10,MATCHSELEVES!$Y$14:$AE$600,4,FALSE),0)","v":0},{"$f":"IFERROR(VLOOKUP(QW10,MATCHSELEVES!$Y$14:$AE$600,5,FALSE),0)","v":0},{"$f":"IFERROR(VLOOKUP(QW10,MATCHSELEVES!$Y$14:$AF$600,8,FALSE),0)","v":0},{"$f":"IFERROR(VLOOKUP(QW10,MATCHSELEVES!$Y$14:$AG$600,9,FALSE),0)","v":0},"Camélliap_36",{"$f":"IFERROR(VLOOKUP(RC10,MATCHSELEVES!$Y$14:$AE$600,3,FALSE),0)","v":0},{"$f":"IFERROR(VLOOKUP(RC10,MATCHSELEVES!$Y$14:$AE$600,4,FALSE),0)","v":0},{"$f":"IFERROR(VLOOKUP(RC10,MATCHSELEVES!$Y$14:$AE$600,5,FALSE),0)","v":0},{"$f":"IFERROR(VLOOKUP(RC10,MATCHSELEVES!$Y$14:$AF$600,8,FALSE),0)","v":0},{"$f":"IFERROR(VLOOKUP(RC10,MATCHSELEVES!$Y$14:$AG$600,9,FALSE),0)","v":0},"Camélliap_37",{"$f":"IFERROR(VLOOKUP(RI10,MATCHSELEVES!$Y$14:$AE$600,3,FALSE),0)","v":0},{"$f":"IFERROR(VLOOKUP(RI10,MATCHSELEVES!$Y$14:$AE$600,4,FALSE),0)","v":0},{"$f":"IFERROR(VLOOKUP(RI10,MATCHSELEVES!$Y$14:$AE$600,5,FALSE),0)","v":0},{"$f":"IFERROR(VLOOKUP(RI10,MATCHSELEVES!$Y$14:$AF$600,8,FALSE),0)","v":0},{"$f":"IFERROR(VLOOKUP(RI10,MATCHSELEVES!$Y$14:$AG$600,9,FALSE),0)","v":0},"Camélliap_38",{"$f":"IFERROR(VLOOKUP(RO10,MATCHSELEVES!$Y$14:$AE$600,3,FALSE),0)","v":0},{"$f":"IFERROR(VLOOKUP(RO10,MATCHSELEVES!$Y$14:$AE$600,4,FALSE),0)","v":0},{"$f":"IFERROR(VLOOKUP(RO10,MATCHSELEVES!$Y$14:$AE$600,5,FALSE),0)","v":0},{"$f":"IFERROR(VLOOKUP(RO10,MATCHSELEVES!$Y$14:$AF$600,8,FALSE),0)","v":0},{"$f":"IFERROR(VLOOKUP(RO10,MATCHSELEVES!$Y$14:$AG$600,9,FALSE),0)","v":0},"Camélliap_39",{"$f":"IFERROR(VLOOKUP(RU10,MATCHSELEVES!$Y$14:$AE$600,3,FALSE),0)","v":0},{"$f":"IFERROR(VLOOKUP(RU10,MATCHSELEVES!$Y$14:$AE$600,4,FALSE),0)","v":0},{"$f":"IFERROR(VLOOKUP(RU10,MATCHSELEVES!$Y$14:$AE$600,5,FALSE),0)","v":0},{"$f":"IFERROR(VLOOKUP(RU10,MATCHSELEVES!$Y$14:$AF$600,8,FALSE),0)","v":0},{"$f":"IFERROR(VLOOKUP(RU10,MATCHSELEVES!$Y$14:$AG$600,9,FALSE),0)","v":0},"Camélliap_40",{"$f":"IFERROR(VLOOKUP(SA10,MATCHSELEVES!$Y$14:$AE$600,3,FALSE),0)","v":0},{"$f":"IFERROR(VLOOKUP(SA10,MATCHSELEVES!$Y$14:$AE$600,4,FALSE),0)","v":0},{"$f":"IFERROR(VLOOKUP(SA10,MATCHSELEVES!$Y$14:$AE$600,5,FALSE),0)","v":0},{"$f":"IFERROR(VLOOKUP(SA10,MATCHSELEVES!$Y$14:$AF$600,8,FALSE),0)","v":0},{"$f":"IFERROR(VLOOKUP(SA10,MATCHSELEVES!$Y$14:$AG$600,9,FALSE),0)","v":0}]
[8,null,"Carole",8,null,null,{"$f":"COUNTIF(MATCHSELEVES!$Z$14:$Z$600,C11)+COUNTIF(MATCHSELEVES!$Z$14:$Z$600,$C11&\"p\")","v":0},1,{"$f":"COUNTIF(MATCHSELEVES!$F$14:$H$249,C11)","v":0},1,0,1,{"$f":"IFERROR(M54/Tableau10[[#This Row],[Nombre de matchs joués]],0)","v":0},{"$f":"IF(Tableau10[[#This Row],[Nombre de points encaissés]]=0,$C$45,SUMPRODUCT((M$4:M$43<M11)*(M$4:M$43<>0))+1)","v":40},0,1,{"$f":"(Tableau10[[#This Row],[CLASSEMENT1]]+Tableau10[[#This Row],[CLASSEMENT2]]+Tableau10[[#This Row],[CLASSEMENT3]]+Tableau10[[#This Row],[CLASSEMENT4]]+Tableau10[[#This Row],[CLASSEMENT5]]+Tableau10[[#This Row],[CLASSEMENT6]])/6","v":8.6666666666666661},{"$f":"RANK(Tableau10[[#This Row],[MOYENNE CLASSEMENTS]],Tableau10[MOYENNE CLASSEMENTS],1)","v":8},null,{"$f":"Tableau10[[#This Row],[CLASSEMENT1]]","v":8},"Carole_1",{"$f":"IFERROR(VLOOKUP(U11,MATCHSELEVES!$Y$14:$AE$600,3,FALSE),0)","v":0},{"$f":"IFERROR(VLOOKUP(U11,MATCHSELEVES!$Y$14:$AE$600,4,FALSE),0)","v":0},{"$f":"IFERROR(VLOOKUP(U11,MATCHSELEVES!$Y$14:$AE$600,5,FALSE),0)","v":0},{"$f":"IFERROR(VLOOKUP(U11,MATCHSELEVES!$Y$14:$AF$600,8,FALSE),0)","v":0},{"$f":"IFERROR(VLOOKUP(U11,MATCHSELEVES!$Y$14:$AG$600,9,FALSE),0)","v":0},"Carole_2",{"$f":"IFERROR(VLOOKUP(AA11,MATCHSELEVES!$Y$14:$AE$600,3,FALSE),0)","v":0},{"$f":"IFERROR(VLOOKUP(AA11,MATCHSELEVES!$Y$14:$AE$600,4,FALSE),0)","v":0},{"$f":"IFERROR(VLOOKUP(AA11,MATCHSELEVES!$Y$14:$AE$600,5,FALSE),0)","v":0},{"$f":"IFERROR(VLOOKUP(AA11,MATCHSELEVES!$Y$14:$AF$600,8,FALSE),0)","v":0},{"$f":"IFERROR(VLOOKUP(AA11,MATCHSELEVES!$Y$14:$AG$600,9,FALSE),0)","v":0},"Carole_3",{"$f":"IFERROR(VLOOKUP(AG11,MATCHSELEVES!$Y$14:$AE$600,3,FALSE),0)","v":0},{"$f":"IFERROR(VLOOKUP(AG11,MATCHSELEVES!$Y$14:$AE$600,4,FALSE),0)","v":0},{"$f":"IFERROR(VLOOKUP(AG11,MATCHSELEVES!$Y$14:$AE$600,5,FALSE),0)","v":0},{"$f":"IFERROR(VLOOKUP(AG11,MATCHSELEVES!$Y$14:$AF$600,8,FALSE),0)","v":0},{"$f":"IFERROR(VLOOKUP(AG11,MATCHSELEVES!$Y$14:$AG$600,9,FALSE),0)","v":0},"Carole_4",{"$f":"IFERROR(VLOOKUP(AM11,MATCHSELEVES!$Y$14:$AE$600,3,FALSE),0)","v":0},{"$f":"IFERROR(VLOOKUP(AM11,MATCHSELEVES!$Y$14:$AE$600,4,FALSE),0)","v":0},{"$f":"IFERROR(VLOOKUP(AM11,MATCHSELEVES!$Y$14:$AE$600,5,FALSE),0)","v":0},{"$f":"IFERROR(VLOOKUP(AM11,MATCHSELEVES!$Y$14:$AF$600,8,FALSE),0)","v":0},{"$f":"IFERROR(VLOOKUP(AM11,MATCHSELEVES!$Y$14:$AG$600,9,FALSE),0)","v":0},"Carole_5",{"$f":"IFERROR(VLOOKUP(AS11,MATCHSELEVES!$Y$14:$AE$600,3,FALSE),0)","v":0},{"$f":"IFERROR(VLOOKUP(AS11,MATCHSELEVES!$Y$14:$AE$600,4,FALSE),0)","v":0},{"$f":"IFERROR(VLOOKUP(AS11,MATCHSELEVES!$Y$14:$AE$600,5,FALSE),0)","v":0},{"$f":"IFERROR(VLOOKUP(AS11,MATCHSELEVES!$Y$14:$AF$600,8,FALSE),0)","v":0},{"$f":"IFERROR(VLOOKUP(AS11,MATCHSELEVES!$Y$14:$AG$600,9,FALSE),0)","v":0},"Carole_6",{"$f":"IFERROR(VLOOKUP(AY11,MATCHSELEVES!$Y$14:$AE$600,3,FALSE),0)","v":0},{"$f":"IFERROR(VLOOKUP(AY11,MATCHSELEVES!$Y$14:$AE$600,4,FALSE),0)","v":0},{"$f":"IFERROR(VLOOKUP(AY11,MATCHSELEVES!$Y$14:$AE$600,5,FALSE),0)","v":0},{"$f":"IFERROR(VLOOKUP(AY11,MATCHSELEVES!$Y$14:$AF$600,8,FALSE),0)","v":0},{"$f":"IFERROR(VLOOKUP(AY11,MATCHSELEVES!$Y$14:$AG$600,9,FALSE),0)","v":0},"Carole_7",{"$f":"IFERROR(VLOOKUP(BE11,MATCHSELEVES!$Y$14:$AE$600,3,FALSE),0)","v":0},{"$f":"IFERROR(VLOOKUP(BE11,MATCHSELEVES!$Y$14:$AE$600,4,FALSE),0)","v":0},{"$f":"IFERROR(VLOOKUP(BE11,MATCHSELEVES!$Y$14:$AE$600,5,FALSE),0)","v":0},{"$f":"IFERROR(VLOOKUP(BE11,MATCHSELEVES!$Y$14:$AF$600,8,FALSE),0)","v":0},{"$f":"IFERROR(VLOOKUP(BE11,MATCHSELEVES!$Y$14:$AG$600,9,FALSE),0)","v":0},"Carole_8",{"$f":"IFERROR(VLOOKUP(BK11,MATCHSELEVES!$Y$14:$AE$600,3,FALSE),0)","v":0},{"$f":"IFERROR(VLOOKUP(BK11,MATCHSELEVES!$Y$14:$AE$600,4,FALSE),0)","v":0},{"$f":"IFERROR(VLOOKUP(BK11,MATCHSELEVES!$Y$14:$AE$600,5,FALSE),0)","v":0},{"$f":"IFERROR(VLOOKUP(BK11,MATCHSELEVES!$Y$14:$AF$600,8,FALSE),0)","v":0},{"$f":"IFERROR(VLOOKUP(BK11,MATCHSELEVES!$Y$14:$AG$600,9,FALSE),0)","v":0},"Carole_9",{"$f":"IFERROR(VLOOKUP(BQ11,MATCHSELEVES!$Y$14:$AE$600,3,FALSE),0)","v":0},{"$f":"IFERROR(VLOOKUP(BQ11,MATCHSELEVES!$Y$14:$AE$600,4,FALSE),0)","v":0},{"$f":"IFERROR(VLOOKUP(BQ11,MATCHSELEVES!$Y$14:$AE$600,5,FALSE),0)","v":0},{"$f":"IFERROR(VLOOKUP(BQ11,MATCHSELEVES!$Y$14:$AF$600,8,FALSE),0)","v":0},{"$f":"IFERROR(VLOOKUP(BQ11,MATCHSELEVES!$Y$14:$AG$600,9,FALSE),0)","v":0},"Carole_10",{"$f":"IFERROR(VLOOKUP(BW11,MATCHSELEVES!$Y$14:$AE$600,3,FALSE),0)","v":0},{"$f":"IFERROR(VLOOKUP(BW11,MATCHSELEVES!$Y$14:$AE$600,4,FALSE),0)","v":0},{"$f":"IFERROR(VLOOKUP(BW11,MATCHSELEVES!$Y$14:$AE$600,5,FALSE),0)","v":0},{"$f":"IFERROR(VLOOKUP(BW11,MATCHSELEVES!$Y$14:$AF$600,8,FALSE),0)","v":0},{"$f":"IFERROR(VLOOKUP(BW11,MATCHSELEVES!$Y$14:$AG$600,9,FALSE),0)","v":0},"Carole_11",{"$f":"IFERROR(VLOOKUP(CC11,MATCHSELEVES!$Y$14:$AE$600,3,FALSE),0)","v":0},{"$f":"IFERROR(VLOOKUP(CC11,MATCHSELEVES!$Y$14:$AE$600,4,FALSE),0)","v":0},{"$f":"IFERROR(VLOOKUP(CC11,MATCHSELEVES!$Y$14:$AE$600,5,FALSE),0)","v":0},{"$f":"IFERROR(VLOOKUP(CC11,MATCHSELEVES!$Y$14:$AF$600,8,FALSE),0)","v":0},{"$f":"IFERROR(VLOOKUP(CC11,MATCHSELEVES!$Y$14:$AG$600,9,FALSE),0)","v":0},"Carole_12",{"$f":"IFERROR(VLOOKUP(CI11,MATCHSELEVES!$Y$14:$AE$600,3,FALSE),0)","v":0},{"$f":"IFERROR(VLOOKUP(CI11,MATCHSELEVES!$Y$14:$AE$600,4,FALSE),0)","v":0},{"$f":"IFERROR(VLOOKUP(CI11,MATCHSELEVES!$Y$14:$AE$600,5,FALSE),0)","v":0},{"$f":"IFERROR(VLOOKUP(CI11,MATCHSELEVES!$Y$14:$AF$600,8,FALSE),0)","v":0},{"$f":"IFERROR(VLOOKUP(CI11,MATCHSELEVES!$Y$14:$AG$600,9,FALSE),0)","v":0},"Carole_13",{"$f":"IFERROR(VLOOKUP(CO11,MATCHSELEVES!$Y$14:$AE$600,3,FALSE),0)","v":0},{"$f":"IFERROR(VLOOKUP(CO11,MATCHSELEVES!$Y$14:$AE$600,4,FALSE),0)","v":0},{"$f":"IFERROR(VLOOKUP(CO11,MATCHSELEVES!$Y$14:$AE$600,5,FALSE),0)","v":0},{"$f":"IFERROR(VLOOKUP(CO11,MATCHSELEVES!$Y$14:$AF$600,8,FALSE),0)","v":0},{"$f":"IFERROR(VLOOKUP(CO11,MATCHSELEVES!$Y$14:$AG$600,9,FALSE),0)","v":0},"Carole_14",{"$f":"IFERROR(VLOOKUP(CU11,MATCHSELEVES!$Y$14:$AE$600,3,FALSE),0)","v":0},{"$f":"IFERROR(VLOOKUP(CU11,MATCHSELEVES!$Y$14:$AE$600,4,FALSE),0)","v":0},{"$f":"IFERROR(VLOOKUP(CU11,MATCHSELEVES!$Y$14:$AE$600,5,FALSE),0)","v":0},{"$f":"IFERROR(VLOOKUP(CU11,MATCHSELEVES!$Y$14:$AF$600,8,FALSE),0)","v":0},{"$f":"IFERROR(VLOOKUP(CU11,MATCHSELEVES!$Y$14:$AG$600,9,FALSE),0)","v":0},"Carole_15",{"$f":"IFERROR(VLOOKUP(DA11,MATCHSELEVES!$Y$14:$AE$600,3,FALSE),0)","v":0},{"$f":"IFERROR(VLOOKUP(DA11,MATCHSELEVES!$Y$14:$AE$600,4,FALSE),0)","v":0},{"$f":"IFERROR(VLOOKUP(DA11,MATCHSELEVES!$Y$14:$AE$600,5,FALSE),0)","v":0},{"$f":"IFERROR(VLOOKUP(DA11,MATCHSELEVES!$Y$14:$AF$600,8,FALSE),0)","v":0},{"$f":"IFERROR(VLOOKUP(DA11,MATCHSELEVES!$Y$14:$AG$600,9,FALSE),0)","v":0},"Carole_16",{"$f":"IFERROR(VLOOKUP(DG11,MATCHSELEVES!$Y$14:$AE$600,3,FALSE),0)","v":0},{"$f":"IFERROR(VLOOKUP(DG11,MATCHSELEVES!$Y$14:$AE$600,4,FALSE),0)","v":0},{"$f":"IFERROR(VLOOKUP(DG11,MATCHSELEVES!$Y$14:$AE$600,5,FALSE),0)","v":0},{"$f":"IFERROR(VLOOKUP(DG11,MATCHSELEVES!$Y$14:$AF$600,8,FALSE),0)","v":0},{"$f":"IFERROR(VLOOKUP(DG11,MATCHSELEVES!$Y$14:$AG$600,9,FALSE),0)","v":0},"Carole_17",{"$f":"IFERROR(VLOOKUP(DM11,MATCHSELEVES!$Y$14:$AE$600,3,FALSE),0)","v":0},{"$f":"IFERROR(VLOOKUP(DM11,MATCHSELEVES!$Y$14:$AE$600,4,FALSE),0)","v":0},{"$f":"IFERROR(VLOOKUP(DM11,MATCHSELEVES!$Y$14:$AE$600,5,FALSE),0)","v":0},{"$f":"IFERROR(VLOOKUP(DM11,MATCHSELEVES!$Y$14:$AF$600,8,FALSE),0)","v":0},{"$f":"IFERROR(VLOOKUP(DM11,MATCHSELEVES!$Y$14:$AG$600,9,FALSE),0)","v":0},"Carole_18",{"$f":"IFERROR(VLOOKUP(DS11,MATCHSELEVES!$Y$14:$AE$600,3,FALSE),0)","v":0},{"$f":"IFERROR(VLOOKUP(DS11,MATCHSELEVES!$Y$14:$AE$600,4,FALSE),0)","v":0},{"$f":"IFERROR(VLOOKUP(DS11,MATCHSELEVES!$Y$14:$AE$600,5,FALSE),0)","v":0},{"$f":"IFERROR(VLOOKUP(DS11,MATCHSELEVES!$Y$14:$AF$600,8,FALSE),0)","v":0},{"$f":"IFERROR(VLOOKUP(DS11,MATCHSELEVES!$Y$14:$AG$600,9,FALSE),0)","v":0},"Carole_19",{"$f":"IFERROR(VLOOKUP(DY11,MATCHSELEVES!$Y$14:$AE$600,3,FALSE),0)","v":0},{"$f":"IFERROR(VLOOKUP(DY11,MATCHSELEVES!$Y$14:$AE$600,4,FALSE),0)","v":0},{"$f":"IFERROR(VLOOKUP(DY11,MATCHSELEVES!$Y$14:$AE$600,5,FALSE),0)","v":0},{"$f":"IFERROR(VLOOKUP(DY11,MATCHSELEVES!$Y$14:$AF$600,8,FALSE),0)","v":0},{"$f":"IFERROR(VLOOKUP(DY11,MATCHSELEVES!$Y$14:$AG$600,9,FALSE),0)","v":0},"Carole_20",{"$f":"IFERROR(VLOOKUP(EE11,MATCHSELEVES!$Y$14:$AE$600,3,FALSE),0)","v":0},{"$f":"IFERROR(VLOOKUP(EE11,MATCHSELEVES!$Y$14:$AE$600,4,FALSE),0)","v":0},{"$f":"IFERROR(VLOOKUP(EE11,MATCHSELEVES!$Y$14:$AE$600,5,FALSE),0)","v":0},{"$f":"IFERROR(VLOOKUP(EE11,MATCHSELEVES!$Y$14:$AF$600,8,FALSE),0)","v":0},{"$f":"IFERROR(VLOOKUP(EE11,MATCHSELEVES!$Y$14:$AG$600,9,FALSE),0)","v":0},"Carole_21",{"$f":"IFERROR(VLOOKUP(EK11,MATCHSELEVES!$Y$14:$AE$600,3,FALSE),0)","v":0},{"$f":"IFERROR(VLOOKUP(EK11,MATCHSELEVES!$Y$14:$AE$600,4,FALSE),0)","v":0},{"$f":"IFERROR(VLOOKUP(EK11,MATCHSELEVES!$Y$14:$AE$600,5,FALSE),0)","v":0},{"$f":"IFERROR(VLOOKUP(EK11,MATCHSELEVES!$Y$14:$AF$600,8,FALSE),0)","v":0},{"$f":"IFERROR(VLOOKUP(EK11,MATCHSELEVES!$Y$14:$AG$600,9,FALSE),0)","v":0},"Carole_22",{"$f":"IFERROR(VLOOKUP(EQ11,MATCHSELEVES!$Y$14:$AE$600,3,FALSE),0)","v":0},{"$f":"IFERROR(VLOOKUP(EQ11,MATCHSELEVES!$Y$14:$AE$600,4,FALSE),0)","v":0},{"$f":"IFERROR(VLOOKUP(EQ11,MATCHSELEVES!$Y$14:$AE$600,5,FALSE),0)","v":0},{"$f":"IFERROR(VLOOKUP(EQ11,MATCHSELEVES!$Y$14:$AF$600,8,FALSE),0)","v":0},{"$f":"IFERROR(VLOOKUP(EQ11,MATCHSELEVES!$Y$14:$AG$600,9,FALSE),0)","v":0},"Carole_23",{"$f":"IFERROR(VLOOKUP(EW11,MATCHSELEVES!$Y$14:$AE$600,3,FALSE),0)","v":0},{"$f":"IFERROR(VLOOKUP(EW11,MATCHSELEVES!$Y$14:$AE$600,4,FALSE),0)","v":0},{"$f":"IFERROR(VLOOKUP(EW11,MATCHSELEVES!$Y$14:$AE$600,5,FALSE),0)","v":0},{"$f":"IFERROR(VLOOKUP(EW11,MATCHSELEVES!$Y$14:$AF$600,8,FALSE),0)","v":0},{"$f":"IFERROR(VLOOKUP(EW11,MATCHSELEVES!$Y$14:$AG$600,9,FALSE),0)","v":0},"Carole_24",{"$f":"IFERROR(VLOOKUP(FC11,MATCHSELEVES!$Y$14:$AE$600,3,FALSE),0)","v":0},{"$f":"IFERROR(VLOOKUP(FC11,MATCHSELEVES!$Y$14:$AE$600,4,FALSE),0)","v":0},{"$f":"IFERROR(VLOOKUP(FC11,MATCHSELEVES!$Y$14:$AE$600,5,FALSE),0)","v":0},{"$f":"IFERROR(VLOOKUP(FC11,MATCHSELEVES!$Y$14:$AF$600,8,FALSE),0)","v":0},{"$f":"IFERROR(VLOOKUP(FC11,MATCHSELEVES!$Y$14:$AG$600,9,FALSE),0)","v":0},"Carole_25",{"$f":"IFERROR(VLOOKUP(FI11,MATCHSELEVES!$Y$14:$AE$600,3,FALSE),0)","v":0},{"$f":"IFERROR(VLOOKUP(FI11,MATCHSELEVES!$Y$14:$AE$600,4,FALSE),0)","v":0},{"$f":"IFERROR(VLOOKUP(FI11,MATCHSELEVES!$Y$14:$AE$600,5,FALSE),0)","v":0},{"$f":"IFERROR(VLOOKUP(FI11,MATCHSELEVES!$Y$14:$AF$600,8,FALSE),0)","v":0},{"$f":"IFERROR(VLOOKUP(FI11,MATCHSELEVES!$Y$14:$AG$600,9,FALSE),0)","v":0},"Carole_26",{"$f":"IFERROR(VLOOKUP(FO11,MATCHSELEVES!$Y$14:$AE$600,3,FALSE),0)","v":0},{"$f":"IFERROR(VLOOKUP(FO11,MATCHSELEVES!$Y$14:$AE$600,4,FALSE),0)","v":0},{"$f":"IFERROR(VLOOKUP(FO11,MATCHSELEVES!$Y$14:$AE$600,5,FALSE),0)","v":0},{"$f":"IFERROR(VLOOKUP(FO11,MATCHSELEVES!$Y$14:$AF$600,8,FALSE),0)","v":0},{"$f":"IFERROR(VLOOKUP(FO11,MATCHSELEVES!$Y$14:$AG$600,9,FALSE),0)","v":0},"Carole_27",{"$f":"IFERROR(VLOOKUP(FU11,MATCHSELEVES!$Y$14:$AE$600,3,FALSE),0)","v":0},{"$f":"IFERROR(VLOOKUP(FU11,MATCHSELEVES!$Y$14:$AE$600,4,FALSE),0)","v":0},{"$f":"IFERROR(VLOOKUP(FU11,MATCHSELEVES!$Y$14:$AE$600,5,FALSE),0)","v":0},{"$f":"IFERROR(VLOOKUP(FU11,MATCHSELEVES!$Y$14:$AF$600,8,FALSE),0)","v":0},{"$f":"IFERROR(VLOOKUP(FU11,MATCHSELEVES!$Y$14:$AG$600,9,FALSE),0)","v":0},"Carole_28",{"$f":"IFERROR(VLOOKUP(GA11,MATCHSELEVES!$Y$14:$AE$600,3,FALSE),0)","v":0},{"$f":"IFERROR(VLOOKUP(GA11,MATCHSELEVES!$Y$14:$AE$600,4,FALSE),0)","v":0},{"$f":"IFERROR(VLOOKUP(GA11,MATCHSELEVES!$Y$14:$AE$600,5,FALSE),0)","v":0},{"$f":"IFERROR(VLOOKUP(GA11,MATCHSELEVES!$Y$14:$AF$600,8,FALSE),0)","v":0},{"$f":"IFERROR(VLOOKUP(GA11,MATCHSELEVES!$Y$14:$AG$600,9,FALSE),0)","v":0},"Carole_29",{"$f":"IFERROR(VLOOKUP(GG11,MATCHSELEVES!$Y$14:$AE$600,3,FALSE),0)","v":0},{"$f":"IFERROR(VLOOKUP(GG11,MATCHSELEVES!$Y$14:$AE$600,4,FALSE),0)","v":0},{"$f":"IFERROR(VLOOKUP(GG11,MATCHSELEVES!$Y$14:$AE$600,5,FALSE),0)","v":0},{"$f":"IFERROR(VLOOKUP(GG11,MATCHSELEVES!$Y$14:$AF$600,8,FALSE),0)","v":0},{"$f":"IFERROR(VLOOKUP(GG11,MATCHSELEVES!$Y$14:$AG$600,9,FALSE),0)","v":0},"Carole_30",{"$f":"IFERROR(VLOOKUP(GM11,MATCHSELEVES!$Y$14:$AE$600,3,FALSE),0)","v":0},{"$f":"IFERROR(VLOOKUP(GM11,MATCHSELEVES!$Y$14:$AE$600,4,FALSE),0)","v":0},{"$f":"IFERROR(VLOOKUP(GM11,MATCHSELEVES!$Y$14:$AE$600,5,FALSE),0)","v":0},{"$f":"IFERROR(VLOOKUP(GM11,MATCHSELEVES!$Y$14:$AF$600,8,FALSE),0)","v":0},{"$f":"IFERROR(VLOOKUP(GM11,MATCHSELEVES!$Y$14:$AG$600,9,FALSE),0)","v":0},"Carole_31",{"$f":"IFERROR(VLOOKUP(GS11,MATCHSELEVES!$Y$14:$AE$600,3,FALSE),0)","v":0},{"$f":"IFERROR(VLOOKUP(GS11,MATCHSELEVES!$Y$14:$AE$600,4,FALSE),0)","v":0},{"$f":"IFERROR(VLOOKUP(GS11,MATCHSELEVES!$Y$14:$AE$600,5,FALSE),0)","v":0},{"$f":"IFERROR(VLOOKUP(GS11,MATCHSELEVES!$Y$14:$AF$600,8,FALSE),0)","v":0},{"$f":"IFERROR(VLOOKUP(GS11,MATCHSELEVES!$Y$14:$AG$600,9,FALSE),0)","v":0},"Carole_32",{"$f":"IFERROR(VLOOKUP(GY11,MATCHSELEVES!$Y$14:$AE$600,3,FALSE),0)","v":0},{"$f":"IFERROR(VLOOKUP(GY11,MATCHSELEVES!$Y$14:$AE$600,4,FALSE),0)","v":0},{"$f":"IFERROR(VLOOKUP(GY11,MATCHSELEVES!$Y$14:$AE$600,5,FALSE),0)","v":0},{"$f":"IFERROR(VLOOKUP(GY11,MATCHSELEVES!$Y$14:$AF$600,8,FALSE),0)","v":0},{"$f":"IFERROR(VLOOKUP(GY11,MATCHSELEVES!$Y$14:$AG$600,9,FALSE),0)","v":0},"Carole_33",{"$f":"IFERROR(VLOOKUP(HE11,MATCHSELEVES!$Y$14:$AE$600,3,FALSE),0)","v":0},{"$f":"IFERROR(VLOOKUP(HE11,MATCHSELEVES!$Y$14:$AE$600,4,FALSE),0)","v":0},{"$f":"IFERROR(VLOOKUP(HE11,MATCHSELEVES!$Y$14:$AE$600,5,FALSE),0)","v":0},{"$f":"IFERROR(VLOOKUP(HE11,MATCHSELEVES!$Y$14:$AF$600,8,FALSE),0)","v":0},{"$f":"IFERROR(VLOOKUP(HE11,MATCHSELEVES!$Y$14:$AG$600,9,FALSE),0)","v":0},"Carole_34",{"$f":"IFERROR(VLOOKUP(HK11,MATCHSELEVES!$Y$14:$AE$600,3,FALSE),0)","v":0},{"$f":"IFERROR(VLOOKUP(HK11,MATCHSELEVES!$Y$14:$AE$600,4,FALSE),0)","v":0},{"$f":"IFERROR(VLOOKUP(HK11,MATCHSELEVES!$Y$14:$AE$600,5,FALSE),0)","v":0},{"$f":"IFERROR(VLOOKUP(HK11,MATCHSELEVES!$Y$14:$AF$600,8,FALSE),0)","v":0},{"$f":"IFERROR(VLOOKUP(HK11,MATCHSELEVES!$Y$14:$AG$600,9,FALSE),0)","v":0},"Carole_35",{"$f":"IFERROR(VLOOKUP(HQ11,MATCHSELEVES!$Y$14:$AE$600,3,FALSE),0)","v":0},{"$f":"IFERROR(VLOOKUP(HQ11,MATCHSELEVES!$Y$14:$AE$600,4,FALSE),0)","v":0},{"$f":"IFERROR(VLOOKUP(HQ11,MATCHSELEVES!$Y$14:$AE$600,5,FALSE),0)","v":0},{"$f":"IFERROR(VLOOKUP(HQ11,MATCHSELEVES!$Y$14:$AF$600,8,FALSE),0)","v":0},{"$f":"IFERROR(VLOOKUP(HQ11,MATCHSELEVES!$Y$14:$AG$600,9,FALSE),0)","v":0},"Carole_36",{"$f":"IFERROR(VLOOKUP(HW11,MATCHSELEVES!$Y$14:$AE$600,3,FALSE),0)","v":0},{"$f":"IFERROR(VLOOKUP(HW11,MATCHSELEVES!$Y$14:$AE$600,4,FALSE),0)","v":0},{"$f":"IFERROR(VLOOKUP(HW11,MATCHSELEVES!$Y$14:$AE$600,5,FALSE),0)","v":0},{"$f":"IFERROR(VLOOKUP(HW11,MATCHSELEVES!$Y$14:$AF$600,8,FALSE),0)","v":0},{"$f":"IFERROR(VLOOKUP(HW11,MATCHSELEVES!$Y$14:$AG$600,9,FALSE),0)","v":0},"Carole_37",{"$f":"IFERROR(VLOOKUP(IC11,MATCHSELEVES!$Y$14:$AE$600,3,FALSE),0)","v":0},{"$f":"IFERROR(VLOOKUP(IC11,MATCHSELEVES!$Y$14:$AE$600,4,FALSE),0)","v":0},{"$f":"IFERROR(VLOOKUP(IC11,MATCHSELEVES!$Y$14:$AE$600,5,FALSE),0)","v":0},{"$f":"IFERROR(VLOOKUP(IC11,MATCHSELEVES!$Y$14:$AF$600,8,FALSE),0)","v":0},{"$f":"IFERROR(VLOOKUP(IC11,MATCHSELEVES!$Y$14:$AG$600,9,FALSE),0)","v":0},"Carole_38",{"$f":"IFERROR(VLOOKUP(II11,MATCHSELEVES!$Y$14:$AE$600,3,FALSE),0)","v":0},{"$f":"IFERROR(VLOOKUP(II11,MATCHSELEVES!$Y$14:$AE$600,4,FALSE),0)","v":0},{"$f":"IFERROR(VLOOKUP(II11,MATCHSELEVES!$Y$14:$AE$600,5,FALSE),0)","v":0},{"$f":"IFERROR(VLOOKUP(II11,MATCHSELEVES!$Y$14:$AF$600,8,FALSE),0)","v":0},{"$f":"IFERROR(VLOOKUP(II11,MATCHSELEVES!$Y$14:$AG$600,9,FALSE),0)","v":0},"Carole_39",{"$f":"IFERROR(VLOOKUP(IO11,MATCHSELEVES!$Y$14:$AE$600,3,FALSE),0)","v":0},{"$f":"IFERROR(VLOOKUP(IO11,MATCHSELEVES!$Y$14:$AE$600,4,FALSE),0)","v":0},{"$f":"IFERROR(VLOOKUP(IO11,MATCHSELEVES!$Y$14:$AE$600,5,FALSE),0)","v":0},{"$f":"IFERROR(VLOOKUP(IO11,MATCHSELEVES!$Y$14:$AF$600,8,FALSE),0)","v":0},{"$f":"IFERROR(VLOOKUP(IO11,MATCHSELEVES!$Y$14:$AG$600,9,FALSE),0)","v":0},"Carole_40",{"$f":"IFERROR(VLOOKUP(IU11,MATCHSELEVES!$Y$14:$AE$600,3,FALSE),0)","v":0},{"$f":"IFERROR(VLOOKUP(IU11,MATCHSELEVES!$Y$14:$AE$600,4,FALSE),0)","v":0},{"$f":"IFERROR(VLOOKUP(IU11,MATCHSELEVES!$Y$14:$AE$600,5,FALSE),0)","v":0},{"$f":"IFERROR(VLOOKUP(IU11,MATCHSELEVES!$Y$14:$AF$600,8,FALSE),0)","v":0},{"$f":"IFERROR(VLOOKUP(IU11,MATCHSELEVES!$Y$14:$AG$600,9,FALSE),0)","v":0},"Carolep_1",{"$f":"IFERROR(VLOOKUP(JA11,MATCHSELEVES!$Y$14:$AE$600,3,FALSE),0)","v":0},{"$f":"IFERROR(VLOOKUP(JA11,MATCHSELEVES!$Y$14:$AE$600,4,FALSE),0)","v":0},{"$f":"IFERROR(VLOOKUP(JA11,MATCHSELEVES!$Y$14:$AE$600,5,FALSE),0)","v":0},{"$f":"IFERROR(VLOOKUP(JA11,MATCHSELEVES!$Y$14:$AF$600,8,FALSE),0)","v":0},{"$f":"IFERROR(VLOOKUP(JA11,MATCHSELEVES!$Y$14:$AG$600,9,FALSE),0)","v":0},"Carolep_2",{"$f":"IFERROR(VLOOKUP(JG11,MATCHSELEVES!$Y$14:$AE$600,3,FALSE),0)","v":0},{"$f":"IFERROR(VLOOKUP(JG11,MATCHSELEVES!$Y$14:$AE$600,4,FALSE),0)","v":0},{"$f":"IFERROR(VLOOKUP(JG11,MATCHSELEVES!$Y$14:$AE$600,5,FALSE),0)","v":0},{"$f":"IFERROR(VLOOKUP(JG11,MATCHSELEVES!$Y$14:$AF$600,8,FALSE),0)","v":0},{"$f":"IFERROR(VLOOKUP(JG11,MATCHSELEVES!$Y$14:$AG$600,9,FALSE),0)","v":0},"Carolep_3",{"$f":"IFERROR(VLOOKUP(JM11,MATCHSELEVES!$Y$14:$AE$600,3,FALSE),0)","v":0},{"$f":"IFERROR(VLOOKUP(JM11,MATCHSELEVES!$Y$14:$AE$600,4,FALSE),0)","v":0},{"$f":"IFERROR(VLOOKUP(JM11,MATCHSELEVES!$Y$14:$AE$600,5,FALSE),0)","v":0},{"$f":"IFERROR(VLOOKUP(JM11,MATCHSELEVES!$Y$14:$AF$600,8,FALSE),0)","v":0},{"$f":"IFERROR(VLOOKUP(JM11,MATCHSELEVES!$Y$14:$AG$600,9,FALSE),0)","v":0},"Carolep_4",{"$f":"IFERROR(VLOOKUP(JS11,MATCHSELEVES!$Y$14:$AE$600,3,FALSE),0)","v":0},{"$f":"IFERROR(VLOOKUP(JS11,MATCHSELEVES!$Y$14:$AE$600,4,FALSE),0)","v":0},{"$f":"IFERROR(VLOOKUP(JS11,MATCHSELEVES!$Y$14:$AE$600,5,FALSE),0)","v":0},{"$f":"IFERROR(VLOOKUP(JS11,MATCHSELEVES!$Y$14:$AF$600,8,FALSE),0)","v":0},{"$f":"IFERROR(VLOOKUP(JS11,MATCHSELEVES!$Y$14:$AG$600,9,FALSE),0)","v":0},"Carolep_5",{"$f":"IFERROR(VLOOKUP(JY11,MATCHSELEVES!$Y$14:$AE$600,3,FALSE),0)","v":0},{"$f":"IFERROR(VLOOKUP(JY11,MATCHSELEVES!$Y$14:$AE$600,4,FALSE),0)","v":0},{"$f":"IFERROR(VLOOKUP(JY11,MATCHSELEVES!$Y$14:$AE$600,5,FALSE),0)","v":0},{"$f":"IFERROR(VLOOKUP(JY11,MATCHSELEVES!$Y$14:$AF$600,8,FALSE),0)","v":0},{"$f":"IFERROR(VLOOKUP(JY11,MATCHSELEVES!$Y$14:$AG$600,9,FALSE),0)","v":0},"Carolep_6",{"$f":"IFERROR(VLOOKUP(KE11,MATCHSELEVES!$Y$14:$AE$600,3,FALSE),0)","v":0},{"$f":"IFERROR(VLOOKUP(KE11,MATCHSELEVES!$Y$14:$AE$600,4,FALSE),0)","v":0},{"$f":"IFERROR(VLOOKUP(KE11,MATCHSELEVES!$Y$14:$AE$600,5,FALSE),0)","v":0},{"$f":"IFERROR(VLOOKUP(KE11,MATCHSELEVES!$Y$14:$AF$600,8,FALSE),0)","v":0},{"$f":"IFERROR(VLOOKUP(KE11,MATCHSELEVES!$Y$14:$AG$600,9,FALSE),0)","v":0},"Carolep_7",{"$f":"IFERROR(VLOOKUP(KK11,MATCHSELEVES!$Y$14:$AE$600,3,FALSE),0)","v":0},{"$f":"IFERROR(VLOOKUP(KK11,MATCHSELEVES!$Y$14:$AE$600,4,FALSE),0)","v":0},{"$f":"IFERROR(VLOOKUP(KK11,MATCHSELEVES!$Y$14:$AE$600,5,FALSE),0)","v":0},{"$f":"IFERROR(VLOOKUP(KK11,MATCHSELEVES!$Y$14:$AF$600,8,FALSE),0)","v":0},{"$f":"IFERROR(VLOOKUP(KK11,MATCHSELEVES!$Y$14:$AG$600,9,FALSE),0)","v":0},"Carolep_8",{"$f":"IFERROR(VLOOKUP(KQ11,MATCHSELEVES!$Y$14:$AE$600,3,FALSE),0)","v":0},{"$f":"IFERROR(VLOOKUP(KQ11,MATCHSELEVES!$Y$14:$AE$600,4,FALSE),0)","v":0},{"$f":"IFERROR(VLOOKUP(KQ11,MATCHSELEVES!$Y$14:$AE$600,5,FALSE),0)","v":0},{"$f":"IFERROR(VLOOKUP(KQ11,MATCHSELEVES!$Y$14:$AF$600,8,FALSE),0)","v":0},{"$f":"IFERROR(VLOOKUP(KQ11,MATCHSELEVES!$Y$14:$AG$600,9,FALSE),0)","v":0},"Carolep_9",{"$f":"IFERROR(VLOOKUP(KW11,MATCHSELEVES!$Y$14:$AE$600,3,FALSE),0)","v":0},{"$f":"IFERROR(VLOOKUP(KW11,MATCHSELEVES!$Y$14:$AE$600,4,FALSE),0)","v":0},{"$f":"IFERROR(VLOOKUP(KW11,MATCHSELEVES!$Y$14:$AE$600,5,FALSE),0)","v":0},{"$f":"IFERROR(VLOOKUP(KW11,MATCHSELEVES!$Y$14:$AF$600,8,FALSE),0)","v":0},{"$f":"IFERROR(VLOOKUP(KW11,MATCHSELEVES!$Y$14:$AG$600,9,FALSE),0)","v":0},"Carolep_10",{"$f":"IFERROR(VLOOKUP(LC11,MATCHSELEVES!$Y$14:$AE$600,3,FALSE),0)","v":0},{"$f":"IFERROR(VLOOKUP(LC11,MATCHSELEVES!$Y$14:$AE$600,4,FALSE),0)","v":0},{"$f":"IFERROR(VLOOKUP(LC11,MATCHSELEVES!$Y$14:$AE$600,5,FALSE),0)","v":0},{"$f":"IFERROR(VLOOKUP(LC11,MATCHSELEVES!$Y$14:$AF$600,8,FALSE),0)","v":0},{"$f":"IFERROR(VLOOKUP(LC11,MATCHSELEVES!$Y$14:$AG$600,9,FALSE),0)","v":0},"Carolep_11",{"$f":"IFERROR(VLOOKUP(LI11,MATCHSELEVES!$Y$14:$AE$600,3,FALSE),0)","v":0},{"$f":"IFERROR(VLOOKUP(LI11,MATCHSELEVES!$Y$14:$AE$600,4,FALSE),0)","v":0},{"$f":"IFERROR(VLOOKUP(LI11,MATCHSELEVES!$Y$14:$AE$600,5,FALSE),0)","v":0},{"$f":"IFERROR(VLOOKUP(LI11,MATCHSELEVES!$Y$14:$AF$600,8,FALSE),0)","v":0},{"$f":"IFERROR(VLOOKUP(LI11,MATCHSELEVES!$Y$14:$AG$600,9,FALSE),0)","v":0},"Carolep_12",{"$f":"IFERROR(VLOOKUP(LO11,MATCHSELEVES!$Y$14:$AE$600,3,FALSE),0)","v":0},{"$f":"IFERROR(VLOOKUP(LO11,MATCHSELEVES!$Y$14:$AE$600,4,FALSE),0)","v":0},{"$f":"IFERROR(VLOOKUP(LO11,MATCHSELEVES!$Y$14:$AE$600,5,FALSE),0)","v":0},{"$f":"IFERROR(VLOOKUP(LO11,MATCHSELEVES!$Y$14:$AF$600,8,FALSE),0)","v":0},{"$f":"IFERROR(VLOOKUP(LO11,MATCHSELEVES!$Y$14:$AG$600,9,FALSE),0)","v":0},"Carolep_13",{"$f":"IFERROR(VLOOKUP(LU11,MATCHSELEVES!$Y$14:$AE$600,3,FALSE),0)","v":0},{"$f":"IFERROR(VLOOKUP(LU11,MATCHSELEVES!$Y$14:$AE$600,4,FALSE),0)","v":0},{"$f":"IFERROR(VLOOKUP(LU11,MATCHSELEVES!$Y$14:$AE$600,5,FALSE),0)","v":0},{"$f":"IFERROR(VLOOKUP(LU11,MATCHSELEVES!$Y$14:$AF$600,8,FALSE),0)","v":0},{"$f":"IFERROR(VLOOKUP(LU11,MATCHSELEVES!$Y$14:$AG$600,9,FALSE),0)","v":0},"Carolep_14",{"$f":"IFERROR(VLOOKUP(MA11,MATCHSELEVES!$Y$14:$AE$600,3,FALSE),0)","v":0},{"$f":"IFERROR(VLOOKUP(MA11,MATCHSELEVES!$Y$14:$AE$600,4,FALSE),0)","v":0},{"$f":"IFERROR(VLOOKUP(MA11,MATCHSELEVES!$Y$14:$AE$600,5,FALSE),0)","v":0},{"$f":"IFERROR(VLOOKUP(MA11,MATCHSELEVES!$Y$14:$AF$600,8,FALSE),0)","v":0},{"$f":"IFERROR(VLOOKUP(MA11,MATCHSELEVES!$Y$14:$AG$600,9,FALSE),0)","v":0},"Carolep_15",{"$f":"IFERROR(VLOOKUP(MG11,MATCHSELEVES!$Y$14:$AE$600,3,FALSE),0)","v":0},{"$f":"IFERROR(VLOOKUP(MG11,MATCHSELEVES!$Y$14:$AE$600,4,FALSE),0)","v":0},{"$f":"IFERROR(VLOOKUP(MG11,MATCHSELEVES!$Y$14:$AE$600,5,FALSE),0)","v":0},{"$f":"IFERROR(VLOOKUP(MG11,MATCHSELEVES!$Y$14:$AF$600,8,FALSE),0)","v":0},{"$f":"IFERROR(VLOOKUP(MG11,MATCHSELEVES!$Y$14:$AG$600,9,FALSE),0)","v":0},"Carolep_16",{"$f":"IFERROR(VLOOKUP(MM11,MATCHSELEVES!$Y$14:$AE$600,3,FALSE),0)","v":0},{"$f":"IFERROR(VLOOKUP(MM11,MATCHSELEVES!$Y$14:$AE$600,4,FALSE),0)","v":0},{"$f":"IFERROR(VLOOKUP(MM11,MATCHSELEVES!$Y$14:$AE$600,5,FALSE),0)","v":0},{"$f":"IFERROR(VLOOKUP(MM11,MATCHSELEVES!$Y$14:$AF$600,8,FALSE),0)","v":0},{"$f":"IFERROR(VLOOKUP(MM11,MATCHSELEVES!$Y$14:$AG$600,9,FALSE),0)","v":0},"Carolep_17",{"$f":"IFERROR(VLOOKUP(MS11,MATCHSELEVES!$Y$14:$AE$600,3,FALSE),0)","v":0},{"$f":"IFERROR(VLOOKUP(MS11,MATCHSELEVES!$Y$14:$AE$600,4,FALSE),0)","v":0},{"$f":"IFERROR(VLOOKUP(MS11,MATCHSELEVES!$Y$14:$AE$600,5,FALSE),0)","v":0},{"$f":"IFERROR(VLOOKUP(MS11,MATCHSELEVES!$Y$14:$AF$600,8,FALSE),0)","v":0},{"$f":"IFERROR(VLOOKUP(MS11,MATCHSELEVES!$Y$14:$AG$600,9,FALSE),0)","v":0},"Carolep_18",{"$f":"IFERROR(VLOOKUP(MY11,MATCHSELEVES!$Y$14:$AE$600,3,FALSE),0)","v":0},{"$f":"IFERROR(VLOOKUP(MY11,MATCHSELEVES!$Y$14:$AE$600,4,FALSE),0)","v":0},{"$f":"IFERROR(VLOOKUP(MY11,MATCHSELEVES!$Y$14:$AE$600,5,FALSE),0)","v":0},{"$f":"IFERROR(VLOOKUP(MY11,MATCHSELEVES!$Y$14:$AF$600,8,FALSE),0)","v":0},{"$f":"IFERROR(VLOOKUP(MY11,MATCHSELEVES!$Y$14:$AG$600,9,FALSE),0)","v":0},"Carolep_19",{"$f":"IFERROR(VLOOKUP(NE11,MATCHSELEVES!$Y$14:$AE$600,3,FALSE),0)","v":0},{"$f":"IFERROR(VLOOKUP(NE11,MATCHSELEVES!$Y$14:$AE$600,4,FALSE),0)","v":0},{"$f":"IFERROR(VLOOKUP(NE11,MATCHSELEVES!$Y$14:$AE$600,5,FALSE),0)","v":0},{"$f":"IFERROR(VLOOKUP(NE11,MATCHSELEVES!$Y$14:$AF$600,8,FALSE),0)","v":0},{"$f":"IFERROR(VLOOKUP(NE11,MATCHSELEVES!$Y$14:$AG$600,9,FALSE),0)","v":0},"Carolep_20",{"$f":"IFERROR(VLOOKUP(NK11,MATCHSELEVES!$Y$14:$AE$600,3,FALSE),0)","v":0},{"$f":"IFERROR(VLOOKUP(NK11,MATCHSELEVES!$Y$14:$AE$600,4,FALSE),0)","v":0},{"$f":"IFERROR(VLOOKUP(NK11,MATCHSELEVES!$Y$14:$AE$600,5,FALSE),0)","v":0},{"$f":"IFERROR(VLOOKUP(NK11,MATCHSELEVES!$Y$14:$AF$600,8,FALSE),0)","v":0},{"$f":"IFERROR(VLOOKUP(NK11,MATCHSELEVES!$Y$14:$AG$600,9,FALSE),0)","v":0},"Carolep_21",{"$f":"IFERROR(VLOOKUP(NQ11,MATCHSELEVES!$Y$14:$AE$600,3,FALSE),0)","v":0},{"$f":"IFERROR(VLOOKUP(NQ11,MATCHSELEVES!$Y$14:$AE$600,4,FALSE),0)","v":0},{"$f":"IFERROR(VLOOKUP(NQ11,MATCHSELEVES!$Y$14:$AE$600,5,FALSE),0)","v":0},{"$f":"IFERROR(VLOOKUP(NQ11,MATCHSELEVES!$Y$14:$AF$600,8,FALSE),0)","v":0},{"$f":"IFERROR(VLOOKUP(NQ11,MATCHSELEVES!$Y$14:$AG$600,9,FALSE),0)","v":0},"Carolep_22",{"$f":"IFERROR(VLOOKUP(NW11,MATCHSELEVES!$Y$14:$AE$600,3,FALSE),0)","v":0},{"$f":"IFERROR(VLOOKUP(NW11,MATCHSELEVES!$Y$14:$AE$600,4,FALSE),0)","v":0},{"$f":"IFERROR(VLOOKUP(NW11,MATCHSELEVES!$Y$14:$AE$600,5,FALSE),0)","v":0},{"$f":"IFERROR(VLOOKUP(NW11,MATCHSELEVES!$Y$14:$AF$600,8,FALSE),0)","v":0},{"$f":"IFERROR(VLOOKUP(NW11,MATCHSELEVES!$Y$14:$AG$600,9,FALSE),0)","v":0},"Carolep_23",{"$f":"IFERROR(VLOOKUP(OC11,MATCHSELEVES!$Y$14:$AE$600,3,FALSE),0)","v":0},{"$f":"IFERROR(VLOOKUP(OC11,MATCHSELEVES!$Y$14:$AE$600,4,FALSE),0)","v":0},{"$f":"IFERROR(VLOOKUP(OC11,MATCHSELEVES!$Y$14:$AE$600,5,FALSE),0)","v":0},{"$f":"IFERROR(VLOOKUP(OC11,MATCHSELEVES!$Y$14:$AF$600,8,FALSE),0)","v":0},{"$f":"IFERROR(VLOOKUP(OC11,MATCHSELEVES!$Y$14:$AG$600,9,FALSE),0)","v":0},"Carolep_24",{"$f":"IFERROR(VLOOKUP(OI11,MATCHSELEVES!$Y$14:$AE$600,3,FALSE),0)","v":0},{"$f":"IFERROR(VLOOKUP(OI11,MATCHSELEVES!$Y$14:$AE$600,4,FALSE),0)","v":0},{"$f":"IFERROR(VLOOKUP(OI11,MATCHSELEVES!$Y$14:$AE$600,5,FALSE),0)","v":0},{"$f":"IFERROR(VLOOKUP(OI11,MATCHSELEVES!$Y$14:$AF$600,8,FALSE),0)","v":0},{"$f":"IFERROR(VLOOKUP(OI11,MATCHSELEVES!$Y$14:$AG$600,9,FALSE),0)","v":0},"Carolep_25",{"$f":"IFERROR(VLOOKUP(OO11,MATCHSELEVES!$Y$14:$AE$600,3,FALSE),0)","v":0},{"$f":"IFERROR(VLOOKUP(OO11,MATCHSELEVES!$Y$14:$AE$600,4,FALSE),0)","v":0},{"$f":"IFERROR(VLOOKUP(OO11,MATCHSELEVES!$Y$14:$AE$600,5,FALSE),0)","v":0},{"$f":"IFERROR(VLOOKUP(OO11,MATCHSELEVES!$Y$14:$AF$600,8,FALSE),0)","v":0},{"$f":"IFERROR(VLOOKUP(OO11,MATCHSELEVES!$Y$14:$AG$600,9,FALSE),0)","v":0},"Carolep_26",{"$f":"IFERROR(VLOOKUP(OU11,MATCHSELEVES!$Y$14:$AE$600,3,FALSE),0)","v":0},{"$f":"IFERROR(VLOOKUP(OU11,MATCHSELEVES!$Y$14:$AE$600,4,FALSE),0)","v":0},{"$f":"IFERROR(VLOOKUP(OU11,MATCHSELEVES!$Y$14:$AE$600,5,FALSE),0)","v":0},{"$f":"IFERROR(VLOOKUP(OU11,MATCHSELEVES!$Y$14:$AF$600,8,FALSE),0)","v":0},{"$f":"IFERROR(VLOOKUP(OU11,MATCHSELEVES!$Y$14:$AG$600,9,FALSE),0)","v":0},"Carolep_27",{"$f":"IFERROR(VLOOKUP(PA11,MATCHSELEVES!$Y$14:$AE$600,3,FALSE),0)","v":0},{"$f":"IFERROR(VLOOKUP(PA11,MATCHSELEVES!$Y$14:$AE$600,4,FALSE),0)","v":0},{"$f":"IFERROR(VLOOKUP(PA11,MATCHSELEVES!$Y$14:$AE$600,5,FALSE),0)","v":0},{"$f":"IFERROR(VLOOKUP(PA11,MATCHSELEVES!$Y$14:$AF$600,8,FALSE),0)","v":0},{"$f":"IFERROR(VLOOKUP(PA11,MATCHSELEVES!$Y$14:$AG$600,9,FALSE),0)","v":0},"Carolep_28",{"$f":"IFERROR(VLOOKUP(PG11,MATCHSELEVES!$Y$14:$AE$600,3,FALSE),0)","v":0},{"$f":"IFERROR(VLOOKUP(PG11,MATCHSELEVES!$Y$14:$AE$600,4,FALSE),0)","v":0},{"$f":"IFERROR(VLOOKUP(PG11,MATCHSELEVES!$Y$14:$AE$600,5,FALSE),0)","v":0},{"$f":"IFERROR(VLOOKUP(PG11,MATCHSELEVES!$Y$14:$AF$600,8,FALSE),0)","v":0},{"$f":"IFERROR(VLOOKUP(PG11,MATCHSELEVES!$Y$14:$AG$600,9,FALSE),0)","v":0},"Carolep_29",{"$f":"IFERROR(VLOOKUP(PM11,MATCHSELEVES!$Y$14:$AE$600,3,FALSE),0)","v":0},{"$f":"IFERROR(VLOOKUP(PM11,MATCHSELEVES!$Y$14:$AE$600,4,FALSE),0)","v":0},{"$f":"IFERROR(VLOOKUP(PM11,MATCHSELEVES!$Y$14:$AE$600,5,FALSE),0)","v":0},{"$f":"IFERROR(VLOOKUP(PM11,MATCHSELEVES!$Y$14:$AF$600,8,FALSE),0)","v":0},{"$f":"IFERROR(VLOOKUP(PM11,MATCHSELEVES!$Y$14:$AG$600,9,FALSE),0)","v":0},"Carolep_30",{"$f":"IFERROR(VLOOKUP(PS11,MATCHSELEVES!$Y$14:$AE$600,3,FALSE),0)","v":0},{"$f":"IFERROR(VLOOKUP(PS11,MATCHSELEVES!$Y$14:$AE$600,4,FALSE),0)","v":0},{"$f":"IFERROR(VLOOKUP(PS11,MATCHSELEVES!$Y$14:$AE$600,5,FALSE),0)","v":0},{"$f":"IFERROR(VLOOKUP(PS11,MATCHSELEVES!$Y$14:$AF$600,8,FALSE),0)","v":0},{"$f":"IFERROR(VLOOKUP(PS11,MATCHSELEVES!$Y$14:$AG$600,9,FALSE),0)","v":0},"Carolep_31",{"$f":"IFERROR(VLOOKUP(PY11,MATCHSELEVES!$Y$14:$AE$600,3,FALSE),0)","v":0},{"$f":"IFERROR(VLOOKUP(PY11,MATCHSELEVES!$Y$14:$AE$600,4,FALSE),0)","v":0},{"$f":"IFERROR(VLOOKUP(PY11,MATCHSELEVES!$Y$14:$AE$600,5,FALSE),0)","v":0},{"$f":"IFERROR(VLOOKUP(PY11,MATCHSELEVES!$Y$14:$AF$600,8,FALSE),0)","v":0},{"$f":"IFERROR(VLOOKUP(PY11,MATCHSELEVES!$Y$14:$AG$600,9,FALSE),0)","v":0},"Carolep_32",{"$f":"IFERROR(VLOOKUP(QE11,MATCHSELEVES!$Y$14:$AE$600,3,FALSE),0)","v":0},{"$f":"IFERROR(VLOOKUP(QE11,MATCHSELEVES!$Y$14:$AE$600,4,FALSE),0)","v":0},{"$f":"IFERROR(VLOOKUP(QE11,MATCHSELEVES!$Y$14:$AE$600,5,FALSE),0)","v":0},{"$f":"IFERROR(VLOOKUP(QE11,MATCHSELEVES!$Y$14:$AF$600,8,FALSE),0)","v":0},{"$f":"IFERROR(VLOOKUP(QE11,MATCHSELEVES!$Y$14:$AG$600,9,FALSE),0)","v":0},"Carolep_33",{"$f":"IFERROR(VLOOKUP(QK11,MATCHSELEVES!$Y$14:$AE$600,3,FALSE),0)","v":0},{"$f":"IFERROR(VLOOKUP(QK11,MATCHSELEVES!$Y$14:$AE$600,4,FALSE),0)","v":0},{"$f":"IFERROR(VLOOKUP(QK11,MATCHSELEVES!$Y$14:$AE$600,5,FALSE),0)","v":0},{"$f":"IFERROR(VLOOKUP(QK11,MATCHSELEVES!$Y$14:$AF$600,8,FALSE),0)","v":0},{"$f":"IFERROR(VLOOKUP(QK11,MATCHSELEVES!$Y$14:$AG$600,9,FALSE),0)","v":0},"Carolep_34",{"$f":"IFERROR(VLOOKUP(QQ11,MATCHSELEVES!$Y$14:$AE$600,3,FALSE),0)","v":0},{"$f":"IFERROR(VLOOKUP(QQ11,MATCHSELEVES!$Y$14:$AE$600,4,FALSE),0)","v":0},{"$f":"IFERROR(VLOOKUP(QQ11,MATCHSELEVES!$Y$14:$AE$600,5,FALSE),0)","v":0},{"$f":"IFERROR(VLOOKUP(QQ11,MATCHSELEVES!$Y$14:$AF$600,8,FALSE),0)","v":0},{"$f":"IFERROR(VLOOKUP(QQ11,MATCHSELEVES!$Y$14:$AG$600,9,FALSE),0)","v":0},"Carolep_35",{"$f":"IFERROR(VLOOKUP(QW11,MATCHSELEVES!$Y$14:$AE$600,3,FALSE),0)","v":0},{"$f":"IFERROR(VLOOKUP(QW11,MATCHSELEVES!$Y$14:$AE$600,4,FALSE),0)","v":0},{"$f":"IFERROR(VLOOKUP(QW11,MATCHSELEVES!$Y$14:$AE$600,5,FALSE),0)","v":0},{"$f":"IFERROR(VLOOKUP(QW11,MATCHSELEVES!$Y$14:$AF$600,8,FALSE),0)","v":0},{"$f":"IFERROR(VLOOKUP(QW11,MATCHSELEVES!$Y$14:$AG$600,9,FALSE),0)","v":0},"Carolep_36",{"$f":"IFERROR(VLOOKUP(RC11,MATCHSELEVES!$Y$14:$AE$600,3,FALSE),0)","v":0},{"$f":"IFERROR(VLOOKUP(RC11,MATCHSELEVES!$Y$14:$AE$600,4,FALSE),0)","v":0},{"$f":"IFERROR(VLOOKUP(RC11,MATCHSELEVES!$Y$14:$AE$600,5,FALSE),0)","v":0},{"$f":"IFERROR(VLOOKUP(RC11,MATCHSELEVES!$Y$14:$AF$600,8,FALSE),0)","v":0},{"$f":"IFERROR(VLOOKUP(RC11,MATCHSELEVES!$Y$14:$AG$600,9,FALSE),0)","v":0},"Carolep_37",{"$f":"IFERROR(VLOOKUP(RI11,MATCHSELEVES!$Y$14:$AE$600,3,FALSE),0)","v":0},{"$f":"IFERROR(VLOOKUP(RI11,MATCHSELEVES!$Y$14:$AE$600,4,FALSE),0)","v":0},{"$f":"IFERROR(VLOOKUP(RI11,MATCHSELEVES!$Y$14:$AE$600,5,FALSE),0)","v":0},{"$f":"IFERROR(VLOOKUP(RI11,MATCHSELEVES!$Y$14:$AF$600,8,FALSE),0)","v":0},{"$f":"IFERROR(VLOOKUP(RI11,MATCHSELEVES!$Y$14:$AG$600,9,FALSE),0)","v":0},"Carolep_38",{"$f":"IFERROR(VLOOKUP(RO11,MATCHSELEVES!$Y$14:$AE$600,3,FALSE),0)","v":0},{"$f":"IFERROR(VLOOKUP(RO11,MATCHSELEVES!$Y$14:$AE$600,4,FALSE),0)","v":0},{"$f":"IFERROR(VLOOKUP(RO11,MATCHSELEVES!$Y$14:$AE$600,5,FALSE),0)","v":0},{"$f":"IFERROR(VLOOKUP(RO11,MATCHSELEVES!$Y$14:$AF$600,8,FALSE),0)","v":0},{"$f":"IFERROR(VLOOKUP(RO11,MATCHSELEVES!$Y$14:$AG$600,9,FALSE),0)","v":0},"Carolep_39",{"$f":"IFERROR(VLOOKUP(RU11,MATCHSELEVES!$Y$14:$AE$600,3,FALSE),0)","v":0},{"$f":"IFERROR(VLOOKUP(RU11,MATCHSELEVES!$Y$14:$AE$600,4,FALSE),0)","v":0},{"$f":"IFERROR(VLOOKUP(RU11,MATCHSELEVES!$Y$14:$AE$600,5,FALSE),0)","v":0},{"$f":"IFERROR(VLOOKUP(RU11,MATCHSELEVES!$Y$14:$AF$600,8,FALSE),0)","v":0},{"$f":"IFERROR(VLOOKUP(RU11,MATCHSELEVES!$Y$14:$AG$600,9,FALSE),0)","v":0},"Carolep_40",{"$f":"IFERROR(VLOOKUP(SA11,MATCHSELEVES!$Y$14:$AE$600,3,FALSE),0)","v":0},{"$f":"IFERROR(VLOOKUP(SA11,MATCHSELEVES!$Y$14:$AE$600,4,FALSE),0)","v":0},{"$f":"IFERROR(VLOOKUP(SA11,MATCHSELEVES!$Y$14:$AE$600,5,FALSE),0)","v":0},{"$f":"IFERROR(VLOOKUP(SA11,MATCHSELEVES!$Y$14:$AF$600,8,FALSE),0)","v":0},{"$f":"IFERROR(VLOOKUP(SA11,MATCHSELEVES!$Y$14:$AG$600,9,FALSE),0)","v":0}]
[9,null,"Caroline",9,null,null,{"$f":"COUNTIF(MATCHSELEVES!$Z$14:$Z$600,C12)+COUNTIF(MATCHSELEVES!$Z$14:$Z$600,$C12&\"p\")","v":0},1,{"$f":"COUNTIF(MATCHSELEVES!$F$14:$H$249,C12)","v":0},1,0,1,{"$f":"IFERROR(M55/Tableau10[[#This Row],[Nombre de matchs joués]],0)","v":0},{"$f":"IF(Tableau10[[#This Row],[Nombre de points encaissés]]=0,$C$45,SUMPRODUCT((M$4:M$43<M12)*(M$4:M$43<>0))+1)","v":40},0,1,{"$f":"(Tableau10[[#This Row],[CLASSEMENT1]]+Tableau10[[#This Row],[CLASSEMENT2]]+Tableau10[[#This Row],[CLASSEMENT3]]+Tableau10[[#This Row],[CLASSEMENT4]]+Tableau10[[#This Row],[CLASSEMENT5]]+Tableau10[[#This Row],[CLASSEMENT6]])/6","v":8.8333333333333339},{"$f":"RANK(Tableau10[[#This Row],[MOYENNE CLASSEMENTS]],Tableau10[MOYENNE CLASSEMENTS],1)","v":9},null,{"$f":"Tableau10[[#This Row],[CLASSEMENT1]]","v":9},"Caroline_1",{"$f":"IFERROR(VLOOKUP(U12,MATCHSELEVES!$Y$14:$AE$600,3,FALSE),0)","v":0},{"$f":"IFERROR(VLOOKUP(U12,MATCHSELEVES!$Y$14:$AE$600,4,FALSE),0)","v":0},{"$f":"IFERROR(VLOOKUP(U12,MATCHSELEVES!$Y$14:$AE$600,5,FALSE),0)","v":0},{"$f":"IFERROR(VLOOKUP(U12,MATCHSELEVES!$Y$14:$AF$600,8,FALSE),0)","v":0},{"$f":"IFERROR(VLOOKUP(U12,MATCHSELEVES!$Y$14:$AG$600,9,FALSE),0)","v":0},"Caroline_2",{"$f":"IFERROR(VLOOKUP(AA12,MATCHSELEVES!$Y$14:$AE$600,3,FALSE),0)","v":0},{"$f":"IFERROR(VLOOKUP(AA12,MATCHSELEVES!$Y$14:$AE$600,4,FALSE),0)","v":0},{"$f":"IFERROR(VLOOKUP(AA12,MATCHSELEVES!$Y$14:$AE$600,5,FALSE),0)","v":0},{"$f":"IFERROR(VLOOKUP(AA12,MATCHSELEVES!$Y$14:$AF$600,8,FALSE),0)","v":0},{"$f":"IFERROR(VLOOKUP(AA12,MATCHSELEVES!$Y$14:$AG$600,9,FALSE),0)","v":0},"Caroline_3",{"$f":"IFERROR(VLOOKUP(AG12,MATCHSELEVES!$Y$14:$AE$600,3,FALSE),0)","v":0},{"$f":"IFERROR(VLOOKUP(AG12,MATCHSELEVES!$Y$14:$AE$600,4,FALSE),0)","v":0},{"$f":"IFERROR(VLOOKUP(AG12,MATCHSELEVES!$Y$14:$AE$600,5,FALSE),0)","v":0},{"$f":"IFERROR(VLOOKUP(AG12,MATCHSELEVES!$Y$14:$AF$600,8,FALSE),0)","v":0},{"$f":"IFERROR(VLOOKUP(AG12,MATCHSELEVES!$Y$14:$AG$600,9,FALSE),0)","v":0},"Caroline_4",{"$f":"IFERROR(VLOOKUP(AM12,MATCHSELEVES!$Y$14:$AE$600,3,FALSE),0)","v":0},{"$f":"IFERROR(VLOOKUP(AM12,MATCHSELEVES!$Y$14:$AE$600,4,FALSE),0)","v":0},{"$f":"IFERROR(VLOOKUP(AM12,MATCHSELEVES!$Y$14:$AE$600,5,FALSE),0)","v":0},{"$f":"IFERROR(VLOOKUP(AM12,MATCHSELEVES!$Y$14:$AF$600,8,FALSE),0)","v":0},{"$f":"IFERROR(VLOOKUP(AM12,MATCHSELEVES!$Y$14:$AG$600,9,FALSE),0)","v":0},"Caroline_5",{"$f":"IFERROR(VLOOKUP(AS12,MATCHSELEVES!$Y$14:$AE$600,3,FALSE),0)","v":0},{"$f":"IFERROR(VLOOKUP(AS12,MATCHSELEVES!$Y$14:$AE$600,4,FALSE),0)","v":0},{"$f":"IFERROR(VLOOKUP(AS12,MATCHSELEVES!$Y$14:$AE$600,5,FALSE),0)","v":0},{"$f":"IFERROR(VLOOKUP(AS12,MATCHSELEVES!$Y$14:$AF$600,8,FALSE),0)","v":0},{"$f":"IFERROR(VLOOKUP(AS12,MATCHSELEVES!$Y$14:$AG$600,9,FALSE),0)","v":0},"Caroline_6",{"$f":"IFERROR(VLOOKUP(AY12,MATCHSELEVES!$Y$14:$AE$600,3,FALSE),0)","v":0},{"$f":"IFERROR(VLOOKUP(AY12,MATCHSELEVES!$Y$14:$AE$600,4,FALSE),0)","v":0},{"$f":"IFERROR(VLOOKUP(AY12,MATCHSELEVES!$Y$14:$AE$600,5,FALSE),0)","v":0},{"$f":"IFERROR(VLOOKUP(AY12,MATCHSELEVES!$Y$14:$AF$600,8,FALSE),0)","v":0},{"$f":"IFERROR(VLOOKUP(AY12,MATCHSELEVES!$Y$14:$AG$600,9,FALSE),0)","v":0},"Caroline_7",{"$f":"IFERROR(VLOOKUP(BE12,MATCHSELEVES!$Y$14:$AE$600,3,FALSE),0)","v":0},{"$f":"IFERROR(VLOOKUP(BE12,MATCHSELEVES!$Y$14:$AE$600,4,FALSE),0)","v":0},{"$f":"IFERROR(VLOOKUP(BE12,MATCHSELEVES!$Y$14:$AE$600,5,FALSE),0)","v":0},{"$f":"IFERROR(VLOOKUP(BE12,MATCHSELEVES!$Y$14:$AF$600,8,FALSE),0)","v":0},{"$f":"IFERROR(VLOOKUP(BE12,MATCHSELEVES!$Y$14:$AG$600,9,FALSE),0)","v":0},"Caroline_8",{"$f":"IFERROR(VLOOKUP(BK12,MATCHSELEVES!$Y$14:$AE$600,3,FALSE),0)","v":0},{"$f":"IFERROR(VLOOKUP(BK12,MATCHSELEVES!$Y$14:$AE$600,4,FALSE),0)","v":0},{"$f":"IFERROR(VLOOKUP(BK12,MATCHSELEVES!$Y$14:$AE$600,5,FALSE),0)","v":0},{"$f":"IFERROR(VLOOKUP(BK12,MATCHSELEVES!$Y$14:$AF$600,8,FALSE),0)","v":0},{"$f":"IFERROR(VLOOKUP(BK12,MATCHSELEVES!$Y$14:$AG$600,9,FALSE),0)","v":0},"Caroline_9",{"$f":"IFERROR(VLOOKUP(BQ12,MATCHSELEVES!$Y$14:$AE$600,3,FALSE),0)","v":0},{"$f":"IFERROR(VLOOKUP(BQ12,MATCHSELEVES!$Y$14:$AE$600,4,FALSE),0)","v":0},{"$f":"IFERROR(VLOOKUP(BQ12,MATCHSELEVES!$Y$14:$AE$600,5,FALSE),0)","v":0},{"$f":"IFERROR(VLOOKUP(BQ12,MATCHSELEVES!$Y$14:$AF$600,8,FALSE),0)","v":0},{"$f":"IFERROR(VLOOKUP(BQ12,MATCHSELEVES!$Y$14:$AG$600,9,FALSE),0)","v":0},"Caroline_10",{"$f":"IFERROR(VLOOKUP(BW12,MATCHSELEVES!$Y$14:$AE$600,3,FALSE),0)","v":0},{"$f":"IFERROR(VLOOKUP(BW12,MATCHSELEVES!$Y$14:$AE$600,4,FALSE),0)","v":0},{"$f":"IFERROR(VLOOKUP(BW12,MATCHSELEVES!$Y$14:$AE$600,5,FALSE),0)","v":0},{"$f":"IFERROR(VLOOKUP(BW12,MATCHSELEVES!$Y$14:$AF$600,8,FALSE),0)","v":0},{"$f":"IFERROR(VLOOKUP(BW12,MATCHSELEVES!$Y$14:$AG$600,9,FALSE),0)","v":0},"Caroline_11",{"$f":"IFERROR(VLOOKUP(CC12,MATCHSELEVES!$Y$14:$AE$600,3,FALSE),0)","v":0},{"$f":"IFERROR(VLOOKUP(CC12,MATCHSELEVES!$Y$14:$AE$600,4,FALSE),0)","v":0},{"$f":"IFERROR(VLOOKUP(CC12,MATCHSELEVES!$Y$14:$AE$600,5,FALSE),0)","v":0},{"$f":"IFERROR(VLOOKUP(CC12,MATCHSELEVES!$Y$14:$AF$600,8,FALSE),0)","v":0},{"$f":"IFERROR(VLOOKUP(CC12,MATCHSELEVES!$Y$14:$AG$600,9,FALSE),0)","v":0},"Caroline_12",{"$f":"IFERROR(VLOOKUP(CI12,MATCHSELEVES!$Y$14:$AE$600,3,FALSE),0)","v":0},{"$f":"IFERROR(VLOOKUP(CI12,MATCHSELEVES!$Y$14:$AE$600,4,FALSE),0)","v":0},{"$f":"IFERROR(VLOOKUP(CI12,MATCHSELEVES!$Y$14:$AE$600,5,FALSE),0)","v":0},{"$f":"IFERROR(VLOOKUP(CI12,MATCHSELEVES!$Y$14:$AF$600,8,FALSE),0)","v":0},{"$f":"IFERROR(VLOOKUP(CI12,MATCHSELEVES!$Y$14:$AG$600,9,FALSE),0)","v":0},"Caroline_13",{"$f":"IFERROR(VLOOKUP(CO12,MATCHSELEVES!$Y$14:$AE$600,3,FALSE),0)","v":0},{"$f":"IFERROR(VLOOKUP(CO12,MATCHSELEVES!$Y$14:$AE$600,4,FALSE),0)","v":0},{"$f":"IFERROR(VLOOKUP(CO12,MATCHSELEVES!$Y$14:$AE$600,5,FALSE),0)","v":0},{"$f":"IFERROR(VLOOKUP(CO12,MATCHSELEVES!$Y$14:$AF$600,8,FALSE),0)","v":0},{"$f":"IFERROR(VLOOKUP(CO12,MATCHSELEVES!$Y$14:$AG$600,9,FALSE),0)","v":0},"Caroline_14",{"$f":"IFERROR(VLOOKUP(CU12,MATCHSELEVES!$Y$14:$AE$600,3,FALSE),0)","v":0},{"$f":"IFERROR(VLOOKUP(CU12,MATCHSELEVES!$Y$14:$AE$600,4,FALSE),0)","v":0},{"$f":"IFERROR(VLOOKUP(CU12,MATCHSELEVES!$Y$14:$AE$600,5,FALSE),0)","v":0},{"$f":"IFERROR(VLOOKUP(CU12,MATCHSELEVES!$Y$14:$AF$600,8,FALSE),0)","v":0},{"$f":"IFERROR(VLOOKUP(CU12,MATCHSELEVES!$Y$14:$AG$600,9,FALSE),0)","v":0},"Caroline_15",{"$f":"IFERROR(VLOOKUP(DA12,MATCHSELEVES!$Y$14:$AE$600,3,FALSE),0)","v":0},{"$f":"IFERROR(VLOOKUP(DA12,MATCHSELEVES!$Y$14:$AE$600,4,FALSE),0)","v":0},{"$f":"IFERROR(VLOOKUP(DA12,MATCHSELEVES!$Y$14:$AE$600,5,FALSE),0)","v":0},{"$f":"IFERROR(VLOOKUP(DA12,MATCHSELEVES!$Y$14:$AF$600,8,FALSE),0)","v":0},{"$f":"IFERROR(VLOOKUP(DA12,MATCHSELEVES!$Y$14:$AG$600,9,FALSE),0)","v":0},"Caroline_16",{"$f":"IFERROR(VLOOKUP(DG12,MATCHSELEVES!$Y$14:$AE$600,3,FALSE),0)","v":0},{"$f":"IFERROR(VLOOKUP(DG12,MATCHSELEVES!$Y$14:$AE$600,4,FALSE),0)","v":0},{"$f":"IFERROR(VLOOKUP(DG12,MATCHSELEVES!$Y$14:$AE$600,5,FALSE),0)","v":0},{"$f":"IFERROR(VLOOKUP(DG12,MATCHSELEVES!$Y$14:$AF$600,8,FALSE),0)","v":0},{"$f":"IFERROR(VLOOKUP(DG12,MATCHSELEVES!$Y$14:$AG$600,9,FALSE),0)","v":0},"Caroline_17",{"$f":"IFERROR(VLOOKUP(DM12,MATCHSELEVES!$Y$14:$AE$600,3,FALSE),0)","v":0},{"$f":"IFERROR(VLOOKUP(DM12,MATCHSELEVES!$Y$14:$AE$600,4,FALSE),0)","v":0},{"$f":"IFERROR(VLOOKUP(DM12,MATCHSELEVES!$Y$14:$AE$600,5,FALSE),0)","v":0},{"$f":"IFERROR(VLOOKUP(DM12,MATCHSELEVES!$Y$14:$AF$600,8,FALSE),0)","v":0},{"$f":"IFERROR(VLOOKUP(DM12,MATCHSELEVES!$Y$14:$AG$600,9,FALSE),0)","v":0},"Caroline_18",{"$f":"IFERROR(VLOOKUP(DS12,MATCHSELEVES!$Y$14:$AE$600,3,FALSE),0)","v":0},{"$f":"IFERROR(VLOOKUP(DS12,MATCHSELEVES!$Y$14:$AE$600,4,FALSE),0)","v":0},{"$f":"IFERROR(VLOOKUP(DS12,MATCHSELEVES!$Y$14:$AE$600,5,FALSE),0)","v":0},{"$f":"IFERROR(VLOOKUP(DS12,MATCHSELEVES!$Y$14:$AF$600,8,FALSE),0)","v":0},{"$f":"IFERROR(VLOOKUP(DS12,MATCHSELEVES!$Y$14:$AG$600,9,FALSE),0)","v":0},"Caroline_19",{"$f":"IFERROR(VLOOKUP(DY12,MATCHSELEVES!$Y$14:$AE$600,3,FALSE),0)","v":0},{"$f":"IFERROR(VLOOKUP(DY12,MATCHSELEVES!$Y$14:$AE$600,4,FALSE),0)","v":0},{"$f":"IFERROR(VLOOKUP(DY12,MATCHSELEVES!$Y$14:$AE$600,5,FALSE),0)","v":0},{"$f":"IFERROR(VLOOKUP(DY12,MATCHSELEVES!$Y$14:$AF$600,8,FALSE),0)","v":0},{"$f":"IFERROR(VLOOKUP(DY12,MATCHSELEVES!$Y$14:$AG$600,9,FALSE),0)","v":0},"Caroline_20",{"$f":"IFERROR(VLOOKUP(EE12,MATCHSELEVES!$Y$14:$AE$600,3,FALSE),0)","v":0},{"$f":"IFERROR(VLOOKUP(EE12,MATCHSELEVES!$Y$14:$AE$600,4,FALSE),0)","v":0},{"$f":"IFERROR(VLOOKUP(EE12,MATCHSELEVES!$Y$14:$AE$600,5,FALSE),0)","v":0},{"$f":"IFERROR(VLOOKUP(EE12,MATCHSELEVES!$Y$14:$AF$600,8,FALSE),0)","v":0},{"$f":"IFERROR(VLOOKUP(EE12,MATCHSELEVES!$Y$14:$AG$600,9,FALSE),0)","v":0},"Caroline_21",{"$f":"IFERROR(VLOOKUP(EK12,MATCHSELEVES!$Y$14:$AE$600,3,FALSE),0)","v":0},{"$f":"IFERROR(VLOOKUP(EK12,MATCHSELEVES!$Y$14:$AE$600,4,FALSE),0)","v":0},{"$f":"IFERROR(VLOOKUP(EK12,MATCHSELEVES!$Y$14:$AE$600,5,FALSE),0)","v":0},{"$f":"IFERROR(VLOOKUP(EK12,MATCHSELEVES!$Y$14:$AF$600,8,FALSE),0)","v":0},{"$f":"IFERROR(VLOOKUP(EK12,MATCHSELEVES!$Y$14:$AG$600,9,FALSE),0)","v":0},"Caroline_22",{"$f":"IFERROR(VLOOKUP(EQ12,MATCHSELEVES!$Y$14:$AE$600,3,FALSE),0)","v":0},{"$f":"IFERROR(VLOOKUP(EQ12,MATCHSELEVES!$Y$14:$AE$600,4,FALSE),0)","v":0},{"$f":"IFERROR(VLOOKUP(EQ12,MATCHSELEVES!$Y$14:$AE$600,5,FALSE),0)","v":0},{"$f":"IFERROR(VLOOKUP(EQ12,MATCHSELEVES!$Y$14:$AF$600,8,FALSE),0)","v":0},{"$f":"IFERROR(VLOOKUP(EQ12,MATCHSELEVES!$Y$14:$AG$600,9,FALSE),0)","v":0},"Caroline_23",{"$f":"IFERROR(VLOOKUP(EW12,MATCHSELEVES!$Y$14:$AE$600,3,FALSE),0)","v":0},{"$f":"IFERROR(VLOOKUP(EW12,MATCHSELEVES!$Y$14:$AE$600,4,FALSE),0)","v":0},{"$f":"IFERROR(VLOOKUP(EW12,MATCHSELEVES!$Y$14:$AE$600,5,FALSE),0)","v":0},{"$f":"IFERROR(VLOOKUP(EW12,MATCHSELEVES!$Y$14:$AF$600,8,FALSE),0)","v":0},{"$f":"IFERROR(VLOOKUP(EW12,MATCHSELEVES!$Y$14:$AG$600,9,FALSE),0)","v":0},"Caroline_24",{"$f":"IFERROR(VLOOKUP(FC12,MATCHSELEVES!$Y$14:$AE$600,3,FALSE),0)","v":0},{"$f":"IFERROR(VLOOKUP(FC12,MATCHSELEVES!$Y$14:$AE$600,4,FALSE),0)","v":0},{"$f":"IFERROR(VLOOKUP(FC12,MATCHSELEVES!$Y$14:$AE$600,5,FALSE),0)","v":0},{"$f":"IFERROR(VLOOKUP(FC12,MATCHSELEVES!$Y$14:$AF$600,8,FALSE),0)","v":0},{"$f":"IFERROR(VLOOKUP(FC12,MATCHSELEVES!$Y$14:$AG$600,9,FALSE),0)","v":0},"Caroline_25",{"$f":"IFERROR(VLOOKUP(FI12,MATCHSELEVES!$Y$14:$AE$600,3,FALSE),0)","v":0},{"$f":"IFERROR(VLOOKUP(FI12,MATCHSELEVES!$Y$14:$AE$600,4,FALSE),0)","v":0},{"$f":"IFERROR(VLOOKUP(FI12,MATCHSELEVES!$Y$14:$AE$600,5,FALSE),0)","v":0},{"$f":"IFERROR(VLOOKUP(FI12,MATCHSELEVES!$Y$14:$AF$600,8,FALSE),0)","v":0},{"$f":"IFERROR(VLOOKUP(FI12,MATCHSELEVES!$Y$14:$AG$600,9,FALSE),0)","v":0},"Caroline_26",{"$f":"IFERROR(VLOOKUP(FO12,MATCHSELEVES!$Y$14:$AE$600,3,FALSE),0)","v":0},{"$f":"IFERROR(VLOOKUP(FO12,MATCHSELEVES!$Y$14:$AE$600,4,FALSE),0)","v":0},{"$f":"IFERROR(VLOOKUP(FO12,MATCHSELEVES!$Y$14:$AE$600,5,FALSE),0)","v":0},{"$f":"IFERROR(VLOOKUP(FO12,MATCHSELEVES!$Y$14:$AF$600,8,FALSE),0)","v":0},{"$f":"IFERROR(VLOOKUP(FO12,MATCHSELEVES!$Y$14:$AG$600,9,FALSE),0)","v":0},"Caroline_27",{"$f":"IFERROR(VLOOKUP(FU12,MATCHSELEVES!$Y$14:$AE$600,3,FALSE),0)","v":0},{"$f":"IFERROR(VLOOKUP(FU12,MATCHSELEVES!$Y$14:$AE$600,4,FALSE),0)","v":0},{"$f":"IFERROR(VLOOKUP(FU12,MATCHSELEVES!$Y$14:$AE$600,5,FALSE),0)","v":0},{"$f":"IFERROR(VLOOKUP(FU12,MATCHSELEVES!$Y$14:$AF$600,8,FALSE),0)","v":0},{"$f":"IFERROR(VLOOKUP(FU12,MATCHSELEVES!$Y$14:$AG$600,9,FALSE),0)","v":0},"Caroline_28",{"$f":"IFERROR(VLOOKUP(GA12,MATCHSELEVES!$Y$14:$AE$600,3,FALSE),0)","v":0},{"$f":"IFERROR(VLOOKUP(GA12,MATCHSELEVES!$Y$14:$AE$600,4,FALSE),0)","v":0},{"$f":"IFERROR(VLOOKUP(GA12,MATCHSELEVES!$Y$14:$AE$600,5,FALSE),0)","v":0},{"$f":"IFERROR(VLOOKUP(GA12,MATCHSELEVES!$Y$14:$AF$600,8,FALSE),0)","v":0},{"$f":"IFERROR(VLOOKUP(GA12,MATCHSELEVES!$Y$14:$AG$600,9,FALSE),0)","v":0},"Caroline_29",{"$f":"IFERROR(VLOOKUP(GG12,MATCHSELEVES!$Y$14:$AE$600,3,FALSE),0)","v":0},{"$f":"IFERROR(VLOOKUP(GG12,MATCHSELEVES!$Y$14:$AE$600,4,FALSE),0)","v":0},{"$f":"IFERROR(VLOOKUP(GG12,MATCHSELEVES!$Y$14:$AE$600,5,FALSE),0)","v":0},{"$f":"IFERROR(VLOOKUP(GG12,MATCHSELEVES!$Y$14:$AF$600,8,FALSE),0)","v":0},{"$f":"IFERROR(VLOOKUP(GG12,MATCHSELEVES!$Y$14:$AG$600,9,FALSE),0)","v":0},"Caroline_30",{"$f":"IFERROR(VLOOKUP(GM12,MATCHSELEVES!$Y$14:$AE$600,3,FALSE),0)","v":0},{"$f":"IFERROR(VLOOKUP(GM12,MATCHSELEVES!$Y$14:$AE$600,4,FALSE),0)","v":0},{"$f":"IFERROR(VLOOKUP(GM12,MATCHSELEVES!$Y$14:$AE$600,5,FALSE),0)","v":0},{"$f":"IFERROR(VLOOKUP(GM12,MATCHSELEVES!$Y$14:$AF$600,8,FALSE),0)","v":0},{"$f":"IFERROR(VLOOKUP(GM12,MATCHSELEVES!$Y$14:$AG$600,9,FALSE),0)","v":0},"Caroline_31",{"$f":"IFERROR(VLOOKUP(GS12,MATCHSELEVES!$Y$14:$AE$600,3,FALSE),0)","v":0},{"$f":"IFERROR(VLOOKUP(GS12,MATCHSELEVES!$Y$14:$AE$600,4,FALSE),0)","v":0},{"$f":"IFERROR(VLOOKUP(GS12,MATCHSELEVES!$Y$14:$AE$600,5,FALSE),0)","v":0},{"$f":"IFERROR(VLOOKUP(GS12,MATCHSELEVES!$Y$14:$AF$600,8,FALSE),0)","v":0},{"$f":"IFERROR(VLOOKUP(GS12,MATCHSELEVES!$Y$14:$AG$600,9,FALSE),0)","v":0},"Caroline_32",{"$f":"IFERROR(VLOOKUP(GY12,MATCHSELEVES!$Y$14:$AE$600,3,FALSE),0)","v":0},{"$f":"IFERROR(VLOOKUP(GY12,MATCHSELEVES!$Y$14:$AE$600,4,FALSE),0)","v":0},{"$f":"IFERROR(VLOOKUP(GY12,MATCHSELEVES!$Y$14:$AE$600,5,FALSE),0)","v":0},{"$f":"IFERROR(VLOOKUP(GY12,MATCHSELEVES!$Y$14:$AF$600,8,FALSE),0)","v":0},{"$f":"IFERROR(VLOOKUP(GY12,MATCHSELEVES!$Y$14:$AG$600,9,FALSE),0)","v":0},"Caroline_33",{"$f":"IFERROR(VLOOKUP(HE12,MATCHSELEVES!$Y$14:$AE$600,3,FALSE),0)","v":0},{"$f":"IFERROR(VLOOKUP(HE12,MATCHSELEVES!$Y$14:$AE$600,4,FALSE),0)","v":0},{"$f":"IFERROR(VLOOKUP(HE12,MATCHSELEVES!$Y$14:$AE$600,5,FALSE),0)","v":0},{"$f":"IFERROR(VLOOKUP(HE12,MATCHSELEVES!$Y$14:$AF$600,8,FALSE),0)","v":0},{"$f":"IFERROR(VLOOKUP(HE12,MATCHSELEVES!$Y$14:$AG$600,9,FALSE),0)","v":0},"Caroline_34",{"$f":"IFERROR(VLOOKUP(HK12,MATCHSELEVES!$Y$14:$AE$600,3,FALSE),0)","v":0},{"$f":"IFERROR(VLOOKUP(HK12,MATCHSELEVES!$Y$14:$AE$600,4,FALSE),0)","v":0},{"$f":"IFERROR(VLOOKUP(HK12,MATCHSELEVES!$Y$14:$AE$600,5,FALSE),0)","v":0},{"$f":"IFERROR(VLOOKUP(HK12,MATCHSELEVES!$Y$14:$AF$600,8,FALSE),0)","v":0},{"$f":"IFERROR(VLOOKUP(HK12,MATCHSELEVES!$Y$14:$AG$600,9,FALSE),0)","v":0},"Caroline_35",{"$f":"IFERROR(VLOOKUP(HQ12,MATCHSELEVES!$Y$14:$AE$600,3,FALSE),0)","v":0},{"$f":"IFERROR(VLOOKUP(HQ12,MATCHSELEVES!$Y$14:$AE$600,4,FALSE),0)","v":0},{"$f":"IFERROR(VLOOKUP(HQ12,MATCHSELEVES!$Y$14:$AE$600,5,FALSE),0)","v":0},{"$f":"IFERROR(VLOOKUP(HQ12,MATCHSELEVES!$Y$14:$AF$600,8,FALSE),0)","v":0},{"$f":"IFERROR(VLOOKUP(HQ12,MATCHSELEVES!$Y$14:$AG$600,9,FALSE),0)","v":0},"Caroline_36",{"$f":"IFERROR(VLOOKUP(HW12,MATCHSELEVES!$Y$14:$AE$600,3,FALSE),0)","v":0},{"$f":"IFERROR(VLOOKUP(HW12,MATCHSELEVES!$Y$14:$AE$600,4,FALSE),0)","v":0},{"$f":"IFERROR(VLOOKUP(HW12,MATCHSELEVES!$Y$14:$AE$600,5,FALSE),0)","v":0},{"$f":"IFERROR(VLOOKUP(HW12,MATCHSELEVES!$Y$14:$AF$600,8,FALSE),0)","v":0},{"$f":"IFERROR(VLOOKUP(HW12,MATCHSELEVES!$Y$14:$AG$600,9,FALSE),0)","v":0},"Caroline_37",{"$f":"IFERROR(VLOOKUP(IC12,MATCHSELEVES!$Y$14:$AE$600,3,FALSE),0)","v":0},{"$f":"IFERROR(VLOOKUP(IC12,MATCHSELEVES!$Y$14:$AE$600,4,FALSE),0)","v":0},{"$f":"IFERROR(VLOOKUP(IC12,MATCHSELEVES!$Y$14:$AE$600,5,FALSE),0)","v":0},{"$f":"IFERROR(VLOOKUP(IC12,MATCHSELEVES!$Y$14:$AF$600,8,FALSE),0)","v":0},{"$f":"IFERROR(VLOOKUP(IC12,MATCHSELEVES!$Y$14:$AG$600,9,FALSE),0)","v":0},"Caroline_38",{"$f":"IFERROR(VLOOKUP(II12,MATCHSELEVES!$Y$14:$AE$600,3,FALSE),0)","v":0},{"$f":"IFERROR(VLOOKUP(II12,MATCHSELEVES!$Y$14:$AE$600,4,FALSE),0)","v":0},{"$f":"IFERROR(VLOOKUP(II12,MATCHSELEVES!$Y$14:$AE$600,5,FALSE),0)","v":0},{"$f":"IFERROR(VLOOKUP(II12,MATCHSELEVES!$Y$14:$AF$600,8,FALSE),0)","v":0},{"$f":"IFERROR(VLOOKUP(II12,MATCHSELEVES!$Y$14:$AG$600,9,FALSE),0)","v":0},"Caroline_39",{"$f":"IFERROR(VLOOKUP(IO12,MATCHSELEVES!$Y$14:$AE$600,3,FALSE),0)","v":0},{"$f":"IFERROR(VLOOKUP(IO12,MATCHSELEVES!$Y$14:$AE$600,4,FALSE),0)","v":0},{"$f":"IFERROR(VLOOKUP(IO12,MATCHSELEVES!$Y$14:$AE$600,5,FALSE),0)","v":0},{"$f":"IFERROR(VLOOKUP(IO12,MATCHSELEVES!$Y$14:$AF$600,8,FALSE),0)","v":0},{"$f":"IFERROR(VLOOKUP(IO12,MATCHSELEVES!$Y$14:$AG$600,9,FALSE),0)","v":0},"Caroline_40",{"$f":"IFERROR(VLOOKUP(IU12,MATCHSELEVES!$Y$14:$AE$600,3,FALSE),0)","v":0},{"$f":"IFERROR(VLOOKUP(IU12,MATCHSELEVES!$Y$14:$AE$600,4,FALSE),0)","v":0},{"$f":"IFERROR(VLOOKUP(IU12,MATCHSELEVES!$Y$14:$AE$600,5,FALSE),0)","v":0},{"$f":"IFERROR(VLOOKUP(IU12,MATCHSELEVES!$Y$14:$AF$600,8,FALSE),0)","v":0},{"$f":"IFERROR(VLOOKUP(IU12,MATCHSELEVES!$Y$14:$AG$600,9,FALSE),0)","v":0},"Carolinep_1",{"$f":"IFERROR(VLOOKUP(JA12,MATCHSELEVES!$Y$14:$AE$600,3,FALSE),0)","v":0},{"$f":"IFERROR(VLOOKUP(JA12,MATCHSELEVES!$Y$14:$AE$600,4,FALSE),0)","v":0},{"$f":"IFERROR(VLOOKUP(JA12,MATCHSELEVES!$Y$14:$AE$600,5,FALSE),0)","v":0},{"$f":"IFERROR(VLOOKUP(JA12,MATCHSELEVES!$Y$14:$AF$600,8,FALSE),0)","v":0},{"$f":"IFERROR(VLOOKUP(JA12,MATCHSELEVES!$Y$14:$AG$600,9,FALSE),0)","v":0},"Carolinep_2",{"$f":"IFERROR(VLOOKUP(JG12,MATCHSELEVES!$Y$14:$AE$600,3,FALSE),0)","v":0},{"$f":"IFERROR(VLOOKUP(JG12,MATCHSELEVES!$Y$14:$AE$600,4,FALSE),0)","v":0},{"$f":"IFERROR(VLOOKUP(JG12,MATCHSELEVES!$Y$14:$AE$600,5,FALSE),0)","v":0},{"$f":"IFERROR(VLOOKUP(JG12,MATCHSELEVES!$Y$14:$AF$600,8,FALSE),0)","v":0},{"$f":"IFERROR(VLOOKUP(JG12,MATCHSELEVES!$Y$14:$AG$600,9,FALSE),0)","v":0},"Carolinep_3",{"$f":"IFERROR(VLOOKUP(JM12,MATCHSELEVES!$Y$14:$AE$600,3,FALSE),0)","v":0},{"$f":"IFERROR(VLOOKUP(JM12,MATCHSELEVES!$Y$14:$AE$600,4,FALSE),0)","v":0},{"$f":"IFERROR(VLOOKUP(JM12,MATCHSELEVES!$Y$14:$AE$600,5,FALSE),0)","v":0},{"$f":"IFERROR(VLOOKUP(JM12,MATCHSELEVES!$Y$14:$AF$600,8,FALSE),0)","v":0},{"$f":"IFERROR(VLOOKUP(JM12,MATCHSELEVES!$Y$14:$AG$600,9,FALSE),0)","v":0},"Carolinep_4",{"$f":"IFERROR(VLOOKUP(JS12,MATCHSELEVES!$Y$14:$AE$600,3,FALSE),0)","v":0},{"$f":"IFERROR(VLOOKUP(JS12,MATCHSELEVES!$Y$14:$AE$600,4,FALSE),0)","v":0},{"$f":"IFERROR(VLOOKUP(JS12,MATCHSELEVES!$Y$14:$AE$600,5,FALSE),0)","v":0},{"$f":"IFERROR(VLOOKUP(JS12,MATCHSELEVES!$Y$14:$AF$600,8,FALSE),0)","v":0},{"$f":"IFERROR(VLOOKUP(JS12,MATCHSELEVES!$Y$14:$AG$600,9,FALSE),0)","v":0},"Carolinep_5",{"$f":"IFERROR(VLOOKUP(JY12,MATCHSELEVES!$Y$14:$AE$600,3,FALSE),0)","v":0},{"$f":"IFERROR(VLOOKUP(JY12,MATCHSELEVES!$Y$14:$AE$600,4,FALSE),0)","v":0},{"$f":"IFERROR(VLOOKUP(JY12,MATCHSELEVES!$Y$14:$AE$600,5,FALSE),0)","v":0},{"$f":"IFERROR(VLOOKUP(JY12,MATCHSELEVES!$Y$14:$AF$600,8,FALSE),0)","v":0},{"$f":"IFERROR(VLOOKUP(JY12,MATCHSELEVES!$Y$14:$AG$600,9,FALSE),0)","v":0},"Carolinep_6",{"$f":"IFERROR(VLOOKUP(KE12,MATCHSELEVES!$Y$14:$AE$600,3,FALSE),0)","v":0},{"$f":"IFERROR(VLOOKUP(KE12,MATCHSELEVES!$Y$14:$AE$600,4,FALSE),0)","v":0},{"$f":"IFERROR(VLOOKUP(KE12,MATCHSELEVES!$Y$14:$AE$600,5,FALSE),0)","v":0},{"$f":"IFERROR(VLOOKUP(KE12,MATCHSELEVES!$Y$14:$AF$600,8,FALSE),0)","v":0},{"$f":"IFERROR(VLOOKUP(KE12,MATCHSELEVES!$Y$14:$AG$600,9,FALSE),0)","v":0},"Carolinep_7",{"$f":"IFERROR(VLOOKUP(KK12,MATCHSELEVES!$Y$14:$AE$600,3,FALSE),0)","v":0},{"$f":"IFERROR(VLOOKUP(KK12,MATCHSELEVES!$Y$14:$AE$600,4,FALSE),0)","v":0},{"$f":"IFERROR(VLOOKUP(KK12,MATCHSELEVES!$Y$14:$AE$600,5,FALSE),0)","v":0},{"$f":"IFERROR(VLOOKUP(KK12,MATCHSELEVES!$Y$14:$AF$600,8,FALSE),0)","v":0},{"$f":"IFERROR(VLOOKUP(KK12,MATCHSELEVES!$Y$14:$AG$600,9,FALSE),0)","v":0},"Carolinep_8",{"$f":"IFERROR(VLOOKUP(KQ12,MATCHSELEVES!$Y$14:$AE$600,3,FALSE),0)","v":0},{"$f":"IFERROR(VLOOKUP(KQ12,MATCHSELEVES!$Y$14:$AE$600,4,FALSE),0)","v":0},{"$f":"IFERROR(VLOOKUP(KQ12,MATCHSELEVES!$Y$14:$AE$600,5,FALSE),0)","v":0},{"$f":"IFERROR(VLOOKUP(KQ12,MATCHSELEVES!$Y$14:$AF$600,8,FALSE),0)","v":0},{"$f":"IFERROR(VLOOKUP(KQ12,MATCHSELEVES!$Y$14:$AG$600,9,FALSE),0)","v":0},"Carolinep_9",{"$f":"IFERROR(VLOOKUP(KW12,MATCHSELEVES!$Y$14:$AE$600,3,FALSE),0)","v":0},{"$f":"IFERROR(VLOOKUP(KW12,MATCHSELEVES!$Y$14:$AE$600,4,FALSE),0)","v":0},{"$f":"IFERROR(VLOOKUP(KW12,MATCHSELEVES!$Y$14:$AE$600,5,FALSE),0)","v":0},{"$f":"IFERROR(VLOOKUP(KW12,MATCHSELEVES!$Y$14:$AF$600,8,FALSE),0)","v":0},{"$f":"IFERROR(VLOOKUP(KW12,MATCHSELEVES!$Y$14:$AG$600,9,FALSE),0)","v":0},"Carolinep_10",{"$f":"IFERROR(VLOOKUP(LC12,MATCHSELEVES!$Y$14:$AE$600,3,FALSE),0)","v":0},{"$f":"IFERROR(VLOOKUP(LC12,MATCHSELEVES!$Y$14:$AE$600,4,FALSE),0)","v":0},{"$f":"IFERROR(VLOOKUP(LC12,MATCHSELEVES!$Y$14:$AE$600,5,FALSE),0)","v":0},{"$f":"IFERROR(VLOOKUP(LC12,MATCHSELEVES!$Y$14:$AF$600,8,FALSE),0)","v":0},{"$f":"IFERROR(VLOOKUP(LC12,MATCHSELEVES!$Y$14:$AG$600,9,FALSE),0)","v":0},"Carolinep_11",{"$f":"IFERROR(VLOOKUP(LI12,MATCHSELEVES!$Y$14:$AE$600,3,FALSE),0)","v":0},{"$f":"IFERROR(VLOOKUP(LI12,MATCHSELEVES!$Y$14:$AE$600,4,FALSE),0)","v":0},{"$f":"IFERROR(VLOOKUP(LI12,MATCHSELEVES!$Y$14:$AE$600,5,FALSE),0)","v":0},{"$f":"IFERROR(VLOOKUP(LI12,MATCHSELEVES!$Y$14:$AF$600,8,FALSE),0)","v":0},{"$f":"IFERROR(VLOOKUP(LI12,MATCHSELEVES!$Y$14:$AG$600,9,FALSE),0)","v":0},"Carolinep_12",{"$f":"IFERROR(VLOOKUP(LO12,MATCHSELEVES!$Y$14:$AE$600,3,FALSE),0)","v":0},{"$f":"IFERROR(VLOOKUP(LO12,MATCHSELEVES!$Y$14:$AE$600,4,FALSE),0)","v":0},{"$f":"IFERROR(VLOOKUP(LO12,MATCHSELEVES!$Y$14:$AE$600,5,FALSE),0)","v":0},{"$f":"IFERROR(VLOOKUP(LO12,MATCHSELEVES!$Y$14:$AF$600,8,FALSE),0)","v":0},{"$f":"IFERROR(VLOOKUP(LO12,MATCHSELEVES!$Y$14:$AG$600,9,FALSE),0)","v":0},"Carolinep_13",{"$f":"IFERROR(VLOOKUP(LU12,MATCHSELEVES!$Y$14:$AE$600,3,FALSE),0)","v":0},{"$f":"IFERROR(VLOOKUP(LU12,MATCHSELEVES!$Y$14:$AE$600,4,FALSE),0)","v":0},{"$f":"IFERROR(VLOOKUP(LU12,MATCHSELEVES!$Y$14:$AE$600,5,FALSE),0)","v":0},{"$f":"IFERROR(VLOOKUP(LU12,MATCHSELEVES!$Y$14:$AF$600,8,FALSE),0)","v":0},{"$f":"IFERROR(VLOOKUP(LU12,MATCHSELEVES!$Y$14:$AG$600,9,FALSE),0)","v":0},"Carolinep_14",{"$f":"IFERROR(VLOOKUP(MA12,MATCHSELEVES!$Y$14:$AE$600,3,FALSE),0)","v":0},{"$f":"IFERROR(VLOOKUP(MA12,MATCHSELEVES!$Y$14:$AE$600,4,FALSE),0)","v":0},{"$f":"IFERROR(VLOOKUP(MA12,MATCHSELEVES!$Y$14:$AE$600,5,FALSE),0)","v":0},{"$f":"IFERROR(VLOOKUP(MA12,MATCHSELEVES!$Y$14:$AF$600,8,FALSE),0)","v":0},{"$f":"IFERROR(VLOOKUP(MA12,MATCHSELEVES!$Y$14:$AG$600,9,FALSE),0)","v":0},"Carolinep_15",{"$f":"IFERROR(VLOOKUP(MG12,MATCHSELEVES!$Y$14:$AE$600,3,FALSE),0)","v":0},{"$f":"IFERROR(VLOOKUP(MG12,MATCHSELEVES!$Y$14:$AE$600,4,FALSE),0)","v":0},{"$f":"IFERROR(VLOOKUP(MG12,MATCHSELEVES!$Y$14:$AE$600,5,FALSE),0)","v":0},{"$f":"IFERROR(VLOOKUP(MG12,MATCHSELEVES!$Y$14:$AF$600,8,FALSE),0)","v":0},{"$f":"IFERROR(VLOOKUP(MG12,MATCHSELEVES!$Y$14:$AG$600,9,FALSE),0)","v":0},"Carolinep_16",{"$f":"IFERROR(VLOOKUP(MM12,MATCHSELEVES!$Y$14:$AE$600,3,FALSE),0)","v":0},{"$f":"IFERROR(VLOOKUP(MM12,MATCHSELEVES!$Y$14:$AE$600,4,FALSE),0)","v":0},{"$f":"IFERROR(VLOOKUP(MM12,MATCHSELEVES!$Y$14:$AE$600,5,FALSE),0)","v":0},{"$f":"IFERROR(VLOOKUP(MM12,MATCHSELEVES!$Y$14:$AF$600,8,FALSE),0)","v":0},{"$f":"IFERROR(VLOOKUP(MM12,MATCHSELEVES!$Y$14:$AG$600,9,FALSE),0)","v":0},"Carolinep_17",{"$f":"IFERROR(VLOOKUP(MS12,MATCHSELEVES!$Y$14:$AE$600,3,FALSE),0)","v":0},{"$f":"IFERROR(VLOOKUP(MS12,MATCHSELEVES!$Y$14:$AE$600,4,FALSE),0)","v":0},{"$f":"IFERROR(VLOOKUP(MS12,MATCHSELEVES!$Y$14:$AE$600,5,FALSE),0)","v":0},{"$f":"IFERROR(VLOOKUP(MS12,MATCHSELEVES!$Y$14:$AF$600,8,FALSE),0)","v":0},{"$f":"IFERROR(VLOOKUP(MS12,MATCHSELEVES!$Y$14:$AG$600,9,FALSE),0)","v":0},"Carolinep_18",{"$f":"IFERROR(VLOOKUP(MY12,MATCHSELEVES!$Y$14:$AE$600,3,FALSE),0)","v":0},{"$f":"IFERROR(VLOOKUP(MY12,MATCHSELEVES!$Y$14:$AE$600,4,FALSE),0)","v":0},{"$f":"IFERROR(VLOOKUP(MY12,MATCHSELEVES!$Y$14:$AE$600,5,FALSE),0)","v":0},{"$f":"IFERROR(VLOOKUP(MY12,MATCHSELEVES!$Y$14:$AF$600,8,FALSE),0)","v":0},{"$f":"IFERROR(VLOOKUP(MY12,MATCHSELEVES!$Y$14:$AG$600,9,FALSE),0)","v":0},"Carolinep_19",{"$f":"IFERROR(VLOOKUP(NE12,MATCHSELEVES!$Y$14:$AE$600,3,FALSE),0)","v":0},{"$f":"IFERROR(VLOOKUP(NE12,MATCHSELEVES!$Y$14:$AE$600,4,FALSE),0)","v":0},{"$f":"IFERROR(VLOOKUP(NE12,MATCHSELEVES!$Y$14:$AE$600,5,FALSE),0)","v":0},{"$f":"IFERROR(VLOOKUP(NE12,MATCHSELEVES!$Y$14:$AF$600,8,FALSE),0)","v":0},{"$f":"IFERROR(VLOOKUP(NE12,MATCHSELEVES!$Y$14:$AG$600,9,FALSE),0)","v":0},"Carolinep_20",{"$f":"IFERROR(VLOOKUP(NK12,MATCHSELEVES!$Y$14:$AE$600,3,FALSE),0)","v":0},{"$f":"IFERROR(VLOOKUP(NK12,MATCHSELEVES!$Y$14:$AE$600,4,FALSE),0)","v":0},{"$f":"IFERROR(VLOOKUP(NK12,MATCHSELEVES!$Y$14:$AE$600,5,FALSE),0)","v":0},{"$f":"IFERROR(VLOOKUP(NK12,MATCHSELEVES!$Y$14:$AF$600,8,FALSE),0)","v":0},{"$f":"IFERROR(VLOOKUP(NK12,MATCHSELEVES!$Y$14:$AG$600,9,FALSE),0)","v":0},"Carolinep_21",{"$f":"IFERROR(VLOOKUP(NQ12,MATCHSELEVES!$Y$14:$AE$600,3,FALSE),0)","v":0},{"$f":"IFERROR(VLOOKUP(NQ12,MATCHSELEVES!$Y$14:$AE$600,4,FALSE),0)","v":0},{"$f":"IFERROR(VLOOKUP(NQ12,MATCHSELEVES!$Y$14:$AE$600,5,FALSE),0)","v":0},{"$f":"IFERROR(VLOOKUP(NQ12,MATCHSELEVES!$Y$14:$AF$600,8,FALSE),0)","v":0},{"$f":"IFERROR(VLOOKUP(NQ12,MATCHSELEVES!$Y$14:$AG$600,9,FALSE),0)","v":0},"Carolinep_22",{"$f":"IFERROR(VLOOKUP(NW12,MATCHSELEVES!$Y$14:$AE$600,3,FALSE),0)","v":0},{"$f":"IFERROR(VLOOKUP(NW12,MATCHSELEVES!$Y$14:$AE$600,4,FALSE),0)","v":0},{"$f":"IFERROR(VLOOKUP(NW12,MATCHSELEVES!$Y$14:$AE$600,5,FALSE),0)","v":0},{"$f":"IFERROR(VLOOKUP(NW12,MATCHSELEVES!$Y$14:$AF$600,8,FALSE),0)","v":0},{"$f":"IFERROR(VLOOKUP(NW12,MATCHSELEVES!$Y$14:$AG$600,9,FALSE),0)","v":0},"Carolinep_23",{"$f":"IFERROR(VLOOKUP(OC12,MATCHSELEVES!$Y$14:$AE$600,3,FALSE),0)","v":0},{"$f":"IFERROR(VLOOKUP(OC12,MATCHSELEVES!$Y$14:$AE$600,4,FALSE),0)","v":0},{"$f":"IFERROR(VLOOKUP(OC12,MATCHSELEVES!$Y$14:$AE$600,5,FALSE),0)","v":0},{"$f":"IFERROR(VLOOKUP(OC12,MATCHSELEVES!$Y$14:$AF$600,8,FALSE),0)","v":0},{"$f":"IFERROR(VLOOKUP(OC12,MATCHSELEVES!$Y$14:$AG$600,9,FALSE),0)","v":0},"Carolinep_24",{"$f":"IFERROR(VLOOKUP(OI12,MATCHSELEVES!$Y$14:$AE$600,3,FALSE),0)","v":0},{"$f":"IFERROR(VLOOKUP(OI12,MATCHSELEVES!$Y$14:$AE$600,4,FALSE),0)","v":0},{"$f":"IFERROR(VLOOKUP(OI12,MATCHSELEVES!$Y$14:$AE$600,5,FALSE),0)","v":0},{"$f":"IFERROR(VLOOKUP(OI12,MATCHSELEVES!$Y$14:$AF$600,8,FALSE),0)","v":0},{"$f":"IFERROR(VLOOKUP(OI12,MATCHSELEVES!$Y$14:$AG$600,9,FALSE),0)","v":0},"Carolinep_25",{"$f":"IFERROR(VLOOKUP(OO12,MATCHSELEVES!$Y$14:$AE$600,3,FALSE),0)","v":0},{"$f":"IFERROR(VLOOKUP(OO12,MATCHSELEVES!$Y$14:$AE$600,4,FALSE),0)","v":0},{"$f":"IFERROR(VLOOKUP(OO12,MATCHSELEVES!$Y$14:$AE$600,5,FALSE),0)","v":0},{"$f":"IFERROR(VLOOKUP(OO12,MATCHSELEVES!$Y$14:$AF$600,8,FALSE),0)","v":0},{"$f":"IFERROR(VLOOKUP(OO12,MATCHSELEVES!$Y$14:$AG$600,9,FALSE),0)","v":0},"Carolinep_26",{"$f":"IFERROR(VLOOKUP(OU12,MATCHSELEVES!$Y$14:$AE$600,3,FALSE),0)","v":0},{"$f":"IFERROR(VLOOKUP(OU12,MATCHSELEVES!$Y$14:$AE$600,4,FALSE),0)","v":0},{"$f":"IFERROR(VLOOKUP(OU12,MATCHSELEVES!$Y$14:$AE$600,5,FALSE),0)","v":0},{"$f":"IFERROR(VLOOKUP(OU12,MATCHSELEVES!$Y$14:$AF$600,8,FALSE),0)","v":0},{"$f":"IFERROR(VLOOKUP(OU12,MATCHSELEVES!$Y$14:$AG$600,9,FALSE),0)","v":0},"Carolinep_27",{"$f":"IFERROR(VLOOKUP(PA12,MATCHSELEVES!$Y$14:$AE$600,3,FALSE),0)","v":0},{"$f":"IFERROR(VLOOKUP(PA12,MATCHSELEVES!$Y$14:$AE$600,4,FALSE),0)","v":0},{"$f":"IFERROR(VLOOKUP(PA12,MATCHSELEVES!$Y$14:$AE$600,5,FALSE),0)","v":0},{"$f":"IFERROR(VLOOKUP(PA12,MATCHSELEVES!$Y$14:$AF$600,8,FALSE),0)","v":0},{"$f":"IFERROR(VLOOKUP(PA12,MATCHSELEVES!$Y$14:$AG$600,9,FALSE),0)","v":0},"Carolinep_28",{"$f":"IFERROR(VLOOKUP(PG12,MATCHSELEVES!$Y$14:$AE$600,3,FALSE),0)","v":0},{"$f":"IFERROR(VLOOKUP(PG12,MATCHSELEVES!$Y$14:$AE$600,4,FALSE),0)","v":0},{"$f":"IFERROR(VLOOKUP(PG12,MATCHSELEVES!$Y$14:$AE$600,5,FALSE),0)","v":0},{"$f":"IFERROR(VLOOKUP(PG12,MATCHSELEVES!$Y$14:$AF$600,8,FALSE),0)","v":0},{"$f":"IFERROR(VLOOKUP(PG12,MATCHSELEVES!$Y$14:$AG$600,9,FALSE),0)","v":0},"Carolinep_29",{"$f":"IFERROR(VLOOKUP(PM12,MATCHSELEVES!$Y$14:$AE$600,3,FALSE),0)","v":0},{"$f":"IFERROR(VLOOKUP(PM12,MATCHSELEVES!$Y$14:$AE$600,4,FALSE),0)","v":0},{"$f":"IFERROR(VLOOKUP(PM12,MATCHSELEVES!$Y$14:$AE$600,5,FALSE),0)","v":0},{"$f":"IFERROR(VLOOKUP(PM12,MATCHSELEVES!$Y$14:$AF$600,8,FALSE),0)","v":0},{"$f":"IFERROR(VLOOKUP(PM12,MATCHSELEVES!$Y$14:$AG$600,9,FALSE),0)","v":0},"Carolinep_30",{"$f":"IFERROR(VLOOKUP(PS12,MATCHSELEVES!$Y$14:$AE$600,3,FALSE),0)","v":0},{"$f":"IFERROR(VLOOKUP(PS12,MATCHSELEVES!$Y$14:$AE$600,4,FALSE),0)","v":0},{"$f":"IFERROR(VLOOKUP(PS12,MATCHSELEVES!$Y$14:$AE$600,5,FALSE),0)","v":0},{"$f":"IFERROR(VLOOKUP(PS12,MATCHSELEVES!$Y$14:$AF$600,8,FALSE),0)","v":0},{"$f":"IFERROR(VLOOKUP(PS12,MATCHSELEVES!$Y$14:$AG$600,9,FALSE),0)","v":0},"Carolinep_31",{"$f":"IFERROR(VLOOKUP(PY12,MATCHSELEVES!$Y$14:$AE$600,3,FALSE),0)","v":0},{"$f":"IFERROR(VLOOKUP(PY12,MATCHSELEVES!$Y$14:$AE$600,4,FALSE),0)","v":0},{"$f":"IFERROR(VLOOKUP(PY12,MATCHSELEVES!$Y$14:$AE$600,5,FALSE),0)","v":0},{"$f":"IFERROR(VLOOKUP(PY12,MATCHSELEVES!$Y$14:$AF$600,8,FALSE),0)","v":0},{"$f":"IFERROR(VLOOKUP(PY12,MATCHSELEVES!$Y$14:$AG$600,9,FALSE),0)","v":0},"Carolinep_32",{"$f":"IFERROR(VLOOKUP(QE12,MATCHSELEVES!$Y$14:$AE$600,3,FALSE),0)","v":0},{"$f":"IFERROR(VLOOKUP(QE12,MATCHSELEVES!$Y$14:$AE$600,4,FALSE),0)","v":0},{"$f":"IFERROR(VLOOKUP(QE12,MATCHSELEVES!$Y$14:$AE$600,5,FALSE),0)","v":0},{"$f":"IFERROR(VLOOKUP(QE12,MATCHSELEVES!$Y$14:$AF$600,8,FALSE),0)","v":0},{"$f":"IFERROR(VLOOKUP(QE12,MATCHSELEVES!$Y$14:$AG$600,9,FALSE),0)","v":0},"Carolinep_33",{"$f":"IFERROR(VLOOKUP(QK12,MATCHSELEVES!$Y$14:$AE$600,3,FALSE),0)","v":0},{"$f":"IFERROR(VLOOKUP(QK12,MATCHSELEVES!$Y$14:$AE$600,4,FALSE),0)","v":0},{"$f":"IFERROR(VLOOKUP(QK12,MATCHSELEVES!$Y$14:$AE$600,5,FALSE),0)","v":0},{"$f":"IFERROR(VLOOKUP(QK12,MATCHSELEVES!$Y$14:$AF$600,8,FALSE),0)","v":0},{"$f":"IFERROR(VLOOKUP(QK12,MATCHSELEVES!$Y$14:$AG$600,9,FALSE),0)","v":0},"Carolinep_34",{"$f":"IFERROR(VLOOKUP(QQ12,MATCHSELEVES!$Y$14:$AE$600,3,FALSE),0)","v":0},{"$f":"IFERROR(VLOOKUP(QQ12,MATCHSELEVES!$Y$14:$AE$600,4,FALSE),0)","v":0},{"$f":"IFERROR(VLOOKUP(QQ12,MATCHSELEVES!$Y$14:$AE$600,5,FALSE),0)","v":0},{"$f":"IFERROR(VLOOKUP(QQ12,MATCHSELEVES!$Y$14:$AF$600,8,FALSE),0)","v":0},{"$f":"IFERROR(VLOOKUP(QQ12,MATCHSELEVES!$Y$14:$AG$600,9,FALSE),0)","v":0},"Carolinep_35",{"$f":"IFERROR(VLOOKUP(QW12,MATCHSELEVES!$Y$14:$AE$600,3,FALSE),0)","v":0},{"$f":"IFERROR(VLOOKUP(QW12,MATCHSELEVES!$Y$14:$AE$600,4,FALSE),0)","v":0},{"$f":"IFERROR(VLOOKUP(QW12,MATCHSELEVES!$Y$14:$AE$600,5,FALSE),0)","v":0},{"$f":"IFERROR(VLOOKUP(QW12,MATCHSELEVES!$Y$14:$AF$600,8,FALSE),0)","v":0},{"$f":"IFERROR(VLOOKUP(QW12,MATCHSELEVES!$Y$14:$AG$600,9,FALSE),0)","v":0},"Carolinep_36",{"$f":"IFERROR(VLOOKUP(RC12,MATCHSELEVES!$Y$14:$AE$600,3,FALSE),0)","v":0},{"$f":"IFERROR(VLOOKUP(RC12,MATCHSELEVES!$Y$14:$AE$600,4,FALSE),0)","v":0},{"$f":"IFERROR(VLOOKUP(RC12,MATCHSELEVES!$Y$14:$AE$600,5,FALSE),0)","v":0},{"$f":"IFERROR(VLOOKUP(RC12,MATCHSELEVES!$Y$14:$AF$600,8,FALSE),0)","v":0},{"$f":"IFERROR(VLOOKUP(RC12,MATCHSELEVES!$Y$14:$AG$600,9,FALSE),0)","v":0},"Carolinep_37",{"$f":"IFERROR(VLOOKUP(RI12,MATCHSELEVES!$Y$14:$AE$600,3,FALSE),0)","v":0},{"$f":"IFERROR(VLOOKUP(RI12,MATCHSELEVES!$Y$14:$AE$600,4,FALSE),0)","v":0},{"$f":"IFERROR(VLOOKUP(RI12,MATCHSELEVES!$Y$14:$AE$600,5,FALSE),0)","v":0},{"$f":"IFERROR(VLOOKUP(RI12,MATCHSELEVES!$Y$14:$AF$600,8,FALSE),0)","v":0},{"$f":"IFERROR(VLOOKUP(RI12,MATCHSELEVES!$Y$14:$AG$600,9,FALSE),0)","v":0},"Carolinep_38",{"$f":"IFERROR(VLOOKUP(RO12,MATCHSELEVES!$Y$14:$AE$600,3,FALSE),0)","v":0},{"$f":"IFERROR(VLOOKUP(RO12,MATCHSELEVES!$Y$14:$AE$600,4,FALSE),0)","v":0},{"$f":"IFERROR(VLOOKUP(RO12,MATCHSELEVES!$Y$14:$AE$600,5,FALSE),0)","v":0},{"$f":"IFERROR(VLOOKUP(RO12,MATCHSELEVES!$Y$14:$AF$600,8,FALSE),0)","v":0},{"$f":"IFERROR(VLOOKUP(RO12,MATCHSELEVES!$Y$14:$AG$600,9,FALSE),0)","v":0},"Carolinep_39",{"$f":"IFERROR(VLOOKUP(RU12,MATCHSELEVES!$Y$14:$AE$600,3,FALSE),0)","v":0},{"$f":"IFERROR(VLOOKUP(RU12,MATCHSELEVES!$Y$14:$AE$600,4,FALSE),0)","v":0},{"$f":"IFERROR(VLOOKUP(RU12,MATCHSELEVES!$Y$14:$AE$600,5,FALSE),0)","v":0},{"$f":"IFERROR(VLOOKUP(RU12,MATCHSELEVES!$Y$14:$AF$600,8,FALSE),0)","v":0},{"$f":"IFERROR(VLOOKUP(RU12,MATCHSELEVES!$Y$14:$AG$600,9,FALSE),0)","v":0},"Carolinep_40",{"$f":"IFERROR(VLOOKUP(SA12,MATCHSELEVES!$Y$14:$AE$600,3,FALSE),0)","v":0},{"$f":"IFERROR(VLOOKUP(SA12,MATCHSELEVES!$Y$14:$AE$600,4,FALSE),0)","v":0},{"$f":"IFERROR(VLOOKUP(SA12,MATCHSELEVES!$Y$14:$AE$600,5,FALSE),0)","v":0},{"$f":"IFERROR(VLOOKUP(SA12,MATCHSELEVES!$Y$14:$AF$600,8,FALSE),0)","v":0},{"$f":"IFERROR(VLOOKUP(SA12,MATCHSELEVES!$Y$14:$AG$600,9,FALSE),0)","v":0}]
[10,null,"Dicko",10,null,null,{"$f":"COUNTIF(MATCHSELEVES!$Z$14:$Z$600,C13)+COUNTIF(MATCHSELEVES!$Z$14:$Z$600,$C13&\"p\")","v":0},1,{"$f":"COUNTIF(MATCHSELEVES!$F$14:$H$249,C13)","v":0},1,0,1,{"$f":"IFERROR(M56/Tableau10[[#This Row],[Nombre de matchs joués]],0)","v":0},{"$f":"IF(Tableau10[[#This Row],[Nombre de points encaissés]]=0,$C$45,SUMPRODUCT((M$4:M$43<M13)*(M$4:M$43<>0))+1)","v":40},0,1,{"$f":"(Tableau10[[#This Row],[CLASSEMENT1]]+Tableau10[[#This Row],[CLASSEMENT2]]+Tableau10[[#This Row],[CLASSEMENT3]]+Tableau10[[#This Row],[CLASSEMENT4]]+Tableau10[[#This Row],[CLASSEMENT5]]+Tableau10[[#This Row],[CLASSEMENT6]])/6","v":9},{"$f":"RANK(Tableau10[[#This Row],[MOYENNE CLASSEMENTS]],Tableau10[MOYENNE CLASSEMENTS],1)","v":10},null,{"$f":"Tableau10[[#This Row],[CLASSEMENT1]]","v":10},"Dicko_1",{"$f":"IFERROR(VLOOKUP(U13,MATCHSELEVES!$Y$14:$AE$600,3,FALSE),0)","v":0},{"$f":"IFERROR(VLOOKUP(U13,MATCHSELEVES!$Y$14:$AE$600,4,FALSE),0)","v":0},{"$f":"IFERROR(VLOOKUP(U13,MATCHSELEVES!$Y$14:$AE$600,5,FALSE),0)","v":0},{"$f":"IFERROR(VLOOKUP(U13,MATCHSELEVES!$Y$14:$AF$600,8,FALSE),0)","v":0},{"$f":"IFERROR(VLOOKUP(U13,MATCHSELEVES!$Y$14:$AG$600,9,FALSE),0)","v":0},"Dicko_2",{"$f":"IFERROR(VLOOKUP(AA13,MATCHSELEVES!$Y$14:$AE$600,3,FALSE),0)","v":0},{"$f":"IFERROR(VLOOKUP(AA13,MATCHSELEVES!$Y$14:$AE$600,4,FALSE),0)","v":0},{"$f":"IFERROR(VLOOKUP(AA13,MATCHSELEVES!$Y$14:$AE$600,5,FALSE),0)","v":0},{"$f":"IFERROR(VLOOKUP(AA13,MATCHSELEVES!$Y$14:$AF$600,8,FALSE),0)","v":0},{"$f":"IFERROR(VLOOKUP(AA13,MATCHSELEVES!$Y$14:$AG$600,9,FALSE),0)","v":0},"Dicko_3",{"$f":"IFERROR(VLOOKUP(AG13,MATCHSELEVES!$Y$14:$AE$600,3,FALSE),0)","v":0},{"$f":"IFERROR(VLOOKUP(AG13,MATCHSELEVES!$Y$14:$AE$600,4,FALSE),0)","v":0},{"$f":"IFERROR(VLOOKUP(AG13,MATCHSELEVES!$Y$14:$AE$600,5,FALSE),0)","v":0},{"$f":"IFERROR(VLOOKUP(AG13,MATCHSELEVES!$Y$14:$AF$600,8,FALSE),0)","v":0},{"$f":"IFERROR(VLOOKUP(AG13,MATCHSELEVES!$Y$14:$AG$600,9,FALSE),0)","v":0},"Dicko_4",{"$f":"IFERROR(VLOOKUP(AM13,MATCHSELEVES!$Y$14:$AE$600,3,FALSE),0)","v":0},{"$f":"IFERROR(VLOOKUP(AM13,MATCHSELEVES!$Y$14:$AE$600,4,FALSE),0)","v":0},{"$f":"IFERROR(VLOOKUP(AM13,MATCHSELEVES!$Y$14:$AE$600,5,FALSE),0)","v":0},{"$f":"IFERROR(VLOOKUP(AM13,MATCHSELEVES!$Y$14:$AF$600,8,FALSE),0)","v":0},{"$f":"IFERROR(VLOOKUP(AM13,MATCHSELEVES!$Y$14:$AG$600,9,FALSE),0)","v":0},"Dicko_5",{"$f":"IFERROR(VLOOKUP(AS13,MATCHSELEVES!$Y$14:$AE$600,3,FALSE),0)","v":0},{"$f":"IFERROR(VLOOKUP(AS13,MATCHSELEVES!$Y$14:$AE$600,4,FALSE),0)","v":0},{"$f":"IFERROR(VLOOKUP(AS13,MATCHSELEVES!$Y$14:$AE$600,5,FALSE),0)","v":0},{"$f":"IFERROR(VLOOKUP(AS13,MATCHSELEVES!$Y$14:$AF$600,8,FALSE),0)","v":0},{"$f":"IFERROR(VLOOKUP(AS13,MATCHSELEVES!$Y$14:$AG$600,9,FALSE),0)","v":0},"Dicko_6",{"$f":"IFERROR(VLOOKUP(AY13,MATCHSELEVES!$Y$14:$AE$600,3,FALSE),0)","v":0},{"$f":"IFERROR(VLOOKUP(AY13,MATCHSELEVES!$Y$14:$AE$600,4,FALSE),0)","v":0},{"$f":"IFERROR(VLOOKUP(AY13,MATCHSELEVES!$Y$14:$AE$600,5,FALSE),0)","v":0},{"$f":"IFERROR(VLOOKUP(AY13,MATCHSELEVES!$Y$14:$AF$600,8,FALSE),0)","v":0},{"$f":"IFERROR(VLOOKUP(AY13,MATCHSELEVES!$Y$14:$AG$600,9,FALSE),0)","v":0},"Dicko_7",{"$f":"IFERROR(VLOOKUP(BE13,MATCHSELEVES!$Y$14:$AE$600,3,FALSE),0)","v":0},{"$f":"IFERROR(VLOOKUP(BE13,MATCHSELEVES!$Y$14:$AE$600,4,FALSE),0)","v":0},{"$f":"IFERROR(VLOOKUP(BE13,MATCHSELEVES!$Y$14:$AE$600,5,FALSE),0)","v":0},{"$f":"IFERROR(VLOOKUP(BE13,MATCHSELEVES!$Y$14:$AF$600,8,FALSE),0)","v":0},{"$f":"IFERROR(VLOOKUP(BE13,MATCHSELEVES!$Y$14:$AG$600,9,FALSE),0)","v":0},"Dicko_8",{"$f":"IFERROR(VLOOKUP(BK13,MATCHSELEVES!$Y$14:$AE$600,3,FALSE),0)","v":0},{"$f":"IFERROR(VLOOKUP(BK13,MATCHSELEVES!$Y$14:$AE$600,4,FALSE),0)","v":0},{"$f":"IFERROR(VLOOKUP(BK13,MATCHSELEVES!$Y$14:$AE$600,5,FALSE),0)","v":0},{"$f":"IFERROR(VLOOKUP(BK13,MATCHSELEVES!$Y$14:$AF$600,8,FALSE),0)","v":0},{"$f":"IFERROR(VLOOKUP(BK13,MATCHSELEVES!$Y$14:$AG$600,9,FALSE),0)","v":0},"Dicko_9",{"$f":"IFERROR(VLOOKUP(BQ13,MATCHSELEVES!$Y$14:$AE$600,3,FALSE),0)","v":0},{"$f":"IFERROR(VLOOKUP(BQ13,MATCHSELEVES!$Y$14:$AE$600,4,FALSE),0)","v":0},{"$f":"IFERROR(VLOOKUP(BQ13,MATCHSELEVES!$Y$14:$AE$600,5,FALSE),0)","v":0},{"$f":"IFERROR(VLOOKUP(BQ13,MATCHSELEVES!$Y$14:$AF$600,8,FALSE),0)","v":0},{"$f":"IFERROR(VLOOKUP(BQ13,MATCHSELEVES!$Y$14:$AG$600,9,FALSE),0)","v":0},"Dicko_10",{"$f":"IFERROR(VLOOKUP(BW13,MATCHSELEVES!$Y$14:$AE$600,3,FALSE),0)","v":0},{"$f":"IFERROR(VLOOKUP(BW13,MATCHSELEVES!$Y$14:$AE$600,4,FALSE),0)","v":0},{"$f":"IFERROR(VLOOKUP(BW13,MATCHSELEVES!$Y$14:$AE$600,5,FALSE),0)","v":0},{"$f":"IFERROR(VLOOKUP(BW13,MATCHSELEVES!$Y$14:$AF$600,8,FALSE),0)","v":0},{"$f":"IFERROR(VLOOKUP(BW13,MATCHSELEVES!$Y$14:$AG$600,9,FALSE),0)","v":0},"Dicko_11",{"$f":"IFERROR(VLOOKUP(CC13,MATCHSELEVES!$Y$14:$AE$600,3,FALSE),0)","v":0},{"$f":"IFERROR(VLOOKUP(CC13,MATCHSELEVES!$Y$14:$AE$600,4,FALSE),0)","v":0},{"$f":"IFERROR(VLOOKUP(CC13,MATCHSELEVES!$Y$14:$AE$600,5,FALSE),0)","v":0},{"$f":"IFERROR(VLOOKUP(CC13,MATCHSELEVES!$Y$14:$AF$600,8,FALSE),0)","v":0},{"$f":"IFERROR(VLOOKUP(CC13,MATCHSELEVES!$Y$14:$AG$600,9,FALSE),0)","v":0},"Dicko_12",{"$f":"IFERROR(VLOOKUP(CI13,MATCHSELEVES!$Y$14:$AE$600,3,FALSE),0)","v":0},{"$f":"IFERROR(VLOOKUP(CI13,MATCHSELEVES!$Y$14:$AE$600,4,FALSE),0)","v":0},{"$f":"IFERROR(VLOOKUP(CI13,MATCHSELEVES!$Y$14:$AE$600,5,FALSE),0)","v":0},{"$f":"IFERROR(VLOOKUP(CI13,MATCHSELEVES!$Y$14:$AF$600,8,FALSE),0)","v":0},{"$f":"IFERROR(VLOOKUP(CI13,MATCHSELEVES!$Y$14:$AG$600,9,FALSE),0)","v":0},"Dicko_13",{"$f":"IFERROR(VLOOKUP(CO13,MATCHSELEVES!$Y$14:$AE$600,3,FALSE),0)","v":0},{"$f":"IFERROR(VLOOKUP(CO13,MATCHSELEVES!$Y$14:$AE$600,4,FALSE),0)","v":0},{"$f":"IFERROR(VLOOKUP(CO13,MATCHSELEVES!$Y$14:$AE$600,5,FALSE),0)","v":0},{"$f":"IFERROR(VLOOKUP(CO13,MATCHSELEVES!$Y$14:$AF$600,8,FALSE),0)","v":0},{"$f":"IFERROR(VLOOKUP(CO13,MATCHSELEVES!$Y$14:$AG$600,9,FALSE),0)","v":0},"Dicko_14",{"$f":"IFERROR(VLOOKUP(CU13,MATCHSELEVES!$Y$14:$AE$600,3,FALSE),0)","v":0},{"$f":"IFERROR(VLOOKUP(CU13,MATCHSELEVES!$Y$14:$AE$600,4,FALSE),0)","v":0},{"$f":"IFERROR(VLOOKUP(CU13,MATCHSELEVES!$Y$14:$AE$600,5,FALSE),0)","v":0},{"$f":"IFERROR(VLOOKUP(CU13,MATCHSELEVES!$Y$14:$AF$600,8,FALSE),0)","v":0},{"$f":"IFERROR(VLOOKUP(CU13,MATCHSELEVES!$Y$14:$AG$600,9,FALSE),0)","v":0},"Dicko_15",{"$f":"IFERROR(VLOOKUP(DA13,MATCHSELEVES!$Y$14:$AE$600,3,FALSE),0)","v":0},{"$f":"IFERROR(VLOOKUP(DA13,MATCHSELEVES!$Y$14:$AE$600,4,FALSE),0)","v":0},{"$f":"IFERROR(VLOOKUP(DA13,MATCHSELEVES!$Y$14:$AE$600,5,FALSE),0)","v":0},{"$f":"IFERROR(VLOOKUP(DA13,MATCHSELEVES!$Y$14:$AF$600,8,FALSE),0)","v":0},{"$f":"IFERROR(VLOOKUP(DA13,MATCHSELEVES!$Y$14:$AG$600,9,FALSE),0)","v":0},"Dicko_16",{"$f":"IFERROR(VLOOKUP(DG13,MATCHSELEVES!$Y$14:$AE$600,3,FALSE),0)","v":0},{"$f":"IFERROR(VLOOKUP(DG13,MATCHSELEVES!$Y$14:$AE$600,4,FALSE),0)","v":0},{"$f":"IFERROR(VLOOKUP(DG13,MATCHSELEVES!$Y$14:$AE$600,5,FALSE),0)","v":0},{"$f":"IFERROR(VLOOKUP(DG13,MATCHSELEVES!$Y$14:$AF$600,8,FALSE),0)","v":0},{"$f":"IFERROR(VLOOKUP(DG13,MATCHSELEVES!$Y$14:$AG$600,9,FALSE),0)","v":0},"Dicko_17",{"$f":"IFERROR(VLOOKUP(DM13,MATCHSELEVES!$Y$14:$AE$600,3,FALSE),0)","v":0},{"$f":"IFERROR(VLOOKUP(DM13,MATCHSELEVES!$Y$14:$AE$600,4,FALSE),0)","v":0},{"$f":"IFERROR(VLOOKUP(DM13,MATCHSELEVES!$Y$14:$AE$600,5,FALSE),0)","v":0},{"$f":"IFERROR(VLOOKUP(DM13,MATCHSELEVES!$Y$14:$AF$600,8,FALSE),0)","v":0},{"$f":"IFERROR(VLOOKUP(DM13,MATCHSELEVES!$Y$14:$AG$600,9,FALSE),0)","v":0},"Dicko_18",{"$f":"IFERROR(VLOOKUP(DS13,MATCHSELEVES!$Y$14:$AE$600,3,FALSE),0)","v":0},{"$f":"IFERROR(VLOOKUP(DS13,MATCHSELEVES!$Y$14:$AE$600,4,FALSE),0)","v":0},{"$f":"IFERROR(VLOOKUP(DS13,MATCHSELEVES!$Y$14:$AE$600,5,FALSE),0)","v":0},{"$f":"IFERROR(VLOOKUP(DS13,MATCHSELEVES!$Y$14:$AF$600,8,FALSE),0)","v":0},{"$f":"IFERROR(VLOOKUP(DS13,MATCHSELEVES!$Y$14:$AG$600,9,FALSE),0)","v":0},"Dicko_19",{"$f":"IFERROR(VLOOKUP(DY13,MATCHSELEVES!$Y$14:$AE$600,3,FALSE),0)","v":0},{"$f":"IFERROR(VLOOKUP(DY13,MATCHSELEVES!$Y$14:$AE$600,4,FALSE),0)","v":0},{"$f":"IFERROR(VLOOKUP(DY13,MATCHSELEVES!$Y$14:$AE$600,5,FALSE),0)","v":0},{"$f":"IFERROR(VLOOKUP(DY13,MATCHSELEVES!$Y$14:$AF$600,8,FALSE),0)","v":0},{"$f":"IFERROR(VLOOKUP(DY13,MATCHSELEVES!$Y$14:$AG$600,9,FALSE),0)","v":0},"Dicko_20",{"$f":"IFERROR(VLOOKUP(EE13,MATCHSELEVES!$Y$14:$AE$600,3,FALSE),0)","v":0},{"$f":"IFERROR(VLOOKUP(EE13,MATCHSELEVES!$Y$14:$AE$600,4,FALSE),0)","v":0},{"$f":"IFERROR(VLOOKUP(EE13,MATCHSELEVES!$Y$14:$AE$600,5,FALSE),0)","v":0},{"$f":"IFERROR(VLOOKUP(EE13,MATCHSELEVES!$Y$14:$AF$600,8,FALSE),0)","v":0},{"$f":"IFERROR(VLOOKUP(EE13,MATCHSELEVES!$Y$14:$AG$600,9,FALSE),0)","v":0},"Dicko_21",{"$f":"IFERROR(VLOOKUP(EK13,MATCHSELEVES!$Y$14:$AE$600,3,FALSE),0)","v":0},{"$f":"IFERROR(VLOOKUP(EK13,MATCHSELEVES!$Y$14:$AE$600,4,FALSE),0)","v":0},{"$f":"IFERROR(VLOOKUP(EK13,MATCHSELEVES!$Y$14:$AE$600,5,FALSE),0)","v":0},{"$f":"IFERROR(VLOOKUP(EK13,MATCHSELEVES!$Y$14:$AF$600,8,FALSE),0)","v":0},{"$f":"IFERROR(VLOOKUP(EK13,MATCHSELEVES!$Y$14:$AG$600,9,FALSE),0)","v":0},"Dicko_22",{"$f":"IFERROR(VLOOKUP(EQ13,MATCHSELEVES!$Y$14:$AE$600,3,FALSE),0)","v":0},{"$f":"IFERROR(VLOOKUP(EQ13,MATCHSELEVES!$Y$14:$AE$600,4,FALSE),0)","v":0},{"$f":"IFERROR(VLOOKUP(EQ13,MATCHSELEVES!$Y$14:$AE$600,5,FALSE),0)","v":0},{"$f":"IFERROR(VLOOKUP(EQ13,MATCHSELEVES!$Y$14:$AF$600,8,FALSE),0)","v":0},{"$f":"IFERROR(VLOOKUP(EQ13,MATCHSELEVES!$Y$14:$AG$600,9,FALSE),0)","v":0},"Dicko_23",{"$f":"IFERROR(VLOOKUP(EW13,MATCHSELEVES!$Y$14:$AE$600,3,FALSE),0)","v":0},{"$f":"IFERROR(VLOOKUP(EW13,MATCHSELEVES!$Y$14:$AE$600,4,FALSE),0)","v":0},{"$f":"IFERROR(VLOOKUP(EW13,MATCHSELEVES!$Y$14:$AE$600,5,FALSE),0)","v":0},{"$f":"IFERROR(VLOOKUP(EW13,MATCHSELEVES!$Y$14:$AF$600,8,FALSE),0)","v":0},{"$f":"IFERROR(VLOOKUP(EW13,MATCHSELEVES!$Y$14:$AG$600,9,FALSE),0)","v":0},"Dicko_24",{"$f":"IFERROR(VLOOKUP(FC13,MATCHSELEVES!$Y$14:$AE$600,3,FALSE),0)","v":0},{"$f":"IFERROR(VLOOKUP(FC13,MATCHSELEVES!$Y$14:$AE$600,4,FALSE),0)","v":0},{"$f":"IFERROR(VLOOKUP(FC13,MATCHSELEVES!$Y$14:$AE$600,5,FALSE),0)","v":0},{"$f":"IFERROR(VLOOKUP(FC13,MATCHSELEVES!$Y$14:$AF$600,8,FALSE),0)","v":0},{"$f":"IFERROR(VLOOKUP(FC13,MATCHSELEVES!$Y$14:$AG$600,9,FALSE),0)","v":0},"Dicko_25",{"$f":"IFERROR(VLOOKUP(FI13,MATCHSELEVES!$Y$14:$AE$600,3,FALSE),0)","v":0},{"$f":"IFERROR(VLOOKUP(FI13,MATCHSELEVES!$Y$14:$AE$600,4,FALSE),0)","v":0},{"$f":"IFERROR(VLOOKUP(FI13,MATCHSELEVES!$Y$14:$AE$600,5,FALSE),0)","v":0},{"$f":"IFERROR(VLOOKUP(FI13,MATCHSELEVES!$Y$14:$AF$600,8,FALSE),0)","v":0},{"$f":"IFERROR(VLOOKUP(FI13,MATCHSELEVES!$Y$14:$AG$600,9,FALSE),0)","v":0},"Dicko_26",{"$f":"IFERROR(VLOOKUP(FO13,MATCHSELEVES!$Y$14:$AE$600,3,FALSE),0)","v":0},{"$f":"IFERROR(VLOOKUP(FO13,MATCHSELEVES!$Y$14:$AE$600,4,FALSE),0)","v":0},{"$f":"IFERROR(VLOOKUP(FO13,MATCHSELEVES!$Y$14:$AE$600,5,FALSE),0)","v":0},{"$f":"IFERROR(VLOOKUP(FO13,MATCHSELEVES!$Y$14:$AF$600,8,FALSE),0)","v":0},{"$f":"IFERROR(VLOOKUP(FO13,MATCHSELEVES!$Y$14:$AG$600,9,FALSE),0)","v":0},"Dicko_27",{"$f":"IFERROR(VLOOKUP(FU13,MATCHSELEVES!$Y$14:$AE$600,3,FALSE),0)","v":0},{"$f":"IFERROR(VLOOKUP(FU13,MATCHSELEVES!$Y$14:$AE$600,4,FALSE),0)","v":0},{"$f":"IFERROR(VLOOKUP(FU13,MATCHSELEVES!$Y$14:$AE$600,5,FALSE),0)","v":0},{"$f":"IFERROR(VLOOKUP(FU13,MATCHSELEVES!$Y$14:$AF$600,8,FALSE),0)","v":0},{"$f":"IFERROR(VLOOKUP(FU13,MATCHSELEVES!$Y$14:$AG$600,9,FALSE),0)","v":0},"Dicko_28",{"$f":"IFERROR(VLOOKUP(GA13,MATCHSELEVES!$Y$14:$AE$600,3,FALSE),0)","v":0},{"$f":"IFERROR(VLOOKUP(GA13,MATCHSELEVES!$Y$14:$AE$600,4,FALSE),0)","v":0},{"$f":"IFERROR(VLOOKUP(GA13,MATCHSELEVES!$Y$14:$AE$600,5,FALSE),0)","v":0},{"$f":"IFERROR(VLOOKUP(GA13,MATCHSELEVES!$Y$14:$AF$600,8,FALSE),0)","v":0},{"$f":"IFERROR(VLOOKUP(GA13,MATCHSELEVES!$Y$14:$AG$600,9,FALSE),0)","v":0},"Dicko_29",{"$f":"IFERROR(VLOOKUP(GG13,MATCHSELEVES!$Y$14:$AE$600,3,FALSE),0)","v":0},{"$f":"IFERROR(VLOOKUP(GG13,MATCHSELEVES!$Y$14:$AE$600,4,FALSE),0)","v":0},{"$f":"IFERROR(VLOOKUP(GG13,MATCHSELEVES!$Y$14:$AE$600,5,FALSE),0)","v":0},{"$f":"IFERROR(VLOOKUP(GG13,MATCHSELEVES!$Y$14:$AF$600,8,FALSE),0)","v":0},{"$f":"IFERROR(VLOOKUP(GG13,MATCHSELEVES!$Y$14:$AG$600,9,FALSE),0)","v":0},"Dicko_30",{"$f":"IFERROR(VLOOKUP(GM13,MATCHSELEVES!$Y$14:$AE$600,3,FALSE),0)","v":0},{"$f":"IFERROR(VLOOKUP(GM13,MATCHSELEVES!$Y$14:$AE$600,4,FALSE),0)","v":0},{"$f":"IFERROR(VLOOKUP(GM13,MATCHSELEVES!$Y$14:$AE$600,5,FALSE),0)","v":0},{"$f":"IFERROR(VLOOKUP(GM13,MATCHSELEVES!$Y$14:$AF$600,8,FALSE),0)","v":0},{"$f":"IFERROR(VLOOKUP(GM13,MATCHSELEVES!$Y$14:$AG$600,9,FALSE),0)","v":0},"Dicko_31",{"$f":"IFERROR(VLOOKUP(GS13,MATCHSELEVES!$Y$14:$AE$600,3,FALSE),0)","v":0},{"$f":"IFERROR(VLOOKUP(GS13,MATCHSELEVES!$Y$14:$AE$600,4,FALSE),0)","v":0},{"$f":"IFERROR(VLOOKUP(GS13,MATCHSELEVES!$Y$14:$AE$600,5,FALSE),0)","v":0},{"$f":"IFERROR(VLOOKUP(GS13,MATCHSELEVES!$Y$14:$AF$600,8,FALSE),0)","v":0},{"$f":"IFERROR(VLOOKUP(GS13,MATCHSELEVES!$Y$14:$AG$600,9,FALSE),0)","v":0},"Dicko_32",{"$f":"IFERROR(VLOOKUP(GY13,MATCHSELEVES!$Y$14:$AE$600,3,FALSE),0)","v":0},{"$f":"IFERROR(VLOOKUP(GY13,MATCHSELEVES!$Y$14:$AE$600,4,FALSE),0)","v":0},{"$f":"IFERROR(VLOOKUP(GY13,MATCHSELEVES!$Y$14:$AE$600,5,FALSE),0)","v":0},{"$f":"IFERROR(VLOOKUP(GY13,MATCHSELEVES!$Y$14:$AF$600,8,FALSE),0)","v":0},{"$f":"IFERROR(VLOOKUP(GY13,MATCHSELEVES!$Y$14:$AG$600,9,FALSE),0)","v":0},"Dicko_33",{"$f":"IFERROR(VLOOKUP(HE13,MATCHSELEVES!$Y$14:$AE$600,3,FALSE),0)","v":0},{"$f":"IFERROR(VLOOKUP(HE13,MATCHSELEVES!$Y$14:$AE$600,4,FALSE),0)","v":0},{"$f":"IFERROR(VLOOKUP(HE13,MATCHSELEVES!$Y$14:$AE$600,5,FALSE),0)","v":0},{"$f":"IFERROR(VLOOKUP(HE13,MATCHSELEVES!$Y$14:$AF$600,8,FALSE),0)","v":0},{"$f":"IFERROR(VLOOKUP(HE13,MATCHSELEVES!$Y$14:$AG$600,9,FALSE),0)","v":0},"Dicko_34",{"$f":"IFERROR(VLOOKUP(HK13,MATCHSELEVES!$Y$14:$AE$600,3,FALSE),0)","v":0},{"$f":"IFERROR(VLOOKUP(HK13,MATCHSELEVES!$Y$14:$AE$600,4,FALSE),0)","v":0},{"$f":"IFERROR(VLOOKUP(HK13,MATCHSELEVES!$Y$14:$AE$600,5,FALSE),0)","v":0},{"$f":"IFERROR(VLOOKUP(HK13,MATCHSELEVES!$Y$14:$AF$600,8,FALSE),0)","v":0},{"$f":"IFERROR(VLOOKUP(HK13,MATCHSELEVES!$Y$14:$AG$600,9,FALSE),0)","v":0},"Dicko_35",{"$f":"IFERROR(VLOOKUP(HQ13,MATCHSELEVES!$Y$14:$AE$600,3,FALSE),0)","v":0},{"$f":"IFERROR(VLOOKUP(HQ13,MATCHSELEVES!$Y$14:$AE$600,4,FALSE),0)","v":0},{"$f":"IFERROR(VLOOKUP(HQ13,MATCHSELEVES!$Y$14:$AE$600,5,FALSE),0)","v":0},{"$f":"IFERROR(VLOOKUP(HQ13,MATCHSELEVES!$Y$14:$AF$600,8,FALSE),0)","v":0},{"$f":"IFERROR(VLOOKUP(HQ13,MATCHSELEVES!$Y$14:$AG$600,9,FALSE),0)","v":0},"Dicko_36",{"$f":"IFERROR(VLOOKUP(HW13,MATCHSELEVES!$Y$14:$AE$600,3,FALSE),0)","v":0},{"$f":"IFERROR(VLOOKUP(HW13,MATCHSELEVES!$Y$14:$AE$600,4,FALSE),0)","v":0},{"$f":"IFERROR(VLOOKUP(HW13,MATCHSELEVES!$Y$14:$AE$600,5,FALSE),0)","v":0},{"$f":"IFERROR(VLOOKUP(HW13,MATCHSELEVES!$Y$14:$AF$600,8,FALSE),0)","v":0},{"$f":"IFERROR(VLOOKUP(HW13,MATCHSELEVES!$Y$14:$AG$600,9,FALSE),0)","v":0},"Dicko_37",{"$f":"IFERROR(VLOOKUP(IC13,MATCHSELEVES!$Y$14:$AE$600,3,FALSE),0)","v":0},{"$f":"IFERROR(VLOOKUP(IC13,MATCHSELEVES!$Y$14:$AE$600,4,FALSE),0)","v":0},{"$f":"IFERROR(VLOOKUP(IC13,MATCHSELEVES!$Y$14:$AE$600,5,FALSE),0)","v":0},{"$f":"IFERROR(VLOOKUP(IC13,MATCHSELEVES!$Y$14:$AF$600,8,FALSE),0)","v":0},{"$f":"IFERROR(VLOOKUP(IC13,MATCHSELEVES!$Y$14:$AG$600,9,FALSE),0)","v":0},"Dicko_38",{"$f":"IFERROR(VLOOKUP(II13,MATCHSELEVES!$Y$14:$AE$600,3,FALSE),0)","v":0},{"$f":"IFERROR(VLOOKUP(II13,MATCHSELEVES!$Y$14:$AE$600,4,FALSE),0)","v":0},{"$f":"IFERROR(VLOOKUP(II13,MATCHSELEVES!$Y$14:$AE$600,5,FALSE),0)","v":0},{"$f":"IFERROR(VLOOKUP(II13,MATCHSELEVES!$Y$14:$AF$600,8,FALSE),0)","v":0},{"$f":"IFERROR(VLOOKUP(II13,MATCHSELEVES!$Y$14:$AG$600,9,FALSE),0)","v":0},"Dicko_39",{"$f":"IFERROR(VLOOKUP(IO13,MATCHSELEVES!$Y$14:$AE$600,3,FALSE),0)","v":0},{"$f":"IFERROR(VLOOKUP(IO13,MATCHSELEVES!$Y$14:$AE$600,4,FALSE),0)","v":0},{"$f":"IFERROR(VLOOKUP(IO13,MATCHSELEVES!$Y$14:$AE$600,5,FALSE),0)","v":0},{"$f":"IFERROR(VLOOKUP(IO13,MATCHSELEVES!$Y$14:$AF$600,8,FALSE),0)","v":0},{"$f":"IFERROR(VLOOKUP(IO13,MATCHSELEVES!$Y$14:$AG$600,9,FALSE),0)","v":0},"Dicko_40",{"$f":"IFERROR(VLOOKUP(IU13,MATCHSELEVES!$Y$14:$AE$600,3,FALSE),0)","v":0},{"$f":"IFERROR(VLOOKUP(IU13,MATCHSELEVES!$Y$14:$AE$600,4,FALSE),0)","v":0},{"$f":"IFERROR(VLOOKUP(IU13,MATCHSELEVES!$Y$14:$AE$600,5,FALSE),0)","v":0},{"$f":"IFERROR(VLOOKUP(IU13,MATCHSELEVES!$Y$14:$AF$600,8,FALSE),0)","v":0},{"$f":"IFERROR(VLOOKUP(IU13,MATCHSELEVES!$Y$14:$AG$600,9,FALSE),0)","v":0},"Dickop_1",{"$f":"IFERROR(VLOOKUP(JA13,MATCHSELEVES!$Y$14:$AE$600,3,FALSE),0)","v":0},{"$f":"IFERROR(VLOOKUP(JA13,MATCHSELEVES!$Y$14:$AE$600,4,FALSE),0)","v":0},{"$f":"IFERROR(VLOOKUP(JA13,MATCHSELEVES!$Y$14:$AE$600,5,FALSE),0)","v":0},{"$f":"IFERROR(VLOOKUP(JA13,MATCHSELEVES!$Y$14:$AF$600,8,FALSE),0)","v":0},{"$f":"IFERROR(VLOOKUP(JA13,MATCHSELEVES!$Y$14:$AG$600,9,FALSE),0)","v":0},"Dickop_2",{"$f":"IFERROR(VLOOKUP(JG13,MATCHSELEVES!$Y$14:$AE$600,3,FALSE),0)","v":0},{"$f":"IFERROR(VLOOKUP(JG13,MATCHSELEVES!$Y$14:$AE$600,4,FALSE),0)","v":0},{"$f":"IFERROR(VLOOKUP(JG13,MATCHSELEVES!$Y$14:$AE$600,5,FALSE),0)","v":0},{"$f":"IFERROR(VLOOKUP(JG13,MATCHSELEVES!$Y$14:$AF$600,8,FALSE),0)","v":0},{"$f":"IFERROR(VLOOKUP(JG13,MATCHSELEVES!$Y$14:$AG$600,9,FALSE),0)","v":0},"Dickop_3",{"$f":"IFERROR(VLOOKUP(JM13,MATCHSELEVES!$Y$14:$AE$600,3,FALSE),0)","v":0},{"$f":"IFERROR(VLOOKUP(JM13,MATCHSELEVES!$Y$14:$AE$600,4,FALSE),0)","v":0},{"$f":"IFERROR(VLOOKUP(JM13,MATCHSELEVES!$Y$14:$AE$600,5,FALSE),0)","v":0},{"$f":"IFERROR(VLOOKUP(JM13,MATCHSELEVES!$Y$14:$AF$600,8,FALSE),0)","v":0},{"$f":"IFERROR(VLOOKUP(JM13,MATCHSELEVES!$Y$14:$AG$600,9,FALSE),0)","v":0},"Dickop_4",{"$f":"IFERROR(VLOOKUP(JS13,MATCHSELEVES!$Y$14:$AE$600,3,FALSE),0)","v":0},{"$f":"IFERROR(VLOOKUP(JS13,MATCHSELEVES!$Y$14:$AE$600,4,FALSE),0)","v":0},{"$f":"IFERROR(VLOOKUP(JS13,MATCHSELEVES!$Y$14:$AE$600,5,FALSE),0)","v":0},{"$f":"IFERROR(VLOOKUP(JS13,MATCHSELEVES!$Y$14:$AF$600,8,FALSE),0)","v":0},{"$f":"IFERROR(VLOOKUP(JS13,MATCHSELEVES!$Y$14:$AG$600,9,FALSE),0)","v":0},"Dickop_5",{"$f":"IFERROR(VLOOKUP(JY13,MATCHSELEVES!$Y$14:$AE$600,3,FALSE),0)","v":0},{"$f":"IFERROR(VLOOKUP(JY13,MATCHSELEVES!$Y$14:$AE$600,4,FALSE),0)","v":0},{"$f":"IFERROR(VLOOKUP(JY13,MATCHSELEVES!$Y$14:$AE$600,5,FALSE),0)","v":0},{"$f":"IFERROR(VLOOKUP(JY13,MATCHSELEVES!$Y$14:$AF$600,8,FALSE),0)","v":0},{"$f":"IFERROR(VLOOKUP(JY13,MATCHSELEVES!$Y$14:$AG$600,9,FALSE),0)","v":0},"Dickop_6",{"$f":"IFERROR(VLOOKUP(KE13,MATCHSELEVES!$Y$14:$AE$600,3,FALSE),0)","v":0},{"$f":"IFERROR(VLOOKUP(KE13,MATCHSELEVES!$Y$14:$AE$600,4,FALSE),0)","v":0},{"$f":"IFERROR(VLOOKUP(KE13,MATCHSELEVES!$Y$14:$AE$600,5,FALSE),0)","v":0},{"$f":"IFERROR(VLOOKUP(KE13,MATCHSELEVES!$Y$14:$AF$600,8,FALSE),0)","v":0},{"$f":"IFERROR(VLOOKUP(KE13,MATCHSELEVES!$Y$14:$AG$600,9,FALSE),0)","v":0},"Dickop_7",{"$f":"IFERROR(VLOOKUP(KK13,MATCHSELEVES!$Y$14:$AE$600,3,FALSE),0)","v":0},{"$f":"IFERROR(VLOOKUP(KK13,MATCHSELEVES!$Y$14:$AE$600,4,FALSE),0)","v":0},{"$f":"IFERROR(VLOOKUP(KK13,MATCHSELEVES!$Y$14:$AE$600,5,FALSE),0)","v":0},{"$f":"IFERROR(VLOOKUP(KK13,MATCHSELEVES!$Y$14:$AF$600,8,FALSE),0)","v":0},{"$f":"IFERROR(VLOOKUP(KK13,MATCHSELEVES!$Y$14:$AG$600,9,FALSE),0)","v":0},"Dickop_8",{"$f":"IFERROR(VLOOKUP(KQ13,MATCHSELEVES!$Y$14:$AE$600,3,FALSE),0)","v":0},{"$f":"IFERROR(VLOOKUP(KQ13,MATCHSELEVES!$Y$14:$AE$600,4,FALSE),0)","v":0},{"$f":"IFERROR(VLOOKUP(KQ13,MATCHSELEVES!$Y$14:$AE$600,5,FALSE),0)","v":0},{"$f":"IFERROR(VLOOKUP(KQ13,MATCHSELEVES!$Y$14:$AF$600,8,FALSE),0)","v":0},{"$f":"IFERROR(VLOOKUP(KQ13,MATCHSELEVES!$Y$14:$AG$600,9,FALSE),0)","v":0},"Dickop_9",{"$f":"IFERROR(VLOOKUP(KW13,MATCHSELEVES!$Y$14:$AE$600,3,FALSE),0)","v":0},{"$f":"IFERROR(VLOOKUP(KW13,MATCHSELEVES!$Y$14:$AE$600,4,FALSE),0)","v":0},{"$f":"IFERROR(VLOOKUP(KW13,MATCHSELEVES!$Y$14:$AE$600,5,FALSE),0)","v":0},{"$f":"IFERROR(VLOOKUP(KW13,MATCHSELEVES!$Y$14:$AF$600,8,FALSE),0)","v":0},{"$f":"IFERROR(VLOOKUP(KW13,MATCHSELEVES!$Y$14:$AG$600,9,FALSE),0)","v":0},"Dickop_10",{"$f":"IFERROR(VLOOKUP(LC13,MATCHSELEVES!$Y$14:$AE$600,3,FALSE),0)","v":0},{"$f":"IFERROR(VLOOKUP(LC13,MATCHSELEVES!$Y$14:$AE$600,4,FALSE),0)","v":0},{"$f":"IFERROR(VLOOKUP(LC13,MATCHSELEVES!$Y$14:$AE$600,5,FALSE),0)","v":0},{"$f":"IFERROR(VLOOKUP(LC13,MATCHSELEVES!$Y$14:$AF$600,8,FALSE),0)","v":0},{"$f":"IFERROR(VLOOKUP(LC13,MATCHSELEVES!$Y$14:$AG$600,9,FALSE),0)","v":0},"Dickop_11",{"$f":"IFERROR(VLOOKUP(LI13,MATCHSELEVES!$Y$14:$AE$600,3,FALSE),0)","v":0},{"$f":"IFERROR(VLOOKUP(LI13,MATCHSELEVES!$Y$14:$AE$600,4,FALSE),0)","v":0},{"$f":"IFERROR(VLOOKUP(LI13,MATCHSELEVES!$Y$14:$AE$600,5,FALSE),0)","v":0},{"$f":"IFERROR(VLOOKUP(LI13,MATCHSELEVES!$Y$14:$AF$600,8,FALSE),0)","v":0},{"$f":"IFERROR(VLOOKUP(LI13,MATCHSELEVES!$Y$14:$AG$600,9,FALSE),0)","v":0},"Dickop_12",{"$f":"IFERROR(VLOOKUP(LO13,MATCHSELEVES!$Y$14:$AE$600,3,FALSE),0)","v":0},{"$f":"IFERROR(VLOOKUP(LO13,MATCHSELEVES!$Y$14:$AE$600,4,FALSE),0)","v":0},{"$f":"IFERROR(VLOOKUP(LO13,MATCHSELEVES!$Y$14:$AE$600,5,FALSE),0)","v":0},{"$f":"IFERROR(VLOOKUP(LO13,MATCHSELEVES!$Y$14:$AF$600,8,FALSE),0)","v":0},{"$f":"IFERROR(VLOOKUP(LO13,MATCHSELEVES!$Y$14:$AG$600,9,FALSE),0)","v":0},"Dickop_13",{"$f":"IFERROR(VLOOKUP(LU13,MATCHSELEVES!$Y$14:$AE$600,3,FALSE),0)","v":0},{"$f":"IFERROR(VLOOKUP(LU13,MATCHSELEVES!$Y$14:$AE$600,4,FALSE),0)","v":0},{"$f":"IFERROR(VLOOKUP(LU13,MATCHSELEVES!$Y$14:$AE$600,5,FALSE),0)","v":0},{"$f":"IFERROR(VLOOKUP(LU13,MATCHSELEVES!$Y$14:$AF$600,8,FALSE),0)","v":0},{"$f":"IFERROR(VLOOKUP(LU13,MATCHSELEVES!$Y$14:$AG$600,9,FALSE),0)","v":0},"Dickop_14",{"$f":"IFERROR(VLOOKUP(MA13,MATCHSELEVES!$Y$14:$AE$600,3,FALSE),0)","v":0},{"$f":"IFERROR(VLOOKUP(MA13,MATCHSELEVES!$Y$14:$AE$600,4,FALSE),0)","v":0},{"$f":"IFERROR(VLOOKUP(MA13,MATCHSELEVES!$Y$14:$AE$600,5,FALSE),0)","v":0},{"$f":"IFERROR(VLOOKUP(MA13,MATCHSELEVES!$Y$14:$AF$600,8,FALSE),0)","v":0},{"$f":"IFERROR(VLOOKUP(MA13,MATCHSELEVES!$Y$14:$AG$600,9,FALSE),0)","v":0},"Dickop_15",{"$f":"IFERROR(VLOOKUP(MG13,MATCHSELEVES!$Y$14:$AE$600,3,FALSE),0)","v":0},{"$f":"IFERROR(VLOOKUP(MG13,MATCHSELEVES!$Y$14:$AE$600,4,FALSE),0)","v":0},{"$f":"IFERROR(VLOOKUP(MG13,MATCHSELEVES!$Y$14:$AE$600,5,FALSE),0)","v":0},{"$f":"IFERROR(VLOOKUP(MG13,MATCHSELEVES!$Y$14:$AF$600,8,FALSE),0)","v":0},{"$f":"IFERROR(VLOOKUP(MG13,MATCHSELEVES!$Y$14:$AG$600,9,FALSE),0)","v":0},"Dickop_16",{"$f":"IFERROR(VLOOKUP(MM13,MATCHSELEVES!$Y$14:$AE$600,3,FALSE),0)","v":0},{"$f":"IFERROR(VLOOKUP(MM13,MATCHSELEVES!$Y$14:$AE$600,4,FALSE),0)","v":0},{"$f":"IFERROR(VLOOKUP(MM13,MATCHSELEVES!$Y$14:$AE$600,5,FALSE),0)","v":0},{"$f":"IFERROR(VLOOKUP(MM13,MATCHSELEVES!$Y$14:$AF$600,8,FALSE),0)","v":0},{"$f":"IFERROR(VLOOKUP(MM13,MATCHSELEVES!$Y$14:$AG$600,9,FALSE),0)","v":0},"Dickop_17",{"$f":"IFERROR(VLOOKUP(MS13,MATCHSELEVES!$Y$14:$AE$600,3,FALSE),0)","v":0},{"$f":"IFERROR(VLOOKUP(MS13,MATCHSELEVES!$Y$14:$AE$600,4,FALSE),0)","v":0},{"$f":"IFERROR(VLOOKUP(MS13,MATCHSELEVES!$Y$14:$AE$600,5,FALSE),0)","v":0},{"$f":"IFERROR(VLOOKUP(MS13,MATCHSELEVES!$Y$14:$AF$600,8,FALSE),0)","v":0},{"$f":"IFERROR(VLOOKUP(MS13,MATCHSELEVES!$Y$14:$AG$600,9,FALSE),0)","v":0},"Dickop_18",{"$f":"IFERROR(VLOOKUP(MY13,MATCHSELEVES!$Y$14:$AE$600,3,FALSE),0)","v":0},{"$f":"IFERROR(VLOOKUP(MY13,MATCHSELEVES!$Y$14:$AE$600,4,FALSE),0)","v":0},{"$f":"IFERROR(VLOOKUP(MY13,MATCHSELEVES!$Y$14:$AE$600,5,FALSE),0)","v":0},{"$f":"IFERROR(VLOOKUP(MY13,MATCHSELEVES!$Y$14:$AF$600,8,FALSE),0)","v":0},{"$f":"IFERROR(VLOOKUP(MY13,MATCHSELEVES!$Y$14:$AG$600,9,FALSE),0)","v":0},"Dickop_19",{"$f":"IFERROR(VLOOKUP(NE13,MATCHSELEVES!$Y$14:$AE$600,3,FALSE),0)","v":0},{"$f":"IFERROR(VLOOKUP(NE13,MATCHSELEVES!$Y$14:$AE$600,4,FALSE),0)","v":0},{"$f":"IFERROR(VLOOKUP(NE13,MATCHSELEVES!$Y$14:$AE$600,5,FALSE),0)","v":0},{"$f":"IFERROR(VLOOKUP(NE13,MATCHSELEVES!$Y$14:$AF$600,8,FALSE),0)","v":0},{"$f":"IFERROR(VLOOKUP(NE13,MATCHSELEVES!$Y$14:$AG$600,9,FALSE),0)","v":0},"Dickop_20",{"$f":"IFERROR(VLOOKUP(NK13,MATCHSELEVES!$Y$14:$AE$600,3,FALSE),0)","v":0},{"$f":"IFERROR(VLOOKUP(NK13,MATCHSELEVES!$Y$14:$AE$600,4,FALSE),0)","v":0},{"$f":"IFERROR(VLOOKUP(NK13,MATCHSELEVES!$Y$14:$AE$600,5,FALSE),0)","v":0},{"$f":"IFERROR(VLOOKUP(NK13,MATCHSELEVES!$Y$14:$AF$600,8,FALSE),0)","v":0},{"$f":"IFERROR(VLOOKUP(NK13,MATCHSELEVES!$Y$14:$AG$600,9,FALSE),0)","v":0},"Dickop_21",{"$f":"IFERROR(VLOOKUP(NQ13,MATCHSELEVES!$Y$14:$AE$600,3,FALSE),0)","v":0},{"$f":"IFERROR(VLOOKUP(NQ13,MATCHSELEVES!$Y$14:$AE$600,4,FALSE),0)","v":0},{"$f":"IFERROR(VLOOKUP(NQ13,MATCHSELEVES!$Y$14:$AE$600,5,FALSE),0)","v":0},{"$f":"IFERROR(VLOOKUP(NQ13,MATCHSELEVES!$Y$14:$AF$600,8,FALSE),0)","v":0},{"$f":"IFERROR(VLOOKUP(NQ13,MATCHSELEVES!$Y$14:$AG$600,9,FALSE),0)","v":0},"Dickop_22",{"$f":"IFERROR(VLOOKUP(NW13,MATCHSELEVES!$Y$14:$AE$600,3,FALSE),0)","v":0},{"$f":"IFERROR(VLOOKUP(NW13,MATCHSELEVES!$Y$14:$AE$600,4,FALSE),0)","v":0},{"$f":"IFERROR(VLOOKUP(NW13,MATCHSELEVES!$Y$14:$AE$600,5,FALSE),0)","v":0},{"$f":"IFERROR(VLOOKUP(NW13,MATCHSELEVES!$Y$14:$AF$600,8,FALSE),0)","v":0},{"$f":"IFERROR(VLOOKUP(NW13,MATCHSELEVES!$Y$14:$AG$600,9,FALSE),0)","v":0},"Dickop_23",{"$f":"IFERROR(VLOOKUP(OC13,MATCHSELEVES!$Y$14:$AE$600,3,FALSE),0)","v":0},{"$f":"IFERROR(VLOOKUP(OC13,MATCHSELEVES!$Y$14:$AE$600,4,FALSE),0)","v":0},{"$f":"IFERROR(VLOOKUP(OC13,MATCHSELEVES!$Y$14:$AE$600,5,FALSE),0)","v":0},{"$f":"IFERROR(VLOOKUP(OC13,MATCHSELEVES!$Y$14:$AF$600,8,FALSE),0)","v":0},{"$f":"IFERROR(VLOOKUP(OC13,MATCHSELEVES!$Y$14:$AG$600,9,FALSE),0)","v":0},"Dickop_24",{"$f":"IFERROR(VLOOKUP(OI13,MATCHSELEVES!$Y$14:$AE$600,3,FALSE),0)","v":0},{"$f":"IFERROR(VLOOKUP(OI13,MATCHSELEVES!$Y$14:$AE$600,4,FALSE),0)","v":0},{"$f":"IFERROR(VLOOKUP(OI13,MATCHSELEVES!$Y$14:$AE$600,5,FALSE),0)","v":0},{"$f":"IFERROR(VLOOKUP(OI13,MATCHSELEVES!$Y$14:$AF$600,8,FALSE),0)","v":0},{"$f":"IFERROR(VLOOKUP(OI13,MATCHSELEVES!$Y$14:$AG$600,9,FALSE),0)","v":0},"Dickop_25",{"$f":"IFERROR(VLOOKUP(OO13,MATCHSELEVES!$Y$14:$AE$600,3,FALSE),0)","v":0},{"$f":"IFERROR(VLOOKUP(OO13,MATCHSELEVES!$Y$14:$AE$600,4,FALSE),0)","v":0},{"$f":"IFERROR(VLOOKUP(OO13,MATCHSELEVES!$Y$14:$AE$600,5,FALSE),0)","v":0},{"$f":"IFERROR(VLOOKUP(OO13,MATCHSELEVES!$Y$14:$AF$600,8,FALSE),0)","v":0},{"$f":"IFERROR(VLOOKUP(OO13,MATCHSELEVES!$Y$14:$AG$600,9,FALSE),0)","v":0},"Dickop_26",{"$f":"IFERROR(VLOOKUP(OU13,MATCHSELEVES!$Y$14:$AE$600,3,FALSE),0)","v":0},{"$f":"IFERROR(VLOOKUP(OU13,MATCHSELEVES!$Y$14:$AE$600,4,FALSE),0)","v":0},{"$f":"IFERROR(VLOOKUP(OU13,MATCHSELEVES!$Y$14:$AE$600,5,FALSE),0)","v":0},{"$f":"IFERROR(VLOOKUP(OU13,MATCHSELEVES!$Y$14:$AF$600,8,FALSE),0)","v":0},{"$f":"IFERROR(VLOOKUP(OU13,MATCHSELEVES!$Y$14:$AG$600,9,FALSE),0)","v":0},"Dickop_27",{"$f":"IFERROR(VLOOKUP(PA13,MATCHSELEVES!$Y$14:$AE$600,3,FALSE),0)","v":0},{"$f":"IFERROR(VLOOKUP(PA13,MATCHSELEVES!$Y$14:$AE$600,4,FALSE),0)","v":0},{"$f":"IFERROR(VLOOKUP(PA13,MATCHSELEVES!$Y$14:$AE$600,5,FALSE),0)","v":0},{"$f":"IFERROR(VLOOKUP(PA13,MATCHSELEVES!$Y$14:$AF$600,8,FALSE),0)","v":0},{"$f":"IFERROR(VLOOKUP(PA13,MATCHSELEVES!$Y$14:$AG$600,9,FALSE),0)","v":0},"Dickop_28",{"$f":"IFERROR(VLOOKUP(PG13,MATCHSELEVES!$Y$14:$AE$600,3,FALSE),0)","v":0},{"$f":"IFERROR(VLOOKUP(PG13,MATCHSELEVES!$Y$14:$AE$600,4,FALSE),0)","v":0},{"$f":"IFERROR(VLOOKUP(PG13,MATCHSELEVES!$Y$14:$AE$600,5,FALSE),0)","v":0},{"$f":"IFERROR(VLOOKUP(PG13,MATCHSELEVES!$Y$14:$AF$600,8,FALSE),0)","v":0},{"$f":"IFERROR(VLOOKUP(PG13,MATCHSELEVES!$Y$14:$AG$600,9,FALSE),0)","v":0},"Dickop_29",{"$f":"IFERROR(VLOOKUP(PM13,MATCHSELEVES!$Y$14:$AE$600,3,FALSE),0)","v":0},{"$f":"IFERROR(VLOOKUP(PM13,MATCHSELEVES!$Y$14:$AE$600,4,FALSE),0)","v":0},{"$f":"IFERROR(VLOOKUP(PM13,MATCHSELEVES!$Y$14:$AE$600,5,FALSE),0)","v":0},{"$f":"IFERROR(VLOOKUP(PM13,MATCHSELEVES!$Y$14:$AF$600,8,FALSE),0)","v":0},{"$f":"IFERROR(VLOOKUP(PM13,MATCHSELEVES!$Y$14:$AG$600,9,FALSE),0)","v":0},"Dickop_30",{"$f":"IFERROR(VLOOKUP(PS13,MATCHSELEVES!$Y$14:$AE$600,3,FALSE),0)","v":0},{"$f":"IFERROR(VLOOKUP(PS13,MATCHSELEVES!$Y$14:$AE$600,4,FALSE),0)","v":0},{"$f":"IFERROR(VLOOKUP(PS13,MATCHSELEVES!$Y$14:$AE$600,5,FALSE),0)","v":0},{"$f":"IFERROR(VLOOKUP(PS13,MATCHSELEVES!$Y$14:$AF$600,8,FALSE),0)","v":0},{"$f":"IFERROR(VLOOKUP(PS13,MATCHSELEVES!$Y$14:$AG$600,9,FALSE),0)","v":0},"Dickop_31",{"$f":"IFERROR(VLOOKUP(PY13,MATCHSELEVES!$Y$14:$AE$600,3,FALSE),0)","v":0},{"$f":"IFERROR(VLOOKUP(PY13,MATCHSELEVES!$Y$14:$AE$600,4,FALSE),0)","v":0},{"$f":"IFERROR(VLOOKUP(PY13,MATCHSELEVES!$Y$14:$AE$600,5,FALSE),0)","v":0},{"$f":"IFERROR(VLOOKUP(PY13,MATCHSELEVES!$Y$14:$AF$600,8,FALSE),0)","v":0},{"$f":"IFERROR(VLOOKUP(PY13,MATCHSELEVES!$Y$14:$AG$600,9,FALSE),0)","v":0},"Dickop_32",{"$f":"IFERROR(VLOOKUP(QE13,MATCHSELEVES!$Y$14:$AE$600,3,FALSE),0)","v":0},{"$f":"IFERROR(VLOOKUP(QE13,MATCHSELEVES!$Y$14:$AE$600,4,FALSE),0)","v":0},{"$f":"IFERROR(VLOOKUP(QE13,MATCHSELEVES!$Y$14:$AE$600,5,FALSE),0)","v":0},{"$f":"IFERROR(VLOOKUP(QE13,MATCHSELEVES!$Y$14:$AF$600,8,FALSE),0)","v":0},{"$f":"IFERROR(VLOOKUP(QE13,MATCHSELEVES!$Y$14:$AG$600,9,FALSE),0)","v":0},"Dickop_33",{"$f":"IFERROR(VLOOKUP(QK13,MATCHSELEVES!$Y$14:$AE$600,3,FALSE),0)","v":0},{"$f":"IFERROR(VLOOKUP(QK13,MATCHSELEVES!$Y$14:$AE$600,4,FALSE),0)","v":0},{"$f":"IFERROR(VLOOKUP(QK13,MATCHSELEVES!$Y$14:$AE$600,5,FALSE),0)","v":0},{"$f":"IFERROR(VLOOKUP(QK13,MATCHSELEVES!$Y$14:$AF$600,8,FALSE),0)","v":0},{"$f":"IFERROR(VLOOKUP(QK13,MATCHSELEVES!$Y$14:$AG$600,9,FALSE),0)","v":0},"Dickop_34",{"$f":"IFERROR(VLOOKUP(QQ13,MATCHSELEVES!$Y$14:$AE$600,3,FALSE),0)","v":0},{"$f":"IFERROR(VLOOKUP(QQ13,MATCHSELEVES!$Y$14:$AE$600,4,FALSE),0)","v":0},{"$f":"IFERROR(VLOOKUP(QQ13,MATCHSELEVES!$Y$14:$AE$600,5,FALSE),0)","v":0},{"$f":"IFERROR(VLOOKUP(QQ13,MATCHSELEVES!$Y$14:$AF$600,8,FALSE),0)","v":0},{"$f":"IFERROR(VLOOKUP(QQ13,MATCHSELEVES!$Y$14:$AG$600,9,FALSE),0)","v":0},"Dickop_35",{"$f":"IFERROR(VLOOKUP(QW13,MATCHSELEVES!$Y$14:$AE$600,3,FALSE),0)","v":0},{"$f":"IFERROR(VLOOKUP(QW13,MATCHSELEVES!$Y$14:$AE$600,4,FALSE),0)","v":0},{"$f":"IFERROR(VLOOKUP(QW13,MATCHSELEVES!$Y$14:$AE$600,5,FALSE),0)","v":0},{"$f":"IFERROR(VLOOKUP(QW13,MATCHSELEVES!$Y$14:$AF$600,8,FALSE),0)","v":0},{"$f":"IFERROR(VLOOKUP(QW13,MATCHSELEVES!$Y$14:$AG$600,9,FALSE),0)","v":0},"Dickop_36",{"$f":"IFERROR(VLOOKUP(RC13,MATCHSELEVES!$Y$14:$AE$600,3,FALSE),0)","v":0},{"$f":"IFERROR(VLOOKUP(RC13,MATCHSELEVES!$Y$14:$AE$600,4,FALSE),0)","v":0},{"$f":"IFERROR(VLOOKUP(RC13,MATCHSELEVES!$Y$14:$AE$600,5,FALSE),0)","v":0},{"$f":"IFERROR(VLOOKUP(RC13,MATCHSELEVES!$Y$14:$AF$600,8,FALSE),0)","v":0},{"$f":"IFERROR(VLOOKUP(RC13,MATCHSELEVES!$Y$14:$AG$600,9,FALSE),0)","v":0},"Dickop_37",{"$f":"IFERROR(VLOOKUP(RI13,MATCHSELEVES!$Y$14:$AE$600,3,FALSE),0)","v":0},{"$f":"IFERROR(VLOOKUP(RI13,MATCHSELEVES!$Y$14:$AE$600,4,FALSE),0)","v":0},{"$f":"IFERROR(VLOOKUP(RI13,MATCHSELEVES!$Y$14:$AE$600,5,FALSE),0)","v":0},{"$f":"IFERROR(VLOOKUP(RI13,MATCHSELEVES!$Y$14:$AF$600,8,FALSE),0)","v":0},{"$f":"IFERROR(VLOOKUP(RI13,MATCHSELEVES!$Y$14:$AG$600,9,FALSE),0)","v":0},"Dickop_38",{"$f":"IFERROR(VLOOKUP(RO13,MATCHSELEVES!$Y$14:$AE$600,3,FALSE),0)","v":0},{"$f":"IFERROR(VLOOKUP(RO13,MATCHSELEVES!$Y$14:$AE$600,4,FALSE),0)","v":0},{"$f":"IFERROR(VLOOKUP(RO13,MATCHSELEVES!$Y$14:$AE$600,5,FALSE),0)","v":0},{"$f":"IFERROR(VLOOKUP(RO13,MATCHSELEVES!$Y$14:$AF$600,8,FALSE),0)","v":0},{"$f":"IFERROR(VLOOKUP(RO13,MATCHSELEVES!$Y$14:$AG$600,9,FALSE),0)","v":0},"Dickop_39",{"$f":"IFERROR(VLOOKUP(RU13,MATCHSELEVES!$Y$14:$AE$600,3,FALSE),0)","v":0},{"$f":"IFERROR(VLOOKUP(RU13,MATCHSELEVES!$Y$14:$AE$600,4,FALSE),0)","v":0},{"$f":"IFERROR(VLOOKUP(RU13,MATCHSELEVES!$Y$14:$AE$600,5,FALSE),0)","v":0},{"$f":"IFERROR(VLOOKUP(RU13,MATCHSELEVES!$Y$14:$AF$600,8,FALSE),0)","v":0},{"$f":"IFERROR(VLOOKUP(RU13,MATCHSELEVES!$Y$14:$AG$600,9,FALSE),0)","v":0},"Dickop_40",{"$f":"IFERROR(VLOOKUP(SA13,MATCHSELEVES!$Y$14:$AE$600,3,FALSE),0)","v":0},{"$f":"IFERROR(VLOOKUP(SA13,MATCHSELEVES!$Y$14:$AE$600,4,FALSE),0)","v":0},{"$f":"IFERROR(VLOOKUP(SA13,MATCHSELEVES!$Y$14:$AE$600,5,FALSE),0)","v":0},{"$f":"IFERROR(VLOOKUP(SA13,MATCHSELEVES!$Y$14:$AF$600,8,FALSE),0)","v":0},{"$f":"IFERROR(VLOOKUP(SA13,MATCHSELEVES!$Y$14:$AG$600,9,FALSE),0)","v":0}]
[11,null,"Dirvine",11,null,null,{"$f":"COUNTIF(MATCHSELEVES!$Z$14:$Z$600,C14)+COUNTIF(MATCHSELEVES!$Z$14:$Z$600,$C14&\"p\")","v":0},1,{"$f":"COUNTIF(MATCHSELEVES!$F$14:$H$249,C14)","v":0},1,0,1,{"$f":"IFERROR(M57/Tableau10[[#This Row],[Nombre de matchs joués]],0)","v":0},{"$f":"IF(Tableau10[[#This Row],[Nombre de points encaissés]]=0,$C$45,SUMPRODUCT((M$4:M$43<M14)*(M$4:M$43<>0))+1)","v":40},0,1,{"$f":"(Tableau10[[#This Row],[CLASSEMENT1]]+Tableau10[[#This Row],[CLASSEMENT2]]+Tableau10[[#This Row],[CLASSEMENT3]]+Tableau10[[#This Row],[CLASSEMENT4]]+Tableau10[[#This Row],[CLASSEMENT5]]+Tableau10[[#This Row],[CLASSEMENT6]])/6","v":9.1666666666666661},{"$f":"RANK(Tableau10[[#This Row],[MOYENNE CLASSEMENTS]],Tableau10[MOYENNE CLASSEMENTS],1)","v":11},null,{"$f":"Tableau10[[#This Row],[CLASSEMENT1]]","v":11},"Dirvine_1",{"$f":"IFERROR(VLOOKUP(U14,MATCHSELEVES!$Y$14:$AE$600,3,FALSE),0)","v":0},{"$f":"IFERROR(VLOOKUP(U14,MATCHSELEVES!$Y$14:$AE$600,4,FALSE),0)","v":0},{"$f":"IFERROR(VLOOKUP(U14,MATCHSELEVES!$Y$14:$AE$600,5,FALSE),0)","v":0},{"$f":"IFERROR(VLOOKUP(U14,MATCHSELEVES!$Y$14:$AF$600,8,FALSE),0)","v":0},{"$f":"IFERROR(VLOOKUP(U14,MATCHSELEVES!$Y$14:$AG$600,9,FALSE),0)","v":0},"Dirvine_2",{"$f":"IFERROR(VLOOKUP(AA14,MATCHSELEVES!$Y$14:$AE$600,3,FALSE),0)","v":0},{"$f":"IFERROR(VLOOKUP(AA14,MATCHSELEVES!$Y$14:$AE$600,4,FALSE),0)","v":0},{"$f":"IFERROR(VLOOKUP(AA14,MATCHSELEVES!$Y$14:$AE$600,5,FALSE),0)","v":0},{"$f":"IFERROR(VLOOKUP(AA14,MATCHSELEVES!$Y$14:$AF$600,8,FALSE),0)","v":0},{"$f":"IFERROR(VLOOKUP(AA14,MATCHSELEVES!$Y$14:$AG$600,9,FALSE),0)","v":0},"Dirvine_3",{"$f":"IFERROR(VLOOKUP(AG14,MATCHSELEVES!$Y$14:$AE$600,3,FALSE),0)","v":0},{"$f":"IFERROR(VLOOKUP(AG14,MATCHSELEVES!$Y$14:$AE$600,4,FALSE),0)","v":0},{"$f":"IFERROR(VLOOKUP(AG14,MATCHSELEVES!$Y$14:$AE$600,5,FALSE),0)","v":0},{"$f":"IFERROR(VLOOKUP(AG14,MATCHSELEVES!$Y$14:$AF$600,8,FALSE),0)","v":0},{"$f":"IFERROR(VLOOKUP(AG14,MATCHSELEVES!$Y$14:$AG$600,9,FALSE),0)","v":0},"Dirvine_4",{"$f":"IFERROR(VLOOKUP(AM14,MATCHSELEVES!$Y$14:$AE$600,3,FALSE),0)","v":0},{"$f":"IFERROR(VLOOKUP(AM14,MATCHSELEVES!$Y$14:$AE$600,4,FALSE),0)","v":0},{"$f":"IFERROR(VLOOKUP(AM14,MATCHSELEVES!$Y$14:$AE$600,5,FALSE),0)","v":0},{"$f":"IFERROR(VLOOKUP(AM14,MATCHSELEVES!$Y$14:$AF$600,8,FALSE),0)","v":0},{"$f":"IFERROR(VLOOKUP(AM14,MATCHSELEVES!$Y$14:$AG$600,9,FALSE),0)","v":0},"Dirvine_5",{"$f":"IFERROR(VLOOKUP(AS14,MATCHSELEVES!$Y$14:$AE$600,3,FALSE),0)","v":0},{"$f":"IFERROR(VLOOKUP(AS14,MATCHSELEVES!$Y$14:$AE$600,4,FALSE),0)","v":0},{"$f":"IFERROR(VLOOKUP(AS14,MATCHSELEVES!$Y$14:$AE$600,5,FALSE),0)","v":0},{"$f":"IFERROR(VLOOKUP(AS14,MATCHSELEVES!$Y$14:$AF$600,8,FALSE),0)","v":0},{"$f":"IFERROR(VLOOKUP(AS14,MATCHSELEVES!$Y$14:$AG$600,9,FALSE),0)","v":0},"Dirvine_6",{"$f":"IFERROR(VLOOKUP(AY14,MATCHSELEVES!$Y$14:$AE$600,3,FALSE),0)","v":0},{"$f":"IFERROR(VLOOKUP(AY14,MATCHSELEVES!$Y$14:$AE$600,4,FALSE),0)","v":0},{"$f":"IFERROR(VLOOKUP(AY14,MATCHSELEVES!$Y$14:$AE$600,5,FALSE),0)","v":0},{"$f":"IFERROR(VLOOKUP(AY14,MATCHSELEVES!$Y$14:$AF$600,8,FALSE),0)","v":0},{"$f":"IFERROR(VLOOKUP(AY14,MATCHSELEVES!$Y$14:$AG$600,9,FALSE),0)","v":0},"Dirvine_7",{"$f":"IFERROR(VLOOKUP(BE14,MATCHSELEVES!$Y$14:$AE$600,3,FALSE),0)","v":0},{"$f":"IFERROR(VLOOKUP(BE14,MATCHSELEVES!$Y$14:$AE$600,4,FALSE),0)","v":0},{"$f":"IFERROR(VLOOKUP(BE14,MATCHSELEVES!$Y$14:$AE$600,5,FALSE),0)","v":0},{"$f":"IFERROR(VLOOKUP(BE14,MATCHSELEVES!$Y$14:$AF$600,8,FALSE),0)","v":0},{"$f":"IFERROR(VLOOKUP(BE14,MATCHSELEVES!$Y$14:$AG$600,9,FALSE),0)","v":0},"Dirvine_8",{"$f":"IFERROR(VLOOKUP(BK14,MATCHSELEVES!$Y$14:$AE$600,3,FALSE),0)","v":0},{"$f":"IFERROR(VLOOKUP(BK14,MATCHSELEVES!$Y$14:$AE$600,4,FALSE),0)","v":0},{"$f":"IFERROR(VLOOKUP(BK14,MATCHSELEVES!$Y$14:$AE$600,5,FALSE),0)","v":0},{"$f":"IFERROR(VLOOKUP(BK14,MATCHSELEVES!$Y$14:$AF$600,8,FALSE),0)","v":0},{"$f":"IFERROR(VLOOKUP(BK14,MATCHSELEVES!$Y$14:$AG$600,9,FALSE),0)","v":0},"Dirvine_9",{"$f":"IFERROR(VLOOKUP(BQ14,MATCHSELEVES!$Y$14:$AE$600,3,FALSE),0)","v":0},{"$f":"IFERROR(VLOOKUP(BQ14,MATCHSELEVES!$Y$14:$AE$600,4,FALSE),0)","v":0},{"$f":"IFERROR(VLOOKUP(BQ14,MATCHSELEVES!$Y$14:$AE$600,5,FALSE),0)","v":0},{"$f":"IFERROR(VLOOKUP(BQ14,MATCHSELEVES!$Y$14:$AF$600,8,FALSE),0)","v":0},{"$f":"IFERROR(VLOOKUP(BQ14,MATCHSELEVES!$Y$14:$AG$600,9,FALSE),0)","v":0},"Dirvine_10",{"$f":"IFERROR(VLOOKUP(BW14,MATCHSELEVES!$Y$14:$AE$600,3,FALSE),0)","v":0},{"$f":"IFERROR(VLOOKUP(BW14,MATCHSELEVES!$Y$14:$AE$600,4,FALSE),0)","v":0},{"$f":"IFERROR(VLOOKUP(BW14,MATCHSELEVES!$Y$14:$AE$600,5,FALSE),0)","v":0},{"$f":"IFERROR(VLOOKUP(BW14,MATCHSELEVES!$Y$14:$AF$600,8,FALSE),0)","v":0},{"$f":"IFERROR(VLOOKUP(BW14,MATCHSELEVES!$Y$14:$AG$600,9,FALSE),0)","v":0},"Dirvine_11",{"$f":"IFERROR(VLOOKUP(CC14,MATCHSELEVES!$Y$14:$AE$600,3,FALSE),0)","v":0},{"$f":"IFERROR(VLOOKUP(CC14,MATCHSELEVES!$Y$14:$AE$600,4,FALSE),0)","v":0},{"$f":"IFERROR(VLOOKUP(CC14,MATCHSELEVES!$Y$14:$AE$600,5,FALSE),0)","v":0},{"$f":"IFERROR(VLOOKUP(CC14,MATCHSELEVES!$Y$14:$AF$600,8,FALSE),0)","v":0},{"$f":"IFERROR(VLOOKUP(CC14,MATCHSELEVES!$Y$14:$AG$600,9,FALSE),0)","v":0},"Dirvine_12",{"$f":"IFERROR(VLOOKUP(CI14,MATCHSELEVES!$Y$14:$AE$600,3,FALSE),0)","v":0},{"$f":"IFERROR(VLOOKUP(CI14,MATCHSELEVES!$Y$14:$AE$600,4,FALSE),0)","v":0},{"$f":"IFERROR(VLOOKUP(CI14,MATCHSELEVES!$Y$14:$AE$600,5,FALSE),0)","v":0},{"$f":"IFERROR(VLOOKUP(CI14,MATCHSELEVES!$Y$14:$AF$600,8,FALSE),0)","v":0},{"$f":"IFERROR(VLOOKUP(CI14,MATCHSELEVES!$Y$14:$AG$600,9,FALSE),0)","v":0},"Dirvine_13",{"$f":"IFERROR(VLOOKUP(CO14,MATCHSELEVES!$Y$14:$AE$600,3,FALSE),0)","v":0},{"$f":"IFERROR(VLOOKUP(CO14,MATCHSELEVES!$Y$14:$AE$600,4,FALSE),0)","v":0},{"$f":"IFERROR(VLOOKUP(CO14,MATCHSELEVES!$Y$14:$AE$600,5,FALSE),0)","v":0},{"$f":"IFERROR(VLOOKUP(CO14,MATCHSELEVES!$Y$14:$AF$600,8,FALSE),0)","v":0},{"$f":"IFERROR(VLOOKUP(CO14,MATCHSELEVES!$Y$14:$AG$600,9,FALSE),0)","v":0},"Dirvine_14",{"$f":"IFERROR(VLOOKUP(CU14,MATCHSELEVES!$Y$14:$AE$600,3,FALSE),0)","v":0},{"$f":"IFERROR(VLOOKUP(CU14,MATCHSELEVES!$Y$14:$AE$600,4,FALSE),0)","v":0},{"$f":"IFERROR(VLOOKUP(CU14,MATCHSELEVES!$Y$14:$AE$600,5,FALSE),0)","v":0},{"$f":"IFERROR(VLOOKUP(CU14,MATCHSELEVES!$Y$14:$AF$600,8,FALSE),0)","v":0},{"$f":"IFERROR(VLOOKUP(CU14,MATCHSELEVES!$Y$14:$AG$600,9,FALSE),0)","v":0},"Dirvine_15",{"$f":"IFERROR(VLOOKUP(DA14,MATCHSELEVES!$Y$14:$AE$600,3,FALSE),0)","v":0},{"$f":"IFERROR(VLOOKUP(DA14,MATCHSELEVES!$Y$14:$AE$600,4,FALSE),0)","v":0},{"$f":"IFERROR(VLOOKUP(DA14,MATCHSELEVES!$Y$14:$AE$600,5,FALSE),0)","v":0},{"$f":"IFERROR(VLOOKUP(DA14,MATCHSELEVES!$Y$14:$AF$600,8,FALSE),0)","v":0},{"$f":"IFERROR(VLOOKUP(DA14,MATCHSELEVES!$Y$14:$AG$600,9,FALSE),0)","v":0},"Dirvine_16",{"$f":"IFERROR(VLOOKUP(DG14,MATCHSELEVES!$Y$14:$AE$600,3,FALSE),0)","v":0},{"$f":"IFERROR(VLOOKUP(DG14,MATCHSELEVES!$Y$14:$AE$600,4,FALSE),0)","v":0},{"$f":"IFERROR(VLOOKUP(DG14,MATCHSELEVES!$Y$14:$AE$600,5,FALSE),0)","v":0},{"$f":"IFERROR(VLOOKUP(DG14,MATCHSELEVES!$Y$14:$AF$600,8,FALSE),0)","v":0},{"$f":"IFERROR(VLOOKUP(DG14,MATCHSELEVES!$Y$14:$AG$600,9,FALSE),0)","v":0},"Dirvine_17",{"$f":"IFERROR(VLOOKUP(DM14,MATCHSELEVES!$Y$14:$AE$600,3,FALSE),0)","v":0},{"$f":"IFERROR(VLOOKUP(DM14,MATCHSELEVES!$Y$14:$AE$600,4,FALSE),0)","v":0},{"$f":"IFERROR(VLOOKUP(DM14,MATCHSELEVES!$Y$14:$AE$600,5,FALSE),0)","v":0},{"$f":"IFERROR(VLOOKUP(DM14,MATCHSELEVES!$Y$14:$AF$600,8,FALSE),0)","v":0},{"$f":"IFERROR(VLOOKUP(DM14,MATCHSELEVES!$Y$14:$AG$600,9,FALSE),0)","v":0},"Dirvine_18",{"$f":"IFERROR(VLOOKUP(DS14,MATCHSELEVES!$Y$14:$AE$600,3,FALSE),0)","v":0},{"$f":"IFERROR(VLOOKUP(DS14,MATCHSELEVES!$Y$14:$AE$600,4,FALSE),0)","v":0},{"$f":"IFERROR(VLOOKUP(DS14,MATCHSELEVES!$Y$14:$AE$600,5,FALSE),0)","v":0},{"$f":"IFERROR(VLOOKUP(DS14,MATCHSELEVES!$Y$14:$AF$600,8,FALSE),0)","v":0},{"$f":"IFERROR(VLOOKUP(DS14,MATCHSELEVES!$Y$14:$AG$600,9,FALSE),0)","v":0},"Dirvine_19",{"$f":"IFERROR(VLOOKUP(DY14,MATCHSELEVES!$Y$14:$AE$600,3,FALSE),0)","v":0},{"$f":"IFERROR(VLOOKUP(DY14,MATCHSELEVES!$Y$14:$AE$600,4,FALSE),0)","v":0},{"$f":"IFERROR(VLOOKUP(DY14,MATCHSELEVES!$Y$14:$AE$600,5,FALSE),0)","v":0},{"$f":"IFERROR(VLOOKUP(DY14,MATCHSELEVES!$Y$14:$AF$600,8,FALSE),0)","v":0},{"$f":"IFERROR(VLOOKUP(DY14,MATCHSELEVES!$Y$14:$AG$600,9,FALSE),0)","v":0},"Dirvine_20",{"$f":"IFERROR(VLOOKUP(EE14,MATCHSELEVES!$Y$14:$AE$600,3,FALSE),0)","v":0},{"$f":"IFERROR(VLOOKUP(EE14,MATCHSELEVES!$Y$14:$AE$600,4,FALSE),0)","v":0},{"$f":"IFERROR(VLOOKUP(EE14,MATCHSELEVES!$Y$14:$AE$600,5,FALSE),0)","v":0},{"$f":"IFERROR(VLOOKUP(EE14,MATCHSELEVES!$Y$14:$AF$600,8,FALSE),0)","v":0},{"$f":"IFERROR(VLOOKUP(EE14,MATCHSELEVES!$Y$14:$AG$600,9,FALSE),0)","v":0},"Dirvine_21",{"$f":"IFERROR(VLOOKUP(EK14,MATCHSELEVES!$Y$14:$AE$600,3,FALSE),0)","v":0},{"$f":"IFERROR(VLOOKUP(EK14,MATCHSELEVES!$Y$14:$AE$600,4,FALSE),0)","v":0},{"$f":"IFERROR(VLOOKUP(EK14,MATCHSELEVES!$Y$14:$AE$600,5,FALSE),0)","v":0},{"$f":"IFERROR(VLOOKUP(EK14,MATCHSELEVES!$Y$14:$AF$600,8,FALSE),0)","v":0},{"$f":"IFERROR(VLOOKUP(EK14,MATCHSELEVES!$Y$14:$AG$600,9,FALSE),0)","v":0},"Dirvine_22",{"$f":"IFERROR(VLOOKUP(EQ14,MATCHSELEVES!$Y$14:$AE$600,3,FALSE),0)","v":0},{"$f":"IFERROR(VLOOKUP(EQ14,MATCHSELEVES!$Y$14:$AE$600,4,FALSE),0)","v":0},{"$f":"IFERROR(VLOOKUP(EQ14,MATCHSELEVES!$Y$14:$AE$600,5,FALSE),0)","v":0},{"$f":"IFERROR(VLOOKUP(EQ14,MATCHSELEVES!$Y$14:$AF$600,8,FALSE),0)","v":0},{"$f":"IFERROR(VLOOKUP(EQ14,MATCHSELEVES!$Y$14:$AG$600,9,FALSE),0)","v":0},"Dirvine_23",{"$f":"IFERROR(VLOOKUP(EW14,MATCHSELEVES!$Y$14:$AE$600,3,FALSE),0)","v":0},{"$f":"IFERROR(VLOOKUP(EW14,MATCHSELEVES!$Y$14:$AE$600,4,FALSE),0)","v":0},{"$f":"IFERROR(VLOOKUP(EW14,MATCHSELEVES!$Y$14:$AE$600,5,FALSE),0)","v":0},{"$f":"IFERROR(VLOOKUP(EW14,MATCHSELEVES!$Y$14:$AF$600,8,FALSE),0)","v":0},{"$f":"IFERROR(VLOOKUP(EW14,MATCHSELEVES!$Y$14:$AG$600,9,FALSE),0)","v":0},"Dirvine_24",{"$f":"IFERROR(VLOOKUP(FC14,MATCHSELEVES!$Y$14:$AE$600,3,FALSE),0)","v":0},{"$f":"IFERROR(VLOOKUP(FC14,MATCHSELEVES!$Y$14:$AE$600,4,FALSE),0)","v":0},{"$f":"IFERROR(VLOOKUP(FC14,MATCHSELEVES!$Y$14:$AE$600,5,FALSE),0)","v":0},{"$f":"IFERROR(VLOOKUP(FC14,MATCHSELEVES!$Y$14:$AF$600,8,FALSE),0)","v":0},{"$f":"IFERROR(VLOOKUP(FC14,MATCHSELEVES!$Y$14:$AG$600,9,FALSE),0)","v":0},"Dirvine_25",{"$f":"IFERROR(VLOOKUP(FI14,MATCHSELEVES!$Y$14:$AE$600,3,FALSE),0)","v":0},{"$f":"IFERROR(VLOOKUP(FI14,MATCHSELEVES!$Y$14:$AE$600,4,FALSE),0)","v":0},{"$f":"IFERROR(VLOOKUP(FI14,MATCHSELEVES!$Y$14:$AE$600,5,FALSE),0)","v":0},{"$f":"IFERROR(VLOOKUP(FI14,MATCHSELEVES!$Y$14:$AF$600,8,FALSE),0)","v":0},{"$f":"IFERROR(VLOOKUP(FI14,MATCHSELEVES!$Y$14:$AG$600,9,FALSE),0)","v":0},"Dirvine_26",{"$f":"IFERROR(VLOOKUP(FO14,MATCHSELEVES!$Y$14:$AE$600,3,FALSE),0)","v":0},{"$f":"IFERROR(VLOOKUP(FO14,MATCHSELEVES!$Y$14:$AE$600,4,FALSE),0)","v":0},{"$f":"IFERROR(VLOOKUP(FO14,MATCHSELEVES!$Y$14:$AE$600,5,FALSE),0)","v":0},{"$f":"IFERROR(VLOOKUP(FO14,MATCHSELEVES!$Y$14:$AF$600,8,FALSE),0)","v":0},{"$f":"IFERROR(VLOOKUP(FO14,MATCHSELEVES!$Y$14:$AG$600,9,FALSE),0)","v":0},"Dirvine_27",{"$f":"IFERROR(VLOOKUP(FU14,MATCHSELEVES!$Y$14:$AE$600,3,FALSE),0)","v":0},{"$f":"IFERROR(VLOOKUP(FU14,MATCHSELEVES!$Y$14:$AE$600,4,FALSE),0)","v":0},{"$f":"IFERROR(VLOOKUP(FU14,MATCHSELEVES!$Y$14:$AE$600,5,FALSE),0)","v":0},{"$f":"IFERROR(VLOOKUP(FU14,MATCHSELEVES!$Y$14:$AF$600,8,FALSE),0)","v":0},{"$f":"IFERROR(VLOOKUP(FU14,MATCHSELEVES!$Y$14:$AG$600,9,FALSE),0)","v":0},"Dirvine_28",{"$f":"IFERROR(VLOOKUP(GA14,MATCHSELEVES!$Y$14:$AE$600,3,FALSE),0)","v":0},{"$f":"IFERROR(VLOOKUP(GA14,MATCHSELEVES!$Y$14:$AE$600,4,FALSE),0)","v":0},{"$f":"IFERROR(VLOOKUP(GA14,MATCHSELEVES!$Y$14:$AE$600,5,FALSE),0)","v":0},{"$f":"IFERROR(VLOOKUP(GA14,MATCHSELEVES!$Y$14:$AF$600,8,FALSE),0)","v":0},{"$f":"IFERROR(VLOOKUP(GA14,MATCHSELEVES!$Y$14:$AG$600,9,FALSE),0)","v":0},"Dirvine_29",{"$f":"IFERROR(VLOOKUP(GG14,MATCHSELEVES!$Y$14:$AE$600,3,FALSE),0)","v":0},{"$f":"IFERROR(VLOOKUP(GG14,MATCHSELEVES!$Y$14:$AE$600,4,FALSE),0)","v":0},{"$f":"IFERROR(VLOOKUP(GG14,MATCHSELEVES!$Y$14:$AE$600,5,FALSE),0)","v":0},{"$f":"IFERROR(VLOOKUP(GG14,MATCHSELEVES!$Y$14:$AF$600,8,FALSE),0)","v":0},{"$f":"IFERROR(VLOOKUP(GG14,MATCHSELEVES!$Y$14:$AG$600,9,FALSE),0)","v":0},"Dirvine_30",{"$f":"IFERROR(VLOOKUP(GM14,MATCHSELEVES!$Y$14:$AE$600,3,FALSE),0)","v":0},{"$f":"IFERROR(VLOOKUP(GM14,MATCHSELEVES!$Y$14:$AE$600,4,FALSE),0)","v":0},{"$f":"IFERROR(VLOOKUP(GM14,MATCHSELEVES!$Y$14:$AE$600,5,FALSE),0)","v":0},{"$f":"IFERROR(VLOOKUP(GM14,MATCHSELEVES!$Y$14:$AF$600,8,FALSE),0)","v":0},{"$f":"IFERROR(VLOOKUP(GM14,MATCHSELEVES!$Y$14:$AG$600,9,FALSE),0)","v":0},"Dirvine_31",{"$f":"IFERROR(VLOOKUP(GS14,MATCHSELEVES!$Y$14:$AE$600,3,FALSE),0)","v":0},{"$f":"IFERROR(VLOOKUP(GS14,MATCHSELEVES!$Y$14:$AE$600,4,FALSE),0)","v":0},{"$f":"IFERROR(VLOOKUP(GS14,MATCHSELEVES!$Y$14:$AE$600,5,FALSE),0)","v":0},{"$f":"IFERROR(VLOOKUP(GS14,MATCHSELEVES!$Y$14:$AF$600,8,FALSE),0)","v":0},{"$f":"IFERROR(VLOOKUP(GS14,MATCHSELEVES!$Y$14:$AG$600,9,FALSE),0)","v":0},"Dirvine_32",{"$f":"IFERROR(VLOOKUP(GY14,MATCHSELEVES!$Y$14:$AE$600,3,FALSE),0)","v":0},{"$f":"IFERROR(VLOOKUP(GY14,MATCHSELEVES!$Y$14:$AE$600,4,FALSE),0)","v":0},{"$f":"IFERROR(VLOOKUP(GY14,MATCHSELEVES!$Y$14:$AE$600,5,FALSE),0)","v":0},{"$f":"IFERROR(VLOOKUP(GY14,MATCHSELEVES!$Y$14:$AF$600,8,FALSE),0)","v":0},{"$f":"IFERROR(VLOOKUP(GY14,MATCHSELEVES!$Y$14:$AG$600,9,FALSE),0)","v":0},"Dirvine_33",{"$f":"IFERROR(VLOOKUP(HE14,MATCHSELEVES!$Y$14:$AE$600,3,FALSE),0)","v":0},{"$f":"IFERROR(VLOOKUP(HE14,MATCHSELEVES!$Y$14:$AE$600,4,FALSE),0)","v":0},{"$f":"IFERROR(VLOOKUP(HE14,MATCHSELEVES!$Y$14:$AE$600,5,FALSE),0)","v":0},{"$f":"IFERROR(VLOOKUP(HE14,MATCHSELEVES!$Y$14:$AF$600,8,FALSE),0)","v":0},{"$f":"IFERROR(VLOOKUP(HE14,MATCHSELEVES!$Y$14:$AG$600,9,FALSE),0)","v":0},"Dirvine_34",{"$f":"IFERROR(VLOOKUP(HK14,MATCHSELEVES!$Y$14:$AE$600,3,FALSE),0)","v":0},{"$f":"IFERROR(VLOOKUP(HK14,MATCHSELEVES!$Y$14:$AE$600,4,FALSE),0)","v":0},{"$f":"IFERROR(VLOOKUP(HK14,MATCHSELEVES!$Y$14:$AE$600,5,FALSE),0)","v":0},{"$f":"IFERROR(VLOOKUP(HK14,MATCHSELEVES!$Y$14:$AF$600,8,FALSE),0)","v":0},{"$f":"IFERROR(VLOOKUP(HK14,MATCHSELEVES!$Y$14:$AG$600,9,FALSE),0)","v":0},"Dirvine_35",{"$f":"IFERROR(VLOOKUP(HQ14,MATCHSELEVES!$Y$14:$AE$600,3,FALSE),0)","v":0},{"$f":"IFERROR(VLOOKUP(HQ14,MATCHSELEVES!$Y$14:$AE$600,4,FALSE),0)","v":0},{"$f":"IFERROR(VLOOKUP(HQ14,MATCHSELEVES!$Y$14:$AE$600,5,FALSE),0)","v":0},{"$f":"IFERROR(VLOOKUP(HQ14,MATCHSELEVES!$Y$14:$AF$600,8,FALSE),0)","v":0},{"$f":"IFERROR(VLOOKUP(HQ14,MATCHSELEVES!$Y$14:$AG$600,9,FALSE),0)","v":0},"Dirvine_36",{"$f":"IFERROR(VLOOKUP(HW14,MATCHSELEVES!$Y$14:$AE$600,3,FALSE),0)","v":0},{"$f":"IFERROR(VLOOKUP(HW14,MATCHSELEVES!$Y$14:$AE$600,4,FALSE),0)","v":0},{"$f":"IFERROR(VLOOKUP(HW14,MATCHSELEVES!$Y$14:$AE$600,5,FALSE),0)","v":0},{"$f":"IFERROR(VLOOKUP(HW14,MATCHSELEVES!$Y$14:$AF$600,8,FALSE),0)","v":0},{"$f":"IFERROR(VLOOKUP(HW14,MATCHSELEVES!$Y$14:$AG$600,9,FALSE),0)","v":0},"Dirvine_37",{"$f":"IFERROR(VLOOKUP(IC14,MATCHSELEVES!$Y$14:$AE$600,3,FALSE),0)","v":0},{"$f":"IFERROR(VLOOKUP(IC14,MATCHSELEVES!$Y$14:$AE$600,4,FALSE),0)","v":0},{"$f":"IFERROR(VLOOKUP(IC14,MATCHSELEVES!$Y$14:$AE$600,5,FALSE),0)","v":0},{"$f":"IFERROR(VLOOKUP(IC14,MATCHSELEVES!$Y$14:$AF$600,8,FALSE),0)","v":0},{"$f":"IFERROR(VLOOKUP(IC14,MATCHSELEVES!$Y$14:$AG$600,9,FALSE),0)","v":0},"Dirvine_38",{"$f":"IFERROR(VLOOKUP(II14,MATCHSELEVES!$Y$14:$AE$600,3,FALSE),0)","v":0},{"$f":"IFERROR(VLOOKUP(II14,MATCHSELEVES!$Y$14:$AE$600,4,FALSE),0)","v":0},{"$f":"IFERROR(VLOOKUP(II14,MATCHSELEVES!$Y$14:$AE$600,5,FALSE),0)","v":0},{"$f":"IFERROR(VLOOKUP(II14,MATCHSELEVES!$Y$14:$AF$600,8,FALSE),0)","v":0},{"$f":"IFERROR(VLOOKUP(II14,MATCHSELEVES!$Y$14:$AG$600,9,FALSE),0)","v":0},"Dirvine_39",{"$f":"IFERROR(VLOOKUP(IO14,MATCHSELEVES!$Y$14:$AE$600,3,FALSE),0)","v":0},{"$f":"IFERROR(VLOOKUP(IO14,MATCHSELEVES!$Y$14:$AE$600,4,FALSE),0)","v":0},{"$f":"IFERROR(VLOOKUP(IO14,MATCHSELEVES!$Y$14:$AE$600,5,FALSE),0)","v":0},{"$f":"IFERROR(VLOOKUP(IO14,MATCHSELEVES!$Y$14:$AF$600,8,FALSE),0)","v":0},{"$f":"IFERROR(VLOOKUP(IO14,MATCHSELEVES!$Y$14:$AG$600,9,FALSE),0)","v":0},"Dirvine_40",{"$f":"IFERROR(VLOOKUP(IU14,MATCHSELEVES!$Y$14:$AE$600,3,FALSE),0)","v":0},{"$f":"IFERROR(VLOOKUP(IU14,MATCHSELEVES!$Y$14:$AE$600,4,FALSE),0)","v":0},{"$f":"IFERROR(VLOOKUP(IU14,MATCHSELEVES!$Y$14:$AE$600,5,FALSE),0)","v":0},{"$f":"IFERROR(VLOOKUP(IU14,MATCHSELEVES!$Y$14:$AF$600,8,FALSE),0)","v":0},{"$f":"IFERROR(VLOOKUP(IU14,MATCHSELEVES!$Y$14:$AG$600,9,FALSE),0)","v":0},"Dirvinep_1",{"$f":"IFERROR(VLOOKUP(JA14,MATCHSELEVES!$Y$14:$AE$600,3,FALSE),0)","v":0},{"$f":"IFERROR(VLOOKUP(JA14,MATCHSELEVES!$Y$14:$AE$600,4,FALSE),0)","v":0},{"$f":"IFERROR(VLOOKUP(JA14,MATCHSELEVES!$Y$14:$AE$600,5,FALSE),0)","v":0},{"$f":"IFERROR(VLOOKUP(JA14,MATCHSELEVES!$Y$14:$AF$600,8,FALSE),0)","v":0},{"$f":"IFERROR(VLOOKUP(JA14,MATCHSELEVES!$Y$14:$AG$600,9,FALSE),0)","v":0},"Dirvinep_2",{"$f":"IFERROR(VLOOKUP(JG14,MATCHSELEVES!$Y$14:$AE$600,3,FALSE),0)","v":0},{"$f":"IFERROR(VLOOKUP(JG14,MATCHSELEVES!$Y$14:$AE$600,4,FALSE),0)","v":0},{"$f":"IFERROR(VLOOKUP(JG14,MATCHSELEVES!$Y$14:$AE$600,5,FALSE),0)","v":0},{"$f":"IFERROR(VLOOKUP(JG14,MATCHSELEVES!$Y$14:$AF$600,8,FALSE),0)","v":0},{"$f":"IFERROR(VLOOKUP(JG14,MATCHSELEVES!$Y$14:$AG$600,9,FALSE),0)","v":0},"Dirvinep_3",{"$f":"IFERROR(VLOOKUP(JM14,MATCHSELEVES!$Y$14:$AE$600,3,FALSE),0)","v":0},{"$f":"IFERROR(VLOOKUP(JM14,MATCHSELEVES!$Y$14:$AE$600,4,FALSE),0)","v":0},{"$f":"IFERROR(VLOOKUP(JM14,MATCHSELEVES!$Y$14:$AE$600,5,FALSE),0)","v":0},{"$f":"IFERROR(VLOOKUP(JM14,MATCHSELEVES!$Y$14:$AF$600,8,FALSE),0)","v":0},{"$f":"IFERROR(VLOOKUP(JM14,MATCHSELEVES!$Y$14:$AG$600,9,FALSE),0)","v":0},"Dirvinep_4",{"$f":"IFERROR(VLOOKUP(JS14,MATCHSELEVES!$Y$14:$AE$600,3,FALSE),0)","v":0},{"$f":"IFERROR(VLOOKUP(JS14,MATCHSELEVES!$Y$14:$AE$600,4,FALSE),0)","v":0},{"$f":"IFERROR(VLOOKUP(JS14,MATCHSELEVES!$Y$14:$AE$600,5,FALSE),0)","v":0},{"$f":"IFERROR(VLOOKUP(JS14,MATCHSELEVES!$Y$14:$AF$600,8,FALSE),0)","v":0},{"$f":"IFERROR(VLOOKUP(JS14,MATCHSELEVES!$Y$14:$AG$600,9,FALSE),0)","v":0},"Dirvinep_5",{"$f":"IFERROR(VLOOKUP(JY14,MATCHSELEVES!$Y$14:$AE$600,3,FALSE),0)","v":0},{"$f":"IFERROR(VLOOKUP(JY14,MATCHSELEVES!$Y$14:$AE$600,4,FALSE),0)","v":0},{"$f":"IFERROR(VLOOKUP(JY14,MATCHSELEVES!$Y$14:$AE$600,5,FALSE),0)","v":0},{"$f":"IFERROR(VLOOKUP(JY14,MATCHSELEVES!$Y$14:$AF$600,8,FALSE),0)","v":0},{"$f":"IFERROR(VLOOKUP(JY14,MATCHSELEVES!$Y$14:$AG$600,9,FALSE),0)","v":0},"Dirvinep_6",{"$f":"IFERROR(VLOOKUP(KE14,MATCHSELEVES!$Y$14:$AE$600,3,FALSE),0)","v":0},{"$f":"IFERROR(VLOOKUP(KE14,MATCHSELEVES!$Y$14:$AE$600,4,FALSE),0)","v":0},{"$f":"IFERROR(VLOOKUP(KE14,MATCHSELEVES!$Y$14:$AE$600,5,FALSE),0)","v":0},{"$f":"IFERROR(VLOOKUP(KE14,MATCHSELEVES!$Y$14:$AF$600,8,FALSE),0)","v":0},{"$f":"IFERROR(VLOOKUP(KE14,MATCHSELEVES!$Y$14:$AG$600,9,FALSE),0)","v":0},"Dirvinep_7",{"$f":"IFERROR(VLOOKUP(KK14,MATCHSELEVES!$Y$14:$AE$600,3,FALSE),0)","v":0},{"$f":"IFERROR(VLOOKUP(KK14,MATCHSELEVES!$Y$14:$AE$600,4,FALSE),0)","v":0},{"$f":"IFERROR(VLOOKUP(KK14,MATCHSELEVES!$Y$14:$AE$600,5,FALSE),0)","v":0},{"$f":"IFERROR(VLOOKUP(KK14,MATCHSELEVES!$Y$14:$AF$600,8,FALSE),0)","v":0},{"$f":"IFERROR(VLOOKUP(KK14,MATCHSELEVES!$Y$14:$AG$600,9,FALSE),0)","v":0},"Dirvinep_8",{"$f":"IFERROR(VLOOKUP(KQ14,MATCHSELEVES!$Y$14:$AE$600,3,FALSE),0)","v":0},{"$f":"IFERROR(VLOOKUP(KQ14,MATCHSELEVES!$Y$14:$AE$600,4,FALSE),0)","v":0},{"$f":"IFERROR(VLOOKUP(KQ14,MATCHSELEVES!$Y$14:$AE$600,5,FALSE),0)","v":0},{"$f":"IFERROR(VLOOKUP(KQ14,MATCHSELEVES!$Y$14:$AF$600,8,FALSE),0)","v":0},{"$f":"IFERROR(VLOOKUP(KQ14,MATCHSELEVES!$Y$14:$AG$600,9,FALSE),0)","v":0},"Dirvinep_9",{"$f":"IFERROR(VLOOKUP(KW14,MATCHSELEVES!$Y$14:$AE$600,3,FALSE),0)","v":0},{"$f":"IFERROR(VLOOKUP(KW14,MATCHSELEVES!$Y$14:$AE$600,4,FALSE),0)","v":0},{"$f":"IFERROR(VLOOKUP(KW14,MATCHSELEVES!$Y$14:$AE$600,5,FALSE),0)","v":0},{"$f":"IFERROR(VLOOKUP(KW14,MATCHSELEVES!$Y$14:$AF$600,8,FALSE),0)","v":0},{"$f":"IFERROR(VLOOKUP(KW14,MATCHSELEVES!$Y$14:$AG$600,9,FALSE),0)","v":0},"Dirvinep_10",{"$f":"IFERROR(VLOOKUP(LC14,MATCHSELEVES!$Y$14:$AE$600,3,FALSE),0)","v":0},{"$f":"IFERROR(VLOOKUP(LC14,MATCHSELEVES!$Y$14:$AE$600,4,FALSE),0)","v":0},{"$f":"IFERROR(VLOOKUP(LC14,MATCHSELEVES!$Y$14:$AE$600,5,FALSE),0)","v":0},{"$f":"IFERROR(VLOOKUP(LC14,MATCHSELEVES!$Y$14:$AF$600,8,FALSE),0)","v":0},{"$f":"IFERROR(VLOOKUP(LC14,MATCHSELEVES!$Y$14:$AG$600,9,FALSE),0)","v":0},"Dirvinep_11",{"$f":"IFERROR(VLOOKUP(LI14,MATCHSELEVES!$Y$14:$AE$600,3,FALSE),0)","v":0},{"$f":"IFERROR(VLOOKUP(LI14,MATCHSELEVES!$Y$14:$AE$600,4,FALSE),0)","v":0},{"$f":"IFERROR(VLOOKUP(LI14,MATCHSELEVES!$Y$14:$AE$600,5,FALSE),0)","v":0},{"$f":"IFERROR(VLOOKUP(LI14,MATCHSELEVES!$Y$14:$AF$600,8,FALSE),0)","v":0},{"$f":"IFERROR(VLOOKUP(LI14,MATCHSELEVES!$Y$14:$AG$600,9,FALSE),0)","v":0},"Dirvinep_12",{"$f":"IFERROR(VLOOKUP(LO14,MATCHSELEVES!$Y$14:$AE$600,3,FALSE),0)","v":0},{"$f":"IFERROR(VLOOKUP(LO14,MATCHSELEVES!$Y$14:$AE$600,4,FALSE),0)","v":0},{"$f":"IFERROR(VLOOKUP(LO14,MATCHSELEVES!$Y$14:$AE$600,5,FALSE),0)","v":0},{"$f":"IFERROR(VLOOKUP(LO14,MATCHSELEVES!$Y$14:$AF$600,8,FALSE),0)","v":0},{"$f":"IFERROR(VLOOKUP(LO14,MATCHSELEVES!$Y$14:$AG$600,9,FALSE),0)","v":0},"Dirvinep_13",{"$f":"IFERROR(VLOOKUP(LU14,MATCHSELEVES!$Y$14:$AE$600,3,FALSE),0)","v":0},{"$f":"IFERROR(VLOOKUP(LU14,MATCHSELEVES!$Y$14:$AE$600,4,FALSE),0)","v":0},{"$f":"IFERROR(VLOOKUP(LU14,MATCHSELEVES!$Y$14:$AE$600,5,FALSE),0)","v":0},{"$f":"IFERROR(VLOOKUP(LU14,MATCHSELEVES!$Y$14:$AF$600,8,FALSE),0)","v":0},{"$f":"IFERROR(VLOOKUP(LU14,MATCHSELEVES!$Y$14:$AG$600,9,FALSE),0)","v":0},"Dirvinep_14",{"$f":"IFERROR(VLOOKUP(MA14,MATCHSELEVES!$Y$14:$AE$600,3,FALSE),0)","v":0},{"$f":"IFERROR(VLOOKUP(MA14,MATCHSELEVES!$Y$14:$AE$600,4,FALSE),0)","v":0},{"$f":"IFERROR(VLOOKUP(MA14,MATCHSELEVES!$Y$14:$AE$600,5,FALSE),0)","v":0},{"$f":"IFERROR(VLOOKUP(MA14,MATCHSELEVES!$Y$14:$AF$600,8,FALSE),0)","v":0},{"$f":"IFERROR(VLOOKUP(MA14,MATCHSELEVES!$Y$14:$AG$600,9,FALSE),0)","v":0},"Dirvinep_15",{"$f":"IFERROR(VLOOKUP(MG14,MATCHSELEVES!$Y$14:$AE$600,3,FALSE),0)","v":0},{"$f":"IFERROR(VLOOKUP(MG14,MATCHSELEVES!$Y$14:$AE$600,4,FALSE),0)","v":0},{"$f":"IFERROR(VLOOKUP(MG14,MATCHSELEVES!$Y$14:$AE$600,5,FALSE),0)","v":0},{"$f":"IFERROR(VLOOKUP(MG14,MATCHSELEVES!$Y$14:$AF$600,8,FALSE),0)","v":0},{"$f":"IFERROR(VLOOKUP(MG14,MATCHSELEVES!$Y$14:$AG$600,9,FALSE),0)","v":0},"Dirvinep_16",{"$f":"IFERROR(VLOOKUP(MM14,MATCHSELEVES!$Y$14:$AE$600,3,FALSE),0)","v":0},{"$f":"IFERROR(VLOOKUP(MM14,MATCHSELEVES!$Y$14:$AE$600,4,FALSE),0)","v":0},{"$f":"IFERROR(VLOOKUP(MM14,MATCHSELEVES!$Y$14:$AE$600,5,FALSE),0)","v":0},{"$f":"IFERROR(VLOOKUP(MM14,MATCHSELEVES!$Y$14:$AF$600,8,FALSE),0)","v":0},{"$f":"IFERROR(VLOOKUP(MM14,MATCHSELEVES!$Y$14:$AG$600,9,FALSE),0)","v":0},"Dirvinep_17",{"$f":"IFERROR(VLOOKUP(MS14,MATCHSELEVES!$Y$14:$AE$600,3,FALSE),0)","v":0},{"$f":"IFERROR(VLOOKUP(MS14,MATCHSELEVES!$Y$14:$AE$600,4,FALSE),0)","v":0},{"$f":"IFERROR(VLOOKUP(MS14,MATCHSELEVES!$Y$14:$AE$600,5,FALSE),0)","v":0},{"$f":"IFERROR(VLOOKUP(MS14,MATCHSELEVES!$Y$14:$AF$600,8,FALSE),0)","v":0},{"$f":"IFERROR(VLOOKUP(MS14,MATCHSELEVES!$Y$14:$AG$600,9,FALSE),0)","v":0},"Dirvinep_18",{"$f":"IFERROR(VLOOKUP(MY14,MATCHSELEVES!$Y$14:$AE$600,3,FALSE),0)","v":0},{"$f":"IFERROR(VLOOKUP(MY14,MATCHSELEVES!$Y$14:$AE$600,4,FALSE),0)","v":0},{"$f":"IFERROR(VLOOKUP(MY14,MATCHSELEVES!$Y$14:$AE$600,5,FALSE),0)","v":0},{"$f":"IFERROR(VLOOKUP(MY14,MATCHSELEVES!$Y$14:$AF$600,8,FALSE),0)","v":0},{"$f":"IFERROR(VLOOKUP(MY14,MATCHSELEVES!$Y$14:$AG$600,9,FALSE),0)","v":0},"Dirvinep_19",{"$f":"IFERROR(VLOOKUP(NE14,MATCHSELEVES!$Y$14:$AE$600,3,FALSE),0)","v":0},{"$f":"IFERROR(VLOOKUP(NE14,MATCHSELEVES!$Y$14:$AE$600,4,FALSE),0)","v":0},{"$f":"IFERROR(VLOOKUP(NE14,MATCHSELEVES!$Y$14:$AE$600,5,FALSE),0)","v":0},{"$f":"IFERROR(VLOOKUP(NE14,MATCHSELEVES!$Y$14:$AF$600,8,FALSE),0)","v":0},{"$f":"IFERROR(VLOOKUP(NE14,MATCHSELEVES!$Y$14:$AG$600,9,FALSE),0)","v":0},"Dirvinep_20",{"$f":"IFERROR(VLOOKUP(NK14,MATCHSELEVES!$Y$14:$AE$600,3,FALSE),0)","v":0},{"$f":"IFERROR(VLOOKUP(NK14,MATCHSELEVES!$Y$14:$AE$600,4,FALSE),0)","v":0},{"$f":"IFERROR(VLOOKUP(NK14,MATCHSELEVES!$Y$14:$AE$600,5,FALSE),0)","v":0},{"$f":"IFERROR(VLOOKUP(NK14,MATCHSELEVES!$Y$14:$AF$600,8,FALSE),0)","v":0},{"$f":"IFERROR(VLOOKUP(NK14,MATCHSELEVES!$Y$14:$AG$600,9,FALSE),0)","v":0},"Dirvinep_21",{"$f":"IFERROR(VLOOKUP(NQ14,MATCHSELEVES!$Y$14:$AE$600,3,FALSE),0)","v":0},{"$f":"IFERROR(VLOOKUP(NQ14,MATCHSELEVES!$Y$14:$AE$600,4,FALSE),0)","v":0},{"$f":"IFERROR(VLOOKUP(NQ14,MATCHSELEVES!$Y$14:$AE$600,5,FALSE),0)","v":0},{"$f":"IFERROR(VLOOKUP(NQ14,MATCHSELEVES!$Y$14:$AF$600,8,FALSE),0)","v":0},{"$f":"IFERROR(VLOOKUP(NQ14,MATCHSELEVES!$Y$14:$AG$600,9,FALSE),0)","v":0},"Dirvinep_22",{"$f":"IFERROR(VLOOKUP(NW14,MATCHSELEVES!$Y$14:$AE$600,3,FALSE),0)","v":0},{"$f":"IFERROR(VLOOKUP(NW14,MATCHSELEVES!$Y$14:$AE$600,4,FALSE),0)","v":0},{"$f":"IFERROR(VLOOKUP(NW14,MATCHSELEVES!$Y$14:$AE$600,5,FALSE),0)","v":0},{"$f":"IFERROR(VLOOKUP(NW14,MATCHSELEVES!$Y$14:$AF$600,8,FALSE),0)","v":0},{"$f":"IFERROR(VLOOKUP(NW14,MATCHSELEVES!$Y$14:$AG$600,9,FALSE),0)","v":0},"Dirvinep_23",{"$f":"IFERROR(VLOOKUP(OC14,MATCHSELEVES!$Y$14:$AE$600,3,FALSE),0)","v":0},{"$f":"IFERROR(VLOOKUP(OC14,MATCHSELEVES!$Y$14:$AE$600,4,FALSE),0)","v":0},{"$f":"IFERROR(VLOOKUP(OC14,MATCHSELEVES!$Y$14:$AE$600,5,FALSE),0)","v":0},{"$f":"IFERROR(VLOOKUP(OC14,MATCHSELEVES!$Y$14:$AF$600,8,FALSE),0)","v":0},{"$f":"IFERROR(VLOOKUP(OC14,MATCHSELEVES!$Y$14:$AG$600,9,FALSE),0)","v":0},"Dirvinep_24",{"$f":"IFERROR(VLOOKUP(OI14,MATCHSELEVES!$Y$14:$AE$600,3,FALSE),0)","v":0},{"$f":"IFERROR(VLOOKUP(OI14,MATCHSELEVES!$Y$14:$AE$600,4,FALSE),0)","v":0},{"$f":"IFERROR(VLOOKUP(OI14,MATCHSELEVES!$Y$14:$AE$600,5,FALSE),0)","v":0},{"$f":"IFERROR(VLOOKUP(OI14,MATCHSELEVES!$Y$14:$AF$600,8,FALSE),0)","v":0},{"$f":"IFERROR(VLOOKUP(OI14,MATCHSELEVES!$Y$14:$AG$600,9,FALSE),0)","v":0},"Dirvinep_25",{"$f":"IFERROR(VLOOKUP(OO14,MATCHSELEVES!$Y$14:$AE$600,3,FALSE),0)","v":0},{"$f":"IFERROR(VLOOKUP(OO14,MATCHSELEVES!$Y$14:$AE$600,4,FALSE),0)","v":0},{"$f":"IFERROR(VLOOKUP(OO14,MATCHSELEVES!$Y$14:$AE$600,5,FALSE),0)","v":0},{"$f":"IFERROR(VLOOKUP(OO14,MATCHSELEVES!$Y$14:$AF$600,8,FALSE),0)","v":0},{"$f":"IFERROR(VLOOKUP(OO14,MATCHSELEVES!$Y$14:$AG$600,9,FALSE),0)","v":0},"Dirvinep_26",{"$f":"IFERROR(VLOOKUP(OU14,MATCHSELEVES!$Y$14:$AE$600,3,FALSE),0)","v":0},{"$f":"IFERROR(VLOOKUP(OU14,MATCHSELEVES!$Y$14:$AE$600,4,FALSE),0)","v":0},{"$f":"IFERROR(VLOOKUP(OU14,MATCHSELEVES!$Y$14:$AE$600,5,FALSE),0)","v":0},{"$f":"IFERROR(VLOOKUP(OU14,MATCHSELEVES!$Y$14:$AF$600,8,FALSE),0)","v":0},{"$f":"IFERROR(VLOOKUP(OU14,MATCHSELEVES!$Y$14:$AG$600,9,FALSE),0)","v":0},"Dirvinep_27",{"$f":"IFERROR(VLOOKUP(PA14,MATCHSELEVES!$Y$14:$AE$600,3,FALSE),0)","v":0},{"$f":"IFERROR(VLOOKUP(PA14,MATCHSELEVES!$Y$14:$AE$600,4,FALSE),0)","v":0},{"$f":"IFERROR(VLOOKUP(PA14,MATCHSELEVES!$Y$14:$AE$600,5,FALSE),0)","v":0},{"$f":"IFERROR(VLOOKUP(PA14,MATCHSELEVES!$Y$14:$AF$600,8,FALSE),0)","v":0},{"$f":"IFERROR(VLOOKUP(PA14,MATCHSELEVES!$Y$14:$AG$600,9,FALSE),0)","v":0},"Dirvinep_28",{"$f":"IFERROR(VLOOKUP(PG14,MATCHSELEVES!$Y$14:$AE$600,3,FALSE),0)","v":0},{"$f":"IFERROR(VLOOKUP(PG14,MATCHSELEVES!$Y$14:$AE$600,4,FALSE),0)","v":0},{"$f":"IFERROR(VLOOKUP(PG14,MATCHSELEVES!$Y$14:$AE$600,5,FALSE),0)","v":0},{"$f":"IFERROR(VLOOKUP(PG14,MATCHSELEVES!$Y$14:$AF$600,8,FALSE),0)","v":0},{"$f":"IFERROR(VLOOKUP(PG14,MATCHSELEVES!$Y$14:$AG$600,9,FALSE),0)","v":0},"Dirvinep_29",{"$f":"IFERROR(VLOOKUP(PM14,MATCHSELEVES!$Y$14:$AE$600,3,FALSE),0)","v":0},{"$f":"IFERROR(VLOOKUP(PM14,MATCHSELEVES!$Y$14:$AE$600,4,FALSE),0)","v":0},{"$f":"IFERROR(VLOOKUP(PM14,MATCHSELEVES!$Y$14:$AE$600,5,FALSE),0)","v":0},{"$f":"IFERROR(VLOOKUP(PM14,MATCHSELEVES!$Y$14:$AF$600,8,FALSE),0)","v":0},{"$f":"IFERROR(VLOOKUP(PM14,MATCHSELEVES!$Y$14:$AG$600,9,FALSE),0)","v":0},"Dirvinep_30",{"$f":"IFERROR(VLOOKUP(PS14,MATCHSELEVES!$Y$14:$AE$600,3,FALSE),0)","v":0},{"$f":"IFERROR(VLOOKUP(PS14,MATCHSELEVES!$Y$14:$AE$600,4,FALSE),0)","v":0},{"$f":"IFERROR(VLOOKUP(PS14,MATCHSELEVES!$Y$14:$AE$600,5,FALSE),0)","v":0},{"$f":"IFERROR(VLOOKUP(PS14,MATCHSELEVES!$Y$14:$AF$600,8,FALSE),0)","v":0},{"$f":"IFERROR(VLOOKUP(PS14,MATCHSELEVES!$Y$14:$AG$600,9,FALSE),0)","v":0},"Dirvinep_31",{"$f":"IFERROR(VLOOKUP(PY14,MATCHSELEVES!$Y$14:$AE$600,3,FALSE),0)","v":0},{"$f":"IFERROR(VLOOKUP(PY14,MATCHSELEVES!$Y$14:$AE$600,4,FALSE),0)","v":0},{"$f":"IFERROR(VLOOKUP(PY14,MATCHSELEVES!$Y$14:$AE$600,5,FALSE),0)","v":0},{"$f":"IFERROR(VLOOKUP(PY14,MATCHSELEVES!$Y$14:$AF$600,8,FALSE),0)","v":0},{"$f":"IFERROR(VLOOKUP(PY14,MATCHSELEVES!$Y$14:$AG$600,9,FALSE),0)","v":0},"Dirvinep_32",{"$f":"IFERROR(VLOOKUP(QE14,MATCHSELEVES!$Y$14:$AE$600,3,FALSE),0)","v":0},{"$f":"IFERROR(VLOOKUP(QE14,MATCHSELEVES!$Y$14:$AE$600,4,FALSE),0)","v":0},{"$f":"IFERROR(VLOOKUP(QE14,MATCHSELEVES!$Y$14:$AE$600,5,FALSE),0)","v":0},{"$f":"IFERROR(VLOOKUP(QE14,MATCHSELEVES!$Y$14:$AF$600,8,FALSE),0)","v":0},{"$f":"IFERROR(VLOOKUP(QE14,MATCHSELEVES!$Y$14:$AG$600,9,FALSE),0)","v":0},"Dirvinep_33",{"$f":"IFERROR(VLOOKUP(QK14,MATCHSELEVES!$Y$14:$AE$600,3,FALSE),0)","v":0},{"$f":"IFERROR(VLOOKUP(QK14,MATCHSELEVES!$Y$14:$AE$600,4,FALSE),0)","v":0},{"$f":"IFERROR(VLOOKUP(QK14,MATCHSELEVES!$Y$14:$AE$600,5,FALSE),0)","v":0},{"$f":"IFERROR(VLOOKUP(QK14,MATCHSELEVES!$Y$14:$AF$600,8,FALSE),0)","v":0},{"$f":"IFERROR(VLOOKUP(QK14,MATCHSELEVES!$Y$14:$AG$600,9,FALSE),0)","v":0},"Dirvinep_34",{"$f":"IFERROR(VLOOKUP(QQ14,MATCHSELEVES!$Y$14:$AE$600,3,FALSE),0)","v":0},{"$f":"IFERROR(VLOOKUP(QQ14,MATCHSELEVES!$Y$14:$AE$600,4,FALSE),0)","v":0},{"$f":"IFERROR(VLOOKUP(QQ14,MATCHSELEVES!$Y$14:$AE$600,5,FALSE),0)","v":0},{"$f":"IFERROR(VLOOKUP(QQ14,MATCHSELEVES!$Y$14:$AF$600,8,FALSE),0)","v":0},{"$f":"IFERROR(VLOOKUP(QQ14,MATCHSELEVES!$Y$14:$AG$600,9,FALSE),0)","v":0},"Dirvinep_35",{"$f":"IFERROR(VLOOKUP(QW14,MATCHSELEVES!$Y$14:$AE$600,3,FALSE),0)","v":0},{"$f":"IFERROR(VLOOKUP(QW14,MATCHSELEVES!$Y$14:$AE$600,4,FALSE),0)","v":0},{"$f":"IFERROR(VLOOKUP(QW14,MATCHSELEVES!$Y$14:$AE$600,5,FALSE),0)","v":0},{"$f":"IFERROR(VLOOKUP(QW14,MATCHSELEVES!$Y$14:$AF$600,8,FALSE),0)","v":0},{"$f":"IFERROR(VLOOKUP(QW14,MATCHSELEVES!$Y$14:$AG$600,9,FALSE),0)","v":0},"Dirvinep_36",{"$f":"IFERROR(VLOOKUP(RC14,MATCHSELEVES!$Y$14:$AE$600,3,FALSE),0)","v":0},{"$f":"IFERROR(VLOOKUP(RC14,MATCHSELEVES!$Y$14:$AE$600,4,FALSE),0)","v":0},{"$f":"IFERROR(VLOOKUP(RC14,MATCHSELEVES!$Y$14:$AE$600,5,FALSE),0)","v":0},{"$f":"IFERROR(VLOOKUP(RC14,MATCHSELEVES!$Y$14:$AF$600,8,FALSE),0)","v":0},{"$f":"IFERROR(VLOOKUP(RC14,MATCHSELEVES!$Y$14:$AG$600,9,FALSE),0)","v":0},"Dirvinep_37",{"$f":"IFERROR(VLOOKUP(RI14,MATCHSELEVES!$Y$14:$AE$600,3,FALSE),0)","v":0},{"$f":"IFERROR(VLOOKUP(RI14,MATCHSELEVES!$Y$14:$AE$600,4,FALSE),0)","v":0},{"$f":"IFERROR(VLOOKUP(RI14,MATCHSELEVES!$Y$14:$AE$600,5,FALSE),0)","v":0},{"$f":"IFERROR(VLOOKUP(RI14,MATCHSELEVES!$Y$14:$AF$600,8,FALSE),0)","v":0},{"$f":"IFERROR(VLOOKUP(RI14,MATCHSELEVES!$Y$14:$AG$600,9,FALSE),0)","v":0},"Dirvinep_38",{"$f":"IFERROR(VLOOKUP(RO14,MATCHSELEVES!$Y$14:$AE$600,3,FALSE),0)","v":0},{"$f":"IFERROR(VLOOKUP(RO14,MATCHSELEVES!$Y$14:$AE$600,4,FALSE),0)","v":0},{"$f":"IFERROR(VLOOKUP(RO14,MATCHSELEVES!$Y$14:$AE$600,5,FALSE),0)","v":0},{"$f":"IFERROR(VLOOKUP(RO14,MATCHSELEVES!$Y$14:$AF$600,8,FALSE),0)","v":0},{"$f":"IFERROR(VLOOKUP(RO14,MATCHSELEVES!$Y$14:$AG$600,9,FALSE),0)","v":0},"Dirvinep_39",{"$f":"IFERROR(VLOOKUP(RU14,MATCHSELEVES!$Y$14:$AE$600,3,FALSE),0)","v":0},{"$f":"IFERROR(VLOOKUP(RU14,MATCHSELEVES!$Y$14:$AE$600,4,FALSE),0)","v":0},{"$f":"IFERROR(VLOOKUP(RU14,MATCHSELEVES!$Y$14:$AE$600,5,FALSE),0)","v":0},{"$f":"IFERROR(VLOOKUP(RU14,MATCHSELEVES!$Y$14:$AF$600,8,FALSE),0)","v":0},{"$f":"IFERROR(VLOOKUP(RU14,MATCHSELEVES!$Y$14:$AG$600,9,FALSE),0)","v":0},"Dirvinep_40",{"$f":"IFERROR(VLOOKUP(SA14,MATCHSELEVES!$Y$14:$AE$600,3,FALSE),0)","v":0},{"$f":"IFERROR(VLOOKUP(SA14,MATCHSELEVES!$Y$14:$AE$600,4,FALSE),0)","v":0},{"$f":"IFERROR(VLOOKUP(SA14,MATCHSELEVES!$Y$14:$AE$600,5,FALSE),0)","v":0},{"$f":"IFERROR(VLOOKUP(SA14,MATCHSELEVES!$Y$14:$AF$600,8,FALSE),0)","v":0},{"$f":"IFERROR(VLOOKUP(SA14,MATCHSELEVES!$Y$14:$AG$600,9,FALSE),0)","v":0}]
[12,null,"Dora",12,null,null,{"$f":"COUNTIF(MATCHSELEVES!$Z$14:$Z$600,C15)+COUNTIF(MATCHSELEVES!$Z$14:$Z$600,$C15&\"p\")","v":0},1,{"$f":"COUNTIF(MATCHSELEVES!$F$14:$H$249,C15)","v":0},1,0,1,{"$f":"IFERROR(M58/Tableau10[[#This Row],[Nombre de matchs joués]],0)","v":0},{"$f":"IF(Tableau10[[#This Row],[Nombre de points encaissés]]=0,$C$45,SUMPRODUCT((M$4:M$43<M15)*(M$4:M$43<>0))+1)","v":40},0,1,{"$f":"(Tableau10[[#This Row],[CLASSEMENT1]]+Tableau10[[#This Row],[CLASSEMENT2]]+Tableau10[[#This Row],[CLASSEMENT3]]+Tableau10[[#This Row],[CLASSEMENT4]]+Tableau10[[#This Row],[CLASSEMENT5]]+Tableau10[[#This Row],[CLASSEMENT6]])/6","v":9.3333333333333339},{"$f":"RANK(Tableau10[[#This Row],[MOYENNE CLASSEMENTS]],Tableau10[MOYENNE CLASSEMENTS],1)","v":12},null,{"$f":"Tableau10[[#This Row],[CLASSEMENT1]]","v":12},"Dora_1",{"$f":"IFERROR(VLOOKUP(U15,MATCHSELEVES!$Y$14:$AE$600,3,FALSE),0)","v":0},{"$f":"IFERROR(VLOOKUP(U15,MATCHSELEVES!$Y$14:$AE$600,4,FALSE),0)","v":0},{"$f":"IFERROR(VLOOKUP(U15,MATCHSELEVES!$Y$14:$AE$600,5,FALSE),0)","v":0},{"$f":"IFERROR(VLOOKUP(U15,MATCHSELEVES!$Y$14:$AF$600,8,FALSE),0)","v":0},{"$f":"IFERROR(VLOOKUP(U15,MATCHSELEVES!$Y$14:$AG$600,9,FALSE),0)","v":0},"Dora_2",{"$f":"IFERROR(VLOOKUP(AA15,MATCHSELEVES!$Y$14:$AE$600,3,FALSE),0)","v":0},{"$f":"IFERROR(VLOOKUP(AA15,MATCHSELEVES!$Y$14:$AE$600,4,FALSE),0)","v":0},{"$f":"IFERROR(VLOOKUP(AA15,MATCHSELEVES!$Y$14:$AE$600,5,FALSE),0)","v":0},{"$f":"IFERROR(VLOOKUP(AA15,MATCHSELEVES!$Y$14:$AF$600,8,FALSE),0)","v":0},{"$f":"IFERROR(VLOOKUP(AA15,MATCHSELEVES!$Y$14:$AG$600,9,FALSE),0)","v":0},"Dora_3",{"$f":"IFERROR(VLOOKUP(AG15,MATCHSELEVES!$Y$14:$AE$600,3,FALSE),0)","v":0},{"$f":"IFERROR(VLOOKUP(AG15,MATCHSELEVES!$Y$14:$AE$600,4,FALSE),0)","v":0},{"$f":"IFERROR(VLOOKUP(AG15,MATCHSELEVES!$Y$14:$AE$600,5,FALSE),0)","v":0},{"$f":"IFERROR(VLOOKUP(AG15,MATCHSELEVES!$Y$14:$AF$600,8,FALSE),0)","v":0},{"$f":"IFERROR(VLOOKUP(AG15,MATCHSELEVES!$Y$14:$AG$600,9,FALSE),0)","v":0},"Dora_4",{"$f":"IFERROR(VLOOKUP(AM15,MATCHSELEVES!$Y$14:$AE$600,3,FALSE),0)","v":0},{"$f":"IFERROR(VLOOKUP(AM15,MATCHSELEVES!$Y$14:$AE$600,4,FALSE),0)","v":0},{"$f":"IFERROR(VLOOKUP(AM15,MATCHSELEVES!$Y$14:$AE$600,5,FALSE),0)","v":0},{"$f":"IFERROR(VLOOKUP(AM15,MATCHSELEVES!$Y$14:$AF$600,8,FALSE),0)","v":0},{"$f":"IFERROR(VLOOKUP(AM15,MATCHSELEVES!$Y$14:$AG$600,9,FALSE),0)","v":0},"Dora_5",{"$f":"IFERROR(VLOOKUP(AS15,MATCHSELEVES!$Y$14:$AE$600,3,FALSE),0)","v":0},{"$f":"IFERROR(VLOOKUP(AS15,MATCHSELEVES!$Y$14:$AE$600,4,FALSE),0)","v":0},{"$f":"IFERROR(VLOOKUP(AS15,MATCHSELEVES!$Y$14:$AE$600,5,FALSE),0)","v":0},{"$f":"IFERROR(VLOOKUP(AS15,MATCHSELEVES!$Y$14:$AF$600,8,FALSE),0)","v":0},{"$f":"IFERROR(VLOOKUP(AS15,MATCHSELEVES!$Y$14:$AG$600,9,FALSE),0)","v":0},"Dora_6",{"$f":"IFERROR(VLOOKUP(AY15,MATCHSELEVES!$Y$14:$AE$600,3,FALSE),0)","v":0},{"$f":"IFERROR(VLOOKUP(AY15,MATCHSELEVES!$Y$14:$AE$600,4,FALSE),0)","v":0},{"$f":"IFERROR(VLOOKUP(AY15,MATCHSELEVES!$Y$14:$AE$600,5,FALSE),0)","v":0},{"$f":"IFERROR(VLOOKUP(AY15,MATCHSELEVES!$Y$14:$AF$600,8,FALSE),0)","v":0},{"$f":"IFERROR(VLOOKUP(AY15,MATCHSELEVES!$Y$14:$AG$600,9,FALSE),0)","v":0},"Dora_7",{"$f":"IFERROR(VLOOKUP(BE15,MATCHSELEVES!$Y$14:$AE$600,3,FALSE),0)","v":0},{"$f":"IFERROR(VLOOKUP(BE15,MATCHSELEVES!$Y$14:$AE$600,4,FALSE),0)","v":0},{"$f":"IFERROR(VLOOKUP(BE15,MATCHSELEVES!$Y$14:$AE$600,5,FALSE),0)","v":0},{"$f":"IFERROR(VLOOKUP(BE15,MATCHSELEVES!$Y$14:$AF$600,8,FALSE),0)","v":0},{"$f":"IFERROR(VLOOKUP(BE15,MATCHSELEVES!$Y$14:$AG$600,9,FALSE),0)","v":0},"Dora_8",{"$f":"IFERROR(VLOOKUP(BK15,MATCHSELEVES!$Y$14:$AE$600,3,FALSE),0)","v":0},{"$f":"IFERROR(VLOOKUP(BK15,MATCHSELEVES!$Y$14:$AE$600,4,FALSE),0)","v":0},{"$f":"IFERROR(VLOOKUP(BK15,MATCHSELEVES!$Y$14:$AE$600,5,FALSE),0)","v":0},{"$f":"IFERROR(VLOOKUP(BK15,MATCHSELEVES!$Y$14:$AF$600,8,FALSE),0)","v":0},{"$f":"IFERROR(VLOOKUP(BK15,MATCHSELEVES!$Y$14:$AG$600,9,FALSE),0)","v":0},"Dora_9",{"$f":"IFERROR(VLOOKUP(BQ15,MATCHSELEVES!$Y$14:$AE$600,3,FALSE),0)","v":0},{"$f":"IFERROR(VLOOKUP(BQ15,MATCHSELEVES!$Y$14:$AE$600,4,FALSE),0)","v":0},{"$f":"IFERROR(VLOOKUP(BQ15,MATCHSELEVES!$Y$14:$AE$600,5,FALSE),0)","v":0},{"$f":"IFERROR(VLOOKUP(BQ15,MATCHSELEVES!$Y$14:$AF$600,8,FALSE),0)","v":0},{"$f":"IFERROR(VLOOKUP(BQ15,MATCHSELEVES!$Y$14:$AG$600,9,FALSE),0)","v":0},"Dora_10",{"$f":"IFERROR(VLOOKUP(BW15,MATCHSELEVES!$Y$14:$AE$600,3,FALSE),0)","v":0},{"$f":"IFERROR(VLOOKUP(BW15,MATCHSELEVES!$Y$14:$AE$600,4,FALSE),0)","v":0},{"$f":"IFERROR(VLOOKUP(BW15,MATCHSELEVES!$Y$14:$AE$600,5,FALSE),0)","v":0},{"$f":"IFERROR(VLOOKUP(BW15,MATCHSELEVES!$Y$14:$AF$600,8,FALSE),0)","v":0},{"$f":"IFERROR(VLOOKUP(BW15,MATCHSELEVES!$Y$14:$AG$600,9,FALSE),0)","v":0},"Dora_11",{"$f":"IFERROR(VLOOKUP(CC15,MATCHSELEVES!$Y$14:$AE$600,3,FALSE),0)","v":0},{"$f":"IFERROR(VLOOKUP(CC15,MATCHSELEVES!$Y$14:$AE$600,4,FALSE),0)","v":0},{"$f":"IFERROR(VLOOKUP(CC15,MATCHSELEVES!$Y$14:$AE$600,5,FALSE),0)","v":0},{"$f":"IFERROR(VLOOKUP(CC15,MATCHSELEVES!$Y$14:$AF$600,8,FALSE),0)","v":0},{"$f":"IFERROR(VLOOKUP(CC15,MATCHSELEVES!$Y$14:$AG$600,9,FALSE),0)","v":0},"Dora_12",{"$f":"IFERROR(VLOOKUP(CI15,MATCHSELEVES!$Y$14:$AE$600,3,FALSE),0)","v":0},{"$f":"IFERROR(VLOOKUP(CI15,MATCHSELEVES!$Y$14:$AE$600,4,FALSE),0)","v":0},{"$f":"IFERROR(VLOOKUP(CI15,MATCHSELEVES!$Y$14:$AE$600,5,FALSE),0)","v":0},{"$f":"IFERROR(VLOOKUP(CI15,MATCHSELEVES!$Y$14:$AF$600,8,FALSE),0)","v":0},{"$f":"IFERROR(VLOOKUP(CI15,MATCHSELEVES!$Y$14:$AG$600,9,FALSE),0)","v":0},"Dora_13",{"$f":"IFERROR(VLOOKUP(CO15,MATCHSELEVES!$Y$14:$AE$600,3,FALSE),0)","v":0},{"$f":"IFERROR(VLOOKUP(CO15,MATCHSELEVES!$Y$14:$AE$600,4,FALSE),0)","v":0},{"$f":"IFERROR(VLOOKUP(CO15,MATCHSELEVES!$Y$14:$AE$600,5,FALSE),0)","v":0},{"$f":"IFERROR(VLOOKUP(CO15,MATCHSELEVES!$Y$14:$AF$600,8,FALSE),0)","v":0},{"$f":"IFERROR(VLOOKUP(CO15,MATCHSELEVES!$Y$14:$AG$600,9,FALSE),0)","v":0},"Dora_14",{"$f":"IFERROR(VLOOKUP(CU15,MATCHSELEVES!$Y$14:$AE$600,3,FALSE),0)","v":0},{"$f":"IFERROR(VLOOKUP(CU15,MATCHSELEVES!$Y$14:$AE$600,4,FALSE),0)","v":0},{"$f":"IFERROR(VLOOKUP(CU15,MATCHSELEVES!$Y$14:$AE$600,5,FALSE),0)","v":0},{"$f":"IFERROR(VLOOKUP(CU15,MATCHSELEVES!$Y$14:$AF$600,8,FALSE),0)","v":0},{"$f":"IFERROR(VLOOKUP(CU15,MATCHSELEVES!$Y$14:$AG$600,9,FALSE),0)","v":0},"Dora_15",{"$f":"IFERROR(VLOOKUP(DA15,MATCHSELEVES!$Y$14:$AE$600,3,FALSE),0)","v":0},{"$f":"IFERROR(VLOOKUP(DA15,MATCHSELEVES!$Y$14:$AE$600,4,FALSE),0)","v":0},{"$f":"IFERROR(VLOOKUP(DA15,MATCHSELEVES!$Y$14:$AE$600,5,FALSE),0)","v":0},{"$f":"IFERROR(VLOOKUP(DA15,MATCHSELEVES!$Y$14:$AF$600,8,FALSE),0)","v":0},{"$f":"IFERROR(VLOOKUP(DA15,MATCHSELEVES!$Y$14:$AG$600,9,FALSE),0)","v":0},"Dora_16",{"$f":"IFERROR(VLOOKUP(DG15,MATCHSELEVES!$Y$14:$AE$600,3,FALSE),0)","v":0},{"$f":"IFERROR(VLOOKUP(DG15,MATCHSELEVES!$Y$14:$AE$600,4,FALSE),0)","v":0},{"$f":"IFERROR(VLOOKUP(DG15,MATCHSELEVES!$Y$14:$AE$600,5,FALSE),0)","v":0},{"$f":"IFERROR(VLOOKUP(DG15,MATCHSELEVES!$Y$14:$AF$600,8,FALSE),0)","v":0},{"$f":"IFERROR(VLOOKUP(DG15,MATCHSELEVES!$Y$14:$AG$600,9,FALSE),0)","v":0},"Dora_17",{"$f":"IFERROR(VLOOKUP(DM15,MATCHSELEVES!$Y$14:$AE$600,3,FALSE),0)","v":0},{"$f":"IFERROR(VLOOKUP(DM15,MATCHSELEVES!$Y$14:$AE$600,4,FALSE),0)","v":0},{"$f":"IFERROR(VLOOKUP(DM15,MATCHSELEVES!$Y$14:$AE$600,5,FALSE),0)","v":0},{"$f":"IFERROR(VLOOKUP(DM15,MATCHSELEVES!$Y$14:$AF$600,8,FALSE),0)","v":0},{"$f":"IFERROR(VLOOKUP(DM15,MATCHSELEVES!$Y$14:$AG$600,9,FALSE),0)","v":0},"Dora_18",{"$f":"IFERROR(VLOOKUP(DS15,MATCHSELEVES!$Y$14:$AE$600,3,FALSE),0)","v":0},{"$f":"IFERROR(VLOOKUP(DS15,MATCHSELEVES!$Y$14:$AE$600,4,FALSE),0)","v":0},{"$f":"IFERROR(VLOOKUP(DS15,MATCHSELEVES!$Y$14:$AE$600,5,FALSE),0)","v":0},{"$f":"IFERROR(VLOOKUP(DS15,MATCHSELEVES!$Y$14:$AF$600,8,FALSE),0)","v":0},{"$f":"IFERROR(VLOOKUP(DS15,MATCHSELEVES!$Y$14:$AG$600,9,FALSE),0)","v":0},"Dora_19",{"$f":"IFERROR(VLOOKUP(DY15,MATCHSELEVES!$Y$14:$AE$600,3,FALSE),0)","v":0},{"$f":"IFERROR(VLOOKUP(DY15,MATCHSELEVES!$Y$14:$AE$600,4,FALSE),0)","v":0},{"$f":"IFERROR(VLOOKUP(DY15,MATCHSELEVES!$Y$14:$AE$600,5,FALSE),0)","v":0},{"$f":"IFERROR(VLOOKUP(DY15,MATCHSELEVES!$Y$14:$AF$600,8,FALSE),0)","v":0},{"$f":"IFERROR(VLOOKUP(DY15,MATCHSELEVES!$Y$14:$AG$600,9,FALSE),0)","v":0},"Dora_20",{"$f":"IFERROR(VLOOKUP(EE15,MATCHSELEVES!$Y$14:$AE$600,3,FALSE),0)","v":0},{"$f":"IFERROR(VLOOKUP(EE15,MATCHSELEVES!$Y$14:$AE$600,4,FALSE),0)","v":0},{"$f":"IFERROR(VLOOKUP(EE15,MATCHSELEVES!$Y$14:$AE$600,5,FALSE),0)","v":0},{"$f":"IFERROR(VLOOKUP(EE15,MATCHSELEVES!$Y$14:$AF$600,8,FALSE),0)","v":0},{"$f":"IFERROR(VLOOKUP(EE15,MATCHSELEVES!$Y$14:$AG$600,9,FALSE),0)","v":0},"Dora_21",{"$f":"IFERROR(VLOOKUP(EK15,MATCHSELEVES!$Y$14:$AE$600,3,FALSE),0)","v":0},{"$f":"IFERROR(VLOOKUP(EK15,MATCHSELEVES!$Y$14:$AE$600,4,FALSE),0)","v":0},{"$f":"IFERROR(VLOOKUP(EK15,MATCHSELEVES!$Y$14:$AE$600,5,FALSE),0)","v":0},{"$f":"IFERROR(VLOOKUP(EK15,MATCHSELEVES!$Y$14:$AF$600,8,FALSE),0)","v":0},{"$f":"IFERROR(VLOOKUP(EK15,MATCHSELEVES!$Y$14:$AG$600,9,FALSE),0)","v":0},"Dora_22",{"$f":"IFERROR(VLOOKUP(EQ15,MATCHSELEVES!$Y$14:$AE$600,3,FALSE),0)","v":0},{"$f":"IFERROR(VLOOKUP(EQ15,MATCHSELEVES!$Y$14:$AE$600,4,FALSE),0)","v":0},{"$f":"IFERROR(VLOOKUP(EQ15,MATCHSELEVES!$Y$14:$AE$600,5,FALSE),0)","v":0},{"$f":"IFERROR(VLOOKUP(EQ15,MATCHSELEVES!$Y$14:$AF$600,8,FALSE),0)","v":0},{"$f":"IFERROR(VLOOKUP(EQ15,MATCHSELEVES!$Y$14:$AG$600,9,FALSE),0)","v":0},"Dora_23",{"$f":"IFERROR(VLOOKUP(EW15,MATCHSELEVES!$Y$14:$AE$600,3,FALSE),0)","v":0},{"$f":"IFERROR(VLOOKUP(EW15,MATCHSELEVES!$Y$14:$AE$600,4,FALSE),0)","v":0},{"$f":"IFERROR(VLOOKUP(EW15,MATCHSELEVES!$Y$14:$AE$600,5,FALSE),0)","v":0},{"$f":"IFERROR(VLOOKUP(EW15,MATCHSELEVES!$Y$14:$AF$600,8,FALSE),0)","v":0},{"$f":"IFERROR(VLOOKUP(EW15,MATCHSELEVES!$Y$14:$AG$600,9,FALSE),0)","v":0},"Dora_24",{"$f":"IFERROR(VLOOKUP(FC15,MATCHSELEVES!$Y$14:$AE$600,3,FALSE),0)","v":0},{"$f":"IFERROR(VLOOKUP(FC15,MATCHSELEVES!$Y$14:$AE$600,4,FALSE),0)","v":0},{"$f":"IFERROR(VLOOKUP(FC15,MATCHSELEVES!$Y$14:$AE$600,5,FALSE),0)","v":0},{"$f":"IFERROR(VLOOKUP(FC15,MATCHSELEVES!$Y$14:$AF$600,8,FALSE),0)","v":0},{"$f":"IFERROR(VLOOKUP(FC15,MATCHSELEVES!$Y$14:$AG$600,9,FALSE),0)","v":0},"Dora_25",{"$f":"IFERROR(VLOOKUP(FI15,MATCHSELEVES!$Y$14:$AE$600,3,FALSE),0)","v":0},{"$f":"IFERROR(VLOOKUP(FI15,MATCHSELEVES!$Y$14:$AE$600,4,FALSE),0)","v":0},{"$f":"IFERROR(VLOOKUP(FI15,MATCHSELEVES!$Y$14:$AE$600,5,FALSE),0)","v":0},{"$f":"IFERROR(VLOOKUP(FI15,MATCHSELEVES!$Y$14:$AF$600,8,FALSE),0)","v":0},{"$f":"IFERROR(VLOOKUP(FI15,MATCHSELEVES!$Y$14:$AG$600,9,FALSE),0)","v":0},"Dora_26",{"$f":"IFERROR(VLOOKUP(FO15,MATCHSELEVES!$Y$14:$AE$600,3,FALSE),0)","v":0},{"$f":"IFERROR(VLOOKUP(FO15,MATCHSELEVES!$Y$14:$AE$600,4,FALSE),0)","v":0},{"$f":"IFERROR(VLOOKUP(FO15,MATCHSELEVES!$Y$14:$AE$600,5,FALSE),0)","v":0},{"$f":"IFERROR(VLOOKUP(FO15,MATCHSELEVES!$Y$14:$AF$600,8,FALSE),0)","v":0},{"$f":"IFERROR(VLOOKUP(FO15,MATCHSELEVES!$Y$14:$AG$600,9,FALSE),0)","v":0},"Dora_27",{"$f":"IFERROR(VLOOKUP(FU15,MATCHSELEVES!$Y$14:$AE$600,3,FALSE),0)","v":0},{"$f":"IFERROR(VLOOKUP(FU15,MATCHSELEVES!$Y$14:$AE$600,4,FALSE),0)","v":0},{"$f":"IFERROR(VLOOKUP(FU15,MATCHSELEVES!$Y$14:$AE$600,5,FALSE),0)","v":0},{"$f":"IFERROR(VLOOKUP(FU15,MATCHSELEVES!$Y$14:$AF$600,8,FALSE),0)","v":0},{"$f":"IFERROR(VLOOKUP(FU15,MATCHSELEVES!$Y$14:$AG$600,9,FALSE),0)","v":0},"Dora_28",{"$f":"IFERROR(VLOOKUP(GA15,MATCHSELEVES!$Y$14:$AE$600,3,FALSE),0)","v":0},{"$f":"IFERROR(VLOOKUP(GA15,MATCHSELEVES!$Y$14:$AE$600,4,FALSE),0)","v":0},{"$f":"IFERROR(VLOOKUP(GA15,MATCHSELEVES!$Y$14:$AE$600,5,FALSE),0)","v":0},{"$f":"IFERROR(VLOOKUP(GA15,MATCHSELEVES!$Y$14:$AF$600,8,FALSE),0)","v":0},{"$f":"IFERROR(VLOOKUP(GA15,MATCHSELEVES!$Y$14:$AG$600,9,FALSE),0)","v":0},"Dora_29",{"$f":"IFERROR(VLOOKUP(GG15,MATCHSELEVES!$Y$14:$AE$600,3,FALSE),0)","v":0},{"$f":"IFERROR(VLOOKUP(GG15,MATCHSELEVES!$Y$14:$AE$600,4,FALSE),0)","v":0},{"$f":"IFERROR(VLOOKUP(GG15,MATCHSELEVES!$Y$14:$AE$600,5,FALSE),0)","v":0},{"$f":"IFERROR(VLOOKUP(GG15,MATCHSELEVES!$Y$14:$AF$600,8,FALSE),0)","v":0},{"$f":"IFERROR(VLOOKUP(GG15,MATCHSELEVES!$Y$14:$AG$600,9,FALSE),0)","v":0},"Dora_30",{"$f":"IFERROR(VLOOKUP(GM15,MATCHSELEVES!$Y$14:$AE$600,3,FALSE),0)","v":0},{"$f":"IFERROR(VLOOKUP(GM15,MATCHSELEVES!$Y$14:$AE$600,4,FALSE),0)","v":0},{"$f":"IFERROR(VLOOKUP(GM15,MATCHSELEVES!$Y$14:$AE$600,5,FALSE),0)","v":0},{"$f":"IFERROR(VLOOKUP(GM15,MATCHSELEVES!$Y$14:$AF$600,8,FALSE),0)","v":0},{"$f":"IFERROR(VLOOKUP(GM15,MATCHSELEVES!$Y$14:$AG$600,9,FALSE),0)","v":0},"Dora_31",{"$f":"IFERROR(VLOOKUP(GS15,MATCHSELEVES!$Y$14:$AE$600,3,FALSE),0)","v":0},{"$f":"IFERROR(VLOOKUP(GS15,MATCHSELEVES!$Y$14:$AE$600,4,FALSE),0)","v":0},{"$f":"IFERROR(VLOOKUP(GS15,MATCHSELEVES!$Y$14:$AE$600,5,FALSE),0)","v":0},{"$f":"IFERROR(VLOOKUP(GS15,MATCHSELEVES!$Y$14:$AF$600,8,FALSE),0)","v":0},{"$f":"IFERROR(VLOOKUP(GS15,MATCHSELEVES!$Y$14:$AG$600,9,FALSE),0)","v":0},"Dora_32",{"$f":"IFERROR(VLOOKUP(GY15,MATCHSELEVES!$Y$14:$AE$600,3,FALSE),0)","v":0},{"$f":"IFERROR(VLOOKUP(GY15,MATCHSELEVES!$Y$14:$AE$600,4,FALSE),0)","v":0},{"$f":"IFERROR(VLOOKUP(GY15,MATCHSELEVES!$Y$14:$AE$600,5,FALSE),0)","v":0},{"$f":"IFERROR(VLOOKUP(GY15,MATCHSELEVES!$Y$14:$AF$600,8,FALSE),0)","v":0},{"$f":"IFERROR(VLOOKUP(GY15,MATCHSELEVES!$Y$14:$AG$600,9,FALSE),0)","v":0},"Dora_33",{"$f":"IFERROR(VLOOKUP(HE15,MATCHSELEVES!$Y$14:$AE$600,3,FALSE),0)","v":0},{"$f":"IFERROR(VLOOKUP(HE15,MATCHSELEVES!$Y$14:$AE$600,4,FALSE),0)","v":0},{"$f":"IFERROR(VLOOKUP(HE15,MATCHSELEVES!$Y$14:$AE$600,5,FALSE),0)","v":0},{"$f":"IFERROR(VLOOKUP(HE15,MATCHSELEVES!$Y$14:$AF$600,8,FALSE),0)","v":0},{"$f":"IFERROR(VLOOKUP(HE15,MATCHSELEVES!$Y$14:$AG$600,9,FALSE),0)","v":0},"Dora_34",{"$f":"IFERROR(VLOOKUP(HK15,MATCHSELEVES!$Y$14:$AE$600,3,FALSE),0)","v":0},{"$f":"IFERROR(VLOOKUP(HK15,MATCHSELEVES!$Y$14:$AE$600,4,FALSE),0)","v":0},{"$f":"IFERROR(VLOOKUP(HK15,MATCHSELEVES!$Y$14:$AE$600,5,FALSE),0)","v":0},{"$f":"IFERROR(VLOOKUP(HK15,MATCHSELEVES!$Y$14:$AF$600,8,FALSE),0)","v":0},{"$f":"IFERROR(VLOOKUP(HK15,MATCHSELEVES!$Y$14:$AG$600,9,FALSE),0)","v":0},"Dora_35",{"$f":"IFERROR(VLOOKUP(HQ15,MATCHSELEVES!$Y$14:$AE$600,3,FALSE),0)","v":0},{"$f":"IFERROR(VLOOKUP(HQ15,MATCHSELEVES!$Y$14:$AE$600,4,FALSE),0)","v":0},{"$f":"IFERROR(VLOOKUP(HQ15,MATCHSELEVES!$Y$14:$AE$600,5,FALSE),0)","v":0},{"$f":"IFERROR(VLOOKUP(HQ15,MATCHSELEVES!$Y$14:$AF$600,8,FALSE),0)","v":0},{"$f":"IFERROR(VLOOKUP(HQ15,MATCHSELEVES!$Y$14:$AG$600,9,FALSE),0)","v":0},"Dora_36",{"$f":"IFERROR(VLOOKUP(HW15,MATCHSELEVES!$Y$14:$AE$600,3,FALSE),0)","v":0},{"$f":"IFERROR(VLOOKUP(HW15,MATCHSELEVES!$Y$14:$AE$600,4,FALSE),0)","v":0},{"$f":"IFERROR(VLOOKUP(HW15,MATCHSELEVES!$Y$14:$AE$600,5,FALSE),0)","v":0},{"$f":"IFERROR(VLOOKUP(HW15,MATCHSELEVES!$Y$14:$AF$600,8,FALSE),0)","v":0},{"$f":"IFERROR(VLOOKUP(HW15,MATCHSELEVES!$Y$14:$AG$600,9,FALSE),0)","v":0},"Dora_37",{"$f":"IFERROR(VLOOKUP(IC15,MATCHSELEVES!$Y$14:$AE$600,3,FALSE),0)","v":0},{"$f":"IFERROR(VLOOKUP(IC15,MATCHSELEVES!$Y$14:$AE$600,4,FALSE),0)","v":0},{"$f":"IFERROR(VLOOKUP(IC15,MATCHSELEVES!$Y$14:$AE$600,5,FALSE),0)","v":0},{"$f":"IFERROR(VLOOKUP(IC15,MATCHSELEVES!$Y$14:$AF$600,8,FALSE),0)","v":0},{"$f":"IFERROR(VLOOKUP(IC15,MATCHSELEVES!$Y$14:$AG$600,9,FALSE),0)","v":0},"Dora_38",{"$f":"IFERROR(VLOOKUP(II15,MATCHSELEVES!$Y$14:$AE$600,3,FALSE),0)","v":0},{"$f":"IFERROR(VLOOKUP(II15,MATCHSELEVES!$Y$14:$AE$600,4,FALSE),0)","v":0},{"$f":"IFERROR(VLOOKUP(II15,MATCHSELEVES!$Y$14:$AE$600,5,FALSE),0)","v":0},{"$f":"IFERROR(VLOOKUP(II15,MATCHSELEVES!$Y$14:$AF$600,8,FALSE),0)","v":0},{"$f":"IFERROR(VLOOKUP(II15,MATCHSELEVES!$Y$14:$AG$600,9,FALSE),0)","v":0},"Dora_39",{"$f":"IFERROR(VLOOKUP(IO15,MATCHSELEVES!$Y$14:$AE$600,3,FALSE),0)","v":0},{"$f":"IFERROR(VLOOKUP(IO15,MATCHSELEVES!$Y$14:$AE$600,4,FALSE),0)","v":0},{"$f":"IFERROR(VLOOKUP(IO15,MATCHSELEVES!$Y$14:$AE$600,5,FALSE),0)","v":0},{"$f":"IFERROR(VLOOKUP(IO15,MATCHSELEVES!$Y$14:$AF$600,8,FALSE),0)","v":0},{"$f":"IFERROR(VLOOKUP(IO15,MATCHSELEVES!$Y$14:$AG$600,9,FALSE),0)","v":0},"Dora_40",{"$f":"IFERROR(VLOOKUP(IU15,MATCHSELEVES!$Y$14:$AE$600,3,FALSE),0)","v":0},{"$f":"IFERROR(VLOOKUP(IU15,MATCHSELEVES!$Y$14:$AE$600,4,FALSE),0)","v":0},{"$f":"IFERROR(VLOOKUP(IU15,MATCHSELEVES!$Y$14:$AE$600,5,FALSE),0)","v":0},{"$f":"IFERROR(VLOOKUP(IU15,MATCHSELEVES!$Y$14:$AF$600,8,FALSE),0)","v":0},{"$f":"IFERROR(VLOOKUP(IU15,MATCHSELEVES!$Y$14:$AG$600,9,FALSE),0)","v":0},"Dorap_1",{"$f":"IFERROR(VLOOKUP(JA15,MATCHSELEVES!$Y$14:$AE$600,3,FALSE),0)","v":0},{"$f":"IFERROR(VLOOKUP(JA15,MATCHSELEVES!$Y$14:$AE$600,4,FALSE),0)","v":0},{"$f":"IFERROR(VLOOKUP(JA15,MATCHSELEVES!$Y$14:$AE$600,5,FALSE),0)","v":0},{"$f":"IFERROR(VLOOKUP(JA15,MATCHSELEVES!$Y$14:$AF$600,8,FALSE),0)","v":0},{"$f":"IFERROR(VLOOKUP(JA15,MATCHSELEVES!$Y$14:$AG$600,9,FALSE),0)","v":0},"Dorap_2",{"$f":"IFERROR(VLOOKUP(JG15,MATCHSELEVES!$Y$14:$AE$600,3,FALSE),0)","v":0},{"$f":"IFERROR(VLOOKUP(JG15,MATCHSELEVES!$Y$14:$AE$600,4,FALSE),0)","v":0},{"$f":"IFERROR(VLOOKUP(JG15,MATCHSELEVES!$Y$14:$AE$600,5,FALSE),0)","v":0},{"$f":"IFERROR(VLOOKUP(JG15,MATCHSELEVES!$Y$14:$AF$600,8,FALSE),0)","v":0},{"$f":"IFERROR(VLOOKUP(JG15,MATCHSELEVES!$Y$14:$AG$600,9,FALSE),0)","v":0},"Dorap_3",{"$f":"IFERROR(VLOOKUP(JM15,MATCHSELEVES!$Y$14:$AE$600,3,FALSE),0)","v":0},{"$f":"IFERROR(VLOOKUP(JM15,MATCHSELEVES!$Y$14:$AE$600,4,FALSE),0)","v":0},{"$f":"IFERROR(VLOOKUP(JM15,MATCHSELEVES!$Y$14:$AE$600,5,FALSE),0)","v":0},{"$f":"IFERROR(VLOOKUP(JM15,MATCHSELEVES!$Y$14:$AF$600,8,FALSE),0)","v":0},{"$f":"IFERROR(VLOOKUP(JM15,MATCHSELEVES!$Y$14:$AG$600,9,FALSE),0)","v":0},"Dorap_4",{"$f":"IFERROR(VLOOKUP(JS15,MATCHSELEVES!$Y$14:$AE$600,3,FALSE),0)","v":0},{"$f":"IFERROR(VLOOKUP(JS15,MATCHSELEVES!$Y$14:$AE$600,4,FALSE),0)","v":0},{"$f":"IFERROR(VLOOKUP(JS15,MATCHSELEVES!$Y$14:$AE$600,5,FALSE),0)","v":0},{"$f":"IFERROR(VLOOKUP(JS15,MATCHSELEVES!$Y$14:$AF$600,8,FALSE),0)","v":0},{"$f":"IFERROR(VLOOKUP(JS15,MATCHSELEVES!$Y$14:$AG$600,9,FALSE),0)","v":0},"Dorap_5",{"$f":"IFERROR(VLOOKUP(JY15,MATCHSELEVES!$Y$14:$AE$600,3,FALSE),0)","v":0},{"$f":"IFERROR(VLOOKUP(JY15,MATCHSELEVES!$Y$14:$AE$600,4,FALSE),0)","v":0},{"$f":"IFERROR(VLOOKUP(JY15,MATCHSELEVES!$Y$14:$AE$600,5,FALSE),0)","v":0},{"$f":"IFERROR(VLOOKUP(JY15,MATCHSELEVES!$Y$14:$AF$600,8,FALSE),0)","v":0},{"$f":"IFERROR(VLOOKUP(JY15,MATCHSELEVES!$Y$14:$AG$600,9,FALSE),0)","v":0},"Dorap_6",{"$f":"IFERROR(VLOOKUP(KE15,MATCHSELEVES!$Y$14:$AE$600,3,FALSE),0)","v":0},{"$f":"IFERROR(VLOOKUP(KE15,MATCHSELEVES!$Y$14:$AE$600,4,FALSE),0)","v":0},{"$f":"IFERROR(VLOOKUP(KE15,MATCHSELEVES!$Y$14:$AE$600,5,FALSE),0)","v":0},{"$f":"IFERROR(VLOOKUP(KE15,MATCHSELEVES!$Y$14:$AF$600,8,FALSE),0)","v":0},{"$f":"IFERROR(VLOOKUP(KE15,MATCHSELEVES!$Y$14:$AG$600,9,FALSE),0)","v":0},"Dorap_7",{"$f":"IFERROR(VLOOKUP(KK15,MATCHSELEVES!$Y$14:$AE$600,3,FALSE),0)","v":0},{"$f":"IFERROR(VLOOKUP(KK15,MATCHSELEVES!$Y$14:$AE$600,4,FALSE),0)","v":0},{"$f":"IFERROR(VLOOKUP(KK15,MATCHSELEVES!$Y$14:$AE$600,5,FALSE),0)","v":0},{"$f":"IFERROR(VLOOKUP(KK15,MATCHSELEVES!$Y$14:$AF$600,8,FALSE),0)","v":0},{"$f":"IFERROR(VLOOKUP(KK15,MATCHSELEVES!$Y$14:$AG$600,9,FALSE),0)","v":0},"Dorap_8",{"$f":"IFERROR(VLOOKUP(KQ15,MATCHSELEVES!$Y$14:$AE$600,3,FALSE),0)","v":0},{"$f":"IFERROR(VLOOKUP(KQ15,MATCHSELEVES!$Y$14:$AE$600,4,FALSE),0)","v":0},{"$f":"IFERROR(VLOOKUP(KQ15,MATCHSELEVES!$Y$14:$AE$600,5,FALSE),0)","v":0},{"$f":"IFERROR(VLOOKUP(KQ15,MATCHSELEVES!$Y$14:$AF$600,8,FALSE),0)","v":0},{"$f":"IFERROR(VLOOKUP(KQ15,MATCHSELEVES!$Y$14:$AG$600,9,FALSE),0)","v":0},"Dorap_9",{"$f":"IFERROR(VLOOKUP(KW15,MATCHSELEVES!$Y$14:$AE$600,3,FALSE),0)","v":0},{"$f":"IFERROR(VLOOKUP(KW15,MATCHSELEVES!$Y$14:$AE$600,4,FALSE),0)","v":0},{"$f":"IFERROR(VLOOKUP(KW15,MATCHSELEVES!$Y$14:$AE$600,5,FALSE),0)","v":0},{"$f":"IFERROR(VLOOKUP(KW15,MATCHSELEVES!$Y$14:$AF$600,8,FALSE),0)","v":0},{"$f":"IFERROR(VLOOKUP(KW15,MATCHSELEVES!$Y$14:$AG$600,9,FALSE),0)","v":0},"Dorap_10",{"$f":"IFERROR(VLOOKUP(LC15,MATCHSELEVES!$Y$14:$AE$600,3,FALSE),0)","v":0},{"$f":"IFERROR(VLOOKUP(LC15,MATCHSELEVES!$Y$14:$AE$600,4,FALSE),0)","v":0},{"$f":"IFERROR(VLOOKUP(LC15,MATCHSELEVES!$Y$14:$AE$600,5,FALSE),0)","v":0},{"$f":"IFERROR(VLOOKUP(LC15,MATCHSELEVES!$Y$14:$AF$600,8,FALSE),0)","v":0},{"$f":"IFERROR(VLOOKUP(LC15,MATCHSELEVES!$Y$14:$AG$600,9,FALSE),0)","v":0},"Dorap_11",{"$f":"IFERROR(VLOOKUP(LI15,MATCHSELEVES!$Y$14:$AE$600,3,FALSE),0)","v":0},{"$f":"IFERROR(VLOOKUP(LI15,MATCHSELEVES!$Y$14:$AE$600,4,FALSE),0)","v":0},{"$f":"IFERROR(VLOOKUP(LI15,MATCHSELEVES!$Y$14:$AE$600,5,FALSE),0)","v":0},{"$f":"IFERROR(VLOOKUP(LI15,MATCHSELEVES!$Y$14:$AF$600,8,FALSE),0)","v":0},{"$f":"IFERROR(VLOOKUP(LI15,MATCHSELEVES!$Y$14:$AG$600,9,FALSE),0)","v":0},"Dorap_12",{"$f":"IFERROR(VLOOKUP(LO15,MATCHSELEVES!$Y$14:$AE$600,3,FALSE),0)","v":0},{"$f":"IFERROR(VLOOKUP(LO15,MATCHSELEVES!$Y$14:$AE$600,4,FALSE),0)","v":0},{"$f":"IFERROR(VLOOKUP(LO15,MATCHSELEVES!$Y$14:$AE$600,5,FALSE),0)","v":0},{"$f":"IFERROR(VLOOKUP(LO15,MATCHSELEVES!$Y$14:$AF$600,8,FALSE),0)","v":0},{"$f":"IFERROR(VLOOKUP(LO15,MATCHSELEVES!$Y$14:$AG$600,9,FALSE),0)","v":0},"Dorap_13",{"$f":"IFERROR(VLOOKUP(LU15,MATCHSELEVES!$Y$14:$AE$600,3,FALSE),0)","v":0},{"$f":"IFERROR(VLOOKUP(LU15,MATCHSELEVES!$Y$14:$AE$600,4,FALSE),0)","v":0},{"$f":"IFERROR(VLOOKUP(LU15,MATCHSELEVES!$Y$14:$AE$600,5,FALSE),0)","v":0},{"$f":"IFERROR(VLOOKUP(LU15,MATCHSELEVES!$Y$14:$AF$600,8,FALSE),0)","v":0},{"$f":"IFERROR(VLOOKUP(LU15,MATCHSELEVES!$Y$14:$AG$600,9,FALSE),0)","v":0},"Dorap_14",{"$f":"IFERROR(VLOOKUP(MA15,MATCHSELEVES!$Y$14:$AE$600,3,FALSE),0)","v":0},{"$f":"IFERROR(VLOOKUP(MA15,MATCHSELEVES!$Y$14:$AE$600,4,FALSE),0)","v":0},{"$f":"IFERROR(VLOOKUP(MA15,MATCHSELEVES!$Y$14:$AE$600,5,FALSE),0)","v":0},{"$f":"IFERROR(VLOOKUP(MA15,MATCHSELEVES!$Y$14:$AF$600,8,FALSE),0)","v":0},{"$f":"IFERROR(VLOOKUP(MA15,MATCHSELEVES!$Y$14:$AG$600,9,FALSE),0)","v":0},"Dorap_15",{"$f":"IFERROR(VLOOKUP(MG15,MATCHSELEVES!$Y$14:$AE$600,3,FALSE),0)","v":0},{"$f":"IFERROR(VLOOKUP(MG15,MATCHSELEVES!$Y$14:$AE$600,4,FALSE),0)","v":0},{"$f":"IFERROR(VLOOKUP(MG15,MATCHSELEVES!$Y$14:$AE$600,5,FALSE),0)","v":0},{"$f":"IFERROR(VLOOKUP(MG15,MATCHSELEVES!$Y$14:$AF$600,8,FALSE),0)","v":0},{"$f":"IFERROR(VLOOKUP(MG15,MATCHSELEVES!$Y$14:$AG$600,9,FALSE),0)","v":0},"Dorap_16",{"$f":"IFERROR(VLOOKUP(MM15,MATCHSELEVES!$Y$14:$AE$600,3,FALSE),0)","v":0},{"$f":"IFERROR(VLOOKUP(MM15,MATCHSELEVES!$Y$14:$AE$600,4,FALSE),0)","v":0},{"$f":"IFERROR(VLOOKUP(MM15,MATCHSELEVES!$Y$14:$AE$600,5,FALSE),0)","v":0},{"$f":"IFERROR(VLOOKUP(MM15,MATCHSELEVES!$Y$14:$AF$600,8,FALSE),0)","v":0},{"$f":"IFERROR(VLOOKUP(MM15,MATCHSELEVES!$Y$14:$AG$600,9,FALSE),0)","v":0},"Dorap_17",{"$f":"IFERROR(VLOOKUP(MS15,MATCHSELEVES!$Y$14:$AE$600,3,FALSE),0)","v":0},{"$f":"IFERROR(VLOOKUP(MS15,MATCHSELEVES!$Y$14:$AE$600,4,FALSE),0)","v":0},{"$f":"IFERROR(VLOOKUP(MS15,MATCHSELEVES!$Y$14:$AE$600,5,FALSE),0)","v":0},{"$f":"IFERROR(VLOOKUP(MS15,MATCHSELEVES!$Y$14:$AF$600,8,FALSE),0)","v":0},{"$f":"IFERROR(VLOOKUP(MS15,MATCHSELEVES!$Y$14:$AG$600,9,FALSE),0)","v":0},"Dorap_18",{"$f":"IFERROR(VLOOKUP(MY15,MATCHSELEVES!$Y$14:$AE$600,3,FALSE),0)","v":0},{"$f":"IFERROR(VLOOKUP(MY15,MATCHSELEVES!$Y$14:$AE$600,4,FALSE),0)","v":0},{"$f":"IFERROR(VLOOKUP(MY15,MATCHSELEVES!$Y$14:$AE$600,5,FALSE),0)","v":0},{"$f":"IFERROR(VLOOKUP(MY15,MATCHSELEVES!$Y$14:$AF$600,8,FALSE),0)","v":0},{"$f":"IFERROR(VLOOKUP(MY15,MATCHSELEVES!$Y$14:$AG$600,9,FALSE),0)","v":0},"Dorap_19",{"$f":"IFERROR(VLOOKUP(NE15,MATCHSELEVES!$Y$14:$AE$600,3,FALSE),0)","v":0},{"$f":"IFERROR(VLOOKUP(NE15,MATCHSELEVES!$Y$14:$AE$600,4,FALSE),0)","v":0},{"$f":"IFERROR(VLOOKUP(NE15,MATCHSELEVES!$Y$14:$AE$600,5,FALSE),0)","v":0},{"$f":"IFERROR(VLOOKUP(NE15,MATCHSELEVES!$Y$14:$AF$600,8,FALSE),0)","v":0},{"$f":"IFERROR(VLOOKUP(NE15,MATCHSELEVES!$Y$14:$AG$600,9,FALSE),0)","v":0},"Dorap_20",{"$f":"IFERROR(VLOOKUP(NK15,MATCHSELEVES!$Y$14:$AE$600,3,FALSE),0)","v":0},{"$f":"IFERROR(VLOOKUP(NK15,MATCHSELEVES!$Y$14:$AE$600,4,FALSE),0)","v":0},{"$f":"IFERROR(VLOOKUP(NK15,MATCHSELEVES!$Y$14:$AE$600,5,FALSE),0)","v":0},{"$f":"IFERROR(VLOOKUP(NK15,MATCHSELEVES!$Y$14:$AF$600,8,FALSE),0)","v":0},{"$f":"IFERROR(VLOOKUP(NK15,MATCHSELEVES!$Y$14:$AG$600,9,FALSE),0)","v":0},"Dorap_21",{"$f":"IFERROR(VLOOKUP(NQ15,MATCHSELEVES!$Y$14:$AE$600,3,FALSE),0)","v":0},{"$f":"IFERROR(VLOOKUP(NQ15,MATCHSELEVES!$Y$14:$AE$600,4,FALSE),0)","v":0},{"$f":"IFERROR(VLOOKUP(NQ15,MATCHSELEVES!$Y$14:$AE$600,5,FALSE),0)","v":0},{"$f":"IFERROR(VLOOKUP(NQ15,MATCHSELEVES!$Y$14:$AF$600,8,FALSE),0)","v":0},{"$f":"IFERROR(VLOOKUP(NQ15,MATCHSELEVES!$Y$14:$AG$600,9,FALSE),0)","v":0},"Dorap_22",{"$f":"IFERROR(VLOOKUP(NW15,MATCHSELEVES!$Y$14:$AE$600,3,FALSE),0)","v":0},{"$f":"IFERROR(VLOOKUP(NW15,MATCHSELEVES!$Y$14:$AE$600,4,FALSE),0)","v":0},{"$f":"IFERROR(VLOOKUP(NW15,MATCHSELEVES!$Y$14:$AE$600,5,FALSE),0)","v":0},{"$f":"IFERROR(VLOOKUP(NW15,MATCHSELEVES!$Y$14:$AF$600,8,FALSE),0)","v":0},{"$f":"IFERROR(VLOOKUP(NW15,MATCHSELEVES!$Y$14:$AG$600,9,FALSE),0)","v":0},"Dorap_23",{"$f":"IFERROR(VLOOKUP(OC15,MATCHSELEVES!$Y$14:$AE$600,3,FALSE),0)","v":0},{"$f":"IFERROR(VLOOKUP(OC15,MATCHSELEVES!$Y$14:$AE$600,4,FALSE),0)","v":0},{"$f":"IFERROR(VLOOKUP(OC15,MATCHSELEVES!$Y$14:$AE$600,5,FALSE),0)","v":0},{"$f":"IFERROR(VLOOKUP(OC15,MATCHSELEVES!$Y$14:$AF$600,8,FALSE),0)","v":0},{"$f":"IFERROR(VLOOKUP(OC15,MATCHSELEVES!$Y$14:$AG$600,9,FALSE),0)","v":0},"Dorap_24",{"$f":"IFERROR(VLOOKUP(OI15,MATCHSELEVES!$Y$14:$AE$600,3,FALSE),0)","v":0},{"$f":"IFERROR(VLOOKUP(OI15,MATCHSELEVES!$Y$14:$AE$600,4,FALSE),0)","v":0},{"$f":"IFERROR(VLOOKUP(OI15,MATCHSELEVES!$Y$14:$AE$600,5,FALSE),0)","v":0},{"$f":"IFERROR(VLOOKUP(OI15,MATCHSELEVES!$Y$14:$AF$600,8,FALSE),0)","v":0},{"$f":"IFERROR(VLOOKUP(OI15,MATCHSELEVES!$Y$14:$AG$600,9,FALSE),0)","v":0},"Dorap_25",{"$f":"IFERROR(VLOOKUP(OO15,MATCHSELEVES!$Y$14:$AE$600,3,FALSE),0)","v":0},{"$f":"IFERROR(VLOOKUP(OO15,MATCHSELEVES!$Y$14:$AE$600,4,FALSE),0)","v":0},{"$f":"IFERROR(VLOOKUP(OO15,MATCHSELEVES!$Y$14:$AE$600,5,FALSE),0)","v":0},{"$f":"IFERROR(VLOOKUP(OO15,MATCHSELEVES!$Y$14:$AF$600,8,FALSE),0)","v":0},{"$f":"IFERROR(VLOOKUP(OO15,MATCHSELEVES!$Y$14:$AG$600,9,FALSE),0)","v":0},"Dorap_26",{"$f":"IFERROR(VLOOKUP(OU15,MATCHSELEVES!$Y$14:$AE$600,3,FALSE),0)","v":0},{"$f":"IFERROR(VLOOKUP(OU15,MATCHSELEVES!$Y$14:$AE$600,4,FALSE),0)","v":0},{"$f":"IFERROR(VLOOKUP(OU15,MATCHSELEVES!$Y$14:$AE$600,5,FALSE),0)","v":0},{"$f":"IFERROR(VLOOKUP(OU15,MATCHSELEVES!$Y$14:$AF$600,8,FALSE),0)","v":0},{"$f":"IFERROR(VLOOKUP(OU15,MATCHSELEVES!$Y$14:$AG$600,9,FALSE),0)","v":0},"Dorap_27",{"$f":"IFERROR(VLOOKUP(PA15,MATCHSELEVES!$Y$14:$AE$600,3,FALSE),0)","v":0},{"$f":"IFERROR(VLOOKUP(PA15,MATCHSELEVES!$Y$14:$AE$600,4,FALSE),0)","v":0},{"$f":"IFERROR(VLOOKUP(PA15,MATCHSELEVES!$Y$14:$AE$600,5,FALSE),0)","v":0},{"$f":"IFERROR(VLOOKUP(PA15,MATCHSELEVES!$Y$14:$AF$600,8,FALSE),0)","v":0},{"$f":"IFERROR(VLOOKUP(PA15,MATCHSELEVES!$Y$14:$AG$600,9,FALSE),0)","v":0},"Dorap_28",{"$f":"IFERROR(VLOOKUP(PG15,MATCHSELEVES!$Y$14:$AE$600,3,FALSE),0)","v":0},{"$f":"IFERROR(VLOOKUP(PG15,MATCHSELEVES!$Y$14:$AE$600,4,FALSE),0)","v":0},{"$f":"IFERROR(VLOOKUP(PG15,MATCHSELEVES!$Y$14:$AE$600,5,FALSE),0)","v":0},{"$f":"IFERROR(VLOOKUP(PG15,MATCHSELEVES!$Y$14:$AF$600,8,FALSE),0)","v":0},{"$f":"IFERROR(VLOOKUP(PG15,MATCHSELEVES!$Y$14:$AG$600,9,FALSE),0)","v":0},"Dorap_29",{"$f":"IFERROR(VLOOKUP(PM15,MATCHSELEVES!$Y$14:$AE$600,3,FALSE),0)","v":0},{"$f":"IFERROR(VLOOKUP(PM15,MATCHSELEVES!$Y$14:$AE$600,4,FALSE),0)","v":0},{"$f":"IFERROR(VLOOKUP(PM15,MATCHSELEVES!$Y$14:$AE$600,5,FALSE),0)","v":0},{"$f":"IFERROR(VLOOKUP(PM15,MATCHSELEVES!$Y$14:$AF$600,8,FALSE),0)","v":0},{"$f":"IFERROR(VLOOKUP(PM15,MATCHSELEVES!$Y$14:$AG$600,9,FALSE),0)","v":0},"Dorap_30",{"$f":"IFERROR(VLOOKUP(PS15,MATCHSELEVES!$Y$14:$AE$600,3,FALSE),0)","v":0},{"$f":"IFERROR(VLOOKUP(PS15,MATCHSELEVES!$Y$14:$AE$600,4,FALSE),0)","v":0},{"$f":"IFERROR(VLOOKUP(PS15,MATCHSELEVES!$Y$14:$AE$600,5,FALSE),0)","v":0},{"$f":"IFERROR(VLOOKUP(PS15,MATCHSELEVES!$Y$14:$AF$600,8,FALSE),0)","v":0},{"$f":"IFERROR(VLOOKUP(PS15,MATCHSELEVES!$Y$14:$AG$600,9,FALSE),0)","v":0},"Dorap_31",{"$f":"IFERROR(VLOOKUP(PY15,MATCHSELEVES!$Y$14:$AE$600,3,FALSE),0)","v":0},{"$f":"IFERROR(VLOOKUP(PY15,MATCHSELEVES!$Y$14:$AE$600,4,FALSE),0)","v":0},{"$f":"IFERROR(VLOOKUP(PY15,MATCHSELEVES!$Y$14:$AE$600,5,FALSE),0)","v":0},{"$f":"IFERROR(VLOOKUP(PY15,MATCHSELEVES!$Y$14:$AF$600,8,FALSE),0)","v":0},{"$f":"IFERROR(VLOOKUP(PY15,MATCHSELEVES!$Y$14:$AG$600,9,FALSE),0)","v":0},"Dorap_32",{"$f":"IFERROR(VLOOKUP(QE15,MATCHSELEVES!$Y$14:$AE$600,3,FALSE),0)","v":0},{"$f":"IFERROR(VLOOKUP(QE15,MATCHSELEVES!$Y$14:$AE$600,4,FALSE),0)","v":0},{"$f":"IFERROR(VLOOKUP(QE15,MATCHSELEVES!$Y$14:$AE$600,5,FALSE),0)","v":0},{"$f":"IFERROR(VLOOKUP(QE15,MATCHSELEVES!$Y$14:$AF$600,8,FALSE),0)","v":0},{"$f":"IFERROR(VLOOKUP(QE15,MATCHSELEVES!$Y$14:$AG$600,9,FALSE),0)","v":0},"Dorap_33",{"$f":"IFERROR(VLOOKUP(QK15,MATCHSELEVES!$Y$14:$AE$600,3,FALSE),0)","v":0},{"$f":"IFERROR(VLOOKUP(QK15,MATCHSELEVES!$Y$14:$AE$600,4,FALSE),0)","v":0},{"$f":"IFERROR(VLOOKUP(QK15,MATCHSELEVES!$Y$14:$AE$600,5,FALSE),0)","v":0},{"$f":"IFERROR(VLOOKUP(QK15,MATCHSELEVES!$Y$14:$AF$600,8,FALSE),0)","v":0},{"$f":"IFERROR(VLOOKUP(QK15,MATCHSELEVES!$Y$14:$AG$600,9,FALSE),0)","v":0},"Dorap_34",{"$f":"IFERROR(VLOOKUP(QQ15,MATCHSELEVES!$Y$14:$AE$600,3,FALSE),0)","v":0},{"$f":"IFERROR(VLOOKUP(QQ15,MATCHSELEVES!$Y$14:$AE$600,4,FALSE),0)","v":0},{"$f":"IFERROR(VLOOKUP(QQ15,MATCHSELEVES!$Y$14:$AE$600,5,FALSE),0)","v":0},{"$f":"IFERROR(VLOOKUP(QQ15,MATCHSELEVES!$Y$14:$AF$600,8,FALSE),0)","v":0},{"$f":"IFERROR(VLOOKUP(QQ15,MATCHSELEVES!$Y$14:$AG$600,9,FALSE),0)","v":0},"Dorap_35",{"$f":"IFERROR(VLOOKUP(QW15,MATCHSELEVES!$Y$14:$AE$600,3,FALSE),0)","v":0},{"$f":"IFERROR(VLOOKUP(QW15,MATCHSELEVES!$Y$14:$AE$600,4,FALSE),0)","v":0},{"$f":"IFERROR(VLOOKUP(QW15,MATCHSELEVES!$Y$14:$AE$600,5,FALSE),0)","v":0},{"$f":"IFERROR(VLOOKUP(QW15,MATCHSELEVES!$Y$14:$AF$600,8,FALSE),0)","v":0},{"$f":"IFERROR(VLOOKUP(QW15,MATCHSELEVES!$Y$14:$AG$600,9,FALSE),0)","v":0},"Dorap_36",{"$f":"IFERROR(VLOOKUP(RC15,MATCHSELEVES!$Y$14:$AE$600,3,FALSE),0)","v":0},{"$f":"IFERROR(VLOOKUP(RC15,MATCHSELEVES!$Y$14:$AE$600,4,FALSE),0)","v":0},{"$f":"IFERROR(VLOOKUP(RC15,MATCHSELEVES!$Y$14:$AE$600,5,FALSE),0)","v":0},{"$f":"IFERROR(VLOOKUP(RC15,MATCHSELEVES!$Y$14:$AF$600,8,FALSE),0)","v":0},{"$f":"IFERROR(VLOOKUP(RC15,MATCHSELEVES!$Y$14:$AG$600,9,FALSE),0)","v":0},"Dorap_37",{"$f":"IFERROR(VLOOKUP(RI15,MATCHSELEVES!$Y$14:$AE$600,3,FALSE),0)","v":0},{"$f":"IFERROR(VLOOKUP(RI15,MATCHSELEVES!$Y$14:$AE$600,4,FALSE),0)","v":0},{"$f":"IFERROR(VLOOKUP(RI15,MATCHSELEVES!$Y$14:$AE$600,5,FALSE),0)","v":0},{"$f":"IFERROR(VLOOKUP(RI15,MATCHSELEVES!$Y$14:$AF$600,8,FALSE),0)","v":0},{"$f":"IFERROR(VLOOKUP(RI15,MATCHSELEVES!$Y$14:$AG$600,9,FALSE),0)","v":0},"Dorap_38",{"$f":"IFERROR(VLOOKUP(RO15,MATCHSELEVES!$Y$14:$AE$600,3,FALSE),0)","v":0},{"$f":"IFERROR(VLOOKUP(RO15,MATCHSELEVES!$Y$14:$AE$600,4,FALSE),0)","v":0},{"$f":"IFERROR(VLOOKUP(RO15,MATCHSELEVES!$Y$14:$AE$600,5,FALSE),0)","v":0},{"$f":"IFERROR(VLOOKUP(RO15,MATCHSELEVES!$Y$14:$AF$600,8,FALSE),0)","v":0},{"$f":"IFERROR(VLOOKUP(RO15,MATCHSELEVES!$Y$14:$AG$600,9,FALSE),0)","v":0},"Dorap_39",{"$f":"IFERROR(VLOOKUP(RU15,MATCHSELEVES!$Y$14:$AE$600,3,FALSE),0)","v":0},{"$f":"IFERROR(VLOOKUP(RU15,MATCHSELEVES!$Y$14:$AE$600,4,FALSE),0)","v":0},{"$f":"IFERROR(VLOOKUP(RU15,MATCHSELEVES!$Y$14:$AE$600,5,FALSE),0)","v":0},{"$f":"IFERROR(VLOOKUP(RU15,MATCHSELEVES!$Y$14:$AF$600,8,FALSE),0)","v":0},{"$f":"IFERROR(VLOOKUP(RU15,MATCHSELEVES!$Y$14:$AG$600,9,FALSE),0)","v":0},"Dorap_40",{"$f":"IFERROR(VLOOKUP(SA15,MATCHSELEVES!$Y$14:$AE$600,3,FALSE),0)","v":0},{"$f":"IFERROR(VLOOKUP(SA15,MATCHSELEVES!$Y$14:$AE$600,4,FALSE),0)","v":0},{"$f":"IFERROR(VLOOKUP(SA15,MATCHSELEVES!$Y$14:$AE$600,5,FALSE),0)","v":0},{"$f":"IFERROR(VLOOKUP(SA15,MATCHSELEVES!$Y$14:$AF$600,8,FALSE),0)","v":0},{"$f":"IFERROR(VLOOKUP(SA15,MATCHSELEVES!$Y$14:$AG$600,9,FALSE),0)","v":0}]
[13,null,"Elyna",13,null,null,{"$f":"COUNTIF(MATCHSELEVES!$Z$14:$Z$600,C16)+COUNTIF(MATCHSELEVES!$Z$14:$Z$600,$C16&\"p\")","v":0},1,{"$f":"COUNTIF(MATCHSELEVES!$F$14:$H$249,C16)","v":0},1,0,1,{"$f":"IFERROR(M59/Tableau10[[#This Row],[Nombre de matchs joués]],0)","v":0},{"$f":"IF(Tableau10[[#This Row],[Nombre de points encaissés]]=0,$C$45,SUMPRODUCT((M$4:M$43<M16)*(M$4:M$43<>0))+1)","v":40},0,1,{"$f":"(Tableau10[[#This Row],[CLASSEMENT1]]+Tableau10[[#This Row],[CLASSEMENT2]]+Tableau10[[#This Row],[CLASSEMENT3]]+Tableau10[[#This Row],[CLASSEMENT4]]+Tableau10[[#This Row],[CLASSEMENT5]]+Tableau10[[#This Row],[CLASSEMENT6]])/6","v":9.5},{"$f":"RANK(Tableau10[[#This Row],[MOYENNE CLASSEMENTS]],Tableau10[MOYENNE CLASSEMENTS],1)","v":13},null,{"$f":"Tableau10[[#This Row],[CLASSEMENT1]]","v":13},"Elyna_1",{"$f":"IFERROR(VLOOKUP(U16,MATCHSELEVES!$Y$14:$AE$600,3,FALSE),0)","v":0},{"$f":"IFERROR(VLOOKUP(U16,MATCHSELEVES!$Y$14:$AE$600,4,FALSE),0)","v":0},{"$f":"IFERROR(VLOOKUP(U16,MATCHSELEVES!$Y$14:$AE$600,5,FALSE),0)","v":0},{"$f":"IFERROR(VLOOKUP(U16,MATCHSELEVES!$Y$14:$AF$600,8,FALSE),0)","v":0},{"$f":"IFERROR(VLOOKUP(U16,MATCHSELEVES!$Y$14:$AG$600,9,FALSE),0)","v":0},"Elyna_2",{"$f":"IFERROR(VLOOKUP(AA16,MATCHSELEVES!$Y$14:$AE$600,3,FALSE),0)","v":0},{"$f":"IFERROR(VLOOKUP(AA16,MATCHSELEVES!$Y$14:$AE$600,4,FALSE),0)","v":0},{"$f":"IFERROR(VLOOKUP(AA16,MATCHSELEVES!$Y$14:$AE$600,5,FALSE),0)","v":0},{"$f":"IFERROR(VLOOKUP(AA16,MATCHSELEVES!$Y$14:$AF$600,8,FALSE),0)","v":0},{"$f":"IFERROR(VLOOKUP(AA16,MATCHSELEVES!$Y$14:$AG$600,9,FALSE),0)","v":0},"Elyna_3",{"$f":"IFERROR(VLOOKUP(AG16,MATCHSELEVES!$Y$14:$AE$600,3,FALSE),0)","v":0},{"$f":"IFERROR(VLOOKUP(AG16,MATCHSELEVES!$Y$14:$AE$600,4,FALSE),0)","v":0},{"$f":"IFERROR(VLOOKUP(AG16,MATCHSELEVES!$Y$14:$AE$600,5,FALSE),0)","v":0},{"$f":"IFERROR(VLOOKUP(AG16,MATCHSELEVES!$Y$14:$AF$600,8,FALSE),0)","v":0},{"$f":"IFERROR(VLOOKUP(AG16,MATCHSELEVES!$Y$14:$AG$600,9,FALSE),0)","v":0},"Elyna_4",{"$f":"IFERROR(VLOOKUP(AM16,MATCHSELEVES!$Y$14:$AE$600,3,FALSE),0)","v":0},{"$f":"IFERROR(VLOOKUP(AM16,MATCHSELEVES!$Y$14:$AE$600,4,FALSE),0)","v":0},{"$f":"IFERROR(VLOOKUP(AM16,MATCHSELEVES!$Y$14:$AE$600,5,FALSE),0)","v":0},{"$f":"IFERROR(VLOOKUP(AM16,MATCHSELEVES!$Y$14:$AF$600,8,FALSE),0)","v":0},{"$f":"IFERROR(VLOOKUP(AM16,MATCHSELEVES!$Y$14:$AG$600,9,FALSE),0)","v":0},"Elyna_5",{"$f":"IFERROR(VLOOKUP(AS16,MATCHSELEVES!$Y$14:$AE$600,3,FALSE),0)","v":0},{"$f":"IFERROR(VLOOKUP(AS16,MATCHSELEVES!$Y$14:$AE$600,4,FALSE),0)","v":0},{"$f":"IFERROR(VLOOKUP(AS16,MATCHSELEVES!$Y$14:$AE$600,5,FALSE),0)","v":0},{"$f":"IFERROR(VLOOKUP(AS16,MATCHSELEVES!$Y$14:$AF$600,8,FALSE),0)","v":0},{"$f":"IFERROR(VLOOKUP(AS16,MATCHSELEVES!$Y$14:$AG$600,9,FALSE),0)","v":0},"Elyna_6",{"$f":"IFERROR(VLOOKUP(AY16,MATCHSELEVES!$Y$14:$AE$600,3,FALSE),0)","v":0},{"$f":"IFERROR(VLOOKUP(AY16,MATCHSELEVES!$Y$14:$AE$600,4,FALSE),0)","v":0},{"$f":"IFERROR(VLOOKUP(AY16,MATCHSELEVES!$Y$14:$AE$600,5,FALSE),0)","v":0},{"$f":"IFERROR(VLOOKUP(AY16,MATCHSELEVES!$Y$14:$AF$600,8,FALSE),0)","v":0},{"$f":"IFERROR(VLOOKUP(AY16,MATCHSELEVES!$Y$14:$AG$600,9,FALSE),0)","v":0},"Elyna_7",{"$f":"IFERROR(VLOOKUP(BE16,MATCHSELEVES!$Y$14:$AE$600,3,FALSE),0)","v":0},{"$f":"IFERROR(VLOOKUP(BE16,MATCHSELEVES!$Y$14:$AE$600,4,FALSE),0)","v":0},{"$f":"IFERROR(VLOOKUP(BE16,MATCHSELEVES!$Y$14:$AE$600,5,FALSE),0)","v":0},{"$f":"IFERROR(VLOOKUP(BE16,MATCHSELEVES!$Y$14:$AF$600,8,FALSE),0)","v":0},{"$f":"IFERROR(VLOOKUP(BE16,MATCHSELEVES!$Y$14:$AG$600,9,FALSE),0)","v":0},"Elyna_8",{"$f":"IFERROR(VLOOKUP(BK16,MATCHSELEVES!$Y$14:$AE$600,3,FALSE),0)","v":0},{"$f":"IFERROR(VLOOKUP(BK16,MATCHSELEVES!$Y$14:$AE$600,4,FALSE),0)","v":0},{"$f":"IFERROR(VLOOKUP(BK16,MATCHSELEVES!$Y$14:$AE$600,5,FALSE),0)","v":0},{"$f":"IFERROR(VLOOKUP(BK16,MATCHSELEVES!$Y$14:$AF$600,8,FALSE),0)","v":0},{"$f":"IFERROR(VLOOKUP(BK16,MATCHSELEVES!$Y$14:$AG$600,9,FALSE),0)","v":0},"Elyna_9",{"$f":"IFERROR(VLOOKUP(BQ16,MATCHSELEVES!$Y$14:$AE$600,3,FALSE),0)","v":0},{"$f":"IFERROR(VLOOKUP(BQ16,MATCHSELEVES!$Y$14:$AE$600,4,FALSE),0)","v":0},{"$f":"IFERROR(VLOOKUP(BQ16,MATCHSELEVES!$Y$14:$AE$600,5,FALSE),0)","v":0},{"$f":"IFERROR(VLOOKUP(BQ16,MATCHSELEVES!$Y$14:$AF$600,8,FALSE),0)","v":0},{"$f":"IFERROR(VLOOKUP(BQ16,MATCHSELEVES!$Y$14:$AG$600,9,FALSE),0)","v":0},"Elyna_10",{"$f":"IFERROR(VLOOKUP(BW16,MATCHSELEVES!$Y$14:$AE$600,3,FALSE),0)","v":0},{"$f":"IFERROR(VLOOKUP(BW16,MATCHSELEVES!$Y$14:$AE$600,4,FALSE),0)","v":0},{"$f":"IFERROR(VLOOKUP(BW16,MATCHSELEVES!$Y$14:$AE$600,5,FALSE),0)","v":0},{"$f":"IFERROR(VLOOKUP(BW16,MATCHSELEVES!$Y$14:$AF$600,8,FALSE),0)","v":0},{"$f":"IFERROR(VLOOKUP(BW16,MATCHSELEVES!$Y$14:$AG$600,9,FALSE),0)","v":0},"Elyna_11",{"$f":"IFERROR(VLOOKUP(CC16,MATCHSELEVES!$Y$14:$AE$600,3,FALSE),0)","v":0},{"$f":"IFERROR(VLOOKUP(CC16,MATCHSELEVES!$Y$14:$AE$600,4,FALSE),0)","v":0},{"$f":"IFERROR(VLOOKUP(CC16,MATCHSELEVES!$Y$14:$AE$600,5,FALSE),0)","v":0},{"$f":"IFERROR(VLOOKUP(CC16,MATCHSELEVES!$Y$14:$AF$600,8,FALSE),0)","v":0},{"$f":"IFERROR(VLOOKUP(CC16,MATCHSELEVES!$Y$14:$AG$600,9,FALSE),0)","v":0},"Elyna_12",{"$f":"IFERROR(VLOOKUP(CI16,MATCHSELEVES!$Y$14:$AE$600,3,FALSE),0)","v":0},{"$f":"IFERROR(VLOOKUP(CI16,MATCHSELEVES!$Y$14:$AE$600,4,FALSE),0)","v":0},{"$f":"IFERROR(VLOOKUP(CI16,MATCHSELEVES!$Y$14:$AE$600,5,FALSE),0)","v":0},{"$f":"IFERROR(VLOOKUP(CI16,MATCHSELEVES!$Y$14:$AF$600,8,FALSE),0)","v":0},{"$f":"IFERROR(VLOOKUP(CI16,MATCHSELEVES!$Y$14:$AG$600,9,FALSE),0)","v":0},"Elyna_13",{"$f":"IFERROR(VLOOKUP(CO16,MATCHSELEVES!$Y$14:$AE$600,3,FALSE),0)","v":0},{"$f":"IFERROR(VLOOKUP(CO16,MATCHSELEVES!$Y$14:$AE$600,4,FALSE),0)","v":0},{"$f":"IFERROR(VLOOKUP(CO16,MATCHSELEVES!$Y$14:$AE$600,5,FALSE),0)","v":0},{"$f":"IFERROR(VLOOKUP(CO16,MATCHSELEVES!$Y$14:$AF$600,8,FALSE),0)","v":0},{"$f":"IFERROR(VLOOKUP(CO16,MATCHSELEVES!$Y$14:$AG$600,9,FALSE),0)","v":0},"Elyna_14",{"$f":"IFERROR(VLOOKUP(CU16,MATCHSELEVES!$Y$14:$AE$600,3,FALSE),0)","v":0},{"$f":"IFERROR(VLOOKUP(CU16,MATCHSELEVES!$Y$14:$AE$600,4,FALSE),0)","v":0},{"$f":"IFERROR(VLOOKUP(CU16,MATCHSELEVES!$Y$14:$AE$600,5,FALSE),0)","v":0},{"$f":"IFERROR(VLOOKUP(CU16,MATCHSELEVES!$Y$14:$AF$600,8,FALSE),0)","v":0},{"$f":"IFERROR(VLOOKUP(CU16,MATCHSELEVES!$Y$14:$AG$600,9,FALSE),0)","v":0},"Elyna_15",{"$f":"IFERROR(VLOOKUP(DA16,MATCHSELEVES!$Y$14:$AE$600,3,FALSE),0)","v":0},{"$f":"IFERROR(VLOOKUP(DA16,MATCHSELEVES!$Y$14:$AE$600,4,FALSE),0)","v":0},{"$f":"IFERROR(VLOOKUP(DA16,MATCHSELEVES!$Y$14:$AE$600,5,FALSE),0)","v":0},{"$f":"IFERROR(VLOOKUP(DA16,MATCHSELEVES!$Y$14:$AF$600,8,FALSE),0)","v":0},{"$f":"IFERROR(VLOOKUP(DA16,MATCHSELEVES!$Y$14:$AG$600,9,FALSE),0)","v":0},"Elyna_16",{"$f":"IFERROR(VLOOKUP(DG16,MATCHSELEVES!$Y$14:$AE$600,3,FALSE),0)","v":0},{"$f":"IFERROR(VLOOKUP(DG16,MATCHSELEVES!$Y$14:$AE$600,4,FALSE),0)","v":0},{"$f":"IFERROR(VLOOKUP(DG16,MATCHSELEVES!$Y$14:$AE$600,5,FALSE),0)","v":0},{"$f":"IFERROR(VLOOKUP(DG16,MATCHSELEVES!$Y$14:$AF$600,8,FALSE),0)","v":0},{"$f":"IFERROR(VLOOKUP(DG16,MATCHSELEVES!$Y$14:$AG$600,9,FALSE),0)","v":0},"Elyna_17",{"$f":"IFERROR(VLOOKUP(DM16,MATCHSELEVES!$Y$14:$AE$600,3,FALSE),0)","v":0},{"$f":"IFERROR(VLOOKUP(DM16,MATCHSELEVES!$Y$14:$AE$600,4,FALSE),0)","v":0},{"$f":"IFERROR(VLOOKUP(DM16,MATCHSELEVES!$Y$14:$AE$600,5,FALSE),0)","v":0},{"$f":"IFERROR(VLOOKUP(DM16,MATCHSELEVES!$Y$14:$AF$600,8,FALSE),0)","v":0},{"$f":"IFERROR(VLOOKUP(DM16,MATCHSELEVES!$Y$14:$AG$600,9,FALSE),0)","v":0},"Elyna_18",{"$f":"IFERROR(VLOOKUP(DS16,MATCHSELEVES!$Y$14:$AE$600,3,FALSE),0)","v":0},{"$f":"IFERROR(VLOOKUP(DS16,MATCHSELEVES!$Y$14:$AE$600,4,FALSE),0)","v":0},{"$f":"IFERROR(VLOOKUP(DS16,MATCHSELEVES!$Y$14:$AE$600,5,FALSE),0)","v":0},{"$f":"IFERROR(VLOOKUP(DS16,MATCHSELEVES!$Y$14:$AF$600,8,FALSE),0)","v":0},{"$f":"IFERROR(VLOOKUP(DS16,MATCHSELEVES!$Y$14:$AG$600,9,FALSE),0)","v":0},"Elyna_19",{"$f":"IFERROR(VLOOKUP(DY16,MATCHSELEVES!$Y$14:$AE$600,3,FALSE),0)","v":0},{"$f":"IFERROR(VLOOKUP(DY16,MATCHSELEVES!$Y$14:$AE$600,4,FALSE),0)","v":0},{"$f":"IFERROR(VLOOKUP(DY16,MATCHSELEVES!$Y$14:$AE$600,5,FALSE),0)","v":0},{"$f":"IFERROR(VLOOKUP(DY16,MATCHSELEVES!$Y$14:$AF$600,8,FALSE),0)","v":0},{"$f":"IFERROR(VLOOKUP(DY16,MATCHSELEVES!$Y$14:$AG$600,9,FALSE),0)","v":0},"Elyna_20",{"$f":"IFERROR(VLOOKUP(EE16,MATCHSELEVES!$Y$14:$AE$600,3,FALSE),0)","v":0},{"$f":"IFERROR(VLOOKUP(EE16,MATCHSELEVES!$Y$14:$AE$600,4,FALSE),0)","v":0},{"$f":"IFERROR(VLOOKUP(EE16,MATCHSELEVES!$Y$14:$AE$600,5,FALSE),0)","v":0},{"$f":"IFERROR(VLOOKUP(EE16,MATCHSELEVES!$Y$14:$AF$600,8,FALSE),0)","v":0},{"$f":"IFERROR(VLOOKUP(EE16,MATCHSELEVES!$Y$14:$AG$600,9,FALSE),0)","v":0},"Elyna_21",{"$f":"IFERROR(VLOOKUP(EK16,MATCHSELEVES!$Y$14:$AE$600,3,FALSE),0)","v":0},{"$f":"IFERROR(VLOOKUP(EK16,MATCHSELEVES!$Y$14:$AE$600,4,FALSE),0)","v":0},{"$f":"IFERROR(VLOOKUP(EK16,MATCHSELEVES!$Y$14:$AE$600,5,FALSE),0)","v":0},{"$f":"IFERROR(VLOOKUP(EK16,MATCHSELEVES!$Y$14:$AF$600,8,FALSE),0)","v":0},{"$f":"IFERROR(VLOOKUP(EK16,MATCHSELEVES!$Y$14:$AG$600,9,FALSE),0)","v":0},"Elyna_22",{"$f":"IFERROR(VLOOKUP(EQ16,MATCHSELEVES!$Y$14:$AE$600,3,FALSE),0)","v":0},{"$f":"IFERROR(VLOOKUP(EQ16,MATCHSELEVES!$Y$14:$AE$600,4,FALSE),0)","v":0},{"$f":"IFERROR(VLOOKUP(EQ16,MATCHSELEVES!$Y$14:$AE$600,5,FALSE),0)","v":0},{"$f":"IFERROR(VLOOKUP(EQ16,MATCHSELEVES!$Y$14:$AF$600,8,FALSE),0)","v":0},{"$f":"IFERROR(VLOOKUP(EQ16,MATCHSELEVES!$Y$14:$AG$600,9,FALSE),0)","v":0},"Elyna_23",{"$f":"IFERROR(VLOOKUP(EW16,MATCHSELEVES!$Y$14:$AE$600,3,FALSE),0)","v":0},{"$f":"IFERROR(VLOOKUP(EW16,MATCHSELEVES!$Y$14:$AE$600,4,FALSE),0)","v":0},{"$f":"IFERROR(VLOOKUP(EW16,MATCHSELEVES!$Y$14:$AE$600,5,FALSE),0)","v":0},{"$f":"IFERROR(VLOOKUP(EW16,MATCHSELEVES!$Y$14:$AF$600,8,FALSE),0)","v":0},{"$f":"IFERROR(VLOOKUP(EW16,MATCHSELEVES!$Y$14:$AG$600,9,FALSE),0)","v":0},"Elyna_24",{"$f":"IFERROR(VLOOKUP(FC16,MATCHSELEVES!$Y$14:$AE$600,3,FALSE),0)","v":0},{"$f":"IFERROR(VLOOKUP(FC16,MATCHSELEVES!$Y$14:$AE$600,4,FALSE),0)","v":0},{"$f":"IFERROR(VLOOKUP(FC16,MATCHSELEVES!$Y$14:$AE$600,5,FALSE),0)","v":0},{"$f":"IFERROR(VLOOKUP(FC16,MATCHSELEVES!$Y$14:$AF$600,8,FALSE),0)","v":0},{"$f":"IFERROR(VLOOKUP(FC16,MATCHSELEVES!$Y$14:$AG$600,9,FALSE),0)","v":0},"Elyna_25",{"$f":"IFERROR(VLOOKUP(FI16,MATCHSELEVES!$Y$14:$AE$600,3,FALSE),0)","v":0},{"$f":"IFERROR(VLOOKUP(FI16,MATCHSELEVES!$Y$14:$AE$600,4,FALSE),0)","v":0},{"$f":"IFERROR(VLOOKUP(FI16,MATCHSELEVES!$Y$14:$AE$600,5,FALSE),0)","v":0},{"$f":"IFERROR(VLOOKUP(FI16,MATCHSELEVES!$Y$14:$AF$600,8,FALSE),0)","v":0},{"$f":"IFERROR(VLOOKUP(FI16,MATCHSELEVES!$Y$14:$AG$600,9,FALSE),0)","v":0},"Elyna_26",{"$f":"IFERROR(VLOOKUP(FO16,MATCHSELEVES!$Y$14:$AE$600,3,FALSE),0)","v":0},{"$f":"IFERROR(VLOOKUP(FO16,MATCHSELEVES!$Y$14:$AE$600,4,FALSE),0)","v":0},{"$f":"IFERROR(VLOOKUP(FO16,MATCHSELEVES!$Y$14:$AE$600,5,FALSE),0)","v":0},{"$f":"IFERROR(VLOOKUP(FO16,MATCHSELEVES!$Y$14:$AF$600,8,FALSE),0)","v":0},{"$f":"IFERROR(VLOOKUP(FO16,MATCHSELEVES!$Y$14:$AG$600,9,FALSE),0)","v":0},"Elyna_27",{"$f":"IFERROR(VLOOKUP(FU16,MATCHSELEVES!$Y$14:$AE$600,3,FALSE),0)","v":0},{"$f":"IFERROR(VLOOKUP(FU16,MATCHSELEVES!$Y$14:$AE$600,4,FALSE),0)","v":0},{"$f":"IFERROR(VLOOKUP(FU16,MATCHSELEVES!$Y$14:$AE$600,5,FALSE),0)","v":0},{"$f":"IFERROR(VLOOKUP(FU16,MATCHSELEVES!$Y$14:$AF$600,8,FALSE),0)","v":0},{"$f":"IFERROR(VLOOKUP(FU16,MATCHSELEVES!$Y$14:$AG$600,9,FALSE),0)","v":0},"Elyna_28",{"$f":"IFERROR(VLOOKUP(GA16,MATCHSELEVES!$Y$14:$AE$600,3,FALSE),0)","v":0},{"$f":"IFERROR(VLOOKUP(GA16,MATCHSELEVES!$Y$14:$AE$600,4,FALSE),0)","v":0},{"$f":"IFERROR(VLOOKUP(GA16,MATCHSELEVES!$Y$14:$AE$600,5,FALSE),0)","v":0},{"$f":"IFERROR(VLOOKUP(GA16,MATCHSELEVES!$Y$14:$AF$600,8,FALSE),0)","v":0},{"$f":"IFERROR(VLOOKUP(GA16,MATCHSELEVES!$Y$14:$AG$600,9,FALSE),0)","v":0},"Elyna_29",{"$f":"IFERROR(VLOOKUP(GG16,MATCHSELEVES!$Y$14:$AE$600,3,FALSE),0)","v":0},{"$f":"IFERROR(VLOOKUP(GG16,MATCHSELEVES!$Y$14:$AE$600,4,FALSE),0)","v":0},{"$f":"IFERROR(VLOOKUP(GG16,MATCHSELEVES!$Y$14:$AE$600,5,FALSE),0)","v":0},{"$f":"IFERROR(VLOOKUP(GG16,MATCHSELEVES!$Y$14:$AF$600,8,FALSE),0)","v":0},{"$f":"IFERROR(VLOOKUP(GG16,MATCHSELEVES!$Y$14:$AG$600,9,FALSE),0)","v":0},"Elyna_30",{"$f":"IFERROR(VLOOKUP(GM16,MATCHSELEVES!$Y$14:$AE$600,3,FALSE),0)","v":0},{"$f":"IFERROR(VLOOKUP(GM16,MATCHSELEVES!$Y$14:$AE$600,4,FALSE),0)","v":0},{"$f":"IFERROR(VLOOKUP(GM16,MATCHSELEVES!$Y$14:$AE$600,5,FALSE),0)","v":0},{"$f":"IFERROR(VLOOKUP(GM16,MATCHSELEVES!$Y$14:$AF$600,8,FALSE),0)","v":0},{"$f":"IFERROR(VLOOKUP(GM16,MATCHSELEVES!$Y$14:$AG$600,9,FALSE),0)","v":0},"Elyna_31",{"$f":"IFERROR(VLOOKUP(GS16,MATCHSELEVES!$Y$14:$AE$600,3,FALSE),0)","v":0},{"$f":"IFERROR(VLOOKUP(GS16,MATCHSELEVES!$Y$14:$AE$600,4,FALSE),0)","v":0},{"$f":"IFERROR(VLOOKUP(GS16,MATCHSELEVES!$Y$14:$AE$600,5,FALSE),0)","v":0},{"$f":"IFERROR(VLOOKUP(GS16,MATCHSELEVES!$Y$14:$AF$600,8,FALSE),0)","v":0},{"$f":"IFERROR(VLOOKUP(GS16,MATCHSELEVES!$Y$14:$AG$600,9,FALSE),0)","v":0},"Elyna_32",{"$f":"IFERROR(VLOOKUP(GY16,MATCHSELEVES!$Y$14:$AE$600,3,FALSE),0)","v":0},{"$f":"IFERROR(VLOOKUP(GY16,MATCHSELEVES!$Y$14:$AE$600,4,FALSE),0)","v":0},{"$f":"IFERROR(VLOOKUP(GY16,MATCHSELEVES!$Y$14:$AE$600,5,FALSE),0)","v":0},{"$f":"IFERROR(VLOOKUP(GY16,MATCHSELEVES!$Y$14:$AF$600,8,FALSE),0)","v":0},{"$f":"IFERROR(VLOOKUP(GY16,MATCHSELEVES!$Y$14:$AG$600,9,FALSE),0)","v":0},"Elyna_33",{"$f":"IFERROR(VLOOKUP(HE16,MATCHSELEVES!$Y$14:$AE$600,3,FALSE),0)","v":0},{"$f":"IFERROR(VLOOKUP(HE16,MATCHSELEVES!$Y$14:$AE$600,4,FALSE),0)","v":0},{"$f":"IFERROR(VLOOKUP(HE16,MATCHSELEVES!$Y$14:$AE$600,5,FALSE),0)","v":0},{"$f":"IFERROR(VLOOKUP(HE16,MATCHSELEVES!$Y$14:$AF$600,8,FALSE),0)","v":0},{"$f":"IFERROR(VLOOKUP(HE16,MATCHSELEVES!$Y$14:$AG$600,9,FALSE),0)","v":0},"Elyna_34",{"$f":"IFERROR(VLOOKUP(HK16,MATCHSELEVES!$Y$14:$AE$600,3,FALSE),0)","v":0},{"$f":"IFERROR(VLOOKUP(HK16,MATCHSELEVES!$Y$14:$AE$600,4,FALSE),0)","v":0},{"$f":"IFERROR(VLOOKUP(HK16,MATCHSELEVES!$Y$14:$AE$600,5,FALSE),0)","v":0},{"$f":"IFERROR(VLOOKUP(HK16,MATCHSELEVES!$Y$14:$AF$600,8,FALSE),0)","v":0},{"$f":"IFERROR(VLOOKUP(HK16,MATCHSELEVES!$Y$14:$AG$600,9,FALSE),0)","v":0},"Elyna_35",{"$f":"IFERROR(VLOOKUP(HQ16,MATCHSELEVES!$Y$14:$AE$600,3,FALSE),0)","v":0},{"$f":"IFERROR(VLOOKUP(HQ16,MATCHSELEVES!$Y$14:$AE$600,4,FALSE),0)","v":0},{"$f":"IFERROR(VLOOKUP(HQ16,MATCHSELEVES!$Y$14:$AE$600,5,FALSE),0)","v":0},{"$f":"IFERROR(VLOOKUP(HQ16,MATCHSELEVES!$Y$14:$AF$600,8,FALSE),0)","v":0},{"$f":"IFERROR(VLOOKUP(HQ16,MATCHSELEVES!$Y$14:$AG$600,9,FALSE),0)","v":0},"Elyna_36",{"$f":"IFERROR(VLOOKUP(HW16,MATCHSELEVES!$Y$14:$AE$600,3,FALSE),0)","v":0},{"$f":"IFERROR(VLOOKUP(HW16,MATCHSELEVES!$Y$14:$AE$600,4,FALSE),0)","v":0},{"$f":"IFERROR(VLOOKUP(HW16,MATCHSELEVES!$Y$14:$AE$600,5,FALSE),0)","v":0},{"$f":"IFERROR(VLOOKUP(HW16,MATCHSELEVES!$Y$14:$AF$600,8,FALSE),0)","v":0},{"$f":"IFERROR(VLOOKUP(HW16,MATCHSELEVES!$Y$14:$AG$600,9,FALSE),0)","v":0},"Elyna_37",{"$f":"IFERROR(VLOOKUP(IC16,MATCHSELEVES!$Y$14:$AE$600,3,FALSE),0)","v":0},{"$f":"IFERROR(VLOOKUP(IC16,MATCHSELEVES!$Y$14:$AE$600,4,FALSE),0)","v":0},{"$f":"IFERROR(VLOOKUP(IC16,MATCHSELEVES!$Y$14:$AE$600,5,FALSE),0)","v":0},{"$f":"IFERROR(VLOOKUP(IC16,MATCHSELEVES!$Y$14:$AF$600,8,FALSE),0)","v":0},{"$f":"IFERROR(VLOOKUP(IC16,MATCHSELEVES!$Y$14:$AG$600,9,FALSE),0)","v":0},"Elyna_38",{"$f":"IFERROR(VLOOKUP(II16,MATCHSELEVES!$Y$14:$AE$600,3,FALSE),0)","v":0},{"$f":"IFERROR(VLOOKUP(II16,MATCHSELEVES!$Y$14:$AE$600,4,FALSE),0)","v":0},{"$f":"IFERROR(VLOOKUP(II16,MATCHSELEVES!$Y$14:$AE$600,5,FALSE),0)","v":0},{"$f":"IFERROR(VLOOKUP(II16,MATCHSELEVES!$Y$14:$AF$600,8,FALSE),0)","v":0},{"$f":"IFERROR(VLOOKUP(II16,MATCHSELEVES!$Y$14:$AG$600,9,FALSE),0)","v":0},"Elyna_39",{"$f":"IFERROR(VLOOKUP(IO16,MATCHSELEVES!$Y$14:$AE$600,3,FALSE),0)","v":0},{"$f":"IFERROR(VLOOKUP(IO16,MATCHSELEVES!$Y$14:$AE$600,4,FALSE),0)","v":0},{"$f":"IFERROR(VLOOKUP(IO16,MATCHSELEVES!$Y$14:$AE$600,5,FALSE),0)","v":0},{"$f":"IFERROR(VLOOKUP(IO16,MATCHSELEVES!$Y$14:$AF$600,8,FALSE),0)","v":0},{"$f":"IFERROR(VLOOKUP(IO16,MATCHSELEVES!$Y$14:$AG$600,9,FALSE),0)","v":0},"Elyna_40",{"$f":"IFERROR(VLOOKUP(IU16,MATCHSELEVES!$Y$14:$AE$600,3,FALSE),0)","v":0},{"$f":"IFERROR(VLOOKUP(IU16,MATCHSELEVES!$Y$14:$AE$600,4,FALSE),0)","v":0},{"$f":"IFERROR(VLOOKUP(IU16,MATCHSELEVES!$Y$14:$AE$600,5,FALSE),0)","v":0},{"$f":"IFERROR(VLOOKUP(IU16,MATCHSELEVES!$Y$14:$AF$600,8,FALSE),0)","v":0},{"$f":"IFERROR(VLOOKUP(IU16,MATCHSELEVES!$Y$14:$AG$600,9,FALSE),0)","v":0},"Elynap_1",{"$f":"IFERROR(VLOOKUP(JA16,MATCHSELEVES!$Y$14:$AE$600,3,FALSE),0)","v":0},{"$f":"IFERROR(VLOOKUP(JA16,MATCHSELEVES!$Y$14:$AE$600,4,FALSE),0)","v":0},{"$f":"IFERROR(VLOOKUP(JA16,MATCHSELEVES!$Y$14:$AE$600,5,FALSE),0)","v":0},{"$f":"IFERROR(VLOOKUP(JA16,MATCHSELEVES!$Y$14:$AF$600,8,FALSE),0)","v":0},{"$f":"IFERROR(VLOOKUP(JA16,MATCHSELEVES!$Y$14:$AG$600,9,FALSE),0)","v":0},"Elynap_2",{"$f":"IFERROR(VLOOKUP(JG16,MATCHSELEVES!$Y$14:$AE$600,3,FALSE),0)","v":0},{"$f":"IFERROR(VLOOKUP(JG16,MATCHSELEVES!$Y$14:$AE$600,4,FALSE),0)","v":0},{"$f":"IFERROR(VLOOKUP(JG16,MATCHSELEVES!$Y$14:$AE$600,5,FALSE),0)","v":0},{"$f":"IFERROR(VLOOKUP(JG16,MATCHSELEVES!$Y$14:$AF$600,8,FALSE),0)","v":0},{"$f":"IFERROR(VLOOKUP(JG16,MATCHSELEVES!$Y$14:$AG$600,9,FALSE),0)","v":0},"Elynap_3",{"$f":"IFERROR(VLOOKUP(JM16,MATCHSELEVES!$Y$14:$AE$600,3,FALSE),0)","v":0},{"$f":"IFERROR(VLOOKUP(JM16,MATCHSELEVES!$Y$14:$AE$600,4,FALSE),0)","v":0},{"$f":"IFERROR(VLOOKUP(JM16,MATCHSELEVES!$Y$14:$AE$600,5,FALSE),0)","v":0},{"$f":"IFERROR(VLOOKUP(JM16,MATCHSELEVES!$Y$14:$AF$600,8,FALSE),0)","v":0},{"$f":"IFERROR(VLOOKUP(JM16,MATCHSELEVES!$Y$14:$AG$600,9,FALSE),0)","v":0},"Elynap_4",{"$f":"IFERROR(VLOOKUP(JS16,MATCHSELEVES!$Y$14:$AE$600,3,FALSE),0)","v":0},{"$f":"IFERROR(VLOOKUP(JS16,MATCHSELEVES!$Y$14:$AE$600,4,FALSE),0)","v":0},{"$f":"IFERROR(VLOOKUP(JS16,MATCHSELEVES!$Y$14:$AE$600,5,FALSE),0)","v":0},{"$f":"IFERROR(VLOOKUP(JS16,MATCHSELEVES!$Y$14:$AF$600,8,FALSE),0)","v":0},{"$f":"IFERROR(VLOOKUP(JS16,MATCHSELEVES!$Y$14:$AG$600,9,FALSE),0)","v":0},"Elynap_5",{"$f":"IFERROR(VLOOKUP(JY16,MATCHSELEVES!$Y$14:$AE$600,3,FALSE),0)","v":0},{"$f":"IFERROR(VLOOKUP(JY16,MATCHSELEVES!$Y$14:$AE$600,4,FALSE),0)","v":0},{"$f":"IFERROR(VLOOKUP(JY16,MATCHSELEVES!$Y$14:$AE$600,5,FALSE),0)","v":0},{"$f":"IFERROR(VLOOKUP(JY16,MATCHSELEVES!$Y$14:$AF$600,8,FALSE),0)","v":0},{"$f":"IFERROR(VLOOKUP(JY16,MATCHSELEVES!$Y$14:$AG$600,9,FALSE),0)","v":0},"Elynap_6",{"$f":"IFERROR(VLOOKUP(KE16,MATCHSELEVES!$Y$14:$AE$600,3,FALSE),0)","v":0},{"$f":"IFERROR(VLOOKUP(KE16,MATCHSELEVES!$Y$14:$AE$600,4,FALSE),0)","v":0},{"$f":"IFERROR(VLOOKUP(KE16,MATCHSELEVES!$Y$14:$AE$600,5,FALSE),0)","v":0},{"$f":"IFERROR(VLOOKUP(KE16,MATCHSELEVES!$Y$14:$AF$600,8,FALSE),0)","v":0},{"$f":"IFERROR(VLOOKUP(KE16,MATCHSELEVES!$Y$14:$AG$600,9,FALSE),0)","v":0},"Elynap_7",{"$f":"IFERROR(VLOOKUP(KK16,MATCHSELEVES!$Y$14:$AE$600,3,FALSE),0)","v":0},{"$f":"IFERROR(VLOOKUP(KK16,MATCHSELEVES!$Y$14:$AE$600,4,FALSE),0)","v":0},{"$f":"IFERROR(VLOOKUP(KK16,MATCHSELEVES!$Y$14:$AE$600,5,FALSE),0)","v":0},{"$f":"IFERROR(VLOOKUP(KK16,MATCHSELEVES!$Y$14:$AF$600,8,FALSE),0)","v":0},{"$f":"IFERROR(VLOOKUP(KK16,MATCHSELEVES!$Y$14:$AG$600,9,FALSE),0)","v":0},"Elynap_8",{"$f":"IFERROR(VLOOKUP(KQ16,MATCHSELEVES!$Y$14:$AE$600,3,FALSE),0)","v":0},{"$f":"IFERROR(VLOOKUP(KQ16,MATCHSELEVES!$Y$14:$AE$600,4,FALSE),0)","v":0},{"$f":"IFERROR(VLOOKUP(KQ16,MATCHSELEVES!$Y$14:$AE$600,5,FALSE),0)","v":0},{"$f":"IFERROR(VLOOKUP(KQ16,MATCHSELEVES!$Y$14:$AF$600,8,FALSE),0)","v":0},{"$f":"IFERROR(VLOOKUP(KQ16,MATCHSELEVES!$Y$14:$AG$600,9,FALSE),0)","v":0},"Elynap_9",{"$f":"IFERROR(VLOOKUP(KW16,MATCHSELEVES!$Y$14:$AE$600,3,FALSE),0)","v":0},{"$f":"IFERROR(VLOOKUP(KW16,MATCHSELEVES!$Y$14:$AE$600,4,FALSE),0)","v":0},{"$f":"IFERROR(VLOOKUP(KW16,MATCHSELEVES!$Y$14:$AE$600,5,FALSE),0)","v":0},{"$f":"IFERROR(VLOOKUP(KW16,MATCHSELEVES!$Y$14:$AF$600,8,FALSE),0)","v":0},{"$f":"IFERROR(VLOOKUP(KW16,MATCHSELEVES!$Y$14:$AG$600,9,FALSE),0)","v":0},"Elynap_10",{"$f":"IFERROR(VLOOKUP(LC16,MATCHSELEVES!$Y$14:$AE$600,3,FALSE),0)","v":0},{"$f":"IFERROR(VLOOKUP(LC16,MATCHSELEVES!$Y$14:$AE$600,4,FALSE),0)","v":0},{"$f":"IFERROR(VLOOKUP(LC16,MATCHSELEVES!$Y$14:$AE$600,5,FALSE),0)","v":0},{"$f":"IFERROR(VLOOKUP(LC16,MATCHSELEVES!$Y$14:$AF$600,8,FALSE),0)","v":0},{"$f":"IFERROR(VLOOKUP(LC16,MATCHSELEVES!$Y$14:$AG$600,9,FALSE),0)","v":0},"Elynap_11",{"$f":"IFERROR(VLOOKUP(LI16,MATCHSELEVES!$Y$14:$AE$600,3,FALSE),0)","v":0},{"$f":"IFERROR(VLOOKUP(LI16,MATCHSELEVES!$Y$14:$AE$600,4,FALSE),0)","v":0},{"$f":"IFERROR(VLOOKUP(LI16,MATCHSELEVES!$Y$14:$AE$600,5,FALSE),0)","v":0},{"$f":"IFERROR(VLOOKUP(LI16,MATCHSELEVES!$Y$14:$AF$600,8,FALSE),0)","v":0},{"$f":"IFERROR(VLOOKUP(LI16,MATCHSELEVES!$Y$14:$AG$600,9,FALSE),0)","v":0},"Elynap_12",{"$f":"IFERROR(VLOOKUP(LO16,MATCHSELEVES!$Y$14:$AE$600,3,FALSE),0)","v":0},{"$f":"IFERROR(VLOOKUP(LO16,MATCHSELEVES!$Y$14:$AE$600,4,FALSE),0)","v":0},{"$f":"IFERROR(VLOOKUP(LO16,MATCHSELEVES!$Y$14:$AE$600,5,FALSE),0)","v":0},{"$f":"IFERROR(VLOOKUP(LO16,MATCHSELEVES!$Y$14:$AF$600,8,FALSE),0)","v":0},{"$f":"IFERROR(VLOOKUP(LO16,MATCHSELEVES!$Y$14:$AG$600,9,FALSE),0)","v":0},"Elynap_13",{"$f":"IFERROR(VLOOKUP(LU16,MATCHSELEVES!$Y$14:$AE$600,3,FALSE),0)","v":0},{"$f":"IFERROR(VLOOKUP(LU16,MATCHSELEVES!$Y$14:$AE$600,4,FALSE),0)","v":0},{"$f":"IFERROR(VLOOKUP(LU16,MATCHSELEVES!$Y$14:$AE$600,5,FALSE),0)","v":0},{"$f":"IFERROR(VLOOKUP(LU16,MATCHSELEVES!$Y$14:$AF$600,8,FALSE),0)","v":0},{"$f":"IFERROR(VLOOKUP(LU16,MATCHSELEVES!$Y$14:$AG$600,9,FALSE),0)","v":0},"Elynap_14",{"$f":"IFERROR(VLOOKUP(MA16,MATCHSELEVES!$Y$14:$AE$600,3,FALSE),0)","v":0},{"$f":"IFERROR(VLOOKUP(MA16,MATCHSELEVES!$Y$14:$AE$600,4,FALSE),0)","v":0},{"$f":"IFERROR(VLOOKUP(MA16,MATCHSELEVES!$Y$14:$AE$600,5,FALSE),0)","v":0},{"$f":"IFERROR(VLOOKUP(MA16,MATCHSELEVES!$Y$14:$AF$600,8,FALSE),0)","v":0},{"$f":"IFERROR(VLOOKUP(MA16,MATCHSELEVES!$Y$14:$AG$600,9,FALSE),0)","v":0},"Elynap_15",{"$f":"IFERROR(VLOOKUP(MG16,MATCHSELEVES!$Y$14:$AE$600,3,FALSE),0)","v":0},{"$f":"IFERROR(VLOOKUP(MG16,MATCHSELEVES!$Y$14:$AE$600,4,FALSE),0)","v":0},{"$f":"IFERROR(VLOOKUP(MG16,MATCHSELEVES!$Y$14:$AE$600,5,FALSE),0)","v":0},{"$f":"IFERROR(VLOOKUP(MG16,MATCHSELEVES!$Y$14:$AF$600,8,FALSE),0)","v":0},{"$f":"IFERROR(VLOOKUP(MG16,MATCHSELEVES!$Y$14:$AG$600,9,FALSE),0)","v":0},"Elynap_16",{"$f":"IFERROR(VLOOKUP(MM16,MATCHSELEVES!$Y$14:$AE$600,3,FALSE),0)","v":0},{"$f":"IFERROR(VLOOKUP(MM16,MATCHSELEVES!$Y$14:$AE$600,4,FALSE),0)","v":0},{"$f":"IFERROR(VLOOKUP(MM16,MATCHSELEVES!$Y$14:$AE$600,5,FALSE),0)","v":0},{"$f":"IFERROR(VLOOKUP(MM16,MATCHSELEVES!$Y$14:$AF$600,8,FALSE),0)","v":0},{"$f":"IFERROR(VLOOKUP(MM16,MATCHSELEVES!$Y$14:$AG$600,9,FALSE),0)","v":0},"Elynap_17",{"$f":"IFERROR(VLOOKUP(MS16,MATCHSELEVES!$Y$14:$AE$600,3,FALSE),0)","v":0},{"$f":"IFERROR(VLOOKUP(MS16,MATCHSELEVES!$Y$14:$AE$600,4,FALSE),0)","v":0},{"$f":"IFERROR(VLOOKUP(MS16,MATCHSELEVES!$Y$14:$AE$600,5,FALSE),0)","v":0},{"$f":"IFERROR(VLOOKUP(MS16,MATCHSELEVES!$Y$14:$AF$600,8,FALSE),0)","v":0},{"$f":"IFERROR(VLOOKUP(MS16,MATCHSELEVES!$Y$14:$AG$600,9,FALSE),0)","v":0},"Elynap_18",{"$f":"IFERROR(VLOOKUP(MY16,MATCHSELEVES!$Y$14:$AE$600,3,FALSE),0)","v":0},{"$f":"IFERROR(VLOOKUP(MY16,MATCHSELEVES!$Y$14:$AE$600,4,FALSE),0)","v":0},{"$f":"IFERROR(VLOOKUP(MY16,MATCHSELEVES!$Y$14:$AE$600,5,FALSE),0)","v":0},{"$f":"IFERROR(VLOOKUP(MY16,MATCHSELEVES!$Y$14:$AF$600,8,FALSE),0)","v":0},{"$f":"IFERROR(VLOOKUP(MY16,MATCHSELEVES!$Y$14:$AG$600,9,FALSE),0)","v":0},"Elynap_19",{"$f":"IFERROR(VLOOKUP(NE16,MATCHSELEVES!$Y$14:$AE$600,3,FALSE),0)","v":0},{"$f":"IFERROR(VLOOKUP(NE16,MATCHSELEVES!$Y$14:$AE$600,4,FALSE),0)","v":0},{"$f":"IFERROR(VLOOKUP(NE16,MATCHSELEVES!$Y$14:$AE$600,5,FALSE),0)","v":0},{"$f":"IFERROR(VLOOKUP(NE16,MATCHSELEVES!$Y$14:$AF$600,8,FALSE),0)","v":0},{"$f":"IFERROR(VLOOKUP(NE16,MATCHSELEVES!$Y$14:$AG$600,9,FALSE),0)","v":0},"Elynap_20",{"$f":"IFERROR(VLOOKUP(NK16,MATCHSELEVES!$Y$14:$AE$600,3,FALSE),0)","v":0},{"$f":"IFERROR(VLOOKUP(NK16,MATCHSELEVES!$Y$14:$AE$600,4,FALSE),0)","v":0},{"$f":"IFERROR(VLOOKUP(NK16,MATCHSELEVES!$Y$14:$AE$600,5,FALSE),0)","v":0},{"$f":"IFERROR(VLOOKUP(NK16,MATCHSELEVES!$Y$14:$AF$600,8,FALSE),0)","v":0},{"$f":"IFERROR(VLOOKUP(NK16,MATCHSELEVES!$Y$14:$AG$600,9,FALSE),0)","v":0},"Elynap_21",{"$f":"IFERROR(VLOOKUP(NQ16,MATCHSELEVES!$Y$14:$AE$600,3,FALSE),0)","v":0},{"$f":"IFERROR(VLOOKUP(NQ16,MATCHSELEVES!$Y$14:$AE$600,4,FALSE),0)","v":0},{"$f":"IFERROR(VLOOKUP(NQ16,MATCHSELEVES!$Y$14:$AE$600,5,FALSE),0)","v":0},{"$f":"IFERROR(VLOOKUP(NQ16,MATCHSELEVES!$Y$14:$AF$600,8,FALSE),0)","v":0},{"$f":"IFERROR(VLOOKUP(NQ16,MATCHSELEVES!$Y$14:$AG$600,9,FALSE),0)","v":0},"Elynap_22",{"$f":"IFERROR(VLOOKUP(NW16,MATCHSELEVES!$Y$14:$AE$600,3,FALSE),0)","v":0},{"$f":"IFERROR(VLOOKUP(NW16,MATCHSELEVES!$Y$14:$AE$600,4,FALSE),0)","v":0},{"$f":"IFERROR(VLOOKUP(NW16,MATCHSELEVES!$Y$14:$AE$600,5,FALSE),0)","v":0},{"$f":"IFERROR(VLOOKUP(NW16,MATCHSELEVES!$Y$14:$AF$600,8,FALSE),0)","v":0},{"$f":"IFERROR(VLOOKUP(NW16,MATCHSELEVES!$Y$14:$AG$600,9,FALSE),0)","v":0},"Elynap_23",{"$f":"IFERROR(VLOOKUP(OC16,MATCHSELEVES!$Y$14:$AE$600,3,FALSE),0)","v":0},{"$f":"IFERROR(VLOOKUP(OC16,MATCHSELEVES!$Y$14:$AE$600,4,FALSE),0)","v":0},{"$f":"IFERROR(VLOOKUP(OC16,MATCHSELEVES!$Y$14:$AE$600,5,FALSE),0)","v":0},{"$f":"IFERROR(VLOOKUP(OC16,MATCHSELEVES!$Y$14:$AF$600,8,FALSE),0)","v":0},{"$f":"IFERROR(VLOOKUP(OC16,MATCHSELEVES!$Y$14:$AG$600,9,FALSE),0)","v":0},"Elynap_24",{"$f":"IFERROR(VLOOKUP(OI16,MATCHSELEVES!$Y$14:$AE$600,3,FALSE),0)","v":0},{"$f":"IFERROR(VLOOKUP(OI16,MATCHSELEVES!$Y$14:$AE$600,4,FALSE),0)","v":0},{"$f":"IFERROR(VLOOKUP(OI16,MATCHSELEVES!$Y$14:$AE$600,5,FALSE),0)","v":0},{"$f":"IFERROR(VLOOKUP(OI16,MATCHSELEVES!$Y$14:$AF$600,8,FALSE),0)","v":0},{"$f":"IFERROR(VLOOKUP(OI16,MATCHSELEVES!$Y$14:$AG$600,9,FALSE),0)","v":0},"Elynap_25",{"$f":"IFERROR(VLOOKUP(OO16,MATCHSELEVES!$Y$14:$AE$600,3,FALSE),0)","v":0},{"$f":"IFERROR(VLOOKUP(OO16,MATCHSELEVES!$Y$14:$AE$600,4,FALSE),0)","v":0},{"$f":"IFERROR(VLOOKUP(OO16,MATCHSELEVES!$Y$14:$AE$600,5,FALSE),0)","v":0},{"$f":"IFERROR(VLOOKUP(OO16,MATCHSELEVES!$Y$14:$AF$600,8,FALSE),0)","v":0},{"$f":"IFERROR(VLOOKUP(OO16,MATCHSELEVES!$Y$14:$AG$600,9,FALSE),0)","v":0},"Elynap_26",{"$f":"IFERROR(VLOOKUP(OU16,MATCHSELEVES!$Y$14:$AE$600,3,FALSE),0)","v":0},{"$f":"IFERROR(VLOOKUP(OU16,MATCHSELEVES!$Y$14:$AE$600,4,FALSE),0)","v":0},{"$f":"IFERROR(VLOOKUP(OU16,MATCHSELEVES!$Y$14:$AE$600,5,FALSE),0)","v":0},{"$f":"IFERROR(VLOOKUP(OU16,MATCHSELEVES!$Y$14:$AF$600,8,FALSE),0)","v":0},{"$f":"IFERROR(VLOOKUP(OU16,MATCHSELEVES!$Y$14:$AG$600,9,FALSE),0)","v":0},"Elynap_27",{"$f":"IFERROR(VLOOKUP(PA16,MATCHSELEVES!$Y$14:$AE$600,3,FALSE),0)","v":0},{"$f":"IFERROR(VLOOKUP(PA16,MATCHSELEVES!$Y$14:$AE$600,4,FALSE),0)","v":0},{"$f":"IFERROR(VLOOKUP(PA16,MATCHSELEVES!$Y$14:$AE$600,5,FALSE),0)","v":0},{"$f":"IFERROR(VLOOKUP(PA16,MATCHSELEVES!$Y$14:$AF$600,8,FALSE),0)","v":0},{"$f":"IFERROR(VLOOKUP(PA16,MATCHSELEVES!$Y$14:$AG$600,9,FALSE),0)","v":0},"Elynap_28",{"$f":"IFERROR(VLOOKUP(PG16,MATCHSELEVES!$Y$14:$AE$600,3,FALSE),0)","v":0},{"$f":"IFERROR(VLOOKUP(PG16,MATCHSELEVES!$Y$14:$AE$600,4,FALSE),0)","v":0},{"$f":"IFERROR(VLOOKUP(PG16,MATCHSELEVES!$Y$14:$AE$600,5,FALSE),0)","v":0},{"$f":"IFERROR(VLOOKUP(PG16,MATCHSELEVES!$Y$14:$AF$600,8,FALSE),0)","v":0},{"$f":"IFERROR(VLOOKUP(PG16,MATCHSELEVES!$Y$14:$AG$600,9,FALSE),0)","v":0},"Elynap_29",{"$f":"IFERROR(VLOOKUP(PM16,MATCHSELEVES!$Y$14:$AE$600,3,FALSE),0)","v":0},{"$f":"IFERROR(VLOOKUP(PM16,MATCHSELEVES!$Y$14:$AE$600,4,FALSE),0)","v":0},{"$f":"IFERROR(VLOOKUP(PM16,MATCHSELEVES!$Y$14:$AE$600,5,FALSE),0)","v":0},{"$f":"IFERROR(VLOOKUP(PM16,MATCHSELEVES!$Y$14:$AF$600,8,FALSE),0)","v":0},{"$f":"IFERROR(VLOOKUP(PM16,MATCHSELEVES!$Y$14:$AG$600,9,FALSE),0)","v":0},"Elynap_30",{"$f":"IFERROR(VLOOKUP(PS16,MATCHSELEVES!$Y$14:$AE$600,3,FALSE),0)","v":0},{"$f":"IFERROR(VLOOKUP(PS16,MATCHSELEVES!$Y$14:$AE$600,4,FALSE),0)","v":0},{"$f":"IFERROR(VLOOKUP(PS16,MATCHSELEVES!$Y$14:$AE$600,5,FALSE),0)","v":0},{"$f":"IFERROR(VLOOKUP(PS16,MATCHSELEVES!$Y$14:$AF$600,8,FALSE),0)","v":0},{"$f":"IFERROR(VLOOKUP(PS16,MATCHSELEVES!$Y$14:$AG$600,9,FALSE),0)","v":0},"Elynap_31",{"$f":"IFERROR(VLOOKUP(PY16,MATCHSELEVES!$Y$14:$AE$600,3,FALSE),0)","v":0},{"$f":"IFERROR(VLOOKUP(PY16,MATCHSELEVES!$Y$14:$AE$600,4,FALSE),0)","v":0},{"$f":"IFERROR(VLOOKUP(PY16,MATCHSELEVES!$Y$14:$AE$600,5,FALSE),0)","v":0},{"$f":"IFERROR(VLOOKUP(PY16,MATCHSELEVES!$Y$14:$AF$600,8,FALSE),0)","v":0},{"$f":"IFERROR(VLOOKUP(PY16,MATCHSELEVES!$Y$14:$AG$600,9,FALSE),0)","v":0},"Elynap_32",{"$f":"IFERROR(VLOOKUP(QE16,MATCHSELEVES!$Y$14:$AE$600,3,FALSE),0)","v":0},{"$f":"IFERROR(VLOOKUP(QE16,MATCHSELEVES!$Y$14:$AE$600,4,FALSE),0)","v":0},{"$f":"IFERROR(VLOOKUP(QE16,MATCHSELEVES!$Y$14:$AE$600,5,FALSE),0)","v":0},{"$f":"IFERROR(VLOOKUP(QE16,MATCHSELEVES!$Y$14:$AF$600,8,FALSE),0)","v":0},{"$f":"IFERROR(VLOOKUP(QE16,MATCHSELEVES!$Y$14:$AG$600,9,FALSE),0)","v":0},"Elynap_33",{"$f":"IFERROR(VLOOKUP(QK16,MATCHSELEVES!$Y$14:$AE$600,3,FALSE),0)","v":0},{"$f":"IFERROR(VLOOKUP(QK16,MATCHSELEVES!$Y$14:$AE$600,4,FALSE),0)","v":0},{"$f":"IFERROR(VLOOKUP(QK16,MATCHSELEVES!$Y$14:$AE$600,5,FALSE),0)","v":0},{"$f":"IFERROR(VLOOKUP(QK16,MATCHSELEVES!$Y$14:$AF$600,8,FALSE),0)","v":0},{"$f":"IFERROR(VLOOKUP(QK16,MATCHSELEVES!$Y$14:$AG$600,9,FALSE),0)","v":0},"Elynap_34",{"$f":"IFERROR(VLOOKUP(QQ16,MATCHSELEVES!$Y$14:$AE$600,3,FALSE),0)","v":0},{"$f":"IFERROR(VLOOKUP(QQ16,MATCHSELEVES!$Y$14:$AE$600,4,FALSE),0)","v":0},{"$f":"IFERROR(VLOOKUP(QQ16,MATCHSELEVES!$Y$14:$AE$600,5,FALSE),0)","v":0},{"$f":"IFERROR(VLOOKUP(QQ16,MATCHSELEVES!$Y$14:$AF$600,8,FALSE),0)","v":0},{"$f":"IFERROR(VLOOKUP(QQ16,MATCHSELEVES!$Y$14:$AG$600,9,FALSE),0)","v":0},"Elynap_35",{"$f":"IFERROR(VLOOKUP(QW16,MATCHSELEVES!$Y$14:$AE$600,3,FALSE),0)","v":0},{"$f":"IFERROR(VLOOKUP(QW16,MATCHSELEVES!$Y$14:$AE$600,4,FALSE),0)","v":0},{"$f":"IFERROR(VLOOKUP(QW16,MATCHSELEVES!$Y$14:$AE$600,5,FALSE),0)","v":0},{"$f":"IFERROR(VLOOKUP(QW16,MATCHSELEVES!$Y$14:$AF$600,8,FALSE),0)","v":0},{"$f":"IFERROR(VLOOKUP(QW16,MATCHSELEVES!$Y$14:$AG$600,9,FALSE),0)","v":0},"Elynap_36",{"$f":"IFERROR(VLOOKUP(RC16,MATCHSELEVES!$Y$14:$AE$600,3,FALSE),0)","v":0},{"$f":"IFERROR(VLOOKUP(RC16,MATCHSELEVES!$Y$14:$AE$600,4,FALSE),0)","v":0},{"$f":"IFERROR(VLOOKUP(RC16,MATCHSELEVES!$Y$14:$AE$600,5,FALSE),0)","v":0},{"$f":"IFERROR(VLOOKUP(RC16,MATCHSELEVES!$Y$14:$AF$600,8,FALSE),0)","v":0},{"$f":"IFERROR(VLOOKUP(RC16,MATCHSELEVES!$Y$14:$AG$600,9,FALSE),0)","v":0},"Elynap_37",{"$f":"IFERROR(VLOOKUP(RI16,MATCHSELEVES!$Y$14:$AE$600,3,FALSE),0)","v":0},{"$f":"IFERROR(VLOOKUP(RI16,MATCHSELEVES!$Y$14:$AE$600,4,FALSE),0)","v":0},{"$f":"IFERROR(VLOOKUP(RI16,MATCHSELEVES!$Y$14:$AE$600,5,FALSE),0)","v":0},{"$f":"IFERROR(VLOOKUP(RI16,MATCHSELEVES!$Y$14:$AF$600,8,FALSE),0)","v":0},{"$f":"IFERROR(VLOOKUP(RI16,MATCHSELEVES!$Y$14:$AG$600,9,FALSE),0)","v":0},"Elynap_38",{"$f":"IFERROR(VLOOKUP(RO16,MATCHSELEVES!$Y$14:$AE$600,3,FALSE),0)","v":0},{"$f":"IFERROR(VLOOKUP(RO16,MATCHSELEVES!$Y$14:$AE$600,4,FALSE),0)","v":0},{"$f":"IFERROR(VLOOKUP(RO16,MATCHSELEVES!$Y$14:$AE$600,5,FALSE),0)","v":0},{"$f":"IFERROR(VLOOKUP(RO16,MATCHSELEVES!$Y$14:$AF$600,8,FALSE),0)","v":0},{"$f":"IFERROR(VLOOKUP(RO16,MATCHSELEVES!$Y$14:$AG$600,9,FALSE),0)","v":0},"Elynap_39",{"$f":"IFERROR(VLOOKUP(RU16,MATCHSELEVES!$Y$14:$AE$600,3,FALSE),0)","v":0},{"$f":"IFERROR(VLOOKUP(RU16,MATCHSELEVES!$Y$14:$AE$600,4,FALSE),0)","v":0},{"$f":"IFERROR(VLOOKUP(RU16,MATCHSELEVES!$Y$14:$AE$600,5,FALSE),0)","v":0},{"$f":"IFERROR(VLOOKUP(RU16,MATCHSELEVES!$Y$14:$AF$600,8,FALSE),0)","v":0},{"$f":"IFERROR(VLOOKUP(RU16,MATCHSELEVES!$Y$14:$AG$600,9,FALSE),0)","v":0},"Elynap_40",{"$f":"IFERROR(VLOOKUP(SA16,MATCHSELEVES!$Y$14:$AE$600,3,FALSE),0)","v":0},{"$f":"IFERROR(VLOOKUP(SA16,MATCHSELEVES!$Y$14:$AE$600,4,FALSE),0)","v":0},{"$f":"IFERROR(VLOOKUP(SA16,MATCHSELEVES!$Y$14:$AE$600,5,FALSE),0)","v":0},{"$f":"IFERROR(VLOOKUP(SA16,MATCHSELEVES!$Y$14:$AF$600,8,FALSE),0)","v":0},{"$f":"IFERROR(VLOOKUP(SA16,MATCHSELEVES!$Y$14:$AG$600,9,FALSE),0)","v":0}]
[14,null,"Enzo",14,null,null,{"$f":"COUNTIF(MATCHSELEVES!$Z$14:$Z$600,C17)+COUNTIF(MATCHSELEVES!$Z$14:$Z$600,$C17&\"p\")","v":0},1,{"$f":"COUNTIF(MATCHSELEVES!$F$14:$H$249,C17)","v":0},1,0,1,{"$f":"IFERROR(M60/Tableau10[[#This Row],[Nombre de matchs joués]],0)","v":0},{"$f":"IF(Tableau10[[#This Row],[Nombre de points encaissés]]=0,$C$45,SUMPRODUCT((M$4:M$43<M17)*(M$4:M$43<>0))+1)","v":40},0,1,{"$f":"(Tableau10[[#This Row],[CLASSEMENT1]]+Tableau10[[#This Row],[CLASSEMENT2]]+Tableau10[[#This Row],[CLASSEMENT3]]+Tableau10[[#This Row],[CLASSEMENT4]]+Tableau10[[#This Row],[CLASSEMENT5]]+Tableau10[[#This Row],[CLASSEMENT6]])/6","v":9.6666666666666661},{"$f":"RANK(Tableau10[[#This Row],[MOYENNE CLASSEMENTS]],Tableau10[MOYENNE CLASSEMENTS],1)","v":14},null,{"$f":"Tableau10[[#This Row],[CLASSEMENT1]]","v":14},"Enzo_1",{"$f":"IFERROR(VLOOKUP(U17,MATCHSELEVES!$Y$14:$AE$600,3,FALSE),0)","v":0},{"$f":"IFERROR(VLOOKUP(U17,MATCHSELEVES!$Y$14:$AE$600,4,FALSE),0)","v":0},{"$f":"IFERROR(VLOOKUP(U17,MATCHSELEVES!$Y$14:$AE$600,5,FALSE),0)","v":0},{"$f":"IFERROR(VLOOKUP(U17,MATCHSELEVES!$Y$14:$AF$600,8,FALSE),0)","v":0},{"$f":"IFERROR(VLOOKUP(U17,MATCHSELEVES!$Y$14:$AG$600,9,FALSE),0)","v":0},"Enzo_2",{"$f":"IFERROR(VLOOKUP(AA17,MATCHSELEVES!$Y$14:$AE$600,3,FALSE),0)","v":0},{"$f":"IFERROR(VLOOKUP(AA17,MATCHSELEVES!$Y$14:$AE$600,4,FALSE),0)","v":0},{"$f":"IFERROR(VLOOKUP(AA17,MATCHSELEVES!$Y$14:$AE$600,5,FALSE),0)","v":0},{"$f":"IFERROR(VLOOKUP(AA17,MATCHSELEVES!$Y$14:$AF$600,8,FALSE),0)","v":0},{"$f":"IFERROR(VLOOKUP(AA17,MATCHSELEVES!$Y$14:$AG$600,9,FALSE),0)","v":0},"Enzo_3",{"$f":"IFERROR(VLOOKUP(AG17,MATCHSELEVES!$Y$14:$AE$600,3,FALSE),0)","v":0},{"$f":"IFERROR(VLOOKUP(AG17,MATCHSELEVES!$Y$14:$AE$600,4,FALSE),0)","v":0},{"$f":"IFERROR(VLOOKUP(AG17,MATCHSELEVES!$Y$14:$AE$600,5,FALSE),0)","v":0},{"$f":"IFERROR(VLOOKUP(AG17,MATCHSELEVES!$Y$14:$AF$600,8,FALSE),0)","v":0},{"$f":"IFERROR(VLOOKUP(AG17,MATCHSELEVES!$Y$14:$AG$600,9,FALSE),0)","v":0},"Enzo_4",{"$f":"IFERROR(VLOOKUP(AM17,MATCHSELEVES!$Y$14:$AE$600,3,FALSE),0)","v":0},{"$f":"IFERROR(VLOOKUP(AM17,MATCHSELEVES!$Y$14:$AE$600,4,FALSE),0)","v":0},{"$f":"IFERROR(VLOOKUP(AM17,MATCHSELEVES!$Y$14:$AE$600,5,FALSE),0)","v":0},{"$f":"IFERROR(VLOOKUP(AM17,MATCHSELEVES!$Y$14:$AF$600,8,FALSE),0)","v":0},{"$f":"IFERROR(VLOOKUP(AM17,MATCHSELEVES!$Y$14:$AG$600,9,FALSE),0)","v":0},"Enzo_5",{"$f":"IFERROR(VLOOKUP(AS17,MATCHSELEVES!$Y$14:$AE$600,3,FALSE),0)","v":0},{"$f":"IFERROR(VLOOKUP(AS17,MATCHSELEVES!$Y$14:$AE$600,4,FALSE),0)","v":0},{"$f":"IFERROR(VLOOKUP(AS17,MATCHSELEVES!$Y$14:$AE$600,5,FALSE),0)","v":0},{"$f":"IFERROR(VLOOKUP(AS17,MATCHSELEVES!$Y$14:$AF$600,8,FALSE),0)","v":0},{"$f":"IFERROR(VLOOKUP(AS17,MATCHSELEVES!$Y$14:$AG$600,9,FALSE),0)","v":0},"Enzo_6",{"$f":"IFERROR(VLOOKUP(AY17,MATCHSELEVES!$Y$14:$AE$600,3,FALSE),0)","v":0},{"$f":"IFERROR(VLOOKUP(AY17,MATCHSELEVES!$Y$14:$AE$600,4,FALSE),0)","v":0},{"$f":"IFERROR(VLOOKUP(AY17,MATCHSELEVES!$Y$14:$AE$600,5,FALSE),0)","v":0},{"$f":"IFERROR(VLOOKUP(AY17,MATCHSELEVES!$Y$14:$AF$600,8,FALSE),0)","v":0},{"$f":"IFERROR(VLOOKUP(AY17,MATCHSELEVES!$Y$14:$AG$600,9,FALSE),0)","v":0},"Enzo_7",{"$f":"IFERROR(VLOOKUP(BE17,MATCHSELEVES!$Y$14:$AE$600,3,FALSE),0)","v":0},{"$f":"IFERROR(VLOOKUP(BE17,MATCHSELEVES!$Y$14:$AE$600,4,FALSE),0)","v":0},{"$f":"IFERROR(VLOOKUP(BE17,MATCHSELEVES!$Y$14:$AE$600,5,FALSE),0)","v":0},{"$f":"IFERROR(VLOOKUP(BE17,MATCHSELEVES!$Y$14:$AF$600,8,FALSE),0)","v":0},{"$f":"IFERROR(VLOOKUP(BE17,MATCHSELEVES!$Y$14:$AG$600,9,FALSE),0)","v":0},"Enzo_8",{"$f":"IFERROR(VLOOKUP(BK17,MATCHSELEVES!$Y$14:$AE$600,3,FALSE),0)","v":0},{"$f":"IFERROR(VLOOKUP(BK17,MATCHSELEVES!$Y$14:$AE$600,4,FALSE),0)","v":0},{"$f":"IFERROR(VLOOKUP(BK17,MATCHSELEVES!$Y$14:$AE$600,5,FALSE),0)","v":0},{"$f":"IFERROR(VLOOKUP(BK17,MATCHSELEVES!$Y$14:$AF$600,8,FALSE),0)","v":0},{"$f":"IFERROR(VLOOKUP(BK17,MATCHSELEVES!$Y$14:$AG$600,9,FALSE),0)","v":0},"Enzo_9",{"$f":"IFERROR(VLOOKUP(BQ17,MATCHSELEVES!$Y$14:$AE$600,3,FALSE),0)","v":0},{"$f":"IFERROR(VLOOKUP(BQ17,MATCHSELEVES!$Y$14:$AE$600,4,FALSE),0)","v":0},{"$f":"IFERROR(VLOOKUP(BQ17,MATCHSELEVES!$Y$14:$AE$600,5,FALSE),0)","v":0},{"$f":"IFERROR(VLOOKUP(BQ17,MATCHSELEVES!$Y$14:$AF$600,8,FALSE),0)","v":0},{"$f":"IFERROR(VLOOKUP(BQ17,MATCHSELEVES!$Y$14:$AG$600,9,FALSE),0)","v":0},"Enzo_10",{"$f":"IFERROR(VLOOKUP(BW17,MATCHSELEVES!$Y$14:$AE$600,3,FALSE),0)","v":0},{"$f":"IFERROR(VLOOKUP(BW17,MATCHSELEVES!$Y$14:$AE$600,4,FALSE),0)","v":0},{"$f":"IFERROR(VLOOKUP(BW17,MATCHSELEVES!$Y$14:$AE$600,5,FALSE),0)","v":0},{"$f":"IFERROR(VLOOKUP(BW17,MATCHSELEVES!$Y$14:$AF$600,8,FALSE),0)","v":0},{"$f":"IFERROR(VLOOKUP(BW17,MATCHSELEVES!$Y$14:$AG$600,9,FALSE),0)","v":0},"Enzo_11",{"$f":"IFERROR(VLOOKUP(CC17,MATCHSELEVES!$Y$14:$AE$600,3,FALSE),0)","v":0},{"$f":"IFERROR(VLOOKUP(CC17,MATCHSELEVES!$Y$14:$AE$600,4,FALSE),0)","v":0},{"$f":"IFERROR(VLOOKUP(CC17,MATCHSELEVES!$Y$14:$AE$600,5,FALSE),0)","v":0},{"$f":"IFERROR(VLOOKUP(CC17,MATCHSELEVES!$Y$14:$AF$600,8,FALSE),0)","v":0},{"$f":"IFERROR(VLOOKUP(CC17,MATCHSELEVES!$Y$14:$AG$600,9,FALSE),0)","v":0},"Enzo_12",{"$f":"IFERROR(VLOOKUP(CI17,MATCHSELEVES!$Y$14:$AE$600,3,FALSE),0)","v":0},{"$f":"IFERROR(VLOOKUP(CI17,MATCHSELEVES!$Y$14:$AE$600,4,FALSE),0)","v":0},{"$f":"IFERROR(VLOOKUP(CI17,MATCHSELEVES!$Y$14:$AE$600,5,FALSE),0)","v":0},{"$f":"IFERROR(VLOOKUP(CI17,MATCHSELEVES!$Y$14:$AF$600,8,FALSE),0)","v":0},{"$f":"IFERROR(VLOOKUP(CI17,MATCHSELEVES!$Y$14:$AG$600,9,FALSE),0)","v":0},"Enzo_13",{"$f":"IFERROR(VLOOKUP(CO17,MATCHSELEVES!$Y$14:$AE$600,3,FALSE),0)","v":0},{"$f":"IFERROR(VLOOKUP(CO17,MATCHSELEVES!$Y$14:$AE$600,4,FALSE),0)","v":0},{"$f":"IFERROR(VLOOKUP(CO17,MATCHSELEVES!$Y$14:$AE$600,5,FALSE),0)","v":0},{"$f":"IFERROR(VLOOKUP(CO17,MATCHSELEVES!$Y$14:$AF$600,8,FALSE),0)","v":0},{"$f":"IFERROR(VLOOKUP(CO17,MATCHSELEVES!$Y$14:$AG$600,9,FALSE),0)","v":0},"Enzo_14",{"$f":"IFERROR(VLOOKUP(CU17,MATCHSELEVES!$Y$14:$AE$600,3,FALSE),0)","v":0},{"$f":"IFERROR(VLOOKUP(CU17,MATCHSELEVES!$Y$14:$AE$600,4,FALSE),0)","v":0},{"$f":"IFERROR(VLOOKUP(CU17,MATCHSELEVES!$Y$14:$AE$600,5,FALSE),0)","v":0},{"$f":"IFERROR(VLOOKUP(CU17,MATCHSELEVES!$Y$14:$AF$600,8,FALSE),0)","v":0},{"$f":"IFERROR(VLOOKUP(CU17,MATCHSELEVES!$Y$14:$AG$600,9,FALSE),0)","v":0},"Enzo_15",{"$f":"IFERROR(VLOOKUP(DA17,MATCHSELEVES!$Y$14:$AE$600,3,FALSE),0)","v":0},{"$f":"IFERROR(VLOOKUP(DA17,MATCHSELEVES!$Y$14:$AE$600,4,FALSE),0)","v":0},{"$f":"IFERROR(VLOOKUP(DA17,MATCHSELEVES!$Y$14:$AE$600,5,FALSE),0)","v":0},{"$f":"IFERROR(VLOOKUP(DA17,MATCHSELEVES!$Y$14:$AF$600,8,FALSE),0)","v":0},{"$f":"IFERROR(VLOOKUP(DA17,MATCHSELEVES!$Y$14:$AG$600,9,FALSE),0)","v":0},"Enzo_16",{"$f":"IFERROR(VLOOKUP(DG17,MATCHSELEVES!$Y$14:$AE$600,3,FALSE),0)","v":0},{"$f":"IFERROR(VLOOKUP(DG17,MATCHSELEVES!$Y$14:$AE$600,4,FALSE),0)","v":0},{"$f":"IFERROR(VLOOKUP(DG17,MATCHSELEVES!$Y$14:$AE$600,5,FALSE),0)","v":0},{"$f":"IFERROR(VLOOKUP(DG17,MATCHSELEVES!$Y$14:$AF$600,8,FALSE),0)","v":0},{"$f":"IFERROR(VLOOKUP(DG17,MATCHSELEVES!$Y$14:$AG$600,9,FALSE),0)","v":0},"Enzo_17",{"$f":"IFERROR(VLOOKUP(DM17,MATCHSELEVES!$Y$14:$AE$600,3,FALSE),0)","v":0},{"$f":"IFERROR(VLOOKUP(DM17,MATCHSELEVES!$Y$14:$AE$600,4,FALSE),0)","v":0},{"$f":"IFERROR(VLOOKUP(DM17,MATCHSELEVES!$Y$14:$AE$600,5,FALSE),0)","v":0},{"$f":"IFERROR(VLOOKUP(DM17,MATCHSELEVES!$Y$14:$AF$600,8,FALSE),0)","v":0},{"$f":"IFERROR(VLOOKUP(DM17,MATCHSELEVES!$Y$14:$AG$600,9,FALSE),0)","v":0},"Enzo_18",{"$f":"IFERROR(VLOOKUP(DS17,MATCHSELEVES!$Y$14:$AE$600,3,FALSE),0)","v":0},{"$f":"IFERROR(VLOOKUP(DS17,MATCHSELEVES!$Y$14:$AE$600,4,FALSE),0)","v":0},{"$f":"IFERROR(VLOOKUP(DS17,MATCHSELEVES!$Y$14:$AE$600,5,FALSE),0)","v":0},{"$f":"IFERROR(VLOOKUP(DS17,MATCHSELEVES!$Y$14:$AF$600,8,FALSE),0)","v":0},{"$f":"IFERROR(VLOOKUP(DS17,MATCHSELEVES!$Y$14:$AG$600,9,FALSE),0)","v":0},"Enzo_19",{"$f":"IFERROR(VLOOKUP(DY17,MATCHSELEVES!$Y$14:$AE$600,3,FALSE),0)","v":0},{"$f":"IFERROR(VLOOKUP(DY17,MATCHSELEVES!$Y$14:$AE$600,4,FALSE),0)","v":0},{"$f":"IFERROR(VLOOKUP(DY17,MATCHSELEVES!$Y$14:$AE$600,5,FALSE),0)","v":0},{"$f":"IFERROR(VLOOKUP(DY17,MATCHSELEVES!$Y$14:$AF$600,8,FALSE),0)","v":0},{"$f":"IFERROR(VLOOKUP(DY17,MATCHSELEVES!$Y$14:$AG$600,9,FALSE),0)","v":0},"Enzo_20",{"$f":"IFERROR(VLOOKUP(EE17,MATCHSELEVES!$Y$14:$AE$600,3,FALSE),0)","v":0},{"$f":"IFERROR(VLOOKUP(EE17,MATCHSELEVES!$Y$14:$AE$600,4,FALSE),0)","v":0},{"$f":"IFERROR(VLOOKUP(EE17,MATCHSELEVES!$Y$14:$AE$600,5,FALSE),0)","v":0},{"$f":"IFERROR(VLOOKUP(EE17,MATCHSELEVES!$Y$14:$AF$600,8,FALSE),0)","v":0},{"$f":"IFERROR(VLOOKUP(EE17,MATCHSELEVES!$Y$14:$AG$600,9,FALSE),0)","v":0},"Enzo_21",{"$f":"IFERROR(VLOOKUP(EK17,MATCHSELEVES!$Y$14:$AE$600,3,FALSE),0)","v":0},{"$f":"IFERROR(VLOOKUP(EK17,MATCHSELEVES!$Y$14:$AE$600,4,FALSE),0)","v":0},{"$f":"IFERROR(VLOOKUP(EK17,MATCHSELEVES!$Y$14:$AE$600,5,FALSE),0)","v":0},{"$f":"IFERROR(VLOOKUP(EK17,MATCHSELEVES!$Y$14:$AF$600,8,FALSE),0)","v":0},{"$f":"IFERROR(VLOOKUP(EK17,MATCHSELEVES!$Y$14:$AG$600,9,FALSE),0)","v":0},"Enzo_22",{"$f":"IFERROR(VLOOKUP(EQ17,MATCHSELEVES!$Y$14:$AE$600,3,FALSE),0)","v":0},{"$f":"IFERROR(VLOOKUP(EQ17,MATCHSELEVES!$Y$14:$AE$600,4,FALSE),0)","v":0},{"$f":"IFERROR(VLOOKUP(EQ17,MATCHSELEVES!$Y$14:$AE$600,5,FALSE),0)","v":0},{"$f":"IFERROR(VLOOKUP(EQ17,MATCHSELEVES!$Y$14:$AF$600,8,FALSE),0)","v":0},{"$f":"IFERROR(VLOOKUP(EQ17,MATCHSELEVES!$Y$14:$AG$600,9,FALSE),0)","v":0},"Enzo_23",{"$f":"IFERROR(VLOOKUP(EW17,MATCHSELEVES!$Y$14:$AE$600,3,FALSE),0)","v":0},{"$f":"IFERROR(VLOOKUP(EW17,MATCHSELEVES!$Y$14:$AE$600,4,FALSE),0)","v":0},{"$f":"IFERROR(VLOOKUP(EW17,MATCHSELEVES!$Y$14:$AE$600,5,FALSE),0)","v":0},{"$f":"IFERROR(VLOOKUP(EW17,MATCHSELEVES!$Y$14:$AF$600,8,FALSE),0)","v":0},{"$f":"IFERROR(VLOOKUP(EW17,MATCHSELEVES!$Y$14:$AG$600,9,FALSE),0)","v":0},"Enzo_24",{"$f":"IFERROR(VLOOKUP(FC17,MATCHSELEVES!$Y$14:$AE$600,3,FALSE),0)","v":0},{"$f":"IFERROR(VLOOKUP(FC17,MATCHSELEVES!$Y$14:$AE$600,4,FALSE),0)","v":0},{"$f":"IFERROR(VLOOKUP(FC17,MATCHSELEVES!$Y$14:$AE$600,5,FALSE),0)","v":0},{"$f":"IFERROR(VLOOKUP(FC17,MATCHSELEVES!$Y$14:$AF$600,8,FALSE),0)","v":0},{"$f":"IFERROR(VLOOKUP(FC17,MATCHSELEVES!$Y$14:$AG$600,9,FALSE),0)","v":0},"Enzo_25",{"$f":"IFERROR(VLOOKUP(FI17,MATCHSELEVES!$Y$14:$AE$600,3,FALSE),0)","v":0},{"$f":"IFERROR(VLOOKUP(FI17,MATCHSELEVES!$Y$14:$AE$600,4,FALSE),0)","v":0},{"$f":"IFERROR(VLOOKUP(FI17,MATCHSELEVES!$Y$14:$AE$600,5,FALSE),0)","v":0},{"$f":"IFERROR(VLOOKUP(FI17,MATCHSELEVES!$Y$14:$AF$600,8,FALSE),0)","v":0},{"$f":"IFERROR(VLOOKUP(FI17,MATCHSELEVES!$Y$14:$AG$600,9,FALSE),0)","v":0},"Enzo_26",{"$f":"IFERROR(VLOOKUP(FO17,MATCHSELEVES!$Y$14:$AE$600,3,FALSE),0)","v":0},{"$f":"IFERROR(VLOOKUP(FO17,MATCHSELEVES!$Y$14:$AE$600,4,FALSE),0)","v":0},{"$f":"IFERROR(VLOOKUP(FO17,MATCHSELEVES!$Y$14:$AE$600,5,FALSE),0)","v":0},{"$f":"IFERROR(VLOOKUP(FO17,MATCHSELEVES!$Y$14:$AF$600,8,FALSE),0)","v":0},{"$f":"IFERROR(VLOOKUP(FO17,MATCHSELEVES!$Y$14:$AG$600,9,FALSE),0)","v":0},"Enzo_27",{"$f":"IFERROR(VLOOKUP(FU17,MATCHSELEVES!$Y$14:$AE$600,3,FALSE),0)","v":0},{"$f":"IFERROR(VLOOKUP(FU17,MATCHSELEVES!$Y$14:$AE$600,4,FALSE),0)","v":0},{"$f":"IFERROR(VLOOKUP(FU17,MATCHSELEVES!$Y$14:$AE$600,5,FALSE),0)","v":0},{"$f":"IFERROR(VLOOKUP(FU17,MATCHSELEVES!$Y$14:$AF$600,8,FALSE),0)","v":0},{"$f":"IFERROR(VLOOKUP(FU17,MATCHSELEVES!$Y$14:$AG$600,9,FALSE),0)","v":0},"Enzo_28",{"$f":"IFERROR(VLOOKUP(GA17,MATCHSELEVES!$Y$14:$AE$600,3,FALSE),0)","v":0},{"$f":"IFERROR(VLOOKUP(GA17,MATCHSELEVES!$Y$14:$AE$600,4,FALSE),0)","v":0},{"$f":"IFERROR(VLOOKUP(GA17,MATCHSELEVES!$Y$14:$AE$600,5,FALSE),0)","v":0},{"$f":"IFERROR(VLOOKUP(GA17,MATCHSELEVES!$Y$14:$AF$600,8,FALSE),0)","v":0},{"$f":"IFERROR(VLOOKUP(GA17,MATCHSELEVES!$Y$14:$AG$600,9,FALSE),0)","v":0},"Enzo_29",{"$f":"IFERROR(VLOOKUP(GG17,MATCHSELEVES!$Y$14:$AE$600,3,FALSE),0)","v":0},{"$f":"IFERROR(VLOOKUP(GG17,MATCHSELEVES!$Y$14:$AE$600,4,FALSE),0)","v":0},{"$f":"IFERROR(VLOOKUP(GG17,MATCHSELEVES!$Y$14:$AE$600,5,FALSE),0)","v":0},{"$f":"IFERROR(VLOOKUP(GG17,MATCHSELEVES!$Y$14:$AF$600,8,FALSE),0)","v":0},{"$f":"IFERROR(VLOOKUP(GG17,MATCHSELEVES!$Y$14:$AG$600,9,FALSE),0)","v":0},"Enzo_30",{"$f":"IFERROR(VLOOKUP(GM17,MATCHSELEVES!$Y$14:$AE$600,3,FALSE),0)","v":0},{"$f":"IFERROR(VLOOKUP(GM17,MATCHSELEVES!$Y$14:$AE$600,4,FALSE),0)","v":0},{"$f":"IFERROR(VLOOKUP(GM17,MATCHSELEVES!$Y$14:$AE$600,5,FALSE),0)","v":0},{"$f":"IFERROR(VLOOKUP(GM17,MATCHSELEVES!$Y$14:$AF$600,8,FALSE),0)","v":0},{"$f":"IFERROR(VLOOKUP(GM17,MATCHSELEVES!$Y$14:$AG$600,9,FALSE),0)","v":0},"Enzo_31",{"$f":"IFERROR(VLOOKUP(GS17,MATCHSELEVES!$Y$14:$AE$600,3,FALSE),0)","v":0},{"$f":"IFERROR(VLOOKUP(GS17,MATCHSELEVES!$Y$14:$AE$600,4,FALSE),0)","v":0},{"$f":"IFERROR(VLOOKUP(GS17,MATCHSELEVES!$Y$14:$AE$600,5,FALSE),0)","v":0},{"$f":"IFERROR(VLOOKUP(GS17,MATCHSELEVES!$Y$14:$AF$600,8,FALSE),0)","v":0},{"$f":"IFERROR(VLOOKUP(GS17,MATCHSELEVES!$Y$14:$AG$600,9,FALSE),0)","v":0},"Enzo_32",{"$f":"IFERROR(VLOOKUP(GY17,MATCHSELEVES!$Y$14:$AE$600,3,FALSE),0)","v":0},{"$f":"IFERROR(VLOOKUP(GY17,MATCHSELEVES!$Y$14:$AE$600,4,FALSE),0)","v":0},{"$f":"IFERROR(VLOOKUP(GY17,MATCHSELEVES!$Y$14:$AE$600,5,FALSE),0)","v":0},{"$f":"IFERROR(VLOOKUP(GY17,MATCHSELEVES!$Y$14:$AF$600,8,FALSE),0)","v":0},{"$f":"IFERROR(VLOOKUP(GY17,MATCHSELEVES!$Y$14:$AG$600,9,FALSE),0)","v":0},"Enzo_33",{"$f":"IFERROR(VLOOKUP(HE17,MATCHSELEVES!$Y$14:$AE$600,3,FALSE),0)","v":0},{"$f":"IFERROR(VLOOKUP(HE17,MATCHSELEVES!$Y$14:$AE$600,4,FALSE),0)","v":0},{"$f":"IFERROR(VLOOKUP(HE17,MATCHSELEVES!$Y$14:$AE$600,5,FALSE),0)","v":0},{"$f":"IFERROR(VLOOKUP(HE17,MATCHSELEVES!$Y$14:$AF$600,8,FALSE),0)","v":0},{"$f":"IFERROR(VLOOKUP(HE17,MATCHSELEVES!$Y$14:$AG$600,9,FALSE),0)","v":0},"Enzo_34",{"$f":"IFERROR(VLOOKUP(HK17,MATCHSELEVES!$Y$14:$AE$600,3,FALSE),0)","v":0},{"$f":"IFERROR(VLOOKUP(HK17,MATCHSELEVES!$Y$14:$AE$600,4,FALSE),0)","v":0},{"$f":"IFERROR(VLOOKUP(HK17,MATCHSELEVES!$Y$14:$AE$600,5,FALSE),0)","v":0},{"$f":"IFERROR(VLOOKUP(HK17,MATCHSELEVES!$Y$14:$AF$600,8,FALSE),0)","v":0},{"$f":"IFERROR(VLOOKUP(HK17,MATCHSELEVES!$Y$14:$AG$600,9,FALSE),0)","v":0},"Enzo_35",{"$f":"IFERROR(VLOOKUP(HQ17,MATCHSELEVES!$Y$14:$AE$600,3,FALSE),0)","v":0},{"$f":"IFERROR(VLOOKUP(HQ17,MATCHSELEVES!$Y$14:$AE$600,4,FALSE),0)","v":0},{"$f":"IFERROR(VLOOKUP(HQ17,MATCHSELEVES!$Y$14:$AE$600,5,FALSE),0)","v":0},{"$f":"IFERROR(VLOOKUP(HQ17,MATCHSELEVES!$Y$14:$AF$600,8,FALSE),0)","v":0},{"$f":"IFERROR(VLOOKUP(HQ17,MATCHSELEVES!$Y$14:$AG$600,9,FALSE),0)","v":0},"Enzo_36",{"$f":"IFERROR(VLOOKUP(HW17,MATCHSELEVES!$Y$14:$AE$600,3,FALSE),0)","v":0},{"$f":"IFERROR(VLOOKUP(HW17,MATCHSELEVES!$Y$14:$AE$600,4,FALSE),0)","v":0},{"$f":"IFERROR(VLOOKUP(HW17,MATCHSELEVES!$Y$14:$AE$600,5,FALSE),0)","v":0},{"$f":"IFERROR(VLOOKUP(HW17,MATCHSELEVES!$Y$14:$AF$600,8,FALSE),0)","v":0},{"$f":"IFERROR(VLOOKUP(HW17,MATCHSELEVES!$Y$14:$AG$600,9,FALSE),0)","v":0},"Enzo_37",{"$f":"IFERROR(VLOOKUP(IC17,MATCHSELEVES!$Y$14:$AE$600,3,FALSE),0)","v":0},{"$f":"IFERROR(VLOOKUP(IC17,MATCHSELEVES!$Y$14:$AE$600,4,FALSE),0)","v":0},{"$f":"IFERROR(VLOOKUP(IC17,MATCHSELEVES!$Y$14:$AE$600,5,FALSE),0)","v":0},{"$f":"IFERROR(VLOOKUP(IC17,MATCHSELEVES!$Y$14:$AF$600,8,FALSE),0)","v":0},{"$f":"IFERROR(VLOOKUP(IC17,MATCHSELEVES!$Y$14:$AG$600,9,FALSE),0)","v":0},"Enzo_38",{"$f":"IFERROR(VLOOKUP(II17,MATCHSELEVES!$Y$14:$AE$600,3,FALSE),0)","v":0},{"$f":"IFERROR(VLOOKUP(II17,MATCHSELEVES!$Y$14:$AE$600,4,FALSE),0)","v":0},{"$f":"IFERROR(VLOOKUP(II17,MATCHSELEVES!$Y$14:$AE$600,5,FALSE),0)","v":0},{"$f":"IFERROR(VLOOKUP(II17,MATCHSELEVES!$Y$14:$AF$600,8,FALSE),0)","v":0},{"$f":"IFERROR(VLOOKUP(II17,MATCHSELEVES!$Y$14:$AG$600,9,FALSE),0)","v":0},"Enzo_39",{"$f":"IFERROR(VLOOKUP(IO17,MATCHSELEVES!$Y$14:$AE$600,3,FALSE),0)","v":0},{"$f":"IFERROR(VLOOKUP(IO17,MATCHSELEVES!$Y$14:$AE$600,4,FALSE),0)","v":0},{"$f":"IFERROR(VLOOKUP(IO17,MATCHSELEVES!$Y$14:$AE$600,5,FALSE),0)","v":0},{"$f":"IFERROR(VLOOKUP(IO17,MATCHSELEVES!$Y$14:$AF$600,8,FALSE),0)","v":0},{"$f":"IFERROR(VLOOKUP(IO17,MATCHSELEVES!$Y$14:$AG$600,9,FALSE),0)","v":0},"Enzo_40",{"$f":"IFERROR(VLOOKUP(IU17,MATCHSELEVES!$Y$14:$AE$600,3,FALSE),0)","v":0},{"$f":"IFERROR(VLOOKUP(IU17,MATCHSELEVES!$Y$14:$AE$600,4,FALSE),0)","v":0},{"$f":"IFERROR(VLOOKUP(IU17,MATCHSELEVES!$Y$14:$AE$600,5,FALSE),0)","v":0},{"$f":"IFERROR(VLOOKUP(IU17,MATCHSELEVES!$Y$14:$AF$600,8,FALSE),0)","v":0},{"$f":"IFERROR(VLOOKUP(IU17,MATCHSELEVES!$Y$14:$AG$600,9,FALSE),0)","v":0},"Enzop_1",{"$f":"IFERROR(VLOOKUP(JA17,MATCHSELEVES!$Y$14:$AE$600,3,FALSE),0)","v":0},{"$f":"IFERROR(VLOOKUP(JA17,MATCHSELEVES!$Y$14:$AE$600,4,FALSE),0)","v":0},{"$f":"IFERROR(VLOOKUP(JA17,MATCHSELEVES!$Y$14:$AE$600,5,FALSE),0)","v":0},{"$f":"IFERROR(VLOOKUP(JA17,MATCHSELEVES!$Y$14:$AF$600,8,FALSE),0)","v":0},{"$f":"IFERROR(VLOOKUP(JA17,MATCHSELEVES!$Y$14:$AG$600,9,FALSE),0)","v":0},"Enzop_2",{"$f":"IFERROR(VLOOKUP(JG17,MATCHSELEVES!$Y$14:$AE$600,3,FALSE),0)","v":0},{"$f":"IFERROR(VLOOKUP(JG17,MATCHSELEVES!$Y$14:$AE$600,4,FALSE),0)","v":0},{"$f":"IFERROR(VLOOKUP(JG17,MATCHSELEVES!$Y$14:$AE$600,5,FALSE),0)","v":0},{"$f":"IFERROR(VLOOKUP(JG17,MATCHSELEVES!$Y$14:$AF$600,8,FALSE),0)","v":0},{"$f":"IFERROR(VLOOKUP(JG17,MATCHSELEVES!$Y$14:$AG$600,9,FALSE),0)","v":0},"Enzop_3",{"$f":"IFERROR(VLOOKUP(JM17,MATCHSELEVES!$Y$14:$AE$600,3,FALSE),0)","v":0},{"$f":"IFERROR(VLOOKUP(JM17,MATCHSELEVES!$Y$14:$AE$600,4,FALSE),0)","v":0},{"$f":"IFERROR(VLOOKUP(JM17,MATCHSELEVES!$Y$14:$AE$600,5,FALSE),0)","v":0},{"$f":"IFERROR(VLOOKUP(JM17,MATCHSELEVES!$Y$14:$AF$600,8,FALSE),0)","v":0},{"$f":"IFERROR(VLOOKUP(JM17,MATCHSELEVES!$Y$14:$AG$600,9,FALSE),0)","v":0},"Enzop_4",{"$f":"IFERROR(VLOOKUP(JS17,MATCHSELEVES!$Y$14:$AE$600,3,FALSE),0)","v":0},{"$f":"IFERROR(VLOOKUP(JS17,MATCHSELEVES!$Y$14:$AE$600,4,FALSE),0)","v":0},{"$f":"IFERROR(VLOOKUP(JS17,MATCHSELEVES!$Y$14:$AE$600,5,FALSE),0)","v":0},{"$f":"IFERROR(VLOOKUP(JS17,MATCHSELEVES!$Y$14:$AF$600,8,FALSE),0)","v":0},{"$f":"IFERROR(VLOOKUP(JS17,MATCHSELEVES!$Y$14:$AG$600,9,FALSE),0)","v":0},"Enzop_5",{"$f":"IFERROR(VLOOKUP(JY17,MATCHSELEVES!$Y$14:$AE$600,3,FALSE),0)","v":0},{"$f":"IFERROR(VLOOKUP(JY17,MATCHSELEVES!$Y$14:$AE$600,4,FALSE),0)","v":0},{"$f":"IFERROR(VLOOKUP(JY17,MATCHSELEVES!$Y$14:$AE$600,5,FALSE),0)","v":0},{"$f":"IFERROR(VLOOKUP(JY17,MATCHSELEVES!$Y$14:$AF$600,8,FALSE),0)","v":0},{"$f":"IFERROR(VLOOKUP(JY17,MATCHSELEVES!$Y$14:$AG$600,9,FALSE),0)","v":0},"Enzop_6",{"$f":"IFERROR(VLOOKUP(KE17,MATCHSELEVES!$Y$14:$AE$600,3,FALSE),0)","v":0},{"$f":"IFERROR(VLOOKUP(KE17,MATCHSELEVES!$Y$14:$AE$600,4,FALSE),0)","v":0},{"$f":"IFERROR(VLOOKUP(KE17,MATCHSELEVES!$Y$14:$AE$600,5,FALSE),0)","v":0},{"$f":"IFERROR(VLOOKUP(KE17,MATCHSELEVES!$Y$14:$AF$600,8,FALSE),0)","v":0},{"$f":"IFERROR(VLOOKUP(KE17,MATCHSELEVES!$Y$14:$AG$600,9,FALSE),0)","v":0},"Enzop_7",{"$f":"IFERROR(VLOOKUP(KK17,MATCHSELEVES!$Y$14:$AE$600,3,FALSE),0)","v":0},{"$f":"IFERROR(VLOOKUP(KK17,MATCHSELEVES!$Y$14:$AE$600,4,FALSE),0)","v":0},{"$f":"IFERROR(VLOOKUP(KK17,MATCHSELEVES!$Y$14:$AE$600,5,FALSE),0)","v":0},{"$f":"IFERROR(VLOOKUP(KK17,MATCHSELEVES!$Y$14:$AF$600,8,FALSE),0)","v":0},{"$f":"IFERROR(VLOOKUP(KK17,MATCHSELEVES!$Y$14:$AG$600,9,FALSE),0)","v":0},"Enzop_8",{"$f":"IFERROR(VLOOKUP(KQ17,MATCHSELEVES!$Y$14:$AE$600,3,FALSE),0)","v":0},{"$f":"IFERROR(VLOOKUP(KQ17,MATCHSELEVES!$Y$14:$AE$600,4,FALSE),0)","v":0},{"$f":"IFERROR(VLOOKUP(KQ17,MATCHSELEVES!$Y$14:$AE$600,5,FALSE),0)","v":0},{"$f":"IFERROR(VLOOKUP(KQ17,MATCHSELEVES!$Y$14:$AF$600,8,FALSE),0)","v":0},{"$f":"IFERROR(VLOOKUP(KQ17,MATCHSELEVES!$Y$14:$AG$600,9,FALSE),0)","v":0},"Enzop_9",{"$f":"IFERROR(VLOOKUP(KW17,MATCHSELEVES!$Y$14:$AE$600,3,FALSE),0)","v":0},{"$f":"IFERROR(VLOOKUP(KW17,MATCHSELEVES!$Y$14:$AE$600,4,FALSE),0)","v":0},{"$f":"IFERROR(VLOOKUP(KW17,MATCHSELEVES!$Y$14:$AE$600,5,FALSE),0)","v":0},{"$f":"IFERROR(VLOOKUP(KW17,MATCHSELEVES!$Y$14:$AF$600,8,FALSE),0)","v":0},{"$f":"IFERROR(VLOOKUP(KW17,MATCHSELEVES!$Y$14:$AG$600,9,FALSE),0)","v":0},"Enzop_10",{"$f":"IFERROR(VLOOKUP(LC17,MATCHSELEVES!$Y$14:$AE$600,3,FALSE),0)","v":0},{"$f":"IFERROR(VLOOKUP(LC17,MATCHSELEVES!$Y$14:$AE$600,4,FALSE),0)","v":0},{"$f":"IFERROR(VLOOKUP(LC17,MATCHSELEVES!$Y$14:$AE$600,5,FALSE),0)","v":0},{"$f":"IFERROR(VLOOKUP(LC17,MATCHSELEVES!$Y$14:$AF$600,8,FALSE),0)","v":0},{"$f":"IFERROR(VLOOKUP(LC17,MATCHSELEVES!$Y$14:$AG$600,9,FALSE),0)","v":0},"Enzop_11",{"$f":"IFERROR(VLOOKUP(LI17,MATCHSELEVES!$Y$14:$AE$600,3,FALSE),0)","v":0},{"$f":"IFERROR(VLOOKUP(LI17,MATCHSELEVES!$Y$14:$AE$600,4,FALSE),0)","v":0},{"$f":"IFERROR(VLOOKUP(LI17,MATCHSELEVES!$Y$14:$AE$600,5,FALSE),0)","v":0},{"$f":"IFERROR(VLOOKUP(LI17,MATCHSELEVES!$Y$14:$AF$600,8,FALSE),0)","v":0},{"$f":"IFERROR(VLOOKUP(LI17,MATCHSELEVES!$Y$14:$AG$600,9,FALSE),0)","v":0},"Enzop_12",{"$f":"IFERROR(VLOOKUP(LO17,MATCHSELEVES!$Y$14:$AE$600,3,FALSE),0)","v":0},{"$f":"IFERROR(VLOOKUP(LO17,MATCHSELEVES!$Y$14:$AE$600,4,FALSE),0)","v":0},{"$f":"IFERROR(VLOOKUP(LO17,MATCHSELEVES!$Y$14:$AE$600,5,FALSE),0)","v":0},{"$f":"IFERROR(VLOOKUP(LO17,MATCHSELEVES!$Y$14:$AF$600,8,FALSE),0)","v":0},{"$f":"IFERROR(VLOOKUP(LO17,MATCHSELEVES!$Y$14:$AG$600,9,FALSE),0)","v":0},"Enzop_13",{"$f":"IFERROR(VLOOKUP(LU17,MATCHSELEVES!$Y$14:$AE$600,3,FALSE),0)","v":0},{"$f":"IFERROR(VLOOKUP(LU17,MATCHSELEVES!$Y$14:$AE$600,4,FALSE),0)","v":0},{"$f":"IFERROR(VLOOKUP(LU17,MATCHSELEVES!$Y$14:$AE$600,5,FALSE),0)","v":0},{"$f":"IFERROR(VLOOKUP(LU17,MATCHSELEVES!$Y$14:$AF$600,8,FALSE),0)","v":0},{"$f":"IFERROR(VLOOKUP(LU17,MATCHSELEVES!$Y$14:$AG$600,9,FALSE),0)","v":0},"Enzop_14",{"$f":"IFERROR(VLOOKUP(MA17,MATCHSELEVES!$Y$14:$AE$600,3,FALSE),0)","v":0},{"$f":"IFERROR(VLOOKUP(MA17,MATCHSELEVES!$Y$14:$AE$600,4,FALSE),0)","v":0},{"$f":"IFERROR(VLOOKUP(MA17,MATCHSELEVES!$Y$14:$AE$600,5,FALSE),0)","v":0},{"$f":"IFERROR(VLOOKUP(MA17,MATCHSELEVES!$Y$14:$AF$600,8,FALSE),0)","v":0},{"$f":"IFERROR(VLOOKUP(MA17,MATCHSELEVES!$Y$14:$AG$600,9,FALSE),0)","v":0},"Enzop_15",{"$f":"IFERROR(VLOOKUP(MG17,MATCHSELEVES!$Y$14:$AE$600,3,FALSE),0)","v":0},{"$f":"IFERROR(VLOOKUP(MG17,MATCHSELEVES!$Y$14:$AE$600,4,FALSE),0)","v":0},{"$f":"IFERROR(VLOOKUP(MG17,MATCHSELEVES!$Y$14:$AE$600,5,FALSE),0)","v":0},{"$f":"IFERROR(VLOOKUP(MG17,MATCHSELEVES!$Y$14:$AF$600,8,FALSE),0)","v":0},{"$f":"IFERROR(VLOOKUP(MG17,MATCHSELEVES!$Y$14:$AG$600,9,FALSE),0)","v":0},"Enzop_16",{"$f":"IFERROR(VLOOKUP(MM17,MATCHSELEVES!$Y$14:$AE$600,3,FALSE),0)","v":0},{"$f":"IFERROR(VLOOKUP(MM17,MATCHSELEVES!$Y$14:$AE$600,4,FALSE),0)","v":0},{"$f":"IFERROR(VLOOKUP(MM17,MATCHSELEVES!$Y$14:$AE$600,5,FALSE),0)","v":0},{"$f":"IFERROR(VLOOKUP(MM17,MATCHSELEVES!$Y$14:$AF$600,8,FALSE),0)","v":0},{"$f":"IFERROR(VLOOKUP(MM17,MATCHSELEVES!$Y$14:$AG$600,9,FALSE),0)","v":0},"Enzop_17",{"$f":"IFERROR(VLOOKUP(MS17,MATCHSELEVES!$Y$14:$AE$600,3,FALSE),0)","v":0},{"$f":"IFERROR(VLOOKUP(MS17,MATCHSELEVES!$Y$14:$AE$600,4,FALSE),0)","v":0},{"$f":"IFERROR(VLOOKUP(MS17,MATCHSELEVES!$Y$14:$AE$600,5,FALSE),0)","v":0},{"$f":"IFERROR(VLOOKUP(MS17,MATCHSELEVES!$Y$14:$AF$600,8,FALSE),0)","v":0},{"$f":"IFERROR(VLOOKUP(MS17,MATCHSELEVES!$Y$14:$AG$600,9,FALSE),0)","v":0},"Enzop_18",{"$f":"IFERROR(VLOOKUP(MY17,MATCHSELEVES!$Y$14:$AE$600,3,FALSE),0)","v":0},{"$f":"IFERROR(VLOOKUP(MY17,MATCHSELEVES!$Y$14:$AE$600,4,FALSE),0)","v":0},{"$f":"IFERROR(VLOOKUP(MY17,MATCHSELEVES!$Y$14:$AE$600,5,FALSE),0)","v":0},{"$f":"IFERROR(VLOOKUP(MY17,MATCHSELEVES!$Y$14:$AF$600,8,FALSE),0)","v":0},{"$f":"IFERROR(VLOOKUP(MY17,MATCHSELEVES!$Y$14:$AG$600,9,FALSE),0)","v":0},"Enzop_19",{"$f":"IFERROR(VLOOKUP(NE17,MATCHSELEVES!$Y$14:$AE$600,3,FALSE),0)","v":0},{"$f":"IFERROR(VLOOKUP(NE17,MATCHSELEVES!$Y$14:$AE$600,4,FALSE),0)","v":0},{"$f":"IFERROR(VLOOKUP(NE17,MATCHSELEVES!$Y$14:$AE$600,5,FALSE),0)","v":0},{"$f":"IFERROR(VLOOKUP(NE17,MATCHSELEVES!$Y$14:$AF$600,8,FALSE),0)","v":0},{"$f":"IFERROR(VLOOKUP(NE17,MATCHSELEVES!$Y$14:$AG$600,9,FALSE),0)","v":0},"Enzop_20",{"$f":"IFERROR(VLOOKUP(NK17,MATCHSELEVES!$Y$14:$AE$600,3,FALSE),0)","v":0},{"$f":"IFERROR(VLOOKUP(NK17,MATCHSELEVES!$Y$14:$AE$600,4,FALSE),0)","v":0},{"$f":"IFERROR(VLOOKUP(NK17,MATCHSELEVES!$Y$14:$AE$600,5,FALSE),0)","v":0},{"$f":"IFERROR(VLOOKUP(NK17,MATCHSELEVES!$Y$14:$AF$600,8,FALSE),0)","v":0},{"$f":"IFERROR(VLOOKUP(NK17,MATCHSELEVES!$Y$14:$AG$600,9,FALSE),0)","v":0},"Enzop_21",{"$f":"IFERROR(VLOOKUP(NQ17,MATCHSELEVES!$Y$14:$AE$600,3,FALSE),0)","v":0},{"$f":"IFERROR(VLOOKUP(NQ17,MATCHSELEVES!$Y$14:$AE$600,4,FALSE),0)","v":0},{"$f":"IFERROR(VLOOKUP(NQ17,MATCHSELEVES!$Y$14:$AE$600,5,FALSE),0)","v":0},{"$f":"IFERROR(VLOOKUP(NQ17,MATCHSELEVES!$Y$14:$AF$600,8,FALSE),0)","v":0},{"$f":"IFERROR(VLOOKUP(NQ17,MATCHSELEVES!$Y$14:$AG$600,9,FALSE),0)","v":0},"Enzop_22",{"$f":"IFERROR(VLOOKUP(NW17,MATCHSELEVES!$Y$14:$AE$600,3,FALSE),0)","v":0},{"$f":"IFERROR(VLOOKUP(NW17,MATCHSELEVES!$Y$14:$AE$600,4,FALSE),0)","v":0},{"$f":"IFERROR(VLOOKUP(NW17,MATCHSELEVES!$Y$14:$AE$600,5,FALSE),0)","v":0},{"$f":"IFERROR(VLOOKUP(NW17,MATCHSELEVES!$Y$14:$AF$600,8,FALSE),0)","v":0},{"$f":"IFERROR(VLOOKUP(NW17,MATCHSELEVES!$Y$14:$AG$600,9,FALSE),0)","v":0},"Enzop_23",{"$f":"IFERROR(VLOOKUP(OC17,MATCHSELEVES!$Y$14:$AE$600,3,FALSE),0)","v":0},{"$f":"IFERROR(VLOOKUP(OC17,MATCHSELEVES!$Y$14:$AE$600,4,FALSE),0)","v":0},{"$f":"IFERROR(VLOOKUP(OC17,MATCHSELEVES!$Y$14:$AE$600,5,FALSE),0)","v":0},{"$f":"IFERROR(VLOOKUP(OC17,MATCHSELEVES!$Y$14:$AF$600,8,FALSE),0)","v":0},{"$f":"IFERROR(VLOOKUP(OC17,MATCHSELEVES!$Y$14:$AG$600,9,FALSE),0)","v":0},"Enzop_24",{"$f":"IFERROR(VLOOKUP(OI17,MATCHSELEVES!$Y$14:$AE$600,3,FALSE),0)","v":0},{"$f":"IFERROR(VLOOKUP(OI17,MATCHSELEVES!$Y$14:$AE$600,4,FALSE),0)","v":0},{"$f":"IFERROR(VLOOKUP(OI17,MATCHSELEVES!$Y$14:$AE$600,5,FALSE),0)","v":0},{"$f":"IFERROR(VLOOKUP(OI17,MATCHSELEVES!$Y$14:$AF$600,8,FALSE),0)","v":0},{"$f":"IFERROR(VLOOKUP(OI17,MATCHSELEVES!$Y$14:$AG$600,9,FALSE),0)","v":0},"Enzop_25",{"$f":"IFERROR(VLOOKUP(OO17,MATCHSELEVES!$Y$14:$AE$600,3,FALSE),0)","v":0},{"$f":"IFERROR(VLOOKUP(OO17,MATCHSELEVES!$Y$14:$AE$600,4,FALSE),0)","v":0},{"$f":"IFERROR(VLOOKUP(OO17,MATCHSELEVES!$Y$14:$AE$600,5,FALSE),0)","v":0},{"$f":"IFERROR(VLOOKUP(OO17,MATCHSELEVES!$Y$14:$AF$600,8,FALSE),0)","v":0},{"$f":"IFERROR(VLOOKUP(OO17,MATCHSELEVES!$Y$14:$AG$600,9,FALSE),0)","v":0},"Enzop_26",{"$f":"IFERROR(VLOOKUP(OU17,MATCHSELEVES!$Y$14:$AE$600,3,FALSE),0)","v":0},{"$f":"IFERROR(VLOOKUP(OU17,MATCHSELEVES!$Y$14:$AE$600,4,FALSE),0)","v":0},{"$f":"IFERROR(VLOOKUP(OU17,MATCHSELEVES!$Y$14:$AE$600,5,FALSE),0)","v":0},{"$f":"IFERROR(VLOOKUP(OU17,MATCHSELEVES!$Y$14:$AF$600,8,FALSE),0)","v":0},{"$f":"IFERROR(VLOOKUP(OU17,MATCHSELEVES!$Y$14:$AG$600,9,FALSE),0)","v":0},"Enzop_27",{"$f":"IFERROR(VLOOKUP(PA17,MATCHSELEVES!$Y$14:$AE$600,3,FALSE),0)","v":0},{"$f":"IFERROR(VLOOKUP(PA17,MATCHSELEVES!$Y$14:$AE$600,4,FALSE),0)","v":0},{"$f":"IFERROR(VLOOKUP(PA17,MATCHSELEVES!$Y$14:$AE$600,5,FALSE),0)","v":0},{"$f":"IFERROR(VLOOKUP(PA17,MATCHSELEVES!$Y$14:$AF$600,8,FALSE),0)","v":0},{"$f":"IFERROR(VLOOKUP(PA17,MATCHSELEVES!$Y$14:$AG$600,9,FALSE),0)","v":0},"Enzop_28",{"$f":"IFERROR(VLOOKUP(PG17,MATCHSELEVES!$Y$14:$AE$600,3,FALSE),0)","v":0},{"$f":"IFERROR(VLOOKUP(PG17,MATCHSELEVES!$Y$14:$AE$600,4,FALSE),0)","v":0},{"$f":"IFERROR(VLOOKUP(PG17,MATCHSELEVES!$Y$14:$AE$600,5,FALSE),0)","v":0},{"$f":"IFERROR(VLOOKUP(PG17,MATCHSELEVES!$Y$14:$AF$600,8,FALSE),0)","v":0},{"$f":"IFERROR(VLOOKUP(PG17,MATCHSELEVES!$Y$14:$AG$600,9,FALSE),0)","v":0},"Enzop_29",{"$f":"IFERROR(VLOOKUP(PM17,MATCHSELEVES!$Y$14:$AE$600,3,FALSE),0)","v":0},{"$f":"IFERROR(VLOOKUP(PM17,MATCHSELEVES!$Y$14:$AE$600,4,FALSE),0)","v":0},{"$f":"IFERROR(VLOOKUP(PM17,MATCHSELEVES!$Y$14:$AE$600,5,FALSE),0)","v":0},{"$f":"IFERROR(VLOOKUP(PM17,MATCHSELEVES!$Y$14:$AF$600,8,FALSE),0)","v":0},{"$f":"IFERROR(VLOOKUP(PM17,MATCHSELEVES!$Y$14:$AG$600,9,FALSE),0)","v":0},"Enzop_30",{"$f":"IFERROR(VLOOKUP(PS17,MATCHSELEVES!$Y$14:$AE$600,3,FALSE),0)","v":0},{"$f":"IFERROR(VLOOKUP(PS17,MATCHSELEVES!$Y$14:$AE$600,4,FALSE),0)","v":0},{"$f":"IFERROR(VLOOKUP(PS17,MATCHSELEVES!$Y$14:$AE$600,5,FALSE),0)","v":0},{"$f":"IFERROR(VLOOKUP(PS17,MATCHSELEVES!$Y$14:$AF$600,8,FALSE),0)","v":0},{"$f":"IFERROR(VLOOKUP(PS17,MATCHSELEVES!$Y$14:$AG$600,9,FALSE),0)","v":0},"Enzop_31",{"$f":"IFERROR(VLOOKUP(PY17,MATCHSELEVES!$Y$14:$AE$600,3,FALSE),0)","v":0},{"$f":"IFERROR(VLOOKUP(PY17,MATCHSELEVES!$Y$14:$AE$600,4,FALSE),0)","v":0},{"$f":"IFERROR(VLOOKUP(PY17,MATCHSELEVES!$Y$14:$AE$600,5,FALSE),0)","v":0},{"$f":"IFERROR(VLOOKUP(PY17,MATCHSELEVES!$Y$14:$AF$600,8,FALSE),0)","v":0},{"$f":"IFERROR(VLOOKUP(PY17,MATCHSELEVES!$Y$14:$AG$600,9,FALSE),0)","v":0},"Enzop_32",{"$f":"IFERROR(VLOOKUP(QE17,MATCHSELEVES!$Y$14:$AE$600,3,FALSE),0)","v":0},{"$f":"IFERROR(VLOOKUP(QE17,MATCHSELEVES!$Y$14:$AE$600,4,FALSE),0)","v":0},{"$f":"IFERROR(VLOOKUP(QE17,MATCHSELEVES!$Y$14:$AE$600,5,FALSE),0)","v":0},{"$f":"IFERROR(VLOOKUP(QE17,MATCHSELEVES!$Y$14:$AF$600,8,FALSE),0)","v":0},{"$f":"IFERROR(VLOOKUP(QE17,MATCHSELEVES!$Y$14:$AG$600,9,FALSE),0)","v":0},"Enzop_33",{"$f":"IFERROR(VLOOKUP(QK17,MATCHSELEVES!$Y$14:$AE$600,3,FALSE),0)","v":0},{"$f":"IFERROR(VLOOKUP(QK17,MATCHSELEVES!$Y$14:$AE$600,4,FALSE),0)","v":0},{"$f":"IFERROR(VLOOKUP(QK17,MATCHSELEVES!$Y$14:$AE$600,5,FALSE),0)","v":0},{"$f":"IFERROR(VLOOKUP(QK17,MATCHSELEVES!$Y$14:$AF$600,8,FALSE),0)","v":0},{"$f":"IFERROR(VLOOKUP(QK17,MATCHSELEVES!$Y$14:$AG$600,9,FALSE),0)","v":0},"Enzop_34",{"$f":"IFERROR(VLOOKUP(QQ17,MATCHSELEVES!$Y$14:$AE$600,3,FALSE),0)","v":0},{"$f":"IFERROR(VLOOKUP(QQ17,MATCHSELEVES!$Y$14:$AE$600,4,FALSE),0)","v":0},{"$f":"IFERROR(VLOOKUP(QQ17,MATCHSELEVES!$Y$14:$AE$600,5,FALSE),0)","v":0},{"$f":"IFERROR(VLOOKUP(QQ17,MATCHSELEVES!$Y$14:$AF$600,8,FALSE),0)","v":0},{"$f":"IFERROR(VLOOKUP(QQ17,MATCHSELEVES!$Y$14:$AG$600,9,FALSE),0)","v":0},"Enzop_35",{"$f":"IFERROR(VLOOKUP(QW17,MATCHSELEVES!$Y$14:$AE$600,3,FALSE),0)","v":0},{"$f":"IFERROR(VLOOKUP(QW17,MATCHSELEVES!$Y$14:$AE$600,4,FALSE),0)","v":0},{"$f":"IFERROR(VLOOKUP(QW17,MATCHSELEVES!$Y$14:$AE$600,5,FALSE),0)","v":0},{"$f":"IFERROR(VLOOKUP(QW17,MATCHSELEVES!$Y$14:$AF$600,8,FALSE),0)","v":0},{"$f":"IFERROR(VLOOKUP(QW17,MATCHSELEVES!$Y$14:$AG$600,9,FALSE),0)","v":0},"Enzop_36",{"$f":"IFERROR(VLOOKUP(RC17,MATCHSELEVES!$Y$14:$AE$600,3,FALSE),0)","v":0},{"$f":"IFERROR(VLOOKUP(RC17,MATCHSELEVES!$Y$14:$AE$600,4,FALSE),0)","v":0},{"$f":"IFERROR(VLOOKUP(RC17,MATCHSELEVES!$Y$14:$AE$600,5,FALSE),0)","v":0},{"$f":"IFERROR(VLOOKUP(RC17,MATCHSELEVES!$Y$14:$AF$600,8,FALSE),0)","v":0},{"$f":"IFERROR(VLOOKUP(RC17,MATCHSELEVES!$Y$14:$AG$600,9,FALSE),0)","v":0},"Enzop_37",{"$f":"IFERROR(VLOOKUP(RI17,MATCHSELEVES!$Y$14:$AE$600,3,FALSE),0)","v":0},{"$f":"IFERROR(VLOOKUP(RI17,MATCHSELEVES!$Y$14:$AE$600,4,FALSE),0)","v":0},{"$f":"IFERROR(VLOOKUP(RI17,MATCHSELEVES!$Y$14:$AE$600,5,FALSE),0)","v":0},{"$f":"IFERROR(VLOOKUP(RI17,MATCHSELEVES!$Y$14:$AF$600,8,FALSE),0)","v":0},{"$f":"IFERROR(VLOOKUP(RI17,MATCHSELEVES!$Y$14:$AG$600,9,FALSE),0)","v":0},"Enzop_38",{"$f":"IFERROR(VLOOKUP(RO17,MATCHSELEVES!$Y$14:$AE$600,3,FALSE),0)","v":0},{"$f":"IFERROR(VLOOKUP(RO17,MATCHSELEVES!$Y$14:$AE$600,4,FALSE),0)","v":0},{"$f":"IFERROR(VLOOKUP(RO17,MATCHSELEVES!$Y$14:$AE$600,5,FALSE),0)","v":0},{"$f":"IFERROR(VLOOKUP(RO17,MATCHSELEVES!$Y$14:$AF$600,8,FALSE),0)","v":0},{"$f":"IFERROR(VLOOKUP(RO17,MATCHSELEVES!$Y$14:$AG$600,9,FALSE),0)","v":0},"Enzop_39",{"$f":"IFERROR(VLOOKUP(RU17,MATCHSELEVES!$Y$14:$AE$600,3,FALSE),0)","v":0},{"$f":"IFERROR(VLOOKUP(RU17,MATCHSELEVES!$Y$14:$AE$600,4,FALSE),0)","v":0},{"$f":"IFERROR(VLOOKUP(RU17,MATCHSELEVES!$Y$14:$AE$600,5,FALSE),0)","v":0},{"$f":"IFERROR(VLOOKUP(RU17,MATCHSELEVES!$Y$14:$AF$600,8,FALSE),0)","v":0},{"$f":"IFERROR(VLOOKUP(RU17,MATCHSELEVES!$Y$14:$AG$600,9,FALSE),0)","v":0},"Enzop_40",{"$f":"IFERROR(VLOOKUP(SA17,MATCHSELEVES!$Y$14:$AE$600,3,FALSE),0)","v":0},{"$f":"IFERROR(VLOOKUP(SA17,MATCHSELEVES!$Y$14:$AE$600,4,FALSE),0)","v":0},{"$f":"IFERROR(VLOOKUP(SA17,MATCHSELEVES!$Y$14:$AE$600,5,FALSE),0)","v":0},{"$f":"IFERROR(VLOOKUP(SA17,MATCHSELEVES!$Y$14:$AF$600,8,FALSE),0)","v":0},{"$f":"IFERROR(VLOOKUP(SA17,MATCHSELEVES!$Y$14:$AG$600,9,FALSE),0)","v":0}]
[15,null,"Faoulat",15,null,null,{"$f":"COUNTIF(MATCHSELEVES!$Z$14:$Z$600,C18)+COUNTIF(MATCHSELEVES!$Z$14:$Z$600,$C18&\"p\")","v":0},1,{"$f":"COUNTIF(MATCHSELEVES!$F$14:$H$249,C18)","v":0},1,0,1,{"$f":"IFERROR(M61/Tableau10[[#This Row],[Nombre de matchs joués]],0)","v":0},{"$f":"IF(Tableau10[[#This Row],[Nombre de points encaissés]]=0,$C$45,SUMPRODUCT((M$4:M$43<M18)*(M$4:M$43<>0))+1)","v":40},0,1,{"$f":"(Tableau10[[#This Row],[CLASSEMENT1]]+Tableau10[[#This Row],[CLASSEMENT2]]+Tableau10[[#This Row],[CLASSEMENT3]]+Tableau10[[#This Row],[CLASSEMENT4]]+Tableau10[[#This Row],[CLASSEMENT5]]+Tableau10[[#This Row],[CLASSEMENT6]])/6","v":9.8333333333333339},{"$f":"RANK(Tableau10[[#This Row],[MOYENNE CLASSEMENTS]],Tableau10[MOYENNE CLASSEMENTS],1)","v":15},null,{"$f":"Tableau10[[#This Row],[CLASSEMENT1]]","v":15},"Faoulat_1",{"$f":"IFERROR(VLOOKUP(U18,MATCHSELEVES!$Y$14:$AE$600,3,FALSE),0)","v":0},{"$f":"IFERROR(VLOOKUP(U18,MATCHSELEVES!$Y$14:$AE$600,4,FALSE),0)","v":0},{"$f":"IFERROR(VLOOKUP(U18,MATCHSELEVES!$Y$14:$AE$600,5,FALSE),0)","v":0},{"$f":"IFERROR(VLOOKUP(U18,MATCHSELEVES!$Y$14:$AF$600,8,FALSE),0)","v":0},{"$f":"IFERROR(VLOOKUP(U18,MATCHSELEVES!$Y$14:$AG$600,9,FALSE),0)","v":0},"Faoulat_2",{"$f":"IFERROR(VLOOKUP(AA18,MATCHSELEVES!$Y$14:$AE$600,3,FALSE),0)","v":0},{"$f":"IFERROR(VLOOKUP(AA18,MATCHSELEVES!$Y$14:$AE$600,4,FALSE),0)","v":0},{"$f":"IFERROR(VLOOKUP(AA18,MATCHSELEVES!$Y$14:$AE$600,5,FALSE),0)","v":0},{"$f":"IFERROR(VLOOKUP(AA18,MATCHSELEVES!$Y$14:$AF$600,8,FALSE),0)","v":0},{"$f":"IFERROR(VLOOKUP(AA18,MATCHSELEVES!$Y$14:$AG$600,9,FALSE),0)","v":0},"Faoulat_3",{"$f":"IFERROR(VLOOKUP(AG18,MATCHSELEVES!$Y$14:$AE$600,3,FALSE),0)","v":0},{"$f":"IFERROR(VLOOKUP(AG18,MATCHSELEVES!$Y$14:$AE$600,4,FALSE),0)","v":0},{"$f":"IFERROR(VLOOKUP(AG18,MATCHSELEVES!$Y$14:$AE$600,5,FALSE),0)","v":0},{"$f":"IFERROR(VLOOKUP(AG18,MATCHSELEVES!$Y$14:$AF$600,8,FALSE),0)","v":0},{"$f":"IFERROR(VLOOKUP(AG18,MATCHSELEVES!$Y$14:$AG$600,9,FALSE),0)","v":0},"Faoulat_4",{"$f":"IFERROR(VLOOKUP(AM18,MATCHSELEVES!$Y$14:$AE$600,3,FALSE),0)","v":0},{"$f":"IFERROR(VLOOKUP(AM18,MATCHSELEVES!$Y$14:$AE$600,4,FALSE),0)","v":0},{"$f":"IFERROR(VLOOKUP(AM18,MATCHSELEVES!$Y$14:$AE$600,5,FALSE),0)","v":0},{"$f":"IFERROR(VLOOKUP(AM18,MATCHSELEVES!$Y$14:$AF$600,8,FALSE),0)","v":0},{"$f":"IFERROR(VLOOKUP(AM18,MATCHSELEVES!$Y$14:$AG$600,9,FALSE),0)","v":0},"Faoulat_5",{"$f":"IFERROR(VLOOKUP(AS18,MATCHSELEVES!$Y$14:$AE$600,3,FALSE),0)","v":0},{"$f":"IFERROR(VLOOKUP(AS18,MATCHSELEVES!$Y$14:$AE$600,4,FALSE),0)","v":0},{"$f":"IFERROR(VLOOKUP(AS18,MATCHSELEVES!$Y$14:$AE$600,5,FALSE),0)","v":0},{"$f":"IFERROR(VLOOKUP(AS18,MATCHSELEVES!$Y$14:$AF$600,8,FALSE),0)","v":0},{"$f":"IFERROR(VLOOKUP(AS18,MATCHSELEVES!$Y$14:$AG$600,9,FALSE),0)","v":0},"Faoulat_6",{"$f":"IFERROR(VLOOKUP(AY18,MATCHSELEVES!$Y$14:$AE$600,3,FALSE),0)","v":0},{"$f":"IFERROR(VLOOKUP(AY18,MATCHSELEVES!$Y$14:$AE$600,4,FALSE),0)","v":0},{"$f":"IFERROR(VLOOKUP(AY18,MATCHSELEVES!$Y$14:$AE$600,5,FALSE),0)","v":0},{"$f":"IFERROR(VLOOKUP(AY18,MATCHSELEVES!$Y$14:$AF$600,8,FALSE),0)","v":0},{"$f":"IFERROR(VLOOKUP(AY18,MATCHSELEVES!$Y$14:$AG$600,9,FALSE),0)","v":0},"Faoulat_7",{"$f":"IFERROR(VLOOKUP(BE18,MATCHSELEVES!$Y$14:$AE$600,3,FALSE),0)","v":0},{"$f":"IFERROR(VLOOKUP(BE18,MATCHSELEVES!$Y$14:$AE$600,4,FALSE),0)","v":0},{"$f":"IFERROR(VLOOKUP(BE18,MATCHSELEVES!$Y$14:$AE$600,5,FALSE),0)","v":0},{"$f":"IFERROR(VLOOKUP(BE18,MATCHSELEVES!$Y$14:$AF$600,8,FALSE),0)","v":0},{"$f":"IFERROR(VLOOKUP(BE18,MATCHSELEVES!$Y$14:$AG$600,9,FALSE),0)","v":0},"Faoulat_8",{"$f":"IFERROR(VLOOKUP(BK18,MATCHSELEVES!$Y$14:$AE$600,3,FALSE),0)","v":0},{"$f":"IFERROR(VLOOKUP(BK18,MATCHSELEVES!$Y$14:$AE$600,4,FALSE),0)","v":0},{"$f":"IFERROR(VLOOKUP(BK18,MATCHSELEVES!$Y$14:$AE$600,5,FALSE),0)","v":0},{"$f":"IFERROR(VLOOKUP(BK18,MATCHSELEVES!$Y$14:$AF$600,8,FALSE),0)","v":0},{"$f":"IFERROR(VLOOKUP(BK18,MATCHSELEVES!$Y$14:$AG$600,9,FALSE),0)","v":0},"Faoulat_9",{"$f":"IFERROR(VLOOKUP(BQ18,MATCHSELEVES!$Y$14:$AE$600,3,FALSE),0)","v":0},{"$f":"IFERROR(VLOOKUP(BQ18,MATCHSELEVES!$Y$14:$AE$600,4,FALSE),0)","v":0},{"$f":"IFERROR(VLOOKUP(BQ18,MATCHSELEVES!$Y$14:$AE$600,5,FALSE),0)","v":0},{"$f":"IFERROR(VLOOKUP(BQ18,MATCHSELEVES!$Y$14:$AF$600,8,FALSE),0)","v":0},{"$f":"IFERROR(VLOOKUP(BQ18,MATCHSELEVES!$Y$14:$AG$600,9,FALSE),0)","v":0},"Faoulat_10",{"$f":"IFERROR(VLOOKUP(BW18,MATCHSELEVES!$Y$14:$AE$600,3,FALSE),0)","v":0},{"$f":"IFERROR(VLOOKUP(BW18,MATCHSELEVES!$Y$14:$AE$600,4,FALSE),0)","v":0},{"$f":"IFERROR(VLOOKUP(BW18,MATCHSELEVES!$Y$14:$AE$600,5,FALSE),0)","v":0},{"$f":"IFERROR(VLOOKUP(BW18,MATCHSELEVES!$Y$14:$AF$600,8,FALSE),0)","v":0},{"$f":"IFERROR(VLOOKUP(BW18,MATCHSELEVES!$Y$14:$AG$600,9,FALSE),0)","v":0},"Faoulat_11",{"$f":"IFERROR(VLOOKUP(CC18,MATCHSELEVES!$Y$14:$AE$600,3,FALSE),0)","v":0},{"$f":"IFERROR(VLOOKUP(CC18,MATCHSELEVES!$Y$14:$AE$600,4,FALSE),0)","v":0},{"$f":"IFERROR(VLOOKUP(CC18,MATCHSELEVES!$Y$14:$AE$600,5,FALSE),0)","v":0},{"$f":"IFERROR(VLOOKUP(CC18,MATCHSELEVES!$Y$14:$AF$600,8,FALSE),0)","v":0},{"$f":"IFERROR(VLOOKUP(CC18,MATCHSELEVES!$Y$14:$AG$600,9,FALSE),0)","v":0},"Faoulat_12",{"$f":"IFERROR(VLOOKUP(CI18,MATCHSELEVES!$Y$14:$AE$600,3,FALSE),0)","v":0},{"$f":"IFERROR(VLOOKUP(CI18,MATCHSELEVES!$Y$14:$AE$600,4,FALSE),0)","v":0},{"$f":"IFERROR(VLOOKUP(CI18,MATCHSELEVES!$Y$14:$AE$600,5,FALSE),0)","v":0},{"$f":"IFERROR(VLOOKUP(CI18,MATCHSELEVES!$Y$14:$AF$600,8,FALSE),0)","v":0},{"$f":"IFERROR(VLOOKUP(CI18,MATCHSELEVES!$Y$14:$AG$600,9,FALSE),0)","v":0},"Faoulat_13",{"$f":"IFERROR(VLOOKUP(CO18,MATCHSELEVES!$Y$14:$AE$600,3,FALSE),0)","v":0},{"$f":"IFERROR(VLOOKUP(CO18,MATCHSELEVES!$Y$14:$AE$600,4,FALSE),0)","v":0},{"$f":"IFERROR(VLOOKUP(CO18,MATCHSELEVES!$Y$14:$AE$600,5,FALSE),0)","v":0},{"$f":"IFERROR(VLOOKUP(CO18,MATCHSELEVES!$Y$14:$AF$600,8,FALSE),0)","v":0},{"$f":"IFERROR(VLOOKUP(CO18,MATCHSELEVES!$Y$14:$AG$600,9,FALSE),0)","v":0},"Faoulat_14",{"$f":"IFERROR(VLOOKUP(CU18,MATCHSELEVES!$Y$14:$AE$600,3,FALSE),0)","v":0},{"$f":"IFERROR(VLOOKUP(CU18,MATCHSELEVES!$Y$14:$AE$600,4,FALSE),0)","v":0},{"$f":"IFERROR(VLOOKUP(CU18,MATCHSELEVES!$Y$14:$AE$600,5,FALSE),0)","v":0},{"$f":"IFERROR(VLOOKUP(CU18,MATCHSELEVES!$Y$14:$AF$600,8,FALSE),0)","v":0},{"$f":"IFERROR(VLOOKUP(CU18,MATCHSELEVES!$Y$14:$AG$600,9,FALSE),0)","v":0},"Faoulat_15",{"$f":"IFERROR(VLOOKUP(DA18,MATCHSELEVES!$Y$14:$AE$600,3,FALSE),0)","v":0},{"$f":"IFERROR(VLOOKUP(DA18,MATCHSELEVES!$Y$14:$AE$600,4,FALSE),0)","v":0},{"$f":"IFERROR(VLOOKUP(DA18,MATCHSELEVES!$Y$14:$AE$600,5,FALSE),0)","v":0},{"$f":"IFERROR(VLOOKUP(DA18,MATCHSELEVES!$Y$14:$AF$600,8,FALSE),0)","v":0},{"$f":"IFERROR(VLOOKUP(DA18,MATCHSELEVES!$Y$14:$AG$600,9,FALSE),0)","v":0},"Faoulat_16",{"$f":"IFERROR(VLOOKUP(DG18,MATCHSELEVES!$Y$14:$AE$600,3,FALSE),0)","v":0},{"$f":"IFERROR(VLOOKUP(DG18,MATCHSELEVES!$Y$14:$AE$600,4,FALSE),0)","v":0},{"$f":"IFERROR(VLOOKUP(DG18,MATCHSELEVES!$Y$14:$AE$600,5,FALSE),0)","v":0},{"$f":"IFERROR(VLOOKUP(DG18,MATCHSELEVES!$Y$14:$AF$600,8,FALSE),0)","v":0},{"$f":"IFERROR(VLOOKUP(DG18,MATCHSELEVES!$Y$14:$AG$600,9,FALSE),0)","v":0},"Faoulat_17",{"$f":"IFERROR(VLOOKUP(DM18,MATCHSELEVES!$Y$14:$AE$600,3,FALSE),0)","v":0},{"$f":"IFERROR(VLOOKUP(DM18,MATCHSELEVES!$Y$14:$AE$600,4,FALSE),0)","v":0},{"$f":"IFERROR(VLOOKUP(DM18,MATCHSELEVES!$Y$14:$AE$600,5,FALSE),0)","v":0},{"$f":"IFERROR(VLOOKUP(DM18,MATCHSELEVES!$Y$14:$AF$600,8,FALSE),0)","v":0},{"$f":"IFERROR(VLOOKUP(DM18,MATCHSELEVES!$Y$14:$AG$600,9,FALSE),0)","v":0},"Faoulat_18",{"$f":"IFERROR(VLOOKUP(DS18,MATCHSELEVES!$Y$14:$AE$600,3,FALSE),0)","v":0},{"$f":"IFERROR(VLOOKUP(DS18,MATCHSELEVES!$Y$14:$AE$600,4,FALSE),0)","v":0},{"$f":"IFERROR(VLOOKUP(DS18,MATCHSELEVES!$Y$14:$AE$600,5,FALSE),0)","v":0},{"$f":"IFERROR(VLOOKUP(DS18,MATCHSELEVES!$Y$14:$AF$600,8,FALSE),0)","v":0},{"$f":"IFERROR(VLOOKUP(DS18,MATCHSELEVES!$Y$14:$AG$600,9,FALSE),0)","v":0},"Faoulat_19",{"$f":"IFERROR(VLOOKUP(DY18,MATCHSELEVES!$Y$14:$AE$600,3,FALSE),0)","v":0},{"$f":"IFERROR(VLOOKUP(DY18,MATCHSELEVES!$Y$14:$AE$600,4,FALSE),0)","v":0},{"$f":"IFERROR(VLOOKUP(DY18,MATCHSELEVES!$Y$14:$AE$600,5,FALSE),0)","v":0},{"$f":"IFERROR(VLOOKUP(DY18,MATCHSELEVES!$Y$14:$AF$600,8,FALSE),0)","v":0},{"$f":"IFERROR(VLOOKUP(DY18,MATCHSELEVES!$Y$14:$AG$600,9,FALSE),0)","v":0},"Faoulat_20",{"$f":"IFERROR(VLOOKUP(EE18,MATCHSELEVES!$Y$14:$AE$600,3,FALSE),0)","v":0},{"$f":"IFERROR(VLOOKUP(EE18,MATCHSELEVES!$Y$14:$AE$600,4,FALSE),0)","v":0},{"$f":"IFERROR(VLOOKUP(EE18,MATCHSELEVES!$Y$14:$AE$600,5,FALSE),0)","v":0},{"$f":"IFERROR(VLOOKUP(EE18,MATCHSELEVES!$Y$14:$AF$600,8,FALSE),0)","v":0},{"$f":"IFERROR(VLOOKUP(EE18,MATCHSELEVES!$Y$14:$AG$600,9,FALSE),0)","v":0},"Faoulat_21",{"$f":"IFERROR(VLOOKUP(EK18,MATCHSELEVES!$Y$14:$AE$600,3,FALSE),0)","v":0},{"$f":"IFERROR(VLOOKUP(EK18,MATCHSELEVES!$Y$14:$AE$600,4,FALSE),0)","v":0},{"$f":"IFERROR(VLOOKUP(EK18,MATCHSELEVES!$Y$14:$AE$600,5,FALSE),0)","v":0},{"$f":"IFERROR(VLOOKUP(EK18,MATCHSELEVES!$Y$14:$AF$600,8,FALSE),0)","v":0},{"$f":"IFERROR(VLOOKUP(EK18,MATCHSELEVES!$Y$14:$AG$600,9,FALSE),0)","v":0},"Faoulat_22",{"$f":"IFERROR(VLOOKUP(EQ18,MATCHSELEVES!$Y$14:$AE$600,3,FALSE),0)","v":0},{"$f":"IFERROR(VLOOKUP(EQ18,MATCHSELEVES!$Y$14:$AE$600,4,FALSE),0)","v":0},{"$f":"IFERROR(VLOOKUP(EQ18,MATCHSELEVES!$Y$14:$AE$600,5,FALSE),0)","v":0},{"$f":"IFERROR(VLOOKUP(EQ18,MATCHSELEVES!$Y$14:$AF$600,8,FALSE),0)","v":0},{"$f":"IFERROR(VLOOKUP(EQ18,MATCHSELEVES!$Y$14:$AG$600,9,FALSE),0)","v":0},"Faoulat_23",{"$f":"IFERROR(VLOOKUP(EW18,MATCHSELEVES!$Y$14:$AE$600,3,FALSE),0)","v":0},{"$f":"IFERROR(VLOOKUP(EW18,MATCHSELEVES!$Y$14:$AE$600,4,FALSE),0)","v":0},{"$f":"IFERROR(VLOOKUP(EW18,MATCHSELEVES!$Y$14:$AE$600,5,FALSE),0)","v":0},{"$f":"IFERROR(VLOOKUP(EW18,MATCHSELEVES!$Y$14:$AF$600,8,FALSE),0)","v":0},{"$f":"IFERROR(VLOOKUP(EW18,MATCHSELEVES!$Y$14:$AG$600,9,FALSE),0)","v":0},"Faoulat_24",{"$f":"IFERROR(VLOOKUP(FC18,MATCHSELEVES!$Y$14:$AE$600,3,FALSE),0)","v":0},{"$f":"IFERROR(VLOOKUP(FC18,MATCHSELEVES!$Y$14:$AE$600,4,FALSE),0)","v":0},{"$f":"IFERROR(VLOOKUP(FC18,MATCHSELEVES!$Y$14:$AE$600,5,FALSE),0)","v":0},{"$f":"IFERROR(VLOOKUP(FC18,MATCHSELEVES!$Y$14:$AF$600,8,FALSE),0)","v":0},{"$f":"IFERROR(VLOOKUP(FC18,MATCHSELEVES!$Y$14:$AG$600,9,FALSE),0)","v":0},"Faoulat_25",{"$f":"IFERROR(VLOOKUP(FI18,MATCHSELEVES!$Y$14:$AE$600,3,FALSE),0)","v":0},{"$f":"IFERROR(VLOOKUP(FI18,MATCHSELEVES!$Y$14:$AE$600,4,FALSE),0)","v":0},{"$f":"IFERROR(VLOOKUP(FI18,MATCHSELEVES!$Y$14:$AE$600,5,FALSE),0)","v":0},{"$f":"IFERROR(VLOOKUP(FI18,MATCHSELEVES!$Y$14:$AF$600,8,FALSE),0)","v":0},{"$f":"IFERROR(VLOOKUP(FI18,MATCHSELEVES!$Y$14:$AG$600,9,FALSE),0)","v":0},"Faoulat_26",{"$f":"IFERROR(VLOOKUP(FO18,MATCHSELEVES!$Y$14:$AE$600,3,FALSE),0)","v":0},{"$f":"IFERROR(VLOOKUP(FO18,MATCHSELEVES!$Y$14:$AE$600,4,FALSE),0)","v":0},{"$f":"IFERROR(VLOOKUP(FO18,MATCHSELEVES!$Y$14:$AE$600,5,FALSE),0)","v":0},{"$f":"IFERROR(VLOOKUP(FO18,MATCHSELEVES!$Y$14:$AF$600,8,FALSE),0)","v":0},{"$f":"IFERROR(VLOOKUP(FO18,MATCHSELEVES!$Y$14:$AG$600,9,FALSE),0)","v":0},"Faoulat_27",{"$f":"IFERROR(VLOOKUP(FU18,MATCHSELEVES!$Y$14:$AE$600,3,FALSE),0)","v":0},{"$f":"IFERROR(VLOOKUP(FU18,MATCHSELEVES!$Y$14:$AE$600,4,FALSE),0)","v":0},{"$f":"IFERROR(VLOOKUP(FU18,MATCHSELEVES!$Y$14:$AE$600,5,FALSE),0)","v":0},{"$f":"IFERROR(VLOOKUP(FU18,MATCHSELEVES!$Y$14:$AF$600,8,FALSE),0)","v":0},{"$f":"IFERROR(VLOOKUP(FU18,MATCHSELEVES!$Y$14:$AG$600,9,FALSE),0)","v":0},"Faoulat_28",{"$f":"IFERROR(VLOOKUP(GA18,MATCHSELEVES!$Y$14:$AE$600,3,FALSE),0)","v":0},{"$f":"IFERROR(VLOOKUP(GA18,MATCHSELEVES!$Y$14:$AE$600,4,FALSE),0)","v":0},{"$f":"IFERROR(VLOOKUP(GA18,MATCHSELEVES!$Y$14:$AE$600,5,FALSE),0)","v":0},{"$f":"IFERROR(VLOOKUP(GA18,MATCHSELEVES!$Y$14:$AF$600,8,FALSE),0)","v":0},{"$f":"IFERROR(VLOOKUP(GA18,MATCHSELEVES!$Y$14:$AG$600,9,FALSE),0)","v":0},"Faoulat_29",{"$f":"IFERROR(VLOOKUP(GG18,MATCHSELEVES!$Y$14:$AE$600,3,FALSE),0)","v":0},{"$f":"IFERROR(VLOOKUP(GG18,MATCHSELEVES!$Y$14:$AE$600,4,FALSE),0)","v":0},{"$f":"IFERROR(VLOOKUP(GG18,MATCHSELEVES!$Y$14:$AE$600,5,FALSE),0)","v":0},{"$f":"IFERROR(VLOOKUP(GG18,MATCHSELEVES!$Y$14:$AF$600,8,FALSE),0)","v":0},{"$f":"IFERROR(VLOOKUP(GG18,MATCHSELEVES!$Y$14:$AG$600,9,FALSE),0)","v":0},"Faoulat_30",{"$f":"IFERROR(VLOOKUP(GM18,MATCHSELEVES!$Y$14:$AE$600,3,FALSE),0)","v":0},{"$f":"IFERROR(VLOOKUP(GM18,MATCHSELEVES!$Y$14:$AE$600,4,FALSE),0)","v":0},{"$f":"IFERROR(VLOOKUP(GM18,MATCHSELEVES!$Y$14:$AE$600,5,FALSE),0)","v":0},{"$f":"IFERROR(VLOOKUP(GM18,MATCHSELEVES!$Y$14:$AF$600,8,FALSE),0)","v":0},{"$f":"IFERROR(VLOOKUP(GM18,MATCHSELEVES!$Y$14:$AG$600,9,FALSE),0)","v":0},"Faoulat_31",{"$f":"IFERROR(VLOOKUP(GS18,MATCHSELEVES!$Y$14:$AE$600,3,FALSE),0)","v":0},{"$f":"IFERROR(VLOOKUP(GS18,MATCHSELEVES!$Y$14:$AE$600,4,FALSE),0)","v":0},{"$f":"IFERROR(VLOOKUP(GS18,MATCHSELEVES!$Y$14:$AE$600,5,FALSE),0)","v":0},{"$f":"IFERROR(VLOOKUP(GS18,MATCHSELEVES!$Y$14:$AF$600,8,FALSE),0)","v":0},{"$f":"IFERROR(VLOOKUP(GS18,MATCHSELEVES!$Y$14:$AG$600,9,FALSE),0)","v":0},"Faoulat_32",{"$f":"IFERROR(VLOOKUP(GY18,MATCHSELEVES!$Y$14:$AE$600,3,FALSE),0)","v":0},{"$f":"IFERROR(VLOOKUP(GY18,MATCHSELEVES!$Y$14:$AE$600,4,FALSE),0)","v":0},{"$f":"IFERROR(VLOOKUP(GY18,MATCHSELEVES!$Y$14:$AE$600,5,FALSE),0)","v":0},{"$f":"IFERROR(VLOOKUP(GY18,MATCHSELEVES!$Y$14:$AF$600,8,FALSE),0)","v":0},{"$f":"IFERROR(VLOOKUP(GY18,MATCHSELEVES!$Y$14:$AG$600,9,FALSE),0)","v":0},"Faoulat_33",{"$f":"IFERROR(VLOOKUP(HE18,MATCHSELEVES!$Y$14:$AE$600,3,FALSE),0)","v":0},{"$f":"IFERROR(VLOOKUP(HE18,MATCHSELEVES!$Y$14:$AE$600,4,FALSE),0)","v":0},{"$f":"IFERROR(VLOOKUP(HE18,MATCHSELEVES!$Y$14:$AE$600,5,FALSE),0)","v":0},{"$f":"IFERROR(VLOOKUP(HE18,MATCHSELEVES!$Y$14:$AF$600,8,FALSE),0)","v":0},{"$f":"IFERROR(VLOOKUP(HE18,MATCHSELEVES!$Y$14:$AG$600,9,FALSE),0)","v":0},"Faoulat_34",{"$f":"IFERROR(VLOOKUP(HK18,MATCHSELEVES!$Y$14:$AE$600,3,FALSE),0)","v":0},{"$f":"IFERROR(VLOOKUP(HK18,MATCHSELEVES!$Y$14:$AE$600,4,FALSE),0)","v":0},{"$f":"IFERROR(VLOOKUP(HK18,MATCHSELEVES!$Y$14:$AE$600,5,FALSE),0)","v":0},{"$f":"IFERROR(VLOOKUP(HK18,MATCHSELEVES!$Y$14:$AF$600,8,FALSE),0)","v":0},{"$f":"IFERROR(VLOOKUP(HK18,MATCHSELEVES!$Y$14:$AG$600,9,FALSE),0)","v":0},"Faoulat_35",{"$f":"IFERROR(VLOOKUP(HQ18,MATCHSELEVES!$Y$14:$AE$600,3,FALSE),0)","v":0},{"$f":"IFERROR(VLOOKUP(HQ18,MATCHSELEVES!$Y$14:$AE$600,4,FALSE),0)","v":0},{"$f":"IFERROR(VLOOKUP(HQ18,MATCHSELEVES!$Y$14:$AE$600,5,FALSE),0)","v":0},{"$f":"IFERROR(VLOOKUP(HQ18,MATCHSELEVES!$Y$14:$AF$600,8,FALSE),0)","v":0},{"$f":"IFERROR(VLOOKUP(HQ18,MATCHSELEVES!$Y$14:$AG$600,9,FALSE),0)","v":0},"Faoulat_36",{"$f":"IFERROR(VLOOKUP(HW18,MATCHSELEVES!$Y$14:$AE$600,3,FALSE),0)","v":0},{"$f":"IFERROR(VLOOKUP(HW18,MATCHSELEVES!$Y$14:$AE$600,4,FALSE),0)","v":0},{"$f":"IFERROR(VLOOKUP(HW18,MATCHSELEVES!$Y$14:$AE$600,5,FALSE),0)","v":0},{"$f":"IFERROR(VLOOKUP(HW18,MATCHSELEVES!$Y$14:$AF$600,8,FALSE),0)","v":0},{"$f":"IFERROR(VLOOKUP(HW18,MATCHSELEVES!$Y$14:$AG$600,9,FALSE),0)","v":0},"Faoulat_37",{"$f":"IFERROR(VLOOKUP(IC18,MATCHSELEVES!$Y$14:$AE$600,3,FALSE),0)","v":0},{"$f":"IFERROR(VLOOKUP(IC18,MATCHSELEVES!$Y$14:$AE$600,4,FALSE),0)","v":0},{"$f":"IFERROR(VLOOKUP(IC18,MATCHSELEVES!$Y$14:$AE$600,5,FALSE),0)","v":0},{"$f":"IFERROR(VLOOKUP(IC18,MATCHSELEVES!$Y$14:$AF$600,8,FALSE),0)","v":0},{"$f":"IFERROR(VLOOKUP(IC18,MATCHSELEVES!$Y$14:$AG$600,9,FALSE),0)","v":0},"Faoulat_38",{"$f":"IFERROR(VLOOKUP(II18,MATCHSELEVES!$Y$14:$AE$600,3,FALSE),0)","v":0},{"$f":"IFERROR(VLOOKUP(II18,MATCHSELEVES!$Y$14:$AE$600,4,FALSE),0)","v":0},{"$f":"IFERROR(VLOOKUP(II18,MATCHSELEVES!$Y$14:$AE$600,5,FALSE),0)","v":0},{"$f":"IFERROR(VLOOKUP(II18,MATCHSELEVES!$Y$14:$AF$600,8,FALSE),0)","v":0},{"$f":"IFERROR(VLOOKUP(II18,MATCHSELEVES!$Y$14:$AG$600,9,FALSE),0)","v":0},"Faoulat_39",{"$f":"IFERROR(VLOOKUP(IO18,MATCHSELEVES!$Y$14:$AE$600,3,FALSE),0)","v":0},{"$f":"IFERROR(VLOOKUP(IO18,MATCHSELEVES!$Y$14:$AE$600,4,FALSE),0)","v":0},{"$f":"IFERROR(VLOOKUP(IO18,MATCHSELEVES!$Y$14:$AE$600,5,FALSE),0)","v":0},{"$f":"IFERROR(VLOOKUP(IO18,MATCHSELEVES!$Y$14:$AF$600,8,FALSE),0)","v":0},{"$f":"IFERROR(VLOOKUP(IO18,MATCHSELEVES!$Y$14:$AG$600,9,FALSE),0)","v":0},"Faoulat_40",{"$f":"IFERROR(VLOOKUP(IU18,MATCHSELEVES!$Y$14:$AE$600,3,FALSE),0)","v":0},{"$f":"IFERROR(VLOOKUP(IU18,MATCHSELEVES!$Y$14:$AE$600,4,FALSE),0)","v":0},{"$f":"IFERROR(VLOOKUP(IU18,MATCHSELEVES!$Y$14:$AE$600,5,FALSE),0)","v":0},{"$f":"IFERROR(VLOOKUP(IU18,MATCHSELEVES!$Y$14:$AF$600,8,FALSE),0)","v":0},{"$f":"IFERROR(VLOOKUP(IU18,MATCHSELEVES!$Y$14:$AG$600,9,FALSE),0)","v":0},"Faoulatp_1",{"$f":"IFERROR(VLOOKUP(JA18,MATCHSELEVES!$Y$14:$AE$600,3,FALSE),0)","v":0},{"$f":"IFERROR(VLOOKUP(JA18,MATCHSELEVES!$Y$14:$AE$600,4,FALSE),0)","v":0},{"$f":"IFERROR(VLOOKUP(JA18,MATCHSELEVES!$Y$14:$AE$600,5,FALSE),0)","v":0},{"$f":"IFERROR(VLOOKUP(JA18,MATCHSELEVES!$Y$14:$AF$600,8,FALSE),0)","v":0},{"$f":"IFERROR(VLOOKUP(JA18,MATCHSELEVES!$Y$14:$AG$600,9,FALSE),0)","v":0},"Faoulatp_2",{"$f":"IFERROR(VLOOKUP(JG18,MATCHSELEVES!$Y$14:$AE$600,3,FALSE),0)","v":0},{"$f":"IFERROR(VLOOKUP(JG18,MATCHSELEVES!$Y$14:$AE$600,4,FALSE),0)","v":0},{"$f":"IFERROR(VLOOKUP(JG18,MATCHSELEVES!$Y$14:$AE$600,5,FALSE),0)","v":0},{"$f":"IFERROR(VLOOKUP(JG18,MATCHSELEVES!$Y$14:$AF$600,8,FALSE),0)","v":0},{"$f":"IFERROR(VLOOKUP(JG18,MATCHSELEVES!$Y$14:$AG$600,9,FALSE),0)","v":0},"Faoulatp_3",{"$f":"IFERROR(VLOOKUP(JM18,MATCHSELEVES!$Y$14:$AE$600,3,FALSE),0)","v":0},{"$f":"IFERROR(VLOOKUP(JM18,MATCHSELEVES!$Y$14:$AE$600,4,FALSE),0)","v":0},{"$f":"IFERROR(VLOOKUP(JM18,MATCHSELEVES!$Y$14:$AE$600,5,FALSE),0)","v":0},{"$f":"IFERROR(VLOOKUP(JM18,MATCHSELEVES!$Y$14:$AF$600,8,FALSE),0)","v":0},{"$f":"IFERROR(VLOOKUP(JM18,MATCHSELEVES!$Y$14:$AG$600,9,FALSE),0)","v":0},"Faoulatp_4",{"$f":"IFERROR(VLOOKUP(JS18,MATCHSELEVES!$Y$14:$AE$600,3,FALSE),0)","v":0},{"$f":"IFERROR(VLOOKUP(JS18,MATCHSELEVES!$Y$14:$AE$600,4,FALSE),0)","v":0},{"$f":"IFERROR(VLOOKUP(JS18,MATCHSELEVES!$Y$14:$AE$600,5,FALSE),0)","v":0},{"$f":"IFERROR(VLOOKUP(JS18,MATCHSELEVES!$Y$14:$AF$600,8,FALSE),0)","v":0},{"$f":"IFERROR(VLOOKUP(JS18,MATCHSELEVES!$Y$14:$AG$600,9,FALSE),0)","v":0},"Faoulatp_5",{"$f":"IFERROR(VLOOKUP(JY18,MATCHSELEVES!$Y$14:$AE$600,3,FALSE),0)","v":0},{"$f":"IFERROR(VLOOKUP(JY18,MATCHSELEVES!$Y$14:$AE$600,4,FALSE),0)","v":0},{"$f":"IFERROR(VLOOKUP(JY18,MATCHSELEVES!$Y$14:$AE$600,5,FALSE),0)","v":0},{"$f":"IFERROR(VLOOKUP(JY18,MATCHSELEVES!$Y$14:$AF$600,8,FALSE),0)","v":0},{"$f":"IFERROR(VLOOKUP(JY18,MATCHSELEVES!$Y$14:$AG$600,9,FALSE),0)","v":0},"Faoulatp_6",{"$f":"IFERROR(VLOOKUP(KE18,MATCHSELEVES!$Y$14:$AE$600,3,FALSE),0)","v":0},{"$f":"IFERROR(VLOOKUP(KE18,MATCHSELEVES!$Y$14:$AE$600,4,FALSE),0)","v":0},{"$f":"IFERROR(VLOOKUP(KE18,MATCHSELEVES!$Y$14:$AE$600,5,FALSE),0)","v":0},{"$f":"IFERROR(VLOOKUP(KE18,MATCHSELEVES!$Y$14:$AF$600,8,FALSE),0)","v":0},{"$f":"IFERROR(VLOOKUP(KE18,MATCHSELEVES!$Y$14:$AG$600,9,FALSE),0)","v":0},"Faoulatp_7",{"$f":"IFERROR(VLOOKUP(KK18,MATCHSELEVES!$Y$14:$AE$600,3,FALSE),0)","v":0},{"$f":"IFERROR(VLOOKUP(KK18,MATCHSELEVES!$Y$14:$AE$600,4,FALSE),0)","v":0},{"$f":"IFERROR(VLOOKUP(KK18,MATCHSELEVES!$Y$14:$AE$600,5,FALSE),0)","v":0},{"$f":"IFERROR(VLOOKUP(KK18,MATCHSELEVES!$Y$14:$AF$600,8,FALSE),0)","v":0},{"$f":"IFERROR(VLOOKUP(KK18,MATCHSELEVES!$Y$14:$AG$600,9,FALSE),0)","v":0},"Faoulatp_8",{"$f":"IFERROR(VLOOKUP(KQ18,MATCHSELEVES!$Y$14:$AE$600,3,FALSE),0)","v":0},{"$f":"IFERROR(VLOOKUP(KQ18,MATCHSELEVES!$Y$14:$AE$600,4,FALSE),0)","v":0},{"$f":"IFERROR(VLOOKUP(KQ18,MATCHSELEVES!$Y$14:$AE$600,5,FALSE),0)","v":0},{"$f":"IFERROR(VLOOKUP(KQ18,MATCHSELEVES!$Y$14:$AF$600,8,FALSE),0)","v":0},{"$f":"IFERROR(VLOOKUP(KQ18,MATCHSELEVES!$Y$14:$AG$600,9,FALSE),0)","v":0},"Faoulatp_9",{"$f":"IFERROR(VLOOKUP(KW18,MATCHSELEVES!$Y$14:$AE$600,3,FALSE),0)","v":0},{"$f":"IFERROR(VLOOKUP(KW18,MATCHSELEVES!$Y$14:$AE$600,4,FALSE),0)","v":0},{"$f":"IFERROR(VLOOKUP(KW18,MATCHSELEVES!$Y$14:$AE$600,5,FALSE),0)","v":0},{"$f":"IFERROR(VLOOKUP(KW18,MATCHSELEVES!$Y$14:$AF$600,8,FALSE),0)","v":0},{"$f":"IFERROR(VLOOKUP(KW18,MATCHSELEVES!$Y$14:$AG$600,9,FALSE),0)","v":0},"Faoulatp_10",{"$f":"IFERROR(VLOOKUP(LC18,MATCHSELEVES!$Y$14:$AE$600,3,FALSE),0)","v":0},{"$f":"IFERROR(VLOOKUP(LC18,MATCHSELEVES!$Y$14:$AE$600,4,FALSE),0)","v":0},{"$f":"IFERROR(VLOOKUP(LC18,MATCHSELEVES!$Y$14:$AE$600,5,FALSE),0)","v":0},{"$f":"IFERROR(VLOOKUP(LC18,MATCHSELEVES!$Y$14:$AF$600,8,FALSE),0)","v":0},{"$f":"IFERROR(VLOOKUP(LC18,MATCHSELEVES!$Y$14:$AG$600,9,FALSE),0)","v":0},"Faoulatp_11",{"$f":"IFERROR(VLOOKUP(LI18,MATCHSELEVES!$Y$14:$AE$600,3,FALSE),0)","v":0},{"$f":"IFERROR(VLOOKUP(LI18,MATCHSELEVES!$Y$14:$AE$600,4,FALSE),0)","v":0},{"$f":"IFERROR(VLOOKUP(LI18,MATCHSELEVES!$Y$14:$AE$600,5,FALSE),0)","v":0},{"$f":"IFERROR(VLOOKUP(LI18,MATCHSELEVES!$Y$14:$AF$600,8,FALSE),0)","v":0},{"$f":"IFERROR(VLOOKUP(LI18,MATCHSELEVES!$Y$14:$AG$600,9,FALSE),0)","v":0},"Faoulatp_12",{"$f":"IFERROR(VLOOKUP(LO18,MATCHSELEVES!$Y$14:$AE$600,3,FALSE),0)","v":0},{"$f":"IFERROR(VLOOKUP(LO18,MATCHSELEVES!$Y$14:$AE$600,4,FALSE),0)","v":0},{"$f":"IFERROR(VLOOKUP(LO18,MATCHSELEVES!$Y$14:$AE$600,5,FALSE),0)","v":0},{"$f":"IFERROR(VLOOKUP(LO18,MATCHSELEVES!$Y$14:$AF$600,8,FALSE),0)","v":0},{"$f":"IFERROR(VLOOKUP(LO18,MATCHSELEVES!$Y$14:$AG$600,9,FALSE),0)","v":0},"Faoulatp_13",{"$f":"IFERROR(VLOOKUP(LU18,MATCHSELEVES!$Y$14:$AE$600,3,FALSE),0)","v":0},{"$f":"IFERROR(VLOOKUP(LU18,MATCHSELEVES!$Y$14:$AE$600,4,FALSE),0)","v":0},{"$f":"IFERROR(VLOOKUP(LU18,MATCHSELEVES!$Y$14:$AE$600,5,FALSE),0)","v":0},{"$f":"IFERROR(VLOOKUP(LU18,MATCHSELEVES!$Y$14:$AF$600,8,FALSE),0)","v":0},{"$f":"IFERROR(VLOOKUP(LU18,MATCHSELEVES!$Y$14:$AG$600,9,FALSE),0)","v":0},"Faoulatp_14",{"$f":"IFERROR(VLOOKUP(MA18,MATCHSELEVES!$Y$14:$AE$600,3,FALSE),0)","v":0},{"$f":"IFERROR(VLOOKUP(MA18,MATCHSELEVES!$Y$14:$AE$600,4,FALSE),0)","v":0},{"$f":"IFERROR(VLOOKUP(MA18,MATCHSELEVES!$Y$14:$AE$600,5,FALSE),0)","v":0},{"$f":"IFERROR(VLOOKUP(MA18,MATCHSELEVES!$Y$14:$AF$600,8,FALSE),0)","v":0},{"$f":"IFERROR(VLOOKUP(MA18,MATCHSELEVES!$Y$14:$AG$600,9,FALSE),0)","v":0},"Faoulatp_15",{"$f":"IFERROR(VLOOKUP(MG18,MATCHSELEVES!$Y$14:$AE$600,3,FALSE),0)","v":0},{"$f":"IFERROR(VLOOKUP(MG18,MATCHSELEVES!$Y$14:$AE$600,4,FALSE),0)","v":0},{"$f":"IFERROR(VLOOKUP(MG18,MATCHSELEVES!$Y$14:$AE$600,5,FALSE),0)","v":0},{"$f":"IFERROR(VLOOKUP(MG18,MATCHSELEVES!$Y$14:$AF$600,8,FALSE),0)","v":0},{"$f":"IFERROR(VLOOKUP(MG18,MATCHSELEVES!$Y$14:$AG$600,9,FALSE),0)","v":0},"Faoulatp_16",{"$f":"IFERROR(VLOOKUP(MM18,MATCHSELEVES!$Y$14:$AE$600,3,FALSE),0)","v":0},{"$f":"IFERROR(VLOOKUP(MM18,MATCHSELEVES!$Y$14:$AE$600,4,FALSE),0)","v":0},{"$f":"IFERROR(VLOOKUP(MM18,MATCHSELEVES!$Y$14:$AE$600,5,FALSE),0)","v":0},{"$f":"IFERROR(VLOOKUP(MM18,MATCHSELEVES!$Y$14:$AF$600,8,FALSE),0)","v":0},{"$f":"IFERROR(VLOOKUP(MM18,MATCHSELEVES!$Y$14:$AG$600,9,FALSE),0)","v":0},"Faoulatp_17",{"$f":"IFERROR(VLOOKUP(MS18,MATCHSELEVES!$Y$14:$AE$600,3,FALSE),0)","v":0},{"$f":"IFERROR(VLOOKUP(MS18,MATCHSELEVES!$Y$14:$AE$600,4,FALSE),0)","v":0},{"$f":"IFERROR(VLOOKUP(MS18,MATCHSELEVES!$Y$14:$AE$600,5,FALSE),0)","v":0},{"$f":"IFERROR(VLOOKUP(MS18,MATCHSELEVES!$Y$14:$AF$600,8,FALSE),0)","v":0},{"$f":"IFERROR(VLOOKUP(MS18,MATCHSELEVES!$Y$14:$AG$600,9,FALSE),0)","v":0},"Faoulatp_18",{"$f":"IFERROR(VLOOKUP(MY18,MATCHSELEVES!$Y$14:$AE$600,3,FALSE),0)","v":0},{"$f":"IFERROR(VLOOKUP(MY18,MATCHSELEVES!$Y$14:$AE$600,4,FALSE),0)","v":0},{"$f":"IFERROR(VLOOKUP(MY18,MATCHSELEVES!$Y$14:$AE$600,5,FALSE),0)","v":0},{"$f":"IFERROR(VLOOKUP(MY18,MATCHSELEVES!$Y$14:$AF$600,8,FALSE),0)","v":0},{"$f":"IFERROR(VLOOKUP(MY18,MATCHSELEVES!$Y$14:$AG$600,9,FALSE),0)","v":0},"Faoulatp_19",{"$f":"IFERROR(VLOOKUP(NE18,MATCHSELEVES!$Y$14:$AE$600,3,FALSE),0)","v":0},{"$f":"IFERROR(VLOOKUP(NE18,MATCHSELEVES!$Y$14:$AE$600,4,FALSE),0)","v":0},{"$f":"IFERROR(VLOOKUP(NE18,MATCHSELEVES!$Y$14:$AE$600,5,FALSE),0)","v":0},{"$f":"IFERROR(VLOOKUP(NE18,MATCHSELEVES!$Y$14:$AF$600,8,FALSE),0)","v":0},{"$f":"IFERROR(VLOOKUP(NE18,MATCHSELEVES!$Y$14:$AG$600,9,FALSE),0)","v":0},"Faoulatp_20",{"$f":"IFERROR(VLOOKUP(NK18,MATCHSELEVES!$Y$14:$AE$600,3,FALSE),0)","v":0},{"$f":"IFERROR(VLOOKUP(NK18,MATCHSELEVES!$Y$14:$AE$600,4,FALSE),0)","v":0},{"$f":"IFERROR(VLOOKUP(NK18,MATCHSELEVES!$Y$14:$AE$600,5,FALSE),0)","v":0},{"$f":"IFERROR(VLOOKUP(NK18,MATCHSELEVES!$Y$14:$AF$600,8,FALSE),0)","v":0},{"$f":"IFERROR(VLOOKUP(NK18,MATCHSELEVES!$Y$14:$AG$600,9,FALSE),0)","v":0},"Faoulatp_21",{"$f":"IFERROR(VLOOKUP(NQ18,MATCHSELEVES!$Y$14:$AE$600,3,FALSE),0)","v":0},{"$f":"IFERROR(VLOOKUP(NQ18,MATCHSELEVES!$Y$14:$AE$600,4,FALSE),0)","v":0},{"$f":"IFERROR(VLOOKUP(NQ18,MATCHSELEVES!$Y$14:$AE$600,5,FALSE),0)","v":0},{"$f":"IFERROR(VLOOKUP(NQ18,MATCHSELEVES!$Y$14:$AF$600,8,FALSE),0)","v":0},{"$f":"IFERROR(VLOOKUP(NQ18,MATCHSELEVES!$Y$14:$AG$600,9,FALSE),0)","v":0},"Faoulatp_22",{"$f":"IFERROR(VLOOKUP(NW18,MATCHSELEVES!$Y$14:$AE$600,3,FALSE),0)","v":0},{"$f":"IFERROR(VLOOKUP(NW18,MATCHSELEVES!$Y$14:$AE$600,4,FALSE),0)","v":0},{"$f":"IFERROR(VLOOKUP(NW18,MATCHSELEVES!$Y$14:$AE$600,5,FALSE),0)","v":0},{"$f":"IFERROR(VLOOKUP(NW18,MATCHSELEVES!$Y$14:$AF$600,8,FALSE),0)","v":0},{"$f":"IFERROR(VLOOKUP(NW18,MATCHSELEVES!$Y$14:$AG$600,9,FALSE),0)","v":0},"Faoulatp_23",{"$f":"IFERROR(VLOOKUP(OC18,MATCHSELEVES!$Y$14:$AE$600,3,FALSE),0)","v":0},{"$f":"IFERROR(VLOOKUP(OC18,MATCHSELEVES!$Y$14:$AE$600,4,FALSE),0)","v":0},{"$f":"IFERROR(VLOOKUP(OC18,MATCHSELEVES!$Y$14:$AE$600,5,FALSE),0)","v":0},{"$f":"IFERROR(VLOOKUP(OC18,MATCHSELEVES!$Y$14:$AF$600,8,FALSE),0)","v":0},{"$f":"IFERROR(VLOOKUP(OC18,MATCHSELEVES!$Y$14:$AG$600,9,FALSE),0)","v":0},"Faoulatp_24",{"$f":"IFERROR(VLOOKUP(OI18,MATCHSELEVES!$Y$14:$AE$600,3,FALSE),0)","v":0},{"$f":"IFERROR(VLOOKUP(OI18,MATCHSELEVES!$Y$14:$AE$600,4,FALSE),0)","v":0},{"$f":"IFERROR(VLOOKUP(OI18,MATCHSELEVES!$Y$14:$AE$600,5,FALSE),0)","v":0},{"$f":"IFERROR(VLOOKUP(OI18,MATCHSELEVES!$Y$14:$AF$600,8,FALSE),0)","v":0},{"$f":"IFERROR(VLOOKUP(OI18,MATCHSELEVES!$Y$14:$AG$600,9,FALSE),0)","v":0},"Faoulatp_25",{"$f":"IFERROR(VLOOKUP(OO18,MATCHSELEVES!$Y$14:$AE$600,3,FALSE),0)","v":0},{"$f":"IFERROR(VLOOKUP(OO18,MATCHSELEVES!$Y$14:$AE$600,4,FALSE),0)","v":0},{"$f":"IFERROR(VLOOKUP(OO18,MATCHSELEVES!$Y$14:$AE$600,5,FALSE),0)","v":0},{"$f":"IFERROR(VLOOKUP(OO18,MATCHSELEVES!$Y$14:$AF$600,8,FALSE),0)","v":0},{"$f":"IFERROR(VLOOKUP(OO18,MATCHSELEVES!$Y$14:$AG$600,9,FALSE),0)","v":0},"Faoulatp_26",{"$f":"IFERROR(VLOOKUP(OU18,MATCHSELEVES!$Y$14:$AE$600,3,FALSE),0)","v":0},{"$f":"IFERROR(VLOOKUP(OU18,MATCHSELEVES!$Y$14:$AE$600,4,FALSE),0)","v":0},{"$f":"IFERROR(VLOOKUP(OU18,MATCHSELEVES!$Y$14:$AE$600,5,FALSE),0)","v":0},{"$f":"IFERROR(VLOOKUP(OU18,MATCHSELEVES!$Y$14:$AF$600,8,FALSE),0)","v":0},{"$f":"IFERROR(VLOOKUP(OU18,MATCHSELEVES!$Y$14:$AG$600,9,FALSE),0)","v":0},"Faoulatp_27",{"$f":"IFERROR(VLOOKUP(PA18,MATCHSELEVES!$Y$14:$AE$600,3,FALSE),0)","v":0},{"$f":"IFERROR(VLOOKUP(PA18,MATCHSELEVES!$Y$14:$AE$600,4,FALSE),0)","v":0},{"$f":"IFERROR(VLOOKUP(PA18,MATCHSELEVES!$Y$14:$AE$600,5,FALSE),0)","v":0},{"$f":"IFERROR(VLOOKUP(PA18,MATCHSELEVES!$Y$14:$AF$600,8,FALSE),0)","v":0},{"$f":"IFERROR(VLOOKUP(PA18,MATCHSELEVES!$Y$14:$AG$600,9,FALSE),0)","v":0},"Faoulatp_28",{"$f":"IFERROR(VLOOKUP(PG18,MATCHSELEVES!$Y$14:$AE$600,3,FALSE),0)","v":0},{"$f":"IFERROR(VLOOKUP(PG18,MATCHSELEVES!$Y$14:$AE$600,4,FALSE),0)","v":0},{"$f":"IFERROR(VLOOKUP(PG18,MATCHSELEVES!$Y$14:$AE$600,5,FALSE),0)","v":0},{"$f":"IFERROR(VLOOKUP(PG18,MATCHSELEVES!$Y$14:$AF$600,8,FALSE),0)","v":0},{"$f":"IFERROR(VLOOKUP(PG18,MATCHSELEVES!$Y$14:$AG$600,9,FALSE),0)","v":0},"Faoulatp_29",{"$f":"IFERROR(VLOOKUP(PM18,MATCHSELEVES!$Y$14:$AE$600,3,FALSE),0)","v":0},{"$f":"IFERROR(VLOOKUP(PM18,MATCHSELEVES!$Y$14:$AE$600,4,FALSE),0)","v":0},{"$f":"IFERROR(VLOOKUP(PM18,MATCHSELEVES!$Y$14:$AE$600,5,FALSE),0)","v":0},{"$f":"IFERROR(VLOOKUP(PM18,MATCHSELEVES!$Y$14:$AF$600,8,FALSE),0)","v":0},{"$f":"IFERROR(VLOOKUP(PM18,MATCHSELEVES!$Y$14:$AG$600,9,FALSE),0)","v":0},"Faoulatp_30",{"$f":"IFERROR(VLOOKUP(PS18,MATCHSELEVES!$Y$14:$AE$600,3,FALSE),0)","v":0},{"$f":"IFERROR(VLOOKUP(PS18,MATCHSELEVES!$Y$14:$AE$600,4,FALSE),0)","v":0},{"$f":"IFERROR(VLOOKUP(PS18,MATCHSELEVES!$Y$14:$AE$600,5,FALSE),0)","v":0},{"$f":"IFERROR(VLOOKUP(PS18,MATCHSELEVES!$Y$14:$AF$600,8,FALSE),0)","v":0},{"$f":"IFERROR(VLOOKUP(PS18,MATCHSELEVES!$Y$14:$AG$600,9,FALSE),0)","v":0},"Faoulatp_31",{"$f":"IFERROR(VLOOKUP(PY18,MATCHSELEVES!$Y$14:$AE$600,3,FALSE),0)","v":0},{"$f":"IFERROR(VLOOKUP(PY18,MATCHSELEVES!$Y$14:$AE$600,4,FALSE),0)","v":0},{"$f":"IFERROR(VLOOKUP(PY18,MATCHSELEVES!$Y$14:$AE$600,5,FALSE),0)","v":0},{"$f":"IFERROR(VLOOKUP(PY18,MATCHSELEVES!$Y$14:$AF$600,8,FALSE),0)","v":0},{"$f":"IFERROR(VLOOKUP(PY18,MATCHSELEVES!$Y$14:$AG$600,9,FALSE),0)","v":0},"Faoulatp_32",{"$f":"IFERROR(VLOOKUP(QE18,MATCHSELEVES!$Y$14:$AE$600,3,FALSE),0)","v":0},{"$f":"IFERROR(VLOOKUP(QE18,MATCHSELEVES!$Y$14:$AE$600,4,FALSE),0)","v":0},{"$f":"IFERROR(VLOOKUP(QE18,MATCHSELEVES!$Y$14:$AE$600,5,FALSE),0)","v":0},{"$f":"IFERROR(VLOOKUP(QE18,MATCHSELEVES!$Y$14:$AF$600,8,FALSE),0)","v":0},{"$f":"IFERROR(VLOOKUP(QE18,MATCHSELEVES!$Y$14:$AG$600,9,FALSE),0)","v":0},"Faoulatp_33",{"$f":"IFERROR(VLOOKUP(QK18,MATCHSELEVES!$Y$14:$AE$600,3,FALSE),0)","v":0},{"$f":"IFERROR(VLOOKUP(QK18,MATCHSELEVES!$Y$14:$AE$600,4,FALSE),0)","v":0},{"$f":"IFERROR(VLOOKUP(QK18,MATCHSELEVES!$Y$14:$AE$600,5,FALSE),0)","v":0},{"$f":"IFERROR(VLOOKUP(QK18,MATCHSELEVES!$Y$14:$AF$600,8,FALSE),0)","v":0},{"$f":"IFERROR(VLOOKUP(QK18,MATCHSELEVES!$Y$14:$AG$600,9,FALSE),0)","v":0},"Faoulatp_34",{"$f":"IFERROR(VLOOKUP(QQ18,MATCHSELEVES!$Y$14:$AE$600,3,FALSE),0)","v":0},{"$f":"IFERROR(VLOOKUP(QQ18,MATCHSELEVES!$Y$14:$AE$600,4,FALSE),0)","v":0},{"$f":"IFERROR(VLOOKUP(QQ18,MATCHSELEVES!$Y$14:$AE$600,5,FALSE),0)","v":0},{"$f":"IFERROR(VLOOKUP(QQ18,MATCHSELEVES!$Y$14:$AF$600,8,FALSE),0)","v":0},{"$f":"IFERROR(VLOOKUP(QQ18,MATCHSELEVES!$Y$14:$AG$600,9,FALSE),0)","v":0},"Faoulatp_35",{"$f":"IFERROR(VLOOKUP(QW18,MATCHSELEVES!$Y$14:$AE$600,3,FALSE),0)","v":0},{"$f":"IFERROR(VLOOKUP(QW18,MATCHSELEVES!$Y$14:$AE$600,4,FALSE),0)","v":0},{"$f":"IFERROR(VLOOKUP(QW18,MATCHSELEVES!$Y$14:$AE$600,5,FALSE),0)","v":0},{"$f":"IFERROR(VLOOKUP(QW18,MATCHSELEVES!$Y$14:$AF$600,8,FALSE),0)","v":0},{"$f":"IFERROR(VLOOKUP(QW18,MATCHSELEVES!$Y$14:$AG$600,9,FALSE),0)","v":0},"Faoulatp_36",{"$f":"IFERROR(VLOOKUP(RC18,MATCHSELEVES!$Y$14:$AE$600,3,FALSE),0)","v":0},{"$f":"IFERROR(VLOOKUP(RC18,MATCHSELEVES!$Y$14:$AE$600,4,FALSE),0)","v":0},{"$f":"IFERROR(VLOOKUP(RC18,MATCHSELEVES!$Y$14:$AE$600,5,FALSE),0)","v":0},{"$f":"IFERROR(VLOOKUP(RC18,MATCHSELEVES!$Y$14:$AF$600,8,FALSE),0)","v":0},{"$f":"IFERROR(VLOOKUP(RC18,MATCHSELEVES!$Y$14:$AG$600,9,FALSE),0)","v":0},"Faoulatp_37",{"$f":"IFERROR(VLOOKUP(RI18,MATCHSELEVES!$Y$14:$AE$600,3,FALSE),0)","v":0},{"$f":"IFERROR(VLOOKUP(RI18,MATCHSELEVES!$Y$14:$AE$600,4,FALSE),0)","v":0},{"$f":"IFERROR(VLOOKUP(RI18,MATCHSELEVES!$Y$14:$AE$600,5,FALSE),0)","v":0},{"$f":"IFERROR(VLOOKUP(RI18,MATCHSELEVES!$Y$14:$AF$600,8,FALSE),0)","v":0},{"$f":"IFERROR(VLOOKUP(RI18,MATCHSELEVES!$Y$14:$AG$600,9,FALSE),0)","v":0},"Faoulatp_38",{"$f":"IFERROR(VLOOKUP(RO18,MATCHSELEVES!$Y$14:$AE$600,3,FALSE),0)","v":0},{"$f":"IFERROR(VLOOKUP(RO18,MATCHSELEVES!$Y$14:$AE$600,4,FALSE),0)","v":0},{"$f":"IFERROR(VLOOKUP(RO18,MATCHSELEVES!$Y$14:$AE$600,5,FALSE),0)","v":0},{"$f":"IFERROR(VLOOKUP(RO18,MATCHSELEVES!$Y$14:$AF$600,8,FALSE),0)","v":0},{"$f":"IFERROR(VLOOKUP(RO18,MATCHSELEVES!$Y$14:$AG$600,9,FALSE),0)","v":0},"Faoulatp_39",{"$f":"IFERROR(VLOOKUP(RU18,MATCHSELEVES!$Y$14:$AE$600,3,FALSE),0)","v":0},{"$f":"IFERROR(VLOOKUP(RU18,MATCHSELEVES!$Y$14:$AE$600,4,FALSE),0)","v":0},{"$f":"IFERROR(VLOOKUP(RU18,MATCHSELEVES!$Y$14:$AE$600,5,FALSE),0)","v":0},{"$f":"IFERROR(VLOOKUP(RU18,MATCHSELEVES!$Y$14:$AF$600,8,FALSE),0)","v":0},{"$f":"IFERROR(VLOOKUP(RU18,MATCHSELEVES!$Y$14:$AG$600,9,FALSE),0)","v":0},"Faoulatp_40",{"$f":"IFERROR(VLOOKUP(SA18,MATCHSELEVES!$Y$14:$AE$600,3,FALSE),0)","v":0},{"$f":"IFERROR(VLOOKUP(SA18,MATCHSELEVES!$Y$14:$AE$600,4,FALSE),0)","v":0},{"$f":"IFERROR(VLOOKUP(SA18,MATCHSELEVES!$Y$14:$AE$600,5,FALSE),0)","v":0},{"$f":"IFERROR(VLOOKUP(SA18,MATCHSELEVES!$Y$14:$AF$600,8,FALSE),0)","v":0},{"$f":"IFERROR(VLOOKUP(SA18,MATCHSELEVES!$Y$14:$AG$600,9,FALSE),0)","v":0}]
[16,null,"Hadidja",16,null,null,{"$f":"COUNTIF(MATCHSELEVES!$Z$14:$Z$600,C19)+COUNTIF(MATCHSELEVES!$Z$14:$Z$600,$C19&\"p\")","v":0},1,{"$f":"COUNTIF(MATCHSELEVES!$F$14:$H$249,C19)","v":0},1,0,1,{"$f":"IFERROR(M62/Tableau10[[#This Row],[Nombre de matchs joués]],0)","v":0},{"$f":"IF(Tableau10[[#This Row],[Nombre de points encaissés]]=0,$C$45,SUMPRODUCT((M$4:M$43<M19)*(M$4:M$43<>0))+1)","v":40},0,1,{"$f":"(Tableau10[[#This Row],[CLASSEMENT1]]+Tableau10[[#This Row],[CLASSEMENT2]]+Tableau10[[#This Row],[CLASSEMENT3]]+Tableau10[[#This Row],[CLASSEMENT4]]+Tableau10[[#This Row],[CLASSEMENT5]]+Tableau10[[#This Row],[CLASSEMENT6]])/6","v":10},{"$f":"RANK(Tableau10[[#This Row],[MOYENNE CLASSEMENTS]],Tableau10[MOYENNE CLASSEMENTS],1)","v":16},null,{"$f":"Tableau10[[#This Row],[CLASSEMENT1]]","v":16},"Hadidja_1",{"$f":"IFERROR(VLOOKUP(U19,MATCHSELEVES!$Y$14:$AE$600,3,FALSE),0)","v":0},{"$f":"IFERROR(VLOOKUP(U19,MATCHSELEVES!$Y$14:$AE$600,4,FALSE),0)","v":0},{"$f":"IFERROR(VLOOKUP(U19,MATCHSELEVES!$Y$14:$AE$600,5,FALSE),0)","v":0},{"$f":"IFERROR(VLOOKUP(U19,MATCHSELEVES!$Y$14:$AF$600,8,FALSE),0)","v":0},{"$f":"IFERROR(VLOOKUP(U19,MATCHSELEVES!$Y$14:$AG$600,9,FALSE),0)","v":0},"Hadidja_2",{"$f":"IFERROR(VLOOKUP(AA19,MATCHSELEVES!$Y$14:$AE$600,3,FALSE),0)","v":0},{"$f":"IFERROR(VLOOKUP(AA19,MATCHSELEVES!$Y$14:$AE$600,4,FALSE),0)","v":0},{"$f":"IFERROR(VLOOKUP(AA19,MATCHSELEVES!$Y$14:$AE$600,5,FALSE),0)","v":0},{"$f":"IFERROR(VLOOKUP(AA19,MATCHSELEVES!$Y$14:$AF$600,8,FALSE),0)","v":0},{"$f":"IFERROR(VLOOKUP(AA19,MATCHSELEVES!$Y$14:$AG$600,9,FALSE),0)","v":0},"Hadidja_3",{"$f":"IFERROR(VLOOKUP(AG19,MATCHSELEVES!$Y$14:$AE$600,3,FALSE),0)","v":0},{"$f":"IFERROR(VLOOKUP(AG19,MATCHSELEVES!$Y$14:$AE$600,4,FALSE),0)","v":0},{"$f":"IFERROR(VLOOKUP(AG19,MATCHSELEVES!$Y$14:$AE$600,5,FALSE),0)","v":0},{"$f":"IFERROR(VLOOKUP(AG19,MATCHSELEVES!$Y$14:$AF$600,8,FALSE),0)","v":0},{"$f":"IFERROR(VLOOKUP(AG19,MATCHSELEVES!$Y$14:$AG$600,9,FALSE),0)","v":0},"Hadidja_4",{"$f":"IFERROR(VLOOKUP(AM19,MATCHSELEVES!$Y$14:$AE$600,3,FALSE),0)","v":0},{"$f":"IFERROR(VLOOKUP(AM19,MATCHSELEVES!$Y$14:$AE$600,4,FALSE),0)","v":0},{"$f":"IFERROR(VLOOKUP(AM19,MATCHSELEVES!$Y$14:$AE$600,5,FALSE),0)","v":0},{"$f":"IFERROR(VLOOKUP(AM19,MATCHSELEVES!$Y$14:$AF$600,8,FALSE),0)","v":0},{"$f":"IFERROR(VLOOKUP(AM19,MATCHSELEVES!$Y$14:$AG$600,9,FALSE),0)","v":0},"Hadidja_5",{"$f":"IFERROR(VLOOKUP(AS19,MATCHSELEVES!$Y$14:$AE$600,3,FALSE),0)","v":0},{"$f":"IFERROR(VLOOKUP(AS19,MATCHSELEVES!$Y$14:$AE$600,4,FALSE),0)","v":0},{"$f":"IFERROR(VLOOKUP(AS19,MATCHSELEVES!$Y$14:$AE$600,5,FALSE),0)","v":0},{"$f":"IFERROR(VLOOKUP(AS19,MATCHSELEVES!$Y$14:$AF$600,8,FALSE),0)","v":0},{"$f":"IFERROR(VLOOKUP(AS19,MATCHSELEVES!$Y$14:$AG$600,9,FALSE),0)","v":0},"Hadidja_6",{"$f":"IFERROR(VLOOKUP(AY19,MATCHSELEVES!$Y$14:$AE$600,3,FALSE),0)","v":0},{"$f":"IFERROR(VLOOKUP(AY19,MATCHSELEVES!$Y$14:$AE$600,4,FALSE),0)","v":0},{"$f":"IFERROR(VLOOKUP(AY19,MATCHSELEVES!$Y$14:$AE$600,5,FALSE),0)","v":0},{"$f":"IFERROR(VLOOKUP(AY19,MATCHSELEVES!$Y$14:$AF$600,8,FALSE),0)","v":0},{"$f":"IFERROR(VLOOKUP(AY19,MATCHSELEVES!$Y$14:$AG$600,9,FALSE),0)","v":0},"Hadidja_7",{"$f":"IFERROR(VLOOKUP(BE19,MATCHSELEVES!$Y$14:$AE$600,3,FALSE),0)","v":0},{"$f":"IFERROR(VLOOKUP(BE19,MATCHSELEVES!$Y$14:$AE$600,4,FALSE),0)","v":0},{"$f":"IFERROR(VLOOKUP(BE19,MATCHSELEVES!$Y$14:$AE$600,5,FALSE),0)","v":0},{"$f":"IFERROR(VLOOKUP(BE19,MATCHSELEVES!$Y$14:$AF$600,8,FALSE),0)","v":0},{"$f":"IFERROR(VLOOKUP(BE19,MATCHSELEVES!$Y$14:$AG$600,9,FALSE),0)","v":0},"Hadidja_8",{"$f":"IFERROR(VLOOKUP(BK19,MATCHSELEVES!$Y$14:$AE$600,3,FALSE),0)","v":0},{"$f":"IFERROR(VLOOKUP(BK19,MATCHSELEVES!$Y$14:$AE$600,4,FALSE),0)","v":0},{"$f":"IFERROR(VLOOKUP(BK19,MATCHSELEVES!$Y$14:$AE$600,5,FALSE),0)","v":0},{"$f":"IFERROR(VLOOKUP(BK19,MATCHSELEVES!$Y$14:$AF$600,8,FALSE),0)","v":0},{"$f":"IFERROR(VLOOKUP(BK19,MATCHSELEVES!$Y$14:$AG$600,9,FALSE),0)","v":0},"Hadidja_9",{"$f":"IFERROR(VLOOKUP(BQ19,MATCHSELEVES!$Y$14:$AE$600,3,FALSE),0)","v":0},{"$f":"IFERROR(VLOOKUP(BQ19,MATCHSELEVES!$Y$14:$AE$600,4,FALSE),0)","v":0},{"$f":"IFERROR(VLOOKUP(BQ19,MATCHSELEVES!$Y$14:$AE$600,5,FALSE),0)","v":0},{"$f":"IFERROR(VLOOKUP(BQ19,MATCHSELEVES!$Y$14:$AF$600,8,FALSE),0)","v":0},{"$f":"IFERROR(VLOOKUP(BQ19,MATCHSELEVES!$Y$14:$AG$600,9,FALSE),0)","v":0},"Hadidja_10",{"$f":"IFERROR(VLOOKUP(BW19,MATCHSELEVES!$Y$14:$AE$600,3,FALSE),0)","v":0},{"$f":"IFERROR(VLOOKUP(BW19,MATCHSELEVES!$Y$14:$AE$600,4,FALSE),0)","v":0},{"$f":"IFERROR(VLOOKUP(BW19,MATCHSELEVES!$Y$14:$AE$600,5,FALSE),0)","v":0},{"$f":"IFERROR(VLOOKUP(BW19,MATCHSELEVES!$Y$14:$AF$600,8,FALSE),0)","v":0},{"$f":"IFERROR(VLOOKUP(BW19,MATCHSELEVES!$Y$14:$AG$600,9,FALSE),0)","v":0},"Hadidja_11",{"$f":"IFERROR(VLOOKUP(CC19,MATCHSELEVES!$Y$14:$AE$600,3,FALSE),0)","v":0},{"$f":"IFERROR(VLOOKUP(CC19,MATCHSELEVES!$Y$14:$AE$600,4,FALSE),0)","v":0},{"$f":"IFERROR(VLOOKUP(CC19,MATCHSELEVES!$Y$14:$AE$600,5,FALSE),0)","v":0},{"$f":"IFERROR(VLOOKUP(CC19,MATCHSELEVES!$Y$14:$AF$600,8,FALSE),0)","v":0},{"$f":"IFERROR(VLOOKUP(CC19,MATCHSELEVES!$Y$14:$AG$600,9,FALSE),0)","v":0},"Hadidja_12",{"$f":"IFERROR(VLOOKUP(CI19,MATCHSELEVES!$Y$14:$AE$600,3,FALSE),0)","v":0},{"$f":"IFERROR(VLOOKUP(CI19,MATCHSELEVES!$Y$14:$AE$600,4,FALSE),0)","v":0},{"$f":"IFERROR(VLOOKUP(CI19,MATCHSELEVES!$Y$14:$AE$600,5,FALSE),0)","v":0},{"$f":"IFERROR(VLOOKUP(CI19,MATCHSELEVES!$Y$14:$AF$600,8,FALSE),0)","v":0},{"$f":"IFERROR(VLOOKUP(CI19,MATCHSELEVES!$Y$14:$AG$600,9,FALSE),0)","v":0},"Hadidja_13",{"$f":"IFERROR(VLOOKUP(CO19,MATCHSELEVES!$Y$14:$AE$600,3,FALSE),0)","v":0},{"$f":"IFERROR(VLOOKUP(CO19,MATCHSELEVES!$Y$14:$AE$600,4,FALSE),0)","v":0},{"$f":"IFERROR(VLOOKUP(CO19,MATCHSELEVES!$Y$14:$AE$600,5,FALSE),0)","v":0},{"$f":"IFERROR(VLOOKUP(CO19,MATCHSELEVES!$Y$14:$AF$600,8,FALSE),0)","v":0},{"$f":"IFERROR(VLOOKUP(CO19,MATCHSELEVES!$Y$14:$AG$600,9,FALSE),0)","v":0},"Hadidja_14",{"$f":"IFERROR(VLOOKUP(CU19,MATCHSELEVES!$Y$14:$AE$600,3,FALSE),0)","v":0},{"$f":"IFERROR(VLOOKUP(CU19,MATCHSELEVES!$Y$14:$AE$600,4,FALSE),0)","v":0},{"$f":"IFERROR(VLOOKUP(CU19,MATCHSELEVES!$Y$14:$AE$600,5,FALSE),0)","v":0},{"$f":"IFERROR(VLOOKUP(CU19,MATCHSELEVES!$Y$14:$AF$600,8,FALSE),0)","v":0},{"$f":"IFERROR(VLOOKUP(CU19,MATCHSELEVES!$Y$14:$AG$600,9,FALSE),0)","v":0},"Hadidja_15",{"$f":"IFERROR(VLOOKUP(DA19,MATCHSELEVES!$Y$14:$AE$600,3,FALSE),0)","v":0},{"$f":"IFERROR(VLOOKUP(DA19,MATCHSELEVES!$Y$14:$AE$600,4,FALSE),0)","v":0},{"$f":"IFERROR(VLOOKUP(DA19,MATCHSELEVES!$Y$14:$AE$600,5,FALSE),0)","v":0},{"$f":"IFERROR(VLOOKUP(DA19,MATCHSELEVES!$Y$14:$AF$600,8,FALSE),0)","v":0},{"$f":"IFERROR(VLOOKUP(DA19,MATCHSELEVES!$Y$14:$AG$600,9,FALSE),0)","v":0},"Hadidja_16",{"$f":"IFERROR(VLOOKUP(DG19,MATCHSELEVES!$Y$14:$AE$600,3,FALSE),0)","v":0},{"$f":"IFERROR(VLOOKUP(DG19,MATCHSELEVES!$Y$14:$AE$600,4,FALSE),0)","v":0},{"$f":"IFERROR(VLOOKUP(DG19,MATCHSELEVES!$Y$14:$AE$600,5,FALSE),0)","v":0},{"$f":"IFERROR(VLOOKUP(DG19,MATCHSELEVES!$Y$14:$AF$600,8,FALSE),0)","v":0},{"$f":"IFERROR(VLOOKUP(DG19,MATCHSELEVES!$Y$14:$AG$600,9,FALSE),0)","v":0},"Hadidja_17",{"$f":"IFERROR(VLOOKUP(DM19,MATCHSELEVES!$Y$14:$AE$600,3,FALSE),0)","v":0},{"$f":"IFERROR(VLOOKUP(DM19,MATCHSELEVES!$Y$14:$AE$600,4,FALSE),0)","v":0},{"$f":"IFERROR(VLOOKUP(DM19,MATCHSELEVES!$Y$14:$AE$600,5,FALSE),0)","v":0},{"$f":"IFERROR(VLOOKUP(DM19,MATCHSELEVES!$Y$14:$AF$600,8,FALSE),0)","v":0},{"$f":"IFERROR(VLOOKUP(DM19,MATCHSELEVES!$Y$14:$AG$600,9,FALSE),0)","v":0},"Hadidja_18",{"$f":"IFERROR(VLOOKUP(DS19,MATCHSELEVES!$Y$14:$AE$600,3,FALSE),0)","v":0},{"$f":"IFERROR(VLOOKUP(DS19,MATCHSELEVES!$Y$14:$AE$600,4,FALSE),0)","v":0},{"$f":"IFERROR(VLOOKUP(DS19,MATCHSELEVES!$Y$14:$AE$600,5,FALSE),0)","v":0},{"$f":"IFERROR(VLOOKUP(DS19,MATCHSELEVES!$Y$14:$AF$600,8,FALSE),0)","v":0},{"$f":"IFERROR(VLOOKUP(DS19,MATCHSELEVES!$Y$14:$AG$600,9,FALSE),0)","v":0},"Hadidja_19",{"$f":"IFERROR(VLOOKUP(DY19,MATCHSELEVES!$Y$14:$AE$600,3,FALSE),0)","v":0},{"$f":"IFERROR(VLOOKUP(DY19,MATCHSELEVES!$Y$14:$AE$600,4,FALSE),0)","v":0},{"$f":"IFERROR(VLOOKUP(DY19,MATCHSELEVES!$Y$14:$AE$600,5,FALSE),0)","v":0},{"$f":"IFERROR(VLOOKUP(DY19,MATCHSELEVES!$Y$14:$AF$600,8,FALSE),0)","v":0},{"$f":"IFERROR(VLOOKUP(DY19,MATCHSELEVES!$Y$14:$AG$600,9,FALSE),0)","v":0},"Hadidja_20",{"$f":"IFERROR(VLOOKUP(EE19,MATCHSELEVES!$Y$14:$AE$600,3,FALSE),0)","v":0},{"$f":"IFERROR(VLOOKUP(EE19,MATCHSELEVES!$Y$14:$AE$600,4,FALSE),0)","v":0},{"$f":"IFERROR(VLOOKUP(EE19,MATCHSELEVES!$Y$14:$AE$600,5,FALSE),0)","v":0},{"$f":"IFERROR(VLOOKUP(EE19,MATCHSELEVES!$Y$14:$AF$600,8,FALSE),0)","v":0},{"$f":"IFERROR(VLOOKUP(EE19,MATCHSELEVES!$Y$14:$AG$600,9,FALSE),0)","v":0},"Hadidja_21",{"$f":"IFERROR(VLOOKUP(EK19,MATCHSELEVES!$Y$14:$AE$600,3,FALSE),0)","v":0},{"$f":"IFERROR(VLOOKUP(EK19,MATCHSELEVES!$Y$14:$AE$600,4,FALSE),0)","v":0},{"$f":"IFERROR(VLOOKUP(EK19,MATCHSELEVES!$Y$14:$AE$600,5,FALSE),0)","v":0},{"$f":"IFERROR(VLOOKUP(EK19,MATCHSELEVES!$Y$14:$AF$600,8,FALSE),0)","v":0},{"$f":"IFERROR(VLOOKUP(EK19,MATCHSELEVES!$Y$14:$AG$600,9,FALSE),0)","v":0},"Hadidja_22",{"$f":"IFERROR(VLOOKUP(EQ19,MATCHSELEVES!$Y$14:$AE$600,3,FALSE),0)","v":0},{"$f":"IFERROR(VLOOKUP(EQ19,MATCHSELEVES!$Y$14:$AE$600,4,FALSE),0)","v":0},{"$f":"IFERROR(VLOOKUP(EQ19,MATCHSELEVES!$Y$14:$AE$600,5,FALSE),0)","v":0},{"$f":"IFERROR(VLOOKUP(EQ19,MATCHSELEVES!$Y$14:$AF$600,8,FALSE),0)","v":0},{"$f":"IFERROR(VLOOKUP(EQ19,MATCHSELEVES!$Y$14:$AG$600,9,FALSE),0)","v":0},"Hadidja_23",{"$f":"IFERROR(VLOOKUP(EW19,MATCHSELEVES!$Y$14:$AE$600,3,FALSE),0)","v":0},{"$f":"IFERROR(VLOOKUP(EW19,MATCHSELEVES!$Y$14:$AE$600,4,FALSE),0)","v":0},{"$f":"IFERROR(VLOOKUP(EW19,MATCHSELEVES!$Y$14:$AE$600,5,FALSE),0)","v":0},{"$f":"IFERROR(VLOOKUP(EW19,MATCHSELEVES!$Y$14:$AF$600,8,FALSE),0)","v":0},{"$f":"IFERROR(VLOOKUP(EW19,MATCHSELEVES!$Y$14:$AG$600,9,FALSE),0)","v":0},"Hadidja_24",{"$f":"IFERROR(VLOOKUP(FC19,MATCHSELEVES!$Y$14:$AE$600,3,FALSE),0)","v":0},{"$f":"IFERROR(VLOOKUP(FC19,MATCHSELEVES!$Y$14:$AE$600,4,FALSE),0)","v":0},{"$f":"IFERROR(VLOOKUP(FC19,MATCHSELEVES!$Y$14:$AE$600,5,FALSE),0)","v":0},{"$f":"IFERROR(VLOOKUP(FC19,MATCHSELEVES!$Y$14:$AF$600,8,FALSE),0)","v":0},{"$f":"IFERROR(VLOOKUP(FC19,MATCHSELEVES!$Y$14:$AG$600,9,FALSE),0)","v":0},"Hadidja_25",{"$f":"IFERROR(VLOOKUP(FI19,MATCHSELEVES!$Y$14:$AE$600,3,FALSE),0)","v":0},{"$f":"IFERROR(VLOOKUP(FI19,MATCHSELEVES!$Y$14:$AE$600,4,FALSE),0)","v":0},{"$f":"IFERROR(VLOOKUP(FI19,MATCHSELEVES!$Y$14:$AE$600,5,FALSE),0)","v":0},{"$f":"IFERROR(VLOOKUP(FI19,MATCHSELEVES!$Y$14:$AF$600,8,FALSE),0)","v":0},{"$f":"IFERROR(VLOOKUP(FI19,MATCHSELEVES!$Y$14:$AG$600,9,FALSE),0)","v":0},"Hadidja_26",{"$f":"IFERROR(VLOOKUP(FO19,MATCHSELEVES!$Y$14:$AE$600,3,FALSE),0)","v":0},{"$f":"IFERROR(VLOOKUP(FO19,MATCHSELEVES!$Y$14:$AE$600,4,FALSE),0)","v":0},{"$f":"IFERROR(VLOOKUP(FO19,MATCHSELEVES!$Y$14:$AE$600,5,FALSE),0)","v":0},{"$f":"IFERROR(VLOOKUP(FO19,MATCHSELEVES!$Y$14:$AF$600,8,FALSE),0)","v":0},{"$f":"IFERROR(VLOOKUP(FO19,MATCHSELEVES!$Y$14:$AG$600,9,FALSE),0)","v":0},"Hadidja_27",{"$f":"IFERROR(VLOOKUP(FU19,MATCHSELEVES!$Y$14:$AE$600,3,FALSE),0)","v":0},{"$f":"IFERROR(VLOOKUP(FU19,MATCHSELEVES!$Y$14:$AE$600,4,FALSE),0)","v":0},{"$f":"IFERROR(VLOOKUP(FU19,MATCHSELEVES!$Y$14:$AE$600,5,FALSE),0)","v":0},{"$f":"IFERROR(VLOOKUP(FU19,MATCHSELEVES!$Y$14:$AF$600,8,FALSE),0)","v":0},{"$f":"IFERROR(VLOOKUP(FU19,MATCHSELEVES!$Y$14:$AG$600,9,FALSE),0)","v":0},"Hadidja_28",{"$f":"IFERROR(VLOOKUP(GA19,MATCHSELEVES!$Y$14:$AE$600,3,FALSE),0)","v":0},{"$f":"IFERROR(VLOOKUP(GA19,MATCHSELEVES!$Y$14:$AE$600,4,FALSE),0)","v":0},{"$f":"IFERROR(VLOOKUP(GA19,MATCHSELEVES!$Y$14:$AE$600,5,FALSE),0)","v":0},{"$f":"IFERROR(VLOOKUP(GA19,MATCHSELEVES!$Y$14:$AF$600,8,FALSE),0)","v":0},{"$f":"IFERROR(VLOOKUP(GA19,MATCHSELEVES!$Y$14:$AG$600,9,FALSE),0)","v":0},"Hadidja_29",{"$f":"IFERROR(VLOOKUP(GG19,MATCHSELEVES!$Y$14:$AE$600,3,FALSE),0)","v":0},{"$f":"IFERROR(VLOOKUP(GG19,MATCHSELEVES!$Y$14:$AE$600,4,FALSE),0)","v":0},{"$f":"IFERROR(VLOOKUP(GG19,MATCHSELEVES!$Y$14:$AE$600,5,FALSE),0)","v":0},{"$f":"IFERROR(VLOOKUP(GG19,MATCHSELEVES!$Y$14:$AF$600,8,FALSE),0)","v":0},{"$f":"IFERROR(VLOOKUP(GG19,MATCHSELEVES!$Y$14:$AG$600,9,FALSE),0)","v":0},"Hadidja_30",{"$f":"IFERROR(VLOOKUP(GM19,MATCHSELEVES!$Y$14:$AE$600,3,FALSE),0)","v":0},{"$f":"IFERROR(VLOOKUP(GM19,MATCHSELEVES!$Y$14:$AE$600,4,FALSE),0)","v":0},{"$f":"IFERROR(VLOOKUP(GM19,MATCHSELEVES!$Y$14:$AE$600,5,FALSE),0)","v":0},{"$f":"IFERROR(VLOOKUP(GM19,MATCHSELEVES!$Y$14:$AF$600,8,FALSE),0)","v":0},{"$f":"IFERROR(VLOOKUP(GM19,MATCHSELEVES!$Y$14:$AG$600,9,FALSE),0)","v":0},"Hadidja_31",{"$f":"IFERROR(VLOOKUP(GS19,MATCHSELEVES!$Y$14:$AE$600,3,FALSE),0)","v":0},{"$f":"IFERROR(VLOOKUP(GS19,MATCHSELEVES!$Y$14:$AE$600,4,FALSE),0)","v":0},{"$f":"IFERROR(VLOOKUP(GS19,MATCHSELEVES!$Y$14:$AE$600,5,FALSE),0)","v":0},{"$f":"IFERROR(VLOOKUP(GS19,MATCHSELEVES!$Y$14:$AF$600,8,FALSE),0)","v":0},{"$f":"IFERROR(VLOOKUP(GS19,MATCHSELEVES!$Y$14:$AG$600,9,FALSE),0)","v":0},"Hadidja_32",{"$f":"IFERROR(VLOOKUP(GY19,MATCHSELEVES!$Y$14:$AE$600,3,FALSE),0)","v":0},{"$f":"IFERROR(VLOOKUP(GY19,MATCHSELEVES!$Y$14:$AE$600,4,FALSE),0)","v":0},{"$f":"IFERROR(VLOOKUP(GY19,MATCHSELEVES!$Y$14:$AE$600,5,FALSE),0)","v":0},{"$f":"IFERROR(VLOOKUP(GY19,MATCHSELEVES!$Y$14:$AF$600,8,FALSE),0)","v":0},{"$f":"IFERROR(VLOOKUP(GY19,MATCHSELEVES!$Y$14:$AG$600,9,FALSE),0)","v":0},"Hadidja_33",{"$f":"IFERROR(VLOOKUP(HE19,MATCHSELEVES!$Y$14:$AE$600,3,FALSE),0)","v":0},{"$f":"IFERROR(VLOOKUP(HE19,MATCHSELEVES!$Y$14:$AE$600,4,FALSE),0)","v":0},{"$f":"IFERROR(VLOOKUP(HE19,MATCHSELEVES!$Y$14:$AE$600,5,FALSE),0)","v":0},{"$f":"IFERROR(VLOOKUP(HE19,MATCHSELEVES!$Y$14:$AF$600,8,FALSE),0)","v":0},{"$f":"IFERROR(VLOOKUP(HE19,MATCHSELEVES!$Y$14:$AG$600,9,FALSE),0)","v":0},"Hadidja_34",{"$f":"IFERROR(VLOOKUP(HK19,MATCHSELEVES!$Y$14:$AE$600,3,FALSE),0)","v":0},{"$f":"IFERROR(VLOOKUP(HK19,MATCHSELEVES!$Y$14:$AE$600,4,FALSE),0)","v":0},{"$f":"IFERROR(VLOOKUP(HK19,MATCHSELEVES!$Y$14:$AE$600,5,FALSE),0)","v":0},{"$f":"IFERROR(VLOOKUP(HK19,MATCHSELEVES!$Y$14:$AF$600,8,FALSE),0)","v":0},{"$f":"IFERROR(VLOOKUP(HK19,MATCHSELEVES!$Y$14:$AG$600,9,FALSE),0)","v":0},"Hadidja_35",{"$f":"IFERROR(VLOOKUP(HQ19,MATCHSELEVES!$Y$14:$AE$600,3,FALSE),0)","v":0},{"$f":"IFERROR(VLOOKUP(HQ19,MATCHSELEVES!$Y$14:$AE$600,4,FALSE),0)","v":0},{"$f":"IFERROR(VLOOKUP(HQ19,MATCHSELEVES!$Y$14:$AE$600,5,FALSE),0)","v":0},{"$f":"IFERROR(VLOOKUP(HQ19,MATCHSELEVES!$Y$14:$AF$600,8,FALSE),0)","v":0},{"$f":"IFERROR(VLOOKUP(HQ19,MATCHSELEVES!$Y$14:$AG$600,9,FALSE),0)","v":0},"Hadidja_36",{"$f":"IFERROR(VLOOKUP(HW19,MATCHSELEVES!$Y$14:$AE$600,3,FALSE),0)","v":0},{"$f":"IFERROR(VLOOKUP(HW19,MATCHSELEVES!$Y$14:$AE$600,4,FALSE),0)","v":0},{"$f":"IFERROR(VLOOKUP(HW19,MATCHSELEVES!$Y$14:$AE$600,5,FALSE),0)","v":0},{"$f":"IFERROR(VLOOKUP(HW19,MATCHSELEVES!$Y$14:$AF$600,8,FALSE),0)","v":0},{"$f":"IFERROR(VLOOKUP(HW19,MATCHSELEVES!$Y$14:$AG$600,9,FALSE),0)","v":0},"Hadidja_37",{"$f":"IFERROR(VLOOKUP(IC19,MATCHSELEVES!$Y$14:$AE$600,3,FALSE),0)","v":0},{"$f":"IFERROR(VLOOKUP(IC19,MATCHSELEVES!$Y$14:$AE$600,4,FALSE),0)","v":0},{"$f":"IFERROR(VLOOKUP(IC19,MATCHSELEVES!$Y$14:$AE$600,5,FALSE),0)","v":0},{"$f":"IFERROR(VLOOKUP(IC19,MATCHSELEVES!$Y$14:$AF$600,8,FALSE),0)","v":0},{"$f":"IFERROR(VLOOKUP(IC19,MATCHSELEVES!$Y$14:$AG$600,9,FALSE),0)","v":0},"Hadidja_38",{"$f":"IFERROR(VLOOKUP(II19,MATCHSELEVES!$Y$14:$AE$600,3,FALSE),0)","v":0},{"$f":"IFERROR(VLOOKUP(II19,MATCHSELEVES!$Y$14:$AE$600,4,FALSE),0)","v":0},{"$f":"IFERROR(VLOOKUP(II19,MATCHSELEVES!$Y$14:$AE$600,5,FALSE),0)","v":0},{"$f":"IFERROR(VLOOKUP(II19,MATCHSELEVES!$Y$14:$AF$600,8,FALSE),0)","v":0},{"$f":"IFERROR(VLOOKUP(II19,MATCHSELEVES!$Y$14:$AG$600,9,FALSE),0)","v":0},"Hadidja_39",{"$f":"IFERROR(VLOOKUP(IO19,MATCHSELEVES!$Y$14:$AE$600,3,FALSE),0)","v":0},{"$f":"IFERROR(VLOOKUP(IO19,MATCHSELEVES!$Y$14:$AE$600,4,FALSE),0)","v":0},{"$f":"IFERROR(VLOOKUP(IO19,MATCHSELEVES!$Y$14:$AE$600,5,FALSE),0)","v":0},{"$f":"IFERROR(VLOOKUP(IO19,MATCHSELEVES!$Y$14:$AF$600,8,FALSE),0)","v":0},{"$f":"IFERROR(VLOOKUP(IO19,MATCHSELEVES!$Y$14:$AG$600,9,FALSE),0)","v":0},"Hadidja_40",{"$f":"IFERROR(VLOOKUP(IU19,MATCHSELEVES!$Y$14:$AE$600,3,FALSE),0)","v":0},{"$f":"IFERROR(VLOOKUP(IU19,MATCHSELEVES!$Y$14:$AE$600,4,FALSE),0)","v":0},{"$f":"IFERROR(VLOOKUP(IU19,MATCHSELEVES!$Y$14:$AE$600,5,FALSE),0)","v":0},{"$f":"IFERROR(VLOOKUP(IU19,MATCHSELEVES!$Y$14:$AF$600,8,FALSE),0)","v":0},{"$f":"IFERROR(VLOOKUP(IU19,MATCHSELEVES!$Y$14:$AG$600,9,FALSE),0)","v":0},"Hadidjap_1",{"$f":"IFERROR(VLOOKUP(JA19,MATCHSELEVES!$Y$14:$AE$600,3,FALSE),0)","v":0},{"$f":"IFERROR(VLOOKUP(JA19,MATCHSELEVES!$Y$14:$AE$600,4,FALSE),0)","v":0},{"$f":"IFERROR(VLOOKUP(JA19,MATCHSELEVES!$Y$14:$AE$600,5,FALSE),0)","v":0},{"$f":"IFERROR(VLOOKUP(JA19,MATCHSELEVES!$Y$14:$AF$600,8,FALSE),0)","v":0},{"$f":"IFERROR(VLOOKUP(JA19,MATCHSELEVES!$Y$14:$AG$600,9,FALSE),0)","v":0},"Hadidjap_2",{"$f":"IFERROR(VLOOKUP(JG19,MATCHSELEVES!$Y$14:$AE$600,3,FALSE),0)","v":0},{"$f":"IFERROR(VLOOKUP(JG19,MATCHSELEVES!$Y$14:$AE$600,4,FALSE),0)","v":0},{"$f":"IFERROR(VLOOKUP(JG19,MATCHSELEVES!$Y$14:$AE$600,5,FALSE),0)","v":0},{"$f":"IFERROR(VLOOKUP(JG19,MATCHSELEVES!$Y$14:$AF$600,8,FALSE),0)","v":0},{"$f":"IFERROR(VLOOKUP(JG19,MATCHSELEVES!$Y$14:$AG$600,9,FALSE),0)","v":0},"Hadidjap_3",{"$f":"IFERROR(VLOOKUP(JM19,MATCHSELEVES!$Y$14:$AE$600,3,FALSE),0)","v":0},{"$f":"IFERROR(VLOOKUP(JM19,MATCHSELEVES!$Y$14:$AE$600,4,FALSE),0)","v":0},{"$f":"IFERROR(VLOOKUP(JM19,MATCHSELEVES!$Y$14:$AE$600,5,FALSE),0)","v":0},{"$f":"IFERROR(VLOOKUP(JM19,MATCHSELEVES!$Y$14:$AF$600,8,FALSE),0)","v":0},{"$f":"IFERROR(VLOOKUP(JM19,MATCHSELEVES!$Y$14:$AG$600,9,FALSE),0)","v":0},"Hadidjap_4",{"$f":"IFERROR(VLOOKUP(JS19,MATCHSELEVES!$Y$14:$AE$600,3,FALSE),0)","v":0},{"$f":"IFERROR(VLOOKUP(JS19,MATCHSELEVES!$Y$14:$AE$600,4,FALSE),0)","v":0},{"$f":"IFERROR(VLOOKUP(JS19,MATCHSELEVES!$Y$14:$AE$600,5,FALSE),0)","v":0},{"$f":"IFERROR(VLOOKUP(JS19,MATCHSELEVES!$Y$14:$AF$600,8,FALSE),0)","v":0},{"$f":"IFERROR(VLOOKUP(JS19,MATCHSELEVES!$Y$14:$AG$600,9,FALSE),0)","v":0},"Hadidjap_5",{"$f":"IFERROR(VLOOKUP(JY19,MATCHSELEVES!$Y$14:$AE$600,3,FALSE),0)","v":0},{"$f":"IFERROR(VLOOKUP(JY19,MATCHSELEVES!$Y$14:$AE$600,4,FALSE),0)","v":0},{"$f":"IFERROR(VLOOKUP(JY19,MATCHSELEVES!$Y$14:$AE$600,5,FALSE),0)","v":0},{"$f":"IFERROR(VLOOKUP(JY19,MATCHSELEVES!$Y$14:$AF$600,8,FALSE),0)","v":0},{"$f":"IFERROR(VLOOKUP(JY19,MATCHSELEVES!$Y$14:$AG$600,9,FALSE),0)","v":0},"Hadidjap_6",{"$f":"IFERROR(VLOOKUP(KE19,MATCHSELEVES!$Y$14:$AE$600,3,FALSE),0)","v":0},{"$f":"IFERROR(VLOOKUP(KE19,MATCHSELEVES!$Y$14:$AE$600,4,FALSE),0)","v":0},{"$f":"IFERROR(VLOOKUP(KE19,MATCHSELEVES!$Y$14:$AE$600,5,FALSE),0)","v":0},{"$f":"IFERROR(VLOOKUP(KE19,MATCHSELEVES!$Y$14:$AF$600,8,FALSE),0)","v":0},{"$f":"IFERROR(VLOOKUP(KE19,MATCHSELEVES!$Y$14:$AG$600,9,FALSE),0)","v":0},"Hadidjap_7",{"$f":"IFERROR(VLOOKUP(KK19,MATCHSELEVES!$Y$14:$AE$600,3,FALSE),0)","v":0},{"$f":"IFERROR(VLOOKUP(KK19,MATCHSELEVES!$Y$14:$AE$600,4,FALSE),0)","v":0},{"$f":"IFERROR(VLOOKUP(KK19,MATCHSELEVES!$Y$14:$AE$600,5,FALSE),0)","v":0},{"$f":"IFERROR(VLOOKUP(KK19,MATCHSELEVES!$Y$14:$AF$600,8,FALSE),0)","v":0},{"$f":"IFERROR(VLOOKUP(KK19,MATCHSELEVES!$Y$14:$AG$600,9,FALSE),0)","v":0},"Hadidjap_8",{"$f":"IFERROR(VLOOKUP(KQ19,MATCHSELEVES!$Y$14:$AE$600,3,FALSE),0)","v":0},{"$f":"IFERROR(VLOOKUP(KQ19,MATCHSELEVES!$Y$14:$AE$600,4,FALSE),0)","v":0},{"$f":"IFERROR(VLOOKUP(KQ19,MATCHSELEVES!$Y$14:$AE$600,5,FALSE),0)","v":0},{"$f":"IFERROR(VLOOKUP(KQ19,MATCHSELEVES!$Y$14:$AF$600,8,FALSE),0)","v":0},{"$f":"IFERROR(VLOOKUP(KQ19,MATCHSELEVES!$Y$14:$AG$600,9,FALSE),0)","v":0},"Hadidjap_9",{"$f":"IFERROR(VLOOKUP(KW19,MATCHSELEVES!$Y$14:$AE$600,3,FALSE),0)","v":0},{"$f":"IFERROR(VLOOKUP(KW19,MATCHSELEVES!$Y$14:$AE$600,4,FALSE),0)","v":0},{"$f":"IFERROR(VLOOKUP(KW19,MATCHSELEVES!$Y$14:$AE$600,5,FALSE),0)","v":0},{"$f":"IFERROR(VLOOKUP(KW19,MATCHSELEVES!$Y$14:$AF$600,8,FALSE),0)","v":0},{"$f":"IFERROR(VLOOKUP(KW19,MATCHSELEVES!$Y$14:$AG$600,9,FALSE),0)","v":0},"Hadidjap_10",{"$f":"IFERROR(VLOOKUP(LC19,MATCHSELEVES!$Y$14:$AE$600,3,FALSE),0)","v":0},{"$f":"IFERROR(VLOOKUP(LC19,MATCHSELEVES!$Y$14:$AE$600,4,FALSE),0)","v":0},{"$f":"IFERROR(VLOOKUP(LC19,MATCHSELEVES!$Y$14:$AE$600,5,FALSE),0)","v":0},{"$f":"IFERROR(VLOOKUP(LC19,MATCHSELEVES!$Y$14:$AF$600,8,FALSE),0)","v":0},{"$f":"IFERROR(VLOOKUP(LC19,MATCHSELEVES!$Y$14:$AG$600,9,FALSE),0)","v":0},"Hadidjap_11",{"$f":"IFERROR(VLOOKUP(LI19,MATCHSELEVES!$Y$14:$AE$600,3,FALSE),0)","v":0},{"$f":"IFERROR(VLOOKUP(LI19,MATCHSELEVES!$Y$14:$AE$600,4,FALSE),0)","v":0},{"$f":"IFERROR(VLOOKUP(LI19,MATCHSELEVES!$Y$14:$AE$600,5,FALSE),0)","v":0},{"$f":"IFERROR(VLOOKUP(LI19,MATCHSELEVES!$Y$14:$AF$600,8,FALSE),0)","v":0},{"$f":"IFERROR(VLOOKUP(LI19,MATCHSELEVES!$Y$14:$AG$600,9,FALSE),0)","v":0},"Hadidjap_12",{"$f":"IFERROR(VLOOKUP(LO19,MATCHSELEVES!$Y$14:$AE$600,3,FALSE),0)","v":0},{"$f":"IFERROR(VLOOKUP(LO19,MATCHSELEVES!$Y$14:$AE$600,4,FALSE),0)","v":0},{"$f":"IFERROR(VLOOKUP(LO19,MATCHSELEVES!$Y$14:$AE$600,5,FALSE),0)","v":0},{"$f":"IFERROR(VLOOKUP(LO19,MATCHSELEVES!$Y$14:$AF$600,8,FALSE),0)","v":0},{"$f":"IFERROR(VLOOKUP(LO19,MATCHSELEVES!$Y$14:$AG$600,9,FALSE),0)","v":0},"Hadidjap_13",{"$f":"IFERROR(VLOOKUP(LU19,MATCHSELEVES!$Y$14:$AE$600,3,FALSE),0)","v":0},{"$f":"IFERROR(VLOOKUP(LU19,MATCHSELEVES!$Y$14:$AE$600,4,FALSE),0)","v":0},{"$f":"IFERROR(VLOOKUP(LU19,MATCHSELEVES!$Y$14:$AE$600,5,FALSE),0)","v":0},{"$f":"IFERROR(VLOOKUP(LU19,MATCHSELEVES!$Y$14:$AF$600,8,FALSE),0)","v":0},{"$f":"IFERROR(VLOOKUP(LU19,MATCHSELEVES!$Y$14:$AG$600,9,FALSE),0)","v":0},"Hadidjap_14",{"$f":"IFERROR(VLOOKUP(MA19,MATCHSELEVES!$Y$14:$AE$600,3,FALSE),0)","v":0},{"$f":"IFERROR(VLOOKUP(MA19,MATCHSELEVES!$Y$14:$AE$600,4,FALSE),0)","v":0},{"$f":"IFERROR(VLOOKUP(MA19,MATCHSELEVES!$Y$14:$AE$600,5,FALSE),0)","v":0},{"$f":"IFERROR(VLOOKUP(MA19,MATCHSELEVES!$Y$14:$AF$600,8,FALSE),0)","v":0},{"$f":"IFERROR(VLOOKUP(MA19,MATCHSELEVES!$Y$14:$AG$600,9,FALSE),0)","v":0},"Hadidjap_15",{"$f":"IFERROR(VLOOKUP(MG19,MATCHSELEVES!$Y$14:$AE$600,3,FALSE),0)","v":0},{"$f":"IFERROR(VLOOKUP(MG19,MATCHSELEVES!$Y$14:$AE$600,4,FALSE),0)","v":0},{"$f":"IFERROR(VLOOKUP(MG19,MATCHSELEVES!$Y$14:$AE$600,5,FALSE),0)","v":0},{"$f":"IFERROR(VLOOKUP(MG19,MATCHSELEVES!$Y$14:$AF$600,8,FALSE),0)","v":0},{"$f":"IFERROR(VLOOKUP(MG19,MATCHSELEVES!$Y$14:$AG$600,9,FALSE),0)","v":0},"Hadidjap_16",{"$f":"IFERROR(VLOOKUP(MM19,MATCHSELEVES!$Y$14:$AE$600,3,FALSE),0)","v":0},{"$f":"IFERROR(VLOOKUP(MM19,MATCHSELEVES!$Y$14:$AE$600,4,FALSE),0)","v":0},{"$f":"IFERROR(VLOOKUP(MM19,MATCHSELEVES!$Y$14:$AE$600,5,FALSE),0)","v":0},{"$f":"IFERROR(VLOOKUP(MM19,MATCHSELEVES!$Y$14:$AF$600,8,FALSE),0)","v":0},{"$f":"IFERROR(VLOOKUP(MM19,MATCHSELEVES!$Y$14:$AG$600,9,FALSE),0)","v":0},"Hadidjap_17",{"$f":"IFERROR(VLOOKUP(MS19,MATCHSELEVES!$Y$14:$AE$600,3,FALSE),0)","v":0},{"$f":"IFERROR(VLOOKUP(MS19,MATCHSELEVES!$Y$14:$AE$600,4,FALSE),0)","v":0},{"$f":"IFERROR(VLOOKUP(MS19,MATCHSELEVES!$Y$14:$AE$600,5,FALSE),0)","v":0},{"$f":"IFERROR(VLOOKUP(MS19,MATCHSELEVES!$Y$14:$AF$600,8,FALSE),0)","v":0},{"$f":"IFERROR(VLOOKUP(MS19,MATCHSELEVES!$Y$14:$AG$600,9,FALSE),0)","v":0},"Hadidjap_18",{"$f":"IFERROR(VLOOKUP(MY19,MATCHSELEVES!$Y$14:$AE$600,3,FALSE),0)","v":0},{"$f":"IFERROR(VLOOKUP(MY19,MATCHSELEVES!$Y$14:$AE$600,4,FALSE),0)","v":0},{"$f":"IFERROR(VLOOKUP(MY19,MATCHSELEVES!$Y$14:$AE$600,5,FALSE),0)","v":0},{"$f":"IFERROR(VLOOKUP(MY19,MATCHSELEVES!$Y$14:$AF$600,8,FALSE),0)","v":0},{"$f":"IFERROR(VLOOKUP(MY19,MATCHSELEVES!$Y$14:$AG$600,9,FALSE),0)","v":0},"Hadidjap_19",{"$f":"IFERROR(VLOOKUP(NE19,MATCHSELEVES!$Y$14:$AE$600,3,FALSE),0)","v":0},{"$f":"IFERROR(VLOOKUP(NE19,MATCHSELEVES!$Y$14:$AE$600,4,FALSE),0)","v":0},{"$f":"IFERROR(VLOOKUP(NE19,MATCHSELEVES!$Y$14:$AE$600,5,FALSE),0)","v":0},{"$f":"IFERROR(VLOOKUP(NE19,MATCHSELEVES!$Y$14:$AF$600,8,FALSE),0)","v":0},{"$f":"IFERROR(VLOOKUP(NE19,MATCHSELEVES!$Y$14:$AG$600,9,FALSE),0)","v":0},"Hadidjap_20",{"$f":"IFERROR(VLOOKUP(NK19,MATCHSELEVES!$Y$14:$AE$600,3,FALSE),0)","v":0},{"$f":"IFERROR(VLOOKUP(NK19,MATCHSELEVES!$Y$14:$AE$600,4,FALSE),0)","v":0},{"$f":"IFERROR(VLOOKUP(NK19,MATCHSELEVES!$Y$14:$AE$600,5,FALSE),0)","v":0},{"$f":"IFERROR(VLOOKUP(NK19,MATCHSELEVES!$Y$14:$AF$600,8,FALSE),0)","v":0},{"$f":"IFERROR(VLOOKUP(NK19,MATCHSELEVES!$Y$14:$AG$600,9,FALSE),0)","v":0},"Hadidjap_21",{"$f":"IFERROR(VLOOKUP(NQ19,MATCHSELEVES!$Y$14:$AE$600,3,FALSE),0)","v":0},{"$f":"IFERROR(VLOOKUP(NQ19,MATCHSELEVES!$Y$14:$AE$600,4,FALSE),0)","v":0},{"$f":"IFERROR(VLOOKUP(NQ19,MATCHSELEVES!$Y$14:$AE$600,5,FALSE),0)","v":0},{"$f":"IFERROR(VLOOKUP(NQ19,MATCHSELEVES!$Y$14:$AF$600,8,FALSE),0)","v":0},{"$f":"IFERROR(VLOOKUP(NQ19,MATCHSELEVES!$Y$14:$AG$600,9,FALSE),0)","v":0},"Hadidjap_22",{"$f":"IFERROR(VLOOKUP(NW19,MATCHSELEVES!$Y$14:$AE$600,3,FALSE),0)","v":0},{"$f":"IFERROR(VLOOKUP(NW19,MATCHSELEVES!$Y$14:$AE$600,4,FALSE),0)","v":0},{"$f":"IFERROR(VLOOKUP(NW19,MATCHSELEVES!$Y$14:$AE$600,5,FALSE),0)","v":0},{"$f":"IFERROR(VLOOKUP(NW19,MATCHSELEVES!$Y$14:$AF$600,8,FALSE),0)","v":0},{"$f":"IFERROR(VLOOKUP(NW19,MATCHSELEVES!$Y$14:$AG$600,9,FALSE),0)","v":0},"Hadidjap_23",{"$f":"IFERROR(VLOOKUP(OC19,MATCHSELEVES!$Y$14:$AE$600,3,FALSE),0)","v":0},{"$f":"IFERROR(VLOOKUP(OC19,MATCHSELEVES!$Y$14:$AE$600,4,FALSE),0)","v":0},{"$f":"IFERROR(VLOOKUP(OC19,MATCHSELEVES!$Y$14:$AE$600,5,FALSE),0)","v":0},{"$f":"IFERROR(VLOOKUP(OC19,MATCHSELEVES!$Y$14:$AF$600,8,FALSE),0)","v":0},{"$f":"IFERROR(VLOOKUP(OC19,MATCHSELEVES!$Y$14:$AG$600,9,FALSE),0)","v":0},"Hadidjap_24",{"$f":"IFERROR(VLOOKUP(OI19,MATCHSELEVES!$Y$14:$AE$600,3,FALSE),0)","v":0},{"$f":"IFERROR(VLOOKUP(OI19,MATCHSELEVES!$Y$14:$AE$600,4,FALSE),0)","v":0},{"$f":"IFERROR(VLOOKUP(OI19,MATCHSELEVES!$Y$14:$AE$600,5,FALSE),0)","v":0},{"$f":"IFERROR(VLOOKUP(OI19,MATCHSELEVES!$Y$14:$AF$600,8,FALSE),0)","v":0},{"$f":"IFERROR(VLOOKUP(OI19,MATCHSELEVES!$Y$14:$AG$600,9,FALSE),0)","v":0},"Hadidjap_25",{"$f":"IFERROR(VLOOKUP(OO19,MATCHSELEVES!$Y$14:$AE$600,3,FALSE),0)","v":0},{"$f":"IFERROR(VLOOKUP(OO19,MATCHSELEVES!$Y$14:$AE$600,4,FALSE),0)","v":0},{"$f":"IFERROR(VLOOKUP(OO19,MATCHSELEVES!$Y$14:$AE$600,5,FALSE),0)","v":0},{"$f":"IFERROR(VLOOKUP(OO19,MATCHSELEVES!$Y$14:$AF$600,8,FALSE),0)","v":0},{"$f":"IFERROR(VLOOKUP(OO19,MATCHSELEVES!$Y$14:$AG$600,9,FALSE),0)","v":0},"Hadidjap_26",{"$f":"IFERROR(VLOOKUP(OU19,MATCHSELEVES!$Y$14:$AE$600,3,FALSE),0)","v":0},{"$f":"IFERROR(VLOOKUP(OU19,MATCHSELEVES!$Y$14:$AE$600,4,FALSE),0)","v":0},{"$f":"IFERROR(VLOOKUP(OU19,MATCHSELEVES!$Y$14:$AE$600,5,FALSE),0)","v":0},{"$f":"IFERROR(VLOOKUP(OU19,MATCHSELEVES!$Y$14:$AF$600,8,FALSE),0)","v":0},{"$f":"IFERROR(VLOOKUP(OU19,MATCHSELEVES!$Y$14:$AG$600,9,FALSE),0)","v":0},"Hadidjap_27",{"$f":"IFERROR(VLOOKUP(PA19,MATCHSELEVES!$Y$14:$AE$600,3,FALSE),0)","v":0},{"$f":"IFERROR(VLOOKUP(PA19,MATCHSELEVES!$Y$14:$AE$600,4,FALSE),0)","v":0},{"$f":"IFERROR(VLOOKUP(PA19,MATCHSELEVES!$Y$14:$AE$600,5,FALSE),0)","v":0},{"$f":"IFERROR(VLOOKUP(PA19,MATCHSELEVES!$Y$14:$AF$600,8,FALSE),0)","v":0},{"$f":"IFERROR(VLOOKUP(PA19,MATCHSELEVES!$Y$14:$AG$600,9,FALSE),0)","v":0},"Hadidjap_28",{"$f":"IFERROR(VLOOKUP(PG19,MATCHSELEVES!$Y$14:$AE$600,3,FALSE),0)","v":0},{"$f":"IFERROR(VLOOKUP(PG19,MATCHSELEVES!$Y$14:$AE$600,4,FALSE),0)","v":0},{"$f":"IFERROR(VLOOKUP(PG19,MATCHSELEVES!$Y$14:$AE$600,5,FALSE),0)","v":0},{"$f":"IFERROR(VLOOKUP(PG19,MATCHSELEVES!$Y$14:$AF$600,8,FALSE),0)","v":0},{"$f":"IFERROR(VLOOKUP(PG19,MATCHSELEVES!$Y$14:$AG$600,9,FALSE),0)","v":0},"Hadidjap_29",{"$f":"IFERROR(VLOOKUP(PM19,MATCHSELEVES!$Y$14:$AE$600,3,FALSE),0)","v":0},{"$f":"IFERROR(VLOOKUP(PM19,MATCHSELEVES!$Y$14:$AE$600,4,FALSE),0)","v":0},{"$f":"IFERROR(VLOOKUP(PM19,MATCHSELEVES!$Y$14:$AE$600,5,FALSE),0)","v":0},{"$f":"IFERROR(VLOOKUP(PM19,MATCHSELEVES!$Y$14:$AF$600,8,FALSE),0)","v":0},{"$f":"IFERROR(VLOOKUP(PM19,MATCHSELEVES!$Y$14:$AG$600,9,FALSE),0)","v":0},"Hadidjap_30",{"$f":"IFERROR(VLOOKUP(PS19,MATCHSELEVES!$Y$14:$AE$600,3,FALSE),0)","v":0},{"$f":"IFERROR(VLOOKUP(PS19,MATCHSELEVES!$Y$14:$AE$600,4,FALSE),0)","v":0},{"$f":"IFERROR(VLOOKUP(PS19,MATCHSELEVES!$Y$14:$AE$600,5,FALSE),0)","v":0},{"$f":"IFERROR(VLOOKUP(PS19,MATCHSELEVES!$Y$14:$AF$600,8,FALSE),0)","v":0},{"$f":"IFERROR(VLOOKUP(PS19,MATCHSELEVES!$Y$14:$AG$600,9,FALSE),0)","v":0},"Hadidjap_31",{"$f":"IFERROR(VLOOKUP(PY19,MATCHSELEVES!$Y$14:$AE$600,3,FALSE),0)","v":0},{"$f":"IFERROR(VLOOKUP(PY19,MATCHSELEVES!$Y$14:$AE$600,4,FALSE),0)","v":0},{"$f":"IFERROR(VLOOKUP(PY19,MATCHSELEVES!$Y$14:$AE$600,5,FALSE),0)","v":0},{"$f":"IFERROR(VLOOKUP(PY19,MATCHSELEVES!$Y$14:$AF$600,8,FALSE),0)","v":0},{"$f":"IFERROR(VLOOKUP(PY19,MATCHSELEVES!$Y$14:$AG$600,9,FALSE),0)","v":0},"Hadidjap_32",{"$f":"IFERROR(VLOOKUP(QE19,MATCHSELEVES!$Y$14:$AE$600,3,FALSE),0)","v":0},{"$f":"IFERROR(VLOOKUP(QE19,MATCHSELEVES!$Y$14:$AE$600,4,FALSE),0)","v":0},{"$f":"IFERROR(VLOOKUP(QE19,MATCHSELEVES!$Y$14:$AE$600,5,FALSE),0)","v":0},{"$f":"IFERROR(VLOOKUP(QE19,MATCHSELEVES!$Y$14:$AF$600,8,FALSE),0)","v":0},{"$f":"IFERROR(VLOOKUP(QE19,MATCHSELEVES!$Y$14:$AG$600,9,FALSE),0)","v":0},"Hadidjap_33",{"$f":"IFERROR(VLOOKUP(QK19,MATCHSELEVES!$Y$14:$AE$600,3,FALSE),0)","v":0},{"$f":"IFERROR(VLOOKUP(QK19,MATCHSELEVES!$Y$14:$AE$600,4,FALSE),0)","v":0},{"$f":"IFERROR(VLOOKUP(QK19,MATCHSELEVES!$Y$14:$AE$600,5,FALSE),0)","v":0},{"$f":"IFERROR(VLOOKUP(QK19,MATCHSELEVES!$Y$14:$AF$600,8,FALSE),0)","v":0},{"$f":"IFERROR(VLOOKUP(QK19,MATCHSELEVES!$Y$14:$AG$600,9,FALSE),0)","v":0},"Hadidjap_34",{"$f":"IFERROR(VLOOKUP(QQ19,MATCHSELEVES!$Y$14:$AE$600,3,FALSE),0)","v":0},{"$f":"IFERROR(VLOOKUP(QQ19,MATCHSELEVES!$Y$14:$AE$600,4,FALSE),0)","v":0},{"$f":"IFERROR(VLOOKUP(QQ19,MATCHSELEVES!$Y$14:$AE$600,5,FALSE),0)","v":0},{"$f":"IFERROR(VLOOKUP(QQ19,MATCHSELEVES!$Y$14:$AF$600,8,FALSE),0)","v":0},{"$f":"IFERROR(VLOOKUP(QQ19,MATCHSELEVES!$Y$14:$AG$600,9,FALSE),0)","v":0},"Hadidjap_35",{"$f":"IFERROR(VLOOKUP(QW19,MATCHSELEVES!$Y$14:$AE$600,3,FALSE),0)","v":0},{"$f":"IFERROR(VLOOKUP(QW19,MATCHSELEVES!$Y$14:$AE$600,4,FALSE),0)","v":0},{"$f":"IFERROR(VLOOKUP(QW19,MATCHSELEVES!$Y$14:$AE$600,5,FALSE),0)","v":0},{"$f":"IFERROR(VLOOKUP(QW19,MATCHSELEVES!$Y$14:$AF$600,8,FALSE),0)","v":0},{"$f":"IFERROR(VLOOKUP(QW19,MATCHSELEVES!$Y$14:$AG$600,9,FALSE),0)","v":0},"Hadidjap_36",{"$f":"IFERROR(VLOOKUP(RC19,MATCHSELEVES!$Y$14:$AE$600,3,FALSE),0)","v":0},{"$f":"IFERROR(VLOOKUP(RC19,MATCHSELEVES!$Y$14:$AE$600,4,FALSE),0)","v":0},{"$f":"IFERROR(VLOOKUP(RC19,MATCHSELEVES!$Y$14:$AE$600,5,FALSE),0)","v":0},{"$f":"IFERROR(VLOOKUP(RC19,MATCHSELEVES!$Y$14:$AF$600,8,FALSE),0)","v":0},{"$f":"IFERROR(VLOOKUP(RC19,MATCHSELEVES!$Y$14:$AG$600,9,FALSE),0)","v":0},"Hadidjap_37",{"$f":"IFERROR(VLOOKUP(RI19,MATCHSELEVES!$Y$14:$AE$600,3,FALSE),0)","v":0},{"$f":"IFERROR(VLOOKUP(RI19,MATCHSELEVES!$Y$14:$AE$600,4,FALSE),0)","v":0},{"$f":"IFERROR(VLOOKUP(RI19,MATCHSELEVES!$Y$14:$AE$600,5,FALSE),0)","v":0},{"$f":"IFERROR(VLOOKUP(RI19,MATCHSELEVES!$Y$14:$AF$600,8,FALSE),0)","v":0},{"$f":"IFERROR(VLOOKUP(RI19,MATCHSELEVES!$Y$14:$AG$600,9,FALSE),0)","v":0},"Hadidjap_38",{"$f":"IFERROR(VLOOKUP(RO19,MATCHSELEVES!$Y$14:$AE$600,3,FALSE),0)","v":0},{"$f":"IFERROR(VLOOKUP(RO19,MATCHSELEVES!$Y$14:$AE$600,4,FALSE),0)","v":0},{"$f":"IFERROR(VLOOKUP(RO19,MATCHSELEVES!$Y$14:$AE$600,5,FALSE),0)","v":0},{"$f":"IFERROR(VLOOKUP(RO19,MATCHSELEVES!$Y$14:$AF$600,8,FALSE),0)","v":0},{"$f":"IFERROR(VLOOKUP(RO19,MATCHSELEVES!$Y$14:$AG$600,9,FALSE),0)","v":0},"Hadidjap_39",{"$f":"IFERROR(VLOOKUP(RU19,MATCHSELEVES!$Y$14:$AE$600,3,FALSE),0)","v":0},{"$f":"IFERROR(VLOOKUP(RU19,MATCHSELEVES!$Y$14:$AE$600,4,FALSE),0)","v":0},{"$f":"IFERROR(VLOOKUP(RU19,MATCHSELEVES!$Y$14:$AE$600,5,FALSE),0)","v":0},{"$f":"IFERROR(VLOOKUP(RU19,MATCHSELEVES!$Y$14:$AF$600,8,FALSE),0)","v":0},{"$f":"IFERROR(VLOOKUP(RU19,MATCHSELEVES!$Y$14:$AG$600,9,FALSE),0)","v":0},"Hadidjap_40",{"$f":"IFERROR(VLOOKUP(SA19,MATCHSELEVES!$Y$14:$AE$600,3,FALSE),0)","v":0},{"$f":"IFERROR(VLOOKUP(SA19,MATCHSELEVES!$Y$14:$AE$600,4,FALSE),0)","v":0},{"$f":"IFERROR(VLOOKUP(SA19,MATCHSELEVES!$Y$14:$AE$600,5,FALSE),0)","v":0},{"$f":"IFERROR(VLOOKUP(SA19,MATCHSELEVES!$Y$14:$AF$600,8,FALSE),0)","v":0},{"$f":"IFERROR(VLOOKUP(SA19,MATCHSELEVES!$Y$14:$AG$600,9,FALSE),0)","v":0}]
[17,null,"herbert",17,null,null,{"$f":"COUNTIF(MATCHSELEVES!$Z$14:$Z$600,C20)+COUNTIF(MATCHSELEVES!$Z$14:$Z$600,$C20&\"p\")","v":0},1,{"$f":"COUNTIF(MATCHSELEVES!$F$14:$H$249,C20)","v":0},1,0,1,{"$f":"IFERROR(M63/Tableau10[[#This Row],[Nombre de matchs joués]],0)","v":0},{"$f":"IF(Tableau10[[#This Row],[Nombre de points encaissés]]=0,$C$45,SUMPRODUCT((M$4:M$43<M20)*(M$4:M$43<>0))+1)","v":40},0,1,{"$f":"(Tableau10[[#This Row],[CLASSEMENT1]]+Tableau10[[#This Row],[CLASSEMENT2]]+Tableau10[[#This Row],[CLASSEMENT3]]+Tableau10[[#This Row],[CLASSEMENT4]]+Tableau10[[#This Row],[CLASSEMENT5]]+Tableau10[[#This Row],[CLASSEMENT6]])/6","v":10.166666666666666},{"$f":"RANK(Tableau10[[#This Row],[MOYENNE CLASSEMENTS]],Tableau10[MOYENNE CLASSEMENTS],1)","v":17},null,{"$f":"Tableau10[[#This Row],[CLASSEMENT1]]","v":17},"herbert_1",{"$f":"IFERROR(VLOOKUP(U20,MATCHSELEVES!$Y$14:$AE$600,3,FALSE),0)","v":0},{"$f":"IFERROR(VLOOKUP(U20,MATCHSELEVES!$Y$14:$AE$600,4,FALSE),0)","v":0},{"$f":"IFERROR(VLOOKUP(U20,MATCHSELEVES!$Y$14:$AE$600,5,FALSE),0)","v":0},{"$f":"IFERROR(VLOOKUP(U20,MATCHSELEVES!$Y$14:$AF$600,8,FALSE),0)","v":0},{"$f":"IFERROR(VLOOKUP(U20,MATCHSELEVES!$Y$14:$AG$600,9,FALSE),0)","v":0},"herbert_2",{"$f":"IFERROR(VLOOKUP(AA20,MATCHSELEVES!$Y$14:$AE$600,3,FALSE),0)","v":0},{"$f":"IFERROR(VLOOKUP(AA20,MATCHSELEVES!$Y$14:$AE$600,4,FALSE),0)","v":0},{"$f":"IFERROR(VLOOKUP(AA20,MATCHSELEVES!$Y$14:$AE$600,5,FALSE),0)","v":0},{"$f":"IFERROR(VLOOKUP(AA20,MATCHSELEVES!$Y$14:$AF$600,8,FALSE),0)","v":0},{"$f":"IFERROR(VLOOKUP(AA20,MATCHSELEVES!$Y$14:$AG$600,9,FALSE),0)","v":0},"herbert_3",{"$f":"IFERROR(VLOOKUP(AG20,MATCHSELEVES!$Y$14:$AE$600,3,FALSE),0)","v":0},{"$f":"IFERROR(VLOOKUP(AG20,MATCHSELEVES!$Y$14:$AE$600,4,FALSE),0)","v":0},{"$f":"IFERROR(VLOOKUP(AG20,MATCHSELEVES!$Y$14:$AE$600,5,FALSE),0)","v":0},{"$f":"IFERROR(VLOOKUP(AG20,MATCHSELEVES!$Y$14:$AF$600,8,FALSE),0)","v":0},{"$f":"IFERROR(VLOOKUP(AG20,MATCHSELEVES!$Y$14:$AG$600,9,FALSE),0)","v":0},"herbert_4",{"$f":"IFERROR(VLOOKUP(AM20,MATCHSELEVES!$Y$14:$AE$600,3,FALSE),0)","v":0},{"$f":"IFERROR(VLOOKUP(AM20,MATCHSELEVES!$Y$14:$AE$600,4,FALSE),0)","v":0},{"$f":"IFERROR(VLOOKUP(AM20,MATCHSELEVES!$Y$14:$AE$600,5,FALSE),0)","v":0},{"$f":"IFERROR(VLOOKUP(AM20,MATCHSELEVES!$Y$14:$AF$600,8,FALSE),0)","v":0},{"$f":"IFERROR(VLOOKUP(AM20,MATCHSELEVES!$Y$14:$AG$600,9,FALSE),0)","v":0},"herbert_5",{"$f":"IFERROR(VLOOKUP(AS20,MATCHSELEVES!$Y$14:$AE$600,3,FALSE),0)","v":0},{"$f":"IFERROR(VLOOKUP(AS20,MATCHSELEVES!$Y$14:$AE$600,4,FALSE),0)","v":0},{"$f":"IFERROR(VLOOKUP(AS20,MATCHSELEVES!$Y$14:$AE$600,5,FALSE),0)","v":0},{"$f":"IFERROR(VLOOKUP(AS20,MATCHSELEVES!$Y$14:$AF$600,8,FALSE),0)","v":0},{"$f":"IFERROR(VLOOKUP(AS20,MATCHSELEVES!$Y$14:$AG$600,9,FALSE),0)","v":0},"herbert_6",{"$f":"IFERROR(VLOOKUP(AY20,MATCHSELEVES!$Y$14:$AE$600,3,FALSE),0)","v":0},{"$f":"IFERROR(VLOOKUP(AY20,MATCHSELEVES!$Y$14:$AE$600,4,FALSE),0)","v":0},{"$f":"IFERROR(VLOOKUP(AY20,MATCHSELEVES!$Y$14:$AE$600,5,FALSE),0)","v":0},{"$f":"IFERROR(VLOOKUP(AY20,MATCHSELEVES!$Y$14:$AF$600,8,FALSE),0)","v":0},{"$f":"IFERROR(VLOOKUP(AY20,MATCHSELEVES!$Y$14:$AG$600,9,FALSE),0)","v":0},"herbert_7",{"$f":"IFERROR(VLOOKUP(BE20,MATCHSELEVES!$Y$14:$AE$600,3,FALSE),0)","v":0},{"$f":"IFERROR(VLOOKUP(BE20,MATCHSELEVES!$Y$14:$AE$600,4,FALSE),0)","v":0},{"$f":"IFERROR(VLOOKUP(BE20,MATCHSELEVES!$Y$14:$AE$600,5,FALSE),0)","v":0},{"$f":"IFERROR(VLOOKUP(BE20,MATCHSELEVES!$Y$14:$AF$600,8,FALSE),0)","v":0},{"$f":"IFERROR(VLOOKUP(BE20,MATCHSELEVES!$Y$14:$AG$600,9,FALSE),0)","v":0},"herbert_8",{"$f":"IFERROR(VLOOKUP(BK20,MATCHSELEVES!$Y$14:$AE$600,3,FALSE),0)","v":0},{"$f":"IFERROR(VLOOKUP(BK20,MATCHSELEVES!$Y$14:$AE$600,4,FALSE),0)","v":0},{"$f":"IFERROR(VLOOKUP(BK20,MATCHSELEVES!$Y$14:$AE$600,5,FALSE),0)","v":0},{"$f":"IFERROR(VLOOKUP(BK20,MATCHSELEVES!$Y$14:$AF$600,8,FALSE),0)","v":0},{"$f":"IFERROR(VLOOKUP(BK20,MATCHSELEVES!$Y$14:$AG$600,9,FALSE),0)","v":0},"herbert_9",{"$f":"IFERROR(VLOOKUP(BQ20,MATCHSELEVES!$Y$14:$AE$600,3,FALSE),0)","v":0},{"$f":"IFERROR(VLOOKUP(BQ20,MATCHSELEVES!$Y$14:$AE$600,4,FALSE),0)","v":0},{"$f":"IFERROR(VLOOKUP(BQ20,MATCHSELEVES!$Y$14:$AE$600,5,FALSE),0)","v":0},{"$f":"IFERROR(VLOOKUP(BQ20,MATCHSELEVES!$Y$14:$AF$600,8,FALSE),0)","v":0},{"$f":"IFERROR(VLOOKUP(BQ20,MATCHSELEVES!$Y$14:$AG$600,9,FALSE),0)","v":0},"herbert_10",{"$f":"IFERROR(VLOOKUP(BW20,MATCHSELEVES!$Y$14:$AE$600,3,FALSE),0)","v":0},{"$f":"IFERROR(VLOOKUP(BW20,MATCHSELEVES!$Y$14:$AE$600,4,FALSE),0)","v":0},{"$f":"IFERROR(VLOOKUP(BW20,MATCHSELEVES!$Y$14:$AE$600,5,FALSE),0)","v":0},{"$f":"IFERROR(VLOOKUP(BW20,MATCHSELEVES!$Y$14:$AF$600,8,FALSE),0)","v":0},{"$f":"IFERROR(VLOOKUP(BW20,MATCHSELEVES!$Y$14:$AG$600,9,FALSE),0)","v":0},"herbert_11",{"$f":"IFERROR(VLOOKUP(CC20,MATCHSELEVES!$Y$14:$AE$600,3,FALSE),0)","v":0},{"$f":"IFERROR(VLOOKUP(CC20,MATCHSELEVES!$Y$14:$AE$600,4,FALSE),0)","v":0},{"$f":"IFERROR(VLOOKUP(CC20,MATCHSELEVES!$Y$14:$AE$600,5,FALSE),0)","v":0},{"$f":"IFERROR(VLOOKUP(CC20,MATCHSELEVES!$Y$14:$AF$600,8,FALSE),0)","v":0},{"$f":"IFERROR(VLOOKUP(CC20,MATCHSELEVES!$Y$14:$AG$600,9,FALSE),0)","v":0},"herbert_12",{"$f":"IFERROR(VLOOKUP(CI20,MATCHSELEVES!$Y$14:$AE$600,3,FALSE),0)","v":0},{"$f":"IFERROR(VLOOKUP(CI20,MATCHSELEVES!$Y$14:$AE$600,4,FALSE),0)","v":0},{"$f":"IFERROR(VLOOKUP(CI20,MATCHSELEVES!$Y$14:$AE$600,5,FALSE),0)","v":0},{"$f":"IFERROR(VLOOKUP(CI20,MATCHSELEVES!$Y$14:$AF$600,8,FALSE),0)","v":0},{"$f":"IFERROR(VLOOKUP(CI20,MATCHSELEVES!$Y$14:$AG$600,9,FALSE),0)","v":0},"herbert_13",{"$f":"IFERROR(VLOOKUP(CO20,MATCHSELEVES!$Y$14:$AE$600,3,FALSE),0)","v":0},{"$f":"IFERROR(VLOOKUP(CO20,MATCHSELEVES!$Y$14:$AE$600,4,FALSE),0)","v":0},{"$f":"IFERROR(VLOOKUP(CO20,MATCHSELEVES!$Y$14:$AE$600,5,FALSE),0)","v":0},{"$f":"IFERROR(VLOOKUP(CO20,MATCHSELEVES!$Y$14:$AF$600,8,FALSE),0)","v":0},{"$f":"IFERROR(VLOOKUP(CO20,MATCHSELEVES!$Y$14:$AG$600,9,FALSE),0)","v":0},"herbert_14",{"$f":"IFERROR(VLOOKUP(CU20,MATCHSELEVES!$Y$14:$AE$600,3,FALSE),0)","v":0},{"$f":"IFERROR(VLOOKUP(CU20,MATCHSELEVES!$Y$14:$AE$600,4,FALSE),0)","v":0},{"$f":"IFERROR(VLOOKUP(CU20,MATCHSELEVES!$Y$14:$AE$600,5,FALSE),0)","v":0},{"$f":"IFERROR(VLOOKUP(CU20,MATCHSELEVES!$Y$14:$AF$600,8,FALSE),0)","v":0},{"$f":"IFERROR(VLOOKUP(CU20,MATCHSELEVES!$Y$14:$AG$600,9,FALSE),0)","v":0},"herbert_15",{"$f":"IFERROR(VLOOKUP(DA20,MATCHSELEVES!$Y$14:$AE$600,3,FALSE),0)","v":0},{"$f":"IFERROR(VLOOKUP(DA20,MATCHSELEVES!$Y$14:$AE$600,4,FALSE),0)","v":0},{"$f":"IFERROR(VLOOKUP(DA20,MATCHSELEVES!$Y$14:$AE$600,5,FALSE),0)","v":0},{"$f":"IFERROR(VLOOKUP(DA20,MATCHSELEVES!$Y$14:$AF$600,8,FALSE),0)","v":0},{"$f":"IFERROR(VLOOKUP(DA20,MATCHSELEVES!$Y$14:$AG$600,9,FALSE),0)","v":0},"herbert_16",{"$f":"IFERROR(VLOOKUP(DG20,MATCHSELEVES!$Y$14:$AE$600,3,FALSE),0)","v":0},{"$f":"IFERROR(VLOOKUP(DG20,MATCHSELEVES!$Y$14:$AE$600,4,FALSE),0)","v":0},{"$f":"IFERROR(VLOOKUP(DG20,MATCHSELEVES!$Y$14:$AE$600,5,FALSE),0)","v":0},{"$f":"IFERROR(VLOOKUP(DG20,MATCHSELEVES!$Y$14:$AF$600,8,FALSE),0)","v":0},{"$f":"IFERROR(VLOOKUP(DG20,MATCHSELEVES!$Y$14:$AG$600,9,FALSE),0)","v":0},"herbert_17",{"$f":"IFERROR(VLOOKUP(DM20,MATCHSELEVES!$Y$14:$AE$600,3,FALSE),0)","v":0},{"$f":"IFERROR(VLOOKUP(DM20,MATCHSELEVES!$Y$14:$AE$600,4,FALSE),0)","v":0},{"$f":"IFERROR(VLOOKUP(DM20,MATCHSELEVES!$Y$14:$AE$600,5,FALSE),0)","v":0},{"$f":"IFERROR(VLOOKUP(DM20,MATCHSELEVES!$Y$14:$AF$600,8,FALSE),0)","v":0},{"$f":"IFERROR(VLOOKUP(DM20,MATCHSELEVES!$Y$14:$AG$600,9,FALSE),0)","v":0},"herbert_18",{"$f":"IFERROR(VLOOKUP(DS20,MATCHSELEVES!$Y$14:$AE$600,3,FALSE),0)","v":0},{"$f":"IFERROR(VLOOKUP(DS20,MATCHSELEVES!$Y$14:$AE$600,4,FALSE),0)","v":0},{"$f":"IFERROR(VLOOKUP(DS20,MATCHSELEVES!$Y$14:$AE$600,5,FALSE),0)","v":0},{"$f":"IFERROR(VLOOKUP(DS20,MATCHSELEVES!$Y$14:$AF$600,8,FALSE),0)","v":0},{"$f":"IFERROR(VLOOKUP(DS20,MATCHSELEVES!$Y$14:$AG$600,9,FALSE),0)","v":0},"herbert_19",{"$f":"IFERROR(VLOOKUP(DY20,MATCHSELEVES!$Y$14:$AE$600,3,FALSE),0)","v":0},{"$f":"IFERROR(VLOOKUP(DY20,MATCHSELEVES!$Y$14:$AE$600,4,FALSE),0)","v":0},{"$f":"IFERROR(VLOOKUP(DY20,MATCHSELEVES!$Y$14:$AE$600,5,FALSE),0)","v":0},{"$f":"IFERROR(VLOOKUP(DY20,MATCHSELEVES!$Y$14:$AF$600,8,FALSE),0)","v":0},{"$f":"IFERROR(VLOOKUP(DY20,MATCHSELEVES!$Y$14:$AG$600,9,FALSE),0)","v":0},"herbert_20",{"$f":"IFERROR(VLOOKUP(EE20,MATCHSELEVES!$Y$14:$AE$600,3,FALSE),0)","v":0},{"$f":"IFERROR(VLOOKUP(EE20,MATCHSELEVES!$Y$14:$AE$600,4,FALSE),0)","v":0},{"$f":"IFERROR(VLOOKUP(EE20,MATCHSELEVES!$Y$14:$AE$600,5,FALSE),0)","v":0},{"$f":"IFERROR(VLOOKUP(EE20,MATCHSELEVES!$Y$14:$AF$600,8,FALSE),0)","v":0},{"$f":"IFERROR(VLOOKUP(EE20,MATCHSELEVES!$Y$14:$AG$600,9,FALSE),0)","v":0},"herbert_21",{"$f":"IFERROR(VLOOKUP(EK20,MATCHSELEVES!$Y$14:$AE$600,3,FALSE),0)","v":0},{"$f":"IFERROR(VLOOKUP(EK20,MATCHSELEVES!$Y$14:$AE$600,4,FALSE),0)","v":0},{"$f":"IFERROR(VLOOKUP(EK20,MATCHSELEVES!$Y$14:$AE$600,5,FALSE),0)","v":0},{"$f":"IFERROR(VLOOKUP(EK20,MATCHSELEVES!$Y$14:$AF$600,8,FALSE),0)","v":0},{"$f":"IFERROR(VLOOKUP(EK20,MATCHSELEVES!$Y$14:$AG$600,9,FALSE),0)","v":0},"herbert_22",{"$f":"IFERROR(VLOOKUP(EQ20,MATCHSELEVES!$Y$14:$AE$600,3,FALSE),0)","v":0},{"$f":"IFERROR(VLOOKUP(EQ20,MATCHSELEVES!$Y$14:$AE$600,4,FALSE),0)","v":0},{"$f":"IFERROR(VLOOKUP(EQ20,MATCHSELEVES!$Y$14:$AE$600,5,FALSE),0)","v":0},{"$f":"IFERROR(VLOOKUP(EQ20,MATCHSELEVES!$Y$14:$AF$600,8,FALSE),0)","v":0},{"$f":"IFERROR(VLOOKUP(EQ20,MATCHSELEVES!$Y$14:$AG$600,9,FALSE),0)","v":0},"herbert_23",{"$f":"IFERROR(VLOOKUP(EW20,MATCHSELEVES!$Y$14:$AE$600,3,FALSE),0)","v":0},{"$f":"IFERROR(VLOOKUP(EW20,MATCHSELEVES!$Y$14:$AE$600,4,FALSE),0)","v":0},{"$f":"IFERROR(VLOOKUP(EW20,MATCHSELEVES!$Y$14:$AE$600,5,FALSE),0)","v":0},{"$f":"IFERROR(VLOOKUP(EW20,MATCHSELEVES!$Y$14:$AF$600,8,FALSE),0)","v":0},{"$f":"IFERROR(VLOOKUP(EW20,MATCHSELEVES!$Y$14:$AG$600,9,FALSE),0)","v":0},"herbert_24",{"$f":"IFERROR(VLOOKUP(FC20,MATCHSELEVES!$Y$14:$AE$600,3,FALSE),0)","v":0},{"$f":"IFERROR(VLOOKUP(FC20,MATCHSELEVES!$Y$14:$AE$600,4,FALSE),0)","v":0},{"$f":"IFERROR(VLOOKUP(FC20,MATCHSELEVES!$Y$14:$AE$600,5,FALSE),0)","v":0},{"$f":"IFERROR(VLOOKUP(FC20,MATCHSELEVES!$Y$14:$AF$600,8,FALSE),0)","v":0},{"$f":"IFERROR(VLOOKUP(FC20,MATCHSELEVES!$Y$14:$AG$600,9,FALSE),0)","v":0},"herbert_25",{"$f":"IFERROR(VLOOKUP(FI20,MATCHSELEVES!$Y$14:$AE$600,3,FALSE),0)","v":0},{"$f":"IFERROR(VLOOKUP(FI20,MATCHSELEVES!$Y$14:$AE$600,4,FALSE),0)","v":0},{"$f":"IFERROR(VLOOKUP(FI20,MATCHSELEVES!$Y$14:$AE$600,5,FALSE),0)","v":0},{"$f":"IFERROR(VLOOKUP(FI20,MATCHSELEVES!$Y$14:$AF$600,8,FALSE),0)","v":0},{"$f":"IFERROR(VLOOKUP(FI20,MATCHSELEVES!$Y$14:$AG$600,9,FALSE),0)","v":0},"herbert_26",{"$f":"IFERROR(VLOOKUP(FO20,MATCHSELEVES!$Y$14:$AE$600,3,FALSE),0)","v":0},{"$f":"IFERROR(VLOOKUP(FO20,MATCHSELEVES!$Y$14:$AE$600,4,FALSE),0)","v":0},{"$f":"IFERROR(VLOOKUP(FO20,MATCHSELEVES!$Y$14:$AE$600,5,FALSE),0)","v":0},{"$f":"IFERROR(VLOOKUP(FO20,MATCHSELEVES!$Y$14:$AF$600,8,FALSE),0)","v":0},{"$f":"IFERROR(VLOOKUP(FO20,MATCHSELEVES!$Y$14:$AG$600,9,FALSE),0)","v":0},"herbert_27",{"$f":"IFERROR(VLOOKUP(FU20,MATCHSELEVES!$Y$14:$AE$600,3,FALSE),0)","v":0},{"$f":"IFERROR(VLOOKUP(FU20,MATCHSELEVES!$Y$14:$AE$600,4,FALSE),0)","v":0},{"$f":"IFERROR(VLOOKUP(FU20,MATCHSELEVES!$Y$14:$AE$600,5,FALSE),0)","v":0},{"$f":"IFERROR(VLOOKUP(FU20,MATCHSELEVES!$Y$14:$AF$600,8,FALSE),0)","v":0},{"$f":"IFERROR(VLOOKUP(FU20,MATCHSELEVES!$Y$14:$AG$600,9,FALSE),0)","v":0},"herbert_28",{"$f":"IFERROR(VLOOKUP(GA20,MATCHSELEVES!$Y$14:$AE$600,3,FALSE),0)","v":0},{"$f":"IFERROR(VLOOKUP(GA20,MATCHSELEVES!$Y$14:$AE$600,4,FALSE),0)","v":0},{"$f":"IFERROR(VLOOKUP(GA20,MATCHSELEVES!$Y$14:$AE$600,5,FALSE),0)","v":0},{"$f":"IFERROR(VLOOKUP(GA20,MATCHSELEVES!$Y$14:$AF$600,8,FALSE),0)","v":0},{"$f":"IFERROR(VLOOKUP(GA20,MATCHSELEVES!$Y$14:$AG$600,9,FALSE),0)","v":0},"herbert_29",{"$f":"IFERROR(VLOOKUP(GG20,MATCHSELEVES!$Y$14:$AE$600,3,FALSE),0)","v":0},{"$f":"IFERROR(VLOOKUP(GG20,MATCHSELEVES!$Y$14:$AE$600,4,FALSE),0)","v":0},{"$f":"IFERROR(VLOOKUP(GG20,MATCHSELEVES!$Y$14:$AE$600,5,FALSE),0)","v":0},{"$f":"IFERROR(VLOOKUP(GG20,MATCHSELEVES!$Y$14:$AF$600,8,FALSE),0)","v":0},{"$f":"IFERROR(VLOOKUP(GG20,MATCHSELEVES!$Y$14:$AG$600,9,FALSE),0)","v":0},"herbert_30",{"$f":"IFERROR(VLOOKUP(GM20,MATCHSELEVES!$Y$14:$AE$600,3,FALSE),0)","v":0},{"$f":"IFERROR(VLOOKUP(GM20,MATCHSELEVES!$Y$14:$AE$600,4,FALSE),0)","v":0},{"$f":"IFERROR(VLOOKUP(GM20,MATCHSELEVES!$Y$14:$AE$600,5,FALSE),0)","v":0},{"$f":"IFERROR(VLOOKUP(GM20,MATCHSELEVES!$Y$14:$AF$600,8,FALSE),0)","v":0},{"$f":"IFERROR(VLOOKUP(GM20,MATCHSELEVES!$Y$14:$AG$600,9,FALSE),0)","v":0},"herbert_31",{"$f":"IFERROR(VLOOKUP(GS20,MATCHSELEVES!$Y$14:$AE$600,3,FALSE),0)","v":0},{"$f":"IFERROR(VLOOKUP(GS20,MATCHSELEVES!$Y$14:$AE$600,4,FALSE),0)","v":0},{"$f":"IFERROR(VLOOKUP(GS20,MATCHSELEVES!$Y$14:$AE$600,5,FALSE),0)","v":0},{"$f":"IFERROR(VLOOKUP(GS20,MATCHSELEVES!$Y$14:$AF$600,8,FALSE),0)","v":0},{"$f":"IFERROR(VLOOKUP(GS20,MATCHSELEVES!$Y$14:$AG$600,9,FALSE),0)","v":0},"herbert_32",{"$f":"IFERROR(VLOOKUP(GY20,MATCHSELEVES!$Y$14:$AE$600,3,FALSE),0)","v":0},{"$f":"IFERROR(VLOOKUP(GY20,MATCHSELEVES!$Y$14:$AE$600,4,FALSE),0)","v":0},{"$f":"IFERROR(VLOOKUP(GY20,MATCHSELEVES!$Y$14:$AE$600,5,FALSE),0)","v":0},{"$f":"IFERROR(VLOOKUP(GY20,MATCHSELEVES!$Y$14:$AF$600,8,FALSE),0)","v":0},{"$f":"IFERROR(VLOOKUP(GY20,MATCHSELEVES!$Y$14:$AG$600,9,FALSE),0)","v":0},"herbert_33",{"$f":"IFERROR(VLOOKUP(HE20,MATCHSELEVES!$Y$14:$AE$600,3,FALSE),0)","v":0},{"$f":"IFERROR(VLOOKUP(HE20,MATCHSELEVES!$Y$14:$AE$600,4,FALSE),0)","v":0},{"$f":"IFERROR(VLOOKUP(HE20,MATCHSELEVES!$Y$14:$AE$600,5,FALSE),0)","v":0},{"$f":"IFERROR(VLOOKUP(HE20,MATCHSELEVES!$Y$14:$AF$600,8,FALSE),0)","v":0},{"$f":"IFERROR(VLOOKUP(HE20,MATCHSELEVES!$Y$14:$AG$600,9,FALSE),0)","v":0},"herbert_34",{"$f":"IFERROR(VLOOKUP(HK20,MATCHSELEVES!$Y$14:$AE$600,3,FALSE),0)","v":0},{"$f":"IFERROR(VLOOKUP(HK20,MATCHSELEVES!$Y$14:$AE$600,4,FALSE),0)","v":0},{"$f":"IFERROR(VLOOKUP(HK20,MATCHSELEVES!$Y$14:$AE$600,5,FALSE),0)","v":0},{"$f":"IFERROR(VLOOKUP(HK20,MATCHSELEVES!$Y$14:$AF$600,8,FALSE),0)","v":0},{"$f":"IFERROR(VLOOKUP(HK20,MATCHSELEVES!$Y$14:$AG$600,9,FALSE),0)","v":0},"herbert_35",{"$f":"IFERROR(VLOOKUP(HQ20,MATCHSELEVES!$Y$14:$AE$600,3,FALSE),0)","v":0},{"$f":"IFERROR(VLOOKUP(HQ20,MATCHSELEVES!$Y$14:$AE$600,4,FALSE),0)","v":0},{"$f":"IFERROR(VLOOKUP(HQ20,MATCHSELEVES!$Y$14:$AE$600,5,FALSE),0)","v":0},{"$f":"IFERROR(VLOOKUP(HQ20,MATCHSELEVES!$Y$14:$AF$600,8,FALSE),0)","v":0},{"$f":"IFERROR(VLOOKUP(HQ20,MATCHSELEVES!$Y$14:$AG$600,9,FALSE),0)","v":0},"herbert_36",{"$f":"IFERROR(VLOOKUP(HW20,MATCHSELEVES!$Y$14:$AE$600,3,FALSE),0)","v":0},{"$f":"IFERROR(VLOOKUP(HW20,MATCHSELEVES!$Y$14:$AE$600,4,FALSE),0)","v":0},{"$f":"IFERROR(VLOOKUP(HW20,MATCHSELEVES!$Y$14:$AE$600,5,FALSE),0)","v":0},{"$f":"IFERROR(VLOOKUP(HW20,MATCHSELEVES!$Y$14:$AF$600,8,FALSE),0)","v":0},{"$f":"IFERROR(VLOOKUP(HW20,MATCHSELEVES!$Y$14:$AG$600,9,FALSE),0)","v":0},"herbert_37",{"$f":"IFERROR(VLOOKUP(IC20,MATCHSELEVES!$Y$14:$AE$600,3,FALSE),0)","v":0},{"$f":"IFERROR(VLOOKUP(IC20,MATCHSELEVES!$Y$14:$AE$600,4,FALSE),0)","v":0},{"$f":"IFERROR(VLOOKUP(IC20,MATCHSELEVES!$Y$14:$AE$600,5,FALSE),0)","v":0},{"$f":"IFERROR(VLOOKUP(IC20,MATCHSELEVES!$Y$14:$AF$600,8,FALSE),0)","v":0},{"$f":"IFERROR(VLOOKUP(IC20,MATCHSELEVES!$Y$14:$AG$600,9,FALSE),0)","v":0},"herbert_38",{"$f":"IFERROR(VLOOKUP(II20,MATCHSELEVES!$Y$14:$AE$600,3,FALSE),0)","v":0},{"$f":"IFERROR(VLOOKUP(II20,MATCHSELEVES!$Y$14:$AE$600,4,FALSE),0)","v":0},{"$f":"IFERROR(VLOOKUP(II20,MATCHSELEVES!$Y$14:$AE$600,5,FALSE),0)","v":0},{"$f":"IFERROR(VLOOKUP(II20,MATCHSELEVES!$Y$14:$AF$600,8,FALSE),0)","v":0},{"$f":"IFERROR(VLOOKUP(II20,MATCHSELEVES!$Y$14:$AG$600,9,FALSE),0)","v":0},"herbert_39",{"$f":"IFERROR(VLOOKUP(IO20,MATCHSELEVES!$Y$14:$AE$600,3,FALSE),0)","v":0},{"$f":"IFERROR(VLOOKUP(IO20,MATCHSELEVES!$Y$14:$AE$600,4,FALSE),0)","v":0},{"$f":"IFERROR(VLOOKUP(IO20,MATCHSELEVES!$Y$14:$AE$600,5,FALSE),0)","v":0},{"$f":"IFERROR(VLOOKUP(IO20,MATCHSELEVES!$Y$14:$AF$600,8,FALSE),0)","v":0},{"$f":"IFERROR(VLOOKUP(IO20,MATCHSELEVES!$Y$14:$AG$600,9,FALSE),0)","v":0},"herbert_40",{"$f":"IFERROR(VLOOKUP(IU20,MATCHSELEVES!$Y$14:$AE$600,3,FALSE),0)","v":0},{"$f":"IFERROR(VLOOKUP(IU20,MATCHSELEVES!$Y$14:$AE$600,4,FALSE),0)","v":0},{"$f":"IFERROR(VLOOKUP(IU20,MATCHSELEVES!$Y$14:$AE$600,5,FALSE),0)","v":0},{"$f":"IFERROR(VLOOKUP(IU20,MATCHSELEVES!$Y$14:$AF$600,8,FALSE),0)","v":0},{"$f":"IFERROR(VLOOKUP(IU20,MATCHSELEVES!$Y$14:$AG$600,9,FALSE),0)","v":0},"herbertp_1",{"$f":"IFERROR(VLOOKUP(JA20,MATCHSELEVES!$Y$14:$AE$600,3,FALSE),0)","v":0},{"$f":"IFERROR(VLOOKUP(JA20,MATCHSELEVES!$Y$14:$AE$600,4,FALSE),0)","v":0},{"$f":"IFERROR(VLOOKUP(JA20,MATCHSELEVES!$Y$14:$AE$600,5,FALSE),0)","v":0},{"$f":"IFERROR(VLOOKUP(JA20,MATCHSELEVES!$Y$14:$AF$600,8,FALSE),0)","v":0},{"$f":"IFERROR(VLOOKUP(JA20,MATCHSELEVES!$Y$14:$AG$600,9,FALSE),0)","v":0},"herbertp_2",{"$f":"IFERROR(VLOOKUP(JG20,MATCHSELEVES!$Y$14:$AE$600,3,FALSE),0)","v":0},{"$f":"IFERROR(VLOOKUP(JG20,MATCHSELEVES!$Y$14:$AE$600,4,FALSE),0)","v":0},{"$f":"IFERROR(VLOOKUP(JG20,MATCHSELEVES!$Y$14:$AE$600,5,FALSE),0)","v":0},{"$f":"IFERROR(VLOOKUP(JG20,MATCHSELEVES!$Y$14:$AF$600,8,FALSE),0)","v":0},{"$f":"IFERROR(VLOOKUP(JG20,MATCHSELEVES!$Y$14:$AG$600,9,FALSE),0)","v":0},"herbertp_3",{"$f":"IFERROR(VLOOKUP(JM20,MATCHSELEVES!$Y$14:$AE$600,3,FALSE),0)","v":0},{"$f":"IFERROR(VLOOKUP(JM20,MATCHSELEVES!$Y$14:$AE$600,4,FALSE),0)","v":0},{"$f":"IFERROR(VLOOKUP(JM20,MATCHSELEVES!$Y$14:$AE$600,5,FALSE),0)","v":0},{"$f":"IFERROR(VLOOKUP(JM20,MATCHSELEVES!$Y$14:$AF$600,8,FALSE),0)","v":0},{"$f":"IFERROR(VLOOKUP(JM20,MATCHSELEVES!$Y$14:$AG$600,9,FALSE),0)","v":0},"herbertp_4",{"$f":"IFERROR(VLOOKUP(JS20,MATCHSELEVES!$Y$14:$AE$600,3,FALSE),0)","v":0},{"$f":"IFERROR(VLOOKUP(JS20,MATCHSELEVES!$Y$14:$AE$600,4,FALSE),0)","v":0},{"$f":"IFERROR(VLOOKUP(JS20,MATCHSELEVES!$Y$14:$AE$600,5,FALSE),0)","v":0},{"$f":"IFERROR(VLOOKUP(JS20,MATCHSELEVES!$Y$14:$AF$600,8,FALSE),0)","v":0},{"$f":"IFERROR(VLOOKUP(JS20,MATCHSELEVES!$Y$14:$AG$600,9,FALSE),0)","v":0},"herbertp_5",{"$f":"IFERROR(VLOOKUP(JY20,MATCHSELEVES!$Y$14:$AE$600,3,FALSE),0)","v":0},{"$f":"IFERROR(VLOOKUP(JY20,MATCHSELEVES!$Y$14:$AE$600,4,FALSE),0)","v":0},{"$f":"IFERROR(VLOOKUP(JY20,MATCHSELEVES!$Y$14:$AE$600,5,FALSE),0)","v":0},{"$f":"IFERROR(VLOOKUP(JY20,MATCHSELEVES!$Y$14:$AF$600,8,FALSE),0)","v":0},{"$f":"IFERROR(VLOOKUP(JY20,MATCHSELEVES!$Y$14:$AG$600,9,FALSE),0)","v":0},"herbertp_6",{"$f":"IFERROR(VLOOKUP(KE20,MATCHSELEVES!$Y$14:$AE$600,3,FALSE),0)","v":0},{"$f":"IFERROR(VLOOKUP(KE20,MATCHSELEVES!$Y$14:$AE$600,4,FALSE),0)","v":0},{"$f":"IFERROR(VLOOKUP(KE20,MATCHSELEVES!$Y$14:$AE$600,5,FALSE),0)","v":0},{"$f":"IFERROR(VLOOKUP(KE20,MATCHSELEVES!$Y$14:$AF$600,8,FALSE),0)","v":0},{"$f":"IFERROR(VLOOKUP(KE20,MATCHSELEVES!$Y$14:$AG$600,9,FALSE),0)","v":0},"herbertp_7",{"$f":"IFERROR(VLOOKUP(KK20,MATCHSELEVES!$Y$14:$AE$600,3,FALSE),0)","v":0},{"$f":"IFERROR(VLOOKUP(KK20,MATCHSELEVES!$Y$14:$AE$600,4,FALSE),0)","v":0},{"$f":"IFERROR(VLOOKUP(KK20,MATCHSELEVES!$Y$14:$AE$600,5,FALSE),0)","v":0},{"$f":"IFERROR(VLOOKUP(KK20,MATCHSELEVES!$Y$14:$AF$600,8,FALSE),0)","v":0},{"$f":"IFERROR(VLOOKUP(KK20,MATCHSELEVES!$Y$14:$AG$600,9,FALSE),0)","v":0},"herbertp_8",{"$f":"IFERROR(VLOOKUP(KQ20,MATCHSELEVES!$Y$14:$AE$600,3,FALSE),0)","v":0},{"$f":"IFERROR(VLOOKUP(KQ20,MATCHSELEVES!$Y$14:$AE$600,4,FALSE),0)","v":0},{"$f":"IFERROR(VLOOKUP(KQ20,MATCHSELEVES!$Y$14:$AE$600,5,FALSE),0)","v":0},{"$f":"IFERROR(VLOOKUP(KQ20,MATCHSELEVES!$Y$14:$AF$600,8,FALSE),0)","v":0},{"$f":"IFERROR(VLOOKUP(KQ20,MATCHSELEVES!$Y$14:$AG$600,9,FALSE),0)","v":0},"herbertp_9",{"$f":"IFERROR(VLOOKUP(KW20,MATCHSELEVES!$Y$14:$AE$600,3,FALSE),0)","v":0},{"$f":"IFERROR(VLOOKUP(KW20,MATCHSELEVES!$Y$14:$AE$600,4,FALSE),0)","v":0},{"$f":"IFERROR(VLOOKUP(KW20,MATCHSELEVES!$Y$14:$AE$600,5,FALSE),0)","v":0},{"$f":"IFERROR(VLOOKUP(KW20,MATCHSELEVES!$Y$14:$AF$600,8,FALSE),0)","v":0},{"$f":"IFERROR(VLOOKUP(KW20,MATCHSELEVES!$Y$14:$AG$600,9,FALSE),0)","v":0},"herbertp_10",{"$f":"IFERROR(VLOOKUP(LC20,MATCHSELEVES!$Y$14:$AE$600,3,FALSE),0)","v":0},{"$f":"IFERROR(VLOOKUP(LC20,MATCHSELEVES!$Y$14:$AE$600,4,FALSE),0)","v":0},{"$f":"IFERROR(VLOOKUP(LC20,MATCHSELEVES!$Y$14:$AE$600,5,FALSE),0)","v":0},{"$f":"IFERROR(VLOOKUP(LC20,MATCHSELEVES!$Y$14:$AF$600,8,FALSE),0)","v":0},{"$f":"IFERROR(VLOOKUP(LC20,MATCHSELEVES!$Y$14:$AG$600,9,FALSE),0)","v":0},"herbertp_11",{"$f":"IFERROR(VLOOKUP(LI20,MATCHSELEVES!$Y$14:$AE$600,3,FALSE),0)","v":0},{"$f":"IFERROR(VLOOKUP(LI20,MATCHSELEVES!$Y$14:$AE$600,4,FALSE),0)","v":0},{"$f":"IFERROR(VLOOKUP(LI20,MATCHSELEVES!$Y$14:$AE$600,5,FALSE),0)","v":0},{"$f":"IFERROR(VLOOKUP(LI20,MATCHSELEVES!$Y$14:$AF$600,8,FALSE),0)","v":0},{"$f":"IFERROR(VLOOKUP(LI20,MATCHSELEVES!$Y$14:$AG$600,9,FALSE),0)","v":0},"herbertp_12",{"$f":"IFERROR(VLOOKUP(LO20,MATCHSELEVES!$Y$14:$AE$600,3,FALSE),0)","v":0},{"$f":"IFERROR(VLOOKUP(LO20,MATCHSELEVES!$Y$14:$AE$600,4,FALSE),0)","v":0},{"$f":"IFERROR(VLOOKUP(LO20,MATCHSELEVES!$Y$14:$AE$600,5,FALSE),0)","v":0},{"$f":"IFERROR(VLOOKUP(LO20,MATCHSELEVES!$Y$14:$AF$600,8,FALSE),0)","v":0},{"$f":"IFERROR(VLOOKUP(LO20,MATCHSELEVES!$Y$14:$AG$600,9,FALSE),0)","v":0},"herbertp_13",{"$f":"IFERROR(VLOOKUP(LU20,MATCHSELEVES!$Y$14:$AE$600,3,FALSE),0)","v":0},{"$f":"IFERROR(VLOOKUP(LU20,MATCHSELEVES!$Y$14:$AE$600,4,FALSE),0)","v":0},{"$f":"IFERROR(VLOOKUP(LU20,MATCHSELEVES!$Y$14:$AE$600,5,FALSE),0)","v":0},{"$f":"IFERROR(VLOOKUP(LU20,MATCHSELEVES!$Y$14:$AF$600,8,FALSE),0)","v":0},{"$f":"IFERROR(VLOOKUP(LU20,MATCHSELEVES!$Y$14:$AG$600,9,FALSE),0)","v":0},"herbertp_14",{"$f":"IFERROR(VLOOKUP(MA20,MATCHSELEVES!$Y$14:$AE$600,3,FALSE),0)","v":0},{"$f":"IFERROR(VLOOKUP(MA20,MATCHSELEVES!$Y$14:$AE$600,4,FALSE),0)","v":0},{"$f":"IFERROR(VLOOKUP(MA20,MATCHSELEVES!$Y$14:$AE$600,5,FALSE),0)","v":0},{"$f":"IFERROR(VLOOKUP(MA20,MATCHSELEVES!$Y$14:$AF$600,8,FALSE),0)","v":0},{"$f":"IFERROR(VLOOKUP(MA20,MATCHSELEVES!$Y$14:$AG$600,9,FALSE),0)","v":0},"herbertp_15",{"$f":"IFERROR(VLOOKUP(MG20,MATCHSELEVES!$Y$14:$AE$600,3,FALSE),0)","v":0},{"$f":"IFERROR(VLOOKUP(MG20,MATCHSELEVES!$Y$14:$AE$600,4,FALSE),0)","v":0},{"$f":"IFERROR(VLOOKUP(MG20,MATCHSELEVES!$Y$14:$AE$600,5,FALSE),0)","v":0},{"$f":"IFERROR(VLOOKUP(MG20,MATCHSELEVES!$Y$14:$AF$600,8,FALSE),0)","v":0},{"$f":"IFERROR(VLOOKUP(MG20,MATCHSELEVES!$Y$14:$AG$600,9,FALSE),0)","v":0},"herbertp_16",{"$f":"IFERROR(VLOOKUP(MM20,MATCHSELEVES!$Y$14:$AE$600,3,FALSE),0)","v":0},{"$f":"IFERROR(VLOOKUP(MM20,MATCHSELEVES!$Y$14:$AE$600,4,FALSE),0)","v":0},{"$f":"IFERROR(VLOOKUP(MM20,MATCHSELEVES!$Y$14:$AE$600,5,FALSE),0)","v":0},{"$f":"IFERROR(VLOOKUP(MM20,MATCHSELEVES!$Y$14:$AF$600,8,FALSE),0)","v":0},{"$f":"IFERROR(VLOOKUP(MM20,MATCHSELEVES!$Y$14:$AG$600,9,FALSE),0)","v":0},"herbertp_17",{"$f":"IFERROR(VLOOKUP(MS20,MATCHSELEVES!$Y$14:$AE$600,3,FALSE),0)","v":0},{"$f":"IFERROR(VLOOKUP(MS20,MATCHSELEVES!$Y$14:$AE$600,4,FALSE),0)","v":0},{"$f":"IFERROR(VLOOKUP(MS20,MATCHSELEVES!$Y$14:$AE$600,5,FALSE),0)","v":0},{"$f":"IFERROR(VLOOKUP(MS20,MATCHSELEVES!$Y$14:$AF$600,8,FALSE),0)","v":0},{"$f":"IFERROR(VLOOKUP(MS20,MATCHSELEVES!$Y$14:$AG$600,9,FALSE),0)","v":0},"herbertp_18",{"$f":"IFERROR(VLOOKUP(MY20,MATCHSELEVES!$Y$14:$AE$600,3,FALSE),0)","v":0},{"$f":"IFERROR(VLOOKUP(MY20,MATCHSELEVES!$Y$14:$AE$600,4,FALSE),0)","v":0},{"$f":"IFERROR(VLOOKUP(MY20,MATCHSELEVES!$Y$14:$AE$600,5,FALSE),0)","v":0},{"$f":"IFERROR(VLOOKUP(MY20,MATCHSELEVES!$Y$14:$AF$600,8,FALSE),0)","v":0},{"$f":"IFERROR(VLOOKUP(MY20,MATCHSELEVES!$Y$14:$AG$600,9,FALSE),0)","v":0},"herbertp_19",{"$f":"IFERROR(VLOOKUP(NE20,MATCHSELEVES!$Y$14:$AE$600,3,FALSE),0)","v":0},{"$f":"IFERROR(VLOOKUP(NE20,MATCHSELEVES!$Y$14:$AE$600,4,FALSE),0)","v":0},{"$f":"IFERROR(VLOOKUP(NE20,MATCHSELEVES!$Y$14:$AE$600,5,FALSE),0)","v":0},{"$f":"IFERROR(VLOOKUP(NE20,MATCHSELEVES!$Y$14:$AF$600,8,FALSE),0)","v":0},{"$f":"IFERROR(VLOOKUP(NE20,MATCHSELEVES!$Y$14:$AG$600,9,FALSE),0)","v":0},"herbertp_20",{"$f":"IFERROR(VLOOKUP(NK20,MATCHSELEVES!$Y$14:$AE$600,3,FALSE),0)","v":0},{"$f":"IFERROR(VLOOKUP(NK20,MATCHSELEVES!$Y$14:$AE$600,4,FALSE),0)","v":0},{"$f":"IFERROR(VLOOKUP(NK20,MATCHSELEVES!$Y$14:$AE$600,5,FALSE),0)","v":0},{"$f":"IFERROR(VLOOKUP(NK20,MATCHSELEVES!$Y$14:$AF$600,8,FALSE),0)","v":0},{"$f":"IFERROR(VLOOKUP(NK20,MATCHSELEVES!$Y$14:$AG$600,9,FALSE),0)","v":0},"herbertp_21",{"$f":"IFERROR(VLOOKUP(NQ20,MATCHSELEVES!$Y$14:$AE$600,3,FALSE),0)","v":0},{"$f":"IFERROR(VLOOKUP(NQ20,MATCHSELEVES!$Y$14:$AE$600,4,FALSE),0)","v":0},{"$f":"IFERROR(VLOOKUP(NQ20,MATCHSELEVES!$Y$14:$AE$600,5,FALSE),0)","v":0},{"$f":"IFERROR(VLOOKUP(NQ20,MATCHSELEVES!$Y$14:$AF$600,8,FALSE),0)","v":0},{"$f":"IFERROR(VLOOKUP(NQ20,MATCHSELEVES!$Y$14:$AG$600,9,FALSE),0)","v":0},"herbertp_22",{"$f":"IFERROR(VLOOKUP(NW20,MATCHSELEVES!$Y$14:$AE$600,3,FALSE),0)","v":0},{"$f":"IFERROR(VLOOKUP(NW20,MATCHSELEVES!$Y$14:$AE$600,4,FALSE),0)","v":0},{"$f":"IFERROR(VLOOKUP(NW20,MATCHSELEVES!$Y$14:$AE$600,5,FALSE),0)","v":0},{"$f":"IFERROR(VLOOKUP(NW20,MATCHSELEVES!$Y$14:$AF$600,8,FALSE),0)","v":0},{"$f":"IFERROR(VLOOKUP(NW20,MATCHSELEVES!$Y$14:$AG$600,9,FALSE),0)","v":0},"herbertp_23",{"$f":"IFERROR(VLOOKUP(OC20,MATCHSELEVES!$Y$14:$AE$600,3,FALSE),0)","v":0},{"$f":"IFERROR(VLOOKUP(OC20,MATCHSELEVES!$Y$14:$AE$600,4,FALSE),0)","v":0},{"$f":"IFERROR(VLOOKUP(OC20,MATCHSELEVES!$Y$14:$AE$600,5,FALSE),0)","v":0},{"$f":"IFERROR(VLOOKUP(OC20,MATCHSELEVES!$Y$14:$AF$600,8,FALSE),0)","v":0},{"$f":"IFERROR(VLOOKUP(OC20,MATCHSELEVES!$Y$14:$AG$600,9,FALSE),0)","v":0},"herbertp_24",{"$f":"IFERROR(VLOOKUP(OI20,MATCHSELEVES!$Y$14:$AE$600,3,FALSE),0)","v":0},{"$f":"IFERROR(VLOOKUP(OI20,MATCHSELEVES!$Y$14:$AE$600,4,FALSE),0)","v":0},{"$f":"IFERROR(VLOOKUP(OI20,MATCHSELEVES!$Y$14:$AE$600,5,FALSE),0)","v":0},{"$f":"IFERROR(VLOOKUP(OI20,MATCHSELEVES!$Y$14:$AF$600,8,FALSE),0)","v":0},{"$f":"IFERROR(VLOOKUP(OI20,MATCHSELEVES!$Y$14:$AG$600,9,FALSE),0)","v":0},"herbertp_25",{"$f":"IFERROR(VLOOKUP(OO20,MATCHSELEVES!$Y$14:$AE$600,3,FALSE),0)","v":0},{"$f":"IFERROR(VLOOKUP(OO20,MATCHSELEVES!$Y$14:$AE$600,4,FALSE),0)","v":0},{"$f":"IFERROR(VLOOKUP(OO20,MATCHSELEVES!$Y$14:$AE$600,5,FALSE),0)","v":0},{"$f":"IFERROR(VLOOKUP(OO20,MATCHSELEVES!$Y$14:$AF$600,8,FALSE),0)","v":0},{"$f":"IFERROR(VLOOKUP(OO20,MATCHSELEVES!$Y$14:$AG$600,9,FALSE),0)","v":0},"herbertp_26",{"$f":"IFERROR(VLOOKUP(OU20,MATCHSELEVES!$Y$14:$AE$600,3,FALSE),0)","v":0},{"$f":"IFERROR(VLOOKUP(OU20,MATCHSELEVES!$Y$14:$AE$600,4,FALSE),0)","v":0},{"$f":"IFERROR(VLOOKUP(OU20,MATCHSELEVES!$Y$14:$AE$600,5,FALSE),0)","v":0},{"$f":"IFERROR(VLOOKUP(OU20,MATCHSELEVES!$Y$14:$AF$600,8,FALSE),0)","v":0},{"$f":"IFERROR(VLOOKUP(OU20,MATCHSELEVES!$Y$14:$AG$600,9,FALSE),0)","v":0},"herbertp_27",{"$f":"IFERROR(VLOOKUP(PA20,MATCHSELEVES!$Y$14:$AE$600,3,FALSE),0)","v":0},{"$f":"IFERROR(VLOOKUP(PA20,MATCHSELEVES!$Y$14:$AE$600,4,FALSE),0)","v":0},{"$f":"IFERROR(VLOOKUP(PA20,MATCHSELEVES!$Y$14:$AE$600,5,FALSE),0)","v":0},{"$f":"IFERROR(VLOOKUP(PA20,MATCHSELEVES!$Y$14:$AF$600,8,FALSE),0)","v":0},{"$f":"IFERROR(VLOOKUP(PA20,MATCHSELEVES!$Y$14:$AG$600,9,FALSE),0)","v":0},"herbertp_28",{"$f":"IFERROR(VLOOKUP(PG20,MATCHSELEVES!$Y$14:$AE$600,3,FALSE),0)","v":0},{"$f":"IFERROR(VLOOKUP(PG20,MATCHSELEVES!$Y$14:$AE$600,4,FALSE),0)","v":0},{"$f":"IFERROR(VLOOKUP(PG20,MATCHSELEVES!$Y$14:$AE$600,5,FALSE),0)","v":0},{"$f":"IFERROR(VLOOKUP(PG20,MATCHSELEVES!$Y$14:$AF$600,8,FALSE),0)","v":0},{"$f":"IFERROR(VLOOKUP(PG20,MATCHSELEVES!$Y$14:$AG$600,9,FALSE),0)","v":0},"herbertp_29",{"$f":"IFERROR(VLOOKUP(PM20,MATCHSELEVES!$Y$14:$AE$600,3,FALSE),0)","v":0},{"$f":"IFERROR(VLOOKUP(PM20,MATCHSELEVES!$Y$14:$AE$600,4,FALSE),0)","v":0},{"$f":"IFERROR(VLOOKUP(PM20,MATCHSELEVES!$Y$14:$AE$600,5,FALSE),0)","v":0},{"$f":"IFERROR(VLOOKUP(PM20,MATCHSELEVES!$Y$14:$AF$600,8,FALSE),0)","v":0},{"$f":"IFERROR(VLOOKUP(PM20,MATCHSELEVES!$Y$14:$AG$600,9,FALSE),0)","v":0},"herbertp_30",{"$f":"IFERROR(VLOOKUP(PS20,MATCHSELEVES!$Y$14:$AE$600,3,FALSE),0)","v":0},{"$f":"IFERROR(VLOOKUP(PS20,MATCHSELEVES!$Y$14:$AE$600,4,FALSE),0)","v":0},{"$f":"IFERROR(VLOOKUP(PS20,MATCHSELEVES!$Y$14:$AE$600,5,FALSE),0)","v":0},{"$f":"IFERROR(VLOOKUP(PS20,MATCHSELEVES!$Y$14:$AF$600,8,FALSE),0)","v":0},{"$f":"IFERROR(VLOOKUP(PS20,MATCHSELEVES!$Y$14:$AG$600,9,FALSE),0)","v":0},"herbertp_31",{"$f":"IFERROR(VLOOKUP(PY20,MATCHSELEVES!$Y$14:$AE$600,3,FALSE),0)","v":0},{"$f":"IFERROR(VLOOKUP(PY20,MATCHSELEVES!$Y$14:$AE$600,4,FALSE),0)","v":0},{"$f":"IFERROR(VLOOKUP(PY20,MATCHSELEVES!$Y$14:$AE$600,5,FALSE),0)","v":0},{"$f":"IFERROR(VLOOKUP(PY20,MATCHSELEVES!$Y$14:$AF$600,8,FALSE),0)","v":0},{"$f":"IFERROR(VLOOKUP(PY20,MATCHSELEVES!$Y$14:$AG$600,9,FALSE),0)","v":0},"herbertp_32",{"$f":"IFERROR(VLOOKUP(QE20,MATCHSELEVES!$Y$14:$AE$600,3,FALSE),0)","v":0},{"$f":"IFERROR(VLOOKUP(QE20,MATCHSELEVES!$Y$14:$AE$600,4,FALSE),0)","v":0},{"$f":"IFERROR(VLOOKUP(QE20,MATCHSELEVES!$Y$14:$AE$600,5,FALSE),0)","v":0},{"$f":"IFERROR(VLOOKUP(QE20,MATCHSELEVES!$Y$14:$AF$600,8,FALSE),0)","v":0},{"$f":"IFERROR(VLOOKUP(QE20,MATCHSELEVES!$Y$14:$AG$600,9,FALSE),0)","v":0},"herbertp_33",{"$f":"IFERROR(VLOOKUP(QK20,MATCHSELEVES!$Y$14:$AE$600,3,FALSE),0)","v":0},{"$f":"IFERROR(VLOOKUP(QK20,MATCHSELEVES!$Y$14:$AE$600,4,FALSE),0)","v":0},{"$f":"IFERROR(VLOOKUP(QK20,MATCHSELEVES!$Y$14:$AE$600,5,FALSE),0)","v":0},{"$f":"IFERROR(VLOOKUP(QK20,MATCHSELEVES!$Y$14:$AF$600,8,FALSE),0)","v":0},{"$f":"IFERROR(VLOOKUP(QK20,MATCHSELEVES!$Y$14:$AG$600,9,FALSE),0)","v":0},"herbertp_34",{"$f":"IFERROR(VLOOKUP(QQ20,MATCHSELEVES!$Y$14:$AE$600,3,FALSE),0)","v":0},{"$f":"IFERROR(VLOOKUP(QQ20,MATCHSELEVES!$Y$14:$AE$600,4,FALSE),0)","v":0},{"$f":"IFERROR(VLOOKUP(QQ20,MATCHSELEVES!$Y$14:$AE$600,5,FALSE),0)","v":0},{"$f":"IFERROR(VLOOKUP(QQ20,MATCHSELEVES!$Y$14:$AF$600,8,FALSE),0)","v":0},{"$f":"IFERROR(VLOOKUP(QQ20,MATCHSELEVES!$Y$14:$AG$600,9,FALSE),0)","v":0},"herbertp_35",{"$f":"IFERROR(VLOOKUP(QW20,MATCHSELEVES!$Y$14:$AE$600,3,FALSE),0)","v":0},{"$f":"IFERROR(VLOOKUP(QW20,MATCHSELEVES!$Y$14:$AE$600,4,FALSE),0)","v":0},{"$f":"IFERROR(VLOOKUP(QW20,MATCHSELEVES!$Y$14:$AE$600,5,FALSE),0)","v":0},{"$f":"IFERROR(VLOOKUP(QW20,MATCHSELEVES!$Y$14:$AF$600,8,FALSE),0)","v":0},{"$f":"IFERROR(VLOOKUP(QW20,MATCHSELEVES!$Y$14:$AG$600,9,FALSE),0)","v":0},"herbertp_36",{"$f":"IFERROR(VLOOKUP(RC20,MATCHSELEVES!$Y$14:$AE$600,3,FALSE),0)","v":0},{"$f":"IFERROR(VLOOKUP(RC20,MATCHSELEVES!$Y$14:$AE$600,4,FALSE),0)","v":0},{"$f":"IFERROR(VLOOKUP(RC20,MATCHSELEVES!$Y$14:$AE$600,5,FALSE),0)","v":0},{"$f":"IFERROR(VLOOKUP(RC20,MATCHSELEVES!$Y$14:$AF$600,8,FALSE),0)","v":0},{"$f":"IFERROR(VLOOKUP(RC20,MATCHSELEVES!$Y$14:$AG$600,9,FALSE),0)","v":0},"herbertp_37",{"$f":"IFERROR(VLOOKUP(RI20,MATCHSELEVES!$Y$14:$AE$600,3,FALSE),0)","v":0},{"$f":"IFERROR(VLOOKUP(RI20,MATCHSELEVES!$Y$14:$AE$600,4,FALSE),0)","v":0},{"$f":"IFERROR(VLOOKUP(RI20,MATCHSELEVES!$Y$14:$AE$600,5,FALSE),0)","v":0},{"$f":"IFERROR(VLOOKUP(RI20,MATCHSELEVES!$Y$14:$AF$600,8,FALSE),0)","v":0},{"$f":"IFERROR(VLOOKUP(RI20,MATCHSELEVES!$Y$14:$AG$600,9,FALSE),0)","v":0},"herbertp_38",{"$f":"IFERROR(VLOOKUP(RO20,MATCHSELEVES!$Y$14:$AE$600,3,FALSE),0)","v":0},{"$f":"IFERROR(VLOOKUP(RO20,MATCHSELEVES!$Y$14:$AE$600,4,FALSE),0)","v":0},{"$f":"IFERROR(VLOOKUP(RO20,MATCHSELEVES!$Y$14:$AE$600,5,FALSE),0)","v":0},{"$f":"IFERROR(VLOOKUP(RO20,MATCHSELEVES!$Y$14:$AF$600,8,FALSE),0)","v":0},{"$f":"IFERROR(VLOOKUP(RO20,MATCHSELEVES!$Y$14:$AG$600,9,FALSE),0)","v":0},"herbertp_39",{"$f":"IFERROR(VLOOKUP(RU20,MATCHSELEVES!$Y$14:$AE$600,3,FALSE),0)","v":0},{"$f":"IFERROR(VLOOKUP(RU20,MATCHSELEVES!$Y$14:$AE$600,4,FALSE),0)","v":0},{"$f":"IFERROR(VLOOKUP(RU20,MATCHSELEVES!$Y$14:$AE$600,5,FALSE),0)","v":0},{"$f":"IFERROR(VLOOKUP(RU20,MATCHSELEVES!$Y$14:$AF$600,8,FALSE),0)","v":0},{"$f":"IFERROR(VLOOKUP(RU20,MATCHSELEVES!$Y$14:$AG$600,9,FALSE),0)","v":0},"herbertp_40",{"$f":"IFERROR(VLOOKUP(SA20,MATCHSELEVES!$Y$14:$AE$600,3,FALSE),0)","v":0},{"$f":"IFERROR(VLOOKUP(SA20,MATCHSELEVES!$Y$14:$AE$600,4,FALSE),0)","v":0},{"$f":"IFERROR(VLOOKUP(SA20,MATCHSELEVES!$Y$14:$AE$600,5,FALSE),0)","v":0},{"$f":"IFERROR(VLOOKUP(SA20,MATCHSELEVES!$Y$14:$AF$600,8,FALSE),0)","v":0},{"$f":"IFERROR(VLOOKUP(SA20,MATCHSELEVES!$Y$14:$AG$600,9,FALSE),0)","v":0}]
[18,null,"Houaïda",18,null,null,{"$f":"COUNTIF(MATCHSELEVES!$Z$14:$Z$600,C21)+COUNTIF(MATCHSELEVES!$Z$14:$Z$600,$C21&\"p\")","v":0},1,{"$f":"COUNTIF(MATCHSELEVES!$F$14:$H$249,C21)","v":0},1,0,1,{"$f":"IFERROR(M64/Tableau10[[#This Row],[Nombre de matchs joués]],0)","v":0},{"$f":"IF(Tableau10[[#This Row],[Nombre de points encaissés]]=0,$C$45,SUMPRODUCT((M$4:M$43<M21)*(M$4:M$43<>0))+1)","v":40},0,1,{"$f":"(Tableau10[[#This Row],[CLASSEMENT1]]+Tableau10[[#This Row],[CLASSEMENT2]]+Tableau10[[#This Row],[CLASSEMENT3]]+Tableau10[[#This Row],[CLASSEMENT4]]+Tableau10[[#This Row],[CLASSEMENT5]]+Tableau10[[#This Row],[CLASSEMENT6]])/6","v":10.333333333333334},{"$f":"RANK(Tableau10[[#This Row],[MOYENNE CLASSEMENTS]],Tableau10[MOYENNE CLASSEMENTS],1)","v":18},null,{"$f":"Tableau10[[#This Row],[CLASSEMENT1]]","v":18},"Houaïda_1",{"$f":"IFERROR(VLOOKUP(U21,MATCHSELEVES!$Y$14:$AE$600,3,FALSE),0)","v":0},{"$f":"IFERROR(VLOOKUP(U21,MATCHSELEVES!$Y$14:$AE$600,4,FALSE),0)","v":0},{"$f":"IFERROR(VLOOKUP(U21,MATCHSELEVES!$Y$14:$AE$600,5,FALSE),0)","v":0},{"$f":"IFERROR(VLOOKUP(U21,MATCHSELEVES!$Y$14:$AF$600,8,FALSE),0)","v":0},{"$f":"IFERROR(VLOOKUP(U21,MATCHSELEVES!$Y$14:$AG$600,9,FALSE),0)","v":0},"Houaïda_2",{"$f":"IFERROR(VLOOKUP(AA21,MATCHSELEVES!$Y$14:$AE$600,3,FALSE),0)","v":0},{"$f":"IFERROR(VLOOKUP(AA21,MATCHSELEVES!$Y$14:$AE$600,4,FALSE),0)","v":0},{"$f":"IFERROR(VLOOKUP(AA21,MATCHSELEVES!$Y$14:$AE$600,5,FALSE),0)","v":0},{"$f":"IFERROR(VLOOKUP(AA21,MATCHSELEVES!$Y$14:$AF$600,8,FALSE),0)","v":0},{"$f":"IFERROR(VLOOKUP(AA21,MATCHSELEVES!$Y$14:$AG$600,9,FALSE),0)","v":0},"Houaïda_3",{"$f":"IFERROR(VLOOKUP(AG21,MATCHSELEVES!$Y$14:$AE$600,3,FALSE),0)","v":0},{"$f":"IFERROR(VLOOKUP(AG21,MATCHSELEVES!$Y$14:$AE$600,4,FALSE),0)","v":0},{"$f":"IFERROR(VLOOKUP(AG21,MATCHSELEVES!$Y$14:$AE$600,5,FALSE),0)","v":0},{"$f":"IFERROR(VLOOKUP(AG21,MATCHSELEVES!$Y$14:$AF$600,8,FALSE),0)","v":0},{"$f":"IFERROR(VLOOKUP(AG21,MATCHSELEVES!$Y$14:$AG$600,9,FALSE),0)","v":0},"Houaïda_4",{"$f":"IFERROR(VLOOKUP(AM21,MATCHSELEVES!$Y$14:$AE$600,3,FALSE),0)","v":0},{"$f":"IFERROR(VLOOKUP(AM21,MATCHSELEVES!$Y$14:$AE$600,4,FALSE),0)","v":0},{"$f":"IFERROR(VLOOKUP(AM21,MATCHSELEVES!$Y$14:$AE$600,5,FALSE),0)","v":0},{"$f":"IFERROR(VLOOKUP(AM21,MATCHSELEVES!$Y$14:$AF$600,8,FALSE),0)","v":0},{"$f":"IFERROR(VLOOKUP(AM21,MATCHSELEVES!$Y$14:$AG$600,9,FALSE),0)","v":0},"Houaïda_5",{"$f":"IFERROR(VLOOKUP(AS21,MATCHSELEVES!$Y$14:$AE$600,3,FALSE),0)","v":0},{"$f":"IFERROR(VLOOKUP(AS21,MATCHSELEVES!$Y$14:$AE$600,4,FALSE),0)","v":0},{"$f":"IFERROR(VLOOKUP(AS21,MATCHSELEVES!$Y$14:$AE$600,5,FALSE),0)","v":0},{"$f":"IFERROR(VLOOKUP(AS21,MATCHSELEVES!$Y$14:$AF$600,8,FALSE),0)","v":0},{"$f":"IFERROR(VLOOKUP(AS21,MATCHSELEVES!$Y$14:$AG$600,9,FALSE),0)","v":0},"Houaïda_6",{"$f":"IFERROR(VLOOKUP(AY21,MATCHSELEVES!$Y$14:$AE$600,3,FALSE),0)","v":0},{"$f":"IFERROR(VLOOKUP(AY21,MATCHSELEVES!$Y$14:$AE$600,4,FALSE),0)","v":0},{"$f":"IFERROR(VLOOKUP(AY21,MATCHSELEVES!$Y$14:$AE$600,5,FALSE),0)","v":0},{"$f":"IFERROR(VLOOKUP(AY21,MATCHSELEVES!$Y$14:$AF$600,8,FALSE),0)","v":0},{"$f":"IFERROR(VLOOKUP(AY21,MATCHSELEVES!$Y$14:$AG$600,9,FALSE),0)","v":0},"Houaïda_7",{"$f":"IFERROR(VLOOKUP(BE21,MATCHSELEVES!$Y$14:$AE$600,3,FALSE),0)","v":0},{"$f":"IFERROR(VLOOKUP(BE21,MATCHSELEVES!$Y$14:$AE$600,4,FALSE),0)","v":0},{"$f":"IFERROR(VLOOKUP(BE21,MATCHSELEVES!$Y$14:$AE$600,5,FALSE),0)","v":0},{"$f":"IFERROR(VLOOKUP(BE21,MATCHSELEVES!$Y$14:$AF$600,8,FALSE),0)","v":0},{"$f":"IFERROR(VLOOKUP(BE21,MATCHSELEVES!$Y$14:$AG$600,9,FALSE),0)","v":0},"Houaïda_8",{"$f":"IFERROR(VLOOKUP(BK21,MATCHSELEVES!$Y$14:$AE$600,3,FALSE),0)","v":0},{"$f":"IFERROR(VLOOKUP(BK21,MATCHSELEVES!$Y$14:$AE$600,4,FALSE),0)","v":0},{"$f":"IFERROR(VLOOKUP(BK21,MATCHSELEVES!$Y$14:$AE$600,5,FALSE),0)","v":0},{"$f":"IFERROR(VLOOKUP(BK21,MATCHSELEVES!$Y$14:$AF$600,8,FALSE),0)","v":0},{"$f":"IFERROR(VLOOKUP(BK21,MATCHSELEVES!$Y$14:$AG$600,9,FALSE),0)","v":0},"Houaïda_9",{"$f":"IFERROR(VLOOKUP(BQ21,MATCHSELEVES!$Y$14:$AE$600,3,FALSE),0)","v":0},{"$f":"IFERROR(VLOOKUP(BQ21,MATCHSELEVES!$Y$14:$AE$600,4,FALSE),0)","v":0},{"$f":"IFERROR(VLOOKUP(BQ21,MATCHSELEVES!$Y$14:$AE$600,5,FALSE),0)","v":0},{"$f":"IFERROR(VLOOKUP(BQ21,MATCHSELEVES!$Y$14:$AF$600,8,FALSE),0)","v":0},{"$f":"IFERROR(VLOOKUP(BQ21,MATCHSELEVES!$Y$14:$AG$600,9,FALSE),0)","v":0},"Houaïda_10",{"$f":"IFERROR(VLOOKUP(BW21,MATCHSELEVES!$Y$14:$AE$600,3,FALSE),0)","v":0},{"$f":"IFERROR(VLOOKUP(BW21,MATCHSELEVES!$Y$14:$AE$600,4,FALSE),0)","v":0},{"$f":"IFERROR(VLOOKUP(BW21,MATCHSELEVES!$Y$14:$AE$600,5,FALSE),0)","v":0},{"$f":"IFERROR(VLOOKUP(BW21,MATCHSELEVES!$Y$14:$AF$600,8,FALSE),0)","v":0},{"$f":"IFERROR(VLOOKUP(BW21,MATCHSELEVES!$Y$14:$AG$600,9,FALSE),0)","v":0},"Houaïda_11",{"$f":"IFERROR(VLOOKUP(CC21,MATCHSELEVES!$Y$14:$AE$600,3,FALSE),0)","v":0},{"$f":"IFERROR(VLOOKUP(CC21,MATCHSELEVES!$Y$14:$AE$600,4,FALSE),0)","v":0},{"$f":"IFERROR(VLOOKUP(CC21,MATCHSELEVES!$Y$14:$AE$600,5,FALSE),0)","v":0},{"$f":"IFERROR(VLOOKUP(CC21,MATCHSELEVES!$Y$14:$AF$600,8,FALSE),0)","v":0},{"$f":"IFERROR(VLOOKUP(CC21,MATCHSELEVES!$Y$14:$AG$600,9,FALSE),0)","v":0},"Houaïda_12",{"$f":"IFERROR(VLOOKUP(CI21,MATCHSELEVES!$Y$14:$AE$600,3,FALSE),0)","v":0},{"$f":"IFERROR(VLOOKUP(CI21,MATCHSELEVES!$Y$14:$AE$600,4,FALSE),0)","v":0},{"$f":"IFERROR(VLOOKUP(CI21,MATCHSELEVES!$Y$14:$AE$600,5,FALSE),0)","v":0},{"$f":"IFERROR(VLOOKUP(CI21,MATCHSELEVES!$Y$14:$AF$600,8,FALSE),0)","v":0},{"$f":"IFERROR(VLOOKUP(CI21,MATCHSELEVES!$Y$14:$AG$600,9,FALSE),0)","v":0},"Houaïda_13",{"$f":"IFERROR(VLOOKUP(CO21,MATCHSELEVES!$Y$14:$AE$600,3,FALSE),0)","v":0},{"$f":"IFERROR(VLOOKUP(CO21,MATCHSELEVES!$Y$14:$AE$600,4,FALSE),0)","v":0},{"$f":"IFERROR(VLOOKUP(CO21,MATCHSELEVES!$Y$14:$AE$600,5,FALSE),0)","v":0},{"$f":"IFERROR(VLOOKUP(CO21,MATCHSELEVES!$Y$14:$AF$600,8,FALSE),0)","v":0},{"$f":"IFERROR(VLOOKUP(CO21,MATCHSELEVES!$Y$14:$AG$600,9,FALSE),0)","v":0},"Houaïda_14",{"$f":"IFERROR(VLOOKUP(CU21,MATCHSELEVES!$Y$14:$AE$600,3,FALSE),0)","v":0},{"$f":"IFERROR(VLOOKUP(CU21,MATCHSELEVES!$Y$14:$AE$600,4,FALSE),0)","v":0},{"$f":"IFERROR(VLOOKUP(CU21,MATCHSELEVES!$Y$14:$AE$600,5,FALSE),0)","v":0},{"$f":"IFERROR(VLOOKUP(CU21,MATCHSELEVES!$Y$14:$AF$600,8,FALSE),0)","v":0},{"$f":"IFERROR(VLOOKUP(CU21,MATCHSELEVES!$Y$14:$AG$600,9,FALSE),0)","v":0},"Houaïda_15",{"$f":"IFERROR(VLOOKUP(DA21,MATCHSELEVES!$Y$14:$AE$600,3,FALSE),0)","v":0},{"$f":"IFERROR(VLOOKUP(DA21,MATCHSELEVES!$Y$14:$AE$600,4,FALSE),0)","v":0},{"$f":"IFERROR(VLOOKUP(DA21,MATCHSELEVES!$Y$14:$AE$600,5,FALSE),0)","v":0},{"$f":"IFERROR(VLOOKUP(DA21,MATCHSELEVES!$Y$14:$AF$600,8,FALSE),0)","v":0},{"$f":"IFERROR(VLOOKUP(DA21,MATCHSELEVES!$Y$14:$AG$600,9,FALSE),0)","v":0},"Houaïda_16",{"$f":"IFERROR(VLOOKUP(DG21,MATCHSELEVES!$Y$14:$AE$600,3,FALSE),0)","v":0},{"$f":"IFERROR(VLOOKUP(DG21,MATCHSELEVES!$Y$14:$AE$600,4,FALSE),0)","v":0},{"$f":"IFERROR(VLOOKUP(DG21,MATCHSELEVES!$Y$14:$AE$600,5,FALSE),0)","v":0},{"$f":"IFERROR(VLOOKUP(DG21,MATCHSELEVES!$Y$14:$AF$600,8,FALSE),0)","v":0},{"$f":"IFERROR(VLOOKUP(DG21,MATCHSELEVES!$Y$14:$AG$600,9,FALSE),0)","v":0},"Houaïda_17",{"$f":"IFERROR(VLOOKUP(DM21,MATCHSELEVES!$Y$14:$AE$600,3,FALSE),0)","v":0},{"$f":"IFERROR(VLOOKUP(DM21,MATCHSELEVES!$Y$14:$AE$600,4,FALSE),0)","v":0},{"$f":"IFERROR(VLOOKUP(DM21,MATCHSELEVES!$Y$14:$AE$600,5,FALSE),0)","v":0},{"$f":"IFERROR(VLOOKUP(DM21,MATCHSELEVES!$Y$14:$AF$600,8,FALSE),0)","v":0},{"$f":"IFERROR(VLOOKUP(DM21,MATCHSELEVES!$Y$14:$AG$600,9,FALSE),0)","v":0},"Houaïda_18",{"$f":"IFERROR(VLOOKUP(DS21,MATCHSELEVES!$Y$14:$AE$600,3,FALSE),0)","v":0},{"$f":"IFERROR(VLOOKUP(DS21,MATCHSELEVES!$Y$14:$AE$600,4,FALSE),0)","v":0},{"$f":"IFERROR(VLOOKUP(DS21,MATCHSELEVES!$Y$14:$AE$600,5,FALSE),0)","v":0},{"$f":"IFERROR(VLOOKUP(DS21,MATCHSELEVES!$Y$14:$AF$600,8,FALSE),0)","v":0},{"$f":"IFERROR(VLOOKUP(DS21,MATCHSELEVES!$Y$14:$AG$600,9,FALSE),0)","v":0},"Houaïda_19",{"$f":"IFERROR(VLOOKUP(DY21,MATCHSELEVES!$Y$14:$AE$600,3,FALSE),0)","v":0},{"$f":"IFERROR(VLOOKUP(DY21,MATCHSELEVES!$Y$14:$AE$600,4,FALSE),0)","v":0},{"$f":"IFERROR(VLOOKUP(DY21,MATCHSELEVES!$Y$14:$AE$600,5,FALSE),0)","v":0},{"$f":"IFERROR(VLOOKUP(DY21,MATCHSELEVES!$Y$14:$AF$600,8,FALSE),0)","v":0},{"$f":"IFERROR(VLOOKUP(DY21,MATCHSELEVES!$Y$14:$AG$600,9,FALSE),0)","v":0},"Houaïda_20",{"$f":"IFERROR(VLOOKUP(EE21,MATCHSELEVES!$Y$14:$AE$600,3,FALSE),0)","v":0},{"$f":"IFERROR(VLOOKUP(EE21,MATCHSELEVES!$Y$14:$AE$600,4,FALSE),0)","v":0},{"$f":"IFERROR(VLOOKUP(EE21,MATCHSELEVES!$Y$14:$AE$600,5,FALSE),0)","v":0},{"$f":"IFERROR(VLOOKUP(EE21,MATCHSELEVES!$Y$14:$AF$600,8,FALSE),0)","v":0},{"$f":"IFERROR(VLOOKUP(EE21,MATCHSELEVES!$Y$14:$AG$600,9,FALSE),0)","v":0},"Houaïda_21",{"$f":"IFERROR(VLOOKUP(EK21,MATCHSELEVES!$Y$14:$AE$600,3,FALSE),0)","v":0},{"$f":"IFERROR(VLOOKUP(EK21,MATCHSELEVES!$Y$14:$AE$600,4,FALSE),0)","v":0},{"$f":"IFERROR(VLOOKUP(EK21,MATCHSELEVES!$Y$14:$AE$600,5,FALSE),0)","v":0},{"$f":"IFERROR(VLOOKUP(EK21,MATCHSELEVES!$Y$14:$AF$600,8,FALSE),0)","v":0},{"$f":"IFERROR(VLOOKUP(EK21,MATCHSELEVES!$Y$14:$AG$600,9,FALSE),0)","v":0},"Houaïda_22",{"$f":"IFERROR(VLOOKUP(EQ21,MATCHSELEVES!$Y$14:$AE$600,3,FALSE),0)","v":0},{"$f":"IFERROR(VLOOKUP(EQ21,MATCHSELEVES!$Y$14:$AE$600,4,FALSE),0)","v":0},{"$f":"IFERROR(VLOOKUP(EQ21,MATCHSELEVES!$Y$14:$AE$600,5,FALSE),0)","v":0},{"$f":"IFERROR(VLOOKUP(EQ21,MATCHSELEVES!$Y$14:$AF$600,8,FALSE),0)","v":0},{"$f":"IFERROR(VLOOKUP(EQ21,MATCHSELEVES!$Y$14:$AG$600,9,FALSE),0)","v":0},"Houaïda_23",{"$f":"IFERROR(VLOOKUP(EW21,MATCHSELEVES!$Y$14:$AE$600,3,FALSE),0)","v":0},{"$f":"IFERROR(VLOOKUP(EW21,MATCHSELEVES!$Y$14:$AE$600,4,FALSE),0)","v":0},{"$f":"IFERROR(VLOOKUP(EW21,MATCHSELEVES!$Y$14:$AE$600,5,FALSE),0)","v":0},{"$f":"IFERROR(VLOOKUP(EW21,MATCHSELEVES!$Y$14:$AF$600,8,FALSE),0)","v":0},{"$f":"IFERROR(VLOOKUP(EW21,MATCHSELEVES!$Y$14:$AG$600,9,FALSE),0)","v":0},"Houaïda_24",{"$f":"IFERROR(VLOOKUP(FC21,MATCHSELEVES!$Y$14:$AE$600,3,FALSE),0)","v":0},{"$f":"IFERROR(VLOOKUP(FC21,MATCHSELEVES!$Y$14:$AE$600,4,FALSE),0)","v":0},{"$f":"IFERROR(VLOOKUP(FC21,MATCHSELEVES!$Y$14:$AE$600,5,FALSE),0)","v":0},{"$f":"IFERROR(VLOOKUP(FC21,MATCHSELEVES!$Y$14:$AF$600,8,FALSE),0)","v":0},{"$f":"IFERROR(VLOOKUP(FC21,MATCHSELEVES!$Y$14:$AG$600,9,FALSE),0)","v":0},"Houaïda_25",{"$f":"IFERROR(VLOOKUP(FI21,MATCHSELEVES!$Y$14:$AE$600,3,FALSE),0)","v":0},{"$f":"IFERROR(VLOOKUP(FI21,MATCHSELEVES!$Y$14:$AE$600,4,FALSE),0)","v":0},{"$f":"IFERROR(VLOOKUP(FI21,MATCHSELEVES!$Y$14:$AE$600,5,FALSE),0)","v":0},{"$f":"IFERROR(VLOOKUP(FI21,MATCHSELEVES!$Y$14:$AF$600,8,FALSE),0)","v":0},{"$f":"IFERROR(VLOOKUP(FI21,MATCHSELEVES!$Y$14:$AG$600,9,FALSE),0)","v":0},"Houaïda_26",{"$f":"IFERROR(VLOOKUP(FO21,MATCHSELEVES!$Y$14:$AE$600,3,FALSE),0)","v":0},{"$f":"IFERROR(VLOOKUP(FO21,MATCHSELEVES!$Y$14:$AE$600,4,FALSE),0)","v":0},{"$f":"IFERROR(VLOOKUP(FO21,MATCHSELEVES!$Y$14:$AE$600,5,FALSE),0)","v":0},{"$f":"IFERROR(VLOOKUP(FO21,MATCHSELEVES!$Y$14:$AF$600,8,FALSE),0)","v":0},{"$f":"IFERROR(VLOOKUP(FO21,MATCHSELEVES!$Y$14:$AG$600,9,FALSE),0)","v":0},"Houaïda_27",{"$f":"IFERROR(VLOOKUP(FU21,MATCHSELEVES!$Y$14:$AE$600,3,FALSE),0)","v":0},{"$f":"IFERROR(VLOOKUP(FU21,MATCHSELEVES!$Y$14:$AE$600,4,FALSE),0)","v":0},{"$f":"IFERROR(VLOOKUP(FU21,MATCHSELEVES!$Y$14:$AE$600,5,FALSE),0)","v":0},{"$f":"IFERROR(VLOOKUP(FU21,MATCHSELEVES!$Y$14:$AF$600,8,FALSE),0)","v":0},{"$f":"IFERROR(VLOOKUP(FU21,MATCHSELEVES!$Y$14:$AG$600,9,FALSE),0)","v":0},"Houaïda_28",{"$f":"IFERROR(VLOOKUP(GA21,MATCHSELEVES!$Y$14:$AE$600,3,FALSE),0)","v":0},{"$f":"IFERROR(VLOOKUP(GA21,MATCHSELEVES!$Y$14:$AE$600,4,FALSE),0)","v":0},{"$f":"IFERROR(VLOOKUP(GA21,MATCHSELEVES!$Y$14:$AE$600,5,FALSE),0)","v":0},{"$f":"IFERROR(VLOOKUP(GA21,MATCHSELEVES!$Y$14:$AF$600,8,FALSE),0)","v":0},{"$f":"IFERROR(VLOOKUP(GA21,MATCHSELEVES!$Y$14:$AG$600,9,FALSE),0)","v":0},"Houaïda_29",{"$f":"IFERROR(VLOOKUP(GG21,MATCHSELEVES!$Y$14:$AE$600,3,FALSE),0)","v":0},{"$f":"IFERROR(VLOOKUP(GG21,MATCHSELEVES!$Y$14:$AE$600,4,FALSE),0)","v":0},{"$f":"IFERROR(VLOOKUP(GG21,MATCHSELEVES!$Y$14:$AE$600,5,FALSE),0)","v":0},{"$f":"IFERROR(VLOOKUP(GG21,MATCHSELEVES!$Y$14:$AF$600,8,FALSE),0)","v":0},{"$f":"IFERROR(VLOOKUP(GG21,MATCHSELEVES!$Y$14:$AG$600,9,FALSE),0)","v":0},"Houaïda_30",{"$f":"IFERROR(VLOOKUP(GM21,MATCHSELEVES!$Y$14:$AE$600,3,FALSE),0)","v":0},{"$f":"IFERROR(VLOOKUP(GM21,MATCHSELEVES!$Y$14:$AE$600,4,FALSE),0)","v":0},{"$f":"IFERROR(VLOOKUP(GM21,MATCHSELEVES!$Y$14:$AE$600,5,FALSE),0)","v":0},{"$f":"IFERROR(VLOOKUP(GM21,MATCHSELEVES!$Y$14:$AF$600,8,FALSE),0)","v":0},{"$f":"IFERROR(VLOOKUP(GM21,MATCHSELEVES!$Y$14:$AG$600,9,FALSE),0)","v":0},"Houaïda_31",{"$f":"IFERROR(VLOOKUP(GS21,MATCHSELEVES!$Y$14:$AE$600,3,FALSE),0)","v":0},{"$f":"IFERROR(VLOOKUP(GS21,MATCHSELEVES!$Y$14:$AE$600,4,FALSE),0)","v":0},{"$f":"IFERROR(VLOOKUP(GS21,MATCHSELEVES!$Y$14:$AE$600,5,FALSE),0)","v":0},{"$f":"IFERROR(VLOOKUP(GS21,MATCHSELEVES!$Y$14:$AF$600,8,FALSE),0)","v":0},{"$f":"IFERROR(VLOOKUP(GS21,MATCHSELEVES!$Y$14:$AG$600,9,FALSE),0)","v":0},"Houaïda_32",{"$f":"IFERROR(VLOOKUP(GY21,MATCHSELEVES!$Y$14:$AE$600,3,FALSE),0)","v":0},{"$f":"IFERROR(VLOOKUP(GY21,MATCHSELEVES!$Y$14:$AE$600,4,FALSE),0)","v":0},{"$f":"IFERROR(VLOOKUP(GY21,MATCHSELEVES!$Y$14:$AE$600,5,FALSE),0)","v":0},{"$f":"IFERROR(VLOOKUP(GY21,MATCHSELEVES!$Y$14:$AF$600,8,FALSE),0)","v":0},{"$f":"IFERROR(VLOOKUP(GY21,MATCHSELEVES!$Y$14:$AG$600,9,FALSE),0)","v":0},"Houaïda_33",{"$f":"IFERROR(VLOOKUP(HE21,MATCHSELEVES!$Y$14:$AE$600,3,FALSE),0)","v":0},{"$f":"IFERROR(VLOOKUP(HE21,MATCHSELEVES!$Y$14:$AE$600,4,FALSE),0)","v":0},{"$f":"IFERROR(VLOOKUP(HE21,MATCHSELEVES!$Y$14:$AE$600,5,FALSE),0)","v":0},{"$f":"IFERROR(VLOOKUP(HE21,MATCHSELEVES!$Y$14:$AF$600,8,FALSE),0)","v":0},{"$f":"IFERROR(VLOOKUP(HE21,MATCHSELEVES!$Y$14:$AG$600,9,FALSE),0)","v":0},"Houaïda_34",{"$f":"IFERROR(VLOOKUP(HK21,MATCHSELEVES!$Y$14:$AE$600,3,FALSE),0)","v":0},{"$f":"IFERROR(VLOOKUP(HK21,MATCHSELEVES!$Y$14:$AE$600,4,FALSE),0)","v":0},{"$f":"IFERROR(VLOOKUP(HK21,MATCHSELEVES!$Y$14:$AE$600,5,FALSE),0)","v":0},{"$f":"IFERROR(VLOOKUP(HK21,MATCHSELEVES!$Y$14:$AF$600,8,FALSE),0)","v":0},{"$f":"IFERROR(VLOOKUP(HK21,MATCHSELEVES!$Y$14:$AG$600,9,FALSE),0)","v":0},"Houaïda_35",{"$f":"IFERROR(VLOOKUP(HQ21,MATCHSELEVES!$Y$14:$AE$600,3,FALSE),0)","v":0},{"$f":"IFERROR(VLOOKUP(HQ21,MATCHSELEVES!$Y$14:$AE$600,4,FALSE),0)","v":0},{"$f":"IFERROR(VLOOKUP(HQ21,MATCHSELEVES!$Y$14:$AE$600,5,FALSE),0)","v":0},{"$f":"IFERROR(VLOOKUP(HQ21,MATCHSELEVES!$Y$14:$AF$600,8,FALSE),0)","v":0},{"$f":"IFERROR(VLOOKUP(HQ21,MATCHSELEVES!$Y$14:$AG$600,9,FALSE),0)","v":0},"Houaïda_36",{"$f":"IFERROR(VLOOKUP(HW21,MATCHSELEVES!$Y$14:$AE$600,3,FALSE),0)","v":0},{"$f":"IFERROR(VLOOKUP(HW21,MATCHSELEVES!$Y$14:$AE$600,4,FALSE),0)","v":0},{"$f":"IFERROR(VLOOKUP(HW21,MATCHSELEVES!$Y$14:$AE$600,5,FALSE),0)","v":0},{"$f":"IFERROR(VLOOKUP(HW21,MATCHSELEVES!$Y$14:$AF$600,8,FALSE),0)","v":0},{"$f":"IFERROR(VLOOKUP(HW21,MATCHSELEVES!$Y$14:$AG$600,9,FALSE),0)","v":0},"Houaïda_37",{"$f":"IFERROR(VLOOKUP(IC21,MATCHSELEVES!$Y$14:$AE$600,3,FALSE),0)","v":0},{"$f":"IFERROR(VLOOKUP(IC21,MATCHSELEVES!$Y$14:$AE$600,4,FALSE),0)","v":0},{"$f":"IFERROR(VLOOKUP(IC21,MATCHSELEVES!$Y$14:$AE$600,5,FALSE),0)","v":0},{"$f":"IFERROR(VLOOKUP(IC21,MATCHSELEVES!$Y$14:$AF$600,8,FALSE),0)","v":0},{"$f":"IFERROR(VLOOKUP(IC21,MATCHSELEVES!$Y$14:$AG$600,9,FALSE),0)","v":0},"Houaïda_38",{"$f":"IFERROR(VLOOKUP(II21,MATCHSELEVES!$Y$14:$AE$600,3,FALSE),0)","v":0},{"$f":"IFERROR(VLOOKUP(II21,MATCHSELEVES!$Y$14:$AE$600,4,FALSE),0)","v":0},{"$f":"IFERROR(VLOOKUP(II21,MATCHSELEVES!$Y$14:$AE$600,5,FALSE),0)","v":0},{"$f":"IFERROR(VLOOKUP(II21,MATCHSELEVES!$Y$14:$AF$600,8,FALSE),0)","v":0},{"$f":"IFERROR(VLOOKUP(II21,MATCHSELEVES!$Y$14:$AG$600,9,FALSE),0)","v":0},"Houaïda_39",{"$f":"IFERROR(VLOOKUP(IO21,MATCHSELEVES!$Y$14:$AE$600,3,FALSE),0)","v":0},{"$f":"IFERROR(VLOOKUP(IO21,MATCHSELEVES!$Y$14:$AE$600,4,FALSE),0)","v":0},{"$f":"IFERROR(VLOOKUP(IO21,MATCHSELEVES!$Y$14:$AE$600,5,FALSE),0)","v":0},{"$f":"IFERROR(VLOOKUP(IO21,MATCHSELEVES!$Y$14:$AF$600,8,FALSE),0)","v":0},{"$f":"IFERROR(VLOOKUP(IO21,MATCHSELEVES!$Y$14:$AG$600,9,FALSE),0)","v":0},"Houaïda_40",{"$f":"IFERROR(VLOOKUP(IU21,MATCHSELEVES!$Y$14:$AE$600,3,FALSE),0)","v":0},{"$f":"IFERROR(VLOOKUP(IU21,MATCHSELEVES!$Y$14:$AE$600,4,FALSE),0)","v":0},{"$f":"IFERROR(VLOOKUP(IU21,MATCHSELEVES!$Y$14:$AE$600,5,FALSE),0)","v":0},{"$f":"IFERROR(VLOOKUP(IU21,MATCHSELEVES!$Y$14:$AF$600,8,FALSE),0)","v":0},{"$f":"IFERROR(VLOOKUP(IU21,MATCHSELEVES!$Y$14:$AG$600,9,FALSE),0)","v":0},"Houaïdap_1",{"$f":"IFERROR(VLOOKUP(JA21,MATCHSELEVES!$Y$14:$AE$600,3,FALSE),0)","v":0},{"$f":"IFERROR(VLOOKUP(JA21,MATCHSELEVES!$Y$14:$AE$600,4,FALSE),0)","v":0},{"$f":"IFERROR(VLOOKUP(JA21,MATCHSELEVES!$Y$14:$AE$600,5,FALSE),0)","v":0},{"$f":"IFERROR(VLOOKUP(JA21,MATCHSELEVES!$Y$14:$AF$600,8,FALSE),0)","v":0},{"$f":"IFERROR(VLOOKUP(JA21,MATCHSELEVES!$Y$14:$AG$600,9,FALSE),0)","v":0},"Houaïdap_2",{"$f":"IFERROR(VLOOKUP(JG21,MATCHSELEVES!$Y$14:$AE$600,3,FALSE),0)","v":0},{"$f":"IFERROR(VLOOKUP(JG21,MATCHSELEVES!$Y$14:$AE$600,4,FALSE),0)","v":0},{"$f":"IFERROR(VLOOKUP(JG21,MATCHSELEVES!$Y$14:$AE$600,5,FALSE),0)","v":0},{"$f":"IFERROR(VLOOKUP(JG21,MATCHSELEVES!$Y$14:$AF$600,8,FALSE),0)","v":0},{"$f":"IFERROR(VLOOKUP(JG21,MATCHSELEVES!$Y$14:$AG$600,9,FALSE),0)","v":0},"Houaïdap_3",{"$f":"IFERROR(VLOOKUP(JM21,MATCHSELEVES!$Y$14:$AE$600,3,FALSE),0)","v":0},{"$f":"IFERROR(VLOOKUP(JM21,MATCHSELEVES!$Y$14:$AE$600,4,FALSE),0)","v":0},{"$f":"IFERROR(VLOOKUP(JM21,MATCHSELEVES!$Y$14:$AE$600,5,FALSE),0)","v":0},{"$f":"IFERROR(VLOOKUP(JM21,MATCHSELEVES!$Y$14:$AF$600,8,FALSE),0)","v":0},{"$f":"IFERROR(VLOOKUP(JM21,MATCHSELEVES!$Y$14:$AG$600,9,FALSE),0)","v":0},"Houaïdap_4",{"$f":"IFERROR(VLOOKUP(JS21,MATCHSELEVES!$Y$14:$AE$600,3,FALSE),0)","v":0},{"$f":"IFERROR(VLOOKUP(JS21,MATCHSELEVES!$Y$14:$AE$600,4,FALSE),0)","v":0},{"$f":"IFERROR(VLOOKUP(JS21,MATCHSELEVES!$Y$14:$AE$600,5,FALSE),0)","v":0},{"$f":"IFERROR(VLOOKUP(JS21,MATCHSELEVES!$Y$14:$AF$600,8,FALSE),0)","v":0},{"$f":"IFERROR(VLOOKUP(JS21,MATCHSELEVES!$Y$14:$AG$600,9,FALSE),0)","v":0},"Houaïdap_5",{"$f":"IFERROR(VLOOKUP(JY21,MATCHSELEVES!$Y$14:$AE$600,3,FALSE),0)","v":0},{"$f":"IFERROR(VLOOKUP(JY21,MATCHSELEVES!$Y$14:$AE$600,4,FALSE),0)","v":0},{"$f":"IFERROR(VLOOKUP(JY21,MATCHSELEVES!$Y$14:$AE$600,5,FALSE),0)","v":0},{"$f":"IFERROR(VLOOKUP(JY21,MATCHSELEVES!$Y$14:$AF$600,8,FALSE),0)","v":0},{"$f":"IFERROR(VLOOKUP(JY21,MATCHSELEVES!$Y$14:$AG$600,9,FALSE),0)","v":0},"Houaïdap_6",{"$f":"IFERROR(VLOOKUP(KE21,MATCHSELEVES!$Y$14:$AE$600,3,FALSE),0)","v":0},{"$f":"IFERROR(VLOOKUP(KE21,MATCHSELEVES!$Y$14:$AE$600,4,FALSE),0)","v":0},{"$f":"IFERROR(VLOOKUP(KE21,MATCHSELEVES!$Y$14:$AE$600,5,FALSE),0)","v":0},{"$f":"IFERROR(VLOOKUP(KE21,MATCHSELEVES!$Y$14:$AF$600,8,FALSE),0)","v":0},{"$f":"IFERROR(VLOOKUP(KE21,MATCHSELEVES!$Y$14:$AG$600,9,FALSE),0)","v":0},"Houaïdap_7",{"$f":"IFERROR(VLOOKUP(KK21,MATCHSELEVES!$Y$14:$AE$600,3,FALSE),0)","v":0},{"$f":"IFERROR(VLOOKUP(KK21,MATCHSELEVES!$Y$14:$AE$600,4,FALSE),0)","v":0},{"$f":"IFERROR(VLOOKUP(KK21,MATCHSELEVES!$Y$14:$AE$600,5,FALSE),0)","v":0},{"$f":"IFERROR(VLOOKUP(KK21,MATCHSELEVES!$Y$14:$AF$600,8,FALSE),0)","v":0},{"$f":"IFERROR(VLOOKUP(KK21,MATCHSELEVES!$Y$14:$AG$600,9,FALSE),0)","v":0},"Houaïdap_8",{"$f":"IFERROR(VLOOKUP(KQ21,MATCHSELEVES!$Y$14:$AE$600,3,FALSE),0)","v":0},{"$f":"IFERROR(VLOOKUP(KQ21,MATCHSELEVES!$Y$14:$AE$600,4,FALSE),0)","v":0},{"$f":"IFERROR(VLOOKUP(KQ21,MATCHSELEVES!$Y$14:$AE$600,5,FALSE),0)","v":0},{"$f":"IFERROR(VLOOKUP(KQ21,MATCHSELEVES!$Y$14:$AF$600,8,FALSE),0)","v":0},{"$f":"IFERROR(VLOOKUP(KQ21,MATCHSELEVES!$Y$14:$AG$600,9,FALSE),0)","v":0},"Houaïdap_9",{"$f":"IFERROR(VLOOKUP(KW21,MATCHSELEVES!$Y$14:$AE$600,3,FALSE),0)","v":0},{"$f":"IFERROR(VLOOKUP(KW21,MATCHSELEVES!$Y$14:$AE$600,4,FALSE),0)","v":0},{"$f":"IFERROR(VLOOKUP(KW21,MATCHSELEVES!$Y$14:$AE$600,5,FALSE),0)","v":0},{"$f":"IFERROR(VLOOKUP(KW21,MATCHSELEVES!$Y$14:$AF$600,8,FALSE),0)","v":0},{"$f":"IFERROR(VLOOKUP(KW21,MATCHSELEVES!$Y$14:$AG$600,9,FALSE),0)","v":0},"Houaïdap_10",{"$f":"IFERROR(VLOOKUP(LC21,MATCHSELEVES!$Y$14:$AE$600,3,FALSE),0)","v":0},{"$f":"IFERROR(VLOOKUP(LC21,MATCHSELEVES!$Y$14:$AE$600,4,FALSE),0)","v":0},{"$f":"IFERROR(VLOOKUP(LC21,MATCHSELEVES!$Y$14:$AE$600,5,FALSE),0)","v":0},{"$f":"IFERROR(VLOOKUP(LC21,MATCHSELEVES!$Y$14:$AF$600,8,FALSE),0)","v":0},{"$f":"IFERROR(VLOOKUP(LC21,MATCHSELEVES!$Y$14:$AG$600,9,FALSE),0)","v":0},"Houaïdap_11",{"$f":"IFERROR(VLOOKUP(LI21,MATCHSELEVES!$Y$14:$AE$600,3,FALSE),0)","v":0},{"$f":"IFERROR(VLOOKUP(LI21,MATCHSELEVES!$Y$14:$AE$600,4,FALSE),0)","v":0},{"$f":"IFERROR(VLOOKUP(LI21,MATCHSELEVES!$Y$14:$AE$600,5,FALSE),0)","v":0},{"$f":"IFERROR(VLOOKUP(LI21,MATCHSELEVES!$Y$14:$AF$600,8,FALSE),0)","v":0},{"$f":"IFERROR(VLOOKUP(LI21,MATCHSELEVES!$Y$14:$AG$600,9,FALSE),0)","v":0},"Houaïdap_12",{"$f":"IFERROR(VLOOKUP(LO21,MATCHSELEVES!$Y$14:$AE$600,3,FALSE),0)","v":0},{"$f":"IFERROR(VLOOKUP(LO21,MATCHSELEVES!$Y$14:$AE$600,4,FALSE),0)","v":0},{"$f":"IFERROR(VLOOKUP(LO21,MATCHSELEVES!$Y$14:$AE$600,5,FALSE),0)","v":0},{"$f":"IFERROR(VLOOKUP(LO21,MATCHSELEVES!$Y$14:$AF$600,8,FALSE),0)","v":0},{"$f":"IFERROR(VLOOKUP(LO21,MATCHSELEVES!$Y$14:$AG$600,9,FALSE),0)","v":0},"Houaïdap_13",{"$f":"IFERROR(VLOOKUP(LU21,MATCHSELEVES!$Y$14:$AE$600,3,FALSE),0)","v":0},{"$f":"IFERROR(VLOOKUP(LU21,MATCHSELEVES!$Y$14:$AE$600,4,FALSE),0)","v":0},{"$f":"IFERROR(VLOOKUP(LU21,MATCHSELEVES!$Y$14:$AE$600,5,FALSE),0)","v":0},{"$f":"IFERROR(VLOOKUP(LU21,MATCHSELEVES!$Y$14:$AF$600,8,FALSE),0)","v":0},{"$f":"IFERROR(VLOOKUP(LU21,MATCHSELEVES!$Y$14:$AG$600,9,FALSE),0)","v":0},"Houaïdap_14",{"$f":"IFERROR(VLOOKUP(MA21,MATCHSELEVES!$Y$14:$AE$600,3,FALSE),0)","v":0},{"$f":"IFERROR(VLOOKUP(MA21,MATCHSELEVES!$Y$14:$AE$600,4,FALSE),0)","v":0},{"$f":"IFERROR(VLOOKUP(MA21,MATCHSELEVES!$Y$14:$AE$600,5,FALSE),0)","v":0},{"$f":"IFERROR(VLOOKUP(MA21,MATCHSELEVES!$Y$14:$AF$600,8,FALSE),0)","v":0},{"$f":"IFERROR(VLOOKUP(MA21,MATCHSELEVES!$Y$14:$AG$600,9,FALSE),0)","v":0},"Houaïdap_15",{"$f":"IFERROR(VLOOKUP(MG21,MATCHSELEVES!$Y$14:$AE$600,3,FALSE),0)","v":0},{"$f":"IFERROR(VLOOKUP(MG21,MATCHSELEVES!$Y$14:$AE$600,4,FALSE),0)","v":0},{"$f":"IFERROR(VLOOKUP(MG21,MATCHSELEVES!$Y$14:$AE$600,5,FALSE),0)","v":0},{"$f":"IFERROR(VLOOKUP(MG21,MATCHSELEVES!$Y$14:$AF$600,8,FALSE),0)","v":0},{"$f":"IFERROR(VLOOKUP(MG21,MATCHSELEVES!$Y$14:$AG$600,9,FALSE),0)","v":0},"Houaïdap_16",{"$f":"IFERROR(VLOOKUP(MM21,MATCHSELEVES!$Y$14:$AE$600,3,FALSE),0)","v":0},{"$f":"IFERROR(VLOOKUP(MM21,MATCHSELEVES!$Y$14:$AE$600,4,FALSE),0)","v":0},{"$f":"IFERROR(VLOOKUP(MM21,MATCHSELEVES!$Y$14:$AE$600,5,FALSE),0)","v":0},{"$f":"IFERROR(VLOOKUP(MM21,MATCHSELEVES!$Y$14:$AF$600,8,FALSE),0)","v":0},{"$f":"IFERROR(VLOOKUP(MM21,MATCHSELEVES!$Y$14:$AG$600,9,FALSE),0)","v":0},"Houaïdap_17",{"$f":"IFERROR(VLOOKUP(MS21,MATCHSELEVES!$Y$14:$AE$600,3,FALSE),0)","v":0},{"$f":"IFERROR(VLOOKUP(MS21,MATCHSELEVES!$Y$14:$AE$600,4,FALSE),0)","v":0},{"$f":"IFERROR(VLOOKUP(MS21,MATCHSELEVES!$Y$14:$AE$600,5,FALSE),0)","v":0},{"$f":"IFERROR(VLOOKUP(MS21,MATCHSELEVES!$Y$14:$AF$600,8,FALSE),0)","v":0},{"$f":"IFERROR(VLOOKUP(MS21,MATCHSELEVES!$Y$14:$AG$600,9,FALSE),0)","v":0},"Houaïdap_18",{"$f":"IFERROR(VLOOKUP(MY21,MATCHSELEVES!$Y$14:$AE$600,3,FALSE),0)","v":0},{"$f":"IFERROR(VLOOKUP(MY21,MATCHSELEVES!$Y$14:$AE$600,4,FALSE),0)","v":0},{"$f":"IFERROR(VLOOKUP(MY21,MATCHSELEVES!$Y$14:$AE$600,5,FALSE),0)","v":0},{"$f":"IFERROR(VLOOKUP(MY21,MATCHSELEVES!$Y$14:$AF$600,8,FALSE),0)","v":0},{"$f":"IFERROR(VLOOKUP(MY21,MATCHSELEVES!$Y$14:$AG$600,9,FALSE),0)","v":0},"Houaïdap_19",{"$f":"IFERROR(VLOOKUP(NE21,MATCHSELEVES!$Y$14:$AE$600,3,FALSE),0)","v":0},{"$f":"IFERROR(VLOOKUP(NE21,MATCHSELEVES!$Y$14:$AE$600,4,FALSE),0)","v":0},{"$f":"IFERROR(VLOOKUP(NE21,MATCHSELEVES!$Y$14:$AE$600,5,FALSE),0)","v":0},{"$f":"IFERROR(VLOOKUP(NE21,MATCHSELEVES!$Y$14:$AF$600,8,FALSE),0)","v":0},{"$f":"IFERROR(VLOOKUP(NE21,MATCHSELEVES!$Y$14:$AG$600,9,FALSE),0)","v":0},"Houaïdap_20",{"$f":"IFERROR(VLOOKUP(NK21,MATCHSELEVES!$Y$14:$AE$600,3,FALSE),0)","v":0},{"$f":"IFERROR(VLOOKUP(NK21,MATCHSELEVES!$Y$14:$AE$600,4,FALSE),0)","v":0},{"$f":"IFERROR(VLOOKUP(NK21,MATCHSELEVES!$Y$14:$AE$600,5,FALSE),0)","v":0},{"$f":"IFERROR(VLOOKUP(NK21,MATCHSELEVES!$Y$14:$AF$600,8,FALSE),0)","v":0},{"$f":"IFERROR(VLOOKUP(NK21,MATCHSELEVES!$Y$14:$AG$600,9,FALSE),0)","v":0},"Houaïdap_21",{"$f":"IFERROR(VLOOKUP(NQ21,MATCHSELEVES!$Y$14:$AE$600,3,FALSE),0)","v":0},{"$f":"IFERROR(VLOOKUP(NQ21,MATCHSELEVES!$Y$14:$AE$600,4,FALSE),0)","v":0},{"$f":"IFERROR(VLOOKUP(NQ21,MATCHSELEVES!$Y$14:$AE$600,5,FALSE),0)","v":0},{"$f":"IFERROR(VLOOKUP(NQ21,MATCHSELEVES!$Y$14:$AF$600,8,FALSE),0)","v":0},{"$f":"IFERROR(VLOOKUP(NQ21,MATCHSELEVES!$Y$14:$AG$600,9,FALSE),0)","v":0},"Houaïdap_22",{"$f":"IFERROR(VLOOKUP(NW21,MATCHSELEVES!$Y$14:$AE$600,3,FALSE),0)","v":0},{"$f":"IFERROR(VLOOKUP(NW21,MATCHSELEVES!$Y$14:$AE$600,4,FALSE),0)","v":0},{"$f":"IFERROR(VLOOKUP(NW21,MATCHSELEVES!$Y$14:$AE$600,5,FALSE),0)","v":0},{"$f":"IFERROR(VLOOKUP(NW21,MATCHSELEVES!$Y$14:$AF$600,8,FALSE),0)","v":0},{"$f":"IFERROR(VLOOKUP(NW21,MATCHSELEVES!$Y$14:$AG$600,9,FALSE),0)","v":0},"Houaïdap_23",{"$f":"IFERROR(VLOOKUP(OC21,MATCHSELEVES!$Y$14:$AE$600,3,FALSE),0)","v":0},{"$f":"IFERROR(VLOOKUP(OC21,MATCHSELEVES!$Y$14:$AE$600,4,FALSE),0)","v":0},{"$f":"IFERROR(VLOOKUP(OC21,MATCHSELEVES!$Y$14:$AE$600,5,FALSE),0)","v":0},{"$f":"IFERROR(VLOOKUP(OC21,MATCHSELEVES!$Y$14:$AF$600,8,FALSE),0)","v":0},{"$f":"IFERROR(VLOOKUP(OC21,MATCHSELEVES!$Y$14:$AG$600,9,FALSE),0)","v":0},"Houaïdap_24",{"$f":"IFERROR(VLOOKUP(OI21,MATCHSELEVES!$Y$14:$AE$600,3,FALSE),0)","v":0},{"$f":"IFERROR(VLOOKUP(OI21,MATCHSELEVES!$Y$14:$AE$600,4,FALSE),0)","v":0},{"$f":"IFERROR(VLOOKUP(OI21,MATCHSELEVES!$Y$14:$AE$600,5,FALSE),0)","v":0},{"$f":"IFERROR(VLOOKUP(OI21,MATCHSELEVES!$Y$14:$AF$600,8,FALSE),0)","v":0},{"$f":"IFERROR(VLOOKUP(OI21,MATCHSELEVES!$Y$14:$AG$600,9,FALSE),0)","v":0},"Houaïdap_25",{"$f":"IFERROR(VLOOKUP(OO21,MATCHSELEVES!$Y$14:$AE$600,3,FALSE),0)","v":0},{"$f":"IFERROR(VLOOKUP(OO21,MATCHSELEVES!$Y$14:$AE$600,4,FALSE),0)","v":0},{"$f":"IFERROR(VLOOKUP(OO21,MATCHSELEVES!$Y$14:$AE$600,5,FALSE),0)","v":0},{"$f":"IFERROR(VLOOKUP(OO21,MATCHSELEVES!$Y$14:$AF$600,8,FALSE),0)","v":0},{"$f":"IFERROR(VLOOKUP(OO21,MATCHSELEVES!$Y$14:$AG$600,9,FALSE),0)","v":0},"Houaïdap_26",{"$f":"IFERROR(VLOOKUP(OU21,MATCHSELEVES!$Y$14:$AE$600,3,FALSE),0)","v":0},{"$f":"IFERROR(VLOOKUP(OU21,MATCHSELEVES!$Y$14:$AE$600,4,FALSE),0)","v":0},{"$f":"IFERROR(VLOOKUP(OU21,MATCHSELEVES!$Y$14:$AE$600,5,FALSE),0)","v":0},{"$f":"IFERROR(VLOOKUP(OU21,MATCHSELEVES!$Y$14:$AF$600,8,FALSE),0)","v":0},{"$f":"IFERROR(VLOOKUP(OU21,MATCHSELEVES!$Y$14:$AG$600,9,FALSE),0)","v":0},"Houaïdap_27",{"$f":"IFERROR(VLOOKUP(PA21,MATCHSELEVES!$Y$14:$AE$600,3,FALSE),0)","v":0},{"$f":"IFERROR(VLOOKUP(PA21,MATCHSELEVES!$Y$14:$AE$600,4,FALSE),0)","v":0},{"$f":"IFERROR(VLOOKUP(PA21,MATCHSELEVES!$Y$14:$AE$600,5,FALSE),0)","v":0},{"$f":"IFERROR(VLOOKUP(PA21,MATCHSELEVES!$Y$14:$AF$600,8,FALSE),0)","v":0},{"$f":"IFERROR(VLOOKUP(PA21,MATCHSELEVES!$Y$14:$AG$600,9,FALSE),0)","v":0},"Houaïdap_28",{"$f":"IFERROR(VLOOKUP(PG21,MATCHSELEVES!$Y$14:$AE$600,3,FALSE),0)","v":0},{"$f":"IFERROR(VLOOKUP(PG21,MATCHSELEVES!$Y$14:$AE$600,4,FALSE),0)","v":0},{"$f":"IFERROR(VLOOKUP(PG21,MATCHSELEVES!$Y$14:$AE$600,5,FALSE),0)","v":0},{"$f":"IFERROR(VLOOKUP(PG21,MATCHSELEVES!$Y$14:$AF$600,8,FALSE),0)","v":0},{"$f":"IFERROR(VLOOKUP(PG21,MATCHSELEVES!$Y$14:$AG$600,9,FALSE),0)","v":0},"Houaïdap_29",{"$f":"IFERROR(VLOOKUP(PM21,MATCHSELEVES!$Y$14:$AE$600,3,FALSE),0)","v":0},{"$f":"IFERROR(VLOOKUP(PM21,MATCHSELEVES!$Y$14:$AE$600,4,FALSE),0)","v":0},{"$f":"IFERROR(VLOOKUP(PM21,MATCHSELEVES!$Y$14:$AE$600,5,FALSE),0)","v":0},{"$f":"IFERROR(VLOOKUP(PM21,MATCHSELEVES!$Y$14:$AF$600,8,FALSE),0)","v":0},{"$f":"IFERROR(VLOOKUP(PM21,MATCHSELEVES!$Y$14:$AG$600,9,FALSE),0)","v":0},"Houaïdap_30",{"$f":"IFERROR(VLOOKUP(PS21,MATCHSELEVES!$Y$14:$AE$600,3,FALSE),0)","v":0},{"$f":"IFERROR(VLOOKUP(PS21,MATCHSELEVES!$Y$14:$AE$600,4,FALSE),0)","v":0},{"$f":"IFERROR(VLOOKUP(PS21,MATCHSELEVES!$Y$14:$AE$600,5,FALSE),0)","v":0},{"$f":"IFERROR(VLOOKUP(PS21,MATCHSELEVES!$Y$14:$AF$600,8,FALSE),0)","v":0},{"$f":"IFERROR(VLOOKUP(PS21,MATCHSELEVES!$Y$14:$AG$600,9,FALSE),0)","v":0},"Houaïdap_31",{"$f":"IFERROR(VLOOKUP(PY21,MATCHSELEVES!$Y$14:$AE$600,3,FALSE),0)","v":0},{"$f":"IFERROR(VLOOKUP(PY21,MATCHSELEVES!$Y$14:$AE$600,4,FALSE),0)","v":0},{"$f":"IFERROR(VLOOKUP(PY21,MATCHSELEVES!$Y$14:$AE$600,5,FALSE),0)","v":0},{"$f":"IFERROR(VLOOKUP(PY21,MATCHSELEVES!$Y$14:$AF$600,8,FALSE),0)","v":0},{"$f":"IFERROR(VLOOKUP(PY21,MATCHSELEVES!$Y$14:$AG$600,9,FALSE),0)","v":0},"Houaïdap_32",{"$f":"IFERROR(VLOOKUP(QE21,MATCHSELEVES!$Y$14:$AE$600,3,FALSE),0)","v":0},{"$f":"IFERROR(VLOOKUP(QE21,MATCHSELEVES!$Y$14:$AE$600,4,FALSE),0)","v":0},{"$f":"IFERROR(VLOOKUP(QE21,MATCHSELEVES!$Y$14:$AE$600,5,FALSE),0)","v":0},{"$f":"IFERROR(VLOOKUP(QE21,MATCHSELEVES!$Y$14:$AF$600,8,FALSE),0)","v":0},{"$f":"IFERROR(VLOOKUP(QE21,MATCHSELEVES!$Y$14:$AG$600,9,FALSE),0)","v":0},"Houaïdap_33",{"$f":"IFERROR(VLOOKUP(QK21,MATCHSELEVES!$Y$14:$AE$600,3,FALSE),0)","v":0},{"$f":"IFERROR(VLOOKUP(QK21,MATCHSELEVES!$Y$14:$AE$600,4,FALSE),0)","v":0},{"$f":"IFERROR(VLOOKUP(QK21,MATCHSELEVES!$Y$14:$AE$600,5,FALSE),0)","v":0},{"$f":"IFERROR(VLOOKUP(QK21,MATCHSELEVES!$Y$14:$AF$600,8,FALSE),0)","v":0},{"$f":"IFERROR(VLOOKUP(QK21,MATCHSELEVES!$Y$14:$AG$600,9,FALSE),0)","v":0},"Houaïdap_34",{"$f":"IFERROR(VLOOKUP(QQ21,MATCHSELEVES!$Y$14:$AE$600,3,FALSE),0)","v":0},{"$f":"IFERROR(VLOOKUP(QQ21,MATCHSELEVES!$Y$14:$AE$600,4,FALSE),0)","v":0},{"$f":"IFERROR(VLOOKUP(QQ21,MATCHSELEVES!$Y$14:$AE$600,5,FALSE),0)","v":0},{"$f":"IFERROR(VLOOKUP(QQ21,MATCHSELEVES!$Y$14:$AF$600,8,FALSE),0)","v":0},{"$f":"IFERROR(VLOOKUP(QQ21,MATCHSELEVES!$Y$14:$AG$600,9,FALSE),0)","v":0},"Houaïdap_35",{"$f":"IFERROR(VLOOKUP(QW21,MATCHSELEVES!$Y$14:$AE$600,3,FALSE),0)","v":0},{"$f":"IFERROR(VLOOKUP(QW21,MATCHSELEVES!$Y$14:$AE$600,4,FALSE),0)","v":0},{"$f":"IFERROR(VLOOKUP(QW21,MATCHSELEVES!$Y$14:$AE$600,5,FALSE),0)","v":0},{"$f":"IFERROR(VLOOKUP(QW21,MATCHSELEVES!$Y$14:$AF$600,8,FALSE),0)","v":0},{"$f":"IFERROR(VLOOKUP(QW21,MATCHSELEVES!$Y$14:$AG$600,9,FALSE),0)","v":0},"Houaïdap_36",{"$f":"IFERROR(VLOOKUP(RC21,MATCHSELEVES!$Y$14:$AE$600,3,FALSE),0)","v":0},{"$f":"IFERROR(VLOOKUP(RC21,MATCHSELEVES!$Y$14:$AE$600,4,FALSE),0)","v":0},{"$f":"IFERROR(VLOOKUP(RC21,MATCHSELEVES!$Y$14:$AE$600,5,FALSE),0)","v":0},{"$f":"IFERROR(VLOOKUP(RC21,MATCHSELEVES!$Y$14:$AF$600,8,FALSE),0)","v":0},{"$f":"IFERROR(VLOOKUP(RC21,MATCHSELEVES!$Y$14:$AG$600,9,FALSE),0)","v":0},"Houaïdap_37",{"$f":"IFERROR(VLOOKUP(RI21,MATCHSELEVES!$Y$14:$AE$600,3,FALSE),0)","v":0},{"$f":"IFERROR(VLOOKUP(RI21,MATCHSELEVES!$Y$14:$AE$600,4,FALSE),0)","v":0},{"$f":"IFERROR(VLOOKUP(RI21,MATCHSELEVES!$Y$14:$AE$600,5,FALSE),0)","v":0},{"$f":"IFERROR(VLOOKUP(RI21,MATCHSELEVES!$Y$14:$AF$600,8,FALSE),0)","v":0},{"$f":"IFERROR(VLOOKUP(RI21,MATCHSELEVES!$Y$14:$AG$600,9,FALSE),0)","v":0},"Houaïdap_38",{"$f":"IFERROR(VLOOKUP(RO21,MATCHSELEVES!$Y$14:$AE$600,3,FALSE),0)","v":0},{"$f":"IFERROR(VLOOKUP(RO21,MATCHSELEVES!$Y$14:$AE$600,4,FALSE),0)","v":0},{"$f":"IFERROR(VLOOKUP(RO21,MATCHSELEVES!$Y$14:$AE$600,5,FALSE),0)","v":0},{"$f":"IFERROR(VLOOKUP(RO21,MATCHSELEVES!$Y$14:$AF$600,8,FALSE),0)","v":0},{"$f":"IFERROR(VLOOKUP(RO21,MATCHSELEVES!$Y$14:$AG$600,9,FALSE),0)","v":0},"Houaïdap_39",{"$f":"IFERROR(VLOOKUP(RU21,MATCHSELEVES!$Y$14:$AE$600,3,FALSE),0)","v":0},{"$f":"IFERROR(VLOOKUP(RU21,MATCHSELEVES!$Y$14:$AE$600,4,FALSE),0)","v":0},{"$f":"IFERROR(VLOOKUP(RU21,MATCHSELEVES!$Y$14:$AE$600,5,FALSE),0)","v":0},{"$f":"IFERROR(VLOOKUP(RU21,MATCHSELEVES!$Y$14:$AF$600,8,FALSE),0)","v":0},{"$f":"IFERROR(VLOOKUP(RU21,MATCHSELEVES!$Y$14:$AG$600,9,FALSE),0)","v":0},"Houaïdap_40",{"$f":"IFERROR(VLOOKUP(SA21,MATCHSELEVES!$Y$14:$AE$600,3,FALSE),0)","v":0},{"$f":"IFERROR(VLOOKUP(SA21,MATCHSELEVES!$Y$14:$AE$600,4,FALSE),0)","v":0},{"$f":"IFERROR(VLOOKUP(SA21,MATCHSELEVES!$Y$14:$AE$600,5,FALSE),0)","v":0},{"$f":"IFERROR(VLOOKUP(SA21,MATCHSELEVES!$Y$14:$AF$600,8,FALSE),0)","v":0},{"$f":"IFERROR(VLOOKUP(SA21,MATCHSELEVES!$Y$14:$AG$600,9,FALSE),0)","v":0}]
[19,null,"Jade",19,null,null,{"$f":"COUNTIF(MATCHSELEVES!$Z$14:$Z$600,C22)+COUNTIF(MATCHSELEVES!$Z$14:$Z$600,$C22&\"p\")","v":0},1,{"$f":"COUNTIF(MATCHSELEVES!$F$14:$H$249,C22)","v":0},1,0,1,{"$f":"IFERROR(M65/Tableau10[[#This Row],[Nombre de matchs joués]],0)","v":0},{"$f":"IF(Tableau10[[#This Row],[Nombre de points encaissés]]=0,$C$45,SUMPRODUCT((M$4:M$43<M22)*(M$4:M$43<>0))+1)","v":40},0,1,{"$f":"(Tableau10[[#This Row],[CLASSEMENT1]]+Tableau10[[#This Row],[CLASSEMENT2]]+Tableau10[[#This Row],[CLASSEMENT3]]+Tableau10[[#This Row],[CLASSEMENT4]]+Tableau10[[#This Row],[CLASSEMENT5]]+Tableau10[[#This Row],[CLASSEMENT6]])/6","v":10.5},{"$f":"RANK(Tableau10[[#This Row],[MOYENNE CLASSEMENTS]],Tableau10[MOYENNE CLASSEMENTS],1)","v":19},null,{"$f":"Tableau10[[#This Row],[CLASSEMENT1]]","v":19},"Jade_1",{"$f":"IFERROR(VLOOKUP(U22,MATCHSELEVES!$Y$14:$AE$600,3,FALSE),0)","v":0},{"$f":"IFERROR(VLOOKUP(U22,MATCHSELEVES!$Y$14:$AE$600,4,FALSE),0)","v":0},{"$f":"IFERROR(VLOOKUP(U22,MATCHSELEVES!$Y$14:$AE$600,5,FALSE),0)","v":0},{"$f":"IFERROR(VLOOKUP(U22,MATCHSELEVES!$Y$14:$AF$600,8,FALSE),0)","v":0},{"$f":"IFERROR(VLOOKUP(U22,MATCHSELEVES!$Y$14:$AG$600,9,FALSE),0)","v":0},"Jade_2",{"$f":"IFERROR(VLOOKUP(AA22,MATCHSELEVES!$Y$14:$AE$600,3,FALSE),0)","v":0},{"$f":"IFERROR(VLOOKUP(AA22,MATCHSELEVES!$Y$14:$AE$600,4,FALSE),0)","v":0},{"$f":"IFERROR(VLOOKUP(AA22,MATCHSELEVES!$Y$14:$AE$600,5,FALSE),0)","v":0},{"$f":"IFERROR(VLOOKUP(AA22,MATCHSELEVES!$Y$14:$AF$600,8,FALSE),0)","v":0},{"$f":"IFERROR(VLOOKUP(AA22,MATCHSELEVES!$Y$14:$AG$600,9,FALSE),0)","v":0},"Jade_3",{"$f":"IFERROR(VLOOKUP(AG22,MATCHSELEVES!$Y$14:$AE$600,3,FALSE),0)","v":0},{"$f":"IFERROR(VLOOKUP(AG22,MATCHSELEVES!$Y$14:$AE$600,4,FALSE),0)","v":0},{"$f":"IFERROR(VLOOKUP(AG22,MATCHSELEVES!$Y$14:$AE$600,5,FALSE),0)","v":0},{"$f":"IFERROR(VLOOKUP(AG22,MATCHSELEVES!$Y$14:$AF$600,8,FALSE),0)","v":0},{"$f":"IFERROR(VLOOKUP(AG22,MATCHSELEVES!$Y$14:$AG$600,9,FALSE),0)","v":0},"Jade_4",{"$f":"IFERROR(VLOOKUP(AM22,MATCHSELEVES!$Y$14:$AE$600,3,FALSE),0)","v":0},{"$f":"IFERROR(VLOOKUP(AM22,MATCHSELEVES!$Y$14:$AE$600,4,FALSE),0)","v":0},{"$f":"IFERROR(VLOOKUP(AM22,MATCHSELEVES!$Y$14:$AE$600,5,FALSE),0)","v":0},{"$f":"IFERROR(VLOOKUP(AM22,MATCHSELEVES!$Y$14:$AF$600,8,FALSE),0)","v":0},{"$f":"IFERROR(VLOOKUP(AM22,MATCHSELEVES!$Y$14:$AG$600,9,FALSE),0)","v":0},"Jade_5",{"$f":"IFERROR(VLOOKUP(AS22,MATCHSELEVES!$Y$14:$AE$600,3,FALSE),0)","v":0},{"$f":"IFERROR(VLOOKUP(AS22,MATCHSELEVES!$Y$14:$AE$600,4,FALSE),0)","v":0},{"$f":"IFERROR(VLOOKUP(AS22,MATCHSELEVES!$Y$14:$AE$600,5,FALSE),0)","v":0},{"$f":"IFERROR(VLOOKUP(AS22,MATCHSELEVES!$Y$14:$AF$600,8,FALSE),0)","v":0},{"$f":"IFERROR(VLOOKUP(AS22,MATCHSELEVES!$Y$14:$AG$600,9,FALSE),0)","v":0},"Jade_6",{"$f":"IFERROR(VLOOKUP(AY22,MATCHSELEVES!$Y$14:$AE$600,3,FALSE),0)","v":0},{"$f":"IFERROR(VLOOKUP(AY22,MATCHSELEVES!$Y$14:$AE$600,4,FALSE),0)","v":0},{"$f":"IFERROR(VLOOKUP(AY22,MATCHSELEVES!$Y$14:$AE$600,5,FALSE),0)","v":0},{"$f":"IFERROR(VLOOKUP(AY22,MATCHSELEVES!$Y$14:$AF$600,8,FALSE),0)","v":0},{"$f":"IFERROR(VLOOKUP(AY22,MATCHSELEVES!$Y$14:$AG$600,9,FALSE),0)","v":0},"Jade_7",{"$f":"IFERROR(VLOOKUP(BE22,MATCHSELEVES!$Y$14:$AE$600,3,FALSE),0)","v":0},{"$f":"IFERROR(VLOOKUP(BE22,MATCHSELEVES!$Y$14:$AE$600,4,FALSE),0)","v":0},{"$f":"IFERROR(VLOOKUP(BE22,MATCHSELEVES!$Y$14:$AE$600,5,FALSE),0)","v":0},{"$f":"IFERROR(VLOOKUP(BE22,MATCHSELEVES!$Y$14:$AF$600,8,FALSE),0)","v":0},{"$f":"IFERROR(VLOOKUP(BE22,MATCHSELEVES!$Y$14:$AG$600,9,FALSE),0)","v":0},"Jade_8",{"$f":"IFERROR(VLOOKUP(BK22,MATCHSELEVES!$Y$14:$AE$600,3,FALSE),0)","v":0},{"$f":"IFERROR(VLOOKUP(BK22,MATCHSELEVES!$Y$14:$AE$600,4,FALSE),0)","v":0},{"$f":"IFERROR(VLOOKUP(BK22,MATCHSELEVES!$Y$14:$AE$600,5,FALSE),0)","v":0},{"$f":"IFERROR(VLOOKUP(BK22,MATCHSELEVES!$Y$14:$AF$600,8,FALSE),0)","v":0},{"$f":"IFERROR(VLOOKUP(BK22,MATCHSELEVES!$Y$14:$AG$600,9,FALSE),0)","v":0},"Jade_9",{"$f":"IFERROR(VLOOKUP(BQ22,MATCHSELEVES!$Y$14:$AE$600,3,FALSE),0)","v":0},{"$f":"IFERROR(VLOOKUP(BQ22,MATCHSELEVES!$Y$14:$AE$600,4,FALSE),0)","v":0},{"$f":"IFERROR(VLOOKUP(BQ22,MATCHSELEVES!$Y$14:$AE$600,5,FALSE),0)","v":0},{"$f":"IFERROR(VLOOKUP(BQ22,MATCHSELEVES!$Y$14:$AF$600,8,FALSE),0)","v":0},{"$f":"IFERROR(VLOOKUP(BQ22,MATCHSELEVES!$Y$14:$AG$600,9,FALSE),0)","v":0},"Jade_10",{"$f":"IFERROR(VLOOKUP(BW22,MATCHSELEVES!$Y$14:$AE$600,3,FALSE),0)","v":0},{"$f":"IFERROR(VLOOKUP(BW22,MATCHSELEVES!$Y$14:$AE$600,4,FALSE),0)","v":0},{"$f":"IFERROR(VLOOKUP(BW22,MATCHSELEVES!$Y$14:$AE$600,5,FALSE),0)","v":0},{"$f":"IFERROR(VLOOKUP(BW22,MATCHSELEVES!$Y$14:$AF$600,8,FALSE),0)","v":0},{"$f":"IFERROR(VLOOKUP(BW22,MATCHSELEVES!$Y$14:$AG$600,9,FALSE),0)","v":0},"Jade_11",{"$f":"IFERROR(VLOOKUP(CC22,MATCHSELEVES!$Y$14:$AE$600,3,FALSE),0)","v":0},{"$f":"IFERROR(VLOOKUP(CC22,MATCHSELEVES!$Y$14:$AE$600,4,FALSE),0)","v":0},{"$f":"IFERROR(VLOOKUP(CC22,MATCHSELEVES!$Y$14:$AE$600,5,FALSE),0)","v":0},{"$f":"IFERROR(VLOOKUP(CC22,MATCHSELEVES!$Y$14:$AF$600,8,FALSE),0)","v":0},{"$f":"IFERROR(VLOOKUP(CC22,MATCHSELEVES!$Y$14:$AG$600,9,FALSE),0)","v":0},"Jade_12",{"$f":"IFERROR(VLOOKUP(CI22,MATCHSELEVES!$Y$14:$AE$600,3,FALSE),0)","v":0},{"$f":"IFERROR(VLOOKUP(CI22,MATCHSELEVES!$Y$14:$AE$600,4,FALSE),0)","v":0},{"$f":"IFERROR(VLOOKUP(CI22,MATCHSELEVES!$Y$14:$AE$600,5,FALSE),0)","v":0},{"$f":"IFERROR(VLOOKUP(CI22,MATCHSELEVES!$Y$14:$AF$600,8,FALSE),0)","v":0},{"$f":"IFERROR(VLOOKUP(CI22,MATCHSELEVES!$Y$14:$AG$600,9,FALSE),0)","v":0},"Jade_13",{"$f":"IFERROR(VLOOKUP(CO22,MATCHSELEVES!$Y$14:$AE$600,3,FALSE),0)","v":0},{"$f":"IFERROR(VLOOKUP(CO22,MATCHSELEVES!$Y$14:$AE$600,4,FALSE),0)","v":0},{"$f":"IFERROR(VLOOKUP(CO22,MATCHSELEVES!$Y$14:$AE$600,5,FALSE),0)","v":0},{"$f":"IFERROR(VLOOKUP(CO22,MATCHSELEVES!$Y$14:$AF$600,8,FALSE),0)","v":0},{"$f":"IFERROR(VLOOKUP(CO22,MATCHSELEVES!$Y$14:$AG$600,9,FALSE),0)","v":0},"Jade_14",{"$f":"IFERROR(VLOOKUP(CU22,MATCHSELEVES!$Y$14:$AE$600,3,FALSE),0)","v":0},{"$f":"IFERROR(VLOOKUP(CU22,MATCHSELEVES!$Y$14:$AE$600,4,FALSE),0)","v":0},{"$f":"IFERROR(VLOOKUP(CU22,MATCHSELEVES!$Y$14:$AE$600,5,FALSE),0)","v":0},{"$f":"IFERROR(VLOOKUP(CU22,MATCHSELEVES!$Y$14:$AF$600,8,FALSE),0)","v":0},{"$f":"IFERROR(VLOOKUP(CU22,MATCHSELEVES!$Y$14:$AG$600,9,FALSE),0)","v":0},"Jade_15",{"$f":"IFERROR(VLOOKUP(DA22,MATCHSELEVES!$Y$14:$AE$600,3,FALSE),0)","v":0},{"$f":"IFERROR(VLOOKUP(DA22,MATCHSELEVES!$Y$14:$AE$600,4,FALSE),0)","v":0},{"$f":"IFERROR(VLOOKUP(DA22,MATCHSELEVES!$Y$14:$AE$600,5,FALSE),0)","v":0},{"$f":"IFERROR(VLOOKUP(DA22,MATCHSELEVES!$Y$14:$AF$600,8,FALSE),0)","v":0},{"$f":"IFERROR(VLOOKUP(DA22,MATCHSELEVES!$Y$14:$AG$600,9,FALSE),0)","v":0},"Jade_16",{"$f":"IFERROR(VLOOKUP(DG22,MATCHSELEVES!$Y$14:$AE$600,3,FALSE),0)","v":0},{"$f":"IFERROR(VLOOKUP(DG22,MATCHSELEVES!$Y$14:$AE$600,4,FALSE),0)","v":0},{"$f":"IFERROR(VLOOKUP(DG22,MATCHSELEVES!$Y$14:$AE$600,5,FALSE),0)","v":0},{"$f":"IFERROR(VLOOKUP(DG22,MATCHSELEVES!$Y$14:$AF$600,8,FALSE),0)","v":0},{"$f":"IFERROR(VLOOKUP(DG22,MATCHSELEVES!$Y$14:$AG$600,9,FALSE),0)","v":0},"Jade_17",{"$f":"IFERROR(VLOOKUP(DM22,MATCHSELEVES!$Y$14:$AE$600,3,FALSE),0)","v":0},{"$f":"IFERROR(VLOOKUP(DM22,MATCHSELEVES!$Y$14:$AE$600,4,FALSE),0)","v":0},{"$f":"IFERROR(VLOOKUP(DM22,MATCHSELEVES!$Y$14:$AE$600,5,FALSE),0)","v":0},{"$f":"IFERROR(VLOOKUP(DM22,MATCHSELEVES!$Y$14:$AF$600,8,FALSE),0)","v":0},{"$f":"IFERROR(VLOOKUP(DM22,MATCHSELEVES!$Y$14:$AG$600,9,FALSE),0)","v":0},"Jade_18",{"$f":"IFERROR(VLOOKUP(DS22,MATCHSELEVES!$Y$14:$AE$600,3,FALSE),0)","v":0},{"$f":"IFERROR(VLOOKUP(DS22,MATCHSELEVES!$Y$14:$AE$600,4,FALSE),0)","v":0},{"$f":"IFERROR(VLOOKUP(DS22,MATCHSELEVES!$Y$14:$AE$600,5,FALSE),0)","v":0},{"$f":"IFERROR(VLOOKUP(DS22,MATCHSELEVES!$Y$14:$AF$600,8,FALSE),0)","v":0},{"$f":"IFERROR(VLOOKUP(DS22,MATCHSELEVES!$Y$14:$AG$600,9,FALSE),0)","v":0},"Jade_19",{"$f":"IFERROR(VLOOKUP(DY22,MATCHSELEVES!$Y$14:$AE$600,3,FALSE),0)","v":0},{"$f":"IFERROR(VLOOKUP(DY22,MATCHSELEVES!$Y$14:$AE$600,4,FALSE),0)","v":0},{"$f":"IFERROR(VLOOKUP(DY22,MATCHSELEVES!$Y$14:$AE$600,5,FALSE),0)","v":0},{"$f":"IFERROR(VLOOKUP(DY22,MATCHSELEVES!$Y$14:$AF$600,8,FALSE),0)","v":0},{"$f":"IFERROR(VLOOKUP(DY22,MATCHSELEVES!$Y$14:$AG$600,9,FALSE),0)","v":0},"Jade_20",{"$f":"IFERROR(VLOOKUP(EE22,MATCHSELEVES!$Y$14:$AE$600,3,FALSE),0)","v":0},{"$f":"IFERROR(VLOOKUP(EE22,MATCHSELEVES!$Y$14:$AE$600,4,FALSE),0)","v":0},{"$f":"IFERROR(VLOOKUP(EE22,MATCHSELEVES!$Y$14:$AE$600,5,FALSE),0)","v":0},{"$f":"IFERROR(VLOOKUP(EE22,MATCHSELEVES!$Y$14:$AF$600,8,FALSE),0)","v":0},{"$f":"IFERROR(VLOOKUP(EE22,MATCHSELEVES!$Y$14:$AG$600,9,FALSE),0)","v":0},"Jade_21",{"$f":"IFERROR(VLOOKUP(EK22,MATCHSELEVES!$Y$14:$AE$600,3,FALSE),0)","v":0},{"$f":"IFERROR(VLOOKUP(EK22,MATCHSELEVES!$Y$14:$AE$600,4,FALSE),0)","v":0},{"$f":"IFERROR(VLOOKUP(EK22,MATCHSELEVES!$Y$14:$AE$600,5,FALSE),0)","v":0},{"$f":"IFERROR(VLOOKUP(EK22,MATCHSELEVES!$Y$14:$AF$600,8,FALSE),0)","v":0},{"$f":"IFERROR(VLOOKUP(EK22,MATCHSELEVES!$Y$14:$AG$600,9,FALSE),0)","v":0},"Jade_22",{"$f":"IFERROR(VLOOKUP(EQ22,MATCHSELEVES!$Y$14:$AE$600,3,FALSE),0)","v":0},{"$f":"IFERROR(VLOOKUP(EQ22,MATCHSELEVES!$Y$14:$AE$600,4,FALSE),0)","v":0},{"$f":"IFERROR(VLOOKUP(EQ22,MATCHSELEVES!$Y$14:$AE$600,5,FALSE),0)","v":0},{"$f":"IFERROR(VLOOKUP(EQ22,MATCHSELEVES!$Y$14:$AF$600,8,FALSE),0)","v":0},{"$f":"IFERROR(VLOOKUP(EQ22,MATCHSELEVES!$Y$14:$AG$600,9,FALSE),0)","v":0},"Jade_23",{"$f":"IFERROR(VLOOKUP(EW22,MATCHSELEVES!$Y$14:$AE$600,3,FALSE),0)","v":0},{"$f":"IFERROR(VLOOKUP(EW22,MATCHSELEVES!$Y$14:$AE$600,4,FALSE),0)","v":0},{"$f":"IFERROR(VLOOKUP(EW22,MATCHSELEVES!$Y$14:$AE$600,5,FALSE),0)","v":0},{"$f":"IFERROR(VLOOKUP(EW22,MATCHSELEVES!$Y$14:$AF$600,8,FALSE),0)","v":0},{"$f":"IFERROR(VLOOKUP(EW22,MATCHSELEVES!$Y$14:$AG$600,9,FALSE),0)","v":0},"Jade_24",{"$f":"IFERROR(VLOOKUP(FC22,MATCHSELEVES!$Y$14:$AE$600,3,FALSE),0)","v":0},{"$f":"IFERROR(VLOOKUP(FC22,MATCHSELEVES!$Y$14:$AE$600,4,FALSE),0)","v":0},{"$f":"IFERROR(VLOOKUP(FC22,MATCHSELEVES!$Y$14:$AE$600,5,FALSE),0)","v":0},{"$f":"IFERROR(VLOOKUP(FC22,MATCHSELEVES!$Y$14:$AF$600,8,FALSE),0)","v":0},{"$f":"IFERROR(VLOOKUP(FC22,MATCHSELEVES!$Y$14:$AG$600,9,FALSE),0)","v":0},"Jade_25",{"$f":"IFERROR(VLOOKUP(FI22,MATCHSELEVES!$Y$14:$AE$600,3,FALSE),0)","v":0},{"$f":"IFERROR(VLOOKUP(FI22,MATCHSELEVES!$Y$14:$AE$600,4,FALSE),0)","v":0},{"$f":"IFERROR(VLOOKUP(FI22,MATCHSELEVES!$Y$14:$AE$600,5,FALSE),0)","v":0},{"$f":"IFERROR(VLOOKUP(FI22,MATCHSELEVES!$Y$14:$AF$600,8,FALSE),0)","v":0},{"$f":"IFERROR(VLOOKUP(FI22,MATCHSELEVES!$Y$14:$AG$600,9,FALSE),0)","v":0},"Jade_26",{"$f":"IFERROR(VLOOKUP(FO22,MATCHSELEVES!$Y$14:$AE$600,3,FALSE),0)","v":0},{"$f":"IFERROR(VLOOKUP(FO22,MATCHSELEVES!$Y$14:$AE$600,4,FALSE),0)","v":0},{"$f":"IFERROR(VLOOKUP(FO22,MATCHSELEVES!$Y$14:$AE$600,5,FALSE),0)","v":0},{"$f":"IFERROR(VLOOKUP(FO22,MATCHSELEVES!$Y$14:$AF$600,8,FALSE),0)","v":0},{"$f":"IFERROR(VLOOKUP(FO22,MATCHSELEVES!$Y$14:$AG$600,9,FALSE),0)","v":0},"Jade_27",{"$f":"IFERROR(VLOOKUP(FU22,MATCHSELEVES!$Y$14:$AE$600,3,FALSE),0)","v":0},{"$f":"IFERROR(VLOOKUP(FU22,MATCHSELEVES!$Y$14:$AE$600,4,FALSE),0)","v":0},{"$f":"IFERROR(VLOOKUP(FU22,MATCHSELEVES!$Y$14:$AE$600,5,FALSE),0)","v":0},{"$f":"IFERROR(VLOOKUP(FU22,MATCHSELEVES!$Y$14:$AF$600,8,FALSE),0)","v":0},{"$f":"IFERROR(VLOOKUP(FU22,MATCHSELEVES!$Y$14:$AG$600,9,FALSE),0)","v":0},"Jade_28",{"$f":"IFERROR(VLOOKUP(GA22,MATCHSELEVES!$Y$14:$AE$600,3,FALSE),0)","v":0},{"$f":"IFERROR(VLOOKUP(GA22,MATCHSELEVES!$Y$14:$AE$600,4,FALSE),0)","v":0},{"$f":"IFERROR(VLOOKUP(GA22,MATCHSELEVES!$Y$14:$AE$600,5,FALSE),0)","v":0},{"$f":"IFERROR(VLOOKUP(GA22,MATCHSELEVES!$Y$14:$AF$600,8,FALSE),0)","v":0},{"$f":"IFERROR(VLOOKUP(GA22,MATCHSELEVES!$Y$14:$AG$600,9,FALSE),0)","v":0},"Jade_29",{"$f":"IFERROR(VLOOKUP(GG22,MATCHSELEVES!$Y$14:$AE$600,3,FALSE),0)","v":0},{"$f":"IFERROR(VLOOKUP(GG22,MATCHSELEVES!$Y$14:$AE$600,4,FALSE),0)","v":0},{"$f":"IFERROR(VLOOKUP(GG22,MATCHSELEVES!$Y$14:$AE$600,5,FALSE),0)","v":0},{"$f":"IFERROR(VLOOKUP(GG22,MATCHSELEVES!$Y$14:$AF$600,8,FALSE),0)","v":0},{"$f":"IFERROR(VLOOKUP(GG22,MATCHSELEVES!$Y$14:$AG$600,9,FALSE),0)","v":0},"Jade_30",{"$f":"IFERROR(VLOOKUP(GM22,MATCHSELEVES!$Y$14:$AE$600,3,FALSE),0)","v":0},{"$f":"IFERROR(VLOOKUP(GM22,MATCHSELEVES!$Y$14:$AE$600,4,FALSE),0)","v":0},{"$f":"IFERROR(VLOOKUP(GM22,MATCHSELEVES!$Y$14:$AE$600,5,FALSE),0)","v":0},{"$f":"IFERROR(VLOOKUP(GM22,MATCHSELEVES!$Y$14:$AF$600,8,FALSE),0)","v":0},{"$f":"IFERROR(VLOOKUP(GM22,MATCHSELEVES!$Y$14:$AG$600,9,FALSE),0)","v":0},"Jade_31",{"$f":"IFERROR(VLOOKUP(GS22,MATCHSELEVES!$Y$14:$AE$600,3,FALSE),0)","v":0},{"$f":"IFERROR(VLOOKUP(GS22,MATCHSELEVES!$Y$14:$AE$600,4,FALSE),0)","v":0},{"$f":"IFERROR(VLOOKUP(GS22,MATCHSELEVES!$Y$14:$AE$600,5,FALSE),0)","v":0},{"$f":"IFERROR(VLOOKUP(GS22,MATCHSELEVES!$Y$14:$AF$600,8,FALSE),0)","v":0},{"$f":"IFERROR(VLOOKUP(GS22,MATCHSELEVES!$Y$14:$AG$600,9,FALSE),0)","v":0},"Jade_32",{"$f":"IFERROR(VLOOKUP(GY22,MATCHSELEVES!$Y$14:$AE$600,3,FALSE),0)","v":0},{"$f":"IFERROR(VLOOKUP(GY22,MATCHSELEVES!$Y$14:$AE$600,4,FALSE),0)","v":0},{"$f":"IFERROR(VLOOKUP(GY22,MATCHSELEVES!$Y$14:$AE$600,5,FALSE),0)","v":0},{"$f":"IFERROR(VLOOKUP(GY22,MATCHSELEVES!$Y$14:$AF$600,8,FALSE),0)","v":0},{"$f":"IFERROR(VLOOKUP(GY22,MATCHSELEVES!$Y$14:$AG$600,9,FALSE),0)","v":0},"Jade_33",{"$f":"IFERROR(VLOOKUP(HE22,MATCHSELEVES!$Y$14:$AE$600,3,FALSE),0)","v":0},{"$f":"IFERROR(VLOOKUP(HE22,MATCHSELEVES!$Y$14:$AE$600,4,FALSE),0)","v":0},{"$f":"IFERROR(VLOOKUP(HE22,MATCHSELEVES!$Y$14:$AE$600,5,FALSE),0)","v":0},{"$f":"IFERROR(VLOOKUP(HE22,MATCHSELEVES!$Y$14:$AF$600,8,FALSE),0)","v":0},{"$f":"IFERROR(VLOOKUP(HE22,MATCHSELEVES!$Y$14:$AG$600,9,FALSE),0)","v":0},"Jade_34",{"$f":"IFERROR(VLOOKUP(HK22,MATCHSELEVES!$Y$14:$AE$600,3,FALSE),0)","v":0},{"$f":"IFERROR(VLOOKUP(HK22,MATCHSELEVES!$Y$14:$AE$600,4,FALSE),0)","v":0},{"$f":"IFERROR(VLOOKUP(HK22,MATCHSELEVES!$Y$14:$AE$600,5,FALSE),0)","v":0},{"$f":"IFERROR(VLOOKUP(HK22,MATCHSELEVES!$Y$14:$AF$600,8,FALSE),0)","v":0},{"$f":"IFERROR(VLOOKUP(HK22,MATCHSELEVES!$Y$14:$AG$600,9,FALSE),0)","v":0},"Jade_35",{"$f":"IFERROR(VLOOKUP(HQ22,MATCHSELEVES!$Y$14:$AE$600,3,FALSE),0)","v":0},{"$f":"IFERROR(VLOOKUP(HQ22,MATCHSELEVES!$Y$14:$AE$600,4,FALSE),0)","v":0},{"$f":"IFERROR(VLOOKUP(HQ22,MATCHSELEVES!$Y$14:$AE$600,5,FALSE),0)","v":0},{"$f":"IFERROR(VLOOKUP(HQ22,MATCHSELEVES!$Y$14:$AF$600,8,FALSE),0)","v":0},{"$f":"IFERROR(VLOOKUP(HQ22,MATCHSELEVES!$Y$14:$AG$600,9,FALSE),0)","v":0},"Jade_36",{"$f":"IFERROR(VLOOKUP(HW22,MATCHSELEVES!$Y$14:$AE$600,3,FALSE),0)","v":0},{"$f":"IFERROR(VLOOKUP(HW22,MATCHSELEVES!$Y$14:$AE$600,4,FALSE),0)","v":0},{"$f":"IFERROR(VLOOKUP(HW22,MATCHSELEVES!$Y$14:$AE$600,5,FALSE),0)","v":0},{"$f":"IFERROR(VLOOKUP(HW22,MATCHSELEVES!$Y$14:$AF$600,8,FALSE),0)","v":0},{"$f":"IFERROR(VLOOKUP(HW22,MATCHSELEVES!$Y$14:$AG$600,9,FALSE),0)","v":0},"Jade_37",{"$f":"IFERROR(VLOOKUP(IC22,MATCHSELEVES!$Y$14:$AE$600,3,FALSE),0)","v":0},{"$f":"IFERROR(VLOOKUP(IC22,MATCHSELEVES!$Y$14:$AE$600,4,FALSE),0)","v":0},{"$f":"IFERROR(VLOOKUP(IC22,MATCHSELEVES!$Y$14:$AE$600,5,FALSE),0)","v":0},{"$f":"IFERROR(VLOOKUP(IC22,MATCHSELEVES!$Y$14:$AF$600,8,FALSE),0)","v":0},{"$f":"IFERROR(VLOOKUP(IC22,MATCHSELEVES!$Y$14:$AG$600,9,FALSE),0)","v":0},"Jade_38",{"$f":"IFERROR(VLOOKUP(II22,MATCHSELEVES!$Y$14:$AE$600,3,FALSE),0)","v":0},{"$f":"IFERROR(VLOOKUP(II22,MATCHSELEVES!$Y$14:$AE$600,4,FALSE),0)","v":0},{"$f":"IFERROR(VLOOKUP(II22,MATCHSELEVES!$Y$14:$AE$600,5,FALSE),0)","v":0},{"$f":"IFERROR(VLOOKUP(II22,MATCHSELEVES!$Y$14:$AF$600,8,FALSE),0)","v":0},{"$f":"IFERROR(VLOOKUP(II22,MATCHSELEVES!$Y$14:$AG$600,9,FALSE),0)","v":0},"Jade_39",{"$f":"IFERROR(VLOOKUP(IO22,MATCHSELEVES!$Y$14:$AE$600,3,FALSE),0)","v":0},{"$f":"IFERROR(VLOOKUP(IO22,MATCHSELEVES!$Y$14:$AE$600,4,FALSE),0)","v":0},{"$f":"IFERROR(VLOOKUP(IO22,MATCHSELEVES!$Y$14:$AE$600,5,FALSE),0)","v":0},{"$f":"IFERROR(VLOOKUP(IO22,MATCHSELEVES!$Y$14:$AF$600,8,FALSE),0)","v":0},{"$f":"IFERROR(VLOOKUP(IO22,MATCHSELEVES!$Y$14:$AG$600,9,FALSE),0)","v":0},"Jade_40",{"$f":"IFERROR(VLOOKUP(IU22,MATCHSELEVES!$Y$14:$AE$600,3,FALSE),0)","v":0},{"$f":"IFERROR(VLOOKUP(IU22,MATCHSELEVES!$Y$14:$AE$600,4,FALSE),0)","v":0},{"$f":"IFERROR(VLOOKUP(IU22,MATCHSELEVES!$Y$14:$AE$600,5,FALSE),0)","v":0},{"$f":"IFERROR(VLOOKUP(IU22,MATCHSELEVES!$Y$14:$AF$600,8,FALSE),0)","v":0},{"$f":"IFERROR(VLOOKUP(IU22,MATCHSELEVES!$Y$14:$AG$600,9,FALSE),0)","v":0},"Jadep_1",{"$f":"IFERROR(VLOOKUP(JA22,MATCHSELEVES!$Y$14:$AE$600,3,FALSE),0)","v":0},{"$f":"IFERROR(VLOOKUP(JA22,MATCHSELEVES!$Y$14:$AE$600,4,FALSE),0)","v":0},{"$f":"IFERROR(VLOOKUP(JA22,MATCHSELEVES!$Y$14:$AE$600,5,FALSE),0)","v":0},{"$f":"IFERROR(VLOOKUP(JA22,MATCHSELEVES!$Y$14:$AF$600,8,FALSE),0)","v":0},{"$f":"IFERROR(VLOOKUP(JA22,MATCHSELEVES!$Y$14:$AG$600,9,FALSE),0)","v":0},"Jadep_2",{"$f":"IFERROR(VLOOKUP(JG22,MATCHSELEVES!$Y$14:$AE$600,3,FALSE),0)","v":0},{"$f":"IFERROR(VLOOKUP(JG22,MATCHSELEVES!$Y$14:$AE$600,4,FALSE),0)","v":0},{"$f":"IFERROR(VLOOKUP(JG22,MATCHSELEVES!$Y$14:$AE$600,5,FALSE),0)","v":0},{"$f":"IFERROR(VLOOKUP(JG22,MATCHSELEVES!$Y$14:$AF$600,8,FALSE),0)","v":0},{"$f":"IFERROR(VLOOKUP(JG22,MATCHSELEVES!$Y$14:$AG$600,9,FALSE),0)","v":0},"Jadep_3",{"$f":"IFERROR(VLOOKUP(JM22,MATCHSELEVES!$Y$14:$AE$600,3,FALSE),0)","v":0},{"$f":"IFERROR(VLOOKUP(JM22,MATCHSELEVES!$Y$14:$AE$600,4,FALSE),0)","v":0},{"$f":"IFERROR(VLOOKUP(JM22,MATCHSELEVES!$Y$14:$AE$600,5,FALSE),0)","v":0},{"$f":"IFERROR(VLOOKUP(JM22,MATCHSELEVES!$Y$14:$AF$600,8,FALSE),0)","v":0},{"$f":"IFERROR(VLOOKUP(JM22,MATCHSELEVES!$Y$14:$AG$600,9,FALSE),0)","v":0},"Jadep_4",{"$f":"IFERROR(VLOOKUP(JS22,MATCHSELEVES!$Y$14:$AE$600,3,FALSE),0)","v":0},{"$f":"IFERROR(VLOOKUP(JS22,MATCHSELEVES!$Y$14:$AE$600,4,FALSE),0)","v":0},{"$f":"IFERROR(VLOOKUP(JS22,MATCHSELEVES!$Y$14:$AE$600,5,FALSE),0)","v":0},{"$f":"IFERROR(VLOOKUP(JS22,MATCHSELEVES!$Y$14:$AF$600,8,FALSE),0)","v":0},{"$f":"IFERROR(VLOOKUP(JS22,MATCHSELEVES!$Y$14:$AG$600,9,FALSE),0)","v":0},"Jadep_5",{"$f":"IFERROR(VLOOKUP(JY22,MATCHSELEVES!$Y$14:$AE$600,3,FALSE),0)","v":0},{"$f":"IFERROR(VLOOKUP(JY22,MATCHSELEVES!$Y$14:$AE$600,4,FALSE),0)","v":0},{"$f":"IFERROR(VLOOKUP(JY22,MATCHSELEVES!$Y$14:$AE$600,5,FALSE),0)","v":0},{"$f":"IFERROR(VLOOKUP(JY22,MATCHSELEVES!$Y$14:$AF$600,8,FALSE),0)","v":0},{"$f":"IFERROR(VLOOKUP(JY22,MATCHSELEVES!$Y$14:$AG$600,9,FALSE),0)","v":0},"Jadep_6",{"$f":"IFERROR(VLOOKUP(KE22,MATCHSELEVES!$Y$14:$AE$600,3,FALSE),0)","v":0},{"$f":"IFERROR(VLOOKUP(KE22,MATCHSELEVES!$Y$14:$AE$600,4,FALSE),0)","v":0},{"$f":"IFERROR(VLOOKUP(KE22,MATCHSELEVES!$Y$14:$AE$600,5,FALSE),0)","v":0},{"$f":"IFERROR(VLOOKUP(KE22,MATCHSELEVES!$Y$14:$AF$600,8,FALSE),0)","v":0},{"$f":"IFERROR(VLOOKUP(KE22,MATCHSELEVES!$Y$14:$AG$600,9,FALSE),0)","v":0},"Jadep_7",{"$f":"IFERROR(VLOOKUP(KK22,MATCHSELEVES!$Y$14:$AE$600,3,FALSE),0)","v":0},{"$f":"IFERROR(VLOOKUP(KK22,MATCHSELEVES!$Y$14:$AE$600,4,FALSE),0)","v":0},{"$f":"IFERROR(VLOOKUP(KK22,MATCHSELEVES!$Y$14:$AE$600,5,FALSE),0)","v":0},{"$f":"IFERROR(VLOOKUP(KK22,MATCHSELEVES!$Y$14:$AF$600,8,FALSE),0)","v":0},{"$f":"IFERROR(VLOOKUP(KK22,MATCHSELEVES!$Y$14:$AG$600,9,FALSE),0)","v":0},"Jadep_8",{"$f":"IFERROR(VLOOKUP(KQ22,MATCHSELEVES!$Y$14:$AE$600,3,FALSE),0)","v":0},{"$f":"IFERROR(VLOOKUP(KQ22,MATCHSELEVES!$Y$14:$AE$600,4,FALSE),0)","v":0},{"$f":"IFERROR(VLOOKUP(KQ22,MATCHSELEVES!$Y$14:$AE$600,5,FALSE),0)","v":0},{"$f":"IFERROR(VLOOKUP(KQ22,MATCHSELEVES!$Y$14:$AF$600,8,FALSE),0)","v":0},{"$f":"IFERROR(VLOOKUP(KQ22,MATCHSELEVES!$Y$14:$AG$600,9,FALSE),0)","v":0},"Jadep_9",{"$f":"IFERROR(VLOOKUP(KW22,MATCHSELEVES!$Y$14:$AE$600,3,FALSE),0)","v":0},{"$f":"IFERROR(VLOOKUP(KW22,MATCHSELEVES!$Y$14:$AE$600,4,FALSE),0)","v":0},{"$f":"IFERROR(VLOOKUP(KW22,MATCHSELEVES!$Y$14:$AE$600,5,FALSE),0)","v":0},{"$f":"IFERROR(VLOOKUP(KW22,MATCHSELEVES!$Y$14:$AF$600,8,FALSE),0)","v":0},{"$f":"IFERROR(VLOOKUP(KW22,MATCHSELEVES!$Y$14:$AG$600,9,FALSE),0)","v":0},"Jadep_10",{"$f":"IFERROR(VLOOKUP(LC22,MATCHSELEVES!$Y$14:$AE$600,3,FALSE),0)","v":0},{"$f":"IFERROR(VLOOKUP(LC22,MATCHSELEVES!$Y$14:$AE$600,4,FALSE),0)","v":0},{"$f":"IFERROR(VLOOKUP(LC22,MATCHSELEVES!$Y$14:$AE$600,5,FALSE),0)","v":0},{"$f":"IFERROR(VLOOKUP(LC22,MATCHSELEVES!$Y$14:$AF$600,8,FALSE),0)","v":0},{"$f":"IFERROR(VLOOKUP(LC22,MATCHSELEVES!$Y$14:$AG$600,9,FALSE),0)","v":0},"Jadep_11",{"$f":"IFERROR(VLOOKUP(LI22,MATCHSELEVES!$Y$14:$AE$600,3,FALSE),0)","v":0},{"$f":"IFERROR(VLOOKUP(LI22,MATCHSELEVES!$Y$14:$AE$600,4,FALSE),0)","v":0},{"$f":"IFERROR(VLOOKUP(LI22,MATCHSELEVES!$Y$14:$AE$600,5,FALSE),0)","v":0},{"$f":"IFERROR(VLOOKUP(LI22,MATCHSELEVES!$Y$14:$AF$600,8,FALSE),0)","v":0},{"$f":"IFERROR(VLOOKUP(LI22,MATCHSELEVES!$Y$14:$AG$600,9,FALSE),0)","v":0},"Jadep_12",{"$f":"IFERROR(VLOOKUP(LO22,MATCHSELEVES!$Y$14:$AE$600,3,FALSE),0)","v":0},{"$f":"IFERROR(VLOOKUP(LO22,MATCHSELEVES!$Y$14:$AE$600,4,FALSE),0)","v":0},{"$f":"IFERROR(VLOOKUP(LO22,MATCHSELEVES!$Y$14:$AE$600,5,FALSE),0)","v":0},{"$f":"IFERROR(VLOOKUP(LO22,MATCHSELEVES!$Y$14:$AF$600,8,FALSE),0)","v":0},{"$f":"IFERROR(VLOOKUP(LO22,MATCHSELEVES!$Y$14:$AG$600,9,FALSE),0)","v":0},"Jadep_13",{"$f":"IFERROR(VLOOKUP(LU22,MATCHSELEVES!$Y$14:$AE$600,3,FALSE),0)","v":0},{"$f":"IFERROR(VLOOKUP(LU22,MATCHSELEVES!$Y$14:$AE$600,4,FALSE),0)","v":0},{"$f":"IFERROR(VLOOKUP(LU22,MATCHSELEVES!$Y$14:$AE$600,5,FALSE),0)","v":0},{"$f":"IFERROR(VLOOKUP(LU22,MATCHSELEVES!$Y$14:$AF$600,8,FALSE),0)","v":0},{"$f":"IFERROR(VLOOKUP(LU22,MATCHSELEVES!$Y$14:$AG$600,9,FALSE),0)","v":0},"Jadep_14",{"$f":"IFERROR(VLOOKUP(MA22,MATCHSELEVES!$Y$14:$AE$600,3,FALSE),0)","v":0},{"$f":"IFERROR(VLOOKUP(MA22,MATCHSELEVES!$Y$14:$AE$600,4,FALSE),0)","v":0},{"$f":"IFERROR(VLOOKUP(MA22,MATCHSELEVES!$Y$14:$AE$600,5,FALSE),0)","v":0},{"$f":"IFERROR(VLOOKUP(MA22,MATCHSELEVES!$Y$14:$AF$600,8,FALSE),0)","v":0},{"$f":"IFERROR(VLOOKUP(MA22,MATCHSELEVES!$Y$14:$AG$600,9,FALSE),0)","v":0},"Jadep_15",{"$f":"IFERROR(VLOOKUP(MG22,MATCHSELEVES!$Y$14:$AE$600,3,FALSE),0)","v":0},{"$f":"IFERROR(VLOOKUP(MG22,MATCHSELEVES!$Y$14:$AE$600,4,FALSE),0)","v":0},{"$f":"IFERROR(VLOOKUP(MG22,MATCHSELEVES!$Y$14:$AE$600,5,FALSE),0)","v":0},{"$f":"IFERROR(VLOOKUP(MG22,MATCHSELEVES!$Y$14:$AF$600,8,FALSE),0)","v":0},{"$f":"IFERROR(VLOOKUP(MG22,MATCHSELEVES!$Y$14:$AG$600,9,FALSE),0)","v":0},"Jadep_16",{"$f":"IFERROR(VLOOKUP(MM22,MATCHSELEVES!$Y$14:$AE$600,3,FALSE),0)","v":0},{"$f":"IFERROR(VLOOKUP(MM22,MATCHSELEVES!$Y$14:$AE$600,4,FALSE),0)","v":0},{"$f":"IFERROR(VLOOKUP(MM22,MATCHSELEVES!$Y$14:$AE$600,5,FALSE),0)","v":0},{"$f":"IFERROR(VLOOKUP(MM22,MATCHSELEVES!$Y$14:$AF$600,8,FALSE),0)","v":0},{"$f":"IFERROR(VLOOKUP(MM22,MATCHSELEVES!$Y$14:$AG$600,9,FALSE),0)","v":0},"Jadep_17",{"$f":"IFERROR(VLOOKUP(MS22,MATCHSELEVES!$Y$14:$AE$600,3,FALSE),0)","v":0},{"$f":"IFERROR(VLOOKUP(MS22,MATCHSELEVES!$Y$14:$AE$600,4,FALSE),0)","v":0},{"$f":"IFERROR(VLOOKUP(MS22,MATCHSELEVES!$Y$14:$AE$600,5,FALSE),0)","v":0},{"$f":"IFERROR(VLOOKUP(MS22,MATCHSELEVES!$Y$14:$AF$600,8,FALSE),0)","v":0},{"$f":"IFERROR(VLOOKUP(MS22,MATCHSELEVES!$Y$14:$AG$600,9,FALSE),0)","v":0},"Jadep_18",{"$f":"IFERROR(VLOOKUP(MY22,MATCHSELEVES!$Y$14:$AE$600,3,FALSE),0)","v":0},{"$f":"IFERROR(VLOOKUP(MY22,MATCHSELEVES!$Y$14:$AE$600,4,FALSE),0)","v":0},{"$f":"IFERROR(VLOOKUP(MY22,MATCHSELEVES!$Y$14:$AE$600,5,FALSE),0)","v":0},{"$f":"IFERROR(VLOOKUP(MY22,MATCHSELEVES!$Y$14:$AF$600,8,FALSE),0)","v":0},{"$f":"IFERROR(VLOOKUP(MY22,MATCHSELEVES!$Y$14:$AG$600,9,FALSE),0)","v":0},"Jadep_19",{"$f":"IFERROR(VLOOKUP(NE22,MATCHSELEVES!$Y$14:$AE$600,3,FALSE),0)","v":0},{"$f":"IFERROR(VLOOKUP(NE22,MATCHSELEVES!$Y$14:$AE$600,4,FALSE),0)","v":0},{"$f":"IFERROR(VLOOKUP(NE22,MATCHSELEVES!$Y$14:$AE$600,5,FALSE),0)","v":0},{"$f":"IFERROR(VLOOKUP(NE22,MATCHSELEVES!$Y$14:$AF$600,8,FALSE),0)","v":0},{"$f":"IFERROR(VLOOKUP(NE22,MATCHSELEVES!$Y$14:$AG$600,9,FALSE),0)","v":0},"Jadep_20",{"$f":"IFERROR(VLOOKUP(NK22,MATCHSELEVES!$Y$14:$AE$600,3,FALSE),0)","v":0},{"$f":"IFERROR(VLOOKUP(NK22,MATCHSELEVES!$Y$14:$AE$600,4,FALSE),0)","v":0},{"$f":"IFERROR(VLOOKUP(NK22,MATCHSELEVES!$Y$14:$AE$600,5,FALSE),0)","v":0},{"$f":"IFERROR(VLOOKUP(NK22,MATCHSELEVES!$Y$14:$AF$600,8,FALSE),0)","v":0},{"$f":"IFERROR(VLOOKUP(NK22,MATCHSELEVES!$Y$14:$AG$600,9,FALSE),0)","v":0},"Jadep_21",{"$f":"IFERROR(VLOOKUP(NQ22,MATCHSELEVES!$Y$14:$AE$600,3,FALSE),0)","v":0},{"$f":"IFERROR(VLOOKUP(NQ22,MATCHSELEVES!$Y$14:$AE$600,4,FALSE),0)","v":0},{"$f":"IFERROR(VLOOKUP(NQ22,MATCHSELEVES!$Y$14:$AE$600,5,FALSE),0)","v":0},{"$f":"IFERROR(VLOOKUP(NQ22,MATCHSELEVES!$Y$14:$AF$600,8,FALSE),0)","v":0},{"$f":"IFERROR(VLOOKUP(NQ22,MATCHSELEVES!$Y$14:$AG$600,9,FALSE),0)","v":0},"Jadep_22",{"$f":"IFERROR(VLOOKUP(NW22,MATCHSELEVES!$Y$14:$AE$600,3,FALSE),0)","v":0},{"$f":"IFERROR(VLOOKUP(NW22,MATCHSELEVES!$Y$14:$AE$600,4,FALSE),0)","v":0},{"$f":"IFERROR(VLOOKUP(NW22,MATCHSELEVES!$Y$14:$AE$600,5,FALSE),0)","v":0},{"$f":"IFERROR(VLOOKUP(NW22,MATCHSELEVES!$Y$14:$AF$600,8,FALSE),0)","v":0},{"$f":"IFERROR(VLOOKUP(NW22,MATCHSELEVES!$Y$14:$AG$600,9,FALSE),0)","v":0},"Jadep_23",{"$f":"IFERROR(VLOOKUP(OC22,MATCHSELEVES!$Y$14:$AE$600,3,FALSE),0)","v":0},{"$f":"IFERROR(VLOOKUP(OC22,MATCHSELEVES!$Y$14:$AE$600,4,FALSE),0)","v":0},{"$f":"IFERROR(VLOOKUP(OC22,MATCHSELEVES!$Y$14:$AE$600,5,FALSE),0)","v":0},{"$f":"IFERROR(VLOOKUP(OC22,MATCHSELEVES!$Y$14:$AF$600,8,FALSE),0)","v":0},{"$f":"IFERROR(VLOOKUP(OC22,MATCHSELEVES!$Y$14:$AG$600,9,FALSE),0)","v":0},"Jadep_24",{"$f":"IFERROR(VLOOKUP(OI22,MATCHSELEVES!$Y$14:$AE$600,3,FALSE),0)","v":0},{"$f":"IFERROR(VLOOKUP(OI22,MATCHSELEVES!$Y$14:$AE$600,4,FALSE),0)","v":0},{"$f":"IFERROR(VLOOKUP(OI22,MATCHSELEVES!$Y$14:$AE$600,5,FALSE),0)","v":0},{"$f":"IFERROR(VLOOKUP(OI22,MATCHSELEVES!$Y$14:$AF$600,8,FALSE),0)","v":0},{"$f":"IFERROR(VLOOKUP(OI22,MATCHSELEVES!$Y$14:$AG$600,9,FALSE),0)","v":0},"Jadep_25",{"$f":"IFERROR(VLOOKUP(OO22,MATCHSELEVES!$Y$14:$AE$600,3,FALSE),0)","v":0},{"$f":"IFERROR(VLOOKUP(OO22,MATCHSELEVES!$Y$14:$AE$600,4,FALSE),0)","v":0},{"$f":"IFERROR(VLOOKUP(OO22,MATCHSELEVES!$Y$14:$AE$600,5,FALSE),0)","v":0},{"$f":"IFERROR(VLOOKUP(OO22,MATCHSELEVES!$Y$14:$AF$600,8,FALSE),0)","v":0},{"$f":"IFERROR(VLOOKUP(OO22,MATCHSELEVES!$Y$14:$AG$600,9,FALSE),0)","v":0},"Jadep_26",{"$f":"IFERROR(VLOOKUP(OU22,MATCHSELEVES!$Y$14:$AE$600,3,FALSE),0)","v":0},{"$f":"IFERROR(VLOOKUP(OU22,MATCHSELEVES!$Y$14:$AE$600,4,FALSE),0)","v":0},{"$f":"IFERROR(VLOOKUP(OU22,MATCHSELEVES!$Y$14:$AE$600,5,FALSE),0)","v":0},{"$f":"IFERROR(VLOOKUP(OU22,MATCHSELEVES!$Y$14:$AF$600,8,FALSE),0)","v":0},{"$f":"IFERROR(VLOOKUP(OU22,MATCHSELEVES!$Y$14:$AG$600,9,FALSE),0)","v":0},"Jadep_27",{"$f":"IFERROR(VLOOKUP(PA22,MATCHSELEVES!$Y$14:$AE$600,3,FALSE),0)","v":0},{"$f":"IFERROR(VLOOKUP(PA22,MATCHSELEVES!$Y$14:$AE$600,4,FALSE),0)","v":0},{"$f":"IFERROR(VLOOKUP(PA22,MATCHSELEVES!$Y$14:$AE$600,5,FALSE),0)","v":0},{"$f":"IFERROR(VLOOKUP(PA22,MATCHSELEVES!$Y$14:$AF$600,8,FALSE),0)","v":0},{"$f":"IFERROR(VLOOKUP(PA22,MATCHSELEVES!$Y$14:$AG$600,9,FALSE),0)","v":0},"Jadep_28",{"$f":"IFERROR(VLOOKUP(PG22,MATCHSELEVES!$Y$14:$AE$600,3,FALSE),0)","v":0},{"$f":"IFERROR(VLOOKUP(PG22,MATCHSELEVES!$Y$14:$AE$600,4,FALSE),0)","v":0},{"$f":"IFERROR(VLOOKUP(PG22,MATCHSELEVES!$Y$14:$AE$600,5,FALSE),0)","v":0},{"$f":"IFERROR(VLOOKUP(PG22,MATCHSELEVES!$Y$14:$AF$600,8,FALSE),0)","v":0},{"$f":"IFERROR(VLOOKUP(PG22,MATCHSELEVES!$Y$14:$AG$600,9,FALSE),0)","v":0},"Jadep_29",{"$f":"IFERROR(VLOOKUP(PM22,MATCHSELEVES!$Y$14:$AE$600,3,FALSE),0)","v":0},{"$f":"IFERROR(VLOOKUP(PM22,MATCHSELEVES!$Y$14:$AE$600,4,FALSE),0)","v":0},{"$f":"IFERROR(VLOOKUP(PM22,MATCHSELEVES!$Y$14:$AE$600,5,FALSE),0)","v":0},{"$f":"IFERROR(VLOOKUP(PM22,MATCHSELEVES!$Y$14:$AF$600,8,FALSE),0)","v":0},{"$f":"IFERROR(VLOOKUP(PM22,MATCHSELEVES!$Y$14:$AG$600,9,FALSE),0)","v":0},"Jadep_30",{"$f":"IFERROR(VLOOKUP(PS22,MATCHSELEVES!$Y$14:$AE$600,3,FALSE),0)","v":0},{"$f":"IFERROR(VLOOKUP(PS22,MATCHSELEVES!$Y$14:$AE$600,4,FALSE),0)","v":0},{"$f":"IFERROR(VLOOKUP(PS22,MATCHSELEVES!$Y$14:$AE$600,5,FALSE),0)","v":0},{"$f":"IFERROR(VLOOKUP(PS22,MATCHSELEVES!$Y$14:$AF$600,8,FALSE),0)","v":0},{"$f":"IFERROR(VLOOKUP(PS22,MATCHSELEVES!$Y$14:$AG$600,9,FALSE),0)","v":0},"Jadep_31",{"$f":"IFERROR(VLOOKUP(PY22,MATCHSELEVES!$Y$14:$AE$600,3,FALSE),0)","v":0},{"$f":"IFERROR(VLOOKUP(PY22,MATCHSELEVES!$Y$14:$AE$600,4,FALSE),0)","v":0},{"$f":"IFERROR(VLOOKUP(PY22,MATCHSELEVES!$Y$14:$AE$600,5,FALSE),0)","v":0},{"$f":"IFERROR(VLOOKUP(PY22,MATCHSELEVES!$Y$14:$AF$600,8,FALSE),0)","v":0},{"$f":"IFERROR(VLOOKUP(PY22,MATCHSELEVES!$Y$14:$AG$600,9,FALSE),0)","v":0},"Jadep_32",{"$f":"IFERROR(VLOOKUP(QE22,MATCHSELEVES!$Y$14:$AE$600,3,FALSE),0)","v":0},{"$f":"IFERROR(VLOOKUP(QE22,MATCHSELEVES!$Y$14:$AE$600,4,FALSE),0)","v":0},{"$f":"IFERROR(VLOOKUP(QE22,MATCHSELEVES!$Y$14:$AE$600,5,FALSE),0)","v":0},{"$f":"IFERROR(VLOOKUP(QE22,MATCHSELEVES!$Y$14:$AF$600,8,FALSE),0)","v":0},{"$f":"IFERROR(VLOOKUP(QE22,MATCHSELEVES!$Y$14:$AG$600,9,FALSE),0)","v":0},"Jadep_33",{"$f":"IFERROR(VLOOKUP(QK22,MATCHSELEVES!$Y$14:$AE$600,3,FALSE),0)","v":0},{"$f":"IFERROR(VLOOKUP(QK22,MATCHSELEVES!$Y$14:$AE$600,4,FALSE),0)","v":0},{"$f":"IFERROR(VLOOKUP(QK22,MATCHSELEVES!$Y$14:$AE$600,5,FALSE),0)","v":0},{"$f":"IFERROR(VLOOKUP(QK22,MATCHSELEVES!$Y$14:$AF$600,8,FALSE),0)","v":0},{"$f":"IFERROR(VLOOKUP(QK22,MATCHSELEVES!$Y$14:$AG$600,9,FALSE),0)","v":0},"Jadep_34",{"$f":"IFERROR(VLOOKUP(QQ22,MATCHSELEVES!$Y$14:$AE$600,3,FALSE),0)","v":0},{"$f":"IFERROR(VLOOKUP(QQ22,MATCHSELEVES!$Y$14:$AE$600,4,FALSE),0)","v":0},{"$f":"IFERROR(VLOOKUP(QQ22,MATCHSELEVES!$Y$14:$AE$600,5,FALSE),0)","v":0},{"$f":"IFERROR(VLOOKUP(QQ22,MATCHSELEVES!$Y$14:$AF$600,8,FALSE),0)","v":0},{"$f":"IFERROR(VLOOKUP(QQ22,MATCHSELEVES!$Y$14:$AG$600,9,FALSE),0)","v":0},"Jadep_35",{"$f":"IFERROR(VLOOKUP(QW22,MATCHSELEVES!$Y$14:$AE$600,3,FALSE),0)","v":0},{"$f":"IFERROR(VLOOKUP(QW22,MATCHSELEVES!$Y$14:$AE$600,4,FALSE),0)","v":0},{"$f":"IFERROR(VLOOKUP(QW22,MATCHSELEVES!$Y$14:$AE$600,5,FALSE),0)","v":0},{"$f":"IFERROR(VLOOKUP(QW22,MATCHSELEVES!$Y$14:$AF$600,8,FALSE),0)","v":0},{"$f":"IFERROR(VLOOKUP(QW22,MATCHSELEVES!$Y$14:$AG$600,9,FALSE),0)","v":0},"Jadep_36",{"$f":"IFERROR(VLOOKUP(RC22,MATCHSELEVES!$Y$14:$AE$600,3,FALSE),0)","v":0},{"$f":"IFERROR(VLOOKUP(RC22,MATCHSELEVES!$Y$14:$AE$600,4,FALSE),0)","v":0},{"$f":"IFERROR(VLOOKUP(RC22,MATCHSELEVES!$Y$14:$AE$600,5,FALSE),0)","v":0},{"$f":"IFERROR(VLOOKUP(RC22,MATCHSELEVES!$Y$14:$AF$600,8,FALSE),0)","v":0},{"$f":"IFERROR(VLOOKUP(RC22,MATCHSELEVES!$Y$14:$AG$600,9,FALSE),0)","v":0},"Jadep_37",{"$f":"IFERROR(VLOOKUP(RI22,MATCHSELEVES!$Y$14:$AE$600,3,FALSE),0)","v":0},{"$f":"IFERROR(VLOOKUP(RI22,MATCHSELEVES!$Y$14:$AE$600,4,FALSE),0)","v":0},{"$f":"IFERROR(VLOOKUP(RI22,MATCHSELEVES!$Y$14:$AE$600,5,FALSE),0)","v":0},{"$f":"IFERROR(VLOOKUP(RI22,MATCHSELEVES!$Y$14:$AF$600,8,FALSE),0)","v":0},{"$f":"IFERROR(VLOOKUP(RI22,MATCHSELEVES!$Y$14:$AG$600,9,FALSE),0)","v":0},"Jadep_38",{"$f":"IFERROR(VLOOKUP(RO22,MATCHSELEVES!$Y$14:$AE$600,3,FALSE),0)","v":0},{"$f":"IFERROR(VLOOKUP(RO22,MATCHSELEVES!$Y$14:$AE$600,4,FALSE),0)","v":0},{"$f":"IFERROR(VLOOKUP(RO22,MATCHSELEVES!$Y$14:$AE$600,5,FALSE),0)","v":0},{"$f":"IFERROR(VLOOKUP(RO22,MATCHSELEVES!$Y$14:$AF$600,8,FALSE),0)","v":0},{"$f":"IFERROR(VLOOKUP(RO22,MATCHSELEVES!$Y$14:$AG$600,9,FALSE),0)","v":0},"Jadep_39",{"$f":"IFERROR(VLOOKUP(RU22,MATCHSELEVES!$Y$14:$AE$600,3,FALSE),0)","v":0},{"$f":"IFERROR(VLOOKUP(RU22,MATCHSELEVES!$Y$14:$AE$600,4,FALSE),0)","v":0},{"$f":"IFERROR(VLOOKUP(RU22,MATCHSELEVES!$Y$14:$AE$600,5,FALSE),0)","v":0},{"$f":"IFERROR(VLOOKUP(RU22,MATCHSELEVES!$Y$14:$AF$600,8,FALSE),0)","v":0},{"$f":"IFERROR(VLOOKUP(RU22,MATCHSELEVES!$Y$14:$AG$600,9,FALSE),0)","v":0},"Jadep_40",{"$f":"IFERROR(VLOOKUP(SA22,MATCHSELEVES!$Y$14:$AE$600,3,FALSE),0)","v":0},{"$f":"IFERROR(VLOOKUP(SA22,MATCHSELEVES!$Y$14:$AE$600,4,FALSE),0)","v":0},{"$f":"IFERROR(VLOOKUP(SA22,MATCHSELEVES!$Y$14:$AE$600,5,FALSE),0)","v":0},{"$f":"IFERROR(VLOOKUP(SA22,MATCHSELEVES!$Y$14:$AF$600,8,FALSE),0)","v":0},{"$f":"IFERROR(VLOOKUP(SA22,MATCHSELEVES!$Y$14:$AG$600,9,FALSE),0)","v":0}]
[20,null,"Johvany",20,null,null,{"$f":"COUNTIF(MATCHSELEVES!$Z$14:$Z$600,C23)+COUNTIF(MATCHSELEVES!$Z$14:$Z$600,$C23&\"p\")","v":0},1,{"$f":"COUNTIF(MATCHSELEVES!$F$14:$H$249,C23)","v":0},1,0,1,{"$f":"IFERROR(M66/Tableau10[[#This Row],[Nombre de matchs joués]],0)","v":0},{"$f":"IF(Tableau10[[#This Row],[Nombre de points encaissés]]=0,$C$45,SUMPRODUCT((M$4:M$43<M23)*(M$4:M$43<>0))+1)","v":40},0,1,{"$f":"(Tableau10[[#This Row],[CLASSEMENT1]]+Tableau10[[#This Row],[CLASSEMENT2]]+Tableau10[[#This Row],[CLASSEMENT3]]+Tableau10[[#This Row],[CLASSEMENT4]]+Tableau10[[#This Row],[CLASSEMENT5]]+Tableau10[[#This Row],[CLASSEMENT6]])/6","v":10.666666666666666},{"$f":"RANK(Tableau10[[#This Row],[MOYENNE CLASSEMENTS]],Tableau10[MOYENNE CLASSEMENTS],1)","v":20},null,{"$f":"Tableau10[[#This Row],[CLASSEMENT1]]","v":20},"Johvany_1",{"$f":"IFERROR(VLOOKUP(U23,MATCHSELEVES!$Y$14:$AE$600,3,FALSE),0)","v":0},{"$f":"IFERROR(VLOOKUP(U23,MATCHSELEVES!$Y$14:$AE$600,4,FALSE),0)","v":0},{"$f":"IFERROR(VLOOKUP(U23,MATCHSELEVES!$Y$14:$AE$600,5,FALSE),0)","v":0},{"$f":"IFERROR(VLOOKUP(U23,MATCHSELEVES!$Y$14:$AF$600,8,FALSE),0)","v":0},{"$f":"IFERROR(VLOOKUP(U23,MATCHSELEVES!$Y$14:$AG$600,9,FALSE),0)","v":0},"Johvany_2",{"$f":"IFERROR(VLOOKUP(AA23,MATCHSELEVES!$Y$14:$AE$600,3,FALSE),0)","v":0},{"$f":"IFERROR(VLOOKUP(AA23,MATCHSELEVES!$Y$14:$AE$600,4,FALSE),0)","v":0},{"$f":"IFERROR(VLOOKUP(AA23,MATCHSELEVES!$Y$14:$AE$600,5,FALSE),0)","v":0},{"$f":"IFERROR(VLOOKUP(AA23,MATCHSELEVES!$Y$14:$AF$600,8,FALSE),0)","v":0},{"$f":"IFERROR(VLOOKUP(AA23,MATCHSELEVES!$Y$14:$AG$600,9,FALSE),0)","v":0},"Johvany_3",{"$f":"IFERROR(VLOOKUP(AG23,MATCHSELEVES!$Y$14:$AE$600,3,FALSE),0)","v":0},{"$f":"IFERROR(VLOOKUP(AG23,MATCHSELEVES!$Y$14:$AE$600,4,FALSE),0)","v":0},{"$f":"IFERROR(VLOOKUP(AG23,MATCHSELEVES!$Y$14:$AE$600,5,FALSE),0)","v":0},{"$f":"IFERROR(VLOOKUP(AG23,MATCHSELEVES!$Y$14:$AF$600,8,FALSE),0)","v":0},{"$f":"IFERROR(VLOOKUP(AG23,MATCHSELEVES!$Y$14:$AG$600,9,FALSE),0)","v":0},"Johvany_4",{"$f":"IFERROR(VLOOKUP(AM23,MATCHSELEVES!$Y$14:$AE$600,3,FALSE),0)","v":0},{"$f":"IFERROR(VLOOKUP(AM23,MATCHSELEVES!$Y$14:$AE$600,4,FALSE),0)","v":0},{"$f":"IFERROR(VLOOKUP(AM23,MATCHSELEVES!$Y$14:$AE$600,5,FALSE),0)","v":0},{"$f":"IFERROR(VLOOKUP(AM23,MATCHSELEVES!$Y$14:$AF$600,8,FALSE),0)","v":0},{"$f":"IFERROR(VLOOKUP(AM23,MATCHSELEVES!$Y$14:$AG$600,9,FALSE),0)","v":0},"Johvany_5",{"$f":"IFERROR(VLOOKUP(AS23,MATCHSELEVES!$Y$14:$AE$600,3,FALSE),0)","v":0},{"$f":"IFERROR(VLOOKUP(AS23,MATCHSELEVES!$Y$14:$AE$600,4,FALSE),0)","v":0},{"$f":"IFERROR(VLOOKUP(AS23,MATCHSELEVES!$Y$14:$AE$600,5,FALSE),0)","v":0},{"$f":"IFERROR(VLOOKUP(AS23,MATCHSELEVES!$Y$14:$AF$600,8,FALSE),0)","v":0},{"$f":"IFERROR(VLOOKUP(AS23,MATCHSELEVES!$Y$14:$AG$600,9,FALSE),0)","v":0},"Johvany_6",{"$f":"IFERROR(VLOOKUP(AY23,MATCHSELEVES!$Y$14:$AE$600,3,FALSE),0)","v":0},{"$f":"IFERROR(VLOOKUP(AY23,MATCHSELEVES!$Y$14:$AE$600,4,FALSE),0)","v":0},{"$f":"IFERROR(VLOOKUP(AY23,MATCHSELEVES!$Y$14:$AE$600,5,FALSE),0)","v":0},{"$f":"IFERROR(VLOOKUP(AY23,MATCHSELEVES!$Y$14:$AF$600,8,FALSE),0)","v":0},{"$f":"IFERROR(VLOOKUP(AY23,MATCHSELEVES!$Y$14:$AG$600,9,FALSE),0)","v":0},"Johvany_7",{"$f":"IFERROR(VLOOKUP(BE23,MATCHSELEVES!$Y$14:$AE$600,3,FALSE),0)","v":0},{"$f":"IFERROR(VLOOKUP(BE23,MATCHSELEVES!$Y$14:$AE$600,4,FALSE),0)","v":0},{"$f":"IFERROR(VLOOKUP(BE23,MATCHSELEVES!$Y$14:$AE$600,5,FALSE),0)","v":0},{"$f":"IFERROR(VLOOKUP(BE23,MATCHSELEVES!$Y$14:$AF$600,8,FALSE),0)","v":0},{"$f":"IFERROR(VLOOKUP(BE23,MATCHSELEVES!$Y$14:$AG$600,9,FALSE),0)","v":0},"Johvany_8",{"$f":"IFERROR(VLOOKUP(BK23,MATCHSELEVES!$Y$14:$AE$600,3,FALSE),0)","v":0},{"$f":"IFERROR(VLOOKUP(BK23,MATCHSELEVES!$Y$14:$AE$600,4,FALSE),0)","v":0},{"$f":"IFERROR(VLOOKUP(BK23,MATCHSELEVES!$Y$14:$AE$600,5,FALSE),0)","v":0},{"$f":"IFERROR(VLOOKUP(BK23,MATCHSELEVES!$Y$14:$AF$600,8,FALSE),0)","v":0},{"$f":"IFERROR(VLOOKUP(BK23,MATCHSELEVES!$Y$14:$AG$600,9,FALSE),0)","v":0},"Johvany_9",{"$f":"IFERROR(VLOOKUP(BQ23,MATCHSELEVES!$Y$14:$AE$600,3,FALSE),0)","v":0},{"$f":"IFERROR(VLOOKUP(BQ23,MATCHSELEVES!$Y$14:$AE$600,4,FALSE),0)","v":0},{"$f":"IFERROR(VLOOKUP(BQ23,MATCHSELEVES!$Y$14:$AE$600,5,FALSE),0)","v":0},{"$f":"IFERROR(VLOOKUP(BQ23,MATCHSELEVES!$Y$14:$AF$600,8,FALSE),0)","v":0},{"$f":"IFERROR(VLOOKUP(BQ23,MATCHSELEVES!$Y$14:$AG$600,9,FALSE),0)","v":0},"Johvany_10",{"$f":"IFERROR(VLOOKUP(BW23,MATCHSELEVES!$Y$14:$AE$600,3,FALSE),0)","v":0},{"$f":"IFERROR(VLOOKUP(BW23,MATCHSELEVES!$Y$14:$AE$600,4,FALSE),0)","v":0},{"$f":"IFERROR(VLOOKUP(BW23,MATCHSELEVES!$Y$14:$AE$600,5,FALSE),0)","v":0},{"$f":"IFERROR(VLOOKUP(BW23,MATCHSELEVES!$Y$14:$AF$600,8,FALSE),0)","v":0},{"$f":"IFERROR(VLOOKUP(BW23,MATCHSELEVES!$Y$14:$AG$600,9,FALSE),0)","v":0},"Johvany_11",{"$f":"IFERROR(VLOOKUP(CC23,MATCHSELEVES!$Y$14:$AE$600,3,FALSE),0)","v":0},{"$f":"IFERROR(VLOOKUP(CC23,MATCHSELEVES!$Y$14:$AE$600,4,FALSE),0)","v":0},{"$f":"IFERROR(VLOOKUP(CC23,MATCHSELEVES!$Y$14:$AE$600,5,FALSE),0)","v":0},{"$f":"IFERROR(VLOOKUP(CC23,MATCHSELEVES!$Y$14:$AF$600,8,FALSE),0)","v":0},{"$f":"IFERROR(VLOOKUP(CC23,MATCHSELEVES!$Y$14:$AG$600,9,FALSE),0)","v":0},"Johvany_12",{"$f":"IFERROR(VLOOKUP(CI23,MATCHSELEVES!$Y$14:$AE$600,3,FALSE),0)","v":0},{"$f":"IFERROR(VLOOKUP(CI23,MATCHSELEVES!$Y$14:$AE$600,4,FALSE),0)","v":0},{"$f":"IFERROR(VLOOKUP(CI23,MATCHSELEVES!$Y$14:$AE$600,5,FALSE),0)","v":0},{"$f":"IFERROR(VLOOKUP(CI23,MATCHSELEVES!$Y$14:$AF$600,8,FALSE),0)","v":0},{"$f":"IFERROR(VLOOKUP(CI23,MATCHSELEVES!$Y$14:$AG$600,9,FALSE),0)","v":0},"Johvany_13",{"$f":"IFERROR(VLOOKUP(CO23,MATCHSELEVES!$Y$14:$AE$600,3,FALSE),0)","v":0},{"$f":"IFERROR(VLOOKUP(CO23,MATCHSELEVES!$Y$14:$AE$600,4,FALSE),0)","v":0},{"$f":"IFERROR(VLOOKUP(CO23,MATCHSELEVES!$Y$14:$AE$600,5,FALSE),0)","v":0},{"$f":"IFERROR(VLOOKUP(CO23,MATCHSELEVES!$Y$14:$AF$600,8,FALSE),0)","v":0},{"$f":"IFERROR(VLOOKUP(CO23,MATCHSELEVES!$Y$14:$AG$600,9,FALSE),0)","v":0},"Johvany_14",{"$f":"IFERROR(VLOOKUP(CU23,MATCHSELEVES!$Y$14:$AE$600,3,FALSE),0)","v":0},{"$f":"IFERROR(VLOOKUP(CU23,MATCHSELEVES!$Y$14:$AE$600,4,FALSE),0)","v":0},{"$f":"IFERROR(VLOOKUP(CU23,MATCHSELEVES!$Y$14:$AE$600,5,FALSE),0)","v":0},{"$f":"IFERROR(VLOOKUP(CU23,MATCHSELEVES!$Y$14:$AF$600,8,FALSE),0)","v":0},{"$f":"IFERROR(VLOOKUP(CU23,MATCHSELEVES!$Y$14:$AG$600,9,FALSE),0)","v":0},"Johvany_15",{"$f":"IFERROR(VLOOKUP(DA23,MATCHSELEVES!$Y$14:$AE$600,3,FALSE),0)","v":0},{"$f":"IFERROR(VLOOKUP(DA23,MATCHSELEVES!$Y$14:$AE$600,4,FALSE),0)","v":0},{"$f":"IFERROR(VLOOKUP(DA23,MATCHSELEVES!$Y$14:$AE$600,5,FALSE),0)","v":0},{"$f":"IFERROR(VLOOKUP(DA23,MATCHSELEVES!$Y$14:$AF$600,8,FALSE),0)","v":0},{"$f":"IFERROR(VLOOKUP(DA23,MATCHSELEVES!$Y$14:$AG$600,9,FALSE),0)","v":0},"Johvany_16",{"$f":"IFERROR(VLOOKUP(DG23,MATCHSELEVES!$Y$14:$AE$600,3,FALSE),0)","v":0},{"$f":"IFERROR(VLOOKUP(DG23,MATCHSELEVES!$Y$14:$AE$600,4,FALSE),0)","v":0},{"$f":"IFERROR(VLOOKUP(DG23,MATCHSELEVES!$Y$14:$AE$600,5,FALSE),0)","v":0},{"$f":"IFERROR(VLOOKUP(DG23,MATCHSELEVES!$Y$14:$AF$600,8,FALSE),0)","v":0},{"$f":"IFERROR(VLOOKUP(DG23,MATCHSELEVES!$Y$14:$AG$600,9,FALSE),0)","v":0},"Johvany_17",{"$f":"IFERROR(VLOOKUP(DM23,MATCHSELEVES!$Y$14:$AE$600,3,FALSE),0)","v":0},{"$f":"IFERROR(VLOOKUP(DM23,MATCHSELEVES!$Y$14:$AE$600,4,FALSE),0)","v":0},{"$f":"IFERROR(VLOOKUP(DM23,MATCHSELEVES!$Y$14:$AE$600,5,FALSE),0)","v":0},{"$f":"IFERROR(VLOOKUP(DM23,MATCHSELEVES!$Y$14:$AF$600,8,FALSE),0)","v":0},{"$f":"IFERROR(VLOOKUP(DM23,MATCHSELEVES!$Y$14:$AG$600,9,FALSE),0)","v":0},"Johvany_18",{"$f":"IFERROR(VLOOKUP(DS23,MATCHSELEVES!$Y$14:$AE$600,3,FALSE),0)","v":0},{"$f":"IFERROR(VLOOKUP(DS23,MATCHSELEVES!$Y$14:$AE$600,4,FALSE),0)","v":0},{"$f":"IFERROR(VLOOKUP(DS23,MATCHSELEVES!$Y$14:$AE$600,5,FALSE),0)","v":0},{"$f":"IFERROR(VLOOKUP(DS23,MATCHSELEVES!$Y$14:$AF$600,8,FALSE),0)","v":0},{"$f":"IFERROR(VLOOKUP(DS23,MATCHSELEVES!$Y$14:$AG$600,9,FALSE),0)","v":0},"Johvany_19",{"$f":"IFERROR(VLOOKUP(DY23,MATCHSELEVES!$Y$14:$AE$600,3,FALSE),0)","v":0},{"$f":"IFERROR(VLOOKUP(DY23,MATCHSELEVES!$Y$14:$AE$600,4,FALSE),0)","v":0},{"$f":"IFERROR(VLOOKUP(DY23,MATCHSELEVES!$Y$14:$AE$600,5,FALSE),0)","v":0},{"$f":"IFERROR(VLOOKUP(DY23,MATCHSELEVES!$Y$14:$AF$600,8,FALSE),0)","v":0},{"$f":"IFERROR(VLOOKUP(DY23,MATCHSELEVES!$Y$14:$AG$600,9,FALSE),0)","v":0},"Johvany_20",{"$f":"IFERROR(VLOOKUP(EE23,MATCHSELEVES!$Y$14:$AE$600,3,FALSE),0)","v":0},{"$f":"IFERROR(VLOOKUP(EE23,MATCHSELEVES!$Y$14:$AE$600,4,FALSE),0)","v":0},{"$f":"IFERROR(VLOOKUP(EE23,MATCHSELEVES!$Y$14:$AE$600,5,FALSE),0)","v":0},{"$f":"IFERROR(VLOOKUP(EE23,MATCHSELEVES!$Y$14:$AF$600,8,FALSE),0)","v":0},{"$f":"IFERROR(VLOOKUP(EE23,MATCHSELEVES!$Y$14:$AG$600,9,FALSE),0)","v":0},"Johvany_21",{"$f":"IFERROR(VLOOKUP(EK23,MATCHSELEVES!$Y$14:$AE$600,3,FALSE),0)","v":0},{"$f":"IFERROR(VLOOKUP(EK23,MATCHSELEVES!$Y$14:$AE$600,4,FALSE),0)","v":0},{"$f":"IFERROR(VLOOKUP(EK23,MATCHSELEVES!$Y$14:$AE$600,5,FALSE),0)","v":0},{"$f":"IFERROR(VLOOKUP(EK23,MATCHSELEVES!$Y$14:$AF$600,8,FALSE),0)","v":0},{"$f":"IFERROR(VLOOKUP(EK23,MATCHSELEVES!$Y$14:$AG$600,9,FALSE),0)","v":0},"Johvany_22",{"$f":"IFERROR(VLOOKUP(EQ23,MATCHSELEVES!$Y$14:$AE$600,3,FALSE),0)","v":0},{"$f":"IFERROR(VLOOKUP(EQ23,MATCHSELEVES!$Y$14:$AE$600,4,FALSE),0)","v":0},{"$f":"IFERROR(VLOOKUP(EQ23,MATCHSELEVES!$Y$14:$AE$600,5,FALSE),0)","v":0},{"$f":"IFERROR(VLOOKUP(EQ23,MATCHSELEVES!$Y$14:$AF$600,8,FALSE),0)","v":0},{"$f":"IFERROR(VLOOKUP(EQ23,MATCHSELEVES!$Y$14:$AG$600,9,FALSE),0)","v":0},"Johvany_23",{"$f":"IFERROR(VLOOKUP(EW23,MATCHSELEVES!$Y$14:$AE$600,3,FALSE),0)","v":0},{"$f":"IFERROR(VLOOKUP(EW23,MATCHSELEVES!$Y$14:$AE$600,4,FALSE),0)","v":0},{"$f":"IFERROR(VLOOKUP(EW23,MATCHSELEVES!$Y$14:$AE$600,5,FALSE),0)","v":0},{"$f":"IFERROR(VLOOKUP(EW23,MATCHSELEVES!$Y$14:$AF$600,8,FALSE),0)","v":0},{"$f":"IFERROR(VLOOKUP(EW23,MATCHSELEVES!$Y$14:$AG$600,9,FALSE),0)","v":0},"Johvany_24",{"$f":"IFERROR(VLOOKUP(FC23,MATCHSELEVES!$Y$14:$AE$600,3,FALSE),0)","v":0},{"$f":"IFERROR(VLOOKUP(FC23,MATCHSELEVES!$Y$14:$AE$600,4,FALSE),0)","v":0},{"$f":"IFERROR(VLOOKUP(FC23,MATCHSELEVES!$Y$14:$AE$600,5,FALSE),0)","v":0},{"$f":"IFERROR(VLOOKUP(FC23,MATCHSELEVES!$Y$14:$AF$600,8,FALSE),0)","v":0},{"$f":"IFERROR(VLOOKUP(FC23,MATCHSELEVES!$Y$14:$AG$600,9,FALSE),0)","v":0},"Johvany_25",{"$f":"IFERROR(VLOOKUP(FI23,MATCHSELEVES!$Y$14:$AE$600,3,FALSE),0)","v":0},{"$f":"IFERROR(VLOOKUP(FI23,MATCHSELEVES!$Y$14:$AE$600,4,FALSE),0)","v":0},{"$f":"IFERROR(VLOOKUP(FI23,MATCHSELEVES!$Y$14:$AE$600,5,FALSE),0)","v":0},{"$f":"IFERROR(VLOOKUP(FI23,MATCHSELEVES!$Y$14:$AF$600,8,FALSE),0)","v":0},{"$f":"IFERROR(VLOOKUP(FI23,MATCHSELEVES!$Y$14:$AG$600,9,FALSE),0)","v":0},"Johvany_26",{"$f":"IFERROR(VLOOKUP(FO23,MATCHSELEVES!$Y$14:$AE$600,3,FALSE),0)","v":0},{"$f":"IFERROR(VLOOKUP(FO23,MATCHSELEVES!$Y$14:$AE$600,4,FALSE),0)","v":0},{"$f":"IFERROR(VLOOKUP(FO23,MATCHSELEVES!$Y$14:$AE$600,5,FALSE),0)","v":0},{"$f":"IFERROR(VLOOKUP(FO23,MATCHSELEVES!$Y$14:$AF$600,8,FALSE),0)","v":0},{"$f":"IFERROR(VLOOKUP(FO23,MATCHSELEVES!$Y$14:$AG$600,9,FALSE),0)","v":0},"Johvany_27",{"$f":"IFERROR(VLOOKUP(FU23,MATCHSELEVES!$Y$14:$AE$600,3,FALSE),0)","v":0},{"$f":"IFERROR(VLOOKUP(FU23,MATCHSELEVES!$Y$14:$AE$600,4,FALSE),0)","v":0},{"$f":"IFERROR(VLOOKUP(FU23,MATCHSELEVES!$Y$14:$AE$600,5,FALSE),0)","v":0},{"$f":"IFERROR(VLOOKUP(FU23,MATCHSELEVES!$Y$14:$AF$600,8,FALSE),0)","v":0},{"$f":"IFERROR(VLOOKUP(FU23,MATCHSELEVES!$Y$14:$AG$600,9,FALSE),0)","v":0},"Johvany_28",{"$f":"IFERROR(VLOOKUP(GA23,MATCHSELEVES!$Y$14:$AE$600,3,FALSE),0)","v":0},{"$f":"IFERROR(VLOOKUP(GA23,MATCHSELEVES!$Y$14:$AE$600,4,FALSE),0)","v":0},{"$f":"IFERROR(VLOOKUP(GA23,MATCHSELEVES!$Y$14:$AE$600,5,FALSE),0)","v":0},{"$f":"IFERROR(VLOOKUP(GA23,MATCHSELEVES!$Y$14:$AF$600,8,FALSE),0)","v":0},{"$f":"IFERROR(VLOOKUP(GA23,MATCHSELEVES!$Y$14:$AG$600,9,FALSE),0)","v":0},"Johvany_29",{"$f":"IFERROR(VLOOKUP(GG23,MATCHSELEVES!$Y$14:$AE$600,3,FALSE),0)","v":0},{"$f":"IFERROR(VLOOKUP(GG23,MATCHSELEVES!$Y$14:$AE$600,4,FALSE),0)","v":0},{"$f":"IFERROR(VLOOKUP(GG23,MATCHSELEVES!$Y$14:$AE$600,5,FALSE),0)","v":0},{"$f":"IFERROR(VLOOKUP(GG23,MATCHSELEVES!$Y$14:$AF$600,8,FALSE),0)","v":0},{"$f":"IFERROR(VLOOKUP(GG23,MATCHSELEVES!$Y$14:$AG$600,9,FALSE),0)","v":0},"Johvany_30",{"$f":"IFERROR(VLOOKUP(GM23,MATCHSELEVES!$Y$14:$AE$600,3,FALSE),0)","v":0},{"$f":"IFERROR(VLOOKUP(GM23,MATCHSELEVES!$Y$14:$AE$600,4,FALSE),0)","v":0},{"$f":"IFERROR(VLOOKUP(GM23,MATCHSELEVES!$Y$14:$AE$600,5,FALSE),0)","v":0},{"$f":"IFERROR(VLOOKUP(GM23,MATCHSELEVES!$Y$14:$AF$600,8,FALSE),0)","v":0},{"$f":"IFERROR(VLOOKUP(GM23,MATCHSELEVES!$Y$14:$AG$600,9,FALSE),0)","v":0},"Johvany_31",{"$f":"IFERROR(VLOOKUP(GS23,MATCHSELEVES!$Y$14:$AE$600,3,FALSE),0)","v":0},{"$f":"IFERROR(VLOOKUP(GS23,MATCHSELEVES!$Y$14:$AE$600,4,FALSE),0)","v":0},{"$f":"IFERROR(VLOOKUP(GS23,MATCHSELEVES!$Y$14:$AE$600,5,FALSE),0)","v":0},{"$f":"IFERROR(VLOOKUP(GS23,MATCHSELEVES!$Y$14:$AF$600,8,FALSE),0)","v":0},{"$f":"IFERROR(VLOOKUP(GS23,MATCHSELEVES!$Y$14:$AG$600,9,FALSE),0)","v":0},"Johvany_32",{"$f":"IFERROR(VLOOKUP(GY23,MATCHSELEVES!$Y$14:$AE$600,3,FALSE),0)","v":0},{"$f":"IFERROR(VLOOKUP(GY23,MATCHSELEVES!$Y$14:$AE$600,4,FALSE),0)","v":0},{"$f":"IFERROR(VLOOKUP(GY23,MATCHSELEVES!$Y$14:$AE$600,5,FALSE),0)","v":0},{"$f":"IFERROR(VLOOKUP(GY23,MATCHSELEVES!$Y$14:$AF$600,8,FALSE),0)","v":0},{"$f":"IFERROR(VLOOKUP(GY23,MATCHSELEVES!$Y$14:$AG$600,9,FALSE),0)","v":0},"Johvany_33",{"$f":"IFERROR(VLOOKUP(HE23,MATCHSELEVES!$Y$14:$AE$600,3,FALSE),0)","v":0},{"$f":"IFERROR(VLOOKUP(HE23,MATCHSELEVES!$Y$14:$AE$600,4,FALSE),0)","v":0},{"$f":"IFERROR(VLOOKUP(HE23,MATCHSELEVES!$Y$14:$AE$600,5,FALSE),0)","v":0},{"$f":"IFERROR(VLOOKUP(HE23,MATCHSELEVES!$Y$14:$AF$600,8,FALSE),0)","v":0},{"$f":"IFERROR(VLOOKUP(HE23,MATCHSELEVES!$Y$14:$AG$600,9,FALSE),0)","v":0},"Johvany_34",{"$f":"IFERROR(VLOOKUP(HK23,MATCHSELEVES!$Y$14:$AE$600,3,FALSE),0)","v":0},{"$f":"IFERROR(VLOOKUP(HK23,MATCHSELEVES!$Y$14:$AE$600,4,FALSE),0)","v":0},{"$f":"IFERROR(VLOOKUP(HK23,MATCHSELEVES!$Y$14:$AE$600,5,FALSE),0)","v":0},{"$f":"IFERROR(VLOOKUP(HK23,MATCHSELEVES!$Y$14:$AF$600,8,FALSE),0)","v":0},{"$f":"IFERROR(VLOOKUP(HK23,MATCHSELEVES!$Y$14:$AG$600,9,FALSE),0)","v":0},"Johvany_35",{"$f":"IFERROR(VLOOKUP(HQ23,MATCHSELEVES!$Y$14:$AE$600,3,FALSE),0)","v":0},{"$f":"IFERROR(VLOOKUP(HQ23,MATCHSELEVES!$Y$14:$AE$600,4,FALSE),0)","v":0},{"$f":"IFERROR(VLOOKUP(HQ23,MATCHSELEVES!$Y$14:$AE$600,5,FALSE),0)","v":0},{"$f":"IFERROR(VLOOKUP(HQ23,MATCHSELEVES!$Y$14:$AF$600,8,FALSE),0)","v":0},{"$f":"IFERROR(VLOOKUP(HQ23,MATCHSELEVES!$Y$14:$AG$600,9,FALSE),0)","v":0},"Johvany_36",{"$f":"IFERROR(VLOOKUP(HW23,MATCHSELEVES!$Y$14:$AE$600,3,FALSE),0)","v":0},{"$f":"IFERROR(VLOOKUP(HW23,MATCHSELEVES!$Y$14:$AE$600,4,FALSE),0)","v":0},{"$f":"IFERROR(VLOOKUP(HW23,MATCHSELEVES!$Y$14:$AE$600,5,FALSE),0)","v":0},{"$f":"IFERROR(VLOOKUP(HW23,MATCHSELEVES!$Y$14:$AF$600,8,FALSE),0)","v":0},{"$f":"IFERROR(VLOOKUP(HW23,MATCHSELEVES!$Y$14:$AG$600,9,FALSE),0)","v":0},"Johvany_37",{"$f":"IFERROR(VLOOKUP(IC23,MATCHSELEVES!$Y$14:$AE$600,3,FALSE),0)","v":0},{"$f":"IFERROR(VLOOKUP(IC23,MATCHSELEVES!$Y$14:$AE$600,4,FALSE),0)","v":0},{"$f":"IFERROR(VLOOKUP(IC23,MATCHSELEVES!$Y$14:$AE$600,5,FALSE),0)","v":0},{"$f":"IFERROR(VLOOKUP(IC23,MATCHSELEVES!$Y$14:$AF$600,8,FALSE),0)","v":0},{"$f":"IFERROR(VLOOKUP(IC23,MATCHSELEVES!$Y$14:$AG$600,9,FALSE),0)","v":0},"Johvany_38",{"$f":"IFERROR(VLOOKUP(II23,MATCHSELEVES!$Y$14:$AE$600,3,FALSE),0)","v":0},{"$f":"IFERROR(VLOOKUP(II23,MATCHSELEVES!$Y$14:$AE$600,4,FALSE),0)","v":0},{"$f":"IFERROR(VLOOKUP(II23,MATCHSELEVES!$Y$14:$AE$600,5,FALSE),0)","v":0},{"$f":"IFERROR(VLOOKUP(II23,MATCHSELEVES!$Y$14:$AF$600,8,FALSE),0)","v":0},{"$f":"IFERROR(VLOOKUP(II23,MATCHSELEVES!$Y$14:$AG$600,9,FALSE),0)","v":0},"Johvany_39",{"$f":"IFERROR(VLOOKUP(IO23,MATCHSELEVES!$Y$14:$AE$600,3,FALSE),0)","v":0},{"$f":"IFERROR(VLOOKUP(IO23,MATCHSELEVES!$Y$14:$AE$600,4,FALSE),0)","v":0},{"$f":"IFERROR(VLOOKUP(IO23,MATCHSELEVES!$Y$14:$AE$600,5,FALSE),0)","v":0},{"$f":"IFERROR(VLOOKUP(IO23,MATCHSELEVES!$Y$14:$AF$600,8,FALSE),0)","v":0},{"$f":"IFERROR(VLOOKUP(IO23,MATCHSELEVES!$Y$14:$AG$600,9,FALSE),0)","v":0},"Johvany_40",{"$f":"IFERROR(VLOOKUP(IU23,MATCHSELEVES!$Y$14:$AE$600,3,FALSE),0)","v":0},{"$f":"IFERROR(VLOOKUP(IU23,MATCHSELEVES!$Y$14:$AE$600,4,FALSE),0)","v":0},{"$f":"IFERROR(VLOOKUP(IU23,MATCHSELEVES!$Y$14:$AE$600,5,FALSE),0)","v":0},{"$f":"IFERROR(VLOOKUP(IU23,MATCHSELEVES!$Y$14:$AF$600,8,FALSE),0)","v":0},{"$f":"IFERROR(VLOOKUP(IU23,MATCHSELEVES!$Y$14:$AG$600,9,FALSE),0)","v":0},"Johvanyp_1",{"$f":"IFERROR(VLOOKUP(JA23,MATCHSELEVES!$Y$14:$AE$600,3,FALSE),0)","v":0},{"$f":"IFERROR(VLOOKUP(JA23,MATCHSELEVES!$Y$14:$AE$600,4,FALSE),0)","v":0},{"$f":"IFERROR(VLOOKUP(JA23,MATCHSELEVES!$Y$14:$AE$600,5,FALSE),0)","v":0},{"$f":"IFERROR(VLOOKUP(JA23,MATCHSELEVES!$Y$14:$AF$600,8,FALSE),0)","v":0},{"$f":"IFERROR(VLOOKUP(JA23,MATCHSELEVES!$Y$14:$AG$600,9,FALSE),0)","v":0},"Johvanyp_2",{"$f":"IFERROR(VLOOKUP(JG23,MATCHSELEVES!$Y$14:$AE$600,3,FALSE),0)","v":0},{"$f":"IFERROR(VLOOKUP(JG23,MATCHSELEVES!$Y$14:$AE$600,4,FALSE),0)","v":0},{"$f":"IFERROR(VLOOKUP(JG23,MATCHSELEVES!$Y$14:$AE$600,5,FALSE),0)","v":0},{"$f":"IFERROR(VLOOKUP(JG23,MATCHSELEVES!$Y$14:$AF$600,8,FALSE),0)","v":0},{"$f":"IFERROR(VLOOKUP(JG23,MATCHSELEVES!$Y$14:$AG$600,9,FALSE),0)","v":0},"Johvanyp_3",{"$f":"IFERROR(VLOOKUP(JM23,MATCHSELEVES!$Y$14:$AE$600,3,FALSE),0)","v":0},{"$f":"IFERROR(VLOOKUP(JM23,MATCHSELEVES!$Y$14:$AE$600,4,FALSE),0)","v":0},{"$f":"IFERROR(VLOOKUP(JM23,MATCHSELEVES!$Y$14:$AE$600,5,FALSE),0)","v":0},{"$f":"IFERROR(VLOOKUP(JM23,MATCHSELEVES!$Y$14:$AF$600,8,FALSE),0)","v":0},{"$f":"IFERROR(VLOOKUP(JM23,MATCHSELEVES!$Y$14:$AG$600,9,FALSE),0)","v":0},"Johvanyp_4",{"$f":"IFERROR(VLOOKUP(JS23,MATCHSELEVES!$Y$14:$AE$600,3,FALSE),0)","v":0},{"$f":"IFERROR(VLOOKUP(JS23,MATCHSELEVES!$Y$14:$AE$600,4,FALSE),0)","v":0},{"$f":"IFERROR(VLOOKUP(JS23,MATCHSELEVES!$Y$14:$AE$600,5,FALSE),0)","v":0},{"$f":"IFERROR(VLOOKUP(JS23,MATCHSELEVES!$Y$14:$AF$600,8,FALSE),0)","v":0},{"$f":"IFERROR(VLOOKUP(JS23,MATCHSELEVES!$Y$14:$AG$600,9,FALSE),0)","v":0},"Johvanyp_5",{"$f":"IFERROR(VLOOKUP(JY23,MATCHSELEVES!$Y$14:$AE$600,3,FALSE),0)","v":0},{"$f":"IFERROR(VLOOKUP(JY23,MATCHSELEVES!$Y$14:$AE$600,4,FALSE),0)","v":0},{"$f":"IFERROR(VLOOKUP(JY23,MATCHSELEVES!$Y$14:$AE$600,5,FALSE),0)","v":0},{"$f":"IFERROR(VLOOKUP(JY23,MATCHSELEVES!$Y$14:$AF$600,8,FALSE),0)","v":0},{"$f":"IFERROR(VLOOKUP(JY23,MATCHSELEVES!$Y$14:$AG$600,9,FALSE),0)","v":0},"Johvanyp_6",{"$f":"IFERROR(VLOOKUP(KE23,MATCHSELEVES!$Y$14:$AE$600,3,FALSE),0)","v":0},{"$f":"IFERROR(VLOOKUP(KE23,MATCHSELEVES!$Y$14:$AE$600,4,FALSE),0)","v":0},{"$f":"IFERROR(VLOOKUP(KE23,MATCHSELEVES!$Y$14:$AE$600,5,FALSE),0)","v":0},{"$f":"IFERROR(VLOOKUP(KE23,MATCHSELEVES!$Y$14:$AF$600,8,FALSE),0)","v":0},{"$f":"IFERROR(VLOOKUP(KE23,MATCHSELEVES!$Y$14:$AG$600,9,FALSE),0)","v":0},"Johvanyp_7",{"$f":"IFERROR(VLOOKUP(KK23,MATCHSELEVES!$Y$14:$AE$600,3,FALSE),0)","v":0},{"$f":"IFERROR(VLOOKUP(KK23,MATCHSELEVES!$Y$14:$AE$600,4,FALSE),0)","v":0},{"$f":"IFERROR(VLOOKUP(KK23,MATCHSELEVES!$Y$14:$AE$600,5,FALSE),0)","v":0},{"$f":"IFERROR(VLOOKUP(KK23,MATCHSELEVES!$Y$14:$AF$600,8,FALSE),0)","v":0},{"$f":"IFERROR(VLOOKUP(KK23,MATCHSELEVES!$Y$14:$AG$600,9,FALSE),0)","v":0},"Johvanyp_8",{"$f":"IFERROR(VLOOKUP(KQ23,MATCHSELEVES!$Y$14:$AE$600,3,FALSE),0)","v":0},{"$f":"IFERROR(VLOOKUP(KQ23,MATCHSELEVES!$Y$14:$AE$600,4,FALSE),0)","v":0},{"$f":"IFERROR(VLOOKUP(KQ23,MATCHSELEVES!$Y$14:$AE$600,5,FALSE),0)","v":0},{"$f":"IFERROR(VLOOKUP(KQ23,MATCHSELEVES!$Y$14:$AF$600,8,FALSE),0)","v":0},{"$f":"IFERROR(VLOOKUP(KQ23,MATCHSELEVES!$Y$14:$AG$600,9,FALSE),0)","v":0},"Johvanyp_9",{"$f":"IFERROR(VLOOKUP(KW23,MATCHSELEVES!$Y$14:$AE$600,3,FALSE),0)","v":0},{"$f":"IFERROR(VLOOKUP(KW23,MATCHSELEVES!$Y$14:$AE$600,4,FALSE),0)","v":0},{"$f":"IFERROR(VLOOKUP(KW23,MATCHSELEVES!$Y$14:$AE$600,5,FALSE),0)","v":0},{"$f":"IFERROR(VLOOKUP(KW23,MATCHSELEVES!$Y$14:$AF$600,8,FALSE),0)","v":0},{"$f":"IFERROR(VLOOKUP(KW23,MATCHSELEVES!$Y$14:$AG$600,9,FALSE),0)","v":0},"Johvanyp_10",{"$f":"IFERROR(VLOOKUP(LC23,MATCHSELEVES!$Y$14:$AE$600,3,FALSE),0)","v":0},{"$f":"IFERROR(VLOOKUP(LC23,MATCHSELEVES!$Y$14:$AE$600,4,FALSE),0)","v":0},{"$f":"IFERROR(VLOOKUP(LC23,MATCHSELEVES!$Y$14:$AE$600,5,FALSE),0)","v":0},{"$f":"IFERROR(VLOOKUP(LC23,MATCHSELEVES!$Y$14:$AF$600,8,FALSE),0)","v":0},{"$f":"IFERROR(VLOOKUP(LC23,MATCHSELEVES!$Y$14:$AG$600,9,FALSE),0)","v":0},"Johvanyp_11",{"$f":"IFERROR(VLOOKUP(LI23,MATCHSELEVES!$Y$14:$AE$600,3,FALSE),0)","v":0},{"$f":"IFERROR(VLOOKUP(LI23,MATCHSELEVES!$Y$14:$AE$600,4,FALSE),0)","v":0},{"$f":"IFERROR(VLOOKUP(LI23,MATCHSELEVES!$Y$14:$AE$600,5,FALSE),0)","v":0},{"$f":"IFERROR(VLOOKUP(LI23,MATCHSELEVES!$Y$14:$AF$600,8,FALSE),0)","v":0},{"$f":"IFERROR(VLOOKUP(LI23,MATCHSELEVES!$Y$14:$AG$600,9,FALSE),0)","v":0},"Johvanyp_12",{"$f":"IFERROR(VLOOKUP(LO23,MATCHSELEVES!$Y$14:$AE$600,3,FALSE),0)","v":0},{"$f":"IFERROR(VLOOKUP(LO23,MATCHSELEVES!$Y$14:$AE$600,4,FALSE),0)","v":0},{"$f":"IFERROR(VLOOKUP(LO23,MATCHSELEVES!$Y$14:$AE$600,5,FALSE),0)","v":0},{"$f":"IFERROR(VLOOKUP(LO23,MATCHSELEVES!$Y$14:$AF$600,8,FALSE),0)","v":0},{"$f":"IFERROR(VLOOKUP(LO23,MATCHSELEVES!$Y$14:$AG$600,9,FALSE),0)","v":0},"Johvanyp_13",{"$f":"IFERROR(VLOOKUP(LU23,MATCHSELEVES!$Y$14:$AE$600,3,FALSE),0)","v":0},{"$f":"IFERROR(VLOOKUP(LU23,MATCHSELEVES!$Y$14:$AE$600,4,FALSE),0)","v":0},{"$f":"IFERROR(VLOOKUP(LU23,MATCHSELEVES!$Y$14:$AE$600,5,FALSE),0)","v":0},{"$f":"IFERROR(VLOOKUP(LU23,MATCHSELEVES!$Y$14:$AF$600,8,FALSE),0)","v":0},{"$f":"IFERROR(VLOOKUP(LU23,MATCHSELEVES!$Y$14:$AG$600,9,FALSE),0)","v":0},"Johvanyp_14",{"$f":"IFERROR(VLOOKUP(MA23,MATCHSELEVES!$Y$14:$AE$600,3,FALSE),0)","v":0},{"$f":"IFERROR(VLOOKUP(MA23,MATCHSELEVES!$Y$14:$AE$600,4,FALSE),0)","v":0},{"$f":"IFERROR(VLOOKUP(MA23,MATCHSELEVES!$Y$14:$AE$600,5,FALSE),0)","v":0},{"$f":"IFERROR(VLOOKUP(MA23,MATCHSELEVES!$Y$14:$AF$600,8,FALSE),0)","v":0},{"$f":"IFERROR(VLOOKUP(MA23,MATCHSELEVES!$Y$14:$AG$600,9,FALSE),0)","v":0},"Johvanyp_15",{"$f":"IFERROR(VLOOKUP(MG23,MATCHSELEVES!$Y$14:$AE$600,3,FALSE),0)","v":0},{"$f":"IFERROR(VLOOKUP(MG23,MATCHSELEVES!$Y$14:$AE$600,4,FALSE),0)","v":0},{"$f":"IFERROR(VLOOKUP(MG23,MATCHSELEVES!$Y$14:$AE$600,5,FALSE),0)","v":0},{"$f":"IFERROR(VLOOKUP(MG23,MATCHSELEVES!$Y$14:$AF$600,8,FALSE),0)","v":0},{"$f":"IFERROR(VLOOKUP(MG23,MATCHSELEVES!$Y$14:$AG$600,9,FALSE),0)","v":0},"Johvanyp_16",{"$f":"IFERROR(VLOOKUP(MM23,MATCHSELEVES!$Y$14:$AE$600,3,FALSE),0)","v":0},{"$f":"IFERROR(VLOOKUP(MM23,MATCHSELEVES!$Y$14:$AE$600,4,FALSE),0)","v":0},{"$f":"IFERROR(VLOOKUP(MM23,MATCHSELEVES!$Y$14:$AE$600,5,FALSE),0)","v":0},{"$f":"IFERROR(VLOOKUP(MM23,MATCHSELEVES!$Y$14:$AF$600,8,FALSE),0)","v":0},{"$f":"IFERROR(VLOOKUP(MM23,MATCHSELEVES!$Y$14:$AG$600,9,FALSE),0)","v":0},"Johvanyp_17",{"$f":"IFERROR(VLOOKUP(MS23,MATCHSELEVES!$Y$14:$AE$600,3,FALSE),0)","v":0},{"$f":"IFERROR(VLOOKUP(MS23,MATCHSELEVES!$Y$14:$AE$600,4,FALSE),0)","v":0},{"$f":"IFERROR(VLOOKUP(MS23,MATCHSELEVES!$Y$14:$AE$600,5,FALSE),0)","v":0},{"$f":"IFERROR(VLOOKUP(MS23,MATCHSELEVES!$Y$14:$AF$600,8,FALSE),0)","v":0},{"$f":"IFERROR(VLOOKUP(MS23,MATCHSELEVES!$Y$14:$AG$600,9,FALSE),0)","v":0},"Johvanyp_18",{"$f":"IFERROR(VLOOKUP(MY23,MATCHSELEVES!$Y$14:$AE$600,3,FALSE),0)","v":0},{"$f":"IFERROR(VLOOKUP(MY23,MATCHSELEVES!$Y$14:$AE$600,4,FALSE),0)","v":0},{"$f":"IFERROR(VLOOKUP(MY23,MATCHSELEVES!$Y$14:$AE$600,5,FALSE),0)","v":0},{"$f":"IFERROR(VLOOKUP(MY23,MATCHSELEVES!$Y$14:$AF$600,8,FALSE),0)","v":0},{"$f":"IFERROR(VLOOKUP(MY23,MATCHSELEVES!$Y$14:$AG$600,9,FALSE),0)","v":0},"Johvanyp_19",{"$f":"IFERROR(VLOOKUP(NE23,MATCHSELEVES!$Y$14:$AE$600,3,FALSE),0)","v":0},{"$f":"IFERROR(VLOOKUP(NE23,MATCHSELEVES!$Y$14:$AE$600,4,FALSE),0)","v":0},{"$f":"IFERROR(VLOOKUP(NE23,MATCHSELEVES!$Y$14:$AE$600,5,FALSE),0)","v":0},{"$f":"IFERROR(VLOOKUP(NE23,MATCHSELEVES!$Y$14:$AF$600,8,FALSE),0)","v":0},{"$f":"IFERROR(VLOOKUP(NE23,MATCHSELEVES!$Y$14:$AG$600,9,FALSE),0)","v":0},"Johvanyp_20",{"$f":"IFERROR(VLOOKUP(NK23,MATCHSELEVES!$Y$14:$AE$600,3,FALSE),0)","v":0},{"$f":"IFERROR(VLOOKUP(NK23,MATCHSELEVES!$Y$14:$AE$600,4,FALSE),0)","v":0},{"$f":"IFERROR(VLOOKUP(NK23,MATCHSELEVES!$Y$14:$AE$600,5,FALSE),0)","v":0},{"$f":"IFERROR(VLOOKUP(NK23,MATCHSELEVES!$Y$14:$AF$600,8,FALSE),0)","v":0},{"$f":"IFERROR(VLOOKUP(NK23,MATCHSELEVES!$Y$14:$AG$600,9,FALSE),0)","v":0},"Johvanyp_21",{"$f":"IFERROR(VLOOKUP(NQ23,MATCHSELEVES!$Y$14:$AE$600,3,FALSE),0)","v":0},{"$f":"IFERROR(VLOOKUP(NQ23,MATCHSELEVES!$Y$14:$AE$600,4,FALSE),0)","v":0},{"$f":"IFERROR(VLOOKUP(NQ23,MATCHSELEVES!$Y$14:$AE$600,5,FALSE),0)","v":0},{"$f":"IFERROR(VLOOKUP(NQ23,MATCHSELEVES!$Y$14:$AF$600,8,FALSE),0)","v":0},{"$f":"IFERROR(VLOOKUP(NQ23,MATCHSELEVES!$Y$14:$AG$600,9,FALSE),0)","v":0},"Johvanyp_22",{"$f":"IFERROR(VLOOKUP(NW23,MATCHSELEVES!$Y$14:$AE$600,3,FALSE),0)","v":0},{"$f":"IFERROR(VLOOKUP(NW23,MATCHSELEVES!$Y$14:$AE$600,4,FALSE),0)","v":0},{"$f":"IFERROR(VLOOKUP(NW23,MATCHSELEVES!$Y$14:$AE$600,5,FALSE),0)","v":0},{"$f":"IFERROR(VLOOKUP(NW23,MATCHSELEVES!$Y$14:$AF$600,8,FALSE),0)","v":0},{"$f":"IFERROR(VLOOKUP(NW23,MATCHSELEVES!$Y$14:$AG$600,9,FALSE),0)","v":0},"Johvanyp_23",{"$f":"IFERROR(VLOOKUP(OC23,MATCHSELEVES!$Y$14:$AE$600,3,FALSE),0)","v":0},{"$f":"IFERROR(VLOOKUP(OC23,MATCHSELEVES!$Y$14:$AE$600,4,FALSE),0)","v":0},{"$f":"IFERROR(VLOOKUP(OC23,MATCHSELEVES!$Y$14:$AE$600,5,FALSE),0)","v":0},{"$f":"IFERROR(VLOOKUP(OC23,MATCHSELEVES!$Y$14:$AF$600,8,FALSE),0)","v":0},{"$f":"IFERROR(VLOOKUP(OC23,MATCHSELEVES!$Y$14:$AG$600,9,FALSE),0)","v":0},"Johvanyp_24",{"$f":"IFERROR(VLOOKUP(OI23,MATCHSELEVES!$Y$14:$AE$600,3,FALSE),0)","v":0},{"$f":"IFERROR(VLOOKUP(OI23,MATCHSELEVES!$Y$14:$AE$600,4,FALSE),0)","v":0},{"$f":"IFERROR(VLOOKUP(OI23,MATCHSELEVES!$Y$14:$AE$600,5,FALSE),0)","v":0},{"$f":"IFERROR(VLOOKUP(OI23,MATCHSELEVES!$Y$14:$AF$600,8,FALSE),0)","v":0},{"$f":"IFERROR(VLOOKUP(OI23,MATCHSELEVES!$Y$14:$AG$600,9,FALSE),0)","v":0},"Johvanyp_25",{"$f":"IFERROR(VLOOKUP(OO23,MATCHSELEVES!$Y$14:$AE$600,3,FALSE),0)","v":0},{"$f":"IFERROR(VLOOKUP(OO23,MATCHSELEVES!$Y$14:$AE$600,4,FALSE),0)","v":0},{"$f":"IFERROR(VLOOKUP(OO23,MATCHSELEVES!$Y$14:$AE$600,5,FALSE),0)","v":0},{"$f":"IFERROR(VLOOKUP(OO23,MATCHSELEVES!$Y$14:$AF$600,8,FALSE),0)","v":0},{"$f":"IFERROR(VLOOKUP(OO23,MATCHSELEVES!$Y$14:$AG$600,9,FALSE),0)","v":0},"Johvanyp_26",{"$f":"IFERROR(VLOOKUP(OU23,MATCHSELEVES!$Y$14:$AE$600,3,FALSE),0)","v":0},{"$f":"IFERROR(VLOOKUP(OU23,MATCHSELEVES!$Y$14:$AE$600,4,FALSE),0)","v":0},{"$f":"IFERROR(VLOOKUP(OU23,MATCHSELEVES!$Y$14:$AE$600,5,FALSE),0)","v":0},{"$f":"IFERROR(VLOOKUP(OU23,MATCHSELEVES!$Y$14:$AF$600,8,FALSE),0)","v":0},{"$f":"IFERROR(VLOOKUP(OU23,MATCHSELEVES!$Y$14:$AG$600,9,FALSE),0)","v":0},"Johvanyp_27",{"$f":"IFERROR(VLOOKUP(PA23,MATCHSELEVES!$Y$14:$AE$600,3,FALSE),0)","v":0},{"$f":"IFERROR(VLOOKUP(PA23,MATCHSELEVES!$Y$14:$AE$600,4,FALSE),0)","v":0},{"$f":"IFERROR(VLOOKUP(PA23,MATCHSELEVES!$Y$14:$AE$600,5,FALSE),0)","v":0},{"$f":"IFERROR(VLOOKUP(PA23,MATCHSELEVES!$Y$14:$AF$600,8,FALSE),0)","v":0},{"$f":"IFERROR(VLOOKUP(PA23,MATCHSELEVES!$Y$14:$AG$600,9,FALSE),0)","v":0},"Johvanyp_28",{"$f":"IFERROR(VLOOKUP(PG23,MATCHSELEVES!$Y$14:$AE$600,3,FALSE),0)","v":0},{"$f":"IFERROR(VLOOKUP(PG23,MATCHSELEVES!$Y$14:$AE$600,4,FALSE),0)","v":0},{"$f":"IFERROR(VLOOKUP(PG23,MATCHSELEVES!$Y$14:$AE$600,5,FALSE),0)","v":0},{"$f":"IFERROR(VLOOKUP(PG23,MATCHSELEVES!$Y$14:$AF$600,8,FALSE),0)","v":0},{"$f":"IFERROR(VLOOKUP(PG23,MATCHSELEVES!$Y$14:$AG$600,9,FALSE),0)","v":0},"Johvanyp_29",{"$f":"IFERROR(VLOOKUP(PM23,MATCHSELEVES!$Y$14:$AE$600,3,FALSE),0)","v":0},{"$f":"IFERROR(VLOOKUP(PM23,MATCHSELEVES!$Y$14:$AE$600,4,FALSE),0)","v":0},{"$f":"IFERROR(VLOOKUP(PM23,MATCHSELEVES!$Y$14:$AE$600,5,FALSE),0)","v":0},{"$f":"IFERROR(VLOOKUP(PM23,MATCHSELEVES!$Y$14:$AF$600,8,FALSE),0)","v":0},{"$f":"IFERROR(VLOOKUP(PM23,MATCHSELEVES!$Y$14:$AG$600,9,FALSE),0)","v":0},"Johvanyp_30",{"$f":"IFERROR(VLOOKUP(PS23,MATCHSELEVES!$Y$14:$AE$600,3,FALSE),0)","v":0},{"$f":"IFERROR(VLOOKUP(PS23,MATCHSELEVES!$Y$14:$AE$600,4,FALSE),0)","v":0},{"$f":"IFERROR(VLOOKUP(PS23,MATCHSELEVES!$Y$14:$AE$600,5,FALSE),0)","v":0},{"$f":"IFERROR(VLOOKUP(PS23,MATCHSELEVES!$Y$14:$AF$600,8,FALSE),0)","v":0},{"$f":"IFERROR(VLOOKUP(PS23,MATCHSELEVES!$Y$14:$AG$600,9,FALSE),0)","v":0},"Johvanyp_31",{"$f":"IFERROR(VLOOKUP(PY23,MATCHSELEVES!$Y$14:$AE$600,3,FALSE),0)","v":0},{"$f":"IFERROR(VLOOKUP(PY23,MATCHSELEVES!$Y$14:$AE$600,4,FALSE),0)","v":0},{"$f":"IFERROR(VLOOKUP(PY23,MATCHSELEVES!$Y$14:$AE$600,5,FALSE),0)","v":0},{"$f":"IFERROR(VLOOKUP(PY23,MATCHSELEVES!$Y$14:$AF$600,8,FALSE),0)","v":0},{"$f":"IFERROR(VLOOKUP(PY23,MATCHSELEVES!$Y$14:$AG$600,9,FALSE),0)","v":0},"Johvanyp_32",{"$f":"IFERROR(VLOOKUP(QE23,MATCHSELEVES!$Y$14:$AE$600,3,FALSE),0)","v":0},{"$f":"IFERROR(VLOOKUP(QE23,MATCHSELEVES!$Y$14:$AE$600,4,FALSE),0)","v":0},{"$f":"IFERROR(VLOOKUP(QE23,MATCHSELEVES!$Y$14:$AE$600,5,FALSE),0)","v":0},{"$f":"IFERROR(VLOOKUP(QE23,MATCHSELEVES!$Y$14:$AF$600,8,FALSE),0)","v":0},{"$f":"IFERROR(VLOOKUP(QE23,MATCHSELEVES!$Y$14:$AG$600,9,FALSE),0)","v":0},"Johvanyp_33",{"$f":"IFERROR(VLOOKUP(QK23,MATCHSELEVES!$Y$14:$AE$600,3,FALSE),0)","v":0},{"$f":"IFERROR(VLOOKUP(QK23,MATCHSELEVES!$Y$14:$AE$600,4,FALSE),0)","v":0},{"$f":"IFERROR(VLOOKUP(QK23,MATCHSELEVES!$Y$14:$AE$600,5,FALSE),0)","v":0},{"$f":"IFERROR(VLOOKUP(QK23,MATCHSELEVES!$Y$14:$AF$600,8,FALSE),0)","v":0},{"$f":"IFERROR(VLOOKUP(QK23,MATCHSELEVES!$Y$14:$AG$600,9,FALSE),0)","v":0},"Johvanyp_34",{"$f":"IFERROR(VLOOKUP(QQ23,MATCHSELEVES!$Y$14:$AE$600,3,FALSE),0)","v":0},{"$f":"IFERROR(VLOOKUP(QQ23,MATCHSELEVES!$Y$14:$AE$600,4,FALSE),0)","v":0},{"$f":"IFERROR(VLOOKUP(QQ23,MATCHSELEVES!$Y$14:$AE$600,5,FALSE),0)","v":0},{"$f":"IFERROR(VLOOKUP(QQ23,MATCHSELEVES!$Y$14:$AF$600,8,FALSE),0)","v":0},{"$f":"IFERROR(VLOOKUP(QQ23,MATCHSELEVES!$Y$14:$AG$600,9,FALSE),0)","v":0},"Johvanyp_35",{"$f":"IFERROR(VLOOKUP(QW23,MATCHSELEVES!$Y$14:$AE$600,3,FALSE),0)","v":0},{"$f":"IFERROR(VLOOKUP(QW23,MATCHSELEVES!$Y$14:$AE$600,4,FALSE),0)","v":0},{"$f":"IFERROR(VLOOKUP(QW23,MATCHSELEVES!$Y$14:$AE$600,5,FALSE),0)","v":0},{"$f":"IFERROR(VLOOKUP(QW23,MATCHSELEVES!$Y$14:$AF$600,8,FALSE),0)","v":0},{"$f":"IFERROR(VLOOKUP(QW23,MATCHSELEVES!$Y$14:$AG$600,9,FALSE),0)","v":0},"Johvanyp_36",{"$f":"IFERROR(VLOOKUP(RC23,MATCHSELEVES!$Y$14:$AE$600,3,FALSE),0)","v":0},{"$f":"IFERROR(VLOOKUP(RC23,MATCHSELEVES!$Y$14:$AE$600,4,FALSE),0)","v":0},{"$f":"IFERROR(VLOOKUP(RC23,MATCHSELEVES!$Y$14:$AE$600,5,FALSE),0)","v":0},{"$f":"IFERROR(VLOOKUP(RC23,MATCHSELEVES!$Y$14:$AF$600,8,FALSE),0)","v":0},{"$f":"IFERROR(VLOOKUP(RC23,MATCHSELEVES!$Y$14:$AG$600,9,FALSE),0)","v":0},"Johvanyp_37",{"$f":"IFERROR(VLOOKUP(RI23,MATCHSELEVES!$Y$14:$AE$600,3,FALSE),0)","v":0},{"$f":"IFERROR(VLOOKUP(RI23,MATCHSELEVES!$Y$14:$AE$600,4,FALSE),0)","v":0},{"$f":"IFERROR(VLOOKUP(RI23,MATCHSELEVES!$Y$14:$AE$600,5,FALSE),0)","v":0},{"$f":"IFERROR(VLOOKUP(RI23,MATCHSELEVES!$Y$14:$AF$600,8,FALSE),0)","v":0},{"$f":"IFERROR(VLOOKUP(RI23,MATCHSELEVES!$Y$14:$AG$600,9,FALSE),0)","v":0},"Johvanyp_38",{"$f":"IFERROR(VLOOKUP(RO23,MATCHSELEVES!$Y$14:$AE$600,3,FALSE),0)","v":0},{"$f":"IFERROR(VLOOKUP(RO23,MATCHSELEVES!$Y$14:$AE$600,4,FALSE),0)","v":0},{"$f":"IFERROR(VLOOKUP(RO23,MATCHSELEVES!$Y$14:$AE$600,5,FALSE),0)","v":0},{"$f":"IFERROR(VLOOKUP(RO23,MATCHSELEVES!$Y$14:$AF$600,8,FALSE),0)","v":0},{"$f":"IFERROR(VLOOKUP(RO23,MATCHSELEVES!$Y$14:$AG$600,9,FALSE),0)","v":0},"Johvanyp_39",{"$f":"IFERROR(VLOOKUP(RU23,MATCHSELEVES!$Y$14:$AE$600,3,FALSE),0)","v":0},{"$f":"IFERROR(VLOOKUP(RU23,MATCHSELEVES!$Y$14:$AE$600,4,FALSE),0)","v":0},{"$f":"IFERROR(VLOOKUP(RU23,MATCHSELEVES!$Y$14:$AE$600,5,FALSE),0)","v":0},{"$f":"IFERROR(VLOOKUP(RU23,MATCHSELEVES!$Y$14:$AF$600,8,FALSE),0)","v":0},{"$f":"IFERROR(VLOOKUP(RU23,MATCHSELEVES!$Y$14:$AG$600,9,FALSE),0)","v":0},"Johvanyp_40",{"$f":"IFERROR(VLOOKUP(SA23,MATCHSELEVES!$Y$14:$AE$600,3,FALSE),0)","v":0},{"$f":"IFERROR(VLOOKUP(SA23,MATCHSELEVES!$Y$14:$AE$600,4,FALSE),0)","v":0},{"$f":"IFERROR(VLOOKUP(SA23,MATCHSELEVES!$Y$14:$AE$600,5,FALSE),0)","v":0},{"$f":"IFERROR(VLOOKUP(SA23,MATCHSELEVES!$Y$14:$AF$600,8,FALSE),0)","v":0},{"$f":"IFERROR(VLOOKUP(SA23,MATCHSELEVES!$Y$14:$AG$600,9,FALSE),0)","v":0}]
[21,null,"Lina",21,null,null,{"$f":"COUNTIF(MATCHSELEVES!$Z$14:$Z$600,C24)+COUNTIF(MATCHSELEVES!$Z$14:$Z$600,$C24&\"p\")","v":0},1,{"$f":"COUNTIF(MATCHSELEVES!$F$14:$H$249,C24)","v":0},1,0,1,{"$f":"IFERROR(M67/Tableau10[[#This Row],[Nombre de matchs joués]],0)","v":0},{"$f":"IF(Tableau10[[#This Row],[Nombre de points encaissés]]=0,$C$45,SUMPRODUCT((M$4:M$43<M24)*(M$4:M$43<>0))+1)","v":40},0,1,{"$f":"(Tableau10[[#This Row],[CLASSEMENT1]]+Tableau10[[#This Row],[CLASSEMENT2]]+Tableau10[[#This Row],[CLASSEMENT3]]+Tableau10[[#This Row],[CLASSEMENT4]]+Tableau10[[#This Row],[CLASSEMENT5]]+Tableau10[[#This Row],[CLASSEMENT6]])/6","v":10.833333333333334},{"$f":"RANK(Tableau10[[#This Row],[MOYENNE CLASSEMENTS]],Tableau10[MOYENNE CLASSEMENTS],1)","v":21},null,{"$f":"Tableau10[[#This Row],[CLASSEMENT1]]","v":21},"Lina_1",{"$f":"IFERROR(VLOOKUP(U24,MATCHSELEVES!$Y$14:$AE$600,3,FALSE),0)","v":0},{"$f":"IFERROR(VLOOKUP(U24,MATCHSELEVES!$Y$14:$AE$600,4,FALSE),0)","v":0},{"$f":"IFERROR(VLOOKUP(U24,MATCHSELEVES!$Y$14:$AE$600,5,FALSE),0)","v":0},{"$f":"IFERROR(VLOOKUP(U24,MATCHSELEVES!$Y$14:$AF$600,8,FALSE),0)","v":0},{"$f":"IFERROR(VLOOKUP(U24,MATCHSELEVES!$Y$14:$AG$600,9,FALSE),0)","v":0},"Lina_2",{"$f":"IFERROR(VLOOKUP(AA24,MATCHSELEVES!$Y$14:$AE$600,3,FALSE),0)","v":0},{"$f":"IFERROR(VLOOKUP(AA24,MATCHSELEVES!$Y$14:$AE$600,4,FALSE),0)","v":0},{"$f":"IFERROR(VLOOKUP(AA24,MATCHSELEVES!$Y$14:$AE$600,5,FALSE),0)","v":0},{"$f":"IFERROR(VLOOKUP(AA24,MATCHSELEVES!$Y$14:$AF$600,8,FALSE),0)","v":0},{"$f":"IFERROR(VLOOKUP(AA24,MATCHSELEVES!$Y$14:$AG$600,9,FALSE),0)","v":0},"Lina_3",{"$f":"IFERROR(VLOOKUP(AG24,MATCHSELEVES!$Y$14:$AE$600,3,FALSE),0)","v":0},{"$f":"IFERROR(VLOOKUP(AG24,MATCHSELEVES!$Y$14:$AE$600,4,FALSE),0)","v":0},{"$f":"IFERROR(VLOOKUP(AG24,MATCHSELEVES!$Y$14:$AE$600,5,FALSE),0)","v":0},{"$f":"IFERROR(VLOOKUP(AG24,MATCHSELEVES!$Y$14:$AF$600,8,FALSE),0)","v":0},{"$f":"IFERROR(VLOOKUP(AG24,MATCHSELEVES!$Y$14:$AG$600,9,FALSE),0)","v":0},"Lina_4",{"$f":"IFERROR(VLOOKUP(AM24,MATCHSELEVES!$Y$14:$AE$600,3,FALSE),0)","v":0},{"$f":"IFERROR(VLOOKUP(AM24,MATCHSELEVES!$Y$14:$AE$600,4,FALSE),0)","v":0},{"$f":"IFERROR(VLOOKUP(AM24,MATCHSELEVES!$Y$14:$AE$600,5,FALSE),0)","v":0},{"$f":"IFERROR(VLOOKUP(AM24,MATCHSELEVES!$Y$14:$AF$600,8,FALSE),0)","v":0},{"$f":"IFERROR(VLOOKUP(AM24,MATCHSELEVES!$Y$14:$AG$600,9,FALSE),0)","v":0},"Lina_5",{"$f":"IFERROR(VLOOKUP(AS24,MATCHSELEVES!$Y$14:$AE$600,3,FALSE),0)","v":0},{"$f":"IFERROR(VLOOKUP(AS24,MATCHSELEVES!$Y$14:$AE$600,4,FALSE),0)","v":0},{"$f":"IFERROR(VLOOKUP(AS24,MATCHSELEVES!$Y$14:$AE$600,5,FALSE),0)","v":0},{"$f":"IFERROR(VLOOKUP(AS24,MATCHSELEVES!$Y$14:$AF$600,8,FALSE),0)","v":0},{"$f":"IFERROR(VLOOKUP(AS24,MATCHSELEVES!$Y$14:$AG$600,9,FALSE),0)","v":0},"Lina_6",{"$f":"IFERROR(VLOOKUP(AY24,MATCHSELEVES!$Y$14:$AE$600,3,FALSE),0)","v":0},{"$f":"IFERROR(VLOOKUP(AY24,MATCHSELEVES!$Y$14:$AE$600,4,FALSE),0)","v":0},{"$f":"IFERROR(VLOOKUP(AY24,MATCHSELEVES!$Y$14:$AE$600,5,FALSE),0)","v":0},{"$f":"IFERROR(VLOOKUP(AY24,MATCHSELEVES!$Y$14:$AF$600,8,FALSE),0)","v":0},{"$f":"IFERROR(VLOOKUP(AY24,MATCHSELEVES!$Y$14:$AG$600,9,FALSE),0)","v":0},"Lina_7",{"$f":"IFERROR(VLOOKUP(BE24,MATCHSELEVES!$Y$14:$AE$600,3,FALSE),0)","v":0},{"$f":"IFERROR(VLOOKUP(BE24,MATCHSELEVES!$Y$14:$AE$600,4,FALSE),0)","v":0},{"$f":"IFERROR(VLOOKUP(BE24,MATCHSELEVES!$Y$14:$AE$600,5,FALSE),0)","v":0},{"$f":"IFERROR(VLOOKUP(BE24,MATCHSELEVES!$Y$14:$AF$600,8,FALSE),0)","v":0},{"$f":"IFERROR(VLOOKUP(BE24,MATCHSELEVES!$Y$14:$AG$600,9,FALSE),0)","v":0},"Lina_8",{"$f":"IFERROR(VLOOKUP(BK24,MATCHSELEVES!$Y$14:$AE$600,3,FALSE),0)","v":0},{"$f":"IFERROR(VLOOKUP(BK24,MATCHSELEVES!$Y$14:$AE$600,4,FALSE),0)","v":0},{"$f":"IFERROR(VLOOKUP(BK24,MATCHSELEVES!$Y$14:$AE$600,5,FALSE),0)","v":0},{"$f":"IFERROR(VLOOKUP(BK24,MATCHSELEVES!$Y$14:$AF$600,8,FALSE),0)","v":0},{"$f":"IFERROR(VLOOKUP(BK24,MATCHSELEVES!$Y$14:$AG$600,9,FALSE),0)","v":0},"Lina_9",{"$f":"IFERROR(VLOOKUP(BQ24,MATCHSELEVES!$Y$14:$AE$600,3,FALSE),0)","v":0},{"$f":"IFERROR(VLOOKUP(BQ24,MATCHSELEVES!$Y$14:$AE$600,4,FALSE),0)","v":0},{"$f":"IFERROR(VLOOKUP(BQ24,MATCHSELEVES!$Y$14:$AE$600,5,FALSE),0)","v":0},{"$f":"IFERROR(VLOOKUP(BQ24,MATCHSELEVES!$Y$14:$AF$600,8,FALSE),0)","v":0},{"$f":"IFERROR(VLOOKUP(BQ24,MATCHSELEVES!$Y$14:$AG$600,9,FALSE),0)","v":0},"Lina_10",{"$f":"IFERROR(VLOOKUP(BW24,MATCHSELEVES!$Y$14:$AE$600,3,FALSE),0)","v":0},{"$f":"IFERROR(VLOOKUP(BW24,MATCHSELEVES!$Y$14:$AE$600,4,FALSE),0)","v":0},{"$f":"IFERROR(VLOOKUP(BW24,MATCHSELEVES!$Y$14:$AE$600,5,FALSE),0)","v":0},{"$f":"IFERROR(VLOOKUP(BW24,MATCHSELEVES!$Y$14:$AF$600,8,FALSE),0)","v":0},{"$f":"IFERROR(VLOOKUP(BW24,MATCHSELEVES!$Y$14:$AG$600,9,FALSE),0)","v":0},"Lina_11",{"$f":"IFERROR(VLOOKUP(CC24,MATCHSELEVES!$Y$14:$AE$600,3,FALSE),0)","v":0},{"$f":"IFERROR(VLOOKUP(CC24,MATCHSELEVES!$Y$14:$AE$600,4,FALSE),0)","v":0},{"$f":"IFERROR(VLOOKUP(CC24,MATCHSELEVES!$Y$14:$AE$600,5,FALSE),0)","v":0},{"$f":"IFERROR(VLOOKUP(CC24,MATCHSELEVES!$Y$14:$AF$600,8,FALSE),0)","v":0},{"$f":"IFERROR(VLOOKUP(CC24,MATCHSELEVES!$Y$14:$AG$600,9,FALSE),0)","v":0},"Lina_12",{"$f":"IFERROR(VLOOKUP(CI24,MATCHSELEVES!$Y$14:$AE$600,3,FALSE),0)","v":0},{"$f":"IFERROR(VLOOKUP(CI24,MATCHSELEVES!$Y$14:$AE$600,4,FALSE),0)","v":0},{"$f":"IFERROR(VLOOKUP(CI24,MATCHSELEVES!$Y$14:$AE$600,5,FALSE),0)","v":0},{"$f":"IFERROR(VLOOKUP(CI24,MATCHSELEVES!$Y$14:$AF$600,8,FALSE),0)","v":0},{"$f":"IFERROR(VLOOKUP(CI24,MATCHSELEVES!$Y$14:$AG$600,9,FALSE),0)","v":0},"Lina_13",{"$f":"IFERROR(VLOOKUP(CO24,MATCHSELEVES!$Y$14:$AE$600,3,FALSE),0)","v":0},{"$f":"IFERROR(VLOOKUP(CO24,MATCHSELEVES!$Y$14:$AE$600,4,FALSE),0)","v":0},{"$f":"IFERROR(VLOOKUP(CO24,MATCHSELEVES!$Y$14:$AE$600,5,FALSE),0)","v":0},{"$f":"IFERROR(VLOOKUP(CO24,MATCHSELEVES!$Y$14:$AF$600,8,FALSE),0)","v":0},{"$f":"IFERROR(VLOOKUP(CO24,MATCHSELEVES!$Y$14:$AG$600,9,FALSE),0)","v":0},"Lina_14",{"$f":"IFERROR(VLOOKUP(CU24,MATCHSELEVES!$Y$14:$AE$600,3,FALSE),0)","v":0},{"$f":"IFERROR(VLOOKUP(CU24,MATCHSELEVES!$Y$14:$AE$600,4,FALSE),0)","v":0},{"$f":"IFERROR(VLOOKUP(CU24,MATCHSELEVES!$Y$14:$AE$600,5,FALSE),0)","v":0},{"$f":"IFERROR(VLOOKUP(CU24,MATCHSELEVES!$Y$14:$AF$600,8,FALSE),0)","v":0},{"$f":"IFERROR(VLOOKUP(CU24,MATCHSELEVES!$Y$14:$AG$600,9,FALSE),0)","v":0},"Lina_15",{"$f":"IFERROR(VLOOKUP(DA24,MATCHSELEVES!$Y$14:$AE$600,3,FALSE),0)","v":0},{"$f":"IFERROR(VLOOKUP(DA24,MATCHSELEVES!$Y$14:$AE$600,4,FALSE),0)","v":0},{"$f":"IFERROR(VLOOKUP(DA24,MATCHSELEVES!$Y$14:$AE$600,5,FALSE),0)","v":0},{"$f":"IFERROR(VLOOKUP(DA24,MATCHSELEVES!$Y$14:$AF$600,8,FALSE),0)","v":0},{"$f":"IFERROR(VLOOKUP(DA24,MATCHSELEVES!$Y$14:$AG$600,9,FALSE),0)","v":0},"Lina_16",{"$f":"IFERROR(VLOOKUP(DG24,MATCHSELEVES!$Y$14:$AE$600,3,FALSE),0)","v":0},{"$f":"IFERROR(VLOOKUP(DG24,MATCHSELEVES!$Y$14:$AE$600,4,FALSE),0)","v":0},{"$f":"IFERROR(VLOOKUP(DG24,MATCHSELEVES!$Y$14:$AE$600,5,FALSE),0)","v":0},{"$f":"IFERROR(VLOOKUP(DG24,MATCHSELEVES!$Y$14:$AF$600,8,FALSE),0)","v":0},{"$f":"IFERROR(VLOOKUP(DG24,MATCHSELEVES!$Y$14:$AG$600,9,FALSE),0)","v":0},"Lina_17",{"$f":"IFERROR(VLOOKUP(DM24,MATCHSELEVES!$Y$14:$AE$600,3,FALSE),0)","v":0},{"$f":"IFERROR(VLOOKUP(DM24,MATCHSELEVES!$Y$14:$AE$600,4,FALSE),0)","v":0},{"$f":"IFERROR(VLOOKUP(DM24,MATCHSELEVES!$Y$14:$AE$600,5,FALSE),0)","v":0},{"$f":"IFERROR(VLOOKUP(DM24,MATCHSELEVES!$Y$14:$AF$600,8,FALSE),0)","v":0},{"$f":"IFERROR(VLOOKUP(DM24,MATCHSELEVES!$Y$14:$AG$600,9,FALSE),0)","v":0},"Lina_18",{"$f":"IFERROR(VLOOKUP(DS24,MATCHSELEVES!$Y$14:$AE$600,3,FALSE),0)","v":0},{"$f":"IFERROR(VLOOKUP(DS24,MATCHSELEVES!$Y$14:$AE$600,4,FALSE),0)","v":0},{"$f":"IFERROR(VLOOKUP(DS24,MATCHSELEVES!$Y$14:$AE$600,5,FALSE),0)","v":0},{"$f":"IFERROR(VLOOKUP(DS24,MATCHSELEVES!$Y$14:$AF$600,8,FALSE),0)","v":0},{"$f":"IFERROR(VLOOKUP(DS24,MATCHSELEVES!$Y$14:$AG$600,9,FALSE),0)","v":0},"Lina_19",{"$f":"IFERROR(VLOOKUP(DY24,MATCHSELEVES!$Y$14:$AE$600,3,FALSE),0)","v":0},{"$f":"IFERROR(VLOOKUP(DY24,MATCHSELEVES!$Y$14:$AE$600,4,FALSE),0)","v":0},{"$f":"IFERROR(VLOOKUP(DY24,MATCHSELEVES!$Y$14:$AE$600,5,FALSE),0)","v":0},{"$f":"IFERROR(VLOOKUP(DY24,MATCHSELEVES!$Y$14:$AF$600,8,FALSE),0)","v":0},{"$f":"IFERROR(VLOOKUP(DY24,MATCHSELEVES!$Y$14:$AG$600,9,FALSE),0)","v":0},"Lina_20",{"$f":"IFERROR(VLOOKUP(EE24,MATCHSELEVES!$Y$14:$AE$600,3,FALSE),0)","v":0},{"$f":"IFERROR(VLOOKUP(EE24,MATCHSELEVES!$Y$14:$AE$600,4,FALSE),0)","v":0},{"$f":"IFERROR(VLOOKUP(EE24,MATCHSELEVES!$Y$14:$AE$600,5,FALSE),0)","v":0},{"$f":"IFERROR(VLOOKUP(EE24,MATCHSELEVES!$Y$14:$AF$600,8,FALSE),0)","v":0},{"$f":"IFERROR(VLOOKUP(EE24,MATCHSELEVES!$Y$14:$AG$600,9,FALSE),0)","v":0},"Lina_21",{"$f":"IFERROR(VLOOKUP(EK24,MATCHSELEVES!$Y$14:$AE$600,3,FALSE),0)","v":0},{"$f":"IFERROR(VLOOKUP(EK24,MATCHSELEVES!$Y$14:$AE$600,4,FALSE),0)","v":0},{"$f":"IFERROR(VLOOKUP(EK24,MATCHSELEVES!$Y$14:$AE$600,5,FALSE),0)","v":0},{"$f":"IFERROR(VLOOKUP(EK24,MATCHSELEVES!$Y$14:$AF$600,8,FALSE),0)","v":0},{"$f":"IFERROR(VLOOKUP(EK24,MATCHSELEVES!$Y$14:$AG$600,9,FALSE),0)","v":0},"Lina_22",{"$f":"IFERROR(VLOOKUP(EQ24,MATCHSELEVES!$Y$14:$AE$600,3,FALSE),0)","v":0},{"$f":"IFERROR(VLOOKUP(EQ24,MATCHSELEVES!$Y$14:$AE$600,4,FALSE),0)","v":0},{"$f":"IFERROR(VLOOKUP(EQ24,MATCHSELEVES!$Y$14:$AE$600,5,FALSE),0)","v":0},{"$f":"IFERROR(VLOOKUP(EQ24,MATCHSELEVES!$Y$14:$AF$600,8,FALSE),0)","v":0},{"$f":"IFERROR(VLOOKUP(EQ24,MATCHSELEVES!$Y$14:$AG$600,9,FALSE),0)","v":0},"Lina_23",{"$f":"IFERROR(VLOOKUP(EW24,MATCHSELEVES!$Y$14:$AE$600,3,FALSE),0)","v":0},{"$f":"IFERROR(VLOOKUP(EW24,MATCHSELEVES!$Y$14:$AE$600,4,FALSE),0)","v":0},{"$f":"IFERROR(VLOOKUP(EW24,MATCHSELEVES!$Y$14:$AE$600,5,FALSE),0)","v":0},{"$f":"IFERROR(VLOOKUP(EW24,MATCHSELEVES!$Y$14:$AF$600,8,FALSE),0)","v":0},{"$f":"IFERROR(VLOOKUP(EW24,MATCHSELEVES!$Y$14:$AG$600,9,FALSE),0)","v":0},"Lina_24",{"$f":"IFERROR(VLOOKUP(FC24,MATCHSELEVES!$Y$14:$AE$600,3,FALSE),0)","v":0},{"$f":"IFERROR(VLOOKUP(FC24,MATCHSELEVES!$Y$14:$AE$600,4,FALSE),0)","v":0},{"$f":"IFERROR(VLOOKUP(FC24,MATCHSELEVES!$Y$14:$AE$600,5,FALSE),0)","v":0},{"$f":"IFERROR(VLOOKUP(FC24,MATCHSELEVES!$Y$14:$AF$600,8,FALSE),0)","v":0},{"$f":"IFERROR(VLOOKUP(FC24,MATCHSELEVES!$Y$14:$AG$600,9,FALSE),0)","v":0},"Lina_25",{"$f":"IFERROR(VLOOKUP(FI24,MATCHSELEVES!$Y$14:$AE$600,3,FALSE),0)","v":0},{"$f":"IFERROR(VLOOKUP(FI24,MATCHSELEVES!$Y$14:$AE$600,4,FALSE),0)","v":0},{"$f":"IFERROR(VLOOKUP(FI24,MATCHSELEVES!$Y$14:$AE$600,5,FALSE),0)","v":0},{"$f":"IFERROR(VLOOKUP(FI24,MATCHSELEVES!$Y$14:$AF$600,8,FALSE),0)","v":0},{"$f":"IFERROR(VLOOKUP(FI24,MATCHSELEVES!$Y$14:$AG$600,9,FALSE),0)","v":0},"Lina_26",{"$f":"IFERROR(VLOOKUP(FO24,MATCHSELEVES!$Y$14:$AE$600,3,FALSE),0)","v":0},{"$f":"IFERROR(VLOOKUP(FO24,MATCHSELEVES!$Y$14:$AE$600,4,FALSE),0)","v":0},{"$f":"IFERROR(VLOOKUP(FO24,MATCHSELEVES!$Y$14:$AE$600,5,FALSE),0)","v":0},{"$f":"IFERROR(VLOOKUP(FO24,MATCHSELEVES!$Y$14:$AF$600,8,FALSE),0)","v":0},{"$f":"IFERROR(VLOOKUP(FO24,MATCHSELEVES!$Y$14:$AG$600,9,FALSE),0)","v":0},"Lina_27",{"$f":"IFERROR(VLOOKUP(FU24,MATCHSELEVES!$Y$14:$AE$600,3,FALSE),0)","v":0},{"$f":"IFERROR(VLOOKUP(FU24,MATCHSELEVES!$Y$14:$AE$600,4,FALSE),0)","v":0},{"$f":"IFERROR(VLOOKUP(FU24,MATCHSELEVES!$Y$14:$AE$600,5,FALSE),0)","v":0},{"$f":"IFERROR(VLOOKUP(FU24,MATCHSELEVES!$Y$14:$AF$600,8,FALSE),0)","v":0},{"$f":"IFERROR(VLOOKUP(FU24,MATCHSELEVES!$Y$14:$AG$600,9,FALSE),0)","v":0},"Lina_28",{"$f":"IFERROR(VLOOKUP(GA24,MATCHSELEVES!$Y$14:$AE$600,3,FALSE),0)","v":0},{"$f":"IFERROR(VLOOKUP(GA24,MATCHSELEVES!$Y$14:$AE$600,4,FALSE),0)","v":0},{"$f":"IFERROR(VLOOKUP(GA24,MATCHSELEVES!$Y$14:$AE$600,5,FALSE),0)","v":0},{"$f":"IFERROR(VLOOKUP(GA24,MATCHSELEVES!$Y$14:$AF$600,8,FALSE),0)","v":0},{"$f":"IFERROR(VLOOKUP(GA24,MATCHSELEVES!$Y$14:$AG$600,9,FALSE),0)","v":0},"Lina_29",{"$f":"IFERROR(VLOOKUP(GG24,MATCHSELEVES!$Y$14:$AE$600,3,FALSE),0)","v":0},{"$f":"IFERROR(VLOOKUP(GG24,MATCHSELEVES!$Y$14:$AE$600,4,FALSE),0)","v":0},{"$f":"IFERROR(VLOOKUP(GG24,MATCHSELEVES!$Y$14:$AE$600,5,FALSE),0)","v":0},{"$f":"IFERROR(VLOOKUP(GG24,MATCHSELEVES!$Y$14:$AF$600,8,FALSE),0)","v":0},{"$f":"IFERROR(VLOOKUP(GG24,MATCHSELEVES!$Y$14:$AG$600,9,FALSE),0)","v":0},"Lina_30",{"$f":"IFERROR(VLOOKUP(GM24,MATCHSELEVES!$Y$14:$AE$600,3,FALSE),0)","v":0},{"$f":"IFERROR(VLOOKUP(GM24,MATCHSELEVES!$Y$14:$AE$600,4,FALSE),0)","v":0},{"$f":"IFERROR(VLOOKUP(GM24,MATCHSELEVES!$Y$14:$AE$600,5,FALSE),0)","v":0},{"$f":"IFERROR(VLOOKUP(GM24,MATCHSELEVES!$Y$14:$AF$600,8,FALSE),0)","v":0},{"$f":"IFERROR(VLOOKUP(GM24,MATCHSELEVES!$Y$14:$AG$600,9,FALSE),0)","v":0},"Lina_31",{"$f":"IFERROR(VLOOKUP(GS24,MATCHSELEVES!$Y$14:$AE$600,3,FALSE),0)","v":0},{"$f":"IFERROR(VLOOKUP(GS24,MATCHSELEVES!$Y$14:$AE$600,4,FALSE),0)","v":0},{"$f":"IFERROR(VLOOKUP(GS24,MATCHSELEVES!$Y$14:$AE$600,5,FALSE),0)","v":0},{"$f":"IFERROR(VLOOKUP(GS24,MATCHSELEVES!$Y$14:$AF$600,8,FALSE),0)","v":0},{"$f":"IFERROR(VLOOKUP(GS24,MATCHSELEVES!$Y$14:$AG$600,9,FALSE),0)","v":0},"Lina_32",{"$f":"IFERROR(VLOOKUP(GY24,MATCHSELEVES!$Y$14:$AE$600,3,FALSE),0)","v":0},{"$f":"IFERROR(VLOOKUP(GY24,MATCHSELEVES!$Y$14:$AE$600,4,FALSE),0)","v":0},{"$f":"IFERROR(VLOOKUP(GY24,MATCHSELEVES!$Y$14:$AE$600,5,FALSE),0)","v":0},{"$f":"IFERROR(VLOOKUP(GY24,MATCHSELEVES!$Y$14:$AF$600,8,FALSE),0)","v":0},{"$f":"IFERROR(VLOOKUP(GY24,MATCHSELEVES!$Y$14:$AG$600,9,FALSE),0)","v":0},"Lina_33",{"$f":"IFERROR(VLOOKUP(HE24,MATCHSELEVES!$Y$14:$AE$600,3,FALSE),0)","v":0},{"$f":"IFERROR(VLOOKUP(HE24,MATCHSELEVES!$Y$14:$AE$600,4,FALSE),0)","v":0},{"$f":"IFERROR(VLOOKUP(HE24,MATCHSELEVES!$Y$14:$AE$600,5,FALSE),0)","v":0},{"$f":"IFERROR(VLOOKUP(HE24,MATCHSELEVES!$Y$14:$AF$600,8,FALSE),0)","v":0},{"$f":"IFERROR(VLOOKUP(HE24,MATCHSELEVES!$Y$14:$AG$600,9,FALSE),0)","v":0},"Lina_34",{"$f":"IFERROR(VLOOKUP(HK24,MATCHSELEVES!$Y$14:$AE$600,3,FALSE),0)","v":0},{"$f":"IFERROR(VLOOKUP(HK24,MATCHSELEVES!$Y$14:$AE$600,4,FALSE),0)","v":0},{"$f":"IFERROR(VLOOKUP(HK24,MATCHSELEVES!$Y$14:$AE$600,5,FALSE),0)","v":0},{"$f":"IFERROR(VLOOKUP(HK24,MATCHSELEVES!$Y$14:$AF$600,8,FALSE),0)","v":0},{"$f":"IFERROR(VLOOKUP(HK24,MATCHSELEVES!$Y$14:$AG$600,9,FALSE),0)","v":0},"Lina_35",{"$f":"IFERROR(VLOOKUP(HQ24,MATCHSELEVES!$Y$14:$AE$600,3,FALSE),0)","v":0},{"$f":"IFERROR(VLOOKUP(HQ24,MATCHSELEVES!$Y$14:$AE$600,4,FALSE),0)","v":0},{"$f":"IFERROR(VLOOKUP(HQ24,MATCHSELEVES!$Y$14:$AE$600,5,FALSE),0)","v":0},{"$f":"IFERROR(VLOOKUP(HQ24,MATCHSELEVES!$Y$14:$AF$600,8,FALSE),0)","v":0},{"$f":"IFERROR(VLOOKUP(HQ24,MATCHSELEVES!$Y$14:$AG$600,9,FALSE),0)","v":0},"Lina_36",{"$f":"IFERROR(VLOOKUP(HW24,MATCHSELEVES!$Y$14:$AE$600,3,FALSE),0)","v":0},{"$f":"IFERROR(VLOOKUP(HW24,MATCHSELEVES!$Y$14:$AE$600,4,FALSE),0)","v":0},{"$f":"IFERROR(VLOOKUP(HW24,MATCHSELEVES!$Y$14:$AE$600,5,FALSE),0)","v":0},{"$f":"IFERROR(VLOOKUP(HW24,MATCHSELEVES!$Y$14:$AF$600,8,FALSE),0)","v":0},{"$f":"IFERROR(VLOOKUP(HW24,MATCHSELEVES!$Y$14:$AG$600,9,FALSE),0)","v":0},"Lina_37",{"$f":"IFERROR(VLOOKUP(IC24,MATCHSELEVES!$Y$14:$AE$600,3,FALSE),0)","v":0},{"$f":"IFERROR(VLOOKUP(IC24,MATCHSELEVES!$Y$14:$AE$600,4,FALSE),0)","v":0},{"$f":"IFERROR(VLOOKUP(IC24,MATCHSELEVES!$Y$14:$AE$600,5,FALSE),0)","v":0},{"$f":"IFERROR(VLOOKUP(IC24,MATCHSELEVES!$Y$14:$AF$600,8,FALSE),0)","v":0},{"$f":"IFERROR(VLOOKUP(IC24,MATCHSELEVES!$Y$14:$AG$600,9,FALSE),0)","v":0},"Lina_38",{"$f":"IFERROR(VLOOKUP(II24,MATCHSELEVES!$Y$14:$AE$600,3,FALSE),0)","v":0},{"$f":"IFERROR(VLOOKUP(II24,MATCHSELEVES!$Y$14:$AE$600,4,FALSE),0)","v":0},{"$f":"IFERROR(VLOOKUP(II24,MATCHSELEVES!$Y$14:$AE$600,5,FALSE),0)","v":0},{"$f":"IFERROR(VLOOKUP(II24,MATCHSELEVES!$Y$14:$AF$600,8,FALSE),0)","v":0},{"$f":"IFERROR(VLOOKUP(II24,MATCHSELEVES!$Y$14:$AG$600,9,FALSE),0)","v":0},"Lina_39",{"$f":"IFERROR(VLOOKUP(IO24,MATCHSELEVES!$Y$14:$AE$600,3,FALSE),0)","v":0},{"$f":"IFERROR(VLOOKUP(IO24,MATCHSELEVES!$Y$14:$AE$600,4,FALSE),0)","v":0},{"$f":"IFERROR(VLOOKUP(IO24,MATCHSELEVES!$Y$14:$AE$600,5,FALSE),0)","v":0},{"$f":"IFERROR(VLOOKUP(IO24,MATCHSELEVES!$Y$14:$AF$600,8,FALSE),0)","v":0},{"$f":"IFERROR(VLOOKUP(IO24,MATCHSELEVES!$Y$14:$AG$600,9,FALSE),0)","v":0},"Lina_40",{"$f":"IFERROR(VLOOKUP(IU24,MATCHSELEVES!$Y$14:$AE$600,3,FALSE),0)","v":0},{"$f":"IFERROR(VLOOKUP(IU24,MATCHSELEVES!$Y$14:$AE$600,4,FALSE),0)","v":0},{"$f":"IFERROR(VLOOKUP(IU24,MATCHSELEVES!$Y$14:$AE$600,5,FALSE),0)","v":0},{"$f":"IFERROR(VLOOKUP(IU24,MATCHSELEVES!$Y$14:$AF$600,8,FALSE),0)","v":0},{"$f":"IFERROR(VLOOKUP(IU24,MATCHSELEVES!$Y$14:$AG$600,9,FALSE),0)","v":0},"Linap_1",{"$f":"IFERROR(VLOOKUP(JA24,MATCHSELEVES!$Y$14:$AE$600,3,FALSE),0)","v":0},{"$f":"IFERROR(VLOOKUP(JA24,MATCHSELEVES!$Y$14:$AE$600,4,FALSE),0)","v":0},{"$f":"IFERROR(VLOOKUP(JA24,MATCHSELEVES!$Y$14:$AE$600,5,FALSE),0)","v":0},{"$f":"IFERROR(VLOOKUP(JA24,MATCHSELEVES!$Y$14:$AF$600,8,FALSE),0)","v":0},{"$f":"IFERROR(VLOOKUP(JA24,MATCHSELEVES!$Y$14:$AG$600,9,FALSE),0)","v":0},"Linap_2",{"$f":"IFERROR(VLOOKUP(JG24,MATCHSELEVES!$Y$14:$AE$600,3,FALSE),0)","v":0},{"$f":"IFERROR(VLOOKUP(JG24,MATCHSELEVES!$Y$14:$AE$600,4,FALSE),0)","v":0},{"$f":"IFERROR(VLOOKUP(JG24,MATCHSELEVES!$Y$14:$AE$600,5,FALSE),0)","v":0},{"$f":"IFERROR(VLOOKUP(JG24,MATCHSELEVES!$Y$14:$AF$600,8,FALSE),0)","v":0},{"$f":"IFERROR(VLOOKUP(JG24,MATCHSELEVES!$Y$14:$AG$600,9,FALSE),0)","v":0},"Linap_3",{"$f":"IFERROR(VLOOKUP(JM24,MATCHSELEVES!$Y$14:$AE$600,3,FALSE),0)","v":0},{"$f":"IFERROR(VLOOKUP(JM24,MATCHSELEVES!$Y$14:$AE$600,4,FALSE),0)","v":0},{"$f":"IFERROR(VLOOKUP(JM24,MATCHSELEVES!$Y$14:$AE$600,5,FALSE),0)","v":0},{"$f":"IFERROR(VLOOKUP(JM24,MATCHSELEVES!$Y$14:$AF$600,8,FALSE),0)","v":0},{"$f":"IFERROR(VLOOKUP(JM24,MATCHSELEVES!$Y$14:$AG$600,9,FALSE),0)","v":0},"Linap_4",{"$f":"IFERROR(VLOOKUP(JS24,MATCHSELEVES!$Y$14:$AE$600,3,FALSE),0)","v":0},{"$f":"IFERROR(VLOOKUP(JS24,MATCHSELEVES!$Y$14:$AE$600,4,FALSE),0)","v":0},{"$f":"IFERROR(VLOOKUP(JS24,MATCHSELEVES!$Y$14:$AE$600,5,FALSE),0)","v":0},{"$f":"IFERROR(VLOOKUP(JS24,MATCHSELEVES!$Y$14:$AF$600,8,FALSE),0)","v":0},{"$f":"IFERROR(VLOOKUP(JS24,MATCHSELEVES!$Y$14:$AG$600,9,FALSE),0)","v":0},"Linap_5",{"$f":"IFERROR(VLOOKUP(JY24,MATCHSELEVES!$Y$14:$AE$600,3,FALSE),0)","v":0},{"$f":"IFERROR(VLOOKUP(JY24,MATCHSELEVES!$Y$14:$AE$600,4,FALSE),0)","v":0},{"$f":"IFERROR(VLOOKUP(JY24,MATCHSELEVES!$Y$14:$AE$600,5,FALSE),0)","v":0},{"$f":"IFERROR(VLOOKUP(JY24,MATCHSELEVES!$Y$14:$AF$600,8,FALSE),0)","v":0},{"$f":"IFERROR(VLOOKUP(JY24,MATCHSELEVES!$Y$14:$AG$600,9,FALSE),0)","v":0},"Linap_6",{"$f":"IFERROR(VLOOKUP(KE24,MATCHSELEVES!$Y$14:$AE$600,3,FALSE),0)","v":0},{"$f":"IFERROR(VLOOKUP(KE24,MATCHSELEVES!$Y$14:$AE$600,4,FALSE),0)","v":0},{"$f":"IFERROR(VLOOKUP(KE24,MATCHSELEVES!$Y$14:$AE$600,5,FALSE),0)","v":0},{"$f":"IFERROR(VLOOKUP(KE24,MATCHSELEVES!$Y$14:$AF$600,8,FALSE),0)","v":0},{"$f":"IFERROR(VLOOKUP(KE24,MATCHSELEVES!$Y$14:$AG$600,9,FALSE),0)","v":0},"Linap_7",{"$f":"IFERROR(VLOOKUP(KK24,MATCHSELEVES!$Y$14:$AE$600,3,FALSE),0)","v":0},{"$f":"IFERROR(VLOOKUP(KK24,MATCHSELEVES!$Y$14:$AE$600,4,FALSE),0)","v":0},{"$f":"IFERROR(VLOOKUP(KK24,MATCHSELEVES!$Y$14:$AE$600,5,FALSE),0)","v":0},{"$f":"IFERROR(VLOOKUP(KK24,MATCHSELEVES!$Y$14:$AF$600,8,FALSE),0)","v":0},{"$f":"IFERROR(VLOOKUP(KK24,MATCHSELEVES!$Y$14:$AG$600,9,FALSE),0)","v":0},"Linap_8",{"$f":"IFERROR(VLOOKUP(KQ24,MATCHSELEVES!$Y$14:$AE$600,3,FALSE),0)","v":0},{"$f":"IFERROR(VLOOKUP(KQ24,MATCHSELEVES!$Y$14:$AE$600,4,FALSE),0)","v":0},{"$f":"IFERROR(VLOOKUP(KQ24,MATCHSELEVES!$Y$14:$AE$600,5,FALSE),0)","v":0},{"$f":"IFERROR(VLOOKUP(KQ24,MATCHSELEVES!$Y$14:$AF$600,8,FALSE),0)","v":0},{"$f":"IFERROR(VLOOKUP(KQ24,MATCHSELEVES!$Y$14:$AG$600,9,FALSE),0)","v":0},"Linap_9",{"$f":"IFERROR(VLOOKUP(KW24,MATCHSELEVES!$Y$14:$AE$600,3,FALSE),0)","v":0},{"$f":"IFERROR(VLOOKUP(KW24,MATCHSELEVES!$Y$14:$AE$600,4,FALSE),0)","v":0},{"$f":"IFERROR(VLOOKUP(KW24,MATCHSELEVES!$Y$14:$AE$600,5,FALSE),0)","v":0},{"$f":"IFERROR(VLOOKUP(KW24,MATCHSELEVES!$Y$14:$AF$600,8,FALSE),0)","v":0},{"$f":"IFERROR(VLOOKUP(KW24,MATCHSELEVES!$Y$14:$AG$600,9,FALSE),0)","v":0},"Linap_10",{"$f":"IFERROR(VLOOKUP(LC24,MATCHSELEVES!$Y$14:$AE$600,3,FALSE),0)","v":0},{"$f":"IFERROR(VLOOKUP(LC24,MATCHSELEVES!$Y$14:$AE$600,4,FALSE),0)","v":0},{"$f":"IFERROR(VLOOKUP(LC24,MATCHSELEVES!$Y$14:$AE$600,5,FALSE),0)","v":0},{"$f":"IFERROR(VLOOKUP(LC24,MATCHSELEVES!$Y$14:$AF$600,8,FALSE),0)","v":0},{"$f":"IFERROR(VLOOKUP(LC24,MATCHSELEVES!$Y$14:$AG$600,9,FALSE),0)","v":0},"Linap_11",{"$f":"IFERROR(VLOOKUP(LI24,MATCHSELEVES!$Y$14:$AE$600,3,FALSE),0)","v":0},{"$f":"IFERROR(VLOOKUP(LI24,MATCHSELEVES!$Y$14:$AE$600,4,FALSE),0)","v":0},{"$f":"IFERROR(VLOOKUP(LI24,MATCHSELEVES!$Y$14:$AE$600,5,FALSE),0)","v":0},{"$f":"IFERROR(VLOOKUP(LI24,MATCHSELEVES!$Y$14:$AF$600,8,FALSE),0)","v":0},{"$f":"IFERROR(VLOOKUP(LI24,MATCHSELEVES!$Y$14:$AG$600,9,FALSE),0)","v":0},"Linap_12",{"$f":"IFERROR(VLOOKUP(LO24,MATCHSELEVES!$Y$14:$AE$600,3,FALSE),0)","v":0},{"$f":"IFERROR(VLOOKUP(LO24,MATCHSELEVES!$Y$14:$AE$600,4,FALSE),0)","v":0},{"$f":"IFERROR(VLOOKUP(LO24,MATCHSELEVES!$Y$14:$AE$600,5,FALSE),0)","v":0},{"$f":"IFERROR(VLOOKUP(LO24,MATCHSELEVES!$Y$14:$AF$600,8,FALSE),0)","v":0},{"$f":"IFERROR(VLOOKUP(LO24,MATCHSELEVES!$Y$14:$AG$600,9,FALSE),0)","v":0},"Linap_13",{"$f":"IFERROR(VLOOKUP(LU24,MATCHSELEVES!$Y$14:$AE$600,3,FALSE),0)","v":0},{"$f":"IFERROR(VLOOKUP(LU24,MATCHSELEVES!$Y$14:$AE$600,4,FALSE),0)","v":0},{"$f":"IFERROR(VLOOKUP(LU24,MATCHSELEVES!$Y$14:$AE$600,5,FALSE),0)","v":0},{"$f":"IFERROR(VLOOKUP(LU24,MATCHSELEVES!$Y$14:$AF$600,8,FALSE),0)","v":0},{"$f":"IFERROR(VLOOKUP(LU24,MATCHSELEVES!$Y$14:$AG$600,9,FALSE),0)","v":0},"Linap_14",{"$f":"IFERROR(VLOOKUP(MA24,MATCHSELEVES!$Y$14:$AE$600,3,FALSE),0)","v":0},{"$f":"IFERROR(VLOOKUP(MA24,MATCHSELEVES!$Y$14:$AE$600,4,FALSE),0)","v":0},{"$f":"IFERROR(VLOOKUP(MA24,MATCHSELEVES!$Y$14:$AE$600,5,FALSE),0)","v":0},{"$f":"IFERROR(VLOOKUP(MA24,MATCHSELEVES!$Y$14:$AF$600,8,FALSE),0)","v":0},{"$f":"IFERROR(VLOOKUP(MA24,MATCHSELEVES!$Y$14:$AG$600,9,FALSE),0)","v":0},"Linap_15",{"$f":"IFERROR(VLOOKUP(MG24,MATCHSELEVES!$Y$14:$AE$600,3,FALSE),0)","v":0},{"$f":"IFERROR(VLOOKUP(MG24,MATCHSELEVES!$Y$14:$AE$600,4,FALSE),0)","v":0},{"$f":"IFERROR(VLOOKUP(MG24,MATCHSELEVES!$Y$14:$AE$600,5,FALSE),0)","v":0},{"$f":"IFERROR(VLOOKUP(MG24,MATCHSELEVES!$Y$14:$AF$600,8,FALSE),0)","v":0},{"$f":"IFERROR(VLOOKUP(MG24,MATCHSELEVES!$Y$14:$AG$600,9,FALSE),0)","v":0},"Linap_16",{"$f":"IFERROR(VLOOKUP(MM24,MATCHSELEVES!$Y$14:$AE$600,3,FALSE),0)","v":0},{"$f":"IFERROR(VLOOKUP(MM24,MATCHSELEVES!$Y$14:$AE$600,4,FALSE),0)","v":0},{"$f":"IFERROR(VLOOKUP(MM24,MATCHSELEVES!$Y$14:$AE$600,5,FALSE),0)","v":0},{"$f":"IFERROR(VLOOKUP(MM24,MATCHSELEVES!$Y$14:$AF$600,8,FALSE),0)","v":0},{"$f":"IFERROR(VLOOKUP(MM24,MATCHSELEVES!$Y$14:$AG$600,9,FALSE),0)","v":0},"Linap_17",{"$f":"IFERROR(VLOOKUP(MS24,MATCHSELEVES!$Y$14:$AE$600,3,FALSE),0)","v":0},{"$f":"IFERROR(VLOOKUP(MS24,MATCHSELEVES!$Y$14:$AE$600,4,FALSE),0)","v":0},{"$f":"IFERROR(VLOOKUP(MS24,MATCHSELEVES!$Y$14:$AE$600,5,FALSE),0)","v":0},{"$f":"IFERROR(VLOOKUP(MS24,MATCHSELEVES!$Y$14:$AF$600,8,FALSE),0)","v":0},{"$f":"IFERROR(VLOOKUP(MS24,MATCHSELEVES!$Y$14:$AG$600,9,FALSE),0)","v":0},"Linap_18",{"$f":"IFERROR(VLOOKUP(MY24,MATCHSELEVES!$Y$14:$AE$600,3,FALSE),0)","v":0},{"$f":"IFERROR(VLOOKUP(MY24,MATCHSELEVES!$Y$14:$AE$600,4,FALSE),0)","v":0},{"$f":"IFERROR(VLOOKUP(MY24,MATCHSELEVES!$Y$14:$AE$600,5,FALSE),0)","v":0},{"$f":"IFERROR(VLOOKUP(MY24,MATCHSELEVES!$Y$14:$AF$600,8,FALSE),0)","v":0},{"$f":"IFERROR(VLOOKUP(MY24,MATCHSELEVES!$Y$14:$AG$600,9,FALSE),0)","v":0},"Linap_19",{"$f":"IFERROR(VLOOKUP(NE24,MATCHSELEVES!$Y$14:$AE$600,3,FALSE),0)","v":0},{"$f":"IFERROR(VLOOKUP(NE24,MATCHSELEVES!$Y$14:$AE$600,4,FALSE),0)","v":0},{"$f":"IFERROR(VLOOKUP(NE24,MATCHSELEVES!$Y$14:$AE$600,5,FALSE),0)","v":0},{"$f":"IFERROR(VLOOKUP(NE24,MATCHSELEVES!$Y$14:$AF$600,8,FALSE),0)","v":0},{"$f":"IFERROR(VLOOKUP(NE24,MATCHSELEVES!$Y$14:$AG$600,9,FALSE),0)","v":0},"Linap_20",{"$f":"IFERROR(VLOOKUP(NK24,MATCHSELEVES!$Y$14:$AE$600,3,FALSE),0)","v":0},{"$f":"IFERROR(VLOOKUP(NK24,MATCHSELEVES!$Y$14:$AE$600,4,FALSE),0)","v":0},{"$f":"IFERROR(VLOOKUP(NK24,MATCHSELEVES!$Y$14:$AE$600,5,FALSE),0)","v":0},{"$f":"IFERROR(VLOOKUP(NK24,MATCHSELEVES!$Y$14:$AF$600,8,FALSE),0)","v":0},{"$f":"IFERROR(VLOOKUP(NK24,MATCHSELEVES!$Y$14:$AG$600,9,FALSE),0)","v":0},"Linap_21",{"$f":"IFERROR(VLOOKUP(NQ24,MATCHSELEVES!$Y$14:$AE$600,3,FALSE),0)","v":0},{"$f":"IFERROR(VLOOKUP(NQ24,MATCHSELEVES!$Y$14:$AE$600,4,FALSE),0)","v":0},{"$f":"IFERROR(VLOOKUP(NQ24,MATCHSELEVES!$Y$14:$AE$600,5,FALSE),0)","v":0},{"$f":"IFERROR(VLOOKUP(NQ24,MATCHSELEVES!$Y$14:$AF$600,8,FALSE),0)","v":0},{"$f":"IFERROR(VLOOKUP(NQ24,MATCHSELEVES!$Y$14:$AG$600,9,FALSE),0)","v":0},"Linap_22",{"$f":"IFERROR(VLOOKUP(NW24,MATCHSELEVES!$Y$14:$AE$600,3,FALSE),0)","v":0},{"$f":"IFERROR(VLOOKUP(NW24,MATCHSELEVES!$Y$14:$AE$600,4,FALSE),0)","v":0},{"$f":"IFERROR(VLOOKUP(NW24,MATCHSELEVES!$Y$14:$AE$600,5,FALSE),0)","v":0},{"$f":"IFERROR(VLOOKUP(NW24,MATCHSELEVES!$Y$14:$AF$600,8,FALSE),0)","v":0},{"$f":"IFERROR(VLOOKUP(NW24,MATCHSELEVES!$Y$14:$AG$600,9,FALSE),0)","v":0},"Linap_23",{"$f":"IFERROR(VLOOKUP(OC24,MATCHSELEVES!$Y$14:$AE$600,3,FALSE),0)","v":0},{"$f":"IFERROR(VLOOKUP(OC24,MATCHSELEVES!$Y$14:$AE$600,4,FALSE),0)","v":0},{"$f":"IFERROR(VLOOKUP(OC24,MATCHSELEVES!$Y$14:$AE$600,5,FALSE),0)","v":0},{"$f":"IFERROR(VLOOKUP(OC24,MATCHSELEVES!$Y$14:$AF$600,8,FALSE),0)","v":0},{"$f":"IFERROR(VLOOKUP(OC24,MATCHSELEVES!$Y$14:$AG$600,9,FALSE),0)","v":0},"Linap_24",{"$f":"IFERROR(VLOOKUP(OI24,MATCHSELEVES!$Y$14:$AE$600,3,FALSE),0)","v":0},{"$f":"IFERROR(VLOOKUP(OI24,MATCHSELEVES!$Y$14:$AE$600,4,FALSE),0)","v":0},{"$f":"IFERROR(VLOOKUP(OI24,MATCHSELEVES!$Y$14:$AE$600,5,FALSE),0)","v":0},{"$f":"IFERROR(VLOOKUP(OI24,MATCHSELEVES!$Y$14:$AF$600,8,FALSE),0)","v":0},{"$f":"IFERROR(VLOOKUP(OI24,MATCHSELEVES!$Y$14:$AG$600,9,FALSE),0)","v":0},"Linap_25",{"$f":"IFERROR(VLOOKUP(OO24,MATCHSELEVES!$Y$14:$AE$600,3,FALSE),0)","v":0},{"$f":"IFERROR(VLOOKUP(OO24,MATCHSELEVES!$Y$14:$AE$600,4,FALSE),0)","v":0},{"$f":"IFERROR(VLOOKUP(OO24,MATCHSELEVES!$Y$14:$AE$600,5,FALSE),0)","v":0},{"$f":"IFERROR(VLOOKUP(OO24,MATCHSELEVES!$Y$14:$AF$600,8,FALSE),0)","v":0},{"$f":"IFERROR(VLOOKUP(OO24,MATCHSELEVES!$Y$14:$AG$600,9,FALSE),0)","v":0},"Linap_26",{"$f":"IFERROR(VLOOKUP(OU24,MATCHSELEVES!$Y$14:$AE$600,3,FALSE),0)","v":0},{"$f":"IFERROR(VLOOKUP(OU24,MATCHSELEVES!$Y$14:$AE$600,4,FALSE),0)","v":0},{"$f":"IFERROR(VLOOKUP(OU24,MATCHSELEVES!$Y$14:$AE$600,5,FALSE),0)","v":0},{"$f":"IFERROR(VLOOKUP(OU24,MATCHSELEVES!$Y$14:$AF$600,8,FALSE),0)","v":0},{"$f":"IFERROR(VLOOKUP(OU24,MATCHSELEVES!$Y$14:$AG$600,9,FALSE),0)","v":0},"Linap_27",{"$f":"IFERROR(VLOOKUP(PA24,MATCHSELEVES!$Y$14:$AE$600,3,FALSE),0)","v":0},{"$f":"IFERROR(VLOOKUP(PA24,MATCHSELEVES!$Y$14:$AE$600,4,FALSE),0)","v":0},{"$f":"IFERROR(VLOOKUP(PA24,MATCHSELEVES!$Y$14:$AE$600,5,FALSE),0)","v":0},{"$f":"IFERROR(VLOOKUP(PA24,MATCHSELEVES!$Y$14:$AF$600,8,FALSE),0)","v":0},{"$f":"IFERROR(VLOOKUP(PA24,MATCHSELEVES!$Y$14:$AG$600,9,FALSE),0)","v":0},"Linap_28",{"$f":"IFERROR(VLOOKUP(PG24,MATCHSELEVES!$Y$14:$AE$600,3,FALSE),0)","v":0},{"$f":"IFERROR(VLOOKUP(PG24,MATCHSELEVES!$Y$14:$AE$600,4,FALSE),0)","v":0},{"$f":"IFERROR(VLOOKUP(PG24,MATCHSELEVES!$Y$14:$AE$600,5,FALSE),0)","v":0},{"$f":"IFERROR(VLOOKUP(PG24,MATCHSELEVES!$Y$14:$AF$600,8,FALSE),0)","v":0},{"$f":"IFERROR(VLOOKUP(PG24,MATCHSELEVES!$Y$14:$AG$600,9,FALSE),0)","v":0},"Linap_29",{"$f":"IFERROR(VLOOKUP(PM24,MATCHSELEVES!$Y$14:$AE$600,3,FALSE),0)","v":0},{"$f":"IFERROR(VLOOKUP(PM24,MATCHSELEVES!$Y$14:$AE$600,4,FALSE),0)","v":0},{"$f":"IFERROR(VLOOKUP(PM24,MATCHSELEVES!$Y$14:$AE$600,5,FALSE),0)","v":0},{"$f":"IFERROR(VLOOKUP(PM24,MATCHSELEVES!$Y$14:$AF$600,8,FALSE),0)","v":0},{"$f":"IFERROR(VLOOKUP(PM24,MATCHSELEVES!$Y$14:$AG$600,9,FALSE),0)","v":0},"Linap_30",{"$f":"IFERROR(VLOOKUP(PS24,MATCHSELEVES!$Y$14:$AE$600,3,FALSE),0)","v":0},{"$f":"IFERROR(VLOOKUP(PS24,MATCHSELEVES!$Y$14:$AE$600,4,FALSE),0)","v":0},{"$f":"IFERROR(VLOOKUP(PS24,MATCHSELEVES!$Y$14:$AE$600,5,FALSE),0)","v":0},{"$f":"IFERROR(VLOOKUP(PS24,MATCHSELEVES!$Y$14:$AF$600,8,FALSE),0)","v":0},{"$f":"IFERROR(VLOOKUP(PS24,MATCHSELEVES!$Y$14:$AG$600,9,FALSE),0)","v":0},"Linap_31",{"$f":"IFERROR(VLOOKUP(PY24,MATCHSELEVES!$Y$14:$AE$600,3,FALSE),0)","v":0},{"$f":"IFERROR(VLOOKUP(PY24,MATCHSELEVES!$Y$14:$AE$600,4,FALSE),0)","v":0},{"$f":"IFERROR(VLOOKUP(PY24,MATCHSELEVES!$Y$14:$AE$600,5,FALSE),0)","v":0},{"$f":"IFERROR(VLOOKUP(PY24,MATCHSELEVES!$Y$14:$AF$600,8,FALSE),0)","v":0},{"$f":"IFERROR(VLOOKUP(PY24,MATCHSELEVES!$Y$14:$AG$600,9,FALSE),0)","v":0},"Linap_32",{"$f":"IFERROR(VLOOKUP(QE24,MATCHSELEVES!$Y$14:$AE$600,3,FALSE),0)","v":0},{"$f":"IFERROR(VLOOKUP(QE24,MATCHSELEVES!$Y$14:$AE$600,4,FALSE),0)","v":0},{"$f":"IFERROR(VLOOKUP(QE24,MATCHSELEVES!$Y$14:$AE$600,5,FALSE),0)","v":0},{"$f":"IFERROR(VLOOKUP(QE24,MATCHSELEVES!$Y$14:$AF$600,8,FALSE),0)","v":0},{"$f":"IFERROR(VLOOKUP(QE24,MATCHSELEVES!$Y$14:$AG$600,9,FALSE),0)","v":0},"Linap_33",{"$f":"IFERROR(VLOOKUP(QK24,MATCHSELEVES!$Y$14:$AE$600,3,FALSE),0)","v":0},{"$f":"IFERROR(VLOOKUP(QK24,MATCHSELEVES!$Y$14:$AE$600,4,FALSE),0)","v":0},{"$f":"IFERROR(VLOOKUP(QK24,MATCHSELEVES!$Y$14:$AE$600,5,FALSE),0)","v":0},{"$f":"IFERROR(VLOOKUP(QK24,MATCHSELEVES!$Y$14:$AF$600,8,FALSE),0)","v":0},{"$f":"IFERROR(VLOOKUP(QK24,MATCHSELEVES!$Y$14:$AG$600,9,FALSE),0)","v":0},"Linap_34",{"$f":"IFERROR(VLOOKUP(QQ24,MATCHSELEVES!$Y$14:$AE$600,3,FALSE),0)","v":0},{"$f":"IFERROR(VLOOKUP(QQ24,MATCHSELEVES!$Y$14:$AE$600,4,FALSE),0)","v":0},{"$f":"IFERROR(VLOOKUP(QQ24,MATCHSELEVES!$Y$14:$AE$600,5,FALSE),0)","v":0},{"$f":"IFERROR(VLOOKUP(QQ24,MATCHSELEVES!$Y$14:$AF$600,8,FALSE),0)","v":0},{"$f":"IFERROR(VLOOKUP(QQ24,MATCHSELEVES!$Y$14:$AG$600,9,FALSE),0)","v":0},"Linap_35",{"$f":"IFERROR(VLOOKUP(QW24,MATCHSELEVES!$Y$14:$AE$600,3,FALSE),0)","v":0},{"$f":"IFERROR(VLOOKUP(QW24,MATCHSELEVES!$Y$14:$AE$600,4,FALSE),0)","v":0},{"$f":"IFERROR(VLOOKUP(QW24,MATCHSELEVES!$Y$14:$AE$600,5,FALSE),0)","v":0},{"$f":"IFERROR(VLOOKUP(QW24,MATCHSELEVES!$Y$14:$AF$600,8,FALSE),0)","v":0},{"$f":"IFERROR(VLOOKUP(QW24,MATCHSELEVES!$Y$14:$AG$600,9,FALSE),0)","v":0},"Linap_36",{"$f":"IFERROR(VLOOKUP(RC24,MATCHSELEVES!$Y$14:$AE$600,3,FALSE),0)","v":0},{"$f":"IFERROR(VLOOKUP(RC24,MATCHSELEVES!$Y$14:$AE$600,4,FALSE),0)","v":0},{"$f":"IFERROR(VLOOKUP(RC24,MATCHSELEVES!$Y$14:$AE$600,5,FALSE),0)","v":0},{"$f":"IFERROR(VLOOKUP(RC24,MATCHSELEVES!$Y$14:$AF$600,8,FALSE),0)","v":0},{"$f":"IFERROR(VLOOKUP(RC24,MATCHSELEVES!$Y$14:$AG$600,9,FALSE),0)","v":0},"Linap_37",{"$f":"IFERROR(VLOOKUP(RI24,MATCHSELEVES!$Y$14:$AE$600,3,FALSE),0)","v":0},{"$f":"IFERROR(VLOOKUP(RI24,MATCHSELEVES!$Y$14:$AE$600,4,FALSE),0)","v":0},{"$f":"IFERROR(VLOOKUP(RI24,MATCHSELEVES!$Y$14:$AE$600,5,FALSE),0)","v":0},{"$f":"IFERROR(VLOOKUP(RI24,MATCHSELEVES!$Y$14:$AF$600,8,FALSE),0)","v":0},{"$f":"IFERROR(VLOOKUP(RI24,MATCHSELEVES!$Y$14:$AG$600,9,FALSE),0)","v":0},"Linap_38",{"$f":"IFERROR(VLOOKUP(RO24,MATCHSELEVES!$Y$14:$AE$600,3,FALSE),0)","v":0},{"$f":"IFERROR(VLOOKUP(RO24,MATCHSELEVES!$Y$14:$AE$600,4,FALSE),0)","v":0},{"$f":"IFERROR(VLOOKUP(RO24,MATCHSELEVES!$Y$14:$AE$600,5,FALSE),0)","v":0},{"$f":"IFERROR(VLOOKUP(RO24,MATCHSELEVES!$Y$14:$AF$600,8,FALSE),0)","v":0},{"$f":"IFERROR(VLOOKUP(RO24,MATCHSELEVES!$Y$14:$AG$600,9,FALSE),0)","v":0},"Linap_39",{"$f":"IFERROR(VLOOKUP(RU24,MATCHSELEVES!$Y$14:$AE$600,3,FALSE),0)","v":0},{"$f":"IFERROR(VLOOKUP(RU24,MATCHSELEVES!$Y$14:$AE$600,4,FALSE),0)","v":0},{"$f":"IFERROR(VLOOKUP(RU24,MATCHSELEVES!$Y$14:$AE$600,5,FALSE),0)","v":0},{"$f":"IFERROR(VLOOKUP(RU24,MATCHSELEVES!$Y$14:$AF$600,8,FALSE),0)","v":0},{"$f":"IFERROR(VLOOKUP(RU24,MATCHSELEVES!$Y$14:$AG$600,9,FALSE),0)","v":0},"Linap_40",{"$f":"IFERROR(VLOOKUP(SA24,MATCHSELEVES!$Y$14:$AE$600,3,FALSE),0)","v":0},{"$f":"IFERROR(VLOOKUP(SA24,MATCHSELEVES!$Y$14:$AE$600,4,FALSE),0)","v":0},{"$f":"IFERROR(VLOOKUP(SA24,MATCHSELEVES!$Y$14:$AE$600,5,FALSE),0)","v":0},{"$f":"IFERROR(VLOOKUP(SA24,MATCHSELEVES!$Y$14:$AF$600,8,FALSE),0)","v":0},{"$f":"IFERROR(VLOOKUP(SA24,MATCHSELEVES!$Y$14:$AG$600,9,FALSE),0)","v":0}]
[22,null,"Lydia",22,null,null,{"$f":"COUNTIF(MATCHSELEVES!$Z$14:$Z$600,C25)+COUNTIF(MATCHSELEVES!$Z$14:$Z$600,$C25&\"p\")","v":0},1,{"$f":"COUNTIF(MATCHSELEVES!$F$14:$H$249,C25)","v":0},1,0,1,{"$f":"IFERROR(M68/Tableau10[[#This Row],[Nombre de matchs joués]],0)","v":0},{"$f":"IF(Tableau10[[#This Row],[Nombre de points encaissés]]=0,$C$45,SUMPRODUCT((M$4:M$43<M25)*(M$4:M$43<>0))+1)","v":40},0,1,{"$f":"(Tableau10[[#This Row],[CLASSEMENT1]]+Tableau10[[#This Row],[CLASSEMENT2]]+Tableau10[[#This Row],[CLASSEMENT3]]+Tableau10[[#This Row],[CLASSEMENT4]]+Tableau10[[#This Row],[CLASSEMENT5]]+Tableau10[[#This Row],[CLASSEMENT6]])/6","v":11},{"$f":"RANK(Tableau10[[#This Row],[MOYENNE CLASSEMENTS]],Tableau10[MOYENNE CLASSEMENTS],1)","v":22},null,{"$f":"Tableau10[[#This Row],[CLASSEMENT1]]","v":22},"Lydia_1",{"$f":"IFERROR(VLOOKUP(U25,MATCHSELEVES!$Y$14:$AE$600,3,FALSE),0)","v":0},{"$f":"IFERROR(VLOOKUP(U25,MATCHSELEVES!$Y$14:$AE$600,4,FALSE),0)","v":0},{"$f":"IFERROR(VLOOKUP(U25,MATCHSELEVES!$Y$14:$AE$600,5,FALSE),0)","v":0},{"$f":"IFERROR(VLOOKUP(U25,MATCHSELEVES!$Y$14:$AF$600,8,FALSE),0)","v":0},{"$f":"IFERROR(VLOOKUP(U25,MATCHSELEVES!$Y$14:$AG$600,9,FALSE),0)","v":0},"Lydia_2",{"$f":"IFERROR(VLOOKUP(AA25,MATCHSELEVES!$Y$14:$AE$600,3,FALSE),0)","v":0},{"$f":"IFERROR(VLOOKUP(AA25,MATCHSELEVES!$Y$14:$AE$600,4,FALSE),0)","v":0},{"$f":"IFERROR(VLOOKUP(AA25,MATCHSELEVES!$Y$14:$AE$600,5,FALSE),0)","v":0},{"$f":"IFERROR(VLOOKUP(AA25,MATCHSELEVES!$Y$14:$AF$600,8,FALSE),0)","v":0},{"$f":"IFERROR(VLOOKUP(AA25,MATCHSELEVES!$Y$14:$AG$600,9,FALSE),0)","v":0},"Lydia_3",{"$f":"IFERROR(VLOOKUP(AG25,MATCHSELEVES!$Y$14:$AE$600,3,FALSE),0)","v":0},{"$f":"IFERROR(VLOOKUP(AG25,MATCHSELEVES!$Y$14:$AE$600,4,FALSE),0)","v":0},{"$f":"IFERROR(VLOOKUP(AG25,MATCHSELEVES!$Y$14:$AE$600,5,FALSE),0)","v":0},{"$f":"IFERROR(VLOOKUP(AG25,MATCHSELEVES!$Y$14:$AF$600,8,FALSE),0)","v":0},{"$f":"IFERROR(VLOOKUP(AG25,MATCHSELEVES!$Y$14:$AG$600,9,FALSE),0)","v":0},"Lydia_4",{"$f":"IFERROR(VLOOKUP(AM25,MATCHSELEVES!$Y$14:$AE$600,3,FALSE),0)","v":0},{"$f":"IFERROR(VLOOKUP(AM25,MATCHSELEVES!$Y$14:$AE$600,4,FALSE),0)","v":0},{"$f":"IFERROR(VLOOKUP(AM25,MATCHSELEVES!$Y$14:$AE$600,5,FALSE),0)","v":0},{"$f":"IFERROR(VLOOKUP(AM25,MATCHSELEVES!$Y$14:$AF$600,8,FALSE),0)","v":0},{"$f":"IFERROR(VLOOKUP(AM25,MATCHSELEVES!$Y$14:$AG$600,9,FALSE),0)","v":0},"Lydia_5",{"$f":"IFERROR(VLOOKUP(AS25,MATCHSELEVES!$Y$14:$AE$600,3,FALSE),0)","v":0},{"$f":"IFERROR(VLOOKUP(AS25,MATCHSELEVES!$Y$14:$AE$600,4,FALSE),0)","v":0},{"$f":"IFERROR(VLOOKUP(AS25,MATCHSELEVES!$Y$14:$AE$600,5,FALSE),0)","v":0},{"$f":"IFERROR(VLOOKUP(AS25,MATCHSELEVES!$Y$14:$AF$600,8,FALSE),0)","v":0},{"$f":"IFERROR(VLOOKUP(AS25,MATCHSELEVES!$Y$14:$AG$600,9,FALSE),0)","v":0},"Lydia_6",{"$f":"IFERROR(VLOOKUP(AY25,MATCHSELEVES!$Y$14:$AE$600,3,FALSE),0)","v":0},{"$f":"IFERROR(VLOOKUP(AY25,MATCHSELEVES!$Y$14:$AE$600,4,FALSE),0)","v":0},{"$f":"IFERROR(VLOOKUP(AY25,MATCHSELEVES!$Y$14:$AE$600,5,FALSE),0)","v":0},{"$f":"IFERROR(VLOOKUP(AY25,MATCHSELEVES!$Y$14:$AF$600,8,FALSE),0)","v":0},{"$f":"IFERROR(VLOOKUP(AY25,MATCHSELEVES!$Y$14:$AG$600,9,FALSE),0)","v":0},"Lydia_7",{"$f":"IFERROR(VLOOKUP(BE25,MATCHSELEVES!$Y$14:$AE$600,3,FALSE),0)","v":0},{"$f":"IFERROR(VLOOKUP(BE25,MATCHSELEVES!$Y$14:$AE$600,4,FALSE),0)","v":0},{"$f":"IFERROR(VLOOKUP(BE25,MATCHSELEVES!$Y$14:$AE$600,5,FALSE),0)","v":0},{"$f":"IFERROR(VLOOKUP(BE25,MATCHSELEVES!$Y$14:$AF$600,8,FALSE),0)","v":0},{"$f":"IFERROR(VLOOKUP(BE25,MATCHSELEVES!$Y$14:$AG$600,9,FALSE),0)","v":0},"Lydia_8",{"$f":"IFERROR(VLOOKUP(BK25,MATCHSELEVES!$Y$14:$AE$600,3,FALSE),0)","v":0},{"$f":"IFERROR(VLOOKUP(BK25,MATCHSELEVES!$Y$14:$AE$600,4,FALSE),0)","v":0},{"$f":"IFERROR(VLOOKUP(BK25,MATCHSELEVES!$Y$14:$AE$600,5,FALSE),0)","v":0},{"$f":"IFERROR(VLOOKUP(BK25,MATCHSELEVES!$Y$14:$AF$600,8,FALSE),0)","v":0},{"$f":"IFERROR(VLOOKUP(BK25,MATCHSELEVES!$Y$14:$AG$600,9,FALSE),0)","v":0},"Lydia_9",{"$f":"IFERROR(VLOOKUP(BQ25,MATCHSELEVES!$Y$14:$AE$600,3,FALSE),0)","v":0},{"$f":"IFERROR(VLOOKUP(BQ25,MATCHSELEVES!$Y$14:$AE$600,4,FALSE),0)","v":0},{"$f":"IFERROR(VLOOKUP(BQ25,MATCHSELEVES!$Y$14:$AE$600,5,FALSE),0)","v":0},{"$f":"IFERROR(VLOOKUP(BQ25,MATCHSELEVES!$Y$14:$AF$600,8,FALSE),0)","v":0},{"$f":"IFERROR(VLOOKUP(BQ25,MATCHSELEVES!$Y$14:$AG$600,9,FALSE),0)","v":0},"Lydia_10",{"$f":"IFERROR(VLOOKUP(BW25,MATCHSELEVES!$Y$14:$AE$600,3,FALSE),0)","v":0},{"$f":"IFERROR(VLOOKUP(BW25,MATCHSELEVES!$Y$14:$AE$600,4,FALSE),0)","v":0},{"$f":"IFERROR(VLOOKUP(BW25,MATCHSELEVES!$Y$14:$AE$600,5,FALSE),0)","v":0},{"$f":"IFERROR(VLOOKUP(BW25,MATCHSELEVES!$Y$14:$AF$600,8,FALSE),0)","v":0},{"$f":"IFERROR(VLOOKUP(BW25,MATCHSELEVES!$Y$14:$AG$600,9,FALSE),0)","v":0},"Lydia_11",{"$f":"IFERROR(VLOOKUP(CC25,MATCHSELEVES!$Y$14:$AE$600,3,FALSE),0)","v":0},{"$f":"IFERROR(VLOOKUP(CC25,MATCHSELEVES!$Y$14:$AE$600,4,FALSE),0)","v":0},{"$f":"IFERROR(VLOOKUP(CC25,MATCHSELEVES!$Y$14:$AE$600,5,FALSE),0)","v":0},{"$f":"IFERROR(VLOOKUP(CC25,MATCHSELEVES!$Y$14:$AF$600,8,FALSE),0)","v":0},{"$f":"IFERROR(VLOOKUP(CC25,MATCHSELEVES!$Y$14:$AG$600,9,FALSE),0)","v":0},"Lydia_12",{"$f":"IFERROR(VLOOKUP(CI25,MATCHSELEVES!$Y$14:$AE$600,3,FALSE),0)","v":0},{"$f":"IFERROR(VLOOKUP(CI25,MATCHSELEVES!$Y$14:$AE$600,4,FALSE),0)","v":0},{"$f":"IFERROR(VLOOKUP(CI25,MATCHSELEVES!$Y$14:$AE$600,5,FALSE),0)","v":0},{"$f":"IFERROR(VLOOKUP(CI25,MATCHSELEVES!$Y$14:$AF$600,8,FALSE),0)","v":0},{"$f":"IFERROR(VLOOKUP(CI25,MATCHSELEVES!$Y$14:$AG$600,9,FALSE),0)","v":0},"Lydia_13",{"$f":"IFERROR(VLOOKUP(CO25,MATCHSELEVES!$Y$14:$AE$600,3,FALSE),0)","v":0},{"$f":"IFERROR(VLOOKUP(CO25,MATCHSELEVES!$Y$14:$AE$600,4,FALSE),0)","v":0},{"$f":"IFERROR(VLOOKUP(CO25,MATCHSELEVES!$Y$14:$AE$600,5,FALSE),0)","v":0},{"$f":"IFERROR(VLOOKUP(CO25,MATCHSELEVES!$Y$14:$AF$600,8,FALSE),0)","v":0},{"$f":"IFERROR(VLOOKUP(CO25,MATCHSELEVES!$Y$14:$AG$600,9,FALSE),0)","v":0},"Lydia_14",{"$f":"IFERROR(VLOOKUP(CU25,MATCHSELEVES!$Y$14:$AE$600,3,FALSE),0)","v":0},{"$f":"IFERROR(VLOOKUP(CU25,MATCHSELEVES!$Y$14:$AE$600,4,FALSE),0)","v":0},{"$f":"IFERROR(VLOOKUP(CU25,MATCHSELEVES!$Y$14:$AE$600,5,FALSE),0)","v":0},{"$f":"IFERROR(VLOOKUP(CU25,MATCHSELEVES!$Y$14:$AF$600,8,FALSE),0)","v":0},{"$f":"IFERROR(VLOOKUP(CU25,MATCHSELEVES!$Y$14:$AG$600,9,FALSE),0)","v":0},"Lydia_15",{"$f":"IFERROR(VLOOKUP(DA25,MATCHSELEVES!$Y$14:$AE$600,3,FALSE),0)","v":0},{"$f":"IFERROR(VLOOKUP(DA25,MATCHSELEVES!$Y$14:$AE$600,4,FALSE),0)","v":0},{"$f":"IFERROR(VLOOKUP(DA25,MATCHSELEVES!$Y$14:$AE$600,5,FALSE),0)","v":0},{"$f":"IFERROR(VLOOKUP(DA25,MATCHSELEVES!$Y$14:$AF$600,8,FALSE),0)","v":0},{"$f":"IFERROR(VLOOKUP(DA25,MATCHSELEVES!$Y$14:$AG$600,9,FALSE),0)","v":0},"Lydia_16",{"$f":"IFERROR(VLOOKUP(DG25,MATCHSELEVES!$Y$14:$AE$600,3,FALSE),0)","v":0},{"$f":"IFERROR(VLOOKUP(DG25,MATCHSELEVES!$Y$14:$AE$600,4,FALSE),0)","v":0},{"$f":"IFERROR(VLOOKUP(DG25,MATCHSELEVES!$Y$14:$AE$600,5,FALSE),0)","v":0},{"$f":"IFERROR(VLOOKUP(DG25,MATCHSELEVES!$Y$14:$AF$600,8,FALSE),0)","v":0},{"$f":"IFERROR(VLOOKUP(DG25,MATCHSELEVES!$Y$14:$AG$600,9,FALSE),0)","v":0},"Lydia_17",{"$f":"IFERROR(VLOOKUP(DM25,MATCHSELEVES!$Y$14:$AE$600,3,FALSE),0)","v":0},{"$f":"IFERROR(VLOOKUP(DM25,MATCHSELEVES!$Y$14:$AE$600,4,FALSE),0)","v":0},{"$f":"IFERROR(VLOOKUP(DM25,MATCHSELEVES!$Y$14:$AE$600,5,FALSE),0)","v":0},{"$f":"IFERROR(VLOOKUP(DM25,MATCHSELEVES!$Y$14:$AF$600,8,FALSE),0)","v":0},{"$f":"IFERROR(VLOOKUP(DM25,MATCHSELEVES!$Y$14:$AG$600,9,FALSE),0)","v":0},"Lydia_18",{"$f":"IFERROR(VLOOKUP(DS25,MATCHSELEVES!$Y$14:$AE$600,3,FALSE),0)","v":0},{"$f":"IFERROR(VLOOKUP(DS25,MATCHSELEVES!$Y$14:$AE$600,4,FALSE),0)","v":0},{"$f":"IFERROR(VLOOKUP(DS25,MATCHSELEVES!$Y$14:$AE$600,5,FALSE),0)","v":0},{"$f":"IFERROR(VLOOKUP(DS25,MATCHSELEVES!$Y$14:$AF$600,8,FALSE),0)","v":0},{"$f":"IFERROR(VLOOKUP(DS25,MATCHSELEVES!$Y$14:$AG$600,9,FALSE),0)","v":0},"Lydia_19",{"$f":"IFERROR(VLOOKUP(DY25,MATCHSELEVES!$Y$14:$AE$600,3,FALSE),0)","v":0},{"$f":"IFERROR(VLOOKUP(DY25,MATCHSELEVES!$Y$14:$AE$600,4,FALSE),0)","v":0},{"$f":"IFERROR(VLOOKUP(DY25,MATCHSELEVES!$Y$14:$AE$600,5,FALSE),0)","v":0},{"$f":"IFERROR(VLOOKUP(DY25,MATCHSELEVES!$Y$14:$AF$600,8,FALSE),0)","v":0},{"$f":"IFERROR(VLOOKUP(DY25,MATCHSELEVES!$Y$14:$AG$600,9,FALSE),0)","v":0},"Lydia_20",{"$f":"IFERROR(VLOOKUP(EE25,MATCHSELEVES!$Y$14:$AE$600,3,FALSE),0)","v":0},{"$f":"IFERROR(VLOOKUP(EE25,MATCHSELEVES!$Y$14:$AE$600,4,FALSE),0)","v":0},{"$f":"IFERROR(VLOOKUP(EE25,MATCHSELEVES!$Y$14:$AE$600,5,FALSE),0)","v":0},{"$f":"IFERROR(VLOOKUP(EE25,MATCHSELEVES!$Y$14:$AF$600,8,FALSE),0)","v":0},{"$f":"IFERROR(VLOOKUP(EE25,MATCHSELEVES!$Y$14:$AG$600,9,FALSE),0)","v":0},"Lydia_21",{"$f":"IFERROR(VLOOKUP(EK25,MATCHSELEVES!$Y$14:$AE$600,3,FALSE),0)","v":0},{"$f":"IFERROR(VLOOKUP(EK25,MATCHSELEVES!$Y$14:$AE$600,4,FALSE),0)","v":0},{"$f":"IFERROR(VLOOKUP(EK25,MATCHSELEVES!$Y$14:$AE$600,5,FALSE),0)","v":0},{"$f":"IFERROR(VLOOKUP(EK25,MATCHSELEVES!$Y$14:$AF$600,8,FALSE),0)","v":0},{"$f":"IFERROR(VLOOKUP(EK25,MATCHSELEVES!$Y$14:$AG$600,9,FALSE),0)","v":0},"Lydia_22",{"$f":"IFERROR(VLOOKUP(EQ25,MATCHSELEVES!$Y$14:$AE$600,3,FALSE),0)","v":0},{"$f":"IFERROR(VLOOKUP(EQ25,MATCHSELEVES!$Y$14:$AE$600,4,FALSE),0)","v":0},{"$f":"IFERROR(VLOOKUP(EQ25,MATCHSELEVES!$Y$14:$AE$600,5,FALSE),0)","v":0},{"$f":"IFERROR(VLOOKUP(EQ25,MATCHSELEVES!$Y$14:$AF$600,8,FALSE),0)","v":0},{"$f":"IFERROR(VLOOKUP(EQ25,MATCHSELEVES!$Y$14:$AG$600,9,FALSE),0)","v":0},"Lydia_23",{"$f":"IFERROR(VLOOKUP(EW25,MATCHSELEVES!$Y$14:$AE$600,3,FALSE),0)","v":0},{"$f":"IFERROR(VLOOKUP(EW25,MATCHSELEVES!$Y$14:$AE$600,4,FALSE),0)","v":0},{"$f":"IFERROR(VLOOKUP(EW25,MATCHSELEVES!$Y$14:$AE$600,5,FALSE),0)","v":0},{"$f":"IFERROR(VLOOKUP(EW25,MATCHSELEVES!$Y$14:$AF$600,8,FALSE),0)","v":0},{"$f":"IFERROR(VLOOKUP(EW25,MATCHSELEVES!$Y$14:$AG$600,9,FALSE),0)","v":0},"Lydia_24",{"$f":"IFERROR(VLOOKUP(FC25,MATCHSELEVES!$Y$14:$AE$600,3,FALSE),0)","v":0},{"$f":"IFERROR(VLOOKUP(FC25,MATCHSELEVES!$Y$14:$AE$600,4,FALSE),0)","v":0},{"$f":"IFERROR(VLOOKUP(FC25,MATCHSELEVES!$Y$14:$AE$600,5,FALSE),0)","v":0},{"$f":"IFERROR(VLOOKUP(FC25,MATCHSELEVES!$Y$14:$AF$600,8,FALSE),0)","v":0},{"$f":"IFERROR(VLOOKUP(FC25,MATCHSELEVES!$Y$14:$AG$600,9,FALSE),0)","v":0},"Lydia_25",{"$f":"IFERROR(VLOOKUP(FI25,MATCHSELEVES!$Y$14:$AE$600,3,FALSE),0)","v":0},{"$f":"IFERROR(VLOOKUP(FI25,MATCHSELEVES!$Y$14:$AE$600,4,FALSE),0)","v":0},{"$f":"IFERROR(VLOOKUP(FI25,MATCHSELEVES!$Y$14:$AE$600,5,FALSE),0)","v":0},{"$f":"IFERROR(VLOOKUP(FI25,MATCHSELEVES!$Y$14:$AF$600,8,FALSE),0)","v":0},{"$f":"IFERROR(VLOOKUP(FI25,MATCHSELEVES!$Y$14:$AG$600,9,FALSE),0)","v":0},"Lydia_26",{"$f":"IFERROR(VLOOKUP(FO25,MATCHSELEVES!$Y$14:$AE$600,3,FALSE),0)","v":0},{"$f":"IFERROR(VLOOKUP(FO25,MATCHSELEVES!$Y$14:$AE$600,4,FALSE),0)","v":0},{"$f":"IFERROR(VLOOKUP(FO25,MATCHSELEVES!$Y$14:$AE$600,5,FALSE),0)","v":0},{"$f":"IFERROR(VLOOKUP(FO25,MATCHSELEVES!$Y$14:$AF$600,8,FALSE),0)","v":0},{"$f":"IFERROR(VLOOKUP(FO25,MATCHSELEVES!$Y$14:$AG$600,9,FALSE),0)","v":0},"Lydia_27",{"$f":"IFERROR(VLOOKUP(FU25,MATCHSELEVES!$Y$14:$AE$600,3,FALSE),0)","v":0},{"$f":"IFERROR(VLOOKUP(FU25,MATCHSELEVES!$Y$14:$AE$600,4,FALSE),0)","v":0},{"$f":"IFERROR(VLOOKUP(FU25,MATCHSELEVES!$Y$14:$AE$600,5,FALSE),0)","v":0},{"$f":"IFERROR(VLOOKUP(FU25,MATCHSELEVES!$Y$14:$AF$600,8,FALSE),0)","v":0},{"$f":"IFERROR(VLOOKUP(FU25,MATCHSELEVES!$Y$14:$AG$600,9,FALSE),0)","v":0},"Lydia_28",{"$f":"IFERROR(VLOOKUP(GA25,MATCHSELEVES!$Y$14:$AE$600,3,FALSE),0)","v":0},{"$f":"IFERROR(VLOOKUP(GA25,MATCHSELEVES!$Y$14:$AE$600,4,FALSE),0)","v":0},{"$f":"IFERROR(VLOOKUP(GA25,MATCHSELEVES!$Y$14:$AE$600,5,FALSE),0)","v":0},{"$f":"IFERROR(VLOOKUP(GA25,MATCHSELEVES!$Y$14:$AF$600,8,FALSE),0)","v":0},{"$f":"IFERROR(VLOOKUP(GA25,MATCHSELEVES!$Y$14:$AG$600,9,FALSE),0)","v":0},"Lydia_29",{"$f":"IFERROR(VLOOKUP(GG25,MATCHSELEVES!$Y$14:$AE$600,3,FALSE),0)","v":0},{"$f":"IFERROR(VLOOKUP(GG25,MATCHSELEVES!$Y$14:$AE$600,4,FALSE),0)","v":0},{"$f":"IFERROR(VLOOKUP(GG25,MATCHSELEVES!$Y$14:$AE$600,5,FALSE),0)","v":0},{"$f":"IFERROR(VLOOKUP(GG25,MATCHSELEVES!$Y$14:$AF$600,8,FALSE),0)","v":0},{"$f":"IFERROR(VLOOKUP(GG25,MATCHSELEVES!$Y$14:$AG$600,9,FALSE),0)","v":0},"Lydia_30",{"$f":"IFERROR(VLOOKUP(GM25,MATCHSELEVES!$Y$14:$AE$600,3,FALSE),0)","v":0},{"$f":"IFERROR(VLOOKUP(GM25,MATCHSELEVES!$Y$14:$AE$600,4,FALSE),0)","v":0},{"$f":"IFERROR(VLOOKUP(GM25,MATCHSELEVES!$Y$14:$AE$600,5,FALSE),0)","v":0},{"$f":"IFERROR(VLOOKUP(GM25,MATCHSELEVES!$Y$14:$AF$600,8,FALSE),0)","v":0},{"$f":"IFERROR(VLOOKUP(GM25,MATCHSELEVES!$Y$14:$AG$600,9,FALSE),0)","v":0},"Lydia_31",{"$f":"IFERROR(VLOOKUP(GS25,MATCHSELEVES!$Y$14:$AE$600,3,FALSE),0)","v":0},{"$f":"IFERROR(VLOOKUP(GS25,MATCHSELEVES!$Y$14:$AE$600,4,FALSE),0)","v":0},{"$f":"IFERROR(VLOOKUP(GS25,MATCHSELEVES!$Y$14:$AE$600,5,FALSE),0)","v":0},{"$f":"IFERROR(VLOOKUP(GS25,MATCHSELEVES!$Y$14:$AF$600,8,FALSE),0)","v":0},{"$f":"IFERROR(VLOOKUP(GS25,MATCHSELEVES!$Y$14:$AG$600,9,FALSE),0)","v":0},"Lydia_32",{"$f":"IFERROR(VLOOKUP(GY25,MATCHSELEVES!$Y$14:$AE$600,3,FALSE),0)","v":0},{"$f":"IFERROR(VLOOKUP(GY25,MATCHSELEVES!$Y$14:$AE$600,4,FALSE),0)","v":0},{"$f":"IFERROR(VLOOKUP(GY25,MATCHSELEVES!$Y$14:$AE$600,5,FALSE),0)","v":0},{"$f":"IFERROR(VLOOKUP(GY25,MATCHSELEVES!$Y$14:$AF$600,8,FALSE),0)","v":0},{"$f":"IFERROR(VLOOKUP(GY25,MATCHSELEVES!$Y$14:$AG$600,9,FALSE),0)","v":0},"Lydia_33",{"$f":"IFERROR(VLOOKUP(HE25,MATCHSELEVES!$Y$14:$AE$600,3,FALSE),0)","v":0},{"$f":"IFERROR(VLOOKUP(HE25,MATCHSELEVES!$Y$14:$AE$600,4,FALSE),0)","v":0},{"$f":"IFERROR(VLOOKUP(HE25,MATCHSELEVES!$Y$14:$AE$600,5,FALSE),0)","v":0},{"$f":"IFERROR(VLOOKUP(HE25,MATCHSELEVES!$Y$14:$AF$600,8,FALSE),0)","v":0},{"$f":"IFERROR(VLOOKUP(HE25,MATCHSELEVES!$Y$14:$AG$600,9,FALSE),0)","v":0},"Lydia_34",{"$f":"IFERROR(VLOOKUP(HK25,MATCHSELEVES!$Y$14:$AE$600,3,FALSE),0)","v":0},{"$f":"IFERROR(VLOOKUP(HK25,MATCHSELEVES!$Y$14:$AE$600,4,FALSE),0)","v":0},{"$f":"IFERROR(VLOOKUP(HK25,MATCHSELEVES!$Y$14:$AE$600,5,FALSE),0)","v":0},{"$f":"IFERROR(VLOOKUP(HK25,MATCHSELEVES!$Y$14:$AF$600,8,FALSE),0)","v":0},{"$f":"IFERROR(VLOOKUP(HK25,MATCHSELEVES!$Y$14:$AG$600,9,FALSE),0)","v":0},"Lydia_35",{"$f":"IFERROR(VLOOKUP(HQ25,MATCHSELEVES!$Y$14:$AE$600,3,FALSE),0)","v":0},{"$f":"IFERROR(VLOOKUP(HQ25,MATCHSELEVES!$Y$14:$AE$600,4,FALSE),0)","v":0},{"$f":"IFERROR(VLOOKUP(HQ25,MATCHSELEVES!$Y$14:$AE$600,5,FALSE),0)","v":0},{"$f":"IFERROR(VLOOKUP(HQ25,MATCHSELEVES!$Y$14:$AF$600,8,FALSE),0)","v":0},{"$f":"IFERROR(VLOOKUP(HQ25,MATCHSELEVES!$Y$14:$AG$600,9,FALSE),0)","v":0},"Lydia_36",{"$f":"IFERROR(VLOOKUP(HW25,MATCHSELEVES!$Y$14:$AE$600,3,FALSE),0)","v":0},{"$f":"IFERROR(VLOOKUP(HW25,MATCHSELEVES!$Y$14:$AE$600,4,FALSE),0)","v":0},{"$f":"IFERROR(VLOOKUP(HW25,MATCHSELEVES!$Y$14:$AE$600,5,FALSE),0)","v":0},{"$f":"IFERROR(VLOOKUP(HW25,MATCHSELEVES!$Y$14:$AF$600,8,FALSE),0)","v":0},{"$f":"IFERROR(VLOOKUP(HW25,MATCHSELEVES!$Y$14:$AG$600,9,FALSE),0)","v":0},"Lydia_37",{"$f":"IFERROR(VLOOKUP(IC25,MATCHSELEVES!$Y$14:$AE$600,3,FALSE),0)","v":0},{"$f":"IFERROR(VLOOKUP(IC25,MATCHSELEVES!$Y$14:$AE$600,4,FALSE),0)","v":0},{"$f":"IFERROR(VLOOKUP(IC25,MATCHSELEVES!$Y$14:$AE$600,5,FALSE),0)","v":0},{"$f":"IFERROR(VLOOKUP(IC25,MATCHSELEVES!$Y$14:$AF$600,8,FALSE),0)","v":0},{"$f":"IFERROR(VLOOKUP(IC25,MATCHSELEVES!$Y$14:$AG$600,9,FALSE),0)","v":0},"Lydia_38",{"$f":"IFERROR(VLOOKUP(II25,MATCHSELEVES!$Y$14:$AE$600,3,FALSE),0)","v":0},{"$f":"IFERROR(VLOOKUP(II25,MATCHSELEVES!$Y$14:$AE$600,4,FALSE),0)","v":0},{"$f":"IFERROR(VLOOKUP(II25,MATCHSELEVES!$Y$14:$AE$600,5,FALSE),0)","v":0},{"$f":"IFERROR(VLOOKUP(II25,MATCHSELEVES!$Y$14:$AF$600,8,FALSE),0)","v":0},{"$f":"IFERROR(VLOOKUP(II25,MATCHSELEVES!$Y$14:$AG$600,9,FALSE),0)","v":0},"Lydia_39",{"$f":"IFERROR(VLOOKUP(IO25,MATCHSELEVES!$Y$14:$AE$600,3,FALSE),0)","v":0},{"$f":"IFERROR(VLOOKUP(IO25,MATCHSELEVES!$Y$14:$AE$600,4,FALSE),0)","v":0},{"$f":"IFERROR(VLOOKUP(IO25,MATCHSELEVES!$Y$14:$AE$600,5,FALSE),0)","v":0},{"$f":"IFERROR(VLOOKUP(IO25,MATCHSELEVES!$Y$14:$AF$600,8,FALSE),0)","v":0},{"$f":"IFERROR(VLOOKUP(IO25,MATCHSELEVES!$Y$14:$AG$600,9,FALSE),0)","v":0},"Lydia_40",{"$f":"IFERROR(VLOOKUP(IU25,MATCHSELEVES!$Y$14:$AE$600,3,FALSE),0)","v":0},{"$f":"IFERROR(VLOOKUP(IU25,MATCHSELEVES!$Y$14:$AE$600,4,FALSE),0)","v":0},{"$f":"IFERROR(VLOOKUP(IU25,MATCHSELEVES!$Y$14:$AE$600,5,FALSE),0)","v":0},{"$f":"IFERROR(VLOOKUP(IU25,MATCHSELEVES!$Y$14:$AF$600,8,FALSE),0)","v":0},{"$f":"IFERROR(VLOOKUP(IU25,MATCHSELEVES!$Y$14:$AG$600,9,FALSE),0)","v":0},"Lydiap_1",{"$f":"IFERROR(VLOOKUP(JA25,MATCHSELEVES!$Y$14:$AE$600,3,FALSE),0)","v":0},{"$f":"IFERROR(VLOOKUP(JA25,MATCHSELEVES!$Y$14:$AE$600,4,FALSE),0)","v":0},{"$f":"IFERROR(VLOOKUP(JA25,MATCHSELEVES!$Y$14:$AE$600,5,FALSE),0)","v":0},{"$f":"IFERROR(VLOOKUP(JA25,MATCHSELEVES!$Y$14:$AF$600,8,FALSE),0)","v":0},{"$f":"IFERROR(VLOOKUP(JA25,MATCHSELEVES!$Y$14:$AG$600,9,FALSE),0)","v":0},"Lydiap_2",{"$f":"IFERROR(VLOOKUP(JG25,MATCHSELEVES!$Y$14:$AE$600,3,FALSE),0)","v":0},{"$f":"IFERROR(VLOOKUP(JG25,MATCHSELEVES!$Y$14:$AE$600,4,FALSE),0)","v":0},{"$f":"IFERROR(VLOOKUP(JG25,MATCHSELEVES!$Y$14:$AE$600,5,FALSE),0)","v":0},{"$f":"IFERROR(VLOOKUP(JG25,MATCHSELEVES!$Y$14:$AF$600,8,FALSE),0)","v":0},{"$f":"IFERROR(VLOOKUP(JG25,MATCHSELEVES!$Y$14:$AG$600,9,FALSE),0)","v":0},"Lydiap_3",{"$f":"IFERROR(VLOOKUP(JM25,MATCHSELEVES!$Y$14:$AE$600,3,FALSE),0)","v":0},{"$f":"IFERROR(VLOOKUP(JM25,MATCHSELEVES!$Y$14:$AE$600,4,FALSE),0)","v":0},{"$f":"IFERROR(VLOOKUP(JM25,MATCHSELEVES!$Y$14:$AE$600,5,FALSE),0)","v":0},{"$f":"IFERROR(VLOOKUP(JM25,MATCHSELEVES!$Y$14:$AF$600,8,FALSE),0)","v":0},{"$f":"IFERROR(VLOOKUP(JM25,MATCHSELEVES!$Y$14:$AG$600,9,FALSE),0)","v":0},"Lydiap_4",{"$f":"IFERROR(VLOOKUP(JS25,MATCHSELEVES!$Y$14:$AE$600,3,FALSE),0)","v":0},{"$f":"IFERROR(VLOOKUP(JS25,MATCHSELEVES!$Y$14:$AE$600,4,FALSE),0)","v":0},{"$f":"IFERROR(VLOOKUP(JS25,MATCHSELEVES!$Y$14:$AE$600,5,FALSE),0)","v":0},{"$f":"IFERROR(VLOOKUP(JS25,MATCHSELEVES!$Y$14:$AF$600,8,FALSE),0)","v":0},{"$f":"IFERROR(VLOOKUP(JS25,MATCHSELEVES!$Y$14:$AG$600,9,FALSE),0)","v":0},"Lydiap_5",{"$f":"IFERROR(VLOOKUP(JY25,MATCHSELEVES!$Y$14:$AE$600,3,FALSE),0)","v":0},{"$f":"IFERROR(VLOOKUP(JY25,MATCHSELEVES!$Y$14:$AE$600,4,FALSE),0)","v":0},{"$f":"IFERROR(VLOOKUP(JY25,MATCHSELEVES!$Y$14:$AE$600,5,FALSE),0)","v":0},{"$f":"IFERROR(VLOOKUP(JY25,MATCHSELEVES!$Y$14:$AF$600,8,FALSE),0)","v":0},{"$f":"IFERROR(VLOOKUP(JY25,MATCHSELEVES!$Y$14:$AG$600,9,FALSE),0)","v":0},"Lydiap_6",{"$f":"IFERROR(VLOOKUP(KE25,MATCHSELEVES!$Y$14:$AE$600,3,FALSE),0)","v":0},{"$f":"IFERROR(VLOOKUP(KE25,MATCHSELEVES!$Y$14:$AE$600,4,FALSE),0)","v":0},{"$f":"IFERROR(VLOOKUP(KE25,MATCHSELEVES!$Y$14:$AE$600,5,FALSE),0)","v":0},{"$f":"IFERROR(VLOOKUP(KE25,MATCHSELEVES!$Y$14:$AF$600,8,FALSE),0)","v":0},{"$f":"IFERROR(VLOOKUP(KE25,MATCHSELEVES!$Y$14:$AG$600,9,FALSE),0)","v":0},"Lydiap_7",{"$f":"IFERROR(VLOOKUP(KK25,MATCHSELEVES!$Y$14:$AE$600,3,FALSE),0)","v":0},{"$f":"IFERROR(VLOOKUP(KK25,MATCHSELEVES!$Y$14:$AE$600,4,FALSE),0)","v":0},{"$f":"IFERROR(VLOOKUP(KK25,MATCHSELEVES!$Y$14:$AE$600,5,FALSE),0)","v":0},{"$f":"IFERROR(VLOOKUP(KK25,MATCHSELEVES!$Y$14:$AF$600,8,FALSE),0)","v":0},{"$f":"IFERROR(VLOOKUP(KK25,MATCHSELEVES!$Y$14:$AG$600,9,FALSE),0)","v":0},"Lydiap_8",{"$f":"IFERROR(VLOOKUP(KQ25,MATCHSELEVES!$Y$14:$AE$600,3,FALSE),0)","v":0},{"$f":"IFERROR(VLOOKUP(KQ25,MATCHSELEVES!$Y$14:$AE$600,4,FALSE),0)","v":0},{"$f":"IFERROR(VLOOKUP(KQ25,MATCHSELEVES!$Y$14:$AE$600,5,FALSE),0)","v":0},{"$f":"IFERROR(VLOOKUP(KQ25,MATCHSELEVES!$Y$14:$AF$600,8,FALSE),0)","v":0},{"$f":"IFERROR(VLOOKUP(KQ25,MATCHSELEVES!$Y$14:$AG$600,9,FALSE),0)","v":0},"Lydiap_9",{"$f":"IFERROR(VLOOKUP(KW25,MATCHSELEVES!$Y$14:$AE$600,3,FALSE),0)","v":0},{"$f":"IFERROR(VLOOKUP(KW25,MATCHSELEVES!$Y$14:$AE$600,4,FALSE),0)","v":0},{"$f":"IFERROR(VLOOKUP(KW25,MATCHSELEVES!$Y$14:$AE$600,5,FALSE),0)","v":0},{"$f":"IFERROR(VLOOKUP(KW25,MATCHSELEVES!$Y$14:$AF$600,8,FALSE),0)","v":0},{"$f":"IFERROR(VLOOKUP(KW25,MATCHSELEVES!$Y$14:$AG$600,9,FALSE),0)","v":0},"Lydiap_10",{"$f":"IFERROR(VLOOKUP(LC25,MATCHSELEVES!$Y$14:$AE$600,3,FALSE),0)","v":0},{"$f":"IFERROR(VLOOKUP(LC25,MATCHSELEVES!$Y$14:$AE$600,4,FALSE),0)","v":0},{"$f":"IFERROR(VLOOKUP(LC25,MATCHSELEVES!$Y$14:$AE$600,5,FALSE),0)","v":0},{"$f":"IFERROR(VLOOKUP(LC25,MATCHSELEVES!$Y$14:$AF$600,8,FALSE),0)","v":0},{"$f":"IFERROR(VLOOKUP(LC25,MATCHSELEVES!$Y$14:$AG$600,9,FALSE),0)","v":0},"Lydiap_11",{"$f":"IFERROR(VLOOKUP(LI25,MATCHSELEVES!$Y$14:$AE$600,3,FALSE),0)","v":0},{"$f":"IFERROR(VLOOKUP(LI25,MATCHSELEVES!$Y$14:$AE$600,4,FALSE),0)","v":0},{"$f":"IFERROR(VLOOKUP(LI25,MATCHSELEVES!$Y$14:$AE$600,5,FALSE),0)","v":0},{"$f":"IFERROR(VLOOKUP(LI25,MATCHSELEVES!$Y$14:$AF$600,8,FALSE),0)","v":0},{"$f":"IFERROR(VLOOKUP(LI25,MATCHSELEVES!$Y$14:$AG$600,9,FALSE),0)","v":0},"Lydiap_12",{"$f":"IFERROR(VLOOKUP(LO25,MATCHSELEVES!$Y$14:$AE$600,3,FALSE),0)","v":0},{"$f":"IFERROR(VLOOKUP(LO25,MATCHSELEVES!$Y$14:$AE$600,4,FALSE),0)","v":0},{"$f":"IFERROR(VLOOKUP(LO25,MATCHSELEVES!$Y$14:$AE$600,5,FALSE),0)","v":0},{"$f":"IFERROR(VLOOKUP(LO25,MATCHSELEVES!$Y$14:$AF$600,8,FALSE),0)","v":0},{"$f":"IFERROR(VLOOKUP(LO25,MATCHSELEVES!$Y$14:$AG$600,9,FALSE),0)","v":0},"Lydiap_13",{"$f":"IFERROR(VLOOKUP(LU25,MATCHSELEVES!$Y$14:$AE$600,3,FALSE),0)","v":0},{"$f":"IFERROR(VLOOKUP(LU25,MATCHSELEVES!$Y$14:$AE$600,4,FALSE),0)","v":0},{"$f":"IFERROR(VLOOKUP(LU25,MATCHSELEVES!$Y$14:$AE$600,5,FALSE),0)","v":0},{"$f":"IFERROR(VLOOKUP(LU25,MATCHSELEVES!$Y$14:$AF$600,8,FALSE),0)","v":0},{"$f":"IFERROR(VLOOKUP(LU25,MATCHSELEVES!$Y$14:$AG$600,9,FALSE),0)","v":0},"Lydiap_14",{"$f":"IFERROR(VLOOKUP(MA25,MATCHSELEVES!$Y$14:$AE$600,3,FALSE),0)","v":0},{"$f":"IFERROR(VLOOKUP(MA25,MATCHSELEVES!$Y$14:$AE$600,4,FALSE),0)","v":0},{"$f":"IFERROR(VLOOKUP(MA25,MATCHSELEVES!$Y$14:$AE$600,5,FALSE),0)","v":0},{"$f":"IFERROR(VLOOKUP(MA25,MATCHSELEVES!$Y$14:$AF$600,8,FALSE),0)","v":0},{"$f":"IFERROR(VLOOKUP(MA25,MATCHSELEVES!$Y$14:$AG$600,9,FALSE),0)","v":0},"Lydiap_15",{"$f":"IFERROR(VLOOKUP(MG25,MATCHSELEVES!$Y$14:$AE$600,3,FALSE),0)","v":0},{"$f":"IFERROR(VLOOKUP(MG25,MATCHSELEVES!$Y$14:$AE$600,4,FALSE),0)","v":0},{"$f":"IFERROR(VLOOKUP(MG25,MATCHSELEVES!$Y$14:$AE$600,5,FALSE),0)","v":0},{"$f":"IFERROR(VLOOKUP(MG25,MATCHSELEVES!$Y$14:$AF$600,8,FALSE),0)","v":0},{"$f":"IFERROR(VLOOKUP(MG25,MATCHSELEVES!$Y$14:$AG$600,9,FALSE),0)","v":0},"Lydiap_16",{"$f":"IFERROR(VLOOKUP(MM25,MATCHSELEVES!$Y$14:$AE$600,3,FALSE),0)","v":0},{"$f":"IFERROR(VLOOKUP(MM25,MATCHSELEVES!$Y$14:$AE$600,4,FALSE),0)","v":0},{"$f":"IFERROR(VLOOKUP(MM25,MATCHSELEVES!$Y$14:$AE$600,5,FALSE),0)","v":0},{"$f":"IFERROR(VLOOKUP(MM25,MATCHSELEVES!$Y$14:$AF$600,8,FALSE),0)","v":0},{"$f":"IFERROR(VLOOKUP(MM25,MATCHSELEVES!$Y$14:$AG$600,9,FALSE),0)","v":0},"Lydiap_17",{"$f":"IFERROR(VLOOKUP(MS25,MATCHSELEVES!$Y$14:$AE$600,3,FALSE),0)","v":0},{"$f":"IFERROR(VLOOKUP(MS25,MATCHSELEVES!$Y$14:$AE$600,4,FALSE),0)","v":0},{"$f":"IFERROR(VLOOKUP(MS25,MATCHSELEVES!$Y$14:$AE$600,5,FALSE),0)","v":0},{"$f":"IFERROR(VLOOKUP(MS25,MATCHSELEVES!$Y$14:$AF$600,8,FALSE),0)","v":0},{"$f":"IFERROR(VLOOKUP(MS25,MATCHSELEVES!$Y$14:$AG$600,9,FALSE),0)","v":0},"Lydiap_18",{"$f":"IFERROR(VLOOKUP(MY25,MATCHSELEVES!$Y$14:$AE$600,3,FALSE),0)","v":0},{"$f":"IFERROR(VLOOKUP(MY25,MATCHSELEVES!$Y$14:$AE$600,4,FALSE),0)","v":0},{"$f":"IFERROR(VLOOKUP(MY25,MATCHSELEVES!$Y$14:$AE$600,5,FALSE),0)","v":0},{"$f":"IFERROR(VLOOKUP(MY25,MATCHSELEVES!$Y$14:$AF$600,8,FALSE),0)","v":0},{"$f":"IFERROR(VLOOKUP(MY25,MATCHSELEVES!$Y$14:$AG$600,9,FALSE),0)","v":0},"Lydiap_19",{"$f":"IFERROR(VLOOKUP(NE25,MATCHSELEVES!$Y$14:$AE$600,3,FALSE),0)","v":0},{"$f":"IFERROR(VLOOKUP(NE25,MATCHSELEVES!$Y$14:$AE$600,4,FALSE),0)","v":0},{"$f":"IFERROR(VLOOKUP(NE25,MATCHSELEVES!$Y$14:$AE$600,5,FALSE),0)","v":0},{"$f":"IFERROR(VLOOKUP(NE25,MATCHSELEVES!$Y$14:$AF$600,8,FALSE),0)","v":0},{"$f":"IFERROR(VLOOKUP(NE25,MATCHSELEVES!$Y$14:$AG$600,9,FALSE),0)","v":0},"Lydiap_20",{"$f":"IFERROR(VLOOKUP(NK25,MATCHSELEVES!$Y$14:$AE$600,3,FALSE),0)","v":0},{"$f":"IFERROR(VLOOKUP(NK25,MATCHSELEVES!$Y$14:$AE$600,4,FALSE),0)","v":0},{"$f":"IFERROR(VLOOKUP(NK25,MATCHSELEVES!$Y$14:$AE$600,5,FALSE),0)","v":0},{"$f":"IFERROR(VLOOKUP(NK25,MATCHSELEVES!$Y$14:$AF$600,8,FALSE),0)","v":0},{"$f":"IFERROR(VLOOKUP(NK25,MATCHSELEVES!$Y$14:$AG$600,9,FALSE),0)","v":0},"Lydiap_21",{"$f":"IFERROR(VLOOKUP(NQ25,MATCHSELEVES!$Y$14:$AE$600,3,FALSE),0)","v":0},{"$f":"IFERROR(VLOOKUP(NQ25,MATCHSELEVES!$Y$14:$AE$600,4,FALSE),0)","v":0},{"$f":"IFERROR(VLOOKUP(NQ25,MATCHSELEVES!$Y$14:$AE$600,5,FALSE),0)","v":0},{"$f":"IFERROR(VLOOKUP(NQ25,MATCHSELEVES!$Y$14:$AF$600,8,FALSE),0)","v":0},{"$f":"IFERROR(VLOOKUP(NQ25,MATCHSELEVES!$Y$14:$AG$600,9,FALSE),0)","v":0},"Lydiap_22",{"$f":"IFERROR(VLOOKUP(NW25,MATCHSELEVES!$Y$14:$AE$600,3,FALSE),0)","v":0},{"$f":"IFERROR(VLOOKUP(NW25,MATCHSELEVES!$Y$14:$AE$600,4,FALSE),0)","v":0},{"$f":"IFERROR(VLOOKUP(NW25,MATCHSELEVES!$Y$14:$AE$600,5,FALSE),0)","v":0},{"$f":"IFERROR(VLOOKUP(NW25,MATCHSELEVES!$Y$14:$AF$600,8,FALSE),0)","v":0},{"$f":"IFERROR(VLOOKUP(NW25,MATCHSELEVES!$Y$14:$AG$600,9,FALSE),0)","v":0},"Lydiap_23",{"$f":"IFERROR(VLOOKUP(OC25,MATCHSELEVES!$Y$14:$AE$600,3,FALSE),0)","v":0},{"$f":"IFERROR(VLOOKUP(OC25,MATCHSELEVES!$Y$14:$AE$600,4,FALSE),0)","v":0},{"$f":"IFERROR(VLOOKUP(OC25,MATCHSELEVES!$Y$14:$AE$600,5,FALSE),0)","v":0},{"$f":"IFERROR(VLOOKUP(OC25,MATCHSELEVES!$Y$14:$AF$600,8,FALSE),0)","v":0},{"$f":"IFERROR(VLOOKUP(OC25,MATCHSELEVES!$Y$14:$AG$600,9,FALSE),0)","v":0},"Lydiap_24",{"$f":"IFERROR(VLOOKUP(OI25,MATCHSELEVES!$Y$14:$AE$600,3,FALSE),0)","v":0},{"$f":"IFERROR(VLOOKUP(OI25,MATCHSELEVES!$Y$14:$AE$600,4,FALSE),0)","v":0},{"$f":"IFERROR(VLOOKUP(OI25,MATCHSELEVES!$Y$14:$AE$600,5,FALSE),0)","v":0},{"$f":"IFERROR(VLOOKUP(OI25,MATCHSELEVES!$Y$14:$AF$600,8,FALSE),0)","v":0},{"$f":"IFERROR(VLOOKUP(OI25,MATCHSELEVES!$Y$14:$AG$600,9,FALSE),0)","v":0},"Lydiap_25",{"$f":"IFERROR(VLOOKUP(OO25,MATCHSELEVES!$Y$14:$AE$600,3,FALSE),0)","v":0},{"$f":"IFERROR(VLOOKUP(OO25,MATCHSELEVES!$Y$14:$AE$600,4,FALSE),0)","v":0},{"$f":"IFERROR(VLOOKUP(OO25,MATCHSELEVES!$Y$14:$AE$600,5,FALSE),0)","v":0},{"$f":"IFERROR(VLOOKUP(OO25,MATCHSELEVES!$Y$14:$AF$600,8,FALSE),0)","v":0},{"$f":"IFERROR(VLOOKUP(OO25,MATCHSELEVES!$Y$14:$AG$600,9,FALSE),0)","v":0},"Lydiap_26",{"$f":"IFERROR(VLOOKUP(OU25,MATCHSELEVES!$Y$14:$AE$600,3,FALSE),0)","v":0},{"$f":"IFERROR(VLOOKUP(OU25,MATCHSELEVES!$Y$14:$AE$600,4,FALSE),0)","v":0},{"$f":"IFERROR(VLOOKUP(OU25,MATCHSELEVES!$Y$14:$AE$600,5,FALSE),0)","v":0},{"$f":"IFERROR(VLOOKUP(OU25,MATCHSELEVES!$Y$14:$AF$600,8,FALSE),0)","v":0},{"$f":"IFERROR(VLOOKUP(OU25,MATCHSELEVES!$Y$14:$AG$600,9,FALSE),0)","v":0},"Lydiap_27",{"$f":"IFERROR(VLOOKUP(PA25,MATCHSELEVES!$Y$14:$AE$600,3,FALSE),0)","v":0},{"$f":"IFERROR(VLOOKUP(PA25,MATCHSELEVES!$Y$14:$AE$600,4,FALSE),0)","v":0},{"$f":"IFERROR(VLOOKUP(PA25,MATCHSELEVES!$Y$14:$AE$600,5,FALSE),0)","v":0},{"$f":"IFERROR(VLOOKUP(PA25,MATCHSELEVES!$Y$14:$AF$600,8,FALSE),0)","v":0},{"$f":"IFERROR(VLOOKUP(PA25,MATCHSELEVES!$Y$14:$AG$600,9,FALSE),0)","v":0},"Lydiap_28",{"$f":"IFERROR(VLOOKUP(PG25,MATCHSELEVES!$Y$14:$AE$600,3,FALSE),0)","v":0},{"$f":"IFERROR(VLOOKUP(PG25,MATCHSELEVES!$Y$14:$AE$600,4,FALSE),0)","v":0},{"$f":"IFERROR(VLOOKUP(PG25,MATCHSELEVES!$Y$14:$AE$600,5,FALSE),0)","v":0},{"$f":"IFERROR(VLOOKUP(PG25,MATCHSELEVES!$Y$14:$AF$600,8,FALSE),0)","v":0},{"$f":"IFERROR(VLOOKUP(PG25,MATCHSELEVES!$Y$14:$AG$600,9,FALSE),0)","v":0},"Lydiap_29",{"$f":"IFERROR(VLOOKUP(PM25,MATCHSELEVES!$Y$14:$AE$600,3,FALSE),0)","v":0},{"$f":"IFERROR(VLOOKUP(PM25,MATCHSELEVES!$Y$14:$AE$600,4,FALSE),0)","v":0},{"$f":"IFERROR(VLOOKUP(PM25,MATCHSELEVES!$Y$14:$AE$600,5,FALSE),0)","v":0},{"$f":"IFERROR(VLOOKUP(PM25,MATCHSELEVES!$Y$14:$AF$600,8,FALSE),0)","v":0},{"$f":"IFERROR(VLOOKUP(PM25,MATCHSELEVES!$Y$14:$AG$600,9,FALSE),0)","v":0},"Lydiap_30",{"$f":"IFERROR(VLOOKUP(PS25,MATCHSELEVES!$Y$14:$AE$600,3,FALSE),0)","v":0},{"$f":"IFERROR(VLOOKUP(PS25,MATCHSELEVES!$Y$14:$AE$600,4,FALSE),0)","v":0},{"$f":"IFERROR(VLOOKUP(PS25,MATCHSELEVES!$Y$14:$AE$600,5,FALSE),0)","v":0},{"$f":"IFERROR(VLOOKUP(PS25,MATCHSELEVES!$Y$14:$AF$600,8,FALSE),0)","v":0},{"$f":"IFERROR(VLOOKUP(PS25,MATCHSELEVES!$Y$14:$AG$600,9,FALSE),0)","v":0},"Lydiap_31",{"$f":"IFERROR(VLOOKUP(PY25,MATCHSELEVES!$Y$14:$AE$600,3,FALSE),0)","v":0},{"$f":"IFERROR(VLOOKUP(PY25,MATCHSELEVES!$Y$14:$AE$600,4,FALSE),0)","v":0},{"$f":"IFERROR(VLOOKUP(PY25,MATCHSELEVES!$Y$14:$AE$600,5,FALSE),0)","v":0},{"$f":"IFERROR(VLOOKUP(PY25,MATCHSELEVES!$Y$14:$AF$600,8,FALSE),0)","v":0},{"$f":"IFERROR(VLOOKUP(PY25,MATCHSELEVES!$Y$14:$AG$600,9,FALSE),0)","v":0},"Lydiap_32",{"$f":"IFERROR(VLOOKUP(QE25,MATCHSELEVES!$Y$14:$AE$600,3,FALSE),0)","v":0},{"$f":"IFERROR(VLOOKUP(QE25,MATCHSELEVES!$Y$14:$AE$600,4,FALSE),0)","v":0},{"$f":"IFERROR(VLOOKUP(QE25,MATCHSELEVES!$Y$14:$AE$600,5,FALSE),0)","v":0},{"$f":"IFERROR(VLOOKUP(QE25,MATCHSELEVES!$Y$14:$AF$600,8,FALSE),0)","v":0},{"$f":"IFERROR(VLOOKUP(QE25,MATCHSELEVES!$Y$14:$AG$600,9,FALSE),0)","v":0},"Lydiap_33",{"$f":"IFERROR(VLOOKUP(QK25,MATCHSELEVES!$Y$14:$AE$600,3,FALSE),0)","v":0},{"$f":"IFERROR(VLOOKUP(QK25,MATCHSELEVES!$Y$14:$AE$600,4,FALSE),0)","v":0},{"$f":"IFERROR(VLOOKUP(QK25,MATCHSELEVES!$Y$14:$AE$600,5,FALSE),0)","v":0},{"$f":"IFERROR(VLOOKUP(QK25,MATCHSELEVES!$Y$14:$AF$600,8,FALSE),0)","v":0},{"$f":"IFERROR(VLOOKUP(QK25,MATCHSELEVES!$Y$14:$AG$600,9,FALSE),0)","v":0},"Lydiap_34",{"$f":"IFERROR(VLOOKUP(QQ25,MATCHSELEVES!$Y$14:$AE$600,3,FALSE),0)","v":0},{"$f":"IFERROR(VLOOKUP(QQ25,MATCHSELEVES!$Y$14:$AE$600,4,FALSE),0)","v":0},{"$f":"IFERROR(VLOOKUP(QQ25,MATCHSELEVES!$Y$14:$AE$600,5,FALSE),0)","v":0},{"$f":"IFERROR(VLOOKUP(QQ25,MATCHSELEVES!$Y$14:$AF$600,8,FALSE),0)","v":0},{"$f":"IFERROR(VLOOKUP(QQ25,MATCHSELEVES!$Y$14:$AG$600,9,FALSE),0)","v":0},"Lydiap_35",{"$f":"IFERROR(VLOOKUP(QW25,MATCHSELEVES!$Y$14:$AE$600,3,FALSE),0)","v":0},{"$f":"IFERROR(VLOOKUP(QW25,MATCHSELEVES!$Y$14:$AE$600,4,FALSE),0)","v":0},{"$f":"IFERROR(VLOOKUP(QW25,MATCHSELEVES!$Y$14:$AE$600,5,FALSE),0)","v":0},{"$f":"IFERROR(VLOOKUP(QW25,MATCHSELEVES!$Y$14:$AF$600,8,FALSE),0)","v":0},{"$f":"IFERROR(VLOOKUP(QW25,MATCHSELEVES!$Y$14:$AG$600,9,FALSE),0)","v":0},"Lydiap_36",{"$f":"IFERROR(VLOOKUP(RC25,MATCHSELEVES!$Y$14:$AE$600,3,FALSE),0)","v":0},{"$f":"IFERROR(VLOOKUP(RC25,MATCHSELEVES!$Y$14:$AE$600,4,FALSE),0)","v":0},{"$f":"IFERROR(VLOOKUP(RC25,MATCHSELEVES!$Y$14:$AE$600,5,FALSE),0)","v":0},{"$f":"IFERROR(VLOOKUP(RC25,MATCHSELEVES!$Y$14:$AF$600,8,FALSE),0)","v":0},{"$f":"IFERROR(VLOOKUP(RC25,MATCHSELEVES!$Y$14:$AG$600,9,FALSE),0)","v":0},"Lydiap_37",{"$f":"IFERROR(VLOOKUP(RI25,MATCHSELEVES!$Y$14:$AE$600,3,FALSE),0)","v":0},{"$f":"IFERROR(VLOOKUP(RI25,MATCHSELEVES!$Y$14:$AE$600,4,FALSE),0)","v":0},{"$f":"IFERROR(VLOOKUP(RI25,MATCHSELEVES!$Y$14:$AE$600,5,FALSE),0)","v":0},{"$f":"IFERROR(VLOOKUP(RI25,MATCHSELEVES!$Y$14:$AF$600,8,FALSE),0)","v":0},{"$f":"IFERROR(VLOOKUP(RI25,MATCHSELEVES!$Y$14:$AG$600,9,FALSE),0)","v":0},"Lydiap_38",{"$f":"IFERROR(VLOOKUP(RO25,MATCHSELEVES!$Y$14:$AE$600,3,FALSE),0)","v":0},{"$f":"IFERROR(VLOOKUP(RO25,MATCHSELEVES!$Y$14:$AE$600,4,FALSE),0)","v":0},{"$f":"IFERROR(VLOOKUP(RO25,MATCHSELEVES!$Y$14:$AE$600,5,FALSE),0)","v":0},{"$f":"IFERROR(VLOOKUP(RO25,MATCHSELEVES!$Y$14:$AF$600,8,FALSE),0)","v":0},{"$f":"IFERROR(VLOOKUP(RO25,MATCHSELEVES!$Y$14:$AG$600,9,FALSE),0)","v":0},"Lydiap_39",{"$f":"IFERROR(VLOOKUP(RU25,MATCHSELEVES!$Y$14:$AE$600,3,FALSE),0)","v":0},{"$f":"IFERROR(VLOOKUP(RU25,MATCHSELEVES!$Y$14:$AE$600,4,FALSE),0)","v":0},{"$f":"IFERROR(VLOOKUP(RU25,MATCHSELEVES!$Y$14:$AE$600,5,FALSE),0)","v":0},{"$f":"IFERROR(VLOOKUP(RU25,MATCHSELEVES!$Y$14:$AF$600,8,FALSE),0)","v":0},{"$f":"IFERROR(VLOOKUP(RU25,MATCHSELEVES!$Y$14:$AG$600,9,FALSE),0)","v":0},"Lydiap_40",{"$f":"IFERROR(VLOOKUP(SA25,MATCHSELEVES!$Y$14:$AE$600,3,FALSE),0)","v":0},{"$f":"IFERROR(VLOOKUP(SA25,MATCHSELEVES!$Y$14:$AE$600,4,FALSE),0)","v":0},{"$f":"IFERROR(VLOOKUP(SA25,MATCHSELEVES!$Y$14:$AE$600,5,FALSE),0)","v":0},{"$f":"IFERROR(VLOOKUP(SA25,MATCHSELEVES!$Y$14:$AF$600,8,FALSE),0)","v":0},{"$f":"IFERROR(VLOOKUP(SA25,MATCHSELEVES!$Y$14:$AG$600,9,FALSE),0)","v":0}]
[23,null,"Maëva",23,null,null,{"$f":"COUNTIF(MATCHSELEVES!$Z$14:$Z$600,C26)+COUNTIF(MATCHSELEVES!$Z$14:$Z$600,$C26&\"p\")","v":0},1,{"$f":"COUNTIF(MATCHSELEVES!$F$14:$H$249,C26)","v":0},1,0,1,{"$f":"IFERROR(M69/Tableau10[[#This Row],[Nombre de matchs joués]],0)","v":0},{"$f":"IF(Tableau10[[#This Row],[Nombre de points encaissés]]=0,$C$45,SUMPRODUCT((M$4:M$43<M26)*(M$4:M$43<>0))+1)","v":40},0,1,{"$f":"(Tableau10[[#This Row],[CLASSEMENT1]]+Tableau10[[#This Row],[CLASSEMENT2]]+Tableau10[[#This Row],[CLASSEMENT3]]+Tableau10[[#This Row],[CLASSEMENT4]]+Tableau10[[#This Row],[CLASSEMENT5]]+Tableau10[[#This Row],[CLASSEMENT6]])/6","v":11.166666666666666},{"$f":"RANK(Tableau10[[#This Row],[MOYENNE CLASSEMENTS]],Tableau10[MOYENNE CLASSEMENTS],1)","v":23},null,{"$f":"Tableau10[[#This Row],[CLASSEMENT1]]","v":23},"Maëva_1",{"$f":"IFERROR(VLOOKUP(U26,MATCHSELEVES!$Y$14:$AE$600,3,FALSE),0)","v":0},{"$f":"IFERROR(VLOOKUP(U26,MATCHSELEVES!$Y$14:$AE$600,4,FALSE),0)","v":0},{"$f":"IFERROR(VLOOKUP(U26,MATCHSELEVES!$Y$14:$AE$600,5,FALSE),0)","v":0},{"$f":"IFERROR(VLOOKUP(U26,MATCHSELEVES!$Y$14:$AF$600,8,FALSE),0)","v":0},{"$f":"IFERROR(VLOOKUP(U26,MATCHSELEVES!$Y$14:$AG$600,9,FALSE),0)","v":0},"Maëva_2",{"$f":"IFERROR(VLOOKUP(AA26,MATCHSELEVES!$Y$14:$AE$600,3,FALSE),0)","v":0},{"$f":"IFERROR(VLOOKUP(AA26,MATCHSELEVES!$Y$14:$AE$600,4,FALSE),0)","v":0},{"$f":"IFERROR(VLOOKUP(AA26,MATCHSELEVES!$Y$14:$AE$600,5,FALSE),0)","v":0},{"$f":"IFERROR(VLOOKUP(AA26,MATCHSELEVES!$Y$14:$AF$600,8,FALSE),0)","v":0},{"$f":"IFERROR(VLOOKUP(AA26,MATCHSELEVES!$Y$14:$AG$600,9,FALSE),0)","v":0},"Maëva_3",{"$f":"IFERROR(VLOOKUP(AG26,MATCHSELEVES!$Y$14:$AE$600,3,FALSE),0)","v":0},{"$f":"IFERROR(VLOOKUP(AG26,MATCHSELEVES!$Y$14:$AE$600,4,FALSE),0)","v":0},{"$f":"IFERROR(VLOOKUP(AG26,MATCHSELEVES!$Y$14:$AE$600,5,FALSE),0)","v":0},{"$f":"IFERROR(VLOOKUP(AG26,MATCHSELEVES!$Y$14:$AF$600,8,FALSE),0)","v":0},{"$f":"IFERROR(VLOOKUP(AG26,MATCHSELEVES!$Y$14:$AG$600,9,FALSE),0)","v":0},"Maëva_4",{"$f":"IFERROR(VLOOKUP(AM26,MATCHSELEVES!$Y$14:$AE$600,3,FALSE),0)","v":0},{"$f":"IFERROR(VLOOKUP(AM26,MATCHSELEVES!$Y$14:$AE$600,4,FALSE),0)","v":0},{"$f":"IFERROR(VLOOKUP(AM26,MATCHSELEVES!$Y$14:$AE$600,5,FALSE),0)","v":0},{"$f":"IFERROR(VLOOKUP(AM26,MATCHSELEVES!$Y$14:$AF$600,8,FALSE),0)","v":0},{"$f":"IFERROR(VLOOKUP(AM26,MATCHSELEVES!$Y$14:$AG$600,9,FALSE),0)","v":0},"Maëva_5",{"$f":"IFERROR(VLOOKUP(AS26,MATCHSELEVES!$Y$14:$AE$600,3,FALSE),0)","v":0},{"$f":"IFERROR(VLOOKUP(AS26,MATCHSELEVES!$Y$14:$AE$600,4,FALSE),0)","v":0},{"$f":"IFERROR(VLOOKUP(AS26,MATCHSELEVES!$Y$14:$AE$600,5,FALSE),0)","v":0},{"$f":"IFERROR(VLOOKUP(AS26,MATCHSELEVES!$Y$14:$AF$600,8,FALSE),0)","v":0},{"$f":"IFERROR(VLOOKUP(AS26,MATCHSELEVES!$Y$14:$AG$600,9,FALSE),0)","v":0},"Maëva_6",{"$f":"IFERROR(VLOOKUP(AY26,MATCHSELEVES!$Y$14:$AE$600,3,FALSE),0)","v":0},{"$f":"IFERROR(VLOOKUP(AY26,MATCHSELEVES!$Y$14:$AE$600,4,FALSE),0)","v":0},{"$f":"IFERROR(VLOOKUP(AY26,MATCHSELEVES!$Y$14:$AE$600,5,FALSE),0)","v":0},{"$f":"IFERROR(VLOOKUP(AY26,MATCHSELEVES!$Y$14:$AF$600,8,FALSE),0)","v":0},{"$f":"IFERROR(VLOOKUP(AY26,MATCHSELEVES!$Y$14:$AG$600,9,FALSE),0)","v":0},"Maëva_7",{"$f":"IFERROR(VLOOKUP(BE26,MATCHSELEVES!$Y$14:$AE$600,3,FALSE),0)","v":0},{"$f":"IFERROR(VLOOKUP(BE26,MATCHSELEVES!$Y$14:$AE$600,4,FALSE),0)","v":0},{"$f":"IFERROR(VLOOKUP(BE26,MATCHSELEVES!$Y$14:$AE$600,5,FALSE),0)","v":0},{"$f":"IFERROR(VLOOKUP(BE26,MATCHSELEVES!$Y$14:$AF$600,8,FALSE),0)","v":0},{"$f":"IFERROR(VLOOKUP(BE26,MATCHSELEVES!$Y$14:$AG$600,9,FALSE),0)","v":0},"Maëva_8",{"$f":"IFERROR(VLOOKUP(BK26,MATCHSELEVES!$Y$14:$AE$600,3,FALSE),0)","v":0},{"$f":"IFERROR(VLOOKUP(BK26,MATCHSELEVES!$Y$14:$AE$600,4,FALSE),0)","v":0},{"$f":"IFERROR(VLOOKUP(BK26,MATCHSELEVES!$Y$14:$AE$600,5,FALSE),0)","v":0},{"$f":"IFERROR(VLOOKUP(BK26,MATCHSELEVES!$Y$14:$AF$600,8,FALSE),0)","v":0},{"$f":"IFERROR(VLOOKUP(BK26,MATCHSELEVES!$Y$14:$AG$600,9,FALSE),0)","v":0},"Maëva_9",{"$f":"IFERROR(VLOOKUP(BQ26,MATCHSELEVES!$Y$14:$AE$600,3,FALSE),0)","v":0},{"$f":"IFERROR(VLOOKUP(BQ26,MATCHSELEVES!$Y$14:$AE$600,4,FALSE),0)","v":0},{"$f":"IFERROR(VLOOKUP(BQ26,MATCHSELEVES!$Y$14:$AE$600,5,FALSE),0)","v":0},{"$f":"IFERROR(VLOOKUP(BQ26,MATCHSELEVES!$Y$14:$AF$600,8,FALSE),0)","v":0},{"$f":"IFERROR(VLOOKUP(BQ26,MATCHSELEVES!$Y$14:$AG$600,9,FALSE),0)","v":0},"Maëva_10",{"$f":"IFERROR(VLOOKUP(BW26,MATCHSELEVES!$Y$14:$AE$600,3,FALSE),0)","v":0},{"$f":"IFERROR(VLOOKUP(BW26,MATCHSELEVES!$Y$14:$AE$600,4,FALSE),0)","v":0},{"$f":"IFERROR(VLOOKUP(BW26,MATCHSELEVES!$Y$14:$AE$600,5,FALSE),0)","v":0},{"$f":"IFERROR(VLOOKUP(BW26,MATCHSELEVES!$Y$14:$AF$600,8,FALSE),0)","v":0},{"$f":"IFERROR(VLOOKUP(BW26,MATCHSELEVES!$Y$14:$AG$600,9,FALSE),0)","v":0},"Maëva_11",{"$f":"IFERROR(VLOOKUP(CC26,MATCHSELEVES!$Y$14:$AE$600,3,FALSE),0)","v":0},{"$f":"IFERROR(VLOOKUP(CC26,MATCHSELEVES!$Y$14:$AE$600,4,FALSE),0)","v":0},{"$f":"IFERROR(VLOOKUP(CC26,MATCHSELEVES!$Y$14:$AE$600,5,FALSE),0)","v":0},{"$f":"IFERROR(VLOOKUP(CC26,MATCHSELEVES!$Y$14:$AF$600,8,FALSE),0)","v":0},{"$f":"IFERROR(VLOOKUP(CC26,MATCHSELEVES!$Y$14:$AG$600,9,FALSE),0)","v":0},"Maëva_12",{"$f":"IFERROR(VLOOKUP(CI26,MATCHSELEVES!$Y$14:$AE$600,3,FALSE),0)","v":0},{"$f":"IFERROR(VLOOKUP(CI26,MATCHSELEVES!$Y$14:$AE$600,4,FALSE),0)","v":0},{"$f":"IFERROR(VLOOKUP(CI26,MATCHSELEVES!$Y$14:$AE$600,5,FALSE),0)","v":0},{"$f":"IFERROR(VLOOKUP(CI26,MATCHSELEVES!$Y$14:$AF$600,8,FALSE),0)","v":0},{"$f":"IFERROR(VLOOKUP(CI26,MATCHSELEVES!$Y$14:$AG$600,9,FALSE),0)","v":0},"Maëva_13",{"$f":"IFERROR(VLOOKUP(CO26,MATCHSELEVES!$Y$14:$AE$600,3,FALSE),0)","v":0},{"$f":"IFERROR(VLOOKUP(CO26,MATCHSELEVES!$Y$14:$AE$600,4,FALSE),0)","v":0},{"$f":"IFERROR(VLOOKUP(CO26,MATCHSELEVES!$Y$14:$AE$600,5,FALSE),0)","v":0},{"$f":"IFERROR(VLOOKUP(CO26,MATCHSELEVES!$Y$14:$AF$600,8,FALSE),0)","v":0},{"$f":"IFERROR(VLOOKUP(CO26,MATCHSELEVES!$Y$14:$AG$600,9,FALSE),0)","v":0},"Maëva_14",{"$f":"IFERROR(VLOOKUP(CU26,MATCHSELEVES!$Y$14:$AE$600,3,FALSE),0)","v":0},{"$f":"IFERROR(VLOOKUP(CU26,MATCHSELEVES!$Y$14:$AE$600,4,FALSE),0)","v":0},{"$f":"IFERROR(VLOOKUP(CU26,MATCHSELEVES!$Y$14:$AE$600,5,FALSE),0)","v":0},{"$f":"IFERROR(VLOOKUP(CU26,MATCHSELEVES!$Y$14:$AF$600,8,FALSE),0)","v":0},{"$f":"IFERROR(VLOOKUP(CU26,MATCHSELEVES!$Y$14:$AG$600,9,FALSE),0)","v":0},"Maëva_15",{"$f":"IFERROR(VLOOKUP(DA26,MATCHSELEVES!$Y$14:$AE$600,3,FALSE),0)","v":0},{"$f":"IFERROR(VLOOKUP(DA26,MATCHSELEVES!$Y$14:$AE$600,4,FALSE),0)","v":0},{"$f":"IFERROR(VLOOKUP(DA26,MATCHSELEVES!$Y$14:$AE$600,5,FALSE),0)","v":0},{"$f":"IFERROR(VLOOKUP(DA26,MATCHSELEVES!$Y$14:$AF$600,8,FALSE),0)","v":0},{"$f":"IFERROR(VLOOKUP(DA26,MATCHSELEVES!$Y$14:$AG$600,9,FALSE),0)","v":0},"Maëva_16",{"$f":"IFERROR(VLOOKUP(DG26,MATCHSELEVES!$Y$14:$AE$600,3,FALSE),0)","v":0},{"$f":"IFERROR(VLOOKUP(DG26,MATCHSELEVES!$Y$14:$AE$600,4,FALSE),0)","v":0},{"$f":"IFERROR(VLOOKUP(DG26,MATCHSELEVES!$Y$14:$AE$600,5,FALSE),0)","v":0},{"$f":"IFERROR(VLOOKUP(DG26,MATCHSELEVES!$Y$14:$AF$600,8,FALSE),0)","v":0},{"$f":"IFERROR(VLOOKUP(DG26,MATCHSELEVES!$Y$14:$AG$600,9,FALSE),0)","v":0},"Maëva_17",{"$f":"IFERROR(VLOOKUP(DM26,MATCHSELEVES!$Y$14:$AE$600,3,FALSE),0)","v":0},{"$f":"IFERROR(VLOOKUP(DM26,MATCHSELEVES!$Y$14:$AE$600,4,FALSE),0)","v":0},{"$f":"IFERROR(VLOOKUP(DM26,MATCHSELEVES!$Y$14:$AE$600,5,FALSE),0)","v":0},{"$f":"IFERROR(VLOOKUP(DM26,MATCHSELEVES!$Y$14:$AF$600,8,FALSE),0)","v":0},{"$f":"IFERROR(VLOOKUP(DM26,MATCHSELEVES!$Y$14:$AG$600,9,FALSE),0)","v":0},"Maëva_18",{"$f":"IFERROR(VLOOKUP(DS26,MATCHSELEVES!$Y$14:$AE$600,3,FALSE),0)","v":0},{"$f":"IFERROR(VLOOKUP(DS26,MATCHSELEVES!$Y$14:$AE$600,4,FALSE),0)","v":0},{"$f":"IFERROR(VLOOKUP(DS26,MATCHSELEVES!$Y$14:$AE$600,5,FALSE),0)","v":0},{"$f":"IFERROR(VLOOKUP(DS26,MATCHSELEVES!$Y$14:$AF$600,8,FALSE),0)","v":0},{"$f":"IFERROR(VLOOKUP(DS26,MATCHSELEVES!$Y$14:$AG$600,9,FALSE),0)","v":0},"Maëva_19",{"$f":"IFERROR(VLOOKUP(DY26,MATCHSELEVES!$Y$14:$AE$600,3,FALSE),0)","v":0},{"$f":"IFERROR(VLOOKUP(DY26,MATCHSELEVES!$Y$14:$AE$600,4,FALSE),0)","v":0},{"$f":"IFERROR(VLOOKUP(DY26,MATCHSELEVES!$Y$14:$AE$600,5,FALSE),0)","v":0},{"$f":"IFERROR(VLOOKUP(DY26,MATCHSELEVES!$Y$14:$AF$600,8,FALSE),0)","v":0},{"$f":"IFERROR(VLOOKUP(DY26,MATCHSELEVES!$Y$14:$AG$600,9,FALSE),0)","v":0},"Maëva_20",{"$f":"IFERROR(VLOOKUP(EE26,MATCHSELEVES!$Y$14:$AE$600,3,FALSE),0)","v":0},{"$f":"IFERROR(VLOOKUP(EE26,MATCHSELEVES!$Y$14:$AE$600,4,FALSE),0)","v":0},{"$f":"IFERROR(VLOOKUP(EE26,MATCHSELEVES!$Y$14:$AE$600,5,FALSE),0)","v":0},{"$f":"IFERROR(VLOOKUP(EE26,MATCHSELEVES!$Y$14:$AF$600,8,FALSE),0)","v":0},{"$f":"IFERROR(VLOOKUP(EE26,MATCHSELEVES!$Y$14:$AG$600,9,FALSE),0)","v":0},"Maëva_21",{"$f":"IFERROR(VLOOKUP(EK26,MATCHSELEVES!$Y$14:$AE$600,3,FALSE),0)","v":0},{"$f":"IFERROR(VLOOKUP(EK26,MATCHSELEVES!$Y$14:$AE$600,4,FALSE),0)","v":0},{"$f":"IFERROR(VLOOKUP(EK26,MATCHSELEVES!$Y$14:$AE$600,5,FALSE),0)","v":0},{"$f":"IFERROR(VLOOKUP(EK26,MATCHSELEVES!$Y$14:$AF$600,8,FALSE),0)","v":0},{"$f":"IFERROR(VLOOKUP(EK26,MATCHSELEVES!$Y$14:$AG$600,9,FALSE),0)","v":0},"Maëva_22",{"$f":"IFERROR(VLOOKUP(EQ26,MATCHSELEVES!$Y$14:$AE$600,3,FALSE),0)","v":0},{"$f":"IFERROR(VLOOKUP(EQ26,MATCHSELEVES!$Y$14:$AE$600,4,FALSE),0)","v":0},{"$f":"IFERROR(VLOOKUP(EQ26,MATCHSELEVES!$Y$14:$AE$600,5,FALSE),0)","v":0},{"$f":"IFERROR(VLOOKUP(EQ26,MATCHSELEVES!$Y$14:$AF$600,8,FALSE),0)","v":0},{"$f":"IFERROR(VLOOKUP(EQ26,MATCHSELEVES!$Y$14:$AG$600,9,FALSE),0)","v":0},"Maëva_23",{"$f":"IFERROR(VLOOKUP(EW26,MATCHSELEVES!$Y$14:$AE$600,3,FALSE),0)","v":0},{"$f":"IFERROR(VLOOKUP(EW26,MATCHSELEVES!$Y$14:$AE$600,4,FALSE),0)","v":0},{"$f":"IFERROR(VLOOKUP(EW26,MATCHSELEVES!$Y$14:$AE$600,5,FALSE),0)","v":0},{"$f":"IFERROR(VLOOKUP(EW26,MATCHSELEVES!$Y$14:$AF$600,8,FALSE),0)","v":0},{"$f":"IFERROR(VLOOKUP(EW26,MATCHSELEVES!$Y$14:$AG$600,9,FALSE),0)","v":0},"Maëva_24",{"$f":"IFERROR(VLOOKUP(FC26,MATCHSELEVES!$Y$14:$AE$600,3,FALSE),0)","v":0},{"$f":"IFERROR(VLOOKUP(FC26,MATCHSELEVES!$Y$14:$AE$600,4,FALSE),0)","v":0},{"$f":"IFERROR(VLOOKUP(FC26,MATCHSELEVES!$Y$14:$AE$600,5,FALSE),0)","v":0},{"$f":"IFERROR(VLOOKUP(FC26,MATCHSELEVES!$Y$14:$AF$600,8,FALSE),0)","v":0},{"$f":"IFERROR(VLOOKUP(FC26,MATCHSELEVES!$Y$14:$AG$600,9,FALSE),0)","v":0},"Maëva_25",{"$f":"IFERROR(VLOOKUP(FI26,MATCHSELEVES!$Y$14:$AE$600,3,FALSE),0)","v":0},{"$f":"IFERROR(VLOOKUP(FI26,MATCHSELEVES!$Y$14:$AE$600,4,FALSE),0)","v":0},{"$f":"IFERROR(VLOOKUP(FI26,MATCHSELEVES!$Y$14:$AE$600,5,FALSE),0)","v":0},{"$f":"IFERROR(VLOOKUP(FI26,MATCHSELEVES!$Y$14:$AF$600,8,FALSE),0)","v":0},{"$f":"IFERROR(VLOOKUP(FI26,MATCHSELEVES!$Y$14:$AG$600,9,FALSE),0)","v":0},"Maëva_26",{"$f":"IFERROR(VLOOKUP(FO26,MATCHSELEVES!$Y$14:$AE$600,3,FALSE),0)","v":0},{"$f":"IFERROR(VLOOKUP(FO26,MATCHSELEVES!$Y$14:$AE$600,4,FALSE),0)","v":0},{"$f":"IFERROR(VLOOKUP(FO26,MATCHSELEVES!$Y$14:$AE$600,5,FALSE),0)","v":0},{"$f":"IFERROR(VLOOKUP(FO26,MATCHSELEVES!$Y$14:$AF$600,8,FALSE),0)","v":0},{"$f":"IFERROR(VLOOKUP(FO26,MATCHSELEVES!$Y$14:$AG$600,9,FALSE),0)","v":0},"Maëva_27",{"$f":"IFERROR(VLOOKUP(FU26,MATCHSELEVES!$Y$14:$AE$600,3,FALSE),0)","v":0},{"$f":"IFERROR(VLOOKUP(FU26,MATCHSELEVES!$Y$14:$AE$600,4,FALSE),0)","v":0},{"$f":"IFERROR(VLOOKUP(FU26,MATCHSELEVES!$Y$14:$AE$600,5,FALSE),0)","v":0},{"$f":"IFERROR(VLOOKUP(FU26,MATCHSELEVES!$Y$14:$AF$600,8,FALSE),0)","v":0},{"$f":"IFERROR(VLOOKUP(FU26,MATCHSELEVES!$Y$14:$AG$600,9,FALSE),0)","v":0},"Maëva_28",{"$f":"IFERROR(VLOOKUP(GA26,MATCHSELEVES!$Y$14:$AE$600,3,FALSE),0)","v":0},{"$f":"IFERROR(VLOOKUP(GA26,MATCHSELEVES!$Y$14:$AE$600,4,FALSE),0)","v":0},{"$f":"IFERROR(VLOOKUP(GA26,MATCHSELEVES!$Y$14:$AE$600,5,FALSE),0)","v":0},{"$f":"IFERROR(VLOOKUP(GA26,MATCHSELEVES!$Y$14:$AF$600,8,FALSE),0)","v":0},{"$f":"IFERROR(VLOOKUP(GA26,MATCHSELEVES!$Y$14:$AG$600,9,FALSE),0)","v":0},"Maëva_29",{"$f":"IFERROR(VLOOKUP(GG26,MATCHSELEVES!$Y$14:$AE$600,3,FALSE),0)","v":0},{"$f":"IFERROR(VLOOKUP(GG26,MATCHSELEVES!$Y$14:$AE$600,4,FALSE),0)","v":0},{"$f":"IFERROR(VLOOKUP(GG26,MATCHSELEVES!$Y$14:$AE$600,5,FALSE),0)","v":0},{"$f":"IFERROR(VLOOKUP(GG26,MATCHSELEVES!$Y$14:$AF$600,8,FALSE),0)","v":0},{"$f":"IFERROR(VLOOKUP(GG26,MATCHSELEVES!$Y$14:$AG$600,9,FALSE),0)","v":0},"Maëva_30",{"$f":"IFERROR(VLOOKUP(GM26,MATCHSELEVES!$Y$14:$AE$600,3,FALSE),0)","v":0},{"$f":"IFERROR(VLOOKUP(GM26,MATCHSELEVES!$Y$14:$AE$600,4,FALSE),0)","v":0},{"$f":"IFERROR(VLOOKUP(GM26,MATCHSELEVES!$Y$14:$AE$600,5,FALSE),0)","v":0},{"$f":"IFERROR(VLOOKUP(GM26,MATCHSELEVES!$Y$14:$AF$600,8,FALSE),0)","v":0},{"$f":"IFERROR(VLOOKUP(GM26,MATCHSELEVES!$Y$14:$AG$600,9,FALSE),0)","v":0},"Maëva_31",{"$f":"IFERROR(VLOOKUP(GS26,MATCHSELEVES!$Y$14:$AE$600,3,FALSE),0)","v":0},{"$f":"IFERROR(VLOOKUP(GS26,MATCHSELEVES!$Y$14:$AE$600,4,FALSE),0)","v":0},{"$f":"IFERROR(VLOOKUP(GS26,MATCHSELEVES!$Y$14:$AE$600,5,FALSE),0)","v":0},{"$f":"IFERROR(VLOOKUP(GS26,MATCHSELEVES!$Y$14:$AF$600,8,FALSE),0)","v":0},{"$f":"IFERROR(VLOOKUP(GS26,MATCHSELEVES!$Y$14:$AG$600,9,FALSE),0)","v":0},"Maëva_32",{"$f":"IFERROR(VLOOKUP(GY26,MATCHSELEVES!$Y$14:$AE$600,3,FALSE),0)","v":0},{"$f":"IFERROR(VLOOKUP(GY26,MATCHSELEVES!$Y$14:$AE$600,4,FALSE),0)","v":0},{"$f":"IFERROR(VLOOKUP(GY26,MATCHSELEVES!$Y$14:$AE$600,5,FALSE),0)","v":0},{"$f":"IFERROR(VLOOKUP(GY26,MATCHSELEVES!$Y$14:$AF$600,8,FALSE),0)","v":0},{"$f":"IFERROR(VLOOKUP(GY26,MATCHSELEVES!$Y$14:$AG$600,9,FALSE),0)","v":0},"Maëva_33",{"$f":"IFERROR(VLOOKUP(HE26,MATCHSELEVES!$Y$14:$AE$600,3,FALSE),0)","v":0},{"$f":"IFERROR(VLOOKUP(HE26,MATCHSELEVES!$Y$14:$AE$600,4,FALSE),0)","v":0},{"$f":"IFERROR(VLOOKUP(HE26,MATCHSELEVES!$Y$14:$AE$600,5,FALSE),0)","v":0},{"$f":"IFERROR(VLOOKUP(HE26,MATCHSELEVES!$Y$14:$AF$600,8,FALSE),0)","v":0},{"$f":"IFERROR(VLOOKUP(HE26,MATCHSELEVES!$Y$14:$AG$600,9,FALSE),0)","v":0},"Maëva_34",{"$f":"IFERROR(VLOOKUP(HK26,MATCHSELEVES!$Y$14:$AE$600,3,FALSE),0)","v":0},{"$f":"IFERROR(VLOOKUP(HK26,MATCHSELEVES!$Y$14:$AE$600,4,FALSE),0)","v":0},{"$f":"IFERROR(VLOOKUP(HK26,MATCHSELEVES!$Y$14:$AE$600,5,FALSE),0)","v":0},{"$f":"IFERROR(VLOOKUP(HK26,MATCHSELEVES!$Y$14:$AF$600,8,FALSE),0)","v":0},{"$f":"IFERROR(VLOOKUP(HK26,MATCHSELEVES!$Y$14:$AG$600,9,FALSE),0)","v":0},"Maëva_35",{"$f":"IFERROR(VLOOKUP(HQ26,MATCHSELEVES!$Y$14:$AE$600,3,FALSE),0)","v":0},{"$f":"IFERROR(VLOOKUP(HQ26,MATCHSELEVES!$Y$14:$AE$600,4,FALSE),0)","v":0},{"$f":"IFERROR(VLOOKUP(HQ26,MATCHSELEVES!$Y$14:$AE$600,5,FALSE),0)","v":0},{"$f":"IFERROR(VLOOKUP(HQ26,MATCHSELEVES!$Y$14:$AF$600,8,FALSE),0)","v":0},{"$f":"IFERROR(VLOOKUP(HQ26,MATCHSELEVES!$Y$14:$AG$600,9,FALSE),0)","v":0},"Maëva_36",{"$f":"IFERROR(VLOOKUP(HW26,MATCHSELEVES!$Y$14:$AE$600,3,FALSE),0)","v":0},{"$f":"IFERROR(VLOOKUP(HW26,MATCHSELEVES!$Y$14:$AE$600,4,FALSE),0)","v":0},{"$f":"IFERROR(VLOOKUP(HW26,MATCHSELEVES!$Y$14:$AE$600,5,FALSE),0)","v":0},{"$f":"IFERROR(VLOOKUP(HW26,MATCHSELEVES!$Y$14:$AF$600,8,FALSE),0)","v":0},{"$f":"IFERROR(VLOOKUP(HW26,MATCHSELEVES!$Y$14:$AG$600,9,FALSE),0)","v":0},"Maëva_37",{"$f":"IFERROR(VLOOKUP(IC26,MATCHSELEVES!$Y$14:$AE$600,3,FALSE),0)","v":0},{"$f":"IFERROR(VLOOKUP(IC26,MATCHSELEVES!$Y$14:$AE$600,4,FALSE),0)","v":0},{"$f":"IFERROR(VLOOKUP(IC26,MATCHSELEVES!$Y$14:$AE$600,5,FALSE),0)","v":0},{"$f":"IFERROR(VLOOKUP(IC26,MATCHSELEVES!$Y$14:$AF$600,8,FALSE),0)","v":0},{"$f":"IFERROR(VLOOKUP(IC26,MATCHSELEVES!$Y$14:$AG$600,9,FALSE),0)","v":0},"Maëva_38",{"$f":"IFERROR(VLOOKUP(II26,MATCHSELEVES!$Y$14:$AE$600,3,FALSE),0)","v":0},{"$f":"IFERROR(VLOOKUP(II26,MATCHSELEVES!$Y$14:$AE$600,4,FALSE),0)","v":0},{"$f":"IFERROR(VLOOKUP(II26,MATCHSELEVES!$Y$14:$AE$600,5,FALSE),0)","v":0},{"$f":"IFERROR(VLOOKUP(II26,MATCHSELEVES!$Y$14:$AF$600,8,FALSE),0)","v":0},{"$f":"IFERROR(VLOOKUP(II26,MATCHSELEVES!$Y$14:$AG$600,9,FALSE),0)","v":0},"Maëva_39",{"$f":"IFERROR(VLOOKUP(IO26,MATCHSELEVES!$Y$14:$AE$600,3,FALSE),0)","v":0},{"$f":"IFERROR(VLOOKUP(IO26,MATCHSELEVES!$Y$14:$AE$600,4,FALSE),0)","v":0},{"$f":"IFERROR(VLOOKUP(IO26,MATCHSELEVES!$Y$14:$AE$600,5,FALSE),0)","v":0},{"$f":"IFERROR(VLOOKUP(IO26,MATCHSELEVES!$Y$14:$AF$600,8,FALSE),0)","v":0},{"$f":"IFERROR(VLOOKUP(IO26,MATCHSELEVES!$Y$14:$AG$600,9,FALSE),0)","v":0},"Maëva_40",{"$f":"IFERROR(VLOOKUP(IU26,MATCHSELEVES!$Y$14:$AE$600,3,FALSE),0)","v":0},{"$f":"IFERROR(VLOOKUP(IU26,MATCHSELEVES!$Y$14:$AE$600,4,FALSE),0)","v":0},{"$f":"IFERROR(VLOOKUP(IU26,MATCHSELEVES!$Y$14:$AE$600,5,FALSE),0)","v":0},{"$f":"IFERROR(VLOOKUP(IU26,MATCHSELEVES!$Y$14:$AF$600,8,FALSE),0)","v":0},{"$f":"IFERROR(VLOOKUP(IU26,MATCHSELEVES!$Y$14:$AG$600,9,FALSE),0)","v":0},"Maëvap_1",{"$f":"IFERROR(VLOOKUP(JA26,MATCHSELEVES!$Y$14:$AE$600,3,FALSE),0)","v":0},{"$f":"IFERROR(VLOOKUP(JA26,MATCHSELEVES!$Y$14:$AE$600,4,FALSE),0)","v":0},{"$f":"IFERROR(VLOOKUP(JA26,MATCHSELEVES!$Y$14:$AE$600,5,FALSE),0)","v":0},{"$f":"IFERROR(VLOOKUP(JA26,MATCHSELEVES!$Y$14:$AF$600,8,FALSE),0)","v":0},{"$f":"IFERROR(VLOOKUP(JA26,MATCHSELEVES!$Y$14:$AG$600,9,FALSE),0)","v":0},"Maëvap_2",{"$f":"IFERROR(VLOOKUP(JG26,MATCHSELEVES!$Y$14:$AE$600,3,FALSE),0)","v":0},{"$f":"IFERROR(VLOOKUP(JG26,MATCHSELEVES!$Y$14:$AE$600,4,FALSE),0)","v":0},{"$f":"IFERROR(VLOOKUP(JG26,MATCHSELEVES!$Y$14:$AE$600,5,FALSE),0)","v":0},{"$f":"IFERROR(VLOOKUP(JG26,MATCHSELEVES!$Y$14:$AF$600,8,FALSE),0)","v":0},{"$f":"IFERROR(VLOOKUP(JG26,MATCHSELEVES!$Y$14:$AG$600,9,FALSE),0)","v":0},"Maëvap_3",{"$f":"IFERROR(VLOOKUP(JM26,MATCHSELEVES!$Y$14:$AE$600,3,FALSE),0)","v":0},{"$f":"IFERROR(VLOOKUP(JM26,MATCHSELEVES!$Y$14:$AE$600,4,FALSE),0)","v":0},{"$f":"IFERROR(VLOOKUP(JM26,MATCHSELEVES!$Y$14:$AE$600,5,FALSE),0)","v":0},{"$f":"IFERROR(VLOOKUP(JM26,MATCHSELEVES!$Y$14:$AF$600,8,FALSE),0)","v":0},{"$f":"IFERROR(VLOOKUP(JM26,MATCHSELEVES!$Y$14:$AG$600,9,FALSE),0)","v":0},"Maëvap_4",{"$f":"IFERROR(VLOOKUP(JS26,MATCHSELEVES!$Y$14:$AE$600,3,FALSE),0)","v":0},{"$f":"IFERROR(VLOOKUP(JS26,MATCHSELEVES!$Y$14:$AE$600,4,FALSE),0)","v":0},{"$f":"IFERROR(VLOOKUP(JS26,MATCHSELEVES!$Y$14:$AE$600,5,FALSE),0)","v":0},{"$f":"IFERROR(VLOOKUP(JS26,MATCHSELEVES!$Y$14:$AF$600,8,FALSE),0)","v":0},{"$f":"IFERROR(VLOOKUP(JS26,MATCHSELEVES!$Y$14:$AG$600,9,FALSE),0)","v":0},"Maëvap_5",{"$f":"IFERROR(VLOOKUP(JY26,MATCHSELEVES!$Y$14:$AE$600,3,FALSE),0)","v":0},{"$f":"IFERROR(VLOOKUP(JY26,MATCHSELEVES!$Y$14:$AE$600,4,FALSE),0)","v":0},{"$f":"IFERROR(VLOOKUP(JY26,MATCHSELEVES!$Y$14:$AE$600,5,FALSE),0)","v":0},{"$f":"IFERROR(VLOOKUP(JY26,MATCHSELEVES!$Y$14:$AF$600,8,FALSE),0)","v":0},{"$f":"IFERROR(VLOOKUP(JY26,MATCHSELEVES!$Y$14:$AG$600,9,FALSE),0)","v":0},"Maëvap_6",{"$f":"IFERROR(VLOOKUP(KE26,MATCHSELEVES!$Y$14:$AE$600,3,FALSE),0)","v":0},{"$f":"IFERROR(VLOOKUP(KE26,MATCHSELEVES!$Y$14:$AE$600,4,FALSE),0)","v":0},{"$f":"IFERROR(VLOOKUP(KE26,MATCHSELEVES!$Y$14:$AE$600,5,FALSE),0)","v":0},{"$f":"IFERROR(VLOOKUP(KE26,MATCHSELEVES!$Y$14:$AF$600,8,FALSE),0)","v":0},{"$f":"IFERROR(VLOOKUP(KE26,MATCHSELEVES!$Y$14:$AG$600,9,FALSE),0)","v":0},"Maëvap_7",{"$f":"IFERROR(VLOOKUP(KK26,MATCHSELEVES!$Y$14:$AE$600,3,FALSE),0)","v":0},{"$f":"IFERROR(VLOOKUP(KK26,MATCHSELEVES!$Y$14:$AE$600,4,FALSE),0)","v":0},{"$f":"IFERROR(VLOOKUP(KK26,MATCHSELEVES!$Y$14:$AE$600,5,FALSE),0)","v":0},{"$f":"IFERROR(VLOOKUP(KK26,MATCHSELEVES!$Y$14:$AF$600,8,FALSE),0)","v":0},{"$f":"IFERROR(VLOOKUP(KK26,MATCHSELEVES!$Y$14:$AG$600,9,FALSE),0)","v":0},"Maëvap_8",{"$f":"IFERROR(VLOOKUP(KQ26,MATCHSELEVES!$Y$14:$AE$600,3,FALSE),0)","v":0},{"$f":"IFERROR(VLOOKUP(KQ26,MATCHSELEVES!$Y$14:$AE$600,4,FALSE),0)","v":0},{"$f":"IFERROR(VLOOKUP(KQ26,MATCHSELEVES!$Y$14:$AE$600,5,FALSE),0)","v":0},{"$f":"IFERROR(VLOOKUP(KQ26,MATCHSELEVES!$Y$14:$AF$600,8,FALSE),0)","v":0},{"$f":"IFERROR(VLOOKUP(KQ26,MATCHSELEVES!$Y$14:$AG$600,9,FALSE),0)","v":0},"Maëvap_9",{"$f":"IFERROR(VLOOKUP(KW26,MATCHSELEVES!$Y$14:$AE$600,3,FALSE),0)","v":0},{"$f":"IFERROR(VLOOKUP(KW26,MATCHSELEVES!$Y$14:$AE$600,4,FALSE),0)","v":0},{"$f":"IFERROR(VLOOKUP(KW26,MATCHSELEVES!$Y$14:$AE$600,5,FALSE),0)","v":0},{"$f":"IFERROR(VLOOKUP(KW26,MATCHSELEVES!$Y$14:$AF$600,8,FALSE),0)","v":0},{"$f":"IFERROR(VLOOKUP(KW26,MATCHSELEVES!$Y$14:$AG$600,9,FALSE),0)","v":0},"Maëvap_10",{"$f":"IFERROR(VLOOKUP(LC26,MATCHSELEVES!$Y$14:$AE$600,3,FALSE),0)","v":0},{"$f":"IFERROR(VLOOKUP(LC26,MATCHSELEVES!$Y$14:$AE$600,4,FALSE),0)","v":0},{"$f":"IFERROR(VLOOKUP(LC26,MATCHSELEVES!$Y$14:$AE$600,5,FALSE),0)","v":0},{"$f":"IFERROR(VLOOKUP(LC26,MATCHSELEVES!$Y$14:$AF$600,8,FALSE),0)","v":0},{"$f":"IFERROR(VLOOKUP(LC26,MATCHSELEVES!$Y$14:$AG$600,9,FALSE),0)","v":0},"Maëvap_11",{"$f":"IFERROR(VLOOKUP(LI26,MATCHSELEVES!$Y$14:$AE$600,3,FALSE),0)","v":0},{"$f":"IFERROR(VLOOKUP(LI26,MATCHSELEVES!$Y$14:$AE$600,4,FALSE),0)","v":0},{"$f":"IFERROR(VLOOKUP(LI26,MATCHSELEVES!$Y$14:$AE$600,5,FALSE),0)","v":0},{"$f":"IFERROR(VLOOKUP(LI26,MATCHSELEVES!$Y$14:$AF$600,8,FALSE),0)","v":0},{"$f":"IFERROR(VLOOKUP(LI26,MATCHSELEVES!$Y$14:$AG$600,9,FALSE),0)","v":0},"Maëvap_12",{"$f":"IFERROR(VLOOKUP(LO26,MATCHSELEVES!$Y$14:$AE$600,3,FALSE),0)","v":0},{"$f":"IFERROR(VLOOKUP(LO26,MATCHSELEVES!$Y$14:$AE$600,4,FALSE),0)","v":0},{"$f":"IFERROR(VLOOKUP(LO26,MATCHSELEVES!$Y$14:$AE$600,5,FALSE),0)","v":0},{"$f":"IFERROR(VLOOKUP(LO26,MATCHSELEVES!$Y$14:$AF$600,8,FALSE),0)","v":0},{"$f":"IFERROR(VLOOKUP(LO26,MATCHSELEVES!$Y$14:$AG$600,9,FALSE),0)","v":0},"Maëvap_13",{"$f":"IFERROR(VLOOKUP(LU26,MATCHSELEVES!$Y$14:$AE$600,3,FALSE),0)","v":0},{"$f":"IFERROR(VLOOKUP(LU26,MATCHSELEVES!$Y$14:$AE$600,4,FALSE),0)","v":0},{"$f":"IFERROR(VLOOKUP(LU26,MATCHSELEVES!$Y$14:$AE$600,5,FALSE),0)","v":0},{"$f":"IFERROR(VLOOKUP(LU26,MATCHSELEVES!$Y$14:$AF$600,8,FALSE),0)","v":0},{"$f":"IFERROR(VLOOKUP(LU26,MATCHSELEVES!$Y$14:$AG$600,9,FALSE),0)","v":0},"Maëvap_14",{"$f":"IFERROR(VLOOKUP(MA26,MATCHSELEVES!$Y$14:$AE$600,3,FALSE),0)","v":0},{"$f":"IFERROR(VLOOKUP(MA26,MATCHSELEVES!$Y$14:$AE$600,4,FALSE),0)","v":0},{"$f":"IFERROR(VLOOKUP(MA26,MATCHSELEVES!$Y$14:$AE$600,5,FALSE),0)","v":0},{"$f":"IFERROR(VLOOKUP(MA26,MATCHSELEVES!$Y$14:$AF$600,8,FALSE),0)","v":0},{"$f":"IFERROR(VLOOKUP(MA26,MATCHSELEVES!$Y$14:$AG$600,9,FALSE),0)","v":0},"Maëvap_15",{"$f":"IFERROR(VLOOKUP(MG26,MATCHSELEVES!$Y$14:$AE$600,3,FALSE),0)","v":0},{"$f":"IFERROR(VLOOKUP(MG26,MATCHSELEVES!$Y$14:$AE$600,4,FALSE),0)","v":0},{"$f":"IFERROR(VLOOKUP(MG26,MATCHSELEVES!$Y$14:$AE$600,5,FALSE),0)","v":0},{"$f":"IFERROR(VLOOKUP(MG26,MATCHSELEVES!$Y$14:$AF$600,8,FALSE),0)","v":0},{"$f":"IFERROR(VLOOKUP(MG26,MATCHSELEVES!$Y$14:$AG$600,9,FALSE),0)","v":0},"Maëvap_16",{"$f":"IFERROR(VLOOKUP(MM26,MATCHSELEVES!$Y$14:$AE$600,3,FALSE),0)","v":0},{"$f":"IFERROR(VLOOKUP(MM26,MATCHSELEVES!$Y$14:$AE$600,4,FALSE),0)","v":0},{"$f":"IFERROR(VLOOKUP(MM26,MATCHSELEVES!$Y$14:$AE$600,5,FALSE),0)","v":0},{"$f":"IFERROR(VLOOKUP(MM26,MATCHSELEVES!$Y$14:$AF$600,8,FALSE),0)","v":0},{"$f":"IFERROR(VLOOKUP(MM26,MATCHSELEVES!$Y$14:$AG$600,9,FALSE),0)","v":0},"Maëvap_17",{"$f":"IFERROR(VLOOKUP(MS26,MATCHSELEVES!$Y$14:$AE$600,3,FALSE),0)","v":0},{"$f":"IFERROR(VLOOKUP(MS26,MATCHSELEVES!$Y$14:$AE$600,4,FALSE),0)","v":0},{"$f":"IFERROR(VLOOKUP(MS26,MATCHSELEVES!$Y$14:$AE$600,5,FALSE),0)","v":0},{"$f":"IFERROR(VLOOKUP(MS26,MATCHSELEVES!$Y$14:$AF$600,8,FALSE),0)","v":0},{"$f":"IFERROR(VLOOKUP(MS26,MATCHSELEVES!$Y$14:$AG$600,9,FALSE),0)","v":0},"Maëvap_18",{"$f":"IFERROR(VLOOKUP(MY26,MATCHSELEVES!$Y$14:$AE$600,3,FALSE),0)","v":0},{"$f":"IFERROR(VLOOKUP(MY26,MATCHSELEVES!$Y$14:$AE$600,4,FALSE),0)","v":0},{"$f":"IFERROR(VLOOKUP(MY26,MATCHSELEVES!$Y$14:$AE$600,5,FALSE),0)","v":0},{"$f":"IFERROR(VLOOKUP(MY26,MATCHSELEVES!$Y$14:$AF$600,8,FALSE),0)","v":0},{"$f":"IFERROR(VLOOKUP(MY26,MATCHSELEVES!$Y$14:$AG$600,9,FALSE),0)","v":0},"Maëvap_19",{"$f":"IFERROR(VLOOKUP(NE26,MATCHSELEVES!$Y$14:$AE$600,3,FALSE),0)","v":0},{"$f":"IFERROR(VLOOKUP(NE26,MATCHSELEVES!$Y$14:$AE$600,4,FALSE),0)","v":0},{"$f":"IFERROR(VLOOKUP(NE26,MATCHSELEVES!$Y$14:$AE$600,5,FALSE),0)","v":0},{"$f":"IFERROR(VLOOKUP(NE26,MATCHSELEVES!$Y$14:$AF$600,8,FALSE),0)","v":0},{"$f":"IFERROR(VLOOKUP(NE26,MATCHSELEVES!$Y$14:$AG$600,9,FALSE),0)","v":0},"Maëvap_20",{"$f":"IFERROR(VLOOKUP(NK26,MATCHSELEVES!$Y$14:$AE$600,3,FALSE),0)","v":0},{"$f":"IFERROR(VLOOKUP(NK26,MATCHSELEVES!$Y$14:$AE$600,4,FALSE),0)","v":0},{"$f":"IFERROR(VLOOKUP(NK26,MATCHSELEVES!$Y$14:$AE$600,5,FALSE),0)","v":0},{"$f":"IFERROR(VLOOKUP(NK26,MATCHSELEVES!$Y$14:$AF$600,8,FALSE),0)","v":0},{"$f":"IFERROR(VLOOKUP(NK26,MATCHSELEVES!$Y$14:$AG$600,9,FALSE),0)","v":0},"Maëvap_21",{"$f":"IFERROR(VLOOKUP(NQ26,MATCHSELEVES!$Y$14:$AE$600,3,FALSE),0)","v":0},{"$f":"IFERROR(VLOOKUP(NQ26,MATCHSELEVES!$Y$14:$AE$600,4,FALSE),0)","v":0},{"$f":"IFERROR(VLOOKUP(NQ26,MATCHSELEVES!$Y$14:$AE$600,5,FALSE),0)","v":0},{"$f":"IFERROR(VLOOKUP(NQ26,MATCHSELEVES!$Y$14:$AF$600,8,FALSE),0)","v":0},{"$f":"IFERROR(VLOOKUP(NQ26,MATCHSELEVES!$Y$14:$AG$600,9,FALSE),0)","v":0},"Maëvap_22",{"$f":"IFERROR(VLOOKUP(NW26,MATCHSELEVES!$Y$14:$AE$600,3,FALSE),0)","v":0},{"$f":"IFERROR(VLOOKUP(NW26,MATCHSELEVES!$Y$14:$AE$600,4,FALSE),0)","v":0},{"$f":"IFERROR(VLOOKUP(NW26,MATCHSELEVES!$Y$14:$AE$600,5,FALSE),0)","v":0},{"$f":"IFERROR(VLOOKUP(NW26,MATCHSELEVES!$Y$14:$AF$600,8,FALSE),0)","v":0},{"$f":"IFERROR(VLOOKUP(NW26,MATCHSELEVES!$Y$14:$AG$600,9,FALSE),0)","v":0},"Maëvap_23",{"$f":"IFERROR(VLOOKUP(OC26,MATCHSELEVES!$Y$14:$AE$600,3,FALSE),0)","v":0},{"$f":"IFERROR(VLOOKUP(OC26,MATCHSELEVES!$Y$14:$AE$600,4,FALSE),0)","v":0},{"$f":"IFERROR(VLOOKUP(OC26,MATCHSELEVES!$Y$14:$AE$600,5,FALSE),0)","v":0},{"$f":"IFERROR(VLOOKUP(OC26,MATCHSELEVES!$Y$14:$AF$600,8,FALSE),0)","v":0},{"$f":"IFERROR(VLOOKUP(OC26,MATCHSELEVES!$Y$14:$AG$600,9,FALSE),0)","v":0},"Maëvap_24",{"$f":"IFERROR(VLOOKUP(OI26,MATCHSELEVES!$Y$14:$AE$600,3,FALSE),0)","v":0},{"$f":"IFERROR(VLOOKUP(OI26,MATCHSELEVES!$Y$14:$AE$600,4,FALSE),0)","v":0},{"$f":"IFERROR(VLOOKUP(OI26,MATCHSELEVES!$Y$14:$AE$600,5,FALSE),0)","v":0},{"$f":"IFERROR(VLOOKUP(OI26,MATCHSELEVES!$Y$14:$AF$600,8,FALSE),0)","v":0},{"$f":"IFERROR(VLOOKUP(OI26,MATCHSELEVES!$Y$14:$AG$600,9,FALSE),0)","v":0},"Maëvap_25",{"$f":"IFERROR(VLOOKUP(OO26,MATCHSELEVES!$Y$14:$AE$600,3,FALSE),0)","v":0},{"$f":"IFERROR(VLOOKUP(OO26,MATCHSELEVES!$Y$14:$AE$600,4,FALSE),0)","v":0},{"$f":"IFERROR(VLOOKUP(OO26,MATCHSELEVES!$Y$14:$AE$600,5,FALSE),0)","v":0},{"$f":"IFERROR(VLOOKUP(OO26,MATCHSELEVES!$Y$14:$AF$600,8,FALSE),0)","v":0},{"$f":"IFERROR(VLOOKUP(OO26,MATCHSELEVES!$Y$14:$AG$600,9,FALSE),0)","v":0},"Maëvap_26",{"$f":"IFERROR(VLOOKUP(OU26,MATCHSELEVES!$Y$14:$AE$600,3,FALSE),0)","v":0},{"$f":"IFERROR(VLOOKUP(OU26,MATCHSELEVES!$Y$14:$AE$600,4,FALSE),0)","v":0},{"$f":"IFERROR(VLOOKUP(OU26,MATCHSELEVES!$Y$14:$AE$600,5,FALSE),0)","v":0},{"$f":"IFERROR(VLOOKUP(OU26,MATCHSELEVES!$Y$14:$AF$600,8,FALSE),0)","v":0},{"$f":"IFERROR(VLOOKUP(OU26,MATCHSELEVES!$Y$14:$AG$600,9,FALSE),0)","v":0},"Maëvap_27",{"$f":"IFERROR(VLOOKUP(PA26,MATCHSELEVES!$Y$14:$AE$600,3,FALSE),0)","v":0},{"$f":"IFERROR(VLOOKUP(PA26,MATCHSELEVES!$Y$14:$AE$600,4,FALSE),0)","v":0},{"$f":"IFERROR(VLOOKUP(PA26,MATCHSELEVES!$Y$14:$AE$600,5,FALSE),0)","v":0},{"$f":"IFERROR(VLOOKUP(PA26,MATCHSELEVES!$Y$14:$AF$600,8,FALSE),0)","v":0},{"$f":"IFERROR(VLOOKUP(PA26,MATCHSELEVES!$Y$14:$AG$600,9,FALSE),0)","v":0},"Maëvap_28",{"$f":"IFERROR(VLOOKUP(PG26,MATCHSELEVES!$Y$14:$AE$600,3,FALSE),0)","v":0},{"$f":"IFERROR(VLOOKUP(PG26,MATCHSELEVES!$Y$14:$AE$600,4,FALSE),0)","v":0},{"$f":"IFERROR(VLOOKUP(PG26,MATCHSELEVES!$Y$14:$AE$600,5,FALSE),0)","v":0},{"$f":"IFERROR(VLOOKUP(PG26,MATCHSELEVES!$Y$14:$AF$600,8,FALSE),0)","v":0},{"$f":"IFERROR(VLOOKUP(PG26,MATCHSELEVES!$Y$14:$AG$600,9,FALSE),0)","v":0},"Maëvap_29",{"$f":"IFERROR(VLOOKUP(PM26,MATCHSELEVES!$Y$14:$AE$600,3,FALSE),0)","v":0},{"$f":"IFERROR(VLOOKUP(PM26,MATCHSELEVES!$Y$14:$AE$600,4,FALSE),0)","v":0},{"$f":"IFERROR(VLOOKUP(PM26,MATCHSELEVES!$Y$14:$AE$600,5,FALSE),0)","v":0},{"$f":"IFERROR(VLOOKUP(PM26,MATCHSELEVES!$Y$14:$AF$600,8,FALSE),0)","v":0},{"$f":"IFERROR(VLOOKUP(PM26,MATCHSELEVES!$Y$14:$AG$600,9,FALSE),0)","v":0},"Maëvap_30",{"$f":"IFERROR(VLOOKUP(PS26,MATCHSELEVES!$Y$14:$AE$600,3,FALSE),0)","v":0},{"$f":"IFERROR(VLOOKUP(PS26,MATCHSELEVES!$Y$14:$AE$600,4,FALSE),0)","v":0},{"$f":"IFERROR(VLOOKUP(PS26,MATCHSELEVES!$Y$14:$AE$600,5,FALSE),0)","v":0},{"$f":"IFERROR(VLOOKUP(PS26,MATCHSELEVES!$Y$14:$AF$600,8,FALSE),0)","v":0},{"$f":"IFERROR(VLOOKUP(PS26,MATCHSELEVES!$Y$14:$AG$600,9,FALSE),0)","v":0},"Maëvap_31",{"$f":"IFERROR(VLOOKUP(PY26,MATCHSELEVES!$Y$14:$AE$600,3,FALSE),0)","v":0},{"$f":"IFERROR(VLOOKUP(PY26,MATCHSELEVES!$Y$14:$AE$600,4,FALSE),0)","v":0},{"$f":"IFERROR(VLOOKUP(PY26,MATCHSELEVES!$Y$14:$AE$600,5,FALSE),0)","v":0},{"$f":"IFERROR(VLOOKUP(PY26,MATCHSELEVES!$Y$14:$AF$600,8,FALSE),0)","v":0},{"$f":"IFERROR(VLOOKUP(PY26,MATCHSELEVES!$Y$14:$AG$600,9,FALSE),0)","v":0},"Maëvap_32",{"$f":"IFERROR(VLOOKUP(QE26,MATCHSELEVES!$Y$14:$AE$600,3,FALSE),0)","v":0},{"$f":"IFERROR(VLOOKUP(QE26,MATCHSELEVES!$Y$14:$AE$600,4,FALSE),0)","v":0},{"$f":"IFERROR(VLOOKUP(QE26,MATCHSELEVES!$Y$14:$AE$600,5,FALSE),0)","v":0},{"$f":"IFERROR(VLOOKUP(QE26,MATCHSELEVES!$Y$14:$AF$600,8,FALSE),0)","v":0},{"$f":"IFERROR(VLOOKUP(QE26,MATCHSELEVES!$Y$14:$AG$600,9,FALSE),0)","v":0},"Maëvap_33",{"$f":"IFERROR(VLOOKUP(QK26,MATCHSELEVES!$Y$14:$AE$600,3,FALSE),0)","v":0},{"$f":"IFERROR(VLOOKUP(QK26,MATCHSELEVES!$Y$14:$AE$600,4,FALSE),0)","v":0},{"$f":"IFERROR(VLOOKUP(QK26,MATCHSELEVES!$Y$14:$AE$600,5,FALSE),0)","v":0},{"$f":"IFERROR(VLOOKUP(QK26,MATCHSELEVES!$Y$14:$AF$600,8,FALSE),0)","v":0},{"$f":"IFERROR(VLOOKUP(QK26,MATCHSELEVES!$Y$14:$AG$600,9,FALSE),0)","v":0},"Maëvap_34",{"$f":"IFERROR(VLOOKUP(QQ26,MATCHSELEVES!$Y$14:$AE$600,3,FALSE),0)","v":0},{"$f":"IFERROR(VLOOKUP(QQ26,MATCHSELEVES!$Y$14:$AE$600,4,FALSE),0)","v":0},{"$f":"IFERROR(VLOOKUP(QQ26,MATCHSELEVES!$Y$14:$AE$600,5,FALSE),0)","v":0},{"$f":"IFERROR(VLOOKUP(QQ26,MATCHSELEVES!$Y$14:$AF$600,8,FALSE),0)","v":0},{"$f":"IFERROR(VLOOKUP(QQ26,MATCHSELEVES!$Y$14:$AG$600,9,FALSE),0)","v":0},"Maëvap_35",{"$f":"IFERROR(VLOOKUP(QW26,MATCHSELEVES!$Y$14:$AE$600,3,FALSE),0)","v":0},{"$f":"IFERROR(VLOOKUP(QW26,MATCHSELEVES!$Y$14:$AE$600,4,FALSE),0)","v":0},{"$f":"IFERROR(VLOOKUP(QW26,MATCHSELEVES!$Y$14:$AE$600,5,FALSE),0)","v":0},{"$f":"IFERROR(VLOOKUP(QW26,MATCHSELEVES!$Y$14:$AF$600,8,FALSE),0)","v":0},{"$f":"IFERROR(VLOOKUP(QW26,MATCHSELEVES!$Y$14:$AG$600,9,FALSE),0)","v":0},"Maëvap_36",{"$f":"IFERROR(VLOOKUP(RC26,MATCHSELEVES!$Y$14:$AE$600,3,FALSE),0)","v":0},{"$f":"IFERROR(VLOOKUP(RC26,MATCHSELEVES!$Y$14:$AE$600,4,FALSE),0)","v":0},{"$f":"IFERROR(VLOOKUP(RC26,MATCHSELEVES!$Y$14:$AE$600,5,FALSE),0)","v":0},{"$f":"IFERROR(VLOOKUP(RC26,MATCHSELEVES!$Y$14:$AF$600,8,FALSE),0)","v":0},{"$f":"IFERROR(VLOOKUP(RC26,MATCHSELEVES!$Y$14:$AG$600,9,FALSE),0)","v":0},"Maëvap_37",{"$f":"IFERROR(VLOOKUP(RI26,MATCHSELEVES!$Y$14:$AE$600,3,FALSE),0)","v":0},{"$f":"IFERROR(VLOOKUP(RI26,MATCHSELEVES!$Y$14:$AE$600,4,FALSE),0)","v":0},{"$f":"IFERROR(VLOOKUP(RI26,MATCHSELEVES!$Y$14:$AE$600,5,FALSE),0)","v":0},{"$f":"IFERROR(VLOOKUP(RI26,MATCHSELEVES!$Y$14:$AF$600,8,FALSE),0)","v":0},{"$f":"IFERROR(VLOOKUP(RI26,MATCHSELEVES!$Y$14:$AG$600,9,FALSE),0)","v":0},"Maëvap_38",{"$f":"IFERROR(VLOOKUP(RO26,MATCHSELEVES!$Y$14:$AE$600,3,FALSE),0)","v":0},{"$f":"IFERROR(VLOOKUP(RO26,MATCHSELEVES!$Y$14:$AE$600,4,FALSE),0)","v":0},{"$f":"IFERROR(VLOOKUP(RO26,MATCHSELEVES!$Y$14:$AE$600,5,FALSE),0)","v":0},{"$f":"IFERROR(VLOOKUP(RO26,MATCHSELEVES!$Y$14:$AF$600,8,FALSE),0)","v":0},{"$f":"IFERROR(VLOOKUP(RO26,MATCHSELEVES!$Y$14:$AG$600,9,FALSE),0)","v":0},"Maëvap_39",{"$f":"IFERROR(VLOOKUP(RU26,MATCHSELEVES!$Y$14:$AE$600,3,FALSE),0)","v":0},{"$f":"IFERROR(VLOOKUP(RU26,MATCHSELEVES!$Y$14:$AE$600,4,FALSE),0)","v":0},{"$f":"IFERROR(VLOOKUP(RU26,MATCHSELEVES!$Y$14:$AE$600,5,FALSE),0)","v":0},{"$f":"IFERROR(VLOOKUP(RU26,MATCHSELEVES!$Y$14:$AF$600,8,FALSE),0)","v":0},{"$f":"IFERROR(VLOOKUP(RU26,MATCHSELEVES!$Y$14:$AG$600,9,FALSE),0)","v":0},"Maëvap_40",{"$f":"IFERROR(VLOOKUP(SA26,MATCHSELEVES!$Y$14:$AE$600,3,FALSE),0)","v":0},{"$f":"IFERROR(VLOOKUP(SA26,MATCHSELEVES!$Y$14:$AE$600,4,FALSE),0)","v":0},{"$f":"IFERROR(VLOOKUP(SA26,MATCHSELEVES!$Y$14:$AE$600,5,FALSE),0)","v":0},{"$f":"IFERROR(VLOOKUP(SA26,MATCHSELEVES!$Y$14:$AF$600,8,FALSE),0)","v":0},{"$f":"IFERROR(VLOOKUP(SA26,MATCHSELEVES!$Y$14:$AG$600,9,FALSE),0)","v":0}]
[24,null,"Maïssa",24,null,null,{"$f":"COUNTIF(MATCHSELEVES!$Z$14:$Z$600,C27)+COUNTIF(MATCHSELEVES!$Z$14:$Z$600,$C27&\"p\")","v":0},1,{"$f":"COUNTIF(MATCHSELEVES!$F$14:$H$249,C27)","v":0},1,0,1,{"$f":"IFERROR(M70/Tableau10[[#This Row],[Nombre de matchs joués]],0)","v":0},{"$f":"IF(Tableau10[[#This Row],[Nombre de points encaissés]]=0,$C$45,SUMPRODUCT((M$4:M$43<M27)*(M$4:M$43<>0))+1)","v":40},0,1,{"$f":"(Tableau10[[#This Row],[CLASSEMENT1]]+Tableau10[[#This Row],[CLASSEMENT2]]+Tableau10[[#This Row],[CLASSEMENT3]]+Tableau10[[#This Row],[CLASSEMENT4]]+Tableau10[[#This Row],[CLASSEMENT5]]+Tableau10[[#This Row],[CLASSEMENT6]])/6","v":11.333333333333334},{"$f":"RANK(Tableau10[[#This Row],[MOYENNE CLASSEMENTS]],Tableau10[MOYENNE CLASSEMENTS],1)","v":24},null,{"$f":"Tableau10[[#This Row],[CLASSEMENT1]]","v":24},"Maïssa_1",{"$f":"IFERROR(VLOOKUP(U27,MATCHSELEVES!$Y$14:$AE$600,3,FALSE),0)","v":0},{"$f":"IFERROR(VLOOKUP(U27,MATCHSELEVES!$Y$14:$AE$600,4,FALSE),0)","v":0},{"$f":"IFERROR(VLOOKUP(U27,MATCHSELEVES!$Y$14:$AE$600,5,FALSE),0)","v":0},{"$f":"IFERROR(VLOOKUP(U27,MATCHSELEVES!$Y$14:$AF$600,8,FALSE),0)","v":0},{"$f":"IFERROR(VLOOKUP(U27,MATCHSELEVES!$Y$14:$AG$600,9,FALSE),0)","v":0},"Maïssa_2",{"$f":"IFERROR(VLOOKUP(AA27,MATCHSELEVES!$Y$14:$AE$600,3,FALSE),0)","v":0},{"$f":"IFERROR(VLOOKUP(AA27,MATCHSELEVES!$Y$14:$AE$600,4,FALSE),0)","v":0},{"$f":"IFERROR(VLOOKUP(AA27,MATCHSELEVES!$Y$14:$AE$600,5,FALSE),0)","v":0},{"$f":"IFERROR(VLOOKUP(AA27,MATCHSELEVES!$Y$14:$AF$600,8,FALSE),0)","v":0},{"$f":"IFERROR(VLOOKUP(AA27,MATCHSELEVES!$Y$14:$AG$600,9,FALSE),0)","v":0},"Maïssa_3",{"$f":"IFERROR(VLOOKUP(AG27,MATCHSELEVES!$Y$14:$AE$600,3,FALSE),0)","v":0},{"$f":"IFERROR(VLOOKUP(AG27,MATCHSELEVES!$Y$14:$AE$600,4,FALSE),0)","v":0},{"$f":"IFERROR(VLOOKUP(AG27,MATCHSELEVES!$Y$14:$AE$600,5,FALSE),0)","v":0},{"$f":"IFERROR(VLOOKUP(AG27,MATCHSELEVES!$Y$14:$AF$600,8,FALSE),0)","v":0},{"$f":"IFERROR(VLOOKUP(AG27,MATCHSELEVES!$Y$14:$AG$600,9,FALSE),0)","v":0},"Maïssa_4",{"$f":"IFERROR(VLOOKUP(AM27,MATCHSELEVES!$Y$14:$AE$600,3,FALSE),0)","v":0},{"$f":"IFERROR(VLOOKUP(AM27,MATCHSELEVES!$Y$14:$AE$600,4,FALSE),0)","v":0},{"$f":"IFERROR(VLOOKUP(AM27,MATCHSELEVES!$Y$14:$AE$600,5,FALSE),0)","v":0},{"$f":"IFERROR(VLOOKUP(AM27,MATCHSELEVES!$Y$14:$AF$600,8,FALSE),0)","v":0},{"$f":"IFERROR(VLOOKUP(AM27,MATCHSELEVES!$Y$14:$AG$600,9,FALSE),0)","v":0},"Maïssa_5",{"$f":"IFERROR(VLOOKUP(AS27,MATCHSELEVES!$Y$14:$AE$600,3,FALSE),0)","v":0},{"$f":"IFERROR(VLOOKUP(AS27,MATCHSELEVES!$Y$14:$AE$600,4,FALSE),0)","v":0},{"$f":"IFERROR(VLOOKUP(AS27,MATCHSELEVES!$Y$14:$AE$600,5,FALSE),0)","v":0},{"$f":"IFERROR(VLOOKUP(AS27,MATCHSELEVES!$Y$14:$AF$600,8,FALSE),0)","v":0},{"$f":"IFERROR(VLOOKUP(AS27,MATCHSELEVES!$Y$14:$AG$600,9,FALSE),0)","v":0},"Maïssa_6",{"$f":"IFERROR(VLOOKUP(AY27,MATCHSELEVES!$Y$14:$AE$600,3,FALSE),0)","v":0},{"$f":"IFERROR(VLOOKUP(AY27,MATCHSELEVES!$Y$14:$AE$600,4,FALSE),0)","v":0},{"$f":"IFERROR(VLOOKUP(AY27,MATCHSELEVES!$Y$14:$AE$600,5,FALSE),0)","v":0},{"$f":"IFERROR(VLOOKUP(AY27,MATCHSELEVES!$Y$14:$AF$600,8,FALSE),0)","v":0},{"$f":"IFERROR(VLOOKUP(AY27,MATCHSELEVES!$Y$14:$AG$600,9,FALSE),0)","v":0},"Maïssa_7",{"$f":"IFERROR(VLOOKUP(BE27,MATCHSELEVES!$Y$14:$AE$600,3,FALSE),0)","v":0},{"$f":"IFERROR(VLOOKUP(BE27,MATCHSELEVES!$Y$14:$AE$600,4,FALSE),0)","v":0},{"$f":"IFERROR(VLOOKUP(BE27,MATCHSELEVES!$Y$14:$AE$600,5,FALSE),0)","v":0},{"$f":"IFERROR(VLOOKUP(BE27,MATCHSELEVES!$Y$14:$AF$600,8,FALSE),0)","v":0},{"$f":"IFERROR(VLOOKUP(BE27,MATCHSELEVES!$Y$14:$AG$600,9,FALSE),0)","v":0},"Maïssa_8",{"$f":"IFERROR(VLOOKUP(BK27,MATCHSELEVES!$Y$14:$AE$600,3,FALSE),0)","v":0},{"$f":"IFERROR(VLOOKUP(BK27,MATCHSELEVES!$Y$14:$AE$600,4,FALSE),0)","v":0},{"$f":"IFERROR(VLOOKUP(BK27,MATCHSELEVES!$Y$14:$AE$600,5,FALSE),0)","v":0},{"$f":"IFERROR(VLOOKUP(BK27,MATCHSELEVES!$Y$14:$AF$600,8,FALSE),0)","v":0},{"$f":"IFERROR(VLOOKUP(BK27,MATCHSELEVES!$Y$14:$AG$600,9,FALSE),0)","v":0},"Maïssa_9",{"$f":"IFERROR(VLOOKUP(BQ27,MATCHSELEVES!$Y$14:$AE$600,3,FALSE),0)","v":0},{"$f":"IFERROR(VLOOKUP(BQ27,MATCHSELEVES!$Y$14:$AE$600,4,FALSE),0)","v":0},{"$f":"IFERROR(VLOOKUP(BQ27,MATCHSELEVES!$Y$14:$AE$600,5,FALSE),0)","v":0},{"$f":"IFERROR(VLOOKUP(BQ27,MATCHSELEVES!$Y$14:$AF$600,8,FALSE),0)","v":0},{"$f":"IFERROR(VLOOKUP(BQ27,MATCHSELEVES!$Y$14:$AG$600,9,FALSE),0)","v":0},"Maïssa_10",{"$f":"IFERROR(VLOOKUP(BW27,MATCHSELEVES!$Y$14:$AE$600,3,FALSE),0)","v":0},{"$f":"IFERROR(VLOOKUP(BW27,MATCHSELEVES!$Y$14:$AE$600,4,FALSE),0)","v":0},{"$f":"IFERROR(VLOOKUP(BW27,MATCHSELEVES!$Y$14:$AE$600,5,FALSE),0)","v":0},{"$f":"IFERROR(VLOOKUP(BW27,MATCHSELEVES!$Y$14:$AF$600,8,FALSE),0)","v":0},{"$f":"IFERROR(VLOOKUP(BW27,MATCHSELEVES!$Y$14:$AG$600,9,FALSE),0)","v":0},"Maïssa_11",{"$f":"IFERROR(VLOOKUP(CC27,MATCHSELEVES!$Y$14:$AE$600,3,FALSE),0)","v":0},{"$f":"IFERROR(VLOOKUP(CC27,MATCHSELEVES!$Y$14:$AE$600,4,FALSE),0)","v":0},{"$f":"IFERROR(VLOOKUP(CC27,MATCHSELEVES!$Y$14:$AE$600,5,FALSE),0)","v":0},{"$f":"IFERROR(VLOOKUP(CC27,MATCHSELEVES!$Y$14:$AF$600,8,FALSE),0)","v":0},{"$f":"IFERROR(VLOOKUP(CC27,MATCHSELEVES!$Y$14:$AG$600,9,FALSE),0)","v":0},"Maïssa_12",{"$f":"IFERROR(VLOOKUP(CI27,MATCHSELEVES!$Y$14:$AE$600,3,FALSE),0)","v":0},{"$f":"IFERROR(VLOOKUP(CI27,MATCHSELEVES!$Y$14:$AE$600,4,FALSE),0)","v":0},{"$f":"IFERROR(VLOOKUP(CI27,MATCHSELEVES!$Y$14:$AE$600,5,FALSE),0)","v":0},{"$f":"IFERROR(VLOOKUP(CI27,MATCHSELEVES!$Y$14:$AF$600,8,FALSE),0)","v":0},{"$f":"IFERROR(VLOOKUP(CI27,MATCHSELEVES!$Y$14:$AG$600,9,FALSE),0)","v":0},"Maïssa_13",{"$f":"IFERROR(VLOOKUP(CO27,MATCHSELEVES!$Y$14:$AE$600,3,FALSE),0)","v":0},{"$f":"IFERROR(VLOOKUP(CO27,MATCHSELEVES!$Y$14:$AE$600,4,FALSE),0)","v":0},{"$f":"IFERROR(VLOOKUP(CO27,MATCHSELEVES!$Y$14:$AE$600,5,FALSE),0)","v":0},{"$f":"IFERROR(VLOOKUP(CO27,MATCHSELEVES!$Y$14:$AF$600,8,FALSE),0)","v":0},{"$f":"IFERROR(VLOOKUP(CO27,MATCHSELEVES!$Y$14:$AG$600,9,FALSE),0)","v":0},"Maïssa_14",{"$f":"IFERROR(VLOOKUP(CU27,MATCHSELEVES!$Y$14:$AE$600,3,FALSE),0)","v":0},{"$f":"IFERROR(VLOOKUP(CU27,MATCHSELEVES!$Y$14:$AE$600,4,FALSE),0)","v":0},{"$f":"IFERROR(VLOOKUP(CU27,MATCHSELEVES!$Y$14:$AE$600,5,FALSE),0)","v":0},{"$f":"IFERROR(VLOOKUP(CU27,MATCHSELEVES!$Y$14:$AF$600,8,FALSE),0)","v":0},{"$f":"IFERROR(VLOOKUP(CU27,MATCHSELEVES!$Y$14:$AG$600,9,FALSE),0)","v":0},"Maïssa_15",{"$f":"IFERROR(VLOOKUP(DA27,MATCHSELEVES!$Y$14:$AE$600,3,FALSE),0)","v":0},{"$f":"IFERROR(VLOOKUP(DA27,MATCHSELEVES!$Y$14:$AE$600,4,FALSE),0)","v":0},{"$f":"IFERROR(VLOOKUP(DA27,MATCHSELEVES!$Y$14:$AE$600,5,FALSE),0)","v":0},{"$f":"IFERROR(VLOOKUP(DA27,MATCHSELEVES!$Y$14:$AF$600,8,FALSE),0)","v":0},{"$f":"IFERROR(VLOOKUP(DA27,MATCHSELEVES!$Y$14:$AG$600,9,FALSE),0)","v":0},"Maïssa_16",{"$f":"IFERROR(VLOOKUP(DG27,MATCHSELEVES!$Y$14:$AE$600,3,FALSE),0)","v":0},{"$f":"IFERROR(VLOOKUP(DG27,MATCHSELEVES!$Y$14:$AE$600,4,FALSE),0)","v":0},{"$f":"IFERROR(VLOOKUP(DG27,MATCHSELEVES!$Y$14:$AE$600,5,FALSE),0)","v":0},{"$f":"IFERROR(VLOOKUP(DG27,MATCHSELEVES!$Y$14:$AF$600,8,FALSE),0)","v":0},{"$f":"IFERROR(VLOOKUP(DG27,MATCHSELEVES!$Y$14:$AG$600,9,FALSE),0)","v":0},"Maïssa_17",{"$f":"IFERROR(VLOOKUP(DM27,MATCHSELEVES!$Y$14:$AE$600,3,FALSE),0)","v":0},{"$f":"IFERROR(VLOOKUP(DM27,MATCHSELEVES!$Y$14:$AE$600,4,FALSE),0)","v":0},{"$f":"IFERROR(VLOOKUP(DM27,MATCHSELEVES!$Y$14:$AE$600,5,FALSE),0)","v":0},{"$f":"IFERROR(VLOOKUP(DM27,MATCHSELEVES!$Y$14:$AF$600,8,FALSE),0)","v":0},{"$f":"IFERROR(VLOOKUP(DM27,MATCHSELEVES!$Y$14:$AG$600,9,FALSE),0)","v":0},"Maïssa_18",{"$f":"IFERROR(VLOOKUP(DS27,MATCHSELEVES!$Y$14:$AE$600,3,FALSE),0)","v":0},{"$f":"IFERROR(VLOOKUP(DS27,MATCHSELEVES!$Y$14:$AE$600,4,FALSE),0)","v":0},{"$f":"IFERROR(VLOOKUP(DS27,MATCHSELEVES!$Y$14:$AE$600,5,FALSE),0)","v":0},{"$f":"IFERROR(VLOOKUP(DS27,MATCHSELEVES!$Y$14:$AF$600,8,FALSE),0)","v":0},{"$f":"IFERROR(VLOOKUP(DS27,MATCHSELEVES!$Y$14:$AG$600,9,FALSE),0)","v":0},"Maïssa_19",{"$f":"IFERROR(VLOOKUP(DY27,MATCHSELEVES!$Y$14:$AE$600,3,FALSE),0)","v":0},{"$f":"IFERROR(VLOOKUP(DY27,MATCHSELEVES!$Y$14:$AE$600,4,FALSE),0)","v":0},{"$f":"IFERROR(VLOOKUP(DY27,MATCHSELEVES!$Y$14:$AE$600,5,FALSE),0)","v":0},{"$f":"IFERROR(VLOOKUP(DY27,MATCHSELEVES!$Y$14:$AF$600,8,FALSE),0)","v":0},{"$f":"IFERROR(VLOOKUP(DY27,MATCHSELEVES!$Y$14:$AG$600,9,FALSE),0)","v":0},"Maïssa_20",{"$f":"IFERROR(VLOOKUP(EE27,MATCHSELEVES!$Y$14:$AE$600,3,FALSE),0)","v":0},{"$f":"IFERROR(VLOOKUP(EE27,MATCHSELEVES!$Y$14:$AE$600,4,FALSE),0)","v":0},{"$f":"IFERROR(VLOOKUP(EE27,MATCHSELEVES!$Y$14:$AE$600,5,FALSE),0)","v":0},{"$f":"IFERROR(VLOOKUP(EE27,MATCHSELEVES!$Y$14:$AF$600,8,FALSE),0)","v":0},{"$f":"IFERROR(VLOOKUP(EE27,MATCHSELEVES!$Y$14:$AG$600,9,FALSE),0)","v":0},"Maïssa_21",{"$f":"IFERROR(VLOOKUP(EK27,MATCHSELEVES!$Y$14:$AE$600,3,FALSE),0)","v":0},{"$f":"IFERROR(VLOOKUP(EK27,MATCHSELEVES!$Y$14:$AE$600,4,FALSE),0)","v":0},{"$f":"IFERROR(VLOOKUP(EK27,MATCHSELEVES!$Y$14:$AE$600,5,FALSE),0)","v":0},{"$f":"IFERROR(VLOOKUP(EK27,MATCHSELEVES!$Y$14:$AF$600,8,FALSE),0)","v":0},{"$f":"IFERROR(VLOOKUP(EK27,MATCHSELEVES!$Y$14:$AG$600,9,FALSE),0)","v":0},"Maïssa_22",{"$f":"IFERROR(VLOOKUP(EQ27,MATCHSELEVES!$Y$14:$AE$600,3,FALSE),0)","v":0},{"$f":"IFERROR(VLOOKUP(EQ27,MATCHSELEVES!$Y$14:$AE$600,4,FALSE),0)","v":0},{"$f":"IFERROR(VLOOKUP(EQ27,MATCHSELEVES!$Y$14:$AE$600,5,FALSE),0)","v":0},{"$f":"IFERROR(VLOOKUP(EQ27,MATCHSELEVES!$Y$14:$AF$600,8,FALSE),0)","v":0},{"$f":"IFERROR(VLOOKUP(EQ27,MATCHSELEVES!$Y$14:$AG$600,9,FALSE),0)","v":0},"Maïssa_23",{"$f":"IFERROR(VLOOKUP(EW27,MATCHSELEVES!$Y$14:$AE$600,3,FALSE),0)","v":0},{"$f":"IFERROR(VLOOKUP(EW27,MATCHSELEVES!$Y$14:$AE$600,4,FALSE),0)","v":0},{"$f":"IFERROR(VLOOKUP(EW27,MATCHSELEVES!$Y$14:$AE$600,5,FALSE),0)","v":0},{"$f":"IFERROR(VLOOKUP(EW27,MATCHSELEVES!$Y$14:$AF$600,8,FALSE),0)","v":0},{"$f":"IFERROR(VLOOKUP(EW27,MATCHSELEVES!$Y$14:$AG$600,9,FALSE),0)","v":0},"Maïssa_24",{"$f":"IFERROR(VLOOKUP(FC27,MATCHSELEVES!$Y$14:$AE$600,3,FALSE),0)","v":0},{"$f":"IFERROR(VLOOKUP(FC27,MATCHSELEVES!$Y$14:$AE$600,4,FALSE),0)","v":0},{"$f":"IFERROR(VLOOKUP(FC27,MATCHSELEVES!$Y$14:$AE$600,5,FALSE),0)","v":0},{"$f":"IFERROR(VLOOKUP(FC27,MATCHSELEVES!$Y$14:$AF$600,8,FALSE),0)","v":0},{"$f":"IFERROR(VLOOKUP(FC27,MATCHSELEVES!$Y$14:$AG$600,9,FALSE),0)","v":0},"Maïssa_25",{"$f":"IFERROR(VLOOKUP(FI27,MATCHSELEVES!$Y$14:$AE$600,3,FALSE),0)","v":0},{"$f":"IFERROR(VLOOKUP(FI27,MATCHSELEVES!$Y$14:$AE$600,4,FALSE),0)","v":0},{"$f":"IFERROR(VLOOKUP(FI27,MATCHSELEVES!$Y$14:$AE$600,5,FALSE),0)","v":0},{"$f":"IFERROR(VLOOKUP(FI27,MATCHSELEVES!$Y$14:$AF$600,8,FALSE),0)","v":0},{"$f":"IFERROR(VLOOKUP(FI27,MATCHSELEVES!$Y$14:$AG$600,9,FALSE),0)","v":0},"Maïssa_26",{"$f":"IFERROR(VLOOKUP(FO27,MATCHSELEVES!$Y$14:$AE$600,3,FALSE),0)","v":0},{"$f":"IFERROR(VLOOKUP(FO27,MATCHSELEVES!$Y$14:$AE$600,4,FALSE),0)","v":0},{"$f":"IFERROR(VLOOKUP(FO27,MATCHSELEVES!$Y$14:$AE$600,5,FALSE),0)","v":0},{"$f":"IFERROR(VLOOKUP(FO27,MATCHSELEVES!$Y$14:$AF$600,8,FALSE),0)","v":0},{"$f":"IFERROR(VLOOKUP(FO27,MATCHSELEVES!$Y$14:$AG$600,9,FALSE),0)","v":0},"Maïssa_27",{"$f":"IFERROR(VLOOKUP(FU27,MATCHSELEVES!$Y$14:$AE$600,3,FALSE),0)","v":0},{"$f":"IFERROR(VLOOKUP(FU27,MATCHSELEVES!$Y$14:$AE$600,4,FALSE),0)","v":0},{"$f":"IFERROR(VLOOKUP(FU27,MATCHSELEVES!$Y$14:$AE$600,5,FALSE),0)","v":0},{"$f":"IFERROR(VLOOKUP(FU27,MATCHSELEVES!$Y$14:$AF$600,8,FALSE),0)","v":0},{"$f":"IFERROR(VLOOKUP(FU27,MATCHSELEVES!$Y$14:$AG$600,9,FALSE),0)","v":0},"Maïssa_28",{"$f":"IFERROR(VLOOKUP(GA27,MATCHSELEVES!$Y$14:$AE$600,3,FALSE),0)","v":0},{"$f":"IFERROR(VLOOKUP(GA27,MATCHSELEVES!$Y$14:$AE$600,4,FALSE),0)","v":0},{"$f":"IFERROR(VLOOKUP(GA27,MATCHSELEVES!$Y$14:$AE$600,5,FALSE),0)","v":0},{"$f":"IFERROR(VLOOKUP(GA27,MATCHSELEVES!$Y$14:$AF$600,8,FALSE),0)","v":0},{"$f":"IFERROR(VLOOKUP(GA27,MATCHSELEVES!$Y$14:$AG$600,9,FALSE),0)","v":0},"Maïssa_29",{"$f":"IFERROR(VLOOKUP(GG27,MATCHSELEVES!$Y$14:$AE$600,3,FALSE),0)","v":0},{"$f":"IFERROR(VLOOKUP(GG27,MATCHSELEVES!$Y$14:$AE$600,4,FALSE),0)","v":0},{"$f":"IFERROR(VLOOKUP(GG27,MATCHSELEVES!$Y$14:$AE$600,5,FALSE),0)","v":0},{"$f":"IFERROR(VLOOKUP(GG27,MATCHSELEVES!$Y$14:$AF$600,8,FALSE),0)","v":0},{"$f":"IFERROR(VLOOKUP(GG27,MATCHSELEVES!$Y$14:$AG$600,9,FALSE),0)","v":0},"Maïssa_30",{"$f":"IFERROR(VLOOKUP(GM27,MATCHSELEVES!$Y$14:$AE$600,3,FALSE),0)","v":0},{"$f":"IFERROR(VLOOKUP(GM27,MATCHSELEVES!$Y$14:$AE$600,4,FALSE),0)","v":0},{"$f":"IFERROR(VLOOKUP(GM27,MATCHSELEVES!$Y$14:$AE$600,5,FALSE),0)","v":0},{"$f":"IFERROR(VLOOKUP(GM27,MATCHSELEVES!$Y$14:$AF$600,8,FALSE),0)","v":0},{"$f":"IFERROR(VLOOKUP(GM27,MATCHSELEVES!$Y$14:$AG$600,9,FALSE),0)","v":0},"Maïssa_31",{"$f":"IFERROR(VLOOKUP(GS27,MATCHSELEVES!$Y$14:$AE$600,3,FALSE),0)","v":0},{"$f":"IFERROR(VLOOKUP(GS27,MATCHSELEVES!$Y$14:$AE$600,4,FALSE),0)","v":0},{"$f":"IFERROR(VLOOKUP(GS27,MATCHSELEVES!$Y$14:$AE$600,5,FALSE),0)","v":0},{"$f":"IFERROR(VLOOKUP(GS27,MATCHSELEVES!$Y$14:$AF$600,8,FALSE),0)","v":0},{"$f":"IFERROR(VLOOKUP(GS27,MATCHSELEVES!$Y$14:$AG$600,9,FALSE),0)","v":0},"Maïssa_32",{"$f":"IFERROR(VLOOKUP(GY27,MATCHSELEVES!$Y$14:$AE$600,3,FALSE),0)","v":0},{"$f":"IFERROR(VLOOKUP(GY27,MATCHSELEVES!$Y$14:$AE$600,4,FALSE),0)","v":0},{"$f":"IFERROR(VLOOKUP(GY27,MATCHSELEVES!$Y$14:$AE$600,5,FALSE),0)","v":0},{"$f":"IFERROR(VLOOKUP(GY27,MATCHSELEVES!$Y$14:$AF$600,8,FALSE),0)","v":0},{"$f":"IFERROR(VLOOKUP(GY27,MATCHSELEVES!$Y$14:$AG$600,9,FALSE),0)","v":0},"Maïssa_33",{"$f":"IFERROR(VLOOKUP(HE27,MATCHSELEVES!$Y$14:$AE$600,3,FALSE),0)","v":0},{"$f":"IFERROR(VLOOKUP(HE27,MATCHSELEVES!$Y$14:$AE$600,4,FALSE),0)","v":0},{"$f":"IFERROR(VLOOKUP(HE27,MATCHSELEVES!$Y$14:$AE$600,5,FALSE),0)","v":0},{"$f":"IFERROR(VLOOKUP(HE27,MATCHSELEVES!$Y$14:$AF$600,8,FALSE),0)","v":0},{"$f":"IFERROR(VLOOKUP(HE27,MATCHSELEVES!$Y$14:$AG$600,9,FALSE),0)","v":0},"Maïssa_34",{"$f":"IFERROR(VLOOKUP(HK27,MATCHSELEVES!$Y$14:$AE$600,3,FALSE),0)","v":0},{"$f":"IFERROR(VLOOKUP(HK27,MATCHSELEVES!$Y$14:$AE$600,4,FALSE),0)","v":0},{"$f":"IFERROR(VLOOKUP(HK27,MATCHSELEVES!$Y$14:$AE$600,5,FALSE),0)","v":0},{"$f":"IFERROR(VLOOKUP(HK27,MATCHSELEVES!$Y$14:$AF$600,8,FALSE),0)","v":0},{"$f":"IFERROR(VLOOKUP(HK27,MATCHSELEVES!$Y$14:$AG$600,9,FALSE),0)","v":0},"Maïssa_35",{"$f":"IFERROR(VLOOKUP(HQ27,MATCHSELEVES!$Y$14:$AE$600,3,FALSE),0)","v":0},{"$f":"IFERROR(VLOOKUP(HQ27,MATCHSELEVES!$Y$14:$AE$600,4,FALSE),0)","v":0},{"$f":"IFERROR(VLOOKUP(HQ27,MATCHSELEVES!$Y$14:$AE$600,5,FALSE),0)","v":0},{"$f":"IFERROR(VLOOKUP(HQ27,MATCHSELEVES!$Y$14:$AF$600,8,FALSE),0)","v":0},{"$f":"IFERROR(VLOOKUP(HQ27,MATCHSELEVES!$Y$14:$AG$600,9,FALSE),0)","v":0},"Maïssa_36",{"$f":"IFERROR(VLOOKUP(HW27,MATCHSELEVES!$Y$14:$AE$600,3,FALSE),0)","v":0},{"$f":"IFERROR(VLOOKUP(HW27,MATCHSELEVES!$Y$14:$AE$600,4,FALSE),0)","v":0},{"$f":"IFERROR(VLOOKUP(HW27,MATCHSELEVES!$Y$14:$AE$600,5,FALSE),0)","v":0},{"$f":"IFERROR(VLOOKUP(HW27,MATCHSELEVES!$Y$14:$AF$600,8,FALSE),0)","v":0},{"$f":"IFERROR(VLOOKUP(HW27,MATCHSELEVES!$Y$14:$AG$600,9,FALSE),0)","v":0},"Maïssa_37",{"$f":"IFERROR(VLOOKUP(IC27,MATCHSELEVES!$Y$14:$AE$600,3,FALSE),0)","v":0},{"$f":"IFERROR(VLOOKUP(IC27,MATCHSELEVES!$Y$14:$AE$600,4,FALSE),0)","v":0},{"$f":"IFERROR(VLOOKUP(IC27,MATCHSELEVES!$Y$14:$AE$600,5,FALSE),0)","v":0},{"$f":"IFERROR(VLOOKUP(IC27,MATCHSELEVES!$Y$14:$AF$600,8,FALSE),0)","v":0},{"$f":"IFERROR(VLOOKUP(IC27,MATCHSELEVES!$Y$14:$AG$600,9,FALSE),0)","v":0},"Maïssa_38",{"$f":"IFERROR(VLOOKUP(II27,MATCHSELEVES!$Y$14:$AE$600,3,FALSE),0)","v":0},{"$f":"IFERROR(VLOOKUP(II27,MATCHSELEVES!$Y$14:$AE$600,4,FALSE),0)","v":0},{"$f":"IFERROR(VLOOKUP(II27,MATCHSELEVES!$Y$14:$AE$600,5,FALSE),0)","v":0},{"$f":"IFERROR(VLOOKUP(II27,MATCHSELEVES!$Y$14:$AF$600,8,FALSE),0)","v":0},{"$f":"IFERROR(VLOOKUP(II27,MATCHSELEVES!$Y$14:$AG$600,9,FALSE),0)","v":0},"Maïssa_39",{"$f":"IFERROR(VLOOKUP(IO27,MATCHSELEVES!$Y$14:$AE$600,3,FALSE),0)","v":0},{"$f":"IFERROR(VLOOKUP(IO27,MATCHSELEVES!$Y$14:$AE$600,4,FALSE),0)","v":0},{"$f":"IFERROR(VLOOKUP(IO27,MATCHSELEVES!$Y$14:$AE$600,5,FALSE),0)","v":0},{"$f":"IFERROR(VLOOKUP(IO27,MATCHSELEVES!$Y$14:$AF$600,8,FALSE),0)","v":0},{"$f":"IFERROR(VLOOKUP(IO27,MATCHSELEVES!$Y$14:$AG$600,9,FALSE),0)","v":0},"Maïssa_40",{"$f":"IFERROR(VLOOKUP(IU27,MATCHSELEVES!$Y$14:$AE$600,3,FALSE),0)","v":0},{"$f":"IFERROR(VLOOKUP(IU27,MATCHSELEVES!$Y$14:$AE$600,4,FALSE),0)","v":0},{"$f":"IFERROR(VLOOKUP(IU27,MATCHSELEVES!$Y$14:$AE$600,5,FALSE),0)","v":0},{"$f":"IFERROR(VLOOKUP(IU27,MATCHSELEVES!$Y$14:$AF$600,8,FALSE),0)","v":0},{"$f":"IFERROR(VLOOKUP(IU27,MATCHSELEVES!$Y$14:$AG$600,9,FALSE),0)","v":0},"Maïssap_1",{"$f":"IFERROR(VLOOKUP(JA27,MATCHSELEVES!$Y$14:$AE$600,3,FALSE),0)","v":0},{"$f":"IFERROR(VLOOKUP(JA27,MATCHSELEVES!$Y$14:$AE$600,4,FALSE),0)","v":0},{"$f":"IFERROR(VLOOKUP(JA27,MATCHSELEVES!$Y$14:$AE$600,5,FALSE),0)","v":0},{"$f":"IFERROR(VLOOKUP(JA27,MATCHSELEVES!$Y$14:$AF$600,8,FALSE),0)","v":0},{"$f":"IFERROR(VLOOKUP(JA27,MATCHSELEVES!$Y$14:$AG$600,9,FALSE),0)","v":0},"Maïssap_2",{"$f":"IFERROR(VLOOKUP(JG27,MATCHSELEVES!$Y$14:$AE$600,3,FALSE),0)","v":0},{"$f":"IFERROR(VLOOKUP(JG27,MATCHSELEVES!$Y$14:$AE$600,4,FALSE),0)","v":0},{"$f":"IFERROR(VLOOKUP(JG27,MATCHSELEVES!$Y$14:$AE$600,5,FALSE),0)","v":0},{"$f":"IFERROR(VLOOKUP(JG27,MATCHSELEVES!$Y$14:$AF$600,8,FALSE),0)","v":0},{"$f":"IFERROR(VLOOKUP(JG27,MATCHSELEVES!$Y$14:$AG$600,9,FALSE),0)","v":0},"Maïssap_3",{"$f":"IFERROR(VLOOKUP(JM27,MATCHSELEVES!$Y$14:$AE$600,3,FALSE),0)","v":0},{"$f":"IFERROR(VLOOKUP(JM27,MATCHSELEVES!$Y$14:$AE$600,4,FALSE),0)","v":0},{"$f":"IFERROR(VLOOKUP(JM27,MATCHSELEVES!$Y$14:$AE$600,5,FALSE),0)","v":0},{"$f":"IFERROR(VLOOKUP(JM27,MATCHSELEVES!$Y$14:$AF$600,8,FALSE),0)","v":0},{"$f":"IFERROR(VLOOKUP(JM27,MATCHSELEVES!$Y$14:$AG$600,9,FALSE),0)","v":0},"Maïssap_4",{"$f":"IFERROR(VLOOKUP(JS27,MATCHSELEVES!$Y$14:$AE$600,3,FALSE),0)","v":0},{"$f":"IFERROR(VLOOKUP(JS27,MATCHSELEVES!$Y$14:$AE$600,4,FALSE),0)","v":0},{"$f":"IFERROR(VLOOKUP(JS27,MATCHSELEVES!$Y$14:$AE$600,5,FALSE),0)","v":0},{"$f":"IFERROR(VLOOKUP(JS27,MATCHSELEVES!$Y$14:$AF$600,8,FALSE),0)","v":0},{"$f":"IFERROR(VLOOKUP(JS27,MATCHSELEVES!$Y$14:$AG$600,9,FALSE),0)","v":0},"Maïssap_5",{"$f":"IFERROR(VLOOKUP(JY27,MATCHSELEVES!$Y$14:$AE$600,3,FALSE),0)","v":0},{"$f":"IFERROR(VLOOKUP(JY27,MATCHSELEVES!$Y$14:$AE$600,4,FALSE),0)","v":0},{"$f":"IFERROR(VLOOKUP(JY27,MATCHSELEVES!$Y$14:$AE$600,5,FALSE),0)","v":0},{"$f":"IFERROR(VLOOKUP(JY27,MATCHSELEVES!$Y$14:$AF$600,8,FALSE),0)","v":0},{"$f":"IFERROR(VLOOKUP(JY27,MATCHSELEVES!$Y$14:$AG$600,9,FALSE),0)","v":0},"Maïssap_6",{"$f":"IFERROR(VLOOKUP(KE27,MATCHSELEVES!$Y$14:$AE$600,3,FALSE),0)","v":0},{"$f":"IFERROR(VLOOKUP(KE27,MATCHSELEVES!$Y$14:$AE$600,4,FALSE),0)","v":0},{"$f":"IFERROR(VLOOKUP(KE27,MATCHSELEVES!$Y$14:$AE$600,5,FALSE),0)","v":0},{"$f":"IFERROR(VLOOKUP(KE27,MATCHSELEVES!$Y$14:$AF$600,8,FALSE),0)","v":0},{"$f":"IFERROR(VLOOKUP(KE27,MATCHSELEVES!$Y$14:$AG$600,9,FALSE),0)","v":0},"Maïssap_7",{"$f":"IFERROR(VLOOKUP(KK27,MATCHSELEVES!$Y$14:$AE$600,3,FALSE),0)","v":0},{"$f":"IFERROR(VLOOKUP(KK27,MATCHSELEVES!$Y$14:$AE$600,4,FALSE),0)","v":0},{"$f":"IFERROR(VLOOKUP(KK27,MATCHSELEVES!$Y$14:$AE$600,5,FALSE),0)","v":0},{"$f":"IFERROR(VLOOKUP(KK27,MATCHSELEVES!$Y$14:$AF$600,8,FALSE),0)","v":0},{"$f":"IFERROR(VLOOKUP(KK27,MATCHSELEVES!$Y$14:$AG$600,9,FALSE),0)","v":0},"Maïssap_8",{"$f":"IFERROR(VLOOKUP(KQ27,MATCHSELEVES!$Y$14:$AE$600,3,FALSE),0)","v":0},{"$f":"IFERROR(VLOOKUP(KQ27,MATCHSELEVES!$Y$14:$AE$600,4,FALSE),0)","v":0},{"$f":"IFERROR(VLOOKUP(KQ27,MATCHSELEVES!$Y$14:$AE$600,5,FALSE),0)","v":0},{"$f":"IFERROR(VLOOKUP(KQ27,MATCHSELEVES!$Y$14:$AF$600,8,FALSE),0)","v":0},{"$f":"IFERROR(VLOOKUP(KQ27,MATCHSELEVES!$Y$14:$AG$600,9,FALSE),0)","v":0},"Maïssap_9",{"$f":"IFERROR(VLOOKUP(KW27,MATCHSELEVES!$Y$14:$AE$600,3,FALSE),0)","v":0},{"$f":"IFERROR(VLOOKUP(KW27,MATCHSELEVES!$Y$14:$AE$600,4,FALSE),0)","v":0},{"$f":"IFERROR(VLOOKUP(KW27,MATCHSELEVES!$Y$14:$AE$600,5,FALSE),0)","v":0},{"$f":"IFERROR(VLOOKUP(KW27,MATCHSELEVES!$Y$14:$AF$600,8,FALSE),0)","v":0},{"$f":"IFERROR(VLOOKUP(KW27,MATCHSELEVES!$Y$14:$AG$600,9,FALSE),0)","v":0},"Maïssap_10",{"$f":"IFERROR(VLOOKUP(LC27,MATCHSELEVES!$Y$14:$AE$600,3,FALSE),0)","v":0},{"$f":"IFERROR(VLOOKUP(LC27,MATCHSELEVES!$Y$14:$AE$600,4,FALSE),0)","v":0},{"$f":"IFERROR(VLOOKUP(LC27,MATCHSELEVES!$Y$14:$AE$600,5,FALSE),0)","v":0},{"$f":"IFERROR(VLOOKUP(LC27,MATCHSELEVES!$Y$14:$AF$600,8,FALSE),0)","v":0},{"$f":"IFERROR(VLOOKUP(LC27,MATCHSELEVES!$Y$14:$AG$600,9,FALSE),0)","v":0},"Maïssap_11",{"$f":"IFERROR(VLOOKUP(LI27,MATCHSELEVES!$Y$14:$AE$600,3,FALSE),0)","v":0},{"$f":"IFERROR(VLOOKUP(LI27,MATCHSELEVES!$Y$14:$AE$600,4,FALSE),0)","v":0},{"$f":"IFERROR(VLOOKUP(LI27,MATCHSELEVES!$Y$14:$AE$600,5,FALSE),0)","v":0},{"$f":"IFERROR(VLOOKUP(LI27,MATCHSELEVES!$Y$14:$AF$600,8,FALSE),0)","v":0},{"$f":"IFERROR(VLOOKUP(LI27,MATCHSELEVES!$Y$14:$AG$600,9,FALSE),0)","v":0},"Maïssap_12",{"$f":"IFERROR(VLOOKUP(LO27,MATCHSELEVES!$Y$14:$AE$600,3,FALSE),0)","v":0},{"$f":"IFERROR(VLOOKUP(LO27,MATCHSELEVES!$Y$14:$AE$600,4,FALSE),0)","v":0},{"$f":"IFERROR(VLOOKUP(LO27,MATCHSELEVES!$Y$14:$AE$600,5,FALSE),0)","v":0},{"$f":"IFERROR(VLOOKUP(LO27,MATCHSELEVES!$Y$14:$AF$600,8,FALSE),0)","v":0},{"$f":"IFERROR(VLOOKUP(LO27,MATCHSELEVES!$Y$14:$AG$600,9,FALSE),0)","v":0},"Maïssap_13",{"$f":"IFERROR(VLOOKUP(LU27,MATCHSELEVES!$Y$14:$AE$600,3,FALSE),0)","v":0},{"$f":"IFERROR(VLOOKUP(LU27,MATCHSELEVES!$Y$14:$AE$600,4,FALSE),0)","v":0},{"$f":"IFERROR(VLOOKUP(LU27,MATCHSELEVES!$Y$14:$AE$600,5,FALSE),0)","v":0},{"$f":"IFERROR(VLOOKUP(LU27,MATCHSELEVES!$Y$14:$AF$600,8,FALSE),0)","v":0},{"$f":"IFERROR(VLOOKUP(LU27,MATCHSELEVES!$Y$14:$AG$600,9,FALSE),0)","v":0},"Maïssap_14",{"$f":"IFERROR(VLOOKUP(MA27,MATCHSELEVES!$Y$14:$AE$600,3,FALSE),0)","v":0},{"$f":"IFERROR(VLOOKUP(MA27,MATCHSELEVES!$Y$14:$AE$600,4,FALSE),0)","v":0},{"$f":"IFERROR(VLOOKUP(MA27,MATCHSELEVES!$Y$14:$AE$600,5,FALSE),0)","v":0},{"$f":"IFERROR(VLOOKUP(MA27,MATCHSELEVES!$Y$14:$AF$600,8,FALSE),0)","v":0},{"$f":"IFERROR(VLOOKUP(MA27,MATCHSELEVES!$Y$14:$AG$600,9,FALSE),0)","v":0},"Maïssap_15",{"$f":"IFERROR(VLOOKUP(MG27,MATCHSELEVES!$Y$14:$AE$600,3,FALSE),0)","v":0},{"$f":"IFERROR(VLOOKUP(MG27,MATCHSELEVES!$Y$14:$AE$600,4,FALSE),0)","v":0},{"$f":"IFERROR(VLOOKUP(MG27,MATCHSELEVES!$Y$14:$AE$600,5,FALSE),0)","v":0},{"$f":"IFERROR(VLOOKUP(MG27,MATCHSELEVES!$Y$14:$AF$600,8,FALSE),0)","v":0},{"$f":"IFERROR(VLOOKUP(MG27,MATCHSELEVES!$Y$14:$AG$600,9,FALSE),0)","v":0},"Maïssap_16",{"$f":"IFERROR(VLOOKUP(MM27,MATCHSELEVES!$Y$14:$AE$600,3,FALSE),0)","v":0},{"$f":"IFERROR(VLOOKUP(MM27,MATCHSELEVES!$Y$14:$AE$600,4,FALSE),0)","v":0},{"$f":"IFERROR(VLOOKUP(MM27,MATCHSELEVES!$Y$14:$AE$600,5,FALSE),0)","v":0},{"$f":"IFERROR(VLOOKUP(MM27,MATCHSELEVES!$Y$14:$AF$600,8,FALSE),0)","v":0},{"$f":"IFERROR(VLOOKUP(MM27,MATCHSELEVES!$Y$14:$AG$600,9,FALSE),0)","v":0},"Maïssap_17",{"$f":"IFERROR(VLOOKUP(MS27,MATCHSELEVES!$Y$14:$AE$600,3,FALSE),0)","v":0},{"$f":"IFERROR(VLOOKUP(MS27,MATCHSELEVES!$Y$14:$AE$600,4,FALSE),0)","v":0},{"$f":"IFERROR(VLOOKUP(MS27,MATCHSELEVES!$Y$14:$AE$600,5,FALSE),0)","v":0},{"$f":"IFERROR(VLOOKUP(MS27,MATCHSELEVES!$Y$14:$AF$600,8,FALSE),0)","v":0},{"$f":"IFERROR(VLOOKUP(MS27,MATCHSELEVES!$Y$14:$AG$600,9,FALSE),0)","v":0},"Maïssap_18",{"$f":"IFERROR(VLOOKUP(MY27,MATCHSELEVES!$Y$14:$AE$600,3,FALSE),0)","v":0},{"$f":"IFERROR(VLOOKUP(MY27,MATCHSELEVES!$Y$14:$AE$600,4,FALSE),0)","v":0},{"$f":"IFERROR(VLOOKUP(MY27,MATCHSELEVES!$Y$14:$AE$600,5,FALSE),0)","v":0},{"$f":"IFERROR(VLOOKUP(MY27,MATCHSELEVES!$Y$14:$AF$600,8,FALSE),0)","v":0},{"$f":"IFERROR(VLOOKUP(MY27,MATCHSELEVES!$Y$14:$AG$600,9,FALSE),0)","v":0},"Maïssap_19",{"$f":"IFERROR(VLOOKUP(NE27,MATCHSELEVES!$Y$14:$AE$600,3,FALSE),0)","v":0},{"$f":"IFERROR(VLOOKUP(NE27,MATCHSELEVES!$Y$14:$AE$600,4,FALSE),0)","v":0},{"$f":"IFERROR(VLOOKUP(NE27,MATCHSELEVES!$Y$14:$AE$600,5,FALSE),0)","v":0},{"$f":"IFERROR(VLOOKUP(NE27,MATCHSELEVES!$Y$14:$AF$600,8,FALSE),0)","v":0},{"$f":"IFERROR(VLOOKUP(NE27,MATCHSELEVES!$Y$14:$AG$600,9,FALSE),0)","v":0},"Maïssap_20",{"$f":"IFERROR(VLOOKUP(NK27,MATCHSELEVES!$Y$14:$AE$600,3,FALSE),0)","v":0},{"$f":"IFERROR(VLOOKUP(NK27,MATCHSELEVES!$Y$14:$AE$600,4,FALSE),0)","v":0},{"$f":"IFERROR(VLOOKUP(NK27,MATCHSELEVES!$Y$14:$AE$600,5,FALSE),0)","v":0},{"$f":"IFERROR(VLOOKUP(NK27,MATCHSELEVES!$Y$14:$AF$600,8,FALSE),0)","v":0},{"$f":"IFERROR(VLOOKUP(NK27,MATCHSELEVES!$Y$14:$AG$600,9,FALSE),0)","v":0},"Maïssap_21",{"$f":"IFERROR(VLOOKUP(NQ27,MATCHSELEVES!$Y$14:$AE$600,3,FALSE),0)","v":0},{"$f":"IFERROR(VLOOKUP(NQ27,MATCHSELEVES!$Y$14:$AE$600,4,FALSE),0)","v":0},{"$f":"IFERROR(VLOOKUP(NQ27,MATCHSELEVES!$Y$14:$AE$600,5,FALSE),0)","v":0},{"$f":"IFERROR(VLOOKUP(NQ27,MATCHSELEVES!$Y$14:$AF$600,8,FALSE),0)","v":0},{"$f":"IFERROR(VLOOKUP(NQ27,MATCHSELEVES!$Y$14:$AG$600,9,FALSE),0)","v":0},"Maïssap_22",{"$f":"IFERROR(VLOOKUP(NW27,MATCHSELEVES!$Y$14:$AE$600,3,FALSE),0)","v":0},{"$f":"IFERROR(VLOOKUP(NW27,MATCHSELEVES!$Y$14:$AE$600,4,FALSE),0)","v":0},{"$f":"IFERROR(VLOOKUP(NW27,MATCHSELEVES!$Y$14:$AE$600,5,FALSE),0)","v":0},{"$f":"IFERROR(VLOOKUP(NW27,MATCHSELEVES!$Y$14:$AF$600,8,FALSE),0)","v":0},{"$f":"IFERROR(VLOOKUP(NW27,MATCHSELEVES!$Y$14:$AG$600,9,FALSE),0)","v":0},"Maïssap_23",{"$f":"IFERROR(VLOOKUP(OC27,MATCHSELEVES!$Y$14:$AE$600,3,FALSE),0)","v":0},{"$f":"IFERROR(VLOOKUP(OC27,MATCHSELEVES!$Y$14:$AE$600,4,FALSE),0)","v":0},{"$f":"IFERROR(VLOOKUP(OC27,MATCHSELEVES!$Y$14:$AE$600,5,FALSE),0)","v":0},{"$f":"IFERROR(VLOOKUP(OC27,MATCHSELEVES!$Y$14:$AF$600,8,FALSE),0)","v":0},{"$f":"IFERROR(VLOOKUP(OC27,MATCHSELEVES!$Y$14:$AG$600,9,FALSE),0)","v":0},"Maïssap_24",{"$f":"IFERROR(VLOOKUP(OI27,MATCHSELEVES!$Y$14:$AE$600,3,FALSE),0)","v":0},{"$f":"IFERROR(VLOOKUP(OI27,MATCHSELEVES!$Y$14:$AE$600,4,FALSE),0)","v":0},{"$f":"IFERROR(VLOOKUP(OI27,MATCHSELEVES!$Y$14:$AE$600,5,FALSE),0)","v":0},{"$f":"IFERROR(VLOOKUP(OI27,MATCHSELEVES!$Y$14:$AF$600,8,FALSE),0)","v":0},{"$f":"IFERROR(VLOOKUP(OI27,MATCHSELEVES!$Y$14:$AG$600,9,FALSE),0)","v":0},"Maïssap_25",{"$f":"IFERROR(VLOOKUP(OO27,MATCHSELEVES!$Y$14:$AE$600,3,FALSE),0)","v":0},{"$f":"IFERROR(VLOOKUP(OO27,MATCHSELEVES!$Y$14:$AE$600,4,FALSE),0)","v":0},{"$f":"IFERROR(VLOOKUP(OO27,MATCHSELEVES!$Y$14:$AE$600,5,FALSE),0)","v":0},{"$f":"IFERROR(VLOOKUP(OO27,MATCHSELEVES!$Y$14:$AF$600,8,FALSE),0)","v":0},{"$f":"IFERROR(VLOOKUP(OO27,MATCHSELEVES!$Y$14:$AG$600,9,FALSE),0)","v":0},"Maïssap_26",{"$f":"IFERROR(VLOOKUP(OU27,MATCHSELEVES!$Y$14:$AE$600,3,FALSE),0)","v":0},{"$f":"IFERROR(VLOOKUP(OU27,MATCHSELEVES!$Y$14:$AE$600,4,FALSE),0)","v":0},{"$f":"IFERROR(VLOOKUP(OU27,MATCHSELEVES!$Y$14:$AE$600,5,FALSE),0)","v":0},{"$f":"IFERROR(VLOOKUP(OU27,MATCHSELEVES!$Y$14:$AF$600,8,FALSE),0)","v":0},{"$f":"IFERROR(VLOOKUP(OU27,MATCHSELEVES!$Y$14:$AG$600,9,FALSE),0)","v":0},"Maïssap_27",{"$f":"IFERROR(VLOOKUP(PA27,MATCHSELEVES!$Y$14:$AE$600,3,FALSE),0)","v":0},{"$f":"IFERROR(VLOOKUP(PA27,MATCHSELEVES!$Y$14:$AE$600,4,FALSE),0)","v":0},{"$f":"IFERROR(VLOOKUP(PA27,MATCHSELEVES!$Y$14:$AE$600,5,FALSE),0)","v":0},{"$f":"IFERROR(VLOOKUP(PA27,MATCHSELEVES!$Y$14:$AF$600,8,FALSE),0)","v":0},{"$f":"IFERROR(VLOOKUP(PA27,MATCHSELEVES!$Y$14:$AG$600,9,FALSE),0)","v":0},"Maïssap_28",{"$f":"IFERROR(VLOOKUP(PG27,MATCHSELEVES!$Y$14:$AE$600,3,FALSE),0)","v":0},{"$f":"IFERROR(VLOOKUP(PG27,MATCHSELEVES!$Y$14:$AE$600,4,FALSE),0)","v":0},{"$f":"IFERROR(VLOOKUP(PG27,MATCHSELEVES!$Y$14:$AE$600,5,FALSE),0)","v":0},{"$f":"IFERROR(VLOOKUP(PG27,MATCHSELEVES!$Y$14:$AF$600,8,FALSE),0)","v":0},{"$f":"IFERROR(VLOOKUP(PG27,MATCHSELEVES!$Y$14:$AG$600,9,FALSE),0)","v":0},"Maïssap_29",{"$f":"IFERROR(VLOOKUP(PM27,MATCHSELEVES!$Y$14:$AE$600,3,FALSE),0)","v":0},{"$f":"IFERROR(VLOOKUP(PM27,MATCHSELEVES!$Y$14:$AE$600,4,FALSE),0)","v":0},{"$f":"IFERROR(VLOOKUP(PM27,MATCHSELEVES!$Y$14:$AE$600,5,FALSE),0)","v":0},{"$f":"IFERROR(VLOOKUP(PM27,MATCHSELEVES!$Y$14:$AF$600,8,FALSE),0)","v":0},{"$f":"IFERROR(VLOOKUP(PM27,MATCHSELEVES!$Y$14:$AG$600,9,FALSE),0)","v":0},"Maïssap_30",{"$f":"IFERROR(VLOOKUP(PS27,MATCHSELEVES!$Y$14:$AE$600,3,FALSE),0)","v":0},{"$f":"IFERROR(VLOOKUP(PS27,MATCHSELEVES!$Y$14:$AE$600,4,FALSE),0)","v":0},{"$f":"IFERROR(VLOOKUP(PS27,MATCHSELEVES!$Y$14:$AE$600,5,FALSE),0)","v":0},{"$f":"IFERROR(VLOOKUP(PS27,MATCHSELEVES!$Y$14:$AF$600,8,FALSE),0)","v":0},{"$f":"IFERROR(VLOOKUP(PS27,MATCHSELEVES!$Y$14:$AG$600,9,FALSE),0)","v":0},"Maïssap_31",{"$f":"IFERROR(VLOOKUP(PY27,MATCHSELEVES!$Y$14:$AE$600,3,FALSE),0)","v":0},{"$f":"IFERROR(VLOOKUP(PY27,MATCHSELEVES!$Y$14:$AE$600,4,FALSE),0)","v":0},{"$f":"IFERROR(VLOOKUP(PY27,MATCHSELEVES!$Y$14:$AE$600,5,FALSE),0)","v":0},{"$f":"IFERROR(VLOOKUP(PY27,MATCHSELEVES!$Y$14:$AF$600,8,FALSE),0)","v":0},{"$f":"IFERROR(VLOOKUP(PY27,MATCHSELEVES!$Y$14:$AG$600,9,FALSE),0)","v":0},"Maïssap_32",{"$f":"IFERROR(VLOOKUP(QE27,MATCHSELEVES!$Y$14:$AE$600,3,FALSE),0)","v":0},{"$f":"IFERROR(VLOOKUP(QE27,MATCHSELEVES!$Y$14:$AE$600,4,FALSE),0)","v":0},{"$f":"IFERROR(VLOOKUP(QE27,MATCHSELEVES!$Y$14:$AE$600,5,FALSE),0)","v":0},{"$f":"IFERROR(VLOOKUP(QE27,MATCHSELEVES!$Y$14:$AF$600,8,FALSE),0)","v":0},{"$f":"IFERROR(VLOOKUP(QE27,MATCHSELEVES!$Y$14:$AG$600,9,FALSE),0)","v":0},"Maïssap_33",{"$f":"IFERROR(VLOOKUP(QK27,MATCHSELEVES!$Y$14:$AE$600,3,FALSE),0)","v":0},{"$f":"IFERROR(VLOOKUP(QK27,MATCHSELEVES!$Y$14:$AE$600,4,FALSE),0)","v":0},{"$f":"IFERROR(VLOOKUP(QK27,MATCHSELEVES!$Y$14:$AE$600,5,FALSE),0)","v":0},{"$f":"IFERROR(VLOOKUP(QK27,MATCHSELEVES!$Y$14:$AF$600,8,FALSE),0)","v":0},{"$f":"IFERROR(VLOOKUP(QK27,MATCHSELEVES!$Y$14:$AG$600,9,FALSE),0)","v":0},"Maïssap_34",{"$f":"IFERROR(VLOOKUP(QQ27,MATCHSELEVES!$Y$14:$AE$600,3,FALSE),0)","v":0},{"$f":"IFERROR(VLOOKUP(QQ27,MATCHSELEVES!$Y$14:$AE$600,4,FALSE),0)","v":0},{"$f":"IFERROR(VLOOKUP(QQ27,MATCHSELEVES!$Y$14:$AE$600,5,FALSE),0)","v":0},{"$f":"IFERROR(VLOOKUP(QQ27,MATCHSELEVES!$Y$14:$AF$600,8,FALSE),0)","v":0},{"$f":"IFERROR(VLOOKUP(QQ27,MATCHSELEVES!$Y$14:$AG$600,9,FALSE),0)","v":0},"Maïssap_35",{"$f":"IFERROR(VLOOKUP(QW27,MATCHSELEVES!$Y$14:$AE$600,3,FALSE),0)","v":0},{"$f":"IFERROR(VLOOKUP(QW27,MATCHSELEVES!$Y$14:$AE$600,4,FALSE),0)","v":0},{"$f":"IFERROR(VLOOKUP(QW27,MATCHSELEVES!$Y$14:$AE$600,5,FALSE),0)","v":0},{"$f":"IFERROR(VLOOKUP(QW27,MATCHSELEVES!$Y$14:$AF$600,8,FALSE),0)","v":0},{"$f":"IFERROR(VLOOKUP(QW27,MATCHSELEVES!$Y$14:$AG$600,9,FALSE),0)","v":0},"Maïssap_36",{"$f":"IFERROR(VLOOKUP(RC27,MATCHSELEVES!$Y$14:$AE$600,3,FALSE),0)","v":0},{"$f":"IFERROR(VLOOKUP(RC27,MATCHSELEVES!$Y$14:$AE$600,4,FALSE),0)","v":0},{"$f":"IFERROR(VLOOKUP(RC27,MATCHSELEVES!$Y$14:$AE$600,5,FALSE),0)","v":0},{"$f":"IFERROR(VLOOKUP(RC27,MATCHSELEVES!$Y$14:$AF$600,8,FALSE),0)","v":0},{"$f":"IFERROR(VLOOKUP(RC27,MATCHSELEVES!$Y$14:$AG$600,9,FALSE),0)","v":0},"Maïssap_37",{"$f":"IFERROR(VLOOKUP(RI27,MATCHSELEVES!$Y$14:$AE$600,3,FALSE),0)","v":0},{"$f":"IFERROR(VLOOKUP(RI27,MATCHSELEVES!$Y$14:$AE$600,4,FALSE),0)","v":0},{"$f":"IFERROR(VLOOKUP(RI27,MATCHSELEVES!$Y$14:$AE$600,5,FALSE),0)","v":0},{"$f":"IFERROR(VLOOKUP(RI27,MATCHSELEVES!$Y$14:$AF$600,8,FALSE),0)","v":0},{"$f":"IFERROR(VLOOKUP(RI27,MATCHSELEVES!$Y$14:$AG$600,9,FALSE),0)","v":0},"Maïssap_38",{"$f":"IFERROR(VLOOKUP(RO27,MATCHSELEVES!$Y$14:$AE$600,3,FALSE),0)","v":0},{"$f":"IFERROR(VLOOKUP(RO27,MATCHSELEVES!$Y$14:$AE$600,4,FALSE),0)","v":0},{"$f":"IFERROR(VLOOKUP(RO27,MATCHSELEVES!$Y$14:$AE$600,5,FALSE),0)","v":0},{"$f":"IFERROR(VLOOKUP(RO27,MATCHSELEVES!$Y$14:$AF$600,8,FALSE),0)","v":0},{"$f":"IFERROR(VLOOKUP(RO27,MATCHSELEVES!$Y$14:$AG$600,9,FALSE),0)","v":0},"Maïssap_39",{"$f":"IFERROR(VLOOKUP(RU27,MATCHSELEVES!$Y$14:$AE$600,3,FALSE),0)","v":0},{"$f":"IFERROR(VLOOKUP(RU27,MATCHSELEVES!$Y$14:$AE$600,4,FALSE),0)","v":0},{"$f":"IFERROR(VLOOKUP(RU27,MATCHSELEVES!$Y$14:$AE$600,5,FALSE),0)","v":0},{"$f":"IFERROR(VLOOKUP(RU27,MATCHSELEVES!$Y$14:$AF$600,8,FALSE),0)","v":0},{"$f":"IFERROR(VLOOKUP(RU27,MATCHSELEVES!$Y$14:$AG$600,9,FALSE),0)","v":0},"Maïssap_40",{"$f":"IFERROR(VLOOKUP(SA27,MATCHSELEVES!$Y$14:$AE$600,3,FALSE),0)","v":0},{"$f":"IFERROR(VLOOKUP(SA27,MATCHSELEVES!$Y$14:$AE$600,4,FALSE),0)","v":0},{"$f":"IFERROR(VLOOKUP(SA27,MATCHSELEVES!$Y$14:$AE$600,5,FALSE),0)","v":0},{"$f":"IFERROR(VLOOKUP(SA27,MATCHSELEVES!$Y$14:$AF$600,8,FALSE),0)","v":0},{"$f":"IFERROR(VLOOKUP(SA27,MATCHSELEVES!$Y$14:$AG$600,9,FALSE),0)","v":0}]
[25,null,"Megi",25,null,null,{"$f":"COUNTIF(MATCHSELEVES!$Z$14:$Z$600,C28)+COUNTIF(MATCHSELEVES!$Z$14:$Z$600,$C28&\"p\")","v":0},1,{"$f":"COUNTIF(MATCHSELEVES!$F$14:$H$249,C28)","v":0},1,0,1,{"$f":"IFERROR(M71/Tableau10[[#This Row],[Nombre de matchs joués]],0)","v":0},{"$f":"IF(Tableau10[[#This Row],[Nombre de points encaissés]]=0,$C$45,SUMPRODUCT((M$4:M$43<M28)*(M$4:M$43<>0))+1)","v":40},0,1,{"$f":"(Tableau10[[#This Row],[CLASSEMENT1]]+Tableau10[[#This Row],[CLASSEMENT2]]+Tableau10[[#This Row],[CLASSEMENT3]]+Tableau10[[#This Row],[CLASSEMENT4]]+Tableau10[[#This Row],[CLASSEMENT5]]+Tableau10[[#This Row],[CLASSEMENT6]])/6","v":11.5},{"$f":"RANK(Tableau10[[#This Row],[MOYENNE CLASSEMENTS]],Tableau10[MOYENNE CLASSEMENTS],1)","v":25},null,{"$f":"Tableau10[[#This Row],[CLASSEMENT1]]","v":25},"Megi_1",{"$f":"IFERROR(VLOOKUP(U28,MATCHSELEVES!$Y$14:$AE$600,3,FALSE),0)","v":0},{"$f":"IFERROR(VLOOKUP(U28,MATCHSELEVES!$Y$14:$AE$600,4,FALSE),0)","v":0},{"$f":"IFERROR(VLOOKUP(U28,MATCHSELEVES!$Y$14:$AE$600,5,FALSE),0)","v":0},{"$f":"IFERROR(VLOOKUP(U28,MATCHSELEVES!$Y$14:$AF$600,8,FALSE),0)","v":0},{"$f":"IFERROR(VLOOKUP(U28,MATCHSELEVES!$Y$14:$AG$600,9,FALSE),0)","v":0},"Megi_2",{"$f":"IFERROR(VLOOKUP(AA28,MATCHSELEVES!$Y$14:$AE$600,3,FALSE),0)","v":0},{"$f":"IFERROR(VLOOKUP(AA28,MATCHSELEVES!$Y$14:$AE$600,4,FALSE),0)","v":0},{"$f":"IFERROR(VLOOKUP(AA28,MATCHSELEVES!$Y$14:$AE$600,5,FALSE),0)","v":0},{"$f":"IFERROR(VLOOKUP(AA28,MATCHSELEVES!$Y$14:$AF$600,8,FALSE),0)","v":0},{"$f":"IFERROR(VLOOKUP(AA28,MATCHSELEVES!$Y$14:$AG$600,9,FALSE),0)","v":0},"Megi_3",{"$f":"IFERROR(VLOOKUP(AG28,MATCHSELEVES!$Y$14:$AE$600,3,FALSE),0)","v":0},{"$f":"IFERROR(VLOOKUP(AG28,MATCHSELEVES!$Y$14:$AE$600,4,FALSE),0)","v":0},{"$f":"IFERROR(VLOOKUP(AG28,MATCHSELEVES!$Y$14:$AE$600,5,FALSE),0)","v":0},{"$f":"IFERROR(VLOOKUP(AG28,MATCHSELEVES!$Y$14:$AF$600,8,FALSE),0)","v":0},{"$f":"IFERROR(VLOOKUP(AG28,MATCHSELEVES!$Y$14:$AG$600,9,FALSE),0)","v":0},"Megi_4",{"$f":"IFERROR(VLOOKUP(AM28,MATCHSELEVES!$Y$14:$AE$600,3,FALSE),0)","v":0},{"$f":"IFERROR(VLOOKUP(AM28,MATCHSELEVES!$Y$14:$AE$600,4,FALSE),0)","v":0},{"$f":"IFERROR(VLOOKUP(AM28,MATCHSELEVES!$Y$14:$AE$600,5,FALSE),0)","v":0},{"$f":"IFERROR(VLOOKUP(AM28,MATCHSELEVES!$Y$14:$AF$600,8,FALSE),0)","v":0},{"$f":"IFERROR(VLOOKUP(AM28,MATCHSELEVES!$Y$14:$AG$600,9,FALSE),0)","v":0},"Megi_5",{"$f":"IFERROR(VLOOKUP(AS28,MATCHSELEVES!$Y$14:$AE$600,3,FALSE),0)","v":0},{"$f":"IFERROR(VLOOKUP(AS28,MATCHSELEVES!$Y$14:$AE$600,4,FALSE),0)","v":0},{"$f":"IFERROR(VLOOKUP(AS28,MATCHSELEVES!$Y$14:$AE$600,5,FALSE),0)","v":0},{"$f":"IFERROR(VLOOKUP(AS28,MATCHSELEVES!$Y$14:$AF$600,8,FALSE),0)","v":0},{"$f":"IFERROR(VLOOKUP(AS28,MATCHSELEVES!$Y$14:$AG$600,9,FALSE),0)","v":0},"Megi_6",{"$f":"IFERROR(VLOOKUP(AY28,MATCHSELEVES!$Y$14:$AE$600,3,FALSE),0)","v":0},{"$f":"IFERROR(VLOOKUP(AY28,MATCHSELEVES!$Y$14:$AE$600,4,FALSE),0)","v":0},{"$f":"IFERROR(VLOOKUP(AY28,MATCHSELEVES!$Y$14:$AE$600,5,FALSE),0)","v":0},{"$f":"IFERROR(VLOOKUP(AY28,MATCHSELEVES!$Y$14:$AF$600,8,FALSE),0)","v":0},{"$f":"IFERROR(VLOOKUP(AY28,MATCHSELEVES!$Y$14:$AG$600,9,FALSE),0)","v":0},"Megi_7",{"$f":"IFERROR(VLOOKUP(BE28,MATCHSELEVES!$Y$14:$AE$600,3,FALSE),0)","v":0},{"$f":"IFERROR(VLOOKUP(BE28,MATCHSELEVES!$Y$14:$AE$600,4,FALSE),0)","v":0},{"$f":"IFERROR(VLOOKUP(BE28,MATCHSELEVES!$Y$14:$AE$600,5,FALSE),0)","v":0},{"$f":"IFERROR(VLOOKUP(BE28,MATCHSELEVES!$Y$14:$AF$600,8,FALSE),0)","v":0},{"$f":"IFERROR(VLOOKUP(BE28,MATCHSELEVES!$Y$14:$AG$600,9,FALSE),0)","v":0},"Megi_8",{"$f":"IFERROR(VLOOKUP(BK28,MATCHSELEVES!$Y$14:$AE$600,3,FALSE),0)","v":0},{"$f":"IFERROR(VLOOKUP(BK28,MATCHSELEVES!$Y$14:$AE$600,4,FALSE),0)","v":0},{"$f":"IFERROR(VLOOKUP(BK28,MATCHSELEVES!$Y$14:$AE$600,5,FALSE),0)","v":0},{"$f":"IFERROR(VLOOKUP(BK28,MATCHSELEVES!$Y$14:$AF$600,8,FALSE),0)","v":0},{"$f":"IFERROR(VLOOKUP(BK28,MATCHSELEVES!$Y$14:$AG$600,9,FALSE),0)","v":0},"Megi_9",{"$f":"IFERROR(VLOOKUP(BQ28,MATCHSELEVES!$Y$14:$AE$600,3,FALSE),0)","v":0},{"$f":"IFERROR(VLOOKUP(BQ28,MATCHSELEVES!$Y$14:$AE$600,4,FALSE),0)","v":0},{"$f":"IFERROR(VLOOKUP(BQ28,MATCHSELEVES!$Y$14:$AE$600,5,FALSE),0)","v":0},{"$f":"IFERROR(VLOOKUP(BQ28,MATCHSELEVES!$Y$14:$AF$600,8,FALSE),0)","v":0},{"$f":"IFERROR(VLOOKUP(BQ28,MATCHSELEVES!$Y$14:$AG$600,9,FALSE),0)","v":0},"Megi_10",{"$f":"IFERROR(VLOOKUP(BW28,MATCHSELEVES!$Y$14:$AE$600,3,FALSE),0)","v":0},{"$f":"IFERROR(VLOOKUP(BW28,MATCHSELEVES!$Y$14:$AE$600,4,FALSE),0)","v":0},{"$f":"IFERROR(VLOOKUP(BW28,MATCHSELEVES!$Y$14:$AE$600,5,FALSE),0)","v":0},{"$f":"IFERROR(VLOOKUP(BW28,MATCHSELEVES!$Y$14:$AF$600,8,FALSE),0)","v":0},{"$f":"IFERROR(VLOOKUP(BW28,MATCHSELEVES!$Y$14:$AG$600,9,FALSE),0)","v":0},"Megi_11",{"$f":"IFERROR(VLOOKUP(CC28,MATCHSELEVES!$Y$14:$AE$600,3,FALSE),0)","v":0},{"$f":"IFERROR(VLOOKUP(CC28,MATCHSELEVES!$Y$14:$AE$600,4,FALSE),0)","v":0},{"$f":"IFERROR(VLOOKUP(CC28,MATCHSELEVES!$Y$14:$AE$600,5,FALSE),0)","v":0},{"$f":"IFERROR(VLOOKUP(CC28,MATCHSELEVES!$Y$14:$AF$600,8,FALSE),0)","v":0},{"$f":"IFERROR(VLOOKUP(CC28,MATCHSELEVES!$Y$14:$AG$600,9,FALSE),0)","v":0},"Megi_12",{"$f":"IFERROR(VLOOKUP(CI28,MATCHSELEVES!$Y$14:$AE$600,3,FALSE),0)","v":0},{"$f":"IFERROR(VLOOKUP(CI28,MATCHSELEVES!$Y$14:$AE$600,4,FALSE),0)","v":0},{"$f":"IFERROR(VLOOKUP(CI28,MATCHSELEVES!$Y$14:$AE$600,5,FALSE),0)","v":0},{"$f":"IFERROR(VLOOKUP(CI28,MATCHSELEVES!$Y$14:$AF$600,8,FALSE),0)","v":0},{"$f":"IFERROR(VLOOKUP(CI28,MATCHSELEVES!$Y$14:$AG$600,9,FALSE),0)","v":0},"Megi_13",{"$f":"IFERROR(VLOOKUP(CO28,MATCHSELEVES!$Y$14:$AE$600,3,FALSE),0)","v":0},{"$f":"IFERROR(VLOOKUP(CO28,MATCHSELEVES!$Y$14:$AE$600,4,FALSE),0)","v":0},{"$f":"IFERROR(VLOOKUP(CO28,MATCHSELEVES!$Y$14:$AE$600,5,FALSE),0)","v":0},{"$f":"IFERROR(VLOOKUP(CO28,MATCHSELEVES!$Y$14:$AF$600,8,FALSE),0)","v":0},{"$f":"IFERROR(VLOOKUP(CO28,MATCHSELEVES!$Y$14:$AG$600,9,FALSE),0)","v":0},"Megi_14",{"$f":"IFERROR(VLOOKUP(CU28,MATCHSELEVES!$Y$14:$AE$600,3,FALSE),0)","v":0},{"$f":"IFERROR(VLOOKUP(CU28,MATCHSELEVES!$Y$14:$AE$600,4,FALSE),0)","v":0},{"$f":"IFERROR(VLOOKUP(CU28,MATCHSELEVES!$Y$14:$AE$600,5,FALSE),0)","v":0},{"$f":"IFERROR(VLOOKUP(CU28,MATCHSELEVES!$Y$14:$AF$600,8,FALSE),0)","v":0},{"$f":"IFERROR(VLOOKUP(CU28,MATCHSELEVES!$Y$14:$AG$600,9,FALSE),0)","v":0},"Megi_15",{"$f":"IFERROR(VLOOKUP(DA28,MATCHSELEVES!$Y$14:$AE$600,3,FALSE),0)","v":0},{"$f":"IFERROR(VLOOKUP(DA28,MATCHSELEVES!$Y$14:$AE$600,4,FALSE),0)","v":0},{"$f":"IFERROR(VLOOKUP(DA28,MATCHSELEVES!$Y$14:$AE$600,5,FALSE),0)","v":0},{"$f":"IFERROR(VLOOKUP(DA28,MATCHSELEVES!$Y$14:$AF$600,8,FALSE),0)","v":0},{"$f":"IFERROR(VLOOKUP(DA28,MATCHSELEVES!$Y$14:$AG$600,9,FALSE),0)","v":0},"Megi_16",{"$f":"IFERROR(VLOOKUP(DG28,MATCHSELEVES!$Y$14:$AE$600,3,FALSE),0)","v":0},{"$f":"IFERROR(VLOOKUP(DG28,MATCHSELEVES!$Y$14:$AE$600,4,FALSE),0)","v":0},{"$f":"IFERROR(VLOOKUP(DG28,MATCHSELEVES!$Y$14:$AE$600,5,FALSE),0)","v":0},{"$f":"IFERROR(VLOOKUP(DG28,MATCHSELEVES!$Y$14:$AF$600,8,FALSE),0)","v":0},{"$f":"IFERROR(VLOOKUP(DG28,MATCHSELEVES!$Y$14:$AG$600,9,FALSE),0)","v":0},"Megi_17",{"$f":"IFERROR(VLOOKUP(DM28,MATCHSELEVES!$Y$14:$AE$600,3,FALSE),0)","v":0},{"$f":"IFERROR(VLOOKUP(DM28,MATCHSELEVES!$Y$14:$AE$600,4,FALSE),0)","v":0},{"$f":"IFERROR(VLOOKUP(DM28,MATCHSELEVES!$Y$14:$AE$600,5,FALSE),0)","v":0},{"$f":"IFERROR(VLOOKUP(DM28,MATCHSELEVES!$Y$14:$AF$600,8,FALSE),0)","v":0},{"$f":"IFERROR(VLOOKUP(DM28,MATCHSELEVES!$Y$14:$AG$600,9,FALSE),0)","v":0},"Megi_18",{"$f":"IFERROR(VLOOKUP(DS28,MATCHSELEVES!$Y$14:$AE$600,3,FALSE),0)","v":0},{"$f":"IFERROR(VLOOKUP(DS28,MATCHSELEVES!$Y$14:$AE$600,4,FALSE),0)","v":0},{"$f":"IFERROR(VLOOKUP(DS28,MATCHSELEVES!$Y$14:$AE$600,5,FALSE),0)","v":0},{"$f":"IFERROR(VLOOKUP(DS28,MATCHSELEVES!$Y$14:$AF$600,8,FALSE),0)","v":0},{"$f":"IFERROR(VLOOKUP(DS28,MATCHSELEVES!$Y$14:$AG$600,9,FALSE),0)","v":0},"Megi_19",{"$f":"IFERROR(VLOOKUP(DY28,MATCHSELEVES!$Y$14:$AE$600,3,FALSE),0)","v":0},{"$f":"IFERROR(VLOOKUP(DY28,MATCHSELEVES!$Y$14:$AE$600,4,FALSE),0)","v":0},{"$f":"IFERROR(VLOOKUP(DY28,MATCHSELEVES!$Y$14:$AE$600,5,FALSE),0)","v":0},{"$f":"IFERROR(VLOOKUP(DY28,MATCHSELEVES!$Y$14:$AF$600,8,FALSE),0)","v":0},{"$f":"IFERROR(VLOOKUP(DY28,MATCHSELEVES!$Y$14:$AG$600,9,FALSE),0)","v":0},"Megi_20",{"$f":"IFERROR(VLOOKUP(EE28,MATCHSELEVES!$Y$14:$AE$600,3,FALSE),0)","v":0},{"$f":"IFERROR(VLOOKUP(EE28,MATCHSELEVES!$Y$14:$AE$600,4,FALSE),0)","v":0},{"$f":"IFERROR(VLOOKUP(EE28,MATCHSELEVES!$Y$14:$AE$600,5,FALSE),0)","v":0},{"$f":"IFERROR(VLOOKUP(EE28,MATCHSELEVES!$Y$14:$AF$600,8,FALSE),0)","v":0},{"$f":"IFERROR(VLOOKUP(EE28,MATCHSELEVES!$Y$14:$AG$600,9,FALSE),0)","v":0},"Megi_21",{"$f":"IFERROR(VLOOKUP(EK28,MATCHSELEVES!$Y$14:$AE$600,3,FALSE),0)","v":0},{"$f":"IFERROR(VLOOKUP(EK28,MATCHSELEVES!$Y$14:$AE$600,4,FALSE),0)","v":0},{"$f":"IFERROR(VLOOKUP(EK28,MATCHSELEVES!$Y$14:$AE$600,5,FALSE),0)","v":0},{"$f":"IFERROR(VLOOKUP(EK28,MATCHSELEVES!$Y$14:$AF$600,8,FALSE),0)","v":0},{"$f":"IFERROR(VLOOKUP(EK28,MATCHSELEVES!$Y$14:$AG$600,9,FALSE),0)","v":0},"Megi_22",{"$f":"IFERROR(VLOOKUP(EQ28,MATCHSELEVES!$Y$14:$AE$600,3,FALSE),0)","v":0},{"$f":"IFERROR(VLOOKUP(EQ28,MATCHSELEVES!$Y$14:$AE$600,4,FALSE),0)","v":0},{"$f":"IFERROR(VLOOKUP(EQ28,MATCHSELEVES!$Y$14:$AE$600,5,FALSE),0)","v":0},{"$f":"IFERROR(VLOOKUP(EQ28,MATCHSELEVES!$Y$14:$AF$600,8,FALSE),0)","v":0},{"$f":"IFERROR(VLOOKUP(EQ28,MATCHSELEVES!$Y$14:$AG$600,9,FALSE),0)","v":0},"Megi_23",{"$f":"IFERROR(VLOOKUP(EW28,MATCHSELEVES!$Y$14:$AE$600,3,FALSE),0)","v":0},{"$f":"IFERROR(VLOOKUP(EW28,MATCHSELEVES!$Y$14:$AE$600,4,FALSE),0)","v":0},{"$f":"IFERROR(VLOOKUP(EW28,MATCHSELEVES!$Y$14:$AE$600,5,FALSE),0)","v":0},{"$f":"IFERROR(VLOOKUP(EW28,MATCHSELEVES!$Y$14:$AF$600,8,FALSE),0)","v":0},{"$f":"IFERROR(VLOOKUP(EW28,MATCHSELEVES!$Y$14:$AG$600,9,FALSE),0)","v":0},"Megi_24",{"$f":"IFERROR(VLOOKUP(FC28,MATCHSELEVES!$Y$14:$AE$600,3,FALSE),0)","v":0},{"$f":"IFERROR(VLOOKUP(FC28,MATCHSELEVES!$Y$14:$AE$600,4,FALSE),0)","v":0},{"$f":"IFERROR(VLOOKUP(FC28,MATCHSELEVES!$Y$14:$AE$600,5,FALSE),0)","v":0},{"$f":"IFERROR(VLOOKUP(FC28,MATCHSELEVES!$Y$14:$AF$600,8,FALSE),0)","v":0},{"$f":"IFERROR(VLOOKUP(FC28,MATCHSELEVES!$Y$14:$AG$600,9,FALSE),0)","v":0},"Megi_25",{"$f":"IFERROR(VLOOKUP(FI28,MATCHSELEVES!$Y$14:$AE$600,3,FALSE),0)","v":0},{"$f":"IFERROR(VLOOKUP(FI28,MATCHSELEVES!$Y$14:$AE$600,4,FALSE),0)","v":0},{"$f":"IFERROR(VLOOKUP(FI28,MATCHSELEVES!$Y$14:$AE$600,5,FALSE),0)","v":0},{"$f":"IFERROR(VLOOKUP(FI28,MATCHSELEVES!$Y$14:$AF$600,8,FALSE),0)","v":0},{"$f":"IFERROR(VLOOKUP(FI28,MATCHSELEVES!$Y$14:$AG$600,9,FALSE),0)","v":0},"Megi_26",{"$f":"IFERROR(VLOOKUP(FO28,MATCHSELEVES!$Y$14:$AE$600,3,FALSE),0)","v":0},{"$f":"IFERROR(VLOOKUP(FO28,MATCHSELEVES!$Y$14:$AE$600,4,FALSE),0)","v":0},{"$f":"IFERROR(VLOOKUP(FO28,MATCHSELEVES!$Y$14:$AE$600,5,FALSE),0)","v":0},{"$f":"IFERROR(VLOOKUP(FO28,MATCHSELEVES!$Y$14:$AF$600,8,FALSE),0)","v":0},{"$f":"IFERROR(VLOOKUP(FO28,MATCHSELEVES!$Y$14:$AG$600,9,FALSE),0)","v":0},"Megi_27",{"$f":"IFERROR(VLOOKUP(FU28,MATCHSELEVES!$Y$14:$AE$600,3,FALSE),0)","v":0},{"$f":"IFERROR(VLOOKUP(FU28,MATCHSELEVES!$Y$14:$AE$600,4,FALSE),0)","v":0},{"$f":"IFERROR(VLOOKUP(FU28,MATCHSELEVES!$Y$14:$AE$600,5,FALSE),0)","v":0},{"$f":"IFERROR(VLOOKUP(FU28,MATCHSELEVES!$Y$14:$AF$600,8,FALSE),0)","v":0},{"$f":"IFERROR(VLOOKUP(FU28,MATCHSELEVES!$Y$14:$AG$600,9,FALSE),0)","v":0},"Megi_28",{"$f":"IFERROR(VLOOKUP(GA28,MATCHSELEVES!$Y$14:$AE$600,3,FALSE),0)","v":0},{"$f":"IFERROR(VLOOKUP(GA28,MATCHSELEVES!$Y$14:$AE$600,4,FALSE),0)","v":0},{"$f":"IFERROR(VLOOKUP(GA28,MATCHSELEVES!$Y$14:$AE$600,5,FALSE),0)","v":0},{"$f":"IFERROR(VLOOKUP(GA28,MATCHSELEVES!$Y$14:$AF$600,8,FALSE),0)","v":0},{"$f":"IFERROR(VLOOKUP(GA28,MATCHSELEVES!$Y$14:$AG$600,9,FALSE),0)","v":0},"Megi_29",{"$f":"IFERROR(VLOOKUP(GG28,MATCHSELEVES!$Y$14:$AE$600,3,FALSE),0)","v":0},{"$f":"IFERROR(VLOOKUP(GG28,MATCHSELEVES!$Y$14:$AE$600,4,FALSE),0)","v":0},{"$f":"IFERROR(VLOOKUP(GG28,MATCHSELEVES!$Y$14:$AE$600,5,FALSE),0)","v":0},{"$f":"IFERROR(VLOOKUP(GG28,MATCHSELEVES!$Y$14:$AF$600,8,FALSE),0)","v":0},{"$f":"IFERROR(VLOOKUP(GG28,MATCHSELEVES!$Y$14:$AG$600,9,FALSE),0)","v":0},"Megi_30",{"$f":"IFERROR(VLOOKUP(GM28,MATCHSELEVES!$Y$14:$AE$600,3,FALSE),0)","v":0},{"$f":"IFERROR(VLOOKUP(GM28,MATCHSELEVES!$Y$14:$AE$600,4,FALSE),0)","v":0},{"$f":"IFERROR(VLOOKUP(GM28,MATCHSELEVES!$Y$14:$AE$600,5,FALSE),0)","v":0},{"$f":"IFERROR(VLOOKUP(GM28,MATCHSELEVES!$Y$14:$AF$600,8,FALSE),0)","v":0},{"$f":"IFERROR(VLOOKUP(GM28,MATCHSELEVES!$Y$14:$AG$600,9,FALSE),0)","v":0},"Megi_31",{"$f":"IFERROR(VLOOKUP(GS28,MATCHSELEVES!$Y$14:$AE$600,3,FALSE),0)","v":0},{"$f":"IFERROR(VLOOKUP(GS28,MATCHSELEVES!$Y$14:$AE$600,4,FALSE),0)","v":0},{"$f":"IFERROR(VLOOKUP(GS28,MATCHSELEVES!$Y$14:$AE$600,5,FALSE),0)","v":0},{"$f":"IFERROR(VLOOKUP(GS28,MATCHSELEVES!$Y$14:$AF$600,8,FALSE),0)","v":0},{"$f":"IFERROR(VLOOKUP(GS28,MATCHSELEVES!$Y$14:$AG$600,9,FALSE),0)","v":0},"Megi_32",{"$f":"IFERROR(VLOOKUP(GY28,MATCHSELEVES!$Y$14:$AE$600,3,FALSE),0)","v":0},{"$f":"IFERROR(VLOOKUP(GY28,MATCHSELEVES!$Y$14:$AE$600,4,FALSE),0)","v":0},{"$f":"IFERROR(VLOOKUP(GY28,MATCHSELEVES!$Y$14:$AE$600,5,FALSE),0)","v":0},{"$f":"IFERROR(VLOOKUP(GY28,MATCHSELEVES!$Y$14:$AF$600,8,FALSE),0)","v":0},{"$f":"IFERROR(VLOOKUP(GY28,MATCHSELEVES!$Y$14:$AG$600,9,FALSE),0)","v":0},"Megi_33",{"$f":"IFERROR(VLOOKUP(HE28,MATCHSELEVES!$Y$14:$AE$600,3,FALSE),0)","v":0},{"$f":"IFERROR(VLOOKUP(HE28,MATCHSELEVES!$Y$14:$AE$600,4,FALSE),0)","v":0},{"$f":"IFERROR(VLOOKUP(HE28,MATCHSELEVES!$Y$14:$AE$600,5,FALSE),0)","v":0},{"$f":"IFERROR(VLOOKUP(HE28,MATCHSELEVES!$Y$14:$AF$600,8,FALSE),0)","v":0},{"$f":"IFERROR(VLOOKUP(HE28,MATCHSELEVES!$Y$14:$AG$600,9,FALSE),0)","v":0},"Megi_34",{"$f":"IFERROR(VLOOKUP(HK28,MATCHSELEVES!$Y$14:$AE$600,3,FALSE),0)","v":0},{"$f":"IFERROR(VLOOKUP(HK28,MATCHSELEVES!$Y$14:$AE$600,4,FALSE),0)","v":0},{"$f":"IFERROR(VLOOKUP(HK28,MATCHSELEVES!$Y$14:$AE$600,5,FALSE),0)","v":0},{"$f":"IFERROR(VLOOKUP(HK28,MATCHSELEVES!$Y$14:$AF$600,8,FALSE),0)","v":0},{"$f":"IFERROR(VLOOKUP(HK28,MATCHSELEVES!$Y$14:$AG$600,9,FALSE),0)","v":0},"Megi_35",{"$f":"IFERROR(VLOOKUP(HQ28,MATCHSELEVES!$Y$14:$AE$600,3,FALSE),0)","v":0},{"$f":"IFERROR(VLOOKUP(HQ28,MATCHSELEVES!$Y$14:$AE$600,4,FALSE),0)","v":0},{"$f":"IFERROR(VLOOKUP(HQ28,MATCHSELEVES!$Y$14:$AE$600,5,FALSE),0)","v":0},{"$f":"IFERROR(VLOOKUP(HQ28,MATCHSELEVES!$Y$14:$AF$600,8,FALSE),0)","v":0},{"$f":"IFERROR(VLOOKUP(HQ28,MATCHSELEVES!$Y$14:$AG$600,9,FALSE),0)","v":0},"Megi_36",{"$f":"IFERROR(VLOOKUP(HW28,MATCHSELEVES!$Y$14:$AE$600,3,FALSE),0)","v":0},{"$f":"IFERROR(VLOOKUP(HW28,MATCHSELEVES!$Y$14:$AE$600,4,FALSE),0)","v":0},{"$f":"IFERROR(VLOOKUP(HW28,MATCHSELEVES!$Y$14:$AE$600,5,FALSE),0)","v":0},{"$f":"IFERROR(VLOOKUP(HW28,MATCHSELEVES!$Y$14:$AF$600,8,FALSE),0)","v":0},{"$f":"IFERROR(VLOOKUP(HW28,MATCHSELEVES!$Y$14:$AG$600,9,FALSE),0)","v":0},"Megi_37",{"$f":"IFERROR(VLOOKUP(IC28,MATCHSELEVES!$Y$14:$AE$600,3,FALSE),0)","v":0},{"$f":"IFERROR(VLOOKUP(IC28,MATCHSELEVES!$Y$14:$AE$600,4,FALSE),0)","v":0},{"$f":"IFERROR(VLOOKUP(IC28,MATCHSELEVES!$Y$14:$AE$600,5,FALSE),0)","v":0},{"$f":"IFERROR(VLOOKUP(IC28,MATCHSELEVES!$Y$14:$AF$600,8,FALSE),0)","v":0},{"$f":"IFERROR(VLOOKUP(IC28,MATCHSELEVES!$Y$14:$AG$600,9,FALSE),0)","v":0},"Megi_38",{"$f":"IFERROR(VLOOKUP(II28,MATCHSELEVES!$Y$14:$AE$600,3,FALSE),0)","v":0},{"$f":"IFERROR(VLOOKUP(II28,MATCHSELEVES!$Y$14:$AE$600,4,FALSE),0)","v":0},{"$f":"IFERROR(VLOOKUP(II28,MATCHSELEVES!$Y$14:$AE$600,5,FALSE),0)","v":0},{"$f":"IFERROR(VLOOKUP(II28,MATCHSELEVES!$Y$14:$AF$600,8,FALSE),0)","v":0},{"$f":"IFERROR(VLOOKUP(II28,MATCHSELEVES!$Y$14:$AG$600,9,FALSE),0)","v":0},"Megi_39",{"$f":"IFERROR(VLOOKUP(IO28,MATCHSELEVES!$Y$14:$AE$600,3,FALSE),0)","v":0},{"$f":"IFERROR(VLOOKUP(IO28,MATCHSELEVES!$Y$14:$AE$600,4,FALSE),0)","v":0},{"$f":"IFERROR(VLOOKUP(IO28,MATCHSELEVES!$Y$14:$AE$600,5,FALSE),0)","v":0},{"$f":"IFERROR(VLOOKUP(IO28,MATCHSELEVES!$Y$14:$AF$600,8,FALSE),0)","v":0},{"$f":"IFERROR(VLOOKUP(IO28,MATCHSELEVES!$Y$14:$AG$600,9,FALSE),0)","v":0},"Megi_40",{"$f":"IFERROR(VLOOKUP(IU28,MATCHSELEVES!$Y$14:$AE$600,3,FALSE),0)","v":0},{"$f":"IFERROR(VLOOKUP(IU28,MATCHSELEVES!$Y$14:$AE$600,4,FALSE),0)","v":0},{"$f":"IFERROR(VLOOKUP(IU28,MATCHSELEVES!$Y$14:$AE$600,5,FALSE),0)","v":0},{"$f":"IFERROR(VLOOKUP(IU28,MATCHSELEVES!$Y$14:$AF$600,8,FALSE),0)","v":0},{"$f":"IFERROR(VLOOKUP(IU28,MATCHSELEVES!$Y$14:$AG$600,9,FALSE),0)","v":0},"Megip_1",{"$f":"IFERROR(VLOOKUP(JA28,MATCHSELEVES!$Y$14:$AE$600,3,FALSE),0)","v":0},{"$f":"IFERROR(VLOOKUP(JA28,MATCHSELEVES!$Y$14:$AE$600,4,FALSE),0)","v":0},{"$f":"IFERROR(VLOOKUP(JA28,MATCHSELEVES!$Y$14:$AE$600,5,FALSE),0)","v":0},{"$f":"IFERROR(VLOOKUP(JA28,MATCHSELEVES!$Y$14:$AF$600,8,FALSE),0)","v":0},{"$f":"IFERROR(VLOOKUP(JA28,MATCHSELEVES!$Y$14:$AG$600,9,FALSE),0)","v":0},"Megip_2",{"$f":"IFERROR(VLOOKUP(JG28,MATCHSELEVES!$Y$14:$AE$600,3,FALSE),0)","v":0},{"$f":"IFERROR(VLOOKUP(JG28,MATCHSELEVES!$Y$14:$AE$600,4,FALSE),0)","v":0},{"$f":"IFERROR(VLOOKUP(JG28,MATCHSELEVES!$Y$14:$AE$600,5,FALSE),0)","v":0},{"$f":"IFERROR(VLOOKUP(JG28,MATCHSELEVES!$Y$14:$AF$600,8,FALSE),0)","v":0},{"$f":"IFERROR(VLOOKUP(JG28,MATCHSELEVES!$Y$14:$AG$600,9,FALSE),0)","v":0},"Megip_3",{"$f":"IFERROR(VLOOKUP(JM28,MATCHSELEVES!$Y$14:$AE$600,3,FALSE),0)","v":0},{"$f":"IFERROR(VLOOKUP(JM28,MATCHSELEVES!$Y$14:$AE$600,4,FALSE),0)","v":0},{"$f":"IFERROR(VLOOKUP(JM28,MATCHSELEVES!$Y$14:$AE$600,5,FALSE),0)","v":0},{"$f":"IFERROR(VLOOKUP(JM28,MATCHSELEVES!$Y$14:$AF$600,8,FALSE),0)","v":0},{"$f":"IFERROR(VLOOKUP(JM28,MATCHSELEVES!$Y$14:$AG$600,9,FALSE),0)","v":0},"Megip_4",{"$f":"IFERROR(VLOOKUP(JS28,MATCHSELEVES!$Y$14:$AE$600,3,FALSE),0)","v":0},{"$f":"IFERROR(VLOOKUP(JS28,MATCHSELEVES!$Y$14:$AE$600,4,FALSE),0)","v":0},{"$f":"IFERROR(VLOOKUP(JS28,MATCHSELEVES!$Y$14:$AE$600,5,FALSE),0)","v":0},{"$f":"IFERROR(VLOOKUP(JS28,MATCHSELEVES!$Y$14:$AF$600,8,FALSE),0)","v":0},{"$f":"IFERROR(VLOOKUP(JS28,MATCHSELEVES!$Y$14:$AG$600,9,FALSE),0)","v":0},"Megip_5",{"$f":"IFERROR(VLOOKUP(JY28,MATCHSELEVES!$Y$14:$AE$600,3,FALSE),0)","v":0},{"$f":"IFERROR(VLOOKUP(JY28,MATCHSELEVES!$Y$14:$AE$600,4,FALSE),0)","v":0},{"$f":"IFERROR(VLOOKUP(JY28,MATCHSELEVES!$Y$14:$AE$600,5,FALSE),0)","v":0},{"$f":"IFERROR(VLOOKUP(JY28,MATCHSELEVES!$Y$14:$AF$600,8,FALSE),0)","v":0},{"$f":"IFERROR(VLOOKUP(JY28,MATCHSELEVES!$Y$14:$AG$600,9,FALSE),0)","v":0},"Megip_6",{"$f":"IFERROR(VLOOKUP(KE28,MATCHSELEVES!$Y$14:$AE$600,3,FALSE),0)","v":0},{"$f":"IFERROR(VLOOKUP(KE28,MATCHSELEVES!$Y$14:$AE$600,4,FALSE),0)","v":0},{"$f":"IFERROR(VLOOKUP(KE28,MATCHSELEVES!$Y$14:$AE$600,5,FALSE),0)","v":0},{"$f":"IFERROR(VLOOKUP(KE28,MATCHSELEVES!$Y$14:$AF$600,8,FALSE),0)","v":0},{"$f":"IFERROR(VLOOKUP(KE28,MATCHSELEVES!$Y$14:$AG$600,9,FALSE),0)","v":0},"Megip_7",{"$f":"IFERROR(VLOOKUP(KK28,MATCHSELEVES!$Y$14:$AE$600,3,FALSE),0)","v":0},{"$f":"IFERROR(VLOOKUP(KK28,MATCHSELEVES!$Y$14:$AE$600,4,FALSE),0)","v":0},{"$f":"IFERROR(VLOOKUP(KK28,MATCHSELEVES!$Y$14:$AE$600,5,FALSE),0)","v":0},{"$f":"IFERROR(VLOOKUP(KK28,MATCHSELEVES!$Y$14:$AF$600,8,FALSE),0)","v":0},{"$f":"IFERROR(VLOOKUP(KK28,MATCHSELEVES!$Y$14:$AG$600,9,FALSE),0)","v":0},"Megip_8",{"$f":"IFERROR(VLOOKUP(KQ28,MATCHSELEVES!$Y$14:$AE$600,3,FALSE),0)","v":0},{"$f":"IFERROR(VLOOKUP(KQ28,MATCHSELEVES!$Y$14:$AE$600,4,FALSE),0)","v":0},{"$f":"IFERROR(VLOOKUP(KQ28,MATCHSELEVES!$Y$14:$AE$600,5,FALSE),0)","v":0},{"$f":"IFERROR(VLOOKUP(KQ28,MATCHSELEVES!$Y$14:$AF$600,8,FALSE),0)","v":0},{"$f":"IFERROR(VLOOKUP(KQ28,MATCHSELEVES!$Y$14:$AG$600,9,FALSE),0)","v":0},"Megip_9",{"$f":"IFERROR(VLOOKUP(KW28,MATCHSELEVES!$Y$14:$AE$600,3,FALSE),0)","v":0},{"$f":"IFERROR(VLOOKUP(KW28,MATCHSELEVES!$Y$14:$AE$600,4,FALSE),0)","v":0},{"$f":"IFERROR(VLOOKUP(KW28,MATCHSELEVES!$Y$14:$AE$600,5,FALSE),0)","v":0},{"$f":"IFERROR(VLOOKUP(KW28,MATCHSELEVES!$Y$14:$AF$600,8,FALSE),0)","v":0},{"$f":"IFERROR(VLOOKUP(KW28,MATCHSELEVES!$Y$14:$AG$600,9,FALSE),0)","v":0},"Megip_10",{"$f":"IFERROR(VLOOKUP(LC28,MATCHSELEVES!$Y$14:$AE$600,3,FALSE),0)","v":0},{"$f":"IFERROR(VLOOKUP(LC28,MATCHSELEVES!$Y$14:$AE$600,4,FALSE),0)","v":0},{"$f":"IFERROR(VLOOKUP(LC28,MATCHSELEVES!$Y$14:$AE$600,5,FALSE),0)","v":0},{"$f":"IFERROR(VLOOKUP(LC28,MATCHSELEVES!$Y$14:$AF$600,8,FALSE),0)","v":0},{"$f":"IFERROR(VLOOKUP(LC28,MATCHSELEVES!$Y$14:$AG$600,9,FALSE),0)","v":0},"Megip_11",{"$f":"IFERROR(VLOOKUP(LI28,MATCHSELEVES!$Y$14:$AE$600,3,FALSE),0)","v":0},{"$f":"IFERROR(VLOOKUP(LI28,MATCHSELEVES!$Y$14:$AE$600,4,FALSE),0)","v":0},{"$f":"IFERROR(VLOOKUP(LI28,MATCHSELEVES!$Y$14:$AE$600,5,FALSE),0)","v":0},{"$f":"IFERROR(VLOOKUP(LI28,MATCHSELEVES!$Y$14:$AF$600,8,FALSE),0)","v":0},{"$f":"IFERROR(VLOOKUP(LI28,MATCHSELEVES!$Y$14:$AG$600,9,FALSE),0)","v":0},"Megip_12",{"$f":"IFERROR(VLOOKUP(LO28,MATCHSELEVES!$Y$14:$AE$600,3,FALSE),0)","v":0},{"$f":"IFERROR(VLOOKUP(LO28,MATCHSELEVES!$Y$14:$AE$600,4,FALSE),0)","v":0},{"$f":"IFERROR(VLOOKUP(LO28,MATCHSELEVES!$Y$14:$AE$600,5,FALSE),0)","v":0},{"$f":"IFERROR(VLOOKUP(LO28,MATCHSELEVES!$Y$14:$AF$600,8,FALSE),0)","v":0},{"$f":"IFERROR(VLOOKUP(LO28,MATCHSELEVES!$Y$14:$AG$600,9,FALSE),0)","v":0},"Megip_13",{"$f":"IFERROR(VLOOKUP(LU28,MATCHSELEVES!$Y$14:$AE$600,3,FALSE),0)","v":0},{"$f":"IFERROR(VLOOKUP(LU28,MATCHSELEVES!$Y$14:$AE$600,4,FALSE),0)","v":0},{"$f":"IFERROR(VLOOKUP(LU28,MATCHSELEVES!$Y$14:$AE$600,5,FALSE),0)","v":0},{"$f":"IFERROR(VLOOKUP(LU28,MATCHSELEVES!$Y$14:$AF$600,8,FALSE),0)","v":0},{"$f":"IFERROR(VLOOKUP(LU28,MATCHSELEVES!$Y$14:$AG$600,9,FALSE),0)","v":0},"Megip_14",{"$f":"IFERROR(VLOOKUP(MA28,MATCHSELEVES!$Y$14:$AE$600,3,FALSE),0)","v":0},{"$f":"IFERROR(VLOOKUP(MA28,MATCHSELEVES!$Y$14:$AE$600,4,FALSE),0)","v":0},{"$f":"IFERROR(VLOOKUP(MA28,MATCHSELEVES!$Y$14:$AE$600,5,FALSE),0)","v":0},{"$f":"IFERROR(VLOOKUP(MA28,MATCHSELEVES!$Y$14:$AF$600,8,FALSE),0)","v":0},{"$f":"IFERROR(VLOOKUP(MA28,MATCHSELEVES!$Y$14:$AG$600,9,FALSE),0)","v":0},"Megip_15",{"$f":"IFERROR(VLOOKUP(MG28,MATCHSELEVES!$Y$14:$AE$600,3,FALSE),0)","v":0},{"$f":"IFERROR(VLOOKUP(MG28,MATCHSELEVES!$Y$14:$AE$600,4,FALSE),0)","v":0},{"$f":"IFERROR(VLOOKUP(MG28,MATCHSELEVES!$Y$14:$AE$600,5,FALSE),0)","v":0},{"$f":"IFERROR(VLOOKUP(MG28,MATCHSELEVES!$Y$14:$AF$600,8,FALSE),0)","v":0},{"$f":"IFERROR(VLOOKUP(MG28,MATCHSELEVES!$Y$14:$AG$600,9,FALSE),0)","v":0},"Megip_16",{"$f":"IFERROR(VLOOKUP(MM28,MATCHSELEVES!$Y$14:$AE$600,3,FALSE),0)","v":0},{"$f":"IFERROR(VLOOKUP(MM28,MATCHSELEVES!$Y$14:$AE$600,4,FALSE),0)","v":0},{"$f":"IFERROR(VLOOKUP(MM28,MATCHSELEVES!$Y$14:$AE$600,5,FALSE),0)","v":0},{"$f":"IFERROR(VLOOKUP(MM28,MATCHSELEVES!$Y$14:$AF$600,8,FALSE),0)","v":0},{"$f":"IFERROR(VLOOKUP(MM28,MATCHSELEVES!$Y$14:$AG$600,9,FALSE),0)","v":0},"Megip_17",{"$f":"IFERROR(VLOOKUP(MS28,MATCHSELEVES!$Y$14:$AE$600,3,FALSE),0)","v":0},{"$f":"IFERROR(VLOOKUP(MS28,MATCHSELEVES!$Y$14:$AE$600,4,FALSE),0)","v":0},{"$f":"IFERROR(VLOOKUP(MS28,MATCHSELEVES!$Y$14:$AE$600,5,FALSE),0)","v":0},{"$f":"IFERROR(VLOOKUP(MS28,MATCHSELEVES!$Y$14:$AF$600,8,FALSE),0)","v":0},{"$f":"IFERROR(VLOOKUP(MS28,MATCHSELEVES!$Y$14:$AG$600,9,FALSE),0)","v":0},"Megip_18",{"$f":"IFERROR(VLOOKUP(MY28,MATCHSELEVES!$Y$14:$AE$600,3,FALSE),0)","v":0},{"$f":"IFERROR(VLOOKUP(MY28,MATCHSELEVES!$Y$14:$AE$600,4,FALSE),0)","v":0},{"$f":"IFERROR(VLOOKUP(MY28,MATCHSELEVES!$Y$14:$AE$600,5,FALSE),0)","v":0},{"$f":"IFERROR(VLOOKUP(MY28,MATCHSELEVES!$Y$14:$AF$600,8,FALSE),0)","v":0},{"$f":"IFERROR(VLOOKUP(MY28,MATCHSELEVES!$Y$14:$AG$600,9,FALSE),0)","v":0},"Megip_19",{"$f":"IFERROR(VLOOKUP(NE28,MATCHSELEVES!$Y$14:$AE$600,3,FALSE),0)","v":0},{"$f":"IFERROR(VLOOKUP(NE28,MATCHSELEVES!$Y$14:$AE$600,4,FALSE),0)","v":0},{"$f":"IFERROR(VLOOKUP(NE28,MATCHSELEVES!$Y$14:$AE$600,5,FALSE),0)","v":0},{"$f":"IFERROR(VLOOKUP(NE28,MATCHSELEVES!$Y$14:$AF$600,8,FALSE),0)","v":0},{"$f":"IFERROR(VLOOKUP(NE28,MATCHSELEVES!$Y$14:$AG$600,9,FALSE),0)","v":0},"Megip_20",{"$f":"IFERROR(VLOOKUP(NK28,MATCHSELEVES!$Y$14:$AE$600,3,FALSE),0)","v":0},{"$f":"IFERROR(VLOOKUP(NK28,MATCHSELEVES!$Y$14:$AE$600,4,FALSE),0)","v":0},{"$f":"IFERROR(VLOOKUP(NK28,MATCHSELEVES!$Y$14:$AE$600,5,FALSE),0)","v":0},{"$f":"IFERROR(VLOOKUP(NK28,MATCHSELEVES!$Y$14:$AF$600,8,FALSE),0)","v":0},{"$f":"IFERROR(VLOOKUP(NK28,MATCHSELEVES!$Y$14:$AG$600,9,FALSE),0)","v":0},"Megip_21",{"$f":"IFERROR(VLOOKUP(NQ28,MATCHSELEVES!$Y$14:$AE$600,3,FALSE),0)","v":0},{"$f":"IFERROR(VLOOKUP(NQ28,MATCHSELEVES!$Y$14:$AE$600,4,FALSE),0)","v":0},{"$f":"IFERROR(VLOOKUP(NQ28,MATCHSELEVES!$Y$14:$AE$600,5,FALSE),0)","v":0},{"$f":"IFERROR(VLOOKUP(NQ28,MATCHSELEVES!$Y$14:$AF$600,8,FALSE),0)","v":0},{"$f":"IFERROR(VLOOKUP(NQ28,MATCHSELEVES!$Y$14:$AG$600,9,FALSE),0)","v":0},"Megip_22",{"$f":"IFERROR(VLOOKUP(NW28,MATCHSELEVES!$Y$14:$AE$600,3,FALSE),0)","v":0},{"$f":"IFERROR(VLOOKUP(NW28,MATCHSELEVES!$Y$14:$AE$600,4,FALSE),0)","v":0},{"$f":"IFERROR(VLOOKUP(NW28,MATCHSELEVES!$Y$14:$AE$600,5,FALSE),0)","v":0},{"$f":"IFERROR(VLOOKUP(NW28,MATCHSELEVES!$Y$14:$AF$600,8,FALSE),0)","v":0},{"$f":"IFERROR(VLOOKUP(NW28,MATCHSELEVES!$Y$14:$AG$600,9,FALSE),0)","v":0},"Megip_23",{"$f":"IFERROR(VLOOKUP(OC28,MATCHSELEVES!$Y$14:$AE$600,3,FALSE),0)","v":0},{"$f":"IFERROR(VLOOKUP(OC28,MATCHSELEVES!$Y$14:$AE$600,4,FALSE),0)","v":0},{"$f":"IFERROR(VLOOKUP(OC28,MATCHSELEVES!$Y$14:$AE$600,5,FALSE),0)","v":0},{"$f":"IFERROR(VLOOKUP(OC28,MATCHSELEVES!$Y$14:$AF$600,8,FALSE),0)","v":0},{"$f":"IFERROR(VLOOKUP(OC28,MATCHSELEVES!$Y$14:$AG$600,9,FALSE),0)","v":0},"Megip_24",{"$f":"IFERROR(VLOOKUP(OI28,MATCHSELEVES!$Y$14:$AE$600,3,FALSE),0)","v":0},{"$f":"IFERROR(VLOOKUP(OI28,MATCHSELEVES!$Y$14:$AE$600,4,FALSE),0)","v":0},{"$f":"IFERROR(VLOOKUP(OI28,MATCHSELEVES!$Y$14:$AE$600,5,FALSE),0)","v":0},{"$f":"IFERROR(VLOOKUP(OI28,MATCHSELEVES!$Y$14:$AF$600,8,FALSE),0)","v":0},{"$f":"IFERROR(VLOOKUP(OI28,MATCHSELEVES!$Y$14:$AG$600,9,FALSE),0)","v":0},"Megip_25",{"$f":"IFERROR(VLOOKUP(OO28,MATCHSELEVES!$Y$14:$AE$600,3,FALSE),0)","v":0},{"$f":"IFERROR(VLOOKUP(OO28,MATCHSELEVES!$Y$14:$AE$600,4,FALSE),0)","v":0},{"$f":"IFERROR(VLOOKUP(OO28,MATCHSELEVES!$Y$14:$AE$600,5,FALSE),0)","v":0},{"$f":"IFERROR(VLOOKUP(OO28,MATCHSELEVES!$Y$14:$AF$600,8,FALSE),0)","v":0},{"$f":"IFERROR(VLOOKUP(OO28,MATCHSELEVES!$Y$14:$AG$600,9,FALSE),0)","v":0},"Megip_26",{"$f":"IFERROR(VLOOKUP(OU28,MATCHSELEVES!$Y$14:$AE$600,3,FALSE),0)","v":0},{"$f":"IFERROR(VLOOKUP(OU28,MATCHSELEVES!$Y$14:$AE$600,4,FALSE),0)","v":0},{"$f":"IFERROR(VLOOKUP(OU28,MATCHSELEVES!$Y$14:$AE$600,5,FALSE),0)","v":0},{"$f":"IFERROR(VLOOKUP(OU28,MATCHSELEVES!$Y$14:$AF$600,8,FALSE),0)","v":0},{"$f":"IFERROR(VLOOKUP(OU28,MATCHSELEVES!$Y$14:$AG$600,9,FALSE),0)","v":0},"Megip_27",{"$f":"IFERROR(VLOOKUP(PA28,MATCHSELEVES!$Y$14:$AE$600,3,FALSE),0)","v":0},{"$f":"IFERROR(VLOOKUP(PA28,MATCHSELEVES!$Y$14:$AE$600,4,FALSE),0)","v":0},{"$f":"IFERROR(VLOOKUP(PA28,MATCHSELEVES!$Y$14:$AE$600,5,FALSE),0)","v":0},{"$f":"IFERROR(VLOOKUP(PA28,MATCHSELEVES!$Y$14:$AF$600,8,FALSE),0)","v":0},{"$f":"IFERROR(VLOOKUP(PA28,MATCHSELEVES!$Y$14:$AG$600,9,FALSE),0)","v":0},"Megip_28",{"$f":"IFERROR(VLOOKUP(PG28,MATCHSELEVES!$Y$14:$AE$600,3,FALSE),0)","v":0},{"$f":"IFERROR(VLOOKUP(PG28,MATCHSELEVES!$Y$14:$AE$600,4,FALSE),0)","v":0},{"$f":"IFERROR(VLOOKUP(PG28,MATCHSELEVES!$Y$14:$AE$600,5,FALSE),0)","v":0},{"$f":"IFERROR(VLOOKUP(PG28,MATCHSELEVES!$Y$14:$AF$600,8,FALSE),0)","v":0},{"$f":"IFERROR(VLOOKUP(PG28,MATCHSELEVES!$Y$14:$AG$600,9,FALSE),0)","v":0},"Megip_29",{"$f":"IFERROR(VLOOKUP(PM28,MATCHSELEVES!$Y$14:$AE$600,3,FALSE),0)","v":0},{"$f":"IFERROR(VLOOKUP(PM28,MATCHSELEVES!$Y$14:$AE$600,4,FALSE),0)","v":0},{"$f":"IFERROR(VLOOKUP(PM28,MATCHSELEVES!$Y$14:$AE$600,5,FALSE),0)","v":0},{"$f":"IFERROR(VLOOKUP(PM28,MATCHSELEVES!$Y$14:$AF$600,8,FALSE),0)","v":0},{"$f":"IFERROR(VLOOKUP(PM28,MATCHSELEVES!$Y$14:$AG$600,9,FALSE),0)","v":0},"Megip_30",{"$f":"IFERROR(VLOOKUP(PS28,MATCHSELEVES!$Y$14:$AE$600,3,FALSE),0)","v":0},{"$f":"IFERROR(VLOOKUP(PS28,MATCHSELEVES!$Y$14:$AE$600,4,FALSE),0)","v":0},{"$f":"IFERROR(VLOOKUP(PS28,MATCHSELEVES!$Y$14:$AE$600,5,FALSE),0)","v":0},{"$f":"IFERROR(VLOOKUP(PS28,MATCHSELEVES!$Y$14:$AF$600,8,FALSE),0)","v":0},{"$f":"IFERROR(VLOOKUP(PS28,MATCHSELEVES!$Y$14:$AG$600,9,FALSE),0)","v":0},"Megip_31",{"$f":"IFERROR(VLOOKUP(PY28,MATCHSELEVES!$Y$14:$AE$600,3,FALSE),0)","v":0},{"$f":"IFERROR(VLOOKUP(PY28,MATCHSELEVES!$Y$14:$AE$600,4,FALSE),0)","v":0},{"$f":"IFERROR(VLOOKUP(PY28,MATCHSELEVES!$Y$14:$AE$600,5,FALSE),0)","v":0},{"$f":"IFERROR(VLOOKUP(PY28,MATCHSELEVES!$Y$14:$AF$600,8,FALSE),0)","v":0},{"$f":"IFERROR(VLOOKUP(PY28,MATCHSELEVES!$Y$14:$AG$600,9,FALSE),0)","v":0},"Megip_32",{"$f":"IFERROR(VLOOKUP(QE28,MATCHSELEVES!$Y$14:$AE$600,3,FALSE),0)","v":0},{"$f":"IFERROR(VLOOKUP(QE28,MATCHSELEVES!$Y$14:$AE$600,4,FALSE),0)","v":0},{"$f":"IFERROR(VLOOKUP(QE28,MATCHSELEVES!$Y$14:$AE$600,5,FALSE),0)","v":0},{"$f":"IFERROR(VLOOKUP(QE28,MATCHSELEVES!$Y$14:$AF$600,8,FALSE),0)","v":0},{"$f":"IFERROR(VLOOKUP(QE28,MATCHSELEVES!$Y$14:$AG$600,9,FALSE),0)","v":0},"Megip_33",{"$f":"IFERROR(VLOOKUP(QK28,MATCHSELEVES!$Y$14:$AE$600,3,FALSE),0)","v":0},{"$f":"IFERROR(VLOOKUP(QK28,MATCHSELEVES!$Y$14:$AE$600,4,FALSE),0)","v":0},{"$f":"IFERROR(VLOOKUP(QK28,MATCHSELEVES!$Y$14:$AE$600,5,FALSE),0)","v":0},{"$f":"IFERROR(VLOOKUP(QK28,MATCHSELEVES!$Y$14:$AF$600,8,FALSE),0)","v":0},{"$f":"IFERROR(VLOOKUP(QK28,MATCHSELEVES!$Y$14:$AG$600,9,FALSE),0)","v":0},"Megip_34",{"$f":"IFERROR(VLOOKUP(QQ28,MATCHSELEVES!$Y$14:$AE$600,3,FALSE),0)","v":0},{"$f":"IFERROR(VLOOKUP(QQ28,MATCHSELEVES!$Y$14:$AE$600,4,FALSE),0)","v":0},{"$f":"IFERROR(VLOOKUP(QQ28,MATCHSELEVES!$Y$14:$AE$600,5,FALSE),0)","v":0},{"$f":"IFERROR(VLOOKUP(QQ28,MATCHSELEVES!$Y$14:$AF$600,8,FALSE),0)","v":0},{"$f":"IFERROR(VLOOKUP(QQ28,MATCHSELEVES!$Y$14:$AG$600,9,FALSE),0)","v":0},"Megip_35",{"$f":"IFERROR(VLOOKUP(QW28,MATCHSELEVES!$Y$14:$AE$600,3,FALSE),0)","v":0},{"$f":"IFERROR(VLOOKUP(QW28,MATCHSELEVES!$Y$14:$AE$600,4,FALSE),0)","v":0},{"$f":"IFERROR(VLOOKUP(QW28,MATCHSELEVES!$Y$14:$AE$600,5,FALSE),0)","v":0},{"$f":"IFERROR(VLOOKUP(QW28,MATCHSELEVES!$Y$14:$AF$600,8,FALSE),0)","v":0},{"$f":"IFERROR(VLOOKUP(QW28,MATCHSELEVES!$Y$14:$AG$600,9,FALSE),0)","v":0},"Megip_36",{"$f":"IFERROR(VLOOKUP(RC28,MATCHSELEVES!$Y$14:$AE$600,3,FALSE),0)","v":0},{"$f":"IFERROR(VLOOKUP(RC28,MATCHSELEVES!$Y$14:$AE$600,4,FALSE),0)","v":0},{"$f":"IFERROR(VLOOKUP(RC28,MATCHSELEVES!$Y$14:$AE$600,5,FALSE),0)","v":0},{"$f":"IFERROR(VLOOKUP(RC28,MATCHSELEVES!$Y$14:$AF$600,8,FALSE),0)","v":0},{"$f":"IFERROR(VLOOKUP(RC28,MATCHSELEVES!$Y$14:$AG$600,9,FALSE),0)","v":0},"Megip_37",{"$f":"IFERROR(VLOOKUP(RI28,MATCHSELEVES!$Y$14:$AE$600,3,FALSE),0)","v":0},{"$f":"IFERROR(VLOOKUP(RI28,MATCHSELEVES!$Y$14:$AE$600,4,FALSE),0)","v":0},{"$f":"IFERROR(VLOOKUP(RI28,MATCHSELEVES!$Y$14:$AE$600,5,FALSE),0)","v":0},{"$f":"IFERROR(VLOOKUP(RI28,MATCHSELEVES!$Y$14:$AF$600,8,FALSE),0)","v":0},{"$f":"IFERROR(VLOOKUP(RI28,MATCHSELEVES!$Y$14:$AG$600,9,FALSE),0)","v":0},"Megip_38",{"$f":"IFERROR(VLOOKUP(RO28,MATCHSELEVES!$Y$14:$AE$600,3,FALSE),0)","v":0},{"$f":"IFERROR(VLOOKUP(RO28,MATCHSELEVES!$Y$14:$AE$600,4,FALSE),0)","v":0},{"$f":"IFERROR(VLOOKUP(RO28,MATCHSELEVES!$Y$14:$AE$600,5,FALSE),0)","v":0},{"$f":"IFERROR(VLOOKUP(RO28,MATCHSELEVES!$Y$14:$AF$600,8,FALSE),0)","v":0},{"$f":"IFERROR(VLOOKUP(RO28,MATCHSELEVES!$Y$14:$AG$600,9,FALSE),0)","v":0},"Megip_39",{"$f":"IFERROR(VLOOKUP(RU28,MATCHSELEVES!$Y$14:$AE$600,3,FALSE),0)","v":0},{"$f":"IFERROR(VLOOKUP(RU28,MATCHSELEVES!$Y$14:$AE$600,4,FALSE),0)","v":0},{"$f":"IFERROR(VLOOKUP(RU28,MATCHSELEVES!$Y$14:$AE$600,5,FALSE),0)","v":0},{"$f":"IFERROR(VLOOKUP(RU28,MATCHSELEVES!$Y$14:$AF$600,8,FALSE),0)","v":0},{"$f":"IFERROR(VLOOKUP(RU28,MATCHSELEVES!$Y$14:$AG$600,9,FALSE),0)","v":0},"Megip_40",{"$f":"IFERROR(VLOOKUP(SA28,MATCHSELEVES!$Y$14:$AE$600,3,FALSE),0)","v":0},{"$f":"IFERROR(VLOOKUP(SA28,MATCHSELEVES!$Y$14:$AE$600,4,FALSE),0)","v":0},{"$f":"IFERROR(VLOOKUP(SA28,MATCHSELEVES!$Y$14:$AE$600,5,FALSE),0)","v":0},{"$f":"IFERROR(VLOOKUP(SA28,MATCHSELEVES!$Y$14:$AF$600,8,FALSE),0)","v":0},{"$f":"IFERROR(VLOOKUP(SA28,MATCHSELEVES!$Y$14:$AG$600,9,FALSE),0)","v":0}]
[26,null,"paul",26,null,null,{"$f":"COUNTIF(MATCHSELEVES!$Z$14:$Z$600,C29)+COUNTIF(MATCHSELEVES!$Z$14:$Z$600,$C29&\"p\")","v":0},1,{"$f":"COUNTIF(MATCHSELEVES!$F$14:$H$249,C29)","v":0},1,0,1,{"$f":"IFERROR(M72/Tableau10[[#This Row],[Nombre de matchs joués]],0)","v":0},{"$f":"IF(Tableau10[[#This Row],[Nombre de points encaissés]]=0,$C$45,SUMPRODUCT((M$4:M$43<M29)*(M$4:M$43<>0))+1)","v":40},0,1,{"$f":"(Tableau10[[#This Row],[CLASSEMENT1]]+Tableau10[[#This Row],[CLASSEMENT2]]+Tableau10[[#This Row],[CLASSEMENT3]]+Tableau10[[#This Row],[CLASSEMENT4]]+Tableau10[[#This Row],[CLASSEMENT5]]+Tableau10[[#This Row],[CLASSEMENT6]])/6","v":11.666666666666666},{"$f":"RANK(Tableau10[[#This Row],[MOYENNE CLASSEMENTS]],Tableau10[MOYENNE CLASSEMENTS],1)","v":26},null,{"$f":"Tableau10[[#This Row],[CLASSEMENT1]]","v":26},"paul_1",{"$f":"IFERROR(VLOOKUP(U29,MATCHSELEVES!$Y$14:$AE$600,3,FALSE),0)","v":0},{"$f":"IFERROR(VLOOKUP(U29,MATCHSELEVES!$Y$14:$AE$600,4,FALSE),0)","v":0},{"$f":"IFERROR(VLOOKUP(U29,MATCHSELEVES!$Y$14:$AE$600,5,FALSE),0)","v":0},{"$f":"IFERROR(VLOOKUP(U29,MATCHSELEVES!$Y$14:$AF$600,8,FALSE),0)","v":0},{"$f":"IFERROR(VLOOKUP(U29,MATCHSELEVES!$Y$14:$AG$600,9,FALSE),0)","v":0},"paul_2",{"$f":"IFERROR(VLOOKUP(AA29,MATCHSELEVES!$Y$14:$AE$600,3,FALSE),0)","v":0},{"$f":"IFERROR(VLOOKUP(AA29,MATCHSELEVES!$Y$14:$AE$600,4,FALSE),0)","v":0},{"$f":"IFERROR(VLOOKUP(AA29,MATCHSELEVES!$Y$14:$AE$600,5,FALSE),0)","v":0},{"$f":"IFERROR(VLOOKUP(AA29,MATCHSELEVES!$Y$14:$AF$600,8,FALSE),0)","v":0},{"$f":"IFERROR(VLOOKUP(AA29,MATCHSELEVES!$Y$14:$AG$600,9,FALSE),0)","v":0},"paul_3",{"$f":"IFERROR(VLOOKUP(AG29,MATCHSELEVES!$Y$14:$AE$600,3,FALSE),0)","v":0},{"$f":"IFERROR(VLOOKUP(AG29,MATCHSELEVES!$Y$14:$AE$600,4,FALSE),0)","v":0},{"$f":"IFERROR(VLOOKUP(AG29,MATCHSELEVES!$Y$14:$AE$600,5,FALSE),0)","v":0},{"$f":"IFERROR(VLOOKUP(AG29,MATCHSELEVES!$Y$14:$AF$600,8,FALSE),0)","v":0},{"$f":"IFERROR(VLOOKUP(AG29,MATCHSELEVES!$Y$14:$AG$600,9,FALSE),0)","v":0},"paul_4",{"$f":"IFERROR(VLOOKUP(AM29,MATCHSELEVES!$Y$14:$AE$600,3,FALSE),0)","v":0},{"$f":"IFERROR(VLOOKUP(AM29,MATCHSELEVES!$Y$14:$AE$600,4,FALSE),0)","v":0},{"$f":"IFERROR(VLOOKUP(AM29,MATCHSELEVES!$Y$14:$AE$600,5,FALSE),0)","v":0},{"$f":"IFERROR(VLOOKUP(AM29,MATCHSELEVES!$Y$14:$AF$600,8,FALSE),0)","v":0},{"$f":"IFERROR(VLOOKUP(AM29,MATCHSELEVES!$Y$14:$AG$600,9,FALSE),0)","v":0},"paul_5",{"$f":"IFERROR(VLOOKUP(AS29,MATCHSELEVES!$Y$14:$AE$600,3,FALSE),0)","v":0},{"$f":"IFERROR(VLOOKUP(AS29,MATCHSELEVES!$Y$14:$AE$600,4,FALSE),0)","v":0},{"$f":"IFERROR(VLOOKUP(AS29,MATCHSELEVES!$Y$14:$AE$600,5,FALSE),0)","v":0},{"$f":"IFERROR(VLOOKUP(AS29,MATCHSELEVES!$Y$14:$AF$600,8,FALSE),0)","v":0},{"$f":"IFERROR(VLOOKUP(AS29,MATCHSELEVES!$Y$14:$AG$600,9,FALSE),0)","v":0},"paul_6",{"$f":"IFERROR(VLOOKUP(AY29,MATCHSELEVES!$Y$14:$AE$600,3,FALSE),0)","v":0},{"$f":"IFERROR(VLOOKUP(AY29,MATCHSELEVES!$Y$14:$AE$600,4,FALSE),0)","v":0},{"$f":"IFERROR(VLOOKUP(AY29,MATCHSELEVES!$Y$14:$AE$600,5,FALSE),0)","v":0},{"$f":"IFERROR(VLOOKUP(AY29,MATCHSELEVES!$Y$14:$AF$600,8,FALSE),0)","v":0},{"$f":"IFERROR(VLOOKUP(AY29,MATCHSELEVES!$Y$14:$AG$600,9,FALSE),0)","v":0},"paul_7",{"$f":"IFERROR(VLOOKUP(BE29,MATCHSELEVES!$Y$14:$AE$600,3,FALSE),0)","v":0},{"$f":"IFERROR(VLOOKUP(BE29,MATCHSELEVES!$Y$14:$AE$600,4,FALSE),0)","v":0},{"$f":"IFERROR(VLOOKUP(BE29,MATCHSELEVES!$Y$14:$AE$600,5,FALSE),0)","v":0},{"$f":"IFERROR(VLOOKUP(BE29,MATCHSELEVES!$Y$14:$AF$600,8,FALSE),0)","v":0},{"$f":"IFERROR(VLOOKUP(BE29,MATCHSELEVES!$Y$14:$AG$600,9,FALSE),0)","v":0},"paul_8",{"$f":"IFERROR(VLOOKUP(BK29,MATCHSELEVES!$Y$14:$AE$600,3,FALSE),0)","v":0},{"$f":"IFERROR(VLOOKUP(BK29,MATCHSELEVES!$Y$14:$AE$600,4,FALSE),0)","v":0},{"$f":"IFERROR(VLOOKUP(BK29,MATCHSELEVES!$Y$14:$AE$600,5,FALSE),0)","v":0},{"$f":"IFERROR(VLOOKUP(BK29,MATCHSELEVES!$Y$14:$AF$600,8,FALSE),0)","v":0},{"$f":"IFERROR(VLOOKUP(BK29,MATCHSELEVES!$Y$14:$AG$600,9,FALSE),0)","v":0},"paul_9",{"$f":"IFERROR(VLOOKUP(BQ29,MATCHSELEVES!$Y$14:$AE$600,3,FALSE),0)","v":0},{"$f":"IFERROR(VLOOKUP(BQ29,MATCHSELEVES!$Y$14:$AE$600,4,FALSE),0)","v":0},{"$f":"IFERROR(VLOOKUP(BQ29,MATCHSELEVES!$Y$14:$AE$600,5,FALSE),0)","v":0},{"$f":"IFERROR(VLOOKUP(BQ29,MATCHSELEVES!$Y$14:$AF$600,8,FALSE),0)","v":0},{"$f":"IFERROR(VLOOKUP(BQ29,MATCHSELEVES!$Y$14:$AG$600,9,FALSE),0)","v":0},"paul_10",{"$f":"IFERROR(VLOOKUP(BW29,MATCHSELEVES!$Y$14:$AE$600,3,FALSE),0)","v":0},{"$f":"IFERROR(VLOOKUP(BW29,MATCHSELEVES!$Y$14:$AE$600,4,FALSE),0)","v":0},{"$f":"IFERROR(VLOOKUP(BW29,MATCHSELEVES!$Y$14:$AE$600,5,FALSE),0)","v":0},{"$f":"IFERROR(VLOOKUP(BW29,MATCHSELEVES!$Y$14:$AF$600,8,FALSE),0)","v":0},{"$f":"IFERROR(VLOOKUP(BW29,MATCHSELEVES!$Y$14:$AG$600,9,FALSE),0)","v":0},"paul_11",{"$f":"IFERROR(VLOOKUP(CC29,MATCHSELEVES!$Y$14:$AE$600,3,FALSE),0)","v":0},{"$f":"IFERROR(VLOOKUP(CC29,MATCHSELEVES!$Y$14:$AE$600,4,FALSE),0)","v":0},{"$f":"IFERROR(VLOOKUP(CC29,MATCHSELEVES!$Y$14:$AE$600,5,FALSE),0)","v":0},{"$f":"IFERROR(VLOOKUP(CC29,MATCHSELEVES!$Y$14:$AF$600,8,FALSE),0)","v":0},{"$f":"IFERROR(VLOOKUP(CC29,MATCHSELEVES!$Y$14:$AG$600,9,FALSE),0)","v":0},"paul_12",{"$f":"IFERROR(VLOOKUP(CI29,MATCHSELEVES!$Y$14:$AE$600,3,FALSE),0)","v":0},{"$f":"IFERROR(VLOOKUP(CI29,MATCHSELEVES!$Y$14:$AE$600,4,FALSE),0)","v":0},{"$f":"IFERROR(VLOOKUP(CI29,MATCHSELEVES!$Y$14:$AE$600,5,FALSE),0)","v":0},{"$f":"IFERROR(VLOOKUP(CI29,MATCHSELEVES!$Y$14:$AF$600,8,FALSE),0)","v":0},{"$f":"IFERROR(VLOOKUP(CI29,MATCHSELEVES!$Y$14:$AG$600,9,FALSE),0)","v":0},"paul_13",{"$f":"IFERROR(VLOOKUP(CO29,MATCHSELEVES!$Y$14:$AE$600,3,FALSE),0)","v":0},{"$f":"IFERROR(VLOOKUP(CO29,MATCHSELEVES!$Y$14:$AE$600,4,FALSE),0)","v":0},{"$f":"IFERROR(VLOOKUP(CO29,MATCHSELEVES!$Y$14:$AE$600,5,FALSE),0)","v":0},{"$f":"IFERROR(VLOOKUP(CO29,MATCHSELEVES!$Y$14:$AF$600,8,FALSE),0)","v":0},{"$f":"IFERROR(VLOOKUP(CO29,MATCHSELEVES!$Y$14:$AG$600,9,FALSE),0)","v":0},"paul_14",{"$f":"IFERROR(VLOOKUP(CU29,MATCHSELEVES!$Y$14:$AE$600,3,FALSE),0)","v":0},{"$f":"IFERROR(VLOOKUP(CU29,MATCHSELEVES!$Y$14:$AE$600,4,FALSE),0)","v":0},{"$f":"IFERROR(VLOOKUP(CU29,MATCHSELEVES!$Y$14:$AE$600,5,FALSE),0)","v":0},{"$f":"IFERROR(VLOOKUP(CU29,MATCHSELEVES!$Y$14:$AF$600,8,FALSE),0)","v":0},{"$f":"IFERROR(VLOOKUP(CU29,MATCHSELEVES!$Y$14:$AG$600,9,FALSE),0)","v":0},"paul_15",{"$f":"IFERROR(VLOOKUP(DA29,MATCHSELEVES!$Y$14:$AE$600,3,FALSE),0)","v":0},{"$f":"IFERROR(VLOOKUP(DA29,MATCHSELEVES!$Y$14:$AE$600,4,FALSE),0)","v":0},{"$f":"IFERROR(VLOOKUP(DA29,MATCHSELEVES!$Y$14:$AE$600,5,FALSE),0)","v":0},{"$f":"IFERROR(VLOOKUP(DA29,MATCHSELEVES!$Y$14:$AF$600,8,FALSE),0)","v":0},{"$f":"IFERROR(VLOOKUP(DA29,MATCHSELEVES!$Y$14:$AG$600,9,FALSE),0)","v":0},"paul_16",{"$f":"IFERROR(VLOOKUP(DG29,MATCHSELEVES!$Y$14:$AE$600,3,FALSE),0)","v":0},{"$f":"IFERROR(VLOOKUP(DG29,MATCHSELEVES!$Y$14:$AE$600,4,FALSE),0)","v":0},{"$f":"IFERROR(VLOOKUP(DG29,MATCHSELEVES!$Y$14:$AE$600,5,FALSE),0)","v":0},{"$f":"IFERROR(VLOOKUP(DG29,MATCHSELEVES!$Y$14:$AF$600,8,FALSE),0)","v":0},{"$f":"IFERROR(VLOOKUP(DG29,MATCHSELEVES!$Y$14:$AG$600,9,FALSE),0)","v":0},"paul_17",{"$f":"IFERROR(VLOOKUP(DM29,MATCHSELEVES!$Y$14:$AE$600,3,FALSE),0)","v":0},{"$f":"IFERROR(VLOOKUP(DM29,MATCHSELEVES!$Y$14:$AE$600,4,FALSE),0)","v":0},{"$f":"IFERROR(VLOOKUP(DM29,MATCHSELEVES!$Y$14:$AE$600,5,FALSE),0)","v":0},{"$f":"IFERROR(VLOOKUP(DM29,MATCHSELEVES!$Y$14:$AF$600,8,FALSE),0)","v":0},{"$f":"IFERROR(VLOOKUP(DM29,MATCHSELEVES!$Y$14:$AG$600,9,FALSE),0)","v":0},"paul_18",{"$f":"IFERROR(VLOOKUP(DS29,MATCHSELEVES!$Y$14:$AE$600,3,FALSE),0)","v":0},{"$f":"IFERROR(VLOOKUP(DS29,MATCHSELEVES!$Y$14:$AE$600,4,FALSE),0)","v":0},{"$f":"IFERROR(VLOOKUP(DS29,MATCHSELEVES!$Y$14:$AE$600,5,FALSE),0)","v":0},{"$f":"IFERROR(VLOOKUP(DS29,MATCHSELEVES!$Y$14:$AF$600,8,FALSE),0)","v":0},{"$f":"IFERROR(VLOOKUP(DS29,MATCHSELEVES!$Y$14:$AG$600,9,FALSE),0)","v":0},"paul_19",{"$f":"IFERROR(VLOOKUP(DY29,MATCHSELEVES!$Y$14:$AE$600,3,FALSE),0)","v":0},{"$f":"IFERROR(VLOOKUP(DY29,MATCHSELEVES!$Y$14:$AE$600,4,FALSE),0)","v":0},{"$f":"IFERROR(VLOOKUP(DY29,MATCHSELEVES!$Y$14:$AE$600,5,FALSE),0)","v":0},{"$f":"IFERROR(VLOOKUP(DY29,MATCHSELEVES!$Y$14:$AF$600,8,FALSE),0)","v":0},{"$f":"IFERROR(VLOOKUP(DY29,MATCHSELEVES!$Y$14:$AG$600,9,FALSE),0)","v":0},"paul_20",{"$f":"IFERROR(VLOOKUP(EE29,MATCHSELEVES!$Y$14:$AE$600,3,FALSE),0)","v":0},{"$f":"IFERROR(VLOOKUP(EE29,MATCHSELEVES!$Y$14:$AE$600,4,FALSE),0)","v":0},{"$f":"IFERROR(VLOOKUP(EE29,MATCHSELEVES!$Y$14:$AE$600,5,FALSE),0)","v":0},{"$f":"IFERROR(VLOOKUP(EE29,MATCHSELEVES!$Y$14:$AF$600,8,FALSE),0)","v":0},{"$f":"IFERROR(VLOOKUP(EE29,MATCHSELEVES!$Y$14:$AG$600,9,FALSE),0)","v":0},"paul_21",{"$f":"IFERROR(VLOOKUP(EK29,MATCHSELEVES!$Y$14:$AE$600,3,FALSE),0)","v":0},{"$f":"IFERROR(VLOOKUP(EK29,MATCHSELEVES!$Y$14:$AE$600,4,FALSE),0)","v":0},{"$f":"IFERROR(VLOOKUP(EK29,MATCHSELEVES!$Y$14:$AE$600,5,FALSE),0)","v":0},{"$f":"IFERROR(VLOOKUP(EK29,MATCHSELEVES!$Y$14:$AF$600,8,FALSE),0)","v":0},{"$f":"IFERROR(VLOOKUP(EK29,MATCHSELEVES!$Y$14:$AG$600,9,FALSE),0)","v":0},"paul_22",{"$f":"IFERROR(VLOOKUP(EQ29,MATCHSELEVES!$Y$14:$AE$600,3,FALSE),0)","v":0},{"$f":"IFERROR(VLOOKUP(EQ29,MATCHSELEVES!$Y$14:$AE$600,4,FALSE),0)","v":0},{"$f":"IFERROR(VLOOKUP(EQ29,MATCHSELEVES!$Y$14:$AE$600,5,FALSE),0)","v":0},{"$f":"IFERROR(VLOOKUP(EQ29,MATCHSELEVES!$Y$14:$AF$600,8,FALSE),0)","v":0},{"$f":"IFERROR(VLOOKUP(EQ29,MATCHSELEVES!$Y$14:$AG$600,9,FALSE),0)","v":0},"paul_23",{"$f":"IFERROR(VLOOKUP(EW29,MATCHSELEVES!$Y$14:$AE$600,3,FALSE),0)","v":0},{"$f":"IFERROR(VLOOKUP(EW29,MATCHSELEVES!$Y$14:$AE$600,4,FALSE),0)","v":0},{"$f":"IFERROR(VLOOKUP(EW29,MATCHSELEVES!$Y$14:$AE$600,5,FALSE),0)","v":0},{"$f":"IFERROR(VLOOKUP(EW29,MATCHSELEVES!$Y$14:$AF$600,8,FALSE),0)","v":0},{"$f":"IFERROR(VLOOKUP(EW29,MATCHSELEVES!$Y$14:$AG$600,9,FALSE),0)","v":0},"paul_24",{"$f":"IFERROR(VLOOKUP(FC29,MATCHSELEVES!$Y$14:$AE$600,3,FALSE),0)","v":0},{"$f":"IFERROR(VLOOKUP(FC29,MATCHSELEVES!$Y$14:$AE$600,4,FALSE),0)","v":0},{"$f":"IFERROR(VLOOKUP(FC29,MATCHSELEVES!$Y$14:$AE$600,5,FALSE),0)","v":0},{"$f":"IFERROR(VLOOKUP(FC29,MATCHSELEVES!$Y$14:$AF$600,8,FALSE),0)","v":0},{"$f":"IFERROR(VLOOKUP(FC29,MATCHSELEVES!$Y$14:$AG$600,9,FALSE),0)","v":0},"paul_25",{"$f":"IFERROR(VLOOKUP(FI29,MATCHSELEVES!$Y$14:$AE$600,3,FALSE),0)","v":0},{"$f":"IFERROR(VLOOKUP(FI29,MATCHSELEVES!$Y$14:$AE$600,4,FALSE),0)","v":0},{"$f":"IFERROR(VLOOKUP(FI29,MATCHSELEVES!$Y$14:$AE$600,5,FALSE),0)","v":0},{"$f":"IFERROR(VLOOKUP(FI29,MATCHSELEVES!$Y$14:$AF$600,8,FALSE),0)","v":0},{"$f":"IFERROR(VLOOKUP(FI29,MATCHSELEVES!$Y$14:$AG$600,9,FALSE),0)","v":0},"paul_26",{"$f":"IFERROR(VLOOKUP(FO29,MATCHSELEVES!$Y$14:$AE$600,3,FALSE),0)","v":0},{"$f":"IFERROR(VLOOKUP(FO29,MATCHSELEVES!$Y$14:$AE$600,4,FALSE),0)","v":0},{"$f":"IFERROR(VLOOKUP(FO29,MATCHSELEVES!$Y$14:$AE$600,5,FALSE),0)","v":0},{"$f":"IFERROR(VLOOKUP(FO29,MATCHSELEVES!$Y$14:$AF$600,8,FALSE),0)","v":0},{"$f":"IFERROR(VLOOKUP(FO29,MATCHSELEVES!$Y$14:$AG$600,9,FALSE),0)","v":0},"paul_27",{"$f":"IFERROR(VLOOKUP(FU29,MATCHSELEVES!$Y$14:$AE$600,3,FALSE),0)","v":0},{"$f":"IFERROR(VLOOKUP(FU29,MATCHSELEVES!$Y$14:$AE$600,4,FALSE),0)","v":0},{"$f":"IFERROR(VLOOKUP(FU29,MATCHSELEVES!$Y$14:$AE$600,5,FALSE),0)","v":0},{"$f":"IFERROR(VLOOKUP(FU29,MATCHSELEVES!$Y$14:$AF$600,8,FALSE),0)","v":0},{"$f":"IFERROR(VLOOKUP(FU29,MATCHSELEVES!$Y$14:$AG$600,9,FALSE),0)","v":0},"paul_28",{"$f":"IFERROR(VLOOKUP(GA29,MATCHSELEVES!$Y$14:$AE$600,3,FALSE),0)","v":0},{"$f":"IFERROR(VLOOKUP(GA29,MATCHSELEVES!$Y$14:$AE$600,4,FALSE),0)","v":0},{"$f":"IFERROR(VLOOKUP(GA29,MATCHSELEVES!$Y$14:$AE$600,5,FALSE),0)","v":0},{"$f":"IFERROR(VLOOKUP(GA29,MATCHSELEVES!$Y$14:$AF$600,8,FALSE),0)","v":0},{"$f":"IFERROR(VLOOKUP(GA29,MATCHSELEVES!$Y$14:$AG$600,9,FALSE),0)","v":0},"paul_29",{"$f":"IFERROR(VLOOKUP(GG29,MATCHSELEVES!$Y$14:$AE$600,3,FALSE),0)","v":0},{"$f":"IFERROR(VLOOKUP(GG29,MATCHSELEVES!$Y$14:$AE$600,4,FALSE),0)","v":0},{"$f":"IFERROR(VLOOKUP(GG29,MATCHSELEVES!$Y$14:$AE$600,5,FALSE),0)","v":0},{"$f":"IFERROR(VLOOKUP(GG29,MATCHSELEVES!$Y$14:$AF$600,8,FALSE),0)","v":0},{"$f":"IFERROR(VLOOKUP(GG29,MATCHSELEVES!$Y$14:$AG$600,9,FALSE),0)","v":0},"paul_30",{"$f":"IFERROR(VLOOKUP(GM29,MATCHSELEVES!$Y$14:$AE$600,3,FALSE),0)","v":0},{"$f":"IFERROR(VLOOKUP(GM29,MATCHSELEVES!$Y$14:$AE$600,4,FALSE),0)","v":0},{"$f":"IFERROR(VLOOKUP(GM29,MATCHSELEVES!$Y$14:$AE$600,5,FALSE),0)","v":0},{"$f":"IFERROR(VLOOKUP(GM29,MATCHSELEVES!$Y$14:$AF$600,8,FALSE),0)","v":0},{"$f":"IFERROR(VLOOKUP(GM29,MATCHSELEVES!$Y$14:$AG$600,9,FALSE),0)","v":0},"paul_31",{"$f":"IFERROR(VLOOKUP(GS29,MATCHSELEVES!$Y$14:$AE$600,3,FALSE),0)","v":0},{"$f":"IFERROR(VLOOKUP(GS29,MATCHSELEVES!$Y$14:$AE$600,4,FALSE),0)","v":0},{"$f":"IFERROR(VLOOKUP(GS29,MATCHSELEVES!$Y$14:$AE$600,5,FALSE),0)","v":0},{"$f":"IFERROR(VLOOKUP(GS29,MATCHSELEVES!$Y$14:$AF$600,8,FALSE),0)","v":0},{"$f":"IFERROR(VLOOKUP(GS29,MATCHSELEVES!$Y$14:$AG$600,9,FALSE),0)","v":0},"paul_32",{"$f":"IFERROR(VLOOKUP(GY29,MATCHSELEVES!$Y$14:$AE$600,3,FALSE),0)","v":0},{"$f":"IFERROR(VLOOKUP(GY29,MATCHSELEVES!$Y$14:$AE$600,4,FALSE),0)","v":0},{"$f":"IFERROR(VLOOKUP(GY29,MATCHSELEVES!$Y$14:$AE$600,5,FALSE),0)","v":0},{"$f":"IFERROR(VLOOKUP(GY29,MATCHSELEVES!$Y$14:$AF$600,8,FALSE),0)","v":0},{"$f":"IFERROR(VLOOKUP(GY29,MATCHSELEVES!$Y$14:$AG$600,9,FALSE),0)","v":0},"paul_33",{"$f":"IFERROR(VLOOKUP(HE29,MATCHSELEVES!$Y$14:$AE$600,3,FALSE),0)","v":0},{"$f":"IFERROR(VLOOKUP(HE29,MATCHSELEVES!$Y$14:$AE$600,4,FALSE),0)","v":0},{"$f":"IFERROR(VLOOKUP(HE29,MATCHSELEVES!$Y$14:$AE$600,5,FALSE),0)","v":0},{"$f":"IFERROR(VLOOKUP(HE29,MATCHSELEVES!$Y$14:$AF$600,8,FALSE),0)","v":0},{"$f":"IFERROR(VLOOKUP(HE29,MATCHSELEVES!$Y$14:$AG$600,9,FALSE),0)","v":0},"paul_34",{"$f":"IFERROR(VLOOKUP(HK29,MATCHSELEVES!$Y$14:$AE$600,3,FALSE),0)","v":0},{"$f":"IFERROR(VLOOKUP(HK29,MATCHSELEVES!$Y$14:$AE$600,4,FALSE),0)","v":0},{"$f":"IFERROR(VLOOKUP(HK29,MATCHSELEVES!$Y$14:$AE$600,5,FALSE),0)","v":0},{"$f":"IFERROR(VLOOKUP(HK29,MATCHSELEVES!$Y$14:$AF$600,8,FALSE),0)","v":0},{"$f":"IFERROR(VLOOKUP(HK29,MATCHSELEVES!$Y$14:$AG$600,9,FALSE),0)","v":0},"paul_35",{"$f":"IFERROR(VLOOKUP(HQ29,MATCHSELEVES!$Y$14:$AE$600,3,FALSE),0)","v":0},{"$f":"IFERROR(VLOOKUP(HQ29,MATCHSELEVES!$Y$14:$AE$600,4,FALSE),0)","v":0},{"$f":"IFERROR(VLOOKUP(HQ29,MATCHSELEVES!$Y$14:$AE$600,5,FALSE),0)","v":0},{"$f":"IFERROR(VLOOKUP(HQ29,MATCHSELEVES!$Y$14:$AF$600,8,FALSE),0)","v":0},{"$f":"IFERROR(VLOOKUP(HQ29,MATCHSELEVES!$Y$14:$AG$600,9,FALSE),0)","v":0},"paul_36",{"$f":"IFERROR(VLOOKUP(HW29,MATCHSELEVES!$Y$14:$AE$600,3,FALSE),0)","v":0},{"$f":"IFERROR(VLOOKUP(HW29,MATCHSELEVES!$Y$14:$AE$600,4,FALSE),0)","v":0},{"$f":"IFERROR(VLOOKUP(HW29,MATCHSELEVES!$Y$14:$AE$600,5,FALSE),0)","v":0},{"$f":"IFERROR(VLOOKUP(HW29,MATCHSELEVES!$Y$14:$AF$600,8,FALSE),0)","v":0},{"$f":"IFERROR(VLOOKUP(HW29,MATCHSELEVES!$Y$14:$AG$600,9,FALSE),0)","v":0},"paul_37",{"$f":"IFERROR(VLOOKUP(IC29,MATCHSELEVES!$Y$14:$AE$600,3,FALSE),0)","v":0},{"$f":"IFERROR(VLOOKUP(IC29,MATCHSELEVES!$Y$14:$AE$600,4,FALSE),0)","v":0},{"$f":"IFERROR(VLOOKUP(IC29,MATCHSELEVES!$Y$14:$AE$600,5,FALSE),0)","v":0},{"$f":"IFERROR(VLOOKUP(IC29,MATCHSELEVES!$Y$14:$AF$600,8,FALSE),0)","v":0},{"$f":"IFERROR(VLOOKUP(IC29,MATCHSELEVES!$Y$14:$AG$600,9,FALSE),0)","v":0},"paul_38",{"$f":"IFERROR(VLOOKUP(II29,MATCHSELEVES!$Y$14:$AE$600,3,FALSE),0)","v":0},{"$f":"IFERROR(VLOOKUP(II29,MATCHSELEVES!$Y$14:$AE$600,4,FALSE),0)","v":0},{"$f":"IFERROR(VLOOKUP(II29,MATCHSELEVES!$Y$14:$AE$600,5,FALSE),0)","v":0},{"$f":"IFERROR(VLOOKUP(II29,MATCHSELEVES!$Y$14:$AF$600,8,FALSE),0)","v":0},{"$f":"IFERROR(VLOOKUP(II29,MATCHSELEVES!$Y$14:$AG$600,9,FALSE),0)","v":0},"paul_39",{"$f":"IFERROR(VLOOKUP(IO29,MATCHSELEVES!$Y$14:$AE$600,3,FALSE),0)","v":0},{"$f":"IFERROR(VLOOKUP(IO29,MATCHSELEVES!$Y$14:$AE$600,4,FALSE),0)","v":0},{"$f":"IFERROR(VLOOKUP(IO29,MATCHSELEVES!$Y$14:$AE$600,5,FALSE),0)","v":0},{"$f":"IFERROR(VLOOKUP(IO29,MATCHSELEVES!$Y$14:$AF$600,8,FALSE),0)","v":0},{"$f":"IFERROR(VLOOKUP(IO29,MATCHSELEVES!$Y$14:$AG$600,9,FALSE),0)","v":0},"paul_40",{"$f":"IFERROR(VLOOKUP(IU29,MATCHSELEVES!$Y$14:$AE$600,3,FALSE),0)","v":0},{"$f":"IFERROR(VLOOKUP(IU29,MATCHSELEVES!$Y$14:$AE$600,4,FALSE),0)","v":0},{"$f":"IFERROR(VLOOKUP(IU29,MATCHSELEVES!$Y$14:$AE$600,5,FALSE),0)","v":0},{"$f":"IFERROR(VLOOKUP(IU29,MATCHSELEVES!$Y$14:$AF$600,8,FALSE),0)","v":0},{"$f":"IFERROR(VLOOKUP(IU29,MATCHSELEVES!$Y$14:$AG$600,9,FALSE),0)","v":0},"paulp_1",{"$f":"IFERROR(VLOOKUP(JA29,MATCHSELEVES!$Y$14:$AE$600,3,FALSE),0)","v":0},{"$f":"IFERROR(VLOOKUP(JA29,MATCHSELEVES!$Y$14:$AE$600,4,FALSE),0)","v":0},{"$f":"IFERROR(VLOOKUP(JA29,MATCHSELEVES!$Y$14:$AE$600,5,FALSE),0)","v":0},{"$f":"IFERROR(VLOOKUP(JA29,MATCHSELEVES!$Y$14:$AF$600,8,FALSE),0)","v":0},{"$f":"IFERROR(VLOOKUP(JA29,MATCHSELEVES!$Y$14:$AG$600,9,FALSE),0)","v":0},"paulp_2",{"$f":"IFERROR(VLOOKUP(JG29,MATCHSELEVES!$Y$14:$AE$600,3,FALSE),0)","v":0},{"$f":"IFERROR(VLOOKUP(JG29,MATCHSELEVES!$Y$14:$AE$600,4,FALSE),0)","v":0},{"$f":"IFERROR(VLOOKUP(JG29,MATCHSELEVES!$Y$14:$AE$600,5,FALSE),0)","v":0},{"$f":"IFERROR(VLOOKUP(JG29,MATCHSELEVES!$Y$14:$AF$600,8,FALSE),0)","v":0},{"$f":"IFERROR(VLOOKUP(JG29,MATCHSELEVES!$Y$14:$AG$600,9,FALSE),0)","v":0},"paulp_3",{"$f":"IFERROR(VLOOKUP(JM29,MATCHSELEVES!$Y$14:$AE$600,3,FALSE),0)","v":0},{"$f":"IFERROR(VLOOKUP(JM29,MATCHSELEVES!$Y$14:$AE$600,4,FALSE),0)","v":0},{"$f":"IFERROR(VLOOKUP(JM29,MATCHSELEVES!$Y$14:$AE$600,5,FALSE),0)","v":0},{"$f":"IFERROR(VLOOKUP(JM29,MATCHSELEVES!$Y$14:$AF$600,8,FALSE),0)","v":0},{"$f":"IFERROR(VLOOKUP(JM29,MATCHSELEVES!$Y$14:$AG$600,9,FALSE),0)","v":0},"paulp_4",{"$f":"IFERROR(VLOOKUP(JS29,MATCHSELEVES!$Y$14:$AE$600,3,FALSE),0)","v":0},{"$f":"IFERROR(VLOOKUP(JS29,MATCHSELEVES!$Y$14:$AE$600,4,FALSE),0)","v":0},{"$f":"IFERROR(VLOOKUP(JS29,MATCHSELEVES!$Y$14:$AE$600,5,FALSE),0)","v":0},{"$f":"IFERROR(VLOOKUP(JS29,MATCHSELEVES!$Y$14:$AF$600,8,FALSE),0)","v":0},{"$f":"IFERROR(VLOOKUP(JS29,MATCHSELEVES!$Y$14:$AG$600,9,FALSE),0)","v":0},"paulp_5",{"$f":"IFERROR(VLOOKUP(JY29,MATCHSELEVES!$Y$14:$AE$600,3,FALSE),0)","v":0},{"$f":"IFERROR(VLOOKUP(JY29,MATCHSELEVES!$Y$14:$AE$600,4,FALSE),0)","v":0},{"$f":"IFERROR(VLOOKUP(JY29,MATCHSELEVES!$Y$14:$AE$600,5,FALSE),0)","v":0},{"$f":"IFERROR(VLOOKUP(JY29,MATCHSELEVES!$Y$14:$AF$600,8,FALSE),0)","v":0},{"$f":"IFERROR(VLOOKUP(JY29,MATCHSELEVES!$Y$14:$AG$600,9,FALSE),0)","v":0},"paulp_6",{"$f":"IFERROR(VLOOKUP(KE29,MATCHSELEVES!$Y$14:$AE$600,3,FALSE),0)","v":0},{"$f":"IFERROR(VLOOKUP(KE29,MATCHSELEVES!$Y$14:$AE$600,4,FALSE),0)","v":0},{"$f":"IFERROR(VLOOKUP(KE29,MATCHSELEVES!$Y$14:$AE$600,5,FALSE),0)","v":0},{"$f":"IFERROR(VLOOKUP(KE29,MATCHSELEVES!$Y$14:$AF$600,8,FALSE),0)","v":0},{"$f":"IFERROR(VLOOKUP(KE29,MATCHSELEVES!$Y$14:$AG$600,9,FALSE),0)","v":0},"paulp_7",{"$f":"IFERROR(VLOOKUP(KK29,MATCHSELEVES!$Y$14:$AE$600,3,FALSE),0)","v":0},{"$f":"IFERROR(VLOOKUP(KK29,MATCHSELEVES!$Y$14:$AE$600,4,FALSE),0)","v":0},{"$f":"IFERROR(VLOOKUP(KK29,MATCHSELEVES!$Y$14:$AE$600,5,FALSE),0)","v":0},{"$f":"IFERROR(VLOOKUP(KK29,MATCHSELEVES!$Y$14:$AF$600,8,FALSE),0)","v":0},{"$f":"IFERROR(VLOOKUP(KK29,MATCHSELEVES!$Y$14:$AG$600,9,FALSE),0)","v":0},"paulp_8",{"$f":"IFERROR(VLOOKUP(KQ29,MATCHSELEVES!$Y$14:$AE$600,3,FALSE),0)","v":0},{"$f":"IFERROR(VLOOKUP(KQ29,MATCHSELEVES!$Y$14:$AE$600,4,FALSE),0)","v":0},{"$f":"IFERROR(VLOOKUP(KQ29,MATCHSELEVES!$Y$14:$AE$600,5,FALSE),0)","v":0},{"$f":"IFERROR(VLOOKUP(KQ29,MATCHSELEVES!$Y$14:$AF$600,8,FALSE),0)","v":0},{"$f":"IFERROR(VLOOKUP(KQ29,MATCHSELEVES!$Y$14:$AG$600,9,FALSE),0)","v":0},"paulp_9",{"$f":"IFERROR(VLOOKUP(KW29,MATCHSELEVES!$Y$14:$AE$600,3,FALSE),0)","v":0},{"$f":"IFERROR(VLOOKUP(KW29,MATCHSELEVES!$Y$14:$AE$600,4,FALSE),0)","v":0},{"$f":"IFERROR(VLOOKUP(KW29,MATCHSELEVES!$Y$14:$AE$600,5,FALSE),0)","v":0},{"$f":"IFERROR(VLOOKUP(KW29,MATCHSELEVES!$Y$14:$AF$600,8,FALSE),0)","v":0},{"$f":"IFERROR(VLOOKUP(KW29,MATCHSELEVES!$Y$14:$AG$600,9,FALSE),0)","v":0},"paulp_10",{"$f":"IFERROR(VLOOKUP(LC29,MATCHSELEVES!$Y$14:$AE$600,3,FALSE),0)","v":0},{"$f":"IFERROR(VLOOKUP(LC29,MATCHSELEVES!$Y$14:$AE$600,4,FALSE),0)","v":0},{"$f":"IFERROR(VLOOKUP(LC29,MATCHSELEVES!$Y$14:$AE$600,5,FALSE),0)","v":0},{"$f":"IFERROR(VLOOKUP(LC29,MATCHSELEVES!$Y$14:$AF$600,8,FALSE),0)","v":0},{"$f":"IFERROR(VLOOKUP(LC29,MATCHSELEVES!$Y$14:$AG$600,9,FALSE),0)","v":0},"paulp_11",{"$f":"IFERROR(VLOOKUP(LI29,MATCHSELEVES!$Y$14:$AE$600,3,FALSE),0)","v":0},{"$f":"IFERROR(VLOOKUP(LI29,MATCHSELEVES!$Y$14:$AE$600,4,FALSE),0)","v":0},{"$f":"IFERROR(VLOOKUP(LI29,MATCHSELEVES!$Y$14:$AE$600,5,FALSE),0)","v":0},{"$f":"IFERROR(VLOOKUP(LI29,MATCHSELEVES!$Y$14:$AF$600,8,FALSE),0)","v":0},{"$f":"IFERROR(VLOOKUP(LI29,MATCHSELEVES!$Y$14:$AG$600,9,FALSE),0)","v":0},"paulp_12",{"$f":"IFERROR(VLOOKUP(LO29,MATCHSELEVES!$Y$14:$AE$600,3,FALSE),0)","v":0},{"$f":"IFERROR(VLOOKUP(LO29,MATCHSELEVES!$Y$14:$AE$600,4,FALSE),0)","v":0},{"$f":"IFERROR(VLOOKUP(LO29,MATCHSELEVES!$Y$14:$AE$600,5,FALSE),0)","v":0},{"$f":"IFERROR(VLOOKUP(LO29,MATCHSELEVES!$Y$14:$AF$600,8,FALSE),0)","v":0},{"$f":"IFERROR(VLOOKUP(LO29,MATCHSELEVES!$Y$14:$AG$600,9,FALSE),0)","v":0},"paulp_13",{"$f":"IFERROR(VLOOKUP(LU29,MATCHSELEVES!$Y$14:$AE$600,3,FALSE),0)","v":0},{"$f":"IFERROR(VLOOKUP(LU29,MATCHSELEVES!$Y$14:$AE$600,4,FALSE),0)","v":0},{"$f":"IFERROR(VLOOKUP(LU29,MATCHSELEVES!$Y$14:$AE$600,5,FALSE),0)","v":0},{"$f":"IFERROR(VLOOKUP(LU29,MATCHSELEVES!$Y$14:$AF$600,8,FALSE),0)","v":0},{"$f":"IFERROR(VLOOKUP(LU29,MATCHSELEVES!$Y$14:$AG$600,9,FALSE),0)","v":0},"paulp_14",{"$f":"IFERROR(VLOOKUP(MA29,MATCHSELEVES!$Y$14:$AE$600,3,FALSE),0)","v":0},{"$f":"IFERROR(VLOOKUP(MA29,MATCHSELEVES!$Y$14:$AE$600,4,FALSE),0)","v":0},{"$f":"IFERROR(VLOOKUP(MA29,MATCHSELEVES!$Y$14:$AE$600,5,FALSE),0)","v":0},{"$f":"IFERROR(VLOOKUP(MA29,MATCHSELEVES!$Y$14:$AF$600,8,FALSE),0)","v":0},{"$f":"IFERROR(VLOOKUP(MA29,MATCHSELEVES!$Y$14:$AG$600,9,FALSE),0)","v":0},"paulp_15",{"$f":"IFERROR(VLOOKUP(MG29,MATCHSELEVES!$Y$14:$AE$600,3,FALSE),0)","v":0},{"$f":"IFERROR(VLOOKUP(MG29,MATCHSELEVES!$Y$14:$AE$600,4,FALSE),0)","v":0},{"$f":"IFERROR(VLOOKUP(MG29,MATCHSELEVES!$Y$14:$AE$600,5,FALSE),0)","v":0},{"$f":"IFERROR(VLOOKUP(MG29,MATCHSELEVES!$Y$14:$AF$600,8,FALSE),0)","v":0},{"$f":"IFERROR(VLOOKUP(MG29,MATCHSELEVES!$Y$14:$AG$600,9,FALSE),0)","v":0},"paulp_16",{"$f":"IFERROR(VLOOKUP(MM29,MATCHSELEVES!$Y$14:$AE$600,3,FALSE),0)","v":0},{"$f":"IFERROR(VLOOKUP(MM29,MATCHSELEVES!$Y$14:$AE$600,4,FALSE),0)","v":0},{"$f":"IFERROR(VLOOKUP(MM29,MATCHSELEVES!$Y$14:$AE$600,5,FALSE),0)","v":0},{"$f":"IFERROR(VLOOKUP(MM29,MATCHSELEVES!$Y$14:$AF$600,8,FALSE),0)","v":0},{"$f":"IFERROR(VLOOKUP(MM29,MATCHSELEVES!$Y$14:$AG$600,9,FALSE),0)","v":0},"paulp_17",{"$f":"IFERROR(VLOOKUP(MS29,MATCHSELEVES!$Y$14:$AE$600,3,FALSE),0)","v":0},{"$f":"IFERROR(VLOOKUP(MS29,MATCHSELEVES!$Y$14:$AE$600,4,FALSE),0)","v":0},{"$f":"IFERROR(VLOOKUP(MS29,MATCHSELEVES!$Y$14:$AE$600,5,FALSE),0)","v":0},{"$f":"IFERROR(VLOOKUP(MS29,MATCHSELEVES!$Y$14:$AF$600,8,FALSE),0)","v":0},{"$f":"IFERROR(VLOOKUP(MS29,MATCHSELEVES!$Y$14:$AG$600,9,FALSE),0)","v":0},"paulp_18",{"$f":"IFERROR(VLOOKUP(MY29,MATCHSELEVES!$Y$14:$AE$600,3,FALSE),0)","v":0},{"$f":"IFERROR(VLOOKUP(MY29,MATCHSELEVES!$Y$14:$AE$600,4,FALSE),0)","v":0},{"$f":"IFERROR(VLOOKUP(MY29,MATCHSELEVES!$Y$14:$AE$600,5,FALSE),0)","v":0},{"$f":"IFERROR(VLOOKUP(MY29,MATCHSELEVES!$Y$14:$AF$600,8,FALSE),0)","v":0},{"$f":"IFERROR(VLOOKUP(MY29,MATCHSELEVES!$Y$14:$AG$600,9,FALSE),0)","v":0},"paulp_19",{"$f":"IFERROR(VLOOKUP(NE29,MATCHSELEVES!$Y$14:$AE$600,3,FALSE),0)","v":0},{"$f":"IFERROR(VLOOKUP(NE29,MATCHSELEVES!$Y$14:$AE$600,4,FALSE),0)","v":0},{"$f":"IFERROR(VLOOKUP(NE29,MATCHSELEVES!$Y$14:$AE$600,5,FALSE),0)","v":0},{"$f":"IFERROR(VLOOKUP(NE29,MATCHSELEVES!$Y$14:$AF$600,8,FALSE),0)","v":0},{"$f":"IFERROR(VLOOKUP(NE29,MATCHSELEVES!$Y$14:$AG$600,9,FALSE),0)","v":0},"paulp_20",{"$f":"IFERROR(VLOOKUP(NK29,MATCHSELEVES!$Y$14:$AE$600,3,FALSE),0)","v":0},{"$f":"IFERROR(VLOOKUP(NK29,MATCHSELEVES!$Y$14:$AE$600,4,FALSE),0)","v":0},{"$f":"IFERROR(VLOOKUP(NK29,MATCHSELEVES!$Y$14:$AE$600,5,FALSE),0)","v":0},{"$f":"IFERROR(VLOOKUP(NK29,MATCHSELEVES!$Y$14:$AF$600,8,FALSE),0)","v":0},{"$f":"IFERROR(VLOOKUP(NK29,MATCHSELEVES!$Y$14:$AG$600,9,FALSE),0)","v":0},"paulp_21",{"$f":"IFERROR(VLOOKUP(NQ29,MATCHSELEVES!$Y$14:$AE$600,3,FALSE),0)","v":0},{"$f":"IFERROR(VLOOKUP(NQ29,MATCHSELEVES!$Y$14:$AE$600,4,FALSE),0)","v":0},{"$f":"IFERROR(VLOOKUP(NQ29,MATCHSELEVES!$Y$14:$AE$600,5,FALSE),0)","v":0},{"$f":"IFERROR(VLOOKUP(NQ29,MATCHSELEVES!$Y$14:$AF$600,8,FALSE),0)","v":0},{"$f":"IFERROR(VLOOKUP(NQ29,MATCHSELEVES!$Y$14:$AG$600,9,FALSE),0)","v":0},"paulp_22",{"$f":"IFERROR(VLOOKUP(NW29,MATCHSELEVES!$Y$14:$AE$600,3,FALSE),0)","v":0},{"$f":"IFERROR(VLOOKUP(NW29,MATCHSELEVES!$Y$14:$AE$600,4,FALSE),0)","v":0},{"$f":"IFERROR(VLOOKUP(NW29,MATCHSELEVES!$Y$14:$AE$600,5,FALSE),0)","v":0},{"$f":"IFERROR(VLOOKUP(NW29,MATCHSELEVES!$Y$14:$AF$600,8,FALSE),0)","v":0},{"$f":"IFERROR(VLOOKUP(NW29,MATCHSELEVES!$Y$14:$AG$600,9,FALSE),0)","v":0},"paulp_23",{"$f":"IFERROR(VLOOKUP(OC29,MATCHSELEVES!$Y$14:$AE$600,3,FALSE),0)","v":0},{"$f":"IFERROR(VLOOKUP(OC29,MATCHSELEVES!$Y$14:$AE$600,4,FALSE),0)","v":0},{"$f":"IFERROR(VLOOKUP(OC29,MATCHSELEVES!$Y$14:$AE$600,5,FALSE),0)","v":0},{"$f":"IFERROR(VLOOKUP(OC29,MATCHSELEVES!$Y$14:$AF$600,8,FALSE),0)","v":0},{"$f":"IFERROR(VLOOKUP(OC29,MATCHSELEVES!$Y$14:$AG$600,9,FALSE),0)","v":0},"paulp_24",{"$f":"IFERROR(VLOOKUP(OI29,MATCHSELEVES!$Y$14:$AE$600,3,FALSE),0)","v":0},{"$f":"IFERROR(VLOOKUP(OI29,MATCHSELEVES!$Y$14:$AE$600,4,FALSE),0)","v":0},{"$f":"IFERROR(VLOOKUP(OI29,MATCHSELEVES!$Y$14:$AE$600,5,FALSE),0)","v":0},{"$f":"IFERROR(VLOOKUP(OI29,MATCHSELEVES!$Y$14:$AF$600,8,FALSE),0)","v":0},{"$f":"IFERROR(VLOOKUP(OI29,MATCHSELEVES!$Y$14:$AG$600,9,FALSE),0)","v":0},"paulp_25",{"$f":"IFERROR(VLOOKUP(OO29,MATCHSELEVES!$Y$14:$AE$600,3,FALSE),0)","v":0},{"$f":"IFERROR(VLOOKUP(OO29,MATCHSELEVES!$Y$14:$AE$600,4,FALSE),0)","v":0},{"$f":"IFERROR(VLOOKUP(OO29,MATCHSELEVES!$Y$14:$AE$600,5,FALSE),0)","v":0},{"$f":"IFERROR(VLOOKUP(OO29,MATCHSELEVES!$Y$14:$AF$600,8,FALSE),0)","v":0},{"$f":"IFERROR(VLOOKUP(OO29,MATCHSELEVES!$Y$14:$AG$600,9,FALSE),0)","v":0},"paulp_26",{"$f":"IFERROR(VLOOKUP(OU29,MATCHSELEVES!$Y$14:$AE$600,3,FALSE),0)","v":0},{"$f":"IFERROR(VLOOKUP(OU29,MATCHSELEVES!$Y$14:$AE$600,4,FALSE),0)","v":0},{"$f":"IFERROR(VLOOKUP(OU29,MATCHSELEVES!$Y$14:$AE$600,5,FALSE),0)","v":0},{"$f":"IFERROR(VLOOKUP(OU29,MATCHSELEVES!$Y$14:$AF$600,8,FALSE),0)","v":0},{"$f":"IFERROR(VLOOKUP(OU29,MATCHSELEVES!$Y$14:$AG$600,9,FALSE),0)","v":0},"paulp_27",{"$f":"IFERROR(VLOOKUP(PA29,MATCHSELEVES!$Y$14:$AE$600,3,FALSE),0)","v":0},{"$f":"IFERROR(VLOOKUP(PA29,MATCHSELEVES!$Y$14:$AE$600,4,FALSE),0)","v":0},{"$f":"IFERROR(VLOOKUP(PA29,MATCHSELEVES!$Y$14:$AE$600,5,FALSE),0)","v":0},{"$f":"IFERROR(VLOOKUP(PA29,MATCHSELEVES!$Y$14:$AF$600,8,FALSE),0)","v":0},{"$f":"IFERROR(VLOOKUP(PA29,MATCHSELEVES!$Y$14:$AG$600,9,FALSE),0)","v":0},"paulp_28",{"$f":"IFERROR(VLOOKUP(PG29,MATCHSELEVES!$Y$14:$AE$600,3,FALSE),0)","v":0},{"$f":"IFERROR(VLOOKUP(PG29,MATCHSELEVES!$Y$14:$AE$600,4,FALSE),0)","v":0},{"$f":"IFERROR(VLOOKUP(PG29,MATCHSELEVES!$Y$14:$AE$600,5,FALSE),0)","v":0},{"$f":"IFERROR(VLOOKUP(PG29,MATCHSELEVES!$Y$14:$AF$600,8,FALSE),0)","v":0},{"$f":"IFERROR(VLOOKUP(PG29,MATCHSELEVES!$Y$14:$AG$600,9,FALSE),0)","v":0},"paulp_29",{"$f":"IFERROR(VLOOKUP(PM29,MATCHSELEVES!$Y$14:$AE$600,3,FALSE),0)","v":0},{"$f":"IFERROR(VLOOKUP(PM29,MATCHSELEVES!$Y$14:$AE$600,4,FALSE),0)","v":0},{"$f":"IFERROR(VLOOKUP(PM29,MATCHSELEVES!$Y$14:$AE$600,5,FALSE),0)","v":0},{"$f":"IFERROR(VLOOKUP(PM29,MATCHSELEVES!$Y$14:$AF$600,8,FALSE),0)","v":0},{"$f":"IFERROR(VLOOKUP(PM29,MATCHSELEVES!$Y$14:$AG$600,9,FALSE),0)","v":0},"paulp_30",{"$f":"IFERROR(VLOOKUP(PS29,MATCHSELEVES!$Y$14:$AE$600,3,FALSE),0)","v":0},{"$f":"IFERROR(VLOOKUP(PS29,MATCHSELEVES!$Y$14:$AE$600,4,FALSE),0)","v":0},{"$f":"IFERROR(VLOOKUP(PS29,MATCHSELEVES!$Y$14:$AE$600,5,FALSE),0)","v":0},{"$f":"IFERROR(VLOOKUP(PS29,MATCHSELEVES!$Y$14:$AF$600,8,FALSE),0)","v":0},{"$f":"IFERROR(VLOOKUP(PS29,MATCHSELEVES!$Y$14:$AG$600,9,FALSE),0)","v":0},"paulp_31",{"$f":"IFERROR(VLOOKUP(PY29,MATCHSELEVES!$Y$14:$AE$600,3,FALSE),0)","v":0},{"$f":"IFERROR(VLOOKUP(PY29,MATCHSELEVES!$Y$14:$AE$600,4,FALSE),0)","v":0},{"$f":"IFERROR(VLOOKUP(PY29,MATCHSELEVES!$Y$14:$AE$600,5,FALSE),0)","v":0},{"$f":"IFERROR(VLOOKUP(PY29,MATCHSELEVES!$Y$14:$AF$600,8,FALSE),0)","v":0},{"$f":"IFERROR(VLOOKUP(PY29,MATCHSELEVES!$Y$14:$AG$600,9,FALSE),0)","v":0},"paulp_32",{"$f":"IFERROR(VLOOKUP(QE29,MATCHSELEVES!$Y$14:$AE$600,3,FALSE),0)","v":0},{"$f":"IFERROR(VLOOKUP(QE29,MATCHSELEVES!$Y$14:$AE$600,4,FALSE),0)","v":0},{"$f":"IFERROR(VLOOKUP(QE29,MATCHSELEVES!$Y$14:$AE$600,5,FALSE),0)","v":0},{"$f":"IFERROR(VLOOKUP(QE29,MATCHSELEVES!$Y$14:$AF$600,8,FALSE),0)","v":0},{"$f":"IFERROR(VLOOKUP(QE29,MATCHSELEVES!$Y$14:$AG$600,9,FALSE),0)","v":0},"paulp_33",{"$f":"IFERROR(VLOOKUP(QK29,MATCHSELEVES!$Y$14:$AE$600,3,FALSE),0)","v":0},{"$f":"IFERROR(VLOOKUP(QK29,MATCHSELEVES!$Y$14:$AE$600,4,FALSE),0)","v":0},{"$f":"IFERROR(VLOOKUP(QK29,MATCHSELEVES!$Y$14:$AE$600,5,FALSE),0)","v":0},{"$f":"IFERROR(VLOOKUP(QK29,MATCHSELEVES!$Y$14:$AF$600,8,FALSE),0)","v":0},{"$f":"IFERROR(VLOOKUP(QK29,MATCHSELEVES!$Y$14:$AG$600,9,FALSE),0)","v":0},"paulp_34",{"$f":"IFERROR(VLOOKUP(QQ29,MATCHSELEVES!$Y$14:$AE$600,3,FALSE),0)","v":0},{"$f":"IFERROR(VLOOKUP(QQ29,MATCHSELEVES!$Y$14:$AE$600,4,FALSE),0)","v":0},{"$f":"IFERROR(VLOOKUP(QQ29,MATCHSELEVES!$Y$14:$AE$600,5,FALSE),0)","v":0},{"$f":"IFERROR(VLOOKUP(QQ29,MATCHSELEVES!$Y$14:$AF$600,8,FALSE),0)","v":0},{"$f":"IFERROR(VLOOKUP(QQ29,MATCHSELEVES!$Y$14:$AG$600,9,FALSE),0)","v":0},"paulp_35",{"$f":"IFERROR(VLOOKUP(QW29,MATCHSELEVES!$Y$14:$AE$600,3,FALSE),0)","v":0},{"$f":"IFERROR(VLOOKUP(QW29,MATCHSELEVES!$Y$14:$AE$600,4,FALSE),0)","v":0},{"$f":"IFERROR(VLOOKUP(QW29,MATCHSELEVES!$Y$14:$AE$600,5,FALSE),0)","v":0},{"$f":"IFERROR(VLOOKUP(QW29,MATCHSELEVES!$Y$14:$AF$600,8,FALSE),0)","v":0},{"$f":"IFERROR(VLOOKUP(QW29,MATCHSELEVES!$Y$14:$AG$600,9,FALSE),0)","v":0},"paulp_36",{"$f":"IFERROR(VLOOKUP(RC29,MATCHSELEVES!$Y$14:$AE$600,3,FALSE),0)","v":0},{"$f":"IFERROR(VLOOKUP(RC29,MATCHSELEVES!$Y$14:$AE$600,4,FALSE),0)","v":0},{"$f":"IFERROR(VLOOKUP(RC29,MATCHSELEVES!$Y$14:$AE$600,5,FALSE),0)","v":0},{"$f":"IFERROR(VLOOKUP(RC29,MATCHSELEVES!$Y$14:$AF$600,8,FALSE),0)","v":0},{"$f":"IFERROR(VLOOKUP(RC29,MATCHSELEVES!$Y$14:$AG$600,9,FALSE),0)","v":0},"paulp_37",{"$f":"IFERROR(VLOOKUP(RI29,MATCHSELEVES!$Y$14:$AE$600,3,FALSE),0)","v":0},{"$f":"IFERROR(VLOOKUP(RI29,MATCHSELEVES!$Y$14:$AE$600,4,FALSE),0)","v":0},{"$f":"IFERROR(VLOOKUP(RI29,MATCHSELEVES!$Y$14:$AE$600,5,FALSE),0)","v":0},{"$f":"IFERROR(VLOOKUP(RI29,MATCHSELEVES!$Y$14:$AF$600,8,FALSE),0)","v":0},{"$f":"IFERROR(VLOOKUP(RI29,MATCHSELEVES!$Y$14:$AG$600,9,FALSE),0)","v":0},"paulp_38",{"$f":"IFERROR(VLOOKUP(RO29,MATCHSELEVES!$Y$14:$AE$600,3,FALSE),0)","v":0},{"$f":"IFERROR(VLOOKUP(RO29,MATCHSELEVES!$Y$14:$AE$600,4,FALSE),0)","v":0},{"$f":"IFERROR(VLOOKUP(RO29,MATCHSELEVES!$Y$14:$AE$600,5,FALSE),0)","v":0},{"$f":"IFERROR(VLOOKUP(RO29,MATCHSELEVES!$Y$14:$AF$600,8,FALSE),0)","v":0},{"$f":"IFERROR(VLOOKUP(RO29,MATCHSELEVES!$Y$14:$AG$600,9,FALSE),0)","v":0},"paulp_39",{"$f":"IFERROR(VLOOKUP(RU29,MATCHSELEVES!$Y$14:$AE$600,3,FALSE),0)","v":0},{"$f":"IFERROR(VLOOKUP(RU29,MATCHSELEVES!$Y$14:$AE$600,4,FALSE),0)","v":0},{"$f":"IFERROR(VLOOKUP(RU29,MATCHSELEVES!$Y$14:$AE$600,5,FALSE),0)","v":0},{"$f":"IFERROR(VLOOKUP(RU29,MATCHSELEVES!$Y$14:$AF$600,8,FALSE),0)","v":0},{"$f":"IFERROR(VLOOKUP(RU29,MATCHSELEVES!$Y$14:$AG$600,9,FALSE),0)","v":0},"paulp_40",{"$f":"IFERROR(VLOOKUP(SA29,MATCHSELEVES!$Y$14:$AE$600,3,FALSE),0)","v":0},{"$f":"IFERROR(VLOOKUP(SA29,MATCHSELEVES!$Y$14:$AE$600,4,FALSE),0)","v":0},{"$f":"IFERROR(VLOOKUP(SA29,MATCHSELEVES!$Y$14:$AE$600,5,FALSE),0)","v":0},{"$f":"IFERROR(VLOOKUP(SA29,MATCHSELEVES!$Y$14:$AF$600,8,FALSE),0)","v":0},{"$f":"IFERROR(VLOOKUP(SA29,MATCHSELEVES!$Y$14:$AG$600,9,FALSE),0)","v":0}]
[27,null,"Saliha",27,null,null,{"$f":"COUNTIF(MATCHSELEVES!$Z$14:$Z$600,C30)+COUNTIF(MATCHSELEVES!$Z$14:$Z$600,$C30&\"p\")","v":0},1,{"$f":"COUNTIF(MATCHSELEVES!$F$14:$H$249,C30)","v":0},1,0,1,{"$f":"IFERROR(M73/Tableau10[[#This Row],[Nombre de matchs joués]],0)","v":0},{"$f":"IF(Tableau10[[#This Row],[Nombre de points encaissés]]=0,$C$45,SUMPRODUCT((M$4:M$43<M30)*(M$4:M$43<>0))+1)","v":40},0,1,{"$f":"(Tableau10[[#This Row],[CLASSEMENT1]]+Tableau10[[#This Row],[CLASSEMENT2]]+Tableau10[[#This Row],[CLASSEMENT3]]+Tableau10[[#This Row],[CLASSEMENT4]]+Tableau10[[#This Row],[CLASSEMENT5]]+Tableau10[[#This Row],[CLASSEMENT6]])/6","v":11.833333333333334},{"$f":"RANK(Tableau10[[#This Row],[MOYENNE CLASSEMENTS]],Tableau10[MOYENNE CLASSEMENTS],1)","v":27},null,{"$f":"Tableau10[[#This Row],[CLASSEMENT1]]","v":27},"Saliha_1",{"$f":"IFERROR(VLOOKUP(U30,MATCHSELEVES!$Y$14:$AE$600,3,FALSE),0)","v":0},{"$f":"IFERROR(VLOOKUP(U30,MATCHSELEVES!$Y$14:$AE$600,4,FALSE),0)","v":0},{"$f":"IFERROR(VLOOKUP(U30,MATCHSELEVES!$Y$14:$AE$600,5,FALSE),0)","v":0},{"$f":"IFERROR(VLOOKUP(U30,MATCHSELEVES!$Y$14:$AF$600,8,FALSE),0)","v":0},{"$f":"IFERROR(VLOOKUP(U30,MATCHSELEVES!$Y$14:$AG$600,9,FALSE),0)","v":0},"Saliha_2",{"$f":"IFERROR(VLOOKUP(AA30,MATCHSELEVES!$Y$14:$AE$600,3,FALSE),0)","v":0},{"$f":"IFERROR(VLOOKUP(AA30,MATCHSELEVES!$Y$14:$AE$600,4,FALSE),0)","v":0},{"$f":"IFERROR(VLOOKUP(AA30,MATCHSELEVES!$Y$14:$AE$600,5,FALSE),0)","v":0},{"$f":"IFERROR(VLOOKUP(AA30,MATCHSELEVES!$Y$14:$AF$600,8,FALSE),0)","v":0},{"$f":"IFERROR(VLOOKUP(AA30,MATCHSELEVES!$Y$14:$AG$600,9,FALSE),0)","v":0},"Saliha_3",{"$f":"IFERROR(VLOOKUP(AG30,MATCHSELEVES!$Y$14:$AE$600,3,FALSE),0)","v":0},{"$f":"IFERROR(VLOOKUP(AG30,MATCHSELEVES!$Y$14:$AE$600,4,FALSE),0)","v":0},{"$f":"IFERROR(VLOOKUP(AG30,MATCHSELEVES!$Y$14:$AE$600,5,FALSE),0)","v":0},{"$f":"IFERROR(VLOOKUP(AG30,MATCHSELEVES!$Y$14:$AF$600,8,FALSE),0)","v":0},{"$f":"IFERROR(VLOOKUP(AG30,MATCHSELEVES!$Y$14:$AG$600,9,FALSE),0)","v":0},"Saliha_4",{"$f":"IFERROR(VLOOKUP(AM30,MATCHSELEVES!$Y$14:$AE$600,3,FALSE),0)","v":0},{"$f":"IFERROR(VLOOKUP(AM30,MATCHSELEVES!$Y$14:$AE$600,4,FALSE),0)","v":0},{"$f":"IFERROR(VLOOKUP(AM30,MATCHSELEVES!$Y$14:$AE$600,5,FALSE),0)","v":0},{"$f":"IFERROR(VLOOKUP(AM30,MATCHSELEVES!$Y$14:$AF$600,8,FALSE),0)","v":0},{"$f":"IFERROR(VLOOKUP(AM30,MATCHSELEVES!$Y$14:$AG$600,9,FALSE),0)","v":0},"Saliha_5",{"$f":"IFERROR(VLOOKUP(AS30,MATCHSELEVES!$Y$14:$AE$600,3,FALSE),0)","v":0},{"$f":"IFERROR(VLOOKUP(AS30,MATCHSELEVES!$Y$14:$AE$600,4,FALSE),0)","v":0},{"$f":"IFERROR(VLOOKUP(AS30,MATCHSELEVES!$Y$14:$AE$600,5,FALSE),0)","v":0},{"$f":"IFERROR(VLOOKUP(AS30,MATCHSELEVES!$Y$14:$AF$600,8,FALSE),0)","v":0},{"$f":"IFERROR(VLOOKUP(AS30,MATCHSELEVES!$Y$14:$AG$600,9,FALSE),0)","v":0},"Saliha_6",{"$f":"IFERROR(VLOOKUP(AY30,MATCHSELEVES!$Y$14:$AE$600,3,FALSE),0)","v":0},{"$f":"IFERROR(VLOOKUP(AY30,MATCHSELEVES!$Y$14:$AE$600,4,FALSE),0)","v":0},{"$f":"IFERROR(VLOOKUP(AY30,MATCHSELEVES!$Y$14:$AE$600,5,FALSE),0)","v":0},{"$f":"IFERROR(VLOOKUP(AY30,MATCHSELEVES!$Y$14:$AF$600,8,FALSE),0)","v":0},{"$f":"IFERROR(VLOOKUP(AY30,MATCHSELEVES!$Y$14:$AG$600,9,FALSE),0)","v":0},"Saliha_7",{"$f":"IFERROR(VLOOKUP(BE30,MATCHSELEVES!$Y$14:$AE$600,3,FALSE),0)","v":0},{"$f":"IFERROR(VLOOKUP(BE30,MATCHSELEVES!$Y$14:$AE$600,4,FALSE),0)","v":0},{"$f":"IFERROR(VLOOKUP(BE30,MATCHSELEVES!$Y$14:$AE$600,5,FALSE),0)","v":0},{"$f":"IFERROR(VLOOKUP(BE30,MATCHSELEVES!$Y$14:$AF$600,8,FALSE),0)","v":0},{"$f":"IFERROR(VLOOKUP(BE30,MATCHSELEVES!$Y$14:$AG$600,9,FALSE),0)","v":0},"Saliha_8",{"$f":"IFERROR(VLOOKUP(BK30,MATCHSELEVES!$Y$14:$AE$600,3,FALSE),0)","v":0},{"$f":"IFERROR(VLOOKUP(BK30,MATCHSELEVES!$Y$14:$AE$600,4,FALSE),0)","v":0},{"$f":"IFERROR(VLOOKUP(BK30,MATCHSELEVES!$Y$14:$AE$600,5,FALSE),0)","v":0},{"$f":"IFERROR(VLOOKUP(BK30,MATCHSELEVES!$Y$14:$AF$600,8,FALSE),0)","v":0},{"$f":"IFERROR(VLOOKUP(BK30,MATCHSELEVES!$Y$14:$AG$600,9,FALSE),0)","v":0},"Saliha_9",{"$f":"IFERROR(VLOOKUP(BQ30,MATCHSELEVES!$Y$14:$AE$600,3,FALSE),0)","v":0},{"$f":"IFERROR(VLOOKUP(BQ30,MATCHSELEVES!$Y$14:$AE$600,4,FALSE),0)","v":0},{"$f":"IFERROR(VLOOKUP(BQ30,MATCHSELEVES!$Y$14:$AE$600,5,FALSE),0)","v":0},{"$f":"IFERROR(VLOOKUP(BQ30,MATCHSELEVES!$Y$14:$AF$600,8,FALSE),0)","v":0},{"$f":"IFERROR(VLOOKUP(BQ30,MATCHSELEVES!$Y$14:$AG$600,9,FALSE),0)","v":0},"Saliha_10",{"$f":"IFERROR(VLOOKUP(BW30,MATCHSELEVES!$Y$14:$AE$600,3,FALSE),0)","v":0},{"$f":"IFERROR(VLOOKUP(BW30,MATCHSELEVES!$Y$14:$AE$600,4,FALSE),0)","v":0},{"$f":"IFERROR(VLOOKUP(BW30,MATCHSELEVES!$Y$14:$AE$600,5,FALSE),0)","v":0},{"$f":"IFERROR(VLOOKUP(BW30,MATCHSELEVES!$Y$14:$AF$600,8,FALSE),0)","v":0},{"$f":"IFERROR(VLOOKUP(BW30,MATCHSELEVES!$Y$14:$AG$600,9,FALSE),0)","v":0},"Saliha_11",{"$f":"IFERROR(VLOOKUP(CC30,MATCHSELEVES!$Y$14:$AE$600,3,FALSE),0)","v":0},{"$f":"IFERROR(VLOOKUP(CC30,MATCHSELEVES!$Y$14:$AE$600,4,FALSE),0)","v":0},{"$f":"IFERROR(VLOOKUP(CC30,MATCHSELEVES!$Y$14:$AE$600,5,FALSE),0)","v":0},{"$f":"IFERROR(VLOOKUP(CC30,MATCHSELEVES!$Y$14:$AF$600,8,FALSE),0)","v":0},{"$f":"IFERROR(VLOOKUP(CC30,MATCHSELEVES!$Y$14:$AG$600,9,FALSE),0)","v":0},"Saliha_12",{"$f":"IFERROR(VLOOKUP(CI30,MATCHSELEVES!$Y$14:$AE$600,3,FALSE),0)","v":0},{"$f":"IFERROR(VLOOKUP(CI30,MATCHSELEVES!$Y$14:$AE$600,4,FALSE),0)","v":0},{"$f":"IFERROR(VLOOKUP(CI30,MATCHSELEVES!$Y$14:$AE$600,5,FALSE),0)","v":0},{"$f":"IFERROR(VLOOKUP(CI30,MATCHSELEVES!$Y$14:$AF$600,8,FALSE),0)","v":0},{"$f":"IFERROR(VLOOKUP(CI30,MATCHSELEVES!$Y$14:$AG$600,9,FALSE),0)","v":0},"Saliha_13",{"$f":"IFERROR(VLOOKUP(CO30,MATCHSELEVES!$Y$14:$AE$600,3,FALSE),0)","v":0},{"$f":"IFERROR(VLOOKUP(CO30,MATCHSELEVES!$Y$14:$AE$600,4,FALSE),0)","v":0},{"$f":"IFERROR(VLOOKUP(CO30,MATCHSELEVES!$Y$14:$AE$600,5,FALSE),0)","v":0},{"$f":"IFERROR(VLOOKUP(CO30,MATCHSELEVES!$Y$14:$AF$600,8,FALSE),0)","v":0},{"$f":"IFERROR(VLOOKUP(CO30,MATCHSELEVES!$Y$14:$AG$600,9,FALSE),0)","v":0},"Saliha_14",{"$f":"IFERROR(VLOOKUP(CU30,MATCHSELEVES!$Y$14:$AE$600,3,FALSE),0)","v":0},{"$f":"IFERROR(VLOOKUP(CU30,MATCHSELEVES!$Y$14:$AE$600,4,FALSE),0)","v":0},{"$f":"IFERROR(VLOOKUP(CU30,MATCHSELEVES!$Y$14:$AE$600,5,FALSE),0)","v":0},{"$f":"IFERROR(VLOOKUP(CU30,MATCHSELEVES!$Y$14:$AF$600,8,FALSE),0)","v":0},{"$f":"IFERROR(VLOOKUP(CU30,MATCHSELEVES!$Y$14:$AG$600,9,FALSE),0)","v":0},"Saliha_15",{"$f":"IFERROR(VLOOKUP(DA30,MATCHSELEVES!$Y$14:$AE$600,3,FALSE),0)","v":0},{"$f":"IFERROR(VLOOKUP(DA30,MATCHSELEVES!$Y$14:$AE$600,4,FALSE),0)","v":0},{"$f":"IFERROR(VLOOKUP(DA30,MATCHSELEVES!$Y$14:$AE$600,5,FALSE),0)","v":0},{"$f":"IFERROR(VLOOKUP(DA30,MATCHSELEVES!$Y$14:$AF$600,8,FALSE),0)","v":0},{"$f":"IFERROR(VLOOKUP(DA30,MATCHSELEVES!$Y$14:$AG$600,9,FALSE),0)","v":0},"Saliha_16",{"$f":"IFERROR(VLOOKUP(DG30,MATCHSELEVES!$Y$14:$AE$600,3,FALSE),0)","v":0},{"$f":"IFERROR(VLOOKUP(DG30,MATCHSELEVES!$Y$14:$AE$600,4,FALSE),0)","v":0},{"$f":"IFERROR(VLOOKUP(DG30,MATCHSELEVES!$Y$14:$AE$600,5,FALSE),0)","v":0},{"$f":"IFERROR(VLOOKUP(DG30,MATCHSELEVES!$Y$14:$AF$600,8,FALSE),0)","v":0},{"$f":"IFERROR(VLOOKUP(DG30,MATCHSELEVES!$Y$14:$AG$600,9,FALSE),0)","v":0},"Saliha_17",{"$f":"IFERROR(VLOOKUP(DM30,MATCHSELEVES!$Y$14:$AE$600,3,FALSE),0)","v":0},{"$f":"IFERROR(VLOOKUP(DM30,MATCHSELEVES!$Y$14:$AE$600,4,FALSE),0)","v":0},{"$f":"IFERROR(VLOOKUP(DM30,MATCHSELEVES!$Y$14:$AE$600,5,FALSE),0)","v":0},{"$f":"IFERROR(VLOOKUP(DM30,MATCHSELEVES!$Y$14:$AF$600,8,FALSE),0)","v":0},{"$f":"IFERROR(VLOOKUP(DM30,MATCHSELEVES!$Y$14:$AG$600,9,FALSE),0)","v":0},"Saliha_18",{"$f":"IFERROR(VLOOKUP(DS30,MATCHSELEVES!$Y$14:$AE$600,3,FALSE),0)","v":0},{"$f":"IFERROR(VLOOKUP(DS30,MATCHSELEVES!$Y$14:$AE$600,4,FALSE),0)","v":0},{"$f":"IFERROR(VLOOKUP(DS30,MATCHSELEVES!$Y$14:$AE$600,5,FALSE),0)","v":0},{"$f":"IFERROR(VLOOKUP(DS30,MATCHSELEVES!$Y$14:$AF$600,8,FALSE),0)","v":0},{"$f":"IFERROR(VLOOKUP(DS30,MATCHSELEVES!$Y$14:$AG$600,9,FALSE),0)","v":0},"Saliha_19",{"$f":"IFERROR(VLOOKUP(DY30,MATCHSELEVES!$Y$14:$AE$600,3,FALSE),0)","v":0},{"$f":"IFERROR(VLOOKUP(DY30,MATCHSELEVES!$Y$14:$AE$600,4,FALSE),0)","v":0},{"$f":"IFERROR(VLOOKUP(DY30,MATCHSELEVES!$Y$14:$AE$600,5,FALSE),0)","v":0},{"$f":"IFERROR(VLOOKUP(DY30,MATCHSELEVES!$Y$14:$AF$600,8,FALSE),0)","v":0},{"$f":"IFERROR(VLOOKUP(DY30,MATCHSELEVES!$Y$14:$AG$600,9,FALSE),0)","v":0},"Saliha_20",{"$f":"IFERROR(VLOOKUP(EE30,MATCHSELEVES!$Y$14:$AE$600,3,FALSE),0)","v":0},{"$f":"IFERROR(VLOOKUP(EE30,MATCHSELEVES!$Y$14:$AE$600,4,FALSE),0)","v":0},{"$f":"IFERROR(VLOOKUP(EE30,MATCHSELEVES!$Y$14:$AE$600,5,FALSE),0)","v":0},{"$f":"IFERROR(VLOOKUP(EE30,MATCHSELEVES!$Y$14:$AF$600,8,FALSE),0)","v":0},{"$f":"IFERROR(VLOOKUP(EE30,MATCHSELEVES!$Y$14:$AG$600,9,FALSE),0)","v":0},"Saliha_21",{"$f":"IFERROR(VLOOKUP(EK30,MATCHSELEVES!$Y$14:$AE$600,3,FALSE),0)","v":0},{"$f":"IFERROR(VLOOKUP(EK30,MATCHSELEVES!$Y$14:$AE$600,4,FALSE),0)","v":0},{"$f":"IFERROR(VLOOKUP(EK30,MATCHSELEVES!$Y$14:$AE$600,5,FALSE),0)","v":0},{"$f":"IFERROR(VLOOKUP(EK30,MATCHSELEVES!$Y$14:$AF$600,8,FALSE),0)","v":0},{"$f":"IFERROR(VLOOKUP(EK30,MATCHSELEVES!$Y$14:$AG$600,9,FALSE),0)","v":0},"Saliha_22",{"$f":"IFERROR(VLOOKUP(EQ30,MATCHSELEVES!$Y$14:$AE$600,3,FALSE),0)","v":0},{"$f":"IFERROR(VLOOKUP(EQ30,MATCHSELEVES!$Y$14:$AE$600,4,FALSE),0)","v":0},{"$f":"IFERROR(VLOOKUP(EQ30,MATCHSELEVES!$Y$14:$AE$600,5,FALSE),0)","v":0},{"$f":"IFERROR(VLOOKUP(EQ30,MATCHSELEVES!$Y$14:$AF$600,8,FALSE),0)","v":0},{"$f":"IFERROR(VLOOKUP(EQ30,MATCHSELEVES!$Y$14:$AG$600,9,FALSE),0)","v":0},"Saliha_23",{"$f":"IFERROR(VLOOKUP(EW30,MATCHSELEVES!$Y$14:$AE$600,3,FALSE),0)","v":0},{"$f":"IFERROR(VLOOKUP(EW30,MATCHSELEVES!$Y$14:$AE$600,4,FALSE),0)","v":0},{"$f":"IFERROR(VLOOKUP(EW30,MATCHSELEVES!$Y$14:$AE$600,5,FALSE),0)","v":0},{"$f":"IFERROR(VLOOKUP(EW30,MATCHSELEVES!$Y$14:$AF$600,8,FALSE),0)","v":0},{"$f":"IFERROR(VLOOKUP(EW30,MATCHSELEVES!$Y$14:$AG$600,9,FALSE),0)","v":0},"Saliha_24",{"$f":"IFERROR(VLOOKUP(FC30,MATCHSELEVES!$Y$14:$AE$600,3,FALSE),0)","v":0},{"$f":"IFERROR(VLOOKUP(FC30,MATCHSELEVES!$Y$14:$AE$600,4,FALSE),0)","v":0},{"$f":"IFERROR(VLOOKUP(FC30,MATCHSELEVES!$Y$14:$AE$600,5,FALSE),0)","v":0},{"$f":"IFERROR(VLOOKUP(FC30,MATCHSELEVES!$Y$14:$AF$600,8,FALSE),0)","v":0},{"$f":"IFERROR(VLOOKUP(FC30,MATCHSELEVES!$Y$14:$AG$600,9,FALSE),0)","v":0},"Saliha_25",{"$f":"IFERROR(VLOOKUP(FI30,MATCHSELEVES!$Y$14:$AE$600,3,FALSE),0)","v":0},{"$f":"IFERROR(VLOOKUP(FI30,MATCHSELEVES!$Y$14:$AE$600,4,FALSE),0)","v":0},{"$f":"IFERROR(VLOOKUP(FI30,MATCHSELEVES!$Y$14:$AE$600,5,FALSE),0)","v":0},{"$f":"IFERROR(VLOOKUP(FI30,MATCHSELEVES!$Y$14:$AF$600,8,FALSE),0)","v":0},{"$f":"IFERROR(VLOOKUP(FI30,MATCHSELEVES!$Y$14:$AG$600,9,FALSE),0)","v":0},"Saliha_26",{"$f":"IFERROR(VLOOKUP(FO30,MATCHSELEVES!$Y$14:$AE$600,3,FALSE),0)","v":0},{"$f":"IFERROR(VLOOKUP(FO30,MATCHSELEVES!$Y$14:$AE$600,4,FALSE),0)","v":0},{"$f":"IFERROR(VLOOKUP(FO30,MATCHSELEVES!$Y$14:$AE$600,5,FALSE),0)","v":0},{"$f":"IFERROR(VLOOKUP(FO30,MATCHSELEVES!$Y$14:$AF$600,8,FALSE),0)","v":0},{"$f":"IFERROR(VLOOKUP(FO30,MATCHSELEVES!$Y$14:$AG$600,9,FALSE),0)","v":0},"Saliha_27",{"$f":"IFERROR(VLOOKUP(FU30,MATCHSELEVES!$Y$14:$AE$600,3,FALSE),0)","v":0},{"$f":"IFERROR(VLOOKUP(FU30,MATCHSELEVES!$Y$14:$AE$600,4,FALSE),0)","v":0},{"$f":"IFERROR(VLOOKUP(FU30,MATCHSELEVES!$Y$14:$AE$600,5,FALSE),0)","v":0},{"$f":"IFERROR(VLOOKUP(FU30,MATCHSELEVES!$Y$14:$AF$600,8,FALSE),0)","v":0},{"$f":"IFERROR(VLOOKUP(FU30,MATCHSELEVES!$Y$14:$AG$600,9,FALSE),0)","v":0},"Saliha_28",{"$f":"IFERROR(VLOOKUP(GA30,MATCHSELEVES!$Y$14:$AE$600,3,FALSE),0)","v":0},{"$f":"IFERROR(VLOOKUP(GA30,MATCHSELEVES!$Y$14:$AE$600,4,FALSE),0)","v":0},{"$f":"IFERROR(VLOOKUP(GA30,MATCHSELEVES!$Y$14:$AE$600,5,FALSE),0)","v":0},{"$f":"IFERROR(VLOOKUP(GA30,MATCHSELEVES!$Y$14:$AF$600,8,FALSE),0)","v":0},{"$f":"IFERROR(VLOOKUP(GA30,MATCHSELEVES!$Y$14:$AG$600,9,FALSE),0)","v":0},"Saliha_29",{"$f":"IFERROR(VLOOKUP(GG30,MATCHSELEVES!$Y$14:$AE$600,3,FALSE),0)","v":0},{"$f":"IFERROR(VLOOKUP(GG30,MATCHSELEVES!$Y$14:$AE$600,4,FALSE),0)","v":0},{"$f":"IFERROR(VLOOKUP(GG30,MATCHSELEVES!$Y$14:$AE$600,5,FALSE),0)","v":0},{"$f":"IFERROR(VLOOKUP(GG30,MATCHSELEVES!$Y$14:$AF$600,8,FALSE),0)","v":0},{"$f":"IFERROR(VLOOKUP(GG30,MATCHSELEVES!$Y$14:$AG$600,9,FALSE),0)","v":0},"Saliha_30",{"$f":"IFERROR(VLOOKUP(GM30,MATCHSELEVES!$Y$14:$AE$600,3,FALSE),0)","v":0},{"$f":"IFERROR(VLOOKUP(GM30,MATCHSELEVES!$Y$14:$AE$600,4,FALSE),0)","v":0},{"$f":"IFERROR(VLOOKUP(GM30,MATCHSELEVES!$Y$14:$AE$600,5,FALSE),0)","v":0},{"$f":"IFERROR(VLOOKUP(GM30,MATCHSELEVES!$Y$14:$AF$600,8,FALSE),0)","v":0},{"$f":"IFERROR(VLOOKUP(GM30,MATCHSELEVES!$Y$14:$AG$600,9,FALSE),0)","v":0},"Saliha_31",{"$f":"IFERROR(VLOOKUP(GS30,MATCHSELEVES!$Y$14:$AE$600,3,FALSE),0)","v":0},{"$f":"IFERROR(VLOOKUP(GS30,MATCHSELEVES!$Y$14:$AE$600,4,FALSE),0)","v":0},{"$f":"IFERROR(VLOOKUP(GS30,MATCHSELEVES!$Y$14:$AE$600,5,FALSE),0)","v":0},{"$f":"IFERROR(VLOOKUP(GS30,MATCHSELEVES!$Y$14:$AF$600,8,FALSE),0)","v":0},{"$f":"IFERROR(VLOOKUP(GS30,MATCHSELEVES!$Y$14:$AG$600,9,FALSE),0)","v":0},"Saliha_32",{"$f":"IFERROR(VLOOKUP(GY30,MATCHSELEVES!$Y$14:$AE$600,3,FALSE),0)","v":0},{"$f":"IFERROR(VLOOKUP(GY30,MATCHSELEVES!$Y$14:$AE$600,4,FALSE),0)","v":0},{"$f":"IFERROR(VLOOKUP(GY30,MATCHSELEVES!$Y$14:$AE$600,5,FALSE),0)","v":0},{"$f":"IFERROR(VLOOKUP(GY30,MATCHSELEVES!$Y$14:$AF$600,8,FALSE),0)","v":0},{"$f":"IFERROR(VLOOKUP(GY30,MATCHSELEVES!$Y$14:$AG$600,9,FALSE),0)","v":0},"Saliha_33",{"$f":"IFERROR(VLOOKUP(HE30,MATCHSELEVES!$Y$14:$AE$600,3,FALSE),0)","v":0},{"$f":"IFERROR(VLOOKUP(HE30,MATCHSELEVES!$Y$14:$AE$600,4,FALSE),0)","v":0},{"$f":"IFERROR(VLOOKUP(HE30,MATCHSELEVES!$Y$14:$AE$600,5,FALSE),0)","v":0},{"$f":"IFERROR(VLOOKUP(HE30,MATCHSELEVES!$Y$14:$AF$600,8,FALSE),0)","v":0},{"$f":"IFERROR(VLOOKUP(HE30,MATCHSELEVES!$Y$14:$AG$600,9,FALSE),0)","v":0},"Saliha_34",{"$f":"IFERROR(VLOOKUP(HK30,MATCHSELEVES!$Y$14:$AE$600,3,FALSE),0)","v":0},{"$f":"IFERROR(VLOOKUP(HK30,MATCHSELEVES!$Y$14:$AE$600,4,FALSE),0)","v":0},{"$f":"IFERROR(VLOOKUP(HK30,MATCHSELEVES!$Y$14:$AE$600,5,FALSE),0)","v":0},{"$f":"IFERROR(VLOOKUP(HK30,MATCHSELEVES!$Y$14:$AF$600,8,FALSE),0)","v":0},{"$f":"IFERROR(VLOOKUP(HK30,MATCHSELEVES!$Y$14:$AG$600,9,FALSE),0)","v":0},"Saliha_35",{"$f":"IFERROR(VLOOKUP(HQ30,MATCHSELEVES!$Y$14:$AE$600,3,FALSE),0)","v":0},{"$f":"IFERROR(VLOOKUP(HQ30,MATCHSELEVES!$Y$14:$AE$600,4,FALSE),0)","v":0},{"$f":"IFERROR(VLOOKUP(HQ30,MATCHSELEVES!$Y$14:$AE$600,5,FALSE),0)","v":0},{"$f":"IFERROR(VLOOKUP(HQ30,MATCHSELEVES!$Y$14:$AF$600,8,FALSE),0)","v":0},{"$f":"IFERROR(VLOOKUP(HQ30,MATCHSELEVES!$Y$14:$AG$600,9,FALSE),0)","v":0},"Saliha_36",{"$f":"IFERROR(VLOOKUP(HW30,MATCHSELEVES!$Y$14:$AE$600,3,FALSE),0)","v":0},{"$f":"IFERROR(VLOOKUP(HW30,MATCHSELEVES!$Y$14:$AE$600,4,FALSE),0)","v":0},{"$f":"IFERROR(VLOOKUP(HW30,MATCHSELEVES!$Y$14:$AE$600,5,FALSE),0)","v":0},{"$f":"IFERROR(VLOOKUP(HW30,MATCHSELEVES!$Y$14:$AF$600,8,FALSE),0)","v":0},{"$f":"IFERROR(VLOOKUP(HW30,MATCHSELEVES!$Y$14:$AG$600,9,FALSE),0)","v":0},"Saliha_37",{"$f":"IFERROR(VLOOKUP(IC30,MATCHSELEVES!$Y$14:$AE$600,3,FALSE),0)","v":0},{"$f":"IFERROR(VLOOKUP(IC30,MATCHSELEVES!$Y$14:$AE$600,4,FALSE),0)","v":0},{"$f":"IFERROR(VLOOKUP(IC30,MATCHSELEVES!$Y$14:$AE$600,5,FALSE),0)","v":0},{"$f":"IFERROR(VLOOKUP(IC30,MATCHSELEVES!$Y$14:$AF$600,8,FALSE),0)","v":0},{"$f":"IFERROR(VLOOKUP(IC30,MATCHSELEVES!$Y$14:$AG$600,9,FALSE),0)","v":0},"Saliha_38",{"$f":"IFERROR(VLOOKUP(II30,MATCHSELEVES!$Y$14:$AE$600,3,FALSE),0)","v":0},{"$f":"IFERROR(VLOOKUP(II30,MATCHSELEVES!$Y$14:$AE$600,4,FALSE),0)","v":0},{"$f":"IFERROR(VLOOKUP(II30,MATCHSELEVES!$Y$14:$AE$600,5,FALSE),0)","v":0},{"$f":"IFERROR(VLOOKUP(II30,MATCHSELEVES!$Y$14:$AF$600,8,FALSE),0)","v":0},{"$f":"IFERROR(VLOOKUP(II30,MATCHSELEVES!$Y$14:$AG$600,9,FALSE),0)","v":0},"Saliha_39",{"$f":"IFERROR(VLOOKUP(IO30,MATCHSELEVES!$Y$14:$AE$600,3,FALSE),0)","v":0},{"$f":"IFERROR(VLOOKUP(IO30,MATCHSELEVES!$Y$14:$AE$600,4,FALSE),0)","v":0},{"$f":"IFERROR(VLOOKUP(IO30,MATCHSELEVES!$Y$14:$AE$600,5,FALSE),0)","v":0},{"$f":"IFERROR(VLOOKUP(IO30,MATCHSELEVES!$Y$14:$AF$600,8,FALSE),0)","v":0},{"$f":"IFERROR(VLOOKUP(IO30,MATCHSELEVES!$Y$14:$AG$600,9,FALSE),0)","v":0},"Saliha_40",{"$f":"IFERROR(VLOOKUP(IU30,MATCHSELEVES!$Y$14:$AE$600,3,FALSE),0)","v":0},{"$f":"IFERROR(VLOOKUP(IU30,MATCHSELEVES!$Y$14:$AE$600,4,FALSE),0)","v":0},{"$f":"IFERROR(VLOOKUP(IU30,MATCHSELEVES!$Y$14:$AE$600,5,FALSE),0)","v":0},{"$f":"IFERROR(VLOOKUP(IU30,MATCHSELEVES!$Y$14:$AF$600,8,FALSE),0)","v":0},{"$f":"IFERROR(VLOOKUP(IU30,MATCHSELEVES!$Y$14:$AG$600,9,FALSE),0)","v":0},"Salihap_1",{"$f":"IFERROR(VLOOKUP(JA30,MATCHSELEVES!$Y$14:$AE$600,3,FALSE),0)","v":0},{"$f":"IFERROR(VLOOKUP(JA30,MATCHSELEVES!$Y$14:$AE$600,4,FALSE),0)","v":0},{"$f":"IFERROR(VLOOKUP(JA30,MATCHSELEVES!$Y$14:$AE$600,5,FALSE),0)","v":0},{"$f":"IFERROR(VLOOKUP(JA30,MATCHSELEVES!$Y$14:$AF$600,8,FALSE),0)","v":0},{"$f":"IFERROR(VLOOKUP(JA30,MATCHSELEVES!$Y$14:$AG$600,9,FALSE),0)","v":0},"Salihap_2",{"$f":"IFERROR(VLOOKUP(JG30,MATCHSELEVES!$Y$14:$AE$600,3,FALSE),0)","v":0},{"$f":"IFERROR(VLOOKUP(JG30,MATCHSELEVES!$Y$14:$AE$600,4,FALSE),0)","v":0},{"$f":"IFERROR(VLOOKUP(JG30,MATCHSELEVES!$Y$14:$AE$600,5,FALSE),0)","v":0},{"$f":"IFERROR(VLOOKUP(JG30,MATCHSELEVES!$Y$14:$AF$600,8,FALSE),0)","v":0},{"$f":"IFERROR(VLOOKUP(JG30,MATCHSELEVES!$Y$14:$AG$600,9,FALSE),0)","v":0},"Salihap_3",{"$f":"IFERROR(VLOOKUP(JM30,MATCHSELEVES!$Y$14:$AE$600,3,FALSE),0)","v":0},{"$f":"IFERROR(VLOOKUP(JM30,MATCHSELEVES!$Y$14:$AE$600,4,FALSE),0)","v":0},{"$f":"IFERROR(VLOOKUP(JM30,MATCHSELEVES!$Y$14:$AE$600,5,FALSE),0)","v":0},{"$f":"IFERROR(VLOOKUP(JM30,MATCHSELEVES!$Y$14:$AF$600,8,FALSE),0)","v":0},{"$f":"IFERROR(VLOOKUP(JM30,MATCHSELEVES!$Y$14:$AG$600,9,FALSE),0)","v":0},"Salihap_4",{"$f":"IFERROR(VLOOKUP(JS30,MATCHSELEVES!$Y$14:$AE$600,3,FALSE),0)","v":0},{"$f":"IFERROR(VLOOKUP(JS30,MATCHSELEVES!$Y$14:$AE$600,4,FALSE),0)","v":0},{"$f":"IFERROR(VLOOKUP(JS30,MATCHSELEVES!$Y$14:$AE$600,5,FALSE),0)","v":0},{"$f":"IFERROR(VLOOKUP(JS30,MATCHSELEVES!$Y$14:$AF$600,8,FALSE),0)","v":0},{"$f":"IFERROR(VLOOKUP(JS30,MATCHSELEVES!$Y$14:$AG$600,9,FALSE),0)","v":0},"Salihap_5",{"$f":"IFERROR(VLOOKUP(JY30,MATCHSELEVES!$Y$14:$AE$600,3,FALSE),0)","v":0},{"$f":"IFERROR(VLOOKUP(JY30,MATCHSELEVES!$Y$14:$AE$600,4,FALSE),0)","v":0},{"$f":"IFERROR(VLOOKUP(JY30,MATCHSELEVES!$Y$14:$AE$600,5,FALSE),0)","v":0},{"$f":"IFERROR(VLOOKUP(JY30,MATCHSELEVES!$Y$14:$AF$600,8,FALSE),0)","v":0},{"$f":"IFERROR(VLOOKUP(JY30,MATCHSELEVES!$Y$14:$AG$600,9,FALSE),0)","v":0},"Salihap_6",{"$f":"IFERROR(VLOOKUP(KE30,MATCHSELEVES!$Y$14:$AE$600,3,FALSE),0)","v":0},{"$f":"IFERROR(VLOOKUP(KE30,MATCHSELEVES!$Y$14:$AE$600,4,FALSE),0)","v":0},{"$f":"IFERROR(VLOOKUP(KE30,MATCHSELEVES!$Y$14:$AE$600,5,FALSE),0)","v":0},{"$f":"IFERROR(VLOOKUP(KE30,MATCHSELEVES!$Y$14:$AF$600,8,FALSE),0)","v":0},{"$f":"IFERROR(VLOOKUP(KE30,MATCHSELEVES!$Y$14:$AG$600,9,FALSE),0)","v":0},"Salihap_7",{"$f":"IFERROR(VLOOKUP(KK30,MATCHSELEVES!$Y$14:$AE$600,3,FALSE),0)","v":0},{"$f":"IFERROR(VLOOKUP(KK30,MATCHSELEVES!$Y$14:$AE$600,4,FALSE),0)","v":0},{"$f":"IFERROR(VLOOKUP(KK30,MATCHSELEVES!$Y$14:$AE$600,5,FALSE),0)","v":0},{"$f":"IFERROR(VLOOKUP(KK30,MATCHSELEVES!$Y$14:$AF$600,8,FALSE),0)","v":0},{"$f":"IFERROR(VLOOKUP(KK30,MATCHSELEVES!$Y$14:$AG$600,9,FALSE),0)","v":0},"Salihap_8",{"$f":"IFERROR(VLOOKUP(KQ30,MATCHSELEVES!$Y$14:$AE$600,3,FALSE),0)","v":0},{"$f":"IFERROR(VLOOKUP(KQ30,MATCHSELEVES!$Y$14:$AE$600,4,FALSE),0)","v":0},{"$f":"IFERROR(VLOOKUP(KQ30,MATCHSELEVES!$Y$14:$AE$600,5,FALSE),0)","v":0},{"$f":"IFERROR(VLOOKUP(KQ30,MATCHSELEVES!$Y$14:$AF$600,8,FALSE),0)","v":0},{"$f":"IFERROR(VLOOKUP(KQ30,MATCHSELEVES!$Y$14:$AG$600,9,FALSE),0)","v":0},"Salihap_9",{"$f":"IFERROR(VLOOKUP(KW30,MATCHSELEVES!$Y$14:$AE$600,3,FALSE),0)","v":0},{"$f":"IFERROR(VLOOKUP(KW30,MATCHSELEVES!$Y$14:$AE$600,4,FALSE),0)","v":0},{"$f":"IFERROR(VLOOKUP(KW30,MATCHSELEVES!$Y$14:$AE$600,5,FALSE),0)","v":0},{"$f":"IFERROR(VLOOKUP(KW30,MATCHSELEVES!$Y$14:$AF$600,8,FALSE),0)","v":0},{"$f":"IFERROR(VLOOKUP(KW30,MATCHSELEVES!$Y$14:$AG$600,9,FALSE),0)","v":0},"Salihap_10",{"$f":"IFERROR(VLOOKUP(LC30,MATCHSELEVES!$Y$14:$AE$600,3,FALSE),0)","v":0},{"$f":"IFERROR(VLOOKUP(LC30,MATCHSELEVES!$Y$14:$AE$600,4,FALSE),0)","v":0},{"$f":"IFERROR(VLOOKUP(LC30,MATCHSELEVES!$Y$14:$AE$600,5,FALSE),0)","v":0},{"$f":"IFERROR(VLOOKUP(LC30,MATCHSELEVES!$Y$14:$AF$600,8,FALSE),0)","v":0},{"$f":"IFERROR(VLOOKUP(LC30,MATCHSELEVES!$Y$14:$AG$600,9,FALSE),0)","v":0},"Salihap_11",{"$f":"IFERROR(VLOOKUP(LI30,MATCHSELEVES!$Y$14:$AE$600,3,FALSE),0)","v":0},{"$f":"IFERROR(VLOOKUP(LI30,MATCHSELEVES!$Y$14:$AE$600,4,FALSE),0)","v":0},{"$f":"IFERROR(VLOOKUP(LI30,MATCHSELEVES!$Y$14:$AE$600,5,FALSE),0)","v":0},{"$f":"IFERROR(VLOOKUP(LI30,MATCHSELEVES!$Y$14:$AF$600,8,FALSE),0)","v":0},{"$f":"IFERROR(VLOOKUP(LI30,MATCHSELEVES!$Y$14:$AG$600,9,FALSE),0)","v":0},"Salihap_12",{"$f":"IFERROR(VLOOKUP(LO30,MATCHSELEVES!$Y$14:$AE$600,3,FALSE),0)","v":0},{"$f":"IFERROR(VLOOKUP(LO30,MATCHSELEVES!$Y$14:$AE$600,4,FALSE),0)","v":0},{"$f":"IFERROR(VLOOKUP(LO30,MATCHSELEVES!$Y$14:$AE$600,5,FALSE),0)","v":0},{"$f":"IFERROR(VLOOKUP(LO30,MATCHSELEVES!$Y$14:$AF$600,8,FALSE),0)","v":0},{"$f":"IFERROR(VLOOKUP(LO30,MATCHSELEVES!$Y$14:$AG$600,9,FALSE),0)","v":0},"Salihap_13",{"$f":"IFERROR(VLOOKUP(LU30,MATCHSELEVES!$Y$14:$AE$600,3,FALSE),0)","v":0},{"$f":"IFERROR(VLOOKUP(LU30,MATCHSELEVES!$Y$14:$AE$600,4,FALSE),0)","v":0},{"$f":"IFERROR(VLOOKUP(LU30,MATCHSELEVES!$Y$14:$AE$600,5,FALSE),0)","v":0},{"$f":"IFERROR(VLOOKUP(LU30,MATCHSELEVES!$Y$14:$AF$600,8,FALSE),0)","v":0},{"$f":"IFERROR(VLOOKUP(LU30,MATCHSELEVES!$Y$14:$AG$600,9,FALSE),0)","v":0},"Salihap_14",{"$f":"IFERROR(VLOOKUP(MA30,MATCHSELEVES!$Y$14:$AE$600,3,FALSE),0)","v":0},{"$f":"IFERROR(VLOOKUP(MA30,MATCHSELEVES!$Y$14:$AE$600,4,FALSE),0)","v":0},{"$f":"IFERROR(VLOOKUP(MA30,MATCHSELEVES!$Y$14:$AE$600,5,FALSE),0)","v":0},{"$f":"IFERROR(VLOOKUP(MA30,MATCHSELEVES!$Y$14:$AF$600,8,FALSE),0)","v":0},{"$f":"IFERROR(VLOOKUP(MA30,MATCHSELEVES!$Y$14:$AG$600,9,FALSE),0)","v":0},"Salihap_15",{"$f":"IFERROR(VLOOKUP(MG30,MATCHSELEVES!$Y$14:$AE$600,3,FALSE),0)","v":0},{"$f":"IFERROR(VLOOKUP(MG30,MATCHSELEVES!$Y$14:$AE$600,4,FALSE),0)","v":0},{"$f":"IFERROR(VLOOKUP(MG30,MATCHSELEVES!$Y$14:$AE$600,5,FALSE),0)","v":0},{"$f":"IFERROR(VLOOKUP(MG30,MATCHSELEVES!$Y$14:$AF$600,8,FALSE),0)","v":0},{"$f":"IFERROR(VLOOKUP(MG30,MATCHSELEVES!$Y$14:$AG$600,9,FALSE),0)","v":0},"Salihap_16",{"$f":"IFERROR(VLOOKUP(MM30,MATCHSELEVES!$Y$14:$AE$600,3,FALSE),0)","v":0},{"$f":"IFERROR(VLOOKUP(MM30,MATCHSELEVES!$Y$14:$AE$600,4,FALSE),0)","v":0},{"$f":"IFERROR(VLOOKUP(MM30,MATCHSELEVES!$Y$14:$AE$600,5,FALSE),0)","v":0},{"$f":"IFERROR(VLOOKUP(MM30,MATCHSELEVES!$Y$14:$AF$600,8,FALSE),0)","v":0},{"$f":"IFERROR(VLOOKUP(MM30,MATCHSELEVES!$Y$14:$AG$600,9,FALSE),0)","v":0},"Salihap_17",{"$f":"IFERROR(VLOOKUP(MS30,MATCHSELEVES!$Y$14:$AE$600,3,FALSE),0)","v":0},{"$f":"IFERROR(VLOOKUP(MS30,MATCHSELEVES!$Y$14:$AE$600,4,FALSE),0)","v":0},{"$f":"IFERROR(VLOOKUP(MS30,MATCHSELEVES!$Y$14:$AE$600,5,FALSE),0)","v":0},{"$f":"IFERROR(VLOOKUP(MS30,MATCHSELEVES!$Y$14:$AF$600,8,FALSE),0)","v":0},{"$f":"IFERROR(VLOOKUP(MS30,MATCHSELEVES!$Y$14:$AG$600,9,FALSE),0)","v":0},"Salihap_18",{"$f":"IFERROR(VLOOKUP(MY30,MATCHSELEVES!$Y$14:$AE$600,3,FALSE),0)","v":0},{"$f":"IFERROR(VLOOKUP(MY30,MATCHSELEVES!$Y$14:$AE$600,4,FALSE),0)","v":0},{"$f":"IFERROR(VLOOKUP(MY30,MATCHSELEVES!$Y$14:$AE$600,5,FALSE),0)","v":0},{"$f":"IFERROR(VLOOKUP(MY30,MATCHSELEVES!$Y$14:$AF$600,8,FALSE),0)","v":0},{"$f":"IFERROR(VLOOKUP(MY30,MATCHSELEVES!$Y$14:$AG$600,9,FALSE),0)","v":0},"Salihap_19",{"$f":"IFERROR(VLOOKUP(NE30,MATCHSELEVES!$Y$14:$AE$600,3,FALSE),0)","v":0},{"$f":"IFERROR(VLOOKUP(NE30,MATCHSELEVES!$Y$14:$AE$600,4,FALSE),0)","v":0},{"$f":"IFERROR(VLOOKUP(NE30,MATCHSELEVES!$Y$14:$AE$600,5,FALSE),0)","v":0},{"$f":"IFERROR(VLOOKUP(NE30,MATCHSELEVES!$Y$14:$AF$600,8,FALSE),0)","v":0},{"$f":"IFERROR(VLOOKUP(NE30,MATCHSELEVES!$Y$14:$AG$600,9,FALSE),0)","v":0},"Salihap_20",{"$f":"IFERROR(VLOOKUP(NK30,MATCHSELEVES!$Y$14:$AE$600,3,FALSE),0)","v":0},{"$f":"IFERROR(VLOOKUP(NK30,MATCHSELEVES!$Y$14:$AE$600,4,FALSE),0)","v":0},{"$f":"IFERROR(VLOOKUP(NK30,MATCHSELEVES!$Y$14:$AE$600,5,FALSE),0)","v":0},{"$f":"IFERROR(VLOOKUP(NK30,MATCHSELEVES!$Y$14:$AF$600,8,FALSE),0)","v":0},{"$f":"IFERROR(VLOOKUP(NK30,MATCHSELEVES!$Y$14:$AG$600,9,FALSE),0)","v":0},"Salihap_21",{"$f":"IFERROR(VLOOKUP(NQ30,MATCHSELEVES!$Y$14:$AE$600,3,FALSE),0)","v":0},{"$f":"IFERROR(VLOOKUP(NQ30,MATCHSELEVES!$Y$14:$AE$600,4,FALSE),0)","v":0},{"$f":"IFERROR(VLOOKUP(NQ30,MATCHSELEVES!$Y$14:$AE$600,5,FALSE),0)","v":0},{"$f":"IFERROR(VLOOKUP(NQ30,MATCHSELEVES!$Y$14:$AF$600,8,FALSE),0)","v":0},{"$f":"IFERROR(VLOOKUP(NQ30,MATCHSELEVES!$Y$14:$AG$600,9,FALSE),0)","v":0},"Salihap_22",{"$f":"IFERROR(VLOOKUP(NW30,MATCHSELEVES!$Y$14:$AE$600,3,FALSE),0)","v":0},{"$f":"IFERROR(VLOOKUP(NW30,MATCHSELEVES!$Y$14:$AE$600,4,FALSE),0)","v":0},{"$f":"IFERROR(VLOOKUP(NW30,MATCHSELEVES!$Y$14:$AE$600,5,FALSE),0)","v":0},{"$f":"IFERROR(VLOOKUP(NW30,MATCHSELEVES!$Y$14:$AF$600,8,FALSE),0)","v":0},{"$f":"IFERROR(VLOOKUP(NW30,MATCHSELEVES!$Y$14:$AG$600,9,FALSE),0)","v":0},"Salihap_23",{"$f":"IFERROR(VLOOKUP(OC30,MATCHSELEVES!$Y$14:$AE$600,3,FALSE),0)","v":0},{"$f":"IFERROR(VLOOKUP(OC30,MATCHSELEVES!$Y$14:$AE$600,4,FALSE),0)","v":0},{"$f":"IFERROR(VLOOKUP(OC30,MATCHSELEVES!$Y$14:$AE$600,5,FALSE),0)","v":0},{"$f":"IFERROR(VLOOKUP(OC30,MATCHSELEVES!$Y$14:$AF$600,8,FALSE),0)","v":0},{"$f":"IFERROR(VLOOKUP(OC30,MATCHSELEVES!$Y$14:$AG$600,9,FALSE),0)","v":0},"Salihap_24",{"$f":"IFERROR(VLOOKUP(OI30,MATCHSELEVES!$Y$14:$AE$600,3,FALSE),0)","v":0},{"$f":"IFERROR(VLOOKUP(OI30,MATCHSELEVES!$Y$14:$AE$600,4,FALSE),0)","v":0},{"$f":"IFERROR(VLOOKUP(OI30,MATCHSELEVES!$Y$14:$AE$600,5,FALSE),0)","v":0},{"$f":"IFERROR(VLOOKUP(OI30,MATCHSELEVES!$Y$14:$AF$600,8,FALSE),0)","v":0},{"$f":"IFERROR(VLOOKUP(OI30,MATCHSELEVES!$Y$14:$AG$600,9,FALSE),0)","v":0},"Salihap_25",{"$f":"IFERROR(VLOOKUP(OO30,MATCHSELEVES!$Y$14:$AE$600,3,FALSE),0)","v":0},{"$f":"IFERROR(VLOOKUP(OO30,MATCHSELEVES!$Y$14:$AE$600,4,FALSE),0)","v":0},{"$f":"IFERROR(VLOOKUP(OO30,MATCHSELEVES!$Y$14:$AE$600,5,FALSE),0)","v":0},{"$f":"IFERROR(VLOOKUP(OO30,MATCHSELEVES!$Y$14:$AF$600,8,FALSE),0)","v":0},{"$f":"IFERROR(VLOOKUP(OO30,MATCHSELEVES!$Y$14:$AG$600,9,FALSE),0)","v":0},"Salihap_26",{"$f":"IFERROR(VLOOKUP(OU30,MATCHSELEVES!$Y$14:$AE$600,3,FALSE),0)","v":0},{"$f":"IFERROR(VLOOKUP(OU30,MATCHSELEVES!$Y$14:$AE$600,4,FALSE),0)","v":0},{"$f":"IFERROR(VLOOKUP(OU30,MATCHSELEVES!$Y$14:$AE$600,5,FALSE),0)","v":0},{"$f":"IFERROR(VLOOKUP(OU30,MATCHSELEVES!$Y$14:$AF$600,8,FALSE),0)","v":0},{"$f":"IFERROR(VLOOKUP(OU30,MATCHSELEVES!$Y$14:$AG$600,9,FALSE),0)","v":0},"Salihap_27",{"$f":"IFERROR(VLOOKUP(PA30,MATCHSELEVES!$Y$14:$AE$600,3,FALSE),0)","v":0},{"$f":"IFERROR(VLOOKUP(PA30,MATCHSELEVES!$Y$14:$AE$600,4,FALSE),0)","v":0},{"$f":"IFERROR(VLOOKUP(PA30,MATCHSELEVES!$Y$14:$AE$600,5,FALSE),0)","v":0},{"$f":"IFERROR(VLOOKUP(PA30,MATCHSELEVES!$Y$14:$AF$600,8,FALSE),0)","v":0},{"$f":"IFERROR(VLOOKUP(PA30,MATCHSELEVES!$Y$14:$AG$600,9,FALSE),0)","v":0},"Salihap_28",{"$f":"IFERROR(VLOOKUP(PG30,MATCHSELEVES!$Y$14:$AE$600,3,FALSE),0)","v":0},{"$f":"IFERROR(VLOOKUP(PG30,MATCHSELEVES!$Y$14:$AE$600,4,FALSE),0)","v":0},{"$f":"IFERROR(VLOOKUP(PG30,MATCHSELEVES!$Y$14:$AE$600,5,FALSE),0)","v":0},{"$f":"IFERROR(VLOOKUP(PG30,MATCHSELEVES!$Y$14:$AF$600,8,FALSE),0)","v":0},{"$f":"IFERROR(VLOOKUP(PG30,MATCHSELEVES!$Y$14:$AG$600,9,FALSE),0)","v":0},"Salihap_29",{"$f":"IFERROR(VLOOKUP(PM30,MATCHSELEVES!$Y$14:$AE$600,3,FALSE),0)","v":0},{"$f":"IFERROR(VLOOKUP(PM30,MATCHSELEVES!$Y$14:$AE$600,4,FALSE),0)","v":0},{"$f":"IFERROR(VLOOKUP(PM30,MATCHSELEVES!$Y$14:$AE$600,5,FALSE),0)","v":0},{"$f":"IFERROR(VLOOKUP(PM30,MATCHSELEVES!$Y$14:$AF$600,8,FALSE),0)","v":0},{"$f":"IFERROR(VLOOKUP(PM30,MATCHSELEVES!$Y$14:$AG$600,9,FALSE),0)","v":0},"Salihap_30",{"$f":"IFERROR(VLOOKUP(PS30,MATCHSELEVES!$Y$14:$AE$600,3,FALSE),0)","v":0},{"$f":"IFERROR(VLOOKUP(PS30,MATCHSELEVES!$Y$14:$AE$600,4,FALSE),0)","v":0},{"$f":"IFERROR(VLOOKUP(PS30,MATCHSELEVES!$Y$14:$AE$600,5,FALSE),0)","v":0},{"$f":"IFERROR(VLOOKUP(PS30,MATCHSELEVES!$Y$14:$AF$600,8,FALSE),0)","v":0},{"$f":"IFERROR(VLOOKUP(PS30,MATCHSELEVES!$Y$14:$AG$600,9,FALSE),0)","v":0},"Salihap_31",{"$f":"IFERROR(VLOOKUP(PY30,MATCHSELEVES!$Y$14:$AE$600,3,FALSE),0)","v":0},{"$f":"IFERROR(VLOOKUP(PY30,MATCHSELEVES!$Y$14:$AE$600,4,FALSE),0)","v":0},{"$f":"IFERROR(VLOOKUP(PY30,MATCHSELEVES!$Y$14:$AE$600,5,FALSE),0)","v":0},{"$f":"IFERROR(VLOOKUP(PY30,MATCHSELEVES!$Y$14:$AF$600,8,FALSE),0)","v":0},{"$f":"IFERROR(VLOOKUP(PY30,MATCHSELEVES!$Y$14:$AG$600,9,FALSE),0)","v":0},"Salihap_32",{"$f":"IFERROR(VLOOKUP(QE30,MATCHSELEVES!$Y$14:$AE$600,3,FALSE),0)","v":0},{"$f":"IFERROR(VLOOKUP(QE30,MATCHSELEVES!$Y$14:$AE$600,4,FALSE),0)","v":0},{"$f":"IFERROR(VLOOKUP(QE30,MATCHSELEVES!$Y$14:$AE$600,5,FALSE),0)","v":0},{"$f":"IFERROR(VLOOKUP(QE30,MATCHSELEVES!$Y$14:$AF$600,8,FALSE),0)","v":0},{"$f":"IFERROR(VLOOKUP(QE30,MATCHSELEVES!$Y$14:$AG$600,9,FALSE),0)","v":0},"Salihap_33",{"$f":"IFERROR(VLOOKUP(QK30,MATCHSELEVES!$Y$14:$AE$600,3,FALSE),0)","v":0},{"$f":"IFERROR(VLOOKUP(QK30,MATCHSELEVES!$Y$14:$AE$600,4,FALSE),0)","v":0},{"$f":"IFERROR(VLOOKUP(QK30,MATCHSELEVES!$Y$14:$AE$600,5,FALSE),0)","v":0},{"$f":"IFERROR(VLOOKUP(QK30,MATCHSELEVES!$Y$14:$AF$600,8,FALSE),0)","v":0},{"$f":"IFERROR(VLOOKUP(QK30,MATCHSELEVES!$Y$14:$AG$600,9,FALSE),0)","v":0},"Salihap_34",{"$f":"IFERROR(VLOOKUP(QQ30,MATCHSELEVES!$Y$14:$AE$600,3,FALSE),0)","v":0},{"$f":"IFERROR(VLOOKUP(QQ30,MATCHSELEVES!$Y$14:$AE$600,4,FALSE),0)","v":0},{"$f":"IFERROR(VLOOKUP(QQ30,MATCHSELEVES!$Y$14:$AE$600,5,FALSE),0)","v":0},{"$f":"IFERROR(VLOOKUP(QQ30,MATCHSELEVES!$Y$14:$AF$600,8,FALSE),0)","v":0},{"$f":"IFERROR(VLOOKUP(QQ30,MATCHSELEVES!$Y$14:$AG$600,9,FALSE),0)","v":0},"Salihap_35",{"$f":"IFERROR(VLOOKUP(QW30,MATCHSELEVES!$Y$14:$AE$600,3,FALSE),0)","v":0},{"$f":"IFERROR(VLOOKUP(QW30,MATCHSELEVES!$Y$14:$AE$600,4,FALSE),0)","v":0},{"$f":"IFERROR(VLOOKUP(QW30,MATCHSELEVES!$Y$14:$AE$600,5,FALSE),0)","v":0},{"$f":"IFERROR(VLOOKUP(QW30,MATCHSELEVES!$Y$14:$AF$600,8,FALSE),0)","v":0},{"$f":"IFERROR(VLOOKUP(QW30,MATCHSELEVES!$Y$14:$AG$600,9,FALSE),0)","v":0},"Salihap_36",{"$f":"IFERROR(VLOOKUP(RC30,MATCHSELEVES!$Y$14:$AE$600,3,FALSE),0)","v":0},{"$f":"IFERROR(VLOOKUP(RC30,MATCHSELEVES!$Y$14:$AE$600,4,FALSE),0)","v":0},{"$f":"IFERROR(VLOOKUP(RC30,MATCHSELEVES!$Y$14:$AE$600,5,FALSE),0)","v":0},{"$f":"IFERROR(VLOOKUP(RC30,MATCHSELEVES!$Y$14:$AF$600,8,FALSE),0)","v":0},{"$f":"IFERROR(VLOOKUP(RC30,MATCHSELEVES!$Y$14:$AG$600,9,FALSE),0)","v":0},"Salihap_37",{"$f":"IFERROR(VLOOKUP(RI30,MATCHSELEVES!$Y$14:$AE$600,3,FALSE),0)","v":0},{"$f":"IFERROR(VLOOKUP(RI30,MATCHSELEVES!$Y$14:$AE$600,4,FALSE),0)","v":0},{"$f":"IFERROR(VLOOKUP(RI30,MATCHSELEVES!$Y$14:$AE$600,5,FALSE),0)","v":0},{"$f":"IFERROR(VLOOKUP(RI30,MATCHSELEVES!$Y$14:$AF$600,8,FALSE),0)","v":0},{"$f":"IFERROR(VLOOKUP(RI30,MATCHSELEVES!$Y$14:$AG$600,9,FALSE),0)","v":0},"Salihap_38",{"$f":"IFERROR(VLOOKUP(RO30,MATCHSELEVES!$Y$14:$AE$600,3,FALSE),0)","v":0},{"$f":"IFERROR(VLOOKUP(RO30,MATCHSELEVES!$Y$14:$AE$600,4,FALSE),0)","v":0},{"$f":"IFERROR(VLOOKUP(RO30,MATCHSELEVES!$Y$14:$AE$600,5,FALSE),0)","v":0},{"$f":"IFERROR(VLOOKUP(RO30,MATCHSELEVES!$Y$14:$AF$600,8,FALSE),0)","v":0},{"$f":"IFERROR(VLOOKUP(RO30,MATCHSELEVES!$Y$14:$AG$600,9,FALSE),0)","v":0},"Salihap_39",{"$f":"IFERROR(VLOOKUP(RU30,MATCHSELEVES!$Y$14:$AE$600,3,FALSE),0)","v":0},{"$f":"IFERROR(VLOOKUP(RU30,MATCHSELEVES!$Y$14:$AE$600,4,FALSE),0)","v":0},{"$f":"IFERROR(VLOOKUP(RU30,MATCHSELEVES!$Y$14:$AE$600,5,FALSE),0)","v":0},{"$f":"IFERROR(VLOOKUP(RU30,MATCHSELEVES!$Y$14:$AF$600,8,FALSE),0)","v":0},{"$f":"IFERROR(VLOOKUP(RU30,MATCHSELEVES!$Y$14:$AG$600,9,FALSE),0)","v":0},"Salihap_40",{"$f":"IFERROR(VLOOKUP(SA30,MATCHSELEVES!$Y$14:$AE$600,3,FALSE),0)","v":0},{"$f":"IFERROR(VLOOKUP(SA30,MATCHSELEVES!$Y$14:$AE$600,4,FALSE),0)","v":0},{"$f":"IFERROR(VLOOKUP(SA30,MATCHSELEVES!$Y$14:$AE$600,5,FALSE),0)","v":0},{"$f":"IFERROR(VLOOKUP(SA30,MATCHSELEVES!$Y$14:$AF$600,8,FALSE),0)","v":0},{"$f":"IFERROR(VLOOKUP(SA30,MATCHSELEVES!$Y$14:$AG$600,9,FALSE),0)","v":0}]
[28,null,"Saoussen",28,null,null,{"$f":"COUNTIF(MATCHSELEVES!$Z$14:$Z$600,C31)+COUNTIF(MATCHSELEVES!$Z$14:$Z$600,$C31&\"p\")","v":0},1,{"$f":"COUNTIF(MATCHSELEVES!$F$14:$H$249,C31)","v":0},1,0,1,{"$f":"IFERROR(M74/Tableau10[[#This Row],[Nombre de matchs joués]],0)","v":0},{"$f":"IF(Tableau10[[#This Row],[Nombre de points encaissés]]=0,$C$45,SUMPRODUCT((M$4:M$43<M31)*(M$4:M$43<>0))+1)","v":40},0,1,{"$f":"(Tableau10[[#This Row],[CLASSEMENT1]]+Tableau10[[#This Row],[CLASSEMENT2]]+Tableau10[[#This Row],[CLASSEMENT3]]+Tableau10[[#This Row],[CLASSEMENT4]]+Tableau10[[#This Row],[CLASSEMENT5]]+Tableau10[[#This Row],[CLASSEMENT6]])/6","v":12},{"$f":"RANK(Tableau10[[#This Row],[MOYENNE CLASSEMENTS]],Tableau10[MOYENNE CLASSEMENTS],1)","v":28},null,{"$f":"Tableau10[[#This Row],[CLASSEMENT1]]","v":28},"Saoussen_1",{"$f":"IFERROR(VLOOKUP(U31,MATCHSELEVES!$Y$14:$AE$600,3,FALSE),0)","v":0},{"$f":"IFERROR(VLOOKUP(U31,MATCHSELEVES!$Y$14:$AE$600,4,FALSE),0)","v":0},{"$f":"IFERROR(VLOOKUP(U31,MATCHSELEVES!$Y$14:$AE$600,5,FALSE),0)","v":0},{"$f":"IFERROR(VLOOKUP(U31,MATCHSELEVES!$Y$14:$AF$600,8,FALSE),0)","v":0},{"$f":"IFERROR(VLOOKUP(U31,MATCHSELEVES!$Y$14:$AG$600,9,FALSE),0)","v":0},"Saoussen_2",{"$f":"IFERROR(VLOOKUP(AA31,MATCHSELEVES!$Y$14:$AE$600,3,FALSE),0)","v":0},{"$f":"IFERROR(VLOOKUP(AA31,MATCHSELEVES!$Y$14:$AE$600,4,FALSE),0)","v":0},{"$f":"IFERROR(VLOOKUP(AA31,MATCHSELEVES!$Y$14:$AE$600,5,FALSE),0)","v":0},{"$f":"IFERROR(VLOOKUP(AA31,MATCHSELEVES!$Y$14:$AF$600,8,FALSE),0)","v":0},{"$f":"IFERROR(VLOOKUP(AA31,MATCHSELEVES!$Y$14:$AG$600,9,FALSE),0)","v":0},"Saoussen_3",{"$f":"IFERROR(VLOOKUP(AG31,MATCHSELEVES!$Y$14:$AE$600,3,FALSE),0)","v":0},{"$f":"IFERROR(VLOOKUP(AG31,MATCHSELEVES!$Y$14:$AE$600,4,FALSE),0)","v":0},{"$f":"IFERROR(VLOOKUP(AG31,MATCHSELEVES!$Y$14:$AE$600,5,FALSE),0)","v":0},{"$f":"IFERROR(VLOOKUP(AG31,MATCHSELEVES!$Y$14:$AF$600,8,FALSE),0)","v":0},{"$f":"IFERROR(VLOOKUP(AG31,MATCHSELEVES!$Y$14:$AG$600,9,FALSE),0)","v":0},"Saoussen_4",{"$f":"IFERROR(VLOOKUP(AM31,MATCHSELEVES!$Y$14:$AE$600,3,FALSE),0)","v":0},{"$f":"IFERROR(VLOOKUP(AM31,MATCHSELEVES!$Y$14:$AE$600,4,FALSE),0)","v":0},{"$f":"IFERROR(VLOOKUP(AM31,MATCHSELEVES!$Y$14:$AE$600,5,FALSE),0)","v":0},{"$f":"IFERROR(VLOOKUP(AM31,MATCHSELEVES!$Y$14:$AF$600,8,FALSE),0)","v":0},{"$f":"IFERROR(VLOOKUP(AM31,MATCHSELEVES!$Y$14:$AG$600,9,FALSE),0)","v":0},"Saoussen_5",{"$f":"IFERROR(VLOOKUP(AS31,MATCHSELEVES!$Y$14:$AE$600,3,FALSE),0)","v":0},{"$f":"IFERROR(VLOOKUP(AS31,MATCHSELEVES!$Y$14:$AE$600,4,FALSE),0)","v":0},{"$f":"IFERROR(VLOOKUP(AS31,MATCHSELEVES!$Y$14:$AE$600,5,FALSE),0)","v":0},{"$f":"IFERROR(VLOOKUP(AS31,MATCHSELEVES!$Y$14:$AF$600,8,FALSE),0)","v":0},{"$f":"IFERROR(VLOOKUP(AS31,MATCHSELEVES!$Y$14:$AG$600,9,FALSE),0)","v":0},"Saoussen_6",{"$f":"IFERROR(VLOOKUP(AY31,MATCHSELEVES!$Y$14:$AE$600,3,FALSE),0)","v":0},{"$f":"IFERROR(VLOOKUP(AY31,MATCHSELEVES!$Y$14:$AE$600,4,FALSE),0)","v":0},{"$f":"IFERROR(VLOOKUP(AY31,MATCHSELEVES!$Y$14:$AE$600,5,FALSE),0)","v":0},{"$f":"IFERROR(VLOOKUP(AY31,MATCHSELEVES!$Y$14:$AF$600,8,FALSE),0)","v":0},{"$f":"IFERROR(VLOOKUP(AY31,MATCHSELEVES!$Y$14:$AG$600,9,FALSE),0)","v":0},"Saoussen_7",{"$f":"IFERROR(VLOOKUP(BE31,MATCHSELEVES!$Y$14:$AE$600,3,FALSE),0)","v":0},{"$f":"IFERROR(VLOOKUP(BE31,MATCHSELEVES!$Y$14:$AE$600,4,FALSE),0)","v":0},{"$f":"IFERROR(VLOOKUP(BE31,MATCHSELEVES!$Y$14:$AE$600,5,FALSE),0)","v":0},{"$f":"IFERROR(VLOOKUP(BE31,MATCHSELEVES!$Y$14:$AF$600,8,FALSE),0)","v":0},{"$f":"IFERROR(VLOOKUP(BE31,MATCHSELEVES!$Y$14:$AG$600,9,FALSE),0)","v":0},"Saoussen_8",{"$f":"IFERROR(VLOOKUP(BK31,MATCHSELEVES!$Y$14:$AE$600,3,FALSE),0)","v":0},{"$f":"IFERROR(VLOOKUP(BK31,MATCHSELEVES!$Y$14:$AE$600,4,FALSE),0)","v":0},{"$f":"IFERROR(VLOOKUP(BK31,MATCHSELEVES!$Y$14:$AE$600,5,FALSE),0)","v":0},{"$f":"IFERROR(VLOOKUP(BK31,MATCHSELEVES!$Y$14:$AF$600,8,FALSE),0)","v":0},{"$f":"IFERROR(VLOOKUP(BK31,MATCHSELEVES!$Y$14:$AG$600,9,FALSE),0)","v":0},"Saoussen_9",{"$f":"IFERROR(VLOOKUP(BQ31,MATCHSELEVES!$Y$14:$AE$600,3,FALSE),0)","v":0},{"$f":"IFERROR(VLOOKUP(BQ31,MATCHSELEVES!$Y$14:$AE$600,4,FALSE),0)","v":0},{"$f":"IFERROR(VLOOKUP(BQ31,MATCHSELEVES!$Y$14:$AE$600,5,FALSE),0)","v":0},{"$f":"IFERROR(VLOOKUP(BQ31,MATCHSELEVES!$Y$14:$AF$600,8,FALSE),0)","v":0},{"$f":"IFERROR(VLOOKUP(BQ31,MATCHSELEVES!$Y$14:$AG$600,9,FALSE),0)","v":0},"Saoussen_10",{"$f":"IFERROR(VLOOKUP(BW31,MATCHSELEVES!$Y$14:$AE$600,3,FALSE),0)","v":0},{"$f":"IFERROR(VLOOKUP(BW31,MATCHSELEVES!$Y$14:$AE$600,4,FALSE),0)","v":0},{"$f":"IFERROR(VLOOKUP(BW31,MATCHSELEVES!$Y$14:$AE$600,5,FALSE),0)","v":0},{"$f":"IFERROR(VLOOKUP(BW31,MATCHSELEVES!$Y$14:$AF$600,8,FALSE),0)","v":0},{"$f":"IFERROR(VLOOKUP(BW31,MATCHSELEVES!$Y$14:$AG$600,9,FALSE),0)","v":0},"Saoussen_11",{"$f":"IFERROR(VLOOKUP(CC31,MATCHSELEVES!$Y$14:$AE$600,3,FALSE),0)","v":0},{"$f":"IFERROR(VLOOKUP(CC31,MATCHSELEVES!$Y$14:$AE$600,4,FALSE),0)","v":0},{"$f":"IFERROR(VLOOKUP(CC31,MATCHSELEVES!$Y$14:$AE$600,5,FALSE),0)","v":0},{"$f":"IFERROR(VLOOKUP(CC31,MATCHSELEVES!$Y$14:$AF$600,8,FALSE),0)","v":0},{"$f":"IFERROR(VLOOKUP(CC31,MATCHSELEVES!$Y$14:$AG$600,9,FALSE),0)","v":0},"Saoussen_12",{"$f":"IFERROR(VLOOKUP(CI31,MATCHSELEVES!$Y$14:$AE$600,3,FALSE),0)","v":0},{"$f":"IFERROR(VLOOKUP(CI31,MATCHSELEVES!$Y$14:$AE$600,4,FALSE),0)","v":0},{"$f":"IFERROR(VLOOKUP(CI31,MATCHSELEVES!$Y$14:$AE$600,5,FALSE),0)","v":0},{"$f":"IFERROR(VLOOKUP(CI31,MATCHSELEVES!$Y$14:$AF$600,8,FALSE),0)","v":0},{"$f":"IFERROR(VLOOKUP(CI31,MATCHSELEVES!$Y$14:$AG$600,9,FALSE),0)","v":0},"Saoussen_13",{"$f":"IFERROR(VLOOKUP(CO31,MATCHSELEVES!$Y$14:$AE$600,3,FALSE),0)","v":0},{"$f":"IFERROR(VLOOKUP(CO31,MATCHSELEVES!$Y$14:$AE$600,4,FALSE),0)","v":0},{"$f":"IFERROR(VLOOKUP(CO31,MATCHSELEVES!$Y$14:$AE$600,5,FALSE),0)","v":0},{"$f":"IFERROR(VLOOKUP(CO31,MATCHSELEVES!$Y$14:$AF$600,8,FALSE),0)","v":0},{"$f":"IFERROR(VLOOKUP(CO31,MATCHSELEVES!$Y$14:$AG$600,9,FALSE),0)","v":0},"Saoussen_14",{"$f":"IFERROR(VLOOKUP(CU31,MATCHSELEVES!$Y$14:$AE$600,3,FALSE),0)","v":0},{"$f":"IFERROR(VLOOKUP(CU31,MATCHSELEVES!$Y$14:$AE$600,4,FALSE),0)","v":0},{"$f":"IFERROR(VLOOKUP(CU31,MATCHSELEVES!$Y$14:$AE$600,5,FALSE),0)","v":0},{"$f":"IFERROR(VLOOKUP(CU31,MATCHSELEVES!$Y$14:$AF$600,8,FALSE),0)","v":0},{"$f":"IFERROR(VLOOKUP(CU31,MATCHSELEVES!$Y$14:$AG$600,9,FALSE),0)","v":0},"Saoussen_15",{"$f":"IFERROR(VLOOKUP(DA31,MATCHSELEVES!$Y$14:$AE$600,3,FALSE),0)","v":0},{"$f":"IFERROR(VLOOKUP(DA31,MATCHSELEVES!$Y$14:$AE$600,4,FALSE),0)","v":0},{"$f":"IFERROR(VLOOKUP(DA31,MATCHSELEVES!$Y$14:$AE$600,5,FALSE),0)","v":0},{"$f":"IFERROR(VLOOKUP(DA31,MATCHSELEVES!$Y$14:$AF$600,8,FALSE),0)","v":0},{"$f":"IFERROR(VLOOKUP(DA31,MATCHSELEVES!$Y$14:$AG$600,9,FALSE),0)","v":0},"Saoussen_16",{"$f":"IFERROR(VLOOKUP(DG31,MATCHSELEVES!$Y$14:$AE$600,3,FALSE),0)","v":0},{"$f":"IFERROR(VLOOKUP(DG31,MATCHSELEVES!$Y$14:$AE$600,4,FALSE),0)","v":0},{"$f":"IFERROR(VLOOKUP(DG31,MATCHSELEVES!$Y$14:$AE$600,5,FALSE),0)","v":0},{"$f":"IFERROR(VLOOKUP(DG31,MATCHSELEVES!$Y$14:$AF$600,8,FALSE),0)","v":0},{"$f":"IFERROR(VLOOKUP(DG31,MATCHSELEVES!$Y$14:$AG$600,9,FALSE),0)","v":0},"Saoussen_17",{"$f":"IFERROR(VLOOKUP(DM31,MATCHSELEVES!$Y$14:$AE$600,3,FALSE),0)","v":0},{"$f":"IFERROR(VLOOKUP(DM31,MATCHSELEVES!$Y$14:$AE$600,4,FALSE),0)","v":0},{"$f":"IFERROR(VLOOKUP(DM31,MATCHSELEVES!$Y$14:$AE$600,5,FALSE),0)","v":0},{"$f":"IFERROR(VLOOKUP(DM31,MATCHSELEVES!$Y$14:$AF$600,8,FALSE),0)","v":0},{"$f":"IFERROR(VLOOKUP(DM31,MATCHSELEVES!$Y$14:$AG$600,9,FALSE),0)","v":0},"Saoussen_18",{"$f":"IFERROR(VLOOKUP(DS31,MATCHSELEVES!$Y$14:$AE$600,3,FALSE),0)","v":0},{"$f":"IFERROR(VLOOKUP(DS31,MATCHSELEVES!$Y$14:$AE$600,4,FALSE),0)","v":0},{"$f":"IFERROR(VLOOKUP(DS31,MATCHSELEVES!$Y$14:$AE$600,5,FALSE),0)","v":0},{"$f":"IFERROR(VLOOKUP(DS31,MATCHSELEVES!$Y$14:$AF$600,8,FALSE),0)","v":0},{"$f":"IFERROR(VLOOKUP(DS31,MATCHSELEVES!$Y$14:$AG$600,9,FALSE),0)","v":0},"Saoussen_19",{"$f":"IFERROR(VLOOKUP(DY31,MATCHSELEVES!$Y$14:$AE$600,3,FALSE),0)","v":0},{"$f":"IFERROR(VLOOKUP(DY31,MATCHSELEVES!$Y$14:$AE$600,4,FALSE),0)","v":0},{"$f":"IFERROR(VLOOKUP(DY31,MATCHSELEVES!$Y$14:$AE$600,5,FALSE),0)","v":0},{"$f":"IFERROR(VLOOKUP(DY31,MATCHSELEVES!$Y$14:$AF$600,8,FALSE),0)","v":0},{"$f":"IFERROR(VLOOKUP(DY31,MATCHSELEVES!$Y$14:$AG$600,9,FALSE),0)","v":0},"Saoussen_20",{"$f":"IFERROR(VLOOKUP(EE31,MATCHSELEVES!$Y$14:$AE$600,3,FALSE),0)","v":0},{"$f":"IFERROR(VLOOKUP(EE31,MATCHSELEVES!$Y$14:$AE$600,4,FALSE),0)","v":0},{"$f":"IFERROR(VLOOKUP(EE31,MATCHSELEVES!$Y$14:$AE$600,5,FALSE),0)","v":0},{"$f":"IFERROR(VLOOKUP(EE31,MATCHSELEVES!$Y$14:$AF$600,8,FALSE),0)","v":0},{"$f":"IFERROR(VLOOKUP(EE31,MATCHSELEVES!$Y$14:$AG$600,9,FALSE),0)","v":0},"Saoussen_21",{"$f":"IFERROR(VLOOKUP(EK31,MATCHSELEVES!$Y$14:$AE$600,3,FALSE),0)","v":0},{"$f":"IFERROR(VLOOKUP(EK31,MATCHSELEVES!$Y$14:$AE$600,4,FALSE),0)","v":0},{"$f":"IFERROR(VLOOKUP(EK31,MATCHSELEVES!$Y$14:$AE$600,5,FALSE),0)","v":0},{"$f":"IFERROR(VLOOKUP(EK31,MATCHSELEVES!$Y$14:$AF$600,8,FALSE),0)","v":0},{"$f":"IFERROR(VLOOKUP(EK31,MATCHSELEVES!$Y$14:$AG$600,9,FALSE),0)","v":0},"Saoussen_22",{"$f":"IFERROR(VLOOKUP(EQ31,MATCHSELEVES!$Y$14:$AE$600,3,FALSE),0)","v":0},{"$f":"IFERROR(VLOOKUP(EQ31,MATCHSELEVES!$Y$14:$AE$600,4,FALSE),0)","v":0},{"$f":"IFERROR(VLOOKUP(EQ31,MATCHSELEVES!$Y$14:$AE$600,5,FALSE),0)","v":0},{"$f":"IFERROR(VLOOKUP(EQ31,MATCHSELEVES!$Y$14:$AF$600,8,FALSE),0)","v":0},{"$f":"IFERROR(VLOOKUP(EQ31,MATCHSELEVES!$Y$14:$AG$600,9,FALSE),0)","v":0},"Saoussen_23",{"$f":"IFERROR(VLOOKUP(EW31,MATCHSELEVES!$Y$14:$AE$600,3,FALSE),0)","v":0},{"$f":"IFERROR(VLOOKUP(EW31,MATCHSELEVES!$Y$14:$AE$600,4,FALSE),0)","v":0},{"$f":"IFERROR(VLOOKUP(EW31,MATCHSELEVES!$Y$14:$AE$600,5,FALSE),0)","v":0},{"$f":"IFERROR(VLOOKUP(EW31,MATCHSELEVES!$Y$14:$AF$600,8,FALSE),0)","v":0},{"$f":"IFERROR(VLOOKUP(EW31,MATCHSELEVES!$Y$14:$AG$600,9,FALSE),0)","v":0},"Saoussen_24",{"$f":"IFERROR(VLOOKUP(FC31,MATCHSELEVES!$Y$14:$AE$600,3,FALSE),0)","v":0},{"$f":"IFERROR(VLOOKUP(FC31,MATCHSELEVES!$Y$14:$AE$600,4,FALSE),0)","v":0},{"$f":"IFERROR(VLOOKUP(FC31,MATCHSELEVES!$Y$14:$AE$600,5,FALSE),0)","v":0},{"$f":"IFERROR(VLOOKUP(FC31,MATCHSELEVES!$Y$14:$AF$600,8,FALSE),0)","v":0},{"$f":"IFERROR(VLOOKUP(FC31,MATCHSELEVES!$Y$14:$AG$600,9,FALSE),0)","v":0},"Saoussen_25",{"$f":"IFERROR(VLOOKUP(FI31,MATCHSELEVES!$Y$14:$AE$600,3,FALSE),0)","v":0},{"$f":"IFERROR(VLOOKUP(FI31,MATCHSELEVES!$Y$14:$AE$600,4,FALSE),0)","v":0},{"$f":"IFERROR(VLOOKUP(FI31,MATCHSELEVES!$Y$14:$AE$600,5,FALSE),0)","v":0},{"$f":"IFERROR(VLOOKUP(FI31,MATCHSELEVES!$Y$14:$AF$600,8,FALSE),0)","v":0},{"$f":"IFERROR(VLOOKUP(FI31,MATCHSELEVES!$Y$14:$AG$600,9,FALSE),0)","v":0},"Saoussen_26",{"$f":"IFERROR(VLOOKUP(FO31,MATCHSELEVES!$Y$14:$AE$600,3,FALSE),0)","v":0},{"$f":"IFERROR(VLOOKUP(FO31,MATCHSELEVES!$Y$14:$AE$600,4,FALSE),0)","v":0},{"$f":"IFERROR(VLOOKUP(FO31,MATCHSELEVES!$Y$14:$AE$600,5,FALSE),0)","v":0},{"$f":"IFERROR(VLOOKUP(FO31,MATCHSELEVES!$Y$14:$AF$600,8,FALSE),0)","v":0},{"$f":"IFERROR(VLOOKUP(FO31,MATCHSELEVES!$Y$14:$AG$600,9,FALSE),0)","v":0},"Saoussen_27",{"$f":"IFERROR(VLOOKUP(FU31,MATCHSELEVES!$Y$14:$AE$600,3,FALSE),0)","v":0},{"$f":"IFERROR(VLOOKUP(FU31,MATCHSELEVES!$Y$14:$AE$600,4,FALSE),0)","v":0},{"$f":"IFERROR(VLOOKUP(FU31,MATCHSELEVES!$Y$14:$AE$600,5,FALSE),0)","v":0},{"$f":"IFERROR(VLOOKUP(FU31,MATCHSELEVES!$Y$14:$AF$600,8,FALSE),0)","v":0},{"$f":"IFERROR(VLOOKUP(FU31,MATCHSELEVES!$Y$14:$AG$600,9,FALSE),0)","v":0},"Saoussen_28",{"$f":"IFERROR(VLOOKUP(GA31,MATCHSELEVES!$Y$14:$AE$600,3,FALSE),0)","v":0},{"$f":"IFERROR(VLOOKUP(GA31,MATCHSELEVES!$Y$14:$AE$600,4,FALSE),0)","v":0},{"$f":"IFERROR(VLOOKUP(GA31,MATCHSELEVES!$Y$14:$AE$600,5,FALSE),0)","v":0},{"$f":"IFERROR(VLOOKUP(GA31,MATCHSELEVES!$Y$14:$AF$600,8,FALSE),0)","v":0},{"$f":"IFERROR(VLOOKUP(GA31,MATCHSELEVES!$Y$14:$AG$600,9,FALSE),0)","v":0},"Saoussen_29",{"$f":"IFERROR(VLOOKUP(GG31,MATCHSELEVES!$Y$14:$AE$600,3,FALSE),0)","v":0},{"$f":"IFERROR(VLOOKUP(GG31,MATCHSELEVES!$Y$14:$AE$600,4,FALSE),0)","v":0},{"$f":"IFERROR(VLOOKUP(GG31,MATCHSELEVES!$Y$14:$AE$600,5,FALSE),0)","v":0},{"$f":"IFERROR(VLOOKUP(GG31,MATCHSELEVES!$Y$14:$AF$600,8,FALSE),0)","v":0},{"$f":"IFERROR(VLOOKUP(GG31,MATCHSELEVES!$Y$14:$AG$600,9,FALSE),0)","v":0},"Saoussen_30",{"$f":"IFERROR(VLOOKUP(GM31,MATCHSELEVES!$Y$14:$AE$600,3,FALSE),0)","v":0},{"$f":"IFERROR(VLOOKUP(GM31,MATCHSELEVES!$Y$14:$AE$600,4,FALSE),0)","v":0},{"$f":"IFERROR(VLOOKUP(GM31,MATCHSELEVES!$Y$14:$AE$600,5,FALSE),0)","v":0},{"$f":"IFERROR(VLOOKUP(GM31,MATCHSELEVES!$Y$14:$AF$600,8,FALSE),0)","v":0},{"$f":"IFERROR(VLOOKUP(GM31,MATCHSELEVES!$Y$14:$AG$600,9,FALSE),0)","v":0},"Saoussen_31",{"$f":"IFERROR(VLOOKUP(GS31,MATCHSELEVES!$Y$14:$AE$600,3,FALSE),0)","v":0},{"$f":"IFERROR(VLOOKUP(GS31,MATCHSELEVES!$Y$14:$AE$600,4,FALSE),0)","v":0},{"$f":"IFERROR(VLOOKUP(GS31,MATCHSELEVES!$Y$14:$AE$600,5,FALSE),0)","v":0},{"$f":"IFERROR(VLOOKUP(GS31,MATCHSELEVES!$Y$14:$AF$600,8,FALSE),0)","v":0},{"$f":"IFERROR(VLOOKUP(GS31,MATCHSELEVES!$Y$14:$AG$600,9,FALSE),0)","v":0},"Saoussen_32",{"$f":"IFERROR(VLOOKUP(GY31,MATCHSELEVES!$Y$14:$AE$600,3,FALSE),0)","v":0},{"$f":"IFERROR(VLOOKUP(GY31,MATCHSELEVES!$Y$14:$AE$600,4,FALSE),0)","v":0},{"$f":"IFERROR(VLOOKUP(GY31,MATCHSELEVES!$Y$14:$AE$600,5,FALSE),0)","v":0},{"$f":"IFERROR(VLOOKUP(GY31,MATCHSELEVES!$Y$14:$AF$600,8,FALSE),0)","v":0},{"$f":"IFERROR(VLOOKUP(GY31,MATCHSELEVES!$Y$14:$AG$600,9,FALSE),0)","v":0},"Saoussen_33",{"$f":"IFERROR(VLOOKUP(HE31,MATCHSELEVES!$Y$14:$AE$600,3,FALSE),0)","v":0},{"$f":"IFERROR(VLOOKUP(HE31,MATCHSELEVES!$Y$14:$AE$600,4,FALSE),0)","v":0},{"$f":"IFERROR(VLOOKUP(HE31,MATCHSELEVES!$Y$14:$AE$600,5,FALSE),0)","v":0},{"$f":"IFERROR(VLOOKUP(HE31,MATCHSELEVES!$Y$14:$AF$600,8,FALSE),0)","v":0},{"$f":"IFERROR(VLOOKUP(HE31,MATCHSELEVES!$Y$14:$AG$600,9,FALSE),0)","v":0},"Saoussen_34",{"$f":"IFERROR(VLOOKUP(HK31,MATCHSELEVES!$Y$14:$AE$600,3,FALSE),0)","v":0},{"$f":"IFERROR(VLOOKUP(HK31,MATCHSELEVES!$Y$14:$AE$600,4,FALSE),0)","v":0},{"$f":"IFERROR(VLOOKUP(HK31,MATCHSELEVES!$Y$14:$AE$600,5,FALSE),0)","v":0},{"$f":"IFERROR(VLOOKUP(HK31,MATCHSELEVES!$Y$14:$AF$600,8,FALSE),0)","v":0},{"$f":"IFERROR(VLOOKUP(HK31,MATCHSELEVES!$Y$14:$AG$600,9,FALSE),0)","v":0},"Saoussen_35",{"$f":"IFERROR(VLOOKUP(HQ31,MATCHSELEVES!$Y$14:$AE$600,3,FALSE),0)","v":0},{"$f":"IFERROR(VLOOKUP(HQ31,MATCHSELEVES!$Y$14:$AE$600,4,FALSE),0)","v":0},{"$f":"IFERROR(VLOOKUP(HQ31,MATCHSELEVES!$Y$14:$AE$600,5,FALSE),0)","v":0},{"$f":"IFERROR(VLOOKUP(HQ31,MATCHSELEVES!$Y$14:$AF$600,8,FALSE),0)","v":0},{"$f":"IFERROR(VLOOKUP(HQ31,MATCHSELEVES!$Y$14:$AG$600,9,FALSE),0)","v":0},"Saoussen_36",{"$f":"IFERROR(VLOOKUP(HW31,MATCHSELEVES!$Y$14:$AE$600,3,FALSE),0)","v":0},{"$f":"IFERROR(VLOOKUP(HW31,MATCHSELEVES!$Y$14:$AE$600,4,FALSE),0)","v":0},{"$f":"IFERROR(VLOOKUP(HW31,MATCHSELEVES!$Y$14:$AE$600,5,FALSE),0)","v":0},{"$f":"IFERROR(VLOOKUP(HW31,MATCHSELEVES!$Y$14:$AF$600,8,FALSE),0)","v":0},{"$f":"IFERROR(VLOOKUP(HW31,MATCHSELEVES!$Y$14:$AG$600,9,FALSE),0)","v":0},"Saoussen_37",{"$f":"IFERROR(VLOOKUP(IC31,MATCHSELEVES!$Y$14:$AE$600,3,FALSE),0)","v":0},{"$f":"IFERROR(VLOOKUP(IC31,MATCHSELEVES!$Y$14:$AE$600,4,FALSE),0)","v":0},{"$f":"IFERROR(VLOOKUP(IC31,MATCHSELEVES!$Y$14:$AE$600,5,FALSE),0)","v":0},{"$f":"IFERROR(VLOOKUP(IC31,MATCHSELEVES!$Y$14:$AF$600,8,FALSE),0)","v":0},{"$f":"IFERROR(VLOOKUP(IC31,MATCHSELEVES!$Y$14:$AG$600,9,FALSE),0)","v":0},"Saoussen_38",{"$f":"IFERROR(VLOOKUP(II31,MATCHSELEVES!$Y$14:$AE$600,3,FALSE),0)","v":0},{"$f":"IFERROR(VLOOKUP(II31,MATCHSELEVES!$Y$14:$AE$600,4,FALSE),0)","v":0},{"$f":"IFERROR(VLOOKUP(II31,MATCHSELEVES!$Y$14:$AE$600,5,FALSE),0)","v":0},{"$f":"IFERROR(VLOOKUP(II31,MATCHSELEVES!$Y$14:$AF$600,8,FALSE),0)","v":0},{"$f":"IFERROR(VLOOKUP(II31,MATCHSELEVES!$Y$14:$AG$600,9,FALSE),0)","v":0},"Saoussen_39",{"$f":"IFERROR(VLOOKUP(IO31,MATCHSELEVES!$Y$14:$AE$600,3,FALSE),0)","v":0},{"$f":"IFERROR(VLOOKUP(IO31,MATCHSELEVES!$Y$14:$AE$600,4,FALSE),0)","v":0},{"$f":"IFERROR(VLOOKUP(IO31,MATCHSELEVES!$Y$14:$AE$600,5,FALSE),0)","v":0},{"$f":"IFERROR(VLOOKUP(IO31,MATCHSELEVES!$Y$14:$AF$600,8,FALSE),0)","v":0},{"$f":"IFERROR(VLOOKUP(IO31,MATCHSELEVES!$Y$14:$AG$600,9,FALSE),0)","v":0},"Saoussen_40",{"$f":"IFERROR(VLOOKUP(IU31,MATCHSELEVES!$Y$14:$AE$600,3,FALSE),0)","v":0},{"$f":"IFERROR(VLOOKUP(IU31,MATCHSELEVES!$Y$14:$AE$600,4,FALSE),0)","v":0},{"$f":"IFERROR(VLOOKUP(IU31,MATCHSELEVES!$Y$14:$AE$600,5,FALSE),0)","v":0},{"$f":"IFERROR(VLOOKUP(IU31,MATCHSELEVES!$Y$14:$AF$600,8,FALSE),0)","v":0},{"$f":"IFERROR(VLOOKUP(IU31,MATCHSELEVES!$Y$14:$AG$600,9,FALSE),0)","v":0},"Saoussenp_1",{"$f":"IFERROR(VLOOKUP(JA31,MATCHSELEVES!$Y$14:$AE$600,3,FALSE),0)","v":0},{"$f":"IFERROR(VLOOKUP(JA31,MATCHSELEVES!$Y$14:$AE$600,4,FALSE),0)","v":0},{"$f":"IFERROR(VLOOKUP(JA31,MATCHSELEVES!$Y$14:$AE$600,5,FALSE),0)","v":0},{"$f":"IFERROR(VLOOKUP(JA31,MATCHSELEVES!$Y$14:$AF$600,8,FALSE),0)","v":0},{"$f":"IFERROR(VLOOKUP(JA31,MATCHSELEVES!$Y$14:$AG$600,9,FALSE),0)","v":0},"Saoussenp_2",{"$f":"IFERROR(VLOOKUP(JG31,MATCHSELEVES!$Y$14:$AE$600,3,FALSE),0)","v":0},{"$f":"IFERROR(VLOOKUP(JG31,MATCHSELEVES!$Y$14:$AE$600,4,FALSE),0)","v":0},{"$f":"IFERROR(VLOOKUP(JG31,MATCHSELEVES!$Y$14:$AE$600,5,FALSE),0)","v":0},{"$f":"IFERROR(VLOOKUP(JG31,MATCHSELEVES!$Y$14:$AF$600,8,FALSE),0)","v":0},{"$f":"IFERROR(VLOOKUP(JG31,MATCHSELEVES!$Y$14:$AG$600,9,FALSE),0)","v":0},"Saoussenp_3",{"$f":"IFERROR(VLOOKUP(JM31,MATCHSELEVES!$Y$14:$AE$600,3,FALSE),0)","v":0},{"$f":"IFERROR(VLOOKUP(JM31,MATCHSELEVES!$Y$14:$AE$600,4,FALSE),0)","v":0},{"$f":"IFERROR(VLOOKUP(JM31,MATCHSELEVES!$Y$14:$AE$600,5,FALSE),0)","v":0},{"$f":"IFERROR(VLOOKUP(JM31,MATCHSELEVES!$Y$14:$AF$600,8,FALSE),0)","v":0},{"$f":"IFERROR(VLOOKUP(JM31,MATCHSELEVES!$Y$14:$AG$600,9,FALSE),0)","v":0},"Saoussenp_4",{"$f":"IFERROR(VLOOKUP(JS31,MATCHSELEVES!$Y$14:$AE$600,3,FALSE),0)","v":0},{"$f":"IFERROR(VLOOKUP(JS31,MATCHSELEVES!$Y$14:$AE$600,4,FALSE),0)","v":0},{"$f":"IFERROR(VLOOKUP(JS31,MATCHSELEVES!$Y$14:$AE$600,5,FALSE),0)","v":0},{"$f":"IFERROR(VLOOKUP(JS31,MATCHSELEVES!$Y$14:$AF$600,8,FALSE),0)","v":0},{"$f":"IFERROR(VLOOKUP(JS31,MATCHSELEVES!$Y$14:$AG$600,9,FALSE),0)","v":0},"Saoussenp_5",{"$f":"IFERROR(VLOOKUP(JY31,MATCHSELEVES!$Y$14:$AE$600,3,FALSE),0)","v":0},{"$f":"IFERROR(VLOOKUP(JY31,MATCHSELEVES!$Y$14:$AE$600,4,FALSE),0)","v":0},{"$f":"IFERROR(VLOOKUP(JY31,MATCHSELEVES!$Y$14:$AE$600,5,FALSE),0)","v":0},{"$f":"IFERROR(VLOOKUP(JY31,MATCHSELEVES!$Y$14:$AF$600,8,FALSE),0)","v":0},{"$f":"IFERROR(VLOOKUP(JY31,MATCHSELEVES!$Y$14:$AG$600,9,FALSE),0)","v":0},"Saoussenp_6",{"$f":"IFERROR(VLOOKUP(KE31,MATCHSELEVES!$Y$14:$AE$600,3,FALSE),0)","v":0},{"$f":"IFERROR(VLOOKUP(KE31,MATCHSELEVES!$Y$14:$AE$600,4,FALSE),0)","v":0},{"$f":"IFERROR(VLOOKUP(KE31,MATCHSELEVES!$Y$14:$AE$600,5,FALSE),0)","v":0},{"$f":"IFERROR(VLOOKUP(KE31,MATCHSELEVES!$Y$14:$AF$600,8,FALSE),0)","v":0},{"$f":"IFERROR(VLOOKUP(KE31,MATCHSELEVES!$Y$14:$AG$600,9,FALSE),0)","v":0},"Saoussenp_7",{"$f":"IFERROR(VLOOKUP(KK31,MATCHSELEVES!$Y$14:$AE$600,3,FALSE),0)","v":0},{"$f":"IFERROR(VLOOKUP(KK31,MATCHSELEVES!$Y$14:$AE$600,4,FALSE),0)","v":0},{"$f":"IFERROR(VLOOKUP(KK31,MATCHSELEVES!$Y$14:$AE$600,5,FALSE),0)","v":0},{"$f":"IFERROR(VLOOKUP(KK31,MATCHSELEVES!$Y$14:$AF$600,8,FALSE),0)","v":0},{"$f":"IFERROR(VLOOKUP(KK31,MATCHSELEVES!$Y$14:$AG$600,9,FALSE),0)","v":0},"Saoussenp_8",{"$f":"IFERROR(VLOOKUP(KQ31,MATCHSELEVES!$Y$14:$AE$600,3,FALSE),0)","v":0},{"$f":"IFERROR(VLOOKUP(KQ31,MATCHSELEVES!$Y$14:$AE$600,4,FALSE),0)","v":0},{"$f":"IFERROR(VLOOKUP(KQ31,MATCHSELEVES!$Y$14:$AE$600,5,FALSE),0)","v":0},{"$f":"IFERROR(VLOOKUP(KQ31,MATCHSELEVES!$Y$14:$AF$600,8,FALSE),0)","v":0},{"$f":"IFERROR(VLOOKUP(KQ31,MATCHSELEVES!$Y$14:$AG$600,9,FALSE),0)","v":0},"Saoussenp_9",{"$f":"IFERROR(VLOOKUP(KW31,MATCHSELEVES!$Y$14:$AE$600,3,FALSE),0)","v":0},{"$f":"IFERROR(VLOOKUP(KW31,MATCHSELEVES!$Y$14:$AE$600,4,FALSE),0)","v":0},{"$f":"IFERROR(VLOOKUP(KW31,MATCHSELEVES!$Y$14:$AE$600,5,FALSE),0)","v":0},{"$f":"IFERROR(VLOOKUP(KW31,MATCHSELEVES!$Y$14:$AF$600,8,FALSE),0)","v":0},{"$f":"IFERROR(VLOOKUP(KW31,MATCHSELEVES!$Y$14:$AG$600,9,FALSE),0)","v":0},"Saoussenp_10",{"$f":"IFERROR(VLOOKUP(LC31,MATCHSELEVES!$Y$14:$AE$600,3,FALSE),0)","v":0},{"$f":"IFERROR(VLOOKUP(LC31,MATCHSELEVES!$Y$14:$AE$600,4,FALSE),0)","v":0},{"$f":"IFERROR(VLOOKUP(LC31,MATCHSELEVES!$Y$14:$AE$600,5,FALSE),0)","v":0},{"$f":"IFERROR(VLOOKUP(LC31,MATCHSELEVES!$Y$14:$AF$600,8,FALSE),0)","v":0},{"$f":"IFERROR(VLOOKUP(LC31,MATCHSELEVES!$Y$14:$AG$600,9,FALSE),0)","v":0},"Saoussenp_11",{"$f":"IFERROR(VLOOKUP(LI31,MATCHSELEVES!$Y$14:$AE$600,3,FALSE),0)","v":0},{"$f":"IFERROR(VLOOKUP(LI31,MATCHSELEVES!$Y$14:$AE$600,4,FALSE),0)","v":0},{"$f":"IFERROR(VLOOKUP(LI31,MATCHSELEVES!$Y$14:$AE$600,5,FALSE),0)","v":0},{"$f":"IFERROR(VLOOKUP(LI31,MATCHSELEVES!$Y$14:$AF$600,8,FALSE),0)","v":0},{"$f":"IFERROR(VLOOKUP(LI31,MATCHSELEVES!$Y$14:$AG$600,9,FALSE),0)","v":0},"Saoussenp_12",{"$f":"IFERROR(VLOOKUP(LO31,MATCHSELEVES!$Y$14:$AE$600,3,FALSE),0)","v":0},{"$f":"IFERROR(VLOOKUP(LO31,MATCHSELEVES!$Y$14:$AE$600,4,FALSE),0)","v":0},{"$f":"IFERROR(VLOOKUP(LO31,MATCHSELEVES!$Y$14:$AE$600,5,FALSE),0)","v":0},{"$f":"IFERROR(VLOOKUP(LO31,MATCHSELEVES!$Y$14:$AF$600,8,FALSE),0)","v":0},{"$f":"IFERROR(VLOOKUP(LO31,MATCHSELEVES!$Y$14:$AG$600,9,FALSE),0)","v":0},"Saoussenp_13",{"$f":"IFERROR(VLOOKUP(LU31,MATCHSELEVES!$Y$14:$AE$600,3,FALSE),0)","v":0},{"$f":"IFERROR(VLOOKUP(LU31,MATCHSELEVES!$Y$14:$AE$600,4,FALSE),0)","v":0},{"$f":"IFERROR(VLOOKUP(LU31,MATCHSELEVES!$Y$14:$AE$600,5,FALSE),0)","v":0},{"$f":"IFERROR(VLOOKUP(LU31,MATCHSELEVES!$Y$14:$AF$600,8,FALSE),0)","v":0},{"$f":"IFERROR(VLOOKUP(LU31,MATCHSELEVES!$Y$14:$AG$600,9,FALSE),0)","v":0},"Saoussenp_14",{"$f":"IFERROR(VLOOKUP(MA31,MATCHSELEVES!$Y$14:$AE$600,3,FALSE),0)","v":0},{"$f":"IFERROR(VLOOKUP(MA31,MATCHSELEVES!$Y$14:$AE$600,4,FALSE),0)","v":0},{"$f":"IFERROR(VLOOKUP(MA31,MATCHSELEVES!$Y$14:$AE$600,5,FALSE),0)","v":0},{"$f":"IFERROR(VLOOKUP(MA31,MATCHSELEVES!$Y$14:$AF$600,8,FALSE),0)","v":0},{"$f":"IFERROR(VLOOKUP(MA31,MATCHSELEVES!$Y$14:$AG$600,9,FALSE),0)","v":0},"Saoussenp_15",{"$f":"IFERROR(VLOOKUP(MG31,MATCHSELEVES!$Y$14:$AE$600,3,FALSE),0)","v":0},{"$f":"IFERROR(VLOOKUP(MG31,MATCHSELEVES!$Y$14:$AE$600,4,FALSE),0)","v":0},{"$f":"IFERROR(VLOOKUP(MG31,MATCHSELEVES!$Y$14:$AE$600,5,FALSE),0)","v":0},{"$f":"IFERROR(VLOOKUP(MG31,MATCHSELEVES!$Y$14:$AF$600,8,FALSE),0)","v":0},{"$f":"IFERROR(VLOOKUP(MG31,MATCHSELEVES!$Y$14:$AG$600,9,FALSE),0)","v":0},"Saoussenp_16",{"$f":"IFERROR(VLOOKUP(MM31,MATCHSELEVES!$Y$14:$AE$600,3,FALSE),0)","v":0},{"$f":"IFERROR(VLOOKUP(MM31,MATCHSELEVES!$Y$14:$AE$600,4,FALSE),0)","v":0},{"$f":"IFERROR(VLOOKUP(MM31,MATCHSELEVES!$Y$14:$AE$600,5,FALSE),0)","v":0},{"$f":"IFERROR(VLOOKUP(MM31,MATCHSELEVES!$Y$14:$AF$600,8,FALSE),0)","v":0},{"$f":"IFERROR(VLOOKUP(MM31,MATCHSELEVES!$Y$14:$AG$600,9,FALSE),0)","v":0},"Saoussenp_17",{"$f":"IFERROR(VLOOKUP(MS31,MATCHSELEVES!$Y$14:$AE$600,3,FALSE),0)","v":0},{"$f":"IFERROR(VLOOKUP(MS31,MATCHSELEVES!$Y$14:$AE$600,4,FALSE),0)","v":0},{"$f":"IFERROR(VLOOKUP(MS31,MATCHSELEVES!$Y$14:$AE$600,5,FALSE),0)","v":0},{"$f":"IFERROR(VLOOKUP(MS31,MATCHSELEVES!$Y$14:$AF$600,8,FALSE),0)","v":0},{"$f":"IFERROR(VLOOKUP(MS31,MATCHSELEVES!$Y$14:$AG$600,9,FALSE),0)","v":0},"Saoussenp_18",{"$f":"IFERROR(VLOOKUP(MY31,MATCHSELEVES!$Y$14:$AE$600,3,FALSE),0)","v":0},{"$f":"IFERROR(VLOOKUP(MY31,MATCHSELEVES!$Y$14:$AE$600,4,FALSE),0)","v":0},{"$f":"IFERROR(VLOOKUP(MY31,MATCHSELEVES!$Y$14:$AE$600,5,FALSE),0)","v":0},{"$f":"IFERROR(VLOOKUP(MY31,MATCHSELEVES!$Y$14:$AF$600,8,FALSE),0)","v":0},{"$f":"IFERROR(VLOOKUP(MY31,MATCHSELEVES!$Y$14:$AG$600,9,FALSE),0)","v":0},"Saoussenp_19",{"$f":"IFERROR(VLOOKUP(NE31,MATCHSELEVES!$Y$14:$AE$600,3,FALSE),0)","v":0},{"$f":"IFERROR(VLOOKUP(NE31,MATCHSELEVES!$Y$14:$AE$600,4,FALSE),0)","v":0},{"$f":"IFERROR(VLOOKUP(NE31,MATCHSELEVES!$Y$14:$AE$600,5,FALSE),0)","v":0},{"$f":"IFERROR(VLOOKUP(NE31,MATCHSELEVES!$Y$14:$AF$600,8,FALSE),0)","v":0},{"$f":"IFERROR(VLOOKUP(NE31,MATCHSELEVES!$Y$14:$AG$600,9,FALSE),0)","v":0},"Saoussenp_20",{"$f":"IFERROR(VLOOKUP(NK31,MATCHSELEVES!$Y$14:$AE$600,3,FALSE),0)","v":0},{"$f":"IFERROR(VLOOKUP(NK31,MATCHSELEVES!$Y$14:$AE$600,4,FALSE),0)","v":0},{"$f":"IFERROR(VLOOKUP(NK31,MATCHSELEVES!$Y$14:$AE$600,5,FALSE),0)","v":0},{"$f":"IFERROR(VLOOKUP(NK31,MATCHSELEVES!$Y$14:$AF$600,8,FALSE),0)","v":0},{"$f":"IFERROR(VLOOKUP(NK31,MATCHSELEVES!$Y$14:$AG$600,9,FALSE),0)","v":0},"Saoussenp_21",{"$f":"IFERROR(VLOOKUP(NQ31,MATCHSELEVES!$Y$14:$AE$600,3,FALSE),0)","v":0},{"$f":"IFERROR(VLOOKUP(NQ31,MATCHSELEVES!$Y$14:$AE$600,4,FALSE),0)","v":0},{"$f":"IFERROR(VLOOKUP(NQ31,MATCHSELEVES!$Y$14:$AE$600,5,FALSE),0)","v":0},{"$f":"IFERROR(VLOOKUP(NQ31,MATCHSELEVES!$Y$14:$AF$600,8,FALSE),0)","v":0},{"$f":"IFERROR(VLOOKUP(NQ31,MATCHSELEVES!$Y$14:$AG$600,9,FALSE),0)","v":0},"Saoussenp_22",{"$f":"IFERROR(VLOOKUP(NW31,MATCHSELEVES!$Y$14:$AE$600,3,FALSE),0)","v":0},{"$f":"IFERROR(VLOOKUP(NW31,MATCHSELEVES!$Y$14:$AE$600,4,FALSE),0)","v":0},{"$f":"IFERROR(VLOOKUP(NW31,MATCHSELEVES!$Y$14:$AE$600,5,FALSE),0)","v":0},{"$f":"IFERROR(VLOOKUP(NW31,MATCHSELEVES!$Y$14:$AF$600,8,FALSE),0)","v":0},{"$f":"IFERROR(VLOOKUP(NW31,MATCHSELEVES!$Y$14:$AG$600,9,FALSE),0)","v":0},"Saoussenp_23",{"$f":"IFERROR(VLOOKUP(OC31,MATCHSELEVES!$Y$14:$AE$600,3,FALSE),0)","v":0},{"$f":"IFERROR(VLOOKUP(OC31,MATCHSELEVES!$Y$14:$AE$600,4,FALSE),0)","v":0},{"$f":"IFERROR(VLOOKUP(OC31,MATCHSELEVES!$Y$14:$AE$600,5,FALSE),0)","v":0},{"$f":"IFERROR(VLOOKUP(OC31,MATCHSELEVES!$Y$14:$AF$600,8,FALSE),0)","v":0},{"$f":"IFERROR(VLOOKUP(OC31,MATCHSELEVES!$Y$14:$AG$600,9,FALSE),0)","v":0},"Saoussenp_24",{"$f":"IFERROR(VLOOKUP(OI31,MATCHSELEVES!$Y$14:$AE$600,3,FALSE),0)","v":0},{"$f":"IFERROR(VLOOKUP(OI31,MATCHSELEVES!$Y$14:$AE$600,4,FALSE),0)","v":0},{"$f":"IFERROR(VLOOKUP(OI31,MATCHSELEVES!$Y$14:$AE$600,5,FALSE),0)","v":0},{"$f":"IFERROR(VLOOKUP(OI31,MATCHSELEVES!$Y$14:$AF$600,8,FALSE),0)","v":0},{"$f":"IFERROR(VLOOKUP(OI31,MATCHSELEVES!$Y$14:$AG$600,9,FALSE),0)","v":0},"Saoussenp_25",{"$f":"IFERROR(VLOOKUP(OO31,MATCHSELEVES!$Y$14:$AE$600,3,FALSE),0)","v":0},{"$f":"IFERROR(VLOOKUP(OO31,MATCHSELEVES!$Y$14:$AE$600,4,FALSE),0)","v":0},{"$f":"IFERROR(VLOOKUP(OO31,MATCHSELEVES!$Y$14:$AE$600,5,FALSE),0)","v":0},{"$f":"IFERROR(VLOOKUP(OO31,MATCHSELEVES!$Y$14:$AF$600,8,FALSE),0)","v":0},{"$f":"IFERROR(VLOOKUP(OO31,MATCHSELEVES!$Y$14:$AG$600,9,FALSE),0)","v":0},"Saoussenp_26",{"$f":"IFERROR(VLOOKUP(OU31,MATCHSELEVES!$Y$14:$AE$600,3,FALSE),0)","v":0},{"$f":"IFERROR(VLOOKUP(OU31,MATCHSELEVES!$Y$14:$AE$600,4,FALSE),0)","v":0},{"$f":"IFERROR(VLOOKUP(OU31,MATCHSELEVES!$Y$14:$AE$600,5,FALSE),0)","v":0},{"$f":"IFERROR(VLOOKUP(OU31,MATCHSELEVES!$Y$14:$AF$600,8,FALSE),0)","v":0},{"$f":"IFERROR(VLOOKUP(OU31,MATCHSELEVES!$Y$14:$AG$600,9,FALSE),0)","v":0},"Saoussenp_27",{"$f":"IFERROR(VLOOKUP(PA31,MATCHSELEVES!$Y$14:$AE$600,3,FALSE),0)","v":0},{"$f":"IFERROR(VLOOKUP(PA31,MATCHSELEVES!$Y$14:$AE$600,4,FALSE),0)","v":0},{"$f":"IFERROR(VLOOKUP(PA31,MATCHSELEVES!$Y$14:$AE$600,5,FALSE),0)","v":0},{"$f":"IFERROR(VLOOKUP(PA31,MATCHSELEVES!$Y$14:$AF$600,8,FALSE),0)","v":0},{"$f":"IFERROR(VLOOKUP(PA31,MATCHSELEVES!$Y$14:$AG$600,9,FALSE),0)","v":0},"Saoussenp_28",{"$f":"IFERROR(VLOOKUP(PG31,MATCHSELEVES!$Y$14:$AE$600,3,FALSE),0)","v":0},{"$f":"IFERROR(VLOOKUP(PG31,MATCHSELEVES!$Y$14:$AE$600,4,FALSE),0)","v":0},{"$f":"IFERROR(VLOOKUP(PG31,MATCHSELEVES!$Y$14:$AE$600,5,FALSE),0)","v":0},{"$f":"IFERROR(VLOOKUP(PG31,MATCHSELEVES!$Y$14:$AF$600,8,FALSE),0)","v":0},{"$f":"IFERROR(VLOOKUP(PG31,MATCHSELEVES!$Y$14:$AG$600,9,FALSE),0)","v":0},"Saoussenp_29",{"$f":"IFERROR(VLOOKUP(PM31,MATCHSELEVES!$Y$14:$AE$600,3,FALSE),0)","v":0},{"$f":"IFERROR(VLOOKUP(PM31,MATCHSELEVES!$Y$14:$AE$600,4,FALSE),0)","v":0},{"$f":"IFERROR(VLOOKUP(PM31,MATCHSELEVES!$Y$14:$AE$600,5,FALSE),0)","v":0},{"$f":"IFERROR(VLOOKUP(PM31,MATCHSELEVES!$Y$14:$AF$600,8,FALSE),0)","v":0},{"$f":"IFERROR(VLOOKUP(PM31,MATCHSELEVES!$Y$14:$AG$600,9,FALSE),0)","v":0},"Saoussenp_30",{"$f":"IFERROR(VLOOKUP(PS31,MATCHSELEVES!$Y$14:$AE$600,3,FALSE),0)","v":0},{"$f":"IFERROR(VLOOKUP(PS31,MATCHSELEVES!$Y$14:$AE$600,4,FALSE),0)","v":0},{"$f":"IFERROR(VLOOKUP(PS31,MATCHSELEVES!$Y$14:$AE$600,5,FALSE),0)","v":0},{"$f":"IFERROR(VLOOKUP(PS31,MATCHSELEVES!$Y$14:$AF$600,8,FALSE),0)","v":0},{"$f":"IFERROR(VLOOKUP(PS31,MATCHSELEVES!$Y$14:$AG$600,9,FALSE),0)","v":0},"Saoussenp_31",{"$f":"IFERROR(VLOOKUP(PY31,MATCHSELEVES!$Y$14:$AE$600,3,FALSE),0)","v":0},{"$f":"IFERROR(VLOOKUP(PY31,MATCHSELEVES!$Y$14:$AE$600,4,FALSE),0)","v":0},{"$f":"IFERROR(VLOOKUP(PY31,MATCHSELEVES!$Y$14:$AE$600,5,FALSE),0)","v":0},{"$f":"IFERROR(VLOOKUP(PY31,MATCHSELEVES!$Y$14:$AF$600,8,FALSE),0)","v":0},{"$f":"IFERROR(VLOOKUP(PY31,MATCHSELEVES!$Y$14:$AG$600,9,FALSE),0)","v":0},"Saoussenp_32",{"$f":"IFERROR(VLOOKUP(QE31,MATCHSELEVES!$Y$14:$AE$600,3,FALSE),0)","v":0},{"$f":"IFERROR(VLOOKUP(QE31,MATCHSELEVES!$Y$14:$AE$600,4,FALSE),0)","v":0},{"$f":"IFERROR(VLOOKUP(QE31,MATCHSELEVES!$Y$14:$AE$600,5,FALSE),0)","v":0},{"$f":"IFERROR(VLOOKUP(QE31,MATCHSELEVES!$Y$14:$AF$600,8,FALSE),0)","v":0},{"$f":"IFERROR(VLOOKUP(QE31,MATCHSELEVES!$Y$14:$AG$600,9,FALSE),0)","v":0},"Saoussenp_33",{"$f":"IFERROR(VLOOKUP(QK31,MATCHSELEVES!$Y$14:$AE$600,3,FALSE),0)","v":0},{"$f":"IFERROR(VLOOKUP(QK31,MATCHSELEVES!$Y$14:$AE$600,4,FALSE),0)","v":0},{"$f":"IFERROR(VLOOKUP(QK31,MATCHSELEVES!$Y$14:$AE$600,5,FALSE),0)","v":0},{"$f":"IFERROR(VLOOKUP(QK31,MATCHSELEVES!$Y$14:$AF$600,8,FALSE),0)","v":0},{"$f":"IFERROR(VLOOKUP(QK31,MATCHSELEVES!$Y$14:$AG$600,9,FALSE),0)","v":0},"Saoussenp_34",{"$f":"IFERROR(VLOOKUP(QQ31,MATCHSELEVES!$Y$14:$AE$600,3,FALSE),0)","v":0},{"$f":"IFERROR(VLOOKUP(QQ31,MATCHSELEVES!$Y$14:$AE$600,4,FALSE),0)","v":0},{"$f":"IFERROR(VLOOKUP(QQ31,MATCHSELEVES!$Y$14:$AE$600,5,FALSE),0)","v":0},{"$f":"IFERROR(VLOOKUP(QQ31,MATCHSELEVES!$Y$14:$AF$600,8,FALSE),0)","v":0},{"$f":"IFERROR(VLOOKUP(QQ31,MATCHSELEVES!$Y$14:$AG$600,9,FALSE),0)","v":0},"Saoussenp_35",{"$f":"IFERROR(VLOOKUP(QW31,MATCHSELEVES!$Y$14:$AE$600,3,FALSE),0)","v":0},{"$f":"IFERROR(VLOOKUP(QW31,MATCHSELEVES!$Y$14:$AE$600,4,FALSE),0)","v":0},{"$f":"IFERROR(VLOOKUP(QW31,MATCHSELEVES!$Y$14:$AE$600,5,FALSE),0)","v":0},{"$f":"IFERROR(VLOOKUP(QW31,MATCHSELEVES!$Y$14:$AF$600,8,FALSE),0)","v":0},{"$f":"IFERROR(VLOOKUP(QW31,MATCHSELEVES!$Y$14:$AG$600,9,FALSE),0)","v":0},"Saoussenp_36",{"$f":"IFERROR(VLOOKUP(RC31,MATCHSELEVES!$Y$14:$AE$600,3,FALSE),0)","v":0},{"$f":"IFERROR(VLOOKUP(RC31,MATCHSELEVES!$Y$14:$AE$600,4,FALSE),0)","v":0},{"$f":"IFERROR(VLOOKUP(RC31,MATCHSELEVES!$Y$14:$AE$600,5,FALSE),0)","v":0},{"$f":"IFERROR(VLOOKUP(RC31,MATCHSELEVES!$Y$14:$AF$600,8,FALSE),0)","v":0},{"$f":"IFERROR(VLOOKUP(RC31,MATCHSELEVES!$Y$14:$AG$600,9,FALSE),0)","v":0},"Saoussenp_37",{"$f":"IFERROR(VLOOKUP(RI31,MATCHSELEVES!$Y$14:$AE$600,3,FALSE),0)","v":0},{"$f":"IFERROR(VLOOKUP(RI31,MATCHSELEVES!$Y$14:$AE$600,4,FALSE),0)","v":0},{"$f":"IFERROR(VLOOKUP(RI31,MATCHSELEVES!$Y$14:$AE$600,5,FALSE),0)","v":0},{"$f":"IFERROR(VLOOKUP(RI31,MATCHSELEVES!$Y$14:$AF$600,8,FALSE),0)","v":0},{"$f":"IFERROR(VLOOKUP(RI31,MATCHSELEVES!$Y$14:$AG$600,9,FALSE),0)","v":0},"Saoussenp_38",{"$f":"IFERROR(VLOOKUP(RO31,MATCHSELEVES!$Y$14:$AE$600,3,FALSE),0)","v":0},{"$f":"IFERROR(VLOOKUP(RO31,MATCHSELEVES!$Y$14:$AE$600,4,FALSE),0)","v":0},{"$f":"IFERROR(VLOOKUP(RO31,MATCHSELEVES!$Y$14:$AE$600,5,FALSE),0)","v":0},{"$f":"IFERROR(VLOOKUP(RO31,MATCHSELEVES!$Y$14:$AF$600,8,FALSE),0)","v":0},{"$f":"IFERROR(VLOOKUP(RO31,MATCHSELEVES!$Y$14:$AG$600,9,FALSE),0)","v":0},"Saoussenp_39",{"$f":"IFERROR(VLOOKUP(RU31,MATCHSELEVES!$Y$14:$AE$600,3,FALSE),0)","v":0},{"$f":"IFERROR(VLOOKUP(RU31,MATCHSELEVES!$Y$14:$AE$600,4,FALSE),0)","v":0},{"$f":"IFERROR(VLOOKUP(RU31,MATCHSELEVES!$Y$14:$AE$600,5,FALSE),0)","v":0},{"$f":"IFERROR(VLOOKUP(RU31,MATCHSELEVES!$Y$14:$AF$600,8,FALSE),0)","v":0},{"$f":"IFERROR(VLOOKUP(RU31,MATCHSELEVES!$Y$14:$AG$600,9,FALSE),0)","v":0},"Saoussenp_40",{"$f":"IFERROR(VLOOKUP(SA31,MATCHSELEVES!$Y$14:$AE$600,3,FALSE),0)","v":0},{"$f":"IFERROR(VLOOKUP(SA31,MATCHSELEVES!$Y$14:$AE$600,4,FALSE),0)","v":0},{"$f":"IFERROR(VLOOKUP(SA31,MATCHSELEVES!$Y$14:$AE$600,5,FALSE),0)","v":0},{"$f":"IFERROR(VLOOKUP(SA31,MATCHSELEVES!$Y$14:$AF$600,8,FALSE),0)","v":0},{"$f":"IFERROR(VLOOKUP(SA31,MATCHSELEVES!$Y$14:$AG$600,9,FALSE),0)","v":0}]
[29,null,"Sarah",29,null,null,{"$f":"COUNTIF(MATCHSELEVES!$Z$14:$Z$600,C32)+COUNTIF(MATCHSELEVES!$Z$14:$Z$600,$C32&\"p\")","v":0},1,{"$f":"COUNTIF(MATCHSELEVES!$F$14:$H$249,C32)","v":0},1,0,1,{"$f":"IFERROR(M75/Tableau10[[#This Row],[Nombre de matchs joués]],0)","v":0},{"$f":"IF(Tableau10[[#This Row],[Nombre de points encaissés]]=0,$C$45,SUMPRODUCT((M$4:M$43<M32)*(M$4:M$43<>0))+1)","v":40},0,1,{"$f":"(Tableau10[[#This Row],[CLASSEMENT1]]+Tableau10[[#This Row],[CLASSEMENT2]]+Tableau10[[#This Row],[CLASSEMENT3]]+Tableau10[[#This Row],[CLASSEMENT4]]+Tableau10[[#This Row],[CLASSEMENT5]]+Tableau10[[#This Row],[CLASSEMENT6]])/6","v":12.166666666666666},{"$f":"RANK(Tableau10[[#This Row],[MOYENNE CLASSEMENTS]],Tableau10[MOYENNE CLASSEMENTS],1)","v":29},null,{"$f":"Tableau10[[#This Row],[CLASSEMENT1]]","v":29},"Sarah_1",{"$f":"IFERROR(VLOOKUP(U32,MATCHSELEVES!$Y$14:$AE$600,3,FALSE),0)","v":0},{"$f":"IFERROR(VLOOKUP(U32,MATCHSELEVES!$Y$14:$AE$600,4,FALSE),0)","v":0},{"$f":"IFERROR(VLOOKUP(U32,MATCHSELEVES!$Y$14:$AE$600,5,FALSE),0)","v":0},{"$f":"IFERROR(VLOOKUP(U32,MATCHSELEVES!$Y$14:$AF$600,8,FALSE),0)","v":0},{"$f":"IFERROR(VLOOKUP(U32,MATCHSELEVES!$Y$14:$AG$600,9,FALSE),0)","v":0},"Sarah_2",{"$f":"IFERROR(VLOOKUP(AA32,MATCHSELEVES!$Y$14:$AE$600,3,FALSE),0)","v":0},{"$f":"IFERROR(VLOOKUP(AA32,MATCHSELEVES!$Y$14:$AE$600,4,FALSE),0)","v":0},{"$f":"IFERROR(VLOOKUP(AA32,MATCHSELEVES!$Y$14:$AE$600,5,FALSE),0)","v":0},{"$f":"IFERROR(VLOOKUP(AA32,MATCHSELEVES!$Y$14:$AF$600,8,FALSE),0)","v":0},{"$f":"IFERROR(VLOOKUP(AA32,MATCHSELEVES!$Y$14:$AG$600,9,FALSE),0)","v":0},"Sarah_3",{"$f":"IFERROR(VLOOKUP(AG32,MATCHSELEVES!$Y$14:$AE$600,3,FALSE),0)","v":0},{"$f":"IFERROR(VLOOKUP(AG32,MATCHSELEVES!$Y$14:$AE$600,4,FALSE),0)","v":0},{"$f":"IFERROR(VLOOKUP(AG32,MATCHSELEVES!$Y$14:$AE$600,5,FALSE),0)","v":0},{"$f":"IFERROR(VLOOKUP(AG32,MATCHSELEVES!$Y$14:$AF$600,8,FALSE),0)","v":0},{"$f":"IFERROR(VLOOKUP(AG32,MATCHSELEVES!$Y$14:$AG$600,9,FALSE),0)","v":0},"Sarah_4",{"$f":"IFERROR(VLOOKUP(AM32,MATCHSELEVES!$Y$14:$AE$600,3,FALSE),0)","v":0},{"$f":"IFERROR(VLOOKUP(AM32,MATCHSELEVES!$Y$14:$AE$600,4,FALSE),0)","v":0},{"$f":"IFERROR(VLOOKUP(AM32,MATCHSELEVES!$Y$14:$AE$600,5,FALSE),0)","v":0},{"$f":"IFERROR(VLOOKUP(AM32,MATCHSELEVES!$Y$14:$AF$600,8,FALSE),0)","v":0},{"$f":"IFERROR(VLOOKUP(AM32,MATCHSELEVES!$Y$14:$AG$600,9,FALSE),0)","v":0},"Sarah_5",{"$f":"IFERROR(VLOOKUP(AS32,MATCHSELEVES!$Y$14:$AE$600,3,FALSE),0)","v":0},{"$f":"IFERROR(VLOOKUP(AS32,MATCHSELEVES!$Y$14:$AE$600,4,FALSE),0)","v":0},{"$f":"IFERROR(VLOOKUP(AS32,MATCHSELEVES!$Y$14:$AE$600,5,FALSE),0)","v":0},{"$f":"IFERROR(VLOOKUP(AS32,MATCHSELEVES!$Y$14:$AF$600,8,FALSE),0)","v":0},{"$f":"IFERROR(VLOOKUP(AS32,MATCHSELEVES!$Y$14:$AG$600,9,FALSE),0)","v":0},"Sarah_6",{"$f":"IFERROR(VLOOKUP(AY32,MATCHSELEVES!$Y$14:$AE$600,3,FALSE),0)","v":0},{"$f":"IFERROR(VLOOKUP(AY32,MATCHSELEVES!$Y$14:$AE$600,4,FALSE),0)","v":0},{"$f":"IFERROR(VLOOKUP(AY32,MATCHSELEVES!$Y$14:$AE$600,5,FALSE),0)","v":0},{"$f":"IFERROR(VLOOKUP(AY32,MATCHSELEVES!$Y$14:$AF$600,8,FALSE),0)","v":0},{"$f":"IFERROR(VLOOKUP(AY32,MATCHSELEVES!$Y$14:$AG$600,9,FALSE),0)","v":0},"Sarah_7",{"$f":"IFERROR(VLOOKUP(BE32,MATCHSELEVES!$Y$14:$AE$600,3,FALSE),0)","v":0},{"$f":"IFERROR(VLOOKUP(BE32,MATCHSELEVES!$Y$14:$AE$600,4,FALSE),0)","v":0},{"$f":"IFERROR(VLOOKUP(BE32,MATCHSELEVES!$Y$14:$AE$600,5,FALSE),0)","v":0},{"$f":"IFERROR(VLOOKUP(BE32,MATCHSELEVES!$Y$14:$AF$600,8,FALSE),0)","v":0},{"$f":"IFERROR(VLOOKUP(BE32,MATCHSELEVES!$Y$14:$AG$600,9,FALSE),0)","v":0},"Sarah_8",{"$f":"IFERROR(VLOOKUP(BK32,MATCHSELEVES!$Y$14:$AE$600,3,FALSE),0)","v":0},{"$f":"IFERROR(VLOOKUP(BK32,MATCHSELEVES!$Y$14:$AE$600,4,FALSE),0)","v":0},{"$f":"IFERROR(VLOOKUP(BK32,MATCHSELEVES!$Y$14:$AE$600,5,FALSE),0)","v":0},{"$f":"IFERROR(VLOOKUP(BK32,MATCHSELEVES!$Y$14:$AF$600,8,FALSE),0)","v":0},{"$f":"IFERROR(VLOOKUP(BK32,MATCHSELEVES!$Y$14:$AG$600,9,FALSE),0)","v":0},"Sarah_9",{"$f":"IFERROR(VLOOKUP(BQ32,MATCHSELEVES!$Y$14:$AE$600,3,FALSE),0)","v":0},{"$f":"IFERROR(VLOOKUP(BQ32,MATCHSELEVES!$Y$14:$AE$600,4,FALSE),0)","v":0},{"$f":"IFERROR(VLOOKUP(BQ32,MATCHSELEVES!$Y$14:$AE$600,5,FALSE),0)","v":0},{"$f":"IFERROR(VLOOKUP(BQ32,MATCHSELEVES!$Y$14:$AF$600,8,FALSE),0)","v":0},{"$f":"IFERROR(VLOOKUP(BQ32,MATCHSELEVES!$Y$14:$AG$600,9,FALSE),0)","v":0},"Sarah_10",{"$f":"IFERROR(VLOOKUP(BW32,MATCHSELEVES!$Y$14:$AE$600,3,FALSE),0)","v":0},{"$f":"IFERROR(VLOOKUP(BW32,MATCHSELEVES!$Y$14:$AE$600,4,FALSE),0)","v":0},{"$f":"IFERROR(VLOOKUP(BW32,MATCHSELEVES!$Y$14:$AE$600,5,FALSE),0)","v":0},{"$f":"IFERROR(VLOOKUP(BW32,MATCHSELEVES!$Y$14:$AF$600,8,FALSE),0)","v":0},{"$f":"IFERROR(VLOOKUP(BW32,MATCHSELEVES!$Y$14:$AG$600,9,FALSE),0)","v":0},"Sarah_11",{"$f":"IFERROR(VLOOKUP(CC32,MATCHSELEVES!$Y$14:$AE$600,3,FALSE),0)","v":0},{"$f":"IFERROR(VLOOKUP(CC32,MATCHSELEVES!$Y$14:$AE$600,4,FALSE),0)","v":0},{"$f":"IFERROR(VLOOKUP(CC32,MATCHSELEVES!$Y$14:$AE$600,5,FALSE),0)","v":0},{"$f":"IFERROR(VLOOKUP(CC32,MATCHSELEVES!$Y$14:$AF$600,8,FALSE),0)","v":0},{"$f":"IFERROR(VLOOKUP(CC32,MATCHSELEVES!$Y$14:$AG$600,9,FALSE),0)","v":0},"Sarah_12",{"$f":"IFERROR(VLOOKUP(CI32,MATCHSELEVES!$Y$14:$AE$600,3,FALSE),0)","v":0},{"$f":"IFERROR(VLOOKUP(CI32,MATCHSELEVES!$Y$14:$AE$600,4,FALSE),0)","v":0},{"$f":"IFERROR(VLOOKUP(CI32,MATCHSELEVES!$Y$14:$AE$600,5,FALSE),0)","v":0},{"$f":"IFERROR(VLOOKUP(CI32,MATCHSELEVES!$Y$14:$AF$600,8,FALSE),0)","v":0},{"$f":"IFERROR(VLOOKUP(CI32,MATCHSELEVES!$Y$14:$AG$600,9,FALSE),0)","v":0},"Sarah_13",{"$f":"IFERROR(VLOOKUP(CO32,MATCHSELEVES!$Y$14:$AE$600,3,FALSE),0)","v":0},{"$f":"IFERROR(VLOOKUP(CO32,MATCHSELEVES!$Y$14:$AE$600,4,FALSE),0)","v":0},{"$f":"IFERROR(VLOOKUP(CO32,MATCHSELEVES!$Y$14:$AE$600,5,FALSE),0)","v":0},{"$f":"IFERROR(VLOOKUP(CO32,MATCHSELEVES!$Y$14:$AF$600,8,FALSE),0)","v":0},{"$f":"IFERROR(VLOOKUP(CO32,MATCHSELEVES!$Y$14:$AG$600,9,FALSE),0)","v":0},"Sarah_14",{"$f":"IFERROR(VLOOKUP(CU32,MATCHSELEVES!$Y$14:$AE$600,3,FALSE),0)","v":0},{"$f":"IFERROR(VLOOKUP(CU32,MATCHSELEVES!$Y$14:$AE$600,4,FALSE),0)","v":0},{"$f":"IFERROR(VLOOKUP(CU32,MATCHSELEVES!$Y$14:$AE$600,5,FALSE),0)","v":0},{"$f":"IFERROR(VLOOKUP(CU32,MATCHSELEVES!$Y$14:$AF$600,8,FALSE),0)","v":0},{"$f":"IFERROR(VLOOKUP(CU32,MATCHSELEVES!$Y$14:$AG$600,9,FALSE),0)","v":0},"Sarah_15",{"$f":"IFERROR(VLOOKUP(DA32,MATCHSELEVES!$Y$14:$AE$600,3,FALSE),0)","v":0},{"$f":"IFERROR(VLOOKUP(DA32,MATCHSELEVES!$Y$14:$AE$600,4,FALSE),0)","v":0},{"$f":"IFERROR(VLOOKUP(DA32,MATCHSELEVES!$Y$14:$AE$600,5,FALSE),0)","v":0},{"$f":"IFERROR(VLOOKUP(DA32,MATCHSELEVES!$Y$14:$AF$600,8,FALSE),0)","v":0},{"$f":"IFERROR(VLOOKUP(DA32,MATCHSELEVES!$Y$14:$AG$600,9,FALSE),0)","v":0},"Sarah_16",{"$f":"IFERROR(VLOOKUP(DG32,MATCHSELEVES!$Y$14:$AE$600,3,FALSE),0)","v":0},{"$f":"IFERROR(VLOOKUP(DG32,MATCHSELEVES!$Y$14:$AE$600,4,FALSE),0)","v":0},{"$f":"IFERROR(VLOOKUP(DG32,MATCHSELEVES!$Y$14:$AE$600,5,FALSE),0)","v":0},{"$f":"IFERROR(VLOOKUP(DG32,MATCHSELEVES!$Y$14:$AF$600,8,FALSE),0)","v":0},{"$f":"IFERROR(VLOOKUP(DG32,MATCHSELEVES!$Y$14:$AG$600,9,FALSE),0)","v":0},"Sarah_17",{"$f":"IFERROR(VLOOKUP(DM32,MATCHSELEVES!$Y$14:$AE$600,3,FALSE),0)","v":0},{"$f":"IFERROR(VLOOKUP(DM32,MATCHSELEVES!$Y$14:$AE$600,4,FALSE),0)","v":0},{"$f":"IFERROR(VLOOKUP(DM32,MATCHSELEVES!$Y$14:$AE$600,5,FALSE),0)","v":0},{"$f":"IFERROR(VLOOKUP(DM32,MATCHSELEVES!$Y$14:$AF$600,8,FALSE),0)","v":0},{"$f":"IFERROR(VLOOKUP(DM32,MATCHSELEVES!$Y$14:$AG$600,9,FALSE),0)","v":0},"Sarah_18",{"$f":"IFERROR(VLOOKUP(DS32,MATCHSELEVES!$Y$14:$AE$600,3,FALSE),0)","v":0},{"$f":"IFERROR(VLOOKUP(DS32,MATCHSELEVES!$Y$14:$AE$600,4,FALSE),0)","v":0},{"$f":"IFERROR(VLOOKUP(DS32,MATCHSELEVES!$Y$14:$AE$600,5,FALSE),0)","v":0},{"$f":"IFERROR(VLOOKUP(DS32,MATCHSELEVES!$Y$14:$AF$600,8,FALSE),0)","v":0},{"$f":"IFERROR(VLOOKUP(DS32,MATCHSELEVES!$Y$14:$AG$600,9,FALSE),0)","v":0},"Sarah_19",{"$f":"IFERROR(VLOOKUP(DY32,MATCHSELEVES!$Y$14:$AE$600,3,FALSE),0)","v":0},{"$f":"IFERROR(VLOOKUP(DY32,MATCHSELEVES!$Y$14:$AE$600,4,FALSE),0)","v":0},{"$f":"IFERROR(VLOOKUP(DY32,MATCHSELEVES!$Y$14:$AE$600,5,FALSE),0)","v":0},{"$f":"IFERROR(VLOOKUP(DY32,MATCHSELEVES!$Y$14:$AF$600,8,FALSE),0)","v":0},{"$f":"IFERROR(VLOOKUP(DY32,MATCHSELEVES!$Y$14:$AG$600,9,FALSE),0)","v":0},"Sarah_20",{"$f":"IFERROR(VLOOKUP(EE32,MATCHSELEVES!$Y$14:$AE$600,3,FALSE),0)","v":0},{"$f":"IFERROR(VLOOKUP(EE32,MATCHSELEVES!$Y$14:$AE$600,4,FALSE),0)","v":0},{"$f":"IFERROR(VLOOKUP(EE32,MATCHSELEVES!$Y$14:$AE$600,5,FALSE),0)","v":0},{"$f":"IFERROR(VLOOKUP(EE32,MATCHSELEVES!$Y$14:$AF$600,8,FALSE),0)","v":0},{"$f":"IFERROR(VLOOKUP(EE32,MATCHSELEVES!$Y$14:$AG$600,9,FALSE),0)","v":0},"Sarah_21",{"$f":"IFERROR(VLOOKUP(EK32,MATCHSELEVES!$Y$14:$AE$600,3,FALSE),0)","v":0},{"$f":"IFERROR(VLOOKUP(EK32,MATCHSELEVES!$Y$14:$AE$600,4,FALSE),0)","v":0},{"$f":"IFERROR(VLOOKUP(EK32,MATCHSELEVES!$Y$14:$AE$600,5,FALSE),0)","v":0},{"$f":"IFERROR(VLOOKUP(EK32,MATCHSELEVES!$Y$14:$AF$600,8,FALSE),0)","v":0},{"$f":"IFERROR(VLOOKUP(EK32,MATCHSELEVES!$Y$14:$AG$600,9,FALSE),0)","v":0},"Sarah_22",{"$f":"IFERROR(VLOOKUP(EQ32,MATCHSELEVES!$Y$14:$AE$600,3,FALSE),0)","v":0},{"$f":"IFERROR(VLOOKUP(EQ32,MATCHSELEVES!$Y$14:$AE$600,4,FALSE),0)","v":0},{"$f":"IFERROR(VLOOKUP(EQ32,MATCHSELEVES!$Y$14:$AE$600,5,FALSE),0)","v":0},{"$f":"IFERROR(VLOOKUP(EQ32,MATCHSELEVES!$Y$14:$AF$600,8,FALSE),0)","v":0},{"$f":"IFERROR(VLOOKUP(EQ32,MATCHSELEVES!$Y$14:$AG$600,9,FALSE),0)","v":0},"Sarah_23",{"$f":"IFERROR(VLOOKUP(EW32,MATCHSELEVES!$Y$14:$AE$600,3,FALSE),0)","v":0},{"$f":"IFERROR(VLOOKUP(EW32,MATCHSELEVES!$Y$14:$AE$600,4,FALSE),0)","v":0},{"$f":"IFERROR(VLOOKUP(EW32,MATCHSELEVES!$Y$14:$AE$600,5,FALSE),0)","v":0},{"$f":"IFERROR(VLOOKUP(EW32,MATCHSELEVES!$Y$14:$AF$600,8,FALSE),0)","v":0},{"$f":"IFERROR(VLOOKUP(EW32,MATCHSELEVES!$Y$14:$AG$600,9,FALSE),0)","v":0},"Sarah_24",{"$f":"IFERROR(VLOOKUP(FC32,MATCHSELEVES!$Y$14:$AE$600,3,FALSE),0)","v":0},{"$f":"IFERROR(VLOOKUP(FC32,MATCHSELEVES!$Y$14:$AE$600,4,FALSE),0)","v":0},{"$f":"IFERROR(VLOOKUP(FC32,MATCHSELEVES!$Y$14:$AE$600,5,FALSE),0)","v":0},{"$f":"IFERROR(VLOOKUP(FC32,MATCHSELEVES!$Y$14:$AF$600,8,FALSE),0)","v":0},{"$f":"IFERROR(VLOOKUP(FC32,MATCHSELEVES!$Y$14:$AG$600,9,FALSE),0)","v":0},"Sarah_25",{"$f":"IFERROR(VLOOKUP(FI32,MATCHSELEVES!$Y$14:$AE$600,3,FALSE),0)","v":0},{"$f":"IFERROR(VLOOKUP(FI32,MATCHSELEVES!$Y$14:$AE$600,4,FALSE),0)","v":0},{"$f":"IFERROR(VLOOKUP(FI32,MATCHSELEVES!$Y$14:$AE$600,5,FALSE),0)","v":0},{"$f":"IFERROR(VLOOKUP(FI32,MATCHSELEVES!$Y$14:$AF$600,8,FALSE),0)","v":0},{"$f":"IFERROR(VLOOKUP(FI32,MATCHSELEVES!$Y$14:$AG$600,9,FALSE),0)","v":0},"Sarah_26",{"$f":"IFERROR(VLOOKUP(FO32,MATCHSELEVES!$Y$14:$AE$600,3,FALSE),0)","v":0},{"$f":"IFERROR(VLOOKUP(FO32,MATCHSELEVES!$Y$14:$AE$600,4,FALSE),0)","v":0},{"$f":"IFERROR(VLOOKUP(FO32,MATCHSELEVES!$Y$14:$AE$600,5,FALSE),0)","v":0},{"$f":"IFERROR(VLOOKUP(FO32,MATCHSELEVES!$Y$14:$AF$600,8,FALSE),0)","v":0},{"$f":"IFERROR(VLOOKUP(FO32,MATCHSELEVES!$Y$14:$AG$600,9,FALSE),0)","v":0},"Sarah_27",{"$f":"IFERROR(VLOOKUP(FU32,MATCHSELEVES!$Y$14:$AE$600,3,FALSE),0)","v":0},{"$f":"IFERROR(VLOOKUP(FU32,MATCHSELEVES!$Y$14:$AE$600,4,FALSE),0)","v":0},{"$f":"IFERROR(VLOOKUP(FU32,MATCHSELEVES!$Y$14:$AE$600,5,FALSE),0)","v":0},{"$f":"IFERROR(VLOOKUP(FU32,MATCHSELEVES!$Y$14:$AF$600,8,FALSE),0)","v":0},{"$f":"IFERROR(VLOOKUP(FU32,MATCHSELEVES!$Y$14:$AG$600,9,FALSE),0)","v":0},"Sarah_28",{"$f":"IFERROR(VLOOKUP(GA32,MATCHSELEVES!$Y$14:$AE$600,3,FALSE),0)","v":0},{"$f":"IFERROR(VLOOKUP(GA32,MATCHSELEVES!$Y$14:$AE$600,4,FALSE),0)","v":0},{"$f":"IFERROR(VLOOKUP(GA32,MATCHSELEVES!$Y$14:$AE$600,5,FALSE),0)","v":0},{"$f":"IFERROR(VLOOKUP(GA32,MATCHSELEVES!$Y$14:$AF$600,8,FALSE),0)","v":0},{"$f":"IFERROR(VLOOKUP(GA32,MATCHSELEVES!$Y$14:$AG$600,9,FALSE),0)","v":0},"Sarah_29",{"$f":"IFERROR(VLOOKUP(GG32,MATCHSELEVES!$Y$14:$AE$600,3,FALSE),0)","v":0},{"$f":"IFERROR(VLOOKUP(GG32,MATCHSELEVES!$Y$14:$AE$600,4,FALSE),0)","v":0},{"$f":"IFERROR(VLOOKUP(GG32,MATCHSELEVES!$Y$14:$AE$600,5,FALSE),0)","v":0},{"$f":"IFERROR(VLOOKUP(GG32,MATCHSELEVES!$Y$14:$AF$600,8,FALSE),0)","v":0},{"$f":"IFERROR(VLOOKUP(GG32,MATCHSELEVES!$Y$14:$AG$600,9,FALSE),0)","v":0},"Sarah_30",{"$f":"IFERROR(VLOOKUP(GM32,MATCHSELEVES!$Y$14:$AE$600,3,FALSE),0)","v":0},{"$f":"IFERROR(VLOOKUP(GM32,MATCHSELEVES!$Y$14:$AE$600,4,FALSE),0)","v":0},{"$f":"IFERROR(VLOOKUP(GM32,MATCHSELEVES!$Y$14:$AE$600,5,FALSE),0)","v":0},{"$f":"IFERROR(VLOOKUP(GM32,MATCHSELEVES!$Y$14:$AF$600,8,FALSE),0)","v":0},{"$f":"IFERROR(VLOOKUP(GM32,MATCHSELEVES!$Y$14:$AG$600,9,FALSE),0)","v":0},"Sarah_31",{"$f":"IFERROR(VLOOKUP(GS32,MATCHSELEVES!$Y$14:$AE$600,3,FALSE),0)","v":0},{"$f":"IFERROR(VLOOKUP(GS32,MATCHSELEVES!$Y$14:$AE$600,4,FALSE),0)","v":0},{"$f":"IFERROR(VLOOKUP(GS32,MATCHSELEVES!$Y$14:$AE$600,5,FALSE),0)","v":0},{"$f":"IFERROR(VLOOKUP(GS32,MATCHSELEVES!$Y$14:$AF$600,8,FALSE),0)","v":0},{"$f":"IFERROR(VLOOKUP(GS32,MATCHSELEVES!$Y$14:$AG$600,9,FALSE),0)","v":0},"Sarah_32",{"$f":"IFERROR(VLOOKUP(GY32,MATCHSELEVES!$Y$14:$AE$600,3,FALSE),0)","v":0},{"$f":"IFERROR(VLOOKUP(GY32,MATCHSELEVES!$Y$14:$AE$600,4,FALSE),0)","v":0},{"$f":"IFERROR(VLOOKUP(GY32,MATCHSELEVES!$Y$14:$AE$600,5,FALSE),0)","v":0},{"$f":"IFERROR(VLOOKUP(GY32,MATCHSELEVES!$Y$14:$AF$600,8,FALSE),0)","v":0},{"$f":"IFERROR(VLOOKUP(GY32,MATCHSELEVES!$Y$14:$AG$600,9,FALSE),0)","v":0},"Sarah_33",{"$f":"IFERROR(VLOOKUP(HE32,MATCHSELEVES!$Y$14:$AE$600,3,FALSE),0)","v":0},{"$f":"IFERROR(VLOOKUP(HE32,MATCHSELEVES!$Y$14:$AE$600,4,FALSE),0)","v":0},{"$f":"IFERROR(VLOOKUP(HE32,MATCHSELEVES!$Y$14:$AE$600,5,FALSE),0)","v":0},{"$f":"IFERROR(VLOOKUP(HE32,MATCHSELEVES!$Y$14:$AF$600,8,FALSE),0)","v":0},{"$f":"IFERROR(VLOOKUP(HE32,MATCHSELEVES!$Y$14:$AG$600,9,FALSE),0)","v":0},"Sarah_34",{"$f":"IFERROR(VLOOKUP(HK32,MATCHSELEVES!$Y$14:$AE$600,3,FALSE),0)","v":0},{"$f":"IFERROR(VLOOKUP(HK32,MATCHSELEVES!$Y$14:$AE$600,4,FALSE),0)","v":0},{"$f":"IFERROR(VLOOKUP(HK32,MATCHSELEVES!$Y$14:$AE$600,5,FALSE),0)","v":0},{"$f":"IFERROR(VLOOKUP(HK32,MATCHSELEVES!$Y$14:$AF$600,8,FALSE),0)","v":0},{"$f":"IFERROR(VLOOKUP(HK32,MATCHSELEVES!$Y$14:$AG$600,9,FALSE),0)","v":0},"Sarah_35",{"$f":"IFERROR(VLOOKUP(HQ32,MATCHSELEVES!$Y$14:$AE$600,3,FALSE),0)","v":0},{"$f":"IFERROR(VLOOKUP(HQ32,MATCHSELEVES!$Y$14:$AE$600,4,FALSE),0)","v":0},{"$f":"IFERROR(VLOOKUP(HQ32,MATCHSELEVES!$Y$14:$AE$600,5,FALSE),0)","v":0},{"$f":"IFERROR(VLOOKUP(HQ32,MATCHSELEVES!$Y$14:$AF$600,8,FALSE),0)","v":0},{"$f":"IFERROR(VLOOKUP(HQ32,MATCHSELEVES!$Y$14:$AG$600,9,FALSE),0)","v":0},"Sarah_36",{"$f":"IFERROR(VLOOKUP(HW32,MATCHSELEVES!$Y$14:$AE$600,3,FALSE),0)","v":0},{"$f":"IFERROR(VLOOKUP(HW32,MATCHSELEVES!$Y$14:$AE$600,4,FALSE),0)","v":0},{"$f":"IFERROR(VLOOKUP(HW32,MATCHSELEVES!$Y$14:$AE$600,5,FALSE),0)","v":0},{"$f":"IFERROR(VLOOKUP(HW32,MATCHSELEVES!$Y$14:$AF$600,8,FALSE),0)","v":0},{"$f":"IFERROR(VLOOKUP(HW32,MATCHSELEVES!$Y$14:$AG$600,9,FALSE),0)","v":0},"Sarah_37",{"$f":"IFERROR(VLOOKUP(IC32,MATCHSELEVES!$Y$14:$AE$600,3,FALSE),0)","v":0},{"$f":"IFERROR(VLOOKUP(IC32,MATCHSELEVES!$Y$14:$AE$600,4,FALSE),0)","v":0},{"$f":"IFERROR(VLOOKUP(IC32,MATCHSELEVES!$Y$14:$AE$600,5,FALSE),0)","v":0},{"$f":"IFERROR(VLOOKUP(IC32,MATCHSELEVES!$Y$14:$AF$600,8,FALSE),0)","v":0},{"$f":"IFERROR(VLOOKUP(IC32,MATCHSELEVES!$Y$14:$AG$600,9,FALSE),0)","v":0},"Sarah_38",{"$f":"IFERROR(VLOOKUP(II32,MATCHSELEVES!$Y$14:$AE$600,3,FALSE),0)","v":0},{"$f":"IFERROR(VLOOKUP(II32,MATCHSELEVES!$Y$14:$AE$600,4,FALSE),0)","v":0},{"$f":"IFERROR(VLOOKUP(II32,MATCHSELEVES!$Y$14:$AE$600,5,FALSE),0)","v":0},{"$f":"IFERROR(VLOOKUP(II32,MATCHSELEVES!$Y$14:$AF$600,8,FALSE),0)","v":0},{"$f":"IFERROR(VLOOKUP(II32,MATCHSELEVES!$Y$14:$AG$600,9,FALSE),0)","v":0},"Sarah_39",{"$f":"IFERROR(VLOOKUP(IO32,MATCHSELEVES!$Y$14:$AE$600,3,FALSE),0)","v":0},{"$f":"IFERROR(VLOOKUP(IO32,MATCHSELEVES!$Y$14:$AE$600,4,FALSE),0)","v":0},{"$f":"IFERROR(VLOOKUP(IO32,MATCHSELEVES!$Y$14:$AE$600,5,FALSE),0)","v":0},{"$f":"IFERROR(VLOOKUP(IO32,MATCHSELEVES!$Y$14:$AF$600,8,FALSE),0)","v":0},{"$f":"IFERROR(VLOOKUP(IO32,MATCHSELEVES!$Y$14:$AG$600,9,FALSE),0)","v":0},"Sarah_40",{"$f":"IFERROR(VLOOKUP(IU32,MATCHSELEVES!$Y$14:$AE$600,3,FALSE),0)","v":0},{"$f":"IFERROR(VLOOKUP(IU32,MATCHSELEVES!$Y$14:$AE$600,4,FALSE),0)","v":0},{"$f":"IFERROR(VLOOKUP(IU32,MATCHSELEVES!$Y$14:$AE$600,5,FALSE),0)","v":0},{"$f":"IFERROR(VLOOKUP(IU32,MATCHSELEVES!$Y$14:$AF$600,8,FALSE),0)","v":0},{"$f":"IFERROR(VLOOKUP(IU32,MATCHSELEVES!$Y$14:$AG$600,9,FALSE),0)","v":0},"Sarahp_1",{"$f":"IFERROR(VLOOKUP(JA32,MATCHSELEVES!$Y$14:$AE$600,3,FALSE),0)","v":0},{"$f":"IFERROR(VLOOKUP(JA32,MATCHSELEVES!$Y$14:$AE$600,4,FALSE),0)","v":0},{"$f":"IFERROR(VLOOKUP(JA32,MATCHSELEVES!$Y$14:$AE$600,5,FALSE),0)","v":0},{"$f":"IFERROR(VLOOKUP(JA32,MATCHSELEVES!$Y$14:$AF$600,8,FALSE),0)","v":0},{"$f":"IFERROR(VLOOKUP(JA32,MATCHSELEVES!$Y$14:$AG$600,9,FALSE),0)","v":0},"Sarahp_2",{"$f":"IFERROR(VLOOKUP(JG32,MATCHSELEVES!$Y$14:$AE$600,3,FALSE),0)","v":0},{"$f":"IFERROR(VLOOKUP(JG32,MATCHSELEVES!$Y$14:$AE$600,4,FALSE),0)","v":0},{"$f":"IFERROR(VLOOKUP(JG32,MATCHSELEVES!$Y$14:$AE$600,5,FALSE),0)","v":0},{"$f":"IFERROR(VLOOKUP(JG32,MATCHSELEVES!$Y$14:$AF$600,8,FALSE),0)","v":0},{"$f":"IFERROR(VLOOKUP(JG32,MATCHSELEVES!$Y$14:$AG$600,9,FALSE),0)","v":0},"Sarahp_3",{"$f":"IFERROR(VLOOKUP(JM32,MATCHSELEVES!$Y$14:$AE$600,3,FALSE),0)","v":0},{"$f":"IFERROR(VLOOKUP(JM32,MATCHSELEVES!$Y$14:$AE$600,4,FALSE),0)","v":0},{"$f":"IFERROR(VLOOKUP(JM32,MATCHSELEVES!$Y$14:$AE$600,5,FALSE),0)","v":0},{"$f":"IFERROR(VLOOKUP(JM32,MATCHSELEVES!$Y$14:$AF$600,8,FALSE),0)","v":0},{"$f":"IFERROR(VLOOKUP(JM32,MATCHSELEVES!$Y$14:$AG$600,9,FALSE),0)","v":0},"Sarahp_4",{"$f":"IFERROR(VLOOKUP(JS32,MATCHSELEVES!$Y$14:$AE$600,3,FALSE),0)","v":0},{"$f":"IFERROR(VLOOKUP(JS32,MATCHSELEVES!$Y$14:$AE$600,4,FALSE),0)","v":0},{"$f":"IFERROR(VLOOKUP(JS32,MATCHSELEVES!$Y$14:$AE$600,5,FALSE),0)","v":0},{"$f":"IFERROR(VLOOKUP(JS32,MATCHSELEVES!$Y$14:$AF$600,8,FALSE),0)","v":0},{"$f":"IFERROR(VLOOKUP(JS32,MATCHSELEVES!$Y$14:$AG$600,9,FALSE),0)","v":0},"Sarahp_5",{"$f":"IFERROR(VLOOKUP(JY32,MATCHSELEVES!$Y$14:$AE$600,3,FALSE),0)","v":0},{"$f":"IFERROR(VLOOKUP(JY32,MATCHSELEVES!$Y$14:$AE$600,4,FALSE),0)","v":0},{"$f":"IFERROR(VLOOKUP(JY32,MATCHSELEVES!$Y$14:$AE$600,5,FALSE),0)","v":0},{"$f":"IFERROR(VLOOKUP(JY32,MATCHSELEVES!$Y$14:$AF$600,8,FALSE),0)","v":0},{"$f":"IFERROR(VLOOKUP(JY32,MATCHSELEVES!$Y$14:$AG$600,9,FALSE),0)","v":0},"Sarahp_6",{"$f":"IFERROR(VLOOKUP(KE32,MATCHSELEVES!$Y$14:$AE$600,3,FALSE),0)","v":0},{"$f":"IFERROR(VLOOKUP(KE32,MATCHSELEVES!$Y$14:$AE$600,4,FALSE),0)","v":0},{"$f":"IFERROR(VLOOKUP(KE32,MATCHSELEVES!$Y$14:$AE$600,5,FALSE),0)","v":0},{"$f":"IFERROR(VLOOKUP(KE32,MATCHSELEVES!$Y$14:$AF$600,8,FALSE),0)","v":0},{"$f":"IFERROR(VLOOKUP(KE32,MATCHSELEVES!$Y$14:$AG$600,9,FALSE),0)","v":0},"Sarahp_7",{"$f":"IFERROR(VLOOKUP(KK32,MATCHSELEVES!$Y$14:$AE$600,3,FALSE),0)","v":0},{"$f":"IFERROR(VLOOKUP(KK32,MATCHSELEVES!$Y$14:$AE$600,4,FALSE),0)","v":0},{"$f":"IFERROR(VLOOKUP(KK32,MATCHSELEVES!$Y$14:$AE$600,5,FALSE),0)","v":0},{"$f":"IFERROR(VLOOKUP(KK32,MATCHSELEVES!$Y$14:$AF$600,8,FALSE),0)","v":0},{"$f":"IFERROR(VLOOKUP(KK32,MATCHSELEVES!$Y$14:$AG$600,9,FALSE),0)","v":0},"Sarahp_8",{"$f":"IFERROR(VLOOKUP(KQ32,MATCHSELEVES!$Y$14:$AE$600,3,FALSE),0)","v":0},{"$f":"IFERROR(VLOOKUP(KQ32,MATCHSELEVES!$Y$14:$AE$600,4,FALSE),0)","v":0},{"$f":"IFERROR(VLOOKUP(KQ32,MATCHSELEVES!$Y$14:$AE$600,5,FALSE),0)","v":0},{"$f":"IFERROR(VLOOKUP(KQ32,MATCHSELEVES!$Y$14:$AF$600,8,FALSE),0)","v":0},{"$f":"IFERROR(VLOOKUP(KQ32,MATCHSELEVES!$Y$14:$AG$600,9,FALSE),0)","v":0},"Sarahp_9",{"$f":"IFERROR(VLOOKUP(KW32,MATCHSELEVES!$Y$14:$AE$600,3,FALSE),0)","v":0},{"$f":"IFERROR(VLOOKUP(KW32,MATCHSELEVES!$Y$14:$AE$600,4,FALSE),0)","v":0},{"$f":"IFERROR(VLOOKUP(KW32,MATCHSELEVES!$Y$14:$AE$600,5,FALSE),0)","v":0},{"$f":"IFERROR(VLOOKUP(KW32,MATCHSELEVES!$Y$14:$AF$600,8,FALSE),0)","v":0},{"$f":"IFERROR(VLOOKUP(KW32,MATCHSELEVES!$Y$14:$AG$600,9,FALSE),0)","v":0},"Sarahp_10",{"$f":"IFERROR(VLOOKUP(LC32,MATCHSELEVES!$Y$14:$AE$600,3,FALSE),0)","v":0},{"$f":"IFERROR(VLOOKUP(LC32,MATCHSELEVES!$Y$14:$AE$600,4,FALSE),0)","v":0},{"$f":"IFERROR(VLOOKUP(LC32,MATCHSELEVES!$Y$14:$AE$600,5,FALSE),0)","v":0},{"$f":"IFERROR(VLOOKUP(LC32,MATCHSELEVES!$Y$14:$AF$600,8,FALSE),0)","v":0},{"$f":"IFERROR(VLOOKUP(LC32,MATCHSELEVES!$Y$14:$AG$600,9,FALSE),0)","v":0},"Sarahp_11",{"$f":"IFERROR(VLOOKUP(LI32,MATCHSELEVES!$Y$14:$AE$600,3,FALSE),0)","v":0},{"$f":"IFERROR(VLOOKUP(LI32,MATCHSELEVES!$Y$14:$AE$600,4,FALSE),0)","v":0},{"$f":"IFERROR(VLOOKUP(LI32,MATCHSELEVES!$Y$14:$AE$600,5,FALSE),0)","v":0},{"$f":"IFERROR(VLOOKUP(LI32,MATCHSELEVES!$Y$14:$AF$600,8,FALSE),0)","v":0},{"$f":"IFERROR(VLOOKUP(LI32,MATCHSELEVES!$Y$14:$AG$600,9,FALSE),0)","v":0},"Sarahp_12",{"$f":"IFERROR(VLOOKUP(LO32,MATCHSELEVES!$Y$14:$AE$600,3,FALSE),0)","v":0},{"$f":"IFERROR(VLOOKUP(LO32,MATCHSELEVES!$Y$14:$AE$600,4,FALSE),0)","v":0},{"$f":"IFERROR(VLOOKUP(LO32,MATCHSELEVES!$Y$14:$AE$600,5,FALSE),0)","v":0},{"$f":"IFERROR(VLOOKUP(LO32,MATCHSELEVES!$Y$14:$AF$600,8,FALSE),0)","v":0},{"$f":"IFERROR(VLOOKUP(LO32,MATCHSELEVES!$Y$14:$AG$600,9,FALSE),0)","v":0},"Sarahp_13",{"$f":"IFERROR(VLOOKUP(LU32,MATCHSELEVES!$Y$14:$AE$600,3,FALSE),0)","v":0},{"$f":"IFERROR(VLOOKUP(LU32,MATCHSELEVES!$Y$14:$AE$600,4,FALSE),0)","v":0},{"$f":"IFERROR(VLOOKUP(LU32,MATCHSELEVES!$Y$14:$AE$600,5,FALSE),0)","v":0},{"$f":"IFERROR(VLOOKUP(LU32,MATCHSELEVES!$Y$14:$AF$600,8,FALSE),0)","v":0},{"$f":"IFERROR(VLOOKUP(LU32,MATCHSELEVES!$Y$14:$AG$600,9,FALSE),0)","v":0},"Sarahp_14",{"$f":"IFERROR(VLOOKUP(MA32,MATCHSELEVES!$Y$14:$AE$600,3,FALSE),0)","v":0},{"$f":"IFERROR(VLOOKUP(MA32,MATCHSELEVES!$Y$14:$AE$600,4,FALSE),0)","v":0},{"$f":"IFERROR(VLOOKUP(MA32,MATCHSELEVES!$Y$14:$AE$600,5,FALSE),0)","v":0},{"$f":"IFERROR(VLOOKUP(MA32,MATCHSELEVES!$Y$14:$AF$600,8,FALSE),0)","v":0},{"$f":"IFERROR(VLOOKUP(MA32,MATCHSELEVES!$Y$14:$AG$600,9,FALSE),0)","v":0},"Sarahp_15",{"$f":"IFERROR(VLOOKUP(MG32,MATCHSELEVES!$Y$14:$AE$600,3,FALSE),0)","v":0},{"$f":"IFERROR(VLOOKUP(MG32,MATCHSELEVES!$Y$14:$AE$600,4,FALSE),0)","v":0},{"$f":"IFERROR(VLOOKUP(MG32,MATCHSELEVES!$Y$14:$AE$600,5,FALSE),0)","v":0},{"$f":"IFERROR(VLOOKUP(MG32,MATCHSELEVES!$Y$14:$AF$600,8,FALSE),0)","v":0},{"$f":"IFERROR(VLOOKUP(MG32,MATCHSELEVES!$Y$14:$AG$600,9,FALSE),0)","v":0},"Sarahp_16",{"$f":"IFERROR(VLOOKUP(MM32,MATCHSELEVES!$Y$14:$AE$600,3,FALSE),0)","v":0},{"$f":"IFERROR(VLOOKUP(MM32,MATCHSELEVES!$Y$14:$AE$600,4,FALSE),0)","v":0},{"$f":"IFERROR(VLOOKUP(MM32,MATCHSELEVES!$Y$14:$AE$600,5,FALSE),0)","v":0},{"$f":"IFERROR(VLOOKUP(MM32,MATCHSELEVES!$Y$14:$AF$600,8,FALSE),0)","v":0},{"$f":"IFERROR(VLOOKUP(MM32,MATCHSELEVES!$Y$14:$AG$600,9,FALSE),0)","v":0},"Sarahp_17",{"$f":"IFERROR(VLOOKUP(MS32,MATCHSELEVES!$Y$14:$AE$600,3,FALSE),0)","v":0},{"$f":"IFERROR(VLOOKUP(MS32,MATCHSELEVES!$Y$14:$AE$600,4,FALSE),0)","v":0},{"$f":"IFERROR(VLOOKUP(MS32,MATCHSELEVES!$Y$14:$AE$600,5,FALSE),0)","v":0},{"$f":"IFERROR(VLOOKUP(MS32,MATCHSELEVES!$Y$14:$AF$600,8,FALSE),0)","v":0},{"$f":"IFERROR(VLOOKUP(MS32,MATCHSELEVES!$Y$14:$AG$600,9,FALSE),0)","v":0},"Sarahp_18",{"$f":"IFERROR(VLOOKUP(MY32,MATCHSELEVES!$Y$14:$AE$600,3,FALSE),0)","v":0},{"$f":"IFERROR(VLOOKUP(MY32,MATCHSELEVES!$Y$14:$AE$600,4,FALSE),0)","v":0},{"$f":"IFERROR(VLOOKUP(MY32,MATCHSELEVES!$Y$14:$AE$600,5,FALSE),0)","v":0},{"$f":"IFERROR(VLOOKUP(MY32,MATCHSELEVES!$Y$14:$AF$600,8,FALSE),0)","v":0},{"$f":"IFERROR(VLOOKUP(MY32,MATCHSELEVES!$Y$14:$AG$600,9,FALSE),0)","v":0},"Sarahp_19",{"$f":"IFERROR(VLOOKUP(NE32,MATCHSELEVES!$Y$14:$AE$600,3,FALSE),0)","v":0},{"$f":"IFERROR(VLOOKUP(NE32,MATCHSELEVES!$Y$14:$AE$600,4,FALSE),0)","v":0},{"$f":"IFERROR(VLOOKUP(NE32,MATCHSELEVES!$Y$14:$AE$600,5,FALSE),0)","v":0},{"$f":"IFERROR(VLOOKUP(NE32,MATCHSELEVES!$Y$14:$AF$600,8,FALSE),0)","v":0},{"$f":"IFERROR(VLOOKUP(NE32,MATCHSELEVES!$Y$14:$AG$600,9,FALSE),0)","v":0},"Sarahp_20",{"$f":"IFERROR(VLOOKUP(NK32,MATCHSELEVES!$Y$14:$AE$600,3,FALSE),0)","v":0},{"$f":"IFERROR(VLOOKUP(NK32,MATCHSELEVES!$Y$14:$AE$600,4,FALSE),0)","v":0},{"$f":"IFERROR(VLOOKUP(NK32,MATCHSELEVES!$Y$14:$AE$600,5,FALSE),0)","v":0},{"$f":"IFERROR(VLOOKUP(NK32,MATCHSELEVES!$Y$14:$AF$600,8,FALSE),0)","v":0},{"$f":"IFERROR(VLOOKUP(NK32,MATCHSELEVES!$Y$14:$AG$600,9,FALSE),0)","v":0},"Sarahp_21",{"$f":"IFERROR(VLOOKUP(NQ32,MATCHSELEVES!$Y$14:$AE$600,3,FALSE),0)","v":0},{"$f":"IFERROR(VLOOKUP(NQ32,MATCHSELEVES!$Y$14:$AE$600,4,FALSE),0)","v":0},{"$f":"IFERROR(VLOOKUP(NQ32,MATCHSELEVES!$Y$14:$AE$600,5,FALSE),0)","v":0},{"$f":"IFERROR(VLOOKUP(NQ32,MATCHSELEVES!$Y$14:$AF$600,8,FALSE),0)","v":0},{"$f":"IFERROR(VLOOKUP(NQ32,MATCHSELEVES!$Y$14:$AG$600,9,FALSE),0)","v":0},"Sarahp_22",{"$f":"IFERROR(VLOOKUP(NW32,MATCHSELEVES!$Y$14:$AE$600,3,FALSE),0)","v":0},{"$f":"IFERROR(VLOOKUP(NW32,MATCHSELEVES!$Y$14:$AE$600,4,FALSE),0)","v":0},{"$f":"IFERROR(VLOOKUP(NW32,MATCHSELEVES!$Y$14:$AE$600,5,FALSE),0)","v":0},{"$f":"IFERROR(VLOOKUP(NW32,MATCHSELEVES!$Y$14:$AF$600,8,FALSE),0)","v":0},{"$f":"IFERROR(VLOOKUP(NW32,MATCHSELEVES!$Y$14:$AG$600,9,FALSE),0)","v":0},"Sarahp_23",{"$f":"IFERROR(VLOOKUP(OC32,MATCHSELEVES!$Y$14:$AE$600,3,FALSE),0)","v":0},{"$f":"IFERROR(VLOOKUP(OC32,MATCHSELEVES!$Y$14:$AE$600,4,FALSE),0)","v":0},{"$f":"IFERROR(VLOOKUP(OC32,MATCHSELEVES!$Y$14:$AE$600,5,FALSE),0)","v":0},{"$f":"IFERROR(VLOOKUP(OC32,MATCHSELEVES!$Y$14:$AF$600,8,FALSE),0)","v":0},{"$f":"IFERROR(VLOOKUP(OC32,MATCHSELEVES!$Y$14:$AG$600,9,FALSE),0)","v":0},"Sarahp_24",{"$f":"IFERROR(VLOOKUP(OI32,MATCHSELEVES!$Y$14:$AE$600,3,FALSE),0)","v":0},{"$f":"IFERROR(VLOOKUP(OI32,MATCHSELEVES!$Y$14:$AE$600,4,FALSE),0)","v":0},{"$f":"IFERROR(VLOOKUP(OI32,MATCHSELEVES!$Y$14:$AE$600,5,FALSE),0)","v":0},{"$f":"IFERROR(VLOOKUP(OI32,MATCHSELEVES!$Y$14:$AF$600,8,FALSE),0)","v":0},{"$f":"IFERROR(VLOOKUP(OI32,MATCHSELEVES!$Y$14:$AG$600,9,FALSE),0)","v":0},"Sarahp_25",{"$f":"IFERROR(VLOOKUP(OO32,MATCHSELEVES!$Y$14:$AE$600,3,FALSE),0)","v":0},{"$f":"IFERROR(VLOOKUP(OO32,MATCHSELEVES!$Y$14:$AE$600,4,FALSE),0)","v":0},{"$f":"IFERROR(VLOOKUP(OO32,MATCHSELEVES!$Y$14:$AE$600,5,FALSE),0)","v":0},{"$f":"IFERROR(VLOOKUP(OO32,MATCHSELEVES!$Y$14:$AF$600,8,FALSE),0)","v":0},{"$f":"IFERROR(VLOOKUP(OO32,MATCHSELEVES!$Y$14:$AG$600,9,FALSE),0)","v":0},"Sarahp_26",{"$f":"IFERROR(VLOOKUP(OU32,MATCHSELEVES!$Y$14:$AE$600,3,FALSE),0)","v":0},{"$f":"IFERROR(VLOOKUP(OU32,MATCHSELEVES!$Y$14:$AE$600,4,FALSE),0)","v":0},{"$f":"IFERROR(VLOOKUP(OU32,MATCHSELEVES!$Y$14:$AE$600,5,FALSE),0)","v":0},{"$f":"IFERROR(VLOOKUP(OU32,MATCHSELEVES!$Y$14:$AF$600,8,FALSE),0)","v":0},{"$f":"IFERROR(VLOOKUP(OU32,MATCHSELEVES!$Y$14:$AG$600,9,FALSE),0)","v":0},"Sarahp_27",{"$f":"IFERROR(VLOOKUP(PA32,MATCHSELEVES!$Y$14:$AE$600,3,FALSE),0)","v":0},{"$f":"IFERROR(VLOOKUP(PA32,MATCHSELEVES!$Y$14:$AE$600,4,FALSE),0)","v":0},{"$f":"IFERROR(VLOOKUP(PA32,MATCHSELEVES!$Y$14:$AE$600,5,FALSE),0)","v":0},{"$f":"IFERROR(VLOOKUP(PA32,MATCHSELEVES!$Y$14:$AF$600,8,FALSE),0)","v":0},{"$f":"IFERROR(VLOOKUP(PA32,MATCHSELEVES!$Y$14:$AG$600,9,FALSE),0)","v":0},"Sarahp_28",{"$f":"IFERROR(VLOOKUP(PG32,MATCHSELEVES!$Y$14:$AE$600,3,FALSE),0)","v":0},{"$f":"IFERROR(VLOOKUP(PG32,MATCHSELEVES!$Y$14:$AE$600,4,FALSE),0)","v":0},{"$f":"IFERROR(VLOOKUP(PG32,MATCHSELEVES!$Y$14:$AE$600,5,FALSE),0)","v":0},{"$f":"IFERROR(VLOOKUP(PG32,MATCHSELEVES!$Y$14:$AF$600,8,FALSE),0)","v":0},{"$f":"IFERROR(VLOOKUP(PG32,MATCHSELEVES!$Y$14:$AG$600,9,FALSE),0)","v":0},"Sarahp_29",{"$f":"IFERROR(VLOOKUP(PM32,MATCHSELEVES!$Y$14:$AE$600,3,FALSE),0)","v":0},{"$f":"IFERROR(VLOOKUP(PM32,MATCHSELEVES!$Y$14:$AE$600,4,FALSE),0)","v":0},{"$f":"IFERROR(VLOOKUP(PM32,MATCHSELEVES!$Y$14:$AE$600,5,FALSE),0)","v":0},{"$f":"IFERROR(VLOOKUP(PM32,MATCHSELEVES!$Y$14:$AF$600,8,FALSE),0)","v":0},{"$f":"IFERROR(VLOOKUP(PM32,MATCHSELEVES!$Y$14:$AG$600,9,FALSE),0)","v":0},"Sarahp_30",{"$f":"IFERROR(VLOOKUP(PS32,MATCHSELEVES!$Y$14:$AE$600,3,FALSE),0)","v":0},{"$f":"IFERROR(VLOOKUP(PS32,MATCHSELEVES!$Y$14:$AE$600,4,FALSE),0)","v":0},{"$f":"IFERROR(VLOOKUP(PS32,MATCHSELEVES!$Y$14:$AE$600,5,FALSE),0)","v":0},{"$f":"IFERROR(VLOOKUP(PS32,MATCHSELEVES!$Y$14:$AF$600,8,FALSE),0)","v":0},{"$f":"IFERROR(VLOOKUP(PS32,MATCHSELEVES!$Y$14:$AG$600,9,FALSE),0)","v":0},"Sarahp_31",{"$f":"IFERROR(VLOOKUP(PY32,MATCHSELEVES!$Y$14:$AE$600,3,FALSE),0)","v":0},{"$f":"IFERROR(VLOOKUP(PY32,MATCHSELEVES!$Y$14:$AE$600,4,FALSE),0)","v":0},{"$f":"IFERROR(VLOOKUP(PY32,MATCHSELEVES!$Y$14:$AE$600,5,FALSE),0)","v":0},{"$f":"IFERROR(VLOOKUP(PY32,MATCHSELEVES!$Y$14:$AF$600,8,FALSE),0)","v":0},{"$f":"IFERROR(VLOOKUP(PY32,MATCHSELEVES!$Y$14:$AG$600,9,FALSE),0)","v":0},"Sarahp_32",{"$f":"IFERROR(VLOOKUP(QE32,MATCHSELEVES!$Y$14:$AE$600,3,FALSE),0)","v":0},{"$f":"IFERROR(VLOOKUP(QE32,MATCHSELEVES!$Y$14:$AE$600,4,FALSE),0)","v":0},{"$f":"IFERROR(VLOOKUP(QE32,MATCHSELEVES!$Y$14:$AE$600,5,FALSE),0)","v":0},{"$f":"IFERROR(VLOOKUP(QE32,MATCHSELEVES!$Y$14:$AF$600,8,FALSE),0)","v":0},{"$f":"IFERROR(VLOOKUP(QE32,MATCHSELEVES!$Y$14:$AG$600,9,FALSE),0)","v":0},"Sarahp_33",{"$f":"IFERROR(VLOOKUP(QK32,MATCHSELEVES!$Y$14:$AE$600,3,FALSE),0)","v":0},{"$f":"IFERROR(VLOOKUP(QK32,MATCHSELEVES!$Y$14:$AE$600,4,FALSE),0)","v":0},{"$f":"IFERROR(VLOOKUP(QK32,MATCHSELEVES!$Y$14:$AE$600,5,FALSE),0)","v":0},{"$f":"IFERROR(VLOOKUP(QK32,MATCHSELEVES!$Y$14:$AF$600,8,FALSE),0)","v":0},{"$f":"IFERROR(VLOOKUP(QK32,MATCHSELEVES!$Y$14:$AG$600,9,FALSE),0)","v":0},"Sarahp_34",{"$f":"IFERROR(VLOOKUP(QQ32,MATCHSELEVES!$Y$14:$AE$600,3,FALSE),0)","v":0},{"$f":"IFERROR(VLOOKUP(QQ32,MATCHSELEVES!$Y$14:$AE$600,4,FALSE),0)","v":0},{"$f":"IFERROR(VLOOKUP(QQ32,MATCHSELEVES!$Y$14:$AE$600,5,FALSE),0)","v":0},{"$f":"IFERROR(VLOOKUP(QQ32,MATCHSELEVES!$Y$14:$AF$600,8,FALSE),0)","v":0},{"$f":"IFERROR(VLOOKUP(QQ32,MATCHSELEVES!$Y$14:$AG$600,9,FALSE),0)","v":0},"Sarahp_35",{"$f":"IFERROR(VLOOKUP(QW32,MATCHSELEVES!$Y$14:$AE$600,3,FALSE),0)","v":0},{"$f":"IFERROR(VLOOKUP(QW32,MATCHSELEVES!$Y$14:$AE$600,4,FALSE),0)","v":0},{"$f":"IFERROR(VLOOKUP(QW32,MATCHSELEVES!$Y$14:$AE$600,5,FALSE),0)","v":0},{"$f":"IFERROR(VLOOKUP(QW32,MATCHSELEVES!$Y$14:$AF$600,8,FALSE),0)","v":0},{"$f":"IFERROR(VLOOKUP(QW32,MATCHSELEVES!$Y$14:$AG$600,9,FALSE),0)","v":0},"Sarahp_36",{"$f":"IFERROR(VLOOKUP(RC32,MATCHSELEVES!$Y$14:$AE$600,3,FALSE),0)","v":0},{"$f":"IFERROR(VLOOKUP(RC32,MATCHSELEVES!$Y$14:$AE$600,4,FALSE),0)","v":0},{"$f":"IFERROR(VLOOKUP(RC32,MATCHSELEVES!$Y$14:$AE$600,5,FALSE),0)","v":0},{"$f":"IFERROR(VLOOKUP(RC32,MATCHSELEVES!$Y$14:$AF$600,8,FALSE),0)","v":0},{"$f":"IFERROR(VLOOKUP(RC32,MATCHSELEVES!$Y$14:$AG$600,9,FALSE),0)","v":0},"Sarahp_37",{"$f":"IFERROR(VLOOKUP(RI32,MATCHSELEVES!$Y$14:$AE$600,3,FALSE),0)","v":0},{"$f":"IFERROR(VLOOKUP(RI32,MATCHSELEVES!$Y$14:$AE$600,4,FALSE),0)","v":0},{"$f":"IFERROR(VLOOKUP(RI32,MATCHSELEVES!$Y$14:$AE$600,5,FALSE),0)","v":0},{"$f":"IFERROR(VLOOKUP(RI32,MATCHSELEVES!$Y$14:$AF$600,8,FALSE),0)","v":0},{"$f":"IFERROR(VLOOKUP(RI32,MATCHSELEVES!$Y$14:$AG$600,9,FALSE),0)","v":0},"Sarahp_38",{"$f":"IFERROR(VLOOKUP(RO32,MATCHSELEVES!$Y$14:$AE$600,3,FALSE),0)","v":0},{"$f":"IFERROR(VLOOKUP(RO32,MATCHSELEVES!$Y$14:$AE$600,4,FALSE),0)","v":0},{"$f":"IFERROR(VLOOKUP(RO32,MATCHSELEVES!$Y$14:$AE$600,5,FALSE),0)","v":0},{"$f":"IFERROR(VLOOKUP(RO32,MATCHSELEVES!$Y$14:$AF$600,8,FALSE),0)","v":0},{"$f":"IFERROR(VLOOKUP(RO32,MATCHSELEVES!$Y$14:$AG$600,9,FALSE),0)","v":0},"Sarahp_39",{"$f":"IFERROR(VLOOKUP(RU32,MATCHSELEVES!$Y$14:$AE$600,3,FALSE),0)","v":0},{"$f":"IFERROR(VLOOKUP(RU32,MATCHSELEVES!$Y$14:$AE$600,4,FALSE),0)","v":0},{"$f":"IFERROR(VLOOKUP(RU32,MATCHSELEVES!$Y$14:$AE$600,5,FALSE),0)","v":0},{"$f":"IFERROR(VLOOKUP(RU32,MATCHSELEVES!$Y$14:$AF$600,8,FALSE),0)","v":0},{"$f":"IFERROR(VLOOKUP(RU32,MATCHSELEVES!$Y$14:$AG$600,9,FALSE),0)","v":0},"Sarahp_40",{"$f":"IFERROR(VLOOKUP(SA32,MATCHSELEVES!$Y$14:$AE$600,3,FALSE),0)","v":0},{"$f":"IFERROR(VLOOKUP(SA32,MATCHSELEVES!$Y$14:$AE$600,4,FALSE),0)","v":0},{"$f":"IFERROR(VLOOKUP(SA32,MATCHSELEVES!$Y$14:$AE$600,5,FALSE),0)","v":0},{"$f":"IFERROR(VLOOKUP(SA32,MATCHSELEVES!$Y$14:$AF$600,8,FALSE),0)","v":0},{"$f":"IFERROR(VLOOKUP(SA32,MATCHSELEVES!$Y$14:$AG$600,9,FALSE),0)","v":0}]
[30,null,"Shayma",30,null,null,{"$f":"COUNTIF(MATCHSELEVES!$Z$14:$Z$600,C33)+COUNTIF(MATCHSELEVES!$Z$14:$Z$600,$C33&\"p\")","v":0},1,{"$f":"COUNTIF(MATCHSELEVES!$F$14:$H$249,C33)","v":0},1,0,1,{"$f":"IFERROR(M76/Tableau10[[#This Row],[Nombre de matchs joués]],0)","v":0},{"$f":"IF(Tableau10[[#This Row],[Nombre de points encaissés]]=0,$C$45,SUMPRODUCT((M$4:M$43<M33)*(M$4:M$43<>0))+1)","v":40},0,1,{"$f":"(Tableau10[[#This Row],[CLASSEMENT1]]+Tableau10[[#This Row],[CLASSEMENT2]]+Tableau10[[#This Row],[CLASSEMENT3]]+Tableau10[[#This Row],[CLASSEMENT4]]+Tableau10[[#This Row],[CLASSEMENT5]]+Tableau10[[#This Row],[CLASSEMENT6]])/6","v":12.333333333333334},{"$f":"RANK(Tableau10[[#This Row],[MOYENNE CLASSEMENTS]],Tableau10[MOYENNE CLASSEMENTS],1)","v":30},null,{"$f":"Tableau10[[#This Row],[CLASSEMENT1]]","v":30},"Shayma_1",{"$f":"IFERROR(VLOOKUP(U33,MATCHSELEVES!$Y$14:$AE$600,3,FALSE),0)","v":0},{"$f":"IFERROR(VLOOKUP(U33,MATCHSELEVES!$Y$14:$AE$600,4,FALSE),0)","v":0},{"$f":"IFERROR(VLOOKUP(U33,MATCHSELEVES!$Y$14:$AE$600,5,FALSE),0)","v":0},{"$f":"IFERROR(VLOOKUP(U33,MATCHSELEVES!$Y$14:$AF$600,8,FALSE),0)","v":0},{"$f":"IFERROR(VLOOKUP(U33,MATCHSELEVES!$Y$14:$AG$600,9,FALSE),0)","v":0},"Shayma_2",{"$f":"IFERROR(VLOOKUP(AA33,MATCHSELEVES!$Y$14:$AE$600,3,FALSE),0)","v":0},{"$f":"IFERROR(VLOOKUP(AA33,MATCHSELEVES!$Y$14:$AE$600,4,FALSE),0)","v":0},{"$f":"IFERROR(VLOOKUP(AA33,MATCHSELEVES!$Y$14:$AE$600,5,FALSE),0)","v":0},{"$f":"IFERROR(VLOOKUP(AA33,MATCHSELEVES!$Y$14:$AF$600,8,FALSE),0)","v":0},{"$f":"IFERROR(VLOOKUP(AA33,MATCHSELEVES!$Y$14:$AG$600,9,FALSE),0)","v":0},"Shayma_3",{"$f":"IFERROR(VLOOKUP(AG33,MATCHSELEVES!$Y$14:$AE$600,3,FALSE),0)","v":0},{"$f":"IFERROR(VLOOKUP(AG33,MATCHSELEVES!$Y$14:$AE$600,4,FALSE),0)","v":0},{"$f":"IFERROR(VLOOKUP(AG33,MATCHSELEVES!$Y$14:$AE$600,5,FALSE),0)","v":0},{"$f":"IFERROR(VLOOKUP(AG33,MATCHSELEVES!$Y$14:$AF$600,8,FALSE),0)","v":0},{"$f":"IFERROR(VLOOKUP(AG33,MATCHSELEVES!$Y$14:$AG$600,9,FALSE),0)","v":0},"Shayma_4",{"$f":"IFERROR(VLOOKUP(AM33,MATCHSELEVES!$Y$14:$AE$600,3,FALSE),0)","v":0},{"$f":"IFERROR(VLOOKUP(AM33,MATCHSELEVES!$Y$14:$AE$600,4,FALSE),0)","v":0},{"$f":"IFERROR(VLOOKUP(AM33,MATCHSELEVES!$Y$14:$AE$600,5,FALSE),0)","v":0},{"$f":"IFERROR(VLOOKUP(AM33,MATCHSELEVES!$Y$14:$AF$600,8,FALSE),0)","v":0},{"$f":"IFERROR(VLOOKUP(AM33,MATCHSELEVES!$Y$14:$AG$600,9,FALSE),0)","v":0},"Shayma_5",{"$f":"IFERROR(VLOOKUP(AS33,MATCHSELEVES!$Y$14:$AE$600,3,FALSE),0)","v":0},{"$f":"IFERROR(VLOOKUP(AS33,MATCHSELEVES!$Y$14:$AE$600,4,FALSE),0)","v":0},{"$f":"IFERROR(VLOOKUP(AS33,MATCHSELEVES!$Y$14:$AE$600,5,FALSE),0)","v":0},{"$f":"IFERROR(VLOOKUP(AS33,MATCHSELEVES!$Y$14:$AF$600,8,FALSE),0)","v":0},{"$f":"IFERROR(VLOOKUP(AS33,MATCHSELEVES!$Y$14:$AG$600,9,FALSE),0)","v":0},"Shayma_6",{"$f":"IFERROR(VLOOKUP(AY33,MATCHSELEVES!$Y$14:$AE$600,3,FALSE),0)","v":0},{"$f":"IFERROR(VLOOKUP(AY33,MATCHSELEVES!$Y$14:$AE$600,4,FALSE),0)","v":0},{"$f":"IFERROR(VLOOKUP(AY33,MATCHSELEVES!$Y$14:$AE$600,5,FALSE),0)","v":0},{"$f":"IFERROR(VLOOKUP(AY33,MATCHSELEVES!$Y$14:$AF$600,8,FALSE),0)","v":0},{"$f":"IFERROR(VLOOKUP(AY33,MATCHSELEVES!$Y$14:$AG$600,9,FALSE),0)","v":0},"Shayma_7",{"$f":"IFERROR(VLOOKUP(BE33,MATCHSELEVES!$Y$14:$AE$600,3,FALSE),0)","v":0},{"$f":"IFERROR(VLOOKUP(BE33,MATCHSELEVES!$Y$14:$AE$600,4,FALSE),0)","v":0},{"$f":"IFERROR(VLOOKUP(BE33,MATCHSELEVES!$Y$14:$AE$600,5,FALSE),0)","v":0},{"$f":"IFERROR(VLOOKUP(BE33,MATCHSELEVES!$Y$14:$AF$600,8,FALSE),0)","v":0},{"$f":"IFERROR(VLOOKUP(BE33,MATCHSELEVES!$Y$14:$AG$600,9,FALSE),0)","v":0},"Shayma_8",{"$f":"IFERROR(VLOOKUP(BK33,MATCHSELEVES!$Y$14:$AE$600,3,FALSE),0)","v":0},{"$f":"IFERROR(VLOOKUP(BK33,MATCHSELEVES!$Y$14:$AE$600,4,FALSE),0)","v":0},{"$f":"IFERROR(VLOOKUP(BK33,MATCHSELEVES!$Y$14:$AE$600,5,FALSE),0)","v":0},{"$f":"IFERROR(VLOOKUP(BK33,MATCHSELEVES!$Y$14:$AF$600,8,FALSE),0)","v":0},{"$f":"IFERROR(VLOOKUP(BK33,MATCHSELEVES!$Y$14:$AG$600,9,FALSE),0)","v":0},"Shayma_9",{"$f":"IFERROR(VLOOKUP(BQ33,MATCHSELEVES!$Y$14:$AE$600,3,FALSE),0)","v":0},{"$f":"IFERROR(VLOOKUP(BQ33,MATCHSELEVES!$Y$14:$AE$600,4,FALSE),0)","v":0},{"$f":"IFERROR(VLOOKUP(BQ33,MATCHSELEVES!$Y$14:$AE$600,5,FALSE),0)","v":0},{"$f":"IFERROR(VLOOKUP(BQ33,MATCHSELEVES!$Y$14:$AF$600,8,FALSE),0)","v":0},{"$f":"IFERROR(VLOOKUP(BQ33,MATCHSELEVES!$Y$14:$AG$600,9,FALSE),0)","v":0},"Shayma_10",{"$f":"IFERROR(VLOOKUP(BW33,MATCHSELEVES!$Y$14:$AE$600,3,FALSE),0)","v":0},{"$f":"IFERROR(VLOOKUP(BW33,MATCHSELEVES!$Y$14:$AE$600,4,FALSE),0)","v":0},{"$f":"IFERROR(VLOOKUP(BW33,MATCHSELEVES!$Y$14:$AE$600,5,FALSE),0)","v":0},{"$f":"IFERROR(VLOOKUP(BW33,MATCHSELEVES!$Y$14:$AF$600,8,FALSE),0)","v":0},{"$f":"IFERROR(VLOOKUP(BW33,MATCHSELEVES!$Y$14:$AG$600,9,FALSE),0)","v":0},"Shayma_11",{"$f":"IFERROR(VLOOKUP(CC33,MATCHSELEVES!$Y$14:$AE$600,3,FALSE),0)","v":0},{"$f":"IFERROR(VLOOKUP(CC33,MATCHSELEVES!$Y$14:$AE$600,4,FALSE),0)","v":0},{"$f":"IFERROR(VLOOKUP(CC33,MATCHSELEVES!$Y$14:$AE$600,5,FALSE),0)","v":0},{"$f":"IFERROR(VLOOKUP(CC33,MATCHSELEVES!$Y$14:$AF$600,8,FALSE),0)","v":0},{"$f":"IFERROR(VLOOKUP(CC33,MATCHSELEVES!$Y$14:$AG$600,9,FALSE),0)","v":0},"Shayma_12",{"$f":"IFERROR(VLOOKUP(CI33,MATCHSELEVES!$Y$14:$AE$600,3,FALSE),0)","v":0},{"$f":"IFERROR(VLOOKUP(CI33,MATCHSELEVES!$Y$14:$AE$600,4,FALSE),0)","v":0},{"$f":"IFERROR(VLOOKUP(CI33,MATCHSELEVES!$Y$14:$AE$600,5,FALSE),0)","v":0},{"$f":"IFERROR(VLOOKUP(CI33,MATCHSELEVES!$Y$14:$AF$600,8,FALSE),0)","v":0},{"$f":"IFERROR(VLOOKUP(CI33,MATCHSELEVES!$Y$14:$AG$600,9,FALSE),0)","v":0},"Shayma_13",{"$f":"IFERROR(VLOOKUP(CO33,MATCHSELEVES!$Y$14:$AE$600,3,FALSE),0)","v":0},{"$f":"IFERROR(VLOOKUP(CO33,MATCHSELEVES!$Y$14:$AE$600,4,FALSE),0)","v":0},{"$f":"IFERROR(VLOOKUP(CO33,MATCHSELEVES!$Y$14:$AE$600,5,FALSE),0)","v":0},{"$f":"IFERROR(VLOOKUP(CO33,MATCHSELEVES!$Y$14:$AF$600,8,FALSE),0)","v":0},{"$f":"IFERROR(VLOOKUP(CO33,MATCHSELEVES!$Y$14:$AG$600,9,FALSE),0)","v":0},"Shayma_14",{"$f":"IFERROR(VLOOKUP(CU33,MATCHSELEVES!$Y$14:$AE$600,3,FALSE),0)","v":0},{"$f":"IFERROR(VLOOKUP(CU33,MATCHSELEVES!$Y$14:$AE$600,4,FALSE),0)","v":0},{"$f":"IFERROR(VLOOKUP(CU33,MATCHSELEVES!$Y$14:$AE$600,5,FALSE),0)","v":0},{"$f":"IFERROR(VLOOKUP(CU33,MATCHSELEVES!$Y$14:$AF$600,8,FALSE),0)","v":0},{"$f":"IFERROR(VLOOKUP(CU33,MATCHSELEVES!$Y$14:$AG$600,9,FALSE),0)","v":0},"Shayma_15",{"$f":"IFERROR(VLOOKUP(DA33,MATCHSELEVES!$Y$14:$AE$600,3,FALSE),0)","v":0},{"$f":"IFERROR(VLOOKUP(DA33,MATCHSELEVES!$Y$14:$AE$600,4,FALSE),0)","v":0},{"$f":"IFERROR(VLOOKUP(DA33,MATCHSELEVES!$Y$14:$AE$600,5,FALSE),0)","v":0},{"$f":"IFERROR(VLOOKUP(DA33,MATCHSELEVES!$Y$14:$AF$600,8,FALSE),0)","v":0},{"$f":"IFERROR(VLOOKUP(DA33,MATCHSELEVES!$Y$14:$AG$600,9,FALSE),0)","v":0},"Shayma_16",{"$f":"IFERROR(VLOOKUP(DG33,MATCHSELEVES!$Y$14:$AE$600,3,FALSE),0)","v":0},{"$f":"IFERROR(VLOOKUP(DG33,MATCHSELEVES!$Y$14:$AE$600,4,FALSE),0)","v":0},{"$f":"IFERROR(VLOOKUP(DG33,MATCHSELEVES!$Y$14:$AE$600,5,FALSE),0)","v":0},{"$f":"IFERROR(VLOOKUP(DG33,MATCHSELEVES!$Y$14:$AF$600,8,FALSE),0)","v":0},{"$f":"IFERROR(VLOOKUP(DG33,MATCHSELEVES!$Y$14:$AG$600,9,FALSE),0)","v":0},"Shayma_17",{"$f":"IFERROR(VLOOKUP(DM33,MATCHSELEVES!$Y$14:$AE$600,3,FALSE),0)","v":0},{"$f":"IFERROR(VLOOKUP(DM33,MATCHSELEVES!$Y$14:$AE$600,4,FALSE),0)","v":0},{"$f":"IFERROR(VLOOKUP(DM33,MATCHSELEVES!$Y$14:$AE$600,5,FALSE),0)","v":0},{"$f":"IFERROR(VLOOKUP(DM33,MATCHSELEVES!$Y$14:$AF$600,8,FALSE),0)","v":0},{"$f":"IFERROR(VLOOKUP(DM33,MATCHSELEVES!$Y$14:$AG$600,9,FALSE),0)","v":0},"Shayma_18",{"$f":"IFERROR(VLOOKUP(DS33,MATCHSELEVES!$Y$14:$AE$600,3,FALSE),0)","v":0},{"$f":"IFERROR(VLOOKUP(DS33,MATCHSELEVES!$Y$14:$AE$600,4,FALSE),0)","v":0},{"$f":"IFERROR(VLOOKUP(DS33,MATCHSELEVES!$Y$14:$AE$600,5,FALSE),0)","v":0},{"$f":"IFERROR(VLOOKUP(DS33,MATCHSELEVES!$Y$14:$AF$600,8,FALSE),0)","v":0},{"$f":"IFERROR(VLOOKUP(DS33,MATCHSELEVES!$Y$14:$AG$600,9,FALSE),0)","v":0},"Shayma_19",{"$f":"IFERROR(VLOOKUP(DY33,MATCHSELEVES!$Y$14:$AE$600,3,FALSE),0)","v":0},{"$f":"IFERROR(VLOOKUP(DY33,MATCHSELEVES!$Y$14:$AE$600,4,FALSE),0)","v":0},{"$f":"IFERROR(VLOOKUP(DY33,MATCHSELEVES!$Y$14:$AE$600,5,FALSE),0)","v":0},{"$f":"IFERROR(VLOOKUP(DY33,MATCHSELEVES!$Y$14:$AF$600,8,FALSE),0)","v":0},{"$f":"IFERROR(VLOOKUP(DY33,MATCHSELEVES!$Y$14:$AG$600,9,FALSE),0)","v":0},"Shayma_20",{"$f":"IFERROR(VLOOKUP(EE33,MATCHSELEVES!$Y$14:$AE$600,3,FALSE),0)","v":0},{"$f":"IFERROR(VLOOKUP(EE33,MATCHSELEVES!$Y$14:$AE$600,4,FALSE),0)","v":0},{"$f":"IFERROR(VLOOKUP(EE33,MATCHSELEVES!$Y$14:$AE$600,5,FALSE),0)","v":0},{"$f":"IFERROR(VLOOKUP(EE33,MATCHSELEVES!$Y$14:$AF$600,8,FALSE),0)","v":0},{"$f":"IFERROR(VLOOKUP(EE33,MATCHSELEVES!$Y$14:$AG$600,9,FALSE),0)","v":0},"Shayma_21",{"$f":"IFERROR(VLOOKUP(EK33,MATCHSELEVES!$Y$14:$AE$600,3,FALSE),0)","v":0},{"$f":"IFERROR(VLOOKUP(EK33,MATCHSELEVES!$Y$14:$AE$600,4,FALSE),0)","v":0},{"$f":"IFERROR(VLOOKUP(EK33,MATCHSELEVES!$Y$14:$AE$600,5,FALSE),0)","v":0},{"$f":"IFERROR(VLOOKUP(EK33,MATCHSELEVES!$Y$14:$AF$600,8,FALSE),0)","v":0},{"$f":"IFERROR(VLOOKUP(EK33,MATCHSELEVES!$Y$14:$AG$600,9,FALSE),0)","v":0},"Shayma_22",{"$f":"IFERROR(VLOOKUP(EQ33,MATCHSELEVES!$Y$14:$AE$600,3,FALSE),0)","v":0},{"$f":"IFERROR(VLOOKUP(EQ33,MATCHSELEVES!$Y$14:$AE$600,4,FALSE),0)","v":0},{"$f":"IFERROR(VLOOKUP(EQ33,MATCHSELEVES!$Y$14:$AE$600,5,FALSE),0)","v":0},{"$f":"IFERROR(VLOOKUP(EQ33,MATCHSELEVES!$Y$14:$AF$600,8,FALSE),0)","v":0},{"$f":"IFERROR(VLOOKUP(EQ33,MATCHSELEVES!$Y$14:$AG$600,9,FALSE),0)","v":0},"Shayma_23",{"$f":"IFERROR(VLOOKUP(EW33,MATCHSELEVES!$Y$14:$AE$600,3,FALSE),0)","v":0},{"$f":"IFERROR(VLOOKUP(EW33,MATCHSELEVES!$Y$14:$AE$600,4,FALSE),0)","v":0},{"$f":"IFERROR(VLOOKUP(EW33,MATCHSELEVES!$Y$14:$AE$600,5,FALSE),0)","v":0},{"$f":"IFERROR(VLOOKUP(EW33,MATCHSELEVES!$Y$14:$AF$600,8,FALSE),0)","v":0},{"$f":"IFERROR(VLOOKUP(EW33,MATCHSELEVES!$Y$14:$AG$600,9,FALSE),0)","v":0},"Shayma_24",{"$f":"IFERROR(VLOOKUP(FC33,MATCHSELEVES!$Y$14:$AE$600,3,FALSE),0)","v":0},{"$f":"IFERROR(VLOOKUP(FC33,MATCHSELEVES!$Y$14:$AE$600,4,FALSE),0)","v":0},{"$f":"IFERROR(VLOOKUP(FC33,MATCHSELEVES!$Y$14:$AE$600,5,FALSE),0)","v":0},{"$f":"IFERROR(VLOOKUP(FC33,MATCHSELEVES!$Y$14:$AF$600,8,FALSE),0)","v":0},{"$f":"IFERROR(VLOOKUP(FC33,MATCHSELEVES!$Y$14:$AG$600,9,FALSE),0)","v":0},"Shayma_25",{"$f":"IFERROR(VLOOKUP(FI33,MATCHSELEVES!$Y$14:$AE$600,3,FALSE),0)","v":0},{"$f":"IFERROR(VLOOKUP(FI33,MATCHSELEVES!$Y$14:$AE$600,4,FALSE),0)","v":0},{"$f":"IFERROR(VLOOKUP(FI33,MATCHSELEVES!$Y$14:$AE$600,5,FALSE),0)","v":0},{"$f":"IFERROR(VLOOKUP(FI33,MATCHSELEVES!$Y$14:$AF$600,8,FALSE),0)","v":0},{"$f":"IFERROR(VLOOKUP(FI33,MATCHSELEVES!$Y$14:$AG$600,9,FALSE),0)","v":0},"Shayma_26",{"$f":"IFERROR(VLOOKUP(FO33,MATCHSELEVES!$Y$14:$AE$600,3,FALSE),0)","v":0},{"$f":"IFERROR(VLOOKUP(FO33,MATCHSELEVES!$Y$14:$AE$600,4,FALSE),0)","v":0},{"$f":"IFERROR(VLOOKUP(FO33,MATCHSELEVES!$Y$14:$AE$600,5,FALSE),0)","v":0},{"$f":"IFERROR(VLOOKUP(FO33,MATCHSELEVES!$Y$14:$AF$600,8,FALSE),0)","v":0},{"$f":"IFERROR(VLOOKUP(FO33,MATCHSELEVES!$Y$14:$AG$600,9,FALSE),0)","v":0},"Shayma_27",{"$f":"IFERROR(VLOOKUP(FU33,MATCHSELEVES!$Y$14:$AE$600,3,FALSE),0)","v":0},{"$f":"IFERROR(VLOOKUP(FU33,MATCHSELEVES!$Y$14:$AE$600,4,FALSE),0)","v":0},{"$f":"IFERROR(VLOOKUP(FU33,MATCHSELEVES!$Y$14:$AE$600,5,FALSE),0)","v":0},{"$f":"IFERROR(VLOOKUP(FU33,MATCHSELEVES!$Y$14:$AF$600,8,FALSE),0)","v":0},{"$f":"IFERROR(VLOOKUP(FU33,MATCHSELEVES!$Y$14:$AG$600,9,FALSE),0)","v":0},"Shayma_28",{"$f":"IFERROR(VLOOKUP(GA33,MATCHSELEVES!$Y$14:$AE$600,3,FALSE),0)","v":0},{"$f":"IFERROR(VLOOKUP(GA33,MATCHSELEVES!$Y$14:$AE$600,4,FALSE),0)","v":0},{"$f":"IFERROR(VLOOKUP(GA33,MATCHSELEVES!$Y$14:$AE$600,5,FALSE),0)","v":0},{"$f":"IFERROR(VLOOKUP(GA33,MATCHSELEVES!$Y$14:$AF$600,8,FALSE),0)","v":0},{"$f":"IFERROR(VLOOKUP(GA33,MATCHSELEVES!$Y$14:$AG$600,9,FALSE),0)","v":0},"Shayma_29",{"$f":"IFERROR(VLOOKUP(GG33,MATCHSELEVES!$Y$14:$AE$600,3,FALSE),0)","v":0},{"$f":"IFERROR(VLOOKUP(GG33,MATCHSELEVES!$Y$14:$AE$600,4,FALSE),0)","v":0},{"$f":"IFERROR(VLOOKUP(GG33,MATCHSELEVES!$Y$14:$AE$600,5,FALSE),0)","v":0},{"$f":"IFERROR(VLOOKUP(GG33,MATCHSELEVES!$Y$14:$AF$600,8,FALSE),0)","v":0},{"$f":"IFERROR(VLOOKUP(GG33,MATCHSELEVES!$Y$14:$AG$600,9,FALSE),0)","v":0},"Shayma_30",{"$f":"IFERROR(VLOOKUP(GM33,MATCHSELEVES!$Y$14:$AE$600,3,FALSE),0)","v":0},{"$f":"IFERROR(VLOOKUP(GM33,MATCHSELEVES!$Y$14:$AE$600,4,FALSE),0)","v":0},{"$f":"IFERROR(VLOOKUP(GM33,MATCHSELEVES!$Y$14:$AE$600,5,FALSE),0)","v":0},{"$f":"IFERROR(VLOOKUP(GM33,MATCHSELEVES!$Y$14:$AF$600,8,FALSE),0)","v":0},{"$f":"IFERROR(VLOOKUP(GM33,MATCHSELEVES!$Y$14:$AG$600,9,FALSE),0)","v":0},"Shayma_31",{"$f":"IFERROR(VLOOKUP(GS33,MATCHSELEVES!$Y$14:$AE$600,3,FALSE),0)","v":0},{"$f":"IFERROR(VLOOKUP(GS33,MATCHSELEVES!$Y$14:$AE$600,4,FALSE),0)","v":0},{"$f":"IFERROR(VLOOKUP(GS33,MATCHSELEVES!$Y$14:$AE$600,5,FALSE),0)","v":0},{"$f":"IFERROR(VLOOKUP(GS33,MATCHSELEVES!$Y$14:$AF$600,8,FALSE),0)","v":0},{"$f":"IFERROR(VLOOKUP(GS33,MATCHSELEVES!$Y$14:$AG$600,9,FALSE),0)","v":0},"Shayma_32",{"$f":"IFERROR(VLOOKUP(GY33,MATCHSELEVES!$Y$14:$AE$600,3,FALSE),0)","v":0},{"$f":"IFERROR(VLOOKUP(GY33,MATCHSELEVES!$Y$14:$AE$600,4,FALSE),0)","v":0},{"$f":"IFERROR(VLOOKUP(GY33,MATCHSELEVES!$Y$14:$AE$600,5,FALSE),0)","v":0},{"$f":"IFERROR(VLOOKUP(GY33,MATCHSELEVES!$Y$14:$AF$600,8,FALSE),0)","v":0},{"$f":"IFERROR(VLOOKUP(GY33,MATCHSELEVES!$Y$14:$AG$600,9,FALSE),0)","v":0},"Shayma_33",{"$f":"IFERROR(VLOOKUP(HE33,MATCHSELEVES!$Y$14:$AE$600,3,FALSE),0)","v":0},{"$f":"IFERROR(VLOOKUP(HE33,MATCHSELEVES!$Y$14:$AE$600,4,FALSE),0)","v":0},{"$f":"IFERROR(VLOOKUP(HE33,MATCHSELEVES!$Y$14:$AE$600,5,FALSE),0)","v":0},{"$f":"IFERROR(VLOOKUP(HE33,MATCHSELEVES!$Y$14:$AF$600,8,FALSE),0)","v":0},{"$f":"IFERROR(VLOOKUP(HE33,MATCHSELEVES!$Y$14:$AG$600,9,FALSE),0)","v":0},"Shayma_34",{"$f":"IFERROR(VLOOKUP(HK33,MATCHSELEVES!$Y$14:$AE$600,3,FALSE),0)","v":0},{"$f":"IFERROR(VLOOKUP(HK33,MATCHSELEVES!$Y$14:$AE$600,4,FALSE),0)","v":0},{"$f":"IFERROR(VLOOKUP(HK33,MATCHSELEVES!$Y$14:$AE$600,5,FALSE),0)","v":0},{"$f":"IFERROR(VLOOKUP(HK33,MATCHSELEVES!$Y$14:$AF$600,8,FALSE),0)","v":0},{"$f":"IFERROR(VLOOKUP(HK33,MATCHSELEVES!$Y$14:$AG$600,9,FALSE),0)","v":0},"Shayma_35",{"$f":"IFERROR(VLOOKUP(HQ33,MATCHSELEVES!$Y$14:$AE$600,3,FALSE),0)","v":0},{"$f":"IFERROR(VLOOKUP(HQ33,MATCHSELEVES!$Y$14:$AE$600,4,FALSE),0)","v":0},{"$f":"IFERROR(VLOOKUP(HQ33,MATCHSELEVES!$Y$14:$AE$600,5,FALSE),0)","v":0},{"$f":"IFERROR(VLOOKUP(HQ33,MATCHSELEVES!$Y$14:$AF$600,8,FALSE),0)","v":0},{"$f":"IFERROR(VLOOKUP(HQ33,MATCHSELEVES!$Y$14:$AG$600,9,FALSE),0)","v":0},"Shayma_36",{"$f":"IFERROR(VLOOKUP(HW33,MATCHSELEVES!$Y$14:$AE$600,3,FALSE),0)","v":0},{"$f":"IFERROR(VLOOKUP(HW33,MATCHSELEVES!$Y$14:$AE$600,4,FALSE),0)","v":0},{"$f":"IFERROR(VLOOKUP(HW33,MATCHSELEVES!$Y$14:$AE$600,5,FALSE),0)","v":0},{"$f":"IFERROR(VLOOKUP(HW33,MATCHSELEVES!$Y$14:$AF$600,8,FALSE),0)","v":0},{"$f":"IFERROR(VLOOKUP(HW33,MATCHSELEVES!$Y$14:$AG$600,9,FALSE),0)","v":0},"Shayma_37",{"$f":"IFERROR(VLOOKUP(IC33,MATCHSELEVES!$Y$14:$AE$600,3,FALSE),0)","v":0},{"$f":"IFERROR(VLOOKUP(IC33,MATCHSELEVES!$Y$14:$AE$600,4,FALSE),0)","v":0},{"$f":"IFERROR(VLOOKUP(IC33,MATCHSELEVES!$Y$14:$AE$600,5,FALSE),0)","v":0},{"$f":"IFERROR(VLOOKUP(IC33,MATCHSELEVES!$Y$14:$AF$600,8,FALSE),0)","v":0},{"$f":"IFERROR(VLOOKUP(IC33,MATCHSELEVES!$Y$14:$AG$600,9,FALSE),0)","v":0},"Shayma_38",{"$f":"IFERROR(VLOOKUP(II33,MATCHSELEVES!$Y$14:$AE$600,3,FALSE),0)","v":0},{"$f":"IFERROR(VLOOKUP(II33,MATCHSELEVES!$Y$14:$AE$600,4,FALSE),0)","v":0},{"$f":"IFERROR(VLOOKUP(II33,MATCHSELEVES!$Y$14:$AE$600,5,FALSE),0)","v":0},{"$f":"IFERROR(VLOOKUP(II33,MATCHSELEVES!$Y$14:$AF$600,8,FALSE),0)","v":0},{"$f":"IFERROR(VLOOKUP(II33,MATCHSELEVES!$Y$14:$AG$600,9,FALSE),0)","v":0},"Shayma_39",{"$f":"IFERROR(VLOOKUP(IO33,MATCHSELEVES!$Y$14:$AE$600,3,FALSE),0)","v":0},{"$f":"IFERROR(VLOOKUP(IO33,MATCHSELEVES!$Y$14:$AE$600,4,FALSE),0)","v":0},{"$f":"IFERROR(VLOOKUP(IO33,MATCHSELEVES!$Y$14:$AE$600,5,FALSE),0)","v":0},{"$f":"IFERROR(VLOOKUP(IO33,MATCHSELEVES!$Y$14:$AF$600,8,FALSE),0)","v":0},{"$f":"IFERROR(VLOOKUP(IO33,MATCHSELEVES!$Y$14:$AG$600,9,FALSE),0)","v":0},"Shayma_40",{"$f":"IFERROR(VLOOKUP(IU33,MATCHSELEVES!$Y$14:$AE$600,3,FALSE),0)","v":0},{"$f":"IFERROR(VLOOKUP(IU33,MATCHSELEVES!$Y$14:$AE$600,4,FALSE),0)","v":0},{"$f":"IFERROR(VLOOKUP(IU33,MATCHSELEVES!$Y$14:$AE$600,5,FALSE),0)","v":0},{"$f":"IFERROR(VLOOKUP(IU33,MATCHSELEVES!$Y$14:$AF$600,8,FALSE),0)","v":0},{"$f":"IFERROR(VLOOKUP(IU33,MATCHSELEVES!$Y$14:$AG$600,9,FALSE),0)","v":0},"Shaymap_1",{"$f":"IFERROR(VLOOKUP(JA33,MATCHSELEVES!$Y$14:$AE$600,3,FALSE),0)","v":0},{"$f":"IFERROR(VLOOKUP(JA33,MATCHSELEVES!$Y$14:$AE$600,4,FALSE),0)","v":0},{"$f":"IFERROR(VLOOKUP(JA33,MATCHSELEVES!$Y$14:$AE$600,5,FALSE),0)","v":0},{"$f":"IFERROR(VLOOKUP(JA33,MATCHSELEVES!$Y$14:$AF$600,8,FALSE),0)","v":0},{"$f":"IFERROR(VLOOKUP(JA33,MATCHSELEVES!$Y$14:$AG$600,9,FALSE),0)","v":0},"Shaymap_2",{"$f":"IFERROR(VLOOKUP(JG33,MATCHSELEVES!$Y$14:$AE$600,3,FALSE),0)","v":0},{"$f":"IFERROR(VLOOKUP(JG33,MATCHSELEVES!$Y$14:$AE$600,4,FALSE),0)","v":0},{"$f":"IFERROR(VLOOKUP(JG33,MATCHSELEVES!$Y$14:$AE$600,5,FALSE),0)","v":0},{"$f":"IFERROR(VLOOKUP(JG33,MATCHSELEVES!$Y$14:$AF$600,8,FALSE),0)","v":0},{"$f":"IFERROR(VLOOKUP(JG33,MATCHSELEVES!$Y$14:$AG$600,9,FALSE),0)","v":0},"Shaymap_3",{"$f":"IFERROR(VLOOKUP(JM33,MATCHSELEVES!$Y$14:$AE$600,3,FALSE),0)","v":0},{"$f":"IFERROR(VLOOKUP(JM33,MATCHSELEVES!$Y$14:$AE$600,4,FALSE),0)","v":0},{"$f":"IFERROR(VLOOKUP(JM33,MATCHSELEVES!$Y$14:$AE$600,5,FALSE),0)","v":0},{"$f":"IFERROR(VLOOKUP(JM33,MATCHSELEVES!$Y$14:$AF$600,8,FALSE),0)","v":0},{"$f":"IFERROR(VLOOKUP(JM33,MATCHSELEVES!$Y$14:$AG$600,9,FALSE),0)","v":0},"Shaymap_4",{"$f":"IFERROR(VLOOKUP(JS33,MATCHSELEVES!$Y$14:$AE$600,3,FALSE),0)","v":0},{"$f":"IFERROR(VLOOKUP(JS33,MATCHSELEVES!$Y$14:$AE$600,4,FALSE),0)","v":0},{"$f":"IFERROR(VLOOKUP(JS33,MATCHSELEVES!$Y$14:$AE$600,5,FALSE),0)","v":0},{"$f":"IFERROR(VLOOKUP(JS33,MATCHSELEVES!$Y$14:$AF$600,8,FALSE),0)","v":0},{"$f":"IFERROR(VLOOKUP(JS33,MATCHSELEVES!$Y$14:$AG$600,9,FALSE),0)","v":0},"Shaymap_5",{"$f":"IFERROR(VLOOKUP(JY33,MATCHSELEVES!$Y$14:$AE$600,3,FALSE),0)","v":0},{"$f":"IFERROR(VLOOKUP(JY33,MATCHSELEVES!$Y$14:$AE$600,4,FALSE),0)","v":0},{"$f":"IFERROR(VLOOKUP(JY33,MATCHSELEVES!$Y$14:$AE$600,5,FALSE),0)","v":0},{"$f":"IFERROR(VLOOKUP(JY33,MATCHSELEVES!$Y$14:$AF$600,8,FALSE),0)","v":0},{"$f":"IFERROR(VLOOKUP(JY33,MATCHSELEVES!$Y$14:$AG$600,9,FALSE),0)","v":0},"Shaymap_6",{"$f":"IFERROR(VLOOKUP(KE33,MATCHSELEVES!$Y$14:$AE$600,3,FALSE),0)","v":0},{"$f":"IFERROR(VLOOKUP(KE33,MATCHSELEVES!$Y$14:$AE$600,4,FALSE),0)","v":0},{"$f":"IFERROR(VLOOKUP(KE33,MATCHSELEVES!$Y$14:$AE$600,5,FALSE),0)","v":0},{"$f":"IFERROR(VLOOKUP(KE33,MATCHSELEVES!$Y$14:$AF$600,8,FALSE),0)","v":0},{"$f":"IFERROR(VLOOKUP(KE33,MATCHSELEVES!$Y$14:$AG$600,9,FALSE),0)","v":0},"Shaymap_7",{"$f":"IFERROR(VLOOKUP(KK33,MATCHSELEVES!$Y$14:$AE$600,3,FALSE),0)","v":0},{"$f":"IFERROR(VLOOKUP(KK33,MATCHSELEVES!$Y$14:$AE$600,4,FALSE),0)","v":0},{"$f":"IFERROR(VLOOKUP(KK33,MATCHSELEVES!$Y$14:$AE$600,5,FALSE),0)","v":0},{"$f":"IFERROR(VLOOKUP(KK33,MATCHSELEVES!$Y$14:$AF$600,8,FALSE),0)","v":0},{"$f":"IFERROR(VLOOKUP(KK33,MATCHSELEVES!$Y$14:$AG$600,9,FALSE),0)","v":0},"Shaymap_8",{"$f":"IFERROR(VLOOKUP(KQ33,MATCHSELEVES!$Y$14:$AE$600,3,FALSE),0)","v":0},{"$f":"IFERROR(VLOOKUP(KQ33,MATCHSELEVES!$Y$14:$AE$600,4,FALSE),0)","v":0},{"$f":"IFERROR(VLOOKUP(KQ33,MATCHSELEVES!$Y$14:$AE$600,5,FALSE),0)","v":0},{"$f":"IFERROR(VLOOKUP(KQ33,MATCHSELEVES!$Y$14:$AF$600,8,FALSE),0)","v":0},{"$f":"IFERROR(VLOOKUP(KQ33,MATCHSELEVES!$Y$14:$AG$600,9,FALSE),0)","v":0},"Shaymap_9",{"$f":"IFERROR(VLOOKUP(KW33,MATCHSELEVES!$Y$14:$AE$600,3,FALSE),0)","v":0},{"$f":"IFERROR(VLOOKUP(KW33,MATCHSELEVES!$Y$14:$AE$600,4,FALSE),0)","v":0},{"$f":"IFERROR(VLOOKUP(KW33,MATCHSELEVES!$Y$14:$AE$600,5,FALSE),0)","v":0},{"$f":"IFERROR(VLOOKUP(KW33,MATCHSELEVES!$Y$14:$AF$600,8,FALSE),0)","v":0},{"$f":"IFERROR(VLOOKUP(KW33,MATCHSELEVES!$Y$14:$AG$600,9,FALSE),0)","v":0},"Shaymap_10",{"$f":"IFERROR(VLOOKUP(LC33,MATCHSELEVES!$Y$14:$AE$600,3,FALSE),0)","v":0},{"$f":"IFERROR(VLOOKUP(LC33,MATCHSELEVES!$Y$14:$AE$600,4,FALSE),0)","v":0},{"$f":"IFERROR(VLOOKUP(LC33,MATCHSELEVES!$Y$14:$AE$600,5,FALSE),0)","v":0},{"$f":"IFERROR(VLOOKUP(LC33,MATCHSELEVES!$Y$14:$AF$600,8,FALSE),0)","v":0},{"$f":"IFERROR(VLOOKUP(LC33,MATCHSELEVES!$Y$14:$AG$600,9,FALSE),0)","v":0},"Shaymap_11",{"$f":"IFERROR(VLOOKUP(LI33,MATCHSELEVES!$Y$14:$AE$600,3,FALSE),0)","v":0},{"$f":"IFERROR(VLOOKUP(LI33,MATCHSELEVES!$Y$14:$AE$600,4,FALSE),0)","v":0},{"$f":"IFERROR(VLOOKUP(LI33,MATCHSELEVES!$Y$14:$AE$600,5,FALSE),0)","v":0},{"$f":"IFERROR(VLOOKUP(LI33,MATCHSELEVES!$Y$14:$AF$600,8,FALSE),0)","v":0},{"$f":"IFERROR(VLOOKUP(LI33,MATCHSELEVES!$Y$14:$AG$600,9,FALSE),0)","v":0},"Shaymap_12",{"$f":"IFERROR(VLOOKUP(LO33,MATCHSELEVES!$Y$14:$AE$600,3,FALSE),0)","v":0},{"$f":"IFERROR(VLOOKUP(LO33,MATCHSELEVES!$Y$14:$AE$600,4,FALSE),0)","v":0},{"$f":"IFERROR(VLOOKUP(LO33,MATCHSELEVES!$Y$14:$AE$600,5,FALSE),0)","v":0},{"$f":"IFERROR(VLOOKUP(LO33,MATCHSELEVES!$Y$14:$AF$600,8,FALSE),0)","v":0},{"$f":"IFERROR(VLOOKUP(LO33,MATCHSELEVES!$Y$14:$AG$600,9,FALSE),0)","v":0},"Shaymap_13",{"$f":"IFERROR(VLOOKUP(LU33,MATCHSELEVES!$Y$14:$AE$600,3,FALSE),0)","v":0},{"$f":"IFERROR(VLOOKUP(LU33,MATCHSELEVES!$Y$14:$AE$600,4,FALSE),0)","v":0},{"$f":"IFERROR(VLOOKUP(LU33,MATCHSELEVES!$Y$14:$AE$600,5,FALSE),0)","v":0},{"$f":"IFERROR(VLOOKUP(LU33,MATCHSELEVES!$Y$14:$AF$600,8,FALSE),0)","v":0},{"$f":"IFERROR(VLOOKUP(LU33,MATCHSELEVES!$Y$14:$AG$600,9,FALSE),0)","v":0},"Shaymap_14",{"$f":"IFERROR(VLOOKUP(MA33,MATCHSELEVES!$Y$14:$AE$600,3,FALSE),0)","v":0},{"$f":"IFERROR(VLOOKUP(MA33,MATCHSELEVES!$Y$14:$AE$600,4,FALSE),0)","v":0},{"$f":"IFERROR(VLOOKUP(MA33,MATCHSELEVES!$Y$14:$AE$600,5,FALSE),0)","v":0},{"$f":"IFERROR(VLOOKUP(MA33,MATCHSELEVES!$Y$14:$AF$600,8,FALSE),0)","v":0},{"$f":"IFERROR(VLOOKUP(MA33,MATCHSELEVES!$Y$14:$AG$600,9,FALSE),0)","v":0},"Shaymap_15",{"$f":"IFERROR(VLOOKUP(MG33,MATCHSELEVES!$Y$14:$AE$600,3,FALSE),0)","v":0},{"$f":"IFERROR(VLOOKUP(MG33,MATCHSELEVES!$Y$14:$AE$600,4,FALSE),0)","v":0},{"$f":"IFERROR(VLOOKUP(MG33,MATCHSELEVES!$Y$14:$AE$600,5,FALSE),0)","v":0},{"$f":"IFERROR(VLOOKUP(MG33,MATCHSELEVES!$Y$14:$AF$600,8,FALSE),0)","v":0},{"$f":"IFERROR(VLOOKUP(MG33,MATCHSELEVES!$Y$14:$AG$600,9,FALSE),0)","v":0},"Shaymap_16",{"$f":"IFERROR(VLOOKUP(MM33,MATCHSELEVES!$Y$14:$AE$600,3,FALSE),0)","v":0},{"$f":"IFERROR(VLOOKUP(MM33,MATCHSELEVES!$Y$14:$AE$600,4,FALSE),0)","v":0},{"$f":"IFERROR(VLOOKUP(MM33,MATCHSELEVES!$Y$14:$AE$600,5,FALSE),0)","v":0},{"$f":"IFERROR(VLOOKUP(MM33,MATCHSELEVES!$Y$14:$AF$600,8,FALSE),0)","v":0},{"$f":"IFERROR(VLOOKUP(MM33,MATCHSELEVES!$Y$14:$AG$600,9,FALSE),0)","v":0},"Shaymap_17",{"$f":"IFERROR(VLOOKUP(MS33,MATCHSELEVES!$Y$14:$AE$600,3,FALSE),0)","v":0},{"$f":"IFERROR(VLOOKUP(MS33,MATCHSELEVES!$Y$14:$AE$600,4,FALSE),0)","v":0},{"$f":"IFERROR(VLOOKUP(MS33,MATCHSELEVES!$Y$14:$AE$600,5,FALSE),0)","v":0},{"$f":"IFERROR(VLOOKUP(MS33,MATCHSELEVES!$Y$14:$AF$600,8,FALSE),0)","v":0},{"$f":"IFERROR(VLOOKUP(MS33,MATCHSELEVES!$Y$14:$AG$600,9,FALSE),0)","v":0},"Shaymap_18",{"$f":"IFERROR(VLOOKUP(MY33,MATCHSELEVES!$Y$14:$AE$600,3,FALSE),0)","v":0},{"$f":"IFERROR(VLOOKUP(MY33,MATCHSELEVES!$Y$14:$AE$600,4,FALSE),0)","v":0},{"$f":"IFERROR(VLOOKUP(MY33,MATCHSELEVES!$Y$14:$AE$600,5,FALSE),0)","v":0},{"$f":"IFERROR(VLOOKUP(MY33,MATCHSELEVES!$Y$14:$AF$600,8,FALSE),0)","v":0},{"$f":"IFERROR(VLOOKUP(MY33,MATCHSELEVES!$Y$14:$AG$600,9,FALSE),0)","v":0},"Shaymap_19",{"$f":"IFERROR(VLOOKUP(NE33,MATCHSELEVES!$Y$14:$AE$600,3,FALSE),0)","v":0},{"$f":"IFERROR(VLOOKUP(NE33,MATCHSELEVES!$Y$14:$AE$600,4,FALSE),0)","v":0},{"$f":"IFERROR(VLOOKUP(NE33,MATCHSELEVES!$Y$14:$AE$600,5,FALSE),0)","v":0},{"$f":"IFERROR(VLOOKUP(NE33,MATCHSELEVES!$Y$14:$AF$600,8,FALSE),0)","v":0},{"$f":"IFERROR(VLOOKUP(NE33,MATCHSELEVES!$Y$14:$AG$600,9,FALSE),0)","v":0},"Shaymap_20",{"$f":"IFERROR(VLOOKUP(NK33,MATCHSELEVES!$Y$14:$AE$600,3,FALSE),0)","v":0},{"$f":"IFERROR(VLOOKUP(NK33,MATCHSELEVES!$Y$14:$AE$600,4,FALSE),0)","v":0},{"$f":"IFERROR(VLOOKUP(NK33,MATCHSELEVES!$Y$14:$AE$600,5,FALSE),0)","v":0},{"$f":"IFERROR(VLOOKUP(NK33,MATCHSELEVES!$Y$14:$AF$600,8,FALSE),0)","v":0},{"$f":"IFERROR(VLOOKUP(NK33,MATCHSELEVES!$Y$14:$AG$600,9,FALSE),0)","v":0},"Shaymap_21",{"$f":"IFERROR(VLOOKUP(NQ33,MATCHSELEVES!$Y$14:$AE$600,3,FALSE),0)","v":0},{"$f":"IFERROR(VLOOKUP(NQ33,MATCHSELEVES!$Y$14:$AE$600,4,FALSE),0)","v":0},{"$f":"IFERROR(VLOOKUP(NQ33,MATCHSELEVES!$Y$14:$AE$600,5,FALSE),0)","v":0},{"$f":"IFERROR(VLOOKUP(NQ33,MATCHSELEVES!$Y$14:$AF$600,8,FALSE),0)","v":0},{"$f":"IFERROR(VLOOKUP(NQ33,MATCHSELEVES!$Y$14:$AG$600,9,FALSE),0)","v":0},"Shaymap_22",{"$f":"IFERROR(VLOOKUP(NW33,MATCHSELEVES!$Y$14:$AE$600,3,FALSE),0)","v":0},{"$f":"IFERROR(VLOOKUP(NW33,MATCHSELEVES!$Y$14:$AE$600,4,FALSE),0)","v":0},{"$f":"IFERROR(VLOOKUP(NW33,MATCHSELEVES!$Y$14:$AE$600,5,FALSE),0)","v":0},{"$f":"IFERROR(VLOOKUP(NW33,MATCHSELEVES!$Y$14:$AF$600,8,FALSE),0)","v":0},{"$f":"IFERROR(VLOOKUP(NW33,MATCHSELEVES!$Y$14:$AG$600,9,FALSE),0)","v":0},"Shaymap_23",{"$f":"IFERROR(VLOOKUP(OC33,MATCHSELEVES!$Y$14:$AE$600,3,FALSE),0)","v":0},{"$f":"IFERROR(VLOOKUP(OC33,MATCHSELEVES!$Y$14:$AE$600,4,FALSE),0)","v":0},{"$f":"IFERROR(VLOOKUP(OC33,MATCHSELEVES!$Y$14:$AE$600,5,FALSE),0)","v":0},{"$f":"IFERROR(VLOOKUP(OC33,MATCHSELEVES!$Y$14:$AF$600,8,FALSE),0)","v":0},{"$f":"IFERROR(VLOOKUP(OC33,MATCHSELEVES!$Y$14:$AG$600,9,FALSE),0)","v":0},"Shaymap_24",{"$f":"IFERROR(VLOOKUP(OI33,MATCHSELEVES!$Y$14:$AE$600,3,FALSE),0)","v":0},{"$f":"IFERROR(VLOOKUP(OI33,MATCHSELEVES!$Y$14:$AE$600,4,FALSE),0)","v":0},{"$f":"IFERROR(VLOOKUP(OI33,MATCHSELEVES!$Y$14:$AE$600,5,FALSE),0)","v":0},{"$f":"IFERROR(VLOOKUP(OI33,MATCHSELEVES!$Y$14:$AF$600,8,FALSE),0)","v":0},{"$f":"IFERROR(VLOOKUP(OI33,MATCHSELEVES!$Y$14:$AG$600,9,FALSE),0)","v":0},"Shaymap_25",{"$f":"IFERROR(VLOOKUP(OO33,MATCHSELEVES!$Y$14:$AE$600,3,FALSE),0)","v":0},{"$f":"IFERROR(VLOOKUP(OO33,MATCHSELEVES!$Y$14:$AE$600,4,FALSE),0)","v":0},{"$f":"IFERROR(VLOOKUP(OO33,MATCHSELEVES!$Y$14:$AE$600,5,FALSE),0)","v":0},{"$f":"IFERROR(VLOOKUP(OO33,MATCHSELEVES!$Y$14:$AF$600,8,FALSE),0)","v":0},{"$f":"IFERROR(VLOOKUP(OO33,MATCHSELEVES!$Y$14:$AG$600,9,FALSE),0)","v":0},"Shaymap_26",{"$f":"IFERROR(VLOOKUP(OU33,MATCHSELEVES!$Y$14:$AE$600,3,FALSE),0)","v":0},{"$f":"IFERROR(VLOOKUP(OU33,MATCHSELEVES!$Y$14:$AE$600,4,FALSE),0)","v":0},{"$f":"IFERROR(VLOOKUP(OU33,MATCHSELEVES!$Y$14:$AE$600,5,FALSE),0)","v":0},{"$f":"IFERROR(VLOOKUP(OU33,MATCHSELEVES!$Y$14:$AF$600,8,FALSE),0)","v":0},{"$f":"IFERROR(VLOOKUP(OU33,MATCHSELEVES!$Y$14:$AG$600,9,FALSE),0)","v":0},"Shaymap_27",{"$f":"IFERROR(VLOOKUP(PA33,MATCHSELEVES!$Y$14:$AE$600,3,FALSE),0)","v":0},{"$f":"IFERROR(VLOOKUP(PA33,MATCHSELEVES!$Y$14:$AE$600,4,FALSE),0)","v":0},{"$f":"IFERROR(VLOOKUP(PA33,MATCHSELEVES!$Y$14:$AE$600,5,FALSE),0)","v":0},{"$f":"IFERROR(VLOOKUP(PA33,MATCHSELEVES!$Y$14:$AF$600,8,FALSE),0)","v":0},{"$f":"IFERROR(VLOOKUP(PA33,MATCHSELEVES!$Y$14:$AG$600,9,FALSE),0)","v":0},"Shaymap_28",{"$f":"IFERROR(VLOOKUP(PG33,MATCHSELEVES!$Y$14:$AE$600,3,FALSE),0)","v":0},{"$f":"IFERROR(VLOOKUP(PG33,MATCHSELEVES!$Y$14:$AE$600,4,FALSE),0)","v":0},{"$f":"IFERROR(VLOOKUP(PG33,MATCHSELEVES!$Y$14:$AE$600,5,FALSE),0)","v":0},{"$f":"IFERROR(VLOOKUP(PG33,MATCHSELEVES!$Y$14:$AF$600,8,FALSE),0)","v":0},{"$f":"IFERROR(VLOOKUP(PG33,MATCHSELEVES!$Y$14:$AG$600,9,FALSE),0)","v":0},"Shaymap_29",{"$f":"IFERROR(VLOOKUP(PM33,MATCHSELEVES!$Y$14:$AE$600,3,FALSE),0)","v":0},{"$f":"IFERROR(VLOOKUP(PM33,MATCHSELEVES!$Y$14:$AE$600,4,FALSE),0)","v":0},{"$f":"IFERROR(VLOOKUP(PM33,MATCHSELEVES!$Y$14:$AE$600,5,FALSE),0)","v":0},{"$f":"IFERROR(VLOOKUP(PM33,MATCHSELEVES!$Y$14:$AF$600,8,FALSE),0)","v":0},{"$f":"IFERROR(VLOOKUP(PM33,MATCHSELEVES!$Y$14:$AG$600,9,FALSE),0)","v":0},"Shaymap_30",{"$f":"IFERROR(VLOOKUP(PS33,MATCHSELEVES!$Y$14:$AE$600,3,FALSE),0)","v":0},{"$f":"IFERROR(VLOOKUP(PS33,MATCHSELEVES!$Y$14:$AE$600,4,FALSE),0)","v":0},{"$f":"IFERROR(VLOOKUP(PS33,MATCHSELEVES!$Y$14:$AE$600,5,FALSE),0)","v":0},{"$f":"IFERROR(VLOOKUP(PS33,MATCHSELEVES!$Y$14:$AF$600,8,FALSE),0)","v":0},{"$f":"IFERROR(VLOOKUP(PS33,MATCHSELEVES!$Y$14:$AG$600,9,FALSE),0)","v":0},"Shaymap_31",{"$f":"IFERROR(VLOOKUP(PY33,MATCHSELEVES!$Y$14:$AE$600,3,FALSE),0)","v":0},{"$f":"IFERROR(VLOOKUP(PY33,MATCHSELEVES!$Y$14:$AE$600,4,FALSE),0)","v":0},{"$f":"IFERROR(VLOOKUP(PY33,MATCHSELEVES!$Y$14:$AE$600,5,FALSE),0)","v":0},{"$f":"IFERROR(VLOOKUP(PY33,MATCHSELEVES!$Y$14:$AF$600,8,FALSE),0)","v":0},{"$f":"IFERROR(VLOOKUP(PY33,MATCHSELEVES!$Y$14:$AG$600,9,FALSE),0)","v":0},"Shaymap_32",{"$f":"IFERROR(VLOOKUP(QE33,MATCHSELEVES!$Y$14:$AE$600,3,FALSE),0)","v":0},{"$f":"IFERROR(VLOOKUP(QE33,MATCHSELEVES!$Y$14:$AE$600,4,FALSE),0)","v":0},{"$f":"IFERROR(VLOOKUP(QE33,MATCHSELEVES!$Y$14:$AE$600,5,FALSE),0)","v":0},{"$f":"IFERROR(VLOOKUP(QE33,MATCHSELEVES!$Y$14:$AF$600,8,FALSE),0)","v":0},{"$f":"IFERROR(VLOOKUP(QE33,MATCHSELEVES!$Y$14:$AG$600,9,FALSE),0)","v":0},"Shaymap_33",{"$f":"IFERROR(VLOOKUP(QK33,MATCHSELEVES!$Y$14:$AE$600,3,FALSE),0)","v":0},{"$f":"IFERROR(VLOOKUP(QK33,MATCHSELEVES!$Y$14:$AE$600,4,FALSE),0)","v":0},{"$f":"IFERROR(VLOOKUP(QK33,MATCHSELEVES!$Y$14:$AE$600,5,FALSE),0)","v":0},{"$f":"IFERROR(VLOOKUP(QK33,MATCHSELEVES!$Y$14:$AF$600,8,FALSE),0)","v":0},{"$f":"IFERROR(VLOOKUP(QK33,MATCHSELEVES!$Y$14:$AG$600,9,FALSE),0)","v":0},"Shaymap_34",{"$f":"IFERROR(VLOOKUP(QQ33,MATCHSELEVES!$Y$14:$AE$600,3,FALSE),0)","v":0},{"$f":"IFERROR(VLOOKUP(QQ33,MATCHSELEVES!$Y$14:$AE$600,4,FALSE),0)","v":0},{"$f":"IFERROR(VLOOKUP(QQ33,MATCHSELEVES!$Y$14:$AE$600,5,FALSE),0)","v":0},{"$f":"IFERROR(VLOOKUP(QQ33,MATCHSELEVES!$Y$14:$AF$600,8,FALSE),0)","v":0},{"$f":"IFERROR(VLOOKUP(QQ33,MATCHSELEVES!$Y$14:$AG$600,9,FALSE),0)","v":0},"Shaymap_35",{"$f":"IFERROR(VLOOKUP(QW33,MATCHSELEVES!$Y$14:$AE$600,3,FALSE),0)","v":0},{"$f":"IFERROR(VLOOKUP(QW33,MATCHSELEVES!$Y$14:$AE$600,4,FALSE),0)","v":0},{"$f":"IFERROR(VLOOKUP(QW33,MATCHSELEVES!$Y$14:$AE$600,5,FALSE),0)","v":0},{"$f":"IFERROR(VLOOKUP(QW33,MATCHSELEVES!$Y$14:$AF$600,8,FALSE),0)","v":0},{"$f":"IFERROR(VLOOKUP(QW33,MATCHSELEVES!$Y$14:$AG$600,9,FALSE),0)","v":0},"Shaymap_36",{"$f":"IFERROR(VLOOKUP(RC33,MATCHSELEVES!$Y$14:$AE$600,3,FALSE),0)","v":0},{"$f":"IFERROR(VLOOKUP(RC33,MATCHSELEVES!$Y$14:$AE$600,4,FALSE),0)","v":0},{"$f":"IFERROR(VLOOKUP(RC33,MATCHSELEVES!$Y$14:$AE$600,5,FALSE),0)","v":0},{"$f":"IFERROR(VLOOKUP(RC33,MATCHSELEVES!$Y$14:$AF$600,8,FALSE),0)","v":0},{"$f":"IFERROR(VLOOKUP(RC33,MATCHSELEVES!$Y$14:$AG$600,9,FALSE),0)","v":0},"Shaymap_37",{"$f":"IFERROR(VLOOKUP(RI33,MATCHSELEVES!$Y$14:$AE$600,3,FALSE),0)","v":0},{"$f":"IFERROR(VLOOKUP(RI33,MATCHSELEVES!$Y$14:$AE$600,4,FALSE),0)","v":0},{"$f":"IFERROR(VLOOKUP(RI33,MATCHSELEVES!$Y$14:$AE$600,5,FALSE),0)","v":0},{"$f":"IFERROR(VLOOKUP(RI33,MATCHSELEVES!$Y$14:$AF$600,8,FALSE),0)","v":0},{"$f":"IFERROR(VLOOKUP(RI33,MATCHSELEVES!$Y$14:$AG$600,9,FALSE),0)","v":0},"Shaymap_38",{"$f":"IFERROR(VLOOKUP(RO33,MATCHSELEVES!$Y$14:$AE$600,3,FALSE),0)","v":0},{"$f":"IFERROR(VLOOKUP(RO33,MATCHSELEVES!$Y$14:$AE$600,4,FALSE),0)","v":0},{"$f":"IFERROR(VLOOKUP(RO33,MATCHSELEVES!$Y$14:$AE$600,5,FALSE),0)","v":0},{"$f":"IFERROR(VLOOKUP(RO33,MATCHSELEVES!$Y$14:$AF$600,8,FALSE),0)","v":0},{"$f":"IFERROR(VLOOKUP(RO33,MATCHSELEVES!$Y$14:$AG$600,9,FALSE),0)","v":0},"Shaymap_39",{"$f":"IFERROR(VLOOKUP(RU33,MATCHSELEVES!$Y$14:$AE$600,3,FALSE),0)","v":0},{"$f":"IFERROR(VLOOKUP(RU33,MATCHSELEVES!$Y$14:$AE$600,4,FALSE),0)","v":0},{"$f":"IFERROR(VLOOKUP(RU33,MATCHSELEVES!$Y$14:$AE$600,5,FALSE),0)","v":0},{"$f":"IFERROR(VLOOKUP(RU33,MATCHSELEVES!$Y$14:$AF$600,8,FALSE),0)","v":0},{"$f":"IFERROR(VLOOKUP(RU33,MATCHSELEVES!$Y$14:$AG$600,9,FALSE),0)","v":0},"Shaymap_40",{"$f":"IFERROR(VLOOKUP(SA33,MATCHSELEVES!$Y$14:$AE$600,3,FALSE),0)","v":0},{"$f":"IFERROR(VLOOKUP(SA33,MATCHSELEVES!$Y$14:$AE$600,4,FALSE),0)","v":0},{"$f":"IFERROR(VLOOKUP(SA33,MATCHSELEVES!$Y$14:$AE$600,5,FALSE),0)","v":0},{"$f":"IFERROR(VLOOKUP(SA33,MATCHSELEVES!$Y$14:$AF$600,8,FALSE),0)","v":0},{"$f":"IFERROR(VLOOKUP(SA33,MATCHSELEVES!$Y$14:$AG$600,9,FALSE),0)","v":0}]
[31,null,"Sirdt",31,null,null,{"$f":"COUNTIF(MATCHSELEVES!$Z$14:$Z$600,C34)+COUNTIF(MATCHSELEVES!$Z$14:$Z$600,$C34&\"p\")","v":0},1,{"$f":"COUNTIF(MATCHSELEVES!$F$14:$H$249,C34)","v":0},1,0,1,{"$f":"IFERROR(M77/Tableau10[[#This Row],[Nombre de matchs joués]],0)","v":0},{"$f":"IF(Tableau10[[#This Row],[Nombre de points encaissés]]=0,$C$45,SUMPRODUCT((M$4:M$43<M34)*(M$4:M$43<>0))+1)","v":40},0,1,{"$f":"(Tableau10[[#This Row],[CLASSEMENT1]]+Tableau10[[#This Row],[CLASSEMENT2]]+Tableau10[[#This Row],[CLASSEMENT3]]+Tableau10[[#This Row],[CLASSEMENT4]]+Tableau10[[#This Row],[CLASSEMENT5]]+Tableau10[[#This Row],[CLASSEMENT6]])/6","v":12.5},{"$f":"RANK(Tableau10[[#This Row],[MOYENNE CLASSEMENTS]],Tableau10[MOYENNE CLASSEMENTS],1)","v":31},null,{"$f":"Tableau10[[#This Row],[CLASSEMENT1]]","v":31},"Sirdt_1",{"$f":"IFERROR(VLOOKUP(U34,MATCHSELEVES!$Y$14:$AE$600,3,FALSE),0)","v":0},{"$f":"IFERROR(VLOOKUP(U34,MATCHSELEVES!$Y$14:$AE$600,4,FALSE),0)","v":0},{"$f":"IFERROR(VLOOKUP(U34,MATCHSELEVES!$Y$14:$AE$600,5,FALSE),0)","v":0},{"$f":"IFERROR(VLOOKUP(U34,MATCHSELEVES!$Y$14:$AF$600,8,FALSE),0)","v":0},{"$f":"IFERROR(VLOOKUP(U34,MATCHSELEVES!$Y$14:$AG$600,9,FALSE),0)","v":0},"Sirdt_2",{"$f":"IFERROR(VLOOKUP(AA34,MATCHSELEVES!$Y$14:$AE$600,3,FALSE),0)","v":0},{"$f":"IFERROR(VLOOKUP(AA34,MATCHSELEVES!$Y$14:$AE$600,4,FALSE),0)","v":0},{"$f":"IFERROR(VLOOKUP(AA34,MATCHSELEVES!$Y$14:$AE$600,5,FALSE),0)","v":0},{"$f":"IFERROR(VLOOKUP(AA34,MATCHSELEVES!$Y$14:$AF$600,8,FALSE),0)","v":0},{"$f":"IFERROR(VLOOKUP(AA34,MATCHSELEVES!$Y$14:$AG$600,9,FALSE),0)","v":0},"Sirdt_3",{"$f":"IFERROR(VLOOKUP(AG34,MATCHSELEVES!$Y$14:$AE$600,3,FALSE),0)","v":0},{"$f":"IFERROR(VLOOKUP(AG34,MATCHSELEVES!$Y$14:$AE$600,4,FALSE),0)","v":0},{"$f":"IFERROR(VLOOKUP(AG34,MATCHSELEVES!$Y$14:$AE$600,5,FALSE),0)","v":0},{"$f":"IFERROR(VLOOKUP(AG34,MATCHSELEVES!$Y$14:$AF$600,8,FALSE),0)","v":0},{"$f":"IFERROR(VLOOKUP(AG34,MATCHSELEVES!$Y$14:$AG$600,9,FALSE),0)","v":0},"Sirdt_4",{"$f":"IFERROR(VLOOKUP(AM34,MATCHSELEVES!$Y$14:$AE$600,3,FALSE),0)","v":0},{"$f":"IFERROR(VLOOKUP(AM34,MATCHSELEVES!$Y$14:$AE$600,4,FALSE),0)","v":0},{"$f":"IFERROR(VLOOKUP(AM34,MATCHSELEVES!$Y$14:$AE$600,5,FALSE),0)","v":0},{"$f":"IFERROR(VLOOKUP(AM34,MATCHSELEVES!$Y$14:$AF$600,8,FALSE),0)","v":0},{"$f":"IFERROR(VLOOKUP(AM34,MATCHSELEVES!$Y$14:$AG$600,9,FALSE),0)","v":0},"Sirdt_5",{"$f":"IFERROR(VLOOKUP(AS34,MATCHSELEVES!$Y$14:$AE$600,3,FALSE),0)","v":0},{"$f":"IFERROR(VLOOKUP(AS34,MATCHSELEVES!$Y$14:$AE$600,4,FALSE),0)","v":0},{"$f":"IFERROR(VLOOKUP(AS34,MATCHSELEVES!$Y$14:$AE$600,5,FALSE),0)","v":0},{"$f":"IFERROR(VLOOKUP(AS34,MATCHSELEVES!$Y$14:$AF$600,8,FALSE),0)","v":0},{"$f":"IFERROR(VLOOKUP(AS34,MATCHSELEVES!$Y$14:$AG$600,9,FALSE),0)","v":0},"Sirdt_6",{"$f":"IFERROR(VLOOKUP(AY34,MATCHSELEVES!$Y$14:$AE$600,3,FALSE),0)","v":0},{"$f":"IFERROR(VLOOKUP(AY34,MATCHSELEVES!$Y$14:$AE$600,4,FALSE),0)","v":0},{"$f":"IFERROR(VLOOKUP(AY34,MATCHSELEVES!$Y$14:$AE$600,5,FALSE),0)","v":0},{"$f":"IFERROR(VLOOKUP(AY34,MATCHSELEVES!$Y$14:$AF$600,8,FALSE),0)","v":0},{"$f":"IFERROR(VLOOKUP(AY34,MATCHSELEVES!$Y$14:$AG$600,9,FALSE),0)","v":0},"Sirdt_7",{"$f":"IFERROR(VLOOKUP(BE34,MATCHSELEVES!$Y$14:$AE$600,3,FALSE),0)","v":0},{"$f":"IFERROR(VLOOKUP(BE34,MATCHSELEVES!$Y$14:$AE$600,4,FALSE),0)","v":0},{"$f":"IFERROR(VLOOKUP(BE34,MATCHSELEVES!$Y$14:$AE$600,5,FALSE),0)","v":0},{"$f":"IFERROR(VLOOKUP(BE34,MATCHSELEVES!$Y$14:$AF$600,8,FALSE),0)","v":0},{"$f":"IFERROR(VLOOKUP(BE34,MATCHSELEVES!$Y$14:$AG$600,9,FALSE),0)","v":0},"Sirdt_8",{"$f":"IFERROR(VLOOKUP(BK34,MATCHSELEVES!$Y$14:$AE$600,3,FALSE),0)","v":0},{"$f":"IFERROR(VLOOKUP(BK34,MATCHSELEVES!$Y$14:$AE$600,4,FALSE),0)","v":0},{"$f":"IFERROR(VLOOKUP(BK34,MATCHSELEVES!$Y$14:$AE$600,5,FALSE),0)","v":0},{"$f":"IFERROR(VLOOKUP(BK34,MATCHSELEVES!$Y$14:$AF$600,8,FALSE),0)","v":0},{"$f":"IFERROR(VLOOKUP(BK34,MATCHSELEVES!$Y$14:$AG$600,9,FALSE),0)","v":0},"Sirdt_9",{"$f":"IFERROR(VLOOKUP(BQ34,MATCHSELEVES!$Y$14:$AE$600,3,FALSE),0)","v":0},{"$f":"IFERROR(VLOOKUP(BQ34,MATCHSELEVES!$Y$14:$AE$600,4,FALSE),0)","v":0},{"$f":"IFERROR(VLOOKUP(BQ34,MATCHSELEVES!$Y$14:$AE$600,5,FALSE),0)","v":0},{"$f":"IFERROR(VLOOKUP(BQ34,MATCHSELEVES!$Y$14:$AF$600,8,FALSE),0)","v":0},{"$f":"IFERROR(VLOOKUP(BQ34,MATCHSELEVES!$Y$14:$AG$600,9,FALSE),0)","v":0},"Sirdt_10",{"$f":"IFERROR(VLOOKUP(BW34,MATCHSELEVES!$Y$14:$AE$600,3,FALSE),0)","v":0},{"$f":"IFERROR(VLOOKUP(BW34,MATCHSELEVES!$Y$14:$AE$600,4,FALSE),0)","v":0},{"$f":"IFERROR(VLOOKUP(BW34,MATCHSELEVES!$Y$14:$AE$600,5,FALSE),0)","v":0},{"$f":"IFERROR(VLOOKUP(BW34,MATCHSELEVES!$Y$14:$AF$600,8,FALSE),0)","v":0},{"$f":"IFERROR(VLOOKUP(BW34,MATCHSELEVES!$Y$14:$AG$600,9,FALSE),0)","v":0},"Sirdt_11",{"$f":"IFERROR(VLOOKUP(CC34,MATCHSELEVES!$Y$14:$AE$600,3,FALSE),0)","v":0},{"$f":"IFERROR(VLOOKUP(CC34,MATCHSELEVES!$Y$14:$AE$600,4,FALSE),0)","v":0},{"$f":"IFERROR(VLOOKUP(CC34,MATCHSELEVES!$Y$14:$AE$600,5,FALSE),0)","v":0},{"$f":"IFERROR(VLOOKUP(CC34,MATCHSELEVES!$Y$14:$AF$600,8,FALSE),0)","v":0},{"$f":"IFERROR(VLOOKUP(CC34,MATCHSELEVES!$Y$14:$AG$600,9,FALSE),0)","v":0},"Sirdt_12",{"$f":"IFERROR(VLOOKUP(CI34,MATCHSELEVES!$Y$14:$AE$600,3,FALSE),0)","v":0},{"$f":"IFERROR(VLOOKUP(CI34,MATCHSELEVES!$Y$14:$AE$600,4,FALSE),0)","v":0},{"$f":"IFERROR(VLOOKUP(CI34,MATCHSELEVES!$Y$14:$AE$600,5,FALSE),0)","v":0},{"$f":"IFERROR(VLOOKUP(CI34,MATCHSELEVES!$Y$14:$AF$600,8,FALSE),0)","v":0},{"$f":"IFERROR(VLOOKUP(CI34,MATCHSELEVES!$Y$14:$AG$600,9,FALSE),0)","v":0},"Sirdt_13",{"$f":"IFERROR(VLOOKUP(CO34,MATCHSELEVES!$Y$14:$AE$600,3,FALSE),0)","v":0},{"$f":"IFERROR(VLOOKUP(CO34,MATCHSELEVES!$Y$14:$AE$600,4,FALSE),0)","v":0},{"$f":"IFERROR(VLOOKUP(CO34,MATCHSELEVES!$Y$14:$AE$600,5,FALSE),0)","v":0},{"$f":"IFERROR(VLOOKUP(CO34,MATCHSELEVES!$Y$14:$AF$600,8,FALSE),0)","v":0},{"$f":"IFERROR(VLOOKUP(CO34,MATCHSELEVES!$Y$14:$AG$600,9,FALSE),0)","v":0},"Sirdt_14",{"$f":"IFERROR(VLOOKUP(CU34,MATCHSELEVES!$Y$14:$AE$600,3,FALSE),0)","v":0},{"$f":"IFERROR(VLOOKUP(CU34,MATCHSELEVES!$Y$14:$AE$600,4,FALSE),0)","v":0},{"$f":"IFERROR(VLOOKUP(CU34,MATCHSELEVES!$Y$14:$AE$600,5,FALSE),0)","v":0},{"$f":"IFERROR(VLOOKUP(CU34,MATCHSELEVES!$Y$14:$AF$600,8,FALSE),0)","v":0},{"$f":"IFERROR(VLOOKUP(CU34,MATCHSELEVES!$Y$14:$AG$600,9,FALSE),0)","v":0},"Sirdt_15",{"$f":"IFERROR(VLOOKUP(DA34,MATCHSELEVES!$Y$14:$AE$600,3,FALSE),0)","v":0},{"$f":"IFERROR(VLOOKUP(DA34,MATCHSELEVES!$Y$14:$AE$600,4,FALSE),0)","v":0},{"$f":"IFERROR(VLOOKUP(DA34,MATCHSELEVES!$Y$14:$AE$600,5,FALSE),0)","v":0},{"$f":"IFERROR(VLOOKUP(DA34,MATCHSELEVES!$Y$14:$AF$600,8,FALSE),0)","v":0},{"$f":"IFERROR(VLOOKUP(DA34,MATCHSELEVES!$Y$14:$AG$600,9,FALSE),0)","v":0},"Sirdt_16",{"$f":"IFERROR(VLOOKUP(DG34,MATCHSELEVES!$Y$14:$AE$600,3,FALSE),0)","v":0},{"$f":"IFERROR(VLOOKUP(DG34,MATCHSELEVES!$Y$14:$AE$600,4,FALSE),0)","v":0},{"$f":"IFERROR(VLOOKUP(DG34,MATCHSELEVES!$Y$14:$AE$600,5,FALSE),0)","v":0},{"$f":"IFERROR(VLOOKUP(DG34,MATCHSELEVES!$Y$14:$AF$600,8,FALSE),0)","v":0},{"$f":"IFERROR(VLOOKUP(DG34,MATCHSELEVES!$Y$14:$AG$600,9,FALSE),0)","v":0},"Sirdt_17",{"$f":"IFERROR(VLOOKUP(DM34,MATCHSELEVES!$Y$14:$AE$600,3,FALSE),0)","v":0},{"$f":"IFERROR(VLOOKUP(DM34,MATCHSELEVES!$Y$14:$AE$600,4,FALSE),0)","v":0},{"$f":"IFERROR(VLOOKUP(DM34,MATCHSELEVES!$Y$14:$AE$600,5,FALSE),0)","v":0},{"$f":"IFERROR(VLOOKUP(DM34,MATCHSELEVES!$Y$14:$AF$600,8,FALSE),0)","v":0},{"$f":"IFERROR(VLOOKUP(DM34,MATCHSELEVES!$Y$14:$AG$600,9,FALSE),0)","v":0},"Sirdt_18",{"$f":"IFERROR(VLOOKUP(DS34,MATCHSELEVES!$Y$14:$AE$600,3,FALSE),0)","v":0},{"$f":"IFERROR(VLOOKUP(DS34,MATCHSELEVES!$Y$14:$AE$600,4,FALSE),0)","v":0},{"$f":"IFERROR(VLOOKUP(DS34,MATCHSELEVES!$Y$14:$AE$600,5,FALSE),0)","v":0},{"$f":"IFERROR(VLOOKUP(DS34,MATCHSELEVES!$Y$14:$AF$600,8,FALSE),0)","v":0},{"$f":"IFERROR(VLOOKUP(DS34,MATCHSELEVES!$Y$14:$AG$600,9,FALSE),0)","v":0},"Sirdt_19",{"$f":"IFERROR(VLOOKUP(DY34,MATCHSELEVES!$Y$14:$AE$600,3,FALSE),0)","v":0},{"$f":"IFERROR(VLOOKUP(DY34,MATCHSELEVES!$Y$14:$AE$600,4,FALSE),0)","v":0},{"$f":"IFERROR(VLOOKUP(DY34,MATCHSELEVES!$Y$14:$AE$600,5,FALSE),0)","v":0},{"$f":"IFERROR(VLOOKUP(DY34,MATCHSELEVES!$Y$14:$AF$600,8,FALSE),0)","v":0},{"$f":"IFERROR(VLOOKUP(DY34,MATCHSELEVES!$Y$14:$AG$600,9,FALSE),0)","v":0},"Sirdt_20",{"$f":"IFERROR(VLOOKUP(EE34,MATCHSELEVES!$Y$14:$AE$600,3,FALSE),0)","v":0},{"$f":"IFERROR(VLOOKUP(EE34,MATCHSELEVES!$Y$14:$AE$600,4,FALSE),0)","v":0},{"$f":"IFERROR(VLOOKUP(EE34,MATCHSELEVES!$Y$14:$AE$600,5,FALSE),0)","v":0},{"$f":"IFERROR(VLOOKUP(EE34,MATCHSELEVES!$Y$14:$AF$600,8,FALSE),0)","v":0},{"$f":"IFERROR(VLOOKUP(EE34,MATCHSELEVES!$Y$14:$AG$600,9,FALSE),0)","v":0},"Sirdt_21",{"$f":"IFERROR(VLOOKUP(EK34,MATCHSELEVES!$Y$14:$AE$600,3,FALSE),0)","v":0},{"$f":"IFERROR(VLOOKUP(EK34,MATCHSELEVES!$Y$14:$AE$600,4,FALSE),0)","v":0},{"$f":"IFERROR(VLOOKUP(EK34,MATCHSELEVES!$Y$14:$AE$600,5,FALSE),0)","v":0},{"$f":"IFERROR(VLOOKUP(EK34,MATCHSELEVES!$Y$14:$AF$600,8,FALSE),0)","v":0},{"$f":"IFERROR(VLOOKUP(EK34,MATCHSELEVES!$Y$14:$AG$600,9,FALSE),0)","v":0},"Sirdt_22",{"$f":"IFERROR(VLOOKUP(EQ34,MATCHSELEVES!$Y$14:$AE$600,3,FALSE),0)","v":0},{"$f":"IFERROR(VLOOKUP(EQ34,MATCHSELEVES!$Y$14:$AE$600,4,FALSE),0)","v":0},{"$f":"IFERROR(VLOOKUP(EQ34,MATCHSELEVES!$Y$14:$AE$600,5,FALSE),0)","v":0},{"$f":"IFERROR(VLOOKUP(EQ34,MATCHSELEVES!$Y$14:$AF$600,8,FALSE),0)","v":0},{"$f":"IFERROR(VLOOKUP(EQ34,MATCHSELEVES!$Y$14:$AG$600,9,FALSE),0)","v":0},"Sirdt_23",{"$f":"IFERROR(VLOOKUP(EW34,MATCHSELEVES!$Y$14:$AE$600,3,FALSE),0)","v":0},{"$f":"IFERROR(VLOOKUP(EW34,MATCHSELEVES!$Y$14:$AE$600,4,FALSE),0)","v":0},{"$f":"IFERROR(VLOOKUP(EW34,MATCHSELEVES!$Y$14:$AE$600,5,FALSE),0)","v":0},{"$f":"IFERROR(VLOOKUP(EW34,MATCHSELEVES!$Y$14:$AF$600,8,FALSE),0)","v":0},{"$f":"IFERROR(VLOOKUP(EW34,MATCHSELEVES!$Y$14:$AG$600,9,FALSE),0)","v":0},"Sirdt_24",{"$f":"IFERROR(VLOOKUP(FC34,MATCHSELEVES!$Y$14:$AE$600,3,FALSE),0)","v":0},{"$f":"IFERROR(VLOOKUP(FC34,MATCHSELEVES!$Y$14:$AE$600,4,FALSE),0)","v":0},{"$f":"IFERROR(VLOOKUP(FC34,MATCHSELEVES!$Y$14:$AE$600,5,FALSE),0)","v":0},{"$f":"IFERROR(VLOOKUP(FC34,MATCHSELEVES!$Y$14:$AF$600,8,FALSE),0)","v":0},{"$f":"IFERROR(VLOOKUP(FC34,MATCHSELEVES!$Y$14:$AG$600,9,FALSE),0)","v":0},"Sirdt_25",{"$f":"IFERROR(VLOOKUP(FI34,MATCHSELEVES!$Y$14:$AE$600,3,FALSE),0)","v":0},{"$f":"IFERROR(VLOOKUP(FI34,MATCHSELEVES!$Y$14:$AE$600,4,FALSE),0)","v":0},{"$f":"IFERROR(VLOOKUP(FI34,MATCHSELEVES!$Y$14:$AE$600,5,FALSE),0)","v":0},{"$f":"IFERROR(VLOOKUP(FI34,MATCHSELEVES!$Y$14:$AF$600,8,FALSE),0)","v":0},{"$f":"IFERROR(VLOOKUP(FI34,MATCHSELEVES!$Y$14:$AG$600,9,FALSE),0)","v":0},"Sirdt_26",{"$f":"IFERROR(VLOOKUP(FO34,MATCHSELEVES!$Y$14:$AE$600,3,FALSE),0)","v":0},{"$f":"IFERROR(VLOOKUP(FO34,MATCHSELEVES!$Y$14:$AE$600,4,FALSE),0)","v":0},{"$f":"IFERROR(VLOOKUP(FO34,MATCHSELEVES!$Y$14:$AE$600,5,FALSE),0)","v":0},{"$f":"IFERROR(VLOOKUP(FO34,MATCHSELEVES!$Y$14:$AF$600,8,FALSE),0)","v":0},{"$f":"IFERROR(VLOOKUP(FO34,MATCHSELEVES!$Y$14:$AG$600,9,FALSE),0)","v":0},"Sirdt_27",{"$f":"IFERROR(VLOOKUP(FU34,MATCHSELEVES!$Y$14:$AE$600,3,FALSE),0)","v":0},{"$f":"IFERROR(VLOOKUP(FU34,MATCHSELEVES!$Y$14:$AE$600,4,FALSE),0)","v":0},{"$f":"IFERROR(VLOOKUP(FU34,MATCHSELEVES!$Y$14:$AE$600,5,FALSE),0)","v":0},{"$f":"IFERROR(VLOOKUP(FU34,MATCHSELEVES!$Y$14:$AF$600,8,FALSE),0)","v":0},{"$f":"IFERROR(VLOOKUP(FU34,MATCHSELEVES!$Y$14:$AG$600,9,FALSE),0)","v":0},"Sirdt_28",{"$f":"IFERROR(VLOOKUP(GA34,MATCHSELEVES!$Y$14:$AE$600,3,FALSE),0)","v":0},{"$f":"IFERROR(VLOOKUP(GA34,MATCHSELEVES!$Y$14:$AE$600,4,FALSE),0)","v":0},{"$f":"IFERROR(VLOOKUP(GA34,MATCHSELEVES!$Y$14:$AE$600,5,FALSE),0)","v":0},{"$f":"IFERROR(VLOOKUP(GA34,MATCHSELEVES!$Y$14:$AF$600,8,FALSE),0)","v":0},{"$f":"IFERROR(VLOOKUP(GA34,MATCHSELEVES!$Y$14:$AG$600,9,FALSE),0)","v":0},"Sirdt_29",{"$f":"IFERROR(VLOOKUP(GG34,MATCHSELEVES!$Y$14:$AE$600,3,FALSE),0)","v":0},{"$f":"IFERROR(VLOOKUP(GG34,MATCHSELEVES!$Y$14:$AE$600,4,FALSE),0)","v":0},{"$f":"IFERROR(VLOOKUP(GG34,MATCHSELEVES!$Y$14:$AE$600,5,FALSE),0)","v":0},{"$f":"IFERROR(VLOOKUP(GG34,MATCHSELEVES!$Y$14:$AF$600,8,FALSE),0)","v":0},{"$f":"IFERROR(VLOOKUP(GG34,MATCHSELEVES!$Y$14:$AG$600,9,FALSE),0)","v":0},"Sirdt_30",{"$f":"IFERROR(VLOOKUP(GM34,MATCHSELEVES!$Y$14:$AE$600,3,FALSE),0)","v":0},{"$f":"IFERROR(VLOOKUP(GM34,MATCHSELEVES!$Y$14:$AE$600,4,FALSE),0)","v":0},{"$f":"IFERROR(VLOOKUP(GM34,MATCHSELEVES!$Y$14:$AE$600,5,FALSE),0)","v":0},{"$f":"IFERROR(VLOOKUP(GM34,MATCHSELEVES!$Y$14:$AF$600,8,FALSE),0)","v":0},{"$f":"IFERROR(VLOOKUP(GM34,MATCHSELEVES!$Y$14:$AG$600,9,FALSE),0)","v":0},"Sirdt_31",{"$f":"IFERROR(VLOOKUP(GS34,MATCHSELEVES!$Y$14:$AE$600,3,FALSE),0)","v":0},{"$f":"IFERROR(VLOOKUP(GS34,MATCHSELEVES!$Y$14:$AE$600,4,FALSE),0)","v":0},{"$f":"IFERROR(VLOOKUP(GS34,MATCHSELEVES!$Y$14:$AE$600,5,FALSE),0)","v":0},{"$f":"IFERROR(VLOOKUP(GS34,MATCHSELEVES!$Y$14:$AF$600,8,FALSE),0)","v":0},{"$f":"IFERROR(VLOOKUP(GS34,MATCHSELEVES!$Y$14:$AG$600,9,FALSE),0)","v":0},"Sirdt_32",{"$f":"IFERROR(VLOOKUP(GY34,MATCHSELEVES!$Y$14:$AE$600,3,FALSE),0)","v":0},{"$f":"IFERROR(VLOOKUP(GY34,MATCHSELEVES!$Y$14:$AE$600,4,FALSE),0)","v":0},{"$f":"IFERROR(VLOOKUP(GY34,MATCHSELEVES!$Y$14:$AE$600,5,FALSE),0)","v":0},{"$f":"IFERROR(VLOOKUP(GY34,MATCHSELEVES!$Y$14:$AF$600,8,FALSE),0)","v":0},{"$f":"IFERROR(VLOOKUP(GY34,MATCHSELEVES!$Y$14:$AG$600,9,FALSE),0)","v":0},"Sirdt_33",{"$f":"IFERROR(VLOOKUP(HE34,MATCHSELEVES!$Y$14:$AE$600,3,FALSE),0)","v":0},{"$f":"IFERROR(VLOOKUP(HE34,MATCHSELEVES!$Y$14:$AE$600,4,FALSE),0)","v":0},{"$f":"IFERROR(VLOOKUP(HE34,MATCHSELEVES!$Y$14:$AE$600,5,FALSE),0)","v":0},{"$f":"IFERROR(VLOOKUP(HE34,MATCHSELEVES!$Y$14:$AF$600,8,FALSE),0)","v":0},{"$f":"IFERROR(VLOOKUP(HE34,MATCHSELEVES!$Y$14:$AG$600,9,FALSE),0)","v":0},"Sirdt_34",{"$f":"IFERROR(VLOOKUP(HK34,MATCHSELEVES!$Y$14:$AE$600,3,FALSE),0)","v":0},{"$f":"IFERROR(VLOOKUP(HK34,MATCHSELEVES!$Y$14:$AE$600,4,FALSE),0)","v":0},{"$f":"IFERROR(VLOOKUP(HK34,MATCHSELEVES!$Y$14:$AE$600,5,FALSE),0)","v":0},{"$f":"IFERROR(VLOOKUP(HK34,MATCHSELEVES!$Y$14:$AF$600,8,FALSE),0)","v":0},{"$f":"IFERROR(VLOOKUP(HK34,MATCHSELEVES!$Y$14:$AG$600,9,FALSE),0)","v":0},"Sirdt_35",{"$f":"IFERROR(VLOOKUP(HQ34,MATCHSELEVES!$Y$14:$AE$600,3,FALSE),0)","v":0},{"$f":"IFERROR(VLOOKUP(HQ34,MATCHSELEVES!$Y$14:$AE$600,4,FALSE),0)","v":0},{"$f":"IFERROR(VLOOKUP(HQ34,MATCHSELEVES!$Y$14:$AE$600,5,FALSE),0)","v":0},{"$f":"IFERROR(VLOOKUP(HQ34,MATCHSELEVES!$Y$14:$AF$600,8,FALSE),0)","v":0},{"$f":"IFERROR(VLOOKUP(HQ34,MATCHSELEVES!$Y$14:$AG$600,9,FALSE),0)","v":0},"Sirdt_36",{"$f":"IFERROR(VLOOKUP(HW34,MATCHSELEVES!$Y$14:$AE$600,3,FALSE),0)","v":0},{"$f":"IFERROR(VLOOKUP(HW34,MATCHSELEVES!$Y$14:$AE$600,4,FALSE),0)","v":0},{"$f":"IFERROR(VLOOKUP(HW34,MATCHSELEVES!$Y$14:$AE$600,5,FALSE),0)","v":0},{"$f":"IFERROR(VLOOKUP(HW34,MATCHSELEVES!$Y$14:$AF$600,8,FALSE),0)","v":0},{"$f":"IFERROR(VLOOKUP(HW34,MATCHSELEVES!$Y$14:$AG$600,9,FALSE),0)","v":0},"Sirdt_37",{"$f":"IFERROR(VLOOKUP(IC34,MATCHSELEVES!$Y$14:$AE$600,3,FALSE),0)","v":0},{"$f":"IFERROR(VLOOKUP(IC34,MATCHSELEVES!$Y$14:$AE$600,4,FALSE),0)","v":0},{"$f":"IFERROR(VLOOKUP(IC34,MATCHSELEVES!$Y$14:$AE$600,5,FALSE),0)","v":0},{"$f":"IFERROR(VLOOKUP(IC34,MATCHSELEVES!$Y$14:$AF$600,8,FALSE),0)","v":0},{"$f":"IFERROR(VLOOKUP(IC34,MATCHSELEVES!$Y$14:$AG$600,9,FALSE),0)","v":0},"Sirdt_38",{"$f":"IFERROR(VLOOKUP(II34,MATCHSELEVES!$Y$14:$AE$600,3,FALSE),0)","v":0},{"$f":"IFERROR(VLOOKUP(II34,MATCHSELEVES!$Y$14:$AE$600,4,FALSE),0)","v":0},{"$f":"IFERROR(VLOOKUP(II34,MATCHSELEVES!$Y$14:$AE$600,5,FALSE),0)","v":0},{"$f":"IFERROR(VLOOKUP(II34,MATCHSELEVES!$Y$14:$AF$600,8,FALSE),0)","v":0},{"$f":"IFERROR(VLOOKUP(II34,MATCHSELEVES!$Y$14:$AG$600,9,FALSE),0)","v":0},"Sirdt_39",{"$f":"IFERROR(VLOOKUP(IO34,MATCHSELEVES!$Y$14:$AE$600,3,FALSE),0)","v":0},{"$f":"IFERROR(VLOOKUP(IO34,MATCHSELEVES!$Y$14:$AE$600,4,FALSE),0)","v":0},{"$f":"IFERROR(VLOOKUP(IO34,MATCHSELEVES!$Y$14:$AE$600,5,FALSE),0)","v":0},{"$f":"IFERROR(VLOOKUP(IO34,MATCHSELEVES!$Y$14:$AF$600,8,FALSE),0)","v":0},{"$f":"IFERROR(VLOOKUP(IO34,MATCHSELEVES!$Y$14:$AG$600,9,FALSE),0)","v":0},"Sirdt_40",{"$f":"IFERROR(VLOOKUP(IU34,MATCHSELEVES!$Y$14:$AE$600,3,FALSE),0)","v":0},{"$f":"IFERROR(VLOOKUP(IU34,MATCHSELEVES!$Y$14:$AE$600,4,FALSE),0)","v":0},{"$f":"IFERROR(VLOOKUP(IU34,MATCHSELEVES!$Y$14:$AE$600,5,FALSE),0)","v":0},{"$f":"IFERROR(VLOOKUP(IU34,MATCHSELEVES!$Y$14:$AF$600,8,FALSE),0)","v":0},{"$f":"IFERROR(VLOOKUP(IU34,MATCHSELEVES!$Y$14:$AG$600,9,FALSE),0)","v":0},"Sirdtp_1",{"$f":"IFERROR(VLOOKUP(JA34,MATCHSELEVES!$Y$14:$AE$600,3,FALSE),0)","v":0},{"$f":"IFERROR(VLOOKUP(JA34,MATCHSELEVES!$Y$14:$AE$600,4,FALSE),0)","v":0},{"$f":"IFERROR(VLOOKUP(JA34,MATCHSELEVES!$Y$14:$AE$600,5,FALSE),0)","v":0},{"$f":"IFERROR(VLOOKUP(JA34,MATCHSELEVES!$Y$14:$AF$600,8,FALSE),0)","v":0},{"$f":"IFERROR(VLOOKUP(JA34,MATCHSELEVES!$Y$14:$AG$600,9,FALSE),0)","v":0},"Sirdtp_2",{"$f":"IFERROR(VLOOKUP(JG34,MATCHSELEVES!$Y$14:$AE$600,3,FALSE),0)","v":0},{"$f":"IFERROR(VLOOKUP(JG34,MATCHSELEVES!$Y$14:$AE$600,4,FALSE),0)","v":0},{"$f":"IFERROR(VLOOKUP(JG34,MATCHSELEVES!$Y$14:$AE$600,5,FALSE),0)","v":0},{"$f":"IFERROR(VLOOKUP(JG34,MATCHSELEVES!$Y$14:$AF$600,8,FALSE),0)","v":0},{"$f":"IFERROR(VLOOKUP(JG34,MATCHSELEVES!$Y$14:$AG$600,9,FALSE),0)","v":0},"Sirdtp_3",{"$f":"IFERROR(VLOOKUP(JM34,MATCHSELEVES!$Y$14:$AE$600,3,FALSE),0)","v":0},{"$f":"IFERROR(VLOOKUP(JM34,MATCHSELEVES!$Y$14:$AE$600,4,FALSE),0)","v":0},{"$f":"IFERROR(VLOOKUP(JM34,MATCHSELEVES!$Y$14:$AE$600,5,FALSE),0)","v":0},{"$f":"IFERROR(VLOOKUP(JM34,MATCHSELEVES!$Y$14:$AF$600,8,FALSE),0)","v":0},{"$f":"IFERROR(VLOOKUP(JM34,MATCHSELEVES!$Y$14:$AG$600,9,FALSE),0)","v":0},"Sirdtp_4",{"$f":"IFERROR(VLOOKUP(JS34,MATCHSELEVES!$Y$14:$AE$600,3,FALSE),0)","v":0},{"$f":"IFERROR(VLOOKUP(JS34,MATCHSELEVES!$Y$14:$AE$600,4,FALSE),0)","v":0},{"$f":"IFERROR(VLOOKUP(JS34,MATCHSELEVES!$Y$14:$AE$600,5,FALSE),0)","v":0},{"$f":"IFERROR(VLOOKUP(JS34,MATCHSELEVES!$Y$14:$AF$600,8,FALSE),0)","v":0},{"$f":"IFERROR(VLOOKUP(JS34,MATCHSELEVES!$Y$14:$AG$600,9,FALSE),0)","v":0},"Sirdtp_5",{"$f":"IFERROR(VLOOKUP(JY34,MATCHSELEVES!$Y$14:$AE$600,3,FALSE),0)","v":0},{"$f":"IFERROR(VLOOKUP(JY34,MATCHSELEVES!$Y$14:$AE$600,4,FALSE),0)","v":0},{"$f":"IFERROR(VLOOKUP(JY34,MATCHSELEVES!$Y$14:$AE$600,5,FALSE),0)","v":0},{"$f":"IFERROR(VLOOKUP(JY34,MATCHSELEVES!$Y$14:$AF$600,8,FALSE),0)","v":0},{"$f":"IFERROR(VLOOKUP(JY34,MATCHSELEVES!$Y$14:$AG$600,9,FALSE),0)","v":0},"Sirdtp_6",{"$f":"IFERROR(VLOOKUP(KE34,MATCHSELEVES!$Y$14:$AE$600,3,FALSE),0)","v":0},{"$f":"IFERROR(VLOOKUP(KE34,MATCHSELEVES!$Y$14:$AE$600,4,FALSE),0)","v":0},{"$f":"IFERROR(VLOOKUP(KE34,MATCHSELEVES!$Y$14:$AE$600,5,FALSE),0)","v":0},{"$f":"IFERROR(VLOOKUP(KE34,MATCHSELEVES!$Y$14:$AF$600,8,FALSE),0)","v":0},{"$f":"IFERROR(VLOOKUP(KE34,MATCHSELEVES!$Y$14:$AG$600,9,FALSE),0)","v":0},"Sirdtp_7",{"$f":"IFERROR(VLOOKUP(KK34,MATCHSELEVES!$Y$14:$AE$600,3,FALSE),0)","v":0},{"$f":"IFERROR(VLOOKUP(KK34,MATCHSELEVES!$Y$14:$AE$600,4,FALSE),0)","v":0},{"$f":"IFERROR(VLOOKUP(KK34,MATCHSELEVES!$Y$14:$AE$600,5,FALSE),0)","v":0},{"$f":"IFERROR(VLOOKUP(KK34,MATCHSELEVES!$Y$14:$AF$600,8,FALSE),0)","v":0},{"$f":"IFERROR(VLOOKUP(KK34,MATCHSELEVES!$Y$14:$AG$600,9,FALSE),0)","v":0},"Sirdtp_8",{"$f":"IFERROR(VLOOKUP(KQ34,MATCHSELEVES!$Y$14:$AE$600,3,FALSE),0)","v":0},{"$f":"IFERROR(VLOOKUP(KQ34,MATCHSELEVES!$Y$14:$AE$600,4,FALSE),0)","v":0},{"$f":"IFERROR(VLOOKUP(KQ34,MATCHSELEVES!$Y$14:$AE$600,5,FALSE),0)","v":0},{"$f":"IFERROR(VLOOKUP(KQ34,MATCHSELEVES!$Y$14:$AF$600,8,FALSE),0)","v":0},{"$f":"IFERROR(VLOOKUP(KQ34,MATCHSELEVES!$Y$14:$AG$600,9,FALSE),0)","v":0},"Sirdtp_9",{"$f":"IFERROR(VLOOKUP(KW34,MATCHSELEVES!$Y$14:$AE$600,3,FALSE),0)","v":0},{"$f":"IFERROR(VLOOKUP(KW34,MATCHSELEVES!$Y$14:$AE$600,4,FALSE),0)","v":0},{"$f":"IFERROR(VLOOKUP(KW34,MATCHSELEVES!$Y$14:$AE$600,5,FALSE),0)","v":0},{"$f":"IFERROR(VLOOKUP(KW34,MATCHSELEVES!$Y$14:$AF$600,8,FALSE),0)","v":0},{"$f":"IFERROR(VLOOKUP(KW34,MATCHSELEVES!$Y$14:$AG$600,9,FALSE),0)","v":0},"Sirdtp_10",{"$f":"IFERROR(VLOOKUP(LC34,MATCHSELEVES!$Y$14:$AE$600,3,FALSE),0)","v":0},{"$f":"IFERROR(VLOOKUP(LC34,MATCHSELEVES!$Y$14:$AE$600,4,FALSE),0)","v":0},{"$f":"IFERROR(VLOOKUP(LC34,MATCHSELEVES!$Y$14:$AE$600,5,FALSE),0)","v":0},{"$f":"IFERROR(VLOOKUP(LC34,MATCHSELEVES!$Y$14:$AF$600,8,FALSE),0)","v":0},{"$f":"IFERROR(VLOOKUP(LC34,MATCHSELEVES!$Y$14:$AG$600,9,FALSE),0)","v":0},"Sirdtp_11",{"$f":"IFERROR(VLOOKUP(LI34,MATCHSELEVES!$Y$14:$AE$600,3,FALSE),0)","v":0},{"$f":"IFERROR(VLOOKUP(LI34,MATCHSELEVES!$Y$14:$AE$600,4,FALSE),0)","v":0},{"$f":"IFERROR(VLOOKUP(LI34,MATCHSELEVES!$Y$14:$AE$600,5,FALSE),0)","v":0},{"$f":"IFERROR(VLOOKUP(LI34,MATCHSELEVES!$Y$14:$AF$600,8,FALSE),0)","v":0},{"$f":"IFERROR(VLOOKUP(LI34,MATCHSELEVES!$Y$14:$AG$600,9,FALSE),0)","v":0},"Sirdtp_12",{"$f":"IFERROR(VLOOKUP(LO34,MATCHSELEVES!$Y$14:$AE$600,3,FALSE),0)","v":0},{"$f":"IFERROR(VLOOKUP(LO34,MATCHSELEVES!$Y$14:$AE$600,4,FALSE),0)","v":0},{"$f":"IFERROR(VLOOKUP(LO34,MATCHSELEVES!$Y$14:$AE$600,5,FALSE),0)","v":0},{"$f":"IFERROR(VLOOKUP(LO34,MATCHSELEVES!$Y$14:$AF$600,8,FALSE),0)","v":0},{"$f":"IFERROR(VLOOKUP(LO34,MATCHSELEVES!$Y$14:$AG$600,9,FALSE),0)","v":0},"Sirdtp_13",{"$f":"IFERROR(VLOOKUP(LU34,MATCHSELEVES!$Y$14:$AE$600,3,FALSE),0)","v":0},{"$f":"IFERROR(VLOOKUP(LU34,MATCHSELEVES!$Y$14:$AE$600,4,FALSE),0)","v":0},{"$f":"IFERROR(VLOOKUP(LU34,MATCHSELEVES!$Y$14:$AE$600,5,FALSE),0)","v":0},{"$f":"IFERROR(VLOOKUP(LU34,MATCHSELEVES!$Y$14:$AF$600,8,FALSE),0)","v":0},{"$f":"IFERROR(VLOOKUP(LU34,MATCHSELEVES!$Y$14:$AG$600,9,FALSE),0)","v":0},"Sirdtp_14",{"$f":"IFERROR(VLOOKUP(MA34,MATCHSELEVES!$Y$14:$AE$600,3,FALSE),0)","v":0},{"$f":"IFERROR(VLOOKUP(MA34,MATCHSELEVES!$Y$14:$AE$600,4,FALSE),0)","v":0},{"$f":"IFERROR(VLOOKUP(MA34,MATCHSELEVES!$Y$14:$AE$600,5,FALSE),0)","v":0},{"$f":"IFERROR(VLOOKUP(MA34,MATCHSELEVES!$Y$14:$AF$600,8,FALSE),0)","v":0},{"$f":"IFERROR(VLOOKUP(MA34,MATCHSELEVES!$Y$14:$AG$600,9,FALSE),0)","v":0},"Sirdtp_15",{"$f":"IFERROR(VLOOKUP(MG34,MATCHSELEVES!$Y$14:$AE$600,3,FALSE),0)","v":0},{"$f":"IFERROR(VLOOKUP(MG34,MATCHSELEVES!$Y$14:$AE$600,4,FALSE),0)","v":0},{"$f":"IFERROR(VLOOKUP(MG34,MATCHSELEVES!$Y$14:$AE$600,5,FALSE),0)","v":0},{"$f":"IFERROR(VLOOKUP(MG34,MATCHSELEVES!$Y$14:$AF$600,8,FALSE),0)","v":0},{"$f":"IFERROR(VLOOKUP(MG34,MATCHSELEVES!$Y$14:$AG$600,9,FALSE),0)","v":0},"Sirdtp_16",{"$f":"IFERROR(VLOOKUP(MM34,MATCHSELEVES!$Y$14:$AE$600,3,FALSE),0)","v":0},{"$f":"IFERROR(VLOOKUP(MM34,MATCHSELEVES!$Y$14:$AE$600,4,FALSE),0)","v":0},{"$f":"IFERROR(VLOOKUP(MM34,MATCHSELEVES!$Y$14:$AE$600,5,FALSE),0)","v":0},{"$f":"IFERROR(VLOOKUP(MM34,MATCHSELEVES!$Y$14:$AF$600,8,FALSE),0)","v":0},{"$f":"IFERROR(VLOOKUP(MM34,MATCHSELEVES!$Y$14:$AG$600,9,FALSE),0)","v":0},"Sirdtp_17",{"$f":"IFERROR(VLOOKUP(MS34,MATCHSELEVES!$Y$14:$AE$600,3,FALSE),0)","v":0},{"$f":"IFERROR(VLOOKUP(MS34,MATCHSELEVES!$Y$14:$AE$600,4,FALSE),0)","v":0},{"$f":"IFERROR(VLOOKUP(MS34,MATCHSELEVES!$Y$14:$AE$600,5,FALSE),0)","v":0},{"$f":"IFERROR(VLOOKUP(MS34,MATCHSELEVES!$Y$14:$AF$600,8,FALSE),0)","v":0},{"$f":"IFERROR(VLOOKUP(MS34,MATCHSELEVES!$Y$14:$AG$600,9,FALSE),0)","v":0},"Sirdtp_18",{"$f":"IFERROR(VLOOKUP(MY34,MATCHSELEVES!$Y$14:$AE$600,3,FALSE),0)","v":0},{"$f":"IFERROR(VLOOKUP(MY34,MATCHSELEVES!$Y$14:$AE$600,4,FALSE),0)","v":0},{"$f":"IFERROR(VLOOKUP(MY34,MATCHSELEVES!$Y$14:$AE$600,5,FALSE),0)","v":0},{"$f":"IFERROR(VLOOKUP(MY34,MATCHSELEVES!$Y$14:$AF$600,8,FALSE),0)","v":0},{"$f":"IFERROR(VLOOKUP(MY34,MATCHSELEVES!$Y$14:$AG$600,9,FALSE),0)","v":0},"Sirdtp_19",{"$f":"IFERROR(VLOOKUP(NE34,MATCHSELEVES!$Y$14:$AE$600,3,FALSE),0)","v":0},{"$f":"IFERROR(VLOOKUP(NE34,MATCHSELEVES!$Y$14:$AE$600,4,FALSE),0)","v":0},{"$f":"IFERROR(VLOOKUP(NE34,MATCHSELEVES!$Y$14:$AE$600,5,FALSE),0)","v":0},{"$f":"IFERROR(VLOOKUP(NE34,MATCHSELEVES!$Y$14:$AF$600,8,FALSE),0)","v":0},{"$f":"IFERROR(VLOOKUP(NE34,MATCHSELEVES!$Y$14:$AG$600,9,FALSE),0)","v":0},"Sirdtp_20",{"$f":"IFERROR(VLOOKUP(NK34,MATCHSELEVES!$Y$14:$AE$600,3,FALSE),0)","v":0},{"$f":"IFERROR(VLOOKUP(NK34,MATCHSELEVES!$Y$14:$AE$600,4,FALSE),0)","v":0},{"$f":"IFERROR(VLOOKUP(NK34,MATCHSELEVES!$Y$14:$AE$600,5,FALSE),0)","v":0},{"$f":"IFERROR(VLOOKUP(NK34,MATCHSELEVES!$Y$14:$AF$600,8,FALSE),0)","v":0},{"$f":"IFERROR(VLOOKUP(NK34,MATCHSELEVES!$Y$14:$AG$600,9,FALSE),0)","v":0},"Sirdtp_21",{"$f":"IFERROR(VLOOKUP(NQ34,MATCHSELEVES!$Y$14:$AE$600,3,FALSE),0)","v":0},{"$f":"IFERROR(VLOOKUP(NQ34,MATCHSELEVES!$Y$14:$AE$600,4,FALSE),0)","v":0},{"$f":"IFERROR(VLOOKUP(NQ34,MATCHSELEVES!$Y$14:$AE$600,5,FALSE),0)","v":0},{"$f":"IFERROR(VLOOKUP(NQ34,MATCHSELEVES!$Y$14:$AF$600,8,FALSE),0)","v":0},{"$f":"IFERROR(VLOOKUP(NQ34,MATCHSELEVES!$Y$14:$AG$600,9,FALSE),0)","v":0},"Sirdtp_22",{"$f":"IFERROR(VLOOKUP(NW34,MATCHSELEVES!$Y$14:$AE$600,3,FALSE),0)","v":0},{"$f":"IFERROR(VLOOKUP(NW34,MATCHSELEVES!$Y$14:$AE$600,4,FALSE),0)","v":0},{"$f":"IFERROR(VLOOKUP(NW34,MATCHSELEVES!$Y$14:$AE$600,5,FALSE),0)","v":0},{"$f":"IFERROR(VLOOKUP(NW34,MATCHSELEVES!$Y$14:$AF$600,8,FALSE),0)","v":0},{"$f":"IFERROR(VLOOKUP(NW34,MATCHSELEVES!$Y$14:$AG$600,9,FALSE),0)","v":0},"Sirdtp_23",{"$f":"IFERROR(VLOOKUP(OC34,MATCHSELEVES!$Y$14:$AE$600,3,FALSE),0)","v":0},{"$f":"IFERROR(VLOOKUP(OC34,MATCHSELEVES!$Y$14:$AE$600,4,FALSE),0)","v":0},{"$f":"IFERROR(VLOOKUP(OC34,MATCHSELEVES!$Y$14:$AE$600,5,FALSE),0)","v":0},{"$f":"IFERROR(VLOOKUP(OC34,MATCHSELEVES!$Y$14:$AF$600,8,FALSE),0)","v":0},{"$f":"IFERROR(VLOOKUP(OC34,MATCHSELEVES!$Y$14:$AG$600,9,FALSE),0)","v":0},"Sirdtp_24",{"$f":"IFERROR(VLOOKUP(OI34,MATCHSELEVES!$Y$14:$AE$600,3,FALSE),0)","v":0},{"$f":"IFERROR(VLOOKUP(OI34,MATCHSELEVES!$Y$14:$AE$600,4,FALSE),0)","v":0},{"$f":"IFERROR(VLOOKUP(OI34,MATCHSELEVES!$Y$14:$AE$600,5,FALSE),0)","v":0},{"$f":"IFERROR(VLOOKUP(OI34,MATCHSELEVES!$Y$14:$AF$600,8,FALSE),0)","v":0},{"$f":"IFERROR(VLOOKUP(OI34,MATCHSELEVES!$Y$14:$AG$600,9,FALSE),0)","v":0},"Sirdtp_25",{"$f":"IFERROR(VLOOKUP(OO34,MATCHSELEVES!$Y$14:$AE$600,3,FALSE),0)","v":0},{"$f":"IFERROR(VLOOKUP(OO34,MATCHSELEVES!$Y$14:$AE$600,4,FALSE),0)","v":0},{"$f":"IFERROR(VLOOKUP(OO34,MATCHSELEVES!$Y$14:$AE$600,5,FALSE),0)","v":0},{"$f":"IFERROR(VLOOKUP(OO34,MATCHSELEVES!$Y$14:$AF$600,8,FALSE),0)","v":0},{"$f":"IFERROR(VLOOKUP(OO34,MATCHSELEVES!$Y$14:$AG$600,9,FALSE),0)","v":0},"Sirdtp_26",{"$f":"IFERROR(VLOOKUP(OU34,MATCHSELEVES!$Y$14:$AE$600,3,FALSE),0)","v":0},{"$f":"IFERROR(VLOOKUP(OU34,MATCHSELEVES!$Y$14:$AE$600,4,FALSE),0)","v":0},{"$f":"IFERROR(VLOOKUP(OU34,MATCHSELEVES!$Y$14:$AE$600,5,FALSE),0)","v":0},{"$f":"IFERROR(VLOOKUP(OU34,MATCHSELEVES!$Y$14:$AF$600,8,FALSE),0)","v":0},{"$f":"IFERROR(VLOOKUP(OU34,MATCHSELEVES!$Y$14:$AG$600,9,FALSE),0)","v":0},"Sirdtp_27",{"$f":"IFERROR(VLOOKUP(PA34,MATCHSELEVES!$Y$14:$AE$600,3,FALSE),0)","v":0},{"$f":"IFERROR(VLOOKUP(PA34,MATCHSELEVES!$Y$14:$AE$600,4,FALSE),0)","v":0},{"$f":"IFERROR(VLOOKUP(PA34,MATCHSELEVES!$Y$14:$AE$600,5,FALSE),0)","v":0},{"$f":"IFERROR(VLOOKUP(PA34,MATCHSELEVES!$Y$14:$AF$600,8,FALSE),0)","v":0},{"$f":"IFERROR(VLOOKUP(PA34,MATCHSELEVES!$Y$14:$AG$600,9,FALSE),0)","v":0},"Sirdtp_28",{"$f":"IFERROR(VLOOKUP(PG34,MATCHSELEVES!$Y$14:$AE$600,3,FALSE),0)","v":0},{"$f":"IFERROR(VLOOKUP(PG34,MATCHSELEVES!$Y$14:$AE$600,4,FALSE),0)","v":0},{"$f":"IFERROR(VLOOKUP(PG34,MATCHSELEVES!$Y$14:$AE$600,5,FALSE),0)","v":0},{"$f":"IFERROR(VLOOKUP(PG34,MATCHSELEVES!$Y$14:$AF$600,8,FALSE),0)","v":0},{"$f":"IFERROR(VLOOKUP(PG34,MATCHSELEVES!$Y$14:$AG$600,9,FALSE),0)","v":0},"Sirdtp_29",{"$f":"IFERROR(VLOOKUP(PM34,MATCHSELEVES!$Y$14:$AE$600,3,FALSE),0)","v":0},{"$f":"IFERROR(VLOOKUP(PM34,MATCHSELEVES!$Y$14:$AE$600,4,FALSE),0)","v":0},{"$f":"IFERROR(VLOOKUP(PM34,MATCHSELEVES!$Y$14:$AE$600,5,FALSE),0)","v":0},{"$f":"IFERROR(VLOOKUP(PM34,MATCHSELEVES!$Y$14:$AF$600,8,FALSE),0)","v":0},{"$f":"IFERROR(VLOOKUP(PM34,MATCHSELEVES!$Y$14:$AG$600,9,FALSE),0)","v":0},"Sirdtp_30",{"$f":"IFERROR(VLOOKUP(PS34,MATCHSELEVES!$Y$14:$AE$600,3,FALSE),0)","v":0},{"$f":"IFERROR(VLOOKUP(PS34,MATCHSELEVES!$Y$14:$AE$600,4,FALSE),0)","v":0},{"$f":"IFERROR(VLOOKUP(PS34,MATCHSELEVES!$Y$14:$AE$600,5,FALSE),0)","v":0},{"$f":"IFERROR(VLOOKUP(PS34,MATCHSELEVES!$Y$14:$AF$600,8,FALSE),0)","v":0},{"$f":"IFERROR(VLOOKUP(PS34,MATCHSELEVES!$Y$14:$AG$600,9,FALSE),0)","v":0},"Sirdtp_31",{"$f":"IFERROR(VLOOKUP(PY34,MATCHSELEVES!$Y$14:$AE$600,3,FALSE),0)","v":0},{"$f":"IFERROR(VLOOKUP(PY34,MATCHSELEVES!$Y$14:$AE$600,4,FALSE),0)","v":0},{"$f":"IFERROR(VLOOKUP(PY34,MATCHSELEVES!$Y$14:$AE$600,5,FALSE),0)","v":0},{"$f":"IFERROR(VLOOKUP(PY34,MATCHSELEVES!$Y$14:$AF$600,8,FALSE),0)","v":0},{"$f":"IFERROR(VLOOKUP(PY34,MATCHSELEVES!$Y$14:$AG$600,9,FALSE),0)","v":0},"Sirdtp_32",{"$f":"IFERROR(VLOOKUP(QE34,MATCHSELEVES!$Y$14:$AE$600,3,FALSE),0)","v":0},{"$f":"IFERROR(VLOOKUP(QE34,MATCHSELEVES!$Y$14:$AE$600,4,FALSE),0)","v":0},{"$f":"IFERROR(VLOOKUP(QE34,MATCHSELEVES!$Y$14:$AE$600,5,FALSE),0)","v":0},{"$f":"IFERROR(VLOOKUP(QE34,MATCHSELEVES!$Y$14:$AF$600,8,FALSE),0)","v":0},{"$f":"IFERROR(VLOOKUP(QE34,MATCHSELEVES!$Y$14:$AG$600,9,FALSE),0)","v":0},"Sirdtp_33",{"$f":"IFERROR(VLOOKUP(QK34,MATCHSELEVES!$Y$14:$AE$600,3,FALSE),0)","v":0},{"$f":"IFERROR(VLOOKUP(QK34,MATCHSELEVES!$Y$14:$AE$600,4,FALSE),0)","v":0},{"$f":"IFERROR(VLOOKUP(QK34,MATCHSELEVES!$Y$14:$AE$600,5,FALSE),0)","v":0},{"$f":"IFERROR(VLOOKUP(QK34,MATCHSELEVES!$Y$14:$AF$600,8,FALSE),0)","v":0},{"$f":"IFERROR(VLOOKUP(QK34,MATCHSELEVES!$Y$14:$AG$600,9,FALSE),0)","v":0},"Sirdtp_34",{"$f":"IFERROR(VLOOKUP(QQ34,MATCHSELEVES!$Y$14:$AE$600,3,FALSE),0)","v":0},{"$f":"IFERROR(VLOOKUP(QQ34,MATCHSELEVES!$Y$14:$AE$600,4,FALSE),0)","v":0},{"$f":"IFERROR(VLOOKUP(QQ34,MATCHSELEVES!$Y$14:$AE$600,5,FALSE),0)","v":0},{"$f":"IFERROR(VLOOKUP(QQ34,MATCHSELEVES!$Y$14:$AF$600,8,FALSE),0)","v":0},{"$f":"IFERROR(VLOOKUP(QQ34,MATCHSELEVES!$Y$14:$AG$600,9,FALSE),0)","v":0},"Sirdtp_35",{"$f":"IFERROR(VLOOKUP(QW34,MATCHSELEVES!$Y$14:$AE$600,3,FALSE),0)","v":0},{"$f":"IFERROR(VLOOKUP(QW34,MATCHSELEVES!$Y$14:$AE$600,4,FALSE),0)","v":0},{"$f":"IFERROR(VLOOKUP(QW34,MATCHSELEVES!$Y$14:$AE$600,5,FALSE),0)","v":0},{"$f":"IFERROR(VLOOKUP(QW34,MATCHSELEVES!$Y$14:$AF$600,8,FALSE),0)","v":0},{"$f":"IFERROR(VLOOKUP(QW34,MATCHSELEVES!$Y$14:$AG$600,9,FALSE),0)","v":0},"Sirdtp_36",{"$f":"IFERROR(VLOOKUP(RC34,MATCHSELEVES!$Y$14:$AE$600,3,FALSE),0)","v":0},{"$f":"IFERROR(VLOOKUP(RC34,MATCHSELEVES!$Y$14:$AE$600,4,FALSE),0)","v":0},{"$f":"IFERROR(VLOOKUP(RC34,MATCHSELEVES!$Y$14:$AE$600,5,FALSE),0)","v":0},{"$f":"IFERROR(VLOOKUP(RC34,MATCHSELEVES!$Y$14:$AF$600,8,FALSE),0)","v":0},{"$f":"IFERROR(VLOOKUP(RC34,MATCHSELEVES!$Y$14:$AG$600,9,FALSE),0)","v":0},"Sirdtp_37",{"$f":"IFERROR(VLOOKUP(RI34,MATCHSELEVES!$Y$14:$AE$600,3,FALSE),0)","v":0},{"$f":"IFERROR(VLOOKUP(RI34,MATCHSELEVES!$Y$14:$AE$600,4,FALSE),0)","v":0},{"$f":"IFERROR(VLOOKUP(RI34,MATCHSELEVES!$Y$14:$AE$600,5,FALSE),0)","v":0},{"$f":"IFERROR(VLOOKUP(RI34,MATCHSELEVES!$Y$14:$AF$600,8,FALSE),0)","v":0},{"$f":"IFERROR(VLOOKUP(RI34,MATCHSELEVES!$Y$14:$AG$600,9,FALSE),0)","v":0},"Sirdtp_38",{"$f":"IFERROR(VLOOKUP(RO34,MATCHSELEVES!$Y$14:$AE$600,3,FALSE),0)","v":0},{"$f":"IFERROR(VLOOKUP(RO34,MATCHSELEVES!$Y$14:$AE$600,4,FALSE),0)","v":0},{"$f":"IFERROR(VLOOKUP(RO34,MATCHSELEVES!$Y$14:$AE$600,5,FALSE),0)","v":0},{"$f":"IFERROR(VLOOKUP(RO34,MATCHSELEVES!$Y$14:$AF$600,8,FALSE),0)","v":0},{"$f":"IFERROR(VLOOKUP(RO34,MATCHSELEVES!$Y$14:$AG$600,9,FALSE),0)","v":0},"Sirdtp_39",{"$f":"IFERROR(VLOOKUP(RU34,MATCHSELEVES!$Y$14:$AE$600,3,FALSE),0)","v":0},{"$f":"IFERROR(VLOOKUP(RU34,MATCHSELEVES!$Y$14:$AE$600,4,FALSE),0)","v":0},{"$f":"IFERROR(VLOOKUP(RU34,MATCHSELEVES!$Y$14:$AE$600,5,FALSE),0)","v":0},{"$f":"IFERROR(VLOOKUP(RU34,MATCHSELEVES!$Y$14:$AF$600,8,FALSE),0)","v":0},{"$f":"IFERROR(VLOOKUP(RU34,MATCHSELEVES!$Y$14:$AG$600,9,FALSE),0)","v":0},"Sirdtp_40",{"$f":"IFERROR(VLOOKUP(SA34,MATCHSELEVES!$Y$14:$AE$600,3,FALSE),0)","v":0},{"$f":"IFERROR(VLOOKUP(SA34,MATCHSELEVES!$Y$14:$AE$600,4,FALSE),0)","v":0},{"$f":"IFERROR(VLOOKUP(SA34,MATCHSELEVES!$Y$14:$AE$600,5,FALSE),0)","v":0},{"$f":"IFERROR(VLOOKUP(SA34,MATCHSELEVES!$Y$14:$AF$600,8,FALSE),0)","v":0},{"$f":"IFERROR(VLOOKUP(SA34,MATCHSELEVES!$Y$14:$AG$600,9,FALSE),0)","v":0}]
[32,null,"Soumaya",32,null,null,{"$f":"COUNTIF(MATCHSELEVES!$Z$14:$Z$600,C35)+COUNTIF(MATCHSELEVES!$Z$14:$Z$600,$C35&\"p\")","v":0},1,{"$f":"COUNTIF(MATCHSELEVES!$F$14:$H$249,C35)","v":0},1,0,1,{"$f":"IFERROR(M78/Tableau10[[#This Row],[Nombre de matchs joués]],0)","v":0},{"$f":"IF(Tableau10[[#This Row],[Nombre de points encaissés]]=0,$C$45,SUMPRODUCT((M$4:M$43<M35)*(M$4:M$43<>0))+1)","v":40},0,1,{"$f":"(Tableau10[[#This Row],[CLASSEMENT1]]+Tableau10[[#This Row],[CLASSEMENT2]]+Tableau10[[#This Row],[CLASSEMENT3]]+Tableau10[[#This Row],[CLASSEMENT4]]+Tableau10[[#This Row],[CLASSEMENT5]]+Tableau10[[#This Row],[CLASSEMENT6]])/6","v":12.666666666666666},{"$f":"RANK(Tableau10[[#This Row],[MOYENNE CLASSEMENTS]],Tableau10[MOYENNE CLASSEMENTS],1)","v":32},null,{"$f":"Tableau10[[#This Row],[CLASSEMENT1]]","v":32},"Soumaya_1",{"$f":"IFERROR(VLOOKUP(U35,MATCHSELEVES!$Y$14:$AE$600,3,FALSE),0)","v":0},{"$f":"IFERROR(VLOOKUP(U35,MATCHSELEVES!$Y$14:$AE$600,4,FALSE),0)","v":0},{"$f":"IFERROR(VLOOKUP(U35,MATCHSELEVES!$Y$14:$AE$600,5,FALSE),0)","v":0},{"$f":"IFERROR(VLOOKUP(U35,MATCHSELEVES!$Y$14:$AF$600,8,FALSE),0)","v":0},{"$f":"IFERROR(VLOOKUP(U35,MATCHSELEVES!$Y$14:$AG$600,9,FALSE),0)","v":0},"Soumaya_2",{"$f":"IFERROR(VLOOKUP(AA35,MATCHSELEVES!$Y$14:$AE$600,3,FALSE),0)","v":0},{"$f":"IFERROR(VLOOKUP(AA35,MATCHSELEVES!$Y$14:$AE$600,4,FALSE),0)","v":0},{"$f":"IFERROR(VLOOKUP(AA35,MATCHSELEVES!$Y$14:$AE$600,5,FALSE),0)","v":0},{"$f":"IFERROR(VLOOKUP(AA35,MATCHSELEVES!$Y$14:$AF$600,8,FALSE),0)","v":0},{"$f":"IFERROR(VLOOKUP(AA35,MATCHSELEVES!$Y$14:$AG$600,9,FALSE),0)","v":0},"Soumaya_3",{"$f":"IFERROR(VLOOKUP(AG35,MATCHSELEVES!$Y$14:$AE$600,3,FALSE),0)","v":0},{"$f":"IFERROR(VLOOKUP(AG35,MATCHSELEVES!$Y$14:$AE$600,4,FALSE),0)","v":0},{"$f":"IFERROR(VLOOKUP(AG35,MATCHSELEVES!$Y$14:$AE$600,5,FALSE),0)","v":0},{"$f":"IFERROR(VLOOKUP(AG35,MATCHSELEVES!$Y$14:$AF$600,8,FALSE),0)","v":0},{"$f":"IFERROR(VLOOKUP(AG35,MATCHSELEVES!$Y$14:$AG$600,9,FALSE),0)","v":0},"Soumaya_4",{"$f":"IFERROR(VLOOKUP(AM35,MATCHSELEVES!$Y$14:$AE$600,3,FALSE),0)","v":0},{"$f":"IFERROR(VLOOKUP(AM35,MATCHSELEVES!$Y$14:$AE$600,4,FALSE),0)","v":0},{"$f":"IFERROR(VLOOKUP(AM35,MATCHSELEVES!$Y$14:$AE$600,5,FALSE),0)","v":0},{"$f":"IFERROR(VLOOKUP(AM35,MATCHSELEVES!$Y$14:$AF$600,8,FALSE),0)","v":0},{"$f":"IFERROR(VLOOKUP(AM35,MATCHSELEVES!$Y$14:$AG$600,9,FALSE),0)","v":0},"Soumaya_5",{"$f":"IFERROR(VLOOKUP(AS35,MATCHSELEVES!$Y$14:$AE$600,3,FALSE),0)","v":0},{"$f":"IFERROR(VLOOKUP(AS35,MATCHSELEVES!$Y$14:$AE$600,4,FALSE),0)","v":0},{"$f":"IFERROR(VLOOKUP(AS35,MATCHSELEVES!$Y$14:$AE$600,5,FALSE),0)","v":0},{"$f":"IFERROR(VLOOKUP(AS35,MATCHSELEVES!$Y$14:$AF$600,8,FALSE),0)","v":0},{"$f":"IFERROR(VLOOKUP(AS35,MATCHSELEVES!$Y$14:$AG$600,9,FALSE),0)","v":0},"Soumaya_6",{"$f":"IFERROR(VLOOKUP(AY35,MATCHSELEVES!$Y$14:$AE$600,3,FALSE),0)","v":0},{"$f":"IFERROR(VLOOKUP(AY35,MATCHSELEVES!$Y$14:$AE$600,4,FALSE),0)","v":0},{"$f":"IFERROR(VLOOKUP(AY35,MATCHSELEVES!$Y$14:$AE$600,5,FALSE),0)","v":0},{"$f":"IFERROR(VLOOKUP(AY35,MATCHSELEVES!$Y$14:$AF$600,8,FALSE),0)","v":0},{"$f":"IFERROR(VLOOKUP(AY35,MATCHSELEVES!$Y$14:$AG$600,9,FALSE),0)","v":0},"Soumaya_7",{"$f":"IFERROR(VLOOKUP(BE35,MATCHSELEVES!$Y$14:$AE$600,3,FALSE),0)","v":0},{"$f":"IFERROR(VLOOKUP(BE35,MATCHSELEVES!$Y$14:$AE$600,4,FALSE),0)","v":0},{"$f":"IFERROR(VLOOKUP(BE35,MATCHSELEVES!$Y$14:$AE$600,5,FALSE),0)","v":0},{"$f":"IFERROR(VLOOKUP(BE35,MATCHSELEVES!$Y$14:$AF$600,8,FALSE),0)","v":0},{"$f":"IFERROR(VLOOKUP(BE35,MATCHSELEVES!$Y$14:$AG$600,9,FALSE),0)","v":0},"Soumaya_8",{"$f":"IFERROR(VLOOKUP(BK35,MATCHSELEVES!$Y$14:$AE$600,3,FALSE),0)","v":0},{"$f":"IFERROR(VLOOKUP(BK35,MATCHSELEVES!$Y$14:$AE$600,4,FALSE),0)","v":0},{"$f":"IFERROR(VLOOKUP(BK35,MATCHSELEVES!$Y$14:$AE$600,5,FALSE),0)","v":0},{"$f":"IFERROR(VLOOKUP(BK35,MATCHSELEVES!$Y$14:$AF$600,8,FALSE),0)","v":0},{"$f":"IFERROR(VLOOKUP(BK35,MATCHSELEVES!$Y$14:$AG$600,9,FALSE),0)","v":0},"Soumaya_9",{"$f":"IFERROR(VLOOKUP(BQ35,MATCHSELEVES!$Y$14:$AE$600,3,FALSE),0)","v":0},{"$f":"IFERROR(VLOOKUP(BQ35,MATCHSELEVES!$Y$14:$AE$600,4,FALSE),0)","v":0},{"$f":"IFERROR(VLOOKUP(BQ35,MATCHSELEVES!$Y$14:$AE$600,5,FALSE),0)","v":0},{"$f":"IFERROR(VLOOKUP(BQ35,MATCHSELEVES!$Y$14:$AF$600,8,FALSE),0)","v":0},{"$f":"IFERROR(VLOOKUP(BQ35,MATCHSELEVES!$Y$14:$AG$600,9,FALSE),0)","v":0},"Soumaya_10",{"$f":"IFERROR(VLOOKUP(BW35,MATCHSELEVES!$Y$14:$AE$600,3,FALSE),0)","v":0},{"$f":"IFERROR(VLOOKUP(BW35,MATCHSELEVES!$Y$14:$AE$600,4,FALSE),0)","v":0},{"$f":"IFERROR(VLOOKUP(BW35,MATCHSELEVES!$Y$14:$AE$600,5,FALSE),0)","v":0},{"$f":"IFERROR(VLOOKUP(BW35,MATCHSELEVES!$Y$14:$AF$600,8,FALSE),0)","v":0},{"$f":"IFERROR(VLOOKUP(BW35,MATCHSELEVES!$Y$14:$AG$600,9,FALSE),0)","v":0},"Soumaya_11",{"$f":"IFERROR(VLOOKUP(CC35,MATCHSELEVES!$Y$14:$AE$600,3,FALSE),0)","v":0},{"$f":"IFERROR(VLOOKUP(CC35,MATCHSELEVES!$Y$14:$AE$600,4,FALSE),0)","v":0},{"$f":"IFERROR(VLOOKUP(CC35,MATCHSELEVES!$Y$14:$AE$600,5,FALSE),0)","v":0},{"$f":"IFERROR(VLOOKUP(CC35,MATCHSELEVES!$Y$14:$AF$600,8,FALSE),0)","v":0},{"$f":"IFERROR(VLOOKUP(CC35,MATCHSELEVES!$Y$14:$AG$600,9,FALSE),0)","v":0},"Soumaya_12",{"$f":"IFERROR(VLOOKUP(CI35,MATCHSELEVES!$Y$14:$AE$600,3,FALSE),0)","v":0},{"$f":"IFERROR(VLOOKUP(CI35,MATCHSELEVES!$Y$14:$AE$600,4,FALSE),0)","v":0},{"$f":"IFERROR(VLOOKUP(CI35,MATCHSELEVES!$Y$14:$AE$600,5,FALSE),0)","v":0},{"$f":"IFERROR(VLOOKUP(CI35,MATCHSELEVES!$Y$14:$AF$600,8,FALSE),0)","v":0},{"$f":"IFERROR(VLOOKUP(CI35,MATCHSELEVES!$Y$14:$AG$600,9,FALSE),0)","v":0},"Soumaya_13",{"$f":"IFERROR(VLOOKUP(CO35,MATCHSELEVES!$Y$14:$AE$600,3,FALSE),0)","v":0},{"$f":"IFERROR(VLOOKUP(CO35,MATCHSELEVES!$Y$14:$AE$600,4,FALSE),0)","v":0},{"$f":"IFERROR(VLOOKUP(CO35,MATCHSELEVES!$Y$14:$AE$600,5,FALSE),0)","v":0},{"$f":"IFERROR(VLOOKUP(CO35,MATCHSELEVES!$Y$14:$AF$600,8,FALSE),0)","v":0},{"$f":"IFERROR(VLOOKUP(CO35,MATCHSELEVES!$Y$14:$AG$600,9,FALSE),0)","v":0},"Soumaya_14",{"$f":"IFERROR(VLOOKUP(CU35,MATCHSELEVES!$Y$14:$AE$600,3,FALSE),0)","v":0},{"$f":"IFERROR(VLOOKUP(CU35,MATCHSELEVES!$Y$14:$AE$600,4,FALSE),0)","v":0},{"$f":"IFERROR(VLOOKUP(CU35,MATCHSELEVES!$Y$14:$AE$600,5,FALSE),0)","v":0},{"$f":"IFERROR(VLOOKUP(CU35,MATCHSELEVES!$Y$14:$AF$600,8,FALSE),0)","v":0},{"$f":"IFERROR(VLOOKUP(CU35,MATCHSELEVES!$Y$14:$AG$600,9,FALSE),0)","v":0},"Soumaya_15",{"$f":"IFERROR(VLOOKUP(DA35,MATCHSELEVES!$Y$14:$AE$600,3,FALSE),0)","v":0},{"$f":"IFERROR(VLOOKUP(DA35,MATCHSELEVES!$Y$14:$AE$600,4,FALSE),0)","v":0},{"$f":"IFERROR(VLOOKUP(DA35,MATCHSELEVES!$Y$14:$AE$600,5,FALSE),0)","v":0},{"$f":"IFERROR(VLOOKUP(DA35,MATCHSELEVES!$Y$14:$AF$600,8,FALSE),0)","v":0},{"$f":"IFERROR(VLOOKUP(DA35,MATCHSELEVES!$Y$14:$AG$600,9,FALSE),0)","v":0},"Soumaya_16",{"$f":"IFERROR(VLOOKUP(DG35,MATCHSELEVES!$Y$14:$AE$600,3,FALSE),0)","v":0},{"$f":"IFERROR(VLOOKUP(DG35,MATCHSELEVES!$Y$14:$AE$600,4,FALSE),0)","v":0},{"$f":"IFERROR(VLOOKUP(DG35,MATCHSELEVES!$Y$14:$AE$600,5,FALSE),0)","v":0},{"$f":"IFERROR(VLOOKUP(DG35,MATCHSELEVES!$Y$14:$AF$600,8,FALSE),0)","v":0},{"$f":"IFERROR(VLOOKUP(DG35,MATCHSELEVES!$Y$14:$AG$600,9,FALSE),0)","v":0},"Soumaya_17",{"$f":"IFERROR(VLOOKUP(DM35,MATCHSELEVES!$Y$14:$AE$600,3,FALSE),0)","v":0},{"$f":"IFERROR(VLOOKUP(DM35,MATCHSELEVES!$Y$14:$AE$600,4,FALSE),0)","v":0},{"$f":"IFERROR(VLOOKUP(DM35,MATCHSELEVES!$Y$14:$AE$600,5,FALSE),0)","v":0},{"$f":"IFERROR(VLOOKUP(DM35,MATCHSELEVES!$Y$14:$AF$600,8,FALSE),0)","v":0},{"$f":"IFERROR(VLOOKUP(DM35,MATCHSELEVES!$Y$14:$AG$600,9,FALSE),0)","v":0},"Soumaya_18",{"$f":"IFERROR(VLOOKUP(DS35,MATCHSELEVES!$Y$14:$AE$600,3,FALSE),0)","v":0},{"$f":"IFERROR(VLOOKUP(DS35,MATCHSELEVES!$Y$14:$AE$600,4,FALSE),0)","v":0},{"$f":"IFERROR(VLOOKUP(DS35,MATCHSELEVES!$Y$14:$AE$600,5,FALSE),0)","v":0},{"$f":"IFERROR(VLOOKUP(DS35,MATCHSELEVES!$Y$14:$AF$600,8,FALSE),0)","v":0},{"$f":"IFERROR(VLOOKUP(DS35,MATCHSELEVES!$Y$14:$AG$600,9,FALSE),0)","v":0},"Soumaya_19",{"$f":"IFERROR(VLOOKUP(DY35,MATCHSELEVES!$Y$14:$AE$600,3,FALSE),0)","v":0},{"$f":"IFERROR(VLOOKUP(DY35,MATCHSELEVES!$Y$14:$AE$600,4,FALSE),0)","v":0},{"$f":"IFERROR(VLOOKUP(DY35,MATCHSELEVES!$Y$14:$AE$600,5,FALSE),0)","v":0},{"$f":"IFERROR(VLOOKUP(DY35,MATCHSELEVES!$Y$14:$AF$600,8,FALSE),0)","v":0},{"$f":"IFERROR(VLOOKUP(DY35,MATCHSELEVES!$Y$14:$AG$600,9,FALSE),0)","v":0},"Soumaya_20",{"$f":"IFERROR(VLOOKUP(EE35,MATCHSELEVES!$Y$14:$AE$600,3,FALSE),0)","v":0},{"$f":"IFERROR(VLOOKUP(EE35,MATCHSELEVES!$Y$14:$AE$600,4,FALSE),0)","v":0},{"$f":"IFERROR(VLOOKUP(EE35,MATCHSELEVES!$Y$14:$AE$600,5,FALSE),0)","v":0},{"$f":"IFERROR(VLOOKUP(EE35,MATCHSELEVES!$Y$14:$AF$600,8,FALSE),0)","v":0},{"$f":"IFERROR(VLOOKUP(EE35,MATCHSELEVES!$Y$14:$AG$600,9,FALSE),0)","v":0},"Soumaya_21",{"$f":"IFERROR(VLOOKUP(EK35,MATCHSELEVES!$Y$14:$AE$600,3,FALSE),0)","v":0},{"$f":"IFERROR(VLOOKUP(EK35,MATCHSELEVES!$Y$14:$AE$600,4,FALSE),0)","v":0},{"$f":"IFERROR(VLOOKUP(EK35,MATCHSELEVES!$Y$14:$AE$600,5,FALSE),0)","v":0},{"$f":"IFERROR(VLOOKUP(EK35,MATCHSELEVES!$Y$14:$AF$600,8,FALSE),0)","v":0},{"$f":"IFERROR(VLOOKUP(EK35,MATCHSELEVES!$Y$14:$AG$600,9,FALSE),0)","v":0},"Soumaya_22",{"$f":"IFERROR(VLOOKUP(EQ35,MATCHSELEVES!$Y$14:$AE$600,3,FALSE),0)","v":0},{"$f":"IFERROR(VLOOKUP(EQ35,MATCHSELEVES!$Y$14:$AE$600,4,FALSE),0)","v":0},{"$f":"IFERROR(VLOOKUP(EQ35,MATCHSELEVES!$Y$14:$AE$600,5,FALSE),0)","v":0},{"$f":"IFERROR(VLOOKUP(EQ35,MATCHSELEVES!$Y$14:$AF$600,8,FALSE),0)","v":0},{"$f":"IFERROR(VLOOKUP(EQ35,MATCHSELEVES!$Y$14:$AG$600,9,FALSE),0)","v":0},"Soumaya_23",{"$f":"IFERROR(VLOOKUP(EW35,MATCHSELEVES!$Y$14:$AE$600,3,FALSE),0)","v":0},{"$f":"IFERROR(VLOOKUP(EW35,MATCHSELEVES!$Y$14:$AE$600,4,FALSE),0)","v":0},{"$f":"IFERROR(VLOOKUP(EW35,MATCHSELEVES!$Y$14:$AE$600,5,FALSE),0)","v":0},{"$f":"IFERROR(VLOOKUP(EW35,MATCHSELEVES!$Y$14:$AF$600,8,FALSE),0)","v":0},{"$f":"IFERROR(VLOOKUP(EW35,MATCHSELEVES!$Y$14:$AG$600,9,FALSE),0)","v":0},"Soumaya_24",{"$f":"IFERROR(VLOOKUP(FC35,MATCHSELEVES!$Y$14:$AE$600,3,FALSE),0)","v":0},{"$f":"IFERROR(VLOOKUP(FC35,MATCHSELEVES!$Y$14:$AE$600,4,FALSE),0)","v":0},{"$f":"IFERROR(VLOOKUP(FC35,MATCHSELEVES!$Y$14:$AE$600,5,FALSE),0)","v":0},{"$f":"IFERROR(VLOOKUP(FC35,MATCHSELEVES!$Y$14:$AF$600,8,FALSE),0)","v":0},{"$f":"IFERROR(VLOOKUP(FC35,MATCHSELEVES!$Y$14:$AG$600,9,FALSE),0)","v":0},"Soumaya_25",{"$f":"IFERROR(VLOOKUP(FI35,MATCHSELEVES!$Y$14:$AE$600,3,FALSE),0)","v":0},{"$f":"IFERROR(VLOOKUP(FI35,MATCHSELEVES!$Y$14:$AE$600,4,FALSE),0)","v":0},{"$f":"IFERROR(VLOOKUP(FI35,MATCHSELEVES!$Y$14:$AE$600,5,FALSE),0)","v":0},{"$f":"IFERROR(VLOOKUP(FI35,MATCHSELEVES!$Y$14:$AF$600,8,FALSE),0)","v":0},{"$f":"IFERROR(VLOOKUP(FI35,MATCHSELEVES!$Y$14:$AG$600,9,FALSE),0)","v":0},"Soumaya_26",{"$f":"IFERROR(VLOOKUP(FO35,MATCHSELEVES!$Y$14:$AE$600,3,FALSE),0)","v":0},{"$f":"IFERROR(VLOOKUP(FO35,MATCHSELEVES!$Y$14:$AE$600,4,FALSE),0)","v":0},{"$f":"IFERROR(VLOOKUP(FO35,MATCHSELEVES!$Y$14:$AE$600,5,FALSE),0)","v":0},{"$f":"IFERROR(VLOOKUP(FO35,MATCHSELEVES!$Y$14:$AF$600,8,FALSE),0)","v":0},{"$f":"IFERROR(VLOOKUP(FO35,MATCHSELEVES!$Y$14:$AG$600,9,FALSE),0)","v":0},"Soumaya_27",{"$f":"IFERROR(VLOOKUP(FU35,MATCHSELEVES!$Y$14:$AE$600,3,FALSE),0)","v":0},{"$f":"IFERROR(VLOOKUP(FU35,MATCHSELEVES!$Y$14:$AE$600,4,FALSE),0)","v":0},{"$f":"IFERROR(VLOOKUP(FU35,MATCHSELEVES!$Y$14:$AE$600,5,FALSE),0)","v":0},{"$f":"IFERROR(VLOOKUP(FU35,MATCHSELEVES!$Y$14:$AF$600,8,FALSE),0)","v":0},{"$f":"IFERROR(VLOOKUP(FU35,MATCHSELEVES!$Y$14:$AG$600,9,FALSE),0)","v":0},"Soumaya_28",{"$f":"IFERROR(VLOOKUP(GA35,MATCHSELEVES!$Y$14:$AE$600,3,FALSE),0)","v":0},{"$f":"IFERROR(VLOOKUP(GA35,MATCHSELEVES!$Y$14:$AE$600,4,FALSE),0)","v":0},{"$f":"IFERROR(VLOOKUP(GA35,MATCHSELEVES!$Y$14:$AE$600,5,FALSE),0)","v":0},{"$f":"IFERROR(VLOOKUP(GA35,MATCHSELEVES!$Y$14:$AF$600,8,FALSE),0)","v":0},{"$f":"IFERROR(VLOOKUP(GA35,MATCHSELEVES!$Y$14:$AG$600,9,FALSE),0)","v":0},"Soumaya_29",{"$f":"IFERROR(VLOOKUP(GG35,MATCHSELEVES!$Y$14:$AE$600,3,FALSE),0)","v":0},{"$f":"IFERROR(VLOOKUP(GG35,MATCHSELEVES!$Y$14:$AE$600,4,FALSE),0)","v":0},{"$f":"IFERROR(VLOOKUP(GG35,MATCHSELEVES!$Y$14:$AE$600,5,FALSE),0)","v":0},{"$f":"IFERROR(VLOOKUP(GG35,MATCHSELEVES!$Y$14:$AF$600,8,FALSE),0)","v":0},{"$f":"IFERROR(VLOOKUP(GG35,MATCHSELEVES!$Y$14:$AG$600,9,FALSE),0)","v":0},"Soumaya_30",{"$f":"IFERROR(VLOOKUP(GM35,MATCHSELEVES!$Y$14:$AE$600,3,FALSE),0)","v":0},{"$f":"IFERROR(VLOOKUP(GM35,MATCHSELEVES!$Y$14:$AE$600,4,FALSE),0)","v":0},{"$f":"IFERROR(VLOOKUP(GM35,MATCHSELEVES!$Y$14:$AE$600,5,FALSE),0)","v":0},{"$f":"IFERROR(VLOOKUP(GM35,MATCHSELEVES!$Y$14:$AF$600,8,FALSE),0)","v":0},{"$f":"IFERROR(VLOOKUP(GM35,MATCHSELEVES!$Y$14:$AG$600,9,FALSE),0)","v":0},"Soumaya_31",{"$f":"IFERROR(VLOOKUP(GS35,MATCHSELEVES!$Y$14:$AE$600,3,FALSE),0)","v":0},{"$f":"IFERROR(VLOOKUP(GS35,MATCHSELEVES!$Y$14:$AE$600,4,FALSE),0)","v":0},{"$f":"IFERROR(VLOOKUP(GS35,MATCHSELEVES!$Y$14:$AE$600,5,FALSE),0)","v":0},{"$f":"IFERROR(VLOOKUP(GS35,MATCHSELEVES!$Y$14:$AF$600,8,FALSE),0)","v":0},{"$f":"IFERROR(VLOOKUP(GS35,MATCHSELEVES!$Y$14:$AG$600,9,FALSE),0)","v":0},"Soumaya_32",{"$f":"IFERROR(VLOOKUP(GY35,MATCHSELEVES!$Y$14:$AE$600,3,FALSE),0)","v":0},{"$f":"IFERROR(VLOOKUP(GY35,MATCHSELEVES!$Y$14:$AE$600,4,FALSE),0)","v":0},{"$f":"IFERROR(VLOOKUP(GY35,MATCHSELEVES!$Y$14:$AE$600,5,FALSE),0)","v":0},{"$f":"IFERROR(VLOOKUP(GY35,MATCHSELEVES!$Y$14:$AF$600,8,FALSE),0)","v":0},{"$f":"IFERROR(VLOOKUP(GY35,MATCHSELEVES!$Y$14:$AG$600,9,FALSE),0)","v":0},"Soumaya_33",{"$f":"IFERROR(VLOOKUP(HE35,MATCHSELEVES!$Y$14:$AE$600,3,FALSE),0)","v":0},{"$f":"IFERROR(VLOOKUP(HE35,MATCHSELEVES!$Y$14:$AE$600,4,FALSE),0)","v":0},{"$f":"IFERROR(VLOOKUP(HE35,MATCHSELEVES!$Y$14:$AE$600,5,FALSE),0)","v":0},{"$f":"IFERROR(VLOOKUP(HE35,MATCHSELEVES!$Y$14:$AF$600,8,FALSE),0)","v":0},{"$f":"IFERROR(VLOOKUP(HE35,MATCHSELEVES!$Y$14:$AG$600,9,FALSE),0)","v":0},"Soumaya_34",{"$f":"IFERROR(VLOOKUP(HK35,MATCHSELEVES!$Y$14:$AE$600,3,FALSE),0)","v":0},{"$f":"IFERROR(VLOOKUP(HK35,MATCHSELEVES!$Y$14:$AE$600,4,FALSE),0)","v":0},{"$f":"IFERROR(VLOOKUP(HK35,MATCHSELEVES!$Y$14:$AE$600,5,FALSE),0)","v":0},{"$f":"IFERROR(VLOOKUP(HK35,MATCHSELEVES!$Y$14:$AF$600,8,FALSE),0)","v":0},{"$f":"IFERROR(VLOOKUP(HK35,MATCHSELEVES!$Y$14:$AG$600,9,FALSE),0)","v":0},"Soumaya_35",{"$f":"IFERROR(VLOOKUP(HQ35,MATCHSELEVES!$Y$14:$AE$600,3,FALSE),0)","v":0},{"$f":"IFERROR(VLOOKUP(HQ35,MATCHSELEVES!$Y$14:$AE$600,4,FALSE),0)","v":0},{"$f":"IFERROR(VLOOKUP(HQ35,MATCHSELEVES!$Y$14:$AE$600,5,FALSE),0)","v":0},{"$f":"IFERROR(VLOOKUP(HQ35,MATCHSELEVES!$Y$14:$AF$600,8,FALSE),0)","v":0},{"$f":"IFERROR(VLOOKUP(HQ35,MATCHSELEVES!$Y$14:$AG$600,9,FALSE),0)","v":0},"Soumaya_36",{"$f":"IFERROR(VLOOKUP(HW35,MATCHSELEVES!$Y$14:$AE$600,3,FALSE),0)","v":0},{"$f":"IFERROR(VLOOKUP(HW35,MATCHSELEVES!$Y$14:$AE$600,4,FALSE),0)","v":0},{"$f":"IFERROR(VLOOKUP(HW35,MATCHSELEVES!$Y$14:$AE$600,5,FALSE),0)","v":0},{"$f":"IFERROR(VLOOKUP(HW35,MATCHSELEVES!$Y$14:$AF$600,8,FALSE),0)","v":0},{"$f":"IFERROR(VLOOKUP(HW35,MATCHSELEVES!$Y$14:$AG$600,9,FALSE),0)","v":0},"Soumaya_37",{"$f":"IFERROR(VLOOKUP(IC35,MATCHSELEVES!$Y$14:$AE$600,3,FALSE),0)","v":0},{"$f":"IFERROR(VLOOKUP(IC35,MATCHSELEVES!$Y$14:$AE$600,4,FALSE),0)","v":0},{"$f":"IFERROR(VLOOKUP(IC35,MATCHSELEVES!$Y$14:$AE$600,5,FALSE),0)","v":0},{"$f":"IFERROR(VLOOKUP(IC35,MATCHSELEVES!$Y$14:$AF$600,8,FALSE),0)","v":0},{"$f":"IFERROR(VLOOKUP(IC35,MATCHSELEVES!$Y$14:$AG$600,9,FALSE),0)","v":0},"Soumaya_38",{"$f":"IFERROR(VLOOKUP(II35,MATCHSELEVES!$Y$14:$AE$600,3,FALSE),0)","v":0},{"$f":"IFERROR(VLOOKUP(II35,MATCHSELEVES!$Y$14:$AE$600,4,FALSE),0)","v":0},{"$f":"IFERROR(VLOOKUP(II35,MATCHSELEVES!$Y$14:$AE$600,5,FALSE),0)","v":0},{"$f":"IFERROR(VLOOKUP(II35,MATCHSELEVES!$Y$14:$AF$600,8,FALSE),0)","v":0},{"$f":"IFERROR(VLOOKUP(II35,MATCHSELEVES!$Y$14:$AG$600,9,FALSE),0)","v":0},"Soumaya_39",{"$f":"IFERROR(VLOOKUP(IO35,MATCHSELEVES!$Y$14:$AE$600,3,FALSE),0)","v":0},{"$f":"IFERROR(VLOOKUP(IO35,MATCHSELEVES!$Y$14:$AE$600,4,FALSE),0)","v":0},{"$f":"IFERROR(VLOOKUP(IO35,MATCHSELEVES!$Y$14:$AE$600,5,FALSE),0)","v":0},{"$f":"IFERROR(VLOOKUP(IO35,MATCHSELEVES!$Y$14:$AF$600,8,FALSE),0)","v":0},{"$f":"IFERROR(VLOOKUP(IO35,MATCHSELEVES!$Y$14:$AG$600,9,FALSE),0)","v":0},"Soumaya_40",{"$f":"IFERROR(VLOOKUP(IU35,MATCHSELEVES!$Y$14:$AE$600,3,FALSE),0)","v":0},{"$f":"IFERROR(VLOOKUP(IU35,MATCHSELEVES!$Y$14:$AE$600,4,FALSE),0)","v":0},{"$f":"IFERROR(VLOOKUP(IU35,MATCHSELEVES!$Y$14:$AE$600,5,FALSE),0)","v":0},{"$f":"IFERROR(VLOOKUP(IU35,MATCHSELEVES!$Y$14:$AF$600,8,FALSE),0)","v":0},{"$f":"IFERROR(VLOOKUP(IU35,MATCHSELEVES!$Y$14:$AG$600,9,FALSE),0)","v":0},"Soumayap_1",{"$f":"IFERROR(VLOOKUP(JA35,MATCHSELEVES!$Y$14:$AE$600,3,FALSE),0)","v":0},{"$f":"IFERROR(VLOOKUP(JA35,MATCHSELEVES!$Y$14:$AE$600,4,FALSE),0)","v":0},{"$f":"IFERROR(VLOOKUP(JA35,MATCHSELEVES!$Y$14:$AE$600,5,FALSE),0)","v":0},{"$f":"IFERROR(VLOOKUP(JA35,MATCHSELEVES!$Y$14:$AF$600,8,FALSE),0)","v":0},{"$f":"IFERROR(VLOOKUP(JA35,MATCHSELEVES!$Y$14:$AG$600,9,FALSE),0)","v":0},"Soumayap_2",{"$f":"IFERROR(VLOOKUP(JG35,MATCHSELEVES!$Y$14:$AE$600,3,FALSE),0)","v":0},{"$f":"IFERROR(VLOOKUP(JG35,MATCHSELEVES!$Y$14:$AE$600,4,FALSE),0)","v":0},{"$f":"IFERROR(VLOOKUP(JG35,MATCHSELEVES!$Y$14:$AE$600,5,FALSE),0)","v":0},{"$f":"IFERROR(VLOOKUP(JG35,MATCHSELEVES!$Y$14:$AF$600,8,FALSE),0)","v":0},{"$f":"IFERROR(VLOOKUP(JG35,MATCHSELEVES!$Y$14:$AG$600,9,FALSE),0)","v":0},"Soumayap_3",{"$f":"IFERROR(VLOOKUP(JM35,MATCHSELEVES!$Y$14:$AE$600,3,FALSE),0)","v":0},{"$f":"IFERROR(VLOOKUP(JM35,MATCHSELEVES!$Y$14:$AE$600,4,FALSE),0)","v":0},{"$f":"IFERROR(VLOOKUP(JM35,MATCHSELEVES!$Y$14:$AE$600,5,FALSE),0)","v":0},{"$f":"IFERROR(VLOOKUP(JM35,MATCHSELEVES!$Y$14:$AF$600,8,FALSE),0)","v":0},{"$f":"IFERROR(VLOOKUP(JM35,MATCHSELEVES!$Y$14:$AG$600,9,FALSE),0)","v":0},"Soumayap_4",{"$f":"IFERROR(VLOOKUP(JS35,MATCHSELEVES!$Y$14:$AE$600,3,FALSE),0)","v":0},{"$f":"IFERROR(VLOOKUP(JS35,MATCHSELEVES!$Y$14:$AE$600,4,FALSE),0)","v":0},{"$f":"IFERROR(VLOOKUP(JS35,MATCHSELEVES!$Y$14:$AE$600,5,FALSE),0)","v":0},{"$f":"IFERROR(VLOOKUP(JS35,MATCHSELEVES!$Y$14:$AF$600,8,FALSE),0)","v":0},{"$f":"IFERROR(VLOOKUP(JS35,MATCHSELEVES!$Y$14:$AG$600,9,FALSE),0)","v":0},"Soumayap_5",{"$f":"IFERROR(VLOOKUP(JY35,MATCHSELEVES!$Y$14:$AE$600,3,FALSE),0)","v":0},{"$f":"IFERROR(VLOOKUP(JY35,MATCHSELEVES!$Y$14:$AE$600,4,FALSE),0)","v":0},{"$f":"IFERROR(VLOOKUP(JY35,MATCHSELEVES!$Y$14:$AE$600,5,FALSE),0)","v":0},{"$f":"IFERROR(VLOOKUP(JY35,MATCHSELEVES!$Y$14:$AF$600,8,FALSE),0)","v":0},{"$f":"IFERROR(VLOOKUP(JY35,MATCHSELEVES!$Y$14:$AG$600,9,FALSE),0)","v":0},"Soumayap_6",{"$f":"IFERROR(VLOOKUP(KE35,MATCHSELEVES!$Y$14:$AE$600,3,FALSE),0)","v":0},{"$f":"IFERROR(VLOOKUP(KE35,MATCHSELEVES!$Y$14:$AE$600,4,FALSE),0)","v":0},{"$f":"IFERROR(VLOOKUP(KE35,MATCHSELEVES!$Y$14:$AE$600,5,FALSE),0)","v":0},{"$f":"IFERROR(VLOOKUP(KE35,MATCHSELEVES!$Y$14:$AF$600,8,FALSE),0)","v":0},{"$f":"IFERROR(VLOOKUP(KE35,MATCHSELEVES!$Y$14:$AG$600,9,FALSE),0)","v":0},"Soumayap_7",{"$f":"IFERROR(VLOOKUP(KK35,MATCHSELEVES!$Y$14:$AE$600,3,FALSE),0)","v":0},{"$f":"IFERROR(VLOOKUP(KK35,MATCHSELEVES!$Y$14:$AE$600,4,FALSE),0)","v":0},{"$f":"IFERROR(VLOOKUP(KK35,MATCHSELEVES!$Y$14:$AE$600,5,FALSE),0)","v":0},{"$f":"IFERROR(VLOOKUP(KK35,MATCHSELEVES!$Y$14:$AF$600,8,FALSE),0)","v":0},{"$f":"IFERROR(VLOOKUP(KK35,MATCHSELEVES!$Y$14:$AG$600,9,FALSE),0)","v":0},"Soumayap_8",{"$f":"IFERROR(VLOOKUP(KQ35,MATCHSELEVES!$Y$14:$AE$600,3,FALSE),0)","v":0},{"$f":"IFERROR(VLOOKUP(KQ35,MATCHSELEVES!$Y$14:$AE$600,4,FALSE),0)","v":0},{"$f":"IFERROR(VLOOKUP(KQ35,MATCHSELEVES!$Y$14:$AE$600,5,FALSE),0)","v":0},{"$f":"IFERROR(VLOOKUP(KQ35,MATCHSELEVES!$Y$14:$AF$600,8,FALSE),0)","v":0},{"$f":"IFERROR(VLOOKUP(KQ35,MATCHSELEVES!$Y$14:$AG$600,9,FALSE),0)","v":0},"Soumayap_9",{"$f":"IFERROR(VLOOKUP(KW35,MATCHSELEVES!$Y$14:$AE$600,3,FALSE),0)","v":0},{"$f":"IFERROR(VLOOKUP(KW35,MATCHSELEVES!$Y$14:$AE$600,4,FALSE),0)","v":0},{"$f":"IFERROR(VLOOKUP(KW35,MATCHSELEVES!$Y$14:$AE$600,5,FALSE),0)","v":0},{"$f":"IFERROR(VLOOKUP(KW35,MATCHSELEVES!$Y$14:$AF$600,8,FALSE),0)","v":0},{"$f":"IFERROR(VLOOKUP(KW35,MATCHSELEVES!$Y$14:$AG$600,9,FALSE),0)","v":0},"Soumayap_10",{"$f":"IFERROR(VLOOKUP(LC35,MATCHSELEVES!$Y$14:$AE$600,3,FALSE),0)","v":0},{"$f":"IFERROR(VLOOKUP(LC35,MATCHSELEVES!$Y$14:$AE$600,4,FALSE),0)","v":0},{"$f":"IFERROR(VLOOKUP(LC35,MATCHSELEVES!$Y$14:$AE$600,5,FALSE),0)","v":0},{"$f":"IFERROR(VLOOKUP(LC35,MATCHSELEVES!$Y$14:$AF$600,8,FALSE),0)","v":0},{"$f":"IFERROR(VLOOKUP(LC35,MATCHSELEVES!$Y$14:$AG$600,9,FALSE),0)","v":0},"Soumayap_11",{"$f":"IFERROR(VLOOKUP(LI35,MATCHSELEVES!$Y$14:$AE$600,3,FALSE),0)","v":0},{"$f":"IFERROR(VLOOKUP(LI35,MATCHSELEVES!$Y$14:$AE$600,4,FALSE),0)","v":0},{"$f":"IFERROR(VLOOKUP(LI35,MATCHSELEVES!$Y$14:$AE$600,5,FALSE),0)","v":0},{"$f":"IFERROR(VLOOKUP(LI35,MATCHSELEVES!$Y$14:$AF$600,8,FALSE),0)","v":0},{"$f":"IFERROR(VLOOKUP(LI35,MATCHSELEVES!$Y$14:$AG$600,9,FALSE),0)","v":0},"Soumayap_12",{"$f":"IFERROR(VLOOKUP(LO35,MATCHSELEVES!$Y$14:$AE$600,3,FALSE),0)","v":0},{"$f":"IFERROR(VLOOKUP(LO35,MATCHSELEVES!$Y$14:$AE$600,4,FALSE),0)","v":0},{"$f":"IFERROR(VLOOKUP(LO35,MATCHSELEVES!$Y$14:$AE$600,5,FALSE),0)","v":0},{"$f":"IFERROR(VLOOKUP(LO35,MATCHSELEVES!$Y$14:$AF$600,8,FALSE),0)","v":0},{"$f":"IFERROR(VLOOKUP(LO35,MATCHSELEVES!$Y$14:$AG$600,9,FALSE),0)","v":0},"Soumayap_13",{"$f":"IFERROR(VLOOKUP(LU35,MATCHSELEVES!$Y$14:$AE$600,3,FALSE),0)","v":0},{"$f":"IFERROR(VLOOKUP(LU35,MATCHSELEVES!$Y$14:$AE$600,4,FALSE),0)","v":0},{"$f":"IFERROR(VLOOKUP(LU35,MATCHSELEVES!$Y$14:$AE$600,5,FALSE),0)","v":0},{"$f":"IFERROR(VLOOKUP(LU35,MATCHSELEVES!$Y$14:$AF$600,8,FALSE),0)","v":0},{"$f":"IFERROR(VLOOKUP(LU35,MATCHSELEVES!$Y$14:$AG$600,9,FALSE),0)","v":0},"Soumayap_14",{"$f":"IFERROR(VLOOKUP(MA35,MATCHSELEVES!$Y$14:$AE$600,3,FALSE),0)","v":0},{"$f":"IFERROR(VLOOKUP(MA35,MATCHSELEVES!$Y$14:$AE$600,4,FALSE),0)","v":0},{"$f":"IFERROR(VLOOKUP(MA35,MATCHSELEVES!$Y$14:$AE$600,5,FALSE),0)","v":0},{"$f":"IFERROR(VLOOKUP(MA35,MATCHSELEVES!$Y$14:$AF$600,8,FALSE),0)","v":0},{"$f":"IFERROR(VLOOKUP(MA35,MATCHSELEVES!$Y$14:$AG$600,9,FALSE),0)","v":0},"Soumayap_15",{"$f":"IFERROR(VLOOKUP(MG35,MATCHSELEVES!$Y$14:$AE$600,3,FALSE),0)","v":0},{"$f":"IFERROR(VLOOKUP(MG35,MATCHSELEVES!$Y$14:$AE$600,4,FALSE),0)","v":0},{"$f":"IFERROR(VLOOKUP(MG35,MATCHSELEVES!$Y$14:$AE$600,5,FALSE),0)","v":0},{"$f":"IFERROR(VLOOKUP(MG35,MATCHSELEVES!$Y$14:$AF$600,8,FALSE),0)","v":0},{"$f":"IFERROR(VLOOKUP(MG35,MATCHSELEVES!$Y$14:$AG$600,9,FALSE),0)","v":0},"Soumayap_16",{"$f":"IFERROR(VLOOKUP(MM35,MATCHSELEVES!$Y$14:$AE$600,3,FALSE),0)","v":0},{"$f":"IFERROR(VLOOKUP(MM35,MATCHSELEVES!$Y$14:$AE$600,4,FALSE),0)","v":0},{"$f":"IFERROR(VLOOKUP(MM35,MATCHSELEVES!$Y$14:$AE$600,5,FALSE),0)","v":0},{"$f":"IFERROR(VLOOKUP(MM35,MATCHSELEVES!$Y$14:$AF$600,8,FALSE),0)","v":0},{"$f":"IFERROR(VLOOKUP(MM35,MATCHSELEVES!$Y$14:$AG$600,9,FALSE),0)","v":0},"Soumayap_17",{"$f":"IFERROR(VLOOKUP(MS35,MATCHSELEVES!$Y$14:$AE$600,3,FALSE),0)","v":0},{"$f":"IFERROR(VLOOKUP(MS35,MATCHSELEVES!$Y$14:$AE$600,4,FALSE),0)","v":0},{"$f":"IFERROR(VLOOKUP(MS35,MATCHSELEVES!$Y$14:$AE$600,5,FALSE),0)","v":0},{"$f":"IFERROR(VLOOKUP(MS35,MATCHSELEVES!$Y$14:$AF$600,8,FALSE),0)","v":0},{"$f":"IFERROR(VLOOKUP(MS35,MATCHSELEVES!$Y$14:$AG$600,9,FALSE),0)","v":0},"Soumayap_18",{"$f":"IFERROR(VLOOKUP(MY35,MATCHSELEVES!$Y$14:$AE$600,3,FALSE),0)","v":0},{"$f":"IFERROR(VLOOKUP(MY35,MATCHSELEVES!$Y$14:$AE$600,4,FALSE),0)","v":0},{"$f":"IFERROR(VLOOKUP(MY35,MATCHSELEVES!$Y$14:$AE$600,5,FALSE),0)","v":0},{"$f":"IFERROR(VLOOKUP(MY35,MATCHSELEVES!$Y$14:$AF$600,8,FALSE),0)","v":0},{"$f":"IFERROR(VLOOKUP(MY35,MATCHSELEVES!$Y$14:$AG$600,9,FALSE),0)","v":0},"Soumayap_19",{"$f":"IFERROR(VLOOKUP(NE35,MATCHSELEVES!$Y$14:$AE$600,3,FALSE),0)","v":0},{"$f":"IFERROR(VLOOKUP(NE35,MATCHSELEVES!$Y$14:$AE$600,4,FALSE),0)","v":0},{"$f":"IFERROR(VLOOKUP(NE35,MATCHSELEVES!$Y$14:$AE$600,5,FALSE),0)","v":0},{"$f":"IFERROR(VLOOKUP(NE35,MATCHSELEVES!$Y$14:$AF$600,8,FALSE),0)","v":0},{"$f":"IFERROR(VLOOKUP(NE35,MATCHSELEVES!$Y$14:$AG$600,9,FALSE),0)","v":0},"Soumayap_20",{"$f":"IFERROR(VLOOKUP(NK35,MATCHSELEVES!$Y$14:$AE$600,3,FALSE),0)","v":0},{"$f":"IFERROR(VLOOKUP(NK35,MATCHSELEVES!$Y$14:$AE$600,4,FALSE),0)","v":0},{"$f":"IFERROR(VLOOKUP(NK35,MATCHSELEVES!$Y$14:$AE$600,5,FALSE),0)","v":0},{"$f":"IFERROR(VLOOKUP(NK35,MATCHSELEVES!$Y$14:$AF$600,8,FALSE),0)","v":0},{"$f":"IFERROR(VLOOKUP(NK35,MATCHSELEVES!$Y$14:$AG$600,9,FALSE),0)","v":0},"Soumayap_21",{"$f":"IFERROR(VLOOKUP(NQ35,MATCHSELEVES!$Y$14:$AE$600,3,FALSE),0)","v":0},{"$f":"IFERROR(VLOOKUP(NQ35,MATCHSELEVES!$Y$14:$AE$600,4,FALSE),0)","v":0},{"$f":"IFERROR(VLOOKUP(NQ35,MATCHSELEVES!$Y$14:$AE$600,5,FALSE),0)","v":0},{"$f":"IFERROR(VLOOKUP(NQ35,MATCHSELEVES!$Y$14:$AF$600,8,FALSE),0)","v":0},{"$f":"IFERROR(VLOOKUP(NQ35,MATCHSELEVES!$Y$14:$AG$600,9,FALSE),0)","v":0},"Soumayap_22",{"$f":"IFERROR(VLOOKUP(NW35,MATCHSELEVES!$Y$14:$AE$600,3,FALSE),0)","v":0},{"$f":"IFERROR(VLOOKUP(NW35,MATCHSELEVES!$Y$14:$AE$600,4,FALSE),0)","v":0},{"$f":"IFERROR(VLOOKUP(NW35,MATCHSELEVES!$Y$14:$AE$600,5,FALSE),0)","v":0},{"$f":"IFERROR(VLOOKUP(NW35,MATCHSELEVES!$Y$14:$AF$600,8,FALSE),0)","v":0},{"$f":"IFERROR(VLOOKUP(NW35,MATCHSELEVES!$Y$14:$AG$600,9,FALSE),0)","v":0},"Soumayap_23",{"$f":"IFERROR(VLOOKUP(OC35,MATCHSELEVES!$Y$14:$AE$600,3,FALSE),0)","v":0},{"$f":"IFERROR(VLOOKUP(OC35,MATCHSELEVES!$Y$14:$AE$600,4,FALSE),0)","v":0},{"$f":"IFERROR(VLOOKUP(OC35,MATCHSELEVES!$Y$14:$AE$600,5,FALSE),0)","v":0},{"$f":"IFERROR(VLOOKUP(OC35,MATCHSELEVES!$Y$14:$AF$600,8,FALSE),0)","v":0},{"$f":"IFERROR(VLOOKUP(OC35,MATCHSELEVES!$Y$14:$AG$600,9,FALSE),0)","v":0},"Soumayap_24",{"$f":"IFERROR(VLOOKUP(OI35,MATCHSELEVES!$Y$14:$AE$600,3,FALSE),0)","v":0},{"$f":"IFERROR(VLOOKUP(OI35,MATCHSELEVES!$Y$14:$AE$600,4,FALSE),0)","v":0},{"$f":"IFERROR(VLOOKUP(OI35,MATCHSELEVES!$Y$14:$AE$600,5,FALSE),0)","v":0},{"$f":"IFERROR(VLOOKUP(OI35,MATCHSELEVES!$Y$14:$AF$600,8,FALSE),0)","v":0},{"$f":"IFERROR(VLOOKUP(OI35,MATCHSELEVES!$Y$14:$AG$600,9,FALSE),0)","v":0},"Soumayap_25",{"$f":"IFERROR(VLOOKUP(OO35,MATCHSELEVES!$Y$14:$AE$600,3,FALSE),0)","v":0},{"$f":"IFERROR(VLOOKUP(OO35,MATCHSELEVES!$Y$14:$AE$600,4,FALSE),0)","v":0},{"$f":"IFERROR(VLOOKUP(OO35,MATCHSELEVES!$Y$14:$AE$600,5,FALSE),0)","v":0},{"$f":"IFERROR(VLOOKUP(OO35,MATCHSELEVES!$Y$14:$AF$600,8,FALSE),0)","v":0},{"$f":"IFERROR(VLOOKUP(OO35,MATCHSELEVES!$Y$14:$AG$600,9,FALSE),0)","v":0},"Soumayap_26",{"$f":"IFERROR(VLOOKUP(OU35,MATCHSELEVES!$Y$14:$AE$600,3,FALSE),0)","v":0},{"$f":"IFERROR(VLOOKUP(OU35,MATCHSELEVES!$Y$14:$AE$600,4,FALSE),0)","v":0},{"$f":"IFERROR(VLOOKUP(OU35,MATCHSELEVES!$Y$14:$AE$600,5,FALSE),0)","v":0},{"$f":"IFERROR(VLOOKUP(OU35,MATCHSELEVES!$Y$14:$AF$600,8,FALSE),0)","v":0},{"$f":"IFERROR(VLOOKUP(OU35,MATCHSELEVES!$Y$14:$AG$600,9,FALSE),0)","v":0},"Soumayap_27",{"$f":"IFERROR(VLOOKUP(PA35,MATCHSELEVES!$Y$14:$AE$600,3,FALSE),0)","v":0},{"$f":"IFERROR(VLOOKUP(PA35,MATCHSELEVES!$Y$14:$AE$600,4,FALSE),0)","v":0},{"$f":"IFERROR(VLOOKUP(PA35,MATCHSELEVES!$Y$14:$AE$600,5,FALSE),0)","v":0},{"$f":"IFERROR(VLOOKUP(PA35,MATCHSELEVES!$Y$14:$AF$600,8,FALSE),0)","v":0},{"$f":"IFERROR(VLOOKUP(PA35,MATCHSELEVES!$Y$14:$AG$600,9,FALSE),0)","v":0},"Soumayap_28",{"$f":"IFERROR(VLOOKUP(PG35,MATCHSELEVES!$Y$14:$AE$600,3,FALSE),0)","v":0},{"$f":"IFERROR(VLOOKUP(PG35,MATCHSELEVES!$Y$14:$AE$600,4,FALSE),0)","v":0},{"$f":"IFERROR(VLOOKUP(PG35,MATCHSELEVES!$Y$14:$AE$600,5,FALSE),0)","v":0},{"$f":"IFERROR(VLOOKUP(PG35,MATCHSELEVES!$Y$14:$AF$600,8,FALSE),0)","v":0},{"$f":"IFERROR(VLOOKUP(PG35,MATCHSELEVES!$Y$14:$AG$600,9,FALSE),0)","v":0},"Soumayap_29",{"$f":"IFERROR(VLOOKUP(PM35,MATCHSELEVES!$Y$14:$AE$600,3,FALSE),0)","v":0},{"$f":"IFERROR(VLOOKUP(PM35,MATCHSELEVES!$Y$14:$AE$600,4,FALSE),0)","v":0},{"$f":"IFERROR(VLOOKUP(PM35,MATCHSELEVES!$Y$14:$AE$600,5,FALSE),0)","v":0},{"$f":"IFERROR(VLOOKUP(PM35,MATCHSELEVES!$Y$14:$AF$600,8,FALSE),0)","v":0},{"$f":"IFERROR(VLOOKUP(PM35,MATCHSELEVES!$Y$14:$AG$600,9,FALSE),0)","v":0},"Soumayap_30",{"$f":"IFERROR(VLOOKUP(PS35,MATCHSELEVES!$Y$14:$AE$600,3,FALSE),0)","v":0},{"$f":"IFERROR(VLOOKUP(PS35,MATCHSELEVES!$Y$14:$AE$600,4,FALSE),0)","v":0},{"$f":"IFERROR(VLOOKUP(PS35,MATCHSELEVES!$Y$14:$AE$600,5,FALSE),0)","v":0},{"$f":"IFERROR(VLOOKUP(PS35,MATCHSELEVES!$Y$14:$AF$600,8,FALSE),0)","v":0},{"$f":"IFERROR(VLOOKUP(PS35,MATCHSELEVES!$Y$14:$AG$600,9,FALSE),0)","v":0},"Soumayap_31",{"$f":"IFERROR(VLOOKUP(PY35,MATCHSELEVES!$Y$14:$AE$600,3,FALSE),0)","v":0},{"$f":"IFERROR(VLOOKUP(PY35,MATCHSELEVES!$Y$14:$AE$600,4,FALSE),0)","v":0},{"$f":"IFERROR(VLOOKUP(PY35,MATCHSELEVES!$Y$14:$AE$600,5,FALSE),0)","v":0},{"$f":"IFERROR(VLOOKUP(PY35,MATCHSELEVES!$Y$14:$AF$600,8,FALSE),0)","v":0},{"$f":"IFERROR(VLOOKUP(PY35,MATCHSELEVES!$Y$14:$AG$600,9,FALSE),0)","v":0},"Soumayap_32",{"$f":"IFERROR(VLOOKUP(QE35,MATCHSELEVES!$Y$14:$AE$600,3,FALSE),0)","v":0},{"$f":"IFERROR(VLOOKUP(QE35,MATCHSELEVES!$Y$14:$AE$600,4,FALSE),0)","v":0},{"$f":"IFERROR(VLOOKUP(QE35,MATCHSELEVES!$Y$14:$AE$600,5,FALSE),0)","v":0},{"$f":"IFERROR(VLOOKUP(QE35,MATCHSELEVES!$Y$14:$AF$600,8,FALSE),0)","v":0},{"$f":"IFERROR(VLOOKUP(QE35,MATCHSELEVES!$Y$14:$AG$600,9,FALSE),0)","v":0},"Soumayap_33",{"$f":"IFERROR(VLOOKUP(QK35,MATCHSELEVES!$Y$14:$AE$600,3,FALSE),0)","v":0},{"$f":"IFERROR(VLOOKUP(QK35,MATCHSELEVES!$Y$14:$AE$600,4,FALSE),0)","v":0},{"$f":"IFERROR(VLOOKUP(QK35,MATCHSELEVES!$Y$14:$AE$600,5,FALSE),0)","v":0},{"$f":"IFERROR(VLOOKUP(QK35,MATCHSELEVES!$Y$14:$AF$600,8,FALSE),0)","v":0},{"$f":"IFERROR(VLOOKUP(QK35,MATCHSELEVES!$Y$14:$AG$600,9,FALSE),0)","v":0},"Soumayap_34",{"$f":"IFERROR(VLOOKUP(QQ35,MATCHSELEVES!$Y$14:$AE$600,3,FALSE),0)","v":0},{"$f":"IFERROR(VLOOKUP(QQ35,MATCHSELEVES!$Y$14:$AE$600,4,FALSE),0)","v":0},{"$f":"IFERROR(VLOOKUP(QQ35,MATCHSELEVES!$Y$14:$AE$600,5,FALSE),0)","v":0},{"$f":"IFERROR(VLOOKUP(QQ35,MATCHSELEVES!$Y$14:$AF$600,8,FALSE),0)","v":0},{"$f":"IFERROR(VLOOKUP(QQ35,MATCHSELEVES!$Y$14:$AG$600,9,FALSE),0)","v":0},"Soumayap_35",{"$f":"IFERROR(VLOOKUP(QW35,MATCHSELEVES!$Y$14:$AE$600,3,FALSE),0)","v":0},{"$f":"IFERROR(VLOOKUP(QW35,MATCHSELEVES!$Y$14:$AE$600,4,FALSE),0)","v":0},{"$f":"IFERROR(VLOOKUP(QW35,MATCHSELEVES!$Y$14:$AE$600,5,FALSE),0)","v":0},{"$f":"IFERROR(VLOOKUP(QW35,MATCHSELEVES!$Y$14:$AF$600,8,FALSE),0)","v":0},{"$f":"IFERROR(VLOOKUP(QW35,MATCHSELEVES!$Y$14:$AG$600,9,FALSE),0)","v":0},"Soumayap_36",{"$f":"IFERROR(VLOOKUP(RC35,MATCHSELEVES!$Y$14:$AE$600,3,FALSE),0)","v":0},{"$f":"IFERROR(VLOOKUP(RC35,MATCHSELEVES!$Y$14:$AE$600,4,FALSE),0)","v":0},{"$f":"IFERROR(VLOOKUP(RC35,MATCHSELEVES!$Y$14:$AE$600,5,FALSE),0)","v":0},{"$f":"IFERROR(VLOOKUP(RC35,MATCHSELEVES!$Y$14:$AF$600,8,FALSE),0)","v":0},{"$f":"IFERROR(VLOOKUP(RC35,MATCHSELEVES!$Y$14:$AG$600,9,FALSE),0)","v":0},"Soumayap_37",{"$f":"IFERROR(VLOOKUP(RI35,MATCHSELEVES!$Y$14:$AE$600,3,FALSE),0)","v":0},{"$f":"IFERROR(VLOOKUP(RI35,MATCHSELEVES!$Y$14:$AE$600,4,FALSE),0)","v":0},{"$f":"IFERROR(VLOOKUP(RI35,MATCHSELEVES!$Y$14:$AE$600,5,FALSE),0)","v":0},{"$f":"IFERROR(VLOOKUP(RI35,MATCHSELEVES!$Y$14:$AF$600,8,FALSE),0)","v":0},{"$f":"IFERROR(VLOOKUP(RI35,MATCHSELEVES!$Y$14:$AG$600,9,FALSE),0)","v":0},"Soumayap_38",{"$f":"IFERROR(VLOOKUP(RO35,MATCHSELEVES!$Y$14:$AE$600,3,FALSE),0)","v":0},{"$f":"IFERROR(VLOOKUP(RO35,MATCHSELEVES!$Y$14:$AE$600,4,FALSE),0)","v":0},{"$f":"IFERROR(VLOOKUP(RO35,MATCHSELEVES!$Y$14:$AE$600,5,FALSE),0)","v":0},{"$f":"IFERROR(VLOOKUP(RO35,MATCHSELEVES!$Y$14:$AF$600,8,FALSE),0)","v":0},{"$f":"IFERROR(VLOOKUP(RO35,MATCHSELEVES!$Y$14:$AG$600,9,FALSE),0)","v":0},"Soumayap_39",{"$f":"IFERROR(VLOOKUP(RU35,MATCHSELEVES!$Y$14:$AE$600,3,FALSE),0)","v":0},{"$f":"IFERROR(VLOOKUP(RU35,MATCHSELEVES!$Y$14:$AE$600,4,FALSE),0)","v":0},{"$f":"IFERROR(VLOOKUP(RU35,MATCHSELEVES!$Y$14:$AE$600,5,FALSE),0)","v":0},{"$f":"IFERROR(VLOOKUP(RU35,MATCHSELEVES!$Y$14:$AF$600,8,FALSE),0)","v":0},{"$f":"IFERROR(VLOOKUP(RU35,MATCHSELEVES!$Y$14:$AG$600,9,FALSE),0)","v":0},"Soumayap_40",{"$f":"IFERROR(VLOOKUP(SA35,MATCHSELEVES!$Y$14:$AE$600,3,FALSE),0)","v":0},{"$f":"IFERROR(VLOOKUP(SA35,MATCHSELEVES!$Y$14:$AE$600,4,FALSE),0)","v":0},{"$f":"IFERROR(VLOOKUP(SA35,MATCHSELEVES!$Y$14:$AE$600,5,FALSE),0)","v":0},{"$f":"IFERROR(VLOOKUP(SA35,MATCHSELEVES!$Y$14:$AF$600,8,FALSE),0)","v":0},{"$f":"IFERROR(VLOOKUP(SA35,MATCHSELEVES!$Y$14:$AG$600,9,FALSE),0)","v":0}]
[33,null,"Süeda",33,null,null,{"$f":"COUNTIF(MATCHSELEVES!$Z$14:$Z$600,C36)+COUNTIF(MATCHSELEVES!$Z$14:$Z$600,$C36&\"p\")","v":0},1,{"$f":"COUNTIF(MATCHSELEVES!$F$14:$H$249,C36)","v":0},1,0,1,{"$f":"IFERROR(M79/Tableau10[[#This Row],[Nombre de matchs joués]],0)","v":0},{"$f":"IF(Tableau10[[#This Row],[Nombre de points encaissés]]=0,$C$45,SUMPRODUCT((M$4:M$43<M36)*(M$4:M$43<>0))+1)","v":40},0,1,{"$f":"(Tableau10[[#This Row],[CLASSEMENT1]]+Tableau10[[#This Row],[CLASSEMENT2]]+Tableau10[[#This Row],[CLASSEMENT3]]+Tableau10[[#This Row],[CLASSEMENT4]]+Tableau10[[#This Row],[CLASSEMENT5]]+Tableau10[[#This Row],[CLASSEMENT6]])/6","v":12.833333333333334},{"$f":"RANK(Tableau10[[#This Row],[MOYENNE CLASSEMENTS]],Tableau10[MOYENNE CLASSEMENTS],1)","v":33},null,{"$f":"Tableau10[[#This Row],[CLASSEMENT1]]","v":33},"Süeda_1",{"$f":"IFERROR(VLOOKUP(U36,MATCHSELEVES!$Y$14:$AE$600,3,FALSE),0)","v":0},{"$f":"IFERROR(VLOOKUP(U36,MATCHSELEVES!$Y$14:$AE$600,4,FALSE),0)","v":0},{"$f":"IFERROR(VLOOKUP(U36,MATCHSELEVES!$Y$14:$AE$600,5,FALSE),0)","v":0},{"$f":"IFERROR(VLOOKUP(U36,MATCHSELEVES!$Y$14:$AF$600,8,FALSE),0)","v":0},{"$f":"IFERROR(VLOOKUP(U36,MATCHSELEVES!$Y$14:$AG$600,9,FALSE),0)","v":0},"Süeda_2",{"$f":"IFERROR(VLOOKUP(AA36,MATCHSELEVES!$Y$14:$AE$600,3,FALSE),0)","v":0},{"$f":"IFERROR(VLOOKUP(AA36,MATCHSELEVES!$Y$14:$AE$600,4,FALSE),0)","v":0},{"$f":"IFERROR(VLOOKUP(AA36,MATCHSELEVES!$Y$14:$AE$600,5,FALSE),0)","v":0},{"$f":"IFERROR(VLOOKUP(AA36,MATCHSELEVES!$Y$14:$AF$600,8,FALSE),0)","v":0},{"$f":"IFERROR(VLOOKUP(AA36,MATCHSELEVES!$Y$14:$AG$600,9,FALSE),0)","v":0},"Süeda_3",{"$f":"IFERROR(VLOOKUP(AG36,MATCHSELEVES!$Y$14:$AE$600,3,FALSE),0)","v":0},{"$f":"IFERROR(VLOOKUP(AG36,MATCHSELEVES!$Y$14:$AE$600,4,FALSE),0)","v":0},{"$f":"IFERROR(VLOOKUP(AG36,MATCHSELEVES!$Y$14:$AE$600,5,FALSE),0)","v":0},{"$f":"IFERROR(VLOOKUP(AG36,MATCHSELEVES!$Y$14:$AF$600,8,FALSE),0)","v":0},{"$f":"IFERROR(VLOOKUP(AG36,MATCHSELEVES!$Y$14:$AG$600,9,FALSE),0)","v":0},"Süeda_4",{"$f":"IFERROR(VLOOKUP(AM36,MATCHSELEVES!$Y$14:$AE$600,3,FALSE),0)","v":0},{"$f":"IFERROR(VLOOKUP(AM36,MATCHSELEVES!$Y$14:$AE$600,4,FALSE),0)","v":0},{"$f":"IFERROR(VLOOKUP(AM36,MATCHSELEVES!$Y$14:$AE$600,5,FALSE),0)","v":0},{"$f":"IFERROR(VLOOKUP(AM36,MATCHSELEVES!$Y$14:$AF$600,8,FALSE),0)","v":0},{"$f":"IFERROR(VLOOKUP(AM36,MATCHSELEVES!$Y$14:$AG$600,9,FALSE),0)","v":0},"Süeda_5",{"$f":"IFERROR(VLOOKUP(AS36,MATCHSELEVES!$Y$14:$AE$600,3,FALSE),0)","v":0},{"$f":"IFERROR(VLOOKUP(AS36,MATCHSELEVES!$Y$14:$AE$600,4,FALSE),0)","v":0},{"$f":"IFERROR(VLOOKUP(AS36,MATCHSELEVES!$Y$14:$AE$600,5,FALSE),0)","v":0},{"$f":"IFERROR(VLOOKUP(AS36,MATCHSELEVES!$Y$14:$AF$600,8,FALSE),0)","v":0},{"$f":"IFERROR(VLOOKUP(AS36,MATCHSELEVES!$Y$14:$AG$600,9,FALSE),0)","v":0},"Süeda_6",{"$f":"IFERROR(VLOOKUP(AY36,MATCHSELEVES!$Y$14:$AE$600,3,FALSE),0)","v":0},{"$f":"IFERROR(VLOOKUP(AY36,MATCHSELEVES!$Y$14:$AE$600,4,FALSE),0)","v":0},{"$f":"IFERROR(VLOOKUP(AY36,MATCHSELEVES!$Y$14:$AE$600,5,FALSE),0)","v":0},{"$f":"IFERROR(VLOOKUP(AY36,MATCHSELEVES!$Y$14:$AF$600,8,FALSE),0)","v":0},{"$f":"IFERROR(VLOOKUP(AY36,MATCHSELEVES!$Y$14:$AG$600,9,FALSE),0)","v":0},"Süeda_7",{"$f":"IFERROR(VLOOKUP(BE36,MATCHSELEVES!$Y$14:$AE$600,3,FALSE),0)","v":0},{"$f":"IFERROR(VLOOKUP(BE36,MATCHSELEVES!$Y$14:$AE$600,4,FALSE),0)","v":0},{"$f":"IFERROR(VLOOKUP(BE36,MATCHSELEVES!$Y$14:$AE$600,5,FALSE),0)","v":0},{"$f":"IFERROR(VLOOKUP(BE36,MATCHSELEVES!$Y$14:$AF$600,8,FALSE),0)","v":0},{"$f":"IFERROR(VLOOKUP(BE36,MATCHSELEVES!$Y$14:$AG$600,9,FALSE),0)","v":0},"Süeda_8",{"$f":"IFERROR(VLOOKUP(BK36,MATCHSELEVES!$Y$14:$AE$600,3,FALSE),0)","v":0},{"$f":"IFERROR(VLOOKUP(BK36,MATCHSELEVES!$Y$14:$AE$600,4,FALSE),0)","v":0},{"$f":"IFERROR(VLOOKUP(BK36,MATCHSELEVES!$Y$14:$AE$600,5,FALSE),0)","v":0},{"$f":"IFERROR(VLOOKUP(BK36,MATCHSELEVES!$Y$14:$AF$600,8,FALSE),0)","v":0},{"$f":"IFERROR(VLOOKUP(BK36,MATCHSELEVES!$Y$14:$AG$600,9,FALSE),0)","v":0},"Süeda_9",{"$f":"IFERROR(VLOOKUP(BQ36,MATCHSELEVES!$Y$14:$AE$600,3,FALSE),0)","v":0},{"$f":"IFERROR(VLOOKUP(BQ36,MATCHSELEVES!$Y$14:$AE$600,4,FALSE),0)","v":0},{"$f":"IFERROR(VLOOKUP(BQ36,MATCHSELEVES!$Y$14:$AE$600,5,FALSE),0)","v":0},{"$f":"IFERROR(VLOOKUP(BQ36,MATCHSELEVES!$Y$14:$AF$600,8,FALSE),0)","v":0},{"$f":"IFERROR(VLOOKUP(BQ36,MATCHSELEVES!$Y$14:$AG$600,9,FALSE),0)","v":0},"Süeda_10",{"$f":"IFERROR(VLOOKUP(BW36,MATCHSELEVES!$Y$14:$AE$600,3,FALSE),0)","v":0},{"$f":"IFERROR(VLOOKUP(BW36,MATCHSELEVES!$Y$14:$AE$600,4,FALSE),0)","v":0},{"$f":"IFERROR(VLOOKUP(BW36,MATCHSELEVES!$Y$14:$AE$600,5,FALSE),0)","v":0},{"$f":"IFERROR(VLOOKUP(BW36,MATCHSELEVES!$Y$14:$AF$600,8,FALSE),0)","v":0},{"$f":"IFERROR(VLOOKUP(BW36,MATCHSELEVES!$Y$14:$AG$600,9,FALSE),0)","v":0},"Süeda_11",{"$f":"IFERROR(VLOOKUP(CC36,MATCHSELEVES!$Y$14:$AE$600,3,FALSE),0)","v":0},{"$f":"IFERROR(VLOOKUP(CC36,MATCHSELEVES!$Y$14:$AE$600,4,FALSE),0)","v":0},{"$f":"IFERROR(VLOOKUP(CC36,MATCHSELEVES!$Y$14:$AE$600,5,FALSE),0)","v":0},{"$f":"IFERROR(VLOOKUP(CC36,MATCHSELEVES!$Y$14:$AF$600,8,FALSE),0)","v":0},{"$f":"IFERROR(VLOOKUP(CC36,MATCHSELEVES!$Y$14:$AG$600,9,FALSE),0)","v":0},"Süeda_12",{"$f":"IFERROR(VLOOKUP(CI36,MATCHSELEVES!$Y$14:$AE$600,3,FALSE),0)","v":0},{"$f":"IFERROR(VLOOKUP(CI36,MATCHSELEVES!$Y$14:$AE$600,4,FALSE),0)","v":0},{"$f":"IFERROR(VLOOKUP(CI36,MATCHSELEVES!$Y$14:$AE$600,5,FALSE),0)","v":0},{"$f":"IFERROR(VLOOKUP(CI36,MATCHSELEVES!$Y$14:$AF$600,8,FALSE),0)","v":0},{"$f":"IFERROR(VLOOKUP(CI36,MATCHSELEVES!$Y$14:$AG$600,9,FALSE),0)","v":0},"Süeda_13",{"$f":"IFERROR(VLOOKUP(CO36,MATCHSELEVES!$Y$14:$AE$600,3,FALSE),0)","v":0},{"$f":"IFERROR(VLOOKUP(CO36,MATCHSELEVES!$Y$14:$AE$600,4,FALSE),0)","v":0},{"$f":"IFERROR(VLOOKUP(CO36,MATCHSELEVES!$Y$14:$AE$600,5,FALSE),0)","v":0},{"$f":"IFERROR(VLOOKUP(CO36,MATCHSELEVES!$Y$14:$AF$600,8,FALSE),0)","v":0},{"$f":"IFERROR(VLOOKUP(CO36,MATCHSELEVES!$Y$14:$AG$600,9,FALSE),0)","v":0},"Süeda_14",{"$f":"IFERROR(VLOOKUP(CU36,MATCHSELEVES!$Y$14:$AE$600,3,FALSE),0)","v":0},{"$f":"IFERROR(VLOOKUP(CU36,MATCHSELEVES!$Y$14:$AE$600,4,FALSE),0)","v":0},{"$f":"IFERROR(VLOOKUP(CU36,MATCHSELEVES!$Y$14:$AE$600,5,FALSE),0)","v":0},{"$f":"IFERROR(VLOOKUP(CU36,MATCHSELEVES!$Y$14:$AF$600,8,FALSE),0)","v":0},{"$f":"IFERROR(VLOOKUP(CU36,MATCHSELEVES!$Y$14:$AG$600,9,FALSE),0)","v":0},"Süeda_15",{"$f":"IFERROR(VLOOKUP(DA36,MATCHSELEVES!$Y$14:$AE$600,3,FALSE),0)","v":0},{"$f":"IFERROR(VLOOKUP(DA36,MATCHSELEVES!$Y$14:$AE$600,4,FALSE),0)","v":0},{"$f":"IFERROR(VLOOKUP(DA36,MATCHSELEVES!$Y$14:$AE$600,5,FALSE),0)","v":0},{"$f":"IFERROR(VLOOKUP(DA36,MATCHSELEVES!$Y$14:$AF$600,8,FALSE),0)","v":0},{"$f":"IFERROR(VLOOKUP(DA36,MATCHSELEVES!$Y$14:$AG$600,9,FALSE),0)","v":0},"Süeda_16",{"$f":"IFERROR(VLOOKUP(DG36,MATCHSELEVES!$Y$14:$AE$600,3,FALSE),0)","v":0},{"$f":"IFERROR(VLOOKUP(DG36,MATCHSELEVES!$Y$14:$AE$600,4,FALSE),0)","v":0},{"$f":"IFERROR(VLOOKUP(DG36,MATCHSELEVES!$Y$14:$AE$600,5,FALSE),0)","v":0},{"$f":"IFERROR(VLOOKUP(DG36,MATCHSELEVES!$Y$14:$AF$600,8,FALSE),0)","v":0},{"$f":"IFERROR(VLOOKUP(DG36,MATCHSELEVES!$Y$14:$AG$600,9,FALSE),0)","v":0},"Süeda_17",{"$f":"IFERROR(VLOOKUP(DM36,MATCHSELEVES!$Y$14:$AE$600,3,FALSE),0)","v":0},{"$f":"IFERROR(VLOOKUP(DM36,MATCHSELEVES!$Y$14:$AE$600,4,FALSE),0)","v":0},{"$f":"IFERROR(VLOOKUP(DM36,MATCHSELEVES!$Y$14:$AE$600,5,FALSE),0)","v":0},{"$f":"IFERROR(VLOOKUP(DM36,MATCHSELEVES!$Y$14:$AF$600,8,FALSE),0)","v":0},{"$f":"IFERROR(VLOOKUP(DM36,MATCHSELEVES!$Y$14:$AG$600,9,FALSE),0)","v":0},"Süeda_18",{"$f":"IFERROR(VLOOKUP(DS36,MATCHSELEVES!$Y$14:$AE$600,3,FALSE),0)","v":0},{"$f":"IFERROR(VLOOKUP(DS36,MATCHSELEVES!$Y$14:$AE$600,4,FALSE),0)","v":0},{"$f":"IFERROR(VLOOKUP(DS36,MATCHSELEVES!$Y$14:$AE$600,5,FALSE),0)","v":0},{"$f":"IFERROR(VLOOKUP(DS36,MATCHSELEVES!$Y$14:$AF$600,8,FALSE),0)","v":0},{"$f":"IFERROR(VLOOKUP(DS36,MATCHSELEVES!$Y$14:$AG$600,9,FALSE),0)","v":0},"Süeda_19",{"$f":"IFERROR(VLOOKUP(DY36,MATCHSELEVES!$Y$14:$AE$600,3,FALSE),0)","v":0},{"$f":"IFERROR(VLOOKUP(DY36,MATCHSELEVES!$Y$14:$AE$600,4,FALSE),0)","v":0},{"$f":"IFERROR(VLOOKUP(DY36,MATCHSELEVES!$Y$14:$AE$600,5,FALSE),0)","v":0},{"$f":"IFERROR(VLOOKUP(DY36,MATCHSELEVES!$Y$14:$AF$600,8,FALSE),0)","v":0},{"$f":"IFERROR(VLOOKUP(DY36,MATCHSELEVES!$Y$14:$AG$600,9,FALSE),0)","v":0},"Süeda_20",{"$f":"IFERROR(VLOOKUP(EE36,MATCHSELEVES!$Y$14:$AE$600,3,FALSE),0)","v":0},{"$f":"IFERROR(VLOOKUP(EE36,MATCHSELEVES!$Y$14:$AE$600,4,FALSE),0)","v":0},{"$f":"IFERROR(VLOOKUP(EE36,MATCHSELEVES!$Y$14:$AE$600,5,FALSE),0)","v":0},{"$f":"IFERROR(VLOOKUP(EE36,MATCHSELEVES!$Y$14:$AF$600,8,FALSE),0)","v":0},{"$f":"IFERROR(VLOOKUP(EE36,MATCHSELEVES!$Y$14:$AG$600,9,FALSE),0)","v":0},"Süeda_21",{"$f":"IFERROR(VLOOKUP(EK36,MATCHSELEVES!$Y$14:$AE$600,3,FALSE),0)","v":0},{"$f":"IFERROR(VLOOKUP(EK36,MATCHSELEVES!$Y$14:$AE$600,4,FALSE),0)","v":0},{"$f":"IFERROR(VLOOKUP(EK36,MATCHSELEVES!$Y$14:$AE$600,5,FALSE),0)","v":0},{"$f":"IFERROR(VLOOKUP(EK36,MATCHSELEVES!$Y$14:$AF$600,8,FALSE),0)","v":0},{"$f":"IFERROR(VLOOKUP(EK36,MATCHSELEVES!$Y$14:$AG$600,9,FALSE),0)","v":0},"Süeda_22",{"$f":"IFERROR(VLOOKUP(EQ36,MATCHSELEVES!$Y$14:$AE$600,3,FALSE),0)","v":0},{"$f":"IFERROR(VLOOKUP(EQ36,MATCHSELEVES!$Y$14:$AE$600,4,FALSE),0)","v":0},{"$f":"IFERROR(VLOOKUP(EQ36,MATCHSELEVES!$Y$14:$AE$600,5,FALSE),0)","v":0},{"$f":"IFERROR(VLOOKUP(EQ36,MATCHSELEVES!$Y$14:$AF$600,8,FALSE),0)","v":0},{"$f":"IFERROR(VLOOKUP(EQ36,MATCHSELEVES!$Y$14:$AG$600,9,FALSE),0)","v":0},"Süeda_23",{"$f":"IFERROR(VLOOKUP(EW36,MATCHSELEVES!$Y$14:$AE$600,3,FALSE),0)","v":0},{"$f":"IFERROR(VLOOKUP(EW36,MATCHSELEVES!$Y$14:$AE$600,4,FALSE),0)","v":0},{"$f":"IFERROR(VLOOKUP(EW36,MATCHSELEVES!$Y$14:$AE$600,5,FALSE),0)","v":0},{"$f":"IFERROR(VLOOKUP(EW36,MATCHSELEVES!$Y$14:$AF$600,8,FALSE),0)","v":0},{"$f":"IFERROR(VLOOKUP(EW36,MATCHSELEVES!$Y$14:$AG$600,9,FALSE),0)","v":0},"Süeda_24",{"$f":"IFERROR(VLOOKUP(FC36,MATCHSELEVES!$Y$14:$AE$600,3,FALSE),0)","v":0},{"$f":"IFERROR(VLOOKUP(FC36,MATCHSELEVES!$Y$14:$AE$600,4,FALSE),0)","v":0},{"$f":"IFERROR(VLOOKUP(FC36,MATCHSELEVES!$Y$14:$AE$600,5,FALSE),0)","v":0},{"$f":"IFERROR(VLOOKUP(FC36,MATCHSELEVES!$Y$14:$AF$600,8,FALSE),0)","v":0},{"$f":"IFERROR(VLOOKUP(FC36,MATCHSELEVES!$Y$14:$AG$600,9,FALSE),0)","v":0},"Süeda_25",{"$f":"IFERROR(VLOOKUP(FI36,MATCHSELEVES!$Y$14:$AE$600,3,FALSE),0)","v":0},{"$f":"IFERROR(VLOOKUP(FI36,MATCHSELEVES!$Y$14:$AE$600,4,FALSE),0)","v":0},{"$f":"IFERROR(VLOOKUP(FI36,MATCHSELEVES!$Y$14:$AE$600,5,FALSE),0)","v":0},{"$f":"IFERROR(VLOOKUP(FI36,MATCHSELEVES!$Y$14:$AF$600,8,FALSE),0)","v":0},{"$f":"IFERROR(VLOOKUP(FI36,MATCHSELEVES!$Y$14:$AG$600,9,FALSE),0)","v":0},"Süeda_26",{"$f":"IFERROR(VLOOKUP(FO36,MATCHSELEVES!$Y$14:$AE$600,3,FALSE),0)","v":0},{"$f":"IFERROR(VLOOKUP(FO36,MATCHSELEVES!$Y$14:$AE$600,4,FALSE),0)","v":0},{"$f":"IFERROR(VLOOKUP(FO36,MATCHSELEVES!$Y$14:$AE$600,5,FALSE),0)","v":0},{"$f":"IFERROR(VLOOKUP(FO36,MATCHSELEVES!$Y$14:$AF$600,8,FALSE),0)","v":0},{"$f":"IFERROR(VLOOKUP(FO36,MATCHSELEVES!$Y$14:$AG$600,9,FALSE),0)","v":0},"Süeda_27",{"$f":"IFERROR(VLOOKUP(FU36,MATCHSELEVES!$Y$14:$AE$600,3,FALSE),0)","v":0},{"$f":"IFERROR(VLOOKUP(FU36,MATCHSELEVES!$Y$14:$AE$600,4,FALSE),0)","v":0},{"$f":"IFERROR(VLOOKUP(FU36,MATCHSELEVES!$Y$14:$AE$600,5,FALSE),0)","v":0},{"$f":"IFERROR(VLOOKUP(FU36,MATCHSELEVES!$Y$14:$AF$600,8,FALSE),0)","v":0},{"$f":"IFERROR(VLOOKUP(FU36,MATCHSELEVES!$Y$14:$AG$600,9,FALSE),0)","v":0},"Süeda_28",{"$f":"IFERROR(VLOOKUP(GA36,MATCHSELEVES!$Y$14:$AE$600,3,FALSE),0)","v":0},{"$f":"IFERROR(VLOOKUP(GA36,MATCHSELEVES!$Y$14:$AE$600,4,FALSE),0)","v":0},{"$f":"IFERROR(VLOOKUP(GA36,MATCHSELEVES!$Y$14:$AE$600,5,FALSE),0)","v":0},{"$f":"IFERROR(VLOOKUP(GA36,MATCHSELEVES!$Y$14:$AF$600,8,FALSE),0)","v":0},{"$f":"IFERROR(VLOOKUP(GA36,MATCHSELEVES!$Y$14:$AG$600,9,FALSE),0)","v":0},"Süeda_29",{"$f":"IFERROR(VLOOKUP(GG36,MATCHSELEVES!$Y$14:$AE$600,3,FALSE),0)","v":0},{"$f":"IFERROR(VLOOKUP(GG36,MATCHSELEVES!$Y$14:$AE$600,4,FALSE),0)","v":0},{"$f":"IFERROR(VLOOKUP(GG36,MATCHSELEVES!$Y$14:$AE$600,5,FALSE),0)","v":0},{"$f":"IFERROR(VLOOKUP(GG36,MATCHSELEVES!$Y$14:$AF$600,8,FALSE),0)","v":0},{"$f":"IFERROR(VLOOKUP(GG36,MATCHSELEVES!$Y$14:$AG$600,9,FALSE),0)","v":0},"Süeda_30",{"$f":"IFERROR(VLOOKUP(GM36,MATCHSELEVES!$Y$14:$AE$600,3,FALSE),0)","v":0},{"$f":"IFERROR(VLOOKUP(GM36,MATCHSELEVES!$Y$14:$AE$600,4,FALSE),0)","v":0},{"$f":"IFERROR(VLOOKUP(GM36,MATCHSELEVES!$Y$14:$AE$600,5,FALSE),0)","v":0},{"$f":"IFERROR(VLOOKUP(GM36,MATCHSELEVES!$Y$14:$AF$600,8,FALSE),0)","v":0},{"$f":"IFERROR(VLOOKUP(GM36,MATCHSELEVES!$Y$14:$AG$600,9,FALSE),0)","v":0},"Süeda_31",{"$f":"IFERROR(VLOOKUP(GS36,MATCHSELEVES!$Y$14:$AE$600,3,FALSE),0)","v":0},{"$f":"IFERROR(VLOOKUP(GS36,MATCHSELEVES!$Y$14:$AE$600,4,FALSE),0)","v":0},{"$f":"IFERROR(VLOOKUP(GS36,MATCHSELEVES!$Y$14:$AE$600,5,FALSE),0)","v":0},{"$f":"IFERROR(VLOOKUP(GS36,MATCHSELEVES!$Y$14:$AF$600,8,FALSE),0)","v":0},{"$f":"IFERROR(VLOOKUP(GS36,MATCHSELEVES!$Y$14:$AG$600,9,FALSE),0)","v":0},"Süeda_32",{"$f":"IFERROR(VLOOKUP(GY36,MATCHSELEVES!$Y$14:$AE$600,3,FALSE),0)","v":0},{"$f":"IFERROR(VLOOKUP(GY36,MATCHSELEVES!$Y$14:$AE$600,4,FALSE),0)","v":0},{"$f":"IFERROR(VLOOKUP(GY36,MATCHSELEVES!$Y$14:$AE$600,5,FALSE),0)","v":0},{"$f":"IFERROR(VLOOKUP(GY36,MATCHSELEVES!$Y$14:$AF$600,8,FALSE),0)","v":0},{"$f":"IFERROR(VLOOKUP(GY36,MATCHSELEVES!$Y$14:$AG$600,9,FALSE),0)","v":0},"Süeda_33",{"$f":"IFERROR(VLOOKUP(HE36,MATCHSELEVES!$Y$14:$AE$600,3,FALSE),0)","v":0},{"$f":"IFERROR(VLOOKUP(HE36,MATCHSELEVES!$Y$14:$AE$600,4,FALSE),0)","v":0},{"$f":"IFERROR(VLOOKUP(HE36,MATCHSELEVES!$Y$14:$AE$600,5,FALSE),0)","v":0},{"$f":"IFERROR(VLOOKUP(HE36,MATCHSELEVES!$Y$14:$AF$600,8,FALSE),0)","v":0},{"$f":"IFERROR(VLOOKUP(HE36,MATCHSELEVES!$Y$14:$AG$600,9,FALSE),0)","v":0},"Süeda_34",{"$f":"IFERROR(VLOOKUP(HK36,MATCHSELEVES!$Y$14:$AE$600,3,FALSE),0)","v":0},{"$f":"IFERROR(VLOOKUP(HK36,MATCHSELEVES!$Y$14:$AE$600,4,FALSE),0)","v":0},{"$f":"IFERROR(VLOOKUP(HK36,MATCHSELEVES!$Y$14:$AE$600,5,FALSE),0)","v":0},{"$f":"IFERROR(VLOOKUP(HK36,MATCHSELEVES!$Y$14:$AF$600,8,FALSE),0)","v":0},{"$f":"IFERROR(VLOOKUP(HK36,MATCHSELEVES!$Y$14:$AG$600,9,FALSE),0)","v":0},"Süeda_35",{"$f":"IFERROR(VLOOKUP(HQ36,MATCHSELEVES!$Y$14:$AE$600,3,FALSE),0)","v":0},{"$f":"IFERROR(VLOOKUP(HQ36,MATCHSELEVES!$Y$14:$AE$600,4,FALSE),0)","v":0},{"$f":"IFERROR(VLOOKUP(HQ36,MATCHSELEVES!$Y$14:$AE$600,5,FALSE),0)","v":0},{"$f":"IFERROR(VLOOKUP(HQ36,MATCHSELEVES!$Y$14:$AF$600,8,FALSE),0)","v":0},{"$f":"IFERROR(VLOOKUP(HQ36,MATCHSELEVES!$Y$14:$AG$600,9,FALSE),0)","v":0},"Süeda_36",{"$f":"IFERROR(VLOOKUP(HW36,MATCHSELEVES!$Y$14:$AE$600,3,FALSE),0)","v":0},{"$f":"IFERROR(VLOOKUP(HW36,MATCHSELEVES!$Y$14:$AE$600,4,FALSE),0)","v":0},{"$f":"IFERROR(VLOOKUP(HW36,MATCHSELEVES!$Y$14:$AE$600,5,FALSE),0)","v":0},{"$f":"IFERROR(VLOOKUP(HW36,MATCHSELEVES!$Y$14:$AF$600,8,FALSE),0)","v":0},{"$f":"IFERROR(VLOOKUP(HW36,MATCHSELEVES!$Y$14:$AG$600,9,FALSE),0)","v":0},"Süeda_37",{"$f":"IFERROR(VLOOKUP(IC36,MATCHSELEVES!$Y$14:$AE$600,3,FALSE),0)","v":0},{"$f":"IFERROR(VLOOKUP(IC36,MATCHSELEVES!$Y$14:$AE$600,4,FALSE),0)","v":0},{"$f":"IFERROR(VLOOKUP(IC36,MATCHSELEVES!$Y$14:$AE$600,5,FALSE),0)","v":0},{"$f":"IFERROR(VLOOKUP(IC36,MATCHSELEVES!$Y$14:$AF$600,8,FALSE),0)","v":0},{"$f":"IFERROR(VLOOKUP(IC36,MATCHSELEVES!$Y$14:$AG$600,9,FALSE),0)","v":0},"Süeda_38",{"$f":"IFERROR(VLOOKUP(II36,MATCHSELEVES!$Y$14:$AE$600,3,FALSE),0)","v":0},{"$f":"IFERROR(VLOOKUP(II36,MATCHSELEVES!$Y$14:$AE$600,4,FALSE),0)","v":0},{"$f":"IFERROR(VLOOKUP(II36,MATCHSELEVES!$Y$14:$AE$600,5,FALSE),0)","v":0},{"$f":"IFERROR(VLOOKUP(II36,MATCHSELEVES!$Y$14:$AF$600,8,FALSE),0)","v":0},{"$f":"IFERROR(VLOOKUP(II36,MATCHSELEVES!$Y$14:$AG$600,9,FALSE),0)","v":0},"Süeda_39",{"$f":"IFERROR(VLOOKUP(IO36,MATCHSELEVES!$Y$14:$AE$600,3,FALSE),0)","v":0},{"$f":"IFERROR(VLOOKUP(IO36,MATCHSELEVES!$Y$14:$AE$600,4,FALSE),0)","v":0},{"$f":"IFERROR(VLOOKUP(IO36,MATCHSELEVES!$Y$14:$AE$600,5,FALSE),0)","v":0},{"$f":"IFERROR(VLOOKUP(IO36,MATCHSELEVES!$Y$14:$AF$600,8,FALSE),0)","v":0},{"$f":"IFERROR(VLOOKUP(IO36,MATCHSELEVES!$Y$14:$AG$600,9,FALSE),0)","v":0},"Süeda_40",{"$f":"IFERROR(VLOOKUP(IU36,MATCHSELEVES!$Y$14:$AE$600,3,FALSE),0)","v":0},{"$f":"IFERROR(VLOOKUP(IU36,MATCHSELEVES!$Y$14:$AE$600,4,FALSE),0)","v":0},{"$f":"IFERROR(VLOOKUP(IU36,MATCHSELEVES!$Y$14:$AE$600,5,FALSE),0)","v":0},{"$f":"IFERROR(VLOOKUP(IU36,MATCHSELEVES!$Y$14:$AF$600,8,FALSE),0)","v":0},{"$f":"IFERROR(VLOOKUP(IU36,MATCHSELEVES!$Y$14:$AG$600,9,FALSE),0)","v":0},"Süedap_1",{"$f":"IFERROR(VLOOKUP(JA36,MATCHSELEVES!$Y$14:$AE$600,3,FALSE),0)","v":0},{"$f":"IFERROR(VLOOKUP(JA36,MATCHSELEVES!$Y$14:$AE$600,4,FALSE),0)","v":0},{"$f":"IFERROR(VLOOKUP(JA36,MATCHSELEVES!$Y$14:$AE$600,5,FALSE),0)","v":0},{"$f":"IFERROR(VLOOKUP(JA36,MATCHSELEVES!$Y$14:$AF$600,8,FALSE),0)","v":0},{"$f":"IFERROR(VLOOKUP(JA36,MATCHSELEVES!$Y$14:$AG$600,9,FALSE),0)","v":0},"Süedap_2",{"$f":"IFERROR(VLOOKUP(JG36,MATCHSELEVES!$Y$14:$AE$600,3,FALSE),0)","v":0},{"$f":"IFERROR(VLOOKUP(JG36,MATCHSELEVES!$Y$14:$AE$600,4,FALSE),0)","v":0},{"$f":"IFERROR(VLOOKUP(JG36,MATCHSELEVES!$Y$14:$AE$600,5,FALSE),0)","v":0},{"$f":"IFERROR(VLOOKUP(JG36,MATCHSELEVES!$Y$14:$AF$600,8,FALSE),0)","v":0},{"$f":"IFERROR(VLOOKUP(JG36,MATCHSELEVES!$Y$14:$AG$600,9,FALSE),0)","v":0},"Süedap_3",{"$f":"IFERROR(VLOOKUP(JM36,MATCHSELEVES!$Y$14:$AE$600,3,FALSE),0)","v":0},{"$f":"IFERROR(VLOOKUP(JM36,MATCHSELEVES!$Y$14:$AE$600,4,FALSE),0)","v":0},{"$f":"IFERROR(VLOOKUP(JM36,MATCHSELEVES!$Y$14:$AE$600,5,FALSE),0)","v":0},{"$f":"IFERROR(VLOOKUP(JM36,MATCHSELEVES!$Y$14:$AF$600,8,FALSE),0)","v":0},{"$f":"IFERROR(VLOOKUP(JM36,MATCHSELEVES!$Y$14:$AG$600,9,FALSE),0)","v":0},"Süedap_4",{"$f":"IFERROR(VLOOKUP(JS36,MATCHSELEVES!$Y$14:$AE$600,3,FALSE),0)","v":0},{"$f":"IFERROR(VLOOKUP(JS36,MATCHSELEVES!$Y$14:$AE$600,4,FALSE),0)","v":0},{"$f":"IFERROR(VLOOKUP(JS36,MATCHSELEVES!$Y$14:$AE$600,5,FALSE),0)","v":0},{"$f":"IFERROR(VLOOKUP(JS36,MATCHSELEVES!$Y$14:$AF$600,8,FALSE),0)","v":0},{"$f":"IFERROR(VLOOKUP(JS36,MATCHSELEVES!$Y$14:$AG$600,9,FALSE),0)","v":0},"Süedap_5",{"$f":"IFERROR(VLOOKUP(JY36,MATCHSELEVES!$Y$14:$AE$600,3,FALSE),0)","v":0},{"$f":"IFERROR(VLOOKUP(JY36,MATCHSELEVES!$Y$14:$AE$600,4,FALSE),0)","v":0},{"$f":"IFERROR(VLOOKUP(JY36,MATCHSELEVES!$Y$14:$AE$600,5,FALSE),0)","v":0},{"$f":"IFERROR(VLOOKUP(JY36,MATCHSELEVES!$Y$14:$AF$600,8,FALSE),0)","v":0},{"$f":"IFERROR(VLOOKUP(JY36,MATCHSELEVES!$Y$14:$AG$600,9,FALSE),0)","v":0},"Süedap_6",{"$f":"IFERROR(VLOOKUP(KE36,MATCHSELEVES!$Y$14:$AE$600,3,FALSE),0)","v":0},{"$f":"IFERROR(VLOOKUP(KE36,MATCHSELEVES!$Y$14:$AE$600,4,FALSE),0)","v":0},{"$f":"IFERROR(VLOOKUP(KE36,MATCHSELEVES!$Y$14:$AE$600,5,FALSE),0)","v":0},{"$f":"IFERROR(VLOOKUP(KE36,MATCHSELEVES!$Y$14:$AF$600,8,FALSE),0)","v":0},{"$f":"IFERROR(VLOOKUP(KE36,MATCHSELEVES!$Y$14:$AG$600,9,FALSE),0)","v":0},"Süedap_7",{"$f":"IFERROR(VLOOKUP(KK36,MATCHSELEVES!$Y$14:$AE$600,3,FALSE),0)","v":0},{"$f":"IFERROR(VLOOKUP(KK36,MATCHSELEVES!$Y$14:$AE$600,4,FALSE),0)","v":0},{"$f":"IFERROR(VLOOKUP(KK36,MATCHSELEVES!$Y$14:$AE$600,5,FALSE),0)","v":0},{"$f":"IFERROR(VLOOKUP(KK36,MATCHSELEVES!$Y$14:$AF$600,8,FALSE),0)","v":0},{"$f":"IFERROR(VLOOKUP(KK36,MATCHSELEVES!$Y$14:$AG$600,9,FALSE),0)","v":0},"Süedap_8",{"$f":"IFERROR(VLOOKUP(KQ36,MATCHSELEVES!$Y$14:$AE$600,3,FALSE),0)","v":0},{"$f":"IFERROR(VLOOKUP(KQ36,MATCHSELEVES!$Y$14:$AE$600,4,FALSE),0)","v":0},{"$f":"IFERROR(VLOOKUP(KQ36,MATCHSELEVES!$Y$14:$AE$600,5,FALSE),0)","v":0},{"$f":"IFERROR(VLOOKUP(KQ36,MATCHSELEVES!$Y$14:$AF$600,8,FALSE),0)","v":0},{"$f":"IFERROR(VLOOKUP(KQ36,MATCHSELEVES!$Y$14:$AG$600,9,FALSE),0)","v":0},"Süedap_9",{"$f":"IFERROR(VLOOKUP(KW36,MATCHSELEVES!$Y$14:$AE$600,3,FALSE),0)","v":0},{"$f":"IFERROR(VLOOKUP(KW36,MATCHSELEVES!$Y$14:$AE$600,4,FALSE),0)","v":0},{"$f":"IFERROR(VLOOKUP(KW36,MATCHSELEVES!$Y$14:$AE$600,5,FALSE),0)","v":0},{"$f":"IFERROR(VLOOKUP(KW36,MATCHSELEVES!$Y$14:$AF$600,8,FALSE),0)","v":0},{"$f":"IFERROR(VLOOKUP(KW36,MATCHSELEVES!$Y$14:$AG$600,9,FALSE),0)","v":0},"Süedap_10",{"$f":"IFERROR(VLOOKUP(LC36,MATCHSELEVES!$Y$14:$AE$600,3,FALSE),0)","v":0},{"$f":"IFERROR(VLOOKUP(LC36,MATCHSELEVES!$Y$14:$AE$600,4,FALSE),0)","v":0},{"$f":"IFERROR(VLOOKUP(LC36,MATCHSELEVES!$Y$14:$AE$600,5,FALSE),0)","v":0},{"$f":"IFERROR(VLOOKUP(LC36,MATCHSELEVES!$Y$14:$AF$600,8,FALSE),0)","v":0},{"$f":"IFERROR(VLOOKUP(LC36,MATCHSELEVES!$Y$14:$AG$600,9,FALSE),0)","v":0},"Süedap_11",{"$f":"IFERROR(VLOOKUP(LI36,MATCHSELEVES!$Y$14:$AE$600,3,FALSE),0)","v":0},{"$f":"IFERROR(VLOOKUP(LI36,MATCHSELEVES!$Y$14:$AE$600,4,FALSE),0)","v":0},{"$f":"IFERROR(VLOOKUP(LI36,MATCHSELEVES!$Y$14:$AE$600,5,FALSE),0)","v":0},{"$f":"IFERROR(VLOOKUP(LI36,MATCHSELEVES!$Y$14:$AF$600,8,FALSE),0)","v":0},{"$f":"IFERROR(VLOOKUP(LI36,MATCHSELEVES!$Y$14:$AG$600,9,FALSE),0)","v":0},"Süedap_12",{"$f":"IFERROR(VLOOKUP(LO36,MATCHSELEVES!$Y$14:$AE$600,3,FALSE),0)","v":0},{"$f":"IFERROR(VLOOKUP(LO36,MATCHSELEVES!$Y$14:$AE$600,4,FALSE),0)","v":0},{"$f":"IFERROR(VLOOKUP(LO36,MATCHSELEVES!$Y$14:$AE$600,5,FALSE),0)","v":0},{"$f":"IFERROR(VLOOKUP(LO36,MATCHSELEVES!$Y$14:$AF$600,8,FALSE),0)","v":0},{"$f":"IFERROR(VLOOKUP(LO36,MATCHSELEVES!$Y$14:$AG$600,9,FALSE),0)","v":0},"Süedap_13",{"$f":"IFERROR(VLOOKUP(LU36,MATCHSELEVES!$Y$14:$AE$600,3,FALSE),0)","v":0},{"$f":"IFERROR(VLOOKUP(LU36,MATCHSELEVES!$Y$14:$AE$600,4,FALSE),0)","v":0},{"$f":"IFERROR(VLOOKUP(LU36,MATCHSELEVES!$Y$14:$AE$600,5,FALSE),0)","v":0},{"$f":"IFERROR(VLOOKUP(LU36,MATCHSELEVES!$Y$14:$AF$600,8,FALSE),0)","v":0},{"$f":"IFERROR(VLOOKUP(LU36,MATCHSELEVES!$Y$14:$AG$600,9,FALSE),0)","v":0},"Süedap_14",{"$f":"IFERROR(VLOOKUP(MA36,MATCHSELEVES!$Y$14:$AE$600,3,FALSE),0)","v":0},{"$f":"IFERROR(VLOOKUP(MA36,MATCHSELEVES!$Y$14:$AE$600,4,FALSE),0)","v":0},{"$f":"IFERROR(VLOOKUP(MA36,MATCHSELEVES!$Y$14:$AE$600,5,FALSE),0)","v":0},{"$f":"IFERROR(VLOOKUP(MA36,MATCHSELEVES!$Y$14:$AF$600,8,FALSE),0)","v":0},{"$f":"IFERROR(VLOOKUP(MA36,MATCHSELEVES!$Y$14:$AG$600,9,FALSE),0)","v":0},"Süedap_15",{"$f":"IFERROR(VLOOKUP(MG36,MATCHSELEVES!$Y$14:$AE$600,3,FALSE),0)","v":0},{"$f":"IFERROR(VLOOKUP(MG36,MATCHSELEVES!$Y$14:$AE$600,4,FALSE),0)","v":0},{"$f":"IFERROR(VLOOKUP(MG36,MATCHSELEVES!$Y$14:$AE$600,5,FALSE),0)","v":0},{"$f":"IFERROR(VLOOKUP(MG36,MATCHSELEVES!$Y$14:$AF$600,8,FALSE),0)","v":0},{"$f":"IFERROR(VLOOKUP(MG36,MATCHSELEVES!$Y$14:$AG$600,9,FALSE),0)","v":0},"Süedap_16",{"$f":"IFERROR(VLOOKUP(MM36,MATCHSELEVES!$Y$14:$AE$600,3,FALSE),0)","v":0},{"$f":"IFERROR(VLOOKUP(MM36,MATCHSELEVES!$Y$14:$AE$600,4,FALSE),0)","v":0},{"$f":"IFERROR(VLOOKUP(MM36,MATCHSELEVES!$Y$14:$AE$600,5,FALSE),0)","v":0},{"$f":"IFERROR(VLOOKUP(MM36,MATCHSELEVES!$Y$14:$AF$600,8,FALSE),0)","v":0},{"$f":"IFERROR(VLOOKUP(MM36,MATCHSELEVES!$Y$14:$AG$600,9,FALSE),0)","v":0},"Süedap_17",{"$f":"IFERROR(VLOOKUP(MS36,MATCHSELEVES!$Y$14:$AE$600,3,FALSE),0)","v":0},{"$f":"IFERROR(VLOOKUP(MS36,MATCHSELEVES!$Y$14:$AE$600,4,FALSE),0)","v":0},{"$f":"IFERROR(VLOOKUP(MS36,MATCHSELEVES!$Y$14:$AE$600,5,FALSE),0)","v":0},{"$f":"IFERROR(VLOOKUP(MS36,MATCHSELEVES!$Y$14:$AF$600,8,FALSE),0)","v":0},{"$f":"IFERROR(VLOOKUP(MS36,MATCHSELEVES!$Y$14:$AG$600,9,FALSE),0)","v":0},"Süedap_18",{"$f":"IFERROR(VLOOKUP(MY36,MATCHSELEVES!$Y$14:$AE$600,3,FALSE),0)","v":0},{"$f":"IFERROR(VLOOKUP(MY36,MATCHSELEVES!$Y$14:$AE$600,4,FALSE),0)","v":0},{"$f":"IFERROR(VLOOKUP(MY36,MATCHSELEVES!$Y$14:$AE$600,5,FALSE),0)","v":0},{"$f":"IFERROR(VLOOKUP(MY36,MATCHSELEVES!$Y$14:$AF$600,8,FALSE),0)","v":0},{"$f":"IFERROR(VLOOKUP(MY36,MATCHSELEVES!$Y$14:$AG$600,9,FALSE),0)","v":0},"Süedap_19",{"$f":"IFERROR(VLOOKUP(NE36,MATCHSELEVES!$Y$14:$AE$600,3,FALSE),0)","v":0},{"$f":"IFERROR(VLOOKUP(NE36,MATCHSELEVES!$Y$14:$AE$600,4,FALSE),0)","v":0},{"$f":"IFERROR(VLOOKUP(NE36,MATCHSELEVES!$Y$14:$AE$600,5,FALSE),0)","v":0},{"$f":"IFERROR(VLOOKUP(NE36,MATCHSELEVES!$Y$14:$AF$600,8,FALSE),0)","v":0},{"$f":"IFERROR(VLOOKUP(NE36,MATCHSELEVES!$Y$14:$AG$600,9,FALSE),0)","v":0},"Süedap_20",{"$f":"IFERROR(VLOOKUP(NK36,MATCHSELEVES!$Y$14:$AE$600,3,FALSE),0)","v":0},{"$f":"IFERROR(VLOOKUP(NK36,MATCHSELEVES!$Y$14:$AE$600,4,FALSE),0)","v":0},{"$f":"IFERROR(VLOOKUP(NK36,MATCHSELEVES!$Y$14:$AE$600,5,FALSE),0)","v":0},{"$f":"IFERROR(VLOOKUP(NK36,MATCHSELEVES!$Y$14:$AF$600,8,FALSE),0)","v":0},{"$f":"IFERROR(VLOOKUP(NK36,MATCHSELEVES!$Y$14:$AG$600,9,FALSE),0)","v":0},"Süedap_21",{"$f":"IFERROR(VLOOKUP(NQ36,MATCHSELEVES!$Y$14:$AE$600,3,FALSE),0)","v":0},{"$f":"IFERROR(VLOOKUP(NQ36,MATCHSELEVES!$Y$14:$AE$600,4,FALSE),0)","v":0},{"$f":"IFERROR(VLOOKUP(NQ36,MATCHSELEVES!$Y$14:$AE$600,5,FALSE),0)","v":0},{"$f":"IFERROR(VLOOKUP(NQ36,MATCHSELEVES!$Y$14:$AF$600,8,FALSE),0)","v":0},{"$f":"IFERROR(VLOOKUP(NQ36,MATCHSELEVES!$Y$14:$AG$600,9,FALSE),0)","v":0},"Süedap_22",{"$f":"IFERROR(VLOOKUP(NW36,MATCHSELEVES!$Y$14:$AE$600,3,FALSE),0)","v":0},{"$f":"IFERROR(VLOOKUP(NW36,MATCHSELEVES!$Y$14:$AE$600,4,FALSE),0)","v":0},{"$f":"IFERROR(VLOOKUP(NW36,MATCHSELEVES!$Y$14:$AE$600,5,FALSE),0)","v":0},{"$f":"IFERROR(VLOOKUP(NW36,MATCHSELEVES!$Y$14:$AF$600,8,FALSE),0)","v":0},{"$f":"IFERROR(VLOOKUP(NW36,MATCHSELEVES!$Y$14:$AG$600,9,FALSE),0)","v":0},"Süedap_23",{"$f":"IFERROR(VLOOKUP(OC36,MATCHSELEVES!$Y$14:$AE$600,3,FALSE),0)","v":0},{"$f":"IFERROR(VLOOKUP(OC36,MATCHSELEVES!$Y$14:$AE$600,4,FALSE),0)","v":0},{"$f":"IFERROR(VLOOKUP(OC36,MATCHSELEVES!$Y$14:$AE$600,5,FALSE),0)","v":0},{"$f":"IFERROR(VLOOKUP(OC36,MATCHSELEVES!$Y$14:$AF$600,8,FALSE),0)","v":0},{"$f":"IFERROR(VLOOKUP(OC36,MATCHSELEVES!$Y$14:$AG$600,9,FALSE),0)","v":0},"Süedap_24",{"$f":"IFERROR(VLOOKUP(OI36,MATCHSELEVES!$Y$14:$AE$600,3,FALSE),0)","v":0},{"$f":"IFERROR(VLOOKUP(OI36,MATCHSELEVES!$Y$14:$AE$600,4,FALSE),0)","v":0},{"$f":"IFERROR(VLOOKUP(OI36,MATCHSELEVES!$Y$14:$AE$600,5,FALSE),0)","v":0},{"$f":"IFERROR(VLOOKUP(OI36,MATCHSELEVES!$Y$14:$AF$600,8,FALSE),0)","v":0},{"$f":"IFERROR(VLOOKUP(OI36,MATCHSELEVES!$Y$14:$AG$600,9,FALSE),0)","v":0},"Süedap_25",{"$f":"IFERROR(VLOOKUP(OO36,MATCHSELEVES!$Y$14:$AE$600,3,FALSE),0)","v":0},{"$f":"IFERROR(VLOOKUP(OO36,MATCHSELEVES!$Y$14:$AE$600,4,FALSE),0)","v":0},{"$f":"IFERROR(VLOOKUP(OO36,MATCHSELEVES!$Y$14:$AE$600,5,FALSE),0)","v":0},{"$f":"IFERROR(VLOOKUP(OO36,MATCHSELEVES!$Y$14:$AF$600,8,FALSE),0)","v":0},{"$f":"IFERROR(VLOOKUP(OO36,MATCHSELEVES!$Y$14:$AG$600,9,FALSE),0)","v":0},"Süedap_26",{"$f":"IFERROR(VLOOKUP(OU36,MATCHSELEVES!$Y$14:$AE$600,3,FALSE),0)","v":0},{"$f":"IFERROR(VLOOKUP(OU36,MATCHSELEVES!$Y$14:$AE$600,4,FALSE),0)","v":0},{"$f":"IFERROR(VLOOKUP(OU36,MATCHSELEVES!$Y$14:$AE$600,5,FALSE),0)","v":0},{"$f":"IFERROR(VLOOKUP(OU36,MATCHSELEVES!$Y$14:$AF$600,8,FALSE),0)","v":0},{"$f":"IFERROR(VLOOKUP(OU36,MATCHSELEVES!$Y$14:$AG$600,9,FALSE),0)","v":0},"Süedap_27",{"$f":"IFERROR(VLOOKUP(PA36,MATCHSELEVES!$Y$14:$AE$600,3,FALSE),0)","v":0},{"$f":"IFERROR(VLOOKUP(PA36,MATCHSELEVES!$Y$14:$AE$600,4,FALSE),0)","v":0},{"$f":"IFERROR(VLOOKUP(PA36,MATCHSELEVES!$Y$14:$AE$600,5,FALSE),0)","v":0},{"$f":"IFERROR(VLOOKUP(PA36,MATCHSELEVES!$Y$14:$AF$600,8,FALSE),0)","v":0},{"$f":"IFERROR(VLOOKUP(PA36,MATCHSELEVES!$Y$14:$AG$600,9,FALSE),0)","v":0},"Süedap_28",{"$f":"IFERROR(VLOOKUP(PG36,MATCHSELEVES!$Y$14:$AE$600,3,FALSE),0)","v":0},{"$f":"IFERROR(VLOOKUP(PG36,MATCHSELEVES!$Y$14:$AE$600,4,FALSE),0)","v":0},{"$f":"IFERROR(VLOOKUP(PG36,MATCHSELEVES!$Y$14:$AE$600,5,FALSE),0)","v":0},{"$f":"IFERROR(VLOOKUP(PG36,MATCHSELEVES!$Y$14:$AF$600,8,FALSE),0)","v":0},{"$f":"IFERROR(VLOOKUP(PG36,MATCHSELEVES!$Y$14:$AG$600,9,FALSE),0)","v":0},"Süedap_29",{"$f":"IFERROR(VLOOKUP(PM36,MATCHSELEVES!$Y$14:$AE$600,3,FALSE),0)","v":0},{"$f":"IFERROR(VLOOKUP(PM36,MATCHSELEVES!$Y$14:$AE$600,4,FALSE),0)","v":0},{"$f":"IFERROR(VLOOKUP(PM36,MATCHSELEVES!$Y$14:$AE$600,5,FALSE),0)","v":0},{"$f":"IFERROR(VLOOKUP(PM36,MATCHSELEVES!$Y$14:$AF$600,8,FALSE),0)","v":0},{"$f":"IFERROR(VLOOKUP(PM36,MATCHSELEVES!$Y$14:$AG$600,9,FALSE),0)","v":0},"Süedap_30",{"$f":"IFERROR(VLOOKUP(PS36,MATCHSELEVES!$Y$14:$AE$600,3,FALSE),0)","v":0},{"$f":"IFERROR(VLOOKUP(PS36,MATCHSELEVES!$Y$14:$AE$600,4,FALSE),0)","v":0},{"$f":"IFERROR(VLOOKUP(PS36,MATCHSELEVES!$Y$14:$AE$600,5,FALSE),0)","v":0},{"$f":"IFERROR(VLOOKUP(PS36,MATCHSELEVES!$Y$14:$AF$600,8,FALSE),0)","v":0},{"$f":"IFERROR(VLOOKUP(PS36,MATCHSELEVES!$Y$14:$AG$600,9,FALSE),0)","v":0},"Süedap_31",{"$f":"IFERROR(VLOOKUP(PY36,MATCHSELEVES!$Y$14:$AE$600,3,FALSE),0)","v":0},{"$f":"IFERROR(VLOOKUP(PY36,MATCHSELEVES!$Y$14:$AE$600,4,FALSE),0)","v":0},{"$f":"IFERROR(VLOOKUP(PY36,MATCHSELEVES!$Y$14:$AE$600,5,FALSE),0)","v":0},{"$f":"IFERROR(VLOOKUP(PY36,MATCHSELEVES!$Y$14:$AF$600,8,FALSE),0)","v":0},{"$f":"IFERROR(VLOOKUP(PY36,MATCHSELEVES!$Y$14:$AG$600,9,FALSE),0)","v":0},"Süedap_32",{"$f":"IFERROR(VLOOKUP(QE36,MATCHSELEVES!$Y$14:$AE$600,3,FALSE),0)","v":0},{"$f":"IFERROR(VLOOKUP(QE36,MATCHSELEVES!$Y$14:$AE$600,4,FALSE),0)","v":0},{"$f":"IFERROR(VLOOKUP(QE36,MATCHSELEVES!$Y$14:$AE$600,5,FALSE),0)","v":0},{"$f":"IFERROR(VLOOKUP(QE36,MATCHSELEVES!$Y$14:$AF$600,8,FALSE),0)","v":0},{"$f":"IFERROR(VLOOKUP(QE36,MATCHSELEVES!$Y$14:$AG$600,9,FALSE),0)","v":0},"Süedap_33",{"$f":"IFERROR(VLOOKUP(QK36,MATCHSELEVES!$Y$14:$AE$600,3,FALSE),0)","v":0},{"$f":"IFERROR(VLOOKUP(QK36,MATCHSELEVES!$Y$14:$AE$600,4,FALSE),0)","v":0},{"$f":"IFERROR(VLOOKUP(QK36,MATCHSELEVES!$Y$14:$AE$600,5,FALSE),0)","v":0},{"$f":"IFERROR(VLOOKUP(QK36,MATCHSELEVES!$Y$14:$AF$600,8,FALSE),0)","v":0},{"$f":"IFERROR(VLOOKUP(QK36,MATCHSELEVES!$Y$14:$AG$600,9,FALSE),0)","v":0},"Süedap_34",{"$f":"IFERROR(VLOOKUP(QQ36,MATCHSELEVES!$Y$14:$AE$600,3,FALSE),0)","v":0},{"$f":"IFERROR(VLOOKUP(QQ36,MATCHSELEVES!$Y$14:$AE$600,4,FALSE),0)","v":0},{"$f":"IFERROR(VLOOKUP(QQ36,MATCHSELEVES!$Y$14:$AE$600,5,FALSE),0)","v":0},{"$f":"IFERROR(VLOOKUP(QQ36,MATCHSELEVES!$Y$14:$AF$600,8,FALSE),0)","v":0},{"$f":"IFERROR(VLOOKUP(QQ36,MATCHSELEVES!$Y$14:$AG$600,9,FALSE),0)","v":0},"Süedap_35",{"$f":"IFERROR(VLOOKUP(QW36,MATCHSELEVES!$Y$14:$AE$600,3,FALSE),0)","v":0},{"$f":"IFERROR(VLOOKUP(QW36,MATCHSELEVES!$Y$14:$AE$600,4,FALSE),0)","v":0},{"$f":"IFERROR(VLOOKUP(QW36,MATCHSELEVES!$Y$14:$AE$600,5,FALSE),0)","v":0},{"$f":"IFERROR(VLOOKUP(QW36,MATCHSELEVES!$Y$14:$AF$600,8,FALSE),0)","v":0},{"$f":"IFERROR(VLOOKUP(QW36,MATCHSELEVES!$Y$14:$AG$600,9,FALSE),0)","v":0},"Süedap_36",{"$f":"IFERROR(VLOOKUP(RC36,MATCHSELEVES!$Y$14:$AE$600,3,FALSE),0)","v":0},{"$f":"IFERROR(VLOOKUP(RC36,MATCHSELEVES!$Y$14:$AE$600,4,FALSE),0)","v":0},{"$f":"IFERROR(VLOOKUP(RC36,MATCHSELEVES!$Y$14:$AE$600,5,FALSE),0)","v":0},{"$f":"IFERROR(VLOOKUP(RC36,MATCHSELEVES!$Y$14:$AF$600,8,FALSE),0)","v":0},{"$f":"IFERROR(VLOOKUP(RC36,MATCHSELEVES!$Y$14:$AG$600,9,FALSE),0)","v":0},"Süedap_37",{"$f":"IFERROR(VLOOKUP(RI36,MATCHSELEVES!$Y$14:$AE$600,3,FALSE),0)","v":0},{"$f":"IFERROR(VLOOKUP(RI36,MATCHSELEVES!$Y$14:$AE$600,4,FALSE),0)","v":0},{"$f":"IFERROR(VLOOKUP(RI36,MATCHSELEVES!$Y$14:$AE$600,5,FALSE),0)","v":0},{"$f":"IFERROR(VLOOKUP(RI36,MATCHSELEVES!$Y$14:$AF$600,8,FALSE),0)","v":0},{"$f":"IFERROR(VLOOKUP(RI36,MATCHSELEVES!$Y$14:$AG$600,9,FALSE),0)","v":0},"Süedap_38",{"$f":"IFERROR(VLOOKUP(RO36,MATCHSELEVES!$Y$14:$AE$600,3,FALSE),0)","v":0},{"$f":"IFERROR(VLOOKUP(RO36,MATCHSELEVES!$Y$14:$AE$600,4,FALSE),0)","v":0},{"$f":"IFERROR(VLOOKUP(RO36,MATCHSELEVES!$Y$14:$AE$600,5,FALSE),0)","v":0},{"$f":"IFERROR(VLOOKUP(RO36,MATCHSELEVES!$Y$14:$AF$600,8,FALSE),0)","v":0},{"$f":"IFERROR(VLOOKUP(RO36,MATCHSELEVES!$Y$14:$AG$600,9,FALSE),0)","v":0},"Süedap_39",{"$f":"IFERROR(VLOOKUP(RU36,MATCHSELEVES!$Y$14:$AE$600,3,FALSE),0)","v":0},{"$f":"IFERROR(VLOOKUP(RU36,MATCHSELEVES!$Y$14:$AE$600,4,FALSE),0)","v":0},{"$f":"IFERROR(VLOOKUP(RU36,MATCHSELEVES!$Y$14:$AE$600,5,FALSE),0)","v":0},{"$f":"IFERROR(VLOOKUP(RU36,MATCHSELEVES!$Y$14:$AF$600,8,FALSE),0)","v":0},{"$f":"IFERROR(VLOOKUP(RU36,MATCHSELEVES!$Y$14:$AG$600,9,FALSE),0)","v":0},"Süedap_40",{"$f":"IFERROR(VLOOKUP(SA36,MATCHSELEVES!$Y$14:$AE$600,3,FALSE),0)","v":0},{"$f":"IFERROR(VLOOKUP(SA36,MATCHSELEVES!$Y$14:$AE$600,4,FALSE),0)","v":0},{"$f":"IFERROR(VLOOKUP(SA36,MATCHSELEVES!$Y$14:$AE$600,5,FALSE),0)","v":0},{"$f":"IFERROR(VLOOKUP(SA36,MATCHSELEVES!$Y$14:$AF$600,8,FALSE),0)","v":0},{"$f":"IFERROR(VLOOKUP(SA36,MATCHSELEVES!$Y$14:$AG$600,9,FALSE),0)","v":0}]
[34,null,"Tchelsy",34,null,null,{"$f":"COUNTIF(MATCHSELEVES!$Z$14:$Z$600,C37)+COUNTIF(MATCHSELEVES!$Z$14:$Z$600,$C37&\"p\")","v":0},1,{"$f":"COUNTIF(MATCHSELEVES!$F$14:$H$249,C37)","v":0},1,0,1,{"$f":"IFERROR(M80/Tableau10[[#This Row],[Nombre de matchs joués]],0)","v":0},{"$f":"IF(Tableau10[[#This Row],[Nombre de points encaissés]]=0,$C$45,SUMPRODUCT((M$4:M$43<M37)*(M$4:M$43<>0))+1)","v":40},0,1,{"$f":"(Tableau10[[#This Row],[CLASSEMENT1]]+Tableau10[[#This Row],[CLASSEMENT2]]+Tableau10[[#This Row],[CLASSEMENT3]]+Tableau10[[#This Row],[CLASSEMENT4]]+Tableau10[[#This Row],[CLASSEMENT5]]+Tableau10[[#This Row],[CLASSEMENT6]])/6","v":13},{"$f":"RANK(Tableau10[[#This Row],[MOYENNE CLASSEMENTS]],Tableau10[MOYENNE CLASSEMENTS],1)","v":34},null,{"$f":"Tableau10[[#This Row],[CLASSEMENT1]]","v":34},"Tchelsy_1",{"$f":"IFERROR(VLOOKUP(U37,MATCHSELEVES!$Y$14:$AE$600,3,FALSE),0)","v":0},{"$f":"IFERROR(VLOOKUP(U37,MATCHSELEVES!$Y$14:$AE$600,4,FALSE),0)","v":0},{"$f":"IFERROR(VLOOKUP(U37,MATCHSELEVES!$Y$14:$AE$600,5,FALSE),0)","v":0},{"$f":"IFERROR(VLOOKUP(U37,MATCHSELEVES!$Y$14:$AF$600,8,FALSE),0)","v":0},{"$f":"IFERROR(VLOOKUP(U37,MATCHSELEVES!$Y$14:$AG$600,9,FALSE),0)","v":0},"Tchelsy_2",{"$f":"IFERROR(VLOOKUP(AA37,MATCHSELEVES!$Y$14:$AE$600,3,FALSE),0)","v":0},{"$f":"IFERROR(VLOOKUP(AA37,MATCHSELEVES!$Y$14:$AE$600,4,FALSE),0)","v":0},{"$f":"IFERROR(VLOOKUP(AA37,MATCHSELEVES!$Y$14:$AE$600,5,FALSE),0)","v":0},{"$f":"IFERROR(VLOOKUP(AA37,MATCHSELEVES!$Y$14:$AF$600,8,FALSE),0)","v":0},{"$f":"IFERROR(VLOOKUP(AA37,MATCHSELEVES!$Y$14:$AG$600,9,FALSE),0)","v":0},"Tchelsy_3",{"$f":"IFERROR(VLOOKUP(AG37,MATCHSELEVES!$Y$14:$AE$600,3,FALSE),0)","v":0},{"$f":"IFERROR(VLOOKUP(AG37,MATCHSELEVES!$Y$14:$AE$600,4,FALSE),0)","v":0},{"$f":"IFERROR(VLOOKUP(AG37,MATCHSELEVES!$Y$14:$AE$600,5,FALSE),0)","v":0},{"$f":"IFERROR(VLOOKUP(AG37,MATCHSELEVES!$Y$14:$AF$600,8,FALSE),0)","v":0},{"$f":"IFERROR(VLOOKUP(AG37,MATCHSELEVES!$Y$14:$AG$600,9,FALSE),0)","v":0},"Tchelsy_4",{"$f":"IFERROR(VLOOKUP(AM37,MATCHSELEVES!$Y$14:$AE$600,3,FALSE),0)","v":0},{"$f":"IFERROR(VLOOKUP(AM37,MATCHSELEVES!$Y$14:$AE$600,4,FALSE),0)","v":0},{"$f":"IFERROR(VLOOKUP(AM37,MATCHSELEVES!$Y$14:$AE$600,5,FALSE),0)","v":0},{"$f":"IFERROR(VLOOKUP(AM37,MATCHSELEVES!$Y$14:$AF$600,8,FALSE),0)","v":0},{"$f":"IFERROR(VLOOKUP(AM37,MATCHSELEVES!$Y$14:$AG$600,9,FALSE),0)","v":0},"Tchelsy_5",{"$f":"IFERROR(VLOOKUP(AS37,MATCHSELEVES!$Y$14:$AE$600,3,FALSE),0)","v":0},{"$f":"IFERROR(VLOOKUP(AS37,MATCHSELEVES!$Y$14:$AE$600,4,FALSE),0)","v":0},{"$f":"IFERROR(VLOOKUP(AS37,MATCHSELEVES!$Y$14:$AE$600,5,FALSE),0)","v":0},{"$f":"IFERROR(VLOOKUP(AS37,MATCHSELEVES!$Y$14:$AF$600,8,FALSE),0)","v":0},{"$f":"IFERROR(VLOOKUP(AS37,MATCHSELEVES!$Y$14:$AG$600,9,FALSE),0)","v":0},"Tchelsy_6",{"$f":"IFERROR(VLOOKUP(AY37,MATCHSELEVES!$Y$14:$AE$600,3,FALSE),0)","v":0},{"$f":"IFERROR(VLOOKUP(AY37,MATCHSELEVES!$Y$14:$AE$600,4,FALSE),0)","v":0},{"$f":"IFERROR(VLOOKUP(AY37,MATCHSELEVES!$Y$14:$AE$600,5,FALSE),0)","v":0},{"$f":"IFERROR(VLOOKUP(AY37,MATCHSELEVES!$Y$14:$AF$600,8,FALSE),0)","v":0},{"$f":"IFERROR(VLOOKUP(AY37,MATCHSELEVES!$Y$14:$AG$600,9,FALSE),0)","v":0},"Tchelsy_7",{"$f":"IFERROR(VLOOKUP(BE37,MATCHSELEVES!$Y$14:$AE$600,3,FALSE),0)","v":0},{"$f":"IFERROR(VLOOKUP(BE37,MATCHSELEVES!$Y$14:$AE$600,4,FALSE),0)","v":0},{"$f":"IFERROR(VLOOKUP(BE37,MATCHSELEVES!$Y$14:$AE$600,5,FALSE),0)","v":0},{"$f":"IFERROR(VLOOKUP(BE37,MATCHSELEVES!$Y$14:$AF$600,8,FALSE),0)","v":0},{"$f":"IFERROR(VLOOKUP(BE37,MATCHSELEVES!$Y$14:$AG$600,9,FALSE),0)","v":0},"Tchelsy_8",{"$f":"IFERROR(VLOOKUP(BK37,MATCHSELEVES!$Y$14:$AE$600,3,FALSE),0)","v":0},{"$f":"IFERROR(VLOOKUP(BK37,MATCHSELEVES!$Y$14:$AE$600,4,FALSE),0)","v":0},{"$f":"IFERROR(VLOOKUP(BK37,MATCHSELEVES!$Y$14:$AE$600,5,FALSE),0)","v":0},{"$f":"IFERROR(VLOOKUP(BK37,MATCHSELEVES!$Y$14:$AF$600,8,FALSE),0)","v":0},{"$f":"IFERROR(VLOOKUP(BK37,MATCHSELEVES!$Y$14:$AG$600,9,FALSE),0)","v":0},"Tchelsy_9",{"$f":"IFERROR(VLOOKUP(BQ37,MATCHSELEVES!$Y$14:$AE$600,3,FALSE),0)","v":0},{"$f":"IFERROR(VLOOKUP(BQ37,MATCHSELEVES!$Y$14:$AE$600,4,FALSE),0)","v":0},{"$f":"IFERROR(VLOOKUP(BQ37,MATCHSELEVES!$Y$14:$AE$600,5,FALSE),0)","v":0},{"$f":"IFERROR(VLOOKUP(BQ37,MATCHSELEVES!$Y$14:$AF$600,8,FALSE),0)","v":0},{"$f":"IFERROR(VLOOKUP(BQ37,MATCHSELEVES!$Y$14:$AG$600,9,FALSE),0)","v":0},"Tchelsy_10",{"$f":"IFERROR(VLOOKUP(BW37,MATCHSELEVES!$Y$14:$AE$600,3,FALSE),0)","v":0},{"$f":"IFERROR(VLOOKUP(BW37,MATCHSELEVES!$Y$14:$AE$600,4,FALSE),0)","v":0},{"$f":"IFERROR(VLOOKUP(BW37,MATCHSELEVES!$Y$14:$AE$600,5,FALSE),0)","v":0},{"$f":"IFERROR(VLOOKUP(BW37,MATCHSELEVES!$Y$14:$AF$600,8,FALSE),0)","v":0},{"$f":"IFERROR(VLOOKUP(BW37,MATCHSELEVES!$Y$14:$AG$600,9,FALSE),0)","v":0},"Tchelsy_11",{"$f":"IFERROR(VLOOKUP(CC37,MATCHSELEVES!$Y$14:$AE$600,3,FALSE),0)","v":0},{"$f":"IFERROR(VLOOKUP(CC37,MATCHSELEVES!$Y$14:$AE$600,4,FALSE),0)","v":0},{"$f":"IFERROR(VLOOKUP(CC37,MATCHSELEVES!$Y$14:$AE$600,5,FALSE),0)","v":0},{"$f":"IFERROR(VLOOKUP(CC37,MATCHSELEVES!$Y$14:$AF$600,8,FALSE),0)","v":0},{"$f":"IFERROR(VLOOKUP(CC37,MATCHSELEVES!$Y$14:$AG$600,9,FALSE),0)","v":0},"Tchelsy_12",{"$f":"IFERROR(VLOOKUP(CI37,MATCHSELEVES!$Y$14:$AE$600,3,FALSE),0)","v":0},{"$f":"IFERROR(VLOOKUP(CI37,MATCHSELEVES!$Y$14:$AE$600,4,FALSE),0)","v":0},{"$f":"IFERROR(VLOOKUP(CI37,MATCHSELEVES!$Y$14:$AE$600,5,FALSE),0)","v":0},{"$f":"IFERROR(VLOOKUP(CI37,MATCHSELEVES!$Y$14:$AF$600,8,FALSE),0)","v":0},{"$f":"IFERROR(VLOOKUP(CI37,MATCHSELEVES!$Y$14:$AG$600,9,FALSE),0)","v":0},"Tchelsy_13",{"$f":"IFERROR(VLOOKUP(CO37,MATCHSELEVES!$Y$14:$AE$600,3,FALSE),0)","v":0},{"$f":"IFERROR(VLOOKUP(CO37,MATCHSELEVES!$Y$14:$AE$600,4,FALSE),0)","v":0},{"$f":"IFERROR(VLOOKUP(CO37,MATCHSELEVES!$Y$14:$AE$600,5,FALSE),0)","v":0},{"$f":"IFERROR(VLOOKUP(CO37,MATCHSELEVES!$Y$14:$AF$600,8,FALSE),0)","v":0},{"$f":"IFERROR(VLOOKUP(CO37,MATCHSELEVES!$Y$14:$AG$600,9,FALSE),0)","v":0},"Tchelsy_14",{"$f":"IFERROR(VLOOKUP(CU37,MATCHSELEVES!$Y$14:$AE$600,3,FALSE),0)","v":0},{"$f":"IFERROR(VLOOKUP(CU37,MATCHSELEVES!$Y$14:$AE$600,4,FALSE),0)","v":0},{"$f":"IFERROR(VLOOKUP(CU37,MATCHSELEVES!$Y$14:$AE$600,5,FALSE),0)","v":0},{"$f":"IFERROR(VLOOKUP(CU37,MATCHSELEVES!$Y$14:$AF$600,8,FALSE),0)","v":0},{"$f":"IFERROR(VLOOKUP(CU37,MATCHSELEVES!$Y$14:$AG$600,9,FALSE),0)","v":0},"Tchelsy_15",{"$f":"IFERROR(VLOOKUP(DA37,MATCHSELEVES!$Y$14:$AE$600,3,FALSE),0)","v":0},{"$f":"IFERROR(VLOOKUP(DA37,MATCHSELEVES!$Y$14:$AE$600,4,FALSE),0)","v":0},{"$f":"IFERROR(VLOOKUP(DA37,MATCHSELEVES!$Y$14:$AE$600,5,FALSE),0)","v":0},{"$f":"IFERROR(VLOOKUP(DA37,MATCHSELEVES!$Y$14:$AF$600,8,FALSE),0)","v":0},{"$f":"IFERROR(VLOOKUP(DA37,MATCHSELEVES!$Y$14:$AG$600,9,FALSE),0)","v":0},"Tchelsy_16",{"$f":"IFERROR(VLOOKUP(DG37,MATCHSELEVES!$Y$14:$AE$600,3,FALSE),0)","v":0},{"$f":"IFERROR(VLOOKUP(DG37,MATCHSELEVES!$Y$14:$AE$600,4,FALSE),0)","v":0},{"$f":"IFERROR(VLOOKUP(DG37,MATCHSELEVES!$Y$14:$AE$600,5,FALSE),0)","v":0},{"$f":"IFERROR(VLOOKUP(DG37,MATCHSELEVES!$Y$14:$AF$600,8,FALSE),0)","v":0},{"$f":"IFERROR(VLOOKUP(DG37,MATCHSELEVES!$Y$14:$AG$600,9,FALSE),0)","v":0},"Tchelsy_17",{"$f":"IFERROR(VLOOKUP(DM37,MATCHSELEVES!$Y$14:$AE$600,3,FALSE),0)","v":0},{"$f":"IFERROR(VLOOKUP(DM37,MATCHSELEVES!$Y$14:$AE$600,4,FALSE),0)","v":0},{"$f":"IFERROR(VLOOKUP(DM37,MATCHSELEVES!$Y$14:$AE$600,5,FALSE),0)","v":0},{"$f":"IFERROR(VLOOKUP(DM37,MATCHSELEVES!$Y$14:$AF$600,8,FALSE),0)","v":0},{"$f":"IFERROR(VLOOKUP(DM37,MATCHSELEVES!$Y$14:$AG$600,9,FALSE),0)","v":0},"Tchelsy_18",{"$f":"IFERROR(VLOOKUP(DS37,MATCHSELEVES!$Y$14:$AE$600,3,FALSE),0)","v":0},{"$f":"IFERROR(VLOOKUP(DS37,MATCHSELEVES!$Y$14:$AE$600,4,FALSE),0)","v":0},{"$f":"IFERROR(VLOOKUP(DS37,MATCHSELEVES!$Y$14:$AE$600,5,FALSE),0)","v":0},{"$f":"IFERROR(VLOOKUP(DS37,MATCHSELEVES!$Y$14:$AF$600,8,FALSE),0)","v":0},{"$f":"IFERROR(VLOOKUP(DS37,MATCHSELEVES!$Y$14:$AG$600,9,FALSE),0)","v":0},"Tchelsy_19",{"$f":"IFERROR(VLOOKUP(DY37,MATCHSELEVES!$Y$14:$AE$600,3,FALSE),0)","v":0},{"$f":"IFERROR(VLOOKUP(DY37,MATCHSELEVES!$Y$14:$AE$600,4,FALSE),0)","v":0},{"$f":"IFERROR(VLOOKUP(DY37,MATCHSELEVES!$Y$14:$AE$600,5,FALSE),0)","v":0},{"$f":"IFERROR(VLOOKUP(DY37,MATCHSELEVES!$Y$14:$AF$600,8,FALSE),0)","v":0},{"$f":"IFERROR(VLOOKUP(DY37,MATCHSELEVES!$Y$14:$AG$600,9,FALSE),0)","v":0},"Tchelsy_20",{"$f":"IFERROR(VLOOKUP(EE37,MATCHSELEVES!$Y$14:$AE$600,3,FALSE),0)","v":0},{"$f":"IFERROR(VLOOKUP(EE37,MATCHSELEVES!$Y$14:$AE$600,4,FALSE),0)","v":0},{"$f":"IFERROR(VLOOKUP(EE37,MATCHSELEVES!$Y$14:$AE$600,5,FALSE),0)","v":0},{"$f":"IFERROR(VLOOKUP(EE37,MATCHSELEVES!$Y$14:$AF$600,8,FALSE),0)","v":0},{"$f":"IFERROR(VLOOKUP(EE37,MATCHSELEVES!$Y$14:$AG$600,9,FALSE),0)","v":0},"Tchelsy_21",{"$f":"IFERROR(VLOOKUP(EK37,MATCHSELEVES!$Y$14:$AE$600,3,FALSE),0)","v":0},{"$f":"IFERROR(VLOOKUP(EK37,MATCHSELEVES!$Y$14:$AE$600,4,FALSE),0)","v":0},{"$f":"IFERROR(VLOOKUP(EK37,MATCHSELEVES!$Y$14:$AE$600,5,FALSE),0)","v":0},{"$f":"IFERROR(VLOOKUP(EK37,MATCHSELEVES!$Y$14:$AF$600,8,FALSE),0)","v":0},{"$f":"IFERROR(VLOOKUP(EK37,MATCHSELEVES!$Y$14:$AG$600,9,FALSE),0)","v":0},"Tchelsy_22",{"$f":"IFERROR(VLOOKUP(EQ37,MATCHSELEVES!$Y$14:$AE$600,3,FALSE),0)","v":0},{"$f":"IFERROR(VLOOKUP(EQ37,MATCHSELEVES!$Y$14:$AE$600,4,FALSE),0)","v":0},{"$f":"IFERROR(VLOOKUP(EQ37,MATCHSELEVES!$Y$14:$AE$600,5,FALSE),0)","v":0},{"$f":"IFERROR(VLOOKUP(EQ37,MATCHSELEVES!$Y$14:$AF$600,8,FALSE),0)","v":0},{"$f":"IFERROR(VLOOKUP(EQ37,MATCHSELEVES!$Y$14:$AG$600,9,FALSE),0)","v":0},"Tchelsy_23",{"$f":"IFERROR(VLOOKUP(EW37,MATCHSELEVES!$Y$14:$AE$600,3,FALSE),0)","v":0},{"$f":"IFERROR(VLOOKUP(EW37,MATCHSELEVES!$Y$14:$AE$600,4,FALSE),0)","v":0},{"$f":"IFERROR(VLOOKUP(EW37,MATCHSELEVES!$Y$14:$AE$600,5,FALSE),0)","v":0},{"$f":"IFERROR(VLOOKUP(EW37,MATCHSELEVES!$Y$14:$AF$600,8,FALSE),0)","v":0},{"$f":"IFERROR(VLOOKUP(EW37,MATCHSELEVES!$Y$14:$AG$600,9,FALSE),0)","v":0},"Tchelsy_24",{"$f":"IFERROR(VLOOKUP(FC37,MATCHSELEVES!$Y$14:$AE$600,3,FALSE),0)","v":0},{"$f":"IFERROR(VLOOKUP(FC37,MATCHSELEVES!$Y$14:$AE$600,4,FALSE),0)","v":0},{"$f":"IFERROR(VLOOKUP(FC37,MATCHSELEVES!$Y$14:$AE$600,5,FALSE),0)","v":0},{"$f":"IFERROR(VLOOKUP(FC37,MATCHSELEVES!$Y$14:$AF$600,8,FALSE),0)","v":0},{"$f":"IFERROR(VLOOKUP(FC37,MATCHSELEVES!$Y$14:$AG$600,9,FALSE),0)","v":0},"Tchelsy_25",{"$f":"IFERROR(VLOOKUP(FI37,MATCHSELEVES!$Y$14:$AE$600,3,FALSE),0)","v":0},{"$f":"IFERROR(VLOOKUP(FI37,MATCHSELEVES!$Y$14:$AE$600,4,FALSE),0)","v":0},{"$f":"IFERROR(VLOOKUP(FI37,MATCHSELEVES!$Y$14:$AE$600,5,FALSE),0)","v":0},{"$f":"IFERROR(VLOOKUP(FI37,MATCHSELEVES!$Y$14:$AF$600,8,FALSE),0)","v":0},{"$f":"IFERROR(VLOOKUP(FI37,MATCHSELEVES!$Y$14:$AG$600,9,FALSE),0)","v":0},"Tchelsy_26",{"$f":"IFERROR(VLOOKUP(FO37,MATCHSELEVES!$Y$14:$AE$600,3,FALSE),0)","v":0},{"$f":"IFERROR(VLOOKUP(FO37,MATCHSELEVES!$Y$14:$AE$600,4,FALSE),0)","v":0},{"$f":"IFERROR(VLOOKUP(FO37,MATCHSELEVES!$Y$14:$AE$600,5,FALSE),0)","v":0},{"$f":"IFERROR(VLOOKUP(FO37,MATCHSELEVES!$Y$14:$AF$600,8,FALSE),0)","v":0},{"$f":"IFERROR(VLOOKUP(FO37,MATCHSELEVES!$Y$14:$AG$600,9,FALSE),0)","v":0},"Tchelsy_27",{"$f":"IFERROR(VLOOKUP(FU37,MATCHSELEVES!$Y$14:$AE$600,3,FALSE),0)","v":0},{"$f":"IFERROR(VLOOKUP(FU37,MATCHSELEVES!$Y$14:$AE$600,4,FALSE),0)","v":0},{"$f":"IFERROR(VLOOKUP(FU37,MATCHSELEVES!$Y$14:$AE$600,5,FALSE),0)","v":0},{"$f":"IFERROR(VLOOKUP(FU37,MATCHSELEVES!$Y$14:$AF$600,8,FALSE),0)","v":0},{"$f":"IFERROR(VLOOKUP(FU37,MATCHSELEVES!$Y$14:$AG$600,9,FALSE),0)","v":0},"Tchelsy_28",{"$f":"IFERROR(VLOOKUP(GA37,MATCHSELEVES!$Y$14:$AE$600,3,FALSE),0)","v":0},{"$f":"IFERROR(VLOOKUP(GA37,MATCHSELEVES!$Y$14:$AE$600,4,FALSE),0)","v":0},{"$f":"IFERROR(VLOOKUP(GA37,MATCHSELEVES!$Y$14:$AE$600,5,FALSE),0)","v":0},{"$f":"IFERROR(VLOOKUP(GA37,MATCHSELEVES!$Y$14:$AF$600,8,FALSE),0)","v":0},{"$f":"IFERROR(VLOOKUP(GA37,MATCHSELEVES!$Y$14:$AG$600,9,FALSE),0)","v":0},"Tchelsy_29",{"$f":"IFERROR(VLOOKUP(GG37,MATCHSELEVES!$Y$14:$AE$600,3,FALSE),0)","v":0},{"$f":"IFERROR(VLOOKUP(GG37,MATCHSELEVES!$Y$14:$AE$600,4,FALSE),0)","v":0},{"$f":"IFERROR(VLOOKUP(GG37,MATCHSELEVES!$Y$14:$AE$600,5,FALSE),0)","v":0},{"$f":"IFERROR(VLOOKUP(GG37,MATCHSELEVES!$Y$14:$AF$600,8,FALSE),0)","v":0},{"$f":"IFERROR(VLOOKUP(GG37,MATCHSELEVES!$Y$14:$AG$600,9,FALSE),0)","v":0},"Tchelsy_30",{"$f":"IFERROR(VLOOKUP(GM37,MATCHSELEVES!$Y$14:$AE$600,3,FALSE),0)","v":0},{"$f":"IFERROR(VLOOKUP(GM37,MATCHSELEVES!$Y$14:$AE$600,4,FALSE),0)","v":0},{"$f":"IFERROR(VLOOKUP(GM37,MATCHSELEVES!$Y$14:$AE$600,5,FALSE),0)","v":0},{"$f":"IFERROR(VLOOKUP(GM37,MATCHSELEVES!$Y$14:$AF$600,8,FALSE),0)","v":0},{"$f":"IFERROR(VLOOKUP(GM37,MATCHSELEVES!$Y$14:$AG$600,9,FALSE),0)","v":0},"Tchelsy_31",{"$f":"IFERROR(VLOOKUP(GS37,MATCHSELEVES!$Y$14:$AE$600,3,FALSE),0)","v":0},{"$f":"IFERROR(VLOOKUP(GS37,MATCHSELEVES!$Y$14:$AE$600,4,FALSE),0)","v":0},{"$f":"IFERROR(VLOOKUP(GS37,MATCHSELEVES!$Y$14:$AE$600,5,FALSE),0)","v":0},{"$f":"IFERROR(VLOOKUP(GS37,MATCHSELEVES!$Y$14:$AF$600,8,FALSE),0)","v":0},{"$f":"IFERROR(VLOOKUP(GS37,MATCHSELEVES!$Y$14:$AG$600,9,FALSE),0)","v":0},"Tchelsy_32",{"$f":"IFERROR(VLOOKUP(GY37,MATCHSELEVES!$Y$14:$AE$600,3,FALSE),0)","v":0},{"$f":"IFERROR(VLOOKUP(GY37,MATCHSELEVES!$Y$14:$AE$600,4,FALSE),0)","v":0},{"$f":"IFERROR(VLOOKUP(GY37,MATCHSELEVES!$Y$14:$AE$600,5,FALSE),0)","v":0},{"$f":"IFERROR(VLOOKUP(GY37,MATCHSELEVES!$Y$14:$AF$600,8,FALSE),0)","v":0},{"$f":"IFERROR(VLOOKUP(GY37,MATCHSELEVES!$Y$14:$AG$600,9,FALSE),0)","v":0},"Tchelsy_33",{"$f":"IFERROR(VLOOKUP(HE37,MATCHSELEVES!$Y$14:$AE$600,3,FALSE),0)","v":0},{"$f":"IFERROR(VLOOKUP(HE37,MATCHSELEVES!$Y$14:$AE$600,4,FALSE),0)","v":0},{"$f":"IFERROR(VLOOKUP(HE37,MATCHSELEVES!$Y$14:$AE$600,5,FALSE),0)","v":0},{"$f":"IFERROR(VLOOKUP(HE37,MATCHSELEVES!$Y$14:$AF$600,8,FALSE),0)","v":0},{"$f":"IFERROR(VLOOKUP(HE37,MATCHSELEVES!$Y$14:$AG$600,9,FALSE),0)","v":0},"Tchelsy_34",{"$f":"IFERROR(VLOOKUP(HK37,MATCHSELEVES!$Y$14:$AE$600,3,FALSE),0)","v":0},{"$f":"IFERROR(VLOOKUP(HK37,MATCHSELEVES!$Y$14:$AE$600,4,FALSE),0)","v":0},{"$f":"IFERROR(VLOOKUP(HK37,MATCHSELEVES!$Y$14:$AE$600,5,FALSE),0)","v":0},{"$f":"IFERROR(VLOOKUP(HK37,MATCHSELEVES!$Y$14:$AF$600,8,FALSE),0)","v":0},{"$f":"IFERROR(VLOOKUP(HK37,MATCHSELEVES!$Y$14:$AG$600,9,FALSE),0)","v":0},"Tchelsy_35",{"$f":"IFERROR(VLOOKUP(HQ37,MATCHSELEVES!$Y$14:$AE$600,3,FALSE),0)","v":0},{"$f":"IFERROR(VLOOKUP(HQ37,MATCHSELEVES!$Y$14:$AE$600,4,FALSE),0)","v":0},{"$f":"IFERROR(VLOOKUP(HQ37,MATCHSELEVES!$Y$14:$AE$600,5,FALSE),0)","v":0},{"$f":"IFERROR(VLOOKUP(HQ37,MATCHSELEVES!$Y$14:$AF$600,8,FALSE),0)","v":0},{"$f":"IFERROR(VLOOKUP(HQ37,MATCHSELEVES!$Y$14:$AG$600,9,FALSE),0)","v":0},"Tchelsy_36",{"$f":"IFERROR(VLOOKUP(HW37,MATCHSELEVES!$Y$14:$AE$600,3,FALSE),0)","v":0},{"$f":"IFERROR(VLOOKUP(HW37,MATCHSELEVES!$Y$14:$AE$600,4,FALSE),0)","v":0},{"$f":"IFERROR(VLOOKUP(HW37,MATCHSELEVES!$Y$14:$AE$600,5,FALSE),0)","v":0},{"$f":"IFERROR(VLOOKUP(HW37,MATCHSELEVES!$Y$14:$AF$600,8,FALSE),0)","v":0},{"$f":"IFERROR(VLOOKUP(HW37,MATCHSELEVES!$Y$14:$AG$600,9,FALSE),0)","v":0},"Tchelsy_37",{"$f":"IFERROR(VLOOKUP(IC37,MATCHSELEVES!$Y$14:$AE$600,3,FALSE),0)","v":0},{"$f":"IFERROR(VLOOKUP(IC37,MATCHSELEVES!$Y$14:$AE$600,4,FALSE),0)","v":0},{"$f":"IFERROR(VLOOKUP(IC37,MATCHSELEVES!$Y$14:$AE$600,5,FALSE),0)","v":0},{"$f":"IFERROR(VLOOKUP(IC37,MATCHSELEVES!$Y$14:$AF$600,8,FALSE),0)","v":0},{"$f":"IFERROR(VLOOKUP(IC37,MATCHSELEVES!$Y$14:$AG$600,9,FALSE),0)","v":0},"Tchelsy_38",{"$f":"IFERROR(VLOOKUP(II37,MATCHSELEVES!$Y$14:$AE$600,3,FALSE),0)","v":0},{"$f":"IFERROR(VLOOKUP(II37,MATCHSELEVES!$Y$14:$AE$600,4,FALSE),0)","v":0},{"$f":"IFERROR(VLOOKUP(II37,MATCHSELEVES!$Y$14:$AE$600,5,FALSE),0)","v":0},{"$f":"IFERROR(VLOOKUP(II37,MATCHSELEVES!$Y$14:$AF$600,8,FALSE),0)","v":0},{"$f":"IFERROR(VLOOKUP(II37,MATCHSELEVES!$Y$14:$AG$600,9,FALSE),0)","v":0},"Tchelsy_39",{"$f":"IFERROR(VLOOKUP(IO37,MATCHSELEVES!$Y$14:$AE$600,3,FALSE),0)","v":0},{"$f":"IFERROR(VLOOKUP(IO37,MATCHSELEVES!$Y$14:$AE$600,4,FALSE),0)","v":0},{"$f":"IFERROR(VLOOKUP(IO37,MATCHSELEVES!$Y$14:$AE$600,5,FALSE),0)","v":0},{"$f":"IFERROR(VLOOKUP(IO37,MATCHSELEVES!$Y$14:$AF$600,8,FALSE),0)","v":0},{"$f":"IFERROR(VLOOKUP(IO37,MATCHSELEVES!$Y$14:$AG$600,9,FALSE),0)","v":0},"Tchelsy_40",{"$f":"IFERROR(VLOOKUP(IU37,MATCHSELEVES!$Y$14:$AE$600,3,FALSE),0)","v":0},{"$f":"IFERROR(VLOOKUP(IU37,MATCHSELEVES!$Y$14:$AE$600,4,FALSE),0)","v":0},{"$f":"IFERROR(VLOOKUP(IU37,MATCHSELEVES!$Y$14:$AE$600,5,FALSE),0)","v":0},{"$f":"IFERROR(VLOOKUP(IU37,MATCHSELEVES!$Y$14:$AF$600,8,FALSE),0)","v":0},{"$f":"IFERROR(VLOOKUP(IU37,MATCHSELEVES!$Y$14:$AG$600,9,FALSE),0)","v":0},"Tchelsyp_1",{"$f":"IFERROR(VLOOKUP(JA37,MATCHSELEVES!$Y$14:$AE$600,3,FALSE),0)","v":0},{"$f":"IFERROR(VLOOKUP(JA37,MATCHSELEVES!$Y$14:$AE$600,4,FALSE),0)","v":0},{"$f":"IFERROR(VLOOKUP(JA37,MATCHSELEVES!$Y$14:$AE$600,5,FALSE),0)","v":0},{"$f":"IFERROR(VLOOKUP(JA37,MATCHSELEVES!$Y$14:$AF$600,8,FALSE),0)","v":0},{"$f":"IFERROR(VLOOKUP(JA37,MATCHSELEVES!$Y$14:$AG$600,9,FALSE),0)","v":0},"Tchelsyp_2",{"$f":"IFERROR(VLOOKUP(JG37,MATCHSELEVES!$Y$14:$AE$600,3,FALSE),0)","v":0},{"$f":"IFERROR(VLOOKUP(JG37,MATCHSELEVES!$Y$14:$AE$600,4,FALSE),0)","v":0},{"$f":"IFERROR(VLOOKUP(JG37,MATCHSELEVES!$Y$14:$AE$600,5,FALSE),0)","v":0},{"$f":"IFERROR(VLOOKUP(JG37,MATCHSELEVES!$Y$14:$AF$600,8,FALSE),0)","v":0},{"$f":"IFERROR(VLOOKUP(JG37,MATCHSELEVES!$Y$14:$AG$600,9,FALSE),0)","v":0},"Tchelsyp_3",{"$f":"IFERROR(VLOOKUP(JM37,MATCHSELEVES!$Y$14:$AE$600,3,FALSE),0)","v":0},{"$f":"IFERROR(VLOOKUP(JM37,MATCHSELEVES!$Y$14:$AE$600,4,FALSE),0)","v":0},{"$f":"IFERROR(VLOOKUP(JM37,MATCHSELEVES!$Y$14:$AE$600,5,FALSE),0)","v":0},{"$f":"IFERROR(VLOOKUP(JM37,MATCHSELEVES!$Y$14:$AF$600,8,FALSE),0)","v":0},{"$f":"IFERROR(VLOOKUP(JM37,MATCHSELEVES!$Y$14:$AG$600,9,FALSE),0)","v":0},"Tchelsyp_4",{"$f":"IFERROR(VLOOKUP(JS37,MATCHSELEVES!$Y$14:$AE$600,3,FALSE),0)","v":0},{"$f":"IFERROR(VLOOKUP(JS37,MATCHSELEVES!$Y$14:$AE$600,4,FALSE),0)","v":0},{"$f":"IFERROR(VLOOKUP(JS37,MATCHSELEVES!$Y$14:$AE$600,5,FALSE),0)","v":0},{"$f":"IFERROR(VLOOKUP(JS37,MATCHSELEVES!$Y$14:$AF$600,8,FALSE),0)","v":0},{"$f":"IFERROR(VLOOKUP(JS37,MATCHSELEVES!$Y$14:$AG$600,9,FALSE),0)","v":0},"Tchelsyp_5",{"$f":"IFERROR(VLOOKUP(JY37,MATCHSELEVES!$Y$14:$AE$600,3,FALSE),0)","v":0},{"$f":"IFERROR(VLOOKUP(JY37,MATCHSELEVES!$Y$14:$AE$600,4,FALSE),0)","v":0},{"$f":"IFERROR(VLOOKUP(JY37,MATCHSELEVES!$Y$14:$AE$600,5,FALSE),0)","v":0},{"$f":"IFERROR(VLOOKUP(JY37,MATCHSELEVES!$Y$14:$AF$600,8,FALSE),0)","v":0},{"$f":"IFERROR(VLOOKUP(JY37,MATCHSELEVES!$Y$14:$AG$600,9,FALSE),0)","v":0},"Tchelsyp_6",{"$f":"IFERROR(VLOOKUP(KE37,MATCHSELEVES!$Y$14:$AE$600,3,FALSE),0)","v":0},{"$f":"IFERROR(VLOOKUP(KE37,MATCHSELEVES!$Y$14:$AE$600,4,FALSE),0)","v":0},{"$f":"IFERROR(VLOOKUP(KE37,MATCHSELEVES!$Y$14:$AE$600,5,FALSE),0)","v":0},{"$f":"IFERROR(VLOOKUP(KE37,MATCHSELEVES!$Y$14:$AF$600,8,FALSE),0)","v":0},{"$f":"IFERROR(VLOOKUP(KE37,MATCHSELEVES!$Y$14:$AG$600,9,FALSE),0)","v":0},"Tchelsyp_7",{"$f":"IFERROR(VLOOKUP(KK37,MATCHSELEVES!$Y$14:$AE$600,3,FALSE),0)","v":0},{"$f":"IFERROR(VLOOKUP(KK37,MATCHSELEVES!$Y$14:$AE$600,4,FALSE),0)","v":0},{"$f":"IFERROR(VLOOKUP(KK37,MATCHSELEVES!$Y$14:$AE$600,5,FALSE),0)","v":0},{"$f":"IFERROR(VLOOKUP(KK37,MATCHSELEVES!$Y$14:$AF$600,8,FALSE),0)","v":0},{"$f":"IFERROR(VLOOKUP(KK37,MATCHSELEVES!$Y$14:$AG$600,9,FALSE),0)","v":0},"Tchelsyp_8",{"$f":"IFERROR(VLOOKUP(KQ37,MATCHSELEVES!$Y$14:$AE$600,3,FALSE),0)","v":0},{"$f":"IFERROR(VLOOKUP(KQ37,MATCHSELEVES!$Y$14:$AE$600,4,FALSE),0)","v":0},{"$f":"IFERROR(VLOOKUP(KQ37,MATCHSELEVES!$Y$14:$AE$600,5,FALSE),0)","v":0},{"$f":"IFERROR(VLOOKUP(KQ37,MATCHSELEVES!$Y$14:$AF$600,8,FALSE),0)","v":0},{"$f":"IFERROR(VLOOKUP(KQ37,MATCHSELEVES!$Y$14:$AG$600,9,FALSE),0)","v":0},"Tchelsyp_9",{"$f":"IFERROR(VLOOKUP(KW37,MATCHSELEVES!$Y$14:$AE$600,3,FALSE),0)","v":0},{"$f":"IFERROR(VLOOKUP(KW37,MATCHSELEVES!$Y$14:$AE$600,4,FALSE),0)","v":0},{"$f":"IFERROR(VLOOKUP(KW37,MATCHSELEVES!$Y$14:$AE$600,5,FALSE),0)","v":0},{"$f":"IFERROR(VLOOKUP(KW37,MATCHSELEVES!$Y$14:$AF$600,8,FALSE),0)","v":0},{"$f":"IFERROR(VLOOKUP(KW37,MATCHSELEVES!$Y$14:$AG$600,9,FALSE),0)","v":0},"Tchelsyp_10",{"$f":"IFERROR(VLOOKUP(LC37,MATCHSELEVES!$Y$14:$AE$600,3,FALSE),0)","v":0},{"$f":"IFERROR(VLOOKUP(LC37,MATCHSELEVES!$Y$14:$AE$600,4,FALSE),0)","v":0},{"$f":"IFERROR(VLOOKUP(LC37,MATCHSELEVES!$Y$14:$AE$600,5,FALSE),0)","v":0},{"$f":"IFERROR(VLOOKUP(LC37,MATCHSELEVES!$Y$14:$AF$600,8,FALSE),0)","v":0},{"$f":"IFERROR(VLOOKUP(LC37,MATCHSELEVES!$Y$14:$AG$600,9,FALSE),0)","v":0},"Tchelsyp_11",{"$f":"IFERROR(VLOOKUP(LI37,MATCHSELEVES!$Y$14:$AE$600,3,FALSE),0)","v":0},{"$f":"IFERROR(VLOOKUP(LI37,MATCHSELEVES!$Y$14:$AE$600,4,FALSE),0)","v":0},{"$f":"IFERROR(VLOOKUP(LI37,MATCHSELEVES!$Y$14:$AE$600,5,FALSE),0)","v":0},{"$f":"IFERROR(VLOOKUP(LI37,MATCHSELEVES!$Y$14:$AF$600,8,FALSE),0)","v":0},{"$f":"IFERROR(VLOOKUP(LI37,MATCHSELEVES!$Y$14:$AG$600,9,FALSE),0)","v":0},"Tchelsyp_12",{"$f":"IFERROR(VLOOKUP(LO37,MATCHSELEVES!$Y$14:$AE$600,3,FALSE),0)","v":0},{"$f":"IFERROR(VLOOKUP(LO37,MATCHSELEVES!$Y$14:$AE$600,4,FALSE),0)","v":0},{"$f":"IFERROR(VLOOKUP(LO37,MATCHSELEVES!$Y$14:$AE$600,5,FALSE),0)","v":0},{"$f":"IFERROR(VLOOKUP(LO37,MATCHSELEVES!$Y$14:$AF$600,8,FALSE),0)","v":0},{"$f":"IFERROR(VLOOKUP(LO37,MATCHSELEVES!$Y$14:$AG$600,9,FALSE),0)","v":0},"Tchelsyp_13",{"$f":"IFERROR(VLOOKUP(LU37,MATCHSELEVES!$Y$14:$AE$600,3,FALSE),0)","v":0},{"$f":"IFERROR(VLOOKUP(LU37,MATCHSELEVES!$Y$14:$AE$600,4,FALSE),0)","v":0},{"$f":"IFERROR(VLOOKUP(LU37,MATCHSELEVES!$Y$14:$AE$600,5,FALSE),0)","v":0},{"$f":"IFERROR(VLOOKUP(LU37,MATCHSELEVES!$Y$14:$AF$600,8,FALSE),0)","v":0},{"$f":"IFERROR(VLOOKUP(LU37,MATCHSELEVES!$Y$14:$AG$600,9,FALSE),0)","v":0},"Tchelsyp_14",{"$f":"IFERROR(VLOOKUP(MA37,MATCHSELEVES!$Y$14:$AE$600,3,FALSE),0)","v":0},{"$f":"IFERROR(VLOOKUP(MA37,MATCHSELEVES!$Y$14:$AE$600,4,FALSE),0)","v":0},{"$f":"IFERROR(VLOOKUP(MA37,MATCHSELEVES!$Y$14:$AE$600,5,FALSE),0)","v":0},{"$f":"IFERROR(VLOOKUP(MA37,MATCHSELEVES!$Y$14:$AF$600,8,FALSE),0)","v":0},{"$f":"IFERROR(VLOOKUP(MA37,MATCHSELEVES!$Y$14:$AG$600,9,FALSE),0)","v":0},"Tchelsyp_15",{"$f":"IFERROR(VLOOKUP(MG37,MATCHSELEVES!$Y$14:$AE$600,3,FALSE),0)","v":0},{"$f":"IFERROR(VLOOKUP(MG37,MATCHSELEVES!$Y$14:$AE$600,4,FALSE),0)","v":0},{"$f":"IFERROR(VLOOKUP(MG37,MATCHSELEVES!$Y$14:$AE$600,5,FALSE),0)","v":0},{"$f":"IFERROR(VLOOKUP(MG37,MATCHSELEVES!$Y$14:$AF$600,8,FALSE),0)","v":0},{"$f":"IFERROR(VLOOKUP(MG37,MATCHSELEVES!$Y$14:$AG$600,9,FALSE),0)","v":0},"Tchelsyp_16",{"$f":"IFERROR(VLOOKUP(MM37,MATCHSELEVES!$Y$14:$AE$600,3,FALSE),0)","v":0},{"$f":"IFERROR(VLOOKUP(MM37,MATCHSELEVES!$Y$14:$AE$600,4,FALSE),0)","v":0},{"$f":"IFERROR(VLOOKUP(MM37,MATCHSELEVES!$Y$14:$AE$600,5,FALSE),0)","v":0},{"$f":"IFERROR(VLOOKUP(MM37,MATCHSELEVES!$Y$14:$AF$600,8,FALSE),0)","v":0},{"$f":"IFERROR(VLOOKUP(MM37,MATCHSELEVES!$Y$14:$AG$600,9,FALSE),0)","v":0},"Tchelsyp_17",{"$f":"IFERROR(VLOOKUP(MS37,MATCHSELEVES!$Y$14:$AE$600,3,FALSE),0)","v":0},{"$f":"IFERROR(VLOOKUP(MS37,MATCHSELEVES!$Y$14:$AE$600,4,FALSE),0)","v":0},{"$f":"IFERROR(VLOOKUP(MS37,MATCHSELEVES!$Y$14:$AE$600,5,FALSE),0)","v":0},{"$f":"IFERROR(VLOOKUP(MS37,MATCHSELEVES!$Y$14:$AF$600,8,FALSE),0)","v":0},{"$f":"IFERROR(VLOOKUP(MS37,MATCHSELEVES!$Y$14:$AG$600,9,FALSE),0)","v":0},"Tchelsyp_18",{"$f":"IFERROR(VLOOKUP(MY37,MATCHSELEVES!$Y$14:$AE$600,3,FALSE),0)","v":0},{"$f":"IFERROR(VLOOKUP(MY37,MATCHSELEVES!$Y$14:$AE$600,4,FALSE),0)","v":0},{"$f":"IFERROR(VLOOKUP(MY37,MATCHSELEVES!$Y$14:$AE$600,5,FALSE),0)","v":0},{"$f":"IFERROR(VLOOKUP(MY37,MATCHSELEVES!$Y$14:$AF$600,8,FALSE),0)","v":0},{"$f":"IFERROR(VLOOKUP(MY37,MATCHSELEVES!$Y$14:$AG$600,9,FALSE),0)","v":0},"Tchelsyp_19",{"$f":"IFERROR(VLOOKUP(NE37,MATCHSELEVES!$Y$14:$AE$600,3,FALSE),0)","v":0},{"$f":"IFERROR(VLOOKUP(NE37,MATCHSELEVES!$Y$14:$AE$600,4,FALSE),0)","v":0},{"$f":"IFERROR(VLOOKUP(NE37,MATCHSELEVES!$Y$14:$AE$600,5,FALSE),0)","v":0},{"$f":"IFERROR(VLOOKUP(NE37,MATCHSELEVES!$Y$14:$AF$600,8,FALSE),0)","v":0},{"$f":"IFERROR(VLOOKUP(NE37,MATCHSELEVES!$Y$14:$AG$600,9,FALSE),0)","v":0},"Tchelsyp_20",{"$f":"IFERROR(VLOOKUP(NK37,MATCHSELEVES!$Y$14:$AE$600,3,FALSE),0)","v":0},{"$f":"IFERROR(VLOOKUP(NK37,MATCHSELEVES!$Y$14:$AE$600,4,FALSE),0)","v":0},{"$f":"IFERROR(VLOOKUP(NK37,MATCHSELEVES!$Y$14:$AE$600,5,FALSE),0)","v":0},{"$f":"IFERROR(VLOOKUP(NK37,MATCHSELEVES!$Y$14:$AF$600,8,FALSE),0)","v":0},{"$f":"IFERROR(VLOOKUP(NK37,MATCHSELEVES!$Y$14:$AG$600,9,FALSE),0)","v":0},"Tchelsyp_21",{"$f":"IFERROR(VLOOKUP(NQ37,MATCHSELEVES!$Y$14:$AE$600,3,FALSE),0)","v":0},{"$f":"IFERROR(VLOOKUP(NQ37,MATCHSELEVES!$Y$14:$AE$600,4,FALSE),0)","v":0},{"$f":"IFERROR(VLOOKUP(NQ37,MATCHSELEVES!$Y$14:$AE$600,5,FALSE),0)","v":0},{"$f":"IFERROR(VLOOKUP(NQ37,MATCHSELEVES!$Y$14:$AF$600,8,FALSE),0)","v":0},{"$f":"IFERROR(VLOOKUP(NQ37,MATCHSELEVES!$Y$14:$AG$600,9,FALSE),0)","v":0},"Tchelsyp_22",{"$f":"IFERROR(VLOOKUP(NW37,MATCHSELEVES!$Y$14:$AE$600,3,FALSE),0)","v":0},{"$f":"IFERROR(VLOOKUP(NW37,MATCHSELEVES!$Y$14:$AE$600,4,FALSE),0)","v":0},{"$f":"IFERROR(VLOOKUP(NW37,MATCHSELEVES!$Y$14:$AE$600,5,FALSE),0)","v":0},{"$f":"IFERROR(VLOOKUP(NW37,MATCHSELEVES!$Y$14:$AF$600,8,FALSE),0)","v":0},{"$f":"IFERROR(VLOOKUP(NW37,MATCHSELEVES!$Y$14:$AG$600,9,FALSE),0)","v":0},"Tchelsyp_23",{"$f":"IFERROR(VLOOKUP(OC37,MATCHSELEVES!$Y$14:$AE$600,3,FALSE),0)","v":0},{"$f":"IFERROR(VLOOKUP(OC37,MATCHSELEVES!$Y$14:$AE$600,4,FALSE),0)","v":0},{"$f":"IFERROR(VLOOKUP(OC37,MATCHSELEVES!$Y$14:$AE$600,5,FALSE),0)","v":0},{"$f":"IFERROR(VLOOKUP(OC37,MATCHSELEVES!$Y$14:$AF$600,8,FALSE),0)","v":0},{"$f":"IFERROR(VLOOKUP(OC37,MATCHSELEVES!$Y$14:$AG$600,9,FALSE),0)","v":0},"Tchelsyp_24",{"$f":"IFERROR(VLOOKUP(OI37,MATCHSELEVES!$Y$14:$AE$600,3,FALSE),0)","v":0},{"$f":"IFERROR(VLOOKUP(OI37,MATCHSELEVES!$Y$14:$AE$600,4,FALSE),0)","v":0},{"$f":"IFERROR(VLOOKUP(OI37,MATCHSELEVES!$Y$14:$AE$600,5,FALSE),0)","v":0},{"$f":"IFERROR(VLOOKUP(OI37,MATCHSELEVES!$Y$14:$AF$600,8,FALSE),0)","v":0},{"$f":"IFERROR(VLOOKUP(OI37,MATCHSELEVES!$Y$14:$AG$600,9,FALSE),0)","v":0},"Tchelsyp_25",{"$f":"IFERROR(VLOOKUP(OO37,MATCHSELEVES!$Y$14:$AE$600,3,FALSE),0)","v":0},{"$f":"IFERROR(VLOOKUP(OO37,MATCHSELEVES!$Y$14:$AE$600,4,FALSE),0)","v":0},{"$f":"IFERROR(VLOOKUP(OO37,MATCHSELEVES!$Y$14:$AE$600,5,FALSE),0)","v":0},{"$f":"IFERROR(VLOOKUP(OO37,MATCHSELEVES!$Y$14:$AF$600,8,FALSE),0)","v":0},{"$f":"IFERROR(VLOOKUP(OO37,MATCHSELEVES!$Y$14:$AG$600,9,FALSE),0)","v":0},"Tchelsyp_26",{"$f":"IFERROR(VLOOKUP(OU37,MATCHSELEVES!$Y$14:$AE$600,3,FALSE),0)","v":0},{"$f":"IFERROR(VLOOKUP(OU37,MATCHSELEVES!$Y$14:$AE$600,4,FALSE),0)","v":0},{"$f":"IFERROR(VLOOKUP(OU37,MATCHSELEVES!$Y$14:$AE$600,5,FALSE),0)","v":0},{"$f":"IFERROR(VLOOKUP(OU37,MATCHSELEVES!$Y$14:$AF$600,8,FALSE),0)","v":0},{"$f":"IFERROR(VLOOKUP(OU37,MATCHSELEVES!$Y$14:$AG$600,9,FALSE),0)","v":0},"Tchelsyp_27",{"$f":"IFERROR(VLOOKUP(PA37,MATCHSELEVES!$Y$14:$AE$600,3,FALSE),0)","v":0},{"$f":"IFERROR(VLOOKUP(PA37,MATCHSELEVES!$Y$14:$AE$600,4,FALSE),0)","v":0},{"$f":"IFERROR(VLOOKUP(PA37,MATCHSELEVES!$Y$14:$AE$600,5,FALSE),0)","v":0},{"$f":"IFERROR(VLOOKUP(PA37,MATCHSELEVES!$Y$14:$AF$600,8,FALSE),0)","v":0},{"$f":"IFERROR(VLOOKUP(PA37,MATCHSELEVES!$Y$14:$AG$600,9,FALSE),0)","v":0},"Tchelsyp_28",{"$f":"IFERROR(VLOOKUP(PG37,MATCHSELEVES!$Y$14:$AE$600,3,FALSE),0)","v":0},{"$f":"IFERROR(VLOOKUP(PG37,MATCHSELEVES!$Y$14:$AE$600,4,FALSE),0)","v":0},{"$f":"IFERROR(VLOOKUP(PG37,MATCHSELEVES!$Y$14:$AE$600,5,FALSE),0)","v":0},{"$f":"IFERROR(VLOOKUP(PG37,MATCHSELEVES!$Y$14:$AF$600,8,FALSE),0)","v":0},{"$f":"IFERROR(VLOOKUP(PG37,MATCHSELEVES!$Y$14:$AG$600,9,FALSE),0)","v":0},"Tchelsyp_29",{"$f":"IFERROR(VLOOKUP(PM37,MATCHSELEVES!$Y$14:$AE$600,3,FALSE),0)","v":0},{"$f":"IFERROR(VLOOKUP(PM37,MATCHSELEVES!$Y$14:$AE$600,4,FALSE),0)","v":0},{"$f":"IFERROR(VLOOKUP(PM37,MATCHSELEVES!$Y$14:$AE$600,5,FALSE),0)","v":0},{"$f":"IFERROR(VLOOKUP(PM37,MATCHSELEVES!$Y$14:$AF$600,8,FALSE),0)","v":0},{"$f":"IFERROR(VLOOKUP(PM37,MATCHSELEVES!$Y$14:$AG$600,9,FALSE),0)","v":0},"Tchelsyp_30",{"$f":"IFERROR(VLOOKUP(PS37,MATCHSELEVES!$Y$14:$AE$600,3,FALSE),0)","v":0},{"$f":"IFERROR(VLOOKUP(PS37,MATCHSELEVES!$Y$14:$AE$600,4,FALSE),0)","v":0},{"$f":"IFERROR(VLOOKUP(PS37,MATCHSELEVES!$Y$14:$AE$600,5,FALSE),0)","v":0},{"$f":"IFERROR(VLOOKUP(PS37,MATCHSELEVES!$Y$14:$AF$600,8,FALSE),0)","v":0},{"$f":"IFERROR(VLOOKUP(PS37,MATCHSELEVES!$Y$14:$AG$600,9,FALSE),0)","v":0},"Tchelsyp_31",{"$f":"IFERROR(VLOOKUP(PY37,MATCHSELEVES!$Y$14:$AE$600,3,FALSE),0)","v":0},{"$f":"IFERROR(VLOOKUP(PY37,MATCHSELEVES!$Y$14:$AE$600,4,FALSE),0)","v":0},{"$f":"IFERROR(VLOOKUP(PY37,MATCHSELEVES!$Y$14:$AE$600,5,FALSE),0)","v":0},{"$f":"IFERROR(VLOOKUP(PY37,MATCHSELEVES!$Y$14:$AF$600,8,FALSE),0)","v":0},{"$f":"IFERROR(VLOOKUP(PY37,MATCHSELEVES!$Y$14:$AG$600,9,FALSE),0)","v":0},"Tchelsyp_32",{"$f":"IFERROR(VLOOKUP(QE37,MATCHSELEVES!$Y$14:$AE$600,3,FALSE),0)","v":0},{"$f":"IFERROR(VLOOKUP(QE37,MATCHSELEVES!$Y$14:$AE$600,4,FALSE),0)","v":0},{"$f":"IFERROR(VLOOKUP(QE37,MATCHSELEVES!$Y$14:$AE$600,5,FALSE),0)","v":0},{"$f":"IFERROR(VLOOKUP(QE37,MATCHSELEVES!$Y$14:$AF$600,8,FALSE),0)","v":0},{"$f":"IFERROR(VLOOKUP(QE37,MATCHSELEVES!$Y$14:$AG$600,9,FALSE),0)","v":0},"Tchelsyp_33",{"$f":"IFERROR(VLOOKUP(QK37,MATCHSELEVES!$Y$14:$AE$600,3,FALSE),0)","v":0},{"$f":"IFERROR(VLOOKUP(QK37,MATCHSELEVES!$Y$14:$AE$600,4,FALSE),0)","v":0},{"$f":"IFERROR(VLOOKUP(QK37,MATCHSELEVES!$Y$14:$AE$600,5,FALSE),0)","v":0},{"$f":"IFERROR(VLOOKUP(QK37,MATCHSELEVES!$Y$14:$AF$600,8,FALSE),0)","v":0},{"$f":"IFERROR(VLOOKUP(QK37,MATCHSELEVES!$Y$14:$AG$600,9,FALSE),0)","v":0},"Tchelsyp_34",{"$f":"IFERROR(VLOOKUP(QQ37,MATCHSELEVES!$Y$14:$AE$600,3,FALSE),0)","v":0},{"$f":"IFERROR(VLOOKUP(QQ37,MATCHSELEVES!$Y$14:$AE$600,4,FALSE),0)","v":0},{"$f":"IFERROR(VLOOKUP(QQ37,MATCHSELEVES!$Y$14:$AE$600,5,FALSE),0)","v":0},{"$f":"IFERROR(VLOOKUP(QQ37,MATCHSELEVES!$Y$14:$AF$600,8,FALSE),0)","v":0},{"$f":"IFERROR(VLOOKUP(QQ37,MATCHSELEVES!$Y$14:$AG$600,9,FALSE),0)","v":0},"Tchelsyp_35",{"$f":"IFERROR(VLOOKUP(QW37,MATCHSELEVES!$Y$14:$AE$600,3,FALSE),0)","v":0},{"$f":"IFERROR(VLOOKUP(QW37,MATCHSELEVES!$Y$14:$AE$600,4,FALSE),0)","v":0},{"$f":"IFERROR(VLOOKUP(QW37,MATCHSELEVES!$Y$14:$AE$600,5,FALSE),0)","v":0},{"$f":"IFERROR(VLOOKUP(QW37,MATCHSELEVES!$Y$14:$AF$600,8,FALSE),0)","v":0},{"$f":"IFERROR(VLOOKUP(QW37,MATCHSELEVES!$Y$14:$AG$600,9,FALSE),0)","v":0},"Tchelsyp_36",{"$f":"IFERROR(VLOOKUP(RC37,MATCHSELEVES!$Y$14:$AE$600,3,FALSE),0)","v":0},{"$f":"IFERROR(VLOOKUP(RC37,MATCHSELEVES!$Y$14:$AE$600,4,FALSE),0)","v":0},{"$f":"IFERROR(VLOOKUP(RC37,MATCHSELEVES!$Y$14:$AE$600,5,FALSE),0)","v":0},{"$f":"IFERROR(VLOOKUP(RC37,MATCHSELEVES!$Y$14:$AF$600,8,FALSE),0)","v":0},{"$f":"IFERROR(VLOOKUP(RC37,MATCHSELEVES!$Y$14:$AG$600,9,FALSE),0)","v":0},"Tchelsyp_37",{"$f":"IFERROR(VLOOKUP(RI37,MATCHSELEVES!$Y$14:$AE$600,3,FALSE),0)","v":0},{"$f":"IFERROR(VLOOKUP(RI37,MATCHSELEVES!$Y$14:$AE$600,4,FALSE),0)","v":0},{"$f":"IFERROR(VLOOKUP(RI37,MATCHSELEVES!$Y$14:$AE$600,5,FALSE),0)","v":0},{"$f":"IFERROR(VLOOKUP(RI37,MATCHSELEVES!$Y$14:$AF$600,8,FALSE),0)","v":0},{"$f":"IFERROR(VLOOKUP(RI37,MATCHSELEVES!$Y$14:$AG$600,9,FALSE),0)","v":0},"Tchelsyp_38",{"$f":"IFERROR(VLOOKUP(RO37,MATCHSELEVES!$Y$14:$AE$600,3,FALSE),0)","v":0},{"$f":"IFERROR(VLOOKUP(RO37,MATCHSELEVES!$Y$14:$AE$600,4,FALSE),0)","v":0},{"$f":"IFERROR(VLOOKUP(RO37,MATCHSELEVES!$Y$14:$AE$600,5,FALSE),0)","v":0},{"$f":"IFERROR(VLOOKUP(RO37,MATCHSELEVES!$Y$14:$AF$600,8,FALSE),0)","v":0},{"$f":"IFERROR(VLOOKUP(RO37,MATCHSELEVES!$Y$14:$AG$600,9,FALSE),0)","v":0},"Tchelsyp_39",{"$f":"IFERROR(VLOOKUP(RU37,MATCHSELEVES!$Y$14:$AE$600,3,FALSE),0)","v":0},{"$f":"IFERROR(VLOOKUP(RU37,MATCHSELEVES!$Y$14:$AE$600,4,FALSE),0)","v":0},{"$f":"IFERROR(VLOOKUP(RU37,MATCHSELEVES!$Y$14:$AE$600,5,FALSE),0)","v":0},{"$f":"IFERROR(VLOOKUP(RU37,MATCHSELEVES!$Y$14:$AF$600,8,FALSE),0)","v":0},{"$f":"IFERROR(VLOOKUP(RU37,MATCHSELEVES!$Y$14:$AG$600,9,FALSE),0)","v":0},"Tchelsyp_40",{"$f":"IFERROR(VLOOKUP(SA37,MATCHSELEVES!$Y$14:$AE$600,3,FALSE),0)","v":0},{"$f":"IFERROR(VLOOKUP(SA37,MATCHSELEVES!$Y$14:$AE$600,4,FALSE),0)","v":0},{"$f":"IFERROR(VLOOKUP(SA37,MATCHSELEVES!$Y$14:$AE$600,5,FALSE),0)","v":0},{"$f":"IFERROR(VLOOKUP(SA37,MATCHSELEVES!$Y$14:$AF$600,8,FALSE),0)","v":0},{"$f":"IFERROR(VLOOKUP(SA37,MATCHSELEVES!$Y$14:$AG$600,9,FALSE),0)","v":0}]
[35,null,"Tiago",35,null,null,{"$f":"COUNTIF(MATCHSELEVES!$Z$14:$Z$600,C38)+COUNTIF(MATCHSELEVES!$Z$14:$Z$600,$C38&\"p\")","v":0},1,{"$f":"COUNTIF(MATCHSELEVES!$F$14:$H$249,C38)","v":0},1,0,1,{"$f":"IFERROR(M81/Tableau10[[#This Row],[Nombre de matchs joués]],0)","v":0},{"$f":"IF(Tableau10[[#This Row],[Nombre de points encaissés]]=0,$C$45,SUMPRODUCT((M$4:M$43<M38)*(M$4:M$43<>0))+1)","v":40},0,1,{"$f":"(Tableau10[[#This Row],[CLASSEMENT1]]+Tableau10[[#This Row],[CLASSEMENT2]]+Tableau10[[#This Row],[CLASSEMENT3]]+Tableau10[[#This Row],[CLASSEMENT4]]+Tableau10[[#This Row],[CLASSEMENT5]]+Tableau10[[#This Row],[CLASSEMENT6]])/6","v":13.166666666666666},{"$f":"RANK(Tableau10[[#This Row],[MOYENNE CLASSEMENTS]],Tableau10[MOYENNE CLASSEMENTS],1)","v":35},null,{"$f":"Tableau10[[#This Row],[CLASSEMENT1]]","v":35},"Tiago_1",{"$f":"IFERROR(VLOOKUP(U38,MATCHSELEVES!$Y$14:$AE$600,3,FALSE),0)","v":0},{"$f":"IFERROR(VLOOKUP(U38,MATCHSELEVES!$Y$14:$AE$600,4,FALSE),0)","v":0},{"$f":"IFERROR(VLOOKUP(U38,MATCHSELEVES!$Y$14:$AE$600,5,FALSE),0)","v":0},{"$f":"IFERROR(VLOOKUP(U38,MATCHSELEVES!$Y$14:$AF$600,8,FALSE),0)","v":0},{"$f":"IFERROR(VLOOKUP(U38,MATCHSELEVES!$Y$14:$AG$600,9,FALSE),0)","v":0},"Tiago_2",{"$f":"IFERROR(VLOOKUP(AA38,MATCHSELEVES!$Y$14:$AE$600,3,FALSE),0)","v":0},{"$f":"IFERROR(VLOOKUP(AA38,MATCHSELEVES!$Y$14:$AE$600,4,FALSE),0)","v":0},{"$f":"IFERROR(VLOOKUP(AA38,MATCHSELEVES!$Y$14:$AE$600,5,FALSE),0)","v":0},{"$f":"IFERROR(VLOOKUP(AA38,MATCHSELEVES!$Y$14:$AF$600,8,FALSE),0)","v":0},{"$f":"IFERROR(VLOOKUP(AA38,MATCHSELEVES!$Y$14:$AG$600,9,FALSE),0)","v":0},"Tiago_3",{"$f":"IFERROR(VLOOKUP(AG38,MATCHSELEVES!$Y$14:$AE$600,3,FALSE),0)","v":0},{"$f":"IFERROR(VLOOKUP(AG38,MATCHSELEVES!$Y$14:$AE$600,4,FALSE),0)","v":0},{"$f":"IFERROR(VLOOKUP(AG38,MATCHSELEVES!$Y$14:$AE$600,5,FALSE),0)","v":0},{"$f":"IFERROR(VLOOKUP(AG38,MATCHSELEVES!$Y$14:$AF$600,8,FALSE),0)","v":0},{"$f":"IFERROR(VLOOKUP(AG38,MATCHSELEVES!$Y$14:$AG$600,9,FALSE),0)","v":0},"Tiago_4",{"$f":"IFERROR(VLOOKUP(AM38,MATCHSELEVES!$Y$14:$AE$600,3,FALSE),0)","v":0},{"$f":"IFERROR(VLOOKUP(AM38,MATCHSELEVES!$Y$14:$AE$600,4,FALSE),0)","v":0},{"$f":"IFERROR(VLOOKUP(AM38,MATCHSELEVES!$Y$14:$AE$600,5,FALSE),0)","v":0},{"$f":"IFERROR(VLOOKUP(AM38,MATCHSELEVES!$Y$14:$AF$600,8,FALSE),0)","v":0},{"$f":"IFERROR(VLOOKUP(AM38,MATCHSELEVES!$Y$14:$AG$600,9,FALSE),0)","v":0},"Tiago_5",{"$f":"IFERROR(VLOOKUP(AS38,MATCHSELEVES!$Y$14:$AE$600,3,FALSE),0)","v":0},{"$f":"IFERROR(VLOOKUP(AS38,MATCHSELEVES!$Y$14:$AE$600,4,FALSE),0)","v":0},{"$f":"IFERROR(VLOOKUP(AS38,MATCHSELEVES!$Y$14:$AE$600,5,FALSE),0)","v":0},{"$f":"IFERROR(VLOOKUP(AS38,MATCHSELEVES!$Y$14:$AF$600,8,FALSE),0)","v":0},{"$f":"IFERROR(VLOOKUP(AS38,MATCHSELEVES!$Y$14:$AG$600,9,FALSE),0)","v":0},"Tiago_6",{"$f":"IFERROR(VLOOKUP(AY38,MATCHSELEVES!$Y$14:$AE$600,3,FALSE),0)","v":0},{"$f":"IFERROR(VLOOKUP(AY38,MATCHSELEVES!$Y$14:$AE$600,4,FALSE),0)","v":0},{"$f":"IFERROR(VLOOKUP(AY38,MATCHSELEVES!$Y$14:$AE$600,5,FALSE),0)","v":0},{"$f":"IFERROR(VLOOKUP(AY38,MATCHSELEVES!$Y$14:$AF$600,8,FALSE),0)","v":0},{"$f":"IFERROR(VLOOKUP(AY38,MATCHSELEVES!$Y$14:$AG$600,9,FALSE),0)","v":0},"Tiago_7",{"$f":"IFERROR(VLOOKUP(BE38,MATCHSELEVES!$Y$14:$AE$600,3,FALSE),0)","v":0},{"$f":"IFERROR(VLOOKUP(BE38,MATCHSELEVES!$Y$14:$AE$600,4,FALSE),0)","v":0},{"$f":"IFERROR(VLOOKUP(BE38,MATCHSELEVES!$Y$14:$AE$600,5,FALSE),0)","v":0},{"$f":"IFERROR(VLOOKUP(BE38,MATCHSELEVES!$Y$14:$AF$600,8,FALSE),0)","v":0},{"$f":"IFERROR(VLOOKUP(BE38,MATCHSELEVES!$Y$14:$AG$600,9,FALSE),0)","v":0},"Tiago_8",{"$f":"IFERROR(VLOOKUP(BK38,MATCHSELEVES!$Y$14:$AE$600,3,FALSE),0)","v":0},{"$f":"IFERROR(VLOOKUP(BK38,MATCHSELEVES!$Y$14:$AE$600,4,FALSE),0)","v":0},{"$f":"IFERROR(VLOOKUP(BK38,MATCHSELEVES!$Y$14:$AE$600,5,FALSE),0)","v":0},{"$f":"IFERROR(VLOOKUP(BK38,MATCHSELEVES!$Y$14:$AF$600,8,FALSE),0)","v":0},{"$f":"IFERROR(VLOOKUP(BK38,MATCHSELEVES!$Y$14:$AG$600,9,FALSE),0)","v":0},"Tiago_9",{"$f":"IFERROR(VLOOKUP(BQ38,MATCHSELEVES!$Y$14:$AE$600,3,FALSE),0)","v":0},{"$f":"IFERROR(VLOOKUP(BQ38,MATCHSELEVES!$Y$14:$AE$600,4,FALSE),0)","v":0},{"$f":"IFERROR(VLOOKUP(BQ38,MATCHSELEVES!$Y$14:$AE$600,5,FALSE),0)","v":0},{"$f":"IFERROR(VLOOKUP(BQ38,MATCHSELEVES!$Y$14:$AF$600,8,FALSE),0)","v":0},{"$f":"IFERROR(VLOOKUP(BQ38,MATCHSELEVES!$Y$14:$AG$600,9,FALSE),0)","v":0},"Tiago_10",{"$f":"IFERROR(VLOOKUP(BW38,MATCHSELEVES!$Y$14:$AE$600,3,FALSE),0)","v":0},{"$f":"IFERROR(VLOOKUP(BW38,MATCHSELEVES!$Y$14:$AE$600,4,FALSE),0)","v":0},{"$f":"IFERROR(VLOOKUP(BW38,MATCHSELEVES!$Y$14:$AE$600,5,FALSE),0)","v":0},{"$f":"IFERROR(VLOOKUP(BW38,MATCHSELEVES!$Y$14:$AF$600,8,FALSE),0)","v":0},{"$f":"IFERROR(VLOOKUP(BW38,MATCHSELEVES!$Y$14:$AG$600,9,FALSE),0)","v":0},"Tiago_11",{"$f":"IFERROR(VLOOKUP(CC38,MATCHSELEVES!$Y$14:$AE$600,3,FALSE),0)","v":0},{"$f":"IFERROR(VLOOKUP(CC38,MATCHSELEVES!$Y$14:$AE$600,4,FALSE),0)","v":0},{"$f":"IFERROR(VLOOKUP(CC38,MATCHSELEVES!$Y$14:$AE$600,5,FALSE),0)","v":0},{"$f":"IFERROR(VLOOKUP(CC38,MATCHSELEVES!$Y$14:$AF$600,8,FALSE),0)","v":0},{"$f":"IFERROR(VLOOKUP(CC38,MATCHSELEVES!$Y$14:$AG$600,9,FALSE),0)","v":0},"Tiago_12",{"$f":"IFERROR(VLOOKUP(CI38,MATCHSELEVES!$Y$14:$AE$600,3,FALSE),0)","v":0},{"$f":"IFERROR(VLOOKUP(CI38,MATCHSELEVES!$Y$14:$AE$600,4,FALSE),0)","v":0},{"$f":"IFERROR(VLOOKUP(CI38,MATCHSELEVES!$Y$14:$AE$600,5,FALSE),0)","v":0},{"$f":"IFERROR(VLOOKUP(CI38,MATCHSELEVES!$Y$14:$AF$600,8,FALSE),0)","v":0},{"$f":"IFERROR(VLOOKUP(CI38,MATCHSELEVES!$Y$14:$AG$600,9,FALSE),0)","v":0},"Tiago_13",{"$f":"IFERROR(VLOOKUP(CO38,MATCHSELEVES!$Y$14:$AE$600,3,FALSE),0)","v":0},{"$f":"IFERROR(VLOOKUP(CO38,MATCHSELEVES!$Y$14:$AE$600,4,FALSE),0)","v":0},{"$f":"IFERROR(VLOOKUP(CO38,MATCHSELEVES!$Y$14:$AE$600,5,FALSE),0)","v":0},{"$f":"IFERROR(VLOOKUP(CO38,MATCHSELEVES!$Y$14:$AF$600,8,FALSE),0)","v":0},{"$f":"IFERROR(VLOOKUP(CO38,MATCHSELEVES!$Y$14:$AG$600,9,FALSE),0)","v":0},"Tiago_14",{"$f":"IFERROR(VLOOKUP(CU38,MATCHSELEVES!$Y$14:$AE$600,3,FALSE),0)","v":0},{"$f":"IFERROR(VLOOKUP(CU38,MATCHSELEVES!$Y$14:$AE$600,4,FALSE),0)","v":0},{"$f":"IFERROR(VLOOKUP(CU38,MATCHSELEVES!$Y$14:$AE$600,5,FALSE),0)","v":0},{"$f":"IFERROR(VLOOKUP(CU38,MATCHSELEVES!$Y$14:$AF$600,8,FALSE),0)","v":0},{"$f":"IFERROR(VLOOKUP(CU38,MATCHSELEVES!$Y$14:$AG$600,9,FALSE),0)","v":0},"Tiago_15",{"$f":"IFERROR(VLOOKUP(DA38,MATCHSELEVES!$Y$14:$AE$600,3,FALSE),0)","v":0},{"$f":"IFERROR(VLOOKUP(DA38,MATCHSELEVES!$Y$14:$AE$600,4,FALSE),0)","v":0},{"$f":"IFERROR(VLOOKUP(DA38,MATCHSELEVES!$Y$14:$AE$600,5,FALSE),0)","v":0},{"$f":"IFERROR(VLOOKUP(DA38,MATCHSELEVES!$Y$14:$AF$600,8,FALSE),0)","v":0},{"$f":"IFERROR(VLOOKUP(DA38,MATCHSELEVES!$Y$14:$AG$600,9,FALSE),0)","v":0},"Tiago_16",{"$f":"IFERROR(VLOOKUP(DG38,MATCHSELEVES!$Y$14:$AE$600,3,FALSE),0)","v":0},{"$f":"IFERROR(VLOOKUP(DG38,MATCHSELEVES!$Y$14:$AE$600,4,FALSE),0)","v":0},{"$f":"IFERROR(VLOOKUP(DG38,MATCHSELEVES!$Y$14:$AE$600,5,FALSE),0)","v":0},{"$f":"IFERROR(VLOOKUP(DG38,MATCHSELEVES!$Y$14:$AF$600,8,FALSE),0)","v":0},{"$f":"IFERROR(VLOOKUP(DG38,MATCHSELEVES!$Y$14:$AG$600,9,FALSE),0)","v":0},"Tiago_17",{"$f":"IFERROR(VLOOKUP(DM38,MATCHSELEVES!$Y$14:$AE$600,3,FALSE),0)","v":0},{"$f":"IFERROR(VLOOKUP(DM38,MATCHSELEVES!$Y$14:$AE$600,4,FALSE),0)","v":0},{"$f":"IFERROR(VLOOKUP(DM38,MATCHSELEVES!$Y$14:$AE$600,5,FALSE),0)","v":0},{"$f":"IFERROR(VLOOKUP(DM38,MATCHSELEVES!$Y$14:$AF$600,8,FALSE),0)","v":0},{"$f":"IFERROR(VLOOKUP(DM38,MATCHSELEVES!$Y$14:$AG$600,9,FALSE),0)","v":0},"Tiago_18",{"$f":"IFERROR(VLOOKUP(DS38,MATCHSELEVES!$Y$14:$AE$600,3,FALSE),0)","v":0},{"$f":"IFERROR(VLOOKUP(DS38,MATCHSELEVES!$Y$14:$AE$600,4,FALSE),0)","v":0},{"$f":"IFERROR(VLOOKUP(DS38,MATCHSELEVES!$Y$14:$AE$600,5,FALSE),0)","v":0},{"$f":"IFERROR(VLOOKUP(DS38,MATCHSELEVES!$Y$14:$AF$600,8,FALSE),0)","v":0},{"$f":"IFERROR(VLOOKUP(DS38,MATCHSELEVES!$Y$14:$AG$600,9,FALSE),0)","v":0},"Tiago_19",{"$f":"IFERROR(VLOOKUP(DY38,MATCHSELEVES!$Y$14:$AE$600,3,FALSE),0)","v":0},{"$f":"IFERROR(VLOOKUP(DY38,MATCHSELEVES!$Y$14:$AE$600,4,FALSE),0)","v":0},{"$f":"IFERROR(VLOOKUP(DY38,MATCHSELEVES!$Y$14:$AE$600,5,FALSE),0)","v":0},{"$f":"IFERROR(VLOOKUP(DY38,MATCHSELEVES!$Y$14:$AF$600,8,FALSE),0)","v":0},{"$f":"IFERROR(VLOOKUP(DY38,MATCHSELEVES!$Y$14:$AG$600,9,FALSE),0)","v":0},"Tiago_20",{"$f":"IFERROR(VLOOKUP(EE38,MATCHSELEVES!$Y$14:$AE$600,3,FALSE),0)","v":0},{"$f":"IFERROR(VLOOKUP(EE38,MATCHSELEVES!$Y$14:$AE$600,4,FALSE),0)","v":0},{"$f":"IFERROR(VLOOKUP(EE38,MATCHSELEVES!$Y$14:$AE$600,5,FALSE),0)","v":0},{"$f":"IFERROR(VLOOKUP(EE38,MATCHSELEVES!$Y$14:$AF$600,8,FALSE),0)","v":0},{"$f":"IFERROR(VLOOKUP(EE38,MATCHSELEVES!$Y$14:$AG$600,9,FALSE),0)","v":0},"Tiago_21",{"$f":"IFERROR(VLOOKUP(EK38,MATCHSELEVES!$Y$14:$AE$600,3,FALSE),0)","v":0},{"$f":"IFERROR(VLOOKUP(EK38,MATCHSELEVES!$Y$14:$AE$600,4,FALSE),0)","v":0},{"$f":"IFERROR(VLOOKUP(EK38,MATCHSELEVES!$Y$14:$AE$600,5,FALSE),0)","v":0},{"$f":"IFERROR(VLOOKUP(EK38,MATCHSELEVES!$Y$14:$AF$600,8,FALSE),0)","v":0},{"$f":"IFERROR(VLOOKUP(EK38,MATCHSELEVES!$Y$14:$AG$600,9,FALSE),0)","v":0},"Tiago_22",{"$f":"IFERROR(VLOOKUP(EQ38,MATCHSELEVES!$Y$14:$AE$600,3,FALSE),0)","v":0},{"$f":"IFERROR(VLOOKUP(EQ38,MATCHSELEVES!$Y$14:$AE$600,4,FALSE),0)","v":0},{"$f":"IFERROR(VLOOKUP(EQ38,MATCHSELEVES!$Y$14:$AE$600,5,FALSE),0)","v":0},{"$f":"IFERROR(VLOOKUP(EQ38,MATCHSELEVES!$Y$14:$AF$600,8,FALSE),0)","v":0},{"$f":"IFERROR(VLOOKUP(EQ38,MATCHSELEVES!$Y$14:$AG$600,9,FALSE),0)","v":0},"Tiago_23",{"$f":"IFERROR(VLOOKUP(EW38,MATCHSELEVES!$Y$14:$AE$600,3,FALSE),0)","v":0},{"$f":"IFERROR(VLOOKUP(EW38,MATCHSELEVES!$Y$14:$AE$600,4,FALSE),0)","v":0},{"$f":"IFERROR(VLOOKUP(EW38,MATCHSELEVES!$Y$14:$AE$600,5,FALSE),0)","v":0},{"$f":"IFERROR(VLOOKUP(EW38,MATCHSELEVES!$Y$14:$AF$600,8,FALSE),0)","v":0},{"$f":"IFERROR(VLOOKUP(EW38,MATCHSELEVES!$Y$14:$AG$600,9,FALSE),0)","v":0},"Tiago_24",{"$f":"IFERROR(VLOOKUP(FC38,MATCHSELEVES!$Y$14:$AE$600,3,FALSE),0)","v":0},{"$f":"IFERROR(VLOOKUP(FC38,MATCHSELEVES!$Y$14:$AE$600,4,FALSE),0)","v":0},{"$f":"IFERROR(VLOOKUP(FC38,MATCHSELEVES!$Y$14:$AE$600,5,FALSE),0)","v":0},{"$f":"IFERROR(VLOOKUP(FC38,MATCHSELEVES!$Y$14:$AF$600,8,FALSE),0)","v":0},{"$f":"IFERROR(VLOOKUP(FC38,MATCHSELEVES!$Y$14:$AG$600,9,FALSE),0)","v":0},"Tiago_25",{"$f":"IFERROR(VLOOKUP(FI38,MATCHSELEVES!$Y$14:$AE$600,3,FALSE),0)","v":0},{"$f":"IFERROR(VLOOKUP(FI38,MATCHSELEVES!$Y$14:$AE$600,4,FALSE),0)","v":0},{"$f":"IFERROR(VLOOKUP(FI38,MATCHSELEVES!$Y$14:$AE$600,5,FALSE),0)","v":0},{"$f":"IFERROR(VLOOKUP(FI38,MATCHSELEVES!$Y$14:$AF$600,8,FALSE),0)","v":0},{"$f":"IFERROR(VLOOKUP(FI38,MATCHSELEVES!$Y$14:$AG$600,9,FALSE),0)","v":0},"Tiago_26",{"$f":"IFERROR(VLOOKUP(FO38,MATCHSELEVES!$Y$14:$AE$600,3,FALSE),0)","v":0},{"$f":"IFERROR(VLOOKUP(FO38,MATCHSELEVES!$Y$14:$AE$600,4,FALSE),0)","v":0},{"$f":"IFERROR(VLOOKUP(FO38,MATCHSELEVES!$Y$14:$AE$600,5,FALSE),0)","v":0},{"$f":"IFERROR(VLOOKUP(FO38,MATCHSELEVES!$Y$14:$AF$600,8,FALSE),0)","v":0},{"$f":"IFERROR(VLOOKUP(FO38,MATCHSELEVES!$Y$14:$AG$600,9,FALSE),0)","v":0},"Tiago_27",{"$f":"IFERROR(VLOOKUP(FU38,MATCHSELEVES!$Y$14:$AE$600,3,FALSE),0)","v":0},{"$f":"IFERROR(VLOOKUP(FU38,MATCHSELEVES!$Y$14:$AE$600,4,FALSE),0)","v":0},{"$f":"IFERROR(VLOOKUP(FU38,MATCHSELEVES!$Y$14:$AE$600,5,FALSE),0)","v":0},{"$f":"IFERROR(VLOOKUP(FU38,MATCHSELEVES!$Y$14:$AF$600,8,FALSE),0)","v":0},{"$f":"IFERROR(VLOOKUP(FU38,MATCHSELEVES!$Y$14:$AG$600,9,FALSE),0)","v":0},"Tiago_28",{"$f":"IFERROR(VLOOKUP(GA38,MATCHSELEVES!$Y$14:$AE$600,3,FALSE),0)","v":0},{"$f":"IFERROR(VLOOKUP(GA38,MATCHSELEVES!$Y$14:$AE$600,4,FALSE),0)","v":0},{"$f":"IFERROR(VLOOKUP(GA38,MATCHSELEVES!$Y$14:$AE$600,5,FALSE),0)","v":0},{"$f":"IFERROR(VLOOKUP(GA38,MATCHSELEVES!$Y$14:$AF$600,8,FALSE),0)","v":0},{"$f":"IFERROR(VLOOKUP(GA38,MATCHSELEVES!$Y$14:$AG$600,9,FALSE),0)","v":0},"Tiago_29",{"$f":"IFERROR(VLOOKUP(GG38,MATCHSELEVES!$Y$14:$AE$600,3,FALSE),0)","v":0},{"$f":"IFERROR(VLOOKUP(GG38,MATCHSELEVES!$Y$14:$AE$600,4,FALSE),0)","v":0},{"$f":"IFERROR(VLOOKUP(GG38,MATCHSELEVES!$Y$14:$AE$600,5,FALSE),0)","v":0},{"$f":"IFERROR(VLOOKUP(GG38,MATCHSELEVES!$Y$14:$AF$600,8,FALSE),0)","v":0},{"$f":"IFERROR(VLOOKUP(GG38,MATCHSELEVES!$Y$14:$AG$600,9,FALSE),0)","v":0},"Tiago_30",{"$f":"IFERROR(VLOOKUP(GM38,MATCHSELEVES!$Y$14:$AE$600,3,FALSE),0)","v":0},{"$f":"IFERROR(VLOOKUP(GM38,MATCHSELEVES!$Y$14:$AE$600,4,FALSE),0)","v":0},{"$f":"IFERROR(VLOOKUP(GM38,MATCHSELEVES!$Y$14:$AE$600,5,FALSE),0)","v":0},{"$f":"IFERROR(VLOOKUP(GM38,MATCHSELEVES!$Y$14:$AF$600,8,FALSE),0)","v":0},{"$f":"IFERROR(VLOOKUP(GM38,MATCHSELEVES!$Y$14:$AG$600,9,FALSE),0)","v":0},"Tiago_31",{"$f":"IFERROR(VLOOKUP(GS38,MATCHSELEVES!$Y$14:$AE$600,3,FALSE),0)","v":0},{"$f":"IFERROR(VLOOKUP(GS38,MATCHSELEVES!$Y$14:$AE$600,4,FALSE),0)","v":0},{"$f":"IFERROR(VLOOKUP(GS38,MATCHSELEVES!$Y$14:$AE$600,5,FALSE),0)","v":0},{"$f":"IFERROR(VLOOKUP(GS38,MATCHSELEVES!$Y$14:$AF$600,8,FALSE),0)","v":0},{"$f":"IFERROR(VLOOKUP(GS38,MATCHSELEVES!$Y$14:$AG$600,9,FALSE),0)","v":0},"Tiago_32",{"$f":"IFERROR(VLOOKUP(GY38,MATCHSELEVES!$Y$14:$AE$600,3,FALSE),0)","v":0},{"$f":"IFERROR(VLOOKUP(GY38,MATCHSELEVES!$Y$14:$AE$600,4,FALSE),0)","v":0},{"$f":"IFERROR(VLOOKUP(GY38,MATCHSELEVES!$Y$14:$AE$600,5,FALSE),0)","v":0},{"$f":"IFERROR(VLOOKUP(GY38,MATCHSELEVES!$Y$14:$AF$600,8,FALSE),0)","v":0},{"$f":"IFERROR(VLOOKUP(GY38,MATCHSELEVES!$Y$14:$AG$600,9,FALSE),0)","v":0},"Tiago_33",{"$f":"IFERROR(VLOOKUP(HE38,MATCHSELEVES!$Y$14:$AE$600,3,FALSE),0)","v":0},{"$f":"IFERROR(VLOOKUP(HE38,MATCHSELEVES!$Y$14:$AE$600,4,FALSE),0)","v":0},{"$f":"IFERROR(VLOOKUP(HE38,MATCHSELEVES!$Y$14:$AE$600,5,FALSE),0)","v":0},{"$f":"IFERROR(VLOOKUP(HE38,MATCHSELEVES!$Y$14:$AF$600,8,FALSE),0)","v":0},{"$f":"IFERROR(VLOOKUP(HE38,MATCHSELEVES!$Y$14:$AG$600,9,FALSE),0)","v":0},"Tiago_34",{"$f":"IFERROR(VLOOKUP(HK38,MATCHSELEVES!$Y$14:$AE$600,3,FALSE),0)","v":0},{"$f":"IFERROR(VLOOKUP(HK38,MATCHSELEVES!$Y$14:$AE$600,4,FALSE),0)","v":0},{"$f":"IFERROR(VLOOKUP(HK38,MATCHSELEVES!$Y$14:$AE$600,5,FALSE),0)","v":0},{"$f":"IFERROR(VLOOKUP(HK38,MATCHSELEVES!$Y$14:$AF$600,8,FALSE),0)","v":0},{"$f":"IFERROR(VLOOKUP(HK38,MATCHSELEVES!$Y$14:$AG$600,9,FALSE),0)","v":0},"Tiago_35",{"$f":"IFERROR(VLOOKUP(HQ38,MATCHSELEVES!$Y$14:$AE$600,3,FALSE),0)","v":0},{"$f":"IFERROR(VLOOKUP(HQ38,MATCHSELEVES!$Y$14:$AE$600,4,FALSE),0)","v":0},{"$f":"IFERROR(VLOOKUP(HQ38,MATCHSELEVES!$Y$14:$AE$600,5,FALSE),0)","v":0},{"$f":"IFERROR(VLOOKUP(HQ38,MATCHSELEVES!$Y$14:$AF$600,8,FALSE),0)","v":0},{"$f":"IFERROR(VLOOKUP(HQ38,MATCHSELEVES!$Y$14:$AG$600,9,FALSE),0)","v":0},"Tiago_36",{"$f":"IFERROR(VLOOKUP(HW38,MATCHSELEVES!$Y$14:$AE$600,3,FALSE),0)","v":0},{"$f":"IFERROR(VLOOKUP(HW38,MATCHSELEVES!$Y$14:$AE$600,4,FALSE),0)","v":0},{"$f":"IFERROR(VLOOKUP(HW38,MATCHSELEVES!$Y$14:$AE$600,5,FALSE),0)","v":0},{"$f":"IFERROR(VLOOKUP(HW38,MATCHSELEVES!$Y$14:$AF$600,8,FALSE),0)","v":0},{"$f":"IFERROR(VLOOKUP(HW38,MATCHSELEVES!$Y$14:$AG$600,9,FALSE),0)","v":0},"Tiago_37",{"$f":"IFERROR(VLOOKUP(IC38,MATCHSELEVES!$Y$14:$AE$600,3,FALSE),0)","v":0},{"$f":"IFERROR(VLOOKUP(IC38,MATCHSELEVES!$Y$14:$AE$600,4,FALSE),0)","v":0},{"$f":"IFERROR(VLOOKUP(IC38,MATCHSELEVES!$Y$14:$AE$600,5,FALSE),0)","v":0},{"$f":"IFERROR(VLOOKUP(IC38,MATCHSELEVES!$Y$14:$AF$600,8,FALSE),0)","v":0},{"$f":"IFERROR(VLOOKUP(IC38,MATCHSELEVES!$Y$14:$AG$600,9,FALSE),0)","v":0},"Tiago_38",{"$f":"IFERROR(VLOOKUP(II38,MATCHSELEVES!$Y$14:$AE$600,3,FALSE),0)","v":0},{"$f":"IFERROR(VLOOKUP(II38,MATCHSELEVES!$Y$14:$AE$600,4,FALSE),0)","v":0},{"$f":"IFERROR(VLOOKUP(II38,MATCHSELEVES!$Y$14:$AE$600,5,FALSE),0)","v":0},{"$f":"IFERROR(VLOOKUP(II38,MATCHSELEVES!$Y$14:$AF$600,8,FALSE),0)","v":0},{"$f":"IFERROR(VLOOKUP(II38,MATCHSELEVES!$Y$14:$AG$600,9,FALSE),0)","v":0},"Tiago_39",{"$f":"IFERROR(VLOOKUP(IO38,MATCHSELEVES!$Y$14:$AE$600,3,FALSE),0)","v":0},{"$f":"IFERROR(VLOOKUP(IO38,MATCHSELEVES!$Y$14:$AE$600,4,FALSE),0)","v":0},{"$f":"IFERROR(VLOOKUP(IO38,MATCHSELEVES!$Y$14:$AE$600,5,FALSE),0)","v":0},{"$f":"IFERROR(VLOOKUP(IO38,MATCHSELEVES!$Y$14:$AF$600,8,FALSE),0)","v":0},{"$f":"IFERROR(VLOOKUP(IO38,MATCHSELEVES!$Y$14:$AG$600,9,FALSE),0)","v":0},"Tiago_40",{"$f":"IFERROR(VLOOKUP(IU38,MATCHSELEVES!$Y$14:$AE$600,3,FALSE),0)","v":0},{"$f":"IFERROR(VLOOKUP(IU38,MATCHSELEVES!$Y$14:$AE$600,4,FALSE),0)","v":0},{"$f":"IFERROR(VLOOKUP(IU38,MATCHSELEVES!$Y$14:$AE$600,5,FALSE),0)","v":0},{"$f":"IFERROR(VLOOKUP(IU38,MATCHSELEVES!$Y$14:$AF$600,8,FALSE),0)","v":0},{"$f":"IFERROR(VLOOKUP(IU38,MATCHSELEVES!$Y$14:$AG$600,9,FALSE),0)","v":0},"Tiagop_1",{"$f":"IFERROR(VLOOKUP(JA38,MATCHSELEVES!$Y$14:$AE$600,3,FALSE),0)","v":0},{"$f":"IFERROR(VLOOKUP(JA38,MATCHSELEVES!$Y$14:$AE$600,4,FALSE),0)","v":0},{"$f":"IFERROR(VLOOKUP(JA38,MATCHSELEVES!$Y$14:$AE$600,5,FALSE),0)","v":0},{"$f":"IFERROR(VLOOKUP(JA38,MATCHSELEVES!$Y$14:$AF$600,8,FALSE),0)","v":0},{"$f":"IFERROR(VLOOKUP(JA38,MATCHSELEVES!$Y$14:$AG$600,9,FALSE),0)","v":0},"Tiagop_2",{"$f":"IFERROR(VLOOKUP(JG38,MATCHSELEVES!$Y$14:$AE$600,3,FALSE),0)","v":0},{"$f":"IFERROR(VLOOKUP(JG38,MATCHSELEVES!$Y$14:$AE$600,4,FALSE),0)","v":0},{"$f":"IFERROR(VLOOKUP(JG38,MATCHSELEVES!$Y$14:$AE$600,5,FALSE),0)","v":0},{"$f":"IFERROR(VLOOKUP(JG38,MATCHSELEVES!$Y$14:$AF$600,8,FALSE),0)","v":0},{"$f":"IFERROR(VLOOKUP(JG38,MATCHSELEVES!$Y$14:$AG$600,9,FALSE),0)","v":0},"Tiagop_3",{"$f":"IFERROR(VLOOKUP(JM38,MATCHSELEVES!$Y$14:$AE$600,3,FALSE),0)","v":0},{"$f":"IFERROR(VLOOKUP(JM38,MATCHSELEVES!$Y$14:$AE$600,4,FALSE),0)","v":0},{"$f":"IFERROR(VLOOKUP(JM38,MATCHSELEVES!$Y$14:$AE$600,5,FALSE),0)","v":0},{"$f":"IFERROR(VLOOKUP(JM38,MATCHSELEVES!$Y$14:$AF$600,8,FALSE),0)","v":0},{"$f":"IFERROR(VLOOKUP(JM38,MATCHSELEVES!$Y$14:$AG$600,9,FALSE),0)","v":0},"Tiagop_4",{"$f":"IFERROR(VLOOKUP(JS38,MATCHSELEVES!$Y$14:$AE$600,3,FALSE),0)","v":0},{"$f":"IFERROR(VLOOKUP(JS38,MATCHSELEVES!$Y$14:$AE$600,4,FALSE),0)","v":0},{"$f":"IFERROR(VLOOKUP(JS38,MATCHSELEVES!$Y$14:$AE$600,5,FALSE),0)","v":0},{"$f":"IFERROR(VLOOKUP(JS38,MATCHSELEVES!$Y$14:$AF$600,8,FALSE),0)","v":0},{"$f":"IFERROR(VLOOKUP(JS38,MATCHSELEVES!$Y$14:$AG$600,9,FALSE),0)","v":0},"Tiagop_5",{"$f":"IFERROR(VLOOKUP(JY38,MATCHSELEVES!$Y$14:$AE$600,3,FALSE),0)","v":0},{"$f":"IFERROR(VLOOKUP(JY38,MATCHSELEVES!$Y$14:$AE$600,4,FALSE),0)","v":0},{"$f":"IFERROR(VLOOKUP(JY38,MATCHSELEVES!$Y$14:$AE$600,5,FALSE),0)","v":0},{"$f":"IFERROR(VLOOKUP(JY38,MATCHSELEVES!$Y$14:$AF$600,8,FALSE),0)","v":0},{"$f":"IFERROR(VLOOKUP(JY38,MATCHSELEVES!$Y$14:$AG$600,9,FALSE),0)","v":0},"Tiagop_6",{"$f":"IFERROR(VLOOKUP(KE38,MATCHSELEVES!$Y$14:$AE$600,3,FALSE),0)","v":0},{"$f":"IFERROR(VLOOKUP(KE38,MATCHSELEVES!$Y$14:$AE$600,4,FALSE),0)","v":0},{"$f":"IFERROR(VLOOKUP(KE38,MATCHSELEVES!$Y$14:$AE$600,5,FALSE),0)","v":0},{"$f":"IFERROR(VLOOKUP(KE38,MATCHSELEVES!$Y$14:$AF$600,8,FALSE),0)","v":0},{"$f":"IFERROR(VLOOKUP(KE38,MATCHSELEVES!$Y$14:$AG$600,9,FALSE),0)","v":0},"Tiagop_7",{"$f":"IFERROR(VLOOKUP(KK38,MATCHSELEVES!$Y$14:$AE$600,3,FALSE),0)","v":0},{"$f":"IFERROR(VLOOKUP(KK38,MATCHSELEVES!$Y$14:$AE$600,4,FALSE),0)","v":0},{"$f":"IFERROR(VLOOKUP(KK38,MATCHSELEVES!$Y$14:$AE$600,5,FALSE),0)","v":0},{"$f":"IFERROR(VLOOKUP(KK38,MATCHSELEVES!$Y$14:$AF$600,8,FALSE),0)","v":0},{"$f":"IFERROR(VLOOKUP(KK38,MATCHSELEVES!$Y$14:$AG$600,9,FALSE),0)","v":0},"Tiagop_8",{"$f":"IFERROR(VLOOKUP(KQ38,MATCHSELEVES!$Y$14:$AE$600,3,FALSE),0)","v":0},{"$f":"IFERROR(VLOOKUP(KQ38,MATCHSELEVES!$Y$14:$AE$600,4,FALSE),0)","v":0},{"$f":"IFERROR(VLOOKUP(KQ38,MATCHSELEVES!$Y$14:$AE$600,5,FALSE),0)","v":0},{"$f":"IFERROR(VLOOKUP(KQ38,MATCHSELEVES!$Y$14:$AF$600,8,FALSE),0)","v":0},{"$f":"IFERROR(VLOOKUP(KQ38,MATCHSELEVES!$Y$14:$AG$600,9,FALSE),0)","v":0},"Tiagop_9",{"$f":"IFERROR(VLOOKUP(KW38,MATCHSELEVES!$Y$14:$AE$600,3,FALSE),0)","v":0},{"$f":"IFERROR(VLOOKUP(KW38,MATCHSELEVES!$Y$14:$AE$600,4,FALSE),0)","v":0},{"$f":"IFERROR(VLOOKUP(KW38,MATCHSELEVES!$Y$14:$AE$600,5,FALSE),0)","v":0},{"$f":"IFERROR(VLOOKUP(KW38,MATCHSELEVES!$Y$14:$AF$600,8,FALSE),0)","v":0},{"$f":"IFERROR(VLOOKUP(KW38,MATCHSELEVES!$Y$14:$AG$600,9,FALSE),0)","v":0},"Tiagop_10",{"$f":"IFERROR(VLOOKUP(LC38,MATCHSELEVES!$Y$14:$AE$600,3,FALSE),0)","v":0},{"$f":"IFERROR(VLOOKUP(LC38,MATCHSELEVES!$Y$14:$AE$600,4,FALSE),0)","v":0},{"$f":"IFERROR(VLOOKUP(LC38,MATCHSELEVES!$Y$14:$AE$600,5,FALSE),0)","v":0},{"$f":"IFERROR(VLOOKUP(LC38,MATCHSELEVES!$Y$14:$AF$600,8,FALSE),0)","v":0},{"$f":"IFERROR(VLOOKUP(LC38,MATCHSELEVES!$Y$14:$AG$600,9,FALSE),0)","v":0},"Tiagop_11",{"$f":"IFERROR(VLOOKUP(LI38,MATCHSELEVES!$Y$14:$AE$600,3,FALSE),0)","v":0},{"$f":"IFERROR(VLOOKUP(LI38,MATCHSELEVES!$Y$14:$AE$600,4,FALSE),0)","v":0},{"$f":"IFERROR(VLOOKUP(LI38,MATCHSELEVES!$Y$14:$AE$600,5,FALSE),0)","v":0},{"$f":"IFERROR(VLOOKUP(LI38,MATCHSELEVES!$Y$14:$AF$600,8,FALSE),0)","v":0},{"$f":"IFERROR(VLOOKUP(LI38,MATCHSELEVES!$Y$14:$AG$600,9,FALSE),0)","v":0},"Tiagop_12",{"$f":"IFERROR(VLOOKUP(LO38,MATCHSELEVES!$Y$14:$AE$600,3,FALSE),0)","v":0},{"$f":"IFERROR(VLOOKUP(LO38,MATCHSELEVES!$Y$14:$AE$600,4,FALSE),0)","v":0},{"$f":"IFERROR(VLOOKUP(LO38,MATCHSELEVES!$Y$14:$AE$600,5,FALSE),0)","v":0},{"$f":"IFERROR(VLOOKUP(LO38,MATCHSELEVES!$Y$14:$AF$600,8,FALSE),0)","v":0},{"$f":"IFERROR(VLOOKUP(LO38,MATCHSELEVES!$Y$14:$AG$600,9,FALSE),0)","v":0},"Tiagop_13",{"$f":"IFERROR(VLOOKUP(LU38,MATCHSELEVES!$Y$14:$AE$600,3,FALSE),0)","v":0},{"$f":"IFERROR(VLOOKUP(LU38,MATCHSELEVES!$Y$14:$AE$600,4,FALSE),0)","v":0},{"$f":"IFERROR(VLOOKUP(LU38,MATCHSELEVES!$Y$14:$AE$600,5,FALSE),0)","v":0},{"$f":"IFERROR(VLOOKUP(LU38,MATCHSELEVES!$Y$14:$AF$600,8,FALSE),0)","v":0},{"$f":"IFERROR(VLOOKUP(LU38,MATCHSELEVES!$Y$14:$AG$600,9,FALSE),0)","v":0},"Tiagop_14",{"$f":"IFERROR(VLOOKUP(MA38,MATCHSELEVES!$Y$14:$AE$600,3,FALSE),0)","v":0},{"$f":"IFERROR(VLOOKUP(MA38,MATCHSELEVES!$Y$14:$AE$600,4,FALSE),0)","v":0},{"$f":"IFERROR(VLOOKUP(MA38,MATCHSELEVES!$Y$14:$AE$600,5,FALSE),0)","v":0},{"$f":"IFERROR(VLOOKUP(MA38,MATCHSELEVES!$Y$14:$AF$600,8,FALSE),0)","v":0},{"$f":"IFERROR(VLOOKUP(MA38,MATCHSELEVES!$Y$14:$AG$600,9,FALSE),0)","v":0},"Tiagop_15",{"$f":"IFERROR(VLOOKUP(MG38,MATCHSELEVES!$Y$14:$AE$600,3,FALSE),0)","v":0},{"$f":"IFERROR(VLOOKUP(MG38,MATCHSELEVES!$Y$14:$AE$600,4,FALSE),0)","v":0},{"$f":"IFERROR(VLOOKUP(MG38,MATCHSELEVES!$Y$14:$AE$600,5,FALSE),0)","v":0},{"$f":"IFERROR(VLOOKUP(MG38,MATCHSELEVES!$Y$14:$AF$600,8,FALSE),0)","v":0},{"$f":"IFERROR(VLOOKUP(MG38,MATCHSELEVES!$Y$14:$AG$600,9,FALSE),0)","v":0},"Tiagop_16",{"$f":"IFERROR(VLOOKUP(MM38,MATCHSELEVES!$Y$14:$AE$600,3,FALSE),0)","v":0},{"$f":"IFERROR(VLOOKUP(MM38,MATCHSELEVES!$Y$14:$AE$600,4,FALSE),0)","v":0},{"$f":"IFERROR(VLOOKUP(MM38,MATCHSELEVES!$Y$14:$AE$600,5,FALSE),0)","v":0},{"$f":"IFERROR(VLOOKUP(MM38,MATCHSELEVES!$Y$14:$AF$600,8,FALSE),0)","v":0},{"$f":"IFERROR(VLOOKUP(MM38,MATCHSELEVES!$Y$14:$AG$600,9,FALSE),0)","v":0},"Tiagop_17",{"$f":"IFERROR(VLOOKUP(MS38,MATCHSELEVES!$Y$14:$AE$600,3,FALSE),0)","v":0},{"$f":"IFERROR(VLOOKUP(MS38,MATCHSELEVES!$Y$14:$AE$600,4,FALSE),0)","v":0},{"$f":"IFERROR(VLOOKUP(MS38,MATCHSELEVES!$Y$14:$AE$600,5,FALSE),0)","v":0},{"$f":"IFERROR(VLOOKUP(MS38,MATCHSELEVES!$Y$14:$AF$600,8,FALSE),0)","v":0},{"$f":"IFERROR(VLOOKUP(MS38,MATCHSELEVES!$Y$14:$AG$600,9,FALSE),0)","v":0},"Tiagop_18",{"$f":"IFERROR(VLOOKUP(MY38,MATCHSELEVES!$Y$14:$AE$600,3,FALSE),0)","v":0},{"$f":"IFERROR(VLOOKUP(MY38,MATCHSELEVES!$Y$14:$AE$600,4,FALSE),0)","v":0},{"$f":"IFERROR(VLOOKUP(MY38,MATCHSELEVES!$Y$14:$AE$600,5,FALSE),0)","v":0},{"$f":"IFERROR(VLOOKUP(MY38,MATCHSELEVES!$Y$14:$AF$600,8,FALSE),0)","v":0},{"$f":"IFERROR(VLOOKUP(MY38,MATCHSELEVES!$Y$14:$AG$600,9,FALSE),0)","v":0},"Tiagop_19",{"$f":"IFERROR(VLOOKUP(NE38,MATCHSELEVES!$Y$14:$AE$600,3,FALSE),0)","v":0},{"$f":"IFERROR(VLOOKUP(NE38,MATCHSELEVES!$Y$14:$AE$600,4,FALSE),0)","v":0},{"$f":"IFERROR(VLOOKUP(NE38,MATCHSELEVES!$Y$14:$AE$600,5,FALSE),0)","v":0},{"$f":"IFERROR(VLOOKUP(NE38,MATCHSELEVES!$Y$14:$AF$600,8,FALSE),0)","v":0},{"$f":"IFERROR(VLOOKUP(NE38,MATCHSELEVES!$Y$14:$AG$600,9,FALSE),0)","v":0},"Tiagop_20",{"$f":"IFERROR(VLOOKUP(NK38,MATCHSELEVES!$Y$14:$AE$600,3,FALSE),0)","v":0},{"$f":"IFERROR(VLOOKUP(NK38,MATCHSELEVES!$Y$14:$AE$600,4,FALSE),0)","v":0},{"$f":"IFERROR(VLOOKUP(NK38,MATCHSELEVES!$Y$14:$AE$600,5,FALSE),0)","v":0},{"$f":"IFERROR(VLOOKUP(NK38,MATCHSELEVES!$Y$14:$AF$600,8,FALSE),0)","v":0},{"$f":"IFERROR(VLOOKUP(NK38,MATCHSELEVES!$Y$14:$AG$600,9,FALSE),0)","v":0},"Tiagop_21",{"$f":"IFERROR(VLOOKUP(NQ38,MATCHSELEVES!$Y$14:$AE$600,3,FALSE),0)","v":0},{"$f":"IFERROR(VLOOKUP(NQ38,MATCHSELEVES!$Y$14:$AE$600,4,FALSE),0)","v":0},{"$f":"IFERROR(VLOOKUP(NQ38,MATCHSELEVES!$Y$14:$AE$600,5,FALSE),0)","v":0},{"$f":"IFERROR(VLOOKUP(NQ38,MATCHSELEVES!$Y$14:$AF$600,8,FALSE),0)","v":0},{"$f":"IFERROR(VLOOKUP(NQ38,MATCHSELEVES!$Y$14:$AG$600,9,FALSE),0)","v":0},"Tiagop_22",{"$f":"IFERROR(VLOOKUP(NW38,MATCHSELEVES!$Y$14:$AE$600,3,FALSE),0)","v":0},{"$f":"IFERROR(VLOOKUP(NW38,MATCHSELEVES!$Y$14:$AE$600,4,FALSE),0)","v":0},{"$f":"IFERROR(VLOOKUP(NW38,MATCHSELEVES!$Y$14:$AE$600,5,FALSE),0)","v":0},{"$f":"IFERROR(VLOOKUP(NW38,MATCHSELEVES!$Y$14:$AF$600,8,FALSE),0)","v":0},{"$f":"IFERROR(VLOOKUP(NW38,MATCHSELEVES!$Y$14:$AG$600,9,FALSE),0)","v":0},"Tiagop_23",{"$f":"IFERROR(VLOOKUP(OC38,MATCHSELEVES!$Y$14:$AE$600,3,FALSE),0)","v":0},{"$f":"IFERROR(VLOOKUP(OC38,MATCHSELEVES!$Y$14:$AE$600,4,FALSE),0)","v":0},{"$f":"IFERROR(VLOOKUP(OC38,MATCHSELEVES!$Y$14:$AE$600,5,FALSE),0)","v":0},{"$f":"IFERROR(VLOOKUP(OC38,MATCHSELEVES!$Y$14:$AF$600,8,FALSE),0)","v":0},{"$f":"IFERROR(VLOOKUP(OC38,MATCHSELEVES!$Y$14:$AG$600,9,FALSE),0)","v":0},"Tiagop_24",{"$f":"IFERROR(VLOOKUP(OI38,MATCHSELEVES!$Y$14:$AE$600,3,FALSE),0)","v":0},{"$f":"IFERROR(VLOOKUP(OI38,MATCHSELEVES!$Y$14:$AE$600,4,FALSE),0)","v":0},{"$f":"IFERROR(VLOOKUP(OI38,MATCHSELEVES!$Y$14:$AE$600,5,FALSE),0)","v":0},{"$f":"IFERROR(VLOOKUP(OI38,MATCHSELEVES!$Y$14:$AF$600,8,FALSE),0)","v":0},{"$f":"IFERROR(VLOOKUP(OI38,MATCHSELEVES!$Y$14:$AG$600,9,FALSE),0)","v":0},"Tiagop_25",{"$f":"IFERROR(VLOOKUP(OO38,MATCHSELEVES!$Y$14:$AE$600,3,FALSE),0)","v":0},{"$f":"IFERROR(VLOOKUP(OO38,MATCHSELEVES!$Y$14:$AE$600,4,FALSE),0)","v":0},{"$f":"IFERROR(VLOOKUP(OO38,MATCHSELEVES!$Y$14:$AE$600,5,FALSE),0)","v":0},{"$f":"IFERROR(VLOOKUP(OO38,MATCHSELEVES!$Y$14:$AF$600,8,FALSE),0)","v":0},{"$f":"IFERROR(VLOOKUP(OO38,MATCHSELEVES!$Y$14:$AG$600,9,FALSE),0)","v":0},"Tiagop_26",{"$f":"IFERROR(VLOOKUP(OU38,MATCHSELEVES!$Y$14:$AE$600,3,FALSE),0)","v":0},{"$f":"IFERROR(VLOOKUP(OU38,MATCHSELEVES!$Y$14:$AE$600,4,FALSE),0)","v":0},{"$f":"IFERROR(VLOOKUP(OU38,MATCHSELEVES!$Y$14:$AE$600,5,FALSE),0)","v":0},{"$f":"IFERROR(VLOOKUP(OU38,MATCHSELEVES!$Y$14:$AF$600,8,FALSE),0)","v":0},{"$f":"IFERROR(VLOOKUP(OU38,MATCHSELEVES!$Y$14:$AG$600,9,FALSE),0)","v":0},"Tiagop_27",{"$f":"IFERROR(VLOOKUP(PA38,MATCHSELEVES!$Y$14:$AE$600,3,FALSE),0)","v":0},{"$f":"IFERROR(VLOOKUP(PA38,MATCHSELEVES!$Y$14:$AE$600,4,FALSE),0)","v":0},{"$f":"IFERROR(VLOOKUP(PA38,MATCHSELEVES!$Y$14:$AE$600,5,FALSE),0)","v":0},{"$f":"IFERROR(VLOOKUP(PA38,MATCHSELEVES!$Y$14:$AF$600,8,FALSE),0)","v":0},{"$f":"IFERROR(VLOOKUP(PA38,MATCHSELEVES!$Y$14:$AG$600,9,FALSE),0)","v":0},"Tiagop_28",{"$f":"IFERROR(VLOOKUP(PG38,MATCHSELEVES!$Y$14:$AE$600,3,FALSE),0)","v":0},{"$f":"IFERROR(VLOOKUP(PG38,MATCHSELEVES!$Y$14:$AE$600,4,FALSE),0)","v":0},{"$f":"IFERROR(VLOOKUP(PG38,MATCHSELEVES!$Y$14:$AE$600,5,FALSE),0)","v":0},{"$f":"IFERROR(VLOOKUP(PG38,MATCHSELEVES!$Y$14:$AF$600,8,FALSE),0)","v":0},{"$f":"IFERROR(VLOOKUP(PG38,MATCHSELEVES!$Y$14:$AG$600,9,FALSE),0)","v":0},"Tiagop_29",{"$f":"IFERROR(VLOOKUP(PM38,MATCHSELEVES!$Y$14:$AE$600,3,FALSE),0)","v":0},{"$f":"IFERROR(VLOOKUP(PM38,MATCHSELEVES!$Y$14:$AE$600,4,FALSE),0)","v":0},{"$f":"IFERROR(VLOOKUP(PM38,MATCHSELEVES!$Y$14:$AE$600,5,FALSE),0)","v":0},{"$f":"IFERROR(VLOOKUP(PM38,MATCHSELEVES!$Y$14:$AF$600,8,FALSE),0)","v":0},{"$f":"IFERROR(VLOOKUP(PM38,MATCHSELEVES!$Y$14:$AG$600,9,FALSE),0)","v":0},"Tiagop_30",{"$f":"IFERROR(VLOOKUP(PS38,MATCHSELEVES!$Y$14:$AE$600,3,FALSE),0)","v":0},{"$f":"IFERROR(VLOOKUP(PS38,MATCHSELEVES!$Y$14:$AE$600,4,FALSE),0)","v":0},{"$f":"IFERROR(VLOOKUP(PS38,MATCHSELEVES!$Y$14:$AE$600,5,FALSE),0)","v":0},{"$f":"IFERROR(VLOOKUP(PS38,MATCHSELEVES!$Y$14:$AF$600,8,FALSE),0)","v":0},{"$f":"IFERROR(VLOOKUP(PS38,MATCHSELEVES!$Y$14:$AG$600,9,FALSE),0)","v":0},"Tiagop_31",{"$f":"IFERROR(VLOOKUP(PY38,MATCHSELEVES!$Y$14:$AE$600,3,FALSE),0)","v":0},{"$f":"IFERROR(VLOOKUP(PY38,MATCHSELEVES!$Y$14:$AE$600,4,FALSE),0)","v":0},{"$f":"IFERROR(VLOOKUP(PY38,MATCHSELEVES!$Y$14:$AE$600,5,FALSE),0)","v":0},{"$f":"IFERROR(VLOOKUP(PY38,MATCHSELEVES!$Y$14:$AF$600,8,FALSE),0)","v":0},{"$f":"IFERROR(VLOOKUP(PY38,MATCHSELEVES!$Y$14:$AG$600,9,FALSE),0)","v":0},"Tiagop_32",{"$f":"IFERROR(VLOOKUP(QE38,MATCHSELEVES!$Y$14:$AE$600,3,FALSE),0)","v":0},{"$f":"IFERROR(VLOOKUP(QE38,MATCHSELEVES!$Y$14:$AE$600,4,FALSE),0)","v":0},{"$f":"IFERROR(VLOOKUP(QE38,MATCHSELEVES!$Y$14:$AE$600,5,FALSE),0)","v":0},{"$f":"IFERROR(VLOOKUP(QE38,MATCHSELEVES!$Y$14:$AF$600,8,FALSE),0)","v":0},{"$f":"IFERROR(VLOOKUP(QE38,MATCHSELEVES!$Y$14:$AG$600,9,FALSE),0)","v":0},"Tiagop_33",{"$f":"IFERROR(VLOOKUP(QK38,MATCHSELEVES!$Y$14:$AE$600,3,FALSE),0)","v":0},{"$f":"IFERROR(VLOOKUP(QK38,MATCHSELEVES!$Y$14:$AE$600,4,FALSE),0)","v":0},{"$f":"IFERROR(VLOOKUP(QK38,MATCHSELEVES!$Y$14:$AE$600,5,FALSE),0)","v":0},{"$f":"IFERROR(VLOOKUP(QK38,MATCHSELEVES!$Y$14:$AF$600,8,FALSE),0)","v":0},{"$f":"IFERROR(VLOOKUP(QK38,MATCHSELEVES!$Y$14:$AG$600,9,FALSE),0)","v":0},"Tiagop_34",{"$f":"IFERROR(VLOOKUP(QQ38,MATCHSELEVES!$Y$14:$AE$600,3,FALSE),0)","v":0},{"$f":"IFERROR(VLOOKUP(QQ38,MATCHSELEVES!$Y$14:$AE$600,4,FALSE),0)","v":0},{"$f":"IFERROR(VLOOKUP(QQ38,MATCHSELEVES!$Y$14:$AE$600,5,FALSE),0)","v":0},{"$f":"IFERROR(VLOOKUP(QQ38,MATCHSELEVES!$Y$14:$AF$600,8,FALSE),0)","v":0},{"$f":"IFERROR(VLOOKUP(QQ38,MATCHSELEVES!$Y$14:$AG$600,9,FALSE),0)","v":0},"Tiagop_35",{"$f":"IFERROR(VLOOKUP(QW38,MATCHSELEVES!$Y$14:$AE$600,3,FALSE),0)","v":0},{"$f":"IFERROR(VLOOKUP(QW38,MATCHSELEVES!$Y$14:$AE$600,4,FALSE),0)","v":0},{"$f":"IFERROR(VLOOKUP(QW38,MATCHSELEVES!$Y$14:$AE$600,5,FALSE),0)","v":0},{"$f":"IFERROR(VLOOKUP(QW38,MATCHSELEVES!$Y$14:$AF$600,8,FALSE),0)","v":0},{"$f":"IFERROR(VLOOKUP(QW38,MATCHSELEVES!$Y$14:$AG$600,9,FALSE),0)","v":0},"Tiagop_36",{"$f":"IFERROR(VLOOKUP(RC38,MATCHSELEVES!$Y$14:$AE$600,3,FALSE),0)","v":0},{"$f":"IFERROR(VLOOKUP(RC38,MATCHSELEVES!$Y$14:$AE$600,4,FALSE),0)","v":0},{"$f":"IFERROR(VLOOKUP(RC38,MATCHSELEVES!$Y$14:$AE$600,5,FALSE),0)","v":0},{"$f":"IFERROR(VLOOKUP(RC38,MATCHSELEVES!$Y$14:$AF$600,8,FALSE),0)","v":0},{"$f":"IFERROR(VLOOKUP(RC38,MATCHSELEVES!$Y$14:$AG$600,9,FALSE),0)","v":0},"Tiagop_37",{"$f":"IFERROR(VLOOKUP(RI38,MATCHSELEVES!$Y$14:$AE$600,3,FALSE),0)","v":0},{"$f":"IFERROR(VLOOKUP(RI38,MATCHSELEVES!$Y$14:$AE$600,4,FALSE),0)","v":0},{"$f":"IFERROR(VLOOKUP(RI38,MATCHSELEVES!$Y$14:$AE$600,5,FALSE),0)","v":0},{"$f":"IFERROR(VLOOKUP(RI38,MATCHSELEVES!$Y$14:$AF$600,8,FALSE),0)","v":0},{"$f":"IFERROR(VLOOKUP(RI38,MATCHSELEVES!$Y$14:$AG$600,9,FALSE),0)","v":0},"Tiagop_38",{"$f":"IFERROR(VLOOKUP(RO38,MATCHSELEVES!$Y$14:$AE$600,3,FALSE),0)","v":0},{"$f":"IFERROR(VLOOKUP(RO38,MATCHSELEVES!$Y$14:$AE$600,4,FALSE),0)","v":0},{"$f":"IFERROR(VLOOKUP(RO38,MATCHSELEVES!$Y$14:$AE$600,5,FALSE),0)","v":0},{"$f":"IFERROR(VLOOKUP(RO38,MATCHSELEVES!$Y$14:$AF$600,8,FALSE),0)","v":0},{"$f":"IFERROR(VLOOKUP(RO38,MATCHSELEVES!$Y$14:$AG$600,9,FALSE),0)","v":0},"Tiagop_39",{"$f":"IFERROR(VLOOKUP(RU38,MATCHSELEVES!$Y$14:$AE$600,3,FALSE),0)","v":0},{"$f":"IFERROR(VLOOKUP(RU38,MATCHSELEVES!$Y$14:$AE$600,4,FALSE),0)","v":0},{"$f":"IFERROR(VLOOKUP(RU38,MATCHSELEVES!$Y$14:$AE$600,5,FALSE),0)","v":0},{"$f":"IFERROR(VLOOKUP(RU38,MATCHSELEVES!$Y$14:$AF$600,8,FALSE),0)","v":0},{"$f":"IFERROR(VLOOKUP(RU38,MATCHSELEVES!$Y$14:$AG$600,9,FALSE),0)","v":0},"Tiagop_40",{"$f":"IFERROR(VLOOKUP(SA38,MATCHSELEVES!$Y$14:$AE$600,3,FALSE),0)","v":0},{"$f":"IFERROR(VLOOKUP(SA38,MATCHSELEVES!$Y$14:$AE$600,4,FALSE),0)","v":0},{"$f":"IFERROR(VLOOKUP(SA38,MATCHSELEVES!$Y$14:$AE$600,5,FALSE),0)","v":0},{"$f":"IFERROR(VLOOKUP(SA38,MATCHSELEVES!$Y$14:$AF$600,8,FALSE),0)","v":0},{"$f":"IFERROR(VLOOKUP(SA38,MATCHSELEVES!$Y$14:$AG$600,9,FALSE),0)","v":0}]
[36,null,"Yasna",36,null,null,{"$f":"COUNTIF(MATCHSELEVES!$Z$14:$Z$600,C39)+COUNTIF(MATCHSELEVES!$Z$14:$Z$600,$C39&\"p\")","v":0},1,{"$f":"COUNTIF(MATCHSELEVES!$F$14:$H$249,C39)","v":0},1,0,1,{"$f":"IFERROR(M82/Tableau10[[#This Row],[Nombre de matchs joués]],0)","v":0},{"$f":"IF(Tableau10[[#This Row],[Nombre de points encaissés]]=0,$C$45,SUMPRODUCT((M$4:M$43<M39)*(M$4:M$43<>0))+1)","v":40},0,1,{"$f":"(Tableau10[[#This Row],[CLASSEMENT1]]+Tableau10[[#This Row],[CLASSEMENT2]]+Tableau10[[#This Row],[CLASSEMENT3]]+Tableau10[[#This Row],[CLASSEMENT4]]+Tableau10[[#This Row],[CLASSEMENT5]]+Tableau10[[#This Row],[CLASSEMENT6]])/6","v":13.333333333333334},{"$f":"RANK(Tableau10[[#This Row],[MOYENNE CLASSEMENTS]],Tableau10[MOYENNE CLASSEMENTS],1)","v":36},null,{"$f":"Tableau10[[#This Row],[CLASSEMENT1]]","v":36},"Yasna_1",{"$f":"IFERROR(VLOOKUP(U39,MATCHSELEVES!$Y$14:$AE$600,3,FALSE),0)","v":0},{"$f":"IFERROR(VLOOKUP(U39,MATCHSELEVES!$Y$14:$AE$600,4,FALSE),0)","v":0},{"$f":"IFERROR(VLOOKUP(U39,MATCHSELEVES!$Y$14:$AE$600,5,FALSE),0)","v":0},{"$f":"IFERROR(VLOOKUP(U39,MATCHSELEVES!$Y$14:$AF$600,8,FALSE),0)","v":0},{"$f":"IFERROR(VLOOKUP(U39,MATCHSELEVES!$Y$14:$AG$600,9,FALSE),0)","v":0},"Yasna_2",{"$f":"IFERROR(VLOOKUP(AA39,MATCHSELEVES!$Y$14:$AE$600,3,FALSE),0)","v":0},{"$f":"IFERROR(VLOOKUP(AA39,MATCHSELEVES!$Y$14:$AE$600,4,FALSE),0)","v":0},{"$f":"IFERROR(VLOOKUP(AA39,MATCHSELEVES!$Y$14:$AE$600,5,FALSE),0)","v":0},{"$f":"IFERROR(VLOOKUP(AA39,MATCHSELEVES!$Y$14:$AF$600,8,FALSE),0)","v":0},{"$f":"IFERROR(VLOOKUP(AA39,MATCHSELEVES!$Y$14:$AG$600,9,FALSE),0)","v":0},"Yasna_3",{"$f":"IFERROR(VLOOKUP(AG39,MATCHSELEVES!$Y$14:$AE$600,3,FALSE),0)","v":0},{"$f":"IFERROR(VLOOKUP(AG39,MATCHSELEVES!$Y$14:$AE$600,4,FALSE),0)","v":0},{"$f":"IFERROR(VLOOKUP(AG39,MATCHSELEVES!$Y$14:$AE$600,5,FALSE),0)","v":0},{"$f":"IFERROR(VLOOKUP(AG39,MATCHSELEVES!$Y$14:$AF$600,8,FALSE),0)","v":0},{"$f":"IFERROR(VLOOKUP(AG39,MATCHSELEVES!$Y$14:$AG$600,9,FALSE),0)","v":0},"Yasna_4",{"$f":"IFERROR(VLOOKUP(AM39,MATCHSELEVES!$Y$14:$AE$600,3,FALSE),0)","v":0},{"$f":"IFERROR(VLOOKUP(AM39,MATCHSELEVES!$Y$14:$AE$600,4,FALSE),0)","v":0},{"$f":"IFERROR(VLOOKUP(AM39,MATCHSELEVES!$Y$14:$AE$600,5,FALSE),0)","v":0},{"$f":"IFERROR(VLOOKUP(AM39,MATCHSELEVES!$Y$14:$AF$600,8,FALSE),0)","v":0},{"$f":"IFERROR(VLOOKUP(AM39,MATCHSELEVES!$Y$14:$AG$600,9,FALSE),0)","v":0},"Yasna_5",{"$f":"IFERROR(VLOOKUP(AS39,MATCHSELEVES!$Y$14:$AE$600,3,FALSE),0)","v":0},{"$f":"IFERROR(VLOOKUP(AS39,MATCHSELEVES!$Y$14:$AE$600,4,FALSE),0)","v":0},{"$f":"IFERROR(VLOOKUP(AS39,MATCHSELEVES!$Y$14:$AE$600,5,FALSE),0)","v":0},{"$f":"IFERROR(VLOOKUP(AS39,MATCHSELEVES!$Y$14:$AF$600,8,FALSE),0)","v":0},{"$f":"IFERROR(VLOOKUP(AS39,MATCHSELEVES!$Y$14:$AG$600,9,FALSE),0)","v":0},"Yasna_6",{"$f":"IFERROR(VLOOKUP(AY39,MATCHSELEVES!$Y$14:$AE$600,3,FALSE),0)","v":0},{"$f":"IFERROR(VLOOKUP(AY39,MATCHSELEVES!$Y$14:$AE$600,4,FALSE),0)","v":0},{"$f":"IFERROR(VLOOKUP(AY39,MATCHSELEVES!$Y$14:$AE$600,5,FALSE),0)","v":0},{"$f":"IFERROR(VLOOKUP(AY39,MATCHSELEVES!$Y$14:$AF$600,8,FALSE),0)","v":0},{"$f":"IFERROR(VLOOKUP(AY39,MATCHSELEVES!$Y$14:$AG$600,9,FALSE),0)","v":0},"Yasna_7",{"$f":"IFERROR(VLOOKUP(BE39,MATCHSELEVES!$Y$14:$AE$600,3,FALSE),0)","v":0},{"$f":"IFERROR(VLOOKUP(BE39,MATCHSELEVES!$Y$14:$AE$600,4,FALSE),0)","v":0},{"$f":"IFERROR(VLOOKUP(BE39,MATCHSELEVES!$Y$14:$AE$600,5,FALSE),0)","v":0},{"$f":"IFERROR(VLOOKUP(BE39,MATCHSELEVES!$Y$14:$AF$600,8,FALSE),0)","v":0},{"$f":"IFERROR(VLOOKUP(BE39,MATCHSELEVES!$Y$14:$AG$600,9,FALSE),0)","v":0},"Yasna_8",{"$f":"IFERROR(VLOOKUP(BK39,MATCHSELEVES!$Y$14:$AE$600,3,FALSE),0)","v":0},{"$f":"IFERROR(VLOOKUP(BK39,MATCHSELEVES!$Y$14:$AE$600,4,FALSE),0)","v":0},{"$f":"IFERROR(VLOOKUP(BK39,MATCHSELEVES!$Y$14:$AE$600,5,FALSE),0)","v":0},{"$f":"IFERROR(VLOOKUP(BK39,MATCHSELEVES!$Y$14:$AF$600,8,FALSE),0)","v":0},{"$f":"IFERROR(VLOOKUP(BK39,MATCHSELEVES!$Y$14:$AG$600,9,FALSE),0)","v":0},"Yasna_9",{"$f":"IFERROR(VLOOKUP(BQ39,MATCHSELEVES!$Y$14:$AE$600,3,FALSE),0)","v":0},{"$f":"IFERROR(VLOOKUP(BQ39,MATCHSELEVES!$Y$14:$AE$600,4,FALSE),0)","v":0},{"$f":"IFERROR(VLOOKUP(BQ39,MATCHSELEVES!$Y$14:$AE$600,5,FALSE),0)","v":0},{"$f":"IFERROR(VLOOKUP(BQ39,MATCHSELEVES!$Y$14:$AF$600,8,FALSE),0)","v":0},{"$f":"IFERROR(VLOOKUP(BQ39,MATCHSELEVES!$Y$14:$AG$600,9,FALSE),0)","v":0},"Yasna_10",{"$f":"IFERROR(VLOOKUP(BW39,MATCHSELEVES!$Y$14:$AE$600,3,FALSE),0)","v":0},{"$f":"IFERROR(VLOOKUP(BW39,MATCHSELEVES!$Y$14:$AE$600,4,FALSE),0)","v":0},{"$f":"IFERROR(VLOOKUP(BW39,MATCHSELEVES!$Y$14:$AE$600,5,FALSE),0)","v":0},{"$f":"IFERROR(VLOOKUP(BW39,MATCHSELEVES!$Y$14:$AF$600,8,FALSE),0)","v":0},{"$f":"IFERROR(VLOOKUP(BW39,MATCHSELEVES!$Y$14:$AG$600,9,FALSE),0)","v":0},"Yasna_11",{"$f":"IFERROR(VLOOKUP(CC39,MATCHSELEVES!$Y$14:$AE$600,3,FALSE),0)","v":0},{"$f":"IFERROR(VLOOKUP(CC39,MATCHSELEVES!$Y$14:$AE$600,4,FALSE),0)","v":0},{"$f":"IFERROR(VLOOKUP(CC39,MATCHSELEVES!$Y$14:$AE$600,5,FALSE),0)","v":0},{"$f":"IFERROR(VLOOKUP(CC39,MATCHSELEVES!$Y$14:$AF$600,8,FALSE),0)","v":0},{"$f":"IFERROR(VLOOKUP(CC39,MATCHSELEVES!$Y$14:$AG$600,9,FALSE),0)","v":0},"Yasna_12",{"$f":"IFERROR(VLOOKUP(CI39,MATCHSELEVES!$Y$14:$AE$600,3,FALSE),0)","v":0},{"$f":"IFERROR(VLOOKUP(CI39,MATCHSELEVES!$Y$14:$AE$600,4,FALSE),0)","v":0},{"$f":"IFERROR(VLOOKUP(CI39,MATCHSELEVES!$Y$14:$AE$600,5,FALSE),0)","v":0},{"$f":"IFERROR(VLOOKUP(CI39,MATCHSELEVES!$Y$14:$AF$600,8,FALSE),0)","v":0},{"$f":"IFERROR(VLOOKUP(CI39,MATCHSELEVES!$Y$14:$AG$600,9,FALSE),0)","v":0},"Yasna_13",{"$f":"IFERROR(VLOOKUP(CO39,MATCHSELEVES!$Y$14:$AE$600,3,FALSE),0)","v":0},{"$f":"IFERROR(VLOOKUP(CO39,MATCHSELEVES!$Y$14:$AE$600,4,FALSE),0)","v":0},{"$f":"IFERROR(VLOOKUP(CO39,MATCHSELEVES!$Y$14:$AE$600,5,FALSE),0)","v":0},{"$f":"IFERROR(VLOOKUP(CO39,MATCHSELEVES!$Y$14:$AF$600,8,FALSE),0)","v":0},{"$f":"IFERROR(VLOOKUP(CO39,MATCHSELEVES!$Y$14:$AG$600,9,FALSE),0)","v":0},"Yasna_14",{"$f":"IFERROR(VLOOKUP(CU39,MATCHSELEVES!$Y$14:$AE$600,3,FALSE),0)","v":0},{"$f":"IFERROR(VLOOKUP(CU39,MATCHSELEVES!$Y$14:$AE$600,4,FALSE),0)","v":0},{"$f":"IFERROR(VLOOKUP(CU39,MATCHSELEVES!$Y$14:$AE$600,5,FALSE),0)","v":0},{"$f":"IFERROR(VLOOKUP(CU39,MATCHSELEVES!$Y$14:$AF$600,8,FALSE),0)","v":0},{"$f":"IFERROR(VLOOKUP(CU39,MATCHSELEVES!$Y$14:$AG$600,9,FALSE),0)","v":0},"Yasna_15",{"$f":"IFERROR(VLOOKUP(DA39,MATCHSELEVES!$Y$14:$AE$600,3,FALSE),0)","v":0},{"$f":"IFERROR(VLOOKUP(DA39,MATCHSELEVES!$Y$14:$AE$600,4,FALSE),0)","v":0},{"$f":"IFERROR(VLOOKUP(DA39,MATCHSELEVES!$Y$14:$AE$600,5,FALSE),0)","v":0},{"$f":"IFERROR(VLOOKUP(DA39,MATCHSELEVES!$Y$14:$AF$600,8,FALSE),0)","v":0},{"$f":"IFERROR(VLOOKUP(DA39,MATCHSELEVES!$Y$14:$AG$600,9,FALSE),0)","v":0},"Yasna_16",{"$f":"IFERROR(VLOOKUP(DG39,MATCHSELEVES!$Y$14:$AE$600,3,FALSE),0)","v":0},{"$f":"IFERROR(VLOOKUP(DG39,MATCHSELEVES!$Y$14:$AE$600,4,FALSE),0)","v":0},{"$f":"IFERROR(VLOOKUP(DG39,MATCHSELEVES!$Y$14:$AE$600,5,FALSE),0)","v":0},{"$f":"IFERROR(VLOOKUP(DG39,MATCHSELEVES!$Y$14:$AF$600,8,FALSE),0)","v":0},{"$f":"IFERROR(VLOOKUP(DG39,MATCHSELEVES!$Y$14:$AG$600,9,FALSE),0)","v":0},"Yasna_17",{"$f":"IFERROR(VLOOKUP(DM39,MATCHSELEVES!$Y$14:$AE$600,3,FALSE),0)","v":0},{"$f":"IFERROR(VLOOKUP(DM39,MATCHSELEVES!$Y$14:$AE$600,4,FALSE),0)","v":0},{"$f":"IFERROR(VLOOKUP(DM39,MATCHSELEVES!$Y$14:$AE$600,5,FALSE),0)","v":0},{"$f":"IFERROR(VLOOKUP(DM39,MATCHSELEVES!$Y$14:$AF$600,8,FALSE),0)","v":0},{"$f":"IFERROR(VLOOKUP(DM39,MATCHSELEVES!$Y$14:$AG$600,9,FALSE),0)","v":0},"Yasna_18",{"$f":"IFERROR(VLOOKUP(DS39,MATCHSELEVES!$Y$14:$AE$600,3,FALSE),0)","v":0},{"$f":"IFERROR(VLOOKUP(DS39,MATCHSELEVES!$Y$14:$AE$600,4,FALSE),0)","v":0},{"$f":"IFERROR(VLOOKUP(DS39,MATCHSELEVES!$Y$14:$AE$600,5,FALSE),0)","v":0},{"$f":"IFERROR(VLOOKUP(DS39,MATCHSELEVES!$Y$14:$AF$600,8,FALSE),0)","v":0},{"$f":"IFERROR(VLOOKUP(DS39,MATCHSELEVES!$Y$14:$AG$600,9,FALSE),0)","v":0},"Yasna_19",{"$f":"IFERROR(VLOOKUP(DY39,MATCHSELEVES!$Y$14:$AE$600,3,FALSE),0)","v":0},{"$f":"IFERROR(VLOOKUP(DY39,MATCHSELEVES!$Y$14:$AE$600,4,FALSE),0)","v":0},{"$f":"IFERROR(VLOOKUP(DY39,MATCHSELEVES!$Y$14:$AE$600,5,FALSE),0)","v":0},{"$f":"IFERROR(VLOOKUP(DY39,MATCHSELEVES!$Y$14:$AF$600,8,FALSE),0)","v":0},{"$f":"IFERROR(VLOOKUP(DY39,MATCHSELEVES!$Y$14:$AG$600,9,FALSE),0)","v":0},"Yasna_20",{"$f":"IFERROR(VLOOKUP(EE39,MATCHSELEVES!$Y$14:$AE$600,3,FALSE),0)","v":0},{"$f":"IFERROR(VLOOKUP(EE39,MATCHSELEVES!$Y$14:$AE$600,4,FALSE),0)","v":0},{"$f":"IFERROR(VLOOKUP(EE39,MATCHSELEVES!$Y$14:$AE$600,5,FALSE),0)","v":0},{"$f":"IFERROR(VLOOKUP(EE39,MATCHSELEVES!$Y$14:$AF$600,8,FALSE),0)","v":0},{"$f":"IFERROR(VLOOKUP(EE39,MATCHSELEVES!$Y$14:$AG$600,9,FALSE),0)","v":0},"Yasna_21",{"$f":"IFERROR(VLOOKUP(EK39,MATCHSELEVES!$Y$14:$AE$600,3,FALSE),0)","v":0},{"$f":"IFERROR(VLOOKUP(EK39,MATCHSELEVES!$Y$14:$AE$600,4,FALSE),0)","v":0},{"$f":"IFERROR(VLOOKUP(EK39,MATCHSELEVES!$Y$14:$AE$600,5,FALSE),0)","v":0},{"$f":"IFERROR(VLOOKUP(EK39,MATCHSELEVES!$Y$14:$AF$600,8,FALSE),0)","v":0},{"$f":"IFERROR(VLOOKUP(EK39,MATCHSELEVES!$Y$14:$AG$600,9,FALSE),0)","v":0},"Yasna_22",{"$f":"IFERROR(VLOOKUP(EQ39,MATCHSELEVES!$Y$14:$AE$600,3,FALSE),0)","v":0},{"$f":"IFERROR(VLOOKUP(EQ39,MATCHSELEVES!$Y$14:$AE$600,4,FALSE),0)","v":0},{"$f":"IFERROR(VLOOKUP(EQ39,MATCHSELEVES!$Y$14:$AE$600,5,FALSE),0)","v":0},{"$f":"IFERROR(VLOOKUP(EQ39,MATCHSELEVES!$Y$14:$AF$600,8,FALSE),0)","v":0},{"$f":"IFERROR(VLOOKUP(EQ39,MATCHSELEVES!$Y$14:$AG$600,9,FALSE),0)","v":0},"Yasna_23",{"$f":"IFERROR(VLOOKUP(EW39,MATCHSELEVES!$Y$14:$AE$600,3,FALSE),0)","v":0},{"$f":"IFERROR(VLOOKUP(EW39,MATCHSELEVES!$Y$14:$AE$600,4,FALSE),0)","v":0},{"$f":"IFERROR(VLOOKUP(EW39,MATCHSELEVES!$Y$14:$AE$600,5,FALSE),0)","v":0},{"$f":"IFERROR(VLOOKUP(EW39,MATCHSELEVES!$Y$14:$AF$600,8,FALSE),0)","v":0},{"$f":"IFERROR(VLOOKUP(EW39,MATCHSELEVES!$Y$14:$AG$600,9,FALSE),0)","v":0},"Yasna_24",{"$f":"IFERROR(VLOOKUP(FC39,MATCHSELEVES!$Y$14:$AE$600,3,FALSE),0)","v":0},{"$f":"IFERROR(VLOOKUP(FC39,MATCHSELEVES!$Y$14:$AE$600,4,FALSE),0)","v":0},{"$f":"IFERROR(VLOOKUP(FC39,MATCHSELEVES!$Y$14:$AE$600,5,FALSE),0)","v":0},{"$f":"IFERROR(VLOOKUP(FC39,MATCHSELEVES!$Y$14:$AF$600,8,FALSE),0)","v":0},{"$f":"IFERROR(VLOOKUP(FC39,MATCHSELEVES!$Y$14:$AG$600,9,FALSE),0)","v":0},"Yasna_25",{"$f":"IFERROR(VLOOKUP(FI39,MATCHSELEVES!$Y$14:$AE$600,3,FALSE),0)","v":0},{"$f":"IFERROR(VLOOKUP(FI39,MATCHSELEVES!$Y$14:$AE$600,4,FALSE),0)","v":0},{"$f":"IFERROR(VLOOKUP(FI39,MATCHSELEVES!$Y$14:$AE$600,5,FALSE),0)","v":0},{"$f":"IFERROR(VLOOKUP(FI39,MATCHSELEVES!$Y$14:$AF$600,8,FALSE),0)","v":0},{"$f":"IFERROR(VLOOKUP(FI39,MATCHSELEVES!$Y$14:$AG$600,9,FALSE),0)","v":0},"Yasna_26",{"$f":"IFERROR(VLOOKUP(FO39,MATCHSELEVES!$Y$14:$AE$600,3,FALSE),0)","v":0},{"$f":"IFERROR(VLOOKUP(FO39,MATCHSELEVES!$Y$14:$AE$600,4,FALSE),0)","v":0},{"$f":"IFERROR(VLOOKUP(FO39,MATCHSELEVES!$Y$14:$AE$600,5,FALSE),0)","v":0},{"$f":"IFERROR(VLOOKUP(FO39,MATCHSELEVES!$Y$14:$AF$600,8,FALSE),0)","v":0},{"$f":"IFERROR(VLOOKUP(FO39,MATCHSELEVES!$Y$14:$AG$600,9,FALSE),0)","v":0},"Yasna_27",{"$f":"IFERROR(VLOOKUP(FU39,MATCHSELEVES!$Y$14:$AE$600,3,FALSE),0)","v":0},{"$f":"IFERROR(VLOOKUP(FU39,MATCHSELEVES!$Y$14:$AE$600,4,FALSE),0)","v":0},{"$f":"IFERROR(VLOOKUP(FU39,MATCHSELEVES!$Y$14:$AE$600,5,FALSE),0)","v":0},{"$f":"IFERROR(VLOOKUP(FU39,MATCHSELEVES!$Y$14:$AF$600,8,FALSE),0)","v":0},{"$f":"IFERROR(VLOOKUP(FU39,MATCHSELEVES!$Y$14:$AG$600,9,FALSE),0)","v":0},"Yasna_28",{"$f":"IFERROR(VLOOKUP(GA39,MATCHSELEVES!$Y$14:$AE$600,3,FALSE),0)","v":0},{"$f":"IFERROR(VLOOKUP(GA39,MATCHSELEVES!$Y$14:$AE$600,4,FALSE),0)","v":0},{"$f":"IFERROR(VLOOKUP(GA39,MATCHSELEVES!$Y$14:$AE$600,5,FALSE),0)","v":0},{"$f":"IFERROR(VLOOKUP(GA39,MATCHSELEVES!$Y$14:$AF$600,8,FALSE),0)","v":0},{"$f":"IFERROR(VLOOKUP(GA39,MATCHSELEVES!$Y$14:$AG$600,9,FALSE),0)","v":0},"Yasna_29",{"$f":"IFERROR(VLOOKUP(GG39,MATCHSELEVES!$Y$14:$AE$600,3,FALSE),0)","v":0},{"$f":"IFERROR(VLOOKUP(GG39,MATCHSELEVES!$Y$14:$AE$600,4,FALSE),0)","v":0},{"$f":"IFERROR(VLOOKUP(GG39,MATCHSELEVES!$Y$14:$AE$600,5,FALSE),0)","v":0},{"$f":"IFERROR(VLOOKUP(GG39,MATCHSELEVES!$Y$14:$AF$600,8,FALSE),0)","v":0},{"$f":"IFERROR(VLOOKUP(GG39,MATCHSELEVES!$Y$14:$AG$600,9,FALSE),0)","v":0},"Yasna_30",{"$f":"IFERROR(VLOOKUP(GM39,MATCHSELEVES!$Y$14:$AE$600,3,FALSE),0)","v":0},{"$f":"IFERROR(VLOOKUP(GM39,MATCHSELEVES!$Y$14:$AE$600,4,FALSE),0)","v":0},{"$f":"IFERROR(VLOOKUP(GM39,MATCHSELEVES!$Y$14:$AE$600,5,FALSE),0)","v":0},{"$f":"IFERROR(VLOOKUP(GM39,MATCHSELEVES!$Y$14:$AF$600,8,FALSE),0)","v":0},{"$f":"IFERROR(VLOOKUP(GM39,MATCHSELEVES!$Y$14:$AG$600,9,FALSE),0)","v":0},"Yasna_31",{"$f":"IFERROR(VLOOKUP(GS39,MATCHSELEVES!$Y$14:$AE$600,3,FALSE),0)","v":0},{"$f":"IFERROR(VLOOKUP(GS39,MATCHSELEVES!$Y$14:$AE$600,4,FALSE),0)","v":0},{"$f":"IFERROR(VLOOKUP(GS39,MATCHSELEVES!$Y$14:$AE$600,5,FALSE),0)","v":0},{"$f":"IFERROR(VLOOKUP(GS39,MATCHSELEVES!$Y$14:$AF$600,8,FALSE),0)","v":0},{"$f":"IFERROR(VLOOKUP(GS39,MATCHSELEVES!$Y$14:$AG$600,9,FALSE),0)","v":0},"Yasna_32",{"$f":"IFERROR(VLOOKUP(GY39,MATCHSELEVES!$Y$14:$AE$600,3,FALSE),0)","v":0},{"$f":"IFERROR(VLOOKUP(GY39,MATCHSELEVES!$Y$14:$AE$600,4,FALSE),0)","v":0},{"$f":"IFERROR(VLOOKUP(GY39,MATCHSELEVES!$Y$14:$AE$600,5,FALSE),0)","v":0},{"$f":"IFERROR(VLOOKUP(GY39,MATCHSELEVES!$Y$14:$AF$600,8,FALSE),0)","v":0},{"$f":"IFERROR(VLOOKUP(GY39,MATCHSELEVES!$Y$14:$AG$600,9,FALSE),0)","v":0},"Yasna_33",{"$f":"IFERROR(VLOOKUP(HE39,MATCHSELEVES!$Y$14:$AE$600,3,FALSE),0)","v":0},{"$f":"IFERROR(VLOOKUP(HE39,MATCHSELEVES!$Y$14:$AE$600,4,FALSE),0)","v":0},{"$f":"IFERROR(VLOOKUP(HE39,MATCHSELEVES!$Y$14:$AE$600,5,FALSE),0)","v":0},{"$f":"IFERROR(VLOOKUP(HE39,MATCHSELEVES!$Y$14:$AF$600,8,FALSE),0)","v":0},{"$f":"IFERROR(VLOOKUP(HE39,MATCHSELEVES!$Y$14:$AG$600,9,FALSE),0)","v":0},"Yasna_34",{"$f":"IFERROR(VLOOKUP(HK39,MATCHSELEVES!$Y$14:$AE$600,3,FALSE),0)","v":0},{"$f":"IFERROR(VLOOKUP(HK39,MATCHSELEVES!$Y$14:$AE$600,4,FALSE),0)","v":0},{"$f":"IFERROR(VLOOKUP(HK39,MATCHSELEVES!$Y$14:$AE$600,5,FALSE),0)","v":0},{"$f":"IFERROR(VLOOKUP(HK39,MATCHSELEVES!$Y$14:$AF$600,8,FALSE),0)","v":0},{"$f":"IFERROR(VLOOKUP(HK39,MATCHSELEVES!$Y$14:$AG$600,9,FALSE),0)","v":0},"Yasna_35",{"$f":"IFERROR(VLOOKUP(HQ39,MATCHSELEVES!$Y$14:$AE$600,3,FALSE),0)","v":0},{"$f":"IFERROR(VLOOKUP(HQ39,MATCHSELEVES!$Y$14:$AE$600,4,FALSE),0)","v":0},{"$f":"IFERROR(VLOOKUP(HQ39,MATCHSELEVES!$Y$14:$AE$600,5,FALSE),0)","v":0},{"$f":"IFERROR(VLOOKUP(HQ39,MATCHSELEVES!$Y$14:$AF$600,8,FALSE),0)","v":0},{"$f":"IFERROR(VLOOKUP(HQ39,MATCHSELEVES!$Y$14:$AG$600,9,FALSE),0)","v":0},"Yasna_36",{"$f":"IFERROR(VLOOKUP(HW39,MATCHSELEVES!$Y$14:$AE$600,3,FALSE),0)","v":0},{"$f":"IFERROR(VLOOKUP(HW39,MATCHSELEVES!$Y$14:$AE$600,4,FALSE),0)","v":0},{"$f":"IFERROR(VLOOKUP(HW39,MATCHSELEVES!$Y$14:$AE$600,5,FALSE),0)","v":0},{"$f":"IFERROR(VLOOKUP(HW39,MATCHSELEVES!$Y$14:$AF$600,8,FALSE),0)","v":0},{"$f":"IFERROR(VLOOKUP(HW39,MATCHSELEVES!$Y$14:$AG$600,9,FALSE),0)","v":0},"Yasna_37",{"$f":"IFERROR(VLOOKUP(IC39,MATCHSELEVES!$Y$14:$AE$600,3,FALSE),0)","v":0},{"$f":"IFERROR(VLOOKUP(IC39,MATCHSELEVES!$Y$14:$AE$600,4,FALSE),0)","v":0},{"$f":"IFERROR(VLOOKUP(IC39,MATCHSELEVES!$Y$14:$AE$600,5,FALSE),0)","v":0},{"$f":"IFERROR(VLOOKUP(IC39,MATCHSELEVES!$Y$14:$AF$600,8,FALSE),0)","v":0},{"$f":"IFERROR(VLOOKUP(IC39,MATCHSELEVES!$Y$14:$AG$600,9,FALSE),0)","v":0},"Yasna_38",{"$f":"IFERROR(VLOOKUP(II39,MATCHSELEVES!$Y$14:$AE$600,3,FALSE),0)","v":0},{"$f":"IFERROR(VLOOKUP(II39,MATCHSELEVES!$Y$14:$AE$600,4,FALSE),0)","v":0},{"$f":"IFERROR(VLOOKUP(II39,MATCHSELEVES!$Y$14:$AE$600,5,FALSE),0)","v":0},{"$f":"IFERROR(VLOOKUP(II39,MATCHSELEVES!$Y$14:$AF$600,8,FALSE),0)","v":0},{"$f":"IFERROR(VLOOKUP(II39,MATCHSELEVES!$Y$14:$AG$600,9,FALSE),0)","v":0},"Yasna_39",{"$f":"IFERROR(VLOOKUP(IO39,MATCHSELEVES!$Y$14:$AE$600,3,FALSE),0)","v":0},{"$f":"IFERROR(VLOOKUP(IO39,MATCHSELEVES!$Y$14:$AE$600,4,FALSE),0)","v":0},{"$f":"IFERROR(VLOOKUP(IO39,MATCHSELEVES!$Y$14:$AE$600,5,FALSE),0)","v":0},{"$f":"IFERROR(VLOOKUP(IO39,MATCHSELEVES!$Y$14:$AF$600,8,FALSE),0)","v":0},{"$f":"IFERROR(VLOOKUP(IO39,MATCHSELEVES!$Y$14:$AG$600,9,FALSE),0)","v":0},"Yasna_40",{"$f":"IFERROR(VLOOKUP(IU39,MATCHSELEVES!$Y$14:$AE$600,3,FALSE),0)","v":0},{"$f":"IFERROR(VLOOKUP(IU39,MATCHSELEVES!$Y$14:$AE$600,4,FALSE),0)","v":0},{"$f":"IFERROR(VLOOKUP(IU39,MATCHSELEVES!$Y$14:$AE$600,5,FALSE),0)","v":0},{"$f":"IFERROR(VLOOKUP(IU39,MATCHSELEVES!$Y$14:$AF$600,8,FALSE),0)","v":0},{"$f":"IFERROR(VLOOKUP(IU39,MATCHSELEVES!$Y$14:$AG$600,9,FALSE),0)","v":0},"Yasnap_1",{"$f":"IFERROR(VLOOKUP(JA39,MATCHSELEVES!$Y$14:$AE$600,3,FALSE),0)","v":0},{"$f":"IFERROR(VLOOKUP(JA39,MATCHSELEVES!$Y$14:$AE$600,4,FALSE),0)","v":0},{"$f":"IFERROR(VLOOKUP(JA39,MATCHSELEVES!$Y$14:$AE$600,5,FALSE),0)","v":0},{"$f":"IFERROR(VLOOKUP(JA39,MATCHSELEVES!$Y$14:$AF$600,8,FALSE),0)","v":0},{"$f":"IFERROR(VLOOKUP(JA39,MATCHSELEVES!$Y$14:$AG$600,9,FALSE),0)","v":0},"Yasnap_2",{"$f":"IFERROR(VLOOKUP(JG39,MATCHSELEVES!$Y$14:$AE$600,3,FALSE),0)","v":0},{"$f":"IFERROR(VLOOKUP(JG39,MATCHSELEVES!$Y$14:$AE$600,4,FALSE),0)","v":0},{"$f":"IFERROR(VLOOKUP(JG39,MATCHSELEVES!$Y$14:$AE$600,5,FALSE),0)","v":0},{"$f":"IFERROR(VLOOKUP(JG39,MATCHSELEVES!$Y$14:$AF$600,8,FALSE),0)","v":0},{"$f":"IFERROR(VLOOKUP(JG39,MATCHSELEVES!$Y$14:$AG$600,9,FALSE),0)","v":0},"Yasnap_3",{"$f":"IFERROR(VLOOKUP(JM39,MATCHSELEVES!$Y$14:$AE$600,3,FALSE),0)","v":0},{"$f":"IFERROR(VLOOKUP(JM39,MATCHSELEVES!$Y$14:$AE$600,4,FALSE),0)","v":0},{"$f":"IFERROR(VLOOKUP(JM39,MATCHSELEVES!$Y$14:$AE$600,5,FALSE),0)","v":0},{"$f":"IFERROR(VLOOKUP(JM39,MATCHSELEVES!$Y$14:$AF$600,8,FALSE),0)","v":0},{"$f":"IFERROR(VLOOKUP(JM39,MATCHSELEVES!$Y$14:$AG$600,9,FALSE),0)","v":0},"Yasnap_4",{"$f":"IFERROR(VLOOKUP(JS39,MATCHSELEVES!$Y$14:$AE$600,3,FALSE),0)","v":0},{"$f":"IFERROR(VLOOKUP(JS39,MATCHSELEVES!$Y$14:$AE$600,4,FALSE),0)","v":0},{"$f":"IFERROR(VLOOKUP(JS39,MATCHSELEVES!$Y$14:$AE$600,5,FALSE),0)","v":0},{"$f":"IFERROR(VLOOKUP(JS39,MATCHSELEVES!$Y$14:$AF$600,8,FALSE),0)","v":0},{"$f":"IFERROR(VLOOKUP(JS39,MATCHSELEVES!$Y$14:$AG$600,9,FALSE),0)","v":0},"Yasnap_5",{"$f":"IFERROR(VLOOKUP(JY39,MATCHSELEVES!$Y$14:$AE$600,3,FALSE),0)","v":0},{"$f":"IFERROR(VLOOKUP(JY39,MATCHSELEVES!$Y$14:$AE$600,4,FALSE),0)","v":0},{"$f":"IFERROR(VLOOKUP(JY39,MATCHSELEVES!$Y$14:$AE$600,5,FALSE),0)","v":0},{"$f":"IFERROR(VLOOKUP(JY39,MATCHSELEVES!$Y$14:$AF$600,8,FALSE),0)","v":0},{"$f":"IFERROR(VLOOKUP(JY39,MATCHSELEVES!$Y$14:$AG$600,9,FALSE),0)","v":0},"Yasnap_6",{"$f":"IFERROR(VLOOKUP(KE39,MATCHSELEVES!$Y$14:$AE$600,3,FALSE),0)","v":0},{"$f":"IFERROR(VLOOKUP(KE39,MATCHSELEVES!$Y$14:$AE$600,4,FALSE),0)","v":0},{"$f":"IFERROR(VLOOKUP(KE39,MATCHSELEVES!$Y$14:$AE$600,5,FALSE),0)","v":0},{"$f":"IFERROR(VLOOKUP(KE39,MATCHSELEVES!$Y$14:$AF$600,8,FALSE),0)","v":0},{"$f":"IFERROR(VLOOKUP(KE39,MATCHSELEVES!$Y$14:$AG$600,9,FALSE),0)","v":0},"Yasnap_7",{"$f":"IFERROR(VLOOKUP(KK39,MATCHSELEVES!$Y$14:$AE$600,3,FALSE),0)","v":0},{"$f":"IFERROR(VLOOKUP(KK39,MATCHSELEVES!$Y$14:$AE$600,4,FALSE),0)","v":0},{"$f":"IFERROR(VLOOKUP(KK39,MATCHSELEVES!$Y$14:$AE$600,5,FALSE),0)","v":0},{"$f":"IFERROR(VLOOKUP(KK39,MATCHSELEVES!$Y$14:$AF$600,8,FALSE),0)","v":0},{"$f":"IFERROR(VLOOKUP(KK39,MATCHSELEVES!$Y$14:$AG$600,9,FALSE),0)","v":0},"Yasnap_8",{"$f":"IFERROR(VLOOKUP(KQ39,MATCHSELEVES!$Y$14:$AE$600,3,FALSE),0)","v":0},{"$f":"IFERROR(VLOOKUP(KQ39,MATCHSELEVES!$Y$14:$AE$600,4,FALSE),0)","v":0},{"$f":"IFERROR(VLOOKUP(KQ39,MATCHSELEVES!$Y$14:$AE$600,5,FALSE),0)","v":0},{"$f":"IFERROR(VLOOKUP(KQ39,MATCHSELEVES!$Y$14:$AF$600,8,FALSE),0)","v":0},{"$f":"IFERROR(VLOOKUP(KQ39,MATCHSELEVES!$Y$14:$AG$600,9,FALSE),0)","v":0},"Yasnap_9",{"$f":"IFERROR(VLOOKUP(KW39,MATCHSELEVES!$Y$14:$AE$600,3,FALSE),0)","v":0},{"$f":"IFERROR(VLOOKUP(KW39,MATCHSELEVES!$Y$14:$AE$600,4,FALSE),0)","v":0},{"$f":"IFERROR(VLOOKUP(KW39,MATCHSELEVES!$Y$14:$AE$600,5,FALSE),0)","v":0},{"$f":"IFERROR(VLOOKUP(KW39,MATCHSELEVES!$Y$14:$AF$600,8,FALSE),0)","v":0},{"$f":"IFERROR(VLOOKUP(KW39,MATCHSELEVES!$Y$14:$AG$600,9,FALSE),0)","v":0},"Yasnap_10",{"$f":"IFERROR(VLOOKUP(LC39,MATCHSELEVES!$Y$14:$AE$600,3,FALSE),0)","v":0},{"$f":"IFERROR(VLOOKUP(LC39,MATCHSELEVES!$Y$14:$AE$600,4,FALSE),0)","v":0},{"$f":"IFERROR(VLOOKUP(LC39,MATCHSELEVES!$Y$14:$AE$600,5,FALSE),0)","v":0},{"$f":"IFERROR(VLOOKUP(LC39,MATCHSELEVES!$Y$14:$AF$600,8,FALSE),0)","v":0},{"$f":"IFERROR(VLOOKUP(LC39,MATCHSELEVES!$Y$14:$AG$600,9,FALSE),0)","v":0},"Yasnap_11",{"$f":"IFERROR(VLOOKUP(LI39,MATCHSELEVES!$Y$14:$AE$600,3,FALSE),0)","v":0},{"$f":"IFERROR(VLOOKUP(LI39,MATCHSELEVES!$Y$14:$AE$600,4,FALSE),0)","v":0},{"$f":"IFERROR(VLOOKUP(LI39,MATCHSELEVES!$Y$14:$AE$600,5,FALSE),0)","v":0},{"$f":"IFERROR(VLOOKUP(LI39,MATCHSELEVES!$Y$14:$AF$600,8,FALSE),0)","v":0},{"$f":"IFERROR(VLOOKUP(LI39,MATCHSELEVES!$Y$14:$AG$600,9,FALSE),0)","v":0},"Yasnap_12",{"$f":"IFERROR(VLOOKUP(LO39,MATCHSELEVES!$Y$14:$AE$600,3,FALSE),0)","v":0},{"$f":"IFERROR(VLOOKUP(LO39,MATCHSELEVES!$Y$14:$AE$600,4,FALSE),0)","v":0},{"$f":"IFERROR(VLOOKUP(LO39,MATCHSELEVES!$Y$14:$AE$600,5,FALSE),0)","v":0},{"$f":"IFERROR(VLOOKUP(LO39,MATCHSELEVES!$Y$14:$AF$600,8,FALSE),0)","v":0},{"$f":"IFERROR(VLOOKUP(LO39,MATCHSELEVES!$Y$14:$AG$600,9,FALSE),0)","v":0},"Yasnap_13",{"$f":"IFERROR(VLOOKUP(LU39,MATCHSELEVES!$Y$14:$AE$600,3,FALSE),0)","v":0},{"$f":"IFERROR(VLOOKUP(LU39,MATCHSELEVES!$Y$14:$AE$600,4,FALSE),0)","v":0},{"$f":"IFERROR(VLOOKUP(LU39,MATCHSELEVES!$Y$14:$AE$600,5,FALSE),0)","v":0},{"$f":"IFERROR(VLOOKUP(LU39,MATCHSELEVES!$Y$14:$AF$600,8,FALSE),0)","v":0},{"$f":"IFERROR(VLOOKUP(LU39,MATCHSELEVES!$Y$14:$AG$600,9,FALSE),0)","v":0},"Yasnap_14",{"$f":"IFERROR(VLOOKUP(MA39,MATCHSELEVES!$Y$14:$AE$600,3,FALSE),0)","v":0},{"$f":"IFERROR(VLOOKUP(MA39,MATCHSELEVES!$Y$14:$AE$600,4,FALSE),0)","v":0},{"$f":"IFERROR(VLOOKUP(MA39,MATCHSELEVES!$Y$14:$AE$600,5,FALSE),0)","v":0},{"$f":"IFERROR(VLOOKUP(MA39,MATCHSELEVES!$Y$14:$AF$600,8,FALSE),0)","v":0},{"$f":"IFERROR(VLOOKUP(MA39,MATCHSELEVES!$Y$14:$AG$600,9,FALSE),0)","v":0},"Yasnap_15",{"$f":"IFERROR(VLOOKUP(MG39,MATCHSELEVES!$Y$14:$AE$600,3,FALSE),0)","v":0},{"$f":"IFERROR(VLOOKUP(MG39,MATCHSELEVES!$Y$14:$AE$600,4,FALSE),0)","v":0},{"$f":"IFERROR(VLOOKUP(MG39,MATCHSELEVES!$Y$14:$AE$600,5,FALSE),0)","v":0},{"$f":"IFERROR(VLOOKUP(MG39,MATCHSELEVES!$Y$14:$AF$600,8,FALSE),0)","v":0},{"$f":"IFERROR(VLOOKUP(MG39,MATCHSELEVES!$Y$14:$AG$600,9,FALSE),0)","v":0},"Yasnap_16",{"$f":"IFERROR(VLOOKUP(MM39,MATCHSELEVES!$Y$14:$AE$600,3,FALSE),0)","v":0},{"$f":"IFERROR(VLOOKUP(MM39,MATCHSELEVES!$Y$14:$AE$600,4,FALSE),0)","v":0},{"$f":"IFERROR(VLOOKUP(MM39,MATCHSELEVES!$Y$14:$AE$600,5,FALSE),0)","v":0},{"$f":"IFERROR(VLOOKUP(MM39,MATCHSELEVES!$Y$14:$AF$600,8,FALSE),0)","v":0},{"$f":"IFERROR(VLOOKUP(MM39,MATCHSELEVES!$Y$14:$AG$600,9,FALSE),0)","v":0},"Yasnap_17",{"$f":"IFERROR(VLOOKUP(MS39,MATCHSELEVES!$Y$14:$AE$600,3,FALSE),0)","v":0},{"$f":"IFERROR(VLOOKUP(MS39,MATCHSELEVES!$Y$14:$AE$600,4,FALSE),0)","v":0},{"$f":"IFERROR(VLOOKUP(MS39,MATCHSELEVES!$Y$14:$AE$600,5,FALSE),0)","v":0},{"$f":"IFERROR(VLOOKUP(MS39,MATCHSELEVES!$Y$14:$AF$600,8,FALSE),0)","v":0},{"$f":"IFERROR(VLOOKUP(MS39,MATCHSELEVES!$Y$14:$AG$600,9,FALSE),0)","v":0},"Yasnap_18",{"$f":"IFERROR(VLOOKUP(MY39,MATCHSELEVES!$Y$14:$AE$600,3,FALSE),0)","v":0},{"$f":"IFERROR(VLOOKUP(MY39,MATCHSELEVES!$Y$14:$AE$600,4,FALSE),0)","v":0},{"$f":"IFERROR(VLOOKUP(MY39,MATCHSELEVES!$Y$14:$AE$600,5,FALSE),0)","v":0},{"$f":"IFERROR(VLOOKUP(MY39,MATCHSELEVES!$Y$14:$AF$600,8,FALSE),0)","v":0},{"$f":"IFERROR(VLOOKUP(MY39,MATCHSELEVES!$Y$14:$AG$600,9,FALSE),0)","v":0},"Yasnap_19",{"$f":"IFERROR(VLOOKUP(NE39,MATCHSELEVES!$Y$14:$AE$600,3,FALSE),0)","v":0},{"$f":"IFERROR(VLOOKUP(NE39,MATCHSELEVES!$Y$14:$AE$600,4,FALSE),0)","v":0},{"$f":"IFERROR(VLOOKUP(NE39,MATCHSELEVES!$Y$14:$AE$600,5,FALSE),0)","v":0},{"$f":"IFERROR(VLOOKUP(NE39,MATCHSELEVES!$Y$14:$AF$600,8,FALSE),0)","v":0},{"$f":"IFERROR(VLOOKUP(NE39,MATCHSELEVES!$Y$14:$AG$600,9,FALSE),0)","v":0},"Yasnap_20",{"$f":"IFERROR(VLOOKUP(NK39,MATCHSELEVES!$Y$14:$AE$600,3,FALSE),0)","v":0},{"$f":"IFERROR(VLOOKUP(NK39,MATCHSELEVES!$Y$14:$AE$600,4,FALSE),0)","v":0},{"$f":"IFERROR(VLOOKUP(NK39,MATCHSELEVES!$Y$14:$AE$600,5,FALSE),0)","v":0},{"$f":"IFERROR(VLOOKUP(NK39,MATCHSELEVES!$Y$14:$AF$600,8,FALSE),0)","v":0},{"$f":"IFERROR(VLOOKUP(NK39,MATCHSELEVES!$Y$14:$AG$600,9,FALSE),0)","v":0},"Yasnap_21",{"$f":"IFERROR(VLOOKUP(NQ39,MATCHSELEVES!$Y$14:$AE$600,3,FALSE),0)","v":0},{"$f":"IFERROR(VLOOKUP(NQ39,MATCHSELEVES!$Y$14:$AE$600,4,FALSE),0)","v":0},{"$f":"IFERROR(VLOOKUP(NQ39,MATCHSELEVES!$Y$14:$AE$600,5,FALSE),0)","v":0},{"$f":"IFERROR(VLOOKUP(NQ39,MATCHSELEVES!$Y$14:$AF$600,8,FALSE),0)","v":0},{"$f":"IFERROR(VLOOKUP(NQ39,MATCHSELEVES!$Y$14:$AG$600,9,FALSE),0)","v":0},"Yasnap_22",{"$f":"IFERROR(VLOOKUP(NW39,MATCHSELEVES!$Y$14:$AE$600,3,FALSE),0)","v":0},{"$f":"IFERROR(VLOOKUP(NW39,MATCHSELEVES!$Y$14:$AE$600,4,FALSE),0)","v":0},{"$f":"IFERROR(VLOOKUP(NW39,MATCHSELEVES!$Y$14:$AE$600,5,FALSE),0)","v":0},{"$f":"IFERROR(VLOOKUP(NW39,MATCHSELEVES!$Y$14:$AF$600,8,FALSE),0)","v":0},{"$f":"IFERROR(VLOOKUP(NW39,MATCHSELEVES!$Y$14:$AG$600,9,FALSE),0)","v":0},"Yasnap_23",{"$f":"IFERROR(VLOOKUP(OC39,MATCHSELEVES!$Y$14:$AE$600,3,FALSE),0)","v":0},{"$f":"IFERROR(VLOOKUP(OC39,MATCHSELEVES!$Y$14:$AE$600,4,FALSE),0)","v":0},{"$f":"IFERROR(VLOOKUP(OC39,MATCHSELEVES!$Y$14:$AE$600,5,FALSE),0)","v":0},{"$f":"IFERROR(VLOOKUP(OC39,MATCHSELEVES!$Y$14:$AF$600,8,FALSE),0)","v":0},{"$f":"IFERROR(VLOOKUP(OC39,MATCHSELEVES!$Y$14:$AG$600,9,FALSE),0)","v":0},"Yasnap_24",{"$f":"IFERROR(VLOOKUP(OI39,MATCHSELEVES!$Y$14:$AE$600,3,FALSE),0)","v":0},{"$f":"IFERROR(VLOOKUP(OI39,MATCHSELEVES!$Y$14:$AE$600,4,FALSE),0)","v":0},{"$f":"IFERROR(VLOOKUP(OI39,MATCHSELEVES!$Y$14:$AE$600,5,FALSE),0)","v":0},{"$f":"IFERROR(VLOOKUP(OI39,MATCHSELEVES!$Y$14:$AF$600,8,FALSE),0)","v":0},{"$f":"IFERROR(VLOOKUP(OI39,MATCHSELEVES!$Y$14:$AG$600,9,FALSE),0)","v":0},"Yasnap_25",{"$f":"IFERROR(VLOOKUP(OO39,MATCHSELEVES!$Y$14:$AE$600,3,FALSE),0)","v":0},{"$f":"IFERROR(VLOOKUP(OO39,MATCHSELEVES!$Y$14:$AE$600,4,FALSE),0)","v":0},{"$f":"IFERROR(VLOOKUP(OO39,MATCHSELEVES!$Y$14:$AE$600,5,FALSE),0)","v":0},{"$f":"IFERROR(VLOOKUP(OO39,MATCHSELEVES!$Y$14:$AF$600,8,FALSE),0)","v":0},{"$f":"IFERROR(VLOOKUP(OO39,MATCHSELEVES!$Y$14:$AG$600,9,FALSE),0)","v":0},"Yasnap_26",{"$f":"IFERROR(VLOOKUP(OU39,MATCHSELEVES!$Y$14:$AE$600,3,FALSE),0)","v":0},{"$f":"IFERROR(VLOOKUP(OU39,MATCHSELEVES!$Y$14:$AE$600,4,FALSE),0)","v":0},{"$f":"IFERROR(VLOOKUP(OU39,MATCHSELEVES!$Y$14:$AE$600,5,FALSE),0)","v":0},{"$f":"IFERROR(VLOOKUP(OU39,MATCHSELEVES!$Y$14:$AF$600,8,FALSE),0)","v":0},{"$f":"IFERROR(VLOOKUP(OU39,MATCHSELEVES!$Y$14:$AG$600,9,FALSE),0)","v":0},"Yasnap_27",{"$f":"IFERROR(VLOOKUP(PA39,MATCHSELEVES!$Y$14:$AE$600,3,FALSE),0)","v":0},{"$f":"IFERROR(VLOOKUP(PA39,MATCHSELEVES!$Y$14:$AE$600,4,FALSE),0)","v":0},{"$f":"IFERROR(VLOOKUP(PA39,MATCHSELEVES!$Y$14:$AE$600,5,FALSE),0)","v":0},{"$f":"IFERROR(VLOOKUP(PA39,MATCHSELEVES!$Y$14:$AF$600,8,FALSE),0)","v":0},{"$f":"IFERROR(VLOOKUP(PA39,MATCHSELEVES!$Y$14:$AG$600,9,FALSE),0)","v":0},"Yasnap_28",{"$f":"IFERROR(VLOOKUP(PG39,MATCHSELEVES!$Y$14:$AE$600,3,FALSE),0)","v":0},{"$f":"IFERROR(VLOOKUP(PG39,MATCHSELEVES!$Y$14:$AE$600,4,FALSE),0)","v":0},{"$f":"IFERROR(VLOOKUP(PG39,MATCHSELEVES!$Y$14:$AE$600,5,FALSE),0)","v":0},{"$f":"IFERROR(VLOOKUP(PG39,MATCHSELEVES!$Y$14:$AF$600,8,FALSE),0)","v":0},{"$f":"IFERROR(VLOOKUP(PG39,MATCHSELEVES!$Y$14:$AG$600,9,FALSE),0)","v":0},"Yasnap_29",{"$f":"IFERROR(VLOOKUP(PM39,MATCHSELEVES!$Y$14:$AE$600,3,FALSE),0)","v":0},{"$f":"IFERROR(VLOOKUP(PM39,MATCHSELEVES!$Y$14:$AE$600,4,FALSE),0)","v":0},{"$f":"IFERROR(VLOOKUP(PM39,MATCHSELEVES!$Y$14:$AE$600,5,FALSE),0)","v":0},{"$f":"IFERROR(VLOOKUP(PM39,MATCHSELEVES!$Y$14:$AF$600,8,FALSE),0)","v":0},{"$f":"IFERROR(VLOOKUP(PM39,MATCHSELEVES!$Y$14:$AG$600,9,FALSE),0)","v":0},"Yasnap_30",{"$f":"IFERROR(VLOOKUP(PS39,MATCHSELEVES!$Y$14:$AE$600,3,FALSE),0)","v":0},{"$f":"IFERROR(VLOOKUP(PS39,MATCHSELEVES!$Y$14:$AE$600,4,FALSE),0)","v":0},{"$f":"IFERROR(VLOOKUP(PS39,MATCHSELEVES!$Y$14:$AE$600,5,FALSE),0)","v":0},{"$f":"IFERROR(VLOOKUP(PS39,MATCHSELEVES!$Y$14:$AF$600,8,FALSE),0)","v":0},{"$f":"IFERROR(VLOOKUP(PS39,MATCHSELEVES!$Y$14:$AG$600,9,FALSE),0)","v":0},"Yasnap_31",{"$f":"IFERROR(VLOOKUP(PY39,MATCHSELEVES!$Y$14:$AE$600,3,FALSE),0)","v":0},{"$f":"IFERROR(VLOOKUP(PY39,MATCHSELEVES!$Y$14:$AE$600,4,FALSE),0)","v":0},{"$f":"IFERROR(VLOOKUP(PY39,MATCHSELEVES!$Y$14:$AE$600,5,FALSE),0)","v":0},{"$f":"IFERROR(VLOOKUP(PY39,MATCHSELEVES!$Y$14:$AF$600,8,FALSE),0)","v":0},{"$f":"IFERROR(VLOOKUP(PY39,MATCHSELEVES!$Y$14:$AG$600,9,FALSE),0)","v":0},"Yasnap_32",{"$f":"IFERROR(VLOOKUP(QE39,MATCHSELEVES!$Y$14:$AE$600,3,FALSE),0)","v":0},{"$f":"IFERROR(VLOOKUP(QE39,MATCHSELEVES!$Y$14:$AE$600,4,FALSE),0)","v":0},{"$f":"IFERROR(VLOOKUP(QE39,MATCHSELEVES!$Y$14:$AE$600,5,FALSE),0)","v":0},{"$f":"IFERROR(VLOOKUP(QE39,MATCHSELEVES!$Y$14:$AF$600,8,FALSE),0)","v":0},{"$f":"IFERROR(VLOOKUP(QE39,MATCHSELEVES!$Y$14:$AG$600,9,FALSE),0)","v":0},"Yasnap_33",{"$f":"IFERROR(VLOOKUP(QK39,MATCHSELEVES!$Y$14:$AE$600,3,FALSE),0)","v":0},{"$f":"IFERROR(VLOOKUP(QK39,MATCHSELEVES!$Y$14:$AE$600,4,FALSE),0)","v":0},{"$f":"IFERROR(VLOOKUP(QK39,MATCHSELEVES!$Y$14:$AE$600,5,FALSE),0)","v":0},{"$f":"IFERROR(VLOOKUP(QK39,MATCHSELEVES!$Y$14:$AF$600,8,FALSE),0)","v":0},{"$f":"IFERROR(VLOOKUP(QK39,MATCHSELEVES!$Y$14:$AG$600,9,FALSE),0)","v":0},"Yasnap_34",{"$f":"IFERROR(VLOOKUP(QQ39,MATCHSELEVES!$Y$14:$AE$600,3,FALSE),0)","v":0},{"$f":"IFERROR(VLOOKUP(QQ39,MATCHSELEVES!$Y$14:$AE$600,4,FALSE),0)","v":0},{"$f":"IFERROR(VLOOKUP(QQ39,MATCHSELEVES!$Y$14:$AE$600,5,FALSE),0)","v":0},{"$f":"IFERROR(VLOOKUP(QQ39,MATCHSELEVES!$Y$14:$AF$600,8,FALSE),0)","v":0},{"$f":"IFERROR(VLOOKUP(QQ39,MATCHSELEVES!$Y$14:$AG$600,9,FALSE),0)","v":0},"Yasnap_35",{"$f":"IFERROR(VLOOKUP(QW39,MATCHSELEVES!$Y$14:$AE$600,3,FALSE),0)","v":0},{"$f":"IFERROR(VLOOKUP(QW39,MATCHSELEVES!$Y$14:$AE$600,4,FALSE),0)","v":0},{"$f":"IFERROR(VLOOKUP(QW39,MATCHSELEVES!$Y$14:$AE$600,5,FALSE),0)","v":0},{"$f":"IFERROR(VLOOKUP(QW39,MATCHSELEVES!$Y$14:$AF$600,8,FALSE),0)","v":0},{"$f":"IFERROR(VLOOKUP(QW39,MATCHSELEVES!$Y$14:$AG$600,9,FALSE),0)","v":0},"Yasnap_36",{"$f":"IFERROR(VLOOKUP(RC39,MATCHSELEVES!$Y$14:$AE$600,3,FALSE),0)","v":0},{"$f":"IFERROR(VLOOKUP(RC39,MATCHSELEVES!$Y$14:$AE$600,4,FALSE),0)","v":0},{"$f":"IFERROR(VLOOKUP(RC39,MATCHSELEVES!$Y$14:$AE$600,5,FALSE),0)","v":0},{"$f":"IFERROR(VLOOKUP(RC39,MATCHSELEVES!$Y$14:$AF$600,8,FALSE),0)","v":0},{"$f":"IFERROR(VLOOKUP(RC39,MATCHSELEVES!$Y$14:$AG$600,9,FALSE),0)","v":0},"Yasnap_37",{"$f":"IFERROR(VLOOKUP(RI39,MATCHSELEVES!$Y$14:$AE$600,3,FALSE),0)","v":0},{"$f":"IFERROR(VLOOKUP(RI39,MATCHSELEVES!$Y$14:$AE$600,4,FALSE),0)","v":0},{"$f":"IFERROR(VLOOKUP(RI39,MATCHSELEVES!$Y$14:$AE$600,5,FALSE),0)","v":0},{"$f":"IFERROR(VLOOKUP(RI39,MATCHSELEVES!$Y$14:$AF$600,8,FALSE),0)","v":0},{"$f":"IFERROR(VLOOKUP(RI39,MATCHSELEVES!$Y$14:$AG$600,9,FALSE),0)","v":0},"Yasnap_38",{"$f":"IFERROR(VLOOKUP(RO39,MATCHSELEVES!$Y$14:$AE$600,3,FALSE),0)","v":0},{"$f":"IFERROR(VLOOKUP(RO39,MATCHSELEVES!$Y$14:$AE$600,4,FALSE),0)","v":0},{"$f":"IFERROR(VLOOKUP(RO39,MATCHSELEVES!$Y$14:$AE$600,5,FALSE),0)","v":0},{"$f":"IFERROR(VLOOKUP(RO39,MATCHSELEVES!$Y$14:$AF$600,8,FALSE),0)","v":0},{"$f":"IFERROR(VLOOKUP(RO39,MATCHSELEVES!$Y$14:$AG$600,9,FALSE),0)","v":0},"Yasnap_39",{"$f":"IFERROR(VLOOKUP(RU39,MATCHSELEVES!$Y$14:$AE$600,3,FALSE),0)","v":0},{"$f":"IFERROR(VLOOKUP(RU39,MATCHSELEVES!$Y$14:$AE$600,4,FALSE),0)","v":0},{"$f":"IFERROR(VLOOKUP(RU39,MATCHSELEVES!$Y$14:$AE$600,5,FALSE),0)","v":0},{"$f":"IFERROR(VLOOKUP(RU39,MATCHSELEVES!$Y$14:$AF$600,8,FALSE),0)","v":0},{"$f":"IFERROR(VLOOKUP(RU39,MATCHSELEVES!$Y$14:$AG$600,9,FALSE),0)","v":0},"Yasnap_40",{"$f":"IFERROR(VLOOKUP(SA39,MATCHSELEVES!$Y$14:$AE$600,3,FALSE),0)","v":0},{"$f":"IFERROR(VLOOKUP(SA39,MATCHSELEVES!$Y$14:$AE$600,4,FALSE),0)","v":0},{"$f":"IFERROR(VLOOKUP(SA39,MATCHSELEVES!$Y$14:$AE$600,5,FALSE),0)","v":0},{"$f":"IFERROR(VLOOKUP(SA39,MATCHSELEVES!$Y$14:$AF$600,8,FALSE),0)","v":0},{"$f":"IFERROR(VLOOKUP(SA39,MATCHSELEVES!$Y$14:$AG$600,9,FALSE),0)","v":0}]
[37,null,"zazi",37,null,null,{"$f":"COUNTIF(MATCHSELEVES!$Z$14:$Z$600,C40)+COUNTIF(MATCHSELEVES!$Z$14:$Z$600,$C40&\"p\")","v":0},{"$f":"RANK(G40,$G$4:$G$43)","v":1},{"$f":"COUNTIF(MATCHSELEVES!$F$14:$H$249,C40)","v":0},{"$f":"RANK(I40,$I$4:$I$43)","v":1},{"$f":"V40+AB40+AH40+AN40+AT40+AZ40+BF40+BL40+BX40+CD40+CJ40+CP40+CV40+DB40+DH40+DN40+DT40+DZ40+EF40+EL40+ER40+EX40+FD40+FJ40+FP40+FV40+GB40+GH40+GN40+GT40+GZ40+HF40+HL40+HR40+HX40+ID40+IJ40+IV40+JB40+JH40+JN40+JT40+JZ40+KF40+KL40+KR40+KX40+LD40+LJ40+LP40+LV40+MB40+MH40+MN40+MT40+MZ40+NF40+NL40+NX40+OD40+OJ40+OP40+OV40+PB40+PH40+PN40+PT40+PZ40+QF40+QL40+QR40+RD40+QX40+RJ40+RP40+RV40+SB40+BR40+IP40+NR40","v":0},{"$f":"RANK(K40,$K$4:$K$43)","v":1},{"$f":"IFERROR(M83/Tableau10[[#This Row],[Nombre de matchs joués]],0)","v":0},{"$f":"IF(Tableau10[[#This Row],[Nombre de points encaissés]]=0,$C$45,SUMPRODUCT((M$4:M$43<M40)*(M$4:M$43<>0))+1)","v":40},{"$f":"W40+AC40+AO40+AU40+BA40+BG40+BM40+BS40+BY40+CE40+CK40+CQ40+CW40+DC40+DI40+DO40+DU40+EA40+EM40+ES40+EY40+FE40+FK40+FQ40+FW40+GI40+GO40+GU40+HA40+HG40+HM40+HS40+HY40+IE40+IK40+IQ40+IW40+JC40+JI40+JO40+JU40+KA40+KG40+KM40+KS40+KY40+LE40+LK40+LQ40+LW40+MC40+MI40+MO40+MU40+NA40+NG40+NM40+NS40+NY40+OE40+OK40+OW40+PC40+OQ40+PO40+PI40+PU40+QA40+QG40+QM40+QS40+QY40+RK40+RQ40+RW40+SC40+AI40+EG40+GC40+RE40","v":0},{"$f":"RANK(O40,$O$4:$O$43)","v":1},{"$f":"(Tableau10[[#This Row],[CLASSEMENT1]]+Tableau10[[#This Row],[CLASSEMENT2]]+Tableau10[[#This Row],[CLASSEMENT3]]+Tableau10[[#This Row],[CLASSEMENT4]]+Tableau10[[#This Row],[CLASSEMENT5]]+Tableau10[[#This Row],[CLASSEMENT6]])/6","v":13.5},{"$f":"RANK(Tableau10[[#This Row],[MOYENNE CLASSEMENTS]],Tableau10[MOYENNE CLASSEMENTS],1)","v":37},null,{"$f":"Tableau10[[#This Row],[CLASSEMENT1]]","v":37},"zazi_1",{"$f":"IFERROR(VLOOKUP(U40,MATCHSELEVES!$Y$14:$AE$600,3,FALSE),0)","v":0},{"$f":"IFERROR(VLOOKUP(U40,MATCHSELEVES!$Y$14:$AE$600,4,FALSE),0)","v":0},{"$f":"IFERROR(VLOOKUP(U40,MATCHSELEVES!$Y$14:$AE$600,5,FALSE),0)","v":0},{"$f":"IFERROR(VLOOKUP(U40,MATCHSELEVES!$Y$14:$AF$600,8,FALSE),0)","v":0},{"$f":"IFERROR(VLOOKUP(U40,MATCHSELEVES!$Y$14:$AG$600,9,FALSE),0)","v":0},"zazi_2",{"$f":"IFERROR(VLOOKUP(AA40,MATCHSELEVES!$Y$14:$AE$600,3,FALSE),0)","v":0},{"$f":"IFERROR(VLOOKUP(AA40,MATCHSELEVES!$Y$14:$AE$600,4,FALSE),0)","v":0},{"$f":"IFERROR(VLOOKUP(AA40,MATCHSELEVES!$Y$14:$AE$600,5,FALSE),0)","v":0},{"$f":"IFERROR(VLOOKUP(AA40,MATCHSELEVES!$Y$14:$AF$600,8,FALSE),0)","v":0},{"$f":"IFERROR(VLOOKUP(AA40,MATCHSELEVES!$Y$14:$AG$600,9,FALSE),0)","v":0},"zazi_3",{"$f":"IFERROR(VLOOKUP(AG40,MATCHSELEVES!$Y$14:$AE$600,3,FALSE),0)","v":0},{"$f":"IFERROR(VLOOKUP(AG40,MATCHSELEVES!$Y$14:$AE$600,4,FALSE),0)","v":0},{"$f":"IFERROR(VLOOKUP(AG40,MATCHSELEVES!$Y$14:$AE$600,5,FALSE),0)","v":0},{"$f":"IFERROR(VLOOKUP(AG40,MATCHSELEVES!$Y$14:$AF$600,8,FALSE),0)","v":0},{"$f":"IFERROR(VLOOKUP(AG40,MATCHSELEVES!$Y$14:$AG$600,9,FALSE),0)","v":0},"zazi_4",{"$f":"IFERROR(VLOOKUP(AM40,MATCHSELEVES!$Y$14:$AE$600,3,FALSE),0)","v":0},{"$f":"IFERROR(VLOOKUP(AM40,MATCHSELEVES!$Y$14:$AE$600,4,FALSE),0)","v":0},{"$f":"IFERROR(VLOOKUP(AM40,MATCHSELEVES!$Y$14:$AE$600,5,FALSE),0)","v":0},{"$f":"IFERROR(VLOOKUP(AM40,MATCHSELEVES!$Y$14:$AF$600,8,FALSE),0)","v":0},{"$f":"IFERROR(VLOOKUP(AM40,MATCHSELEVES!$Y$14:$AG$600,9,FALSE),0)","v":0},"zazi_5",{"$f":"IFERROR(VLOOKUP(AS40,MATCHSELEVES!$Y$14:$AE$600,3,FALSE),0)","v":0},{"$f":"IFERROR(VLOOKUP(AS40,MATCHSELEVES!$Y$14:$AE$600,4,FALSE),0)","v":0},{"$f":"IFERROR(VLOOKUP(AS40,MATCHSELEVES!$Y$14:$AE$600,5,FALSE),0)","v":0},{"$f":"IFERROR(VLOOKUP(AS40,MATCHSELEVES!$Y$14:$AF$600,8,FALSE),0)","v":0},{"$f":"IFERROR(VLOOKUP(AS40,MATCHSELEVES!$Y$14:$AG$600,9,FALSE),0)","v":0},"zazi_6",{"$f":"IFERROR(VLOOKUP(AY40,MATCHSELEVES!$Y$14:$AE$600,3,FALSE),0)","v":0},{"$f":"IFERROR(VLOOKUP(AY40,MATCHSELEVES!$Y$14:$AE$600,4,FALSE),0)","v":0},{"$f":"IFERROR(VLOOKUP(AY40,MATCHSELEVES!$Y$14:$AE$600,5,FALSE),0)","v":0},{"$f":"IFERROR(VLOOKUP(AY40,MATCHSELEVES!$Y$14:$AF$600,8,FALSE),0)","v":0},{"$f":"IFERROR(VLOOKUP(AY40,MATCHSELEVES!$Y$14:$AG$600,9,FALSE),0)","v":0},"zazi_7",{"$f":"IFERROR(VLOOKUP(BE40,MATCHSELEVES!$Y$14:$AE$600,3,FALSE),0)","v":0},{"$f":"IFERROR(VLOOKUP(BE40,MATCHSELEVES!$Y$14:$AE$600,4,FALSE),0)","v":0},{"$f":"IFERROR(VLOOKUP(BE40,MATCHSELEVES!$Y$14:$AE$600,5,FALSE),0)","v":0},{"$f":"IFERROR(VLOOKUP(BE40,MATCHSELEVES!$Y$14:$AF$600,8,FALSE),0)","v":0},{"$f":"IFERROR(VLOOKUP(BE40,MATCHSELEVES!$Y$14:$AG$600,9,FALSE),0)","v":0},"zazi_8",{"$f":"IFERROR(VLOOKUP(BK40,MATCHSELEVES!$Y$14:$AE$600,3,FALSE),0)","v":0},{"$f":"IFERROR(VLOOKUP(BK40,MATCHSELEVES!$Y$14:$AE$600,4,FALSE),0)","v":0},{"$f":"IFERROR(VLOOKUP(BK40,MATCHSELEVES!$Y$14:$AE$600,5,FALSE),0)","v":0},{"$f":"IFERROR(VLOOKUP(BK40,MATCHSELEVES!$Y$14:$AF$600,8,FALSE),0)","v":0},{"$f":"IFERROR(VLOOKUP(BK40,MATCHSELEVES!$Y$14:$AG$600,9,FALSE),0)","v":0},"zazi_9",{"$f":"IFERROR(VLOOKUP(BQ40,MATCHSELEVES!$Y$14:$AE$600,3,FALSE),0)","v":0},{"$f":"IFERROR(VLOOKUP(BQ40,MATCHSELEVES!$Y$14:$AE$600,4,FALSE),0)","v":0},{"$f":"IFERROR(VLOOKUP(BQ40,MATCHSELEVES!$Y$14:$AE$600,5,FALSE),0)","v":0},{"$f":"IFERROR(VLOOKUP(BQ40,MATCHSELEVES!$Y$14:$AF$600,8,FALSE),0)","v":0},{"$f":"IFERROR(VLOOKUP(BQ40,MATCHSELEVES!$Y$14:$AG$600,9,FALSE),0)","v":0},"zazi_10",{"$f":"IFERROR(VLOOKUP(BW40,MATCHSELEVES!$Y$14:$AE$600,3,FALSE),0)","v":0},{"$f":"IFERROR(VLOOKUP(BW40,MATCHSELEVES!$Y$14:$AE$600,4,FALSE),0)","v":0},{"$f":"IFERROR(VLOOKUP(BW40,MATCHSELEVES!$Y$14:$AE$600,5,FALSE),0)","v":0},{"$f":"IFERROR(VLOOKUP(BW40,MATCHSELEVES!$Y$14:$AF$600,8,FALSE),0)","v":0},{"$f":"IFERROR(VLOOKUP(BW40,MATCHSELEVES!$Y$14:$AG$600,9,FALSE),0)","v":0},"zazi_11",{"$f":"IFERROR(VLOOKUP(CC40,MATCHSELEVES!$Y$14:$AE$600,3,FALSE),0)","v":0},{"$f":"IFERROR(VLOOKUP(CC40,MATCHSELEVES!$Y$14:$AE$600,4,FALSE),0)","v":0},{"$f":"IFERROR(VLOOKUP(CC40,MATCHSELEVES!$Y$14:$AE$600,5,FALSE),0)","v":0},{"$f":"IFERROR(VLOOKUP(CC40,MATCHSELEVES!$Y$14:$AF$600,8,FALSE),0)","v":0},{"$f":"IFERROR(VLOOKUP(CC40,MATCHSELEVES!$Y$14:$AG$600,9,FALSE),0)","v":0},"zazi_12",{"$f":"IFERROR(VLOOKUP(CI40,MATCHSELEVES!$Y$14:$AE$600,3,FALSE),0)","v":0},{"$f":"IFERROR(VLOOKUP(CI40,MATCHSELEVES!$Y$14:$AE$600,4,FALSE),0)","v":0},{"$f":"IFERROR(VLOOKUP(CI40,MATCHSELEVES!$Y$14:$AE$600,5,FALSE),0)","v":0},{"$f":"IFERROR(VLOOKUP(CI40,MATCHSELEVES!$Y$14:$AF$600,8,FALSE),0)","v":0},{"$f":"IFERROR(VLOOKUP(CI40,MATCHSELEVES!$Y$14:$AG$600,9,FALSE),0)","v":0},"zazi_13",{"$f":"IFERROR(VLOOKUP(CO40,MATCHSELEVES!$Y$14:$AE$600,3,FALSE),0)","v":0},{"$f":"IFERROR(VLOOKUP(CO40,MATCHSELEVES!$Y$14:$AE$600,4,FALSE),0)","v":0},{"$f":"IFERROR(VLOOKUP(CO40,MATCHSELEVES!$Y$14:$AE$600,5,FALSE),0)","v":0},{"$f":"IFERROR(VLOOKUP(CO40,MATCHSELEVES!$Y$14:$AF$600,8,FALSE),0)","v":0},{"$f":"IFERROR(VLOOKUP(CO40,MATCHSELEVES!$Y$14:$AG$600,9,FALSE),0)","v":0},"zazi_14",{"$f":"IFERROR(VLOOKUP(CU40,MATCHSELEVES!$Y$14:$AE$600,3,FALSE),0)","v":0},{"$f":"IFERROR(VLOOKUP(CU40,MATCHSELEVES!$Y$14:$AE$600,4,FALSE),0)","v":0},{"$f":"IFERROR(VLOOKUP(CU40,MATCHSELEVES!$Y$14:$AE$600,5,FALSE),0)","v":0},{"$f":"IFERROR(VLOOKUP(CU40,MATCHSELEVES!$Y$14:$AF$600,8,FALSE),0)","v":0},{"$f":"IFERROR(VLOOKUP(CU40,MATCHSELEVES!$Y$14:$AG$600,9,FALSE),0)","v":0},"zazi_15",{"$f":"IFERROR(VLOOKUP(DA40,MATCHSELEVES!$Y$14:$AE$600,3,FALSE),0)","v":0},{"$f":"IFERROR(VLOOKUP(DA40,MATCHSELEVES!$Y$14:$AE$600,4,FALSE),0)","v":0},{"$f":"IFERROR(VLOOKUP(DA40,MATCHSELEVES!$Y$14:$AE$600,5,FALSE),0)","v":0},{"$f":"IFERROR(VLOOKUP(DA40,MATCHSELEVES!$Y$14:$AF$600,8,FALSE),0)","v":0},{"$f":"IFERROR(VLOOKUP(DA40,MATCHSELEVES!$Y$14:$AG$600,9,FALSE),0)","v":0},"zazi_16",{"$f":"IFERROR(VLOOKUP(DG40,MATCHSELEVES!$Y$14:$AE$600,3,FALSE),0)","v":0},{"$f":"IFERROR(VLOOKUP(DG40,MATCHSELEVES!$Y$14:$AE$600,4,FALSE),0)","v":0},{"$f":"IFERROR(VLOOKUP(DG40,MATCHSELEVES!$Y$14:$AE$600,5,FALSE),0)","v":0},{"$f":"IFERROR(VLOOKUP(DG40,MATCHSELEVES!$Y$14:$AF$600,8,FALSE),0)","v":0},{"$f":"IFERROR(VLOOKUP(DG40,MATCHSELEVES!$Y$14:$AG$600,9,FALSE),0)","v":0},"zazi_17",{"$f":"IFERROR(VLOOKUP(DM40,MATCHSELEVES!$Y$14:$AE$600,3,FALSE),0)","v":0},{"$f":"IFERROR(VLOOKUP(DM40,MATCHSELEVES!$Y$14:$AE$600,4,FALSE),0)","v":0},{"$f":"IFERROR(VLOOKUP(DM40,MATCHSELEVES!$Y$14:$AE$600,5,FALSE),0)","v":0},{"$f":"IFERROR(VLOOKUP(DM40,MATCHSELEVES!$Y$14:$AF$600,8,FALSE),0)","v":0},{"$f":"IFERROR(VLOOKUP(DM40,MATCHSELEVES!$Y$14:$AG$600,9,FALSE),0)","v":0},"zazi_18",{"$f":"IFERROR(VLOOKUP(DS40,MATCHSELEVES!$Y$14:$AE$600,3,FALSE),0)","v":0},{"$f":"IFERROR(VLOOKUP(DS40,MATCHSELEVES!$Y$14:$AE$600,4,FALSE),0)","v":0},{"$f":"IFERROR(VLOOKUP(DS40,MATCHSELEVES!$Y$14:$AE$600,5,FALSE),0)","v":0},{"$f":"IFERROR(VLOOKUP(DS40,MATCHSELEVES!$Y$14:$AF$600,8,FALSE),0)","v":0},{"$f":"IFERROR(VLOOKUP(DS40,MATCHSELEVES!$Y$14:$AG$600,9,FALSE),0)","v":0},"zazi_19",{"$f":"IFERROR(VLOOKUP(DY40,MATCHSELEVES!$Y$14:$AE$600,3,FALSE),0)","v":0},{"$f":"IFERROR(VLOOKUP(DY40,MATCHSELEVES!$Y$14:$AE$600,4,FALSE),0)","v":0},{"$f":"IFERROR(VLOOKUP(DY40,MATCHSELEVES!$Y$14:$AE$600,5,FALSE),0)","v":0},{"$f":"IFERROR(VLOOKUP(DY40,MATCHSELEVES!$Y$14:$AF$600,8,FALSE),0)","v":0},{"$f":"IFERROR(VLOOKUP(DY40,MATCHSELEVES!$Y$14:$AG$600,9,FALSE),0)","v":0},"zazi_20",{"$f":"IFERROR(VLOOKUP(EE40,MATCHSELEVES!$Y$14:$AE$600,3,FALSE),0)","v":0},{"$f":"IFERROR(VLOOKUP(EE40,MATCHSELEVES!$Y$14:$AE$600,4,FALSE),0)","v":0},{"$f":"IFERROR(VLOOKUP(EE40,MATCHSELEVES!$Y$14:$AE$600,5,FALSE),0)","v":0},{"$f":"IFERROR(VLOOKUP(EE40,MATCHSELEVES!$Y$14:$AF$600,8,FALSE),0)","v":0},{"$f":"IFERROR(VLOOKUP(EE40,MATCHSELEVES!$Y$14:$AG$600,9,FALSE),0)","v":0},"zazi_21",{"$f":"IFERROR(VLOOKUP(EK40,MATCHSELEVES!$Y$14:$AE$600,3,FALSE),0)","v":0},{"$f":"IFERROR(VLOOKUP(EK40,MATCHSELEVES!$Y$14:$AE$600,4,FALSE),0)","v":0},{"$f":"IFERROR(VLOOKUP(EK40,MATCHSELEVES!$Y$14:$AE$600,5,FALSE),0)","v":0},{"$f":"IFERROR(VLOOKUP(EK40,MATCHSELEVES!$Y$14:$AF$600,8,FALSE),0)","v":0},{"$f":"IFERROR(VLOOKUP(EK40,MATCHSELEVES!$Y$14:$AG$600,9,FALSE),0)","v":0},"zazi_22",{"$f":"IFERROR(VLOOKUP(EQ40,MATCHSELEVES!$Y$14:$AE$600,3,FALSE),0)","v":0},{"$f":"IFERROR(VLOOKUP(EQ40,MATCHSELEVES!$Y$14:$AE$600,4,FALSE),0)","v":0},{"$f":"IFERROR(VLOOKUP(EQ40,MATCHSELEVES!$Y$14:$AE$600,5,FALSE),0)","v":0},{"$f":"IFERROR(VLOOKUP(EQ40,MATCHSELEVES!$Y$14:$AF$600,8,FALSE),0)","v":0},{"$f":"IFERROR(VLOOKUP(EQ40,MATCHSELEVES!$Y$14:$AG$600,9,FALSE),0)","v":0},"zazi_23",{"$f":"IFERROR(VLOOKUP(EW40,MATCHSELEVES!$Y$14:$AE$600,3,FALSE),0)","v":0},{"$f":"IFERROR(VLOOKUP(EW40,MATCHSELEVES!$Y$14:$AE$600,4,FALSE),0)","v":0},{"$f":"IFERROR(VLOOKUP(EW40,MATCHSELEVES!$Y$14:$AE$600,5,FALSE),0)","v":0},{"$f":"IFERROR(VLOOKUP(EW40,MATCHSELEVES!$Y$14:$AF$600,8,FALSE),0)","v":0},{"$f":"IFERROR(VLOOKUP(EW40,MATCHSELEVES!$Y$14:$AG$600,9,FALSE),0)","v":0},"zazi_24",{"$f":"IFERROR(VLOOKUP(FC40,MATCHSELEVES!$Y$14:$AE$600,3,FALSE),0)","v":0},{"$f":"IFERROR(VLOOKUP(FC40,MATCHSELEVES!$Y$14:$AE$600,4,FALSE),0)","v":0},{"$f":"IFERROR(VLOOKUP(FC40,MATCHSELEVES!$Y$14:$AE$600,5,FALSE),0)","v":0},{"$f":"IFERROR(VLOOKUP(FC40,MATCHSELEVES!$Y$14:$AF$600,8,FALSE),0)","v":0},{"$f":"IFERROR(VLOOKUP(FC40,MATCHSELEVES!$Y$14:$AG$600,9,FALSE),0)","v":0},"zazi_25",{"$f":"IFERROR(VLOOKUP(FI40,MATCHSELEVES!$Y$14:$AE$600,3,FALSE),0)","v":0},{"$f":"IFERROR(VLOOKUP(FI40,MATCHSELEVES!$Y$14:$AE$600,4,FALSE),0)","v":0},{"$f":"IFERROR(VLOOKUP(FI40,MATCHSELEVES!$Y$14:$AE$600,5,FALSE),0)","v":0},{"$f":"IFERROR(VLOOKUP(FI40,MATCHSELEVES!$Y$14:$AF$600,8,FALSE),0)","v":0},{"$f":"IFERROR(VLOOKUP(FI40,MATCHSELEVES!$Y$14:$AG$600,9,FALSE),0)","v":0},"zazi_26",{"$f":"IFERROR(VLOOKUP(FO40,MATCHSELEVES!$Y$14:$AE$600,3,FALSE),0)","v":0},{"$f":"IFERROR(VLOOKUP(FO40,MATCHSELEVES!$Y$14:$AE$600,4,FALSE),0)","v":0},{"$f":"IFERROR(VLOOKUP(FO40,MATCHSELEVES!$Y$14:$AE$600,5,FALSE),0)","v":0},{"$f":"IFERROR(VLOOKUP(FO40,MATCHSELEVES!$Y$14:$AF$600,8,FALSE),0)","v":0},{"$f":"IFERROR(VLOOKUP(FO40,MATCHSELEVES!$Y$14:$AG$600,9,FALSE),0)","v":0},"zazi_27",{"$f":"IFERROR(VLOOKUP(FU40,MATCHSELEVES!$Y$14:$AE$600,3,FALSE),0)","v":0},{"$f":"IFERROR(VLOOKUP(FU40,MATCHSELEVES!$Y$14:$AE$600,4,FALSE),0)","v":0},{"$f":"IFERROR(VLOOKUP(FU40,MATCHSELEVES!$Y$14:$AE$600,5,FALSE),0)","v":0},{"$f":"IFERROR(VLOOKUP(FU40,MATCHSELEVES!$Y$14:$AF$600,8,FALSE),0)","v":0},{"$f":"IFERROR(VLOOKUP(FU40,MATCHSELEVES!$Y$14:$AG$600,9,FALSE),0)","v":0},"zazi_28",{"$f":"IFERROR(VLOOKUP(GA40,MATCHSELEVES!$Y$14:$AE$600,3,FALSE),0)","v":0},{"$f":"IFERROR(VLOOKUP(GA40,MATCHSELEVES!$Y$14:$AE$600,4,FALSE),0)","v":0},{"$f":"IFERROR(VLOOKUP(GA40,MATCHSELEVES!$Y$14:$AE$600,5,FALSE),0)","v":0},{"$f":"IFERROR(VLOOKUP(GA40,MATCHSELEVES!$Y$14:$AF$600,8,FALSE),0)","v":0},{"$f":"IFERROR(VLOOKUP(GA40,MATCHSELEVES!$Y$14:$AG$600,9,FALSE),0)","v":0},"zazi_29",{"$f":"IFERROR(VLOOKUP(GG40,MATCHSELEVES!$Y$14:$AE$600,3,FALSE),0)","v":0},{"$f":"IFERROR(VLOOKUP(GG40,MATCHSELEVES!$Y$14:$AE$600,4,FALSE),0)","v":0},{"$f":"IFERROR(VLOOKUP(GG40,MATCHSELEVES!$Y$14:$AE$600,5,FALSE),0)","v":0},{"$f":"IFERROR(VLOOKUP(GG40,MATCHSELEVES!$Y$14:$AF$600,8,FALSE),0)","v":0},{"$f":"IFERROR(VLOOKUP(GG40,MATCHSELEVES!$Y$14:$AG$600,9,FALSE),0)","v":0},"zazi_30",{"$f":"IFERROR(VLOOKUP(GM40,MATCHSELEVES!$Y$14:$AE$600,3,FALSE),0)","v":0},{"$f":"IFERROR(VLOOKUP(GM40,MATCHSELEVES!$Y$14:$AE$600,4,FALSE),0)","v":0},{"$f":"IFERROR(VLOOKUP(GM40,MATCHSELEVES!$Y$14:$AE$600,5,FALSE),0)","v":0},{"$f":"IFERROR(VLOOKUP(GM40,MATCHSELEVES!$Y$14:$AF$600,8,FALSE),0)","v":0},{"$f":"IFERROR(VLOOKUP(GM40,MATCHSELEVES!$Y$14:$AG$600,9,FALSE),0)","v":0},"zazi_31",{"$f":"IFERROR(VLOOKUP(GS40,MATCHSELEVES!$Y$14:$AE$600,3,FALSE),0)","v":0},{"$f":"IFERROR(VLOOKUP(GS40,MATCHSELEVES!$Y$14:$AE$600,4,FALSE),0)","v":0},{"$f":"IFERROR(VLOOKUP(GS40,MATCHSELEVES!$Y$14:$AE$600,5,FALSE),0)","v":0},{"$f":"IFERROR(VLOOKUP(GS40,MATCHSELEVES!$Y$14:$AF$600,8,FALSE),0)","v":0},{"$f":"IFERROR(VLOOKUP(GS40,MATCHSELEVES!$Y$14:$AG$600,9,FALSE),0)","v":0},"zazi_32",{"$f":"IFERROR(VLOOKUP(GY40,MATCHSELEVES!$Y$14:$AE$600,3,FALSE),0)","v":0},{"$f":"IFERROR(VLOOKUP(GY40,MATCHSELEVES!$Y$14:$AE$600,4,FALSE),0)","v":0},{"$f":"IFERROR(VLOOKUP(GY40,MATCHSELEVES!$Y$14:$AE$600,5,FALSE),0)","v":0},{"$f":"IFERROR(VLOOKUP(GY40,MATCHSELEVES!$Y$14:$AF$600,8,FALSE),0)","v":0},{"$f":"IFERROR(VLOOKUP(GY40,MATCHSELEVES!$Y$14:$AG$600,9,FALSE),0)","v":0},"zazi_33",{"$f":"IFERROR(VLOOKUP(HE40,MATCHSELEVES!$Y$14:$AE$600,3,FALSE),0)","v":0},{"$f":"IFERROR(VLOOKUP(HE40,MATCHSELEVES!$Y$14:$AE$600,4,FALSE),0)","v":0},{"$f":"IFERROR(VLOOKUP(HE40,MATCHSELEVES!$Y$14:$AE$600,5,FALSE),0)","v":0},{"$f":"IFERROR(VLOOKUP(HE40,MATCHSELEVES!$Y$14:$AF$600,8,FALSE),0)","v":0},{"$f":"IFERROR(VLOOKUP(HE40,MATCHSELEVES!$Y$14:$AG$600,9,FALSE),0)","v":0},"zazi_34",{"$f":"IFERROR(VLOOKUP(HK40,MATCHSELEVES!$Y$14:$AE$600,3,FALSE),0)","v":0},{"$f":"IFERROR(VLOOKUP(HK40,MATCHSELEVES!$Y$14:$AE$600,4,FALSE),0)","v":0},{"$f":"IFERROR(VLOOKUP(HK40,MATCHSELEVES!$Y$14:$AE$600,5,FALSE),0)","v":0},{"$f":"IFERROR(VLOOKUP(HK40,MATCHSELEVES!$Y$14:$AF$600,8,FALSE),0)","v":0},{"$f":"IFERROR(VLOOKUP(HK40,MATCHSELEVES!$Y$14:$AG$600,9,FALSE),0)","v":0},"zazi_35",{"$f":"IFERROR(VLOOKUP(HQ40,MATCHSELEVES!$Y$14:$AE$600,3,FALSE),0)","v":0},{"$f":"IFERROR(VLOOKUP(HQ40,MATCHSELEVES!$Y$14:$AE$600,4,FALSE),0)","v":0},{"$f":"IFERROR(VLOOKUP(HQ40,MATCHSELEVES!$Y$14:$AE$600,5,FALSE),0)","v":0},{"$f":"IFERROR(VLOOKUP(HQ40,MATCHSELEVES!$Y$14:$AF$600,8,FALSE),0)","v":0},{"$f":"IFERROR(VLOOKUP(HQ40,MATCHSELEVES!$Y$14:$AG$600,9,FALSE),0)","v":0},"zazi_36",{"$f":"IFERROR(VLOOKUP(HW40,MATCHSELEVES!$Y$14:$AE$600,3,FALSE),0)","v":0},{"$f":"IFERROR(VLOOKUP(HW40,MATCHSELEVES!$Y$14:$AE$600,4,FALSE),0)","v":0},{"$f":"IFERROR(VLOOKUP(HW40,MATCHSELEVES!$Y$14:$AE$600,5,FALSE),0)","v":0},{"$f":"IFERROR(VLOOKUP(HW40,MATCHSELEVES!$Y$14:$AF$600,8,FALSE),0)","v":0},{"$f":"IFERROR(VLOOKUP(HW40,MATCHSELEVES!$Y$14:$AG$600,9,FALSE),0)","v":0},"zazi_37",{"$f":"IFERROR(VLOOKUP(IC40,MATCHSELEVES!$Y$14:$AE$600,3,FALSE),0)","v":0},{"$f":"IFERROR(VLOOKUP(IC40,MATCHSELEVES!$Y$14:$AE$600,4,FALSE),0)","v":0},{"$f":"IFERROR(VLOOKUP(IC40,MATCHSELEVES!$Y$14:$AE$600,5,FALSE),0)","v":0},{"$f":"IFERROR(VLOOKUP(IC40,MATCHSELEVES!$Y$14:$AF$600,8,FALSE),0)","v":0},{"$f":"IFERROR(VLOOKUP(IC40,MATCHSELEVES!$Y$14:$AG$600,9,FALSE),0)","v":0},"zazi_38",{"$f":"IFERROR(VLOOKUP(II40,MATCHSELEVES!$Y$14:$AE$600,3,FALSE),0)","v":0},{"$f":"IFERROR(VLOOKUP(II40,MATCHSELEVES!$Y$14:$AE$600,4,FALSE),0)","v":0},{"$f":"IFERROR(VLOOKUP(II40,MATCHSELEVES!$Y$14:$AE$600,5,FALSE),0)","v":0},{"$f":"IFERROR(VLOOKUP(II40,MATCHSELEVES!$Y$14:$AF$600,8,FALSE),0)","v":0},{"$f":"IFERROR(VLOOKUP(II40,MATCHSELEVES!$Y$14:$AG$600,9,FALSE),0)","v":0},"zazi_39",{"$f":"IFERROR(VLOOKUP(IO40,MATCHSELEVES!$Y$14:$AE$600,3,FALSE),0)","v":0},{"$f":"IFERROR(VLOOKUP(IO40,MATCHSELEVES!$Y$14:$AE$600,4,FALSE),0)","v":0},{"$f":"IFERROR(VLOOKUP(IO40,MATCHSELEVES!$Y$14:$AE$600,5,FALSE),0)","v":0},{"$f":"IFERROR(VLOOKUP(IO40,MATCHSELEVES!$Y$14:$AF$600,8,FALSE),0)","v":0},{"$f":"IFERROR(VLOOKUP(IO40,MATCHSELEVES!$Y$14:$AG$600,9,FALSE),0)","v":0},"zazi_40",{"$f":"IFERROR(VLOOKUP(IU40,MATCHSELEVES!$Y$14:$AE$600,3,FALSE),0)","v":0}]
[38,null,"jacques",38,null,null,{"$f":"COUNTIF(MATCHSELEVES!$Z$14:$Z$600,C41)+COUNTIF(MATCHSELEVES!$Z$14:$Z$600,$C41&\"p\")","v":0},{"$f":"RANK(G41,$G$4:$G$43)","v":1},{"$f":"COUNTIF(MATCHSELEVES!$F$14:$H$249,C41)","v":0},{"$f":"RANK(I41,$I$4:$I$43)","v":1},{"$f":"V41+AB41+AH41+AN41+AT41+AZ41+BF41+BL41+BX41+CD41+CJ41+CP41+CV41+DB41+DH41+DN41+DT41+DZ41+EF41+EL41+ER41+EX41+FD41+FJ41+FP41+FV41+GB41+GH41+GN41+GT41+GZ41+HF41+HL41+HR41+HX41+ID41+IJ41+IV41+JB41+JH41+JN41+JT41+JZ41+KF41+KL41+KR41+KX41+LD41+LJ41+LP41+LV41+MB41+MH41+MN41+MT41+MZ41+NF41+NL41+NX41+OD41+OJ41+OP41+OV41+PB41+PH41+PN41+PT41+PZ41+QF41+QL41+QR41+RD41+QX41+RJ41+RP41+RV41+SB41+BR41+IP41+NR41","v":0},{"$f":"RANK(K41,$K$4:$K$43)","v":1},{"$f":"IFERROR(M84/Tableau10[[#This Row],[Nombre de matchs joués]],0)","v":0},{"$f":"IF(Tableau10[[#This Row],[Nombre de points encaissés]]=0,$C$45,SUMPRODUCT((M$4:M$43<M41)*(M$4:M$43<>0))+1)","v":40},{"$f":"W41+AC41+AO41+AU41+BA41+BG41+BM41+BS41+BY41+CE41+CK41+CQ41+CW41+DC41+DI41+DO41+DU41+EA41+EM41+ES41+EY41+FE41+FK41+FQ41+FW41+GI41+GO41+GU41+HA41+HG41+HM41+HS41+HY41+IE41+IK41+IQ41+IW41+JC41+JI41+JO41+JU41+KA41+KG41+KM41+KS41+KY41+LE41+LK41+LQ41+LW41+MC41+MI41+MO41+MU41+NA41+NG41+NM41+NS41+NY41+OE41+OK41+OW41+PC41+OQ41+PO41+PI41+PU41+QA41+QG41+QM41+QS41+QY41+RK41+RQ41+RW41+SC41+AI41+EG41+GC41+RE41","v":0},{"$f":"RANK(O41,$O$4:$O$43)","v":1},{"$f":"(Tableau10[[#This Row],[CLASSEMENT1]]+Tableau10[[#This Row],[CLASSEMENT2]]+Tableau10[[#This Row],[CLASSEMENT3]]+Tableau10[[#This Row],[CLASSEMENT4]]+Tableau10[[#This Row],[CLASSEMENT5]]+Tableau10[[#This Row],[CLASSEMENT6]])/6","v":13.666666666666666},{"$f":"RANK(Tableau10[[#This Row],[MOYENNE CLASSEMENTS]],Tableau10[MOYENNE CLASSEMENTS],1)","v":38},null,{"$f":"Tableau10[[#This Row],[CLASSEMENT1]]","v":38},"jacques_1",{"$f":"IFERROR(VLOOKUP(U41,MATCHSELEVES!$Y$14:$AE$600,3,FALSE),0)","v":0},{"$f":"IFERROR(VLOOKUP(U41,MATCHSELEVES!$Y$14:$AE$600,4,FALSE),0)","v":0},{"$f":"IFERROR(VLOOKUP(U41,MATCHSELEVES!$Y$14:$AE$600,5,FALSE),0)","v":0},{"$f":"IFERROR(VLOOKUP(U41,MATCHSELEVES!$Y$14:$AF$600,8,FALSE),0)","v":0},{"$f":"IFERROR(VLOOKUP(U41,MATCHSELEVES!$Y$14:$AG$600,9,FALSE),0)","v":0},"jacques_2",{"$f":"IFERROR(VLOOKUP(AA41,MATCHSELEVES!$Y$14:$AE$600,3,FALSE),0)","v":0},{"$f":"IFERROR(VLOOKUP(AA41,MATCHSELEVES!$Y$14:$AE$600,4,FALSE),0)","v":0},{"$f":"IFERROR(VLOOKUP(AA41,MATCHSELEVES!$Y$14:$AE$600,5,FALSE),0)","v":0},{"$f":"IFERROR(VLOOKUP(AA41,MATCHSELEVES!$Y$14:$AF$600,8,FALSE),0)","v":0},{"$f":"IFERROR(VLOOKUP(AA41,MATCHSELEVES!$Y$14:$AG$600,9,FALSE),0)","v":0},"jacques_3",{"$f":"IFERROR(VLOOKUP(AG41,MATCHSELEVES!$Y$14:$AE$600,3,FALSE),0)","v":0},{"$f":"IFERROR(VLOOKUP(AG41,MATCHSELEVES!$Y$14:$AE$600,4,FALSE),0)","v":0},{"$f":"IFERROR(VLOOKUP(AG41,MATCHSELEVES!$Y$14:$AE$600,5,FALSE),0)","v":0},{"$f":"IFERROR(VLOOKUP(AG41,MATCHSELEVES!$Y$14:$AF$600,8,FALSE),0)","v":0},{"$f":"IFERROR(VLOOKUP(AG41,MATCHSELEVES!$Y$14:$AG$600,9,FALSE),0)","v":0},"jacques_4",{"$f":"IFERROR(VLOOKUP(AM41,MATCHSELEVES!$Y$14:$AE$600,3,FALSE),0)","v":0},{"$f":"IFERROR(VLOOKUP(AM41,MATCHSELEVES!$Y$14:$AE$600,4,FALSE),0)","v":0},{"$f":"IFERROR(VLOOKUP(AM41,MATCHSELEVES!$Y$14:$AE$600,5,FALSE),0)","v":0},{"$f":"IFERROR(VLOOKUP(AM41,MATCHSELEVES!$Y$14:$AF$600,8,FALSE),0)","v":0},{"$f":"IFERROR(VLOOKUP(AM41,MATCHSELEVES!$Y$14:$AG$600,9,FALSE),0)","v":0},"jacques_5",{"$f":"IFERROR(VLOOKUP(AS41,MATCHSELEVES!$Y$14:$AE$600,3,FALSE),0)","v":0},{"$f":"IFERROR(VLOOKUP(AS41,MATCHSELEVES!$Y$14:$AE$600,4,FALSE),0)","v":0},{"$f":"IFERROR(VLOOKUP(AS41,MATCHSELEVES!$Y$14:$AE$600,5,FALSE),0)","v":0},{"$f":"IFERROR(VLOOKUP(AS41,MATCHSELEVES!$Y$14:$AF$600,8,FALSE),0)","v":0},{"$f":"IFERROR(VLOOKUP(AS41,MATCHSELEVES!$Y$14:$AG$600,9,FALSE),0)","v":0},"jacques_6",{"$f":"IFERROR(VLOOKUP(AY41,MATCHSELEVES!$Y$14:$AE$600,3,FALSE),0)","v":0},{"$f":"IFERROR(VLOOKUP(AY41,MATCHSELEVES!$Y$14:$AE$600,4,FALSE),0)","v":0},{"$f":"IFERROR(VLOOKUP(AY41,MATCHSELEVES!$Y$14:$AE$600,5,FALSE),0)","v":0},{"$f":"IFERROR(VLOOKUP(AY41,MATCHSELEVES!$Y$14:$AF$600,8,FALSE),0)","v":0},{"$f":"IFERROR(VLOOKUP(AY41,MATCHSELEVES!$Y$14:$AG$600,9,FALSE),0)","v":0},"jacques_7",{"$f":"IFERROR(VLOOKUP(BE41,MATCHSELEVES!$Y$14:$AE$600,3,FALSE),0)","v":0},{"$f":"IFERROR(VLOOKUP(BE41,MATCHSELEVES!$Y$14:$AE$600,4,FALSE),0)","v":0},{"$f":"IFERROR(VLOOKUP(BE41,MATCHSELEVES!$Y$14:$AE$600,5,FALSE),0)","v":0},{"$f":"IFERROR(VLOOKUP(BE41,MATCHSELEVES!$Y$14:$AF$600,8,FALSE),0)","v":0},{"$f":"IFERROR(VLOOKUP(BE41,MATCHSELEVES!$Y$14:$AG$600,9,FALSE),0)","v":0},"jacques_8",{"$f":"IFERROR(VLOOKUP(BK41,MATCHSELEVES!$Y$14:$AE$600,3,FALSE),0)","v":0},{"$f":"IFERROR(VLOOKUP(BK41,MATCHSELEVES!$Y$14:$AE$600,4,FALSE),0)","v":0},{"$f":"IFERROR(VLOOKUP(BK41,MATCHSELEVES!$Y$14:$AE$600,5,FALSE),0)","v":0},{"$f":"IFERROR(VLOOKUP(BK41,MATCHSELEVES!$Y$14:$AF$600,8,FALSE),0)","v":0},{"$f":"IFERROR(VLOOKUP(BK41,MATCHSELEVES!$Y$14:$AG$600,9,FALSE),0)","v":0},"jacques_9",{"$f":"IFERROR(VLOOKUP(BQ41,MATCHSELEVES!$Y$14:$AE$600,3,FALSE),0)","v":0},{"$f":"IFERROR(VLOOKUP(BQ41,MATCHSELEVES!$Y$14:$AE$600,4,FALSE),0)","v":0},{"$f":"IFERROR(VLOOKUP(BQ41,MATCHSELEVES!$Y$14:$AE$600,5,FALSE),0)","v":0},{"$f":"IFERROR(VLOOKUP(BQ41,MATCHSELEVES!$Y$14:$AF$600,8,FALSE),0)","v":0},{"$f":"IFERROR(VLOOKUP(BQ41,MATCHSELEVES!$Y$14:$AG$600,9,FALSE),0)","v":0},"jacques_10",{"$f":"IFERROR(VLOOKUP(BW41,MATCHSELEVES!$Y$14:$AE$600,3,FALSE),0)","v":0},{"$f":"IFERROR(VLOOKUP(BW41,MATCHSELEVES!$Y$14:$AE$600,4,FALSE),0)","v":0},{"$f":"IFERROR(VLOOKUP(BW41,MATCHSELEVES!$Y$14:$AE$600,5,FALSE),0)","v":0},{"$f":"IFERROR(VLOOKUP(BW41,MATCHSELEVES!$Y$14:$AF$600,8,FALSE),0)","v":0},{"$f":"IFERROR(VLOOKUP(BW41,MATCHSELEVES!$Y$14:$AG$600,9,FALSE),0)","v":0},"jacques_11",{"$f":"IFERROR(VLOOKUP(CC41,MATCHSELEVES!$Y$14:$AE$600,3,FALSE),0)","v":0},{"$f":"IFERROR(VLOOKUP(CC41,MATCHSELEVES!$Y$14:$AE$600,4,FALSE),0)","v":0},{"$f":"IFERROR(VLOOKUP(CC41,MATCHSELEVES!$Y$14:$AE$600,5,FALSE),0)","v":0},{"$f":"IFERROR(VLOOKUP(CC41,MATCHSELEVES!$Y$14:$AF$600,8,FALSE),0)","v":0},{"$f":"IFERROR(VLOOKUP(CC41,MATCHSELEVES!$Y$14:$AG$600,9,FALSE),0)","v":0},"jacques_12",{"$f":"IFERROR(VLOOKUP(CI41,MATCHSELEVES!$Y$14:$AE$600,3,FALSE),0)","v":0},{"$f":"IFERROR(VLOOKUP(CI41,MATCHSELEVES!$Y$14:$AE$600,4,FALSE),0)","v":0},{"$f":"IFERROR(VLOOKUP(CI41,MATCHSELEVES!$Y$14:$AE$600,5,FALSE),0)","v":0},{"$f":"IFERROR(VLOOKUP(CI41,MATCHSELEVES!$Y$14:$AF$600,8,FALSE),0)","v":0},{"$f":"IFERROR(VLOOKUP(CI41,MATCHSELEVES!$Y$14:$AG$600,9,FALSE),0)","v":0},"jacques_13",{"$f":"IFERROR(VLOOKUP(CO41,MATCHSELEVES!$Y$14:$AE$600,3,FALSE),0)","v":0},{"$f":"IFERROR(VLOOKUP(CO41,MATCHSELEVES!$Y$14:$AE$600,4,FALSE),0)","v":0},{"$f":"IFERROR(VLOOKUP(CO41,MATCHSELEVES!$Y$14:$AE$600,5,FALSE),0)","v":0},{"$f":"IFERROR(VLOOKUP(CO41,MATCHSELEVES!$Y$14:$AF$600,8,FALSE),0)","v":0},{"$f":"IFERROR(VLOOKUP(CO41,MATCHSELEVES!$Y$14:$AG$600,9,FALSE),0)","v":0},"jacques_14",{"$f":"IFERROR(VLOOKUP(CU41,MATCHSELEVES!$Y$14:$AE$600,3,FALSE),0)","v":0},{"$f":"IFERROR(VLOOKUP(CU41,MATCHSELEVES!$Y$14:$AE$600,4,FALSE),0)","v":0},{"$f":"IFERROR(VLOOKUP(CU41,MATCHSELEVES!$Y$14:$AE$600,5,FALSE),0)","v":0},{"$f":"IFERROR(VLOOKUP(CU41,MATCHSELEVES!$Y$14:$AF$600,8,FALSE),0)","v":0},{"$f":"IFERROR(VLOOKUP(CU41,MATCHSELEVES!$Y$14:$AG$600,9,FALSE),0)","v":0},"jacques_15",{"$f":"IFERROR(VLOOKUP(DA41,MATCHSELEVES!$Y$14:$AE$600,3,FALSE),0)","v":0},{"$f":"IFERROR(VLOOKUP(DA41,MATCHSELEVES!$Y$14:$AE$600,4,FALSE),0)","v":0},{"$f":"IFERROR(VLOOKUP(DA41,MATCHSELEVES!$Y$14:$AE$600,5,FALSE),0)","v":0},{"$f":"IFERROR(VLOOKUP(DA41,MATCHSELEVES!$Y$14:$AF$600,8,FALSE),0)","v":0},{"$f":"IFERROR(VLOOKUP(DA41,MATCHSELEVES!$Y$14:$AG$600,9,FALSE),0)","v":0},"jacques_16",{"$f":"IFERROR(VLOOKUP(DG41,MATCHSELEVES!$Y$14:$AE$600,3,FALSE),0)","v":0},{"$f":"IFERROR(VLOOKUP(DG41,MATCHSELEVES!$Y$14:$AE$600,4,FALSE),0)","v":0},{"$f":"IFERROR(VLOOKUP(DG41,MATCHSELEVES!$Y$14:$AE$600,5,FALSE),0)","v":0},{"$f":"IFERROR(VLOOKUP(DG41,MATCHSELEVES!$Y$14:$AF$600,8,FALSE),0)","v":0},{"$f":"IFERROR(VLOOKUP(DG41,MATCHSELEVES!$Y$14:$AG$600,9,FALSE),0)","v":0},"jacques_17",{"$f":"IFERROR(VLOOKUP(DM41,MATCHSELEVES!$Y$14:$AE$600,3,FALSE),0)","v":0},{"$f":"IFERROR(VLOOKUP(DM41,MATCHSELEVES!$Y$14:$AE$600,4,FALSE),0)","v":0},{"$f":"IFERROR(VLOOKUP(DM41,MATCHSELEVES!$Y$14:$AE$600,5,FALSE),0)","v":0},{"$f":"IFERROR(VLOOKUP(DM41,MATCHSELEVES!$Y$14:$AF$600,8,FALSE),0)","v":0},{"$f":"IFERROR(VLOOKUP(DM41,MATCHSELEVES!$Y$14:$AG$600,9,FALSE),0)","v":0},"jacques_18",{"$f":"IFERROR(VLOOKUP(DS41,MATCHSELEVES!$Y$14:$AE$600,3,FALSE),0)","v":0},{"$f":"IFERROR(VLOOKUP(DS41,MATCHSELEVES!$Y$14:$AE$600,4,FALSE),0)","v":0},{"$f":"IFERROR(VLOOKUP(DS41,MATCHSELEVES!$Y$14:$AE$600,5,FALSE),0)","v":0},{"$f":"IFERROR(VLOOKUP(DS41,MATCHSELEVES!$Y$14:$AF$600,8,FALSE),0)","v":0},{"$f":"IFERROR(VLOOKUP(DS41,MATCHSELEVES!$Y$14:$AG$600,9,FALSE),0)","v":0},"jacques_19",{"$f":"IFERROR(VLOOKUP(DY41,MATCHSELEVES!$Y$14:$AE$600,3,FALSE),0)","v":0},{"$f":"IFERROR(VLOOKUP(DY41,MATCHSELEVES!$Y$14:$AE$600,4,FALSE),0)","v":0},{"$f":"IFERROR(VLOOKUP(DY41,MATCHSELEVES!$Y$14:$AE$600,5,FALSE),0)","v":0},{"$f":"IFERROR(VLOOKUP(DY41,MATCHSELEVES!$Y$14:$AF$600,8,FALSE),0)","v":0},{"$f":"IFERROR(VLOOKUP(DY41,MATCHSELEVES!$Y$14:$AG$600,9,FALSE),0)","v":0},"jacques_20",{"$f":"IFERROR(VLOOKUP(EE41,MATCHSELEVES!$Y$14:$AE$600,3,FALSE),0)","v":0},{"$f":"IFERROR(VLOOKUP(EE41,MATCHSELEVES!$Y$14:$AE$600,4,FALSE),0)","v":0},{"$f":"IFERROR(VLOOKUP(EE41,MATCHSELEVES!$Y$14:$AE$600,5,FALSE),0)","v":0},{"$f":"IFERROR(VLOOKUP(EE41,MATCHSELEVES!$Y$14:$AF$600,8,FALSE),0)","v":0},{"$f":"IFERROR(VLOOKUP(EE41,MATCHSELEVES!$Y$14:$AG$600,9,FALSE),0)","v":0},"jacques_21",{"$f":"IFERROR(VLOOKUP(EK41,MATCHSELEVES!$Y$14:$AE$600,3,FALSE),0)","v":0},{"$f":"IFERROR(VLOOKUP(EK41,MATCHSELEVES!$Y$14:$AE$600,4,FALSE),0)","v":0},{"$f":"IFERROR(VLOOKUP(EK41,MATCHSELEVES!$Y$14:$AE$600,5,FALSE),0)","v":0},{"$f":"IFERROR(VLOOKUP(EK41,MATCHSELEVES!$Y$14:$AF$600,8,FALSE),0)","v":0},{"$f":"IFERROR(VLOOKUP(EK41,MATCHSELEVES!$Y$14:$AG$600,9,FALSE),0)","v":0},"jacques_22",{"$f":"IFERROR(VLOOKUP(EQ41,MATCHSELEVES!$Y$14:$AE$600,3,FALSE),0)","v":0},{"$f":"IFERROR(VLOOKUP(EQ41,MATCHSELEVES!$Y$14:$AE$600,4,FALSE),0)","v":0},{"$f":"IFERROR(VLOOKUP(EQ41,MATCHSELEVES!$Y$14:$AE$600,5,FALSE),0)","v":0},{"$f":"IFERROR(VLOOKUP(EQ41,MATCHSELEVES!$Y$14:$AF$600,8,FALSE),0)","v":0},{"$f":"IFERROR(VLOOKUP(EQ41,MATCHSELEVES!$Y$14:$AG$600,9,FALSE),0)","v":0},"jacques_23",{"$f":"IFERROR(VLOOKUP(EW41,MATCHSELEVES!$Y$14:$AE$600,3,FALSE),0)","v":0},{"$f":"IFERROR(VLOOKUP(EW41,MATCHSELEVES!$Y$14:$AE$600,4,FALSE),0)","v":0},{"$f":"IFERROR(VLOOKUP(EW41,MATCHSELEVES!$Y$14:$AE$600,5,FALSE),0)","v":0},{"$f":"IFERROR(VLOOKUP(EW41,MATCHSELEVES!$Y$14:$AF$600,8,FALSE),0)","v":0},{"$f":"IFERROR(VLOOKUP(EW41,MATCHSELEVES!$Y$14:$AG$600,9,FALSE),0)","v":0},"jacques_24",{"$f":"IFERROR(VLOOKUP(FC41,MATCHSELEVES!$Y$14:$AE$600,3,FALSE),0)","v":0},{"$f":"IFERROR(VLOOKUP(FC41,MATCHSELEVES!$Y$14:$AE$600,4,FALSE),0)","v":0},{"$f":"IFERROR(VLOOKUP(FC41,MATCHSELEVES!$Y$14:$AE$600,5,FALSE),0)","v":0},{"$f":"IFERROR(VLOOKUP(FC41,MATCHSELEVES!$Y$14:$AF$600,8,FALSE),0)","v":0},{"$f":"IFERROR(VLOOKUP(FC41,MATCHSELEVES!$Y$14:$AG$600,9,FALSE),0)","v":0},"jacques_25",{"$f":"IFERROR(VLOOKUP(FI41,MATCHSELEVES!$Y$14:$AE$600,3,FALSE),0)","v":0},{"$f":"IFERROR(VLOOKUP(FI41,MATCHSELEVES!$Y$14:$AE$600,4,FALSE),0)","v":0},{"$f":"IFERROR(VLOOKUP(FI41,MATCHSELEVES!$Y$14:$AE$600,5,FALSE),0)","v":0},{"$f":"IFERROR(VLOOKUP(FI41,MATCHSELEVES!$Y$14:$AF$600,8,FALSE),0)","v":0},{"$f":"IFERROR(VLOOKUP(FI41,MATCHSELEVES!$Y$14:$AG$600,9,FALSE),0)","v":0},"jacques_26",{"$f":"IFERROR(VLOOKUP(FO41,MATCHSELEVES!$Y$14:$AE$600,3,FALSE),0)","v":0},{"$f":"IFERROR(VLOOKUP(FO41,MATCHSELEVES!$Y$14:$AE$600,4,FALSE),0)","v":0},{"$f":"IFERROR(VLOOKUP(FO41,MATCHSELEVES!$Y$14:$AE$600,5,FALSE),0)","v":0},{"$f":"IFERROR(VLOOKUP(FO41,MATCHSELEVES!$Y$14:$AF$600,8,FALSE),0)","v":0},{"$f":"IFERROR(VLOOKUP(FO41,MATCHSELEVES!$Y$14:$AG$600,9,FALSE),0)","v":0},"jacques_27",{"$f":"IFERROR(VLOOKUP(FU41,MATCHSELEVES!$Y$14:$AE$600,3,FALSE),0)","v":0},{"$f":"IFERROR(VLOOKUP(FU41,MATCHSELEVES!$Y$14:$AE$600,4,FALSE),0)","v":0},{"$f":"IFERROR(VLOOKUP(FU41,MATCHSELEVES!$Y$14:$AE$600,5,FALSE),0)","v":0},{"$f":"IFERROR(VLOOKUP(FU41,MATCHSELEVES!$Y$14:$AF$600,8,FALSE),0)","v":0},{"$f":"IFERROR(VLOOKUP(FU41,MATCHSELEVES!$Y$14:$AG$600,9,FALSE),0)","v":0},"jacques_28",{"$f":"IFERROR(VLOOKUP(GA41,MATCHSELEVES!$Y$14:$AE$600,3,FALSE),0)","v":0},{"$f":"IFERROR(VLOOKUP(GA41,MATCHSELEVES!$Y$14:$AE$600,4,FALSE),0)","v":0},{"$f":"IFERROR(VLOOKUP(GA41,MATCHSELEVES!$Y$14:$AE$600,5,FALSE),0)","v":0},{"$f":"IFERROR(VLOOKUP(GA41,MATCHSELEVES!$Y$14:$AF$600,8,FALSE),0)","v":0},{"$f":"IFERROR(VLOOKUP(GA41,MATCHSELEVES!$Y$14:$AG$600,9,FALSE),0)","v":0},"jacques_29",{"$f":"IFERROR(VLOOKUP(GG41,MATCHSELEVES!$Y$14:$AE$600,3,FALSE),0)","v":0},{"$f":"IFERROR(VLOOKUP(GG41,MATCHSELEVES!$Y$14:$AE$600,4,FALSE),0)","v":0},{"$f":"IFERROR(VLOOKUP(GG41,MATCHSELEVES!$Y$14:$AE$600,5,FALSE),0)","v":0},{"$f":"IFERROR(VLOOKUP(GG41,MATCHSELEVES!$Y$14:$AF$600,8,FALSE),0)","v":0},{"$f":"IFERROR(VLOOKUP(GG41,MATCHSELEVES!$Y$14:$AG$600,9,FALSE),0)","v":0},"jacques_30",{"$f":"IFERROR(VLOOKUP(GM41,MATCHSELEVES!$Y$14:$AE$600,3,FALSE),0)","v":0},{"$f":"IFERROR(VLOOKUP(GM41,MATCHSELEVES!$Y$14:$AE$600,4,FALSE),0)","v":0},{"$f":"IFERROR(VLOOKUP(GM41,MATCHSELEVES!$Y$14:$AE$600,5,FALSE),0)","v":0},{"$f":"IFERROR(VLOOKUP(GM41,MATCHSELEVES!$Y$14:$AF$600,8,FALSE),0)","v":0},{"$f":"IFERROR(VLOOKUP(GM41,MATCHSELEVES!$Y$14:$AG$600,9,FALSE),0)","v":0},"jacques_31",{"$f":"IFERROR(VLOOKUP(GS41,MATCHSELEVES!$Y$14:$AE$600,3,FALSE),0)","v":0},{"$f":"IFERROR(VLOOKUP(GS41,MATCHSELEVES!$Y$14:$AE$600,4,FALSE),0)","v":0},{"$f":"IFERROR(VLOOKUP(GS41,MATCHSELEVES!$Y$14:$AE$600,5,FALSE),0)","v":0},{"$f":"IFERROR(VLOOKUP(GS41,MATCHSELEVES!$Y$14:$AF$600,8,FALSE),0)","v":0},{"$f":"IFERROR(VLOOKUP(GS41,MATCHSELEVES!$Y$14:$AG$600,9,FALSE),0)","v":0},"jacques_32",{"$f":"IFERROR(VLOOKUP(GY41,MATCHSELEVES!$Y$14:$AE$600,3,FALSE),0)","v":0},{"$f":"IFERROR(VLOOKUP(GY41,MATCHSELEVES!$Y$14:$AE$600,4,FALSE),0)","v":0},{"$f":"IFERROR(VLOOKUP(GY41,MATCHSELEVES!$Y$14:$AE$600,5,FALSE),0)","v":0},{"$f":"IFERROR(VLOOKUP(GY41,MATCHSELEVES!$Y$14:$AF$600,8,FALSE),0)","v":0},{"$f":"IFERROR(VLOOKUP(GY41,MATCHSELEVES!$Y$14:$AG$600,9,FALSE),0)","v":0},"jacques_33",{"$f":"IFERROR(VLOOKUP(HE41,MATCHSELEVES!$Y$14:$AE$600,3,FALSE),0)","v":0},{"$f":"IFERROR(VLOOKUP(HE41,MATCHSELEVES!$Y$14:$AE$600,4,FALSE),0)","v":0},{"$f":"IFERROR(VLOOKUP(HE41,MATCHSELEVES!$Y$14:$AE$600,5,FALSE),0)","v":0},{"$f":"IFERROR(VLOOKUP(HE41,MATCHSELEVES!$Y$14:$AF$600,8,FALSE),0)","v":0},{"$f":"IFERROR(VLOOKUP(HE41,MATCHSELEVES!$Y$14:$AG$600,9,FALSE),0)","v":0},"jacques_34",{"$f":"IFERROR(VLOOKUP(HK41,MATCHSELEVES!$Y$14:$AE$600,3,FALSE),0)","v":0},{"$f":"IFERROR(VLOOKUP(HK41,MATCHSELEVES!$Y$14:$AE$600,4,FALSE),0)","v":0},{"$f":"IFERROR(VLOOKUP(HK41,MATCHSELEVES!$Y$14:$AE$600,5,FALSE),0)","v":0},{"$f":"IFERROR(VLOOKUP(HK41,MATCHSELEVES!$Y$14:$AF$600,8,FALSE),0)","v":0},{"$f":"IFERROR(VLOOKUP(HK41,MATCHSELEVES!$Y$14:$AG$600,9,FALSE),0)","v":0},"jacques_35",{"$f":"IFERROR(VLOOKUP(HQ41,MATCHSELEVES!$Y$14:$AE$600,3,FALSE),0)","v":0},{"$f":"IFERROR(VLOOKUP(HQ41,MATCHSELEVES!$Y$14:$AE$600,4,FALSE),0)","v":0},{"$f":"IFERROR(VLOOKUP(HQ41,MATCHSELEVES!$Y$14:$AE$600,5,FALSE),0)","v":0},{"$f":"IFERROR(VLOOKUP(HQ41,MATCHSELEVES!$Y$14:$AF$600,8,FALSE),0)","v":0},{"$f":"IFERROR(VLOOKUP(HQ41,MATCHSELEVES!$Y$14:$AG$600,9,FALSE),0)","v":0},"jacques_36",{"$f":"IFERROR(VLOOKUP(HW41,MATCHSELEVES!$Y$14:$AE$600,3,FALSE),0)","v":0},{"$f":"IFERROR(VLOOKUP(HW41,MATCHSELEVES!$Y$14:$AE$600,4,FALSE),0)","v":0},{"$f":"IFERROR(VLOOKUP(HW41,MATCHSELEVES!$Y$14:$AE$600,5,FALSE),0)","v":0},{"$f":"IFERROR(VLOOKUP(HW41,MATCHSELEVES!$Y$14:$AF$600,8,FALSE),0)","v":0},{"$f":"IFERROR(VLOOKUP(HW41,MATCHSELEVES!$Y$14:$AG$600,9,FALSE),0)","v":0},"jacques_37",{"$f":"IFERROR(VLOOKUP(IC41,MATCHSELEVES!$Y$14:$AE$600,3,FALSE),0)","v":0},{"$f":"IFERROR(VLOOKUP(IC41,MATCHSELEVES!$Y$14:$AE$600,4,FALSE),0)","v":0},{"$f":"IFERROR(VLOOKUP(IC41,MATCHSELEVES!$Y$14:$AE$600,5,FALSE),0)","v":0},{"$f":"IFERROR(VLOOKUP(IC41,MATCHSELEVES!$Y$14:$AF$600,8,FALSE),0)","v":0},{"$f":"IFERROR(VLOOKUP(IC41,MATCHSELEVES!$Y$14:$AG$600,9,FALSE),0)","v":0},"jacques_38",{"$f":"IFERROR(VLOOKUP(II41,MATCHSELEVES!$Y$14:$AE$600,3,FALSE),0)","v":0},{"$f":"IFERROR(VLOOKUP(II41,MATCHSELEVES!$Y$14:$AE$600,4,FALSE),0)","v":0},{"$f":"IFERROR(VLOOKUP(II41,MATCHSELEVES!$Y$14:$AE$600,5,FALSE),0)","v":0},{"$f":"IFERROR(VLOOKUP(II41,MATCHSELEVES!$Y$14:$AF$600,8,FALSE),0)","v":0},{"$f":"IFERROR(VLOOKUP(II41,MATCHSELEVES!$Y$14:$AG$600,9,FALSE),0)","v":0},"jacques_39",{"$f":"IFERROR(VLOOKUP(IO41,MATCHSELEVES!$Y$14:$AE$600,3,FALSE),0)","v":0},{"$f":"IFERROR(VLOOKUP(IO41,MATCHSELEVES!$Y$14:$AE$600,4,FALSE),0)","v":0},{"$f":"IFERROR(VLOOKUP(IO41,MATCHSELEVES!$Y$14:$AE$600,5,FALSE),0)","v":0},{"$f":"IFERROR(VLOOKUP(IO41,MATCHSELEVES!$Y$14:$AF$600,8,FALSE),0)","v":0},{"$f":"IFERROR(VLOOKUP(IO41,MATCHSELEVES!$Y$14:$AG$600,9,FALSE),0)","v":0},"jacques_40",{"$f":"IFERROR(VLOOKUP(IU41,MATCHSELEVES!$Y$14:$AE$600,3,FALSE),0)","v":0}]
[39,null,"antoine",39,null,null,{"$f":"COUNTIF(MATCHSELEVES!$Z$14:$Z$600,C42)+COUNTIF(MATCHSELEVES!$Z$14:$Z$600,$C42&\"p\")","v":0},{"$f":"RANK(G42,$G$4:$G$43)","v":1},{"$f":"COUNTIF(MATCHSELEVES!$F$14:$H$249,C42)","v":0},{"$f":"RANK(I42,$I$4:$I$43)","v":1},{"$f":"V42+AB42+AH42+AN42+AT42+AZ42+BF42+BL42+BX42+CD42+CJ42+CP42+CV42+DB42+DH42+DN42+DT42+DZ42+EF42+EL42+ER42+EX42+FD42+FJ42+FP42+FV42+GB42+GH42+GN42+GT42+GZ42+HF42+HL42+HR42+HX42+ID42+IJ42+IV42+JB42+JH42+JN42+JT42+JZ42+KF42+KL42+KR42+KX42+LD42+LJ42+LP42+LV42+MB42+MH42+MN42+MT42+MZ42+NF42+NL42+NX42+OD42+OJ42+OP42+OV42+PB42+PH42+PN42+PT42+PZ42+QF42+QL42+QR42+RD42+QX42+RJ42+RP42+RV42+SB42+BR42+IP42+NR42","v":0},{"$f":"RANK(K42,$K$4:$K$43)","v":1},{"$f":"IFERROR(M85/Tableau10[[#This Row],[Nombre de matchs joués]],0)","v":0},{"$f":"IF(Tableau10[[#This Row],[Nombre de points encaissés]]=0,$C$45,SUMPRODUCT((M$4:M$43<M42)*(M$4:M$43<>0))+1)","v":40},{"$f":"W42+AC42+AO42+AU42+BA42+BG42+BM42+BS42+BY42+CE42+CK42+CQ42+CW42+DC42+DI42+DO42+DU42+EA42+EM42+ES42+EY42+FE42+FK42+FQ42+FW42+GI42+GO42+GU42+HA42+HG42+HM42+HS42+HY42+IE42+IK42+IQ42+IW42+JC42+JI42+JO42+JU42+KA42+KG42+KM42+KS42+KY42+LE42+LK42+LQ42+LW42+MC42+MI42+MO42+MU42+NA42+NG42+NM42+NS42+NY42+OE42+OK42+OW42+PC42+OQ42+PO42+PI42+PU42+QA42+QG42+QM42+QS42+QY42+RK42+RQ42+RW42+SC42+AI42+EG42+GC42+RE42","v":0},{"$f":"RANK(O42,$O$4:$O$43)","v":1},{"$f":"(Tableau10[[#This Row],[CLASSEMENT1]]+Tableau10[[#This Row],[CLASSEMENT2]]+Tableau10[[#This Row],[CLASSEMENT3]]+Tableau10[[#This Row],[CLASSEMENT4]]+Tableau10[[#This Row],[CLASSEMENT5]]+Tableau10[[#This Row],[CLASSEMENT6]])/6","v":13.833333333333334},{"$f":"RANK(Tableau10[[#This Row],[MOYENNE CLASSEMENTS]],Tableau10[MOYENNE CLASSEMENTS],1)","v":39},null,{"$f":"Tableau10[[#This Row],[CLASSEMENT1]]","v":39},"antoine_1",{"$f":"IFERROR(VLOOKUP(U42,MATCHSELEVES!$Y$14:$AE$600,3,FALSE),0)","v":0},{"$f":"IFERROR(VLOOKUP(U42,MATCHSELEVES!$Y$14:$AE$600,4,FALSE),0)","v":0},{"$f":"IFERROR(VLOOKUP(U42,MATCHSELEVES!$Y$14:$AE$600,5,FALSE),0)","v":0},{"$f":"IFERROR(VLOOKUP(U42,MATCHSELEVES!$Y$14:$AF$600,8,FALSE),0)","v":0},{"$f":"IFERROR(VLOOKUP(U42,MATCHSELEVES!$Y$14:$AG$600,9,FALSE),0)","v":0},"antoine_2",{"$f":"IFERROR(VLOOKUP(AA42,MATCHSELEVES!$Y$14:$AE$600,3,FALSE),0)","v":0},{"$f":"IFERROR(VLOOKUP(AA42,MATCHSELEVES!$Y$14:$AE$600,4,FALSE),0)","v":0},{"$f":"IFERROR(VLOOKUP(AA42,MATCHSELEVES!$Y$14:$AE$600,5,FALSE),0)","v":0},{"$f":"IFERROR(VLOOKUP(AA42,MATCHSELEVES!$Y$14:$AF$600,8,FALSE),0)","v":0},{"$f":"IFERROR(VLOOKUP(AA42,MATCHSELEVES!$Y$14:$AG$600,9,FALSE),0)","v":0},"antoine_3",{"$f":"IFERROR(VLOOKUP(AG42,MATCHSELEVES!$Y$14:$AE$600,3,FALSE),0)","v":0},{"$f":"IFERROR(VLOOKUP(AG42,MATCHSELEVES!$Y$14:$AE$600,4,FALSE),0)","v":0},{"$f":"IFERROR(VLOOKUP(AG42,MATCHSELEVES!$Y$14:$AE$600,5,FALSE),0)","v":0},{"$f":"IFERROR(VLOOKUP(AG42,MATCHSELEVES!$Y$14:$AF$600,8,FALSE),0)","v":0},{"$f":"IFERROR(VLOOKUP(AG42,MATCHSELEVES!$Y$14:$AG$600,9,FALSE),0)","v":0},"antoine_4",{"$f":"IFERROR(VLOOKUP(AM42,MATCHSELEVES!$Y$14:$AE$600,3,FALSE),0)","v":0},{"$f":"IFERROR(VLOOKUP(AM42,MATCHSELEVES!$Y$14:$AE$600,4,FALSE),0)","v":0},{"$f":"IFERROR(VLOOKUP(AM42,MATCHSELEVES!$Y$14:$AE$600,5,FALSE),0)","v":0},{"$f":"IFERROR(VLOOKUP(AM42,MATCHSELEVES!$Y$14:$AF$600,8,FALSE),0)","v":0},{"$f":"IFERROR(VLOOKUP(AM42,MATCHSELEVES!$Y$14:$AG$600,9,FALSE),0)","v":0},"antoine_5",{"$f":"IFERROR(VLOOKUP(AS42,MATCHSELEVES!$Y$14:$AE$600,3,FALSE),0)","v":0},{"$f":"IFERROR(VLOOKUP(AS42,MATCHSELEVES!$Y$14:$AE$600,4,FALSE),0)","v":0},{"$f":"IFERROR(VLOOKUP(AS42,MATCHSELEVES!$Y$14:$AE$600,5,FALSE),0)","v":0},{"$f":"IFERROR(VLOOKUP(AS42,MATCHSELEVES!$Y$14:$AF$600,8,FALSE),0)","v":0},{"$f":"IFERROR(VLOOKUP(AS42,MATCHSELEVES!$Y$14:$AG$600,9,FALSE),0)","v":0},"antoine_6",{"$f":"IFERROR(VLOOKUP(AY42,MATCHSELEVES!$Y$14:$AE$600,3,FALSE),0)","v":0},{"$f":"IFERROR(VLOOKUP(AY42,MATCHSELEVES!$Y$14:$AE$600,4,FALSE),0)","v":0},{"$f":"IFERROR(VLOOKUP(AY42,MATCHSELEVES!$Y$14:$AE$600,5,FALSE),0)","v":0},{"$f":"IFERROR(VLOOKUP(AY42,MATCHSELEVES!$Y$14:$AF$600,8,FALSE),0)","v":0},{"$f":"IFERROR(VLOOKUP(AY42,MATCHSELEVES!$Y$14:$AG$600,9,FALSE),0)","v":0},"antoine_7",{"$f":"IFERROR(VLOOKUP(BE42,MATCHSELEVES!$Y$14:$AE$600,3,FALSE),0)","v":0},{"$f":"IFERROR(VLOOKUP(BE42,MATCHSELEVES!$Y$14:$AE$600,4,FALSE),0)","v":0},{"$f":"IFERROR(VLOOKUP(BE42,MATCHSELEVES!$Y$14:$AE$600,5,FALSE),0)","v":0},{"$f":"IFERROR(VLOOKUP(BE42,MATCHSELEVES!$Y$14:$AF$600,8,FALSE),0)","v":0},{"$f":"IFERROR(VLOOKUP(BE42,MATCHSELEVES!$Y$14:$AG$600,9,FALSE),0)","v":0},"antoine_8",{"$f":"IFERROR(VLOOKUP(BK42,MATCHSELEVES!$Y$14:$AE$600,3,FALSE),0)","v":0},{"$f":"IFERROR(VLOOKUP(BK42,MATCHSELEVES!$Y$14:$AE$600,4,FALSE),0)","v":0},{"$f":"IFERROR(VLOOKUP(BK42,MATCHSELEVES!$Y$14:$AE$600,5,FALSE),0)","v":0},{"$f":"IFERROR(VLOOKUP(BK42,MATCHSELEVES!$Y$14:$AF$600,8,FALSE),0)","v":0},{"$f":"IFERROR(VLOOKUP(BK42,MATCHSELEVES!$Y$14:$AG$600,9,FALSE),0)","v":0},"antoine_9",{"$f":"IFERROR(VLOOKUP(BQ42,MATCHSELEVES!$Y$14:$AE$600,3,FALSE),0)","v":0},{"$f":"IFERROR(VLOOKUP(BQ42,MATCHSELEVES!$Y$14:$AE$600,4,FALSE),0)","v":0},{"$f":"IFERROR(VLOOKUP(BQ42,MATCHSELEVES!$Y$14:$AE$600,5,FALSE),0)","v":0},{"$f":"IFERROR(VLOOKUP(BQ42,MATCHSELEVES!$Y$14:$AF$600,8,FALSE),0)","v":0},{"$f":"IFERROR(VLOOKUP(BQ42,MATCHSELEVES!$Y$14:$AG$600,9,FALSE),0)","v":0},"antoine_10",{"$f":"IFERROR(VLOOKUP(BW42,MATCHSELEVES!$Y$14:$AE$600,3,FALSE),0)","v":0},{"$f":"IFERROR(VLOOKUP(BW42,MATCHSELEVES!$Y$14:$AE$600,4,FALSE),0)","v":0},{"$f":"IFERROR(VLOOKUP(BW42,MATCHSELEVES!$Y$14:$AE$600,5,FALSE),0)","v":0},{"$f":"IFERROR(VLOOKUP(BW42,MATCHSELEVES!$Y$14:$AF$600,8,FALSE),0)","v":0},{"$f":"IFERROR(VLOOKUP(BW42,MATCHSELEVES!$Y$14:$AG$600,9,FALSE),0)","v":0},"antoine_11",{"$f":"IFERROR(VLOOKUP(CC42,MATCHSELEVES!$Y$14:$AE$600,3,FALSE),0)","v":0},{"$f":"IFERROR(VLOOKUP(CC42,MATCHSELEVES!$Y$14:$AE$600,4,FALSE),0)","v":0},{"$f":"IFERROR(VLOOKUP(CC42,MATCHSELEVES!$Y$14:$AE$600,5,FALSE),0)","v":0},{"$f":"IFERROR(VLOOKUP(CC42,MATCHSELEVES!$Y$14:$AF$600,8,FALSE),0)","v":0},{"$f":"IFERROR(VLOOKUP(CC42,MATCHSELEVES!$Y$14:$AG$600,9,FALSE),0)","v":0},"antoine_12",{"$f":"IFERROR(VLOOKUP(CI42,MATCHSELEVES!$Y$14:$AE$600,3,FALSE),0)","v":0},{"$f":"IFERROR(VLOOKUP(CI42,MATCHSELEVES!$Y$14:$AE$600,4,FALSE),0)","v":0},{"$f":"IFERROR(VLOOKUP(CI42,MATCHSELEVES!$Y$14:$AE$600,5,FALSE),0)","v":0},{"$f":"IFERROR(VLOOKUP(CI42,MATCHSELEVES!$Y$14:$AF$600,8,FALSE),0)","v":0},{"$f":"IFERROR(VLOOKUP(CI42,MATCHSELEVES!$Y$14:$AG$600,9,FALSE),0)","v":0},"antoine_13",{"$f":"IFERROR(VLOOKUP(CO42,MATCHSELEVES!$Y$14:$AE$600,3,FALSE),0)","v":0},{"$f":"IFERROR(VLOOKUP(CO42,MATCHSELEVES!$Y$14:$AE$600,4,FALSE),0)","v":0},{"$f":"IFERROR(VLOOKUP(CO42,MATCHSELEVES!$Y$14:$AE$600,5,FALSE),0)","v":0},{"$f":"IFERROR(VLOOKUP(CO42,MATCHSELEVES!$Y$14:$AF$600,8,FALSE),0)","v":0},{"$f":"IFERROR(VLOOKUP(CO42,MATCHSELEVES!$Y$14:$AG$600,9,FALSE),0)","v":0},"antoine_14",{"$f":"IFERROR(VLOOKUP(CU42,MATCHSELEVES!$Y$14:$AE$600,3,FALSE),0)","v":0},{"$f":"IFERROR(VLOOKUP(CU42,MATCHSELEVES!$Y$14:$AE$600,4,FALSE),0)","v":0},{"$f":"IFERROR(VLOOKUP(CU42,MATCHSELEVES!$Y$14:$AE$600,5,FALSE),0)","v":0},{"$f":"IFERROR(VLOOKUP(CU42,MATCHSELEVES!$Y$14:$AF$600,8,FALSE),0)","v":0},{"$f":"IFERROR(VLOOKUP(CU42,MATCHSELEVES!$Y$14:$AG$600,9,FALSE),0)","v":0},"antoine_15",{"$f":"IFERROR(VLOOKUP(DA42,MATCHSELEVES!$Y$14:$AE$600,3,FALSE),0)","v":0},{"$f":"IFERROR(VLOOKUP(DA42,MATCHSELEVES!$Y$14:$AE$600,4,FALSE),0)","v":0},{"$f":"IFERROR(VLOOKUP(DA42,MATCHSELEVES!$Y$14:$AE$600,5,FALSE),0)","v":0},{"$f":"IFERROR(VLOOKUP(DA42,MATCHSELEVES!$Y$14:$AF$600,8,FALSE),0)","v":0},{"$f":"IFERROR(VLOOKUP(DA42,MATCHSELEVES!$Y$14:$AG$600,9,FALSE),0)","v":0},"antoine_16",{"$f":"IFERROR(VLOOKUP(DG42,MATCHSELEVES!$Y$14:$AE$600,3,FALSE),0)","v":0},{"$f":"IFERROR(VLOOKUP(DG42,MATCHSELEVES!$Y$14:$AE$600,4,FALSE),0)","v":0},{"$f":"IFERROR(VLOOKUP(DG42,MATCHSELEVES!$Y$14:$AE$600,5,FALSE),0)","v":0},{"$f":"IFERROR(VLOOKUP(DG42,MATCHSELEVES!$Y$14:$AF$600,8,FALSE),0)","v":0},{"$f":"IFERROR(VLOOKUP(DG42,MATCHSELEVES!$Y$14:$AG$600,9,FALSE),0)","v":0},"antoine_17",{"$f":"IFERROR(VLOOKUP(DM42,MATCHSELEVES!$Y$14:$AE$600,3,FALSE),0)","v":0},{"$f":"IFERROR(VLOOKUP(DM42,MATCHSELEVES!$Y$14:$AE$600,4,FALSE),0)","v":0},{"$f":"IFERROR(VLOOKUP(DM42,MATCHSELEVES!$Y$14:$AE$600,5,FALSE),0)","v":0},{"$f":"IFERROR(VLOOKUP(DM42,MATCHSELEVES!$Y$14:$AF$600,8,FALSE),0)","v":0},{"$f":"IFERROR(VLOOKUP(DM42,MATCHSELEVES!$Y$14:$AG$600,9,FALSE),0)","v":0},"antoine_18",{"$f":"IFERROR(VLOOKUP(DS42,MATCHSELEVES!$Y$14:$AE$600,3,FALSE),0)","v":0},{"$f":"IFERROR(VLOOKUP(DS42,MATCHSELEVES!$Y$14:$AE$600,4,FALSE),0)","v":0},{"$f":"IFERROR(VLOOKUP(DS42,MATCHSELEVES!$Y$14:$AE$600,5,FALSE),0)","v":0},{"$f":"IFERROR(VLOOKUP(DS42,MATCHSELEVES!$Y$14:$AF$600,8,FALSE),0)","v":0},{"$f":"IFERROR(VLOOKUP(DS42,MATCHSELEVES!$Y$14:$AG$600,9,FALSE),0)","v":0},"antoine_19",{"$f":"IFERROR(VLOOKUP(DY42,MATCHSELEVES!$Y$14:$AE$600,3,FALSE),0)","v":0},{"$f":"IFERROR(VLOOKUP(DY42,MATCHSELEVES!$Y$14:$AE$600,4,FALSE),0)","v":0},{"$f":"IFERROR(VLOOKUP(DY42,MATCHSELEVES!$Y$14:$AE$600,5,FALSE),0)","v":0},{"$f":"IFERROR(VLOOKUP(DY42,MATCHSELEVES!$Y$14:$AF$600,8,FALSE),0)","v":0},{"$f":"IFERROR(VLOOKUP(DY42,MATCHSELEVES!$Y$14:$AG$600,9,FALSE),0)","v":0},"antoine_20",{"$f":"IFERROR(VLOOKUP(EE42,MATCHSELEVES!$Y$14:$AE$600,3,FALSE),0)","v":0},{"$f":"IFERROR(VLOOKUP(EE42,MATCHSELEVES!$Y$14:$AE$600,4,FALSE),0)","v":0},{"$f":"IFERROR(VLOOKUP(EE42,MATCHSELEVES!$Y$14:$AE$600,5,FALSE),0)","v":0},{"$f":"IFERROR(VLOOKUP(EE42,MATCHSELEVES!$Y$14:$AF$600,8,FALSE),0)","v":0},{"$f":"IFERROR(VLOOKUP(EE42,MATCHSELEVES!$Y$14:$AG$600,9,FALSE),0)","v":0},"antoine_21",{"$f":"IFERROR(VLOOKUP(EK42,MATCHSELEVES!$Y$14:$AE$600,3,FALSE),0)","v":0},{"$f":"IFERROR(VLOOKUP(EK42,MATCHSELEVES!$Y$14:$AE$600,4,FALSE),0)","v":0},{"$f":"IFERROR(VLOOKUP(EK42,MATCHSELEVES!$Y$14:$AE$600,5,FALSE),0)","v":0},{"$f":"IFERROR(VLOOKUP(EK42,MATCHSELEVES!$Y$14:$AF$600,8,FALSE),0)","v":0},{"$f":"IFERROR(VLOOKUP(EK42,MATCHSELEVES!$Y$14:$AG$600,9,FALSE),0)","v":0},"antoine_22",{"$f":"IFERROR(VLOOKUP(EQ42,MATCHSELEVES!$Y$14:$AE$600,3,FALSE),0)","v":0},{"$f":"IFERROR(VLOOKUP(EQ42,MATCHSELEVES!$Y$14:$AE$600,4,FALSE),0)","v":0},{"$f":"IFERROR(VLOOKUP(EQ42,MATCHSELEVES!$Y$14:$AE$600,5,FALSE),0)","v":0},{"$f":"IFERROR(VLOOKUP(EQ42,MATCHSELEVES!$Y$14:$AF$600,8,FALSE),0)","v":0},{"$f":"IFERROR(VLOOKUP(EQ42,MATCHSELEVES!$Y$14:$AG$600,9,FALSE),0)","v":0},"antoine_23",{"$f":"IFERROR(VLOOKUP(EW42,MATCHSELEVES!$Y$14:$AE$600,3,FALSE),0)","v":0},{"$f":"IFERROR(VLOOKUP(EW42,MATCHSELEVES!$Y$14:$AE$600,4,FALSE),0)","v":0},{"$f":"IFERROR(VLOOKUP(EW42,MATCHSELEVES!$Y$14:$AE$600,5,FALSE),0)","v":0},{"$f":"IFERROR(VLOOKUP(EW42,MATCHSELEVES!$Y$14:$AF$600,8,FALSE),0)","v":0},{"$f":"IFERROR(VLOOKUP(EW42,MATCHSELEVES!$Y$14:$AG$600,9,FALSE),0)","v":0},"antoine_24",{"$f":"IFERROR(VLOOKUP(FC42,MATCHSELEVES!$Y$14:$AE$600,3,FALSE),0)","v":0},{"$f":"IFERROR(VLOOKUP(FC42,MATCHSELEVES!$Y$14:$AE$600,4,FALSE),0)","v":0},{"$f":"IFERROR(VLOOKUP(FC42,MATCHSELEVES!$Y$14:$AE$600,5,FALSE),0)","v":0},{"$f":"IFERROR(VLOOKUP(FC42,MATCHSELEVES!$Y$14:$AF$600,8,FALSE),0)","v":0},{"$f":"IFERROR(VLOOKUP(FC42,MATCHSELEVES!$Y$14:$AG$600,9,FALSE),0)","v":0},"antoine_25",{"$f":"IFERROR(VLOOKUP(FI42,MATCHSELEVES!$Y$14:$AE$600,3,FALSE),0)","v":0},{"$f":"IFERROR(VLOOKUP(FI42,MATCHSELEVES!$Y$14:$AE$600,4,FALSE),0)","v":0},{"$f":"IFERROR(VLOOKUP(FI42,MATCHSELEVES!$Y$14:$AE$600,5,FALSE),0)","v":0},{"$f":"IFERROR(VLOOKUP(FI42,MATCHSELEVES!$Y$14:$AF$600,8,FALSE),0)","v":0},{"$f":"IFERROR(VLOOKUP(FI42,MATCHSELEVES!$Y$14:$AG$600,9,FALSE),0)","v":0},"antoine_26",{"$f":"IFERROR(VLOOKUP(FO42,MATCHSELEVES!$Y$14:$AE$600,3,FALSE),0)","v":0},{"$f":"IFERROR(VLOOKUP(FO42,MATCHSELEVES!$Y$14:$AE$600,4,FALSE),0)","v":0},{"$f":"IFERROR(VLOOKUP(FO42,MATCHSELEVES!$Y$14:$AE$600,5,FALSE),0)","v":0},{"$f":"IFERROR(VLOOKUP(FO42,MATCHSELEVES!$Y$14:$AF$600,8,FALSE),0)","v":0},{"$f":"IFERROR(VLOOKUP(FO42,MATCHSELEVES!$Y$14:$AG$600,9,FALSE),0)","v":0},"antoine_27",{"$f":"IFERROR(VLOOKUP(FU42,MATCHSELEVES!$Y$14:$AE$600,3,FALSE),0)","v":0},{"$f":"IFERROR(VLOOKUP(FU42,MATCHSELEVES!$Y$14:$AE$600,4,FALSE),0)","v":0},{"$f":"IFERROR(VLOOKUP(FU42,MATCHSELEVES!$Y$14:$AE$600,5,FALSE),0)","v":0},{"$f":"IFERROR(VLOOKUP(FU42,MATCHSELEVES!$Y$14:$AF$600,8,FALSE),0)","v":0},{"$f":"IFERROR(VLOOKUP(FU42,MATCHSELEVES!$Y$14:$AG$600,9,FALSE),0)","v":0},"antoine_28",{"$f":"IFERROR(VLOOKUP(GA42,MATCHSELEVES!$Y$14:$AE$600,3,FALSE),0)","v":0},{"$f":"IFERROR(VLOOKUP(GA42,MATCHSELEVES!$Y$14:$AE$600,4,FALSE),0)","v":0},{"$f":"IFERROR(VLOOKUP(GA42,MATCHSELEVES!$Y$14:$AE$600,5,FALSE),0)","v":0},{"$f":"IFERROR(VLOOKUP(GA42,MATCHSELEVES!$Y$14:$AF$600,8,FALSE),0)","v":0},{"$f":"IFERROR(VLOOKUP(GA42,MATCHSELEVES!$Y$14:$AG$600,9,FALSE),0)","v":0},"antoine_29",{"$f":"IFERROR(VLOOKUP(GG42,MATCHSELEVES!$Y$14:$AE$600,3,FALSE),0)","v":0},{"$f":"IFERROR(VLOOKUP(GG42,MATCHSELEVES!$Y$14:$AE$600,4,FALSE),0)","v":0},{"$f":"IFERROR(VLOOKUP(GG42,MATCHSELEVES!$Y$14:$AE$600,5,FALSE),0)","v":0},{"$f":"IFERROR(VLOOKUP(GG42,MATCHSELEVES!$Y$14:$AF$600,8,FALSE),0)","v":0},{"$f":"IFERROR(VLOOKUP(GG42,MATCHSELEVES!$Y$14:$AG$600,9,FALSE),0)","v":0},"antoine_30",{"$f":"IFERROR(VLOOKUP(GM42,MATCHSELEVES!$Y$14:$AE$600,3,FALSE),0)","v":0},{"$f":"IFERROR(VLOOKUP(GM42,MATCHSELEVES!$Y$14:$AE$600,4,FALSE),0)","v":0},{"$f":"IFERROR(VLOOKUP(GM42,MATCHSELEVES!$Y$14:$AE$600,5,FALSE),0)","v":0},{"$f":"IFERROR(VLOOKUP(GM42,MATCHSELEVES!$Y$14:$AF$600,8,FALSE),0)","v":0},{"$f":"IFERROR(VLOOKUP(GM42,MATCHSELEVES!$Y$14:$AG$600,9,FALSE),0)","v":0},"antoine_31",{"$f":"IFERROR(VLOOKUP(GS42,MATCHSELEVES!$Y$14:$AE$600,3,FALSE),0)","v":0},{"$f":"IFERROR(VLOOKUP(GS42,MATCHSELEVES!$Y$14:$AE$600,4,FALSE),0)","v":0},{"$f":"IFERROR(VLOOKUP(GS42,MATCHSELEVES!$Y$14:$AE$600,5,FALSE),0)","v":0},{"$f":"IFERROR(VLOOKUP(GS42,MATCHSELEVES!$Y$14:$AF$600,8,FALSE),0)","v":0},{"$f":"IFERROR(VLOOKUP(GS42,MATCHSELEVES!$Y$14:$AG$600,9,FALSE),0)","v":0},"antoine_32",{"$f":"IFERROR(VLOOKUP(GY42,MATCHSELEVES!$Y$14:$AE$600,3,FALSE),0)","v":0},{"$f":"IFERROR(VLOOKUP(GY42,MATCHSELEVES!$Y$14:$AE$600,4,FALSE),0)","v":0},{"$f":"IFERROR(VLOOKUP(GY42,MATCHSELEVES!$Y$14:$AE$600,5,FALSE),0)","v":0},{"$f":"IFERROR(VLOOKUP(GY42,MATCHSELEVES!$Y$14:$AF$600,8,FALSE),0)","v":0},{"$f":"IFERROR(VLOOKUP(GY42,MATCHSELEVES!$Y$14:$AG$600,9,FALSE),0)","v":0},"antoine_33",{"$f":"IFERROR(VLOOKUP(HE42,MATCHSELEVES!$Y$14:$AE$600,3,FALSE),0)","v":0},{"$f":"IFERROR(VLOOKUP(HE42,MATCHSELEVES!$Y$14:$AE$600,4,FALSE),0)","v":0},{"$f":"IFERROR(VLOOKUP(HE42,MATCHSELEVES!$Y$14:$AE$600,5,FALSE),0)","v":0},{"$f":"IFERROR(VLOOKUP(HE42,MATCHSELEVES!$Y$14:$AF$600,8,FALSE),0)","v":0},{"$f":"IFERROR(VLOOKUP(HE42,MATCHSELEVES!$Y$14:$AG$600,9,FALSE),0)","v":0},"antoine_34",{"$f":"IFERROR(VLOOKUP(HK42,MATCHSELEVES!$Y$14:$AE$600,3,FALSE),0)","v":0},{"$f":"IFERROR(VLOOKUP(HK42,MATCHSELEVES!$Y$14:$AE$600,4,FALSE),0)","v":0},{"$f":"IFERROR(VLOOKUP(HK42,MATCHSELEVES!$Y$14:$AE$600,5,FALSE),0)","v":0},{"$f":"IFERROR(VLOOKUP(HK42,MATCHSELEVES!$Y$14:$AF$600,8,FALSE),0)","v":0},{"$f":"IFERROR(VLOOKUP(HK42,MATCHSELEVES!$Y$14:$AG$600,9,FALSE),0)","v":0},"antoine_35",{"$f":"IFERROR(VLOOKUP(HQ42,MATCHSELEVES!$Y$14:$AE$600,3,FALSE),0)","v":0},{"$f":"IFERROR(VLOOKUP(HQ42,MATCHSELEVES!$Y$14:$AE$600,4,FALSE),0)","v":0},{"$f":"IFERROR(VLOOKUP(HQ42,MATCHSELEVES!$Y$14:$AE$600,5,FALSE),0)","v":0},{"$f":"IFERROR(VLOOKUP(HQ42,MATCHSELEVES!$Y$14:$AF$600,8,FALSE),0)","v":0},{"$f":"IFERROR(VLOOKUP(HQ42,MATCHSELEVES!$Y$14:$AG$600,9,FALSE),0)","v":0},"antoine_36",{"$f":"IFERROR(VLOOKUP(HW42,MATCHSELEVES!$Y$14:$AE$600,3,FALSE),0)","v":0},{"$f":"IFERROR(VLOOKUP(HW42,MATCHSELEVES!$Y$14:$AE$600,4,FALSE),0)","v":0},{"$f":"IFERROR(VLOOKUP(HW42,MATCHSELEVES!$Y$14:$AE$600,5,FALSE),0)","v":0},{"$f":"IFERROR(VLOOKUP(HW42,MATCHSELEVES!$Y$14:$AF$600,8,FALSE),0)","v":0},{"$f":"IFERROR(VLOOKUP(HW42,MATCHSELEVES!$Y$14:$AG$600,9,FALSE),0)","v":0},"antoine_37",{"$f":"IFERROR(VLOOKUP(IC42,MATCHSELEVES!$Y$14:$AE$600,3,FALSE),0)","v":0},{"$f":"IFERROR(VLOOKUP(IC42,MATCHSELEVES!$Y$14:$AE$600,4,FALSE),0)","v":0},{"$f":"IFERROR(VLOOKUP(IC42,MATCHSELEVES!$Y$14:$AE$600,5,FALSE),0)","v":0},{"$f":"IFERROR(VLOOKUP(IC42,MATCHSELEVES!$Y$14:$AF$600,8,FALSE),0)","v":0},{"$f":"IFERROR(VLOOKUP(IC42,MATCHSELEVES!$Y$14:$AG$600,9,FALSE),0)","v":0},"antoine_38",{"$f":"IFERROR(VLOOKUP(II42,MATCHSELEVES!$Y$14:$AE$600,3,FALSE),0)","v":0},{"$f":"IFERROR(VLOOKUP(II42,MATCHSELEVES!$Y$14:$AE$600,4,FALSE),0)","v":0},{"$f":"IFERROR(VLOOKUP(II42,MATCHSELEVES!$Y$14:$AE$600,5,FALSE),0)","v":0},{"$f":"IFERROR(VLOOKUP(II42,MATCHSELEVES!$Y$14:$AF$600,8,FALSE),0)","v":0},{"$f":"IFERROR(VLOOKUP(II42,MATCHSELEVES!$Y$14:$AG$600,9,FALSE),0)","v":0},"antoine_39",{"$f":"IFERROR(VLOOKUP(IO42,MATCHSELEVES!$Y$14:$AE$600,3,FALSE),0)","v":0},{"$f":"IFERROR(VLOOKUP(IO42,MATCHSELEVES!$Y$14:$AE$600,4,FALSE),0)","v":0},{"$f":"IFERROR(VLOOKUP(IO42,MATCHSELEVES!$Y$14:$AE$600,5,FALSE),0)","v":0},{"$f":"IFERROR(VLOOKUP(IO42,MATCHSELEVES!$Y$14:$AF$600,8,FALSE),0)","v":0},{"$f":"IFERROR(VLOOKUP(IO42,MATCHSELEVES!$Y$14:$AG$600,9,FALSE),0)","v":0},"antoine_40",{"$f":"IFERROR(VLOOKUP(IU42,MATCHSELEVES!$Y$14:$AE$600,3,FALSE),0)","v":0}]
[40,null,"Jean",40,null,null,{"$f":"COUNTIF(MATCHSELEVES!$Z$14:$Z$600,C43)+COUNTIF(MATCHSELEVES!$Z$14:$Z$600,$C43&\"p\")","v":0},{"$f":"RANK(G43,$G$4:$G$43)","v":1},{"$f":"COUNTIF(MATCHSELEVES!$F$14:$H$249,C43)","v":0},{"$f":"RANK(I43,$I$4:$I$43)","v":1},{"$f":"V43+AB43+AH43+AN43+AT43+AZ43+BF43+BL43+BX43+CD43+CJ43+CP43+CV43+DB43+DH43+DN43+DT43+DZ43+EF43+EL43+ER43+EX43+FD43+FJ43+FP43+FV43+GB43+GH43+GN43+GT43+GZ43+HF43+HL43+HR43+HX43+ID43+IJ43+IV43+JB43+JH43+JN43+JT43+JZ43+KF43+KL43+KR43+KX43+LD43+LJ43+LP43+LV43+MB43+MH43+MN43+MT43+MZ43+NF43+NL43+NX43+OD43+OJ43+OP43+OV43+PB43+PH43+PN43+PT43+PZ43+QF43+QL43+QR43+RD43+QX43+RJ43+RP43+RV43+SB43+BR43+IP43+NR43","v":0},{"$f":"RANK(K43,$K$4:$K$43)","v":1},{"$f":"IFERROR(M86/Tableau10[[#This Row],[Nombre de matchs joués]],0)","v":0},{"$f":"IF(Tableau10[[#This Row],[Nombre de points encaissés]]=0,$C$45,SUMPRODUCT((M$4:M$43<M43)*(M$4:M$43<>0))+1)","v":40},{"$f":"W43+AC43+AO43+AU43+BA43+BG43+BM43+BS43+BY43+CE43+CK43+CQ43+CW43+DC43+DI43+DO43+DU43+EA43+EM43+ES43+EY43+FE43+FK43+FQ43+FW43+GI43+GO43+GU43+HA43+HG43+HM43+HS43+HY43+IE43+IK43+IQ43+IW43+JC43+JI43+JO43+JU43+KA43+KG43+KM43+KS43+KY43+LE43+LK43+LQ43+LW43+MC43+MI43+MO43+MU43+NA43+NG43+NM43+NS43+NY43+OE43+OK43+OW43+PC43+OQ43+PO43+PI43+PU43+QA43+QG43+QM43+QS43+QY43+RK43+RQ43+RW43+SC43+AI43+EG43+GC43+RE43","v":0},{"$f":"RANK(O43,$O$4:$O$43)","v":1},{"$f":"(Tableau10[[#This Row],[CLASSEMENT1]]+Tableau10[[#This Row],[CLASSEMENT2]]+Tableau10[[#This Row],[CLASSEMENT3]]+Tableau10[[#This Row],[CLASSEMENT4]]+Tableau10[[#This Row],[CLASSEMENT5]]+Tableau10[[#This Row],[CLASSEMENT6]])/6","v":14},{"$f":"RANK(Tableau10[[#This Row],[MOYENNE CLASSEMENTS]],Tableau10[MOYENNE CLASSEMENTS],1)","v":40},null,{"$f":"Tableau10[[#This Row],[CLASSEMENT1]]","v":40},"Jean_1",{"$f":"IFERROR(VLOOKUP(U43,MATCHSELEVES!$Y$14:$AE$600,3,FALSE),0)","v":0},{"$f":"IFERROR(VLOOKUP(U43,MATCHSELEVES!$Y$14:$AE$600,4,FALSE),0)","v":0},{"$f":"IFERROR(VLOOKUP(U43,MATCHSELEVES!$Y$14:$AE$600,5,FALSE),0)","v":0},{"$f":"IFERROR(VLOOKUP(U43,MATCHSELEVES!$Y$14:$AF$600,8,FALSE),0)","v":0},{"$f":"IFERROR(VLOOKUP(U43,MATCHSELEVES!$Y$14:$AG$600,9,FALSE),0)","v":0},"Jean_2",{"$f":"IFERROR(VLOOKUP(AA43,MATCHSELEVES!$Y$14:$AE$600,3,FALSE),0)","v":0},{"$f":"IFERROR(VLOOKUP(AA43,MATCHSELEVES!$Y$14:$AE$600,4,FALSE),0)","v":0},{"$f":"IFERROR(VLOOKUP(AA43,MATCHSELEVES!$Y$14:$AE$600,5,FALSE),0)","v":0},{"$f":"IFERROR(VLOOKUP(AA43,MATCHSELEVES!$Y$14:$AF$600,8,FALSE),0)","v":0},{"$f":"IFERROR(VLOOKUP(AA43,MATCHSELEVES!$Y$14:$AG$600,9,FALSE),0)","v":0},"Jean_3",{"$f":"IFERROR(VLOOKUP(AG43,MATCHSELEVES!$Y$14:$AE$600,3,FALSE),0)","v":0},{"$f":"IFERROR(VLOOKUP(AG43,MATCHSELEVES!$Y$14:$AE$600,4,FALSE),0)","v":0},{"$f":"IFERROR(VLOOKUP(AG43,MATCHSELEVES!$Y$14:$AE$600,5,FALSE),0)","v":0},{"$f":"IFERROR(VLOOKUP(AG43,MATCHSELEVES!$Y$14:$AF$600,8,FALSE),0)","v":0},{"$f":"IFERROR(VLOOKUP(AG43,MATCHSELEVES!$Y$14:$AG$600,9,FALSE),0)","v":0},"Jean_4",{"$f":"IFERROR(VLOOKUP(AM43,MATCHSELEVES!$Y$14:$AE$600,3,FALSE),0)","v":0},{"$f":"IFERROR(VLOOKUP(AM43,MATCHSELEVES!$Y$14:$AE$600,4,FALSE),0)","v":0},{"$f":"IFERROR(VLOOKUP(AM43,MATCHSELEVES!$Y$14:$AE$600,5,FALSE),0)","v":0},{"$f":"IFERROR(VLOOKUP(AM43,MATCHSELEVES!$Y$14:$AF$600,8,FALSE),0)","v":0},{"$f":"IFERROR(VLOOKUP(AM43,MATCHSELEVES!$Y$14:$AG$600,9,FALSE),0)","v":0},"Jean_5",{"$f":"IFERROR(VLOOKUP(AS43,MATCHSELEVES!$Y$14:$AE$600,3,FALSE),0)","v":0},{"$f":"IFERROR(VLOOKUP(AS43,MATCHSELEVES!$Y$14:$AE$600,4,FALSE),0)","v":0},{"$f":"IFERROR(VLOOKUP(AS43,MATCHSELEVES!$Y$14:$AE$600,5,FALSE),0)","v":0},{"$f":"IFERROR(VLOOKUP(AS43,MATCHSELEVES!$Y$14:$AF$600,8,FALSE),0)","v":0},{"$f":"IFERROR(VLOOKUP(AS43,MATCHSELEVES!$Y$14:$AG$600,9,FALSE),0)","v":0},"Jean_6",{"$f":"IFERROR(VLOOKUP(AY43,MATCHSELEVES!$Y$14:$AE$600,3,FALSE),0)","v":0},{"$f":"IFERROR(VLOOKUP(AY43,MATCHSELEVES!$Y$14:$AE$600,4,FALSE),0)","v":0},{"$f":"IFERROR(VLOOKUP(AY43,MATCHSELEVES!$Y$14:$AE$600,5,FALSE),0)","v":0},{"$f":"IFERROR(VLOOKUP(AY43,MATCHSELEVES!$Y$14:$AF$600,8,FALSE),0)","v":0},{"$f":"IFERROR(VLOOKUP(AY43,MATCHSELEVES!$Y$14:$AG$600,9,FALSE),0)","v":0},"Jean_7",{"$f":"IFERROR(VLOOKUP(BE43,MATCHSELEVES!$Y$14:$AE$600,3,FALSE),0)","v":0},{"$f":"IFERROR(VLOOKUP(BE43,MATCHSELEVES!$Y$14:$AE$600,4,FALSE),0)","v":0},{"$f":"IFERROR(VLOOKUP(BE43,MATCHSELEVES!$Y$14:$AE$600,5,FALSE),0)","v":0},{"$f":"IFERROR(VLOOKUP(BE43,MATCHSELEVES!$Y$14:$AF$600,8,FALSE),0)","v":0},{"$f":"IFERROR(VLOOKUP(BE43,MATCHSELEVES!$Y$14:$AG$600,9,FALSE),0)","v":0},"Jean_8",{"$f":"IFERROR(VLOOKUP(BK43,MATCHSELEVES!$Y$14:$AE$600,3,FALSE),0)","v":0},{"$f":"IFERROR(VLOOKUP(BK43,MATCHSELEVES!$Y$14:$AE$600,4,FALSE),0)","v":0},{"$f":"IFERROR(VLOOKUP(BK43,MATCHSELEVES!$Y$14:$AE$600,5,FALSE),0)","v":0},{"$f":"IFERROR(VLOOKUP(BK43,MATCHSELEVES!$Y$14:$AF$600,8,FALSE),0)","v":0},{"$f":"IFERROR(VLOOKUP(BK43,MATCHSELEVES!$Y$14:$AG$600,9,FALSE),0)","v":0},"Jean_9",{"$f":"IFERROR(VLOOKUP(BQ43,MATCHSELEVES!$Y$14:$AE$600,3,FALSE),0)","v":0},{"$f":"IFERROR(VLOOKUP(BQ43,MATCHSELEVES!$Y$14:$AE$600,4,FALSE),0)","v":0},{"$f":"IFERROR(VLOOKUP(BQ43,MATCHSELEVES!$Y$14:$AE$600,5,FALSE),0)","v":0},{"$f":"IFERROR(VLOOKUP(BQ43,MATCHSELEVES!$Y$14:$AF$600,8,FALSE),0)","v":0},{"$f":"IFERROR(VLOOKUP(BQ43,MATCHSELEVES!$Y$14:$AG$600,9,FALSE),0)","v":0},"Jean_10",{"$f":"IFERROR(VLOOKUP(BW43,MATCHSELEVES!$Y$14:$AE$600,3,FALSE),0)","v":0},{"$f":"IFERROR(VLOOKUP(BW43,MATCHSELEVES!$Y$14:$AE$600,4,FALSE),0)","v":0},{"$f":"IFERROR(VLOOKUP(BW43,MATCHSELEVES!$Y$14:$AE$600,5,FALSE),0)","v":0},{"$f":"IFERROR(VLOOKUP(BW43,MATCHSELEVES!$Y$14:$AF$600,8,FALSE),0)","v":0},{"$f":"IFERROR(VLOOKUP(BW43,MATCHSELEVES!$Y$14:$AG$600,9,FALSE),0)","v":0},"Jean_11",{"$f":"IFERROR(VLOOKUP(CC43,MATCHSELEVES!$Y$14:$AE$600,3,FALSE),0)","v":0},{"$f":"IFERROR(VLOOKUP(CC43,MATCHSELEVES!$Y$14:$AE$600,4,FALSE),0)","v":0},{"$f":"IFERROR(VLOOKUP(CC43,MATCHSELEVES!$Y$14:$AE$600,5,FALSE),0)","v":0},{"$f":"IFERROR(VLOOKUP(CC43,MATCHSELEVES!$Y$14:$AF$600,8,FALSE),0)","v":0},{"$f":"IFERROR(VLOOKUP(CC43,MATCHSELEVES!$Y$14:$AG$600,9,FALSE),0)","v":0},"Jean_12",{"$f":"IFERROR(VLOOKUP(CI43,MATCHSELEVES!$Y$14:$AE$600,3,FALSE),0)","v":0},{"$f":"IFERROR(VLOOKUP(CI43,MATCHSELEVES!$Y$14:$AE$600,4,FALSE),0)","v":0},{"$f":"IFERROR(VLOOKUP(CI43,MATCHSELEVES!$Y$14:$AE$600,5,FALSE),0)","v":0},{"$f":"IFERROR(VLOOKUP(CI43,MATCHSELEVES!$Y$14:$AF$600,8,FALSE),0)","v":0},{"$f":"IFERROR(VLOOKUP(CI43,MATCHSELEVES!$Y$14:$AG$600,9,FALSE),0)","v":0},"Jean_13",{"$f":"IFERROR(VLOOKUP(CO43,MATCHSELEVES!$Y$14:$AE$600,3,FALSE),0)","v":0},{"$f":"IFERROR(VLOOKUP(CO43,MATCHSELEVES!$Y$14:$AE$600,4,FALSE),0)","v":0},{"$f":"IFERROR(VLOOKUP(CO43,MATCHSELEVES!$Y$14:$AE$600,5,FALSE),0)","v":0},{"$f":"IFERROR(VLOOKUP(CO43,MATCHSELEVES!$Y$14:$AF$600,8,FALSE),0)","v":0},{"$f":"IFERROR(VLOOKUP(CO43,MATCHSELEVES!$Y$14:$AG$600,9,FALSE),0)","v":0},"Jean_14",{"$f":"IFERROR(VLOOKUP(CU43,MATCHSELEVES!$Y$14:$AE$600,3,FALSE),0)","v":0},{"$f":"IFERROR(VLOOKUP(CU43,MATCHSELEVES!$Y$14:$AE$600,4,FALSE),0)","v":0},{"$f":"IFERROR(VLOOKUP(CU43,MATCHSELEVES!$Y$14:$AE$600,5,FALSE),0)","v":0},{"$f":"IFERROR(VLOOKUP(CU43,MATCHSELEVES!$Y$14:$AF$600,8,FALSE),0)","v":0},{"$f":"IFERROR(VLOOKUP(CU43,MATCHSELEVES!$Y$14:$AG$600,9,FALSE),0)","v":0},"Jean_15",{"$f":"IFERROR(VLOOKUP(DA43,MATCHSELEVES!$Y$14:$AE$600,3,FALSE),0)","v":0},{"$f":"IFERROR(VLOOKUP(DA43,MATCHSELEVES!$Y$14:$AE$600,4,FALSE),0)","v":0},{"$f":"IFERROR(VLOOKUP(DA43,MATCHSELEVES!$Y$14:$AE$600,5,FALSE),0)","v":0},{"$f":"IFERROR(VLOOKUP(DA43,MATCHSELEVES!$Y$14:$AF$600,8,FALSE),0)","v":0},{"$f":"IFERROR(VLOOKUP(DA43,MATCHSELEVES!$Y$14:$AG$600,9,FALSE),0)","v":0},"Jean_16",{"$f":"IFERROR(VLOOKUP(DG43,MATCHSELEVES!$Y$14:$AE$600,3,FALSE),0)","v":0},{"$f":"IFERROR(VLOOKUP(DG43,MATCHSELEVES!$Y$14:$AE$600,4,FALSE),0)","v":0},{"$f":"IFERROR(VLOOKUP(DG43,MATCHSELEVES!$Y$14:$AE$600,5,FALSE),0)","v":0},{"$f":"IFERROR(VLOOKUP(DG43,MATCHSELEVES!$Y$14:$AF$600,8,FALSE),0)","v":0},{"$f":"IFERROR(VLOOKUP(DG43,MATCHSELEVES!$Y$14:$AG$600,9,FALSE),0)","v":0},"Jean_17",{"$f":"IFERROR(VLOOKUP(DM43,MATCHSELEVES!$Y$14:$AE$600,3,FALSE),0)","v":0},{"$f":"IFERROR(VLOOKUP(DM43,MATCHSELEVES!$Y$14:$AE$600,4,FALSE),0)","v":0},{"$f":"IFERROR(VLOOKUP(DM43,MATCHSELEVES!$Y$14:$AE$600,5,FALSE),0)","v":0},{"$f":"IFERROR(VLOOKUP(DM43,MATCHSELEVES!$Y$14:$AF$600,8,FALSE),0)","v":0},{"$f":"IFERROR(VLOOKUP(DM43,MATCHSELEVES!$Y$14:$AG$600,9,FALSE),0)","v":0},"Jean_18",{"$f":"IFERROR(VLOOKUP(DS43,MATCHSELEVES!$Y$14:$AE$600,3,FALSE),0)","v":0},{"$f":"IFERROR(VLOOKUP(DS43,MATCHSELEVES!$Y$14:$AE$600,4,FALSE),0)","v":0},{"$f":"IFERROR(VLOOKUP(DS43,MATCHSELEVES!$Y$14:$AE$600,5,FALSE),0)","v":0},{"$f":"IFERROR(VLOOKUP(DS43,MATCHSELEVES!$Y$14:$AF$600,8,FALSE),0)","v":0},{"$f":"IFERROR(VLOOKUP(DS43,MATCHSELEVES!$Y$14:$AG$600,9,FALSE),0)","v":0},"Jean_19",{"$f":"IFERROR(VLOOKUP(DY43,MATCHSELEVES!$Y$14:$AE$600,3,FALSE),0)","v":0},{"$f":"IFERROR(VLOOKUP(DY43,MATCHSELEVES!$Y$14:$AE$600,4,FALSE),0)","v":0},{"$f":"IFERROR(VLOOKUP(DY43,MATCHSELEVES!$Y$14:$AE$600,5,FALSE),0)","v":0},{"$f":"IFERROR(VLOOKUP(DY43,MATCHSELEVES!$Y$14:$AF$600,8,FALSE),0)","v":0},{"$f":"IFERROR(VLOOKUP(DY43,MATCHSELEVES!$Y$14:$AG$600,9,FALSE),0)","v":0},"Jean_20",{"$f":"IFERROR(VLOOKUP(EE43,MATCHSELEVES!$Y$14:$AE$600,3,FALSE),0)","v":0},{"$f":"IFERROR(VLOOKUP(EE43,MATCHSELEVES!$Y$14:$AE$600,4,FALSE),0)","v":0},{"$f":"IFERROR(VLOOKUP(EE43,MATCHSELEVES!$Y$14:$AE$600,5,FALSE),0)","v":0},{"$f":"IFERROR(VLOOKUP(EE43,MATCHSELEVES!$Y$14:$AF$600,8,FALSE),0)","v":0},{"$f":"IFERROR(VLOOKUP(EE43,MATCHSELEVES!$Y$14:$AG$600,9,FALSE),0)","v":0},"Jean_21",{"$f":"IFERROR(VLOOKUP(EK43,MATCHSELEVES!$Y$14:$AE$600,3,FALSE),0)","v":0},{"$f":"IFERROR(VLOOKUP(EK43,MATCHSELEVES!$Y$14:$AE$600,4,FALSE),0)","v":0},{"$f":"IFERROR(VLOOKUP(EK43,MATCHSELEVES!$Y$14:$AE$600,5,FALSE),0)","v":0},{"$f":"IFERROR(VLOOKUP(EK43,MATCHSELEVES!$Y$14:$AF$600,8,FALSE),0)","v":0},{"$f":"IFERROR(VLOOKUP(EK43,MATCHSELEVES!$Y$14:$AG$600,9,FALSE),0)","v":0},"Jean_22",{"$f":"IFERROR(VLOOKUP(EQ43,MATCHSELEVES!$Y$14:$AE$600,3,FALSE),0)","v":0},{"$f":"IFERROR(VLOOKUP(EQ43,MATCHSELEVES!$Y$14:$AE$600,4,FALSE),0)","v":0},{"$f":"IFERROR(VLOOKUP(EQ43,MATCHSELEVES!$Y$14:$AE$600,5,FALSE),0)","v":0},{"$f":"IFERROR(VLOOKUP(EQ43,MATCHSELEVES!$Y$14:$AF$600,8,FALSE),0)","v":0},{"$f":"IFERROR(VLOOKUP(EQ43,MATCHSELEVES!$Y$14:$AG$600,9,FALSE),0)","v":0},"Jean_23",{"$f":"IFERROR(VLOOKUP(EW43,MATCHSELEVES!$Y$14:$AE$600,3,FALSE),0)","v":0},{"$f":"IFERROR(VLOOKUP(EW43,MATCHSELEVES!$Y$14:$AE$600,4,FALSE),0)","v":0},{"$f":"IFERROR(VLOOKUP(EW43,MATCHSELEVES!$Y$14:$AE$600,5,FALSE),0)","v":0},{"$f":"IFERROR(VLOOKUP(EW43,MATCHSELEVES!$Y$14:$AF$600,8,FALSE),0)","v":0},{"$f":"IFERROR(VLOOKUP(EW43,MATCHSELEVES!$Y$14:$AG$600,9,FALSE),0)","v":0},"Jean_24",{"$f":"IFERROR(VLOOKUP(FC43,MATCHSELEVES!$Y$14:$AE$600,3,FALSE),0)","v":0},{"$f":"IFERROR(VLOOKUP(FC43,MATCHSELEVES!$Y$14:$AE$600,4,FALSE),0)","v":0},{"$f":"IFERROR(VLOOKUP(FC43,MATCHSELEVES!$Y$14:$AE$600,5,FALSE),0)","v":0},{"$f":"IFERROR(VLOOKUP(FC43,MATCHSELEVES!$Y$14:$AF$600,8,FALSE),0)","v":0},{"$f":"IFERROR(VLOOKUP(FC43,MATCHSELEVES!$Y$14:$AG$600,9,FALSE),0)","v":0},"Jean_25",{"$f":"IFERROR(VLOOKUP(FI43,MATCHSELEVES!$Y$14:$AE$600,3,FALSE),0)","v":0},{"$f":"IFERROR(VLOOKUP(FI43,MATCHSELEVES!$Y$14:$AE$600,4,FALSE),0)","v":0},{"$f":"IFERROR(VLOOKUP(FI43,MATCHSELEVES!$Y$14:$AE$600,5,FALSE),0)","v":0},{"$f":"IFERROR(VLOOKUP(FI43,MATCHSELEVES!$Y$14:$AF$600,8,FALSE),0)","v":0},{"$f":"IFERROR(VLOOKUP(FI43,MATCHSELEVES!$Y$14:$AG$600,9,FALSE),0)","v":0},"Jean_26",{"$f":"IFERROR(VLOOKUP(FO43,MATCHSELEVES!$Y$14:$AE$600,3,FALSE),0)","v":0},{"$f":"IFERROR(VLOOKUP(FO43,MATCHSELEVES!$Y$14:$AE$600,4,FALSE),0)","v":0},{"$f":"IFERROR(VLOOKUP(FO43,MATCHSELEVES!$Y$14:$AE$600,5,FALSE),0)","v":0},{"$f":"IFERROR(VLOOKUP(FO43,MATCHSELEVES!$Y$14:$AF$600,8,FALSE),0)","v":0},{"$f":"IFERROR(VLOOKUP(FO43,MATCHSELEVES!$Y$14:$AG$600,9,FALSE),0)","v":0},"Jean_27",{"$f":"IFERROR(VLOOKUP(FU43,MATCHSELEVES!$Y$14:$AE$600,3,FALSE),0)","v":0},{"$f":"IFERROR(VLOOKUP(FU43,MATCHSELEVES!$Y$14:$AE$600,4,FALSE),0)","v":0},{"$f":"IFERROR(VLOOKUP(FU43,MATCHSELEVES!$Y$14:$AE$600,5,FALSE),0)","v":0},{"$f":"IFERROR(VLOOKUP(FU43,MATCHSELEVES!$Y$14:$AF$600,8,FALSE),0)","v":0},{"$f":"IFERROR(VLOOKUP(FU43,MATCHSELEVES!$Y$14:$AG$600,9,FALSE),0)","v":0},"Jean_28",{"$f":"IFERROR(VLOOKUP(GA43,MATCHSELEVES!$Y$14:$AE$600,3,FALSE),0)","v":0},{"$f":"IFERROR(VLOOKUP(GA43,MATCHSELEVES!$Y$14:$AE$600,4,FALSE),0)","v":0},{"$f":"IFERROR(VLOOKUP(GA43,MATCHSELEVES!$Y$14:$AE$600,5,FALSE),0)","v":0},{"$f":"IFERROR(VLOOKUP(GA43,MATCHSELEVES!$Y$14:$AF$600,8,FALSE),0)","v":0},{"$f":"IFERROR(VLOOKUP(GA43,MATCHSELEVES!$Y$14:$AG$600,9,FALSE),0)","v":0},"Jean_29",{"$f":"IFERROR(VLOOKUP(GG43,MATCHSELEVES!$Y$14:$AE$600,3,FALSE),0)","v":0},{"$f":"IFERROR(VLOOKUP(GG43,MATCHSELEVES!$Y$14:$AE$600,4,FALSE),0)","v":0},{"$f":"IFERROR(VLOOKUP(GG43,MATCHSELEVES!$Y$14:$AE$600,5,FALSE),0)","v":0},{"$f":"IFERROR(VLOOKUP(GG43,MATCHSELEVES!$Y$14:$AF$600,8,FALSE),0)","v":0},{"$f":"IFERROR(VLOOKUP(GG43,MATCHSELEVES!$Y$14:$AG$600,9,FALSE),0)","v":0},"Jean_30",{"$f":"IFERROR(VLOOKUP(GM43,MATCHSELEVES!$Y$14:$AE$600,3,FALSE),0)","v":0},{"$f":"IFERROR(VLOOKUP(GM43,MATCHSELEVES!$Y$14:$AE$600,4,FALSE),0)","v":0},{"$f":"IFERROR(VLOOKUP(GM43,MATCHSELEVES!$Y$14:$AE$600,5,FALSE),0)","v":0},{"$f":"IFERROR(VLOOKUP(GM43,MATCHSELEVES!$Y$14:$AF$600,8,FALSE),0)","v":0},{"$f":"IFERROR(VLOOKUP(GM43,MATCHSELEVES!$Y$14:$AG$600,9,FALSE),0)","v":0},"Jean_31",{"$f":"IFERROR(VLOOKUP(GS43,MATCHSELEVES!$Y$14:$AE$600,3,FALSE),0)","v":0},{"$f":"IFERROR(VLOOKUP(GS43,MATCHSELEVES!$Y$14:$AE$600,4,FALSE),0)","v":0},{"$f":"IFERROR(VLOOKUP(GS43,MATCHSELEVES!$Y$14:$AE$600,5,FALSE),0)","v":0},{"$f":"IFERROR(VLOOKUP(GS43,MATCHSELEVES!$Y$14:$AF$600,8,FALSE),0)","v":0},{"$f":"IFERROR(VLOOKUP(GS43,MATCHSELEVES!$Y$14:$AG$600,9,FALSE),0)","v":0},"Jean_32",{"$f":"IFERROR(VLOOKUP(GY43,MATCHSELEVES!$Y$14:$AE$600,3,FALSE),0)","v":0},{"$f":"IFERROR(VLOOKUP(GY43,MATCHSELEVES!$Y$14:$AE$600,4,FALSE),0)","v":0},{"$f":"IFERROR(VLOOKUP(GY43,MATCHSELEVES!$Y$14:$AE$600,5,FALSE),0)","v":0},{"$f":"IFERROR(VLOOKUP(GY43,MATCHSELEVES!$Y$14:$AF$600,8,FALSE),0)","v":0},{"$f":"IFERROR(VLOOKUP(GY43,MATCHSELEVES!$Y$14:$AG$600,9,FALSE),0)","v":0},"Jean_33",{"$f":"IFERROR(VLOOKUP(HE43,MATCHSELEVES!$Y$14:$AE$600,3,FALSE),0)","v":0},{"$f":"IFERROR(VLOOKUP(HE43,MATCHSELEVES!$Y$14:$AE$600,4,FALSE),0)","v":0},{"$f":"IFERROR(VLOOKUP(HE43,MATCHSELEVES!$Y$14:$AE$600,5,FALSE),0)","v":0},{"$f":"IFERROR(VLOOKUP(HE43,MATCHSELEVES!$Y$14:$AF$600,8,FALSE),0)","v":0},{"$f":"IFERROR(VLOOKUP(HE43,MATCHSELEVES!$Y$14:$AG$600,9,FALSE),0)","v":0},"Jean_34",{"$f":"IFERROR(VLOOKUP(HK43,MATCHSELEVES!$Y$14:$AE$600,3,FALSE),0)","v":0},{"$f":"IFERROR(VLOOKUP(HK43,MATCHSELEVES!$Y$14:$AE$600,4,FALSE),0)","v":0},{"$f":"IFERROR(VLOOKUP(HK43,MATCHSELEVES!$Y$14:$AE$600,5,FALSE),0)","v":0},{"$f":"IFERROR(VLOOKUP(HK43,MATCHSELEVES!$Y$14:$AF$600,8,FALSE),0)","v":0},{"$f":"IFERROR(VLOOKUP(HK43,MATCHSELEVES!$Y$14:$AG$600,9,FALSE),0)","v":0},"Jean_35",{"$f":"IFERROR(VLOOKUP(HQ43,MATCHSELEVES!$Y$14:$AE$600,3,FALSE),0)","v":0},{"$f":"IFERROR(VLOOKUP(HQ43,MATCHSELEVES!$Y$14:$AE$600,4,FALSE),0)","v":0},{"$f":"IFERROR(VLOOKUP(HQ43,MATCHSELEVES!$Y$14:$AE$600,5,FALSE),0)","v":0},{"$f":"IFERROR(VLOOKUP(HQ43,MATCHSELEVES!$Y$14:$AF$600,8,FALSE),0)","v":0},{"$f":"IFERROR(VLOOKUP(HQ43,MATCHSELEVES!$Y$14:$AG$600,9,FALSE),0)","v":0},"Jean_36",{"$f":"IFERROR(VLOOKUP(HW43,MATCHSELEVES!$Y$14:$AE$600,3,FALSE),0)","v":0},{"$f":"IFERROR(VLOOKUP(HW43,MATCHSELEVES!$Y$14:$AE$600,4,FALSE),0)","v":0},{"$f":"IFERROR(VLOOKUP(HW43,MATCHSELEVES!$Y$14:$AE$600,5,FALSE),0)","v":0},{"$f":"IFERROR(VLOOKUP(HW43,MATCHSELEVES!$Y$14:$AF$600,8,FALSE),0)","v":0},{"$f":"IFERROR(VLOOKUP(HW43,MATCHSELEVES!$Y$14:$AG$600,9,FALSE),0)","v":0},"Jean_37",{"$f":"IFERROR(VLOOKUP(IC43,MATCHSELEVES!$Y$14:$AE$600,3,FALSE),0)","v":0},{"$f":"IFERROR(VLOOKUP(IC43,MATCHSELEVES!$Y$14:$AE$600,4,FALSE),0)","v":0},{"$f":"IFERROR(VLOOKUP(IC43,MATCHSELEVES!$Y$14:$AE$600,5,FALSE),0)","v":0},{"$f":"IFERROR(VLOOKUP(IC43,MATCHSELEVES!$Y$14:$AF$600,8,FALSE),0)","v":0},{"$f":"IFERROR(VLOOKUP(IC43,MATCHSELEVES!$Y$14:$AG$600,9,FALSE),0)","v":0},"Jean_38",{"$f":"IFERROR(VLOOKUP(II43,MATCHSELEVES!$Y$14:$AE$600,3,FALSE),0)","v":0},{"$f":"IFERROR(VLOOKUP(II43,MATCHSELEVES!$Y$14:$AE$600,4,FALSE),0)","v":0},{"$f":"IFERROR(VLOOKUP(II43,MATCHSELEVES!$Y$14:$AE$600,5,FALSE),0)","v":0},{"$f":"IFERROR(VLOOKUP(II43,MATCHSELEVES!$Y$14:$AF$600,8,FALSE),0)","v":0},{"$f":"IFERROR(VLOOKUP(II43,MATCHSELEVES!$Y$14:$AG$600,9,FALSE),0)","v":0},"Jean_39",{"$f":"IFERROR(VLOOKUP(IO43,MATCHSELEVES!$Y$14:$AE$600,3,FALSE),0)","v":0},{"$f":"IFERROR(VLOOKUP(IO43,MATCHSELEVES!$Y$14:$AE$600,4,FALSE),0)","v":0},{"$f":"IFERROR(VLOOKUP(IO43,MATCHSELEVES!$Y$14:$AE$600,5,FALSE),0)","v":0},{"$f":"IFERROR(VLOOKUP(IO43,MATCHSELEVES!$Y$14:$AF$600,8,FALSE),0)","v":0},{"$f":"IFERROR(VLOOKUP(IO43,MATCHSELEVES!$Y$14:$AG$600,9,FALSE),0)","v":0},"Jean_40",{"$f":"IFERROR(VLOOKUP(IU43,MATCHSELEVES!$Y$14:$AE$600,3,FALSE),0)","v":0}]
[]
[null,null,{"$f":"COUNTIF(Tableau10[CLASSE],\"*\")","v":40}]
[null,null,null,null,null,null,null,null,null,null,null,null,"Moyenne points encaissés total"]
[null,null,null,null,null,null,null,null,null,null,null,null,{"$f":"IFERROR((X4+AJ4+AP4+BB4+BH4+BN4+BT4+BZ4+CF4+CL4+CR4+CX4+DD4+DJ4+DP4+DV4+EH4+EN4+EZ4+FF4+FL4+FR4+FX4+GD4+GJ4+GP4+GV4+HH4+HN4+HZ4+IF4+IL4+IR4+IX4+JD4+JJ4+JP4+JV4+KB4+KN4+KT4+KZ4+LF4+LL4+LR4+LX4+MD4+MJ4+MP4+MV4+NB4+NH4+NN4+NT4+NZ4+OF4+OL4+OR4+OX4+PJ4+PD4+PP4+PV4+QB4+QH4+QN4+QT4+QZ4+RF4+RL4+RR4+RX4+SD4+AV4+EB4+ET4+HB4+HT4+KH4+AD4),0)","v":0}]
[null,null,null,null,null,null,null,null,null,null,null,null,{"$f":"IFERROR((X5+AJ5+AP5+BB5+BH5+BN5+BT5+BZ5+CF5+CL5+CR5+CX5+DD5+DJ5+DP5+DV5+EH5+EN5+EZ5+FF5+FL5+FR5+FX5+GD5+GJ5+GP5+GV5+HH5+HN5+HZ5+IF5+IL5+IR5+IX5+JD5+JJ5+JP5+JV5+KB5+KN5+KT5+KZ5+LF5+LL5+LR5+LX5+MD5+MJ5+MP5+MV5+NB5+NH5+NN5+NT5+NZ5+OF5+OL5+OR5+OX5+PJ5+PD5+PP5+PV5+QB5+QH5+QN5+QT5+QZ5+RF5+RL5+RR5+RX5+SD5+AV5+EB5+ET5+HB5+HT5+KH5+AD5),0)","v":0}]
[null,null,null,null,null,null,null,null,null,null,null,null,0]
[null,null,null,null,null,null,null,null,null,null,null,null,0]
[null,null,null,null,null,null,null,null,null,null,null,null,0]
[null,null,null,null,null,null,null,null,null,null,null,null,0]
[null,null,null,null,null,null,null,null,null,null,null,null,0]
[null,null,null,null,null,null,null,null,null,null,null,null,0]
[null,null,null,null,null,null,null,null,null,null,null,null,0]
[null,null,null,null,null,null,null,null,null,null,null,null,0]
[null,null,null,null,null,null,null,null,null,null,null,null,0]
[null,null,null,null,null,null,null,null,null,null,null,null,0]
[null,null,null,null,null,null,null,null,null,null,null,null,0]
[null,null,null,null,null,null,null,null,null,null,null,null,0]
[null,null,null,null,null,null,null,null,null,null,null,null,0]
[null,null,null,null,null,null,null,null,null,null,null,null,0]
[null,null,null,null,null,null,null,null,null,null,null,null,0]
[null,null,null,null,null,null,null,null,null,null,null,null,0]
[null,null,null,null,null,null,null,null,null,null,null,null,0]
[null,null,null,null,null,null,null,null,null,null,null,null,0]
[null,null,null,null,null,null,null,null,null,null,null,null,0]
[null,null,null,null,null,null,null,null,null,null,null,null,0]
[null,null,null,null,null,null,null,null,null,null,null,null,0]
[null,null,null,null,null,null,null,null,null,null,null,null,0]
[null,null,null,null,null,null,null,null,null,null,null,null,0]
[null,null,null,null,null,null,null,null,null,null,null,null,0]
[null,null,null,null,null,null,null,null,null,null,null,null,0]
[null,null,null,null,null,null,null,null,null,null,null,null,0]
[null,null,null,null,null,null,null,null,null,null,null,null,0]
[null,null,null,null,null,null,null,null,null,null,null,null,0]
[null,null,null,null,null,null,null,null,null,null,null,null,0]
[null,null,null,null,null,null,null,null,null,null,null,null,0]
[null,null,null,null,null,null,null,null,null,null,null,null,0]
[null,null,null,null,null,null,null,null,null,null,null,null,0]
[null,null,null,null,null,null,null,null,null,null,null,null,0]
[null,null,null,null,null,null,null,null,null,null,null,null,0]
[null,null,null,null,null,null,null,null,null,null,null,null,0]
[null,null,null,null,null,null,null,null,null,null,null,null,0]
[null,null,null,null,null,null,null,null,null,null,null,null,0]
[null,null,null,null,null,null,null,null,null,null,null,null,0]

{"sheet":"GROUPES TERRAIN","index":2,"n_rows":43,"n_cols":25,"rows_kept":43,"cut":false,"hidden":false,"merged":[[2,11,5,11],[6,11,9,11],[10,11,13,11],[0,1,0,3],[2,15,5,15],[2,3,5,3],[6,3,9,3],[10,3,13,3],[2,7,5,7],[6,7,9,7],[10,7,13,7]]}
[null,"CHOISIR LE NOMBRE DE JOUEURS PAR TERRAIN ->",null,null,null,null,null,null,null,null,null,null,null,null,null,null,null,null,"Elèves","Classmt",null,"Absence","Classement du jour"]
[null,"Joueurs","Classmt","TERRAIN",null,"Joueurs","Classmt","TERRAIN",null,"Joueurs","Classmt","TERRAIN",null,"Joueurs","Classmt","TERRAIN",null,null,{"$f":"IF(ISBLANK(CLASSEMENTELEVES!C4),\"\",CLASSEMENTELEVES!C4)","v":"Abdelnour"},{"$f":"IF(S2=\"\",\"\",CLASSEMENTELEVES!D4)","v":1},{"$f":"S2","v":"Abdelnour"},{"$f":"CLASSEMENTELEVES!E4","v":0},1,null,{"$f":"S2","v":"Abdelnour"}]
[null,{"$f":"IFERROR(VLOOKUP(C3,$W$2:$Y$41,3,FALSE),\"\")","v":"Abdelnour"},1,"Terrain 1",null,{"$f":"IFERROR(VLOOKUP(G3,$W$2:$Y$41,3,FALSE),\"\")","v":"Elyna"},13,"Terrain 4",null,{"$f":"IFERROR(VLOOKUP(K3,$W$2:$Y$41,3,FALSE),\"\")","v":"Megi"},25,"Terrain 7",null,{"$f":"IFERROR(VLOOKUP(O3,$W$2:$Y$41,3,FALSE),\"\")","v":"zazi"},37,"Terrain 10",null,null,{"$f":"IF(ISBLANK(CLASSEMENTELEVES!C5),\"\",CLASSEMENTELEVES!C5)","v":"Açelya"},{"$f":"IF(S3=\"\",\"\",CLASSEMENTELEVES!D5)","v":2},{"$f":"S3","v":"Açelya"},{"$f":"CLASSEMENTELEVES!E5","v":0},2,null,{"$f":"S3","v":"Açelya"}]
[null,"Açelya",2,null,null,"Enzo",14,null,null,"paul",26,null,null,"jacques",38,null,null,null,{"$f":"IF(ISBLANK(CLASSEMENTELEVES!C6),\"\",CLASSEMENTELEVES!C6)","v":"Adgy"},{"$f":"IF(S4=\"\",\"\",CLASSEMENTELEVES!D6)","v":3},"Adgy",{"$f":"CLASSEMENTELEVES!E6","v":0},3,null,"Adgy"]
[null,"Adgy",3,null,null,"Faoulat",15,null,null,"Saliha",27,null,null,"antoine",39,null,null,null,{"$f":"IF(ISBLANK(CLASSEMENTELEVES!C7),\"\",CLASSEMENTELEVES!C7)","v":"Ayoub"},{"$f":"IF(S5=\"\",\"\",CLASSEMENTELEVES!D7)","v":4},"Ayoub",{"$f":"CLASSEMENTELEVES!E7","v":0},4,null,"Ayoub"]
[null,"Ayoub",4,null,null,"Hadidja",16,null,null,"Saoussen",28,null,null,"Jean",40,null,null,null,{"$f":"IF(ISBLANK(CLASSEMENTELEVES!C8),\"\",CLASSEMENTELEVES!C8)","v":"balise"},{"$f":"IF(S6=\"\",\"\",CLASSEMENTELEVES!D8)","v":5},"balise",{"$f":"CLASSEMENTELEVES!E8","v":0},5,null,"balise"]
[null,"balise",5,"Terrain 2",null,"herbert",17,"Terrain 5",null,"Sarah",29,"Terrain 8",null,null,null,null,null,null,{"$f":"IF(ISBLANK(CLASSEMENTELEVES!C9),\"\",CLASSEMENTELEVES!C9)","v":"Beqir"},{"$f":"IF(S7=\"\",\"\",CLASSEMENTELEVES!D9)","v":6},"Beqir",{"$f":"CLASSEMENTELEVES!E9","v":0},6,null,"Beqir"]
[null,"Beqir",6,null,null,"Houaïda",18,null,null,"Shayma",30,null,null,null,null,null,null,null,{"$f":"IF(ISBLANK(CLASSEMENTELEVES!C10),\"\",CLASSEMENTELEVES!C10)","v":"Caméllia"},{"$f":"IF(S8=\"\",\"\",CLASSEMENTELEVES!D10)","v":7},"Caméllia",{"$f":"CLASSEMENTELEVES!E10","v":0},7,null,"Caméllia"]
[null,"Caméllia",7,null,null,"Jade",19,null,null,"Sirdt",31,null,null,null,null,null,null,null,{"$f":"IF(ISBLANK(CLASSEMENTELEVES!C11),\"\",CLASSEMENTELEVES!C11)","v":"Carole"},{"$f":"IF(S9=\"\",\"\",CLASSEMENTELEVES!D11)","v":8},"Carole",{"$f":"CLASSEMENTELEVES!E11","v":0},8,null,"Carole"]
[null,"Carole",8,null,null,"Johvany",20,null,null,"Soumaya",32,null,null,null,null,null,null,null,{"$f":"IF(ISBLANK(CLASSEMENTELEVES!C12),\"\",CLASSEMENTELEVES!C12)","v":"Caroline"},{"$f":"IF(S10=\"\",\"\",CLASSEMENTELEVES!D12)","v":9},"Caroline",{"$f":"CLASSEMENTELEVES!E12","v":0},9,null,"Caroline"]
[null,"Caroline",9,"Terrain 3",null,"Lina",21,"Terrain 6",null,"Süeda",33,"Terrain 9",null,null,null,null,null,null,{"$f":"IF(ISBLANK(CLASSEMENTELEVES!C13),\"\",CLASSEMENTELEVES!C13)","v":"Dicko"},{"$f":"IF(S11=\"\",\"\",CLASSEMENTELEVES!D13)","v":10},"Dicko",{"$f":"CLASSEMENTELEVES!E13","v":0},10,null,"Dicko"]
[null,"Dicko",10,null,null,"Lydia",22,null,null,"Tchelsy",34,null,null,null,null,null,null,null,{"$f":"IF(ISBLANK(CLASSEMENTELEVES!C14),\"\",CLASSEMENTELEVES!C14)","v":"Dirvine"},{"$f":"IF(S12=\"\",\"\",CLASSEMENTELEVES!D14)","v":11},"Dirvine",{"$f":"CLASSEMENTELEVES!E14","v":0},11,null,"Dirvine"]
[null,"Dirvine",11,null,null,"Maëva",23,null,null,"Tiago",35,null,null,null,null,null,null,null,{"$f":"IF(ISBLANK(CLASSEMENTELEVES!C15),\"\",CLASSEMENTELEVES!C15)","v":"Dora"},{"$f":"IF(S13=\"\",\"\",CLASSEMENTELEVES!D15)","v":12},"Dora",{"$f":"CLASSEMENTELEVES!E15","v":0},12,null,"Dora"]
[null,"Dora",12,null,null,"Maïssa",24,null,null,"Yasna",36,null,null,null,null,null,null,null,{"$f":"IF(ISBLANK(CLASSEMENTELEVES!C16),\"\",CLASSEMENTELEVES!C16)","v":"Elyna"},{"$f":"IF(S14=\"\",\"\",CLASSEMENTELEVES!D16)","v":13},"Elyna",{"$f":"CLASSEMENTELEVES!E16","v":0},13,null,"Elyna"]
[null,null,null,null,null,null,null,null,null,null,null,null,null,null,null,null,null,null,{"$f":"IF(ISBLANK(CLASSEMENTELEVES!C17),\"\",CLASSEMENTELEVES!C17)","v":"Enzo"},{"$f":"IF(S15=\"\",\"\",CLASSEMENTELEVES!D17)","v":14},"Enzo",{"$f":"CLASSEMENTELEVES!E17","v":0},14,null,"Enzo"]
[null,null,null,null,null,null,null,null,null,null,null,null,null,null,null,null,null,null,{"$f":"IF(ISBLANK(CLASSEMENTELEVES!C18),\"\",CLASSEMENTELEVES!C18)","v":"Faoulat"},{"$f":"IF(S16=\"\",\"\",CLASSEMENTELEVES!D18)","v":15},"Faoulat",{"$f":"CLASSEMENTELEVES!E18","v":0},15,null,"Faoulat"]
[null,null,null,null,null,null,null,null,null,null,null,null,null,null,null,null,null,null,{"$f":"IF(ISBLANK(CLASSEMENTELEVES!C19),\"\",CLASSEMENTELEVES!C19)","v":"Hadidja"},{"$f":"IF(S17=\"\",\"\",CLASSEMENTELEVES!D19)","v":16},"Hadidja",{"$f":"CLASSEMENTELEVES!E19","v":0},16,null,"Hadidja"]
[null,null,null,null,null,null,null,null,null,null,null,null,null,null,null,null,null,null,{"$f":"IF(ISBLANK(CLASSEMENTELEVES!C20),\"\",CLASSEMENTELEVES!C20)","v":"herbert"},{"$f":"IF(S18=\"\",\"\",CLASSEMENTELEVES!D20)","v":17},"herbert",{"$f":"CLASSEMENTELEVES!E20","v":0},17,null,"herbert"]
[null,null,null,null,null,null,null,null,null,null,null,null,null,null,null,null,null,null,{"$f":"IF(ISBLANK(CLASSEMENTELEVES!C21),\"\",CLASSEMENTELEVES!C21)","v":"Houaïda"},{"$f":"IF(S19=\"\",\"\",CLASSEMENTELEVES!D21)","v":18},"Houaïda",{"$f":"CLASSEMENTELEVES!E21","v":0},18,null,"Houaïda"]
[null,null,null,null,null,null,null,null,null,null,null,null,null,null,null,null,null,null,{"$f":"IF(ISBLANK(CLASSEMENTELEVES!C22),\"\",CLASSEMENTELEVES!C22)","v":"Jade"},{"$f":"IF(S20=\"\",\"\",CLASSEMENTELEVES!D22)","v":19},"Jade",{"$f":"CLASSEMENTELEVES!E22","v":0},19,null,"Jade"]
[null,null,null,null,null,null,null,null,null,null,null,null,null,null,null,null,null,null,{"$f":"IF(ISBLANK(CLASSEMENTELEVES!C23),\"\",CLASSEMENTELEVES!C23)","v":"Johvany"},{"$f":"IF(S21=\"\",\"\",CLASSEMENTELEVES!D23)","v":20},"Johvany",{"$f":"CLASSEMENTELEVES!E23","v":0},20,null,"Johvany"]
[null,null,null,null,null,null,null,null,null,null,null,null,null,null,null,null,null,null,{"$f":"IF(ISBLANK(CLASSEMENTELEVES!C24),\"\",CLASSEMENTELEVES!C24)","v":"Lina"},{"$f":"IF(S22=\"\",\"\",CLASSEMENTELEVES!D24)","v":21},"Lina",{"$f":"CLASSEMENTELEVES!E24","v":0},21,null,"Lina"]
[null,null,null,null,null,null,null,null,null,null,null,null,null,null,null,null,null,null,{"$f":"IF(ISBLANK(CLASSEMENTELEVES!C25),\"\",CLASSEMENTELEVES!C25)","v":"Lydia"},{"$f":"IF(S23=\"\",\"\",CLASSEMENTELEVES!D25)","v":22},"Lydia",{"$f":"CLASSEMENTELEVES!E25","v":0},22,null,"Lydia"]
[null,null,null,null,null,null,null,null,null,null,null,null,null,null,null,null,null,null,{"$f":"IF(ISBLANK(CLASSEMENTELEVES!C26),\"\",CLASSEMENTELEVES!C26)","v":"Maëva"},{"$f":"IF(S24=\"\",\"\",CLASSEMENTELEVES!D26)","v":23},"Maëva",{"$f":"CLASSEMENTELEVES!E26","v":0},23,null,"Maëva"]
[null,null,null,null,null,null,null,null,null,null,null,null,null,null,null,null,null,null,{"$f":"IF(ISBLANK(CLASSEMENTELEVES!C27),\"\",CLASSEMENTELEVES!C27)","v":"Maïssa"},{"$f":"IF(S25=\"\",\"\",CLASSEMENTELEVES!D27)","v":24},"Maïssa",{"$f":"CLASSEMENTELEVES!E27","v":0},24,null,"Maïssa"]
[null,null,null,null,null,null,null,null,null,null,null,null,null,null,null,null,null,null,{"$f":"IF(ISBLANK(CLASSEMENTELEVES!C28),\"\",CLASSEMENTELEVES!C28)","v":"Megi"},{"$f":"IF(S26=\"\",\"\",CLASSEMENTELEVES!D28)","v":25},"Megi",{"$f":"CLASSEMENTELEVES!E28","v":0},25,null,"Megi"]
[null,null,null,null,null,null,null,null,null,null,null,null,null,null,null,null,null,null,{"$f":"IF(ISBLANK(CLASSEMENTELEVES!C29),\"\",CLASSEMENTELEVES!C29)","v":"paul"},{"$f":"IF(S27=\"\",\"\",CLASSEMENTELEVES!D29)","v":26},"paul",{"$f":"CLASSEMENTELEVES!E29","v":0},26,null,"paul"]
[null,null,null,null,null,null,null,null,null,null,null,null,null,null,null,null,null,null,{"$f":"IF(ISBLANK(CLASSEMENTELEVES!C30),\"\",CLASSEMENTELEVES!C30)","v":"Saliha"},{"$f":"IF(S28=\"\",\"\",CLASSEMENTELEVES!D30)","v":27},"Saliha",{"$f":"CLASSEMENTELEVES!E30","v":0},27,null,"Saliha"]
[null,null,null,null,null,null,null,null,null,null,null,null,null,null,null,null,null,null,{"$f":"IF(ISBLANK(CLASSEMENTELEVES!C31),\"\",CLASSEMENTELEVES!C31)","v":"Saoussen"},{"$f":"IF(S29=\"\",\"\",CLASSEMENTELEVES!D31)","v":28},"Saoussen",{"$f":"CLASSEMENTELEVES!E31","v":0},28,null,"Saoussen"]
[null,null,null,null,null,null,null,null,null,null,null,null,null,null,null,null,null,null,{"$f":"IF(ISBLANK(CLASSEMENTELEVES!C32),\"\",CLASSEMENTELEVES!C32)","v":"Sarah"},{"$f":"IF(S30=\"\",\"\",CLASSEMENTELEVES!D32)","v":29},"Sarah",{"$f":"CLASSEMENTELEVES!E32","v":0},29,null,"Sarah"]
[null,null,null,null,null,null,null,null,null,null,null,null,null,null,null,null,null,null,{"$f":"IF(ISBLANK(CLASSEMENTELEVES!C33),\"\",CLASSEMENTELEVES!C33)","v":"Shayma"},{"$f":"IF(S31=\"\",\"\",CLASSEMENTELEVES!D33)","v":30},"Shayma",{"$f":"CLASSEMENTELEVES!E33","v":0},30,null,"Shayma"]
[null,null,null,null,null,null,null,null,null,null,null,null,null,null,null,null,null,null,{"$f":"IF(ISBLANK(CLASSEMENTELEVES!C34),\"\",CLASSEMENTELEVES!C34)","v":"Sirdt"},{"$f":"IF(S32=\"\",\"\",CLASSEMENTELEVES!D34)","v":31},"Sirdt",{"$f":"CLASSEMENTELEVES!E34","v":0},31,null,"Sirdt"]
[null,null,null,null,null,null,null,null,null,null,null,null,null,null,null,null,null,null,{"$f":"IF(ISBLANK(CLASSEMENTELEVES!C35),\"\",CLASSEMENTELEVES!C35)","v":"Soumaya"},{"$f":"IF(S33=\"\",\"\",CLASSEMENTELEVES!D35)","v":32},"Soumaya",{"$f":"CLASSEMENTELEVES!E35","v":0},32,null,"Soumaya"]
[null,null,null,null,null,null,null,null,null,null,null,null,null,null,null,null,null,null,{"$f":"IF(ISBLANK(CLASSEMENTELEVES!C36),\"\",CLASSEMENTELEVES!C36)","v":"Süeda"},{"$f":"IF(S34=\"\",\"\",CLASSEMENTELEVES!D36)","v":33},"Süeda",{"$f":"CLASSEMENTELEVES!E36","v":0},33,null,"Süeda"]
[null,null,null,null,null,null,null,null,null,null,null,null,null,null,null,null,null,null,{"$f":"IF(ISBLANK(CLASSEMENTELEVES!C37),\"\",CLASSEMENTELEVES!C37)","v":"Tchelsy"},{"$f":"IF(S35=\"\",\"\",CLASSEMENTELEVES!D37)","v":34},"Tchelsy",{"$f":"CLASSEMENTELEVES!E37","v":0},34,null,"Tchelsy"]
[null,null,null,null,null,null,null,null,null,null,null,null,null,null,null,null,null,null,{"$f":"IF(ISBLANK(CLASSEMENTELEVES!C38),\"\",CLASSEMENTELEVES!C38)","v":"Tiago"},{"$f":"IF(S36=\"\",\"\",CLASSEMENTELEVES!D38)","v":35},"Tiago",{"$f":"CLASSEMENTELEVES!E38","v":0},35,null,"Tiago"]
[null,null,null,null,null,null,null,null,null,null,null,null,null,null,null,null,null,null,{"$f":"IF(ISBLANK(CLASSEMENTELEVES!C39),\"\",CLASSEMENTELEVES!C39)","v":"Yasna"},{"$f":"IF(S37=\"\",\"\",CLASSEMENTELEVES!D39)","v":36},"Yasna",{"$f":"CLASSEMENTELEVES!E39","v":0},36,null,"Yasna"]
[null,null,null,null,null,null,null,null,null,null,null,null,null,null,null,null,null,null,{"$f":"IF(ISBLANK(CLASSEMENTELEVES!C40),\"\",CLASSEMENTELEVES!C40)","v":"zazi"},{"$f":"IF(S38=\"\",\"\",CLASSEMENTELEVES!D40)","v":37},"zazi",{"$f":"CLASSEMENTELEVES!E40","v":0},37,null,"zazi"]
[null,null,null,null,null,null,null,null,null,null,null,null,null,null,null,null,null,null,{"$f":"IF(ISBLANK(CLASSEMENTELEVES!C41),\"\",CLASSEMENTELEVES!C41)","v":"jacques"},{"$f":"IF(S39=\"\",\"\",CLASSEMENTELEVES!D41)","v":38},"jacques",{"$f":"CLASSEMENTELEVES!E41","v":0},38,null,"jacques"]
[null,null,null,null,null,null,null,null,null,null,null,null,null,null,null,null,null,null,{"$f":"IF(ISBLANK(CLASSEMENTELEVES!C42),\"\",CLASSEMENTELEVES!C42)","v":"antoine"},{"$f":"IF(S40=\"\",\"\",CLASSEMENTELEVES!D42)","v":39},"antoine",{"$f":"CLASSEMENTELEVES!E42","v":0},39,null,"antoine"]
[null,null,null,null,null,null,null,null,null,null,null,null,null,null,null,null,null,null,{"$f":"IF(ISBLANK(CLASSEMENTELEVES!C43),\"\",CLASSEMENTELEVES!C43)","v":"Jean"},{"$f":"IF(S41=\"\",\"\",CLASSEMENTELEVES!D43)","v":40},"Jean",{"$f":"CLASSEMENTELEVES!E43","v":0},40,null,"Jean"]
[null,null,null,null,null,null,null,null,null,null,null,null,null,null,null,null,null,null,null,null,null,1]
[null,null,null,null,null,null,null,null,null,null,null,null,null,null,null,null,null,null,{"$f":"COUNTIF(S2:S41,\"*\")","v":40},null,null,2]

{"sheet":"MATCHSELEVES","index":3,"n_rows":485,"n_cols":33,"rows_kept":485,"cut":false,"hidden":false,"merged":[[246,1,246,4],[246,5,246,7],[246,8,246,9],[246,10,246,12],[246,13,246,14],[246,15,246,16],[246,17,246,18],[247,1,247,4],[247,5,247,7],[247,8,247,9],[247,10,247,12],[247,13,247,14],[247,15,247,16],[247,17,247,18],[248,1,248,4],[248,5,248,7],[248,8,248,9],[248,10,248,12],[248,13,248,14],[248,15,248,16],[248,17,248,18],[243,1,243,4],[243,5,243,7],[243,8,243,9],[243,10,243,12],[243,13,243,14],[243,15,243,16],[243,17,243,18],[244,1,244,4],[244,5,244,7],[244,8,244,9],[244,10,244,12],[244,13,244,14],[244,15,244,16],[244,17,244,18],[245,1,245,4],[245,5,245,7],[245,8,245,9],[245,10,245,12],[245,13,245,14],[245,15,245,16],[245,17,245,18],[240,1,240,4],[240,5,240,7],[240,8,240,9],[240,10,240,12],[240,13,240,14],[240,15,240,16],[240,17,240,18],[241,1,241,4],[241,5,241,7],[241,8,241,9],[241,10,241,12],[241,13,241,14],[241,15,241,16],[241,17,241,18],[242,1,242,4],[242,5,242,7],[242,8,242,9],[242,10,242,12],[242,13,242,14],[242,15,242,16],[242,17,242,18],[237,1,237,4],[237,5,237,7],[237,8,237,9],[237,10,237,12],[237,13,237,14],[237,15,237,16],[237,17,237,18],[238,1,238,4],[238,5,238,7],[238,8,238,9],[238,10,238,12],[238,13,238,14],[238,15,238,16],[238,17,238,18],[239,1,239,4],[239,5,239,7],[239,8,239,9],[239,10,239,12],[239,13,239,14],[239,15,239,16],[239,17,239,18],[234,1,234,4],[234,5,234,7],[234,8,234,9],[234,10,234,12],[234,13,234,14],[234,15,234,16],[234,17,234,18],[235,1,235,4],[235,5,235,7],[235,8,235,9],[235,10,235,12],[235,13,235,14],[235,15,235,16],[235,17,235,18],[236,1,236,4],[236,5,236,7],[236,8,236,9],[236,10,236,12],[236,13,236,14],[236,15,236,16],[236,17,236,18],[231,1,231,4],[231,5,231,7],[231,8,231,9],[231,10,231,12],[231,13,231,14],[231,15,231,16],[231,17,231,18],[232,1,232,4],[232,5,232,7],[232,8,232,9],[232,10,232,12],[232,13,232,14],[232,15,232,16],[232,17,232,18],[233,1,233,4],[233,5,233,7],[233,8,233,9],[233,10,233,12],[233,13,233,14],[233,15,233,16],[233,17,233,18],[228,1,228,4],[228,5,228,7],[228,8,228,9],[228,10,228,12],[228,13,228,14],[228,15,228,16],[228,17,228,18],[229,1,229,4],[229,5,229,7],[229,8,229,9],[229,10,229,12],[229,13,229,14],[229,15,229,16],[229,17,229,18],[230,1,230,4],[230,5,230,7],[230,8,230,9],[230,10,230,12],[230,13,230,14],[230,15,230,16],[230,17,230,18],[225,1,225,4],[225,5,225,7],[225,8,225,9],[225,10,225,12],[225,13,225,14],[225,15,225,16],[225,17,225,18],[226,1,226,4],[226,5,226,7],[226,8,226,9],[226,10,226,12],[226,13,226,14],[226,15,226,16],[226,17,226,18],[227,1,227,4],[227,5,227,7],[227,8,227,9],[227,10,227,12],[227,13,227,14],[227,15,227,16],[227,17,227,18],[222,1,222,4],[222,5,222,7],[222,8,222,9],[222,10,222,12],[222,13,222,14],[222,15,222,16],[222,17,222,18],[223,1,223,4],[223,5,223,7],[223,8,223,9],[223,10,223,12],[223,13,223,14],[223,15,223,16],[223,17,223,18],[224,1,224,4],[224,5,224,7],[224,8,224,9],[224,10,224,12],[224,13,224,14],[224,15,224,16],[224,17,224,18],[219,1,219,4],[219,5,219,7],[219,8,219,9],[219,10,219,12],[219,13,219,14],[219,15,219,16],[219,17,219,18],[220,1,220,4],[220,5,220,7],[220,8,220,9],[220,10,220,12],[220,13,220,14],[220,15,220,16],[220,17,220,18],[221,1,221,4],[221,5,221,7],[221,8,221,9],[221,10,221,12],[221,13,221,14],[221,15,221,16],[221,17,221,18],[216,1,216,4],[216,5,216,7],[216,8,216,9],[216,10,216,12],[216,13,216,14],[216,15,216,16],[216,17,216,18],[217,1,217,4],[217,5,217,7],[217,8,217,9],[217,10,217,12],[217,13,217,14],[217,15,217,16],[217,17,217,18],[218,1,218,4],[218,5,218,7],[218,8,218,9],[218,10,218,12],[218,13,218,14],[218,15,218,16],[218,17,218,18],[213,1,213,4],[213,5,213,7],[213,8,213,9],[213,10,213,12],[213,13,213,14],[213,15,213,16],[213,17,213,18],[214,1,214,4],[214,5,214,7],[214,8,214,9],[214,10,214,12],[214,13,214,14],[214,15,214,16],[214,17,214,18],[215,1,215,4],[215,5,215,7],[215,8,215,9],[215,10,215,12],[215,13,215,14],[215,15,215,16],[215,17,215,18],[210,1,210,4],[210,5,210,7],[210,8,210,9],[210,10,210,12],[210,13,210,14],[210,15,210,16],[210,17,210,18],[211,1,211,4],[211,5,211,7],[211,8,211,9],[211,10,211,12],[211,13,211,14],[211,15,211,16],[211,17,211,18],[212,1,212,4],[212,5,212,7],[212,8,212,9],[212,10,212,12],[212,13,212,14],[212,15,212,16],[212,17,212,18],[207,1,207,4],[207,5,207,7],[207,8,207,9],[207,10,207,12],[207,13,207,14],[207,15,207,16],[207,17,207,18],[208,1,208,4],[208,5,208,7],[208,8,208,9],[208,10,208,12],[208,13,208,14],[208,15,208,16],[208,17,208,18],[209,1,209,4],[209,5,209,7],[209,8,209,9],[209,10,209,12],[209,13,209,14],[209,15,209,16],[209,17,209,18],[204,1,204,4],[204,5,204,7],[204,8,204,9],[204,10,204,12],[204,13,204,14],[204,15,204,16],[204,17,204,18],[205,1,205,4],[205,5,205,7],[205,8,205,9],[205,10,205,12],[205,13,205,14],[205,15,205,16],[205,17,205,18],[206,1,206,4],[206,5,206,7],[206,8,206,9],[206,10,206,12],[206,13,206,14],[206,15,206,16],[206,17,206,18],[201,1,201,4],[201,5,201,7],[201,8,201,9],[201,10,201,12],[201,13,201,14],[201,15,201,16],[201,17,201,18],[202,1,202,4],[202,5,202,7],[202,8,202,9],[202,10,202,12],[202,13,202,14],[202,15,202,16],[202,17,202,18],[203,1,203,4],[203,5,203,7],[203,8,203,9],[203,10,203,12],[203,13,203,14],[203,15,203,16],[203,17,203,18],[198,1,198,4],[198,5,198,7],[198,8,198,9],[198,10,198,12],[198,13,198,14],[198,15,198,16],[198,17,198,18],[199,1,199,4],[199,5,199,7],[199,8,199,9],[199,10,199,12],[199,13,199,14],[199,15,199,16],[199,17,199,18],[200,1,200,4],[200,5,200,7],[200,8,200,9],[200,10,200,12],[200,13,200,14],[200,15,200,16],[200,17,200,18],[195,1,195,4],[195,5,195,7],[195,8,195,9],[195,10,195,12],[195,13,195,14],[195,15,195,16],[195,17,195,18],[196,1,196,4],[196,5,196,7],[196,8,196,9],[196,10,196,12],[196,13,196,14],[196,15,196,16],[196,17,196,18],[197,1,197,4],[197,5,197,7],[197,8,197,9],[197,10,197,12],[197,13,197,14],[197,15,197,16],[197,17,197,18],[192,1,192,4],[192,5,192,7],[192,8,192,9],[192,10,192,12],[192,13,192,14],[192,15,192,16],[192,17,192,18],[193,1,193,4],[193,5,193,7],[193,8,193,9],[193,10,193,12],[193,13,193,14],[193,15,193,16],[193,17,193,18],[194,1,194,4],[194,5,194,7],[194,8,194,9],[194,10,194,12],[194,13,194,14],[194,15,194,16],[194,17,194,18],[189,1,189,4],[189,5,189,7],[189,8,189,9],[189,10,189,12],[189,13,189,14],[189,15,189,16],[189,17,189,18],[190,1,190,4],[190,5,190,7],[190,8,190,9],[190,10,190,12],[190,13,190,14],[190,15,190,16],[190,17,190,18],[191,1,191,4],[191,5,191,7],[191,8,191,9],[191,10,191,12],[191,13,191,14],[191,15,191,16],[191,17,191,18],[186,1,186,4],[186,5,186,7],[186,8,186,9],[186,10,186,12],[186,13,186,14],[186,15,186,16],[186,17,186,18],[187,1,187,4],[187,5,187,7],[187,8,187,9],[187,10,187,12],[187,13,187,14],[187,15,187,16],[187,17,187,18],[188,1,188,4],[188,5,188,7],[188,8,188,9],[188,10,188,12],[188,13,188,14],[188,15,188,16],[188,17,188,18],[183,1,183,4],[183,5,183,7],[183,8,183,9],[183,10,183,12],[183,13,183,14],[183,15,183,16],[183,17,183,18],[184,1,184,4],[184,5,184,7],[184,8,184,9],[184,10,184,12],[184,13,184,14],[184,15,184,16],[184,17,184,18],[185,1,185,4],[185,5,185,7],[185,8,185,9],[185,10,185,12],[185,13,185,14],[185,15,185,16],[185,17,185,18],[180,1,180,4],[180,5,180,7],[180,8,180,9],[180,10,180,12],[180,13,180,14],[180,15,180,16],[180,17,180,18],[181,1,181,4],[181,5,181,7],[181,8,181,9],[181,10,181,12],[181,13,181,14],[181,15,181,16],[181,17,181,18],[182,1,182,4],[182,5,182,7],[182,8,182,9],[182,10,182,12],[182,13,182,14],[182,15,182,16],[182,17,182,18],[177,1,177,4],[177,5,177,7],[177,8,177,9],[177,10,177,12],[177,13,177,14],[177,15,177,16],[177,17,177,18],[178,1,178,4],[178,5,178,7],[178,8,178,9],[178,10,178,12],[178,13,178,14],[178,15,178,16],[178,17,178,18],[179,1,179,4],[179,5,179,7],[179,8,179,9],[179,10,179,12],[179,13,179,14],[179,15,179,16],[179,17,179,18],[174,1,174,4],[174,5,174,7],[174,8,174,9],[174,10,174,12],[174,13,174,14],[174,15,174,16],[174,17,174,18],[175,1,175,4],[175,5,175,7],[175,8,175,9],[175,10,175,12],[175,13,175,14],[175,15,175,16],[175,17,175,18],[176,1,176,4],[176,5,176,7],[176,8,176,9],[176,10,176,12],[176,13,176,14],[176,15,176,16],[176,17,176,18],[171,1,171,4],[171,5,171,7],[171,8,171,9],[171,10,171,12],[171,13,171,14],[171,15,171,16],[171,17,171,18],[172,1,172,4],[172,5,172,7],[172,8,172,9],[172,10,172,12],[172,13,172,14],[172,15,172,16],[172,17,172,18],[173,1,173,4],[173,5,173,7],[173,8,173,9],[173,10,173,12],[173,13,173,14],[173,15,173,16],[173,17,173,18],[168,1,168,4],[168,5,168,7],[168,8,168,9],[168,10,168,12],[168,13,168,14],[168,15,168,16],[168,17,168,18],[169,1,169,4],[169,5,169,7],[169,8,169,9],[169,10,169,12],[169,13,169,14],[169,15,169,16],[169,17,169,18],[170,1,170,4],[170,5,170,7],[170,8,170,9],[170,10,170,12],[170,13,170,14],[170,15,170,16],[170,17,170,18],[165,1,165,4],[165,5,165,7],[165,8,165,9],[165,10,165,12],[165,13,165,14],[165,15,165,16],[165,17,165,18],[166,1,166,4],[166,5,166,7],[166,8,166,9],[166,10,166,12],[166,13,166,14],[166,15,166,16],[166,17,166,18],[167,1,167,4],[167,5,167,7],[167,8,167,9],[167,10,167,12],[167,13,167,14],[167,15,167,16],[167,17,167,18],[14,1,14,4],[14,5,14,7],[14,8,14,9],[14,10,14,12],[14,13,14,14],[15,1,15,4],[15,5,15,7],[15,8,15,9],[15,10,15,12],[15,13,15,14],[12,10,12,12],[12,13,12,14],[13,13,13,14],[13,10,13,12],[12,1,12,4],[12,5,12,7],[12,8,12,9],[13,1,13,4],[13,5,13,7],[13,8,13,9],[18,1,18,4],[18,5,18,7],[18,8,18,9],[18,10,18,12],[18,13,18,14],[19,1,19,4],[19,5,19,7],[19,8,19,9],[19,10,19,12],[19,13,19,14],[16,1,16,4],[16,5,16,7],[16,8,16,9],[16,10,16,12],[16,13,16,14],[17,1,17,4],[17,5,17,7],[17,8,17,9],[17,10,17,12],[17,13,17,14],[22,1,22,4],[22,5,22,7],[22,8,22,9],[22,10,22,12],[22,13,22,14],[23,1,23,4],[23,5,23,7],[23,8,23,9],[23,10,23,12],[23,13,23,14],[20,1,20,4],[20,5,20,7],[20,8,20,9],[20,10,20,12],[20,13,20,14],[21,1,21,4],[21,5,21,7],[21,8,21,9],[21,10,21,12],[21,13,21,14],[26,1,26,4],[26,5,26,7],[26,8,26,9],[26,10,26,12],[26,13,26,14],[27,1,27,4],[27,5,27,7],[27,8,27,9],[27,10,27,12],[27,13,27,14],[24,1,24,4],[24,5,24,7],[24,8,24,9],[24,10,24,12],[24,13,24,14],[25,1,25,4],[25,5,25,7],[25,8,25,9],[25,10,25,12],[25,13,25,14],[30,1,30,4],[30,5,30,7],[30,8,30,9],[30,10,30,12],[30,13,30,14],[31,1,31,4],[31,5,31,7],[31,8,31,9],[31,10,31,12],[31,13,31,14],[28,1,28,4],[28,5,28,7],[28,8,28,9],[28,10,28,12],[28,13,28,14],[29,1,29,4],[29,5,29,7],[29,8,29,9],[29,10,29,12],[29,13,29,14],[34,1,34,4],[34,5,34,7],[34,8,34,9],[34,10,34,12],[34,13,34,14],[35,1,35,4],[35,5,35,7],[35,8,35,9],[35,10,35,12],[35,13,35,14],[32,1,32,4],[32,5,32,7],[32,8,32,9],[32,10,32,12],[32,13,32,14],[33,1,33,4],[33,5,33,7],[33,8,33,9],[33,10,33,12],[33,13,33,14],[38,1,38,4],[38,5,38,7],[38,8,38,9],[38,10,38,12],[38,13,38,14],[39,1,39,4],[39,5,39,7],[39,8,39,9],[39,10,39,12],[39,13,39,14],[36,1,36,4],[36,5,36,7],[36,8,36,9],[36,10,36,12],[36,13,36,14],[37,1,37,4],[37,5,37,7],[37,8,37,9],[37,10,37,12],[37,13,37,14],[42,1,42,4],[42,5,42,7],[42,8,42,9],[42,10,42,12],[42,13,42,14],[43,1,43,4],[43,5,43,7],[43,8,43,9],[43,10,43,12],[43,13,43,14],[40,1,40,4],[40,5,40,7],[40,8,40,9],[40,10,40,12],[40,13,40,14],[41,1,41,4],[41,5,41,7],[41,8,41,9],[41,10,41,12],[41,13,41,14],[46,1,46,4],[46,5,46,7],[46,8,46,9],[46,10,46,12],[46,13,46,14],[47,1,47,4],[47,5,47,7],[47,8,47,9],[47,10,47,12],[47,13,47,14],[44,1,44,4],[44,5,44,7],[44,8,44,9],[44,10,44,12],[44,13,44,14],[45,1,45,4],[45,5,45,7],[45,8,45,9],[45,10,45,12],[45,13,45,14],[50,1,50,4],[50,5,50,7],[50,8,50,9],[50,10,50,12],[50,13,50,14],[51,1,51,4],[51,5,51,7],[51,8,51,9],[51,10,51,12],[51,13,51,14],[48,1,48,4],[48,5,48,7],[48,8,48,9],[48,10,48,12],[48,13,48,14],[49,1,49,4],[49,5,49,7],[49,8,49,9],[49,10,49,12],[49,13,49,14],[54,1,54,4],[54,5,54,7],[54,8,54,9],[54,10,54,12],[54,13,54,14],[55,1,55,4],[55,5,55,7],[55,8,55,9],[55,10,55,12],[55,13,55,14],[52,1,52,4],[52,5,52,7],[52,8,52,9],[52,10,52,12],[52,13,52,14],[53,1,53,4],[53,5,53,7],[53,8,53,9],[53,10,53,12],[53,13,53,14],[58,1,58,4],[58,5,58,7],[58,8,58,9],[58,10,58,12],[58,13,58,14],[59,1,59,4],[59,5,59,7],[59,8,59,9],[59,10,59,12],[59,13,59,14],[56,1,56,4],[56,5,56,7],[56,8,56,9],[56,10,56,12],[56,13,56,14],[57,1,57,4],[57,5,57,7],[57,8,57,9],[57,10,57,12],[57,13,57,14],[62,1,62,4],[62,5,62,7],[62,8,62,9],[62,10,62,12],[62,13,62,14],[63,1,63,4],[63,5,63,7],[63,8,63,9],[63,10,63,12],[63,13,63,14],[60,1,60,4],[60,5,60,7],[60,8,60,9],[60,10,60,12],[60,13,60,14],[61,1,61,4],[61,5,61,7],[61,8,61,9],[61,10,61,12],[61,13,61,14],[66,1,66,4],[66,5,66,7],[66,8,66,9],[66,10,66,12],[66,13,66,14],[67,1,67,4],[67,5,67,7],[67,8,67,9],[67,10,67,12],[67,13,67,14],[64,1,64,4],[64,5,64,7],[64,8,64,9],[64,10,64,12],[64,13,64,14],[65,1,65,4],[65,5,65,7],[65,8,65,9],[65,10,65,12],[65,13,65,14],[70,1,70,4],[70,5,70,7],[70,8,70,9],[70,10,70,12],[70,13,70,14],[71,1,71,4],[71,5,71,7],[71,8,71,9],[71,10,71,12],[71,13,71,14],[68,1,68,4],[68,5,68,7],[68,8,68,9],[68,10,68,12],[68,13,68,14],[69,1,69,4],[69,5,69,7],[69,8,69,9],[69,10,69,12],[69,13,69,14],[74,1,74,4],[74,5,74,7],[74,8,74,9],[74,10,74,12],[74,13,74,14],[75,1,75,4],[75,5,75,7],[75,8,75,9],[75,10,75,12],[75,13,75,14],[72,1,72,4],[72,5,72,7],[72,8,72,9],[72,10,72,12],[72,13,72,14],[73,1,73,4],[73,5,73,7],[73,8,73,9],[73,10,73,12],[73,13,73,14],[78,1,78,4],[78,5,78,7],[78,8,78,9],[78,10,78,12],[78,13,78,14],[79,1,79,4],[79,5,79,7],[79,8,79,9],[79,10,79,12],[79,13,79,14],[76,1,76,4],[76,5,76,7],[76,8,76,9],[76,10,76,12],[76,13,76,14],[77,1,77,4],[77,5,77,7],[77,8,77,9],[77,10,77,12],[77,13,77,14],[82,1,82,4],[82,5,82,7],[82,8,82,9],[82,10,82,12],[82,13,82,14],[83,1,83,4],[83,5,83,7],[83,8,83,9],[83,10,83,12],[83,13,83,14],[80,1,80,4],[80,5,80,7],[80,8,80,9],[80,10,80,12],[80,13,80,14],[81,1,81,4],[81,5,81,7],[81,8,81,9],[81,10,81,12],[81,13,81,14],[86,1,86,4],[86,5,86,7],[86,8,86,9],[86,10,86,12],[86,13,86,14],[87,1,87,4],[87,5,87,7],[87,8,87,9],[87,10,87,12],[87,13,87,14],[84,1,84,4],[84,5,84,7],[84,8,84,9],[84,10,84,12],[84,13,84,14],[85,1,85,4],[85,5,85,7],[85,8,85,9],[85,10,85,12],[85,13,85,14],[90,1,90,4],[90,5,90,7],[90,8,90,9],[90,10,90,12],[90,13,90,14],[91,1,91,4],[91,5,91,7],[91,8,91,9],[91,10,91,12],[91,13,91,14],[88,1,88,4],[88,5,88,7],[88,8,88,9],[88,10,88,12],[88,13,88,14],[89,1,89,4],[89,5,89,7],[89,8,89,9],[89,10,89,12],[89,13,89,14],[94,1,94,4],[94,5,94,7],[94,8,94,9],[94,10,94,12],[94,13,94,14],[95,1,95,4],[95,5,95,7],[95,8,95,9],[95,10,95,12],[95,13,95,14],[92,1,92,4],[92,5,92,7]],"merged_total":1659,"flags":["merged_cut"]}
[null,null,null,{"$f":"OFFSET(INDEX(place,MATCH(D2,elevesc,0),MATCH($B$4,classements,0)),0,1)","v":1},2,3,4,5,6,7,8,9,10,11,12,13,14,15,16,17,18,19,20]
[null,null,null,{"$f":"CLASSEMENTELEVES!C4","v":"Abdelnour"},{"$f":"CLASSEMENTELEVES!C5","v":"Açelya"},{"$f":"CLASSEMENTELEVES!C6","v":"Adgy"},{"$f":"CLASSEMENTELEVES!C7","v":"Ayoub"},{"$f":"CLASSEMENTELEVES!C8","v":"balise"},{"$f":"CLASSEMENTELEVES!C9","v":"Beqir"},{"$f":"CLASSEMENTELEVES!C10","v":"Caméllia"},{"$f":"CLASSEMENTELEVES!C11","v":"Carole"},{"$f":"CLASSEMENTELEVES!C12","v":"Caroline"},{"$f":"CLASSEMENTELEVES!C13","v":"Dicko"},{"$f":"CLASSEMENTELEVES!C14","v":"Dirvine"},{"$f":"CLASSEMENTELEVES!C15","v":"Dora"},{"$f":"CLASSEMENTELEVES!C16","v":"Elyna"},{"$f":"CLASSEMENTELEVES!C17","v":"Enzo"},{"$f":"CLASSEMENTELEVES!C18","v":"Faoulat"},{"$f":"CLASSEMENTELEVES!C19","v":"Hadidja"},{"$f":"CLASSEMENTELEVES!C20","v":"herbert"},{"$f":"CLASSEMENTELEVES!C21","v":"Houaïda"},{"$f":"CLASSEMENTELEVES!C22","v":"Jade"},{"$f":"CLASSEMENTELEVES!C23","v":"Johvany"}]
[null,null,null,{"$f":"OFFSET(INDEX(place,MATCH(D4,elevesc,0),MATCH($B$4,classements,0)),0,1)","v":21},22,23,24,25,26,27,28,29,30,31,32,33,34,35,36,37,38,39,40]
[null,"DEFIS",null,{"$f":"CLASSEMENTELEVES!C24","v":"Lina"},{"$f":"CLASSEMENTELEVES!C25","v":"Lydia"},{"$f":"CLASSEMENTELEVES!C26","v":"Maëva"},{"$f":"CLASSEMENTELEVES!C27","v":"Maïssa"},{"$f":"CLASSEMENTELEVES!C28","v":"Megi"},{"$f":"CLASSEMENTELEVES!C29","v":"paul"},{"$f":"CLASSEMENTELEVES!C30","v":"Saliha"},{"$f":"CLASSEMENTELEVES!C31","v":"Saoussen"},{"$f":"CLASSEMENTELEVES!C32","v":"Sarah"},{"$f":"CLASSEMENTELEVES!C33","v":"Shayma"},{"$f":"CLASSEMENTELEVES!C34","v":"Sirdt"},{"$f":"CLASSEMENTELEVES!C35","v":"Soumaya"},{"$f":"CLASSEMENTELEVES!C36","v":"Süeda"},{"$f":"CLASSEMENTELEVES!C37","v":"Tchelsy"},{"$f":"CLASSEMENTELEVES!C38","v":"Tiago"},{"$f":"CLASSEMENTELEVES!C39","v":"Yasna"},{"$f":"CLASSEMENTELEVES!C40","v":"zazi"},{"$f":"CLASSEMENTELEVES!C41","v":"jacques"},{"$f":"CLASSEMENTELEVES!C42","v":"antoine"},{"$f":"CLASSEMENTELEVES!C43","v":"Jean"}]
[null,null,null,1,2,3,4,5,6,7,8,9,10,11,12,13,14,15,31,32,33,34,35]
[null,null,null,16,17,18,19,20,21,22,23,24,25,26,27,28,29,30,31,32,33,34,35]
[]
[]
[]
[]
[]
[]
[null,"MATCHS",null,null,null,"Vainqueur",null,null,"POINTS",null,"Perdant",null,null,"POINTS",null,"POINTS THEME",null,"POINTS THEME",null,null,null,null,null,null,null,"VAINQUEURS","POINTS","PTS THEMES","PTS ENCAISSES","V ou D","N° incrémentation","PTS ATP","ecart classement"]
[null,"MATCH 1",null,null,null,null,null,null,null,null,null,null,null,null,null,null,null,null,null,null,null,null,null,null,{"$f":"Z14&\"_\"&AE14","v":"0_"},{"$f":"F14","v":0},{"$f":"I14","v":0},{"$f":"P14","v":0},{"$f":"N14","v":0},"V",{"$f":"IF(Z14<>0,COUNTIF($Z$14:Z14,Z14),\"\")","v":""},{"$f":"IFERROR(VLOOKUP(U14,#REF!,2,FALSE),0)","v":0},{"$f":"IF(VLOOKUP(F14,CLASSEMENTELEVES!$C$4:$D$37,2,FALSE)<VLOOKUP(K14,CLASSEMENTELEVES!$C$4:$D$37,2,FALSE),0,-U14)","v":{"$error":"#N/A"}}]
[null,"MATCH 2",null,null,null,null,null,null,null,null,null,null,null,null,null,null,null,null,null,null,null,null,null,null,"0_",{"$f":"F15","v":0},{"$f":"I15","v":0},{"$f":"P15","v":0},{"$f":"N15","v":0},"V",{"$f":"IF(Z15<>0,COUNTIF($Z$14:Z15,Z15),\"\")","v":""},{"$f":"IFERROR(VLOOKUP(U15,#REF!,2,FALSE),0)","v":0},{"$f":"IF(VLOOKUP(F15,CLASSEMENTELEVES!$C$4:$D$37,2,FALSE)<VLOOKUP(K15,CLASSEMENTELEVES!$C$4:$D$37,2,FALSE),0,-U15)","v":{"$error":"#N/A"}}]
[null,"MATCH 3",null,null,null,null,null,null,null,null,null,null,null,null,null,null,null,null,null,null,null,null,null,null,"0_",0,0,0,0,"V",{"$f":"IF(Z16<>0,COUNTIF($Z$14:Z16,Z16),\"\")","v":""},{"$f":"IFERROR(VLOOKUP(U16,#REF!,2,FALSE),0)","v":0},{"$f":"IF(VLOOKUP(F16,CLASSEMENTELEVES!$C$4:$D$37,2,FALSE)<VLOOKUP(K16,CLASSEMENTELEVES!$C$4:$D$37,2,FALSE),0,-U16)","v":{"$error":"#N/A"}}]
[null,"MATCH 4",null,null,null,null,null,null,null,null,null,null,null,null,null,null,null,null,null,null,null,null,null,null,"0_",0,0,0,0,"V",{"$f":"IF(Z17<>0,COUNTIF($Z$14:Z17,Z17),\"\")","v":""},{"$f":"IFERROR(VLOOKUP(U17,#REF!,2,FALSE),0)","v":0},{"$f":"IF(VLOOKUP(F17,CLASSEMENTELEVES!$C$4:$D$37,2,FALSE)<VLOOKUP(K17,CLASSEMENTELEVES!$C$4:$D$37,2,FALSE),0,-U17)","v":{"$error":"#N/A"}}]
[null,"MATCH 5",null,null,null,null,null,null,null,null,null,null,null,null,null,null,null,null,null,null,null,null,null,null,"0_",0,0,0,0,"V",{"$f":"IF(Z18<>0,COUNTIF($Z$14:Z18,Z18),\"\")","v":""},{"$f":"IFERROR(VLOOKUP(U18,#REF!,2,FALSE),0)","v":0},{"$f":"IF(VLOOKUP(F18,CLASSEMENTELEVES!$C$4:$D$37,2,FALSE)<VLOOKUP(K18,CLASSEMENTELEVES!$C$4:$D$37,2,FALSE),0,-U18)","v":{"$error":"#N/A"}}]
[null,"MATCH 6",null,null,null,null,null,null,null,null,null,null,null,null,null,null,null,null,null,null,null,null,null,null,"0_",0,0,0,0,"V",{"$f":"IF(Z19<>0,COUNTIF($Z$14:Z19,Z19),\"\")","v":""},{"$f":"IFERROR(VLOOKUP(U19,#REF!,2,FALSE),0)","v":0},{"$f":"IF(VLOOKUP(F19,CLASSEMENTELEVES!$C$4:$D$37,2,FALSE)<VLOOKUP(K19,CLASSEMENTELEVES!$C$4:$D$37,2,FALSE),0,-U19)","v":{"$error":"#N/A"}}]
[null,"MATCH 7",null,null,null,null,null,null,null,null,null,null,null,null,null,null,null,null,null,null,null,null,null,null,"0_",0,0,0,0,"V",{"$f":"IF(Z20<>0,COUNTIF($Z$14:Z20,Z20),\"\")","v":""},{"$f":"IFERROR(VLOOKUP(U20,#REF!,2,FALSE),0)","v":0},{"$f":"IF(VLOOKUP(F20,CLASSEMENTELEVES!$C$4:$D$37,2,FALSE)<VLOOKUP(K20,CLASSEMENTELEVES!$C$4:$D$37,2,FALSE),0,-U20)","v":{"$error":"#N/A"}}]
[null,"MATCH 8",null,null,null,null,null,null,null,null,null,null,null,null,null,null,null,null,null,null,null,null,null,null,"0_",0,0,0,0,"V",{"$f":"IF(Z21<>0,COUNTIF($Z$14:Z21,Z21),\"\")","v":""},{"$f":"IFERROR(VLOOKUP(U21,#REF!,2,FALSE),0)","v":0},{"$f":"IF(VLOOKUP(F21,CLASSEMENTELEVES!$C$4:$D$37,2,FALSE)<VLOOKUP(K21,CLASSEMENTELEVES!$C$4:$D$37,2,FALSE),0,-U21)","v":{"$error":"#N/A"}}]
[null,"MATCH 9",null,null,null,null,null,null,null,null,null,null,null,null,null,null,null,null,null,null,null,null,null,null,"0_",0,0,0,0,"V",{"$f":"IF(Z22<>0,COUNTIF($Z$14:Z22,Z22),\"\")","v":""},{"$f":"IFERROR(VLOOKUP(U22,#REF!,2,FALSE),0)","v":0},{"$f":"IF(VLOOKUP(F22,CLASSEMENTELEVES!$C$4:$D$37,2,FALSE)<VLOOKUP(K22,CLASSEMENTELEVES!$C$4:$D$37,2,FALSE),0,-U22)","v":{"$error":"#N/A"}}]
[null,"MATCH 10",null,null,null,null,null,null,null,null,null,null,null,null,null,null,null,null,null,null,null,null,null,null,"0_",0,0,0,0,"V",{"$f":"IF(Z23<>0,COUNTIF($Z$14:Z23,Z23),\"\")","v":""},{"$f":"IFERROR(VLOOKUP(U23,#REF!,2,FALSE),0)","v":0},{"$f":"IF(VLOOKUP(F23,CLASSEMENTELEVES!$C$4:$D$37,2,FALSE)<VLOOKUP(K23,CLASSEMENTELEVES!$C$4:$D$37,2,FALSE),0,-U23)","v":{"$error":"#N/A"}}]
[null,"MATCH 11",null,null,null,null,null,null,null,null,null,null,null,null,null,null,null,null,null,null,null,null,null,null,"0_",0,0,0,0,"V",{"$f":"IF(Z24<>0,COUNTIF($Z$14:Z24,Z24),\"\")","v":""},{"$f":"IFERROR(VLOOKUP(U24,#REF!,2,FALSE),0)","v":0},{"$f":"IF(VLOOKUP(F24,CLASSEMENTELEVES!$C$4:$D$37,2,FALSE)<VLOOKUP(K24,CLASSEMENTELEVES!$C$4:$D$37,2,FALSE),0,-U24)","v":{"$error":"#N/A"}}]
[null,"MATCH 12",null,null,null,null,null,null,null,null,null,null,null,null,null,null,null,null,null,null,null,null,null,null,"0_",0,0,0,0,"V",{"$f":"IF(Z25<>0,COUNTIF($Z$14:Z25,Z25),\"\")","v":""},{"$f":"IFERROR(VLOOKUP(U25,#REF!,2,FALSE),0)","v":0},{"$f":"IF(VLOOKUP(F25,CLASSEMENTELEVES!$C$4:$D$37,2,FALSE)<VLOOKUP(K25,CLASSEMENTELEVES!$C$4:$D$37,2,FALSE),0,-U25)","v":{"$error":"#N/A"}}]
[null,"MATCH 13",null,null,null,null,null,null,null,null,null,null,null,null,null,null,null,null,null,null,null,null,null,null,"0_",0,0,0,0,"V",{"$f":"IF(Z26<>0,COUNTIF($Z$14:Z26,Z26),\"\")","v":""},{"$f":"IFERROR(VLOOKUP(U26,#REF!,2,FALSE),0)","v":0},{"$f":"IF(VLOOKUP(F26,CLASSEMENTELEVES!$C$4:$D$37,2,FALSE)<VLOOKUP(K26,CLASSEMENTELEVES!$C$4:$D$37,2,FALSE),0,-U26)","v":{"$error":"#N/A"}}]
[null,"MATCH 14",null,null,null,null,null,null,null,null,null,null,null,null,null,null,null,null,null,null,null,null,null,null,"0_",0,0,0,0,"V",{"$f":"IF(Z27<>0,COUNTIF($Z$14:Z27,Z27),\"\")","v":""},{"$f":"IFERROR(VLOOKUP(U27,#REF!,2,FALSE),0)","v":0},{"$f":"IF(VLOOKUP(F27,CLASSEMENTELEVES!$C$4:$D$37,2,FALSE)<VLOOKUP(K27,CLASSEMENTELEVES!$C$4:$D$37,2,FALSE),0,-U27)","v":{"$error":"#N/A"}}]
[null,"MATCH 15",null,null,null,null,null,null,null,null,null,null,null,null,null,null,null,null,null,null,null,null,null,null,"0_",0,0,0,0,"V",{"$f":"IF(Z28<>0,COUNTIF($Z$14:Z28,Z28),\"\")","v":""},{"$f":"IFERROR(VLOOKUP(U28,#REF!,2,FALSE),0)","v":0},{"$f":"IF(VLOOKUP(F28,CLASSEMENTELEVES!$C$4:$D$37,2,FALSE)<VLOOKUP(K28,CLASSEMENTELEVES!$C$4:$D$37,2,FALSE),0,-U28)","v":{"$error":"#N/A"}}]
[null,"MATCH 16",null,null,null,null,null,null,null,null,null,null,null,null,null,null,null,null,null,null,null,null,null,null,"0_",0,0,0,0,"V",{"$f":"IF(Z29<>0,COUNTIF($Z$14:Z29,Z29),\"\")","v":""},{"$f":"IFERROR(VLOOKUP(U29,#REF!,2,FALSE),0)","v":0},{"$f":"IF(VLOOKUP(F29,CLASSEMENTELEVES!$C$4:$D$37,2,FALSE)<VLOOKUP(K29,CLASSEMENTELEVES!$C$4:$D$37,2,FALSE),0,-U29)","v":{"$error":"#N/A"}}]
[null,"MATCH 17",null,null,null,null,null,null,null,null,null,null,null,null,null,null,null,null,null,null,null,null,null,null,"0_",0,0,0,0,"V",{"$f":"IF(Z30<>0,COUNTIF($Z$14:Z30,Z30),\"\")","v":""},{"$f":"IFERROR(VLOOKUP(U30,#REF!,2,FALSE),0)","v":0},{"$f":"IF(VLOOKUP(F30,CLASSEMENTELEVES!$C$4:$D$37,2,FALSE)<VLOOKUP(K30,CLASSEMENTELEVES!$C$4:$D$37,2,FALSE),0,-U30)","v":{"$error":"#N/A"}}]
[null,"MATCH 18",null,null,null,null,null,null,null,null,null,null,null,null,null,null,null,null,null,null,null,null,null,null,"0_",0,0,0,0,"V",{"$f":"IF(Z31<>0,COUNTIF($Z$14:Z31,Z31),\"\")","v":""},{"$f":"IFERROR(VLOOKUP(U31,#REF!,2,FALSE),0)","v":0},{"$f":"IF(VLOOKUP(F31,CLASSEMENTELEVES!$C$4:$D$37,2,FALSE)<VLOOKUP(K31,CLASSEMENTELEVES!$C$4:$D$37,2,FALSE),0,-U31)","v":{"$error":"#N/A"}}]
[null,"MATCH 19",null,null,null,null,null,null,null,null,null,null,null,null,null,null,null,null,null,null,null,null,null,null,"0_",0,0,0,0,"V",{"$f":"IF(Z32<>0,COUNTIF($Z$14:Z32,Z32),\"\")","v":""},{"$f":"IFERROR(VLOOKUP(U32,#REF!,2,FALSE),0)","v":0},{"$f":"IF(VLOOKUP(F32,CLASSEMENTELEVES!$C$4:$D$37,2,FALSE)<VLOOKUP(K32,CLASSEMENTELEVES!$C$4:$D$37,2,FALSE),0,-U32)","v":{"$error":"#N/A"}}]
[null,"MATCH 20",null,null,null,null,null,null,null,null,null,null,null,null,null,null,null,null,null,null,null,null,null,null,"0_",0,0,0,0,"V",{"$f":"IF(Z33<>0,COUNTIF($Z$14:Z33,Z33),\"\")","v":""},{"$f":"IFERROR(VLOOKUP(U33,#REF!,2,FALSE),0)","v":0},{"$f":"IF(VLOOKUP(F33,CLASSEMENTELEVES!$C$4:$D$37,2,FALSE)<VLOOKUP(K33,CLASSEMENTELEVES!$C$4:$D$37,2,FALSE),0,-U33)","v":{"$error":"#N/A"}}]
[null,"MATCH 21",null,null,null,null,null,null,null,null,null,null,null,null,null,null,null,null,null,null,null,null,null,null,"0_",0,0,0,0,"V",{"$f":"IF(Z34<>0,COUNTIF($Z$14:Z34,Z34),\"\")","v":""},{"$f":"IFERROR(VLOOKUP(U34,#REF!,2,FALSE),0)","v":0},{"$f":"IF(VLOOKUP(F34,CLASSEMENTELEVES!$C$4:$D$37,2,FALSE)<VLOOKUP(K34,CLASSEMENTELEVES!$C$4:$D$37,2,FALSE),0,-U34)","v":{"$error":"#N/A"}}]
[null,"MATCH 22",null,null,null,null,null,null,null,null,null,null,null,null,null,null,null,null,null,null,null,null,null,null,"0_",0,0,0,0,"V",{"$f":"IF(Z35<>0,COUNTIF($Z$14:Z35,Z35),\"\")","v":""},{"$f":"IFERROR(VLOOKUP(U35,#REF!,2,FALSE),0)","v":0},{"$f":"IF(VLOOKUP(F35,CLASSEMENTELEVES!$C$4:$D$37,2,FALSE)<VLOOKUP(K35,CLASSEMENTELEVES!$C$4:$D$37,2,FALSE),0,-U35)","v":{"$error":"#N/A"}}]
[null,"MATCH 23",null,null,null,null,null,null,null,null,null,null,null,null,null,null,null,null,null,null,null,null,null,null,"0_",0,0,0,0,"V",{"$f":"IF(Z36<>0,COUNTIF($Z$14:Z36,Z36),\"\")","v":""},{"$f":"IFERROR(VLOOKUP(U36,#REF!,2,FALSE),0)","v":0},{"$f":"IF(VLOOKUP(F36,CLASSEMENTELEVES!$C$4:$D$37,2,FALSE)<VLOOKUP(K36,CLASSEMENTELEVES!$C$4:$D$37,2,FALSE),0,-U36)","v":{"$error":"#N/A"}}]
[null,"MATCH 24",null,null,null,null,null,null,null,null,null,null,null,null,null,null,null,null,null,null,null,null,null,null,"0_",0,0,0,0,"V",{"$f":"IF(Z37<>0,COUNTIF($Z$14:Z37,Z37),\"\")","v":""},{"$f":"IFERROR(VLOOKUP(U37,#REF!,2,FALSE),0)","v":0},{"$f":"IF(VLOOKUP(F37,CLASSEMENTELEVES!$C$4:$D$37,2,FALSE)<VLOOKUP(K37,CLASSEMENTELEVES!$C$4:$D$37,2,FALSE),0,-U37)","v":{"$error":"#N/A"}}]
[null,"MATCH 25",null,null,null,null,null,null,null,null,null,null,null,null,null,null,null,null,null,null,null,null,null,null,"0_",0,0,0,0,"V",{"$f":"IF(Z38<>0,COUNTIF($Z$14:Z38,Z38),\"\")","v":""},{"$f":"IFERROR(VLOOKUP(U38,#REF!,2,FALSE),0)","v":0},{"$f":"IF(VLOOKUP(F38,CLASSEMENTELEVES!$C$4:$D$37,2,FALSE)<VLOOKUP(K38,CLASSEMENTELEVES!$C$4:$D$37,2,FALSE),0,-U38)","v":{"$error":"#N/A"}}]
[null,"MATCH 26",null,null,null,null,null,null,null,null,null,null,null,null,null,null,null,null,null,null,null,null,null,null,"0_",0,0,0,0,"V",{"$f":"IF(Z39<>0,COUNTIF($Z$14:Z39,Z39),\"\")","v":""},{"$f":"IFERROR(VLOOKUP(U39,#REF!,2,FALSE),0)","v":0},{"$f":"IF(VLOOKUP(F39,CLASSEMENTELEVES!$C$4:$D$37,2,FALSE)<VLOOKUP(K39,CLASSEMENTELEVES!$C$4:$D$37,2,FALSE),0,-U39)","v":{"$error":"#N/A"}}]
[null,"MATCH 27",null,null,null,null,null,null,null,null,null,null,null,null,null,null,null,null,null,null,null,null,null,null,"0_",0,0,0,0,"V",{"$f":"IF(Z40<>0,COUNTIF($Z$14:Z40,Z40),\"\")","v":""},{"$f":"IFERROR(VLOOKUP(U40,#REF!,2,FALSE),0)","v":0},{"$f":"IF(VLOOKUP(F40,CLASSEMENTELEVES!$C$4:$D$37,2,FALSE)<VLOOKUP(K40,CLASSEMENTELEVES!$C$4:$D$37,2,FALSE),0,-U40)","v":{"$error":"#N/A"}}]
[null,"MATCH 28",null,null,null,null,null,null,null,null,null,null,null,null,null,null,null,null,null,null,null,null,null,null,"0_",0,0,0,0,"V",{"$f":"IF(Z41<>0,COUNTIF($Z$14:Z41,Z41),\"\")","v":""},{"$f":"IFERROR(VLOOKUP(U41,#REF!,2,FALSE),0)","v":0},{"$f":"IF(VLOOKUP(F41,CLASSEMENTELEVES!$C$4:$D$37,2,FALSE)<VLOOKUP(K41,CLASSEMENTELEVES!$C$4:$D$37,2,FALSE),0,-U41)","v":{"$error":"#N/A"}}]
[null,"MATCH 29",null,null,null,null,null,null,null,null,null,null,null,null,null,null,null,null,null,null,null,null,null,null,"0_",0,0,0,0,"V",{"$f":"IF(Z42<>0,COUNTIF($Z$14:Z42,Z42),\"\")","v":""},{"$f":"IFERROR(VLOOKUP(U42,#REF!,2,FALSE),0)","v":0},{"$f":"IF(VLOOKUP(F42,CLASSEMENTELEVES!$C$4:$D$37,2,FALSE)<VLOOKUP(K42,CLASSEMENTELEVES!$C$4:$D$37,2,FALSE),0,-U42)","v":{"$error":"#N/A"}}]
[null,"MATCH 30",null,null,null,null,null,null,null,null,null,null,null,null,null,null,null,null,null,null,null,null,null,null,"0_",0,0,0,0,"V",{"$f":"IF(Z43<>0,COUNTIF($Z$14:Z43,Z43),\"\")","v":""},{"$f":"IFERROR(VLOOKUP(U43,#REF!,2,FALSE),0)","v":0},{"$f":"IF(VLOOKUP(F43,CLASSEMENTELEVES!$C$4:$D$37,2,FALSE)<VLOOKUP(K43,CLASSEMENTELEVES!$C$4:$D$37,2,FALSE),0,-U43)","v":{"$error":"#N/A"}}]
[null,"MATCH 31",null,null,null,null,null,null,null,null,null,null,null,null,null,null,null,null,null,null,null,null,null,null,"0_",0,0,0,0,"V",{"$f":"IF(Z44<>0,COUNTIF($Z$14:Z44,Z44),\"\")","v":""},{"$f":"IFERROR(VLOOKUP(U44,#REF!,2,FALSE),0)","v":0},{"$f":"IF(VLOOKUP(F44,CLASSEMENTELEVES!$C$4:$D$37,2,FALSE)<VLOOKUP(K44,CLASSEMENTELEVES!$C$4:$D$37,2,FALSE),0,-U44)","v":{"$error":"#N/A"}}]
[null,"MATCH 32",null,null,null,null,null,null,null,null,null,null,null,null,null,null,null,null,null,null,null,null,null,null,"0_",0,0,0,0,"V",{"$f":"IF(Z45<>0,COUNTIF($Z$14:Z45,Z45),\"\")","v":""},{"$f":"IFERROR(VLOOKUP(U45,#REF!,2,FALSE),0)","v":0},{"$f":"IF(VLOOKUP(F45,CLASSEMENTELEVES!$C$4:$D$37,2,FALSE)<VLOOKUP(K45,CLASSEMENTELEVES!$C$4:$D$37,2,FALSE),0,-U45)","v":{"$error":"#N/A"}}]
[null,"MATCH 33",null,null,null,null,null,null,null,null,null,null,null,null,null,null,null,null,null,null,null,null,null,null,"0_",0,0,0,0,"V",{"$f":"IF(Z46<>0,COUNTIF($Z$14:Z46,Z46),\"\")","v":""},{"$f":"IFERROR(VLOOKUP(U46,#REF!,2,FALSE),0)","v":0},{"$f":"IF(VLOOKUP(F46,CLASSEMENTELEVES!$C$4:$D$37,2,FALSE)<VLOOKUP(K46,CLASSEMENTELEVES!$C$4:$D$37,2,FALSE),0,-U46)","v":{"$error":"#N/A"}}]
[null,"MATCH 34",null,null,null,null,null,null,null,null,null,null,null,null,null,null,null,null,null,null,null,null,null,null,"0_",0,0,0,0,"V",{"$f":"IF(Z47<>0,COUNTIF($Z$14:Z47,Z47),\"\")","v":""},{"$f":"IFERROR(VLOOKUP(U47,#REF!,2,FALSE),0)","v":0},{"$f":"IF(VLOOKUP(F47,CLASSEMENTELEVES!$C$4:$D$37,2,FALSE)<VLOOKUP(K47,CLASSEMENTELEVES!$C$4:$D$37,2,FALSE),0,-U47)","v":{"$error":"#N/A"}}]
[null,"MATCH 35",null,null,null,null,null,null,null,null,null,null,null,null,null,null,null,null,null,null,null,null,null,null,"0_",0,0,0,0,"V",{"$f":"IF(Z48<>0,COUNTIF($Z$14:Z48,Z48),\"\")","v":""},{"$f":"IFERROR(VLOOKUP(U48,#REF!,2,FALSE),0)","v":0},{"$f":"IF(VLOOKUP(F48,CLASSEMENTELEVES!$C$4:$D$37,2,FALSE)<VLOOKUP(K48,CLASSEMENTELEVES!$C$4:$D$37,2,FALSE),0,-U48)","v":{"$error":"#N/A"}}]
[null,"MATCH 36",null,null,null,null,null,null,null,null,null,null,null,null,null,null,null,null,null,null,null,null,null,null,"0_",0,0,0,0,"V",{"$f":"IF(Z49<>0,COUNTIF($Z$14:Z49,Z49),\"\")","v":""},{"$f":"IFERROR(VLOOKUP(U49,#REF!,2,FALSE),0)","v":0},{"$f":"IF(VLOOKUP(F49,CLASSEMENTELEVES!$C$4:$D$37,2,FALSE)<VLOOKUP(K49,CLASSEMENTELEVES!$C$4:$D$37,2,FALSE),0,-U49)","v":{"$error":"#N/A"}}]
[null,"MATCH 37",null,null,null,null,null,null,null,null,null,null,null,null,null,null,null,null,null,null,null,null,null,null,"0_",0,0,0,0,"V",{"$f":"IF(Z50<>0,COUNTIF($Z$14:Z50,Z50),\"\")","v":""},{"$f":"IFERROR(VLOOKUP(U50,#REF!,2,FALSE),0)","v":0},{"$f":"IF(VLOOKUP(F50,CLASSEMENTELEVES!$C$4:$D$37,2,FALSE)<VLOOKUP(K50,CLASSEMENTELEVES!$C$4:$D$37,2,FALSE),0,-U50)","v":{"$error":"#N/A"}}]
[null,"MATCH 38",null,null,null,null,null,null,null,null,null,null,null,null,null,null,null,null,null,null,null,null,null,null,"0_",0,0,0,0,"V",{"$f":"IF(Z51<>0,COUNTIF($Z$14:Z51,Z51),\"\")","v":""},{"$f":"IFERROR(VLOOKUP(U51,#REF!,2,FALSE),0)","v":0},{"$f":"IF(VLOOKUP(F51,CLASSEMENTELEVES!$C$4:$D$37,2,FALSE)<VLOOKUP(K51,CLASSEMENTELEVES!$C$4:$D$37,2,FALSE),0,-U51)","v":{"$error":"#N/A"}}]
[null,"MATCH 39",null,null,null,null,null,null,null,null,null,null,null,null,null,null,null,null,null,null,null,null,null,null,"0_",0,0,0,0,"V",{"$f":"IF(Z52<>0,COUNTIF($Z$14:Z52,Z52),\"\")","v":""},{"$f":"IFERROR(VLOOKUP(U52,#REF!,2,FALSE),0)","v":0},{"$f":"IF(VLOOKUP(F52,CLASSEMENTELEVES!$C$4:$D$37,2,FALSE)<VLOOKUP(K52,CLASSEMENTELEVES!$C$4:$D$37,2,FALSE),0,-U52)","v":{"$error":"#N/A"}}]
[null,"MATCH 40",null,null,null,null,null,null,null,null,null,null,null,null,null,null,null,null,null,null,null,null,null,null,"0_",0,0,0,0,"V",{"$f":"IF(Z53<>0,COUNTIF($Z$14:Z53,Z53),\"\")","v":""},{"$f":"IFERROR(VLOOKUP(U53,#REF!,2,FALSE),0)","v":0},{"$f":"IF(VLOOKUP(F53,CLASSEMENTELEVES!$C$4:$D$37,2,FALSE)<VLOOKUP(K53,CLASSEMENTELEVES!$C$4:$D$37,2,FALSE),0,-U53)","v":{"$error":"#N/A"}}]
[null,"MATCH 41",null,null,null,null,null,null,null,null,null,null,null,null,null,null,null,null,null,null,null,null,null,null,"0_",0,0,0,0,"V",{"$f":"IF(Z54<>0,COUNTIF($Z$14:Z54,Z54),\"\")","v":""},{"$f":"IFERROR(VLOOKUP(U54,#REF!,2,FALSE),0)","v":0},{"$f":"IF(VLOOKUP(F54,CLASSEMENTELEVES!$C$4:$D$37,2,FALSE)<VLOOKUP(K54,CLASSEMENTELEVES!$C$4:$D$37,2,FALSE),0,-U54)","v":{"$error":"#N/A"}}]
[null,"MATCH 42",null,null,null,null,null,null,null,null,null,null,null,null,null,null,null,null,null,null,null,null,null,null,"0_",0,0,0,0,"V",{"$f":"IF(Z55<>0,COUNTIF($Z$14:Z55,Z55),\"\")","v":""},{"$f":"IFERROR(VLOOKUP(U55,#REF!,2,FALSE),0)","v":0},{"$f":"IF(VLOOKUP(F55,CLASSEMENTELEVES!$C$4:$D$37,2,FALSE)<VLOOKUP(K55,CLASSEMENTELEVES!$C$4:$D$37,2,FALSE),0,-U55)","v":{"$error":"#N/A"}}]
[null,"MATCH 43",null,null,null,null,null,null,null,null,null,null,null,null,null,null,null,null,null,null,null,null,null,null,"0_",0,0,0,0,"V",{"$f":"IF(Z56<>0,COUNTIF($Z$14:Z56,Z56),\"\")","v":""},{"$f":"IFERROR(VLOOKUP(U56,#REF!,2,FALSE),0)","v":0},{"$f":"IF(VLOOKUP(F56,CLASSEMENTELEVES!$C$4:$D$37,2,FALSE)<VLOOKUP(K56,CLASSEMENTELEVES!$C$4:$D$37,2,FALSE),0,-U56)","v":{"$error":"#N/A"}}]
[null,"MATCH 44",null,null,null,null,null,null,null,null,null,null,null,null,null,null,null,null,null,null,null,null,null,null,"0_",0,0,0,0,"V",{"$f":"IF(Z57<>0,COUNTIF($Z$14:Z57,Z57),\"\")","v":""},{"$f":"IFERROR(VLOOKUP(U57,#REF!,2,FALSE),0)","v":0},{"$f":"IF(VLOOKUP(F57,CLASSEMENTELEVES!$C$4:$D$37,2,FALSE)<VLOOKUP(K57,CLASSEMENTELEVES!$C$4:$D$37,2,FALSE),0,-U57)","v":{"$error":"#N/A"}}]
[null,"MATCH 45",null,null,null,null,null,null,null,null,null,null,null,null,null,null,null,null,null,null,null,null,null,null,"0_",0,0,0,0,"V",{"$f":"IF(Z58<>0,COUNTIF($Z$14:Z58,Z58),\"\")","v":""},{"$f":"IFERROR(VLOOKUP(U58,#REF!,2,FALSE),0)","v":0},{"$f":"IF(VLOOKUP(F58,CLASSEMENTELEVES!$C$4:$D$37,2,FALSE)<VLOOKUP(K58,CLASSEMENTELEVES!$C$4:$D$37,2,FALSE),0,-U58)","v":{"$error":"#N/A"}}]
[null,"MATCH 46",null,null,null,null,null,null,null,null,null,null,null,null,null,null,null,null,null,null,null,null,null,null,"0_",0,0,0,0,"V",{"$f":"IF(Z59<>0,COUNTIF($Z$14:Z59,Z59),\"\")","v":""},{"$f":"IFERROR(VLOOKUP(U59,#REF!,2,FALSE),0)","v":0},{"$f":"IF(VLOOKUP(F59,CLASSEMENTELEVES!$C$4:$D$37,2,FALSE)<VLOOKUP(K59,CLASSEMENTELEVES!$C$4:$D$37,2,FALSE),0,-U59)","v":{"$error":"#N/A"}}]
[null,"MATCH 47",null,null,null,null,null,null,null,null,null,null,null,null,null,null,null,null,null,null,null,null,null,null,"0_",0,0,0,0,"V",{"$f":"IF(Z60<>0,COUNTIF($Z$14:Z60,Z60),\"\")","v":""},{"$f":"IFERROR(VLOOKUP(U60,#REF!,2,FALSE),0)","v":0},{"$f":"IF(VLOOKUP(F60,CLASSEMENTELEVES!$C$4:$D$37,2,FALSE)<VLOOKUP(K60,CLASSEMENTELEVES!$C$4:$D$37,2,FALSE),0,-U60)","v":{"$error":"#N/A"}}]
[null,"MATCH 48",null,null,null,null,null,null,null,null,null,null,null,null,null,null,null,null,null,null,null,null,null,null,"0_",0,0,0,0,"V",{"$f":"IF(Z61<>0,COUNTIF($Z$14:Z61,Z61),\"\")","v":""},{"$f":"IFERROR(VLOOKUP(U61,#REF!,2,FALSE),0)","v":0},{"$f":"IF(VLOOKUP(F61,CLASSEMENTELEVES!$C$4:$D$37,2,FALSE)<VLOOKUP(K61,CLASSEMENTELEVES!$C$4:$D$37,2,FALSE),0,-U61)","v":{"$error":"#N/A"}}]
[null,"MATCH 49",null,null,null,null,null,null,null,null,null,null,null,null,null,null,null,null,null,null,null,null,null,null,"0_",0,0,0,0,"V",{"$f":"IF(Z62<>0,COUNTIF($Z$14:Z62,Z62),\"\")","v":""},{"$f":"IFERROR(VLOOKUP(U62,#REF!,2,FALSE),0)","v":0},{"$f":"IF(VLOOKUP(F62,CLASSEMENTELEVES!$C$4:$D$37,2,FALSE)<VLOOKUP(K62,CLASSEMENTELEVES!$C$4:$D$37,2,FALSE),0,-U62)","v":{"$error":"#N/A"}}]
[null,"MATCH 50",null,null,null,null,null,null,null,null,null,null,null,null,null,null,null,null,null,null,null,null,null,null,"0_",0,0,0,0,"V",{"$f":"IF(Z63<>0,COUNTIF($Z$14:Z63,Z63),\"\")","v":""},{"$f":"IFERROR(VLOOKUP(U63,#REF!,2,FALSE),0)","v":0},{"$f":"IF(VLOOKUP(F63,CLASSEMENTELEVES!$C$4:$D$37,2,FALSE)<VLOOKUP(K63,CLASSEMENTELEVES!$C$4:$D$37,2,FALSE),0,-U63)","v":{"$error":"#N/A"}}]
[null,"MATCH 51",null,null,null,null,null,null,null,null,null,null,null,null,null,null,null,null,null,null,null,null,null,null,"0_",0,0,0,0,"V",{"$f":"IF(Z64<>0,COUNTIF($Z$14:Z64,Z64),\"\")","v":""},{"$f":"IFERROR(VLOOKUP(U64,#REF!,2,FALSE),0)","v":0},{"$f":"IF(VLOOKUP(F64,CLASSEMENTELEVES!$C$4:$D$37,2,FALSE)<VLOOKUP(K64,CLASSEMENTELEVES!$C$4:$D$37,2,FALSE),0,-U64)","v":{"$error":"#N/A"}}]
[null,"MATCH 52",null,null,null,null,null,null,null,null,null,null,null,null,null,null,null,null,null,null,null,null,null,null,"0_",0,0,0,0,"V",{"$f":"IF(Z65<>0,COUNTIF($Z$14:Z65,Z65),\"\")","v":""},{"$f":"IFERROR(VLOOKUP(U65,#REF!,2,FALSE),0)","v":0},{"$f":"IF(VLOOKUP(F65,CLASSEMENTELEVES!$C$4:$D$37,2,FALSE)<VLOOKUP(K65,CLASSEMENTELEVES!$C$4:$D$37,2,FALSE),0,-U65)","v":{"$error":"#N/A"}}]
[null,"MATCH 53",null,null,null,null,null,null,null,null,null,null,null,null,null,null,null,null,null,null,null,null,null,null,"0_",0,0,0,0,"V",{"$f":"IF(Z66<>0,COUNTIF($Z$14:Z66,Z66),\"\")","v":""},{"$f":"IFERROR(VLOOKUP(U66,#REF!,2,FALSE),0)","v":0},{"$f":"IF(VLOOKUP(F66,CLASSEMENTELEVES!$C$4:$D$37,2,FALSE)<VLOOKUP(K66,CLASSEMENTELEVES!$C$4:$D$37,2,FALSE),0,-U66)","v":{"$error":"#N/A"}}]
[null,"MATCH 54",null,null,null,null,null,null,null,null,null,null,null,null,null,null,null,null,null,null,null,null,null,null,"0_",0,0,0,0,"V",{"$f":"IF(Z67<>0,COUNTIF($Z$14:Z67,Z67),\"\")","v":""},{"$f":"IFERROR(VLOOKUP(U67,#REF!,2,FALSE),0)","v":0},{"$f":"IF(VLOOKUP(F67,CLASSEMENTELEVES!$C$4:$D$37,2,FALSE)<VLOOKUP(K67,CLASSEMENTELEVES!$C$4:$D$37,2,FALSE),0,-U67)","v":{"$error":"#N/A"}}]
[null,"MATCH 55",null,null,null,null,null,null,null,null,null,null,null,null,null,null,null,null,null,null,null,null,null,null,"0_",0,0,0,0,"V",{"$f":"IF(Z68<>0,COUNTIF($Z$14:Z68,Z68),\"\")","v":""},{"$f":"IFERROR(VLOOKUP(U68,#REF!,2,FALSE),0)","v":0},{"$f":"IF(VLOOKUP(F68,CLASSEMENTELEVES!$C$4:$D$37,2,FALSE)<VLOOKUP(K68,CLASSEMENTELEVES!$C$4:$D$37,2,FALSE),0,-U68)","v":{"$error":"#N/A"}}]
[null,"MATCH 56",null,null,null,null,null,null,null,null,null,null,null,null,null,null,null,null,null,null,null,null,null,null,"0_",0,0,0,0,"V",{"$f":"IF(Z69<>0,COUNTIF($Z$14:Z69,Z69),\"\")","v":""},{"$f":"IFERROR(VLOOKUP(U69,#REF!,2,FALSE),0)","v":0},{"$f":"IF(VLOOKUP(F69,CLASSEMENTELEVES!$C$4:$D$37,2,FALSE)<VLOOKUP(K69,CLASSEMENTELEVES!$C$4:$D$37,2,FALSE),0,-U69)","v":{"$error":"#N/A"}}]
[null,"MATCH 57",null,null,null,null,null,null,null,null,null,null,null,null,null,null,null,null,null,null,null,null,null,null,"0_",0,0,0,0,"V",{"$f":"IF(Z70<>0,COUNTIF($Z$14:Z70,Z70),\"\")","v":""},{"$f":"IFERROR(VLOOKUP(U70,#REF!,2,FALSE),0)","v":0},{"$f":"IF(VLOOKUP(F70,CLASSEMENTELEVES!$C$4:$D$37,2,FALSE)<VLOOKUP(K70,CLASSEMENTELEVES!$C$4:$D$37,2,FALSE),0,-U70)","v":{"$error":"#N/A"}}]
[null,"MATCH 58",null,null,null,null,null,null,null,null,null,null,null,null,null,null,null,null,null,null,null,null,null,null,"0_",0,0,0,0,"V",{"$f":"IF(Z71<>0,COUNTIF($Z$14:Z71,Z71),\"\")","v":""},{"$f":"IFERROR(VLOOKUP(U71,#REF!,2,FALSE),0)","v":0},{"$f":"IF(VLOOKUP(F71,CLASSEMENTELEVES!$C$4:$D$37,2,FALSE)<VLOOKUP(K71,CLASSEMENTELEVES!$C$4:$D$37,2,FALSE),0,-U71)","v":{"$error":"#N/A"}}]
[null,"MATCH 59",null,null,null,null,null,null,null,null,null,null,null,null,null,null,null,null,null,null,null,null,null,null,"0_",0,0,0,0,"V",{"$f":"IF(Z72<>0,COUNTIF($Z$14:Z72,Z72),\"\")","v":""},{"$f":"IFERROR(VLOOKUP(U72,#REF!,2,FALSE),0)","v":0},{"$f":"IF(VLOOKUP(F72,CLASSEMENTELEVES!$C$4:$D$37,2,FALSE)<VLOOKUP(K72,CLASSEMENTELEVES!$C$4:$D$37,2,FALSE),0,-U72)","v":{"$error":"#N/A"}}]
[null,"MATCH 60",null,null,null,null,null,null,null,null,null,null,null,null,null,null,null,null,null,null,null,null,null,null,"0_",0,0,0,0,"V",{"$f":"IF(Z73<>0,COUNTIF($Z$14:Z73,Z73),\"\")","v":""},{"$f":"IFERROR(VLOOKUP(U73,#REF!,2,FALSE),0)","v":0},{"$f":"IF(VLOOKUP(F73,CLASSEMENTELEVES!$C$4:$D$37,2,FALSE)<VLOOKUP(K73,CLASSEMENTELEVES!$C$4:$D$37,2,FALSE),0,-U73)","v":{"$error":"#N/A"}}]
[null,"MATCH 61",null,null,null,null,null,null,null,null,null,null,null,null,null,null,null,null,null,null,null,null,null,null,"0_",0,0,0,0,"V",{"$f":"IF(Z74<>0,COUNTIF($Z$14:Z74,Z74),\"\")","v":""},{"$f":"IFERROR(VLOOKUP(U74,#REF!,2,FALSE),0)","v":0},{"$f":"IF(VLOOKUP(F74,CLASSEMENTELEVES!$C$4:$D$37,2,FALSE)<VLOOKUP(K74,CLASSEMENTELEVES!$C$4:$D$37,2,FALSE),0,-U74)","v":{"$error":"#N/A"}}]
[null,"MATCH 62",null,null,null,null,null,null,null,null,null,null,null,null,null,null,null,null,null,null,null,null,null,null,"0_",0,0,0,0,"V",{"$f":"IF(Z75<>0,COUNTIF($Z$14:Z75,Z75),\"\")","v":""},{"$f":"IFERROR(VLOOKUP(U75,#REF!,2,FALSE),0)","v":0},{"$f":"IF(VLOOKUP(F75,CLASSEMENTELEVES!$C$4:$D$37,2,FALSE)<VLOOKUP(K75,CLASSEMENTELEVES!$C$4:$D$37,2,FALSE),0,-U75)","v":{"$error":"#N/A"}}]
[null,"MATCH 63",null,null,null,null,null,null,null,null,null,null,null,null,null,null,null,null,null,null,null,null,null,null,"0_",0,0,0,0,"V",{"$f":"IF(Z76<>0,COUNTIF($Z$14:Z76,Z76),\"\")","v":""},{"$f":"IFERROR(VLOOKUP(U76,#REF!,2,FALSE),0)","v":0},{"$f":"IF(VLOOKUP(F76,CLASSEMENTELEVES!$C$4:$D$37,2,FALSE)<VLOOKUP(K76,CLASSEMENTELEVES!$C$4:$D$37,2,FALSE),0,-U76)","v":{"$error":"#N/A"}}]
[null,"MATCH 64",null,null,null,null,null,null,null,null,null,null,null,null,null,null,null,null,null,null,null,null,null,null,"0_",0,0,0,0,"V",{"$f":"IF(Z77<>0,COUNTIF($Z$14:Z77,Z77),\"\")","v":""},{"$f":"IFERROR(VLOOKUP(U77,#REF!,2,FALSE),0)","v":0},{"$f":"IF(VLOOKUP(F77,CLASSEMENTELEVES!$C$4:$D$37,2,FALSE)<VLOOKUP(K77,CLASSEMENTELEVES!$C$4:$D$37,2,FALSE),0,-U77)","v":{"$error":"#N/A"}}]
[null,"MATCH 65",null,null,null,null,null,null,null,null,null,null,null,null,null,null,null,null,null,null,null,null,null,null,{"$f":"Z78&\"_\"&AE78","v":"0_"},0,0,0,0,"V",{"$f":"IF(Z78<>0,COUNTIF($Z$14:Z78,Z78),\"\")","v":""},{"$f":"IFERROR(VLOOKUP(U78,#REF!,2,FALSE),0)","v":0},{"$f":"IF(VLOOKUP(F78,CLASSEMENTELEVES!$C$4:$D$37,2,FALSE)<VLOOKUP(K78,CLASSEMENTELEVES!$C$4:$D$37,2,FALSE),0,-U78)","v":{"$error":"#N/A"}}]
[null,"MATCH 66",null,null,null,null,null,null,null,null,null,null,null,null,null,null,null,null,null,null,null,null,null,null,"0_",{"$f":"F79","v":0},{"$f":"I79","v":0},{"$f":"P79","v":0},{"$f":"N79","v":0},"V",{"$f":"IF(Z79<>0,COUNTIF($Z$14:Z79,Z79),\"\")","v":""},{"$f":"IFERROR(VLOOKUP(U79,#REF!,2,FALSE),0)","v":0},{"$f":"IF(VLOOKUP(F79,CLASSEMENTELEVES!$C$4:$D$37,2,FALSE)<VLOOKUP(K79,CLASSEMENTELEVES!$C$4:$D$37,2,FALSE),0,-U79)","v":{"$error":"#N/A"}}]
[null,"MATCH 67",null,null,null,null,null,null,null,null,null,null,null,null,null,null,null,null,null,null,null,null,null,null,"0_",0,0,0,0,"V",{"$f":"IF(Z80<>0,COUNTIF($Z$14:Z80,Z80),\"\")","v":""},{"$f":"IFERROR(VLOOKUP(U80,#REF!,2,FALSE),0)","v":0},{"$f":"IF(VLOOKUP(F80,CLASSEMENTELEVES!$C$4:$D$37,2,FALSE)<VLOOKUP(K80,CLASSEMENTELEVES!$C$4:$D$37,2,FALSE),0,-U80)","v":{"$error":"#N/A"}}]
[null,"MATCH 68",null,null,null,null,null,null,null,null,null,null,null,null,null,null,null,null,null,null,null,null,null,null,"0_",0,0,0,0,"V",{"$f":"IF(Z81<>0,COUNTIF($Z$14:Z81,Z81),\"\")","v":""},{"$f":"IFERROR(VLOOKUP(U81,#REF!,2,FALSE),0)","v":0},{"$f":"IF(VLOOKUP(F81,CLASSEMENTELEVES!$C$4:$D$37,2,FALSE)<VLOOKUP(K81,CLASSEMENTELEVES!$C$4:$D$37,2,FALSE),0,-U81)","v":{"$error":"#N/A"}}]
[null,"MATCH 69",null,null,null,null,null,null,null,null,null,null,null,null,null,null,null,null,null,null,null,null,null,null,"0_",0,0,0,0,"V",{"$f":"IF(Z82<>0,COUNTIF($Z$14:Z82,Z82),\"\")","v":""},{"$f":"IFERROR(VLOOKUP(U82,#REF!,2,FALSE),0)","v":0},{"$f":"IF(VLOOKUP(F82,CLASSEMENTELEVES!$C$4:$D$37,2,FALSE)<VLOOKUP(K82,CLASSEMENTELEVES!$C$4:$D$37,2,FALSE),0,-U82)","v":{"$error":"#N/A"}}]
[null,"MATCH 70",null,null,null,null,null,null,null,null,null,null,null,null,null,null,null,null,null,null,null,null,null,null,"0_",0,0,0,0,"V",{"$f":"IF(Z83<>0,COUNTIF($Z$14:Z83,Z83),\"\")","v":""},{"$f":"IFERROR(VLOOKUP(U83,#REF!,2,FALSE),0)","v":0},{"$f":"IF(VLOOKUP(F83,CLASSEMENTELEVES!$C$4:$D$37,2,FALSE)<VLOOKUP(K83,CLASSEMENTELEVES!$C$4:$D$37,2,FALSE),0,-U83)","v":{"$error":"#N/A"}}]
[null,"MATCH 71",null,null,null,null,null,null,null,null,null,null,null,null,null,null,null,null,null,null,null,null,null,null,"0_",0,0,0,0,"V",{"$f":"IF(Z84<>0,COUNTIF($Z$14:Z84,Z84),\"\")","v":""},{"$f":"IFERROR(VLOOKUP(U84,#REF!,2,FALSE),0)","v":0},{"$f":"IF(VLOOKUP(F84,CLASSEMENTELEVES!$C$4:$D$37,2,FALSE)<VLOOKUP(K84,CLASSEMENTELEVES!$C$4:$D$37,2,FALSE),0,-U84)","v":{"$error":"#N/A"}}]
[null,"MATCH 72",null,null,null,null,null,null,null,null,null,null,null,null,null,null,null,null,null,null,null,null,null,null,"0_",0,0,0,0,"V",{"$f":"IF(Z85<>0,COUNTIF($Z$14:Z85,Z85),\"\")","v":""},{"$f":"IFERROR(VLOOKUP(U85,#REF!,2,FALSE),0)","v":0},{"$f":"IF(VLOOKUP(F85,CLASSEMENTELEVES!$C$4:$D$37,2,FALSE)<VLOOKUP(K85,CLASSEMENTELEVES!$C$4:$D$37,2,FALSE),0,-U85)","v":{"$error":"#N/A"}}]
[null,"MATCH 73",null,null,null,null,null,null,null,null,null,null,null,null,null,null,null,null,null,null,null,null,null,null,"0_",0,0,0,0,"V",{"$f":"IF(Z86<>0,COUNTIF($Z$14:Z86,Z86),\"\")","v":""},{"$f":"IFERROR(VLOOKUP(U86,#REF!,2,FALSE),0)","v":0},{"$f":"IF(VLOOKUP(F86,CLASSEMENTELEVES!$C$4:$D$37,2,FALSE)<VLOOKUP(K86,CLASSEMENTELEVES!$C$4:$D$37,2,FALSE),0,-U86)","v":{"$error":"#N/A"}}]
[null,"MATCH 74",null,null,null,null,null,null,null,null,null,null,null,null,null,null,null,null,null,null,null,null,null,null,"0_",0,0,0,0,"V",{"$f":"IF(Z87<>0,COUNTIF($Z$14:Z87,Z87),\"\")","v":""},{"$f":"IFERROR(VLOOKUP(U87,#REF!,2,FALSE),0)","v":0},{"$f":"IF(VLOOKUP(F87,CLASSEMENTELEVES!$C$4:$D$37,2,FALSE)<VLOOKUP(K87,CLASSEMENTELEVES!$C$4:$D$37,2,FALSE),0,-U87)","v":{"$error":"#N/A"}}]
[null,"MATCH 75",null,null,null,null,null,null,null,null,null,null,null,null,null,null,null,null,null,null,null,null,null,null,"0_",0,0,0,0,"V",{"$f":"IF(Z88<>0,COUNTIF($Z$14:Z88,Z88),\"\")","v":""},{"$f":"IFERROR(VLOOKUP(U88,#REF!,2,FALSE),0)","v":0},{"$f":"IF(VLOOKUP(F88,CLASSEMENTELEVES!$C$4:$D$37,2,FALSE)<VLOOKUP(K88,CLASSEMENTELEVES!$C$4:$D$37,2,FALSE),0,-U88)","v":{"$error":"#N/A"}}]
[null,"MATCH 76",null,null,null,null,null,null,null,null,null,null,null,null,null,null,null,null,null,null,null,null,null,null,"0_",0,0,0,0,"V",{"$f":"IF(Z89<>0,COUNTIF($Z$14:Z89,Z89),\"\")","v":""},{"$f":"IFERROR(VLOOKUP(U89,#REF!,2,FALSE),0)","v":0},{"$f":"IF(VLOOKUP(F89,CLASSEMENTELEVES!$C$4:$D$37,2,FALSE)<VLOOKUP(K89,CLASSEMENTELEVES!$C$4:$D$37,2,FALSE),0,-U89)","v":{"$error":"#N/A"}}]
[null,"MATCH 77",null,null,null,null,null,null,null,null,null,null,null,null,null,null,null,null,null,null,null,null,null,null,"0_",0,0,0,0,"V",{"$f":"IF(Z90<>0,COUNTIF($Z$14:Z90,Z90),\"\")","v":""},{"$f":"IFERROR(VLOOKUP(U90,#REF!,2,FALSE),0)","v":0},{"$f":"IF(VLOOKUP(F90,CLASSEMENTELEVES!$C$4:$D$37,2,FALSE)<VLOOKUP(K90,CLASSEMENTELEVES!$C$4:$D$37,2,FALSE),0,-U90)","v":{"$error":"#N/A"}}]
[null,"MATCH 78",null,null,null,null,null,null,null,null,null,null,null,null,null,null,null,null,null,null,null,null,null,null,"0_",0,0,0,0,"V",{"$f":"IF(Z91<>0,COUNTIF($Z$14:Z91,Z91),\"\")","v":""},{"$f":"IFERROR(VLOOKUP(U91,#REF!,2,FALSE),0)","v":0},{"$f":"IF(VLOOKUP(F91,CLASSEMENTELEVES!$C$4:$D$37,2,FALSE)<VLOOKUP(K91,CLASSEMENTELEVES!$C$4:$D$37,2,FALSE),0,-U91)","v":{"$error":"#N/A"}}]
[null,"MATCH 79",null,null,null,null,null,null,null,null,null,null,null,null,null,null,null,null,null,null,null,null,null,null,"0_",0,0,0,0,"V",{"$f":"IF(Z92<>0,COUNTIF($Z$14:Z92,Z92),\"\")","v":""},{"$f":"IFERROR(VLOOKUP(U92,#REF!,2,FALSE),0)","v":0},{"$f":"IF(VLOOKUP(F92,CLASSEMENTELEVES!$C$4:$D$37,2,FALSE)<VLOOKUP(K92,CLASSEMENTELEVES!$C$4:$D$37,2,FALSE),0,-U92)","v":{"$error":"#N/A"}}]
[null,"MATCH 80",null,null,null,null,null,null,null,null,null,null,null,null,null,null,null,null,null,null,null,null,null,null,"0_",0,0,0,0,"V",{"$f":"IF(Z93<>0,COUNTIF($Z$14:Z93,Z93),\"\")","v":""},{"$f":"IFERROR(VLOOKUP(U93,#REF!,2,FALSE),0)","v":0},{"$f":"IF(VLOOKUP(F93,CLASSEMENTELEVES!$C$4:$D$37,2,FALSE)<VLOOKUP(K93,CLASSEMENTELEVES!$C$4:$D$37,2,FALSE),0,-U93)","v":{"$error":"#N/A"}}]
[null,"MATCH 81",null,null,null,null,null,null,null,null,null,null,null,null,null,null,null,null,null,null,null,null,null,null,"0_",0,0,0,0,"V",{"$f":"IF(Z94<>0,COUNTIF($Z$14:Z94,Z94),\"\")","v":""},{"$f":"IFERROR(VLOOKUP(U94,#REF!,2,FALSE),0)","v":0},{"$f":"IF(VLOOKUP(F94,CLASSEMENTELEVES!$C$4:$D$37,2,FALSE)<VLOOKUP(K94,CLASSEMENTELEVES!$C$4:$D$37,2,FALSE),0,-U94)","v":{"$error":"#N/A"}}]
[null,"MATCH 82",null,null,null,null,null,null,null,null,null,null,null,null,null,null,null,null,null,null,null,null,null,null,"0_",0,0,0,0,"V",{"$f":"IF(Z95<>0,COUNTIF($Z$14:Z95,Z95),\"\")","v":""},{"$f":"IFERROR(VLOOKUP(U95,#REF!,2,FALSE),0)","v":0},{"$f":"IF(VLOOKUP(F95,CLASSEMENTELEVES!$C$4:$D$37,2,FALSE)<VLOOKUP(K95,CLASSEMENTELEVES!$C$4:$D$37,2,FALSE),0,-U95)","v":{"$error":"#N/A"}}]
[null,"MATCH 83",null,null,null,null,null,null,null,null,null,null,null,null,null,null,null,null,null,null,null,null,null,null,"0_",0,0,0,0,"V",{"$f":"IF(Z96<>0,COUNTIF($Z$14:Z96,Z96),\"\")","v":""},{"$f":"IFERROR(VLOOKUP(U96,#REF!,2,FALSE),0)","v":0},{"$f":"IF(VLOOKUP(F96,CLASSEMENTELEVES!$C$4:$D$37,2,FALSE)<VLOOKUP(K96,CLASSEMENTELEVES!$C$4:$D$37,2,FALSE),0,-U96)","v":{"$error":"#N/A"}}]
[null,"MATCH 84",null,null,null,null,null,null,null,null,null,null,null,null,null,null,null,null,null,null,null,null,null,null,"0_",0,0,0,0,"V",{"$f":"IF(Z97<>0,COUNTIF($Z$14:Z97,Z97),\"\")","v":""},{"$f":"IFERROR(VLOOKUP(U97,#REF!,2,FALSE),0)","v":0},{"$f":"IF(VLOOKUP(F97,CLASSEMENTELEVES!$C$4:$D$37,2,FALSE)<VLOOKUP(K97,CLASSEMENTELEVES!$C$4:$D$37,2,FALSE),0,-U97)","v":{"$error":"#N/A"}}]
[null,"MATCH 85",null,null,null,null,null,null,null,null,null,null,null,null,null,null,null,null,null,null,null,null,null,null,"0_",0,0,0,0,"V",{"$f":"IF(Z98<>0,COUNTIF($Z$14:Z98,Z98),\"\")","v":""},{"$f":"IFERROR(VLOOKUP(U98,#REF!,2,FALSE),0)","v":0},{"$f":"IF(VLOOKUP(F98,CLASSEMENTELEVES!$C$4:$D$37,2,FALSE)<VLOOKUP(K98,CLASSEMENTELEVES!$C$4:$D$37,2,FALSE),0,-U98)","v":{"$error":"#N/A"}}]
[null,"MATCH 86",null,null,null,null,null,null,null,null,null,null,null,null,null,null,null,null,null,null,null,null,null,null,"0_",0,0,0,0,"V",{"$f":"IF(Z99<>0,COUNTIF($Z$14:Z99,Z99),\"\")","v":""},{"$f":"IFERROR(VLOOKUP(U99,#REF!,2,FALSE),0)","v":0},{"$f":"IF(VLOOKUP(F99,CLASSEMENTELEVES!$C$4:$D$37,2,FALSE)<VLOOKUP(K99,CLASSEMENTELEVES!$C$4:$D$37,2,FALSE),0,-U99)","v":{"$error":"#N/A"}}]
[null,"MATCH 87",null,null,null,null,null,null,null,null,null,null,null,null,null,null,null,null,null,null,null,null,null,null,"0_",0,0,0,0,"V",{"$f":"IF(Z100<>0,COUNTIF($Z$14:Z100,Z100),\"\")","v":""},{"$f":"IFERROR(VLOOKUP(U100,#REF!,2,FALSE),0)","v":0},{"$f":"IF(VLOOKUP(F100,CLASSEMENTELEVES!$C$4:$D$37,2,FALSE)<VLOOKUP(K100,CLASSEMENTELEVES!$C$4:$D$37,2,FALSE),0,-U100)","v":{"$error":"#N/A"}}]
[null,"MATCH 88",null,null,null,null,null,null,null,null,null,null,null,null,null,null,null,null,null,null,null,null,null,null,"0_",0,0,0,0,"V",{"$f":"IF(Z101<>0,COUNTIF($Z$14:Z101,Z101),\"\")","v":""},{"$f":"IFERROR(VLOOKUP(U101,#REF!,2,FALSE),0)","v":0},{"$f":"IF(VLOOKUP(F101,CLASSEMENTELEVES!$C$4:$D$37,2,FALSE)<VLOOKUP(K101,CLASSEMENTELEVES!$C$4:$D$37,2,FALSE),0,-U101)","v":{"$error":"#N/A"}}]
[null,"MATCH 89",null,null,null,null,null,null,null,null,null,null,null,null,null,null,null,null,null,null,null,null,null,null,"0_",0,0,0,0,"V",{"$f":"IF(Z102<>0,COUNTIF($Z$14:Z102,Z102),\"\")","v":""},{"$f":"IFERROR(VLOOKUP(U102,#REF!,2,FALSE),0)","v":0},{"$f":"IF(VLOOKUP(F102,CLASSEMENTELEVES!$C$4:$D$37,2,FALSE)<VLOOKUP(K102,CLASSEMENTELEVES!$C$4:$D$37,2,FALSE),0,-U102)","v":{"$error":"#N/A"}}]
[null,"MATCH 90",null,null,null,null,null,null,null,null,null,null,null,null,null,null,null,null,null,null,null,null,null,null,"0_",0,0,0,0,"V",{"$f":"IF(Z103<>0,COUNTIF($Z$14:Z103,Z103),\"\")","v":""},{"$f":"IFERROR(VLOOKUP(U103,#REF!,2,FALSE),0)","v":0},{"$f":"IF(VLOOKUP(F103,CLASSEMENTELEVES!$C$4:$D$37,2,FALSE)<VLOOKUP(K103,CLASSEMENTELEVES!$C$4:$D$37,2,FALSE),0,-U103)","v":{"$error":"#N/A"}}]
[null,"MATCH 91",null,null,null,null,null,null,null,null,null,null,null,null,null,null,null,null,null,null,null,null,null,null,"0_",0,0,0,0,"V",{"$f":"IF(Z104<>0,COUNTIF($Z$14:Z104,Z104),\"\")","v":""},{"$f":"IFERROR(VLOOKUP(U104,#REF!,2,FALSE),0)","v":0},{"$f":"IF(VLOOKUP(F104,CLASSEMENTELEVES!$C$4:$D$37,2,FALSE)<VLOOKUP(K104,CLASSEMENTELEVES!$C$4:$D$37,2,FALSE),0,-U104)","v":{"$error":"#N/A"}}]
[null,"MATCH 92",null,null,null,null,null,null,null,null,null,null,null,null,null,null,null,null,null,null,null,null,null,null,"0_",0,0,0,0,"V",{"$f":"IF(Z105<>0,COUNTIF($Z$14:Z105,Z105),\"\")","v":""},{"$f":"IFERROR(VLOOKUP(U105,#REF!,2,FALSE),0)","v":0},{"$f":"IF(VLOOKUP(F105,CLASSEMENTELEVES!$C$4:$D$37,2,FALSE)<VLOOKUP(K105,CLASSEMENTELEVES!$C$4:$D$37,2,FALSE),0,-U105)","v":{"$error":"#N/A"}}]
[null,"MATCH 93",null,null,null,null,null,null,null,null,null,null,null,null,null,null,null,null,null,null,null,null,null,null,"0_",0,0,0,0,"V",{"$f":"IF(Z106<>0,COUNTIF($Z$14:Z106,Z106),\"\")","v":""},{"$f":"IFERROR(VLOOKUP(U106,#REF!,2,FALSE),0)","v":0},{"$f":"IF(VLOOKUP(F106,CLASSEMENTELEVES!$C$4:$D$37,2,FALSE)<VLOOKUP(K106,CLASSEMENTELEVES!$C$4:$D$37,2,FALSE),0,-U106)","v":{"$error":"#N/A"}}]
[null,"MATCH 94",null,null,null,null,null,null,null,null,null,null,null,null,null,null,null,null,null,null,null,null,null,null,"0_",0,0,0,0,"V",{"$f":"IF(Z107<>0,COUNTIF($Z$14:Z107,Z107),\"\")","v":""},{"$f":"IFERROR(VLOOKUP(U107,#REF!,2,FALSE),0)","v":0},{"$f":"IF(VLOOKUP(F107,CLASSEMENTELEVES!$C$4:$D$37,2,FALSE)<VLOOKUP(K107,CLASSEMENTELEVES!$C$4:$D$37,2,FALSE),0,-U107)","v":{"$error":"#N/A"}}]
[null,"MATCH 95",null,null,null,null,null,null,null,null,null,null,null,null,null,null,null,null,null,null,null,null,null,null,"0_",0,0,0,0,"V",{"$f":"IF(Z108<>0,COUNTIF($Z$14:Z108,Z108),\"\")","v":""},{"$f":"IFERROR(VLOOKUP(U108,#REF!,2,FALSE),0)","v":0},{"$f":"IF(VLOOKUP(F108,CLASSEMENTELEVES!$C$4:$D$37,2,FALSE)<VLOOKUP(K108,CLASSEMENTELEVES!$C$4:$D$37,2,FALSE),0,-U108)","v":{"$error":"#N/A"}}]
[null,"MATCH 96",null,null,null,null,null,null,null,null,null,null,null,null,null,null,null,null,null,null,null,null,null,null,"0_",0,0,0,0,"V",{"$f":"IF(Z109<>0,COUNTIF($Z$14:Z109,Z109),\"\")","v":""},{"$f":"IFERROR(VLOOKUP(U109,#REF!,2,FALSE),0)","v":0},{"$f":"IF(VLOOKUP(F109,CLASSEMENTELEVES!$C$4:$D$37,2,FALSE)<VLOOKUP(K109,CLASSEMENTELEVES!$C$4:$D$37,2,FALSE),0,-U109)","v":{"$error":"#N/A"}}]
[null,"MATCH 97",null,null,null,null,null,null,null,null,null,null,null,null,null,null,null,null,null,null,null,null,null,null,"0_",0,0,0,0,"V",{"$f":"IF(Z110<>0,COUNTIF($Z$14:Z110,Z110),\"\")","v":""},{"$f":"IFERROR(VLOOKUP(U110,#REF!,2,FALSE),0)","v":0},{"$f":"IF(VLOOKUP(F110,CLASSEMENTELEVES!$C$4:$D$37,2,FALSE)<VLOOKUP(K110,CLASSEMENTELEVES!$C$4:$D$37,2,FALSE),0,-U110)","v":{"$error":"#N/A"}}]
[null,"MATCH 98",null,null,null,null,null,null,null,null,null,null,null,null,null,null,null,null,null,null,null,null,null,null,"0_",0,0,0,0,"V",{"$f":"IF(Z111<>0,COUNTIF($Z$14:Z111,Z111),\"\")","v":""},{"$f":"IFERROR(VLOOKUP(U111,#REF!,2,FALSE),0)","v":0},{"$f":"IF(VLOOKUP(F111,CLASSEMENTELEVES!$C$4:$D$37,2,FALSE)<VLOOKUP(K111,CLASSEMENTELEVES!$C$4:$D$37,2,FALSE),0,-U111)","v":{"$error":"#N/A"}}]
[null,"MATCH 99",null,null,null,null,null,null,null,null,null,null,null,null,null,null,null,null,null,null,null,null,null,null,"0_",0,0,0,0,"V",{"$f":"IF(Z112<>0,COUNTIF($Z$14:Z112,Z112),\"\")","v":""},{"$f":"IFERROR(VLOOKUP(U112,#REF!,2,FALSE),0)","v":0},{"$f":"IF(VLOOKUP(F112,CLASSEMENTELEVES!$C$4:$D$37,2,FALSE)<VLOOKUP(K112,CLASSEMENTELEVES!$C$4:$D$37,2,FALSE),0,-U112)","v":{"$error":"#N/A"}}]
[null,"MATCH 100",null,null,null,null,null,null,null,null,null,null,null,null,null,null,null,null,null,null,null,null,null,null,"0_",0,0,0,0,"V",{"$f":"IF(Z113<>0,COUNTIF($Z$14:Z113,Z113),\"\")","v":""},{"$f":"IFERROR(VLOOKUP(U113,#REF!,2,FALSE),0)","v":0},{"$f":"IF(VLOOKUP(F113,CLASSEMENTELEVES!$C$4:$D$37,2,FALSE)<VLOOKUP(K113,CLASSEMENTELEVES!$C$4:$D$37,2,FALSE),0,-U113)","v":{"$error":"#N/A"}}]
[null,"MATCH 101",null,null,null,null,null,null,null,null,null,null,null,null,null,null,null,null,null,null,null,null,null,null,"0_",0,0,0,0,"V",{"$f":"IF(Z114<>0,COUNTIF($Z$14:Z114,Z114),\"\")","v":""},{"$f":"IFERROR(VLOOKUP(U114,#REF!,2,FALSE),0)","v":0},{"$f":"IF(VLOOKUP(F114,CLASSEMENTELEVES!$C$4:$D$37,2,FALSE)<VLOOKUP(K114,CLASSEMENTELEVES!$C$4:$D$37,2,FALSE),0,-U114)","v":{"$error":"#N/A"}}]
[null,"MATCH 102",null,null,null,null,null,null,null,null,null,null,null,null,null,null,null,null,null,null,null,null,null,null,"0_",0,0,0,0,"V",{"$f":"IF(Z115<>0,COUNTIF($Z$14:Z115,Z115),\"\")","v":""},{"$f":"IFERROR(VLOOKUP(U115,#REF!,2,FALSE),0)","v":0},{"$f":"IF(VLOOKUP(F115,CLASSEMENTELEVES!$C$4:$D$37,2,FALSE)<VLOOKUP(K115,CLASSEMENTELEVES!$C$4:$D$37,2,FALSE),0,-U115)","v":{"$error":"#N/A"}}]
[null,"MATCH 103",null,null,null,null,null,null,null,null,null,null,null,null,null,null,null,null,null,null,null,null,null,null,"0_",0,0,0,0,"V",{"$f":"IF(Z116<>0,COUNTIF($Z$14:Z116,Z116),\"\")","v":""},{"$f":"IFERROR(VLOOKUP(U116,#REF!,2,FALSE),0)","v":0},{"$f":"IF(VLOOKUP(F116,CLASSEMENTELEVES!$C$4:$D$37,2,FALSE)<VLOOKUP(K116,CLASSEMENTELEVES!$C$4:$D$37,2,FALSE),0,-U116)","v":{"$error":"#N/A"}}]
[null,"MATCH 104",null,null,null,null,null,null,null,null,null,null,null,null,null,null,null,null,null,null,null,null,null,null,"0_",0,0,0,0,"V",{"$f":"IF(Z117<>0,COUNTIF($Z$14:Z117,Z117),\"\")","v":""},{"$f":"IFERROR(VLOOKUP(U117,#REF!,2,FALSE),0)","v":0},{"$f":"IF(VLOOKUP(F117,CLASSEMENTELEVES!$C$4:$D$37,2,FALSE)<VLOOKUP(K117,CLASSEMENTELEVES!$C$4:$D$37,2,FALSE),0,-U117)","v":{"$error":"#N/A"}}]
[null,"MATCH 105",null,null,null,null,null,null,null,null,null,null,null,null,null,null,null,null,null,null,null,null,null,null,"0_",0,0,0,0,"V",{"$f":"IF(Z118<>0,COUNTIF($Z$14:Z118,Z118),\"\")","v":""},{"$f":"IFERROR(VLOOKUP(U118,#REF!,2,FALSE),0)","v":0},{"$f":"IF(VLOOKUP(F118,CLASSEMENTELEVES!$C$4:$D$37,2,FALSE)<VLOOKUP(K118,CLASSEMENTELEVES!$C$4:$D$37,2,FALSE),0,-U118)","v":{"$error":"#N/A"}}]
[null,"MATCH 106",null,null,null,null,null,null,null,null,null,null,null,null,null,null,null,null,null,null,null,null,null,null,"0_",0,0,0,0,"V",{"$f":"IF(Z119<>0,COUNTIF($Z$14:Z119,Z119),\"\")","v":""},{"$f":"IFERROR(VLOOKUP(U119,#REF!,2,FALSE),0)","v":0},{"$f":"IF(VLOOKUP(F119,CLASSEMENTELEVES!$C$4:$D$37,2,FALSE)<VLOOKUP(K119,CLASSEMENTELEVES!$C$4:$D$37,2,FALSE),0,-U119)","v":{"$error":"#N/A"}}]
[null,"MATCH 107",null,null,null,null,null,null,null,null,null,null,null,null,null,null,null,null,null,null,null,null,null,null,"0_",0,0,0,0,"V",{"$f":"IF(Z120<>0,COUNTIF($Z$14:Z120,Z120),\"\")","v":""},{"$f":"IFERROR(VLOOKUP(U120,#REF!,2,FALSE),0)","v":0},{"$f":"IF(VLOOKUP(F120,CLASSEMENTELEVES!$C$4:$D$37,2,FALSE)<VLOOKUP(K120,CLASSEMENTELEVES!$C$4:$D$37,2,FALSE),0,-U120)","v":{"$error":"#N/A"}}]
[null,"MATCH 108",null,null,null,null,null,null,null,null,null,null,null,null,null,null,null,null,null,null,null,null,null,null,"0_",0,0,0,0,"V",{"$f":"IF(Z121<>0,COUNTIF($Z$14:Z121,Z121),\"\")","v":""},{"$f":"IFERROR(VLOOKUP(U121,#REF!,2,FALSE),0)","v":0},{"$f":"IF(VLOOKUP(F121,CLASSEMENTELEVES!$C$4:$D$37,2,FALSE)<VLOOKUP(K121,CLASSEMENTELEVES!$C$4:$D$37,2,FALSE),0,-U121)","v":{"$error":"#N/A"}}]
[null,"MATCH 109",null,null,null,null,null,null,null,null,null,null,null,null,null,null,null,null,null,null,null,null,null,null,"0_",0,0,0,0,"V",{"$f":"IF(Z122<>0,COUNTIF($Z$14:Z122,Z122),\"\")","v":""},{"$f":"IFERROR(VLOOKUP(U122,#REF!,2,FALSE),0)","v":0},{"$f":"IF(VLOOKUP(F122,CLASSEMENTELEVES!$C$4:$D$37,2,FALSE)<VLOOKUP(K122,CLASSEMENTELEVES!$C$4:$D$37,2,FALSE),0,-U122)","v":{"$error":"#N/A"}}]
[null,"MATCH 110",null,null,null,null,null,null,null,null,null,null,null,null,null,null,null,null,null,null,null,null,null,null,"0_",0,0,0,0,"V",{"$f":"IF(Z123<>0,COUNTIF($Z$14:Z123,Z123),\"\")","v":""},{"$f":"IFERROR(VLOOKUP(U123,#REF!,2,FALSE),0)","v":0},{"$f":"IF(VLOOKUP(F123,CLASSEMENTELEVES!$C$4:$D$37,2,FALSE)<VLOOKUP(K123,CLASSEMENTELEVES!$C$4:$D$37,2,FALSE),0,-U123)","v":{"$error":"#N/A"}}]
[null,"MATCH 111",null,null,null,null,null,null,null,null,null,null,null,null,null,null,null,null,null,null,null,null,null,null,"0_",0,0,0,0,"V",{"$f":"IF(Z124<>0,COUNTIF($Z$14:Z124,Z124),\"\")","v":""},{"$f":"IFERROR(VLOOKUP(U124,#REF!,2,FALSE),0)","v":0},{"$f":"IF(VLOOKUP(F124,CLASSEMENTELEVES!$C$4:$D$37,2,FALSE)<VLOOKUP(K124,CLASSEMENTELEVES!$C$4:$D$37,2,FALSE),0,-U124)","v":{"$error":"#N/A"}}]
[null,"MATCH 112",null,null,null,null,null,null,null,null,null,null,null,null,null,null,null,null,null,null,null,null,null,null,"0_",0,0,0,0,"V",{"$f":"IF(Z125<>0,COUNTIF($Z$14:Z125,Z125),\"\")","v":""},{"$f":"IFERROR(VLOOKUP(U125,#REF!,2,FALSE),0)","v":0},{"$f":"IF(VLOOKUP(F125,CLASSEMENTELEVES!$C$4:$D$37,2,FALSE)<VLOOKUP(K125,CLASSEMENTELEVES!$C$4:$D$37,2,FALSE),0,-U125)","v":{"$error":"#N/A"}}]
[null,"MATCH 113",null,null,null,null,null,null,null,null,null,null,null,null,null,null,null,null,null,null,null,null,null,null,"0_",0,0,0,0,"V",{"$f":"IF(Z126<>0,COUNTIF($Z$14:Z126,Z126),\"\")","v":""},{"$f":"IFERROR(VLOOKUP(U126,#REF!,2,FALSE),0)","v":0},{"$f":"IF(VLOOKUP(F126,CLASSEMENTELEVES!$C$4:$D$37,2,FALSE)<VLOOKUP(K126,CLASSEMENTELEVES!$C$4:$D$37,2,FALSE),0,-U126)","v":{"$error":"#N/A"}}]
[null,"MATCH 114",null,null,null,null,null,null,null,null,null,null,null,null,null,null,null,null,null,null,null,null,null,null,"0_",0,0,0,0,"V",{"$f":"IF(Z127<>0,COUNTIF($Z$14:Z127,Z127),\"\")","v":""},{"$f":"IFERROR(VLOOKUP(U127,#REF!,2,FALSE),0)","v":0},{"$f":"IF(VLOOKUP(F127,CLASSEMENTELEVES!$C$4:$D$37,2,FALSE)<VLOOKUP(K127,CLASSEMENTELEVES!$C$4:$D$37,2,FALSE),0,-U127)","v":{"$error":"#N/A"}}]
[null,"MATCH 115",null,null,null,null,null,null,null,null,null,null,null,null,null,null,null,null,null,null,null,null,null,null,"0_",0,0,0,0,"V",{"$f":"IF(Z128<>0,COUNTIF($Z$14:Z128,Z128),\"\")","v":""},{"$f":"IFERROR(VLOOKUP(U128,#REF!,2,FALSE),0)","v":0},{"$f":"IF(VLOOKUP(F128,CLASSEMENTELEVES!$C$4:$D$37,2,FALSE)<VLOOKUP(K128,CLASSEMENTELEVES!$C$4:$D$37,2,FALSE),0,-U128)","v":{"$error":"#N/A"}}]
[null,"MATCH 116",null,null,null,null,null,null,null,null,null,null,null,null,null,null,null,null,null,null,null,null,null,null,"0_",0,0,0,0,"V",{"$f":"IF(Z129<>0,COUNTIF($Z$14:Z129,Z129),\"\")","v":""},{"$f":"IFERROR(VLOOKUP(U129,#REF!,2,FALSE),0)","v":0},{"$f":"IF(VLOOKUP(F129,CLASSEMENTELEVES!$C$4:$D$37,2,FALSE)<VLOOKUP(K129,CLASSEMENTELEVES!$C$4:$D$37,2,FALSE),0,-U129)","v":{"$error":"#N/A"}}]
[null,"MATCH 117",null,null,null,null,null,null,null,null,null,null,null,null,null,null,null,null,null,null,null,null,null,null,"0_",0,0,0,0,"V",{"$f":"IF(Z130<>0,COUNTIF($Z$14:Z130,Z130),\"\")","v":""},{"$f":"IFERROR(VLOOKUP(U130,#REF!,2,FALSE),0)","v":0},{"$f":"IF(VLOOKUP(F130,CLASSEMENTELEVES!$C$4:$D$37,2,FALSE)<VLOOKUP(K130,CLASSEMENTELEVES!$C$4:$D$37,2,FALSE),0,-U130)","v":{"$error":"#N/A"}}]
[null,"MATCH 118",null,null,null,null,null,null,null,null,null,null,null,null,null,null,null,null,null,null,null,null,null,null,"0_",0,0,0,0,"V",{"$f":"IF(Z131<>0,COUNTIF($Z$14:Z131,Z131),\"\")","v":""},{"$f":"IFERROR(VLOOKUP(U131,#REF!,2,FALSE),0)","v":0},{"$f":"IF(VLOOKUP(F131,CLASSEMENTELEVES!$C$4:$D$37,2,FALSE)<VLOOKUP(K131,CLASSEMENTELEVES!$C$4:$D$37,2,FALSE),0,-U131)","v":{"$error":"#N/A"}}]
[null,"MATCH 119",null,null,null,null,null,null,null,null,null,null,null,null,null,null,null,null,null,null,null,null,null,null,"0_",0,0,0,0,"V",{"$f":"IF(Z132<>0,COUNTIF($Z$14:Z132,Z132),\"\")","v":""},{"$f":"IFERROR(VLOOKUP(U132,#REF!,2,FALSE),0)","v":0},{"$f":"IF(VLOOKUP(F132,CLASSEMENTELEVES!$C$4:$D$37,2,FALSE)<VLOOKUP(K132,CLASSEMENTELEVES!$C$4:$D$37,2,FALSE),0,-U132)","v":{"$error":"#N/A"}}]
[null,"MATCH 120",null,null,null,null,null,null,null,null,null,null,null,null,null,null,null,null,null,null,null,null,null,null,"0_",0,0,0,0,"V",{"$f":"IF(Z133<>0,COUNTIF($Z$14:Z133,Z133),\"\")","v":""},{"$f":"IFERROR(VLOOKUP(U133,#REF!,2,FALSE),0)","v":0},{"$f":"IF(VLOOKUP(F133,CLASSEMENTELEVES!$C$4:$D$37,2,FALSE)<VLOOKUP(K133,CLASSEMENTELEVES!$C$4:$D$37,2,FALSE),0,-U133)","v":{"$error":"#N/A"}}]
[null,"MATCH 121",null,null,null,null,null,null,null,null,null,null,null,null,null,null,null,null,null,null,null,null,null,null,"0_",0,0,0,0,"V",{"$f":"IF(Z134<>0,COUNTIF($Z$14:Z134,Z134),\"\")","v":""},{"$f":"IFERROR(VLOOKUP(U134,#REF!,2,FALSE),0)","v":0},{"$f":"IF(VLOOKUP(F134,CLASSEMENTELEVES!$C$4:$D$37,2,FALSE)<VLOOKUP(K134,CLASSEMENTELEVES!$C$4:$D$37,2,FALSE),0,-U134)","v":{"$error":"#N/A"}}]
[null,"MATCH 122",null,null,null,null,null,null,null,null,null,null,null,null,null,null,null,null,null,null,null,null,null,null,"0_",0,0,0,0,"V",{"$f":"IF(Z135<>0,COUNTIF($Z$14:Z135,Z135),\"\")","v":""},{"$f":"IFERROR(VLOOKUP(U135,#REF!,2,FALSE),0)","v":0},{"$f":"IF(VLOOKUP(F135,CLASSEMENTELEVES!$C$4:$D$37,2,FALSE)<VLOOKUP(K135,CLASSEMENTELEVES!$C$4:$D$37,2,FALSE),0,-U135)","v":{"$error":"#N/A"}}]
[null,"MATCH 123",null,null,null,null,null,null,null,null,null,null,null,null,null,null,null,null,null,null,null,null,null,null,"0_",0,0,0,0,"V",{"$f":"IF(Z136<>0,COUNTIF($Z$14:Z136,Z136),\"\")","v":""},{"$f":"IFERROR(VLOOKUP(U136,#REF!,2,FALSE),0)","v":0},{"$f":"IF(VLOOKUP(F136,CLASSEMENTELEVES!$C$4:$D$37,2,FALSE)<VLOOKUP(K136,CLASSEMENTELEVES!$C$4:$D$37,2,FALSE),0,-U136)","v":{"$error":"#N/A"}}]
[null,"MATCH 124",null,null,null,null,null,null,null,null,null,null,null,null,null,null,null,null,null,null,null,null,null,null,"0_",0,0,0,0,"V",{"$f":"IF(Z137<>0,COUNTIF($Z$14:Z137,Z137),\"\")","v":""},{"$f":"IFERROR(VLOOKUP(U137,#REF!,2,FALSE),0)","v":0},{"$f":"IF(VLOOKUP(F137,CLASSEMENTELEVES!$C$4:$D$37,2,FALSE)<VLOOKUP(K137,CLASSEMENTELEVES!$C$4:$D$37,2,FALSE),0,-U137)","v":{"$error":"#N/A"}}]
[null,"MATCH 125",null,null,null,null,null,null,null,null,null,null,null,null,null,null,null,null,null,null,null,null,null,null,"0_",0,0,0,0,"V",{"$f":"IF(Z138<>0,COUNTIF($Z$14:Z138,Z138),\"\")","v":""},{"$f":"IFERROR(VLOOKUP(U138,#REF!,2,FALSE),0)","v":0},{"$f":"IF(VLOOKUP(F138,CLASSEMENTELEVES!$C$4:$D$37,2,FALSE)<VLOOKUP(K138,CLASSEMENTELEVES!$C$4:$D$37,2,FALSE),0,-U138)","v":{"$error":"#N/A"}}]
[null,"MATCH 126",null,null,null,null,null,null,null,null,null,null,null,null,null,null,null,null,null,null,null,null,null,null,"0_",0,0,0,0,"V",{"$f":"IF(Z139<>0,COUNTIF($Z$14:Z139,Z139),\"\")","v":""},{"$f":"IFERROR(VLOOKUP(U139,#REF!,2,FALSE),0)","v":0},{"$f":"IF(VLOOKUP(F139,CLASSEMENTELEVES!$C$4:$D$37,2,FALSE)<VLOOKUP(K139,CLASSEMENTELEVES!$C$4:$D$37,2,FALSE),0,-U139)","v":{"$error":"#N/A"}}]
[null,"MATCH 127",null,null,null,null,null,null,null,null,null,null,null,null,null,null,null,null,null,null,null,null,null,null,"0_",0,0,0,0,"V",{"$f":"IF(Z140<>0,COUNTIF($Z$14:Z140,Z140),\"\")","v":""},{"$f":"IFERROR(VLOOKUP(U140,#REF!,2,FALSE),0)","v":0},{"$f":"IF(VLOOKUP(F140,CLASSEMENTELEVES!$C$4:$D$37,2,FALSE)<VLOOKUP(K140,CLASSEMENTELEVES!$C$4:$D$37,2,FALSE),0,-U140)","v":{"$error":"#N/A"}}]
[null,"MATCH 128",null,null,null,null,null,null,null,null,null,null,null,null,null,null,null,null,null,null,null,null,null,null,"0_",0,0,0,0,"V",{"$f":"IF(Z141<>0,COUNTIF($Z$14:Z141,Z141),\"\")","v":""},{"$f":"IFERROR(VLOOKUP(U141,#REF!,2,FALSE),0)","v":0},{"$f":"IF(VLOOKUP(F141,CLASSEMENTELEVES!$C$4:$D$37,2,FALSE)<VLOOKUP(K141,CLASSEMENTELEVES!$C$4:$D$37,2,FALSE),0,-U141)","v":{"$error":"#N/A"}}]
[null,"MATCH 129",null,null,null,null,null,null,null,null,null,null,null,null,null,null,null,null,null,null,null,null,null,null,{"$f":"Z142&\"_\"&AE142","v":"0_"},0,0,0,0,"V",{"$f":"IF(Z142<>0,COUNTIF($Z$14:Z142,Z142),\"\")","v":""},{"$f":"IFERROR(VLOOKUP(U142,#REF!,2,FALSE),0)","v":0},{"$f":"IF(VLOOKUP(F142,CLASSEMENTELEVES!$C$4:$D$37,2,FALSE)<VLOOKUP(K142,CLASSEMENTELEVES!$C$4:$D$37,2,FALSE),0,-U142)","v":{"$error":"#N/A"}}]
[null,"MATCH 130",null,null,null,null,null,null,null,null,null,null,null,null,null,null,null,null,null,null,null,null,null,null,"0_",{"$f":"F143","v":0},{"$f":"I143","v":0},{"$f":"P143","v":0},{"$f":"N143","v":0},"V",{"$f":"IF(Z143<>0,COUNTIF($Z$14:Z143,Z143),\"\")","v":""},{"$f":"IFERROR(VLOOKUP(U143,#REF!,2,FALSE),0)","v":0},{"$f":"IF(VLOOKUP(F143,CLASSEMENTELEVES!$C$4:$D$37,2,FALSE)<VLOOKUP(K143,CLASSEMENTELEVES!$C$4:$D$37,2,FALSE),0,-U143)","v":{"$error":"#N/A"}}]
[null,"MATCH 131",null,null,null,null,null,null,null,null,null,null,null,null,null,null,null,null,null,null,null,null,null,null,"0_",0,0,0,0,"V",{"$f":"IF(Z144<>0,COUNTIF($Z$14:Z144,Z144),\"\")","v":""},{"$f":"IFERROR(VLOOKUP(U144,#REF!,2,FALSE),0)","v":0},{"$f":"IF(VLOOKUP(F144,CLASSEMENTELEVES!$C$4:$D$37,2,FALSE)<VLOOKUP(K144,CLASSEMENTELEVES!$C$4:$D$37,2,FALSE),0,-U144)","v":{"$error":"#N/A"}}]
[null,"MATCH 132",null,null,null,null,null,null,null,null,null,null,null,null,null,null,null,null,null,null,null,null,null,null,"0_",0,0,0,0,"V",{"$f":"IF(Z145<>0,COUNTIF($Z$14:Z145,Z145),\"\")","v":""},{"$f":"IFERROR(VLOOKUP(U145,#REF!,2,FALSE),0)","v":0},{"$f":"IF(VLOOKUP(F145,CLASSEMENTELEVES!$C$4:$D$37,2,FALSE)<VLOOKUP(K145,CLASSEMENTELEVES!$C$4:$D$37,2,FALSE),0,-U145)","v":{"$error":"#N/A"}}]
[null,"MATCH 133",null,null,null,null,null,null,null,null,null,null,null,null,null,null,null,null,null,null,null,null,null,null,"0_",0,0,0,0,"V",{"$f":"IF(Z146<>0,COUNTIF($Z$14:Z146,Z146),\"\")","v":""},{"$f":"IFERROR(VLOOKUP(U146,#REF!,2,FALSE),0)","v":0},{"$f":"IF(VLOOKUP(F146,CLASSEMENTELEVES!$C$4:$D$37,2,FALSE)<VLOOKUP(K146,CLASSEMENTELEVES!$C$4:$D$37,2,FALSE),0,-U146)","v":{"$error":"#N/A"}}]
[null,"MATCH 134",null,null,null,null,null,null,null,null,null,null,null,null,null,null,null,null,null,null,null,null,null,null,"0_",0,0,0,0,"V",{"$f":"IF(Z147<>0,COUNTIF($Z$14:Z147,Z147),\"\")","v":""},{"$f":"IFERROR(VLOOKUP(U147,#REF!,2,FALSE),0)","v":0},{"$f":"IF(VLOOKUP(F147,CLASSEMENTELEVES!$C$4:$D$37,2,FALSE)<VLOOKUP(K147,CLASSEMENTELEVES!$C$4:$D$37,2,FALSE),0,-U147)","v":{"$error":"#N/A"}}]
[null,"MATCH 135",null,null,null,null,null,null,null,null,null,null,null,null,null,null,null,null,null,null,null,null,null,null,"0_",0,0,0,0,"V",{"$f":"IF(Z148<>0,COUNTIF($Z$14:Z148,Z148),\"\")","v":""},{"$f":"IFERROR(VLOOKUP(U148,#REF!,2,FALSE),0)","v":0},{"$f":"IF(VLOOKUP(F148,CLASSEMENTELEVES!$C$4:$D$37,2,FALSE)<VLOOKUP(K148,CLASSEMENTELEVES!$C$4:$D$37,2,FALSE),0,-U148)","v":{"$error":"#N/A"}}]
[null,"MATCH 136",null,null,null,null,null,null,null,null,null,null,null,null,null,null,null,null,null,null,null,null,null,null,"0_",0,0,0,0,"V",{"$f":"IF(Z149<>0,COUNTIF($Z$14:Z149,Z149),\"\")","v":""},{"$f":"IFERROR(VLOOKUP(U149,#REF!,2,FALSE),0)","v":0},{"$f":"IF(VLOOKUP(F149,CLASSEMENTELEVES!$C$4:$D$37,2,FALSE)<VLOOKUP(K149,CLASSEMENTELEVES!$C$4:$D$37,2,FALSE),0,-U149)","v":{"$error":"#N/A"}}]
[null,"MATCH 137",null,null,null,null,null,null,null,null,null,null,null,null,null,null,null,null,null,null,null,null,null,null,"0_",0,0,0,0,"V",{"$f":"IF(Z150<>0,COUNTIF($Z$14:Z150,Z150),\"\")","v":""},{"$f":"IFERROR(VLOOKUP(U150,#REF!,2,FALSE),0)","v":0},{"$f":"IF(VLOOKUP(F150,CLASSEMENTELEVES!$C$4:$D$37,2,FALSE)<VLOOKUP(K150,CLASSEMENTELEVES!$C$4:$D$37,2,FALSE),0,-U150)","v":{"$error":"#N/A"}}]
[null,"MATCH 138",null,null,null,null,null,null,null,null,null,null,null,null,null,null,null,null,null,null,null,null,null,null,"0_",0,0,0,0,"V",{"$f":"IF(Z151<>0,COUNTIF($Z$14:Z151,Z151),\"\")","v":""},{"$f":"IFERROR(VLOOKUP(U151,#REF!,2,FALSE),0)","v":0},{"$f":"IF(VLOOKUP(F151,CLASSEMENTELEVES!$C$4:$D$37,2,FALSE)<VLOOKUP(K151,CLASSEMENTELEVES!$C$4:$D$37,2,FALSE),0,-U151)","v":{"$error":"#N/A"}}]
[null,"MATCH 139",null,null,null,null,null,null,null,null,null,null,null,null,null,null,null,null,null,null,null,null,null,null,"0_",0,0,0,0,"V",{"$f":"IF(Z152<>0,COUNTIF($Z$14:Z152,Z152),\"\")","v":""},{"$f":"IFERROR(VLOOKUP(U152,#REF!,2,FALSE),0)","v":0},{"$f":"IF(VLOOKUP(F152,CLASSEMENTELEVES!$C$4:$D$37,2,FALSE)<VLOOKUP(K152,CLASSEMENTELEVES!$C$4:$D$37,2,FALSE),0,-U152)","v":{"$error":"#N/A"}}]
[null,"MATCH 140",null,null,null,null,null,null,null,null,null,null,null,null,null,null,null,null,null,null,null,null,null,null,"0_",0,0,0,0,"V",{"$f":"IF(Z153<>0,COUNTIF($Z$14:Z153,Z153),\"\")","v":""},{"$f":"IFERROR(VLOOKUP(U153,#REF!,2,FALSE),0)","v":0},{"$f":"IF(VLOOKUP(F153,CLASSEMENTELEVES!$C$4:$D$37,2,FALSE)<VLOOKUP(K153,CLASSEMENTELEVES!$C$4:$D$37,2,FALSE),0,-U153)","v":{"$error":"#N/A"}}]
[null,"MATCH 141",null,null,null,null,null,null,null,null,null,null,null,null,null,null,null,null,null,null,null,null,null,null,"0_",0,0,0,0,"V",{"$f":"IF(Z154<>0,COUNTIF($Z$14:Z154,Z154),\"\")","v":""},{"$f":"IFERROR(VLOOKUP(U154,#REF!,2,FALSE),0)","v":0},{"$f":"IF(VLOOKUP(F154,CLASSEMENTELEVES!$C$4:$D$37,2,FALSE)<VLOOKUP(K154,CLASSEMENTELEVES!$C$4:$D$37,2,FALSE),0,-U154)","v":{"$error":"#N/A"}}]
[null,"MATCH 142",null,null,null,null,null,null,null,null,null,null,null,null,null,null,null,null,null,null,null,null,null,null,"0_",0,0,0,0,"V",{"$f":"IF(Z155<>0,COUNTIF($Z$14:Z155,Z155),\"\")","v":""},{"$f":"IFERROR(VLOOKUP(U155,#REF!,2,FALSE),0)","v":0},{"$f":"IF(VLOOKUP(F155,CLASSEMENTELEVES!$C$4:$D$37,2,FALSE)<VLOOKUP(K155,CLASSEMENTELEVES!$C$4:$D$37,2,FALSE),0,-U155)","v":{"$error":"#N/A"}}]
[null,"MATCH 143",null,null,null,null,null,null,null,null,null,null,null,null,null,null,null,null,null,null,null,null,null,null,"0_",0,0,0,0,"V",{"$f":"IF(Z156<>0,COUNTIF($Z$14:Z156,Z156),\"\")","v":""},{"$f":"IFERROR(VLOOKUP(U156,#REF!,2,FALSE),0)","v":0},{"$f":"IF(VLOOKUP(F156,CLASSEMENTELEVES!$C$4:$D$37,2,FALSE)<VLOOKUP(K156,CLASSEMENTELEVES!$C$4:$D$37,2,FALSE),0,-U156)","v":{"$error":"#N/A"}}]
[null,"MATCH 144",null,null,null,null,null,null,null,null,null,null,null,null,null,null,null,null,null,null,null,null,null,null,"0_",0,0,0,0,"V",{"$f":"IF(Z157<>0,COUNTIF($Z$14:Z157,Z157),\"\")","v":""},{"$f":"IFERROR(VLOOKUP(U157,#REF!,2,FALSE),0)","v":0},{"$f":"IF(VLOOKUP(F157,CLASSEMENTELEVES!$C$4:$D$37,2,FALSE)<VLOOKUP(K157,CLASSEMENTELEVES!$C$4:$D$37,2,FALSE),0,-U157)","v":{"$error":"#N/A"}}]
[null,"MATCH 145",null,null,null,null,null,null,null,null,null,null,null,null,null,null,null,null,null,null,null,null,null,null,"0_",0,0,0,0,"V",{"$f":"IF(Z158<>0,COUNTIF($Z$14:Z158,Z158),\"\")","v":""},{"$f":"IFERROR(VLOOKUP(U158,#REF!,2,FALSE),0)","v":0},{"$f":"IF(VLOOKUP(F158,CLASSEMENTELEVES!$C$4:$D$37,2,FALSE)<VLOOKUP(K158,CLASSEMENTELEVES!$C$4:$D$37,2,FALSE),0,-U158)","v":{"$error":"#N/A"}}]
[null,"MATCH 146",null,null,null,null,null,null,null,null,null,null,null,null,null,null,null,null,null,null,null,null,null,null,"0_",0,0,0,0,"V",{"$f":"IF(Z159<>0,COUNTIF($Z$14:Z159,Z159),\"\")","v":""},{"$f":"IFERROR(VLOOKUP(U159,#REF!,2,FALSE),0)","v":0},{"$f":"IF(VLOOKUP(F159,CLASSEMENTELEVES!$C$4:$D$37,2,FALSE)<VLOOKUP(K159,CLASSEMENTELEVES!$C$4:$D$37,2,FALSE),0,-U159)","v":{"$error":"#N/A"}}]
[null,"MATCH 147",null,null,null,null,null,null,null,null,null,null,null,null,null,null,null,null,null,null,null,null,null,null,"0_",0,0,0,0,"V",{"$f":"IF(Z160<>0,COUNTIF($Z$14:Z160,Z160),\"\")","v":""},{"$f":"IFERROR(VLOOKUP(U160,#REF!,2,FALSE),0)","v":0},{"$f":"IF(VLOOKUP(F160,CLASSEMENTELEVES!$C$4:$D$37,2,FALSE)<VLOOKUP(K160,CLASSEMENTELEVES!$C$4:$D$37,2,FALSE),0,-U160)","v":{"$error":"#N/A"}}]
[null,"MATCH 148",null,null,null,null,null,null,null,null,null,null,null,null,null,null,null,null,null,null,null,null,null,null,"0_",0,0,0,0,"V",{"$f":"IF(Z161<>0,COUNTIF($Z$14:Z161,Z161),\"\")","v":""},{"$f":"IFERROR(VLOOKUP(U161,#REF!,2,FALSE),0)","v":0},{"$f":"IF(VLOOKUP(F161,CLASSEMENTELEVES!$C$4:$D$37,2,FALSE)<VLOOKUP(K161,CLASSEMENTELEVES!$C$4:$D$37,2,FALSE),0,-U161)","v":{"$error":"#N/A"}}]
[null,"MATCH 149",null,null,null,null,null,null,null,null,null,null,null,null,null,null,null,null,null,null,null,null,null,null,"0_",0,0,0,0,"V",{"$f":"IF(Z162<>0,COUNTIF($Z$14:Z162,Z162),\"\")","v":""},{"$f":"IFERROR(VLOOKUP(U162,#REF!,2,FALSE),0)","v":0},{"$f":"IF(VLOOKUP(F162,CLASSEMENTELEVES!$C$4:$D$37,2,FALSE)<VLOOKUP(K162,CLASSEMENTELEVES!$C$4:$D$37,2,FALSE),0,-U162)","v":{"$error":"#N/A"}}]
[null,"MATCH 150",null,null,null,null,null,null,null,null,null,null,null,null,null,null,null,null,null,null,null,null,null,null,"0_",0,0,0,0,"V",{"$f":"IF(Z163<>0,COUNTIF($Z$14:Z163,Z163),\"\")","v":""},{"$f":"IFERROR(VLOOKUP(U163,#REF!,2,FALSE),0)","v":0},{"$f":"IF(VLOOKUP(F163,CLASSEMENTELEVES!$C$4:$D$37,2,FALSE)<VLOOKUP(K163,CLASSEMENTELEVES!$C$4:$D$37,2,FALSE),0,-U163)","v":{"$error":"#N/A"}}]
[null,"MATCH 151",null,null,null,null,null,null,null,null,null,null,null,null,null,null,null,null,null,null,null,null,null,null,"0_",0,0,0,0,"V",{"$f":"IF(Z164<>0,COUNTIF($Z$14:Z164,Z164),\"\")","v":""},{"$f":"IFERROR(VLOOKUP(U164,#REF!,2,FALSE),0)","v":0},{"$f":"IF(VLOOKUP(F164,CLASSEMENTELEVES!$C$4:$D$37,2,FALSE)<VLOOKUP(K164,CLASSEMENTELEVES!$C$4:$D$37,2,FALSE),0,-U164)","v":{"$error":"#N/A"}}]
[null,"MATCH 152",null,null,null,null,null,null,null,null,null,null,null,null,null,null,null,null,null,null,null,null,null,null,"0_",0,0,0,0,"V",{"$f":"IF(Z165<>0,COUNTIF($Z$14:Z165,Z165),\"\")","v":""},{"$f":"IFERROR(VLOOKUP(U165,#REF!,2,FALSE),0)","v":0},{"$f":"IF(VLOOKUP(F165,CLASSEMENTELEVES!$C$4:$D$37,2,FALSE)<VLOOKUP(K165,CLASSEMENTELEVES!$C$4:$D$37,2,FALSE),0,-U165)","v":{"$error":"#N/A"}}]
[null,"MATCH 153",null,null,null,null,null,null,null,null,null,null,null,null,null,null,null,null,null,null,null,null,null,null,"0_",0,0,0,0,"V",{"$f":"IF(Z166<>0,COUNTIF($Z$14:Z166,Z166),\"\")","v":""},{"$f":"IFERROR(VLOOKUP(U166,#REF!,2,FALSE),0)","v":0},{"$f":"IF(VLOOKUP(F166,CLASSEMENTELEVES!$C$4:$D$37,2,FALSE)<VLOOKUP(K166,CLASSEMENTELEVES!$C$4:$D$37,2,FALSE),0,-U166)","v":{"$error":"#N/A"}}]
[null,"MATCH 154",null,null,null,null,null,null,null,null,null,null,null,null,null,null,null,null,null,null,null,null,null,null,"0_",0,0,0,0,"V",{"$f":"IF(Z167<>0,COUNTIF($Z$14:Z167,Z167),\"\")","v":""},{"$f":"IFERROR(VLOOKUP(U167,#REF!,2,FALSE),0)","v":0},{"$f":"IF(VLOOKUP(F167,CLASSEMENTELEVES!$C$4:$D$37,2,FALSE)<VLOOKUP(K167,CLASSEMENTELEVES!$C$4:$D$37,2,FALSE),0,-U167)","v":{"$error":"#N/A"}}]
[null,"MATCH 155",null,null,null,null,null,null,null,null,null,null,null,null,null,null,null,null,null,null,null,null,null,null,"0_",0,0,0,0,"V",{"$f":"IF(Z168<>0,COUNTIF($Z$14:Z168,Z168),\"\")","v":""},{"$f":"IFERROR(VLOOKUP(U168,#REF!,2,FALSE),0)","v":0},{"$f":"IF(VLOOKUP(F168,CLASSEMENTELEVES!$C$4:$D$37,2,FALSE)<VLOOKUP(K168,CLASSEMENTELEVES!$C$4:$D$37,2,FALSE),0,-U168)","v":{"$error":"#N/A"}}]
[null,"MATCH 156",null,null,null,null,null,null,null,null,null,null,null,null,null,null,null,null,null,null,null,null,null,null,"0_",0,0,0,0,"V",{"$f":"IF(Z169<>0,COUNTIF($Z$14:Z169,Z169),\"\")","v":""},{"$f":"IFERROR(VLOOKUP(U169,#REF!,2,FALSE),0)","v":0},{"$f":"IF(VLOOKUP(F169,CLASSEMENTELEVES!$C$4:$D$37,2,FALSE)<VLOOKUP(K169,CLASSEMENTELEVES!$C$4:$D$37,2,FALSE),0,-U169)","v":{"$error":"#N/A"}}]
[null,"MATCH 157",null,null,null,null,null,null,null,null,null,null,null,null,null,null,null,null,null,null,null,null,null,null,"0_",0,0,0,0,"V",{"$f":"IF(Z170<>0,COUNTIF($Z$14:Z170,Z170),\"\")","v":""},{"$f":"IFERROR(VLOOKUP(U170,#REF!,2,FALSE),0)","v":0},{"$f":"IF(VLOOKUP(F170,CLASSEMENTELEVES!$C$4:$D$37,2,FALSE)<VLOOKUP(K170,CLASSEMENTELEVES!$C$4:$D$37,2,FALSE),0,-U170)","v":{"$error":"#N/A"}}]
[null,"MATCH 158",null,null,null,null,null,null,null,null,null,null,null,null,null,null,null,null,null,null,null,null,null,null,"0_",0,0,0,0,"V",{"$f":"IF(Z171<>0,COUNTIF($Z$14:Z171,Z171),\"\")","v":""},{"$f":"IFERROR(VLOOKUP(U171,#REF!,2,FALSE),0)","v":0},{"$f":"IF(VLOOKUP(F171,CLASSEMENTELEVES!$C$4:$D$37,2,FALSE)<VLOOKUP(K171,CLASSEMENTELEVES!$C$4:$D$37,2,FALSE),0,-U171)","v":{"$error":"#N/A"}}]
[null,"MATCH 159",null,null,null,null,null,null,null,null,null,null,null,null,null,null,null,null,null,null,null,null,null,null,"0_",0,0,0,0,"V",{"$f":"IF(Z172<>0,COUNTIF($Z$14:Z172,Z172),\"\")","v":""},{"$f":"IFERROR(VLOOKUP(U172,#REF!,2,FALSE),0)","v":0},{"$f":"IF(VLOOKUP(F172,CLASSEMENTELEVES!$C$4:$D$37,2,FALSE)<VLOOKUP(K172,CLASSEMENTELEVES!$C$4:$D$37,2,FALSE),0,-U172)","v":{"$error":"#N/A"}}]
[null,"MATCH 160",null,null,null,null,null,null,null,null,null,null,null,null,null,null,null,null,null,null,null,null,null,null,"0_",0,0,0,0,"V",{"$f":"IF(Z173<>0,COUNTIF($Z$14:Z173,Z173),\"\")","v":""},{"$f":"IFERROR(VLOOKUP(U173,#REF!,2,FALSE),0)","v":0},{"$f":"IF(VLOOKUP(F173,CLASSEMENTELEVES!$C$4:$D$37,2,FALSE)<VLOOKUP(K173,CLASSEMENTELEVES!$C$4:$D$37,2,FALSE),0,-U173)","v":{"$error":"#N/A"}}]
[null,"MATCH 161",null,null,null,null,null,null,null,null,null,null,null,null,null,null,null,null,null,null,null,null,null,null,"0_",0,0,0,0,"V",{"$f":"IF(Z174<>0,COUNTIF($Z$14:Z174,Z174),\"\")","v":""},{"$f":"IFERROR(VLOOKUP(U174,#REF!,2,FALSE),0)","v":0},{"$f":"IF(VLOOKUP(F174,CLASSEMENTELEVES!$C$4:$D$37,2,FALSE)<VLOOKUP(K174,CLASSEMENTELEVES!$C$4:$D$37,2,FALSE),0,-U174)","v":{"$error":"#N/A"}}]
[null,"MATCH 162",null,null,null,null,null,null,null,null,null,null,null,null,null,null,null,null,null,null,null,null,null,null,"0_",0,0,0,0,"V",{"$f":"IF(Z175<>0,COUNTIF($Z$14:Z175,Z175),\"\")","v":""},{"$f":"IFERROR(VLOOKUP(U175,#REF!,2,FALSE),0)","v":0},{"$f":"IF(VLOOKUP(F175,CLASSEMENTELEVES!$C$4:$D$37,2,FALSE)<VLOOKUP(K175,CLASSEMENTELEVES!$C$4:$D$37,2,FALSE),0,-U175)","v":{"$error":"#N/A"}}]
[null,"MATCH 163",null,null,null,null,null,null,null,null,null,null,null,null,null,null,null,null,null,null,null,null,null,null,"0_",0,0,0,0,"V",{"$f":"IF(Z176<>0,COUNTIF($Z$14:Z176,Z176),\"\")","v":""},{"$f":"IFERROR(VLOOKUP(U176,#REF!,2,FALSE),0)","v":0},{"$f":"IF(VLOOKUP(F176,CLASSEMENTELEVES!$C$4:$D$37,2,FALSE)<VLOOKUP(K176,CLASSEMENTELEVES!$C$4:$D$37,2,FALSE),0,-U176)","v":{"$error":"#N/A"}}]
[null,"MATCH 164",null,null,null,null,null,null,null,null,null,null,null,null,null,null,null,null,null,null,null,null,null,null,"0_",0,0,0,0,"V",{"$f":"IF(Z177<>0,COUNTIF($Z$14:Z177,Z177),\"\")","v":""},{"$f":"IFERROR(VLOOKUP(U177,#REF!,2,FALSE),0)","v":0},{"$f":"IF(VLOOKUP(F177,CLASSEMENTELEVES!$C$4:$D$37,2,FALSE)<VLOOKUP(K177,CLASSEMENTELEVES!$C$4:$D$37,2,FALSE),0,-U177)","v":{"$error":"#N/A"}}]
[null,"MATCH 165",null,null,null,null,null,null,null,null,null,null,null,null,null,null,null,null,null,null,null,null,null,null,"0_",0,0,0,0,"V",{"$f":"IF(Z178<>0,COUNTIF($Z$14:Z178,Z178),\"\")","v":""},{"$f":"IFERROR(VLOOKUP(U178,#REF!,2,FALSE),0)","v":0},{"$f":"IF(VLOOKUP(F178,CLASSEMENTELEVES!$C$4:$D$37,2,FALSE)<VLOOKUP(K178,CLASSEMENTELEVES!$C$4:$D$37,2,FALSE),0,-U178)","v":{"$error":"#N/A"}}]
[null,"MATCH 166",null,null,null,null,null,null,null,null,null,null,null,null,null,null,null,null,null,null,null,null,null,null,"0_",0,0,0,0,"V",{"$f":"IF(Z179<>0,COUNTIF($Z$14:Z179,Z179),\"\")","v":""},{"$f":"IFERROR(VLOOKUP(U179,#REF!,2,FALSE),0)","v":0},{"$f":"IF(VLOOKUP(F179,CLASSEMENTELEVES!$C$4:$D$37,2,FALSE)<VLOOKUP(K179,CLASSEMENTELEVES!$C$4:$D$37,2,FALSE),0,-U179)","v":{"$error":"#N/A"}}]
[null,"MATCH 167",null,null,null,null,null,null,null,null,null,null,null,null,null,null,null,null,null,null,null,null,null,null,"0_",0,0,0,0,"V",{"$f":"IF(Z180<>0,COUNTIF($Z$14:Z180,Z180),\"\")","v":""},{"$f":"IFERROR(VLOOKUP(U180,#REF!,2,FALSE),0)","v":0},{"$f":"IF(VLOOKUP(F180,CLASSEMENTELEVES!$C$4:$D$37,2,FALSE)<VLOOKUP(K180,CLASSEMENTELEVES!$C$4:$D$37,2,FALSE),0,-U180)","v":{"$error":"#N/A"}}]
[null,"MATCH 168",null,null,null,null,null,null,null,null,null,null,null,null,null,null,null,null,null,null,null,null,null,null,"0_",0,0,0,0,"V",{"$f":"IF(Z181<>0,COUNTIF($Z$14:Z181,Z181),\"\")","v":""},{"$f":"IFERROR(VLOOKUP(U181,#REF!,2,FALSE),0)","v":0},{"$f":"IF(VLOOKUP(F181,CLASSEMENTELEVES!$C$4:$D$37,2,FALSE)<VLOOKUP(K181,CLASSEMENTELEVES!$C$4:$D$37,2,FALSE),0,-U181)","v":{"$error":"#N/A"}}]
[null,"MATCH 169",null,null,null,null,null,null,null,null,null,null,null,null,null,null,null,null,null,null,null,null,null,null,"0_",0,0,0,0,"V",{"$f":"IF(Z182<>0,COUNTIF($Z$14:Z182,Z182),\"\")","v":""},{"$f":"IFERROR(VLOOKUP(U182,#REF!,2,FALSE),0)","v":0},{"$f":"IF(VLOOKUP(F182,CLASSEMENTELEVES!$C$4:$D$37,2,FALSE)<VLOOKUP(K182,CLASSEMENTELEVES!$C$4:$D$37,2,FALSE),0,-U182)","v":{"$error":"#N/A"}}]
[null,"MATCH 170",null,null,null,null,null,null,null,null,null,null,null,null,null,null,null,null,null,null,null,null,null,null,"0_",0,0,0,0,"V",{"$f":"IF(Z183<>0,COUNTIF($Z$14:Z183,Z183),\"\")","v":""},{"$f":"IFERROR(VLOOKUP(U183,#REF!,2,FALSE),0)","v":0},{"$f":"IF(VLOOKUP(F183,CLASSEMENTELEVES!$C$4:$D$37,2,FALSE)<VLOOKUP(K183,CLASSEMENTELEVES!$C$4:$D$37,2,FALSE),0,-U183)","v":{"$error":"#N/A"}}]
[null,"MATCH 171",null,null,null,null,null,null,null,null,null,null,null,null,null,null,null,null,null,null,null,null,null,null,"0_",0,0,0,0,"V",{"$f":"IF(Z184<>0,COUNTIF($Z$14:Z184,Z184),\"\")","v":""},{"$f":"IFERROR(VLOOKUP(U184,#REF!,2,FALSE),0)","v":0},{"$f":"IF(VLOOKUP(F184,CLASSEMENTELEVES!$C$4:$D$37,2,FALSE)<VLOOKUP(K184,CLASSEMENTELEVES!$C$4:$D$37,2,FALSE),0,-U184)","v":{"$error":"#N/A"}}]
[null,"MATCH 172",null,null,null,null,null,null,null,null,null,null,null,null,null,null,null,null,null,null,null,null,null,null,"0_",0,0,0,0,"V",{"$f":"IF(Z185<>0,COUNTIF($Z$14:Z185,Z185),\"\")","v":""},{"$f":"IFERROR(VLOOKUP(U185,#REF!,2,FALSE),0)","v":0},{"$f":"IF(VLOOKUP(F185,CLASSEMENTELEVES!$C$4:$D$37,2,FALSE)<VLOOKUP(K185,CLASSEMENTELEVES!$C$4:$D$37,2,FALSE),0,-U185)","v":{"$error":"#N/A"}}]
[null,"MATCH 173",null,null,null,null,null,null,null,null,null,null,null,null,null,null,null,null,null,null,null,null,null,null,"0_",0,0,0,0,"V",{"$f":"IF(Z186<>0,COUNTIF($Z$14:Z186,Z186),\"\")","v":""},{"$f":"IFERROR(VLOOKUP(U186,#REF!,2,FALSE),0)","v":0},{"$f":"IF(VLOOKUP(F186,CLASSEMENTELEVES!$C$4:$D$37,2,FALSE)<VLOOKUP(K186,CLASSEMENTELEVES!$C$4:$D$37,2,FALSE),0,-U186)","v":{"$error":"#N/A"}}]
[null,"MATCH 174",null,null,null,null,null,null,null,null,null,null,null,null,null,null,null,null,null,null,null,null,null,null,"0_",0,0,0,0,"V",{"$f":"IF(Z187<>0,COUNTIF($Z$14:Z187,Z187),\"\")","v":""},{"$f":"IFERROR(VLOOKUP(U187,#REF!,2,FALSE),0)","v":0},{"$f":"IF(VLOOKUP(F187,CLASSEMENTELEVES!$C$4:$D$37,2,FALSE)<VLOOKUP(K187,CLASSEMENTELEVES!$C$4:$D$37,2,FALSE),0,-U187)","v":{"$error":"#N/A"}}]
[null,"MATCH 175",null,null,null,null,null,null,null,null,null,null,null,null,null,null,null,null,null,null,null,null,null,null,"0_",0,0,0,0,"V",{"$f":"IF(Z188<>0,COUNTIF($Z$14:Z188,Z188),\"\")","v":""},{"$f":"IFERROR(VLOOKUP(U188,#REF!,2,FALSE),0)","v":0},{"$f":"IF(VLOOKUP(F188,CLASSEMENTELEVES!$C$4:$D$37,2,FALSE)<VLOOKUP(K188,CLASSEMENTELEVES!$C$4:$D$37,2,FALSE),0,-U188)","v":{"$error":"#N/A"}}]
[null,"MATCH 176",null,null,null,null,null,null,null,null,null,null,null,null,null,null,null,null,null,null,null,null,null,null,"0_",0,0,0,0,"V",{"$f":"IF(Z189<>0,COUNTIF($Z$14:Z189,Z189),\"\")","v":""},{"$f":"IFERROR(VLOOKUP(U189,#REF!,2,FALSE),0)","v":0},{"$f":"IF(VLOOKUP(F189,CLASSEMENTELEVES!$C$4:$D$37,2,FALSE)<VLOOKUP(K189,CLASSEMENTELEVES!$C$4:$D$37,2,FALSE),0,-U189)","v":{"$error":"#N/A"}}]
[null,"MATCH 177",null,null,null,null,null,null,null,null,null,null,null,null,null,null,null,null,null,null,null,null,null,null,"0_",0,0,0,0,"V",{"$f":"IF(Z190<>0,COUNTIF($Z$14:Z190,Z190),\"\")","v":""},{"$f":"IFERROR(VLOOKUP(U190,#REF!,2,FALSE),0)","v":0},{"$f":"IF(VLOOKUP(F190,CLASSEMENTELEVES!$C$4:$D$37,2,FALSE)<VLOOKUP(K190,CLASSEMENTELEVES!$C$4:$D$37,2,FALSE),0,-U190)","v":{"$error":"#N/A"}}]
[null,"MATCH 178",null,null,null,null,null,null,null,null,null,null,null,null,null,null,null,null,null,null,null,null,null,null,"0_",0,0,0,0,"V",{"$f":"IF(Z191<>0,COUNTIF($Z$14:Z191,Z191),\"\")","v":""},{"$f":"IFERROR(VLOOKUP(U191,#REF!,2,FALSE),0)","v":0},{"$f":"IF(VLOOKUP(F191,CLASSEMENTELEVES!$C$4:$D$37,2,FALSE)<VLOOKUP(K191,CLASSEMENTELEVES!$C$4:$D$37,2,FALSE),0,-U191)","v":{"$error":"#N/A"}}]
[null,"MATCH 179",null,null,null,null,null,null,null,null,null,null,null,null,null,null,null,null,null,null,null,null,null,null,"0_",0,0,0,0,"V",{"$f":"IF(Z192<>0,COUNTIF($Z$14:Z192,Z192),\"\")","v":""},{"$f":"IFERROR(VLOOKUP(U192,#REF!,2,FALSE),0)","v":0},{"$f":"IF(VLOOKUP(F192,CLASSEMENTELEVES!$C$4:$D$37,2,FALSE)<VLOOKUP(K192,CLASSEMENTELEVES!$C$4:$D$37,2,FALSE),0,-U192)","v":{"$error":"#N/A"}}]
[null,"MATCH 180",null,null,null,null,null,null,null,null,null,null,null,null,null,null,null,null,null,null,null,null,null,null,"0_",0,0,0,0,"V",{"$f":"IF(Z193<>0,COUNTIF($Z$14:Z193,Z193),\"\")","v":""},{"$f":"IFERROR(VLOOKUP(U193,#REF!,2,FALSE),0)","v":0},{"$f":"IF(VLOOKUP(F193,CLASSEMENTELEVES!$C$4:$D$37,2,FALSE)<VLOOKUP(K193,CLASSEMENTELEVES!$C$4:$D$37,2,FALSE),0,-U193)","v":{"$error":"#N/A"}}]
[null,"MATCH 181",null,null,null,null,null,null,null,null,null,null,null,null,null,null,null,null,null,null,null,null,null,null,"0_",0,0,0,0,"V",{"$f":"IF(Z194<>0,COUNTIF($Z$14:Z194,Z194),\"\")","v":""},{"$f":"IFERROR(VLOOKUP(U194,#REF!,2,FALSE),0)","v":0},{"$f":"IF(VLOOKUP(F194,CLASSEMENTELEVES!$C$4:$D$37,2,FALSE)<VLOOKUP(K194,CLASSEMENTELEVES!$C$4:$D$37,2,FALSE),0,-U194)","v":{"$error":"#N/A"}}]
[null,"MATCH 182",null,null,null,null,null,null,null,null,null,null,null,null,null,null,null,null,null,null,null,null,null,null,"0_",0,0,0,0,"V",{"$f":"IF(Z195<>0,COUNTIF($Z$14:Z195,Z195),\"\")","v":""},{"$f":"IFERROR(VLOOKUP(U195,#REF!,2,FALSE),0)","v":0},{"$f":"IF(VLOOKUP(F195,CLASSEMENTELEVES!$C$4:$D$37,2,FALSE)<VLOOKUP(K195,CLASSEMENTELEVES!$C$4:$D$37,2,FALSE),0,-U195)","v":{"$error":"#N/A"}}]
[null,"MATCH 183",null,null,null,null,null,null,null,null,null,null,null,null,null,null,null,null,null,null,null,null,null,null,"0_",0,0,0,0,"V",{"$f":"IF(Z196<>0,COUNTIF($Z$14:Z196,Z196),\"\")","v":""},{"$f":"IFERROR(VLOOKUP(U196,#REF!,2,FALSE),0)","v":0},{"$f":"IF(VLOOKUP(F196,CLASSEMENTELEVES!$C$4:$D$37,2,FALSE)<VLOOKUP(K196,CLASSEMENTELEVES!$C$4:$D$37,2,FALSE),0,-U196)","v":{"$error":"#N/A"}}]
[null,"MATCH 184",null,null,null,null,null,null,null,null,null,null,null,null,null,null,null,null,null,null,null,null,null,null,"0_",0,0,0,0,"V",{"$f":"IF(Z197<>0,COUNTIF($Z$14:Z197,Z197),\"\")","v":""},{"$f":"IFERROR(VLOOKUP(U197,#REF!,2,FALSE),0)","v":0},{"$f":"IF(VLOOKUP(F197,CLASSEMENTELEVES!$C$4:$D$37,2,FALSE)<VLOOKUP(K197,CLASSEMENTELEVES!$C$4:$D$37,2,FALSE),0,-U197)","v":{"$error":"#N/A"}}]
[null,"MATCH 185",null,null,null,null,null,null,null,null,null,null,null,null,null,null,null,null,null,null,null,null,null,null,"0_",0,0,0,0,"V",{"$f":"IF(Z198<>0,COUNTIF($Z$14:Z198,Z198),\"\")","v":""},{"$f":"IFERROR(VLOOKUP(U198,#REF!,2,FALSE),0)","v":0},{"$f":"IF(VLOOKUP(F198,CLASSEMENTELEVES!$C$4:$D$37,2,FALSE)<VLOOKUP(K198,CLASSEMENTELEVES!$C$4:$D$37,2,FALSE),0,-U198)","v":{"$error":"#N/A"}}]
[null,"MATCH 186",null,null,null,null,null,null,null,null,null,null,null,null,null,null,null,null,null,null,null,null,null,null,"0_",0,0,0,0,"V",{"$f":"IF(Z199<>0,COUNTIF($Z$14:Z199,Z199),\"\")","v":""},{"$f":"IFERROR(VLOOKUP(U199,#REF!,2,FALSE),0)","v":0},{"$f":"IF(VLOOKUP(F199,CLASSEMENTELEVES!$C$4:$D$37,2,FALSE)<VLOOKUP(K199,CLASSEMENTELEVES!$C$4:$D$37,2,FALSE),0,-U199)","v":{"$error":"#N/A"}}]
[null,"MATCH 187",null,null,null,null,null,null,null,null,null,null,null,null,null,null,null,null,null,null,null,null,null,null,"0_",0,0,0,0,"V",{"$f":"IF(Z200<>0,COUNTIF($Z$14:Z200,Z200),\"\")","v":""},{"$f":"IFERROR(VLOOKUP(U200,#REF!,2,FALSE),0)","v":0},{"$f":"IF(VLOOKUP(F200,CLASSEMENTELEVES!$C$4:$D$37,2,FALSE)<VLOOKUP(K200,CLASSEMENTELEVES!$C$4:$D$37,2,FALSE),0,-U200)","v":{"$error":"#N/A"}}]
[null,"MATCH 188",null,null,null,null,null,null,null,null,null,null,null,null,null,null,null,null,null,null,null,null,null,null,"0_",0,0,0,0,"V",{"$f":"IF(Z201<>0,COUNTIF($Z$14:Z201,Z201),\"\")","v":""},{"$f":"IFERROR(VLOOKUP(U201,#REF!,2,FALSE),0)","v":0},{"$f":"IF(VLOOKUP(F201,CLASSEMENTELEVES!$C$4:$D$37,2,FALSE)<VLOOKUP(K201,CLASSEMENTELEVES!$C$4:$D$37,2,FALSE),0,-U201)","v":{"$error":"#N/A"}}]
[null,"MATCH 189",null,null,null,null,null,null,null,null,null,null,null,null,null,null,null,null,null,null,null,null,null,null,"0_",0,0,0,0,"V",{"$f":"IF(Z202<>0,COUNTIF($Z$14:Z202,Z202),\"\")","v":""},{"$f":"IFERROR(VLOOKUP(U202,#REF!,2,FALSE),0)","v":0},{"$f":"IF(VLOOKUP(F202,CLASSEMENTELEVES!$C$4:$D$37,2,FALSE)<VLOOKUP(K202,CLASSEMENTELEVES!$C$4:$D$37,2,FALSE),0,-U202)","v":{"$error":"#N/A"}}]
[null,"MATCH 190",null,null,null,null,null,null,null,null,null,null,null,null,null,null,null,null,null,null,null,null,null,null,"0_",0,0,0,0,"V",{"$f":"IF(Z203<>0,COUNTIF($Z$14:Z203,Z203),\"\")","v":""},{"$f":"IFERROR(VLOOKUP(U203,#REF!,2,FALSE),0)","v":0},{"$f":"IF(VLOOKUP(F203,CLASSEMENTELEVES!$C$4:$D$37,2,FALSE)<VLOOKUP(K203,CLASSEMENTELEVES!$C$4:$D$37,2,FALSE),0,-U203)","v":{"$error":"#N/A"}}]
[null,"MATCH 191",null,null,null,null,null,null,null,null,null,null,null,null,null,null,null,null,null,null,null,null,null,null,"0_",0,0,0,0,"V",{"$f":"IF(Z204<>0,COUNTIF($Z$14:Z204,Z204),\"\")","v":""},{"$f":"IFERROR(VLOOKUP(U204,#REF!,2,FALSE),0)","v":0},{"$f":"IF(VLOOKUP(F204,CLASSEMENTELEVES!$C$4:$D$37,2,FALSE)<VLOOKUP(K204,CLASSEMENTELEVES!$C$4:$D$37,2,FALSE),0,-U204)","v":{"$error":"#N/A"}}]
[null,"MATCH 192",null,null,null,null,null,null,null,null,null,null,null,null,null,null,null,null,null,null,null,null,null,null,"0_",0,0,0,0,"V",{"$f":"IF(Z205<>0,COUNTIF($Z$14:Z205,Z205),\"\")","v":""},{"$f":"IFERROR(VLOOKUP(U205,#REF!,2,FALSE),0)","v":0},{"$f":"IF(VLOOKUP(F205,CLASSEMENTELEVES!$C$4:$D$37,2,FALSE)<VLOOKUP(K205,CLASSEMENTELEVES!$C$4:$D$37,2,FALSE),0,-U205)","v":{"$error":"#N/A"}}]
[null,"MATCH 193",null,null,null,null,null,null,null,null,null,null,null,null,null,null,null,null,null,null,null,null,null,null,{"$f":"Z206&\"_\"&AE206","v":"0_"},0,0,0,0,"V",{"$f":"IF(Z206<>0,COUNTIF($Z$14:Z206,Z206),\"\")","v":""},{"$f":"IFERROR(VLOOKUP(U206,#REF!,2,FALSE),0)","v":0},{"$f":"IF(VLOOKUP(F206,CLASSEMENTELEVES!$C$4:$D$37,2,FALSE)<VLOOKUP(K206,CLASSEMENTELEVES!$C$4:$D$37,2,FALSE),0,-U206)","v":{"$error":"#N/A"}}]
[null,"MATCH 194",null,null,null,null,null,null,null,null,null,null,null,null,null,null,null,null,null,null,null,null,null,null,"0_",{"$f":"F207","v":0},{"$f":"I207","v":0},{"$f":"P207","v":0},{"$f":"N207","v":0},"V",{"$f":"IF(Z207<>0,COUNTIF($Z$14:Z207,Z207),\"\")","v":""},{"$f":"IFERROR(VLOOKUP(U207,#REF!,2,FALSE),0)","v":0},{"$f":"IF(VLOOKUP(F207,CLASSEMENTELEVES!$C$4:$D$37,2,FALSE)<VLOOKUP(K207,CLASSEMENTELEVES!$C$4:$D$37,2,FALSE),0,-U207)","v":{"$error":"#N/A"}}]
[null,"MATCH 195",null,null,null,null,null,null,null,null,null,null,null,null,null,null,null,null,null,null,null,null,null,null,"0_",0,0,0,0,"V",{"$f":"IF(Z208<>0,COUNTIF($Z$14:Z208,Z208),\"\")","v":""},{"$f":"IFERROR(VLOOKUP(U208,#REF!,2,FALSE),0)","v":0},{"$f":"IF(VLOOKUP(F208,CLASSEMENTELEVES!$C$4:$D$37,2,FALSE)<VLOOKUP(K208,CLASSEMENTELEVES!$C$4:$D$37,2,FALSE),0,-U208)","v":{"$error":"#N/A"}}]
[null,"MATCH 196",null,null,null,null,null,null,null,null,null,null,null,null,null,null,null,null,null,null,null,null,null,null,"0_",0,0,0,0,"V",{"$f":"IF(Z209<>0,COUNTIF($Z$14:Z209,Z209),\"\")","v":""},{"$f":"IFERROR(VLOOKUP(U209,#REF!,2,FALSE),0)","v":0},{"$f":"IF(VLOOKUP(F209,CLASSEMENTELEVES!$C$4:$D$37,2,FALSE)<VLOOKUP(K209,CLASSEMENTELEVES!$C$4:$D$37,2,FALSE),0,-U209)","v":{"$error":"#N/A"}}]
[null,"MATCH 197",null,null,null,null,null,null,null,null,null,null,null,null,null,null,null,null,null,null,null,null,null,null,"0_",0,0,0,0,"V",{"$f":"IF(Z210<>0,COUNTIF($Z$14:Z210,Z210),\"\")","v":""},{"$f":"IFERROR(VLOOKUP(U210,#REF!,2,FALSE),0)","v":0},{"$f":"IF(VLOOKUP(F210,CLASSEMENTELEVES!$C$4:$D$37,2,FALSE)<VLOOKUP(K210,CLASSEMENTELEVES!$C$4:$D$37,2,FALSE),0,-U210)","v":{"$error":"#N/A"}}]
[null,"MATCH 198",null,null,null,null,null,null,null,null,null,null,null,null,null,null,null,null,null,null,null,null,null,null,"0_",0,0,0,0,"V",{"$f":"IF(Z211<>0,COUNTIF($Z$14:Z211,Z211),\"\")","v":""},{"$f":"IFERROR(VLOOKUP(U211,#REF!,2,FALSE),0)","v":0},{"$f":"IF(VLOOKUP(F211,CLASSEMENTELEVES!$C$4:$D$37,2,FALSE)<VLOOKUP(K211,CLASSEMENTELEVES!$C$4:$D$37,2,FALSE),0,-U211)","v":{"$error":"#N/A"}}]
[null,"MATCH 199",null,null,null,null,null,null,null,null,null,null,null,null,null,null,null,null,null,null,null,null,null,null,"0_",0,0,0,0,"V",{"$f":"IF(Z212<>0,COUNTIF($Z$14:Z212,Z212),\"\")","v":""},{"$f":"IFERROR(VLOOKUP(U212,#REF!,2,FALSE),0)","v":0},{"$f":"IF(VLOOKUP(F212,CLASSEMENTELEVES!$C$4:$D$37,2,FALSE)<VLOOKUP(K212,CLASSEMENTELEVES!$C$4:$D$37,2,FALSE),0,-U212)","v":{"$error":"#N/A"}}]
[null,"MATCH 200",null,null,null,null,null,null,null,null,null,null,null,null,null,null,null,null,null,null,null,null,null,null,"0_",0,0,0,0,"V",{"$f":"IF(Z213<>0,COUNTIF($Z$14:Z213,Z213),\"\")","v":""},{"$f":"IFERROR(VLOOKUP(U213,#REF!,2,FALSE),0)","v":0},{"$f":"IF(VLOOKUP(F213,CLASSEMENTELEVES!$C$4:$D$37,2,FALSE)<VLOOKUP(K213,CLASSEMENTELEVES!$C$4:$D$37,2,FALSE),0,-U213)","v":{"$error":"#N/A"}}]
[null,"MATCH 201",null,null,null,null,null,null,null,null,null,null,null,null,null,null,null,null,null,null,null,null,null,null,"0_",0,0,0,0,"V",{"$f":"IF(Z214<>0,COUNTIF($Z$14:Z214,Z214),\"\")","v":""},{"$f":"IFERROR(VLOOKUP(U214,#REF!,2,FALSE),0)","v":0},{"$f":"IF(VLOOKUP(F214,CLASSEMENTELEVES!$C$4:$D$37,2,FALSE)<VLOOKUP(K214,CLASSEMENTELEVES!$C$4:$D$37,2,FALSE),0,-U214)","v":{"$error":"#N/A"}}]
[null,"MATCH 202",null,null,null,null,null,null,null,null,null,null,null,null,null,null,null,null,null,null,null,null,null,null,"0_",0,0,0,0,"V",{"$f":"IF(Z215<>0,COUNTIF($Z$14:Z215,Z215),\"\")","v":""},{"$f":"IFERROR(VLOOKUP(U215,#REF!,2,FALSE),0)","v":0},{"$f":"IF(VLOOKUP(F215,CLASSEMENTELEVES!$C$4:$D$37,2,FALSE)<VLOOKUP(K215,CLASSEMENTELEVES!$C$4:$D$37,2,FALSE),0,-U215)","v":{"$error":"#N/A"}}]
[null,"MATCH 203",null,null,null,null,null,null,null,null,null,null,null,null,null,null,null,null,null,null,null,null,null,null,"0_",0,0,0,0,"V",{"$f":"IF(Z216<>0,COUNTIF($Z$14:Z216,Z216),\"\")","v":""},{"$f":"IFERROR(VLOOKUP(U216,#REF!,2,FALSE),0)","v":0},{"$f":"IF(VLOOKUP(F216,CLASSEMENTELEVES!$C$4:$D$37,2,FALSE)<VLOOKUP(K216,CLASSEMENTELEVES!$C$4:$D$37,2,FALSE),0,-U216)","v":{"$error":"#N/A"}}]
[null,"MATCH 204",null,null,null,null,null,null,null,null,null,null,null,null,null,null,null,null,null,null,null,null,null,null,"0_",0,0,0,0,"V",{"$f":"IF(Z217<>0,COUNTIF($Z$14:Z217,Z217),\"\")","v":""},{"$f":"IFERROR(VLOOKUP(U217,#REF!,2,FALSE),0)","v":0},{"$f":"IF(VLOOKUP(F217,CLASSEMENTELEVES!$C$4:$D$37,2,FALSE)<VLOOKUP(K217,CLASSEMENTELEVES!$C$4:$D$37,2,FALSE),0,-U217)","v":{"$error":"#N/A"}}]
[null,"MATCH 205",null,null,null,null,null,null,null,null,null,null,null,null,null,null,null,null,null,null,null,null,null,null,"0_",0,0,0,0,"V",{"$f":"IF(Z218<>0,COUNTIF($Z$14:Z218,Z218),\"\")","v":""},{"$f":"IFERROR(VLOOKUP(U218,#REF!,2,FALSE),0)","v":0},{"$f":"IF(VLOOKUP(F218,CLASSEMENTELEVES!$C$4:$D$37,2,FALSE)<VLOOKUP(K218,CLASSEMENTELEVES!$C$4:$D$37,2,FALSE),0,-U218)","v":{"$error":"#N/A"}}]
[null,"MATCH 206",null,null,null,null,null,null,null,null,null,null,null,null,null,null,null,null,null,null,null,null,null,null,"0_",0,0,0,0,"V",{"$f":"IF(Z219<>0,COUNTIF($Z$14:Z219,Z219),\"\")","v":""},{"$f":"IFERROR(VLOOKUP(U219,#REF!,2,FALSE),0)","v":0},{"$f":"IF(VLOOKUP(F219,CLASSEMENTELEVES!$C$4:$D$37,2,FALSE)<VLOOKUP(K219,CLASSEMENTELEVES!$C$4:$D$37,2,FALSE),0,-U219)","v":{"$error":"#N/A"}}]
[null,"MATCH 207",null,null,null,null,null,null,null,null,null,null,null,null,null,null,null,null,null,null,null,null,null,null,"0_",0,0,0,0,"V",{"$f":"IF(Z220<>0,COUNTIF($Z$14:Z220,Z220),\"\")","v":""},{"$f":"IFERROR(VLOOKUP(U220,#REF!,2,FALSE),0)","v":0},{"$f":"IF(VLOOKUP(F220,CLASSEMENTELEVES!$C$4:$D$37,2,FALSE)<VLOOKUP(K220,CLASSEMENTELEVES!$C$4:$D$37,2,FALSE),0,-U220)","v":{"$error":"#N/A"}}]
[null,"MATCH 208",null,null,null,null,null,null,null,null,null,null,null,null,null,null,null,null,null,null,null,null,null,null,"0_",0,0,0,0,"V",{"$f":"IF(Z221<>0,COUNTIF($Z$14:Z221,Z221),\"\")","v":""},{"$f":"IFERROR(VLOOKUP(U221,#REF!,2,FALSE),0)","v":0},{"$f":"IF(VLOOKUP(F221,CLASSEMENTELEVES!$C$4:$D$37,2,FALSE)<VLOOKUP(K221,CLASSEMENTELEVES!$C$4:$D$37,2,FALSE),0,-U221)","v":{"$error":"#N/A"}}]
[null,"MATCH 209",null,null,null,null,null,null,null,null,null,null,null,null,null,null,null,null,null,null,null,null,null,null,"0_",0,0,0,0,"V",{"$f":"IF(Z222<>0,COUNTIF($Z$14:Z222,Z222),\"\")","v":""},{"$f":"IFERROR(VLOOKUP(U222,#REF!,2,FALSE),0)","v":0},{"$f":"IF(VLOOKUP(F222,CLASSEMENTELEVES!$C$4:$D$37,2,FALSE)<VLOOKUP(K222,CLASSEMENTELEVES!$C$4:$D$37,2,FALSE),0,-U222)","v":{"$error":"#N/A"}}]
[null,"MATCH 210",null,null,null,null,null,null,null,null,null,null,null,null,null,null,null,null,null,null,null,null,null,null,"0_",0,0,0,0,"V",{"$f":"IF(Z223<>0,COUNTIF($Z$14:Z223,Z223),\"\")","v":""},{"$f":"IFERROR(VLOOKUP(U223,#REF!,2,FALSE),0)","v":0},{"$f":"IF(VLOOKUP(F223,CLASSEMENTELEVES!$C$4:$D$37,2,FALSE)<VLOOKUP(K223,CLASSEMENTELEVES!$C$4:$D$37,2,FALSE),0,-U223)","v":{"$error":"#N/A"}}]
[null,"MATCH 211",null,null,null,null,null,null,null,null,null,null,null,null,null,null,null,null,null,null,null,null,null,null,"0_",0,0,0,0,"V",{"$f":"IF(Z224<>0,COUNTIF($Z$14:Z224,Z224),\"\")","v":""},{"$f":"IFERROR(VLOOKUP(U224,#REF!,2,FALSE),0)","v":0},{"$f":"IF(VLOOKUP(F224,CLASSEMENTELEVES!$C$4:$D$37,2,FALSE)<VLOOKUP(K224,CLASSEMENTELEVES!$C$4:$D$37,2,FALSE),0,-U224)","v":{"$error":"#N/A"}}]
[null,"MATCH 212",null,null,null,null,null,null,null,null,null,null,null,null,null,null,null,null,null,null,null,null,null,null,"0_",0,0,0,0,"V",{"$f":"IF(Z225<>0,COUNTIF($Z$14:Z225,Z225),\"\")","v":""},{"$f":"IFERROR(VLOOKUP(U225,#REF!,2,FALSE),0)","v":0},{"$f":"IF(VLOOKUP(F225,CLASSEMENTELEVES!$C$4:$D$37,2,FALSE)<VLOOKUP(K225,CLASSEMENTELEVES!$C$4:$D$37,2,FALSE),0,-U225)","v":{"$error":"#N/A"}}]
[null,"MATCH 213",null,null,null,null,null,null,null,null,null,null,null,null,null,null,null,null,null,null,null,null,null,null,"0_",0,0,0,0,"V",{"$f":"IF(Z226<>0,COUNTIF($Z$14:Z226,Z226),\"\")","v":""},{"$f":"IFERROR(VLOOKUP(U226,#REF!,2,FALSE),0)","v":0},{"$f":"IF(VLOOKUP(F226,CLASSEMENTELEVES!$C$4:$D$37,2,FALSE)<VLOOKUP(K226,CLASSEMENTELEVES!$C$4:$D$37,2,FALSE),0,-U226)","v":{"$error":"#N/A"}}]
[null,"MATCH 214",null,null,null,null,null,null,null,null,null,null,null,null,null,null,null,null,null,null,null,null,null,null,"0_",0,0,0,0,"V",{"$f":"IF(Z227<>0,COUNTIF($Z$14:Z227,Z227),\"\")","v":""},{"$f":"IFERROR(VLOOKUP(U227,#REF!,2,FALSE),0)","v":0},{"$f":"IF(VLOOKUP(F227,CLASSEMENTELEVES!$C$4:$D$37,2,FALSE)<VLOOKUP(K227,CLASSEMENTELEVES!$C$4:$D$37,2,FALSE),0,-U227)","v":{"$error":"#N/A"}}]
[null,"MATCH 215",null,null,null,null,null,null,null,null,null,null,null,null,null,null,null,null,null,null,null,null,null,null,"0_",0,0,0,0,"V",{"$f":"IF(Z228<>0,COUNTIF($Z$14:Z228,Z228),\"\")","v":""},{"$f":"IFERROR(VLOOKUP(U228,#REF!,2,FALSE),0)","v":0},{"$f":"IF(VLOOKUP(F228,CLASSEMENTELEVES!$C$4:$D$37,2,FALSE)<VLOOKUP(K228,CLASSEMENTELEVES!$C$4:$D$37,2,FALSE),0,-U228)","v":{"$error":"#N/A"}}]
[null,"MATCH 216",null,null,null,null,null,null,null,null,null,null,null,null,null,null,null,null,null,null,null,null,null,null,"0_",0,0,0,0,"V",{"$f":"IF(Z229<>0,COUNTIF($Z$14:Z229,Z229),\"\")","v":""},{"$f":"IFERROR(VLOOKUP(U229,#REF!,2,FALSE),0)","v":0},{"$f":"IF(VLOOKUP(F229,CLASSEMENTELEVES!$C$4:$D$37,2,FALSE)<VLOOKUP(K229,CLASSEMENTELEVES!$C$4:$D$37,2,FALSE),0,-U229)","v":{"$error":"#N/A"}}]
[null,"MATCH 217",null,null,null,null,null,null,null,null,null,null,null,null,null,null,null,null,null,null,null,null,null,null,"0_",0,0,0,0,"V",{"$f":"IF(Z230<>0,COUNTIF($Z$14:Z230,Z230),\"\")","v":""},{"$f":"IFERROR(VLOOKUP(U230,#REF!,2,FALSE),0)","v":0},{"$f":"IF(VLOOKUP(F230,CLASSEMENTELEVES!$C$4:$D$37,2,FALSE)<VLOOKUP(K230,CLASSEMENTELEVES!$C$4:$D$37,2,FALSE),0,-U230)","v":{"$error":"#N/A"}}]
[null,"MATCH 218",null,null,null,null,null,null,null,null,null,null,null,null,null,null,null,null,null,null,null,null,null,null,"0_",0,0,0,0,"V",{"$f":"IF(Z231<>0,COUNTIF($Z$14:Z231,Z231),\"\")","v":""},{"$f":"IFERROR(VLOOKUP(U231,#REF!,2,FALSE),0)","v":0},{"$f":"IF(VLOOKUP(F231,CLASSEMENTELEVES!$C$4:$D$37,2,FALSE)<VLOOKUP(K231,CLASSEMENTELEVES!$C$4:$D$37,2,FALSE),0,-U231)","v":{"$error":"#N/A"}}]
[null,"MATCH 219",null,null,null,null,null,null,null,null,null,null,null,null,null,null,null,null,null,null,null,null,null,null,"0_",0,0,0,0,"V",{"$f":"IF(Z232<>0,COUNTIF($Z$14:Z232,Z232),\"\")","v":""},{"$f":"IFERROR(VLOOKUP(U232,#REF!,2,FALSE),0)","v":0},{"$f":"IF(VLOOKUP(F232,CLASSEMENTELEVES!$C$4:$D$37,2,FALSE)<VLOOKUP(K232,CLASSEMENTELEVES!$C$4:$D$37,2,FALSE),0,-U232)","v":{"$error":"#N/A"}}]
[null,"MATCH 220",null,null,null,null,null,null,null,null,null,null,null,null,null,null,null,null,null,null,null,null,null,null,"0_",0,0,0,0,"V",{"$f":"IF(Z233<>0,COUNTIF($Z$14:Z233,Z233),\"\")","v":""},{"$f":"IFERROR(VLOOKUP(U233,#REF!,2,FALSE),0)","v":0},{"$f":"IF(VLOOKUP(F233,CLASSEMENTELEVES!$C$4:$D$37,2,FALSE)<VLOOKUP(K233,CLASSEMENTELEVES!$C$4:$D$37,2,FALSE),0,-U233)","v":{"$error":"#N/A"}}]
[null,"MATCH 221",null,null,null,null,null,null,null,null,null,null,null,null,null,null,null,null,null,null,null,null,null,null,"0_",0,0,0,0,"V",{"$f":"IF(Z234<>0,COUNTIF($Z$14:Z234,Z234),\"\")","v":""},{"$f":"IFERROR(VLOOKUP(U234,#REF!,2,FALSE),0)","v":0},{"$f":"IF(VLOOKUP(F234,CLASSEMENTELEVES!$C$4:$D$37,2,FALSE)<VLOOKUP(K234,CLASSEMENTELEVES!$C$4:$D$37,2,FALSE),0,-U234)","v":{"$error":"#N/A"}}]
[null,"MATCH 222",null,null,null,null,null,null,null,null,null,null,null,null,null,null,null,null,null,null,null,null,null,null,"0_",0,0,0,0,"V",{"$f":"IF(Z235<>0,COUNTIF($Z$14:Z235,Z235),\"\")","v":""},{"$f":"IFERROR(VLOOKUP(U235,#REF!,2,FALSE),0)","v":0},{"$f":"IF(VLOOKUP(F235,CLASSEMENTELEVES!$C$4:$D$37,2,FALSE)<VLOOKUP(K235,CLASSEMENTELEVES!$C$4:$D$37,2,FALSE),0,-U235)","v":{"$error":"#N/A"}}]
[null,"MATCH 223",null,null,null,null,null,null,null,null,null,null,null,null,null,null,null,null,null,null,null,null,null,null,"0_",0,0,0,0,"V",{"$f":"IF(Z236<>0,COUNTIF($Z$14:Z236,Z236),\"\")","v":""},{"$f":"IFERROR(VLOOKUP(U236,#REF!,2,FALSE),0)","v":0},{"$f":"IF(VLOOKUP(F236,CLASSEMENTELEVES!$C$4:$D$37,2,FALSE)<VLOOKUP(K236,CLASSEMENTELEVES!$C$4:$D$37,2,FALSE),0,-U236)","v":{"$error":"#N/A"}}]
[null,"MATCH 224",null,null,null,null,null,null,null,null,null,null,null,null,null,null,null,null,null,null,null,null,null,null,"0_",0,0,0,0,"V",{"$f":"IF(Z237<>0,COUNTIF($Z$14:Z237,Z237),\"\")","v":""},{"$f":"IFERROR(VLOOKUP(U237,#REF!,2,FALSE),0)","v":0},{"$f":"IF(VLOOKUP(F237,CLASSEMENTELEVES!$C$4:$D$37,2,FALSE)<VLOOKUP(K237,CLASSEMENTELEVES!$C$4:$D$37,2,FALSE),0,-U237)","v":{"$error":"#N/A"}}]
[null,"MATCH 225",null,null,null,null,null,null,null,null,null,null,null,null,null,null,null,null,null,null,null,null,null,null,"0_",0,0,0,0,"V",{"$f":"IF(Z238<>0,COUNTIF($Z$14:Z238,Z238),\"\")","v":""},{"$f":"IFERROR(VLOOKUP(U238,#REF!,2,FALSE),0)","v":0},{"$f":"IF(VLOOKUP(F238,CLASSEMENTELEVES!$C$4:$D$37,2,FALSE)<VLOOKUP(K238,CLASSEMENTELEVES!$C$4:$D$37,2,FALSE),0,-U238)","v":{"$error":"#N/A"}}]
[null,"MATCH 226",null,null,null,null,null,null,null,null,null,null,null,null,null,null,null,null,null,null,null,null,null,null,"0_",0,0,0,0,"V",{"$f":"IF(Z239<>0,COUNTIF($Z$14:Z239,Z239),\"\")","v":""},{"$f":"IFERROR(VLOOKUP(U239,#REF!,2,FALSE),0)","v":0},{"$f":"IF(VLOOKUP(F239,CLASSEMENTELEVES!$C$4:$D$37,2,FALSE)<VLOOKUP(K239,CLASSEMENTELEVES!$C$4:$D$37,2,FALSE),0,-U239)","v":{"$error":"#N/A"}}]
[null,"MATCH 227",null,null,null,null,null,null,null,null,null,null,null,null,null,null,null,null,null,null,null,null,null,null,"0_",0,0,0,0,"V",{"$f":"IF(Z240<>0,COUNTIF($Z$14:Z240,Z240),\"\")","v":""},{"$f":"IFERROR(VLOOKUP(U240,#REF!,2,FALSE),0)","v":0},{"$f":"IF(VLOOKUP(F240,CLASSEMENTELEVES!$C$4:$D$37,2,FALSE)<VLOOKUP(K240,CLASSEMENTELEVES!$C$4:$D$37,2,FALSE),0,-U240)","v":{"$error":"#N/A"}}]
[null,"MATCH 228",null,null,null,null,null,null,null,null,null,null,null,null,null,null,null,null,null,null,null,null,null,null,"0_",0,0,0,0,"V",{"$f":"IF(Z241<>0,COUNTIF($Z$14:Z241,Z241),\"\")","v":""},{"$f":"IFERROR(VLOOKUP(U241,#REF!,2,FALSE),0)","v":0},{"$f":"IF(VLOOKUP(F241,CLASSEMENTELEVES!$C$4:$D$37,2,FALSE)<VLOOKUP(K241,CLASSEMENTELEVES!$C$4:$D$37,2,FALSE),0,-U241)","v":{"$error":"#N/A"}}]
[null,"MATCH 229",null,null,null,null,null,null,null,null,null,null,null,null,null,null,null,null,null,null,null,null,null,null,"0_",0,0,0,0,"V",{"$f":"IF(Z242<>0,COUNTIF($Z$14:Z242,Z242),\"\")","v":""},{"$f":"IFERROR(VLOOKUP(U242,#REF!,2,FALSE),0)","v":0},{"$f":"IF(VLOOKUP(F242,CLASSEMENTELEVES!$C$4:$D$37,2,FALSE)<VLOOKUP(K242,CLASSEMENTELEVES!$C$4:$D$37,2,FALSE),0,-U242)","v":{"$error":"#N/A"}}]
[null,"MATCH 230",null,null,null,null,null,null,null,null,null,null,null,null,null,null,null,null,null,null,null,null,null,null,"0_",0,0,0,0,"V",{"$f":"IF(Z243<>0,COUNTIF($Z$14:Z243,Z243),\"\")","v":""},{"$f":"IFERROR(VLOOKUP(U243,#REF!,2,FALSE),0)","v":0},{"$f":"IF(VLOOKUP(F243,CLASSEMENTELEVES!$C$4:$D$37,2,FALSE)<VLOOKUP(K243,CLASSEMENTELEVES!$C$4:$D$37,2,FALSE),0,-U243)","v":{"$error":"#N/A"}}]
[null,"MATCH 231",null,null,null,null,null,null,null,null,null,null,null,null,null,null,null,null,null,null,null,null,null,null,"0_",0,0,0,0,"V",{"$f":"IF(Z244<>0,COUNTIF($Z$14:Z244,Z244),\"\")","v":""},{"$f":"IFERROR(VLOOKUP(U244,#REF!,2,FALSE),0)","v":0},{"$f":"IF(VLOOKUP(F244,CLASSEMENTELEVES!$C$4:$D$37,2,FALSE)<VLOOKUP(K244,CLASSEMENTELEVES!$C$4:$D$37,2,FALSE),0,-U244)","v":{"$error":"#N/A"}}]
[null,"MATCH 232",null,null,null,null,null,null,null,null,null,null,null,null,null,null,null,null,null,null,null,null,null,null,"0_",0,0,0,0,"V",{"$f":"IF(Z245<>0,COUNTIF($Z$14:Z245,Z245),\"\")","v":""},{"$f":"IFERROR(VLOOKUP(U245,#REF!,2,FALSE),0)","v":0},{"$f":"IF(VLOOKUP(F245,CLASSEMENTELEVES!$C$4:$D$37,2,FALSE)<VLOOKUP(K245,CLASSEMENTELEVES!$C$4:$D$37,2,FALSE),0,-U245)","v":{"$error":"#N/A"}}]
[null,"MATCH 233",null,null,null,null,null,null,null,null,null,null,null,null,null,null,null,null,null,null,null,null,null,null,"0_",0,0,0,0,"V",{"$f":"IF(Z246<>0,COUNTIF($Z$14:Z246,Z246),\"\")","v":""},{"$f":"IFERROR(VLOOKUP(U246,#REF!,2,FALSE),0)","v":0},{"$f":"IF(VLOOKUP(F246,CLASSEMENTELEVES!$C$4:$D$37,2,FALSE)<VLOOKUP(K246,CLASSEMENTELEVES!$C$4:$D$37,2,FALSE),0,-U246)","v":{"$error":"#N/A"}}]
[null,"MATCH 234",null,null,null,null,null,null,null,null,null,null,null,null,null,null,null,null,null,null,null,null,null,null,"0_",0,0,0,0,"V",{"$f":"IF(Z247<>0,COUNTIF($Z$14:Z247,Z247),\"\")","v":""},{"$f":"IFERROR(VLOOKUP(U247,#REF!,2,FALSE),0)","v":0},{"$f":"IF(VLOOKUP(F247,CLASSEMENTELEVES!$C$4:$D$37,2,FALSE)<VLOOKUP(K247,CLASSEMENTELEVES!$C$4:$D$37,2,FALSE),0,-U247)","v":{"$error":"#N/A"}}]
[null,"MATCH 235",null,null,null,null,null,null,null,null,null,null,null,null,null,null,null,null,null,null,{"$f":"IFERROR(VLOOKUP(F248,CLASSEMENTELEVES!$C$4:$D$37,2,FALSE)-VLOOKUP(K248,CLASSEMENTELEVES!$C$4:$D$37,2,FALSE),\"\")","v":""},null,null,null,"0_",0,0,0,0,"V",{"$f":"IF(Z248<>0,COUNTIF($Z$14:Z248,Z248),\"\")","v":""},{"$f":"IFERROR(VLOOKUP(U248,#REF!,2,FALSE),0)","v":0},{"$f":"IF(VLOOKUP(F248,CLASSEMENTELEVES!$C$4:$D$37,2,FALSE)<VLOOKUP(K248,CLASSEMENTELEVES!$C$4:$D$37,2,FALSE),0,-U248)","v":{"$error":"#N/A"}}]
[null,"MATCH 236",null,null,null,null,null,null,null,null,null,null,null,null,null,null,null,null,null,null,{"$f":"IFERROR(VLOOKUP(F249,CLASSEMENTELEVES!$C$4:$D$37,2,FALSE)-VLOOKUP(K249,CLASSEMENTELEVES!$C$4:$D$37,2,FALSE),\"\")","v":""},null,null,null,"0_",0,0,0,0,"V",{"$f":"IF(Z249<>0,COUNTIF($Z$14:Z249,Z249),\"\")","v":""},{"$f":"IFERROR(VLOOKUP(U249,#REF!,2,FALSE),0)","v":0},{"$f":"IF(VLOOKUP(F249,CLASSEMENTELEVES!$C$4:$D$37,2,FALSE)<VLOOKUP(K249,CLASSEMENTELEVES!$C$4:$D$37,2,FALSE),0,-U249)","v":{"$error":"#N/A"}}]
[null,null,null,null,null,null,null,null,"LIMITE DE MATCHS ATTEINT",null,null,null,null,null,null,null,null,null,null,null,null,null,null,null,"0_",{"$f":"IF(K14=0,0,CONCATENATE(K14,\"p\"))","v":0},{"$f":"N14","v":0},{"$f":"R14","v":0},{"$f":"I14","v":0},"D",{"$f":"IF(Z250<>0,COUNTIF($Z$14:Z250,Z250),\"\")","v":""},{"$f":"IFERROR(VLOOKUP(U14,#REF!,3,FALSE),0)","v":0},{"$f":"IF(VLOOKUP(F14,CLASSEMENTELEVES!$C$4:$D$37,2,FALSE)<VLOOKUP(K14,CLASSEMENTELEVES!$C$4:$D$37,2,FALSE),0,U14)","v":{"$error":"#N/A"}}]
[null,null,null,null,null,null,null,null,null,null,null,null,null,null,null,null,null,null,null,null,null,null,null,null,"0_",{"$f":"IF(K15=0,0,CONCATENATE(K15,\"p\"))","v":0},{"$f":"N15","v":0},{"$f":"R15","v":0},{"$f":"I15","v":0},"D",{"$f":"IF(Z251<>0,COUNTIF($Z$14:Z251,Z251),\"\")","v":""},{"$f":"IFERROR(VLOOKUP(U15,#REF!,3,FALSE),0)","v":0},{"$f":"IF(VLOOKUP(F15,CLASSEMENTELEVES!$C$4:$D$37,2,FALSE)<VLOOKUP(K15,CLASSEMENTELEVES!$C$4:$D$37,2,FALSE),0,U15)","v":{"$error":"#N/A"}}]
[null,null,null,null,null,null,null,null,null,null,null,null,null,null,null,null,null,null,null,null,null,null,null,null,"0_",0,0,0,0,"D",{"$f":"IF(Z252<>0,COUNTIF($Z$14:Z252,Z252),\"\")","v":""},{"$f":"IFERROR(VLOOKUP(U16,#REF!,3,FALSE),0)","v":0},{"$f":"IF(VLOOKUP(F16,CLASSEMENTELEVES!$C$4:$D$37,2,FALSE)<VLOOKUP(K16,CLASSEMENTELEVES!$C$4:$D$37,2,FALSE),0,U16)","v":{"$error":"#N/A"}}]
[null,null,null,null,null,null,null,null,null,null,null,null,null,null,null,null,null,null,null,null,null,null,null,null,"0_",0,0,0,0,"D",{"$f":"IF(Z253<>0,COUNTIF($Z$14:Z253,Z253),\"\")","v":""},{"$f":"IFERROR(VLOOKUP(U17,#REF!,3,FALSE),0)","v":0},{"$f":"IF(VLOOKUP(F17,CLASSEMENTELEVES!$C$4:$D$37,2,FALSE)<VLOOKUP(K17,CLASSEMENTELEVES!$C$4:$D$37,2,FALSE),0,U17)","v":{"$error":"#N/A"}}]
[null,null,null,null,null,null,null,null,null,null,null,null,null,null,null,null,null,null,null,null,null,null,null,null,"0_",0,0,0,0,"D",{"$f":"IF(Z254<>0,COUNTIF($Z$14:Z254,Z254),\"\")","v":""},{"$f":"IFERROR(VLOOKUP(U18,#REF!,3,FALSE),0)","v":0},{"$f":"IF(VLOOKUP(F18,CLASSEMENTELEVES!$C$4:$D$37,2,FALSE)<VLOOKUP(K18,CLASSEMENTELEVES!$C$4:$D$37,2,FALSE),0,U18)","v":{"$error":"#N/A"}}]
[null,null,null,null,null,null,null,null,null,null,null,null,null,null,null,null,null,null,null,null,null,null,null,null,"0_",0,0,0,0,"D",{"$f":"IF(Z255<>0,COUNTIF($Z$14:Z255,Z255),\"\")","v":""},{"$f":"IFERROR(VLOOKUP(U19,#REF!,3,FALSE),0)","v":0},{"$f":"IF(VLOOKUP(F19,CLASSEMENTELEVES!$C$4:$D$37,2,FALSE)<VLOOKUP(K19,CLASSEMENTELEVES!$C$4:$D$37,2,FALSE),0,U19)","v":{"$error":"#N/A"}}]
[null,null,null,null,null,null,null,null,null,null,null,null,null,null,null,null,null,null,null,null,null,null,null,null,"0_",0,0,0,0,"D",{"$f":"IF(Z256<>0,COUNTIF($Z$14:Z256,Z256),\"\")","v":""},{"$f":"IFERROR(VLOOKUP(U20,#REF!,3,FALSE),0)","v":0},{"$f":"IF(VLOOKUP(F20,CLASSEMENTELEVES!$C$4:$D$37,2,FALSE)<VLOOKUP(K20,CLASSEMENTELEVES!$C$4:$D$37,2,FALSE),0,U20)","v":{"$error":"#N/A"}}]
[null,null,null,null,null,null,null,null,null,null,null,null,null,null,null,null,null,null,null,null,null,null,null,null,"0_",0,0,0,0,"D",{"$f":"IF(Z257<>0,COUNTIF($Z$14:Z257,Z257),\"\")","v":""},{"$f":"IFERROR(VLOOKUP(U21,#REF!,3,FALSE),0)","v":0},{"$f":"IF(VLOOKUP(F21,CLASSEMENTELEVES!$C$4:$D$37,2,FALSE)<VLOOKUP(K21,CLASSEMENTELEVES!$C$4:$D$37,2,FALSE),0,U21)","v":{"$error":"#N/A"}}]
[null,null,null,null,null,null,null,null,null,null,null,null,null,null,null,null,null,null,null,null,null,null,null,null,"0_",0,0,0,0,"D",{"$f":"IF(Z258<>0,COUNTIF($Z$14:Z258,Z258),\"\")","v":""},{"$f":"IFERROR(VLOOKUP(U22,#REF!,3,FALSE),0)","v":0},{"$f":"IF(VLOOKUP(F22,CLASSEMENTELEVES!$C$4:$D$37,2,FALSE)<VLOOKUP(K22,CLASSEMENTELEVES!$C$4:$D$37,2,FALSE),0,U22)","v":{"$error":"#N/A"}}]
[null,null,null,null,null,null,null,null,null,null,null,null,null,null,null,null,null,null,null,null,null,null,null,null,"0_",0,0,0,0,"D",{"$f":"IF(Z259<>0,COUNTIF($Z$14:Z259,Z259),\"\")","v":""},{"$f":"IFERROR(VLOOKUP(U23,#REF!,3,FALSE),0)","v":0},{"$f":"IF(VLOOKUP(F23,CLASSEMENTELEVES!$C$4:$D$37,2,FALSE)<VLOOKUP(K23,CLASSEMENTELEVES!$C$4:$D$37,2,FALSE),0,U23)","v":{"$error":"#N/A"}}]
[null,null,null,null,null,null,null,null,null,null,null,null,null,null,null,null,null,null,null,null,null,null,null,null,"0_",0,0,0,0,"D",{"$f":"IF(Z260<>0,COUNTIF($Z$14:Z260,Z260),\"\")","v":""},{"$f":"IFERROR(VLOOKUP(U24,#REF!,3,FALSE),0)","v":0},{"$f":"IF(VLOOKUP(F24,CLASSEMENTELEVES!$C$4:$D$37,2,FALSE)<VLOOKUP(K24,CLASSEMENTELEVES!$C$4:$D$37,2,FALSE),0,U24)","v":{"$error":"#N/A"}}]
[null,null,null,null,null,null,null,null,null,null,null,null,null,null,null,null,null,null,null,null,null,null,null,null,"0_",0,0,0,0,"D",{"$f":"IF(Z261<>0,COUNTIF($Z$14:Z261,Z261),\"\")","v":""},{"$f":"IFERROR(VLOOKUP(U25,#REF!,3,FALSE),0)","v":0},{"$f":"IF(VLOOKUP(F25,CLASSEMENTELEVES!$C$4:$D$37,2,FALSE)<VLOOKUP(K25,CLASSEMENTELEVES!$C$4:$D$37,2,FALSE),0,U25)","v":{"$error":"#N/A"}}]
[null,null,null,null,null,null,null,null,null,null,null,null,null,null,null,null,null,null,null,null,null,null,null,null,"0_",0,0,0,0,"D",{"$f":"IF(Z262<>0,COUNTIF($Z$14:Z262,Z262),\"\")","v":""},{"$f":"IFERROR(VLOOKUP(U26,#REF!,3,FALSE),0)","v":0},{"$f":"IF(VLOOKUP(F26,CLASSEMENTELEVES!$C$4:$D$37,2,FALSE)<VLOOKUP(K26,CLASSEMENTELEVES!$C$4:$D$37,2,FALSE),0,U26)","v":{"$error":"#N/A"}}]
[null,null,null,null,null,null,null,null,null,null,null,null,null,null,null,null,null,null,null,null,null,null,null,null,"0_",0,0,0,0,"D",{"$f":"IF(Z263<>0,COUNTIF($Z$14:Z263,Z263),\"\")","v":""},{"$f":"IFERROR(VLOOKUP(U27,#REF!,3,FALSE),0)","v":0},{"$f":"IF(VLOOKUP(F27,CLASSEMENTELEVES!$C$4:$D$37,2,FALSE)<VLOOKUP(K27,CLASSEMENTELEVES!$C$4:$D$37,2,FALSE),0,U27)","v":{"$error":"#N/A"}}]
[null,null,null,null,null,null,null,null,null,null,null,null,null,null,null,null,null,null,null,null,null,null,null,null,"0_",0,0,0,0,"D",{"$f":"IF(Z264<>0,COUNTIF($Z$14:Z264,Z264),\"\")","v":""},{"$f":"IFERROR(VLOOKUP(U28,#REF!,3,FALSE),0)","v":0},{"$f":"IF(VLOOKUP(F28,CLASSEMENTELEVES!$C$4:$D$37,2,FALSE)<VLOOKUP(K28,CLASSEMENTELEVES!$C$4:$D$37,2,FALSE),0,U28)","v":{"$error":"#N/A"}}]
[null,null,null,null,null,null,null,null,null,null,null,null,null,null,null,null,null,null,null,null,null,null,null,null,"0_",0,0,0,0,"D",{"$f":"IF(Z265<>0,COUNTIF($Z$14:Z265,Z265),\"\")","v":""},{"$f":"IFERROR(VLOOKUP(U29,#REF!,3,FALSE),0)","v":0},{"$f":"IF(VLOOKUP(F29,CLASSEMENTELEVES!$C$4:$D$37,2,FALSE)<VLOOKUP(K29,CLASSEMENTELEVES!$C$4:$D$37,2,FALSE),0,U29)","v":{"$error":"#N/A"}}]
[null,null,null,null,null,null,null,null,null,null,null,null,null,null,null,null,null,null,null,null,null,null,null,null,"0_",0,0,0,0,"D",{"$f":"IF(Z266<>0,COUNTIF($Z$14:Z266,Z266),\"\")","v":""},{"$f":"IFERROR(VLOOKUP(U30,#REF!,3,FALSE),0)","v":0},{"$f":"IF(VLOOKUP(F30,CLASSEMENTELEVES!$C$4:$D$37,2,FALSE)<VLOOKUP(K30,CLASSEMENTELEVES!$C$4:$D$37,2,FALSE),0,U30)","v":{"$error":"#N/A"}}]
[null,null,null,null,null,null,null,null,null,null,null,null,null,null,null,null,null,null,null,null,null,null,null,null,"0_",0,0,0,0,"D",{"$f":"IF(Z267<>0,COUNTIF($Z$14:Z267,Z267),\"\")","v":""},{"$f":"IFERROR(VLOOKUP(U31,#REF!,3,FALSE),0)","v":0},{"$f":"IF(VLOOKUP(F31,CLASSEMENTELEVES!$C$4:$D$37,2,FALSE)<VLOOKUP(K31,CLASSEMENTELEVES!$C$4:$D$37,2,FALSE),0,U31)","v":{"$error":"#N/A"}}]
[null,null,null,null,null,null,null,null,null,null,null,null,null,null,null,null,null,null,null,null,null,null,null,null,"0_",0,0,0,0,"D",{"$f":"IF(Z268<>0,COUNTIF($Z$14:Z268,Z268),\"\")","v":""},{"$f":"IFERROR(VLOOKUP(U32,#REF!,3,FALSE),0)","v":0},{"$f":"IF(VLOOKUP(F32,CLASSEMENTELEVES!$C$4:$D$37,2,FALSE)<VLOOKUP(K32,CLASSEMENTELEVES!$C$4:$D$37,2,FALSE),0,U32)","v":{"$error":"#N/A"}}]
[null,null,null,null,null,null,null,null,null,null,null,null,null,null,null,null,null,null,null,null,null,null,null,null,"0_",0,0,0,0,"D",{"$f":"IF(Z269<>0,COUNTIF($Z$14:Z269,Z269),\"\")","v":""},{"$f":"IFERROR(VLOOKUP(U33,#REF!,3,FALSE),0)","v":0},{"$f":"IF(VLOOKUP(F33,CLASSEMENTELEVES!$C$4:$D$37,2,FALSE)<VLOOKUP(K33,CLASSEMENTELEVES!$C$4:$D$37,2,FALSE),0,U33)","v":{"$error":"#N/A"}}]
[null,null,null,null,null,null,null,null,null,null,null,null,null,null,null,null,null,null,null,null,null,null,null,null,{"$f":"Z270&\"_\"&AE270","v":"0_"},0,0,0,0,"D",{"$f":"IF(Z270<>0,COUNTIF($Z$14:Z270,Z270),\"\")","v":""},{"$f":"IFERROR(VLOOKUP(U34,#REF!,3,FALSE),0)","v":0},{"$f":"IF(VLOOKUP(F34,CLASSEMENTELEVES!$C$4:$D$37,2,FALSE)<VLOOKUP(K34,CLASSEMENTELEVES!$C$4:$D$37,2,FALSE),0,U34)","v":{"$error":"#N/A"}}]
[null,null,null,null,null,null,null,null,null,null,null,null,null,null,null,null,null,null,null,null,null,null,null,null,"0_",0,0,0,0,"D",{"$f":"IF(Z271<>0,COUNTIF($Z$14:Z271,Z271),\"\")","v":""},{"$f":"IFERROR(VLOOKUP(U35,#REF!,3,FALSE),0)","v":0},{"$f":"IF(VLOOKUP(F35,CLASSEMENTELEVES!$C$4:$D$37,2,FALSE)<VLOOKUP(K35,CLASSEMENTELEVES!$C$4:$D$37,2,FALSE),0,U35)","v":{"$error":"#N/A"}}]
[null,null,null,null,null,null,null,null,null,null,null,null,null,null,null,null,null,null,null,null,null,null,null,null,"0_",0,0,0,0,"D",{"$f":"IF(Z272<>0,COUNTIF($Z$14:Z272,Z272),\"\")","v":""},{"$f":"IFERROR(VLOOKUP(U36,#REF!,3,FALSE),0)","v":0},{"$f":"IF(VLOOKUP(F36,CLASSEMENTELEVES!$C$4:$D$37,2,FALSE)<VLOOKUP(K36,CLASSEMENTELEVES!$C$4:$D$37,2,FALSE),0,U36)","v":{"$error":"#N/A"}}]
[null,null,null,null,null,null,null,null,null,null,null,null,null,null,null,null,null,null,null,null,null,null,null,null,"0_",0,0,0,0,"D",{"$f":"IF(Z273<>0,COUNTIF($Z$14:Z273,Z273),\"\")","v":""},{"$f":"IFERROR(VLOOKUP(U37,#REF!,3,FALSE),0)","v":0},{"$f":"IF(VLOOKUP(F37,CLASSEMENTELEVES!$C$4:$D$37,2,FALSE)<VLOOKUP(K37,CLASSEMENTELEVES!$C$4:$D$37,2,FALSE),0,U37)","v":{"$error":"#N/A"}}]
[null,null,null,null,null,null,null,null,null,null,null,null,null,null,null,null,null,null,null,null,null,null,null,null,"0_",0,0,0,0,"D",{"$f":"IF(Z274<>0,COUNTIF($Z$14:Z274,Z274),\"\")","v":""},{"$f":"IFERROR(VLOOKUP(U38,#REF!,3,FALSE),0)","v":0},{"$f":"IF(VLOOKUP(F38,CLASSEMENTELEVES!$C$4:$D$37,2,FALSE)<VLOOKUP(K38,CLASSEMENTELEVES!$C$4:$D$37,2,FALSE),0,U38)","v":{"$error":"#N/A"}}]
[null,null,null,null,null,null,null,null,null,null,null,null,null,null,null,null,null,null,null,null,null,null,null,null,"0_",0,0,0,0,"D",{"$f":"IF(Z275<>0,COUNTIF($Z$14:Z275,Z275),\"\")","v":""},{"$f":"IFERROR(VLOOKUP(U39,#REF!,3,FALSE),0)","v":0},{"$f":"IF(VLOOKUP(F39,CLASSEMENTELEVES!$C$4:$D$37,2,FALSE)<VLOOKUP(K39,CLASSEMENTELEVES!$C$4:$D$37,2,FALSE),0,U39)","v":{"$error":"#N/A"}}]
[null,null,null,null,null,null,null,null,null,null,null,null,null,null,null,null,null,null,null,null,null,null,null,null,"0_",0,0,0,0,"D",{"$f":"IF(Z276<>0,COUNTIF($Z$14:Z276,Z276),\"\")","v":""},{"$f":"IFERROR(VLOOKUP(U40,#REF!,3,FALSE),0)","v":0},{"$f":"IF(VLOOKUP(F40,CLASSEMENTELEVES!$C$4:$D$37,2,FALSE)<VLOOKUP(K40,CLASSEMENTELEVES!$C$4:$D$37,2,FALSE),0,U40)","v":{"$error":"#N/A"}}]
[null,null,null,null,null,null,null,null,null,null,null,null,null,null,null,null,null,null,null,null,null,null,null,null,"0_",0,0,0,0,"D",{"$f":"IF(Z277<>0,COUNTIF($Z$14:Z277,Z277),\"\")","v":""},{"$f":"IFERROR(VLOOKUP(U41,#REF!,3,FALSE),0)","v":0},{"$f":"IF(VLOOKUP(F41,CLASSEMENTELEVES!$C$4:$D$37,2,FALSE)<VLOOKUP(K41,CLASSEMENTELEVES!$C$4:$D$37,2,FALSE),0,U41)","v":{"$error":"#N/A"}}]
[null,null,null,null,null,null,null,null,null,null,null,null,null,null,null,null,null,null,null,null,null,null,null,null,"0_",0,0,0,0,"D",{"$f":"IF(Z278<>0,COUNTIF($Z$14:Z278,Z278),\"\")","v":""},{"$f":"IFERROR(VLOOKUP(U42,#REF!,3,FALSE),0)","v":0},{"$f":"IF(VLOOKUP(F42,CLASSEMENTELEVES!$C$4:$D$37,2,FALSE)<VLOOKUP(K42,CLASSEMENTELEVES!$C$4:$D$37,2,FALSE),0,U42)","v":{"$error":"#N/A"}}]
[null,null,null,null,null,null,null,null,null,null,null,null,null,null,null,null,null,null,null,null,null,null,null,null,"0_",0,0,0,0,"D",{"$f":"IF(Z279<>0,COUNTIF($Z$14:Z279,Z279),\"\")","v":""},{"$f":"IFERROR(VLOOKUP(U43,#REF!,3,FALSE),0)","v":0},{"$f":"IF(VLOOKUP(F43,CLASSEMENTELEVES!$C$4:$D$37,2,FALSE)<VLOOKUP(K43,CLASSEMENTELEVES!$C$4:$D$37,2,FALSE),0,U43)","v":{"$error":"#N/A"}}]
[null,null,null,null,null,null,null,null,null,null,null,null,null,null,null,null,null,null,null,null,null,null,null,null,"0_",0,0,0,0,"D",{"$f":"IF(Z280<>0,COUNTIF($Z$14:Z280,Z280),\"\")","v":""},{"$f":"IFERROR(VLOOKUP(U44,#REF!,3,FALSE),0)","v":0},{"$f":"IF(VLOOKUP(F44,CLASSEMENTELEVES!$C$4:$D$37,2,FALSE)<VLOOKUP(K44,CLASSEMENTELEVES!$C$4:$D$37,2,FALSE),0,U44)","v":{"$error":"#N/A"}}]
[null,null,null,null,null,null,null,null,null,null,null,null,null,null,null,null,null,null,null,null,null,null,null,null,"0_",0,0,0,0,"D",{"$f":"IF(Z281<>0,COUNTIF($Z$14:Z281,Z281),\"\")","v":""},{"$f":"IFERROR(VLOOKUP(U45,#REF!,3,FALSE),0)","v":0},{"$f":"IF(VLOOKUP(F45,CLASSEMENTELEVES!$C$4:$D$37,2,FALSE)<VLOOKUP(K45,CLASSEMENTELEVES!$C$4:$D$37,2,FALSE),0,U45)","v":{"$error":"#N/A"}}]
[null,null,null,null,null,null,null,null,null,null,null,null,null,null,null,null,null,null,null,null,null,null,null,null,"0_",0,0,0,0,"D",{"$f":"IF(Z282<>0,COUNTIF($Z$14:Z282,Z282),\"\")","v":""},{"$f":"IFERROR(VLOOKUP(U46,#REF!,3,FALSE),0)","v":0},{"$f":"IF(VLOOKUP(F46,CLASSEMENTELEVES!$C$4:$D$37,2,FALSE)<VLOOKUP(K46,CLASSEMENTELEVES!$C$4:$D$37,2,FALSE),0,U46)","v":{"$error":"#N/A"}}]
[null,null,null,null,null,null,null,null,null,null,null,null,null,null,null,null,null,null,null,null,null,null,null,null,"0_",0,0,0,0,"D",{"$f":"IF(Z283<>0,COUNTIF($Z$14:Z283,Z283),\"\")","v":""},{"$f":"IFERROR(VLOOKUP(U47,#REF!,3,FALSE),0)","v":0},{"$f":"IF(VLOOKUP(F47,CLASSEMENTELEVES!$C$4:$D$37,2,FALSE)<VLOOKUP(K47,CLASSEMENTELEVES!$C$4:$D$37,2,FALSE),0,U47)","v":{"$error":"#N/A"}}]
[null,null,null,null,null,null,null,null,null,null,null,null,null,null,null,null,null,null,null,null,null,null,null,null,"0_",0,0,0,0,"D",{"$f":"IF(Z284<>0,COUNTIF($Z$14:Z284,Z284),\"\")","v":""},{"$f":"IFERROR(VLOOKUP(U48,#REF!,3,FALSE),0)","v":0},{"$f":"IF(VLOOKUP(F48,CLASSEMENTELEVES!$C$4:$D$37,2,FALSE)<VLOOKUP(K48,CLASSEMENTELEVES!$C$4:$D$37,2,FALSE),0,U48)","v":{"$error":"#N/A"}}]
[null,null,null,null,null,null,null,null,null,null,null,null,null,null,null,null,null,null,null,null,null,null,null,null,"0_",0,0,0,0,"D",{"$f":"IF(Z285<>0,COUNTIF($Z$14:Z285,Z285),\"\")","v":""},{"$f":"IFERROR(VLOOKUP(U49,#REF!,3,FALSE),0)","v":0},{"$f":"IF(VLOOKUP(F49,CLASSEMENTELEVES!$C$4:$D$37,2,FALSE)<VLOOKUP(K49,CLASSEMENTELEVES!$C$4:$D$37,2,FALSE),0,U49)","v":{"$error":"#N/A"}}]
[null,null,null,null,null,null,null,null,null,null,null,null,null,null,null,null,null,null,null,null,null,null,null,null,"0_",0,0,0,0,"D",{"$f":"IF(Z286<>0,COUNTIF($Z$14:Z286,Z286),\"\")","v":""},{"$f":"IFERROR(VLOOKUP(U50,#REF!,3,FALSE),0)","v":0},{"$f":"IF(VLOOKUP(F50,CLASSEMENTELEVES!$C$4:$D$37,2,FALSE)<VLOOKUP(K50,CLASSEMENTELEVES!$C$4:$D$37,2,FALSE),0,U50)","v":{"$error":"#N/A"}}]
[null,null,null,null,null,null,null,null,null,null,null,null,null,null,null,null,null,null,null,null,null,null,null,null,"0_",0,0,0,0,"D",{"$f":"IF(Z287<>0,COUNTIF($Z$14:Z287,Z287),\"\")","v":""},{"$f":"IFERROR(VLOOKUP(U51,#REF!,3,FALSE),0)","v":0},{"$f":"IF(VLOOKUP(F51,CLASSEMENTELEVES!$C$4:$D$37,2,FALSE)<VLOOKUP(K51,CLASSEMENTELEVES!$C$4:$D$37,2,FALSE),0,U51)","v":{"$error":"#N/A"}}]
[null,null,null,null,null,null,null,null,null,null,null,null,null,null,null,null,null,null,null,null,null,null,null,null,"0_",0,0,0,0,"D",{"$f":"IF(Z288<>0,COUNTIF($Z$14:Z288,Z288),\"\")","v":""},{"$f":"IFERROR(VLOOKUP(U52,#REF!,3,FALSE),0)","v":0},{"$f":"IF(VLOOKUP(F52,CLASSEMENTELEVES!$C$4:$D$37,2,FALSE)<VLOOKUP(K52,CLASSEMENTELEVES!$C$4:$D$37,2,FALSE),0,U52)","v":{"$error":"#N/A"}}]
[null,null,null,null,null,null,null,null,null,null,null,null,null,null,null,null,null,null,null,null,null,null,null,null,"0_",0,0,0,0,"D",{"$f":"IF(Z289<>0,COUNTIF($Z$14:Z289,Z289),\"\")","v":""},{"$f":"IFERROR(VLOOKUP(U53,#REF!,3,FALSE),0)","v":0},{"$f":"IF(VLOOKUP(F53,CLASSEMENTELEVES!$C$4:$D$37,2,FALSE)<VLOOKUP(K53,CLASSEMENTELEVES!$C$4:$D$37,2,FALSE),0,U53)","v":{"$error":"#N/A"}}]
[null,null,null,null,null,null,null,null,null,null,null,null,null,null,null,null,null,null,null,null,null,null,null,null,"0_",0,0,0,0,"D",{"$f":"IF(Z290<>0,COUNTIF($Z$14:Z290,Z290),\"\")","v":""},{"$f":"IFERROR(VLOOKUP(U54,#REF!,3,FALSE),0)","v":0},{"$f":"IF(VLOOKUP(F54,CLASSEMENTELEVES!$C$4:$D$37,2,FALSE)<VLOOKUP(K54,CLASSEMENTELEVES!$C$4:$D$37,2,FALSE),0,U54)","v":{"$error":"#N/A"}}]
[null,null,null,null,null,null,null,null,null,null,null,null,null,null,null,null,null,null,null,null,null,null,null,null,"0_",0,0,0,0,"D",{"$f":"IF(Z291<>0,COUNTIF($Z$14:Z291,Z291),\"\")","v":""},{"$f":"IFERROR(VLOOKUP(U55,#REF!,3,FALSE),0)","v":0},{"$f":"IF(VLOOKUP(F55,CLASSEMENTELEVES!$C$4:$D$37,2,FALSE)<VLOOKUP(K55,CLASSEMENTELEVES!$C$4:$D$37,2,FALSE),0,U55)","v":{"$error":"#N/A"}}]
[null,null,null,null,null,null,null,null,null,null,null,null,null,null,null,null,null,null,null,null,null,null,null,null,"0_",0,0,0,0,"D",{"$f":"IF(Z292<>0,COUNTIF($Z$14:Z292,Z292),\"\")","v":""},{"$f":"IFERROR(VLOOKUP(U56,#REF!,3,FALSE),0)","v":0},{"$f":"IF(VLOOKUP(F56,CLASSEMENTELEVES!$C$4:$D$37,2,FALSE)<VLOOKUP(K56,CLASSEMENTELEVES!$C$4:$D$37,2,FALSE),0,U56)","v":{"$error":"#N/A"}}]
[null,null,null,null,null,null,null,null,null,null,null,null,null,null,null,null,null,null,null,null,null,null,null,null,"0_",0,0,0,0,"D",{"$f":"IF(Z293<>0,COUNTIF($Z$14:Z293,Z293),\"\")","v":""},{"$f":"IFERROR(VLOOKUP(U57,#REF!,3,FALSE),0)","v":0},{"$f":"IF(VLOOKUP(F57,CLASSEMENTELEVES!$C$4:$D$37,2,FALSE)<VLOOKUP(K57,CLASSEMENTELEVES!$C$4:$D$37,2,FALSE),0,U57)","v":{"$error":"#N/A"}}]
[null,null,null,null,null,null,null,null,null,null,null,null,null,null,null,null,null,null,null,null,null,null,null,null,"0_",0,0,0,0,"D",{"$f":"IF(Z294<>0,COUNTIF($Z$14:Z294,Z294),\"\")","v":""},{"$f":"IFERROR(VLOOKUP(U58,#REF!,3,FALSE),0)","v":0},{"$f":"IF(VLOOKUP(F58,CLASSEMENTELEVES!$C$4:$D$37,2,FALSE)<VLOOKUP(K58,CLASSEMENTELEVES!$C$4:$D$37,2,FALSE),0,U58)","v":{"$error":"#N/A"}}]
[null,null,null,null,null,null,null,null,null,null,null,null,null,null,null,null,null,null,null,null,null,null,null,null,"0_",0,0,0,0,"D",{"$f":"IF(Z295<>0,COUNTIF($Z$14:Z295,Z295),\"\")","v":""},{"$f":"IFERROR(VLOOKUP(U59,#REF!,3,FALSE),0)","v":0},{"$f":"IF(VLOOKUP(F59,CLASSEMENTELEVES!$C$4:$D$37,2,FALSE)<VLOOKUP(K59,CLASSEMENTELEVES!$C$4:$D$37,2,FALSE),0,U59)","v":{"$error":"#N/A"}}]
[null,null,null,null,null,null,null,null,null,null,null,null,null,null,null,null,null,null,null,null,null,null,null,null,"0_",0,0,0,0,"D",{"$f":"IF(Z296<>0,COUNTIF($Z$14:Z296,Z296),\"\")","v":""},{"$f":"IFERROR(VLOOKUP(U60,#REF!,3,FALSE),0)","v":0},{"$f":"IF(VLOOKUP(F60,CLASSEMENTELEVES!$C$4:$D$37,2,FALSE)<VLOOKUP(K60,CLASSEMENTELEVES!$C$4:$D$37,2,FALSE),0,U60)","v":{"$error":"#N/A"}}]
[null,null,null,null,null,null,null,null,null,null,null,null,null,null,null,null,null,null,null,null,null,null,null,null,"0_",0,0,0,0,"D",{"$f":"IF(Z297<>0,COUNTIF($Z$14:Z297,Z297),\"\")","v":""},{"$f":"IFERROR(VLOOKUP(U61,#REF!,3,FALSE),0)","v":0},{"$f":"IF(VLOOKUP(F61,CLASSEMENTELEVES!$C$4:$D$37,2,FALSE)<VLOOKUP(K61,CLASSEMENTELEVES!$C$4:$D$37,2,FALSE),0,U61)","v":{"$error":"#N/A"}}]
[null,null,null,null,null,null,null,null,null,null,null,null,null,null,null,null,null,null,null,null,null,null,null,null,"0_",0,0,0,0,"D",{"$f":"IF(Z298<>0,COUNTIF($Z$14:Z298,Z298),\"\")","v":""},{"$f":"IFERROR(VLOOKUP(U62,#REF!,3,FALSE),0)","v":0},{"$f":"IF(VLOOKUP(F62,CLASSEMENTELEVES!$C$4:$D$37,2,FALSE)<VLOOKUP(K62,CLASSEMENTELEVES!$C$4:$D$37,2,FALSE),0,U62)","v":{"$error":"#N/A"}}]
[null,null,null,null,null,null,null,null,null,null,null,null,null,null,null,null,null,null,null,null,null,null,null,null,"0_",0,0,0,0,"D",{"$f":"IF(Z299<>0,COUNTIF($Z$14:Z299,Z299),\"\")","v":""},{"$f":"IFERROR(VLOOKUP(U63,#REF!,3,FALSE),0)","v":0},{"$f":"IF(VLOOKUP(F63,CLASSEMENTELEVES!$C$4:$D$37,2,FALSE)<VLOOKUP(K63,CLASSEMENTELEVES!$C$4:$D$37,2,FALSE),0,U63)","v":{"$error":"#N/A"}}]
[null,null,null,null,null,null,null,null,null,null,null,null,null,null,null,null,null,null,null,null,null,null,null,null,"0_",0,0,0,0,"D",{"$f":"IF(Z300<>0,COUNTIF($Z$14:Z300,Z300),\"\")","v":""},{"$f":"IFERROR(VLOOKUP(U64,#REF!,3,FALSE),0)","v":0},{"$f":"IF(VLOOKUP(F64,CLASSEMENTELEVES!$C$4:$D$37,2,FALSE)<VLOOKUP(K64,CLASSEMENTELEVES!$C$4:$D$37,2,FALSE),0,U64)","v":{"$error":"#N/A"}}]
[null,null,null,null,null,null,null,null,null,null,null,null,null,null,null,null,null,null,null,null,null,null,null,null,"0_",0,0,0,0,"D",{"$f":"IF(Z301<>0,COUNTIF($Z$14:Z301,Z301),\"\")","v":""},{"$f":"IFERROR(VLOOKUP(U65,#REF!,3,FALSE),0)","v":0},{"$f":"IF(VLOOKUP(F65,CLASSEMENTELEVES!$C$4:$D$37,2,FALSE)<VLOOKUP(K65,CLASSEMENTELEVES!$C$4:$D$37,2,FALSE),0,U65)","v":{"$error":"#N/A"}}]
[null,null,null,null,null,null,null,null,null,null,null,null,null,null,null,null,null,null,null,null,null,null,null,null,"0_",0,0,0,0,"D",{"$f":"IF(Z302<>0,COUNTIF($Z$14:Z302,Z302),\"\")","v":""},{"$f":"IFERROR(VLOOKUP(U66,#REF!,3,FALSE),0)","v":0},{"$f":"IF(VLOOKUP(F66,CLASSEMENTELEVES!$C$4:$D$37,2,FALSE)<VLOOKUP(K66,CLASSEMENTELEVES!$C$4:$D$37,2,FALSE),0,U66)","v":{"$error":"#N/A"}}]
[null,null,null,null,null,null,null,null,null,null,null,null,null,null,null,null,null,null,null,null,null,null,null,null,"0_",0,0,0,0,"D",{"$f":"IF(Z303<>0,COUNTIF($Z$14:Z303,Z303),\"\")","v":""},{"$f":"IFERROR(VLOOKUP(U67,#REF!,3,FALSE),0)","v":0},{"$f":"IF(VLOOKUP(F67,CLASSEMENTELEVES!$C$4:$D$37,2,FALSE)<VLOOKUP(K67,CLASSEMENTELEVES!$C$4:$D$37,2,FALSE),0,U67)","v":{"$error":"#N/A"}}]
[null,null,null,null,null,null,null,null,null,null,null,null,null,null,null,null,null,null,null,null,null,null,null,null,"0_",0,0,0,0,"D",{"$f":"IF(Z304<>0,COUNTIF($Z$14:Z304,Z304),\"\")","v":""},{"$f":"IFERROR(VLOOKUP(U68,#REF!,3,FALSE),0)","v":0},{"$f":"IF(VLOOKUP(F68,CLASSEMENTELEVES!$C$4:$D$37,2,FALSE)<VLOOKUP(K68,CLASSEMENTELEVES!$C$4:$D$37,2,FALSE),0,U68)","v":{"$error":"#N/A"}}]
[null,null,null,null,null,null,null,null,null,null,null,null,null,null,null,null,null,null,null,null,null,null,null,null,"0_",0,0,0,0,"D",{"$f":"IF(Z305<>0,COUNTIF($Z$14:Z305,Z305),\"\")","v":""},{"$f":"IFERROR(VLOOKUP(U69,#REF!,3,FALSE),0)","v":0},{"$f":"IF(VLOOKUP(F69,CLASSEMENTELEVES!$C$4:$D$37,2,FALSE)<VLOOKUP(K69,CLASSEMENTELEVES!$C$4:$D$37,2,FALSE),0,U69)","v":{"$error":"#N/A"}}]
[null,null,null,null,null,null,null,null,null,null,null,null,null,null,null,null,null,null,null,null,null,null,null,null,"0_",0,0,0,0,"D",{"$f":"IF(Z306<>0,COUNTIF($Z$14:Z306,Z306),\"\")","v":""},{"$f":"IFERROR(VLOOKUP(U70,#REF!,3,FALSE),0)","v":0},{"$f":"IF(VLOOKUP(F70,CLASSEMENTELEVES!$C$4:$D$37,2,FALSE)<VLOOKUP(K70,CLASSEMENTELEVES!$C$4:$D$37,2,FALSE),0,U70)","v":{"$error":"#N/A"}}]
[null,null,null,null,null,null,null,null,null,null,null,null,null,null,null,null,null,null,null,null,null,null,null,null,"0_",0,0,0,0,"D",{"$f":"IF(Z307<>0,COUNTIF($Z$14:Z307,Z307),\"\")","v":""},{"$f":"IFERROR(VLOOKUP(U71,#REF!,3,FALSE),0)","v":0},{"$f":"IF(VLOOKUP(F71,CLASSEMENTELEVES!$C$4:$D$37,2,FALSE)<VLOOKUP(K71,CLASSEMENTELEVES!$C$4:$D$37,2,FALSE),0,U71)","v":{"$error":"#N/A"}}]
[null,null,null,null,null,null,null,null,null,null,null,null,null,null,null,null,null,null,null,null,null,null,null,null,"0_",0,0,0,0,"D",{"$f":"IF(Z308<>0,COUNTIF($Z$14:Z308,Z308),\"\")","v":""},{"$f":"IFERROR(VLOOKUP(U72,#REF!,3,FALSE),0)","v":0},{"$f":"IF(VLOOKUP(F72,CLASSEMENTELEVES!$C$4:$D$37,2,FALSE)<VLOOKUP(K72,CLASSEMENTELEVES!$C$4:$D$37,2,FALSE),0,U72)","v":{"$error":"#N/A"}}]
[null,null,null,null,null,null,null,null,null,null,null,null,null,null,null,null,null,null,null,null,null,null,null,null,"0_",0,0,0,0,"D",{"$f":"IF(Z309<>0,COUNTIF($Z$14:Z309,Z309),\"\")","v":""},{"$f":"IFERROR(VLOOKUP(U73,#REF!,3,FALSE),0)","v":0},{"$f":"IF(VLOOKUP(F73,CLASSEMENTELEVES!$C$4:$D$37,2,FALSE)<VLOOKUP(K73,CLASSEMENTELEVES!$C$4:$D$37,2,FALSE),0,U73)","v":{"$error":"#N/A"}}]
[null,null,null,null,null,null,null,null,null,null,null,null,null,null,null,null,null,null,null,null,null,null,null,null,"0_",0,0,0,0,"D",{"$f":"IF(Z310<>0,COUNTIF($Z$14:Z310,Z310),\"\")","v":""},{"$f":"IFERROR(VLOOKUP(U74,#REF!,3,FALSE),0)","v":0},{"$f":"IF(VLOOKUP(F74,CLASSEMENTELEVES!$C$4:$D$37,2,FALSE)<VLOOKUP(K74,CLASSEMENTELEVES!$C$4:$D$37,2,FALSE),0,U74)","v":{"$error":"#N/A"}}]
[null,null,null,null,null,null,null,null,null,null,null,null,null,null,null,null,null,null,null,null,null,null,null,null,"0_",0,0,0,0,"D",{"$f":"IF(Z311<>0,COUNTIF($Z$14:Z311,Z311),\"\")","v":""},{"$f":"IFERROR(VLOOKUP(U75,#REF!,3,FALSE),0)","v":0},{"$f":"IF(VLOOKUP(F75,CLASSEMENTELEVES!$C$4:$D$37,2,FALSE)<VLOOKUP(K75,CLASSEMENTELEVES!$C$4:$D$37,2,FALSE),0,U75)","v":{"$error":"#N/A"}}]
[null,null,null,null,null,null,null,null,null,null,null,null,null,null,null,null,null,null,null,null,null,null,null,null,"0_",0,0,0,0,"D",{"$f":"IF(Z312<>0,COUNTIF($Z$14:Z312,Z312),\"\")","v":""},{"$f":"IFERROR(VLOOKUP(U76,#REF!,3,FALSE),0)","v":0},{"$f":"IF(VLOOKUP(F76,CLASSEMENTELEVES!$C$4:$D$37,2,FALSE)<VLOOKUP(K76,CLASSEMENTELEVES!$C$4:$D$37,2,FALSE),0,U76)","v":{"$error":"#N/A"}}]
[null,null,null,null,null,null,null,null,null,null,null,null,null,null,null,null,null,null,null,null,null,null,null,null,"0_",0,0,0,0,"D",{"$f":"IF(Z313<>0,COUNTIF($Z$14:Z313,Z313),\"\")","v":""},{"$f":"IFERROR(VLOOKUP(U77,#REF!,3,FALSE),0)","v":0},{"$f":"IF(VLOOKUP(F77,CLASSEMENTELEVES!$C$4:$D$37,2,FALSE)<VLOOKUP(K77,CLASSEMENTELEVES!$C$4:$D$37,2,FALSE),0,U77)","v":{"$error":"#N/A"}}]
[null,null,null,null,null,null,null,null,null,null,null,null,null,null,null,null,null,null,null,null,null,null,null,null,"0_",0,0,0,0,"D",{"$f":"IF(Z314<>0,COUNTIF($Z$14:Z314,Z314),\"\")","v":""},{"$f":"IFERROR(VLOOKUP(U78,#REF!,3,FALSE),0)","v":0},{"$f":"IF(VLOOKUP(F78,CLASSEMENTELEVES!$C$4:$D$37,2,FALSE)<VLOOKUP(K78,CLASSEMENTELEVES!$C$4:$D$37,2,FALSE),0,U78)","v":{"$error":"#N/A"}}]
[null,null,null,null,null,null,null,null,null,null,null,null,null,null,null,null,null,null,null,null,null,null,null,null,"0_",{"$f":"IF(K79=0,0,CONCATENATE(K79,\"p\"))","v":0},{"$f":"N79","v":0},{"$f":"R79","v":0},{"$f":"I79","v":0},"D",{"$f":"IF(Z315<>0,COUNTIF($Z$14:Z315,Z315),\"\")","v":""},{"$f":"IFERROR(VLOOKUP(U79,#REF!,3,FALSE),0)","v":0},{"$f":"IF(VLOOKUP(F79,CLASSEMENTELEVES!$C$4:$D$37,2,FALSE)<VLOOKUP(K79,CLASSEMENTELEVES!$C$4:$D$37,2,FALSE),0,U79)","v":{"$error":"#N/A"}}]
[null,null,null,null,null,null,null,null,null,null,null,null,null,null,null,null,null,null,null,null,null,null,null,null,"0_",0,0,0,0,"D",{"$f":"IF(Z316<>0,COUNTIF($Z$14:Z316,Z316),\"\")","v":""},{"$f":"IFERROR(VLOOKUP(U80,#REF!,3,FALSE),0)","v":0},{"$f":"IF(VLOOKUP(F80,CLASSEMENTELEVES!$C$4:$D$37,2,FALSE)<VLOOKUP(K80,CLASSEMENTELEVES!$C$4:$D$37,2,FALSE),0,U80)","v":{"$error":"#N/A"}}]
[null,null,null,null,null,null,null,null,null,null,null,null,null,null,null,null,null,null,null,null,null,null,null,null,"0_",0,0,0,0,"D",{"$f":"IF(Z317<>0,COUNTIF($Z$14:Z317,Z317),\"\")","v":""},{"$f":"IFERROR(VLOOKUP(U81,#REF!,3,FALSE),0)","v":0},{"$f":"IF(VLOOKUP(F81,CLASSEMENTELEVES!$C$4:$D$37,2,FALSE)<VLOOKUP(K81,CLASSEMENTELEVES!$C$4:$D$37,2,FALSE),0,U81)","v":{"$error":"#N/A"}}]
[null,null,null,null,null,null,null,null,null,null,null,null,null,null,null,null,null,null,null,null,null,null,null,null,"0_",0,0,0,0,"D",{"$f":"IF(Z318<>0,COUNTIF($Z$14:Z318,Z318),\"\")","v":""},{"$f":"IFERROR(VLOOKUP(U82,#REF!,3,FALSE),0)","v":0},{"$f":"IF(VLOOKUP(F82,CLASSEMENTELEVES!$C$4:$D$37,2,FALSE)<VLOOKUP(K82,CLASSEMENTELEVES!$C$4:$D$37,2,FALSE),0,U82)","v":{"$error":"#N/A"}}]
[null,null,null,null,null,null,null,null,null,null,null,null,null,null,null,null,null,null,null,null,null,null,null,null,"0_",0,0,0,0,"D",{"$f":"IF(Z319<>0,COUNTIF($Z$14:Z319,Z319),\"\")","v":""},{"$f":"IFERROR(VLOOKUP(U83,#REF!,3,FALSE),0)","v":0},{"$f":"IF(VLOOKUP(F83,CLASSEMENTELEVES!$C$4:$D$37,2,FALSE)<VLOOKUP(K83,CLASSEMENTELEVES!$C$4:$D$37,2,FALSE),0,U83)","v":{"$error":"#N/A"}}]
[null,null,null,null,null,null,null,null,null,null,null,null,null,null,null,null,null,null,null,null,null,null,null,null,"0_",0,0,0,0,"D",{"$f":"IF(Z320<>0,COUNTIF($Z$14:Z320,Z320),\"\")","v":""},{"$f":"IFERROR(VLOOKUP(U84,#REF!,3,FALSE),0)","v":0},{"$f":"IF(VLOOKUP(F84,CLASSEMENTELEVES!$C$4:$D$37,2,FALSE)<VLOOKUP(K84,CLASSEMENTELEVES!$C$4:$D$37,2,FALSE),0,U84)","v":{"$error":"#N/A"}}]
[null,null,null,null,null,null,null,null,null,null,null,null,null,null,null,null,null,null,null,null,null,null,null,null,"0_",0,0,0,0,"D",{"$f":"IF(Z321<>0,COUNTIF($Z$14:Z321,Z321),\"\")","v":""},{"$f":"IFERROR(VLOOKUP(U85,#REF!,3,FALSE),0)","v":0},{"$f":"IF(VLOOKUP(F85,CLASSEMENTELEVES!$C$4:$D$37,2,FALSE)<VLOOKUP(K85,CLASSEMENTELEVES!$C$4:$D$37,2,FALSE),0,U85)","v":{"$error":"#N/A"}}]
[null,null,null,null,null,null,null,null,null,null,null,null,null,null,null,null,null,null,null,null,null,null,null,null,"0_",0,0,0,0,"D",{"$f":"IF(Z322<>0,COUNTIF($Z$14:Z322,Z322),\"\")","v":""},{"$f":"IFERROR(VLOOKUP(U86,#REF!,3,FALSE),0)","v":0},{"$f":"IF(VLOOKUP(F86,CLASSEMENTELEVES!$C$4:$D$37,2,FALSE)<VLOOKUP(K86,CLASSEMENTELEVES!$C$4:$D$37,2,FALSE),0,U86)","v":{"$error":"#N/A"}}]
[null,null,null,null,null,null,null,null,null,null,null,null,null,null,null,null,null,null,null,null,null,null,null,null,"0_",0,0,0,0,"D",{"$f":"IF(Z323<>0,COUNTIF($Z$14:Z323,Z323),\"\")","v":""},{"$f":"IFERROR(VLOOKUP(U87,#REF!,3,FALSE),0)","v":0},{"$f":"IF(VLOOKUP(F87,CLASSEMENTELEVES!$C$4:$D$37,2,FALSE)<VLOOKUP(K87,CLASSEMENTELEVES!$C$4:$D$37,2,FALSE),0,U87)","v":{"$error":"#N/A"}}]
[null,null,null,null,null,null,null,null,null,null,null,null,null,null,null,null,null,null,null,null,null,null,null,null,"0_",0,0,0,0,"D",{"$f":"IF(Z324<>0,COUNTIF($Z$14:Z324,Z324),\"\")","v":""},{"$f":"IFERROR(VLOOKUP(U88,#REF!,3,FALSE),0)","v":0},{"$f":"IF(VLOOKUP(F88,CLASSEMENTELEVES!$C$4:$D$37,2,FALSE)<VLOOKUP(K88,CLASSEMENTELEVES!$C$4:$D$37,2,FALSE),0,U88)","v":{"$error":"#N/A"}}]
[null,null,null,null,null,null,null,null,null,null,null,null,null,null,null,null,null,null,null,null,null,null,null,null,"0_",0,0,0,0,"D",{"$f":"IF(Z325<>0,COUNTIF($Z$14:Z325,Z325),\"\")","v":""},{"$f":"IFERROR(VLOOKUP(U89,#REF!,3,FALSE),0)","v":0},{"$f":"IF(VLOOKUP(F89,CLASSEMENTELEVES!$C$4:$D$37,2,FALSE)<VLOOKUP(K89,CLASSEMENTELEVES!$C$4:$D$37,2,FALSE),0,U89)","v":{"$error":"#N/A"}}]
[null,null,null,null,null,null,null,null,null,null,null,null,null,null,null,null,null,null,null,null,null,null,null,null,"0_",0,0,0,0,"D",{"$f":"IF(Z326<>0,COUNTIF($Z$14:Z326,Z326),\"\")","v":""},{"$f":"IFERROR(VLOOKUP(U90,#REF!,3,FALSE),0)","v":0},{"$f":"IF(VLOOKUP(F90,CLASSEMENTELEVES!$C$4:$D$37,2,FALSE)<VLOOKUP(K90,CLASSEMENTELEVES!$C$4:$D$37,2,FALSE),0,U90)","v":{"$error":"#N/A"}}]
[null,null,null,null,null,null,null,null,null,null,null,null,null,null,null,null,null,null,null,null,null,null,null,null,"0_",0,0,0,0,"D",{"$f":"IF(Z327<>0,COUNTIF($Z$14:Z327,Z327),\"\")","v":""},{"$f":"IFERROR(VLOOKUP(U91,#REF!,3,FALSE),0)","v":0},{"$f":"IF(VLOOKUP(F91,CLASSEMENTELEVES!$C$4:$D$37,2,FALSE)<VLOOKUP(K91,CLASSEMENTELEVES!$C$4:$D$37,2,FALSE),0,U91)","v":{"$error":"#N/A"}}]
[null,null,null,null,null,null,null,null,null,null,null,null,null,null,null,null,null,null,null,null,null,null,null,null,"0_",0,0,0,0,"D",{"$f":"IF(Z328<>0,COUNTIF($Z$14:Z328,Z328),\"\")","v":""},{"$f":"IFERROR(VLOOKUP(U92,#REF!,3,FALSE),0)","v":0},{"$f":"IF(VLOOKUP(F92,CLASSEMENTELEVES!$C$4:$D$37,2,FALSE)<VLOOKUP(K92,CLASSEMENTELEVES!$C$4:$D$37,2,FALSE),0,U92)","v":{"$error":"#N/A"}}]
[null,null,null,null,null,null,null,null,null,null,null,null,null,null,null,null,null,null,null,null,null,null,null,null,"0_",0,0,0,0,"D",{"$f":"IF(Z329<>0,COUNTIF($Z$14:Z329,Z329),\"\")","v":""},{"$f":"IFERROR(VLOOKUP(U93,#REF!,3,FALSE),0)","v":0},{"$f":"IF(VLOOKUP(F93,CLASSEMENTELEVES!$C$4:$D$37,2,FALSE)<VLOOKUP(K93,CLASSEMENTELEVES!$C$4:$D$37,2,FALSE),0,U93)","v":{"$error":"#N/A"}}]
[null,null,null,null,null,null,null,null,null,null,null,null,null,null,null,null,null,null,null,null,null,null,null,null,"0_",0,0,0,0,"D",{"$f":"IF(Z330<>0,COUNTIF($Z$14:Z330,Z330),\"\")","v":""},{"$f":"IFERROR(VLOOKUP(U94,#REF!,3,FALSE),0)","v":0},{"$f":"IF(VLOOKUP(F94,CLASSEMENTELEVES!$C$4:$D$37,2,FALSE)<VLOOKUP(K94,CLASSEMENTELEVES!$C$4:$D$37,2,FALSE),0,U94)","v":{"$error":"#N/A"}}]
[null,null,null,null,null,null,null,null,null,null,null,null,null,null,null,null,null,null,null,null,null,null,null,null,"0_",0,0,0,0,"D",{"$f":"IF(Z331<>0,COUNTIF($Z$14:Z331,Z331),\"\")","v":""},{"$f":"IFERROR(VLOOKUP(U95,#REF!,3,FALSE),0)","v":0},{"$f":"IF(VLOOKUP(F95,CLASSEMENTELEVES!$C$4:$D$37,2,FALSE)<VLOOKUP(K95,CLASSEMENTELEVES!$C$4:$D$37,2,FALSE),0,U95)","v":{"$error":"#N/A"}}]
[null,null,null,null,null,null,null,null,null,null,null,null,null,null,null,null,null,null,null,null,null,null,null,null,"0_",0,0,0,0,"D",{"$f":"IF(Z332<>0,COUNTIF($Z$14:Z332,Z332),\"\")","v":""},{"$f":"IFERROR(VLOOKUP(U96,#REF!,3,FALSE),0)","v":0},{"$f":"IF(VLOOKUP(F96,CLASSEMENTELEVES!$C$4:$D$37,2,FALSE)<VLOOKUP(K96,CLASSEMENTELEVES!$C$4:$D$37,2,FALSE),0,U96)","v":{"$error":"#N/A"}}]
[null,null,null,null,null,null,null,null,null,null,null,null,null,null,null,null,null,null,null,null,null,null,null,null,"0_",0,0,0,0,"D",{"$f":"IF(Z333<>0,COUNTIF($Z$14:Z333,Z333),\"\")","v":""},{"$f":"IFERROR(VLOOKUP(U97,#REF!,3,FALSE),0)","v":0},{"$f":"IF(VLOOKUP(F97,CLASSEMENTELEVES!$C$4:$D$37,2,FALSE)<VLOOKUP(K97,CLASSEMENTELEVES!$C$4:$D$37,2,FALSE),0,U97)","v":{"$error":"#N/A"}}]
[null,null,null,null,null,null,null,null,null,null,null,null,null,null,null,null,null,null,null,null,null,null,null,null,{"$f":"Z334&\"_\"&AE334","v":"0_"},0,0,0,0,"D",{"$f":"IF(Z334<>0,COUNTIF($Z$14:Z334,Z334),\"\")","v":""},{"$f":"IFERROR(VLOOKUP(U98,#REF!,3,FALSE),0)","v":0},{"$f":"IF(VLOOKUP(F98,CLASSEMENTELEVES!$C$4:$D$37,2,FALSE)<VLOOKUP(K98,CLASSEMENTELEVES!$C$4:$D$37,2,FALSE),0,U98)","v":{"$error":"#N/A"}}]
[null,null,null,null,null,null,null,null,null,null,null,null,null,null,null,null,null,null,null,null,null,null,null,null,"0_",0,0,0,0,"D",{"$f":"IF(Z335<>0,COUNTIF($Z$14:Z335,Z335),\"\")","v":""},{"$f":"IFERROR(VLOOKUP(U99,#REF!,3,FALSE),0)","v":0},{"$f":"IF(VLOOKUP(F99,CLASSEMENTELEVES!$C$4:$D$37,2,FALSE)<VLOOKUP(K99,CLASSEMENTELEVES!$C$4:$D$37,2,FALSE),0,U99)","v":{"$error":"#N/A"}}]
[null,null,null,null,null,null,null,null,null,null,null,null,null,null,null,null,null,null,null,null,null,null,null,null,"0_",0,0,0,0,"D",{"$f":"IF(Z336<>0,COUNTIF($Z$14:Z336,Z336),\"\")","v":""},{"$f":"IFERROR(VLOOKUP(U100,#REF!,3,FALSE),0)","v":0},{"$f":"IF(VLOOKUP(F100,CLASSEMENTELEVES!$C$4:$D$37,2,FALSE)<VLOOKUP(K100,CLASSEMENTELEVES!$C$4:$D$37,2,FALSE),0,U100)","v":{"$error":"#N/A"}}]
[null,null,null,null,null,null,null,null,null,null,null,null,null,null,null,null,null,null,null,null,null,null,null,null,"0_",0,0,0,0,"D",{"$f":"IF(Z337<>0,COUNTIF($Z$14:Z337,Z337),\"\")","v":""},{"$f":"IFERROR(VLOOKUP(U101,#REF!,3,FALSE),0)","v":0},{"$f":"IF(VLOOKUP(F101,CLASSEMENTELEVES!$C$4:$D$37,2,FALSE)<VLOOKUP(K101,CLASSEMENTELEVES!$C$4:$D$37,2,FALSE),0,U101)","v":{"$error":"#N/A"}}]
[null,null,null,null,null,null,null,null,null,null,null,null,null,null,null,null,null,null,null,null,null,null,null,null,"0_",0,0,0,0,"D",{"$f":"IF(Z338<>0,COUNTIF($Z$14:Z338,Z338),\"\")","v":""},{"$f":"IFERROR(VLOOKUP(U102,#REF!,3,FALSE),0)","v":0},{"$f":"IF(VLOOKUP(F102,CLASSEMENTELEVES!$C$4:$D$37,2,FALSE)<VLOOKUP(K102,CLASSEMENTELEVES!$C$4:$D$37,2,FALSE),0,U102)","v":{"$error":"#N/A"}}]
[null,null,null,null,null,null,null,null,null,null,null,null,null,null,null,null,null,null,null,null,null,null,null,null,"0_",0,0,0,0,"D",{"$f":"IF(Z339<>0,COUNTIF($Z$14:Z339,Z339),\"\")","v":""},{"$f":"IFERROR(VLOOKUP(U103,#REF!,3,FALSE),0)","v":0},{"$f":"IF(VLOOKUP(F103,CLASSEMENTELEVES!$C$4:$D$37,2,FALSE)<VLOOKUP(K103,CLASSEMENTELEVES!$C$4:$D$37,2,FALSE),0,U103)","v":{"$error":"#N/A"}}]
[null,null,null,null,null,null,null,null,null,null,null,null,null,null,null,null,null,null,null,null,null,null,null,null,"0_",0,0,0,0,"D",{"$f":"IF(Z340<>0,COUNTIF($Z$14:Z340,Z340),\"\")","v":""},{"$f":"IFERROR(VLOOKUP(U104,#REF!,3,FALSE),0)","v":0},{"$f":"IF(VLOOKUP(F104,CLASSEMENTELEVES!$C$4:$D$37,2,FALSE)<VLOOKUP(K104,CLASSEMENTELEVES!$C$4:$D$37,2,FALSE),0,U104)","v":{"$error":"#N/A"}}]
[null,null,null,null,null,null,null,null,null,null,null,null,null,null,null,null,null,null,null,null,null,null,null,null,"0_",0,0,0,0,"D",{"$f":"IF(Z341<>0,COUNTIF($Z$14:Z341,Z341),\"\")","v":""},{"$f":"IFERROR(VLOOKUP(U105,#REF!,3,FALSE),0)","v":0},{"$f":"IF(VLOOKUP(F105,CLASSEMENTELEVES!$C$4:$D$37,2,FALSE)<VLOOKUP(K105,CLASSEMENTELEVES!$C$4:$D$37,2,FALSE),0,U105)","v":{"$error":"#N/A"}}]
[null,null,null,null,null,null,null,null,null,null,null,null,null,null,null,null,null,null,null,null,null,null,null,null,"0_",0,0,0,0,"D",{"$f":"IF(Z342<>0,COUNTIF($Z$14:Z342,Z342),\"\")","v":""},{"$f":"IFERROR(VLOOKUP(U106,#REF!,3,FALSE),0)","v":0},{"$f":"IF(VLOOKUP(F106,CLASSEMENTELEVES!$C$4:$D$37,2,FALSE)<VLOOKUP(K106,CLASSEMENTELEVES!$C$4:$D$37,2,FALSE),0,U106)","v":{"$error":"#N/A"}}]
[null,null,null,null,null,null,null,null,null,null,null,null,null,null,null,null,null,null,null,null,null,null,null,null,"0_",0,0,0,0,"D",{"$f":"IF(Z343<>0,COUNTIF($Z$14:Z343,Z343),\"\")","v":""},{"$f":"IFERROR(VLOOKUP(U107,#REF!,3,FALSE),0)","v":0},{"$f":"IF(VLOOKUP(F107,CLASSEMENTELEVES!$C$4:$D$37,2,FALSE)<VLOOKUP(K107,CLASSEMENTELEVES!$C$4:$D$37,2,FALSE),0,U107)","v":{"$error":"#N/A"}}]
[null,null,null,null,null,null,null,null,null,null,null,null,null,null,null,null,null,null,null,null,null,null,null,null,"0_",0,0,0,0,"D",{"$f":"IF(Z344<>0,COUNTIF($Z$14:Z344,Z344),\"\")","v":""},{"$f":"IFERROR(VLOOKUP(U108,#REF!,3,FALSE),0)","v":0},{"$f":"IF(VLOOKUP(F108,CLASSEMENTELEVES!$C$4:$D$37,2,FALSE)<VLOOKUP(K108,CLASSEMENTELEVES!$C$4:$D$37,2,FALSE),0,U108)","v":{"$error":"#N/A"}}]
[null,null,null,null,null,null,null,null,null,null,null,null,null,null,null,null,null,null,null,null,null,null,null,null,"0_",0,0,0,0,"D",{"$f":"IF(Z345<>0,COUNTIF($Z$14:Z345,Z345),\"\")","v":""},{"$f":"IFERROR(VLOOKUP(U109,#REF!,3,FALSE),0)","v":0},{"$f":"IF(VLOOKUP(F109,CLASSEMENTELEVES!$C$4:$D$37,2,FALSE)<VLOOKUP(K109,CLASSEMENTELEVES!$C$4:$D$37,2,FALSE),0,U109)","v":{"$error":"#N/A"}}]
[null,null,null,null,null,null,null,null,null,null,null,null,null,null,null,null,null,null,null,null,null,null,null,null,"0_",0,0,0,0,"D",{"$f":"IF(Z346<>0,COUNTIF($Z$14:Z346,Z346),\"\")","v":""},{"$f":"IFERROR(VLOOKUP(U110,#REF!,3,FALSE),0)","v":0},{"$f":"IF(VLOOKUP(F110,CLASSEMENTELEVES!$C$4:$D$37,2,FALSE)<VLOOKUP(K110,CLASSEMENTELEVES!$C$4:$D$37,2,FALSE),0,U110)","v":{"$error":"#N/A"}}]
[null,null,null,null,null,null,null,null,null,null,null,null,null,null,null,null,null,null,null,null,null,null,null,null,"0_",0,0,0,0,"D",{"$f":"IF(Z347<>0,COUNTIF($Z$14:Z347,Z347),\"\")","v":""},{"$f":"IFERROR(VLOOKUP(U111,#REF!,3,FALSE),0)","v":0},{"$f":"IF(VLOOKUP(F111,CLASSEMENTELEVES!$C$4:$D$37,2,FALSE)<VLOOKUP(K111,CLASSEMENTELEVES!$C$4:$D$37,2,FALSE),0,U111)","v":{"$error":"#N/A"}}]
[null,null,null,null,null,null,null,null,null,null,null,null,null,null,null,null,null,null,null,null,null,null,null,null,"0_",0,0,0,0,"D",{"$f":"IF(Z348<>0,COUNTIF($Z$14:Z348,Z348),\"\")","v":""},{"$f":"IFERROR(VLOOKUP(U112,#REF!,3,FALSE),0)","v":0},{"$f":"IF(VLOOKUP(F112,CLASSEMENTELEVES!$C$4:$D$37,2,FALSE)<VLOOKUP(K112,CLASSEMENTELEVES!$C$4:$D$37,2,FALSE),0,U112)","v":{"$error":"#N/A"}}]
[null,null,null,null,null,null,null,null,null,null,null,null,null,null,null,null,null,null,null,null,null,null,null,null,"0_",0,0,0,0,"D",{"$f":"IF(Z349<>0,COUNTIF($Z$14:Z349,Z349),\"\")","v":""},{"$f":"IFERROR(VLOOKUP(U113,#REF!,3,FALSE),0)","v":0},{"$f":"IF(VLOOKUP(F113,CLASSEMENTELEVES!$C$4:$D$37,2,FALSE)<VLOOKUP(K113,CLASSEMENTELEVES!$C$4:$D$37,2,FALSE),0,U113)","v":{"$error":"#N/A"}}]
[null,null,null,null,null,null,null,null,null,null,null,null,null,null,null,null,null,null,null,null,null,null,null,null,"0_",0,0,0,0,"D",{"$f":"IF(Z350<>0,COUNTIF($Z$14:Z350,Z350),\"\")","v":""},{"$f":"IFERROR(VLOOKUP(U114,#REF!,3,FALSE),0)","v":0},{"$f":"IF(VLOOKUP(F114,CLASSEMENTELEVES!$C$4:$D$37,2,FALSE)<VLOOKUP(K114,CLASSEMENTELEVES!$C$4:$D$37,2,FALSE),0,U114)","v":{"$error":"#N/A"}}]
[null,null,null,null,null,null,null,null,null,null,null,null,null,null,null,null,null,null,null,null,null,null,null,null,"0_",0,0,0,0,"D",{"$f":"IF(Z351<>0,COUNTIF($Z$14:Z351,Z351),\"\")","v":""},{"$f":"IFERROR(VLOOKUP(U115,#REF!,3,FALSE),0)","v":0},{"$f":"IF(VLOOKUP(F115,CLASSEMENTELEVES!$C$4:$D$37,2,FALSE)<VLOOKUP(K115,CLASSEMENTELEVES!$C$4:$D$37,2,FALSE),0,U115)","v":{"$error":"#N/A"}}]
[null,null,null,null,null,null,null,null,null,null,null,null,null,null,null,null,null,null,null,null,null,null,null,null,"0_",0,0,0,0,"D",{"$f":"IF(Z352<>0,COUNTIF($Z$14:Z352,Z352),\"\")","v":""},{"$f":"IFERROR(VLOOKUP(U116,#REF!,3,FALSE),0)","v":0},{"$f":"IF(VLOOKUP(F116,CLASSEMENTELEVES!$C$4:$D$37,2,FALSE)<VLOOKUP(K116,CLASSEMENTELEVES!$C$4:$D$37,2,FALSE),0,U116)","v":{"$error":"#N/A"}}]
[null,null,null,null,null,null,null,null,null,null,null,null,null,null,null,null,null,null,null,null,null,null,null,null,"0_",0,0,0,0,"D",{"$f":"IF(Z353<>0,COUNTIF($Z$14:Z353,Z353),\"\")","v":""},{"$f":"IFERROR(VLOOKUP(U117,#REF!,3,FALSE),0)","v":0},{"$f":"IF(VLOOKUP(F117,CLASSEMENTELEVES!$C$4:$D$37,2,FALSE)<VLOOKUP(K117,CLASSEMENTELEVES!$C$4:$D$37,2,FALSE),0,U117)","v":{"$error":"#N/A"}}]
[null,null,null,null,null,null,null,null,null,null,null,null,null,null,null,null,null,null,null,null,null,null,null,null,"0_",0,0,0,0,"D",{"$f":"IF(Z354<>0,COUNTIF($Z$14:Z354,Z354),\"\")","v":""},{"$f":"IFERROR(VLOOKUP(U118,#REF!,3,FALSE),0)","v":0},{"$f":"IF(VLOOKUP(F118,CLASSEMENTELEVES!$C$4:$D$37,2,FALSE)<VLOOKUP(K118,CLASSEMENTELEVES!$C$4:$D$37,2,FALSE),0,U118)","v":{"$error":"#N/A"}}]
[null,null,null,null,null,null,null,null,null,null,null,null,null,null,null,null,null,null,null,null,null,null,null,null,"0_",0,0,0,0,"D",{"$f":"IF(Z355<>0,COUNTIF($Z$14:Z355,Z355),\"\")","v":""},{"$f":"IFERROR(VLOOKUP(U119,#REF!,3,FALSE),0)","v":0},{"$f":"IF(VLOOKUP(F119,CLASSEMENTELEVES!$C$4:$D$37,2,FALSE)<VLOOKUP(K119,CLASSEMENTELEVES!$C$4:$D$37,2,FALSE),0,U119)","v":{"$error":"#N/A"}}]
[null,null,null,null,null,null,null,null,null,null,null,null,null,null,null,null,null,null,null,null,null,null,null,null,"0_",0,0,0,0,"D",{"$f":"IF(Z356<>0,COUNTIF($Z$14:Z356,Z356),\"\")","v":""},{"$f":"IFERROR(VLOOKUP(U120,#REF!,3,FALSE),0)","v":0},{"$f":"IF(VLOOKUP(F120,CLASSEMENTELEVES!$C$4:$D$37,2,FALSE)<VLOOKUP(K120,CLASSEMENTELEVES!$C$4:$D$37,2,FALSE),0,U120)","v":{"$error":"#N/A"}}]
[null,null,null,null,null,null,null,null,null,null,null,null,null,null,null,null,null,null,null,null,null,null,null,null,"0_",0,0,0,0,"D",{"$f":"IF(Z357<>0,COUNTIF($Z$14:Z357,Z357),\"\")","v":""},{"$f":"IFERROR(VLOOKUP(U121,#REF!,3,FALSE),0)","v":0},{"$f":"IF(VLOOKUP(F121,CLASSEMENTELEVES!$C$4:$D$37,2,FALSE)<VLOOKUP(K121,CLASSEMENTELEVES!$C$4:$D$37,2,FALSE),0,U121)","v":{"$error":"#N/A"}}]
[null,null,null,null,null,null,null,null,null,null,null,null,null,null,null,null,null,null,null,null,null,null,null,null,"0_",0,0,0,0,"D",{"$f":"IF(Z358<>0,COUNTIF($Z$14:Z358,Z358),\"\")","v":""},{"$f":"IFERROR(VLOOKUP(U122,#REF!,3,FALSE),0)","v":0},{"$f":"IF(VLOOKUP(F122,CLASSEMENTELEVES!$C$4:$D$37,2,FALSE)<VLOOKUP(K122,CLASSEMENTELEVES!$C$4:$D$37,2,FALSE),0,U122)","v":{"$error":"#N/A"}}]
[null,null,null,null,null,null,null,null,null,null,null,null,null,null,null,null,null,null,null,null,null,null,null,null,"0_",0,0,0,0,"D",{"$f":"IF(Z359<>0,COUNTIF($Z$14:Z359,Z359),\"\")","v":""},{"$f":"IFERROR(VLOOKUP(U123,#REF!,3,FALSE),0)","v":0},{"$f":"IF(VLOOKUP(F123,CLASSEMENTELEVES!$C$4:$D$37,2,FALSE)<VLOOKUP(K123,CLASSEMENTELEVES!$C$4:$D$37,2,FALSE),0,U123)","v":{"$error":"#N/A"}}]
[null,null,null,null,null,null,null,null,null,null,null,null,null,null,null,null,null,null,null,null,null,null,null,null,"0_",0,0,0,0,"D",{"$f":"IF(Z360<>0,COUNTIF($Z$14:Z360,Z360),\"\")","v":""},{"$f":"IFERROR(VLOOKUP(U124,#REF!,3,FALSE),0)","v":0},{"$f":"IF(VLOOKUP(F124,CLASSEMENTELEVES!$C$4:$D$37,2,FALSE)<VLOOKUP(K124,CLASSEMENTELEVES!$C$4:$D$37,2,FALSE),0,U124)","v":{"$error":"#N/A"}}]
[null,null,null,null,null,null,null,null,null,null,null,null,null,null,null,null,null,null,null,null,null,null,null,null,"0_",0,0,0,0,"D",{"$f":"IF(Z361<>0,COUNTIF($Z$14:Z361,Z361),\"\")","v":""},{"$f":"IFERROR(VLOOKUP(U125,#REF!,3,FALSE),0)","v":0},{"$f":"IF(VLOOKUP(F125,CLASSEMENTELEVES!$C$4:$D$37,2,FALSE)<VLOOKUP(K125,CLASSEMENTELEVES!$C$4:$D$37,2,FALSE),0,U125)","v":{"$error":"#N/A"}}]
[null,null,null,null,null,null,null,null,null,null,null,null,null,null,null,null,null,null,null,null,null,null,null,null,"0_",0,0,0,0,"D",{"$f":"IF(Z362<>0,COUNTIF($Z$14:Z362,Z362),\"\")","v":""},{"$f":"IFERROR(VLOOKUP(U126,#REF!,3,FALSE),0)","v":0},{"$f":"IF(VLOOKUP(F126,CLASSEMENTELEVES!$C$4:$D$37,2,FALSE)<VLOOKUP(K126,CLASSEMENTELEVES!$C$4:$D$37,2,FALSE),0,U126)","v":{"$error":"#N/A"}}]
[null,null,null,null,null,null,null,null,null,null,null,null,null,null,null,null,null,null,null,null,null,null,null,null,"0_",0,0,0,0,"D",{"$f":"IF(Z363<>0,COUNTIF($Z$14:Z363,Z363),\"\")","v":""},{"$f":"IFERROR(VLOOKUP(U127,#REF!,3,FALSE),0)","v":0},{"$f":"IF(VLOOKUP(F127,CLASSEMENTELEVES!$C$4:$D$37,2,FALSE)<VLOOKUP(K127,CLASSEMENTELEVES!$C$4:$D$37,2,FALSE),0,U127)","v":{"$error":"#N/A"}}]
[null,null,null,null,null,null,null,null,null,null,null,null,null,null,null,null,null,null,null,null,null,null,null,null,"0_",0,0,0,0,"D",{"$f":"IF(Z364<>0,COUNTIF($Z$14:Z364,Z364),\"\")","v":""},{"$f":"IFERROR(VLOOKUP(U128,#REF!,3,FALSE),0)","v":0},{"$f":"IF(VLOOKUP(F128,CLASSEMENTELEVES!$C$4:$D$37,2,FALSE)<VLOOKUP(K128,CLASSEMENTELEVES!$C$4:$D$37,2,FALSE),0,U128)","v":{"$error":"#N/A"}}]
[null,null,null,null,null,null,null,null,null,null,null,null,null,null,null,null,null,null,null,null,null,null,null,null,"0_",0,0,0,0,"D",{"$f":"IF(Z365<>0,COUNTIF($Z$14:Z365,Z365),\"\")","v":""},{"$f":"IFERROR(VLOOKUP(U129,#REF!,3,FALSE),0)","v":0},{"$f":"IF(VLOOKUP(F129,CLASSEMENTELEVES!$C$4:$D$37,2,FALSE)<VLOOKUP(K129,CLASSEMENTELEVES!$C$4:$D$37,2,FALSE),0,U129)","v":{"$error":"#N/A"}}]
[null,null,null,null,null,null,null,null,null,null,null,null,null,null,null,null,null,null,null,null,null,null,null,null,"0_",0,0,0,0,"D",{"$f":"IF(Z366<>0,COUNTIF($Z$14:Z366,Z366),\"\")","v":""},{"$f":"IFERROR(VLOOKUP(U130,#REF!,3,FALSE),0)","v":0},{"$f":"IF(VLOOKUP(F130,CLASSEMENTELEVES!$C$4:$D$37,2,FALSE)<VLOOKUP(K130,CLASSEMENTELEVES!$C$4:$D$37,2,FALSE),0,U130)","v":{"$error":"#N/A"}}]
[null,null,null,null,null,null,null,null,null,null,null,null,null,null,null,null,null,null,null,null,null,null,null,null,"0_",0,0,0,0,"D",{"$f":"IF(Z367<>0,COUNTIF($Z$14:Z367,Z367),\"\")","v":""},{"$f":"IFERROR(VLOOKUP(U131,#REF!,3,FALSE),0)","v":0},{"$f":"IF(VLOOKUP(F131,CLASSEMENTELEVES!$C$4:$D$37,2,FALSE)<VLOOKUP(K131,CLASSEMENTELEVES!$C$4:$D$37,2,FALSE),0,U131)","v":{"$error":"#N/A"}}]
[null,null,null,null,null,null,null,null,null,null,null,null,null,null,null,null,null,null,null,null,null,null,null,null,"0_",0,0,0,0,"D",{"$f":"IF(Z368<>0,COUNTIF($Z$14:Z368,Z368),\"\")","v":""},{"$f":"IFERROR(VLOOKUP(U132,#REF!,3,FALSE),0)","v":0},{"$f":"IF(VLOOKUP(F132,CLASSEMENTELEVES!$C$4:$D$37,2,FALSE)<VLOOKUP(K132,CLASSEMENTELEVES!$C$4:$D$37,2,FALSE),0,U132)","v":{"$error":"#N/A"}}]
[null,null,null,null,null,null,null,null,null,null,null,null,null,null,null,null,null,null,null,null,null,null,null,null,"0_",0,0,0,0,"D",{"$f":"IF(Z369<>0,COUNTIF($Z$14:Z369,Z369),\"\")","v":""},{"$f":"IFERROR(VLOOKUP(U133,#REF!,3,FALSE),0)","v":0},{"$f":"IF(VLOOKUP(F133,CLASSEMENTELEVES!$C$4:$D$37,2,FALSE)<VLOOKUP(K133,CLASSEMENTELEVES!$C$4:$D$37,2,FALSE),0,U133)","v":{"$error":"#N/A"}}]
[null,null,null,null,null,null,null,null,null,null,null,null,null,null,null,null,null,null,null,null,null,null,null,null,"0_",0,0,0,0,"D",{"$f":"IF(Z370<>0,COUNTIF($Z$14:Z370,Z370),\"\")","v":""},{"$f":"IFERROR(VLOOKUP(U134,#REF!,3,FALSE),0)","v":0},{"$f":"IF(VLOOKUP(F134,CLASSEMENTELEVES!$C$4:$D$37,2,FALSE)<VLOOKUP(K134,CLASSEMENTELEVES!$C$4:$D$37,2,FALSE),0,U134)","v":{"$error":"#N/A"}}]
[null,null,null,null,null,null,null,null,null,null,null,null,null,null,null,null,null,null,null,null,null,null,null,null,"0_",0,0,0,0,"D",{"$f":"IF(Z371<>0,COUNTIF($Z$14:Z371,Z371),\"\")","v":""},{"$f":"IFERROR(VLOOKUP(U135,#REF!,3,FALSE),0)","v":0},{"$f":"IF(VLOOKUP(F135,CLASSEMENTELEVES!$C$4:$D$37,2,FALSE)<VLOOKUP(K135,CLASSEMENTELEVES!$C$4:$D$37,2,FALSE),0,U135)","v":{"$error":"#N/A"}}]
[null,null,null,null,null,null,null,null,null,null,null,null,null,null,null,null,null,null,null,null,null,null,null,null,"0_",0,0,0,0,"D",{"$f":"IF(Z372<>0,COUNTIF($Z$14:Z372,Z372),\"\")","v":""},{"$f":"IFERROR(VLOOKUP(U136,#REF!,3,FALSE),0)","v":0},{"$f":"IF(VLOOKUP(F136,CLASSEMENTELEVES!$C$4:$D$37,2,FALSE)<VLOOKUP(K136,CLASSEMENTELEVES!$C$4:$D$37,2,FALSE),0,U136)","v":{"$error":"#N/A"}}]
[null,null,null,null,null,null,null,null,null,null,null,null,null,null,null,null,null,null,null,null,null,null,null,null,"0_",0,0,0,0,"D",{"$f":"IF(Z373<>0,COUNTIF($Z$14:Z373,Z373),\"\")","v":""},{"$f":"IFERROR(VLOOKUP(U137,#REF!,3,FALSE),0)","v":0},{"$f":"IF(VLOOKUP(F137,CLASSEMENTELEVES!$C$4:$D$37,2,FALSE)<VLOOKUP(K137,CLASSEMENTELEVES!$C$4:$D$37,2,FALSE),0,U137)","v":{"$error":"#N/A"}}]
[null,null,null,null,null,null,null,null,null,null,null,null,null,null,null,null,null,null,null,null,null,null,null,null,"0_",0,0,0,0,"D",{"$f":"IF(Z374<>0,COUNTIF($Z$14:Z374,Z374),\"\")","v":""},{"$f":"IFERROR(VLOOKUP(U138,#REF!,3,FALSE),0)","v":0},{"$f":"IF(VLOOKUP(F138,CLASSEMENTELEVES!$C$4:$D$37,2,FALSE)<VLOOKUP(K138,CLASSEMENTELEVES!$C$4:$D$37,2,FALSE),0,U138)","v":{"$error":"#N/A"}}]
[null,null,null,null,null,null,null,null,null,null,null,null,null,null,null,null,null,null,null,null,null,null,null,null,"0_",0,0,0,0,"D",{"$f":"IF(Z375<>0,COUNTIF($Z$14:Z375,Z375),\"\")","v":""},{"$f":"IFERROR(VLOOKUP(U139,#REF!,3,FALSE),0)","v":0},{"$f":"IF(VLOOKUP(F139,CLASSEMENTELEVES!$C$4:$D$37,2,FALSE)<VLOOKUP(K139,CLASSEMENTELEVES!$C$4:$D$37,2,FALSE),0,U139)","v":{"$error":"#N/A"}}]
[null,null,null,null,null,null,null,null,null,null,null,null,null,null,null,null,null,null,null,null,null,null,null,null,"0_",0,0,0,0,"D",{"$f":"IF(Z376<>0,COUNTIF($Z$14:Z376,Z376),\"\")","v":""},{"$f":"IFERROR(VLOOKUP(U140,#REF!,3,FALSE),0)","v":0},{"$f":"IF(VLOOKUP(F140,CLASSEMENTELEVES!$C$4:$D$37,2,FALSE)<VLOOKUP(K140,CLASSEMENTELEVES!$C$4:$D$37,2,FALSE),0,U140)","v":{"$error":"#N/A"}}]
[null,null,null,null,null,null,null,null,null,null,null,null,null,null,null,null,null,null,null,null,null,null,null,null,"0_",0,0,0,0,"D",{"$f":"IF(Z377<>0,COUNTIF($Z$14:Z377,Z377),\"\")","v":""},{"$f":"IFERROR(VLOOKUP(U141,#REF!,3,FALSE),0)","v":0},{"$f":"IF(VLOOKUP(F141,CLASSEMENTELEVES!$C$4:$D$37,2,FALSE)<VLOOKUP(K141,CLASSEMENTELEVES!$C$4:$D$37,2,FALSE),0,U141)","v":{"$error":"#N/A"}}]
[null,null,null,null,null,null,null,null,null,null,null,null,null,null,null,null,null,null,null,null,null,null,null,null,"0_",0,0,0,0,"D",{"$f":"IF(Z378<>0,COUNTIF($Z$14:Z378,Z378),\"\")","v":""},{"$f":"IFERROR(VLOOKUP(U142,#REF!,3,FALSE),0)","v":0},{"$f":"IF(VLOOKUP(F142,CLASSEMENTELEVES!$C$4:$D$37,2,FALSE)<VLOOKUP(K142,CLASSEMENTELEVES!$C$4:$D$37,2,FALSE),0,U142)","v":{"$error":"#N/A"}}]
[null,null,null,null,null,null,null,null,null,null,null,null,null,null,null,null,null,null,null,null,null,null,null,null,"0_",{"$f":"IF(K143=0,0,CONCATENATE(K143,\"p\"))","v":0},{"$f":"N143","v":0},{"$f":"R143","v":0},{"$f":"I143","v":0},"D",{"$f":"IF(Z379<>0,COUNTIF($Z$14:Z379,Z379),\"\")","v":""},{"$f":"IFERROR(VLOOKUP(U143,#REF!,3,FALSE),0)","v":0},{"$f":"IF(VLOOKUP(F143,CLASSEMENTELEVES!$C$4:$D$37,2,FALSE)<VLOOKUP(K143,CLASSEMENTELEVES!$C$4:$D$37,2,FALSE),0,U143)","v":{"$error":"#N/A"}}]
[null,null,null,null,null,null,null,null,null,null,null,null,null,null,null,null,null,null,null,null,null,null,null,null,"0_",0,0,0,0,"D",{"$f":"IF(Z380<>0,COUNTIF($Z$14:Z380,Z380),\"\")","v":""},{"$f":"IFERROR(VLOOKUP(U144,#REF!,3,FALSE),0)","v":0},{"$f":"IF(VLOOKUP(F144,CLASSEMENTELEVES!$C$4:$D$37,2,FALSE)<VLOOKUP(K144,CLASSEMENTELEVES!$C$4:$D$37,2,FALSE),0,U144)","v":{"$error":"#N/A"}}]
[null,null,null,null,null,null,null,null,null,null,null,null,null,null,null,null,null,null,null,null,null,null,null,null,"0_",0,0,0,0,"D",{"$f":"IF(Z381<>0,COUNTIF($Z$14:Z381,Z381),\"\")","v":""},{"$f":"IFERROR(VLOOKUP(U145,#REF!,3,FALSE),0)","v":0},{"$f":"IF(VLOOKUP(F145,CLASSEMENTELEVES!$C$4:$D$37,2,FALSE)<VLOOKUP(K145,CLASSEMENTELEVES!$C$4:$D$37,2,FALSE),0,U145)","v":{"$error":"#N/A"}}]
[null,null,null,null,null,null,null,null,null,null,null,null,null,null,null,null,null,null,null,null,null,null,null,null,"0_",0,0,0,0,"D",{"$f":"IF(Z382<>0,COUNTIF($Z$14:Z382,Z382),\"\")","v":""},{"$f":"IFERROR(VLOOKUP(U146,#REF!,3,FALSE),0)","v":0},{"$f":"IF(VLOOKUP(F146,CLASSEMENTELEVES!$C$4:$D$37,2,FALSE)<VLOOKUP(K146,CLASSEMENTELEVES!$C$4:$D$37,2,FALSE),0,U146)","v":{"$error":"#N/A"}}]
[null,null,null,null,null,null,null,null,null,null,null,null,null,null,null,null,null,null,null,null,null,null,null,null,"0_",0,0,0,0,"D",{"$f":"IF(Z383<>0,COUNTIF($Z$14:Z383,Z383),\"\")","v":""},{"$f":"IFERROR(VLOOKUP(U147,#REF!,3,FALSE),0)","v":0},{"$f":"IF(VLOOKUP(F147,CLASSEMENTELEVES!$C$4:$D$37,2,FALSE)<VLOOKUP(K147,CLASSEMENTELEVES!$C$4:$D$37,2,FALSE),0,U147)","v":{"$error":"#N/A"}}]
[null,null,null,null,null,null,null,null,null,null,null,null,null,null,null,null,null,null,null,null,null,null,null,null,"0_",0,0,0,0,"D",{"$f":"IF(Z384<>0,COUNTIF($Z$14:Z384,Z384),\"\")","v":""},{"$f":"IFERROR(VLOOKUP(U148,#REF!,3,FALSE),0)","v":0},{"$f":"IF(VLOOKUP(F148,CLASSEMENTELEVES!$C$4:$D$37,2,FALSE)<VLOOKUP(K148,CLASSEMENTELEVES!$C$4:$D$37,2,FALSE),0,U148)","v":{"$error":"#N/A"}}]
[null,null,null,null,null,null,null,null,null,null,null,null,null,null,null,null,null,null,null,null,null,null,null,null,"0_",0,0,0,0,"D",{"$f":"IF(Z385<>0,COUNTIF($Z$14:Z385,Z385),\"\")","v":""},{"$f":"IFERROR(VLOOKUP(U149,#REF!,3,FALSE),0)","v":0},{"$f":"IF(VLOOKUP(F149,CLASSEMENTELEVES!$C$4:$D$37,2,FALSE)<VLOOKUP(K149,CLASSEMENTELEVES!$C$4:$D$37,2,FALSE),0,U149)","v":{"$error":"#N/A"}}]
[null,null,null,null,null,null,null,null,null,null,null,null,null,null,null,null,null,null,null,null,null,null,null,null,"0_",0,0,0,0,"D",{"$f":"IF(Z386<>0,COUNTIF($Z$14:Z386,Z386),\"\")","v":""},{"$f":"IFERROR(VLOOKUP(U150,#REF!,3,FALSE),0)","v":0},{"$f":"IF(VLOOKUP(F150,CLASSEMENTELEVES!$C$4:$D$37,2,FALSE)<VLOOKUP(K150,CLASSEMENTELEVES!$C$4:$D$37,2,FALSE),0,U150)","v":{"$error":"#N/A"}}]
[null,null,null,null,null,null,null,null,null,null,null,null,null,null,null,null,null,null,null,null,null,null,null,null,"0_",0,0,0,0,"D",{"$f":"IF(Z387<>0,COUNTIF($Z$14:Z387,Z387),\"\")","v":""},{"$f":"IFERROR(VLOOKUP(U151,#REF!,3,FALSE),0)","v":0},{"$f":"IF(VLOOKUP(F151,CLASSEMENTELEVES!$C$4:$D$37,2,FALSE)<VLOOKUP(K151,CLASSEMENTELEVES!$C$4:$D$37,2,FALSE),0,U151)","v":{"$error":"#N/A"}}]
[null,null,null,null,null,null,null,null,null,null,null,null,null,null,null,null,null,null,null,null,null,null,null,null,"0_",0,0,0,0,"D",{"$f":"IF(Z388<>0,COUNTIF($Z$14:Z388,Z388),\"\")","v":""},{"$f":"IFERROR(VLOOKUP(U152,#REF!,3,FALSE),0)","v":0},{"$f":"IF(VLOOKUP(F152,CLASSEMENTELEVES!$C$4:$D$37,2,FALSE)<VLOOKUP(K152,CLASSEMENTELEVES!$C$4:$D$37,2,FALSE),0,U152)","v":{"$error":"#N/A"}}]
[null,null,null,null,null,null,null,null,null,null,null,null,null,null,null,null,null,null,null,null,null,null,null,null,"0_",0,0,0,0,"D",{"$f":"IF(Z389<>0,COUNTIF($Z$14:Z389,Z389),\"\")","v":""},{"$f":"IFERROR(VLOOKUP(U153,#REF!,3,FALSE),0)","v":0},{"$f":"IF(VLOOKUP(F153,CLASSEMENTELEVES!$C$4:$D$37,2,FALSE)<VLOOKUP(K153,CLASSEMENTELEVES!$C$4:$D$37,2,FALSE),0,U153)","v":{"$error":"#N/A"}}]
[null,null,null,null,null,null,null,null,null,null,null,null,null,null,null,null,null,null,null,null,null,null,null,null,"0_",0,0,0,0,"D",{"$f":"IF(Z390<>0,COUNTIF($Z$14:Z390,Z390),\"\")","v":""},{"$f":"IFERROR(VLOOKUP(U154,#REF!,3,FALSE),0)","v":0},{"$f":"IF(VLOOKUP(F154,CLASSEMENTELEVES!$C$4:$D$37,2,FALSE)<VLOOKUP(K154,CLASSEMENTELEVES!$C$4:$D$37,2,FALSE),0,U154)","v":{"$error":"#N/A"}}]
[null,null,null,null,null,null,null,null,null,null,null,null,null,null,null,null,null,null,null,null,null,null,null,null,"0_",0,0,0,0,"D",{"$f":"IF(Z391<>0,COUNTIF($Z$14:Z391,Z391),\"\")","v":""},{"$f":"IFERROR(VLOOKUP(U155,#REF!,3,FALSE),0)","v":0},{"$f":"IF(VLOOKUP(F155,CLASSEMENTELEVES!$C$4:$D$37,2,FALSE)<VLOOKUP(K155,CLASSEMENTELEVES!$C$4:$D$37,2,FALSE),0,U155)","v":{"$error":"#N/A"}}]
[null,null,null,null,null,null,null,null,null,null,null,null,null,null,null,null,null,null,null,null,null,null,null,null,"0_",0,0,0,0,"D",{"$f":"IF(Z392<>0,COUNTIF($Z$14:Z392,Z392),\"\")","v":""},{"$f":"IFERROR(VLOOKUP(U156,#REF!,3,FALSE),0)","v":0},{"$f":"IF(VLOOKUP(F156,CLASSEMENTELEVES!$C$4:$D$37,2,FALSE)<VLOOKUP(K156,CLASSEMENTELEVES!$C$4:$D$37,2,FALSE),0,U156)","v":{"$error":"#N/A"}}]
[null,null,null,null,null,null,null,null,null,null,null,null,null,null,null,null,null,null,null,null,null,null,null,null,"0_",0,0,0,0,"D",{"$f":"IF(Z393<>0,COUNTIF($Z$14:Z393,Z393),\"\")","v":""},{"$f":"IFERROR(VLOOKUP(U157,#REF!,3,FALSE),0)","v":0},{"$f":"IF(VLOOKUP(F157,CLASSEMENTELEVES!$C$4:$D$37,2,FALSE)<VLOOKUP(K157,CLASSEMENTELEVES!$C$4:$D$37,2,FALSE),0,U157)","v":{"$error":"#N/A"}}]
[null,null,null,null,null,null,null,null,null,null,null,null,null,null,null,null,null,null,null,null,null,null,null,null,"0_",0,0,0,0,"D",{"$f":"IF(Z394<>0,COUNTIF($Z$14:Z394,Z394),\"\")","v":""},{"$f":"IFERROR(VLOOKUP(U158,#REF!,3,FALSE),0)","v":0},{"$f":"IF(VLOOKUP(F158,CLASSEMENTELEVES!$C$4:$D$37,2,FALSE)<VLOOKUP(K158,CLASSEMENTELEVES!$C$4:$D$37,2,FALSE),0,U158)","v":{"$error":"#N/A"}}]
[null,null,null,null,null,null,null,null,null,null,null,null,null,null,null,null,null,null,null,null,null,null,null,null,"0_",0,0,0,0,"D",{"$f":"IF(Z395<>0,COUNTIF($Z$14:Z395,Z395),\"\")","v":""},{"$f":"IFERROR(VLOOKUP(U159,#REF!,3,FALSE),0)","v":0},{"$f":"IF(VLOOKUP(F159,CLASSEMENTELEVES!$C$4:$D$37,2,FALSE)<VLOOKUP(K159,CLASSEMENTELEVES!$C$4:$D$37,2,FALSE),0,U159)","v":{"$error":"#N/A"}}]
[null,null,null,null,null,null,null,null,null,null,null,null,null,null,null,null,null,null,null,null,null,null,null,null,"0_",0,0,0,0,"D",{"$f":"IF(Z396<>0,COUNTIF($Z$14:Z396,Z396),\"\")","v":""},{"$f":"IFERROR(VLOOKUP(U160,#REF!,3,FALSE),0)","v":0},{"$f":"IF(VLOOKUP(F160,CLASSEMENTELEVES!$C$4:$D$37,2,FALSE)<VLOOKUP(K160,CLASSEMENTELEVES!$C$4:$D$37,2,FALSE),0,U160)","v":{"$error":"#N/A"}}]
[null,null,null,null,null,null,null,null,null,null,null,null,null,null,null,null,null,null,null,null,null,null,null,null,"0_",0,0,0,0,"D",{"$f":"IF(Z397<>0,COUNTIF($Z$14:Z397,Z397),\"\")","v":""},{"$f":"IFERROR(VLOOKUP(U161,#REF!,3,FALSE),0)","v":0},{"$f":"IF(VLOOKUP(F161,CLASSEMENTELEVES!$C$4:$D$37,2,FALSE)<VLOOKUP(K161,CLASSEMENTELEVES!$C$4:$D$37,2,FALSE),0,U161)","v":{"$error":"#N/A"}}]
[null,null,null,null,null,null,null,null,null,null,null,null,null,null,null,null,null,null,null,null,null,null,null,null,{"$f":"Z398&\"_\"&AE398","v":"0_"},0,0,0,0,"D",{"$f":"IF(Z398<>0,COUNTIF($Z$14:Z398,Z398),\"\")","v":""},{"$f":"IFERROR(VLOOKUP(U162,#REF!,3,FALSE),0)","v":0},{"$f":"IF(VLOOKUP(F162,CLASSEMENTELEVES!$C$4:$D$37,2,FALSE)<VLOOKUP(K162,CLASSEMENTELEVES!$C$4:$D$37,2,FALSE),0,U162)","v":{"$error":"#N/A"}}]
[null,null,null,null,null,null,null,null,null,null,null,null,null,null,null,null,null,null,null,null,null,null,null,null,"0_",0,0,0,0,"D",{"$f":"IF(Z399<>0,COUNTIF($Z$14:Z399,Z399),\"\")","v":""},{"$f":"IFERROR(VLOOKUP(U163,#REF!,3,FALSE),0)","v":0},{"$f":"IF(VLOOKUP(F163,CLASSEMENTELEVES!$C$4:$D$37,2,FALSE)<VLOOKUP(K163,CLASSEMENTELEVES!$C$4:$D$37,2,FALSE),0,U163)","v":{"$error":"#N/A"}}]
[null,null,null,null,null,null,null,null,null,null,null,null,null,null,null,null,null,null,null,null,null,null,null,null,"0_",0,0,0,0,"D",{"$f":"IF(Z400<>0,COUNTIF($Z$14:Z400,Z400),\"\")","v":""},{"$f":"IFERROR(VLOOKUP(U164,#REF!,3,FALSE),0)","v":0},{"$f":"IF(VLOOKUP(F164,CLASSEMENTELEVES!$C$4:$D$37,2,FALSE)<VLOOKUP(K164,CLASSEMENTELEVES!$C$4:$D$37,2,FALSE),0,U164)","v":{"$error":"#N/A"}}]
[null,null,null,null,null,null,null,null,null,null,null,null,null,null,null,null,null,null,null,null,null,null,null,null,"0_",0,0,0,0,"D",{"$f":"IF(Z401<>0,COUNTIF($Z$14:Z401,Z401),\"\")","v":""},{"$f":"IFERROR(VLOOKUP(U165,#REF!,3,FALSE),0)","v":0},{"$f":"IF(VLOOKUP(F165,CLASSEMENTELEVES!$C$4:$D$37,2,FALSE)<VLOOKUP(K165,CLASSEMENTELEVES!$C$4:$D$37,2,FALSE),0,U165)","v":{"$error":"#N/A"}}]
[null,null,null,null,null,null,null,null,null,null,null,null,null,null,null,null,null,null,null,null,null,null,null,null,"0_",0,0,0,0,"D",{"$f":"IF(Z402<>0,COUNTIF($Z$14:Z402,Z402),\"\")","v":""},{"$f":"IFERROR(VLOOKUP(U166,#REF!,3,FALSE),0)","v":0},{"$f":"IF(VLOOKUP(F166,CLASSEMENTELEVES!$C$4:$D$37,2,FALSE)<VLOOKUP(K166,CLASSEMENTELEVES!$C$4:$D$37,2,FALSE),0,U166)","v":{"$error":"#N/A"}}]
[null,null,null,null,null,null,null,null,null,null,null,null,null,null,null,null,null,null,null,null,null,null,null,null,"0_",0,0,0,0,"D",{"$f":"IF(Z403<>0,COUNTIF($Z$14:Z403,Z403),\"\")","v":""},{"$f":"IFERROR(VLOOKUP(U167,#REF!,3,FALSE),0)","v":0},{"$f":"IF(VLOOKUP(F167,CLASSEMENTELEVES!$C$4:$D$43,2,FALSE)<VLOOKUP(K167,CLASSEMENTELEVES!$C$4:$D$43,2,FALSE),0,U167)","v":{"$error":"#N/A"}}]
[null,null,null,null,null,null,null,null,null,null,null,null,null,null,null,null,null,null,null,null,null,null,null,null,"0_",0,0,0,0,"D",{"$f":"IF(Z404<>0,COUNTIF($Z$14:Z404,Z404),\"\")","v":""},{"$f":"IFERROR(VLOOKUP(U168,#REF!,3,FALSE),0)","v":0},{"$f":"IF(VLOOKUP(F168,CLASSEMENTELEVES!$C$4:$D$37,2,FALSE)<VLOOKUP(K168,CLASSEMENTELEVES!$C$4:$D$37,2,FALSE),0,U168)","v":{"$error":"#N/A"}}]
[null,null,null,null,null,null,null,null,null,null,null,null,null,null,null,null,null,null,null,null,null,null,null,null,"0_",0,0,0,0,"D",{"$f":"IF(Z405<>0,COUNTIF($Z$14:Z405,Z405),\"\")","v":""},{"$f":"IFERROR(VLOOKUP(U169,#REF!,3,FALSE),0)","v":0},{"$f":"IF(VLOOKUP(F169,CLASSEMENTELEVES!$C$4:$D$37,2,FALSE)<VLOOKUP(K169,CLASSEMENTELEVES!$C$4:$D$37,2,FALSE),0,U169)","v":{"$error":"#N/A"}}]
[null,null,null,null,null,null,null,null,null,null,null,null,null,null,null,null,null,null,null,null,null,null,null,null,"0_",0,0,0,0,"D",{"$f":"IF(Z406<>0,COUNTIF($Z$14:Z406,Z406),\"\")","v":""},{"$f":"IFERROR(VLOOKUP(U170,#REF!,3,FALSE),0)","v":0},{"$f":"IF(VLOOKUP(F170,CLASSEMENTELEVES!$C$4:$D$37,2,FALSE)<VLOOKUP(K170,CLASSEMENTELEVES!$C$4:$D$37,2,FALSE),0,U170)","v":{"$error":"#N/A"}}]
[null,null,null,null,null,null,null,null,null,null,null,null,null,null,null,null,null,null,null,null,null,null,null,null,"0_",0,0,0,0,"D",{"$f":"IF(Z407<>0,COUNTIF($Z$14:Z407,Z407),\"\")","v":""},{"$f":"IFERROR(VLOOKUP(U171,#REF!,3,FALSE),0)","v":0},{"$f":"IF(VLOOKUP(F171,CLASSEMENTELEVES!$C$4:$D$37,2,FALSE)<VLOOKUP(K171,CLASSEMENTELEVES!$C$4:$D$37,2,FALSE),0,U171)","v":{"$error":"#N/A"}}]
[null,null,null,null,null,null,null,null,null,null,null,null,null,null,null,null,null,null,null,null,null,null,null,null,"0_",0,0,0,0,"D",{"$f":"IF(Z408<>0,COUNTIF($Z$14:Z408,Z408),\"\")","v":""},{"$f":"IFERROR(VLOOKUP(U172,#REF!,3,FALSE),0)","v":0},{"$f":"IF(VLOOKUP(F172,CLASSEMENTELEVES!$C$4:$D$37,2,FALSE)<VLOOKUP(K172,CLASSEMENTELEVES!$C$4:$D$37,2,FALSE),0,U172)","v":{"$error":"#N/A"}}]
[null,null,null,null,null,null,null,null,null,null,null,null,null,null,null,null,null,null,null,null,null,null,null,null,"0_",0,0,0,0,"D",{"$f":"IF(Z409<>0,COUNTIF($Z$14:Z409,Z409),\"\")","v":""},{"$f":"IFERROR(VLOOKUP(U173,#REF!,3,FALSE),0)","v":0},{"$f":"IF(VLOOKUP(F173,CLASSEMENTELEVES!$C$4:$D$37,2,FALSE)<VLOOKUP(K173,CLASSEMENTELEVES!$C$4:$D$37,2,FALSE),0,U173)","v":{"$error":"#N/A"}}]
[null,null,null,null,null,null,null,null,null,null,null,null,null,null,null,null,null,null,null,null,null,null,null,null,"0_",0,0,0,0,"D",{"$f":"IF(Z410<>0,COUNTIF($Z$14:Z410,Z410),\"\")","v":""},{"$f":"IFERROR(VLOOKUP(U174,#REF!,3,FALSE),0)","v":0},{"$f":"IF(VLOOKUP(F174,CLASSEMENTELEVES!$C$4:$D$37,2,FALSE)<VLOOKUP(K174,CLASSEMENTELEVES!$C$4:$D$37,2,FALSE),0,U174)","v":{"$error":"#N/A"}}]
[null,null,null,null,null,null,null,null,null,null,null,null,null,null,null,null,null,null,null,null,null,null,null,null,"0_",0,0,0,0,"D",{"$f":"IF(Z411<>0,COUNTIF($Z$14:Z411,Z411),\"\")","v":""},{"$f":"IFERROR(VLOOKUP(U175,#REF!,3,FALSE),0)","v":0},{"$f":"IF(VLOOKUP(F175,CLASSEMENTELEVES!$C$4:$D$37,2,FALSE)<VLOOKUP(K175,CLASSEMENTELEVES!$C$4:$D$37,2,FALSE),0,U175)","v":{"$error":"#N/A"}}]
[null,null,null,null,null,null,null,null,null,null,null,null,null,null,null,null,null,null,null,null,null,null,null,null,"0_",0,0,0,0,"D",{"$f":"IF(Z412<>0,COUNTIF($Z$14:Z412,Z412),\"\")","v":""},{"$f":"IFERROR(VLOOKUP(U176,#REF!,3,FALSE),0)","v":0},{"$f":"IF(VLOOKUP(F176,CLASSEMENTELEVES!$C$4:$D$37,2,FALSE)<VLOOKUP(K176,CLASSEMENTELEVES!$C$4:$D$37,2,FALSE),0,U176)","v":{"$error":"#N/A"}}]
[null,null,null,null,null,null,null,null,null,null,null,null,null,null,null,null,null,null,null,null,null,null,null,null,"0_",0,0,0,0,"D",{"$f":"IF(Z413<>0,COUNTIF($Z$14:Z413,Z413),\"\")","v":""},{"$f":"IFERROR(VLOOKUP(U177,#REF!,3,FALSE),0)","v":0},{"$f":"IF(VLOOKUP(F177,CLASSEMENTELEVES!$C$4:$D$37,2,FALSE)<VLOOKUP(K177,CLASSEMENTELEVES!$C$4:$D$37,2,FALSE),0,U177)","v":{"$error":"#N/A"}}]
[null,null,null,null,null,null,null,null,null,null,null,null,null,null,null,null,null,null,null,null,null,null,null,null,"0_",0,0,0,0,"D",{"$f":"IF(Z414<>0,COUNTIF($Z$14:Z414,Z414),\"\")","v":""},{"$f":"IFERROR(VLOOKUP(U178,#REF!,3,FALSE),0)","v":0},{"$f":"IF(VLOOKUP(F178,CLASSEMENTELEVES!$C$4:$D$37,2,FALSE)<VLOOKUP(K178,CLASSEMENTELEVES!$C$4:$D$37,2,FALSE),0,U178)","v":{"$error":"#N/A"}}]
[null,null,null,null,null,null,null,null,null,null,null,null,null,null,null,null,null,null,null,null,null,null,null,null,"0_",0,0,0,0,"D",{"$f":"IF(Z415<>0,COUNTIF($Z$14:Z415,Z415),\"\")","v":""},{"$f":"IFERROR(VLOOKUP(U179,#REF!,3,FALSE),0)","v":0},{"$f":"IF(VLOOKUP(F179,CLASSEMENTELEVES!$C$4:$D$37,2,FALSE)<VLOOKUP(K179,CLASSEMENTELEVES!$C$4:$D$37,2,FALSE),0,U179)","v":{"$error":"#N/A"}}]
[null,null,null,null,null,null,null,null,null,null,null,null,null,null,null,null,null,null,null,null,null,null,null,null,"0_",0,0,0,0,"D",{"$f":"IF(Z416<>0,COUNTIF($Z$14:Z416,Z416),\"\")","v":""},{"$f":"IFERROR(VLOOKUP(U180,#REF!,3,FALSE),0)","v":0},{"$f":"IF(VLOOKUP(F180,CLASSEMENTELEVES!$C$4:$D$37,2,FALSE)<VLOOKUP(K180,CLASSEMENTELEVES!$C$4:$D$37,2,FALSE),0,U180)","v":{"$error":"#N/A"}}]
[null,null,null,null,null,null,null,null,null,null,null,null,null,null,null,null,null,null,null,null,null,null,null,null,"0_",0,0,0,0,"D",{"$f":"IF(Z417<>0,COUNTIF($Z$14:Z417,Z417),\"\")","v":""},{"$f":"IFERROR(VLOOKUP(U181,#REF!,3,FALSE),0)","v":0},{"$f":"IF(VLOOKUP(F181,CLASSEMENTELEVES!$C$4:$D$37,2,FALSE)<VLOOKUP(K181,CLASSEMENTELEVES!$C$4:$D$37,2,FALSE),0,U181)","v":{"$error":"#N/A"}}]
[null,null,null,null,null,null,null,null,null,null,null,null,null,null,null,null,null,null,null,null,null,null,null,null,"0_",0,0,0,0,"D",{"$f":"IF(Z418<>0,COUNTIF($Z$14:Z418,Z418),\"\")","v":""},{"$f":"IFERROR(VLOOKUP(U182,#REF!,3,FALSE),0)","v":0},{"$f":"IF(VLOOKUP(F182,CLASSEMENTELEVES!$C$4:$D$37,2,FALSE)<VLOOKUP(K182,CLASSEMENTELEVES!$C$4:$D$37,2,FALSE),0,U182)","v":{"$error":"#N/A"}}]
[null,null,null,null,null,null,null,null,null,null,null,null,null,null,null,null,null,null,null,null,null,null,null,null,"0_",0,0,0,0,"D",{"$f":"IF(Z419<>0,COUNTIF($Z$14:Z419,Z419),\"\")","v":""},{"$f":"IFERROR(VLOOKUP(U183,#REF!,3,FALSE),0)","v":0},{"$f":"IF(VLOOKUP(F183,CLASSEMENTELEVES!$C$4:$D$37,2,FALSE)<VLOOKUP(K183,CLASSEMENTELEVES!$C$4:$D$37,2,FALSE),0,U183)","v":{"$error":"#N/A"}}]
[null,null,null,null,null,null,null,null,null,null,null,null,null,null,null,null,null,null,null,null,null,null,null,null,"0_",0,0,0,0,"D",{"$f":"IF(Z420<>0,COUNTIF($Z$14:Z420,Z420),\"\")","v":""},{"$f":"IFERROR(VLOOKUP(U184,#REF!,3,FALSE),0)","v":0},{"$f":"IF(VLOOKUP(F184,CLASSEMENTELEVES!$C$4:$D$37,2,FALSE)<VLOOKUP(K184,CLASSEMENTELEVES!$C$4:$D$37,2,FALSE),0,U184)","v":{"$error":"#N/A"}}]
[null,null,null,null,null,null,null,null,null,null,null,null,null,null,null,null,null,null,null,null,null,null,null,null,"0_",0,0,0,0,"D",{"$f":"IF(Z421<>0,COUNTIF($Z$14:Z421,Z421),\"\")","v":""},{"$f":"IFERROR(VLOOKUP(U185,#REF!,3,FALSE),0)","v":0},{"$f":"IF(VLOOKUP(F185,CLASSEMENTELEVES!$C$4:$D$37,2,FALSE)<VLOOKUP(K185,CLASSEMENTELEVES!$C$4:$D$37,2,FALSE),0,U185)","v":{"$error":"#N/A"}}]
[null,null,null,null,null,null,null,null,null,null,null,null,null,null,null,null,null,null,null,null,null,null,null,null,"0_",0,0,0,0,"D",{"$f":"IF(Z422<>0,COUNTIF($Z$14:Z422,Z422),\"\")","v":""},{"$f":"IFERROR(VLOOKUP(U186,#REF!,3,FALSE),0)","v":0},{"$f":"IF(VLOOKUP(F186,CLASSEMENTELEVES!$C$4:$D$37,2,FALSE)<VLOOKUP(K186,CLASSEMENTELEVES!$C$4:$D$37,2,FALSE),0,U186)","v":{"$error":"#N/A"}}]
[null,null,null,null,null,null,null,null,null,null,null,null,null,null,null,null,null,null,null,null,null,null,null,null,"0_",0,0,0,0,"D",{"$f":"IF(Z423<>0,COUNTIF($Z$14:Z423,Z423),\"\")","v":""},{"$f":"IFERROR(VLOOKUP(U187,#REF!,3,FALSE),0)","v":0},{"$f":"IF(VLOOKUP(F187,CLASSEMENTELEVES!$C$4:$D$37,2,FALSE)<VLOOKUP(K187,CLASSEMENTELEVES!$C$4:$D$37,2,FALSE),0,U187)","v":{"$error":"#N/A"}}]
[null,null,null,null,null,null,null,null,null,null,null,null,null,null,null,null,null,null,null,null,null,null,null,null,"0_",0,0,0,0,"D",{"$f":"IF(Z424<>0,COUNTIF($Z$14:Z424,Z424),\"\")","v":""},{"$f":"IFERROR(VLOOKUP(U188,#REF!,3,FALSE),0)","v":0},{"$f":"IF(VLOOKUP(F188,CLASSEMENTELEVES!$C$4:$D$37,2,FALSE)<VLOOKUP(K188,CLASSEMENTELEVES!$C$4:$D$37,2,FALSE),0,U188)","v":{"$error":"#N/A"}}]
[null,null,null,null,null,null,null,null,null,null,null,null,null,null,null,null,null,null,null,null,null,null,null,null,"0_",0,0,0,0,"D",{"$f":"IF(Z425<>0,COUNTIF($Z$14:Z425,Z425),\"\")","v":""},{"$f":"IFERROR(VLOOKUP(U189,#REF!,3,FALSE),0)","v":0},{"$f":"IF(VLOOKUP(F189,CLASSEMENTELEVES!$C$4:$D$37,2,FALSE)<VLOOKUP(K189,CLASSEMENTELEVES!$C$4:$D$37,2,FALSE),0,U189)","v":{"$error":"#N/A"}}]
[null,null,null,null,null,null,null,null,null,null,null,null,null,null,null,null,null,null,null,null,null,null,null,null,"0_",0,0,0,0,"D",{"$f":"IF(Z426<>0,COUNTIF($Z$14:Z426,Z426),\"\")","v":""},{"$f":"IFERROR(VLOOKUP(U190,#REF!,3,FALSE),0)","v":0},{"$f":"IF(VLOOKUP(F190,CLASSEMENTELEVES!$C$4:$D$37,2,FALSE)<VLOOKUP(K190,CLASSEMENTELEVES!$C$4:$D$37,2,FALSE),0,U190)","v":{"$error":"#N/A"}}]
[null,null,null,null,null,null,null,null,null,null,null,null,null,null,null,null,null,null,null,null,null,null,null,null,"0_",0,0,0,0,"D",{"$f":"IF(Z427<>0,COUNTIF($Z$14:Z427,Z427),\"\")","v":""},{"$f":"IFERROR(VLOOKUP(U191,#REF!,3,FALSE),0)","v":0},{"$f":"IF(VLOOKUP(F191,CLASSEMENTELEVES!$C$4:$D$37,2,FALSE)<VLOOKUP(K191,CLASSEMENTELEVES!$C$4:$D$37,2,FALSE),0,U191)","v":{"$error":"#N/A"}}]
[null,null,null,null,null,null,null,null,null,null,null,null,null,null,null,null,null,null,null,null,null,null,null,null,"0_",0,0,0,0,"D",{"$f":"IF(Z428<>0,COUNTIF($Z$14:Z428,Z428),\"\")","v":""},{"$f":"IFERROR(VLOOKUP(U192,#REF!,3,FALSE),0)","v":0},{"$f":"IF(VLOOKUP(F192,CLASSEMENTELEVES!$C$4:$D$37,2,FALSE)<VLOOKUP(K192,CLASSEMENTELEVES!$C$4:$D$37,2,FALSE),0,U192)","v":{"$error":"#N/A"}}]
[null,null,null,null,null,null,null,null,null,null,null,null,null,null,null,null,null,null,null,null,null,null,null,null,"0_",0,0,0,0,"D",{"$f":"IF(Z429<>0,COUNTIF($Z$14:Z429,Z429),\"\")","v":""},{"$f":"IFERROR(VLOOKUP(U193,#REF!,3,FALSE),0)","v":0},{"$f":"IF(VLOOKUP(F193,CLASSEMENTELEVES!$C$4:$D$37,2,FALSE)<VLOOKUP(K193,CLASSEMENTELEVES!$C$4:$D$37,2,FALSE),0,U193)","v":{"$error":"#N/A"}}]
[null,null,null,null,null,null,null,null,null,null,null,null,null,null,null,null,null,null,null,null,null,null,null,null,"0_",0,0,0,0,"D",{"$f":"IF(Z430<>0,COUNTIF($Z$14:Z430,Z430),\"\")","v":""},{"$f":"IFERROR(VLOOKUP(U194,#REF!,3,FALSE),0)","v":0},{"$f":"IF(VLOOKUP(F194,CLASSEMENTELEVES!$C$4:$D$37,2,FALSE)<VLOOKUP(K194,CLASSEMENTELEVES!$C$4:$D$37,2,FALSE),0,U194)","v":{"$error":"#N/A"}}]
[null,null,null,null,null,null,null,null,null,null,null,null,null,null,null,null,null,null,null,null,null,null,null,null,"0_",0,0,0,0,"D",{"$f":"IF(Z431<>0,COUNTIF($Z$14:Z431,Z431),\"\")","v":""},{"$f":"IFERROR(VLOOKUP(U195,#REF!,3,FALSE),0)","v":0},{"$f":"IF(VLOOKUP(F195,CLASSEMENTELEVES!$C$4:$D$37,2,FALSE)<VLOOKUP(K195,CLASSEMENTELEVES!$C$4:$D$37,2,FALSE),0,U195)","v":{"$error":"#N/A"}}]
[null,null,null,null,null,null,null,null,null,null,null,null,null,null,null,null,null,null,null,null,null,null,null,null,"0_",0,0,0,0,"D",{"$f":"IF(Z432<>0,COUNTIF($Z$14:Z432,Z432),\"\")","v":""},{"$f":"IFERROR(VLOOKUP(U196,#REF!,3,FALSE),0)","v":0},{"$f":"IF(VLOOKUP(F196,CLASSEMENTELEVES!$C$4:$D$37,2,FALSE)<VLOOKUP(K196,CLASSEMENTELEVES!$C$4:$D$37,2,FALSE),0,U196)","v":{"$error":"#N/A"}}]
[null,null,null,null,null,null,null,null,null,null,null,null,null,null,null,null,null,null,null,null,null,null,null,null,"0_",0,0,0,0,"D",{"$f":"IF(Z433<>0,COUNTIF($Z$14:Z433,Z433),\"\")","v":""},{"$f":"IFERROR(VLOOKUP(U197,#REF!,3,FALSE),0)","v":0},{"$f":"IF(VLOOKUP(F197,CLASSEMENTELEVES!$C$4:$D$37,2,FALSE)<VLOOKUP(K197,CLASSEMENTELEVES!$C$4:$D$37,2,FALSE),0,U197)","v":{"$error":"#N/A"}}]
[null,null,null,null,null,null,null,null,null,null,null,null,null,null,null,null,null,null,null,null,null,null,null,null,"0_",0,0,0,0,"D",{"$f":"IF(Z434<>0,COUNTIF($Z$14:Z434,Z434),\"\")","v":""},{"$f":"IFERROR(VLOOKUP(U198,#REF!,3,FALSE),0)","v":0},{"$f":"IF(VLOOKUP(F198,CLASSEMENTELEVES!$C$4:$D$37,2,FALSE)<VLOOKUP(K198,CLASSEMENTELEVES!$C$4:$D$37,2,FALSE),0,U198)","v":{"$error":"#N/A"}}]
[null,null,null,null,null,null,null,null,null,null,null,null,null,null,null,null,null,null,null,null,null,null,null,null,"0_",0,0,0,0,"D",{"$f":"IF(Z435<>0,COUNTIF($Z$14:Z435,Z435),\"\")","v":""},{"$f":"IFERROR(VLOOKUP(U199,#REF!,3,FALSE),0)","v":0},{"$f":"IF(VLOOKUP(F199,CLASSEMENTELEVES!$C$4:$D$37,2,FALSE)<VLOOKUP(K199,CLASSEMENTELEVES!$C$4:$D$37,2,FALSE),0,U199)","v":{"$error":"#N/A"}}]
[null,null,null,null,null,null,null,null,null,null,null,null,null,null,null,null,null,null,null,null,null,null,null,null,"0_",0,0,0,0,"D",{"$f":"IF(Z436<>0,COUNTIF($Z$14:Z436,Z436),\"\")","v":""},{"$f":"IFERROR(VLOOKUP(U200,#REF!,3,FALSE),0)","v":0},{"$f":"IF(VLOOKUP(F200,CLASSEMENTELEVES!$C$4:$D$37,2,FALSE)<VLOOKUP(K200,CLASSEMENTELEVES!$C$4:$D$37,2,FALSE),0,U200)","v":{"$error":"#N/A"}}]
[null,null,null,null,null,null,null,null,null,null,null,null,null,null,null,null,null,null,null,null,null,null,null,null,"0_",0,0,0,0,"D",{"$f":"IF(Z437<>0,COUNTIF($Z$14:Z437,Z437),\"\")","v":""},{"$f":"IFERROR(VLOOKUP(U201,#REF!,3,FALSE),0)","v":0},{"$f":"IF(VLOOKUP(F201,CLASSEMENTELEVES!$C$4:$D$37,2,FALSE)<VLOOKUP(K201,CLASSEMENTELEVES!$C$4:$D$37,2,FALSE),0,U201)","v":{"$error":"#N/A"}}]
[null,null,null,null,null,null,null,null,null,null,null,null,null,null,null,null,null,null,null,null,null,null,null,null,"0_",0,0,0,0,"D",{"$f":"IF(Z438<>0,COUNTIF($Z$14:Z438,Z438),\"\")","v":""},{"$f":"IFERROR(VLOOKUP(U202,#REF!,3,FALSE),0)","v":0},{"$f":"IF(VLOOKUP(F202,CLASSEMENTELEVES!$C$4:$D$37,2,FALSE)<VLOOKUP(K202,CLASSEMENTELEVES!$C$4:$D$37,2,FALSE),0,U202)","v":{"$error":"#N/A"}}]
[null,null,null,null,null,null,null,null,null,null,null,null,null,null,null,null,null,null,null,null,null,null,null,null,"0_",0,0,0,0,"D",{"$f":"IF(Z439<>0,COUNTIF($Z$14:Z439,Z439),\"\")","v":""},{"$f":"IFERROR(VLOOKUP(U203,#REF!,3,FALSE),0)","v":0},{"$f":"IF(VLOOKUP(F203,CLASSEMENTELEVES!$C$4:$D$37,2,FALSE)<VLOOKUP(K203,CLASSEMENTELEVES!$C$4:$D$37,2,FALSE),0,U203)","v":{"$error":"#N/A"}}]
[null,null,null,null,null,null,null,null,null,null,null,null,null,null,null,null,null,null,null,null,null,null,null,null,"0_",0,0,0,0,"D",{"$f":"IF(Z440<>0,COUNTIF($Z$14:Z440,Z440),\"\")","v":""},{"$f":"IFERROR(VLOOKUP(U204,#REF!,3,FALSE),0)","v":0},{"$f":"IF(VLOOKUP(F204,CLASSEMENTELEVES!$C$4:$D$37,2,FALSE)<VLOOKUP(K204,CLASSEMENTELEVES!$C$4:$D$37,2,FALSE),0,U204)","v":{"$error":"#N/A"}}]
[null,null,null,null,null,null,null,null,null,null,null,null,null,null,null,null,null,null,null,null,null,null,null,null,"0_",0,0,0,0,"D",{"$f":"IF(Z441<>0,COUNTIF($Z$14:Z441,Z441),\"\")","v":""},{"$f":"IFERROR(VLOOKUP(U205,#REF!,3,FALSE),0)","v":0},{"$f":"IF(VLOOKUP(F205,CLASSEMENTELEVES!$C$4:$D$37,2,FALSE)<VLOOKUP(K205,CLASSEMENTELEVES!$C$4:$D$37,2,FALSE),0,U205)","v":{"$error":"#N/A"}}]
[null,null,null,null,null,null,null,null,null,null,null,null,null,null,null,null,null,null,null,null,null,null,null,null,"0_",0,0,0,0,"D",{"$f":"IF(Z442<>0,COUNTIF($Z$14:Z442,Z442),\"\")","v":""},{"$f":"IFERROR(VLOOKUP(U206,#REF!,3,FALSE),0)","v":0},{"$f":"IF(VLOOKUP(F206,CLASSEMENTELEVES!$C$4:$D$37,2,FALSE)<VLOOKUP(K206,CLASSEMENTELEVES!$C$4:$D$37,2,FALSE),0,U206)","v":{"$error":"#N/A"}}]
[null,null,null,null,null,null,null,null,null,null,null,null,null,null,null,null,null,null,null,null,null,null,null,null,"0_",{"$f":"IF(K207=0,0,CONCATENATE(K207,\"p\"))","v":0},{"$f":"N207","v":0},{"$f":"R207","v":0},{"$f":"I207","v":0},"D",{"$f":"IF(Z443<>0,COUNTIF($Z$14:Z443,Z443),\"\")","v":""},{"$f":"IFERROR(VLOOKUP(U207,#REF!,3,FALSE),0)","v":0},{"$f":"IF(VLOOKUP(F207,CLASSEMENTELEVES!$C$4:$D$37,2,FALSE)<VLOOKUP(K207,CLASSEMENTELEVES!$C$4:$D$37,2,FALSE),0,U207)","v":{"$error":"#N/A"}}]
[null,null,null,null,null,null,null,null,null,null,null,null,null,null,null,null,null,null,null,null,null,null,null,null,"0_",0,0,0,0,"D",{"$f":"IF(Z444<>0,COUNTIF($Z$14:Z444,Z444),\"\")","v":""},{"$f":"IFERROR(VLOOKUP(U208,#REF!,3,FALSE),0)","v":0},{"$f":"IF(VLOOKUP(F208,CLASSEMENTELEVES!$C$4:$D$37,2,FALSE)<VLOOKUP(K208,CLASSEMENTELEVES!$C$4:$D$37,2,FALSE),0,U208)","v":{"$error":"#N/A"}}]
[null,null,null,null,null,null,null,null,null,null,null,null,null,null,null,null,null,null,null,null,null,null,null,null,"0_",0,0,0,0,"D",{"$f":"IF(Z445<>0,COUNTIF($Z$14:Z445,Z445),\"\")","v":""},{"$f":"IFERROR(VLOOKUP(U209,#REF!,3,FALSE),0)","v":0},{"$f":"IF(VLOOKUP(F209,CLASSEMENTELEVES!$C$4:$D$37,2,FALSE)<VLOOKUP(K209,CLASSEMENTELEVES!$C$4:$D$37,2,FALSE),0,U209)","v":{"$error":"#N/A"}}]
[null,null,null,null,null,null,null,null,null,null,null,null,null,null,null,null,null,null,null,null,null,null,null,null,"0_",0,0,0,0,"D",{"$f":"IF(Z446<>0,COUNTIF($Z$14:Z446,Z446),\"\")","v":""},{"$f":"IFERROR(VLOOKUP(U210,#REF!,3,FALSE),0)","v":0},{"$f":"IF(VLOOKUP(F210,CLASSEMENTELEVES!$C$4:$D$37,2,FALSE)<VLOOKUP(K210,CLASSEMENTELEVES!$C$4:$D$37,2,FALSE),0,U210)","v":{"$error":"#N/A"}}]
[null,null,null,null,null,null,null,null,null,null,null,null,null,null,null,null,null,null,null,null,null,null,null,null,"0_",0,0,0,0,"D",{"$f":"IF(Z447<>0,COUNTIF($Z$14:Z447,Z447),\"\")","v":""},{"$f":"IFERROR(VLOOKUP(U211,#REF!,3,FALSE),0)","v":0},{"$f":"IF(VLOOKUP(F211,CLASSEMENTELEVES!$C$4:$D$37,2,FALSE)<VLOOKUP(K211,CLASSEMENTELEVES!$C$4:$D$37,2,FALSE),0,U211)","v":{"$error":"#N/A"}}]
[null,null,null,null,null,null,null,null,null,null,null,null,null,null,null,null,null,null,null,null,null,null,null,null,"0_",0,0,0,0,"D",{"$f":"IF(Z448<>0,COUNTIF($Z$14:Z448,Z448),\"\")","v":""},{"$f":"IFERROR(VLOOKUP(U212,#REF!,3,FALSE),0)","v":0},{"$f":"IF(VLOOKUP(F212,CLASSEMENTELEVES!$C$4:$D$37,2,FALSE)<VLOOKUP(K212,CLASSEMENTELEVES!$C$4:$D$37,2,FALSE),0,U212)","v":{"$error":"#N/A"}}]
[null,null,null,null,null,null,null,null,null,null,null,null,null,null,null,null,null,null,null,null,null,null,null,null,"0_",0,0,0,0,"D",{"$f":"IF(Z449<>0,COUNTIF($Z$14:Z449,Z449),\"\")","v":""},{"$f":"IFERROR(VLOOKUP(U213,#REF!,3,FALSE),0)","v":0},{"$f":"IF(VLOOKUP(F213,CLASSEMENTELEVES!$C$4:$D$37,2,FALSE)<VLOOKUP(K213,CLASSEMENTELEVES!$C$4:$D$37,2,FALSE),0,U213)","v":{"$error":"#N/A"}}]
[null,null,null,null,null,null,null,null,null,null,null,null,null,null,null,null,null,null,null,null,null,null,null,null,"0_",0,0,0,0,"D",{"$f":"IF(Z450<>0,COUNTIF($Z$14:Z450,Z450),\"\")","v":""},{"$f":"IFERROR(VLOOKUP(U214,#REF!,3,FALSE),0)","v":0},{"$f":"IF(VLOOKUP(F214,CLASSEMENTELEVES!$C$4:$D$37,2,FALSE)<VLOOKUP(K214,CLASSEMENTELEVES!$C$4:$D$37,2,FALSE),0,U214)","v":{"$error":"#N/A"}}]
[null,null,null,null,null,null,null,null,null,null,null,null,null,null,null,null,null,null,null,null,null,null,null,null,"0_",0,0,0,0,"D",{"$f":"IF(Z451<>0,COUNTIF($Z$14:Z451,Z451),\"\")","v":""},{"$f":"IFERROR(VLOOKUP(U215,#REF!,3,FALSE),0)","v":0},{"$f":"IF(VLOOKUP(F215,CLASSEMENTELEVES!$C$4:$D$37,2,FALSE)<VLOOKUP(K215,CLASSEMENTELEVES!$C$4:$D$37,2,FALSE),0,U215)","v":{"$error":"#N/A"}}]
[null,null,null,null,null,null,null,null,null,null,null,null,null,null,null,null,null,null,null,null,null,null,null,null,"0_",0,0,0,0,"D",{"$f":"IF(Z452<>0,COUNTIF($Z$14:Z452,Z452),\"\")","v":""},{"$f":"IFERROR(VLOOKUP(U216,#REF!,3,FALSE),0)","v":0},{"$f":"IF(VLOOKUP(F216,CLASSEMENTELEVES!$C$4:$D$37,2,FALSE)<VLOOKUP(K216,CLASSEMENTELEVES!$C$4:$D$37,2,FALSE),0,U216)","v":{"$error":"#N/A"}}]
[null,null,null,null,null,null,null,null,null,null,null,null,null,null,null,null,null,null,null,null,null,null,null,null,"0_",0,0,0,0,"D",{"$f":"IF(Z453<>0,COUNTIF($Z$14:Z453,Z453),\"\")","v":""},{"$f":"IFERROR(VLOOKUP(U217,#REF!,3,FALSE),0)","v":0},{"$f":"IF(VLOOKUP(F217,CLASSEMENTELEVES!$C$4:$D$37,2,FALSE)<VLOOKUP(K217,CLASSEMENTELEVES!$C$4:$D$37,2,FALSE),0,U217)","v":{"$error":"#N/A"}}]
[null,null,null,null,null,null,null,null,null,null,null,null,null,null,null,null,null,null,null,null,null,null,null,null,"0_",0,0,0,0,"D",{"$f":"IF(Z454<>0,COUNTIF($Z$14:Z454,Z454),\"\")","v":""},{"$f":"IFERROR(VLOOKUP(U218,#REF!,3,FALSE),0)","v":0},{"$f":"IF(VLOOKUP(F218,CLASSEMENTELEVES!$C$4:$D$37,2,FALSE)<VLOOKUP(K218,CLASSEMENTELEVES!$C$4:$D$37,2,FALSE),0,U218)","v":{"$error":"#N/A"}}]
[null,null,null,null,null,null,null,null,null,null,null,null,null,null,null,null,null,null,null,null,null,null,null,null,"0_",0,0,0,0,"D",{"$f":"IF(Z455<>0,COUNTIF($Z$14:Z455,Z455),\"\")","v":""},{"$f":"IFERROR(VLOOKUP(U219,#REF!,3,FALSE),0)","v":0},{"$f":"IF(VLOOKUP(F219,CLASSEMENTELEVES!$C$4:$D$37,2,FALSE)<VLOOKUP(K219,CLASSEMENTELEVES!$C$4:$D$37,2,FALSE),0,U219)","v":{"$error":"#N/A"}}]
[null,null,null,null,null,null,null,null,null,null,null,null,null,null,null,null,null,null,null,null,null,null,null,null,"0_",0,0,0,0,"D",{"$f":"IF(Z456<>0,COUNTIF($Z$14:Z456,Z456),\"\")","v":""},{"$f":"IFERROR(VLOOKUP(U220,#REF!,3,FALSE),0)","v":0},{"$f":"IF(VLOOKUP(F220,CLASSEMENTELEVES!$C$4:$D$37,2,FALSE)<VLOOKUP(K220,CLASSEMENTELEVES!$C$4:$D$37,2,FALSE),0,U220)","v":{"$error":"#N/A"}}]
[null,null,null,null,null,null,null,null,null,null,null,null,null,null,null,null,null,null,null,null,null,null,null,null,"0_",0,0,0,0,"D",{"$f":"IF(Z457<>0,COUNTIF($Z$14:Z457,Z457),\"\")","v":""},{"$f":"IFERROR(VLOOKUP(U221,#REF!,3,FALSE),0)","v":0},{"$f":"IF(VLOOKUP(F221,CLASSEMENTELEVES!$C$4:$D$37,2,FALSE)<VLOOKUP(K221,CLASSEMENTELEVES!$C$4:$D$37,2,FALSE),0,U221)","v":{"$error":"#N/A"}}]
[null,null,null,null,null,null,null,null,null,null,null,null,null,null,null,null,null,null,null,null,null,null,null,null,"0_",0,0,0,0,"D",{"$f":"IF(Z458<>0,COUNTIF($Z$14:Z458,Z458),\"\")","v":""},{"$f":"IFERROR(VLOOKUP(U222,#REF!,3,FALSE),0)","v":0},{"$f":"IF(VLOOKUP(F222,CLASSEMENTELEVES!$C$4:$D$37,2,FALSE)<VLOOKUP(K222,CLASSEMENTELEVES!$C$4:$D$37,2,FALSE),0,U222)","v":{"$error":"#N/A"}}]
[null,null,null,null,null,null,null,null,null,null,null,null,null,null,null,null,null,null,null,null,null,null,null,null,"0_",0,0,0,0,"D",{"$f":"IF(Z459<>0,COUNTIF($Z$14:Z459,Z459),\"\")","v":""},{"$f":"IFERROR(VLOOKUP(U223,#REF!,3,FALSE),0)","v":0},{"$f":"IF(VLOOKUP(F223,CLASSEMENTELEVES!$C$4:$D$37,2,FALSE)<VLOOKUP(K223,CLASSEMENTELEVES!$C$4:$D$37,2,FALSE),0,U223)","v":{"$error":"#N/A"}}]
[null,null,null,null,null,null,null,null,null,null,null,null,null,null,null,null,null,null,null,null,null,null,null,null,"0_",0,0,0,0,"D",{"$f":"IF(Z460<>0,COUNTIF($Z$14:Z460,Z460),\"\")","v":""},{"$f":"IFERROR(VLOOKUP(U224,#REF!,3,FALSE),0)","v":0},{"$f":"IF(VLOOKUP(F224,CLASSEMENTELEVES!$C$4:$D$37,2,FALSE)<VLOOKUP(K224,CLASSEMENTELEVES!$C$4:$D$37,2,FALSE),0,U224)","v":{"$error":"#N/A"}}]
[null,null,null,null,null,null,null,null,null,null,null,null,null,null,null,null,null,null,null,null,null,null,null,null,"0_",0,0,0,0,"D",{"$f":"IF(Z461<>0,COUNTIF($Z$14:Z461,Z461),\"\")","v":""},{"$f":"IFERROR(VLOOKUP(U225,#REF!,3,FALSE),0)","v":0},{"$f":"IF(VLOOKUP(F225,CLASSEMENTELEVES!$C$4:$D$37,2,FALSE)<VLOOKUP(K225,CLASSEMENTELEVES!$C$4:$D$37,2,FALSE),0,U225)","v":{"$error":"#N/A"}}]
[null,null,null,null,null,null,null,null,null,null,null,null,null,null,null,null,null,null,null,null,null,null,null,null,{"$f":"Z462&\"_\"&AE462","v":"0_"},0,0,0,0,"D",{"$f":"IF(Z462<>0,COUNTIF($Z$14:Z462,Z462),\"\")","v":""},{"$f":"IFERROR(VLOOKUP(U226,#REF!,3,FALSE),0)","v":0},{"$f":"IF(VLOOKUP(F226,CLASSEMENTELEVES!$C$4:$D$37,2,FALSE)<VLOOKUP(K226,CLASSEMENTELEVES!$C$4:$D$37,2,FALSE),0,U226)","v":{"$error":"#N/A"}}]
[null,null,null,null,null,null,null,null,null,null,null,null,null,null,null,null,null,null,null,null,null,null,null,null,"0_",0,0,0,0,"D",{"$f":"IF(Z463<>0,COUNTIF($Z$14:Z463,Z463),\"\")","v":""},{"$f":"IFERROR(VLOOKUP(U227,#REF!,3,FALSE),0)","v":0},{"$f":"IF(VLOOKUP(F227,CLASSEMENTELEVES!$C$4:$D$37,2,FALSE)<VLOOKUP(K227,CLASSEMENTELEVES!$C$4:$D$37,2,FALSE),0,U227)","v":{"$error":"#N/A"}}]
[null,null,null,null,null,null,null,null,null,null,null,null,null,null,null,null,null,null,null,null,null,null,null,null,"0_",0,0,0,0,"D",{"$f":"IF(Z464<>0,COUNTIF($Z$14:Z464,Z464),\"\")","v":""},{"$f":"IFERROR(VLOOKUP(U228,#REF!,3,FALSE),0)","v":0},{"$f":"IF(VLOOKUP(F228,CLASSEMENTELEVES!$C$4:$D$37,2,FALSE)<VLOOKUP(K228,CLASSEMENTELEVES!$C$4:$D$37,2,FALSE),0,U228)","v":{"$error":"#N/A"}}]
[null,null,null,null,null,null,null,null,null,null,null,null,null,null,null,null,null,null,null,null,null,null,null,null,"0_",0,0,0,0,"D",{"$f":"IF(Z465<>0,COUNTIF($Z$14:Z465,Z465),\"\")","v":""},{"$f":"IFERROR(VLOOKUP(U229,#REF!,3,FALSE),0)","v":0},{"$f":"IF(VLOOKUP(F229,CLASSEMENTELEVES!$C$4:$D$37,2,FALSE)<VLOOKUP(K229,CLASSEMENTELEVES!$C$4:$D$37,2,FALSE),0,U229)","v":{"$error":"#N/A"}}]
[null,null,null,null,null,null,null,null,null,null,null,null,null,null,null,null,null,null,null,null,null,null,null,null,"0_",0,0,0,0,"D",{"$f":"IF(Z466<>0,COUNTIF($Z$14:Z466,Z466),\"\")","v":""},{"$f":"IFERROR(VLOOKUP(U230,#REF!,3,FALSE),0)","v":0},{"$f":"IF(VLOOKUP(F230,CLASSEMENTELEVES!$C$4:$D$37,2,FALSE)<VLOOKUP(K230,CLASSEMENTELEVES!$C$4:$D$37,2,FALSE),0,U230)","v":{"$error":"#N/A"}}]
[null,null,null,null,null,null,null,null,null,null,null,null,null,null,null,null,null,null,null,null,null,null,null,null,"0_",0,0,0,0,"D",{"$f":"IF(Z467<>0,COUNTIF($Z$14:Z467,Z467),\"\")","v":""},{"$f":"IFERROR(VLOOKUP(U231,#REF!,3,FALSE),0)","v":0},{"$f":"IF(VLOOKUP(F231,CLASSEMENTELEVES!$C$4:$D$37,2,FALSE)<VLOOKUP(K231,CLASSEMENTELEVES!$C$4:$D$37,2,FALSE),0,U231)","v":{"$error":"#N/A"}}]
[null,null,null,null,null,null,null,null,null,null,null,null,null,null,null,null,null,null,null,null,null,null,null,null,"0_",0,0,0,0,"D",{"$f":"IF(Z468<>0,COUNTIF($Z$14:Z468,Z468),\"\")","v":""},{"$f":"IFERROR(VLOOKUP(U232,#REF!,3,FALSE),0)","v":0},{"$f":"IF(VLOOKUP(F232,CLASSEMENTELEVES!$C$4:$D$37,2,FALSE)<VLOOKUP(K232,CLASSEMENTELEVES!$C$4:$D$37,2,FALSE),0,U232)","v":{"$error":"#N/A"}}]
[null,null,null,null,null,null,null,null,null,null,null,null,null,null,null,null,null,null,null,null,null,null,null,null,"0_",0,0,0,0,"D",{"$f":"IF(Z469<>0,COUNTIF($Z$14:Z469,Z469),\"\")","v":""},{"$f":"IFERROR(VLOOKUP(U233,#REF!,3,FALSE),0)","v":0},{"$f":"IF(VLOOKUP(F233,CLASSEMENTELEVES!$C$4:$D$37,2,FALSE)<VLOOKUP(K233,CLASSEMENTELEVES!$C$4:$D$37,2,FALSE),0,U233)","v":{"$error":"#N/A"}}]
[null,null,null,null,null,null,null,null,null,null,null,null,null,null,null,null,null,null,null,null,null,null,null,null,"0_",0,0,0,0,"D",{"$f":"IF(Z470<>0,COUNTIF($Z$14:Z470,Z470),\"\")","v":""},{"$f":"IFERROR(VLOOKUP(U234,#REF!,3,FALSE),0)","v":0},{"$f":"IF(VLOOKUP(F234,CLASSEMENTELEVES!$C$4:$D$37,2,FALSE)<VLOOKUP(K234,CLASSEMENTELEVES!$C$4:$D$37,2,FALSE),0,U234)","v":{"$error":"#N/A"}}]
[null,null,null,null,null,null,null,null,null,null,null,null,null,null,null,null,null,null,null,null,null,null,null,null,"0_",0,0,0,0,"D",{"$f":"IF(Z471<>0,COUNTIF($Z$14:Z471,Z471),\"\")","v":""},{"$f":"IFERROR(VLOOKUP(U235,#REF!,3,FALSE),0)","v":0},{"$f":"IF(VLOOKUP(F235,CLASSEMENTELEVES!$C$4:$D$37,2,FALSE)<VLOOKUP(K235,CLASSEMENTELEVES!$C$4:$D$37,2,FALSE),0,U235)","v":{"$error":"#N/A"}}]
[null,null,null,null,null,null,null,null,null,null,null,null,null,null,null,null,null,null,null,null,null,null,null,null,"0_",0,0,0,0,"D",{"$f":"IF(Z472<>0,COUNTIF($Z$14:Z472,Z472),\"\")","v":""},{"$f":"IFERROR(VLOOKUP(U236,#REF!,3,FALSE),0)","v":0},{"$f":"IF(VLOOKUP(F236,CLASSEMENTELEVES!$C$4:$D$37,2,FALSE)<VLOOKUP(K236,CLASSEMENTELEVES!$C$4:$D$37,2,FALSE),0,U236)","v":{"$error":"#N/A"}}]
[null,null,null,null,null,null,null,null,null,null,null,null,null,null,null,null,null,null,null,null,null,null,null,null,"0_",0,0,0,0,"D",{"$f":"IF(Z473<>0,COUNTIF($Z$14:Z473,Z473),\"\")","v":""},{"$f":"IFERROR(VLOOKUP(U237,#REF!,3,FALSE),0)","v":0},{"$f":"IF(VLOOKUP(F237,CLASSEMENTELEVES!$C$4:$D$37,2,FALSE)<VLOOKUP(K237,CLASSEMENTELEVES!$C$4:$D$37,2,FALSE),0,U237)","v":{"$error":"#N/A"}}]
[null,null,null,null,null,null,null,null,null,null,null,null,null,null,null,null,null,null,null,null,null,null,null,null,"0_",0,0,0,0,"D",{"$f":"IF(Z474<>0,COUNTIF($Z$14:Z474,Z474),\"\")","v":""},{"$f":"IFERROR(VLOOKUP(U238,#REF!,3,FALSE),0)","v":0},{"$f":"IF(VLOOKUP(F238,CLASSEMENTELEVES!$C$4:$D$37,2,FALSE)<VLOOKUP(K238,CLASSEMENTELEVES!$C$4:$D$37,2,FALSE),0,U238)","v":{"$error":"#N/A"}}]
[null,null,null,null,null,null,null,null,null,null,null,null,null,null,null,null,null,null,null,null,null,null,null,null,"0_",0,0,0,0,"D",{"$f":"IF(Z475<>0,COUNTIF($Z$14:Z475,Z475),\"\")","v":""},{"$f":"IFERROR(VLOOKUP(U239,#REF!,3,FALSE),0)","v":0},{"$f":"IF(VLOOKUP(F239,CLASSEMENTELEVES!$C$4:$D$37,2,FALSE)<VLOOKUP(K239,CLASSEMENTELEVES!$C$4:$D$37,2,FALSE),0,U239)","v":{"$error":"#N/A"}}]
[null,null,null,null,null,null,null,null,null,null,null,null,null,null,null,null,null,null,null,null,null,null,null,null,"0_",0,0,0,0,"D",{"$f":"IF(Z476<>0,COUNTIF($Z$14:Z476,Z476),\"\")","v":""},{"$f":"IFERROR(VLOOKUP(U240,#REF!,3,FALSE),0)","v":0},{"$f":"IF(VLOOKUP(F240,CLASSEMENTELEVES!$C$4:$D$37,2,FALSE)<VLOOKUP(K240,CLASSEMENTELEVES!$C$4:$D$37,2,FALSE),0,U240)","v":{"$error":"#N/A"}}]
[null,null,null,null,null,null,null,null,null,null,null,null,null,null,null,null,null,null,null,null,null,null,null,null,"0_",0,0,0,0,"D",{"$f":"IF(Z477<>0,COUNTIF($Z$14:Z477,Z477),\"\")","v":""},{"$f":"IFERROR(VLOOKUP(U241,#REF!,3,FALSE),0)","v":0},{"$f":"IF(VLOOKUP(F241,CLASSEMENTELEVES!$C$4:$D$37,2,FALSE)<VLOOKUP(K241,CLASSEMENTELEVES!$C$4:$D$37,2,FALSE),0,U241)","v":{"$error":"#N/A"}}]
[null,null,null,null,null,null,null,null,null,null,null,null,null,null,null,null,null,null,null,null,null,null,null,null,"0_",0,0,0,0,"D",{"$f":"IF(Z478<>0,COUNTIF($Z$14:Z478,Z478),\"\")","v":""},{"$f":"IFERROR(VLOOKUP(U242,#REF!,3,FALSE),0)","v":0},{"$f":"IF(VLOOKUP(F242,CLASSEMENTELEVES!$C$4:$D$37,2,FALSE)<VLOOKUP(K242,CLASSEMENTELEVES!$C$4:$D$37,2,FALSE),0,U242)","v":{"$error":"#N/A"}}]
[null,null,null,null,null,null,null,null,null,null,null,null,null,null,null,null,null,null,null,null,null,null,null,null,"0_",0,0,0,0,"D",{"$f":"IF(Z479<>0,COUNTIF($Z$14:Z479,Z479),\"\")","v":""},{"$f":"IFERROR(VLOOKUP(U243,#REF!,3,FALSE),0)","v":0},{"$f":"IF(VLOOKUP(F243,CLASSEMENTELEVES!$C$4:$D$37,2,FALSE)<VLOOKUP(K243,CLASSEMENTELEVES!$C$4:$D$37,2,FALSE),0,U243)","v":{"$error":"#N/A"}}]
[null,null,null,null,null,null,null,null,null,null,null,null,null,null,null,null,null,null,null,null,null,null,null,null,"0_",0,0,0,0,"D",{"$f":"IF(Z480<>0,COUNTIF($Z$14:Z480,Z480),\"\")","v":""},{"$f":"IFERROR(VLOOKUP(U244,#REF!,3,FALSE),0)","v":0},{"$f":"IF(VLOOKUP(F244,CLASSEMENTELEVES!$C$4:$D$37,2,FALSE)<VLOOKUP(K244,CLASSEMENTELEVES!$C$4:$D$37,2,FALSE),0,U244)","v":{"$error":"#N/A"}}]
[null,null,null,null,null,null,null,null,null,null,null,null,null,null,null,null,null,null,null,null,null,null,null,null,"0_",0,0,0,0,"D",{"$f":"IF(Z481<>0,COUNTIF($Z$14:Z481,Z481),\"\")","v":""},{"$f":"IFERROR(VLOOKUP(U245,#REF!,3,FALSE),0)","v":0},{"$f":"IF(VLOOKUP(F245,CLASSEMENTELEVES!$C$4:$D$37,2,FALSE)<VLOOKUP(K245,CLASSEMENTELEVES!$C$4:$D$37,2,FALSE),0,U245)","v":{"$error":"#N/A"}}]
[null,null,null,null,null,null,null,null,null,null,null,null,null,null,null,null,null,null,null,null,null,null,null,null,"0_",0,0,0,0,"D",{"$f":"IF(Z482<>0,COUNTIF($Z$14:Z482,Z482),\"\")","v":""},{"$f":"IFERROR(VLOOKUP(U246,#REF!,3,FALSE),0)","v":0},{"$f":"IF(VLOOKUP(F246,CLASSEMENTELEVES!$C$4:$D$37,2,FALSE)<VLOOKUP(K246,CLASSEMENTELEVES!$C$4:$D$37,2,FALSE),0,U246)","v":{"$error":"#N/A"}}]
[null,null,null,null,null,null,null,null,null,null,null,null,null,null,null,null,null,null,null,null,null,null,null,null,"0_",0,0,0,0,"D",{"$f":"IF(Z483<>0,COUNTIF($Z$14:Z483,Z483),\"\")","v":""},{"$f":"IFERROR(VLOOKUP(U247,#REF!,3,FALSE),0)","v":0},{"$f":"IF(VLOOKUP(F247,CLASSEMENTELEVES!$C$4:$D$37,2,FALSE)<VLOOKUP(K247,CLASSEMENTELEVES!$C$4:$D$37,2,FALSE),0,U247)","v":{"$error":"#N/A"}}]
[null,null,null,null,null,null,null,null,null,null,null,null,null,null,null,null,null,null,null,null,null,null,null,null,"0_",0,0,0,0,"D",{"$f":"IF(Z484<>0,COUNTIF($Z$14:Z484,Z484),\"\")","v":""},{"$f":"IFERROR(VLOOKUP(U248,#REF!,3,FALSE),0)","v":0},{"$f":"IF(VLOOKUP(F248,CLASSEMENTELEVES!$C$4:$D$37,2,FALSE)<VLOOKUP(K248,CLASSEMENTELEVES!$C$4:$D$37,2,FALSE),0,U248)","v":{"$error":"#N/A"}}]
[null,null,null,null,null,null,null,null,null,null,null,null,null,null,null,null,null,null,null,null,null,null,null,null,"0_",0,0,0,0,"D",{"$f":"IF(Z485<>0,COUNTIF($Z$14:Z485,Z485),\"\")","v":""},{"$f":"IFERROR(VLOOKUP(U249,#REF!,3,FALSE),0)","v":0},{"$f":"IF(VLOOKUP(F249,CLASSEMENTELEVES!$C$4:$D$37,2,FALSE)<VLOOKUP(K249,CLASSEMENTELEVES!$C$4:$D$37,2,FALSE),0,U249)","v":{"$error":"#N/A"}}]

{"sheet":"NOTECYCLE","index":4,"n_rows":43,"n_cols":56,"rows_kept":43,"cut":false,"hidden":false,"merged":[[1,13,1,14],[1,18,1,19],[1,3,1,4],[1,5,1,6],[1,7,1,8],[1,9,1,10],[1,11,1,12],[0,34,0,35],[1,15,1,16],[2,18,2,19],[0,24,0,25],[0,26,0,27],[0,28,0,29],[0,30,0,31],[0,32,0,33]]}
[null,null,null,null,null,null,null,null,null,null,null,null,null,null,null,null,null,null,null,null,null,null,{"$f":"SUMPRODUCT(N(ISTEXT(C4:C43)))","v":40},"élèves dans la classe"]
[{"$f":"AVERAGE(A4:A43)","v":0},null,null,"DEFI",null,"Matchs joués",null,"Victoires",null,"Points marqués",null,"Points encaissés / matchs",null,"Points thèmes",null,"Moyenne classement",null,null,"BAREME ->",null,null,"NOTE /","DEFI","NOTE","Matchs joués","NOTE","Victoires","NOTE","Points marqués","NOTE","Points encaissés","NOTE","Points thèmes","NOTE","Moyenne classement","NOTE"]
["NOTE",null,"MAX->",null,{"$f":"CONCATENATE(\"Note  / \",X3)","v":"Note  / 2"},{"$f":"Y3","v":0},{"$f":"CONCATENATE(\"Note  / \",Z3)","v":"Note  / 8"},{"$f":"AA3","v":0},{"$f":"CONCATENATE(\"Note  / \",AB3)","v":"Note  / 2"},{"$f":"AC3","v":0},{"$f":"CONCATENATE(\"Note  / \",AD3)","v":"Note  / 4"},{"$f":"AE3","v":0},{"$f":"CONCATENATE(\"Note  / \",AF3)","v":"Note  / 2"},{"$f":"AG3","v":0},{"$f":"CONCATENATE(\"Note  / \",AH3)","v":"Note  / 2"},null,{"$f":"CONCATENATE(\"Note  / \",AJ3)","v":"Note  / "},null,"Vous pouvez modifier les notes dans les cellules blanches",null,null,{"$f":"X3+Z3+AB3+AD3+AF3+AH3+AJ3","v":20},1,2,{"$f":"MAX(Tableau10[Nombre de matchs joués])","v":0},8,{"$f":"MAX(Tableau10[Nombre de victoires])","v":0},2,{"$f":"MAX(Tableau10[Nombre de points marqués])","v":0},4,0,2,{"$f":"MAX(Tableau10[Nombre de points thèmes])","v":0},2,1,null,null,null,null,null,1,4,{"$f":"MAX(Tableau10[Nombre de matchs joués])","v":0},6,{"$f":"MAX(Tableau10[Nombre de victoires])","v":0},3,{"$f":"MAX(Tableau10[Nombre de points marqués])","v":0},3,null,"Non noté",{"$f":"MAX(Tableau10[Nombre de points thèmes])","v":0},3,{"$f":"MAX(#REF!)","v":{"$error":"#REF!"}},1,1,"Non noté"]
[{"$f":"IF(F4=0,0,E4+G4+I4+K4+M4+O4)","v":0},{"$f":"CONCATENATE(\"/ \",$V$3)","v":"/ 20"},{"$f":"Tableau10[[#This Row],[CLASSE]]","v":"Abdelnour"},{"$f":"VLOOKUP(C4,Tableau10[[CLASSE]:[CLASSEMENT8]],2,FALSE)","v":1},{"$f":"VLOOKUP(D4,NOTECYCLE!$W$3:$X$42,2,TRUE)","v":2},{"$f":"Tableau10[[#This Row],[Nombre de matchs joués]]","v":0},{"$f":"VLOOKUP(F4,NOTECYCLE!$Y$3:$Z$42,2,TRUE)","v":8},{"$f":"Tableau10[[#This Row],[Nombre de victoires]]","v":0},{"$f":"VLOOKUP(H4,NOTECYCLE!$AA$3:$AB$42,2,TRUE)","v":2},{"$f":"Tableau10[[#This Row],[Nombre de points marqués]]","v":0},{"$f":"VLOOKUP(J4,NOTECYCLE!$AC$3:$AD$42,2,TRUE)","v":4},{"$f":"Tableau10[[#This Row],[Nombre de points encaissés]]","v":0},{"$f":"VLOOKUP(L4,NOTECYCLE!$AE$3:$AF$42,2,TRUE)","v":2},{"$f":"Tableau10[[#This Row],[Nombre de points thèmes]]","v":0},{"$f":"VLOOKUP(N4,NOTECYCLE!$AG$3:$AH$42,2,TRUE)","v":2},{"$f":"Tableau10[[#This Row],[MOYENNE CLASSEMENTS]]","v":7.5},{"$f":"VLOOKUP(P4,NOTECYCLE!$AI$3:$AJ$42,2,TRUE)","v":0},null,null,null,null,null,2,{"$f":"$X$3-$X$3*W4/$W$1","v":1.9},{"$f":"Y5-1000","v":-1011},{"$f":"Z$3-6*Z$3/6","v":0},{"$f":"AA5-1000","v":-1006},{"$f":"AB$3-4*AB$3/4","v":0},{"$f":"AC5-1000","v":-1045},{"$f":"AD$3-4*AD$3/4","v":0},{"$f":"AE3","v":0},{"$f":"AF3","v":2},{"$f":"AG5-1000","v":-1025},{"$f":"AH$3-6*AH$3/6","v":0},2,{"$f":"$AJ$3-$AJ$3*AI4/$W$1","v":0}]
[{"$f":"IF(F5=0,0,E5+G5+I5+K5+M5+O5)","v":0},{"$f":"CONCATENATE(\"/ \",$V$3)","v":"/ 20"},{"$f":"Tableau10[[#This Row],[CLASSE]]","v":"Açelya"},{"$f":"VLOOKUP(C5,Tableau10[[CLASSE]:[CLASSEMENT8]],2,FALSE)","v":2},{"$f":"VLOOKUP(D5,NOTECYCLE!$W$3:$X$42,2,TRUE)","v":1.9},{"$f":"Tableau10[[#This Row],[Nombre de matchs joués]]","v":0},{"$f":"VLOOKUP(F5,NOTECYCLE!$Y$3:$Z$42,2,TRUE)","v":8},{"$f":"Tableau10[[#This Row],[Nombre de victoires]]","v":0},{"$f":"VLOOKUP(H5,NOTECYCLE!$AA$3:$AB$42,2,TRUE)","v":2},{"$f":"Tableau10[[#This Row],[Nombre de points marqués]]","v":0},{"$f":"VLOOKUP(J5,NOTECYCLE!$AC$3:$AD$42,2,TRUE)","v":4},{"$f":"Tableau10[[#This Row],[Nombre de points encaissés]]","v":0},{"$f":"VLOOKUP(L5,NOTECYCLE!$AE$3:$AF$42,2,TRUE)","v":2},{"$f":"Tableau10[[#This Row],[Nombre de points thèmes]]","v":0},{"$f":"VLOOKUP(N5,NOTECYCLE!$AG$3:$AH$42,2,TRUE)","v":2},{"$f":"Tableau10[[#This Row],[MOYENNE CLASSEMENTS]]","v":7.666666666666667},{"$f":"VLOOKUP(P5,NOTECYCLE!$AI$3:$AJ$42,2,TRUE)","v":0},null,null,null,null,null,3,{"$f":"$X$3-$X$3*W5/$W$1","v":1.85},{"$f":"Y6-1","v":-11},{"$f":"Z$3-5.5*Z$3/6","v":0.66666666666666696},{"$f":"AA6-2","v":-6},{"$f":"AB$3-3*AB$3/4","v":0.5},{"$f":"AC6-20","v":-45},{"$f":"AD$3-3*AD$3/4","v":1},7,{"$f":"AF3","v":2},{"$f":"AG6-5","v":-25},{"$f":"AH$3-5*AH$3/6","v":0.33333333333333326},3,{"$f":"$AJ$3-$AJ$3*AI5/$W$1","v":0}]
[0,"/ 20",{"$f":"Tableau10[[#This Row],[CLASSE]]","v":"Adgy"},{"$f":"VLOOKUP(C6,Tableau10[[CLASSE]:[CLASSEMENT8]],2,FALSE)","v":3},{"$f":"VLOOKUP(D6,NOTECYCLE!$W$3:$X$42,2,TRUE)","v":1.85},{"$f":"Tableau10[[#This Row],[Nombre de matchs joués]]","v":0},{"$f":"VLOOKUP(F6,NOTECYCLE!$Y$3:$Z$42,2,TRUE)","v":8},{"$f":"Tableau10[[#This Row],[Nombre de victoires]]","v":0},{"$f":"VLOOKUP(H6,NOTECYCLE!$AA$3:$AB$42,2,TRUE)","v":2},{"$f":"Tableau10[[#This Row],[Nombre de points marqués]]","v":0},{"$f":"VLOOKUP(J6,NOTECYCLE!$AC$3:$AD$42,2,TRUE)","v":4},{"$f":"Tableau10[[#This Row],[Nombre de points encaissés]]","v":0},{"$f":"VLOOKUP(L6,NOTECYCLE!$AE$3:$AF$42,2,TRUE)","v":2},{"$f":"Tableau10[[#This Row],[Nombre de points thèmes]]","v":0},{"$f":"VLOOKUP(N6,NOTECYCLE!$AG$3:$AH$42,2,TRUE)","v":2},{"$f":"Tableau10[[#This Row],[MOYENNE CLASSEMENTS]]","v":7.833333333333333},{"$f":"VLOOKUP(P6,NOTECYCLE!$AI$3:$AJ$42,2,TRUE)","v":0},null,null,null,null,null,4,1.8,-10,{"$f":"Z$3-5*Z$3/6","v":1.333333333333333},{"$f":"AA7-2","v":-4},{"$f":"AB$3-2*AB$3/4","v":1},{"$f":"AC7-15","v":-25},{"$f":"AD$3-2*AD$3/4","v":2},8,{"$f":"AF$3-AF$3/6","v":1.6666666666666667},{"$f":"AG7-5","v":-20},{"$f":"AH$3-4*AH$3/6","v":0.66666666666666674},4,0]
[0,"/ 20",{"$f":"Tableau10[[#This Row],[CLASSE]]","v":"Ayoub"},{"$f":"VLOOKUP(C7,Tableau10[[CLASSE]:[CLASSEMENT8]],2,FALSE)","v":4},{"$f":"VLOOKUP(D7,NOTECYCLE!$W$3:$X$42,2,TRUE)","v":1.8},{"$f":"Tableau10[[#This Row],[Nombre de matchs joués]]","v":0},{"$f":"VLOOKUP(F7,NOTECYCLE!$Y$3:$Z$42,2,TRUE)","v":8},{"$f":"Tableau10[[#This Row],[Nombre de victoires]]","v":0},{"$f":"VLOOKUP(H7,NOTECYCLE!$AA$3:$AB$42,2,TRUE)","v":2},{"$f":"Tableau10[[#This Row],[Nombre de points marqués]]","v":0},{"$f":"VLOOKUP(J7,NOTECYCLE!$AC$3:$AD$42,2,TRUE)","v":4},{"$f":"Tableau10[[#This Row],[Nombre de points encaissés]]","v":0},{"$f":"VLOOKUP(L7,NOTECYCLE!$AE$3:$AF$42,2,TRUE)","v":2},{"$f":"Tableau10[[#This Row],[Nombre de points thèmes]]","v":0},{"$f":"VLOOKUP(N7,NOTECYCLE!$AG$3:$AH$42,2,TRUE)","v":2},{"$f":"Tableau10[[#This Row],[MOYENNE CLASSEMENTS]]","v":8},{"$f":"VLOOKUP(P7,NOTECYCLE!$AI$3:$AJ$42,2,TRUE)","v":0},null,null,null,null,null,5,1.75,-9,{"$f":"Z$3-4.5*Z$3/6","v":2},{"$f":"AA8-2","v":-2},{"$f":"AB$3-AB$3/4","v":1.5},{"$f":"AC8-10","v":-10},{"$f":"AD$3-AD$3/4","v":3},8.5,{"$f":"AF$3-2*AF$3/6","v":1.3333333333333335},{"$f":"AG8-5","v":-15},{"$f":"AH$3-3*AH$3/6","v":1},5,0]
[0,"/ 20",{"$f":"Tableau10[[#This Row],[CLASSE]]","v":"balise"},{"$f":"VLOOKUP(C8,Tableau10[[CLASSE]:[CLASSEMENT8]],2,FALSE)","v":5},{"$f":"VLOOKUP(D8,NOTECYCLE!$W$3:$X$42,2,TRUE)","v":1.75},{"$f":"Tableau10[[#This Row],[Nombre de matchs joués]]","v":0},{"$f":"VLOOKUP(F8,NOTECYCLE!$Y$3:$Z$42,2,TRUE)","v":8},{"$f":"Tableau10[[#This Row],[Nombre de victoires]]","v":0},{"$f":"VLOOKUP(H8,NOTECYCLE!$AA$3:$AB$42,2,TRUE)","v":2},{"$f":"Tableau10[[#This Row],[Nombre de points marqués]]","v":0},{"$f":"VLOOKUP(J8,NOTECYCLE!$AC$3:$AD$42,2,TRUE)","v":4},{"$f":"Tableau10[[#This Row],[Nombre de points encaissés]]","v":0},{"$f":"VLOOKUP(L8,NOTECYCLE!$AE$3:$AF$42,2,TRUE)","v":2},{"$f":"Tableau10[[#This Row],[Nombre de points thèmes]]","v":0},{"$f":"VLOOKUP(N8,NOTECYCLE!$AG$3:$AH$42,2,TRUE)","v":2},{"$f":"Tableau10[[#This Row],[MOYENNE CLASSEMENTS]]","v":8.1666666666666661},{"$f":"VLOOKUP(P8,NOTECYCLE!$AI$3:$AJ$42,2,TRUE)","v":0},null,null,null,null,null,6,1.7,-8,{"$f":"Z$3-4*Z$3/6","v":2.666666666666667},{"$f":"AA3","v":0},{"$f":"AB3","v":2},{"$f":"AC3","v":0},{"$f":"AD3","v":4},9,{"$f":"AF$3-3*AF$3/6","v":1},{"$f":"AG9-5","v":-10},{"$f":"AH$3-2*AH$3/6","v":1.3333333333333335},6,0]
[0,"/ 20",{"$f":"Tableau10[[#This Row],[CLASSE]]","v":"Beqir"},{"$f":"VLOOKUP(C9,Tableau10[[CLASSE]:[CLASSEMENT8]],2,FALSE)","v":6},{"$f":"VLOOKUP(D9,NOTECYCLE!$W$3:$X$42,2,TRUE)","v":1.7},{"$f":"Tableau10[[#This Row],[Nombre de matchs joués]]","v":0},{"$f":"VLOOKUP(F9,NOTECYCLE!$Y$3:$Z$42,2,TRUE)","v":8},{"$f":"Tableau10[[#This Row],[Nombre de victoires]]","v":0},{"$f":"VLOOKUP(H9,NOTECYCLE!$AA$3:$AB$42,2,TRUE)","v":2},{"$f":"Tableau10[[#This Row],[Nombre de points marqués]]","v":0},{"$f":"VLOOKUP(J9,NOTECYCLE!$AC$3:$AD$42,2,TRUE)","v":4},{"$f":"Tableau10[[#This Row],[Nombre de points encaissés]]","v":0},{"$f":"VLOOKUP(L9,NOTECYCLE!$AE$3:$AF$42,2,TRUE)","v":2},{"$f":"Tableau10[[#This Row],[Nombre de points thèmes]]","v":0},{"$f":"VLOOKUP(N9,NOTECYCLE!$AG$3:$AH$42,2,TRUE)","v":2},{"$f":"Tableau10[[#This Row],[MOYENNE CLASSEMENTS]]","v":8.3333333333333339},{"$f":"VLOOKUP(P9,NOTECYCLE!$AI$3:$AJ$42,2,TRUE)","v":0},null,null,null,null,null,7,1.65,-7,{"$f":"Z$3-3.5*Z$3/6","v":3.333333333333333},1000,{"$f":"AB3","v":2},1000,{"$f":"AD3","v":4},10,{"$f":"AF$3-4*AF$3/6","v":0.66666666666666674},{"$f":"AG10-5","v":-5},{"$f":"AH$3-AH$3/6","v":1.6666666666666667},7,0]
[0,"/ 20",{"$f":"Tableau10[[#This Row],[CLASSE]]","v":"Caméllia"},{"$f":"VLOOKUP(C10,Tableau10[[CLASSE]:[CLASSEMENT8]],2,FALSE)","v":7},{"$f":"VLOOKUP(D10,NOTECYCLE!$W$3:$X$42,2,TRUE)","v":1.65},{"$f":"Tableau10[[#This Row],[Nombre de matchs joués]]","v":0},{"$f":"VLOOKUP(F10,NOTECYCLE!$Y$3:$Z$42,2,TRUE)","v":8},{"$f":"Tableau10[[#This Row],[Nombre de victoires]]","v":0},{"$f":"VLOOKUP(H10,NOTECYCLE!$AA$3:$AB$42,2,TRUE)","v":2},{"$f":"Tableau10[[#This Row],[Nombre de points marqués]]","v":0},{"$f":"VLOOKUP(J10,NOTECYCLE!$AC$3:$AD$42,2,TRUE)","v":4},{"$f":"Tableau10[[#This Row],[Nombre de points encaissés]]","v":0},{"$f":"VLOOKUP(L10,NOTECYCLE!$AE$3:$AF$42,2,TRUE)","v":2},{"$f":"Tableau10[[#This Row],[Nombre de points thèmes]]","v":0},{"$f":"VLOOKUP(N10,NOTECYCLE!$AG$3:$AH$42,2,TRUE)","v":2},{"$f":"Tableau10[[#This Row],[MOYENNE CLASSEMENTS]]","v":8.5},{"$f":"VLOOKUP(P10,NOTECYCLE!$AI$3:$AJ$42,2,TRUE)","v":0},null,null,null,null,null,8,1.6,-6,{"$f":"Z$3-3*Z$3/6","v":4},null,null,null,null,11,{"$f":"AF$3-5*AF$3/6","v":0.33333333333333326},{"$f":"AG3","v":0},{"$f":"AH3","v":2},8,0]
[0,"/ 20",{"$f":"Tableau10[[#This Row],[CLASSE]]","v":"Carole"},{"$f":"VLOOKUP(C11,Tableau10[[CLASSE]:[CLASSEMENT8]],2,FALSE)","v":8},{"$f":"VLOOKUP(D11,NOTECYCLE!$W$3:$X$42,2,TRUE)","v":1.6},{"$f":"Tableau10[[#This Row],[Nombre de matchs joués]]","v":0},{"$f":"VLOOKUP(F11,NOTECYCLE!$Y$3:$Z$42,2,TRUE)","v":8},{"$f":"Tableau10[[#This Row],[Nombre de victoires]]","v":0},{"$f":"VLOOKUP(H11,NOTECYCLE!$AA$3:$AB$42,2,TRUE)","v":2},{"$f":"Tableau10[[#This Row],[Nombre de points marqués]]","v":0},{"$f":"VLOOKUP(J11,NOTECYCLE!$AC$3:$AD$42,2,TRUE)","v":4},{"$f":"Tableau10[[#This Row],[Nombre de points encaissés]]","v":0},{"$f":"VLOOKUP(L11,NOTECYCLE!$AE$3:$AF$42,2,TRUE)","v":2},{"$f":"Tableau10[[#This Row],[Nombre de points thèmes]]","v":0},{"$f":"VLOOKUP(N11,NOTECYCLE!$AG$3:$AH$42,2,TRUE)","v":2},{"$f":"Tableau10[[#This Row],[MOYENNE CLASSEMENTS]]","v":8.6666666666666661},{"$f":"VLOOKUP(P11,NOTECYCLE!$AI$3:$AJ$42,2,TRUE)","v":0},null,null,null,null,null,9,1.55,-5,{"$f":"Z$3-2.5*Z$3/6","v":4.6666666666666661},null,null,null,null,1000,{"$f":"AF$3-6*AF$3/6","v":0},1000,{"$f":"AH3","v":2},9,0]
[0,"/ 20",{"$f":"Tableau10[[#This Row],[CLASSE]]","v":"Caroline"},{"$f":"VLOOKUP(C12,Tableau10[[CLASSE]:[CLASSEMENT8]],2,FALSE)","v":9},{"$f":"VLOOKUP(D12,NOTECYCLE!$W$3:$X$42,2,TRUE)","v":1.55},{"$f":"Tableau10[[#This Row],[Nombre de matchs joués]]","v":0},{"$f":"VLOOKUP(F12,NOTECYCLE!$Y$3:$Z$42,2,TRUE)","v":8},{"$f":"Tableau10[[#This Row],[Nombre de victoires]]","v":0},{"$f":"VLOOKUP(H12,NOTECYCLE!$AA$3:$AB$42,2,TRUE)","v":2},{"$f":"Tableau10[[#This Row],[Nombre de points marqués]]","v":0},{"$f":"VLOOKUP(J12,NOTECYCLE!$AC$3:$AD$42,2,TRUE)","v":4},{"$f":"Tableau10[[#This Row],[Nombre de points encaissés]]","v":0},{"$f":"VLOOKUP(L12,NOTECYCLE!$AE$3:$AF$42,2,TRUE)","v":2},{"$f":"Tableau10[[#This Row],[Nombre de points thèmes]]","v":0},{"$f":"VLOOKUP(N12,NOTECYCLE!$AG$3:$AH$42,2,TRUE)","v":2},{"$f":"Tableau10[[#This Row],[MOYENNE CLASSEMENTS]]","v":8.8333333333333339},{"$f":"VLOOKUP(P12,NOTECYCLE!$AI$3:$AJ$42,2,TRUE)","v":0},null,null,null,null,null,10,1.5,-4,{"$f":"Z$3-2*Z$3/6","v":5.3333333333333339},null,null,null,null,null,null,null,null,10,0]
[0,"/ 20",{"$f":"Tableau10[[#This Row],[CLASSE]]","v":"Dicko"},{"$f":"VLOOKUP(C13,Tableau10[[CLASSE]:[CLASSEMENT8]],2,FALSE)","v":10},{"$f":"VLOOKUP(D13,NOTECYCLE!$W$3:$X$42,2,TRUE)","v":1.5},{"$f":"Tableau10[[#This Row],[Nombre de matchs joués]]","v":0},{"$f":"VLOOKUP(F13,NOTECYCLE!$Y$3:$Z$42,2,TRUE)","v":8},{"$f":"Tableau10[[#This Row],[Nombre de victoires]]","v":0},{"$f":"VLOOKUP(H13,NOTECYCLE!$AA$3:$AB$42,2,TRUE)","v":2},{"$f":"Tableau10[[#This Row],[Nombre de points marqués]]","v":0},{"$f":"VLOOKUP(J13,NOTECYCLE!$AC$3:$AD$42,2,TRUE)","v":4},{"$f":"Tableau10[[#This Row],[Nombre de points encaissés]]","v":0},{"$f":"VLOOKUP(L13,NOTECYCLE!$AE$3:$AF$42,2,TRUE)","v":2},{"$f":"Tableau10[[#This Row],[Nombre de points thèmes]]","v":0},{"$f":"VLOOKUP(N13,NOTECYCLE!$AG$3:$AH$42,2,TRUE)","v":2},{"$f":"Tableau10[[#This Row],[MOYENNE CLASSEMENTS]]","v":9},{"$f":"VLOOKUP(P13,NOTECYCLE!$AI$3:$AJ$42,2,TRUE)","v":0},null,null,null,null,null,11,1.45,-3,{"$f":"Z$3-1.5*Z$3/6","v":6},null,null,null,null,null,null,null,null,11,0]
[0,"/ 20",{"$f":"Tableau10[[#This Row],[CLASSE]]","v":"Dirvine"},{"$f":"VLOOKUP(C14,Tableau10[[CLASSE]:[CLASSEMENT8]],2,FALSE)","v":11},{"$f":"VLOOKUP(D14,NOTECYCLE!$W$3:$X$42,2,TRUE)","v":1.45},{"$f":"Tableau10[[#This Row],[Nombre de matchs joués]]","v":0},{"$f":"VLOOKUP(F14,NOTECYCLE!$Y$3:$Z$42,2,TRUE)","v":8},{"$f":"Tableau10[[#This Row],[Nombre de victoires]]","v":0},{"$f":"VLOOKUP(H14,NOTECYCLE!$AA$3:$AB$42,2,TRUE)","v":2},{"$f":"Tableau10[[#This Row],[Nombre de points marqués]]","v":0},{"$f":"VLOOKUP(J14,NOTECYCLE!$AC$3:$AD$42,2,TRUE)","v":4},{"$f":"Tableau10[[#This Row],[Nombre de points encaissés]]","v":0},{"$f":"VLOOKUP(L14,NOTECYCLE!$AE$3:$AF$42,2,TRUE)","v":2},{"$f":"Tableau10[[#This Row],[Nombre de points thèmes]]","v":0},{"$f":"VLOOKUP(N14,NOTECYCLE!$AG$3:$AH$42,2,TRUE)","v":2},{"$f":"Tableau10[[#This Row],[MOYENNE CLASSEMENTS]]","v":9.1666666666666661},{"$f":"VLOOKUP(P14,NOTECYCLE!$AI$3:$AJ$42,2,TRUE)","v":0},null,null,null,null,null,12,1.4,-2,{"$f":"Z$3-Z$3/6","v":6.666666666666667},null,null,null,null,null,null,null,null,12,0]
[0,"/ 20",{"$f":"Tableau10[[#This Row],[CLASSE]]","v":"Dora"},{"$f":"VLOOKUP(C15,Tableau10[[CLASSE]:[CLASSEMENT8]],2,FALSE)","v":12},{"$f":"VLOOKUP(D15,NOTECYCLE!$W$3:$X$42,2,TRUE)","v":1.4},{"$f":"Tableau10[[#This Row],[Nombre de matchs joués]]","v":0},{"$f":"VLOOKUP(F15,NOTECYCLE!$Y$3:$Z$42,2,TRUE)","v":8},{"$f":"Tableau10[[#This Row],[Nombre de victoires]]","v":0},{"$f":"VLOOKUP(H15,NOTECYCLE!$AA$3:$AB$42,2,TRUE)","v":2},{"$f":"Tableau10[[#This Row],[Nombre de points marqués]]","v":0},{"$f":"VLOOKUP(J15,NOTECYCLE!$AC$3:$AD$42,2,TRUE)","v":4},{"$f":"Tableau10[[#This Row],[Nombre de points encaissés]]","v":0},{"$f":"VLOOKUP(L15,NOTECYCLE!$AE$3:$AF$42,2,TRUE)","v":2},{"$f":"Tableau10[[#This Row],[Nombre de points thèmes]]","v":0},{"$f":"VLOOKUP(N15,NOTECYCLE!$AG$3:$AH$42,2,TRUE)","v":2},{"$f":"Tableau10[[#This Row],[MOYENNE CLASSEMENTS]]","v":9.3333333333333339},{"$f":"VLOOKUP(P15,NOTECYCLE!$AI$3:$AJ$42,2,TRUE)","v":0},null,null,null,null,null,13,1.35,-1,{"$f":"Z$3-0.5*Z$3/6","v":7.333333333333333},null,null,null,null,null,null,null,null,13,0]
[0,"/ 20",{"$f":"Tableau10[[#This Row],[CLASSE]]","v":"Elyna"},{"$f":"VLOOKUP(C16,Tableau10[[CLASSE]:[CLASSEMENT8]],2,FALSE)","v":13},{"$f":"VLOOKUP(D16,NOTECYCLE!$W$3:$X$42,2,TRUE)","v":1.35},{"$f":"Tableau10[[#This Row],[Nombre de matchs joués]]","v":0},{"$f":"VLOOKUP(F16,NOTECYCLE!$Y$3:$Z$42,2,TRUE)","v":8},{"$f":"Tableau10[[#This Row],[Nombre de victoires]]","v":0},{"$f":"VLOOKUP(H16,NOTECYCLE!$AA$3:$AB$42,2,TRUE)","v":2},{"$f":"Tableau10[[#This Row],[Nombre de points marqués]]","v":0},{"$f":"VLOOKUP(J16,NOTECYCLE!$AC$3:$AD$42,2,TRUE)","v":4},{"$f":"Tableau10[[#This Row],[Nombre de points encaissés]]","v":0},{"$f":"VLOOKUP(L16,NOTECYCLE!$AE$3:$AF$42,2,TRUE)","v":2},{"$f":"Tableau10[[#This Row],[Nombre de points thèmes]]","v":0},{"$f":"VLOOKUP(N16,NOTECYCLE!$AG$3:$AH$42,2,TRUE)","v":2},{"$f":"Tableau10[[#This Row],[MOYENNE CLASSEMENTS]]","v":9.5},{"$f":"VLOOKUP(P16,NOTECYCLE!$AI$3:$AJ$42,2,TRUE)","v":0},null,null,null,null,null,14,1.3,{"$f":"Y3","v":0},{"$f":"Z3","v":8},null,null,null,null,null,null,null,null,14,0]
[0,"/ 20",{"$f":"Tableau10[[#This Row],[CLASSE]]","v":"Enzo"},{"$f":"VLOOKUP(C17,Tableau10[[CLASSE]:[CLASSEMENT8]],2,FALSE)","v":14},{"$f":"VLOOKUP(D17,NOTECYCLE!$W$3:$X$42,2,TRUE)","v":1.3},{"$f":"Tableau10[[#This Row],[Nombre de matchs joués]]","v":0},{"$f":"VLOOKUP(F17,NOTECYCLE!$Y$3:$Z$42,2,TRUE)","v":8},{"$f":"Tableau10[[#This Row],[Nombre de victoires]]","v":0},{"$f":"VLOOKUP(H17,NOTECYCLE!$AA$3:$AB$42,2,TRUE)","v":2},{"$f":"Tableau10[[#This Row],[Nombre de points marqués]]","v":0},{"$f":"VLOOKUP(J17,NOTECYCLE!$AC$3:$AD$42,2,TRUE)","v":4},{"$f":"Tableau10[[#This Row],[Nombre de points encaissés]]","v":0},{"$f":"VLOOKUP(L17,NOTECYCLE!$AE$3:$AF$42,2,TRUE)","v":2},{"$f":"Tableau10[[#This Row],[Nombre de points thèmes]]","v":0},{"$f":"VLOOKUP(N17,NOTECYCLE!$AG$3:$AH$42,2,TRUE)","v":2},{"$f":"Tableau10[[#This Row],[MOYENNE CLASSEMENTS]]","v":9.6666666666666661},{"$f":"VLOOKUP(P17,NOTECYCLE!$AI$3:$AJ$42,2,TRUE)","v":0},null,null,null,null,null,15,1.25,1000,{"$f":"Z3","v":8},null,null,null,null,null,null,null,null,15,0]
[0,"/ 20",{"$f":"Tableau10[[#This Row],[CLASSE]]","v":"Faoulat"},{"$f":"VLOOKUP(C18,Tableau10[[CLASSE]:[CLASSEMENT8]],2,FALSE)","v":15},{"$f":"VLOOKUP(D18,NOTECYCLE!$W$3:$X$42,2,TRUE)","v":1.25},{"$f":"Tableau10[[#This Row],[Nombre de matchs joués]]","v":0},{"$f":"VLOOKUP(F18,NOTECYCLE!$Y$3:$Z$42,2,TRUE)","v":8},{"$f":"Tableau10[[#This Row],[Nombre de victoires]]","v":0},{"$f":"VLOOKUP(H18,NOTECYCLE!$AA$3:$AB$42,2,TRUE)","v":2},{"$f":"Tableau10[[#This Row],[Nombre de points marqués]]","v":0},{"$f":"VLOOKUP(J18,NOTECYCLE!$AC$3:$AD$42,2,TRUE)","v":4},{"$f":"Tableau10[[#This Row],[Nombre de points encaissés]]","v":0},{"$f":"VLOOKUP(L18,NOTECYCLE!$AE$3:$AF$42,2,TRUE)","v":2},{"$f":"Tableau10[[#This Row],[Nombre de points thèmes]]","v":0},{"$f":"VLOOKUP(N18,NOTECYCLE!$AG$3:$AH$42,2,TRUE)","v":2},{"$f":"Tableau10[[#This Row],[MOYENNE CLASSEMENTS]]","v":9.8333333333333339},{"$f":"VLOOKUP(P18,NOTECYCLE!$AI$3:$AJ$42,2,TRUE)","v":0},null,null,null,null,null,16,1.2,null,null,null,null,null,null,null,null,null,null,16,0]
[0,"/ 20",{"$f":"Tableau10[[#This Row],[CLASSE]]","v":"Hadidja"},{"$f":"VLOOKUP(C19,Tableau10[[CLASSE]:[CLASSEMENT8]],2,FALSE)","v":16},{"$f":"VLOOKUP(D19,NOTECYCLE!$W$3:$X$42,2,TRUE)","v":1.2},{"$f":"Tableau10[[#This Row],[Nombre de matchs joués]]","v":0},{"$f":"VLOOKUP(F19,NOTECYCLE!$Y$3:$Z$42,2,TRUE)","v":8},{"$f":"Tableau10[[#This Row],[Nombre de victoires]]","v":0},{"$f":"VLOOKUP(H19,NOTECYCLE!$AA$3:$AB$42,2,TRUE)","v":2},{"$f":"Tableau10[[#This Row],[Nombre de points marqués]]","v":0},{"$f":"VLOOKUP(J19,NOTECYCLE!$AC$3:$AD$42,2,TRUE)","v":4},{"$f":"Tableau10[[#This Row],[Nombre de points encaissés]]","v":0},{"$f":"VLOOKUP(L19,NOTECYCLE!$AE$3:$AF$42,2,TRUE)","v":2},{"$f":"Tableau10[[#This Row],[Nombre de points thèmes]]","v":0},{"$f":"VLOOKUP(N19,NOTECYCLE!$AG$3:$AH$42,2,TRUE)","v":2},{"$f":"Tableau10[[#This Row],[MOYENNE CLASSEMENTS]]","v":10},{"$f":"VLOOKUP(P19,NOTECYCLE!$AI$3:$AJ$42,2,TRUE)","v":0},null,null,null,null,null,17,1.1499999999999999,null,null,null,null,null,null,null,null,null,null,17,0]
[0,"/ 20",{"$f":"Tableau10[[#This Row],[CLASSE]]","v":"herbert"},{"$f":"VLOOKUP(C20,Tableau10[[CLASSE]:[CLASSEMENT8]],2,FALSE)","v":17},{"$f":"VLOOKUP(D20,NOTECYCLE!$W$3:$X$42,2,TRUE)","v":1.1499999999999999},{"$f":"Tableau10[[#This Row],[Nombre de matchs joués]]","v":0},{"$f":"VLOOKUP(F20,NOTECYCLE!$Y$3:$Z$42,2,TRUE)","v":8},{"$f":"Tableau10[[#This Row],[Nombre de victoires]]","v":0},{"$f":"VLOOKUP(H20,NOTECYCLE!$AA$3:$AB$42,2,TRUE)","v":2},{"$f":"Tableau10[[#This Row],[Nombre de points marqués]]","v":0},{"$f":"VLOOKUP(J20,NOTECYCLE!$AC$3:$AD$42,2,TRUE)","v":4},{"$f":"Tableau10[[#This Row],[Nombre de points encaissés]]","v":0},{"$f":"VLOOKUP(L20,NOTECYCLE!$AE$3:$AF$42,2,TRUE)","v":2},{"$f":"Tableau10[[#This Row],[Nombre de points thèmes]]","v":0},{"$f":"VLOOKUP(N20,NOTECYCLE!$AG$3:$AH$42,2,TRUE)","v":2},{"$f":"Tableau10[[#This Row],[MOYENNE CLASSEMENTS]]","v":10.166666666666666},{"$f":"VLOOKUP(P20,NOTECYCLE!$AI$3:$AJ$42,2,TRUE)","v":0},null,null,null,null,null,18,1.1000000000000001,null,null,null,null,null,null,null,null,null,null,18,0]
[0,"/ 20",{"$f":"Tableau10[[#This Row],[CLASSE]]","v":"Houaïda"},{"$f":"VLOOKUP(C21,Tableau10[[CLASSE]:[CLASSEMENT8]],2,FALSE)","v":18},{"$f":"VLOOKUP(D21,NOTECYCLE!$W$3:$X$42,2,TRUE)","v":1.1000000000000001},{"$f":"Tableau10[[#This Row],[Nombre de matchs joués]]","v":0},{"$f":"VLOOKUP(F21,NOTECYCLE!$Y$3:$Z$42,2,TRUE)","v":8},{"$f":"Tableau10[[#This Row],[Nombre de victoires]]","v":0},{"$f":"VLOOKUP(H21,NOTECYCLE!$AA$3:$AB$42,2,TRUE)","v":2},{"$f":"Tableau10[[#This Row],[Nombre de points marqués]]","v":0},{"$f":"VLOOKUP(J21,NOTECYCLE!$AC$3:$AD$42,2,TRUE)","v":4},{"$f":"Tableau10[[#This Row],[Nombre de points encaissés]]","v":0},{"$f":"VLOOKUP(L21,NOTECYCLE!$AE$3:$AF$42,2,TRUE)","v":2},{"$f":"Tableau10[[#This Row],[Nombre de points thèmes]]","v":0},{"$f":"VLOOKUP(N21,NOTECYCLE!$AG$3:$AH$42,2,TRUE)","v":2},{"$f":"Tableau10[[#This Row],[MOYENNE CLASSEMENTS]]","v":10.333333333333334},{"$f":"VLOOKUP(P21,NOTECYCLE!$AI$3:$AJ$42,2,TRUE)","v":0},null,null,null,null,null,19,1.05,null,null,null,null,null,null,null,null,null,null,19,0]
[0,"/ 20",{"$f":"Tableau10[[#This Row],[CLASSE]]","v":"Jade"},{"$f":"VLOOKUP(C22,Tableau10[[CLASSE]:[CLASSEMENT8]],2,FALSE)","v":19},{"$f":"VLOOKUP(D22,NOTECYCLE!$W$3:$X$42,2,TRUE)","v":1.05},{"$f":"Tableau10[[#This Row],[Nombre de matchs joués]]","v":0},{"$f":"VLOOKUP(F22,NOTECYCLE!$Y$3:$Z$42,2,TRUE)","v":8},{"$f":"Tableau10[[#This Row],[Nombre de victoires]]","v":0},{"$f":"VLOOKUP(H22,NOTECYCLE!$AA$3:$AB$42,2,TRUE)","v":2},{"$f":"Tableau10[[#This Row],[Nombre de points marqués]]","v":0},{"$f":"VLOOKUP(J22,NOTECYCLE!$AC$3:$AD$42,2,TRUE)","v":4},{"$f":"Tableau10[[#This Row],[Nombre de points encaissés]]","v":0},{"$f":"VLOOKUP(L22,NOTECYCLE!$AE$3:$AF$42,2,TRUE)","v":2},{"$f":"Tableau10[[#This Row],[Nombre de points thèmes]]","v":0},{"$f":"VLOOKUP(N22,NOTECYCLE!$AG$3:$AH$42,2,TRUE)","v":2},{"$f":"Tableau10[[#This Row],[MOYENNE CLASSEMENTS]]","v":10.5},{"$f":"VLOOKUP(P22,NOTECYCLE!$AI$3:$AJ$42,2,TRUE)","v":0},null,null,null,null,null,20,1,null,null,null,null,null,null,null,null,null,null,20,0]
[0,"/ 20",{"$f":"Tableau10[[#This Row],[CLASSE]]","v":"Johvany"},{"$f":"VLOOKUP(C23,Tableau10[[CLASSE]:[CLASSEMENT8]],2,FALSE)","v":20},{"$f":"VLOOKUP(D23,NOTECYCLE!$W$3:$X$42,2,TRUE)","v":1},{"$f":"Tableau10[[#This Row],[Nombre de matchs joués]]","v":0},{"$f":"VLOOKUP(F23,NOTECYCLE!$Y$3:$Z$42,2,TRUE)","v":8},{"$f":"Tableau10[[#This Row],[Nombre de victoires]]","v":0},{"$f":"VLOOKUP(H23,NOTECYCLE!$AA$3:$AB$42,2,TRUE)","v":2},{"$f":"Tableau10[[#This Row],[Nombre de points marqués]]","v":0},{"$f":"VLOOKUP(J23,NOTECYCLE!$AC$3:$AD$42,2,TRUE)","v":4},{"$f":"Tableau10[[#This Row],[Nombre de points encaissés]]","v":0},{"$f":"VLOOKUP(L23,NOTECYCLE!$AE$3:$AF$42,2,TRUE)","v":2},{"$f":"Tableau10[[#This Row],[Nombre de points thèmes]]","v":0},{"$f":"VLOOKUP(N23,NOTECYCLE!$AG$3:$AH$42,2,TRUE)","v":2},{"$f":"Tableau10[[#This Row],[MOYENNE CLASSEMENTS]]","v":10.666666666666666},{"$f":"VLOOKUP(P23,NOTECYCLE!$AI$3:$AJ$42,2,TRUE)","v":0},null,null,null,null,null,21,0.95,null,null,null,null,null,null,null,null,null,null,21,0]
[0,"/ 20",{"$f":"Tableau10[[#This Row],[CLASSE]]","v":"Lina"},{"$f":"VLOOKUP(C24,Tableau10[[CLASSE]:[CLASSEMENT8]],2,FALSE)","v":21},{"$f":"VLOOKUP(D24,NOTECYCLE!$W$3:$X$42,2,TRUE)","v":0.95},{"$f":"Tableau10[[#This Row],[Nombre de matchs joués]]","v":0},{"$f":"VLOOKUP(F24,NOTECYCLE!$Y$3:$Z$42,2,TRUE)","v":8},{"$f":"Tableau10[[#This Row],[Nombre de victoires]]","v":0},{"$f":"VLOOKUP(H24,NOTECYCLE!$AA$3:$AB$42,2,TRUE)","v":2},{"$f":"Tableau10[[#This Row],[Nombre de points marqués]]","v":0},{"$f":"VLOOKUP(J24,NOTECYCLE!$AC$3:$AD$42,2,TRUE)","v":4},{"$f":"Tableau10[[#This Row],[Nombre de points encaissés]]","v":0},{"$f":"VLOOKUP(L24,NOTECYCLE!$AE$3:$AF$42,2,TRUE)","v":2},{"$f":"Tableau10[[#This Row],[Nombre de points thèmes]]","v":0},{"$f":"VLOOKUP(N24,NOTECYCLE!$AG$3:$AH$42,2,TRUE)","v":2},{"$f":"Tableau10[[#This Row],[MOYENNE CLASSEMENTS]]","v":10.833333333333334},{"$f":"VLOOKUP(P24,NOTECYCLE!$AI$3:$AJ$42,2,TRUE)","v":0},null,null,null,null,null,22,0.89999999999999991,null,null,null,null,null,null,null,null,null,null,22,0]
[0,"/ 20",{"$f":"Tableau10[[#This Row],[CLASSE]]","v":"Lydia"},{"$f":"VLOOKUP(C25,Tableau10[[CLASSE]:[CLASSEMENT8]],2,FALSE)","v":22},{"$f":"VLOOKUP(D25,NOTECYCLE!$W$3:$X$42,2,TRUE)","v":0.89999999999999991},{"$f":"Tableau10[[#This Row],[Nombre de matchs joués]]","v":0},{"$f":"VLOOKUP(F25,NOTECYCLE!$Y$3:$Z$42,2,TRUE)","v":8},{"$f":"Tableau10[[#This Row],[Nombre de victoires]]","v":0},{"$f":"VLOOKUP(H25,NOTECYCLE!$AA$3:$AB$42,2,TRUE)","v":2},{"$f":"Tableau10[[#This Row],[Nombre de points marqués]]","v":0},{"$f":"VLOOKUP(J25,NOTECYCLE!$AC$3:$AD$42,2,TRUE)","v":4},{"$f":"Tableau10[[#This Row],[Nombre de points encaissés]]","v":0},{"$f":"VLOOKUP(L25,NOTECYCLE!$AE$3:$AF$42,2,TRUE)","v":2},{"$f":"Tableau10[[#This Row],[Nombre de points thèmes]]","v":0},{"$f":"VLOOKUP(N25,NOTECYCLE!$AG$3:$AH$42,2,TRUE)","v":2},{"$f":"Tableau10[[#This Row],[MOYENNE CLASSEMENTS]]","v":11},{"$f":"VLOOKUP(P25,NOTECYCLE!$AI$3:$AJ$42,2,TRUE)","v":0},null,null,null,null,null,23,0.85000000000000009,null,null,null,null,null,null,null,null,null,null,23,0]
[0,"/ 20",{"$f":"Tableau10[[#This Row],[CLASSE]]","v":"Maëva"},{"$f":"VLOOKUP(C26,Tableau10[[CLASSE]:[CLASSEMENT8]],2,FALSE)","v":23},{"$f":"VLOOKUP(D26,NOTECYCLE!$W$3:$X$42,2,TRUE)","v":0.85000000000000009},{"$f":"Tableau10[[#This Row],[Nombre de matchs joués]]","v":0},{"$f":"VLOOKUP(F26,NOTECYCLE!$Y$3:$Z$42,2,TRUE)","v":8},{"$f":"Tableau10[[#This Row],[Nombre de victoires]]","v":0},{"$f":"VLOOKUP(H26,NOTECYCLE!$AA$3:$AB$42,2,TRUE)","v":2},{"$f":"Tableau10[[#This Row],[Nombre de points marqués]]","v":0},{"$f":"VLOOKUP(J26,NOTECYCLE!$AC$3:$AD$42,2,TRUE)","v":4},{"$f":"Tableau10[[#This Row],[Nombre de points encaissés]]","v":0},{"$f":"VLOOKUP(L26,NOTECYCLE!$AE$3:$AF$42,2,TRUE)","v":2},{"$f":"Tableau10[[#This Row],[Nombre de points thèmes]]","v":0},{"$f":"VLOOKUP(N26,NOTECYCLE!$AG$3:$AH$42,2,TRUE)","v":2},{"$f":"Tableau10[[#This Row],[MOYENNE CLASSEMENTS]]","v":11.166666666666666},{"$f":"VLOOKUP(P26,NOTECYCLE!$AI$3:$AJ$42,2,TRUE)","v":0},null,null,null,null,null,24,0.8,null,null,null,null,null,null,null,null,null,null,24,0]
[0,"/ 20",{"$f":"Tableau10[[#This Row],[CLASSE]]","v":"Maïssa"},{"$f":"VLOOKUP(C27,Tableau10[[CLASSE]:[CLASSEMENT8]],2,FALSE)","v":24},{"$f":"VLOOKUP(D27,NOTECYCLE!$W$3:$X$42,2,TRUE)","v":0.8},{"$f":"Tableau10[[#This Row],[Nombre de matchs joués]]","v":0},{"$f":"VLOOKUP(F27,NOTECYCLE!$Y$3:$Z$42,2,TRUE)","v":8},{"$f":"Tableau10[[#This Row],[Nombre de victoires]]","v":0},{"$f":"VLOOKUP(H27,NOTECYCLE!$AA$3:$AB$42,2,TRUE)","v":2},{"$f":"Tableau10[[#This Row],[Nombre de points marqués]]","v":0},{"$f":"VLOOKUP(J27,NOTECYCLE!$AC$3:$AD$42,2,TRUE)","v":4},{"$f":"Tableau10[[#This Row],[Nombre de points encaissés]]","v":0},{"$f":"VLOOKUP(L27,NOTECYCLE!$AE$3:$AF$42,2,TRUE)","v":2},{"$f":"Tableau10[[#This Row],[Nombre de points thèmes]]","v":0},{"$f":"VLOOKUP(N27,NOTECYCLE!$AG$3:$AH$42,2,TRUE)","v":2},{"$f":"Tableau10[[#This Row],[MOYENNE CLASSEMENTS]]","v":11.333333333333334},{"$f":"VLOOKUP(P27,NOTECYCLE!$AI$3:$AJ$42,2,TRUE)","v":0},null,null,null,null,null,25,0.75,null,null,null,null,null,null,null,null,null,null,25,0]
[0,"/ 20",{"$f":"Tableau10[[#This Row],[CLASSE]]","v":"Megi"},{"$f":"VLOOKUP(C28,Tableau10[[CLASSE]:[CLASSEMENT8]],2,FALSE)","v":25},{"$f":"VLOOKUP(D28,NOTECYCLE!$W$3:$X$42,2,TRUE)","v":0.75},{"$f":"Tableau10[[#This Row],[Nombre de matchs joués]]","v":0},{"$f":"VLOOKUP(F28,NOTECYCLE!$Y$3:$Z$42,2,TRUE)","v":8},{"$f":"Tableau10[[#This Row],[Nombre de victoires]]","v":0},{"$f":"VLOOKUP(H28,NOTECYCLE!$AA$3:$AB$42,2,TRUE)","v":2},{"$f":"Tableau10[[#This Row],[Nombre de points marqués]]","v":0},{"$f":"VLOOKUP(J28,NOTECYCLE!$AC$3:$AD$42,2,TRUE)","v":4},{"$f":"Tableau10[[#This Row],[Nombre de points encaissés]]","v":0},{"$f":"VLOOKUP(L28,NOTECYCLE!$AE$3:$AF$42,2,TRUE)","v":2},{"$f":"Tableau10[[#This Row],[Nombre de points thèmes]]","v":0},{"$f":"VLOOKUP(N28,NOTECYCLE!$AG$3:$AH$42,2,TRUE)","v":2},{"$f":"Tableau10[[#This Row],[MOYENNE CLASSEMENTS]]","v":11.5},{"$f":"VLOOKUP(P28,NOTECYCLE!$AI$3:$AJ$42,2,TRUE)","v":0},null,null,null,null,null,26,0.7,null,null,null,null,null,null,null,null,null,null,26,0]
[0,"/ 20",{"$f":"Tableau10[[#This Row],[CLASSE]]","v":"paul"},{"$f":"VLOOKUP(C29,Tableau10[[CLASSE]:[CLASSEMENT8]],2,FALSE)","v":26},{"$f":"VLOOKUP(D29,NOTECYCLE!$W$3:$X$42,2,TRUE)","v":0.7},{"$f":"Tableau10[[#This Row],[Nombre de matchs joués]]","v":0},{"$f":"VLOOKUP(F29,NOTECYCLE!$Y$3:$Z$42,2,TRUE)","v":8},{"$f":"Tableau10[[#This Row],[Nombre de victoires]]","v":0},{"$f":"VLOOKUP(H29,NOTECYCLE!$AA$3:$AB$42,2,TRUE)","v":2},{"$f":"Tableau10[[#This Row],[Nombre de points marqués]]","v":0},{"$f":"VLOOKUP(J29,NOTECYCLE!$AC$3:$AD$42,2,TRUE)","v":4},{"$f":"Tableau10[[#This Row],[Nombre de points encaissés]]","v":0},{"$f":"VLOOKUP(L29,NOTECYCLE!$AE$3:$AF$42,2,TRUE)","v":2},{"$f":"Tableau10[[#This Row],[Nombre de points thèmes]]","v":0},{"$f":"VLOOKUP(N29,NOTECYCLE!$AG$3:$AH$42,2,TRUE)","v":2},{"$f":"Tableau10[[#This Row],[MOYENNE CLASSEMENTS]]","v":11.666666666666666},{"$f":"VLOOKUP(P29,NOTECYCLE!$AI$3:$AJ$42,2,TRUE)","v":0},null,null,null,null,null,27,0.64999999999999991,null,null,null,null,null,null,null,null,null,null,27,0]
[0,"/ 20",{"$f":"Tableau10[[#This Row],[CLASSE]]","v":"Saliha"},{"$f":"VLOOKUP(C30,Tableau10[[CLASSE]:[CLASSEMENT8]],2,FALSE)","v":27},{"$f":"VLOOKUP(D30,NOTECYCLE!$W$3:$X$42,2,TRUE)","v":0.64999999999999991},{"$f":"Tableau10[[#This Row],[Nombre de matchs joués]]","v":0},{"$f":"VLOOKUP(F30,NOTECYCLE!$Y$3:$Z$42,2,TRUE)","v":8},{"$f":"Tableau10[[#This Row],[Nombre de victoires]]","v":0},{"$f":"VLOOKUP(H30,NOTECYCLE!$AA$3:$AB$42,2,TRUE)","v":2},{"$f":"Tableau10[[#This Row],[Nombre de points marqués]]","v":0},{"$f":"VLOOKUP(J30,NOTECYCLE!$AC$3:$AD$42,2,TRUE)","v":4},{"$f":"Tableau10[[#This Row],[Nombre de points encaissés]]","v":0},{"$f":"VLOOKUP(L30,NOTECYCLE!$AE$3:$AF$42,2,TRUE)","v":2},{"$f":"Tableau10[[#This Row],[Nombre de points thèmes]]","v":0},{"$f":"VLOOKUP(N30,NOTECYCLE!$AG$3:$AH$42,2,TRUE)","v":2},{"$f":"Tableau10[[#This Row],[MOYENNE CLASSEMENTS]]","v":11.833333333333334},{"$f":"VLOOKUP(P30,NOTECYCLE!$AI$3:$AJ$42,2,TRUE)","v":0},null,null,null,null,null,28,0.60000000000000009,null,null,null,null,null,null,null,null,null,null,28,0]
[0,"/ 20",{"$f":"Tableau10[[#This Row],[CLASSE]]","v":"Saoussen"},{"$f":"VLOOKUP(C31,Tableau10[[CLASSE]:[CLASSEMENT8]],2,FALSE)","v":28},{"$f":"VLOOKUP(D31,NOTECYCLE!$W$3:$X$42,2,TRUE)","v":0.60000000000000009},{"$f":"Tableau10[[#This Row],[Nombre de matchs joués]]","v":0},{"$f":"VLOOKUP(F31,NOTECYCLE!$Y$3:$Z$42,2,TRUE)","v":8},{"$f":"Tableau10[[#This Row],[Nombre de victoires]]","v":0},{"$f":"VLOOKUP(H31,NOTECYCLE!$AA$3:$AB$42,2,TRUE)","v":2},{"$f":"Tableau10[[#This Row],[Nombre de points marqués]]","v":0},{"$f":"VLOOKUP(J31,NOTECYCLE!$AC$3:$AD$42,2,TRUE)","v":4},{"$f":"Tableau10[[#This Row],[Nombre de points encaissés]]","v":0},{"$f":"VLOOKUP(L31,NOTECYCLE!$AE$3:$AF$42,2,TRUE)","v":2},{"$f":"Tableau10[[#This Row],[Nombre de points thèmes]]","v":0},{"$f":"VLOOKUP(N31,NOTECYCLE!$AG$3:$AH$42,2,TRUE)","v":2},{"$f":"Tableau10[[#This Row],[MOYENNE CLASSEMENTS]]","v":12},{"$f":"VLOOKUP(P31,NOTECYCLE!$AI$3:$AJ$42,2,TRUE)","v":0},null,null,null,null,null,29,0.55000000000000004,null,null,null,null,null,null,null,null,null,null,29,0]
[0,"/ 20",{"$f":"Tableau10[[#This Row],[CLASSE]]","v":"Sarah"},{"$f":"VLOOKUP(C32,Tableau10[[CLASSE]:[CLASSEMENT8]],2,FALSE)","v":29},{"$f":"VLOOKUP(D32,NOTECYCLE!$W$3:$X$42,2,TRUE)","v":0.55000000000000004},{"$f":"Tableau10[[#This Row],[Nombre de matchs joués]]","v":0},{"$f":"VLOOKUP(F32,NOTECYCLE!$Y$3:$Z$42,2,TRUE)","v":8},{"$f":"Tableau10[[#This Row],[Nombre de victoires]]","v":0},{"$f":"VLOOKUP(H32,NOTECYCLE!$AA$3:$AB$42,2,TRUE)","v":2},{"$f":"Tableau10[[#This Row],[Nombre de points marqués]]","v":0},{"$f":"VLOOKUP(J32,NOTECYCLE!$AC$3:$AD$42,2,TRUE)","v":4},{"$f":"Tableau10[[#This Row],[Nombre de points encaissés]]","v":0},{"$f":"VLOOKUP(L32,NOTECYCLE!$AE$3:$AF$42,2,TRUE)","v":2},{"$f":"Tableau10[[#This Row],[Nombre de points thèmes]]","v":0},{"$f":"VLOOKUP(N32,NOTECYCLE!$AG$3:$AH$42,2,TRUE)","v":2},{"$f":"Tableau10[[#This Row],[MOYENNE CLASSEMENTS]]","v":12.166666666666666},{"$f":"VLOOKUP(P32,NOTECYCLE!$AI$3:$AJ$42,2,TRUE)","v":0},null,null,null,null,null,30,0.5,null,null,null,null,null,null,null,null,null,null,30,0]
[0,"/ 20",{"$f":"Tableau10[[#This Row],[CLASSE]]","v":"Shayma"},{"$f":"VLOOKUP(C33,Tableau10[[CLASSE]:[CLASSEMENT8]],2,FALSE)","v":30},{"$f":"VLOOKUP(D33,NOTECYCLE!$W$3:$X$42,2,TRUE)","v":0.5},{"$f":"Tableau10[[#This Row],[Nombre de matchs joués]]","v":0},{"$f":"VLOOKUP(F33,NOTECYCLE!$Y$3:$Z$42,2,TRUE)","v":8},{"$f":"Tableau10[[#This Row],[Nombre de victoires]]","v":0},{"$f":"VLOOKUP(H33,NOTECYCLE!$AA$3:$AB$42,2,TRUE)","v":2},{"$f":"Tableau10[[#This Row],[Nombre de points marqués]]","v":0},{"$f":"VLOOKUP(J33,NOTECYCLE!$AC$3:$AD$42,2,TRUE)","v":4},{"$f":"Tableau10[[#This Row],[Nombre de points encaissés]]","v":0},{"$f":"VLOOKUP(L33,NOTECYCLE!$AE$3:$AF$42,2,TRUE)","v":2},{"$f":"Tableau10[[#This Row],[Nombre de points thèmes]]","v":0},{"$f":"VLOOKUP(N33,NOTECYCLE!$AG$3:$AH$42,2,TRUE)","v":2},{"$f":"Tableau10[[#This Row],[MOYENNE CLASSEMENTS]]","v":12.333333333333334},{"$f":"VLOOKUP(P33,NOTECYCLE!$AI$3:$AJ$42,2,TRUE)","v":0},null,null,null,null,null,31,0.44999999999999996,null,null,null,null,null,null,null,null,null,null,31,0]
[0,"/ 20",{"$f":"Tableau10[[#This Row],[CLASSE]]","v":"Sirdt"},{"$f":"VLOOKUP(C34,Tableau10[[CLASSE]:[CLASSEMENT8]],2,FALSE)","v":31},{"$f":"VLOOKUP(D34,NOTECYCLE!$W$3:$X$42,2,TRUE)","v":0.44999999999999996},{"$f":"Tableau10[[#This Row],[Nombre de matchs joués]]","v":0},{"$f":"VLOOKUP(F34,NOTECYCLE!$Y$3:$Z$42,2,TRUE)","v":8},{"$f":"Tableau10[[#This Row],[Nombre de victoires]]","v":0},{"$f":"VLOOKUP(H34,NOTECYCLE!$AA$3:$AB$42,2,TRUE)","v":2},{"$f":"Tableau10[[#This Row],[Nombre de points marqués]]","v":0},{"$f":"VLOOKUP(J34,NOTECYCLE!$AC$3:$AD$42,2,TRUE)","v":4},{"$f":"Tableau10[[#This Row],[Nombre de points encaissés]]","v":0},{"$f":"VLOOKUP(L34,NOTECYCLE!$AE$3:$AF$42,2,TRUE)","v":2},{"$f":"Tableau10[[#This Row],[Nombre de points thèmes]]","v":0},{"$f":"VLOOKUP(N34,NOTECYCLE!$AG$3:$AH$42,2,TRUE)","v":2},{"$f":"Tableau10[[#This Row],[MOYENNE CLASSEMENTS]]","v":12.5},{"$f":"VLOOKUP(P34,NOTECYCLE!$AI$3:$AJ$42,2,TRUE)","v":0},null,null,null,null,null,32,0.39999999999999991,null,null,null,null,null,null,null,null,null,null,32,0]
[0,"/ 20",{"$f":"Tableau10[[#This Row],[CLASSE]]","v":"Soumaya"},{"$f":"VLOOKUP(C35,Tableau10[[CLASSE]:[CLASSEMENT8]],2,FALSE)","v":32},{"$f":"VLOOKUP(D35,NOTECYCLE!$W$3:$X$42,2,TRUE)","v":0.39999999999999991},{"$f":"Tableau10[[#This Row],[Nombre de matchs joués]]","v":0},{"$f":"VLOOKUP(F35,NOTECYCLE!$Y$3:$Z$42,2,TRUE)","v":8},{"$f":"Tableau10[[#This Row],[Nombre de victoires]]","v":0},{"$f":"VLOOKUP(H35,NOTECYCLE!$AA$3:$AB$42,2,TRUE)","v":2},{"$f":"Tableau10[[#This Row],[Nombre de points marqués]]","v":0},{"$f":"VLOOKUP(J35,NOTECYCLE!$AC$3:$AD$42,2,TRUE)","v":4},{"$f":"Tableau10[[#This Row],[Nombre de points encaissés]]","v":0},{"$f":"VLOOKUP(L35,NOTECYCLE!$AE$3:$AF$42,2,TRUE)","v":2},{"$f":"Tableau10[[#This Row],[Nombre de points thèmes]]","v":0},{"$f":"VLOOKUP(N35,NOTECYCLE!$AG$3:$AH$42,2,TRUE)","v":2},{"$f":"Tableau10[[#This Row],[MOYENNE CLASSEMENTS]]","v":12.666666666666666},{"$f":"VLOOKUP(P35,NOTECYCLE!$AI$3:$AJ$42,2,TRUE)","v":0},null,null,null,null,null,33,0.35000000000000009,null,null,null,null,null,null,null,null,null,null,33,0]
[0,"/ 20",{"$f":"Tableau10[[#This Row],[CLASSE]]","v":"Süeda"},{"$f":"VLOOKUP(C36,Tableau10[[CLASSE]:[CLASSEMENT8]],2,FALSE)","v":33},{"$f":"VLOOKUP(D36,NOTECYCLE!$W$3:$X$42,2,TRUE)","v":0.35000000000000009},{"$f":"Tableau10[[#This Row],[Nombre de matchs joués]]","v":0},{"$f":"VLOOKUP(F36,NOTECYCLE!$Y$3:$Z$42,2,TRUE)","v":8},{"$f":"Tableau10[[#This Row],[Nombre de victoires]]","v":0},{"$f":"VLOOKUP(H36,NOTECYCLE!$AA$3:$AB$42,2,TRUE)","v":2},{"$f":"Tableau10[[#This Row],[Nombre de points marqués]]","v":0},{"$f":"VLOOKUP(J36,NOTECYCLE!$AC$3:$AD$42,2,TRUE)","v":4},{"$f":"Tableau10[[#This Row],[Nombre de points encaissés]]","v":0},{"$f":"VLOOKUP(L36,NOTECYCLE!$AE$3:$AF$42,2,TRUE)","v":2},{"$f":"Tableau10[[#This Row],[Nombre de points thèmes]]","v":0},{"$f":"VLOOKUP(N36,NOTECYCLE!$AG$3:$AH$42,2,TRUE)","v":2},{"$f":"Tableau10[[#This Row],[MOYENNE CLASSEMENTS]]","v":12.833333333333334},{"$f":"VLOOKUP(P36,NOTECYCLE!$AI$3:$AJ$42,2,TRUE)","v":0},null,null,null,null,null,34,0.30000000000000004,null,null,null,null,null,null,null,null,null,null,34,0]
[0,"/ 20",{"$f":"Tableau10[[#This Row],[CLASSE]]","v":"Tchelsy"},{"$f":"VLOOKUP(C37,Tableau10[[CLASSE]:[CLASSEMENT8]],2,FALSE)","v":34},{"$f":"VLOOKUP(D37,NOTECYCLE!$W$3:$X$42,2,TRUE)","v":0.30000000000000004},{"$f":"Tableau10[[#This Row],[Nombre de matchs joués]]","v":0},{"$f":"VLOOKUP(F37,NOTECYCLE!$Y$3:$Z$42,2,TRUE)","v":8},{"$f":"Tableau10[[#This Row],[Nombre de victoires]]","v":0},{"$f":"VLOOKUP(H37,NOTECYCLE!$AA$3:$AB$42,2,TRUE)","v":2},{"$f":"Tableau10[[#This Row],[Nombre de points marqués]]","v":0},{"$f":"VLOOKUP(J37,NOTECYCLE!$AC$3:$AD$42,2,TRUE)","v":4},{"$f":"Tableau10[[#This Row],[Nombre de points encaissés]]","v":0},{"$f":"VLOOKUP(L37,NOTECYCLE!$AE$3:$AF$42,2,TRUE)","v":2},{"$f":"Tableau10[[#This Row],[Nombre de points thèmes]]","v":0},{"$f":"VLOOKUP(N37,NOTECYCLE!$AG$3:$AH$42,2,TRUE)","v":2},{"$f":"Tableau10[[#This Row],[MOYENNE CLASSEMENTS]]","v":13},{"$f":"VLOOKUP(P37,NOTECYCLE!$AI$3:$AJ$42,2,TRUE)","v":0},null,null,null,null,null,35,0.25,null,null,null,null,null,null,null,null,null,null,35,0]
[0,"/ 20",{"$f":"Tableau10[[#This Row],[CLASSE]]","v":"Tiago"},{"$f":"VLOOKUP(C38,Tableau10[[CLASSE]:[CLASSEMENT8]],2,FALSE)","v":35},{"$f":"VLOOKUP(D38,NOTECYCLE!$W$3:$X$42,2,TRUE)","v":0.25},{"$f":"Tableau10[[#This Row],[Nombre de matchs joués]]","v":0},{"$f":"VLOOKUP(F38,NOTECYCLE!$Y$3:$Z$42,2,TRUE)","v":8},{"$f":"Tableau10[[#This Row],[Nombre de victoires]]","v":0},{"$f":"VLOOKUP(H38,NOTECYCLE!$AA$3:$AB$42,2,TRUE)","v":2},{"$f":"Tableau10[[#This Row],[Nombre de points marqués]]","v":0},{"$f":"VLOOKUP(J38,NOTECYCLE!$AC$3:$AD$42,2,TRUE)","v":4},{"$f":"Tableau10[[#This Row],[Nombre de points encaissés]]","v":0},{"$f":"VLOOKUP(L38,NOTECYCLE!$AE$3:$AF$42,2,TRUE)","v":2},{"$f":"Tableau10[[#This Row],[Nombre de points thèmes]]","v":0},{"$f":"VLOOKUP(N38,NOTECYCLE!$AG$3:$AH$42,2,TRUE)","v":2},{"$f":"Tableau10[[#This Row],[MOYENNE CLASSEMENTS]]","v":13.166666666666666},{"$f":"VLOOKUP(P38,NOTECYCLE!$AI$3:$AJ$42,2,TRUE)","v":0},null,null,null,null,null,36,{"$f":"$X$3-$X$3*W38/$W$1","v":0.19999999999999996},null,null,null,null,null,null,null,null,null,null,36,0]
[0,"/ 20",{"$f":"Tableau10[[#This Row],[CLASSE]]","v":"Yasna"},{"$f":"VLOOKUP(C39,Tableau10[[CLASSE]:[CLASSEMENT8]],2,FALSE)","v":36},{"$f":"VLOOKUP(D39,NOTECYCLE!$W$3:$X$42,2,TRUE)","v":0.19999999999999996},{"$f":"Tableau10[[#This Row],[Nombre de matchs joués]]","v":0},{"$f":"VLOOKUP(F39,NOTECYCLE!$Y$3:$Z$42,2,TRUE)","v":8},{"$f":"Tableau10[[#This Row],[Nombre de victoires]]","v":0},{"$f":"VLOOKUP(H39,NOTECYCLE!$AA$3:$AB$42,2,TRUE)","v":2},{"$f":"Tableau10[[#This Row],[Nombre de points marqués]]","v":0},{"$f":"VLOOKUP(J39,NOTECYCLE!$AC$3:$AD$42,2,TRUE)","v":4},{"$f":"Tableau10[[#This Row],[Nombre de points encaissés]]","v":0},{"$f":"VLOOKUP(L39,NOTECYCLE!$AE$3:$AF$42,2,TRUE)","v":2},{"$f":"Tableau10[[#This Row],[Nombre de points thèmes]]","v":0},{"$f":"VLOOKUP(N39,NOTECYCLE!$AG$3:$AH$42,2,TRUE)","v":2},{"$f":"Tableau10[[#This Row],[MOYENNE CLASSEMENTS]]","v":13.333333333333334},{"$f":"VLOOKUP(P39,NOTECYCLE!$AI$3:$AJ$42,2,TRUE)","v":0},null,null,null,null,null,37,0.14999999999999991,null,null,null,null,null,null,null,null,null,null,37,0]
[0,"/ 20",{"$f":"Tableau10[[#This Row],[CLASSE]]","v":"zazi"},{"$f":"VLOOKUP(C40,Tableau10[[CLASSE]:[CLASSEMENT8]],2,FALSE)","v":37},{"$f":"VLOOKUP(D40,NOTECYCLE!$W$3:$X$42,2,TRUE)","v":0.14999999999999991},{"$f":"Tableau10[[#This Row],[Nombre de matchs joués]]","v":0},{"$f":"VLOOKUP(F40,NOTECYCLE!$Y$3:$Z$42,2,TRUE)","v":8},{"$f":"Tableau10[[#This Row],[Nombre de victoires]]","v":0},{"$f":"VLOOKUP(H40,NOTECYCLE!$AA$3:$AB$42,2,TRUE)","v":2},{"$f":"Tableau10[[#This Row],[Nombre de points marqués]]","v":0},{"$f":"VLOOKUP(J40,NOTECYCLE!$AC$3:$AD$42,2,TRUE)","v":4},{"$f":"Tableau10[[#This Row],[Nombre de points encaissés]]","v":0},{"$f":"VLOOKUP(L40,NOTECYCLE!$AE$3:$AF$42,2,TRUE)","v":2},{"$f":"Tableau10[[#This Row],[Nombre de points thèmes]]","v":0},{"$f":"VLOOKUP(N40,NOTECYCLE!$AG$3:$AH$42,2,TRUE)","v":2},{"$f":"Tableau10[[#This Row],[MOYENNE CLASSEMENTS]]","v":13.5},{"$f":"VLOOKUP(P40,NOTECYCLE!$AI$3:$AJ$42,2,TRUE)","v":0},null,null,null,null,null,38,0.10000000000000009,null,null,null,null,null,null,null,null,null,null,38,0]
[0,"/ 20",{"$f":"Tableau10[[#This Row],[CLASSE]]","v":"jacques"},{"$f":"VLOOKUP(C41,Tableau10[[CLASSE]:[CLASSEMENT8]],2,FALSE)","v":38},{"$f":"VLOOKUP(D41,NOTECYCLE!$W$3:$X$42,2,TRUE)","v":0.10000000000000009},{"$f":"Tableau10[[#This Row],[Nombre de matchs joués]]","v":0},{"$f":"VLOOKUP(F41,NOTECYCLE!$Y$3:$Z$42,2,TRUE)","v":8},{"$f":"Tableau10[[#This Row],[Nombre de victoires]]","v":0},{"$f":"VLOOKUP(H41,NOTECYCLE!$AA$3:$AB$42,2,TRUE)","v":2},{"$f":"Tableau10[[#This Row],[Nombre de points marqués]]","v":0},{"$f":"VLOOKUP(J41,NOTECYCLE!$AC$3:$AD$42,2,TRUE)","v":4},{"$f":"Tableau10[[#This Row],[Nombre de points encaissés]]","v":0},{"$f":"VLOOKUP(L41,NOTECYCLE!$AE$3:$AF$42,2,TRUE)","v":2},{"$f":"Tableau10[[#This Row],[Nombre de points thèmes]]","v":0},{"$f":"VLOOKUP(N41,NOTECYCLE!$AG$3:$AH$42,2,TRUE)","v":2},{"$f":"Tableau10[[#This Row],[MOYENNE CLASSEMENTS]]","v":13.666666666666666},{"$f":"VLOOKUP(P41,NOTECYCLE!$AI$3:$AJ$42,2,TRUE)","v":0},null,null,null,null,null,39,5.0000000000000044E-2,null,null,null,null,null,null,null,null,null,null,39,0]
[0,"/ 20",{"$f":"Tableau10[[#This Row],[CLASSE]]","v":"antoine"},{"$f":"VLOOKUP(C42,Tableau10[[CLASSE]:[CLASSEMENT8]],2,FALSE)","v":39},{"$f":"VLOOKUP(D42,NOTECYCLE!$W$3:$X$42,2,TRUE)","v":5.0000000000000044E-2},{"$f":"Tableau10[[#This Row],[Nombre de matchs joués]]","v":0},{"$f":"VLOOKUP(F42,NOTECYCLE!$Y$3:$Z$42,2,TRUE)","v":8},{"$f":"Tableau10[[#This Row],[Nombre de victoires]]","v":0},{"$f":"VLOOKUP(H42,NOTECYCLE!$AA$3:$AB$42,2,TRUE)","v":2},{"$f":"Tableau10[[#This Row],[Nombre de points marqués]]","v":0},{"$f":"VLOOKUP(J42,NOTECYCLE!$AC$3:$AD$42,2,TRUE)","v":4},{"$f":"Tableau10[[#This Row],[Nombre de points encaissés]]","v":0},{"$f":"VLOOKUP(L42,NOTECYCLE!$AE$3:$AF$42,2,TRUE)","v":2},{"$f":"Tableau10[[#This Row],[Nombre de points thèmes]]","v":0},{"$f":"VLOOKUP(N42,NOTECYCLE!$AG$3:$AH$42,2,TRUE)","v":2},{"$f":"Tableau10[[#This Row],[MOYENNE CLASSEMENTS]]","v":13.833333333333334},{"$f":"VLOOKUP(P42,NOTECYCLE!$AI$3:$AJ$42,2,TRUE)","v":0},null,null,null,null,null,40,0,null,null,null,null,null,null,null,null,null,null,40,0]
[0,"/ 20",{"$f":"Tableau10[[#This Row],[CLASSE]]","v":"Jean"},{"$f":"VLOOKUP(C43,Tableau10[[CLASSE]:[CLASSEMENT8]],2,FALSE)","v":40},{"$f":"VLOOKUP(D43,NOTECYCLE!$W$3:$X$42,2,TRUE)","v":0},{"$f":"Tableau10[[#This Row],[Nombre de matchs joués]]","v":0},{"$f":"VLOOKUP(F43,NOTECYCLE!$Y$3:$Z$42,2,TRUE)","v":8},{"$f":"Tableau10[[#This Row],[Nombre de victoires]]","v":0},{"$f":"VLOOKUP(H43,NOTECYCLE!$AA$3:$AB$42,2,TRUE)","v":2},{"$f":"Tableau10[[#This Row],[Nombre de points marqués]]","v":0},{"$f":"VLOOKUP(J43,NOTECYCLE!$AC$3:$AD$42,2,TRUE)","v":4},{"$f":"Tableau10[[#This Row],[Nombre de points encaissés]]","v":0},{"$f":"VLOOKUP(L43,NOTECYCLE!$AE$3:$AF$42,2,TRUE)","v":2},{"$f":"Tableau10[[#This Row],[Nombre de points thèmes]]","v":0},{"$f":"VLOOKUP(N43,NOTECYCLE!$AG$3:$AH$42,2,TRUE)","v":2},{"$f":"Tableau10[[#This Row],[MOYENNE CLASSEMENTS]]","v":14},{"$f":"VLOOKUP(P43,NOTECYCLE!$AI$3:$AJ$42,2,TRUE)","v":0}]