{"text_format":"1","workbook":"xlsx","n_sheets":8,"sheets":["ACCUEIL","MD1POINT","MATCHSELEVES","CLASSEMENTELEVES","NOTECYCLE","MATCHPOULENOTE","APPEL","DEBUT"],"not_rendered":{"charts":0,"images":4,"macros":1,"external_links":0,"defined_names":84,"comments":0,"pivot_tables":0},"unopened":[],"bounds":{"document_bytes":16777216,"sheet_cells":100000,"rows_first":2000,"rows_last":500,"rows_between":2000,"halvings":0,"cell_chars":16384,"cell_head_chars":4096},"cells_cut":0,"cells_raw":0,"read":"whole","date_system":"1900"}

{"sheet":"ACCUEIL","index":0,"n_rows":6,"n_cols":5,"rows_kept":6,"cut":false,"hidden":false,"merged":[]}
[]
[]
[]
[]
[null,null,null,null,"BAD "]
[null,null,null,null,"Les matchs de PHILIPPE"]

{"sheet":"MD1POINT","index":1,"n_rows":37,"n_cols":13,"rows_kept":37,"cut":false,"hidden":false,"merged":[[1,2,2,2],[1,3,2,3]]}
[]
["2ELEC-2TU",null,"ELEVES","CLASSEMENT INITIAL"]
["Nombre de tours",null,null,null,"TOUR 1","TOUR 2","TOUR 4","TOUR 5","TOUR 6","TOUR 7","TOUR 8","TOUR 9","TOUR 10"]
[{"$f":"COUNTIF(E4:M4,C4)","v":0},1,{"$f":"OFFSET(INDEX(eleves,MATCH(B4,numeros,0),MATCH($A$2,classes,0)),0,1)","v":"Achraf"},{"$f":"RANK(A4,$A$4:$A$37,0)","v":1}]
[{"$f":"COUNTIF(E5:M5,C5)","v":0},2,{"$f":"OFFSET(INDEX(eleves,MATCH(B5,numeros,0),MATCH($A$2,classes,0)),0,1)","v":"Adel"},{"$f":"RANK(A5,$A$4:$A$37,0)","v":1}]
[0,3,"Adem",1]
[0,4,"Amar",1]
[0,5,"Ayoub",1]
[0,6,"Azedine",1]
[0,7,"Bilal B.",1]
[0,8,"Bilal S.",1]
[0,9,"Djaoidou",1]
[0,10,"Fahade",1]
[0,11,"Farhane",1]
[0,12,"Faudel",1]
[0,13,"Fazil",1]
[0,14,"Hakim",1]
[0,15,"Hicham",1]
[0,16,"Hicham L.",1]
[0,17,"Jassim",1]
[0,18,"Jean Alexandre",1]
[0,19,"John",1]
[0,20,"Kail",1]
[0,21,"Malcom",1]
[0,22,"Nicolas",1]
[0,23,"Oumar",1]
[0,24,"Quintimo",1]
[0,25,"Raphaël",1]
[0,26,"Richmond",1]
[0,27,"Serdar",1]
[0,28,"Valentin",1]
[0,29,"Walid",1]
[0,30,"Willy",1]
[{"$f":"COUNTIF(E34:M34,C34)","v":0},31,{"$f":"OFFSET(INDEX(eleves,MATCH(B34,numeros,0),MATCH($A$2,classes,0)),0,1)","v":"Yahia"},1]
[0,32,"Yamine",1]
[0,33,"Yanis",1]
[0,34,"Yousri",1]

{"sheet":"MATCHSELEVES","index":2,"n_rows":485,"n_cols":33,"rows_kept":485,"cut":false,"hidden":false,"merged":[[0,19,1,22],[246,1,246,4],[246,5,246,7],[246,8,246,9],[246,10,246,12],[246,13,246,14],[246,15,246,16],[246,17,246,18],[247,1,247,4],[247,5,247,7],[247,8,247,9],[247,10,247,12],[247,13,247,14],[247,15,247,16],[247,17,247,18],[248,1,248,4],[248,5,248,7],[248,8,248,9],[248,10,248,12],[248,13,248,14],[248,15,248,16],[248,17,248,18],[243,1,243,4],[243,5,243,7],[243,8,243,9],[243,10,243,12],[243,13,243,14],[243,15,243,16],[243,17,243,18],[244,1,244,4],[244,5,244,7],[244,8,244,9],[244,10,244,12],[244,13,244,14],[244,15,244,16],[244,17,244,18],[245,1,245,4],[245,5,245,7],[245,8,245,9],[245,10,245,12],[245,13,245,14],[245,15,245,16],[245,17,245,18],[240,1,240,4],[240,5,240,7],[240,8,240,9],[240,10,240,12],[240,13,240,14],[240,15,240,16],[240,17,240,18],[241,1,241,4],[241,5,241,7],[241,8,241,9],[241,10,241,12],[241,13,241,14],[241,15,241,16],[241,17,241,18],[242,1,242,4],[242,5,242,7],[242,8,242,9],[242,10,242,12],[242,13,242,14],[242,15,242,16],[242,17,242,18],[237,1,237,4],[237,5,237,7],[237,8,237,9],[237,10,237,12],[237,13,237,14],[237,15,237,16],[237,17,237,18],[238,1,238,4],[238,5,238,7],[238,8,238,9],[238,10,238,12],[238,13,238,14],[238,15,238,16],[238,17,238,18],[239,1,239,4],[239,5,239,7],[239,8,239,9],[239,10,239,12],[239,13,239,14],[239,15,239,16],[239,17,239,18],[234,1,234,4],[234,5,234,7],[234,8,234,9],[234,10,234,12],[234,13,234,14],[234,15,234,16],[234,17,234,18],[235,1,235,4],[235,5,235,7],[235,8,235,9],[235,10,235,12],[235,13,235,14],[235,15,235,16],[235,17,235,18],[236,1,236,4],[236,5,236,7],[236,8,236,9],[236,10,236,12],[236,13,236,14],[236,15,236,16],[236,17,236,18],[231,1,231,4],[231,5,231,7],[231,8,231,9],[231,10,231,12],[231,13,231,14],[231,15,231,16],[231,17,231,18],[232,1,232,4],[232,5,232,7],[232,8,232,9],[232,10,232,12],[232,13,232,14],[232,15,232,16],[232,17,232,18],[233,1,233,4],[233,5,233,7],[233,8,233,9],[233,10,233,12],[233,13,233,14],[233,15,233,16],[233,17,233,18],[228,1,228,4],[228,5,228,7],[228,8,228,9],[228,10,228,12],[228,13,228,14],[228,15,228,16],[228,17,228,18],[229,1,229,4],[229,5,229,7],[229,8,229,9],[229,10,229,12],[229,13,229,14],[229,15,229,16],[229,17,229,18],[230,1,230,4],[230,5,230,7],[230,8,230,9],[230,10,230,12],[230,13,230,14],[230,15,230,16],[230,17,230,18],[225,1,225,4],[225,5,225,7],[225,8,225,9],[225,10,225,12],[225,13,225,14],[225,15,225,16],[225,17,225,18],[226,1,226,4],[226,5,226,7],[226,8,226,9],[226,10,226,12],[226,13,226,14],[226,15,226,16],[226,17,226,18],[227,1,227,4],[227,5,227,7],[227,8,227,9],[227,10,227,12],[227,13,227,14],[227,15,227,16],[227,17,227,18],[222,1,222,4],[222,5,222,7],[222,8,222,9],[222,10,222,12],[222,13,222,14],[222,15,222,16],[222,17,222,18],[223,1,223,4],[223,5,223,7],[223,8,223,9],[223,10,223,12],[223,13,223,14],[223,15,223,16],[223,17,223,18],[224,1,224,4],[224,5,224,7],[224,8,224,9],[224,10,224,12],[224,13,224,14],[224,15,224,16],[224,17,224,18],[219,1,219,4],[219,5,219,7],[219,8,219,9],[219,10,219,12],[219,13,219,14],[219,15,219,16],[219,17,219,18],[220,1,220,4],[220,5,220,7],[220,8,220,9],[220,10,220,12],[220,13,220,14],[220,15,220,16],[220,17,220,18],[221,1,221,4],[221,5,221,7],[221,8,221,9],[221,10,221,12],[221,13,221,14],[221,15,221,16],[221,17,221,18],[216,1,216,4],[216,5,216,7],[216,8,216,9],[216,10,216,12],[216,13,216,14],[216,15,216,16],[216,17,216,18],[217,1,217,4],[217,5,217,7],[217,8,217,9],[217,10,217,12],[217,13,217,14],[217,15,217,16],[217,17,217,18],[218,1,218,4],[218,5,218,7],[218,8,218,9],[218,10,218,12],[218,13,218,14],[218,15,218,16],[218,17,218,18],[213,1,213,4],[213,5,213,7],[213,8,213,9],[213,10,213,12],[213,13,213,14],[213,15,213,16],[213,17,213,18],[214,1,214,4],[214,5,214,7],[214,8,214,9],[214,10,214,12],[214,13,214,14],[214,15,214,16],[214,17,214,18],[215,1,215,4],[215,5,215,7],[215,8,215,9],[215,10,215,12],[215,13,215,14],[215,15,215,16],[215,17,215,18],[210,1,210,4],[210,5,210,7],[210,8,210,9],[210,10,210,12],[210,13,210,14],[210,15,210,16],[210,17,210,18],[211,1,211,4],[211,5,211,7],[211,8,211,9],[211,10,211,12],[211,13,211,14],[211,15,211,16],[211,17,211,18],[212,1,212,4],[212,5,212,7],[212,8,212,9],[212,10,212,12],[212,13,212,14],[212,15,212,16],[212,17,212,18],[207,1,207,4],[207,5,207,7],[207,8,207,9],[207,10,207,12],[207,13,207,14],[207,15,207,16],[207,17,207,18],[208,1,208,4],[208,5,208,7],[208,8,208,9],[208,10,208,12],[208,13,208,14],[208,15,208,16],[208,17,208,18],[209,1,209,4],[209,5,209,7],[209,8,209,9],[209,10,209,12],[209,13,209,14],[209,15,209,16],[209,17,209,18],[204,1,204,4],[204,5,204,7],[204,8,204,9],[204,10,204,12],[204,13,204,14],[204,15,204,16],[204,17,204,18],[205,1,205,4],[205,5,205,7],[205,8,205,9],[205,10,205,12],[205,13,205,14],[205,15,205,16],[205,17,205,18],[206,1,206,4],[206,5,206,7],[206,8,206,9],[206,10,206,12],[206,13,206,14],[206,15,206,16],[206,17,206,18],[201,1,201,4],[201,5,201,7],[201,8,201,9],[201,10,201,12],[201,13,201,14],[201,15,201,16],[201,17,201,18],[202,1,202,4],[202,5,202,7],[202,8,202,9],[202,10,202,12],[202,13,202,14],[202,15,202,16],[202,17,202,18],[203,1,203,4],[203,5,203,7],[203,8,203,9],[203,10,203,12],[203,13,203,14],[203,15,203,16],[203,17,203,18],[198,1,198,4],[198,5,198,7],[198,8,198,9],[198,10,198,12],[198,13,198,14],[198,15,198,16],[198,17,198,18],[199,1,199,4],[199,5,199,7],[199,8,199,9],[199,10,199,12],[199,13,199,14],[199,15,199,16],[199,17,199,18],[200,1,200,4],[200,5,200,7],[200,8,200,9],[200,10,200,12],[200,13,200,14],[200,15,200,16],[200,17,200,18],[195,1,195,4],[195,5,195,7],[195,8,195,9],[195,10,195,12],[195,13,195,14],[195,15,195,16],[195,17,195,18],[196,1,196,4],[196,5,196,7],[196,8,196,9],[196,10,196,12],[196,13,196,14],[196,15,196,16],[196,17,196,18],[197,1,197,4],[197,5,197,7],[197,8,197,9],[197,10,197,12],[197,13,197,14],[197,15,197,16],[197,17,197,18],[192,1,192,4],[192,5,192,7],[192,8,192,9],[192,10,192,12],[192,13,192,14],[192,15,192,16],[192,17,192,18],[193,1,193,4],[193,5,193,7],[193,8,193,9],[193,10,193,12],[193,13,193,14],[193,15,193,16],[193,17,193,18],[194,1,194,4],[194,5,194,7],[194,8,194,9],[194,10,194,12],[194,13,194,14],[194,15,194,16],[194,17,194,18],[189,1,189,4],[189,5,189,7],[189,8,189,9],[189,10,189,12],[189,13,189,14],[189,15,189,16],[189,17,189,18],[190,1,190,4],[190,5,190,7],[190,8,190,9],[190,10,190,12],[190,13,190,14],[190,15,190,16],[190,17,190,18],[191,1,191,4],[191,5,191,7],[191,8,191,9],[191,10,191,12],[191,13,191,14],[191,15,191,16],[191,17,191,18],[186,1,186,4],[186,5,186,7],[186,8,186,9],[186,10,186,12],[186,13,186,14],[186,15,186,16],[186,17,186,18],[187,1,187,4],[187,5,187,7],[187,8,187,9],[187,10,187,12],[187,13,187,14],[187,15,187,16],[187,17,187,18],[188,1,188,4],[188,5,188,7],[188,8,188,9],[188,10,188,12],[188,13,188,14],[188,15,188,16],[188,17,188,18],[183,1,183,4],[183,5,183,7],[183,8,183,9],[183,10,183,12],[183,13,183,14],[183,15,183,16],[183,17,183,18],[184,1,184,4],[184,5,184,7],[184,8,184,9],[184,10,184,12],[184,13,184,14],[184,15,184,16],[184,17,184,18],[185,1,185,4],[185,5,185,7],[185,8,185,9],[185,10,185,12],[185,13,185,14],[185,15,185,16],[185,17,185,18],[180,1,180,4],[180,5,180,7],[180,8,180,9],[180,10,180,12],[180,13,180,14],[180,15,180,16],[180,17,180,18],[181,1,181,4],[181,5,181,7],[181,8,181,9],[181,10,181,12],[181,13,181,14],[181,15,181,16],[181,17,181,18],[182,1,182,4],[182,5,182,7],[182,8,182,9],[182,10,182,12],[182,13,182,14],[182,15,182,16],[182,17,182,18],[177,1,177,4],[177,5,177,7],[177,8,177,9],[177,10,177,12],[177,13,177,14],[177,15,177,16],[177,17,177,18],[178,1,178,4],[178,5,178,7],[178,8,178,9],[178,10,178,12],[178,13,178,14],[178,15,178,16],[178,17,178,18],[179,1,179,4],[179,5,179,7],[179,8,179,9],[179,10,179,12],[179,13,179,14],[179,15,179,16],[179,17,179,18],[174,1,174,4],[174,5,174,7],[174,8,174,9],[174,10,174,12],[174,13,174,14],[174,15,174,16],[174,17,174,18],[175,1,175,4],[175,5,175,7],[175,8,175,9],[175,10,175,12],[175,13,175,14],[175,15,175,16],[175,17,175,18],[176,1,176,4],[176,5,176,7],[176,8,176,9],[176,10,176,12],[176,13,176,14],[176,15,176,16],[176,17,176,18],[171,1,171,4],[171,5,171,7],[171,8,171,9],[171,10,171,12],[171,13,171,14],[171,15,171,16],[171,17,171,18],[172,1,172,4],[172,5,172,7],[172,8,172,9],[172,10,172,12],[172,13,172,14],[172,15,172,16],[172,17,172,18],[173,1,173,4],[173,5,173,7],[173,8,173,9],[173,10,173,12],[173,13,173,14],[173,15,173,16],[173,17,173,18],[168,1,168,4],[168,5,168,7],[168,8,168,9],[168,10,168,12],[168,13,168,14],[168,15,168,16],[168,17,168,18],[169,1,169,4],[169,5,169,7],[169,8,169,9],[169,10,169,12],[169,13,169,14],[169,15,169,16],[169,17,169,18],[170,1,170,4],[170,5,170,7],[170,8,170,9],[170,10,170,12],[170,13,170,14],[170,15,170,16],[170,17,170,18],[165,1,165,4],[165,5,165,7],[165,8,165,9],[165,10,165,12],[165,13,165,14],[165,15,165,16],[165,17,165,18],[166,1,166,4],[166,5,166,7],[166,8,166,9],[166,10,166,12],[166,13,166,14],[166,15,166,16],[166,17,166,18],[167,1,167,4],[167,5,167,7],[167,8,167,9],[167,10,167,12],[167,13,167,14],[167,15,167,16],[167,17,167,18],[14,1,14,4],[14,5,14,7],[14,8,14,9],[14,10,14,12],[14,13,14,14],[15,1,15,4],[15,5,15,7],[15,8,15,9],[15,10,15,12],[15,13,15,14],[12,10,12,12],[12,13,12,14],[13,13,13,14],[13,10,13,12],[12,1,12,4],[12,5,12,7],[12,8,12,9],[13,1,13,4],[13,5,13,7],[13,8,13,9],[18,1,18,4],[18,5,18,7],[18,8,18,9],[18,10,18,12],[18,13,18,14],[19,1,19,4],[19,5,19,7],[19,8,19,9],[19,10,19,12],[19,13,19,14],[16,1,16,4],[16,5,16,7],[16,8,16,9],[16,10,16,12],[16,13,16,14],[17,1,17,4],[17,5,17,7],[17,8,17,9],[17,10,17,12],[17,13,17,14],[22,1,22,4],[22,5,22,7],[22,8,22,9],[22,10,22,12],[22,13,22,14],[23,1,23,4],[23,5,23,7],[23,8,23,9],[23,10,23,12],[23,13,23,14],[20,1,20,4],[20,5,20,7],[20,8,20,9],[20,10,20,12],[20,13,20,14],[21,1,21,4],[21,5,21,7],[21,8,21,9],[21,10,21,12],[21,13,21,14],[26,1,26,4],[26,5,26,7],[26,8,26,9],[26,10,26,12],[26,13,26,14],[27,1,27,4],[27,5,27,7],[27,8,27,9],[27,10,27,12],[27,13,27,14],[24,1,24,4],[24,5,24,7],[24,8,24,9],[24,10,24,12],[24,13,24,14],[25,1,25,4],[25,5,25,7],[25,8,25,9],[25,10,25,12],[25,13,25,14],[30,1,30,4],[30,5,30,7],[30,8,30,9],[30,10,30,12],[30,13,30,14],[31,1,31,4],[31,5,31,7],[31,8,31,9],[31,10,31,12],[31,13,31,14],[28,1,28,4],[28,5,28,7],[28,8,28,9],[28,10,28,12],[28,13,28,14],[29,1,29,4],[29,5,29,7],[29,8,29,9],[29,10,29,12],[29,13,29,14],[34,1,34,4],[34,5,34,7],[34,8,34,9],[34,10,34,12],[34,13,34,14],[35,1,35,4],[35,5,35,7],[35,8,35,9],[35,10,35,12],[35,13,35,14],[32,1,32,4],[32,5,32,7],[32,8,32,9],[32,10,32,12],[32,13,32,14],[33,1,33,4],[33,5,33,7],[33,8,33,9],[33,10,33,12],[33,13,33,14],[38,1,38,4],[38,5,38,7],[38,8,38,9],[38,10,38,12],[38,13,38,14],[39,1,39,4],[39,5,39,7],[39,8,39,9],[39,10,39,12],[39,13,39,14],[36,1,36,4],[36,5,36,7],[36,8,36,9],[36,10,36,12],[36,13,36,14],[37,1,37,4],[37,5,37,7],[37,8,37,9],[37,10,37,12],[37,13,37,14],[42,1,42,4],[42,5,42,7],[42,8,42,9],[42,10,42,12],[42,13,42,14],[43,1,43,4],[43,5,43,7],[43,8,43,9],[43,10,43,12],[43,13,43,14],[40,1,40,4],[40,5,40,7],[40,8,40,9],[40,10,40,12],[40,13,40,14],[41,1,41,4],[41,5,41,7],[41,8,41,9],[41,10,41,12],[41,13,41,14],[46,1,46,4],[46,5,46,7],[46,8,46,9],[46,10,46,12],[46,13,46,14],[47,1,47,4],[47,5,47,7],[47,8,47,9],[47,10,47,12],[47,13,47,14],[44,1,44,4],[44,5,44,7],[44,8,44,9],[44,10,44,12],[44,13,44,14],[45,1,45,4],[45,5,45,7],[45,8,45,9],[45,10,45,12],[45,13,45,14],[50,1,50,4],[50,5,50,7],[50,8,50,9],[50,10,50,12],[50,13,50,14],[51,1,51,4],[51,5,51,7],[51,8,51,9],[51,10,51,12],[51,13,51,14],[48,1,48,4],[48,5,48,7],[48,8,48,9],[48,10,48,12],[48,13,48,14],[49,1,49,4],[49,5,49,7],[49,8,49,9],[49,10,49,12],[49,13,49,14],[54,1,54,4],[54,5,54,7],[54,8,54,9],[54,10,54,12],[54,13,54,14],[55,1,55,4],[55,5,55,7],[55,8,55,9],[55,10,55,12],[55,13,55,14],[52,1,52,4],[52,5,52,7],[52,8,52,9],[52,10,52,12],[52,13,52,14],[53,1,53,4],[53,5,53,7],[53,8,53,9],[53,10,53,12],[53,13,53,14],[58,1,58,4],[58,5,58,7],[58,8,58,9],[58,10,58,12],[58,13,58,14],[59,1,59,4],[59,5,59,7],[59,8,59,9],[59,10,59,12],[59,13,59,14],[56,1,56,4],[56,5,56,7],[56,8,56,9],[56,10,56,12],[56,13,56,14],[57,1,57,4],[57,5,57,7],[57,8,57,9],[57,10,57,12],[57,13,57,14],[62,1,62,4],[62,5,62,7],[62,8,62,9],[62,10,62,12],[62,13,62,14],[63,1,63,4],[63,5,63,7],[63,8,63,9],[63,10,63,12],[63,13,63,14],[60,1,60,4],[60,5,60,7],[60,8,60,9],[60,10,60,12],[60,13,60,14],[61,1,61,4],[61,5,61,7],[61,8,61,9],[61,10,61,12],[61,13,61,14],[66,1,66,4],[66,5,66,7],[66,8,66,9],[66,10,66,12],[66,13,66,14],[67,1,67,4],[67,5,67,7],[67,8,67,9],[67,10,67,12],[67,13,67,14],[64,1,64,4],[64,5,64,7],[64,8,64,9],[64,10,64,12],[64,13,64,14],[65,1,65,4],[65,5,65,7],[65,8,65,9],[65,10,65,12],[65,13,65,14],[70,1,70,4],[70,5,70,7],[70,8,70,9],[70,10,70,12],[70,13,70,14],[71,1,71,4],[71,5,71,7],[71,8,71,9],[71,10,71,12],[71,13,71,14],[68,1,68,4],[68,5,68,7],[68,8,68,9],[68,10,68,12],[68,13,68,14],[69,1,69,4],[69,5,69,7],[69,8,69,9],[69,10,69,12],[69,13,69,14],[74,1,74,4],[74,5,74,7],[74,8,74,9],[74,10,74,12],[74,13,74,14],[75,1,75,4],[75,5,75,7],[75,8,75,9],[75,10,75,12],[75,13,75,14],[72,1,72,4],[72,5,72,7],[72,8,72,9],[72,10,72,12],[72,13,72,14],[73,1,73,4],[73,5,73,7],[73,8,73,9],[73,10,73,12],[73,13,73,14],[78,1,78,4],[78,5,78,7],[78,8,78,9],[78,10,78,12],[78,13,78,14],[79,1,79,4],[79,5,79,7],[79,8,79,9],[79,10,79,12],[79,13,79,14],[76,1,76,4],[76,5,76,7],[76,8,76,9],[76,10,76,12],[76,13,76,14],[77,1,77,4],[77,5,77,7],[77,8,77,9],[77,10,77,12],[77,13,77,14],[82,1,82,4],[82,5,82,7],[82,8,82,9],[82,10,82,12],[82,13,82,14],[83,1,83,4],[83,5,83,7],[83,8,83,9],[83,10,83,12],[83,13,83,14],[80,1,80,4],[80,5,80,7],[80,8,80,9],[80,10,80,12],[80,13,80,14],[81,1,81,4],[81,5,81,7],[81,8,81,9],[81,10,81,12],[81,13,81,14],[86,1,86,4],[86,5,86,7],[86,8,86,9],[86,10,86,12],[86,13,86,14],[87,1,87,4],[87,5,87,7],[87,8,87,9],[87,10,87,12],[87,13,87,14],[84,1,84,4],[84,5,84,7],[84,8,84,9],[84,10,84,12],[84,13,84,14],[85,1,85,4],[85,5,85,7],[85,8,85,9],[85,10,85,12],[85,13,85,14],[90,1,90,4],[90,5,90,7],[90,8,90,9],[90,10,90,12],[90,13,90,14],[91,1,91,4],[91,5,91,7],[91,8,91,9],[91,10,91,12],[91,13,91,14],[88,1,88,4],[88,5,88,7],[88,8,88,9],[88,10,88,12],[88,13,88,14],[89,1,89,4],[89,5,89,7],[89,8,89,9],[89,10,89,12],[89,13,89,14],[94,1,94,4],[94,5,94,7],[94,8,94,9],[94,10,94,12],[94,13,94,14],[95,1,95,4],[95,5,95,7],[95,8,95,9],[95,10,95,12],[95,13,95,14],[92,1,92,4]],"merged_total":1660,"flags":["merged_cut"]}
[null,null,null,{"$f":"OFFSET(INDEX(place,MATCH(D2,elevesc,0),MATCH($B$4,classements,0)),0,1)","v":1},1,1,1,1,1,1,1,1,1,1,1,1,1,1,null,"CLIQUEZ EN FACE DU MATCH CORRESPONDANT PUIS SUR L'ELEVE VAINQUEUR, SON SCORE, SON ADVERSAIRE et SON SCORE (INDIQUEZ LES PTS THEME SI NECESSAIRE) \net VALIDER QUAND VOUS ETES SUR !"]
[null,{"$f":"CLASSEMENTELEVES!C3","v":"CLASSE"},null,{"$f":"CLASSEMENTELEVES!C4","v":"Achraf"},{"$f":"CLASSEMENTELEVES!C5","v":"Adel"},{"$f":"CLASSEMENTELEVES!C6","v":"Adem"},{"$f":"CLASSEMENTELEVES!C7","v":"Amar"},{"$f":"CLASSEMENTELEVES!C8","v":"Ayoub"},{"$f":"CLASSEMENTELEVES!C9","v":"Azedine"},{"$f":"CLASSEMENTELEVES!C10","v":"Bilal B."},{"$f":"CLASSEMENTELEVES!C11","v":"Bilal S."},{"$f":"CLASSEMENTELEVES!C12","v":"Djaoidou"},{"$f":"CLASSEMENTELEVES!C13","v":"Fahade"},{"$f":"CLASSEMENTELEVES!C14","v":"Farhane"},{"$f":"CLASSEMENTELEVES!C15","v":"Faudel"},{"$f":"CLASSEMENTELEVES!C16","v":"Fazil"},{"$f":"CLASSEMENTELEVES!C17","v":"Hakim"},{"$f":"CLASSEMENTELEVES!C18","v":"Hicham"}]
[null,null,null,{"$f":"OFFSET(INDEX(place,MATCH(D4,elevesc,0),MATCH($B$4,classements,0)),0,1)","v":1},1,1,1,1,1,1,1,1,1,1,1,1,1,1,1,1,1,1,{"$error":"#N/A"}]
[null,"DEFIS",null,{"$f":"CLASSEMENTELEVES!C19","v":"Hicham L."},{"$f":"CLASSEMENTELEVES!C20","v":"Jassim"},{"$f":"CLASSEMENTELEVES!C21","v":"Jean Alexandre"},{"$f":"CLASSEMENTELEVES!C22","v":"John"},{"$f":"CLASSEMENTELEVES!C23","v":"Kail"},{"$f":"CLASSEMENTELEVES!C24","v":"Malcom"},{"$f":"CLASSEMENTELEVES!C25","v":"Nicolas"},{"$f":"CLASSEMENTELEVES!C26","v":"Oumar"},{"$f":"CLASSEMENTELEVES!C27","v":"Quintimo"},{"$f":"CLASSEMENTELEVES!C28","v":"Raphaël"},{"$f":"CLASSEMENTELEVES!C29","v":"Richmond"},{"$f":"CLASSEMENTELEVES!C30","v":"Serdar"},{"$f":"CLASSEMENTELEVES!C31","v":"Valentin"},{"$f":"CLASSEMENTELEVES!C32","v":"Walid"},{"$f":"CLASSEMENTELEVES!C33","v":"Willy"},{"$f":"CLASSEMENTELEVES!C34","v":"Yahia"},{"$f":"CLASSEMENTELEVES!C35","v":"Yamine"},{"$f":"CLASSEMENTELEVES!C36","v":"Yanis"},{"$f":"CLASSEMENTELEVES!C37","v":"Yousri"},{"$f":"CLASSEMENTELEVES!C38","v":0}]
[null,null,null,1,2,3,4,5,6,7,8,9,10,11,12,13,14,15,31,32,33,34,35]
[null,null,null,16,17,18,19,20,21,22,23,24,25,26,27,28,29,30,31,32,33,34,35]
[]
[]
[]
[]
[]
[]
[null,"MATCHS",null,null,null,"VAINQUEURS",null,null,"POINTS",null,"PERDANTS",null,null,"POINTS",null,"POINTS THEME",null,"POINTS THEME",null,null,"ECART CLASSEMENT",null,null,null,null,"VAINQUEURS","POINTS","PTS THEMES","PTS ENCAISSES","V ou D","N° incrémentation","PTS ATP","ecart classement"]
[null,"MATCH 1",null,null,null,null,null,null,null,null,null,null,null,null,null,null,null,null,null,null,{"$f":"IFERROR(VLOOKUP(F14,CLASSEMENTELEVES!$C$4:$D$37,2,FALSE)-VLOOKUP(K14,CLASSEMENTELEVES!$C$4:$D$37,2,FALSE),\"\")","v":""},null,null,null,{"$f":"Z14&\"_\"&AE14","v":"0_"},{"$f":"F14","v":0},{"$f":"I14","v":0},{"$f":"P14","v":0},{"$f":"N14","v":0},"V",{"$f":"IF(Z14<>0,COUNTIF($Z$14:Z14,Z14),\"\")","v":""},{"$f":"IFERROR(VLOOKUP(U14,DEBUT!$D$5:$F$122,2,FALSE),0)","v":0},{"$f":"IF(VLOOKUP(F14,CLASSEMENTELEVES!$C$4:$D$37,2,FALSE)<VLOOKUP(K14,CLASSEMENTELEVES!$C$4:$D$37,2,FALSE),0,-U14)","v":{"$error":"#N/A"}}]
[null,"MATCH 2",null,null,null,null,null,null,null,null,null,null,null,null,null,null,null,null,null,null,{"$f":"IFERROR(VLOOKUP(F15,CLASSEMENTELEVES!$C$4:$D$37,2,FALSE)-VLOOKUP(K15,CLASSEMENTELEVES!$C$4:$D$37,2,FALSE),\"\")","v":""},null,null,null,"0_",{"$f":"F15","v":0},{"$f":"I15","v":0},{"$f":"P15","v":0},{"$f":"N15","v":0},"V",{"$f":"IF(Z15<>0,COUNTIF($Z$14:Z15,Z15),\"\")","v":""},{"$f":"IFERROR(VLOOKUP(U15,DEBUT!$D$5:$F$122,2,FALSE),0)","v":0},{"$f":"IF(VLOOKUP(F15,CLASSEMENTELEVES!$C$4:$D$37,2,FALSE)<VLOOKUP(K15,CLASSEMENTELEVES!$C$4:$D$37,2,FALSE),0,-U15)","v":{"$error":"#N/A"}}]
[null,"MATCH 3",null,null,null,null,null,null,null,null,null,null,null,null,null,null,null,null,null,null,{"$f":"IFERROR(VLOOKUP(F16,CLASSEMENTELEVES!$C$4:$D$37,2,FALSE)-VLOOKUP(K16,CLASSEMENTELEVES!$C$4:$D$37,2,FALSE),\"\")","v":""},null,null,null,"0_",0,0,0,0,"V",{"$f":"IF(Z16<>0,COUNTIF($Z$14:Z16,Z16),\"\")","v":""},{"$f":"IFERROR(VLOOKUP(U16,DEBUT!$D$5:$F$122,2,FALSE),0)","v":0},{"$f":"IF(VLOOKUP(F16,CLASSEMENTELEVES!$C$4:$D$37,2,FALSE)<VLOOKUP(K16,CLASSEMENTELEVES!$C$4:$D$37,2,FALSE),0,-U16)","v":{"$error":"#N/A"}}]
[null,"MATCH 4",null,null,null,null,null,null,null,null,null,null,null,null,null,null,null,null,null,null,{"$f":"IFERROR(VLOOKUP(F17,CLASSEMENTELEVES!$C$4:$D$37,2,FALSE)-VLOOKUP(K17,CLASSEMENTELEVES!$C$4:$D$37,2,FALSE),\"\")","v":""},null,null,null,"0_",0,0,0,0,"V",{"$f":"IF(Z17<>0,COUNTIF($Z$14:Z17,Z17),\"\")","v":""},{"$f":"IFERROR(VLOOKUP(U17,DEBUT!$D$5:$F$122,2,FALSE),0)","v":0},{"$f":"IF(VLOOKUP(F17,CLASSEMENTELEVES!$C$4:$D$37,2,FALSE)<VLOOKUP(K17,CLASSEMENTELEVES!$C$4:$D$37,2,FALSE),0,-U17)","v":{"$error":"#N/A"}}]
[null,"MATCH 5",null,null,null,null,null,null,null,null,null,null,null,null,null,null,null,null,null,null,{"$f":"IFERROR(VLOOKUP(F18,CLASSEMENTELEVES!$C$4:$D$37,2,FALSE)-VLOOKUP(K18,CLASSEMENTELEVES!$C$4:$D$37,2,FALSE),\"\")","v":""},null,null,null,"0_",0,0,0,0,"V",{"$f":"IF(Z18<>0,COUNTIF($Z$14:Z18,Z18),\"\")","v":""},{"$f":"IFERROR(VLOOKUP(U18,DEBUT!$D$5:$F$122,2,FALSE),0)","v":0},{"$f":"IF(VLOOKUP(F18,CLASSEMENTELEVES!$C$4:$D$37,2,FALSE)<VLOOKUP(K18,CLASSEMENTELEVES!$C$4:$D$37,2,FALSE),0,-U18)","v":{"$error":"#N/A"}}]
[null,"MATCH 6",null,null,null,null,null,null,null,null,null,null,null,null,null,null,null,null,null,null,{"$f":"IFERROR(VLOOKUP(F19,CLASSEMENTELEVES!$C$4:$D$37,2,FALSE)-VLOOKUP(K19,CLASSEMENTELEVES!$C$4:$D$37,2,FALSE),\"\")","v":""},null,null,null,"0_",0,0,0,0,"V",{"$f":"IF(Z19<>0,COUNTIF($Z$14:Z19,Z19),\"\")","v":""},{"$f":"IFERROR(VLOOKUP(U19,DEBUT!$D$5:$F$122,2,FALSE),0)","v":0},{"$f":"IF(VLOOKUP(F19,CLASSEMENTELEVES!$C$4:$D$37,2,FALSE)<VLOOKUP(K19,CLASSEMENTELEVES!$C$4:$D$37,2,FALSE),0,-U19)","v":{"$error":"#N/A"}}]
[null,"MATCH 7",null,null,null,null,null,null,null,null,null,null,null,null,null,null,null,null,null,null,{"$f":"IFERROR(VLOOKUP(F20,CLASSEMENTELEVES!$C$4:$D$37,2,FALSE)-VLOOKUP(K20,CLASSEMENTELEVES!$C$4:$D$37,2,FALSE),\"\")","v":""},null,null,null,"0_",0,0,0,0,"V",{"$f":"IF(Z20<>0,COUNTIF($Z$14:Z20,Z20),\"\")","v":""},{"$f":"IFERROR(VLOOKUP(U20,DEBUT!$D$5:$F$122,2,FALSE),0)","v":0},{"$f":"IF(VLOOKUP(F20,CLASSEMENTELEVES!$C$4:$D$37,2,FALSE)<VLOOKUP(K20,CLASSEMENTELEVES!$C$4:$D$37,2,FALSE),0,-U20)","v":{"$error":"#N/A"}}]
[null,"MATCH 8",null,null,null,null,null,null,null,null,null,null,null,null,null,null,null,null,null,null,{"$f":"IFERROR(VLOOKUP(F21,CLASSEMENTELEVES!$C$4:$D$37,2,FALSE)-VLOOKUP(K21,CLASSEMENTELEVES!$C$4:$D$37,2,FALSE),\"\")","v":""},null,null,null,"0_",0,0,0,0,"V",{"$f":"IF(Z21<>0,COUNTIF($Z$14:Z21,Z21),\"\")","v":""},{"$f":"IFERROR(VLOOKUP(U21,DEBUT!$D$5:$F$122,2,FALSE),0)","v":0},{"$f":"IF(VLOOKUP(F21,CLASSEMENTELEVES!$C$4:$D$37,2,FALSE)<VLOOKUP(K21,CLASSEMENTELEVES!$C$4:$D$37,2,FALSE),0,-U21)","v":{"$error":"#N/A"}}]
[null,"MATCH 9",null,null,null,null,null,null,null,null,null,null,null,null,null,null,null,null,null,null,{"$f":"IFERROR(VLOOKUP(F22,CLASSEMENTELEVES!$C$4:$D$37,2,FALSE)-VLOOKUP(K22,CLASSEMENTELEVES!$C$4:$D$37,2,FALSE),\"\")","v":""},null,null,null,"0_",0,0,0,0,"V",{"$f":"IF(Z22<>0,COUNTIF($Z$14:Z22,Z22),\"\")","v":""},{"$f":"IFERROR(VLOOKUP(U22,DEBUT!$D$5:$F$122,2,FALSE),0)","v":0},{"$f":"IF(VLOOKUP(F22,CLASSEMENTELEVES!$C$4:$D$37,2,FALSE)<VLOOKUP(K22,CLASSEMENTELEVES!$C$4:$D$37,2,FALSE),0,-U22)","v":{"$error":"#N/A"}}]
[null,"MATCH 10",null,null,null,null,null,null,null,null,null,null,null,null,null,null,null,null,null,null,{"$f":"IFERROR(VLOOKUP(F23,CLASSEMENTELEVES!$C$4:$D$37,2,FALSE)-VLOOKUP(K23,CLASSEMENTELEVES!$C$4:$D$37,2,FALSE),\"\")","v":""},null,null,null,"0_",0,0,0,0,"V",{"$f":"IF(Z23<>0,COUNTIF($Z$14:Z23,Z23),\"\")","v":""},{"$f":"IFERROR(VLOOKUP(U23,DEBUT!$D$5:$F$122,2,FALSE),0)","v":0},{"$f":"IF(VLOOKUP(F23,CLASSEMENTELEVES!$C$4:$D$37,2,FALSE)<VLOOKUP(K23,CLASSEMENTELEVES!$C$4:$D$37,2,FALSE),0,-U23)","v":{"$error":"#N/A"}}]
[null,"MATCH 11",null,null,null,null,null,null,null,null,null,null,null,null,null,null,null,null,null,null,{"$f":"IFERROR(VLOOKUP(F24,CLASSEMENTELEVES!$C$4:$D$37,2,FALSE)-VLOOKUP(K24,CLASSEMENTELEVES!$C$4:$D$37,2,FALSE),\"\")","v":""},null,null,null,"0_",0,0,0,0,"V",{"$f":"IF(Z24<>0,COUNTIF($Z$14:Z24,Z24),\"\")","v":""},{"$f":"IFERROR(VLOOKUP(U24,DEBUT!$D$5:$F$122,2,FALSE),0)","v":0},{"$f":"IF(VLOOKUP(F24,CLASSEMENTELEVES!$C$4:$D$37,2,FALSE)<VLOOKUP(K24,CLASSEMENTELEVES!$C$4:$D$37,2,FALSE),0,-U24)","v":{"$error":"#N/A"}}]
[null,"MATCH 12",null,null,null,null,null,null,null,null,null,null,null,null,null,null,null,null,null,null,{"$f":"IFERROR(VLOOKUP(F25,CLASSEMENTELEVES!$C$4:$D$37,2,FALSE)-VLOOKUP(K25,CLASSEMENTELEVES!$C$4:$D$37,2,FALSE),\"\")","v":""},null,null,null,"0_",0,0,0,0,"V",{"$f":"IF(Z25<>0,COUNTIF($Z$14:Z25,Z25),\"\")","v":""},{"$f":"IFERROR(VLOOKUP(U25,DEBUT!$D$5:$F$122,2,FALSE),0)","v":0},{"$f":"IF(VLOOKUP(F25,CLASSEMENTELEVES!$C$4:$D$37,2,FALSE)<VLOOKUP(K25,CLASSEMENTELEVES!$C$4:$D$37,2,FALSE),0,-U25)","v":{"$error":"#N/A"}}]
[null,"MATCH 13",null,null,null,null,null,null,null,null,null,null,null,null,null,null,null,null,null,null,{"$f":"IFERROR(VLOOKUP(F26,CLASSEMENTELEVES!$C$4:$D$37,2,FALSE)-VLOOKUP(K26,CLASSEMENTELEVES!$C$4:$D$37,2,FALSE),\"\")","v":""},null,null,null,"0_",0,0,0,0,"V",{"$f":"IF(Z26<>0,COUNTIF($Z$14:Z26,Z26),\"\")","v":""},{"$f":"IFERROR(VLOOKUP(U26,DEBUT!$D$5:$F$122,2,FALSE),0)","v":0},{"$f":"IF(VLOOKUP(F26,CLASSEMENTELEVES!$C$4:$D$37,2,FALSE)<VLOOKUP(K26,CLASSEMENTELEVES!$C$4:$D$37,2,FALSE),0,-U26)","v":{"$error":"#N/A"}}]
[null,"MATCH 14",null,null,null,null,null,null,null,null,null,null,null,null,null,null,null,null,null,null,{"$f":"IFERROR(VLOOKUP(F27,CLASSEMENTELEVES!$C$4:$D$37,2,FALSE)-VLOOKUP(K27,CLASSEMENTELEVES!$C$4:$D$37,2,FALSE),\"\")","v":""},null,null,null,"0_",0,0,0,0,"V",{"$f":"IF(Z27<>0,COUNTIF($Z$14:Z27,Z27),\"\")","v":""},{"$f":"IFERROR(VLOOKUP(U27,DEBUT!$D$5:$F$122,2,FALSE),0)","v":0},{"$f":"IF(VLOOKUP(F27,CLASSEMENTELEVES!$C$4:$D$37,2,FALSE)<VLOOKUP(K27,CLASSEMENTELEVES!$C$4:$D$37,2,FALSE),0,-U27)","v":{"$error":"#N/A"}}]
[null,"MATCH 15",null,null,null,null,null,null,null,null,null,null,null,null,null,null,null,null,null,null,{"$f":"IFERROR(VLOOKUP(F28,CLASSEMENTELEVES!$C$4:$D$37,2,FALSE)-VLOOKUP(K28,CLASSEMENTELEVES!$C$4:$D$37,2,FALSE),\"\")","v":""},null,null,null,"0_",0,0,0,0,"V",{"$f":"IF(Z28<>0,COUNTIF($Z$14:Z28,Z28),\"\")","v":""},{"$f":"IFERROR(VLOOKUP(U28,DEBUT!$D$5:$F$122,2,FALSE),0)","v":0},{"$f":"IF(VLOOKUP(F28,CLASSEMENTELEVES!$C$4:$D$37,2,FALSE)<VLOOKUP(K28,CLASSEMENTELEVES!$C$4:$D$37,2,FALSE),0,-U28)","v":{"$error":"#N/A"}}]
[null,"MATCH 16",null,null,null,null,null,null,null,null,null,null,null,null,null,null,null,null,null,null,{"$f":"IFERROR(VLOOKUP(F29,CLASSEMENTELEVES!$C$4:$D$37,2,FALSE)-VLOOKUP(K29,CLASSEMENTELEVES!$C$4:$D$37,2,FALSE),\"\")","v":""},null,null,null,"0_",0,0,0,0,"V",{"$f":"IF(Z29<>0,COUNTIF($Z$14:Z29,Z29),\"\")","v":""},{"$f":"IFERROR(VLOOKUP(U29,DEBUT!$D$5:$F$122,2,FALSE),0)","v":0},{"$f":"IF(VLOOKUP(F29,CLASSEMENTELEVES!$C$4:$D$37,2,FALSE)<VLOOKUP(K29,CLASSEMENTELEVES!$C$4:$D$37,2,FALSE),0,-U29)","v":{"$error":"#N/A"}}]
[null,"MATCH 17",null,null,null,null,null,null,null,null,null,null,null,null,null,null,null,null,null,null,{"$f":"IFERROR(VLOOKUP(F30,CLASSEMENTELEVES!$C$4:$D$37,2,FALSE)-VLOOKUP(K30,CLASSEMENTELEVES!$C$4:$D$37,2,FALSE),\"\")","v":""},null,null,null,"0_",0,0,0,0,"V",{"$f":"IF(Z30<>0,COUNTIF($Z$14:Z30,Z30),\"\")","v":""},{"$f":"IFERROR(VLOOKUP(U30,DEBUT!$D$5:$F$122,2,FALSE),0)","v":0},{"$f":"IF(VLOOKUP(F30,CLASSEMENTELEVES!$C$4:$D$37,2,FALSE)<VLOOKUP(K30,CLASSEMENTELEVES!$C$4:$D$37,2,FALSE),0,-U30)","v":{"$error":"#N/A"}}]
[null,"MATCH 18",null,null,null,null,null,null,null,null,null,null,null,null,null,null,null,null,null,null,{"$f":"IFERROR(VLOOKUP(F31,CLASSEMENTELEVES!$C$4:$D$37,2,FALSE)-VLOOKUP(K31,CLASSEMENTELEVES!$C$4:$D$37,2,FALSE),\"\")","v":""},null,null,null,"0_",0,0,0,0,"V",{"$f":"IF(Z31<>0,COUNTIF($Z$14:Z31,Z31),\"\")","v":""},{"$f":"IFERROR(VLOOKUP(U31,DEBUT!$D$5:$F$122,2,FALSE),0)","v":0},{"$f":"IF(VLOOKUP(F31,CLASSEMENTELEVES!$C$4:$D$37,2,FALSE)<VLOOKUP(K31,CLASSEMENTELEVES!$C$4:$D$37,2,FALSE),0,-U31)","v":{"$error":"#N/A"}}]
[null,"MATCH 19",null,null,null,null,null,null,null,null,null,null,null,null,null,null,null,null,null,null,{"$f":"IFERROR(VLOOKUP(F32,CLASSEMENTELEVES!$C$4:$D$37,2,FALSE)-VLOOKUP(K32,CLASSEMENTELEVES!$C$4:$D$37,2,FALSE),\"\")","v":""},null,null,null,"0_",0,0,0,0,"V",{"$f":"IF(Z32<>0,COUNTIF($Z$14:Z32,Z32),\"\")","v":""},{"$f":"IFERROR(VLOOKUP(U32,DEBUT!$D$5:$F$122,2,FALSE),0)","v":0},{"$f":"IF(VLOOKUP(F32,CLASSEMENTELEVES!$C$4:$D$37,2,FALSE)<VLOOKUP(K32,CLASSEMENTELEVES!$C$4:$D$37,2,FALSE),0,-U32)","v":{"$error":"#N/A"}}]
[null,"MATCH 20",null,null,null,null,null,null,null,null,null,null,null,null,null,null,null,null,null,null,{"$f":"IFERROR(VLOOKUP(F33,CLASSEMENTELEVES!$C$4:$D$37,2,FALSE)-VLOOKUP(K33,CLASSEMENTELEVES!$C$4:$D$37,2,FALSE),\"\")","v":""},null,null,null,"0_",0,0,0,0,"V",{"$f":"IF(Z33<>0,COUNTIF($Z$14:Z33,Z33),\"\")","v":""},{"$f":"IFERROR(VLOOKUP(U33,DEBUT!$D$5:$F$122,2,FALSE),0)","v":0},{"$f":"IF(VLOOKUP(F33,CLASSEMENTELEVES!$C$4:$D$37,2,FALSE)<VLOOKUP(K33,CLASSEMENTELEVES!$C$4:$D$37,2,FALSE),0,-U33)","v":{"$error":"#N/A"}}]
[null,"MATCH 21",null,null,null,null,null,null,null,null,null,null,null,null,null,null,null,null,null,null,{"$f":"IFERROR(VLOOKUP(F34,CLASSEMENTELEVES!$C$4:$D$37,2,FALSE)-VLOOKUP(K34,CLASSEMENTELEVES!$C$4:$D$37,2,FALSE),\"\")","v":""},null,null,null,"0_",0,0,0,0,"V",{"$f":"IF(Z34<>0,COUNTIF($Z$14:Z34,Z34),\"\")","v":""},{"$f":"IFERROR(VLOOKUP(U34,DEBUT!$D$5:$F$122,2,FALSE),0)","v":0},{"$f":"IF(VLOOKUP(F34,CLASSEMENTELEVES!$C$4:$D$37,2,FALSE)<VLOOKUP(K34,CLASSEMENTELEVES!$C$4:$D$37,2,FALSE),0,-U34)","v":{"$error":"#N/A"}}]
[null,"MATCH 22",null,null,null,null,null,null,null,null,null,null,null,null,null,null,null,null,null,null,{"$f":"IFERROR(VLOOKUP(F35,CLASSEMENTELEVES!$C$4:$D$37,2,FALSE)-VLOOKUP(K35,CLASSEMENTELEVES!$C$4:$D$37,2,FALSE),\"\")","v":""},null,null,null,"0_",0,0,0,0,"V",{"$f":"IF(Z35<>0,COUNTIF($Z$14:Z35,Z35),\"\")","v":""},{"$f":"IFERROR(VLOOKUP(U35,DEBUT!$D$5:$F$122,2,FALSE),0)","v":0},{"$f":"IF(VLOOKUP(F35,CLASSEMENTELEVES!$C$4:$D$37,2,FALSE)<VLOOKUP(K35,CLASSEMENTELEVES!$C$4:$D$37,2,FALSE),0,-U35)","v":{"$error":"#N/A"}}]
[null,"MATCH 23",null,null,null,null,null,null,null,null,null,null,null,null,null,null,null,null,null,null,{"$f":"IFERROR(VLOOKUP(F36,CLASSEMENTELEVES!$C$4:$D$37,2,FALSE)-VLOOKUP(K36,CLASSEMENTELEVES!$C$4:$D$37,2,FALSE),\"\")","v":""},null,null,null,"0_",0,0,0,0,"V",{"$f":"IF(Z36<>0,COUNTIF($Z$14:Z36,Z36),\"\")","v":""},{"$f":"IFERROR(VLOOKUP(U36,DEBUT!$D$5:$F$122,2,FALSE),0)","v":0},{"$f":"IF(VLOOKUP(F36,CLASSEMENTELEVES!$C$4:$D$37,2,FALSE)<VLOOKUP(K36,CLASSEMENTELEVES!$C$4:$D$37,2,FALSE),0,-U36)","v":{"$error":"#N/A"}}]
[null,"MATCH 24",null,null,null,null,null,null,null,null,null,null,null,null,null,null,null,null,null,null,{"$f":"IFERROR(VLOOKUP(F37,CLASSEMENTELEVES!$C$4:$D$37,2,FALSE)-VLOOKUP(K37,CLASSEMENTELEVES!$C$4:$D$37,2,FALSE),\"\")","v":""},null,null,null,"0_",0,0,0,0,"V",{"$f":"IF(Z37<>0,COUNTIF($Z$14:Z37,Z37),\"\")","v":""},{"$f":"IFERROR(VLOOKUP(U37,DEBUT!$D$5:$F$122,2,FALSE),0)","v":0},{"$f":"IF(VLOOKUP(F37,CLASSEMENTELEVES!$C$4:$D$37,2,FALSE)<VLOOKUP(K37,CLASSEMENTELEVES!$C$4:$D$37,2,FALSE),0,-U37)","v":{"$error":"#N/A"}}]
[null,"MATCH 25",null,null,null,null,null,null,null,null,null,null,null,null,null,null,null,null,null,null,{"$f":"IFERROR(VLOOKUP(F38,CLASSEMENTELEVES!$C$4:$D$37,2,FALSE)-VLOOKUP(K38,CLASSEMENTELEVES!$C$4:$D$37,2,FALSE),\"\")","v":""},null,null,null,"0_",0,0,0,0,"V",{"$f":"IF(Z38<>0,COUNTIF($Z$14:Z38,Z38),\"\")","v":""},{"$f":"IFERROR(VLOOKUP(U38,DEBUT!$D$5:$F$122,2,FALSE),0)","v":0},{"$f":"IF(VLOOKUP(F38,CLASSEMENTELEVES!$C$4:$D$37,2,FALSE)<VLOOKUP(K38,CLASSEMENTELEVES!$C$4:$D$37,2,FALSE),0,-U38)","v":{"$error":"#N/A"}}]
[null,"MATCH 26",null,null,null,null,null,null,null,null,null,null,null,null,null,null,null,null,null,null,{"$f":"IFERROR(VLOOKUP(F39,CLASSEMENTELEVES!$C$4:$D$37,2,FALSE)-VLOOKUP(K39,CLASSEMENTELEVES!$C$4:$D$37,2,FALSE),\"\")","v":""},null,null,null,"0_",0,0,0,0,"V",{"$f":"IF(Z39<>0,COUNTIF($Z$14:Z39,Z39),\"\")","v":""},{"$f":"IFERROR(VLOOKUP(U39,DEBUT!$D$5:$F$122,2,FALSE),0)","v":0},{"$f":"IF(VLOOKUP(F39,CLASSEMENTELEVES!$C$4:$D$37,2,FALSE)<VLOOKUP(K39,CLASSEMENTELEVES!$C$4:$D$37,2,FALSE),0,-U39)","v":{"$error":"#N/A"}}]
[null,"MATCH 27",null,null,null,null,null,null,null,null,null,null,null,null,null,null,null,null,null,null,{"$f":"IFERROR(VLOOKUP(F40,CLASSEMENTELEVES!$C$4:$D$37,2,FALSE)-VLOOKUP(K40,CLASSEMENTELEVES!$C$4:$D$37,2,FALSE),\"\")","v":""},null,null,null,"0_",0,0,0,0,"V",{"$f":"IF(Z40<>0,COUNTIF($Z$14:Z40,Z40),\"\")","v":""},{"$f":"IFERROR(VLOOKUP(U40,DEBUT!$D$5:$F$122,2,FALSE),0)","v":0},{"$f":"IF(VLOOKUP(F40,CLASSEMENTELEVES!$C$4:$D$37,2,FALSE)<VLOOKUP(K40,CLASSEMENTELEVES!$C$4:$D$37,2,FALSE),0,-U40)","v":{"$error":"#N/A"}}]
[null,"MATCH 28",null,null,null,null,null,null,null,null,null,null,null,null,null,null,null,null,null,null,{"$f":"IFERROR(VLOOKUP(F41,CLASSEMENTELEVES!$C$4:$D$37,2,FALSE)-VLOOKUP(K41,CLASSEMENTELEVES!$C$4:$D$37,2,FALSE),\"\")","v":""},null,null,null,"0_",0,0,0,0,"V",{"$f":"IF(Z41<>0,COUNTIF($Z$14:Z41,Z41),\"\")","v":""},{"$f":"IFERROR(VLOOKUP(U41,DEBUT!$D$5:$F$122,2,FALSE),0)","v":0},{"$f":"IF(VLOOKUP(F41,CLASSEMENTELEVES!$C$4:$D$37,2,FALSE)<VLOOKUP(K41,CLASSEMENTELEVES!$C$4:$D$37,2,FALSE),0,-U41)","v":{"$error":"#N/A"}}]
[null,"MATCH 29",null,null,null,null,null,null,null,null,null,null,null,null,null,null,null,null,null,null,{"$f":"IFERROR(VLOOKUP(F42,CLASSEMENTELEVES!$C$4:$D$37,2,FALSE)-VLOOKUP(K42,CLASSEMENTELEVES!$C$4:$D$37,2,FALSE),\"\")","v":""},null,null,null,"0_",0,0,0,0,"V",{"$f":"IF(Z42<>0,COUNTIF($Z$14:Z42,Z42),\"\")","v":""},{"$f":"IFERROR(VLOOKUP(U42,DEBUT!$D$5:$F$122,2,FALSE),0)","v":0},{"$f":"IF(VLOOKUP(F42,CLASSEMENTELEVES!$C$4:$D$37,2,FALSE)<VLOOKUP(K42,CLASSEMENTELEVES!$C$4:$D$37,2,FALSE),0,-U42)","v":{"$error":"#N/A"}}]
[null,"MATCH 30",null,null,null,null,null,null,null,null,null,null,null,null,null,null,null,null,null,null,{"$f":"IFERROR(VLOOKUP(F43,CLASSEMENTELEVES!$C$4:$D$37,2,FALSE)-VLOOKUP(K43,CLASSEMENTELEVES!$C$4:$D$37,2,FALSE),\"\")","v":""},null,null,null,"0_",0,0,0,0,"V",{"$f":"IF(Z43<>0,COUNTIF($Z$14:Z43,Z43),\"\")","v":""},{"$f":"IFERROR(VLOOKUP(U43,DEBUT!$D$5:$F$122,2,FALSE),0)","v":0},{"$f":"IF(VLOOKUP(F43,CLASSEMENTELEVES!$C$4:$D$37,2,FALSE)<VLOOKUP(K43,CLASSEMENTELEVES!$C$4:$D$37,2,FALSE),0,-U43)","v":{"$error":"#N/A"}}]
[null,"MATCH 31",null,null,null,null,null,null,null,null,null,null,null,null,null,null,null,null,null,null,{"$f":"IFERROR(VLOOKUP(F44,CLASSEMENTELEVES!$C$4:$D$37,2,FALSE)-VLOOKUP(K44,CLASSEMENTELEVES!$C$4:$D$37,2,FALSE),\"\")","v":""},null,null,null,"0_",0,0,0,0,"V",{"$f":"IF(Z44<>0,COUNTIF($Z$14:Z44,Z44),\"\")","v":""},{"$f":"IFERROR(VLOOKUP(U44,DEBUT!$D$5:$F$122,2,FALSE),0)","v":0},{"$f":"IF(VLOOKUP(F44,CLASSEMENTELEVES!$C$4:$D$37,2,FALSE)<VLOOKUP(K44,CLASSEMENTELEVES!$C$4:$D$37,2,FALSE),0,-U44)","v":{"$error":"#N/A"}}]
[null,"MATCH 32",null,null,null,null,null,null,null,null,null,null,null,null,null,null,null,null,null,null,{"$f":"IFERROR(VLOOKUP(F45,CLASSEMENTELEVES!$C$4:$D$37,2,FALSE)-VLOOKUP(K45,CLASSEMENTELEVES!$C$4:$D$37,2,FALSE),\"\")","v":""},null,null,null,"0_",0,0,0,0,"V",{"$f":"IF(Z45<>0,COUNTIF($Z$14:Z45,Z45),\"\")","v":""},{"$f":"IFERROR(VLOOKUP(U45,DEBUT!$D$5:$F$122,2,FALSE),0)","v":0},{"$f":"IF(VLOOKUP(F45,CLASSEMENTELEVES!$C$4:$D$37,2,FALSE)<VLOOKUP(K45,CLASSEMENTELEVES!$C$4:$D$37,2,FALSE),0,-U45)","v":{"$error":"#N/A"}}]
[null,"MATCH 33",null,null,null,null,null,null,null,null,null,null,null,null,null,null,null,null,null,null,{"$f":"IFERROR(VLOOKUP(F46,CLASSEMENTELEVES!$C$4:$D$37,2,FALSE)-VLOOKUP(K46,CLASSEMENTELEVES!$C$4:$D$37,2,FALSE),\"\")","v":""},null,null,null,"0_",0,0,0,0,"V",{"$f":"IF(Z46<>0,COUNTIF($Z$14:Z46,Z46),\"\")","v":""},{"$f":"IFERROR(VLOOKUP(U46,DEBUT!$D$5:$F$122,2,FALSE),0)","v":0},{"$f":"IF(VLOOKUP(F46,CLASSEMENTELEVES!$C$4:$D$37,2,FALSE)<VLOOKUP(K46,CLASSEMENTELEVES!$C$4:$D$37,2,FALSE),0,-U46)","v":{"$error":"#N/A"}}]
[null,"MATCH 34",null,null,null,null,null,null,null,null,null,null,null,null,null,null,null,null,null,null,{"$f":"IFERROR(VLOOKUP(F47,CLASSEMENTELEVES!$C$4:$D$37,2,FALSE)-VLOOKUP(K47,CLASSEMENTELEVES!$C$4:$D$37,2,FALSE),\"\")","v":""},null,null,null,"0_",0,0,0,0,"V",{"$f":"IF(Z47<>0,COUNTIF($Z$14:Z47,Z47),\"\")","v":""},{"$f":"IFERROR(VLOOKUP(U47,DEBUT!$D$5:$F$122,2,FALSE),0)","v":0},{"$f":"IF(VLOOKUP(F47,CLASSEMENTELEVES!$C$4:$D$37,2,FALSE)<VLOOKUP(K47,CLASSEMENTELEVES!$C$4:$D$37,2,FALSE),0,-U47)","v":{"$error":"#N/A"}}]
[null,"MATCH 35",null,null,null,null,null,null,null,null,null,null,null,null,null,null,null,null,null,null,{"$f":"IFERROR(VLOOKUP(F48,CLASSEMENTELEVES!$C$4:$D$37,2,FALSE)-VLOOKUP(K48,CLASSEMENTELEVES!$C$4:$D$37,2,FALSE),\"\")","v":""},null,null,null,"0_",0,0,0,0,"V",{"$f":"IF(Z48<>0,COUNTIF($Z$14:Z48,Z48),\"\")","v":""},{"$f":"IFERROR(VLOOKUP(U48,DEBUT!$D$5:$F$122,2,FALSE),0)","v":0},{"$f":"IF(VLOOKUP(F48,CLASSEMENTELEVES!$C$4:$D$37,2,FALSE)<VLOOKUP(K48,CLASSEMENTELEVES!$C$4:$D$37,2,FALSE),0,-U48)","v":{"$error":"#N/A"}}]
[null,"MATCH 36",null,null,null,null,null,null,null,null,null,null,null,null,null,null,null,null,null,null,{"$f":"IFERROR(VLOOKUP(F49,CLASSEMENTELEVES!$C$4:$D$37,2,FALSE)-VLOOKUP(K49,CLASSEMENTELEVES!$C$4:$D$37,2,FALSE),\"\")","v":""},null,null,null,"0_",0,0,0,0,"V",{"$f":"IF(Z49<>0,COUNTIF($Z$14:Z49,Z49),\"\")","v":""},{"$f":"IFERROR(VLOOKUP(U49,DEBUT!$D$5:$F$122,2,FALSE),0)","v":0},{"$f":"IF(VLOOKUP(F49,CLASSEMENTELEVES!$C$4:$D$37,2,FALSE)<VLOOKUP(K49,CLASSEMENTELEVES!$C$4:$D$37,2,FALSE),0,-U49)","v":{"$error":"#N/A"}}]
[null,"MATCH 37",null,null,null,null,null,null,null,null,null,null,null,null,null,null,null,null,null,null,{"$f":"IFERROR(VLOOKUP(F50,CLASSEMENTELEVES!$C$4:$D$37,2,FALSE)-VLOOKUP(K50,CLASSEMENTELEVES!$C$4:$D$37,2,FALSE),\"\")","v":""},null,null,null,"0_",0,0,0,0,"V",{"$f":"IF(Z50<>0,COUNTIF($Z$14:Z50,Z50),\"\")","v":""},{"$f":"IFERROR(VLOOKUP(U50,DEBUT!$D$5:$F$122,2,FALSE),0)","v":0},{"$f":"IF(VLOOKUP(F50,CLASSEMENTELEVES!$C$4:$D$37,2,FALSE)<VLOOKUP(K50,CLASSEMENTELEVES!$C$4:$D$37,2,FALSE),0,-U50)","v":{"$error":"#N/A"}}]
[null,"MATCH 38",null,null,null,null,null,null,null,null,null,null,null,null,null,null,null,null,null,null,{"$f":"IFERROR(VLOOKUP(F51,CLASSEMENTELEVES!$C$4:$D$37,2,FALSE)-VLOOKUP(K51,CLASSEMENTELEVES!$C$4:$D$37,2,FALSE),\"\")","v":""},null,null,null,"0_",0,0,0,0,"V",{"$f":"IF(Z51<>0,COUNTIF($Z$14:Z51,Z51),\"\")","v":""},{"$f":"IFERROR(VLOOKUP(U51,DEBUT!$D$5:$F$122,2,FALSE),0)","v":0},{"$f":"IF(VLOOKUP(F51,CLASSEMENTELEVES!$C$4:$D$37,2,FALSE)<VLOOKUP(K51,CLASSEMENTELEVES!$C$4:$D$37,2,FALSE),0,-U51)","v":{"$error":"#N/A"}}]
[null,"MATCH 39",null,null,null,null,null,null,null,null,null,null,null,null,null,null,null,null,null,null,{"$f":"IFERROR(VLOOKUP(F52,CLASSEMENTELEVES!$C$4:$D$37,2,FALSE)-VLOOKUP(K52,CLASSEMENTELEVES!$C$4:$D$37,2,FALSE),\"\")","v":""},null,null,null,"0_",0,0,0,0,"V",{"$f":"IF(Z52<>0,COUNTIF($Z$14:Z52,Z52),\"\")","v":""},{"$f":"IFERROR(VLOOKUP(U52,DEBUT!$D$5:$F$122,2,FALSE),0)","v":0},{"$f":"IF(VLOOKUP(F52,CLASSEMENTELEVES!$C$4:$D$37,2,FALSE)<VLOOKUP(K52,CLASSEMENTELEVES!$C$4:$D$37,2,FALSE),0,-U52)","v":{"$error":"#N/A"}}]
[null,"MATCH 40",null,null,null,null,null,null,null,null,null,null,null,null,null,null,null,null,null,null,{"$f":"IFERROR(VLOOKUP(F53,CLASSEMENTELEVES!$C$4:$D$37,2,FALSE)-VLOOKUP(K53,CLASSEMENTELEVES!$C$4:$D$37,2,FALSE),\"\")","v":""},null,null,null,"0_",0,0,0,0,"V",{"$f":"IF(Z53<>0,COUNTIF($Z$14:Z53,Z53),\"\")","v":""},{"$f":"IFERROR(VLOOKUP(U53,DEBUT!$D$5:$F$122,2,FALSE),0)","v":0},{"$f":"IF(VLOOKUP(F53,CLASSEMENTELEVES!$C$4:$D$37,2,FALSE)<VLOOKUP(K53,CLASSEMENTELEVES!$C$4:$D$37,2,FALSE),0,-U53)","v":{"$error":"#N/A"}}]
[null,"MATCH 41",null,null,null,null,null,null,null,null,null,null,null,null,null,null,null,null,null,null,{"$f":"IFERROR(VLOOKUP(F54,CLASSEMENTELEVES!$C$4:$D$37,2,FALSE)-VLOOKUP(K54,CLASSEMENTELEVES!$C$4:$D$37,2,FALSE),\"\")","v":""},null,null,null,"0_",0,0,0,0,"V",{"$f":"IF(Z54<>0,COUNTIF($Z$14:Z54,Z54),\"\")","v":""},{"$f":"IFERROR(VLOOKUP(U54,DEBUT!$D$5:$F$122,2,FALSE),0)","v":0},{"$f":"IF(VLOOKUP(F54,CLASSEMENTELEVES!$C$4:$D$37,2,FALSE)<VLOOKUP(K54,CLASSEMENTELEVES!$C$4:$D$37,2,FALSE),0,-U54)","v":{"$error":"#N/A"}}]
[null,"MATCH 42",null,null,null,null,null,null,null,null,null,null,null,null,null,null,null,null,null,null,{"$f":"IFERROR(VLOOKUP(F55,CLASSEMENTELEVES!$C$4:$D$37,2,FALSE)-VLOOKUP(K55,CLASSEMENTELEVES!$C$4:$D$37,2,FALSE),\"\")","v":""},null,null,null,"0_",0,0,0,0,"V",{"$f":"IF(Z55<>0,COUNTIF($Z$14:Z55,Z55),\"\")","v":""},{"$f":"IFERROR(VLOOKUP(U55,DEBUT!$D$5:$F$122,2,FALSE),0)","v":0},{"$f":"IF(VLOOKUP(F55,CLASSEMENTELEVES!$C$4:$D$37,2,FALSE)<VLOOKUP(K55,CLASSEMENTELEVES!$C$4:$D$37,2,FALSE),0,-U55)","v":{"$error":"#N/A"}}]
[null,"MATCH 43",null,null,null,null,null,null,null,null,null,null,null,null,null,null,null,null,null,null,{"$f":"IFERROR(VLOOKUP(F56,CLASSEMENTELEVES!$C$4:$D$37,2,FALSE)-VLOOKUP(K56,CLASSEMENTELEVES!$C$4:$D$37,2,FALSE),\"\")","v":""},null,null,null,"0_",0,0,0,0,"V",{"$f":"IF(Z56<>0,COUNTIF($Z$14:Z56,Z56),\"\")","v":""},{"$f":"IFERROR(VLOOKUP(U56,DEBUT!$D$5:$F$122,2,FALSE),0)","v":0},{"$f":"IF(VLOOKUP(F56,CLASSEMENTELEVES!$C$4:$D$37,2,FALSE)<VLOOKUP(K56,CLASSEMENTELEVES!$C$4:$D$37,2,FALSE),0,-U56)","v":{"$error":"#N/A"}}]
[null,"MATCH 44",null,null,null,null,null,null,null,null,null,null,null,null,null,null,null,null,null,null,{"$f":"IFERROR(VLOOKUP(F57,CLASSEMENTELEVES!$C$4:$D$37,2,FALSE)-VLOOKUP(K57,CLASSEMENTELEVES!$C$4:$D$37,2,FALSE),\"\")","v":""},null,null,null,"0_",0,0,0,0,"V",{"$f":"IF(Z57<>0,COUNTIF($Z$14:Z57,Z57),\"\")","v":""},{"$f":"IFERROR(VLOOKUP(U57,DEBUT!$D$5:$F$122,2,FALSE),0)","v":0},{"$f":"IF(VLOOKUP(F57,CLASSEMENTELEVES!$C$4:$D$37,2,FALSE)<VLOOKUP(K57,CLASSEMENTELEVES!$C$4:$D$37,2,FALSE),0,-U57)","v":{"$error":"#N/A"}}]
[null,"MATCH 45",null,null,null,null,null,null,null,null,null,null,null,null,null,null,null,null,null,null,{"$f":"IFERROR(VLOOKUP(F58,CLASSEMENTELEVES!$C$4:$D$37,2,FALSE)-VLOOKUP(K58,CLASSEMENTELEVES!$C$4:$D$37,2,FALSE),\"\")","v":""},null,null,null,"0_",0,0,0,0,"V",{"$f":"IF(Z58<>0,COUNTIF($Z$14:Z58,Z58),\"\")","v":""},{"$f":"IFERROR(VLOOKUP(U58,DEBUT!$D$5:$F$122,2,FALSE),0)","v":0},{"$f":"IF(VLOOKUP(F58,CLASSEMENTELEVES!$C$4:$D$37,2,FALSE)<VLOOKUP(K58,CLASSEMENTELEVES!$C$4:$D$37,2,FALSE),0,-U58)","v":{"$error":"#N/A"}}]
[null,"MATCH 46",null,null,null,null,null,null,null,null,null,null,null,null,null,null,null,null,null,null,{"$f":"IFERROR(VLOOKUP(F59,CLASSEMENTELEVES!$C$4:$D$37,2,FALSE)-VLOOKUP(K59,CLASSEMENTELEVES!$C$4:$D$37,2,FALSE),\"\")","v":""},null,null,null,"0_",0,0,0,0,"V",{"$f":"IF(Z59<>0,COUNTIF($Z$14:Z59,Z59),\"\")","v":""},{"$f":"IFERROR(VLOOKUP(U59,DEBUT!$D$5:$F$122,2,FALSE),0)","v":0},{"$f":"IF(VLOOKUP(F59,CLASSEMENTELEVES!$C$4:$D$37,2,FALSE)<VLOOKUP(K59,CLASSEMENTELEVES!$C$4:$D$37,2,FALSE),0,-U59)","v":{"$error":"#N/A"}}]
[null,"MATCH 47",null,null,null,null,null,null,null,null,null,null,null,null,null,null,null,null,null,null,{"$f":"IFERROR(VLOOKUP(F60,CLASSEMENTELEVES!$C$4:$D$37,2,FALSE)-VLOOKUP(K60,CLASSEMENTELEVES!$C$4:$D$37,2,FALSE),\"\")","v":""},null,null,null,"0_",0,0,0,0,"V",{"$f":"IF(Z60<>0,COUNTIF($Z$14:Z60,Z60),\"\")","v":""},{"$f":"IFERROR(VLOOKUP(U60,DEBUT!$D$5:$F$122,2,FALSE),0)","v":0},{"$f":"IF(VLOOKUP(F60,CLASSEMENTELEVES!$C$4:$D$37,2,FALSE)<VLOOKUP(K60,CLASSEMENTELEVES!$C$4:$D$37,2,FALSE),0,-U60)","v":{"$error":"#N/A"}}]
[null,"MATCH 48",null,null,null,null,null,null,null,null,null,null,null,null,null,null,null,null,null,null,{"$f":"IFERROR(VLOOKUP(F61,CLASSEMENTELEVES!$C$4:$D$37,2,FALSE)-VLOOKUP(K61,CLASSEMENTELEVES!$C$4:$D$37,2,FALSE),\"\")","v":""},null,null,null,"0_",0,0,0,0,"V",{"$f":"IF(Z61<>0,COUNTIF($Z$14:Z61,Z61),\"\")","v":""},{"$f":"IFERROR(VLOOKUP(U61,DEBUT!$D$5:$F$122,2,FALSE),0)","v":0},{"$f":"IF(VLOOKUP(F61,CLASSEMENTELEVES!$C$4:$D$37,2,FALSE)<VLOOKUP(K61,CLASSEMENTELEVES!$C$4:$D$37,2,FALSE),0,-U61)","v":{"$error":"#N/A"}}]
[null,"MATCH 49",null,null,null,null,null,null,null,null,null,null,null,null,null,null,null,null,null,null,{"$f":"IFERROR(VLOOKUP(F62,CLASSEMENTELEVES!$C$4:$D$37,2,FALSE)-VLOOKUP(K62,CLASSEMENTELEVES!$C$4:$D$37,2,FALSE),\"\")","v":""},null,null,null,"0_",0,0,0,0,"V",{"$f":"IF(Z62<>0,COUNTIF($Z$14:Z62,Z62),\"\")","v":""},{"$f":"IFERROR(VLOOKUP(U62,DEBUT!$D$5:$F$122,2,FALSE),0)","v":0},{"$f":"IF(VLOOKUP(F62,CLASSEMENTELEVES!$C$4:$D$37,2,FALSE)<VLOOKUP(K62,CLASSEMENTELEVES!$C$4:$D$37,2,FALSE),0,-U62)","v":{"$error":"#N/A"}}]
[null,"MATCH 50",null,null,null,null,null,null,null,null,null,null,null,null,null,null,null,null,null,null,{"$f":"IFERROR(VLOOKUP(F63,CLASSEMENTELEVES!$C$4:$D$37,2,FALSE)-VLOOKUP(K63,CLASSEMENTELEVES!$C$4:$D$37,2,FALSE),\"\")","v":""},null,null,null,"0_",0,0,0,0,"V",{"$f":"IF(Z63<>0,COUNTIF($Z$14:Z63,Z63),\"\")","v":""},{"$f":"IFERROR(VLOOKUP(U63,DEBUT!$D$5:$F$122,2,FALSE),0)","v":0},{"$f":"IF(VLOOKUP(F63,CLASSEMENTELEVES!$C$4:$D$37,2,FALSE)<VLOOKUP(K63,CLASSEMENTELEVES!$C$4:$D$37,2,FALSE),0,-U63)","v":{"$error":"#N/A"}}]
[null,"MATCH 51",null,null,null,null,null,null,null,null,null,null,null,null,null,null,null,null,null,null,{"$f":"IFERROR(VLOOKUP(F64,CLASSEMENTELEVES!$C$4:$D$37,2,FALSE)-VLOOKUP(K64,CLASSEMENTELEVES!$C$4:$D$37,2,FALSE),\"\")","v":""},null,null,null,"0_",0,0,0,0,"V",{"$f":"IF(Z64<>0,COUNTIF($Z$14:Z64,Z64),\"\")","v":""},{"$f":"IFERROR(VLOOKUP(U64,DEBUT!$D$5:$F$122,2,FALSE),0)","v":0},{"$f":"IF(VLOOKUP(F64,CLASSEMENTELEVES!$C$4:$D$37,2,FALSE)<VLOOKUP(K64,CLASSEMENTELEVES!$C$4:$D$37,2,FALSE),0,-U64)","v":{"$error":"#N/A"}}]
[null,"MATCH 52",null,null,null,null,null,null,null,null,null,null,null,null,null,null,null,null,null,null,{"$f":"IFERROR(VLOOKUP(F65,CLASSEMENTELEVES!$C$4:$D$37,2,FALSE)-VLOOKUP(K65,CLASSEMENTELEVES!$C$4:$D$37,2,FALSE),\"\")","v":""},null,null,null,"0_",0,0,0,0,"V",{"$f":"IF(Z65<>0,COUNTIF($Z$14:Z65,Z65),\"\")","v":""},{"$f":"IFERROR(VLOOKUP(U65,DEBUT!$D$5:$F$122,2,FALSE),0)","v":0},{"$f":"IF(VLOOKUP(F65,CLASSEMENTELEVES!$C$4:$D$37,2,FALSE)<VLOOKUP(K65,CLASSEMENTELEVES!$C$4:$D$37,2,FALSE),0,-U65)","v":{"$error":"#N/A"}}]
[null,"MATCH 53",null,null,null,null,null,null,null,null,null,null,null,null,null,null,null,null,null,null,{"$f":"IFERROR(VLOOKUP(F66,CLASSEMENTELEVES!$C$4:$D$37,2,FALSE)-VLOOKUP(K66,CLASSEMENTELEVES!$C$4:$D$37,2,FALSE),\"\")","v":""},null,null,null,"0_",0,0,0,0,"V",{"$f":"IF(Z66<>0,COUNTIF($Z$14:Z66,Z66),\"\")","v":""},{"$f":"IFERROR(VLOOKUP(U66,DEBUT!$D$5:$F$122,2,FALSE),0)","v":0},{"$f":"IF(VLOOKUP(F66,CLASSEMENTELEVES!$C$4:$D$37,2,FALSE)<VLOOKUP(K66,CLASSEMENTELEVES!$C$4:$D$37,2,FALSE),0,-U66)","v":{"$error":"#N/A"}}]
[null,"MATCH 54",null,null,null,null,null,null,null,null,null,null,null,null,null,null,null,null,null,null,{"$f":"IFERROR(VLOOKUP(F67,CLASSEMENTELEVES!$C$4:$D$37,2,FALSE)-VLOOKUP(K67,CLASSEMENTELEVES!$C$4:$D$37,2,FALSE),\"\")","v":""},null,null,null,"0_",0,0,0,0,"V",{"$f":"IF(Z67<>0,COUNTIF($Z$14:Z67,Z67),\"\")","v":""},{"$f":"IFERROR(VLOOKUP(U67,DEBUT!$D$5:$F$122,2,FALSE),0)","v":0},{"$f":"IF(VLOOKUP(F67,CLASSEMENTELEVES!$C$4:$D$37,2,FALSE)<VLOOKUP(K67,CLASSEMENTELEVES!$C$4:$D$37,2,FALSE),0,-U67)","v":{"$error":"#N/A"}}]
[null,"MATCH 55",null,null,null,null,null,null,null,null,null,null,null,null,null,null,null,null,null,null,{"$f":"IFERROR(VLOOKUP(F68,CLASSEMENTELEVES!$C$4:$D$37,2,FALSE)-VLOOKUP(K68,CLASSEMENTELEVES!$C$4:$D$37,2,FALSE),\"\")","v":""},null,null,null,"0_",0,0,0,0,"V",{"$f":"IF(Z68<>0,COUNTIF($Z$14:Z68,Z68),\"\")","v":""},{"$f":"IFERROR(VLOOKUP(U68,DEBUT!$D$5:$F$122,2,FALSE),0)","v":0},{"$f":"IF(VLOOKUP(F68,CLASSEMENTELEVES!$C$4:$D$37,2,FALSE)<VLOOKUP(K68,CLASSEMENTELEVES!$C$4:$D$37,2,FALSE),0,-U68)","v":{"$error":"#N/A"}}]
[null,"MATCH 56",null,null,null,null,null,null,null,null,null,null,null,null,null,null,null,null,null,null,{"$f":"IFERROR(VLOOKUP(F69,CLASSEMENTELEVES!$C$4:$D$37,2,FALSE)-VLOOKUP(K69,CLASSEMENTELEVES!$C$4:$D$37,2,FALSE),\"\")","v":""},null,null,null,"0_",0,0,0,0,"V",{"$f":"IF(Z69<>0,COUNTIF($Z$14:Z69,Z69),\"\")","v":""},{"$f":"IFERROR(VLOOKUP(U69,DEBUT!$D$5:$F$122,2,FALSE),0)","v":0},{"$f":"IF(VLOOKUP(F69,CLASSEMENTELEVES!$C$4:$D$37,2,FALSE)<VLOOKUP(K69,CLASSEMENTELEVES!$C$4:$D$37,2,FALSE),0,-U69)","v":{"$error":"#N/A"}}]
[null,"MATCH 57",null,null,null,null,null,null,null,null,null,null,null,null,null,null,null,null,null,null,{"$f":"IFERROR(VLOOKUP(F70,CLASSEMENTELEVES!$C$4:$D$37,2,FALSE)-VLOOKUP(K70,CLASSEMENTELEVES!$C$4:$D$37,2,FALSE),\"\")","v":""},null,null,null,"0_",0,0,0,0,"V",{"$f":"IF(Z70<>0,COUNTIF($Z$14:Z70,Z70),\"\")","v":""},{"$f":"IFERROR(VLOOKUP(U70,DEBUT!$D$5:$F$122,2,FALSE),0)","v":0},{"$f":"IF(VLOOKUP(F70,CLASSEMENTELEVES!$C$4:$D$37,2,FALSE)<VLOOKUP(K70,CLASSEMENTELEVES!$C$4:$D$37,2,FALSE),0,-U70)","v":{"$error":"#N/A"}}]
[null,"MATCH 58",null,null,null,null,null,null,null,null,null,null,null,null,null,null,null,null,null,null,{"$f":"IFERROR(VLOOKUP(F71,CLASSEMENTELEVES!$C$4:$D$37,2,FALSE)-VLOOKUP(K71,CLASSEMENTELEVES!$C$4:$D$37,2,FALSE),\"\")","v":""},null,null,null,"0_",0,0,0,0,"V",{"$f":"IF(Z71<>0,COUNTIF($Z$14:Z71,Z71),\"\")","v":""},{"$f":"IFERROR(VLOOKUP(U71,DEBUT!$D$5:$F$122,2,FALSE),0)","v":0},{"$f":"IF(VLOOKUP(F71,CLASSEMENTELEVES!$C$4:$D$37,2,FALSE)<VLOOKUP(K71,CLASSEMENTELEVES!$C$4:$D$37,2,FALSE),0,-U71)","v":{"$error":"#N/A"}}]
[null,"MATCH 59",null,null,null,null,null,null,null,null,null,null,null,null,null,null,null,null,null,null,{"$f":"IFERROR(VLOOKUP(F72,CLASSEMENTELEVES!$C$4:$D$37,2,FALSE)-VLOOKUP(K72,CLASSEMENTELEVES!$C$4:$D$37,2,FALSE),\"\")","v":""},null,null,null,"0_",0,0,0,0,"V",{"$f":"IF(Z72<>0,COUNTIF($Z$14:Z72,Z72),\"\")","v":""},{"$f":"IFERROR(VLOOKUP(U72,DEBUT!$D$5:$F$122,2,FALSE),0)","v":0},{"$f":"IF(VLOOKUP(F72,CLASSEMENTELEVES!$C$4:$D$37,2,FALSE)<VLOOKUP(K72,CLASSEMENTELEVES!$C$4:$D$37,2,FALSE),0,-U72)","v":{"$error":"#N/A"}}]
[null,"MATCH 60",null,null,null,null,null,null,null,null,null,null,null,null,null,null,null,null,null,null,{"$f":"IFERROR(VLOOKUP(F73,CLASSEMENTELEVES!$C$4:$D$37,2,FALSE)-VLOOKUP(K73,CLASSEMENTELEVES!$C$4:$D$37,2,FALSE),\"\")","v":""},null,null,null,"0_",0,0,0,0,"V",{"$f":"IF(Z73<>0,COUNTIF($Z$14:Z73,Z73),\"\")","v":""},{"$f":"IFERROR(VLOOKUP(U73,DEBUT!$D$5:$F$122,2,FALSE),0)","v":0},{"$f":"IF(VLOOKUP(F73,CLASSEMENTELEVES!$C$4:$D$37,2,FALSE)<VLOOKUP(K73,CLASSEMENTELEVES!$C$4:$D$37,2,FALSE),0,-U73)","v":{"$error":"#N/A"}}]
[null,"MATCH 61",null,null,null,null,null,null,null,null,null,null,null,null,null,null,null,null,null,null,{"$f":"IFERROR(VLOOKUP(F74,CLASSEMENTELEVES!$C$4:$D$37,2,FALSE)-VLOOKUP(K74,CLASSEMENTELEVES!$C$4:$D$37,2,FALSE),\"\")","v":""},null,null,null,"0_",0,0,0,0,"V",{"$f":"IF(Z74<>0,COUNTIF($Z$14:Z74,Z74),\"\")","v":""},{"$f":"IFERROR(VLOOKUP(U74,DEBUT!$D$5:$F$122,2,FALSE),0)","v":0},{"$f":"IF(VLOOKUP(F74,CLASSEMENTELEVES!$C$4:$D$37,2,FALSE)<VLOOKUP(K74,CLASSEMENTELEVES!$C$4:$D$37,2,FALSE),0,-U74)","v":{"$error":"#N/A"}}]
[null,"MATCH 62",null,null,null,null,null,null,null,null,null,null,null,null,null,null,null,null,null,null,{"$f":"IFERROR(VLOOKUP(F75,CLASSEMENTELEVES!$C$4:$D$37,2,FALSE)-VLOOKUP(K75,CLASSEMENTELEVES!$C$4:$D$37,2,FALSE),\"\")","v":""},null,null,null,"0_",0,0,0,0,"V",{"$f":"IF(Z75<>0,COUNTIF($Z$14:Z75,Z75),\"\")","v":""},{"$f":"IFERROR(VLOOKUP(U75,DEBUT!$D$5:$F$122,2,FALSE),0)","v":0},{"$f":"IF(VLOOKUP(F75,CLASSEMENTELEVES!$C$4:$D$37,2,FALSE)<VLOOKUP(K75,CLASSEMENTELEVES!$C$4:$D$37,2,FALSE),0,-U75)","v":{"$error":"#N/A"}}]
[null,"MATCH 63",null,null,null,null,null,null,null,null,null,null,null,null,null,null,null,null,null,null,{"$f":"IFERROR(VLOOKUP(F76,CLASSEMENTELEVES!$C$4:$D$37,2,FALSE)-VLOOKUP(K76,CLASSEMENTELEVES!$C$4:$D$37,2,FALSE),\"\")","v":""},null,null,null,"0_",0,0,0,0,"V",{"$f":"IF(Z76<>0,COUNTIF($Z$14:Z76,Z76),\"\")","v":""},{"$f":"IFERROR(VLOOKUP(U76,DEBUT!$D$5:$F$122,2,FALSE),0)","v":0},{"$f":"IF(VLOOKUP(F76,CLASSEMENTELEVES!$C$4:$D$37,2,FALSE)<VLOOKUP(K76,CLASSEMENTELEVES!$C$4:$D$37,2,FALSE),0,-U76)","v":{"$error":"#N/A"}}]
[null,"MATCH 64",null,null,null,null,null,null,null,null,null,null,null,null,null,null,null,null,null,null,{"$f":"IFERROR(VLOOKUP(F77,CLASSEMENTELEVES!$C$4:$D$37,2,FALSE)-VLOOKUP(K77,CLASSEMENTELEVES!$C$4:$D$37,2,FALSE),\"\")","v":""},null,null,null,"0_",0,0,0,0,"V",{"$f":"IF(Z77<>0,COUNTIF($Z$14:Z77,Z77),\"\")","v":""},{"$f":"IFERROR(VLOOKUP(U77,DEBUT!$D$5:$F$122,2,FALSE),0)","v":0},{"$f":"IF(VLOOKUP(F77,CLASSEMENTELEVES!$C$4:$D$37,2,FALSE)<VLOOKUP(K77,CLASSEMENTELEVES!$C$4:$D$37,2,FALSE),0,-U77)","v":{"$error":"#N/A"}}]
[null,"MATCH 65",null,null,null,null,null,null,null,null,null,null,null,null,null,null,null,null,null,null,{"$f":"IFERROR(VLOOKUP(F78,CLASSEMENTELEVES!$C$4:$D$37,2,FALSE)-VLOOKUP(K78,CLASSEMENTELEVES!$C$4:$D$37,2,FALSE),\"\")","v":""},null,null,null,{"$f":"Z78&\"_\"&AE78","v":"0_"},0,0,0,0,"V",{"$f":"IF(Z78<>0,COUNTIF($Z$14:Z78,Z78),\"\")","v":""},{"$f":"IFERROR(VLOOKUP(U78,DEBUT!$D$5:$F$122,2,FALSE),0)","v":0},{"$f":"IF(VLOOKUP(F78,CLASSEMENTELEVES!$C$4:$D$37,2,FALSE)<VLOOKUP(K78,CLASSEMENTELEVES!$C$4:$D$37,2,FALSE),0,-U78)","v":{"$error":"#N/A"}}]
[null,"MATCH 66",null,null,null,null,null,null,null,null,null,null,null,null,null,null,null,null,null,null,{"$f":"IFERROR(VLOOKUP(F79,CLASSEMENTELEVES!$C$4:$D$37,2,FALSE)-VLOOKUP(K79,CLASSEMENTELEVES!$C$4:$D$37,2,FALSE),\"\")","v":""},null,null,null,"0_",{"$f":"F79","v":0},{"$f":"I79","v":0},{"$f":"P79","v":0},{"$f":"N79","v":0},"V",{"$f":"IF(Z79<>0,COUNTIF($Z$14:Z79,Z79),\"\")","v":""},{"$f":"IFERROR(VLOOKUP(U79,DEBUT!$D$5:$F$122,2,FALSE),0)","v":0},{"$f":"IF(VLOOKUP(F79,CLASSEMENTELEVES!$C$4:$D$37,2,FALSE)<VLOOKUP(K79,CLASSEMENTELEVES!$C$4:$D$37,2,FALSE),0,-U79)","v":{"$error":"#N/A"}}]
[null,"MATCH 67",null,null,null,null,null,null,null,null,null,null,null,null,null,null,null,null,null,null,{"$f":"IFERROR(VLOOKUP(F80,CLASSEMENTELEVES!$C$4:$D$37,2,FALSE)-VLOOKUP(K80,CLASSEMENTELEVES!$C$4:$D$37,2,FALSE),\"\")","v":""},null,null,null,"0_",0,0,0,0,"V",{"$f":"IF(Z80<>0,COUNTIF($Z$14:Z80,Z80),\"\")","v":""},{"$f":"IFERROR(VLOOKUP(U80,DEBUT!$D$5:$F$122,2,FALSE),0)","v":0},{"$f":"IF(VLOOKUP(F80,CLASSEMENTELEVES!$C$4:$D$37,2,FALSE)<VLOOKUP(K80,CLASSEMENTELEVES!$C$4:$D$37,2,FALSE),0,-U80)","v":{"$error":"#N/A"}}]
[null,"MATCH 68",null,null,null,null,null,null,null,null,null,null,null,null,null,null,null,null,null,null,{"$f":"IFERROR(VLOOKUP(F81,CLASSEMENTELEVES!$C$4:$D$37,2,FALSE)-VLOOKUP(K81,CLASSEMENTELEVES!$C$4:$D$37,2,FALSE),\"\")","v":""},null,null,null,"0_",0,0,0,0,"V",{"$f":"IF(Z81<>0,COUNTIF($Z$14:Z81,Z81),\"\")","v":""},{"$f":"IFERROR(VLOOKUP(U81,DEBUT!$D$5:$F$122,2,FALSE),0)","v":0},{"$f":"IF(VLOOKUP(F81,CLASSEMENTELEVES!$C$4:$D$37,2,FALSE)<VLOOKUP(K81,CLASSEMENTELEVES!$C$4:$D$37,2,FALSE),0,-U81)","v":{"$error":"#N/A"}}]
[null,"MATCH 69",null,null,null,null,null,null,null,null,null,null,null,null,null,null,null,null,null,null,{"$f":"IFERROR(VLOOKUP(F82,CLASSEMENTELEVES!$C$4:$D$37,2,FALSE)-VLOOKUP(K82,CLASSEMENTELEVES!$C$4:$D$37,2,FALSE),\"\")","v":""},null,null,null,"0_",0,0,0,0,"V",{"$f":"IF(Z82<>0,COUNTIF($Z$14:Z82,Z82),\"\")","v":""},{"$f":"IFERROR(VLOOKUP(U82,DEBUT!$D$5:$F$122,2,FALSE),0)","v":0},{"$f":"IF(VLOOKUP(F82,CLASSEMENTELEVES!$C$4:$D$37,2,FALSE)<VLOOKUP(K82,CLASSEMENTELEVES!$C$4:$D$37,2,FALSE),0,-U82)","v":{"$error":"#N/A"}}]
[null,"MATCH 70",null,null,null,null,null,null,null,null,null,null,null,null,null,null,null,null,null,null,{"$f":"IFERROR(VLOOKUP(F83,CLASSEMENTELEVES!$C$4:$D$37,2,FALSE)-VLOOKUP(K83,CLASSEMENTELEVES!$C$4:$D$37,2,FALSE),\"\")","v":""},null,null,null,"0_",0,0,0,0,"V",{"$f":"IF(Z83<>0,COUNTIF($Z$14:Z83,Z83),\"\")","v":""},{"$f":"IFERROR(VLOOKUP(U83,DEBUT!$D$5:$F$122,2,FALSE),0)","v":0},{"$f":"IF(VLOOKUP(F83,CLASSEMENTELEVES!$C$4:$D$37,2,FALSE)<VLOOKUP(K83,CLASSEMENTELEVES!$C$4:$D$37,2,FALSE),0,-U83)","v":{"$error":"#N/A"}}]
[null,"MATCH 71",null,null,null,null,null,null,null,null,null,null,null,null,null,null,null,null,null,null,{"$f":"IFERROR(VLOOKUP(F84,CLASSEMENTELEVES!$C$4:$D$37,2,FALSE)-VLOOKUP(K84,CLASSEMENTELEVES!$C$4:$D$37,2,FALSE),\"\")","v":""},null,null,null,"0_",0,0,0,0,"V",{"$f":"IF(Z84<>0,COUNTIF($Z$14:Z84,Z84),\"\")","v":""},{"$f":"IFERROR(VLOOKUP(U84,DEBUT!$D$5:$F$122,2,FALSE),0)","v":0},{"$f":"IF(VLOOKUP(F84,CLASSEMENTELEVES!$C$4:$D$37,2,FALSE)<VLOOKUP(K84,CLASSEMENTELEVES!$C$4:$D$37,2,FALSE),0,-U84)","v":{"$error":"#N/A"}}]
[null,"MATCH 72",null,null,null,null,null,null,null,null,null,null,null,null,null,null,null,null,null,null,{"$f":"IFERROR(VLOOKUP(F85,CLASSEMENTELEVES!$C$4:$D$37,2,FALSE)-VLOOKUP(K85,CLASSEMENTELEVES!$C$4:$D$37,2,FALSE),\"\")","v":""},null,null,null,"0_",0,0,0,0,"V",{"$f":"IF(Z85<>0,COUNTIF($Z$14:Z85,Z85),\"\")","v":""},{"$f":"IFERROR(VLOOKUP(U85,DEBUT!$D$5:$F$122,2,FALSE),0)","v":0},{"$f":"IF(VLOOKUP(F85,CLASSEMENTELEVES!$C$4:$D$37,2,FALSE)<VLOOKUP(K85,CLASSEMENTELEVES!$C$4:$D$37,2,FALSE),0,-U85)","v":{"$error":"#N/A"}}]
[null,"MATCH 73",null,null,null,null,null,null,null,null,null,null,null,null,null,null,null,null,null,null,{"$f":"IFERROR(VLOOKUP(F86,CLASSEMENTELEVES!$C$4:$D$37,2,FALSE)-VLOOKUP(K86,CLASSEMENTELEVES!$C$4:$D$37,2,FALSE),\"\")","v":""},null,null,null,"0_",0,0,0,0,"V",{"$f":"IF(Z86<>0,COUNTIF($Z$14:Z86,Z86),\"\")","v":""},{"$f":"IFERROR(VLOOKUP(U86,DEBUT!$D$5:$F$122,2,FALSE),0)","v":0},{"$f":"IF(VLOOKUP(F86,CLASSEMENTELEVES!$C$4:$D$37,2,FALSE)<VLOOKUP(K86,CLASSEMENTELEVES!$C$4:$D$37,2,FALSE),0,-U86)","v":{"$error":"#N/A"}}]
[null,"MATCH 74",null,null,null,null,null,null,null,null,null,null,null,null,null,null,null,null,null,null,{"$f":"IFERROR(VLOOKUP(F87,CLASSEMENTELEVES!$C$4:$D$37,2,FALSE)-VLOOKUP(K87,CLASSEMENTELEVES!$C$4:$D$37,2,FALSE),\"\")","v":""},null,null,null,"0_",0,0,0,0,"V",{"$f":"IF(Z87<>0,COUNTIF($Z$14:Z87,Z87),\"\")","v":""},{"$f":"IFERROR(VLOOKUP(U87,DEBUT!$D$5:$F$122,2,FALSE),0)","v":0},{"$f":"IF(VLOOKUP(F87,CLASSEMENTELEVES!$C$4:$D$37,2,FALSE)<VLOOKUP(K87,CLASSEMENTELEVES!$C$4:$D$37,2,FALSE),0,-U87)","v":{"$error":"#N/A"}}]
[null,"MATCH 75",null,null,null,null,null,null,null,null,null,null,null,null,null,null,null,null,null,null,{"$f":"IFERROR(VLOOKUP(F88,CLASSEMENTELEVES!$C$4:$D$37,2,FALSE)-VLOOKUP(K88,CLASSEMENTELEVES!$C$4:$D$37,2,FALSE),\"\")","v":""},null,null,null,"0_",0,0,0,0,"V",{"$f":"IF(Z88<>0,COUNTIF($Z$14:Z88,Z88),\"\")","v":""},{"$f":"IFERROR(VLOOKUP(U88,DEBUT!$D$5:$F$122,2,FALSE),0)","v":0},{"$f":"IF(VLOOKUP(F88,CLASSEMENTELEVES!$C$4:$D$37,2,FALSE)<VLOOKUP(K88,CLASSEMENTELEVES!$C$4:$D$37,2,FALSE),0,-U88)","v":{"$error":"#N/A"}}]
[null,"MATCH 76",null,null,null,null,null,null,null,null,null,null,null,null,null,null,null,null,null,null,{"$f":"IFERROR(VLOOKUP(F89,CLASSEMENTELEVES!$C$4:$D$37,2,FALSE)-VLOOKUP(K89,CLASSEMENTELEVES!$C$4:$D$37,2,FALSE),\"\")","v":""},null,null,null,"0_",0,0,0,0,"V",{"$f":"IF(Z89<>0,COUNTIF($Z$14:Z89,Z89),\"\")","v":""},{"$f":"IFERROR(VLOOKUP(U89,DEBUT!$D$5:$F$122,2,FALSE),0)","v":0},{"$f":"IF(VLOOKUP(F89,CLASSEMENTELEVES!$C$4:$D$37,2,FALSE)<VLOOKUP(K89,CLASSEMENTELEVES!$C$4:$D$37,2,FALSE),0,-U89)","v":{"$error":"#N/A"}}]
[null,"MATCH 77",null,null,null,null,null,null,null,null,null,null,null,null,null,null,null,null,null,null,{"$f":"IFERROR(VLOOKUP(F90,CLASSEMENTELEVES!$C$4:$D$37,2,FALSE)-VLOOKUP(K90,CLASSEMENTELEVES!$C$4:$D$37,2,FALSE),\"\")","v":""},null,null,null,"0_",0,0,0,0,"V",{"$f":"IF(Z90<>0,COUNTIF($Z$14:Z90,Z90),\"\")","v":""},{"$f":"IFERROR(VLOOKUP(U90,DEBUT!$D$5:$F$122,2,FALSE),0)","v":0},{"$f":"IF(VLOOKUP(F90,CLASSEMENTELEVES!$C$4:$D$37,2,FALSE)<VLOOKUP(K90,CLASSEMENTELEVES!$C$4:$D$37,2,FALSE),0,-U90)","v":{"$error":"#N/A"}}]
[null,"MATCH 78",null,null,null,null,null,null,null,null,null,null,null,null,null,null,null,null,null,null,{"$f":"IFERROR(VLOOKUP(F91,CLASSEMENTELEVES!$C$4:$D$37,2,FALSE)-VLOOKUP(K91,CLASSEMENTELEVES!$C$4:$D$37,2,FALSE),\"\")","v":""},null,null,null,"0_",0,0,0,0,"V",{"$f":"IF(Z91<>0,COUNTIF($Z$14:Z91,Z91),\"\")","v":""},{"$f":"IFERROR(VLOOKUP(U91,DEBUT!$D$5:$F$122,2,FALSE),0)","v":0},{"$f":"IF(VLOOKUP(F91,CLASSEMENTELEVES!$C$4:$D$37,2,FALSE)<VLOOKUP(K91,CLASSEMENTELEVES!$C$4:$D$37,2,FALSE),0,-U91)","v":{"$error":"#N/A"}}]
[null,"MATCH 79",null,null,null,null,null,null,null,null,null,null,null,null,null,null,null,null,null,null,{"$f":"IFERROR(VLOOKUP(F92,CLASSEMENTELEVES!$C$4:$D$37,2,FALSE)-VLOOKUP(K92,CLASSEMENTELEVES!$C$4:$D$37,2,FALSE),\"\")","v":""},null,null,null,"0_",0,0,0,0,"V",{"$f":"IF(Z92<>0,COUNTIF($Z$14:Z92,Z92),\"\")","v":""},{"$f":"IFERROR(VLOOKUP(U92,DEBUT!$D$5:$F$122,2,FALSE),0)","v":0},{"$f":"IF(VLOOKUP(F92,CLASSEMENTELEVES!$C$4:$D$37,2,FALSE)<VLOOKUP(K92,CLASSEMENTELEVES!$C$4:$D$37,2,FALSE),0,-U92)","v":{"$error":"#N/A"}}]
[null,"MATCH 80",null,null,null,null,null,null,null,null,null,null,null,null,null,null,null,null,null,null,{"$f":"IFERROR(VLOOKUP(F93,CLASSEMENTELEVES!$C$4:$D$37,2,FALSE)-VLOOKUP(K93,CLASSEMENTELEVES!$C$4:$D$37,2,FALSE),\"\")","v":""},null,null,null,"0_",0,0,0,0,"V",{"$f":"IF(Z93<>0,COUNTIF($Z$14:Z93,Z93),\"\")","v":""},{"$f":"IFERROR(VLOOKUP(U93,DEBUT!$D$5:$F$122,2,FALSE),0)","v":0},{"$f":"IF(VLOOKUP(F93,CLASSEMENTELEVES!$C$4:$D$37,2,FALSE)<VLOOKUP(K93,CLASSEMENTELEVES!$C$4:$D$37,2,FALSE),0,-U93)","v":{"$error":"#N/A"}}]
[null,"MATCH 81",null,null,null,null,null,null,null,null,null,null,null,null,null,null,null,null,null,null,{"$f":"IFERROR(VLOOKUP(F94,CLASSEMENTELEVES!$C$4:$D$37,2,FALSE)-VLOOKUP(K94,CLASSEMENTELEVES!$C$4:$D$37,2,FALSE),\"\")","v":""},null,null,null,"0_",0,0,0,0,"V",{"$f":"IF(Z94<>0,COUNTIF($Z$14:Z94,Z94),\"\")","v":""},{"$f":"IFERROR(VLOOKUP(U94,DEBUT!$D$5:$F$122,2,FALSE),0)","v":0},{"$f":"IF(VLOOKUP(F94,CLASSEMENTELEVES!$C$4:$D$37,2,FALSE)<VLOOKUP(K94,CLASSEMENTELEVES!$C$4:$D$37,2,FALSE),0,-U94)","v":{"$error":"#N/A"}}]
[null,"MATCH 82",null,null,null,null,null,null,null,null,null,null,null,null,null,null,null,null,null,null,{"$f":"IFERROR(VLOOKUP(F95,CLASSEMENTELEVES!$C$4:$D$37,2,FALSE)-VLOOKUP(K95,CLASSEMENTELEVES!$C$4:$D$37,2,FALSE),\"\")","v":""},null,null,null,"0_",0,0,0,0,"V",{"$f":"IF(Z95<>0,COUNTIF($Z$14:Z95,Z95),\"\")","v":""},{"$f":"IFERROR(VLOOKUP(U95,DEBUT!$D$5:$F$122,2,FALSE),0)","v":0},{"$f":"IF(VLOOKUP(F95,CLASSEMENTELEVES!$C$4:$D$37,2,FALSE)<VLOOKUP(K95,CLASSEMENTELEVES!$C$4:$D$37,2,FALSE),0,-U95)","v":{"$error":"#N/A"}}]
[null,"MATCH 83",null,null,null,null,null,null,null,null,null,null,null,null,null,null,null,null,null,null,{"$f":"IFERROR(VLOOKUP(F96,CLASSEMENTELEVES!$C$4:$D$37,2,FALSE)-VLOOKUP(K96,CLASSEMENTELEVES!$C$4:$D$37,2,FALSE),\"\")","v":""},null,null,null,"0_",0,0,0,0,"V",{"$f":"IF(Z96<>0,COUNTIF($Z$14:Z96,Z96),\"\")","v":""},{"$f":"IFERROR(VLOOKUP(U96,DEBUT!$D$5:$F$122,2,FALSE),0)","v":0},{"$f":"IF(VLOOKUP(F96,CLASSEMENTELEVES!$C$4:$D$37,2,FALSE)<VLOOKUP(K96,CLASSEMENTELEVES!$C$4:$D$37,2,FALSE),0,-U96)","v":{"$error":"#N/A"}}]
[null,"MATCH 84",null,null,null,null,null,null,null,null,null,null,null,null,null,null,null,null,null,null,{"$f":"IFERROR(VLOOKUP(F97,CLASSEMENTELEVES!$C$4:$D$37,2,FALSE)-VLOOKUP(K97,CLASSEMENTELEVES!$C$4:$D$37,2,FALSE),\"\")","v":""},null,null,null,"0_",0,0,0,0,"V",{"$f":"IF(Z97<>0,COUNTIF($Z$14:Z97,Z97),\"\")","v":""},{"$f":"IFERROR(VLOOKUP(U97,DEBUT!$D$5:$F$122,2,FALSE),0)","v":0},{"$f":"IF(VLOOKUP(F97,CLASSEMENTELEVES!$C$4:$D$37,2,FALSE)<VLOOKUP(K97,CLASSEMENTELEVES!$C$4:$D$37,2,FALSE),0,-U97)","v":{"$error":"#N/A"}}]
[null,"MATCH 85",null,null,null,null,null,null,null,null,null,null,null,null,null,null,null,null,null,null,{"$f":"IFERROR(VLOOKUP(F98,CLASSEMENTELEVES!$C$4:$D$37,2,FALSE)-VLOOKUP(K98,CLASSEMENTELEVES!$C$4:$D$37,2,FALSE),\"\")","v":""},null,null,null,"0_",0,0,0,0,"V",{"$f":"IF(Z98<>0,COUNTIF($Z$14:Z98,Z98),\"\")","v":""},{"$f":"IFERROR(VLOOKUP(U98,DEBUT!$D$5:$F$122,2,FALSE),0)","v":0},{"$f":"IF(VLOOKUP(F98,CLASSEMENTELEVES!$C$4:$D$37,2,FALSE)<VLOOKUP(K98,CLASSEMENTELEVES!$C$4:$D$37,2,FALSE),0,-U98)","v":{"$error":"#N/A"}}]
[null,"MATCH 86",null,null,null,null,null,null,null,null,null,null,null,null,null,null,null,null,null,null,{"$f":"IFERROR(VLOOKUP(F99,CLASSEMENTELEVES!$C$4:$D$37,2,FALSE)-VLOOKUP(K99,CLASSEMENTELEVES!$C$4:$D$37,2,FALSE),\"\")","v":""},null,null,null,"0_",0,0,0,0,"V",{"$f":"IF(Z99<>0,COUNTIF($Z$14:Z99,Z99),\"\")","v":""},{"$f":"IFERROR(VLOOKUP(U99,DEBUT!$D$5:$F$122,2,FALSE),0)","v":0},{"$f":"IF(VLOOKUP(F99,CLASSEMENTELEVES!$C$4:$D$37,2,FALSE)<VLOOKUP(K99,CLASSEMENTELEVES!$C$4:$D$37,2,FALSE),0,-U99)","v":{"$error":"#N/A"}}]
[null,"MATCH 87",null,null,null,null,null,null,null,null,null,null,null,null,null,null,null,null,null,null,{"$f":"IFERROR(VLOOKUP(F100,CLASSEMENTELEVES!$C$4:$D$37,2,FALSE)-VLOOKUP(K100,CLASSEMENTELEVES!$C$4:$D$37,2,FALSE),\"\")","v":""},null,null,null,"0_",0,0,0,0,"V",{"$f":"IF(Z100<>0,COUNTIF($Z$14:Z100,Z100),\"\")","v":""},{"$f":"IFERROR(VLOOKUP(U100,DEBUT!$D$5:$F$122,2,FALSE),0)","v":0},{"$f":"IF(VLOOKUP(F100,CLASSEMENTELEVES!$C$4:$D$37,2,FALSE)<VLOOKUP(K100,CLASSEMENTELEVES!$C$4:$D$37,2,FALSE),0,-U100)","v":{"$error":"#N/A"}}]
[null,"MATCH 88",null,null,null,null,null,null,null,null,null,null,null,null,null,null,null,null,null,null,{"$f":"IFERROR(VLOOKUP(F101,CLASSEMENTELEVES!$C$4:$D$37,2,FALSE)-VLOOKUP(K101,CLASSEMENTELEVES!$C$4:$D$37,2,FALSE),\"\")","v":""},null,null,null,"0_",0,0,0,0,"V",{"$f":"IF(Z101<>0,COUNTIF($Z$14:Z101,Z101),\"\")","v":""},{"$f":"IFERROR(VLOOKUP(U101,DEBUT!$D$5:$F$122,2,FALSE),0)","v":0},{"$f":"IF(VLOOKUP(F101,CLASSEMENTELEVES!$C$4:$D$37,2,FALSE)<VLOOKUP(K101,CLASSEMENTELEVES!$C$4:$D$37,2,FALSE),0,-U101)","v":{"$error":"#N/A"}}]
[null,"MATCH 89",null,null,null,null,null,null,null,null,null,null,null,null,null,null,null,null,null,null,{"$f":"IFERROR(VLOOKUP(F102,CLASSEMENTELEVES!$C$4:$D$37,2,FALSE)-VLOOKUP(K102,CLASSEMENTELEVES!$C$4:$D$37,2,FALSE),\"\")","v":""},null,null,null,"0_",0,0,0,0,"V",{"$f":"IF(Z102<>0,COUNTIF($Z$14:Z102,Z102),\"\")","v":""},{"$f":"IFERROR(VLOOKUP(U102,DEBUT!$D$5:$F$122,2,FALSE),0)","v":0},{"$f":"IF(VLOOKUP(F102,CLASSEMENTELEVES!$C$4:$D$37,2,FALSE)<VLOOKUP(K102,CLASSEMENTELEVES!$C$4:$D$37,2,FALSE),0,-U102)","v":{"$error":"#N/A"}}]
[null,"MATCH 90",null,null,null,null,null,null,null,null,null,null,null,null,null,null,null,null,null,null,{"$f":"IFERROR(VLOOKUP(F103,CLASSEMENTELEVES!$C$4:$D$37,2,FALSE)-VLOOKUP(K103,CLASSEMENTELEVES!$C$4:$D$37,2,FALSE),\"\")","v":""},null,null,null,"0_",0,0,0,0,"V",{"$f":"IF(Z103<>0,COUNTIF($Z$14:Z103,Z103),\"\")","v":""},{"$f":"IFERROR(VLOOKUP(U103,DEBUT!$D$5:$F$122,2,FALSE),0)","v":0},{"$f":"IF(VLOOKUP(F103,CLASSEMENTELEVES!$C$4:$D$37,2,FALSE)<VLOOKUP(K103,CLASSEMENTELEVES!$C$4:$D$37,2,FALSE),0,-U103)","v":{"$error":"#N/A"}}]
[null,"MATCH 91",null,null,null,null,null,null,null,null,null,null,null,null,null,null,null,null,null,null,{"$f":"IFERROR(VLOOKUP(F104,CLASSEMENTELEVES!$C$4:$D$37,2,FALSE)-VLOOKUP(K104,CLASSEMENTELEVES!$C$4:$D$37,2,FALSE),\"\")","v":""},null,null,null,"0_",0,0,0,0,"V",{"$f":"IF(Z104<>0,COUNTIF($Z$14:Z104,Z104),\"\")","v":""},{"$f":"IFERROR(VLOOKUP(U104,DEBUT!$D$5:$F$122,2,FALSE),0)","v":0},{"$f":"IF(VLOOKUP(F104,CLASSEMENTELEVES!$C$4:$D$37,2,FALSE)<VLOOKUP(K104,CLASSEMENTELEVES!$C$4:$D$37,2,FALSE),0,-U104)","v":{"$error":"#N/A"}}]
[null,"MATCH 92",null,null,null,null,null,null,null,null,null,null,null,null,null,null,null,null,null,null,{"$f":"IFERROR(VLOOKUP(F105,CLASSEMENTELEVES!$C$4:$D$37,2,FALSE)-VLOOKUP(K105,CLASSEMENTELEVES!$C$4:$D$37,2,FALSE),\"\")","v":""},null,null,null,"0_",0,0,0,0,"V",{"$f":"IF(Z105<>0,COUNTIF($Z$14:Z105,Z105),\"\")","v":""},{"$f":"IFERROR(VLOOKUP(U105,DEBUT!$D$5:$F$122,2,FALSE),0)","v":0},{"$f":"IF(VLOOKUP(F105,CLASSEMENTELEVES!$C$4:$D$37,2,FALSE)<VLOOKUP(K105,CLASSEMENTELEVES!$C$4:$D$37,2,FALSE),0,-U105)","v":{"$error":"#N/A"}}]
[null,"MATCH 93",null,null,null,null,null,null,null,null,null,null,null,null,null,null,null,null,null,null,{"$f":"IFERROR(VLOOKUP(F106,CLASSEMENTELEVES!$C$4:$D$37,2,FALSE)-VLOOKUP(K106,CLASSEMENTELEVES!$C$4:$D$37,2,FALSE),\"\")","v":""},null,null,null,"0_",0,0,0,0,"V",{"$f":"IF(Z106<>0,COUNTIF($Z$14:Z106,Z106),\"\")","v":""},{"$f":"IFERROR(VLOOKUP(U106,DEBUT!$D$5:$F$122,2,FALSE),0)","v":0},{"$f":"IF(VLOOKUP(F106,CLASSEMENTELEVES!$C$4:$D$37,2,FALSE)<VLOOKUP(K106,CLASSEMENTELEVES!$C$4:$D$37,2,FALSE),0,-U106)","v":{"$error":"#N/A"}}]
[null,"MATCH 94",null,null,null,null,null,null,null,null,null,null,null,null,null,null,null,null,null,null,{"$f":"IFERROR(VLOOKUP(F107,CLASSEMENTELEVES!$C$4:$D$37,2,FALSE)-VLOOKUP(K107,CLASSEMENTELEVES!$C$4:$D$37,2,FALSE),\"\")","v":""},null,null,null,"0_",0,0,0,0,"V",{"$f":"IF(Z107<>0,COUNTIF($Z$14:Z107,Z107),\"\")","v":""},{"$f":"IFERROR(VLOOKUP(U107,DEBUT!$D$5:$F$122,2,FALSE),0)","v":0},{"$f":"IF(VLOOKUP(F107,CLASSEMENTELEVES!$C$4:$D$37,2,FALSE)<VLOOKUP(K107,CLASSEMENTELEVES!$C$4:$D$37,2,FALSE),0,-U107)","v":{"$error":"#N/A"}}]
[null,"MATCH 95",null,null,null,null,null,null,null,null,null,null,null,null,null,null,null,null,null,null,{"$f":"IFERROR(VLOOKUP(F108,CLASSEMENTELEVES!$C$4:$D$37,2,FALSE)-VLOOKUP(K108,CLASSEMENTELEVES!$C$4:$D$37,2,FALSE),\"\")","v":""},null,null,null,"0_",0,0,0,0,"V",{"$f":"IF(Z108<>0,COUNTIF($Z$14:Z108,Z108),\"\")","v":""},{"$f":"IFERROR(VLOOKUP(U108,DEBUT!$D$5:$F$122,2,FALSE),0)","v":0},{"$f":"IF(VLOOKUP(F108,CLASSEMENTELEVES!$C$4:$D$37,2,FALSE)<VLOOKUP(K108,CLASSEMENTELEVES!$C$4:$D$37,2,FALSE),0,-U108)","v":{"$error":"#N/A"}}]
[null,"MATCH 96",null,null,null,null,null,null,null,null,null,null,null,null,null,null,null,null,null,null,{"$f":"IFERROR(VLOOKUP(F109,CLASSEMENTELEVES!$C$4:$D$37,2,FALSE)-VLOOKUP(K109,CLASSEMENTELEVES!$C$4:$D$37,2,FALSE),\"\")","v":""},null,null,null,"0_",0,0,0,0,"V",{"$f":"IF(Z109<>0,COUNTIF($Z$14:Z109,Z109),\"\")","v":""},{"$f":"IFERROR(VLOOKUP(U109,DEBUT!$D$5:$F$122,2,FALSE),0)","v":0},{"$f":"IF(VLOOKUP(F109,CLASSEMENTELEVES!$C$4:$D$37,2,FALSE)<VLOOKUP(K109,CLASSEMENTELEVES!$C$4:$D$37,2,FALSE),0,-U109)","v":{"$error":"#N/A"}}]
[null,"MATCH 97",null,null,null,null,null,null,null,null,null,null,null,null,null,null,null,null,null,null,{"$f":"IFERROR(VLOOKUP(F110,CLASSEMENTELEVES!$C$4:$D$37,2,FALSE)-VLOOKUP(K110,CLASSEMENTELEVES!$C$4:$D$37,2,FALSE),\"\")","v":""},null,null,null,"0_",0,0,0,0,"V",{"$f":"IF(Z110<>0,COUNTIF($Z$14:Z110,Z110),\"\")","v":""},{"$f":"IFERROR(VLOOKUP(U110,DEBUT!$D$5:$F$122,2,FALSE),0)","v":0},{"$f":"IF(VLOOKUP(F110,CLASSEMENTELEVES!$C$4:$D$37,2,FALSE)<VLOOKUP(K110,CLASSEMENTELEVES!$C$4:$D$37,2,FALSE),0,-U110)","v":{"$error":"#N/A"}}]
[null,"MATCH 98",null,null,null,null,null,null,null,null,null,null,null,null,null,null,null,null,null,null,{"$f":"IFERROR(VLOOKUP(F111,CLASSEMENTELEVES!$C$4:$D$37,2,FALSE)-VLOOKUP(K111,CLASSEMENTELEVES!$C$4:$D$37,2,FALSE),\"\")","v":""},null,null,null,"0_",0,0,0,0,"V",{"$f":"IF(Z111<>0,COUNTIF($Z$14:Z111,Z111),\"\")","v":""},{"$f":"IFERROR(VLOOKUP(U111,DEBUT!$D$5:$F$122,2,FALSE),0)","v":0},{"$f":"IF(VLOOKUP(F111,CLASSEMENTELEVES!$C$4:$D$37,2,FALSE)<VLOOKUP(K111,CLASSEMENTELEVES!$C$4:$D$37,2,FALSE),0,-U111)","v":{"$error":"#N/A"}}]
[null,"MATCH 99",null,null,null,null,null,null,null,null,null,null,null,null,null,null,null,null,null,null,{"$f":"IFERROR(VLOOKUP(F112,CLASSEMENTELEVES!$C$4:$D$37,2,FALSE)-VLOOKUP(K112,CLASSEMENTELEVES!$C$4:$D$37,2,FALSE),\"\")","v":""},null,null,null,"0_",0,0,0,0,"V",{"$f":"IF(Z112<>0,COUNTIF($Z$14:Z112,Z112),\"\")","v":""},{"$f":"IFERROR(VLOOKUP(U112,DEBUT!$D$5:$F$122,2,FALSE),0)","v":0},{"$f":"IF(VLOOKUP(F112,CLASSEMENTELEVES!$C$4:$D$37,2,FALSE)<VLOOKUP(K112,CLASSEMENTELEVES!$C$4:$D$37,2,FALSE),0,-U112)","v":{"$error":"#N/A"}}]
[null,"MATCH 100",null,null,null,null,null,null,null,null,null,null,null,null,null,null,null,null,null,null,{"$f":"IFERROR(VLOOKUP(F113,CLASSEMENTELEVES!$C$4:$D$37,2,FALSE)-VLOOKUP(K113,CLASSEMENTELEVES!$C$4:$D$37,2,FALSE),\"\")","v":""},null,null,null,"0_",0,0,0,0,"V",{"$f":"IF(Z113<>0,COUNTIF($Z$14:Z113,Z113),\"\")","v":""},{"$f":"IFERROR(VLOOKUP(U113,DEBUT!$D$5:$F$122,2,FALSE),0)","v":0},{"$f":"IF(VLOOKUP(F113,CLASSEMENTELEVES!$C$4:$D$37,2,FALSE)<VLOOKUP(K113,CLASSEMENTELEVES!$C$4:$D$37,2,FALSE),0,-U113)","v":{"$error":"#N/A"}}]
[null,"MATCH 101",null,null,null,null,null,null,null,null,null,null,null,null,null,null,null,null,null,null,{"$f":"IFERROR(VLOOKUP(F114,CLASSEMENTELEVES!$C$4:$D$37,2,FALSE)-VLOOKUP(K114,CLASSEMENTELEVES!$C$4:$D$37,2,FALSE),\"\")","v":""},null,null,null,"0_",0,0,0,0,"V",{"$f":"IF(Z114<>0,COUNTIF($Z$14:Z114,Z114),\"\")","v":""},{"$f":"IFERROR(VLOOKUP(U114,DEBUT!$D$5:$F$122,2,FALSE),0)","v":0},{"$f":"IF(VLOOKUP(F114,CLASSEMENTELEVES!$C$4:$D$37,2,FALSE)<VLOOKUP(K114,CLASSEMENTELEVES!$C$4:$D$37,2,FALSE),0,-U114)","v":{"$error":"#N/A"}}]
[null,"MATCH 102",null,null,null,null,null,null,null,null,null,null,null,null,null,null,null,null,null,null,{"$f":"IFERROR(VLOOKUP(F115,CLASSEMENTELEVES!$C$4:$D$37,2,FALSE)-VLOOKUP(K115,CLASSEMENTELEVES!$C$4:$D$37,2,FALSE),\"\")","v":""},null,null,null,"0_",0,0,0,0,"V",{"$f":"IF(Z115<>0,COUNTIF($Z$14:Z115,Z115),\"\")","v":""},{"$f":"IFERROR(VLOOKUP(U115,DEBUT!$D$5:$F$122,2,FALSE),0)","v":0},{"$f":"IF(VLOOKUP(F115,CLASSEMENTELEVES!$C$4:$D$37,2,FALSE)<VLOOKUP(K115,CLASSEMENTELEVES!$C$4:$D$37,2,FALSE),0,-U115)","v":{"$error":"#N/A"}}]
[null,"MATCH 103",null,null,null,null,null,null,null,null,null,null,null,null,null,null,null,null,null,null,{"$f":"IFERROR(VLOOKUP(F116,CLASSEMENTELEVES!$C$4:$D$37,2,FALSE)-VLOOKUP(K116,CLASSEMENTELEVES!$C$4:$D$37,2,FALSE),\"\")","v":""},null,null,null,"0_",0,0,0,0,"V",{"$f":"IF(Z116<>0,COUNTIF($Z$14:Z116,Z116),\"\")","v":""},{"$f":"IFERROR(VLOOKUP(U116,DEBUT!$D$5:$F$122,2,FALSE),0)","v":0},{"$f":"IF(VLOOKUP(F116,CLASSEMENTELEVES!$C$4:$D$37,2,FALSE)<VLOOKUP(K116,CLASSEMENTELEVES!$C$4:$D$37,2,FALSE),0,-U116)","v":{"$error":"#N/A"}}]
[null,"MATCH 104",null,null,null,null,null,null,null,null,null,null,null,null,null,null,null,null,null,null,{"$f":"IFERROR(VLOOKUP(F117,CLASSEMENTELEVES!$C$4:$D$37,2,FALSE)-VLOOKUP(K117,CLASSEMENTELEVES!$C$4:$D$37,2,FALSE),\"\")","v":""},null,null,null,"0_",0,0,0,0,"V",{"$f":"IF(Z117<>0,COUNTIF($Z$14:Z117,Z117),\"\")","v":""},{"$f":"IFERROR(VLOOKUP(U117,DEBUT!$D$5:$F$122,2,FALSE),0)","v":0},{"$f":"IF(VLOOKUP(F117,CLASSEMENTELEVES!$C$4:$D$37,2,FALSE)<VLOOKUP(K117,CLASSEMENTELEVES!$C$4:$D$37,2,FALSE),0,-U117)","v":{"$error":"#N/A"}}]
[null,"MATCH 105",null,null,null,null,null,null,null,null,null,null,null,null,null,null,null,null,null,null,{"$f":"IFERROR(VLOOKUP(F118,CLASSEMENTELEVES!$C$4:$D$37,2,FALSE)-VLOOKUP(K118,CLASSEMENTELEVES!$C$4:$D$37,2,FALSE),\"\")","v":""},null,null,null,"0_",0,0,0,0,"V",{"$f":"IF(Z118<>0,COUNTIF($Z$14:Z118,Z118),\"\")","v":""},{"$f":"IFERROR(VLOOKUP(U118,DEBUT!$D$5:$F$122,2,FALSE),0)","v":0},{"$f":"IF(VLOOKUP(F118,CLASSEMENTELEVES!$C$4:$D$37,2,FALSE)<VLOOKUP(K118,CLASSEMENTELEVES!$C$4:$D$37,2,FALSE),0,-U118)","v":{"$error":"#N/A"}}]
[null,"MATCH 106",null,null,null,null,null,null,null,null,null,null,null,null,null,null,null,null,null,null,{"$f":"IFERROR(VLOOKUP(F119,CLASSEMENTELEVES!$C$4:$D$37,2,FALSE)-VLOOKUP(K119,CLASSEMENTELEVES!$C$4:$D$37,2,FALSE),\"\")","v":""},null,null,null,"0_",0,0,0,0,"V",{"$f":"IF(Z119<>0,COUNTIF($Z$14:Z119,Z119),\"\")","v":""},{"$f":"IFERROR(VLOOKUP(U119,DEBUT!$D$5:$F$122,2,FALSE),0)","v":0},{"$f":"IF(VLOOKUP(F119,CLASSEMENTELEVES!$C$4:$D$37,2,FALSE)<VLOOKUP(K119,CLASSEMENTELEVES!$C$4:$D$37,2,FALSE),0,-U119)","v":{"$error":"#N/A"}}]
[null,"MATCH 107",null,null,null,null,null,null,null,null,null,null,null,null,null,null,null,null,null,null,{"$f":"IFERROR(VLOOKUP(F120,CLASSEMENTELEVES!$C$4:$D$37,2,FALSE)-VLOOKUP(K120,CLASSEMENTELEVES!$C$4:$D$37,2,FALSE),\"\")","v":""},null,null,null,"0_",0,0,0,0,"V",{"$f":"IF(Z120<>0,COUNTIF($Z$14:Z120,Z120),\"\")","v":""},{"$f":"IFERROR(VLOOKUP(U120,DEBUT!$D$5:$F$122,2,FALSE),0)","v":0},{"$f":"IF(VLOOKUP(F120,CLASSEMENTELEVES!$C$4:$D$37,2,FALSE)<VLOOKUP(K120,CLASSEMENTELEVES!$C$4:$D$37,2,FALSE),0,-U120)","v":{"$error":"#N/A"}}]
[null,"MATCH 108",null,null,null,null,null,null,null,null,null,null,null,null,null,null,null,null,null,null,{"$f":"IFERROR(VLOOKUP(F121,CLASSEMENTELEVES!$C$4:$D$37,2,FALSE)-VLOOKUP(K121,CLASSEMENTELEVES!$C$4:$D$37,2,FALSE),\"\")","v":""},null,null,null,"0_",0,0,0,0,"V",{"$f":"IF(Z121<>0,COUNTIF($Z$14:Z121,Z121),\"\")","v":""},{"$f":"IFERROR(VLOOKUP(U121,DEBUT!$D$5:$F$122,2,FALSE),0)","v":0},{"$f":"IF(VLOOKUP(F121,CLASSEMENTELEVES!$C$4:$D$37,2,FALSE)<VLOOKUP(K121,CLASSEMENTELEVES!$C$4:$D$37,2,FALSE),0,-U121)","v":{"$error":"#N/A"}}]
[null,"MATCH 109",null,null,null,null,null,null,null,null,null,null,null,null,null,null,null,null,null,null,{"$f":"IFERROR(VLOOKUP(F122,CLASSEMENTELEVES!$C$4:$D$37,2,FALSE)-VLOOKUP(K122,CLASSEMENTELEVES!$C$4:$D$37,2,FALSE),\"\")","v":""},null,null,null,"0_",0,0,0,0,"V",{"$f":"IF(Z122<>0,COUNTIF($Z$14:Z122,Z122),\"\")","v":""},{"$f":"IFERROR(VLOOKUP(U122,DEBUT!$D$5:$F$122,2,FALSE),0)","v":0},{"$f":"IF(VLOOKUP(F122,CLASSEMENTELEVES!$C$4:$D$37,2,FALSE)<VLOOKUP(K122,CLASSEMENTELEVES!$C$4:$D$37,2,FALSE),0,-U122)","v":{"$error":"#N/A"}}]
[null,"MATCH 110",null,null,null,null,null,null,null,null,null,null,null,null,null,null,null,null,null,null,{"$f":"IFERROR(VLOOKUP(F123,CLASSEMENTELEVES!$C$4:$D$37,2,FALSE)-VLOOKUP(K123,CLASSEMENTELEVES!$C$4:$D$37,2,FALSE),\"\")","v":""},null,null,null,"0_",0,0,0,0,"V",{"$f":"IF(Z123<>0,COUNTIF($Z$14:Z123,Z123),\"\")","v":""},{"$f":"IFERROR(VLOOKUP(U123,DEBUT!$D$5:$F$122,2,FALSE),0)","v":0},{"$f":"IF(VLOOKUP(F123,CLASSEMENTELEVES!$C$4:$D$37,2,FALSE)<VLOOKUP(K123,CLASSEMENTELEVES!$C$4:$D$37,2,FALSE),0,-U123)","v":{"$error":"#N/A"}}]
[null,"MATCH 111",null,null,null,null,null,null,null,null,null,null,null,null,null,null,null,null,null,null,{"$f":"IFERROR(VLOOKUP(F124,CLASSEMENTELEVES!$C$4:$D$37,2,FALSE)-VLOOKUP(K124,CLASSEMENTELEVES!$C$4:$D$37,2,FALSE),\"\")","v":""},null,null,null,"0_",0,0,0,0,"V",{"$f":"IF(Z124<>0,COUNTIF($Z$14:Z124,Z124),\"\")","v":""},{"$f":"IFERROR(VLOOKUP(U124,DEBUT!$D$5:$F$122,2,FALSE),0)","v":0},{"$f":"IF(VLOOKUP(F124,CLASSEMENTELEVES!$C$4:$D$37,2,FALSE)<VLOOKUP(K124,CLASSEMENTELEVES!$C$4:$D$37,2,FALSE),0,-U124)","v":{"$error":"#N/A"}}]
[null,"MATCH 112",null,null,null,null,null,null,null,null,null,null,null,null,null,null,null,null,null,null,{"$f":"IFERROR(VLOOKUP(F125,CLASSEMENTELEVES!$C$4:$D$37,2,FALSE)-VLOOKUP(K125,CLASSEMENTELEVES!$C$4:$D$37,2,FALSE),\"\")","v":""},null,null,null,"0_",0,0,0,0,"V",{"$f":"IF(Z125<>0,COUNTIF($Z$14:Z125,Z125),\"\")","v":""},{"$f":"IFERROR(VLOOKUP(U125,DEBUT!$D$5:$F$122,2,FALSE),0)","v":0},{"$f":"IF(VLOOKUP(F125,CLASSEMENTELEVES!$C$4:$D$37,2,FALSE)<VLOOKUP(K125,CLASSEMENTELEVES!$C$4:$D$37,2,FALSE),0,-U125)","v":{"$error":"#N/A"}}]
[null,"MATCH 113",null,null,null,null,null,null,null,null,null,null,null,null,null,null,null,null,null,null,{"$f":"IFERROR(VLOOKUP(F126,CLASSEMENTELEVES!$C$4:$D$37,2,FALSE)-VLOOKUP(K126,CLASSEMENTELEVES!$C$4:$D$37,2,FALSE),\"\")","v":""},null,null,null,"0_",0,0,0,0,"V",{"$f":"IF(Z126<>0,COUNTIF($Z$14:Z126,Z126),\"\")","v":""},{"$f":"IFERROR(VLOOKUP(U126,DEBUT!$D$5:$F$122,2,FALSE),0)","v":0},{"$f":"IF(VLOOKUP(F126,CLASSEMENTELEVES!$C$4:$D$37,2,FALSE)<VLOOKUP(K126,CLASSEMENTELEVES!$C$4:$D$37,2,FALSE),0,-U126)","v":{"$error":"#N/A"}}]
[null,"MATCH 114",null,null,null,null,null,null,null,null,null,null,null,null,null,null,null,null,null,null,{"$f":"IFERROR(VLOOKUP(F127,CLASSEMENTELEVES!$C$4:$D$37,2,FALSE)-VLOOKUP(K127,CLASSEMENTELEVES!$C$4:$D$37,2,FALSE),\"\")","v":""},null,null,null,"0_",0,0,0,0,"V",{"$f":"IF(Z127<>0,COUNTIF($Z$14:Z127,Z127),\"\")","v":""},{"$f":"IFERROR(VLOOKUP(U127,DEBUT!$D$5:$F$122,2,FALSE),0)","v":0},{"$f":"IF(VLOOKUP(F127,CLASSEMENTELEVES!$C$4:$D$37,2,FALSE)<VLOOKUP(K127,CLASSEMENTELEVES!$C$4:$D$37,2,FALSE),0,-U127)","v":{"$error":"#N/A"}}]
[null,"MATCH 115",null,null,null,null,null,null,null,null,null,null,null,null,null,null,null,null,null,null,{"$f":"IFERROR(VLOOKUP(F128,CLASSEMENTELEVES!$C$4:$D$37,2,FALSE)-VLOOKUP(K128,CLASSEMENTELEVES!$C$4:$D$37,2,FALSE),\"\")","v":""},null,null,null,"0_",0,0,0,0,"V",{"$f":"IF(Z128<>0,COUNTIF($Z$14:Z128,Z128),\"\")","v":""},{"$f":"IFERROR(VLOOKUP(U128,DEBUT!$D$5:$F$122,2,FALSE),0)","v":0},{"$f":"IF(VLOOKUP(F128,CLASSEMENTELEVES!$C$4:$D$37,2,FALSE)<VLOOKUP(K128,CLASSEMENTELEVES!$C$4:$D$37,2,FALSE),0,-U128)","v":{"$error":"#N/A"}}]
[null,"MATCH 116",null,null,null,null,null,null,null,null,null,null,null,null,null,null,null,null,null,null,{"$f":"IFERROR(VLOOKUP(F129,CLASSEMENTELEVES!$C$4:$D$37,2,FALSE)-VLOOKUP(K129,CLASSEMENTELEVES!$C$4:$D$37,2,FALSE),\"\")","v":""},null,null,null,"0_",0,0,0,0,"V",{"$f":"IF(Z129<>0,COUNTIF($Z$14:Z129,Z129),\"\")","v":""},{"$f":"IFERROR(VLOOKUP(U129,DEBUT!$D$5:$F$122,2,FALSE),0)","v":0},{"$f":"IF(VLOOKUP(F129,CLASSEMENTELEVES!$C$4:$D$37,2,FALSE)<VLOOKUP(K129,CLASSEMENTELEVES!$C$4:$D$37,2,FALSE),0,-U129)","v":{"$error":"#N/A"}}]
[null,"MATCH 117",null,null,null,null,null,null,null,null,null,null,null,null,null,null,null,null,null,null,{"$f":"IFERROR(VLOOKUP(F130,CLASSEMENTELEVES!$C$4:$D$37,2,FALSE)-VLOOKUP(K130,CLASSEMENTELEVES!$C$4:$D$37,2,FALSE),\"\")","v":""},null,null,null,"0_",0,0,0,0,"V",{"$f":"IF(Z130<>0,COUNTIF($Z$14:Z130,Z130),\"\")","v":""},{"$f":"IFERROR(VLOOKUP(U130,DEBUT!$D$5:$F$122,2,FALSE),0)","v":0},{"$f":"IF(VLOOKUP(F130,CLASSEMENTELEVES!$C$4:$D$37,2,FALSE)<VLOOKUP(K130,CLASSEMENTELEVES!$C$4:$D$37,2,FALSE),0,-U130)","v":{"$error":"#N/A"}}]
[null,"MATCH 118",null,null,null,null,null,null,null,null,null,null,null,null,null,null,null,null,null,null,{"$f":"IFERROR(VLOOKUP(F131,CLASSEMENTELEVES!$C$4:$D$37,2,FALSE)-VLOOKUP(K131,CLASSEMENTELEVES!$C$4:$D$37,2,FALSE),\"\")","v":""},null,null,null,"0_",0,0,0,0,"V",{"$f":"IF(Z131<>0,COUNTIF($Z$14:Z131,Z131),\"\")","v":""},{"$f":"IFERROR(VLOOKUP(U131,DEBUT!$D$5:$F$122,2,FALSE),0)","v":0},{"$f":"IF(VLOOKUP(F131,CLASSEMENTELEVES!$C$4:$D$37,2,FALSE)<VLOOKUP(K131,CLASSEMENTELEVES!$C$4:$D$37,2,FALSE),0,-U131)","v":{"$error":"#N/A"}}]
[null,"MATCH 119",null,null,null,null,null,null,null,null,null,null,null,null,null,null,null,null,null,null,{"$f":"IFERROR(VLOOKUP(F132,CLASSEMENTELEVES!$C$4:$D$37,2,FALSE)-VLOOKUP(K132,CLASSEMENTELEVES!$C$4:$D$37,2,FALSE),\"\")","v":""},null,null,null,"0_",0,0,0,0,"V",{"$f":"IF(Z132<>0,COUNTIF($Z$14:Z132,Z132),\"\")","v":""},{"$f":"IFERROR(VLOOKUP(U132,DEBUT!$D$5:$F$122,2,FALSE),0)","v":0},{"$f":"IF(VLOOKUP(F132,CLASSEMENTELEVES!$C$4:$D$37,2,FALSE)<VLOOKUP(K132,CLASSEMENTELEVES!$C$4:$D$37,2,FALSE),0,-U132)","v":{"$error":"#N/A"}}]
[null,"MATCH 120",null,null,null,null,null,null,null,null,null,null,null,null,null,null,null,null,null,null,{"$f":"IFERROR(VLOOKUP(F133,CLASSEMENTELEVES!$C$4:$D$37,2,FALSE)-VLOOKUP(K133,CLASSEMENTELEVES!$C$4:$D$37,2,FALSE),\"\")","v":""},null,null,null,"0_",0,0,0,0,"V",{"$f":"IF(Z133<>0,COUNTIF($Z$14:Z133,Z133),\"\")","v":""},{"$f":"IFERROR(VLOOKUP(U133,DEBUT!$D$5:$F$122,2,FALSE),0)","v":0},{"$f":"IF(VLOOKUP(F133,CLASSEMENTELEVES!$C$4:$D$37,2,FALSE)<VLOOKUP(K133,CLASSEMENTELEVES!$C$4:$D$37,2,FALSE),0,-U133)","v":{"$error":"#N/A"}}]
[null,"MATCH 121",null,null,null,null,null,null,null,null,null,null,null,null,null,null,null,null,null,null,{"$f":"IFERROR(VLOOKUP(F134,CLASSEMENTELEVES!$C$4:$D$37,2,FALSE)-VLOOKUP(K134,CLASSEMENTELEVES!$C$4:$D$37,2,FALSE),\"\")","v":""},null,null,null,"0_",0,0,0,0,"V",{"$f":"IF(Z134<>0,COUNTIF($Z$14:Z134,Z134),\"\")","v":""},{"$f":"IFERROR(VLOOKUP(U134,DEBUT!$D$5:$F$122,2,FALSE),0)","v":0},{"$f":"IF(VLOOKUP(F134,CLASSEMENTELEVES!$C$4:$D$37,2,FALSE)<VLOOKUP(K134,CLASSEMENTELEVES!$C$4:$D$37,2,FALSE),0,-U134)","v":{"$error":"#N/A"}}]
[null,"MATCH 122",null,null,null,null,null,null,null,null,null,null,null,null,null,null,null,null,null,null,{"$f":"IFERROR(VLOOKUP(F135,CLASSEMENTELEVES!$C$4:$D$37,2,FALSE)-VLOOKUP(K135,CLASSEMENTELEVES!$C$4:$D$37,2,FALSE),\"\")","v":""},null,null,null,"0_",0,0,0,0,"V",{"$f":"IF(Z135<>0,COUNTIF($Z$14:Z135,Z135),\"\")","v":""},{"$f":"IFERROR(VLOOKUP(U135,DEBUT!$D$5:$F$122,2,FALSE),0)","v":0},{"$f":"IF(VLOOKUP(F135,CLASSEMENTELEVES!$C$4:$D$37,2,FALSE)<VLOOKUP(K135,CLASSEMENTELEVES!$C$4:$D$37,2,FALSE),0,-U135)","v":{"$error":"#N/A"}}]
[null,"MATCH 123",null,null,null,null,null,null,null,null,null,null,null,null,null,null,null,null,null,null,{"$f":"IFERROR(VLOOKUP(F136,CLASSEMENTELEVES!$C$4:$D$37,2,FALSE)-VLOOKUP(K136,CLASSEMENTELEVES!$C$4:$D$37,2,FALSE),\"\")","v":""},null,null,null,"0_",0,0,0,0,"V",{"$f":"IF(Z136<>0,COUNTIF($Z$14:Z136,Z136),\"\")","v":""},{"$f":"IFERROR(VLOOKUP(U136,DEBUT!$D$5:$F$122,2,FALSE),0)","v":0},{"$f":"IF(VLOOKUP(F136,CLASSEMENTELEVES!$C$4:$D$37,2,FALSE)<VLOOKUP(K136,CLASSEMENTELEVES!$C$4:$D$37,2,FALSE),0,-U136)","v":{"$error":"#N/A"}}]
[null,"MATCH 124",null,null,null,null,null,null,null,null,null,null,null,null,null,null,null,null,null,null,{"$f":"IFERROR(VLOOKUP(F137,CLASSEMENTELEVES!$C$4:$D$37,2,FALSE)-VLOOKUP(K137,CLASSEMENTELEVES!$C$4:$D$37,2,FALSE),\"\")","v":""},null,null,null,"0_",0,0,0,0,"V",{"$f":"IF(Z137<>0,COUNTIF($Z$14:Z137,Z137),\"\")","v":""},{"$f":"IFERROR(VLOOKUP(U137,DEBUT!$D$5:$F$122,2,FALSE),0)","v":0},{"$f":"IF(VLOOKUP(F137,CLASSEMENTELEVES!$C$4:$D$37,2,FALSE)<VLOOKUP(K137,CLASSEMENTELEVES!$C$4:$D$37,2,FALSE),0,-U137)","v":{"$error":"#N/A"}}]
[null,"MATCH 125",null,null,null,null,null,null,null,null,null,null,null,null,null,null,null,null,null,null,{"$f":"IFERROR(VLOOKUP(F138,CLASSEMENTELEVES!$C$4:$D$37,2,FALSE)-VLOOKUP(K138,CLASSEMENTELEVES!$C$4:$D$37,2,FALSE),\"\")","v":""},null,null,null,"0_",0,0,0,0,"V",{"$f":"IF(Z138<>0,COUNTIF($Z$14:Z138,Z138),\"\")","v":""},{"$f":"IFERROR(VLOOKUP(U138,DEBUT!$D$5:$F$122,2,FALSE),0)","v":0},{"$f":"IF(VLOOKUP(F138,CLASSEMENTELEVES!$C$4:$D$37,2,FALSE)<VLOOKUP(K138,CLASSEMENTELEVES!$C$4:$D$37,2,FALSE),0,-U138)","v":{"$error":"#N/A"}}]
[null,"MATCH 126",null,null,null,null,null,null,null,null,null,null,null,null,null,null,null,null,null,null,{"$f":"IFERROR(VLOOKUP(F139,CLASSEMENTELEVES!$C$4:$D$37,2,FALSE)-VLOOKUP(K139,CLASSEMENTELEVES!$C$4:$D$37,2,FALSE),\"\")","v":""},null,null,null,"0_",0,0,0,0,"V",{"$f":"IF(Z139<>0,COUNTIF($Z$14:Z139,Z139),\"\")","v":""},{"$f":"IFERROR(VLOOKUP(U139,DEBUT!$D$5:$F$122,2,FALSE),0)","v":0},{"$f":"IF(VLOOKUP(F139,CLASSEMENTELEVES!$C$4:$D$37,2,FALSE)<VLOOKUP(K139,CLASSEMENTELEVES!$C$4:$D$37,2,FALSE),0,-U139)","v":{"$error":"#N/A"}}]
[null,"MATCH 127",null,null,null,null,null,null,null,null,null,null,null,null,null,null,null,null,null,null,{"$f":"IFERROR(VLOOKUP(F140,CLASSEMENTELEVES!$C$4:$D$37,2,FALSE)-VLOOKUP(K140,CLASSEMENTELEVES!$C$4:$D$37,2,FALSE),\"\")","v":""},null,null,null,"0_",0,0,0,0,"V",{"$f":"IF(Z140<>0,COUNTIF($Z$14:Z140,Z140),\"\")","v":""},{"$f":"IFERROR(VLOOKUP(U140,DEBUT!$D$5:$F$122,2,FALSE),0)","v":0},{"$f":"IF(VLOOKUP(F140,CLASSEMENTELEVES!$C$4:$D$37,2,FALSE)<VLOOKUP(K140,CLASSEMENTELEVES!$C$4:$D$37,2,FALSE),0,-U140)","v":{"$error":"#N/A"}}]
[null,"MATCH 128",null,null,null,null,null,null,null,null,null,null,null,null,null,null,null,null,null,null,{"$f":"IFERROR(VLOOKUP(F141,CLASSEMENTELEVES!$C$4:$D$37,2,FALSE)-VLOOKUP(K141,CLASSEMENTELEVES!$C$4:$D$37,2,FALSE),\"\")","v":""},null,null,null,"0_",0,0,0,0,"V",{"$f":"IF(Z141<>0,COUNTIF($Z$14:Z141,Z141),\"\")","v":""},{"$f":"IFERROR(VLOOKUP(U141,DEBUT!$D$5:$F$122,2,FALSE),0)","v":0},{"$f":"IF(VLOOKUP(F141,CLASSEMENTELEVES!$C$4:$D$37,2,FALSE)<VLOOKUP(K141,CLASSEMENTELEVES!$C$4:$D$37,2,FALSE),0,-U141)","v":{"$error":"#N/A"}}]
[null,"MATCH 129",null,null,null,null,null,null,null,null,null,null,null,null,null,null,null,null,null,null,{"$f":"IFERROR(VLOOKUP(F142,CLASSEMENTELEVES!$C$4:$D$37,2,FALSE)-VLOOKUP(K142,CLASSEMENTELEVES!$C$4:$D$37,2,FALSE),\"\")","v":""},null,null,null,{"$f":"Z142&\"_\"&AE142","v":"0_"},0,0,0,0,"V",{"$f":"IF(Z142<>0,COUNTIF($Z$14:Z142,Z142),\"\")","v":""},{"$f":"IFERROR(VLOOKUP(U142,DEBUT!$D$5:$F$122,2,FALSE),0)","v":0},{"$f":"IF(VLOOKUP(F142,CLASSEMENTELEVES!$C$4:$D$37,2,FALSE)<VLOOKUP(K142,CLASSEMENTELEVES!$C$4:$D$37,2,FALSE),0,-U142)","v":{"$error":"#N/A"}}]
[null,"MATCH 130",null,null,null,null,null,null,null,null,null,null,null,null,null,null,null,null,null,null,{"$f":"IFERROR(VLOOKUP(F143,CLASSEMENTELEVES!$C$4:$D$37,2,FALSE)-VLOOKUP(K143,CLASSEMENTELEVES!$C$4:$D$37,2,FALSE),\"\")","v":""},null,null,null,"0_",{"$f":"F143","v":0},{"$f":"I143","v":0},{"$f":"P143","v":0},{"$f":"N143","v":0},"V",{"$f":"IF(Z143<>0,COUNTIF($Z$14:Z143,Z143),\"\")","v":""},{"$f":"IFERROR(VLOOKUP(U143,DEBUT!$D$5:$F$122,2,FALSE),0)","v":0},{"$f":"IF(VLOOKUP(F143,CLASSEMENTELEVES!$C$4:$D$37,2,FALSE)<VLOOKUP(K143,CLASSEMENTELEVES!$C$4:$D$37,2,FALSE),0,-U143)","v":{"$error":"#N/A"}}]
[null,"MATCH 131",null,null,null,null,null,null,null,null,null,null,null,null,null,null,null,null,null,null,{"$f":"IFERROR(VLOOKUP(F144,CLASSEMENTELEVES!$C$4:$D$37,2,FALSE)-VLOOKUP(K144,CLASSEMENTELEVES!$C$4:$D$37,2,FALSE),\"\")","v":""},null,null,null,"0_",0,0,0,0,"V",{"$f":"IF(Z144<>0,COUNTIF($Z$14:Z144,Z144),\"\")","v":""},{"$f":"IFERROR(VLOOKUP(U144,DEBUT!$D$5:$F$122,2,FALSE),0)","v":0},{"$f":"IF(VLOOKUP(F144,CLASSEMENTELEVES!$C$4:$D$37,2,FALSE)<VLOOKUP(K144,CLASSEMENTELEVES!$C$4:$D$37,2,FALSE),0,-U144)","v":{"$error":"#N/A"}}]
[null,"MATCH 132",null,null,null,null,null,null,null,null,null,null,null,null,null,null,null,null,null,null,{"$f":"IFERROR(VLOOKUP(F145,CLASSEMENTELEVES!$C$4:$D$37,2,FALSE)-VLOOKUP(K145,CLASSEMENTELEVES!$C$4:$D$37,2,FALSE),\"\")","v":""},null,null,null,"0_",0,0,0,0,"V",{"$f":"IF(Z145<>0,COUNTIF($Z$14:Z145,Z145),\"\")","v":""},{"$f":"IFERROR(VLOOKUP(U145,DEBUT!$D$5:$F$122,2,FALSE),0)","v":0},{"$f":"IF(VLOOKUP(F145,CLASSEMENTELEVES!$C$4:$D$37,2,FALSE)<VLOOKUP(K145,CLASSEMENTELEVES!$C$4:$D$37,2,FALSE),0,-U145)","v":{"$error":"#N/A"}}]
[null,"MATCH 133",null,null,null,null,null,null,null,null,null,null,null,null,null,null,null,null,null,null,{"$f":"IFERROR(VLOOKUP(F146,CLASSEMENTELEVES!$C$4:$D$37,2,FALSE)-VLOOKUP(K146,CLASSEMENTELEVES!$C$4:$D$37,2,FALSE),\"\")","v":""},null,null,null,"0_",0,0,0,0,"V",{"$f":"IF(Z146<>0,COUNTIF($Z$14:Z146,Z146),\"\")","v":""},{"$f":"IFERROR(VLOOKUP(U146,DEBUT!$D$5:$F$122,2,FALSE),0)","v":0},{"$f":"IF(VLOOKUP(F146,CLASSEMENTELEVES!$C$4:$D$37,2,FALSE)<VLOOKUP(K146,CLASSEMENTELEVES!$C$4:$D$37,2,FALSE),0,-U146)","v":{"$error":"#N/A"}}]
[null,"MATCH 134",null,null,null,null,null,null,null,null,null,null,null,null,null,null,null,null,null,null,{"$f":"IFERROR(VLOOKUP(F147,CLASSEMENTELEVES!$C$4:$D$37,2,FALSE)-VLOOKUP(K147,CLASSEMENTELEVES!$C$4:$D$37,2,FALSE),\"\")","v":""},null,null,null,"0_",0,0,0,0,"V",{"$f":"IF(Z147<>0,COUNTIF($Z$14:Z147,Z147),\"\")","v":""},{"$f":"IFERROR(VLOOKUP(U147,DEBUT!$D$5:$F$122,2,FALSE),0)","v":0},{"$f":"IF(VLOOKUP(F147,CLASSEMENTELEVES!$C$4:$D$37,2,FALSE)<VLOOKUP(K147,CLASSEMENTELEVES!$C$4:$D$37,2,FALSE),0,-U147)","v":{"$error":"#N/A"}}]
[null,"MATCH 135",null,null,null,null,null,null,null,null,null,null,null,null,null,null,null,null,null,null,{"$f":"IFERROR(VLOOKUP(F148,CLASSEMENTELEVES!$C$4:$D$37,2,FALSE)-VLOOKUP(K148,CLASSEMENTELEVES!$C$4:$D$37,2,FALSE),\"\")","v":""},null,null,null,"0_",0,0,0,0,"V",{"$f":"IF(Z148<>0,COUNTIF($Z$14:Z148,Z148),\"\")","v":""},{"$f":"IFERROR(VLOOKUP(U148,DEBUT!$D$5:$F$122,2,FALSE),0)","v":0},{"$f":"IF(VLOOKUP(F148,CLASSEMENTELEVES!$C$4:$D$37,2,FALSE)<VLOOKUP(K148,CLASSEMENTELEVES!$C$4:$D$37,2,FALSE),0,-U148)","v":{"$error":"#N/A"}}]
[null,"MATCH 136",null,null,null,null,null,null,null,null,null,null,null,null,null,null,null,null,null,null,{"$f":"IFERROR(VLOOKUP(F149,CLASSEMENTELEVES!$C$4:$D$37,2,FALSE)-VLOOKUP(K149,CLASSEMENTELEVES!$C$4:$D$37,2,FALSE),\"\")","v":""},null,null,null,"0_",0,0,0,0,"V",{"$f":"IF(Z149<>0,COUNTIF($Z$14:Z149,Z149),\"\")","v":""},{"$f":"IFERROR(VLOOKUP(U149,DEBUT!$D$5:$F$122,2,FALSE),0)","v":0},{"$f":"IF(VLOOKUP(F149,CLASSEMENTELEVES!$C$4:$D$37,2,FALSE)<VLOOKUP(K149,CLASSEMENTELEVES!$C$4:$D$37,2,FALSE),0,-U149)","v":{"$error":"#N/A"}}]
[null,"MATCH 137",null,null,null,null,null,null,null,null,null,null,null,null,null,null,null,null,null,null,{"$f":"IFERROR(VLOOKUP(F150,CLASSEMENTELEVES!$C$4:$D$37,2,FALSE)-VLOOKUP(K150,CLASSEMENTELEVES!$C$4:$D$37,2,FALSE),\"\")","v":""},null,null,null,"0_",0,0,0,0,"V",{"$f":"IF(Z150<>0,COUNTIF($Z$14:Z150,Z150),\"\")","v":""},{"$f":"IFERROR(VLOOKUP(U150,DEBUT!$D$5:$F$122,2,FALSE),0)","v":0},{"$f":"IF(VLOOKUP(F150,CLASSEMENTELEVES!$C$4:$D$37,2,FALSE)<VLOOKUP(K150,CLASSEMENTELEVES!$C$4:$D$37,2,FALSE),0,-U150)","v":{"$error":"#N/A"}}]
[null,"MATCH 138",null,null,null,null,null,null,null,null,null,null,null,null,null,null,null,null,null,null,{"$f":"IFERROR(VLOOKUP(F151,CLASSEMENTELEVES!$C$4:$D$37,2,FALSE)-VLOOKUP(K151,CLASSEMENTELEVES!$C$4:$D$37,2,FALSE),\"\")","v":""},null,null,null,"0_",0,0,0,0,"V",{"$f":"IF(Z151<>0,COUNTIF($Z$14:Z151,Z151),\"\")","v":""},{"$f":"IFERROR(VLOOKUP(U151,DEBUT!$D$5:$F$122,2,FALSE),0)","v":0},{"$f":"IF(VLOOKUP(F151,CLASSEMENTELEVES!$C$4:$D$37,2,FALSE)<VLOOKUP(K151,CLASSEMENTELEVES!$C$4:$D$37,2,FALSE),0,-U151)","v":{"$error":"#N/A"}}]
[null,"MATCH 139",null,null,null,null,null,null,null,null,null,null,null,null,null,null,null,null,null,null,{"$f":"IFERROR(VLOOKUP(F152,CLASSEMENTELEVES!$C$4:$D$37,2,FALSE)-VLOOKUP(K152,CLASSEMENTELEVES!$C$4:$D$37,2,FALSE),\"\")","v":""},null,null,null,"0_",0,0,0,0,"V",{"$f":"IF(Z152<>0,COUNTIF($Z$14:Z152,Z152),\"\")","v":""},{"$f":"IFERROR(VLOOKUP(U152,DEBUT!$D$5:$F$122,2,FALSE),0)","v":0},{"$f":"IF(VLOOKUP(F152,CLASSEMENTELEVES!$C$4:$D$37,2,FALSE)<VLOOKUP(K152,CLASSEMENTELEVES!$C$4:$D$37,2,FALSE),0,-U152)","v":{"$error":"#N/A"}}]
[null,"MATCH 140",null,null,null,null,null,null,null,null,null,null,null,null,null,null,null,null,null,null,{"$f":"IFERROR(VLOOKUP(F153,CLASSEMENTELEVES!$C$4:$D$37,2,FALSE)-VLOOKUP(K153,CLASSEMENTELEVES!$C$4:$D$37,2,FALSE),\"\")","v":""},null,null,null,"0_",0,0,0,0,"V",{"$f":"IF(Z153<>0,COUNTIF($Z$14:Z153,Z153),\"\")","v":""},{"$f":"IFERROR(VLOOKUP(U153,DEBUT!$D$5:$F$122,2,FALSE),0)","v":0},{"$f":"IF(VLOOKUP(F153,CLASSEMENTELEVES!$C$4:$D$37,2,FALSE)<VLOOKUP(K153,CLASSEMENTELEVES!$C$4:$D$37,2,FALSE),0,-U153)","v":{"$error":"#N/A"}}]
[null,"MATCH 141",null,null,null,null,null,null,null,null,null,null,null,null,null,null,null,null,null,null,{"$f":"IFERROR(VLOOKUP(F154,CLASSEMENTELEVES!$C$4:$D$37,2,FALSE)-VLOOKUP(K154,CLASSEMENTELEVES!$C$4:$D$37,2,FALSE),\"\")","v":""},null,null,null,"0_",0,0,0,0,"V",{"$f":"IF(Z154<>0,COUNTIF($Z$14:Z154,Z154),\"\")","v":""},{"$f":"IFERROR(VLOOKUP(U154,DEBUT!$D$5:$F$122,2,FALSE),0)","v":0},{"$f":"IF(VLOOKUP(F154,CLASSEMENTELEVES!$C$4:$D$37,2,FALSE)<VLOOKUP(K154,CLASSEMENTELEVES!$C$4:$D$37,2,FALSE),0,-U154)","v":{"$error":"#N/A"}}]
[null,"MATCH 142",null,null,null,null,null,null,null,null,null,null,null,null,null,null,null,null,null,null,{"$f":"IFERROR(VLOOKUP(F155,CLASSEMENTELEVES!$C$4:$D$37,2,FALSE)-VLOOKUP(K155,CLASSEMENTELEVES!$C$4:$D$37,2,FALSE),\"\")","v":""},null,null,null,"0_",0,0,0,0,"V",{"$f":"IF(Z155<>0,COUNTIF($Z$14:Z155,Z155),\"\")","v":""},{"$f":"IFERROR(VLOOKUP(U155,DEBUT!$D$5:$F$122,2,FALSE),0)","v":0},{"$f":"IF(VLOOKUP(F155,CLASSEMENTELEVES!$C$4:$D$37,2,FALSE)<VLOOKUP(K155,CLASSEMENTELEVES!$C$4:$D$37,2,FALSE),0,-U155)","v":{"$error":"#N/A"}}]
[null,"MATCH 143",null,null,null,null,null,null,null,null,null,null,null,null,null,null,null,null,null,null,{"$f":"IFERROR(VLOOKUP(F156,CLASSEMENTELEVES!$C$4:$D$37,2,FALSE)-VLOOKUP(K156,CLASSEMENTELEVES!$C$4:$D$37,2,FALSE),\"\")","v":""},null,null,null,"0_",0,0,0,0,"V",{"$f":"IF(Z156<>0,COUNTIF($Z$14:Z156,Z156),\"\")","v":""},{"$f":"IFERROR(VLOOKUP(U156,DEBUT!$D$5:$F$122,2,FALSE),0)","v":0},{"$f":"IF(VLOOKUP(F156,CLASSEMENTELEVES!$C$4:$D$37,2,FALSE)<VLOOKUP(K156,CLASSEMENTELEVES!$C$4:$D$37,2,FALSE),0,-U156)","v":{"$error":"#N/A"}}]
[null,"MATCH 144",null,null,null,null,null,null,null,null,null,null,null,null,null,null,null,null,null,null,{"$f":"IFERROR(VLOOKUP(F157,CLASSEMENTELEVES!$C$4:$D$37,2,FALSE)-VLOOKUP(K157,CLASSEMENTELEVES!$C$4:$D$37,2,FALSE),\"\")","v":""},null,null,null,"0_",0,0,0,0,"V",{"$f":"IF(Z157<>0,COUNTIF($Z$14:Z157,Z157),\"\")","v":""},{"$f":"IFERROR(VLOOKUP(U157,DEBUT!$D$5:$F$122,2,FALSE),0)","v":0},{"$f":"IF(VLOOKUP(F157,CLASSEMENTELEVES!$C$4:$D$37,2,FALSE)<VLOOKUP(K157,CLASSEMENTELEVES!$C$4:$D$37,2,FALSE),0,-U157)","v":{"$error":"#N/A"}}]
[null,"MATCH 145",null,null,null,null,null,null,null,null,null,null,null,null,null,null,null,null,null,null,{"$f":"IFERROR(VLOOKUP(F158,CLASSEMENTELEVES!$C$4:$D$37,2,FALSE)-VLOOKUP(K158,CLASSEMENTELEVES!$C$4:$D$37,2,FALSE),\"\")","v":""},null,null,null,"0_",0,0,0,0,"V",{"$f":"IF(Z158<>0,COUNTIF($Z$14:Z158,Z158),\"\")","v":""},{"$f":"IFERROR(VLOOKUP(U158,DEBUT!$D$5:$F$122,2,FALSE),0)","v":0},{"$f":"IF(VLOOKUP(F158,CLASSEMENTELEVES!$C$4:$D$37,2,FALSE)<VLOOKUP(K158,CLASSEMENTELEVES!$C$4:$D$37,2,FALSE),0,-U158)","v":{"$error":"#N/A"}}]
[null,"MATCH 146",null,null,null,null,null,null,null,null,null,null,null,null,null,null,null,null,null,null,{"$f":"IFERROR(VLOOKUP(F159,CLASSEMENTELEVES!$C$4:$D$37,2,FALSE)-VLOOKUP(K159,CLASSEMENTELEVES!$C$4:$D$37,2,FALSE),\"\")","v":""},null,null,null,"0_",0,0,0,0,"V",{"$f":"IF(Z159<>0,COUNTIF($Z$14:Z159,Z159),\"\")","v":""},{"$f":"IFERROR(VLOOKUP(U159,DEBUT!$D$5:$F$122,2,FALSE),0)","v":0},{"$f":"IF(VLOOKUP(F159,CLASSEMENTELEVES!$C$4:$D$37,2,FALSE)<VLOOKUP(K159,CLASSEMENTELEVES!$C$4:$D$37,2,FALSE),0,-U159)","v":{"$error":"#N/A"}}]
[null,"MATCH 147",null,null,null,null,null,null,null,null,null,null,null,null,null,null,null,null,null,null,{"$f":"IFERROR(VLOOKUP(F160,CLASSEMENTELEVES!$C$4:$D$37,2,FALSE)-VLOOKUP(K160,CLASSEMENTELEVES!$C$4:$D$37,2,FALSE),\"\")","v":""},null,null,null,"0_",0,0,0,0,"V",{"$f":"IF(Z160<>0,COUNTIF($Z$14:Z160,Z160),\"\")","v":""},{"$f":"IFERROR(VLOOKUP(U160,DEBUT!$D$5:$F$122,2,FALSE),0)","v":0},{"$f":"IF(VLOOKUP(F160,CLASSEMENTELEVES!$C$4:$D$37,2,FALSE)<VLOOKUP(K160,CLASSEMENTELEVES!$C$4:$D$37,2,FALSE),0,-U160)","v":{"$error":"#N/A"}}]
[null,"MATCH 148",null,null,null,null,null,null,null,null,null,null,null,null,null,null,null,null,null,null,{"$f":"IFERROR(VLOOKUP(F161,CLASSEMENTELEVES!$C$4:$D$37,2,FALSE)-VLOOKUP(K161,CLASSEMENTELEVES!$C$4:$D$37,2,FALSE),\"\")","v":""},null,null,null,"0_",0,0,0,0,"V",{"$f":"IF(Z161<>0,COUNTIF($Z$14:Z161,Z161),\"\")","v":""},{"$f":"IFERROR(VLOOKUP(U161,DEBUT!$D$5:$F$122,2,FALSE),0)","v":0},{"$f":"IF(VLOOKUP(F161,CLASSEMENTELEVES!$C$4:$D$37,2,FALSE)<VLOOKUP(K161,CLASSEMENTELEVES!$C$4:$D$37,2,FALSE),0,-U161)","v":{"$error":"#N/A"}}]
[null,"MATCH 149",null,null,null,null,null,null,null,null,null,null,null,null,null,null,null,null,null,null,{"$f":"IFERROR(VLOOKUP(F162,CLASSEMENTELEVES!$C$4:$D$37,2,FALSE)-VLOOKUP(K162,CLASSEMENTELEVES!$C$4:$D$37,2,FALSE),\"\")","v":""},null,null,null,"0_",0,0,0,0,"V",{"$f":"IF(Z162<>0,COUNTIF($Z$14:Z162,Z162),\"\")","v":""},{"$f":"IFERROR(VLOOKUP(U162,DEBUT!$D$5:$F$122,2,FALSE),0)","v":0},{"$f":"IF(VLOOKUP(F162,CLASSEMENTELEVES!$C$4:$D$37,2,FALSE)<VLOOKUP(K162,CLASSEMENTELEVES!$C$4:$D$37,2,FALSE),0,-U162)","v":{"$error":"#N/A"}}]
[null,"MATCH 150",null,null,null,null,null,null,null,null,null,null,null,null,null,null,null,null,null,null,{"$f":"IFERROR(VLOOKUP(F163,CLASSEMENTELEVES!$C$4:$D$37,2,FALSE)-VLOOKUP(K163,CLASSEMENTELEVES!$C$4:$D$37,2,FALSE),\"\")","v":""},null,null,null,"0_",0,0,0,0,"V",{"$f":"IF(Z163<>0,COUNTIF($Z$14:Z163,Z163),\"\")","v":""},{"$f":"IFERROR(VLOOKUP(U163,DEBUT!$D$5:$F$122,2,FALSE),0)","v":0},{"$f":"IF(VLOOKUP(F163,CLASSEMENTELEVES!$C$4:$D$37,2,FALSE)<VLOOKUP(K163,CLASSEMENTELEVES!$C$4:$D$37,2,FALSE),0,-U163)","v":{"$error":"#N/A"}}]
[null,"MATCH 151",null,null,null,null,null,null,null,null,null,null,null,null,null,null,null,null,null,null,{"$f":"IFERROR(VLOOKUP(F164,CLASSEMENTELEVES!$C$4:$D$37,2,FALSE)-VLOOKUP(K164,CLASSEMENTELEVES!$C$4:$D$37,2,FALSE),\"\")","v":""},null,null,null,"0_",0,0,0,0,"V",{"$f":"IF(Z164<>0,COUNTIF($Z$14:Z164,Z164),\"\")","v":""},{"$f":"IFERROR(VLOOKUP(U164,DEBUT!$D$5:$F$122,2,FALSE),0)","v":0},{"$f":"IF(VLOOKUP(F164,CLASSEMENTELEVES!$C$4:$D$37,2,FALSE)<VLOOKUP(K164,CLASSEMENTELEVES!$C$4:$D$37,2,FALSE),0,-U164)","v":{"$error":"#N/A"}}]
[null,"MATCH 152",null,null,null,null,null,null,null,null,null,null,null,null,null,null,null,null,null,null,{"$f":"IFERROR(VLOOKUP(F165,CLASSEMENTELEVES!$C$4:$D$37,2,FALSE)-VLOOKUP(K165,CLASSEMENTELEVES!$C$4:$D$37,2,FALSE),\"\")","v":""},null,null,null,"0_",0,0,0,0,"V",{"$f":"IF(Z165<>0,COUNTIF($Z$14:Z165,Z165),\"\")","v":""},{"$f":"IFERROR(VLOOKUP(U165,DEBUT!$D$5:$F$122,2,FALSE),0)","v":0},{"$f":"IF(VLOOKUP(F165,CLASSEMENTELEVES!$C$4:$D$37,2,FALSE)<VLOOKUP(K165,CLASSEMENTELEVES!$C$4:$D$37,2,FALSE),0,-U165)","v":{"$error":"#N/A"}}]
[null,"MATCH 153",null,null,null,null,null,null,null,null,null,null,null,null,null,null,null,null,null,null,{"$f":"IFERROR(VLOOKUP(F166,CLASSEMENTELEVES!$C$4:$D$37,2,FALSE)-VLOOKUP(K166,CLASSEMENTELEVES!$C$4:$D$37,2,FALSE),\"\")","v":""},null,null,null,"0_",0,0,0,0,"V",{"$f":"IF(Z166<>0,COUNTIF($Z$14:Z166,Z166),\"\")","v":""},{"$f":"IFERROR(VLOOKUP(U166,DEBUT!$D$5:$F$122,2,FALSE),0)","v":0},{"$f":"IF(VLOOKUP(F166,CLASSEMENTELEVES!$C$4:$D$37,2,FALSE)<VLOOKUP(K166,CLASSEMENTELEVES!$C$4:$D$37,2,FALSE),0,-U166)","v":{"$error":"#N/A"}}]
[null,"MATCH 154",null,null,null,null,null,null,null,null,null,null,null,null,null,null,null,null,null,null,{"$f":"IFERROR(VLOOKUP(F167,CLASSEMENTELEVES!$C$4:$D$37,2,FALSE)-VLOOKUP(K167,CLASSEMENTELEVES!$C$4:$D$37,2,FALSE),\"\")","v":""},null,null,null,"0_",0,0,0,0,"V",{"$f":"IF(Z167<>0,COUNTIF($Z$14:Z167,Z167),\"\")","v":""},{"$f":"IFERROR(VLOOKUP(U167,DEBUT!$D$5:$F$122,2,FALSE),0)","v":0},{"$f":"IF(VLOOKUP(F167,CLASSEMENTELEVES!$C$4:$D$37,2,FALSE)<VLOOKUP(K167,CLASSEMENTELEVES!$C$4:$D$37,2,FALSE),0,-U167)","v":{"$error":"#N/A"}}]
[null,"MATCH 155",null,null,null,null,null,null,null,null,null,null,null,null,null,null,null,null,null,null,{"$f":"IFERROR(VLOOKUP(F168,CLASSEMENTELEVES!$C$4:$D$37,2,FALSE)-VLOOKUP(K168,CLASSEMENTELEVES!$C$4:$D$37,2,FALSE),\"\")","v":""},null,null,null,"0_",0,0,0,0,"V",{"$f":"IF(Z168<>0,COUNTIF($Z$14:Z168,Z168),\"\")","v":""},{"$f":"IFERROR(VLOOKUP(U168,DEBUT!$D$5:$F$122,2,FALSE),0)","v":0},{"$f":"IF(VLOOKUP(F168,CLASSEMENTELEVES!$C$4:$D$37,2,FALSE)<VLOOKUP(K168,CLASSEMENTELEVES!$C$4:$D$37,2,FALSE),0,-U168)","v":{"$error":"#N/A"}}]
[null,"MATCH 156",null,null,null,null,null,null,null,null,null,null,null,null,null,null,null,null,null,null,{"$f":"IFERROR(VLOOKUP(F169,CLASSEMENTELEVES!$C$4:$D$37,2,FALSE)-VLOOKUP(K169,CLASSEMENTELEVES!$C$4:$D$37,2,FALSE),\"\")","v":""},null,null,null,"0_",0,0,0,0,"V",{"$f":"IF(Z169<>0,COUNTIF($Z$14:Z169,Z169),\"\")","v":""},{"$f":"IFERROR(VLOOKUP(U169,DEBUT!$D$5:$F$122,2,FALSE),0)","v":0},{"$f":"IF(VLOOKUP(F169,CLASSEMENTELEVES!$C$4:$D$37,2,FALSE)<VLOOKUP(K169,CLASSEMENTELEVES!$C$4:$D$37,2,FALSE),0,-U169)","v":{"$error":"#N/A"}}]
[null,"MATCH 157",null,null,null,null,null,null,null,null,null,null,null,null,null,null,null,null,null,null,{"$f":"IFERROR(VLOOKUP(F170,CLASSEMENTELEVES!$C$4:$D$37,2,FALSE)-VLOOKUP(K170,CLASSEMENTELEVES!$C$4:$D$37,2,FALSE),\"\")","v":""},null,null,null,"0_",0,0,0,0,"V",{"$f":"IF(Z170<>0,COUNTIF($Z$14:Z170,Z170),\"\")","v":""},{"$f":"IFERROR(VLOOKUP(U170,DEBUT!$D$5:$F$122,2,FALSE),0)","v":0},{"$f":"IF(VLOOKUP(F170,CLASSEMENTELEVES!$C$4:$D$37,2,FALSE)<VLOOKUP(K170,CLASSEMENTELEVES!$C$4:$D$37,2,FALSE),0,-U170)","v":{"$error":"#N/A"}}]
[null,"MATCH 158",null,null,null,null,null,null,null,null,null,null,null,null,null,null,null,null,null,null,{"$f":"IFERROR(VLOOKUP(F171,CLASSEMENTELEVES!$C$4:$D$37,2,FALSE)-VLOOKUP(K171,CLASSEMENTELEVES!$C$4:$D$37,2,FALSE),\"\")","v":""},null,null,null,"0_",0,0,0,0,"V",{"$f":"IF(Z171<>0,COUNTIF($Z$14:Z171,Z171),\"\")","v":""},{"$f":"IFERROR(VLOOKUP(U171,DEBUT!$D$5:$F$122,2,FALSE),0)","v":0},{"$f":"IF(VLOOKUP(F171,CLASSEMENTELEVES!$C$4:$D$37,2,FALSE)<VLOOKUP(K171,CLASSEMENTELEVES!$C$4:$D$37,2,FALSE),0,-U171)","v":{"$error":"#N/A"}}]
[null,"MATCH 159",null,null,null,null,null,null,null,null,null,null,null,null,null,null,null,null,null,null,{"$f":"IFERROR(VLOOKUP(F172,CLASSEMENTELEVES!$C$4:$D$37,2,FALSE)-VLOOKUP(K172,CLASSEMENTELEVES!$C$4:$D$37,2,FALSE),\"\")","v":""},null,null,null,"0_",0,0,0,0,"V",{"$f":"IF(Z172<>0,COUNTIF($Z$14:Z172,Z172),\"\")","v":""},{"$f":"IFERROR(VLOOKUP(U172,DEBUT!$D$5:$F$122,2,FALSE),0)","v":0},{"$f":"IF(VLOOKUP(F172,CLASSEMENTELEVES!$C$4:$D$37,2,FALSE)<VLOOKUP(K172,CLASSEMENTELEVES!$C$4:$D$37,2,FALSE),0,-U172)","v":{"$error":"#N/A"}}]
[null,"MATCH 160",null,null,null,null,null,null,null,null,null,null,null,null,null,null,null,null,null,null,{"$f":"IFERROR(VLOOKUP(F173,CLASSEMENTELEVES!$C$4:$D$37,2,FALSE)-VLOOKUP(K173,CLASSEMENTELEVES!$C$4:$D$37,2,FALSE),\"\")","v":""},null,null,null,"0_",0,0,0,0,"V",{"$f":"IF(Z173<>0,COUNTIF($Z$14:Z173,Z173),\"\")","v":""},{"$f":"IFERROR(VLOOKUP(U173,DEBUT!$D$5:$F$122,2,FALSE),0)","v":0},{"$f":"IF(VLOOKUP(F173,CLASSEMENTELEVES!$C$4:$D$37,2,FALSE)<VLOOKUP(K173,CLASSEMENTELEVES!$C$4:$D$37,2,FALSE),0,-U173)","v":{"$error":"#N/A"}}]
[null,"MATCH 161",null,null,null,null,null,null,null,null,null,null,null,null,null,null,null,null,null,null,{"$f":"IFERROR(VLOOKUP(F174,CLASSEMENTELEVES!$C$4:$D$37,2,FALSE)-VLOOKUP(K174,CLASSEMENTELEVES!$C$4:$D$37,2,FALSE),\"\")","v":""},null,null,null,"0_",0,0,0,0,"V",{"$f":"IF(Z174<>0,COUNTIF($Z$14:Z174,Z174),\"\")","v":""},{"$f":"IFERROR(VLOOKUP(U174,DEBUT!$D$5:$F$122,2,FALSE),0)","v":0},{"$f":"IF(VLOOKUP(F174,CLASSEMENTELEVES!$C$4:$D$37,2,FALSE)<VLOOKUP(K174,CLASSEMENTELEVES!$C$4:$D$37,2,FALSE),0,-U174)","v":{"$error":"#N/A"}}]
[null,"MATCH 162",null,null,null,null,null,null,null,null,null,null,null,null,null,null,null,null,null,null,{"$f":"IFERROR(VLOOKUP(F175,CLASSEMENTELEVES!$C$4:$D$37,2,FALSE)-VLOOKUP(K175,CLASSEMENTELEVES!$C$4:$D$37,2,FALSE),\"\")","v":""},null,null,null,"0_",0,0,0,0,"V",{"$f":"IF(Z175<>0,COUNTIF($Z$14:Z175,Z175),\"\")","v":""},{"$f":"IFERROR(VLOOKUP(U175,DEBUT!$D$5:$F$122,2,FALSE),0)","v":0},{"$f":"IF(VLOOKUP(F175,CLASSEMENTELEVES!$C$4:$D$37,2,FALSE)<VLOOKUP(K175,CLASSEMENTELEVES!$C$4:$D$37,2,FALSE),0,-U175)","v":{"$error":"#N/A"}}]
[null,"MATCH 163",null,null,null,null,null,null,null,null,null,null,null,null,null,null,null,null,null,null,{"$f":"IFERROR(VLOOKUP(F176,CLASSEMENTELEVES!$C$4:$D$37,2,FALSE)-VLOOKUP(K176,CLASSEMENTELEVES!$C$4:$D$37,2,FALSE),\"\")","v":""},null,null,null,"0_",0,0,0,0,"V",{"$f":"IF(Z176<>0,COUNTIF($Z$14:Z176,Z176),\"\")","v":""},{"$f":"IFERROR(VLOOKUP(U176,DEBUT!$D$5:$F$122,2,FALSE),0)","v":0},{"$f":"IF(VLOOKUP(F176,CLASSEMENTELEVES!$C$4:$D$37,2,FALSE)<VLOOKUP(K176,CLASSEMENTELEVES!$C$4:$D$37,2,FALSE),0,-U176)","v":{"$error":"#N/A"}}]
[null,"MATCH 164",null,null,null,null,null,null,null,null,null,null,null,null,null,null,null,null,null,null,{"$f":"IFERROR(VLOOKUP(F177,CLASSEMENTELEVES!$C$4:$D$37,2,FALSE)-VLOOKUP(K177,CLASSEMENTELEVES!$C$4:$D$37,2,FALSE),\"\")","v":""},null,null,null,"0_",0,0,0,0,"V",{"$f":"IF(Z177<>0,COUNTIF($Z$14:Z177,Z177),\"\")","v":""},{"$f":"IFERROR(VLOOKUP(U177,DEBUT!$D$5:$F$122,2,FALSE),0)","v":0},{"$f":"IF(VLOOKUP(F177,CLASSEMENTELEVES!$C$4:$D$37,2,FALSE)<VLOOKUP(K177,CLASSEMENTELEVES!$C$4:$D$37,2,FALSE),0,-U177)","v":{"$error":"#N/A"}}]
[null,"MATCH 165",null,null,null,null,null,null,null,null,null,null,null,null,null,null,null,null,null,null,{"$f":"IFERROR(VLOOKUP(F178,CLASSEMENTELEVES!$C$4:$D$37,2,FALSE)-VLOOKUP(K178,CLASSEMENTELEVES!$C$4:$D$37,2,FALSE),\"\")","v":""},null,null,null,"0_",0,0,0,0,"V",{"$f":"IF(Z178<>0,COUNTIF($Z$14:Z178,Z178),\"\")","v":""},{"$f":"IFERROR(VLOOKUP(U178,DEBUT!$D$5:$F$122,2,FALSE),0)","v":0},{"$f":"IF(VLOOKUP(F178,CLASSEMENTELEVES!$C$4:$D$37,2,FALSE)<VLOOKUP(K178,CLASSEMENTELEVES!$C$4:$D$37,2,FALSE),0,-U178)","v":{"$error":"#N/A"}}]
[null,"MATCH 166",null,null,null,null,null,null,null,null,null,null,null,null,null,null,null,null,null,null,{"$f":"IFERROR(VLOOKUP(F179,CLASSEMENTELEVES!$C$4:$D$37,2,FALSE)-VLOOKUP(K179,CLASSEMENTELEVES!$C$4:$D$37,2,FALSE),\"\")","v":""},null,null,null,"0_",0,0,0,0,"V",{"$f":"IF(Z179<>0,COUNTIF($Z$14:Z179,Z179),\"\")","v":""},{"$f":"IFERROR(VLOOKUP(U179,DEBUT!$D$5:$F$122,2,FALSE),0)","v":0},{"$f":"IF(VLOOKUP(F179,CLASSEMENTELEVES!$C$4:$D$37,2,FALSE)<VLOOKUP(K179,CLASSEMENTELEVES!$C$4:$D$37,2,FALSE),0,-U179)","v":{"$error":"#N/A"}}]
[null,"MATCH 167",null,null,null,null,null,null,null,null,null,null,null,null,null,null,null,null,null,null,{"$f":"IFERROR(VLOOKUP(F180,CLASSEMENTELEVES!$C$4:$D$37,2,FALSE)-VLOOKUP(K180,CLASSEMENTELEVES!$C$4:$D$37,2,FALSE),\"\")","v":""},null,null,null,"0_",0,0,0,0,"V",{"$f":"IF(Z180<>0,COUNTIF($Z$14:Z180,Z180),\"\")","v":""},{"$f":"IFERROR(VLOOKUP(U180,DEBUT!$D$5:$F$122,2,FALSE),0)","v":0},{"$f":"IF(VLOOKUP(F180,CLASSEMENTELEVES!$C$4:$D$37,2,FALSE)<VLOOKUP(K180,CLASSEMENTELEVES!$C$4:$D$37,2,FALSE),0,-U180)","v":{"$error":"#N/A"}}]
[null,"MATCH 168",null,null,null,null,null,null,null,null,null,null,null,null,null,null,null,null,null,null,{"$f":"IFERROR(VLOOKUP(F181,CLASSEMENTELEVES!$C$4:$D$37,2,FALSE)-VLOOKUP(K181,CLASSEMENTELEVES!$C$4:$D$37,2,FALSE),\"\")","v":""},null,null,null,"0_",0,0,0,0,"V",{"$f":"IF(Z181<>0,COUNTIF($Z$14:Z181,Z181),\"\")","v":""},{"$f":"IFERROR(VLOOKUP(U181,DEBUT!$D$5:$F$122,2,FALSE),0)","v":0},{"$f":"IF(VLOOKUP(F181,CLASSEMENTELEVES!$C$4:$D$37,2,FALSE)<VLOOKUP(K181,CLASSEMENTELEVES!$C$4:$D$37,2,FALSE),0,-U181)","v":{"$error":"#N/A"}}]
[null,"MATCH 169",null,null,null,null,null,null,null,null,null,null,null,null,null,null,null,null,null,null,{"$f":"IFERROR(VLOOKUP(F182,CLASSEMENTELEVES!$C$4:$D$37,2,FALSE)-VLOOKUP(K182,CLASSEMENTELEVES!$C$4:$D$37,2,FALSE),\"\")","v":""},null,null,null,"0_",0,0,0,0,"V",{"$f":"IF(Z182<>0,COUNTIF($Z$14:Z182,Z182),\"\")","v":""},{"$f":"IFERROR(VLOOKUP(U182,DEBUT!$D$5:$F$122,2,FALSE),0)","v":0},{"$f":"IF(VLOOKUP(F182,CLASSEMENTELEVES!$C$4:$D$37,2,FALSE)<VLOOKUP(K182,CLASSEMENTELEVES!$C$4:$D$37,2,FALSE),0,-U182)","v":{"$error":"#N/A"}}]
[null,"MATCH 170",null,null,null,null,null,null,null,null,null,null,null,null,null,null,null,null,null,null,{"$f":"IFERROR(VLOOKUP(F183,CLASSEMENTELEVES!$C$4:$D$37,2,FALSE)-VLOOKUP(K183,CLASSEMENTELEVES!$C$4:$D$37,2,FALSE),\"\")","v":""},null,null,null,"0_",0,0,0,0,"V",{"$f":"IF(Z183<>0,COUNTIF($Z$14:Z183,Z183),\"\")","v":""},{"$f":"IFERROR(VLOOKUP(U183,DEBUT!$D$5:$F$122,2,FALSE),0)","v":0},{"$f":"IF(VLOOKUP(F183,CLASSEMENTELEVES!$C$4:$D$37,2,FALSE)<VLOOKUP(K183,CLASSEMENTELEVES!$C$4:$D$37,2,FALSE),0,-U183)","v":{"$error":"#N/A"}}]
[null,"MATCH 171",null,null,null,null,null,null,null,null,null,null,null,null,null,null,null,null,null,null,{"$f":"IFERROR(VLOOKUP(F184,CLASSEMENTELEVES!$C$4:$D$37,2,FALSE)-VLOOKUP(K184,CLASSEMENTELEVES!$C$4:$D$37,2,FALSE),\"\")","v":""},null,null,null,"0_",0,0,0,0,"V",{"$f":"IF(Z184<>0,COUNTIF($Z$14:Z184,Z184),\"\")","v":""},{"$f":"IFERROR(VLOOKUP(U184,DEBUT!$D$5:$F$122,2,FALSE),0)","v":0},{"$f":"IF(VLOOKUP(F184,CLASSEMENTELEVES!$C$4:$D$37,2,FALSE)<VLOOKUP(K184,CLASSEMENTELEVES!$C$4:$D$37,2,FALSE),0,-U184)","v":{"$error":"#N/A"}}]
[null,"MATCH 172",null,null,null,null,null,null,null,null,null,null,null,null,null,null,null,null,null,null,{"$f":"IFERROR(VLOOKUP(F185,CLASSEMENTELEVES!$C$4:$D$37,2,FALSE)-VLOOKUP(K185,CLASSEMENTELEVES!$C$4:$D$37,2,FALSE),\"\")","v":""},null,null,null,"0_",0,0,0,0,"V",{"$f":"IF(Z185<>0,COUNTIF($Z$14:Z185,Z185),\"\")","v":""},{"$f":"IFERROR(VLOOKUP(U185,DEBUT!$D$5:$F$122,2,FALSE),0)","v":0},{"$f":"IF(VLOOKUP(F185,CLASSEMENTELEVES!$C$4:$D$37,2,FALSE)<VLOOKUP(K185,CLASSEMENTELEVES!$C$4:$D$37,2,FALSE),0,-U185)","v":{"$error":"#N/A"}}]
[null,"MATCH 173",null,null,null,null,null,null,null,null,null,null,null,null,null,null,null,null,null,null,{"$f":"IFERROR(VLOOKUP(F186,CLASSEMENTELEVES!$C$4:$D$37,2,FALSE)-VLOOKUP(K186,CLASSEMENTELEVES!$C$4:$D$37,2,FALSE),\"\")","v":""},null,null,null,"0_",0,0,0,0,"V",{"$f":"IF(Z186<>0,COUNTIF($Z$14:Z186,Z186),\"\")","v":""},{"$f":"IFERROR(VLOOKUP(U186,DEBUT!$D$5:$F$122,2,FALSE),0)","v":0},{"$f":"IF(VLOOKUP(F186,CLASSEMENTELEVES!$C$4:$D$37,2,FALSE)<VLOOKUP(K186,CLASSEMENTELEVES!$C$4:$D$37,2,FALSE),0,-U186)","v":{"$error":"#N/A"}}]
[null,"MATCH 174",null,null,null,null,null,null,null,null,null,null,null,null,null,null,null,null,null,null,{"$f":"IFERROR(VLOOKUP(F187,CLASSEMENTELEVES!$C$4:$D$37,2,FALSE)-VLOOKUP(K187,CLASSEMENTELEVES!$C$4:$D$37,2,FALSE),\"\")","v":""},null,null,null,"0_",0,0,0,0,"V",{"$f":"IF(Z187<>0,COUNTIF($Z$14:Z187,Z187),\"\")","v":""},{"$f":"IFERROR(VLOOKUP(U187,DEBUT!$D$5:$F$122,2,FALSE),0)","v":0},{"$f":"IF(VLOOKUP(F187,CLASSEMENTELEVES!$C$4:$D$37,2,FALSE)<VLOOKUP(K187,CLASSEMENTELEVES!$C$4:$D$37,2,FALSE),0,-U187)","v":{"$error":"#N/A"}}]
[null,"MATCH 175",null,null,null,null,null,null,null,null,null,null,null,null,null,null,null,null,null,null,{"$f":"IFERROR(VLOOKUP(F188,CLASSEMENTELEVES!$C$4:$D$37,2,FALSE)-VLOOKUP(K188,CLASSEMENTELEVES!$C$4:$D$37,2,FALSE),\"\")","v":""},null,null,null,"0_",0,0,0,0,"V",{"$f":"IF(Z188<>0,COUNTIF($Z$14:Z188,Z188),\"\")","v":""},{"$f":"IFERROR(VLOOKUP(U188,DEBUT!$D$5:$F$122,2,FALSE),0)","v":0},{"$f":"IF(VLOOKUP(F188,CLASSEMENTELEVES!$C$4:$D$37,2,FALSE)<VLOOKUP(K188,CLASSEMENTELEVES!$C$4:$D$37,2,FALSE),0,-U188)","v":{"$error":"#N/A"}}]
[null,"MATCH 176",null,null,null,null,null,null,null,null,null,null,null,null,null,null,null,null,null,null,{"$f":"IFERROR(VLOOKUP(F189,CLASSEMENTELEVES!$C$4:$D$37,2,FALSE)-VLOOKUP(K189,CLASSEMENTELEVES!$C$4:$D$37,2,FALSE),\"\")","v":""},null,null,null,"0_",0,0,0,0,"V",{"$f":"IF(Z189<>0,COUNTIF($Z$14:Z189,Z189),\"\")","v":""},{"$f":"IFERROR(VLOOKUP(U189,DEBUT!$D$5:$F$122,2,FALSE),0)","v":0},{"$f":"IF(VLOOKUP(F189,CLASSEMENTELEVES!$C$4:$D$37,2,FALSE)<VLOOKUP(K189,CLASSEMENTELEVES!$C$4:$D$37,2,FALSE),0,-U189)","v":{"$error":"#N/A"}}]
[null,"MATCH 177",null,null,null,null,null,null,null,null,null,null,null,null,null,null,null,null,null,null,{"$f":"IFERROR(VLOOKUP(F190,CLASSEMENTELEVES!$C$4:$D$37,2,FALSE)-VLOOKUP(K190,CLASSEMENTELEVES!$C$4:$D$37,2,FALSE),\"\")","v":""},null,null,null,"0_",0,0,0,0,"V",{"$f":"IF(Z190<>0,COUNTIF($Z$14:Z190,Z190),\"\")","v":""},{"$f":"IFERROR(VLOOKUP(U190,DEBUT!$D$5:$F$122,2,FALSE),0)","v":0},{"$f":"IF(VLOOKUP(F190,CLASSEMENTELEVES!$C$4:$D$37,2,FALSE)<VLOOKUP(K190,CLASSEMENTELEVES!$C$4:$D$37,2,FALSE),0,-U190)","v":{"$error":"#N/A"}}]
[null,"MATCH 178",null,null,null,null,null,null,null,null,null,null,null,null,null,null,null,null,null,null,{"$f":"IFERROR(VLOOKUP(F191,CLASSEMENTELEVES!$C$4:$D$37,2,FALSE)-VLOOKUP(K191,CLASSEMENTELEVES!$C$4:$D$37,2,FALSE),\"\")","v":""},null,null,null,"0_",0,0,0,0,"V",{"$f":"IF(Z191<>0,COUNTIF($Z$14:Z191,Z191),\"\")","v":""},{"$f":"IFERROR(VLOOKUP(U191,DEBUT!$D$5:$F$122,2,FALSE),0)","v":0},{"$f":"IF(VLOOKUP(F191,CLASSEMENTELEVES!$C$4:$D$37,2,FALSE)<VLOOKUP(K191,CLASSEMENTELEVES!$C$4:$D$37,2,FALSE),0,-U191)","v":{"$error":"#N/A"}}]
[null,"MATCH 179",null,null,null,null,null,null,null,null,null,null,null,null,null,null,null,null,null,null,{"$f":"IFERROR(VLOOKUP(F192,CLASSEMENTELEVES!$C$4:$D$37,2,FALSE)-VLOOKUP(K192,CLASSEMENTELEVES!$C$4:$D$37,2,FALSE),\"\")","v":""},null,null,null,"0_",0,0,0,0,"V",{"$f":"IF(Z192<>0,COUNTIF($Z$14:Z192,Z192),\"\")","v":""},{"$f":"IFERROR(VLOOKUP(U192,DEBUT!$D$5:$F$122,2,FALSE),0)","v":0},{"$f":"IF(VLOOKUP(F192,CLASSEMENTELEVES!$C$4:$D$37,2,FALSE)<VLOOKUP(K192,CLASSEMENTELEVES!$C$4:$D$37,2,FALSE),0,-U192)","v":{"$error":"#N/A"}}]
[null,"MATCH 180",null,null,null,null,null,null,null,null,null,null,null,null,null,null,null,null,null,null,{"$f":"IFERROR(VLOOKUP(F193,CLASSEMENTELEVES!$C$4:$D$37,2,FALSE)-VLOOKUP(K193,CLASSEMENTELEVES!$C$4:$D$37,2,FALSE),\"\")","v":""},null,null,null,"0_",0,0,0,0,"V",{"$f":"IF(Z193<>0,COUNTIF($Z$14:Z193,Z193),\"\")","v":""},{"$f":"IFERROR(VLOOKUP(U193,DEBUT!$D$5:$F$122,2,FALSE),0)","v":0},{"$f":"IF(VLOOKUP(F193,CLASSEMENTELEVES!$C$4:$D$37,2,FALSE)<VLOOKUP(K193,CLASSEMENTELEVES!$C$4:$D$37,2,FALSE),0,-U193)","v":{"$error":"#N/A"}}]
[null,"MATCH 181",null,null,null,null,null,null,null,null,null,null,null,null,null,null,null,null,null,null,{"$f":"IFERROR(VLOOKUP(F194,CLASSEMENTELEVES!$C$4:$D$37,2,FALSE)-VLOOKUP(K194,CLASSEMENTELEVES!$C$4:$D$37,2,FALSE),\"\")","v":""},null,null,null,"0_",0,0,0,0,"V",{"$f":"IF(Z194<>0,COUNTIF($Z$14:Z194,Z194),\"\")","v":""},{"$f":"IFERROR(VLOOKUP(U194,DEBUT!$D$5:$F$122,2,FALSE),0)","v":0},{"$f":"IF(VLOOKUP(F194,CLASSEMENTELEVES!$C$4:$D$37,2,FALSE)<VLOOKUP(K194,CLASSEMENTELEVES!$C$4:$D$37,2,FALSE),0,-U194)","v":{"$error":"#N/A"}}]
[null,"MATCH 182",null,null,null,null,null,null,null,null,null,null,null,null,null,null,null,null,null,null,{"$f":"IFERROR(VLOOKUP(F195,CLASSEMENTELEVES!$C$4:$D$37,2,FALSE)-VLOOKUP(K195,CLASSEMENTELEVES!$C$4:$D$37,2,FALSE),\"\")","v":""},null,null,null,"0_",0,0,0,0,"V",{"$f":"IF(Z195<>0,COUNTIF($Z$14:Z195,Z195),\"\")","v":""},{"$f":"IFERROR(VLOOKUP(U195,DEBUT!$D$5:$F$122,2,FALSE),0)","v":0},{"$f":"IF(VLOOKUP(F195,CLASSEMENTELEVES!$C$4:$D$37,2,FALSE)<VLOOKUP(K195,CLASSEMENTELEVES!$C$4:$D$37,2,FALSE),0,-U195)","v":{"$error":"#N/A"}}]
[null,"MATCH 183",null,null,null,null,null,null,null,null,null,null,null,null,null,null,null,null,null,null,{"$f":"IFERROR(VLOOKUP(F196,CLASSEMENTELEVES!$C$4:$D$37,2,FALSE)-VLOOKUP(K196,CLASSEMENTELEVES!$C$4:$D$37,2,FALSE),\"\")","v":""},null,null,null,"0_",0,0,0,0,"V",{"$f":"IF(Z196<>0,COUNTIF($Z$14:Z196,Z196),\"\")","v":""},{"$f":"IFERROR(VLOOKUP(U196,DEBUT!$D$5:$F$122,2,FALSE),0)","v":0},{"$f":"IF(VLOOKUP(F196,CLASSEMENTELEVES!$C$4:$D$37,2,FALSE)<VLOOKUP(K196,CLASSEMENTELEVES!$C$4:$D$37,2,FALSE),0,-U196)","v":{"$error":"#N/A"}}]
[null,"MATCH 184",null,null,null,null,null,null,null,null,null,null,null,null,null,null,null,null,null,null,{"$f":"IFERROR(VLOOKUP(F197,CLASSEMENTELEVES!$C$4:$D$37,2,FALSE)-VLOOKUP(K197,CLASSEMENTELEVES!$C$4:$D$37,2,FALSE),\"\")","v":""},null,null,null,"0_",0,0,0,0,"V",{"$f":"IF(Z197<>0,COUNTIF($Z$14:Z197,Z197),\"\")","v":""},{"$f":"IFERROR(VLOOKUP(U197,DEBUT!$D$5:$F$122,2,FALSE),0)","v":0},{"$f":"IF(VLOOKUP(F197,CLASSEMENTELEVES!$C$4:$D$37,2,FALSE)<VLOOKUP(K197,CLASSEMENTELEVES!$C$4:$D$37,2,FALSE),0,-U197)","v":{"$error":"#N/A"}}]
[null,"MATCH 185",null,null,null,null,null,null,null,null,null,null,null,null,null,null,null,null,null,null,{"$f":"IFERROR(VLOOKUP(F198,CLASSEMENTELEVES!$C$4:$D$37,2,FALSE)-VLOOKUP(K198,CLASSEMENTELEVES!$C$4:$D$37,2,FALSE),\"\")","v":""},null,null,null,"0_",0,0,0,0,"V",{"$f":"IF(Z198<>0,COUNTIF($Z$14:Z198,Z198),\"\")","v":""},{"$f":"IFERROR(VLOOKUP(U198,DEBUT!$D$5:$F$122,2,FALSE),0)","v":0},{"$f":"IF(VLOOKUP(F198,CLASSEMENTELEVES!$C$4:$D$37,2,FALSE)<VLOOKUP(K198,CLASSEMENTELEVES!$C$4:$D$37,2,FALSE),0,-U198)","v":{"$error":"#N/A"}}]
[null,"MATCH 186",null,null,null,null,null,null,null,null,null,null,null,null,null,null,null,null,null,null,{"$f":"IFERROR(VLOOKUP(F199,CLASSEMENTELEVES!$C$4:$D$37,2,FALSE)-VLOOKUP(K199,CLASSEMENTELEVES!$C$4:$D$37,2,FALSE),\"\")","v":""},null,null,null,"0_",0,0,0,0,"V",{"$f":"IF(Z199<>0,COUNTIF($Z$14:Z199,Z199),\"\")","v":""},{"$f":"IFERROR(VLOOKUP(U199,DEBUT!$D$5:$F$122,2,FALSE),0)","v":0},{"$f":"IF(VLOOKUP(F199,CLASSEMENTELEVES!$C$4:$D$37,2,FALSE)<VLOOKUP(K199,CLASSEMENTELEVES!$C$4:$D$37,2,FALSE),0,-U199)","v":{"$error":"#N/A"}}]
[null,"MATCH 187",null,null,null,null,null,null,null,null,null,null,null,null,null,null,null,null,null,null,{"$f":"IFERROR(VLOOKUP(F200,CLASSEMENTELEVES!$C$4:$D$37,2,FALSE)-VLOOKUP(K200,CLASSEMENTELEVES!$C$4:$D$37,2,FALSE),\"\")","v":""},null,null,null,"0_",0,0,0,0,"V",{"$f":"IF(Z200<>0,COUNTIF($Z$14:Z200,Z200),\"\")","v":""},{"$f":"IFERROR(VLOOKUP(U200,DEBUT!$D$5:$F$122,2,FALSE),0)","v":0},{"$f":"IF(VLOOKUP(F200,CLASSEMENTELEVES!$C$4:$D$37,2,FALSE)<VLOOKUP(K200,CLASSEMENTELEVES!$C$4:$D$37,2,FALSE),0,-U200)","v":{"$error":"#N/A"}}]
[null,"MATCH 188",null,null,null,null,null,null,null,null,null,null,null,null,null,null,null,null,null,null,{"$f":"IFERROR(VLOOKUP(F201,CLASSEMENTELEVES!$C$4:$D$37,2,FALSE)-VLOOKUP(K201,CLASSEMENTELEVES!$C$4:$D$37,2,FALSE),\"\")","v":""},null,null,null,"0_",0,0,0,0,"V",{"$f":"IF(Z201<>0,COUNTIF($Z$14:Z201,Z201),\"\")","v":""},{"$f":"IFERROR(VLOOKUP(U201,DEBUT!$D$5:$F$122,2,FALSE),0)","v":0},{"$f":"IF(VLOOKUP(F201,CLASSEMENTELEVES!$C$4:$D$37,2,FALSE)<VLOOKUP(K201,CLASSEMENTELEVES!$C$4:$D$37,2,FALSE),0,-U201)","v":{"$error":"#N/A"}}]
[null,"MATCH 189",null,null,null,null,null,null,null,null,null,null,null,null,null,null,null,null,null,null,{"$f":"IFERROR(VLOOKUP(F202,CLASSEMENTELEVES!$C$4:$D$37,2,FALSE)-VLOOKUP(K202,CLASSEMENTELEVES!$C$4:$D$37,2,FALSE),\"\")","v":""},null,null,null,"0_",0,0,0,0,"V",{"$f":"IF(Z202<>0,COUNTIF($Z$14:Z202,Z202),\"\")","v":""},{"$f":"IFERROR(VLOOKUP(U202,DEBUT!$D$5:$F$122,2,FALSE),0)","v":0},{"$f":"IF(VLOOKUP(F202,CLASSEMENTELEVES!$C$4:$D$37,2,FALSE)<VLOOKUP(K202,CLASSEMENTELEVES!$C$4:$D$37,2,FALSE),0,-U202)","v":{"$error":"#N/A"}}]
[null,"MATCH 190",null,null,null,null,null,null,null,null,null,null,null,null,null,null,null,null,null,null,{"$f":"IFERROR(VLOOKUP(F203,CLASSEMENTELEVES!$C$4:$D$37,2,FALSE)-VLOOKUP(K203,CLASSEMENTELEVES!$C$4:$D$37,2,FALSE),\"\")","v":""},null,null,null,"0_",0,0,0,0,"V",{"$f":"IF(Z203<>0,COUNTIF($Z$14:Z203,Z203),\"\")","v":""},{"$f":"IFERROR(VLOOKUP(U203,DEBUT!$D$5:$F$122,2,FALSE),0)","v":0},{"$f":"IF(VLOOKUP(F203,CLASSEMENTELEVES!$C$4:$D$37,2,FALSE)<VLOOKUP(K203,CLASSEMENTELEVES!$C$4:$D$37,2,FALSE),0,-U203)","v":{"$error":"#N/A"}}]
[null,"MATCH 191",null,null,null,null,null,null,null,null,null,null,null,null,null,null,null,null,null,null,{"$f":"IFERROR(VLOOKUP(F204,CLASSEMENTELEVES!$C$4:$D$37,2,FALSE)-VLOOKUP(K204,CLASSEMENTELEVES!$C$4:$D$37,2,FALSE),\"\")","v":""},null,null,null,"0_",0,0,0,0,"V",{"$f":"IF(Z204<>0,COUNTIF($Z$14:Z204,Z204),\"\")","v":""},{"$f":"IFERROR(VLOOKUP(U204,DEBUT!$D$5:$F$122,2,FALSE),0)","v":0},{"$f":"IF(VLOOKUP(F204,CLASSEMENTELEVES!$C$4:$D$37,2,FALSE)<VLOOKUP(K204,CLASSEMENTELEVES!$C$4:$D$37,2,FALSE),0,-U204)","v":{"$error":"#N/A"}}]
[null,"MATCH 192",null,null,null,null,null,null,null,null,null,null,null,null,null,null,null,null,null,null,{"$f":"IFERROR(VLOOKUP(F205,CLASSEMENTELEVES!$C$4:$D$37,2,FALSE)-VLOOKUP(K205,CLASSEMENTELEVES!$C$4:$D$37,2,FALSE),\"\")","v":""},null,null,null,"0_",0,0,0,0,"V",{"$f":"IF(Z205<>0,COUNTIF($Z$14:Z205,Z205),\"\")","v":""},{"$f":"IFERROR(VLOOKUP(U205,DEBUT!$D$5:$F$122,2,FALSE),0)","v":0},{"$f":"IF(VLOOKUP(F205,CLASSEMENTELEVES!$C$4:$D$37,2,FALSE)<VLOOKUP(K205,CLASSEMENTELEVES!$C$4:$D$37,2,FALSE),0,-U205)","v":{"$error":"#N/A"}}]
[null,"MATCH 193",null,null,null,null,null,null,null,null,null,null,null,null,null,null,null,null,null,null,{"$f":"IFERROR(VLOOKUP(F206,CLASSEMENTELEVES!$C$4:$D$37,2,FALSE)-VLOOKUP(K206,CLASSEMENTELEVES!$C$4:$D$37,2,FALSE),\"\")","v":""},null,null,null,{"$f":"Z206&\"_\"&AE206","v":"0_"},0,0,0,0,"V",{"$f":"IF(Z206<>0,COUNTIF($Z$14:Z206,Z206),\"\")","v":""},{"$f":"IFERROR(VLOOKUP(U206,DEBUT!$D$5:$F$122,2,FALSE),0)","v":0},{"$f":"IF(VLOOKUP(F206,CLASSEMENTELEVES!$C$4:$D$37,2,FALSE)<VLOOKUP(K206,CLASSEMENTELEVES!$C$4:$D$37,2,FALSE),0,-U206)","v":{"$error":"#N/A"}}]
[null,"MATCH 194",null,null,null,null,null,null,null,null,null,null,null,null,null,null,null,null,null,null,{"$f":"IFERROR(VLOOKUP(F207,CLASSEMENTELEVES!$C$4:$D$37,2,FALSE)-VLOOKUP(K207,CLASSEMENTELEVES!$C$4:$D$37,2,FALSE),\"\")","v":""},null,null,null,"0_",{"$f":"F207","v":0},{"$f":"I207","v":0},{"$f":"P207","v":0},{"$f":"N207","v":0},"V",{"$f":"IF(Z207<>0,COUNTIF($Z$14:Z207,Z207),\"\")","v":""},{"$f":"IFERROR(VLOOKUP(U207,DEBUT!$D$5:$F$122,2,FALSE),0)","v":0},{"$f":"IF(VLOOKUP(F207,CLASSEMENTELEVES!$C$4:$D$37,2,FALSE)<VLOOKUP(K207,CLASSEMENTELEVES!$C$4:$D$37,2,FALSE),0,-U207)","v":{"$error":"#N/A"}}]
[null,"MATCH 195",null,null,null,null,null,null,null,null,null,null,null,null,null,null,null,null,null,null,{"$f":"IFERROR(VLOOKUP(F208,CLASSEMENTELEVES!$C$4:$D$37,2,FALSE)-VLOOKUP(K208,CLASSEMENTELEVES!$C$4:$D$37,2,FALSE),\"\")","v":""},null,null,null,"0_",0,0,0,0,"V",{"$f":"IF(Z208<>0,COUNTIF($Z$14:Z208,Z208),\"\")","v":""},{"$f":"IFERROR(VLOOKUP(U208,DEBUT!$D$5:$F$122,2,FALSE),0)","v":0},{"$f":"IF(VLOOKUP(F208,CLASSEMENTELEVES!$C$4:$D$37,2,FALSE)<VLOOKUP(K208,CLASSEMENTELEVES!$C$4:$D$37,2,FALSE),0,-U208)","v":{"$error":"#N/A"}}]
[null,"MATCH 196",null,null,null,null,null,null,null,null,null,null,null,null,null,null,null,null,null,null,{"$f":"IFERROR(VLOOKUP(F209,CLASSEMENTELEVES!$C$4:$D$37,2,FALSE)-VLOOKUP(K209,CLASSEMENTELEVES!$C$4:$D$37,2,FALSE),\"\")","v":""},null,null,null,"0_",0,0,0,0,"V",{"$f":"IF(Z209<>0,COUNTIF($Z$14:Z209,Z209),\"\")","v":""},{"$f":"IFERROR(VLOOKUP(U209,DEBUT!$D$5:$F$122,2,FALSE),0)","v":0},{"$f":"IF(VLOOKUP(F209,CLASSEMENTELEVES!$C$4:$D$37,2,FALSE)<VLOOKUP(K209,CLASSEMENTELEVES!$C$4:$D$37,2,FALSE),0,-U209)","v":{"$error":"#N/A"}}]
[null,"MATCH 197",null,null,null,null,null,null,null,null,null,null,null,null,null,null,null,null,null,null,{"$f":"IFERROR(VLOOKUP(F210,CLASSEMENTELEVES!$C$4:$D$37,2,FALSE)-VLOOKUP(K210,CLASSEMENTELEVES!$C$4:$D$37,2,FALSE),\"\")","v":""},null,null,null,"0_",0,0,0,0,"V",{"$f":"IF(Z210<>0,COUNTIF($Z$14:Z210,Z210),\"\")","v":""},{"$f":"IFERROR(VLOOKUP(U210,DEBUT!$D$5:$F$122,2,FALSE),0)","v":0},{"$f":"IF(VLOOKUP(F210,CLASSEMENTELEVES!$C$4:$D$37,2,FALSE)<VLOOKUP(K210,CLASSEMENTELEVES!$C$4:$D$37,2,FALSE),0,-U210)","v":{"$error":"#N/A"}}]
[null,"MATCH 198",null,null,null,null,null,null,null,null,null,null,null,null,null,null,null,null,null,null,{"$f":"IFERROR(VLOOKUP(F211,CLASSEMENTELEVES!$C$4:$D$37,2,FALSE)-VLOOKUP(K211,CLASSEMENTELEVES!$C$4:$D$37,2,FALSE),\"\")","v":""},null,null,null,"0_",0,0,0,0,"V",{"$f":"IF(Z211<>0,COUNTIF($Z$14:Z211,Z211),\"\")","v":""},{"$f":"IFERROR(VLOOKUP(U211,DEBUT!$D$5:$F$122,2,FALSE),0)","v":0},{"$f":"IF(VLOOKUP(F211,CLASSEMENTELEVES!$C$4:$D$37,2,FALSE)<VLOOKUP(K211,CLASSEMENTELEVES!$C$4:$D$37,2,FALSE),0,-U211)","v":{"$error":"#N/A"}}]
[null,"MATCH 199",null,null,null,null,null,null,null,null,null,null,null,null,null,null,null,null,null,null,{"$f":"IFERROR(VLOOKUP(F212,CLASSEMENTELEVES!$C$4:$D$37,2,FALSE)-VLOOKUP(K212,CLASSEMENTELEVES!$C$4:$D$37,2,FALSE),\"\")","v":""},null,null,null,"0_",0,0,0,0,"V",{"$f":"IF(Z212<>0,COUNTIF($Z$14:Z212,Z212),\"\")","v":""},{"$f":"IFERROR(VLOOKUP(U212,DEBUT!$D$5:$F$122,2,FALSE),0)","v":0},{"$f":"IF(VLOOKUP(F212,CLASSEMENTELEVES!$C$4:$D$37,2,FALSE)<VLOOKUP(K212,CLASSEMENTELEVES!$C$4:$D$37,2,FALSE),0,-U212)","v":{"$error":"#N/A"}}]
[null,"MATCH 200",null,null,null,null,null,null,null,null,null,null,null,null,null,null,null,null,null,null,{"$f":"IFERROR(VLOOKUP(F213,CLASSEMENTELEVES!$C$4:$D$37,2,FALSE)-VLOOKUP(K213,CLASSEMENTELEVES!$C$4:$D$37,2,FALSE),\"\")","v":""},null,null,null,"0_",0,0,0,0,"V",{"$f":"IF(Z213<>0,COUNTIF($Z$14:Z213,Z213),\"\")","v":""},{"$f":"IFERROR(VLOOKUP(U213,DEBUT!$D$5:$F$122,2,FALSE),0)","v":0},{"$f":"IF(VLOOKUP(F213,CLASSEMENTELEVES!$C$4:$D$37,2,FALSE)<VLOOKUP(K213,CLASSEMENTELEVES!$C$4:$D$37,2,FALSE),0,-U213)","v":{"$error":"#N/A"}}]
[null,"MATCH 201",null,null,null,null,null,null,null,null,null,null,null,null,null,null,null,null,null,null,{"$f":"IFERROR(VLOOKUP(F214,CLASSEMENTELEVES!$C$4:$D$37,2,FALSE)-VLOOKUP(K214,CLASSEMENTELEVES!$C$4:$D$37,2,FALSE),\"\")","v":""},null,null,null,"0_",0,0,0,0,"V",{"$f":"IF(Z214<>0,COUNTIF($Z$14:Z214,Z214),\"\")","v":""},{"$f":"IFERROR(VLOOKUP(U214,DEBUT!$D$5:$F$122,2,FALSE),0)","v":0},{"$f":"IF(VLOOKUP(F214,CLASSEMENTELEVES!$C$4:$D$37,2,FALSE)<VLOOKUP(K214,CLASSEMENTELEVES!$C$4:$D$37,2,FALSE),0,-U214)","v":{"$error":"#N/A"}}]
[null,"MATCH 202",null,null,null,null,null,null,null,null,null,null,null,null,null,null,null,null,null,null,{"$f":"IFERROR(VLOOKUP(F215,CLASSEMENTELEVES!$C$4:$D$37,2,FALSE)-VLOOKUP(K215,CLASSEMENTELEVES!$C$4:$D$37,2,FALSE),\"\")","v":""},null,null,null,"0_",0,0,0,0,"V",{"$f":"IF(Z215<>0,COUNTIF($Z$14:Z215,Z215),\"\")","v":""},{"$f":"IFERROR(VLOOKUP(U215,DEBUT!$D$5:$F$122,2,FALSE),0)","v":0},{"$f":"IF(VLOOKUP(F215,CLASSEMENTELEVES!$C$4:$D$37,2,FALSE)<VLOOKUP(K215,CLASSEMENTELEVES!$C$4:$D$37,2,FALSE),0,-U215)","v":{"$error":"#N/A"}}]
[null,"MATCH 203",null,null,null,null,null,null,null,null,null,null,null,null,null,null,null,null,null,null,{"$f":"IFERROR(VLOOKUP(F216,CLASSEMENTELEVES!$C$4:$D$37,2,FALSE)-VLOOKUP(K216,CLASSEMENTELEVES!$C$4:$D$37,2,FALSE),\"\")","v":""},null,null,null,"0_",0,0,0,0,"V",{"$f":"IF(Z216<>0,COUNTIF($Z$14:Z216,Z216),\"\")","v":""},{"$f":"IFERROR(VLOOKUP(U216,DEBUT!$D$5:$F$122,2,FALSE),0)","v":0},{"$f":"IF(VLOOKUP(F216,CLASSEMENTELEVES!$C$4:$D$37,2,FALSE)<VLOOKUP(K216,CLASSEMENTELEVES!$C$4:$D$37,2,FALSE),0,-U216)","v":{"$error":"#N/A"}}]
[null,"MATCH 204",null,null,null,null,null,null,null,null,null,null,null,null,null,null,null,null,null,null,{"$f":"IFERROR(VLOOKUP(F217,CLASSEMENTELEVES!$C$4:$D$37,2,FALSE)-VLOOKUP(K217,CLASSEMENTELEVES!$C$4:$D$37,2,FALSE),\"\")","v":""},null,null,null,"0_",0,0,0,0,"V",{"$f":"IF(Z217<>0,COUNTIF($Z$14:Z217,Z217),\"\")","v":""},{"$f":"IFERROR(VLOOKUP(U217,DEBUT!$D$5:$F$122,2,FALSE),0)","v":0},{"$f":"IF(VLOOKUP(F217,CLASSEMENTELEVES!$C$4:$D$37,2,FALSE)<VLOOKUP(K217,CLASSEMENTELEVES!$C$4:$D$37,2,FALSE),0,-U217)","v":{"$error":"#N/A"}}]
[null,"MATCH 205",null,null,null,null,null,null,null,null,null,null,null,null,null,null,null,null,null,null,{"$f":"IFERROR(VLOOKUP(F218,CLASSEMENTELEVES!$C$4:$D$37,2,FALSE)-VLOOKUP(K218,CLASSEMENTELEVES!$C$4:$D$37,2,FALSE),\"\")","v":""},null,null,null,"0_",0,0,0,0,"V",{"$f":"IF(Z218<>0,COUNTIF($Z$14:Z218,Z218),\"\")","v":""},{"$f":"IFERROR(VLOOKUP(U218,DEBUT!$D$5:$F$122,2,FALSE),0)","v":0},{"$f":"IF(VLOOKUP(F218,CLASSEMENTELEVES!$C$4:$D$37,2,FALSE)<VLOOKUP(K218,CLASSEMENTELEVES!$C$4:$D$37,2,FALSE),0,-U218)","v":{"$error":"#N/A"}}]
[null,"MATCH 206",null,null,null,null,null,null,null,null,null,null,null,null,null,null,null,null,null,null,{"$f":"IFERROR(VLOOKUP(F219,CLASSEMENTELEVES!$C$4:$D$37,2,FALSE)-VLOOKUP(K219,CLASSEMENTELEVES!$C$4:$D$37,2,FALSE),\"\")","v":""},null,null,null,"0_",0,0,0,0,"V",{"$f":"IF(Z219<>0,COUNTIF($Z$14:Z219,Z219),\"\")","v":""},{"$f":"IFERROR(VLOOKUP(U219,DEBUT!$D$5:$F$122,2,FALSE),0)","v":0},{"$f":"IF(VLOOKUP(F219,CLASSEMENTELEVES!$C$4:$D$37,2,FALSE)<VLOOKUP(K219,CLASSEMENTELEVES!$C$4:$D$37,2,FALSE),0,-U219)","v":{"$error":"#N/A"}}]
[null,"MATCH 207",null,null,null,null,null,null,null,null,null,null,null,null,null,null,null,null,null,null,{"$f":"IFERROR(VLOOKUP(F220,CLASSEMENTELEVES!$C$4:$D$37,2,FALSE)-VLOOKUP(K220,CLASSEMENTELEVES!$C$4:$D$37,2,FALSE),\"\")","v":""},null,null,null,"0_",0,0,0,0,"V",{"$f":"IF(Z220<>0,COUNTIF($Z$14:Z220,Z220),\"\")","v":""},{"$f":"IFERROR(VLOOKUP(U220,DEBUT!$D$5:$F$122,2,FALSE),0)","v":0},{"$f":"IF(VLOOKUP(F220,CLASSEMENTELEVES!$C$4:$D$37,2,FALSE)<VLOOKUP(K220,CLASSEMENTELEVES!$C$4:$D$37,2,FALSE),0,-U220)","v":{"$error":"#N/A"}}]
[null,"MATCH 208",null,null,null,null,null,null,null,null,null,null,null,null,null,null,null,null,null,null,{"$f":"IFERROR(VLOOKUP(F221,CLASSEMENTELEVES!$C$4:$D$37,2,FALSE)-VLOOKUP(K221,CLASSEMENTELEVES!$C$4:$D$37,2,FALSE),\"\")","v":""},null,null,null,"0_",0,0,0,0,"V",{"$f":"IF(Z221<>0,COUNTIF($Z$14:Z221,Z221),\"\")","v":""},{"$f":"IFERROR(VLOOKUP(U221,DEBUT!$D$5:$F$122,2,FALSE),0)","v":0},{"$f":"IF(VLOOKUP(F221,CLASSEMENTELEVES!$C$4:$D$37,2,FALSE)<VLOOKUP(K221,CLASSEMENTELEVES!$C$4:$D$37,2,FALSE),0,-U221)","v":{"$error":"#N/A"}}]
[null,"MATCH 209",null,null,null,null,null,null,null,null,null,null,null,null,null,null,null,null,null,null,{"$f":"IFERROR(VLOOKUP(F222,CLASSEMENTELEVES!$C$4:$D$37,2,FALSE)-VLOOKUP(K222,CLASSEMENTELEVES!$C$4:$D$37,2,FALSE),\"\")","v":""},null,null,null,"0_",0,0,0,0,"V",{"$f":"IF(Z222<>0,COUNTIF($Z$14:Z222,Z222),\"\")","v":""},{"$f":"IFERROR(VLOOKUP(U222,DEBUT!$D$5:$F$122,2,FALSE),0)","v":0},{"$f":"IF(VLOOKUP(F222,CLASSEMENTELEVES!$C$4:$D$37,2,FALSE)<VLOOKUP(K222,CLASSEMENTELEVES!$C$4:$D$37,2,FALSE),0,-U222)","v":{"$error":"#N/A"}}]
[null,"MATCH 210",null,null,null,null,null,null,null,null,null,null,null,null,null,null,null,null,null,null,{"$f":"IFERROR(VLOOKUP(F223,CLASSEMENTELEVES!$C$4:$D$37,2,FALSE)-VLOOKUP(K223,CLASSEMENTELEVES!$C$4:$D$37,2,FALSE),\"\")","v":""},null,null,null,"0_",0,0,0,0,"V",{"$f":"IF(Z223<>0,COUNTIF($Z$14:Z223,Z223),\"\")","v":""},{"$f":"IFERROR(VLOOKUP(U223,DEBUT!$D$5:$F$122,2,FALSE),0)","v":0},{"$f":"IF(VLOOKUP(F223,CLASSEMENTELEVES!$C$4:$D$37,2,FALSE)<VLOOKUP(K223,CLASSEMENTELEVES!$C$4:$D$37,2,FALSE),0,-U223)","v":{"$error":"#N/A"}}]
[null,"MATCH 211",null,null,null,null,null,null,null,null,null,null,null,null,null,null,null,null,null,null,{"$f":"IFERROR(VLOOKUP(F224,CLASSEMENTELEVES!$C$4:$D$37,2,FALSE)-VLOOKUP(K224,CLASSEMENTELEVES!$C$4:$D$37,2,FALSE),\"\")","v":""},null,null,null,"0_",0,0,0,0,"V",{"$f":"IF(Z224<>0,COUNTIF($Z$14:Z224,Z224),\"\")","v":""},{"$f":"IFERROR(VLOOKUP(U224,DEBUT!$D$5:$F$122,2,FALSE),0)","v":0},{"$f":"IF(VLOOKUP(F224,CLASSEMENTELEVES!$C$4:$D$37,2,FALSE)<VLOOKUP(K224,CLASSEMENTELEVES!$C$4:$D$37,2,FALSE),0,-U224)","v":{"$error":"#N/A"}}]
[null,"MATCH 212",null,null,null,null,null,null,null,null,null,null,null,null,null,null,null,null,null,null,{"$f":"IFERROR(VLOOKUP(F225,CLASSEMENTELEVES!$C$4:$D$37,2,FALSE)-VLOOKUP(K225,CLASSEMENTELEVES!$C$4:$D$37,2,FALSE),\"\")","v":""},null,null,null,"0_",0,0,0,0,"V",{"$f":"IF(Z225<>0,COUNTIF($Z$14:Z225,Z225),\"\")","v":""},{"$f":"IFERROR(VLOOKUP(U225,DEBUT!$D$5:$F$122,2,FALSE),0)","v":0},{"$f":"IF(VLOOKUP(F225,CLASSEMENTELEVES!$C$4:$D$37,2,FALSE)<VLOOKUP(K225,CLASSEMENTELEVES!$C$4:$D$37,2,FALSE),0,-U225)","v":{"$error":"#N/A"}}]
[null,"MATCH 213",null,null,null,null,null,null,null,null,null,null,null,null,null,null,null,null,null,null,{"$f":"IFERROR(VLOOKUP(F226,CLASSEMENTELEVES!$C$4:$D$37,2,FALSE)-VLOOKUP(K226,CLASSEMENTELEVES!$C$4:$D$37,2,FALSE),\"\")","v":""},null,null,null,"0_",0,0,0,0,"V",{"$f":"IF(Z226<>0,COUNTIF($Z$14:Z226,Z226),\"\")","v":""},{"$f":"IFERROR(VLOOKUP(U226,DEBUT!$D$5:$F$122,2,FALSE),0)","v":0},{"$f":"IF(VLOOKUP(F226,CLASSEMENTELEVES!$C$4:$D$37,2,FALSE)<VLOOKUP(K226,CLASSEMENTELEVES!$C$4:$D$37,2,FALSE),0,-U226)","v":{"$error":"#N/A"}}]
[null,"MATCH 214",null,null,null,null,null,null,null,null,null,null,null,null,null,null,null,null,null,null,{"$f":"IFERROR(VLOOKUP(F227,CLASSEMENTELEVES!$C$4:$D$37,2,FALSE)-VLOOKUP(K227,CLASSEMENTELEVES!$C$4:$D$37,2,FALSE),\"\")","v":""},null,null,null,"0_",0,0,0,0,"V",{"$f":"IF(Z227<>0,COUNTIF($Z$14:Z227,Z227),\"\")","v":""},{"$f":"IFERROR(VLOOKUP(U227,DEBUT!$D$5:$F$122,2,FALSE),0)","v":0},{"$f":"IF(VLOOKUP(F227,CLASSEMENTELEVES!$C$4:$D$37,2,FALSE)<VLOOKUP(K227,CLASSEMENTELEVES!$C$4:$D$37,2,FALSE),0,-U227)","v":{"$error":"#N/A"}}]
[null,"MATCH 215",null,null,null,null,null,null,null,null,null,null,null,null,null,null,null,null,null,null,{"$f":"IFERROR(VLOOKUP(F228,CLASSEMENTELEVES!$C$4:$D$37,2,FALSE)-VLOOKUP(K228,CLASSEMENTELEVES!$C$4:$D$37,2,FALSE),\"\")","v":""},null,null,null,"0_",0,0,0,0,"V",{"$f":"IF(Z228<>0,COUNTIF($Z$14:Z228,Z228),\"\")","v":""},{"$f":"IFERROR(VLOOKUP(U228,DEBUT!$D$5:$F$122,2,FALSE),0)","v":0},{"$f":"IF(VLOOKUP(F228,CLASSEMENTELEVES!$C$4:$D$37,2,FALSE)<VLOOKUP(K228,CLASSEMENTELEVES!$C$4:$D$37,2,FALSE),0,-U228)","v":{"$error":"#N/A"}}]
[null,"MATCH 216",null,null,null,null,null,null,null,null,null,null,null,null,null,null,null,null,null,null,{"$f":"IFERROR(VLOOKUP(F229,CLASSEMENTELEVES!$C$4:$D$37,2,FALSE)-VLOOKUP(K229,CLASSEMENTELEVES!$C$4:$D$37,2,FALSE),\"\")","v":""},null,null,null,"0_",0,0,0,0,"V",{"$f":"IF(Z229<>0,COUNTIF($Z$14:Z229,Z229),\"\")","v":""},{"$f":"IFERROR(VLOOKUP(U229,DEBUT!$D$5:$F$122,2,FALSE),0)","v":0},{"$f":"IF(VLOOKUP(F229,CLASSEMENTELEVES!$C$4:$D$37,2,FALSE)<VLOOKUP(K229,CLASSEMENTELEVES!$C$4:$D$37,2,FALSE),0,-U229)","v":{"$error":"#N/A"}}]
[null,"MATCH 217",null,null,null,null,null,null,null,null,null,null,null,null,null,null,null,null,null,null,{"$f":"IFERROR(VLOOKUP(F230,CLASSEMENTELEVES!$C$4:$D$37,2,FALSE)-VLOOKUP(K230,CLASSEMENTELEVES!$C$4:$D$37,2,FALSE),\"\")","v":""},null,null,null,"0_",0,0,0,0,"V",{"$f":"IF(Z230<>0,COUNTIF($Z$14:Z230,Z230),\"\")","v":""},{"$f":"IFERROR(VLOOKUP(U230,DEBUT!$D$5:$F$122,2,FALSE),0)","v":0},{"$f":"IF(VLOOKUP(F230,CLASSEMENTELEVES!$C$4:$D$37,2,FALSE)<VLOOKUP(K230,CLASSEMENTELEVES!$C$4:$D$37,2,FALSE),0,-U230)","v":{"$error":"#N/A"}}]
[null,"MATCH 218",null,null,null,null,null,null,null,null,null,null,null,null,null,null,null,null,null,null,{"$f":"IFERROR(VLOOKUP(F231,CLASSEMENTELEVES!$C$4:$D$37,2,FALSE)-VLOOKUP(K231,CLASSEMENTELEVES!$C$4:$D$37,2,FALSE),\"\")","v":""},null,null,null,"0_",0,0,0,0,"V",{"$f":"IF(Z231<>0,COUNTIF($Z$14:Z231,Z231),\"\")","v":""},{"$f":"IFERROR(VLOOKUP(U231,DEBUT!$D$5:$F$122,2,FALSE),0)","v":0},{"$f":"IF(VLOOKUP(F231,CLASSEMENTELEVES!$C$4:$D$37,2,FALSE)<VLOOKUP(K231,CLASSEMENTELEVES!$C$4:$D$37,2,FALSE),0,-U231)","v":{"$error":"#N/A"}}]
[null,"MATCH 219",null,null,null,null,null,null,null,null,null,null,null,null,null,null,null,null,null,null,{"$f":"IFERROR(VLOOKUP(F232,CLASSEMENTELEVES!$C$4:$D$37,2,FALSE)-VLOOKUP(K232,CLASSEMENTELEVES!$C$4:$D$37,2,FALSE),\"\")","v":""},null,null,null,"0_",0,0,0,0,"V",{"$f":"IF(Z232<>0,COUNTIF($Z$14:Z232,Z232),\"\")","v":""},{"$f":"IFERROR(VLOOKUP(U232,DEBUT!$D$5:$F$122,2,FALSE),0)","v":0},{"$f":"IF(VLOOKUP(F232,CLASSEMENTELEVES!$C$4:$D$37,2,FALSE)<VLOOKUP(K232,CLASSEMENTELEVES!$C$4:$D$37,2,FALSE),0,-U232)","v":{"$error":"#N/A"}}]
[null,"MATCH 220",null,null,null,null,null,null,null,null,null,null,null,null,null,null,null,null,null,null,{"$f":"IFERROR(VLOOKUP(F233,CLASSEMENTELEVES!$C$4:$D$37,2,FALSE)-VLOOKUP(K233,CLASSEMENTELEVES!$C$4:$D$37,2,FALSE),\"\")","v":""},null,null,null,"0_",0,0,0,0,"V",{"$f":"IF(Z233<>0,COUNTIF($Z$14:Z233,Z233),\"\")","v":""},{"$f":"IFERROR(VLOOKUP(U233,DEBUT!$D$5:$F$122,2,FALSE),0)","v":0},{"$f":"IF(VLOOKUP(F233,CLASSEMENTELEVES!$C$4:$D$37,2,FALSE)<VLOOKUP(K233,CLASSEMENTELEVES!$C$4:$D$37,2,FALSE),0,-U233)","v":{"$error":"#N/A"}}]
[null,"MATCH 221",null,null,null,null,null,null,null,null,null,null,null,null,null,null,null,null,null,null,{"$f":"IFERROR(VLOOKUP(F234,CLASSEMENTELEVES!$C$4:$D$37,2,FALSE)-VLOOKUP(K234,CLASSEMENTELEVES!$C$4:$D$37,2,FALSE),\"\")","v":""},null,null,null,"0_",0,0,0,0,"V",{"$f":"IF(Z234<>0,COUNTIF($Z$14:Z234,Z234),\"\")","v":""},{"$f":"IFERROR(VLOOKUP(U234,DEBUT!$D$5:$F$122,2,FALSE),0)","v":0},{"$f":"IF(VLOOKUP(F234,CLASSEMENTELEVES!$C$4:$D$37,2,FALSE)<VLOOKUP(K234,CLASSEMENTELEVES!$C$4:$D$37,2,FALSE),0,-U234)","v":{"$error":"#N/A"}}]
[null,"MATCH 222",null,null,null,null,null,null,null,null,null,null,null,null,null,null,null,null,null,null,{"$f":"IFERROR(VLOOKUP(F235,CLASSEMENTELEVES!$C$4:$D$37,2,FALSE)-VLOOKUP(K235,CLASSEMENTELEVES!$C$4:$D$37,2,FALSE),\"\")","v":""},null,null,null,"0_",0,0,0,0,"V",{"$f":"IF(Z235<>0,COUNTIF($Z$14:Z235,Z235),\"\")","v":""},{"$f":"IFERROR(VLOOKUP(U235,DEBUT!$D$5:$F$122,2,FALSE),0)","v":0},{"$f":"IF(VLOOKUP(F235,CLASSEMENTELEVES!$C$4:$D$37,2,FALSE)<VLOOKUP(K235,CLASSEMENTELEVES!$C$4:$D$37,2,FALSE),0,-U235)","v":{"$error":"#N/A"}}]
[null,"MATCH 223",null,null,null,null,null,null,null,null,null,null,null,null,null,null,null,null,null,null,{"$f":"IFERROR(VLOOKUP(F236,CLASSEMENTELEVES!$C$4:$D$37,2,FALSE)-VLOOKUP(K236,CLASSEMENTELEVES!$C$4:$D$37,2,FALSE),\"\")","v":""},null,null,null,"0_",0,0,0,0,"V",{"$f":"IF(Z236<>0,COUNTIF($Z$14:Z236,Z236),\"\")","v":""},{"$f":"IFERROR(VLOOKUP(U236,DEBUT!$D$5:$F$122,2,FALSE),0)","v":0},{"$f":"IF(VLOOKUP(F236,CLASSEMENTELEVES!$C$4:$D$37,2,FALSE)<VLOOKUP(K236,CLASSEMENTELEVES!$C$4:$D$37,2,FALSE),0,-U236)","v":{"$error":"#N/A"}}]
[null,"MATCH 224",null,null,null,null,null,null,null,null,null,null,null,null,null,null,null,null,null,null,{"$f":"IFERROR(VLOOKUP(F237,CLASSEMENTELEVES!$C$4:$D$37,2,FALSE)-VLOOKUP(K237,CLASSEMENTELEVES!$C$4:$D$37,2,FALSE),\"\")","v":""},null,null,null,"0_",0,0,0,0,"V",{"$f":"IF(Z237<>0,COUNTIF($Z$14:Z237,Z237),\"\")","v":""},{"$f":"IFERROR(VLOOKUP(U237,DEBUT!$D$5:$F$122,2,FALSE),0)","v":0},{"$f":"IF(VLOOKUP(F237,CLASSEMENTELEVES!$C$4:$D$37,2,FALSE)<VLOOKUP(K237,CLASSEMENTELEVES!$C$4:$D$37,2,FALSE),0,-U237)","v":{"$error":"#N/A"}}]
[null,"MATCH 225",null,null,null,null,null,null,null,null,null,null,null,null,null,null,null,null,null,null,{"$f":"IFERROR(VLOOKUP(F238,CLASSEMENTELEVES!$C$4:$D$37,2,FALSE)-VLOOKUP(K238,CLASSEMENTELEVES!$C$4:$D$37,2,FALSE),\"\")","v":""},null,null,null,"0_",0,0,0,0,"V",{"$f":"IF(Z238<>0,COUNTIF($Z$14:Z238,Z238),\"\")","v":""},{"$f":"IFERROR(VLOOKUP(U238,DEBUT!$D$5:$F$122,2,FALSE),0)","v":0},{"$f":"IF(VLOOKUP(F238,CLASSEMENTELEVES!$C$4:$D$37,2,FALSE)<VLOOKUP(K238,CLASSEMENTELEVES!$C$4:$D$37,2,FALSE),0,-U238)","v":{"$error":"#N/A"}}]
[null,"MATCH 226",null,null,null,null,null,null,null,null,null,null,null,null,null,null,null,null,null,null,{"$f":"IFERROR(VLOOKUP(F239,CLASSEMENTELEVES!$C$4:$D$37,2,FALSE)-VLOOKUP(K239,CLASSEMENTELEVES!$C$4:$D$37,2,FALSE),\"\")","v":""},null,null,null,"0_",0,0,0,0,"V",{"$f":"IF(Z239<>0,COUNTIF($Z$14:Z239,Z239),\"\")","v":""},{"$f":"IFERROR(VLOOKUP(U239,DEBUT!$D$5:$F$122,2,FALSE),0)","v":0},{"$f":"IF(VLOOKUP(F239,CLASSEMENTELEVES!$C$4:$D$37,2,FALSE)<VLOOKUP(K239,CLASSEMENTELEVES!$C$4:$D$37,2,FALSE),0,-U239)","v":{"$error":"#N/A"}}]
[null,"MATCH 227",null,null,null,null,null,null,null,null,null,null,null,null,null,null,null,null,null,null,{"$f":"IFERROR(VLOOKUP(F240,CLASSEMENTELEVES!$C$4:$D$37,2,FALSE)-VLOOKUP(K240,CLASSEMENTELEVES!$C$4:$D$37,2,FALSE),\"\")","v":""},null,null,null,"0_",0,0,0,0,"V",{"$f":"IF(Z240<>0,COUNTIF($Z$14:Z240,Z240),\"\")","v":""},{"$f":"IFERROR(VLOOKUP(U240,DEBUT!$D$5:$F$122,2,FALSE),0)","v":0},{"$f":"IF(VLOOKUP(F240,CLASSEMENTELEVES!$C$4:$D$37,2,FALSE)<VLOOKUP(K240,CLASSEMENTELEVES!$C$4:$D$37,2,FALSE),0,-U240)","v":{"$error":"#N/A"}}]
[null,"MATCH 228",null,null,null,null,null,null,null,null,null,null,null,null,null,null,null,null,null,null,{"$f":"IFERROR(VLOOKUP(F241,CLASSEMENTELEVES!$C$4:$D$37,2,FALSE)-VLOOKUP(K241,CLASSEMENTELEVES!$C$4:$D$37,2,FALSE),\"\")","v":""},null,null,null,"0_",0,0,0,0,"V",{"$f":"IF(Z241<>0,COUNTIF($Z$14:Z241,Z241),\"\")","v":""},{"$f":"IFERROR(VLOOKUP(U241,DEBUT!$D$5:$F$122,2,FALSE),0)","v":0},{"$f":"IF(VLOOKUP(F241,CLASSEMENTELEVES!$C$4:$D$37,2,FALSE)<VLOOKUP(K241,CLASSEMENTELEVES!$C$4:$D$37,2,FALSE),0,-U241)","v":{"$error":"#N/A"}}]
[null,"MATCH 229",null,null,null,null,null,null,null,null,null,null,null,null,null,null,null,null,null,null,{"$f":"IFERROR(VLOOKUP(F242,CLASSEMENTELEVES!$C$4:$D$37,2,FALSE)-VLOOKUP(K242,CLASSEMENTELEVES!$C$4:$D$37,2,FALSE),\"\")","v":""},null,null,null,"0_",0,0,0,0,"V",{"$f":"IF(Z242<>0,COUNTIF($Z$14:Z242,Z242),\"\")","v":""},{"$f":"IFERROR(VLOOKUP(U242,DEBUT!$D$5:$F$122,2,FALSE),0)","v":0},{"$f":"IF(VLOOKUP(F242,CLASSEMENTELEVES!$C$4:$D$37,2,FALSE)<VLOOKUP(K242,CLASSEMENTELEVES!$C$4:$D$37,2,FALSE),0,-U242)","v":{"$error":"#N/A"}}]
[null,"MATCH 230",null,null,null,null,null,null,null,null,null,null,null,null,null,null,null,null,null,null,{"$f":"IFERROR(VLOOKUP(F243,CLASSEMENTELEVES!$C$4:$D$37,2,FALSE)-VLOOKUP(K243,CLASSEMENTELEVES!$C$4:$D$37,2,FALSE),\"\")","v":""},null,null,null,"0_",0,0,0,0,"V",{"$f":"IF(Z243<>0,COUNTIF($Z$14:Z243,Z243),\"\")","v":""},{"$f":"IFERROR(VLOOKUP(U243,DEBUT!$D$5:$F$122,2,FALSE),0)","v":0},{"$f":"IF(VLOOKUP(F243,CLASSEMENTELEVES!$C$4:$D$37,2,FALSE)<VLOOKUP(K243,CLASSEMENTELEVES!$C$4:$D$37,2,FALSE),0,-U243)","v":{"$error":"#N/A"}}]
[null,"MATCH 231",null,null,null,null,null,null,null,null,null,null,null,null,null,null,null,null,null,null,{"$f":"IFERROR(VLOOKUP(F244,CLASSEMENTELEVES!$C$4:$D$37,2,FALSE)-VLOOKUP(K244,CLASSEMENTELEVES!$C$4:$D$37,2,FALSE),\"\")","v":""},null,null,null,"0_",0,0,0,0,"V",{"$f":"IF(Z244<>0,COUNTIF($Z$14:Z244,Z244),\"\")","v":""},{"$f":"IFERROR(VLOOKUP(U244,DEBUT!$D$5:$F$122,2,FALSE),0)","v":0},{"$f":"IF(VLOOKUP(F244,CLASSEMENTELEVES!$C$4:$D$37,2,FALSE)<VLOOKUP(K244,CLASSEMENTELEVES!$C$4:$D$37,2,FALSE),0,-U244)","v":{"$error":"#N/A"}}]
[null,"MATCH 232",null,null,null,null,null,null,null,null,null,null,null,null,null,null,null,null,null,null,{"$f":"IFERROR(VLOOKUP(F245,CLASSEMENTELEVES!$C$4:$D$37,2,FALSE)-VLOOKUP(K245,CLASSEMENTELEVES!$C$4:$D$37,2,FALSE),\"\")","v":""},null,null,null,"0_",0,0,0,0,"V",{"$f":"IF(Z245<>0,COUNTIF($Z$14:Z245,Z245),\"\")","v":""},{"$f":"IFERROR(VLOOKUP(U245,DEBUT!$D$5:$F$122,2,FALSE),0)","v":0},{"$f":"IF(VLOOKUP(F245,CLASSEMENTELEVES!$C$4:$D$37,2,FALSE)<VLOOKUP(K245,CLASSEMENTELEVES!$C$4:$D$37,2,FALSE),0,-U245)","v":{"$error":"#N/A"}}]
[null,"MATCH 233",null,null,null,null,null,null,null,null,null,null,null,null,null,null,null,null,null,null,{"$f":"IFERROR(VLOOKUP(F246,CLASSEMENTELEVES!$C$4:$D$37,2,FALSE)-VLOOKUP(K246,CLASSEMENTELEVES!$C$4:$D$37,2,FALSE),\"\")","v":""},null,null,null,"0_",0,0,0,0,"V",{"$f":"IF(Z246<>0,COUNTIF($Z$14:Z246,Z246),\"\")","v":""},{"$f":"IFERROR(VLOOKUP(U246,DEBUT!$D$5:$F$122,2,FALSE),0)","v":0},{"$f":"IF(VLOOKUP(F246,CLASSEMENTELEVES!$C$4:$D$37,2,FALSE)<VLOOKUP(K246,CLASSEMENTELEVES!$C$4:$D$37,2,FALSE),0,-U246)","v":{"$error":"#N/A"}}]
[null,"MATCH 234",null,null,null,null,null,null,null,null,null,null,null,null,null,null,null,null,null,null,{"$f":"IFERROR(VLOOKUP(F247,CLASSEMENTELEVES!$C$4:$D$37,2,FALSE)-VLOOKUP(K247,CLASSEMENTELEVES!$C$4:$D$37,2,FALSE),\"\")","v":""},null,null,null,"0_",0,0,0,0,"V",{"$f":"IF(Z247<>0,COUNTIF($Z$14:Z247,Z247),\"\")","v":""},{"$f":"IFERROR(VLOOKUP(U247,DEBUT!$D$5:$F$122,2,FALSE),0)","v":0},{"$f":"IF(VLOOKUP(F247,CLASSEMENTELEVES!$C$4:$D$37,2,FALSE)<VLOOKUP(K247,CLASSEMENTELEVES!$C$4:$D$37,2,FALSE),0,-U247)","v":{"$error":"#N/A"}}]
[null,"MATCH 235",null,null,null,null,null,null,null,null,null,null,null,null,null,null,null,null,null,null,{"$f":"IFERROR(VLOOKUP(F248,CLASSEMENTELEVES!$C$4:$D$37,2,FALSE)-VLOOKUP(K248,CLASSEMENTELEVES!$C$4:$D$37,2,FALSE),\"\")","v":""},null,null,null,"0_",0,0,0,0,"V",{"$f":"IF(Z248<>0,COUNTIF($Z$14:Z248,Z248),\"\")","v":""},{"$f":"IFERROR(VLOOKUP(U248,DEBUT!$D$5:$F$122,2,FALSE),0)","v":0},{"$f":"IF(VLOOKUP(F248,CLASSEMENTELEVES!$C$4:$D$37,2,FALSE)<VLOOKUP(K248,CLASSEMENTELEVES!$C$4:$D$37,2,FALSE),0,-U248)","v":{"$error":"#N/A"}}]
[null,"MATCH 236",null,null,null,null,null,null,null,null,null,null,null,null,null,null,null,null,null,null,{"$f":"IFERROR(VLOOKUP(F249,CLASSEMENTELEVES!$C$4:$D$37,2,FALSE)-VLOOKUP(K249,CLASSEMENTELEVES!$C$4:$D$37,2,FALSE),\"\")","v":""},null,null,null,"0_",0,0,0,0,"V",{"$f":"IF(Z249<>0,COUNTIF($Z$14:Z249,Z249),\"\")","v":""},{"$f":"IFERROR(VLOOKUP(U249,DEBUT!$D$5:$F$122,2,FALSE),0)","v":0},{"$f":"IF(VLOOKUP(F249,CLASSEMENTELEVES!$C$4:$D$37,2,FALSE)<VLOOKUP(K249,CLASSEMENTELEVES!$C$4:$D$37,2,FALSE),0,-U249)","v":{"$error":"#N/A"}}]
[null,null,null,null,null,null,null,null,"LIMITE DE MATCHS ATTEINT",null,null,null,null,null,null,null,null,null,null,null,null,null,null,null,"0_",{"$f":"IF(K14=0,0,CONCATENATE(K14,\"p\"))","v":0},{"$f":"N14","v":0},{"$f":"R14","v":0},{"$f":"I14","v":0},"D",{"$f":"IF(Z250<>0,COUNTIF($Z$14:Z250,Z250),\"\")","v":""},{"$f":"IFERROR(VLOOKUP(U14,DEBUT!$D$5:$F$122,3,FALSE),0)","v":0},{"$f":"IF(VLOOKUP(F14,CLASSEMENTELEVES!$C$4:$D$37,2,FALSE)<VLOOKUP(K14,CLASSEMENTELEVES!$C$4:$D$37,2,FALSE),0,U14)","v":{"$error":"#N/A"}}]
[null,null,null,null,null,null,null,null,null,null,null,null,null,null,null,null,null,null,null,null,null,null,null,null,"0_",{"$f":"IF(K15=0,0,CONCATENATE(K15,\"p\"))","v":0},{"$f":"N15","v":0},{"$f":"R15","v":0},{"$f":"I15","v":0},"D",{"$f":"IF(Z251<>0,COUNTIF($Z$14:Z251,Z251),\"\")","v":""},{"$f":"IFERROR(VLOOKUP(U15,DEBUT!$D$5:$F$122,3,FALSE),0)","v":0},{"$f":"IF(VLOOKUP(F15,CLASSEMENTELEVES!$C$4:$D$37,2,FALSE)<VLOOKUP(K15,CLASSEMENTELEVES!$C$4:$D$37,2,FALSE),0,U15)","v":{"$error":"#N/A"}}]
[null,null,null,null,null,null,null,null,null,null,null,null,null,null,null,null,null,null,null,null,null,null,null,null,"0_",0,0,0,0,"D",{"$f":"IF(Z252<>0,COUNTIF($Z$14:Z252,Z252),\"\")","v":""},{"$f":"IFERROR(VLOOKUP(U16,DEBUT!$D$5:$F$122,3,FALSE),0)","v":0},{"$f":"IF(VLOOKUP(F16,CLASSEMENTELEVES!$C$4:$D$37,2,FALSE)<VLOOKUP(K16,CLASSEMENTELEVES!$C$4:$D$37,2,FALSE),0,U16)","v":{"$error":"#N/A"}}]
[null,null,null,null,null,null,null,null,null,null,null,null,null,null,null,null,null,null,null,null,null,null,null,null,"0_",0,0,0,0,"D",{"$f":"IF(Z253<>0,COUNTIF($Z$14:Z253,Z253),\"\")","v":""},{"$f":"IFERROR(VLOOKUP(U17,DEBUT!$D$5:$F$122,3,FALSE),0)","v":0},{"$f":"IF(VLOOKUP(F17,CLASSEMENTELEVES!$C$4:$D$37,2,FALSE)<VLOOKUP(K17,CLASSEMENTELEVES!$C$4:$D$37,2,FALSE),0,U17)","v":{"$error":"#N/A"}}]
[null,null,null,null,null,null,null,null,null,null,null,null,null,null,null,null,null,null,null,null,null,null,null,null,"0_",0,0,0,0,"D",{"$f":"IF(Z254<>0,COUNTIF($Z$14:Z254,Z254),\"\")","v":""},{"$f":"IFERROR(VLOOKUP(U18,DEBUT!$D$5:$F$122,3,FALSE),0)","v":0},{"$f":"IF(VLOOKUP(F18,CLASSEMENTELEVES!$C$4:$D$37,2,FALSE)<VLOOKUP(K18,CLASSEMENTELEVES!$C$4:$D$37,2,FALSE),0,U18)","v":{"$error":"#N/A"}}]
[null,null,null,null,null,null,null,null,null,null,null,null,null,null,null,null,null,null,null,null,null,null,null,null,"0_",0,0,0,0,"D",{"$f":"IF(Z255<>0,COUNTIF($Z$14:Z255,Z255),\"\")","v":""},{"$f":"IFERROR(VLOOKUP(U19,DEBUT!$D$5:$F$122,3,FALSE),0)","v":0},{"$f":"IF(VLOOKUP(F19,CLASSEMENTELEVES!$C$4:$D$37,2,FALSE)<VLOOKUP(K19,CLASSEMENTELEVES!$C$4:$D$37,2,FALSE),0,U19)","v":{"$error":"#N/A"}}]
[null,null,null,null,null,null,null,null,null,null,null,null,null,null,null,null,null,null,null,null,null,null,null,null,"0_",0,0,0,0,"D",{"$f":"IF(Z256<>0,COUNTIF($Z$14:Z256,Z256),\"\")","v":""},{"$f":"IFERROR(VLOOKUP(U20,DEBUT!$D$5:$F$122,3,FALSE),0)","v":0},{"$f":"IF(VLOOKUP(F20,CLASSEMENTELEVES!$C$4:$D$37,2,FALSE)<VLOOKUP(K20,CLASSEMENTELEVES!$C$4:$D$37,2,FALSE),0,U20)","v":{"$error":"#N/A"}}]
[null,null,null,null,null,null,null,null,null,null,null,null,null,null,null,null,null,null,null,null,null,null,null,null,"0_",0,0,0,0,"D",{"$f":"IF(Z257<>0,COUNTIF($Z$14:Z257,Z257),\"\")","v":""},{"$f":"IFERROR(VLOOKUP(U21,DEBUT!$D$5:$F$122,3,FALSE),0)","v":0},{"$f":"IF(VLOOKUP(F21,CLASSEMENTELEVES!$C$4:$D$37,2,FALSE)<VLOOKUP(K21,CLASSEMENTELEVES!$C$4:$D$37,2,FALSE),0,U21)","v":{"$error":"#N/A"}}]
[null,null,null,null,null,null,null,null,null,null,null,null,null,null,null,null,null,null,null,null,null,null,null,null,"0_",0,0,0,0,"D",{"$f":"IF(Z258<>0,COUNTIF($Z$14:Z258,Z258),\"\")","v":""},{"$f":"IFERROR(VLOOKUP(U22,DEBUT!$D$5:$F$122,3,FALSE),0)","v":0},{"$f":"IF(VLOOKUP(F22,CLASSEMENTELEVES!$C$4:$D$37,2,FALSE)<VLOOKUP(K22,CLASSEMENTELEVES!$C$4:$D$37,2,FALSE),0,U22)","v":{"$error":"#N/A"}}]
[null,null,null,null,null,null,null,null,null,null,null,null,null,null,null,null,null,null,null,null,null,null,null,null,"0_",0,0,0,0,"D",{"$f":"IF(Z259<>0,COUNTIF($Z$14:Z259,Z259),\"\")","v":""},{"$f":"IFERROR(VLOOKUP(U23,DEBUT!$D$5:$F$122,3,FALSE),0)","v":0},{"$f":"IF(VLOOKUP(F23,CLASSEMENTELEVES!$C$4:$D$37,2,FALSE)<VLOOKUP(K23,CLASSEMENTELEVES!$C$4:$D$37,2,FALSE),0,U23)","v":{"$error":"#N/A"}}]
[null,null,null,null,null,null,null,null,null,null,null,null,null,null,null,null,null,null,null,null,null,null,null,null,"0_",0,0,0,0,"D",{"$f":"IF(Z260<>0,COUNTIF($Z$14:Z260,Z260),\"\")","v":""},{"$f":"IFERROR(VLOOKUP(U24,DEBUT!$D$5:$F$122,3,FALSE),0)","v":0},{"$f":"IF(VLOOKUP(F24,CLASSEMENTELEVES!$C$4:$D$37,2,FALSE)<VLOOKUP(K24,CLASSEMENTELEVES!$C$4:$D$37,2,FALSE),0,U24)","v":{"$error":"#N/A"}}]
[null,null,null,null,null,null,null,null,null,null,null,null,null,null,null,null,null,null,null,null,null,null,null,null,"0_",0,0,0,0,"D",{"$f":"IF(Z261<>0,COUNTIF($Z$14:Z261,Z261),\"\")","v":""},{"$f":"IFERROR(VLOOKUP(U25,DEBUT!$D$5:$F$122,3,FALSE),0)","v":0},{"$f":"IF(VLOOKUP(F25,CLASSEMENTELEVES!$C$4:$D$37,2,FALSE)<VLOOKUP(K25,CLASSEMENTELEVES!$C$4:$D$37,2,FALSE),0,U25)","v":{"$error":"#N/A"}}]
[null,null,null,null,null,null,null,null,null,null,null,null,null,null,null,null,null,null,null,null,null,null,null,null,"0_",0,0,0,0,"D",{"$f":"IF(Z262<>0,COUNTIF($Z$14:Z262,Z262),\"\")","v":""},{"$f":"IFERROR(VLOOKUP(U26,DEBUT!$D$5:$F$122,3,FALSE),0)","v":0},{"$f":"IF(VLOOKUP(F26,CLASSEMENTELEVES!$C$4:$D$37,2,FALSE)<VLOOKUP(K26,CLASSEMENTELEVES!$C$4:$D$37,2,FALSE),0,U26)","v":{"$error":"#N/A"}}]
[null,null,null,null,null,null,null,null,null,null,null,null,null,null,null,null,null,null,null,null,null,null,null,null,"0_",0,0,0,0,"D",{"$f":"IF(Z263<>0,COUNTIF($Z$14:Z263,Z263),\"\")","v":""},{"$f":"IFERROR(VLOOKUP(U27,DEBUT!$D$5:$F$122,3,FALSE),0)","v":0},{"$f":"IF(VLOOKUP(F27,CLASSEMENTELEVES!$C$4:$D$37,2,FALSE)<VLOOKUP(K27,CLASSEMENTELEVES!$C$4:$D$37,2,FALSE),0,U27)","v":{"$error":"#N/A"}}]
[null,null,null,null,null,null,null,null,null,null,null,null,null,null,null,null,null,null,null,null,null,null,null,null,"0_",0,0,0,0,"D",{"$f":"IF(Z264<>0,COUNTIF($Z$14:Z264,Z264),\"\")","v":""},{"$f":"IFERROR(VLOOKUP(U28,DEBUT!$D$5:$F$122,3,FALSE),0)","v":0},{"$f":"IF(VLOOKUP(F28,CLASSEMENTELEVES!$C$4:$D$37,2,FALSE)<VLOOKUP(K28,CLASSEMENTELEVES!$C$4:$D$37,2,FALSE),0,U28)","v":{"$error":"#N/A"}}]
[null,null,null,null,null,null,null,null,null,null,null,null,null,null,null,null,null,null,null,null,null,null,null,null,"0_",0,0,0,0,"D",{"$f":"IF(Z265<>0,COUNTIF($Z$14:Z265,Z265),\"\")","v":""},{"$f":"IFERROR(VLOOKUP(U29,DEBUT!$D$5:$F$122,3,FALSE),0)","v":0},{"$f":"IF(VLOOKUP(F29,CLASSEMENTELEVES!$C$4:$D$37,2,FALSE)<VLOOKUP(K29,CLASSEMENTELEVES!$C$4:$D$37,2,FALSE),0,U29)","v":{"$error":"#N/A"}}]
[null,null,null,null,null,null,null,null,null,null,null,null,null,null,null,null,null,null,null,null,null,null,null,null,"0_",0,0,0,0,"D",{"$f":"IF(Z266<>0,COUNTIF($Z$14:Z266,Z266),\"\")","v":""},{"$f":"IFERROR(VLOOKUP(U30,DEBUT!$D$5:$F$122,3,FALSE),0)","v":0},{"$f":"IF(VLOOKUP(F30,CLASSEMENTELEVES!$C$4:$D$37,2,FALSE)<VLOOKUP(K30,CLASSEMENTELEVES!$C$4:$D$37,2,FALSE),0,U30)","v":{"$error":"#N/A"}}]
[null,null,null,null,null,null,null,null,null,null,null,null,null,null,null,null,null,null,null,null,null,null,null,null,"0_",0,0,0,0,"D",{"$f":"IF(Z267<>0,COUNTIF($Z$14:Z267,Z267),\"\")","v":""},{"$f":"IFERROR(VLOOKUP(U31,DEBUT!$D$5:$F$122,3,FALSE),0)","v":0},{"$f":"IF(VLOOKUP(F31,CLASSEMENTELEVES!$C$4:$D$37,2,FALSE)<VLOOKUP(K31,CLASSEMENTELEVES!$C$4:$D$37,2,FALSE),0,U31)","v":{"$error":"#N/A"}}]
[null,null,null,null,null,null,null,null,null,null,null,null,null,null,null,null,null,null,null,null,null,null,null,null,"0_",0,0,0,0,"D",{"$f":"IF(Z268<>0,COUNTIF($Z$14:Z268,Z268),\"\")","v":""},{"$f":"IFERROR(VLOOKUP(U32,DEBUT!$D$5:$F$122,3,FALSE),0)","v":0},{"$f":"IF(VLOOKUP(F32,CLASSEMENTELEVES!$C$4:$D$37,2,FALSE)<VLOOKUP(K32,CLASSEMENTELEVES!$C$4:$D$37,2,FALSE),0,U32)","v":{"$error":"#N/A"}}]
[null,null,null,null,null,null,null,null,null,null,null,null,null,null,null,null,null,null,null,null,null,null,null,null,"0_",0,0,0,0,"D",{"$f":"IF(Z269<>0,COUNTIF($Z$14:Z269,Z269),\"\")","v":""},{"$f":"IFERROR(VLOOKUP(U33,DEBUT!$D$5:$F$122,3,FALSE),0)","v":0},{"$f":"IF(VLOOKUP(F33,CLASSEMENTELEVES!$C$4:$D$37,2,FALSE)<VLOOKUP(K33,CLASSEMENTELEVES!$C$4:$D$37,2,FALSE),0,U33)","v":{"$error":"#N/A"}}]
[null,null,null,null,null,null,null,null,null,null,null,null,null,null,null,null,null,null,null,null,null,null,null,null,{"$f":"Z270&\"_\"&AE270","v":"0_"},0,0,0,0,"D",{"$f":"IF(Z270<>0,COUNTIF($Z$14:Z270,Z270),\"\")","v":""},{"$f":"IFERROR(VLOOKUP(U34,DEBUT!$D$5:$F$122,3,FALSE),0)","v":0},{"$f":"IF(VLOOKUP(F34,CLASSEMENTELEVES!$C$4:$D$37,2,FALSE)<VLOOKUP(K34,CLASSEMENTELEVES!$C$4:$D$37,2,FALSE),0,U34)","v":{"$error":"#N/A"}}]
[null,null,null,null,null,null,null,null,null,null,null,null,null,null,null,null,null,null,null,null,null,null,null,null,"0_",0,0,0,0,"D",{"$f":"IF(Z271<>0,COUNTIF($Z$14:Z271,Z271),\"\")","v":""},{"$f":"IFERROR(VLOOKUP(U35,DEBUT!$D$5:$F$122,3,FALSE),0)","v":0},{"$f":"IF(VLOOKUP(F35,CLASSEMENTELEVES!$C$4:$D$37,2,FALSE)<VLOOKUP(K35,CLASSEMENTELEVES!$C$4:$D$37,2,FALSE),0,U35)","v":{"$error":"#N/A"}}]
[null,null,null,null,null,null,null,null,null,null,null,null,null,null,null,null,null,null,null,null,null,null,null,null,"0_",0,0,0,0,"D",{"$f":"IF(Z272<>0,COUNTIF($Z$14:Z272,Z272),\"\")","v":""},{"$f":"IFERROR(VLOOKUP(U36,DEBUT!$D$5:$F$122,3,FALSE),0)","v":0},{"$f":"IF(VLOOKUP(F36,CLASSEMENTELEVES!$C$4:$D$37,2,FALSE)<VLOOKUP(K36,CLASSEMENTELEVES!$C$4:$D$37,2,FALSE),0,U36)","v":{"$error":"#N/A"}}]
[null,null,null,null,null,null,null,null,null,null,null,null,null,null,null,null,null,null,null,null,null,null,null,null,"0_",0,0,0,0,"D",{"$f":"IF(Z273<>0,COUNTIF($Z$14:Z273,Z273),\"\")","v":""},{"$f":"IFERROR(VLOOKUP(U37,DEBUT!$D$5:$F$122,3,FALSE),0)","v":0},{"$f":"IF(VLOOKUP(F37,CLASSEMENTELEVES!$C$4:$D$37,2,FALSE)<VLOOKUP(K37,CLASSEMENTELEVES!$C$4:$D$37,2,FALSE),0,U37)","v":{"$error":"#N/A"}}]
[null,null,null,null,null,null,null,null,null,null,null,null,null,null,null,null,null,null,null,null,null,null,null,null,"0_",0,0,0,0,"D",{"$f":"IF(Z274<>0,COUNTIF($Z$14:Z274,Z274),\"\")","v":""},{"$f":"IFERROR(VLOOKUP(U38,DEBUT!$D$5:$F$122,3,FALSE),0)","v":0},{"$f":"IF(VLOOKUP(F38,CLASSEMENTELEVES!$C$4:$D$37,2,FALSE)<VLOOKUP(K38,CLASSEMENTELEVES!$C$4:$D$37,2,FALSE),0,U38)","v":{"$error":"#N/A"}}]
[null,null,null,null,null,null,null,null,null,null,null,null,null,null,null,null,null,null,null,null,null,null,null,null,"0_",0,0,0,0,"D",{"$f":"IF(Z275<>0,COUNTIF($Z$14:Z275,Z275),\"\")","v":""},{"$f":"IFERROR(VLOOKUP(U39,DEBUT!$D$5:$F$122,3,FALSE),0)","v":0},{"$f":"IF(VLOOKUP(F39,CLASSEMENTELEVES!$C$4:$D$37,2,FALSE)<VLOOKUP(K39,CLASSEMENTELEVES!$C$4:$D$37,2,FALSE),0,U39)","v":{"$error":"#N/A"}}]
[null,null,null,null,null,null,null,null,null,null,null,null,null,null,null,null,null,null,null,null,null,null,null,null,"0_",0,0,0,0,"D",{"$f":"IF(Z276<>0,COUNTIF($Z$14:Z276,Z276),\"\")","v":""},{"$f":"IFERROR(VLOOKUP(U40,DEBUT!$D$5:$F$122,3,FALSE),0)","v":0},{"$f":"IF(VLOOKUP(F40,CLASSEMENTELEVES!$C$4:$D$37,2,FALSE)<VLOOKUP(K40,CLASSEMENTELEVES!$C$4:$D$37,2,FALSE),0,U40)","v":{"$error":"#N/A"}}]
[null,null,null,null,null,null,null,null,null,null,null,null,null,null,null,null,null,null,null,null,null,null,null,null,"0_",0,0,0,0,"D",{"$f":"IF(Z277<>0,COUNTIF($Z$14:Z277,Z277),\"\")","v":""},{"$f":"IFERROR(VLOOKUP(U41,DEBUT!$D$5:$F$122,3,FALSE),0)","v":0},{"$f":"IF(VLOOKUP(F41,CLASSEMENTELEVES!$C$4:$D$37,2,FALSE)<VLOOKUP(K41,CLASSEMENTELEVES!$C$4:$D$37,2,FALSE),0,U41)","v":{"$error":"#N/A"}}]
[null,null,null,null,null,null,null,null,null,null,null,null,null,null,null,null,null,null,null,null,null,null,null,null,"0_",0,0,0,0,"D",{"$f":"IF(Z278<>0,COUNTIF($Z$14:Z278,Z278),\"\")","v":""},{"$f":"IFERROR(VLOOKUP(U42,DEBUT!$D$5:$F$122,3,FALSE),0)","v":0},{"$f":"IF(VLOOKUP(F42,CLASSEMENTELEVES!$C$4:$D$37,2,FALSE)<VLOOKUP(K42,CLASSEMENTELEVES!$C$4:$D$37,2,FALSE),0,U42)","v":{"$error":"#N/A"}}]
[null,null,null,null,null,null,null,null,null,null,null,null,null,null,null,null,null,null,null,null,null,null,null,null,"0_",0,0,0,0,"D",{"$f":"IF(Z279<>0,COUNTIF($Z$14:Z279,Z279),\"\")","v":""},{"$f":"IFERROR(VLOOKUP(U43,DEBUT!$D$5:$F$122,3,FALSE),0)","v":0},{"$f":"IF(VLOOKUP(F43,CLASSEMENTELEVES!$C$4:$D$37,2,FALSE)<VLOOKUP(K43,CLASSEMENTELEVES!$C$4:$D$37,2,FALSE),0,U43)","v":{"$error":"#N/A"}}]
[null,null,null,null,null,null,null,null,null,null,null,null,null,null,null,null,null,null,null,null,null,null,null,null,"0_",0,0,0,0,"D",{"$f":"IF(Z280<>0,COUNTIF($Z$14:Z280,Z280),\"\")","v":""},{"$f":"IFERROR(VLOOKUP(U44,DEBUT!$D$5:$F$122,3,FALSE),0)","v":0},{"$f":"IF(VLOOKUP(F44,CLASSEMENTELEVES!$C$4:$D$37,2,FALSE)<VLOOKUP(K44,CLASSEMENTELEVES!$C$4:$D$37,2,FALSE),0,U44)","v":{"$error":"#N/A"}}]
[null,null,null,null,null,null,null,null,null,null,null,null,null,null,null,null,null,null,null,null,null,null,null,null,"0_",0,0,0,0,"D",{"$f":"IF(Z281<>0,COUNTIF($Z$14:Z281,Z281),\"\")","v":""},{"$f":"IFERROR(VLOOKUP(U45,DEBUT!$D$5:$F$122,3,FALSE),0)","v":0},{"$f":"IF(VLOOKUP(F45,CLASSEMENTELEVES!$C$4:$D$37,2,FALSE)<VLOOKUP(K45,CLASSEMENTELEVES!$C$4:$D$37,2,FALSE),0,U45)","v":{"$error":"#N/A"}}]
[null,null,null,null,null,null,null,null,null,null,null,null,null,null,null,null,null,null,null,null,null,null,null,null,"0_",0,0,0,0,"D",{"$f":"IF(Z282<>0,COUNTIF($Z$14:Z282,Z282),\"\")","v":""},{"$f":"IFERROR(VLOOKUP(U46,DEBUT!$D$5:$F$122,3,FALSE),0)","v":0},{"$f":"IF(VLOOKUP(F46,CLASSEMENTELEVES!$C$4:$D$37,2,FALSE)<VLOOKUP(K46,CLASSEMENTELEVES!$C$4:$D$37,2,FALSE),0,U46)","v":{"$error":"#N/A"}}]
[null,null,null,null,null,null,null,null,null,null,null,null,null,null,null,null,null,null,null,null,null,null,null,null,"0_",0,0,0,0,"D",{"$f":"IF(Z283<>0,COUNTIF($Z$14:Z283,Z283),\"\")","v":""},{"$f":"IFERROR(VLOOKUP(U47,DEBUT!$D$5:$F$122,3,FALSE),0)","v":0},{"$f":"IF(VLOOKUP(F47,CLASSEMENTELEVES!$C$4:$D$37,2,FALSE)<VLOOKUP(K47,CLASSEMENTELEVES!$C$4:$D$37,2,FALSE),0,U47)","v":{"$error":"#N/A"}}]
[null,null,null,null,null,null,null,null,null,null,null,null,null,null,null,null,null,null,null,null,null,null,null,null,"0_",0,0,0,0,"D",{"$f":"IF(Z284<>0,COUNTIF($Z$14:Z284,Z284),\"\")","v":""},{"$f":"IFERROR(VLOOKUP(U48,DEBUT!$D$5:$F$122,3,FALSE),0)","v":0},{"$f":"IF(VLOOKUP(F48,CLASSEMENTELEVES!$C$4:$D$37,2,FALSE)<VLOOKUP(K48,CLASSEMENTELEVES!$C$4:$D$37,2,FALSE),0,U48)","v":{"$error":"#N/A"}}]
[null,null,null,null,null,null,null,null,null,null,null,null,null,null,null,null,null,null,null,null,null,null,null,null,"0_",0,0,0,0,"D",{"$f":"IF(Z285<>0,COUNTIF($Z$14:Z285,Z285),\"\")","v":""},{"$f":"IFERROR(VLOOKUP(U49,DEBUT!$D$5:$F$122,3,FALSE),0)","v":0},{"$f":"IF(VLOOKUP(F49,CLASSEMENTELEVES!$C$4:$D$37,2,FALSE)<VLOOKUP(K49,CLASSEMENTELEVES!$C$4:$D$37,2,FALSE),0,U49)","v":{"$error":"#N/A"}}]
[null,null,null,null,null,null,null,null,null,null,null,null,null,null,null,null,null,null,null,null,null,null,null,null,"0_",0,0,0,0,"D",{"$f":"IF(Z286<>0,COUNTIF($Z$14:Z286,Z286),\"\")","v":""},{"$f":"IFERROR(VLOOKUP(U50,DEBUT!$D$5:$F$122,3,FALSE),0)","v":0},{"$f":"IF(VLOOKUP(F50,CLASSEMENTELEVES!$C$4:$D$37,2,FALSE)<VLOOKUP(K50,CLASSEMENTELEVES!$C$4:$D$37,2,FALSE),0,U50)","v":{"$error":"#N/A"}}]
[null,null,null,null,null,null,null,null,null,null,null,null,null,null,null,null,null,null,null,null,null,null,null,null,"0_",0,0,0,0,"D",{"$f":"IF(Z287<>0,COUNTIF($Z$14:Z287,Z287),\"\")","v":""},{"$f":"IFERROR(VLOOKUP(U51,DEBUT!$D$5:$F$122,3,FALSE),0)","v":0},{"$f":"IF(VLOOKUP(F51,CLASSEMENTELEVES!$C$4:$D$37,2,FALSE)<VLOOKUP(K51,CLASSEMENTELEVES!$C$4:$D$37,2,FALSE),0,U51)","v":{"$error":"#N/A"}}]
[null,null,null,null,null,null,null,null,null,null,null,null,null,null,null,null,null,null,null,null,null,null,null,null,"0_",0,0,0,0,"D",{"$f":"IF(Z288<>0,COUNTIF($Z$14:Z288,Z288),\"\")","v":""},{"$f":"IFERROR(VLOOKUP(U52,DEBUT!$D$5:$F$122,3,FALSE),0)","v":0},{"$f":"IF(VLOOKUP(F52,CLASSEMENTELEVES!$C$4:$D$37,2,FALSE)<VLOOKUP(K52,CLASSEMENTELEVES!$C$4:$D$37,2,FALSE),0,U52)","v":{"$error":"#N/A"}}]
[null,null,null,null,null,null,null,null,null,null,null,null,null,null,null,null,null,null,null,null,null,null,null,null,"0_",0,0,0,0,"D",{"$f":"IF(Z289<>0,COUNTIF($Z$14:Z289,Z289),\"\")","v":""},{"$f":"IFERROR(VLOOKUP(U53,DEBUT!$D$5:$F$122,3,FALSE),0)","v":0},{"$f":"IF(VLOOKUP(F53,CLASSEMENTELEVES!$C$4:$D$37,2,FALSE)<VLOOKUP(K53,CLASSEMENTELEVES!$C$4:$D$37,2,FALSE),0,U53)","v":{"$error":"#N/A"}}]
[null,null,null,null,null,null,null,null,null,null,null,null,null,null,null,null,null,null,null,null,null,null,null,null,"0_",0,0,0,0,"D",{"$f":"IF(Z290<>0,COUNTIF($Z$14:Z290,Z290),\"\")","v":""},{"$f":"IFERROR(VLOOKUP(U54,DEBUT!$D$5:$F$122,3,FALSE),0)","v":0},{"$f":"IF(VLOOKUP(F54,CLASSEMENTELEVES!$C$4:$D$37,2,FALSE)<VLOOKUP(K54,CLASSEMENTELEVES!$C$4:$D$37,2,FALSE),0,U54)","v":{"$error":"#N/A"}}]
[null,null,null,null,null,null,null,null,null,null,null,null,null,null,null,null,null,null,null,null,null,null,null,null,"0_",0,0,0,0,"D",{"$f":"IF(Z291<>0,COUNTIF($Z$14:Z291,Z291),\"\")","v":""},{"$f":"IFERROR(VLOOKUP(U55,DEBUT!$D$5:$F$122,3,FALSE),0)","v":0},{"$f":"IF(VLOOKUP(F55,CLASSEMENTELEVES!$C$4:$D$37,2,FALSE)<VLOOKUP(K55,CLASSEMENTELEVES!$C$4:$D$37,2,FALSE),0,U55)","v":{"$error":"#N/A"}}]
[null,null,null,null,null,null,null,null,null,null,null,null,null,null,null,null,null,null,null,null,null,null,null,null,"0_",0,0,0,0,"D",{"$f":"IF(Z292<>0,COUNTIF($Z$14:Z292,Z292),\"\")","v":""},{"$f":"IFERROR(VLOOKUP(U56,DEBUT!$D$5:$F$122,3,FALSE),0)","v":0},{"$f":"IF(VLOOKUP(F56,CLASSEMENTELEVES!$C$4:$D$37,2,FALSE)<VLOOKUP(K56,CLASSEMENTELEVES!$C$4:$D$37,2,FALSE),0,U56)","v":{"$error":"#N/A"}}]
[null,null,null,null,null,null,null,null,null,null,null,null,null,null,null,null,null,null,null,null,null,null,null,null,"0_",0,0,0,0,"D",{"$f":"IF(Z293<>0,COUNTIF($Z$14:Z293,Z293),\"\")","v":""},{"$f":"IFERROR(VLOOKUP(U57,DEBUT!$D$5:$F$122,3,FALSE),0)","v":0},{"$f":"IF(VLOOKUP(F57,CLASSEMENTELEVES!$C$4:$D$37,2,FALSE)<VLOOKUP(K57,CLASSEMENTELEVES!$C$4:$D$37,2,FALSE),0,U57)","v":{"$error":"#N/A"}}]
[null,null,null,null,null,null,null,null,null,null,null,null,null,null,null,null,null,null,null,null,null,null,null,null,"0_",0,0,0,0,"D",{"$f":"IF(Z294<>0,COUNTIF($Z$14:Z294,Z294),\"\")","v":""},{"$f":"IFERROR(VLOOKUP(U58,DEBUT!$D$5:$F$122,3,FALSE),0)","v":0},{"$f":"IF(VLOOKUP(F58,CLASSEMENTELEVES!$C$4:$D$37,2,FALSE)<VLOOKUP(K58,CLASSEMENTELEVES!$C$4:$D$37,2,FALSE),0,U58)","v":{"$error":"#N/A"}}]
[null,null,null,null,null,null,null,null,null,null,null,null,null,null,null,null,null,null,null,null,null,null,null,null,"0_",0,0,0,0,"D",{"$f":"IF(Z295<>0,COUNTIF($Z$14:Z295,Z295),\"\")","v":""},{"$f":"IFERROR(VLOOKUP(U59,DEBUT!$D$5:$F$122,3,FALSE),0)","v":0},{"$f":"IF(VLOOKUP(F59,CLASSEMENTELEVES!$C$4:$D$37,2,FALSE)<VLOOKUP(K59,CLASSEMENTELEVES!$C$4:$D$37,2,FALSE),0,U59)","v":{"$error":"#N/A"}}]
[null,null,null,null,null,null,null,null,null,null,null,null,null,null,null,null,null,null,null,null,null,null,null,null,"0_",0,0,0,0,"D",{"$f":"IF(Z296<>0,COUNTIF($Z$14:Z296,Z296),\"\")","v":""},{"$f":"IFERROR(VLOOKUP(U60,DEBUT!$D$5:$F$122,3,FALSE),0)","v":0},{"$f":"IF(VLOOKUP(F60,CLASSEMENTELEVES!$C$4:$D$37,2,FALSE)<VLOOKUP(K60,CLASSEMENTELEVES!$C$4:$D$37,2,FALSE),0,U60)","v":{"$error":"#N/A"}}]
[null,null,null,null,null,null,null,null,null,null,null,null,null,null,null,null,null,null,null,null,null,null,null,null,"0_",0,0,0,0,"D",{"$f":"IF(Z297<>0,COUNTIF($Z$14:Z297,Z297),\"\")","v":""},{"$f":"IFERROR(VLOOKUP(U61,DEBUT!$D$5:$F$122,3,FALSE),0)","v":0},{"$f":"IF(VLOOKUP(F61,CLASSEMENTELEVES!$C$4:$D$37,2,FALSE)<VLOOKUP(K61,CLASSEMENTELEVES!$C$4:$D$37,2,FALSE),0,U61)","v":{"$error":"#N/A"}}]
[null,null,null,null,null,null,null,null,null,null,null,null,null,null,null,null,null,null,null,null,null,null,null,null,"0_",0,0,0,0,"D",{"$f":"IF(Z298<>0,COUNTIF($Z$14:Z298,Z298),\"\")","v":""},{"$f":"IFERROR(VLOOKUP(U62,DEBUT!$D$5:$F$122,3,FALSE),0)","v":0},{"$f":"IF(VLOOKUP(F62,CLASSEMENTELEVES!$C$4:$D$37,2,FALSE)<VLOOKUP(K62,CLASSEMENTELEVES!$C$4:$D$37,2,FALSE),0,U62)","v":{"$error":"#N/A"}}]
[null,null,null,null,null,null,null,null,null,null,null,null,null,null,null,null,null,null,null,null,null,null,null,null,"0_",0,0,0,0,"D",{"$f":"IF(Z299<>0,COUNTIF($Z$14:Z299,Z299),\"\")","v":""},{"$f":"IFERROR(VLOOKUP(U63,DEBUT!$D$5:$F$122,3,FALSE),0)","v":0},{"$f":"IF(VLOOKUP(F63,CLASSEMENTELEVES!$C$4:$D$37,2,FALSE)<VLOOKUP(K63,CLASSEMENTELEVES!$C$4:$D$37,2,FALSE),0,U63)","v":{"$error":"#N/A"}}]
[null,null,null,null,null,null,null,null,null,null,null,null,null,null,null,null,null,null,null,null,null,null,null,null,"0_",0,0,0,0,"D",{"$f":"IF(Z300<>0,COUNTIF($Z$14:Z300,Z300),\"\")","v":""},{"$f":"IFERROR(VLOOKUP(U64,DEBUT!$D$5:$F$122,3,FALSE),0)","v":0},{"$f":"IF(VLOOKUP(F64,CLASSEMENTELEVES!$C$4:$D$37,2,FALSE)<VLOOKUP(K64,CLASSEMENTELEVES!$C$4:$D$37,2,FALSE),0,U64)","v":{"$error":"#N/A"}}]
[null,null,null,null,null,null,null,null,null,null,null,null,null,null,null,null,null,null,null,null,null,null,null,null,"0_",0,0,0,0,"D",{"$f":"IF(Z301<>0,COUNTIF($Z$14:Z301,Z301),\"\")","v":""},{"$f":"IFERROR(VLOOKUP(U65,DEBUT!$D$5:$F$122,3,FALSE),0)","v":0},{"$f":"IF(VLOOKUP(F65,CLASSEMENTELEVES!$C$4:$D$37,2,FALSE)<VLOOKUP(K65,CLASSEMENTELEVES!$C$4:$D$37,2,FALSE),0,U65)","v":{"$error":"#N/A"}}]
[null,null,null,null,null,null,null,null,null,null,null,null,null,null,null,null,null,null,null,null,null,null,null,null,"0_",0,0,0,0,"D",{"$f":"IF(Z302<>0,COUNTIF($Z$14:Z302,Z302),\"\")","v":""},{"$f":"IFERROR(VLOOKUP(U66,DEBUT!$D$5:$F$122,3,FALSE),0)","v":0},{"$f":"IF(VLOOKUP(F66,CLASSEMENTELEVES!$C$4:$D$37,2,FALSE)<VLOOKUP(K66,CLASSEMENTELEVES!$C$4:$D$37,2,FALSE),0,U66)","v":{"$error":"#N/A"}}]
[null,null,null,null,null,null,null,null,null,null,null,null,null,null,null,null,null,null,null,null,null,null,null,null,"0_",0,0,0,0,"D",{"$f":"IF(Z303<>0,COUNTIF($Z$14:Z303,Z303),\"\")","v":""},{"$f":"IFERROR(VLOOKUP(U67,DEBUT!$D$5:$F$122,3,FALSE),0)","v":0},{"$f":"IF(VLOOKUP(F67,CLASSEMENTELEVES!$C$4:$D$37,2,FALSE)<VLOOKUP(K67,CLASSEMENTELEVES!$C$4:$D$37,2,FALSE),0,U67)","v":{"$error":"#N/A"}}]
[null,null,null,null,null,null,null,null,null,null,null,null,null,null,null,null,null,null,null,null,null,null,null,null,"0_",0,0,0,0,"D",{"$f":"IF(Z304<>0,COUNTIF($Z$14:Z304,Z304),\"\")","v":""},{"$f":"IFERROR(VLOOKUP(U68,DEBUT!$D$5:$F$122,3,FALSE),0)","v":0},{"$f":"IF(VLOOKUP(F68,CLASSEMENTELEVES!$C$4:$D$37,2,FALSE)<VLOOKUP(K68,CLASSEMENTELEVES!$C$4:$D$37,2,FALSE),0,U68)","v":{"$error":"#N/A"}}]
[null,null,null,null,null,null,null,null,null,null,null,null,null,null,null,null,null,null,null,null,null,null,null,null,"0_",0,0,0,0,"D",{"$f":"IF(Z305<>0,COUNTIF($Z$14:Z305,Z305),\"\")","v":""},{"$f":"IFERROR(VLOOKUP(U69,DEBUT!$D$5:$F$122,3,FALSE),0)","v":0},{"$f":"IF(VLOOKUP(F69,CLASSEMENTELEVES!$C$4:$D$37,2,FALSE)<VLOOKUP(K69,CLASSEMENTELEVES!$C$4:$D$37,2,FALSE),0,U69)","v":{"$error":"#N/A"}}]
[null,null,null,null,null,null,null,null,null,null,null,null,null,null,null,null,null,null,null,null,null,null,null,null,"0_",0,0,0,0,"D",{"$f":"IF(Z306<>0,COUNTIF($Z$14:Z306,Z306),\"\")","v":""},{"$f":"IFERROR(VLOOKUP(U70,DEBUT!$D$5:$F$122,3,FALSE),0)","v":0},{"$f":"IF(VLOOKUP(F70,CLASSEMENTELEVES!$C$4:$D$37,2,FALSE)<VLOOKUP(K70,CLASSEMENTELEVES!$C$4:$D$37,2,FALSE),0,U70)","v":{"$error":"#N/A"}}]
[null,null,null,null,null,null,null,null,null,null,null,null,null,null,null,null,null,null,null,null,null,null,null,null,"0_",0,0,0,0,"D",{"$f":"IF(Z307<>0,COUNTIF($Z$14:Z307,Z307),\"\")","v":""},{"$f":"IFERROR(VLOOKUP(U71,DEBUT!$D$5:$F$122,3,FALSE),0)","v":0},{"$f":"IF(VLOOKUP(F71,CLASSEMENTELEVES!$C$4:$D$37,2,FALSE)<VLOOKUP(K71,CLASSEMENTELEVES!$C$4:$D$37,2,FALSE),0,U71)","v":{"$error":"#N/A"}}]
[null,null,null,null,null,null,null,null,null,null,null,null,null,null,null,null,null,null,null,null,null,null,null,null,"0_",0,0,0,0,"D",{"$f":"IF(Z308<>0,COUNTIF($Z$14:Z308,Z308),\"\")","v":""},{"$f":"IFERROR(VLOOKUP(U72,DEBUT!$D$5:$F$122,3,FALSE),0)","v":0},{"$f":"IF(VLOOKUP(F72,CLASSEMENTELEVES!$C$4:$D$37,2,FALSE)<VLOOKUP(K72,CLASSEMENTELEVES!$C$4:$D$37,2,FALSE),0,U72)","v":{"$error":"#N/A"}}]
[null,null,null,null,null,null,null,null,null,null,null,null,null,null,null,null,null,null,null,null,null,null,null,null,"0_",0,0,0,0,"D",{"$f":"IF(Z309<>0,COUNTIF($Z$14:Z309,Z309),\"\")","v":""},{"$f":"IFERROR(VLOOKUP(U73,DEBUT!$D$5:$F$122,3,FALSE),0)","v":0},{"$f":"IF(VLOOKUP(F73,CLASSEMENTELEVES!$C$4:$D$37,2,FALSE)<VLOOKUP(K73,CLASSEMENTELEVES!$C$4:$D$37,2,FALSE),0,U73)","v":{"$error":"#N/A"}}]
[null,null,null,null,null,null,null,null,null,null,null,null,null,null,null,null,null,null,null,null,null,null,null,null,"0_",0,0,0,0,"D",{"$f":"IF(Z310<>0,COUNTIF($Z$14:Z310,Z310),\"\")","v":""},{"$f":"IFERROR(VLOOKUP(U74,DEBUT!$D$5:$F$122,3,FALSE),0)","v":0},{"$f":"IF(VLOOKUP(F74,CLASSEMENTELEVES!$C$4:$D$37,2,FALSE)<VLOOKUP(K74,CLASSEMENTELEVES!$C$4:$D$37,2,FALSE),0,U74)","v":{"$error":"#N/A"}}]
[null,null,null,null,null,null,null,null,null,null,null,null,null,null,null,null,null,null,null,null,null,null,null,null,"0_",0,0,0,0,"D",{"$f":"IF(Z311<>0,COUNTIF($Z$14:Z311,Z311),\"\")","v":""},{"$f":"IFERROR(VLOOKUP(U75,DEBUT!$D$5:$F$122,3,FALSE),0)","v":0},{"$f":"IF(VLOOKUP(F75,CLASSEMENTELEVES!$C$4:$D$37,2,FALSE)<VLOOKUP(K75,CLASSEMENTELEVES!$C$4:$D$37,2,FALSE),0,U75)","v":{"$error":"#N/A"}}]
[null,null,null,null,null,null,null,null,null,null,null,null,null,null,null,null,null,null,null,null,null,null,null,null,"0_",0,0,0,0,"D",{"$f":"IF(Z312<>0,COUNTIF($Z$14:Z312,Z312),\"\")","v":""},{"$f":"IFERROR(VLOOKUP(U76,DEBUT!$D$5:$F$122,3,FALSE),0)","v":0},{"$f":"IF(VLOOKUP(F76,CLASSEMENTELEVES!$C$4:$D$37,2,FALSE)<VLOOKUP(K76,CLASSEMENTELEVES!$C$4:$D$37,2,FALSE),0,U76)","v":{"$error":"#N/A"}}]
[null,null,null,null,null,null,null,null,null,null,null,null,null,null,null,null,null,null,null,null,null,null,null,null,"0_",0,0,0,0,"D",{"$f":"IF(Z313<>0,COUNTIF($Z$14:Z313,Z313),\"\")","v":""},{"$f":"IFERROR(VLOOKUP(U77,DEBUT!$D$5:$F$122,3,FALSE),0)","v":0},{"$f":"IF(VLOOKUP(F77,CLASSEMENTELEVES!$C$4:$D$37,2,FALSE)<VLOOKUP(K77,CLASSEMENTELEVES!$C$4:$D$37,2,FALSE),0,U77)","v":{"$error":"#N/A"}}]
[null,null,null,null,null,null,null,null,null,null,null,null,null,null,null,null,null,null,null,null,null,null,null,null,"0_",0,0,0,0,"D",{"$f":"IF(Z314<>0,COUNTIF($Z$14:Z314,Z314),\"\")","v":""},{"$f":"IFERROR(VLOOKUP(U78,DEBUT!$D$5:$F$122,3,FALSE),0)","v":0},{"$f":"IF(VLOOKUP(F78,CLASSEMENTELEVES!$C$4:$D$37,2,FALSE)<VLOOKUP(K78,CLASSEMENTELEVES!$C$4:$D$37,2,FALSE),0,U78)","v":{"$error":"#N/A"}}]
[null,null,null,null,null,null,null,null,null,null,null,null,null,null,null,null,null,null,null,null,null,null,null,null,"0_",{"$f":"IF(K79=0,0,CONCATENATE(K79,\"p\"))","v":0},{"$f":"N79","v":0},{"$f":"R79","v":0},{"$f":"I79","v":0},"D",{"$f":"IF(Z315<>0,COUNTIF($Z$14:Z315,Z315),\"\")","v":""},{"$f":"IFERROR(VLOOKUP(U79,DEBUT!$D$5:$F$122,3,FALSE),0)","v":0},{"$f":"IF(VLOOKUP(F79,CLASSEMENTELEVES!$C$4:$D$37,2,FALSE)<VLOOKUP(K79,CLASSEMENTELEVES!$C$4:$D$37,2,FALSE),0,U79)","v":{"$error":"#N/A"}}]
[null,null,null,null,null,null,null,null,null,null,null,null,null,null,null,null,null,null,null,null,null,null,null,null,"0_",0,0,0,0,"D",{"$f":"IF(Z316<>0,COUNTIF($Z$14:Z316,Z316),\"\")","v":""},{"$f":"IFERROR(VLOOKUP(U80,DEBUT!$D$5:$F$122,3,FALSE),0)","v":0},{"$f":"IF(VLOOKUP(F80,CLASSEMENTELEVES!$C$4:$D$37,2,FALSE)<VLOOKUP(K80,CLASSEMENTELEVES!$C$4:$D$37,2,FALSE),0,U80)","v":{"$error":"#N/A"}}]
[null,null,null,null,null,null,null,null,null,null,null,null,null,null,null,null,null,null,null,null,null,null,null,null,"0_",0,0,0,0,"D",{"$f":"IF(Z317<>0,COUNTIF($Z$14:Z317,Z317),\"\")","v":""},{"$f":"IFERROR(VLOOKUP(U81,DEBUT!$D$5:$F$122,3,FALSE),0)","v":0},{"$f":"IF(VLOOKUP(F81,CLASSEMENTELEVES!$C$4:$D$37,2,FALSE)<VLOOKUP(K81,CLASSEMENTELEVES!$C$4:$D$37,2,FALSE),0,U81)","v":{"$error":"#N/A"}}]
[null,null,null,null,null,null,null,null,null,null,null,null,null,null,null,null,null,null,null,null,null,null,null,null,"0_",0,0,0,0,"D",{"$f":"IF(Z318<>0,COUNTIF($Z$14:Z318,Z318),\"\")","v":""},{"$f":"IFERROR(VLOOKUP(U82,DEBUT!$D$5:$F$122,3,FALSE),0)","v":0},{"$f":"IF(VLOOKUP(F82,CLASSEMENTELEVES!$C$4:$D$37,2,FALSE)<VLOOKUP(K82,CLASSEMENTELEVES!$C$4:$D$37,2,FALSE),0,U82)","v":{"$error":"#N/A"}}]
[null,null,null,null,null,null,null,null,null,null,null,null,null,null,null,null,null,null,null,null,null,null,null,null,"0_",0,0,0,0,"D",{"$f":"IF(Z319<>0,COUNTIF($Z$14:Z319,Z319),\"\")","v":""},{"$f":"IFERROR(VLOOKUP(U83,DEBUT!$D$5:$F$122,3,FALSE),0)","v":0},{"$f":"IF(VLOOKUP(F83,CLASSEMENTELEVES!$C$4:$D$37,2,FALSE)<VLOOKUP(K83,CLASSEMENTELEVES!$C$4:$D$37,2,FALSE),0,U83)","v":{"$error":"#N/A"}}]
[null,null,null,null,null,null,null,null,null,null,null,null,null,null,null,null,null,null,null,null,null,null,null,null,"0_",0,0,0,0,"D",{"$f":"IF(Z320<>0,COUNTIF($Z$14:Z320,Z320),\"\")","v":""},{"$f":"IFERROR(VLOOKUP(U84,DEBUT!$D$5:$F$122,3,FALSE),0)","v":0},{"$f":"IF(VLOOKUP(F84,CLASSEMENTELEVES!$C$4:$D$37,2,FALSE)<VLOOKUP(K84,CLASSEMENTELEVES!$C$4:$D$37,2,FALSE),0,U84)","v":{"$error":"#N/A"}}]
[null,null,null,null,null,null,null,null,null,null,null,null,null,null,null,null,null,null,null,null,null,null,null,null,"0_",0,0,0,0,"D",{"$f":"IF(Z321<>0,COUNTIF($Z$14:Z321,Z321),\"\")","v":""},{"$f":"IFERROR(VLOOKUP(U85,DEBUT!$D$5:$F$122,3,FALSE),0)","v":0},{"$f":"IF(VLOOKUP(F85,CLASSEMENTELEVES!$C$4:$D$37,2,FALSE)<VLOOKUP(K85,CLASSEMENTELEVES!$C$4:$D$37,2,FALSE),0,U85)","v":{"$error":"#N/A"}}]
[null,null,null,null,null,null,null,null,null,null,null,null,null,null,null,null,null,null,null,null,null,null,null,null,"0_",0,0,0,0,"D",{"$f":"IF(Z322<>0,COUNTIF($Z$14:Z322,Z322),\"\")","v":""},{"$f":"IFERROR(VLOOKUP(U86,DEBUT!$D$5:$F$122,3,FALSE),0)","v":0},{"$f":"IF(VLOOKUP(F86,CLASSEMENTELEVES!$C$4:$D$37,2,FALSE)<VLOOKUP(K86,CLASSEMENTELEVES!$C$4:$D$37,2,FALSE),0,U86)","v":{"$error":"#N/A"}}]
[null,null,null,null,null,null,null,null,null,null,null,null,null,null,null,null,null,null,null,null,null,null,null,null,"0_",0,0,0,0,"D",{"$f":"IF(Z323<>0,COUNTIF($Z$14:Z323,Z323),\"\")","v":""},{"$f":"IFERROR(VLOOKUP(U87,DEBUT!$D$5:$F$122,3,FALSE),0)","v":0},{"$f":"IF(VLOOKUP(F87,CLASSEMENTELEVES!$C$4:$D$37,2,FALSE)<VLOOKUP(K87,CLASSEMENTELEVES!$C$4:$D$37,2,FALSE),0,U87)","v":{"$error":"#N/A"}}]
[null,null,null,null,null,null,null,null,null,null,null,null,null,null,null,null,null,null,null,null,null,null,null,null,"0_",0,0,0,0,"D",{"$f":"IF(Z324<>0,COUNTIF($Z$14:Z324,Z324),\"\")","v":""},{"$f":"IFERROR(VLOOKUP(U88,DEBUT!$D$5:$F$122,3,FALSE),0)","v":0},{"$f":"IF(VLOOKUP(F88,CLASSEMENTELEVES!$C$4:$D$37,2,FALSE)<VLOOKUP(K88,CLASSEMENTELEVES!$C$4:$D$37,2,FALSE),0,U88)","v":{"$error":"#N/A"}}]
[null,null,null,null,null,null,null,null,null,null,null,null,null,null,null,null,null,null,null,null,null,null,null,null,"0_",0,0,0,0,"D",{"$f":"IF(Z325<>0,COUNTIF($Z$14:Z325,Z325),\"\")","v":""},{"$f":"IFERROR(VLOOKUP(U89,DEBUT!$D$5:$F$122,3,FALSE),0)","v":0},{"$f":"IF(VLOOKUP(F89,CLASSEMENTELEVES!$C$4:$D$37,2,FALSE)<VLOOKUP(K89,CLASSEMENTELEVES!$C$4:$D$37,2,FALSE),0,U89)","v":{"$error":"#N/A"}}]
[null,null,null,null,null,null,null,null,null,null,null,null,null,null,null,null,null,null,null,null,null,null,null,null,"0_",0,0,0,0,"D",{"$f":"IF(Z326<>0,COUNTIF($Z$14:Z326,Z326),\"\")","v":""},{"$f":"IFERROR(VLOOKUP(U90,DEBUT!$D$5:$F$122,3,FALSE),0)","v":0},{"$f":"IF(VLOOKUP(F90,CLASSEMENTELEVES!$C$4:$D$37,2,FALSE)<VLOOKUP(K90,CLASSEMENTELEVES!$C$4:$D$37,2,FALSE),0,U90)","v":{"$error":"#N/A"}}]
[null,null,null,null,null,null,null,null,null,null,null,null,null,null,null,null,null,null,null,null,null,null,null,null,"0_",0,0,0,0,"D",{"$f":"IF(Z327<>0,COUNTIF($Z$14:Z327,Z327),\"\")","v":""},{"$f":"IFERROR(VLOOKUP(U91,DEBUT!$D$5:$F$122,3,FALSE),0)","v":0},{"$f":"IF(VLOOKUP(F91,CLASSEMENTELEVES!$C$4:$D$37,2,FALSE)<VLOOKUP(K91,CLASSEMENTELEVES!$C$4:$D$37,2,FALSE),0,U91)","v":{"$error":"#N/A"}}]
[null,null,null,null,null,null,null,null,null,null,null,null,null,null,null,null,null,null,null,null,null,null,null,null,"0_",0,0,0,0,"D",{"$f":"IF(Z328<>0,COUNTIF($Z$14:Z328,Z328),\"\")","v":""},{"$f":"IFERROR(VLOOKUP(U92,DEBUT!$D$5:$F$122,3,FALSE),0)","v":0},{"$f":"IF(VLOOKUP(F92,CLASSEMENTELEVES!$C$4:$D$37,2,FALSE)<VLOOKUP(K92,CLASSEMENTELEVES!$C$4:$D$37,2,FALSE),0,U92)","v":{"$error":"#N/A"}}]
[null,null,null,null,null,null,null,null,null,null,null,null,null,null,null,null,null,null,null,null,null,null,null,null,"0_",0,0,0,0,"D",{"$f":"IF(Z329<>0,COUNTIF($Z$14:Z329,Z329),\"\")","v":""},{"$f":"IFERROR(VLOOKUP(U93,DEBUT!$D$5:$F$122,3,FALSE),0)","v":0},{"$f":"IF(VLOOKUP(F93,CLASSEMENTELEVES!$C$4:$D$37,2,FALSE)<VLOOKUP(K93,CLASSEMENTELEVES!$C$4:$D$37,2,FALSE),0,U93)","v":{"$error":"#N/A"}}]
[null,null,null,null,null,null,null,null,null,null,null,null,null,null,null,null,null,null,null,null,null,null,null,null,"0_",0,0,0,0,"D",{"$f":"IF(Z330<>0,COUNTIF($Z$14:Z330,Z330),\"\")","v":""},{"$f":"IFERROR(VLOOKUP(U94,DEBUT!$D$5:$F$122,3,FALSE),0)","v":0},{"$f":"IF(VLOOKUP(F94,CLASSEMENTELEVES!$C$4:$D$37,2,FALSE)<VLOOKUP(K94,CLASSEMENTELEVES!$C$4:$D$37,2,FALSE),0,U94)","v":{"$error":"#N/A"}}]
[null,null,null,null,null,null,null,null,null,null,null,null,null,null,null,null,null,null,null,null,null,null,null,null,"0_",0,0,0,0,"D",{"$f":"IF(Z331<>0,COUNTIF($Z$14:Z331,Z331),\"\")","v":""},{"$f":"IFERROR(VLOOKUP(U95,DEBUT!$D$5:$F$122,3,FALSE),0)","v":0},{"$f":"IF(VLOOKUP(F95,CLASSEMENTELEVES!$C$4:$D$37,2,FALSE)<VLOOKUP(K95,CLASSEMENTELEVES!$C$4:$D$37,2,FALSE),0,U95)","v":{"$error":"#N/A"}}]
[null,null,null,null,null,null,null,null,null,null,null,null,null,null,null,null,null,null,null,null,null,null,null,null,"0_",0,0,0,0,"D",{"$f":"IF(Z332<>0,COUNTIF($Z$14:Z332,Z332),\"\")","v":""},{"$f":"IFERROR(VLOOKUP(U96,DEBUT!$D$5:$F$122,3,FALSE),0)","v":0},{"$f":"IF(VLOOKUP(F96,CLASSEMENTELEVES!$C$4:$D$37,2,FALSE)<VLOOKUP(K96,CLASSEMENTELEVES!$C$4:$D$37,2,FALSE),0,U96)","v":{"$error":"#N/A"}}]
[null,null,null,null,null,null,null,null,null,null,null,null,null,null,null,null,null,null,null,null,null,null,null,null,"0_",0,0,0,0,"D",{"$f":"IF(Z333<>0,COUNTIF($Z$14:Z333,Z333),\"\")","v":""},{"$f":"IFERROR(VLOOKUP(U97,DEBUT!$D$5:$F$122,3,FALSE),0)","v":0},{"$f":"IF(VLOOKUP(F97,CLASSEMENTELEVES!$C$4:$D$37,2,FALSE)<VLOOKUP(K97,CLASSEMENTELEVES!$C$4:$D$37,2,FALSE),0,U97)","v":{"$error":"#N/A"}}]
[null,null,null,null,null,null,null,null,null,null,null,null,null,null,null,null,null,null,null,null,null,null,null,null,{"$f":"Z334&\"_\"&AE334","v":"0_"},0,0,0,0,"D",{"$f":"IF(Z334<>0,COUNTIF($Z$14:Z334,Z334),\"\")","v":""},{"$f":"IFERROR(VLOOKUP(U98,DEBUT!$D$5:$F$122,3,FALSE),0)","v":0},{"$f":"IF(VLOOKUP(F98,CLASSEMENTELEVES!$C$4:$D$37,2,FALSE)<VLOOKUP(K98,CLASSEMENTELEVES!$C$4:$D$37,2,FALSE),0,U98)","v":{"$error":"#N/A"}}]
[null,null,null,null,null,null,null,null,null,null,null,null,null,null,null,null,null,null,null,null,null,null,null,null,"0_",0,0,0,0,"D",{"$f":"IF(Z335<>0,COUNTIF($Z$14:Z335,Z335),\"\")","v":""},{"$f":"IFERROR(VLOOKUP(U99,DEBUT!$D$5:$F$122,3,FALSE),0)","v":0},{"$f":"IF(VLOOKUP(F99,CLASSEMENTELEVES!$C$4:$D$37,2,FALSE)<VLOOKUP(K99,CLASSEMENTELEVES!$C$4:$D$37,2,FALSE),0,U99)","v":{"$error":"#N/A"}}]
[null,null,null,null,null,null,null,null,null,null,null,null,null,null,null,null,null,null,null,null,null,null,null,null,"0_",0,0,0,0,"D",{"$f":"IF(Z336<>0,COUNTIF($Z$14:Z336,Z336),\"\")","v":""},{"$f":"IFERROR(VLOOKUP(U100,DEBUT!$D$5:$F$122,3,FALSE),0)","v":0},{"$f":"IF(VLOOKUP(F100,CLASSEMENTELEVES!$C$4:$D$37,2,FALSE)<VLOOKUP(K100,CLASSEMENTELEVES!$C$4:$D$37,2,FALSE),0,U100)","v":{"$error":"#N/A"}}]
[null,null,null,null,null,null,null,null,null,null,null,null,null,null,null,null,null,null,null,null,null,null,null,null,"0_",0,0,0,0,"D",{"$f":"IF(Z337<>0,COUNTIF($Z$14:Z337,Z337),\"\")","v":""},{"$f":"IFERROR(VLOOKUP(U101,DEBUT!$D$5:$F$122,3,FALSE),0)","v":0},{"$f":"IF(VLOOKUP(F101,CLASSEMENTELEVES!$C$4:$D$37,2,FALSE)<VLOOKUP(K101,CLASSEMENTELEVES!$C$4:$D$37,2,FALSE),0,U101)","v":{"$error":"#N/A"}}]
[null,null,null,null,null,null,null,null,null,null,null,null,null,null,null,null,null,null,null,null,null,null,null,null,"0_",0,0,0,0,"D",{"$f":"IF(Z338<>0,COUNTIF($Z$14:Z338,Z338),\"\")","v":""},{"$f":"IFERROR(VLOOKUP(U102,DEBUT!$D$5:$F$122,3,FALSE),0)","v":0},{"$f":"IF(VLOOKUP(F102,CLASSEMENTELEVES!$C$4:$D$37,2,FALSE)<VLOOKUP(K102,CLASSEMENTELEVES!$C$4:$D$37,2,FALSE),0,U102)","v":{"$error":"#N/A"}}]
[null,null,null,null,null,null,null,null,null,null,null,null,null,null,null,null,null,null,null,null,null,null,null,null,"0_",0,0,0,0,"D",{"$f":"IF(Z339<>0,COUNTIF($Z$14:Z339,Z339),\"\")","v":""},{"$f":"IFERROR(VLOOKUP(U103,DEBUT!$D$5:$F$122,3,FALSE),0)","v":0},{"$f":"IF(VLOOKUP(F103,CLASSEMENTELEVES!$C$4:$D$37,2,FALSE)<VLOOKUP(K103,CLASSEMENTELEVES!$C$4:$D$37,2,FALSE),0,U103)","v":{"$error":"#N/A"}}]
[null,null,null,null,null,null,null,null,null,null,null,null,null,null,null,null,null,null,null,null,null,null,null,null,"0_",0,0,0,0,"D",{"$f":"IF(Z340<>0,COUNTIF($Z$14:Z340,Z340),\"\")","v":""},{"$f":"IFERROR(VLOOKUP(U104,DEBUT!$D$5:$F$122,3,FALSE),0)","v":0},{"$f":"IF(VLOOKUP(F104,CLASSEMENTELEVES!$C$4:$D$37,2,FALSE)<VLOOKUP(K104,CLASSEMENTELEVES!$C$4:$D$37,2,FALSE),0,U104)","v":{"$error":"#N/A"}}]
[null,null,null,null,null,null,null,null,null,null,null,null,null,null,null,null,null,null,null,null,null,null,null,null,"0_",0,0,0,0,"D",{"$f":"IF(Z341<>0,COUNTIF($Z$14:Z341,Z341),\"\")","v":""},{"$f":"IFERROR(VLOOKUP(U105,DEBUT!$D$5:$F$122,3,FALSE),0)","v":0},{"$f":"IF(VLOOKUP(F105,CLASSEMENTELEVES!$C$4:$D$37,2,FALSE)<VLOOKUP(K105,CLASSEMENTELEVES!$C$4:$D$37,2,FALSE),0,U105)","v":{"$error":"#N/A"}}]
[null,null,null,null,null,null,null,null,null,null,null,null,null,null,null,null,null,null,null,null,null,null,null,null,"0_",0,0,0,0,"D",{"$f":"IF(Z342<>0,COUNTIF($Z$14:Z342,Z342),\"\")","v":""},{"$f":"IFERROR(VLOOKUP(U106,DEBUT!$D$5:$F$122,3,FALSE),0)","v":0},{"$f":"IF(VLOOKUP(F106,CLASSEMENTELEVES!$C$4:$D$37,2,FALSE)<VLOOKUP(K106,CLASSEMENTELEVES!$C$4:$D$37,2,FALSE),0,U106)","v":{"$error":"#N/A"}}]
[null,null,null,null,null,null,null,null,null,null,null,null,null,null,null,null,null,null,null,null,null,null,null,null,"0_",0,0,0,0,"D",{"$f":"IF(Z343<>0,COUNTIF($Z$14:Z343,Z343),\"\")","v":""},{"$f":"IFERROR(VLOOKUP(U107,DEBUT!$D$5:$F$122,3,FALSE),0)","v":0},{"$f":"IF(VLOOKUP(F107,CLASSEMENTELEVES!$C$4:$D$37,2,FALSE)<VLOOKUP(K107,CLASSEMENTELEVES!$C$4:$D$37,2,FALSE),0,U107)","v":{"$error":"#N/A"}}]
[null,null,null,null,null,null,null,null,null,null,null,null,null,null,null,null,null,null,null,null,null,null,null,null,"0_",0,0,0,0,"D",{"$f":"IF(Z344<>0,COUNTIF($Z$14:Z344,Z344),\"\")","v":""},{"$f":"IFERROR(VLOOKUP(U108,DEBUT!$D$5:$F$122,3,FALSE),0)","v":0},{"$f":"IF(VLOOKUP(F108,CLASSEMENTELEVES!$C$4:$D$37,2,FALSE)<VLOOKUP(K108,CLASSEMENTELEVES!$C$4:$D$37,2,FALSE),0,U108)","v":{"$error":"#N/A"}}]
[null,null,null,null,null,null,null,null,null,null,null,null,null,null,null,null,null,null,null,null,null,null,null,null,"0_",0,0,0,0,"D",{"$f":"IF(Z345<>0,COUNTIF($Z$14:Z345,Z345),\"\")","v":""},{"$f":"IFERROR(VLOOKUP(U109,DEBUT!$D$5:$F$122,3,FALSE),0)","v":0},{"$f":"IF(VLOOKUP(F109,CLASSEMENTELEVES!$C$4:$D$37,2,FALSE)<VLOOKUP(K109,CLASSEMENTELEVES!$C$4:$D$37,2,FALSE),0,U109)","v":{"$error":"#N/A"}}]
[null,null,null,null,null,null,null,null,null,null,null,null,null,null,null,null,null,null,null,null,null,null,null,null,"0_",0,0,0,0,"D",{"$f":"IF(Z346<>0,COUNTIF($Z$14:Z346,Z346),\"\")","v":""},{"$f":"IFERROR(VLOOKUP(U110,DEBUT!$D$5:$F$122,3,FALSE),0)","v":0},{"$f":"IF(VLOOKUP(F110,CLASSEMENTELEVES!$C$4:$D$37,2,FALSE)<VLOOKUP(K110,CLASSEMENTELEVES!$C$4:$D$37,2,FALSE),0,U110)","v":{"$error":"#N/A"}}]
[null,null,null,null,null,null,null,null,null,null,null,null,null,null,null,null,null,null,null,null,null,null,null,null,"0_",0,0,0,0,"D",{"$f":"IF(Z347<>0,COUNTIF($Z$14:Z347,Z347),\"\")","v":""},{"$f":"IFERROR(VLOOKUP(U111,DEBUT!$D$5:$F$122,3,FALSE),0)","v":0},{"$f":"IF(VLOOKUP(F111,CLASSEMENTELEVES!$C$4:$D$37,2,FALSE)<VLOOKUP(K111,CLASSEMENTELEVES!$C$4:$D$37,2,FALSE),0,U111)","v":{"$error":"#N/A"}}]
[null,null,null,null,null,null,null,null,null,null,null,null,null,null,null,null,null,null,null,null,null,null,null,null,"0_",0,0,0,0,"D",{"$f":"IF(Z348<>0,COUNTIF($Z$14:Z348,Z348),\"\")","v":""},{"$f":"IFERROR(VLOOKUP(U112,DEBUT!$D$5:$F$122,3,FALSE),0)","v":0},{"$f":"IF(VLOOKUP(F112,CLASSEMENTELEVES!$C$4:$D$37,2,FALSE)<VLOOKUP(K112,CLASSEMENTELEVES!$C$4:$D$37,2,FALSE),0,U112)","v":{"$error":"#N/A"}}]
[null,null,null,null,null,null,null,null,null,null,null,null,null,null,null,null,null,null,null,null,null,null,null,null,"0_",0,0,0,0,"D",{"$f":"IF(Z349<>0,COUNTIF($Z$14:Z349,Z349),\"\")","v":""},{"$f":"IFERROR(VLOOKUP(U113,DEBUT!$D$5:$F$122,3,FALSE),0)","v":0},{"$f":"IF(VLOOKUP(F113,CLASSEMENTELEVES!$C$4:$D$37,2,FALSE)<VLOOKUP(K113,CLASSEMENTELEVES!$C$4:$D$37,2,FALSE),0,U113)","v":{"$error":"#N/A"}}]
[null,null,null,null,null,null,null,null,null,null,null,null,null,null,null,null,null,null,null,null,null,null,null,null,"0_",0,0,0,0,"D",{"$f":"IF(Z350<>0,COUNTIF($Z$14:Z350,Z350),\"\")","v":""},{"$f":"IFERROR(VLOOKUP(U114,DEBUT!$D$5:$F$122,3,FALSE),0)","v":0},{"$f":"IF(VLOOKUP(F114,CLASSEMENTELEVES!$C$4:$D$37,2,FALSE)<VLOOKUP(K114,CLASSEMENTELEVES!$C$4:$D$37,2,FALSE),0,U114)","v":{"$error":"#N/A"}}]
[null,null,null,null,null,null,null,null,null,null,null,null,null,null,null,null,null,null,null,null,null,null,null,null,"0_",0,0,0,0,"D",{"$f":"IF(Z351<>0,COUNTIF($Z$14:Z351,Z351),\"\")","v":""},{"$f":"IFERROR(VLOOKUP(U115,DEBUT!$D$5:$F$122,3,FALSE),0)","v":0},{"$f":"IF(VLOOKUP(F115,CLASSEMENTELEVES!$C$4:$D$37,2,FALSE)<VLOOKUP(K115,CLASSEMENTELEVES!$C$4:$D$37,2,FALSE),0,U115)","v":{"$error":"#N/A"}}]
[null,null,null,null,null,null,null,null,null,null,null,null,null,null,null,null,null,null,null,null,null,null,null,null,"0_",0,0,0,0,"D",{"$f":"IF(Z352<>0,COUNTIF($Z$14:Z352,Z352),\"\")","v":""},{"$f":"IFERROR(VLOOKUP(U116,DEBUT!$D$5:$F$122,3,FALSE),0)","v":0},{"$f":"IF(VLOOKUP(F116,CLASSEMENTELEVES!$C$4:$D$37,2,FALSE)<VLOOKUP(K116,CLASSEMENTELEVES!$C$4:$D$37,2,FALSE),0,U116)","v":{"$error":"#N/A"}}]
[null,null,null,null,null,null,null,null,null,null,null,null,null,null,null,null,null,null,null,null,null,null,null,null,"0_",0,0,0,0,"D",{"$f":"IF(Z353<>0,COUNTIF($Z$14:Z353,Z353),\"\")","v":""},{"$f":"IFERROR(VLOOKUP(U117,DEBUT!$D$5:$F$122,3,FALSE),0)","v":0},{"$f":"IF(VLOOKUP(F117,CLASSEMENTELEVES!$C$4:$D$37,2,FALSE)<VLOOKUP(K117,CLASSEMENTELEVES!$C$4:$D$37,2,FALSE),0,U117)","v":{"$error":"#N/A"}}]
[null,null,null,null,null,null,null,null,null,null,null,null,null,null,null,null,null,null,null,null,null,null,null,null,"0_",0,0,0,0,"D",{"$f":"IF(Z354<>0,COUNTIF($Z$14:Z354,Z354),\"\")","v":""},{"$f":"IFERROR(VLOOKUP(U118,DEBUT!$D$5:$F$122,3,FALSE),0)","v":0},{"$f":"IF(VLOOKUP(F118,CLASSEMENTELEVES!$C$4:$D$37,2,FALSE)<VLOOKUP(K118,CLASSEMENTELEVES!$C$4:$D$37,2,FALSE),0,U118)","v":{"$error":"#N/A"}}]
[null,null,null,null,null,null,null,null,null,null,null,null,null,null,null,null,null,null,null,null,null,null,null,null,"0_",0,0,0,0,"D",{"$f":"IF(Z355<>0,COUNTIF($Z$14:Z355,Z355),\"\")","v":""},{"$f":"IFERROR(VLOOKUP(U119,DEBUT!$D$5:$F$122,3,FALSE),0)","v":0},{"$f":"IF(VLOOKUP(F119,CLASSEMENTELEVES!$C$4:$D$37,2,FALSE)<VLOOKUP(K119,CLASSEMENTELEVES!$C$4:$D$37,2,FALSE),0,U119)","v":{"$error":"#N/A"}}]
[null,null,null,null,null,null,null,null,null,null,null,null,null,null,null,null,null,null,null,null,null,null,null,null,"0_",0,0,0,0,"D",{"$f":"IF(Z356<>0,COUNTIF($Z$14:Z356,Z356),\"\")","v":""},{"$f":"IFERROR(VLOOKUP(U120,DEBUT!$D$5:$F$122,3,FALSE),0)","v":0},{"$f":"IF(VLOOKUP(F120,CLASSEMENTELEVES!$C$4:$D$37,2,FALSE)<VLOOKUP(K120,CLASSEMENTELEVES!$C$4:$D$37,2,FALSE),0,U120)","v":{"$error":"#N/A"}}]
[null,null,null,null,null,null,null,null,null,null,null,null,null,null,null,null,null,null,null,null,null,null,null,null,"0_",0,0,0,0,"D",{"$f":"IF(Z357<>0,COUNTIF($Z$14:Z357,Z357),\"\")","v":""},{"$f":"IFERROR(VLOOKUP(U121,DEBUT!$D$5:$F$122,3,FALSE),0)","v":0},{"$f":"IF(VLOOKUP(F121,CLASSEMENTELEVES!$C$4:$D$37,2,FALSE)<VLOOKUP(K121,CLASSEMENTELEVES!$C$4:$D$37,2,FALSE),0,U121)","v":{"$error":"#N/A"}}]
[null,null,null,null,null,null,null,null,null,null,null,null,null,null,null,null,null,null,null,null,null,null,null,null,"0_",0,0,0,0,"D",{"$f":"IF(Z358<>0,COUNTIF($Z$14:Z358,Z358),\"\")","v":""},{"$f":"IFERROR(VLOOKUP(U122,DEBUT!$D$5:$F$122,3,FALSE),0)","v":0},{"$f":"IF(VLOOKUP(F122,CLASSEMENTELEVES!$C$4:$D$37,2,FALSE)<VLOOKUP(K122,CLASSEMENTELEVES!$C$4:$D$37,2,FALSE),0,U122)","v":{"$error":"#N/A"}}]
[null,null,null,null,null,null,null,null,null,null,null,null,null,null,null,null,null,null,null,null,null,null,null,null,"0_",0,0,0,0,"D",{"$f":"IF(Z359<>0,COUNTIF($Z$14:Z359,Z359),\"\")","v":""},{"$f":"IFERROR(VLOOKUP(U123,DEBUT!$D$5:$F$122,3,FALSE),0)","v":0},{"$f":"IF(VLOOKUP(F123,CLASSEMENTELEVES!$C$4:$D$37,2,FALSE)<VLOOKUP(K123,CLASSEMENTELEVES!$C$4:$D$37,2,FALSE),0,U123)","v":{"$error":"#N/A"}}]
[null,null,null,null,null,null,null,null,null,null,null,null,null,null,null,null,null,null,null,null,null,null,null,null,"0_",0,0,0,0,"D",{"$f":"IF(Z360<>0,COUNTIF($Z$14:Z360,Z360),\"\")","v":""},{"$f":"IFERROR(VLOOKUP(U124,DEBUT!$D$5:$F$122,3,FALSE),0)","v":0},{"$f":"IF(VLOOKUP(F124,CLASSEMENTELEVES!$C$4:$D$37,2,FALSE)<VLOOKUP(K124,CLASSEMENTELEVES!$C$4:$D$37,2,FALSE),0,U124)","v":{"$error":"#N/A"}}]
[null,null,null,null,null,null,null,null,null,null,null,null,null,null,null,null,null,null,null,null,null,null,null,null,"0_",0,0,0,0,"D",{"$f":"IF(Z361<>0,COUNTIF($Z$14:Z361,Z361),\"\")","v":""},{"$f":"IFERROR(VLOOKUP(U125,DEBUT!$D$5:$F$122,3,FALSE),0)","v":0},{"$f":"IF(VLOOKUP(F125,CLASSEMENTELEVES!$C$4:$D$37,2,FALSE)<VLOOKUP(K125,CLASSEMENTELEVES!$C$4:$D$37,2,FALSE),0,U125)","v":{"$error":"#N/A"}}]
[null,null,null,null,null,null,null,null,null,null,null,null,null,null,null,null,null,null,null,null,null,null,null,null,"0_",0,0,0,0,"D",{"$f":"IF(Z362<>0,COUNTIF($Z$14:Z362,Z362),\"\")","v":""},{"$f":"IFERROR(VLOOKUP(U126,DEBUT!$D$5:$F$122,3,FALSE),0)","v":0},{"$f":"IF(VLOOKUP(F126,CLASSEMENTELEVES!$C$4:$D$37,2,FALSE)<VLOOKUP(K126,CLASSEMENTELEVES!$C$4:$D$37,2,FALSE),0,U126)","v":{"$error":"#N/A"}}]
[null,null,null,null,null,null,null,null,null,null,null,null,null,null,null,null,null,null,null,null,null,null,null,null,"0_",0,0,0,0,"D",{"$f":"IF(Z363<>0,COUNTIF($Z$14:Z363,Z363),\"\")","v":""},{"$f":"IFERROR(VLOOKUP(U127,DEBUT!$D$5:$F$122,3,FALSE),0)","v":0},{"$f":"IF(VLOOKUP(F127,CLASSEMENTELEVES!$C$4:$D$37,2,FALSE)<VLOOKUP(K127,CLASSEMENTELEVES!$C$4:$D$37,2,FALSE),0,U127)","v":{"$error":"#N/A"}}]
[null,null,null,null,null,null,null,null,null,null,null,null,null,null,null,null,null,null,null,null,null,null,null,null,"0_",0,0,0,0,"D",{"$f":"IF(Z364<>0,COUNTIF($Z$14:Z364,Z364),\"\")","v":""},{"$f":"IFERROR(VLOOKUP(U128,DEBUT!$D$5:$F$122,3,FALSE),0)","v":0},{"$f":"IF(VLOOKUP(F128,CLASSEMENTELEVES!$C$4:$D$37,2,FALSE)<VLOOKUP(K128,CLASSEMENTELEVES!$C$4:$D$37,2,FALSE),0,U128)","v":{"$error":"#N/A"}}]
[null,null,null,null,null,null,null,null,null,null,null,null,null,null,null,null,null,null,null,null,null,null,null,null,"0_",0,0,0,0,"D",{"$f":"IF(Z365<>0,COUNTIF($Z$14:Z365,Z365),\"\")","v":""},{"$f":"IFERROR(VLOOKUP(U129,DEBUT!$D$5:$F$122,3,FALSE),0)","v":0},{"$f":"IF(VLOOKUP(F129,CLASSEMENTELEVES!$C$4:$D$37,2,FALSE)<VLOOKUP(K129,CLASSEMENTELEVES!$C$4:$D$37,2,FALSE),0,U129)","v":{"$error":"#N/A"}}]
[null,null,null,null,null,null,null,null,null,null,null,null,null,null,null,null,null,null,null,null,null,null,null,null,"0_",0,0,0,0,"D",{"$f":"IF(Z366<>0,COUNTIF($Z$14:Z366,Z366),\"\")","v":""},{"$f":"IFERROR(VLOOKUP(U130,DEBUT!$D$5:$F$122,3,FALSE),0)","v":0},{"$f":"IF(VLOOKUP(F130,CLASSEMENTELEVES!$C$4:$D$37,2,FALSE)<VLOOKUP(K130,CLASSEMENTELEVES!$C$4:$D$37,2,FALSE),0,U130)","v":{"$error":"#N/A"}}]
[null,null,null,null,null,null,null,null,null,null,null,null,null,null,null,null,null,null,null,null,null,null,null,null,"0_",0,0,0,0,"D",{"$f":"IF(Z367<>0,COUNTIF($Z$14:Z367,Z367),\"\")","v":""},{"$f":"IFERROR(VLOOKUP(U131,DEBUT!$D$5:$F$122,3,FALSE),0)","v":0},{"$f":"IF(VLOOKUP(F131,CLASSEMENTELEVES!$C$4:$D$37,2,FALSE)<VLOOKUP(K131,CLASSEMENTELEVES!$C$4:$D$37,2,FALSE),0,U131)","v":{"$error":"#N/A"}}]
[null,null,null,null,null,null,null,null,null,null,null,null,null,null,null,null,null,null,null,null,null,null,null,null,"0_",0,0,0,0,"D",{"$f":"IF(Z368<>0,COUNTIF($Z$14:Z368,Z368),\"\")","v":""},{"$f":"IFERROR(VLOOKUP(U132,DEBUT!$D$5:$F$122,3,FALSE),0)","v":0},{"$f":"IF(VLOOKUP(F132,CLASSEMENTELEVES!$C$4:$D$37,2,FALSE)<VLOOKUP(K132,CLASSEMENTELEVES!$C$4:$D$37,2,FALSE),0,U132)","v":{"$error":"#N/A"}}]
[null,null,null,null,null,null,null,null,null,null,null,null,null,null,null,null,null,null,null,null,null,null,null,null,"0_",0,0,0,0,"D",{"$f":"IF(Z369<>0,COUNTIF($Z$14:Z369,Z369),\"\")","v":""},{"$f":"IFERROR(VLOOKUP(U133,DEBUT!$D$5:$F$122,3,FALSE),0)","v":0},{"$f":"IF(VLOOKUP(F133,CLASSEMENTELEVES!$C$4:$D$37,2,FALSE)<VLOOKUP(K133,CLASSEMENTELEVES!$C$4:$D$37,2,FALSE),0,U133)","v":{"$error":"#N/A"}}]
[null,null,null,null,null,null,null,null,null,null,null,null,null,null,null,null,null,null,null,null,null,null,null,null,"0_",0,0,0,0,"D",{"$f":"IF(Z370<>0,COUNTIF($Z$14:Z370,Z370),\"\")","v":""},{"$f":"IFERROR(VLOOKUP(U134,DEBUT!$D$5:$F$122,3,FALSE),0)","v":0},{"$f":"IF(VLOOKUP(F134,CLASSEMENTELEVES!$C$4:$D$37,2,FALSE)<VLOOKUP(K134,CLASSEMENTELEVES!$C$4:$D$37,2,FALSE),0,U134)","v":{"$error":"#N/A"}}]
[null,null,null,null,null,null,null,null,null,null,null,null,null,null,null,null,null,null,null,null,null,null,null,null,"0_",0,0,0,0,"D",{"$f":"IF(Z371<>0,COUNTIF($Z$14:Z371,Z371),\"\")","v":""},{"$f":"IFERROR(VLOOKUP(U135,DEBUT!$D$5:$F$122,3,FALSE),0)","v":0},{"$f":"IF(VLOOKUP(F135,CLASSEMENTELEVES!$C$4:$D$37,2,FALSE)<VLOOKUP(K135,CLASSEMENTELEVES!$C$4:$D$37,2,FALSE),0,U135)","v":{"$error":"#N/A"}}]
[null,null,null,null,null,null,null,null,null,null,null,null,null,null,null,null,null,null,null,null,null,null,null,null,"0_",0,0,0,0,"D",{"$f":"IF(Z372<>0,COUNTIF($Z$14:Z372,Z372),\"\")","v":""},{"$f":"IFERROR(VLOOKUP(U136,DEBUT!$D$5:$F$122,3,FALSE),0)","v":0},{"$f":"IF(VLOOKUP(F136,CLASSEMENTELEVES!$C$4:$D$37,2,FALSE)<VLOOKUP(K136,CLASSEMENTELEVES!$C$4:$D$37,2,FALSE),0,U136)","v":{"$error":"#N/A"}}]
[null,null,null,null,null,null,null,null,null,null,null,null,null,null,null,null,null,null,null,null,null,null,null,null,"0_",0,0,0,0,"D",{"$f":"IF(Z373<>0,COUNTIF($Z$14:Z373,Z373),\"\")","v":""},{"$f":"IFERROR(VLOOKUP(U137,DEBUT!$D$5:$F$122,3,FALSE),0)","v":0},{"$f":"IF(VLOOKUP(F137,CLASSEMENTELEVES!$C$4:$D$37,2,FALSE)<VLOOKUP(K137,CLASSEMENTELEVES!$C$4:$D$37,2,FALSE),0,U137)","v":{"$error":"#N/A"}}]
[null,null,null,null,null,null,null,null,null,null,null,null,null,null,null,null,null,null,null,null,null,null,null,null,"0_",0,0,0,0,"D",{"$f":"IF(Z374<>0,COUNTIF($Z$14:Z374,Z374),\"\")","v":""},{"$f":"IFERROR(VLOOKUP(U138,DEBUT!$D$5:$F$122,3,FALSE),0)","v":0},{"$f":"IF(VLOOKUP(F138,CLASSEMENTELEVES!$C$4:$D$37,2,FALSE)<VLOOKUP(K138,CLASSEMENTELEVES!$C$4:$D$37,2,FALSE),0,U138)","v":{"$error":"#N/A"}}]
[null,null,null,null,null,null,null,null,null,null,null,null,null,null,null,null,null,null,null,null,null,null,null,null,"0_",0,0,0,0,"D",{"$f":"IF(Z375<>0,COUNTIF($Z$14:Z375,Z375),\"\")","v":""},{"$f":"IFERROR(VLOOKUP(U139,DEBUT!$D$5:$F$122,3,FALSE),0)","v":0},{"$f":"IF(VLOOKUP(F139,CLASSEMENTELEVES!$C$4:$D$37,2,FALSE)<VLOOKUP(K139,CLASSEMENTELEVES!$C$4:$D$37,2,FALSE),0,U139)","v":{"$error":"#N/A"}}]
[null,null,null,null,null,null,null,null,null,null,null,null,null,null,null,null,null,null,null,null,null,null,null,null,"0_",0,0,0,0,"D",{"$f":"IF(Z376<>0,COUNTIF($Z$14:Z376,Z376),\"\")","v":""},{"$f":"IFERROR(VLOOKUP(U140,DEBUT!$D$5:$F$122,3,FALSE),0)","v":0},{"$f":"IF(VLOOKUP(F140,CLASSEMENTELEVES!$C$4:$D$37,2,FALSE)<VLOOKUP(K140,CLASSEMENTELEVES!$C$4:$D$37,2,FALSE),0,U140)","v":{"$error":"#N/A"}}]
[null,null,null,null,null,null,null,null,null,null,null,null,null,null,null,null,null,null,null,null,null,null,null,null,"0_",0,0,0,0,"D",{"$f":"IF(Z377<>0,COUNTIF($Z$14:Z377,Z377),\"\")","v":""},{"$f":"IFERROR(VLOOKUP(U141,DEBUT!$D$5:$F$122,3,FALSE),0)","v":0},{"$f":"IF(VLOOKUP(F141,CLASSEMENTELEVES!$C$4:$D$37,2,FALSE)<VLOOKUP(K141,CLASSEMENTELEVES!$C$4:$D$37,2,FALSE),0,U141)","v":{"$error":"#N/A"}}]
[null,null,null,null,null,null,null,null,null,null,null,null,null,null,null,null,null,null,null,null,null,null,null,null,"0_",0,0,0,0,"D",{"$f":"IF(Z378<>0,COUNTIF($Z$14:Z378,Z378),\"\")","v":""},{"$f":"IFERROR(VLOOKUP(U142,DEBUT!$D$5:$F$122,3,FALSE),0)","v":0},{"$f":"IF(VLOOKUP(F142,CLASSEMENTELEVES!$C$4:$D$37,2,FALSE)<VLOOKUP(K142,CLASSEMENTELEVES!$C$4:$D$37,2,FALSE),0,U142)","v":{"$error":"#N/A"}}]
[null,null,null,null,null,null,null,null,null,null,null,null,null,null,null,null,null,null,null,null,null,null,null,null,"0_",{"$f":"IF(K143=0,0,CONCATENATE(K143,\"p\"))","v":0},{"$f":"N143","v":0},{"$f":"R143","v":0},{"$f":"I143","v":0},"D",{"$f":"IF(Z379<>0,COUNTIF($Z$14:Z379,Z379),\"\")","v":""},{"$f":"IFERROR(VLOOKUP(U143,DEBUT!$D$5:$F$122,3,FALSE),0)","v":0},{"$f":"IF(VLOOKUP(F143,CLASSEMENTELEVES!$C$4:$D$37,2,FALSE)<VLOOKUP(K143,CLASSEMENTELEVES!$C$4:$D$37,2,FALSE),0,U143)","v":{"$error":"#N/A"}}]
[null,null,null,null,null,null,null,null,null,null,null,null,null,null,null,null,null,null,null,null,null,null,null,null,"0_",0,0,0,0,"D",{"$f":"IF(Z380<>0,COUNTIF($Z$14:Z380,Z380),\"\")","v":""},{"$f":"IFERROR(VLOOKUP(U144,DEBUT!$D$5:$F$122,3,FALSE),0)","v":0},{"$f":"IF(VLOOKUP(F144,CLASSEMENTELEVES!$C$4:$D$37,2,FALSE)<VLOOKUP(K144,CLASSEMENTELEVES!$C$4:$D$37,2,FALSE),0,U144)","v":{"$error":"#N/A"}}]
[null,null,null,null,null,null,null,null,null,null,null,null,null,null,null,null,null,null,null,null,null,null,null,null,"0_",0,0,0,0,"D",{"$f":"IF(Z381<>0,COUNTIF($Z$14:Z381,Z381),\"\")","v":""},{"$f":"IFERROR(VLOOKUP(U145,DEBUT!$D$5:$F$122,3,FALSE),0)","v":0},{"$f":"IF(VLOOKUP(F145,CLASSEMENTELEVES!$C$4:$D$37,2,FALSE)<VLOOKUP(K145,CLASSEMENTELEVES!$C$4:$D$37,2,FALSE),0,U145)","v":{"$error":"#N/A"}}]
[null,null,null,null,null,null,null,null,null,null,null,null,null,null,null,null,null,null,null,null,null,null,null,null,"0_",0,0,0,0,"D",{"$f":"IF(Z382<>0,COUNTIF($Z$14:Z382,Z382),\"\")","v":""},{"$f":"IFERROR(VLOOKUP(U146,DEBUT!$D$5:$F$122,3,FALSE),0)","v":0},{"$f":"IF(VLOOKUP(F146,CLASSEMENTELEVES!$C$4:$D$37,2,FALSE)<VLOOKUP(K146,CLASSEMENTELEVES!$C$4:$D$37,2,FALSE),0,U146)","v":{"$error":"#N/A"}}]
[null,null,null,null,null,null,null,null,null,null,null,null,null,null,null,null,null,null,null,null,null,null,null,null,"0_",0,0,0,0,"D",{"$f":"IF(Z383<>0,COUNTIF($Z$14:Z383,Z383),\"\")","v":""},{"$f":"IFERROR(VLOOKUP(U147,DEBUT!$D$5:$F$122,3,FALSE),0)","v":0},{"$f":"IF(VLOOKUP(F147,CLASSEMENTELEVES!$C$4:$D$37,2,FALSE)<VLOOKUP(K147,CLASSEMENTELEVES!$C$4:$D$37,2,FALSE),0,U147)","v":{"$error":"#N/A"}}]
[null,null,null,null,null,null,null,null,null,null,null,null,null,null,null,null,null,null,null,null,null,null,null,null,"0_",0,0,0,0,"D",{"$f":"IF(Z384<>0,COUNTIF($Z$14:Z384,Z384),\"\")","v":""},{"$f":"IFERROR(VLOOKUP(U148,DEBUT!$D$5:$F$122,3,FALSE),0)","v":0},{"$f":"IF(VLOOKUP(F148,CLASSEMENTELEVES!$C$4:$D$37,2,FALSE)<VLOOKUP(K148,CLASSEMENTELEVES!$C$4:$D$37,2,FALSE),0,U148)","v":{"$error":"#N/A"}}]
[null,null,null,null,null,null,null,null,null,null,null,null,null,null,null,null,null,null,null,null,null,null,null,null,"0_",0,0,0,0,"D",{"$f":"IF(Z385<>0,COUNTIF($Z$14:Z385,Z385),\"\")","v":""},{"$f":"IFERROR(VLOOKUP(U149,DEBUT!$D$5:$F$122,3,FALSE),0)","v":0},{"$f":"IF(VLOOKUP(F149,CLASSEMENTELEVES!$C$4:$D$37,2,FALSE)<VLOOKUP(K149,CLASSEMENTELEVES!$C$4:$D$37,2,FALSE),0,U149)","v":{"$error":"#N/A"}}]
[null,null,null,null,null,null,null,null,null,null,null,null,null,null,null,null,null,null,null,null,null,null,null,null,"0_",0,0,0,0,"D",{"$f":"IF(Z386<>0,COUNTIF($Z$14:Z386,Z386),\"\")","v":""},{"$f":"IFERROR(VLOOKUP(U150,DEBUT!$D$5:$F$122,3,FALSE),0)","v":0},{"$f":"IF(VLOOKUP(F150,CLASSEMENTELEVES!$C$4:$D$37,2,FALSE)<VLOOKUP(K150,CLASSEMENTELEVES!$C$4:$D$37,2,FALSE),0,U150)","v":{"$error":"#N/A"}}]
[null,null,null,null,null,null,null,null,null,null,null,null,null,null,null,null,null,null,null,null,null,null,null,null,"0_",0,0,0,0,"D",{"$f":"IF(Z387<>0,COUNTIF($Z$14:Z387,Z387),\"\")","v":""},{"$f":"IFERROR(VLOOKUP(U151,DEBUT!$D$5:$F$122,3,FALSE),0)","v":0},{"$f":"IF(VLOOKUP(F151,CLASSEMENTELEVES!$C$4:$D$37,2,FALSE)<VLOOKUP(K151,CLASSEMENTELEVES!$C$4:$D$37,2,FALSE),0,U151)","v":{"$error":"#N/A"}}]
[null,null,null,null,null,null,null,null,null,null,null,null,null,null,null,null,null,null,null,null,null,null,null,null,"0_",0,0,0,0,"D",{"$f":"IF(Z388<>0,COUNTIF($Z$14:Z388,Z388),\"\")","v":""},{"$f":"IFERROR(VLOOKUP(U152,DEBUT!$D$5:$F$122,3,FALSE),0)","v":0},{"$f":"IF(VLOOKUP(F152,CLASSEMENTELEVES!$C$4:$D$37,2,FALSE)<VLOOKUP(K152,CLASSEMENTELEVES!$C$4:$D$37,2,FALSE),0,U152)","v":{"$error":"#N/A"}}]
[null,null,null,null,null,null,null,null,null,null,null,null,null,null,null,null,null,null,null,null,null,null,null,null,"0_",0,0,0,0,"D",{"$f":"IF(Z389<>0,COUNTIF($Z$14:Z389,Z389),\"\")","v":""},{"$f":"IFERROR(VLOOKUP(U153,DEBUT!$D$5:$F$122,3,FALSE),0)","v":0},{"$f":"IF(VLOOKUP(F153,CLASSEMENTELEVES!$C$4:$D$37,2,FALSE)<VLOOKUP(K153,CLASSEMENTELEVES!$C$4:$D$37,2,FALSE),0,U153)","v":{"$error":"#N/A"}}]
[null,null,null,null,null,null,null,null,null,null,null,null,null,null,null,null,null,null,null,null,null,null,null,null,"0_",0,0,0,0,"D",{"$f":"IF(Z390<>0,COUNTIF($Z$14:Z390,Z390),\"\")","v":""},{"$f":"IFERROR(VLOOKUP(U154,DEBUT!$D$5:$F$122,3,FALSE),0)","v":0},{"$f":"IF(VLOOKUP(F154,CLASSEMENTELEVES!$C$4:$D$37,2,FALSE)<VLOOKUP(K154,CLASSEMENTELEVES!$C$4:$D$37,2,FALSE),0,U154)","v":{"$error":"#N/A"}}]
[null,null,null,null,null,null,null,null,null,null,null,null,null,null,null,null,null,null,null,null,null,null,null,null,"0_",0,0,0,0,"D",{"$f":"IF(Z391<>0,COUNTIF($Z$14:Z391,Z391),\"\")","v":""},{"$f":"IFERROR(VLOOKUP(U155,DEBUT!$D$5:$F$122,3,FALSE),0)","v":0},{"$f":"IF(VLOOKUP(F155,CLASSEMENTELEVES!$C$4:$D$37,2,FALSE)<VLOOKUP(K155,CLASSEMENTELEVES!$C$4:$D$37,2,FALSE),0,U155)","v":{"$error":"#N/A"}}]
[null,null,null,null,null,null,null,null,null,null,null,null,null,null,null,null,null,null,null,null,null,null,null,null,"0_",0,0,0,0,"D",{"$f":"IF(Z392<>0,COUNTIF($Z$14:Z392,Z392),\"\")","v":""},{"$f":"IFERROR(VLOOKUP(U156,DEBUT!$D$5:$F$122,3,FALSE),0)","v":0},{"$f":"IF(VLOOKUP(F156,CLASSEMENTELEVES!$C$4:$D$37,2,FALSE)<VLOOKUP(K156,CLASSEMENTELEVES!$C$4:$D$37,2,FALSE),0,U156)","v":{"$error":"#N/A"}}]
[null,null,null,null,null,null,null,null,null,null,null,null,null,null,null,null,null,null,null,null,null,null,null,null,"0_",0,0,0,0,"D",{"$f":"IF(Z393<>0,COUNTIF($Z$14:Z393,Z393),\"\")","v":""},{"$f":"IFERROR(VLOOKUP(U157,DEBUT!$D$5:$F$122,3,FALSE),0)","v":0},{"$f":"IF(VLOOKUP(F157,CLASSEMENTELEVES!$C$4:$D$37,2,FALSE)<VLOOKUP(K157,CLASSEMENTELEVES!$C$4:$D$37,2,FALSE),0,U157)","v":{"$error":"#N/A"}}]
[null,null,null,null,null,null,null,null,null,null,null,null,null,null,null,null,null,null,null,null,null,null,null,null,"0_",0,0,0,0,"D",{"$f":"IF(Z394<>0,COUNTIF($Z$14:Z394,Z394),\"\")","v":""},{"$f":"IFERROR(VLOOKUP(U158,DEBUT!$D$5:$F$122,3,FALSE),0)","v":0},{"$f":"IF(VLOOKUP(F158,CLASSEMENTELEVES!$C$4:$D$37,2,FALSE)<VLOOKUP(K158,CLASSEMENTELEVES!$C$4:$D$37,2,FALSE),0,U158)","v":{"$error":"#N/A"}}]
[null,null,null,null,null,null,null,null,null,null,null,null,null,null,null,null,null,null,null,null,null,null,null,null,"0_",0,0,0,0,"D",{"$f":"IF(Z395<>0,COUNTIF($Z$14:Z395,Z395),\"\")","v":""},{"$f":"IFERROR(VLOOKUP(U159,DEBUT!$D$5:$F$122,3,FALSE),0)","v":0},{"$f":"IF(VLOOKUP(F159,CLASSEMENTELEVES!$C$4:$D$37,2,FALSE)<VLOOKUP(K159,CLASSEMENTELEVES!$C$4:$D$37,2,FALSE),0,U159)","v":{"$error":"#N/A"}}]
[null,null,null,null,null,null,null,null,null,null,null,null,null,null,null,null,null,null,null,null,null,null,null,null,"0_",0,0,0,0,"D",{"$f":"IF(Z396<>0,COUNTIF($Z$14:Z396,Z396),\"\")","v":""},{"$f":"IFERROR(VLOOKUP(U160,DEBUT!$D$5:$F$122,3,FALSE),0)","v":0},{"$f":"IF(VLOOKUP(F160,CLASSEMENTELEVES!$C$4:$D$37,2,FALSE)<VLOOKUP(K160,CLASSEMENTELEVES!$C$4:$D$37,2,FALSE),0,U160)","v":{"$error":"#N/A"}}]
[null,null,null,null,null,null,null,null,null,null,null,null,null,null,null,null,null,null,null,null,null,null,null,null,"0_",0,0,0,0,"D",{"$f":"IF(Z397<>0,COUNTIF($Z$14:Z397,Z397),\"\")","v":""},{"$f":"IFERROR(VLOOKUP(U161,DEBUT!$D$5:$F$122,3,FALSE),0)","v":0},{"$f":"IF(VLOOKUP(F161,CLASSEMENTELEVES!$C$4:$D$37,2,FALSE)<VLOOKUP(K161,CLASSEMENTELEVES!$C$4:$D$37,2,FALSE),0,U161)","v":{"$error":"#N/A"}}]
[null,null,null,null,null,null,null,null,null,null,null,null,null,null,null,null,null,null,null,null,null,null,null,null,{"$f":"Z398&\"_\"&AE398","v":"0_"},0,0,0,0,"D",{"$f":"IF(Z398<>0,COUNTIF($Z$14:Z398,Z398),\"\")","v":""},{"$f":"IFERROR(VLOOKUP(U162,DEBUT!$D$5:$F$122,3,FALSE),0)","v":0},{"$f":"IF(VLOOKUP(F162,CLASSEMENTELEVES!$C$4:$D$37,2,FALSE)<VLOOKUP(K162,CLASSEMENTELEVES!$C$4:$D$37,2,FALSE),0,U162)","v":{"$error":"#N/A"}}]
[null,null,null,null,null,null,null,null,null,null,null,null,null,null,null,null,null,null,null,null,null,null,null,null,"0_",0,0,0,0,"D",{"$f":"IF(Z399<>0,COUNTIF($Z$14:Z399,Z399),\"\")","v":""},{"$f":"IFERROR(VLOOKUP(U163,DEBUT!$D$5:$F$122,3,FALSE),0)","v":0},{"$f":"IF(VLOOKUP(F163,CLASSEMENTELEVES!$C$4:$D$37,2,FALSE)<VLOOKUP(K163,CLASSEMENTELEVES!$C$4:$D$37,2,FALSE),0,U163)","v":{"$error":"#N/A"}}]
[null,null,null,null,null,null,null,null,null,null,null,null,null,null,null,null,null,null,null,null,null,null,null,null,"0_",0,0,0,0,"D",{"$f":"IF(Z400<>0,COUNTIF($Z$14:Z400,Z400),\"\")","v":""},{"$f":"IFERROR(VLOOKUP(U164,DEBUT!$D$5:$F$122,3,FALSE),0)","v":0},{"$f":"IF(VLOOKUP(F164,CLASSEMENTELEVES!$C$4:$D$37,2,FALSE)<VLOOKUP(K164,CLASSEMENTELEVES!$C$4:$D$37,2,FALSE),0,U164)","v":{"$error":"#N/A"}}]
[null,null,null,null,null,null,null,null,null,null,null,null,null,null,null,null,null,null,null,null,null,null,null,null,"0_",0,0,0,0,"D",{"$f":"IF(Z401<>0,COUNTIF($Z$14:Z401,Z401),\"\")","v":""},{"$f":"IFERROR(VLOOKUP(U165,DEBUT!$D$5:$F$122,3,FALSE),0)","v":0},{"$f":"IF(VLOOKUP(F165,CLASSEMENTELEVES!$C$4:$D$37,2,FALSE)<VLOOKUP(K165,CLASSEMENTELEVES!$C$4:$D$37,2,FALSE),0,U165)","v":{"$error":"#N/A"}}]
[null,null,null,null,null,null,null,null,null,null,null,null,null,null,null,null,null,null,null,null,null,null,null,null,"0_",0,0,0,0,"D",{"$f":"IF(Z402<>0,COUNTIF($Z$14:Z402,Z402),\"\")","v":""},{"$f":"IFERROR(VLOOKUP(U166,DEBUT!$D$5:$F$122,3,FALSE),0)","v":0},{"$f":"IF(VLOOKUP(F166,CLASSEMENTELEVES!$C$4:$D$37,2,FALSE)<VLOOKUP(K166,CLASSEMENTELEVES!$C$4:$D$37,2,FALSE),0,U166)","v":{"$error":"#N/A"}}]
[null,null,null,null,null,null,null,null,null,null,null,null,null,null,null,null,null,null,null,null,null,null,null,null,"0_",0,0,0,0,"D",{"$f":"IF(Z403<>0,COUNTIF($Z$14:Z403,Z403),\"\")","v":""},{"$f":"IFERROR(VLOOKUP(U167,DEBUT!$D$5:$F$122,3,FALSE),0)","v":0},{"$f":"IF(VLOOKUP(F167,CLASSEMENTELEVES!$C$4:$D$37,2,FALSE)<VLOOKUP(K167,CLASSEMENTELEVES!$C$4:$D$37,2,FALSE),0,U167)","v":{"$error":"#N/A"}}]
[null,null,null,null,null,null,null,null,null,null,null,null,null,null,null,null,null,null,null,null,null,null,null,null,"0_",0,0,0,0,"D",{"$f":"IF(Z404<>0,COUNTIF($Z$14:Z404,Z404),\"\")","v":""},{"$f":"IFERROR(VLOOKUP(U168,DEBUT!$D$5:$F$122,3,FALSE),0)","v":0},{"$f":"IF(VLOOKUP(F168,CLASSEMENTELEVES!$C$4:$D$37,2,FALSE)<VLOOKUP(K168,CLASSEMENTELEVES!$C$4:$D$37,2,FALSE),0,U168)","v":{"$error":"#N/A"}}]
[null,null,null,null,null,null,null,null,null,null,null,null,null,null,null,null,null,null,null,null,null,null,null,null,"0_",0,0,0,0,"D",{"$f":"IF(Z405<>0,COUNTIF($Z$14:Z405,Z405),\"\")","v":""},{"$f":"IFERROR(VLOOKUP(U169,DEBUT!$D$5:$F$122,3,FALSE),0)","v":0},{"$f":"IF(VLOOKUP(F169,CLASSEMENTELEVES!$C$4:$D$37,2,FALSE)<VLOOKUP(K169,CLASSEMENTELEVES!$C$4:$D$37,2,FALSE),0,U169)","v":{"$error":"#N/A"}}]
[null,null,null,null,null,null,null,null,null,null,null,null,null,null,null,null,null,null,null,null,null,null,null,null,"0_",0,0,0,0,"D",{"$f":"IF(Z406<>0,COUNTIF($Z$14:Z406,Z406),\"\")","v":""},{"$f":"IFERROR(VLOOKUP(U170,DEBUT!$D$5:$F$122,3,FALSE),0)","v":0},{"$f":"IF(VLOOKUP(F170,CLASSEMENTELEVES!$C$4:$D$37,2,FALSE)<VLOOKUP(K170,CLASSEMENTELEVES!$C$4:$D$37,2,FALSE),0,U170)","v":{"$error":"#N/A"}}]
[null,null,null,null,null,null,null,null,null,null,null,null,null,null,null,null,null,null,null,null,null,null,null,null,"0_",0,0,0,0,"D",{"$f":"IF(Z407<>0,COUNTIF($Z$14:Z407,Z407),\"\")","v":""},{"$f":"IFERROR(VLOOKUP(U171,DEBUT!$D$5:$F$122,3,FALSE),0)","v":0},{"$f":"IF(VLOOKUP(F171,CLASSEMENTELEVES!$C$4:$D$37,2,FALSE)<VLOOKUP(K171,CLASSEMENTELEVES!$C$4:$D$37,2,FALSE),0,U171)","v":{"$error":"#N/A"}}]
[null,null,null,null,null,null,null,null,null,null,null,null,null,null,null,null,null,null,null,null,null,null,null,null,"0_",0,0,0,0,"D",{"$f":"IF(Z408<>0,COUNTIF($Z$14:Z408,Z408),\"\")","v":""},{"$f":"IFERROR(VLOOKUP(U172,DEBUT!$D$5:$F$122,3,FALSE),0)","v":0},{"$f":"IF(VLOOKUP(F172,CLASSEMENTELEVES!$C$4:$D$37,2,FALSE)<VLOOKUP(K172,CLASSEMENTELEVES!$C$4:$D$37,2,FALSE),0,U172)","v":{"$error":"#N/A"}}]
[null,null,null,null,null,null,null,null,null,null,null,null,null,null,null,null,null,null,null,null,null,null,null,null,"0_",0,0,0,0,"D",{"$f":"IF(Z409<>0,COUNTIF($Z$14:Z409,Z409),\"\")","v":""},{"$f":"IFERROR(VLOOKUP(U173,DEBUT!$D$5:$F$122,3,FALSE),0)","v":0},{"$f":"IF(VLOOKUP(F173,CLASSEMENTELEVES!$C$4:$D$37,2,FALSE)<VLOOKUP(K173,CLASSEMENTELEVES!$C$4:$D$37,2,FALSE),0,U173)","v":{"$error":"#N/A"}}]
[null,null,null,null,null,null,null,null,null,null,null,null,null,null,null,null,null,null,null,null,null,null,null,null,"0_",0,0,0,0,"D",{"$f":"IF(Z410<>0,COUNTIF($Z$14:Z410,Z410),\"\")","v":""},{"$f":"IFERROR(VLOOKUP(U174,DEBUT!$D$5:$F$122,3,FALSE),0)","v":0},{"$f":"IF(VLOOKUP(F174,CLASSEMENTELEVES!$C$4:$D$37,2,FALSE)<VLOOKUP(K174,CLASSEMENTELEVES!$C$4:$D$37,2,FALSE),0,U174)","v":{"$error":"#N/A"}}]
[null,null,null,null,null,null,null,null,null,null,null,null,null,null,null,null,null,null,null,null,null,null,null,null,"0_",0,0,0,0,"D",{"$f":"IF(Z411<>0,COUNTIF($Z$14:Z411,Z411),\"\")","v":""},{"$f":"IFERROR(VLOOKUP(U175,DEBUT!$D$5:$F$122,3,FALSE),0)","v":0},{"$f":"IF(VLOOKUP(F175,CLASSEMENTELEVES!$C$4:$D$37,2,FALSE)<VLOOKUP(K175,CLASSEMENTELEVES!$C$4:$D$37,2,FALSE),0,U175)","v":{"$error":"#N/A"}}]
[null,null,null,null,null,null,null,null,null,null,null,null,null,null,null,null,null,null,null,null,null,null,null,null,"0_",0,0,0,0,"D",{"$f":"IF(Z412<>0,COUNTIF($Z$14:Z412,Z412),\"\")","v":""},{"$f":"IFERROR(VLOOKUP(U176,DEBUT!$D$5:$F$122,3,FALSE),0)","v":0},{"$f":"IF(VLOOKUP(F176,CLASSEMENTELEVES!$C$4:$D$37,2,FALSE)<VLOOKUP(K176,CLASSEMENTELEVES!$C$4:$D$37,2,FALSE),0,U176)","v":{"$error":"#N/A"}}]
[null,null,null,null,null,null,null,null,null,null,null,null,null,null,null,null,null,null,null,null,null,null,null,null,"0_",0,0,0,0,"D",{"$f":"IF(Z413<>0,COUNTIF($Z$14:Z413,Z413),\"\")","v":""},{"$f":"IFERROR(VLOOKUP(U177,DEBUT!$D$5:$F$122,3,FALSE),0)","v":0},{"$f":"IF(VLOOKUP(F177,CLASSEMENTELEVES!$C$4:$D$37,2,FALSE)<VLOOKUP(K177,CLASSEMENTELEVES!$C$4:$D$37,2,FALSE),0,U177)","v":{"$error":"#N/A"}}]
[null,null,null,null,null,null,null,null,null,null,null,null,null,null,null,null,null,null,null,null,null,null,null,null,"0_",0,0,0,0,"D",{"$f":"IF(Z414<>0,COUNTIF($Z$14:Z414,Z414),\"\")","v":""},{"$f":"IFERROR(VLOOKUP(U178,DEBUT!$D$5:$F$122,3,FALSE),0)","v":0},{"$f":"IF(VLOOKUP(F178,CLASSEMENTELEVES!$C$4:$D$37,2,FALSE)<VLOOKUP(K178,CLASSEMENTELEVES!$C$4:$D$37,2,FALSE),0,U178)","v":{"$error":"#N/A"}}]
[null,null,null,null,null,null,null,null,null,null,null,null,null,null,null,null,null,null,null,null,null,null,null,null,"0_",0,0,0,0,"D",{"$f":"IF(Z415<>0,COUNTIF($Z$14:Z415,Z415),\"\")","v":""},{"$f":"IFERROR(VLOOKUP(U179,DEBUT!$D$5:$F$122,3,FALSE),0)","v":0},{"$f":"IF(VLOOKUP(F179,CLASSEMENTELEVES!$C$4:$D$37,2,FALSE)<VLOOKUP(K179,CLASSEMENTELEVES!$C$4:$D$37,2,FALSE),0,U179)","v":{"$error":"#N/A"}}]
[null,null,null,null,null,null,null,null,null,null,null,null,null,null,null,null,null,null,null,null,null,null,null,null,"0_",0,0,0,0,"D",{"$f":"IF(Z416<>0,COUNTIF($Z$14:Z416,Z416),\"\")","v":""},{"$f":"IFERROR(VLOOKUP(U180,DEBUT!$D$5:$F$122,3,FALSE),0)","v":0},{"$f":"IF(VLOOKUP(F180,CLASSEMENTELEVES!$C$4:$D$37,2,FALSE)<VLOOKUP(K180,CLASSEMENTELEVES!$C$4:$D$37,2,FALSE),0,U180)","v":{"$error":"#N/A"}}]
[null,null,null,null,null,null,null,null,null,null,null,null,null,null,null,null,null,null,null,null,null,null,null,null,"0_",0,0,0,0,"D",{"$f":"IF(Z417<>0,COUNTIF($Z$14:Z417,Z417),\"\")","v":""},{"$f":"IFERROR(VLOOKUP(U181,DEBUT!$D$5:$F$122,3,FALSE),0)","v":0},{"$f":"IF(VLOOKUP(F181,CLASSEMENTELEVES!$C$4:$D$37,2,FALSE)<VLOOKUP(K181,CLASSEMENTELEVES!$C$4:$D$37,2,FALSE),0,U181)","v":{"$error":"#N/A"}}]
[null,null,null,null,null,null,null,null,null,null,null,null,null,null,null,null,null,null,null,null,null,null,null,null,"0_",0,0,0,0,"D",{"$f":"IF(Z418<>0,COUNTIF($Z$14:Z418,Z418),\"\")","v":""},{"$f":"IFERROR(VLOOKUP(U182,DEBUT!$D$5:$F$122,3,FALSE),0)","v":0},{"$f":"IF(VLOOKUP(F182,CLASSEMENTELEVES!$C$4:$D$37,2,FALSE)<VLOOKUP(K182,CLASSEMENTELEVES!$C$4:$D$37,2,FALSE),0,U182)","v":{"$error":"#N/A"}}]
[null,null,null,null,null,null,null,null,null,null,null,null,null,null,null,null,null,null,null,null,null,null,null,null,"0_",0,0,0,0,"D",{"$f":"IF(Z419<>0,COUNTIF($Z$14:Z419,Z419),\"\")","v":""},{"$f":"IFERROR(VLOOKUP(U183,DEBUT!$D$5:$F$122,3,FALSE),0)","v":0},{"$f":"IF(VLOOKUP(F183,CLASSEMENTELEVES!$C$4:$D$37,2,FALSE)<VLOOKUP(K183,CLASSEMENTELEVES!$C$4:$D$37,2,FALSE),0,U183)","v":{"$error":"#N/A"}}]
[null,null,null,null,null,null,null,null,null,null,null,null,null,null,null,null,null,null,null,null,null,null,null,null,"0_",0,0,0,0,"D",{"$f":"IF(Z420<>0,COUNTIF($Z$14:Z420,Z420),\"\")","v":""},{"$f":"IFERROR(VLOOKUP(U184,DEBUT!$D$5:$F$122,3,FALSE),0)","v":0},{"$f":"IF(VLOOKUP(F184,CLASSEMENTELEVES!$C$4:$D$37,2,FALSE)<VLOOKUP(K184,CLASSEMENTELEVES!$C$4:$D$37,2,FALSE),0,U184)","v":{"$error":"#N/A"}}]
[null,null,null,null,null,null,null,null,null,null,null,null,null,null,null,null,null,null,null,null,null,null,null,null,"0_",0,0,0,0,"D",{"$f":"IF(Z421<>0,COUNTIF($Z$14:Z421,Z421),\"\")","v":""},{"$f":"IFERROR(VLOOKUP(U185,DEBUT!$D$5:$F$122,3,FALSE),0)","v":0},{"$f":"IF(VLOOKUP(F185,CLASSEMENTELEVES!$C$4:$D$37,2,FALSE)<VLOOKUP(K185,CLASSEMENTELEVES!$C$4:$D$37,2,FALSE),0,U185)","v":{"$error":"#N/A"}}]
[null,null,null,null,null,null,null,null,null,null,null,null,null,null,null,null,null,null,null,null,null,null,null,null,"0_",0,0,0,0,"D",{"$f":"IF(Z422<>0,COUNTIF($Z$14:Z422,Z422),\"\")","v":""},{"$f":"IFERROR(VLOOKUP(U186,DEBUT!$D$5:$F$122,3,FALSE),0)","v":0},{"$f":"IF(VLOOKUP(F186,CLASSEMENTELEVES!$C$4:$D$37,2,FALSE)<VLOOKUP(K186,CLASSEMENTELEVES!$C$4:$D$37,2,FALSE),0,U186)","v":{"$error":"#N/A"}}]
[null,null,null,null,null,null,null,null,null,null,null,null,null,null,null,null,null,null,null,null,null,null,null,null,"0_",0,0,0,0,"D",{"$f":"IF(Z423<>0,COUNTIF($Z$14:Z423,Z423),\"\")","v":""},{"$f":"IFERROR(VLOOKUP(U187,DEBUT!$D$5:$F$122,3,FALSE),0)","v":0},{"$f":"IF(VLOOKUP(F187,CLASSEMENTELEVES!$C$4:$D$37,2,FALSE)<VLOOKUP(K187,CLASSEMENTELEVES!$C$4:$D$37,2,FALSE),0,U187)","v":{"$error":"#N/A"}}]
[null,null,null,null,null,null,null,null,null,null,null,null,null,null,null,null,null,null,null,null,null,null,null,null,"0_",0,0,0,0,"D",{"$f":"IF(Z424<>0,COUNTIF($Z$14:Z424,Z424),\"\")","v":""},{"$f":"IFERROR(VLOOKUP(U188,DEBUT!$D$5:$F$122,3,FALSE),0)","v":0},{"$f":"IF(VLOOKUP(F188,CLASSEMENTELEVES!$C$4:$D$37,2,FALSE)<VLOOKUP(K188,CLASSEMENTELEVES!$C$4:$D$37,2,FALSE),0,U188)","v":{"$error":"#N/A"}}]
[null,null,null,null,null,null,null,null,null,null,null,null,null,null,null,null,null,null,null,null,null,null,null,null,"0_",0,0,0,0,"D",{"$f":"IF(Z425<>0,COUNTIF($Z$14:Z425,Z425),\"\")","v":""},{"$f":"IFERROR(VLOOKUP(U189,DEBUT!$D$5:$F$122,3,FALSE),0)","v":0},{"$f":"IF(VLOOKUP(F189,CLASSEMENTELEVES!$C$4:$D$37,2,FALSE)<VLOOKUP(K189,CLASSEMENTELEVES!$C$4:$D$37,2,FALSE),0,U189)","v":{"$error":"#N/A"}}]
[null,null,null,null,null,null,null,null,null,null,null,null,null,null,null,null,null,null,null,null,null,null,null,null,"0_",0,0,0,0,"D",{"$f":"IF(Z426<>0,COUNTIF($Z$14:Z426,Z426),\"\")","v":""},{"$f":"IFERROR(VLOOKUP(U190,DEBUT!$D$5:$F$122,3,FALSE),0)","v":0},{"$f":"IF(VLOOKUP(F190,CLASSEMENTELEVES!$C$4:$D$37,2,FALSE)<VLOOKUP(K190,CLASSEMENTELEVES!$C$4:$D$37,2,FALSE),0,U190)","v":{"$error":"#N/A"}}]
[null,null,null,null,null,null,null,null,null,null,null,null,null,null,null,null,null,null,null,null,null,null,null,null,"0_",0,0,0,0,"D",{"$f":"IF(Z427<>0,COUNTIF($Z$14:Z427,Z427),\"\")","v":""},{"$f":"IFERROR(VLOOKUP(U191,DEBUT!$D$5:$F$122,3,FALSE),0)","v":0},{"$f":"IF(VLOOKUP(F191,CLASSEMENTELEVES!$C$4:$D$37,2,FALSE)<VLOOKUP(K191,CLASSEMENTELEVES!$C$4:$D$37,2,FALSE),0,U191)","v":{"$error":"#N/A"}}]
[null,null,null,null,null,null,null,null,null,null,null,null,null,null,null,null,null,null,null,null,null,null,null,null,"0_",0,0,0,0,"D",{"$f":"IF(Z428<>0,COUNTIF($Z$14:Z428,Z428),\"\")","v":""},{"$f":"IFERROR(VLOOKUP(U192,DEBUT!$D$5:$F$122,3,FALSE),0)","v":0},{"$f":"IF(VLOOKUP(F192,CLASSEMENTELEVES!$C$4:$D$37,2,FALSE)<VLOOKUP(K192,CLASSEMENTELEVES!$C$4:$D$37,2,FALSE),0,U192)","v":{"$error":"#N/A"}}]
[null,null,null,null,null,null,null,null,null,null,null,null,null,null,null,null,null,null,null,null,null,null,null,null,"0_",0,0,0,0,"D",{"$f":"IF(Z429<>0,COUNTIF($Z$14:Z429,Z429),\"\")","v":""},{"$f":"IFERROR(VLOOKUP(U193,DEBUT!$D$5:$F$122,3,FALSE),0)","v":0},{"$f":"IF(VLOOKUP(F193,CLASSEMENTELEVES!$C$4:$D$37,2,FALSE)<VLOOKUP(K193,CLASSEMENTELEVES!$C$4:$D$37,2,FALSE),0,U193)","v":{"$error":"#N/A"}}]
[null,null,null,null,null,null,null,null,null,null,null,null,null,null,null,null,null,null,null,null,null,null,null,null,"0_",0,0,0,0,"D",{"$f":"IF(Z430<>0,COUNTIF($Z$14:Z430,Z430),\"\")","v":""},{"$f":"IFERROR(VLOOKUP(U194,DEBUT!$D$5:$F$122,3,FALSE),0)","v":0},{"$f":"IF(VLOOKUP(F194,CLASSEMENTELEVES!$C$4:$D$37,2,FALSE)<VLOOKUP(K194,CLASSEMENTELEVES!$C$4:$D$37,2,FALSE),0,U194)","v":{"$error":"#N/A"}}]
[null,null,null,null,null,null,null,null,null,null,null,null,null,null,null,null,null,null,null,null,null,null,null,null,"0_",0,0,0,0,"D",{"$f":"IF(Z431<>0,COUNTIF($Z$14:Z431,Z431),\"\")","v":""},{"$f":"IFERROR(VLOOKUP(U195,DEBUT!$D$5:$F$122,3,FALSE),0)","v":0},{"$f":"IF(VLOOKUP(F195,CLASSEMENTELEVES!$C$4:$D$37,2,FALSE)<VLOOKUP(K195,CLASSEMENTELEVES!$C$4:$D$37,2,FALSE),0,U195)","v":{"$error":"#N/A"}}]
[null,null,null,null,null,null,null,null,null,null,null,null,null,null,null,null,null,null,null,null,null,null,null,null,"0_",0,0,0,0,"D",{"$f":"IF(Z432<>0,COUNTIF($Z$14:Z432,Z432),\"\")","v":""},{"$f":"IFERROR(VLOOKUP(U196,DEBUT!$D$5:$F$122,3,FALSE),0)","v":0},{"$f":"IF(VLOOKUP(F196,CLASSEMENTELEVES!$C$4:$D$37,2,FALSE)<VLOOKUP(K196,CLASSEMENTELEVES!$C$4:$D$37,2,FALSE),0,U196)","v":{"$error":"#N/A"}}]
[null,null,null,null,null,null,null,null,null,null,null,null,null,null,null,null,null,null,null,null,null,null,null,null,"0_",0,0,0,0,"D",{"$f":"IF(Z433<>0,COUNTIF($Z$14:Z433,Z433),\"\")","v":""},{"$f":"IFERROR(VLOOKUP(U197,DEBUT!$D$5:$F$122,3,FALSE),0)","v":0},{"$f":"IF(VLOOKUP(F197,CLASSEMENTELEVES!$C$4:$D$37,2,FALSE)<VLOOKUP(K197,CLASSEMENTELEVES!$C$4:$D$37,2,FALSE),0,U197)","v":{"$error":"#N/A"}}]
[null,null,null,null,null,null,null,null,null,null,null,null,null,null,null,null,null,null,null,null,null,null,null,null,"0_",0,0,0,0,"D",{"$f":"IF(Z434<>0,COUNTIF($Z$14:Z434,Z434),\"\")","v":""},{"$f":"IFERROR(VLOOKUP(U198,DEBUT!$D$5:$F$122,3,FALSE),0)","v":0},{"$f":"IF(VLOOKUP(F198,CLASSEMENTELEVES!$C$4:$D$37,2,FALSE)<VLOOKUP(K198,CLASSEMENTELEVES!$C$4:$D$37,2,FALSE),0,U198)","v":{"$error":"#N/A"}}]
[null,null,null,null,null,null,null,null,null,null,null,null,null,null,null,null,null,null,null,null,null,null,null,null,"0_",0,0,0,0,"D",{"$f":"IF(Z435<>0,COUNTIF($Z$14:Z435,Z435),\"\")","v":""},{"$f":"IFERROR(VLOOKUP(U199,DEBUT!$D$5:$F$122,3,FALSE),0)","v":0},{"$f":"IF(VLOOKUP(F199,CLASSEMENTELEVES!$C$4:$D$37,2,FALSE)<VLOOKUP(K199,CLASSEMENTELEVES!$C$4:$D$37,2,FALSE),0,U199)","v":{"$error":"#N/A"}}]
[null,null,null,null,null,null,null,null,null,null,null,null,null,null,null,null,null,null,null,null,null,null,null,null,"0_",0,0,0,0,"D",{"$f":"IF(Z436<>0,COUNTIF($Z$14:Z436,Z436),\"\")","v":""},{"$f":"IFERROR(VLOOKUP(U200,DEBUT!$D$5:$F$122,3,FALSE),0)","v":0},{"$f":"IF(VLOOKUP(F200,CLASSEMENTELEVES!$C$4:$D$37,2,FALSE)<VLOOKUP(K200,CLASSEMENTELEVES!$C$4:$D$37,2,FALSE),0,U200)","v":{"$error":"#N/A"}}]
[null,null,null,null,null,null,null,null,null,null,null,null,null,null,null,null,null,null,null,null,null,null,null,null,"0_",0,0,0,0,"D",{"$f":"IF(Z437<>0,COUNTIF($Z$14:Z437,Z437),\"\")","v":""},{"$f":"IFERROR(VLOOKUP(U201,DEBUT!$D$5:$F$122,3,FALSE),0)","v":0},{"$f":"IF(VLOOKUP(F201,CLASSEMENTELEVES!$C$4:$D$37,2,FALSE)<VLOOKUP(K201,CLASSEMENTELEVES!$C$4:$D$37,2,FALSE),0,U201)","v":{"$error":"#N/A"}}]
[null,null,null,null,null,null,null,null,null,null,null,null,null,null,null,null,null,null,null,null,null,null,null,null,"0_",0,0,0,0,"D",{"$f":"IF(Z438<>0,COUNTIF($Z$14:Z438,Z438),\"\")","v":""},{"$f":"IFERROR(VLOOKUP(U202,DEBUT!$D$5:$F$122,3,FALSE),0)","v":0},{"$f":"IF(VLOOKUP(F202,CLASSEMENTELEVES!$C$4:$D$37,2,FALSE)<VLOOKUP(K202,CLASSEMENTELEVES!$C$4:$D$37,2,FALSE),0,U202)","v":{"$error":"#N/A"}}]
[null,null,null,null,null,null,null,null,null,null,null,null,null,null,null,null,null,null,null,null,null,null,null,null,"0_",0,0,0,0,"D",{"$f":"IF(Z439<>0,COUNTIF($Z$14:Z439,Z439),\"\")","v":""},{"$f":"IFERROR(VLOOKUP(U203,DEBUT!$D$5:$F$122,3,FALSE),0)","v":0},{"$f":"IF(VLOOKUP(F203,CLASSEMENTELEVES!$C$4:$D$37,2,FALSE)<VLOOKUP(K203,CLASSEMENTELEVES!$C$4:$D$37,2,FALSE),0,U203)","v":{"$error":"#N/A"}}]
[null,null,null,null,null,null,null,null,null,null,null,null,null,null,null,null,null,null,null,null,null,null,null,null,"0_",0,0,0,0,"D",{"$f":"IF(Z440<>0,COUNTIF($Z$14:Z440,Z440),\"\")","v":""},{"$f":"IFERROR(VLOOKUP(U204,DEBUT!$D$5:$F$122,3,FALSE),0)","v":0},{"$f":"IF(VLOOKUP(F204,CLASSEMENTELEVES!$C$4:$D$37,2,FALSE)<VLOOKUP(K204,CLASSEMENTELEVES!$C$4:$D$37,2,FALSE),0,U204)","v":{"$error":"#N/A"}}]
[null,null,null,null,null,null,null,null,null,null,null,null,null,null,null,null,null,null,null,null,null,null,null,null,"0_",0,0,0,0,"D",{"$f":"IF(Z441<>0,COUNTIF($Z$14:Z441,Z441),\"\")","v":""},{"$f":"IFERROR(VLOOKUP(U205,DEBUT!$D$5:$F$122,3,FALSE),0)","v":0},{"$f":"IF(VLOOKUP(F205,CLASSEMENTELEVES!$C$4:$D$37,2,FALSE)<VLOOKUP(K205,CLASSEMENTELEVES!$C$4:$D$37,2,FALSE),0,U205)","v":{"$error":"#N/A"}}]
[null,null,null,null,null,null,null,null,null,null,null,null,null,null,null,null,null,null,null,null,null,null,null,null,"0_",0,0,0,0,"D",{"$f":"IF(Z442<>0,COUNTIF($Z$14:Z442,Z442),\"\")","v":""},{"$f":"IFERROR(VLOOKUP(U206,DEBUT!$D$5:$F$122,3,FALSE),0)","v":0},{"$f":"IF(VLOOKUP(F206,CLASSEMENTELEVES!$C$4:$D$37,2,FALSE)<VLOOKUP(K206,CLASSEMENTELEVES!$C$4:$D$37,2,FALSE),0,U206)","v":{"$error":"#N/A"}}]
[null,null,null,null,null,null,null,null,null,null,null,null,null,null,null,null,null,null,null,null,null,null,null,null,"0_",{"$f":"IF(K207=0,0,CONCATENATE(K207,\"p\"))","v":0},{"$f":"N207","v":0},{"$f":"R207","v":0},{"$f":"I207","v":0},"D",{"$f":"IF(Z443<>0,COUNTIF($Z$14:Z443,Z443),\"\")","v":""},{"$f":"IFERROR(VLOOKUP(U207,DEBUT!$D$5:$F$122,3,FALSE),0)","v":0},{"$f":"IF(VLOOKUP(F207,CLASSEMENTELEVES!$C$4:$D$37,2,FALSE)<VLOOKUP(K207,CLASSEMENTELEVES!$C$4:$D$37,2,FALSE),0,U207)","v":{"$error":"#N/A"}}]
[null,null,null,null,null,null,null,null,null,null,null,null,null,null,null,null,null,null,null,null,null,null,null,null,"0_",0,0,0,0,"D",{"$f":"IF(Z444<>0,COUNTIF($Z$14:Z444,Z444),\"\")","v":""},{"$f":"IFERROR(VLOOKUP(U208,DEBUT!$D$5:$F$122,3,FALSE),0)","v":0},{"$f":"IF(VLOOKUP(F208,CLASSEMENTELEVES!$C$4:$D$37,2,FALSE)<VLOOKUP(K208,CLASSEMENTELEVES!$C$4:$D$37,2,FALSE),0,U208)","v":{"$error":"#N/A"}}]
[null,null,null,null,null,null,null,null,null,null,null,null,null,null,null,null,null,null,null,null,null,null,null,null,"0_",0,0,0,0,"D",{"$f":"IF(Z445<>0,COUNTIF($Z$14:Z445,Z445),\"\")","v":""},{"$f":"IFERROR(VLOOKUP(U209,DEBUT!$D$5:$F$122,3,FALSE),0)","v":0},{"$f":"IF(VLOOKUP(F209,CLASSEMENTELEVES!$C$4:$D$37,2,FALSE)<VLOOKUP(K209,CLASSEMENTELEVES!$C$4:$D$37,2,FALSE),0,U209)","v":{"$error":"#N/A"}}]
[null,null,null,null,null,null,null,null,null,null,null,null,null,null,null,null,null,null,null,null,null,null,null,null,"0_",0,0,0,0,"D",{"$f":"IF(Z446<>0,COUNTIF($Z$14:Z446,Z446),\"\")","v":""},{"$f":"IFERROR(VLOOKUP(U210,DEBUT!$D$5:$F$122,3,FALSE),0)","v":0},{"$f":"IF(VLOOKUP(F210,CLASSEMENTELEVES!$C$4:$D$37,2,FALSE)<VLOOKUP(K210,CLASSEMENTELEVES!$C$4:$D$37,2,FALSE),0,U210)","v":{"$error":"#N/A"}}]
[null,null,null,null,null,null,null,null,null,null,null,null,null,null,null,null,null,null,null,null,null,null,null,null,"0_",0,0,0,0,"D",{"$f":"IF(Z447<>0,COUNTIF($Z$14:Z447,Z447),\"\")","v":""},{"$f":"IFERROR(VLOOKUP(U211,DEBUT!$D$5:$F$122,3,FALSE),0)","v":0},{"$f":"IF(VLOOKUP(F211,CLASSEMENTELEVES!$C$4:$D$37,2,FALSE)<VLOOKUP(K211,CLASSEMENTELEVES!$C$4:$D$37,2,FALSE),0,U211)","v":{"$error":"#N/A"}}]
[null,null,null,null,null,null,null,null,null,null,null,null,null,null,null,null,null,null,null,null,null,null,null,null,"0_",0,0,0,0,"D",{"$f":"IF(Z448<>0,COUNTIF($Z$14:Z448,Z448),\"\")","v":""},{"$f":"IFERROR(VLOOKUP(U212,DEBUT!$D$5:$F$122,3,FALSE),0)","v":0},{"$f":"IF(VLOOKUP(F212,CLASSEMENTELEVES!$C$4:$D$37,2,FALSE)<VLOOKUP(K212,CLASSEMENTELEVES!$C$4:$D$37,2,FALSE),0,U212)","v":{"$error":"#N/A"}}]
[null,null,null,null,null,null,null,null,null,null,null,null,null,null,null,null,null,null,null,null,null,null,null,null,"0_",0,0,0,0,"D",{"$f":"IF(Z449<>0,COUNTIF($Z$14:Z449,Z449),\"\")","v":""},{"$f":"IFERROR(VLOOKUP(U213,DEBUT!$D$5:$F$122,3,FALSE),0)","v":0},{"$f":"IF(VLOOKUP(F213,CLASSEMENTELEVES!$C$4:$D$37,2,FALSE)<VLOOKUP(K213,CLASSEMENTELEVES!$C$4:$D$37,2,FALSE),0,U213)","v":{"$error":"#N/A"}}]
[null,null,null,null,null,null,null,null,null,null,null,null,null,null,null,null,null,null,null,null,null,null,null,null,"0_",0,0,0,0,"D",{"$f":"IF(Z450<>0,COUNTIF($Z$14:Z450,Z450),\"\")","v":""},{"$f":"IFERROR(VLOOKUP(U214,DEBUT!$D$5:$F$122,3,FALSE),0)","v":0},{"$f":"IF(VLOOKUP(F214,CLASSEMENTELEVES!$C$4:$D$37,2,FALSE)<VLOOKUP(K214,CLASSEMENTELEVES!$C$4:$D$37,2,FALSE),0,U214)","v":{"$error":"#N/A"}}]
[null,null,null,null,null,null,null,null,null,null,null,null,null,null,null,null,null,null,null,null,null,null,null,null,"0_",0,0,0,0,"D",{"$f":"IF(Z451<>0,COUNTIF($Z$14:Z451,Z451),\"\")","v":""},{"$f":"IFERROR(VLOOKUP(U215,DEBUT!$D$5:$F$122,3,FALSE),0)","v":0},{"$f":"IF(VLOOKUP(F215,CLASSEMENTELEVES!$C$4:$D$37,2,FALSE)<VLOOKUP(K215,CLASSEMENTELEVES!$C$4:$D$37,2,FALSE),0,U215)","v":{"$error":"#N/A"}}]
[null,null,null,null,null,null,null,null,null,null,null,null,null,null,null,null,null,null,null,null,null,null,null,null,"0_",0,0,0,0,"D",{"$f":"IF(Z452<>0,COUNTIF($Z$14:Z452,Z452),\"\")","v":""},{"$f":"IFERROR(VLOOKUP(U216,DEBUT!$D$5:$F$122,3,FALSE),0)","v":0},{"$f":"IF(VLOOKUP(F216,CLASSEMENTELEVES!$C$4:$D$37,2,FALSE)<VLOOKUP(K216,CLASSEMENTELEVES!$C$4:$D$37,2,FALSE),0,U216)","v":{"$error":"#N/A"}}]
[null,null,null,null,null,null,null,null,null,null,null,null,null,null,null,null,null,null,null,null,null,null,null,null,"0_",0,0,0,0,"D",{"$f":"IF(Z453<>0,COUNTIF($Z$14:Z453,Z453),\"\")","v":""},{"$f":"IFERROR(VLOOKUP(U217,DEBUT!$D$5:$F$122,3,FALSE),0)","v":0},{"$f":"IF(VLOOKUP(F217,CLASSEMENTELEVES!$C$4:$D$37,2,FALSE)<VLOOKUP(K217,CLASSEMENTELEVES!$C$4:$D$37,2,FALSE),0,U217)","v":{"$error":"#N/A"}}]
[null,null,null,null,null,null,null,null,null,null,null,null,null,null,null,null,null,null,null,null,null,null,null,null,"0_",0,0,0,0,"D",{"$f":"IF(Z454<>0,COUNTIF($Z$14:Z454,Z454),\"\")","v":""},{"$f":"IFERROR(VLOOKUP(U218,DEBUT!$D$5:$F$122,3,FALSE),0)","v":0},{"$f":"IF(VLOOKUP(F218,CLASSEMENTELEVES!$C$4:$D$37,2,FALSE)<VLOOKUP(K218,CLASSEMENTELEVES!$C$4:$D$37,2,FALSE),0,U218)","v":{"$error":"#N/A"}}]
[null,null,null,null,null,null,null,null,null,null,null,null,null,null,null,null,null,null,null,null,null,null,null,null,"0_",0,0,0,0,"D",{"$f":"IF(Z455<>0,COUNTIF($Z$14:Z455,Z455),\"\")","v":""},{"$f":"IFERROR(VLOOKUP(U219,DEBUT!$D$5:$F$122,3,FALSE),0)","v":0},{"$f":"IF(VLOOKUP(F219,CLASSEMENTELEVES!$C$4:$D$37,2,FALSE)<VLOOKUP(K219,CLASSEMENTELEVES!$C$4:$D$37,2,FALSE),0,U219)","v":{"$error":"#N/A"}}]
[null,null,null,null,null,null,null,null,null,null,null,null,null,null,null,null,null,null,null,null,null,null,null,null,"0_",0,0,0,0,"D",{"$f":"IF(Z456<>0,COUNTIF($Z$14:Z456,Z456),\"\")","v":""},{"$f":"IFERROR(VLOOKUP(U220,DEBUT!$D$5:$F$122,3,FALSE),0)","v":0},{"$f":"IF(VLOOKUP(F220,CLASSEMENTELEVES!$C$4:$D$37,2,FALSE)<VLOOKUP(K220,CLASSEMENTELEVES!$C$4:$D$37,2,FALSE),0,U220)","v":{"$error":"#N/A"}}]
[null,null,null,null,null,null,null,null,null,null,null,null,null,null,null,null,null,null,null,null,null,null,null,null,"0_",0,0,0,0,"D",{"$f":"IF(Z457<>0,COUNTIF($Z$14:Z457,Z457),\"\")","v":""},{"$f":"IFERROR(VLOOKUP(U221,DEBUT!$D$5:$F$122,3,FALSE),0)","v":0},{"$f":"IF(VLOOKUP(F221,CLASSEMENTELEVES!$C$4:$D$37,2,FALSE)<VLOOKUP(K221,CLASSEMENTELEVES!$C$4:$D$37,2,FALSE),0,U221)","v":{"$error":"#N/A"}}]
[null,null,null,null,null,null,null,null,null,null,null,null,null,null,null,null,null,null,null,null,null,null,null,null,"0_",0,0,0,0,"D",{"$f":"IF(Z458<>0,COUNTIF($Z$14:Z458,Z458),\"\")","v":""},{"$f":"IFERROR(VLOOKUP(U222,DEBUT!$D$5:$F$122,3,FALSE),0)","v":0},{"$f":"IF(VLOOKUP(F222,CLASSEMENTELEVES!$C$4:$D$37,2,FALSE)<VLOOKUP(K222,CLASSEMENTELEVES!$C$4:$D$37,2,FALSE),0,U222)","v":{"$error":"#N/A"}}]
[null,null,null,null,null,null,null,null,null,null,null,null,null,null,null,null,null,null,null,null,null,null,null,null,"0_",0,0,0,0,"D",{"$f":"IF(Z459<>0,COUNTIF($Z$14:Z459,Z459),\"\")","v":""},{"$f":"IFERROR(VLOOKUP(U223,DEBUT!$D$5:$F$122,3,FALSE),0)","v":0},{"$f":"IF(VLOOKUP(F223,CLASSEMENTELEVES!$C$4:$D$37,2,FALSE)<VLOOKUP(K223,CLASSEMENTELEVES!$C$4:$D$37,2,FALSE),0,U223)","v":{"$error":"#N/A"}}]
[null,null,null,null,null,null,null,null,null,null,null,null,null,null,null,null,null,null,null,null,null,null,null,null,"0_",0,0,0,0,"D",{"$f":"IF(Z460<>0,COUNTIF($Z$14:Z460,Z460),\"\")","v":""},{"$f":"IFERROR(VLOOKUP(U224,DEBUT!$D$5:$F$122,3,FALSE),0)","v":0},{"$f":"IF(VLOOKUP(F224,CLASSEMENTELEVES!$C$4:$D$37,2,FALSE)<VLOOKUP(K224,CLASSEMENTELEVES!$C$4:$D$37,2,FALSE),0,U224)","v":{"$error":"#N/A"}}]
[null,null,null,null,null,null,null,null,null,null,null,null,null,null,null,null,null,null,null,null,null,null,null,null,"0_",0,0,0,0,"D",{"$f":"IF(Z461<>0,COUNTIF($Z$14:Z461,Z461),\"\")","v":""},{"$f":"IFERROR(VLOOKUP(U225,DEBUT!$D$5:$F$122,3,FALSE),0)","v":0},{"$f":"IF(VLOOKUP(F225,CLASSEMENTELEVES!$C$4:$D$37,2,FALSE)<VLOOKUP(K225,CLASSEMENTELEVES!$C$4:$D$37,2,FALSE),0,U225)","v":{"$error":"#N/A"}}]
[null,null,null,null,null,null,null,null,null,null,null,null,null,null,null,null,null,null,null,null,null,null,null,null,{"$f":"Z462&\"_\"&AE462","v":"0_"},0,0,0,0,"D",{"$f":"IF(Z462<>0,COUNTIF($Z$14:Z462,Z462),\"\")","v":""},{"$f":"IFERROR(VLOOKUP(U226,DEBUT!$D$5:$F$122,3,FALSE),0)","v":0},{"$f":"IF(VLOOKUP(F226,CLASSEMENTELEVES!$C$4:$D$37,2,FALSE)<VLOOKUP(K226,CLASSEMENTELEVES!$C$4:$D$37,2,FALSE),0,U226)","v":{"$error":"#N/A"}}]
[null,null,null,null,null,null,null,null,null,null,null,null,null,null,null,null,null,null,null,null,null,null,null,null,"0_",0,0,0,0,"D",{"$f":"IF(Z463<>0,COUNTIF($Z$14:Z463,Z463),\"\")","v":""},{"$f":"IFERROR(VLOOKUP(U227,DEBUT!$D$5:$F$122,3,FALSE),0)","v":0},{"$f":"IF(VLOOKUP(F227,CLASSEMENTELEVES!$C$4:$D$37,2,FALSE)<VLOOKUP(K227,CLASSEMENTELEVES!$C$4:$D$37,2,FALSE),0,U227)","v":{"$error":"#N/A"}}]
[null,null,null,null,null,null,null,null,null,null,null,null,null,null,null,null,null,null,null,null,null,null,null,null,"0_",0,0,0,0,"D",{"$f":"IF(Z464<>0,COUNTIF($Z$14:Z464,Z464),\"\")","v":""},{"$f":"IFERROR(VLOOKUP(U228,DEBUT!$D$5:$F$122,3,FALSE),0)","v":0},{"$f":"IF(VLOOKUP(F228,CLASSEMENTELEVES!$C$4:$D$37,2,FALSE)<VLOOKUP(K228,CLASSEMENTELEVES!$C$4:$D$37,2,FALSE),0,U228)","v":{"$error":"#N/A"}}]
[null,null,null,null,null,null,null,null,null,null,null,null,null,null,null,null,null,null,null,null,null,null,null,null,"0_",0,0,0,0,"D",{"$f":"IF(Z465<>0,COUNTIF($Z$14:Z465,Z465),\"\")","v":""},{"$f":"IFERROR(VLOOKUP(U229,DEBUT!$D$5:$F$122,3,FALSE),0)","v":0},{"$f":"IF(VLOOKUP(F229,CLASSEMENTELEVES!$C$4:$D$37,2,FALSE)<VLOOKUP(K229,CLASSEMENTELEVES!$C$4:$D$37,2,FALSE),0,U229)","v":{"$error":"#N/A"}}]
[null,null,null,null,null,null,null,null,null,null,null,null,null,null,null,null,null,null,null,null,null,null,null,null,"0_",0,0,0,0,"D",{"$f":"IF(Z466<>0,COUNTIF($Z$14:Z466,Z466),\"\")","v":""},{"$f":"IFERROR(VLOOKUP(U230,DEBUT!$D$5:$F$122,3,FALSE),0)","v":0},{"$f":"IF(VLOOKUP(F230,CLASSEMENTELEVES!$C$4:$D$37,2,FALSE)<VLOOKUP(K230,CLASSEMENTELEVES!$C$4:$D$37,2,FALSE),0,U230)","v":{"$error":"#N/A"}}]
[null,null,null,null,null,null,null,null,null,null,null,null,null,null,null,null,null,null,null,null,null,null,null,null,"0_",0,0,0,0,"D",{"$f":"IF(Z467<>0,COUNTIF($Z$14:Z467,Z467),\"\")","v":""},{"$f":"IFERROR(VLOOKUP(U231,DEBUT!$D$5:$F$122,3,FALSE),0)","v":0},{"$f":"IF(VLOOKUP(F231,CLASSEMENTELEVES!$C$4:$D$37,2,FALSE)<VLOOKUP(K231,CLASSEMENTELEVES!$C$4:$D$37,2,FALSE),0,U231)","v":{"$error":"#N/A"}}]
[null,null,null,null,null,null,null,null,null,null,null,null,null,null,null,null,null,null,null,null,null,null,null,null,"0_",0,0,0,0,"D",{"$f":"IF(Z468<>0,COUNTIF($Z$14:Z468,Z468),\"\")","v":""},{"$f":"IFERROR(VLOOKUP(U232,DEBUT!$D$5:$F$122,3,FALSE),0)","v":0},{"$f":"IF(VLOOKUP(F232,CLASSEMENTELEVES!$C$4:$D$37,2,FALSE)<VLOOKUP(K232,CLASSEMENTELEVES!$C$4:$D$37,2,FALSE),0,U232)","v":{"$error":"#N/A"}}]
[null,null,null,null,null,null,null,null,null,null,null,null,null,null,null,null,null,null,null,null,null,null,null,null,"0_",0,0,0,0,"D",{"$f":"IF(Z469<>0,COUNTIF($Z$14:Z469,Z469),\"\")","v":""},{"$f":"IFERROR(VLOOKUP(U233,DEBUT!$D$5:$F$122,3,FALSE),0)","v":0},{"$f":"IF(VLOOKUP(F233,CLASSEMENTELEVES!$C$4:$D$37,2,FALSE)<VLOOKUP(K233,CLASSEMENTELEVES!$C$4:$D$37,2,FALSE),0,U233)","v":{"$error":"#N/A"}}]
[null,null,null,null,null,null,null,null,null,null,null,null,null,null,null,null,null,null,null,null,null,null,null,null,"0_",0,0,0,0,"D",{"$f":"IF(Z470<>0,COUNTIF($Z$14:Z470,Z470),\"\")","v":""},{"$f":"IFERROR(VLOOKUP(U234,DEBUT!$D$5:$F$122,3,FALSE),0)","v":0},{"$f":"IF(VLOOKUP(F234,CLASSEMENTELEVES!$C$4:$D$37,2,FALSE)<VLOOKUP(K234,CLASSEMENTELEVES!$C$4:$D$37,2,FALSE),0,U234)","v":{"$error":"#N/A"}}]
[null,null,null,null,null,null,null,null,null,null,null,null,null,null,null,null,null,null,null,null,null,null,null,null,"0_",0,0,0,0,"D",{"$f":"IF(Z471<>0,COUNTIF($Z$14:Z471,Z471),\"\")","v":""},{"$f":"IFERROR(VLOOKUP(U235,DEBUT!$D$5:$F$122,3,FALSE),0)","v":0},{"$f":"IF(VLOOKUP(F235,CLASSEMENTELEVES!$C$4:$D$37,2,FALSE)<VLOOKUP(K235,CLASSEMENTELEVES!$C$4:$D$37,2,FALSE),0,U235)","v":{"$error":"#N/A"}}]
[null,null,null,null,null,null,null,null,null,null,null,null,null,null,null,null,null,null,null,null,null,null,null,null,"0_",0,0,0,0,"D",{"$f":"IF(Z472<>0,COUNTIF($Z$14:Z472,Z472),\"\")","v":""},{"$f":"IFERROR(VLOOKUP(U236,DEBUT!$D$5:$F$122,3,FALSE),0)","v":0},{"$f":"IF(VLOOKUP(F236,CLASSEMENTELEVES!$C$4:$D$37,2,FALSE)<VLOOKUP(K236,CLASSEMENTELEVES!$C$4:$D$37,2,FALSE),0,U236)","v":{"$error":"#N/A"}}]
[null,null,null,null,null,null,null,null,null,null,null,null,null,null,null,null,null,null,null,null,null,null,null,null,"0_",0,0,0,0,"D",{"$f":"IF(Z473<>0,COUNTIF($Z$14:Z473,Z473),\"\")","v":""},{"$f":"IFERROR(VLOOKUP(U237,DEBUT!$D$5:$F$122,3,FALSE),0)","v":0},{"$f":"IF(VLOOKUP(F237,CLASSEMENTELEVES!$C$4:$D$37,2,FALSE)<VLOOKUP(K237,CLASSEMENTELEVES!$C$4:$D$37,2,FALSE),0,U237)","v":{"$error":"#N/A"}}]
[null,null,null,null,null,null,null,null,null,null,null,null,null,null,null,null,null,null,null,null,null,null,null,null,"0_",0,0,0,0,"D",{"$f":"IF(Z474<>0,COUNTIF($Z$14:Z474,Z474),\"\")","v":""},{"$f":"IFERROR(VLOOKUP(U238,DEBUT!$D$5:$F$122,3,FALSE),0)","v":0},{"$f":"IF(VLOOKUP(F238,CLASSEMENTELEVES!$C$4:$D$37,2,FALSE)<VLOOKUP(K238,CLASSEMENTELEVES!$C$4:$D$37,2,FALSE),0,U238)","v":{"$error":"#N/A"}}]
[null,null,null,null,null,null,null,null,null,null,null,null,null,null,null,null,null,null,null,null,null,null,null,null,"0_",0,0,0,0,"D",{"$f":"IF(Z475<>0,COUNTIF($Z$14:Z475,Z475),\"\")","v":""},{"$f":"IFERROR(VLOOKUP(U239,DEBUT!$D$5:$F$122,3,FALSE),0)","v":0},{"$f":"IF(VLOOKUP(F239,CLASSEMENTELEVES!$C$4:$D$37,2,FALSE)<VLOOKUP(K239,CLASSEMENTELEVES!$C$4:$D$37,2,FALSE),0,U239)","v":{"$error":"#N/A"}}]
[null,null,null,null,null,null,null,null,null,null,null,null,null,null,null,null,null,null,null,null,null,null,null,null,"0_",0,0,0,0,"D",{"$f":"IF(Z476<>0,COUNTIF($Z$14:Z476,Z476),\"\")","v":""},{"$f":"IFERROR(VLOOKUP(U240,DEBUT!$D$5:$F$122,3,FALSE),0)","v":0},{"$f":"IF(VLOOKUP(F240,CLASSEMENTELEVES!$C$4:$D$37,2,FALSE)<VLOOKUP(K240,CLASSEMENTELEVES!$C$4:$D$37,2,FALSE),0,U240)","v":{"$error":"#N/A"}}]
[null,null,null,null,null,null,null,null,null,null,null,null,null,null,null,null,null,null,null,null,null,null,null,null,"0_",0,0,0,0,"D",{"$f":"IF(Z477<>0,COUNTIF($Z$14:Z477,Z477),\"\")","v":""},{"$f":"IFERROR(VLOOKUP(U241,DEBUT!$D$5:$F$122,3,FALSE),0)","v":0},{"$f":"IF(VLOOKUP(F241,CLASSEMENTELEVES!$C$4:$D$37,2,FALSE)<VLOOKUP(K241,CLASSEMENTELEVES!$C$4:$D$37,2,FALSE),0,U241)","v":{"$error":"#N/A"}}]
[null,null,null,null,null,null,null,null,null,null,null,null,null,null,null,null,null,null,null,null,null,null,null,null,"0_",0,0,0,0,"D",{"$f":"IF(Z478<>0,COUNTIF($Z$14:Z478,Z478),\"\")","v":""},{"$f":"IFERROR(VLOOKUP(U242,DEBUT!$D$5:$F$122,3,FALSE),0)","v":0},{"$f":"IF(VLOOKUP(F242,CLASSEMENTELEVES!$C$4:$D$37,2,FALSE)<VLOOKUP(K242,CLASSEMENTELEVES!$C$4:$D$37,2,FALSE),0,U242)","v":{"$error":"#N/A"}}]
[null,null,null,null,null,null,null,null,null,null,null,null,null,null,null,null,null,null,null,null,null,null,null,null,"0_",0,0,0,0,"D",{"$f":"IF(Z479<>0,COUNTIF($Z$14:Z479,Z479),\"\")","v":""},{"$f":"IFERROR(VLOOKUP(U243,DEBUT!$D$5:$F$122,3,FALSE),0)","v":0},{"$f":"IF(VLOOKUP(F243,CLASSEMENTELEVES!$C$4:$D$37,2,FALSE)<VLOOKUP(K243,CLASSEMENTELEVES!$C$4:$D$37,2,FALSE),0,U243)","v":{"$error":"#N/A"}}]
[null,null,null,null,null,null,null,null,null,null,null,null,null,null,null,null,null,null,null,null,null,null,null,null,"0_",0,0,0,0,"D",{"$f":"IF(Z480<>0,COUNTIF($Z$14:Z480,Z480),\"\")","v":""},{"$f":"IFERROR(VLOOKUP(U244,DEBUT!$D$5:$F$122,3,FALSE),0)","v":0},{"$f":"IF(VLOOKUP(F244,CLASSEMENTELEVES!$C$4:$D$37,2,FALSE)<VLOOKUP(K244,CLASSEMENTELEVES!$C$4:$D$37,2,FALSE),0,U244)","v":{"$error":"#N/A"}}]
[null,null,null,null,null,null,null,null,null,null,null,null,null,null,null,null,null,null,null,null,null,null,null,null,"0_",0,0,0,0,"D",{"$f":"IF(Z481<>0,COUNTIF($Z$14:Z481,Z481),\"\")","v":""},{"$f":"IFERROR(VLOOKUP(U245,DEBUT!$D$5:$F$122,3,FALSE),0)","v":0},{"$f":"IF(VLOOKUP(F245,CLASSEMENTELEVES!$C$4:$D$37,2,FALSE)<VLOOKUP(K245,CLASSEMENTELEVES!$C$4:$D$37,2,FALSE),0,U245)","v":{"$error":"#N/A"}}]
[null,null,null,null,null,null,null,null,null,null,null,null,null,null,null,null,null,null,null,null,null,null,null,null,"0_",0,0,0,0,"D",{"$f":"IF(Z482<>0,COUNTIF($Z$14:Z482,Z482),\"\")","v":""},{"$f":"IFERROR(VLOOKUP(U246,DEBUT!$D$5:$F$122,3,FALSE),0)","v":0},{"$f":"IF(VLOOKUP(F246,CLASSEMENTELEVES!$C$4:$D$37,2,FALSE)<VLOOKUP(K246,CLASSEMENTELEVES!$C$4:$D$37,2,FALSE),0,U246)","v":{"$error":"#N/A"}}]
[null,null,null,null,null,null,null,null,null,null,null,null,null,null,null,null,null,null,null,null,null,null,null,null,"0_",0,0,0,0,"D",{"$f":"IF(Z483<>0,COUNTIF($Z$14:Z483,Z483),\"\")","v":""},{"$f":"IFERROR(VLOOKUP(U247,DEBUT!$D$5:$F$122,3,FALSE),0)","v":0},{"$f":"IF(VLOOKUP(F247,CLASSEMENTELEVES!$C$4:$D$37,2,FALSE)<VLOOKUP(K247,CLASSEMENTELEVES!$C$4:$D$37,2,FALSE),0,U247)","v":{"$error":"#N/A"}}]
[null,null,null,null,null,null,null,null,null,null,null,null,null,null,null,null,null,null,null,null,null,null,null,null,"0_",0,0,0,0,"D",{"$f":"IF(Z484<>0,COUNTIF($Z$14:Z484,Z484),\"\")","v":""},{"$f":"IFERROR(VLOOKUP(U248,DEBUT!$D$5:$F$122,3,FALSE),0)","v":0},{"$f":"IF(VLOOKUP(F248,CLASSEMENTELEVES!$C$4:$D$37,2,FALSE)<VLOOKUP(K248,CLASSEMENTELEVES!$C$4:$D$37,2,FALSE),0,U248)","v":{"$error":"#N/A"}}]
[null,null,null,null,null,null,null,null,null,null,null,null,null,null,null,null,null,null,null,null,null,null,null,null,"0_",0,0,0,0,"D",{"$f":"IF(Z485<>0,COUNTIF($Z$14:Z485,Z485),\"\")","v":""},{"$f":"IFERROR(VLOOKUP(U249,DEBUT!$D$5:$F$122,3,FALSE),0)","v":0},{"$f":"IF(VLOOKUP(F249,CLASSEMENTELEVES!$C$4:$D$37,2,FALSE)<VLOOKUP(K249,CLASSEMENTELEVES!$C$4:$D$37,2,FALSE),0,U249)","v":{"$error":"#N/A"}}]

{"sheet":"CLASSEMENTELEVES","index":3,"n_rows":74,"n_cols":503,"rows_kept":74,"cut":false,"hidden":false,"merged":[[1,16,1,17],[1,18,1,19],[1,14,1,15],[1,4,1,5],[1,6,1,7],[1,8,1,9],[1,10,1,11],[1,12,1,13]]}
[]
[null,null,null,"DEFI","MATCHS JOUES",null,"VICTOIRES",null,"POINTS MARQUES",null,"POINTS ENCAISSES",null,"POINTS THEMES",null,"POINTS ATP",null,"CLASSEMENT GENERAL",null,"DEFIS",null,null,null,null,null,null,null,null,null,null,null,null,null,null,null,null,null,null,null,null,null,null,null,null,null,null,null,null,null,null,null,null,null,null,null,null,null,null,null,null,null,null,null,null,null,null,null,null,null,null,null,null,null,null,null,null,null,null,null,null,null,null,null,null,null,null,null,null,null,null,null,null,null,null,null,null,null,null,null,null,null,null,null,null,null,null,null,null,null,null,null,null,null,null,null,null,null,null,null,null,null,null,null,null,null,null,null,null,null,null,null,null,null,null,null,20,null,null,null,null,null,null,null,null,null,null,null,null,null,null,null,null,null,null,null,null,null,null,null,null,null,null,null,null,null,null,null,null,null,null,null,null,null,null,null,null,null,null,null,null,null,null,null,null,null,null,null,null,null,null,null,null,null,null,null,null,null,null,null,null,null,null,null,null,null,null,null,null,null,null,null,null,null,null,null,null,null,null,null,null,null,null,null,null,null,null,null,null,null,null,null,null,null,null,null,null,null,null,null,null,null,null,null,null,null,null,null,null,null,null,null,null,null,null,null,40,null,null,null,null,null,null,null,null,null,null,null,null,null,null,null,null,null,null,null,null,null,null,null,null,null,null,null,null,null,null,null,null,null,null,null,null,null,null,null,null,null,null,null,null,null,null,null,null,null,null,null,null,null,null,null,null,null,null,null,null,null,null,null,null,null,null,null,null,null,null,null,null,null,null,null,null,null,null,null,null,null,null,null,null,null,null,null,null,null,null,null,null,null,null,null,null,null,null,null,null,null,null,null,null,null,null,null,null,null,null,null,null,null,null,null,null,null,null,null,null,null,null,20,null,null,null,null,null,null,null,null,null,null,null,null,null,null,null,null,null,null,null,null,null,null,null,null,null,null,null,null,null,null,null,null,null,null,null,null,null,null,null,null,null,null,null,null,null,null,null,null,null,null,null,null,null,null,null,null,null,null,null,null,null,null,null,null,null,null,null,null,null,null,null,null,null,null,null,null,null,null,null,null,null,null,null,null,null,null,null,null,null,null,null,null,null,null,null,null,null,null,null,null,null,null,null,null,null,null,null,null,null,null,null,null,null,null,null,null,null,null,null,40]
["Colonne1"," ","CLASSE","CLASSEMENT1","Nombre de matchs joués","CLASSEMENT2","Nombre de victoires","CLASSEMENT3","Nombre de points marqués","CLASSEMENT4","Nombre de points encaissés","CLASSEMENT5","Nombre de points thèmes","CLASSEMENT6","Pts ATP","CLASSEMENT7","MOYENNE CLASSEMENTS","CLASSEMENT8","CLASSEMENT82","Colonne1","Elève","POINTS","PTS THEME","PTS ENCAISSES","PTS ATP","classement","Elève","POINTS","PTS THEME","PTS ENCAISSES","PTS ATP","classement","Elève","POINTS","PTS THEME","PTS ENCAISSES","PTS ATP","classement","Elève","POINTS","PTS THEME","PTS ENCAISSES","PTS ATP","classement","Elève","POINTS","PTS THEME","PTS ENCAISSES","PTS ATP","classement","Elève","POINTS","PTS THEME","PTS ENCAISSES","PTS ATP","classement","Elève","POINTS","PTS THEME","PTS ENCAISSES","PTS ATP","classement","Elève","POINTS","PTS THEME","PTS ENCAISSES","PTS ATP","classement","Elève","POINTS","PTS THEME","PTS ENCAISSES","PTS ATP","classement","Elève","POINTS","PTS THEME","PTS ENCAISSES","PTS ATP","classement","Elève","POINTS","PTS THEME","PTS ENCAISSES","PTS ATP","classement","Elève","POINTS","PTS THEME","PTS ENCAISSES","PTS ATP","classement","Elève","POINTS","PTS THEME","PTS ENCAISSES","PTS ATP","classement","Elève","POINTS","PTS THEME","PTS ENCAISSES","PTS ATP","classement","Elève","POINTS","PTS THEME","PTS ENCAISSES","PTS ATP","classement","Elève","POINTS","PTS THEME","PTS ENCAISSES","PTS ATP","classement","Elève","POINTS","PTS THEME","PTS ENCAISSES","PTS ATP","classement","Elève","POINTS","PTS THEME","PTS ENCAISSES","PTS ATP","classement","Elève","POINTS","PTS THEME","PTS ENCAISSES","PTS ATP","classement","Elève","POINTS","PTS THEME","PTS ENCAISSES","PTS ATP","classement","Elève","POINTS","PTS THEME","PTS ENCAISSES","PTS ATP","classement","Elève","POINTS","PTS THEME","PTS ENCAISSES","PTS ATP","classement","Elève","POINTS","PTS THEME","PTS ENCAISSES","PTS ATP","classement","Elève","POINTS","PTS THEME","PTS ENCAISSES","PTS ATP","classement","Elève","POINTS","PTS THEME","PTS ENCAISSES","PTS ATP","classement","Elève","POINTS","PTS THEME","PTS ENCAISSES","PTS ATP","classement","Elève","POINTS","PTS THEME","PTS ENCAISSES","PTS ATP","classement","Elève","POINTS","PTS THEME","PTS ENCAISSES","PTS ATP","classement","Elève","POINTS","PTS THEME","PTS ENCAISSES","PTS ATP","classement","Elève","POINTS","PTS THEME","PTS ENCAISSES","PTS ATP","classement","Elève","POINTS","PTS THEME","PTS ENCAISSES","PTS ATP","classement","Elève","POINTS","PTS THEME","PTS ENCAISSES","PTS ATP","classement","Elève","POINTS","PTS THEME","PTS ENCAISSES","PTS ATP","classement","Elève","POINTS","PTS THEME","PTS ENCAISSES","PTS ATP","classement","Elève","POINTS","PTS THEME","PTS ENCAISSES","PTS ATP","classement","Elève","POINTS","PTS THEME","PTS ENCAISSES","PTS ATP","classement","Elève","POINTS","PTS THEME","PTS ENCAISSES","PTS ATP","classement","Elève","POINTS","PTS THEME","PTS ENCAISSES","PTS ATP","classement","Elève","POINTS","PTS THEME","PTS ENCAISSES","PTS ATP","classement","Elève","POINTS","PTS THEME","PTS ENCAISSES","PTS ATP","classement",null,"classement actualisé","classement initial","Elève","POINTS","PTS THEME","PTS ENCAISSES","PTS ATP","classement","Elève","POINTS","PTS THEME","PTS ENCAISSES","PTS ATP","classement","Elève","POINTS","PTS THEME","PTS ENCAISSES","PTS ATP","classement","Elève","POINTS","PTS THEME","PTS ENCAISSES","PTS ATP","classement","Elève","POINTS","PTS THEME","PTS ENCAISSES","PTS ATP","classement","Elève","POINTS","PTS THEME","PTS ENCAISSES","PTS ATP","classement","Elève","POINTS","PTS THEME","PTS ENCAISSES","PTS ATP","classement","Elève","POINTS","PTS THEME","PTS ENCAISSES","PTS ATP","classement","Elève","POINTS","PTS THEME","PTS ENCAISSES","PTS ATP","classement","Elève","POINTS","PTS THEME","PTS ENCAISSES","PTS ATP","classement","Elève","POINTS","PTS THEME","PTS ENCAISSES","PTS ATP","classement","Elève","POINTS","PTS THEME","PTS ENCAISSES","PTS ATP","classement","Elève","POINTS","PTS THEME","PTS ENCAISSES","PTS ATP","classement","Elève","POINTS","PTS THEME","PTS ENCAISSES","PTS ATP","classement","Elève","POINTS","PTS THEME","PTS ENCAISSES","PTS ATP","classement","Elève","POINTS","PTS THEME","PTS ENCAISSES","PTS ATP","classement","Elève","POINTS","PTS THEME","PTS ENCAISSES","PTS ATP","classement","Elève","POINTS","PTS THEME","PTS ENCAISSES","PTS ATP","classement","Elève","POINTS","PTS THEME","PTS ENCAISSES","PTS ATP","classement","Elève","POINTS","PTS THEME","PTS ENCAISSES","PTS ATP","classement","Elève","POINTS","PTS THEME","PTS ENCAISSES","PTS ATP","classement","Elève","POINTS","PTS THEME","PTS ENCAISSES","PTS ATP","classement","Elève","POINTS","PTS THEME","PTS ENCAISSES","PTS ATP","classement","Elève","POINTS","PTS THEME","PTS ENCAISSES","PTS ATP","classement","Elève","POINTS","PTS THEME","PTS ENCAISSES","PTS ATP","classement","Elève","POINTS","PTS THEME","PTS ENCAISSES","PTS ATP","classement","Elève","POINTS","PTS THEME","PTS ENCAISSES","PTS ATP","classement","Elève","POINTS","PTS THEME","PTS ENCAISSES","PTS ATP","classement","Elève","POINTS","PTS THEME","PTS ENCAISSES","PTS ATP","classement","Elève","POINTS","PTS THEME","PTS ENCAISSES","PTS ATP","classement","Elève","POINTS","PTS THEME","PTS ENCAISSES","PTS ATP","classement","Elève","POINTS","PTS THEME","PTS ENCAISSES","PTS ATP","classement","Elève","POINTS","PTS THEME","PTS ENCAISSES","PTS ATP","classement","Elève","POINTS","PTS THEME","PTS ENCAISSES","PTS ATP","classement","Elève","POINTS","PTS THEME","PTS ENCAISSES","PTS ATP","classement","Elève","POINTS","PTS THEME","PTS ENCAISSES","PTS ATP","classement","Elève","POINTS","PTS THEME","PTS ENCAISSES","PTS ATP","classement","Elève","POINTS","PTS THEME","PTS ENCAISSES","PTS ATP","classement","Elève","POINTS","PTS THEME","PTS ENCAISSES","PTS ATP","classement","Elève","POINTS","PTS THEME","PTS ENCAISSES","PTS ATP","classement"]
[1,null,{"$f":"MD1POINT!C4","v":"Achraf"},{"$f":"MD1POINT!D4","v":1},{"$f":"COUNTIF(MATCHSELEVES!$Z$14:$Z$600,C4)+COUNTIF(MATCHSELEVES!$Z$14:$Z$600,$C4&\"p\")","v":0},{"$f":"RANK(E4,$E$4:$E$37)","v":1},{"$f":"COUNTIF(MATCHSELEVES!$F$14:$H$249,C4)","v":0},{"$f":"RANK(G4,$G$4:$G$37)","v":1},{"$f":"V4+AB4+AH4+AN4+AT4+AZ4+BF4+BL4+BX4+CD4+CJ4+CP4+CV4+DB4+DH4+DN4+DT4+DZ4+EF4+EL4+ER4+EX4+FD4+FJ4+FP4+FV4+GB4+GH4+GN4+GT4+GZ4+HF4+HL4+HR4+HX4+ID4+IJ4+IV4+JE4+JK4+JQ4+JW4+KC4+KI4+KO4+KU4+LA4+LG4+LM4+LS4+LY4+ME4+MK4+MQ4+MW4+NC4+NI4+NO4+OA4+OG4+OM4+OS4+OY4+PE4+PK4+PQ4+PW4+QC4+QI4+QO4+QU4+RG4+RA4+RM4+RS4+RY4+SE4+BR4+IP4+NU4","v":0},{"$f":"RANK(I4,$I$4:$I$37)","v":1},{"$f":"X4+AJ4+AP4+BB4+BH4+BN4+BT4+BZ4+CF4+CL4+CR4+CX4+DD4+DJ4+DP4+DV4+EH4+EN4+EZ4+FF4+FL4+FR4+FX4+GD4+GJ4+GP4+GV4+HH4+HN4+HZ4+IF4+IL4+IR4+IX4+JG4+JM4+JS4+JY4+KE4+KQ4+KW4+LC4+LI4+LO4+LU4+MA4+MG4+MM4+MS4+MY4+NE4+NK4+NQ4+NW4+OC4+OI4+OO4+OU4+PA4+PM4+PG4+PS4+PY4+QE4+QK4+QQ4+QW4+RC4+RI4+RO4+RU4+SA4+SG4+AV4+EB4+ET4+HB4+HT4+KK4+AD4","v":0},{"$f":"RANK(K40,$K$40:$K$74,1)","v":1},{"$f":"W4+AC4+AO4+AU4+BA4+BG4+BM4+BS4+BY4+CE4+CK4+CQ4+CW4+DC4+DI4+DO4+DU4+EA4+EM4+ES4+EY4+FE4+FK4+FQ4+FW4+GI4+GO4+GU4+HA4+HG4+HM4+HS4+HY4+IE4+IK4+IQ4+IW4+JF4+JL4+JR4+JX4+KD4+KJ4+KP4+KV4+LB4+LH4+LN4+LT4+LZ4+MF4+ML4+MR4+MX4+ND4+NJ4+NP4+NV4+OB4+OH4+ON4+OZ4+PF4+OT4+PR4+PL4+PX4+QD4+QJ4+QP4+QV4+RB4+RN4+RT4+RZ4+SF4+AI4+EG4+GC4+RH4","v":0},{"$f":"RANK(M4,$M$4:$M$37)","v":1},{"$f":"Y4+AE4+AK4+AQ4+AW4+BC4+BI4+BO4+BU4+CA4+CG4+CM4+CS4+CY4+DE4+DK4+DQ4+DW4+EC4+EI4+EO4+EU4+FA4+FG4+FM4+FS4+FY4+GE4+GK4+GQ4+GW4+4+HI4+HO4+HU4+IA4+HC4+IG4+IM4+IY4+IS4+JH4+JN4+JZ4+JT4+KF4+KR4+KX4+LJ4+LP4+LV4+LD4+MB4+MH4+MN4+MZ4+MT4+NF4+NL4+NR4+NX4+OD4+OJ4+OP4+OV4+PB4+PH4+PT4+PN4+PZ4+QF4+QL4+QR4+RD4+QX4+RJ4+RP4+RV4+SB4+SH4+KL4+Tableau10[[#This Row],[Nombre de matchs joués]]*2","v":4},{"$f":"RANK(O4,$O$4:$O$37)","v":1},{"$f":"(Tableau10[[#This Row],[CLASSEMENT1]]+Tableau10[[#This Row],[CLASSEMENT2]]+Tableau10[[#This Row],[CLASSEMENT3]]+Tableau10[[#This Row],[CLASSEMENT4]]+Tableau10[[#This Row],[CLASSEMENT5]]+Tableau10[[#This Row],[CLASSEMENT6]])/6","v":1},{"$f":"RANK(Tableau10[[#This Row],[MOYENNE CLASSEMENTS]],Tableau10[MOYENNE CLASSEMENTS],1)","v":1},null,{"$f":"Tableau10[[#This Row],[CLASSEMENT1]]","v":1},{"$f":"$C4&\"_1\"","v":"Achraf_1"},{"$f":"IFERROR(VLOOKUP(U4,MATCHSELEVES!$Y$14:$AE$600,3,FALSE),0)","v":0},{"$f":"IFERROR(VLOOKUP(U4,MATCHSELEVES!$Y$14:$AE$600,4,FALSE),0)","v":0},{"$f":"IFERROR(VLOOKUP(U4,MATCHSELEVES!$Y$14:$AE$600,5,FALSE),0)","v":0},{"$f":"IFERROR(VLOOKUP(U4,MATCHSELEVES!$Y$14:$AF$600,8,FALSE),0)","v":0},{"$f":"IFERROR(VLOOKUP(U4,MATCHSELEVES!$Y$14:$AG$600,9,FALSE),0)","v":0},{"$f":"$C4&\"_2\"","v":"Achraf_2"},{"$f":"IFERROR(VLOOKUP(AA4,MATCHSELEVES!$Y$14:$AE$600,3,FALSE),0)","v":0},{"$f":"IFERROR(VLOOKUP(AA4,MATCHSELEVES!$Y$14:$AE$600,4,FALSE),0)","v":0},{"$f":"IFERROR(VLOOKUP(AA4,MATCHSELEVES!$Y$14:$AE$600,5,FALSE),0)","v":0},{"$f":"IFERROR(VLOOKUP(AA4,MATCHSELEVES!$Y$14:$AF$600,8,FALSE),0)","v":0},{"$f":"IFERROR(VLOOKUP(AA4,MATCHSELEVES!$Y$14:$AG$600,9,FALSE),0)","v":0},{"$f":"$C4&\"_3\"","v":"Achraf_3"},{"$f":"IFERROR(VLOOKUP(AG4,MATCHSELEVES!$Y$14:$AE$600,3,FALSE),0)","v":0},{"$f":"IFERROR(VLOOKUP(AG4,MATCHSELEVES!$Y$14:$AE$600,4,FALSE),0)","v":0},{"$f":"IFERROR(VLOOKUP(AG4,MATCHSELEVES!$Y$14:$AE$600,5,FALSE),0)","v":0},{"$f":"IFERROR(VLOOKUP(AG4,MATCHSELEVES!$Y$14:$AF$600,8,FALSE),0)","v":0},{"$f":"IFERROR(VLOOKUP(AG4,MATCHSELEVES!$Y$14:$AG$600,9,FALSE),0)","v":0},{"$f":"$C4&\"_4\"","v":"Achraf_4"},{"$f":"IFERROR(VLOOKUP(AM4,MATCHSELEVES!$Y$14:$AE$600,3,FALSE),0)","v":0},{"$f":"IFERROR(VLOOKUP(AM4,MATCHSELEVES!$Y$14:$AE$600,4,FALSE),0)","v":0},{"$f":"IFERROR(VLOOKUP(AM4,MATCHSELEVES!$Y$14:$AE$600,5,FALSE),0)","v":0},{"$f":"IFERROR(VLOOKUP(AM4,MATCHSELEVES!$Y$14:$AF$600,8,FALSE),0)","v":0},{"$f":"IFERROR(VLOOKUP(AM4,MATCHSELEVES!$Y$14:$AG$600,9,FALSE),0)","v":0},{"$f":"$C4&\"_5\"","v":"Achraf_5"},{"$f":"IFERROR(VLOOKUP(AS4,MATCHSELEVES!$Y$14:$AE$600,3,FALSE),0)","v":0},{"$f":"IFERROR(VLOOKUP(AS4,MATCHSELEVES!$Y$14:$AE$600,4,FALSE),0)","v":0},{"$f":"IFERROR(VLOOKUP(AS4,MATCHSELEVES!$Y$14:$AE$600,5,FALSE),0)","v":0},{"$f":"IFERROR(VLOOKUP(AS4,MATCHSELEVES!$Y$14:$AF$600,8,FALSE),0)","v":0},{"$f":"IFERROR(VLOOKUP(AS4,MATCHSELEVES!$Y$14:$AG$600,9,FALSE),0)","v":0},{"$f":"$C4&\"_6\"","v":"Achraf_6"},{"$f":"IFERROR(VLOOKUP(AY4,MATCHSELEVES!$Y$14:$AE$600,3,FALSE),0)","v":0},{"$f":"IFERROR(VLOOKUP(AY4,MATCHSELEVES!$Y$14:$AE$600,4,FALSE),0)","v":0},{"$f":"IFERROR(VLOOKUP(AY4,MATCHSELEVES!$Y$14:$AE$600,5,FALSE),0)","v":0},{"$f":"IFERROR(VLOOKUP(AY4,MATCHSELEVES!$Y$14:$AF$600,8,FALSE),0)","v":0},{"$f":"IFERROR(VLOOKUP(AY4,MATCHSELEVES!$Y$14:$AG$600,9,FALSE),0)","v":0},{"$f":"$C4&\"_7\"","v":"Achraf_7"},{"$f":"IFERROR(VLOOKUP(BE4,MATCHSELEVES!$Y$14:$AE$600,3,FALSE),0)","v":0},{"$f":"IFERROR(VLOOKUP(BE4,MATCHSELEVES!$Y$14:$AE$600,4,FALSE),0)","v":0},{"$f":"IFERROR(VLOOKUP(BE4,MATCHSELEVES!$Y$14:$AE$600,5,FALSE),0)","v":0},{"$f":"IFERROR(VLOOKUP(BE4,MATCHSELEVES!$Y$14:$AF$600,8,FALSE),0)","v":0},{"$f":"IFERROR(VLOOKUP(BE4,MATCHSELEVES!$Y$14:$AG$600,9,FALSE),0)","v":0},{"$f":"$C4&\"_8\"","v":"Achraf_8"},{"$f":"IFERROR(VLOOKUP(BK4,MATCHSELEVES!$Y$14:$AE$600,3,FALSE),0)","v":0},{"$f":"IFERROR(VLOOKUP(BK4,MATCHSELEVES!$Y$14:$AE$600,4,FALSE),0)","v":0},{"$f":"IFERROR(VLOOKUP(BK4,MATCHSELEVES!$Y$14:$AE$600,5,FALSE),0)","v":0},{"$f":"IFERROR(VLOOKUP(BK4,MATCHSELEVES!$Y$14:$AF$600,8,FALSE),0)","v":0},{"$f":"IFERROR(VLOOKUP(BK4,MATCHSELEVES!$Y$14:$AG$600,9,FALSE),0)","v":0},{"$f":"$C4&\"_9\"","v":"Achraf_9"},{"$f":"IFERROR(VLOOKUP(BQ4,MATCHSELEVES!$Y$14:$AE$600,3,FALSE),0)","v":0},{"$f":"IFERROR(VLOOKUP(BQ4,MATCHSELEVES!$Y$14:$AE$600,4,FALSE),0)","v":0},{"$f":"IFERROR(VLOOKUP(BQ4,MATCHSELEVES!$Y$14:$AE$600,5,FALSE),0)","v":0},{"$f":"IFERROR(VLOOKUP(BQ4,MATCHSELEVES!$Y$14:$AF$600,8,FALSE),0)","v":0},{"$f":"IFERROR(VLOOKUP(BQ4,MATCHSELEVES!$Y$14:$AG$600,9,FALSE),0)","v":0},{"$f":"$C4&\"_10\"","v":"Achraf_10"},{"$f":"IFERROR(VLOOKUP(BW4,MATCHSELEVES!$Y$14:$AE$600,3,FALSE),0)","v":0},{"$f":"IFERROR(VLOOKUP(BW4,MATCHSELEVES!$Y$14:$AE$600,4,FALSE),0)","v":0},{"$f":"IFERROR(VLOOKUP(BW4,MATCHSELEVES!$Y$14:$AE$600,5,FALSE),0)","v":0},{"$f":"IFERROR(VLOOKUP(BW4,MATCHSELEVES!$Y$14:$AF$600,8,FALSE),0)","v":0},{"$f":"IFERROR(VLOOKUP(BW4,MATCHSELEVES!$Y$14:$AG$600,9,FALSE),0)","v":0},{"$f":"$C4&\"_11\"","v":"Achraf_11"},{"$f":"IFERROR(VLOOKUP(CC4,MATCHSELEVES!$Y$14:$AE$600,3,FALSE),0)","v":0},{"$f":"IFERROR(VLOOKUP(CC4,MATCHSELEVES!$Y$14:$AE$600,4,FALSE),0)","v":0},{"$f":"IFERROR(VLOOKUP(CC4,MATCHSELEVES!$Y$14:$AE$600,5,FALSE),0)","v":0},{"$f":"IFERROR(VLOOKUP(CC4,MATCHSELEVES!$Y$14:$AF$600,8,FALSE),0)","v":0},{"$f":"IFERROR(VLOOKUP(CC4,MATCHSELEVES!$Y$14:$AG$600,9,FALSE),0)","v":0},{"$f":"$C4&\"_12\"","v":"Achraf_12"},{"$f":"IFERROR(VLOOKUP(CI4,MATCHSELEVES!$Y$14:$AE$600,3,FALSE),0)","v":0},{"$f":"IFERROR(VLOOKUP(CI4,MATCHSELEVES!$Y$14:$AE$600,4,FALSE),0)","v":0},{"$f":"IFERROR(VLOOKUP(CI4,MATCHSELEVES!$Y$14:$AE$600,5,FALSE),0)","v":0},{"$f":"IFERROR(VLOOKUP(CI4,MATCHSELEVES!$Y$14:$AF$600,8,FALSE),0)","v":0},{"$f":"IFERROR(VLOOKUP(CI4,MATCHSELEVES!$Y$14:$AG$600,9,FALSE),0)","v":0},{"$f":"$C4&\"_13\"","v":"Achraf_13"},{"$f":"IFERROR(VLOOKUP(CO4,MATCHSELEVES!$Y$14:$AE$600,3,FALSE),0)","v":0},{"$f":"IFERROR(VLOOKUP(CO4,MATCHSELEVES!$Y$14:$AE$600,4,FALSE),0)","v":0},{"$f":"IFERROR(VLOOKUP(CO4,MATCHSELEVES!$Y$14:$AE$600,5,FALSE),0)","v":0},{"$f":"IFERROR(VLOOKUP(CO4,MATCHSELEVES!$Y$14:$AF$600,8,FALSE),0)","v":0},{"$f":"IFERROR(VLOOKUP(CO4,MATCHSELEVES!$Y$14:$AG$600,9,FALSE),0)","v":0},{"$f":"$C4&\"_14\"","v":"Achraf_14"},{"$f":"IFERROR(VLOOKUP(CU4,MATCHSELEVES!$Y$14:$AE$600,3,FALSE),0)","v":0},{"$f":"IFERROR(VLOOKUP(CU4,MATCHSELEVES!$Y$14:$AE$600,4,FALSE),0)","v":0},{"$f":"IFERROR(VLOOKUP(CU4,MATCHSELEVES!$Y$14:$AE$600,5,FALSE),0)","v":0},{"$f":"IFERROR(VLOOKUP(CU4,MATCHSELEVES!$Y$14:$AF$600,8,FALSE),0)","v":0},{"$f":"IFERROR(VLOOKUP(CU4,MATCHSELEVES!$Y$14:$AG$600,9,FALSE),0)","v":0},{"$f":"$C4&\"_15\"","v":"Achraf_15"},{"$f":"IFERROR(VLOOKUP(DA4,MATCHSELEVES!$Y$14:$AE$600,3,FALSE),0)","v":0},{"$f":"IFERROR(VLOOKUP(DA4,MATCHSELEVES!$Y$14:$AE$600,4,FALSE),0)","v":0},{"$f":"IFERROR(VLOOKUP(DA4,MATCHSELEVES!$Y$14:$AE$600,5,FALSE),0)","v":0},{"$f":"IFERROR(VLOOKUP(DA4,MATCHSELEVES!$Y$14:$AF$600,8,FALSE),0)","v":0},{"$f":"IFERROR(VLOOKUP(DA4,MATCHSELEVES!$Y$14:$AG$600,9,FALSE),0)","v":0},{"$f":"$C4&\"_16\"","v":"Achraf_16"},{"$f":"IFERROR(VLOOKUP(DG4,MATCHSELEVES!$Y$14:$AE$600,3,FALSE),0)","v":0},{"$f":"IFERROR(VLOOKUP(DG4,MATCHSELEVES!$Y$14:$AE$600,4,FALSE),0)","v":0},{"$f":"IFERROR(VLOOKUP(DG4,MATCHSELEVES!$Y$14:$AE$600,5,FALSE),0)","v":0},{"$f":"IFERROR(VLOOKUP(DG4,MATCHSELEVES!$Y$14:$AF$600,8,FALSE),0)","v":0},{"$f":"IFERROR(VLOOKUP(DG4,MATCHSELEVES!$Y$14:$AG$600,9,FALSE),0)","v":0},{"$f":"$C4&\"_17\"","v":"Achraf_17"},{"$f":"IFERROR(VLOOKUP(DM4,MATCHSELEVES!$Y$14:$AE$600,3,FALSE),0)","v":0},{"$f":"IFERROR(VLOOKUP(DM4,MATCHSELEVES!$Y$14:$AE$600,4,FALSE),0)","v":0},{"$f":"IFERROR(VLOOKUP(DM4,MATCHSELEVES!$Y$14:$AE$600,5,FALSE),0)","v":0},{"$f":"IFERROR(VLOOKUP(DM4,MATCHSELEVES!$Y$14:$AF$600,8,FALSE),0)","v":0},{"$f":"IFERROR(VLOOKUP(DM4,MATCHSELEVES!$Y$14:$AG$600,9,FALSE),0)","v":0},{"$f":"$C4&\"_18\"","v":"Achraf_18"},{"$f":"IFERROR(VLOOKUP(DS4,MATCHSELEVES!$Y$14:$AE$600,3,FALSE),0)","v":0},{"$f":"IFERROR(VLOOKUP(DS4,MATCHSELEVES!$Y$14:$AE$600,4,FALSE),0)","v":0},{"$f":"IFERROR(VLOOKUP(DS4,MATCHSELEVES!$Y$14:$AE$600,5,FALSE),0)","v":0},{"$f":"IFERROR(VLOOKUP(DS4,MATCHSELEVES!$Y$14:$AF$600,8,FALSE),0)","v":0},{"$f":"IFERROR(VLOOKUP(DS4,MATCHSELEVES!$Y$14:$AG$600,9,FALSE),0)","v":0},{"$f":"$C4&\"_19\"","v":"Achraf_19"},{"$f":"IFERROR(VLOOKUP(DY4,MATCHSELEVES!$Y$14:$AE$600,3,FALSE),0)","v":0},{"$f":"IFERROR(VLOOKUP(DY4,MATCHSELEVES!$Y$14:$AE$600,4,FALSE),0)","v":0},{"$f":"IFERROR(VLOOKUP(DY4,MATCHSELEVES!$Y$14:$AE$600,5,FALSE),0)","v":0},{"$f":"IFERROR(VLOOKUP(DY4,MATCHSELEVES!$Y$14:$AF$600,8,FALSE),0)","v":0},{"$f":"IFERROR(VLOOKUP(DY4,MATCHSELEVES!$Y$14:$AG$600,9,FALSE),0)","v":0},{"$f":"$C4&\"_20\"","v":"Achraf_20"},{"$f":"IFERROR(VLOOKUP(EE4,MATCHSELEVES!$Y$14:$AE$600,3,FALSE),0)","v":0},{"$f":"IFERROR(VLOOKUP(EE4,MATCHSELEVES!$Y$14:$AE$600,4,FALSE),0)","v":0},{"$f":"IFERROR(VLOOKUP(EE4,MATCHSELEVES!$Y$14:$AE$600,5,FALSE),0)","v":0},{"$f":"IFERROR(VLOOKUP(EE4,MATCHSELEVES!$Y$14:$AF$600,8,FALSE),0)","v":0},{"$f":"IFERROR(VLOOKUP(EE4,MATCHSELEVES!$Y$14:$AG$600,9,FALSE),0)","v":0},{"$f":"$C4&\"_21\"","v":"Achraf_21"},{"$f":"IFERROR(VLOOKUP(EK4,MATCHSELEVES!$Y$14:$AE$600,3,FALSE),0)","v":0},{"$f":"IFERROR(VLOOKUP(EK4,MATCHSELEVES!$Y$14:$AE$600,4,FALSE),0)","v":0},{"$f":"IFERROR(VLOOKUP(EK4,MATCHSELEVES!$Y$14:$AE$600,5,FALSE),0)","v":0},{"$f":"IFERROR(VLOOKUP(EK4,MATCHSELEVES!$Y$14:$AF$600,8,FALSE),0)","v":0},{"$f":"IFERROR(VLOOKUP(EK4,MATCHSELEVES!$Y$14:$AG$600,9,FALSE),0)","v":0},{"$f":"$C4&\"_22\"","v":"Achraf_22"},{"$f":"IFERROR(VLOOKUP(EQ4,MATCHSELEVES!$Y$14:$AE$600,3,FALSE),0)","v":0},{"$f":"IFERROR(VLOOKUP(EQ4,MATCHSELEVES!$Y$14:$AE$600,4,FALSE),0)","v":0},{"$f":"IFERROR(VLOOKUP(EQ4,MATCHSELEVES!$Y$14:$AE$600,5,FALSE),0)","v":0},{"$f":"IFERROR(VLOOKUP(EQ4,MATCHSELEVES!$Y$14:$AF$600,8,FALSE),0)","v":0},{"$f":"IFERROR(VLOOKUP(EQ4,MATCHSELEVES!$Y$14:$AG$600,9,FALSE),0)","v":0},{"$f":"$C4&\"_23\"","v":"Achraf_23"},{"$f":"IFERROR(VLOOKUP(EW4,MATCHSELEVES!$Y$14:$AE$600,3,FALSE),0)","v":0},{"$f":"IFERROR(VLOOKUP(EW4,MATCHSELEVES!$Y$14:$AE$600,4,FALSE),0)","v":0},{"$f":"IFERROR(VLOOKUP(EW4,MATCHSELEVES!$Y$14:$AE$600,5,FALSE),0)","v":0},{"$f":"IFERROR(VLOOKUP(EW4,MATCHSELEVES!$Y$14:$AF$600,8,FALSE),0)","v":0},{"$f":"IFERROR(VLOOKUP(EW4,MATCHSELEVES!$Y$14:$AG$600,9,FALSE),0)","v":0},{"$f":"$C4&\"_24\"","v":"Achraf_24"},{"$f":"IFERROR(VLOOKUP(FC4,MATCHSELEVES!$Y$14:$AE$600,3,FALSE),0)","v":0},{"$f":"IFERROR(VLOOKUP(FC4,MATCHSELEVES!$Y$14:$AE$600,4,FALSE),0)","v":0},{"$f":"IFERROR(VLOOKUP(FC4,MATCHSELEVES!$Y$14:$AE$600,5,FALSE),0)","v":0},{"$f":"IFERROR(VLOOKUP(FC4,MATCHSELEVES!$Y$14:$AF$600,8,FALSE),0)","v":0},{"$f":"IFERROR(VLOOKUP(FC4,MATCHSELEVES!$Y$14:$AG$600,9,FALSE),0)","v":0},{"$f":"$C4&\"_25\"","v":"Achraf_25"},{"$f":"IFERROR(VLOOKUP(FI4,MATCHSELEVES!$Y$14:$AE$600,3,FALSE),0)","v":0},{"$f":"IFERROR(VLOOKUP(FI4,MATCHSELEVES!$Y$14:$AE$600,4,FALSE),0)","v":0},{"$f":"IFERROR(VLOOKUP(FI4,MATCHSELEVES!$Y$14:$AE$600,5,FALSE),0)","v":0},{"$f":"IFERROR(VLOOKUP(FI4,MATCHSELEVES!$Y$14:$AF$600,8,FALSE),0)","v":0},{"$f":"IFERROR(VLOOKUP(FI4,MATCHSELEVES!$Y$14:$AG$600,9,FALSE),0)","v":0},{"$f":"$C4&\"_26\"","v":"Achraf_26"},{"$f":"IFERROR(VLOOKUP(FO4,MATCHSELEVES!$Y$14:$AE$600,3,FALSE),0)","v":0},{"$f":"IFERROR(VLOOKUP(FO4,MATCHSELEVES!$Y$14:$AE$600,4,FALSE),0)","v":0},{"$f":"IFERROR(VLOOKUP(FO4,MATCHSELEVES!$Y$14:$AE$600,5,FALSE),0)","v":0},{"$f":"IFERROR(VLOOKUP(FO4,MATCHSELEVES!$Y$14:$AF$600,8,FALSE),0)","v":0},{"$f":"IFERROR(VLOOKUP(FO4,MATCHSELEVES!$Y$14:$AG$600,9,FALSE),0)","v":0},{"$f":"$C4&\"_27\"","v":"Achraf_27"},{"$f":"IFERROR(VLOOKUP(FU4,MATCHSELEVES!$Y$14:$AE$600,3,FALSE),0)","v":0},{"$f":"IFERROR(VLOOKUP(FU4,MATCHSELEVES!$Y$14:$AE$600,4,FALSE),0)","v":0},{"$f":"IFERROR(VLOOKUP(FU4,MATCHSELEVES!$Y$14:$AE$600,5,FALSE),0)","v":0},{"$f":"IFERROR(VLOOKUP(FU4,MATCHSELEVES!$Y$14:$AF$600,8,FALSE),0)","v":0},{"$f":"IFERROR(VLOOKUP(FU4,MATCHSELEVES!$Y$14:$AG$600,9,FALSE),0)","v":0},{"$f":"$C4&\"_28\"","v":"Achraf_28"},{"$f":"IFERROR(VLOOKUP(GA4,MATCHSELEVES!$Y$14:$AE$600,3,FALSE),0)","v":0},{"$f":"IFERROR(VLOOKUP(GA4,MATCHSELEVES!$Y$14:$AE$600,4,FALSE),0)","v":0},{"$f":"IFERROR(VLOOKUP(GA4,MATCHSELEVES!$Y$14:$AE$600,5,FALSE),0)","v":0},{"$f":"IFERROR(VLOOKUP(GA4,MATCHSELEVES!$Y$14:$AF$600,8,FALSE),0)","v":0},{"$f":"IFERROR(VLOOKUP(GA4,MATCHSELEVES!$Y$14:$AG$600,9,FALSE),0)","v":0},{"$f":"$C4&\"_29\"","v":"Achraf_29"},{"$f":"IFERROR(VLOOKUP(GG4,MATCHSELEVES!$Y$14:$AE$600,3,FALSE),0)","v":0},{"$f":"IFERROR(VLOOKUP(GG4,MATCHSELEVES!$Y$14:$AE$600,4,FALSE),0)","v":0},{"$f":"IFERROR(VLOOKUP(GG4,MATCHSELEVES!$Y$14:$AE$600,5,FALSE),0)","v":0},{"$f":"IFERROR(VLOOKUP(GG4,MATCHSELEVES!$Y$14:$AF$600,8,FALSE),0)","v":0},{"$f":"IFERROR(VLOOKUP(GG4,MATCHSELEVES!$Y$14:$AG$600,9,FALSE),0)","v":0},{"$f":"$C4&\"_30\"","v":"Achraf_30"},{"$f":"IFERROR(VLOOKUP(GM4,MATCHSELEVES!$Y$14:$AE$600,3,FALSE),0)","v":0},{"$f":"IFERROR(VLOOKUP(GM4,MATCHSELEVES!$Y$14:$AE$600,4,FALSE),0)","v":0},{"$f":"IFERROR(VLOOKUP(GM4,MATCHSELEVES!$Y$14:$AE$600,5,FALSE),0)","v":0},{"$f":"IFERROR(VLOOKUP(GM4,MATCHSELEVES!$Y$14:$AF$600,8,FALSE),0)","v":0},{"$f":"IFERROR(VLOOKUP(GM4,MATCHSELEVES!$Y$14:$AG$600,9,FALSE),0)","v":0},{"$f":"$C4&\"_31\"","v":"Achraf_31"},{"$f":"IFERROR(VLOOKUP(GS4,MATCHSELEVES!$Y$14:$AE$600,3,FALSE),0)","v":0},{"$f":"IFERROR(VLOOKUP(GS4,MATCHSELEVES!$Y$14:$AE$600,4,FALSE),0)","v":0},{"$f":"IFERROR(VLOOKUP(GS4,MATCHSELEVES!$Y$14:$AE$600,5,FALSE),0)","v":0},{"$f":"IFERROR(VLOOKUP(GS4,MATCHSELEVES!$Y$14:$AF$600,8,FALSE),0)","v":0},{"$f":"IFERROR(VLOOKUP(GS4,MATCHSELEVES!$Y$14:$AG$600,9,FALSE),0)","v":0},{"$f":"$C4&\"_32\"","v":"Achraf_32"},{"$f":"IFERROR(VLOOKUP(GY4,MATCHSELEVES!$Y$14:$AE$600,3,FALSE),0)","v":0},{"$f":"IFERROR(VLOOKUP(GY4,MATCHSELEVES!$Y$14:$AE$600,4,FALSE),0)","v":0},{"$f":"IFERROR(VLOOKUP(GY4,MATCHSELEVES!$Y$14:$AE$600,5,FALSE),0)","v":0},{"$f":"IFERROR(VLOOKUP(GY4,MATCHSELEVES!$Y$14:$AF$600,8,FALSE),0)","v":0},{"$f":"IFERROR(VLOOKUP(GY4,MATCHSELEVES!$Y$14:$AG$600,9,FALSE),0)","v":0},{"$f":"$C4&\"_33\"","v":"Achraf_33"},{"$f":"IFERROR(VLOOKUP(HE4,MATCHSELEVES!$Y$14:$AE$600,3,FALSE),0)","v":0},{"$f":"IFERROR(VLOOKUP(HE4,MATCHSELEVES!$Y$14:$AE$600,4,FALSE),0)","v":0},{"$f":"IFERROR(VLOOKUP(HE4,MATCHSELEVES!$Y$14:$AE$600,5,FALSE),0)","v":0},{"$f":"IFERROR(VLOOKUP(HE4,MATCHSELEVES!$Y$14:$AF$600,8,FALSE),0)","v":0},{"$f":"IFERROR(VLOOKUP(HE4,MATCHSELEVES!$Y$14:$AG$600,9,FALSE),0)","v":0},{"$f":"$C4&\"_34\"","v":"Achraf_34"},{"$f":"IFERROR(VLOOKUP(HK4,MATCHSELEVES!$Y$14:$AE$600,3,FALSE),0)","v":0},{"$f":"IFERROR(VLOOKUP(HK4,MATCHSELEVES!$Y$14:$AE$600,4,FALSE),0)","v":0},{"$f":"IFERROR(VLOOKUP(HK4,MATCHSELEVES!$Y$14:$AE$600,5,FALSE),0)","v":0},{"$f":"IFERROR(VLOOKUP(HK4,MATCHSELEVES!$Y$14:$AF$600,8,FALSE),0)","v":0},{"$f":"IFERROR(VLOOKUP(HK4,MATCHSELEVES!$Y$14:$AG$600,9,FALSE),0)","v":0},{"$f":"$C4&\"_35\"","v":"Achraf_35"},{"$f":"IFERROR(VLOOKUP(HQ4,MATCHSELEVES!$Y$14:$AE$600,3,FALSE),0)","v":0},{"$f":"IFERROR(VLOOKUP(HQ4,MATCHSELEVES!$Y$14:$AE$600,4,FALSE),0)","v":0},{"$f":"IFERROR(VLOOKUP(HQ4,MATCHSELEVES!$Y$14:$AE$600,5,FALSE),0)","v":0},{"$f":"IFERROR(VLOOKUP(HQ4,MATCHSELEVES!$Y$14:$AF$600,8,FALSE),0)","v":0},{"$f":"IFERROR(VLOOKUP(HQ4,MATCHSELEVES!$Y$14:$AG$600,9,FALSE),0)","v":0},{"$f":"$C4&\"_36\"","v":"Achraf_36"},{"$f":"IFERROR(VLOOKUP(HW4,MATCHSELEVES!$Y$14:$AE$600,3,FALSE),0)","v":0},{"$f":"IFERROR(VLOOKUP(HW4,MATCHSELEVES!$Y$14:$AE$600,4,FALSE),0)","v":0},{"$f":"IFERROR(VLOOKUP(HW4,MATCHSELEVES!$Y$14:$AE$600,5,FALSE),0)","v":0},{"$f":"IFERROR(VLOOKUP(HW4,MATCHSELEVES!$Y$14:$AF$600,8,FALSE),0)","v":0},{"$f":"IFERROR(VLOOKUP(HW4,MATCHSELEVES!$Y$14:$AG$600,9,FALSE),0)","v":0},{"$f":"$C4&\"_37\"","v":"Achraf_37"},{"$f":"IFERROR(VLOOKUP(IC4,MATCHSELEVES!$Y$14:$AE$600,3,FALSE),0)","v":0},{"$f":"IFERROR(VLOOKUP(IC4,MATCHSELEVES!$Y$14:$AE$600,4,FALSE),0)","v":0},{"$f":"IFERROR(VLOOKUP(IC4,MATCHSELEVES!$Y$14:$AE$600,5,FALSE),0)","v":0},{"$f":"IFERROR(VLOOKUP(IC4,MATCHSELEVES!$Y$14:$AF$600,8,FALSE),0)","v":0},{"$f":"IFERROR(VLOOKUP(IC4,MATCHSELEVES!$Y$14:$AG$600,9,FALSE),0)","v":0},{"$f":"$C4&\"_38\"","v":"Achraf_38"},{"$f":"IFERROR(VLOOKUP(II4,MATCHSELEVES!$Y$14:$AE$600,3,FALSE),0)","v":0},{"$f":"IFERROR(VLOOKUP(II4,MATCHSELEVES!$Y$14:$AE$600,4,FALSE),0)","v":0},{"$f":"IFERROR(VLOOKUP(II4,MATCHSELEVES!$Y$14:$AE$600,5,FALSE),0)","v":0},{"$f":"IFERROR(VLOOKUP(II4,MATCHSELEVES!$Y$14:$AF$600,8,FALSE),0)","v":0},{"$f":"IFERROR(VLOOKUP(II4,MATCHSELEVES!$Y$14:$AG$600,9,FALSE),0)","v":0},{"$f":"$C4&\"_39\"","v":"Achraf_39"},{"$f":"IFERROR(VLOOKUP(IO4,MATCHSELEVES!$Y$14:$AE$600,3,FALSE),0)","v":0},{"$f":"IFERROR(VLOOKUP(IO4,MATCHSELEVES!$Y$14:$AE$600,4,FALSE),0)","v":0},{"$f":"IFERROR(VLOOKUP(IO4,MATCHSELEVES!$Y$14:$AE$600,5,FALSE),0)","v":0},{"$f":"IFERROR(VLOOKUP(IO4,MATCHSELEVES!$Y$14:$AF$600,8,FALSE),0)","v":0},{"$f":"IFERROR(VLOOKUP(IO4,MATCHSELEVES!$Y$14:$AG$600,9,FALSE),0)","v":0},{"$f":"$C4&\"_40\"","v":"Achraf_40"},{"$f":"IFERROR(VLOOKUP(IU4,MATCHSELEVES!$Y$14:$AE$600,3,FALSE),0)","v":0},{"$f":"IFERROR(VLOOKUP(IU4,MATCHSELEVES!$Y$14:$AE$600,4,FALSE),0)","v":0},{"$f":"IFERROR(VLOOKUP(IU4,MATCHSELEVES!$Y$14:$AE$600,5,FALSE),0)","v":0},{"$f":"IFERROR(VLOOKUP(IU4,MATCHSELEVES!$Y$14:$AF$600,8,FALSE),0)","v":0},{"$f":"IFERROR(VLOOKUP(IU4,MATCHSELEVES!$Y$14:$AG$600,9,FALSE),0)","v":0},{"$f":"Tableau10[[#This Row],[CLASSE]]","v":"Achraf"},{"$f":"JC4+Z4+AF4+AL4+AR4+AX4+BD4+BJ4+BP4+BV4+CB4+CH4+CN4+CT4+CZ4+DF4+DL4+DR4+DX4+ED4+EJ4+EV4+FH4+FN4+FT4+FZ4+GF4+GL4+GR4+GX4+HD4+HJ4+HP4+HV4+IB4+IH4+IN4+IT4+IZ4+JI4+JO4+JU4+KA4+KG4+KM4+KS4+KY4+LE4+LK4+LQ4+LW4+MC4+MI4+MO4+MU4+NA4+NG4+NM4+NS4+NY4+OE4+OK4+OQ4+OW4+PC4+PI4+PO4+PU4+QA4+QG4+QM4+QS4+QY4+RE4+RK4+RQ4+RW4+SC4+SI4","v":1},{"$f":"MD1POINT!D4","v":1},{"$f":"$C4&\"p_1\"","v":"Achrafp_1"},{"$f":"IFERROR(VLOOKUP(JD4,MATCHSELEVES!$Y$14:$AE$600,3,FALSE),0)","v":0},{"$f":"IFERROR(VLOOKUP(JD4,MATCHSELEVES!$Y$14:$AE$600,4,FALSE),0)","v":0},{"$f":"IFERROR(VLOOKUP(JD4,MATCHSELEVES!$Y$14:$AE$600,5,FALSE),0)","v":0},{"$f":"IFERROR(VLOOKUP(JD4,MATCHSELEVES!$Y$14:$AF$600,8,FALSE),0)","v":0},{"$f":"IFERROR(VLOOKUP(JD4,MATCHSELEVES!$Y$14:$AG$600,9,FALSE),0)","v":0},{"$f":"$C4&\"p_2\"","v":"Achrafp_2"},{"$f":"IFERROR(VLOOKUP(JJ4,MATCHSELEVES!$Y$14:$AE$600,3,FALSE),0)","v":0},{"$f":"IFERROR(VLOOKUP(JJ4,MATCHSELEVES!$Y$14:$AE$600,4,FALSE),0)","v":0},{"$f":"IFERROR(VLOOKUP(JJ4,MATCHSELEVES!$Y$14:$AE$600,5,FALSE),0)","v":0},{"$f":"IFERROR(VLOOKUP(JJ4,MATCHSELEVES!$Y$14:$AF$600,8,FALSE),0)","v":0},{"$f":"IFERROR(VLOOKUP(JJ4,MATCHSELEVES!$Y$14:$AG$600,9,FALSE),0)","v":0},{"$f":"$C4&\"p_3\"","v":"Achrafp_3"},{"$f":"IFERROR(VLOOKUP(JP4,MATCHSELEVES!$Y$14:$AE$600,3,FALSE),0)","v":0},{"$f":"IFERROR(VLOOKUP(JP4,MATCHSELEVES!$Y$14:$AE$600,4,FALSE),0)","v":0},{"$f":"IFERROR(VLOOKUP(JP4,MATCHSELEVES!$Y$14:$AE$600,5,FALSE),0)","v":0},{"$f":"IFERROR(VLOOKUP(JP4,MATCHSELEVES!$Y$14:$AF$600,8,FALSE),0)","v":0},{"$f":"IFERROR(VLOOKUP(JP4,MATCHSELEVES!$Y$14:$AG$600,9,FALSE),0)","v":0},{"$f":"$C4&\"p_4\"","v":"Achrafp_4"},{"$f":"IFERROR(VLOOKUP(JV4,MATCHSELEVES!$Y$14:$AE$600,3,FALSE),0)","v":0},{"$f":"IFERROR(VLOOKUP(JV4,MATCHSELEVES!$Y$14:$AE$600,4,FALSE),0)","v":0},{"$f":"IFERROR(VLOOKUP(JV4,MATCHSELEVES!$Y$14:$AE$600,5,FALSE),0)","v":0},{"$f":"IFERROR(VLOOKUP(JV4,MATCHSELEVES!$Y$14:$AF$600,8,FALSE),0)","v":0},{"$f":"IFERROR(VLOOKUP(JV4,MATCHSELEVES!$Y$14:$AG$600,9,FALSE),0)","v":0},{"$f":"$C4&\"p_5\"","v":"Achrafp_5"},{"$f":"IFERROR(VLOOKUP(KB4,MATCHSELEVES!$Y$14:$AE$600,3,FALSE),0)","v":0},{"$f":"IFERROR(VLOOKUP(KB4,MATCHSELEVES!$Y$14:$AE$600,4,FALSE),0)","v":0},{"$f":"IFERROR(VLOOKUP(KB4,MATCHSELEVES!$Y$14:$AE$600,5,FALSE),0)","v":0},{"$f":"IFERROR(VLOOKUP(KB4,MATCHSELEVES!$Y$14:$AF$600,8,FALSE),0)","v":0},{"$f":"IFERROR(VLOOKUP(KB4,MATCHSELEVES!$Y$14:$AG$600,9,FALSE),0)","v":0},{"$f":"$C4&\"p_6\"","v":"Achrafp_6"},{"$f":"IFERROR(VLOOKUP(KH4,MATCHSELEVES!$Y$14:$AE$600,3,FALSE),0)","v":0},{"$f":"IFERROR(VLOOKUP(KH4,MATCHSELEVES!$Y$14:$AE$600,4,FALSE),0)","v":0},{"$f":"IFERROR(VLOOKUP(KH4,MATCHSELEVES!$Y$14:$AE$600,5,FALSE),0)","v":0},{"$f":"IFERROR(VLOOKUP(KH4,MATCHSELEVES!$Y$14:$AF$600,8,FALSE),0)","v":0},{"$f":"IFERROR(VLOOKUP(KH4,MATCHSELEVES!$Y$14:$AG$600,9,FALSE),0)","v":0},{"$f":"$C4&\"p_7\"","v":"Achrafp_7"},{"$f":"IFERROR(VLOOKUP(KN4,MATCHSELEVES!$Y$14:$AE$600,3,FALSE),0)","v":0},{"$f":"IFERROR(VLOOKUP(KN4,MATCHSELEVES!$Y$14:$AE$600,4,FALSE),0)","v":0},{"$f":"IFERROR(VLOOKUP(KN4,MATCHSELEVES!$Y$14:$AE$600,5,FALSE),0)","v":0},{"$f":"IFERROR(VLOOKUP(KN4,MATCHSELEVES!$Y$14:$AF$600,8,FALSE),0)","v":0},{"$f":"IFERROR(VLOOKUP(KN4,MATCHSELEVES!$Y$14:$AG$600,9,FALSE),0)","v":0},{"$f":"$C4&\"p_8\"","v":"Achrafp_8"},{"$f":"IFERROR(VLOOKUP(KT4,MATCHSELEVES!$Y$14:$AE$600,3,FALSE),0)","v":0},{"$f":"IFERROR(VLOOKUP(KT4,MATCHSELEVES!$Y$14:$AE$600,4,FALSE),0)","v":0},{"$f":"IFERROR(VLOOKUP(KT4,MATCHSELEVES!$Y$14:$AE$600,5,FALSE),0)","v":0},{"$f":"IFERROR(VLOOKUP(KT4,MATCHSELEVES!$Y$14:$AF$600,8,FALSE),0)","v":0},{"$f":"IFERROR(VLOOKUP(KT4,MATCHSELEVES!$Y$14:$AG$600,9,FALSE),0)","v":0},{"$f":"$C4&\"p_9\"","v":"Achrafp_9"},{"$f":"IFERROR(VLOOKUP(KZ4,MATCHSELEVES!$Y$14:$AE$600,3,FALSE),0)","v":0},{"$f":"IFERROR(VLOOKUP(KZ4,MATCHSELEVES!$Y$14:$AE$600,4,FALSE),0)","v":0},{"$f":"IFERROR(VLOOKUP(KZ4,MATCHSELEVES!$Y$14:$AE$600,5,FALSE),0)","v":0},{"$f":"IFERROR(VLOOKUP(KZ4,MATCHSELEVES!$Y$14:$AF$600,8,FALSE),0)","v":0},{"$f":"IFERROR(VLOOKUP(KZ4,MATCHSELEVES!$Y$14:$AG$600,9,FALSE),0)","v":0},{"$f":"$C4&\"p_10\"","v":"Achrafp_10"},{"$f":"IFERROR(VLOOKUP(LF4,MATCHSELEVES!$Y$14:$AE$600,3,FALSE),0)","v":0},{"$f":"IFERROR(VLOOKUP(LF4,MATCHSELEVES!$Y$14:$AE$600,4,FALSE),0)","v":0},{"$f":"IFERROR(VLOOKUP(LF4,MATCHSELEVES!$Y$14:$AE$600,5,FALSE),0)","v":0},{"$f":"IFERROR(VLOOKUP(LF4,MATCHSELEVES!$Y$14:$AF$600,8,FALSE),0)","v":0},{"$f":"IFERROR(VLOOKUP(LF4,MATCHSELEVES!$Y$14:$AG$600,9,FALSE),0)","v":0},{"$f":"$C4&\"p_11\"","v":"Achrafp_11"},{"$f":"IFERROR(VLOOKUP(LL4,MATCHSELEVES!$Y$14:$AE$600,3,FALSE),0)","v":0},{"$f":"IFERROR(VLOOKUP(LL4,MATCHSELEVES!$Y$14:$AE$600,4,FALSE),0)","v":0},{"$f":"IFERROR(VLOOKUP(LL4,MATCHSELEVES!$Y$14:$AE$600,5,FALSE),0)","v":0},{"$f":"IFERROR(VLOOKUP(LL4,MATCHSELEVES!$Y$14:$AF$600,8,FALSE),0)","v":0},{"$f":"IFERROR(VLOOKUP(LL4,MATCHSELEVES!$Y$14:$AG$600,9,FALSE),0)","v":0},{"$f":"$C4&\"p_12\"","v":"Achrafp_12"},{"$f":"IFERROR(VLOOKUP(LR4,MATCHSELEVES!$Y$14:$AE$600,3,FALSE),0)","v":0},{"$f":"IFERROR(VLOOKUP(LR4,MATCHSELEVES!$Y$14:$AE$600,4,FALSE),0)","v":0},{"$f":"IFERROR(VLOOKUP(LR4,MATCHSELEVES!$Y$14:$AE$600,5,FALSE),0)","v":0},{"$f":"IFERROR(VLOOKUP(LR4,MATCHSELEVES!$Y$14:$AF$600,8,FALSE),0)","v":0},{"$f":"IFERROR(VLOOKUP(LR4,MATCHSELEVES!$Y$14:$AG$600,9,FALSE),0)","v":0},{"$f":"$C4&\"p_13\"","v":"Achrafp_13"},{"$f":"IFERROR(VLOOKUP(LX4,MATCHSELEVES!$Y$14:$AE$600,3,FALSE),0)","v":0},{"$f":"IFERROR(VLOOKUP(LX4,MATCHSELEVES!$Y$14:$AE$600,4,FALSE),0)","v":0},{"$f":"IFERROR(VLOOKUP(LX4,MATCHSELEVES!$Y$14:$AE$600,5,FALSE),0)","v":0},{"$f":"IFERROR(VLOOKUP(LX4,MATCHSELEVES!$Y$14:$AF$600,8,FALSE),0)","v":0},{"$f":"IFERROR(VLOOKUP(LX4,MATCHSELEVES!$Y$14:$AG$600,9,FALSE),0)","v":0},{"$f":"$C4&\"p_14\"","v":"Achrafp_14"},{"$f":"IFERROR(VLOOKUP(MD4,MATCHSELEVES!$Y$14:$AE$600,3,FALSE),0)","v":0},{"$f":"IFERROR(VLOOKUP(MD4,MATCHSELEVES!$Y$14:$AE$600,4,FALSE),0)","v":0},{"$f":"IFERROR(VLOOKUP(MD4,MATCHSELEVES!$Y$14:$AE$600,5,FALSE),0)","v":0},{"$f":"IFERROR(VLOOKUP(MD4,MATCHSELEVES!$Y$14:$AF$600,8,FALSE),0)","v":0},{"$f":"IFERROR(VLOOKUP(MD4,MATCHSELEVES!$Y$14:$AG$600,9,FALSE),0)","v":0},{"$f":"$C4&\"p_15\"","v":"Achrafp_15"},{"$f":"IFERROR(VLOOKUP(MJ4,MATCHSELEVES!$Y$14:$AE$600,3,FALSE),0)","v":0},{"$f":"IFERROR(VLOOKUP(MJ4,MATCHSELEVES!$Y$14:$AE$600,4,FALSE),0)","v":0},{"$f":"IFERROR(VLOOKUP(MJ4,MATCHSELEVES!$Y$14:$AE$600,5,FALSE),0)","v":0},{"$f":"IFERROR(VLOOKUP(MJ4,MATCHSELEVES!$Y$14:$AF$600,8,FALSE),0)","v":0},{"$f":"IFERROR(VLOOKUP(MJ4,MATCHSELEVES!$Y$14:$AG$600,9,FALSE),0)","v":0},{"$f":"$C4&\"p_16\"","v":"Achrafp_16"},{"$f":"IFERROR(VLOOKUP(MP4,MATCHSELEVES!$Y$14:$AE$600,3,FALSE),0)","v":0},{"$f":"IFERROR(VLOOKUP(MP4,MATCHSELEVES!$Y$14:$AE$600,4,FALSE),0)","v":0},{"$f":"IFERROR(VLOOKUP(MP4,MATCHSELEVES!$Y$14:$AE$600,5,FALSE),0)","v":0},{"$f":"IFERROR(VLOOKUP(MP4,MATCHSELEVES!$Y$14:$AF$600,8,FALSE),0)","v":0},{"$f":"IFERROR(VLOOKUP(MP4,MATCHSELEVES!$Y$14:$AG$600,9,FALSE),0)","v":0},{"$f":"$C4&\"p_17\"","v":"Achrafp_17"},{"$f":"IFERROR(VLOOKUP(MV4,MATCHSELEVES!$Y$14:$AE$600,3,FALSE),0)","v":0},{"$f":"IFERROR(VLOOKUP(MV4,MATCHSELEVES!$Y$14:$AE$600,4,FALSE),0)","v":0},{"$f":"IFERROR(VLOOKUP(MV4,MATCHSELEVES!$Y$14:$AE$600,5,FALSE),0)","v":0},{"$f":"IFERROR(VLOOKUP(MV4,MATCHSELEVES!$Y$14:$AF$600,8,FALSE),0)","v":0},{"$f":"IFERROR(VLOOKUP(MV4,MATCHSELEVES!$Y$14:$AG$600,9,FALSE),0)","v":0},{"$f":"$C4&\"p_18\"","v":"Achrafp_18"},{"$f":"IFERROR(VLOOKUP(NB4,MATCHSELEVES!$Y$14:$AE$600,3,FALSE),0)","v":0},{"$f":"IFERROR(VLOOKUP(NB4,MATCHSELEVES!$Y$14:$AE$600,4,FALSE),0)","v":0},{"$f":"IFERROR(VLOOKUP(NB4,MATCHSELEVES!$Y$14:$AE$600,5,FALSE),0)","v":0},{"$f":"IFERROR(VLOOKUP(NB4,MATCHSELEVES!$Y$14:$AF$600,8,FALSE),0)","v":0},{"$f":"IFERROR(VLOOKUP(NB4,MATCHSELEVES!$Y$14:$AG$600,9,FALSE),0)","v":0},{"$f":"$C4&\"p_19\"","v":"Achrafp_19"},{"$f":"IFERROR(VLOOKUP(NH4,MATCHSELEVES!$Y$14:$AE$600,3,FALSE),0)","v":0},{"$f":"IFERROR(VLOOKUP(NH4,MATCHSELEVES!$Y$14:$AE$600,4,FALSE),0)","v":0},{"$f":"IFERROR(VLOOKUP(NH4,MATCHSELEVES!$Y$14:$AE$600,5,FALSE),0)","v":0},{"$f":"IFERROR(VLOOKUP(NH4,MATCHSELEVES!$Y$14:$AF$600,8,FALSE),0)","v":0},{"$f":"IFERROR(VLOOKUP(NH4,MATCHSELEVES!$Y$14:$AG$600,9,FALSE),0)","v":0},{"$f":"$C4&\"p_20\"","v":"Achrafp_20"},{"$f":"IFERROR(VLOOKUP(NN4,MATCHSELEVES!$Y$14:$AE$600,3,FALSE),0)","v":0},{"$f":"IFERROR(VLOOKUP(NN4,MATCHSELEVES!$Y$14:$AE$600,4,FALSE),0)","v":0},{"$f":"IFERROR(VLOOKUP(NN4,MATCHSELEVES!$Y$14:$AE$600,5,FALSE),0)","v":0},{"$f":"IFERROR(VLOOKUP(NN4,MATCHSELEVES!$Y$14:$AF$600,8,FALSE),0)","v":0},{"$f":"IFERROR(VLOOKUP(NN4,MATCHSELEVES!$Y$14:$AG$600,9,FALSE),0)","v":0},{"$f":"$C4&\"p_21\"","v":"Achrafp_21"},{"$f":"IFERROR(VLOOKUP(NT4,MATCHSELEVES!$Y$14:$AE$600,3,FALSE),0)","v":0},{"$f":"IFERROR(VLOOKUP(NT4,MATCHSELEVES!$Y$14:$AE$600,4,FALSE),0)","v":0},{"$f":"IFERROR(VLOOKUP(NT4,MATCHSELEVES!$Y$14:$AE$600,5,FALSE),0)","v":0},{"$f":"IFERROR(VLOOKUP(NT4,MATCHSELEVES!$Y$14:$AF$600,8,FALSE),0)","v":0},{"$f":"IFERROR(VLOOKUP(NT4,MATCHSELEVES!$Y$14:$AG$600,9,FALSE),0)","v":0},{"$f":"$C4&\"p_22\"","v":"Achrafp_22"},{"$f":"IFERROR(VLOOKUP(NZ4,MATCHSELEVES!$Y$14:$AE$600,3,FALSE),0)","v":0},{"$f":"IFERROR(VLOOKUP(NZ4,MATCHSELEVES!$Y$14:$AE$600,4,FALSE),0)","v":0},{"$f":"IFERROR(VLOOKUP(NZ4,MATCHSELEVES!$Y$14:$AE$600,5,FALSE),0)","v":0},{"$f":"IFERROR(VLOOKUP(NZ4,MATCHSELEVES!$Y$14:$AF$600,8,FALSE),0)","v":0},{"$f":"IFERROR(VLOOKUP(NZ4,MATCHSELEVES!$Y$14:$AG$600,9,FALSE),0)","v":0},{"$f":"$C4&\"p_23\"","v":"Achrafp_23"},{"$f":"IFERROR(VLOOKUP(OF4,MATCHSELEVES!$Y$14:$AE$600,3,FALSE),0)","v":0},{"$f":"IFERROR(VLOOKUP(OF4,MATCHSELEVES!$Y$14:$AE$600,4,FALSE),0)","v":0},{"$f":"IFERROR(VLOOKUP(OF4,MATCHSELEVES!$Y$14:$AE$600,5,FALSE),0)","v":0},{"$f":"IFERROR(VLOOKUP(OF4,MATCHSELEVES!$Y$14:$AF$600,8,FALSE),0)","v":0},{"$f":"IFERROR(VLOOKUP(OF4,MATCHSELEVES!$Y$14:$AG$600,9,FALSE),0)","v":0},{"$f":"$C4&\"p_24\"","v":"Achrafp_24"},{"$f":"IFERROR(VLOOKUP(OL4,MATCHSELEVES!$Y$14:$AE$600,3,FALSE),0)","v":0},{"$f":"IFERROR(VLOOKUP(OL4,MATCHSELEVES!$Y$14:$AE$600,4,FALSE),0)","v":0},{"$f":"IFERROR(VLOOKUP(OL4,MATCHSELEVES!$Y$14:$AE$600,5,FALSE),0)","v":0},{"$f":"IFERROR(VLOOKUP(OL4,MATCHSELEVES!$Y$14:$AF$600,8,FALSE),0)","v":0},{"$f":"IFERROR(VLOOKUP(OL4,MATCHSELEVES!$Y$14:$AG$600,9,FALSE),0)","v":0},{"$f":"$C4&\"p_25\"","v":"Achrafp_25"},{"$f":"IFERROR(VLOOKUP(OR4,MATCHSELEVES!$Y$14:$AE$600,3,FALSE),0)","v":0},{"$f":"IFERROR(VLOOKUP(OR4,MATCHSELEVES!$Y$14:$AE$600,4,FALSE),0)","v":0},{"$f":"IFERROR(VLOOKUP(OR4,MATCHSELEVES!$Y$14:$AE$600,5,FALSE),0)","v":0},{"$f":"IFERROR(VLOOKUP(OR4,MATCHSELEVES!$Y$14:$AF$600,8,FALSE),0)","v":0},{"$f":"IFERROR(VLOOKUP(OR4,MATCHSELEVES!$Y$14:$AG$600,9,FALSE),0)","v":0},{"$f":"$C4&\"p_26\"","v":"Achrafp_26"},{"$f":"IFERROR(VLOOKUP(OX4,MATCHSELEVES!$Y$14:$AE$600,3,FALSE),0)","v":0},{"$f":"IFERROR(VLOOKUP(OX4,MATCHSELEVES!$Y$14:$AE$600,4,FALSE),0)","v":0},{"$f":"IFERROR(VLOOKUP(OX4,MATCHSELEVES!$Y$14:$AE$600,5,FALSE),0)","v":0},{"$f":"IFERROR(VLOOKUP(OX4,MATCHSELEVES!$Y$14:$AF$600,8,FALSE),0)","v":0},{"$f":"IFERROR(VLOOKUP(OX4,MATCHSELEVES!$Y$14:$AG$600,9,FALSE),0)","v":0},{"$f":"$C4&\"p_27\"","v":"Achrafp_27"},{"$f":"IFERROR(VLOOKUP(PD4,MATCHSELEVES!$Y$14:$AE$600,3,FALSE),0)","v":0},{"$f":"IFERROR(VLOOKUP(PD4,MATCHSELEVES!$Y$14:$AE$600,4,FALSE),0)","v":0},{"$f":"IFERROR(VLOOKUP(PD4,MATCHSELEVES!$Y$14:$AE$600,5,FALSE),0)","v":0},{"$f":"IFERROR(VLOOKUP(PD4,MATCHSELEVES!$Y$14:$AF$600,8,FALSE),0)","v":0},{"$f":"IFERROR(VLOOKUP(PD4,MATCHSELEVES!$Y$14:$AG$600,9,FALSE),0)","v":0},{"$f":"$C4&\"p_28\"","v":"Achrafp_28"},{"$f":"IFERROR(VLOOKUP(PJ4,MATCHSELEVES!$Y$14:$AE$600,3,FALSE),0)","v":0},{"$f":"IFERROR(VLOOKUP(PJ4,MATCHSELEVES!$Y$14:$AE$600,4,FALSE),0)","v":0},{"$f":"IFERROR(VLOOKUP(PJ4,MATCHSELEVES!$Y$14:$AE$600,5,FALSE),0)","v":0},{"$f":"IFERROR(VLOOKUP(PJ4,MATCHSELEVES!$Y$14:$AF$600,8,FALSE),0)","v":0},{"$f":"IFERROR(VLOOKUP(PJ4,MATCHSELEVES!$Y$14:$AG$600,9,FALSE),0)","v":0},{"$f":"$C4&\"p_29\"","v":"Achrafp_29"},{"$f":"IFERROR(VLOOKUP(PP4,MATCHSELEVES!$Y$14:$AE$600,3,FALSE),0)","v":0},{"$f":"IFERROR(VLOOKUP(PP4,MATCHSELEVES!$Y$14:$AE$600,4,FALSE),0)","v":0},{"$f":"IFERROR(VLOOKUP(PP4,MATCHSELEVES!$Y$14:$AE$600,5,FALSE),0)","v":0},{"$f":"IFERROR(VLOOKUP(PP4,MATCHSELEVES!$Y$14:$AF$600,8,FALSE),0)","v":0},{"$f":"IFERROR(VLOOKUP(PP4,MATCHSELEVES!$Y$14:$AG$600,9,FALSE),0)","v":0},{"$f":"$C4&\"p_30\"","v":"Achrafp_30"},{"$f":"IFERROR(VLOOKUP(PV4,MATCHSELEVES!$Y$14:$AE$600,3,FALSE),0)","v":0},{"$f":"IFERROR(VLOOKUP(PV4,MATCHSELEVES!$Y$14:$AE$600,4,FALSE),0)","v":0},{"$f":"IFERROR(VLOOKUP(PV4,MATCHSELEVES!$Y$14:$AE$600,5,FALSE),0)","v":0},{"$f":"IFERROR(VLOOKUP(PV4,MATCHSELEVES!$Y$14:$AF$600,8,FALSE),0)","v":0},{"$f":"IFERROR(VLOOKUP(PV4,MATCHSELEVES!$Y$14:$AG$600,9,FALSE),0)","v":0},{"$f":"$C4&\"p_31\"","v":"Achrafp_31"},{"$f":"IFERROR(VLOOKUP(QB4,MATCHSELEVES!$Y$14:$AE$600,3,FALSE),0)","v":0},{"$f":"IFERROR(VLOOKUP(QB4,MATCHSELEVES!$Y$14:$AE$600,4,FALSE),0)","v":0},{"$f":"IFERROR(VLOOKUP(QB4,MATCHSELEVES!$Y$14:$AE$600,5,FALSE),0)","v":0},{"$f":"IFERROR(VLOOKUP(QB4,MATCHSELEVES!$Y$14:$AF$600,8,FALSE),0)","v":0},{"$f":"IFERROR(VLOOKUP(QB4,MATCHSELEVES!$Y$14:$AG$600,9,FALSE),0)","v":0},{"$f":"$C4&\"p_32\"","v":"Achrafp_32"},{"$f":"IFERROR(VLOOKUP(QH4,MATCHSELEVES!$Y$14:$AE$600,3,FALSE),0)","v":0},{"$f":"IFERROR(VLOOKUP(QH4,MATCHSELEVES!$Y$14:$AE$600,4,FALSE),0)","v":0},{"$f":"IFERROR(VLOOKUP(QH4,MATCHSELEVES!$Y$14:$AE$600,5,FALSE),0)","v":0},{"$f":"IFERROR(VLOOKUP(QH4,MATCHSELEVES!$Y$14:$AF$600,8,FALSE),0)","v":0},{"$f":"IFERROR(VLOOKUP(QH4,MATCHSELEVES!$Y$14:$AG$600,9,FALSE),0)","v":0},{"$f":"$C4&\"p_33\"","v":"Achrafp_33"},{"$f":"IFERROR(VLOOKUP(QN4,MATCHSELEVES!$Y$14:$AE$600,3,FALSE),0)","v":0},{"$f":"IFERROR(VLOOKUP(QN4,MATCHSELEVES!$Y$14:$AE$600,4,FALSE),0)","v":0},{"$f":"IFERROR(VLOOKUP(QN4,MATCHSELEVES!$Y$14:$AE$600,5,FALSE),0)","v":0},{"$f":"IFERROR(VLOOKUP(QN4,MATCHSELEVES!$Y$14:$AF$600,8,FALSE),0)","v":0},{"$f":"IFERROR(VLOOKUP(QN4,MATCHSELEVES!$Y$14:$AG$600,9,FALSE),0)","v":0},{"$f":"$C4&\"p_34\"","v":"Achrafp_34"},{"$f":"IFERROR(VLOOKUP(QT4,MATCHSELEVES!$Y$14:$AE$600,3,FALSE),0)","v":0},{"$f":"IFERROR(VLOOKUP(QT4,MATCHSELEVES!$Y$14:$AE$600,4,FALSE),0)","v":0},{"$f":"IFERROR(VLOOKUP(QT4,MATCHSELEVES!$Y$14:$AE$600,5,FALSE),0)","v":0},{"$f":"IFERROR(VLOOKUP(QT4,MATCHSELEVES!$Y$14:$AF$600,8,FALSE),0)","v":0},{"$f":"IFERROR(VLOOKUP(QT4,MATCHSELEVES!$Y$14:$AG$600,9,FALSE),0)","v":0},{"$f":"$C4&\"p_35\"","v":"Achrafp_35"},{"$f":"IFERROR(VLOOKUP(QZ4,MATCHSELEVES!$Y$14:$AE$600,3,FALSE),0)","v":0},{"$f":"IFERROR(VLOOKUP(QZ4,MATCHSELEVES!$Y$14:$AE$600,4,FALSE),0)","v":0},{"$f":"IFERROR(VLOOKUP(QZ4,MATCHSELEVES!$Y$14:$AE$600,5,FALSE),0)","v":0},{"$f":"IFERROR(VLOOKUP(QZ4,MATCHSELEVES!$Y$14:$AF$600,8,FALSE),0)","v":0},{"$f":"IFERROR(VLOOKUP(QZ4,MATCHSELEVES!$Y$14:$AG$600,9,FALSE),0)","v":0},{"$f":"$C4&\"p_36\"","v":"Achrafp_36"},{"$f":"IFERROR(VLOOKUP(RF4,MATCHSELEVES!$Y$14:$AE$600,3,FALSE),0)","v":0},{"$f":"IFERROR(VLOOKUP(RF4,MATCHSELEVES!$Y$14:$AE$600,4,FALSE),0)","v":0},{"$f":"IFERROR(VLOOKUP(RF4,MATCHSELEVES!$Y$14:$AE$600,5,FALSE),0)","v":0},{"$f":"IFERROR(VLOOKUP(RF4,MATCHSELEVES!$Y$14:$AF$600,8,FALSE),0)","v":0},{"$f":"IFERROR(VLOOKUP(RF4,MATCHSELEVES!$Y$14:$AG$600,9,FALSE),0)","v":0},{"$f":"$C4&\"p_37\"","v":"Achrafp_37"},{"$f":"IFERROR(VLOOKUP(RL4,MATCHSELEVES!$Y$14:$AE$600,3,FALSE),0)","v":0},{"$f":"IFERROR(VLOOKUP(RL4,MATCHSELEVES!$Y$14:$AE$600,4,FALSE),0)","v":0},{"$f":"IFERROR(VLOOKUP(RL4,MATCHSELEVES!$Y$14:$AE$600,5,FALSE),0)","v":0},{"$f":"IFERROR(VLOOKUP(RL4,MATCHSELEVES!$Y$14:$AF$600,8,FALSE),0)","v":0},{"$f":"IFERROR(VLOOKUP(RL4,MATCHSELEVES!$Y$14:$AG$600,9,FALSE),0)","v":0},{"$f":"$C4&\"p_38\"","v":"Achrafp_38"},{"$f":"IFERROR(VLOOKUP(RR4,MATCHSELEVES!$Y$14:$AE$600,3,FALSE),0)","v":0},{"$f":"IFERROR(VLOOKUP(RR4,MATCHSELEVES!$Y$14:$AE$600,4,FALSE),0)","v":0},{"$f":"IFERROR(VLOOKUP(RR4,MATCHSELEVES!$Y$14:$AE$600,5,FALSE),0)","v":0},{"$f":"IFERROR(VLOOKUP(RR4,MATCHSELEVES!$Y$14:$AF$600,8,FALSE),0)","v":0},{"$f":"IFERROR(VLOOKUP(RR4,MATCHSELEVES!$Y$14:$AG$600,9,FALSE),0)","v":0},{"$f":"$C4&\"p_39\"","v":"Achrafp_39"},{"$f":"IFERROR(VLOOKUP(RX4,MATCHSELEVES!$Y$14:$AE$600,3,FALSE),0)","v":0},{"$f":"IFERROR(VLOOKUP(RX4,MATCHSELEVES!$Y$14:$AE$600,4,FALSE),0)","v":0},{"$f":"IFERROR(VLOOKUP(RX4,MATCHSELEVES!$Y$14:$AE$600,5,FALSE),0)","v":0},{"$f":"IFERROR(VLOOKUP(RX4,MATCHSELEVES!$Y$14:$AF$600,8,FALSE),0)","v":0},{"$f":"IFERROR(VLOOKUP(RX4,MATCHSELEVES!$Y$14:$AG$600,9,FALSE),0)","v":0},{"$f":"$C4&\"p_40\"","v":"Achrafp_40"},{"$f":"IFERROR(VLOOKUP(SD4,MATCHSELEVES!$Y$14:$AE$600,3,FALSE),0)","v":0},{"$f":"IFERROR(VLOOKUP(SD4,MATCHSELEVES!$Y$14:$AE$600,4,FALSE),0)","v":0},{"$f":"IFERROR(VLOOKUP(SD4,MATCHSELEVES!$Y$14:$AE$600,5,FALSE),0)","v":0},{"$f":"IFERROR(VLOOKUP(SD4,MATCHSELEVES!$Y$14:$AF$600,8,FALSE),0)","v":0},{"$f":"IFERROR(VLOOKUP(SD4,MATCHSELEVES!$Y$14:$AG$600,9,FALSE),0)","v":0}]
[2,null,{"$f":"MD1POINT!C5","v":"Adel"},{"$f":"MD1POINT!D5","v":1},{"$f":"COUNTIF(MATCHSELEVES!$Z$14:$Z$600,C5)+COUNTIF(MATCHSELEVES!$Z$14:$Z$600,$C5&\"p\")","v":0},1,{"$f":"COUNTIF(MATCHSELEVES!$F$14:$H$249,C5)","v":0},1,0,1,0,1,0,1,{"$f":"Y5+AE5+AK5+AQ5+AW5+BC5+BI5+BO5+BU5+CA5+CG5+CM5+CS5+CY5+DE5+DK5+DQ5+DW5+EC5+EI5+EO5+EU5+FA5+FG5+FM5+FS5+FY5+GE5+GK5+GQ5+GW5+4+HI5+HO5+HU5+IA5+HC5+IG5+IM5+IY5+IS5+JH5+JN5+JZ5+JT5+KF5+KR5+KX5+LJ5+LP5+LV5+LD5+MB5+MH5+MN5+MZ5+MT5+NF5+NL5+NR5+NX5+OD5+OJ5+OP5+OV5+PB5+PH5+PT5+PN5+PZ5+QF5+QL5+QR5+RD5+QX5+RJ5+RP5+RV5+SB5+SH5+KL5+Tableau10[[#This Row],[Nombre de matchs joués]]*2","v":4},1,{"$f":"(Tableau10[[#This Row],[CLASSEMENT1]]+Tableau10[[#This Row],[CLASSEMENT2]]+Tableau10[[#This Row],[CLASSEMENT3]]+Tableau10[[#This Row],[CLASSEMENT4]]+Tableau10[[#This Row],[CLASSEMENT5]]+Tableau10[[#This Row],[CLASSEMENT6]])/6","v":1},{"$f":"RANK(Tableau10[[#This Row],[MOYENNE CLASSEMENTS]],Tableau10[MOYENNE CLASSEMENTS],1)","v":1},null,{"$f":"Tableau10[[#This Row],[CLASSEMENT1]]","v":1},{"$f":"$C5&\"_1\"","v":"Adel_1"},{"$f":"IFERROR(VLOOKUP(U5,MATCHSELEVES!$Y$14:$AE$600,3,FALSE),0)","v":0},{"$f":"IFERROR(VLOOKUP(U5,MATCHSELEVES!$Y$14:$AE$600,4,FALSE),0)","v":0},{"$f":"IFERROR(VLOOKUP(U5,MATCHSELEVES!$Y$14:$AE$600,5,FALSE),0)","v":0},{"$f":"IFERROR(VLOOKUP(U5,MATCHSELEVES!$Y$14:$AF$600,8,FALSE),0)","v":0},{"$f":"IFERROR(VLOOKUP(U5,MATCHSELEVES!$Y$14:$AG$600,9,FALSE),0)","v":0},"Adel_2",{"$f":"IFERROR(VLOOKUP(AA5,MATCHSELEVES!$Y$14:$AE$600,3,FALSE),0)","v":0},{"$f":"IFERROR(VLOOKUP(AA5,MATCHSELEVES!$Y$14:$AE$600,4,FALSE),0)","v":0},{"$f":"IFERROR(VLOOKUP(AA5,MATCHSELEVES!$Y$14:$AE$600,5,FALSE),0)","v":0},{"$f":"IFERROR(VLOOKUP(AA5,MATCHSELEVES!$Y$14:$AF$600,8,FALSE),0)","v":0},{"$f":"IFERROR(VLOOKUP(AA5,MATCHSELEVES!$Y$14:$AG$600,9,FALSE),0)","v":0},"Adel_3",{"$f":"IFERROR(VLOOKUP(AG5,MATCHSELEVES!$Y$14:$AE$600,3,FALSE),0)","v":0},{"$f":"IFERROR(VLOOKUP(AG5,MATCHSELEVES!$Y$14:$AE$600,4,FALSE),0)","v":0},{"$f":"IFERROR(VLOOKUP(AG5,MATCHSELEVES!$Y$14:$AE$600,5,FALSE),0)","v":0},{"$f":"IFERROR(VLOOKUP(AG5,MATCHSELEVES!$Y$14:$AF$600,8,FALSE),0)","v":0},{"$f":"IFERROR(VLOOKUP(AG5,MATCHSELEVES!$Y$14:$AG$600,9,FALSE),0)","v":0},"Adel_4",{"$f":"IFERROR(VLOOKUP(AM5,MATCHSELEVES!$Y$14:$AE$600,3,FALSE),0)","v":0},{"$f":"IFERROR(VLOOKUP(AM5,MATCHSELEVES!$Y$14:$AE$600,4,FALSE),0)","v":0},{"$f":"IFERROR(VLOOKUP(AM5,MATCHSELEVES!$Y$14:$AE$600,5,FALSE),0)","v":0},{"$f":"IFERROR(VLOOKUP(AM5,MATCHSELEVES!$Y$14:$AF$600,8,FALSE),0)","v":0},{"$f":"IFERROR(VLOOKUP(AM5,MATCHSELEVES!$Y$14:$AG$600,9,FALSE),0)","v":0},"Adel_5",{"$f":"IFERROR(VLOOKUP(AS5,MATCHSELEVES!$Y$14:$AE$600,3,FALSE),0)","v":0},{"$f":"IFERROR(VLOOKUP(AS5,MATCHSELEVES!$Y$14:$AE$600,4,FALSE),0)","v":0},{"$f":"IFERROR(VLOOKUP(AS5,MATCHSELEVES!$Y$14:$AE$600,5,FALSE),0)","v":0},{"$f":"IFERROR(VLOOKUP(AS5,MATCHSELEVES!$Y$14:$AF$600,8,FALSE),0)","v":0},{"$f":"IFERROR(VLOOKUP(AS5,MATCHSELEVES!$Y$14:$AG$600,9,FALSE),0)","v":0},"Adel_6",{"$f":"IFERROR(VLOOKUP(AY5,MATCHSELEVES!$Y$14:$AE$600,3,FALSE),0)","v":0},{"$f":"IFERROR(VLOOKUP(AY5,MATCHSELEVES!$Y$14:$AE$600,4,FALSE),0)","v":0},{"$f":"IFERROR(VLOOKUP(AY5,MATCHSELEVES!$Y$14:$AE$600,5,FALSE),0)","v":0},{"$f":"IFERROR(VLOOKUP(AY5,MATCHSELEVES!$Y$14:$AF$600,8,FALSE),0)","v":0},{"$f":"IFERROR(VLOOKUP(AY5,MATCHSELEVES!$Y$14:$AG$600,9,FALSE),0)","v":0},"Adel_7",{"$f":"IFERROR(VLOOKUP(BE5,MATCHSELEVES!$Y$14:$AE$600,3,FALSE),0)","v":0},{"$f":"IFERROR(VLOOKUP(BE5,MATCHSELEVES!$Y$14:$AE$600,4,FALSE),0)","v":0},{"$f":"IFERROR(VLOOKUP(BE5,MATCHSELEVES!$Y$14:$AE$600,5,FALSE),0)","v":0},{"$f":"IFERROR(VLOOKUP(BE5,MATCHSELEVES!$Y$14:$AF$600,8,FALSE),0)","v":0},{"$f":"IFERROR(VLOOKUP(BE5,MATCHSELEVES!$Y$14:$AG$600,9,FALSE),0)","v":0},"Adel_8",{"$f":"IFERROR(VLOOKUP(BK5,MATCHSELEVES!$Y$14:$AE$600,3,FALSE),0)","v":0},{"$f":"IFERROR(VLOOKUP(BK5,MATCHSELEVES!$Y$14:$AE$600,4,FALSE),0)","v":0},{"$f":"IFERROR(VLOOKUP(BK5,MATCHSELEVES!$Y$14:$AE$600,5,FALSE),0)","v":0},{"$f":"IFERROR(VLOOKUP(BK5,MATCHSELEVES!$Y$14:$AF$600,8,FALSE),0)","v":0},{"$f":"IFERROR(VLOOKUP(BK5,MATCHSELEVES!$Y$14:$AG$600,9,FALSE),0)","v":0},"Adel_9",{"$f":"IFERROR(VLOOKUP(BQ5,MATCHSELEVES!$Y$14:$AE$600,3,FALSE),0)","v":0},{"$f":"IFERROR(VLOOKUP(BQ5,MATCHSELEVES!$Y$14:$AE$600,4,FALSE),0)","v":0},{"$f":"IFERROR(VLOOKUP(BQ5,MATCHSELEVES!$Y$14:$AE$600,5,FALSE),0)","v":0},{"$f":"IFERROR(VLOOKUP(BQ5,MATCHSELEVES!$Y$14:$AF$600,8,FALSE),0)","v":0},{"$f":"IFERROR(VLOOKUP(BQ5,MATCHSELEVES!$Y$14:$AG$600,9,FALSE),0)","v":0},"Adel_10",{"$f":"IFERROR(VLOOKUP(BW5,MATCHSELEVES!$Y$14:$AE$600,3,FALSE),0)","v":0},{"$f":"IFERROR(VLOOKUP(BW5,MATCHSELEVES!$Y$14:$AE$600,4,FALSE),0)","v":0},{"$f":"IFERROR(VLOOKUP(BW5,MATCHSELEVES!$Y$14:$AE$600,5,FALSE),0)","v":0},{"$f":"IFERROR(VLOOKUP(BW5,MATCHSELEVES!$Y$14:$AF$600,8,FALSE),0)","v":0},{"$f":"IFERROR(VLOOKUP(BW5,MATCHSELEVES!$Y$14:$AG$600,9,FALSE),0)","v":0},"Adel_11",{"$f":"IFERROR(VLOOKUP(CC5,MATCHSELEVES!$Y$14:$AE$600,3,FALSE),0)","v":0},{"$f":"IFERROR(VLOOKUP(CC5,MATCHSELEVES!$Y$14:$AE$600,4,FALSE),0)","v":0},{"$f":"IFERROR(VLOOKUP(CC5,MATCHSELEVES!$Y$14:$AE$600,5,FALSE),0)","v":0},{"$f":"IFERROR(VLOOKUP(CC5,MATCHSELEVES!$Y$14:$AF$600,8,FALSE),0)","v":0},{"$f":"IFERROR(VLOOKUP(CC5,MATCHSELEVES!$Y$14:$AG$600,9,FALSE),0)","v":0},"Adel_12",{"$f":"IFERROR(VLOOKUP(CI5,MATCHSELEVES!$Y$14:$AE$600,3,FALSE),0)","v":0},{"$f":"IFERROR(VLOOKUP(CI5,MATCHSELEVES!$Y$14:$AE$600,4,FALSE),0)","v":0},{"$f":"IFERROR(VLOOKUP(CI5,MATCHSELEVES!$Y$14:$AE$600,5,FALSE),0)","v":0},{"$f":"IFERROR(VLOOKUP(CI5,MATCHSELEVES!$Y$14:$AF$600,8,FALSE),0)","v":0},{"$f":"IFERROR(VLOOKUP(CI5,MATCHSELEVES!$Y$14:$AG$600,9,FALSE),0)","v":0},"Adel_13",{"$f":"IFERROR(VLOOKUP(CO5,MATCHSELEVES!$Y$14:$AE$600,3,FALSE),0)","v":0},{"$f":"IFERROR(VLOOKUP(CO5,MATCHSELEVES!$Y$14:$AE$600,4,FALSE),0)","v":0},{"$f":"IFERROR(VLOOKUP(CO5,MATCHSELEVES!$Y$14:$AE$600,5,FALSE),0)","v":0},{"$f":"IFERROR(VLOOKUP(CO5,MATCHSELEVES!$Y$14:$AF$600,8,FALSE),0)","v":0},{"$f":"IFERROR(VLOOKUP(CO5,MATCHSELEVES!$Y$14:$AG$600,9,FALSE),0)","v":0},"Adel_14",{"$f":"IFERROR(VLOOKUP(CU5,MATCHSELEVES!$Y$14:$AE$600,3,FALSE),0)","v":0},{"$f":"IFERROR(VLOOKUP(CU5,MATCHSELEVES!$Y$14:$AE$600,4,FALSE),0)","v":0},{"$f":"IFERROR(VLOOKUP(CU5,MATCHSELEVES!$Y$14:$AE$600,5,FALSE),0)","v":0},{"$f":"IFERROR(VLOOKUP(CU5,MATCHSELEVES!$Y$14:$AF$600,8,FALSE),0)","v":0},{"$f":"IFERROR(VLOOKUP(CU5,MATCHSELEVES!$Y$14:$AG$600,9,FALSE),0)","v":0},"Adel_15",{"$f":"IFERROR(VLOOKUP(DA5,MATCHSELEVES!$Y$14:$AE$600,3,FALSE),0)","v":0},{"$f":"IFERROR(VLOOKUP(DA5,MATCHSELEVES!$Y$14:$AE$600,4,FALSE),0)","v":0},{"$f":"IFERROR(VLOOKUP(DA5,MATCHSELEVES!$Y$14:$AE$600,5,FALSE),0)","v":0},{"$f":"IFERROR(VLOOKUP(DA5,MATCHSELEVES!$Y$14:$AF$600,8,FALSE),0)","v":0},{"$f":"IFERROR(VLOOKUP(DA5,MATCHSELEVES!$Y$14:$AG$600,9,FALSE),0)","v":0},"Adel_16",{"$f":"IFERROR(VLOOKUP(DG5,MATCHSELEVES!$Y$14:$AE$600,3,FALSE),0)","v":0},{"$f":"IFERROR(VLOOKUP(DG5,MATCHSELEVES!$Y$14:$AE$600,4,FALSE),0)","v":0},{"$f":"IFERROR(VLOOKUP(DG5,MATCHSELEVES!$Y$14:$AE$600,5,FALSE),0)","v":0},{"$f":"IFERROR(VLOOKUP(DG5,MATCHSELEVES!$Y$14:$AF$600,8,FALSE),0)","v":0},{"$f":"IFERROR(VLOOKUP(DG5,MATCHSELEVES!$Y$14:$AG$600,9,FALSE),0)","v":0},"Adel_17",{"$f":"IFERROR(VLOOKUP(DM5,MATCHSELEVES!$Y$14:$AE$600,3,FALSE),0)","v":0},{"$f":"IFERROR(VLOOKUP(DM5,MATCHSELEVES!$Y$14:$AE$600,4,FALSE),0)","v":0},{"$f":"IFERROR(VLOOKUP(DM5,MATCHSELEVES!$Y$14:$AE$600,5,FALSE),0)","v":0},{"$f":"IFERROR(VLOOKUP(DM5,MATCHSELEVES!$Y$14:$AF$600,8,FALSE),0)","v":0},{"$f":"IFERROR(VLOOKUP(DM5,MATCHSELEVES!$Y$14:$AG$600,9,FALSE),0)","v":0},"Adel_18",{"$f":"IFERROR(VLOOKUP(DS5,MATCHSELEVES!$Y$14:$AE$600,3,FALSE),0)","v":0},{"$f":"IFERROR(VLOOKUP(DS5,MATCHSELEVES!$Y$14:$AE$600,4,FALSE),0)","v":0},{"$f":"IFERROR(VLOOKUP(DS5,MATCHSELEVES!$Y$14:$AE$600,5,FALSE),0)","v":0},{"$f":"IFERROR(VLOOKUP(DS5,MATCHSELEVES!$Y$14:$AF$600,8,FALSE),0)","v":0},{"$f":"IFERROR(VLOOKUP(DS5,MATCHSELEVES!$Y$14:$AG$600,9,FALSE),0)","v":0},"Adel_19",{"$f":"IFERROR(VLOOKUP(DY5,MATCHSELEVES!$Y$14:$AE$600,3,FALSE),0)","v":0},{"$f":"IFERROR(VLOOKUP(DY5,MATCHSELEVES!$Y$14:$AE$600,4,FALSE),0)","v":0},{"$f":"IFERROR(VLOOKUP(DY5,MATCHSELEVES!$Y$14:$AE$600,5,FALSE),0)","v":0},{"$f":"IFERROR(VLOOKUP(DY5,MATCHSELEVES!$Y$14:$AF$600,8,FALSE),0)","v":0},{"$f":"IFERROR(VLOOKUP(DY5,MATCHSELEVES!$Y$14:$AG$600,9,FALSE),0)","v":0},"Adel_20",{"$f":"IFERROR(VLOOKUP(EE5,MATCHSELEVES!$Y$14:$AE$600,3,FALSE),0)","v":0},{"$f":"IFERROR(VLOOKUP(EE5,MATCHSELEVES!$Y$14:$AE$600,4,FALSE),0)","v":0},{"$f":"IFERROR(VLOOKUP(EE5,MATCHSELEVES!$Y$14:$AE$600,5,FALSE),0)","v":0},{"$f":"IFERROR(VLOOKUP(EE5,MATCHSELEVES!$Y$14:$AF$600,8,FALSE),0)","v":0},{"$f":"IFERROR(VLOOKUP(EE5,MATCHSELEVES!$Y$14:$AG$600,9,FALSE),0)","v":0},"Adel_21",{"$f":"IFERROR(VLOOKUP(EK5,MATCHSELEVES!$Y$14:$AE$600,3,FALSE),0)","v":0},{"$f":"IFERROR(VLOOKUP(EK5,MATCHSELEVES!$Y$14:$AE$600,4,FALSE),0)","v":0},{"$f":"IFERROR(VLOOKUP(EK5,MATCHSELEVES!$Y$14:$AE$600,5,FALSE),0)","v":0},{"$f":"IFERROR(VLOOKUP(EK5,MATCHSELEVES!$Y$14:$AF$600,8,FALSE),0)","v":0},{"$f":"IFERROR(VLOOKUP(EK5,MATCHSELEVES!$Y$14:$AG$600,9,FALSE),0)","v":0},"Adel_22",{"$f":"IFERROR(VLOOKUP(EQ5,MATCHSELEVES!$Y$14:$AE$600,3,FALSE),0)","v":0},{"$f":"IFERROR(VLOOKUP(EQ5,MATCHSELEVES!$Y$14:$AE$600,4,FALSE),0)","v":0},{"$f":"IFERROR(VLOOKUP(EQ5,MATCHSELEVES!$Y$14:$AE$600,5,FALSE),0)","v":0},{"$f":"IFERROR(VLOOKUP(EQ5,MATCHSELEVES!$Y$14:$AF$600,8,FALSE),0)","v":0},{"$f":"IFERROR(VLOOKUP(EQ5,MATCHSELEVES!$Y$14:$AG$600,9,FALSE),0)","v":0},"Adel_23",{"$f":"IFERROR(VLOOKUP(EW5,MATCHSELEVES!$Y$14:$AE$600,3,FALSE),0)","v":0},{"$f":"IFERROR(VLOOKUP(EW5,MATCHSELEVES!$Y$14:$AE$600,4,FALSE),0)","v":0},{"$f":"IFERROR(VLOOKUP(EW5,MATCHSELEVES!$Y$14:$AE$600,5,FALSE),0)","v":0},{"$f":"IFERROR(VLOOKUP(EW5,MATCHSELEVES!$Y$14:$AF$600,8,FALSE),0)","v":0},{"$f":"IFERROR(VLOOKUP(EW5,MATCHSELEVES!$Y$14:$AG$600,9,FALSE),0)","v":0},"Adel_24",{"$f":"IFERROR(VLOOKUP(FC5,MATCHSELEVES!$Y$14:$AE$600,3,FALSE),0)","v":0},{"$f":"IFERROR(VLOOKUP(FC5,MATCHSELEVES!$Y$14:$AE$600,4,FALSE),0)","v":0},{"$f":"IFERROR(VLOOKUP(FC5,MATCHSELEVES!$Y$14:$AE$600,5,FALSE),0)","v":0},{"$f":"IFERROR(VLOOKUP(FC5,MATCHSELEVES!$Y$14:$AF$600,8,FALSE),0)","v":0},{"$f":"IFERROR(VLOOKUP(FC5,MATCHSELEVES!$Y$14:$AG$600,9,FALSE),0)","v":0},"Adel_25",{"$f":"IFERROR(VLOOKUP(FI5,MATCHSELEVES!$Y$14:$AE$600,3,FALSE),0)","v":0},{"$f":"IFERROR(VLOOKUP(FI5,MATCHSELEVES!$Y$14:$AE$600,4,FALSE),0)","v":0},{"$f":"IFERROR(VLOOKUP(FI5,MATCHSELEVES!$Y$14:$AE$600,5,FALSE),0)","v":0},{"$f":"IFERROR(VLOOKUP(FI5,MATCHSELEVES!$Y$14:$AF$600,8,FALSE),0)","v":0},{"$f":"IFERROR(VLOOKUP(FI5,MATCHSELEVES!$Y$14:$AG$600,9,FALSE),0)","v":0},"Adel_26",{"$f":"IFERROR(VLOOKUP(FO5,MATCHSELEVES!$Y$14:$AE$600,3,FALSE),0)","v":0},{"$f":"IFERROR(VLOOKUP(FO5,MATCHSELEVES!$Y$14:$AE$600,4,FALSE),0)","v":0},{"$f":"IFERROR(VLOOKUP(FO5,MATCHSELEVES!$Y$14:$AE$600,5,FALSE),0)","v":0},{"$f":"IFERROR(VLOOKUP(FO5,MATCHSELEVES!$Y$14:$AF$600,8,FALSE),0)","v":0},{"$f":"IFERROR(VLOOKUP(FO5,MATCHSELEVES!$Y$14:$AG$600,9,FALSE),0)","v":0},"Adel_27",{"$f":"IFERROR(VLOOKUP(FU5,MATCHSELEVES!$Y$14:$AE$600,3,FALSE),0)","v":0},{"$f":"IFERROR(VLOOKUP(FU5,MATCHSELEVES!$Y$14:$AE$600,4,FALSE),0)","v":0},{"$f":"IFERROR(VLOOKUP(FU5,MATCHSELEVES!$Y$14:$AE$600,5,FALSE),0)","v":0},{"$f":"IFERROR(VLOOKUP(FU5,MATCHSELEVES!$Y$14:$AF$600,8,FALSE),0)","v":0},{"$f":"IFERROR(VLOOKUP(FU5,MATCHSELEVES!$Y$14:$AG$600,9,FALSE),0)","v":0},"Adel_28",{"$f":"IFERROR(VLOOKUP(GA5,MATCHSELEVES!$Y$14:$AE$600,3,FALSE),0)","v":0},{"$f":"IFERROR(VLOOKUP(GA5,MATCHSELEVES!$Y$14:$AE$600,4,FALSE),0)","v":0},{"$f":"IFERROR(VLOOKUP(GA5,MATCHSELEVES!$Y$14:$AE$600,5,FALSE),0)","v":0},{"$f":"IFERROR(VLOOKUP(GA5,MATCHSELEVES!$Y$14:$AF$600,8,FALSE),0)","v":0},{"$f":"IFERROR(VLOOKUP(GA5,MATCHSELEVES!$Y$14:$AG$600,9,FALSE),0)","v":0},"Adel_29",{"$f":"IFERROR(VLOOKUP(GG5,MATCHSELEVES!$Y$14:$AE$600,3,FALSE),0)","v":0},{"$f":"IFERROR(VLOOKUP(GG5,MATCHSELEVES!$Y$14:$AE$600,4,FALSE),0)","v":0},{"$f":"IFERROR(VLOOKUP(GG5,MATCHSELEVES!$Y$14:$AE$600,5,FALSE),0)","v":0},{"$f":"IFERROR(VLOOKUP(GG5,MATCHSELEVES!$Y$14:$AF$600,8,FALSE),0)","v":0},{"$f":"IFERROR(VLOOKUP(GG5,MATCHSELEVES!$Y$14:$AG$600,9,FALSE),0)","v":0},"Adel_30",{"$f":"IFERROR(VLOOKUP(GM5,MATCHSELEVES!$Y$14:$AE$600,3,FALSE),0)","v":0},{"$f":"IFERROR(VLOOKUP(GM5,MATCHSELEVES!$Y$14:$AE$600,4,FALSE),0)","v":0},{"$f":"IFERROR(VLOOKUP(GM5,MATCHSELEVES!$Y$14:$AE$600,5,FALSE),0)","v":0},{"$f":"IFERROR(VLOOKUP(GM5,MATCHSELEVES!$Y$14:$AF$600,8,FALSE),0)","v":0},{"$f":"IFERROR(VLOOKUP(GM5,MATCHSELEVES!$Y$14:$AG$600,9,FALSE),0)","v":0},"Adel_31",{"$f":"IFERROR(VLOOKUP(GS5,MATCHSELEVES!$Y$14:$AE$600,3,FALSE),0)","v":0},{"$f":"IFERROR(VLOOKUP(GS5,MATCHSELEVES!$Y$14:$AE$600,4,FALSE),0)","v":0},{"$f":"IFERROR(VLOOKUP(GS5,MATCHSELEVES!$Y$14:$AE$600,5,FALSE),0)","v":0},{"$f":"IFERROR(VLOOKUP(GS5,MATCHSELEVES!$Y$14:$AF$600,8,FALSE),0)","v":0},{"$f":"IFERROR(VLOOKUP(GS5,MATCHSELEVES!$Y$14:$AG$600,9,FALSE),0)","v":0},"Adel_32",{"$f":"IFERROR(VLOOKUP(GY5,MATCHSELEVES!$Y$14:$AE$600,3,FALSE),0)","v":0},{"$f":"IFERROR(VLOOKUP(GY5,MATCHSELEVES!$Y$14:$AE$600,4,FALSE),0)","v":0},{"$f":"IFERROR(VLOOKUP(GY5,MATCHSELEVES!$Y$14:$AE$600,5,FALSE),0)","v":0},{"$f":"IFERROR(VLOOKUP(GY5,MATCHSELEVES!$Y$14:$AF$600,8,FALSE),0)","v":0},{"$f":"IFERROR(VLOOKUP(GY5,MATCHSELEVES!$Y$14:$AG$600,9,FALSE),0)","v":0},"Adel_33",{"$f":"IFERROR(VLOOKUP(HE5,MATCHSELEVES!$Y$14:$AE$600,3,FALSE),0)","v":0},{"$f":"IFERROR(VLOOKUP(HE5,MATCHSELEVES!$Y$14:$AE$600,4,FALSE),0)","v":0},{"$f":"IFERROR(VLOOKUP(HE5,MATCHSELEVES!$Y$14:$AE$600,5,FALSE),0)","v":0},{"$f":"IFERROR(VLOOKUP(HE5,MATCHSELEVES!$Y$14:$AF$600,8,FALSE),0)","v":0},{"$f":"IFERROR(VLOOKUP(HE5,MATCHSELEVES!$Y$14:$AG$600,9,FALSE),0)","v":0},"Adel_34",{"$f":"IFERROR(VLOOKUP(HK5,MATCHSELEVES!$Y$14:$AE$600,3,FALSE),0)","v":0},{"$f":"IFERROR(VLOOKUP(HK5,MATCHSELEVES!$Y$14:$AE$600,4,FALSE),0)","v":0},{"$f":"IFERROR(VLOOKUP(HK5,MATCHSELEVES!$Y$14:$AE$600,5,FALSE),0)","v":0},{"$f":"IFERROR(VLOOKUP(HK5,MATCHSELEVES!$Y$14:$AF$600,8,FALSE),0)","v":0},{"$f":"IFERROR(VLOOKUP(HK5,MATCHSELEVES!$Y$14:$AG$600,9,FALSE),0)","v":0},"Adel_35",{"$f":"IFERROR(VLOOKUP(HQ5,MATCHSELEVES!$Y$14:$AE$600,3,FALSE),0)","v":0},{"$f":"IFERROR(VLOOKUP(HQ5,MATCHSELEVES!$Y$14:$AE$600,4,FALSE),0)","v":0},{"$f":"IFERROR(VLOOKUP(HQ5,MATCHSELEVES!$Y$14:$AE$600,5,FALSE),0)","v":0},{"$f":"IFERROR(VLOOKUP(HQ5,MATCHSELEVES!$Y$14:$AF$600,8,FALSE),0)","v":0},{"$f":"IFERROR(VLOOKUP(HQ5,MATCHSELEVES!$Y$14:$AG$600,9,FALSE),0)","v":0},"Adel_36",{"$f":"IFERROR(VLOOKUP(HW5,MATCHSELEVES!$Y$14:$AE$600,3,FALSE),0)","v":0},{"$f":"IFERROR(VLOOKUP(HW5,MATCHSELEVES!$Y$14:$AE$600,4,FALSE),0)","v":0},{"$f":"IFERROR(VLOOKUP(HW5,MATCHSELEVES!$Y$14:$AE$600,5,FALSE),0)","v":0},{"$f":"IFERROR(VLOOKUP(HW5,MATCHSELEVES!$Y$14:$AF$600,8,FALSE),0)","v":0},{"$f":"IFERROR(VLOOKUP(HW5,MATCHSELEVES!$Y$14:$AG$600,9,FALSE),0)","v":0},"Adel_37",{"$f":"IFERROR(VLOOKUP(IC5,MATCHSELEVES!$Y$14:$AE$600,3,FALSE),0)","v":0},{"$f":"IFERROR(VLOOKUP(IC5,MATCHSELEVES!$Y$14:$AE$600,4,FALSE),0)","v":0},{"$f":"IFERROR(VLOOKUP(IC5,MATCHSELEVES!$Y$14:$AE$600,5,FALSE),0)","v":0},{"$f":"IFERROR(VLOOKUP(IC5,MATCHSELEVES!$Y$14:$AF$600,8,FALSE),0)","v":0},{"$f":"IFERROR(VLOOKUP(IC5,MATCHSELEVES!$Y$14:$AG$600,9,FALSE),0)","v":0},"Adel_38",{"$f":"IFERROR(VLOOKUP(II5,MATCHSELEVES!$Y$14:$AE$600,3,FALSE),0)","v":0},{"$f":"IFERROR(VLOOKUP(II5,MATCHSELEVES!$Y$14:$AE$600,4,FALSE),0)","v":0},{"$f":"IFERROR(VLOOKUP(II5,MATCHSELEVES!$Y$14:$AE$600,5,FALSE),0)","v":0},{"$f":"IFERROR(VLOOKUP(II5,MATCHSELEVES!$Y$14:$AF$600,8,FALSE),0)","v":0},{"$f":"IFERROR(VLOOKUP(II5,MATCHSELEVES!$Y$14:$AG$600,9,FALSE),0)","v":0},"Adel_39",{"$f":"IFERROR(VLOOKUP(IO5,MATCHSELEVES!$Y$14:$AE$600,3,FALSE),0)","v":0},{"$f":"IFERROR(VLOOKUP(IO5,MATCHSELEVES!$Y$14:$AE$600,4,FALSE),0)","v":0},{"$f":"IFERROR(VLOOKUP(IO5,MATCHSELEVES!$Y$14:$AE$600,5,FALSE),0)","v":0},{"$f":"IFERROR(VLOOKUP(IO5,MATCHSELEVES!$Y$14:$AF$600,8,FALSE),0)","v":0},{"$f":"IFERROR(VLOOKUP(IO5,MATCHSELEVES!$Y$14:$AG$600,9,FALSE),0)","v":0},"Adel_40",{"$f":"IFERROR(VLOOKUP(IU5,MATCHSELEVES!$Y$14:$AE$600,3,FALSE),0)","v":0},{"$f":"IFERROR(VLOOKUP(IU5,MATCHSELEVES!$Y$14:$AE$600,4,FALSE),0)","v":0},{"$f":"IFERROR(VLOOKUP(IU5,MATCHSELEVES!$Y$14:$AE$600,5,FALSE),0)","v":0},{"$f":"IFERROR(VLOOKUP(IU5,MATCHSELEVES!$Y$14:$AF$600,8,FALSE),0)","v":0},{"$f":"IFERROR(VLOOKUP(IU5,MATCHSELEVES!$Y$14:$AG$600,9,FALSE),0)","v":0},{"$f":"Tableau10[[#This Row],[CLASSE]]","v":"Adel"},{"$f":"JC5+Z5+AF5+AL5+AR5+AX5+BD5+BJ5+BP5+BV5+CB5+CH5+CN5+CT5+CZ5+DF5+DL5+DR5+DX5+ED5+EJ5+EV5+FH5+FN5+FT5+FZ5+GF5+GL5+GR5+GX5+HD5+HJ5+HP5+HV5+IB5+IH5+IN5+IT5+IZ5+JI5+JO5+JU5+KA5+KG5+KM5+KS5+KY5+LE5+LK5+LQ5+LW5+MC5+MI5+MO5+MU5+NA5+NG5+NM5+NS5+NY5+OE5+OK5+OQ5+OW5+PC5+PI5+PO5+PU5+QA5+QG5+QM5+QS5+QY5+RE5+RK5+RQ5+RW5+SC5+SI5","v":1},{"$f":"MD1POINT!D5","v":1},{"$f":"$C5&\"p_1\"","v":"Adelp_1"},{"$f":"IFERROR(VLOOKUP(JD5,MATCHSELEVES!$Y$14:$AE$600,3,FALSE),0)","v":0},{"$f":"IFERROR(VLOOKUP(JD5,MATCHSELEVES!$Y$14:$AE$600,4,FALSE),0)","v":0},{"$f":"IFERROR(VLOOKUP(JD5,MATCHSELEVES!$Y$14:$AE$600,5,FALSE),0)","v":0},{"$f":"IFERROR(VLOOKUP(JD5,MATCHSELEVES!$Y$14:$AF$600,8,FALSE),0)","v":0},{"$f":"IFERROR(VLOOKUP(JD5,MATCHSELEVES!$Y$14:$AG$600,9,FALSE),0)","v":0},{"$f":"$C5&\"p_2\"","v":"Adelp_2"},{"$f":"IFERROR(VLOOKUP(JJ5,MATCHSELEVES!$Y$14:$AE$600,3,FALSE),0)","v":0},{"$f":"IFERROR(VLOOKUP(JJ5,MATCHSELEVES!$Y$14:$AE$600,4,FALSE),0)","v":0},{"$f":"IFERROR(VLOOKUP(JJ5,MATCHSELEVES!$Y$14:$AE$600,5,FALSE),0)","v":0},{"$f":"IFERROR(VLOOKUP(JJ5,MATCHSELEVES!$Y$14:$AF$600,8,FALSE),0)","v":0},{"$f":"IFERROR(VLOOKUP(JJ5,MATCHSELEVES!$Y$14:$AG$600,9,FALSE),0)","v":0},{"$f":"$C5&\"p_3\"","v":"Adelp_3"},{"$f":"IFERROR(VLOOKUP(JP5,MATCHSELEVES!$Y$14:$AE$600,3,FALSE),0)","v":0},{"$f":"IFERROR(VLOOKUP(JP5,MATCHSELEVES!$Y$14:$AE$600,4,FALSE),0)","v":0},{"$f":"IFERROR(VLOOKUP(JP5,MATCHSELEVES!$Y$14:$AE$600,5,FALSE),0)","v":0},{"$f":"IFERROR(VLOOKUP(JP5,MATCHSELEVES!$Y$14:$AF$600,8,FALSE),0)","v":0},{"$f":"IFERROR(VLOOKUP(JP5,MATCHSELEVES!$Y$14:$AG$600,9,FALSE),0)","v":0},{"$f":"$C5&\"p_4\"","v":"Adelp_4"},{"$f":"IFERROR(VLOOKUP(JV5,MATCHSELEVES!$Y$14:$AE$600,3,FALSE),0)","v":0},{"$f":"IFERROR(VLOOKUP(JV5,MATCHSELEVES!$Y$14:$AE$600,4,FALSE),0)","v":0},{"$f":"IFERROR(VLOOKUP(JV5,MATCHSELEVES!$Y$14:$AE$600,5,FALSE),0)","v":0},{"$f":"IFERROR(VLOOKUP(JV5,MATCHSELEVES!$Y$14:$AF$600,8,FALSE),0)","v":0},{"$f":"IFERROR(VLOOKUP(JV5,MATCHSELEVES!$Y$14:$AG$600,9,FALSE),0)","v":0},{"$f":"$C5&\"p_5\"","v":"Adelp_5"},{"$f":"IFERROR(VLOOKUP(KB5,MATCHSELEVES!$Y$14:$AE$600,3,FALSE),0)","v":0},{"$f":"IFERROR(VLOOKUP(KB5,MATCHSELEVES!$Y$14:$AE$600,4,FALSE),0)","v":0},{"$f":"IFERROR(VLOOKUP(KB5,MATCHSELEVES!$Y$14:$AE$600,5,FALSE),0)","v":0},{"$f":"IFERROR(VLOOKUP(KB5,MATCHSELEVES!$Y$14:$AF$600,8,FALSE),0)","v":0},{"$f":"IFERROR(VLOOKUP(KB5,MATCHSELEVES!$Y$14:$AG$600,9,FALSE),0)","v":0},{"$f":"$C5&\"p_6\"","v":"Adelp_6"},{"$f":"IFERROR(VLOOKUP(KH5,MATCHSELEVES!$Y$14:$AE$600,3,FALSE),0)","v":0},{"$f":"IFERROR(VLOOKUP(KH5,MATCHSELEVES!$Y$14:$AE$600,4,FALSE),0)","v":0},{"$f":"IFERROR(VLOOKUP(KH5,MATCHSELEVES!$Y$14:$AE$600,5,FALSE),0)","v":0},{"$f":"IFERROR(VLOOKUP(KH5,MATCHSELEVES!$Y$14:$AF$600,8,FALSE),0)","v":0},{"$f":"IFERROR(VLOOKUP(KH5,MATCHSELEVES!$Y$14:$AG$600,9,FALSE),0)","v":0},{"$f":"$C5&\"p_7\"","v":"Adelp_7"},{"$f":"IFERROR(VLOOKUP(KN5,MATCHSELEVES!$Y$14:$AE$600,3,FALSE),0)","v":0},{"$f":"IFERROR(VLOOKUP(KN5,MATCHSELEVES!$Y$14:$AE$600,4,FALSE),0)","v":0},{"$f":"IFERROR(VLOOKUP(KN5,MATCHSELEVES!$Y$14:$AE$600,5,FALSE),0)","v":0},{"$f":"IFERROR(VLOOKUP(KN5,MATCHSELEVES!$Y$14:$AF$600,8,FALSE),0)","v":0},{"$f":"IFERROR(VLOOKUP(KN5,MATCHSELEVES!$Y$14:$AG$600,9,FALSE),0)","v":0},{"$f":"$C5&\"p_8\"","v":"Adelp_8"},{"$f":"IFERROR(VLOOKUP(KT5,MATCHSELEVES!$Y$14:$AE$600,3,FALSE),0)","v":0},{"$f":"IFERROR(VLOOKUP(KT5,MATCHSELEVES!$Y$14:$AE$600,4,FALSE),0)","v":0},{"$f":"IFERROR(VLOOKUP(KT5,MATCHSELEVES!$Y$14:$AE$600,5,FALSE),0)","v":0},{"$f":"IFERROR(VLOOKUP(KT5,MATCHSELEVES!$Y$14:$AF$600,8,FALSE),0)","v":0},{"$f":"IFERROR(VLOOKUP(KT5,MATCHSELEVES!$Y$14:$AG$600,9,FALSE),0)","v":0},{"$f":"$C5&\"p_9\"","v":"Adelp_9"},{"$f":"IFERROR(VLOOKUP(KZ5,MATCHSELEVES!$Y$14:$AE$600,3,FALSE),0)","v":0},{"$f":"IFERROR(VLOOKUP(KZ5,MATCHSELEVES!$Y$14:$AE$600,4,FALSE),0)","v":0},{"$f":"IFERROR(VLOOKUP(KZ5,MATCHSELEVES!$Y$14:$AE$600,5,FALSE),0)","v":0},{"$f":"IFERROR(VLOOKUP(KZ5,MATCHSELEVES!$Y$14:$AF$600,8,FALSE),0)","v":0},{"$f":"IFERROR(VLOOKUP(KZ5,MATCHSELEVES!$Y$14:$AG$600,9,FALSE),0)","v":0},{"$f":"$C5&\"p_10\"","v":"Adelp_10"},{"$f":"IFERROR(VLOOKUP(LF5,MATCHSELEVES!$Y$14:$AE$600,3,FALSE),0)","v":0},{"$f":"IFERROR(VLOOKUP(LF5,MATCHSELEVES!$Y$14:$AE$600,4,FALSE),0)","v":0},{"$f":"IFERROR(VLOOKUP(LF5,MATCHSELEVES!$Y$14:$AE$600,5,FALSE),0)","v":0},{"$f":"IFERROR(VLOOKUP(LF5,MATCHSELEVES!$Y$14:$AF$600,8,FALSE),0)","v":0},{"$f":"IFERROR(VLOOKUP(LF5,MATCHSELEVES!$Y$14:$AG$600,9,FALSE),0)","v":0},{"$f":"$C5&\"p_11\"","v":"Adelp_11"},{"$f":"IFERROR(VLOOKUP(LL5,MATCHSELEVES!$Y$14:$AE$600,3,FALSE),0)","v":0},{"$f":"IFERROR(VLOOKUP(LL5,MATCHSELEVES!$Y$14:$AE$600,4,FALSE),0)","v":0},{"$f":"IFERROR(VLOOKUP(LL5,MATCHSELEVES!$Y$14:$AE$600,5,FALSE),0)","v":0},{"$f":"IFERROR(VLOOKUP(LL5,MATCHSELEVES!$Y$14:$AF$600,8,FALSE),0)","v":0},{"$f":"IFERROR(VLOOKUP(LL5,MATCHSELEVES!$Y$14:$AG$600,9,FALSE),0)","v":0},{"$f":"$C5&\"p_12\"","v":"Adelp_12"},{"$f":"IFERROR(VLOOKUP(LR5,MATCHSELEVES!$Y$14:$AE$600,3,FALSE),0)","v":0},{"$f":"IFERROR(VLOOKUP(LR5,MATCHSELEVES!$Y$14:$AE$600,4,FALSE),0)","v":0},{"$f":"IFERROR(VLOOKUP(LR5,MATCHSELEVES!$Y$14:$AE$600,5,FALSE),0)","v":0},{"$f":"IFERROR(VLOOKUP(LR5,MATCHSELEVES!$Y$14:$AF$600,8,FALSE),0)","v":0},{"$f":"IFERROR(VLOOKUP(LR5,MATCHSELEVES!$Y$14:$AG$600,9,FALSE),0)","v":0},{"$f":"$C5&\"p_13\"","v":"Adelp_13"},{"$f":"IFERROR(VLOOKUP(LX5,MATCHSELEVES!$Y$14:$AE$600,3,FALSE),0)","v":0},{"$f":"IFERROR(VLOOKUP(LX5,MATCHSELEVES!$Y$14:$AE$600,4,FALSE),0)","v":0},{"$f":"IFERROR(VLOOKUP(LX5,MATCHSELEVES!$Y$14:$AE$600,5,FALSE),0)","v":0},{"$f":"IFERROR(VLOOKUP(LX5,MATCHSELEVES!$Y$14:$AF$600,8,FALSE),0)","v":0},{"$f":"IFERROR(VLOOKUP(LX5,MATCHSELEVES!$Y$14:$AG$600,9,FALSE),0)","v":0},{"$f":"$C5&\"p_14\"","v":"Adelp_14"},{"$f":"IFERROR(VLOOKUP(MD5,MATCHSELEVES!$Y$14:$AE$600,3,FALSE),0)","v":0},{"$f":"IFERROR(VLOOKUP(MD5,MATCHSELEVES!$Y$14:$AE$600,4,FALSE),0)","v":0},{"$f":"IFERROR(VLOOKUP(MD5,MATCHSELEVES!$Y$14:$AE$600,5,FALSE),0)","v":0},{"$f":"IFERROR(VLOOKUP(MD5,MATCHSELEVES!$Y$14:$AF$600,8,FALSE),0)","v":0},{"$f":"IFERROR(VLOOKUP(MD5,MATCHSELEVES!$Y$14:$AG$600,9,FALSE),0)","v":0},{"$f":"$C5&\"p_15\"","v":"Adelp_15"},{"$f":"IFERROR(VLOOKUP(MJ5,MATCHSELEVES!$Y$14:$AE$600,3,FALSE),0)","v":0},{"$f":"IFERROR(VLOOKUP(MJ5,MATCHSELEVES!$Y$14:$AE$600,4,FALSE),0)","v":0},{"$f":"IFERROR(VLOOKUP(MJ5,MATCHSELEVES!$Y$14:$AE$600,5,FALSE),0)","v":0},{"$f":"IFERROR(VLOOKUP(MJ5,MATCHSELEVES!$Y$14:$AF$600,8,FALSE),0)","v":0},{"$f":"IFERROR(VLOOKUP(MJ5,MATCHSELEVES!$Y$14:$AG$600,9,FALSE),0)","v":0},{"$f":"$C5&\"p_16\"","v":"Adelp_16"},{"$f":"IFERROR(VLOOKUP(MP5,MATCHSELEVES!$Y$14:$AE$600,3,FALSE),0)","v":0},{"$f":"IFERROR(VLOOKUP(MP5,MATCHSELEVES!$Y$14:$AE$600,4,FALSE),0)","v":0},{"$f":"IFERROR(VLOOKUP(MP5,MATCHSELEVES!$Y$14:$AE$600,5,FALSE),0)","v":0},{"$f":"IFERROR(VLOOKUP(MP5,MATCHSELEVES!$Y$14:$AF$600,8,FALSE),0)","v":0},{"$f":"IFERROR(VLOOKUP(MP5,MATCHSELEVES!$Y$14:$AG$600,9,FALSE),0)","v":0},{"$f":"$C5&\"p_17\"","v":"Adelp_17"},{"$f":"IFERROR(VLOOKUP(MV5,MATCHSELEVES!$Y$14:$AE$600,3,FALSE),0)","v":0},{"$f":"IFERROR(VLOOKUP(MV5,MATCHSELEVES!$Y$14:$AE$600,4,FALSE),0)","v":0},{"$f":"IFERROR(VLOOKUP(MV5,MATCHSELEVES!$Y$14:$AE$600,5,FALSE),0)","v":0},{"$f":"IFERROR(VLOOKUP(MV5,MATCHSELEVES!$Y$14:$AF$600,8,FALSE),0)","v":0},{"$f":"IFERROR(VLOOKUP(MV5,MATCHSELEVES!$Y$14:$AG$600,9,FALSE),0)","v":0},{"$f":"$C5&\"p_18\"","v":"Adelp_18"},{"$f":"IFERROR(VLOOKUP(NB5,MATCHSELEVES!$Y$14:$AE$600,3,FALSE),0)","v":0},{"$f":"IFERROR(VLOOKUP(NB5,MATCHSELEVES!$Y$14:$AE$600,4,FALSE),0)","v":0},{"$f":"IFERROR(VLOOKUP(NB5,MATCHSELEVES!$Y$14:$AE$600,5,FALSE),0)","v":0},{"$f":"IFERROR(VLOOKUP(NB5,MATCHSELEVES!$Y$14:$AF$600,8,FALSE),0)","v":0},{"$f":"IFERROR(VLOOKUP(NB5,MATCHSELEVES!$Y$14:$AG$600,9,FALSE),0)","v":0},{"$f":"$C5&\"p_19\"","v":"Adelp_19"},{"$f":"IFERROR(VLOOKUP(NH5,MATCHSELEVES!$Y$14:$AE$600,3,FALSE),0)","v":0},{"$f":"IFERROR(VLOOKUP(NH5,MATCHSELEVES!$Y$14:$AE$600,4,FALSE),0)","v":0},{"$f":"IFERROR(VLOOKUP(NH5,MATCHSELEVES!$Y$14:$AE$600,5,FALSE),0)","v":0},{"$f":"IFERROR(VLOOKUP(NH5,MATCHSELEVES!$Y$14:$AF$600,8,FALSE),0)","v":0},{"$f":"IFERROR(VLOOKUP(NH5,MATCHSELEVES!$Y$14:$AG$600,9,FALSE),0)","v":0},{"$f":"$C5&\"p_20\"","v":"Adelp_20"},{"$f":"IFERROR(VLOOKUP(NN5,MATCHSELEVES!$Y$14:$AE$600,3,FALSE),0)","v":0},{"$f":"IFERROR(VLOOKUP(NN5,MATCHSELEVES!$Y$14:$AE$600,4,FALSE),0)","v":0},{"$f":"IFERROR(VLOOKUP(NN5,MATCHSELEVES!$Y$14:$AE$600,5,FALSE),0)","v":0},{"$f":"IFERROR(VLOOKUP(NN5,MATCHSELEVES!$Y$14:$AF$600,8,FALSE),0)","v":0},{"$f":"IFERROR(VLOOKUP(NN5,MATCHSELEVES!$Y$14:$AG$600,9,FALSE),0)","v":0},{"$f":"$C5&\"p_21\"","v":"Adelp_21"},{"$f":"IFERROR(VLOOKUP(NT5,MATCHSELEVES!$Y$14:$AE$600,3,FALSE),0)","v":0},{"$f":"IFERROR(VLOOKUP(NT5,MATCHSELEVES!$Y$14:$AE$600,4,FALSE),0)","v":0},{"$f":"IFERROR(VLOOKUP(NT5,MATCHSELEVES!$Y$14:$AE$600,5,FALSE),0)","v":0},{"$f":"IFERROR(VLOOKUP(NT5,MATCHSELEVES!$Y$14:$AF$600,8,FALSE),0)","v":0},{"$f":"IFERROR(VLOOKUP(NT5,MATCHSELEVES!$Y$14:$AG$600,9,FALSE),0)","v":0},{"$f":"$C5&\"p_22\"","v":"Adelp_22"},{"$f":"IFERROR(VLOOKUP(NZ5,MATCHSELEVES!$Y$14:$AE$600,3,FALSE),0)","v":0},{"$f":"IFERROR(VLOOKUP(NZ5,MATCHSELEVES!$Y$14:$AE$600,4,FALSE),0)","v":0},{"$f":"IFERROR(VLOOKUP(NZ5,MATCHSELEVES!$Y$14:$AE$600,5,FALSE),0)","v":0},{"$f":"IFERROR(VLOOKUP(NZ5,MATCHSELEVES!$Y$14:$AF$600,8,FALSE),0)","v":0},{"$f":"IFERROR(VLOOKUP(NZ5,MATCHSELEVES!$Y$14:$AG$600,9,FALSE),0)","v":0},{"$f":"$C5&\"p_23\"","v":"Adelp_23"},{"$f":"IFERROR(VLOOKUP(OF5,MATCHSELEVES!$Y$14:$AE$600,3,FALSE),0)","v":0},{"$f":"IFERROR(VLOOKUP(OF5,MATCHSELEVES!$Y$14:$AE$600,4,FALSE),0)","v":0},{"$f":"IFERROR(VLOOKUP(OF5,MATCHSELEVES!$Y$14:$AE$600,5,FALSE),0)","v":0},{"$f":"IFERROR(VLOOKUP(OF5,MATCHSELEVES!$Y$14:$AF$600,8,FALSE),0)","v":0},{"$f":"IFERROR(VLOOKUP(OF5,MATCHSELEVES!$Y$14:$AG$600,9,FALSE),0)","v":0},{"$f":"$C5&\"p_24\"","v":"Adelp_24"},{"$f":"IFERROR(VLOOKUP(OL5,MATCHSELEVES!$Y$14:$AE$600,3,FALSE),0)","v":0},{"$f":"IFERROR(VLOOKUP(OL5,MATCHSELEVES!$Y$14:$AE$600,4,FALSE),0)","v":0},{"$f":"IFERROR(VLOOKUP(OL5,MATCHSELEVES!$Y$14:$AE$600,5,FALSE),0)","v":0},{"$f":"IFERROR(VLOOKUP(OL5,MATCHSELEVES!$Y$14:$AF$600,8,FALSE),0)","v":0},{"$f":"IFERROR(VLOOKUP(OL5,MATCHSELEVES!$Y$14:$AG$600,9,FALSE),0)","v":0},{"$f":"$C5&\"p_25\"","v":"Adelp_25"},{"$f":"IFERROR(VLOOKUP(OR5,MATCHSELEVES!$Y$14:$AE$600,3,FALSE),0)","v":0},{"$f":"IFERROR(VLOOKUP(OR5,MATCHSELEVES!$Y$14:$AE$600,4,FALSE),0)","v":0},{"$f":"IFERROR(VLOOKUP(OR5,MATCHSELEVES!$Y$14:$AE$600,5,FALSE),0)","v":0},{"$f":"IFERROR(VLOOKUP(OR5,MATCHSELEVES!$Y$14:$AF$600,8,FALSE),0)","v":0},{"$f":"IFERROR(VLOOKUP(OR5,MATCHSELEVES!$Y$14:$AG$600,9,FALSE),0)","v":0},{"$f":"$C5&\"p_26\"","v":"Adelp_26"},{"$f":"IFERROR(VLOOKUP(OX5,MATCHSELEVES!$Y$14:$AE$600,3,FALSE),0)","v":0},{"$f":"IFERROR(VLOOKUP(OX5,MATCHSELEVES!$Y$14:$AE$600,4,FALSE),0)","v":0},{"$f":"IFERROR(VLOOKUP(OX5,MATCHSELEVES!$Y$14:$AE$600,5,FALSE),0)","v":0},{"$f":"IFERROR(VLOOKUP(OX5,MATCHSELEVES!$Y$14:$AF$600,8,FALSE),0)","v":0},{"$f":"IFERROR(VLOOKUP(OX5,MATCHSELEVES!$Y$14:$AG$600,9,FALSE),0)","v":0},{"$f":"$C5&\"p_27\"","v":"Adelp_27"},{"$f":"IFERROR(VLOOKUP(PD5,MATCHSELEVES!$Y$14:$AE$600,3,FALSE),0)","v":0},{"$f":"IFERROR(VLOOKUP(PD5,MATCHSELEVES!$Y$14:$AE$600,4,FALSE),0)","v":0},{"$f":"IFERROR(VLOOKUP(PD5,MATCHSELEVES!$Y$14:$AE$600,5,FALSE),0)","v":0},{"$f":"IFERROR(VLOOKUP(PD5,MATCHSELEVES!$Y$14:$AF$600,8,FALSE),0)","v":0},{"$f":"IFERROR(VLOOKUP(PD5,MATCHSELEVES!$Y$14:$AG$600,9,FALSE),0)","v":0},{"$f":"$C5&\"p_28\"","v":"Adelp_28"},{"$f":"IFERROR(VLOOKUP(PJ5,MATCHSELEVES!$Y$14:$AE$600,3,FALSE),0)","v":0},{"$f":"IFERROR(VLOOKUP(PJ5,MATCHSELEVES!$Y$14:$AE$600,4,FALSE),0)","v":0},{"$f":"IFERROR(VLOOKUP(PJ5,MATCHSELEVES!$Y$14:$AE$600,5,FALSE),0)","v":0},{"$f":"IFERROR(VLOOKUP(PJ5,MATCHSELEVES!$Y$14:$AF$600,8,FALSE),0)","v":0},{"$f":"IFERROR(VLOOKUP(PJ5,MATCHSELEVES!$Y$14:$AG$600,9,FALSE),0)","v":0},{"$f":"$C5&\"p_29\"","v":"Adelp_29"},{"$f":"IFERROR(VLOOKUP(PP5,MATCHSELEVES!$Y$14:$AE$600,3,FALSE),0)","v":0},{"$f":"IFERROR(VLOOKUP(PP5,MATCHSELEVES!$Y$14:$AE$600,4,FALSE),0)","v":0},{"$f":"IFERROR(VLOOKUP(PP5,MATCHSELEVES!$Y$14:$AE$600,5,FALSE),0)","v":0},{"$f":"IFERROR(VLOOKUP(PP5,MATCHSELEVES!$Y$14:$AF$600,8,FALSE),0)","v":0},{"$f":"IFERROR(VLOOKUP(PP5,MATCHSELEVES!$Y$14:$AG$600,9,FALSE),0)","v":0},{"$f":"$C5&\"p_30\"","v":"Adelp_30"},{"$f":"IFERROR(VLOOKUP(PV5,MATCHSELEVES!$Y$14:$AE$600,3,FALSE),0)","v":0},{"$f":"IFERROR(VLOOKUP(PV5,MATCHSELEVES!$Y$14:$AE$600,4,FALSE),0)","v":0},{"$f":"IFERROR(VLOOKUP(PV5,MATCHSELEVES!$Y$14:$AE$600,5,FALSE),0)","v":0},{"$f":"IFERROR(VLOOKUP(PV5,MATCHSELEVES!$Y$14:$AF$600,8,FALSE),0)","v":0},{"$f":"IFERROR(VLOOKUP(PV5,MATCHSELEVES!$Y$14:$AG$600,9,FALSE),0)","v":0},{"$f":"$C5&\"p_31\"","v":"Adelp_31"},{"$f":"IFERROR(VLOOKUP(QB5,MATCHSELEVES!$Y$14:$AE$600,3,FALSE),0)","v":0},{"$f":"IFERROR(VLOOKUP(QB5,MATCHSELEVES!$Y$14:$AE$600,4,FALSE),0)","v":0},{"$f":"IFERROR(VLOOKUP(QB5,MATCHSELEVES!$Y$14:$AE$600,5,FALSE),0)","v":0},{"$f":"IFERROR(VLOOKUP(QB5,MATCHSELEVES!$Y$14:$AF$600,8,FALSE),0)","v":0},{"$f":"IFERROR(VLOOKUP(QB5,MATCHSELEVES!$Y$14:$AG$600,9,FALSE),0)","v":0},{"$f":"$C5&\"p_32\"","v":"Adelp_32"},{"$f":"IFERROR(VLOOKUP(QH5,MATCHSELEVES!$Y$14:$AE$600,3,FALSE),0)","v":0},{"$f":"IFERROR(VLOOKUP(QH5,MATCHSELEVES!$Y$14:$AE$600,4,FALSE),0)","v":0},{"$f":"IFERROR(VLOOKUP(QH5,MATCHSELEVES!$Y$14:$AE$600,5,FALSE),0)","v":0},{"$f":"IFERROR(VLOOKUP(QH5,MATCHSELEVES!$Y$14:$AF$600,8,FALSE),0)","v":0},{"$f":"IFERROR(VLOOKUP(QH5,MATCHSELEVES!$Y$14:$AG$600,9,FALSE),0)","v":0},{"$f":"$C5&\"p_33\"","v":"Adelp_33"},{"$f":"IFERROR(VLOOKUP(QN5,MATCHSELEVES!$Y$14:$AE$600,3,FALSE),0)","v":0},{"$f":"IFERROR(VLOOKUP(QN5,MATCHSELEVES!$Y$14:$AE$600,4,FALSE),0)","v":0},{"$f":"IFERROR(VLOOKUP(QN5,MATCHSELEVES!$Y$14:$AE$600,5,FALSE),0)","v":0},{"$f":"IFERROR(VLOOKUP(QN5,MATCHSELEVES!$Y$14:$AF$600,8,FALSE),0)","v":0},{"$f":"IFERROR(VLOOKUP(QN5,MATCHSELEVES!$Y$14:$AG$600,9,FALSE),0)","v":0},{"$f":"$C5&\"p_34\"","v":"Adelp_34"},{"$f":"IFERROR(VLOOKUP(QT5,MATCHSELEVES!$Y$14:$AE$600,3,FALSE),0)","v":0},{"$f":"IFERROR(VLOOKUP(QT5,MATCHSELEVES!$Y$14:$AE$600,4,FALSE),0)","v":0},{"$f":"IFERROR(VLOOKUP(QT5,MATCHSELEVES!$Y$14:$AE$600,5,FALSE),0)","v":0},{"$f":"IFERROR(VLOOKUP(QT5,MATCHSELEVES!$Y$14:$AF$600,8,FALSE),0)","v":0},{"$f":"IFERROR(VLOOKUP(QT5,MATCHSELEVES!$Y$14:$AG$600,9,FALSE),0)","v":0},{"$f":"$C5&\"p_35\"","v":"Adelp_35"},{"$f":"IFERROR(VLOOKUP(QZ5,MATCHSELEVES!$Y$14:$AE$600,3,FALSE),0)","v":0},{"$f":"IFERROR(VLOOKUP(QZ5,MATCHSELEVES!$Y$14:$AE$600,4,FALSE),0)","v":0},{"$f":"IFERROR(VLOOKUP(QZ5,MATCHSELEVES!$Y$14:$AE$600,5,FALSE),0)","v":0},{"$f":"IFERROR(VLOOKUP(QZ5,MATCHSELEVES!$Y$14:$AF$600,8,FALSE),0)","v":0},{"$f":"IFERROR(VLOOKUP(QZ5,MATCHSELEVES!$Y$14:$AG$600,9,FALSE),0)","v":0},{"$f":"$C5&\"p_36\"","v":"Adelp_36"},{"$f":"IFERROR(VLOOKUP(RF5,MATCHSELEVES!$Y$14:$AE$600,3,FALSE),0)","v":0},{"$f":"IFERROR(VLOOKUP(RF5,MATCHSELEVES!$Y$14:$AE$600,4,FALSE),0)","v":0},{"$f":"IFERROR(VLOOKUP(RF5,MATCHSELEVES!$Y$14:$AE$600,5,FALSE),0)","v":0},{"$f":"IFERROR(VLOOKUP(RF5,MATCHSELEVES!$Y$14:$AF$600,8,FALSE),0)","v":0},{"$f":"IFERROR(VLOOKUP(RF5,MATCHSELEVES!$Y$14:$AG$600,9,FALSE),0)","v":0},{"$f":"$C5&\"p_37\"","v":"Adelp_37"},{"$f":"IFERROR(VLOOKUP(RL5,MATCHSELEVES!$Y$14:$AE$600,3,FALSE),0)","v":0},{"$f":"IFERROR(VLOOKUP(RL5,MATCHSELEVES!$Y$14:$AE$600,4,FALSE),0)","v":0},{"$f":"IFERROR(VLOOKUP(RL5,MATCHSELEVES!$Y$14:$AE$600,5,FALSE),0)","v":0},{"$f":"IFERROR(VLOOKUP(RL5,MATCHSELEVES!$Y$14:$AF$600,8,FALSE),0)","v":0},{"$f":"IFERROR(VLOOKUP(RL5,MATCHSELEVES!$Y$14:$AG$600,9,FALSE),0)","v":0},{"$f":"$C5&\"p_38\"","v":"Adelp_38"},{"$f":"IFERROR(VLOOKUP(RR5,MATCHSELEVES!$Y$14:$AE$600,3,FALSE),0)","v":0},{"$f":"IFERROR(VLOOKUP(RR5,MATCHSELEVES!$Y$14:$AE$600,4,FALSE),0)","v":0},{"$f":"IFERROR(VLOOKUP(RR5,MATCHSELEVES!$Y$14:$AE$600,5,FALSE),0)","v":0},{"$f":"IFERROR(VLOOKUP(RR5,MATCHSELEVES!$Y$14:$AF$600,8,FALSE),0)","v":0},{"$f":"IFERROR(VLOOKUP(RR5,MATCHSELEVES!$Y$14:$AG$600,9,FALSE),0)","v":0},{"$f":"$C5&\"p_39\"","v":"Adelp_39"},{"$f":"IFERROR(VLOOKUP(RX5,MATCHSELEVES!$Y$14:$AE$600,3,FALSE),0)","v":0},{"$f":"IFERROR(VLOOKUP(RX5,MATCHSELEVES!$Y$14:$AE$600,4,FALSE),0)","v":0},{"$f":"IFERROR(VLOOKUP(RX5,MATCHSELEVES!$Y$14:$AE$600,5,FALSE),0)","v":0},{"$f":"IFERROR(VLOOKUP(RX5,MATCHSELEVES!$Y$14:$AF$600,8,FALSE),0)","v":0},{"$f":"IFERROR(VLOOKUP(RX5,MATCHSELEVES!$Y$14:$AG$600,9,FALSE),0)","v":0},{"$f":"$C5&\"p_40\"","v":"Adelp_40"},{"$f":"IFERROR(VLOOKUP(SD5,MATCHSELEVES!$Y$14:$AE$600,3,FALSE),0)","v":0},{"$f":"IFERROR(VLOOKUP(SD5,MATCHSELEVES!$Y$14:$AE$600,4,FALSE),0)","v":0},{"$f":"IFERROR(VLOOKUP(SD5,MATCHSELEVES!$Y$14:$AE$600,5,FALSE),0)","v":0},{"$f":"IFERROR(VLOOKUP(SD5,MATCHSELEVES!$Y$14:$AF$600,8,FALSE),0)","v":0},{"$f":"IFERROR(VLOOKUP(SD5,MATCHSELEVES!$Y$14:$AG$600,9,FALSE),0)","v":0}]
[3,null,{"$f":"MD1POINT!C6","v":"Adem"},{"$f":"MD1POINT!D6","v":1},{"$f":"COUNTIF(MATCHSELEVES!$Z$14:$Z$600,C6)+COUNTIF(MATCHSELEVES!$Z$14:$Z$600,$C6&\"p\")","v":0},1,{"$f":"COUNTIF(MATCHSELEVES!$F$14:$H$249,C6)","v":0},1,0,1,0,1,0,1,{"$f":"Y6+AE6+AK6+AQ6+AW6+BC6+BI6+BO6+BU6+CA6+CG6+CM6+CS6+CY6+DE6+DK6+DQ6+DW6+EC6+EI6+EO6+EU6+FA6+FG6+FM6+FS6+FY6+GE6+GK6+GQ6+GW6+4+HI6+HO6+HU6+IA6+HC6+IG6+IM6+IY6+IS6+JH6+JN6+JZ6+JT6+KF6+KR6+KX6+LJ6+LP6+LV6+LD6+MB6+MH6+MN6+MZ6+MT6+NF6+NL6+NR6+NX6+OD6+OJ6+OP6+OV6+PB6+PH6+PT6+PN6+PZ6+QF6+QL6+QR6+RD6+QX6+RJ6+RP6+RV6+SB6+SH6+KL6+Tableau10[[#This Row],[Nombre de matchs joués]]*2","v":4},1,{"$f":"(Tableau10[[#This Row],[CLASSEMENT1]]+Tableau10[[#This Row],[CLASSEMENT2]]+Tableau10[[#This Row],[CLASSEMENT3]]+Tableau10[[#This Row],[CLASSEMENT4]]+Tableau10[[#This Row],[CLASSEMENT5]]+Tableau10[[#This Row],[CLASSEMENT6]])/6","v":1},{"$f":"RANK(Tableau10[[#This Row],[MOYENNE CLASSEMENTS]],Tableau10[MOYENNE CLASSEMENTS],1)","v":1},null,{"$f":"Tableau10[[#This Row],[CLASSEMENT1]]","v":1},"Adem_1",{"$f":"IFERROR(VLOOKUP(U6,MATCHSELEVES!$Y$14:$AE$600,3,FALSE),0)","v":0},{"$f":"IFERROR(VLOOKUP(U6,MATCHSELEVES!$Y$14:$AE$600,4,FALSE),0)","v":0},{"$f":"IFERROR(VLOOKUP(U6,MATCHSELEVES!$Y$14:$AE$600,5,FALSE),0)","v":0},{"$f":"IFERROR(VLOOKUP(U6,MATCHSELEVES!$Y$14:$AF$600,8,FALSE),0)","v":0},{"$f":"IFERROR(VLOOKUP(U6,MATCHSELEVES!$Y$14:$AG$600,9,FALSE),0)","v":0},"Adem_2",{"$f":"IFERROR(VLOOKUP(AA6,MATCHSELEVES!$Y$14:$AE$600,3,FALSE),0)","v":0},{"$f":"IFERROR(VLOOKUP(AA6,MATCHSELEVES!$Y$14:$AE$600,4,FALSE),0)","v":0},{"$f":"IFERROR(VLOOKUP(AA6,MATCHSELEVES!$Y$14:$AE$600,5,FALSE),0)","v":0},{"$f":"IFERROR(VLOOKUP(AA6,MATCHSELEVES!$Y$14:$AF$600,8,FALSE),0)","v":0},{"$f":"IFERROR(VLOOKUP(AA6,MATCHSELEVES!$Y$14:$AG$600,9,FALSE),0)","v":0},"Adem_3",{"$f":"IFERROR(VLOOKUP(AG6,MATCHSELEVES!$Y$14:$AE$600,3,FALSE),0)","v":0},{"$f":"IFERROR(VLOOKUP(AG6,MATCHSELEVES!$Y$14:$AE$600,4,FALSE),0)","v":0},{"$f":"IFERROR(VLOOKUP(AG6,MATCHSELEVES!$Y$14:$AE$600,5,FALSE),0)","v":0},{"$f":"IFERROR(VLOOKUP(AG6,MATCHSELEVES!$Y$14:$AF$600,8,FALSE),0)","v":0},{"$f":"IFERROR(VLOOKUP(AG6,MATCHSELEVES!$Y$14:$AG$600,9,FALSE),0)","v":0},"Adem_4",{"$f":"IFERROR(VLOOKUP(AM6,MATCHSELEVES!$Y$14:$AE$600,3,FALSE),0)","v":0},{"$f":"IFERROR(VLOOKUP(AM6,MATCHSELEVES!$Y$14:$AE$600,4,FALSE),0)","v":0},{"$f":"IFERROR(VLOOKUP(AM6,MATCHSELEVES!$Y$14:$AE$600,5,FALSE),0)","v":0},{"$f":"IFERROR(VLOOKUP(AM6,MATCHSELEVES!$Y$14:$AF$600,8,FALSE),0)","v":0},{"$f":"IFERROR(VLOOKUP(AM6,MATCHSELEVES!$Y$14:$AG$600,9,FALSE),0)","v":0},"Adem_5",{"$f":"IFERROR(VLOOKUP(AS6,MATCHSELEVES!$Y$14:$AE$600,3,FALSE),0)","v":0},{"$f":"IFERROR(VLOOKUP(AS6,MATCHSELEVES!$Y$14:$AE$600,4,FALSE),0)","v":0},{"$f":"IFERROR(VLOOKUP(AS6,MATCHSELEVES!$Y$14:$AE$600,5,FALSE),0)","v":0},{"$f":"IFERROR(VLOOKUP(AS6,MATCHSELEVES!$Y$14:$AF$600,8,FALSE),0)","v":0},{"$f":"IFERROR(VLOOKUP(AS6,MATCHSELEVES!$Y$14:$AG$600,9,FALSE),0)","v":0},"Adem_6",{"$f":"IFERROR(VLOOKUP(AY6,MATCHSELEVES!$Y$14:$AE$600,3,FALSE),0)","v":0},{"$f":"IFERROR(VLOOKUP(AY6,MATCHSELEVES!$Y$14:$AE$600,4,FALSE),0)","v":0},{"$f":"IFERROR(VLOOKUP(AY6,MATCHSELEVES!$Y$14:$AE$600,5,FALSE),0)","v":0},{"$f":"IFERROR(VLOOKUP(AY6,MATCHSELEVES!$Y$14:$AF$600,8,FALSE),0)","v":0},{"$f":"IFERROR(VLOOKUP(AY6,MATCHSELEVES!$Y$14:$AG$600,9,FALSE),0)","v":0},"Adem_7",{"$f":"IFERROR(VLOOKUP(BE6,MATCHSELEVES!$Y$14:$AE$600,3,FALSE),0)","v":0},{"$f":"IFERROR(VLOOKUP(BE6,MATCHSELEVES!$Y$14:$AE$600,4,FALSE),0)","v":0},{"$f":"IFERROR(VLOOKUP(BE6,MATCHSELEVES!$Y$14:$AE$600,5,FALSE),0)","v":0},{"$f":"IFERROR(VLOOKUP(BE6,MATCHSELEVES!$Y$14:$AF$600,8,FALSE),0)","v":0},{"$f":"IFERROR(VLOOKUP(BE6,MATCHSELEVES!$Y$14:$AG$600,9,FALSE),0)","v":0},"Adem_8",{"$f":"IFERROR(VLOOKUP(BK6,MATCHSELEVES!$Y$14:$AE$600,3,FALSE),0)","v":0},{"$f":"IFERROR(VLOOKUP(BK6,MATCHSELEVES!$Y$14:$AE$600,4,FALSE),0)","v":0},{"$f":"IFERROR(VLOOKUP(BK6,MATCHSELEVES!$Y$14:$AE$600,5,FALSE),0)","v":0},{"$f":"IFERROR(VLOOKUP(BK6,MATCHSELEVES!$Y$14:$AF$600,8,FALSE),0)","v":0},{"$f":"IFERROR(VLOOKUP(BK6,MATCHSELEVES!$Y$14:$AG$600,9,FALSE),0)","v":0},"Adem_9",{"$f":"IFERROR(VLOOKUP(BQ6,MATCHSELEVES!$Y$14:$AE$600,3,FALSE),0)","v":0},{"$f":"IFERROR(VLOOKUP(BQ6,MATCHSELEVES!$Y$14:$AE$600,4,FALSE),0)","v":0},{"$f":"IFERROR(VLOOKUP(BQ6,MATCHSELEVES!$Y$14:$AE$600,5,FALSE),0)","v":0},{"$f":"IFERROR(VLOOKUP(BQ6,MATCHSELEVES!$Y$14:$AF$600,8,FALSE),0)","v":0},{"$f":"IFERROR(VLOOKUP(BQ6,MATCHSELEVES!$Y$14:$AG$600,9,FALSE),0)","v":0},"Adem_10",{"$f":"IFERROR(VLOOKUP(BW6,MATCHSELEVES!$Y$14:$AE$600,3,FALSE),0)","v":0},{"$f":"IFERROR(VLOOKUP(BW6,MATCHSELEVES!$Y$14:$AE$600,4,FALSE),0)","v":0},{"$f":"IFERROR(VLOOKUP(BW6,MATCHSELEVES!$Y$14:$AE$600,5,FALSE),0)","v":0},{"$f":"IFERROR(VLOOKUP(BW6,MATCHSELEVES!$Y$14:$AF$600,8,FALSE),0)","v":0},{"$f":"IFERROR(VLOOKUP(BW6,MATCHSELEVES!$Y$14:$AG$600,9,FALSE),0)","v":0},"Adem_11",{"$f":"IFERROR(VLOOKUP(CC6,MATCHSELEVES!$Y$14:$AE$600,3,FALSE),0)","v":0},{"$f":"IFERROR(VLOOKUP(CC6,MATCHSELEVES!$Y$14:$AE$600,4,FALSE),0)","v":0},{"$f":"IFERROR(VLOOKUP(CC6,MATCHSELEVES!$Y$14:$AE$600,5,FALSE),0)","v":0},{"$f":"IFERROR(VLOOKUP(CC6,MATCHSELEVES!$Y$14:$AF$600,8,FALSE),0)","v":0},{"$f":"IFERROR(VLOOKUP(CC6,MATCHSELEVES!$Y$14:$AG$600,9,FALSE),0)","v":0},"Adem_12",{"$f":"IFERROR(VLOOKUP(CI6,MATCHSELEVES!$Y$14:$AE$600,3,FALSE),0)","v":0},{"$f":"IFERROR(VLOOKUP(CI6,MATCHSELEVES!$Y$14:$AE$600,4,FALSE),0)","v":0},{"$f":"IFERROR(VLOOKUP(CI6,MATCHSELEVES!$Y$14:$AE$600,5,FALSE),0)","v":0},{"$f":"IFERROR(VLOOKUP(CI6,MATCHSELEVES!$Y$14:$AF$600,8,FALSE),0)","v":0},{"$f":"IFERROR(VLOOKUP(CI6,MATCHSELEVES!$Y$14:$AG$600,9,FALSE),0)","v":0},"Adem_13",{"$f":"IFERROR(VLOOKUP(CO6,MATCHSELEVES!$Y$14:$AE$600,3,FALSE),0)","v":0},{"$f":"IFERROR(VLOOKUP(CO6,MATCHSELEVES!$Y$14:$AE$600,4,FALSE),0)","v":0},{"$f":"IFERROR(VLOOKUP(CO6,MATCHSELEVES!$Y$14:$AE$600,5,FALSE),0)","v":0},{"$f":"IFERROR(VLOOKUP(CO6,MATCHSELEVES!$Y$14:$AF$600,8,FALSE),0)","v":0},{"$f":"IFERROR(VLOOKUP(CO6,MATCHSELEVES!$Y$14:$AG$600,9,FALSE),0)","v":0},"Adem_14",{"$f":"IFERROR(VLOOKUP(CU6,MATCHSELEVES!$Y$14:$AE$600,3,FALSE),0)","v":0},{"$f":"IFERROR(VLOOKUP(CU6,MATCHSELEVES!$Y$14:$AE$600,4,FALSE),0)","v":0},{"$f":"IFERROR(VLOOKUP(CU6,MATCHSELEVES!$Y$14:$AE$600,5,FALSE),0)","v":0},{"$f":"IFERROR(VLOOKUP(CU6,MATCHSELEVES!$Y$14:$AF$600,8,FALSE),0)","v":0},{"$f":"IFERROR(VLOOKUP(CU6,MATCHSELEVES!$Y$14:$AG$600,9,FALSE),0)","v":0},"Adem_15",{"$f":"IFERROR(VLOOKUP(DA6,MATCHSELEVES!$Y$14:$AE$600,3,FALSE),0)","v":0},{"$f":"IFERROR(VLOOKUP(DA6,MATCHSELEVES!$Y$14:$AE$600,4,FALSE),0)","v":0},{"$f":"IFERROR(VLOOKUP(DA6,MATCHSELEVES!$Y$14:$AE$600,5,FALSE),0)","v":0},{"$f":"IFERROR(VLOOKUP(DA6,MATCHSELEVES!$Y$14:$AF$600,8,FALSE),0)","v":0},{"$f":"IFERROR(VLOOKUP(DA6,MATCHSELEVES!$Y$14:$AG$600,9,FALSE),0)","v":0},"Adem_16",{"$f":"IFERROR(VLOOKUP(DG6,MATCHSELEVES!$Y$14:$AE$600,3,FALSE),0)","v":0},{"$f":"IFERROR(VLOOKUP(DG6,MATCHSELEVES!$Y$14:$AE$600,4,FALSE),0)","v":0},{"$f":"IFERROR(VLOOKUP(DG6,MATCHSELEVES!$Y$14:$AE$600,5,FALSE),0)","v":0},{"$f":"IFERROR(VLOOKUP(DG6,MATCHSELEVES!$Y$14:$AF$600,8,FALSE),0)","v":0},{"$f":"IFERROR(VLOOKUP(DG6,MATCHSELEVES!$Y$14:$AG$600,9,FALSE),0)","v":0},"Adem_17",{"$f":"IFERROR(VLOOKUP(DM6,MATCHSELEVES!$Y$14:$AE$600,3,FALSE),0)","v":0},{"$f":"IFERROR(VLOOKUP(DM6,MATCHSELEVES!$Y$14:$AE$600,4,FALSE),0)","v":0},{"$f":"IFERROR(VLOOKUP(DM6,MATCHSELEVES!$Y$14:$AE$600,5,FALSE),0)","v":0},{"$f":"IFERROR(VLOOKUP(DM6,MATCHSELEVES!$Y$14:$AF$600,8,FALSE),0)","v":0},{"$f":"IFERROR(VLOOKUP(DM6,MATCHSELEVES!$Y$14:$AG$600,9,FALSE),0)","v":0},"Adem_18",{"$f":"IFERROR(VLOOKUP(DS6,MATCHSELEVES!$Y$14:$AE$600,3,FALSE),0)","v":0},{"$f":"IFERROR(VLOOKUP(DS6,MATCHSELEVES!$Y$14:$AE$600,4,FALSE),0)","v":0},{"$f":"IFERROR(VLOOKUP(DS6,MATCHSELEVES!$Y$14:$AE$600,5,FALSE),0)","v":0},{"$f":"IFERROR(VLOOKUP(DS6,MATCHSELEVES!$Y$14:$AF$600,8,FALSE),0)","v":0},{"$f":"IFERROR(VLOOKUP(DS6,MATCHSELEVES!$Y$14:$AG$600,9,FALSE),0)","v":0},"Adem_19",{"$f":"IFERROR(VLOOKUP(DY6,MATCHSELEVES!$Y$14:$AE$600,3,FALSE),0)","v":0},{"$f":"IFERROR(VLOOKUP(DY6,MATCHSELEVES!$Y$14:$AE$600,4,FALSE),0)","v":0},{"$f":"IFERROR(VLOOKUP(DY6,MATCHSELEVES!$Y$14:$AE$600,5,FALSE),0)","v":0},{"$f":"IFERROR(VLOOKUP(DY6,MATCHSELEVES!$Y$14:$AF$600,8,FALSE),0)","v":0},{"$f":"IFERROR(VLOOKUP(DY6,MATCHSELEVES!$Y$14:$AG$600,9,FALSE),0)","v":0},"Adem_20",{"$f":"IFERROR(VLOOKUP(EE6,MATCHSELEVES!$Y$14:$AE$600,3,FALSE),0)","v":0},{"$f":"IFERROR(VLOOKUP(EE6,MATCHSELEVES!$Y$14:$AE$600,4,FALSE),0)","v":0},{"$f":"IFERROR(VLOOKUP(EE6,MATCHSELEVES!$Y$14:$AE$600,5,FALSE),0)","v":0},{"$f":"IFERROR(VLOOKUP(EE6,MATCHSELEVES!$Y$14:$AF$600,8,FALSE),0)","v":0},{"$f":"IFERROR(VLOOKUP(EE6,MATCHSELEVES!$Y$14:$AG$600,9,FALSE),0)","v":0},"Adem_21",{"$f":"IFERROR(VLOOKUP(EK6,MATCHSELEVES!$Y$14:$AE$600,3,FALSE),0)","v":0},{"$f":"IFERROR(VLOOKUP(EK6,MATCHSELEVES!$Y$14:$AE$600,4,FALSE),0)","v":0},{"$f":"IFERROR(VLOOKUP(EK6,MATCHSELEVES!$Y$14:$AE$600,5,FALSE),0)","v":0},{"$f":"IFERROR(VLOOKUP(EK6,MATCHSELEVES!$Y$14:$AF$600,8,FALSE),0)","v":0},{"$f":"IFERROR(VLOOKUP(EK6,MATCHSELEVES!$Y$14:$AG$600,9,FALSE),0)","v":0},"Adem_22",{"$f":"IFERROR(VLOOKUP(EQ6,MATCHSELEVES!$Y$14:$AE$600,3,FALSE),0)","v":0},{"$f":"IFERROR(VLOOKUP(EQ6,MATCHSELEVES!$Y$14:$AE$600,4,FALSE),0)","v":0},{"$f":"IFERROR(VLOOKUP(EQ6,MATCHSELEVES!$Y$14:$AE$600,5,FALSE),0)","v":0},{"$f":"IFERROR(VLOOKUP(EQ6,MATCHSELEVES!$Y$14:$AF$600,8,FALSE),0)","v":0},{"$f":"IFERROR(VLOOKUP(EQ6,MATCHSELEVES!$Y$14:$AG$600,9,FALSE),0)","v":0},"Adem_23",{"$f":"IFERROR(VLOOKUP(EW6,MATCHSELEVES!$Y$14:$AE$600,3,FALSE),0)","v":0},{"$f":"IFERROR(VLOOKUP(EW6,MATCHSELEVES!$Y$14:$AE$600,4,FALSE),0)","v":0},{"$f":"IFERROR(VLOOKUP(EW6,MATCHSELEVES!$Y$14:$AE$600,5,FALSE),0)","v":0},{"$f":"IFERROR(VLOOKUP(EW6,MATCHSELEVES!$Y$14:$AF$600,8,FALSE),0)","v":0},{"$f":"IFERROR(VLOOKUP(EW6,MATCHSELEVES!$Y$14:$AG$600,9,FALSE),0)","v":0},"Adem_24",{"$f":"IFERROR(VLOOKUP(FC6,MATCHSELEVES!$Y$14:$AE$600,3,FALSE),0)","v":0},{"$f":"IFERROR(VLOOKUP(FC6,MATCHSELEVES!$Y$14:$AE$600,4,FALSE),0)","v":0},{"$f":"IFERROR(VLOOKUP(FC6,MATCHSELEVES!$Y$14:$AE$600,5,FALSE),0)","v":0},{"$f":"IFERROR(VLOOKUP(FC6,MATCHSELEVES!$Y$14:$AF$600,8,FALSE),0)","v":0},{"$f":"IFERROR(VLOOKUP(FC6,MATCHSELEVES!$Y$14:$AG$600,9,FALSE),0)","v":0},"Adem_25",{"$f":"IFERROR(VLOOKUP(FI6,MATCHSELEVES!$Y$14:$AE$600,3,FALSE),0)","v":0},{"$f":"IFERROR(VLOOKUP(FI6,MATCHSELEVES!$Y$14:$AE$600,4,FALSE),0)","v":0},{"$f":"IFERROR(VLOOKUP(FI6,MATCHSELEVES!$Y$14:$AE$600,5,FALSE),0)","v":0},{"$f":"IFERROR(VLOOKUP(FI6,MATCHSELEVES!$Y$14:$AF$600,8,FALSE),0)","v":0},{"$f":"IFERROR(VLOOKUP(FI6,MATCHSELEVES!$Y$14:$AG$600,9,FALSE),0)","v":0},"Adem_26",{"$f":"IFERROR(VLOOKUP(FO6,MATCHSELEVES!$Y$14:$AE$600,3,FALSE),0)","v":0},{"$f":"IFERROR(VLOOKUP(FO6,MATCHSELEVES!$Y$14:$AE$600,4,FALSE),0)","v":0},{"$f":"IFERROR(VLOOKUP(FO6,MATCHSELEVES!$Y$14:$AE$600,5,FALSE),0)","v":0},{"$f":"IFERROR(VLOOKUP(FO6,MATCHSELEVES!$Y$14:$AF$600,8,FALSE),0)","v":0},{"$f":"IFERROR(VLOOKUP(FO6,MATCHSELEVES!$Y$14:$AG$600,9,FALSE),0)","v":0},"Adem_27",{"$f":"IFERROR(VLOOKUP(FU6,MATCHSELEVES!$Y$14:$AE$600,3,FALSE),0)","v":0},{"$f":"IFERROR(VLOOKUP(FU6,MATCHSELEVES!$Y$14:$AE$600,4,FALSE),0)","v":0},{"$f":"IFERROR(VLOOKUP(FU6,MATCHSELEVES!$Y$14:$AE$600,5,FALSE),0)","v":0},{"$f":"IFERROR(VLOOKUP(FU6,MATCHSELEVES!$Y$14:$AF$600,8,FALSE),0)","v":0},{"$f":"IFERROR(VLOOKUP(FU6,MATCHSELEVES!$Y$14:$AG$600,9,FALSE),0)","v":0},"Adem_28",{"$f":"IFERROR(VLOOKUP(GA6,MATCHSELEVES!$Y$14:$AE$600,3,FALSE),0)","v":0},{"$f":"IFERROR(VLOOKUP(GA6,MATCHSELEVES!$Y$14:$AE$600,4,FALSE),0)","v":0},{"$f":"IFERROR(VLOOKUP(GA6,MATCHSELEVES!$Y$14:$AE$600,5,FALSE),0)","v":0},{"$f":"IFERROR(VLOOKUP(GA6,MATCHSELEVES!$Y$14:$AF$600,8,FALSE),0)","v":0},{"$f":"IFERROR(VLOOKUP(GA6,MATCHSELEVES!$Y$14:$AG$600,9,FALSE),0)","v":0},"Adem_29",{"$f":"IFERROR(VLOOKUP(GG6,MATCHSELEVES!$Y$14:$AE$600,3,FALSE),0)","v":0},{"$f":"IFERROR(VLOOKUP(GG6,MATCHSELEVES!$Y$14:$AE$600,4,FALSE),0)","v":0},{"$f":"IFERROR(VLOOKUP(GG6,MATCHSELEVES!$Y$14:$AE$600,5,FALSE),0)","v":0},{"$f":"IFERROR(VLOOKUP(GG6,MATCHSELEVES!$Y$14:$AF$600,8,FALSE),0)","v":0},{"$f":"IFERROR(VLOOKUP(GG6,MATCHSELEVES!$Y$14:$AG$600,9,FALSE),0)","v":0},"Adem_30",{"$f":"IFERROR(VLOOKUP(GM6,MATCHSELEVES!$Y$14:$AE$600,3,FALSE),0)","v":0},{"$f":"IFERROR(VLOOKUP(GM6,MATCHSELEVES!$Y$14:$AE$600,4,FALSE),0)","v":0},{"$f":"IFERROR(VLOOKUP(GM6,MATCHSELEVES!$Y$14:$AE$600,5,FALSE),0)","v":0},{"$f":"IFERROR(VLOOKUP(GM6,MATCHSELEVES!$Y$14:$AF$600,8,FALSE),0)","v":0},{"$f":"IFERROR(VLOOKUP(GM6,MATCHSELEVES!$Y$14:$AG$600,9,FALSE),0)","v":0},"Adem_31",{"$f":"IFERROR(VLOOKUP(GS6,MATCHSELEVES!$Y$14:$AE$600,3,FALSE),0)","v":0},{"$f":"IFERROR(VLOOKUP(GS6,MATCHSELEVES!$Y$14:$AE$600,4,FALSE),0)","v":0},{"$f":"IFERROR(VLOOKUP(GS6,MATCHSELEVES!$Y$14:$AE$600,5,FALSE),0)","v":0},{"$f":"IFERROR(VLOOKUP(GS6,MATCHSELEVES!$Y$14:$AF$600,8,FALSE),0)","v":0},{"$f":"IFERROR(VLOOKUP(GS6,MATCHSELEVES!$Y$14:$AG$600,9,FALSE),0)","v":0},"Adem_32",{"$f":"IFERROR(VLOOKUP(GY6,MATCHSELEVES!$Y$14:$AE$600,3,FALSE),0)","v":0},{"$f":"IFERROR(VLOOKUP(GY6,MATCHSELEVES!$Y$14:$AE$600,4,FALSE),0)","v":0},{"$f":"IFERROR(VLOOKUP(GY6,MATCHSELEVES!$Y$14:$AE$600,5,FALSE),0)","v":0},{"$f":"IFERROR(VLOOKUP(GY6,MATCHSELEVES!$Y$14:$AF$600,8,FALSE),0)","v":0},{"$f":"IFERROR(VLOOKUP(GY6,MATCHSELEVES!$Y$14:$AG$600,9,FALSE),0)","v":0},"Adem_33",{"$f":"IFERROR(VLOOKUP(HE6,MATCHSELEVES!$Y$14:$AE$600,3,FALSE),0)","v":0},{"$f":"IFERROR(VLOOKUP(HE6,MATCHSELEVES!$Y$14:$AE$600,4,FALSE),0)","v":0},{"$f":"IFERROR(VLOOKUP(HE6,MATCHSELEVES!$Y$14:$AE$600,5,FALSE),0)","v":0},{"$f":"IFERROR(VLOOKUP(HE6,MATCHSELEVES!$Y$14:$AF$600,8,FALSE),0)","v":0},{"$f":"IFERROR(VLOOKUP(HE6,MATCHSELEVES!$Y$14:$AG$600,9,FALSE),0)","v":0},"Adem_34",{"$f":"IFERROR(VLOOKUP(HK6,MATCHSELEVES!$Y$14:$AE$600,3,FALSE),0)","v":0},{"$f":"IFERROR(VLOOKUP(HK6,MATCHSELEVES!$Y$14:$AE$600,4,FALSE),0)","v":0},{"$f":"IFERROR(VLOOKUP(HK6,MATCHSELEVES!$Y$14:$AE$600,5,FALSE),0)","v":0},{"$f":"IFERROR(VLOOKUP(HK6,MATCHSELEVES!$Y$14:$AF$600,8,FALSE),0)","v":0},{"$f":"IFERROR(VLOOKUP(HK6,MATCHSELEVES!$Y$14:$AG$600,9,FALSE),0)","v":0},"Adem_35",{"$f":"IFERROR(VLOOKUP(HQ6,MATCHSELEVES!$Y$14:$AE$600,3,FALSE),0)","v":0},{"$f":"IFERROR(VLOOKUP(HQ6,MATCHSELEVES!$Y$14:$AE$600,4,FALSE),0)","v":0},{"$f":"IFERROR(VLOOKUP(HQ6,MATCHSELEVES!$Y$14:$AE$600,5,FALSE),0)","v":0},{"$f":"IFERROR(VLOOKUP(HQ6,MATCHSELEVES!$Y$14:$AF$600,8,FALSE),0)","v":0},{"$f":"IFERROR(VLOOKUP(HQ6,MATCHSELEVES!$Y$14:$AG$600,9,FALSE),0)","v":0},"Adem_36",{"$f":"IFERROR(VLOOKUP(HW6,MATCHSELEVES!$Y$14:$AE$600,3,FALSE),0)","v":0},{"$f":"IFERROR(VLOOKUP(HW6,MATCHSELEVES!$Y$14:$AE$600,4,FALSE),0)","v":0},{"$f":"IFERROR(VLOOKUP(HW6,MATCHSELEVES!$Y$14:$AE$600,5,FALSE),0)","v":0},{"$f":"IFERROR(VLOOKUP(HW6,MATCHSELEVES!$Y$14:$AF$600,8,FALSE),0)","v":0},{"$f":"IFERROR(VLOOKUP(HW6,MATCHSELEVES!$Y$14:$AG$600,9,FALSE),0)","v":0},"Adem_37",{"$f":"IFERROR(VLOOKUP(IC6,MATCHSELEVES!$Y$14:$AE$600,3,FALSE),0)","v":0},{"$f":"IFERROR(VLOOKUP(IC6,MATCHSELEVES!$Y$14:$AE$600,4,FALSE),0)","v":0},{"$f":"IFERROR(VLOOKUP(IC6,MATCHSELEVES!$Y$14:$AE$600,5,FALSE),0)","v":0},{"$f":"IFERROR(VLOOKUP(IC6,MATCHSELEVES!$Y$14:$AF$600,8,FALSE),0)","v":0},{"$f":"IFERROR(VLOOKUP(IC6,MATCHSELEVES!$Y$14:$AG$600,9,FALSE),0)","v":0},"Adem_38",{"$f":"IFERROR(VLOOKUP(II6,MATCHSELEVES!$Y$14:$AE$600,3,FALSE),0)","v":0},{"$f":"IFERROR(VLOOKUP(II6,MATCHSELEVES!$Y$14:$AE$600,4,FALSE),0)","v":0},{"$f":"IFERROR(VLOOKUP(II6,MATCHSELEVES!$Y$14:$AE$600,5,FALSE),0)","v":0},{"$f":"IFERROR(VLOOKUP(II6,MATCHSELEVES!$Y$14:$AF$600,8,FALSE),0)","v":0},{"$f":"IFERROR(VLOOKUP(II6,MATCHSELEVES!$Y$14:$AG$600,9,FALSE),0)","v":0},"Adem_39",{"$f":"IFERROR(VLOOKUP(IO6,MATCHSELEVES!$Y$14:$AE$600,3,FALSE),0)","v":0},{"$f":"IFERROR(VLOOKUP(IO6,MATCHSELEVES!$Y$14:$AE$600,4,FALSE),0)","v":0},{"$f":"IFERROR(VLOOKUP(IO6,MATCHSELEVES!$Y$14:$AE$600,5,FALSE),0)","v":0},{"$f":"IFERROR(VLOOKUP(IO6,MATCHSELEVES!$Y$14:$AF$600,8,FALSE),0)","v":0},{"$f":"IFERROR(VLOOKUP(IO6,MATCHSELEVES!$Y$14:$AG$600,9,FALSE),0)","v":0},"Adem_40",{"$f":"IFERROR(VLOOKUP(IU6,MATCHSELEVES!$Y$14:$AE$600,3,FALSE),0)","v":0},{"$f":"IFERROR(VLOOKUP(IU6,MATCHSELEVES!$Y$14:$AE$600,4,FALSE),0)","v":0},{"$f":"IFERROR(VLOOKUP(IU6,MATCHSELEVES!$Y$14:$AE$600,5,FALSE),0)","v":0},{"$f":"IFERROR(VLOOKUP(IU6,MATCHSELEVES!$Y$14:$AF$600,8,FALSE),0)","v":0},{"$f":"IFERROR(VLOOKUP(IU6,MATCHSELEVES!$Y$14:$AG$600,9,FALSE),0)","v":0},{"$f":"Tableau10[[#This Row],[CLASSE]]","v":"Adem"},1,{"$f":"MD1POINT!D6","v":1},"Ademp_1",{"$f":"IFERROR(VLOOKUP(JD6,MATCHSELEVES!$Y$14:$AE$600,3,FALSE),0)","v":0},{"$f":"IFERROR(VLOOKUP(JD6,MATCHSELEVES!$Y$14:$AE$600,4,FALSE),0)","v":0},{"$f":"IFERROR(VLOOKUP(JD6,MATCHSELEVES!$Y$14:$AE$600,5,FALSE),0)","v":0},{"$f":"IFERROR(VLOOKUP(JD6,MATCHSELEVES!$Y$14:$AF$600,8,FALSE),0)","v":0},{"$f":"IFERROR(VLOOKUP(JD6,MATCHSELEVES!$Y$14:$AG$600,9,FALSE),0)","v":0},"Ademp_2",{"$f":"IFERROR(VLOOKUP(JJ6,MATCHSELEVES!$Y$14:$AE$600,3,FALSE),0)","v":0},{"$f":"IFERROR(VLOOKUP(JJ6,MATCHSELEVES!$Y$14:$AE$600,4,FALSE),0)","v":0},{"$f":"IFERROR(VLOOKUP(JJ6,MATCHSELEVES!$Y$14:$AE$600,5,FALSE),0)","v":0},{"$f":"IFERROR(VLOOKUP(JJ6,MATCHSELEVES!$Y$14:$AF$600,8,FALSE),0)","v":0},{"$f":"IFERROR(VLOOKUP(JJ6,MATCHSELEVES!$Y$14:$AG$600,9,FALSE),0)","v":0},"Ademp_3",{"$f":"IFERROR(VLOOKUP(JP6,MATCHSELEVES!$Y$14:$AE$600,3,FALSE),0)","v":0},{"$f":"IFERROR(VLOOKUP(JP6,MATCHSELEVES!$Y$14:$AE$600,4,FALSE),0)","v":0},{"$f":"IFERROR(VLOOKUP(JP6,MATCHSELEVES!$Y$14:$AE$600,5,FALSE),0)","v":0},{"$f":"IFERROR(VLOOKUP(JP6,MATCHSELEVES!$Y$14:$AF$600,8,FALSE),0)","v":0},{"$f":"IFERROR(VLOOKUP(JP6,MATCHSELEVES!$Y$14:$AG$600,9,FALSE),0)","v":0},"Ademp_4",{"$f":"IFERROR(VLOOKUP(JV6,MATCHSELEVES!$Y$14:$AE$600,3,FALSE),0)","v":0},{"$f":"IFERROR(VLOOKUP(JV6,MATCHSELEVES!$Y$14:$AE$600,4,FALSE),0)","v":0},{"$f":"IFERROR(VLOOKUP(JV6,MATCHSELEVES!$Y$14:$AE$600,5,FALSE),0)","v":0},{"$f":"IFERROR(VLOOKUP(JV6,MATCHSELEVES!$Y$14:$AF$600,8,FALSE),0)","v":0},{"$f":"IFERROR(VLOOKUP(JV6,MATCHSELEVES!$Y$14:$AG$600,9,FALSE),0)","v":0},"Ademp_5",{"$f":"IFERROR(VLOOKUP(KB6,MATCHSELEVES!$Y$14:$AE$600,3,FALSE),0)","v":0},{"$f":"IFERROR(VLOOKUP(KB6,MATCHSELEVES!$Y$14:$AE$600,4,FALSE),0)","v":0},{"$f":"IFERROR(VLOOKUP(KB6,MATCHSELEVES!$Y$14:$AE$600,5,FALSE),0)","v":0},{"$f":"IFERROR(VLOOKUP(KB6,MATCHSELEVES!$Y$14:$AF$600,8,FALSE),0)","v":0},{"$f":"IFERROR(VLOOKUP(KB6,MATCHSELEVES!$Y$14:$AG$600,9,FALSE),0)","v":0},"Ademp_6",{"$f":"IFERROR(VLOOKUP(KH6,MATCHSELEVES!$Y$14:$AE$600,3,FALSE),0)","v":0},{"$f":"IFERROR(VLOOKUP(KH6,MATCHSELEVES!$Y$14:$AE$600,4,FALSE),0)","v":0},{"$f":"IFERROR(VLOOKUP(KH6,MATCHSELEVES!$Y$14:$AE$600,5,FALSE),0)","v":0},{"$f":"IFERROR(VLOOKUP(KH6,MATCHSELEVES!$Y$14:$AF$600,8,FALSE),0)","v":0},{"$f":"IFERROR(VLOOKUP(KH6,MATCHSELEVES!$Y$14:$AG$600,9,FALSE),0)","v":0},"Ademp_7",{"$f":"IFERROR(VLOOKUP(KN6,MATCHSELEVES!$Y$14:$AE$600,3,FALSE),0)","v":0},{"$f":"IFERROR(VLOOKUP(KN6,MATCHSELEVES!$Y$14:$AE$600,4,FALSE),0)","v":0},{"$f":"IFERROR(VLOOKUP(KN6,MATCHSELEVES!$Y$14:$AE$600,5,FALSE),0)","v":0},{"$f":"IFERROR(VLOOKUP(KN6,MATCHSELEVES!$Y$14:$AF$600,8,FALSE),0)","v":0},{"$f":"IFERROR(VLOOKUP(KN6,MATCHSELEVES!$Y$14:$AG$600,9,FALSE),0)","v":0},"Ademp_8",{"$f":"IFERROR(VLOOKUP(KT6,MATCHSELEVES!$Y$14:$AE$600,3,FALSE),0)","v":0},{"$f":"IFERROR(VLOOKUP(KT6,MATCHSELEVES!$Y$14:$AE$600,4,FALSE),0)","v":0},{"$f":"IFERROR(VLOOKUP(KT6,MATCHSELEVES!$Y$14:$AE$600,5,FALSE),0)","v":0},{"$f":"IFERROR(VLOOKUP(KT6,MATCHSELEVES!$Y$14:$AF$600,8,FALSE),0)","v":0},{"$f":"IFERROR(VLOOKUP(KT6,MATCHSELEVES!$Y$14:$AG$600,9,FALSE),0)","v":0},"Ademp_9",{"$f":"IFERROR(VLOOKUP(KZ6,MATCHSELEVES!$Y$14:$AE$600,3,FALSE),0)","v":0},{"$f":"IFERROR(VLOOKUP(KZ6,MATCHSELEVES!$Y$14:$AE$600,4,FALSE),0)","v":0},{"$f":"IFERROR(VLOOKUP(KZ6,MATCHSELEVES!$Y$14:$AE$600,5,FALSE),0)","v":0},{"$f":"IFERROR(VLOOKUP(KZ6,MATCHSELEVES!$Y$14:$AF$600,8,FALSE),0)","v":0},{"$f":"IFERROR(VLOOKUP(KZ6,MATCHSELEVES!$Y$14:$AG$600,9,FALSE),0)","v":0},"Ademp_10",{"$f":"IFERROR(VLOOKUP(LF6,MATCHSELEVES!$Y$14:$AE$600,3,FALSE),0)","v":0},{"$f":"IFERROR(VLOOKUP(LF6,MATCHSELEVES!$Y$14:$AE$600,4,FALSE),0)","v":0},{"$f":"IFERROR(VLOOKUP(LF6,MATCHSELEVES!$Y$14:$AE$600,5,FALSE),0)","v":0},{"$f":"IFERROR(VLOOKUP(LF6,MATCHSELEVES!$Y$14:$AF$600,8,FALSE),0)","v":0},{"$f":"IFERROR(VLOOKUP(LF6,MATCHSELEVES!$Y$14:$AG$600,9,FALSE),0)","v":0},"Ademp_11",{"$f":"IFERROR(VLOOKUP(LL6,MATCHSELEVES!$Y$14:$AE$600,3,FALSE),0)","v":0},{"$f":"IFERROR(VLOOKUP(LL6,MATCHSELEVES!$Y$14:$AE$600,4,FALSE),0)","v":0},{"$f":"IFERROR(VLOOKUP(LL6,MATCHSELEVES!$Y$14:$AE$600,5,FALSE),0)","v":0},{"$f":"IFERROR(VLOOKUP(LL6,MATCHSELEVES!$Y$14:$AF$600,8,FALSE),0)","v":0},{"$f":"IFERROR(VLOOKUP(LL6,MATCHSELEVES!$Y$14:$AG$600,9,FALSE),0)","v":0},"Ademp_12",{"$f":"IFERROR(VLOOKUP(LR6,MATCHSELEVES!$Y$14:$AE$600,3,FALSE),0)","v":0},{"$f":"IFERROR(VLOOKUP(LR6,MATCHSELEVES!$Y$14:$AE$600,4,FALSE),0)","v":0},{"$f":"IFERROR(VLOOKUP(LR6,MATCHSELEVES!$Y$14:$AE$600,5,FALSE),0)","v":0},{"$f":"IFERROR(VLOOKUP(LR6,MATCHSELEVES!$Y$14:$AF$600,8,FALSE),0)","v":0},{"$f":"IFERROR(VLOOKUP(LR6,MATCHSELEVES!$Y$14:$AG$600,9,FALSE),0)","v":0},"Ademp_13",{"$f":"IFERROR(VLOOKUP(LX6,MATCHSELEVES!$Y$14:$AE$600,3,FALSE),0)","v":0},{"$f":"IFERROR(VLOOKUP(LX6,MATCHSELEVES!$Y$14:$AE$600,4,FALSE),0)","v":0},{"$f":"IFERROR(VLOOKUP(LX6,MATCHSELEVES!$Y$14:$AE$600,5,FALSE),0)","v":0},{"$f":"IFERROR(VLOOKUP(LX6,MATCHSELEVES!$Y$14:$AF$600,8,FALSE),0)","v":0},{"$f":"IFERROR(VLOOKUP(LX6,MATCHSELEVES!$Y$14:$AG$600,9,FALSE),0)","v":0},"Ademp_14",{"$f":"IFERROR(VLOOKUP(MD6,MATCHSELEVES!$Y$14:$AE$600,3,FALSE),0)","v":0},{"$f":"IFERROR(VLOOKUP(MD6,MATCHSELEVES!$Y$14:$AE$600,4,FALSE),0)","v":0},{"$f":"IFERROR(VLOOKUP(MD6,MATCHSELEVES!$Y$14:$AE$600,5,FALSE),0)","v":0},{"$f":"IFERROR(VLOOKUP(MD6,MATCHSELEVES!$Y$14:$AF$600,8,FALSE),0)","v":0},{"$f":"IFERROR(VLOOKUP(MD6,MATCHSELEVES!$Y$14:$AG$600,9,FALSE),0)","v":0},"Ademp_15",{"$f":"IFERROR(VLOOKUP(MJ6,MATCHSELEVES!$Y$14:$AE$600,3,FALSE),0)","v":0},{"$f":"IFERROR(VLOOKUP(MJ6,MATCHSELEVES!$Y$14:$AE$600,4,FALSE),0)","v":0},{"$f":"IFERROR(VLOOKUP(MJ6,MATCHSELEVES!$Y$14:$AE$600,5,FALSE),0)","v":0},{"$f":"IFERROR(VLOOKUP(MJ6,MATCHSELEVES!$Y$14:$AF$600,8,FALSE),0)","v":0},{"$f":"IFERROR(VLOOKUP(MJ6,MATCHSELEVES!$Y$14:$AG$600,9,FALSE),0)","v":0},"Ademp_16",{"$f":"IFERROR(VLOOKUP(MP6,MATCHSELEVES!$Y$14:$AE$600,3,FALSE),0)","v":0},{"$f":"IFERROR(VLOOKUP(MP6,MATCHSELEVES!$Y$14:$AE$600,4,FALSE),0)","v":0},{"$f":"IFERROR(VLOOKUP(MP6,MATCHSELEVES!$Y$14:$AE$600,5,FALSE),0)","v":0},{"$f":"IFERROR(VLOOKUP(MP6,MATCHSELEVES!$Y$14:$AF$600,8,FALSE),0)","v":0},{"$f":"IFERROR(VLOOKUP(MP6,MATCHSELEVES!$Y$14:$AG$600,9,FALSE),0)","v":0},"Ademp_17",{"$f":"IFERROR(VLOOKUP(MV6,MATCHSELEVES!$Y$14:$AE$600,3,FALSE),0)","v":0},{"$f":"IFERROR(VLOOKUP(MV6,MATCHSELEVES!$Y$14:$AE$600,4,FALSE),0)","v":0},{"$f":"IFERROR(VLOOKUP(MV6,MATCHSELEVES!$Y$14:$AE$600,5,FALSE),0)","v":0},{"$f":"IFERROR(VLOOKUP(MV6,MATCHSELEVES!$Y$14:$AF$600,8,FALSE),0)","v":0},{"$f":"IFERROR(VLOOKUP(MV6,MATCHSELEVES!$Y$14:$AG$600,9,FALSE),0)","v":0},"Ademp_18",{"$f":"IFERROR(VLOOKUP(NB6,MATCHSELEVES!$Y$14:$AE$600,3,FALSE),0)","v":0},{"$f":"IFERROR(VLOOKUP(NB6,MATCHSELEVES!$Y$14:$AE$600,4,FALSE),0)","v":0},{"$f":"IFERROR(VLOOKUP(NB6,MATCHSELEVES!$Y$14:$AE$600,5,FALSE),0)","v":0},{"$f":"IFERROR(VLOOKUP(NB6,MATCHSELEVES!$Y$14:$AF$600,8,FALSE),0)","v":0},{"$f":"IFERROR(VLOOKUP(NB6,MATCHSELEVES!$Y$14:$AG$600,9,FALSE),0)","v":0},"Ademp_19",{"$f":"IFERROR(VLOOKUP(NH6,MATCHSELEVES!$Y$14:$AE$600,3,FALSE),0)","v":0},{"$f":"IFERROR(VLOOKUP(NH6,MATCHSELEVES!$Y$14:$AE$600,4,FALSE),0)","v":0},{"$f":"IFERROR(VLOOKUP(NH6,MATCHSELEVES!$Y$14:$AE$600,5,FALSE),0)","v":0},{"$f":"IFERROR(VLOOKUP(NH6,MATCHSELEVES!$Y$14:$AF$600,8,FALSE),0)","v":0},{"$f":"IFERROR(VLOOKUP(NH6,MATCHSELEVES!$Y$14:$AG$600,9,FALSE),0)","v":0},"Ademp_20",{"$f":"IFERROR(VLOOKUP(NN6,MATCHSELEVES!$Y$14:$AE$600,3,FALSE),0)","v":0},{"$f":"IFERROR(VLOOKUP(NN6,MATCHSELEVES!$Y$14:$AE$600,4,FALSE),0)","v":0},{"$f":"IFERROR(VLOOKUP(NN6,MATCHSELEVES!$Y$14:$AE$600,5,FALSE),0)","v":0},{"$f":"IFERROR(VLOOKUP(NN6,MATCHSELEVES!$Y$14:$AF$600,8,FALSE),0)","v":0},{"$f":"IFERROR(VLOOKUP(NN6,MATCHSELEVES!$Y$14:$AG$600,9,FALSE),0)","v":0},"Ademp_21",{"$f":"IFERROR(VLOOKUP(NT6,MATCHSELEVES!$Y$14:$AE$600,3,FALSE),0)","v":0},{"$f":"IFERROR(VLOOKUP(NT6,MATCHSELEVES!$Y$14:$AE$600,4,FALSE),0)","v":0},{"$f":"IFERROR(VLOOKUP(NT6,MATCHSELEVES!$Y$14:$AE$600,5,FALSE),0)","v":0},{"$f":"IFERROR(VLOOKUP(NT6,MATCHSELEVES!$Y$14:$AF$600,8,FALSE),0)","v":0},{"$f":"IFERROR(VLOOKUP(NT6,MATCHSELEVES!$Y$14:$AG$600,9,FALSE),0)","v":0},"Ademp_22",{"$f":"IFERROR(VLOOKUP(NZ6,MATCHSELEVES!$Y$14:$AE$600,3,FALSE),0)","v":0},{"$f":"IFERROR(VLOOKUP(NZ6,MATCHSELEVES!$Y$14:$AE$600,4,FALSE),0)","v":0},{"$f":"IFERROR(VLOOKUP(NZ6,MATCHSELEVES!$Y$14:$AE$600,5,FALSE),0)","v":0},{"$f":"IFERROR(VLOOKUP(NZ6,MATCHSELEVES!$Y$14:$AF$600,8,FALSE),0)","v":0},{"$f":"IFERROR(VLOOKUP(NZ6,MATCHSELEVES!$Y$14:$AG$600,9,FALSE),0)","v":0},"Ademp_23",{"$f":"IFERROR(VLOOKUP(OF6,MATCHSELEVES!$Y$14:$AE$600,3,FALSE),0)","v":0},{"$f":"IFERROR(VLOOKUP(OF6,MATCHSELEVES!$Y$14:$AE$600,4,FALSE),0)","v":0},{"$f":"IFERROR(VLOOKUP(OF6,MATCHSELEVES!$Y$14:$AE$600,5,FALSE),0)","v":0},{"$f":"IFERROR(VLOOKUP(OF6,MATCHSELEVES!$Y$14:$AF$600,8,FALSE),0)","v":0},{"$f":"IFERROR(VLOOKUP(OF6,MATCHSELEVES!$Y$14:$AG$600,9,FALSE),0)","v":0},"Ademp_24",{"$f":"IFERROR(VLOOKUP(OL6,MATCHSELEVES!$Y$14:$AE$600,3,FALSE),0)","v":0},{"$f":"IFERROR(VLOOKUP(OL6,MATCHSELEVES!$Y$14:$AE$600,4,FALSE),0)","v":0},{"$f":"IFERROR(VLOOKUP(OL6,MATCHSELEVES!$Y$14:$AE$600,5,FALSE),0)","v":0},{"$f":"IFERROR(VLOOKUP(OL6,MATCHSELEVES!$Y$14:$AF$600,8,FALSE),0)","v":0},{"$f":"IFERROR(VLOOKUP(OL6,MATCHSELEVES!$Y$14:$AG$600,9,FALSE),0)","v":0},"Ademp_25",{"$f":"IFERROR(VLOOKUP(OR6,MATCHSELEVES!$Y$14:$AE$600,3,FALSE),0)","v":0},{"$f":"IFERROR(VLOOKUP(OR6,MATCHSELEVES!$Y$14:$AE$600,4,FALSE),0)","v":0},{"$f":"IFERROR(VLOOKUP(OR6,MATCHSELEVES!$Y$14:$AE$600,5,FALSE),0)","v":0},{"$f":"IFERROR(VLOOKUP(OR6,MATCHSELEVES!$Y$14:$AF$600,8,FALSE),0)","v":0},{"$f":"IFERROR(VLOOKUP(OR6,MATCHSELEVES!$Y$14:$AG$600,9,FALSE),0)","v":0},"Ademp_26",{"$f":"IFERROR(VLOOKUP(OX6,MATCHSELEVES!$Y$14:$AE$600,3,FALSE),0)","v":0},{"$f":"IFERROR(VLOOKUP(OX6,MATCHSELEVES!$Y$14:$AE$600,4,FALSE),0)","v":0},{"$f":"IFERROR(VLOOKUP(OX6,MATCHSELEVES!$Y$14:$AE$600,5,FALSE),0)","v":0},{"$f":"IFERROR(VLOOKUP(OX6,MATCHSELEVES!$Y$14:$AF$600,8,FALSE),0)","v":0},{"$f":"IFERROR(VLOOKUP(OX6,MATCHSELEVES!$Y$14:$AG$600,9,FALSE),0)","v":0},"Ademp_27",{"$f":"IFERROR(VLOOKUP(PD6,MATCHSELEVES!$Y$14:$AE$600,3,FALSE),0)","v":0},{"$f":"IFERROR(VLOOKUP(PD6,MATCHSELEVES!$Y$14:$AE$600,4,FALSE),0)","v":0},{"$f":"IFERROR(VLOOKUP(PD6,MATCHSELEVES!$Y$14:$AE$600,5,FALSE),0)","v":0},{"$f":"IFERROR(VLOOKUP(PD6,MATCHSELEVES!$Y$14:$AF$600,8,FALSE),0)","v":0},{"$f":"IFERROR(VLOOKUP(PD6,MATCHSELEVES!$Y$14:$AG$600,9,FALSE),0)","v":0},"Ademp_28",{"$f":"IFERROR(VLOOKUP(PJ6,MATCHSELEVES!$Y$14:$AE$600,3,FALSE),0)","v":0},{"$f":"IFERROR(VLOOKUP(PJ6,MATCHSELEVES!$Y$14:$AE$600,4,FALSE),0)","v":0},{"$f":"IFERROR(VLOOKUP(PJ6,MATCHSELEVES!$Y$14:$AE$600,5,FALSE),0)","v":0},{"$f":"IFERROR(VLOOKUP(PJ6,MATCHSELEVES!$Y$14:$AF$600,8,FALSE),0)","v":0},{"$f":"IFERROR(VLOOKUP(PJ6,MATCHSELEVES!$Y$14:$AG$600,9,FALSE),0)","v":0},"Ademp_29",{"$f":"IFERROR(VLOOKUP(PP6,MATCHSELEVES!$Y$14:$AE$600,3,FALSE),0)","v":0},{"$f":"IFERROR(VLOOKUP(PP6,MATCHSELEVES!$Y$14:$AE$600,4,FALSE),0)","v":0},{"$f":"IFERROR(VLOOKUP(PP6,MATCHSELEVES!$Y$14:$AE$600,5,FALSE),0)","v":0},{"$f":"IFERROR(VLOOKUP(PP6,MATCHSELEVES!$Y$14:$AF$600,8,FALSE),0)","v":0},{"$f":"IFERROR(VLOOKUP(PP6,MATCHSELEVES!$Y$14:$AG$600,9,FALSE),0)","v":0},"Ademp_30",{"$f":"IFERROR(VLOOKUP(PV6,MATCHSELEVES!$Y$14:$AE$600,3,FALSE),0)","v":0},{"$f":"IFERROR(VLOOKUP(PV6,MATCHSELEVES!$Y$14:$AE$600,4,FALSE),0)","v":0},{"$f":"IFERROR(VLOOKUP(PV6,MATCHSELEVES!$Y$14:$AE$600,5,FALSE),0)","v":0},{"$f":"IFERROR(VLOOKUP(PV6,MATCHSELEVES!$Y$14:$AF$600,8,FALSE),0)","v":0},{"$f":"IFERROR(VLOOKUP(PV6,MATCHSELEVES!$Y$14:$AG$600,9,FALSE),0)","v":0},"Ademp_31",{"$f":"IFERROR(VLOOKUP(QB6,MATCHSELEVES!$Y$14:$AE$600,3,FALSE),0)","v":0},{"$f":"IFERROR(VLOOKUP(QB6,MATCHSELEVES!$Y$14:$AE$600,4,FALSE),0)","v":0},{"$f":"IFERROR(VLOOKUP(QB6,MATCHSELEVES!$Y$14:$AE$600,5,FALSE),0)","v":0},{"$f":"IFERROR(VLOOKUP(QB6,MATCHSELEVES!$Y$14:$AF$600,8,FALSE),0)","v":0},{"$f":"IFERROR(VLOOKUP(QB6,MATCHSELEVES!$Y$14:$AG$600,9,FALSE),0)","v":0},"Ademp_32",{"$f":"IFERROR(VLOOKUP(QH6,MATCHSELEVES!$Y$14:$AE$600,3,FALSE),0)","v":0},{"$f":"IFERROR(VLOOKUP(QH6,MATCHSELEVES!$Y$14:$AE$600,4,FALSE),0)","v":0},{"$f":"IFERROR(VLOOKUP(QH6,MATCHSELEVES!$Y$14:$AE$600,5,FALSE),0)","v":0},{"$f":"IFERROR(VLOOKUP(QH6,MATCHSELEVES!$Y$14:$AF$600,8,FALSE),0)","v":0},{"$f":"IFERROR(VLOOKUP(QH6,MATCHSELEVES!$Y$14:$AG$600,9,FALSE),0)","v":0},"Ademp_33",{"$f":"IFERROR(VLOOKUP(QN6,MATCHSELEVES!$Y$14:$AE$600,3,FALSE),0)","v":0},{"$f":"IFERROR(VLOOKUP(QN6,MATCHSELEVES!$Y$14:$AE$600,4,FALSE),0)","v":0},{"$f":"IFERROR(VLOOKUP(QN6,MATCHSELEVES!$Y$14:$AE$600,5,FALSE),0)","v":0},{"$f":"IFERROR(VLOOKUP(QN6,MATCHSELEVES!$Y$14:$AF$600,8,FALSE),0)","v":0},{"$f":"IFERROR(VLOOKUP(QN6,MATCHSELEVES!$Y$14:$AG$600,9,FALSE),0)","v":0},"Ademp_34",{"$f":"IFERROR(VLOOKUP(QT6,MATCHSELEVES!$Y$14:$AE$600,3,FALSE),0)","v":0},{"$f":"IFERROR(VLOOKUP(QT6,MATCHSELEVES!$Y$14:$AE$600,4,FALSE),0)","v":0},{"$f":"IFERROR(VLOOKUP(QT6,MATCHSELEVES!$Y$14:$AE$600,5,FALSE),0)","v":0},{"$f":"IFERROR(VLOOKUP(QT6,MATCHSELEVES!$Y$14:$AF$600,8,FALSE),0)","v":0},{"$f":"IFERROR(VLOOKUP(QT6,MATCHSELEVES!$Y$14:$AG$600,9,FALSE),0)","v":0},"Ademp_35",{"$f":"IFERROR(VLOOKUP(QZ6,MATCHSELEVES!$Y$14:$AE$600,3,FALSE),0)","v":0},{"$f":"IFERROR(VLOOKUP(QZ6,MATCHSELEVES!$Y$14:$AE$600,4,FALSE),0)","v":0},{"$f":"IFERROR(VLOOKUP(QZ6,MATCHSELEVES!$Y$14:$AE$600,5,FALSE),0)","v":0},{"$f":"IFERROR(VLOOKUP(QZ6,MATCHSELEVES!$Y$14:$AF$600,8,FALSE),0)","v":0},{"$f":"IFERROR(VLOOKUP(QZ6,MATCHSELEVES!$Y$14:$AG$600,9,FALSE),0)","v":0},"Ademp_36",{"$f":"IFERROR(VLOOKUP(RF6,MATCHSELEVES!$Y$14:$AE$600,3,FALSE),0)","v":0},{"$f":"IFERROR(VLOOKUP(RF6,MATCHSELEVES!$Y$14:$AE$600,4,FALSE),0)","v":0},{"$f":"IFERROR(VLOOKUP(RF6,MATCHSELEVES!$Y$14:$AE$600,5,FALSE),0)","v":0},{"$f":"IFERROR(VLOOKUP(RF6,MATCHSELEVES!$Y$14:$AF$600,8,FALSE),0)","v":0},{"$f":"IFERROR(VLOOKUP(RF6,MATCHSELEVES!$Y$14:$AG$600,9,FALSE),0)","v":0},"Ademp_37",{"$f":"IFERROR(VLOOKUP(RL6,MATCHSELEVES!$Y$14:$AE$600,3,FALSE),0)","v":0},{"$f":"IFERROR(VLOOKUP(RL6,MATCHSELEVES!$Y$14:$AE$600,4,FALSE),0)","v":0},{"$f":"IFERROR(VLOOKUP(RL6,MATCHSELEVES!$Y$14:$AE$600,5,FALSE),0)","v":0},{"$f":"IFERROR(VLOOKUP(RL6,MATCHSELEVES!$Y$14:$AF$600,8,FALSE),0)","v":0},{"$f":"IFERROR(VLOOKUP(RL6,MATCHSELEVES!$Y$14:$AG$600,9,FALSE),0)","v":0},"Ademp_38",{"$f":"IFERROR(VLOOKUP(RR6,MATCHSELEVES!$Y$14:$AE$600,3,FALSE),0)","v":0},{"$f":"IFERROR(VLOOKUP(RR6,MATCHSELEVES!$Y$14:$AE$600,4,FALSE),0)","v":0},{"$f":"IFERROR(VLOOKUP(RR6,MATCHSELEVES!$Y$14:$AE$600,5,FALSE),0)","v":0},{"$f":"IFERROR(VLOOKUP(RR6,MATCHSELEVES!$Y$14:$AF$600,8,FALSE),0)","v":0},{"$f":"IFERROR(VLOOKUP(RR6,MATCHSELEVES!$Y$14:$AG$600,9,FALSE),0)","v":0},"Ademp_39",{"$f":"IFERROR(VLOOKUP(RX6,MATCHSELEVES!$Y$14:$AE$600,3,FALSE),0)","v":0},{"$f":"IFERROR(VLOOKUP(RX6,MATCHSELEVES!$Y$14:$AE$600,4,FALSE),0)","v":0},{"$f":"IFERROR(VLOOKUP(RX6,MATCHSELEVES!$Y$14:$AE$600,5,FALSE),0)","v":0},{"$f":"IFERROR(VLOOKUP(RX6,MATCHSELEVES!$Y$14:$AF$600,8,FALSE),0)","v":0},{"$f":"IFERROR(VLOOKUP(RX6,MATCHSELEVES!$Y$14:$AG$600,9,FALSE),0)","v":0},"Ademp_40",{"$f":"IFERROR(VLOOKUP(SD6,MATCHSELEVES!$Y$14:$AE$600,3,FALSE),0)","v":0},{"$f":"IFERROR(VLOOKUP(SD6,MATCHSELEVES!$Y$14:$AE$600,4,FALSE),0)","v":0},{"$f":"IFERROR(VLOOKUP(SD6,MATCHSELEVES!$Y$14:$AE$600,5,FALSE),0)","v":0},{"$f":"IFERROR(VLOOKUP(SD6,MATCHSELEVES!$Y$14:$AF$600,8,FALSE),0)","v":0},{"$f":"IFERROR(VLOOKUP(SD6,MATCHSELEVES!$Y$14:$AG$600,9,FALSE),0)","v":0}]
[4,null,{"$f":"MD1POINT!C7","v":"Amar"},{"$f":"MD1POINT!D7","v":1},{"$f":"COUNTIF(MATCHSELEVES!$Z$14:$Z$600,C7)+COUNTIF(MATCHSELEVES!$Z$14:$Z$600,$C7&\"p\")","v":0},1,{"$f":"COUNTIF(MATCHSELEVES!$F$14:$H$249,C7)","v":0},1,0,1,0,1,0,1,{"$f":"Y7+AE7+AK7+AQ7+AW7+BC7+BI7+BO7+BU7+CA7+CG7+CM7+CS7+CY7+DE7+DK7+DQ7+DW7+EC7+EI7+EO7+EU7+FA7+FG7+FM7+FS7+FY7+GE7+GK7+GQ7+GW7+4+HI7+HO7+HU7+IA7+HC7+IG7+IM7+IY7+IS7+JH7+JN7+JZ7+JT7+KF7+KR7+KX7+LJ7+LP7+LV7+LD7+MB7+MH7+MN7+MZ7+MT7+NF7+NL7+NR7+NX7+OD7+OJ7+OP7+OV7+PB7+PH7+PT7+PN7+PZ7+QF7+QL7+QR7+RD7+QX7+RJ7+RP7+RV7+SB7+SH7+KL7+Tableau10[[#This Row],[Nombre de matchs joués]]*2","v":4},1,{"$f":"(Tableau10[[#This Row],[CLASSEMENT1]]+Tableau10[[#This Row],[CLASSEMENT2]]+Tableau10[[#This Row],[CLASSEMENT3]]+Tableau10[[#This Row],[CLASSEMENT4]]+Tableau10[[#This Row],[CLASSEMENT5]]+Tableau10[[#This Row],[CLASSEMENT6]])/6","v":1},{"$f":"RANK(Tableau10[[#This Row],[MOYENNE CLASSEMENTS]],Tableau10[MOYENNE CLASSEMENTS],1)","v":1},null,{"$f":"Tableau10[[#This Row],[CLASSEMENT1]]","v":1},"Amar_1",{"$f":"IFERROR(VLOOKUP(U7,MATCHSELEVES!$Y$14:$AE$600,3,FALSE),0)","v":0},{"$f":"IFERROR(VLOOKUP(U7,MATCHSELEVES!$Y$14:$AE$600,4,FALSE),0)","v":0},{"$f":"IFERROR(VLOOKUP(U7,MATCHSELEVES!$Y$14:$AE$600,5,FALSE),0)","v":0},{"$f":"IFERROR(VLOOKUP(U7,MATCHSELEVES!$Y$14:$AF$600,8,FALSE),0)","v":0},{"$f":"IFERROR(VLOOKUP(U7,MATCHSELEVES!$Y$14:$AG$600,9,FALSE),0)","v":0},"Amar_2",{"$f":"IFERROR(VLOOKUP(AA7,MATCHSELEVES!$Y$14:$AE$600,3,FALSE),0)","v":0},{"$f":"IFERROR(VLOOKUP(AA7,MATCHSELEVES!$Y$14:$AE$600,4,FALSE),0)","v":0},{"$f":"IFERROR(VLOOKUP(AA7,MATCHSELEVES!$Y$14:$AE$600,5,FALSE),0)","v":0},{"$f":"IFERROR(VLOOKUP(AA7,MATCHSELEVES!$Y$14:$AF$600,8,FALSE),0)","v":0},{"$f":"IFERROR(VLOOKUP(AA7,MATCHSELEVES!$Y$14:$AG$600,9,FALSE),0)","v":0},"Amar_3",{"$f":"IFERROR(VLOOKUP(AG7,MATCHSELEVES!$Y$14:$AE$600,3,FALSE),0)","v":0},{"$f":"IFERROR(VLOOKUP(AG7,MATCHSELEVES!$Y$14:$AE$600,4,FALSE),0)","v":0},{"$f":"IFERROR(VLOOKUP(AG7,MATCHSELEVES!$Y$14:$AE$600,5,FALSE),0)","v":0},{"$f":"IFERROR(VLOOKUP(AG7,MATCHSELEVES!$Y$14:$AF$600,8,FALSE),0)","v":0},{"$f":"IFERROR(VLOOKUP(AG7,MATCHSELEVES!$Y$14:$AG$600,9,FALSE),0)","v":0},"Amar_4",{"$f":"IFERROR(VLOOKUP(AM7,MATCHSELEVES!$Y$14:$AE$600,3,FALSE),0)","v":0},{"$f":"IFERROR(VLOOKUP(AM7,MATCHSELEVES!$Y$14:$AE$600,4,FALSE),0)","v":0},{"$f":"IFERROR(VLOOKUP(AM7,MATCHSELEVES!$Y$14:$AE$600,5,FALSE),0)","v":0},{"$f":"IFERROR(VLOOKUP(AM7,MATCHSELEVES!$Y$14:$AF$600,8,FALSE),0)","v":0},{"$f":"IFERROR(VLOOKUP(AM7,MATCHSELEVES!$Y$14:$AG$600,9,FALSE),0)","v":0},"Amar_5",{"$f":"IFERROR(VLOOKUP(AS7,MATCHSELEVES!$Y$14:$AE$600,3,FALSE),0)","v":0},{"$f":"IFERROR(VLOOKUP(AS7,MATCHSELEVES!$Y$14:$AE$600,4,FALSE),0)","v":0},{"$f":"IFERROR(VLOOKUP(AS7,MATCHSELEVES!$Y$14:$AE$600,5,FALSE),0)","v":0},{"$f":"IFERROR(VLOOKUP(AS7,MATCHSELEVES!$Y$14:$AF$600,8,FALSE),0)","v":0},{"$f":"IFERROR(VLOOKUP(AS7,MATCHSELEVES!$Y$14:$AG$600,9,FALSE),0)","v":0},"Amar_6",{"$f":"IFERROR(VLOOKUP(AY7,MATCHSELEVES!$Y$14:$AE$600,3,FALSE),0)","v":0},{"$f":"IFERROR(VLOOKUP(AY7,MATCHSELEVES!$Y$14:$AE$600,4,FALSE),0)","v":0},{"$f":"IFERROR(VLOOKUP(AY7,MATCHSELEVES!$Y$14:$AE$600,5,FALSE),0)","v":0},{"$f":"IFERROR(VLOOKUP(AY7,MATCHSELEVES!$Y$14:$AF$600,8,FALSE),0)","v":0},{"$f":"IFERROR(VLOOKUP(AY7,MATCHSELEVES!$Y$14:$AG$600,9,FALSE),0)","v":0},"Amar_7",{"$f":"IFERROR(VLOOKUP(BE7,MATCHSELEVES!$Y$14:$AE$600,3,FALSE),0)","v":0},{"$f":"IFERROR(VLOOKUP(BE7,MATCHSELEVES!$Y$14:$AE$600,4,FALSE),0)","v":0},{"$f":"IFERROR(VLOOKUP(BE7,MATCHSELEVES!$Y$14:$AE$600,5,FALSE),0)","v":0},{"$f":"IFERROR(VLOOKUP(BE7,MATCHSELEVES!$Y$14:$AF$600,8,FALSE),0)","v":0},{"$f":"IFERROR(VLOOKUP(BE7,MATCHSELEVES!$Y$14:$AG$600,9,FALSE),0)","v":0},"Amar_8",{"$f":"IFERROR(VLOOKUP(BK7,MATCHSELEVES!$Y$14:$AE$600,3,FALSE),0)","v":0},{"$f":"IFERROR(VLOOKUP(BK7,MATCHSELEVES!$Y$14:$AE$600,4,FALSE),0)","v":0},{"$f":"IFERROR(VLOOKUP(BK7,MATCHSELEVES!$Y$14:$AE$600,5,FALSE),0)","v":0},{"$f":"IFERROR(VLOOKUP(BK7,MATCHSELEVES!$Y$14:$AF$600,8,FALSE),0)","v":0},{"$f":"IFERROR(VLOOKUP(BK7,MATCHSELEVES!$Y$14:$AG$600,9,FALSE),0)","v":0},"Amar_9",{"$f":"IFERROR(VLOOKUP(BQ7,MATCHSELEVES!$Y$14:$AE$600,3,FALSE),0)","v":0},{"$f":"IFERROR(VLOOKUP(BQ7,MATCHSELEVES!$Y$14:$AE$600,4,FALSE),0)","v":0},{"$f":"IFERROR(VLOOKUP(BQ7,MATCHSELEVES!$Y$14:$AE$600,5,FALSE),0)","v":0},{"$f":"IFERROR(VLOOKUP(BQ7,MATCHSELEVES!$Y$14:$AF$600,8,FALSE),0)","v":0},{"$f":"IFERROR(VLOOKUP(BQ7,MATCHSELEVES!$Y$14:$AG$600,9,FALSE),0)","v":0},"Amar_10",{"$f":"IFERROR(VLOOKUP(BW7,MATCHSELEVES!$Y$14:$AE$600,3,FALSE),0)","v":0},{"$f":"IFERROR(VLOOKUP(BW7,MATCHSELEVES!$Y$14:$AE$600,4,FALSE),0)","v":0},{"$f":"IFERROR(VLOOKUP(BW7,MATCHSELEVES!$Y$14:$AE$600,5,FALSE),0)","v":0},{"$f":"IFERROR(VLOOKUP(BW7,MATCHSELEVES!$Y$14:$AF$600,8,FALSE),0)","v":0},{"$f":"IFERROR(VLOOKUP(BW7,MATCHSELEVES!$Y$14:$AG$600,9,FALSE),0)","v":0},"Amar_11",{"$f":"IFERROR(VLOOKUP(CC7,MATCHSELEVES!$Y$14:$AE$600,3,FALSE),0)","v":0},{"$f":"IFERROR(VLOOKUP(CC7,MATCHSELEVES!$Y$14:$AE$600,4,FALSE),0)","v":0},{"$f":"IFERROR(VLOOKUP(CC7,MATCHSELEVES!$Y$14:$AE$600,5,FALSE),0)","v":0},{"$f":"IFERROR(VLOOKUP(CC7,MATCHSELEVES!$Y$14:$AF$600,8,FALSE),0)","v":0},{"$f":"IFERROR(VLOOKUP(CC7,MATCHSELEVES!$Y$14:$AG$600,9,FALSE),0)","v":0},"Amar_12",{"$f":"IFERROR(VLOOKUP(CI7,MATCHSELEVES!$Y$14:$AE$600,3,FALSE),0)","v":0},{"$f":"IFERROR(VLOOKUP(CI7,MATCHSELEVES!$Y$14:$AE$600,4,FALSE),0)","v":0},{"$f":"IFERROR(VLOOKUP(CI7,MATCHSELEVES!$Y$14:$AE$600,5,FALSE),0)","v":0},{"$f":"IFERROR(VLOOKUP(CI7,MATCHSELEVES!$Y$14:$AF$600,8,FALSE),0)","v":0},{"$f":"IFERROR(VLOOKUP(CI7,MATCHSELEVES!$Y$14:$AG$600,9,FALSE),0)","v":0},"Amar_13",{"$f":"IFERROR(VLOOKUP(CO7,MATCHSELEVES!$Y$14:$AE$600,3,FALSE),0)","v":0},{"$f":"IFERROR(VLOOKUP(CO7,MATCHSELEVES!$Y$14:$AE$600,4,FALSE),0)","v":0},{"$f":"IFERROR(VLOOKUP(CO7,MATCHSELEVES!$Y$14:$AE$600,5,FALSE),0)","v":0},{"$f":"IFERROR(VLOOKUP(CO7,MATCHSELEVES!$Y$14:$AF$600,8,FALSE),0)","v":0},{"$f":"IFERROR(VLOOKUP(CO7,MATCHSELEVES!$Y$14:$AG$600,9,FALSE),0)","v":0},"Amar_14",{"$f":"IFERROR(VLOOKUP(CU7,MATCHSELEVES!$Y$14:$AE$600,3,FALSE),0)","v":0},{"$f":"IFERROR(VLOOKUP(CU7,MATCHSELEVES!$Y$14:$AE$600,4,FALSE),0)","v":0},{"$f":"IFERROR(VLOOKUP(CU7,MATCHSELEVES!$Y$14:$AE$600,5,FALSE),0)","v":0},{"$f":"IFERROR(VLOOKUP(CU7,MATCHSELEVES!$Y$14:$AF$600,8,FALSE),0)","v":0},{"$f":"IFERROR(VLOOKUP(CU7,MATCHSELEVES!$Y$14:$AG$600,9,FALSE),0)","v":0},"Amar_15",{"$f":"IFERROR(VLOOKUP(DA7,MATCHSELEVES!$Y$14:$AE$600,3,FALSE),0)","v":0},{"$f":"IFERROR(VLOOKUP(DA7,MATCHSELEVES!$Y$14:$AE$600,4,FALSE),0)","v":0},{"$f":"IFERROR(VLOOKUP(DA7,MATCHSELEVES!$Y$14:$AE$600,5,FALSE),0)","v":0},{"$f":"IFERROR(VLOOKUP(DA7,MATCHSELEVES!$Y$14:$AF$600,8,FALSE),0)","v":0},{"$f":"IFERROR(VLOOKUP(DA7,MATCHSELEVES!$Y$14:$AG$600,9,FALSE),0)","v":0},"Amar_16",{"$f":"IFERROR(VLOOKUP(DG7,MATCHSELEVES!$Y$14:$AE$600,3,FALSE),0)","v":0},{"$f":"IFERROR(VLOOKUP(DG7,MATCHSELEVES!$Y$14:$AE$600,4,FALSE),0)","v":0},{"$f":"IFERROR(VLOOKUP(DG7,MATCHSELEVES!$Y$14:$AE$600,5,FALSE),0)","v":0},{"$f":"IFERROR(VLOOKUP(DG7,MATCHSELEVES!$Y$14:$AF$600,8,FALSE),0)","v":0},{"$f":"IFERROR(VLOOKUP(DG7,MATCHSELEVES!$Y$14:$AG$600,9,FALSE),0)","v":0},"Amar_17",{"$f":"IFERROR(VLOOKUP(DM7,MATCHSELEVES!$Y$14:$AE$600,3,FALSE),0)","v":0},{"$f":"IFERROR(VLOOKUP(DM7,MATCHSELEVES!$Y$14:$AE$600,4,FALSE),0)","v":0},{"$f":"IFERROR(VLOOKUP(DM7,MATCHSELEVES!$Y$14:$AE$600,5,FALSE),0)","v":0},{"$f":"IFERROR(VLOOKUP(DM7,MATCHSELEVES!$Y$14:$AF$600,8,FALSE),0)","v":0},{"$f":"IFERROR(VLOOKUP(DM7,MATCHSELEVES!$Y$14:$AG$600,9,FALSE),0)","v":0},"Amar_18",{"$f":"IFERROR(VLOOKUP(DS7,MATCHSELEVES!$Y$14:$AE$600,3,FALSE),0)","v":0},{"$f":"IFERROR(VLOOKUP(DS7,MATCHSELEVES!$Y$14:$AE$600,4,FALSE),0)","v":0},{"$f":"IFERROR(VLOOKUP(DS7,MATCHSELEVES!$Y$14:$AE$600,5,FALSE),0)","v":0},{"$f":"IFERROR(VLOOKUP(DS7,MATCHSELEVES!$Y$14:$AF$600,8,FALSE),0)","v":0},{"$f":"IFERROR(VLOOKUP(DS7,MATCHSELEVES!$Y$14:$AG$600,9,FALSE),0)","v":0},"Amar_19",{"$f":"IFERROR(VLOOKUP(DY7,MATCHSELEVES!$Y$14:$AE$600,3,FALSE),0)","v":0},{"$f":"IFERROR(VLOOKUP(DY7,MATCHSELEVES!$Y$14:$AE$600,4,FALSE),0)","v":0},{"$f":"IFERROR(VLOOKUP(DY7,MATCHSELEVES!$Y$14:$AE$600,5,FALSE),0)","v":0},{"$f":"IFERROR(VLOOKUP(DY7,MATCHSELEVES!$Y$14:$AF$600,8,FALSE),0)","v":0},{"$f":"IFERROR(VLOOKUP(DY7,MATCHSELEVES!$Y$14:$AG$600,9,FALSE),0)","v":0},"Amar_20",{"$f":"IFERROR(VLOOKUP(EE7,MATCHSELEVES!$Y$14:$AE$600,3,FALSE),0)","v":0},{"$f":"IFERROR(VLOOKUP(EE7,MATCHSELEVES!$Y$14:$AE$600,4,FALSE),0)","v":0},{"$f":"IFERROR(VLOOKUP(EE7,MATCHSELEVES!$Y$14:$AE$600,5,FALSE),0)","v":0},{"$f":"IFERROR(VLOOKUP(EE7,MATCHSELEVES!$Y$14:$AF$600,8,FALSE),0)","v":0},{"$f":"IFERROR(VLOOKUP(EE7,MATCHSELEVES!$Y$14:$AG$600,9,FALSE),0)","v":0},"Amar_21",{"$f":"IFERROR(VLOOKUP(EK7,MATCHSELEVES!$Y$14:$AE$600,3,FALSE),0)","v":0},{"$f":"IFERROR(VLOOKUP(EK7,MATCHSELEVES!$Y$14:$AE$600,4,FALSE),0)","v":0},{"$f":"IFERROR(VLOOKUP(EK7,MATCHSELEVES!$Y$14:$AE$600,5,FALSE),0)","v":0},{"$f":"IFERROR(VLOOKUP(EK7,MATCHSELEVES!$Y$14:$AF$600,8,FALSE),0)","v":0},{"$f":"IFERROR(VLOOKUP(EK7,MATCHSELEVES!$Y$14:$AG$600,9,FALSE),0)","v":0},"Amar_22",{"$f":"IFERROR(VLOOKUP(EQ7,MATCHSELEVES!$Y$14:$AE$600,3,FALSE),0)","v":0},{"$f":"IFERROR(VLOOKUP(EQ7,MATCHSELEVES!$Y$14:$AE$600,4,FALSE),0)","v":0},{"$f":"IFERROR(VLOOKUP(EQ7,MATCHSELEVES!$Y$14:$AE$600,5,FALSE),0)","v":0},{"$f":"IFERROR(VLOOKUP(EQ7,MATCHSELEVES!$Y$14:$AF$600,8,FALSE),0)","v":0},{"$f":"IFERROR(VLOOKUP(EQ7,MATCHSELEVES!$Y$14:$AG$600,9,FALSE),0)","v":0},"Amar_23",{"$f":"IFERROR(VLOOKUP(EW7,MATCHSELEVES!$Y$14:$AE$600,3,FALSE),0)","v":0},{"$f":"IFERROR(VLOOKUP(EW7,MATCHSELEVES!$Y$14:$AE$600,4,FALSE),0)","v":0},{"$f":"IFERROR(VLOOKUP(EW7,MATCHSELEVES!$Y$14:$AE$600,5,FALSE),0)","v":0},{"$f":"IFERROR(VLOOKUP(EW7,MATCHSELEVES!$Y$14:$AF$600,8,FALSE),0)","v":0},{"$f":"IFERROR(VLOOKUP(EW7,MATCHSELEVES!$Y$14:$AG$600,9,FALSE),0)","v":0},"Amar_24",{"$f":"IFERROR(VLOOKUP(FC7,MATCHSELEVES!$Y$14:$AE$600,3,FALSE),0)","v":0},{"$f":"IFERROR(VLOOKUP(FC7,MATCHSELEVES!$Y$14:$AE$600,4,FALSE),0)","v":0},{"$f":"IFERROR(VLOOKUP(FC7,MATCHSELEVES!$Y$14:$AE$600,5,FALSE),0)","v":0},{"$f":"IFERROR(VLOOKUP(FC7,MATCHSELEVES!$Y$14:$AF$600,8,FALSE),0)","v":0},{"$f":"IFERROR(VLOOKUP(FC7,MATCHSELEVES!$Y$14:$AG$600,9,FALSE),0)","v":0},"Amar_25",{"$f":"IFERROR(VLOOKUP(FI7,MATCHSELEVES!$Y$14:$AE$600,3,FALSE),0)","v":0},{"$f":"IFERROR(VLOOKUP(FI7,MATCHSELEVES!$Y$14:$AE$600,4,FALSE),0)","v":0},{"$f":"IFERROR(VLOOKUP(FI7,MATCHSELEVES!$Y$14:$AE$600,5,FALSE),0)","v":0},{"$f":"IFERROR(VLOOKUP(FI7,MATCHSELEVES!$Y$14:$AF$600,8,FALSE),0)","v":0},{"$f":"IFERROR(VLOOKUP(FI7,MATCHSELEVES!$Y$14:$AG$600,9,FALSE),0)","v":0},"Amar_26",{"$f":"IFERROR(VLOOKUP(FO7,MATCHSELEVES!$Y$14:$AE$600,3,FALSE),0)","v":0},{"$f":"IFERROR(VLOOKUP(FO7,MATCHSELEVES!$Y$14:$AE$600,4,FALSE),0)","v":0},{"$f":"IFERROR(VLOOKUP(FO7,MATCHSELEVES!$Y$14:$AE$600,5,FALSE),0)","v":0},{"$f":"IFERROR(VLOOKUP(FO7,MATCHSELEVES!$Y$14:$AF$600,8,FALSE),0)","v":0},{"$f":"IFERROR(VLOOKUP(FO7,MATCHSELEVES!$Y$14:$AG$600,9,FALSE),0)","v":0},"Amar_27",{"$f":"IFERROR(VLOOKUP(FU7,MATCHSELEVES!$Y$14:$AE$600,3,FALSE),0)","v":0},{"$f":"IFERROR(VLOOKUP(FU7,MATCHSELEVES!$Y$14:$AE$600,4,FALSE),0)","v":0},{"$f":"IFERROR(VLOOKUP(FU7,MATCHSELEVES!$Y$14:$AE$600,5,FALSE),0)","v":0},{"$f":"IFERROR(VLOOKUP(FU7,MATCHSELEVES!$Y$14:$AF$600,8,FALSE),0)","v":0},{"$f":"IFERROR(VLOOKUP(FU7,MATCHSELEVES!$Y$14:$AG$600,9,FALSE),0)","v":0},"Amar_28",{"$f":"IFERROR(VLOOKUP(GA7,MATCHSELEVES!$Y$14:$AE$600,3,FALSE),0)","v":0},{"$f":"IFERROR(VLOOKUP(GA7,MATCHSELEVES!$Y$14:$AE$600,4,FALSE),0)","v":0},{"$f":"IFERROR(VLOOKUP(GA7,MATCHSELEVES!$Y$14:$AE$600,5,FALSE),0)","v":0},{"$f":"IFERROR(VLOOKUP(GA7,MATCHSELEVES!$Y$14:$AF$600,8,FALSE),0)","v":0},{"$f":"IFERROR(VLOOKUP(GA7,MATCHSELEVES!$Y$14:$AG$600,9,FALSE),0)","v":0},"Amar_29",{"$f":"IFERROR(VLOOKUP(GG7,MATCHSELEVES!$Y$14:$AE$600,3,FALSE),0)","v":0},{"$f":"IFERROR(VLOOKUP(GG7,MATCHSELEVES!$Y$14:$AE$600,4,FALSE),0)","v":0},{"$f":"IFERROR(VLOOKUP(GG7,MATCHSELEVES!$Y$14:$AE$600,5,FALSE),0)","v":0},{"$f":"IFERROR(VLOOKUP(GG7,MATCHSELEVES!$Y$14:$AF$600,8,FALSE),0)","v":0},{"$f":"IFERROR(VLOOKUP(GG7,MATCHSELEVES!$Y$14:$AG$600,9,FALSE),0)","v":0},"Amar_30",{"$f":"IFERROR(VLOOKUP(GM7,MATCHSELEVES!$Y$14:$AE$600,3,FALSE),0)","v":0},{"$f":"IFERROR(VLOOKUP(GM7,MATCHSELEVES!$Y$14:$AE$600,4,FALSE),0)","v":0},{"$f":"IFERROR(VLOOKUP(GM7,MATCHSELEVES!$Y$14:$AE$600,5,FALSE),0)","v":0},{"$f":"IFERROR(VLOOKUP(GM7,MATCHSELEVES!$Y$14:$AF$600,8,FALSE),0)","v":0},{"$f":"IFERROR(VLOOKUP(GM7,MATCHSELEVES!$Y$14:$AG$600,9,FALSE),0)","v":0},"Amar_31",{"$f":"IFERROR(VLOOKUP(GS7,MATCHSELEVES!$Y$14:$AE$600,3,FALSE),0)","v":0},{"$f":"IFERROR(VLOOKUP(GS7,MATCHSELEVES!$Y$14:$AE$600,4,FALSE),0)","v":0},{"$f":"IFERROR(VLOOKUP(GS7,MATCHSELEVES!$Y$14:$AE$600,5,FALSE),0)","v":0},{"$f":"IFERROR(VLOOKUP(GS7,MATCHSELEVES!$Y$14:$AF$600,8,FALSE),0)","v":0},{"$f":"IFERROR(VLOOKUP(GS7,MATCHSELEVES!$Y$14:$AG$600,9,FALSE),0)","v":0},"Amar_32",{"$f":"IFERROR(VLOOKUP(GY7,MATCHSELEVES!$Y$14:$AE$600,3,FALSE),0)","v":0},{"$f":"IFERROR(VLOOKUP(GY7,MATCHSELEVES!$Y$14:$AE$600,4,FALSE),0)","v":0},{"$f":"IFERROR(VLOOKUP(GY7,MATCHSELEVES!$Y$14:$AE$600,5,FALSE),0)","v":0},{"$f":"IFERROR(VLOOKUP(GY7,MATCHSELEVES!$Y$14:$AF$600,8,FALSE),0)","v":0},{"$f":"IFERROR(VLOOKUP(GY7,MATCHSELEVES!$Y$14:$AG$600,9,FALSE),0)","v":0},"Amar_33",{"$f":"IFERROR(VLOOKUP(HE7,MATCHSELEVES!$Y$14:$AE$600,3,FALSE),0)","v":0},{"$f":"IFERROR(VLOOKUP(HE7,MATCHSELEVES!$Y$14:$AE$600,4,FALSE),0)","v":0},{"$f":"IFERROR(VLOOKUP(HE7,MATCHSELEVES!$Y$14:$AE$600,5,FALSE),0)","v":0},{"$f":"IFERROR(VLOOKUP(HE7,MATCHSELEVES!$Y$14:$AF$600,8,FALSE),0)","v":0},{"$f":"IFERROR(VLOOKUP(HE7,MATCHSELEVES!$Y$14:$AG$600,9,FALSE),0)","v":0},"Amar_34",{"$f":"IFERROR(VLOOKUP(HK7,MATCHSELEVES!$Y$14:$AE$600,3,FALSE),0)","v":0},{"$f":"IFERROR(VLOOKUP(HK7,MATCHSELEVES!$Y$14:$AE$600,4,FALSE),0)","v":0},{"$f":"IFERROR(VLOOKUP(HK7,MATCHSELEVES!$Y$14:$AE$600,5,FALSE),0)","v":0},{"$f":"IFERROR(VLOOKUP(HK7,MATCHSELEVES!$Y$14:$AF$600,8,FALSE),0)","v":0},{"$f":"IFERROR(VLOOKUP(HK7,MATCHSELEVES!$Y$14:$AG$600,9,FALSE),0)","v":0},"Amar_35",{"$f":"IFERROR(VLOOKUP(HQ7,MATCHSELEVES!$Y$14:$AE$600,3,FALSE),0)","v":0},{"$f":"IFERROR(VLOOKUP(HQ7,MATCHSELEVES!$Y$14:$AE$600,4,FALSE),0)","v":0},{"$f":"IFERROR(VLOOKUP(HQ7,MATCHSELEVES!$Y$14:$AE$600,5,FALSE),0)","v":0},{"$f":"IFERROR(VLOOKUP(HQ7,MATCHSELEVES!$Y$14:$AF$600,8,FALSE),0)","v":0},{"$f":"IFERROR(VLOOKUP(HQ7,MATCHSELEVES!$Y$14:$AG$600,9,FALSE),0)","v":0},"Amar_36",{"$f":"IFERROR(VLOOKUP(HW7,MATCHSELEVES!$Y$14:$AE$600,3,FALSE),0)","v":0},{"$f":"IFERROR(VLOOKUP(HW7,MATCHSELEVES!$Y$14:$AE$600,4,FALSE),0)","v":0},{"$f":"IFERROR(VLOOKUP(HW7,MATCHSELEVES!$Y$14:$AE$600,5,FALSE),0)","v":0},{"$f":"IFERROR(VLOOKUP(HW7,MATCHSELEVES!$Y$14:$AF$600,8,FALSE),0)","v":0},{"$f":"IFERROR(VLOOKUP(HW7,MATCHSELEVES!$Y$14:$AG$600,9,FALSE),0)","v":0},"Amar_37",{"$f":"IFERROR(VLOOKUP(IC7,MATCHSELEVES!$Y$14:$AE$600,3,FALSE),0)","v":0},{"$f":"IFERROR(VLOOKUP(IC7,MATCHSELEVES!$Y$14:$AE$600,4,FALSE),0)","v":0},{"$f":"IFERROR(VLOOKUP(IC7,MATCHSELEVES!$Y$14:$AE$600,5,FALSE),0)","v":0},{"$f":"IFERROR(VLOOKUP(IC7,MATCHSELEVES!$Y$14:$AF$600,8,FALSE),0)","v":0},{"$f":"IFERROR(VLOOKUP(IC7,MATCHSELEVES!$Y$14:$AG$600,9,FALSE),0)","v":0},"Amar_38",{"$f":"IFERROR(VLOOKUP(II7,MATCHSELEVES!$Y$14:$AE$600,3,FALSE),0)","v":0},{"$f":"IFERROR(VLOOKUP(II7,MATCHSELEVES!$Y$14:$AE$600,4,FALSE),0)","v":0},{"$f":"IFERROR(VLOOKUP(II7,MATCHSELEVES!$Y$14:$AE$600,5,FALSE),0)","v":0},{"$f":"IFERROR(VLOOKUP(II7,MATCHSELEVES!$Y$14:$AF$600,8,FALSE),0)","v":0},{"$f":"IFERROR(VLOOKUP(II7,MATCHSELEVES!$Y$14:$AG$600,9,FALSE),0)","v":0},"Amar_39",{"$f":"IFERROR(VLOOKUP(IO7,MATCHSELEVES!$Y$14:$AE$600,3,FALSE),0)","v":0},{"$f":"IFERROR(VLOOKUP(IO7,MATCHSELEVES!$Y$14:$AE$600,4,FALSE),0)","v":0},{"$f":"IFERROR(VLOOKUP(IO7,MATCHSELEVES!$Y$14:$AE$600,5,FALSE),0)","v":0},{"$f":"IFERROR(VLOOKUP(IO7,MATCHSELEVES!$Y$14:$AF$600,8,FALSE),0)","v":0},{"$f":"IFERROR(VLOOKUP(IO7,MATCHSELEVES!$Y$14:$AG$600,9,FALSE),0)","v":0},"Amar_40",{"$f":"IFERROR(VLOOKUP(IU7,MATCHSELEVES!$Y$14:$AE$600,3,FALSE),0)","v":0},{"$f":"IFERROR(VLOOKUP(IU7,MATCHSELEVES!$Y$14:$AE$600,4,FALSE),0)","v":0},{"$f":"IFERROR(VLOOKUP(IU7,MATCHSELEVES!$Y$14:$AE$600,5,FALSE),0)","v":0},{"$f":"IFERROR(VLOOKUP(IU7,MATCHSELEVES!$Y$14:$AF$600,8,FALSE),0)","v":0},{"$f":"IFERROR(VLOOKUP(IU7,MATCHSELEVES!$Y$14:$AG$600,9,FALSE),0)","v":0},{"$f":"Tableau10[[#This Row],[CLASSE]]","v":"Amar"},1,{"$f":"MD1POINT!D7","v":1},"Amarp_1",{"$f":"IFERROR(VLOOKUP(JD7,MATCHSELEVES!$Y$14:$AE$600,3,FALSE),0)","v":0},{"$f":"IFERROR(VLOOKUP(JD7,MATCHSELEVES!$Y$14:$AE$600,4,FALSE),0)","v":0},{"$f":"IFERROR(VLOOKUP(JD7,MATCHSELEVES!$Y$14:$AE$600,5,FALSE),0)","v":0},{"$f":"IFERROR(VLOOKUP(JD7,MATCHSELEVES!$Y$14:$AF$600,8,FALSE),0)","v":0},{"$f":"IFERROR(VLOOKUP(JD7,MATCHSELEVES!$Y$14:$AG$600,9,FALSE),0)","v":0},"Amarp_2",{"$f":"IFERROR(VLOOKUP(JJ7,MATCHSELEVES!$Y$14:$AE$600,3,FALSE),0)","v":0},{"$f":"IFERROR(VLOOKUP(JJ7,MATCHSELEVES!$Y$14:$AE$600,4,FALSE),0)","v":0},{"$f":"IFERROR(VLOOKUP(JJ7,MATCHSELEVES!$Y$14:$AE$600,5,FALSE),0)","v":0},{"$f":"IFERROR(VLOOKUP(JJ7,MATCHSELEVES!$Y$14:$AF$600,8,FALSE),0)","v":0},{"$f":"IFERROR(VLOOKUP(JJ7,MATCHSELEVES!$Y$14:$AG$600,9,FALSE),0)","v":0},"Amarp_3",{"$f":"IFERROR(VLOOKUP(JP7,MATCHSELEVES!$Y$14:$AE$600,3,FALSE),0)","v":0},{"$f":"IFERROR(VLOOKUP(JP7,MATCHSELEVES!$Y$14:$AE$600,4,FALSE),0)","v":0},{"$f":"IFERROR(VLOOKUP(JP7,MATCHSELEVES!$Y$14:$AE$600,5,FALSE),0)","v":0},{"$f":"IFERROR(VLOOKUP(JP7,MATCHSELEVES!$Y$14:$AF$600,8,FALSE),0)","v":0},{"$f":"IFERROR(VLOOKUP(JP7,MATCHSELEVES!$Y$14:$AG$600,9,FALSE),0)","v":0},"Amarp_4",{"$f":"IFERROR(VLOOKUP(JV7,MATCHSELEVES!$Y$14:$AE$600,3,FALSE),0)","v":0},{"$f":"IFERROR(VLOOKUP(JV7,MATCHSELEVES!$Y$14:$AE$600,4,FALSE),0)","v":0},{"$f":"IFERROR(VLOOKUP(JV7,MATCHSELEVES!$Y$14:$AE$600,5,FALSE),0)","v":0},{"$f":"IFERROR(VLOOKUP(JV7,MATCHSELEVES!$Y$14:$AF$600,8,FALSE),0)","v":0},{"$f":"IFERROR(VLOOKUP(JV7,MATCHSELEVES!$Y$14:$AG$600,9,FALSE),0)","v":0},"Amarp_5",{"$f":"IFERROR(VLOOKUP(KB7,MATCHSELEVES!$Y$14:$AE$600,3,FALSE),0)","v":0},{"$f":"IFERROR(VLOOKUP(KB7,MATCHSELEVES!$Y$14:$AE$600,4,FALSE),0)","v":0},{"$f":"IFERROR(VLOOKUP(KB7,MATCHSELEVES!$Y$14:$AE$600,5,FALSE),0)","v":0},{"$f":"IFERROR(VLOOKUP(KB7,MATCHSELEVES!$Y$14:$AF$600,8,FALSE),0)","v":0},{"$f":"IFERROR(VLOOKUP(KB7,MATCHSELEVES!$Y$14:$AG$600,9,FALSE),0)","v":0},"Amarp_6",{"$f":"IFERROR(VLOOKUP(KH7,MATCHSELEVES!$Y$14:$AE$600,3,FALSE),0)","v":0},{"$f":"IFERROR(VLOOKUP(KH7,MATCHSELEVES!$Y$14:$AE$600,4,FALSE),0)","v":0},{"$f":"IFERROR(VLOOKUP(KH7,MATCHSELEVES!$Y$14:$AE$600,5,FALSE),0)","v":0},{"$f":"IFERROR(VLOOKUP(KH7,MATCHSELEVES!$Y$14:$AF$600,8,FALSE),0)","v":0},{"$f":"IFERROR(VLOOKUP(KH7,MATCHSELEVES!$Y$14:$AG$600,9,FALSE),0)","v":0},"Amarp_7",{"$f":"IFERROR(VLOOKUP(KN7,MATCHSELEVES!$Y$14:$AE$600,3,FALSE),0)","v":0},{"$f":"IFERROR(VLOOKUP(KN7,MATCHSELEVES!$Y$14:$AE$600,4,FALSE),0)","v":0},{"$f":"IFERROR(VLOOKUP(KN7,MATCHSELEVES!$Y$14:$AE$600,5,FALSE),0)","v":0},{"$f":"IFERROR(VLOOKUP(KN7,MATCHSELEVES!$Y$14:$AF$600,8,FALSE),0)","v":0},{"$f":"IFERROR(VLOOKUP(KN7,MATCHSELEVES!$Y$14:$AG$600,9,FALSE),0)","v":0},"Amarp_8",{"$f":"IFERROR(VLOOKUP(KT7,MATCHSELEVES!$Y$14:$AE$600,3,FALSE),0)","v":0},{"$f":"IFERROR(VLOOKUP(KT7,MATCHSELEVES!$Y$14:$AE$600,4,FALSE),0)","v":0},{"$f":"IFERROR(VLOOKUP(KT7,MATCHSELEVES!$Y$14:$AE$600,5,FALSE),0)","v":0},{"$f":"IFERROR(VLOOKUP(KT7,MATCHSELEVES!$Y$14:$AF$600,8,FALSE),0)","v":0},{"$f":"IFERROR(VLOOKUP(KT7,MATCHSELEVES!$Y$14:$AG$600,9,FALSE),0)","v":0},"Amarp_9",{"$f":"IFERROR(VLOOKUP(KZ7,MATCHSELEVES!$Y$14:$AE$600,3,FALSE),0)","v":0},{"$f":"IFERROR(VLOOKUP(KZ7,MATCHSELEVES!$Y$14:$AE$600,4,FALSE),0)","v":0},{"$f":"IFERROR(VLOOKUP(KZ7,MATCHSELEVES!$Y$14:$AE$600,5,FALSE),0)","v":0},{"$f":"IFERROR(VLOOKUP(KZ7,MATCHSELEVES!$Y$14:$AF$600,8,FALSE),0)","v":0},{"$f":"IFERROR(VLOOKUP(KZ7,MATCHSELEVES!$Y$14:$AG$600,9,FALSE),0)","v":0},"Amarp_10",{"$f":"IFERROR(VLOOKUP(LF7,MATCHSELEVES!$Y$14:$AE$600,3,FALSE),0)","v":0},{"$f":"IFERROR(VLOOKUP(LF7,MATCHSELEVES!$Y$14:$AE$600,4,FALSE),0)","v":0},{"$f":"IFERROR(VLOOKUP(LF7,MATCHSELEVES!$Y$14:$AE$600,5,FALSE),0)","v":0},{"$f":"IFERROR(VLOOKUP(LF7,MATCHSELEVES!$Y$14:$AF$600,8,FALSE),0)","v":0},{"$f":"IFERROR(VLOOKUP(LF7,MATCHSELEVES!$Y$14:$AG$600,9,FALSE),0)","v":0},"Amarp_11",{"$f":"IFERROR(VLOOKUP(LL7,MATCHSELEVES!$Y$14:$AE$600,3,FALSE),0)","v":0},{"$f":"IFERROR(VLOOKUP(LL7,MATCHSELEVES!$Y$14:$AE$600,4,FALSE),0)","v":0},{"$f":"IFERROR(VLOOKUP(LL7,MATCHSELEVES!$Y$14:$AE$600,5,FALSE),0)","v":0},{"$f":"IFERROR(VLOOKUP(LL7,MATCHSELEVES!$Y$14:$AF$600,8,FALSE),0)","v":0},{"$f":"IFERROR(VLOOKUP(LL7,MATCHSELEVES!$Y$14:$AG$600,9,FALSE),0)","v":0},"Amarp_12",{"$f":"IFERROR(VLOOKUP(LR7,MATCHSELEVES!$Y$14:$AE$600,3,FALSE),0)","v":0},{"$f":"IFERROR(VLOOKUP(LR7,MATCHSELEVES!$Y$14:$AE$600,4,FALSE),0)","v":0},{"$f":"IFERROR(VLOOKUP(LR7,MATCHSELEVES!$Y$14:$AE$600,5,FALSE),0)","v":0},{"$f":"IFERROR(VLOOKUP(LR7,MATCHSELEVES!$Y$14:$AF$600,8,FALSE),0)","v":0},{"$f":"IFERROR(VLOOKUP(LR7,MATCHSELEVES!$Y$14:$AG$600,9,FALSE),0)","v":0},"Amarp_13",{"$f":"IFERROR(VLOOKUP(LX7,MATCHSELEVES!$Y$14:$AE$600,3,FALSE),0)","v":0},{"$f":"IFERROR(VLOOKUP(LX7,MATCHSELEVES!$Y$14:$AE$600,4,FALSE),0)","v":0},{"$f":"IFERROR(VLOOKUP(LX7,MATCHSELEVES!$Y$14:$AE$600,5,FALSE),0)","v":0},{"$f":"IFERROR(VLOOKUP(LX7,MATCHSELEVES!$Y$14:$AF$600,8,FALSE),0)","v":0},{"$f":"IFERROR(VLOOKUP(LX7,MATCHSELEVES!$Y$14:$AG$600,9,FALSE),0)","v":0},"Amarp_14",{"$f":"IFERROR(VLOOKUP(MD7,MATCHSELEVES!$Y$14:$AE$600,3,FALSE),0)","v":0},{"$f":"IFERROR(VLOOKUP(MD7,MATCHSELEVES!$Y$14:$AE$600,4,FALSE),0)","v":0},{"$f":"IFERROR(VLOOKUP(MD7,MATCHSELEVES!$Y$14:$AE$600,5,FALSE),0)","v":0},{"$f":"IFERROR(VLOOKUP(MD7,MATCHSELEVES!$Y$14:$AF$600,8,FALSE),0)","v":0},{"$f":"IFERROR(VLOOKUP(MD7,MATCHSELEVES!$Y$14:$AG$600,9,FALSE),0)","v":0},"Amarp_15",{"$f":"IFERROR(VLOOKUP(MJ7,MATCHSELEVES!$Y$14:$AE$600,3,FALSE),0)","v":0},{"$f":"IFERROR(VLOOKUP(MJ7,MATCHSELEVES!$Y$14:$AE$600,4,FALSE),0)","v":0},{"$f":"IFERROR(VLOOKUP(MJ7,MATCHSELEVES!$Y$14:$AE$600,5,FALSE),0)","v":0},{"$f":"IFERROR(VLOOKUP(MJ7,MATCHSELEVES!$Y$14:$AF$600,8,FALSE),0)","v":0},{"$f":"IFERROR(VLOOKUP(MJ7,MATCHSELEVES!$Y$14:$AG$600,9,FALSE),0)","v":0},"Amarp_16",{"$f":"IFERROR(VLOOKUP(MP7,MATCHSELEVES!$Y$14:$AE$600,3,FALSE),0)","v":0},{"$f":"IFERROR(VLOOKUP(MP7,MATCHSELEVES!$Y$14:$AE$600,4,FALSE),0)","v":0},{"$f":"IFERROR(VLOOKUP(MP7,MATCHSELEVES!$Y$14:$AE$600,5,FALSE),0)","v":0},{"$f":"IFERROR(VLOOKUP(MP7,MATCHSELEVES!$Y$14:$AF$600,8,FALSE),0)","v":0},{"$f":"IFERROR(VLOOKUP(MP7,MATCHSELEVES!$Y$14:$AG$600,9,FALSE),0)","v":0},"Amarp_17",{"$f":"IFERROR(VLOOKUP(MV7,MATCHSELEVES!$Y$14:$AE$600,3,FALSE),0)","v":0},{"$f":"IFERROR(VLOOKUP(MV7,MATCHSELEVES!$Y$14:$AE$600,4,FALSE),0)","v":0},{"$f":"IFERROR(VLOOKUP(MV7,MATCHSELEVES!$Y$14:$AE$600,5,FALSE),0)","v":0},{"$f":"IFERROR(VLOOKUP(MV7,MATCHSELEVES!$Y$14:$AF$600,8,FALSE),0)","v":0},{"$f":"IFERROR(VLOOKUP(MV7,MATCHSELEVES!$Y$14:$AG$600,9,FALSE),0)","v":0},"Amarp_18",{"$f":"IFERROR(VLOOKUP(NB7,MATCHSELEVES!$Y$14:$AE$600,3,FALSE),0)","v":0},{"$f":"IFERROR(VLOOKUP(NB7,MATCHSELEVES!$Y$14:$AE$600,4,FALSE),0)","v":0},{"$f":"IFERROR(VLOOKUP(NB7,MATCHSELEVES!$Y$14:$AE$600,5,FALSE),0)","v":0},{"$f":"IFERROR(VLOOKUP(NB7,MATCHSELEVES!$Y$14:$AF$600,8,FALSE),0)","v":0},{"$f":"IFERROR(VLOOKUP(NB7,MATCHSELEVES!$Y$14:$AG$600,9,FALSE),0)","v":0},"Amarp_19",{"$f":"IFERROR(VLOOKUP(NH7,MATCHSELEVES!$Y$14:$AE$600,3,FALSE),0)","v":0},{"$f":"IFERROR(VLOOKUP(NH7,MATCHSELEVES!$Y$14:$AE$600,4,FALSE),0)","v":0},{"$f":"IFERROR(VLOOKUP(NH7,MATCHSELEVES!$Y$14:$AE$600,5,FALSE),0)","v":0},{"$f":"IFERROR(VLOOKUP(NH7,MATCHSELEVES!$Y$14:$AF$600,8,FALSE),0)","v":0},{"$f":"IFERROR(VLOOKUP(NH7,MATCHSELEVES!$Y$14:$AG$600,9,FALSE),0)","v":0},"Amarp_20",{"$f":"IFERROR(VLOOKUP(NN7,MATCHSELEVES!$Y$14:$AE$600,3,FALSE),0)","v":0},{"$f":"IFERROR(VLOOKUP(NN7,MATCHSELEVES!$Y$14:$AE$600,4,FALSE),0)","v":0},{"$f":"IFERROR(VLOOKUP(NN7,MATCHSELEVES!$Y$14:$AE$600,5,FALSE),0)","v":0},{"$f":"IFERROR(VLOOKUP(NN7,MATCHSELEVES!$Y$14:$AF$600,8,FALSE),0)","v":0},{"$f":"IFERROR(VLOOKUP(NN7,MATCHSELEVES!$Y$14:$AG$600,9,FALSE),0)","v":0},"Amarp_21",{"$f":"IFERROR(VLOOKUP(NT7,MATCHSELEVES!$Y$14:$AE$600,3,FALSE),0)","v":0},{"$f":"IFERROR(VLOOKUP(NT7,MATCHSELEVES!$Y$14:$AE$600,4,FALSE),0)","v":0},{"$f":"IFERROR(VLOOKUP(NT7,MATCHSELEVES!$Y$14:$AE$600,5,FALSE),0)","v":0},{"$f":"IFERROR(VLOOKUP(NT7,MATCHSELEVES!$Y$14:$AF$600,8,FALSE),0)","v":0},{"$f":"IFERROR(VLOOKUP(NT7,MATCHSELEVES!$Y$14:$AG$600,9,FALSE),0)","v":0},"Amarp_22",{"$f":"IFERROR(VLOOKUP(NZ7,MATCHSELEVES!$Y$14:$AE$600,3,FALSE),0)","v":0},{"$f":"IFERROR(VLOOKUP(NZ7,MATCHSELEVES!$Y$14:$AE$600,4,FALSE),0)","v":0},{"$f":"IFERROR(VLOOKUP(NZ7,MATCHSELEVES!$Y$14:$AE$600,5,FALSE),0)","v":0},{"$f":"IFERROR(VLOOKUP(NZ7,MATCHSELEVES!$Y$14:$AF$600,8,FALSE),0)","v":0},{"$f":"IFERROR(VLOOKUP(NZ7,MATCHSELEVES!$Y$14:$AG$600,9,FALSE),0)","v":0},"Amarp_23",{"$f":"IFERROR(VLOOKUP(OF7,MATCHSELEVES!$Y$14:$AE$600,3,FALSE),0)","v":0},{"$f":"IFERROR(VLOOKUP(OF7,MATCHSELEVES!$Y$14:$AE$600,4,FALSE),0)","v":0},{"$f":"IFERROR(VLOOKUP(OF7,MATCHSELEVES!$Y$14:$AE$600,5,FALSE),0)","v":0},{"$f":"IFERROR(VLOOKUP(OF7,MATCHSELEVES!$Y$14:$AF$600,8,FALSE),0)","v":0},{"$f":"IFERROR(VLOOKUP(OF7,MATCHSELEVES!$Y$14:$AG$600,9,FALSE),0)","v":0},"Amarp_24",{"$f":"IFERROR(VLOOKUP(OL7,MATCHSELEVES!$Y$14:$AE$600,3,FALSE),0)","v":0},{"$f":"IFERROR(VLOOKUP(OL7,MATCHSELEVES!$Y$14:$AE$600,4,FALSE),0)","v":0},{"$f":"IFERROR(VLOOKUP(OL7,MATCHSELEVES!$Y$14:$AE$600,5,FALSE),0)","v":0},{"$f":"IFERROR(VLOOKUP(OL7,MATCHSELEVES!$Y$14:$AF$600,8,FALSE),0)","v":0},{"$f":"IFERROR(VLOOKUP(OL7,MATCHSELEVES!$Y$14:$AG$600,9,FALSE),0)","v":0},"Amarp_25",{"$f":"IFERROR(VLOOKUP(OR7,MATCHSELEVES!$Y$14:$AE$600,3,FALSE),0)","v":0},{"$f":"IFERROR(VLOOKUP(OR7,MATCHSELEVES!$Y$14:$AE$600,4,FALSE),0)","v":0},{"$f":"IFERROR(VLOOKUP(OR7,MATCHSELEVES!$Y$14:$AE$600,5,FALSE),0)","v":0},{"$f":"IFERROR(VLOOKUP(OR7,MATCHSELEVES!$Y$14:$AF$600,8,FALSE),0)","v":0},{"$f":"IFERROR(VLOOKUP(OR7,MATCHSELEVES!$Y$14:$AG$600,9,FALSE),0)","v":0},"Amarp_26",{"$f":"IFERROR(VLOOKUP(OX7,MATCHSELEVES!$Y$14:$AE$600,3,FALSE),0)","v":0},{"$f":"IFERROR(VLOOKUP(OX7,MATCHSELEVES!$Y$14:$AE$600,4,FALSE),0)","v":0},{"$f":"IFERROR(VLOOKUP(OX7,MATCHSELEVES!$Y$14:$AE$600,5,FALSE),0)","v":0},{"$f":"IFERROR(VLOOKUP(OX7,MATCHSELEVES!$Y$14:$AF$600,8,FALSE),0)","v":0},{"$f":"IFERROR(VLOOKUP(OX7,MATCHSELEVES!$Y$14:$AG$600,9,FALSE),0)","v":0},"Amarp_27",{"$f":"IFERROR(VLOOKUP(PD7,MATCHSELEVES!$Y$14:$AE$600,3,FALSE),0)","v":0},{"$f":"IFERROR(VLOOKUP(PD7,MATCHSELEVES!$Y$14:$AE$600,4,FALSE),0)","v":0},{"$f":"IFERROR(VLOOKUP(PD7,MATCHSELEVES!$Y$14:$AE$600,5,FALSE),0)","v":0},{"$f":"IFERROR(VLOOKUP(PD7,MATCHSELEVES!$Y$14:$AF$600,8,FALSE),0)","v":0},{"$f":"IFERROR(VLOOKUP(PD7,MATCHSELEVES!$Y$14:$AG$600,9,FALSE),0)","v":0},"Amarp_28",{"$f":"IFERROR(VLOOKUP(PJ7,MATCHSELEVES!$Y$14:$AE$600,3,FALSE),0)","v":0},{"$f":"IFERROR(VLOOKUP(PJ7,MATCHSELEVES!$Y$14:$AE$600,4,FALSE),0)","v":0},{"$f":"IFERROR(VLOOKUP(PJ7,MATCHSELEVES!$Y$14:$AE$600,5,FALSE),0)","v":0},{"$f":"IFERROR(VLOOKUP(PJ7,MATCHSELEVES!$Y$14:$AF$600,8,FALSE),0)","v":0},{"$f":"IFERROR(VLOOKUP(PJ7,MATCHSELEVES!$Y$14:$AG$600,9,FALSE),0)","v":0},"Amarp_29",{"$f":"IFERROR(VLOOKUP(PP7,MATCHSELEVES!$Y$14:$AE$600,3,FALSE),0)","v":0},{"$f":"IFERROR(VLOOKUP(PP7,MATCHSELEVES!$Y$14:$AE$600,4,FALSE),0)","v":0},{"$f":"IFERROR(VLOOKUP(PP7,MATCHSELEVES!$Y$14:$AE$600,5,FALSE),0)","v":0},{"$f":"IFERROR(VLOOKUP(PP7,MATCHSELEVES!$Y$14:$AF$600,8,FALSE),0)","v":0},{"$f":"IFERROR(VLOOKUP(PP7,MATCHSELEVES!$Y$14:$AG$600,9,FALSE),0)","v":0},"Amarp_30",{"$f":"IFERROR(VLOOKUP(PV7,MATCHSELEVES!$Y$14:$AE$600,3,FALSE),0)","v":0},{"$f":"IFERROR(VLOOKUP(PV7,MATCHSELEVES!$Y$14:$AE$600,4,FALSE),0)","v":0},{"$f":"IFERROR(VLOOKUP(PV7,MATCHSELEVES!$Y$14:$AE$600,5,FALSE),0)","v":0},{"$f":"IFERROR(VLOOKUP(PV7,MATCHSELEVES!$Y$14:$AF$600,8,FALSE),0)","v":0},{"$f":"IFERROR(VLOOKUP(PV7,MATCHSELEVES!$Y$14:$AG$600,9,FALSE),0)","v":0},"Amarp_31",{"$f":"IFERROR(VLOOKUP(QB7,MATCHSELEVES!$Y$14:$AE$600,3,FALSE),0)","v":0},{"$f":"IFERROR(VLOOKUP(QB7,MATCHSELEVES!$Y$14:$AE$600,4,FALSE),0)","v":0},{"$f":"IFERROR(VLOOKUP(QB7,MATCHSELEVES!$Y$14:$AE$600,5,FALSE),0)","v":0},{"$f":"IFERROR(VLOOKUP(QB7,MATCHSELEVES!$Y$14:$AF$600,8,FALSE),0)","v":0},{"$f":"IFERROR(VLOOKUP(QB7,MATCHSELEVES!$Y$14:$AG$600,9,FALSE),0)","v":0},"Amarp_32",{"$f":"IFERROR(VLOOKUP(QH7,MATCHSELEVES!$Y$14:$AE$600,3,FALSE),0)","v":0},{"$f":"IFERROR(VLOOKUP(QH7,MATCHSELEVES!$Y$14:$AE$600,4,FALSE),0)","v":0},{"$f":"IFERROR(VLOOKUP(QH7,MATCHSELEVES!$Y$14:$AE$600,5,FALSE),0)","v":0},{"$f":"IFERROR(VLOOKUP(QH7,MATCHSELEVES!$Y$14:$AF$600,8,FALSE),0)","v":0},{"$f":"IFERROR(VLOOKUP(QH7,MATCHSELEVES!$Y$14:$AG$600,9,FALSE),0)","v":0},"Amarp_33",{"$f":"IFERROR(VLOOKUP(QN7,MATCHSELEVES!$Y$14:$AE$600,3,FALSE),0)","v":0},{"$f":"IFERROR(VLOOKUP(QN7,MATCHSELEVES!$Y$14:$AE$600,4,FALSE),0)","v":0},{"$f":"IFERROR(VLOOKUP(QN7,MATCHSELEVES!$Y$14:$AE$600,5,FALSE),0)","v":0},{"$f":"IFERROR(VLOOKUP(QN7,MATCHSELEVES!$Y$14:$AF$600,8,FALSE),0)","v":0},{"$f":"IFERROR(VLOOKUP(QN7,MATCHSELEVES!$Y$14:$AG$600,9,FALSE),0)","v":0},"Amarp_34",{"$f":"IFERROR(VLOOKUP(QT7,MATCHSELEVES!$Y$14:$AE$600,3,FALSE),0)","v":0},{"$f":"IFERROR(VLOOKUP(QT7,MATCHSELEVES!$Y$14:$AE$600,4,FALSE),0)","v":0},{"$f":"IFERROR(VLOOKUP(QT7,MATCHSELEVES!$Y$14:$AE$600,5,FALSE),0)","v":0},{"$f":"IFERROR(VLOOKUP(QT7,MATCHSELEVES!$Y$14:$AF$600,8,FALSE),0)","v":0},{"$f":"IFERROR(VLOOKUP(QT7,MATCHSELEVES!$Y$14:$AG$600,9,FALSE),0)","v":0},"Amarp_35",{"$f":"IFERROR(VLOOKUP(QZ7,MATCHSELEVES!$Y$14:$AE$600,3,FALSE),0)","v":0},{"$f":"IFERROR(VLOOKUP(QZ7,MATCHSELEVES!$Y$14:$AE$600,4,FALSE),0)","v":0},{"$f":"IFERROR(VLOOKUP(QZ7,MATCHSELEVES!$Y$14:$AE$600,5,FALSE),0)","v":0},{"$f":"IFERROR(VLOOKUP(QZ7,MATCHSELEVES!$Y$14:$AF$600,8,FALSE),0)","v":0},{"$f":"IFERROR(VLOOKUP(QZ7,MATCHSELEVES!$Y$14:$AG$600,9,FALSE),0)","v":0},"Amarp_36",{"$f":"IFERROR(VLOOKUP(RF7,MATCHSELEVES!$Y$14:$AE$600,3,FALSE),0)","v":0},{"$f":"IFERROR(VLOOKUP(RF7,MATCHSELEVES!$Y$14:$AE$600,4,FALSE),0)","v":0},{"$f":"IFERROR(VLOOKUP(RF7,MATCHSELEVES!$Y$14:$AE$600,5,FALSE),0)","v":0},{"$f":"IFERROR(VLOOKUP(RF7,MATCHSELEVES!$Y$14:$AF$600,8,FALSE),0)","v":0},{"$f":"IFERROR(VLOOKUP(RF7,MATCHSELEVES!$Y$14:$AG$600,9,FALSE),0)","v":0},"Amarp_37",{"$f":"IFERROR(VLOOKUP(RL7,MATCHSELEVES!$Y$14:$AE$600,3,FALSE),0)","v":0},{"$f":"IFERROR(VLOOKUP(RL7,MATCHSELEVES!$Y$14:$AE$600,4,FALSE),0)","v":0},{"$f":"IFERROR(VLOOKUP(RL7,MATCHSELEVES!$Y$14:$AE$600,5,FALSE),0)","v":0},{"$f":"IFERROR(VLOOKUP(RL7,MATCHSELEVES!$Y$14:$AF$600,8,FALSE),0)","v":0},{"$f":"IFERROR(VLOOKUP(RL7,MATCHSELEVES!$Y$14:$AG$600,9,FALSE),0)","v":0},"Amarp_38",{"$f":"IFERROR(VLOOKUP(RR7,MATCHSELEVES!$Y$14:$AE$600,3,FALSE),0)","v":0},{"$f":"IFERROR(VLOOKUP(RR7,MATCHSELEVES!$Y$14:$AE$600,4,FALSE),0)","v":0},{"$f":"IFERROR(VLOOKUP(RR7,MATCHSELEVES!$Y$14:$AE$600,5,FALSE),0)","v":0},{"$f":"IFERROR(VLOOKUP(RR7,MATCHSELEVES!$Y$14:$AF$600,8,FALSE),0)","v":0},{"$f":"IFERROR(VLOOKUP(RR7,MATCHSELEVES!$Y$14:$AG$600,9,FALSE),0)","v":0},"Amarp_39",{"$f":"IFERROR(VLOOKUP(RX7,MATCHSELEVES!$Y$14:$AE$600,3,FALSE),0)","v":0},{"$f":"IFERROR(VLOOKUP(RX7,MATCHSELEVES!$Y$14:$AE$600,4,FALSE),0)","v":0},{"$f":"IFERROR(VLOOKUP(RX7,MATCHSELEVES!$Y$14:$AE$600,5,FALSE),0)","v":0},{"$f":"IFERROR(VLOOKUP(RX7,MATCHSELEVES!$Y$14:$AF$600,8,FALSE),0)","v":0},{"$f":"IFERROR(VLOOKUP(RX7,MATCHSELEVES!$Y$14:$AG$600,9,FALSE),0)","v":0},"Amarp_40",{"$f":"IFERROR(VLOOKUP(SD7,MATCHSELEVES!$Y$14:$AE$600,3,FALSE),0)","v":0},{"$f":"IFERROR(VLOOKUP(SD7,MATCHSELEVES!$Y$14:$AE$600,4,FALSE),0)","v":0},{"$f":"IFERROR(VLOOKUP(SD7,MATCHSELEVES!$Y$14:$AE$600,5,FALSE),0)","v":0},{"$f":"IFERROR(VLOOKUP(SD7,MATCHSELEVES!$Y$14:$AF$600,8,FALSE),0)","v":0},{"$f":"IFERROR(VLOOKUP(SD7,MATCHSELEVES!$Y$14:$AG$600,9,FALSE),0)","v":0}]
[5,null,{"$f":"MD1POINT!C8","v":"Ayoub"},{"$f":"MD1POINT!D8","v":1},{"$f":"COUNTIF(MATCHSELEVES!$Z$14:$Z$600,C8)+COUNTIF(MATCHSELEVES!$Z$14:$Z$600,$C8&\"p\")","v":0},1,{"$f":"COUNTIF(MATCHSELEVES!$F$14:$H$249,C8)","v":0},1,0,1,0,1,0,1,{"$f":"Y8+AE8+AK8+AQ8+AW8+BC8+BI8+BO8+BU8+CA8+CG8+CM8+CS8+CY8+DE8+DK8+DQ8+DW8+EC8+EI8+EO8+EU8+FA8+FG8+FM8+FS8+FY8+GE8+GK8+GQ8+GW8+4+HI8+HO8+HU8+IA8+HC8+IG8+IM8+IY8+IS8+JH8+JN8+JZ8+JT8+KF8+KR8+KX8+LJ8+LP8+LV8+LD8+MB8+MH8+MN8+MZ8+MT8+NF8+NL8+NR8+NX8+OD8+OJ8+OP8+OV8+PB8+PH8+PT8+PN8+PZ8+QF8+QL8+QR8+RD8+QX8+RJ8+RP8+RV8+SB8+SH8+KL8+Tableau10[[#This Row],[Nombre de matchs joués]]*2","v":4},1,{"$f":"(Tableau10[[#This Row],[CLASSEMENT1]]+Tableau10[[#This Row],[CLASSEMENT2]]+Tableau10[[#This Row],[CLASSEMENT3]]+Tableau10[[#This Row],[CLASSEMENT4]]+Tableau10[[#This Row],[CLASSEMENT5]]+Tableau10[[#This Row],[CLASSEMENT6]])/6","v":1},{"$f":"RANK(Tableau10[[#This Row],[MOYENNE CLASSEMENTS]],Tableau10[MOYENNE CLASSEMENTS],1)","v":1},null,{"$f":"Tableau10[[#This Row],[CLASSEMENT1]]","v":1},"Ayoub_1",{"$f":"IFERROR(VLOOKUP(U8,MATCHSELEVES!$Y$14:$AE$600,3,FALSE),0)","v":0},{"$f":"IFERROR(VLOOKUP(U8,MATCHSELEVES!$Y$14:$AE$600,4,FALSE),0)","v":0},{"$f":"IFERROR(VLOOKUP(U8,MATCHSELEVES!$Y$14:$AE$600,5,FALSE),0)","v":0},{"$f":"IFERROR(VLOOKUP(U8,MATCHSELEVES!$Y$14:$AF$600,8,FALSE),0)","v":0},{"$f":"IFERROR(VLOOKUP(U8,MATCHSELEVES!$Y$14:$AG$600,9,FALSE),0)","v":0},"Ayoub_2",{"$f":"IFERROR(VLOOKUP(AA8,MATCHSELEVES!$Y$14:$AE$600,3,FALSE),0)","v":0},{"$f":"IFERROR(VLOOKUP(AA8,MATCHSELEVES!$Y$14:$AE$600,4,FALSE),0)","v":0},{"$f":"IFERROR(VLOOKUP(AA8,MATCHSELEVES!$Y$14:$AE$600,5,FALSE),0)","v":0},{"$f":"IFERROR(VLOOKUP(AA8,MATCHSELEVES!$Y$14:$AF$600,8,FALSE),0)","v":0},{"$f":"IFERROR(VLOOKUP(AA8,MATCHSELEVES!$Y$14:$AG$600,9,FALSE),0)","v":0},"Ayoub_3",{"$f":"IFERROR(VLOOKUP(AG8,MATCHSELEVES!$Y$14:$AE$600,3,FALSE),0)","v":0},{"$f":"IFERROR(VLOOKUP(AG8,MATCHSELEVES!$Y$14:$AE$600,4,FALSE),0)","v":0},{"$f":"IFERROR(VLOOKUP(AG8,MATCHSELEVES!$Y$14:$AE$600,5,FALSE),0)","v":0},{"$f":"IFERROR(VLOOKUP(AG8,MATCHSELEVES!$Y$14:$AF$600,8,FALSE),0)","v":0},{"$f":"IFERROR(VLOOKUP(AG8,MATCHSELEVES!$Y$14:$AG$600,9,FALSE),0)","v":0},"Ayoub_4",{"$f":"IFERROR(VLOOKUP(AM8,MATCHSELEVES!$Y$14:$AE$600,3,FALSE),0)","v":0},{"$f":"IFERROR(VLOOKUP(AM8,MATCHSELEVES!$Y$14:$AE$600,4,FALSE),0)","v":0},{"$f":"IFERROR(VLOOKUP(AM8,MATCHSELEVES!$Y$14:$AE$600,5,FALSE),0)","v":0},{"$f":"IFERROR(VLOOKUP(AM8,MATCHSELEVES!$Y$14:$AF$600,8,FALSE),0)","v":0},{"$f":"IFERROR(VLOOKUP(AM8,MATCHSELEVES!$Y$14:$AG$600,9,FALSE),0)","v":0},"Ayoub_5",{"$f":"IFERROR(VLOOKUP(AS8,MATCHSELEVES!$Y$14:$AE$600,3,FALSE),0)","v":0},{"$f":"IFERROR(VLOOKUP(AS8,MATCHSELEVES!$Y$14:$AE$600,4,FALSE),0)","v":0},{"$f":"IFERROR(VLOOKUP(AS8,MATCHSELEVES!$Y$14:$AE$600,5,FALSE),0)","v":0},{"$f":"IFERROR(VLOOKUP(AS8,MATCHSELEVES!$Y$14:$AF$600,8,FALSE),0)","v":0},{"$f":"IFERROR(VLOOKUP(AS8,MATCHSELEVES!$Y$14:$AG$600,9,FALSE),0)","v":0},"Ayoub_6",{"$f":"IFERROR(VLOOKUP(AY8,MATCHSELEVES!$Y$14:$AE$600,3,FALSE),0)","v":0},{"$f":"IFERROR(VLOOKUP(AY8,MATCHSELEVES!$Y$14:$AE$600,4,FALSE),0)","v":0},{"$f":"IFERROR(VLOOKUP(AY8,MATCHSELEVES!$Y$14:$AE$600,5,FALSE),0)","v":0},{"$f":"IFERROR(VLOOKUP(AY8,MATCHSELEVES!$Y$14:$AF$600,8,FALSE),0)","v":0},{"$f":"IFERROR(VLOOKUP(AY8,MATCHSELEVES!$Y$14:$AG$600,9,FALSE),0)","v":0},"Ayoub_7",{"$f":"IFERROR(VLOOKUP(BE8,MATCHSELEVES!$Y$14:$AE$600,3,FALSE),0)","v":0},{"$f":"IFERROR(VLOOKUP(BE8,MATCHSELEVES!$Y$14:$AE$600,4,FALSE),0)","v":0},{"$f":"IFERROR(VLOOKUP(BE8,MATCHSELEVES!$Y$14:$AE$600,5,FALSE),0)","v":0},{"$f":"IFERROR(VLOOKUP(BE8,MATCHSELEVES!$Y$14:$AF$600,8,FALSE),0)","v":0},{"$f":"IFERROR(VLOOKUP(BE8,MATCHSELEVES!$Y$14:$AG$600,9,FALSE),0)","v":0},"Ayoub_8",{"$f":"IFERROR(VLOOKUP(BK8,MATCHSELEVES!$Y$14:$AE$600,3,FALSE),0)","v":0},{"$f":"IFERROR(VLOOKUP(BK8,MATCHSELEVES!$Y$14:$AE$600,4,FALSE),0)","v":0},{"$f":"IFERROR(VLOOKUP(BK8,MATCHSELEVES!$Y$14:$AE$600,5,FALSE),0)","v":0},{"$f":"IFERROR(VLOOKUP(BK8,MATCHSELEVES!$Y$14:$AF$600,8,FALSE),0)","v":0},{"$f":"IFERROR(VLOOKUP(BK8,MATCHSELEVES!$Y$14:$AG$600,9,FALSE),0)","v":0},"Ayoub_9",{"$f":"IFERROR(VLOOKUP(BQ8,MATCHSELEVES!$Y$14:$AE$600,3,FALSE),0)","v":0},{"$f":"IFERROR(VLOOKUP(BQ8,MATCHSELEVES!$Y$14:$AE$600,4,FALSE),0)","v":0},{"$f":"IFERROR(VLOOKUP(BQ8,MATCHSELEVES!$Y$14:$AE$600,5,FALSE),0)","v":0},{"$f":"IFERROR(VLOOKUP(BQ8,MATCHSELEVES!$Y$14:$AF$600,8,FALSE),0)","v":0},{"$f":"IFERROR(VLOOKUP(BQ8,MATCHSELEVES!$Y$14:$AG$600,9,FALSE),0)","v":0},"Ayoub_10",{"$f":"IFERROR(VLOOKUP(BW8,MATCHSELEVES!$Y$14:$AE$600,3,FALSE),0)","v":0},{"$f":"IFERROR(VLOOKUP(BW8,MATCHSELEVES!$Y$14:$AE$600,4,FALSE),0)","v":0},{"$f":"IFERROR(VLOOKUP(BW8,MATCHSELEVES!$Y$14:$AE$600,5,FALSE),0)","v":0},{"$f":"IFERROR(VLOOKUP(BW8,MATCHSELEVES!$Y$14:$AF$600,8,FALSE),0)","v":0},{"$f":"IFERROR(VLOOKUP(BW8,MATCHSELEVES!$Y$14:$AG$600,9,FALSE),0)","v":0},"Ayoub_11",{"$f":"IFERROR(VLOOKUP(CC8,MATCHSELEVES!$Y$14:$AE$600,3,FALSE),0)","v":0},{"$f":"IFERROR(VLOOKUP(CC8,MATCHSELEVES!$Y$14:$AE$600,4,FALSE),0)","v":0},{"$f":"IFERROR(VLOOKUP(CC8,MATCHSELEVES!$Y$14:$AE$600,5,FALSE),0)","v":0},{"$f":"IFERROR(VLOOKUP(CC8,MATCHSELEVES!$Y$14:$AF$600,8,FALSE),0)","v":0},{"$f":"IFERROR(VLOOKUP(CC8,MATCHSELEVES!$Y$14:$AG$600,9,FALSE),0)","v":0},"Ayoub_12",{"$f":"IFERROR(VLOOKUP(CI8,MATCHSELEVES!$Y$14:$AE$600,3,FALSE),0)","v":0},{"$f":"IFERROR(VLOOKUP(CI8,MATCHSELEVES!$Y$14:$AE$600,4,FALSE),0)","v":0},{"$f":"IFERROR(VLOOKUP(CI8,MATCHSELEVES!$Y$14:$AE$600,5,FALSE),0)","v":0},{"$f":"IFERROR(VLOOKUP(CI8,MATCHSELEVES!$Y$14:$AF$600,8,FALSE),0)","v":0},{"$f":"IFERROR(VLOOKUP(CI8,MATCHSELEVES!$Y$14:$AG$600,9,FALSE),0)","v":0},"Ayoub_13",{"$f":"IFERROR(VLOOKUP(CO8,MATCHSELEVES!$Y$14:$AE$600,3,FALSE),0)","v":0},{"$f":"IFERROR(VLOOKUP(CO8,MATCHSELEVES!$Y$14:$AE$600,4,FALSE),0)","v":0},{"$f":"IFERROR(VLOOKUP(CO8,MATCHSELEVES!$Y$14:$AE$600,5,FALSE),0)","v":0},{"$f":"IFERROR(VLOOKUP(CO8,MATCHSELEVES!$Y$14:$AF$600,8,FALSE),0)","v":0},{"$f":"IFERROR(VLOOKUP(CO8,MATCHSELEVES!$Y$14:$AG$600,9,FALSE),0)","v":0},"Ayoub_14",{"$f":"IFERROR(VLOOKUP(CU8,MATCHSELEVES!$Y$14:$AE$600,3,FALSE),0)","v":0},{"$f":"IFERROR(VLOOKUP(CU8,MATCHSELEVES!$Y$14:$AE$600,4,FALSE),0)","v":0},{"$f":"IFERROR(VLOOKUP(CU8,MATCHSELEVES!$Y$14:$AE$600,5,FALSE),0)","v":0},{"$f":"IFERROR(VLOOKUP(CU8,MATCHSELEVES!$Y$14:$AF$600,8,FALSE),0)","v":0},{"$f":"IFERROR(VLOOKUP(CU8,MATCHSELEVES!$Y$14:$AG$600,9,FALSE),0)","v":0},"Ayoub_15",{"$f":"IFERROR(VLOOKUP(DA8,MATCHSELEVES!$Y$14:$AE$600,3,FALSE),0)","v":0},{"$f":"IFERROR(VLOOKUP(DA8,MATCHSELEVES!$Y$14:$AE$600,4,FALSE),0)","v":0},{"$f":"IFERROR(VLOOKUP(DA8,MATCHSELEVES!$Y$14:$AE$600,5,FALSE),0)","v":0},{"$f":"IFERROR(VLOOKUP(DA8,MATCHSELEVES!$Y$14:$AF$600,8,FALSE),0)","v":0},{"$f":"IFERROR(VLOOKUP(DA8,MATCHSELEVES!$Y$14:$AG$600,9,FALSE),0)","v":0},"Ayoub_16",{"$f":"IFERROR(VLOOKUP(DG8,MATCHSELEVES!$Y$14:$AE$600,3,FALSE),0)","v":0},{"$f":"IFERROR(VLOOKUP(DG8,MATCHSELEVES!$Y$14:$AE$600,4,FALSE),0)","v":0},{"$f":"IFERROR(VLOOKUP(DG8,MATCHSELEVES!$Y$14:$AE$600,5,FALSE),0)","v":0},{"$f":"IFERROR(VLOOKUP(DG8,MATCHSELEVES!$Y$14:$AF$600,8,FALSE),0)","v":0},{"$f":"IFERROR(VLOOKUP(DG8,MATCHSELEVES!$Y$14:$AG$600,9,FALSE),0)","v":0},"Ayoub_17",{"$f":"IFERROR(VLOOKUP(DM8,MATCHSELEVES!$Y$14:$AE$600,3,FALSE),0)","v":0},{"$f":"IFERROR(VLOOKUP(DM8,MATCHSELEVES!$Y$14:$AE$600,4,FALSE),0)","v":0},{"$f":"IFERROR(VLOOKUP(DM8,MATCHSELEVES!$Y$14:$AE$600,5,FALSE),0)","v":0},{"$f":"IFERROR(VLOOKUP(DM8,MATCHSELEVES!$Y$14:$AF$600,8,FALSE),0)","v":0},{"$f":"IFERROR(VLOOKUP(DM8,MATCHSELEVES!$Y$14:$AG$600,9,FALSE),0)","v":0},"Ayoub_18",{"$f":"IFERROR(VLOOKUP(DS8,MATCHSELEVES!$Y$14:$AE$600,3,FALSE),0)","v":0},{"$f":"IFERROR(VLOOKUP(DS8,MATCHSELEVES!$Y$14:$AE$600,4,FALSE),0)","v":0},{"$f":"IFERROR(VLOOKUP(DS8,MATCHSELEVES!$Y$14:$AE$600,5,FALSE),0)","v":0},{"$f":"IFERROR(VLOOKUP(DS8,MATCHSELEVES!$Y$14:$AF$600,8,FALSE),0)","v":0},{"$f":"IFERROR(VLOOKUP(DS8,MATCHSELEVES!$Y$14:$AG$600,9,FALSE),0)","v":0},"Ayoub_19",{"$f":"IFERROR(VLOOKUP(DY8,MATCHSELEVES!$Y$14:$AE$600,3,FALSE),0)","v":0},{"$f":"IFERROR(VLOOKUP(DY8,MATCHSELEVES!$Y$14:$AE$600,4,FALSE),0)","v":0},{"$f":"IFERROR(VLOOKUP(DY8,MATCHSELEVES!$Y$14:$AE$600,5,FALSE),0)","v":0},{"$f":"IFERROR(VLOOKUP(DY8,MATCHSELEVES!$Y$14:$AF$600,8,FALSE),0)","v":0},{"$f":"IFERROR(VLOOKUP(DY8,MATCHSELEVES!$Y$14:$AG$600,9,FALSE),0)","v":0},"Ayoub_20",{"$f":"IFERROR(VLOOKUP(EE8,MATCHSELEVES!$Y$14:$AE$600,3,FALSE),0)","v":0},{"$f":"IFERROR(VLOOKUP(EE8,MATCHSELEVES!$Y$14:$AE$600,4,FALSE),0)","v":0},{"$f":"IFERROR(VLOOKUP(EE8,MATCHSELEVES!$Y$14:$AE$600,5,FALSE),0)","v":0},{"$f":"IFERROR(VLOOKUP(EE8,MATCHSELEVES!$Y$14:$AF$600,8,FALSE),0)","v":0},{"$f":"IFERROR(VLOOKUP(EE8,MATCHSELEVES!$Y$14:$AG$600,9,FALSE),0)","v":0},"Ayoub_21",{"$f":"IFERROR(VLOOKUP(EK8,MATCHSELEVES!$Y$14:$AE$600,3,FALSE),0)","v":0},{"$f":"IFERROR(VLOOKUP(EK8,MATCHSELEVES!$Y$14:$AE$600,4,FALSE),0)","v":0},{"$f":"IFERROR(VLOOKUP(EK8,MATCHSELEVES!$Y$14:$AE$600,5,FALSE),0)","v":0},{"$f":"IFERROR(VLOOKUP(EK8,MATCHSELEVES!$Y$14:$AF$600,8,FALSE),0)","v":0},{"$f":"IFERROR(VLOOKUP(EK8,MATCHSELEVES!$Y$14:$AG$600,9,FALSE),0)","v":0},"Ayoub_22",{"$f":"IFERROR(VLOOKUP(EQ8,MATCHSELEVES!$Y$14:$AE$600,3,FALSE),0)","v":0},{"$f":"IFERROR(VLOOKUP(EQ8,MATCHSELEVES!$Y$14:$AE$600,4,FALSE),0)","v":0},{"$f":"IFERROR(VLOOKUP(EQ8,MATCHSELEVES!$Y$14:$AE$600,5,FALSE),0)","v":0},{"$f":"IFERROR(VLOOKUP(EQ8,MATCHSELEVES!$Y$14:$AF$600,8,FALSE),0)","v":0},{"$f":"IFERROR(VLOOKUP(EQ8,MATCHSELEVES!$Y$14:$AG$600,9,FALSE),0)","v":0},"Ayoub_23",{"$f":"IFERROR(VLOOKUP(EW8,MATCHSELEVES!$Y$14:$AE$600,3,FALSE),0)","v":0},{"$f":"IFERROR(VLOOKUP(EW8,MATCHSELEVES!$Y$14:$AE$600,4,FALSE),0)","v":0},{"$f":"IFERROR(VLOOKUP(EW8,MATCHSELEVES!$Y$14:$AE$600,5,FALSE),0)","v":0},{"$f":"IFERROR(VLOOKUP(EW8,MATCHSELEVES!$Y$14:$AF$600,8,FALSE),0)","v":0},{"$f":"IFERROR(VLOOKUP(EW8,MATCHSELEVES!$Y$14:$AG$600,9,FALSE),0)","v":0},"Ayoub_24",{"$f":"IFERROR(VLOOKUP(FC8,MATCHSELEVES!$Y$14:$AE$600,3,FALSE),0)","v":0},{"$f":"IFERROR(VLOOKUP(FC8,MATCHSELEVES!$Y$14:$AE$600,4,FALSE),0)","v":0},{"$f":"IFERROR(VLOOKUP(FC8,MATCHSELEVES!$Y$14:$AE$600,5,FALSE),0)","v":0},{"$f":"IFERROR(VLOOKUP(FC8,MATCHSELEVES!$Y$14:$AF$600,8,FALSE),0)","v":0},{"$f":"IFERROR(VLOOKUP(FC8,MATCHSELEVES!$Y$14:$AG$600,9,FALSE),0)","v":0},"Ayoub_25",{"$f":"IFERROR(VLOOKUP(FI8,MATCHSELEVES!$Y$14:$AE$600,3,FALSE),0)","v":0},{"$f":"IFERROR(VLOOKUP(FI8,MATCHSELEVES!$Y$14:$AE$600,4,FALSE),0)","v":0},{"$f":"IFERROR(VLOOKUP(FI8,MATCHSELEVES!$Y$14:$AE$600,5,FALSE),0)","v":0},{"$f":"IFERROR(VLOOKUP(FI8,MATCHSELEVES!$Y$14:$AF$600,8,FALSE),0)","v":0},{"$f":"IFERROR(VLOOKUP(FI8,MATCHSELEVES!$Y$14:$AG$600,9,FALSE),0)","v":0},"Ayoub_26",{"$f":"IFERROR(VLOOKUP(FO8,MATCHSELEVES!$Y$14:$AE$600,3,FALSE),0)","v":0},{"$f":"IFERROR(VLOOKUP(FO8,MATCHSELEVES!$Y$14:$AE$600,4,FALSE),0)","v":0},{"$f":"IFERROR(VLOOKUP(FO8,MATCHSELEVES!$Y$14:$AE$600,5,FALSE),0)","v":0},{"$f":"IFERROR(VLOOKUP(FO8,MATCHSELEVES!$Y$14:$AF$600,8,FALSE),0)","v":0},{"$f":"IFERROR(VLOOKUP(FO8,MATCHSELEVES!$Y$14:$AG$600,9,FALSE),0)","v":0},"Ayoub_27",{"$f":"IFERROR(VLOOKUP(FU8,MATCHSELEVES!$Y$14:$AE$600,3,FALSE),0)","v":0},{"$f":"IFERROR(VLOOKUP(FU8,MATCHSELEVES!$Y$14:$AE$600,4,FALSE),0)","v":0},{"$f":"IFERROR(VLOOKUP(FU8,MATCHSELEVES!$Y$14:$AE$600,5,FALSE),0)","v":0},{"$f":"IFERROR(VLOOKUP(FU8,MATCHSELEVES!$Y$14:$AF$600,8,FALSE),0)","v":0},{"$f":"IFERROR(VLOOKUP(FU8,MATCHSELEVES!$Y$14:$AG$600,9,FALSE),0)","v":0},"Ayoub_28",{"$f":"IFERROR(VLOOKUP(GA8,MATCHSELEVES!$Y$14:$AE$600,3,FALSE),0)","v":0},{"$f":"IFERROR(VLOOKUP(GA8,MATCHSELEVES!$Y$14:$AE$600,4,FALSE),0)","v":0},{"$f":"IFERROR(VLOOKUP(GA8,MATCHSELEVES!$Y$14:$AE$600,5,FALSE),0)","v":0},{"$f":"IFERROR(VLOOKUP(GA8,MATCHSELEVES!$Y$14:$AF$600,8,FALSE),0)","v":0},{"$f":"IFERROR(VLOOKUP(GA8,MATCHSELEVES!$Y$14:$AG$600,9,FALSE),0)","v":0},"Ayoub_29",{"$f":"IFERROR(VLOOKUP(GG8,MATCHSELEVES!$Y$14:$AE$600,3,FALSE),0)","v":0},{"$f":"IFERROR(VLOOKUP(GG8,MATCHSELEVES!$Y$14:$AE$600,4,FALSE),0)","v":0},{"$f":"IFERROR(VLOOKUP(GG8,MATCHSELEVES!$Y$14:$AE$600,5,FALSE),0)","v":0},{"$f":"IFERROR(VLOOKUP(GG8,MATCHSELEVES!$Y$14:$AF$600,8,FALSE),0)","v":0},{"$f":"IFERROR(VLOOKUP(GG8,MATCHSELEVES!$Y$14:$AG$600,9,FALSE),0)","v":0},"Ayoub_30",{"$f":"IFERROR(VLOOKUP(GM8,MATCHSELEVES!$Y$14:$AE$600,3,FALSE),0)","v":0},{"$f":"IFERROR(VLOOKUP(GM8,MATCHSELEVES!$Y$14:$AE$600,4,FALSE),0)","v":0},{"$f":"IFERROR(VLOOKUP(GM8,MATCHSELEVES!$Y$14:$AE$600,5,FALSE),0)","v":0},{"$f":"IFERROR(VLOOKUP(GM8,MATCHSELEVES!$Y$14:$AF$600,8,FALSE),0)","v":0},{"$f":"IFERROR(VLOOKUP(GM8,MATCHSELEVES!$Y$14:$AG$600,9,FALSE),0)","v":0},"Ayoub_31",{"$f":"IFERROR(VLOOKUP(GS8,MATCHSELEVES!$Y$14:$AE$600,3,FALSE),0)","v":0},{"$f":"IFERROR(VLOOKUP(GS8,MATCHSELEVES!$Y$14:$AE$600,4,FALSE),0)","v":0},{"$f":"IFERROR(VLOOKUP(GS8,MATCHSELEVES!$Y$14:$AE$600,5,FALSE),0)","v":0},{"$f":"IFERROR(VLOOKUP(GS8,MATCHSELEVES!$Y$14:$AF$600,8,FALSE),0)","v":0},{"$f":"IFERROR(VLOOKUP(GS8,MATCHSELEVES!$Y$14:$AG$600,9,FALSE),0)","v":0},"Ayoub_32",{"$f":"IFERROR(VLOOKUP(GY8,MATCHSELEVES!$Y$14:$AE$600,3,FALSE),0)","v":0},{"$f":"IFERROR(VLOOKUP(GY8,MATCHSELEVES!$Y$14:$AE$600,4,FALSE),0)","v":0},{"$f":"IFERROR(VLOOKUP(GY8,MATCHSELEVES!$Y$14:$AE$600,5,FALSE),0)","v":0},{"$f":"IFERROR(VLOOKUP(GY8,MATCHSELEVES!$Y$14:$AF$600,8,FALSE),0)","v":0},{"$f":"IFERROR(VLOOKUP(GY8,MATCHSELEVES!$Y$14:$AG$600,9,FALSE),0)","v":0},"Ayoub_33",{"$f":"IFERROR(VLOOKUP(HE8,MATCHSELEVES!$Y$14:$AE$600,3,FALSE),0)","v":0},{"$f":"IFERROR(VLOOKUP(HE8,MATCHSELEVES!$Y$14:$AE$600,4,FALSE),0)","v":0},{"$f":"IFERROR(VLOOKUP(HE8,MATCHSELEVES!$Y$14:$AE$600,5,FALSE),0)","v":0},{"$f":"IFERROR(VLOOKUP(HE8,MATCHSELEVES!$Y$14:$AF$600,8,FALSE),0)","v":0},{"$f":"IFERROR(VLOOKUP(HE8,MATCHSELEVES!$Y$14:$AG$600,9,FALSE),0)","v":0},"Ayoub_34",{"$f":"IFERROR(VLOOKUP(HK8,MATCHSELEVES!$Y$14:$AE$600,3,FALSE),0)","v":0},{"$f":"IFERROR(VLOOKUP(HK8,MATCHSELEVES!$Y$14:$AE$600,4,FALSE),0)","v":0},{"$f":"IFERROR(VLOOKUP(HK8,MATCHSELEVES!$Y$14:$AE$600,5,FALSE),0)","v":0},{"$f":"IFERROR(VLOOKUP(HK8,MATCHSELEVES!$Y$14:$AF$600,8,FALSE),0)","v":0},{"$f":"IFERROR(VLOOKUP(HK8,MATCHSELEVES!$Y$14:$AG$600,9,FALSE),0)","v":0},"Ayoub_35",{"$f":"IFERROR(VLOOKUP(HQ8,MATCHSELEVES!$Y$14:$AE$600,3,FALSE),0)","v":0},{"$f":"IFERROR(VLOOKUP(HQ8,MATCHSELEVES!$Y$14:$AE$600,4,FALSE),0)","v":0},{"$f":"IFERROR(VLOOKUP(HQ8,MATCHSELEVES!$Y$14:$AE$600,5,FALSE),0)","v":0},{"$f":"IFERROR(VLOOKUP(HQ8,MATCHSELEVES!$Y$14:$AF$600,8,FALSE),0)","v":0},{"$f":"IFERROR(VLOOKUP(HQ8,MATCHSELEVES!$Y$14:$AG$600,9,FALSE),0)","v":0},"Ayoub_36",{"$f":"IFERROR(VLOOKUP(HW8,MATCHSELEVES!$Y$14:$AE$600,3,FALSE),0)","v":0},{"$f":"IFERROR(VLOOKUP(HW8,MATCHSELEVES!$Y$14:$AE$600,4,FALSE),0)","v":0},{"$f":"IFERROR(VLOOKUP(HW8,MATCHSELEVES!$Y$14:$AE$600,5,FALSE),0)","v":0},{"$f":"IFERROR(VLOOKUP(HW8,MATCHSELEVES!$Y$14:$AF$600,8,FALSE),0)","v":0},{"$f":"IFERROR(VLOOKUP(HW8,MATCHSELEVES!$Y$14:$AG$600,9,FALSE),0)","v":0},"Ayoub_37",{"$f":"IFERROR(VLOOKUP(IC8,MATCHSELEVES!$Y$14:$AE$600,3,FALSE),0)","v":0},{"$f":"IFERROR(VLOOKUP(IC8,MATCHSELEVES!$Y$14:$AE$600,4,FALSE),0)","v":0},{"$f":"IFERROR(VLOOKUP(IC8,MATCHSELEVES!$Y$14:$AE$600,5,FALSE),0)","v":0},{"$f":"IFERROR(VLOOKUP(IC8,MATCHSELEVES!$Y$14:$AF$600,8,FALSE),0)","v":0},{"$f":"IFERROR(VLOOKUP(IC8,MATCHSELEVES!$Y$14:$AG$600,9,FALSE),0)","v":0},"Ayoub_38",{"$f":"IFERROR(VLOOKUP(II8,MATCHSELEVES!$Y$14:$AE$600,3,FALSE),0)","v":0},{"$f":"IFERROR(VLOOKUP(II8,MATCHSELEVES!$Y$14:$AE$600,4,FALSE),0)","v":0},{"$f":"IFERROR(VLOOKUP(II8,MATCHSELEVES!$Y$14:$AE$600,5,FALSE),0)","v":0},{"$f":"IFERROR(VLOOKUP(II8,MATCHSELEVES!$Y$14:$AF$600,8,FALSE),0)","v":0},{"$f":"IFERROR(VLOOKUP(II8,MATCHSELEVES!$Y$14:$AG$600,9,FALSE),0)","v":0},"Ayoub_39",{"$f":"IFERROR(VLOOKUP(IO8,MATCHSELEVES!$Y$14:$AE$600,3,FALSE),0)","v":0},{"$f":"IFERROR(VLOOKUP(IO8,MATCHSELEVES!$Y$14:$AE$600,4,FALSE),0)","v":0},{"$f":"IFERROR(VLOOKUP(IO8,MATCHSELEVES!$Y$14:$AE$600,5,FALSE),0)","v":0},{"$f":"IFERROR(VLOOKUP(IO8,MATCHSELEVES!$Y$14:$AF$600,8,FALSE),0)","v":0},{"$f":"IFERROR(VLOOKUP(IO8,MATCHSELEVES!$Y$14:$AG$600,9,FALSE),0)","v":0},"Ayoub_40",{"$f":"IFERROR(VLOOKUP(IU8,MATCHSELEVES!$Y$14:$AE$600,3,FALSE),0)","v":0},{"$f":"IFERROR(VLOOKUP(IU8,MATCHSELEVES!$Y$14:$AE$600,4,FALSE),0)","v":0},{"$f":"IFERROR(VLOOKUP(IU8,MATCHSELEVES!$Y$14:$AE$600,5,FALSE),0)","v":0},{"$f":"IFERROR(VLOOKUP(IU8,MATCHSELEVES!$Y$14:$AF$600,8,FALSE),0)","v":0},{"$f":"IFERROR(VLOOKUP(IU8,MATCHSELEVES!$Y$14:$AG$600,9,FALSE),0)","v":0},{"$f":"Tableau10[[#This Row],[CLASSE]]","v":"Ayoub"},1,{"$f":"MD1POINT!D8","v":1},"Ayoubp_1",{"$f":"IFERROR(VLOOKUP(JD8,MATCHSELEVES!$Y$14:$AE$600,3,FALSE),0)","v":0},{"$f":"IFERROR(VLOOKUP(JD8,MATCHSELEVES!$Y$14:$AE$600,4,FALSE),0)","v":0},{"$f":"IFERROR(VLOOKUP(JD8,MATCHSELEVES!$Y$14:$AE$600,5,FALSE),0)","v":0},{"$f":"IFERROR(VLOOKUP(JD8,MATCHSELEVES!$Y$14:$AF$600,8,FALSE),0)","v":0},{"$f":"IFERROR(VLOOKUP(JD8,MATCHSELEVES!$Y$14:$AG$600,9,FALSE),0)","v":0},"Ayoubp_2",{"$f":"IFERROR(VLOOKUP(JJ8,MATCHSELEVES!$Y$14:$AE$600,3,FALSE),0)","v":0},{"$f":"IFERROR(VLOOKUP(JJ8,MATCHSELEVES!$Y$14:$AE$600,4,FALSE),0)","v":0},{"$f":"IFERROR(VLOOKUP(JJ8,MATCHSELEVES!$Y$14:$AE$600,5,FALSE),0)","v":0},{"$f":"IFERROR(VLOOKUP(JJ8,MATCHSELEVES!$Y$14:$AF$600,8,FALSE),0)","v":0},{"$f":"IFERROR(VLOOKUP(JJ8,MATCHSELEVES!$Y$14:$AG$600,9,FALSE),0)","v":0},"Ayoubp_3",{"$f":"IFERROR(VLOOKUP(JP8,MATCHSELEVES!$Y$14:$AE$600,3,FALSE),0)","v":0},{"$f":"IFERROR(VLOOKUP(JP8,MATCHSELEVES!$Y$14:$AE$600,4,FALSE),0)","v":0},{"$f":"IFERROR(VLOOKUP(JP8,MATCHSELEVES!$Y$14:$AE$600,5,FALSE),0)","v":0},{"$f":"IFERROR(VLOOKUP(JP8,MATCHSELEVES!$Y$14:$AF$600,8,FALSE),0)","v":0},{"$f":"IFERROR(VLOOKUP(JP8,MATCHSELEVES!$Y$14:$AG$600,9,FALSE),0)","v":0},"Ayoubp_4",{"$f":"IFERROR(VLOOKUP(JV8,MATCHSELEVES!$Y$14:$AE$600,3,FALSE),0)","v":0},{"$f":"IFERROR(VLOOKUP(JV8,MATCHSELEVES!$Y$14:$AE$600,4,FALSE),0)","v":0},{"$f":"IFERROR(VLOOKUP(JV8,MATCHSELEVES!$Y$14:$AE$600,5,FALSE),0)","v":0},{"$f":"IFERROR(VLOOKUP(JV8,MATCHSELEVES!$Y$14:$AF$600,8,FALSE),0)","v":0},{"$f":"IFERROR(VLOOKUP(JV8,MATCHSELEVES!$Y$14:$AG$600,9,FALSE),0)","v":0},"Ayoubp_5",{"$f":"IFERROR(VLOOKUP(KB8,MATCHSELEVES!$Y$14:$AE$600,3,FALSE),0)","v":0},{"$f":"IFERROR(VLOOKUP(KB8,MATCHSELEVES!$Y$14:$AE$600,4,FALSE),0)","v":0},{"$f":"IFERROR(VLOOKUP(KB8,MATCHSELEVES!$Y$14:$AE$600,5,FALSE),0)","v":0},{"$f":"IFERROR(VLOOKUP(KB8,MATCHSELEVES!$Y$14:$AF$600,8,FALSE),0)","v":0},{"$f":"IFERROR(VLOOKUP(KB8,MATCHSELEVES!$Y$14:$AG$600,9,FALSE),0)","v":0},"Ayoubp_6",{"$f":"IFERROR(VLOOKUP(KH8,MATCHSELEVES!$Y$14:$AE$600,3,FALSE),0)","v":0},{"$f":"IFERROR(VLOOKUP(KH8,MATCHSELEVES!$Y$14:$AE$600,4,FALSE),0)","v":0},{"$f":"IFERROR(VLOOKUP(KH8,MATCHSELEVES!$Y$14:$AE$600,5,FALSE),0)","v":0},{"$f":"IFERROR(VLOOKUP(KH8,MATCHSELEVES!$Y$14:$AF$600,8,FALSE),0)","v":0},{"$f":"IFERROR(VLOOKUP(KH8,MATCHSELEVES!$Y$14:$AG$600,9,FALSE),0)","v":0},"Ayoubp_7",{"$f":"IFERROR(VLOOKUP(KN8,MATCHSELEVES!$Y$14:$AE$600,3,FALSE),0)","v":0},{"$f":"IFERROR(VLOOKUP(KN8,MATCHSELEVES!$Y$14:$AE$600,4,FALSE),0)","v":0},{"$f":"IFERROR(VLOOKUP(KN8,MATCHSELEVES!$Y$14:$AE$600,5,FALSE),0)","v":0},{"$f":"IFERROR(VLOOKUP(KN8,MATCHSELEVES!$Y$14:$AF$600,8,FALSE),0)","v":0},{"$f":"IFERROR(VLOOKUP(KN8,MATCHSELEVES!$Y$14:$AG$600,9,FALSE),0)","v":0},"Ayoubp_8",{"$f":"IFERROR(VLOOKUP(KT8,MATCHSELEVES!$Y$14:$AE$600,3,FALSE),0)","v":0},{"$f":"IFERROR(VLOOKUP(KT8,MATCHSELEVES!$Y$14:$AE$600,4,FALSE),0)","v":0},{"$f":"IFERROR(VLOOKUP(KT8,MATCHSELEVES!$Y$14:$AE$600,5,FALSE),0)","v":0},{"$f":"IFERROR(VLOOKUP(KT8,MATCHSELEVES!$Y$14:$AF$600,8,FALSE),0)","v":0},{"$f":"IFERROR(VLOOKUP(KT8,MATCHSELEVES!$Y$14:$AG$600,9,FALSE),0)","v":0},"Ayoubp_9",{"$f":"IFERROR(VLOOKUP(KZ8,MATCHSELEVES!$Y$14:$AE$600,3,FALSE),0)","v":0},{"$f":"IFERROR(VLOOKUP(KZ8,MATCHSELEVES!$Y$14:$AE$600,4,FALSE),0)","v":0},{"$f":"IFERROR(VLOOKUP(KZ8,MATCHSELEVES!$Y$14:$AE$600,5,FALSE),0)","v":0},{"$f":"IFERROR(VLOOKUP(KZ8,MATCHSELEVES!$Y$14:$AF$600,8,FALSE),0)","v":0},{"$f":"IFERROR(VLOOKUP(KZ8,MATCHSELEVES!$Y$14:$AG$600,9,FALSE),0)","v":0},"Ayoubp_10",{"$f":"IFERROR(VLOOKUP(LF8,MATCHSELEVES!$Y$14:$AE$600,3,FALSE),0)","v":0},{"$f":"IFERROR(VLOOKUP(LF8,MATCHSELEVES!$Y$14:$AE$600,4,FALSE),0)","v":0},{"$f":"IFERROR(VLOOKUP(LF8,MATCHSELEVES!$Y$14:$AE$600,5,FALSE),0)","v":0},{"$f":"IFERROR(VLOOKUP(LF8,MATCHSELEVES!$Y$14:$AF$600,8,FALSE),0)","v":0},{"$f":"IFERROR(VLOOKUP(LF8,MATCHSELEVES!$Y$14:$AG$600,9,FALSE),0)","v":0},"Ayoubp_11",{"$f":"IFERROR(VLOOKUP(LL8,MATCHSELEVES!$Y$14:$AE$600,3,FALSE),0)","v":0},{"$f":"IFERROR(VLOOKUP(LL8,MATCHSELEVES!$Y$14:$AE$600,4,FALSE),0)","v":0},{"$f":"IFERROR(VLOOKUP(LL8,MATCHSELEVES!$Y$14:$AE$600,5,FALSE),0)","v":0},{"$f":"IFERROR(VLOOKUP(LL8,MATCHSELEVES!$Y$14:$AF$600,8,FALSE),0)","v":0},{"$f":"IFERROR(VLOOKUP(LL8,MATCHSELEVES!$Y$14:$AG$600,9,FALSE),0)","v":0},"Ayoubp_12",{"$f":"IFERROR(VLOOKUP(LR8,MATCHSELEVES!$Y$14:$AE$600,3,FALSE),0)","v":0},{"$f":"IFERROR(VLOOKUP(LR8,MATCHSELEVES!$Y$14:$AE$600,4,FALSE),0)","v":0},{"$f":"IFERROR(VLOOKUP(LR8,MATCHSELEVES!$Y$14:$AE$600,5,FALSE),0)","v":0},{"$f":"IFERROR(VLOOKUP(LR8,MATCHSELEVES!$Y$14:$AF$600,8,FALSE),0)","v":0},{"$f":"IFERROR(VLOOKUP(LR8,MATCHSELEVES!$Y$14:$AG$600,9,FALSE),0)","v":0},"Ayoubp_13",{"$f":"IFERROR(VLOOKUP(LX8,MATCHSELEVES!$Y$14:$AE$600,3,FALSE),0)","v":0},{"$f":"IFERROR(VLOOKUP(LX8,MATCHSELEVES!$Y$14:$AE$600,4,FALSE),0)","v":0},{"$f":"IFERROR(VLOOKUP(LX8,MATCHSELEVES!$Y$14:$AE$600,5,FALSE),0)","v":0},{"$f":"IFERROR(VLOOKUP(LX8,MATCHSELEVES!$Y$14:$AF$600,8,FALSE),0)","v":0},{"$f":"IFERROR(VLOOKUP(LX8,MATCHSELEVES!$Y$14:$AG$600,9,FALSE),0)","v":0},"Ayoubp_14",{"$f":"IFERROR(VLOOKUP(MD8,MATCHSELEVES!$Y$14:$AE$600,3,FALSE),0)","v":0},{"$f":"IFERROR(VLOOKUP(MD8,MATCHSELEVES!$Y$14:$AE$600,4,FALSE),0)","v":0},{"$f":"IFERROR(VLOOKUP(MD8,MATCHSELEVES!$Y$14:$AE$600,5,FALSE),0)","v":0},{"$f":"IFERROR(VLOOKUP(MD8,MATCHSELEVES!$Y$14:$AF$600,8,FALSE),0)","v":0},{"$f":"IFERROR(VLOOKUP(MD8,MATCHSELEVES!$Y$14:$AG$600,9,FALSE),0)","v":0},"Ayoubp_15",{"$f":"IFERROR(VLOOKUP(MJ8,MATCHSELEVES!$Y$14:$AE$600,3,FALSE),0)","v":0},{"$f":"IFERROR(VLOOKUP(MJ8,MATCHSELEVES!$Y$14:$AE$600,4,FALSE),0)","v":0},{"$f":"IFERROR(VLOOKUP(MJ8,MATCHSELEVES!$Y$14:$AE$600,5,FALSE),0)","v":0},{"$f":"IFERROR(VLOOKUP(MJ8,MATCHSELEVES!$Y$14:$AF$600,8,FALSE),0)","v":0},{"$f":"IFERROR(VLOOKUP(MJ8,MATCHSELEVES!$Y$14:$AG$600,9,FALSE),0)","v":0},"Ayoubp_16",{"$f":"IFERROR(VLOOKUP(MP8,MATCHSELEVES!$Y$14:$AE$600,3,FALSE),0)","v":0},{"$f":"IFERROR(VLOOKUP(MP8,MATCHSELEVES!$Y$14:$AE$600,4,FALSE),0)","v":0},{"$f":"IFERROR(VLOOKUP(MP8,MATCHSELEVES!$Y$14:$AE$600,5,FALSE),0)","v":0},{"$f":"IFERROR(VLOOKUP(MP8,MATCHSELEVES!$Y$14:$AF$600,8,FALSE),0)","v":0},{"$f":"IFERROR(VLOOKUP(MP8,MATCHSELEVES!$Y$14:$AG$600,9,FALSE),0)","v":0},"Ayoubp_17",{"$f":"IFERROR(VLOOKUP(MV8,MATCHSELEVES!$Y$14:$AE$600,3,FALSE),0)","v":0},{"$f":"IFERROR(VLOOKUP(MV8,MATCHSELEVES!$Y$14:$AE$600,4,FALSE),0)","v":0},{"$f":"IFERROR(VLOOKUP(MV8,MATCHSELEVES!$Y$14:$AE$600,5,FALSE),0)","v":0},{"$f":"IFERROR(VLOOKUP(MV8,MATCHSELEVES!$Y$14:$AF$600,8,FALSE),0)","v":0},{"$f":"IFERROR(VLOOKUP(MV8,MATCHSELEVES!$Y$14:$AG$600,9,FALSE),0)","v":0},"Ayoubp_18",{"$f":"IFERROR(VLOOKUP(NB8,MATCHSELEVES!$Y$14:$AE$600,3,FALSE),0)","v":0},{"$f":"IFERROR(VLOOKUP(NB8,MATCHSELEVES!$Y$14:$AE$600,4,FALSE),0)","v":0},{"$f":"IFERROR(VLOOKUP(NB8,MATCHSELEVES!$Y$14:$AE$600,5,FALSE),0)","v":0},{"$f":"IFERROR(VLOOKUP(NB8,MATCHSELEVES!$Y$14:$AF$600,8,FALSE),0)","v":0},{"$f":"IFERROR(VLOOKUP(NB8,MATCHSELEVES!$Y$14:$AG$600,9,FALSE),0)","v":0},"Ayoubp_19",{"$f":"IFERROR(VLOOKUP(NH8,MATCHSELEVES!$Y$14:$AE$600,3,FALSE),0)","v":0},{"$f":"IFERROR(VLOOKUP(NH8,MATCHSELEVES!$Y$14:$AE$600,4,FALSE),0)","v":0},{"$f":"IFERROR(VLOOKUP(NH8,MATCHSELEVES!$Y$14:$AE$600,5,FALSE),0)","v":0},{"$f":"IFERROR(VLOOKUP(NH8,MATCHSELEVES!$Y$14:$AF$600,8,FALSE),0)","v":0},{"$f":"IFERROR(VLOOKUP(NH8,MATCHSELEVES!$Y$14:$AG$600,9,FALSE),0)","v":0},"Ayoubp_20",{"$f":"IFERROR(VLOOKUP(NN8,MATCHSELEVES!$Y$14:$AE$600,3,FALSE),0)","v":0},{"$f":"IFERROR(VLOOKUP(NN8,MATCHSELEVES!$Y$14:$AE$600,4,FALSE),0)","v":0},{"$f":"IFERROR(VLOOKUP(NN8,MATCHSELEVES!$Y$14:$AE$600,5,FALSE),0)","v":0},{"$f":"IFERROR(VLOOKUP(NN8,MATCHSELEVES!$Y$14:$AF$600,8,FALSE),0)","v":0},{"$f":"IFERROR(VLOOKUP(NN8,MATCHSELEVES!$Y$14:$AG$600,9,FALSE),0)","v":0},"Ayoubp_21",{"$f":"IFERROR(VLOOKUP(NT8,MATCHSELEVES!$Y$14:$AE$600,3,FALSE),0)","v":0},{"$f":"IFERROR(VLOOKUP(NT8,MATCHSELEVES!$Y$14:$AE$600,4,FALSE),0)","v":0},{"$f":"IFERROR(VLOOKUP(NT8,MATCHSELEVES!$Y$14:$AE$600,5,FALSE),0)","v":0},{"$f":"IFERROR(VLOOKUP(NT8,MATCHSELEVES!$Y$14:$AF$600,8,FALSE),0)","v":0},{"$f":"IFERROR(VLOOKUP(NT8,MATCHSELEVES!$Y$14:$AG$600,9,FALSE),0)","v":0},"Ayoubp_22",{"$f":"IFERROR(VLOOKUP(NZ8,MATCHSELEVES!$Y$14:$AE$600,3,FALSE),0)","v":0},{"$f":"IFERROR(VLOOKUP(NZ8,MATCHSELEVES!$Y$14:$AE$600,4,FALSE),0)","v":0},{"$f":"IFERROR(VLOOKUP(NZ8,MATCHSELEVES!$Y$14:$AE$600,5,FALSE),0)","v":0},{"$f":"IFERROR(VLOOKUP(NZ8,MATCHSELEVES!$Y$14:$AF$600,8,FALSE),0)","v":0},{"$f":"IFERROR(VLOOKUP(NZ8,MATCHSELEVES!$Y$14:$AG$600,9,FALSE),0)","v":0},"Ayoubp_23",{"$f":"IFERROR(VLOOKUP(OF8,MATCHSELEVES!$Y$14:$AE$600,3,FALSE),0)","v":0},{"$f":"IFERROR(VLOOKUP(OF8,MATCHSELEVES!$Y$14:$AE$600,4,FALSE),0)","v":0},{"$f":"IFERROR(VLOOKUP(OF8,MATCHSELEVES!$Y$14:$AE$600,5,FALSE),0)","v":0},{"$f":"IFERROR(VLOOKUP(OF8,MATCHSELEVES!$Y$14:$AF$600,8,FALSE),0)","v":0},{"$f":"IFERROR(VLOOKUP(OF8,MATCHSELEVES!$Y$14:$AG$600,9,FALSE),0)","v":0},"Ayoubp_24",{"$f":"IFERROR(VLOOKUP(OL8,MATCHSELEVES!$Y$14:$AE$600,3,FALSE),0)","v":0},{"$f":"IFERROR(VLOOKUP(OL8,MATCHSELEVES!$Y$14:$AE$600,4,FALSE),0)","v":0},{"$f":"IFERROR(VLOOKUP(OL8,MATCHSELEVES!$Y$14:$AE$600,5,FALSE),0)","v":0},{"$f":"IFERROR(VLOOKUP(OL8,MATCHSELEVES!$Y$14:$AF$600,8,FALSE),0)","v":0},{"$f":"IFERROR(VLOOKUP(OL8,MATCHSELEVES!$Y$14:$AG$600,9,FALSE),0)","v":0},"Ayoubp_25",{"$f":"IFERROR(VLOOKUP(OR8,MATCHSELEVES!$Y$14:$AE$600,3,FALSE),0)","v":0},{"$f":"IFERROR(VLOOKUP(OR8,MATCHSELEVES!$Y$14:$AE$600,4,FALSE),0)","v":0},{"$f":"IFERROR(VLOOKUP(OR8,MATCHSELEVES!$Y$14:$AE$600,5,FALSE),0)","v":0},{"$f":"IFERROR(VLOOKUP(OR8,MATCHSELEVES!$Y$14:$AF$600,8,FALSE),0)","v":0},{"$f":"IFERROR(VLOOKUP(OR8,MATCHSELEVES!$Y$14:$AG$600,9,FALSE),0)","v":0},"Ayoubp_26",{"$f":"IFERROR(VLOOKUP(OX8,MATCHSELEVES!$Y$14:$AE$600,3,FALSE),0)","v":0},{"$f":"IFERROR(VLOOKUP(OX8,MATCHSELEVES!$Y$14:$AE$600,4,FALSE),0)","v":0},{"$f":"IFERROR(VLOOKUP(OX8,MATCHSELEVES!$Y$14:$AE$600,5,FALSE),0)","v":0},{"$f":"IFERROR(VLOOKUP(OX8,MATCHSELEVES!$Y$14:$AF$600,8,FALSE),0)","v":0},{"$f":"IFERROR(VLOOKUP(OX8,MATCHSELEVES!$Y$14:$AG$600,9,FALSE),0)","v":0},"Ayoubp_27",{"$f":"IFERROR(VLOOKUP(PD8,MATCHSELEVES!$Y$14:$AE$600,3,FALSE),0)","v":0},{"$f":"IFERROR(VLOOKUP(PD8,MATCHSELEVES!$Y$14:$AE$600,4,FALSE),0)","v":0},{"$f":"IFERROR(VLOOKUP(PD8,MATCHSELEVES!$Y$14:$AE$600,5,FALSE),0)","v":0},{"$f":"IFERROR(VLOOKUP(PD8,MATCHSELEVES!$Y$14:$AF$600,8,FALSE),0)","v":0},{"$f":"IFERROR(VLOOKUP(PD8,MATCHSELEVES!$Y$14:$AG$600,9,FALSE),0)","v":0},"Ayoubp_28",{"$f":"IFERROR(VLOOKUP(PJ8,MATCHSELEVES!$Y$14:$AE$600,3,FALSE),0)","v":0},{"$f":"IFERROR(VLOOKUP(PJ8,MATCHSELEVES!$Y$14:$AE$600,4,FALSE),0)","v":0},{"$f":"IFERROR(VLOOKUP(PJ8,MATCHSELEVES!$Y$14:$AE$600,5,FALSE),0)","v":0},{"$f":"IFERROR(VLOOKUP(PJ8,MATCHSELEVES!$Y$14:$AF$600,8,FALSE),0)","v":0},{"$f":"IFERROR(VLOOKUP(PJ8,MATCHSELEVES!$Y$14:$AG$600,9,FALSE),0)","v":0},"Ayoubp_29",{"$f":"IFERROR(VLOOKUP(PP8,MATCHSELEVES!$Y$14:$AE$600,3,FALSE),0)","v":0},{"$f":"IFERROR(VLOOKUP(PP8,MATCHSELEVES!$Y$14:$AE$600,4,FALSE),0)","v":0},{"$f":"IFERROR(VLOOKUP(PP8,MATCHSELEVES!$Y$14:$AE$600,5,FALSE),0)","v":0},{"$f":"IFERROR(VLOOKUP(PP8,MATCHSELEVES!$Y$14:$AF$600,8,FALSE),0)","v":0},{"$f":"IFERROR(VLOOKUP(PP8,MATCHSELEVES!$Y$14:$AG$600,9,FALSE),0)","v":0},"Ayoubp_30",{"$f":"IFERROR(VLOOKUP(PV8,MATCHSELEVES!$Y$14:$AE$600,3,FALSE),0)","v":0},{"$f":"IFERROR(VLOOKUP(PV8,MATCHSELEVES!$Y$14:$AE$600,4,FALSE),0)","v":0},{"$f":"IFERROR(VLOOKUP(PV8,MATCHSELEVES!$Y$14:$AE$600,5,FALSE),0)","v":0},{"$f":"IFERROR(VLOOKUP(PV8,MATCHSELEVES!$Y$14:$AF$600,8,FALSE),0)","v":0},{"$f":"IFERROR(VLOOKUP(PV8,MATCHSELEVES!$Y$14:$AG$600,9,FALSE),0)","v":0},"Ayoubp_31",{"$f":"IFERROR(VLOOKUP(QB8,MATCHSELEVES!$Y$14:$AE$600,3,FALSE),0)","v":0},{"$f":"IFERROR(VLOOKUP(QB8,MATCHSELEVES!$Y$14:$AE$600,4,FALSE),0)","v":0},{"$f":"IFERROR(VLOOKUP(QB8,MATCHSELEVES!$Y$14:$AE$600,5,FALSE),0)","v":0},{"$f":"IFERROR(VLOOKUP(QB8,MATCHSELEVES!$Y$14:$AF$600,8,FALSE),0)","v":0},{"$f":"IFERROR(VLOOKUP(QB8,MATCHSELEVES!$Y$14:$AG$600,9,FALSE),0)","v":0},"Ayoubp_32",{"$f":"IFERROR(VLOOKUP(QH8,MATCHSELEVES!$Y$14:$AE$600,3,FALSE),0)","v":0},{"$f":"IFERROR(VLOOKUP(QH8,MATCHSELEVES!$Y$14:$AE$600,4,FALSE),0)","v":0},{"$f":"IFERROR(VLOOKUP(QH8,MATCHSELEVES!$Y$14:$AE$600,5,FALSE),0)","v":0},{"$f":"IFERROR(VLOOKUP(QH8,MATCHSELEVES!$Y$14:$AF$600,8,FALSE),0)","v":0},{"$f":"IFERROR(VLOOKUP(QH8,MATCHSELEVES!$Y$14:$AG$600,9,FALSE),0)","v":0},"Ayoubp_33",{"$f":"IFERROR(VLOOKUP(QN8,MATCHSELEVES!$Y$14:$AE$600,3,FALSE),0)","v":0},{"$f":"IFERROR(VLOOKUP(QN8,MATCHSELEVES!$Y$14:$AE$600,4,FALSE),0)","v":0},{"$f":"IFERROR(VLOOKUP(QN8,MATCHSELEVES!$Y$14:$AE$600,5,FALSE),0)","v":0},{"$f":"IFERROR(VLOOKUP(QN8,MATCHSELEVES!$Y$14:$AF$600,8,FALSE),0)","v":0},{"$f":"IFERROR(VLOOKUP(QN8,MATCHSELEVES!$Y$14:$AG$600,9,FALSE),0)","v":0},"Ayoubp_34",{"$f":"IFERROR(VLOOKUP(QT8,MATCHSELEVES!$Y$14:$AE$600,3,FALSE),0)","v":0},{"$f":"IFERROR(VLOOKUP(QT8,MATCHSELEVES!$Y$14:$AE$600,4,FALSE),0)","v":0},{"$f":"IFERROR(VLOOKUP(QT8,MATCHSELEVES!$Y$14:$AE$600,5,FALSE),0)","v":0},{"$f":"IFERROR(VLOOKUP(QT8,MATCHSELEVES!$Y$14:$AF$600,8,FALSE),0)","v":0},{"$f":"IFERROR(VLOOKUP(QT8,MATCHSELEVES!$Y$14:$AG$600,9,FALSE),0)","v":0},"Ayoubp_35",{"$f":"IFERROR(VLOOKUP(QZ8,MATCHSELEVES!$Y$14:$AE$600,3,FALSE),0)","v":0},{"$f":"IFERROR(VLOOKUP(QZ8,MATCHSELEVES!$Y$14:$AE$600,4,FALSE),0)","v":0},{"$f":"IFERROR(VLOOKUP(QZ8,MATCHSELEVES!$Y$14:$AE$600,5,FALSE),0)","v":0},{"$f":"IFERROR(VLOOKUP(QZ8,MATCHSELEVES!$Y$14:$AF$600,8,FALSE),0)","v":0},{"$f":"IFERROR(VLOOKUP(QZ8,MATCHSELEVES!$Y$14:$AG$600,9,FALSE),0)","v":0},"Ayoubp_36",{"$f":"IFERROR(VLOOKUP(RF8,MATCHSELEVES!$Y$14:$AE$600,3,FALSE),0)","v":0},{"$f":"IFERROR(VLOOKUP(RF8,MATCHSELEVES!$Y$14:$AE$600,4,FALSE),0)","v":0},{"$f":"IFERROR(VLOOKUP(RF8,MATCHSELEVES!$Y$14:$AE$600,5,FALSE),0)","v":0},{"$f":"IFERROR(VLOOKUP(RF8,MATCHSELEVES!$Y$14:$AF$600,8,FALSE),0)","v":0},{"$f":"IFERROR(VLOOKUP(RF8,MATCHSELEVES!$Y$14:$AG$600,9,FALSE),0)","v":0},"Ayoubp_37",{"$f":"IFERROR(VLOOKUP(RL8,MATCHSELEVES!$Y$14:$AE$600,3,FALSE),0)","v":0},{"$f":"IFERROR(VLOOKUP(RL8,MATCHSELEVES!$Y$14:$AE$600,4,FALSE),0)","v":0},{"$f":"IFERROR(VLOOKUP(RL8,MATCHSELEVES!$Y$14:$AE$600,5,FALSE),0)","v":0},{"$f":"IFERROR(VLOOKUP(RL8,MATCHSELEVES!$Y$14:$AF$600,8,FALSE),0)","v":0},{"$f":"IFERROR(VLOOKUP(RL8,MATCHSELEVES!$Y$14:$AG$600,9,FALSE),0)","v":0},"Ayoubp_38",{"$f":"IFERROR(VLOOKUP(RR8,MATCHSELEVES!$Y$14:$AE$600,3,FALSE),0)","v":0},{"$f":"IFERROR(VLOOKUP(RR8,MATCHSELEVES!$Y$14:$AE$600,4,FALSE),0)","v":0},{"$f":"IFERROR(VLOOKUP(RR8,MATCHSELEVES!$Y$14:$AE$600,5,FALSE),0)","v":0},{"$f":"IFERROR(VLOOKUP(RR8,MATCHSELEVES!$Y$14:$AF$600,8,FALSE),0)","v":0},{"$f":"IFERROR(VLOOKUP(RR8,MATCHSELEVES!$Y$14:$AG$600,9,FALSE),0)","v":0},"Ayoubp_39",{"$f":"IFERROR(VLOOKUP(RX8,MATCHSELEVES!$Y$14:$AE$600,3,FALSE),0)","v":0},{"$f":"IFERROR(VLOOKUP(RX8,MATCHSELEVES!$Y$14:$AE$600,4,FALSE),0)","v":0},{"$f":"IFERROR(VLOOKUP(RX8,MATCHSELEVES!$Y$14:$AE$600,5,FALSE),0)","v":0},{"$f":"IFERROR(VLOOKUP(RX8,MATCHSELEVES!$Y$14:$AF$600,8,FALSE),0)","v":0},{"$f":"IFERROR(VLOOKUP(RX8,MATCHSELEVES!$Y$14:$AG$600,9,FALSE),0)","v":0},"Ayoubp_40",{"$f":"IFERROR(VLOOKUP(SD8,MATCHSELEVES!$Y$14:$AE$600,3,FALSE),0)","v":0},{"$f":"IFERROR(VLOOKUP(SD8,MATCHSELEVES!$Y$14:$AE$600,4,FALSE),0)","v":0},{"$f":"IFERROR(VLOOKUP(SD8,MATCHSELEVES!$Y$14:$AE$600,5,FALSE),0)","v":0},{"$f":"IFERROR(VLOOKUP(SD8,MATCHSELEVES!$Y$14:$AF$600,8,FALSE),0)","v":0},{"$f":"IFERROR(VLOOKUP(SD8,MATCHSELEVES!$Y$14:$AG$600,9,FALSE),0)","v":0}]
[6,null,{"$f":"MD1POINT!C9","v":"Azedine"},{"$f":"MD1POINT!D9","v":1},{"$f":"COUNTIF(MATCHSELEVES!$Z$14:$Z$600,C9)+COUNTIF(MATCHSELEVES!$Z$14:$Z$600,$C9&\"p\")","v":0},1,{"$f":"COUNTIF(MATCHSELEVES!$F$14:$H$249,C9)","v":0},1,0,1,0,1,0,1,{"$f":"Y9+AE9+AK9+AQ9+AW9+BC9+BI9+BO9+BU9+CA9+CG9+CM9+CS9+CY9+DE9+DK9+DQ9+DW9+EC9+EI9+EO9+EU9+FA9+FG9+FM9+FS9+FY9+GE9+GK9+GQ9+GW9+4+HI9+HO9+HU9+IA9+HC9+IG9+IM9+IY9+IS9+JH9+JN9+JZ9+JT9+KF9+KR9+KX9+LJ9+LP9+LV9+LD9+MB9+MH9+MN9+MZ9+MT9+NF9+NL9+NR9+NX9+OD9+OJ9+OP9+OV9+PB9+PH9+PT9+PN9+PZ9+QF9+QL9+QR9+RD9+QX9+RJ9+RP9+RV9+SB9+SH9+KL9+Tableau10[[#This Row],[Nombre de matchs joués]]*2","v":4},1,{"$f":"(Tableau10[[#This Row],[CLASSEMENT1]]+Tableau10[[#This Row],[CLASSEMENT2]]+Tableau10[[#This Row],[CLASSEMENT3]]+Tableau10[[#This Row],[CLASSEMENT4]]+Tableau10[[#This Row],[CLASSEMENT5]]+Tableau10[[#This Row],[CLASSEMENT6]])/6","v":1},{"$f":"RANK(Tableau10[[#This Row],[MOYENNE CLASSEMENTS]],Tableau10[MOYENNE CLASSEMENTS],1)","v":1},null,{"$f":"Tableau10[[#This Row],[CLASSEMENT1]]","v":1},"Azedine_1",{"$f":"IFERROR(VLOOKUP(U9,MATCHSELEVES!$Y$14:$AE$600,3,FALSE),0)","v":0},{"$f":"IFERROR(VLOOKUP(U9,MATCHSELEVES!$Y$14:$AE$600,4,FALSE),0)","v":0},{"$f":"IFERROR(VLOOKUP(U9,MATCHSELEVES!$Y$14:$AE$600,5,FALSE),0)","v":0},{"$f":"IFERROR(VLOOKUP(U9,MATCHSELEVES!$Y$14:$AF$600,8,FALSE),0)","v":0},{"$f":"IFERROR(VLOOKUP(U9,MATCHSELEVES!$Y$14:$AG$600,9,FALSE),0)","v":0},"Azedine_2",{"$f":"IFERROR(VLOOKUP(AA9,MATCHSELEVES!$Y$14:$AE$600,3,FALSE),0)","v":0},{"$f":"IFERROR(VLOOKUP(AA9,MATCHSELEVES!$Y$14:$AE$600,4,FALSE),0)","v":0},{"$f":"IFERROR(VLOOKUP(AA9,MATCHSELEVES!$Y$14:$AE$600,5,FALSE),0)","v":0},{"$f":"IFERROR(VLOOKUP(AA9,MATCHSELEVES!$Y$14:$AF$600,8,FALSE),0)","v":0},{"$f":"IFERROR(VLOOKUP(AA9,MATCHSELEVES!$Y$14:$AG$600,9,FALSE),0)","v":0},"Azedine_3",{"$f":"IFERROR(VLOOKUP(AG9,MATCHSELEVES!$Y$14:$AE$600,3,FALSE),0)","v":0},{"$f":"IFERROR(VLOOKUP(AG9,MATCHSELEVES!$Y$14:$AE$600,4,FALSE),0)","v":0},{"$f":"IFERROR(VLOOKUP(AG9,MATCHSELEVES!$Y$14:$AE$600,5,FALSE),0)","v":0},{"$f":"IFERROR(VLOOKUP(AG9,MATCHSELEVES!$Y$14:$AF$600,8,FALSE),0)","v":0},{"$f":"IFERROR(VLOOKUP(AG9,MATCHSELEVES!$Y$14:$AG$600,9,FALSE),0)","v":0},"Azedine_4",{"$f":"IFERROR(VLOOKUP(AM9,MATCHSELEVES!$Y$14:$AE$600,3,FALSE),0)","v":0},{"$f":"IFERROR(VLOOKUP(AM9,MATCHSELEVES!$Y$14:$AE$600,4,FALSE),0)","v":0},{"$f":"IFERROR(VLOOKUP(AM9,MATCHSELEVES!$Y$14:$AE$600,5,FALSE),0)","v":0},{"$f":"IFERROR(VLOOKUP(AM9,MATCHSELEVES!$Y$14:$AF$600,8,FALSE),0)","v":0},{"$f":"IFERROR(VLOOKUP(AM9,MATCHSELEVES!$Y$14:$AG$600,9,FALSE),0)","v":0},"Azedine_5",{"$f":"IFERROR(VLOOKUP(AS9,MATCHSELEVES!$Y$14:$AE$600,3,FALSE),0)","v":0},{"$f":"IFERROR(VLOOKUP(AS9,MATCHSELEVES!$Y$14:$AE$600,4,FALSE),0)","v":0},{"$f":"IFERROR(VLOOKUP(AS9,MATCHSELEVES!$Y$14:$AE$600,5,FALSE),0)","v":0},{"$f":"IFERROR(VLOOKUP(AS9,MATCHSELEVES!$Y$14:$AF$600,8,FALSE),0)","v":0},{"$f":"IFERROR(VLOOKUP(AS9,MATCHSELEVES!$Y$14:$AG$600,9,FALSE),0)","v":0},"Azedine_6",{"$f":"IFERROR(VLOOKUP(AY9,MATCHSELEVES!$Y$14:$AE$600,3,FALSE),0)","v":0},{"$f":"IFERROR(VLOOKUP(AY9,MATCHSELEVES!$Y$14:$AE$600,4,FALSE),0)","v":0},{"$f":"IFERROR(VLOOKUP(AY9,MATCHSELEVES!$Y$14:$AE$600,5,FALSE),0)","v":0},{"$f":"IFERROR(VLOOKUP(AY9,MATCHSELEVES!$Y$14:$AF$600,8,FALSE),0)","v":0},{"$f":"IFERROR(VLOOKUP(AY9,MATCHSELEVES!$Y$14:$AG$600,9,FALSE),0)","v":0},"Azedine_7",{"$f":"IFERROR(VLOOKUP(BE9,MATCHSELEVES!$Y$14:$AE$600,3,FALSE),0)","v":0},{"$f":"IFERROR(VLOOKUP(BE9,MATCHSELEVES!$Y$14:$AE$600,4,FALSE),0)","v":0},{"$f":"IFERROR(VLOOKUP(BE9,MATCHSELEVES!$Y$14:$AE$600,5,FALSE),0)","v":0},{"$f":"IFERROR(VLOOKUP(BE9,MATCHSELEVES!$Y$14:$AF$600,8,FALSE),0)","v":0},{"$f":"IFERROR(VLOOKUP(BE9,MATCHSELEVES!$Y$14:$AG$600,9,FALSE),0)","v":0},"Azedine_8",{"$f":"IFERROR(VLOOKUP(BK9,MATCHSELEVES!$Y$14:$AE$600,3,FALSE),0)","v":0},{"$f":"IFERROR(VLOOKUP(BK9,MATCHSELEVES!$Y$14:$AE$600,4,FALSE),0)","v":0},{"$f":"IFERROR(VLOOKUP(BK9,MATCHSELEVES!$Y$14:$AE$600,5,FALSE),0)","v":0},{"$f":"IFERROR(VLOOKUP(BK9,MATCHSELEVES!$Y$14:$AF$600,8,FALSE),0)","v":0},{"$f":"IFERROR(VLOOKUP(BK9,MATCHSELEVES!$Y$14:$AG$600,9,FALSE),0)","v":0},"Azedine_9",{"$f":"IFERROR(VLOOKUP(BQ9,MATCHSELEVES!$Y$14:$AE$600,3,FALSE),0)","v":0},{"$f":"IFERROR(VLOOKUP(BQ9,MATCHSELEVES!$Y$14:$AE$600,4,FALSE),0)","v":0},{"$f":"IFERROR(VLOOKUP(BQ9,MATCHSELEVES!$Y$14:$AE$600,5,FALSE),0)","v":0},{"$f":"IFERROR(VLOOKUP(BQ9,MATCHSELEVES!$Y$14:$AF$600,8,FALSE),0)","v":0},{"$f":"IFERROR(VLOOKUP(BQ9,MATCHSELEVES!$Y$14:$AG$600,9,FALSE),0)","v":0},"Azedine_10",{"$f":"IFERROR(VLOOKUP(BW9,MATCHSELEVES!$Y$14:$AE$600,3,FALSE),0)","v":0},{"$f":"IFERROR(VLOOKUP(BW9,MATCHSELEVES!$Y$14:$AE$600,4,FALSE),0)","v":0},{"$f":"IFERROR(VLOOKUP(BW9,MATCHSELEVES!$Y$14:$AE$600,5,FALSE),0)","v":0},{"$f":"IFERROR(VLOOKUP(BW9,MATCHSELEVES!$Y$14:$AF$600,8,FALSE),0)","v":0},{"$f":"IFERROR(VLOOKUP(BW9,MATCHSELEVES!$Y$14:$AG$600,9,FALSE),0)","v":0},"Azedine_11",{"$f":"IFERROR(VLOOKUP(CC9,MATCHSELEVES!$Y$14:$AE$600,3,FALSE),0)","v":0},{"$f":"IFERROR(VLOOKUP(CC9,MATCHSELEVES!$Y$14:$AE$600,4,FALSE),0)","v":0},{"$f":"IFERROR(VLOOKUP(CC9,MATCHSELEVES!$Y$14:$AE$600,5,FALSE),0)","v":0},{"$f":"IFERROR(VLOOKUP(CC9,MATCHSELEVES!$Y$14:$AF$600,8,FALSE),0)","v":0},{"$f":"IFERROR(VLOOKUP(CC9,MATCHSELEVES!$Y$14:$AG$600,9,FALSE),0)","v":0},"Azedine_12",{"$f":"IFERROR(VLOOKUP(CI9,MATCHSELEVES!$Y$14:$AE$600,3,FALSE),0)","v":0},{"$f":"IFERROR(VLOOKUP(CI9,MATCHSELEVES!$Y$14:$AE$600,4,FALSE),0)","v":0},{"$f":"IFERROR(VLOOKUP(CI9,MATCHSELEVES!$Y$14:$AE$600,5,FALSE),0)","v":0},{"$f":"IFERROR(VLOOKUP(CI9,MATCHSELEVES!$Y$14:$AF$600,8,FALSE),0)","v":0},{"$f":"IFERROR(VLOOKUP(CI9,MATCHSELEVES!$Y$14:$AG$600,9,FALSE),0)","v":0},"Azedine_13",{"$f":"IFERROR(VLOOKUP(CO9,MATCHSELEVES!$Y$14:$AE$600,3,FALSE),0)","v":0},{"$f":"IFERROR(VLOOKUP(CO9,MATCHSELEVES!$Y$14:$AE$600,4,FALSE),0)","v":0},{"$f":"IFERROR(VLOOKUP(CO9,MATCHSELEVES!$Y$14:$AE$600,5,FALSE),0)","v":0},{"$f":"IFERROR(VLOOKUP(CO9,MATCHSELEVES!$Y$14:$AF$600,8,FALSE),0)","v":0},{"$f":"IFERROR(VLOOKUP(CO9,MATCHSELEVES!$Y$14:$AG$600,9,FALSE),0)","v":0},"Azedine_14",{"$f":"IFERROR(VLOOKUP(CU9,MATCHSELEVES!$Y$14:$AE$600,3,FALSE),0)","v":0},{"$f":"IFERROR(VLOOKUP(CU9,MATCHSELEVES!$Y$14:$AE$600,4,FALSE),0)","v":0},{"$f":"IFERROR(VLOOKUP(CU9,MATCHSELEVES!$Y$14:$AE$600,5,FALSE),0)","v":0},{"$f":"IFERROR(VLOOKUP(CU9,MATCHSELEVES!$Y$14:$AF$600,8,FALSE),0)","v":0},{"$f":"IFERROR(VLOOKUP(CU9,MATCHSELEVES!$Y$14:$AG$600,9,FALSE),0)","v":0},"Azedine_15",{"$f":"IFERROR(VLOOKUP(DA9,MATCHSELEVES!$Y$14:$AE$600,3,FALSE),0)","v":0},{"$f":"IFERROR(VLOOKUP(DA9,MATCHSELEVES!$Y$14:$AE$600,4,FALSE),0)","v":0},{"$f":"IFERROR(VLOOKUP(DA9,MATCHSELEVES!$Y$14:$AE$600,5,FALSE),0)","v":0},{"$f":"IFERROR(VLOOKUP(DA9,MATCHSELEVES!$Y$14:$AF$600,8,FALSE),0)","v":0},{"$f":"IFERROR(VLOOKUP(DA9,MATCHSELEVES!$Y$14:$AG$600,9,FALSE),0)","v":0},"Azedine_16",{"$f":"IFERROR(VLOOKUP(DG9,MATCHSELEVES!$Y$14:$AE$600,3,FALSE),0)","v":0},{"$f":"IFERROR(VLOOKUP(DG9,MATCHSELEVES!$Y$14:$AE$600,4,FALSE),0)","v":0},{"$f":"IFERROR(VLOOKUP(DG9,MATCHSELEVES!$Y$14:$AE$600,5,FALSE),0)","v":0},{"$f":"IFERROR(VLOOKUP(DG9,MATCHSELEVES!$Y$14:$AF$600,8,FALSE),0)","v":0},{"$f":"IFERROR(VLOOKUP(DG9,MATCHSELEVES!$Y$14:$AG$600,9,FALSE),0)","v":0},"Azedine_17",{"$f":"IFERROR(VLOOKUP(DM9,MATCHSELEVES!$Y$14:$AE$600,3,FALSE),0)","v":0},{"$f":"IFERROR(VLOOKUP(DM9,MATCHSELEVES!$Y$14:$AE$600,4,FALSE),0)","v":0},{"$f":"IFERROR(VLOOKUP(DM9,MATCHSELEVES!$Y$14:$AE$600,5,FALSE),0)","v":0},{"$f":"IFERROR(VLOOKUP(DM9,MATCHSELEVES!$Y$14:$AF$600,8,FALSE),0)","v":0},{"$f":"IFERROR(VLOOKUP(DM9,MATCHSELEVES!$Y$14:$AG$600,9,FALSE),0)","v":0},"Azedine_18",{"$f":"IFERROR(VLOOKUP(DS9,MATCHSELEVES!$Y$14:$AE$600,3,FALSE),0)","v":0},{"$f":"IFERROR(VLOOKUP(DS9,MATCHSELEVES!$Y$14:$AE$600,4,FALSE),0)","v":0},{"$f":"IFERROR(VLOOKUP(DS9,MATCHSELEVES!$Y$14:$AE$600,5,FALSE),0)","v":0},{"$f":"IFERROR(VLOOKUP(DS9,MATCHSELEVES!$Y$14:$AF$600,8,FALSE),0)","v":0},{"$f":"IFERROR(VLOOKUP(DS9,MATCHSELEVES!$Y$14:$AG$600,9,FALSE),0)","v":0},"Azedine_19",{"$f":"IFERROR(VLOOKUP(DY9,MATCHSELEVES!$Y$14:$AE$600,3,FALSE),0)","v":0},{"$f":"IFERROR(VLOOKUP(DY9,MATCHSELEVES!$Y$14:$AE$600,4,FALSE),0)","v":0},{"$f":"IFERROR(VLOOKUP(DY9,MATCHSELEVES!$Y$14:$AE$600,5,FALSE),0)","v":0},{"$f":"IFERROR(VLOOKUP(DY9,MATCHSELEVES!$Y$14:$AF$600,8,FALSE),0)","v":0},{"$f":"IFERROR(VLOOKUP(DY9,MATCHSELEVES!$Y$14:$AG$600,9,FALSE),0)","v":0},"Azedine_20",{"$f":"IFERROR(VLOOKUP(EE9,MATCHSELEVES!$Y$14:$AE$600,3,FALSE),0)","v":0},{"$f":"IFERROR(VLOOKUP(EE9,MATCHSELEVES!$Y$14:$AE$600,4,FALSE),0)","v":0},{"$f":"IFERROR(VLOOKUP(EE9,MATCHSELEVES!$Y$14:$AE$600,5,FALSE),0)","v":0},{"$f":"IFERROR(VLOOKUP(EE9,MATCHSELEVES!$Y$14:$AF$600,8,FALSE),0)","v":0},{"$f":"IFERROR(VLOOKUP(EE9,MATCHSELEVES!$Y$14:$AG$600,9,FALSE),0)","v":0},"Azedine_21",{"$f":"IFERROR(VLOOKUP(EK9,MATCHSELEVES!$Y$14:$AE$600,3,FALSE),0)","v":0},{"$f":"IFERROR(VLOOKUP(EK9,MATCHSELEVES!$Y$14:$AE$600,4,FALSE),0)","v":0},{"$f":"IFERROR(VLOOKUP(EK9,MATCHSELEVES!$Y$14:$AE$600,5,FALSE),0)","v":0},{"$f":"IFERROR(VLOOKUP(EK9,MATCHSELEVES!$Y$14:$AF$600,8,FALSE),0)","v":0},{"$f":"IFERROR(VLOOKUP(EK9,MATCHSELEVES!$Y$14:$AG$600,9,FALSE),0)","v":0},"Azedine_22",{"$f":"IFERROR(VLOOKUP(EQ9,MATCHSELEVES!$Y$14:$AE$600,3,FALSE),0)","v":0},{"$f":"IFERROR(VLOOKUP(EQ9,MATCHSELEVES!$Y$14:$AE$600,4,FALSE),0)","v":0},{"$f":"IFERROR(VLOOKUP(EQ9,MATCHSELEVES!$Y$14:$AE$600,5,FALSE),0)","v":0},{"$f":"IFERROR(VLOOKUP(EQ9,MATCHSELEVES!$Y$14:$AF$600,8,FALSE),0)","v":0},{"$f":"IFERROR(VLOOKUP(EQ9,MATCHSELEVES!$Y$14:$AG$600,9,FALSE),0)","v":0},"Azedine_23",{"$f":"IFERROR(VLOOKUP(EW9,MATCHSELEVES!$Y$14:$AE$600,3,FALSE),0)","v":0},{"$f":"IFERROR(VLOOKUP(EW9,MATCHSELEVES!$Y$14:$AE$600,4,FALSE),0)","v":0},{"$f":"IFERROR(VLOOKUP(EW9,MATCHSELEVES!$Y$14:$AE$600,5,FALSE),0)","v":0},{"$f":"IFERROR(VLOOKUP(EW9,MATCHSELEVES!$Y$14:$AF$600,8,FALSE),0)","v":0},{"$f":"IFERROR(VLOOKUP(EW9,MATCHSELEVES!$Y$14:$AG$600,9,FALSE),0)","v":0},"Azedine_24",{"$f":"IFERROR(VLOOKUP(FC9,MATCHSELEVES!$Y$14:$AE$600,3,FALSE),0)","v":0},{"$f":"IFERROR(VLOOKUP(FC9,MATCHSELEVES!$Y$14:$AE$600,4,FALSE),0)","v":0},{"$f":"IFERROR(VLOOKUP(FC9,MATCHSELEVES!$Y$14:$AE$600,5,FALSE),0)","v":0},{"$f":"IFERROR(VLOOKUP(FC9,MATCHSELEVES!$Y$14:$AF$600,8,FALSE),0)","v":0},{"$f":"IFERROR(VLOOKUP(FC9,MATCHSELEVES!$Y$14:$AG$600,9,FALSE),0)","v":0},"Azedine_25",{"$f":"IFERROR(VLOOKUP(FI9,MATCHSELEVES!$Y$14:$AE$600,3,FALSE),0)","v":0},{"$f":"IFERROR(VLOOKUP(FI9,MATCHSELEVES!$Y$14:$AE$600,4,FALSE),0)","v":0},{"$f":"IFERROR(VLOOKUP(FI9,MATCHSELEVES!$Y$14:$AE$600,5,FALSE),0)","v":0},{"$f":"IFERROR(VLOOKUP(FI9,MATCHSELEVES!$Y$14:$AF$600,8,FALSE),0)","v":0},{"$f":"IFERROR(VLOOKUP(FI9,MATCHSELEVES!$Y$14:$AG$600,9,FALSE),0)","v":0},"Azedine_26",{"$f":"IFERROR(VLOOKUP(FO9,MATCHSELEVES!$Y$14:$AE$600,3,FALSE),0)","v":0},{"$f":"IFERROR(VLOOKUP(FO9,MATCHSELEVES!$Y$14:$AE$600,4,FALSE),0)","v":0},{"$f":"IFERROR(VLOOKUP(FO9,MATCHSELEVES!$Y$14:$AE$600,5,FALSE),0)","v":0},{"$f":"IFERROR(VLOOKUP(FO9,MATCHSELEVES!$Y$14:$AF$600,8,FALSE),0)","v":0},{"$f":"IFERROR(VLOOKUP(FO9,MATCHSELEVES!$Y$14:$AG$600,9,FALSE),0)","v":0},"Azedine_27",{"$f":"IFERROR(VLOOKUP(FU9,MATCHSELEVES!$Y$14:$AE$600,3,FALSE),0)","v":0},{"$f":"IFERROR(VLOOKUP(FU9,MATCHSELEVES!$Y$14:$AE$600,4,FALSE),0)","v":0},{"$f":"IFERROR(VLOOKUP(FU9,MATCHSELEVES!$Y$14:$AE$600,5,FALSE),0)","v":0},{"$f":"IFERROR(VLOOKUP(FU9,MATCHSELEVES!$Y$14:$AF$600,8,FALSE),0)","v":0},{"$f":"IFERROR(VLOOKUP(FU9,MATCHSELEVES!$Y$14:$AG$600,9,FALSE),0)","v":0},"Azedine_28",{"$f":"IFERROR(VLOOKUP(GA9,MATCHSELEVES!$Y$14:$AE$600,3,FALSE),0)","v":0},{"$f":"IFERROR(VLOOKUP(GA9,MATCHSELEVES!$Y$14:$AE$600,4,FALSE),0)","v":0},{"$f":"IFERROR(VLOOKUP(GA9,MATCHSELEVES!$Y$14:$AE$600,5,FALSE),0)","v":0},{"$f":"IFERROR(VLOOKUP(GA9,MATCHSELEVES!$Y$14:$AF$600,8,FALSE),0)","v":0},{"$f":"IFERROR(VLOOKUP(GA9,MATCHSELEVES!$Y$14:$AG$600,9,FALSE),0)","v":0},"Azedine_29",{"$f":"IFERROR(VLOOKUP(GG9,MATCHSELEVES!$Y$14:$AE$600,3,FALSE),0)","v":0},{"$f":"IFERROR(VLOOKUP(GG9,MATCHSELEVES!$Y$14:$AE$600,4,FALSE),0)","v":0},{"$f":"IFERROR(VLOOKUP(GG9,MATCHSELEVES!$Y$14:$AE$600,5,FALSE),0)","v":0},{"$f":"IFERROR(VLOOKUP(GG9,MATCHSELEVES!$Y$14:$AF$600,8,FALSE),0)","v":0},{"$f":"IFERROR(VLOOKUP(GG9,MATCHSELEVES!$Y$14:$AG$600,9,FALSE),0)","v":0},"Azedine_30",{"$f":"IFERROR(VLOOKUP(GM9,MATCHSELEVES!$Y$14:$AE$600,3,FALSE),0)","v":0},{"$f":"IFERROR(VLOOKUP(GM9,MATCHSELEVES!$Y$14:$AE$600,4,FALSE),0)","v":0},{"$f":"IFERROR(VLOOKUP(GM9,MATCHSELEVES!$Y$14:$AE$600,5,FALSE),0)","v":0},{"$f":"IFERROR(VLOOKUP(GM9,MATCHSELEVES!$Y$14:$AF$600,8,FALSE),0)","v":0},{"$f":"IFERROR(VLOOKUP(GM9,MATCHSELEVES!$Y$14:$AG$600,9,FALSE),0)","v":0},"Azedine_31",{"$f":"IFERROR(VLOOKUP(GS9,MATCHSELEVES!$Y$14:$AE$600,3,FALSE),0)","v":0},{"$f":"IFERROR(VLOOKUP(GS9,MATCHSELEVES!$Y$14:$AE$600,4,FALSE),0)","v":0},{"$f":"IFERROR(VLOOKUP(GS9,MATCHSELEVES!$Y$14:$AE$600,5,FALSE),0)","v":0},{"$f":"IFERROR(VLOOKUP(GS9,MATCHSELEVES!$Y$14:$AF$600,8,FALSE),0)","v":0},{"$f":"IFERROR(VLOOKUP(GS9,MATCHSELEVES!$Y$14:$AG$600,9,FALSE),0)","v":0},"Azedine_32",{"$f":"IFERROR(VLOOKUP(GY9,MATCHSELEVES!$Y$14:$AE$600,3,FALSE),0)","v":0},{"$f":"IFERROR(VLOOKUP(GY9,MATCHSELEVES!$Y$14:$AE$600,4,FALSE),0)","v":0},{"$f":"IFERROR(VLOOKUP(GY9,MATCHSELEVES!$Y$14:$AE$600,5,FALSE),0)","v":0},{"$f":"IFERROR(VLOOKUP(GY9,MATCHSELEVES!$Y$14:$AF$600,8,FALSE),0)","v":0},{"$f":"IFERROR(VLOOKUP(GY9,MATCHSELEVES!$Y$14:$AG$600,9,FALSE),0)","v":0},"Azedine_33",{"$f":"IFERROR(VLOOKUP(HE9,MATCHSELEVES!$Y$14:$AE$600,3,FALSE),0)","v":0},{"$f":"IFERROR(VLOOKUP(HE9,MATCHSELEVES!$Y$14:$AE$600,4,FALSE),0)","v":0},{"$f":"IFERROR(VLOOKUP(HE9,MATCHSELEVES!$Y$14:$AE$600,5,FALSE),0)","v":0},{"$f":"IFERROR(VLOOKUP(HE9,MATCHSELEVES!$Y$14:$AF$600,8,FALSE),0)","v":0},{"$f":"IFERROR(VLOOKUP(HE9,MATCHSELEVES!$Y$14:$AG$600,9,FALSE),0)","v":0},"Azedine_34",{"$f":"IFERROR(VLOOKUP(HK9,MATCHSELEVES!$Y$14:$AE$600,3,FALSE),0)","v":0},{"$f":"IFERROR(VLOOKUP(HK9,MATCHSELEVES!$Y$14:$AE$600,4,FALSE),0)","v":0},{"$f":"IFERROR(VLOOKUP(HK9,MATCHSELEVES!$Y$14:$AE$600,5,FALSE),0)","v":0},{"$f":"IFERROR(VLOOKUP(HK9,MATCHSELEVES!$Y$14:$AF$600,8,FALSE),0)","v":0},{"$f":"IFERROR(VLOOKUP(HK9,MATCHSELEVES!$Y$14:$AG$600,9,FALSE),0)","v":0},"Azedine_35",{"$f":"IFERROR(VLOOKUP(HQ9,MATCHSELEVES!$Y$14:$AE$600,3,FALSE),0)","v":0},{"$f":"IFERROR(VLOOKUP(HQ9,MATCHSELEVES!$Y$14:$AE$600,4,FALSE),0)","v":0},{"$f":"IFERROR(VLOOKUP(HQ9,MATCHSELEVES!$Y$14:$AE$600,5,FALSE),0)","v":0},{"$f":"IFERROR(VLOOKUP(HQ9,MATCHSELEVES!$Y$14:$AF$600,8,FALSE),0)","v":0},{"$f":"IFERROR(VLOOKUP(HQ9,MATCHSELEVES!$Y$14:$AG$600,9,FALSE),0)","v":0},"Azedine_36",{"$f":"IFERROR(VLOOKUP(HW9,MATCHSELEVES!$Y$14:$AE$600,3,FALSE),0)","v":0},{"$f":"IFERROR(VLOOKUP(HW9,MATCHSELEVES!$Y$14:$AE$600,4,FALSE),0)","v":0},{"$f":"IFERROR(VLOOKUP(HW9,MATCHSELEVES!$Y$14:$AE$600,5,FALSE),0)","v":0},{"$f":"IFERROR(VLOOKUP(HW9,MATCHSELEVES!$Y$14:$AF$600,8,FALSE),0)","v":0},{"$f":"IFERROR(VLOOKUP(HW9,MATCHSELEVES!$Y$14:$AG$600,9,FALSE),0)","v":0},"Azedine_37",{"$f":"IFERROR(VLOOKUP(IC9,MATCHSELEVES!$Y$14:$AE$600,3,FALSE),0)","v":0},{"$f":"IFERROR(VLOOKUP(IC9,MATCHSELEVES!$Y$14:$AE$600,4,FALSE),0)","v":0},{"$f":"IFERROR(VLOOKUP(IC9,MATCHSELEVES!$Y$14:$AE$600,5,FALSE),0)","v":0},{"$f":"IFERROR(VLOOKUP(IC9,MATCHSELEVES!$Y$14:$AF$600,8,FALSE),0)","v":0},{"$f":"IFERROR(VLOOKUP(IC9,MATCHSELEVES!$Y$14:$AG$600,9,FALSE),0)","v":0},"Azedine_38",{"$f":"IFERROR(VLOOKUP(II9,MATCHSELEVES!$Y$14:$AE$600,3,FALSE),0)","v":0},{"$f":"IFERROR(VLOOKUP(II9,MATCHSELEVES!$Y$14:$AE$600,4,FALSE),0)","v":0},{"$f":"IFERROR(VLOOKUP(II9,MATCHSELEVES!$Y$14:$AE$600,5,FALSE),0)","v":0},{"$f":"IFERROR(VLOOKUP(II9,MATCHSELEVES!$Y$14:$AF$600,8,FALSE),0)","v":0},{"$f":"IFERROR(VLOOKUP(II9,MATCHSELEVES!$Y$14:$AG$600,9,FALSE),0)","v":0},"Azedine_39",{"$f":"IFERROR(VLOOKUP(IO9,MATCHSELEVES!$Y$14:$AE$600,3,FALSE),0)","v":0},{"$f":"IFERROR(VLOOKUP(IO9,MATCHSELEVES!$Y$14:$AE$600,4,FALSE),0)","v":0},{"$f":"IFERROR(VLOOKUP(IO9,MATCHSELEVES!$Y$14:$AE$600,5,FALSE),0)","v":0},{"$f":"IFERROR(VLOOKUP(IO9,MATCHSELEVES!$Y$14:$AF$600,8,FALSE),0)","v":0},{"$f":"IFERROR(VLOOKUP(IO9,MATCHSELEVES!$Y$14:$AG$600,9,FALSE),0)","v":0},"Azedine_40",{"$f":"IFERROR(VLOOKUP(IU9,MATCHSELEVES!$Y$14:$AE$600,3,FALSE),0)","v":0},{"$f":"IFERROR(VLOOKUP(IU9,MATCHSELEVES!$Y$14:$AE$600,4,FALSE),0)","v":0},{"$f":"IFERROR(VLOOKUP(IU9,MATCHSELEVES!$Y$14:$AE$600,5,FALSE),0)","v":0},{"$f":"IFERROR(VLOOKUP(IU9,MATCHSELEVES!$Y$14:$AF$600,8,FALSE),0)","v":0},{"$f":"IFERROR(VLOOKUP(IU9,MATCHSELEVES!$Y$14:$AG$600,9,FALSE),0)","v":0},{"$f":"Tableau10[[#This Row],[CLASSE]]","v":"Azedine"},1,{"$f":"MD1POINT!D9","v":1},"Azedinep_1",{"$f":"IFERROR(VLOOKUP(JD9,MATCHSELEVES!$Y$14:$AE$600,3,FALSE),0)","v":0},{"$f":"IFERROR(VLOOKUP(JD9,MATCHSELEVES!$Y$14:$AE$600,4,FALSE),0)","v":0},{"$f":"IFERROR(VLOOKUP(JD9,MATCHSELEVES!$Y$14:$AE$600,5,FALSE),0)","v":0},{"$f":"IFERROR(VLOOKUP(JD9,MATCHSELEVES!$Y$14:$AF$600,8,FALSE),0)","v":0},{"$f":"IFERROR(VLOOKUP(JD9,MATCHSELEVES!$Y$14:$AG$600,9,FALSE),0)","v":0},"Azedinep_2",{"$f":"IFERROR(VLOOKUP(JJ9,MATCHSELEVES!$Y$14:$AE$600,3,FALSE),0)","v":0},{"$f":"IFERROR(VLOOKUP(JJ9,MATCHSELEVES!$Y$14:$AE$600,4,FALSE),0)","v":0},{"$f":"IFERROR(VLOOKUP(JJ9,MATCHSELEVES!$Y$14:$AE$600,5,FALSE),0)","v":0},{"$f":"IFERROR(VLOOKUP(JJ9,MATCHSELEVES!$Y$14:$AF$600,8,FALSE),0)","v":0},{"$f":"IFERROR(VLOOKUP(JJ9,MATCHSELEVES!$Y$14:$AG$600,9,FALSE),0)","v":0},"Azedinep_3",{"$f":"IFERROR(VLOOKUP(JP9,MATCHSELEVES!$Y$14:$AE$600,3,FALSE),0)","v":0},{"$f":"IFERROR(VLOOKUP(JP9,MATCHSELEVES!$Y$14:$AE$600,4,FALSE),0)","v":0},{"$f":"IFERROR(VLOOKUP(JP9,MATCHSELEVES!$Y$14:$AE$600,5,FALSE),0)","v":0},{"$f":"IFERROR(VLOOKUP(JP9,MATCHSELEVES!$Y$14:$AF$600,8,FALSE),0)","v":0},{"$f":"IFERROR(VLOOKUP(JP9,MATCHSELEVES!$Y$14:$AG$600,9,FALSE),0)","v":0},"Azedinep_4",{"$f":"IFERROR(VLOOKUP(JV9,MATCHSELEVES!$Y$14:$AE$600,3,FALSE),0)","v":0},{"$f":"IFERROR(VLOOKUP(JV9,MATCHSELEVES!$Y$14:$AE$600,4,FALSE),0)","v":0},{"$f":"IFERROR(VLOOKUP(JV9,MATCHSELEVES!$Y$14:$AE$600,5,FALSE),0)","v":0},{"$f":"IFERROR(VLOOKUP(JV9,MATCHSELEVES!$Y$14:$AF$600,8,FALSE),0)","v":0},{"$f":"IFERROR(VLOOKUP(JV9,MATCHSELEVES!$Y$14:$AG$600,9,FALSE),0)","v":0},"Azedinep_5",{"$f":"IFERROR(VLOOKUP(KB9,MATCHSELEVES!$Y$14:$AE$600,3,FALSE),0)","v":0},{"$f":"IFERROR(VLOOKUP(KB9,MATCHSELEVES!$Y$14:$AE$600,4,FALSE),0)","v":0},{"$f":"IFERROR(VLOOKUP(KB9,MATCHSELEVES!$Y$14:$AE$600,5,FALSE),0)","v":0},{"$f":"IFERROR(VLOOKUP(KB9,MATCHSELEVES!$Y$14:$AF$600,8,FALSE),0)","v":0},{"$f":"IFERROR(VLOOKUP(KB9,MATCHSELEVES!$Y$14:$AG$600,9,FALSE),0)","v":0},"Azedinep_6",{"$f":"IFERROR(VLOOKUP(KH9,MATCHSELEVES!$Y$14:$AE$600,3,FALSE),0)","v":0},{"$f":"IFERROR(VLOOKUP(KH9,MATCHSELEVES!$Y$14:$AE$600,4,FALSE),0)","v":0},{"$f":"IFERROR(VLOOKUP(KH9,MATCHSELEVES!$Y$14:$AE$600,5,FALSE),0)","v":0},{"$f":"IFERROR(VLOOKUP(KH9,MATCHSELEVES!$Y$14:$AF$600,8,FALSE),0)","v":0},{"$f":"IFERROR(VLOOKUP(KH9,MATCHSELEVES!$Y$14:$AG$600,9,FALSE),0)","v":0},"Azedinep_7",{"$f":"IFERROR(VLOOKUP(KN9,MATCHSELEVES!$Y$14:$AE$600,3,FALSE),0)","v":0},{"$f":"IFERROR(VLOOKUP(KN9,MATCHSELEVES!$Y$14:$AE$600,4,FALSE),0)","v":0},{"$f":"IFERROR(VLOOKUP(KN9,MATCHSELEVES!$Y$14:$AE$600,5,FALSE),0)","v":0},{"$f":"IFERROR(VLOOKUP(KN9,MATCHSELEVES!$Y$14:$AF$600,8,FALSE),0)","v":0},{"$f":"IFERROR(VLOOKUP(KN9,MATCHSELEVES!$Y$14:$AG$600,9,FALSE),0)","v":0},"Azedinep_8",{"$f":"IFERROR(VLOOKUP(KT9,MATCHSELEVES!$Y$14:$AE$600,3,FALSE),0)","v":0},{"$f":"IFERROR(VLOOKUP(KT9,MATCHSELEVES!$Y$14:$AE$600,4,FALSE),0)","v":0},{"$f":"IFERROR(VLOOKUP(KT9,MATCHSELEVES!$Y$14:$AE$600,5,FALSE),0)","v":0},{"$f":"IFERROR(VLOOKUP(KT9,MATCHSELEVES!$Y$14:$AF$600,8,FALSE),0)","v":0},{"$f":"IFERROR(VLOOKUP(KT9,MATCHSELEVES!$Y$14:$AG$600,9,FALSE),0)","v":0},"Azedinep_9",{"$f":"IFERROR(VLOOKUP(KZ9,MATCHSELEVES!$Y$14:$AE$600,3,FALSE),0)","v":0},{"$f":"IFERROR(VLOOKUP(KZ9,MATCHSELEVES!$Y$14:$AE$600,4,FALSE),0)","v":0},{"$f":"IFERROR(VLOOKUP(KZ9,MATCHSELEVES!$Y$14:$AE$600,5,FALSE),0)","v":0},{"$f":"IFERROR(VLOOKUP(KZ9,MATCHSELEVES!$Y$14:$AF$600,8,FALSE),0)","v":0},{"$f":"IFERROR(VLOOKUP(KZ9,MATCHSELEVES!$Y$14:$AG$600,9,FALSE),0)","v":0},"Azedinep_10",{"$f":"IFERROR(VLOOKUP(LF9,MATCHSELEVES!$Y$14:$AE$600,3,FALSE),0)","v":0},{"$f":"IFERROR(VLOOKUP(LF9,MATCHSELEVES!$Y$14:$AE$600,4,FALSE),0)","v":0},{"$f":"IFERROR(VLOOKUP(LF9,MATCHSELEVES!$Y$14:$AE$600,5,FALSE),0)","v":0},{"$f":"IFERROR(VLOOKUP(LF9,MATCHSELEVES!$Y$14:$AF$600,8,FALSE),0)","v":0},{"$f":"IFERROR(VLOOKUP(LF9,MATCHSELEVES!$Y$14:$AG$600,9,FALSE),0)","v":0},"Azedinep_11",{"$f":"IFERROR(VLOOKUP(LL9,MATCHSELEVES!$Y$14:$AE$600,3,FALSE),0)","v":0},{"$f":"IFERROR(VLOOKUP(LL9,MATCHSELEVES!$Y$14:$AE$600,4,FALSE),0)","v":0},{"$f":"IFERROR(VLOOKUP(LL9,MATCHSELEVES!$Y$14:$AE$600,5,FALSE),0)","v":0},{"$f":"IFERROR(VLOOKUP(LL9,MATCHSELEVES!$Y$14:$AF$600,8,FALSE),0)","v":0},{"$f":"IFERROR(VLOOKUP(LL9,MATCHSELEVES!$Y$14:$AG$600,9,FALSE),0)","v":0},"Azedinep_12",{"$f":"IFERROR(VLOOKUP(LR9,MATCHSELEVES!$Y$14:$AE$600,3,FALSE),0)","v":0},{"$f":"IFERROR(VLOOKUP(LR9,MATCHSELEVES!$Y$14:$AE$600,4,FALSE),0)","v":0},{"$f":"IFERROR(VLOOKUP(LR9,MATCHSELEVES!$Y$14:$AE$600,5,FALSE),0)","v":0},{"$f":"IFERROR(VLOOKUP(LR9,MATCHSELEVES!$Y$14:$AF$600,8,FALSE),0)","v":0},{"$f":"IFERROR(VLOOKUP(LR9,MATCHSELEVES!$Y$14:$AG$600,9,FALSE),0)","v":0},"Azedinep_13",{"$f":"IFERROR(VLOOKUP(LX9,MATCHSELEVES!$Y$14:$AE$600,3,FALSE),0)","v":0},{"$f":"IFERROR(VLOOKUP(LX9,MATCHSELEVES!$Y$14:$AE$600,4,FALSE),0)","v":0},{"$f":"IFERROR(VLOOKUP(LX9,MATCHSELEVES!$Y$14:$AE$600,5,FALSE),0)","v":0},{"$f":"IFERROR(VLOOKUP(LX9,MATCHSELEVES!$Y$14:$AF$600,8,FALSE),0)","v":0},{"$f":"IFERROR(VLOOKUP(LX9,MATCHSELEVES!$Y$14:$AG$600,9,FALSE),0)","v":0},"Azedinep_14",{"$f":"IFERROR(VLOOKUP(MD9,MATCHSELEVES!$Y$14:$AE$600,3,FALSE),0)","v":0},{"$f":"IFERROR(VLOOKUP(MD9,MATCHSELEVES!$Y$14:$AE$600,4,FALSE),0)","v":0},{"$f":"IFERROR(VLOOKUP(MD9,MATCHSELEVES!$Y$14:$AE$600,5,FALSE),0)","v":0},{"$f":"IFERROR(VLOOKUP(MD9,MATCHSELEVES!$Y$14:$AF$600,8,FALSE),0)","v":0},{"$f":"IFERROR(VLOOKUP(MD9,MATCHSELEVES!$Y$14:$AG$600,9,FALSE),0)","v":0},"Azedinep_15",{"$f":"IFERROR(VLOOKUP(MJ9,MATCHSELEVES!$Y$14:$AE$600,3,FALSE),0)","v":0},{"$f":"IFERROR(VLOOKUP(MJ9,MATCHSELEVES!$Y$14:$AE$600,4,FALSE),0)","v":0},{"$f":"IFERROR(VLOOKUP(MJ9,MATCHSELEVES!$Y$14:$AE$600,5,FALSE),0)","v":0},{"$f":"IFERROR(VLOOKUP(MJ9,MATCHSELEVES!$Y$14:$AF$600,8,FALSE),0)","v":0},{"$f":"IFERROR(VLOOKUP(MJ9,MATCHSELEVES!$Y$14:$AG$600,9,FALSE),0)","v":0},"Azedinep_16",{"$f":"IFERROR(VLOOKUP(MP9,MATCHSELEVES!$Y$14:$AE$600,3,FALSE),0)","v":0},{"$f":"IFERROR(VLOOKUP(MP9,MATCHSELEVES!$Y$14:$AE$600,4,FALSE),0)","v":0},{"$f":"IFERROR(VLOOKUP(MP9,MATCHSELEVES!$Y$14:$AE$600,5,FALSE),0)","v":0},{"$f":"IFERROR(VLOOKUP(MP9,MATCHSELEVES!$Y$14:$AF$600,8,FALSE),0)","v":0},{"$f":"IFERROR(VLOOKUP(MP9,MATCHSELEVES!$Y$14:$AG$600,9,FALSE),0)","v":0},"Azedinep_17",{"$f":"IFERROR(VLOOKUP(MV9,MATCHSELEVES!$Y$14:$AE$600,3,FALSE),0)","v":0},{"$f":"IFERROR(VLOOKUP(MV9,MATCHSELEVES!$Y$14:$AE$600,4,FALSE),0)","v":0},{"$f":"IFERROR(VLOOKUP(MV9,MATCHSELEVES!$Y$14:$AE$600,5,FALSE),0)","v":0},{"$f":"IFERROR(VLOOKUP(MV9,MATCHSELEVES!$Y$14:$AF$600,8,FALSE),0)","v":0},{"$f":"IFERROR(VLOOKUP(MV9,MATCHSELEVES!$Y$14:$AG$600,9,FALSE),0)","v":0},"Azedinep_18",{"$f":"IFERROR(VLOOKUP(NB9,MATCHSELEVES!$Y$14:$AE$600,3,FALSE),0)","v":0},{"$f":"IFERROR(VLOOKUP(NB9,MATCHSELEVES!$Y$14:$AE$600,4,FALSE),0)","v":0},{"$f":"IFERROR(VLOOKUP(NB9,MATCHSELEVES!$Y$14:$AE$600,5,FALSE),0)","v":0},{"$f":"IFERROR(VLOOKUP(NB9,MATCHSELEVES!$Y$14:$AF$600,8,FALSE),0)","v":0},{"$f":"IFERROR(VLOOKUP(NB9,MATCHSELEVES!$Y$14:$AG$600,9,FALSE),0)","v":0},"Azedinep_19",{"$f":"IFERROR(VLOOKUP(NH9,MATCHSELEVES!$Y$14:$AE$600,3,FALSE),0)","v":0},{"$f":"IFERROR(VLOOKUP(NH9,MATCHSELEVES!$Y$14:$AE$600,4,FALSE),0)","v":0},{"$f":"IFERROR(VLOOKUP(NH9,MATCHSELEVES!$Y$14:$AE$600,5,FALSE),0)","v":0},{"$f":"IFERROR(VLOOKUP(NH9,MATCHSELEVES!$Y$14:$AF$600,8,FALSE),0)","v":0},{"$f":"IFERROR(VLOOKUP(NH9,MATCHSELEVES!$Y$14:$AG$600,9,FALSE),0)","v":0},"Azedinep_20",{"$f":"IFERROR(VLOOKUP(NN9,MATCHSELEVES!$Y$14:$AE$600,3,FALSE),0)","v":0},{"$f":"IFERROR(VLOOKUP(NN9,MATCHSELEVES!$Y$14:$AE$600,4,FALSE),0)","v":0},{"$f":"IFERROR(VLOOKUP(NN9,MATCHSELEVES!$Y$14:$AE$600,5,FALSE),0)","v":0},{"$f":"IFERROR(VLOOKUP(NN9,MATCHSELEVES!$Y$14:$AF$600,8,FALSE),0)","v":0},{"$f":"IFERROR(VLOOKUP(NN9,MATCHSELEVES!$Y$14:$AG$600,9,FALSE),0)","v":0},"Azedinep_21",{"$f":"IFERROR(VLOOKUP(NT9,MATCHSELEVES!$Y$14:$AE$600,3,FALSE),0)","v":0},{"$f":"IFERROR(VLOOKUP(NT9,MATCHSELEVES!$Y$14:$AE$600,4,FALSE),0)","v":0},{"$f":"IFERROR(VLOOKUP(NT9,MATCHSELEVES!$Y$14:$AE$600,5,FALSE),0)","v":0},{"$f":"IFERROR(VLOOKUP(NT9,MATCHSELEVES!$Y$14:$AF$600,8,FALSE),0)","v":0},{"$f":"IFERROR(VLOOKUP(NT9,MATCHSELEVES!$Y$14:$AG$600,9,FALSE),0)","v":0},"Azedinep_22",{"$f":"IFERROR(VLOOKUP(NZ9,MATCHSELEVES!$Y$14:$AE$600,3,FALSE),0)","v":0},{"$f":"IFERROR(VLOOKUP(NZ9,MATCHSELEVES!$Y$14:$AE$600,4,FALSE),0)","v":0},{"$f":"IFERROR(VLOOKUP(NZ9,MATCHSELEVES!$Y$14:$AE$600,5,FALSE),0)","v":0},{"$f":"IFERROR(VLOOKUP(NZ9,MATCHSELEVES!$Y$14:$AF$600,8,FALSE),0)","v":0},{"$f":"IFERROR(VLOOKUP(NZ9,MATCHSELEVES!$Y$14:$AG$600,9,FALSE),0)","v":0},"Azedinep_23",{"$f":"IFERROR(VLOOKUP(OF9,MATCHSELEVES!$Y$14:$AE$600,3,FALSE),0)","v":0},{"$f":"IFERROR(VLOOKUP(OF9,MATCHSELEVES!$Y$14:$AE$600,4,FALSE),0)","v":0},{"$f":"IFERROR(VLOOKUP(OF9,MATCHSELEVES!$Y$14:$AE$600,5,FALSE),0)","v":0},{"$f":"IFERROR(VLOOKUP(OF9,MATCHSELEVES!$Y$14:$AF$600,8,FALSE),0)","v":0},{"$f":"IFERROR(VLOOKUP(OF9,MATCHSELEVES!$Y$14:$AG$600,9,FALSE),0)","v":0},"Azedinep_24",{"$f":"IFERROR(VLOOKUP(OL9,MATCHSELEVES!$Y$14:$AE$600,3,FALSE),0)","v":0},{"$f":"IFERROR(VLOOKUP(OL9,MATCHSELEVES!$Y$14:$AE$600,4,FALSE),0)","v":0},{"$f":"IFERROR(VLOOKUP(OL9,MATCHSELEVES!$Y$14:$AE$600,5,FALSE),0)","v":0},{"$f":"IFERROR(VLOOKUP(OL9,MATCHSELEVES!$Y$14:$AF$600,8,FALSE),0)","v":0},{"$f":"IFERROR(VLOOKUP(OL9,MATCHSELEVES!$Y$14:$AG$600,9,FALSE),0)","v":0},"Azedinep_25",{"$f":"IFERROR(VLOOKUP(OR9,MATCHSELEVES!$Y$14:$AE$600,3,FALSE),0)","v":0},{"$f":"IFERROR(VLOOKUP(OR9,MATCHSELEVES!$Y$14:$AE$600,4,FALSE),0)","v":0},{"$f":"IFERROR(VLOOKUP(OR9,MATCHSELEVES!$Y$14:$AE$600,5,FALSE),0)","v":0},{"$f":"IFERROR(VLOOKUP(OR9,MATCHSELEVES!$Y$14:$AF$600,8,FALSE),0)","v":0},{"$f":"IFERROR(VLOOKUP(OR9,MATCHSELEVES!$Y$14:$AG$600,9,FALSE),0)","v":0},"Azedinep_26",{"$f":"IFERROR(VLOOKUP(OX9,MATCHSELEVES!$Y$14:$AE$600,3,FALSE),0)","v":0},{"$f":"IFERROR(VLOOKUP(OX9,MATCHSELEVES!$Y$14:$AE$600,4,FALSE),0)","v":0},{"$f":"IFERROR(VLOOKUP(OX9,MATCHSELEVES!$Y$14:$AE$600,5,FALSE),0)","v":0},{"$f":"IFERROR(VLOOKUP(OX9,MATCHSELEVES!$Y$14:$AF$600,8,FALSE),0)","v":0},{"$f":"IFERROR(VLOOKUP(OX9,MATCHSELEVES!$Y$14:$AG$600,9,FALSE),0)","v":0},"Azedinep_27",{"$f":"IFERROR(VLOOKUP(PD9,MATCHSELEVES!$Y$14:$AE$600,3,FALSE),0)","v":0},{"$f":"IFERROR(VLOOKUP(PD9,MATCHSELEVES!$Y$14:$AE$600,4,FALSE),0)","v":0},{"$f":"IFERROR(VLOOKUP(PD9,MATCHSELEVES!$Y$14:$AE$600,5,FALSE),0)","v":0},{"$f":"IFERROR(VLOOKUP(PD9,MATCHSELEVES!$Y$14:$AF$600,8,FALSE),0)","v":0},{"$f":"IFERROR(VLOOKUP(PD9,MATCHSELEVES!$Y$14:$AG$600,9,FALSE),0)","v":0},"Azedinep_28",{"$f":"IFERROR(VLOOKUP(PJ9,MATCHSELEVES!$Y$14:$AE$600,3,FALSE),0)","v":0},{"$f":"IFERROR(VLOOKUP(PJ9,MATCHSELEVES!$Y$14:$AE$600,4,FALSE),0)","v":0},{"$f":"IFERROR(VLOOKUP(PJ9,MATCHSELEVES!$Y$14:$AE$600,5,FALSE),0)","v":0},{"$f":"IFERROR(VLOOKUP(PJ9,MATCHSELEVES!$Y$14:$AF$600,8,FALSE),0)","v":0},{"$f":"IFERROR(VLOOKUP(PJ9,MATCHSELEVES!$Y$14:$AG$600,9,FALSE),0)","v":0},"Azedinep_29",{"$f":"IFERROR(VLOOKUP(PP9,MATCHSELEVES!$Y$14:$AE$600,3,FALSE),0)","v":0},{"$f":"IFERROR(VLOOKUP(PP9,MATCHSELEVES!$Y$14:$AE$600,4,FALSE),0)","v":0},{"$f":"IFERROR(VLOOKUP(PP9,MATCHSELEVES!$Y$14:$AE$600,5,FALSE),0)","v":0},{"$f":"IFERROR(VLOOKUP(PP9,MATCHSELEVES!$Y$14:$AF$600,8,FALSE),0)","v":0},{"$f":"IFERROR(VLOOKUP(PP9,MATCHSELEVES!$Y$14:$AG$600,9,FALSE),0)","v":0},"Azedinep_30",{"$f":"IFERROR(VLOOKUP(PV9,MATCHSELEVES!$Y$14:$AE$600,3,FALSE),0)","v":0},{"$f":"IFERROR(VLOOKUP(PV9,MATCHSELEVES!$Y$14:$AE$600,4,FALSE),0)","v":0},{"$f":"IFERROR(VLOOKUP(PV9,MATCHSELEVES!$Y$14:$AE$600,5,FALSE),0)","v":0},{"$f":"IFERROR(VLOOKUP(PV9,MATCHSELEVES!$Y$14:$AF$600,8,FALSE),0)","v":0},{"$f":"IFERROR(VLOOKUP(PV9,MATCHSELEVES!$Y$14:$AG$600,9,FALSE),0)","v":0},"Azedinep_31",{"$f":"IFERROR(VLOOKUP(QB9,MATCHSELEVES!$Y$14:$AE$600,3,FALSE),0)","v":0},{"$f":"IFERROR(VLOOKUP(QB9,MATCHSELEVES!$Y$14:$AE$600,4,FALSE),0)","v":0},{"$f":"IFERROR(VLOOKUP(QB9,MATCHSELEVES!$Y$14:$AE$600,5,FALSE),0)","v":0},{"$f":"IFERROR(VLOOKUP(QB9,MATCHSELEVES!$Y$14:$AF$600,8,FALSE),0)","v":0},{"$f":"IFERROR(VLOOKUP(QB9,MATCHSELEVES!$Y$14:$AG$600,9,FALSE),0)","v":0},"Azedinep_32",{"$f":"IFERROR(VLOOKUP(QH9,MATCHSELEVES!$Y$14:$AE$600,3,FALSE),0)","v":0},{"$f":"IFERROR(VLOOKUP(QH9,MATCHSELEVES!$Y$14:$AE$600,4,FALSE),0)","v":0},{"$f":"IFERROR(VLOOKUP(QH9,MATCHSELEVES!$Y$14:$AE$600,5,FALSE),0)","v":0},{"$f":"IFERROR(VLOOKUP(QH9,MATCHSELEVES!$Y$14:$AF$600,8,FALSE),0)","v":0},{"$f":"IFERROR(VLOOKUP(QH9,MATCHSELEVES!$Y$14:$AG$600,9,FALSE),0)","v":0},"Azedinep_33",{"$f":"IFERROR(VLOOKUP(QN9,MATCHSELEVES!$Y$14:$AE$600,3,FALSE),0)","v":0},{"$f":"IFERROR(VLOOKUP(QN9,MATCHSELEVES!$Y$14:$AE$600,4,FALSE),0)","v":0},{"$f":"IFERROR(VLOOKUP(QN9,MATCHSELEVES!$Y$14:$AE$600,5,FALSE),0)","v":0},{"$f":"IFERROR(VLOOKUP(QN9,MATCHSELEVES!$Y$14:$AF$600,8,FALSE),0)","v":0},{"$f":"IFERROR(VLOOKUP(QN9,MATCHSELEVES!$Y$14:$AG$600,9,FALSE),0)","v":0},"Azedinep_34",{"$f":"IFERROR(VLOOKUP(QT9,MATCHSELEVES!$Y$14:$AE$600,3,FALSE),0)","v":0},{"$f":"IFERROR(VLOOKUP(QT9,MATCHSELEVES!$Y$14:$AE$600,4,FALSE),0)","v":0},{"$f":"IFERROR(VLOOKUP(QT9,MATCHSELEVES!$Y$14:$AE$600,5,FALSE),0)","v":0},{"$f":"IFERROR(VLOOKUP(QT9,MATCHSELEVES!$Y$14:$AF$600,8,FALSE),0)","v":0},{"$f":"IFERROR(VLOOKUP(QT9,MATCHSELEVES!$Y$14:$AG$600,9,FALSE),0)","v":0},"Azedinep_35",{"$f":"IFERROR(VLOOKUP(QZ9,MATCHSELEVES!$Y$14:$AE$600,3,FALSE),0)","v":0},{"$f":"IFERROR(VLOOKUP(QZ9,MATCHSELEVES!$Y$14:$AE$600,4,FALSE),0)","v":0},{"$f":"IFERROR(VLOOKUP(QZ9,MATCHSELEVES!$Y$14:$AE$600,5,FALSE),0)","v":0},{"$f":"IFERROR(VLOOKUP(QZ9,MATCHSELEVES!$Y$14:$AF$600,8,FALSE),0)","v":0},{"$f":"IFERROR(VLOOKUP(QZ9,MATCHSELEVES!$Y$14:$AG$600,9,FALSE),0)","v":0},"Azedinep_36",{"$f":"IFERROR(VLOOKUP(RF9,MATCHSELEVES!$Y$14:$AE$600,3,FALSE),0)","v":0},{"$f":"IFERROR(VLOOKUP(RF9,MATCHSELEVES!$Y$14:$AE$600,4,FALSE),0)","v":0},{"$f":"IFERROR(VLOOKUP(RF9,MATCHSELEVES!$Y$14:$AE$600,5,FALSE),0)","v":0},{"$f":"IFERROR(VLOOKUP(RF9,MATCHSELEVES!$Y$14:$AF$600,8,FALSE),0)","v":0},{"$f":"IFERROR(VLOOKUP(RF9,MATCHSELEVES!$Y$14:$AG$600,9,FALSE),0)","v":0},"Azedinep_37",{"$f":"IFERROR(VLOOKUP(RL9,MATCHSELEVES!$Y$14:$AE$600,3,FALSE),0)","v":0},{"$f":"IFERROR(VLOOKUP(RL9,MATCHSELEVES!$Y$14:$AE$600,4,FALSE),0)","v":0},{"$f":"IFERROR(VLOOKUP(RL9,MATCHSELEVES!$Y$14:$AE$600,5,FALSE),0)","v":0},{"$f":"IFERROR(VLOOKUP(RL9,MATCHSELEVES!$Y$14:$AF$600,8,FALSE),0)","v":0},{"$f":"IFERROR(VLOOKUP(RL9,MATCHSELEVES!$Y$14:$AG$600,9,FALSE),0)","v":0},"Azedinep_38",{"$f":"IFERROR(VLOOKUP(RR9,MATCHSELEVES!$Y$14:$AE$600,3,FALSE),0)","v":0},{"$f":"IFERROR(VLOOKUP(RR9,MATCHSELEVES!$Y$14:$AE$600,4,FALSE),0)","v":0},{"$f":"IFERROR(VLOOKUP(RR9,MATCHSELEVES!$Y$14:$AE$600,5,FALSE),0)","v":0},{"$f":"IFERROR(VLOOKUP(RR9,MATCHSELEVES!$Y$14:$AF$600,8,FALSE),0)","v":0},{"$f":"IFERROR(VLOOKUP(RR9,MATCHSELEVES!$Y$14:$AG$600,9,FALSE),0)","v":0},"Azedinep_39",{"$f":"IFERROR(VLOOKUP(RX9,MATCHSELEVES!$Y$14:$AE$600,3,FALSE),0)","v":0},{"$f":"IFERROR(VLOOKUP(RX9,MATCHSELEVES!$Y$14:$AE$600,4,FALSE),0)","v":0},{"$f":"IFERROR(VLOOKUP(RX9,MATCHSELEVES!$Y$14:$AE$600,5,FALSE),0)","v":0},{"$f":"IFERROR(VLOOKUP(RX9,MATCHSELEVES!$Y$14:$AF$600,8,FALSE),0)","v":0},{"$f":"IFERROR(VLOOKUP(RX9,MATCHSELEVES!$Y$14:$AG$600,9,FALSE),0)","v":0},"Azedinep_40",{"$f":"IFERROR(VLOOKUP(SD9,MATCHSELEVES!$Y$14:$AE$600,3,FALSE),0)","v":0},{"$f":"IFERROR(VLOOKUP(SD9,MATCHSELEVES!$Y$14:$AE$600,4,FALSE),0)","v":0},{"$f":"IFERROR(VLOOKUP(SD9,MATCHSELEVES!$Y$14:$AE$600,5,FALSE),0)","v":0},{"$f":"IFERROR(VLOOKUP(SD9,MATCHSELEVES!$Y$14:$AF$600,8,FALSE),0)","v":0},{"$f":"IFERROR(VLOOKUP(SD9,MATCHSELEVES!$Y$14:$AG$600,9,FALSE),0)","v":0}]
[7,null,{"$f":"MD1POINT!C10","v":"Bilal B."},{"$f":"MD1POINT!D10","v":1},{"$f":"COUNTIF(MATCHSELEVES!$Z$14:$Z$600,C10)+COUNTIF(MATCHSELEVES!$Z$14:$Z$600,$C10&\"p\")","v":0},1,{"$f":"COUNTIF(MATCHSELEVES!$F$14:$H$249,C10)","v":0},1,0,1,0,1,0,1,{"$f":"Y10+AE10+AK10+AQ10+AW10+BC10+BI10+BO10+BU10+CA10+CG10+CM10+CS10+CY10+DE10+DK10+DQ10+DW10+EC10+EI10+EO10+EU10+FA10+FG10+FM10+FS10+FY10+GE10+GK10+GQ10+GW10+4+HI10+HO10+HU10+IA10+HC10+IG10+IM10+IY10+IS10+JH10+JN10+JZ10+JT10+KF10+KR10+KX10+LJ10+LP10+LV10+LD10+MB10+MH10+MN10+MZ10+MT10+NF10+NL10+NR10+NX10+OD10+OJ10+OP10+OV10+PB10+PH10+PT10+PN10+PZ10+QF10+QL10+QR10+RD10+QX10+RJ10+RP10+RV10+SB10+SH10+KL10+Tableau10[[#This Row],[Nombre de matchs joués]]*2","v":4},1,{"$f":"(Tableau10[[#This Row],[CLASSEMENT1]]+Tableau10[[#This Row],[CLASSEMENT2]]+Tableau10[[#This Row],[CLASSEMENT3]]+Tableau10[[#This Row],[CLASSEMENT4]]+Tableau10[[#This Row],[CLASSEMENT5]]+Tableau10[[#This Row],[CLASSEMENT6]])/6","v":1},{"$f":"RANK(Tableau10[[#This Row],[MOYENNE CLASSEMENTS]],Tableau10[MOYENNE CLASSEMENTS],1)","v":1},null,{"$f":"Tableau10[[#This Row],[CLASSEMENT1]]","v":1},"Bilal B._1",{"$f":"IFERROR(VLOOKUP(U10,MATCHSELEVES!$Y$14:$AE$600,3,FALSE),0)","v":0},{"$f":"IFERROR(VLOOKUP(U10,MATCHSELEVES!$Y$14:$AE$600,4,FALSE),0)","v":0},{"$f":"IFERROR(VLOOKUP(U10,MATCHSELEVES!$Y$14:$AE$600,5,FALSE),0)","v":0},{"$f":"IFERROR(VLOOKUP(U10,MATCHSELEVES!$Y$14:$AF$600,8,FALSE),0)","v":0},{"$f":"IFERROR(VLOOKUP(U10,MATCHSELEVES!$Y$14:$AG$600,9,FALSE),0)","v":0},"Bilal B._2",{"$f":"IFERROR(VLOOKUP(AA10,MATCHSELEVES!$Y$14:$AE$600,3,FALSE),0)","v":0},{"$f":"IFERROR(VLOOKUP(AA10,MATCHSELEVES!$Y$14:$AE$600,4,FALSE),0)","v":0},{"$f":"IFERROR(VLOOKUP(AA10,MATCHSELEVES!$Y$14:$AE$600,5,FALSE),0)","v":0},{"$f":"IFERROR(VLOOKUP(AA10,MATCHSELEVES!$Y$14:$AF$600,8,FALSE),0)","v":0},{"$f":"IFERROR(VLOOKUP(AA10,MATCHSELEVES!$Y$14:$AG$600,9,FALSE),0)","v":0},"Bilal B._3",{"$f":"IFERROR(VLOOKUP(AG10,MATCHSELEVES!$Y$14:$AE$600,3,FALSE),0)","v":0},{"$f":"IFERROR(VLOOKUP(AG10,MATCHSELEVES!$Y$14:$AE$600,4,FALSE),0)","v":0},{"$f":"IFERROR(VLOOKUP(AG10,MATCHSELEVES!$Y$14:$AE$600,5,FALSE),0)","v":0},{"$f":"IFERROR(VLOOKUP(AG10,MATCHSELEVES!$Y$14:$AF$600,8,FALSE),0)","v":0},{"$f":"IFERROR(VLOOKUP(AG10,MATCHSELEVES!$Y$14:$AG$600,9,FALSE),0)","v":0},"Bilal B._4",{"$f":"IFERROR(VLOOKUP(AM10,MATCHSELEVES!$Y$14:$AE$600,3,FALSE),0)","v":0},{"$f":"IFERROR(VLOOKUP(AM10,MATCHSELEVES!$Y$14:$AE$600,4,FALSE),0)","v":0},{"$f":"IFERROR(VLOOKUP(AM10,MATCHSELEVES!$Y$14:$AE$600,5,FALSE),0)","v":0},{"$f":"IFERROR(VLOOKUP(AM10,MATCHSELEVES!$Y$14:$AF$600,8,FALSE),0)","v":0},{"$f":"IFERROR(VLOOKUP(AM10,MATCHSELEVES!$Y$14:$AG$600,9,FALSE),0)","v":0},"Bilal B._5",{"$f":"IFERROR(VLOOKUP(AS10,MATCHSELEVES!$Y$14:$AE$600,3,FALSE),0)","v":0},{"$f":"IFERROR(VLOOKUP(AS10,MATCHSELEVES!$Y$14:$AE$600,4,FALSE),0)","v":0},{"$f":"IFERROR(VLOOKUP(AS10,MATCHSELEVES!$Y$14:$AE$600,5,FALSE),0)","v":0},{"$f":"IFERROR(VLOOKUP(AS10,MATCHSELEVES!$Y$14:$AF$600,8,FALSE),0)","v":0},{"$f":"IFERROR(VLOOKUP(AS10,MATCHSELEVES!$Y$14:$AG$600,9,FALSE),0)","v":0},"Bilal B._6",{"$f":"IFERROR(VLOOKUP(AY10,MATCHSELEVES!$Y$14:$AE$600,3,FALSE),0)","v":0},{"$f":"IFERROR(VLOOKUP(AY10,MATCHSELEVES!$Y$14:$AE$600,4,FALSE),0)","v":0},{"$f":"IFERROR(VLOOKUP(AY10,MATCHSELEVES!$Y$14:$AE$600,5,FALSE),0)","v":0},{"$f":"IFERROR(VLOOKUP(AY10,MATCHSELEVES!$Y$14:$AF$600,8,FALSE),0)","v":0},{"$f":"IFERROR(VLOOKUP(AY10,MATCHSELEVES!$Y$14:$AG$600,9,FALSE),0)","v":0},"Bilal B._7",{"$f":"IFERROR(VLOOKUP(BE10,MATCHSELEVES!$Y$14:$AE$600,3,FALSE),0)","v":0},{"$f":"IFERROR(VLOOKUP(BE10,MATCHSELEVES!$Y$14:$AE$600,4,FALSE),0)","v":0},{"$f":"IFERROR(VLOOKUP(BE10,MATCHSELEVES!$Y$14:$AE$600,5,FALSE),0)","v":0},{"$f":"IFERROR(VLOOKUP(BE10,MATCHSELEVES!$Y$14:$AF$600,8,FALSE),0)","v":0},{"$f":"IFERROR(VLOOKUP(BE10,MATCHSELEVES!$Y$14:$AG$600,9,FALSE),0)","v":0},"Bilal B._8",{"$f":"IFERROR(VLOOKUP(BK10,MATCHSELEVES!$Y$14:$AE$600,3,FALSE),0)","v":0},{"$f":"IFERROR(VLOOKUP(BK10,MATCHSELEVES!$Y$14:$AE$600,4,FALSE),0)","v":0},{"$f":"IFERROR(VLOOKUP(BK10,MATCHSELEVES!$Y$14:$AE$600,5,FALSE),0)","v":0},{"$f":"IFERROR(VLOOKUP(BK10,MATCHSELEVES!$Y$14:$AF$600,8,FALSE),0)","v":0},{"$f":"IFERROR(VLOOKUP(BK10,MATCHSELEVES!$Y$14:$AG$600,9,FALSE),0)","v":0},"Bilal B._9",{"$f":"IFERROR(VLOOKUP(BQ10,MATCHSELEVES!$Y$14:$AE$600,3,FALSE),0)","v":0},{"$f":"IFERROR(VLOOKUP(BQ10,MATCHSELEVES!$Y$14:$AE$600,4,FALSE),0)","v":0},{"$f":"IFERROR(VLOOKUP(BQ10,MATCHSELEVES!$Y$14:$AE$600,5,FALSE),0)","v":0},{"$f":"IFERROR(VLOOKUP(BQ10,MATCHSELEVES!$Y$14:$AF$600,8,FALSE),0)","v":0},{"$f":"IFERROR(VLOOKUP(BQ10,MATCHSELEVES!$Y$14:$AG$600,9,FALSE),0)","v":0},"Bilal B._10",{"$f":"IFERROR(VLOOKUP(BW10,MATCHSELEVES!$Y$14:$AE$600,3,FALSE),0)","v":0},{"$f":"IFERROR(VLOOKUP(BW10,MATCHSELEVES!$Y$14:$AE$600,4,FALSE),0)","v":0},{"$f":"IFERROR(VLOOKUP(BW10,MATCHSELEVES!$Y$14:$AE$600,5,FALSE),0)","v":0},{"$f":"IFERROR(VLOOKUP(BW10,MATCHSELEVES!$Y$14:$AF$600,8,FALSE),0)","v":0},{"$f":"IFERROR(VLOOKUP(BW10,MATCHSELEVES!$Y$14:$AG$600,9,FALSE),0)","v":0},"Bilal B._11",{"$f":"IFERROR(VLOOKUP(CC10,MATCHSELEVES!$Y$14:$AE$600,3,FALSE),0)","v":0},{"$f":"IFERROR(VLOOKUP(CC10,MATCHSELEVES!$Y$14:$AE$600,4,FALSE),0)","v":0},{"$f":"IFERROR(VLOOKUP(CC10,MATCHSELEVES!$Y$14:$AE$600,5,FALSE),0)","v":0},{"$f":"IFERROR(VLOOKUP(CC10,MATCHSELEVES!$Y$14:$AF$600,8,FALSE),0)","v":0},{"$f":"IFERROR(VLOOKUP(CC10,MATCHSELEVES!$Y$14:$AG$600,9,FALSE),0)","v":0},"Bilal B._12",{"$f":"IFERROR(VLOOKUP(CI10,MATCHSELEVES!$Y$14:$AE$600,3,FALSE),0)","v":0},{"$f":"IFERROR(VLOOKUP(CI10,MATCHSELEVES!$Y$14:$AE$600,4,FALSE),0)","v":0},{"$f":"IFERROR(VLOOKUP(CI10,MATCHSELEVES!$Y$14:$AE$600,5,FALSE),0)","v":0},{"$f":"IFERROR(VLOOKUP(CI10,MATCHSELEVES!$Y$14:$AF$600,8,FALSE),0)","v":0},{"$f":"IFERROR(VLOOKUP(CI10,MATCHSELEVES!$Y$14:$AG$600,9,FALSE),0)","v":0},"Bilal B._13",{"$f":"IFERROR(VLOOKUP(CO10,MATCHSELEVES!$Y$14:$AE$600,3,FALSE),0)","v":0},{"$f":"IFERROR(VLOOKUP(CO10,MATCHSELEVES!$Y$14:$AE$600,4,FALSE),0)","v":0},{"$f":"IFERROR(VLOOKUP(CO10,MATCHSELEVES!$Y$14:$AE$600,5,FALSE),0)","v":0},{"$f":"IFERROR(VLOOKUP(CO10,MATCHSELEVES!$Y$14:$AF$600,8,FALSE),0)","v":0},{"$f":"IFERROR(VLOOKUP(CO10,MATCHSELEVES!$Y$14:$AG$600,9,FALSE),0)","v":0},"Bilal B._14",{"$f":"IFERROR(VLOOKUP(CU10,MATCHSELEVES!$Y$14:$AE$600,3,FALSE),0)","v":0},{"$f":"IFERROR(VLOOKUP(CU10,MATCHSELEVES!$Y$14:$AE$600,4,FALSE),0)","v":0},{"$f":"IFERROR(VLOOKUP(CU10,MATCHSELEVES!$Y$14:$AE$600,5,FALSE),0)","v":0},{"$f":"IFERROR(VLOOKUP(CU10,MATCHSELEVES!$Y$14:$AF$600,8,FALSE),0)","v":0},{"$f":"IFERROR(VLOOKUP(CU10,MATCHSELEVES!$Y$14:$AG$600,9,FALSE),0)","v":0},"Bilal B._15",{"$f":"IFERROR(VLOOKUP(DA10,MATCHSELEVES!$Y$14:$AE$600,3,FALSE),0)","v":0},{"$f":"IFERROR(VLOOKUP(DA10,MATCHSELEVES!$Y$14:$AE$600,4,FALSE),0)","v":0},{"$f":"IFERROR(VLOOKUP(DA10,MATCHSELEVES!$Y$14:$AE$600,5,FALSE),0)","v":0},{"$f":"IFERROR(VLOOKUP(DA10,MATCHSELEVES!$Y$14:$AF$600,8,FALSE),0)","v":0},{"$f":"IFERROR(VLOOKUP(DA10,MATCHSELEVES!$Y$14:$AG$600,9,FALSE),0)","v":0},"Bilal B._16",{"$f":"IFERROR(VLOOKUP(DG10,MATCHSELEVES!$Y$14:$AE$600,3,FALSE),0)","v":0},{"$f":"IFERROR(VLOOKUP(DG10,MATCHSELEVES!$Y$14:$AE$600,4,FALSE),0)","v":0},{"$f":"IFERROR(VLOOKUP(DG10,MATCHSELEVES!$Y$14:$AE$600,5,FALSE),0)","v":0},{"$f":"IFERROR(VLOOKUP(DG10,MATCHSELEVES!$Y$14:$AF$600,8,FALSE),0)","v":0},{"$f":"IFERROR(VLOOKUP(DG10,MATCHSELEVES!$Y$14:$AG$600,9,FALSE),0)","v":0},"Bilal B._17",{"$f":"IFERROR(VLOOKUP(DM10,MATCHSELEVES!$Y$14:$AE$600,3,FALSE),0)","v":0},{"$f":"IFERROR(VLOOKUP(DM10,MATCHSELEVES!$Y$14:$AE$600,4,FALSE),0)","v":0},{"$f":"IFERROR(VLOOKUP(DM10,MATCHSELEVES!$Y$14:$AE$600,5,FALSE),0)","v":0},{"$f":"IFERROR(VLOOKUP(DM10,MATCHSELEVES!$Y$14:$AF$600,8,FALSE),0)","v":0},{"$f":"IFERROR(VLOOKUP(DM10,MATCHSELEVES!$Y$14:$AG$600,9,FALSE),0)","v":0},"Bilal B._18",{"$f":"IFERROR(VLOOKUP(DS10,MATCHSELEVES!$Y$14:$AE$600,3,FALSE),0)","v":0},{"$f":"IFERROR(VLOOKUP(DS10,MATCHSELEVES!$Y$14:$AE$600,4,FALSE),0)","v":0},{"$f":"IFERROR(VLOOKUP(DS10,MATCHSELEVES!$Y$14:$AE$600,5,FALSE),0)","v":0},{"$f":"IFERROR(VLOOKUP(DS10,MATCHSELEVES!$Y$14:$AF$600,8,FALSE),0)","v":0},{"$f":"IFERROR(VLOOKUP(DS10,MATCHSELEVES!$Y$14:$AG$600,9,FALSE),0)","v":0},"Bilal B._19",{"$f":"IFERROR(VLOOKUP(DY10,MATCHSELEVES!$Y$14:$AE$600,3,FALSE),0)","v":0},{"$f":"IFERROR(VLOOKUP(DY10,MATCHSELEVES!$Y$14:$AE$600,4,FALSE),0)","v":0},{"$f":"IFERROR(VLOOKUP(DY10,MATCHSELEVES!$Y$14:$AE$600,5,FALSE),0)","v":0},{"$f":"IFERROR(VLOOKUP(DY10,MATCHSELEVES!$Y$14:$AF$600,8,FALSE),0)","v":0},{"$f":"IFERROR(VLOOKUP(DY10,MATCHSELEVES!$Y$14:$AG$600,9,FALSE),0)","v":0},"Bilal B._20",{"$f":"IFERROR(VLOOKUP(EE10,MATCHSELEVES!$Y$14:$AE$600,3,FALSE),0)","v":0},{"$f":"IFERROR(VLOOKUP(EE10,MATCHSELEVES!$Y$14:$AE$600,4,FALSE),0)","v":0},{"$f":"IFERROR(VLOOKUP(EE10,MATCHSELEVES!$Y$14:$AE$600,5,FALSE),0)","v":0},{"$f":"IFERROR(VLOOKUP(EE10,MATCHSELEVES!$Y$14:$AF$600,8,FALSE),0)","v":0},{"$f":"IFERROR(VLOOKUP(EE10,MATCHSELEVES!$Y$14:$AG$600,9,FALSE),0)","v":0},"Bilal B._21",{"$f":"IFERROR(VLOOKUP(EK10,MATCHSELEVES!$Y$14:$AE$600,3,FALSE),0)","v":0},{"$f":"IFERROR(VLOOKUP(EK10,MATCHSELEVES!$Y$14:$AE$600,4,FALSE),0)","v":0},{"$f":"IFERROR(VLOOKUP(EK10,MATCHSELEVES!$Y$14:$AE$600,5,FALSE),0)","v":0},{"$f":"IFERROR(VLOOKUP(EK10,MATCHSELEVES!$Y$14:$AF$600,8,FALSE),0)","v":0},{"$f":"IFERROR(VLOOKUP(EK10,MATCHSELEVES!$Y$14:$AG$600,9,FALSE),0)","v":0},"Bilal B._22",{"$f":"IFERROR(VLOOKUP(EQ10,MATCHSELEVES!$Y$14:$AE$600,3,FALSE),0)","v":0},{"$f":"IFERROR(VLOOKUP(EQ10,MATCHSELEVES!$Y$14:$AE$600,4,FALSE),0)","v":0},{"$f":"IFERROR(VLOOKUP(EQ10,MATCHSELEVES!$Y$14:$AE$600,5,FALSE),0)","v":0},{"$f":"IFERROR(VLOOKUP(EQ10,MATCHSELEVES!$Y$14:$AF$600,8,FALSE),0)","v":0},{"$f":"IFERROR(VLOOKUP(EQ10,MATCHSELEVES!$Y$14:$AG$600,9,FALSE),0)","v":0},"Bilal B._23",{"$f":"IFERROR(VLOOKUP(EW10,MATCHSELEVES!$Y$14:$AE$600,3,FALSE),0)","v":0},{"$f":"IFERROR(VLOOKUP(EW10,MATCHSELEVES!$Y$14:$AE$600,4,FALSE),0)","v":0},{"$f":"IFERROR(VLOOKUP(EW10,MATCHSELEVES!$Y$14:$AE$600,5,FALSE),0)","v":0},{"$f":"IFERROR(VLOOKUP(EW10,MATCHSELEVES!$Y$14:$AF$600,8,FALSE),0)","v":0},{"$f":"IFERROR(VLOOKUP(EW10,MATCHSELEVES!$Y$14:$AG$600,9,FALSE),0)","v":0},"Bilal B._24",{"$f":"IFERROR(VLOOKUP(FC10,MATCHSELEVES!$Y$14:$AE$600,3,FALSE),0)","v":0},{"$f":"IFERROR(VLOOKUP(FC10,MATCHSELEVES!$Y$14:$AE$600,4,FALSE),0)","v":0},{"$f":"IFERROR(VLOOKUP(FC10,MATCHSELEVES!$Y$14:$AE$600,5,FALSE),0)","v":0},{"$f":"IFERROR(VLOOKUP(FC10,MATCHSELEVES!$Y$14:$AF$600,8,FALSE),0)","v":0},{"$f":"IFERROR(VLOOKUP(FC10,MATCHSELEVES!$Y$14:$AG$600,9,FALSE),0)","v":0},"Bilal B._25",{"$f":"IFERROR(VLOOKUP(FI10,MATCHSELEVES!$Y$14:$AE$600,3,FALSE),0)","v":0},{"$f":"IFERROR(VLOOKUP(FI10,MATCHSELEVES!$Y$14:$AE$600,4,FALSE),0)","v":0},{"$f":"IFERROR(VLOOKUP(FI10,MATCHSELEVES!$Y$14:$AE$600,5,FALSE),0)","v":0},{"$f":"IFERROR(VLOOKUP(FI10,MATCHSELEVES!$Y$14:$AF$600,8,FALSE),0)","v":0},{"$f":"IFERROR(VLOOKUP(FI10,MATCHSELEVES!$Y$14:$AG$600,9,FALSE),0)","v":0},"Bilal B._26",{"$f":"IFERROR(VLOOKUP(FO10,MATCHSELEVES!$Y$14:$AE$600,3,FALSE),0)","v":0},{"$f":"IFERROR(VLOOKUP(FO10,MATCHSELEVES!$Y$14:$AE$600,4,FALSE),0)","v":0},{"$f":"IFERROR(VLOOKUP(FO10,MATCHSELEVES!$Y$14:$AE$600,5,FALSE),0)","v":0},{"$f":"IFERROR(VLOOKUP(FO10,MATCHSELEVES!$Y$14:$AF$600,8,FALSE),0)","v":0},{"$f":"IFERROR(VLOOKUP(FO10,MATCHSELEVES!$Y$14:$AG$600,9,FALSE),0)","v":0},"Bilal B._27",{"$f":"IFERROR(VLOOKUP(FU10,MATCHSELEVES!$Y$14:$AE$600,3,FALSE),0)","v":0},{"$f":"IFERROR(VLOOKUP(FU10,MATCHSELEVES!$Y$14:$AE$600,4,FALSE),0)","v":0},{"$f":"IFERROR(VLOOKUP(FU10,MATCHSELEVES!$Y$14:$AE$600,5,FALSE),0)","v":0},{"$f":"IFERROR(VLOOKUP(FU10,MATCHSELEVES!$Y$14:$AF$600,8,FALSE),0)","v":0},{"$f":"IFERROR(VLOOKUP(FU10,MATCHSELEVES!$Y$14:$AG$600,9,FALSE),0)","v":0},"Bilal B._28",{"$f":"IFERROR(VLOOKUP(GA10,MATCHSELEVES!$Y$14:$AE$600,3,FALSE),0)","v":0},{"$f":"IFERROR(VLOOKUP(GA10,MATCHSELEVES!$Y$14:$AE$600,4,FALSE),0)","v":0},{"$f":"IFERROR(VLOOKUP(GA10,MATCHSELEVES!$Y$14:$AE$600,5,FALSE),0)","v":0},{"$f":"IFERROR(VLOOKUP(GA10,MATCHSELEVES!$Y$14:$AF$600,8,FALSE),0)","v":0},{"$f":"IFERROR(VLOOKUP(GA10,MATCHSELEVES!$Y$14:$AG$600,9,FALSE),0)","v":0},"Bilal B._29",{"$f":"IFERROR(VLOOKUP(GG10,MATCHSELEVES!$Y$14:$AE$600,3,FALSE),0)","v":0},{"$f":"IFERROR(VLOOKUP(GG10,MATCHSELEVES!$Y$14:$AE$600,4,FALSE),0)","v":0},{"$f":"IFERROR(VLOOKUP(GG10,MATCHSELEVES!$Y$14:$AE$600,5,FALSE),0)","v":0},{"$f":"IFERROR(VLOOKUP(GG10,MATCHSELEVES!$Y$14:$AF$600,8,FALSE),0)","v":0},{"$f":"IFERROR(VLOOKUP(GG10,MATCHSELEVES!$Y$14:$AG$600,9,FALSE),0)","v":0},"Bilal B._30",{"$f":"IFERROR(VLOOKUP(GM10,MATCHSELEVES!$Y$14:$AE$600,3,FALSE),0)","v":0},{"$f":"IFERROR(VLOOKUP(GM10,MATCHSELEVES!$Y$14:$AE$600,4,FALSE),0)","v":0},{"$f":"IFERROR(VLOOKUP(GM10,MATCHSELEVES!$Y$14:$AE$600,5,FALSE),0)","v":0},{"$f":"IFERROR(VLOOKUP(GM10,MATCHSELEVES!$Y$14:$AF$600,8,FALSE),0)","v":0},{"$f":"IFERROR(VLOOKUP(GM10,MATCHSELEVES!$Y$14:$AG$600,9,FALSE),0)","v":0},"Bilal B._31",{"$f":"IFERROR(VLOOKUP(GS10,MATCHSELEVES!$Y$14:$AE$600,3,FALSE),0)","v":0},{"$f":"IFERROR(VLOOKUP(GS10,MATCHSELEVES!$Y$14:$AE$600,4,FALSE),0)","v":0},{"$f":"IFERROR(VLOOKUP(GS10,MATCHSELEVES!$Y$14:$AE$600,5,FALSE),0)","v":0},{"$f":"IFERROR(VLOOKUP(GS10,MATCHSELEVES!$Y$14:$AF$600,8,FALSE),0)","v":0},{"$f":"IFERROR(VLOOKUP(GS10,MATCHSELEVES!$Y$14:$AG$600,9,FALSE),0)","v":0},"Bilal B._32",{"$f":"IFERROR(VLOOKUP(GY10,MATCHSELEVES!$Y$14:$AE$600,3,FALSE),0)","v":0},{"$f":"IFERROR(VLOOKUP(GY10,MATCHSELEVES!$Y$14:$AE$600,4,FALSE),0)","v":0},{"$f":"IFERROR(VLOOKUP(GY10,MATCHSELEVES!$Y$14:$AE$600,5,FALSE),0)","v":0},{"$f":"IFERROR(VLOOKUP(GY10,MATCHSELEVES!$Y$14:$AF$600,8,FALSE),0)","v":0},{"$f":"IFERROR(VLOOKUP(GY10,MATCHSELEVES!$Y$14:$AG$600,9,FALSE),0)","v":0},"Bilal B._33",{"$f":"IFERROR(VLOOKUP(HE10,MATCHSELEVES!$Y$14:$AE$600,3,FALSE),0)","v":0},{"$f":"IFERROR(VLOOKUP(HE10,MATCHSELEVES!$Y$14:$AE$600,4,FALSE),0)","v":0},{"$f":"IFERROR(VLOOKUP(HE10,MATCHSELEVES!$Y$14:$AE$600,5,FALSE),0)","v":0},{"$f":"IFERROR(VLOOKUP(HE10,MATCHSELEVES!$Y$14:$AF$600,8,FALSE),0)","v":0},{"$f":"IFERROR(VLOOKUP(HE10,MATCHSELEVES!$Y$14:$AG$600,9,FALSE),0)","v":0},"Bilal B._34",{"$f":"IFERROR(VLOOKUP(HK10,MATCHSELEVES!$Y$14:$AE$600,3,FALSE),0)","v":0},{"$f":"IFERROR(VLOOKUP(HK10,MATCHSELEVES!$Y$14:$AE$600,4,FALSE),0)","v":0},{"$f":"IFERROR(VLOOKUP(HK10,MATCHSELEVES!$Y$14:$AE$600,5,FALSE),0)","v":0},{"$f":"IFERROR(VLOOKUP(HK10,MATCHSELEVES!$Y$14:$AF$600,8,FALSE),0)","v":0},{"$f":"IFERROR(VLOOKUP(HK10,MATCHSELEVES!$Y$14:$AG$600,9,FALSE),0)","v":0},"Bilal B._35",{"$f":"IFERROR(VLOOKUP(HQ10,MATCHSELEVES!$Y$14:$AE$600,3,FALSE),0)","v":0},{"$f":"IFERROR(VLOOKUP(HQ10,MATCHSELEVES!$Y$14:$AE$600,4,FALSE),0)","v":0},{"$f":"IFERROR(VLOOKUP(HQ10,MATCHSELEVES!$Y$14:$AE$600,5,FALSE),0)","v":0},{"$f":"IFERROR(VLOOKUP(HQ10,MATCHSELEVES!$Y$14:$AF$600,8,FALSE),0)","v":0},{"$f":"IFERROR(VLOOKUP(HQ10,MATCHSELEVES!$Y$14:$AG$600,9,FALSE),0)","v":0},"Bilal B._36",{"$f":"IFERROR(VLOOKUP(HW10,MATCHSELEVES!$Y$14:$AE$600,3,FALSE),0)","v":0},{"$f":"IFERROR(VLOOKUP(HW10,MATCHSELEVES!$Y$14:$AE$600,4,FALSE),0)","v":0},{"$f":"IFERROR(VLOOKUP(HW10,MATCHSELEVES!$Y$14:$AE$600,5,FALSE),0)","v":0},{"$f":"IFERROR(VLOOKUP(HW10,MATCHSELEVES!$Y$14:$AF$600,8,FALSE),0)","v":0},{"$f":"IFERROR(VLOOKUP(HW10,MATCHSELEVES!$Y$14:$AG$600,9,FALSE),0)","v":0},"Bilal B._37",{"$f":"IFERROR(VLOOKUP(IC10,MATCHSELEVES!$Y$14:$AE$600,3,FALSE),0)","v":0},{"$f":"IFERROR(VLOOKUP(IC10,MATCHSELEVES!$Y$14:$AE$600,4,FALSE),0)","v":0},{"$f":"IFERROR(VLOOKUP(IC10,MATCHSELEVES!$Y$14:$AE$600,5,FALSE),0)","v":0},{"$f":"IFERROR(VLOOKUP(IC10,MATCHSELEVES!$Y$14:$AF$600,8,FALSE),0)","v":0},{"$f":"IFERROR(VLOOKUP(IC10,MATCHSELEVES!$Y$14:$AG$600,9,FALSE),0)","v":0},"Bilal B._38",{"$f":"IFERROR(VLOOKUP(II10,MATCHSELEVES!$Y$14:$AE$600,3,FALSE),0)","v":0},{"$f":"IFERROR(VLOOKUP(II10,MATCHSELEVES!$Y$14:$AE$600,4,FALSE),0)","v":0},{"$f":"IFERROR(VLOOKUP(II10,MATCHSELEVES!$Y$14:$AE$600,5,FALSE),0)","v":0},{"$f":"IFERROR(VLOOKUP(II10,MATCHSELEVES!$Y$14:$AF$600,8,FALSE),0)","v":0},{"$f":"IFERROR(VLOOKUP(II10,MATCHSELEVES!$Y$14:$AG$600,9,FALSE),0)","v":0},"Bilal B._39",{"$f":"IFERROR(VLOOKUP(IO10,MATCHSELEVES!$Y$14:$AE$600,3,FALSE),0)","v":0},{"$f":"IFERROR(VLOOKUP(IO10,MATCHSELEVES!$Y$14:$AE$600,4,FALSE),0)","v":0},{"$f":"IFERROR(VLOOKUP(IO10,MATCHSELEVES!$Y$14:$AE$600,5,FALSE),0)","v":0},{"$f":"IFERROR(VLOOKUP(IO10,MATCHSELEVES!$Y$14:$AF$600,8,FALSE),0)","v":0},{"$f":"IFERROR(VLOOKUP(IO10,MATCHSELEVES!$Y$14:$AG$600,9,FALSE),0)","v":0},"Bilal B._40",{"$f":"IFERROR(VLOOKUP(IU10,MATCHSELEVES!$Y$14:$AE$600,3,FALSE),0)","v":0},{"$f":"IFERROR(VLOOKUP(IU10,MATCHSELEVES!$Y$14:$AE$600,4,FALSE),0)","v":0},{"$f":"IFERROR(VLOOKUP(IU10,MATCHSELEVES!$Y$14:$AE$600,5,FALSE),0)","v":0},{"$f":"IFERROR(VLOOKUP(IU10,MATCHSELEVES!$Y$14:$AF$600,8,FALSE),0)","v":0},{"$f":"IFERROR(VLOOKUP(IU10,MATCHSELEVES!$Y$14:$AG$600,9,FALSE),0)","v":0},{"$f":"Tableau10[[#This Row],[CLASSE]]","v":"Bilal B."},1,{"$f":"MD1POINT!D10","v":1},"Bilal B.p_1",{"$f":"IFERROR(VLOOKUP(JD10,MATCHSELEVES!$Y$14:$AE$600,3,FALSE),0)","v":0},{"$f":"IFERROR(VLOOKUP(JD10,MATCHSELEVES!$Y$14:$AE$600,4,FALSE),0)","v":0},{"$f":"IFERROR(VLOOKUP(JD10,MATCHSELEVES!$Y$14:$AE$600,5,FALSE),0)","v":0},{"$f":"IFERROR(VLOOKUP(JD10,MATCHSELEVES!$Y$14:$AF$600,8,FALSE),0)","v":0},{"$f":"IFERROR(VLOOKUP(JD10,MATCHSELEVES!$Y$14:$AG$600,9,FALSE),0)","v":0},"Bilal B.p_2",{"$f":"IFERROR(VLOOKUP(JJ10,MATCHSELEVES!$Y$14:$AE$600,3,FALSE),0)","v":0},{"$f":"IFERROR(VLOOKUP(JJ10,MATCHSELEVES!$Y$14:$AE$600,4,FALSE),0)","v":0},{"$f":"IFERROR(VLOOKUP(JJ10,MATCHSELEVES!$Y$14:$AE$600,5,FALSE),0)","v":0},{"$f":"IFERROR(VLOOKUP(JJ10,MATCHSELEVES!$Y$14:$AF$600,8,FALSE),0)","v":0},{"$f":"IFERROR(VLOOKUP(JJ10,MATCHSELEVES!$Y$14:$AG$600,9,FALSE),0)","v":0},"Bilal B.p_3",{"$f":"IFERROR(VLOOKUP(JP10,MATCHSELEVES!$Y$14:$AE$600,3,FALSE),0)","v":0},{"$f":"IFERROR(VLOOKUP(JP10,MATCHSELEVES!$Y$14:$AE$600,4,FALSE),0)","v":0},{"$f":"IFERROR(VLOOKUP(JP10,MATCHSELEVES!$Y$14:$AE$600,5,FALSE),0)","v":0},{"$f":"IFERROR(VLOOKUP(JP10,MATCHSELEVES!$Y$14:$AF$600,8,FALSE),0)","v":0},{"$f":"IFERROR(VLOOKUP(JP10,MATCHSELEVES!$Y$14:$AG$600,9,FALSE),0)","v":0},"Bilal B.p_4",{"$f":"IFERROR(VLOOKUP(JV10,MATCHSELEVES!$Y$14:$AE$600,3,FALSE),0)","v":0},{"$f":"IFERROR(VLOOKUP(JV10,MATCHSELEVES!$Y$14:$AE$600,4,FALSE),0)","v":0},{"$f":"IFERROR(VLOOKUP(JV10,MATCHSELEVES!$Y$14:$AE$600,5,FALSE),0)","v":0},{"$f":"IFERROR(VLOOKUP(JV10,MATCHSELEVES!$Y$14:$AF$600,8,FALSE),0)","v":0},{"$f":"IFERROR(VLOOKUP(JV10,MATCHSELEVES!$Y$14:$AG$600,9,FALSE),0)","v":0},"Bilal B.p_5",{"$f":"IFERROR(VLOOKUP(KB10,MATCHSELEVES!$Y$14:$AE$600,3,FALSE),0)","v":0},{"$f":"IFERROR(VLOOKUP(KB10,MATCHSELEVES!$Y$14:$AE$600,4,FALSE),0)","v":0},{"$f":"IFERROR(VLOOKUP(KB10,MATCHSELEVES!$Y$14:$AE$600,5,FALSE),0)","v":0},{"$f":"IFERROR(VLOOKUP(KB10,MATCHSELEVES!$Y$14:$AF$600,8,FALSE),0)","v":0},{"$f":"IFERROR(VLOOKUP(KB10,MATCHSELEVES!$Y$14:$AG$600,9,FALSE),0)","v":0},"Bilal B.p_6",{"$f":"IFERROR(VLOOKUP(KH10,MATCHSELEVES!$Y$14:$AE$600,3,FALSE),0)","v":0},{"$f":"IFERROR(VLOOKUP(KH10,MATCHSELEVES!$Y$14:$AE$600,4,FALSE),0)","v":0},{"$f":"IFERROR(VLOOKUP(KH10,MATCHSELEVES!$Y$14:$AE$600,5,FALSE),0)","v":0},{"$f":"IFERROR(VLOOKUP(KH10,MATCHSELEVES!$Y$14:$AF$600,8,FALSE),0)","v":0},{"$f":"IFERROR(VLOOKUP(KH10,MATCHSELEVES!$Y$14:$AG$600,9,FALSE),0)","v":0},"Bilal B.p_7",{"$f":"IFERROR(VLOOKUP(KN10,MATCHSELEVES!$Y$14:$AE$600,3,FALSE),0)","v":0},{"$f":"IFERROR(VLOOKUP(KN10,MATCHSELEVES!$Y$14:$AE$600,4,FALSE),0)","v":0},{"$f":"IFERROR(VLOOKUP(KN10,MATCHSELEVES!$Y$14:$AE$600,5,FALSE),0)","v":0},{"$f":"IFERROR(VLOOKUP(KN10,MATCHSELEVES!$Y$14:$AF$600,8,FALSE),0)","v":0},{"$f":"IFERROR(VLOOKUP(KN10,MATCHSELEVES!$Y$14:$AG$600,9,FALSE),0)","v":0},"Bilal B.p_8",{"$f":"IFERROR(VLOOKUP(KT10,MATCHSELEVES!$Y$14:$AE$600,3,FALSE),0)","v":0},{"$f":"IFERROR(VLOOKUP(KT10,MATCHSELEVES!$Y$14:$AE$600,4,FALSE),0)","v":0},{"$f":"IFERROR(VLOOKUP(KT10,MATCHSELEVES!$Y$14:$AE$600,5,FALSE),0)","v":0},{"$f":"IFERROR(VLOOKUP(KT10,MATCHSELEVES!$Y$14:$AF$600,8,FALSE),0)","v":0},{"$f":"IFERROR(VLOOKUP(KT10,MATCHSELEVES!$Y$14:$AG$600,9,FALSE),0)","v":0},"Bilal B.p_9",{"$f":"IFERROR(VLOOKUP(KZ10,MATCHSELEVES!$Y$14:$AE$600,3,FALSE),0)","v":0},{"$f":"IFERROR(VLOOKUP(KZ10,MATCHSELEVES!$Y$14:$AE$600,4,FALSE),0)","v":0},{"$f":"IFERROR(VLOOKUP(KZ10,MATCHSELEVES!$Y$14:$AE$600,5,FALSE),0)","v":0},{"$f":"IFERROR(VLOOKUP(KZ10,MATCHSELEVES!$Y$14:$AF$600,8,FALSE),0)","v":0},{"$f":"IFERROR(VLOOKUP(KZ10,MATCHSELEVES!$Y$14:$AG$600,9,FALSE),0)","v":0},"Bilal B.p_10",{"$f":"IFERROR(VLOOKUP(LF10,MATCHSELEVES!$Y$14:$AE$600,3,FALSE),0)","v":0},{"$f":"IFERROR(VLOOKUP(LF10,MATCHSELEVES!$Y$14:$AE$600,4,FALSE),0)","v":0},{"$f":"IFERROR(VLOOKUP(LF10,MATCHSELEVES!$Y$14:$AE$600,5,FALSE),0)","v":0},{"$f":"IFERROR(VLOOKUP(LF10,MATCHSELEVES!$Y$14:$AF$600,8,FALSE),0)","v":0},{"$f":"IFERROR(VLOOKUP(LF10,MATCHSELEVES!$Y$14:$AG$600,9,FALSE),0)","v":0},"Bilal B.p_11",{"$f":"IFERROR(VLOOKUP(LL10,MATCHSELEVES!$Y$14:$AE$600,3,FALSE),0)","v":0},{"$f":"IFERROR(VLOOKUP(LL10,MATCHSELEVES!$Y$14:$AE$600,4,FALSE),0)","v":0},{"$f":"IFERROR(VLOOKUP(LL10,MATCHSELEVES!$Y$14:$AE$600,5,FALSE),0)","v":0},{"$f":"IFERROR(VLOOKUP(LL10,MATCHSELEVES!$Y$14:$AF$600,8,FALSE),0)","v":0},{"$f":"IFERROR(VLOOKUP(LL10,MATCHSELEVES!$Y$14:$AG$600,9,FALSE),0)","v":0},"Bilal B.p_12",{"$f":"IFERROR(VLOOKUP(LR10,MATCHSELEVES!$Y$14:$AE$600,3,FALSE),0)","v":0},{"$f":"IFERROR(VLOOKUP(LR10,MATCHSELEVES!$Y$14:$AE$600,4,FALSE),0)","v":0},{"$f":"IFERROR(VLOOKUP(LR10,MATCHSELEVES!$Y$14:$AE$600,5,FALSE),0)","v":0},{"$f":"IFERROR(VLOOKUP(LR10,MATCHSELEVES!$Y$14:$AF$600,8,FALSE),0)","v":0},{"$f":"IFERROR(VLOOKUP(LR10,MATCHSELEVES!$Y$14:$AG$600,9,FALSE),0)","v":0},"Bilal B.p_13",{"$f":"IFERROR(VLOOKUP(LX10,MATCHSELEVES!$Y$14:$AE$600,3,FALSE),0)","v":0},{"$f":"IFERROR(VLOOKUP(LX10,MATCHSELEVES!$Y$14:$AE$600,4,FALSE),0)","v":0},{"$f":"IFERROR(VLOOKUP(LX10,MATCHSELEVES!$Y$14:$AE$600,5,FALSE),0)","v":0},{"$f":"IFERROR(VLOOKUP(LX10,MATCHSELEVES!$Y$14:$AF$600,8,FALSE),0)","v":0},{"$f":"IFERROR(VLOOKUP(LX10,MATCHSELEVES!$Y$14:$AG$600,9,FALSE),0)","v":0},"Bilal B.p_14",{"$f":"IFERROR(VLOOKUP(MD10,MATCHSELEVES!$Y$14:$AE$600,3,FALSE),0)","v":0},{"$f":"IFERROR(VLOOKUP(MD10,MATCHSELEVES!$Y$14:$AE$600,4,FALSE),0)","v":0},{"$f":"IFERROR(VLOOKUP(MD10,MATCHSELEVES!$Y$14:$AE$600,5,FALSE),0)","v":0},{"$f":"IFERROR(VLOOKUP(MD10,MATCHSELEVES!$Y$14:$AF$600,8,FALSE),0)","v":0},{"$f":"IFERROR(VLOOKUP(MD10,MATCHSELEVES!$Y$14:$AG$600,9,FALSE),0)","v":0},"Bilal B.p_15",{"$f":"IFERROR(VLOOKUP(MJ10,MATCHSELEVES!$Y$14:$AE$600,3,FALSE),0)","v":0},{"$f":"IFERROR(VLOOKUP(MJ10,MATCHSELEVES!$Y$14:$AE$600,4,FALSE),0)","v":0},{"$f":"IFERROR(VLOOKUP(MJ10,MATCHSELEVES!$Y$14:$AE$600,5,FALSE),0)","v":0},{"$f":"IFERROR(VLOOKUP(MJ10,MATCHSELEVES!$Y$14:$AF$600,8,FALSE),0)","v":0},{"$f":"IFERROR(VLOOKUP(MJ10,MATCHSELEVES!$Y$14:$AG$600,9,FALSE),0)","v":0},"Bilal B.p_16",{"$f":"IFERROR(VLOOKUP(MP10,MATCHSELEVES!$Y$14:$AE$600,3,FALSE),0)","v":0},{"$f":"IFERROR(VLOOKUP(MP10,MATCHSELEVES!$Y$14:$AE$600,4,FALSE),0)","v":0},{"$f":"IFERROR(VLOOKUP(MP10,MATCHSELEVES!$Y$14:$AE$600,5,FALSE),0)","v":0},{"$f":"IFERROR(VLOOKUP(MP10,MATCHSELEVES!$Y$14:$AF$600,8,FALSE),0)","v":0},{"$f":"IFERROR(VLOOKUP(MP10,MATCHSELEVES!$Y$14:$AG$600,9,FALSE),0)","v":0},"Bilal B.p_17",{"$f":"IFERROR(VLOOKUP(MV10,MATCHSELEVES!$Y$14:$AE$600,3,FALSE),0)","v":0},{"$f":"IFERROR(VLOOKUP(MV10,MATCHSELEVES!$Y$14:$AE$600,4,FALSE),0)","v":0},{"$f":"IFERROR(VLOOKUP(MV10,MATCHSELEVES!$Y$14:$AE$600,5,FALSE),0)","v":0},{"$f":"IFERROR(VLOOKUP(MV10,MATCHSELEVES!$Y$14:$AF$600,8,FALSE),0)","v":0},{"$f":"IFERROR(VLOOKUP(MV10,MATCHSELEVES!$Y$14:$AG$600,9,FALSE),0)","v":0},"Bilal B.p_18",{"$f":"IFERROR(VLOOKUP(NB10,MATCHSELEVES!$Y$14:$AE$600,3,FALSE),0)","v":0},{"$f":"IFERROR(VLOOKUP(NB10,MATCHSELEVES!$Y$14:$AE$600,4,FALSE),0)","v":0},{"$f":"IFERROR(VLOOKUP(NB10,MATCHSELEVES!$Y$14:$AE$600,5,FALSE),0)","v":0},{"$f":"IFERROR(VLOOKUP(NB10,MATCHSELEVES!$Y$14:$AF$600,8,FALSE),0)","v":0},{"$f":"IFERROR(VLOOKUP(NB10,MATCHSELEVES!$Y$14:$AG$600,9,FALSE),0)","v":0},"Bilal B.p_19",{"$f":"IFERROR(VLOOKUP(NH10,MATCHSELEVES!$Y$14:$AE$600,3,FALSE),0)","v":0},{"$f":"IFERROR(VLOOKUP(NH10,MATCHSELEVES!$Y$14:$AE$600,4,FALSE),0)","v":0},{"$f":"IFERROR(VLOOKUP(NH10,MATCHSELEVES!$Y$14:$AE$600,5,FALSE),0)","v":0},{"$f":"IFERROR(VLOOKUP(NH10,MATCHSELEVES!$Y$14:$AF$600,8,FALSE),0)","v":0},{"$f":"IFERROR(VLOOKUP(NH10,MATCHSELEVES!$Y$14:$AG$600,9,FALSE),0)","v":0},"Bilal B.p_20",{"$f":"IFERROR(VLOOKUP(NN10,MATCHSELEVES!$Y$14:$AE$600,3,FALSE),0)","v":0},{"$f":"IFERROR(VLOOKUP(NN10,MATCHSELEVES!$Y$14:$AE$600,4,FALSE),0)","v":0},{"$f":"IFERROR(VLOOKUP(NN10,MATCHSELEVES!$Y$14:$AE$600,5,FALSE),0)","v":0},{"$f":"IFERROR(VLOOKUP(NN10,MATCHSELEVES!$Y$14:$AF$600,8,FALSE),0)","v":0},{"$f":"IFERROR(VLOOKUP(NN10,MATCHSELEVES!$Y$14:$AG$600,9,FALSE),0)","v":0},"Bilal B.p_21",{"$f":"IFERROR(VLOOKUP(NT10,MATCHSELEVES!$Y$14:$AE$600,3,FALSE),0)","v":0},{"$f":"IFERROR(VLOOKUP(NT10,MATCHSELEVES!$Y$14:$AE$600,4,FALSE),0)","v":0},{"$f":"IFERROR(VLOOKUP(NT10,MATCHSELEVES!$Y$14:$AE$600,5,FALSE),0)","v":0},{"$f":"IFERROR(VLOOKUP(NT10,MATCHSELEVES!$Y$14:$AF$600,8,FALSE),0)","v":0},{"$f":"IFERROR(VLOOKUP(NT10,MATCHSELEVES!$Y$14:$AG$600,9,FALSE),0)","v":0},"Bilal B.p_22",{"$f":"IFERROR(VLOOKUP(NZ10,MATCHSELEVES!$Y$14:$AE$600,3,FALSE),0)","v":0},{"$f":"IFERROR(VLOOKUP(NZ10,MATCHSELEVES!$Y$14:$AE$600,4,FALSE),0)","v":0},{"$f":"IFERROR(VLOOKUP(NZ10,MATCHSELEVES!$Y$14:$AE$600,5,FALSE),0)","v":0},{"$f":"IFERROR(VLOOKUP(NZ10,MATCHSELEVES!$Y$14:$AF$600,8,FALSE),0)","v":0},{"$f":"IFERROR(VLOOKUP(NZ10,MATCHSELEVES!$Y$14:$AG$600,9,FALSE),0)","v":0},"Bilal B.p_23",{"$f":"IFERROR(VLOOKUP(OF10,MATCHSELEVES!$Y$14:$AE$600,3,FALSE),0)","v":0},{"$f":"IFERROR(VLOOKUP(OF10,MATCHSELEVES!$Y$14:$AE$600,4,FALSE),0)","v":0},{"$f":"IFERROR(VLOOKUP(OF10,MATCHSELEVES!$Y$14:$AE$600,5,FALSE),0)","v":0},{"$f":"IFERROR(VLOOKUP(OF10,MATCHSELEVES!$Y$14:$AF$600,8,FALSE),0)","v":0},{"$f":"IFERROR(VLOOKUP(OF10,MATCHSELEVES!$Y$14:$AG$600,9,FALSE),0)","v":0},"Bilal B.p_24",{"$f":"IFERROR(VLOOKUP(OL10,MATCHSELEVES!$Y$14:$AE$600,3,FALSE),0)","v":0},{"$f":"IFERROR(VLOOKUP(OL10,MATCHSELEVES!$Y$14:$AE$600,4,FALSE),0)","v":0},{"$f":"IFERROR(VLOOKUP(OL10,MATCHSELEVES!$Y$14:$AE$600,5,FALSE),0)","v":0},{"$f":"IFERROR(VLOOKUP(OL10,MATCHSELEVES!$Y$14:$AF$600,8,FALSE),0)","v":0},{"$f":"IFERROR(VLOOKUP(OL10,MATCHSELEVES!$Y$14:$AG$600,9,FALSE),0)","v":0},"Bilal B.p_25",{"$f":"IFERROR(VLOOKUP(OR10,MATCHSELEVES!$Y$14:$AE$600,3,FALSE),0)","v":0},{"$f":"IFERROR(VLOOKUP(OR10,MATCHSELEVES!$Y$14:$AE$600,4,FALSE),0)","v":0},{"$f":"IFERROR(VLOOKUP(OR10,MATCHSELEVES!$Y$14:$AE$600,5,FALSE),0)","v":0},{"$f":"IFERROR(VLOOKUP(OR10,MATCHSELEVES!$Y$14:$AF$600,8,FALSE),0)","v":0},{"$f":"IFERROR(VLOOKUP(OR10,MATCHSELEVES!$Y$14:$AG$600,9,FALSE),0)","v":0},"Bilal B.p_26",{"$f":"IFERROR(VLOOKUP(OX10,MATCHSELEVES!$Y$14:$AE$600,3,FALSE),0)","v":0},{"$f":"IFERROR(VLOOKUP(OX10,MATCHSELEVES!$Y$14:$AE$600,4,FALSE),0)","v":0},{"$f":"IFERROR(VLOOKUP(OX10,MATCHSELEVES!$Y$14:$AE$600,5,FALSE),0)","v":0},{"$f":"IFERROR(VLOOKUP(OX10,MATCHSELEVES!$Y$14:$AF$600,8,FALSE),0)","v":0},{"$f":"IFERROR(VLOOKUP(OX10,MATCHSELEVES!$Y$14:$AG$600,9,FALSE),0)","v":0},"Bilal B.p_27",{"$f":"IFERROR(VLOOKUP(PD10,MATCHSELEVES!$Y$14:$AE$600,3,FALSE),0)","v":0},{"$f":"IFERROR(VLOOKUP(PD10,MATCHSELEVES!$Y$14:$AE$600,4,FALSE),0)","v":0},{"$f":"IFERROR(VLOOKUP(PD10,MATCHSELEVES!$Y$14:$AE$600,5,FALSE),0)","v":0},{"$f":"IFERROR(VLOOKUP(PD10,MATCHSELEVES!$Y$14:$AF$600,8,FALSE),0)","v":0},{"$f":"IFERROR(VLOOKUP(PD10,MATCHSELEVES!$Y$14:$AG$600,9,FALSE),0)","v":0},"Bilal B.p_28",{"$f":"IFERROR(VLOOKUP(PJ10,MATCHSELEVES!$Y$14:$AE$600,3,FALSE),0)","v":0},{"$f":"IFERROR(VLOOKUP(PJ10,MATCHSELEVES!$Y$14:$AE$600,4,FALSE),0)","v":0},{"$f":"IFERROR(VLOOKUP(PJ10,MATCHSELEVES!$Y$14:$AE$600,5,FALSE),0)","v":0},{"$f":"IFERROR(VLOOKUP(PJ10,MATCHSELEVES!$Y$14:$AF$600,8,FALSE),0)","v":0},{"$f":"IFERROR(VLOOKUP(PJ10,MATCHSELEVES!$Y$14:$AG$600,9,FALSE),0)","v":0},"Bilal B.p_29",{"$f":"IFERROR(VLOOKUP(PP10,MATCHSELEVES!$Y$14:$AE$600,3,FALSE),0)","v":0},{"$f":"IFERROR(VLOOKUP(PP10,MATCHSELEVES!$Y$14:$AE$600,4,FALSE),0)","v":0},{"$f":"IFERROR(VLOOKUP(PP10,MATCHSELEVES!$Y$14:$AE$600,5,FALSE),0)","v":0},{"$f":"IFERROR(VLOOKUP(PP10,MATCHSELEVES!$Y$14:$AF$600,8,FALSE),0)","v":0},{"$f":"IFERROR(VLOOKUP(PP10,MATCHSELEVES!$Y$14:$AG$600,9,FALSE),0)","v":0},"Bilal B.p_30",{"$f":"IFERROR(VLOOKUP(PV10,MATCHSELEVES!$Y$14:$AE$600,3,FALSE),0)","v":0},{"$f":"IFERROR(VLOOKUP(PV10,MATCHSELEVES!$Y$14:$AE$600,4,FALSE),0)","v":0},{"$f":"IFERROR(VLOOKUP(PV10,MATCHSELEVES!$Y$14:$AE$600,5,FALSE),0)","v":0},{"$f":"IFERROR(VLOOKUP(PV10,MATCHSELEVES!$Y$14:$AF$600,8,FALSE),0)","v":0},{"$f":"IFERROR(VLOOKUP(PV10,MATCHSELEVES!$Y$14:$AG$600,9,FALSE),0)","v":0},"Bilal B.p_31",{"$f":"IFERROR(VLOOKUP(QB10,MATCHSELEVES!$Y$14:$AE$600,3,FALSE),0)","v":0},{"$f":"IFERROR(VLOOKUP(QB10,MATCHSELEVES!$Y$14:$AE$600,4,FALSE),0)","v":0},{"$f":"IFERROR(VLOOKUP(QB10,MATCHSELEVES!$Y$14:$AE$600,5,FALSE),0)","v":0},{"$f":"IFERROR(VLOOKUP(QB10,MATCHSELEVES!$Y$14:$AF$600,8,FALSE),0)","v":0},{"$f":"IFERROR(VLOOKUP(QB10,MATCHSELEVES!$Y$14:$AG$600,9,FALSE),0)","v":0},"Bilal B.p_32",{"$f":"IFERROR(VLOOKUP(QH10,MATCHSELEVES!$Y$14:$AE$600,3,FALSE),0)","v":0},{"$f":"IFERROR(VLOOKUP(QH10,MATCHSELEVES!$Y$14:$AE$600,4,FALSE),0)","v":0},{"$f":"IFERROR(VLOOKUP(QH10,MATCHSELEVES!$Y$14:$AE$600,5,FALSE),0)","v":0},{"$f":"IFERROR(VLOOKUP(QH10,MATCHSELEVES!$Y$14:$AF$600,8,FALSE),0)","v":0},{"$f":"IFERROR(VLOOKUP(QH10,MATCHSELEVES!$Y$14:$AG$600,9,FALSE),0)","v":0},"Bilal B.p_33",{"$f":"IFERROR(VLOOKUP(QN10,MATCHSELEVES!$Y$14:$AE$600,3,FALSE),0)","v":0},{"$f":"IFERROR(VLOOKUP(QN10,MATCHSELEVES!$Y$14:$AE$600,4,FALSE),0)","v":0},{"$f":"IFERROR(VLOOKUP(QN10,MATCHSELEVES!$Y$14:$AE$600,5,FALSE),0)","v":0},{"$f":"IFERROR(VLOOKUP(QN10,MATCHSELEVES!$Y$14:$AF$600,8,FALSE),0)","v":0},{"$f":"IFERROR(VLOOKUP(QN10,MATCHSELEVES!$Y$14:$AG$600,9,FALSE),0)","v":0},"Bilal B.p_34",{"$f":"IFERROR(VLOOKUP(QT10,MATCHSELEVES!$Y$14:$AE$600,3,FALSE),0)","v":0},{"$f":"IFERROR(VLOOKUP(QT10,MATCHSELEVES!$Y$14:$AE$600,4,FALSE),0)","v":0},{"$f":"IFERROR(VLOOKUP(QT10,MATCHSELEVES!$Y$14:$AE$600,5,FALSE),0)","v":0},{"$f":"IFERROR(VLOOKUP(QT10,MATCHSELEVES!$Y$14:$AF$600,8,FALSE),0)","v":0},{"$f":"IFERROR(VLOOKUP(QT10,MATCHSELEVES!$Y$14:$AG$600,9,FALSE),0)","v":0},"Bilal B.p_35",{"$f":"IFERROR(VLOOKUP(QZ10,MATCHSELEVES!$Y$14:$AE$600,3,FALSE),0)","v":0},{"$f":"IFERROR(VLOOKUP(QZ10,MATCHSELEVES!$Y$14:$AE$600,4,FALSE),0)","v":0},{"$f":"IFERROR(VLOOKUP(QZ10,MATCHSELEVES!$Y$14:$AE$600,5,FALSE),0)","v":0},{"$f":"IFERROR(VLOOKUP(QZ10,MATCHSELEVES!$Y$14:$AF$600,8,FALSE),0)","v":0},{"$f":"IFERROR(VLOOKUP(QZ10,MATCHSELEVES!$Y$14:$AG$600,9,FALSE),0)","v":0},"Bilal B.p_36",{"$f":"IFERROR(VLOOKUP(RF10,MATCHSELEVES!$Y$14:$AE$600,3,FALSE),0)","v":0},{"$f":"IFERROR(VLOOKUP(RF10,MATCHSELEVES!$Y$14:$AE$600,4,FALSE),0)","v":0},{"$f":"IFERROR(VLOOKUP(RF10,MATCHSELEVES!$Y$14:$AE$600,5,FALSE),0)","v":0},{"$f":"IFERROR(VLOOKUP(RF10,MATCHSELEVES!$Y$14:$AF$600,8,FALSE),0)","v":0},{"$f":"IFERROR(VLOOKUP(RF10,MATCHSELEVES!$Y$14:$AG$600,9,FALSE),0)","v":0},"Bilal B.p_37",{"$f":"IFERROR(VLOOKUP(RL10,MATCHSELEVES!$Y$14:$AE$600,3,FALSE),0)","v":0},{"$f":"IFERROR(VLOOKUP(RL10,MATCHSELEVES!$Y$14:$AE$600,4,FALSE),0)","v":0},{"$f":"IFERROR(VLOOKUP(RL10,MATCHSELEVES!$Y$14:$AE$600,5,FALSE),0)","v":0},{"$f":"IFERROR(VLOOKUP(RL10,MATCHSELEVES!$Y$14:$AF$600,8,FALSE),0)","v":0},{"$f":"IFERROR(VLOOKUP(RL10,MATCHSELEVES!$Y$14:$AG$600,9,FALSE),0)","v":0},"Bilal B.p_38",{"$f":"IFERROR(VLOOKUP(RR10,MATCHSELEVES!$Y$14:$AE$600,3,FALSE),0)","v":0},{"$f":"IFERROR(VLOOKUP(RR10,MATCHSELEVES!$Y$14:$AE$600,4,FALSE),0)","v":0},{"$f":"IFERROR(VLOOKUP(RR10,MATCHSELEVES!$Y$14:$AE$600,5,FALSE),0)","v":0},{"$f":"IFERROR(VLOOKUP(RR10,MATCHSELEVES!$Y$14:$AF$600,8,FALSE),0)","v":0},{"$f":"IFERROR(VLOOKUP(RR10,MATCHSELEVES!$Y$14:$AG$600,9,FALSE),0)","v":0},"Bilal B.p_39",{"$f":"IFERROR(VLOOKUP(RX10,MATCHSELEVES!$Y$14:$AE$600,3,FALSE),0)","v":0},{"$f":"IFERROR(VLOOKUP(RX10,MATCHSELEVES!$Y$14:$AE$600,4,FALSE),0)","v":0},{"$f":"IFERROR(VLOOKUP(RX10,MATCHSELEVES!$Y$14:$AE$600,5,FALSE),0)","v":0},{"$f":"IFERROR(VLOOKUP(RX10,MATCHSELEVES!$Y$14:$AF$600,8,FALSE),0)","v":0},{"$f":"IFERROR(VLOOKUP(RX10,MATCHSELEVES!$Y$14:$AG$600,9,FALSE),0)","v":0},"Bilal B.p_40",{"$f":"IFERROR(VLOOKUP(SD10,MATCHSELEVES!$Y$14:$AE$600,3,FALSE),0)","v":0},{"$f":"IFERROR(VLOOKUP(SD10,MATCHSELEVES!$Y$14:$AE$600,4,FALSE),0)","v":0},{"$f":"IFERROR(VLOOKUP(SD10,MATCHSELEVES!$Y$14:$AE$600,5,FALSE),0)","v":0},{"$f":"IFERROR(VLOOKUP(SD10,MATCHSELEVES!$Y$14:$AF$600,8,FALSE),0)","v":0},{"$f":"IFERROR(VLOOKUP(SD10,MATCHSELEVES!$Y$14:$AG$600,9,FALSE),0)","v":0}]
[8,null,{"$f":"MD1POINT!C11","v":"Bilal S."},{"$f":"MD1POINT!D11","v":1},{"$f":"COUNTIF(MATCHSELEVES!$Z$14:$Z$600,C11)+COUNTIF(MATCHSELEVES!$Z$14:$Z$600,$C11&\"p\")","v":0},1,{"$f":"COUNTIF(MATCHSELEVES!$F$14:$H$249,C11)","v":0},1,0,1,0,1,0,1,{"$f":"Y11+AE11+AK11+AQ11+AW11+BC11+BI11+BO11+BU11+CA11+CG11+CM11+CS11+CY11+DE11+DK11+DQ11+DW11+EC11+EI11+EO11+EU11+FA11+FG11+FM11+FS11+FY11+GE11+GK11+GQ11+GW11+4+HI11+HO11+HU11+IA11+HC11+IG11+IM11+IY11+IS11+JH11+JN11+JZ11+JT11+KF11+KR11+KX11+LJ11+LP11+LV11+LD11+MB11+MH11+MN11+MZ11+MT11+NF11+NL11+NR11+NX11+OD11+OJ11+OP11+OV11+PB11+PH11+PT11+PN11+PZ11+QF11+QL11+QR11+RD11+QX11+RJ11+RP11+RV11+SB11+SH11+KL11+Tableau10[[#This Row],[Nombre de matchs joués]]*2","v":4},1,{"$f":"(Tableau10[[#This Row],[CLASSEMENT1]]+Tableau10[[#This Row],[CLASSEMENT2]]+Tableau10[[#This Row],[CLASSEMENT3]]+Tableau10[[#This Row],[CLASSEMENT4]]+Tableau10[[#This Row],[CLASSEMENT5]]+Tableau10[[#This Row],[CLASSEMENT6]])/6","v":1},{"$f":"RANK(Tableau10[[#This Row],[MOYENNE CLASSEMENTS]],Tableau10[MOYENNE CLASSEMENTS],1)","v":1},null,{"$f":"Tableau10[[#This Row],[CLASSEMENT1]]","v":1},"Bilal S._1",{"$f":"IFERROR(VLOOKUP(U11,MATCHSELEVES!$Y$14:$AE$600,3,FALSE),0)","v":0},{"$f":"IFERROR(VLOOKUP(U11,MATCHSELEVES!$Y$14:$AE$600,4,FALSE),0)","v":0},{"$f":"IFERROR(VLOOKUP(U11,MATCHSELEVES!$Y$14:$AE$600,5,FALSE),0)","v":0},{"$f":"IFERROR(VLOOKUP(U11,MATCHSELEVES!$Y$14:$AF$600,8,FALSE),0)","v":0},{"$f":"IFERROR(VLOOKUP(U11,MATCHSELEVES!$Y$14:$AG$600,9,FALSE),0)","v":0},"Bilal S._2",{"$f":"IFERROR(VLOOKUP(AA11,MATCHSELEVES!$Y$14:$AE$600,3,FALSE),0)","v":0},{"$f":"IFERROR(VLOOKUP(AA11,MATCHSELEVES!$Y$14:$AE$600,4,FALSE),0)","v":0},{"$f":"IFERROR(VLOOKUP(AA11,MATCHSELEVES!$Y$14:$AE$600,5,FALSE),0)","v":0},{"$f":"IFERROR(VLOOKUP(AA11,MATCHSELEVES!$Y$14:$AF$600,8,FALSE),0)","v":0},{"$f":"IFERROR(VLOOKUP(AA11,MATCHSELEVES!$Y$14:$AG$600,9,FALSE),0)","v":0},"Bilal S._3",{"$f":"IFERROR(VLOOKUP(AG11,MATCHSELEVES!$Y$14:$AE$600,3,FALSE),0)","v":0},{"$f":"IFERROR(VLOOKUP(AG11,MATCHSELEVES!$Y$14:$AE$600,4,FALSE),0)","v":0},{"$f":"IFERROR(VLOOKUP(AG11,MATCHSELEVES!$Y$14:$AE$600,5,FALSE),0)","v":0},{"$f":"IFERROR(VLOOKUP(AG11,MATCHSELEVES!$Y$14:$AF$600,8,FALSE),0)","v":0},{"$f":"IFERROR(VLOOKUP(AG11,MATCHSELEVES!$Y$14:$AG$600,9,FALSE),0)","v":0},"Bilal S._4",{"$f":"IFERROR(VLOOKUP(AM11,MATCHSELEVES!$Y$14:$AE$600,3,FALSE),0)","v":0},{"$f":"IFERROR(VLOOKUP(AM11,MATCHSELEVES!$Y$14:$AE$600,4,FALSE),0)","v":0},{"$f":"IFERROR(VLOOKUP(AM11,MATCHSELEVES!$Y$14:$AE$600,5,FALSE),0)","v":0},{"$f":"IFERROR(VLOOKUP(AM11,MATCHSELEVES!$Y$14:$AF$600,8,FALSE),0)","v":0},{"$f":"IFERROR(VLOOKUP(AM11,MATCHSELEVES!$Y$14:$AG$600,9,FALSE),0)","v":0},"Bilal S._5",{"$f":"IFERROR(VLOOKUP(AS11,MATCHSELEVES!$Y$14:$AE$600,3,FALSE),0)","v":0},{"$f":"IFERROR(VLOOKUP(AS11,MATCHSELEVES!$Y$14:$AE$600,4,FALSE),0)","v":0},{"$f":"IFERROR(VLOOKUP(AS11,MATCHSELEVES!$Y$14:$AE$600,5,FALSE),0)","v":0},{"$f":"IFERROR(VLOOKUP(AS11,MATCHSELEVES!$Y$14:$AF$600,8,FALSE),0)","v":0},{"$f":"IFERROR(VLOOKUP(AS11,MATCHSELEVES!$Y$14:$AG$600,9,FALSE),0)","v":0},"Bilal S._6",{"$f":"IFERROR(VLOOKUP(AY11,MATCHSELEVES!$Y$14:$AE$600,3,FALSE),0)","v":0},{"$f":"IFERROR(VLOOKUP(AY11,MATCHSELEVES!$Y$14:$AE$600,4,FALSE),0)","v":0},{"$f":"IFERROR(VLOOKUP(AY11,MATCHSELEVES!$Y$14:$AE$600,5,FALSE),0)","v":0},{"$f":"IFERROR(VLOOKUP(AY11,MATCHSELEVES!$Y$14:$AF$600,8,FALSE),0)","v":0},{"$f":"IFERROR(VLOOKUP(AY11,MATCHSELEVES!$Y$14:$AG$600,9,FALSE),0)","v":0},"Bilal S._7",{"$f":"IFERROR(VLOOKUP(BE11,MATCHSELEVES!$Y$14:$AE$600,3,FALSE),0)","v":0},{"$f":"IFERROR(VLOOKUP(BE11,MATCHSELEVES!$Y$14:$AE$600,4,FALSE),0)","v":0},{"$f":"IFERROR(VLOOKUP(BE11,MATCHSELEVES!$Y$14:$AE$600,5,FALSE),0)","v":0},{"$f":"IFERROR(VLOOKUP(BE11,MATCHSELEVES!$Y$14:$AF$600,8,FALSE),0)","v":0},{"$f":"IFERROR(VLOOKUP(BE11,MATCHSELEVES!$Y$14:$AG$600,9,FALSE),0)","v":0},"Bilal S._8",{"$f":"IFERROR(VLOOKUP(BK11,MATCHSELEVES!$Y$14:$AE$600,3,FALSE),0)","v":0},{"$f":"IFERROR(VLOOKUP(BK11,MATCHSELEVES!$Y$14:$AE$600,4,FALSE),0)","v":0},{"$f":"IFERROR(VLOOKUP(BK11,MATCHSELEVES!$Y$14:$AE$600,5,FALSE),0)","v":0},{"$f":"IFERROR(VLOOKUP(BK11,MATCHSELEVES!$Y$14:$AF$600,8,FALSE),0)","v":0},{"$f":"IFERROR(VLOOKUP(BK11,MATCHSELEVES!$Y$14:$AG$600,9,FALSE),0)","v":0},"Bilal S._9",{"$f":"IFERROR(VLOOKUP(BQ11,MATCHSELEVES!$Y$14:$AE$600,3,FALSE),0)","v":0},{"$f":"IFERROR(VLOOKUP(BQ11,MATCHSELEVES!$Y$14:$AE$600,4,FALSE),0)","v":0},{"$f":"IFERROR(VLOOKUP(BQ11,MATCHSELEVES!$Y$14:$AE$600,5,FALSE),0)","v":0},{"$f":"IFERROR(VLOOKUP(BQ11,MATCHSELEVES!$Y$14:$AF$600,8,FALSE),0)","v":0},{"$f":"IFERROR(VLOOKUP(BQ11,MATCHSELEVES!$Y$14:$AG$600,9,FALSE),0)","v":0},"Bilal S._10",{"$f":"IFERROR(VLOOKUP(BW11,MATCHSELEVES!$Y$14:$AE$600,3,FALSE),0)","v":0},{"$f":"IFERROR(VLOOKUP(BW11,MATCHSELEVES!$Y$14:$AE$600,4,FALSE),0)","v":0},{"$f":"IFERROR(VLOOKUP(BW11,MATCHSELEVES!$Y$14:$AE$600,5,FALSE),0)","v":0},{"$f":"IFERROR(VLOOKUP(BW11,MATCHSELEVES!$Y$14:$AF$600,8,FALSE),0)","v":0},{"$f":"IFERROR(VLOOKUP(BW11,MATCHSELEVES!$Y$14:$AG$600,9,FALSE),0)","v":0},"Bilal S._11",{"$f":"IFERROR(VLOOKUP(CC11,MATCHSELEVES!$Y$14:$AE$600,3,FALSE),0)","v":0},{"$f":"IFERROR(VLOOKUP(CC11,MATCHSELEVES!$Y$14:$AE$600,4,FALSE),0)","v":0},{"$f":"IFERROR(VLOOKUP(CC11,MATCHSELEVES!$Y$14:$AE$600,5,FALSE),0)","v":0},{"$f":"IFERROR(VLOOKUP(CC11,MATCHSELEVES!$Y$14:$AF$600,8,FALSE),0)","v":0},{"$f":"IFERROR(VLOOKUP(CC11,MATCHSELEVES!$Y$14:$AG$600,9,FALSE),0)","v":0},"Bilal S._12",{"$f":"IFERROR(VLOOKUP(CI11,MATCHSELEVES!$Y$14:$AE$600,3,FALSE),0)","v":0},{"$f":"IFERROR(VLOOKUP(CI11,MATCHSELEVES!$Y$14:$AE$600,4,FALSE),0)","v":0},{"$f":"IFERROR(VLOOKUP(CI11,MATCHSELEVES!$Y$14:$AE$600,5,FALSE),0)","v":0},{"$f":"IFERROR(VLOOKUP(CI11,MATCHSELEVES!$Y$14:$AF$600,8,FALSE),0)","v":0},{"$f":"IFERROR(VLOOKUP(CI11,MATCHSELEVES!$Y$14:$AG$600,9,FALSE),0)","v":0},"Bilal S._13",{"$f":"IFERROR(VLOOKUP(CO11,MATCHSELEVES!$Y$14:$AE$600,3,FALSE),0)","v":0},{"$f":"IFERROR(VLOOKUP(CO11,MATCHSELEVES!$Y$14:$AE$600,4,FALSE),0)","v":0},{"$f":"IFERROR(VLOOKUP(CO11,MATCHSELEVES!$Y$14:$AE$600,5,FALSE),0)","v":0},{"$f":"IFERROR(VLOOKUP(CO11,MATCHSELEVES!$Y$14:$AF$600,8,FALSE),0)","v":0},{"$f":"IFERROR(VLOOKUP(CO11,MATCHSELEVES!$Y$14:$AG$600,9,FALSE),0)","v":0},"Bilal S._14",{"$f":"IFERROR(VLOOKUP(CU11,MATCHSELEVES!$Y$14:$AE$600,3,FALSE),0)","v":0},{"$f":"IFERROR(VLOOKUP(CU11,MATCHSELEVES!$Y$14:$AE$600,4,FALSE),0)","v":0},{"$f":"IFERROR(VLOOKUP(CU11,MATCHSELEVES!$Y$14:$AE$600,5,FALSE),0)","v":0},{"$f":"IFERROR(VLOOKUP(CU11,MATCHSELEVES!$Y$14:$AF$600,8,FALSE),0)","v":0},{"$f":"IFERROR(VLOOKUP(CU11,MATCHSELEVES!$Y$14:$AG$600,9,FALSE),0)","v":0},"Bilal S._15",{"$f":"IFERROR(VLOOKUP(DA11,MATCHSELEVES!$Y$14:$AE$600,3,FALSE),0)","v":0},{"$f":"IFERROR(VLOOKUP(DA11,MATCHSELEVES!$Y$14:$AE$600,4,FALSE),0)","v":0},{"$f":"IFERROR(VLOOKUP(DA11,MATCHSELEVES!$Y$14:$AE$600,5,FALSE),0)","v":0},{"$f":"IFERROR(VLOOKUP(DA11,MATCHSELEVES!$Y$14:$AF$600,8,FALSE),0)","v":0},{"$f":"IFERROR(VLOOKUP(DA11,MATCHSELEVES!$Y$14:$AG$600,9,FALSE),0)","v":0},"Bilal S._16",{"$f":"IFERROR(VLOOKUP(DG11,MATCHSELEVES!$Y$14:$AE$600,3,FALSE),0)","v":0},{"$f":"IFERROR(VLOOKUP(DG11,MATCHSELEVES!$Y$14:$AE$600,4,FALSE),0)","v":0},{"$f":"IFERROR(VLOOKUP(DG11,MATCHSELEVES!$Y$14:$AE$600,5,FALSE),0)","v":0},{"$f":"IFERROR(VLOOKUP(DG11,MATCHSELEVES!$Y$14:$AF$600,8,FALSE),0)","v":0},{"$f":"IFERROR(VLOOKUP(DG11,MATCHSELEVES!$Y$14:$AG$600,9,FALSE),0)","v":0},"Bilal S._17",{"$f":"IFERROR(VLOOKUP(DM11,MATCHSELEVES!$Y$14:$AE$600,3,FALSE),0)","v":0},{"$f":"IFERROR(VLOOKUP(DM11,MATCHSELEVES!$Y$14:$AE$600,4,FALSE),0)","v":0},{"$f":"IFERROR(VLOOKUP(DM11,MATCHSELEVES!$Y$14:$AE$600,5,FALSE),0)","v":0},{"$f":"IFERROR(VLOOKUP(DM11,MATCHSELEVES!$Y$14:$AF$600,8,FALSE),0)","v":0},{"$f":"IFERROR(VLOOKUP(DM11,MATCHSELEVES!$Y$14:$AG$600,9,FALSE),0)","v":0},"Bilal S._18",{"$f":"IFERROR(VLOOKUP(DS11,MATCHSELEVES!$Y$14:$AE$600,3,FALSE),0)","v":0},{"$f":"IFERROR(VLOOKUP(DS11,MATCHSELEVES!$Y$14:$AE$600,4,FALSE),0)","v":0},{"$f":"IFERROR(VLOOKUP(DS11,MATCHSELEVES!$Y$14:$AE$600,5,FALSE),0)","v":0},{"$f":"IFERROR(VLOOKUP(DS11,MATCHSELEVES!$Y$14:$AF$600,8,FALSE),0)","v":0},{"$f":"IFERROR(VLOOKUP(DS11,MATCHSELEVES!$Y$14:$AG$600,9,FALSE),0)","v":0},"Bilal S._19",{"$f":"IFERROR(VLOOKUP(DY11,MATCHSELEVES!$Y$14:$AE$600,3,FALSE),0)","v":0},{"$f":"IFERROR(VLOOKUP(DY11,MATCHSELEVES!$Y$14:$AE$600,4,FALSE),0)","v":0},{"$f":"IFERROR(VLOOKUP(DY11,MATCHSELEVES!$Y$14:$AE$600,5,FALSE),0)","v":0},{"$f":"IFERROR(VLOOKUP(DY11,MATCHSELEVES!$Y$14:$AF$600,8,FALSE),0)","v":0},{"$f":"IFERROR(VLOOKUP(DY11,MATCHSELEVES!$Y$14:$AG$600,9,FALSE),0)","v":0},"Bilal S._20",{"$f":"IFERROR(VLOOKUP(EE11,MATCHSELEVES!$Y$14:$AE$600,3,FALSE),0)","v":0},{"$f":"IFERROR(VLOOKUP(EE11,MATCHSELEVES!$Y$14:$AE$600,4,FALSE),0)","v":0},{"$f":"IFERROR(VLOOKUP(EE11,MATCHSELEVES!$Y$14:$AE$600,5,FALSE),0)","v":0},{"$f":"IFERROR(VLOOKUP(EE11,MATCHSELEVES!$Y$14:$AF$600,8,FALSE),0)","v":0},{"$f":"IFERROR(VLOOKUP(EE11,MATCHSELEVES!$Y$14:$AG$600,9,FALSE),0)","v":0},"Bilal S._21",{"$f":"IFERROR(VLOOKUP(EK11,MATCHSELEVES!$Y$14:$AE$600,3,FALSE),0)","v":0},{"$f":"IFERROR(VLOOKUP(EK11,MATCHSELEVES!$Y$14:$AE$600,4,FALSE),0)","v":0},{"$f":"IFERROR(VLOOKUP(EK11,MATCHSELEVES!$Y$14:$AE$600,5,FALSE),0)","v":0},{"$f":"IFERROR(VLOOKUP(EK11,MATCHSELEVES!$Y$14:$AF$600,8,FALSE),0)","v":0},{"$f":"IFERROR(VLOOKUP(EK11,MATCHSELEVES!$Y$14:$AG$600,9,FALSE),0)","v":0},"Bilal S._22",{"$f":"IFERROR(VLOOKUP(EQ11,MATCHSELEVES!$Y$14:$AE$600,3,FALSE),0)","v":0},{"$f":"IFERROR(VLOOKUP(EQ11,MATCHSELEVES!$Y$14:$AE$600,4,FALSE),0)","v":0},{"$f":"IFERROR(VLOOKUP(EQ11,MATCHSELEVES!$Y$14:$AE$600,5,FALSE),0)","v":0},{"$f":"IFERROR(VLOOKUP(EQ11,MATCHSELEVES!$Y$14:$AF$600,8,FALSE),0)","v":0},{"$f":"IFERROR(VLOOKUP(EQ11,MATCHSELEVES!$Y$14:$AG$600,9,FALSE),0)","v":0},"Bilal S._23",{"$f":"IFERROR(VLOOKUP(EW11,MATCHSELEVES!$Y$14:$AE$600,3,FALSE),0)","v":0},{"$f":"IFERROR(VLOOKUP(EW11,MATCHSELEVES!$Y$14:$AE$600,4,FALSE),0)","v":0},{"$f":"IFERROR(VLOOKUP(EW11,MATCHSELEVES!$Y$14:$AE$600,5,FALSE),0)","v":0},{"$f":"IFERROR(VLOOKUP(EW11,MATCHSELEVES!$Y$14:$AF$600,8,FALSE),0)","v":0},{"$f":"IFERROR(VLOOKUP(EW11,MATCHSELEVES!$Y$14:$AG$600,9,FALSE),0)","v":0},"Bilal S._24",{"$f":"IFERROR(VLOOKUP(FC11,MATCHSELEVES!$Y$14:$AE$600,3,FALSE),0)","v":0},{"$f":"IFERROR(VLOOKUP(FC11,MATCHSELEVES!$Y$14:$AE$600,4,FALSE),0)","v":0},{"$f":"IFERROR(VLOOKUP(FC11,MATCHSELEVES!$Y$14:$AE$600,5,FALSE),0)","v":0},{"$f":"IFERROR(VLOOKUP(FC11,MATCHSELEVES!$Y$14:$AF$600,8,FALSE),0)","v":0},{"$f":"IFERROR(VLOOKUP(FC11,MATCHSELEVES!$Y$14:$AG$600,9,FALSE),0)","v":0},"Bilal S._25",{"$f":"IFERROR(VLOOKUP(FI11,MATCHSELEVES!$Y$14:$AE$600,3,FALSE),0)","v":0},{"$f":"IFERROR(VLOOKUP(FI11,MATCHSELEVES!$Y$14:$AE$600,4,FALSE),0)","v":0},{"$f":"IFERROR(VLOOKUP(FI11,MATCHSELEVES!$Y$14:$AE$600,5,FALSE),0)","v":0},{"$f":"IFERROR(VLOOKUP(FI11,MATCHSELEVES!$Y$14:$AF$600,8,FALSE),0)","v":0},{"$f":"IFERROR(VLOOKUP(FI11,MATCHSELEVES!$Y$14:$AG$600,9,FALSE),0)","v":0},"Bilal S._26",{"$f":"IFERROR(VLOOKUP(FO11,MATCHSELEVES!$Y$14:$AE$600,3,FALSE),0)","v":0},{"$f":"IFERROR(VLOOKUP(FO11,MATCHSELEVES!$Y$14:$AE$600,4,FALSE),0)","v":0},{"$f":"IFERROR(VLOOKUP(FO11,MATCHSELEVES!$Y$14:$AE$600,5,FALSE),0)","v":0},{"$f":"IFERROR(VLOOKUP(FO11,MATCHSELEVES!$Y$14:$AF$600,8,FALSE),0)","v":0},{"$f":"IFERROR(VLOOKUP(FO11,MATCHSELEVES!$Y$14:$AG$600,9,FALSE),0)","v":0},"Bilal S._27",{"$f":"IFERROR(VLOOKUP(FU11,MATCHSELEVES!$Y$14:$AE$600,3,FALSE),0)","v":0},{"$f":"IFERROR(VLOOKUP(FU11,MATCHSELEVES!$Y$14:$AE$600,4,FALSE),0)","v":0},{"$f":"IFERROR(VLOOKUP(FU11,MATCHSELEVES!$Y$14:$AE$600,5,FALSE),0)","v":0},{"$f":"IFERROR(VLOOKUP(FU11,MATCHSELEVES!$Y$14:$AF$600,8,FALSE),0)","v":0},{"$f":"IFERROR(VLOOKUP(FU11,MATCHSELEVES!$Y$14:$AG$600,9,FALSE),0)","v":0},"Bilal S._28",{"$f":"IFERROR(VLOOKUP(GA11,MATCHSELEVES!$Y$14:$AE$600,3,FALSE),0)","v":0},{"$f":"IFERROR(VLOOKUP(GA11,MATCHSELEVES!$Y$14:$AE$600,4,FALSE),0)","v":0},{"$f":"IFERROR(VLOOKUP(GA11,MATCHSELEVES!$Y$14:$AE$600,5,FALSE),0)","v":0},{"$f":"IFERROR(VLOOKUP(GA11,MATCHSELEVES!$Y$14:$AF$600,8,FALSE),0)","v":0},{"$f":"IFERROR(VLOOKUP(GA11,MATCHSELEVES!$Y$14:$AG$600,9,FALSE),0)","v":0},"Bilal S._29",{"$f":"IFERROR(VLOOKUP(GG11,MATCHSELEVES!$Y$14:$AE$600,3,FALSE),0)","v":0},{"$f":"IFERROR(VLOOKUP(GG11,MATCHSELEVES!$Y$14:$AE$600,4,FALSE),0)","v":0},{"$f":"IFERROR(VLOOKUP(GG11,MATCHSELEVES!$Y$14:$AE$600,5,FALSE),0)","v":0},{"$f":"IFERROR(VLOOKUP(GG11,MATCHSELEVES!$Y$14:$AF$600,8,FALSE),0)","v":0},{"$f":"IFERROR(VLOOKUP(GG11,MATCHSELEVES!$Y$14:$AG$600,9,FALSE),0)","v":0},"Bilal S._30",{"$f":"IFERROR(VLOOKUP(GM11,MATCHSELEVES!$Y$14:$AE$600,3,FALSE),0)","v":0},{"$f":"IFERROR(VLOOKUP(GM11,MATCHSELEVES!$Y$14:$AE$600,4,FALSE),0)","v":0},{"$f":"IFERROR(VLOOKUP(GM11,MATCHSELEVES!$Y$14:$AE$600,5,FALSE),0)","v":0},{"$f":"IFERROR(VLOOKUP(GM11,MATCHSELEVES!$Y$14:$AF$600,8,FALSE),0)","v":0},{"$f":"IFERROR(VLOOKUP(GM11,MATCHSELEVES!$Y$14:$AG$600,9,FALSE),0)","v":0},"Bilal S._31",{"$f":"IFERROR(VLOOKUP(GS11,MATCHSELEVES!$Y$14:$AE$600,3,FALSE),0)","v":0},{"$f":"IFERROR(VLOOKUP(GS11,MATCHSELEVES!$Y$14:$AE$600,4,FALSE),0)","v":0},{"$f":"IFERROR(VLOOKUP(GS11,MATCHSELEVES!$Y$14:$AE$600,5,FALSE),0)","v":0},{"$f":"IFERROR(VLOOKUP(GS11,MATCHSELEVES!$Y$14:$AF$600,8,FALSE),0)","v":0},{"$f":"IFERROR(VLOOKUP(GS11,MATCHSELEVES!$Y$14:$AG$600,9,FALSE),0)","v":0},"Bilal S._32",{"$f":"IFERROR(VLOOKUP(GY11,MATCHSELEVES!$Y$14:$AE$600,3,FALSE),0)","v":0},{"$f":"IFERROR(VLOOKUP(GY11,MATCHSELEVES!$Y$14:$AE$600,4,FALSE),0)","v":0},{"$f":"IFERROR(VLOOKUP(GY11,MATCHSELEVES!$Y$14:$AE$600,5,FALSE),0)","v":0},{"$f":"IFERROR(VLOOKUP(GY11,MATCHSELEVES!$Y$14:$AF$600,8,FALSE),0)","v":0},{"$f":"IFERROR(VLOOKUP(GY11,MATCHSELEVES!$Y$14:$AG$600,9,FALSE),0)","v":0},"Bilal S._33",{"$f":"IFERROR(VLOOKUP(HE11,MATCHSELEVES!$Y$14:$AE$600,3,FALSE),0)","v":0},{"$f":"IFERROR(VLOOKUP(HE11,MATCHSELEVES!$Y$14:$AE$600,4,FALSE),0)","v":0},{"$f":"IFERROR(VLOOKUP(HE11,MATCHSELEVES!$Y$14:$AE$600,5,FALSE),0)","v":0},{"$f":"IFERROR(VLOOKUP(HE11,MATCHSELEVES!$Y$14:$AF$600,8,FALSE),0)","v":0},{"$f":"IFERROR(VLOOKUP(HE11,MATCHSELEVES!$Y$14:$AG$600,9,FALSE),0)","v":0},"Bilal S._34",{"$f":"IFERROR(VLOOKUP(HK11,MATCHSELEVES!$Y$14:$AE$600,3,FALSE),0)","v":0},{"$f":"IFERROR(VLOOKUP(HK11,MATCHSELEVES!$Y$14:$AE$600,4,FALSE),0)","v":0},{"$f":"IFERROR(VLOOKUP(HK11,MATCHSELEVES!$Y$14:$AE$600,5,FALSE),0)","v":0},{"$f":"IFERROR(VLOOKUP(HK11,MATCHSELEVES!$Y$14:$AF$600,8,FALSE),0)","v":0},{"$f":"IFERROR(VLOOKUP(HK11,MATCHSELEVES!$Y$14:$AG$600,9,FALSE),0)","v":0},"Bilal S._35",{"$f":"IFERROR(VLOOKUP(HQ11,MATCHSELEVES!$Y$14:$AE$600,3,FALSE),0)","v":0},{"$f":"IFERROR(VLOOKUP(HQ11,MATCHSELEVES!$Y$14:$AE$600,4,FALSE),0)","v":0},{"$f":"IFERROR(VLOOKUP(HQ11,MATCHSELEVES!$Y$14:$AE$600,5,FALSE),0)","v":0},{"$f":"IFERROR(VLOOKUP(HQ11,MATCHSELEVES!$Y$14:$AF$600,8,FALSE),0)","v":0},{"$f":"IFERROR(VLOOKUP(HQ11,MATCHSELEVES!$Y$14:$AG$600,9,FALSE),0)","v":0},"Bilal S._36",{"$f":"IFERROR(VLOOKUP(HW11,MATCHSELEVES!$Y$14:$AE$600,3,FALSE),0)","v":0},{"$f":"IFERROR(VLOOKUP(HW11,MATCHSELEVES!$Y$14:$AE$600,4,FALSE),0)","v":0},{"$f":"IFERROR(VLOOKUP(HW11,MATCHSELEVES!$Y$14:$AE$600,5,FALSE),0)","v":0},{"$f":"IFERROR(VLOOKUP(HW11,MATCHSELEVES!$Y$14:$AF$600,8,FALSE),0)","v":0},{"$f":"IFERROR(VLOOKUP(HW11,MATCHSELEVES!$Y$14:$AG$600,9,FALSE),0)","v":0},"Bilal S._37",{"$f":"IFERROR(VLOOKUP(IC11,MATCHSELEVES!$Y$14:$AE$600,3,FALSE),0)","v":0},{"$f":"IFERROR(VLOOKUP(IC11,MATCHSELEVES!$Y$14:$AE$600,4,FALSE),0)","v":0},{"$f":"IFERROR(VLOOKUP(IC11,MATCHSELEVES!$Y$14:$AE$600,5,FALSE),0)","v":0},{"$f":"IFERROR(VLOOKUP(IC11,MATCHSELEVES!$Y$14:$AF$600,8,FALSE),0)","v":0},{"$f":"IFERROR(VLOOKUP(IC11,MATCHSELEVES!$Y$14:$AG$600,9,FALSE),0)","v":0},"Bilal S._38",{"$f":"IFERROR(VLOOKUP(II11,MATCHSELEVES!$Y$14:$AE$600,3,FALSE),0)","v":0},{"$f":"IFERROR(VLOOKUP(II11,MATCHSELEVES!$Y$14:$AE$600,4,FALSE),0)","v":0},{"$f":"IFERROR(VLOOKUP(II11,MATCHSELEVES!$Y$14:$AE$600,5,FALSE),0)","v":0},{"$f":"IFERROR(VLOOKUP(II11,MATCHSELEVES!$Y$14:$AF$600,8,FALSE),0)","v":0},{"$f":"IFERROR(VLOOKUP(II11,MATCHSELEVES!$Y$14:$AG$600,9,FALSE),0)","v":0},"Bilal S._39",{"$f":"IFERROR(VLOOKUP(IO11,MATCHSELEVES!$Y$14:$AE$600,3,FALSE),0)","v":0},{"$f":"IFERROR(VLOOKUP(IO11,MATCHSELEVES!$Y$14:$AE$600,4,FALSE),0)","v":0},{"$f":"IFERROR(VLOOKUP(IO11,MATCHSELEVES!$Y$14:$AE$600,5,FALSE),0)","v":0},{"$f":"IFERROR(VLOOKUP(IO11,MATCHSELEVES!$Y$14:$AF$600,8,FALSE),0)","v":0},{"$f":"IFERROR(VLOOKUP(IO11,MATCHSELEVES!$Y$14:$AG$600,9,FALSE),0)","v":0},"Bilal S._40",{"$f":"IFERROR(VLOOKUP(IU11,MATCHSELEVES!$Y$14:$AE$600,3,FALSE),0)","v":0},{"$f":"IFERROR(VLOOKUP(IU11,MATCHSELEVES!$Y$14:$AE$600,4,FALSE),0)","v":0},{"$f":"IFERROR(VLOOKUP(IU11,MATCHSELEVES!$Y$14:$AE$600,5,FALSE),0)","v":0},{"$f":"IFERROR(VLOOKUP(IU11,MATCHSELEVES!$Y$14:$AF$600,8,FALSE),0)","v":0},{"$f":"IFERROR(VLOOKUP(IU11,MATCHSELEVES!$Y$14:$AG$600,9,FALSE),0)","v":0},{"$f":"Tableau10[[#This Row],[CLASSE]]","v":"Bilal S."},1,{"$f":"MD1POINT!D11","v":1},"Bilal S.p_1",{"$f":"IFERROR(VLOOKUP(JD11,MATCHSELEVES!$Y$14:$AE$600,3,FALSE),0)","v":0},{"$f":"IFERROR(VLOOKUP(JD11,MATCHSELEVES!$Y$14:$AE$600,4,FALSE),0)","v":0},{"$f":"IFERROR(VLOOKUP(JD11,MATCHSELEVES!$Y$14:$AE$600,5,FALSE),0)","v":0},{"$f":"IFERROR(VLOOKUP(JD11,MATCHSELEVES!$Y$14:$AF$600,8,FALSE),0)","v":0},{"$f":"IFERROR(VLOOKUP(JD11,MATCHSELEVES!$Y$14:$AG$600,9,FALSE),0)","v":0},"Bilal S.p_2",{"$f":"IFERROR(VLOOKUP(JJ11,MATCHSELEVES!$Y$14:$AE$600,3,FALSE),0)","v":0},{"$f":"IFERROR(VLOOKUP(JJ11,MATCHSELEVES!$Y$14:$AE$600,4,FALSE),0)","v":0},{"$f":"IFERROR(VLOOKUP(JJ11,MATCHSELEVES!$Y$14:$AE$600,5,FALSE),0)","v":0},{"$f":"IFERROR(VLOOKUP(JJ11,MATCHSELEVES!$Y$14:$AF$600,8,FALSE),0)","v":0},{"$f":"IFERROR(VLOOKUP(JJ11,MATCHSELEVES!$Y$14:$AG$600,9,FALSE),0)","v":0},"Bilal S.p_3",{"$f":"IFERROR(VLOOKUP(JP11,MATCHSELEVES!$Y$14:$AE$600,3,FALSE),0)","v":0},{"$f":"IFERROR(VLOOKUP(JP11,MATCHSELEVES!$Y$14:$AE$600,4,FALSE),0)","v":0},{"$f":"IFERROR(VLOOKUP(JP11,MATCHSELEVES!$Y$14:$AE$600,5,FALSE),0)","v":0},{"$f":"IFERROR(VLOOKUP(JP11,MATCHSELEVES!$Y$14:$AF$600,8,FALSE),0)","v":0},{"$f":"IFERROR(VLOOKUP(JP11,MATCHSELEVES!$Y$14:$AG$600,9,FALSE),0)","v":0},"Bilal S.p_4",{"$f":"IFERROR(VLOOKUP(JV11,MATCHSELEVES!$Y$14:$AE$600,3,FALSE),0)","v":0},{"$f":"IFERROR(VLOOKUP(JV11,MATCHSELEVES!$Y$14:$AE$600,4,FALSE),0)","v":0},{"$f":"IFERROR(VLOOKUP(JV11,MATCHSELEVES!$Y$14:$AE$600,5,FALSE),0)","v":0},{"$f":"IFERROR(VLOOKUP(JV11,MATCHSELEVES!$Y$14:$AF$600,8,FALSE),0)","v":0},{"$f":"IFERROR(VLOOKUP(JV11,MATCHSELEVES!$Y$14:$AG$600,9,FALSE),0)","v":0},"Bilal S.p_5",{"$f":"IFERROR(VLOOKUP(KB11,MATCHSELEVES!$Y$14:$AE$600,3,FALSE),0)","v":0},{"$f":"IFERROR(VLOOKUP(KB11,MATCHSELEVES!$Y$14:$AE$600,4,FALSE),0)","v":0},{"$f":"IFERROR(VLOOKUP(KB11,MATCHSELEVES!$Y$14:$AE$600,5,FALSE),0)","v":0},{"$f":"IFERROR(VLOOKUP(KB11,MATCHSELEVES!$Y$14:$AF$600,8,FALSE),0)","v":0},{"$f":"IFERROR(VLOOKUP(KB11,MATCHSELEVES!$Y$14:$AG$600,9,FALSE),0)","v":0},"Bilal S.p_6",{"$f":"IFERROR(VLOOKUP(KH11,MATCHSELEVES!$Y$14:$AE$600,3,FALSE),0)","v":0},{"$f":"IFERROR(VLOOKUP(KH11,MATCHSELEVES!$Y$14:$AE$600,4,FALSE),0)","v":0},{"$f":"IFERROR(VLOOKUP(KH11,MATCHSELEVES!$Y$14:$AE$600,5,FALSE),0)","v":0},{"$f":"IFERROR(VLOOKUP(KH11,MATCHSELEVES!$Y$14:$AF$600,8,FALSE),0)","v":0},{"$f":"IFERROR(VLOOKUP(KH11,MATCHSELEVES!$Y$14:$AG$600,9,FALSE),0)","v":0},"Bilal S.p_7",{"$f":"IFERROR(VLOOKUP(KN11,MATCHSELEVES!$Y$14:$AE$600,3,FALSE),0)","v":0},{"$f":"IFERROR(VLOOKUP(KN11,MATCHSELEVES!$Y$14:$AE$600,4,FALSE),0)","v":0},{"$f":"IFERROR(VLOOKUP(KN11,MATCHSELEVES!$Y$14:$AE$600,5,FALSE),0)","v":0},{"$f":"IFERROR(VLOOKUP(KN11,MATCHSELEVES!$Y$14:$AF$600,8,FALSE),0)","v":0},{"$f":"IFERROR(VLOOKUP(KN11,MATCHSELEVES!$Y$14:$AG$600,9,FALSE),0)","v":0},"Bilal S.p_8",{"$f":"IFERROR(VLOOKUP(KT11,MATCHSELEVES!$Y$14:$AE$600,3,FALSE),0)","v":0},{"$f":"IFERROR(VLOOKUP(KT11,MATCHSELEVES!$Y$14:$AE$600,4,FALSE),0)","v":0},{"$f":"IFERROR(VLOOKUP(KT11,MATCHSELEVES!$Y$14:$AE$600,5,FALSE),0)","v":0},{"$f":"IFERROR(VLOOKUP(KT11,MATCHSELEVES!$Y$14:$AF$600,8,FALSE),0)","v":0},{"$f":"IFERROR(VLOOKUP(KT11,MATCHSELEVES!$Y$14:$AG$600,9,FALSE),0)","v":0},"Bilal S.p_9",{"$f":"IFERROR(VLOOKUP(KZ11,MATCHSELEVES!$Y$14:$AE$600,3,FALSE),0)","v":0},{"$f":"IFERROR(VLOOKUP(KZ11,MATCHSELEVES!$Y$14:$AE$600,4,FALSE),0)","v":0},{"$f":"IFERROR(VLOOKUP(KZ11,MATCHSELEVES!$Y$14:$AE$600,5,FALSE),0)","v":0},{"$f":"IFERROR(VLOOKUP(KZ11,MATCHSELEVES!$Y$14:$AF$600,8,FALSE),0)","v":0},{"$f":"IFERROR(VLOOKUP(KZ11,MATCHSELEVES!$Y$14:$AG$600,9,FALSE),0)","v":0},"Bilal S.p_10",{"$f":"IFERROR(VLOOKUP(LF11,MATCHSELEVES!$Y$14:$AE$600,3,FALSE),0)","v":0},{"$f":"IFERROR(VLOOKUP(LF11,MATCHSELEVES!$Y$14:$AE$600,4,FALSE),0)","v":0},{"$f":"IFERROR(VLOOKUP(LF11,MATCHSELEVES!$Y$14:$AE$600,5,FALSE),0)","v":0},{"$f":"IFERROR(VLOOKUP(LF11,MATCHSELEVES!$Y$14:$AF$600,8,FALSE),0)","v":0},{"$f":"IFERROR(VLOOKUP(LF11,MATCHSELEVES!$Y$14:$AG$600,9,FALSE),0)","v":0},"Bilal S.p_11",{"$f":"IFERROR(VLOOKUP(LL11,MATCHSELEVES!$Y$14:$AE$600,3,FALSE),0)","v":0},{"$f":"IFERROR(VLOOKUP(LL11,MATCHSELEVES!$Y$14:$AE$600,4,FALSE),0)","v":0},{"$f":"IFERROR(VLOOKUP(LL11,MATCHSELEVES!$Y$14:$AE$600,5,FALSE),0)","v":0},{"$f":"IFERROR(VLOOKUP(LL11,MATCHSELEVES!$Y$14:$AF$600,8,FALSE),0)","v":0},{"$f":"IFERROR(VLOOKUP(LL11,MATCHSELEVES!$Y$14:$AG$600,9,FALSE),0)","v":0},"Bilal S.p_12",{"$f":"IFERROR(VLOOKUP(LR11,MATCHSELEVES!$Y$14:$AE$600,3,FALSE),0)","v":0},{"$f":"IFERROR(VLOOKUP(LR11,MATCHSELEVES!$Y$14:$AE$600,4,FALSE),0)","v":0},{"$f":"IFERROR(VLOOKUP(LR11,MATCHSELEVES!$Y$14:$AE$600,5,FALSE),0)","v":0},{"$f":"IFERROR(VLOOKUP(LR11,MATCHSELEVES!$Y$14:$AF$600,8,FALSE),0)","v":0},{"$f":"IFERROR(VLOOKUP(LR11,MATCHSELEVES!$Y$14:$AG$600,9,FALSE),0)","v":0},"Bilal S.p_13",{"$f":"IFERROR(VLOOKUP(LX11,MATCHSELEVES!$Y$14:$AE$600,3,FALSE),0)","v":0},{"$f":"IFERROR(VLOOKUP(LX11,MATCHSELEVES!$Y$14:$AE$600,4,FALSE),0)","v":0},{"$f":"IFERROR(VLOOKUP(LX11,MATCHSELEVES!$Y$14:$AE$600,5,FALSE),0)","v":0},{"$f":"IFERROR(VLOOKUP(LX11,MATCHSELEVES!$Y$14:$AF$600,8,FALSE),0)","v":0},{"$f":"IFERROR(VLOOKUP(LX11,MATCHSELEVES!$Y$14:$AG$600,9,FALSE),0)","v":0},"Bilal S.p_14",{"$f":"IFERROR(VLOOKUP(MD11,MATCHSELEVES!$Y$14:$AE$600,3,FALSE),0)","v":0},{"$f":"IFERROR(VLOOKUP(MD11,MATCHSELEVES!$Y$14:$AE$600,4,FALSE),0)","v":0},{"$f":"IFERROR(VLOOKUP(MD11,MATCHSELEVES!$Y$14:$AE$600,5,FALSE),0)","v":0},{"$f":"IFERROR(VLOOKUP(MD11,MATCHSELEVES!$Y$14:$AF$600,8,FALSE),0)","v":0},{"$f":"IFERROR(VLOOKUP(MD11,MATCHSELEVES!$Y$14:$AG$600,9,FALSE),0)","v":0},"Bilal S.p_15",{"$f":"IFERROR(VLOOKUP(MJ11,MATCHSELEVES!$Y$14:$AE$600,3,FALSE),0)","v":0},{"$f":"IFERROR(VLOOKUP(MJ11,MATCHSELEVES!$Y$14:$AE$600,4,FALSE),0)","v":0},{"$f":"IFERROR(VLOOKUP(MJ11,MATCHSELEVES!$Y$14:$AE$600,5,FALSE),0)","v":0},{"$f":"IFERROR(VLOOKUP(MJ11,MATCHSELEVES!$Y$14:$AF$600,8,FALSE),0)","v":0},{"$f":"IFERROR(VLOOKUP(MJ11,MATCHSELEVES!$Y$14:$AG$600,9,FALSE),0)","v":0},"Bilal S.p_16",{"$f":"IFERROR(VLOOKUP(MP11,MATCHSELEVES!$Y$14:$AE$600,3,FALSE),0)","v":0},{"$f":"IFERROR(VLOOKUP(MP11,MATCHSELEVES!$Y$14:$AE$600,4,FALSE),0)","v":0},{"$f":"IFERROR(VLOOKUP(MP11,MATCHSELEVES!$Y$14:$AE$600,5,FALSE),0)","v":0},{"$f":"IFERROR(VLOOKUP(MP11,MATCHSELEVES!$Y$14:$AF$600,8,FALSE),0)","v":0},{"$f":"IFERROR(VLOOKUP(MP11,MATCHSELEVES!$Y$14:$AG$600,9,FALSE),0)","v":0},"Bilal S.p_17",{"$f":"IFERROR(VLOOKUP(MV11,MATCHSELEVES!$Y$14:$AE$600,3,FALSE),0)","v":0},{"$f":"IFERROR(VLOOKUP(MV11,MATCHSELEVES!$Y$14:$AE$600,4,FALSE),0)","v":0},{"$f":"IFERROR(VLOOKUP(MV11,MATCHSELEVES!$Y$14:$AE$600,5,FALSE),0)","v":0},{"$f":"IFERROR(VLOOKUP(MV11,MATCHSELEVES!$Y$14:$AF$600,8,FALSE),0)","v":0},{"$f":"IFERROR(VLOOKUP(MV11,MATCHSELEVES!$Y$14:$AG$600,9,FALSE),0)","v":0},"Bilal S.p_18",{"$f":"IFERROR(VLOOKUP(NB11,MATCHSELEVES!$Y$14:$AE$600,3,FALSE),0)","v":0},{"$f":"IFERROR(VLOOKUP(NB11,MATCHSELEVES!$Y$14:$AE$600,4,FALSE),0)","v":0},{"$f":"IFERROR(VLOOKUP(NB11,MATCHSELEVES!$Y$14:$AE$600,5,FALSE),0)","v":0},{"$f":"IFERROR(VLOOKUP(NB11,MATCHSELEVES!$Y$14:$AF$600,8,FALSE),0)","v":0},{"$f":"IFERROR(VLOOKUP(NB11,MATCHSELEVES!$Y$14:$AG$600,9,FALSE),0)","v":0},"Bilal S.p_19",{"$f":"IFERROR(VLOOKUP(NH11,MATCHSELEVES!$Y$14:$AE$600,3,FALSE),0)","v":0},{"$f":"IFERROR(VLOOKUP(NH11,MATCHSELEVES!$Y$14:$AE$600,4,FALSE),0)","v":0},{"$f":"IFERROR(VLOOKUP(NH11,MATCHSELEVES!$Y$14:$AE$600,5,FALSE),0)","v":0},{"$f":"IFERROR(VLOOKUP(NH11,MATCHSELEVES!$Y$14:$AF$600,8,FALSE),0)","v":0},{"$f":"IFERROR(VLOOKUP(NH11,MATCHSELEVES!$Y$14:$AG$600,9,FALSE),0)","v":0},"Bilal S.p_20",{"$f":"IFERROR(VLOOKUP(NN11,MATCHSELEVES!$Y$14:$AE$600,3,FALSE),0)","v":0},{"$f":"IFERROR(VLOOKUP(NN11,MATCHSELEVES!$Y$14:$AE$600,4,FALSE),0)","v":0},{"$f":"IFERROR(VLOOKUP(NN11,MATCHSELEVES!$Y$14:$AE$600,5,FALSE),0)","v":0},{"$f":"IFERROR(VLOOKUP(NN11,MATCHSELEVES!$Y$14:$AF$600,8,FALSE),0)","v":0},{"$f":"IFERROR(VLOOKUP(NN11,MATCHSELEVES!$Y$14:$AG$600,9,FALSE),0)","v":0},"Bilal S.p_21",{"$f":"IFERROR(VLOOKUP(NT11,MATCHSELEVES!$Y$14:$AE$600,3,FALSE),0)","v":0},{"$f":"IFERROR(VLOOKUP(NT11,MATCHSELEVES!$Y$14:$AE$600,4,FALSE),0)","v":0},{"$f":"IFERROR(VLOOKUP(NT11,MATCHSELEVES!$Y$14:$AE$600,5,FALSE),0)","v":0},{"$f":"IFERROR(VLOOKUP(NT11,MATCHSELEVES!$Y$14:$AF$600,8,FALSE),0)","v":0},{"$f":"IFERROR(VLOOKUP(NT11,MATCHSELEVES!$Y$14:$AG$600,9,FALSE),0)","v":0},"Bilal S.p_22",{"$f":"IFERROR(VLOOKUP(NZ11,MATCHSELEVES!$Y$14:$AE$600,3,FALSE),0)","v":0},{"$f":"IFERROR(VLOOKUP(NZ11,MATCHSELEVES!$Y$14:$AE$600,4,FALSE),0)","v":0},{"$f":"IFERROR(VLOOKUP(NZ11,MATCHSELEVES!$Y$14:$AE$600,5,FALSE),0)","v":0},{"$f":"IFERROR(VLOOKUP(NZ11,MATCHSELEVES!$Y$14:$AF$600,8,FALSE),0)","v":0},{"$f":"IFERROR(VLOOKUP(NZ11,MATCHSELEVES!$Y$14:$AG$600,9,FALSE),0)","v":0},"Bilal S.p_23",{"$f":"IFERROR(VLOOKUP(OF11,MATCHSELEVES!$Y$14:$AE$600,3,FALSE),0)","v":0},{"$f":"IFERROR(VLOOKUP(OF11,MATCHSELEVES!$Y$14:$AE$600,4,FALSE),0)","v":0},{"$f":"IFERROR(VLOOKUP(OF11,MATCHSELEVES!$Y$14:$AE$600,5,FALSE),0)","v":0},{"$f":"IFERROR(VLOOKUP(OF11,MATCHSELEVES!$Y$14:$AF$600,8,FALSE),0)","v":0},{"$f":"IFERROR(VLOOKUP(OF11,MATCHSELEVES!$Y$14:$AG$600,9,FALSE),0)","v":0},"Bilal S.p_24",{"$f":"IFERROR(VLOOKUP(OL11,MATCHSELEVES!$Y$14:$AE$600,3,FALSE),0)","v":0},{"$f":"IFERROR(VLOOKUP(OL11,MATCHSELEVES!$Y$14:$AE$600,4,FALSE),0)","v":0},{"$f":"IFERROR(VLOOKUP(OL11,MATCHSELEVES!$Y$14:$AE$600,5,FALSE),0)","v":0},{"$f":"IFERROR(VLOOKUP(OL11,MATCHSELEVES!$Y$14:$AF$600,8,FALSE),0)","v":0},{"$f":"IFERROR(VLOOKUP(OL11,MATCHSELEVES!$Y$14:$AG$600,9,FALSE),0)","v":0},"Bilal S.p_25",{"$f":"IFERROR(VLOOKUP(OR11,MATCHSELEVES!$Y$14:$AE$600,3,FALSE),0)","v":0},{"$f":"IFERROR(VLOOKUP(OR11,MATCHSELEVES!$Y$14:$AE$600,4,FALSE),0)","v":0},{"$f":"IFERROR(VLOOKUP(OR11,MATCHSELEVES!$Y$14:$AE$600,5,FALSE),0)","v":0},{"$f":"IFERROR(VLOOKUP(OR11,MATCHSELEVES!$Y$14:$AF$600,8,FALSE),0)","v":0},{"$f":"IFERROR(VLOOKUP(OR11,MATCHSELEVES!$Y$14:$AG$600,9,FALSE),0)","v":0},"Bilal S.p_26",{"$f":"IFERROR(VLOOKUP(OX11,MATCHSELEVES!$Y$14:$AE$600,3,FALSE),0)","v":0},{"$f":"IFERROR(VLOOKUP(OX11,MATCHSELEVES!$Y$14:$AE$600,4,FALSE),0)","v":0},{"$f":"IFERROR(VLOOKUP(OX11,MATCHSELEVES!$Y$14:$AE$600,5,FALSE),0)","v":0},{"$f":"IFERROR(VLOOKUP(OX11,MATCHSELEVES!$Y$14:$AF$600,8,FALSE),0)","v":0},{"$f":"IFERROR(VLOOKUP(OX11,MATCHSELEVES!$Y$14:$AG$600,9,FALSE),0)","v":0},"Bilal S.p_27",{"$f":"IFERROR(VLOOKUP(PD11,MATCHSELEVES!$Y$14:$AE$600,3,FALSE),0)","v":0},{"$f":"IFERROR(VLOOKUP(PD11,MATCHSELEVES!$Y$14:$AE$600,4,FALSE),0)","v":0},{"$f":"IFERROR(VLOOKUP(PD11,MATCHSELEVES!$Y$14:$AE$600,5,FALSE),0)","v":0},{"$f":"IFERROR(VLOOKUP(PD11,MATCHSELEVES!$Y$14:$AF$600,8,FALSE),0)","v":0},{"$f":"IFERROR(VLOOKUP(PD11,MATCHSELEVES!$Y$14:$AG$600,9,FALSE),0)","v":0},"Bilal S.p_28",{"$f":"IFERROR(VLOOKUP(PJ11,MATCHSELEVES!$Y$14:$AE$600,3,FALSE),0)","v":0},{"$f":"IFERROR(VLOOKUP(PJ11,MATCHSELEVES!$Y$14:$AE$600,4,FALSE),0)","v":0},{"$f":"IFERROR(VLOOKUP(PJ11,MATCHSELEVES!$Y$14:$AE$600,5,FALSE),0)","v":0},{"$f":"IFERROR(VLOOKUP(PJ11,MATCHSELEVES!$Y$14:$AF$600,8,FALSE),0)","v":0},{"$f":"IFERROR(VLOOKUP(PJ11,MATCHSELEVES!$Y$14:$AG$600,9,FALSE),0)","v":0},"Bilal S.p_29",{"$f":"IFERROR(VLOOKUP(PP11,MATCHSELEVES!$Y$14:$AE$600,3,FALSE),0)","v":0},{"$f":"IFERROR(VLOOKUP(PP11,MATCHSELEVES!$Y$14:$AE$600,4,FALSE),0)","v":0},{"$f":"IFERROR(VLOOKUP(PP11,MATCHSELEVES!$Y$14:$AE$600,5,FALSE),0)","v":0},{"$f":"IFERROR(VLOOKUP(PP11,MATCHSELEVES!$Y$14:$AF$600,8,FALSE),0)","v":0},{"$f":"IFERROR(VLOOKUP(PP11,MATCHSELEVES!$Y$14:$AG$600,9,FALSE),0)","v":0},"Bilal S.p_30",{"$f":"IFERROR(VLOOKUP(PV11,MATCHSELEVES!$Y$14:$AE$600,3,FALSE),0)","v":0},{"$f":"IFERROR(VLOOKUP(PV11,MATCHSELEVES!$Y$14:$AE$600,4,FALSE),0)","v":0},{"$f":"IFERROR(VLOOKUP(PV11,MATCHSELEVES!$Y$14:$AE$600,5,FALSE),0)","v":0},{"$f":"IFERROR(VLOOKUP(PV11,MATCHSELEVES!$Y$14:$AF$600,8,FALSE),0)","v":0},{"$f":"IFERROR(VLOOKUP(PV11,MATCHSELEVES!$Y$14:$AG$600,9,FALSE),0)","v":0},"Bilal S.p_31",{"$f":"IFERROR(VLOOKUP(QB11,MATCHSELEVES!$Y$14:$AE$600,3,FALSE),0)","v":0},{"$f":"IFERROR(VLOOKUP(QB11,MATCHSELEVES!$Y$14:$AE$600,4,FALSE),0)","v":0},{"$f":"IFERROR(VLOOKUP(QB11,MATCHSELEVES!$Y$14:$AE$600,5,FALSE),0)","v":0},{"$f":"IFERROR(VLOOKUP(QB11,MATCHSELEVES!$Y$14:$AF$600,8,FALSE),0)","v":0},{"$f":"IFERROR(VLOOKUP(QB11,MATCHSELEVES!$Y$14:$AG$600,9,FALSE),0)","v":0},"Bilal S.p_32",{"$f":"IFERROR(VLOOKUP(QH11,MATCHSELEVES!$Y$14:$AE$600,3,FALSE),0)","v":0},{"$f":"IFERROR(VLOOKUP(QH11,MATCHSELEVES!$Y$14:$AE$600,4,FALSE),0)","v":0},{"$f":"IFERROR(VLOOKUP(QH11,MATCHSELEVES!$Y$14:$AE$600,5,FALSE),0)","v":0},{"$f":"IFERROR(VLOOKUP(QH11,MATCHSELEVES!$Y$14:$AF$600,8,FALSE),0)","v":0},{"$f":"IFERROR(VLOOKUP(QH11,MATCHSELEVES!$Y$14:$AG$600,9,FALSE),0)","v":0},"Bilal S.p_33",{"$f":"IFERROR(VLOOKUP(QN11,MATCHSELEVES!$Y$14:$AE$600,3,FALSE),0)","v":0},{"$f":"IFERROR(VLOOKUP(QN11,MATCHSELEVES!$Y$14:$AE$600,4,FALSE),0)","v":0},{"$f":"IFERROR(VLOOKUP(QN11,MATCHSELEVES!$Y$14:$AE$600,5,FALSE),0)","v":0},{"$f":"IFERROR(VLOOKUP(QN11,MATCHSELEVES!$Y$14:$AF$600,8,FALSE),0)","v":0},{"$f":"IFERROR(VLOOKUP(QN11,MATCHSELEVES!$Y$14:$AG$600,9,FALSE),0)","v":0},"Bilal S.p_34",{"$f":"IFERROR(VLOOKUP(QT11,MATCHSELEVES!$Y$14:$AE$600,3,FALSE),0)","v":0},{"$f":"IFERROR(VLOOKUP(QT11,MATCHSELEVES!$Y$14:$AE$600,4,FALSE),0)","v":0},{"$f":"IFERROR(VLOOKUP(QT11,MATCHSELEVES!$Y$14:$AE$600,5,FALSE),0)","v":0},{"$f":"IFERROR(VLOOKUP(QT11,MATCHSELEVES!$Y$14:$AF$600,8,FALSE),0)","v":0},{"$f":"IFERROR(VLOOKUP(QT11,MATCHSELEVES!$Y$14:$AG$600,9,FALSE),0)","v":0},"Bilal S.p_35",{"$f":"IFERROR(VLOOKUP(QZ11,MATCHSELEVES!$Y$14:$AE$600,3,FALSE),0)","v":0},{"$f":"IFERROR(VLOOKUP(QZ11,MATCHSELEVES!$Y$14:$AE$600,4,FALSE),0)","v":0},{"$f":"IFERROR(VLOOKUP(QZ11,MATCHSELEVES!$Y$14:$AE$600,5,FALSE),0)","v":0},{"$f":"IFERROR(VLOOKUP(QZ11,MATCHSELEVES!$Y$14:$AF$600,8,FALSE),0)","v":0},{"$f":"IFERROR(VLOOKUP(QZ11,MATCHSELEVES!$Y$14:$AG$600,9,FALSE),0)","v":0},"Bilal S.p_36",{"$f":"IFERROR(VLOOKUP(RF11,MATCHSELEVES!$Y$14:$AE$600,3,FALSE),0)","v":0},{"$f":"IFERROR(VLOOKUP(RF11,MATCHSELEVES!$Y$14:$AE$600,4,FALSE),0)","v":0},{"$f":"IFERROR(VLOOKUP(RF11,MATCHSELEVES!$Y$14:$AE$600,5,FALSE),0)","v":0},{"$f":"IFERROR(VLOOKUP(RF11,MATCHSELEVES!$Y$14:$AF$600,8,FALSE),0)","v":0},{"$f":"IFERROR(VLOOKUP(RF11,MATCHSELEVES!$Y$14:$AG$600,9,FALSE),0)","v":0},"Bilal S.p_37",{"$f":"IFERROR(VLOOKUP(RL11,MATCHSELEVES!$Y$14:$AE$600,3,FALSE),0)","v":0},{"$f":"IFERROR(VLOOKUP(RL11,MATCHSELEVES!$Y$14:$AE$600,4,FALSE),0)","v":0},{"$f":"IFERROR(VLOOKUP(RL11,MATCHSELEVES!$Y$14:$AE$600,5,FALSE),0)","v":0},{"$f":"IFERROR(VLOOKUP(RL11,MATCHSELEVES!$Y$14:$AF$600,8,FALSE),0)","v":0},{"$f":"IFERROR(VLOOKUP(RL11,MATCHSELEVES!$Y$14:$AG$600,9,FALSE),0)","v":0},"Bilal S.p_38",{"$f":"IFERROR(VLOOKUP(RR11,MATCHSELEVES!$Y$14:$AE$600,3,FALSE),0)","v":0},{"$f":"IFERROR(VLOOKUP(RR11,MATCHSELEVES!$Y$14:$AE$600,4,FALSE),0)","v":0},{"$f":"IFERROR(VLOOKUP(RR11,MATCHSELEVES!$Y$14:$AE$600,5,FALSE),0)","v":0},{"$f":"IFERROR(VLOOKUP(RR11,MATCHSELEVES!$Y$14:$AF$600,8,FALSE),0)","v":0},{"$f":"IFERROR(VLOOKUP(RR11,MATCHSELEVES!$Y$14:$AG$600,9,FALSE),0)","v":0},"Bilal S.p_39",{"$f":"IFERROR(VLOOKUP(RX11,MATCHSELEVES!$Y$14:$AE$600,3,FALSE),0)","v":0},{"$f":"IFERROR(VLOOKUP(RX11,MATCHSELEVES!$Y$14:$AE$600,4,FALSE),0)","v":0},{"$f":"IFERROR(VLOOKUP(RX11,MATCHSELEVES!$Y$14:$AE$600,5,FALSE),0)","v":0},{"$f":"IFERROR(VLOOKUP(RX11,MATCHSELEVES!$Y$14:$AF$600,8,FALSE),0)","v":0},{"$f":"IFERROR(VLOOKUP(RX11,MATCHSELEVES!$Y$14:$AG$600,9,FALSE),0)","v":0},"Bilal S.p_40",{"$f":"IFERROR(VLOOKUP(SD11,MATCHSELEVES!$Y$14:$AE$600,3,FALSE),0)","v":0},{"$f":"IFERROR(VLOOKUP(SD11,MATCHSELEVES!$Y$14:$AE$600,4,FALSE),0)","v":0},{"$f":"IFERROR(VLOOKUP(SD11,MATCHSELEVES!$Y$14:$AE$600,5,FALSE),0)","v":0},{"$f":"IFERROR(VLOOKUP(SD11,MATCHSELEVES!$Y$14:$AF$600,8,FALSE),0)","v":0},{"$f":"IFERROR(VLOOKUP(SD11,MATCHSELEVES!$Y$14:$AG$600,9,FALSE),0)","v":0}]
[9,null,{"$f":"MD1POINT!C12","v":"Djaoidou"},{"$f":"MD1POINT!D12","v":1},{"$f":"COUNTIF(MATCHSELEVES!$Z$14:$Z$600,C12)+COUNTIF(MATCHSELEVES!$Z$14:$Z$600,$C12&\"p\")","v":0},1,{"$f":"COUNTIF(MATCHSELEVES!$F$14:$H$249,C12)","v":0},1,0,1,0,1,0,1,{"$f":"Y12+AE12+AK12+AQ12+AW12+BC12+BI12+BO12+BU12+CA12+CG12+CM12+CS12+CY12+DE12+DK12+DQ12+DW12+EC12+EI12+EO12+EU12+FA12+FG12+FM12+FS12+FY12+GE12+GK12+GQ12+GW12+4+HI12+HO12+HU12+IA12+HC12+IG12+IM12+IY12+IS12+JH12+JN12+JZ12+JT12+KF12+KR12+KX12+LJ12+LP12+LV12+LD12+MB12+MH12+MN12+MZ12+MT12+NF12+NL12+NR12+NX12+OD12+OJ12+OP12+OV12+PB12+PH12+PT12+PN12+PZ12+QF12+QL12+QR12+RD12+QX12+RJ12+RP12+RV12+SB12+SH12+KL12+Tableau10[[#This Row],[Nombre de matchs joués]]*2","v":4},1,{"$f":"(Tableau10[[#This Row],[CLASSEMENT1]]+Tableau10[[#This Row],[CLASSEMENT2]]+Tableau10[[#This Row],[CLASSEMENT3]]+Tableau10[[#This Row],[CLASSEMENT4]]+Tableau10[[#This Row],[CLASSEMENT5]]+Tableau10[[#This Row],[CLASSEMENT6]])/6","v":1},{"$f":"RANK(Tableau10[[#This Row],[MOYENNE CLASSEMENTS]],Tableau10[MOYENNE CLASSEMENTS],1)","v":1},null,{"$f":"Tableau10[[#This Row],[CLASSEMENT1]]","v":1},"Djaoidou_1",{"$f":"IFERROR(VLOOKUP(U12,MATCHSELEVES!$Y$14:$AE$600,3,FALSE),0)","v":0},{"$f":"IFERROR(VLOOKUP(U12,MATCHSELEVES!$Y$14:$AE$600,4,FALSE),0)","v":0},{"$f":"IFERROR(VLOOKUP(U12,MATCHSELEVES!$Y$14:$AE$600,5,FALSE),0)","v":0},{"$f":"IFERROR(VLOOKUP(U12,MATCHSELEVES!$Y$14:$AF$600,8,FALSE),0)","v":0},{"$f":"IFERROR(VLOOKUP(U12,MATCHSELEVES!$Y$14:$AG$600,9,FALSE),0)","v":0},"Djaoidou_2",{"$f":"IFERROR(VLOOKUP(AA12,MATCHSELEVES!$Y$14:$AE$600,3,FALSE),0)","v":0},{"$f":"IFERROR(VLOOKUP(AA12,MATCHSELEVES!$Y$14:$AE$600,4,FALSE),0)","v":0},{"$f":"IFERROR(VLOOKUP(AA12,MATCHSELEVES!$Y$14:$AE$600,5,FALSE),0)","v":0},{"$f":"IFERROR(VLOOKUP(AA12,MATCHSELEVES!$Y$14:$AF$600,8,FALSE),0)","v":0},{"$f":"IFERROR(VLOOKUP(AA12,MATCHSELEVES!$Y$14:$AG$600,9,FALSE),0)","v":0},"Djaoidou_3",{"$f":"IFERROR(VLOOKUP(AG12,MATCHSELEVES!$Y$14:$AE$600,3,FALSE),0)","v":0},{"$f":"IFERROR(VLOOKUP(AG12,MATCHSELEVES!$Y$14:$AE$600,4,FALSE),0)","v":0},{"$f":"IFERROR(VLOOKUP(AG12,MATCHSELEVES!$Y$14:$AE$600,5,FALSE),0)","v":0},{"$f":"IFERROR(VLOOKUP(AG12,MATCHSELEVES!$Y$14:$AF$600,8,FALSE),0)","v":0},{"$f":"IFERROR(VLOOKUP(AG12,MATCHSELEVES!$Y$14:$AG$600,9,FALSE),0)","v":0},"Djaoidou_4",{"$f":"IFERROR(VLOOKUP(AM12,MATCHSELEVES!$Y$14:$AE$600,3,FALSE),0)","v":0},{"$f":"IFERROR(VLOOKUP(AM12,MATCHSELEVES!$Y$14:$AE$600,4,FALSE),0)","v":0},{"$f":"IFERROR(VLOOKUP(AM12,MATCHSELEVES!$Y$14:$AE$600,5,FALSE),0)","v":0},{"$f":"IFERROR(VLOOKUP(AM12,MATCHSELEVES!$Y$14:$AF$600,8,FALSE),0)","v":0},{"$f":"IFERROR(VLOOKUP(AM12,MATCHSELEVES!$Y$14:$AG$600,9,FALSE),0)","v":0},"Djaoidou_5",{"$f":"IFERROR(VLOOKUP(AS12,MATCHSELEVES!$Y$14:$AE$600,3,FALSE),0)","v":0},{"$f":"IFERROR(VLOOKUP(AS12,MATCHSELEVES!$Y$14:$AE$600,4,FALSE),0)","v":0},{"$f":"IFERROR(VLOOKUP(AS12,MATCHSELEVES!$Y$14:$AE$600,5,FALSE),0)","v":0},{"$f":"IFERROR(VLOOKUP(AS12,MATCHSELEVES!$Y$14:$AF$600,8,FALSE),0)","v":0},{"$f":"IFERROR(VLOOKUP(AS12,MATCHSELEVES!$Y$14:$AG$600,9,FALSE),0)","v":0},"Djaoidou_6",{"$f":"IFERROR(VLOOKUP(AY12,MATCHSELEVES!$Y$14:$AE$600,3,FALSE),0)","v":0},{"$f":"IFERROR(VLOOKUP(AY12,MATCHSELEVES!$Y$14:$AE$600,4,FALSE),0)","v":0},{"$f":"IFERROR(VLOOKUP(AY12,MATCHSELEVES!$Y$14:$AE$600,5,FALSE),0)","v":0},{"$f":"IFERROR(VLOOKUP(AY12,MATCHSELEVES!$Y$14:$AF$600,8,FALSE),0)","v":0},{"$f":"IFERROR(VLOOKUP(AY12,MATCHSELEVES!$Y$14:$AG$600,9,FALSE),0)","v":0},"Djaoidou_7",{"$f":"IFERROR(VLOOKUP(BE12,MATCHSELEVES!$Y$14:$AE$600,3,FALSE),0)","v":0},{"$f":"IFERROR(VLOOKUP(BE12,MATCHSELEVES!$Y$14:$AE$600,4,FALSE),0)","v":0},{"$f":"IFERROR(VLOOKUP(BE12,MATCHSELEVES!$Y$14:$AE$600,5,FALSE),0)","v":0},{"$f":"IFERROR(VLOOKUP(BE12,MATCHSELEVES!$Y$14:$AF$600,8,FALSE),0)","v":0},{"$f":"IFERROR(VLOOKUP(BE12,MATCHSELEVES!$Y$14:$AG$600,9,FALSE),0)","v":0},"Djaoidou_8",{"$f":"IFERROR(VLOOKUP(BK12,MATCHSELEVES!$Y$14:$AE$600,3,FALSE),0)","v":0},{"$f":"IFERROR(VLOOKUP(BK12,MATCHSELEVES!$Y$14:$AE$600,4,FALSE),0)","v":0},{"$f":"IFERROR(VLOOKUP(BK12,MATCHSELEVES!$Y$14:$AE$600,5,FALSE),0)","v":0},{"$f":"IFERROR(VLOOKUP(BK12,MATCHSELEVES!$Y$14:$AF$600,8,FALSE),0)","v":0},{"$f":"IFERROR(VLOOKUP(BK12,MATCHSELEVES!$Y$14:$AG$600,9,FALSE),0)","v":0},"Djaoidou_9",{"$f":"IFERROR(VLOOKUP(BQ12,MATCHSELEVES!$Y$14:$AE$600,3,FALSE),0)","v":0},{"$f":"IFERROR(VLOOKUP(BQ12,MATCHSELEVES!$Y$14:$AE$600,4,FALSE),0)","v":0},{"$f":"IFERROR(VLOOKUP(BQ12,MATCHSELEVES!$Y$14:$AE$600,5,FALSE),0)","v":0},{"$f":"IFERROR(VLOOKUP(BQ12,MATCHSELEVES!$Y$14:$AF$600,8,FALSE),0)","v":0},{"$f":"IFERROR(VLOOKUP(BQ12,MATCHSELEVES!$Y$14:$AG$600,9,FALSE),0)","v":0},"Djaoidou_10",{"$f":"IFERROR(VLOOKUP(BW12,MATCHSELEVES!$Y$14:$AE$600,3,FALSE),0)","v":0},{"$f":"IFERROR(VLOOKUP(BW12,MATCHSELEVES!$Y$14:$AE$600,4,FALSE),0)","v":0},{"$f":"IFERROR(VLOOKUP(BW12,MATCHSELEVES!$Y$14:$AE$600,5,FALSE),0)","v":0},{"$f":"IFERROR(VLOOKUP(BW12,MATCHSELEVES!$Y$14:$AF$600,8,FALSE),0)","v":0},{"$f":"IFERROR(VLOOKUP(BW12,MATCHSELEVES!$Y$14:$AG$600,9,FALSE),0)","v":0},"Djaoidou_11",{"$f":"IFERROR(VLOOKUP(CC12,MATCHSELEVES!$Y$14:$AE$600,3,FALSE),0)","v":0},{"$f":"IFERROR(VLOOKUP(CC12,MATCHSELEVES!$Y$14:$AE$600,4,FALSE),0)","v":0},{"$f":"IFERROR(VLOOKUP(CC12,MATCHSELEVES!$Y$14:$AE$600,5,FALSE),0)","v":0},{"$f":"IFERROR(VLOOKUP(CC12,MATCHSELEVES!$Y$14:$AF$600,8,FALSE),0)","v":0},{"$f":"IFERROR(VLOOKUP(CC12,MATCHSELEVES!$Y$14:$AG$600,9,FALSE),0)","v":0},"Djaoidou_12",{"$f":"IFERROR(VLOOKUP(CI12,MATCHSELEVES!$Y$14:$AE$600,3,FALSE),0)","v":0},{"$f":"IFERROR(VLOOKUP(CI12,MATCHSELEVES!$Y$14:$AE$600,4,FALSE),0)","v":0},{"$f":"IFERROR(VLOOKUP(CI12,MATCHSELEVES!$Y$14:$AE$600,5,FALSE),0)","v":0},{"$f":"IFERROR(VLOOKUP(CI12,MATCHSELEVES!$Y$14:$AF$600,8,FALSE),0)","v":0},{"$f":"IFERROR(VLOOKUP(CI12,MATCHSELEVES!$Y$14:$AG$600,9,FALSE),0)","v":0},"Djaoidou_13",{"$f":"IFERROR(VLOOKUP(CO12,MATCHSELEVES!$Y$14:$AE$600,3,FALSE),0)","v":0},{"$f":"IFERROR(VLOOKUP(CO12,MATCHSELEVES!$Y$14:$AE$600,4,FALSE),0)","v":0},{"$f":"IFERROR(VLOOKUP(CO12,MATCHSELEVES!$Y$14:$AE$600,5,FALSE),0)","v":0},{"$f":"IFERROR(VLOOKUP(CO12,MATCHSELEVES!$Y$14:$AF$600,8,FALSE),0)","v":0},{"$f":"IFERROR(VLOOKUP(CO12,MATCHSELEVES!$Y$14:$AG$600,9,FALSE),0)","v":0},"Djaoidou_14",{"$f":"IFERROR(VLOOKUP(CU12,MATCHSELEVES!$Y$14:$AE$600,3,FALSE),0)","v":0},{"$f":"IFERROR(VLOOKUP(CU12,MATCHSELEVES!$Y$14:$AE$600,4,FALSE),0)","v":0},{"$f":"IFERROR(VLOOKUP(CU12,MATCHSELEVES!$Y$14:$AE$600,5,FALSE),0)","v":0},{"$f":"IFERROR(VLOOKUP(CU12,MATCHSELEVES!$Y$14:$AF$600,8,FALSE),0)","v":0},{"$f":"IFERROR(VLOOKUP(CU12,MATCHSELEVES!$Y$14:$AG$600,9,FALSE),0)","v":0},"Djaoidou_15",{"$f":"IFERROR(VLOOKUP(DA12,MATCHSELEVES!$Y$14:$AE$600,3,FALSE),0)","v":0},{"$f":"IFERROR(VLOOKUP(DA12,MATCHSELEVES!$Y$14:$AE$600,4,FALSE),0)","v":0},{"$f":"IFERROR(VLOOKUP(DA12,MATCHSELEVES!$Y$14:$AE$600,5,FALSE),0)","v":0},{"$f":"IFERROR(VLOOKUP(DA12,MATCHSELEVES!$Y$14:$AF$600,8,FALSE),0)","v":0},{"$f":"IFERROR(VLOOKUP(DA12,MATCHSELEVES!$Y$14:$AG$600,9,FALSE),0)","v":0},"Djaoidou_16",{"$f":"IFERROR(VLOOKUP(DG12,MATCHSELEVES!$Y$14:$AE$600,3,FALSE),0)","v":0},{"$f":"IFERROR(VLOOKUP(DG12,MATCHSELEVES!$Y$14:$AE$600,4,FALSE),0)","v":0},{"$f":"IFERROR(VLOOKUP(DG12,MATCHSELEVES!$Y$14:$AE$600,5,FALSE),0)","v":0},{"$f":"IFERROR(VLOOKUP(DG12,MATCHSELEVES!$Y$14:$AF$600,8,FALSE),0)","v":0},{"$f":"IFERROR(VLOOKUP(DG12,MATCHSELEVES!$Y$14:$AG$600,9,FALSE),0)","v":0},"Djaoidou_17",{"$f":"IFERROR(VLOOKUP(DM12,MATCHSELEVES!$Y$14:$AE$600,3,FALSE),0)","v":0},{"$f":"IFERROR(VLOOKUP(DM12,MATCHSELEVES!$Y$14:$AE$600,4,FALSE),0)","v":0},{"$f":"IFERROR(VLOOKUP(DM12,MATCHSELEVES!$Y$14:$AE$600,5,FALSE),0)","v":0},{"$f":"IFERROR(VLOOKUP(DM12,MATCHSELEVES!$Y$14:$AF$600,8,FALSE),0)","v":0},{"$f":"IFERROR(VLOOKUP(DM12,MATCHSELEVES!$Y$14:$AG$600,9,FALSE),0)","v":0},"Djaoidou_18",{"$f":"IFERROR(VLOOKUP(DS12,MATCHSELEVES!$Y$14:$AE$600,3,FALSE),0)","v":0},{"$f":"IFERROR(VLOOKUP(DS12,MATCHSELEVES!$Y$14:$AE$600,4,FALSE),0)","v":0},{"$f":"IFERROR(VLOOKUP(DS12,MATCHSELEVES!$Y$14:$AE$600,5,FALSE),0)","v":0},{"$f":"IFERROR(VLOOKUP(DS12,MATCHSELEVES!$Y$14:$AF$600,8,FALSE),0)","v":0},{"$f":"IFERROR(VLOOKUP(DS12,MATCHSELEVES!$Y$14:$AG$600,9,FALSE),0)","v":0},"Djaoidou_19",{"$f":"IFERROR(VLOOKUP(DY12,MATCHSELEVES!$Y$14:$AE$600,3,FALSE),0)","v":0},{"$f":"IFERROR(VLOOKUP(DY12,MATCHSELEVES!$Y$14:$AE$600,4,FALSE),0)","v":0},{"$f":"IFERROR(VLOOKUP(DY12,MATCHSELEVES!$Y$14:$AE$600,5,FALSE),0)","v":0},{"$f":"IFERROR(VLOOKUP(DY12,MATCHSELEVES!$Y$14:$AF$600,8,FALSE),0)","v":0},{"$f":"IFERROR(VLOOKUP(DY12,MATCHSELEVES!$Y$14:$AG$600,9,FALSE),0)","v":0},"Djaoidou_20",{"$f":"IFERROR(VLOOKUP(EE12,MATCHSELEVES!$Y$14:$AE$600,3,FALSE),0)","v":0},{"$f":"IFERROR(VLOOKUP(EE12,MATCHSELEVES!$Y$14:$AE$600,4,FALSE),0)","v":0},{"$f":"IFERROR(VLOOKUP(EE12,MATCHSELEVES!$Y$14:$AE$600,5,FALSE),0)","v":0},{"$f":"IFERROR(VLOOKUP(EE12,MATCHSELEVES!$Y$14:$AF$600,8,FALSE),0)","v":0},{"$f":"IFERROR(VLOOKUP(EE12,MATCHSELEVES!$Y$14:$AG$600,9,FALSE),0)","v":0},"Djaoidou_21",{"$f":"IFERROR(VLOOKUP(EK12,MATCHSELEVES!$Y$14:$AE$600,3,FALSE),0)","v":0},{"$f":"IFERROR(VLOOKUP(EK12,MATCHSELEVES!$Y$14:$AE$600,4,FALSE),0)","v":0},{"$f":"IFERROR(VLOOKUP(EK12,MATCHSELEVES!$Y$14:$AE$600,5,FALSE),0)","v":0},{"$f":"IFERROR(VLOOKUP(EK12,MATCHSELEVES!$Y$14:$AF$600,8,FALSE),0)","v":0},{"$f":"IFERROR(VLOOKUP(EK12,MATCHSELEVES!$Y$14:$AG$600,9,FALSE),0)","v":0},"Djaoidou_22",{"$f":"IFERROR(VLOOKUP(EQ12,MATCHSELEVES!$Y$14:$AE$600,3,FALSE),0)","v":0},{"$f":"IFERROR(VLOOKUP(EQ12,MATCHSELEVES!$Y$14:$AE$600,4,FALSE),0)","v":0},{"$f":"IFERROR(VLOOKUP(EQ12,MATCHSELEVES!$Y$14:$AE$600,5,FALSE),0)","v":0},{"$f":"IFERROR(VLOOKUP(EQ12,MATCHSELEVES!$Y$14:$AF$600,8,FALSE),0)","v":0},{"$f":"IFERROR(VLOOKUP(EQ12,MATCHSELEVES!$Y$14:$AG$600,9,FALSE),0)","v":0},"Djaoidou_23",{"$f":"IFERROR(VLOOKUP(EW12,MATCHSELEVES!$Y$14:$AE$600,3,FALSE),0)","v":0},{"$f":"IFERROR(VLOOKUP(EW12,MATCHSELEVES!$Y$14:$AE$600,4,FALSE),0)","v":0},{"$f":"IFERROR(VLOOKUP(EW12,MATCHSELEVES!$Y$14:$AE$600,5,FALSE),0)","v":0},{"$f":"IFERROR(VLOOKUP(EW12,MATCHSELEVES!$Y$14:$AF$600,8,FALSE),0)","v":0},{"$f":"IFERROR(VLOOKUP(EW12,MATCHSELEVES!$Y$14:$AG$600,9,FALSE),0)","v":0},"Djaoidou_24",{"$f":"IFERROR(VLOOKUP(FC12,MATCHSELEVES!$Y$14:$AE$600,3,FALSE),0)","v":0},{"$f":"IFERROR(VLOOKUP(FC12,MATCHSELEVES!$Y$14:$AE$600,4,FALSE),0)","v":0},{"$f":"IFERROR(VLOOKUP(FC12,MATCHSELEVES!$Y$14:$AE$600,5,FALSE),0)","v":0},{"$f":"IFERROR(VLOOKUP(FC12,MATCHSELEVES!$Y$14:$AF$600,8,FALSE),0)","v":0},{"$f":"IFERROR(VLOOKUP(FC12,MATCHSELEVES!$Y$14:$AG$600,9,FALSE),0)","v":0},"Djaoidou_25",{"$f":"IFERROR(VLOOKUP(FI12,MATCHSELEVES!$Y$14:$AE$600,3,FALSE),0)","v":0},{"$f":"IFERROR(VLOOKUP(FI12,MATCHSELEVES!$Y$14:$AE$600,4,FALSE),0)","v":0},{"$f":"IFERROR(VLOOKUP(FI12,MATCHSELEVES!$Y$14:$AE$600,5,FALSE),0)","v":0},{"$f":"IFERROR(VLOOKUP(FI12,MATCHSELEVES!$Y$14:$AF$600,8,FALSE),0)","v":0},{"$f":"IFERROR(VLOOKUP(FI12,MATCHSELEVES!$Y$14:$AG$600,9,FALSE),0)","v":0},"Djaoidou_26",{"$f":"IFERROR(VLOOKUP(FO12,MATCHSELEVES!$Y$14:$AE$600,3,FALSE),0)","v":0},{"$f":"IFERROR(VLOOKUP(FO12,MATCHSELEVES!$Y$14:$AE$600,4,FALSE),0)","v":0},{"$f":"IFERROR(VLOOKUP(FO12,MATCHSELEVES!$Y$14:$AE$600,5,FALSE),0)","v":0},{"$f":"IFERROR(VLOOKUP(FO12,MATCHSELEVES!$Y$14:$AF$600,8,FALSE),0)","v":0},{"$f":"IFERROR(VLOOKUP(FO12,MATCHSELEVES!$Y$14:$AG$600,9,FALSE),0)","v":0},"Djaoidou_27",{"$f":"IFERROR(VLOOKUP(FU12,MATCHSELEVES!$Y$14:$AE$600,3,FALSE),0)","v":0},{"$f":"IFERROR(VLOOKUP(FU12,MATCHSELEVES!$Y$14:$AE$600,4,FALSE),0)","v":0},{"$f":"IFERROR(VLOOKUP(FU12,MATCHSELEVES!$Y$14:$AE$600,5,FALSE),0)","v":0},{"$f":"IFERROR(VLOOKUP(FU12,MATCHSELEVES!$Y$14:$AF$600,8,FALSE),0)","v":0},{"$f":"IFERROR(VLOOKUP(FU12,MATCHSELEVES!$Y$14:$AG$600,9,FALSE),0)","v":0},"Djaoidou_28",{"$f":"IFERROR(VLOOKUP(GA12,MATCHSELEVES!$Y$14:$AE$600,3,FALSE),0)","v":0},{"$f":"IFERROR(VLOOKUP(GA12,MATCHSELEVES!$Y$14:$AE$600,4,FALSE),0)","v":0},{"$f":"IFERROR(VLOOKUP(GA12,MATCHSELEVES!$Y$14:$AE$600,5,FALSE),0)","v":0},{"$f":"IFERROR(VLOOKUP(GA12,MATCHSELEVES!$Y$14:$AF$600,8,FALSE),0)","v":0},{"$f":"IFERROR(VLOOKUP(GA12,MATCHSELEVES!$Y$14:$AG$600,9,FALSE),0)","v":0},"Djaoidou_29",{"$f":"IFERROR(VLOOKUP(GG12,MATCHSELEVES!$Y$14:$AE$600,3,FALSE),0)","v":0},{"$f":"IFERROR(VLOOKUP(GG12,MATCHSELEVES!$Y$14:$AE$600,4,FALSE),0)","v":0},{"$f":"IFERROR(VLOOKUP(GG12,MATCHSELEVES!$Y$14:$AE$600,5,FALSE),0)","v":0},{"$f":"IFERROR(VLOOKUP(GG12,MATCHSELEVES!$Y$14:$AF$600,8,FALSE),0)","v":0},{"$f":"IFERROR(VLOOKUP(GG12,MATCHSELEVES!$Y$14:$AG$600,9,FALSE),0)","v":0},"Djaoidou_30",{"$f":"IFERROR(VLOOKUP(GM12,MATCHSELEVES!$Y$14:$AE$600,3,FALSE),0)","v":0},{"$f":"IFERROR(VLOOKUP(GM12,MATCHSELEVES!$Y$14:$AE$600,4,FALSE),0)","v":0},{"$f":"IFERROR(VLOOKUP(GM12,MATCHSELEVES!$Y$14:$AE$600,5,FALSE),0)","v":0},{"$f":"IFERROR(VLOOKUP(GM12,MATCHSELEVES!$Y$14:$AF$600,8,FALSE),0)","v":0},{"$f":"IFERROR(VLOOKUP(GM12,MATCHSELEVES!$Y$14:$AG$600,9,FALSE),0)","v":0},"Djaoidou_31",{"$f":"IFERROR(VLOOKUP(GS12,MATCHSELEVES!$Y$14:$AE$600,3,FALSE),0)","v":0},{"$f":"IFERROR(VLOOKUP(GS12,MATCHSELEVES!$Y$14:$AE$600,4,FALSE),0)","v":0},{"$f":"IFERROR(VLOOKUP(GS12,MATCHSELEVES!$Y$14:$AE$600,5,FALSE),0)","v":0},{"$f":"IFERROR(VLOOKUP(GS12,MATCHSELEVES!$Y$14:$AF$600,8,FALSE),0)","v":0},{"$f":"IFERROR(VLOOKUP(GS12,MATCHSELEVES!$Y$14:$AG$600,9,FALSE),0)","v":0},"Djaoidou_32",{"$f":"IFERROR(VLOOKUP(GY12,MATCHSELEVES!$Y$14:$AE$600,3,FALSE),0)","v":0},{"$f":"IFERROR(VLOOKUP(GY12,MATCHSELEVES!$Y$14:$AE$600,4,FALSE),0)","v":0},{"$f":"IFERROR(VLOOKUP(GY12,MATCHSELEVES!$Y$14:$AE$600,5,FALSE),0)","v":0},{"$f":"IFERROR(VLOOKUP(GY12,MATCHSELEVES!$Y$14:$AF$600,8,FALSE),0)","v":0},{"$f":"IFERROR(VLOOKUP(GY12,MATCHSELEVES!$Y$14:$AG$600,9,FALSE),0)","v":0},"Djaoidou_33",{"$f":"IFERROR(VLOOKUP(HE12,MATCHSELEVES!$Y$14:$AE$600,3,FALSE),0)","v":0},{"$f":"IFERROR(VLOOKUP(HE12,MATCHSELEVES!$Y$14:$AE$600,4,FALSE),0)","v":0},{"$f":"IFERROR(VLOOKUP(HE12,MATCHSELEVES!$Y$14:$AE$600,5,FALSE),0)","v":0},{"$f":"IFERROR(VLOOKUP(HE12,MATCHSELEVES!$Y$14:$AF$600,8,FALSE),0)","v":0},{"$f":"IFERROR(VLOOKUP(HE12,MATCHSELEVES!$Y$14:$AG$600,9,FALSE),0)","v":0},"Djaoidou_34",{"$f":"IFERROR(VLOOKUP(HK12,MATCHSELEVES!$Y$14:$AE$600,3,FALSE),0)","v":0},{"$f":"IFERROR(VLOOKUP(HK12,MATCHSELEVES!$Y$14:$AE$600,4,FALSE),0)","v":0},{"$f":"IFERROR(VLOOKUP(HK12,MATCHSELEVES!$Y$14:$AE$600,5,FALSE),0)","v":0},{"$f":"IFERROR(VLOOKUP(HK12,MATCHSELEVES!$Y$14:$AF$600,8,FALSE),0)","v":0},{"$f":"IFERROR(VLOOKUP(HK12,MATCHSELEVES!$Y$14:$AG$600,9,FALSE),0)","v":0},"Djaoidou_35",{"$f":"IFERROR(VLOOKUP(HQ12,MATCHSELEVES!$Y$14:$AE$600,3,FALSE),0)","v":0},{"$f":"IFERROR(VLOOKUP(HQ12,MATCHSELEVES!$Y$14:$AE$600,4,FALSE),0)","v":0},{"$f":"IFERROR(VLOOKUP(HQ12,MATCHSELEVES!$Y$14:$AE$600,5,FALSE),0)","v":0},{"$f":"IFERROR(VLOOKUP(HQ12,MATCHSELEVES!$Y$14:$AF$600,8,FALSE),0)","v":0},{"$f":"IFERROR(VLOOKUP(HQ12,MATCHSELEVES!$Y$14:$AG$600,9,FALSE),0)","v":0},"Djaoidou_36",{"$f":"IFERROR(VLOOKUP(HW12,MATCHSELEVES!$Y$14:$AE$600,3,FALSE),0)","v":0},{"$f":"IFERROR(VLOOKUP(HW12,MATCHSELEVES!$Y$14:$AE$600,4,FALSE),0)","v":0},{"$f":"IFERROR(VLOOKUP(HW12,MATCHSELEVES!$Y$14:$AE$600,5,FALSE),0)","v":0},{"$f":"IFERROR(VLOOKUP(HW12,MATCHSELEVES!$Y$14:$AF$600,8,FALSE),0)","v":0},{"$f":"IFERROR(VLOOKUP(HW12,MATCHSELEVES!$Y$14:$AG$600,9,FALSE),0)","v":0},"Djaoidou_37",{"$f":"IFERROR(VLOOKUP(IC12,MATCHSELEVES!$Y$14:$AE$600,3,FALSE),0)","v":0},{"$f":"IFERROR(VLOOKUP(IC12,MATCHSELEVES!$Y$14:$AE$600,4,FALSE),0)","v":0},{"$f":"IFERROR(VLOOKUP(IC12,MATCHSELEVES!$Y$14:$AE$600,5,FALSE),0)","v":0},{"$f":"IFERROR(VLOOKUP(IC12,MATCHSELEVES!$Y$14:$AF$600,8,FALSE),0)","v":0},{"$f":"IFERROR(VLOOKUP(IC12,MATCHSELEVES!$Y$14:$AG$600,9,FALSE),0)","v":0},"Djaoidou_38",{"$f":"IFERROR(VLOOKUP(II12,MATCHSELEVES!$Y$14:$AE$600,3,FALSE),0)","v":0},{"$f":"IFERROR(VLOOKUP(II12,MATCHSELEVES!$Y$14:$AE$600,4,FALSE),0)","v":0},{"$f":"IFERROR(VLOOKUP(II12,MATCHSELEVES!$Y$14:$AE$600,5,FALSE),0)","v":0},{"$f":"IFERROR(VLOOKUP(II12,MATCHSELEVES!$Y$14:$AF$600,8,FALSE),0)","v":0},{"$f":"IFERROR(VLOOKUP(II12,MATCHSELEVES!$Y$14:$AG$600,9,FALSE),0)","v":0},"Djaoidou_39",{"$f":"IFERROR(VLOOKUP(IO12,MATCHSELEVES!$Y$14:$AE$600,3,FALSE),0)","v":0},{"$f":"IFERROR(VLOOKUP(IO12,MATCHSELEVES!$Y$14:$AE$600,4,FALSE),0)","v":0},{"$f":"IFERROR(VLOOKUP(IO12,MATCHSELEVES!$Y$14:$AE$600,5,FALSE),0)","v":0},{"$f":"IFERROR(VLOOKUP(IO12,MATCHSELEVES!$Y$14:$AF$600,8,FALSE),0)","v":0},{"$f":"IFERROR(VLOOKUP(IO12,MATCHSELEVES!$Y$14:$AG$600,9,FALSE),0)","v":0},"Djaoidou_40",{"$f":"IFERROR(VLOOKUP(IU12,MATCHSELEVES!$Y$14:$AE$600,3,FALSE),0)","v":0},{"$f":"IFERROR(VLOOKUP(IU12,MATCHSELEVES!$Y$14:$AE$600,4,FALSE),0)","v":0},{"$f":"IFERROR(VLOOKUP(IU12,MATCHSELEVES!$Y$14:$AE$600,5,FALSE),0)","v":0},{"$f":"IFERROR(VLOOKUP(IU12,MATCHSELEVES!$Y$14:$AF$600,8,FALSE),0)","v":0},{"$f":"IFERROR(VLOOKUP(IU12,MATCHSELEVES!$Y$14:$AG$600,9,FALSE),0)","v":0},{"$f":"Tableau10[[#This Row],[CLASSE]]","v":"Djaoidou"},1,{"$f":"MD1POINT!D12","v":1},"Djaoidoup_1",{"$f":"IFERROR(VLOOKUP(JD12,MATCHSELEVES!$Y$14:$AE$600,3,FALSE),0)","v":0},{"$f":"IFERROR(VLOOKUP(JD12,MATCHSELEVES!$Y$14:$AE$600,4,FALSE),0)","v":0},{"$f":"IFERROR(VLOOKUP(JD12,MATCHSELEVES!$Y$14:$AE$600,5,FALSE),0)","v":0},{"$f":"IFERROR(VLOOKUP(JD12,MATCHSELEVES!$Y$14:$AF$600,8,FALSE),0)","v":0},{"$f":"IFERROR(VLOOKUP(JD12,MATCHSELEVES!$Y$14:$AG$600,9,FALSE),0)","v":0},"Djaoidoup_2",{"$f":"IFERROR(VLOOKUP(JJ12,MATCHSELEVES!$Y$14:$AE$600,3,FALSE),0)","v":0},{"$f":"IFERROR(VLOOKUP(JJ12,MATCHSELEVES!$Y$14:$AE$600,4,FALSE),0)","v":0},{"$f":"IFERROR(VLOOKUP(JJ12,MATCHSELEVES!$Y$14:$AE$600,5,FALSE),0)","v":0},{"$f":"IFERROR(VLOOKUP(JJ12,MATCHSELEVES!$Y$14:$AF$600,8,FALSE),0)","v":0},{"$f":"IFERROR(VLOOKUP(JJ12,MATCHSELEVES!$Y$14:$AG$600,9,FALSE),0)","v":0},"Djaoidoup_3",{"$f":"IFERROR(VLOOKUP(JP12,MATCHSELEVES!$Y$14:$AE$600,3,FALSE),0)","v":0},{"$f":"IFERROR(VLOOKUP(JP12,MATCHSELEVES!$Y$14:$AE$600,4,FALSE),0)","v":0},{"$f":"IFERROR(VLOOKUP(JP12,MATCHSELEVES!$Y$14:$AE$600,5,FALSE),0)","v":0},{"$f":"IFERROR(VLOOKUP(JP12,MATCHSELEVES!$Y$14:$AF$600,8,FALSE),0)","v":0},{"$f":"IFERROR(VLOOKUP(JP12,MATCHSELEVES!$Y$14:$AG$600,9,FALSE),0)","v":0},"Djaoidoup_4",{"$f":"IFERROR(VLOOKUP(JV12,MATCHSELEVES!$Y$14:$AE$600,3,FALSE),0)","v":0},{"$f":"IFERROR(VLOOKUP(JV12,MATCHSELEVES!$Y$14:$AE$600,4,FALSE),0)","v":0},{"$f":"IFERROR(VLOOKUP(JV12,MATCHSELEVES!$Y$14:$AE$600,5,FALSE),0)","v":0},{"$f":"IFERROR(VLOOKUP(JV12,MATCHSELEVES!$Y$14:$AF$600,8,FALSE),0)","v":0},{"$f":"IFERROR(VLOOKUP(JV12,MATCHSELEVES!$Y$14:$AG$600,9,FALSE),0)","v":0},"Djaoidoup_5",{"$f":"IFERROR(VLOOKUP(KB12,MATCHSELEVES!$Y$14:$AE$600,3,FALSE),0)","v":0},{"$f":"IFERROR(VLOOKUP(KB12,MATCHSELEVES!$Y$14:$AE$600,4,FALSE),0)","v":0},{"$f":"IFERROR(VLOOKUP(KB12,MATCHSELEVES!$Y$14:$AE$600,5,FALSE),0)","v":0},{"$f":"IFERROR(VLOOKUP(KB12,MATCHSELEVES!$Y$14:$AF$600,8,FALSE),0)","v":0},{"$f":"IFERROR(VLOOKUP(KB12,MATCHSELEVES!$Y$14:$AG$600,9,FALSE),0)","v":0},"Djaoidoup_6",{"$f":"IFERROR(VLOOKUP(KH12,MATCHSELEVES!$Y$14:$AE$600,3,FALSE),0)","v":0},{"$f":"IFERROR(VLOOKUP(KH12,MATCHSELEVES!$Y$14:$AE$600,4,FALSE),0)","v":0},{"$f":"IFERROR(VLOOKUP(KH12,MATCHSELEVES!$Y$14:$AE$600,5,FALSE),0)","v":0},{"$f":"IFERROR(VLOOKUP(KH12,MATCHSELEVES!$Y$14:$AF$600,8,FALSE),0)","v":0},{"$f":"IFERROR(VLOOKUP(KH12,MATCHSELEVES!$Y$14:$AG$600,9,FALSE),0)","v":0},"Djaoidoup_7",{"$f":"IFERROR(VLOOKUP(KN12,MATCHSELEVES!$Y$14:$AE$600,3,FALSE),0)","v":0},{"$f":"IFERROR(VLOOKUP(KN12,MATCHSELEVES!$Y$14:$AE$600,4,FALSE),0)","v":0},{"$f":"IFERROR(VLOOKUP(KN12,MATCHSELEVES!$Y$14:$AE$600,5,FALSE),0)","v":0},{"$f":"IFERROR(VLOOKUP(KN12,MATCHSELEVES!$Y$14:$AF$600,8,FALSE),0)","v":0},{"$f":"IFERROR(VLOOKUP(KN12,MATCHSELEVES!$Y$14:$AG$600,9,FALSE),0)","v":0},"Djaoidoup_8",{"$f":"IFERROR(VLOOKUP(KT12,MATCHSELEVES!$Y$14:$AE$600,3,FALSE),0)","v":0},{"$f":"IFERROR(VLOOKUP(KT12,MATCHSELEVES!$Y$14:$AE$600,4,FALSE),0)","v":0},{"$f":"IFERROR(VLOOKUP(KT12,MATCHSELEVES!$Y$14:$AE$600,5,FALSE),0)","v":0},{"$f":"IFERROR(VLOOKUP(KT12,MATCHSELEVES!$Y$14:$AF$600,8,FALSE),0)","v":0},{"$f":"IFERROR(VLOOKUP(KT12,MATCHSELEVES!$Y$14:$AG$600,9,FALSE),0)","v":0},"Djaoidoup_9",{"$f":"IFERROR(VLOOKUP(KZ12,MATCHSELEVES!$Y$14:$AE$600,3,FALSE),0)","v":0},{"$f":"IFERROR(VLOOKUP(KZ12,MATCHSELEVES!$Y$14:$AE$600,4,FALSE),0)","v":0},{"$f":"IFERROR(VLOOKUP(KZ12,MATCHSELEVES!$Y$14:$AE$600,5,FALSE),0)","v":0},{"$f":"IFERROR(VLOOKUP(KZ12,MATCHSELEVES!$Y$14:$AF$600,8,FALSE),0)","v":0},{"$f":"IFERROR(VLOOKUP(KZ12,MATCHSELEVES!$Y$14:$AG$600,9,FALSE),0)","v":0},"Djaoidoup_10",{"$f":"IFERROR(VLOOKUP(LF12,MATCHSELEVES!$Y$14:$AE$600,3,FALSE),0)","v":0},{"$f":"IFERROR(VLOOKUP(LF12,MATCHSELEVES!$Y$14:$AE$600,4,FALSE),0)","v":0},{"$f":"IFERROR(VLOOKUP(LF12,MATCHSELEVES!$Y$14:$AE$600,5,FALSE),0)","v":0},{"$f":"IFERROR(VLOOKUP(LF12,MATCHSELEVES!$Y$14:$AF$600,8,FALSE),0)","v":0},{"$f":"IFERROR(VLOOKUP(LF12,MATCHSELEVES!$Y$14:$AG$600,9,FALSE),0)","v":0},"Djaoidoup_11",{"$f":"IFERROR(VLOOKUP(LL12,MATCHSELEVES!$Y$14:$AE$600,3,FALSE),0)","v":0},{"$f":"IFERROR(VLOOKUP(LL12,MATCHSELEVES!$Y$14:$AE$600,4,FALSE),0)","v":0},{"$f":"IFERROR(VLOOKUP(LL12,MATCHSELEVES!$Y$14:$AE$600,5,FALSE),0)","v":0},{"$f":"IFERROR(VLOOKUP(LL12,MATCHSELEVES!$Y$14:$AF$600,8,FALSE),0)","v":0},{"$f":"IFERROR(VLOOKUP(LL12,MATCHSELEVES!$Y$14:$AG$600,9,FALSE),0)","v":0},"Djaoidoup_12",{"$f":"IFERROR(VLOOKUP(LR12,MATCHSELEVES!$Y$14:$AE$600,3,FALSE),0)","v":0},{"$f":"IFERROR(VLOOKUP(LR12,MATCHSELEVES!$Y$14:$AE$600,4,FALSE),0)","v":0},{"$f":"IFERROR(VLOOKUP(LR12,MATCHSELEVES!$Y$14:$AE$600,5,FALSE),0)","v":0},{"$f":"IFERROR(VLOOKUP(LR12,MATCHSELEVES!$Y$14:$AF$600,8,FALSE),0)","v":0},{"$f":"IFERROR(VLOOKUP(LR12,MATCHSELEVES!$Y$14:$AG$600,9,FALSE),0)","v":0},"Djaoidoup_13",{"$f":"IFERROR(VLOOKUP(LX12,MATCHSELEVES!$Y$14:$AE$600,3,FALSE),0)","v":0},{"$f":"IFERROR(VLOOKUP(LX12,MATCHSELEVES!$Y$14:$AE$600,4,FALSE),0)","v":0},{"$f":"IFERROR(VLOOKUP(LX12,MATCHSELEVES!$Y$14:$AE$600,5,FALSE),0)","v":0},{"$f":"IFERROR(VLOOKUP(LX12,MATCHSELEVES!$Y$14:$AF$600,8,FALSE),0)","v":0},{"$f":"IFERROR(VLOOKUP(LX12,MATCHSELEVES!$Y$14:$AG$600,9,FALSE),0)","v":0},"Djaoidoup_14",{"$f":"IFERROR(VLOOKUP(MD12,MATCHSELEVES!$Y$14:$AE$600,3,FALSE),0)","v":0},{"$f":"IFERROR(VLOOKUP(MD12,MATCHSELEVES!$Y$14:$AE$600,4,FALSE),0)","v":0},{"$f":"IFERROR(VLOOKUP(MD12,MATCHSELEVES!$Y$14:$AE$600,5,FALSE),0)","v":0},{"$f":"IFERROR(VLOOKUP(MD12,MATCHSELEVES!$Y$14:$AF$600,8,FALSE),0)","v":0},{"$f":"IFERROR(VLOOKUP(MD12,MATCHSELEVES!$Y$14:$AG$600,9,FALSE),0)","v":0},"Djaoidoup_15",{"$f":"IFERROR(VLOOKUP(MJ12,MATCHSELEVES!$Y$14:$AE$600,3,FALSE),0)","v":0},{"$f":"IFERROR(VLOOKUP(MJ12,MATCHSELEVES!$Y$14:$AE$600,4,FALSE),0)","v":0},{"$f":"IFERROR(VLOOKUP(MJ12,MATCHSELEVES!$Y$14:$AE$600,5,FALSE),0)","v":0},{"$f":"IFERROR(VLOOKUP(MJ12,MATCHSELEVES!$Y$14:$AF$600,8,FALSE),0)","v":0},{"$f":"IFERROR(VLOOKUP(MJ12,MATCHSELEVES!$Y$14:$AG$600,9,FALSE),0)","v":0},"Djaoidoup_16",{"$f":"IFERROR(VLOOKUP(MP12,MATCHSELEVES!$Y$14:$AE$600,3,FALSE),0)","v":0},{"$f":"IFERROR(VLOOKUP(MP12,MATCHSELEVES!$Y$14:$AE$600,4,FALSE),0)","v":0},{"$f":"IFERROR(VLOOKUP(MP12,MATCHSELEVES!$Y$14:$AE$600,5,FALSE),0)","v":0},{"$f":"IFERROR(VLOOKUP(MP12,MATCHSELEVES!$Y$14:$AF$600,8,FALSE),0)","v":0},{"$f":"IFERROR(VLOOKUP(MP12,MATCHSELEVES!$Y$14:$AG$600,9,FALSE),0)","v":0},"Djaoidoup_17",{"$f":"IFERROR(VLOOKUP(MV12,MATCHSELEVES!$Y$14:$AE$600,3,FALSE),0)","v":0},{"$f":"IFERROR(VLOOKUP(MV12,MATCHSELEVES!$Y$14:$AE$600,4,FALSE),0)","v":0},{"$f":"IFERROR(VLOOKUP(MV12,MATCHSELEVES!$Y$14:$AE$600,5,FALSE),0)","v":0},{"$f":"IFERROR(VLOOKUP(MV12,MATCHSELEVES!$Y$14:$AF$600,8,FALSE),0)","v":0},{"$f":"IFERROR(VLOOKUP(MV12,MATCHSELEVES!$Y$14:$AG$600,9,FALSE),0)","v":0},"Djaoidoup_18",{"$f":"IFERROR(VLOOKUP(NB12,MATCHSELEVES!$Y$14:$AE$600,3,FALSE),0)","v":0},{"$f":"IFERROR(VLOOKUP(NB12,MATCHSELEVES!$Y$14:$AE$600,4,FALSE),0)","v":0},{"$f":"IFERROR(VLOOKUP(NB12,MATCHSELEVES!$Y$14:$AE$600,5,FALSE),0)","v":0},{"$f":"IFERROR(VLOOKUP(NB12,MATCHSELEVES!$Y$14:$AF$600,8,FALSE),0)","v":0},{"$f":"IFERROR(VLOOKUP(NB12,MATCHSELEVES!$Y$14:$AG$600,9,FALSE),0)","v":0},"Djaoidoup_19",{"$f":"IFERROR(VLOOKUP(NH12,MATCHSELEVES!$Y$14:$AE$600,3,FALSE),0)","v":0},{"$f":"IFERROR(VLOOKUP(NH12,MATCHSELEVES!$Y$14:$AE$600,4,FALSE),0)","v":0},{"$f":"IFERROR(VLOOKUP(NH12,MATCHSELEVES!$Y$14:$AE$600,5,FALSE),0)","v":0},{"$f":"IFERROR(VLOOKUP(NH12,MATCHSELEVES!$Y$14:$AF$600,8,FALSE),0)","v":0},{"$f":"IFERROR(VLOOKUP(NH12,MATCHSELEVES!$Y$14:$AG$600,9,FALSE),0)","v":0},"Djaoidoup_20",{"$f":"IFERROR(VLOOKUP(NN12,MATCHSELEVES!$Y$14:$AE$600,3,FALSE),0)","v":0},{"$f":"IFERROR(VLOOKUP(NN12,MATCHSELEVES!$Y$14:$AE$600,4,FALSE),0)","v":0},{"$f":"IFERROR(VLOOKUP(NN12,MATCHSELEVES!$Y$14:$AE$600,5,FALSE),0)","v":0},{"$f":"IFERROR(VLOOKUP(NN12,MATCHSELEVES!$Y$14:$AF$600,8,FALSE),0)","v":0},{"$f":"IFERROR(VLOOKUP(NN12,MATCHSELEVES!$Y$14:$AG$600,9,FALSE),0)","v":0},"Djaoidoup_21",{"$f":"IFERROR(VLOOKUP(NT12,MATCHSELEVES!$Y$14:$AE$600,3,FALSE),0)","v":0},{"$f":"IFERROR(VLOOKUP(NT12,MATCHSELEVES!$Y$14:$AE$600,4,FALSE),0)","v":0},{"$f":"IFERROR(VLOOKUP(NT12,MATCHSELEVES!$Y$14:$AE$600,5,FALSE),0)","v":0},{"$f":"IFERROR(VLOOKUP(NT12,MATCHSELEVES!$Y$14:$AF$600,8,FALSE),0)","v":0},{"$f":"IFERROR(VLOOKUP(NT12,MATCHSELEVES!$Y$14:$AG$600,9,FALSE),0)","v":0},"Djaoidoup_22",{"$f":"IFERROR(VLOOKUP(NZ12,MATCHSELEVES!$Y$14:$AE$600,3,FALSE),0)","v":0},{"$f":"IFERROR(VLOOKUP(NZ12,MATCHSELEVES!$Y$14:$AE$600,4,FALSE),0)","v":0},{"$f":"IFERROR(VLOOKUP(NZ12,MATCHSELEVES!$Y$14:$AE$600,5,FALSE),0)","v":0},{"$f":"IFERROR(VLOOKUP(NZ12,MATCHSELEVES!$Y$14:$AF$600,8,FALSE),0)","v":0},{"$f":"IFERROR(VLOOKUP(NZ12,MATCHSELEVES!$Y$14:$AG$600,9,FALSE),0)","v":0},"Djaoidoup_23",{"$f":"IFERROR(VLOOKUP(OF12,MATCHSELEVES!$Y$14:$AE$600,3,FALSE),0)","v":0},{"$f":"IFERROR(VLOOKUP(OF12,MATCHSELEVES!$Y$14:$AE$600,4,FALSE),0)","v":0},{"$f":"IFERROR(VLOOKUP(OF12,MATCHSELEVES!$Y$14:$AE$600,5,FALSE),0)","v":0},{"$f":"IFERROR(VLOOKUP(OF12,MATCHSELEVES!$Y$14:$AF$600,8,FALSE),0)","v":0},{"$f":"IFERROR(VLOOKUP(OF12,MATCHSELEVES!$Y$14:$AG$600,9,FALSE),0)","v":0},"Djaoidoup_24",{"$f":"IFERROR(VLOOKUP(OL12,MATCHSELEVES!$Y$14:$AE$600,3,FALSE),0)","v":0},{"$f":"IFERROR(VLOOKUP(OL12,MATCHSELEVES!$Y$14:$AE$600,4,FALSE),0)","v":0},{"$f":"IFERROR(VLOOKUP(OL12,MATCHSELEVES!$Y$14:$AE$600,5,FALSE),0)","v":0},{"$f":"IFERROR(VLOOKUP(OL12,MATCHSELEVES!$Y$14:$AF$600,8,FALSE),0)","v":0},{"$f":"IFERROR(VLOOKUP(OL12,MATCHSELEVES!$Y$14:$AG$600,9,FALSE),0)","v":0},"Djaoidoup_25",{"$f":"IFERROR(VLOOKUP(OR12,MATCHSELEVES!$Y$14:$AE$600,3,FALSE),0)","v":0},{"$f":"IFERROR(VLOOKUP(OR12,MATCHSELEVES!$Y$14:$AE$600,4,FALSE),0)","v":0},{"$f":"IFERROR(VLOOKUP(OR12,MATCHSELEVES!$Y$14:$AE$600,5,FALSE),0)","v":0},{"$f":"IFERROR(VLOOKUP(OR12,MATCHSELEVES!$Y$14:$AF$600,8,FALSE),0)","v":0},{"$f":"IFERROR(VLOOKUP(OR12,MATCHSELEVES!$Y$14:$AG$600,9,FALSE),0)","v":0},"Djaoidoup_26",{"$f":"IFERROR(VLOOKUP(OX12,MATCHSELEVES!$Y$14:$AE$600,3,FALSE),0)","v":0},{"$f":"IFERROR(VLOOKUP(OX12,MATCHSELEVES!$Y$14:$AE$600,4,FALSE),0)","v":0},{"$f":"IFERROR(VLOOKUP(OX12,MATCHSELEVES!$Y$14:$AE$600,5,FALSE),0)","v":0},{"$f":"IFERROR(VLOOKUP(OX12,MATCHSELEVES!$Y$14:$AF$600,8,FALSE),0)","v":0},{"$f":"IFERROR(VLOOKUP(OX12,MATCHSELEVES!$Y$14:$AG$600,9,FALSE),0)","v":0},"Djaoidoup_27",{"$f":"IFERROR(VLOOKUP(PD12,MATCHSELEVES!$Y$14:$AE$600,3,FALSE),0)","v":0},{"$f":"IFERROR(VLOOKUP(PD12,MATCHSELEVES!$Y$14:$AE$600,4,FALSE),0)","v":0},{"$f":"IFERROR(VLOOKUP(PD12,MATCHSELEVES!$Y$14:$AE$600,5,FALSE),0)","v":0},{"$f":"IFERROR(VLOOKUP(PD12,MATCHSELEVES!$Y$14:$AF$600,8,FALSE),0)","v":0},{"$f":"IFERROR(VLOOKUP(PD12,MATCHSELEVES!$Y$14:$AG$600,9,FALSE),0)","v":0},"Djaoidoup_28",{"$f":"IFERROR(VLOOKUP(PJ12,MATCHSELEVES!$Y$14:$AE$600,3,FALSE),0)","v":0},{"$f":"IFERROR(VLOOKUP(PJ12,MATCHSELEVES!$Y$14:$AE$600,4,FALSE),0)","v":0},{"$f":"IFERROR(VLOOKUP(PJ12,MATCHSELEVES!$Y$14:$AE$600,5,FALSE),0)","v":0},{"$f":"IFERROR(VLOOKUP(PJ12,MATCHSELEVES!$Y$14:$AF$600,8,FALSE),0)","v":0},{"$f":"IFERROR(VLOOKUP(PJ12,MATCHSELEVES!$Y$14:$AG$600,9,FALSE),0)","v":0},"Djaoidoup_29",{"$f":"IFERROR(VLOOKUP(PP12,MATCHSELEVES!$Y$14:$AE$600,3,FALSE),0)","v":0},{"$f":"IFERROR(VLOOKUP(PP12,MATCHSELEVES!$Y$14:$AE$600,4,FALSE),0)","v":0},{"$f":"IFERROR(VLOOKUP(PP12,MATCHSELEVES!$Y$14:$AE$600,5,FALSE),0)","v":0},{"$f":"IFERROR(VLOOKUP(PP12,MATCHSELEVES!$Y$14:$AF$600,8,FALSE),0)","v":0},{"$f":"IFERROR(VLOOKUP(PP12,MATCHSELEVES!$Y$14:$AG$600,9,FALSE),0)","v":0},"Djaoidoup_30",{"$f":"IFERROR(VLOOKUP(PV12,MATCHSELEVES!$Y$14:$AE$600,3,FALSE),0)","v":0},{"$f":"IFERROR(VLOOKUP(PV12,MATCHSELEVES!$Y$14:$AE$600,4,FALSE),0)","v":0},{"$f":"IFERROR(VLOOKUP(PV12,MATCHSELEVES!$Y$14:$AE$600,5,FALSE),0)","v":0},{"$f":"IFERROR(VLOOKUP(PV12,MATCHSELEVES!$Y$14:$AF$600,8,FALSE),0)","v":0},{"$f":"IFERROR(VLOOKUP(PV12,MATCHSELEVES!$Y$14:$AG$600,9,FALSE),0)","v":0},"Djaoidoup_31",{"$f":"IFERROR(VLOOKUP(QB12,MATCHSELEVES!$Y$14:$AE$600,3,FALSE),0)","v":0},{"$f":"IFERROR(VLOOKUP(QB12,MATCHSELEVES!$Y$14:$AE$600,4,FALSE),0)","v":0},{"$f":"IFERROR(VLOOKUP(QB12,MATCHSELEVES!$Y$14:$AE$600,5,FALSE),0)","v":0},{"$f":"IFERROR(VLOOKUP(QB12,MATCHSELEVES!$Y$14:$AF$600,8,FALSE),0)","v":0},{"$f":"IFERROR(VLOOKUP(QB12,MATCHSELEVES!$Y$14:$AG$600,9,FALSE),0)","v":0},"Djaoidoup_32",{"$f":"IFERROR(VLOOKUP(QH12,MATCHSELEVES!$Y$14:$AE$600,3,FALSE),0)","v":0},{"$f":"IFERROR(VLOOKUP(QH12,MATCHSELEVES!$Y$14:$AE$600,4,FALSE),0)","v":0},{"$f":"IFERROR(VLOOKUP(QH12,MATCHSELEVES!$Y$14:$AE$600,5,FALSE),0)","v":0},{"$f":"IFERROR(VLOOKUP(QH12,MATCHSELEVES!$Y$14:$AF$600,8,FALSE),0)","v":0},{"$f":"IFERROR(VLOOKUP(QH12,MATCHSELEVES!$Y$14:$AG$600,9,FALSE),0)","v":0},"Djaoidoup_33",{"$f":"IFERROR(VLOOKUP(QN12,MATCHSELEVES!$Y$14:$AE$600,3,FALSE),0)","v":0},{"$f":"IFERROR(VLOOKUP(QN12,MATCHSELEVES!$Y$14:$AE$600,4,FALSE),0)","v":0},{"$f":"IFERROR(VLOOKUP(QN12,MATCHSELEVES!$Y$14:$AE$600,5,FALSE),0)","v":0},{"$f":"IFERROR(VLOOKUP(QN12,MATCHSELEVES!$Y$14:$AF$600,8,FALSE),0)","v":0},{"$f":"IFERROR(VLOOKUP(QN12,MATCHSELEVES!$Y$14:$AG$600,9,FALSE),0)","v":0},"Djaoidoup_34",{"$f":"IFERROR(VLOOKUP(QT12,MATCHSELEVES!$Y$14:$AE$600,3,FALSE),0)","v":0},{"$f":"IFERROR(VLOOKUP(QT12,MATCHSELEVES!$Y$14:$AE$600,4,FALSE),0)","v":0},{"$f":"IFERROR(VLOOKUP(QT12,MATCHSELEVES!$Y$14:$AE$600,5,FALSE),0)","v":0},{"$f":"IFERROR(VLOOKUP(QT12,MATCHSELEVES!$Y$14:$AF$600,8,FALSE),0)","v":0},{"$f":"IFERROR(VLOOKUP(QT12,MATCHSELEVES!$Y$14:$AG$600,9,FALSE),0)","v":0},"Djaoidoup_35",{"$f":"IFERROR(VLOOKUP(QZ12,MATCHSELEVES!$Y$14:$AE$600,3,FALSE),0)","v":0},{"$f":"IFERROR(VLOOKUP(QZ12,MATCHSELEVES!$Y$14:$AE$600,4,FALSE),0)","v":0},{"$f":"IFERROR(VLOOKUP(QZ12,MATCHSELEVES!$Y$14:$AE$600,5,FALSE),0)","v":0},{"$f":"IFERROR(VLOOKUP(QZ12,MATCHSELEVES!$Y$14:$AF$600,8,FALSE),0)","v":0},{"$f":"IFERROR(VLOOKUP(QZ12,MATCHSELEVES!$Y$14:$AG$600,9,FALSE),0)","v":0},"Djaoidoup_36",{"$f":"IFERROR(VLOOKUP(RF12,MATCHSELEVES!$Y$14:$AE$600,3,FALSE),0)","v":0},{"$f":"IFERROR(VLOOKUP(RF12,MATCHSELEVES!$Y$14:$AE$600,4,FALSE),0)","v":0},{"$f":"IFERROR(VLOOKUP(RF12,MATCHSELEVES!$Y$14:$AE$600,5,FALSE),0)","v":0},{"$f":"IFERROR(VLOOKUP(RF12,MATCHSELEVES!$Y$14:$AF$600,8,FALSE),0)","v":0},{"$f":"IFERROR(VLOOKUP(RF12,MATCHSELEVES!$Y$14:$AG$600,9,FALSE),0)","v":0},"Djaoidoup_37",{"$f":"IFERROR(VLOOKUP(RL12,MATCHSELEVES!$Y$14:$AE$600,3,FALSE),0)","v":0},{"$f":"IFERROR(VLOOKUP(RL12,MATCHSELEVES!$Y$14:$AE$600,4,FALSE),0)","v":0},{"$f":"IFERROR(VLOOKUP(RL12,MATCHSELEVES!$Y$14:$AE$600,5,FALSE),0)","v":0},{"$f":"IFERROR(VLOOKUP(RL12,MATCHSELEVES!$Y$14:$AF$600,8,FALSE),0)","v":0},{"$f":"IFERROR(VLOOKUP(RL12,MATCHSELEVES!$Y$14:$AG$600,9,FALSE),0)","v":0},"Djaoidoup_38",{"$f":"IFERROR(VLOOKUP(RR12,MATCHSELEVES!$Y$14:$AE$600,3,FALSE),0)","v":0},{"$f":"IFERROR(VLOOKUP(RR12,MATCHSELEVES!$Y$14:$AE$600,4,FALSE),0)","v":0},{"$f":"IFERROR(VLOOKUP(RR12,MATCHSELEVES!$Y$14:$AE$600,5,FALSE),0)","v":0},{"$f":"IFERROR(VLOOKUP(RR12,MATCHSELEVES!$Y$14:$AF$600,8,FALSE),0)","v":0},{"$f":"IFERROR(VLOOKUP(RR12,MATCHSELEVES!$Y$14:$AG$600,9,FALSE),0)","v":0},"Djaoidoup_39",{"$f":"IFERROR(VLOOKUP(RX12,MATCHSELEVES!$Y$14:$AE$600,3,FALSE),0)","v":0},{"$f":"IFERROR(VLOOKUP(RX12,MATCHSELEVES!$Y$14:$AE$600,4,FALSE),0)","v":0},{"$f":"IFERROR(VLOOKUP(RX12,MATCHSELEVES!$Y$14:$AE$600,5,FALSE),0)","v":0},{"$f":"IFERROR(VLOOKUP(RX12,MATCHSELEVES!$Y$14:$AF$600,8,FALSE),0)","v":0},{"$f":"IFERROR(VLOOKUP(RX12,MATCHSELEVES!$Y$14:$AG$600,9,FALSE),0)","v":0},"Djaoidoup_40",{"$f":"IFERROR(VLOOKUP(SD12,MATCHSELEVES!$Y$14:$AE$600,3,FALSE),0)","v":0},{"$f":"IFERROR(VLOOKUP(SD12,MATCHSELEVES!$Y$14:$AE$600,4,FALSE),0)","v":0},{"$f":"IFERROR(VLOOKUP(SD12,MATCHSELEVES!$Y$14:$AE$600,5,FALSE),0)","v":0},{"$f":"IFERROR(VLOOKUP(SD12,MATCHSELEVES!$Y$14:$AF$600,8,FALSE),0)","v":0},{"$f":"IFERROR(VLOOKUP(SD12,MATCHSELEVES!$Y$14:$AG$600,9,FALSE),0)","v":0}]
[10,null,{"$f":"MD1POINT!C13","v":"Fahade"},{"$f":"MD1POINT!D13","v":1},{"$f":"COUNTIF(MATCHSELEVES!$Z$14:$Z$600,C13)+COUNTIF(MATCHSELEVES!$Z$14:$Z$600,$C13&\"p\")","v":0},1,{"$f":"COUNTIF(MATCHSELEVES!$F$14:$H$249,C13)","v":0},1,0,1,0,1,0,1,{"$f":"Y13+AE13+AK13+AQ13+AW13+BC13+BI13+BO13+BU13+CA13+CG13+CM13+CS13+CY13+DE13+DK13+DQ13+DW13+EC13+EI13+EO13+EU13+FA13+FG13+FM13+FS13+FY13+GE13+GK13+GQ13+GW13+4+HI13+HO13+HU13+IA13+HC13+IG13+IM13+IY13+IS13+JH13+JN13+JZ13+JT13+KF13+KR13+KX13+LJ13+LP13+LV13+LD13+MB13+MH13+MN13+MZ13+MT13+NF13+NL13+NR13+NX13+OD13+OJ13+OP13+OV13+PB13+PH13+PT13+PN13+PZ13+QF13+QL13+QR13+RD13+QX13+RJ13+RP13+RV13+SB13+SH13+KL13+Tableau10[[#This Row],[Nombre de matchs joués]]*2","v":4},1,{"$f":"(Tableau10[[#This Row],[CLASSEMENT1]]+Tableau10[[#This Row],[CLASSEMENT2]]+Tableau10[[#This Row],[CLASSEMENT3]]+Tableau10[[#This Row],[CLASSEMENT4]]+Tableau10[[#This Row],[CLASSEMENT5]]+Tableau10[[#This Row],[CLASSEMENT6]])/6","v":1},{"$f":"RANK(Tableau10[[#This Row],[MOYENNE CLASSEMENTS]],Tableau10[MOYENNE CLASSEMENTS],1)","v":1},null,{"$f":"Tableau10[[#This Row],[CLASSEMENT1]]","v":1},"Fahade_1",{"$f":"IFERROR(VLOOKUP(U13,MATCHSELEVES!$Y$14:$AE$600,3,FALSE),0)","v":0},{"$f":"IFERROR(VLOOKUP(U13,MATCHSELEVES!$Y$14:$AE$600,4,FALSE),0)","v":0},{"$f":"IFERROR(VLOOKUP(U13,MATCHSELEVES!$Y$14:$AE$600,5,FALSE),0)","v":0},{"$f":"IFERROR(VLOOKUP(U13,MATCHSELEVES!$Y$14:$AF$600,8,FALSE),0)","v":0},{"$f":"IFERROR(VLOOKUP(U13,MATCHSELEVES!$Y$14:$AG$600,9,FALSE),0)","v":0},"Fahade_2",{"$f":"IFERROR(VLOOKUP(AA13,MATCHSELEVES!$Y$14:$AE$600,3,FALSE),0)","v":0},{"$f":"IFERROR(VLOOKUP(AA13,MATCHSELEVES!$Y$14:$AE$600,4,FALSE),0)","v":0},{"$f":"IFERROR(VLOOKUP(AA13,MATCHSELEVES!$Y$14:$AE$600,5,FALSE),0)","v":0},{"$f":"IFERROR(VLOOKUP(AA13,MATCHSELEVES!$Y$14:$AF$600,8,FALSE),0)","v":0},{"$f":"IFERROR(VLOOKUP(AA13,MATCHSELEVES!$Y$14:$AG$600,9,FALSE),0)","v":0},"Fahade_3",{"$f":"IFERROR(VLOOKUP(AG13,MATCHSELEVES!$Y$14:$AE$600,3,FALSE),0)","v":0},{"$f":"IFERROR(VLOOKUP(AG13,MATCHSELEVES!$Y$14:$AE$600,4,FALSE),0)","v":0},{"$f":"IFERROR(VLOOKUP(AG13,MATCHSELEVES!$Y$14:$AE$600,5,FALSE),0)","v":0},{"$f":"IFERROR(VLOOKUP(AG13,MATCHSELEVES!$Y$14:$AF$600,8,FALSE),0)","v":0},{"$f":"IFERROR(VLOOKUP(AG13,MATCHSELEVES!$Y$14:$AG$600,9,FALSE),0)","v":0},"Fahade_4",{"$f":"IFERROR(VLOOKUP(AM13,MATCHSELEVES!$Y$14:$AE$600,3,FALSE),0)","v":0},{"$f":"IFERROR(VLOOKUP(AM13,MATCHSELEVES!$Y$14:$AE$600,4,FALSE),0)","v":0},{"$f":"IFERROR(VLOOKUP(AM13,MATCHSELEVES!$Y$14:$AE$600,5,FALSE),0)","v":0},{"$f":"IFERROR(VLOOKUP(AM13,MATCHSELEVES!$Y$14:$AF$600,8,FALSE),0)","v":0},{"$f":"IFERROR(VLOOKUP(AM13,MATCHSELEVES!$Y$14:$AG$600,9,FALSE),0)","v":0},"Fahade_5",{"$f":"IFERROR(VLOOKUP(AS13,MATCHSELEVES!$Y$14:$AE$600,3,FALSE),0)","v":0},{"$f":"IFERROR(VLOOKUP(AS13,MATCHSELEVES!$Y$14:$AE$600,4,FALSE),0)","v":0},{"$f":"IFERROR(VLOOKUP(AS13,MATCHSELEVES!$Y$14:$AE$600,5,FALSE),0)","v":0},{"$f":"IFERROR(VLOOKUP(AS13,MATCHSELEVES!$Y$14:$AF$600,8,FALSE),0)","v":0},{"$f":"IFERROR(VLOOKUP(AS13,MATCHSELEVES!$Y$14:$AG$600,9,FALSE),0)","v":0},"Fahade_6",{"$f":"IFERROR(VLOOKUP(AY13,MATCHSELEVES!$Y$14:$AE$600,3,FALSE),0)","v":0},{"$f":"IFERROR(VLOOKUP(AY13,MATCHSELEVES!$Y$14:$AE$600,4,FALSE),0)","v":0},{"$f":"IFERROR(VLOOKUP(AY13,MATCHSELEVES!$Y$14:$AE$600,5,FALSE),0)","v":0},{"$f":"IFERROR(VLOOKUP(AY13,MATCHSELEVES!$Y$14:$AF$600,8,FALSE),0)","v":0},{"$f":"IFERROR(VLOOKUP(AY13,MATCHSELEVES!$Y$14:$AG$600,9,FALSE),0)","v":0},"Fahade_7",{"$f":"IFERROR(VLOOKUP(BE13,MATCHSELEVES!$Y$14:$AE$600,3,FALSE),0)","v":0},{"$f":"IFERROR(VLOOKUP(BE13,MATCHSELEVES!$Y$14:$AE$600,4,FALSE),0)","v":0},{"$f":"IFERROR(VLOOKUP(BE13,MATCHSELEVES!$Y$14:$AE$600,5,FALSE),0)","v":0},{"$f":"IFERROR(VLOOKUP(BE13,MATCHSELEVES!$Y$14:$AF$600,8,FALSE),0)","v":0},{"$f":"IFERROR(VLOOKUP(BE13,MATCHSELEVES!$Y$14:$AG$600,9,FALSE),0)","v":0},"Fahade_8",{"$f":"IFERROR(VLOOKUP(BK13,MATCHSELEVES!$Y$14:$AE$600,3,FALSE),0)","v":0},{"$f":"IFERROR(VLOOKUP(BK13,MATCHSELEVES!$Y$14:$AE$600,4,FALSE),0)","v":0},{"$f":"IFERROR(VLOOKUP(BK13,MATCHSELEVES!$Y$14:$AE$600,5,FALSE),0)","v":0},{"$f":"IFERROR(VLOOKUP(BK13,MATCHSELEVES!$Y$14:$AF$600,8,FALSE),0)","v":0},{"$f":"IFERROR(VLOOKUP(BK13,MATCHSELEVES!$Y$14:$AG$600,9,FALSE),0)","v":0},"Fahade_9",{"$f":"IFERROR(VLOOKUP(BQ13,MATCHSELEVES!$Y$14:$AE$600,3,FALSE),0)","v":0},{"$f":"IFERROR(VLOOKUP(BQ13,MATCHSELEVES!$Y$14:$AE$600,4,FALSE),0)","v":0},{"$f":"IFERROR(VLOOKUP(BQ13,MATCHSELEVES!$Y$14:$AE$600,5,FALSE),0)","v":0},{"$f":"IFERROR(VLOOKUP(BQ13,MATCHSELEVES!$Y$14:$AF$600,8,FALSE),0)","v":0},{"$f":"IFERROR(VLOOKUP(BQ13,MATCHSELEVES!$Y$14:$AG$600,9,FALSE),0)","v":0},"Fahade_10",{"$f":"IFERROR(VLOOKUP(BW13,MATCHSELEVES!$Y$14:$AE$600,3,FALSE),0)","v":0},{"$f":"IFERROR(VLOOKUP(BW13,MATCHSELEVES!$Y$14:$AE$600,4,FALSE),0)","v":0},{"$f":"IFERROR(VLOOKUP(BW13,MATCHSELEVES!$Y$14:$AE$600,5,FALSE),0)","v":0},{"$f":"IFERROR(VLOOKUP(BW13,MATCHSELEVES!$Y$14:$AF$600,8,FALSE),0)","v":0},{"$f":"IFERROR(VLOOKUP(BW13,MATCHSELEVES!$Y$14:$AG$600,9,FALSE),0)","v":0},"Fahade_11",{"$f":"IFERROR(VLOOKUP(CC13,MATCHSELEVES!$Y$14:$AE$600,3,FALSE),0)","v":0},{"$f":"IFERROR(VLOOKUP(CC13,MATCHSELEVES!$Y$14:$AE$600,4,FALSE),0)","v":0},{"$f":"IFERROR(VLOOKUP(CC13,MATCHSELEVES!$Y$14:$AE$600,5,FALSE),0)","v":0},{"$f":"IFERROR(VLOOKUP(CC13,MATCHSELEVES!$Y$14:$AF$600,8,FALSE),0)","v":0},{"$f":"IFERROR(VLOOKUP(CC13,MATCHSELEVES!$Y$14:$AG$600,9,FALSE),0)","v":0},"Fahade_12",{"$f":"IFERROR(VLOOKUP(CI13,MATCHSELEVES!$Y$14:$AE$600,3,FALSE),0)","v":0},{"$f":"IFERROR(VLOOKUP(CI13,MATCHSELEVES!$Y$14:$AE$600,4,FALSE),0)","v":0},{"$f":"IFERROR(VLOOKUP(CI13,MATCHSELEVES!$Y$14:$AE$600,5,FALSE),0)","v":0},{"$f":"IFERROR(VLOOKUP(CI13,MATCHSELEVES!$Y$14:$AF$600,8,FALSE),0)","v":0},{"$f":"IFERROR(VLOOKUP(CI13,MATCHSELEVES!$Y$14:$AG$600,9,FALSE),0)","v":0},"Fahade_13",{"$f":"IFERROR(VLOOKUP(CO13,MATCHSELEVES!$Y$14:$AE$600,3,FALSE),0)","v":0},{"$f":"IFERROR(VLOOKUP(CO13,MATCHSELEVES!$Y$14:$AE$600,4,FALSE),0)","v":0},{"$f":"IFERROR(VLOOKUP(CO13,MATCHSELEVES!$Y$14:$AE$600,5,FALSE),0)","v":0},{"$f":"IFERROR(VLOOKUP(CO13,MATCHSELEVES!$Y$14:$AF$600,8,FALSE),0)","v":0},{"$f":"IFERROR(VLOOKUP(CO13,MATCHSELEVES!$Y$14:$AG$600,9,FALSE),0)","v":0},"Fahade_14",{"$f":"IFERROR(VLOOKUP(CU13,MATCHSELEVES!$Y$14:$AE$600,3,FALSE),0)","v":0},{"$f":"IFERROR(VLOOKUP(CU13,MATCHSELEVES!$Y$14:$AE$600,4,FALSE),0)","v":0},{"$f":"IFERROR(VLOOKUP(CU13,MATCHSELEVES!$Y$14:$AE$600,5,FALSE),0)","v":0},{"$f":"IFERROR(VLOOKUP(CU13,MATCHSELEVES!$Y$14:$AF$600,8,FALSE),0)","v":0},{"$f":"IFERROR(VLOOKUP(CU13,MATCHSELEVES!$Y$14:$AG$600,9,FALSE),0)","v":0},"Fahade_15",{"$f":"IFERROR(VLOOKUP(DA13,MATCHSELEVES!$Y$14:$AE$600,3,FALSE),0)","v":0},{"$f":"IFERROR(VLOOKUP(DA13,MATCHSELEVES!$Y$14:$AE$600,4,FALSE),0)","v":0},{"$f":"IFERROR(VLOOKUP(DA13,MATCHSELEVES!$Y$14:$AE$600,5,FALSE),0)","v":0},{"$f":"IFERROR(VLOOKUP(DA13,MATCHSELEVES!$Y$14:$AF$600,8,FALSE),0)","v":0},{"$f":"IFERROR(VLOOKUP(DA13,MATCHSELEVES!$Y$14:$AG$600,9,FALSE),0)","v":0},"Fahade_16",{"$f":"IFERROR(VLOOKUP(DG13,MATCHSELEVES!$Y$14:$AE$600,3,FALSE),0)","v":0},{"$f":"IFERROR(VLOOKUP(DG13,MATCHSELEVES!$Y$14:$AE$600,4,FALSE),0)","v":0},{"$f":"IFERROR(VLOOKUP(DG13,MATCHSELEVES!$Y$14:$AE$600,5,FALSE),0)","v":0},{"$f":"IFERROR(VLOOKUP(DG13,MATCHSELEVES!$Y$14:$AF$600,8,FALSE),0)","v":0},{"$f":"IFERROR(VLOOKUP(DG13,MATCHSELEVES!$Y$14:$AG$600,9,FALSE),0)","v":0},"Fahade_17",{"$f":"IFERROR(VLOOKUP(DM13,MATCHSELEVES!$Y$14:$AE$600,3,FALSE),0)","v":0},{"$f":"IFERROR(VLOOKUP(DM13,MATCHSELEVES!$Y$14:$AE$600,4,FALSE),0)","v":0},{"$f":"IFERROR(VLOOKUP(DM13,MATCHSELEVES!$Y$14:$AE$600,5,FALSE),0)","v":0},{"$f":"IFERROR(VLOOKUP(DM13,MATCHSELEVES!$Y$14:$AF$600,8,FALSE),0)","v":0},{"$f":"IFERROR(VLOOKUP(DM13,MATCHSELEVES!$Y$14:$AG$600,9,FALSE),0)","v":0},"Fahade_18",{"$f":"IFERROR(VLOOKUP(DS13,MATCHSELEVES!$Y$14:$AE$600,3,FALSE),0)","v":0},{"$f":"IFERROR(VLOOKUP(DS13,MATCHSELEVES!$Y$14:$AE$600,4,FALSE),0)","v":0},{"$f":"IFERROR(VLOOKUP(DS13,MATCHSELEVES!$Y$14:$AE$600,5,FALSE),0)","v":0},{"$f":"IFERROR(VLOOKUP(DS13,MATCHSELEVES!$Y$14:$AF$600,8,FALSE),0)","v":0},{"$f":"IFERROR(VLOOKUP(DS13,MATCHSELEVES!$Y$14:$AG$600,9,FALSE),0)","v":0},"Fahade_19",{"$f":"IFERROR(VLOOKUP(DY13,MATCHSELEVES!$Y$14:$AE$600,3,FALSE),0)","v":0},{"$f":"IFERROR(VLOOKUP(DY13,MATCHSELEVES!$Y$14:$AE$600,4,FALSE),0)","v":0},{"$f":"IFERROR(VLOOKUP(DY13,MATCHSELEVES!$Y$14:$AE$600,5,FALSE),0)","v":0},{"$f":"IFERROR(VLOOKUP(DY13,MATCHSELEVES!$Y$14:$AF$600,8,FALSE),0)","v":0},{"$f":"IFERROR(VLOOKUP(DY13,MATCHSELEVES!$Y$14:$AG$600,9,FALSE),0)","v":0},"Fahade_20",{"$f":"IFERROR(VLOOKUP(EE13,MATCHSELEVES!$Y$14:$AE$600,3,FALSE),0)","v":0},{"$f":"IFERROR(VLOOKUP(EE13,MATCHSELEVES!$Y$14:$AE$600,4,FALSE),0)","v":0},{"$f":"IFERROR(VLOOKUP(EE13,MATCHSELEVES!$Y$14:$AE$600,5,FALSE),0)","v":0},{"$f":"IFERROR(VLOOKUP(EE13,MATCHSELEVES!$Y$14:$AF$600,8,FALSE),0)","v":0},{"$f":"IFERROR(VLOOKUP(EE13,MATCHSELEVES!$Y$14:$AG$600,9,FALSE),0)","v":0},"Fahade_21",{"$f":"IFERROR(VLOOKUP(EK13,MATCHSELEVES!$Y$14:$AE$600,3,FALSE),0)","v":0},{"$f":"IFERROR(VLOOKUP(EK13,MATCHSELEVES!$Y$14:$AE$600,4,FALSE),0)","v":0},{"$f":"IFERROR(VLOOKUP(EK13,MATCHSELEVES!$Y$14:$AE$600,5,FALSE),0)","v":0},{"$f":"IFERROR(VLOOKUP(EK13,MATCHSELEVES!$Y$14:$AF$600,8,FALSE),0)","v":0},{"$f":"IFERROR(VLOOKUP(EK13,MATCHSELEVES!$Y$14:$AG$600,9,FALSE),0)","v":0},"Fahade_22",{"$f":"IFERROR(VLOOKUP(EQ13,MATCHSELEVES!$Y$14:$AE$600,3,FALSE),0)","v":0},{"$f":"IFERROR(VLOOKUP(EQ13,MATCHSELEVES!$Y$14:$AE$600,4,FALSE),0)","v":0},{"$f":"IFERROR(VLOOKUP(EQ13,MATCHSELEVES!$Y$14:$AE$600,5,FALSE),0)","v":0},{"$f":"IFERROR(VLOOKUP(EQ13,MATCHSELEVES!$Y$14:$AF$600,8,FALSE),0)","v":0},{"$f":"IFERROR(VLOOKUP(EQ13,MATCHSELEVES!$Y$14:$AG$600,9,FALSE),0)","v":0},"Fahade_23",{"$f":"IFERROR(VLOOKUP(EW13,MATCHSELEVES!$Y$14:$AE$600,3,FALSE),0)","v":0},{"$f":"IFERROR(VLOOKUP(EW13,MATCHSELEVES!$Y$14:$AE$600,4,FALSE),0)","v":0},{"$f":"IFERROR(VLOOKUP(EW13,MATCHSELEVES!$Y$14:$AE$600,5,FALSE),0)","v":0},{"$f":"IFERROR(VLOOKUP(EW13,MATCHSELEVES!$Y$14:$AF$600,8,FALSE),0)","v":0},{"$f":"IFERROR(VLOOKUP(EW13,MATCHSELEVES!$Y$14:$AG$600,9,FALSE),0)","v":0},"Fahade_24",{"$f":"IFERROR(VLOOKUP(FC13,MATCHSELEVES!$Y$14:$AE$600,3,FALSE),0)","v":0},{"$f":"IFERROR(VLOOKUP(FC13,MATCHSELEVES!$Y$14:$AE$600,4,FALSE),0)","v":0},{"$f":"IFERROR(VLOOKUP(FC13,MATCHSELEVES!$Y$14:$AE$600,5,FALSE),0)","v":0},{"$f":"IFERROR(VLOOKUP(FC13,MATCHSELEVES!$Y$14:$AF$600,8,FALSE),0)","v":0},{"$f":"IFERROR(VLOOKUP(FC13,MATCHSELEVES!$Y$14:$AG$600,9,FALSE),0)","v":0},"Fahade_25",{"$f":"IFERROR(VLOOKUP(FI13,MATCHSELEVES!$Y$14:$AE$600,3,FALSE),0)","v":0},{"$f":"IFERROR(VLOOKUP(FI13,MATCHSELEVES!$Y$14:$AE$600,4,FALSE),0)","v":0},{"$f":"IFERROR(VLOOKUP(FI13,MATCHSELEVES!$Y$14:$AE$600,5,FALSE),0)","v":0},{"$f":"IFERROR(VLOOKUP(FI13,MATCHSELEVES!$Y$14:$AF$600,8,FALSE),0)","v":0},{"$f":"IFERROR(VLOOKUP(FI13,MATCHSELEVES!$Y$14:$AG$600,9,FALSE),0)","v":0},"Fahade_26",{"$f":"IFERROR(VLOOKUP(FO13,MATCHSELEVES!$Y$14:$AE$600,3,FALSE),0)","v":0},{"$f":"IFERROR(VLOOKUP(FO13,MATCHSELEVES!$Y$14:$AE$600,4,FALSE),0)","v":0},{"$f":"IFERROR(VLOOKUP(FO13,MATCHSELEVES!$Y$14:$AE$600,5,FALSE),0)","v":0},{"$f":"IFERROR(VLOOKUP(FO13,MATCHSELEVES!$Y$14:$AF$600,8,FALSE),0)","v":0},{"$f":"IFERROR(VLOOKUP(FO13,MATCHSELEVES!$Y$14:$AG$600,9,FALSE),0)","v":0},"Fahade_27",{"$f":"IFERROR(VLOOKUP(FU13,MATCHSELEVES!$Y$14:$AE$600,3,FALSE),0)","v":0},{"$f":"IFERROR(VLOOKUP(FU13,MATCHSELEVES!$Y$14:$AE$600,4,FALSE),0)","v":0},{"$f":"IFERROR(VLOOKUP(FU13,MATCHSELEVES!$Y$14:$AE$600,5,FALSE),0)","v":0},{"$f":"IFERROR(VLOOKUP(FU13,MATCHSELEVES!$Y$14:$AF$600,8,FALSE),0)","v":0},{"$f":"IFERROR(VLOOKUP(FU13,MATCHSELEVES!$Y$14:$AG$600,9,FALSE),0)","v":0},"Fahade_28",{"$f":"IFERROR(VLOOKUP(GA13,MATCHSELEVES!$Y$14:$AE$600,3,FALSE),0)","v":0},{"$f":"IFERROR(VLOOKUP(GA13,MATCHSELEVES!$Y$14:$AE$600,4,FALSE),0)","v":0},{"$f":"IFERROR(VLOOKUP(GA13,MATCHSELEVES!$Y$14:$AE$600,5,FALSE),0)","v":0},{"$f":"IFERROR(VLOOKUP(GA13,MATCHSELEVES!$Y$14:$AF$600,8,FALSE),0)","v":0},{"$f":"IFERROR(VLOOKUP(GA13,MATCHSELEVES!$Y$14:$AG$600,9,FALSE),0)","v":0},"Fahade_29",{"$f":"IFERROR(VLOOKUP(GG13,MATCHSELEVES!$Y$14:$AE$600,3,FALSE),0)","v":0},{"$f":"IFERROR(VLOOKUP(GG13,MATCHSELEVES!$Y$14:$AE$600,4,FALSE),0)","v":0},{"$f":"IFERROR(VLOOKUP(GG13,MATCHSELEVES!$Y$14:$AE$600,5,FALSE),0)","v":0},{"$f":"IFERROR(VLOOKUP(GG13,MATCHSELEVES!$Y$14:$AF$600,8,FALSE),0)","v":0},{"$f":"IFERROR(VLOOKUP(GG13,MATCHSELEVES!$Y$14:$AG$600,9,FALSE),0)","v":0},"Fahade_30",{"$f":"IFERROR(VLOOKUP(GM13,MATCHSELEVES!$Y$14:$AE$600,3,FALSE),0)","v":0},{"$f":"IFERROR(VLOOKUP(GM13,MATCHSELEVES!$Y$14:$AE$600,4,FALSE),0)","v":0},{"$f":"IFERROR(VLOOKUP(GM13,MATCHSELEVES!$Y$14:$AE$600,5,FALSE),0)","v":0},{"$f":"IFERROR(VLOOKUP(GM13,MATCHSELEVES!$Y$14:$AF$600,8,FALSE),0)","v":0},{"$f":"IFERROR(VLOOKUP(GM13,MATCHSELEVES!$Y$14:$AG$600,9,FALSE),0)","v":0},"Fahade_31",{"$f":"IFERROR(VLOOKUP(GS13,MATCHSELEVES!$Y$14:$AE$600,3,FALSE),0)","v":0},{"$f":"IFERROR(VLOOKUP(GS13,MATCHSELEVES!$Y$14:$AE$600,4,FALSE),0)","v":0},{"$f":"IFERROR(VLOOKUP(GS13,MATCHSELEVES!$Y$14:$AE$600,5,FALSE),0)","v":0},{"$f":"IFERROR(VLOOKUP(GS13,MATCHSELEVES!$Y$14:$AF$600,8,FALSE),0)","v":0},{"$f":"IFERROR(VLOOKUP(GS13,MATCHSELEVES!$Y$14:$AG$600,9,FALSE),0)","v":0},"Fahade_32",{"$f":"IFERROR(VLOOKUP(GY13,MATCHSELEVES!$Y$14:$AE$600,3,FALSE),0)","v":0},{"$f":"IFERROR(VLOOKUP(GY13,MATCHSELEVES!$Y$14:$AE$600,4,FALSE),0)","v":0},{"$f":"IFERROR(VLOOKUP(GY13,MATCHSELEVES!$Y$14:$AE$600,5,FALSE),0)","v":0},{"$f":"IFERROR(VLOOKUP(GY13,MATCHSELEVES!$Y$14:$AF$600,8,FALSE),0)","v":0},{"$f":"IFERROR(VLOOKUP(GY13,MATCHSELEVES!$Y$14:$AG$600,9,FALSE),0)","v":0},"Fahade_33",{"$f":"IFERROR(VLOOKUP(HE13,MATCHSELEVES!$Y$14:$AE$600,3,FALSE),0)","v":0},{"$f":"IFERROR(VLOOKUP(HE13,MATCHSELEVES!$Y$14:$AE$600,4,FALSE),0)","v":0},{"$f":"IFERROR(VLOOKUP(HE13,MATCHSELEVES!$Y$14:$AE$600,5,FALSE),0)","v":0},{"$f":"IFERROR(VLOOKUP(HE13,MATCHSELEVES!$Y$14:$AF$600,8,FALSE),0)","v":0},{"$f":"IFERROR(VLOOKUP(HE13,MATCHSELEVES!$Y$14:$AG$600,9,FALSE),0)","v":0},"Fahade_34",{"$f":"IFERROR(VLOOKUP(HK13,MATCHSELEVES!$Y$14:$AE$600,3,FALSE),0)","v":0},{"$f":"IFERROR(VLOOKUP(HK13,MATCHSELEVES!$Y$14:$AE$600,4,FALSE),0)","v":0},{"$f":"IFERROR(VLOOKUP(HK13,MATCHSELEVES!$Y$14:$AE$600,5,FALSE),0)","v":0},{"$f":"IFERROR(VLOOKUP(HK13,MATCHSELEVES!$Y$14:$AF$600,8,FALSE),0)","v":0},{"$f":"IFERROR(VLOOKUP(HK13,MATCHSELEVES!$Y$14:$AG$600,9,FALSE),0)","v":0},"Fahade_35",{"$f":"IFERROR(VLOOKUP(HQ13,MATCHSELEVES!$Y$14:$AE$600,3,FALSE),0)","v":0},{"$f":"IFERROR(VLOOKUP(HQ13,MATCHSELEVES!$Y$14:$AE$600,4,FALSE),0)","v":0},{"$f":"IFERROR(VLOOKUP(HQ13,MATCHSELEVES!$Y$14:$AE$600,5,FALSE),0)","v":0},{"$f":"IFERROR(VLOOKUP(HQ13,MATCHSELEVES!$Y$14:$AF$600,8,FALSE),0)","v":0},{"$f":"IFERROR(VLOOKUP(HQ13,MATCHSELEVES!$Y$14:$AG$600,9,FALSE),0)","v":0},"Fahade_36",{"$f":"IFERROR(VLOOKUP(HW13,MATCHSELEVES!$Y$14:$AE$600,3,FALSE),0)","v":0},{"$f":"IFERROR(VLOOKUP(HW13,MATCHSELEVES!$Y$14:$AE$600,4,FALSE),0)","v":0},{"$f":"IFERROR(VLOOKUP(HW13,MATCHSELEVES!$Y$14:$AE$600,5,FALSE),0)","v":0},{"$f":"IFERROR(VLOOKUP(HW13,MATCHSELEVES!$Y$14:$AF$600,8,FALSE),0)","v":0},{"$f":"IFERROR(VLOOKUP(HW13,MATCHSELEVES!$Y$14:$AG$600,9,FALSE),0)","v":0},"Fahade_37",{"$f":"IFERROR(VLOOKUP(IC13,MATCHSELEVES!$Y$14:$AE$600,3,FALSE),0)","v":0},{"$f":"IFERROR(VLOOKUP(IC13,MATCHSELEVES!$Y$14:$AE$600,4,FALSE),0)","v":0},{"$f":"IFERROR(VLOOKUP(IC13,MATCHSELEVES!$Y$14:$AE$600,5,FALSE),0)","v":0},{"$f":"IFERROR(VLOOKUP(IC13,MATCHSELEVES!$Y$14:$AF$600,8,FALSE),0)","v":0},{"$f":"IFERROR(VLOOKUP(IC13,MATCHSELEVES!$Y$14:$AG$600,9,FALSE),0)","v":0},"Fahade_38",{"$f":"IFERROR(VLOOKUP(II13,MATCHSELEVES!$Y$14:$AE$600,3,FALSE),0)","v":0},{"$f":"IFERROR(VLOOKUP(II13,MATCHSELEVES!$Y$14:$AE$600,4,FALSE),0)","v":0},{"$f":"IFERROR(VLOOKUP(II13,MATCHSELEVES!$Y$14:$AE$600,5,FALSE),0)","v":0},{"$f":"IFERROR(VLOOKUP(II13,MATCHSELEVES!$Y$14:$AF$600,8,FALSE),0)","v":0},{"$f":"IFERROR(VLOOKUP(II13,MATCHSELEVES!$Y$14:$AG$600,9,FALSE),0)","v":0},"Fahade_39",{"$f":"IFERROR(VLOOKUP(IO13,MATCHSELEVES!$Y$14:$AE$600,3,FALSE),0)","v":0},{"$f":"IFERROR(VLOOKUP(IO13,MATCHSELEVES!$Y$14:$AE$600,4,FALSE),0)","v":0},{"$f":"IFERROR(VLOOKUP(IO13,MATCHSELEVES!$Y$14:$AE$600,5,FALSE),0)","v":0},{"$f":"IFERROR(VLOOKUP(IO13,MATCHSELEVES!$Y$14:$AF$600,8,FALSE),0)","v":0},{"$f":"IFERROR(VLOOKUP(IO13,MATCHSELEVES!$Y$14:$AG$600,9,FALSE),0)","v":0},"Fahade_40",{"$f":"IFERROR(VLOOKUP(IU13,MATCHSELEVES!$Y$14:$AE$600,3,FALSE),0)","v":0},{"$f":"IFERROR(VLOOKUP(IU13,MATCHSELEVES!$Y$14:$AE$600,4,FALSE),0)","v":0},{"$f":"IFERROR(VLOOKUP(IU13,MATCHSELEVES!$Y$14:$AE$600,5,FALSE),0)","v":0},{"$f":"IFERROR(VLOOKUP(IU13,MATCHSELEVES!$Y$14:$AF$600,8,FALSE),0)","v":0},{"$f":"IFERROR(VLOOKUP(IU13,MATCHSELEVES!$Y$14:$AG$600,9,FALSE),0)","v":0},{"$f":"Tableau10[[#This Row],[CLASSE]]","v":"Fahade"},1,{"$f":"MD1POINT!D13","v":1},"Fahadep_1",{"$f":"IFERROR(VLOOKUP(JD13,MATCHSELEVES!$Y$14:$AE$600,3,FALSE),0)","v":0},{"$f":"IFERROR(VLOOKUP(JD13,MATCHSELEVES!$Y$14:$AE$600,4,FALSE),0)","v":0},{"$f":"IFERROR(VLOOKUP(JD13,MATCHSELEVES!$Y$14:$AE$600,5,FALSE),0)","v":0},{"$f":"IFERROR(VLOOKUP(JD13,MATCHSELEVES!$Y$14:$AF$600,8,FALSE),0)","v":0},{"$f":"IFERROR(VLOOKUP(JD13,MATCHSELEVES!$Y$14:$AG$600,9,FALSE),0)","v":0},"Fahadep_2",{"$f":"IFERROR(VLOOKUP(JJ13,MATCHSELEVES!$Y$14:$AE$600,3,FALSE),0)","v":0},{"$f":"IFERROR(VLOOKUP(JJ13,MATCHSELEVES!$Y$14:$AE$600,4,FALSE),0)","v":0},{"$f":"IFERROR(VLOOKUP(JJ13,MATCHSELEVES!$Y$14:$AE$600,5,FALSE),0)","v":0},{"$f":"IFERROR(VLOOKUP(JJ13,MATCHSELEVES!$Y$14:$AF$600,8,FALSE),0)","v":0},{"$f":"IFERROR(VLOOKUP(JJ13,MATCHSELEVES!$Y$14:$AG$600,9,FALSE),0)","v":0},"Fahadep_3",{"$f":"IFERROR(VLOOKUP(JP13,MATCHSELEVES!$Y$14:$AE$600,3,FALSE),0)","v":0},{"$f":"IFERROR(VLOOKUP(JP13,MATCHSELEVES!$Y$14:$AE$600,4,FALSE),0)","v":0},{"$f":"IFERROR(VLOOKUP(JP13,MATCHSELEVES!$Y$14:$AE$600,5,FALSE),0)","v":0},{"$f":"IFERROR(VLOOKUP(JP13,MATCHSELEVES!$Y$14:$AF$600,8,FALSE),0)","v":0},{"$f":"IFERROR(VLOOKUP(JP13,MATCHSELEVES!$Y$14:$AG$600,9,FALSE),0)","v":0},"Fahadep_4",{"$f":"IFERROR(VLOOKUP(JV13,MATCHSELEVES!$Y$14:$AE$600,3,FALSE),0)","v":0},{"$f":"IFERROR(VLOOKUP(JV13,MATCHSELEVES!$Y$14:$AE$600,4,FALSE),0)","v":0},{"$f":"IFERROR(VLOOKUP(JV13,MATCHSELEVES!$Y$14:$AE$600,5,FALSE),0)","v":0},{"$f":"IFERROR(VLOOKUP(JV13,MATCHSELEVES!$Y$14:$AF$600,8,FALSE),0)","v":0},{"$f":"IFERROR(VLOOKUP(JV13,MATCHSELEVES!$Y$14:$AG$600,9,FALSE),0)","v":0},"Fahadep_5",{"$f":"IFERROR(VLOOKUP(KB13,MATCHSELEVES!$Y$14:$AE$600,3,FALSE),0)","v":0},{"$f":"IFERROR(VLOOKUP(KB13,MATCHSELEVES!$Y$14:$AE$600,4,FALSE),0)","v":0},{"$f":"IFERROR(VLOOKUP(KB13,MATCHSELEVES!$Y$14:$AE$600,5,FALSE),0)","v":0},{"$f":"IFERROR(VLOOKUP(KB13,MATCHSELEVES!$Y$14:$AF$600,8,FALSE),0)","v":0},{"$f":"IFERROR(VLOOKUP(KB13,MATCHSELEVES!$Y$14:$AG$600,9,FALSE),0)","v":0},"Fahadep_6",{"$f":"IFERROR(VLOOKUP(KH13,MATCHSELEVES!$Y$14:$AE$600,3,FALSE),0)","v":0},{"$f":"IFERROR(VLOOKUP(KH13,MATCHSELEVES!$Y$14:$AE$600,4,FALSE),0)","v":0},{"$f":"IFERROR(VLOOKUP(KH13,MATCHSELEVES!$Y$14:$AE$600,5,FALSE),0)","v":0},{"$f":"IFERROR(VLOOKUP(KH13,MATCHSELEVES!$Y$14:$AF$600,8,FALSE),0)","v":0},{"$f":"IFERROR(VLOOKUP(KH13,MATCHSELEVES!$Y$14:$AG$600,9,FALSE),0)","v":0},"Fahadep_7",{"$f":"IFERROR(VLOOKUP(KN13,MATCHSELEVES!$Y$14:$AE$600,3,FALSE),0)","v":0},{"$f":"IFERROR(VLOOKUP(KN13,MATCHSELEVES!$Y$14:$AE$600,4,FALSE),0)","v":0},{"$f":"IFERROR(VLOOKUP(KN13,MATCHSELEVES!$Y$14:$AE$600,5,FALSE),0)","v":0},{"$f":"IFERROR(VLOOKUP(KN13,MATCHSELEVES!$Y$14:$AF$600,8,FALSE),0)","v":0},{"$f":"IFERROR(VLOOKUP(KN13,MATCHSELEVES!$Y$14:$AG$600,9,FALSE),0)","v":0},"Fahadep_8",{"$f":"IFERROR(VLOOKUP(KT13,MATCHSELEVES!$Y$14:$AE$600,3,FALSE),0)","v":0},{"$f":"IFERROR(VLOOKUP(KT13,MATCHSELEVES!$Y$14:$AE$600,4,FALSE),0)","v":0},{"$f":"IFERROR(VLOOKUP(KT13,MATCHSELEVES!$Y$14:$AE$600,5,FALSE),0)","v":0},{"$f":"IFERROR(VLOOKUP(KT13,MATCHSELEVES!$Y$14:$AF$600,8,FALSE),0)","v":0},{"$f":"IFERROR(VLOOKUP(KT13,MATCHSELEVES!$Y$14:$AG$600,9,FALSE),0)","v":0},"Fahadep_9",{"$f":"IFERROR(VLOOKUP(KZ13,MATCHSELEVES!$Y$14:$AE$600,3,FALSE),0)","v":0},{"$f":"IFERROR(VLOOKUP(KZ13,MATCHSELEVES!$Y$14:$AE$600,4,FALSE),0)","v":0},{"$f":"IFERROR(VLOOKUP(KZ13,MATCHSELEVES!$Y$14:$AE$600,5,FALSE),0)","v":0},{"$f":"IFERROR(VLOOKUP(KZ13,MATCHSELEVES!$Y$14:$AF$600,8,FALSE),0)","v":0},{"$f":"IFERROR(VLOOKUP(KZ13,MATCHSELEVES!$Y$14:$AG$600,9,FALSE),0)","v":0},"Fahadep_10",{"$f":"IFERROR(VLOOKUP(LF13,MATCHSELEVES!$Y$14:$AE$600,3,FALSE),0)","v":0},{"$f":"IFERROR(VLOOKUP(LF13,MATCHSELEVES!$Y$14:$AE$600,4,FALSE),0)","v":0},{"$f":"IFERROR(VLOOKUP(LF13,MATCHSELEVES!$Y$14:$AE$600,5,FALSE),0)","v":0},{"$f":"IFERROR(VLOOKUP(LF13,MATCHSELEVES!$Y$14:$AF$600,8,FALSE),0)","v":0},{"$f":"IFERROR(VLOOKUP(LF13,MATCHSELEVES!$Y$14:$AG$600,9,FALSE),0)","v":0},"Fahadep_11",{"$f":"IFERROR(VLOOKUP(LL13,MATCHSELEVES!$Y$14:$AE$600,3,FALSE),0)","v":0},{"$f":"IFERROR(VLOOKUP(LL13,MATCHSELEVES!$Y$14:$AE$600,4,FALSE),0)","v":0},{"$f":"IFERROR(VLOOKUP(LL13,MATCHSELEVES!$Y$14:$AE$600,5,FALSE),0)","v":0},{"$f":"IFERROR(VLOOKUP(LL13,MATCHSELEVES!$Y$14:$AF$600,8,FALSE),0)","v":0},{"$f":"IFERROR(VLOOKUP(LL13,MATCHSELEVES!$Y$14:$AG$600,9,FALSE),0)","v":0},"Fahadep_12",{"$f":"IFERROR(VLOOKUP(LR13,MATCHSELEVES!$Y$14:$AE$600,3,FALSE),0)","v":0},{"$f":"IFERROR(VLOOKUP(LR13,MATCHSELEVES!$Y$14:$AE$600,4,FALSE),0)","v":0},{"$f":"IFERROR(VLOOKUP(LR13,MATCHSELEVES!$Y$14:$AE$600,5,FALSE),0)","v":0},{"$f":"IFERROR(VLOOKUP(LR13,MATCHSELEVES!$Y$14:$AF$600,8,FALSE),0)","v":0},{"$f":"IFERROR(VLOOKUP(LR13,MATCHSELEVES!$Y$14:$AG$600,9,FALSE),0)","v":0},"Fahadep_13",{"$f":"IFERROR(VLOOKUP(LX13,MATCHSELEVES!$Y$14:$AE$600,3,FALSE),0)","v":0},{"$f":"IFERROR(VLOOKUP(LX13,MATCHSELEVES!$Y$14:$AE$600,4,FALSE),0)","v":0},{"$f":"IFERROR(VLOOKUP(LX13,MATCHSELEVES!$Y$14:$AE$600,5,FALSE),0)","v":0},{"$f":"IFERROR(VLOOKUP(LX13,MATCHSELEVES!$Y$14:$AF$600,8,FALSE),0)","v":0},{"$f":"IFERROR(VLOOKUP(LX13,MATCHSELEVES!$Y$14:$AG$600,9,FALSE),0)","v":0},"Fahadep_14",{"$f":"IFERROR(VLOOKUP(MD13,MATCHSELEVES!$Y$14:$AE$600,3,FALSE),0)","v":0},{"$f":"IFERROR(VLOOKUP(MD13,MATCHSELEVES!$Y$14:$AE$600,4,FALSE),0)","v":0},{"$f":"IFERROR(VLOOKUP(MD13,MATCHSELEVES!$Y$14:$AE$600,5,FALSE),0)","v":0},{"$f":"IFERROR(VLOOKUP(MD13,MATCHSELEVES!$Y$14:$AF$600,8,FALSE),0)","v":0},{"$f":"IFERROR(VLOOKUP(MD13,MATCHSELEVES!$Y$14:$AG$600,9,FALSE),0)","v":0},"Fahadep_15",{"$f":"IFERROR(VLOOKUP(MJ13,MATCHSELEVES!$Y$14:$AE$600,3,FALSE),0)","v":0},{"$f":"IFERROR(VLOOKUP(MJ13,MATCHSELEVES!$Y$14:$AE$600,4,FALSE),0)","v":0},{"$f":"IFERROR(VLOOKUP(MJ13,MATCHSELEVES!$Y$14:$AE$600,5,FALSE),0)","v":0},{"$f":"IFERROR(VLOOKUP(MJ13,MATCHSELEVES!$Y$14:$AF$600,8,FALSE),0)","v":0},{"$f":"IFERROR(VLOOKUP(MJ13,MATCHSELEVES!$Y$14:$AG$600,9,FALSE),0)","v":0},"Fahadep_16",{"$f":"IFERROR(VLOOKUP(MP13,MATCHSELEVES!$Y$14:$AE$600,3,FALSE),0)","v":0},{"$f":"IFERROR(VLOOKUP(MP13,MATCHSELEVES!$Y$14:$AE$600,4,FALSE),0)","v":0},{"$f":"IFERROR(VLOOKUP(MP13,MATCHSELEVES!$Y$14:$AE$600,5,FALSE),0)","v":0},{"$f":"IFERROR(VLOOKUP(MP13,MATCHSELEVES!$Y$14:$AF$600,8,FALSE),0)","v":0},{"$f":"IFERROR(VLOOKUP(MP13,MATCHSELEVES!$Y$14:$AG$600,9,FALSE),0)","v":0},"Fahadep_17",{"$f":"IFERROR(VLOOKUP(MV13,MATCHSELEVES!$Y$14:$AE$600,3,FALSE),0)","v":0},{"$f":"IFERROR(VLOOKUP(MV13,MATCHSELEVES!$Y$14:$AE$600,4,FALSE),0)","v":0},{"$f":"IFERROR(VLOOKUP(MV13,MATCHSELEVES!$Y$14:$AE$600,5,FALSE),0)","v":0},{"$f":"IFERROR(VLOOKUP(MV13,MATCHSELEVES!$Y$14:$AF$600,8,FALSE),0)","v":0},{"$f":"IFERROR(VLOOKUP(MV13,MATCHSELEVES!$Y$14:$AG$600,9,FALSE),0)","v":0},"Fahadep_18",{"$f":"IFERROR(VLOOKUP(NB13,MATCHSELEVES!$Y$14:$AE$600,3,FALSE),0)","v":0},{"$f":"IFERROR(VLOOKUP(NB13,MATCHSELEVES!$Y$14:$AE$600,4,FALSE),0)","v":0},{"$f":"IFERROR(VLOOKUP(NB13,MATCHSELEVES!$Y$14:$AE$600,5,FALSE),0)","v":0},{"$f":"IFERROR(VLOOKUP(NB13,MATCHSELEVES!$Y$14:$AF$600,8,FALSE),0)","v":0},{"$f":"IFERROR(VLOOKUP(NB13,MATCHSELEVES!$Y$14:$AG$600,9,FALSE),0)","v":0},"Fahadep_19",{"$f":"IFERROR(VLOOKUP(NH13,MATCHSELEVES!$Y$14:$AE$600,3,FALSE),0)","v":0},{"$f":"IFERROR(VLOOKUP(NH13,MATCHSELEVES!$Y$14:$AE$600,4,FALSE),0)","v":0},{"$f":"IFERROR(VLOOKUP(NH13,MATCHSELEVES!$Y$14:$AE$600,5,FALSE),0)","v":0},{"$f":"IFERROR(VLOOKUP(NH13,MATCHSELEVES!$Y$14:$AF$600,8,FALSE),0)","v":0},{"$f":"IFERROR(VLOOKUP(NH13,MATCHSELEVES!$Y$14:$AG$600,9,FALSE),0)","v":0},"Fahadep_20",{"$f":"IFERROR(VLOOKUP(NN13,MATCHSELEVES!$Y$14:$AE$600,3,FALSE),0)","v":0},{"$f":"IFERROR(VLOOKUP(NN13,MATCHSELEVES!$Y$14:$AE$600,4,FALSE),0)","v":0},{"$f":"IFERROR(VLOOKUP(NN13,MATCHSELEVES!$Y$14:$AE$600,5,FALSE),0)","v":0},{"$f":"IFERROR(VLOOKUP(NN13,MATCHSELEVES!$Y$14:$AF$600,8,FALSE),0)","v":0},{"$f":"IFERROR(VLOOKUP(NN13,MATCHSELEVES!$Y$14:$AG$600,9,FALSE),0)","v":0},"Fahadep_21",{"$f":"IFERROR(VLOOKUP(NT13,MATCHSELEVES!$Y$14:$AE$600,3,FALSE),0)","v":0},{"$f":"IFERROR(VLOOKUP(NT13,MATCHSELEVES!$Y$14:$AE$600,4,FALSE),0)","v":0},{"$f":"IFERROR(VLOOKUP(NT13,MATCHSELEVES!$Y$14:$AE$600,5,FALSE),0)","v":0},{"$f":"IFERROR(VLOOKUP(NT13,MATCHSELEVES!$Y$14:$AF$600,8,FALSE),0)","v":0},{"$f":"IFERROR(VLOOKUP(NT13,MATCHSELEVES!$Y$14:$AG$600,9,FALSE),0)","v":0},"Fahadep_22",{"$f":"IFERROR(VLOOKUP(NZ13,MATCHSELEVES!$Y$14:$AE$600,3,FALSE),0)","v":0},{"$f":"IFERROR(VLOOKUP(NZ13,MATCHSELEVES!$Y$14:$AE$600,4,FALSE),0)","v":0},{"$f":"IFERROR(VLOOKUP(NZ13,MATCHSELEVES!$Y$14:$AE$600,5,FALSE),0)","v":0},{"$f":"IFERROR(VLOOKUP(NZ13,MATCHSELEVES!$Y$14:$AF$600,8,FALSE),0)","v":0},{"$f":"IFERROR(VLOOKUP(NZ13,MATCHSELEVES!$Y$14:$AG$600,9,FALSE),0)","v":0},"Fahadep_23",{"$f":"IFERROR(VLOOKUP(OF13,MATCHSELEVES!$Y$14:$AE$600,3,FALSE),0)","v":0},{"$f":"IFERROR(VLOOKUP(OF13,MATCHSELEVES!$Y$14:$AE$600,4,FALSE),0)","v":0},{"$f":"IFERROR(VLOOKUP(OF13,MATCHSELEVES!$Y$14:$AE$600,5,FALSE),0)","v":0},{"$f":"IFERROR(VLOOKUP(OF13,MATCHSELEVES!$Y$14:$AF$600,8,FALSE),0)","v":0},{"$f":"IFERROR(VLOOKUP(OF13,MATCHSELEVES!$Y$14:$AG$600,9,FALSE),0)","v":0},"Fahadep_24",{"$f":"IFERROR(VLOOKUP(OL13,MATCHSELEVES!$Y$14:$AE$600,3,FALSE),0)","v":0},{"$f":"IFERROR(VLOOKUP(OL13,MATCHSELEVES!$Y$14:$AE$600,4,FALSE),0)","v":0},{"$f":"IFERROR(VLOOKUP(OL13,MATCHSELEVES!$Y$14:$AE$600,5,FALSE),0)","v":0},{"$f":"IFERROR(VLOOKUP(OL13,MATCHSELEVES!$Y$14:$AF$600,8,FALSE),0)","v":0},{"$f":"IFERROR(VLOOKUP(OL13,MATCHSELEVES!$Y$14:$AG$600,9,FALSE),0)","v":0},"Fahadep_25",{"$f":"IFERROR(VLOOKUP(OR13,MATCHSELEVES!$Y$14:$AE$600,3,FALSE),0)","v":0},{"$f":"IFERROR(VLOOKUP(OR13,MATCHSELEVES!$Y$14:$AE$600,4,FALSE),0)","v":0},{"$f":"IFERROR(VLOOKUP(OR13,MATCHSELEVES!$Y$14:$AE$600,5,FALSE),0)","v":0},{"$f":"IFERROR(VLOOKUP(OR13,MATCHSELEVES!$Y$14:$AF$600,8,FALSE),0)","v":0},{"$f":"IFERROR(VLOOKUP(OR13,MATCHSELEVES!$Y$14:$AG$600,9,FALSE),0)","v":0},"Fahadep_26",{"$f":"IFERROR(VLOOKUP(OX13,MATCHSELEVES!$Y$14:$AE$600,3,FALSE),0)","v":0},{"$f":"IFERROR(VLOOKUP(OX13,MATCHSELEVES!$Y$14:$AE$600,4,FALSE),0)","v":0},{"$f":"IFERROR(VLOOKUP(OX13,MATCHSELEVES!$Y$14:$AE$600,5,FALSE),0)","v":0},{"$f":"IFERROR(VLOOKUP(OX13,MATCHSELEVES!$Y$14:$AF$600,8,FALSE),0)","v":0},{"$f":"IFERROR(VLOOKUP(OX13,MATCHSELEVES!$Y$14:$AG$600,9,FALSE),0)","v":0},"Fahadep_27",{"$f":"IFERROR(VLOOKUP(PD13,MATCHSELEVES!$Y$14:$AE$600,3,FALSE),0)","v":0},{"$f":"IFERROR(VLOOKUP(PD13,MATCHSELEVES!$Y$14:$AE$600,4,FALSE),0)","v":0},{"$f":"IFERROR(VLOOKUP(PD13,MATCHSELEVES!$Y$14:$AE$600,5,FALSE),0)","v":0},{"$f":"IFERROR(VLOOKUP(PD13,MATCHSELEVES!$Y$14:$AF$600,8,FALSE),0)","v":0},{"$f":"IFERROR(VLOOKUP(PD13,MATCHSELEVES!$Y$14:$AG$600,9,FALSE),0)","v":0},"Fahadep_28",{"$f":"IFERROR(VLOOKUP(PJ13,MATCHSELEVES!$Y$14:$AE$600,3,FALSE),0)","v":0},{"$f":"IFERROR(VLOOKUP(PJ13,MATCHSELEVES!$Y$14:$AE$600,4,FALSE),0)","v":0},{"$f":"IFERROR(VLOOKUP(PJ13,MATCHSELEVES!$Y$14:$AE$600,5,FALSE),0)","v":0},{"$f":"IFERROR(VLOOKUP(PJ13,MATCHSELEVES!$Y$14:$AF$600,8,FALSE),0)","v":0},{"$f":"IFERROR(VLOOKUP(PJ13,MATCHSELEVES!$Y$14:$AG$600,9,FALSE),0)","v":0},"Fahadep_29",{"$f":"IFERROR(VLOOKUP(PP13,MATCHSELEVES!$Y$14:$AE$600,3,FALSE),0)","v":0},{"$f":"IFERROR(VLOOKUP(PP13,MATCHSELEVES!$Y$14:$AE$600,4,FALSE),0)","v":0},{"$f":"IFERROR(VLOOKUP(PP13,MATCHSELEVES!$Y$14:$AE$600,5,FALSE),0)","v":0},{"$f":"IFERROR(VLOOKUP(PP13,MATCHSELEVES!$Y$14:$AF$600,8,FALSE),0)","v":0},{"$f":"IFERROR(VLOOKUP(PP13,MATCHSELEVES!$Y$14:$AG$600,9,FALSE),0)","v":0},"Fahadep_30",{"$f":"IFERROR(VLOOKUP(PV13,MATCHSELEVES!$Y$14:$AE$600,3,FALSE),0)","v":0},{"$f":"IFERROR(VLOOKUP(PV13,MATCHSELEVES!$Y$14:$AE$600,4,FALSE),0)","v":0},{"$f":"IFERROR(VLOOKUP(PV13,MATCHSELEVES!$Y$14:$AE$600,5,FALSE),0)","v":0},{"$f":"IFERROR(VLOOKUP(PV13,MATCHSELEVES!$Y$14:$AF$600,8,FALSE),0)","v":0},{"$f":"IFERROR(VLOOKUP(PV13,MATCHSELEVES!$Y$14:$AG$600,9,FALSE),0)","v":0},"Fahadep_31",{"$f":"IFERROR(VLOOKUP(QB13,MATCHSELEVES!$Y$14:$AE$600,3,FALSE),0)","v":0},{"$f":"IFERROR(VLOOKUP(QB13,MATCHSELEVES!$Y$14:$AE$600,4,FALSE),0)","v":0},{"$f":"IFERROR(VLOOKUP(QB13,MATCHSELEVES!$Y$14:$AE$600,5,FALSE),0)","v":0},{"$f":"IFERROR(VLOOKUP(QB13,MATCHSELEVES!$Y$14:$AF$600,8,FALSE),0)","v":0},{"$f":"IFERROR(VLOOKUP(QB13,MATCHSELEVES!$Y$14:$AG$600,9,FALSE),0)","v":0},"Fahadep_32",{"$f":"IFERROR(VLOOKUP(QH13,MATCHSELEVES!$Y$14:$AE$600,3,FALSE),0)","v":0},{"$f":"IFERROR(VLOOKUP(QH13,MATCHSELEVES!$Y$14:$AE$600,4,FALSE),0)","v":0},{"$f":"IFERROR(VLOOKUP(QH13,MATCHSELEVES!$Y$14:$AE$600,5,FALSE),0)","v":0},{"$f":"IFERROR(VLOOKUP(QH13,MATCHSELEVES!$Y$14:$AF$600,8,FALSE),0)","v":0},{"$f":"IFERROR(VLOOKUP(QH13,MATCHSELEVES!$Y$14:$AG$600,9,FALSE),0)","v":0},"Fahadep_33",{"$f":"IFERROR(VLOOKUP(QN13,MATCHSELEVES!$Y$14:$AE$600,3,FALSE),0)","v":0},{"$f":"IFERROR(VLOOKUP(QN13,MATCHSELEVES!$Y$14:$AE$600,4,FALSE),0)","v":0},{"$f":"IFERROR(VLOOKUP(QN13,MATCHSELEVES!$Y$14:$AE$600,5,FALSE),0)","v":0},{"$f":"IFERROR(VLOOKUP(QN13,MATCHSELEVES!$Y$14:$AF$600,8,FALSE),0)","v":0},{"$f":"IFERROR(VLOOKUP(QN13,MATCHSELEVES!$Y$14:$AG$600,9,FALSE),0)","v":0},"Fahadep_34",{"$f":"IFERROR(VLOOKUP(QT13,MATCHSELEVES!$Y$14:$AE$600,3,FALSE),0)","v":0},{"$f":"IFERROR(VLOOKUP(QT13,MATCHSELEVES!$Y$14:$AE$600,4,FALSE),0)","v":0},{"$f":"IFERROR(VLOOKUP(QT13,MATCHSELEVES!$Y$14:$AE$600,5,FALSE),0)","v":0},{"$f":"IFERROR(VLOOKUP(QT13,MATCHSELEVES!$Y$14:$AF$600,8,FALSE),0)","v":0},{"$f":"IFERROR(VLOOKUP(QT13,MATCHSELEVES!$Y$14:$AG$600,9,FALSE),0)","v":0},"Fahadep_35",{"$f":"IFERROR(VLOOKUP(QZ13,MATCHSELEVES!$Y$14:$AE$600,3,FALSE),0)","v":0},{"$f":"IFERROR(VLOOKUP(QZ13,MATCHSELEVES!$Y$14:$AE$600,4,FALSE),0)","v":0},{"$f":"IFERROR(VLOOKUP(QZ13,MATCHSELEVES!$Y$14:$AE$600,5,FALSE),0)","v":0},{"$f":"IFERROR(VLOOKUP(QZ13,MATCHSELEVES!$Y$14:$AF$600,8,FALSE),0)","v":0},{"$f":"IFERROR(VLOOKUP(QZ13,MATCHSELEVES!$Y$14:$AG$600,9,FALSE),0)","v":0},"Fahadep_36",{"$f":"IFERROR(VLOOKUP(RF13,MATCHSELEVES!$Y$14:$AE$600,3,FALSE),0)","v":0},{"$f":"IFERROR(VLOOKUP(RF13,MATCHSELEVES!$Y$14:$AE$600,4,FALSE),0)","v":0},{"$f":"IFERROR(VLOOKUP(RF13,MATCHSELEVES!$Y$14:$AE$600,5,FALSE),0)","v":0},{"$f":"IFERROR(VLOOKUP(RF13,MATCHSELEVES!$Y$14:$AF$600,8,FALSE),0)","v":0},{"$f":"IFERROR(VLOOKUP(RF13,MATCHSELEVES!$Y$14:$AG$600,9,FALSE),0)","v":0},"Fahadep_37",{"$f":"IFERROR(VLOOKUP(RL13,MATCHSELEVES!$Y$14:$AE$600,3,FALSE),0)","v":0},{"$f":"IFERROR(VLOOKUP(RL13,MATCHSELEVES!$Y$14:$AE$600,4,FALSE),0)","v":0},{"$f":"IFERROR(VLOOKUP(RL13,MATCHSELEVES!$Y$14:$AE$600,5,FALSE),0)","v":0},{"$f":"IFERROR(VLOOKUP(RL13,MATCHSELEVES!$Y$14:$AF$600,8,FALSE),0)","v":0},{"$f":"IFERROR(VLOOKUP(RL13,MATCHSELEVES!$Y$14:$AG$600,9,FALSE),0)","v":0},"Fahadep_38",{"$f":"IFERROR(VLOOKUP(RR13,MATCHSELEVES!$Y$14:$AE$600,3,FALSE),0)","v":0},{"$f":"IFERROR(VLOOKUP(RR13,MATCHSELEVES!$Y$14:$AE$600,4,FALSE),0)","v":0},{"$f":"IFERROR(VLOOKUP(RR13,MATCHSELEVES!$Y$14:$AE$600,5,FALSE),0)","v":0},{"$f":"IFERROR(VLOOKUP(RR13,MATCHSELEVES!$Y$14:$AF$600,8,FALSE),0)","v":0},{"$f":"IFERROR(VLOOKUP(RR13,MATCHSELEVES!$Y$14:$AG$600,9,FALSE),0)","v":0},"Fahadep_39",{"$f":"IFERROR(VLOOKUP(RX13,MATCHSELEVES!$Y$14:$AE$600,3,FALSE),0)","v":0},{"$f":"IFERROR(VLOOKUP(RX13,MATCHSELEVES!$Y$14:$AE$600,4,FALSE),0)","v":0},{"$f":"IFERROR(VLOOKUP(RX13,MATCHSELEVES!$Y$14:$AE$600,5,FALSE),0)","v":0},{"$f":"IFERROR(VLOOKUP(RX13,MATCHSELEVES!$Y$14:$AF$600,8,FALSE),0)","v":0},{"$f":"IFERROR(VLOOKUP(RX13,MATCHSELEVES!$Y$14:$AG$600,9,FALSE),0)","v":0},"Fahadep_40",{"$f":"IFERROR(VLOOKUP(SD13,MATCHSELEVES!$Y$14:$AE$600,3,FALSE),0)","v":0},{"$f":"IFERROR(VLOOKUP(SD13,MATCHSELEVES!$Y$14:$AE$600,4,FALSE),0)","v":0},{"$f":"IFERROR(VLOOKUP(SD13,MATCHSELEVES!$Y$14:$AE$600,5,FALSE),0)","v":0},{"$f":"IFERROR(VLOOKUP(SD13,MATCHSELEVES!$Y$14:$AF$600,8,FALSE),0)","v":0},{"$f":"IFERROR(VLOOKUP(SD13,MATCHSELEVES!$Y$14:$AG$600,9,FALSE),0)","v":0}]
[11,null,{"$f":"MD1POINT!C14","v":"Farhane"},{"$f":"MD1POINT!D14","v":1},{"$f":"COUNTIF(MATCHSELEVES!$Z$14:$Z$600,C14)+COUNTIF(MATCHSELEVES!$Z$14:$Z$600,$C14&\"p\")","v":0},1,{"$f":"COUNTIF(MATCHSELEVES!$F$14:$H$249,C14)","v":0},1,0,1,0,1,0,1,{"$f":"Y14+AE14+AK14+AQ14+AW14+BC14+BI14+BO14+BU14+CA14+CG14+CM14+CS14+CY14+DE14+DK14+DQ14+DW14+EC14+EI14+EO14+EU14+FA14+FG14+FM14+FS14+FY14+GE14+GK14+GQ14+GW14+4+HI14+HO14+HU14+IA14+HC14+IG14+IM14+IY14+IS14+JH14+JN14+JZ14+JT14+KF14+KR14+KX14+LJ14+LP14+LV14+LD14+MB14+MH14+MN14+MZ14+MT14+NF14+NL14+NR14+NX14+OD14+OJ14+OP14+OV14+PB14+PH14+PT14+PN14+PZ14+QF14+QL14+QR14+RD14+QX14+RJ14+RP14+RV14+SB14+SH14+KL14+Tableau10[[#This Row],[Nombre de matchs joués]]*2","v":4},1,{"$f":"(Tableau10[[#This Row],[CLASSEMENT1]]+Tableau10[[#This Row],[CLASSEMENT2]]+Tableau10[[#This Row],[CLASSEMENT3]]+Tableau10[[#This Row],[CLASSEMENT4]]+Tableau10[[#This Row],[CLASSEMENT5]]+Tableau10[[#This Row],[CLASSEMENT6]])/6","v":1},{"$f":"RANK(Tableau10[[#This Row],[MOYENNE CLASSEMENTS]],Tableau10[MOYENNE CLASSEMENTS],1)","v":1},null,{"$f":"Tableau10[[#This Row],[CLASSEMENT1]]","v":1},"Farhane_1",{"$f":"IFERROR(VLOOKUP(U14,MATCHSELEVES!$Y$14:$AE$600,3,FALSE),0)","v":0},{"$f":"IFERROR(VLOOKUP(U14,MATCHSELEVES!$Y$14:$AE$600,4,FALSE),0)","v":0},{"$f":"IFERROR(VLOOKUP(U14,MATCHSELEVES!$Y$14:$AE$600,5,FALSE),0)","v":0},{"$f":"IFERROR(VLOOKUP(U14,MATCHSELEVES!$Y$14:$AF$600,8,FALSE),0)","v":0},{"$f":"IFERROR(VLOOKUP(U14,MATCHSELEVES!$Y$14:$AG$600,9,FALSE),0)","v":0},"Farhane_2",{"$f":"IFERROR(VLOOKUP(AA14,MATCHSELEVES!$Y$14:$AE$600,3,FALSE),0)","v":0},{"$f":"IFERROR(VLOOKUP(AA14,MATCHSELEVES!$Y$14:$AE$600,4,FALSE),0)","v":0},{"$f":"IFERROR(VLOOKUP(AA14,MATCHSELEVES!$Y$14:$AE$600,5,FALSE),0)","v":0},{"$f":"IFERROR(VLOOKUP(AA14,MATCHSELEVES!$Y$14:$AF$600,8,FALSE),0)","v":0},{"$f":"IFERROR(VLOOKUP(AA14,MATCHSELEVES!$Y$14:$AG$600,9,FALSE),0)","v":0},"Farhane_3",{"$f":"IFERROR(VLOOKUP(AG14,MATCHSELEVES!$Y$14:$AE$600,3,FALSE),0)","v":0},{"$f":"IFERROR(VLOOKUP(AG14,MATCHSELEVES!$Y$14:$AE$600,4,FALSE),0)","v":0},{"$f":"IFERROR(VLOOKUP(AG14,MATCHSELEVES!$Y$14:$AE$600,5,FALSE),0)","v":0},{"$f":"IFERROR(VLOOKUP(AG14,MATCHSELEVES!$Y$14:$AF$600,8,FALSE),0)","v":0},{"$f":"IFERROR(VLOOKUP(AG14,MATCHSELEVES!$Y$14:$AG$600,9,FALSE),0)","v":0},"Farhane_4",{"$f":"IFERROR(VLOOKUP(AM14,MATCHSELEVES!$Y$14:$AE$600,3,FALSE),0)","v":0},{"$f":"IFERROR(VLOOKUP(AM14,MATCHSELEVES!$Y$14:$AE$600,4,FALSE),0)","v":0},{"$f":"IFERROR(VLOOKUP(AM14,MATCHSELEVES!$Y$14:$AE$600,5,FALSE),0)","v":0},{"$f":"IFERROR(VLOOKUP(AM14,MATCHSELEVES!$Y$14:$AF$600,8,FALSE),0)","v":0},{"$f":"IFERROR(VLOOKUP(AM14,MATCHSELEVES!$Y$14:$AG$600,9,FALSE),0)","v":0},"Farhane_5",{"$f":"IFERROR(VLOOKUP(AS14,MATCHSELEVES!$Y$14:$AE$600,3,FALSE),0)","v":0},{"$f":"IFERROR(VLOOKUP(AS14,MATCHSELEVES!$Y$14:$AE$600,4,FALSE),0)","v":0},{"$f":"IFERROR(VLOOKUP(AS14,MATCHSELEVES!$Y$14:$AE$600,5,FALSE),0)","v":0},{"$f":"IFERROR(VLOOKUP(AS14,MATCHSELEVES!$Y$14:$AF$600,8,FALSE),0)","v":0},{"$f":"IFERROR(VLOOKUP(AS14,MATCHSELEVES!$Y$14:$AG$600,9,FALSE),0)","v":0},"Farhane_6",{"$f":"IFERROR(VLOOKUP(AY14,MATCHSELEVES!$Y$14:$AE$600,3,FALSE),0)","v":0},{"$f":"IFERROR(VLOOKUP(AY14,MATCHSELEVES!$Y$14:$AE$600,4,FALSE),0)","v":0},{"$f":"IFERROR(VLOOKUP(AY14,MATCHSELEVES!$Y$14:$AE$600,5,FALSE),0)","v":0},{"$f":"IFERROR(VLOOKUP(AY14,MATCHSELEVES!$Y$14:$AF$600,8,FALSE),0)","v":0},{"$f":"IFERROR(VLOOKUP(AY14,MATCHSELEVES!$Y$14:$AG$600,9,FALSE),0)","v":0},"Farhane_7",{"$f":"IFERROR(VLOOKUP(BE14,MATCHSELEVES!$Y$14:$AE$600,3,FALSE),0)","v":0},{"$f":"IFERROR(VLOOKUP(BE14,MATCHSELEVES!$Y$14:$AE$600,4,FALSE),0)","v":0},{"$f":"IFERROR(VLOOKUP(BE14,MATCHSELEVES!$Y$14:$AE$600,5,FALSE),0)","v":0},{"$f":"IFERROR(VLOOKUP(BE14,MATCHSELEVES!$Y$14:$AF$600,8,FALSE),0)","v":0},{"$f":"IFERROR(VLOOKUP(BE14,MATCHSELEVES!$Y$14:$AG$600,9,FALSE),0)","v":0},"Farhane_8",{"$f":"IFERROR(VLOOKUP(BK14,MATCHSELEVES!$Y$14:$AE$600,3,FALSE),0)","v":0},{"$f":"IFERROR(VLOOKUP(BK14,MATCHSELEVES!$Y$14:$AE$600,4,FALSE),0)","v":0},{"$f":"IFERROR(VLOOKUP(BK14,MATCHSELEVES!$Y$14:$AE$600,5,FALSE),0)","v":0},{"$f":"IFERROR(VLOOKUP(BK14,MATCHSELEVES!$Y$14:$AF$600,8,FALSE),0)","v":0},{"$f":"IFERROR(VLOOKUP(BK14,MATCHSELEVES!$Y$14:$AG$600,9,FALSE),0)","v":0},"Farhane_9",{"$f":"IFERROR(VLOOKUP(BQ14,MATCHSELEVES!$Y$14:$AE$600,3,FALSE),0)","v":0},{"$f":"IFERROR(VLOOKUP(BQ14,MATCHSELEVES!$Y$14:$AE$600,4,FALSE),0)","v":0},{"$f":"IFERROR(VLOOKUP(BQ14,MATCHSELEVES!$Y$14:$AE$600,5,FALSE),0)","v":0},{"$f":"IFERROR(VLOOKUP(BQ14,MATCHSELEVES!$Y$14:$AF$600,8,FALSE),0)","v":0},{"$f":"IFERROR(VLOOKUP(BQ14,MATCHSELEVES!$Y$14:$AG$600,9,FALSE),0)","v":0},"Farhane_10",{"$f":"IFERROR(VLOOKUP(BW14,MATCHSELEVES!$Y$14:$AE$600,3,FALSE),0)","v":0},{"$f":"IFERROR(VLOOKUP(BW14,MATCHSELEVES!$Y$14:$AE$600,4,FALSE),0)","v":0},{"$f":"IFERROR(VLOOKUP(BW14,MATCHSELEVES!$Y$14:$AE$600,5,FALSE),0)","v":0},{"$f":"IFERROR(VLOOKUP(BW14,MATCHSELEVES!$Y$14:$AF$600,8,FALSE),0)","v":0},{"$f":"IFERROR(VLOOKUP(BW14,MATCHSELEVES!$Y$14:$AG$600,9,FALSE),0)","v":0},"Farhane_11",{"$f":"IFERROR(VLOOKUP(CC14,MATCHSELEVES!$Y$14:$AE$600,3,FALSE),0)","v":0},{"$f":"IFERROR(VLOOKUP(CC14,MATCHSELEVES!$Y$14:$AE$600,4,FALSE),0)","v":0},{"$f":"IFERROR(VLOOKUP(CC14,MATCHSELEVES!$Y$14:$AE$600,5,FALSE),0)","v":0},{"$f":"IFERROR(VLOOKUP(CC14,MATCHSELEVES!$Y$14:$AF$600,8,FALSE),0)","v":0},{"$f":"IFERROR(VLOOKUP(CC14,MATCHSELEVES!$Y$14:$AG$600,9,FALSE),0)","v":0},"Farhane_12",{"$f":"IFERROR(VLOOKUP(CI14,MATCHSELEVES!$Y$14:$AE$600,3,FALSE),0)","v":0},{"$f":"IFERROR(VLOOKUP(CI14,MATCHSELEVES!$Y$14:$AE$600,4,FALSE),0)","v":0},{"$f":"IFERROR(VLOOKUP(CI14,MATCHSELEVES!$Y$14:$AE$600,5,FALSE),0)","v":0},{"$f":"IFERROR(VLOOKUP(CI14,MATCHSELEVES!$Y$14:$AF$600,8,FALSE),0)","v":0},{"$f":"IFERROR(VLOOKUP(CI14,MATCHSELEVES!$Y$14:$AG$600,9,FALSE),0)","v":0},"Farhane_13",{"$f":"IFERROR(VLOOKUP(CO14,MATCHSELEVES!$Y$14:$AE$600,3,FALSE),0)","v":0},{"$f":"IFERROR(VLOOKUP(CO14,MATCHSELEVES!$Y$14:$AE$600,4,FALSE),0)","v":0},{"$f":"IFERROR(VLOOKUP(CO14,MATCHSELEVES!$Y$14:$AE$600,5,FALSE),0)","v":0},{"$f":"IFERROR(VLOOKUP(CO14,MATCHSELEVES!$Y$14:$AF$600,8,FALSE),0)","v":0},{"$f":"IFERROR(VLOOKUP(CO14,MATCHSELEVES!$Y$14:$AG$600,9,FALSE),0)","v":0},"Farhane_14",{"$f":"IFERROR(VLOOKUP(CU14,MATCHSELEVES!$Y$14:$AE$600,3,FALSE),0)","v":0},{"$f":"IFERROR(VLOOKUP(CU14,MATCHSELEVES!$Y$14:$AE$600,4,FALSE),0)","v":0},{"$f":"IFERROR(VLOOKUP(CU14,MATCHSELEVES!$Y$14:$AE$600,5,FALSE),0)","v":0},{"$f":"IFERROR(VLOOKUP(CU14,MATCHSELEVES!$Y$14:$AF$600,8,FALSE),0)","v":0},{"$f":"IFERROR(VLOOKUP(CU14,MATCHSELEVES!$Y$14:$AG$600,9,FALSE),0)","v":0},"Farhane_15",{"$f":"IFERROR(VLOOKUP(DA14,MATCHSELEVES!$Y$14:$AE$600,3,FALSE),0)","v":0},{"$f":"IFERROR(VLOOKUP(DA14,MATCHSELEVES!$Y$14:$AE$600,4,FALSE),0)","v":0},{"$f":"IFERROR(VLOOKUP(DA14,MATCHSELEVES!$Y$14:$AE$600,5,FALSE),0)","v":0},{"$f":"IFERROR(VLOOKUP(DA14,MATCHSELEVES!$Y$14:$AF$600,8,FALSE),0)","v":0},{"$f":"IFERROR(VLOOKUP(DA14,MATCHSELEVES!$Y$14:$AG$600,9,FALSE),0)","v":0},"Farhane_16",{"$f":"IFERROR(VLOOKUP(DG14,MATCHSELEVES!$Y$14:$AE$600,3,FALSE),0)","v":0},{"$f":"IFERROR(VLOOKUP(DG14,MATCHSELEVES!$Y$14:$AE$600,4,FALSE),0)","v":0},{"$f":"IFERROR(VLOOKUP(DG14,MATCHSELEVES!$Y$14:$AE$600,5,FALSE),0)","v":0},{"$f":"IFERROR(VLOOKUP(DG14,MATCHSELEVES!$Y$14:$AF$600,8,FALSE),0)","v":0},{"$f":"IFERROR(VLOOKUP(DG14,MATCHSELEVES!$Y$14:$AG$600,9,FALSE),0)","v":0},"Farhane_17",{"$f":"IFERROR(VLOOKUP(DM14,MATCHSELEVES!$Y$14:$AE$600,3,FALSE),0)","v":0},{"$f":"IFERROR(VLOOKUP(DM14,MATCHSELEVES!$Y$14:$AE$600,4,FALSE),0)","v":0},{"$f":"IFERROR(VLOOKUP(DM14,MATCHSELEVES!$Y$14:$AE$600,5,FALSE),0)","v":0},{"$f":"IFERROR(VLOOKUP(DM14,MATCHSELEVES!$Y$14:$AF$600,8,FALSE),0)","v":0},{"$f":"IFERROR(VLOOKUP(DM14,MATCHSELEVES!$Y$14:$AG$600,9,FALSE),0)","v":0},"Farhane_18",{"$f":"IFERROR(VLOOKUP(DS14,MATCHSELEVES!$Y$14:$AE$600,3,FALSE),0)","v":0},{"$f":"IFERROR(VLOOKUP(DS14,MATCHSELEVES!$Y$14:$AE$600,4,FALSE),0)","v":0},{"$f":"IFERROR(VLOOKUP(DS14,MATCHSELEVES!$Y$14:$AE$600,5,FALSE),0)","v":0},{"$f":"IFERROR(VLOOKUP(DS14,MATCHSELEVES!$Y$14:$AF$600,8,FALSE),0)","v":0},{"$f":"IFERROR(VLOOKUP(DS14,MATCHSELEVES!$Y$14:$AG$600,9,FALSE),0)","v":0},"Farhane_19",{"$f":"IFERROR(VLOOKUP(DY14,MATCHSELEVES!$Y$14:$AE$600,3,FALSE),0)","v":0},{"$f":"IFERROR(VLOOKUP(DY14,MATCHSELEVES!$Y$14:$AE$600,4,FALSE),0)","v":0},{"$f":"IFERROR(VLOOKUP(DY14,MATCHSELEVES!$Y$14:$AE$600,5,FALSE),0)","v":0},{"$f":"IFERROR(VLOOKUP(DY14,MATCHSELEVES!$Y$14:$AF$600,8,FALSE),0)","v":0},{"$f":"IFERROR(VLOOKUP(DY14,MATCHSELEVES!$Y$14:$AG$600,9,FALSE),0)","v":0},"Farhane_20",{"$f":"IFERROR(VLOOKUP(EE14,MATCHSELEVES!$Y$14:$AE$600,3,FALSE),0)","v":0},{"$f":"IFERROR(VLOOKUP(EE14,MATCHSELEVES!$Y$14:$AE$600,4,FALSE),0)","v":0},{"$f":"IFERROR(VLOOKUP(EE14,MATCHSELEVES!$Y$14:$AE$600,5,FALSE),0)","v":0},{"$f":"IFERROR(VLOOKUP(EE14,MATCHSELEVES!$Y$14:$AF$600,8,FALSE),0)","v":0},{"$f":"IFERROR(VLOOKUP(EE14,MATCHSELEVES!$Y$14:$AG$600,9,FALSE),0)","v":0},"Farhane_21",{"$f":"IFERROR(VLOOKUP(EK14,MATCHSELEVES!$Y$14:$AE$600,3,FALSE),0)","v":0},{"$f":"IFERROR(VLOOKUP(EK14,MATCHSELEVES!$Y$14:$AE$600,4,FALSE),0)","v":0},{"$f":"IFERROR(VLOOKUP(EK14,MATCHSELEVES!$Y$14:$AE$600,5,FALSE),0)","v":0},{"$f":"IFERROR(VLOOKUP(EK14,MATCHSELEVES!$Y$14:$AF$600,8,FALSE),0)","v":0},{"$f":"IFERROR(VLOOKUP(EK14,MATCHSELEVES!$Y$14:$AG$600,9,FALSE),0)","v":0},"Farhane_22",{"$f":"IFERROR(VLOOKUP(EQ14,MATCHSELEVES!$Y$14:$AE$600,3,FALSE),0)","v":0},{"$f":"IFERROR(VLOOKUP(EQ14,MATCHSELEVES!$Y$14:$AE$600,4,FALSE),0)","v":0},{"$f":"IFERROR(VLOOKUP(EQ14,MATCHSELEVES!$Y$14:$AE$600,5,FALSE),0)","v":0},{"$f":"IFERROR(VLOOKUP(EQ14,MATCHSELEVES!$Y$14:$AF$600,8,FALSE),0)","v":0},{"$f":"IFERROR(VLOOKUP(EQ14,MATCHSELEVES!$Y$14:$AG$600,9,FALSE),0)","v":0},"Farhane_23",{"$f":"IFERROR(VLOOKUP(EW14,MATCHSELEVES!$Y$14:$AE$600,3,FALSE),0)","v":0},{"$f":"IFERROR(VLOOKUP(EW14,MATCHSELEVES!$Y$14:$AE$600,4,FALSE),0)","v":0},{"$f":"IFERROR(VLOOKUP(EW14,MATCHSELEVES!$Y$14:$AE$600,5,FALSE),0)","v":0},{"$f":"IFERROR(VLOOKUP(EW14,MATCHSELEVES!$Y$14:$AF$600,8,FALSE),0)","v":0},{"$f":"IFERROR(VLOOKUP(EW14,MATCHSELEVES!$Y$14:$AG$600,9,FALSE),0)","v":0},"Farhane_24",{"$f":"IFERROR(VLOOKUP(FC14,MATCHSELEVES!$Y$14:$AE$600,3,FALSE),0)","v":0},{"$f":"IFERROR(VLOOKUP(FC14,MATCHSELEVES!$Y$14:$AE$600,4,FALSE),0)","v":0},{"$f":"IFERROR(VLOOKUP(FC14,MATCHSELEVES!$Y$14:$AE$600,5,FALSE),0)","v":0},{"$f":"IFERROR(VLOOKUP(FC14,MATCHSELEVES!$Y$14:$AF$600,8,FALSE),0)","v":0},{"$f":"IFERROR(VLOOKUP(FC14,MATCHSELEVES!$Y$14:$AG$600,9,FALSE),0)","v":0},"Farhane_25",{"$f":"IFERROR(VLOOKUP(FI14,MATCHSELEVES!$Y$14:$AE$600,3,FALSE),0)","v":0},{"$f":"IFERROR(VLOOKUP(FI14,MATCHSELEVES!$Y$14:$AE$600,4,FALSE),0)","v":0},{"$f":"IFERROR(VLOOKUP(FI14,MATCHSELEVES!$Y$14:$AE$600,5,FALSE),0)","v":0},{"$f":"IFERROR(VLOOKUP(FI14,MATCHSELEVES!$Y$14:$AF$600,8,FALSE),0)","v":0},{"$f":"IFERROR(VLOOKUP(FI14,MATCHSELEVES!$Y$14:$AG$600,9,FALSE),0)","v":0},"Farhane_26",{"$f":"IFERROR(VLOOKUP(FO14,MATCHSELEVES!$Y$14:$AE$600,3,FALSE),0)","v":0},{"$f":"IFERROR(VLOOKUP(FO14,MATCHSELEVES!$Y$14:$AE$600,4,FALSE),0)","v":0},{"$f":"IFERROR(VLOOKUP(FO14,MATCHSELEVES!$Y$14:$AE$600,5,FALSE),0)","v":0},{"$f":"IFERROR(VLOOKUP(FO14,MATCHSELEVES!$Y$14:$AF$600,8,FALSE),0)","v":0},{"$f":"IFERROR(VLOOKUP(FO14,MATCHSELEVES!$Y$14:$AG$600,9,FALSE),0)","v":0},"Farhane_27",{"$f":"IFERROR(VLOOKUP(FU14,MATCHSELEVES!$Y$14:$AE$600,3,FALSE),0)","v":0},{"$f":"IFERROR(VLOOKUP(FU14,MATCHSELEVES!$Y$14:$AE$600,4,FALSE),0)","v":0},{"$f":"IFERROR(VLOOKUP(FU14,MATCHSELEVES!$Y$14:$AE$600,5,FALSE),0)","v":0},{"$f":"IFERROR(VLOOKUP(FU14,MATCHSELEVES!$Y$14:$AF$600,8,FALSE),0)","v":0},{"$f":"IFERROR(VLOOKUP(FU14,MATCHSELEVES!$Y$14:$AG$600,9,FALSE),0)","v":0},"Farhane_28",{"$f":"IFERROR(VLOOKUP(GA14,MATCHSELEVES!$Y$14:$AE$600,3,FALSE),0)","v":0},{"$f":"IFERROR(VLOOKUP(GA14,MATCHSELEVES!$Y$14:$AE$600,4,FALSE),0)","v":0},{"$f":"IFERROR(VLOOKUP(GA14,MATCHSELEVES!$Y$14:$AE$600,5,FALSE),0)","v":0},{"$f":"IFERROR(VLOOKUP(GA14,MATCHSELEVES!$Y$14:$AF$600,8,FALSE),0)","v":0},{"$f":"IFERROR(VLOOKUP(GA14,MATCHSELEVES!$Y$14:$AG$600,9,FALSE),0)","v":0},"Farhane_29",{"$f":"IFERROR(VLOOKUP(GG14,MATCHSELEVES!$Y$14:$AE$600,3,FALSE),0)","v":0},{"$f":"IFERROR(VLOOKUP(GG14,MATCHSELEVES!$Y$14:$AE$600,4,FALSE),0)","v":0},{"$f":"IFERROR(VLOOKUP(GG14,MATCHSELEVES!$Y$14:$AE$600,5,FALSE),0)","v":0},{"$f":"IFERROR(VLOOKUP(GG14,MATCHSELEVES!$Y$14:$AF$600,8,FALSE),0)","v":0},{"$f":"IFERROR(VLOOKUP(GG14,MATCHSELEVES!$Y$14:$AG$600,9,FALSE),0)","v":0},"Farhane_30",{"$f":"IFERROR(VLOOKUP(GM14,MATCHSELEVES!$Y$14:$AE$600,3,FALSE),0)","v":0},{"$f":"IFERROR(VLOOKUP(GM14,MATCHSELEVES!$Y$14:$AE$600,4,FALSE),0)","v":0},{"$f":"IFERROR(VLOOKUP(GM14,MATCHSELEVES!$Y$14:$AE$600,5,FALSE),0)","v":0},{"$f":"IFERROR(VLOOKUP(GM14,MATCHSELEVES!$Y$14:$AF$600,8,FALSE),0)","v":0},{"$f":"IFERROR(VLOOKUP(GM14,MATCHSELEVES!$Y$14:$AG$600,9,FALSE),0)","v":0},"Farhane_31",{"$f":"IFERROR(VLOOKUP(GS14,MATCHSELEVES!$Y$14:$AE$600,3,FALSE),0)","v":0},{"$f":"IFERROR(VLOOKUP(GS14,MATCHSELEVES!$Y$14:$AE$600,4,FALSE),0)","v":0},{"$f":"IFERROR(VLOOKUP(GS14,MATCHSELEVES!$Y$14:$AE$600,5,FALSE),0)","v":0},{"$f":"IFERROR(VLOOKUP(GS14,MATCHSELEVES!$Y$14:$AF$600,8,FALSE),0)","v":0},{"$f":"IFERROR(VLOOKUP(GS14,MATCHSELEVES!$Y$14:$AG$600,9,FALSE),0)","v":0},"Farhane_32",{"$f":"IFERROR(VLOOKUP(GY14,MATCHSELEVES!$Y$14:$AE$600,3,FALSE),0)","v":0},{"$f":"IFERROR(VLOOKUP(GY14,MATCHSELEVES!$Y$14:$AE$600,4,FALSE),0)","v":0},{"$f":"IFERROR(VLOOKUP(GY14,MATCHSELEVES!$Y$14:$AE$600,5,FALSE),0)","v":0},{"$f":"IFERROR(VLOOKUP(GY14,MATCHSELEVES!$Y$14:$AF$600,8,FALSE),0)","v":0},{"$f":"IFERROR(VLOOKUP(GY14,MATCHSELEVES!$Y$14:$AG$600,9,FALSE),0)","v":0},"Farhane_33",{"$f":"IFERROR(VLOOKUP(HE14,MATCHSELEVES!$Y$14:$AE$600,3,FALSE),0)","v":0},{"$f":"IFERROR(VLOOKUP(HE14,MATCHSELEVES!$Y$14:$AE$600,4,FALSE),0)","v":0},{"$f":"IFERROR(VLOOKUP(HE14,MATCHSELEVES!$Y$14:$AE$600,5,FALSE),0)","v":0},{"$f":"IFERROR(VLOOKUP(HE14,MATCHSELEVES!$Y$14:$AF$600,8,FALSE),0)","v":0},{"$f":"IFERROR(VLOOKUP(HE14,MATCHSELEVES!$Y$14:$AG$600,9,FALSE),0)","v":0},"Farhane_34",{"$f":"IFERROR(VLOOKUP(HK14,MATCHSELEVES!$Y$14:$AE$600,3,FALSE),0)","v":0},{"$f":"IFERROR(VLOOKUP(HK14,MATCHSELEVES!$Y$14:$AE$600,4,FALSE),0)","v":0},{"$f":"IFERROR(VLOOKUP(HK14,MATCHSELEVES!$Y$14:$AE$600,5,FALSE),0)","v":0},{"$f":"IFERROR(VLOOKUP(HK14,MATCHSELEVES!$Y$14:$AF$600,8,FALSE),0)","v":0},{"$f":"IFERROR(VLOOKUP(HK14,MATCHSELEVES!$Y$14:$AG$600,9,FALSE),0)","v":0},"Farhane_35",{"$f":"IFERROR(VLOOKUP(HQ14,MATCHSELEVES!$Y$14:$AE$600,3,FALSE),0)","v":0},{"$f":"IFERROR(VLOOKUP(HQ14,MATCHSELEVES!$Y$14:$AE$600,4,FALSE),0)","v":0},{"$f":"IFERROR(VLOOKUP(HQ14,MATCHSELEVES!$Y$14:$AE$600,5,FALSE),0)","v":0},{"$f":"IFERROR(VLOOKUP(HQ14,MATCHSELEVES!$Y$14:$AF$600,8,FALSE),0)","v":0},{"$f":"IFERROR(VLOOKUP(HQ14,MATCHSELEVES!$Y$14:$AG$600,9,FALSE),0)","v":0},"Farhane_36",{"$f":"IFERROR(VLOOKUP(HW14,MATCHSELEVES!$Y$14:$AE$600,3,FALSE),0)","v":0},{"$f":"IFERROR(VLOOKUP(HW14,MATCHSELEVES!$Y$14:$AE$600,4,FALSE),0)","v":0},{"$f":"IFERROR(VLOOKUP(HW14,MATCHSELEVES!$Y$14:$AE$600,5,FALSE),0)","v":0},{"$f":"IFERROR(VLOOKUP(HW14,MATCHSELEVES!$Y$14:$AF$600,8,FALSE),0)","v":0},{"$f":"IFERROR(VLOOKUP(HW14,MATCHSELEVES!$Y$14:$AG$600,9,FALSE),0)","v":0},"Farhane_37",{"$f":"IFERROR(VLOOKUP(IC14,MATCHSELEVES!$Y$14:$AE$600,3,FALSE),0)","v":0},{"$f":"IFERROR(VLOOKUP(IC14,MATCHSELEVES!$Y$14:$AE$600,4,FALSE),0)","v":0},{"$f":"IFERROR(VLOOKUP(IC14,MATCHSELEVES!$Y$14:$AE$600,5,FALSE),0)","v":0},{"$f":"IFERROR(VLOOKUP(IC14,MATCHSELEVES!$Y$14:$AF$600,8,FALSE),0)","v":0},{"$f":"IFERROR(VLOOKUP(IC14,MATCHSELEVES!$Y$14:$AG$600,9,FALSE),0)","v":0},"Farhane_38",{"$f":"IFERROR(VLOOKUP(II14,MATCHSELEVES!$Y$14:$AE$600,3,FALSE),0)","v":0},{"$f":"IFERROR(VLOOKUP(II14,MATCHSELEVES!$Y$14:$AE$600,4,FALSE),0)","v":0},{"$f":"IFERROR(VLOOKUP(II14,MATCHSELEVES!$Y$14:$AE$600,5,FALSE),0)","v":0},{"$f":"IFERROR(VLOOKUP(II14,MATCHSELEVES!$Y$14:$AF$600,8,FALSE),0)","v":0},{"$f":"IFERROR(VLOOKUP(II14,MATCHSELEVES!$Y$14:$AG$600,9,FALSE),0)","v":0},"Farhane_39",{"$f":"IFERROR(VLOOKUP(IO14,MATCHSELEVES!$Y$14:$AE$600,3,FALSE),0)","v":0},{"$f":"IFERROR(VLOOKUP(IO14,MATCHSELEVES!$Y$14:$AE$600,4,FALSE),0)","v":0},{"$f":"IFERROR(VLOOKUP(IO14,MATCHSELEVES!$Y$14:$AE$600,5,FALSE),0)","v":0},{"$f":"IFERROR(VLOOKUP(IO14,MATCHSELEVES!$Y$14:$AF$600,8,FALSE),0)","v":0},{"$f":"IFERROR(VLOOKUP(IO14,MATCHSELEVES!$Y$14:$AG$600,9,FALSE),0)","v":0},"Farhane_40",{"$f":"IFERROR(VLOOKUP(IU14,MATCHSELEVES!$Y$14:$AE$600,3,FALSE),0)","v":0},{"$f":"IFERROR(VLOOKUP(IU14,MATCHSELEVES!$Y$14:$AE$600,4,FALSE),0)","v":0},{"$f":"IFERROR(VLOOKUP(IU14,MATCHSELEVES!$Y$14:$AE$600,5,FALSE),0)","v":0},{"$f":"IFERROR(VLOOKUP(IU14,MATCHSELEVES!$Y$14:$AF$600,8,FALSE),0)","v":0},{"$f":"IFERROR(VLOOKUP(IU14,MATCHSELEVES!$Y$14:$AG$600,9,FALSE),0)","v":0},{"$f":"Tableau10[[#This Row],[CLASSE]]","v":"Farhane"},1,{"$f":"MD1POINT!D14","v":1},"Farhanep_1",{"$f":"IFERROR(VLOOKUP(JD14,MATCHSELEVES!$Y$14:$AE$600,3,FALSE),0)","v":0},{"$f":"IFERROR(VLOOKUP(JD14,MATCHSELEVES!$Y$14:$AE$600,4,FALSE),0)","v":0},{"$f":"IFERROR(VLOOKUP(JD14,MATCHSELEVES!$Y$14:$AE$600,5,FALSE),0)","v":0},{"$f":"IFERROR(VLOOKUP(JD14,MATCHSELEVES!$Y$14:$AF$600,8,FALSE),0)","v":0},{"$f":"IFERROR(VLOOKUP(JD14,MATCHSELEVES!$Y$14:$AG$600,9,FALSE),0)","v":0},"Farhanep_2",{"$f":"IFERROR(VLOOKUP(JJ14,MATCHSELEVES!$Y$14:$AE$600,3,FALSE),0)","v":0},{"$f":"IFERROR(VLOOKUP(JJ14,MATCHSELEVES!$Y$14:$AE$600,4,FALSE),0)","v":0},{"$f":"IFERROR(VLOOKUP(JJ14,MATCHSELEVES!$Y$14:$AE$600,5,FALSE),0)","v":0},{"$f":"IFERROR(VLOOKUP(JJ14,MATCHSELEVES!$Y$14:$AF$600,8,FALSE),0)","v":0},{"$f":"IFERROR(VLOOKUP(JJ14,MATCHSELEVES!$Y$14:$AG$600,9,FALSE),0)","v":0},"Farhanep_3",{"$f":"IFERROR(VLOOKUP(JP14,MATCHSELEVES!$Y$14:$AE$600,3,FALSE),0)","v":0},{"$f":"IFERROR(VLOOKUP(JP14,MATCHSELEVES!$Y$14:$AE$600,4,FALSE),0)","v":0},{"$f":"IFERROR(VLOOKUP(JP14,MATCHSELEVES!$Y$14:$AE$600,5,FALSE),0)","v":0},{"$f":"IFERROR(VLOOKUP(JP14,MATCHSELEVES!$Y$14:$AF$600,8,FALSE),0)","v":0},{"$f":"IFERROR(VLOOKUP(JP14,MATCHSELEVES!$Y$14:$AG$600,9,FALSE),0)","v":0},"Farhanep_4",{"$f":"IFERROR(VLOOKUP(JV14,MATCHSELEVES!$Y$14:$AE$600,3,FALSE),0)","v":0},{"$f":"IFERROR(VLOOKUP(JV14,MATCHSELEVES!$Y$14:$AE$600,4,FALSE),0)","v":0},{"$f":"IFERROR(VLOOKUP(JV14,MATCHSELEVES!$Y$14:$AE$600,5,FALSE),0)","v":0},{"$f":"IFERROR(VLOOKUP(JV14,MATCHSELEVES!$Y$14:$AF$600,8,FALSE),0)","v":0},{"$f":"IFERROR(VLOOKUP(JV14,MATCHSELEVES!$Y$14:$AG$600,9,FALSE),0)","v":0},"Farhanep_5",{"$f":"IFERROR(VLOOKUP(KB14,MATCHSELEVES!$Y$14:$AE$600,3,FALSE),0)","v":0},{"$f":"IFERROR(VLOOKUP(KB14,MATCHSELEVES!$Y$14:$AE$600,4,FALSE),0)","v":0},{"$f":"IFERROR(VLOOKUP(KB14,MATCHSELEVES!$Y$14:$AE$600,5,FALSE),0)","v":0},{"$f":"IFERROR(VLOOKUP(KB14,MATCHSELEVES!$Y$14:$AF$600,8,FALSE),0)","v":0},{"$f":"IFERROR(VLOOKUP(KB14,MATCHSELEVES!$Y$14:$AG$600,9,FALSE),0)","v":0},"Farhanep_6",{"$f":"IFERROR(VLOOKUP(KH14,MATCHSELEVES!$Y$14:$AE$600,3,FALSE),0)","v":0},{"$f":"IFERROR(VLOOKUP(KH14,MATCHSELEVES!$Y$14:$AE$600,4,FALSE),0)","v":0},{"$f":"IFERROR(VLOOKUP(KH14,MATCHSELEVES!$Y$14:$AE$600,5,FALSE),0)","v":0},{"$f":"IFERROR(VLOOKUP(KH14,MATCHSELEVES!$Y$14:$AF$600,8,FALSE),0)","v":0},{"$f":"IFERROR(VLOOKUP(KH14,MATCHSELEVES!$Y$14:$AG$600,9,FALSE),0)","v":0},"Farhanep_7",{"$f":"IFERROR(VLOOKUP(KN14,MATCHSELEVES!$Y$14:$AE$600,3,FALSE),0)","v":0},{"$f":"IFERROR(VLOOKUP(KN14,MATCHSELEVES!$Y$14:$AE$600,4,FALSE),0)","v":0},{"$f":"IFERROR(VLOOKUP(KN14,MATCHSELEVES!$Y$14:$AE$600,5,FALSE),0)","v":0},{"$f":"IFERROR(VLOOKUP(KN14,MATCHSELEVES!$Y$14:$AF$600,8,FALSE),0)","v":0},{"$f":"IFERROR(VLOOKUP(KN14,MATCHSELEVES!$Y$14:$AG$600,9,FALSE),0)","v":0},"Farhanep_8",{"$f":"IFERROR(VLOOKUP(KT14,MATCHSELEVES!$Y$14:$AE$600,3,FALSE),0)","v":0},{"$f":"IFERROR(VLOOKUP(KT14,MATCHSELEVES!$Y$14:$AE$600,4,FALSE),0)","v":0},{"$f":"IFERROR(VLOOKUP(KT14,MATCHSELEVES!$Y$14:$AE$600,5,FALSE),0)","v":0},{"$f":"IFERROR(VLOOKUP(KT14,MATCHSELEVES!$Y$14:$AF$600,8,FALSE),0)","v":0},{"$f":"IFERROR(VLOOKUP(KT14,MATCHSELEVES!$Y$14:$AG$600,9,FALSE),0)","v":0},"Farhanep_9",{"$f":"IFERROR(VLOOKUP(KZ14,MATCHSELEVES!$Y$14:$AE$600,3,FALSE),0)","v":0},{"$f":"IFERROR(VLOOKUP(KZ14,MATCHSELEVES!$Y$14:$AE$600,4,FALSE),0)","v":0},{"$f":"IFERROR(VLOOKUP(KZ14,MATCHSELEVES!$Y$14:$AE$600,5,FALSE),0)","v":0},{"$f":"IFERROR(VLOOKUP(KZ14,MATCHSELEVES!$Y$14:$AF$600,8,FALSE),0)","v":0},{"$f":"IFERROR(VLOOKUP(KZ14,MATCHSELEVES!$Y$14:$AG$600,9,FALSE),0)","v":0},"Farhanep_10",{"$f":"IFERROR(VLOOKUP(LF14,MATCHSELEVES!$Y$14:$AE$600,3,FALSE),0)","v":0},{"$f":"IFERROR(VLOOKUP(LF14,MATCHSELEVES!$Y$14:$AE$600,4,FALSE),0)","v":0},{"$f":"IFERROR(VLOOKUP(LF14,MATCHSELEVES!$Y$14:$AE$600,5,FALSE),0)","v":0},{"$f":"IFERROR(VLOOKUP(LF14,MATCHSELEVES!$Y$14:$AF$600,8,FALSE),0)","v":0},{"$f":"IFERROR(VLOOKUP(LF14,MATCHSELEVES!$Y$14:$AG$600,9,FALSE),0)","v":0},"Farhanep_11",{"$f":"IFERROR(VLOOKUP(LL14,MATCHSELEVES!$Y$14:$AE$600,3,FALSE),0)","v":0},{"$f":"IFERROR(VLOOKUP(LL14,MATCHSELEVES!$Y$14:$AE$600,4,FALSE),0)","v":0},{"$f":"IFERROR(VLOOKUP(LL14,MATCHSELEVES!$Y$14:$AE$600,5,FALSE),0)","v":0},{"$f":"IFERROR(VLOOKUP(LL14,MATCHSELEVES!$Y$14:$AF$600,8,FALSE),0)","v":0},{"$f":"IFERROR(VLOOKUP(LL14,MATCHSELEVES!$Y$14:$AG$600,9,FALSE),0)","v":0},"Farhanep_12",{"$f":"IFERROR(VLOOKUP(LR14,MATCHSELEVES!$Y$14:$AE$600,3,FALSE),0)","v":0},{"$f":"IFERROR(VLOOKUP(LR14,MATCHSELEVES!$Y$14:$AE$600,4,FALSE),0)","v":0},{"$f":"IFERROR(VLOOKUP(LR14,MATCHSELEVES!$Y$14:$AE$600,5,FALSE),0)","v":0},{"$f":"IFERROR(VLOOKUP(LR14,MATCHSELEVES!$Y$14:$AF$600,8,FALSE),0)","v":0},{"$f":"IFERROR(VLOOKUP(LR14,MATCHSELEVES!$Y$14:$AG$600,9,FALSE),0)","v":0},"Farhanep_13",{"$f":"IFERROR(VLOOKUP(LX14,MATCHSELEVES!$Y$14:$AE$600,3,FALSE),0)","v":0},{"$f":"IFERROR(VLOOKUP(LX14,MATCHSELEVES!$Y$14:$AE$600,4,FALSE),0)","v":0},{"$f":"IFERROR(VLOOKUP(LX14,MATCHSELEVES!$Y$14:$AE$600,5,FALSE),0)","v":0},{"$f":"IFERROR(VLOOKUP(LX14,MATCHSELEVES!$Y$14:$AF$600,8,FALSE),0)","v":0},{"$f":"IFERROR(VLOOKUP(LX14,MATCHSELEVES!$Y$14:$AG$600,9,FALSE),0)","v":0},"Farhanep_14",{"$f":"IFERROR(VLOOKUP(MD14,MATCHSELEVES!$Y$14:$AE$600,3,FALSE),0)","v":0},{"$f":"IFERROR(VLOOKUP(MD14,MATCHSELEVES!$Y$14:$AE$600,4,FALSE),0)","v":0},{"$f":"IFERROR(VLOOKUP(MD14,MATCHSELEVES!$Y$14:$AE$600,5,FALSE),0)","v":0},{"$f":"IFERROR(VLOOKUP(MD14,MATCHSELEVES!$Y$14:$AF$600,8,FALSE),0)","v":0},{"$f":"IFERROR(VLOOKUP(MD14,MATCHSELEVES!$Y$14:$AG$600,9,FALSE),0)","v":0},"Farhanep_15",{"$f":"IFERROR(VLOOKUP(MJ14,MATCHSELEVES!$Y$14:$AE$600,3,FALSE),0)","v":0},{"$f":"IFERROR(VLOOKUP(MJ14,MATCHSELEVES!$Y$14:$AE$600,4,FALSE),0)","v":0},{"$f":"IFERROR(VLOOKUP(MJ14,MATCHSELEVES!$Y$14:$AE$600,5,FALSE),0)","v":0},{"$f":"IFERROR(VLOOKUP(MJ14,MATCHSELEVES!$Y$14:$AF$600,8,FALSE),0)","v":0},{"$f":"IFERROR(VLOOKUP(MJ14,MATCHSELEVES!$Y$14:$AG$600,9,FALSE),0)","v":0},"Farhanep_16",{"$f":"IFERROR(VLOOKUP(MP14,MATCHSELEVES!$Y$14:$AE$600,3,FALSE),0)","v":0},{"$f":"IFERROR(VLOOKUP(MP14,MATCHSELEVES!$Y$14:$AE$600,4,FALSE),0)","v":0},{"$f":"IFERROR(VLOOKUP(MP14,MATCHSELEVES!$Y$14:$AE$600,5,FALSE),0)","v":0},{"$f":"IFERROR(VLOOKUP(MP14,MATCHSELEVES!$Y$14:$AF$600,8,FALSE),0)","v":0},{"$f":"IFERROR(VLOOKUP(MP14,MATCHSELEVES!$Y$14:$AG$600,9,FALSE),0)","v":0},"Farhanep_17",{"$f":"IFERROR(VLOOKUP(MV14,MATCHSELEVES!$Y$14:$AE$600,3,FALSE),0)","v":0},{"$f":"IFERROR(VLOOKUP(MV14,MATCHSELEVES!$Y$14:$AE$600,4,FALSE),0)","v":0},{"$f":"IFERROR(VLOOKUP(MV14,MATCHSELEVES!$Y$14:$AE$600,5,FALSE),0)","v":0},{"$f":"IFERROR(VLOOKUP(MV14,MATCHSELEVES!$Y$14:$AF$600,8,FALSE),0)","v":0},{"$f":"IFERROR(VLOOKUP(MV14,MATCHSELEVES!$Y$14:$AG$600,9,FALSE),0)","v":0},"Farhanep_18",{"$f":"IFERROR(VLOOKUP(NB14,MATCHSELEVES!$Y$14:$AE$600,3,FALSE),0)","v":0},{"$f":"IFERROR(VLOOKUP(NB14,MATCHSELEVES!$Y$14:$AE$600,4,FALSE),0)","v":0},{"$f":"IFERROR(VLOOKUP(NB14,MATCHSELEVES!$Y$14:$AE$600,5,FALSE),0)","v":0},{"$f":"IFERROR(VLOOKUP(NB14,MATCHSELEVES!$Y$14:$AF$600,8,FALSE),0)","v":0},{"$f":"IFERROR(VLOOKUP(NB14,MATCHSELEVES!$Y$14:$AG$600,9,FALSE),0)","v":0},"Farhanep_19",{"$f":"IFERROR(VLOOKUP(NH14,MATCHSELEVES!$Y$14:$AE$600,3,FALSE),0)","v":0},{"$f":"IFERROR(VLOOKUP(NH14,MATCHSELEVES!$Y$14:$AE$600,4,FALSE),0)","v":0},{"$f":"IFERROR(VLOOKUP(NH14,MATCHSELEVES!$Y$14:$AE$600,5,FALSE),0)","v":0},{"$f":"IFERROR(VLOOKUP(NH14,MATCHSELEVES!$Y$14:$AF$600,8,FALSE),0)","v":0},{"$f":"IFERROR(VLOOKUP(NH14,MATCHSELEVES!$Y$14:$AG$600,9,FALSE),0)","v":0},"Farhanep_20",{"$f":"IFERROR(VLOOKUP(NN14,MATCHSELEVES!$Y$14:$AE$600,3,FALSE),0)","v":0},{"$f":"IFERROR(VLOOKUP(NN14,MATCHSELEVES!$Y$14:$AE$600,4,FALSE),0)","v":0},{"$f":"IFERROR(VLOOKUP(NN14,MATCHSELEVES!$Y$14:$AE$600,5,FALSE),0)","v":0},{"$f":"IFERROR(VLOOKUP(NN14,MATCHSELEVES!$Y$14:$AF$600,8,FALSE),0)","v":0},{"$f":"IFERROR(VLOOKUP(NN14,MATCHSELEVES!$Y$14:$AG$600,9,FALSE),0)","v":0},"Farhanep_21",{"$f":"IFERROR(VLOOKUP(NT14,MATCHSELEVES!$Y$14:$AE$600,3,FALSE),0)","v":0},{"$f":"IFERROR(VLOOKUP(NT14,MATCHSELEVES!$Y$14:$AE$600,4,FALSE),0)","v":0},{"$f":"IFERROR(VLOOKUP(NT14,MATCHSELEVES!$Y$14:$AE$600,5,FALSE),0)","v":0},{"$f":"IFERROR(VLOOKUP(NT14,MATCHSELEVES!$Y$14:$AF$600,8,FALSE),0)","v":0},{"$f":"IFERROR(VLOOKUP(NT14,MATCHSELEVES!$Y$14:$AG$600,9,FALSE),0)","v":0},"Farhanep_22",{"$f":"IFERROR(VLOOKUP(NZ14,MATCHSELEVES!$Y$14:$AE$600,3,FALSE),0)","v":0},{"$f":"IFERROR(VLOOKUP(NZ14,MATCHSELEVES!$Y$14:$AE$600,4,FALSE),0)","v":0},{"$f":"IFERROR(VLOOKUP(NZ14,MATCHSELEVES!$Y$14:$AE$600,5,FALSE),0)","v":0},{"$f":"IFERROR(VLOOKUP(NZ14,MATCHSELEVES!$Y$14:$AF$600,8,FALSE),0)","v":0},{"$f":"IFERROR(VLOOKUP(NZ14,MATCHSELEVES!$Y$14:$AG$600,9,FALSE),0)","v":0},"Farhanep_23",{"$f":"IFERROR(VLOOKUP(OF14,MATCHSELEVES!$Y$14:$AE$600,3,FALSE),0)","v":0},{"$f":"IFERROR(VLOOKUP(OF14,MATCHSELEVES!$Y$14:$AE$600,4,FALSE),0)","v":0},{"$f":"IFERROR(VLOOKUP(OF14,MATCHSELEVES!$Y$14:$AE$600,5,FALSE),0)","v":0},{"$f":"IFERROR(VLOOKUP(OF14,MATCHSELEVES!$Y$14:$AF$600,8,FALSE),0)","v":0},{"$f":"IFERROR(VLOOKUP(OF14,MATCHSELEVES!$Y$14:$AG$600,9,FALSE),0)","v":0},"Farhanep_24",{"$f":"IFERROR(VLOOKUP(OL14,MATCHSELEVES!$Y$14:$AE$600,3,FALSE),0)","v":0},{"$f":"IFERROR(VLOOKUP(OL14,MATCHSELEVES!$Y$14:$AE$600,4,FALSE),0)","v":0},{"$f":"IFERROR(VLOOKUP(OL14,MATCHSELEVES!$Y$14:$AE$600,5,FALSE),0)","v":0},{"$f":"IFERROR(VLOOKUP(OL14,MATCHSELEVES!$Y$14:$AF$600,8,FALSE),0)","v":0},{"$f":"IFERROR(VLOOKUP(OL14,MATCHSELEVES!$Y$14:$AG$600,9,FALSE),0)","v":0},"Farhanep_25",{"$f":"IFERROR(VLOOKUP(OR14,MATCHSELEVES!$Y$14:$AE$600,3,FALSE),0)","v":0},{"$f":"IFERROR(VLOOKUP(OR14,MATCHSELEVES!$Y$14:$AE$600,4,FALSE),0)","v":0},{"$f":"IFERROR(VLOOKUP(OR14,MATCHSELEVES!$Y$14:$AE$600,5,FALSE),0)","v":0},{"$f":"IFERROR(VLOOKUP(OR14,MATCHSELEVES!$Y$14:$AF$600,8,FALSE),0)","v":0},{"$f":"IFERROR(VLOOKUP(OR14,MATCHSELEVES!$Y$14:$AG$600,9,FALSE),0)","v":0},"Farhanep_26",{"$f":"IFERROR(VLOOKUP(OX14,MATCHSELEVES!$Y$14:$AE$600,3,FALSE),0)","v":0},{"$f":"IFERROR(VLOOKUP(OX14,MATCHSELEVES!$Y$14:$AE$600,4,FALSE),0)","v":0},{"$f":"IFERROR(VLOOKUP(OX14,MATCHSELEVES!$Y$14:$AE$600,5,FALSE),0)","v":0},{"$f":"IFERROR(VLOOKUP(OX14,MATCHSELEVES!$Y$14:$AF$600,8,FALSE),0)","v":0},{"$f":"IFERROR(VLOOKUP(OX14,MATCHSELEVES!$Y$14:$AG$600,9,FALSE),0)","v":0},"Farhanep_27",{"$f":"IFERROR(VLOOKUP(PD14,MATCHSELEVES!$Y$14:$AE$600,3,FALSE),0)","v":0},{"$f":"IFERROR(VLOOKUP(PD14,MATCHSELEVES!$Y$14:$AE$600,4,FALSE),0)","v":0},{"$f":"IFERROR(VLOOKUP(PD14,MATCHSELEVES!$Y$14:$AE$600,5,FALSE),0)","v":0},{"$f":"IFERROR(VLOOKUP(PD14,MATCHSELEVES!$Y$14:$AF$600,8,FALSE),0)","v":0},{"$f":"IFERROR(VLOOKUP(PD14,MATCHSELEVES!$Y$14:$AG$600,9,FALSE),0)","v":0},"Farhanep_28",{"$f":"IFERROR(VLOOKUP(PJ14,MATCHSELEVES!$Y$14:$AE$600,3,FALSE),0)","v":0},{"$f":"IFERROR(VLOOKUP(PJ14,MATCHSELEVES!$Y$14:$AE$600,4,FALSE),0)","v":0},{"$f":"IFERROR(VLOOKUP(PJ14,MATCHSELEVES!$Y$14:$AE$600,5,FALSE),0)","v":0},{"$f":"IFERROR(VLOOKUP(PJ14,MATCHSELEVES!$Y$14:$AF$600,8,FALSE),0)","v":0},{"$f":"IFERROR(VLOOKUP(PJ14,MATCHSELEVES!$Y$14:$AG$600,9,FALSE),0)","v":0},"Farhanep_29",{"$f":"IFERROR(VLOOKUP(PP14,MATCHSELEVES!$Y$14:$AE$600,3,FALSE),0)","v":0},{"$f":"IFERROR(VLOOKUP(PP14,MATCHSELEVES!$Y$14:$AE$600,4,FALSE),0)","v":0},{"$f":"IFERROR(VLOOKUP(PP14,MATCHSELEVES!$Y$14:$AE$600,5,FALSE),0)","v":0},{"$f":"IFERROR(VLOOKUP(PP14,MATCHSELEVES!$Y$14:$AF$600,8,FALSE),0)","v":0},{"$f":"IFERROR(VLOOKUP(PP14,MATCHSELEVES!$Y$14:$AG$600,9,FALSE),0)","v":0},"Farhanep_30",{"$f":"IFERROR(VLOOKUP(PV14,MATCHSELEVES!$Y$14:$AE$600,3,FALSE),0)","v":0},{"$f":"IFERROR(VLOOKUP(PV14,MATCHSELEVES!$Y$14:$AE$600,4,FALSE),0)","v":0},{"$f":"IFERROR(VLOOKUP(PV14,MATCHSELEVES!$Y$14:$AE$600,5,FALSE),0)","v":0},{"$f":"IFERROR(VLOOKUP(PV14,MATCHSELEVES!$Y$14:$AF$600,8,FALSE),0)","v":0},{"$f":"IFERROR(VLOOKUP(PV14,MATCHSELEVES!$Y$14:$AG$600,9,FALSE),0)","v":0},"Farhanep_31",{"$f":"IFERROR(VLOOKUP(QB14,MATCHSELEVES!$Y$14:$AE$600,3,FALSE),0)","v":0},{"$f":"IFERROR(VLOOKUP(QB14,MATCHSELEVES!$Y$14:$AE$600,4,FALSE),0)","v":0},{"$f":"IFERROR(VLOOKUP(QB14,MATCHSELEVES!$Y$14:$AE$600,5,FALSE),0)","v":0},{"$f":"IFERROR(VLOOKUP(QB14,MATCHSELEVES!$Y$14:$AF$600,8,FALSE),0)","v":0},{"$f":"IFERROR(VLOOKUP(QB14,MATCHSELEVES!$Y$14:$AG$600,9,FALSE),0)","v":0},"Farhanep_32",{"$f":"IFERROR(VLOOKUP(QH14,MATCHSELEVES!$Y$14:$AE$600,3,FALSE),0)","v":0},{"$f":"IFERROR(VLOOKUP(QH14,MATCHSELEVES!$Y$14:$AE$600,4,FALSE),0)","v":0},{"$f":"IFERROR(VLOOKUP(QH14,MATCHSELEVES!$Y$14:$AE$600,5,FALSE),0)","v":0},{"$f":"IFERROR(VLOOKUP(QH14,MATCHSELEVES!$Y$14:$AF$600,8,FALSE),0)","v":0},{"$f":"IFERROR(VLOOKUP(QH14,MATCHSELEVES!$Y$14:$AG$600,9,FALSE),0)","v":0},"Farhanep_33",{"$f":"IFERROR(VLOOKUP(QN14,MATCHSELEVES!$Y$14:$AE$600,3,FALSE),0)","v":0},{"$f":"IFERROR(VLOOKUP(QN14,MATCHSELEVES!$Y$14:$AE$600,4,FALSE),0)","v":0},{"$f":"IFERROR(VLOOKUP(QN14,MATCHSELEVES!$Y$14:$AE$600,5,FALSE),0)","v":0},{"$f":"IFERROR(VLOOKUP(QN14,MATCHSELEVES!$Y$14:$AF$600,8,FALSE),0)","v":0},{"$f":"IFERROR(VLOOKUP(QN14,MATCHSELEVES!$Y$14:$AG$600,9,FALSE),0)","v":0},"Farhanep_34",{"$f":"IFERROR(VLOOKUP(QT14,MATCHSELEVES!$Y$14:$AE$600,3,FALSE),0)","v":0},{"$f":"IFERROR(VLOOKUP(QT14,MATCHSELEVES!$Y$14:$AE$600,4,FALSE),0)","v":0},{"$f":"IFERROR(VLOOKUP(QT14,MATCHSELEVES!$Y$14:$AE$600,5,FALSE),0)","v":0},{"$f":"IFERROR(VLOOKUP(QT14,MATCHSELEVES!$Y$14:$AF$600,8,FALSE),0)","v":0},{"$f":"IFERROR(VLOOKUP(QT14,MATCHSELEVES!$Y$14:$AG$600,9,FALSE),0)","v":0},"Farhanep_35",{"$f":"IFERROR(VLOOKUP(QZ14,MATCHSELEVES!$Y$14:$AE$600,3,FALSE),0)","v":0},{"$f":"IFERROR(VLOOKUP(QZ14,MATCHSELEVES!$Y$14:$AE$600,4,FALSE),0)","v":0},{"$f":"IFERROR(VLOOKUP(QZ14,MATCHSELEVES!$Y$14:$AE$600,5,FALSE),0)","v":0},{"$f":"IFERROR(VLOOKUP(QZ14,MATCHSELEVES!$Y$14:$AF$600,8,FALSE),0)","v":0},{"$f":"IFERROR(VLOOKUP(QZ14,MATCHSELEVES!$Y$14:$AG$600,9,FALSE),0)","v":0},"Farhanep_36",{"$f":"IFERROR(VLOOKUP(RF14,MATCHSELEVES!$Y$14:$AE$600,3,FALSE),0)","v":0},{"$f":"IFERROR(VLOOKUP(RF14,MATCHSELEVES!$Y$14:$AE$600,4,FALSE),0)","v":0},{"$f":"IFERROR(VLOOKUP(RF14,MATCHSELEVES!$Y$14:$AE$600,5,FALSE),0)","v":0},{"$f":"IFERROR(VLOOKUP(RF14,MATCHSELEVES!$Y$14:$AF$600,8,FALSE),0)","v":0},{"$f":"IFERROR(VLOOKUP(RF14,MATCHSELEVES!$Y$14:$AG$600,9,FALSE),0)","v":0},"Farhanep_37",{"$f":"IFERROR(VLOOKUP(RL14,MATCHSELEVES!$Y$14:$AE$600,3,FALSE),0)","v":0},{"$f":"IFERROR(VLOOKUP(RL14,MATCHSELEVES!$Y$14:$AE$600,4,FALSE),0)","v":0},{"$f":"IFERROR(VLOOKUP(RL14,MATCHSELEVES!$Y$14:$AE$600,5,FALSE),0)","v":0},{"$f":"IFERROR(VLOOKUP(RL14,MATCHSELEVES!$Y$14:$AF$600,8,FALSE),0)","v":0},{"$f":"IFERROR(VLOOKUP(RL14,MATCHSELEVES!$Y$14:$AG$600,9,FALSE),0)","v":0},"Farhanep_38",{"$f":"IFERROR(VLOOKUP(RR14,MATCHSELEVES!$Y$14:$AE$600,3,FALSE),0)","v":0},{"$f":"IFERROR(VLOOKUP(RR14,MATCHSELEVES!$Y$14:$AE$600,4,FALSE),0)","v":0},{"$f":"IFERROR(VLOOKUP(RR14,MATCHSELEVES!$Y$14:$AE$600,5,FALSE),0)","v":0},{"$f":"IFERROR(VLOOKUP(RR14,MATCHSELEVES!$Y$14:$AF$600,8,FALSE),0)","v":0},{"$f":"IFERROR(VLOOKUP(RR14,MATCHSELEVES!$Y$14:$AG$600,9,FALSE),0)","v":0},"Farhanep_39",{"$f":"IFERROR(VLOOKUP(RX14,MATCHSELEVES!$Y$14:$AE$600,3,FALSE),0)","v":0},{"$f":"IFERROR(VLOOKUP(RX14,MATCHSELEVES!$Y$14:$AE$600,4,FALSE),0)","v":0},{"$f":"IFERROR(VLOOKUP(RX14,MATCHSELEVES!$Y$14:$AE$600,5,FALSE),0)","v":0},{"$f":"IFERROR(VLOOKUP(RX14,MATCHSELEVES!$Y$14:$AF$600,8,FALSE),0)","v":0},{"$f":"IFERROR(VLOOKUP(RX14,MATCHSELEVES!$Y$14:$AG$600,9,FALSE),0)","v":0},"Farhanep_40",{"$f":"IFERROR(VLOOKUP(SD14,MATCHSELEVES!$Y$14:$AE$600,3,FALSE),0)","v":0},{"$f":"IFERROR(VLOOKUP(SD14,MATCHSELEVES!$Y$14:$AE$600,4,FALSE),0)","v":0},{"$f":"IFERROR(VLOOKUP(SD14,MATCHSELEVES!$Y$14:$AE$600,5,FALSE),0)","v":0},{"$f":"IFERROR(VLOOKUP(SD14,MATCHSELEVES!$Y$14:$AF$600,8,FALSE),0)","v":0},{"$f":"IFERROR(VLOOKUP(SD14,MATCHSELEVES!$Y$14:$AG$600,9,FALSE),0)","v":0}]
[12,null,{"$f":"MD1POINT!C15","v":"Faudel"},{"$f":"MD1POINT!D15","v":1},{"$f":"COUNTIF(MATCHSELEVES!$Z$14:$Z$600,C15)+COUNTIF(MATCHSELEVES!$Z$14:$Z$600,$C15&\"p\")","v":0},1,{"$f":"COUNTIF(MATCHSELEVES!$F$14:$H$249,C15)","v":0},1,0,1,0,1,0,1,{"$f":"Y15+AE15+AK15+AQ15+AW15+BC15+BI15+BO15+BU15+CA15+CG15+CM15+CS15+CY15+DE15+DK15+DQ15+DW15+EC15+EI15+EO15+EU15+FA15+FG15+FM15+FS15+FY15+GE15+GK15+GQ15+GW15+4+HI15+HO15+HU15+IA15+HC15+IG15+IM15+IY15+IS15+JH15+JN15+JZ15+JT15+KF15+KR15+KX15+LJ15+LP15+LV15+LD15+MB15+MH15+MN15+MZ15+MT15+NF15+NL15+NR15+NX15+OD15+OJ15+OP15+OV15+PB15+PH15+PT15+PN15+PZ15+QF15+QL15+QR15+RD15+QX15+RJ15+RP15+RV15+SB15+SH15+KL15+Tableau10[[#This Row],[Nombre de matchs joués]]*2","v":4},1,{"$f":"(Tableau10[[#This Row],[CLASSEMENT1]]+Tableau10[[#This Row],[CLASSEMENT2]]+Tableau10[[#This Row],[CLASSEMENT3]]+Tableau10[[#This Row],[CLASSEMENT4]]+Tableau10[[#This Row],[CLASSEMENT5]]+Tableau10[[#This Row],[CLASSEMENT6]])/6","v":1},{"$f":"RANK(Tableau10[[#This Row],[MOYENNE CLASSEMENTS]],Tableau10[MOYENNE CLASSEMENTS],1)","v":1},null,{"$f":"Tableau10[[#This Row],[CLASSEMENT1]]","v":1},"Faudel_1",{"$f":"IFERROR(VLOOKUP(U15,MATCHSELEVES!$Y$14:$AE$600,3,FALSE),0)","v":0},{"$f":"IFERROR(VLOOKUP(U15,MATCHSELEVES!$Y$14:$AE$600,4,FALSE),0)","v":0},{"$f":"IFERROR(VLOOKUP(U15,MATCHSELEVES!$Y$14:$AE$600,5,FALSE),0)","v":0},{"$f":"IFERROR(VLOOKUP(U15,MATCHSELEVES!$Y$14:$AF$600,8,FALSE),0)","v":0},{"$f":"IFERROR(VLOOKUP(U15,MATCHSELEVES!$Y$14:$AG$600,9,FALSE),0)","v":0},"Faudel_2",{"$f":"IFERROR(VLOOKUP(AA15,MATCHSELEVES!$Y$14:$AE$600,3,FALSE),0)","v":0},{"$f":"IFERROR(VLOOKUP(AA15,MATCHSELEVES!$Y$14:$AE$600,4,FALSE),0)","v":0},{"$f":"IFERROR(VLOOKUP(AA15,MATCHSELEVES!$Y$14:$AE$600,5,FALSE),0)","v":0},{"$f":"IFERROR(VLOOKUP(AA15,MATCHSELEVES!$Y$14:$AF$600,8,FALSE),0)","v":0},{"$f":"IFERROR(VLOOKUP(AA15,MATCHSELEVES!$Y$14:$AG$600,9,FALSE),0)","v":0},"Faudel_3",{"$f":"IFERROR(VLOOKUP(AG15,MATCHSELEVES!$Y$14:$AE$600,3,FALSE),0)","v":0},{"$f":"IFERROR(VLOOKUP(AG15,MATCHSELEVES!$Y$14:$AE$600,4,FALSE),0)","v":0},{"$f":"IFERROR(VLOOKUP(AG15,MATCHSELEVES!$Y$14:$AE$600,5,FALSE),0)","v":0},{"$f":"IFERROR(VLOOKUP(AG15,MATCHSELEVES!$Y$14:$AF$600,8,FALSE),0)","v":0},{"$f":"IFERROR(VLOOKUP(AG15,MATCHSELEVES!$Y$14:$AG$600,9,FALSE),0)","v":0},"Faudel_4",{"$f":"IFERROR(VLOOKUP(AM15,MATCHSELEVES!$Y$14:$AE$600,3,FALSE),0)","v":0},{"$f":"IFERROR(VLOOKUP(AM15,MATCHSELEVES!$Y$14:$AE$600,4,FALSE),0)","v":0},{"$f":"IFERROR(VLOOKUP(AM15,MATCHSELEVES!$Y$14:$AE$600,5,FALSE),0)","v":0},{"$f":"IFERROR(VLOOKUP(AM15,MATCHSELEVES!$Y$14:$AF$600,8,FALSE),0)","v":0},{"$f":"IFERROR(VLOOKUP(AM15,MATCHSELEVES!$Y$14:$AG$600,9,FALSE),0)","v":0},"Faudel_5",{"$f":"IFERROR(VLOOKUP(AS15,MATCHSELEVES!$Y$14:$AE$600,3,FALSE),0)","v":0},{"$f":"IFERROR(VLOOKUP(AS15,MATCHSELEVES!$Y$14:$AE$600,4,FALSE),0)","v":0},{"$f":"IFERROR(VLOOKUP(AS15,MATCHSELEVES!$Y$14:$AE$600,5,FALSE),0)","v":0},{"$f":"IFERROR(VLOOKUP(AS15,MATCHSELEVES!$Y$14:$AF$600,8,FALSE),0)","v":0},{"$f":"IFERROR(VLOOKUP(AS15,MATCHSELEVES!$Y$14:$AG$600,9,FALSE),0)","v":0},"Faudel_6",{"$f":"IFERROR(VLOOKUP(AY15,MATCHSELEVES!$Y$14:$AE$600,3,FALSE),0)","v":0},{"$f":"IFERROR(VLOOKUP(AY15,MATCHSELEVES!$Y$14:$AE$600,4,FALSE),0)","v":0},{"$f":"IFERROR(VLOOKUP(AY15,MATCHSELEVES!$Y$14:$AE$600,5,FALSE),0)","v":0},{"$f":"IFERROR(VLOOKUP(AY15,MATCHSELEVES!$Y$14:$AF$600,8,FALSE),0)","v":0},{"$f":"IFERROR(VLOOKUP(AY15,MATCHSELEVES!$Y$14:$AG$600,9,FALSE),0)","v":0},"Faudel_7",{"$f":"IFERROR(VLOOKUP(BE15,MATCHSELEVES!$Y$14:$AE$600,3,FALSE),0)","v":0},{"$f":"IFERROR(VLOOKUP(BE15,MATCHSELEVES!$Y$14:$AE$600,4,FALSE),0)","v":0},{"$f":"IFERROR(VLOOKUP(BE15,MATCHSELEVES!$Y$14:$AE$600,5,FALSE),0)","v":0},{"$f":"IFERROR(VLOOKUP(BE15,MATCHSELEVES!$Y$14:$AF$600,8,FALSE),0)","v":0},{"$f":"IFERROR(VLOOKUP(BE15,MATCHSELEVES!$Y$14:$AG$600,9,FALSE),0)","v":0},"Faudel_8",{"$f":"IFERROR(VLOOKUP(BK15,MATCHSELEVES!$Y$14:$AE$600,3,FALSE),0)","v":0},{"$f":"IFERROR(VLOOKUP(BK15,MATCHSELEVES!$Y$14:$AE$600,4,FALSE),0)","v":0},{"$f":"IFERROR(VLOOKUP(BK15,MATCHSELEVES!$Y$14:$AE$600,5,FALSE),0)","v":0},{"$f":"IFERROR(VLOOKUP(BK15,MATCHSELEVES!$Y$14:$AF$600,8,FALSE),0)","v":0},{"$f":"IFERROR(VLOOKUP(BK15,MATCHSELEVES!$Y$14:$AG$600,9,FALSE),0)","v":0},"Faudel_9",{"$f":"IFERROR(VLOOKUP(BQ15,MATCHSELEVES!$Y$14:$AE$600,3,FALSE),0)","v":0},{"$f":"IFERROR(VLOOKUP(BQ15,MATCHSELEVES!$Y$14:$AE$600,4,FALSE),0)","v":0},{"$f":"IFERROR(VLOOKUP(BQ15,MATCHSELEVES!$Y$14:$AE$600,5,FALSE),0)","v":0},{"$f":"IFERROR(VLOOKUP(BQ15,MATCHSELEVES!$Y$14:$AF$600,8,FALSE),0)","v":0},{"$f":"IFERROR(VLOOKUP(BQ15,MATCHSELEVES!$Y$14:$AG$600,9,FALSE),0)","v":0},"Faudel_10",{"$f":"IFERROR(VLOOKUP(BW15,MATCHSELEVES!$Y$14:$AE$600,3,FALSE),0)","v":0},{"$f":"IFERROR(VLOOKUP(BW15,MATCHSELEVES!$Y$14:$AE$600,4,FALSE),0)","v":0},{"$f":"IFERROR(VLOOKUP(BW15,MATCHSELEVES!$Y$14:$AE$600,5,FALSE),0)","v":0},{"$f":"IFERROR(VLOOKUP(BW15,MATCHSELEVES!$Y$14:$AF$600,8,FALSE),0)","v":0},{"$f":"IFERROR(VLOOKUP(BW15,MATCHSELEVES!$Y$14:$AG$600,9,FALSE),0)","v":0},"Faudel_11",{"$f":"IFERROR(VLOOKUP(CC15,MATCHSELEVES!$Y$14:$AE$600,3,FALSE),0)","v":0},{"$f":"IFERROR(VLOOKUP(CC15,MATCHSELEVES!$Y$14:$AE$600,4,FALSE),0)","v":0},{"$f":"IFERROR(VLOOKUP(CC15,MATCHSELEVES!$Y$14:$AE$600,5,FALSE),0)","v":0},{"$f":"IFERROR(VLOOKUP(CC15,MATCHSELEVES!$Y$14:$AF$600,8,FALSE),0)","v":0},{"$f":"IFERROR(VLOOKUP(CC15,MATCHSELEVES!$Y$14:$AG$600,9,FALSE),0)","v":0},"Faudel_12",{"$f":"IFERROR(VLOOKUP(CI15,MATCHSELEVES!$Y$14:$AE$600,3,FALSE),0)","v":0},{"$f":"IFERROR(VLOOKUP(CI15,MATCHSELEVES!$Y$14:$AE$600,4,FALSE),0)","v":0},{"$f":"IFERROR(VLOOKUP(CI15,MATCHSELEVES!$Y$14:$AE$600,5,FALSE),0)","v":0},{"$f":"IFERROR(VLOOKUP(CI15,MATCHSELEVES!$Y$14:$AF$600,8,FALSE),0)","v":0},{"$f":"IFERROR(VLOOKUP(CI15,MATCHSELEVES!$Y$14:$AG$600,9,FALSE),0)","v":0},"Faudel_13",{"$f":"IFERROR(VLOOKUP(CO15,MATCHSELEVES!$Y$14:$AE$600,3,FALSE),0)","v":0},{"$f":"IFERROR(VLOOKUP(CO15,MATCHSELEVES!$Y$14:$AE$600,4,FALSE),0)","v":0},{"$f":"IFERROR(VLOOKUP(CO15,MATCHSELEVES!$Y$14:$AE$600,5,FALSE),0)","v":0},{"$f":"IFERROR(VLOOKUP(CO15,MATCHSELEVES!$Y$14:$AF$600,8,FALSE),0)","v":0},{"$f":"IFERROR(VLOOKUP(CO15,MATCHSELEVES!$Y$14:$AG$600,9,FALSE),0)","v":0},"Faudel_14",{"$f":"IFERROR(VLOOKUP(CU15,MATCHSELEVES!$Y$14:$AE$600,3,FALSE),0)","v":0},{"$f":"IFERROR(VLOOKUP(CU15,MATCHSELEVES!$Y$14:$AE$600,4,FALSE),0)","v":0},{"$f":"IFERROR(VLOOKUP(CU15,MATCHSELEVES!$Y$14:$AE$600,5,FALSE),0)","v":0},{"$f":"IFERROR(VLOOKUP(CU15,MATCHSELEVES!$Y$14:$AF$600,8,FALSE),0)","v":0},{"$f":"IFERROR(VLOOKUP(CU15,MATCHSELEVES!$Y$14:$AG$600,9,FALSE),0)","v":0},"Faudel_15",{"$f":"IFERROR(VLOOKUP(DA15,MATCHSELEVES!$Y$14:$AE$600,3,FALSE),0)","v":0},{"$f":"IFERROR(VLOOKUP(DA15,MATCHSELEVES!$Y$14:$AE$600,4,FALSE),0)","v":0},{"$f":"IFERROR(VLOOKUP(DA15,MATCHSELEVES!$Y$14:$AE$600,5,FALSE),0)","v":0},{"$f":"IFERROR(VLOOKUP(DA15,MATCHSELEVES!$Y$14:$AF$600,8,FALSE),0)","v":0},{"$f":"IFERROR(VLOOKUP(DA15,MATCHSELEVES!$Y$14:$AG$600,9,FALSE),0)","v":0},"Faudel_16",{"$f":"IFERROR(VLOOKUP(DG15,MATCHSELEVES!$Y$14:$AE$600,3,FALSE),0)","v":0},{"$f":"IFERROR(VLOOKUP(DG15,MATCHSELEVES!$Y$14:$AE$600,4,FALSE),0)","v":0},{"$f":"IFERROR(VLOOKUP(DG15,MATCHSELEVES!$Y$14:$AE$600,5,FALSE),0)","v":0},{"$f":"IFERROR(VLOOKUP(DG15,MATCHSELEVES!$Y$14:$AF$600,8,FALSE),0)","v":0},{"$f":"IFERROR(VLOOKUP(DG15,MATCHSELEVES!$Y$14:$AG$600,9,FALSE),0)","v":0},"Faudel_17",{"$f":"IFERROR(VLOOKUP(DM15,MATCHSELEVES!$Y$14:$AE$600,3,FALSE),0)","v":0},{"$f":"IFERROR(VLOOKUP(DM15,MATCHSELEVES!$Y$14:$AE$600,4,FALSE),0)","v":0},{"$f":"IFERROR(VLOOKUP(DM15,MATCHSELEVES!$Y$14:$AE$600,5,FALSE),0)","v":0},{"$f":"IFERROR(VLOOKUP(DM15,MATCHSELEVES!$Y$14:$AF$600,8,FALSE),0)","v":0},{"$f":"IFERROR(VLOOKUP(DM15,MATCHSELEVES!$Y$14:$AG$600,9,FALSE),0)","v":0},"Faudel_18",{"$f":"IFERROR(VLOOKUP(DS15,MATCHSELEVES!$Y$14:$AE$600,3,FALSE),0)","v":0},{"$f":"IFERROR(VLOOKUP(DS15,MATCHSELEVES!$Y$14:$AE$600,4,FALSE),0)","v":0},{"$f":"IFERROR(VLOOKUP(DS15,MATCHSELEVES!$Y$14:$AE$600,5,FALSE),0)","v":0},{"$f":"IFERROR(VLOOKUP(DS15,MATCHSELEVES!$Y$14:$AF$600,8,FALSE),0)","v":0},{"$f":"IFERROR(VLOOKUP(DS15,MATCHSELEVES!$Y$14:$AG$600,9,FALSE),0)","v":0},"Faudel_19",{"$f":"IFERROR(VLOOKUP(DY15,MATCHSELEVES!$Y$14:$AE$600,3,FALSE),0)","v":0},{"$f":"IFERROR(VLOOKUP(DY15,MATCHSELEVES!$Y$14:$AE$600,4,FALSE),0)","v":0},{"$f":"IFERROR(VLOOKUP(DY15,MATCHSELEVES!$Y$14:$AE$600,5,FALSE),0)","v":0},{"$f":"IFERROR(VLOOKUP(DY15,MATCHSELEVES!$Y$14:$AF$600,8,FALSE),0)","v":0},{"$f":"IFERROR(VLOOKUP(DY15,MATCHSELEVES!$Y$14:$AG$600,9,FALSE),0)","v":0},"Faudel_20",{"$f":"IFERROR(VLOOKUP(EE15,MATCHSELEVES!$Y$14:$AE$600,3,FALSE),0)","v":0},{"$f":"IFERROR(VLOOKUP(EE15,MATCHSELEVES!$Y$14:$AE$600,4,FALSE),0)","v":0},{"$f":"IFERROR(VLOOKUP(EE15,MATCHSELEVES!$Y$14:$AE$600,5,FALSE),0)","v":0},{"$f":"IFERROR(VLOOKUP(EE15,MATCHSELEVES!$Y$14:$AF$600,8,FALSE),0)","v":0},{"$f":"IFERROR(VLOOKUP(EE15,MATCHSELEVES!$Y$14:$AG$600,9,FALSE),0)","v":0},"Faudel_21",{"$f":"IFERROR(VLOOKUP(EK15,MATCHSELEVES!$Y$14:$AE$600,3,FALSE),0)","v":0},{"$f":"IFERROR(VLOOKUP(EK15,MATCHSELEVES!$Y$14:$AE$600,4,FALSE),0)","v":0},{"$f":"IFERROR(VLOOKUP(EK15,MATCHSELEVES!$Y$14:$AE$600,5,FALSE),0)","v":0},{"$f":"IFERROR(VLOOKUP(EK15,MATCHSELEVES!$Y$14:$AF$600,8,FALSE),0)","v":0},{"$f":"IFERROR(VLOOKUP(EK15,MATCHSELEVES!$Y$14:$AG$600,9,FALSE),0)","v":0},"Faudel_22",{"$f":"IFERROR(VLOOKUP(EQ15,MATCHSELEVES!$Y$14:$AE$600,3,FALSE),0)","v":0},{"$f":"IFERROR(VLOOKUP(EQ15,MATCHSELEVES!$Y$14:$AE$600,4,FALSE),0)","v":0},{"$f":"IFERROR(VLOOKUP(EQ15,MATCHSELEVES!$Y$14:$AE$600,5,FALSE),0)","v":0},{"$f":"IFERROR(VLOOKUP(EQ15,MATCHSELEVES!$Y$14:$AF$600,8,FALSE),0)","v":0},{"$f":"IFERROR(VLOOKUP(EQ15,MATCHSELEVES!$Y$14:$AG$600,9,FALSE),0)","v":0},"Faudel_23",{"$f":"IFERROR(VLOOKUP(EW15,MATCHSELEVES!$Y$14:$AE$600,3,FALSE),0)","v":0},{"$f":"IFERROR(VLOOKUP(EW15,MATCHSELEVES!$Y$14:$AE$600,4,FALSE),0)","v":0},{"$f":"IFERROR(VLOOKUP(EW15,MATCHSELEVES!$Y$14:$AE$600,5,FALSE),0)","v":0},{"$f":"IFERROR(VLOOKUP(EW15,MATCHSELEVES!$Y$14:$AF$600,8,FALSE),0)","v":0},{"$f":"IFERROR(VLOOKUP(EW15,MATCHSELEVES!$Y$14:$AG$600,9,FALSE),0)","v":0},"Faudel_24",{"$f":"IFERROR(VLOOKUP(FC15,MATCHSELEVES!$Y$14:$AE$600,3,FALSE),0)","v":0},{"$f":"IFERROR(VLOOKUP(FC15,MATCHSELEVES!$Y$14:$AE$600,4,FALSE),0)","v":0},{"$f":"IFERROR(VLOOKUP(FC15,MATCHSELEVES!$Y$14:$AE$600,5,FALSE),0)","v":0},{"$f":"IFERROR(VLOOKUP(FC15,MATCHSELEVES!$Y$14:$AF$600,8,FALSE),0)","v":0},{"$f":"IFERROR(VLOOKUP(FC15,MATCHSELEVES!$Y$14:$AG$600,9,FALSE),0)","v":0},"Faudel_25",{"$f":"IFERROR(VLOOKUP(FI15,MATCHSELEVES!$Y$14:$AE$600,3,FALSE),0)","v":0},{"$f":"IFERROR(VLOOKUP(FI15,MATCHSELEVES!$Y$14:$AE$600,4,FALSE),0)","v":0},{"$f":"IFERROR(VLOOKUP(FI15,MATCHSELEVES!$Y$14:$AE$600,5,FALSE),0)","v":0},{"$f":"IFERROR(VLOOKUP(FI15,MATCHSELEVES!$Y$14:$AF$600,8,FALSE),0)","v":0},{"$f":"IFERROR(VLOOKUP(FI15,MATCHSELEVES!$Y$14:$AG$600,9,FALSE),0)","v":0},"Faudel_26",{"$f":"IFERROR(VLOOKUP(FO15,MATCHSELEVES!$Y$14:$AE$600,3,FALSE),0)","v":0},{"$f":"IFERROR(VLOOKUP(FO15,MATCHSELEVES!$Y$14:$AE$600,4,FALSE),0)","v":0},{"$f":"IFERROR(VLOOKUP(FO15,MATCHSELEVES!$Y$14:$AE$600,5,FALSE),0)","v":0},{"$f":"IFERROR(VLOOKUP(FO15,MATCHSELEVES!$Y$14:$AF$600,8,FALSE),0)","v":0},{"$f":"IFERROR(VLOOKUP(FO15,MATCHSELEVES!$Y$14:$AG$600,9,FALSE),0)","v":0},"Faudel_27",{"$f":"IFERROR(VLOOKUP(FU15,MATCHSELEVES!$Y$14:$AE$600,3,FALSE),0)","v":0},{"$f":"IFERROR(VLOOKUP(FU15,MATCHSELEVES!$Y$14:$AE$600,4,FALSE),0)","v":0},{"$f":"IFERROR(VLOOKUP(FU15,MATCHSELEVES!$Y$14:$AE$600,5,FALSE),0)","v":0},{"$f":"IFERROR(VLOOKUP(FU15,MATCHSELEVES!$Y$14:$AF$600,8,FALSE),0)","v":0},{"$f":"IFERROR(VLOOKUP(FU15,MATCHSELEVES!$Y$14:$AG$600,9,FALSE),0)","v":0},"Faudel_28",{"$f":"IFERROR(VLOOKUP(GA15,MATCHSELEVES!$Y$14:$AE$600,3,FALSE),0)","v":0},{"$f":"IFERROR(VLOOKUP(GA15,MATCHSELEVES!$Y$14:$AE$600,4,FALSE),0)","v":0},{"$f":"IFERROR(VLOOKUP(GA15,MATCHSELEVES!$Y$14:$AE$600,5,FALSE),0)","v":0},{"$f":"IFERROR(VLOOKUP(GA15,MATCHSELEVES!$Y$14:$AF$600,8,FALSE),0)","v":0},{"$f":"IFERROR(VLOOKUP(GA15,MATCHSELEVES!$Y$14:$AG$600,9,FALSE),0)","v":0},"Faudel_29",{"$f":"IFERROR(VLOOKUP(GG15,MATCHSELEVES!$Y$14:$AE$600,3,FALSE),0)","v":0},{"$f":"IFERROR(VLOOKUP(GG15,MATCHSELEVES!$Y$14:$AE$600,4,FALSE),0)","v":0},{"$f":"IFERROR(VLOOKUP(GG15,MATCHSELEVES!$Y$14:$AE$600,5,FALSE),0)","v":0},{"$f":"IFERROR(VLOOKUP(GG15,MATCHSELEVES!$Y$14:$AF$600,8,FALSE),0)","v":0},{"$f":"IFERROR(VLOOKUP(GG15,MATCHSELEVES!$Y$14:$AG$600,9,FALSE),0)","v":0},"Faudel_30",{"$f":"IFERROR(VLOOKUP(GM15,MATCHSELEVES!$Y$14:$AE$600,3,FALSE),0)","v":0},{"$f":"IFERROR(VLOOKUP(GM15,MATCHSELEVES!$Y$14:$AE$600,4,FALSE),0)","v":0},{"$f":"IFERROR(VLOOKUP(GM15,MATCHSELEVES!$Y$14:$AE$600,5,FALSE),0)","v":0},{"$f":"IFERROR(VLOOKUP(GM15,MATCHSELEVES!$Y$14:$AF$600,8,FALSE),0)","v":0},{"$f":"IFERROR(VLOOKUP(GM15,MATCHSELEVES!$Y$14:$AG$600,9,FALSE),0)","v":0},"Faudel_31",{"$f":"IFERROR(VLOOKUP(GS15,MATCHSELEVES!$Y$14:$AE$600,3,FALSE),0)","v":0},{"$f":"IFERROR(VLOOKUP(GS15,MATCHSELEVES!$Y$14:$AE$600,4,FALSE),0)","v":0},{"$f":"IFERROR(VLOOKUP(GS15,MATCHSELEVES!$Y$14:$AE$600,5,FALSE),0)","v":0},{"$f":"IFERROR(VLOOKUP(GS15,MATCHSELEVES!$Y$14:$AF$600,8,FALSE),0)","v":0},{"$f":"IFERROR(VLOOKUP(GS15,MATCHSELEVES!$Y$14:$AG$600,9,FALSE),0)","v":0},"Faudel_32",{"$f":"IFERROR(VLOOKUP(GY15,MATCHSELEVES!$Y$14:$AE$600,3,FALSE),0)","v":0},{"$f":"IFERROR(VLOOKUP(GY15,MATCHSELEVES!$Y$14:$AE$600,4,FALSE),0)","v":0},{"$f":"IFERROR(VLOOKUP(GY15,MATCHSELEVES!$Y$14:$AE$600,5,FALSE),0)","v":0},{"$f":"IFERROR(VLOOKUP(GY15,MATCHSELEVES!$Y$14:$AF$600,8,FALSE),0)","v":0},{"$f":"IFERROR(VLOOKUP(GY15,MATCHSELEVES!$Y$14:$AG$600,9,FALSE),0)","v":0},"Faudel_33",{"$f":"IFERROR(VLOOKUP(HE15,MATCHSELEVES!$Y$14:$AE$600,3,FALSE),0)","v":0},{"$f":"IFERROR(VLOOKUP(HE15,MATCHSELEVES!$Y$14:$AE$600,4,FALSE),0)","v":0},{"$f":"IFERROR(VLOOKUP(HE15,MATCHSELEVES!$Y$14:$AE$600,5,FALSE),0)","v":0},{"$f":"IFERROR(VLOOKUP(HE15,MATCHSELEVES!$Y$14:$AF$600,8,FALSE),0)","v":0},{"$f":"IFERROR(VLOOKUP(HE15,MATCHSELEVES!$Y$14:$AG$600,9,FALSE),0)","v":0},"Faudel_34",{"$f":"IFERROR(VLOOKUP(HK15,MATCHSELEVES!$Y$14:$AE$600,3,FALSE),0)","v":0},{"$f":"IFERROR(VLOOKUP(HK15,MATCHSELEVES!$Y$14:$AE$600,4,FALSE),0)","v":0},{"$f":"IFERROR(VLOOKUP(HK15,MATCHSELEVES!$Y$14:$AE$600,5,FALSE),0)","v":0},{"$f":"IFERROR(VLOOKUP(HK15,MATCHSELEVES!$Y$14:$AF$600,8,FALSE),0)","v":0},{"$f":"IFERROR(VLOOKUP(HK15,MATCHSELEVES!$Y$14:$AG$600,9,FALSE),0)","v":0},"Faudel_35",{"$f":"IFERROR(VLOOKUP(HQ15,MATCHSELEVES!$Y$14:$AE$600,3,FALSE),0)","v":0},{"$f":"IFERROR(VLOOKUP(HQ15,MATCHSELEVES!$Y$14:$AE$600,4,FALSE),0)","v":0},{"$f":"IFERROR(VLOOKUP(HQ15,MATCHSELEVES!$Y$14:$AE$600,5,FALSE),0)","v":0},{"$f":"IFERROR(VLOOKUP(HQ15,MATCHSELEVES!$Y$14:$AF$600,8,FALSE),0)","v":0},{"$f":"IFERROR(VLOOKUP(HQ15,MATCHSELEVES!$Y$14:$AG$600,9,FALSE),0)","v":0},"Faudel_36",{"$f":"IFERROR(VLOOKUP(HW15,MATCHSELEVES!$Y$14:$AE$600,3,FALSE),0)","v":0},{"$f":"IFERROR(VLOOKUP(HW15,MATCHSELEVES!$Y$14:$AE$600,4,FALSE),0)","v":0},{"$f":"IFERROR(VLOOKUP(HW15,MATCHSELEVES!$Y$14:$AE$600,5,FALSE),0)","v":0},{"$f":"IFERROR(VLOOKUP(HW15,MATCHSELEVES!$Y$14:$AF$600,8,FALSE),0)","v":0},{"$f":"IFERROR(VLOOKUP(HW15,MATCHSELEVES!$Y$14:$AG$600,9,FALSE),0)","v":0},"Faudel_37",{"$f":"IFERROR(VLOOKUP(IC15,MATCHSELEVES!$Y$14:$AE$600,3,FALSE),0)","v":0},{"$f":"IFERROR(VLOOKUP(IC15,MATCHSELEVES!$Y$14:$AE$600,4,FALSE),0)","v":0},{"$f":"IFERROR(VLOOKUP(IC15,MATCHSELEVES!$Y$14:$AE$600,5,FALSE),0)","v":0},{"$f":"IFERROR(VLOOKUP(IC15,MATCHSELEVES!$Y$14:$AF$600,8,FALSE),0)","v":0},{"$f":"IFERROR(VLOOKUP(IC15,MATCHSELEVES!$Y$14:$AG$600,9,FALSE),0)","v":0},"Faudel_38",{"$f":"IFERROR(VLOOKUP(II15,MATCHSELEVES!$Y$14:$AE$600,3,FALSE),0)","v":0},{"$f":"IFERROR(VLOOKUP(II15,MATCHSELEVES!$Y$14:$AE$600,4,FALSE),0)","v":0},{"$f":"IFERROR(VLOOKUP(II15,MATCHSELEVES!$Y$14:$AE$600,5,FALSE),0)","v":0},{"$f":"IFERROR(VLOOKUP(II15,MATCHSELEVES!$Y$14:$AF$600,8,FALSE),0)","v":0},{"$f":"IFERROR(VLOOKUP(II15,MATCHSELEVES!$Y$14:$AG$600,9,FALSE),0)","v":0},"Faudel_39",{"$f":"IFERROR(VLOOKUP(IO15,MATCHSELEVES!$Y$14:$AE$600,3,FALSE),0)","v":0},{"$f":"IFERROR(VLOOKUP(IO15,MATCHSELEVES!$Y$14:$AE$600,4,FALSE),0)","v":0},{"$f":"IFERROR(VLOOKUP(IO15,MATCHSELEVES!$Y$14:$AE$600,5,FALSE),0)","v":0},{"$f":"IFERROR(VLOOKUP(IO15,MATCHSELEVES!$Y$14:$AF$600,8,FALSE),0)","v":0},{"$f":"IFERROR(VLOOKUP(IO15,MATCHSELEVES!$Y$14:$AG$600,9,FALSE),0)","v":0},"Faudel_40",{"$f":"IFERROR(VLOOKUP(IU15,MATCHSELEVES!$Y$14:$AE$600,3,FALSE),0)","v":0},{"$f":"IFERROR(VLOOKUP(IU15,MATCHSELEVES!$Y$14:$AE$600,4,FALSE),0)","v":0},{"$f":"IFERROR(VLOOKUP(IU15,MATCHSELEVES!$Y$14:$AE$600,5,FALSE),0)","v":0},{"$f":"IFERROR(VLOOKUP(IU15,MATCHSELEVES!$Y$14:$AF$600,8,FALSE),0)","v":0},{"$f":"IFERROR(VLOOKUP(IU15,MATCHSELEVES!$Y$14:$AG$600,9,FALSE),0)","v":0},{"$f":"Tableau10[[#This Row],[CLASSE]]","v":"Faudel"},1,{"$f":"MD1POINT!D15","v":1},"Faudelp_1",{"$f":"IFERROR(VLOOKUP(JD15,MATCHSELEVES!$Y$14:$AE$600,3,FALSE),0)","v":0},{"$f":"IFERROR(VLOOKUP(JD15,MATCHSELEVES!$Y$14:$AE$600,4,FALSE),0)","v":0},{"$f":"IFERROR(VLOOKUP(JD15,MATCHSELEVES!$Y$14:$AE$600,5,FALSE),0)","v":0},{"$f":"IFERROR(VLOOKUP(JD15,MATCHSELEVES!$Y$14:$AF$600,8,FALSE),0)","v":0},{"$f":"IFERROR(VLOOKUP(JD15,MATCHSELEVES!$Y$14:$AG$600,9,FALSE),0)","v":0},"Faudelp_2",{"$f":"IFERROR(VLOOKUP(JJ15,MATCHSELEVES!$Y$14:$AE$600,3,FALSE),0)","v":0},{"$f":"IFERROR(VLOOKUP(JJ15,MATCHSELEVES!$Y$14:$AE$600,4,FALSE),0)","v":0},{"$f":"IFERROR(VLOOKUP(JJ15,MATCHSELEVES!$Y$14:$AE$600,5,FALSE),0)","v":0},{"$f":"IFERROR(VLOOKUP(JJ15,MATCHSELEVES!$Y$14:$AF$600,8,FALSE),0)","v":0},{"$f":"IFERROR(VLOOKUP(JJ15,MATCHSELEVES!$Y$14:$AG$600,9,FALSE),0)","v":0},"Faudelp_3",{"$f":"IFERROR(VLOOKUP(JP15,MATCHSELEVES!$Y$14:$AE$600,3,FALSE),0)","v":0},{"$f":"IFERROR(VLOOKUP(JP15,MATCHSELEVES!$Y$14:$AE$600,4,FALSE),0)","v":0},{"$f":"IFERROR(VLOOKUP(JP15,MATCHSELEVES!$Y$14:$AE$600,5,FALSE),0)","v":0},{"$f":"IFERROR(VLOOKUP(JP15,MATCHSELEVES!$Y$14:$AF$600,8,FALSE),0)","v":0},{"$f":"IFERROR(VLOOKUP(JP15,MATCHSELEVES!$Y$14:$AG$600,9,FALSE),0)","v":0},"Faudelp_4",{"$f":"IFERROR(VLOOKUP(JV15,MATCHSELEVES!$Y$14:$AE$600,3,FALSE),0)","v":0},{"$f":"IFERROR(VLOOKUP(JV15,MATCHSELEVES!$Y$14:$AE$600,4,FALSE),0)","v":0},{"$f":"IFERROR(VLOOKUP(JV15,MATCHSELEVES!$Y$14:$AE$600,5,FALSE),0)","v":0},{"$f":"IFERROR(VLOOKUP(JV15,MATCHSELEVES!$Y$14:$AF$600,8,FALSE),0)","v":0},{"$f":"IFERROR(VLOOKUP(JV15,MATCHSELEVES!$Y$14:$AG$600,9,FALSE),0)","v":0},"Faudelp_5",{"$f":"IFERROR(VLOOKUP(KB15,MATCHSELEVES!$Y$14:$AE$600,3,FALSE),0)","v":0},{"$f":"IFERROR(VLOOKUP(KB15,MATCHSELEVES!$Y$14:$AE$600,4,FALSE),0)","v":0},{"$f":"IFERROR(VLOOKUP(KB15,MATCHSELEVES!$Y$14:$AE$600,5,FALSE),0)","v":0},{"$f":"IFERROR(VLOOKUP(KB15,MATCHSELEVES!$Y$14:$AF$600,8,FALSE),0)","v":0},{"$f":"IFERROR(VLOOKUP(KB15,MATCHSELEVES!$Y$14:$AG$600,9,FALSE),0)","v":0},"Faudelp_6",{"$f":"IFERROR(VLOOKUP(KH15,MATCHSELEVES!$Y$14:$AE$600,3,FALSE),0)","v":0},{"$f":"IFERROR(VLOOKUP(KH15,MATCHSELEVES!$Y$14:$AE$600,4,FALSE),0)","v":0},{"$f":"IFERROR(VLOOKUP(KH15,MATCHSELEVES!$Y$14:$AE$600,5,FALSE),0)","v":0},{"$f":"IFERROR(VLOOKUP(KH15,MATCHSELEVES!$Y$14:$AF$600,8,FALSE),0)","v":0},{"$f":"IFERROR(VLOOKUP(KH15,MATCHSELEVES!$Y$14:$AG$600,9,FALSE),0)","v":0},"Faudelp_7",{"$f":"IFERROR(VLOOKUP(KN15,MATCHSELEVES!$Y$14:$AE$600,3,FALSE),0)","v":0},{"$f":"IFERROR(VLOOKUP(KN15,MATCHSELEVES!$Y$14:$AE$600,4,FALSE),0)","v":0},{"$f":"IFERROR(VLOOKUP(KN15,MATCHSELEVES!$Y$14:$AE$600,5,FALSE),0)","v":0},{"$f":"IFERROR(VLOOKUP(KN15,MATCHSELEVES!$Y$14:$AF$600,8,FALSE),0)","v":0},{"$f":"IFERROR(VLOOKUP(KN15,MATCHSELEVES!$Y$14:$AG$600,9,FALSE),0)","v":0},"Faudelp_8",{"$f":"IFERROR(VLOOKUP(KT15,MATCHSELEVES!$Y$14:$AE$600,3,FALSE),0)","v":0},{"$f":"IFERROR(VLOOKUP(KT15,MATCHSELEVES!$Y$14:$AE$600,4,FALSE),0)","v":0},{"$f":"IFERROR(VLOOKUP(KT15,MATCHSELEVES!$Y$14:$AE$600,5,FALSE),0)","v":0},{"$f":"IFERROR(VLOOKUP(KT15,MATCHSELEVES!$Y$14:$AF$600,8,FALSE),0)","v":0},{"$f":"IFERROR(VLOOKUP(KT15,MATCHSELEVES!$Y$14:$AG$600,9,FALSE),0)","v":0},"Faudelp_9",{"$f":"IFERROR(VLOOKUP(KZ15,MATCHSELEVES!$Y$14:$AE$600,3,FALSE),0)","v":0},{"$f":"IFERROR(VLOOKUP(KZ15,MATCHSELEVES!$Y$14:$AE$600,4,FALSE),0)","v":0},{"$f":"IFERROR(VLOOKUP(KZ15,MATCHSELEVES!$Y$14:$AE$600,5,FALSE),0)","v":0},{"$f":"IFERROR(VLOOKUP(KZ15,MATCHSELEVES!$Y$14:$AF$600,8,FALSE),0)","v":0},{"$f":"IFERROR(VLOOKUP(KZ15,MATCHSELEVES!$Y$14:$AG$600,9,FALSE),0)","v":0},"Faudelp_10",{"$f":"IFERROR(VLOOKUP(LF15,MATCHSELEVES!$Y$14:$AE$600,3,FALSE),0)","v":0},{"$f":"IFERROR(VLOOKUP(LF15,MATCHSELEVES!$Y$14:$AE$600,4,FALSE),0)","v":0},{"$f":"IFERROR(VLOOKUP(LF15,MATCHSELEVES!$Y$14:$AE$600,5,FALSE),0)","v":0},{"$f":"IFERROR(VLOOKUP(LF15,MATCHSELEVES!$Y$14:$AF$600,8,FALSE),0)","v":0},{"$f":"IFERROR(VLOOKUP(LF15,MATCHSELEVES!$Y$14:$AG$600,9,FALSE),0)","v":0},"Faudelp_11",{"$f":"IFERROR(VLOOKUP(LL15,MATCHSELEVES!$Y$14:$AE$600,3,FALSE),0)","v":0},{"$f":"IFERROR(VLOOKUP(LL15,MATCHSELEVES!$Y$14:$AE$600,4,FALSE),0)","v":0},{"$f":"IFERROR(VLOOKUP(LL15,MATCHSELEVES!$Y$14:$AE$600,5,FALSE),0)","v":0},{"$f":"IFERROR(VLOOKUP(LL15,MATCHSELEVES!$Y$14:$AF$600,8,FALSE),0)","v":0},{"$f":"IFERROR(VLOOKUP(LL15,MATCHSELEVES!$Y$14:$AG$600,9,FALSE),0)","v":0},"Faudelp_12",{"$f":"IFERROR(VLOOKUP(LR15,MATCHSELEVES!$Y$14:$AE$600,3,FALSE),0)","v":0},{"$f":"IFERROR(VLOOKUP(LR15,MATCHSELEVES!$Y$14:$AE$600,4,FALSE),0)","v":0},{"$f":"IFERROR(VLOOKUP(LR15,MATCHSELEVES!$Y$14:$AE$600,5,FALSE),0)","v":0},{"$f":"IFERROR(VLOOKUP(LR15,MATCHSELEVES!$Y$14:$AF$600,8,FALSE),0)","v":0},{"$f":"IFERROR(VLOOKUP(LR15,MATCHSELEVES!$Y$14:$AG$600,9,FALSE),0)","v":0},"Faudelp_13",{"$f":"IFERROR(VLOOKUP(LX15,MATCHSELEVES!$Y$14:$AE$600,3,FALSE),0)","v":0},{"$f":"IFERROR(VLOOKUP(LX15,MATCHSELEVES!$Y$14:$AE$600,4,FALSE),0)","v":0},{"$f":"IFERROR(VLOOKUP(LX15,MATCHSELEVES!$Y$14:$AE$600,5,FALSE),0)","v":0},{"$f":"IFERROR(VLOOKUP(LX15,MATCHSELEVES!$Y$14:$AF$600,8,FALSE),0)","v":0},{"$f":"IFERROR(VLOOKUP(LX15,MATCHSELEVES!$Y$14:$AG$600,9,FALSE),0)","v":0},"Faudelp_14",{"$f":"IFERROR(VLOOKUP(MD15,MATCHSELEVES!$Y$14:$AE$600,3,FALSE),0)","v":0},{"$f":"IFERROR(VLOOKUP(MD15,MATCHSELEVES!$Y$14:$AE$600,4,FALSE),0)","v":0},{"$f":"IFERROR(VLOOKUP(MD15,MATCHSELEVES!$Y$14:$AE$600,5,FALSE),0)","v":0},{"$f":"IFERROR(VLOOKUP(MD15,MATCHSELEVES!$Y$14:$AF$600,8,FALSE),0)","v":0},{"$f":"IFERROR(VLOOKUP(MD15,MATCHSELEVES!$Y$14:$AG$600,9,FALSE),0)","v":0},"Faudelp_15",{"$f":"IFERROR(VLOOKUP(MJ15,MATCHSELEVES!$Y$14:$AE$600,3,FALSE),0)","v":0},{"$f":"IFERROR(VLOOKUP(MJ15,MATCHSELEVES!$Y$14:$AE$600,4,FALSE),0)","v":0},{"$f":"IFERROR(VLOOKUP(MJ15,MATCHSELEVES!$Y$14:$AE$600,5,FALSE),0)","v":0},{"$f":"IFERROR(VLOOKUP(MJ15,MATCHSELEVES!$Y$14:$AF$600,8,FALSE),0)","v":0},{"$f":"IFERROR(VLOOKUP(MJ15,MATCHSELEVES!$Y$14:$AG$600,9,FALSE),0)","v":0},"Faudelp_16",{"$f":"IFERROR(VLOOKUP(MP15,MATCHSELEVES!$Y$14:$AE$600,3,FALSE),0)","v":0},{"$f":"IFERROR(VLOOKUP(MP15,MATCHSELEVES!$Y$14:$AE$600,4,FALSE),0)","v":0},{"$f":"IFERROR(VLOOKUP(MP15,MATCHSELEVES!$Y$14:$AE$600,5,FALSE),0)","v":0},{"$f":"IFERROR(VLOOKUP(MP15,MATCHSELEVES!$Y$14:$AF$600,8,FALSE),0)","v":0},{"$f":"IFERROR(VLOOKUP(MP15,MATCHSELEVES!$Y$14:$AG$600,9,FALSE),0)","v":0},"Faudelp_17",{"$f":"IFERROR(VLOOKUP(MV15,MATCHSELEVES!$Y$14:$AE$600,3,FALSE),0)","v":0},{"$f":"IFERROR(VLOOKUP(MV15,MATCHSELEVES!$Y$14:$AE$600,4,FALSE),0)","v":0},{"$f":"IFERROR(VLOOKUP(MV15,MATCHSELEVES!$Y$14:$AE$600,5,FALSE),0)","v":0},{"$f":"IFERROR(VLOOKUP(MV15,MATCHSELEVES!$Y$14:$AF$600,8,FALSE),0)","v":0},{"$f":"IFERROR(VLOOKUP(MV15,MATCHSELEVES!$Y$14:$AG$600,9,FALSE),0)","v":0},"Faudelp_18",{"$f":"IFERROR(VLOOKUP(NB15,MATCHSELEVES!$Y$14:$AE$600,3,FALSE),0)","v":0},{"$f":"IFERROR(VLOOKUP(NB15,MATCHSELEVES!$Y$14:$AE$600,4,FALSE),0)","v":0},{"$f":"IFERROR(VLOOKUP(NB15,MATCHSELEVES!$Y$14:$AE$600,5,FALSE),0)","v":0},{"$f":"IFERROR(VLOOKUP(NB15,MATCHSELEVES!$Y$14:$AF$600,8,FALSE),0)","v":0},{"$f":"IFERROR(VLOOKUP(NB15,MATCHSELEVES!$Y$14:$AG$600,9,FALSE),0)","v":0},"Faudelp_19",{"$f":"IFERROR(VLOOKUP(NH15,MATCHSELEVES!$Y$14:$AE$600,3,FALSE),0)","v":0},{"$f":"IFERROR(VLOOKUP(NH15,MATCHSELEVES!$Y$14:$AE$600,4,FALSE),0)","v":0},{"$f":"IFERROR(VLOOKUP(NH15,MATCHSELEVES!$Y$14:$AE$600,5,FALSE),0)","v":0},{"$f":"IFERROR(VLOOKUP(NH15,MATCHSELEVES!$Y$14:$AF$600,8,FALSE),0)","v":0},{"$f":"IFERROR(VLOOKUP(NH15,MATCHSELEVES!$Y$14:$AG$600,9,FALSE),0)","v":0},"Faudelp_20",{"$f":"IFERROR(VLOOKUP(NN15,MATCHSELEVES!$Y$14:$AE$600,3,FALSE),0)","v":0},{"$f":"IFERROR(VLOOKUP(NN15,MATCHSELEVES!$Y$14:$AE$600,4,FALSE),0)","v":0},{"$f":"IFERROR(VLOOKUP(NN15,MATCHSELEVES!$Y$14:$AE$600,5,FALSE),0)","v":0},{"$f":"IFERROR(VLOOKUP(NN15,MATCHSELEVES!$Y$14:$AF$600,8,FALSE),0)","v":0},{"$f":"IFERROR(VLOOKUP(NN15,MATCHSELEVES!$Y$14:$AG$600,9,FALSE),0)","v":0},"Faudelp_21",{"$f":"IFERROR(VLOOKUP(NT15,MATCHSELEVES!$Y$14:$AE$600,3,FALSE),0)","v":0},{"$f":"IFERROR(VLOOKUP(NT15,MATCHSELEVES!$Y$14:$AE$600,4,FALSE),0)","v":0},{"$f":"IFERROR(VLOOKUP(NT15,MATCHSELEVES!$Y$14:$AE$600,5,FALSE),0)","v":0},{"$f":"IFERROR(VLOOKUP(NT15,MATCHSELEVES!$Y$14:$AF$600,8,FALSE),0)","v":0},{"$f":"IFERROR(VLOOKUP(NT15,MATCHSELEVES!$Y$14:$AG$600,9,FALSE),0)","v":0},"Faudelp_22",{"$f":"IFERROR(VLOOKUP(NZ15,MATCHSELEVES!$Y$14:$AE$600,3,FALSE),0)","v":0},{"$f":"IFERROR(VLOOKUP(NZ15,MATCHSELEVES!$Y$14:$AE$600,4,FALSE),0)","v":0},{"$f":"IFERROR(VLOOKUP(NZ15,MATCHSELEVES!$Y$14:$AE$600,5,FALSE),0)","v":0},{"$f":"IFERROR(VLOOKUP(NZ15,MATCHSELEVES!$Y$14:$AF$600,8,FALSE),0)","v":0},{"$f":"IFERROR(VLOOKUP(NZ15,MATCHSELEVES!$Y$14:$AG$600,9,FALSE),0)","v":0},"Faudelp_23",{"$f":"IFERROR(VLOOKUP(OF15,MATCHSELEVES!$Y$14:$AE$600,3,FALSE),0)","v":0},{"$f":"IFERROR(VLOOKUP(OF15,MATCHSELEVES!$Y$14:$AE$600,4,FALSE),0)","v":0},{"$f":"IFERROR(VLOOKUP(OF15,MATCHSELEVES!$Y$14:$AE$600,5,FALSE),0)","v":0},{"$f":"IFERROR(VLOOKUP(OF15,MATCHSELEVES!$Y$14:$AF$600,8,FALSE),0)","v":0},{"$f":"IFERROR(VLOOKUP(OF15,MATCHSELEVES!$Y$14:$AG$600,9,FALSE),0)","v":0},"Faudelp_24",{"$f":"IFERROR(VLOOKUP(OL15,MATCHSELEVES!$Y$14:$AE$600,3,FALSE),0)","v":0},{"$f":"IFERROR(VLOOKUP(OL15,MATCHSELEVES!$Y$14:$AE$600,4,FALSE),0)","v":0},{"$f":"IFERROR(VLOOKUP(OL15,MATCHSELEVES!$Y$14:$AE$600,5,FALSE),0)","v":0},{"$f":"IFERROR(VLOOKUP(OL15,MATCHSELEVES!$Y$14:$AF$600,8,FALSE),0)","v":0},{"$f":"IFERROR(VLOOKUP(OL15,MATCHSELEVES!$Y$14:$AG$600,9,FALSE),0)","v":0},"Faudelp_25",{"$f":"IFERROR(VLOOKUP(OR15,MATCHSELEVES!$Y$14:$AE$600,3,FALSE),0)","v":0},{"$f":"IFERROR(VLOOKUP(OR15,MATCHSELEVES!$Y$14:$AE$600,4,FALSE),0)","v":0},{"$f":"IFERROR(VLOOKUP(OR15,MATCHSELEVES!$Y$14:$AE$600,5,FALSE),0)","v":0},{"$f":"IFERROR(VLOOKUP(OR15,MATCHSELEVES!$Y$14:$AF$600,8,FALSE),0)","v":0},{"$f":"IFERROR(VLOOKUP(OR15,MATCHSELEVES!$Y$14:$AG$600,9,FALSE),0)","v":0},"Faudelp_26",{"$f":"IFERROR(VLOOKUP(OX15,MATCHSELEVES!$Y$14:$AE$600,3,FALSE),0)","v":0},{"$f":"IFERROR(VLOOKUP(OX15,MATCHSELEVES!$Y$14:$AE$600,4,FALSE),0)","v":0},{"$f":"IFERROR(VLOOKUP(OX15,MATCHSELEVES!$Y$14:$AE$600,5,FALSE),0)","v":0},{"$f":"IFERROR(VLOOKUP(OX15,MATCHSELEVES!$Y$14:$AF$600,8,FALSE),0)","v":0},{"$f":"IFERROR(VLOOKUP(OX15,MATCHSELEVES!$Y$14:$AG$600,9,FALSE),0)","v":0},"Faudelp_27",{"$f":"IFERROR(VLOOKUP(PD15,MATCHSELEVES!$Y$14:$AE$600,3,FALSE),0)","v":0},{"$f":"IFERROR(VLOOKUP(PD15,MATCHSELEVES!$Y$14:$AE$600,4,FALSE),0)","v":0},{"$f":"IFERROR(VLOOKUP(PD15,MATCHSELEVES!$Y$14:$AE$600,5,FALSE),0)","v":0},{"$f":"IFERROR(VLOOKUP(PD15,MATCHSELEVES!$Y$14:$AF$600,8,FALSE),0)","v":0},{"$f":"IFERROR(VLOOKUP(PD15,MATCHSELEVES!$Y$14:$AG$600,9,FALSE),0)","v":0},"Faudelp_28",{"$f":"IFERROR(VLOOKUP(PJ15,MATCHSELEVES!$Y$14:$AE$600,3,FALSE),0)","v":0},{"$f":"IFERROR(VLOOKUP(PJ15,MATCHSELEVES!$Y$14:$AE$600,4,FALSE),0)","v":0},{"$f":"IFERROR(VLOOKUP(PJ15,MATCHSELEVES!$Y$14:$AE$600,5,FALSE),0)","v":0},{"$f":"IFERROR(VLOOKUP(PJ15,MATCHSELEVES!$Y$14:$AF$600,8,FALSE),0)","v":0},{"$f":"IFERROR(VLOOKUP(PJ15,MATCHSELEVES!$Y$14:$AG$600,9,FALSE),0)","v":0},"Faudelp_29",{"$f":"IFERROR(VLOOKUP(PP15,MATCHSELEVES!$Y$14:$AE$600,3,FALSE),0)","v":0},{"$f":"IFERROR(VLOOKUP(PP15,MATCHSELEVES!$Y$14:$AE$600,4,FALSE),0)","v":0},{"$f":"IFERROR(VLOOKUP(PP15,MATCHSELEVES!$Y$14:$AE$600,5,FALSE),0)","v":0},{"$f":"IFERROR(VLOOKUP(PP15,MATCHSELEVES!$Y$14:$AF$600,8,FALSE),0)","v":0},{"$f":"IFERROR(VLOOKUP(PP15,MATCHSELEVES!$Y$14:$AG$600,9,FALSE),0)","v":0},"Faudelp_30",{"$f":"IFERROR(VLOOKUP(PV15,MATCHSELEVES!$Y$14:$AE$600,3,FALSE),0)","v":0},{"$f":"IFERROR(VLOOKUP(PV15,MATCHSELEVES!$Y$14:$AE$600,4,FALSE),0)","v":0},{"$f":"IFERROR(VLOOKUP(PV15,MATCHSELEVES!$Y$14:$AE$600,5,FALSE),0)","v":0},{"$f":"IFERROR(VLOOKUP(PV15,MATCHSELEVES!$Y$14:$AF$600,8,FALSE),0)","v":0},{"$f":"IFERROR(VLOOKUP(PV15,MATCHSELEVES!$Y$14:$AG$600,9,FALSE),0)","v":0},"Faudelp_31",{"$f":"IFERROR(VLOOKUP(QB15,MATCHSELEVES!$Y$14:$AE$600,3,FALSE),0)","v":0},{"$f":"IFERROR(VLOOKUP(QB15,MATCHSELEVES!$Y$14:$AE$600,4,FALSE),0)","v":0},{"$f":"IFERROR(VLOOKUP(QB15,MATCHSELEVES!$Y$14:$AE$600,5,FALSE),0)","v":0},{"$f":"IFERROR(VLOOKUP(QB15,MATCHSELEVES!$Y$14:$AF$600,8,FALSE),0)","v":0},{"$f":"IFERROR(VLOOKUP(QB15,MATCHSELEVES!$Y$14:$AG$600,9,FALSE),0)","v":0},"Faudelp_32",{"$f":"IFERROR(VLOOKUP(QH15,MATCHSELEVES!$Y$14:$AE$600,3,FALSE),0)","v":0},{"$f":"IFERROR(VLOOKUP(QH15,MATCHSELEVES!$Y$14:$AE$600,4,FALSE),0)","v":0},{"$f":"IFERROR(VLOOKUP(QH15,MATCHSELEVES!$Y$14:$AE$600,5,FALSE),0)","v":0},{"$f":"IFERROR(VLOOKUP(QH15,MATCHSELEVES!$Y$14:$AF$600,8,FALSE),0)","v":0},{"$f":"IFERROR(VLOOKUP(QH15,MATCHSELEVES!$Y$14:$AG$600,9,FALSE),0)","v":0},"Faudelp_33",{"$f":"IFERROR(VLOOKUP(QN15,MATCHSELEVES!$Y$14:$AE$600,3,FALSE),0)","v":0},{"$f":"IFERROR(VLOOKUP(QN15,MATCHSELEVES!$Y$14:$AE$600,4,FALSE),0)","v":0},{"$f":"IFERROR(VLOOKUP(QN15,MATCHSELEVES!$Y$14:$AE$600,5,FALSE),0)","v":0},{"$f":"IFERROR(VLOOKUP(QN15,MATCHSELEVES!$Y$14:$AF$600,8,FALSE),0)","v":0},{"$f":"IFERROR(VLOOKUP(QN15,MATCHSELEVES!$Y$14:$AG$600,9,FALSE),0)","v":0},"Faudelp_34",{"$f":"IFERROR(VLOOKUP(QT15,MATCHSELEVES!$Y$14:$AE$600,3,FALSE),0)","v":0},{"$f":"IFERROR(VLOOKUP(QT15,MATCHSELEVES!$Y$14:$AE$600,4,FALSE),0)","v":0},{"$f":"IFERROR(VLOOKUP(QT15,MATCHSELEVES!$Y$14:$AE$600,5,FALSE),0)","v":0},{"$f":"IFERROR(VLOOKUP(QT15,MATCHSELEVES!$Y$14:$AF$600,8,FALSE),0)","v":0},{"$f":"IFERROR(VLOOKUP(QT15,MATCHSELEVES!$Y$14:$AG$600,9,FALSE),0)","v":0},"Faudelp_35",{"$f":"IFERROR(VLOOKUP(QZ15,MATCHSELEVES!$Y$14:$AE$600,3,FALSE),0)","v":0},{"$f":"IFERROR(VLOOKUP(QZ15,MATCHSELEVES!$Y$14:$AE$600,4,FALSE),0)","v":0},{"$f":"IFERROR(VLOOKUP(QZ15,MATCHSELEVES!$Y$14:$AE$600,5,FALSE),0)","v":0},{"$f":"IFERROR(VLOOKUP(QZ15,MATCHSELEVES!$Y$14:$AF$600,8,FALSE),0)","v":0},{"$f":"IFERROR(VLOOKUP(QZ15,MATCHSELEVES!$Y$14:$AG$600,9,FALSE),0)","v":0},"Faudelp_36",{"$f":"IFERROR(VLOOKUP(RF15,MATCHSELEVES!$Y$14:$AE$600,3,FALSE),0)","v":0},{"$f":"IFERROR(VLOOKUP(RF15,MATCHSELEVES!$Y$14:$AE$600,4,FALSE),0)","v":0},{"$f":"IFERROR(VLOOKUP(RF15,MATCHSELEVES!$Y$14:$AE$600,5,FALSE),0)","v":0},{"$f":"IFERROR(VLOOKUP(RF15,MATCHSELEVES!$Y$14:$AF$600,8,FALSE),0)","v":0},{"$f":"IFERROR(VLOOKUP(RF15,MATCHSELEVES!$Y$14:$AG$600,9,FALSE),0)","v":0},"Faudelp_37",{"$f":"IFERROR(VLOOKUP(RL15,MATCHSELEVES!$Y$14:$AE$600,3,FALSE),0)","v":0},{"$f":"IFERROR(VLOOKUP(RL15,MATCHSELEVES!$Y$14:$AE$600,4,FALSE),0)","v":0},{"$f":"IFERROR(VLOOKUP(RL15,MATCHSELEVES!$Y$14:$AE$600,5,FALSE),0)","v":0},{"$f":"IFERROR(VLOOKUP(RL15,MATCHSELEVES!$Y$14:$AF$600,8,FALSE),0)","v":0},{"$f":"IFERROR(VLOOKUP(RL15,MATCHSELEVES!$Y$14:$AG$600,9,FALSE),0)","v":0},"Faudelp_38",{"$f":"IFERROR(VLOOKUP(RR15,MATCHSELEVES!$Y$14:$AE$600,3,FALSE),0)","v":0},{"$f":"IFERROR(VLOOKUP(RR15,MATCHSELEVES!$Y$14:$AE$600,4,FALSE),0)","v":0},{"$f":"IFERROR(VLOOKUP(RR15,MATCHSELEVES!$Y$14:$AE$600,5,FALSE),0)","v":0},{"$f":"IFERROR(VLOOKUP(RR15,MATCHSELEVES!$Y$14:$AF$600,8,FALSE),0)","v":0},{"$f":"IFERROR(VLOOKUP(RR15,MATCHSELEVES!$Y$14:$AG$600,9,FALSE),0)","v":0},"Faudelp_39",{"$f":"IFERROR(VLOOKUP(RX15,MATCHSELEVES!$Y$14:$AE$600,3,FALSE),0)","v":0},{"$f":"IFERROR(VLOOKUP(RX15,MATCHSELEVES!$Y$14:$AE$600,4,FALSE),0)","v":0},{"$f":"IFERROR(VLOOKUP(RX15,MATCHSELEVES!$Y$14:$AE$600,5,FALSE),0)","v":0},{"$f":"IFERROR(VLOOKUP(RX15,MATCHSELEVES!$Y$14:$AF$600,8,FALSE),0)","v":0},{"$f":"IFERROR(VLOOKUP(RX15,MATCHSELEVES!$Y$14:$AG$600,9,FALSE),0)","v":0},"Faudelp_40",{"$f":"IFERROR(VLOOKUP(SD15,MATCHSELEVES!$Y$14:$AE$600,3,FALSE),0)","v":0},{"$f":"IFERROR(VLOOKUP(SD15,MATCHSELEVES!$Y$14:$AE$600,4,FALSE),0)","v":0},{"$f":"IFERROR(VLOOKUP(SD15,MATCHSELEVES!$Y$14:$AE$600,5,FALSE),0)","v":0},{"$f":"IFERROR(VLOOKUP(SD15,MATCHSELEVES!$Y$14:$AF$600,8,FALSE),0)","v":0},{"$f":"IFERROR(VLOOKUP(SD15,MATCHSELEVES!$Y$14:$AG$600,9,FALSE),0)","v":0}]
[13,null,{"$f":"MD1POINT!C16","v":"Fazil"},{"$f":"MD1POINT!D16","v":1},{"$f":"COUNTIF(MATCHSELEVES!$Z$14:$Z$600,C16)+COUNTIF(MATCHSELEVES!$Z$14:$Z$600,$C16&\"p\")","v":0},1,{"$f":"COUNTIF(MATCHSELEVES!$F$14:$H$249,C16)","v":0},1,0,1,0,1,0,1,{"$f":"Y16+AE16+AK16+AQ16+AW16+BC16+BI16+BO16+BU16+CA16+CG16+CM16+CS16+CY16+DE16+DK16+DQ16+DW16+EC16+EI16+EO16+EU16+FA16+FG16+FM16+FS16+FY16+GE16+GK16+GQ16+GW16+4+HI16+HO16+HU16+IA16+HC16+IG16+IM16+IY16+IS16+JH16+JN16+JZ16+JT16+KF16+KR16+KX16+LJ16+LP16+LV16+LD16+MB16+MH16+MN16+MZ16+MT16+NF16+NL16+NR16+NX16+OD16+OJ16+OP16+OV16+PB16+PH16+PT16+PN16+PZ16+QF16+QL16+QR16+RD16+QX16+RJ16+RP16+RV16+SB16+SH16+KL16+Tableau10[[#This Row],[Nombre de matchs joués]]*2","v":4},1,{"$f":"(Tableau10[[#This Row],[CLASSEMENT1]]+Tableau10[[#This Row],[CLASSEMENT2]]+Tableau10[[#This Row],[CLASSEMENT3]]+Tableau10[[#This Row],[CLASSEMENT4]]+Tableau10[[#This Row],[CLASSEMENT5]]+Tableau10[[#This Row],[CLASSEMENT6]])/6","v":1},{"$f":"RANK(Tableau10[[#This Row],[MOYENNE CLASSEMENTS]],Tableau10[MOYENNE CLASSEMENTS],1)","v":1},null,{"$f":"Tableau10[[#This Row],[CLASSEMENT1]]","v":1},"Fazil_1",{"$f":"IFERROR(VLOOKUP(U16,MATCHSELEVES!$Y$14:$AE$600,3,FALSE),0)","v":0},{"$f":"IFERROR(VLOOKUP(U16,MATCHSELEVES!$Y$14:$AE$600,4,FALSE),0)","v":0},{"$f":"IFERROR(VLOOKUP(U16,MATCHSELEVES!$Y$14:$AE$600,5,FALSE),0)","v":0},{"$f":"IFERROR(VLOOKUP(U16,MATCHSELEVES!$Y$14:$AF$600,8,FALSE),0)","v":0},{"$f":"IFERROR(VLOOKUP(U16,MATCHSELEVES!$Y$14:$AG$600,9,FALSE),0)","v":0},"Fazil_2",{"$f":"IFERROR(VLOOKUP(AA16,MATCHSELEVES!$Y$14:$AE$600,3,FALSE),0)","v":0},{"$f":"IFERROR(VLOOKUP(AA16,MATCHSELEVES!$Y$14:$AE$600,4,FALSE),0)","v":0},{"$f":"IFERROR(VLOOKUP(AA16,MATCHSELEVES!$Y$14:$AE$600,5,FALSE),0)","v":0},{"$f":"IFERROR(VLOOKUP(AA16,MATCHSELEVES!$Y$14:$AF$600,8,FALSE),0)","v":0},{"$f":"IFERROR(VLOOKUP(AA16,MATCHSELEVES!$Y$14:$AG$600,9,FALSE),0)","v":0},"Fazil_3",{"$f":"IFERROR(VLOOKUP(AG16,MATCHSELEVES!$Y$14:$AE$600,3,FALSE),0)","v":0},{"$f":"IFERROR(VLOOKUP(AG16,MATCHSELEVES!$Y$14:$AE$600,4,FALSE),0)","v":0},{"$f":"IFERROR(VLOOKUP(AG16,MATCHSELEVES!$Y$14:$AE$600,5,FALSE),0)","v":0},{"$f":"IFERROR(VLOOKUP(AG16,MATCHSELEVES!$Y$14:$AF$600,8,FALSE),0)","v":0},{"$f":"IFERROR(VLOOKUP(AG16,MATCHSELEVES!$Y$14:$AG$600,9,FALSE),0)","v":0},"Fazil_4",{"$f":"IFERROR(VLOOKUP(AM16,MATCHSELEVES!$Y$14:$AE$600,3,FALSE),0)","v":0},{"$f":"IFERROR(VLOOKUP(AM16,MATCHSELEVES!$Y$14:$AE$600,4,FALSE),0)","v":0},{"$f":"IFERROR(VLOOKUP(AM16,MATCHSELEVES!$Y$14:$AE$600,5,FALSE),0)","v":0},{"$f":"IFERROR(VLOOKUP(AM16,MATCHSELEVES!$Y$14:$AF$600,8,FALSE),0)","v":0},{"$f":"IFERROR(VLOOKUP(AM16,MATCHSELEVES!$Y$14:$AG$600,9,FALSE),0)","v":0},"Fazil_5",{"$f":"IFERROR(VLOOKUP(AS16,MATCHSELEVES!$Y$14:$AE$600,3,FALSE),0)","v":0},{"$f":"IFERROR(VLOOKUP(AS16,MATCHSELEVES!$Y$14:$AE$600,4,FALSE),0)","v":0},{"$f":"IFERROR(VLOOKUP(AS16,MATCHSELEVES!$Y$14:$AE$600,5,FALSE),0)","v":0},{"$f":"IFERROR(VLOOKUP(AS16,MATCHSELEVES!$Y$14:$AF$600,8,FALSE),0)","v":0},{"$f":"IFERROR(VLOOKUP(AS16,MATCHSELEVES!$Y$14:$AG$600,9,FALSE),0)","v":0},"Fazil_6",{"$f":"IFERROR(VLOOKUP(AY16,MATCHSELEVES!$Y$14:$AE$600,3,FALSE),0)","v":0},{"$f":"IFERROR(VLOOKUP(AY16,MATCHSELEVES!$Y$14:$AE$600,4,FALSE),0)","v":0},{"$f":"IFERROR(VLOOKUP(AY16,MATCHSELEVES!$Y$14:$AE$600,5,FALSE),0)","v":0},{"$f":"IFERROR(VLOOKUP(AY16,MATCHSELEVES!$Y$14:$AF$600,8,FALSE),0)","v":0},{"$f":"IFERROR(VLOOKUP(AY16,MATCHSELEVES!$Y$14:$AG$600,9,FALSE),0)","v":0},"Fazil_7",{"$f":"IFERROR(VLOOKUP(BE16,MATCHSELEVES!$Y$14:$AE$600,3,FALSE),0)","v":0},{"$f":"IFERROR(VLOOKUP(BE16,MATCHSELEVES!$Y$14:$AE$600,4,FALSE),0)","v":0},{"$f":"IFERROR(VLOOKUP(BE16,MATCHSELEVES!$Y$14:$AE$600,5,FALSE),0)","v":0},{"$f":"IFERROR(VLOOKUP(BE16,MATCHSELEVES!$Y$14:$AF$600,8,FALSE),0)","v":0},{"$f":"IFERROR(VLOOKUP(BE16,MATCHSELEVES!$Y$14:$AG$600,9,FALSE),0)","v":0},"Fazil_8",{"$f":"IFERROR(VLOOKUP(BK16,MATCHSELEVES!$Y$14:$AE$600,3,FALSE),0)","v":0},{"$f":"IFERROR(VLOOKUP(BK16,MATCHSELEVES!$Y$14:$AE$600,4,FALSE),0)","v":0},{"$f":"IFERROR(VLOOKUP(BK16,MATCHSELEVES!$Y$14:$AE$600,5,FALSE),0)","v":0},{"$f":"IFERROR(VLOOKUP(BK16,MATCHSELEVES!$Y$14:$AF$600,8,FALSE),0)","v":0},{"$f":"IFERROR(VLOOKUP(BK16,MATCHSELEVES!$Y$14:$AG$600,9,FALSE),0)","v":0},"Fazil_9",{"$f":"IFERROR(VLOOKUP(BQ16,MATCHSELEVES!$Y$14:$AE$600,3,FALSE),0)","v":0},{"$f":"IFERROR(VLOOKUP(BQ16,MATCHSELEVES!$Y$14:$AE$600,4,FALSE),0)","v":0},{"$f":"IFERROR(VLOOKUP(BQ16,MATCHSELEVES!$Y$14:$AE$600,5,FALSE),0)","v":0},{"$f":"IFERROR(VLOOKUP(BQ16,MATCHSELEVES!$Y$14:$AF$600,8,FALSE),0)","v":0},{"$f":"IFERROR(VLOOKUP(BQ16,MATCHSELEVES!$Y$14:$AG$600,9,FALSE),0)","v":0},"Fazil_10",{"$f":"IFERROR(VLOOKUP(BW16,MATCHSELEVES!$Y$14:$AE$600,3,FALSE),0)","v":0},{"$f":"IFERROR(VLOOKUP(BW16,MATCHSELEVES!$Y$14:$AE$600,4,FALSE),0)","v":0},{"$f":"IFERROR(VLOOKUP(BW16,MATCHSELEVES!$Y$14:$AE$600,5,FALSE),0)","v":0},{"$f":"IFERROR(VLOOKUP(BW16,MATCHSELEVES!$Y$14:$AF$600,8,FALSE),0)","v":0},{"$f":"IFERROR(VLOOKUP(BW16,MATCHSELEVES!$Y$14:$AG$600,9,FALSE),0)","v":0},"Fazil_11",{"$f":"IFERROR(VLOOKUP(CC16,MATCHSELEVES!$Y$14:$AE$600,3,FALSE),0)","v":0},{"$f":"IFERROR(VLOOKUP(CC16,MATCHSELEVES!$Y$14:$AE$600,4,FALSE),0)","v":0},{"$f":"IFERROR(VLOOKUP(CC16,MATCHSELEVES!$Y$14:$AE$600,5,FALSE),0)","v":0},{"$f":"IFERROR(VLOOKUP(CC16,MATCHSELEVES!$Y$14:$AF$600,8,FALSE),0)","v":0},{"$f":"IFERROR(VLOOKUP(CC16,MATCHSELEVES!$Y$14:$AG$600,9,FALSE),0)","v":0},"Fazil_12",{"$f":"IFERROR(VLOOKUP(CI16,MATCHSELEVES!$Y$14:$AE$600,3,FALSE),0)","v":0},{"$f":"IFERROR(VLOOKUP(CI16,MATCHSELEVES!$Y$14:$AE$600,4,FALSE),0)","v":0},{"$f":"IFERROR(VLOOKUP(CI16,MATCHSELEVES!$Y$14:$AE$600,5,FALSE),0)","v":0},{"$f":"IFERROR(VLOOKUP(CI16,MATCHSELEVES!$Y$14:$AF$600,8,FALSE),0)","v":0},{"$f":"IFERROR(VLOOKUP(CI16,MATCHSELEVES!$Y$14:$AG$600,9,FALSE),0)","v":0},"Fazil_13",{"$f":"IFERROR(VLOOKUP(CO16,MATCHSELEVES!$Y$14:$AE$600,3,FALSE),0)","v":0},{"$f":"IFERROR(VLOOKUP(CO16,MATCHSELEVES!$Y$14:$AE$600,4,FALSE),0)","v":0},{"$f":"IFERROR(VLOOKUP(CO16,MATCHSELEVES!$Y$14:$AE$600,5,FALSE),0)","v":0},{"$f":"IFERROR(VLOOKUP(CO16,MATCHSELEVES!$Y$14:$AF$600,8,FALSE),0)","v":0},{"$f":"IFERROR(VLOOKUP(CO16,MATCHSELEVES!$Y$14:$AG$600,9,FALSE),0)","v":0},"Fazil_14",{"$f":"IFERROR(VLOOKUP(CU16,MATCHSELEVES!$Y$14:$AE$600,3,FALSE),0)","v":0},{"$f":"IFERROR(VLOOKUP(CU16,MATCHSELEVES!$Y$14:$AE$600,4,FALSE),0)","v":0},{"$f":"IFERROR(VLOOKUP(CU16,MATCHSELEVES!$Y$14:$AE$600,5,FALSE),0)","v":0},{"$f":"IFERROR(VLOOKUP(CU16,MATCHSELEVES!$Y$14:$AF$600,8,FALSE),0)","v":0},{"$f":"IFERROR(VLOOKUP(CU16,MATCHSELEVES!$Y$14:$AG$600,9,FALSE),0)","v":0},"Fazil_15",{"$f":"IFERROR(VLOOKUP(DA16,MATCHSELEVES!$Y$14:$AE$600,3,FALSE),0)","v":0},{"$f":"IFERROR(VLOOKUP(DA16,MATCHSELEVES!$Y$14:$AE$600,4,FALSE),0)","v":0},{"$f":"IFERROR(VLOOKUP(DA16,MATCHSELEVES!$Y$14:$AE$600,5,FALSE),0)","v":0},{"$f":"IFERROR(VLOOKUP(DA16,MATCHSELEVES!$Y$14:$AF$600,8,FALSE),0)","v":0},{"$f":"IFERROR(VLOOKUP(DA16,MATCHSELEVES!$Y$14:$AG$600,9,FALSE),0)","v":0},"Fazil_16",{"$f":"IFERROR(VLOOKUP(DG16,MATCHSELEVES!$Y$14:$AE$600,3,FALSE),0)","v":0},{"$f":"IFERROR(VLOOKUP(DG16,MATCHSELEVES!$Y$14:$AE$600,4,FALSE),0)","v":0},{"$f":"IFERROR(VLOOKUP(DG16,MATCHSELEVES!$Y$14:$AE$600,5,FALSE),0)","v":0},{"$f":"IFERROR(VLOOKUP(DG16,MATCHSELEVES!$Y$14:$AF$600,8,FALSE),0)","v":0},{"$f":"IFERROR(VLOOKUP(DG16,MATCHSELEVES!$Y$14:$AG$600,9,FALSE),0)","v":0},"Fazil_17",{"$f":"IFERROR(VLOOKUP(DM16,MATCHSELEVES!$Y$14:$AE$600,3,FALSE),0)","v":0},{"$f":"IFERROR(VLOOKUP(DM16,MATCHSELEVES!$Y$14:$AE$600,4,FALSE),0)","v":0},{"$f":"IFERROR(VLOOKUP(DM16,MATCHSELEVES!$Y$14:$AE$600,5,FALSE),0)","v":0},{"$f":"IFERROR(VLOOKUP(DM16,MATCHSELEVES!$Y$14:$AF$600,8,FALSE),0)","v":0},{"$f":"IFERROR(VLOOKUP(DM16,MATCHSELEVES!$Y$14:$AG$600,9,FALSE),0)","v":0},"Fazil_18",{"$f":"IFERROR(VLOOKUP(DS16,MATCHSELEVES!$Y$14:$AE$600,3,FALSE),0)","v":0},{"$f":"IFERROR(VLOOKUP(DS16,MATCHSELEVES!$Y$14:$AE$600,4,FALSE),0)","v":0},{"$f":"IFERROR(VLOOKUP(DS16,MATCHSELEVES!$Y$14:$AE$600,5,FALSE),0)","v":0},{"$f":"IFERROR(VLOOKUP(DS16,MATCHSELEVES!$Y$14:$AF$600,8,FALSE),0)","v":0},{"$f":"IFERROR(VLOOKUP(DS16,MATCHSELEVES!$Y$14:$AG$600,9,FALSE),0)","v":0},"Fazil_19",{"$f":"IFERROR(VLOOKUP(DY16,MATCHSELEVES!$Y$14:$AE$600,3,FALSE),0)","v":0},{"$f":"IFERROR(VLOOKUP(DY16,MATCHSELEVES!$Y$14:$AE$600,4,FALSE),0)","v":0},{"$f":"IFERROR(VLOOKUP(DY16,MATCHSELEVES!$Y$14:$AE$600,5,FALSE),0)","v":0},{"$f":"IFERROR(VLOOKUP(DY16,MATCHSELEVES!$Y$14:$AF$600,8,FALSE),0)","v":0},{"$f":"IFERROR(VLOOKUP(DY16,MATCHSELEVES!$Y$14:$AG$600,9,FALSE),0)","v":0},"Fazil_20",{"$f":"IFERROR(VLOOKUP(EE16,MATCHSELEVES!$Y$14:$AE$600,3,FALSE),0)","v":0},{"$f":"IFERROR(VLOOKUP(EE16,MATCHSELEVES!$Y$14:$AE$600,4,FALSE),0)","v":0},{"$f":"IFERROR(VLOOKUP(EE16,MATCHSELEVES!$Y$14:$AE$600,5,FALSE),0)","v":0},{"$f":"IFERROR(VLOOKUP(EE16,MATCHSELEVES!$Y$14:$AF$600,8,FALSE),0)","v":0},{"$f":"IFERROR(VLOOKUP(EE16,MATCHSELEVES!$Y$14:$AG$600,9,FALSE),0)","v":0},"Fazil_21",{"$f":"IFERROR(VLOOKUP(EK16,MATCHSELEVES!$Y$14:$AE$600,3,FALSE),0)","v":0},{"$f":"IFERROR(VLOOKUP(EK16,MATCHSELEVES!$Y$14:$AE$600,4,FALSE),0)","v":0},{"$f":"IFERROR(VLOOKUP(EK16,MATCHSELEVES!$Y$14:$AE$600,5,FALSE),0)","v":0},{"$f":"IFERROR(VLOOKUP(EK16,MATCHSELEVES!$Y$14:$AF$600,8,FALSE),0)","v":0},{"$f":"IFERROR(VLOOKUP(EK16,MATCHSELEVES!$Y$14:$AG$600,9,FALSE),0)","v":0},"Fazil_22",{"$f":"IFERROR(VLOOKUP(EQ16,MATCHSELEVES!$Y$14:$AE$600,3,FALSE),0)","v":0},{"$f":"IFERROR(VLOOKUP(EQ16,MATCHSELEVES!$Y$14:$AE$600,4,FALSE),0)","v":0},{"$f":"IFERROR(VLOOKUP(EQ16,MATCHSELEVES!$Y$14:$AE$600,5,FALSE),0)","v":0},{"$f":"IFERROR(VLOOKUP(EQ16,MATCHSELEVES!$Y$14:$AF$600,8,FALSE),0)","v":0},{"$f":"IFERROR(VLOOKUP(EQ16,MATCHSELEVES!$Y$14:$AG$600,9,FALSE),0)","v":0},"Fazil_23",{"$f":"IFERROR(VLOOKUP(EW16,MATCHSELEVES!$Y$14:$AE$600,3,FALSE),0)","v":0},{"$f":"IFERROR(VLOOKUP(EW16,MATCHSELEVES!$Y$14:$AE$600,4,FALSE),0)","v":0},{"$f":"IFERROR(VLOOKUP(EW16,MATCHSELEVES!$Y$14:$AE$600,5,FALSE),0)","v":0},{"$f":"IFERROR(VLOOKUP(EW16,MATCHSELEVES!$Y$14:$AF$600,8,FALSE),0)","v":0},{"$f":"IFERROR(VLOOKUP(EW16,MATCHSELEVES!$Y$14:$AG$600,9,FALSE),0)","v":0},"Fazil_24",{"$f":"IFERROR(VLOOKUP(FC16,MATCHSELEVES!$Y$14:$AE$600,3,FALSE),0)","v":0},{"$f":"IFERROR(VLOOKUP(FC16,MATCHSELEVES!$Y$14:$AE$600,4,FALSE),0)","v":0},{"$f":"IFERROR(VLOOKUP(FC16,MATCHSELEVES!$Y$14:$AE$600,5,FALSE),0)","v":0},{"$f":"IFERROR(VLOOKUP(FC16,MATCHSELEVES!$Y$14:$AF$600,8,FALSE),0)","v":0},{"$f":"IFERROR(VLOOKUP(FC16,MATCHSELEVES!$Y$14:$AG$600,9,FALSE),0)","v":0},"Fazil_25",{"$f":"IFERROR(VLOOKUP(FI16,MATCHSELEVES!$Y$14:$AE$600,3,FALSE),0)","v":0},{"$f":"IFERROR(VLOOKUP(FI16,MATCHSELEVES!$Y$14:$AE$600,4,FALSE),0)","v":0},{"$f":"IFERROR(VLOOKUP(FI16,MATCHSELEVES!$Y$14:$AE$600,5,FALSE),0)","v":0},{"$f":"IFERROR(VLOOKUP(FI16,MATCHSELEVES!$Y$14:$AF$600,8,FALSE),0)","v":0},{"$f":"IFERROR(VLOOKUP(FI16,MATCHSELEVES!$Y$14:$AG$600,9,FALSE),0)","v":0},"Fazil_26",{"$f":"IFERROR(VLOOKUP(FO16,MATCHSELEVES!$Y$14:$AE$600,3,FALSE),0)","v":0},{"$f":"IFERROR(VLOOKUP(FO16,MATCHSELEVES!$Y$14:$AE$600,4,FALSE),0)","v":0},{"$f":"IFERROR(VLOOKUP(FO16,MATCHSELEVES!$Y$14:$AE$600,5,FALSE),0)","v":0},{"$f":"IFERROR(VLOOKUP(FO16,MATCHSELEVES!$Y$14:$AF$600,8,FALSE),0)","v":0},{"$f":"IFERROR(VLOOKUP(FO16,MATCHSELEVES!$Y$14:$AG$600,9,FALSE),0)","v":0},"Fazil_27",{"$f":"IFERROR(VLOOKUP(FU16,MATCHSELEVES!$Y$14:$AE$600,3,FALSE),0)","v":0},{"$f":"IFERROR(VLOOKUP(FU16,MATCHSELEVES!$Y$14:$AE$600,4,FALSE),0)","v":0},{"$f":"IFERROR(VLOOKUP(FU16,MATCHSELEVES!$Y$14:$AE$600,5,FALSE),0)","v":0},{"$f":"IFERROR(VLOOKUP(FU16,MATCHSELEVES!$Y$14:$AF$600,8,FALSE),0)","v":0},{"$f":"IFERROR(VLOOKUP(FU16,MATCHSELEVES!$Y$14:$AG$600,9,FALSE),0)","v":0},"Fazil_28",{"$f":"IFERROR(VLOOKUP(GA16,MATCHSELEVES!$Y$14:$AE$600,3,FALSE),0)","v":0},{"$f":"IFERROR(VLOOKUP(GA16,MATCHSELEVES!$Y$14:$AE$600,4,FALSE),0)","v":0},{"$f":"IFERROR(VLOOKUP(GA16,MATCHSELEVES!$Y$14:$AE$600,5,FALSE),0)","v":0},{"$f":"IFERROR(VLOOKUP(GA16,MATCHSELEVES!$Y$14:$AF$600,8,FALSE),0)","v":0},{"$f":"IFERROR(VLOOKUP(GA16,MATCHSELEVES!$Y$14:$AG$600,9,FALSE),0)","v":0},"Fazil_29",{"$f":"IFERROR(VLOOKUP(GG16,MATCHSELEVES!$Y$14:$AE$600,3,FALSE),0)","v":0},{"$f":"IFERROR(VLOOKUP(GG16,MATCHSELEVES!$Y$14:$AE$600,4,FALSE),0)","v":0},{"$f":"IFERROR(VLOOKUP(GG16,MATCHSELEVES!$Y$14:$AE$600,5,FALSE),0)","v":0},{"$f":"IFERROR(VLOOKUP(GG16,MATCHSELEVES!$Y$14:$AF$600,8,FALSE),0)","v":0},{"$f":"IFERROR(VLOOKUP(GG16,MATCHSELEVES!$Y$14:$AG$600,9,FALSE),0)","v":0},"Fazil_30",{"$f":"IFERROR(VLOOKUP(GM16,MATCHSELEVES!$Y$14:$AE$600,3,FALSE),0)","v":0},{"$f":"IFERROR(VLOOKUP(GM16,MATCHSELEVES!$Y$14:$AE$600,4,FALSE),0)","v":0},{"$f":"IFERROR(VLOOKUP(GM16,MATCHSELEVES!$Y$14:$AE$600,5,FALSE),0)","v":0},{"$f":"IFERROR(VLOOKUP(GM16,MATCHSELEVES!$Y$14:$AF$600,8,FALSE),0)","v":0},{"$f":"IFERROR(VLOOKUP(GM16,MATCHSELEVES!$Y$14:$AG$600,9,FALSE),0)","v":0},"Fazil_31",{"$f":"IFERROR(VLOOKUP(GS16,MATCHSELEVES!$Y$14:$AE$600,3,FALSE),0)","v":0},{"$f":"IFERROR(VLOOKUP(GS16,MATCHSELEVES!$Y$14:$AE$600,4,FALSE),0)","v":0},{"$f":"IFERROR(VLOOKUP(GS16,MATCHSELEVES!$Y$14:$AE$600,5,FALSE),0)","v":0},{"$f":"IFERROR(VLOOKUP(GS16,MATCHSELEVES!$Y$14:$AF$600,8,FALSE),0)","v":0},{"$f":"IFERROR(VLOOKUP(GS16,MATCHSELEVES!$Y$14:$AG$600,9,FALSE),0)","v":0},"Fazil_32",{"$f":"IFERROR(VLOOKUP(GY16,MATCHSELEVES!$Y$14:$AE$600,3,FALSE),0)","v":0},{"$f":"IFERROR(VLOOKUP(GY16,MATCHSELEVES!$Y$14:$AE$600,4,FALSE),0)","v":0},{"$f":"IFERROR(VLOOKUP(GY16,MATCHSELEVES!$Y$14:$AE$600,5,FALSE),0)","v":0},{"$f":"IFERROR(VLOOKUP(GY16,MATCHSELEVES!$Y$14:$AF$600,8,FALSE),0)","v":0},{"$f":"IFERROR(VLOOKUP(GY16,MATCHSELEVES!$Y$14:$AG$600,9,FALSE),0)","v":0},"Fazil_33",{"$f":"IFERROR(VLOOKUP(HE16,MATCHSELEVES!$Y$14:$AE$600,3,FALSE),0)","v":0},{"$f":"IFERROR(VLOOKUP(HE16,MATCHSELEVES!$Y$14:$AE$600,4,FALSE),0)","v":0},{"$f":"IFERROR(VLOOKUP(HE16,MATCHSELEVES!$Y$14:$AE$600,5,FALSE),0)","v":0},{"$f":"IFERROR(VLOOKUP(HE16,MATCHSELEVES!$Y$14:$AF$600,8,FALSE),0)","v":0},{"$f":"IFERROR(VLOOKUP(HE16,MATCHSELEVES!$Y$14:$AG$600,9,FALSE),0)","v":0},"Fazil_34",{"$f":"IFERROR(VLOOKUP(HK16,MATCHSELEVES!$Y$14:$AE$600,3,FALSE),0)","v":0},{"$f":"IFERROR(VLOOKUP(HK16,MATCHSELEVES!$Y$14:$AE$600,4,FALSE),0)","v":0},{"$f":"IFERROR(VLOOKUP(HK16,MATCHSELEVES!$Y$14:$AE$600,5,FALSE),0)","v":0},{"$f":"IFERROR(VLOOKUP(HK16,MATCHSELEVES!$Y$14:$AF$600,8,FALSE),0)","v":0},{"$f":"IFERROR(VLOOKUP(HK16,MATCHSELEVES!$Y$14:$AG$600,9,FALSE),0)","v":0},"Fazil_35",{"$f":"IFERROR(VLOOKUP(HQ16,MATCHSELEVES!$Y$14:$AE$600,3,FALSE),0)","v":0},{"$f":"IFERROR(VLOOKUP(HQ16,MATCHSELEVES!$Y$14:$AE$600,4,FALSE),0)","v":0},{"$f":"IFERROR(VLOOKUP(HQ16,MATCHSELEVES!$Y$14:$AE$600,5,FALSE),0)","v":0},{"$f":"IFERROR(VLOOKUP(HQ16,MATCHSELEVES!$Y$14:$AF$600,8,FALSE),0)","v":0},{"$f":"IFERROR(VLOOKUP(HQ16,MATCHSELEVES!$Y$14:$AG$600,9,FALSE),0)","v":0},"Fazil_36",{"$f":"IFERROR(VLOOKUP(HW16,MATCHSELEVES!$Y$14:$AE$600,3,FALSE),0)","v":0},{"$f":"IFERROR(VLOOKUP(HW16,MATCHSELEVES!$Y$14:$AE$600,4,FALSE),0)","v":0},{"$f":"IFERROR(VLOOKUP(HW16,MATCHSELEVES!$Y$14:$AE$600,5,FALSE),0)","v":0},{"$f":"IFERROR(VLOOKUP(HW16,MATCHSELEVES!$Y$14:$AF$600,8,FALSE),0)","v":0},{"$f":"IFERROR(VLOOKUP(HW16,MATCHSELEVES!$Y$14:$AG$600,9,FALSE),0)","v":0},"Fazil_37",{"$f":"IFERROR(VLOOKUP(IC16,MATCHSELEVES!$Y$14:$AE$600,3,FALSE),0)","v":0},{"$f":"IFERROR(VLOOKUP(IC16,MATCHSELEVES!$Y$14:$AE$600,4,FALSE),0)","v":0},{"$f":"IFERROR(VLOOKUP(IC16,MATCHSELEVES!$Y$14:$AE$600,5,FALSE),0)","v":0},{"$f":"IFERROR(VLOOKUP(IC16,MATCHSELEVES!$Y$14:$AF$600,8,FALSE),0)","v":0},{"$f":"IFERROR(VLOOKUP(IC16,MATCHSELEVES!$Y$14:$AG$600,9,FALSE),0)","v":0},"Fazil_38",{"$f":"IFERROR(VLOOKUP(II16,MATCHSELEVES!$Y$14:$AE$600,3,FALSE),0)","v":0},{"$f":"IFERROR(VLOOKUP(II16,MATCHSELEVES!$Y$14:$AE$600,4,FALSE),0)","v":0},{"$f":"IFERROR(VLOOKUP(II16,MATCHSELEVES!$Y$14:$AE$600,5,FALSE),0)","v":0},{"$f":"IFERROR(VLOOKUP(II16,MATCHSELEVES!$Y$14:$AF$600,8,FALSE),0)","v":0},{"$f":"IFERROR(VLOOKUP(II16,MATCHSELEVES!$Y$14:$AG$600,9,FALSE),0)","v":0},"Fazil_39",{"$f":"IFERROR(VLOOKUP(IO16,MATCHSELEVES!$Y$14:$AE$600,3,FALSE),0)","v":0},{"$f":"IFERROR(VLOOKUP(IO16,MATCHSELEVES!$Y$14:$AE$600,4,FALSE),0)","v":0},{"$f":"IFERROR(VLOOKUP(IO16,MATCHSELEVES!$Y$14:$AE$600,5,FALSE),0)","v":0},{"$f":"IFERROR(VLOOKUP(IO16,MATCHSELEVES!$Y$14:$AF$600,8,FALSE),0)","v":0},{"$f":"IFERROR(VLOOKUP(IO16,MATCHSELEVES!$Y$14:$AG$600,9,FALSE),0)","v":0},"Fazil_40",{"$f":"IFERROR(VLOOKUP(IU16,MATCHSELEVES!$Y$14:$AE$600,3,FALSE),0)","v":0},{"$f":"IFERROR(VLOOKUP(IU16,MATCHSELEVES!$Y$14:$AE$600,4,FALSE),0)","v":0},{"$f":"IFERROR(VLOOKUP(IU16,MATCHSELEVES!$Y$14:$AE$600,5,FALSE),0)","v":0},{"$f":"IFERROR(VLOOKUP(IU16,MATCHSELEVES!$Y$14:$AF$600,8,FALSE),0)","v":0},{"$f":"IFERROR(VLOOKUP(IU16,MATCHSELEVES!$Y$14:$AG$600,9,FALSE),0)","v":0},{"$f":"Tableau10[[#This Row],[CLASSE]]","v":"Fazil"},1,{"$f":"MD1POINT!D16","v":1},"Fazilp_1",{"$f":"IFERROR(VLOOKUP(JD16,MATCHSELEVES!$Y$14:$AE$600,3,FALSE),0)","v":0},{"$f":"IFERROR(VLOOKUP(JD16,MATCHSELEVES!$Y$14:$AE$600,4,FALSE),0)","v":0},{"$f":"IFERROR(VLOOKUP(JD16,MATCHSELEVES!$Y$14:$AE$600,5,FALSE),0)","v":0},{"$f":"IFERROR(VLOOKUP(JD16,MATCHSELEVES!$Y$14:$AF$600,8,FALSE),0)","v":0},{"$f":"IFERROR(VLOOKUP(JD16,MATCHSELEVES!$Y$14:$AG$600,9,FALSE),0)","v":0},"Fazilp_2",{"$f":"IFERROR(VLOOKUP(JJ16,MATCHSELEVES!$Y$14:$AE$600,3,FALSE),0)","v":0},{"$f":"IFERROR(VLOOKUP(JJ16,MATCHSELEVES!$Y$14:$AE$600,4,FALSE),0)","v":0},{"$f":"IFERROR(VLOOKUP(JJ16,MATCHSELEVES!$Y$14:$AE$600,5,FALSE),0)","v":0},{"$f":"IFERROR(VLOOKUP(JJ16,MATCHSELEVES!$Y$14:$AF$600,8,FALSE),0)","v":0},{"$f":"IFERROR(VLOOKUP(JJ16,MATCHSELEVES!$Y$14:$AG$600,9,FALSE),0)","v":0},"Fazilp_3",{"$f":"IFERROR(VLOOKUP(JP16,MATCHSELEVES!$Y$14:$AE$600,3,FALSE),0)","v":0},{"$f":"IFERROR(VLOOKUP(JP16,MATCHSELEVES!$Y$14:$AE$600,4,FALSE),0)","v":0},{"$f":"IFERROR(VLOOKUP(JP16,MATCHSELEVES!$Y$14:$AE$600,5,FALSE),0)","v":0},{"$f":"IFERROR(VLOOKUP(JP16,MATCHSELEVES!$Y$14:$AF$600,8,FALSE),0)","v":0},{"$f":"IFERROR(VLOOKUP(JP16,MATCHSELEVES!$Y$14:$AG$600,9,FALSE),0)","v":0},"Fazilp_4",{"$f":"IFERROR(VLOOKUP(JV16,MATCHSELEVES!$Y$14:$AE$600,3,FALSE),0)","v":0},{"$f":"IFERROR(VLOOKUP(JV16,MATCHSELEVES!$Y$14:$AE$600,4,FALSE),0)","v":0},{"$f":"IFERROR(VLOOKUP(JV16,MATCHSELEVES!$Y$14:$AE$600,5,FALSE),0)","v":0},{"$f":"IFERROR(VLOOKUP(JV16,MATCHSELEVES!$Y$14:$AF$600,8,FALSE),0)","v":0},{"$f":"IFERROR(VLOOKUP(JV16,MATCHSELEVES!$Y$14:$AG$600,9,FALSE),0)","v":0},"Fazilp_5",{"$f":"IFERROR(VLOOKUP(KB16,MATCHSELEVES!$Y$14:$AE$600,3,FALSE),0)","v":0},{"$f":"IFERROR(VLOOKUP(KB16,MATCHSELEVES!$Y$14:$AE$600,4,FALSE),0)","v":0},{"$f":"IFERROR(VLOOKUP(KB16,MATCHSELEVES!$Y$14:$AE$600,5,FALSE),0)","v":0},{"$f":"IFERROR(VLOOKUP(KB16,MATCHSELEVES!$Y$14:$AF$600,8,FALSE),0)","v":0},{"$f":"IFERROR(VLOOKUP(KB16,MATCHSELEVES!$Y$14:$AG$600,9,FALSE),0)","v":0},"Fazilp_6",{"$f":"IFERROR(VLOOKUP(KH16,MATCHSELEVES!$Y$14:$AE$600,3,FALSE),0)","v":0},{"$f":"IFERROR(VLOOKUP(KH16,MATCHSELEVES!$Y$14:$AE$600,4,FALSE),0)","v":0},{"$f":"IFERROR(VLOOKUP(KH16,MATCHSELEVES!$Y$14:$AE$600,5,FALSE),0)","v":0},{"$f":"IFERROR(VLOOKUP(KH16,MATCHSELEVES!$Y$14:$AF$600,8,FALSE),0)","v":0},{"$f":"IFERROR(VLOOKUP(KH16,MATCHSELEVES!$Y$14:$AG$600,9,FALSE),0)","v":0},"Fazilp_7",{"$f":"IFERROR(VLOOKUP(KN16,MATCHSELEVES!$Y$14:$AE$600,3,FALSE),0)","v":0},{"$f":"IFERROR(VLOOKUP(KN16,MATCHSELEVES!$Y$14:$AE$600,4,FALSE),0)","v":0},{"$f":"IFERROR(VLOOKUP(KN16,MATCHSELEVES!$Y$14:$AE$600,5,FALSE),0)","v":0},{"$f":"IFERROR(VLOOKUP(KN16,MATCHSELEVES!$Y$14:$AF$600,8,FALSE),0)","v":0},{"$f":"IFERROR(VLOOKUP(KN16,MATCHSELEVES!$Y$14:$AG$600,9,FALSE),0)","v":0},"Fazilp_8",{"$f":"IFERROR(VLOOKUP(KT16,MATCHSELEVES!$Y$14:$AE$600,3,FALSE),0)","v":0},{"$f":"IFERROR(VLOOKUP(KT16,MATCHSELEVES!$Y$14:$AE$600,4,FALSE),0)","v":0},{"$f":"IFERROR(VLOOKUP(KT16,MATCHSELEVES!$Y$14:$AE$600,5,FALSE),0)","v":0},{"$f":"IFERROR(VLOOKUP(KT16,MATCHSELEVES!$Y$14:$AF$600,8,FALSE),0)","v":0},{"$f":"IFERROR(VLOOKUP(KT16,MATCHSELEVES!$Y$14:$AG$600,9,FALSE),0)","v":0},"Fazilp_9",{"$f":"IFERROR(VLOOKUP(KZ16,MATCHSELEVES!$Y$14:$AE$600,3,FALSE),0)","v":0},{"$f":"IFERROR(VLOOKUP(KZ16,MATCHSELEVES!$Y$14:$AE$600,4,FALSE),0)","v":0},{"$f":"IFERROR(VLOOKUP(KZ16,MATCHSELEVES!$Y$14:$AE$600,5,FALSE),0)","v":0},{"$f":"IFERROR(VLOOKUP(KZ16,MATCHSELEVES!$Y$14:$AF$600,8,FALSE),0)","v":0},{"$f":"IFERROR(VLOOKUP(KZ16,MATCHSELEVES!$Y$14:$AG$600,9,FALSE),0)","v":0},"Fazilp_10",{"$f":"IFERROR(VLOOKUP(LF16,MATCHSELEVES!$Y$14:$AE$600,3,FALSE),0)","v":0},{"$f":"IFERROR(VLOOKUP(LF16,MATCHSELEVES!$Y$14:$AE$600,4,FALSE),0)","v":0},{"$f":"IFERROR(VLOOKUP(LF16,MATCHSELEVES!$Y$14:$AE$600,5,FALSE),0)","v":0},{"$f":"IFERROR(VLOOKUP(LF16,MATCHSELEVES!$Y$14:$AF$600,8,FALSE),0)","v":0},{"$f":"IFERROR(VLOOKUP(LF16,MATCHSELEVES!$Y$14:$AG$600,9,FALSE),0)","v":0},"Fazilp_11",{"$f":"IFERROR(VLOOKUP(LL16,MATCHSELEVES!$Y$14:$AE$600,3,FALSE),0)","v":0},{"$f":"IFERROR(VLOOKUP(LL16,MATCHSELEVES!$Y$14:$AE$600,4,FALSE),0)","v":0},{"$f":"IFERROR(VLOOKUP(LL16,MATCHSELEVES!$Y$14:$AE$600,5,FALSE),0)","v":0},{"$f":"IFERROR(VLOOKUP(LL16,MATCHSELEVES!$Y$14:$AF$600,8,FALSE),0)","v":0},{"$f":"IFERROR(VLOOKUP(LL16,MATCHSELEVES!$Y$14:$AG$600,9,FALSE),0)","v":0},"Fazilp_12",{"$f":"IFERROR(VLOOKUP(LR16,MATCHSELEVES!$Y$14:$AE$600,3,FALSE),0)","v":0},{"$f":"IFERROR(VLOOKUP(LR16,MATCHSELEVES!$Y$14:$AE$600,4,FALSE),0)","v":0},{"$f":"IFERROR(VLOOKUP(LR16,MATCHSELEVES!$Y$14:$AE$600,5,FALSE),0)","v":0},{"$f":"IFERROR(VLOOKUP(LR16,MATCHSELEVES!$Y$14:$AF$600,8,FALSE),0)","v":0},{"$f":"IFERROR(VLOOKUP(LR16,MATCHSELEVES!$Y$14:$AG$600,9,FALSE),0)","v":0},"Fazilp_13",{"$f":"IFERROR(VLOOKUP(LX16,MATCHSELEVES!$Y$14:$AE$600,3,FALSE),0)","v":0},{"$f":"IFERROR(VLOOKUP(LX16,MATCHSELEVES!$Y$14:$AE$600,4,FALSE),0)","v":0},{"$f":"IFERROR(VLOOKUP(LX16,MATCHSELEVES!$Y$14:$AE$600,5,FALSE),0)","v":0},{"$f":"IFERROR(VLOOKUP(LX16,MATCHSELEVES!$Y$14:$AF$600,8,FALSE),0)","v":0},{"$f":"IFERROR(VLOOKUP(LX16,MATCHSELEVES!$Y$14:$AG$600,9,FALSE),0)","v":0},"Fazilp_14",{"$f":"IFERROR(VLOOKUP(MD16,MATCHSELEVES!$Y$14:$AE$600,3,FALSE),0)","v":0},{"$f":"IFERROR(VLOOKUP(MD16,MATCHSELEVES!$Y$14:$AE$600,4,FALSE),0)","v":0},{"$f":"IFERROR(VLOOKUP(MD16,MATCHSELEVES!$Y$14:$AE$600,5,FALSE),0)","v":0},{"$f":"IFERROR(VLOOKUP(MD16,MATCHSELEVES!$Y$14:$AF$600,8,FALSE),0)","v":0},{"$f":"IFERROR(VLOOKUP(MD16,MATCHSELEVES!$Y$14:$AG$600,9,FALSE),0)","v":0},"Fazilp_15",{"$f":"IFERROR(VLOOKUP(MJ16,MATCHSELEVES!$Y$14:$AE$600,3,FALSE),0)","v":0},{"$f":"IFERROR(VLOOKUP(MJ16,MATCHSELEVES!$Y$14:$AE$600,4,FALSE),0)","v":0},{"$f":"IFERROR(VLOOKUP(MJ16,MATCHSELEVES!$Y$14:$AE$600,5,FALSE),0)","v":0},{"$f":"IFERROR(VLOOKUP(MJ16,MATCHSELEVES!$Y$14:$AF$600,8,FALSE),0)","v":0},{"$f":"IFERROR(VLOOKUP(MJ16,MATCHSELEVES!$Y$14:$AG$600,9,FALSE),0)","v":0},"Fazilp_16",{"$f":"IFERROR(VLOOKUP(MP16,MATCHSELEVES!$Y$14:$AE$600,3,FALSE),0)","v":0},{"$f":"IFERROR(VLOOKUP(MP16,MATCHSELEVES!$Y$14:$AE$600,4,FALSE),0)","v":0},{"$f":"IFERROR(VLOOKUP(MP16,MATCHSELEVES!$Y$14:$AE$600,5,FALSE),0)","v":0},{"$f":"IFERROR(VLOOKUP(MP16,MATCHSELEVES!$Y$14:$AF$600,8,FALSE),0)","v":0},{"$f":"IFERROR(VLOOKUP(MP16,MATCHSELEVES!$Y$14:$AG$600,9,FALSE),0)","v":0},"Fazilp_17",{"$f":"IFERROR(VLOOKUP(MV16,MATCHSELEVES!$Y$14:$AE$600,3,FALSE),0)","v":0},{"$f":"IFERROR(VLOOKUP(MV16,MATCHSELEVES!$Y$14:$AE$600,4,FALSE),0)","v":0},{"$f":"IFERROR(VLOOKUP(MV16,MATCHSELEVES!$Y$14:$AE$600,5,FALSE),0)","v":0},{"$f":"IFERROR(VLOOKUP(MV16,MATCHSELEVES!$Y$14:$AF$600,8,FALSE),0)","v":0},{"$f":"IFERROR(VLOOKUP(MV16,MATCHSELEVES!$Y$14:$AG$600,9,FALSE),0)","v":0},"Fazilp_18",{"$f":"IFERROR(VLOOKUP(NB16,MATCHSELEVES!$Y$14:$AE$600,3,FALSE),0)","v":0},{"$f":"IFERROR(VLOOKUP(NB16,MATCHSELEVES!$Y$14:$AE$600,4,FALSE),0)","v":0},{"$f":"IFERROR(VLOOKUP(NB16,MATCHSELEVES!$Y$14:$AE$600,5,FALSE),0)","v":0},{"$f":"IFERROR(VLOOKUP(NB16,MATCHSELEVES!$Y$14:$AF$600,8,FALSE),0)","v":0},{"$f":"IFERROR(VLOOKUP(NB16,MATCHSELEVES!$Y$14:$AG$600,9,FALSE),0)","v":0},"Fazilp_19",{"$f":"IFERROR(VLOOKUP(NH16,MATCHSELEVES!$Y$14:$AE$600,3,FALSE),0)","v":0},{"$f":"IFERROR(VLOOKUP(NH16,MATCHSELEVES!$Y$14:$AE$600,4,FALSE),0)","v":0},{"$f":"IFERROR(VLOOKUP(NH16,MATCHSELEVES!$Y$14:$AE$600,5,FALSE),0)","v":0},{"$f":"IFERROR(VLOOKUP(NH16,MATCHSELEVES!$Y$14:$AF$600,8,FALSE),0)","v":0},{"$f":"IFERROR(VLOOKUP(NH16,MATCHSELEVES!$Y$14:$AG$600,9,FALSE),0)","v":0},"Fazilp_20",{"$f":"IFERROR(VLOOKUP(NN16,MATCHSELEVES!$Y$14:$AE$600,3,FALSE),0)","v":0},{"$f":"IFERROR(VLOOKUP(NN16,MATCHSELEVES!$Y$14:$AE$600,4,FALSE),0)","v":0},{"$f":"IFERROR(VLOOKUP(NN16,MATCHSELEVES!$Y$14:$AE$600,5,FALSE),0)","v":0},{"$f":"IFERROR(VLOOKUP(NN16,MATCHSELEVES!$Y$14:$AF$600,8,FALSE),0)","v":0},{"$f":"IFERROR(VLOOKUP(NN16,MATCHSELEVES!$Y$14:$AG$600,9,FALSE),0)","v":0},"Fazilp_21",{"$f":"IFERROR(VLOOKUP(NT16,MATCHSELEVES!$Y$14:$AE$600,3,FALSE),0)","v":0},{"$f":"IFERROR(VLOOKUP(NT16,MATCHSELEVES!$Y$14:$AE$600,4,FALSE),0)","v":0},{"$f":"IFERROR(VLOOKUP(NT16,MATCHSELEVES!$Y$14:$AE$600,5,FALSE),0)","v":0},{"$f":"IFERROR(VLOOKUP(NT16,MATCHSELEVES!$Y$14:$AF$600,8,FALSE),0)","v":0},{"$f":"IFERROR(VLOOKUP(NT16,MATCHSELEVES!$Y$14:$AG$600,9,FALSE),0)","v":0},"Fazilp_22",{"$f":"IFERROR(VLOOKUP(NZ16,MATCHSELEVES!$Y$14:$AE$600,3,FALSE),0)","v":0},{"$f":"IFERROR(VLOOKUP(NZ16,MATCHSELEVES!$Y$14:$AE$600,4,FALSE),0)","v":0},{"$f":"IFERROR(VLOOKUP(NZ16,MATCHSELEVES!$Y$14:$AE$600,5,FALSE),0)","v":0},{"$f":"IFERROR(VLOOKUP(NZ16,MATCHSELEVES!$Y$14:$AF$600,8,FALSE),0)","v":0},{"$f":"IFERROR(VLOOKUP(NZ16,MATCHSELEVES!$Y$14:$AG$600,9,FALSE),0)","v":0},"Fazilp_23",{"$f":"IFERROR(VLOOKUP(OF16,MATCHSELEVES!$Y$14:$AE$600,3,FALSE),0)","v":0},{"$f":"IFERROR(VLOOKUP(OF16,MATCHSELEVES!$Y$14:$AE$600,4,FALSE),0)","v":0},{"$f":"IFERROR(VLOOKUP(OF16,MATCHSELEVES!$Y$14:$AE$600,5,FALSE),0)","v":0},{"$f":"IFERROR(VLOOKUP(OF16,MATCHSELEVES!$Y$14:$AF$600,8,FALSE),0)","v":0},{"$f":"IFERROR(VLOOKUP(OF16,MATCHSELEVES!$Y$14:$AG$600,9,FALSE),0)","v":0},"Fazilp_24",{"$f":"IFERROR(VLOOKUP(OL16,MATCHSELEVES!$Y$14:$AE$600,3,FALSE),0)","v":0},{"$f":"IFERROR(VLOOKUP(OL16,MATCHSELEVES!$Y$14:$AE$600,4,FALSE),0)","v":0},{"$f":"IFERROR(VLOOKUP(OL16,MATCHSELEVES!$Y$14:$AE$600,5,FALSE),0)","v":0},{"$f":"IFERROR(VLOOKUP(OL16,MATCHSELEVES!$Y$14:$AF$600,8,FALSE),0)","v":0},{"$f":"IFERROR(VLOOKUP(OL16,MATCHSELEVES!$Y$14:$AG$600,9,FALSE),0)","v":0},"Fazilp_25",{"$f":"IFERROR(VLOOKUP(OR16,MATCHSELEVES!$Y$14:$AE$600,3,FALSE),0)","v":0},{"$f":"IFERROR(VLOOKUP(OR16,MATCHSELEVES!$Y$14:$AE$600,4,FALSE),0)","v":0},{"$f":"IFERROR(VLOOKUP(OR16,MATCHSELEVES!$Y$14:$AE$600,5,FALSE),0)","v":0},{"$f":"IFERROR(VLOOKUP(OR16,MATCHSELEVES!$Y$14:$AF$600,8,FALSE),0)","v":0},{"$f":"IFERROR(VLOOKUP(OR16,MATCHSELEVES!$Y$14:$AG$600,9,FALSE),0)","v":0},"Fazilp_26",{"$f":"IFERROR(VLOOKUP(OX16,MATCHSELEVES!$Y$14:$AE$600,3,FALSE),0)","v":0},{"$f":"IFERROR(VLOOKUP(OX16,MATCHSELEVES!$Y$14:$AE$600,4,FALSE),0)","v":0},{"$f":"IFERROR(VLOOKUP(OX16,MATCHSELEVES!$Y$14:$AE$600,5,FALSE),0)","v":0},{"$f":"IFERROR(VLOOKUP(OX16,MATCHSELEVES!$Y$14:$AF$600,8,FALSE),0)","v":0},{"$f":"IFERROR(VLOOKUP(OX16,MATCHSELEVES!$Y$14:$AG$600,9,FALSE),0)","v":0},"Fazilp_27",{"$f":"IFERROR(VLOOKUP(PD16,MATCHSELEVES!$Y$14:$AE$600,3,FALSE),0)","v":0},{"$f":"IFERROR(VLOOKUP(PD16,MATCHSELEVES!$Y$14:$AE$600,4,FALSE),0)","v":0},{"$f":"IFERROR(VLOOKUP(PD16,MATCHSELEVES!$Y$14:$AE$600,5,FALSE),0)","v":0},{"$f":"IFERROR(VLOOKUP(PD16,MATCHSELEVES!$Y$14:$AF$600,8,FALSE),0)","v":0},{"$f":"IFERROR(VLOOKUP(PD16,MATCHSELEVES!$Y$14:$AG$600,9,FALSE),0)","v":0},"Fazilp_28",{"$f":"IFERROR(VLOOKUP(PJ16,MATCHSELEVES!$Y$14:$AE$600,3,FALSE),0)","v":0},{"$f":"IFERROR(VLOOKUP(PJ16,MATCHSELEVES!$Y$14:$AE$600,4,FALSE),0)","v":0},{"$f":"IFERROR(VLOOKUP(PJ16,MATCHSELEVES!$Y$14:$AE$600,5,FALSE),0)","v":0},{"$f":"IFERROR(VLOOKUP(PJ16,MATCHSELEVES!$Y$14:$AF$600,8,FALSE),0)","v":0},{"$f":"IFERROR(VLOOKUP(PJ16,MATCHSELEVES!$Y$14:$AG$600,9,FALSE),0)","v":0},"Fazilp_29",{"$f":"IFERROR(VLOOKUP(PP16,MATCHSELEVES!$Y$14:$AE$600,3,FALSE),0)","v":0},{"$f":"IFERROR(VLOOKUP(PP16,MATCHSELEVES!$Y$14:$AE$600,4,FALSE),0)","v":0},{"$f":"IFERROR(VLOOKUP(PP16,MATCHSELEVES!$Y$14:$AE$600,5,FALSE),0)","v":0},{"$f":"IFERROR(VLOOKUP(PP16,MATCHSELEVES!$Y$14:$AF$600,8,FALSE),0)","v":0},{"$f":"IFERROR(VLOOKUP(PP16,MATCHSELEVES!$Y$14:$AG$600,9,FALSE),0)","v":0},"Fazilp_30",{"$f":"IFERROR(VLOOKUP(PV16,MATCHSELEVES!$Y$14:$AE$600,3,FALSE),0)","v":0},{"$f":"IFERROR(VLOOKUP(PV16,MATCHSELEVES!$Y$14:$AE$600,4,FALSE),0)","v":0},{"$f":"IFERROR(VLOOKUP(PV16,MATCHSELEVES!$Y$14:$AE$600,5,FALSE),0)","v":0},{"$f":"IFERROR(VLOOKUP(PV16,MATCHSELEVES!$Y$14:$AF$600,8,FALSE),0)","v":0},{"$f":"IFERROR(VLOOKUP(PV16,MATCHSELEVES!$Y$14:$AG$600,9,FALSE),0)","v":0},"Fazilp_31",{"$f":"IFERROR(VLOOKUP(QB16,MATCHSELEVES!$Y$14:$AE$600,3,FALSE),0)","v":0},{"$f":"IFERROR(VLOOKUP(QB16,MATCHSELEVES!$Y$14:$AE$600,4,FALSE),0)","v":0},{"$f":"IFERROR(VLOOKUP(QB16,MATCHSELEVES!$Y$14:$AE$600,5,FALSE),0)","v":0},{"$f":"IFERROR(VLOOKUP(QB16,MATCHSELEVES!$Y$14:$AF$600,8,FALSE),0)","v":0},{"$f":"IFERROR(VLOOKUP(QB16,MATCHSELEVES!$Y$14:$AG$600,9,FALSE),0)","v":0},"Fazilp_32",{"$f":"IFERROR(VLOOKUP(QH16,MATCHSELEVES!$Y$14:$AE$600,3,FALSE),0)","v":0},{"$f":"IFERROR(VLOOKUP(QH16,MATCHSELEVES!$Y$14:$AE$600,4,FALSE),0)","v":0},{"$f":"IFERROR(VLOOKUP(QH16,MATCHSELEVES!$Y$14:$AE$600,5,FALSE),0)","v":0},{"$f":"IFERROR(VLOOKUP(QH16,MATCHSELEVES!$Y$14:$AF$600,8,FALSE),0)","v":0},{"$f":"IFERROR(VLOOKUP(QH16,MATCHSELEVES!$Y$14:$AG$600,9,FALSE),0)","v":0},"Fazilp_33",{"$f":"IFERROR(VLOOKUP(QN16,MATCHSELEVES!$Y$14:$AE$600,3,FALSE),0)","v":0},{"$f":"IFERROR(VLOOKUP(QN16,MATCHSELEVES!$Y$14:$AE$600,4,FALSE),0)","v":0},{"$f":"IFERROR(VLOOKUP(QN16,MATCHSELEVES!$Y$14:$AE$600,5,FALSE),0)","v":0},{"$f":"IFERROR(VLOOKUP(QN16,MATCHSELEVES!$Y$14:$AF$600,8,FALSE),0)","v":0},{"$f":"IFERROR(VLOOKUP(QN16,MATCHSELEVES!$Y$14:$AG$600,9,FALSE),0)","v":0},"Fazilp_34",{"$f":"IFERROR(VLOOKUP(QT16,MATCHSELEVES!$Y$14:$AE$600,3,FALSE),0)","v":0},{"$f":"IFERROR(VLOOKUP(QT16,MATCHSELEVES!$Y$14:$AE$600,4,FALSE),0)","v":0},{"$f":"IFERROR(VLOOKUP(QT16,MATCHSELEVES!$Y$14:$AE$600,5,FALSE),0)","v":0},{"$f":"IFERROR(VLOOKUP(QT16,MATCHSELEVES!$Y$14:$AF$600,8,FALSE),0)","v":0},{"$f":"IFERROR(VLOOKUP(QT16,MATCHSELEVES!$Y$14:$AG$600,9,FALSE),0)","v":0},"Fazilp_35",{"$f":"IFERROR(VLOOKUP(QZ16,MATCHSELEVES!$Y$14:$AE$600,3,FALSE),0)","v":0},{"$f":"IFERROR(VLOOKUP(QZ16,MATCHSELEVES!$Y$14:$AE$600,4,FALSE),0)","v":0},{"$f":"IFERROR(VLOOKUP(QZ16,MATCHSELEVES!$Y$14:$AE$600,5,FALSE),0)","v":0},{"$f":"IFERROR(VLOOKUP(QZ16,MATCHSELEVES!$Y$14:$AF$600,8,FALSE),0)","v":0},{"$f":"IFERROR(VLOOKUP(QZ16,MATCHSELEVES!$Y$14:$AG$600,9,FALSE),0)","v":0},"Fazilp_36",{"$f":"IFERROR(VLOOKUP(RF16,MATCHSELEVES!$Y$14:$AE$600,3,FALSE),0)","v":0},{"$f":"IFERROR(VLOOKUP(RF16,MATCHSELEVES!$Y$14:$AE$600,4,FALSE),0)","v":0},{"$f":"IFERROR(VLOOKUP(RF16,MATCHSELEVES!$Y$14:$AE$600,5,FALSE),0)","v":0},{"$f":"IFERROR(VLOOKUP(RF16,MATCHSELEVES!$Y$14:$AF$600,8,FALSE),0)","v":0},{"$f":"IFERROR(VLOOKUP(RF16,MATCHSELEVES!$Y$14:$AG$600,9,FALSE),0)","v":0},"Fazilp_37",{"$f":"IFERROR(VLOOKUP(RL16,MATCHSELEVES!$Y$14:$AE$600,3,FALSE),0)","v":0},{"$f":"IFERROR(VLOOKUP(RL16,MATCHSELEVES!$Y$14:$AE$600,4,FALSE),0)","v":0},{"$f":"IFERROR(VLOOKUP(RL16,MATCHSELEVES!$Y$14:$AE$600,5,FALSE),0)","v":0},{"$f":"IFERROR(VLOOKUP(RL16,MATCHSELEVES!$Y$14:$AF$600,8,FALSE),0)","v":0},{"$f":"IFERROR(VLOOKUP(RL16,MATCHSELEVES!$Y$14:$AG$600,9,FALSE),0)","v":0},"Fazilp_38",{"$f":"IFERROR(VLOOKUP(RR16,MATCHSELEVES!$Y$14:$AE$600,3,FALSE),0)","v":0},{"$f":"IFERROR(VLOOKUP(RR16,MATCHSELEVES!$Y$14:$AE$600,4,FALSE),0)","v":0},{"$f":"IFERROR(VLOOKUP(RR16,MATCHSELEVES!$Y$14:$AE$600,5,FALSE),0)","v":0},{"$f":"IFERROR(VLOOKUP(RR16,MATCHSELEVES!$Y$14:$AF$600,8,FALSE),0)","v":0},{"$f":"IFERROR(VLOOKUP(RR16,MATCHSELEVES!$Y$14:$AG$600,9,FALSE),0)","v":0},"Fazilp_39",{"$f":"IFERROR(VLOOKUP(RX16,MATCHSELEVES!$Y$14:$AE$600,3,FALSE),0)","v":0},{"$f":"IFERROR(VLOOKUP(RX16,MATCHSELEVES!$Y$14:$AE$600,4,FALSE),0)","v":0},{"$f":"IFERROR(VLOOKUP(RX16,MATCHSELEVES!$Y$14:$AE$600,5,FALSE),0)","v":0},{"$f":"IFERROR(VLOOKUP(RX16,MATCHSELEVES!$Y$14:$AF$600,8,FALSE),0)","v":0},{"$f":"IFERROR(VLOOKUP(RX16,MATCHSELEVES!$Y$14:$AG$600,9,FALSE),0)","v":0},"Fazilp_40",{"$f":"IFERROR(VLOOKUP(SD16,MATCHSELEVES!$Y$14:$AE$600,3,FALSE),0)","v":0},{"$f":"IFERROR(VLOOKUP(SD16,MATCHSELEVES!$Y$14:$AE$600,4,FALSE),0)","v":0},{"$f":"IFERROR(VLOOKUP(SD16,MATCHSELEVES!$Y$14:$AE$600,5,FALSE),0)","v":0},{"$f":"IFERROR(VLOOKUP(SD16,MATCHSELEVES!$Y$14:$AF$600,8,FALSE),0)","v":0},{"$f":"IFERROR(VLOOKUP(SD16,MATCHSELEVES!$Y$14:$AG$600,9,FALSE),0)","v":0}]
[14,null,{"$f":"MD1POINT!C17","v":"Hakim"},{"$f":"MD1POINT!D17","v":1},{"$f":"COUNTIF(MATCHSELEVES!$Z$14:$Z$600,C17)+COUNTIF(MATCHSELEVES!$Z$14:$Z$600,$C17&\"p\")","v":0},1,{"$f":"COUNTIF(MATCHSELEVES!$F$14:$H$249,C17)","v":0},1,0,1,0,1,0,1,{"$f":"Y17+AE17+AK17+AQ17+AW17+BC17+BI17+BO17+BU17+CA17+CG17+CM17+CS17+CY17+DE17+DK17+DQ17+DW17+EC17+EI17+EO17+EU17+FA17+FG17+FM17+FS17+FY17+GE17+GK17+GQ17+GW17+4+HI17+HO17+HU17+IA17+HC17+IG17+IM17+IY17+IS17+JH17+JN17+JZ17+JT17+KF17+KR17+KX17+LJ17+LP17+LV17+LD17+MB17+MH17+MN17+MZ17+MT17+NF17+NL17+NR17+NX17+OD17+OJ17+OP17+OV17+PB17+PH17+PT17+PN17+PZ17+QF17+QL17+QR17+RD17+QX17+RJ17+RP17+RV17+SB17+SH17+KL17+Tableau10[[#This Row],[Nombre de matchs joués]]*2","v":4},1,{"$f":"(Tableau10[[#This Row],[CLASSEMENT1]]+Tableau10[[#This Row],[CLASSEMENT2]]+Tableau10[[#This Row],[CLASSEMENT3]]+Tableau10[[#This Row],[CLASSEMENT4]]+Tableau10[[#This Row],[CLASSEMENT5]]+Tableau10[[#This Row],[CLASSEMENT6]])/6","v":1},{"$f":"RANK(Tableau10[[#This Row],[MOYENNE CLASSEMENTS]],Tableau10[MOYENNE CLASSEMENTS],1)","v":1},null,{"$f":"Tableau10[[#This Row],[CLASSEMENT1]]","v":1},"Hakim_1",{"$f":"IFERROR(VLOOKUP(U17,MATCHSELEVES!$Y$14:$AE$600,3,FALSE),0)","v":0},{"$f":"IFERROR(VLOOKUP(U17,MATCHSELEVES!$Y$14:$AE$600,4,FALSE),0)","v":0},{"$f":"IFERROR(VLOOKUP(U17,MATCHSELEVES!$Y$14:$AE$600,5,FALSE),0)","v":0},{"$f":"IFERROR(VLOOKUP(U17,MATCHSELEVES!$Y$14:$AF$600,8,FALSE),0)","v":0},{"$f":"IFERROR(VLOOKUP(U17,MATCHSELEVES!$Y$14:$AG$600,9,FALSE),0)","v":0},"Hakim_2",{"$f":"IFERROR(VLOOKUP(AA17,MATCHSELEVES!$Y$14:$AE$600,3,FALSE),0)","v":0},{"$f":"IFERROR(VLOOKUP(AA17,MATCHSELEVES!$Y$14:$AE$600,4,FALSE),0)","v":0},{"$f":"IFERROR(VLOOKUP(AA17,MATCHSELEVES!$Y$14:$AE$600,5,FALSE),0)","v":0},{"$f":"IFERROR(VLOOKUP(AA17,MATCHSELEVES!$Y$14:$AF$600,8,FALSE),0)","v":0},{"$f":"IFERROR(VLOOKUP(AA17,MATCHSELEVES!$Y$14:$AG$600,9,FALSE),0)","v":0},"Hakim_3",{"$f":"IFERROR(VLOOKUP(AG17,MATCHSELEVES!$Y$14:$AE$600,3,FALSE),0)","v":0},{"$f":"IFERROR(VLOOKUP(AG17,MATCHSELEVES!$Y$14:$AE$600,4,FALSE),0)","v":0},{"$f":"IFERROR(VLOOKUP(AG17,MATCHSELEVES!$Y$14:$AE$600,5,FALSE),0)","v":0},{"$f":"IFERROR(VLOOKUP(AG17,MATCHSELEVES!$Y$14:$AF$600,8,FALSE),0)","v":0},{"$f":"IFERROR(VLOOKUP(AG17,MATCHSELEVES!$Y$14:$AG$600,9,FALSE),0)","v":0},"Hakim_4",{"$f":"IFERROR(VLOOKUP(AM17,MATCHSELEVES!$Y$14:$AE$600,3,FALSE),0)","v":0},{"$f":"IFERROR(VLOOKUP(AM17,MATCHSELEVES!$Y$14:$AE$600,4,FALSE),0)","v":0},{"$f":"IFERROR(VLOOKUP(AM17,MATCHSELEVES!$Y$14:$AE$600,5,FALSE),0)","v":0},{"$f":"IFERROR(VLOOKUP(AM17,MATCHSELEVES!$Y$14:$AF$600,8,FALSE),0)","v":0},{"$f":"IFERROR(VLOOKUP(AM17,MATCHSELEVES!$Y$14:$AG$600,9,FALSE),0)","v":0},"Hakim_5",{"$f":"IFERROR(VLOOKUP(AS17,MATCHSELEVES!$Y$14:$AE$600,3,FALSE),0)","v":0},{"$f":"IFERROR(VLOOKUP(AS17,MATCHSELEVES!$Y$14:$AE$600,4,FALSE),0)","v":0},{"$f":"IFERROR(VLOOKUP(AS17,MATCHSELEVES!$Y$14:$AE$600,5,FALSE),0)","v":0},{"$f":"IFERROR(VLOOKUP(AS17,MATCHSELEVES!$Y$14:$AF$600,8,FALSE),0)","v":0},{"$f":"IFERROR(VLOOKUP(AS17,MATCHSELEVES!$Y$14:$AG$600,9,FALSE),0)","v":0},"Hakim_6",{"$f":"IFERROR(VLOOKUP(AY17,MATCHSELEVES!$Y$14:$AE$600,3,FALSE),0)","v":0},{"$f":"IFERROR(VLOOKUP(AY17,MATCHSELEVES!$Y$14:$AE$600,4,FALSE),0)","v":0},{"$f":"IFERROR(VLOOKUP(AY17,MATCHSELEVES!$Y$14:$AE$600,5,FALSE),0)","v":0},{"$f":"IFERROR(VLOOKUP(AY17,MATCHSELEVES!$Y$14:$AF$600,8,FALSE),0)","v":0},{"$f":"IFERROR(VLOOKUP(AY17,MATCHSELEVES!$Y$14:$AG$600,9,FALSE),0)","v":0},"Hakim_7",{"$f":"IFERROR(VLOOKUP(BE17,MATCHSELEVES!$Y$14:$AE$600,3,FALSE),0)","v":0},{"$f":"IFERROR(VLOOKUP(BE17,MATCHSELEVES!$Y$14:$AE$600,4,FALSE),0)","v":0},{"$f":"IFERROR(VLOOKUP(BE17,MATCHSELEVES!$Y$14:$AE$600,5,FALSE),0)","v":0},{"$f":"IFERROR(VLOOKUP(BE17,MATCHSELEVES!$Y$14:$AF$600,8,FALSE),0)","v":0},{"$f":"IFERROR(VLOOKUP(BE17,MATCHSELEVES!$Y$14:$AG$600,9,FALSE),0)","v":0},"Hakim_8",{"$f":"IFERROR(VLOOKUP(BK17,MATCHSELEVES!$Y$14:$AE$600,3,FALSE),0)","v":0},{"$f":"IFERROR(VLOOKUP(BK17,MATCHSELEVES!$Y$14:$AE$600,4,FALSE),0)","v":0},{"$f":"IFERROR(VLOOKUP(BK17,MATCHSELEVES!$Y$14:$AE$600,5,FALSE),0)","v":0},{"$f":"IFERROR(VLOOKUP(BK17,MATCHSELEVES!$Y$14:$AF$600,8,FALSE),0)","v":0},{"$f":"IFERROR(VLOOKUP(BK17,MATCHSELEVES!$Y$14:$AG$600,9,FALSE),0)","v":0},"Hakim_9",{"$f":"IFERROR(VLOOKUP(BQ17,MATCHSELEVES!$Y$14:$AE$600,3,FALSE),0)","v":0},{"$f":"IFERROR(VLOOKUP(BQ17,MATCHSELEVES!$Y$14:$AE$600,4,FALSE),0)","v":0},{"$f":"IFERROR(VLOOKUP(BQ17,MATCHSELEVES!$Y$14:$AE$600,5,FALSE),0)","v":0},{"$f":"IFERROR(VLOOKUP(BQ17,MATCHSELEVES!$Y$14:$AF$600,8,FALSE),0)","v":0},{"$f":"IFERROR(VLOOKUP(BQ17,MATCHSELEVES!$Y$14:$AG$600,9,FALSE),0)","v":0},"Hakim_10",{"$f":"IFERROR(VLOOKUP(BW17,MATCHSELEVES!$Y$14:$AE$600,3,FALSE),0)","v":0},{"$f":"IFERROR(VLOOKUP(BW17,MATCHSELEVES!$Y$14:$AE$600,4,FALSE),0)","v":0},{"$f":"IFERROR(VLOOKUP(BW17,MATCHSELEVES!$Y$14:$AE$600,5,FALSE),0)","v":0},{"$f":"IFERROR(VLOOKUP(BW17,MATCHSELEVES!$Y$14:$AF$600,8,FALSE),0)","v":0},{"$f":"IFERROR(VLOOKUP(BW17,MATCHSELEVES!$Y$14:$AG$600,9,FALSE),0)","v":0},"Hakim_11",{"$f":"IFERROR(VLOOKUP(CC17,MATCHSELEVES!$Y$14:$AE$600,3,FALSE),0)","v":0},{"$f":"IFERROR(VLOOKUP(CC17,MATCHSELEVES!$Y$14:$AE$600,4,FALSE),0)","v":0},{"$f":"IFERROR(VLOOKUP(CC17,MATCHSELEVES!$Y$14:$AE$600,5,FALSE),0)","v":0},{"$f":"IFERROR(VLOOKUP(CC17,MATCHSELEVES!$Y$14:$AF$600,8,FALSE),0)","v":0},{"$f":"IFERROR(VLOOKUP(CC17,MATCHSELEVES!$Y$14:$AG$600,9,FALSE),0)","v":0},"Hakim_12",{"$f":"IFERROR(VLOOKUP(CI17,MATCHSELEVES!$Y$14:$AE$600,3,FALSE),0)","v":0},{"$f":"IFERROR(VLOOKUP(CI17,MATCHSELEVES!$Y$14:$AE$600,4,FALSE),0)","v":0},{"$f":"IFERROR(VLOOKUP(CI17,MATCHSELEVES!$Y$14:$AE$600,5,FALSE),0)","v":0},{"$f":"IFERROR(VLOOKUP(CI17,MATCHSELEVES!$Y$14:$AF$600,8,FALSE),0)","v":0},{"$f":"IFERROR(VLOOKUP(CI17,MATCHSELEVES!$Y$14:$AG$600,9,FALSE),0)","v":0},"Hakim_13",{"$f":"IFERROR(VLOOKUP(CO17,MATCHSELEVES!$Y$14:$AE$600,3,FALSE),0)","v":0},{"$f":"IFERROR(VLOOKUP(CO17,MATCHSELEVES!$Y$14:$AE$600,4,FALSE),0)","v":0},{"$f":"IFERROR(VLOOKUP(CO17,MATCHSELEVES!$Y$14:$AE$600,5,FALSE),0)","v":0},{"$f":"IFERROR(VLOOKUP(CO17,MATCHSELEVES!$Y$14:$AF$600,8,FALSE),0)","v":0},{"$f":"IFERROR(VLOOKUP(CO17,MATCHSELEVES!$Y$14:$AG$600,9,FALSE),0)","v":0},"Hakim_14",{"$f":"IFERROR(VLOOKUP(CU17,MATCHSELEVES!$Y$14:$AE$600,3,FALSE),0)","v":0},{"$f":"IFERROR(VLOOKUP(CU17,MATCHSELEVES!$Y$14:$AE$600,4,FALSE),0)","v":0},{"$f":"IFERROR(VLOOKUP(CU17,MATCHSELEVES!$Y$14:$AE$600,5,FALSE),0)","v":0},{"$f":"IFERROR(VLOOKUP(CU17,MATCHSELEVES!$Y$14:$AF$600,8,FALSE),0)","v":0},{"$f":"IFERROR(VLOOKUP(CU17,MATCHSELEVES!$Y$14:$AG$600,9,FALSE),0)","v":0},"Hakim_15",{"$f":"IFERROR(VLOOKUP(DA17,MATCHSELEVES!$Y$14:$AE$600,3,FALSE),0)","v":0},{"$f":"IFERROR(VLOOKUP(DA17,MATCHSELEVES!$Y$14:$AE$600,4,FALSE),0)","v":0},{"$f":"IFERROR(VLOOKUP(DA17,MATCHSELEVES!$Y$14:$AE$600,5,FALSE),0)","v":0},{"$f":"IFERROR(VLOOKUP(DA17,MATCHSELEVES!$Y$14:$AF$600,8,FALSE),0)","v":0},{"$f":"IFERROR(VLOOKUP(DA17,MATCHSELEVES!$Y$14:$AG$600,9,FALSE),0)","v":0},"Hakim_16",{"$f":"IFERROR(VLOOKUP(DG17,MATCHSELEVES!$Y$14:$AE$600,3,FALSE),0)","v":0},{"$f":"IFERROR(VLOOKUP(DG17,MATCHSELEVES!$Y$14:$AE$600,4,FALSE),0)","v":0},{"$f":"IFERROR(VLOOKUP(DG17,MATCHSELEVES!$Y$14:$AE$600,5,FALSE),0)","v":0},{"$f":"IFERROR(VLOOKUP(DG17,MATCHSELEVES!$Y$14:$AF$600,8,FALSE),0)","v":0},{"$f":"IFERROR(VLOOKUP(DG17,MATCHSELEVES!$Y$14:$AG$600,9,FALSE),0)","v":0},"Hakim_17",{"$f":"IFERROR(VLOOKUP(DM17,MATCHSELEVES!$Y$14:$AE$600,3,FALSE),0)","v":0},{"$f":"IFERROR(VLOOKUP(DM17,MATCHSELEVES!$Y$14:$AE$600,4,FALSE),0)","v":0},{"$f":"IFERROR(VLOOKUP(DM17,MATCHSELEVES!$Y$14:$AE$600,5,FALSE),0)","v":0},{"$f":"IFERROR(VLOOKUP(DM17,MATCHSELEVES!$Y$14:$AF$600,8,FALSE),0)","v":0},{"$f":"IFERROR(VLOOKUP(DM17,MATCHSELEVES!$Y$14:$AG$600,9,FALSE),0)","v":0},"Hakim_18",{"$f":"IFERROR(VLOOKUP(DS17,MATCHSELEVES!$Y$14:$AE$600,3,FALSE),0)","v":0},{"$f":"IFERROR(VLOOKUP(DS17,MATCHSELEVES!$Y$14:$AE$600,4,FALSE),0)","v":0},{"$f":"IFERROR(VLOOKUP(DS17,MATCHSELEVES!$Y$14:$AE$600,5,FALSE),0)","v":0},{"$f":"IFERROR(VLOOKUP(DS17,MATCHSELEVES!$Y$14:$AF$600,8,FALSE),0)","v":0},{"$f":"IFERROR(VLOOKUP(DS17,MATCHSELEVES!$Y$14:$AG$600,9,FALSE),0)","v":0},"Hakim_19",{"$f":"IFERROR(VLOOKUP(DY17,MATCHSELEVES!$Y$14:$AE$600,3,FALSE),0)","v":0},{"$f":"IFERROR(VLOOKUP(DY17,MATCHSELEVES!$Y$14:$AE$600,4,FALSE),0)","v":0},{"$f":"IFERROR(VLOOKUP(DY17,MATCHSELEVES!$Y$14:$AE$600,5,FALSE),0)","v":0},{"$f":"IFERROR(VLOOKUP(DY17,MATCHSELEVES!$Y$14:$AF$600,8,FALSE),0)","v":0},{"$f":"IFERROR(VLOOKUP(DY17,MATCHSELEVES!$Y$14:$AG$600,9,FALSE),0)","v":0},"Hakim_20",{"$f":"IFERROR(VLOOKUP(EE17,MATCHSELEVES!$Y$14:$AE$600,3,FALSE),0)","v":0},{"$f":"IFERROR(VLOOKUP(EE17,MATCHSELEVES!$Y$14:$AE$600,4,FALSE),0)","v":0},{"$f":"IFERROR(VLOOKUP(EE17,MATCHSELEVES!$Y$14:$AE$600,5,FALSE),0)","v":0},{"$f":"IFERROR(VLOOKUP(EE17,MATCHSELEVES!$Y$14:$AF$600,8,FALSE),0)","v":0},{"$f":"IFERROR(VLOOKUP(EE17,MATCHSELEVES!$Y$14:$AG$600,9,FALSE),0)","v":0},"Hakim_21",{"$f":"IFERROR(VLOOKUP(EK17,MATCHSELEVES!$Y$14:$AE$600,3,FALSE),0)","v":0},{"$f":"IFERROR(VLOOKUP(EK17,MATCHSELEVES!$Y$14:$AE$600,4,FALSE),0)","v":0},{"$f":"IFERROR(VLOOKUP(EK17,MATCHSELEVES!$Y$14:$AE$600,5,FALSE),0)","v":0},{"$f":"IFERROR(VLOOKUP(EK17,MATCHSELEVES!$Y$14:$AF$600,8,FALSE),0)","v":0},{"$f":"IFERROR(VLOOKUP(EK17,MATCHSELEVES!$Y$14:$AG$600,9,FALSE),0)","v":0},"Hakim_22",{"$f":"IFERROR(VLOOKUP(EQ17,MATCHSELEVES!$Y$14:$AE$600,3,FALSE),0)","v":0},{"$f":"IFERROR(VLOOKUP(EQ17,MATCHSELEVES!$Y$14:$AE$600,4,FALSE),0)","v":0},{"$f":"IFERROR(VLOOKUP(EQ17,MATCHSELEVES!$Y$14:$AE$600,5,FALSE),0)","v":0},{"$f":"IFERROR(VLOOKUP(EQ17,MATCHSELEVES!$Y$14:$AF$600,8,FALSE),0)","v":0},{"$f":"IFERROR(VLOOKUP(EQ17,MATCHSELEVES!$Y$14:$AG$600,9,FALSE),0)","v":0},"Hakim_23",{"$f":"IFERROR(VLOOKUP(EW17,MATCHSELEVES!$Y$14:$AE$600,3,FALSE),0)","v":0},{"$f":"IFERROR(VLOOKUP(EW17,MATCHSELEVES!$Y$14:$AE$600,4,FALSE),0)","v":0},{"$f":"IFERROR(VLOOKUP(EW17,MATCHSELEVES!$Y$14:$AE$600,5,FALSE),0)","v":0},{"$f":"IFERROR(VLOOKUP(EW17,MATCHSELEVES!$Y$14:$AF$600,8,FALSE),0)","v":0},{"$f":"IFERROR(VLOOKUP(EW17,MATCHSELEVES!$Y$14:$AG$600,9,FALSE),0)","v":0},"Hakim_24",{"$f":"IFERROR(VLOOKUP(FC17,MATCHSELEVES!$Y$14:$AE$600,3,FALSE),0)","v":0},{"$f":"IFERROR(VLOOKUP(FC17,MATCHSELEVES!$Y$14:$AE$600,4,FALSE),0)","v":0},{"$f":"IFERROR(VLOOKUP(FC17,MATCHSELEVES!$Y$14:$AE$600,5,FALSE),0)","v":0},{"$f":"IFERROR(VLOOKUP(FC17,MATCHSELEVES!$Y$14:$AF$600,8,FALSE),0)","v":0},{"$f":"IFERROR(VLOOKUP(FC17,MATCHSELEVES!$Y$14:$AG$600,9,FALSE),0)","v":0},"Hakim_25",{"$f":"IFERROR(VLOOKUP(FI17,MATCHSELEVES!$Y$14:$AE$600,3,FALSE),0)","v":0},{"$f":"IFERROR(VLOOKUP(FI17,MATCHSELEVES!$Y$14:$AE$600,4,FALSE),0)","v":0},{"$f":"IFERROR(VLOOKUP(FI17,MATCHSELEVES!$Y$14:$AE$600,5,FALSE),0)","v":0},{"$f":"IFERROR(VLOOKUP(FI17,MATCHSELEVES!$Y$14:$AF$600,8,FALSE),0)","v":0},{"$f":"IFERROR(VLOOKUP(FI17,MATCHSELEVES!$Y$14:$AG$600,9,FALSE),0)","v":0},"Hakim_26",{"$f":"IFERROR(VLOOKUP(FO17,MATCHSELEVES!$Y$14:$AE$600,3,FALSE),0)","v":0},{"$f":"IFERROR(VLOOKUP(FO17,MATCHSELEVES!$Y$14:$AE$600,4,FALSE),0)","v":0},{"$f":"IFERROR(VLOOKUP(FO17,MATCHSELEVES!$Y$14:$AE$600,5,FALSE),0)","v":0},{"$f":"IFERROR(VLOOKUP(FO17,MATCHSELEVES!$Y$14:$AF$600,8,FALSE),0)","v":0},{"$f":"IFERROR(VLOOKUP(FO17,MATCHSELEVES!$Y$14:$AG$600,9,FALSE),0)","v":0},"Hakim_27",{"$f":"IFERROR(VLOOKUP(FU17,MATCHSELEVES!$Y$14:$AE$600,3,FALSE),0)","v":0},{"$f":"IFERROR(VLOOKUP(FU17,MATCHSELEVES!$Y$14:$AE$600,4,FALSE),0)","v":0},{"$f":"IFERROR(VLOOKUP(FU17,MATCHSELEVES!$Y$14:$AE$600,5,FALSE),0)","v":0},{"$f":"IFERROR(VLOOKUP(FU17,MATCHSELEVES!$Y$14:$AF$600,8,FALSE),0)","v":0},{"$f":"IFERROR(VLOOKUP(FU17,MATCHSELEVES!$Y$14:$AG$600,9,FALSE),0)","v":0},"Hakim_28",{"$f":"IFERROR(VLOOKUP(GA17,MATCHSELEVES!$Y$14:$AE$600,3,FALSE),0)","v":0},{"$f":"IFERROR(VLOOKUP(GA17,MATCHSELEVES!$Y$14:$AE$600,4,FALSE),0)","v":0},{"$f":"IFERROR(VLOOKUP(GA17,MATCHSELEVES!$Y$14:$AE$600,5,FALSE),0)","v":0},{"$f":"IFERROR(VLOOKUP(GA17,MATCHSELEVES!$Y$14:$AF$600,8,FALSE),0)","v":0},{"$f":"IFERROR(VLOOKUP(GA17,MATCHSELEVES!$Y$14:$AG$600,9,FALSE),0)","v":0},"Hakim_29",{"$f":"IFERROR(VLOOKUP(GG17,MATCHSELEVES!$Y$14:$AE$600,3,FALSE),0)","v":0},{"$f":"IFERROR(VLOOKUP(GG17,MATCHSELEVES!$Y$14:$AE$600,4,FALSE),0)","v":0},{"$f":"IFERROR(VLOOKUP(GG17,MATCHSELEVES!$Y$14:$AE$600,5,FALSE),0)","v":0},{"$f":"IFERROR(VLOOKUP(GG17,MATCHSELEVES!$Y$14:$AF$600,8,FALSE),0)","v":0},{"$f":"IFERROR(VLOOKUP(GG17,MATCHSELEVES!$Y$14:$AG$600,9,FALSE),0)","v":0},"Hakim_30",{"$f":"IFERROR(VLOOKUP(GM17,MATCHSELEVES!$Y$14:$AE$600,3,FALSE),0)","v":0},{"$f":"IFERROR(VLOOKUP(GM17,MATCHSELEVES!$Y$14:$AE$600,4,FALSE),0)","v":0},{"$f":"IFERROR(VLOOKUP(GM17,MATCHSELEVES!$Y$14:$AE$600,5,FALSE),0)","v":0},{"$f":"IFERROR(VLOOKUP(GM17,MATCHSELEVES!$Y$14:$AF$600,8,FALSE),0)","v":0},{"$f":"IFERROR(VLOOKUP(GM17,MATCHSELEVES!$Y$14:$AG$600,9,FALSE),0)","v":0},"Hakim_31",{"$f":"IFERROR(VLOOKUP(GS17,MATCHSELEVES!$Y$14:$AE$600,3,FALSE),0)","v":0},{"$f":"IFERROR(VLOOKUP(GS17,MATCHSELEVES!$Y$14:$AE$600,4,FALSE),0)","v":0},{"$f":"IFERROR(VLOOKUP(GS17,MATCHSELEVES!$Y$14:$AE$600,5,FALSE),0)","v":0},{"$f":"IFERROR(VLOOKUP(GS17,MATCHSELEVES!$Y$14:$AF$600,8,FALSE),0)","v":0},{"$f":"IFERROR(VLOOKUP(GS17,MATCHSELEVES!$Y$14:$AG$600,9,FALSE),0)","v":0},"Hakim_32",{"$f":"IFERROR(VLOOKUP(GY17,MATCHSELEVES!$Y$14:$AE$600,3,FALSE),0)","v":0},{"$f":"IFERROR(VLOOKUP(GY17,MATCHSELEVES!$Y$14:$AE$600,4,FALSE),0)","v":0},{"$f":"IFERROR(VLOOKUP(GY17,MATCHSELEVES!$Y$14:$AE$600,5,FALSE),0)","v":0},{"$f":"IFERROR(VLOOKUP(GY17,MATCHSELEVES!$Y$14:$AF$600,8,FALSE),0)","v":0},{"$f":"IFERROR(VLOOKUP(GY17,MATCHSELEVES!$Y$14:$AG$600,9,FALSE),0)","v":0},"Hakim_33",{"$f":"IFERROR(VLOOKUP(HE17,MATCHSELEVES!$Y$14:$AE$600,3,FALSE),0)","v":0},{"$f":"IFERROR(VLOOKUP(HE17,MATCHSELEVES!$Y$14:$AE$600,4,FALSE),0)","v":0},{"$f":"IFERROR(VLOOKUP(HE17,MATCHSELEVES!$Y$14:$AE$600,5,FALSE),0)","v":0},{"$f":"IFERROR(VLOOKUP(HE17,MATCHSELEVES!$Y$14:$AF$600,8,FALSE),0)","v":0},{"$f":"IFERROR(VLOOKUP(HE17,MATCHSELEVES!$Y$14:$AG$600,9,FALSE),0)","v":0},"Hakim_34",{"$f":"IFERROR(VLOOKUP(HK17,MATCHSELEVES!$Y$14:$AE$600,3,FALSE),0)","v":0},{"$f":"IFERROR(VLOOKUP(HK17,MATCHSELEVES!$Y$14:$AE$600,4,FALSE),0)","v":0},{"$f":"IFERROR(VLOOKUP(HK17,MATCHSELEVES!$Y$14:$AE$600,5,FALSE),0)","v":0},{"$f":"IFERROR(VLOOKUP(HK17,MATCHSELEVES!$Y$14:$AF$600,8,FALSE),0)","v":0},{"$f":"IFERROR(VLOOKUP(HK17,MATCHSELEVES!$Y$14:$AG$600,9,FALSE),0)","v":0},"Hakim_35",{"$f":"IFERROR(VLOOKUP(HQ17,MATCHSELEVES!$Y$14:$AE$600,3,FALSE),0)","v":0},{"$f":"IFERROR(VLOOKUP(HQ17,MATCHSELEVES!$Y$14:$AE$600,4,FALSE),0)","v":0},{"$f":"IFERROR(VLOOKUP(HQ17,MATCHSELEVES!$Y$14:$AE$600,5,FALSE),0)","v":0},{"$f":"IFERROR(VLOOKUP(HQ17,MATCHSELEVES!$Y$14:$AF$600,8,FALSE),0)","v":0},{"$f":"IFERROR(VLOOKUP(HQ17,MATCHSELEVES!$Y$14:$AG$600,9,FALSE),0)","v":0},"Hakim_36",{"$f":"IFERROR(VLOOKUP(HW17,MATCHSELEVES!$Y$14:$AE$600,3,FALSE),0)","v":0},{"$f":"IFERROR(VLOOKUP(HW17,MATCHSELEVES!$Y$14:$AE$600,4,FALSE),0)","v":0},{"$f":"IFERROR(VLOOKUP(HW17,MATCHSELEVES!$Y$14:$AE$600,5,FALSE),0)","v":0},{"$f":"IFERROR(VLOOKUP(HW17,MATCHSELEVES!$Y$14:$AF$600,8,FALSE),0)","v":0},{"$f":"IFERROR(VLOOKUP(HW17,MATCHSELEVES!$Y$14:$AG$600,9,FALSE),0)","v":0},"Hakim_37",{"$f":"IFERROR(VLOOKUP(IC17,MATCHSELEVES!$Y$14:$AE$600,3,FALSE),0)","v":0},{"$f":"IFERROR(VLOOKUP(IC17,MATCHSELEVES!$Y$14:$AE$600,4,FALSE),0)","v":0},{"$f":"IFERROR(VLOOKUP(IC17,MATCHSELEVES!$Y$14:$AE$600,5,FALSE),0)","v":0},{"$f":"IFERROR(VLOOKUP(IC17,MATCHSELEVES!$Y$14:$AF$600,8,FALSE),0)","v":0},{"$f":"IFERROR(VLOOKUP(IC17,MATCHSELEVES!$Y$14:$AG$600,9,FALSE),0)","v":0},"Hakim_38",{"$f":"IFERROR(VLOOKUP(II17,MATCHSELEVES!$Y$14:$AE$600,3,FALSE),0)","v":0},{"$f":"IFERROR(VLOOKUP(II17,MATCHSELEVES!$Y$14:$AE$600,4,FALSE),0)","v":0},{"$f":"IFERROR(VLOOKUP(II17,MATCHSELEVES!$Y$14:$AE$600,5,FALSE),0)","v":0},{"$f":"IFERROR(VLOOKUP(II17,MATCHSELEVES!$Y$14:$AF$600,8,FALSE),0)","v":0},{"$f":"IFERROR(VLOOKUP(II17,MATCHSELEVES!$Y$14:$AG$600,9,FALSE),0)","v":0},"Hakim_39",{"$f":"IFERROR(VLOOKUP(IO17,MATCHSELEVES!$Y$14:$AE$600,3,FALSE),0)","v":0},{"$f":"IFERROR(VLOOKUP(IO17,MATCHSELEVES!$Y$14:$AE$600,4,FALSE),0)","v":0},{"$f":"IFERROR(VLOOKUP(IO17,MATCHSELEVES!$Y$14:$AE$600,5,FALSE),0)","v":0},{"$f":"IFERROR(VLOOKUP(IO17,MATCHSELEVES!$Y$14:$AF$600,8,FALSE),0)","v":0},{"$f":"IFERROR(VLOOKUP(IO17,MATCHSELEVES!$Y$14:$AG$600,9,FALSE),0)","v":0},"Hakim_40",{"$f":"IFERROR(VLOOKUP(IU17,MATCHSELEVES!$Y$14:$AE$600,3,FALSE),0)","v":0},{"$f":"IFERROR(VLOOKUP(IU17,MATCHSELEVES!$Y$14:$AE$600,4,FALSE),0)","v":0},{"$f":"IFERROR(VLOOKUP(IU17,MATCHSELEVES!$Y$14:$AE$600,5,FALSE),0)","v":0},{"$f":"IFERROR(VLOOKUP(IU17,MATCHSELEVES!$Y$14:$AF$600,8,FALSE),0)","v":0},{"$f":"IFERROR(VLOOKUP(IU17,MATCHSELEVES!$Y$14:$AG$600,9,FALSE),0)","v":0},{"$f":"Tableau10[[#This Row],[CLASSE]]","v":"Hakim"},1,{"$f":"MD1POINT!D17","v":1},"Hakimp_1",{"$f":"IFERROR(VLOOKUP(JD17,MATCHSELEVES!$Y$14:$AE$600,3,FALSE),0)","v":0},{"$f":"IFERROR(VLOOKUP(JD17,MATCHSELEVES!$Y$14:$AE$600,4,FALSE),0)","v":0},{"$f":"IFERROR(VLOOKUP(JD17,MATCHSELEVES!$Y$14:$AE$600,5,FALSE),0)","v":0},{"$f":"IFERROR(VLOOKUP(JD17,MATCHSELEVES!$Y$14:$AF$600,8,FALSE),0)","v":0},{"$f":"IFERROR(VLOOKUP(JD17,MATCHSELEVES!$Y$14:$AG$600,9,FALSE),0)","v":0},"Hakimp_2",{"$f":"IFERROR(VLOOKUP(JJ17,MATCHSELEVES!$Y$14:$AE$600,3,FALSE),0)","v":0},{"$f":"IFERROR(VLOOKUP(JJ17,MATCHSELEVES!$Y$14:$AE$600,4,FALSE),0)","v":0},{"$f":"IFERROR(VLOOKUP(JJ17,MATCHSELEVES!$Y$14:$AE$600,5,FALSE),0)","v":0},{"$f":"IFERROR(VLOOKUP(JJ17,MATCHSELEVES!$Y$14:$AF$600,8,FALSE),0)","v":0},{"$f":"IFERROR(VLOOKUP(JJ17,MATCHSELEVES!$Y$14:$AG$600,9,FALSE),0)","v":0},"Hakimp_3",{"$f":"IFERROR(VLOOKUP(JP17,MATCHSELEVES!$Y$14:$AE$600,3,FALSE),0)","v":0},{"$f":"IFERROR(VLOOKUP(JP17,MATCHSELEVES!$Y$14:$AE$600,4,FALSE),0)","v":0},{"$f":"IFERROR(VLOOKUP(JP17,MATCHSELEVES!$Y$14:$AE$600,5,FALSE),0)","v":0},{"$f":"IFERROR(VLOOKUP(JP17,MATCHSELEVES!$Y$14:$AF$600,8,FALSE),0)","v":0},{"$f":"IFERROR(VLOOKUP(JP17,MATCHSELEVES!$Y$14:$AG$600,9,FALSE),0)","v":0},"Hakimp_4",{"$f":"IFERROR(VLOOKUP(JV17,MATCHSELEVES!$Y$14:$AE$600,3,FALSE),0)","v":0},{"$f":"IFERROR(VLOOKUP(JV17,MATCHSELEVES!$Y$14:$AE$600,4,FALSE),0)","v":0},{"$f":"IFERROR(VLOOKUP(JV17,MATCHSELEVES!$Y$14:$AE$600,5,FALSE),0)","v":0},{"$f":"IFERROR(VLOOKUP(JV17,MATCHSELEVES!$Y$14:$AF$600,8,FALSE),0)","v":0},{"$f":"IFERROR(VLOOKUP(JV17,MATCHSELEVES!$Y$14:$AG$600,9,FALSE),0)","v":0},"Hakimp_5",{"$f":"IFERROR(VLOOKUP(KB17,MATCHSELEVES!$Y$14:$AE$600,3,FALSE),0)","v":0},{"$f":"IFERROR(VLOOKUP(KB17,MATCHSELEVES!$Y$14:$AE$600,4,FALSE),0)","v":0},{"$f":"IFERROR(VLOOKUP(KB17,MATCHSELEVES!$Y$14:$AE$600,5,FALSE),0)","v":0},{"$f":"IFERROR(VLOOKUP(KB17,MATCHSELEVES!$Y$14:$AF$600,8,FALSE),0)","v":0},{"$f":"IFERROR(VLOOKUP(KB17,MATCHSELEVES!$Y$14:$AG$600,9,FALSE),0)","v":0},"Hakimp_6",{"$f":"IFERROR(VLOOKUP(KH17,MATCHSELEVES!$Y$14:$AE$600,3,FALSE),0)","v":0},{"$f":"IFERROR(VLOOKUP(KH17,MATCHSELEVES!$Y$14:$AE$600,4,FALSE),0)","v":0},{"$f":"IFERROR(VLOOKUP(KH17,MATCHSELEVES!$Y$14:$AE$600,5,FALSE),0)","v":0},{"$f":"IFERROR(VLOOKUP(KH17,MATCHSELEVES!$Y$14:$AF$600,8,FALSE),0)","v":0},{"$f":"IFERROR(VLOOKUP(KH17,MATCHSELEVES!$Y$14:$AG$600,9,FALSE),0)","v":0},"Hakimp_7",{"$f":"IFERROR(VLOOKUP(KN17,MATCHSELEVES!$Y$14:$AE$600,3,FALSE),0)","v":0},{"$f":"IFERROR(VLOOKUP(KN17,MATCHSELEVES!$Y$14:$AE$600,4,FALSE),0)","v":0},{"$f":"IFERROR(VLOOKUP(KN17,MATCHSELEVES!$Y$14:$AE$600,5,FALSE),0)","v":0},{"$f":"IFERROR(VLOOKUP(KN17,MATCHSELEVES!$Y$14:$AF$600,8,FALSE),0)","v":0},{"$f":"IFERROR(VLOOKUP(KN17,MATCHSELEVES!$Y$14:$AG$600,9,FALSE),0)","v":0},"Hakimp_8",{"$f":"IFERROR(VLOOKUP(KT17,MATCHSELEVES!$Y$14:$AE$600,3,FALSE),0)","v":0},{"$f":"IFERROR(VLOOKUP(KT17,MATCHSELEVES!$Y$14:$AE$600,4,FALSE),0)","v":0},{"$f":"IFERROR(VLOOKUP(KT17,MATCHSELEVES!$Y$14:$AE$600,5,FALSE),0)","v":0},{"$f":"IFERROR(VLOOKUP(KT17,MATCHSELEVES!$Y$14:$AF$600,8,FALSE),0)","v":0},{"$f":"IFERROR(VLOOKUP(KT17,MATCHSELEVES!$Y$14:$AG$600,9,FALSE),0)","v":0},"Hakimp_9",{"$f":"IFERROR(VLOOKUP(KZ17,MATCHSELEVES!$Y$14:$AE$600,3,FALSE),0)","v":0},{"$f":"IFERROR(VLOOKUP(KZ17,MATCHSELEVES!$Y$14:$AE$600,4,FALSE),0)","v":0},{"$f":"IFERROR(VLOOKUP(KZ17,MATCHSELEVES!$Y$14:$AE$600,5,FALSE),0)","v":0},{"$f":"IFERROR(VLOOKUP(KZ17,MATCHSELEVES!$Y$14:$AF$600,8,FALSE),0)","v":0},{"$f":"IFERROR(VLOOKUP(KZ17,MATCHSELEVES!$Y$14:$AG$600,9,FALSE),0)","v":0},"Hakimp_10",{"$f":"IFERROR(VLOOKUP(LF17,MATCHSELEVES!$Y$14:$AE$600,3,FALSE),0)","v":0},{"$f":"IFERROR(VLOOKUP(LF17,MATCHSELEVES!$Y$14:$AE$600,4,FALSE),0)","v":0},{"$f":"IFERROR(VLOOKUP(LF17,MATCHSELEVES!$Y$14:$AE$600,5,FALSE),0)","v":0},{"$f":"IFERROR(VLOOKUP(LF17,MATCHSELEVES!$Y$14:$AF$600,8,FALSE),0)","v":0},{"$f":"IFERROR(VLOOKUP(LF17,MATCHSELEVES!$Y$14:$AG$600,9,FALSE),0)","v":0},"Hakimp_11",{"$f":"IFERROR(VLOOKUP(LL17,MATCHSELEVES!$Y$14:$AE$600,3,FALSE),0)","v":0},{"$f":"IFERROR(VLOOKUP(LL17,MATCHSELEVES!$Y$14:$AE$600,4,FALSE),0)","v":0},{"$f":"IFERROR(VLOOKUP(LL17,MATCHSELEVES!$Y$14:$AE$600,5,FALSE),0)","v":0},{"$f":"IFERROR(VLOOKUP(LL17,MATCHSELEVES!$Y$14:$AF$600,8,FALSE),0)","v":0},{"$f":"IFERROR(VLOOKUP(LL17,MATCHSELEVES!$Y$14:$AG$600,9,FALSE),0)","v":0},"Hakimp_12",{"$f":"IFERROR(VLOOKUP(LR17,MATCHSELEVES!$Y$14:$AE$600,3,FALSE),0)","v":0},{"$f":"IFERROR(VLOOKUP(LR17,MATCHSELEVES!$Y$14:$AE$600,4,FALSE),0)","v":0},{"$f":"IFERROR(VLOOKUP(LR17,MATCHSELEVES!$Y$14:$AE$600,5,FALSE),0)","v":0},{"$f":"IFERROR(VLOOKUP(LR17,MATCHSELEVES!$Y$14:$AF$600,8,FALSE),0)","v":0},{"$f":"IFERROR(VLOOKUP(LR17,MATCHSELEVES!$Y$14:$AG$600,9,FALSE),0)","v":0},"Hakimp_13",{"$f":"IFERROR(VLOOKUP(LX17,MATCHSELEVES!$Y$14:$AE$600,3,FALSE),0)","v":0},{"$f":"IFERROR(VLOOKUP(LX17,MATCHSELEVES!$Y$14:$AE$600,4,FALSE),0)","v":0},{"$f":"IFERROR(VLOOKUP(LX17,MATCHSELEVES!$Y$14:$AE$600,5,FALSE),0)","v":0},{"$f":"IFERROR(VLOOKUP(LX17,MATCHSELEVES!$Y$14:$AF$600,8,FALSE),0)","v":0},{"$f":"IFERROR(VLOOKUP(LX17,MATCHSELEVES!$Y$14:$AG$600,9,FALSE),0)","v":0},"Hakimp_14",{"$f":"IFERROR(VLOOKUP(MD17,MATCHSELEVES!$Y$14:$AE$600,3,FALSE),0)","v":0},{"$f":"IFERROR(VLOOKUP(MD17,MATCHSELEVES!$Y$14:$AE$600,4,FALSE),0)","v":0},{"$f":"IFERROR(VLOOKUP(MD17,MATCHSELEVES!$Y$14:$AE$600,5,FALSE),0)","v":0},{"$f":"IFERROR(VLOOKUP(MD17,MATCHSELEVES!$Y$14:$AF$600,8,FALSE),0)","v":0},{"$f":"IFERROR(VLOOKUP(MD17,MATCHSELEVES!$Y$14:$AG$600,9,FALSE),0)","v":0},"Hakimp_15",{"$f":"IFERROR(VLOOKUP(MJ17,MATCHSELEVES!$Y$14:$AE$600,3,FALSE),0)","v":0},{"$f":"IFERROR(VLOOKUP(MJ17,MATCHSELEVES!$Y$14:$AE$600,4,FALSE),0)","v":0},{"$f":"IFERROR(VLOOKUP(MJ17,MATCHSELEVES!$Y$14:$AE$600,5,FALSE),0)","v":0},{"$f":"IFERROR(VLOOKUP(MJ17,MATCHSELEVES!$Y$14:$AF$600,8,FALSE),0)","v":0},{"$f":"IFERROR(VLOOKUP(MJ17,MATCHSELEVES!$Y$14:$AG$600,9,FALSE),0)","v":0},"Hakimp_16",{"$f":"IFERROR(VLOOKUP(MP17,MATCHSELEVES!$Y$14:$AE$600,3,FALSE),0)","v":0},{"$f":"IFERROR(VLOOKUP(MP17,MATCHSELEVES!$Y$14:$AE$600,4,FALSE),0)","v":0},{"$f":"IFERROR(VLOOKUP(MP17,MATCHSELEVES!$Y$14:$AE$600,5,FALSE),0)","v":0},{"$f":"IFERROR(VLOOKUP(MP17,MATCHSELEVES!$Y$14:$AF$600,8,FALSE),0)","v":0},{"$f":"IFERROR(VLOOKUP(MP17,MATCHSELEVES!$Y$14:$AG$600,9,FALSE),0)","v":0},"Hakimp_17",{"$f":"IFERROR(VLOOKUP(MV17,MATCHSELEVES!$Y$14:$AE$600,3,FALSE),0)","v":0},{"$f":"IFERROR(VLOOKUP(MV17,MATCHSELEVES!$Y$14:$AE$600,4,FALSE),0)","v":0},{"$f":"IFERROR(VLOOKUP(MV17,MATCHSELEVES!$Y$14:$AE$600,5,FALSE),0)","v":0},{"$f":"IFERROR(VLOOKUP(MV17,MATCHSELEVES!$Y$14:$AF$600,8,FALSE),0)","v":0},{"$f":"IFERROR(VLOOKUP(MV17,MATCHSELEVES!$Y$14:$AG$600,9,FALSE),0)","v":0},"Hakimp_18",{"$f":"IFERROR(VLOOKUP(NB17,MATCHSELEVES!$Y$14:$AE$600,3,FALSE),0)","v":0},{"$f":"IFERROR(VLOOKUP(NB17,MATCHSELEVES!$Y$14:$AE$600,4,FALSE),0)","v":0},{"$f":"IFERROR(VLOOKUP(NB17,MATCHSELEVES!$Y$14:$AE$600,5,FALSE),0)","v":0},{"$f":"IFERROR(VLOOKUP(NB17,MATCHSELEVES!$Y$14:$AF$600,8,FALSE),0)","v":0},{"$f":"IFERROR(VLOOKUP(NB17,MATCHSELEVES!$Y$14:$AG$600,9,FALSE),0)","v":0},"Hakimp_19",{"$f":"IFERROR(VLOOKUP(NH17,MATCHSELEVES!$Y$14:$AE$600,3,FALSE),0)","v":0},{"$f":"IFERROR(VLOOKUP(NH17,MATCHSELEVES!$Y$14:$AE$600,4,FALSE),0)","v":0},{"$f":"IFERROR(VLOOKUP(NH17,MATCHSELEVES!$Y$14:$AE$600,5,FALSE),0)","v":0},{"$f":"IFERROR(VLOOKUP(NH17,MATCHSELEVES!$Y$14:$AF$600,8,FALSE),0)","v":0},{"$f":"IFERROR(VLOOKUP(NH17,MATCHSELEVES!$Y$14:$AG$600,9,FALSE),0)","v":0},"Hakimp_20",{"$f":"IFERROR(VLOOKUP(NN17,MATCHSELEVES!$Y$14:$AE$600,3,FALSE),0)","v":0},{"$f":"IFERROR(VLOOKUP(NN17,MATCHSELEVES!$Y$14:$AE$600,4,FALSE),0)","v":0},{"$f":"IFERROR(VLOOKUP(NN17,MATCHSELEVES!$Y$14:$AE$600,5,FALSE),0)","v":0},{"$f":"IFERROR(VLOOKUP(NN17,MATCHSELEVES!$Y$14:$AF$600,8,FALSE),0)","v":0},{"$f":"IFERROR(VLOOKUP(NN17,MATCHSELEVES!$Y$14:$AG$600,9,FALSE),0)","v":0},"Hakimp_21",{"$f":"IFERROR(VLOOKUP(NT17,MATCHSELEVES!$Y$14:$AE$600,3,FALSE),0)","v":0},{"$f":"IFERROR(VLOOKUP(NT17,MATCHSELEVES!$Y$14:$AE$600,4,FALSE),0)","v":0},{"$f":"IFERROR(VLOOKUP(NT17,MATCHSELEVES!$Y$14:$AE$600,5,FALSE),0)","v":0},{"$f":"IFERROR(VLOOKUP(NT17,MATCHSELEVES!$Y$14:$AF$600,8,FALSE),0)","v":0},{"$f":"IFERROR(VLOOKUP(NT17,MATCHSELEVES!$Y$14:$AG$600,9,FALSE),0)","v":0},"Hakimp_22",{"$f":"IFERROR(VLOOKUP(NZ17,MATCHSELEVES!$Y$14:$AE$600,3,FALSE),0)","v":0},{"$f":"IFERROR(VLOOKUP(NZ17,MATCHSELEVES!$Y$14:$AE$600,4,FALSE),0)","v":0},{"$f":"IFERROR(VLOOKUP(NZ17,MATCHSELEVES!$Y$14:$AE$600,5,FALSE),0)","v":0},{"$f":"IFERROR(VLOOKUP(NZ17,MATCHSELEVES!$Y$14:$AF$600,8,FALSE),0)","v":0},{"$f":"IFERROR(VLOOKUP(NZ17,MATCHSELEVES!$Y$14:$AG$600,9,FALSE),0)","v":0},"Hakimp_23",{"$f":"IFERROR(VLOOKUP(OF17,MATCHSELEVES!$Y$14:$AE$600,3,FALSE),0)","v":0},{"$f":"IFERROR(VLOOKUP(OF17,MATCHSELEVES!$Y$14:$AE$600,4,FALSE),0)","v":0},{"$f":"IFERROR(VLOOKUP(OF17,MATCHSELEVES!$Y$14:$AE$600,5,FALSE),0)","v":0},{"$f":"IFERROR(VLOOKUP(OF17,MATCHSELEVES!$Y$14:$AF$600,8,FALSE),0)","v":0},{"$f":"IFERROR(VLOOKUP(OF17,MATCHSELEVES!$Y$14:$AG$600,9,FALSE),0)","v":0},"Hakimp_24",{"$f":"IFERROR(VLOOKUP(OL17,MATCHSELEVES!$Y$14:$AE$600,3,FALSE),0)","v":0},{"$f":"IFERROR(VLOOKUP(OL17,MATCHSELEVES!$Y$14:$AE$600,4,FALSE),0)","v":0},{"$f":"IFERROR(VLOOKUP(OL17,MATCHSELEVES!$Y$14:$AE$600,5,FALSE),0)","v":0},{"$f":"IFERROR(VLOOKUP(OL17,MATCHSELEVES!$Y$14:$AF$600,8,FALSE),0)","v":0},{"$f":"IFERROR(VLOOKUP(OL17,MATCHSELEVES!$Y$14:$AG$600,9,FALSE),0)","v":0},"Hakimp_25",{"$f":"IFERROR(VLOOKUP(OR17,MATCHSELEVES!$Y$14:$AE$600,3,FALSE),0)","v":0},{"$f":"IFERROR(VLOOKUP(OR17,MATCHSELEVES!$Y$14:$AE$600,4,FALSE),0)","v":0},{"$f":"IFERROR(VLOOKUP(OR17,MATCHSELEVES!$Y$14:$AE$600,5,FALSE),0)","v":0},{"$f":"IFERROR(VLOOKUP(OR17,MATCHSELEVES!$Y$14:$AF$600,8,FALSE),0)","v":0},{"$f":"IFERROR(VLOOKUP(OR17,MATCHSELEVES!$Y$14:$AG$600,9,FALSE),0)","v":0},"Hakimp_26",{"$f":"IFERROR(VLOOKUP(OX17,MATCHSELEVES!$Y$14:$AE$600,3,FALSE),0)","v":0},{"$f":"IFERROR(VLOOKUP(OX17,MATCHSELEVES!$Y$14:$AE$600,4,FALSE),0)","v":0},{"$f":"IFERROR(VLOOKUP(OX17,MATCHSELEVES!$Y$14:$AE$600,5,FALSE),0)","v":0},{"$f":"IFERROR(VLOOKUP(OX17,MATCHSELEVES!$Y$14:$AF$600,8,FALSE),0)","v":0},{"$f":"IFERROR(VLOOKUP(OX17,MATCHSELEVES!$Y$14:$AG$600,9,FALSE),0)","v":0},"Hakimp_27",{"$f":"IFERROR(VLOOKUP(PD17,MATCHSELEVES!$Y$14:$AE$600,3,FALSE),0)","v":0},{"$f":"IFERROR(VLOOKUP(PD17,MATCHSELEVES!$Y$14:$AE$600,4,FALSE),0)","v":0},{"$f":"IFERROR(VLOOKUP(PD17,MATCHSELEVES!$Y$14:$AE$600,5,FALSE),0)","v":0},{"$f":"IFERROR(VLOOKUP(PD17,MATCHSELEVES!$Y$14:$AF$600,8,FALSE),0)","v":0},{"$f":"IFERROR(VLOOKUP(PD17,MATCHSELEVES!$Y$14:$AG$600,9,FALSE),0)","v":0},"Hakimp_28",{"$f":"IFERROR(VLOOKUP(PJ17,MATCHSELEVES!$Y$14:$AE$600,3,FALSE),0)","v":0},{"$f":"IFERROR(VLOOKUP(PJ17,MATCHSELEVES!$Y$14:$AE$600,4,FALSE),0)","v":0},{"$f":"IFERROR(VLOOKUP(PJ17,MATCHSELEVES!$Y$14:$AE$600,5,FALSE),0)","v":0},{"$f":"IFERROR(VLOOKUP(PJ17,MATCHSELEVES!$Y$14:$AF$600,8,FALSE),0)","v":0},{"$f":"IFERROR(VLOOKUP(PJ17,MATCHSELEVES!$Y$14:$AG$600,9,FALSE),0)","v":0},"Hakimp_29",{"$f":"IFERROR(VLOOKUP(PP17,MATCHSELEVES!$Y$14:$AE$600,3,FALSE),0)","v":0},{"$f":"IFERROR(VLOOKUP(PP17,MATCHSELEVES!$Y$14:$AE$600,4,FALSE),0)","v":0},{"$f":"IFERROR(VLOOKUP(PP17,MATCHSELEVES!$Y$14:$AE$600,5,FALSE),0)","v":0},{"$f":"IFERROR(VLOOKUP(PP17,MATCHSELEVES!$Y$14:$AF$600,8,FALSE),0)","v":0},{"$f":"IFERROR(VLOOKUP(PP17,MATCHSELEVES!$Y$14:$AG$600,9,FALSE),0)","v":0},"Hakimp_30",{"$f":"IFERROR(VLOOKUP(PV17,MATCHSELEVES!$Y$14:$AE$600,3,FALSE),0)","v":0},{"$f":"IFERROR(VLOOKUP(PV17,MATCHSELEVES!$Y$14:$AE$600,4,FALSE),0)","v":0},{"$f":"IFERROR(VLOOKUP(PV17,MATCHSELEVES!$Y$14:$AE$600,5,FALSE),0)","v":0},{"$f":"IFERROR(VLOOKUP(PV17,MATCHSELEVES!$Y$14:$AF$600,8,FALSE),0)","v":0},{"$f":"IFERROR(VLOOKUP(PV17,MATCHSELEVES!$Y$14:$AG$600,9,FALSE),0)","v":0},"Hakimp_31",{"$f":"IFERROR(VLOOKUP(QB17,MATCHSELEVES!$Y$14:$AE$600,3,FALSE),0)","v":0},{"$f":"IFERROR(VLOOKUP(QB17,MATCHSELEVES!$Y$14:$AE$600,4,FALSE),0)","v":0},{"$f":"IFERROR(VLOOKUP(QB17,MATCHSELEVES!$Y$14:$AE$600,5,FALSE),0)","v":0},{"$f":"IFERROR(VLOOKUP(QB17,MATCHSELEVES!$Y$14:$AF$600,8,FALSE),0)","v":0},{"$f":"IFERROR(VLOOKUP(QB17,MATCHSELEVES!$Y$14:$AG$600,9,FALSE),0)","v":0},"Hakimp_32",{"$f":"IFERROR(VLOOKUP(QH17,MATCHSELEVES!$Y$14:$AE$600,3,FALSE),0)","v":0},{"$f":"IFERROR(VLOOKUP(QH17,MATCHSELEVES!$Y$14:$AE$600,4,FALSE),0)","v":0},{"$f":"IFERROR(VLOOKUP(QH17,MATCHSELEVES!$Y$14:$AE$600,5,FALSE),0)","v":0},{"$f":"IFERROR(VLOOKUP(QH17,MATCHSELEVES!$Y$14:$AF$600,8,FALSE),0)","v":0},{"$f":"IFERROR(VLOOKUP(QH17,MATCHSELEVES!$Y$14:$AG$600,9,FALSE),0)","v":0},"Hakimp_33",{"$f":"IFERROR(VLOOKUP(QN17,MATCHSELEVES!$Y$14:$AE$600,3,FALSE),0)","v":0},{"$f":"IFERROR(VLOOKUP(QN17,MATCHSELEVES!$Y$14:$AE$600,4,FALSE),0)","v":0},{"$f":"IFERROR(VLOOKUP(QN17,MATCHSELEVES!$Y$14:$AE$600,5,FALSE),0)","v":0},{"$f":"IFERROR(VLOOKUP(QN17,MATCHSELEVES!$Y$14:$AF$600,8,FALSE),0)","v":0},{"$f":"IFERROR(VLOOKUP(QN17,MATCHSELEVES!$Y$14:$AG$600,9,FALSE),0)","v":0},"Hakimp_34",{"$f":"IFERROR(VLOOKUP(QT17,MATCHSELEVES!$Y$14:$AE$600,3,FALSE),0)","v":0},{"$f":"IFERROR(VLOOKUP(QT17,MATCHSELEVES!$Y$14:$AE$600,4,FALSE),0)","v":0},{"$f":"IFERROR(VLOOKUP(QT17,MATCHSELEVES!$Y$14:$AE$600,5,FALSE),0)","v":0},{"$f":"IFERROR(VLOOKUP(QT17,MATCHSELEVES!$Y$14:$AF$600,8,FALSE),0)","v":0},{"$f":"IFERROR(VLOOKUP(QT17,MATCHSELEVES!$Y$14:$AG$600,9,FALSE),0)","v":0},"Hakimp_35",{"$f":"IFERROR(VLOOKUP(QZ17,MATCHSELEVES!$Y$14:$AE$600,3,FALSE),0)","v":0},{"$f":"IFERROR(VLOOKUP(QZ17,MATCHSELEVES!$Y$14:$AE$600,4,FALSE),0)","v":0},{"$f":"IFERROR(VLOOKUP(QZ17,MATCHSELEVES!$Y$14:$AE$600,5,FALSE),0)","v":0},{"$f":"IFERROR(VLOOKUP(QZ17,MATCHSELEVES!$Y$14:$AF$600,8,FALSE),0)","v":0},{"$f":"IFERROR(VLOOKUP(QZ17,MATCHSELEVES!$Y$14:$AG$600,9,FALSE),0)","v":0},"Hakimp_36",{"$f":"IFERROR(VLOOKUP(RF17,MATCHSELEVES!$Y$14:$AE$600,3,FALSE),0)","v":0},{"$f":"IFERROR(VLOOKUP(RF17,MATCHSELEVES!$Y$14:$AE$600,4,FALSE),0)","v":0},{"$f":"IFERROR(VLOOKUP(RF17,MATCHSELEVES!$Y$14:$AE$600,5,FALSE),0)","v":0},{"$f":"IFERROR(VLOOKUP(RF17,MATCHSELEVES!$Y$14:$AF$600,8,FALSE),0)","v":0},{"$f":"IFERROR(VLOOKUP(RF17,MATCHSELEVES!$Y$14:$AG$600,9,FALSE),0)","v":0},"Hakimp_37",{"$f":"IFERROR(VLOOKUP(RL17,MATCHSELEVES!$Y$14:$AE$600,3,FALSE),0)","v":0},{"$f":"IFERROR(VLOOKUP(RL17,MATCHSELEVES!$Y$14:$AE$600,4,FALSE),0)","v":0},{"$f":"IFERROR(VLOOKUP(RL17,MATCHSELEVES!$Y$14:$AE$600,5,FALSE),0)","v":0},{"$f":"IFERROR(VLOOKUP(RL17,MATCHSELEVES!$Y$14:$AF$600,8,FALSE),0)","v":0},{"$f":"IFERROR(VLOOKUP(RL17,MATCHSELEVES!$Y$14:$AG$600,9,FALSE),0)","v":0},"Hakimp_38",{"$f":"IFERROR(VLOOKUP(RR17,MATCHSELEVES!$Y$14:$AE$600,3,FALSE),0)","v":0},{"$f":"IFERROR(VLOOKUP(RR17,MATCHSELEVES!$Y$14:$AE$600,4,FALSE),0)","v":0},{"$f":"IFERROR(VLOOKUP(RR17,MATCHSELEVES!$Y$14:$AE$600,5,FALSE),0)","v":0},{"$f":"IFERROR(VLOOKUP(RR17,MATCHSELEVES!$Y$14:$AF$600,8,FALSE),0)","v":0},{"$f":"IFERROR(VLOOKUP(RR17,MATCHSELEVES!$Y$14:$AG$600,9,FALSE),0)","v":0},"Hakimp_39",{"$f":"IFERROR(VLOOKUP(RX17,MATCHSELEVES!$Y$14:$AE$600,3,FALSE),0)","v":0},{"$f":"IFERROR(VLOOKUP(RX17,MATCHSELEVES!$Y$14:$AE$600,4,FALSE),0)","v":0},{"$f":"IFERROR(VLOOKUP(RX17,MATCHSELEVES!$Y$14:$AE$600,5,FALSE),0)","v":0},{"$f":"IFERROR(VLOOKUP(RX17,MATCHSELEVES!$Y$14:$AF$600,8,FALSE),0)","v":0},{"$f":"IFERROR(VLOOKUP(RX17,MATCHSELEVES!$Y$14:$AG$600,9,FALSE),0)","v":0},"Hakimp_40",{"$f":"IFERROR(VLOOKUP(SD17,MATCHSELEVES!$Y$14:$AE$600,3,FALSE),0)","v":0},{"$f":"IFERROR(VLOOKUP(SD17,MATCHSELEVES!$Y$14:$AE$600,4,FALSE),0)","v":0},{"$f":"IFERROR(VLOOKUP(SD17,MATCHSELEVES!$Y$14:$AE$600,5,FALSE),0)","v":0},{"$f":"IFERROR(VLOOKUP(SD17,MATCHSELEVES!$Y$14:$AF$600,8,FALSE),0)","v":0},{"$f":"IFERROR(VLOOKUP(SD17,MATCHSELEVES!$Y$14:$AG$600,9,FALSE),0)","v":0}]
[15,null,{"$f":"MD1POINT!C18","v":"Hicham"},{"$f":"MD1POINT!D18","v":1},{"$f":"COUNTIF(MATCHSELEVES!$Z$14:$Z$600,C18)+COUNTIF(MATCHSELEVES!$Z$14:$Z$600,$C18&\"p\")","v":0},1,{"$f":"COUNTIF(MATCHSELEVES!$F$14:$H$249,C18)","v":0},1,0,1,0,1,0,1,{"$f":"Y18+AE18+AK18+AQ18+AW18+BC18+BI18+BO18+BU18+CA18+CG18+CM18+CS18+CY18+DE18+DK18+DQ18+DW18+EC18+EI18+EO18+EU18+FA18+FG18+FM18+FS18+FY18+GE18+GK18+GQ18+GW18+4+HI18+HO18+HU18+IA18+HC18+IG18+IM18+IY18+IS18+JH18+JN18+JZ18+JT18+KF18+KR18+KX18+LJ18+LP18+LV18+LD18+MB18+MH18+MN18+MZ18+MT18+NF18+NL18+NR18+NX18+OD18+OJ18+OP18+OV18+PB18+PH18+PT18+PN18+PZ18+QF18+QL18+QR18+RD18+QX18+RJ18+RP18+RV18+SB18+SH18+KL18+Tableau10[[#This Row],[Nombre de matchs joués]]*2","v":4},1,{"$f":"(Tableau10[[#This Row],[CLASSEMENT1]]+Tableau10[[#This Row],[CLASSEMENT2]]+Tableau10[[#This Row],[CLASSEMENT3]]+Tableau10[[#This Row],[CLASSEMENT4]]+Tableau10[[#This Row],[CLASSEMENT5]]+Tableau10[[#This Row],[CLASSEMENT6]])/6","v":1},{"$f":"RANK(Tableau10[[#This Row],[MOYENNE CLASSEMENTS]],Tableau10[MOYENNE CLASSEMENTS],1)","v":1},null,{"$f":"Tableau10[[#This Row],[CLASSEMENT1]]","v":1},"Hicham_1",{"$f":"IFERROR(VLOOKUP(U18,MATCHSELEVES!$Y$14:$AE$600,3,FALSE),0)","v":0},{"$f":"IFERROR(VLOOKUP(U18,MATCHSELEVES!$Y$14:$AE$600,4,FALSE),0)","v":0},{"$f":"IFERROR(VLOOKUP(U18,MATCHSELEVES!$Y$14:$AE$600,5,FALSE),0)","v":0},{"$f":"IFERROR(VLOOKUP(U18,MATCHSELEVES!$Y$14:$AF$600,8,FALSE),0)","v":0},{"$f":"IFERROR(VLOOKUP(U18,MATCHSELEVES!$Y$14:$AG$600,9,FALSE),0)","v":0},"Hicham_2",{"$f":"IFERROR(VLOOKUP(AA18,MATCHSELEVES!$Y$14:$AE$600,3,FALSE),0)","v":0},{"$f":"IFERROR(VLOOKUP(AA18,MATCHSELEVES!$Y$14:$AE$600,4,FALSE),0)","v":0},{"$f":"IFERROR(VLOOKUP(AA18,MATCHSELEVES!$Y$14:$AE$600,5,FALSE),0)","v":0},{"$f":"IFERROR(VLOOKUP(AA18,MATCHSELEVES!$Y$14:$AF$600,8,FALSE),0)","v":0},{"$f":"IFERROR(VLOOKUP(AA18,MATCHSELEVES!$Y$14:$AG$600,9,FALSE),0)","v":0},"Hicham_3",{"$f":"IFERROR(VLOOKUP(AG18,MATCHSELEVES!$Y$14:$AE$600,3,FALSE),0)","v":0},{"$f":"IFERROR(VLOOKUP(AG18,MATCHSELEVES!$Y$14:$AE$600,4,FALSE),0)","v":0},{"$f":"IFERROR(VLOOKUP(AG18,MATCHSELEVES!$Y$14:$AE$600,5,FALSE),0)","v":0},{"$f":"IFERROR(VLOOKUP(AG18,MATCHSELEVES!$Y$14:$AF$600,8,FALSE),0)","v":0},{"$f":"IFERROR(VLOOKUP(AG18,MATCHSELEVES!$Y$14:$AG$600,9,FALSE),0)","v":0},"Hicham_4",{"$f":"IFERROR(VLOOKUP(AM18,MATCHSELEVES!$Y$14:$AE$600,3,FALSE),0)","v":0},{"$f":"IFERROR(VLOOKUP(AM18,MATCHSELEVES!$Y$14:$AE$600,4,FALSE),0)","v":0},{"$f":"IFERROR(VLOOKUP(AM18,MATCHSELEVES!$Y$14:$AE$600,5,FALSE),0)","v":0},{"$f":"IFERROR(VLOOKUP(AM18,MATCHSELEVES!$Y$14:$AF$600,8,FALSE),0)","v":0},{"$f":"IFERROR(VLOOKUP(AM18,MATCHSELEVES!$Y$14:$AG$600,9,FALSE),0)","v":0},"Hicham_5",{"$f":"IFERROR(VLOOKUP(AS18,MATCHSELEVES!$Y$14:$AE$600,3,FALSE),0)","v":0},{"$f":"IFERROR(VLOOKUP(AS18,MATCHSELEVES!$Y$14:$AE$600,4,FALSE),0)","v":0},{"$f":"IFERROR(VLOOKUP(AS18,MATCHSELEVES!$Y$14:$AE$600,5,FALSE),0)","v":0},{"$f":"IFERROR(VLOOKUP(AS18,MATCHSELEVES!$Y$14:$AF$600,8,FALSE),0)","v":0},{"$f":"IFERROR(VLOOKUP(AS18,MATCHSELEVES!$Y$14:$AG$600,9,FALSE),0)","v":0},"Hicham_6",{"$f":"IFERROR(VLOOKUP(AY18,MATCHSELEVES!$Y$14:$AE$600,3,FALSE),0)","v":0},{"$f":"IFERROR(VLOOKUP(AY18,MATCHSELEVES!$Y$14:$AE$600,4,FALSE),0)","v":0},{"$f":"IFERROR(VLOOKUP(AY18,MATCHSELEVES!$Y$14:$AE$600,5,FALSE),0)","v":0},{"$f":"IFERROR(VLOOKUP(AY18,MATCHSELEVES!$Y$14:$AF$600,8,FALSE),0)","v":0},{"$f":"IFERROR(VLOOKUP(AY18,MATCHSELEVES!$Y$14:$AG$600,9,FALSE),0)","v":0},"Hicham_7",{"$f":"IFERROR(VLOOKUP(BE18,MATCHSELEVES!$Y$14:$AE$600,3,FALSE),0)","v":0},{"$f":"IFERROR(VLOOKUP(BE18,MATCHSELEVES!$Y$14:$AE$600,4,FALSE),0)","v":0},{"$f":"IFERROR(VLOOKUP(BE18,MATCHSELEVES!$Y$14:$AE$600,5,FALSE),0)","v":0},{"$f":"IFERROR(VLOOKUP(BE18,MATCHSELEVES!$Y$14:$AF$600,8,FALSE),0)","v":0},{"$f":"IFERROR(VLOOKUP(BE18,MATCHSELEVES!$Y$14:$AG$600,9,FALSE),0)","v":0},"Hicham_8",{"$f":"IFERROR(VLOOKUP(BK18,MATCHSELEVES!$Y$14:$AE$600,3,FALSE),0)","v":0},{"$f":"IFERROR(VLOOKUP(BK18,MATCHSELEVES!$Y$14:$AE$600,4,FALSE),0)","v":0},{"$f":"IFERROR(VLOOKUP(BK18,MATCHSELEVES!$Y$14:$AE$600,5,FALSE),0)","v":0},{"$f":"IFERROR(VLOOKUP(BK18,MATCHSELEVES!$Y$14:$AF$600,8,FALSE),0)","v":0},{"$f":"IFERROR(VLOOKUP(BK18,MATCHSELEVES!$Y$14:$AG$600,9,FALSE),0)","v":0},"Hicham_9",{"$f":"IFERROR(VLOOKUP(BQ18,MATCHSELEVES!$Y$14:$AE$600,3,FALSE),0)","v":0},{"$f":"IFERROR(VLOOKUP(BQ18,MATCHSELEVES!$Y$14:$AE$600,4,FALSE),0)","v":0},{"$f":"IFERROR(VLOOKUP(BQ18,MATCHSELEVES!$Y$14:$AE$600,5,FALSE),0)","v":0},{"$f":"IFERROR(VLOOKUP(BQ18,MATCHSELEVES!$Y$14:$AF$600,8,FALSE),0)","v":0},{"$f":"IFERROR(VLOOKUP(BQ18,MATCHSELEVES!$Y$14:$AG$600,9,FALSE),0)","v":0},"Hicham_10",{"$f":"IFERROR(VLOOKUP(BW18,MATCHSELEVES!$Y$14:$AE$600,3,FALSE),0)","v":0},{"$f":"IFERROR(VLOOKUP(BW18,MATCHSELEVES!$Y$14:$AE$600,4,FALSE),0)","v":0},{"$f":"IFERROR(VLOOKUP(BW18,MATCHSELEVES!$Y$14:$AE$600,5,FALSE),0)","v":0},{"$f":"IFERROR(VLOOKUP(BW18,MATCHSELEVES!$Y$14:$AF$600,8,FALSE),0)","v":0},{"$f":"IFERROR(VLOOKUP(BW18,MATCHSELEVES!$Y$14:$AG$600,9,FALSE),0)","v":0},"Hicham_11",{"$f":"IFERROR(VLOOKUP(CC18,MATCHSELEVES!$Y$14:$AE$600,3,FALSE),0)","v":0},{"$f":"IFERROR(VLOOKUP(CC18,MATCHSELEVES!$Y$14:$AE$600,4,FALSE),0)","v":0},{"$f":"IFERROR(VLOOKUP(CC18,MATCHSELEVES!$Y$14:$AE$600,5,FALSE),0)","v":0},{"$f":"IFERROR(VLOOKUP(CC18,MATCHSELEVES!$Y$14:$AF$600,8,FALSE),0)","v":0},{"$f":"IFERROR(VLOOKUP(CC18,MATCHSELEVES!$Y$14:$AG$600,9,FALSE),0)","v":0},"Hicham_12",{"$f":"IFERROR(VLOOKUP(CI18,MATCHSELEVES!$Y$14:$AE$600,3,FALSE),0)","v":0},{"$f":"IFERROR(VLOOKUP(CI18,MATCHSELEVES!$Y$14:$AE$600,4,FALSE),0)","v":0},{"$f":"IFERROR(VLOOKUP(CI18,MATCHSELEVES!$Y$14:$AE$600,5,FALSE),0)","v":0},{"$f":"IFERROR(VLOOKUP(CI18,MATCHSELEVES!$Y$14:$AF$600,8,FALSE),0)","v":0},{"$f":"IFERROR(VLOOKUP(CI18,MATCHSELEVES!$Y$14:$AG$600,9,FALSE),0)","v":0},"Hicham_13",{"$f":"IFERROR(VLOOKUP(CO18,MATCHSELEVES!$Y$14:$AE$600,3,FALSE),0)","v":0},{"$f":"IFERROR(VLOOKUP(CO18,MATCHSELEVES!$Y$14:$AE$600,4,FALSE),0)","v":0},{"$f":"IFERROR(VLOOKUP(CO18,MATCHSELEVES!$Y$14:$AE$600,5,FALSE),0)","v":0},{"$f":"IFERROR(VLOOKUP(CO18,MATCHSELEVES!$Y$14:$AF$600,8,FALSE),0)","v":0},{"$f":"IFERROR(VLOOKUP(CO18,MATCHSELEVES!$Y$14:$AG$600,9,FALSE),0)","v":0},"Hicham_14",{"$f":"IFERROR(VLOOKUP(CU18,MATCHSELEVES!$Y$14:$AE$600,3,FALSE),0)","v":0},{"$f":"IFERROR(VLOOKUP(CU18,MATCHSELEVES!$Y$14:$AE$600,4,FALSE),0)","v":0},{"$f":"IFERROR(VLOOKUP(CU18,MATCHSELEVES!$Y$14:$AE$600,5,FALSE),0)","v":0},{"$f":"IFERROR(VLOOKUP(CU18,MATCHSELEVES!$Y$14:$AF$600,8,FALSE),0)","v":0},{"$f":"IFERROR(VLOOKUP(CU18,MATCHSELEVES!$Y$14:$AG$600,9,FALSE),0)","v":0},"Hicham_15",{"$f":"IFERROR(VLOOKUP(DA18,MATCHSELEVES!$Y$14:$AE$600,3,FALSE),0)","v":0},{"$f":"IFERROR(VLOOKUP(DA18,MATCHSELEVES!$Y$14:$AE$600,4,FALSE),0)","v":0},{"$f":"IFERROR(VLOOKUP(DA18,MATCHSELEVES!$Y$14:$AE$600,5,FALSE),0)","v":0},{"$f":"IFERROR(VLOOKUP(DA18,MATCHSELEVES!$Y$14:$AF$600,8,FALSE),0)","v":0},{"$f":"IFERROR(VLOOKUP(DA18,MATCHSELEVES!$Y$14:$AG$600,9,FALSE),0)","v":0},"Hicham_16",{"$f":"IFERROR(VLOOKUP(DG18,MATCHSELEVES!$Y$14:$AE$600,3,FALSE),0)","v":0},{"$f":"IFERROR(VLOOKUP(DG18,MATCHSELEVES!$Y$14:$AE$600,4,FALSE),0)","v":0},{"$f":"IFERROR(VLOOKUP(DG18,MATCHSELEVES!$Y$14:$AE$600,5,FALSE),0)","v":0},{"$f":"IFERROR(VLOOKUP(DG18,MATCHSELEVES!$Y$14:$AF$600,8,FALSE),0)","v":0},{"$f":"IFERROR(VLOOKUP(DG18,MATCHSELEVES!$Y$14:$AG$600,9,FALSE),0)","v":0},"Hicham_17",{"$f":"IFERROR(VLOOKUP(DM18,MATCHSELEVES!$Y$14:$AE$600,3,FALSE),0)","v":0},{"$f":"IFERROR(VLOOKUP(DM18,MATCHSELEVES!$Y$14:$AE$600,4,FALSE),0)","v":0},{"$f":"IFERROR(VLOOKUP(DM18,MATCHSELEVES!$Y$14:$AE$600,5,FALSE),0)","v":0},{"$f":"IFERROR(VLOOKUP(DM18,MATCHSELEVES!$Y$14:$AF$600,8,FALSE),0)","v":0},{"$f":"IFERROR(VLOOKUP(DM18,MATCHSELEVES!$Y$14:$AG$600,9,FALSE),0)","v":0},"Hicham_18",{"$f":"IFERROR(VLOOKUP(DS18,MATCHSELEVES!$Y$14:$AE$600,3,FALSE),0)","v":0},{"$f":"IFERROR(VLOOKUP(DS18,MATCHSELEVES!$Y$14:$AE$600,4,FALSE),0)","v":0},{"$f":"IFERROR(VLOOKUP(DS18,MATCHSELEVES!$Y$14:$AE$600,5,FALSE),0)","v":0},{"$f":"IFERROR(VLOOKUP(DS18,MATCHSELEVES!$Y$14:$AF$600,8,FALSE),0)","v":0},{"$f":"IFERROR(VLOOKUP(DS18,MATCHSELEVES!$Y$14:$AG$600,9,FALSE),0)","v":0},"Hicham_19",{"$f":"IFERROR(VLOOKUP(DY18,MATCHSELEVES!$Y$14:$AE$600,3,FALSE),0)","v":0},{"$f":"IFERROR(VLOOKUP(DY18,MATCHSELEVES!$Y$14:$AE$600,4,FALSE),0)","v":0},{"$f":"IFERROR(VLOOKUP(DY18,MATCHSELEVES!$Y$14:$AE$600,5,FALSE),0)","v":0},{"$f":"IFERROR(VLOOKUP(DY18,MATCHSELEVES!$Y$14:$AF$600,8,FALSE),0)","v":0},{"$f":"IFERROR(VLOOKUP(DY18,MATCHSELEVES!$Y$14:$AG$600,9,FALSE),0)","v":0},"Hicham_20",{"$f":"IFERROR(VLOOKUP(EE18,MATCHSELEVES!$Y$14:$AE$600,3,FALSE),0)","v":0},{"$f":"IFERROR(VLOOKUP(EE18,MATCHSELEVES!$Y$14:$AE$600,4,FALSE),0)","v":0},{"$f":"IFERROR(VLOOKUP(EE18,MATCHSELEVES!$Y$14:$AE$600,5,FALSE),0)","v":0},{"$f":"IFERROR(VLOOKUP(EE18,MATCHSELEVES!$Y$14:$AF$600,8,FALSE),0)","v":0},{"$f":"IFERROR(VLOOKUP(EE18,MATCHSELEVES!$Y$14:$AG$600,9,FALSE),0)","v":0},"Hicham_21",{"$f":"IFERROR(VLOOKUP(EK18,MATCHSELEVES!$Y$14:$AE$600,3,FALSE),0)","v":0},{"$f":"IFERROR(VLOOKUP(EK18,MATCHSELEVES!$Y$14:$AE$600,4,FALSE),0)","v":0},{"$f":"IFERROR(VLOOKUP(EK18,MATCHSELEVES!$Y$14:$AE$600,5,FALSE),0)","v":0},{"$f":"IFERROR(VLOOKUP(EK18,MATCHSELEVES!$Y$14:$AF$600,8,FALSE),0)","v":0},{"$f":"IFERROR(VLOOKUP(EK18,MATCHSELEVES!$Y$14:$AG$600,9,FALSE),0)","v":0},"Hicham_22",{"$f":"IFERROR(VLOOKUP(EQ18,MATCHSELEVES!$Y$14:$AE$600,3,FALSE),0)","v":0},{"$f":"IFERROR(VLOOKUP(EQ18,MATCHSELEVES!$Y$14:$AE$600,4,FALSE),0)","v":0},{"$f":"IFERROR(VLOOKUP(EQ18,MATCHSELEVES!$Y$14:$AE$600,5,FALSE),0)","v":0},{"$f":"IFERROR(VLOOKUP(EQ18,MATCHSELEVES!$Y$14:$AF$600,8,FALSE),0)","v":0},{"$f":"IFERROR(VLOOKUP(EQ18,MATCHSELEVES!$Y$14:$AG$600,9,FALSE),0)","v":0},"Hicham_23",{"$f":"IFERROR(VLOOKUP(EW18,MATCHSELEVES!$Y$14:$AE$600,3,FALSE),0)","v":0},{"$f":"IFERROR(VLOOKUP(EW18,MATCHSELEVES!$Y$14:$AE$600,4,FALSE),0)","v":0},{"$f":"IFERROR(VLOOKUP(EW18,MATCHSELEVES!$Y$14:$AE$600,5,FALSE),0)","v":0},{"$f":"IFERROR(VLOOKUP(EW18,MATCHSELEVES!$Y$14:$AF$600,8,FALSE),0)","v":0},{"$f":"IFERROR(VLOOKUP(EW18,MATCHSELEVES!$Y$14:$AG$600,9,FALSE),0)","v":0},"Hicham_24",{"$f":"IFERROR(VLOOKUP(FC18,MATCHSELEVES!$Y$14:$AE$600,3,FALSE),0)","v":0},{"$f":"IFERROR(VLOOKUP(FC18,MATCHSELEVES!$Y$14:$AE$600,4,FALSE),0)","v":0},{"$f":"IFERROR(VLOOKUP(FC18,MATCHSELEVES!$Y$14:$AE$600,5,FALSE),0)","v":0},{"$f":"IFERROR(VLOOKUP(FC18,MATCHSELEVES!$Y$14:$AF$600,8,FALSE),0)","v":0},{"$f":"IFERROR(VLOOKUP(FC18,MATCHSELEVES!$Y$14:$AG$600,9,FALSE),0)","v":0},"Hicham_25",{"$f":"IFERROR(VLOOKUP(FI18,MATCHSELEVES!$Y$14:$AE$600,3,FALSE),0)","v":0},{"$f":"IFERROR(VLOOKUP(FI18,MATCHSELEVES!$Y$14:$AE$600,4,FALSE),0)","v":0},{"$f":"IFERROR(VLOOKUP(FI18,MATCHSELEVES!$Y$14:$AE$600,5,FALSE),0)","v":0},{"$f":"IFERROR(VLOOKUP(FI18,MATCHSELEVES!$Y$14:$AF$600,8,FALSE),0)","v":0},{"$f":"IFERROR(VLOOKUP(FI18,MATCHSELEVES!$Y$14:$AG$600,9,FALSE),0)","v":0},"Hicham_26",{"$f":"IFERROR(VLOOKUP(FO18,MATCHSELEVES!$Y$14:$AE$600,3,FALSE),0)","v":0},{"$f":"IFERROR(VLOOKUP(FO18,MATCHSELEVES!$Y$14:$AE$600,4,FALSE),0)","v":0},{"$f":"IFERROR(VLOOKUP(FO18,MATCHSELEVES!$Y$14:$AE$600,5,FALSE),0)","v":0},{"$f":"IFERROR(VLOOKUP(FO18,MATCHSELEVES!$Y$14:$AF$600,8,FALSE),0)","v":0},{"$f":"IFERROR(VLOOKUP(FO18,MATCHSELEVES!$Y$14:$AG$600,9,FALSE),0)","v":0},"Hicham_27",{"$f":"IFERROR(VLOOKUP(FU18,MATCHSELEVES!$Y$14:$AE$600,3,FALSE),0)","v":0},{"$f":"IFERROR(VLOOKUP(FU18,MATCHSELEVES!$Y$14:$AE$600,4,FALSE),0)","v":0},{"$f":"IFERROR(VLOOKUP(FU18,MATCHSELEVES!$Y$14:$AE$600,5,FALSE),0)","v":0},{"$f":"IFERROR(VLOOKUP(FU18,MATCHSELEVES!$Y$14:$AF$600,8,FALSE),0)","v":0},{"$f":"IFERROR(VLOOKUP(FU18,MATCHSELEVES!$Y$14:$AG$600,9,FALSE),0)","v":0},"Hicham_28",{"$f":"IFERROR(VLOOKUP(GA18,MATCHSELEVES!$Y$14:$AE$600,3,FALSE),0)","v":0},{"$f":"IFERROR(VLOOKUP(GA18,MATCHSELEVES!$Y$14:$AE$600,4,FALSE),0)","v":0},{"$f":"IFERROR(VLOOKUP(GA18,MATCHSELEVES!$Y$14:$AE$600,5,FALSE),0)","v":0},{"$f":"IFERROR(VLOOKUP(GA18,MATCHSELEVES!$Y$14:$AF$600,8,FALSE),0)","v":0},{"$f":"IFERROR(VLOOKUP(GA18,MATCHSELEVES!$Y$14:$AG$600,9,FALSE),0)","v":0},"Hicham_29",{"$f":"IFERROR(VLOOKUP(GG18,MATCHSELEVES!$Y$14:$AE$600,3,FALSE),0)","v":0},{"$f":"IFERROR(VLOOKUP(GG18,MATCHSELEVES!$Y$14:$AE$600,4,FALSE),0)","v":0},{"$f":"IFERROR(VLOOKUP(GG18,MATCHSELEVES!$Y$14:$AE$600,5,FALSE),0)","v":0},{"$f":"IFERROR(VLOOKUP(GG18,MATCHSELEVES!$Y$14:$AF$600,8,FALSE),0)","v":0},{"$f":"IFERROR(VLOOKUP(GG18,MATCHSELEVES!$Y$14:$AG$600,9,FALSE),0)","v":0},"Hicham_30",{"$f":"IFERROR(VLOOKUP(GM18,MATCHSELEVES!$Y$14:$AE$600,3,FALSE),0)","v":0},{"$f":"IFERROR(VLOOKUP(GM18,MATCHSELEVES!$Y$14:$AE$600,4,FALSE),0)","v":0},{"$f":"IFERROR(VLOOKUP(GM18,MATCHSELEVES!$Y$14:$AE$600,5,FALSE),0)","v":0},{"$f":"IFERROR(VLOOKUP(GM18,MATCHSELEVES!$Y$14:$AF$600,8,FALSE),0)","v":0},{"$f":"IFERROR(VLOOKUP(GM18,MATCHSELEVES!$Y$14:$AG$600,9,FALSE),0)","v":0},"Hicham_31",{"$f":"IFERROR(VLOOKUP(GS18,MATCHSELEVES!$Y$14:$AE$600,3,FALSE),0)","v":0},{"$f":"IFERROR(VLOOKUP(GS18,MATCHSELEVES!$Y$14:$AE$600,4,FALSE),0)","v":0},{"$f":"IFERROR(VLOOKUP(GS18,MATCHSELEVES!$Y$14:$AE$600,5,FALSE),0)","v":0},{"$f":"IFERROR(VLOOKUP(GS18,MATCHSELEVES!$Y$14:$AF$600,8,FALSE),0)","v":0},{"$f":"IFERROR(VLOOKUP(GS18,MATCHSELEVES!$Y$14:$AG$600,9,FALSE),0)","v":0},"Hicham_32",{"$f":"IFERROR(VLOOKUP(GY18,MATCHSELEVES!$Y$14:$AE$600,3,FALSE),0)","v":0},{"$f":"IFERROR(VLOOKUP(GY18,MATCHSELEVES!$Y$14:$AE$600,4,FALSE),0)","v":0},{"$f":"IFERROR(VLOOKUP(GY18,MATCHSELEVES!$Y$14:$AE$600,5,FALSE),0)","v":0},{"$f":"IFERROR(VLOOKUP(GY18,MATCHSELEVES!$Y$14:$AF$600,8,FALSE),0)","v":0},{"$f":"IFERROR(VLOOKUP(GY18,MATCHSELEVES!$Y$14:$AG$600,9,FALSE),0)","v":0},"Hicham_33",{"$f":"IFERROR(VLOOKUP(HE18,MATCHSELEVES!$Y$14:$AE$600,3,FALSE),0)","v":0},{"$f":"IFERROR(VLOOKUP(HE18,MATCHSELEVES!$Y$14:$AE$600,4,FALSE),0)","v":0},{"$f":"IFERROR(VLOOKUP(HE18,MATCHSELEVES!$Y$14:$AE$600,5,FALSE),0)","v":0},{"$f":"IFERROR(VLOOKUP(HE18,MATCHSELEVES!$Y$14:$AF$600,8,FALSE),0)","v":0},{"$f":"IFERROR(VLOOKUP(HE18,MATCHSELEVES!$Y$14:$AG$600,9,FALSE),0)","v":0},"Hicham_34",{"$f":"IFERROR(VLOOKUP(HK18,MATCHSELEVES!$Y$14:$AE$600,3,FALSE),0)","v":0},{"$f":"IFERROR(VLOOKUP(HK18,MATCHSELEVES!$Y$14:$AE$600,4,FALSE),0)","v":0},{"$f":"IFERROR(VLOOKUP(HK18,MATCHSELEVES!$Y$14:$AE$600,5,FALSE),0)","v":0},{"$f":"IFERROR(VLOOKUP(HK18,MATCHSELEVES!$Y$14:$AF$600,8,FALSE),0)","v":0},{"$f":"IFERROR(VLOOKUP(HK18,MATCHSELEVES!$Y$14:$AG$600,9,FALSE),0)","v":0},"Hicham_35",{"$f":"IFERROR(VLOOKUP(HQ18,MATCHSELEVES!$Y$14:$AE$600,3,FALSE),0)","v":0},{"$f":"IFERROR(VLOOKUP(HQ18,MATCHSELEVES!$Y$14:$AE$600,4,FALSE),0)","v":0},{"$f":"IFERROR(VLOOKUP(HQ18,MATCHSELEVES!$Y$14:$AE$600,5,FALSE),0)","v":0},{"$f":"IFERROR(VLOOKUP(HQ18,MATCHSELEVES!$Y$14:$AF$600,8,FALSE),0)","v":0},{"$f":"IFERROR(VLOOKUP(HQ18,MATCHSELEVES!$Y$14:$AG$600,9,FALSE),0)","v":0},"Hicham_36",{"$f":"IFERROR(VLOOKUP(HW18,MATCHSELEVES!$Y$14:$AE$600,3,FALSE),0)","v":0},{"$f":"IFERROR(VLOOKUP(HW18,MATCHSELEVES!$Y$14:$AE$600,4,FALSE),0)","v":0},{"$f":"IFERROR(VLOOKUP(HW18,MATCHSELEVES!$Y$14:$AE$600,5,FALSE),0)","v":0},{"$f":"IFERROR(VLOOKUP(HW18,MATCHSELEVES!$Y$14:$AF$600,8,FALSE),0)","v":0},{"$f":"IFERROR(VLOOKUP(HW18,MATCHSELEVES!$Y$14:$AG$600,9,FALSE),0)","v":0},"Hicham_37",{"$f":"IFERROR(VLOOKUP(IC18,MATCHSELEVES!$Y$14:$AE$600,3,FALSE),0)","v":0},{"$f":"IFERROR(VLOOKUP(IC18,MATCHSELEVES!$Y$14:$AE$600,4,FALSE),0)","v":0},{"$f":"IFERROR(VLOOKUP(IC18,MATCHSELEVES!$Y$14:$AE$600,5,FALSE),0)","v":0},{"$f":"IFERROR(VLOOKUP(IC18,MATCHSELEVES!$Y$14:$AF$600,8,FALSE),0)","v":0},{"$f":"IFERROR(VLOOKUP(IC18,MATCHSELEVES!$Y$14:$AG$600,9,FALSE),0)","v":0},"Hicham_38",{"$f":"IFERROR(VLOOKUP(II18,MATCHSELEVES!$Y$14:$AE$600,3,FALSE),0)","v":0},{"$f":"IFERROR(VLOOKUP(II18,MATCHSELEVES!$Y$14:$AE$600,4,FALSE),0)","v":0},{"$f":"IFERROR(VLOOKUP(II18,MATCHSELEVES!$Y$14:$AE$600,5,FALSE),0)","v":0},{"$f":"IFERROR(VLOOKUP(II18,MATCHSELEVES!$Y$14:$AF$600,8,FALSE),0)","v":0},{"$f":"IFERROR(VLOOKUP(II18,MATCHSELEVES!$Y$14:$AG$600,9,FALSE),0)","v":0},"Hicham_39",{"$f":"IFERROR(VLOOKUP(IO18,MATCHSELEVES!$Y$14:$AE$600,3,FALSE),0)","v":0},{"$f":"IFERROR(VLOOKUP(IO18,MATCHSELEVES!$Y$14:$AE$600,4,FALSE),0)","v":0},{"$f":"IFERROR(VLOOKUP(IO18,MATCHSELEVES!$Y$14:$AE$600,5,FALSE),0)","v":0},{"$f":"IFERROR(VLOOKUP(IO18,MATCHSELEVES!$Y$14:$AF$600,8,FALSE),0)","v":0},{"$f":"IFERROR(VLOOKUP(IO18,MATCHSELEVES!$Y$14:$AG$600,9,FALSE),0)","v":0},"Hicham_40",{"$f":"IFERROR(VLOOKUP(IU18,MATCHSELEVES!$Y$14:$AE$600,3,FALSE),0)","v":0},{"$f":"IFERROR(VLOOKUP(IU18,MATCHSELEVES!$Y$14:$AE$600,4,FALSE),0)","v":0},{"$f":"IFERROR(VLOOKUP(IU18,MATCHSELEVES!$Y$14:$AE$600,5,FALSE),0)","v":0},{"$f":"IFERROR(VLOOKUP(IU18,MATCHSELEVES!$Y$14:$AF$600,8,FALSE),0)","v":0},{"$f":"IFERROR(VLOOKUP(IU18,MATCHSELEVES!$Y$14:$AG$600,9,FALSE),0)","v":0},{"$f":"Tableau10[[#This Row],[CLASSE]]","v":"Hicham"},1,{"$f":"MD1POINT!D18","v":1},"Hichamp_1",{"$f":"IFERROR(VLOOKUP(JD18,MATCHSELEVES!$Y$14:$AE$600,3,FALSE),0)","v":0},{"$f":"IFERROR(VLOOKUP(JD18,MATCHSELEVES!$Y$14:$AE$600,4,FALSE),0)","v":0},{"$f":"IFERROR(VLOOKUP(JD18,MATCHSELEVES!$Y$14:$AE$600,5,FALSE),0)","v":0},{"$f":"IFERROR(VLOOKUP(JD18,MATCHSELEVES!$Y$14:$AF$600,8,FALSE),0)","v":0},{"$f":"IFERROR(VLOOKUP(JD18,MATCHSELEVES!$Y$14:$AG$600,9,FALSE),0)","v":0},"Hichamp_2",{"$f":"IFERROR(VLOOKUP(JJ18,MATCHSELEVES!$Y$14:$AE$600,3,FALSE),0)","v":0},{"$f":"IFERROR(VLOOKUP(JJ18,MATCHSELEVES!$Y$14:$AE$600,4,FALSE),0)","v":0},{"$f":"IFERROR(VLOOKUP(JJ18,MATCHSELEVES!$Y$14:$AE$600,5,FALSE),0)","v":0},{"$f":"IFERROR(VLOOKUP(JJ18,MATCHSELEVES!$Y$14:$AF$600,8,FALSE),0)","v":0},{"$f":"IFERROR(VLOOKUP(JJ18,MATCHSELEVES!$Y$14:$AG$600,9,FALSE),0)","v":0},"Hichamp_3",{"$f":"IFERROR(VLOOKUP(JP18,MATCHSELEVES!$Y$14:$AE$600,3,FALSE),0)","v":0},{"$f":"IFERROR(VLOOKUP(JP18,MATCHSELEVES!$Y$14:$AE$600,4,FALSE),0)","v":0},{"$f":"IFERROR(VLOOKUP(JP18,MATCHSELEVES!$Y$14:$AE$600,5,FALSE),0)","v":0},{"$f":"IFERROR(VLOOKUP(JP18,MATCHSELEVES!$Y$14:$AF$600,8,FALSE),0)","v":0},{"$f":"IFERROR(VLOOKUP(JP18,MATCHSELEVES!$Y$14:$AG$600,9,FALSE),0)","v":0},"Hichamp_4",{"$f":"IFERROR(VLOOKUP(JV18,MATCHSELEVES!$Y$14:$AE$600,3,FALSE),0)","v":0},{"$f":"IFERROR(VLOOKUP(JV18,MATCHSELEVES!$Y$14:$AE$600,4,FALSE),0)","v":0},{"$f":"IFERROR(VLOOKUP(JV18,MATCHSELEVES!$Y$14:$AE$600,5,FALSE),0)","v":0},{"$f":"IFERROR(VLOOKUP(JV18,MATCHSELEVES!$Y$14:$AF$600,8,FALSE),0)","v":0},{"$f":"IFERROR(VLOOKUP(JV18,MATCHSELEVES!$Y$14:$AG$600,9,FALSE),0)","v":0},"Hichamp_5",{"$f":"IFERROR(VLOOKUP(KB18,MATCHSELEVES!$Y$14:$AE$600,3,FALSE),0)","v":0},{"$f":"IFERROR(VLOOKUP(KB18,MATCHSELEVES!$Y$14:$AE$600,4,FALSE),0)","v":0},{"$f":"IFERROR(VLOOKUP(KB18,MATCHSELEVES!$Y$14:$AE$600,5,FALSE),0)","v":0},{"$f":"IFERROR(VLOOKUP(KB18,MATCHSELEVES!$Y$14:$AF$600,8,FALSE),0)","v":0},{"$f":"IFERROR(VLOOKUP(KB18,MATCHSELEVES!$Y$14:$AG$600,9,FALSE),0)","v":0},"Hichamp_6",{"$f":"IFERROR(VLOOKUP(KH18,MATCHSELEVES!$Y$14:$AE$600,3,FALSE),0)","v":0},{"$f":"IFERROR(VLOOKUP(KH18,MATCHSELEVES!$Y$14:$AE$600,4,FALSE),0)","v":0},{"$f":"IFERROR(VLOOKUP(KH18,MATCHSELEVES!$Y$14:$AE$600,5,FALSE),0)","v":0},{"$f":"IFERROR(VLOOKUP(KH18,MATCHSELEVES!$Y$14:$AF$600,8,FALSE),0)","v":0},{"$f":"IFERROR(VLOOKUP(KH18,MATCHSELEVES!$Y$14:$AG$600,9,FALSE),0)","v":0},"Hichamp_7",{"$f":"IFERROR(VLOOKUP(KN18,MATCHSELEVES!$Y$14:$AE$600,3,FALSE),0)","v":0},{"$f":"IFERROR(VLOOKUP(KN18,MATCHSELEVES!$Y$14:$AE$600,4,FALSE),0)","v":0},{"$f":"IFERROR(VLOOKUP(KN18,MATCHSELEVES!$Y$14:$AE$600,5,FALSE),0)","v":0},{"$f":"IFERROR(VLOOKUP(KN18,MATCHSELEVES!$Y$14:$AF$600,8,FALSE),0)","v":0},{"$f":"IFERROR(VLOOKUP(KN18,MATCHSELEVES!$Y$14:$AG$600,9,FALSE),0)","v":0},"Hichamp_8",{"$f":"IFERROR(VLOOKUP(KT18,MATCHSELEVES!$Y$14:$AE$600,3,FALSE),0)","v":0},{"$f":"IFERROR(VLOOKUP(KT18,MATCHSELEVES!$Y$14:$AE$600,4,FALSE),0)","v":0},{"$f":"IFERROR(VLOOKUP(KT18,MATCHSELEVES!$Y$14:$AE$600,5,FALSE),0)","v":0},{"$f":"IFERROR(VLOOKUP(KT18,MATCHSELEVES!$Y$14:$AF$600,8,FALSE),0)","v":0},{"$f":"IFERROR(VLOOKUP(KT18,MATCHSELEVES!$Y$14:$AG$600,9,FALSE),0)","v":0},"Hichamp_9",{"$f":"IFERROR(VLOOKUP(KZ18,MATCHSELEVES!$Y$14:$AE$600,3,FALSE),0)","v":0},{"$f":"IFERROR(VLOOKUP(KZ18,MATCHSELEVES!$Y$14:$AE$600,4,FALSE),0)","v":0},{"$f":"IFERROR(VLOOKUP(KZ18,MATCHSELEVES!$Y$14:$AE$600,5,FALSE),0)","v":0},{"$f":"IFERROR(VLOOKUP(KZ18,MATCHSELEVES!$Y$14:$AF$600,8,FALSE),0)","v":0},{"$f":"IFERROR(VLOOKUP(KZ18,MATCHSELEVES!$Y$14:$AG$600,9,FALSE),0)","v":0},"Hichamp_10",{"$f":"IFERROR(VLOOKUP(LF18,MATCHSELEVES!$Y$14:$AE$600,3,FALSE),0)","v":0},{"$f":"IFERROR(VLOOKUP(LF18,MATCHSELEVES!$Y$14:$AE$600,4,FALSE),0)","v":0},{"$f":"IFERROR(VLOOKUP(LF18,MATCHSELEVES!$Y$14:$AE$600,5,FALSE),0)","v":0},{"$f":"IFERROR(VLOOKUP(LF18,MATCHSELEVES!$Y$14:$AF$600,8,FALSE),0)","v":0},{"$f":"IFERROR(VLOOKUP(LF18,MATCHSELEVES!$Y$14:$AG$600,9,FALSE),0)","v":0},"Hichamp_11",{"$f":"IFERROR(VLOOKUP(LL18,MATCHSELEVES!$Y$14:$AE$600,3,FALSE),0)","v":0},{"$f":"IFERROR(VLOOKUP(LL18,MATCHSELEVES!$Y$14:$AE$600,4,FALSE),0)","v":0},{"$f":"IFERROR(VLOOKUP(LL18,MATCHSELEVES!$Y$14:$AE$600,5,FALSE),0)","v":0},{"$f":"IFERROR(VLOOKUP(LL18,MATCHSELEVES!$Y$14:$AF$600,8,FALSE),0)","v":0},{"$f":"IFERROR(VLOOKUP(LL18,MATCHSELEVES!$Y$14:$AG$600,9,FALSE),0)","v":0},"Hichamp_12",{"$f":"IFERROR(VLOOKUP(LR18,MATCHSELEVES!$Y$14:$AE$600,3,FALSE),0)","v":0},{"$f":"IFERROR(VLOOKUP(LR18,MATCHSELEVES!$Y$14:$AE$600,4,FALSE),0)","v":0},{"$f":"IFERROR(VLOOKUP(LR18,MATCHSELEVES!$Y$14:$AE$600,5,FALSE),0)","v":0},{"$f":"IFERROR(VLOOKUP(LR18,MATCHSELEVES!$Y$14:$AF$600,8,FALSE),0)","v":0},{"$f":"IFERROR(VLOOKUP(LR18,MATCHSELEVES!$Y$14:$AG$600,9,FALSE),0)","v":0},"Hichamp_13",{"$f":"IFERROR(VLOOKUP(LX18,MATCHSELEVES!$Y$14:$AE$600,3,FALSE),0)","v":0},{"$f":"IFERROR(VLOOKUP(LX18,MATCHSELEVES!$Y$14:$AE$600,4,FALSE),0)","v":0},{"$f":"IFERROR(VLOOKUP(LX18,MATCHSELEVES!$Y$14:$AE$600,5,FALSE),0)","v":0},{"$f":"IFERROR(VLOOKUP(LX18,MATCHSELEVES!$Y$14:$AF$600,8,FALSE),0)","v":0},{"$f":"IFERROR(VLOOKUP(LX18,MATCHSELEVES!$Y$14:$AG$600,9,FALSE),0)","v":0},"Hichamp_14",{"$f":"IFERROR(VLOOKUP(MD18,MATCHSELEVES!$Y$14:$AE$600,3,FALSE),0)","v":0},{"$f":"IFERROR(VLOOKUP(MD18,MATCHSELEVES!$Y$14:$AE$600,4,FALSE),0)","v":0},{"$f":"IFERROR(VLOOKUP(MD18,MATCHSELEVES!$Y$14:$AE$600,5,FALSE),0)","v":0},{"$f":"IFERROR(VLOOKUP(MD18,MATCHSELEVES!$Y$14:$AF$600,8,FALSE),0)","v":0},{"$f":"IFERROR(VLOOKUP(MD18,MATCHSELEVES!$Y$14:$AG$600,9,FALSE),0)","v":0},"Hichamp_15",{"$f":"IFERROR(VLOOKUP(MJ18,MATCHSELEVES!$Y$14:$AE$600,3,FALSE),0)","v":0},{"$f":"IFERROR(VLOOKUP(MJ18,MATCHSELEVES!$Y$14:$AE$600,4,FALSE),0)","v":0},{"$f":"IFERROR(VLOOKUP(MJ18,MATCHSELEVES!$Y$14:$AE$600,5,FALSE),0)","v":0},{"$f":"IFERROR(VLOOKUP(MJ18,MATCHSELEVES!$Y$14:$AF$600,8,FALSE),0)","v":0},{"$f":"IFERROR(VLOOKUP(MJ18,MATCHSELEVES!$Y$14:$AG$600,9,FALSE),0)","v":0},"Hichamp_16",{"$f":"IFERROR(VLOOKUP(MP18,MATCHSELEVES!$Y$14:$AE$600,3,FALSE),0)","v":0},{"$f":"IFERROR(VLOOKUP(MP18,MATCHSELEVES!$Y$14:$AE$600,4,FALSE),0)","v":0},{"$f":"IFERROR(VLOOKUP(MP18,MATCHSELEVES!$Y$14:$AE$600,5,FALSE),0)","v":0},{"$f":"IFERROR(VLOOKUP(MP18,MATCHSELEVES!$Y$14:$AF$600,8,FALSE),0)","v":0},{"$f":"IFERROR(VLOOKUP(MP18,MATCHSELEVES!$Y$14:$AG$600,9,FALSE),0)","v":0},"Hichamp_17",{"$f":"IFERROR(VLOOKUP(MV18,MATCHSELEVES!$Y$14:$AE$600,3,FALSE),0)","v":0},{"$f":"IFERROR(VLOOKUP(MV18,MATCHSELEVES!$Y$14:$AE$600,4,FALSE),0)","v":0},{"$f":"IFERROR(VLOOKUP(MV18,MATCHSELEVES!$Y$14:$AE$600,5,FALSE),0)","v":0},{"$f":"IFERROR(VLOOKUP(MV18,MATCHSELEVES!$Y$14:$AF$600,8,FALSE),0)","v":0},{"$f":"IFERROR(VLOOKUP(MV18,MATCHSELEVES!$Y$14:$AG$600,9,FALSE),0)","v":0},"Hichamp_18",{"$f":"IFERROR(VLOOKUP(NB18,MATCHSELEVES!$Y$14:$AE$600,3,FALSE),0)","v":0},{"$f":"IFERROR(VLOOKUP(NB18,MATCHSELEVES!$Y$14:$AE$600,4,FALSE),0)","v":0},{"$f":"IFERROR(VLOOKUP(NB18,MATCHSELEVES!$Y$14:$AE$600,5,FALSE),0)","v":0},{"$f":"IFERROR(VLOOKUP(NB18,MATCHSELEVES!$Y$14:$AF$600,8,FALSE),0)","v":0},{"$f":"IFERROR(VLOOKUP(NB18,MATCHSELEVES!$Y$14:$AG$600,9,FALSE),0)","v":0},"Hichamp_19",{"$f":"IFERROR(VLOOKUP(NH18,MATCHSELEVES!$Y$14:$AE$600,3,FALSE),0)","v":0},{"$f":"IFERROR(VLOOKUP(NH18,MATCHSELEVES!$Y$14:$AE$600,4,FALSE),0)","v":0},{"$f":"IFERROR(VLOOKUP(NH18,MATCHSELEVES!$Y$14:$AE$600,5,FALSE),0)","v":0},{"$f":"IFERROR(VLOOKUP(NH18,MATCHSELEVES!$Y$14:$AF$600,8,FALSE),0)","v":0},{"$f":"IFERROR(VLOOKUP(NH18,MATCHSELEVES!$Y$14:$AG$600,9,FALSE),0)","v":0},"Hichamp_20",{"$f":"IFERROR(VLOOKUP(NN18,MATCHSELEVES!$Y$14:$AE$600,3,FALSE),0)","v":0},{"$f":"IFERROR(VLOOKUP(NN18,MATCHSELEVES!$Y$14:$AE$600,4,FALSE),0)","v":0},{"$f":"IFERROR(VLOOKUP(NN18,MATCHSELEVES!$Y$14:$AE$600,5,FALSE),0)","v":0},{"$f":"IFERROR(VLOOKUP(NN18,MATCHSELEVES!$Y$14:$AF$600,8,FALSE),0)","v":0},{"$f":"IFERROR(VLOOKUP(NN18,MATCHSELEVES!$Y$14:$AG$600,9,FALSE),0)","v":0},"Hichamp_21",{"$f":"IFERROR(VLOOKUP(NT18,MATCHSELEVES!$Y$14:$AE$600,3,FALSE),0)","v":0},{"$f":"IFERROR(VLOOKUP(NT18,MATCHSELEVES!$Y$14:$AE$600,4,FALSE),0)","v":0},{"$f":"IFERROR(VLOOKUP(NT18,MATCHSELEVES!$Y$14:$AE$600,5,FALSE),0)","v":0},{"$f":"IFERROR(VLOOKUP(NT18,MATCHSELEVES!$Y$14:$AF$600,8,FALSE),0)","v":0},{"$f":"IFERROR(VLOOKUP(NT18,MATCHSELEVES!$Y$14:$AG$600,9,FALSE),0)","v":0},"Hichamp_22",{"$f":"IFERROR(VLOOKUP(NZ18,MATCHSELEVES!$Y$14:$AE$600,3,FALSE),0)","v":0},{"$f":"IFERROR(VLOOKUP(NZ18,MATCHSELEVES!$Y$14:$AE$600,4,FALSE),0)","v":0},{"$f":"IFERROR(VLOOKUP(NZ18,MATCHSELEVES!$Y$14:$AE$600,5,FALSE),0)","v":0},{"$f":"IFERROR(VLOOKUP(NZ18,MATCHSELEVES!$Y$14:$AF$600,8,FALSE),0)","v":0},{"$f":"IFERROR(VLOOKUP(NZ18,MATCHSELEVES!$Y$14:$AG$600,9,FALSE),0)","v":0},"Hichamp_23",{"$f":"IFERROR(VLOOKUP(OF18,MATCHSELEVES!$Y$14:$AE$600,3,FALSE),0)","v":0},{"$f":"IFERROR(VLOOKUP(OF18,MATCHSELEVES!$Y$14:$AE$600,4,FALSE),0)","v":0},{"$f":"IFERROR(VLOOKUP(OF18,MATCHSELEVES!$Y$14:$AE$600,5,FALSE),0)","v":0},{"$f":"IFERROR(VLOOKUP(OF18,MATCHSELEVES!$Y$14:$AF$600,8,FALSE),0)","v":0},{"$f":"IFERROR(VLOOKUP(OF18,MATCHSELEVES!$Y$14:$AG$600,9,FALSE),0)","v":0},"Hichamp_24",{"$f":"IFERROR(VLOOKUP(OL18,MATCHSELEVES!$Y$14:$AE$600,3,FALSE),0)","v":0},{"$f":"IFERROR(VLOOKUP(OL18,MATCHSELEVES!$Y$14:$AE$600,4,FALSE),0)","v":0},{"$f":"IFERROR(VLOOKUP(OL18,MATCHSELEVES!$Y$14:$AE$600,5,FALSE),0)","v":0},{"$f":"IFERROR(VLOOKUP(OL18,MATCHSELEVES!$Y$14:$AF$600,8,FALSE),0)","v":0},{"$f":"IFERROR(VLOOKUP(OL18,MATCHSELEVES!$Y$14:$AG$600,9,FALSE),0)","v":0},"Hichamp_25",{"$f":"IFERROR(VLOOKUP(OR18,MATCHSELEVES!$Y$14:$AE$600,3,FALSE),0)","v":0},{"$f":"IFERROR(VLOOKUP(OR18,MATCHSELEVES!$Y$14:$AE$600,4,FALSE),0)","v":0},{"$f":"IFERROR(VLOOKUP(OR18,MATCHSELEVES!$Y$14:$AE$600,5,FALSE),0)","v":0},{"$f":"IFERROR(VLOOKUP(OR18,MATCHSELEVES!$Y$14:$AF$600,8,FALSE),0)","v":0},{"$f":"IFERROR(VLOOKUP(OR18,MATCHSELEVES!$Y$14:$AG$600,9,FALSE),0)","v":0},"Hichamp_26",{"$f":"IFERROR(VLOOKUP(OX18,MATCHSELEVES!$Y$14:$AE$600,3,FALSE),0)","v":0},{"$f":"IFERROR(VLOOKUP(OX18,MATCHSELEVES!$Y$14:$AE$600,4,FALSE),0)","v":0},{"$f":"IFERROR(VLOOKUP(OX18,MATCHSELEVES!$Y$14:$AE$600,5,FALSE),0)","v":0},{"$f":"IFERROR(VLOOKUP(OX18,MATCHSELEVES!$Y$14:$AF$600,8,FALSE),0)","v":0},{"$f":"IFERROR(VLOOKUP(OX18,MATCHSELEVES!$Y$14:$AG$600,9,FALSE),0)","v":0},"Hichamp_27",{"$f":"IFERROR(VLOOKUP(PD18,MATCHSELEVES!$Y$14:$AE$600,3,FALSE),0)","v":0},{"$f":"IFERROR(VLOOKUP(PD18,MATCHSELEVES!$Y$14:$AE$600,4,FALSE),0)","v":0},{"$f":"IFERROR(VLOOKUP(PD18,MATCHSELEVES!$Y$14:$AE$600,5,FALSE),0)","v":0},{"$f":"IFERROR(VLOOKUP(PD18,MATCHSELEVES!$Y$14:$AF$600,8,FALSE),0)","v":0},{"$f":"IFERROR(VLOOKUP(PD18,MATCHSELEVES!$Y$14:$AG$600,9,FALSE),0)","v":0},"Hichamp_28",{"$f":"IFERROR(VLOOKUP(PJ18,MATCHSELEVES!$Y$14:$AE$600,3,FALSE),0)","v":0},{"$f":"IFERROR(VLOOKUP(PJ18,MATCHSELEVES!$Y$14:$AE$600,4,FALSE),0)","v":0},{"$f":"IFERROR(VLOOKUP(PJ18,MATCHSELEVES!$Y$14:$AE$600,5,FALSE),0)","v":0},{"$f":"IFERROR(VLOOKUP(PJ18,MATCHSELEVES!$Y$14:$AF$600,8,FALSE),0)","v":0},{"$f":"IFERROR(VLOOKUP(PJ18,MATCHSELEVES!$Y$14:$AG$600,9,FALSE),0)","v":0},"Hichamp_29",{"$f":"IFERROR(VLOOKUP(PP18,MATCHSELEVES!$Y$14:$AE$600,3,FALSE),0)","v":0},{"$f":"IFERROR(VLOOKUP(PP18,MATCHSELEVES!$Y$14:$AE$600,4,FALSE),0)","v":0},{"$f":"IFERROR(VLOOKUP(PP18,MATCHSELEVES!$Y$14:$AE$600,5,FALSE),0)","v":0},{"$f":"IFERROR(VLOOKUP(PP18,MATCHSELEVES!$Y$14:$AF$600,8,FALSE),0)","v":0},{"$f":"IFERROR(VLOOKUP(PP18,MATCHSELEVES!$Y$14:$AG$600,9,FALSE),0)","v":0},"Hichamp_30",{"$f":"IFERROR(VLOOKUP(PV18,MATCHSELEVES!$Y$14:$AE$600,3,FALSE),0)","v":0},{"$f":"IFERROR(VLOOKUP(PV18,MATCHSELEVES!$Y$14:$AE$600,4,FALSE),0)","v":0},{"$f":"IFERROR(VLOOKUP(PV18,MATCHSELEVES!$Y$14:$AE$600,5,FALSE),0)","v":0},{"$f":"IFERROR(VLOOKUP(PV18,MATCHSELEVES!$Y$14:$AF$600,8,FALSE),0)","v":0},{"$f":"IFERROR(VLOOKUP(PV18,MATCHSELEVES!$Y$14:$AG$600,9,FALSE),0)","v":0},"Hichamp_31",{"$f":"IFERROR(VLOOKUP(QB18,MATCHSELEVES!$Y$14:$AE$600,3,FALSE),0)","v":0},{"$f":"IFERROR(VLOOKUP(QB18,MATCHSELEVES!$Y$14:$AE$600,4,FALSE),0)","v":0},{"$f":"IFERROR(VLOOKUP(QB18,MATCHSELEVES!$Y$14:$AE$600,5,FALSE),0)","v":0},{"$f":"IFERROR(VLOOKUP(QB18,MATCHSELEVES!$Y$14:$AF$600,8,FALSE),0)","v":0},{"$f":"IFERROR(VLOOKUP(QB18,MATCHSELEVES!$Y$14:$AG$600,9,FALSE),0)","v":0},"Hichamp_32",{"$f":"IFERROR(VLOOKUP(QH18,MATCHSELEVES!$Y$14:$AE$600,3,FALSE),0)","v":0},{"$f":"IFERROR(VLOOKUP(QH18,MATCHSELEVES!$Y$14:$AE$600,4,FALSE),0)","v":0},{"$f":"IFERROR(VLOOKUP(QH18,MATCHSELEVES!$Y$14:$AE$600,5,FALSE),0)","v":0},{"$f":"IFERROR(VLOOKUP(QH18,MATCHSELEVES!$Y$14:$AF$600,8,FALSE),0)","v":0},{"$f":"IFERROR(VLOOKUP(QH18,MATCHSELEVES!$Y$14:$AG$600,9,FALSE),0)","v":0},"Hichamp_33",{"$f":"IFERROR(VLOOKUP(QN18,MATCHSELEVES!$Y$14:$AE$600,3,FALSE),0)","v":0},{"$f":"IFERROR(VLOOKUP(QN18,MATCHSELEVES!$Y$14:$AE$600,4,FALSE),0)","v":0},{"$f":"IFERROR(VLOOKUP(QN18,MATCHSELEVES!$Y$14:$AE$600,5,FALSE),0)","v":0},{"$f":"IFERROR(VLOOKUP(QN18,MATCHSELEVES!$Y$14:$AF$600,8,FALSE),0)","v":0},{"$f":"IFERROR(VLOOKUP(QN18,MATCHSELEVES!$Y$14:$AG$600,9,FALSE),0)","v":0},"Hichamp_34",{"$f":"IFERROR(VLOOKUP(QT18,MATCHSELEVES!$Y$14:$AE$600,3,FALSE),0)","v":0},{"$f":"IFERROR(VLOOKUP(QT18,MATCHSELEVES!$Y$14:$AE$600,4,FALSE),0)","v":0},{"$f":"IFERROR(VLOOKUP(QT18,MATCHSELEVES!$Y$14:$AE$600,5,FALSE),0)","v":0},{"$f":"IFERROR(VLOOKUP(QT18,MATCHSELEVES!$Y$14:$AF$600,8,FALSE),0)","v":0},{"$f":"IFERROR(VLOOKUP(QT18,MATCHSELEVES!$Y$14:$AG$600,9,FALSE),0)","v":0},"Hichamp_35",{"$f":"IFERROR(VLOOKUP(QZ18,MATCHSELEVES!$Y$14:$AE$600,3,FALSE),0)","v":0},{"$f":"IFERROR(VLOOKUP(QZ18,MATCHSELEVES!$Y$14:$AE$600,4,FALSE),0)","v":0},{"$f":"IFERROR(VLOOKUP(QZ18,MATCHSELEVES!$Y$14:$AE$600,5,FALSE),0)","v":0},{"$f":"IFERROR(VLOOKUP(QZ18,MATCHSELEVES!$Y$14:$AF$600,8,FALSE),0)","v":0},{"$f":"IFERROR(VLOOKUP(QZ18,MATCHSELEVES!$Y$14:$AG$600,9,FALSE),0)","v":0},"Hichamp_36",{"$f":"IFERROR(VLOOKUP(RF18,MATCHSELEVES!$Y$14:$AE$600,3,FALSE),0)","v":0},{"$f":"IFERROR(VLOOKUP(RF18,MATCHSELEVES!$Y$14:$AE$600,4,FALSE),0)","v":0},{"$f":"IFERROR(VLOOKUP(RF18,MATCHSELEVES!$Y$14:$AE$600,5,FALSE),0)","v":0},{"$f":"IFERROR(VLOOKUP(RF18,MATCHSELEVES!$Y$14:$AF$600,8,FALSE),0)","v":0},{"$f":"IFERROR(VLOOKUP(RF18,MATCHSELEVES!$Y$14:$AG$600,9,FALSE),0)","v":0},"Hichamp_37",{"$f":"IFERROR(VLOOKUP(RL18,MATCHSELEVES!$Y$14:$AE$600,3,FALSE),0)","v":0},{"$f":"IFERROR(VLOOKUP(RL18,MATCHSELEVES!$Y$14:$AE$600,4,FALSE),0)","v":0},{"$f":"IFERROR(VLOOKUP(RL18,MATCHSELEVES!$Y$14:$AE$600,5,FALSE),0)","v":0},{"$f":"IFERROR(VLOOKUP(RL18,MATCHSELEVES!$Y$14:$AF$600,8,FALSE),0)","v":0},{"$f":"IFERROR(VLOOKUP(RL18,MATCHSELEVES!$Y$14:$AG$600,9,FALSE),0)","v":0},"Hichamp_38",{"$f":"IFERROR(VLOOKUP(RR18,MATCHSELEVES!$Y$14:$AE$600,3,FALSE),0)","v":0},{"$f":"IFERROR(VLOOKUP(RR18,MATCHSELEVES!$Y$14:$AE$600,4,FALSE),0)","v":0},{"$f":"IFERROR(VLOOKUP(RR18,MATCHSELEVES!$Y$14:$AE$600,5,FALSE),0)","v":0},{"$f":"IFERROR(VLOOKUP(RR18,MATCHSELEVES!$Y$14:$AF$600,8,FALSE),0)","v":0},{"$f":"IFERROR(VLOOKUP(RR18,MATCHSELEVES!$Y$14:$AG$600,9,FALSE),0)","v":0},"Hichamp_39",{"$f":"IFERROR(VLOOKUP(RX18,MATCHSELEVES!$Y$14:$AE$600,3,FALSE),0)","v":0},{"$f":"IFERROR(VLOOKUP(RX18,MATCHSELEVES!$Y$14:$AE$600,4,FALSE),0)","v":0},{"$f":"IFERROR(VLOOKUP(RX18,MATCHSELEVES!$Y$14:$AE$600,5,FALSE),0)","v":0},{"$f":"IFERROR(VLOOKUP(RX18,MATCHSELEVES!$Y$14:$AF$600,8,FALSE),0)","v":0},{"$f":"IFERROR(VLOOKUP(RX18,MATCHSELEVES!$Y$14:$AG$600,9,FALSE),0)","v":0},"Hichamp_40",{"$f":"IFERROR(VLOOKUP(SD18,MATCHSELEVES!$Y$14:$AE$600,3,FALSE),0)","v":0},{"$f":"IFERROR(VLOOKUP(SD18,MATCHSELEVES!$Y$14:$AE$600,4,FALSE),0)","v":0},{"$f":"IFERROR(VLOOKUP(SD18,MATCHSELEVES!$Y$14:$AE$600,5,FALSE),0)","v":0},{"$f":"IFERROR(VLOOKUP(SD18,MATCHSELEVES!$Y$14:$AF$600,8,FALSE),0)","v":0},{"$f":"IFERROR(VLOOKUP(SD18,MATCHSELEVES!$Y$14:$AG$600,9,FALSE),0)","v":0}]
[16,null,{"$f":"MD1POINT!C19","v":"Hicham L."},{"$f":"MD1POINT!D19","v":1},{"$f":"COUNTIF(MATCHSELEVES!$Z$14:$Z$600,C19)+COUNTIF(MATCHSELEVES!$Z$14:$Z$600,$C19&\"p\")","v":0},1,{"$f":"COUNTIF(MATCHSELEVES!$F$14:$H$249,C19)","v":0},1,0,1,0,1,0,1,{"$f":"Y19+AE19+AK19+AQ19+AW19+BC19+BI19+BO19+BU19+CA19+CG19+CM19+CS19+CY19+DE19+DK19+DQ19+DW19+EC19+EI19+EO19+EU19+FA19+FG19+FM19+FS19+FY19+GE19+GK19+GQ19+GW19+4+HI19+HO19+HU19+IA19+HC19+IG19+IM19+IY19+IS19+JH19+JN19+JZ19+JT19+KF19+KR19+KX19+LJ19+LP19+LV19+LD19+MB19+MH19+MN19+MZ19+MT19+NF19+NL19+NR19+NX19+OD19+OJ19+OP19+OV19+PB19+PH19+PT19+PN19+PZ19+QF19+QL19+QR19+RD19+QX19+RJ19+RP19+RV19+SB19+SH19+KL19+Tableau10[[#This Row],[Nombre de matchs joués]]*2","v":4},1,{"$f":"(Tableau10[[#This Row],[CLASSEMENT1]]+Tableau10[[#This Row],[CLASSEMENT2]]+Tableau10[[#This Row],[CLASSEMENT3]]+Tableau10[[#This Row],[CLASSEMENT4]]+Tableau10[[#This Row],[CLASSEMENT5]]+Tableau10[[#This Row],[CLASSEMENT6]])/6","v":1},{"$f":"RANK(Tableau10[[#This Row],[MOYENNE CLASSEMENTS]],Tableau10[MOYENNE CLASSEMENTS],1)","v":1},null,{"$f":"Tableau10[[#This Row],[CLASSEMENT1]]","v":1},"Hicham L._1",{"$f":"IFERROR(VLOOKUP(U19,MATCHSELEVES!$Y$14:$AE$600,3,FALSE),0)","v":0},{"$f":"IFERROR(VLOOKUP(U19,MATCHSELEVES!$Y$14:$AE$600,4,FALSE),0)","v":0},{"$f":"IFERROR(VLOOKUP(U19,MATCHSELEVES!$Y$14:$AE$600,5,FALSE),0)","v":0},{"$f":"IFERROR(VLOOKUP(U19,MATCHSELEVES!$Y$14:$AF$600,8,FALSE),0)","v":0},{"$f":"IFERROR(VLOOKUP(U19,MATCHSELEVES!$Y$14:$AG$600,9,FALSE),0)","v":0},"Hicham L._2",{"$f":"IFERROR(VLOOKUP(AA19,MATCHSELEVES!$Y$14:$AE$600,3,FALSE),0)","v":0},{"$f":"IFERROR(VLOOKUP(AA19,MATCHSELEVES!$Y$14:$AE$600,4,FALSE),0)","v":0},{"$f":"IFERROR(VLOOKUP(AA19,MATCHSELEVES!$Y$14:$AE$600,5,FALSE),0)","v":0},{"$f":"IFERROR(VLOOKUP(AA19,MATCHSELEVES!$Y$14:$AF$600,8,FALSE),0)","v":0},{"$f":"IFERROR(VLOOKUP(AA19,MATCHSELEVES!$Y$14:$AG$600,9,FALSE),0)","v":0},"Hicham L._3",{"$f":"IFERROR(VLOOKUP(AG19,MATCHSELEVES!$Y$14:$AE$600,3,FALSE),0)","v":0},{"$f":"IFERROR(VLOOKUP(AG19,MATCHSELEVES!$Y$14:$AE$600,4,FALSE),0)","v":0},{"$f":"IFERROR(VLOOKUP(AG19,MATCHSELEVES!$Y$14:$AE$600,5,FALSE),0)","v":0},{"$f":"IFERROR(VLOOKUP(AG19,MATCHSELEVES!$Y$14:$AF$600,8,FALSE),0)","v":0},{"$f":"IFERROR(VLOOKUP(AG19,MATCHSELEVES!$Y$14:$AG$600,9,FALSE),0)","v":0},"Hicham L._4",{"$f":"IFERROR(VLOOKUP(AM19,MATCHSELEVES!$Y$14:$AE$600,3,FALSE),0)","v":0},{"$f":"IFERROR(VLOOKUP(AM19,MATCHSELEVES!$Y$14:$AE$600,4,FALSE),0)","v":0},{"$f":"IFERROR(VLOOKUP(AM19,MATCHSELEVES!$Y$14:$AE$600,5,FALSE),0)","v":0},{"$f":"IFERROR(VLOOKUP(AM19,MATCHSELEVES!$Y$14:$AF$600,8,FALSE),0)","v":0},{"$f":"IFERROR(VLOOKUP(AM19,MATCHSELEVES!$Y$14:$AG$600,9,FALSE),0)","v":0},"Hicham L._5",{"$f":"IFERROR(VLOOKUP(AS19,MATCHSELEVES!$Y$14:$AE$600,3,FALSE),0)","v":0},{"$f":"IFERROR(VLOOKUP(AS19,MATCHSELEVES!$Y$14:$AE$600,4,FALSE),0)","v":0},{"$f":"IFERROR(VLOOKUP(AS19,MATCHSELEVES!$Y$14:$AE$600,5,FALSE),0)","v":0},{"$f":"IFERROR(VLOOKUP(AS19,MATCHSELEVES!$Y$14:$AF$600,8,FALSE),0)","v":0},{"$f":"IFERROR(VLOOKUP(AS19,MATCHSELEVES!$Y$14:$AG$600,9,FALSE),0)","v":0},"Hicham L._6",{"$f":"IFERROR(VLOOKUP(AY19,MATCHSELEVES!$Y$14:$AE$600,3,FALSE),0)","v":0},{"$f":"IFERROR(VLOOKUP(AY19,MATCHSELEVES!$Y$14:$AE$600,4,FALSE),0)","v":0},{"$f":"IFERROR(VLOOKUP(AY19,MATCHSELEVES!$Y$14:$AE$600,5,FALSE),0)","v":0},{"$f":"IFERROR(VLOOKUP(AY19,MATCHSELEVES!$Y$14:$AF$600,8,FALSE),0)","v":0},{"$f":"IFERROR(VLOOKUP(AY19,MATCHSELEVES!$Y$14:$AG$600,9,FALSE),0)","v":0},"Hicham L._7",{"$f":"IFERROR(VLOOKUP(BE19,MATCHSELEVES!$Y$14:$AE$600,3,FALSE),0)","v":0},{"$f":"IFERROR(VLOOKUP(BE19,MATCHSELEVES!$Y$14:$AE$600,4,FALSE),0)","v":0},{"$f":"IFERROR(VLOOKUP(BE19,MATCHSELEVES!$Y$14:$AE$600,5,FALSE),0)","v":0},{"$f":"IFERROR(VLOOKUP(BE19,MATCHSELEVES!$Y$14:$AF$600,8,FALSE),0)","v":0},{"$f":"IFERROR(VLOOKUP(BE19,MATCHSELEVES!$Y$14:$AG$600,9,FALSE),0)","v":0},"Hicham L._8",{"$f":"IFERROR(VLOOKUP(BK19,MATCHSELEVES!$Y$14:$AE$600,3,FALSE),0)","v":0},{"$f":"IFERROR(VLOOKUP(BK19,MATCHSELEVES!$Y$14:$AE$600,4,FALSE),0)","v":0},{"$f":"IFERROR(VLOOKUP(BK19,MATCHSELEVES!$Y$14:$AE$600,5,FALSE),0)","v":0},{"$f":"IFERROR(VLOOKUP(BK19,MATCHSELEVES!$Y$14:$AF$600,8,FALSE),0)","v":0},{"$f":"IFERROR(VLOOKUP(BK19,MATCHSELEVES!$Y$14:$AG$600,9,FALSE),0)","v":0},"Hicham L._9",{"$f":"IFERROR(VLOOKUP(BQ19,MATCHSELEVES!$Y$14:$AE$600,3,FALSE),0)","v":0},{"$f":"IFERROR(VLOOKUP(BQ19,MATCHSELEVES!$Y$14:$AE$600,4,FALSE),0)","v":0},{"$f":"IFERROR(VLOOKUP(BQ19,MATCHSELEVES!$Y$14:$AE$600,5,FALSE),0)","v":0},{"$f":"IFERROR(VLOOKUP(BQ19,MATCHSELEVES!$Y$14:$AF$600,8,FALSE),0)","v":0},{"$f":"IFERROR(VLOOKUP(BQ19,MATCHSELEVES!$Y$14:$AG$600,9,FALSE),0)","v":0},"Hicham L._10",{"$f":"IFERROR(VLOOKUP(BW19,MATCHSELEVES!$Y$14:$AE$600,3,FALSE),0)","v":0},{"$f":"IFERROR(VLOOKUP(BW19,MATCHSELEVES!$Y$14:$AE$600,4,FALSE),0)","v":0},{"$f":"IFERROR(VLOOKUP(BW19,MATCHSELEVES!$Y$14:$AE$600,5,FALSE),0)","v":0},{"$f":"IFERROR(VLOOKUP(BW19,MATCHSELEVES!$Y$14:$AF$600,8,FALSE),0)","v":0},{"$f":"IFERROR(VLOOKUP(BW19,MATCHSELEVES!$Y$14:$AG$600,9,FALSE),0)","v":0},"Hicham L._11",{"$f":"IFERROR(VLOOKUP(CC19,MATCHSELEVES!$Y$14:$AE$600,3,FALSE),0)","v":0},{"$f":"IFERROR(VLOOKUP(CC19,MATCHSELEVES!$Y$14:$AE$600,4,FALSE),0)","v":0},{"$f":"IFERROR(VLOOKUP(CC19,MATCHSELEVES!$Y$14:$AE$600,5,FALSE),0)","v":0},{"$f":"IFERROR(VLOOKUP(CC19,MATCHSELEVES!$Y$14:$AF$600,8,FALSE),0)","v":0},{"$f":"IFERROR(VLOOKUP(CC19,MATCHSELEVES!$Y$14:$AG$600,9,FALSE),0)","v":0},"Hicham L._12",{"$f":"IFERROR(VLOOKUP(CI19,MATCHSELEVES!$Y$14:$AE$600,3,FALSE),0)","v":0},{"$f":"IFERROR(VLOOKUP(CI19,MATCHSELEVES!$Y$14:$AE$600,4,FALSE),0)","v":0},{"$f":"IFERROR(VLOOKUP(CI19,MATCHSELEVES!$Y$14:$AE$600,5,FALSE),0)","v":0},{"$f":"IFERROR(VLOOKUP(CI19,MATCHSELEVES!$Y$14:$AF$600,8,FALSE),0)","v":0},{"$f":"IFERROR(VLOOKUP(CI19,MATCHSELEVES!$Y$14:$AG$600,9,FALSE),0)","v":0},"Hicham L._13",{"$f":"IFERROR(VLOOKUP(CO19,MATCHSELEVES!$Y$14:$AE$600,3,FALSE),0)","v":0},{"$f":"IFERROR(VLOOKUP(CO19,MATCHSELEVES!$Y$14:$AE$600,4,FALSE),0)","v":0},{"$f":"IFERROR(VLOOKUP(CO19,MATCHSELEVES!$Y$14:$AE$600,5,FALSE),0)","v":0},{"$f":"IFERROR(VLOOKUP(CO19,MATCHSELEVES!$Y$14:$AF$600,8,FALSE),0)","v":0},{"$f":"IFERROR(VLOOKUP(CO19,MATCHSELEVES!$Y$14:$AG$600,9,FALSE),0)","v":0},"Hicham L._14",{"$f":"IFERROR(VLOOKUP(CU19,MATCHSELEVES!$Y$14:$AE$600,3,FALSE),0)","v":0},{"$f":"IFERROR(VLOOKUP(CU19,MATCHSELEVES!$Y$14:$AE$600,4,FALSE),0)","v":0},{"$f":"IFERROR(VLOOKUP(CU19,MATCHSELEVES!$Y$14:$AE$600,5,FALSE),0)","v":0},{"$f":"IFERROR(VLOOKUP(CU19,MATCHSELEVES!$Y$14:$AF$600,8,FALSE),0)","v":0},{"$f":"IFERROR(VLOOKUP(CU19,MATCHSELEVES!$Y$14:$AG$600,9,FALSE),0)","v":0},"Hicham L._15",{"$f":"IFERROR(VLOOKUP(DA19,MATCHSELEVES!$Y$14:$AE$600,3,FALSE),0)","v":0},{"$f":"IFERROR(VLOOKUP(DA19,MATCHSELEVES!$Y$14:$AE$600,4,FALSE),0)","v":0},{"$f":"IFERROR(VLOOKUP(DA19,MATCHSELEVES!$Y$14:$AE$600,5,FALSE),0)","v":0},{"$f":"IFERROR(VLOOKUP(DA19,MATCHSELEVES!$Y$14:$AF$600,8,FALSE),0)","v":0},{"$f":"IFERROR(VLOOKUP(DA19,MATCHSELEVES!$Y$14:$AG$600,9,FALSE),0)","v":0},"Hicham L._16",{"$f":"IFERROR(VLOOKUP(DG19,MATCHSELEVES!$Y$14:$AE$600,3,FALSE),0)","v":0},{"$f":"IFERROR(VLOOKUP(DG19,MATCHSELEVES!$Y$14:$AE$600,4,FALSE),0)","v":0},{"$f":"IFERROR(VLOOKUP(DG19,MATCHSELEVES!$Y$14:$AE$600,5,FALSE),0)","v":0},{"$f":"IFERROR(VLOOKUP(DG19,MATCHSELEVES!$Y$14:$AF$600,8,FALSE),0)","v":0},{"$f":"IFERROR(VLOOKUP(DG19,MATCHSELEVES!$Y$14:$AG$600,9,FALSE),0)","v":0},"Hicham L._17",{"$f":"IFERROR(VLOOKUP(DM19,MATCHSELEVES!$Y$14:$AE$600,3,FALSE),0)","v":0},{"$f":"IFERROR(VLOOKUP(DM19,MATCHSELEVES!$Y$14:$AE$600,4,FALSE),0)","v":0},{"$f":"IFERROR(VLOOKUP(DM19,MATCHSELEVES!$Y$14:$AE$600,5,FALSE),0)","v":0},{"$f":"IFERROR(VLOOKUP(DM19,MATCHSELEVES!$Y$14:$AF$600,8,FALSE),0)","v":0},{"$f":"IFERROR(VLOOKUP(DM19,MATCHSELEVES!$Y$14:$AG$600,9,FALSE),0)","v":0},"Hicham L._18",{"$f":"IFERROR(VLOOKUP(DS19,MATCHSELEVES!$Y$14:$AE$600,3,FALSE),0)","v":0},{"$f":"IFERROR(VLOOKUP(DS19,MATCHSELEVES!$Y$14:$AE$600,4,FALSE),0)","v":0},{"$f":"IFERROR(VLOOKUP(DS19,MATCHSELEVES!$Y$14:$AE$600,5,FALSE),0)","v":0},{"$f":"IFERROR(VLOOKUP(DS19,MATCHSELEVES!$Y$14:$AF$600,8,FALSE),0)","v":0},{"$f":"IFERROR(VLOOKUP(DS19,MATCHSELEVES!$Y$14:$AG$600,9,FALSE),0)","v":0},"Hicham L._19",{"$f":"IFERROR(VLOOKUP(DY19,MATCHSELEVES!$Y$14:$AE$600,3,FALSE),0)","v":0},{"$f":"IFERROR(VLOOKUP(DY19,MATCHSELEVES!$Y$14:$AE$600,4,FALSE),0)","v":0},{"$f":"IFERROR(VLOOKUP(DY19,MATCHSELEVES!$Y$14:$AE$600,5,FALSE),0)","v":0},{"$f":"IFERROR(VLOOKUP(DY19,MATCHSELEVES!$Y$14:$AF$600,8,FALSE),0)","v":0},{"$f":"IFERROR(VLOOKUP(DY19,MATCHSELEVES!$Y$14:$AG$600,9,FALSE),0)","v":0},"Hicham L._20",{"$f":"IFERROR(VLOOKUP(EE19,MATCHSELEVES!$Y$14:$AE$600,3,FALSE),0)","v":0},{"$f":"IFERROR(VLOOKUP(EE19,MATCHSELEVES!$Y$14:$AE$600,4,FALSE),0)","v":0},{"$f":"IFERROR(VLOOKUP(EE19,MATCHSELEVES!$Y$14:$AE$600,5,FALSE),0)","v":0},{"$f":"IFERROR(VLOOKUP(EE19,MATCHSELEVES!$Y$14:$AF$600,8,FALSE),0)","v":0},{"$f":"IFERROR(VLOOKUP(EE19,MATCHSELEVES!$Y$14:$AG$600,9,FALSE),0)","v":0},"Hicham L._21",{"$f":"IFERROR(VLOOKUP(EK19,MATCHSELEVES!$Y$14:$AE$600,3,FALSE),0)","v":0},{"$f":"IFERROR(VLOOKUP(EK19,MATCHSELEVES!$Y$14:$AE$600,4,FALSE),0)","v":0},{"$f":"IFERROR(VLOOKUP(EK19,MATCHSELEVES!$Y$14:$AE$600,5,FALSE),0)","v":0},{"$f":"IFERROR(VLOOKUP(EK19,MATCHSELEVES!$Y$14:$AF$600,8,FALSE),0)","v":0},{"$f":"IFERROR(VLOOKUP(EK19,MATCHSELEVES!$Y$14:$AG$600,9,FALSE),0)","v":0},"Hicham L._22",{"$f":"IFERROR(VLOOKUP(EQ19,MATCHSELEVES!$Y$14:$AE$600,3,FALSE),0)","v":0},{"$f":"IFERROR(VLOOKUP(EQ19,MATCHSELEVES!$Y$14:$AE$600,4,FALSE),0)","v":0},{"$f":"IFERROR(VLOOKUP(EQ19,MATCHSELEVES!$Y$14:$AE$600,5,FALSE),0)","v":0},{"$f":"IFERROR(VLOOKUP(EQ19,MATCHSELEVES!$Y$14:$AF$600,8,FALSE),0)","v":0},{"$f":"IFERROR(VLOOKUP(EQ19,MATCHSELEVES!$Y$14:$AG$600,9,FALSE),0)","v":0},"Hicham L._23",{"$f":"IFERROR(VLOOKUP(EW19,MATCHSELEVES!$Y$14:$AE$600,3,FALSE),0)","v":0},{"$f":"IFERROR(VLOOKUP(EW19,MATCHSELEVES!$Y$14:$AE$600,4,FALSE),0)","v":0},{"$f":"IFERROR(VLOOKUP(EW19,MATCHSELEVES!$Y$14:$AE$600,5,FALSE),0)","v":0},{"$f":"IFERROR(VLOOKUP(EW19,MATCHSELEVES!$Y$14:$AF$600,8,FALSE),0)","v":0},{"$f":"IFERROR(VLOOKUP(EW19,MATCHSELEVES!$Y$14:$AG$600,9,FALSE),0)","v":0},"Hicham L._24",{"$f":"IFERROR(VLOOKUP(FC19,MATCHSELEVES!$Y$14:$AE$600,3,FALSE),0)","v":0},{"$f":"IFERROR(VLOOKUP(FC19,MATCHSELEVES!$Y$14:$AE$600,4,FALSE),0)","v":0},{"$f":"IFERROR(VLOOKUP(FC19,MATCHSELEVES!$Y$14:$AE$600,5,FALSE),0)","v":0},{"$f":"IFERROR(VLOOKUP(FC19,MATCHSELEVES!$Y$14:$AF$600,8,FALSE),0)","v":0},{"$f":"IFERROR(VLOOKUP(FC19,MATCHSELEVES!$Y$14:$AG$600,9,FALSE),0)","v":0},"Hicham L._25",{"$f":"IFERROR(VLOOKUP(FI19,MATCHSELEVES!$Y$14:$AE$600,3,FALSE),0)","v":0},{"$f":"IFERROR(VLOOKUP(FI19,MATCHSELEVES!$Y$14:$AE$600,4,FALSE),0)","v":0},{"$f":"IFERROR(VLOOKUP(FI19,MATCHSELEVES!$Y$14:$AE$600,5,FALSE),0)","v":0},{"$f":"IFERROR(VLOOKUP(FI19,MATCHSELEVES!$Y$14:$AF$600,8,FALSE),0)","v":0},{"$f":"IFERROR(VLOOKUP(FI19,MATCHSELEVES!$Y$14:$AG$600,9,FALSE),0)","v":0},"Hicham L._26",{"$f":"IFERROR(VLOOKUP(FO19,MATCHSELEVES!$Y$14:$AE$600,3,FALSE),0)","v":0},{"$f":"IFERROR(VLOOKUP(FO19,MATCHSELEVES!$Y$14:$AE$600,4,FALSE),0)","v":0},{"$f":"IFERROR(VLOOKUP(FO19,MATCHSELEVES!$Y$14:$AE$600,5,FALSE),0)","v":0},{"$f":"IFERROR(VLOOKUP(FO19,MATCHSELEVES!$Y$14:$AF$600,8,FALSE),0)","v":0},{"$f":"IFERROR(VLOOKUP(FO19,MATCHSELEVES!$Y$14:$AG$600,9,FALSE),0)","v":0},"Hicham L._27",{"$f":"IFERROR(VLOOKUP(FU19,MATCHSELEVES!$Y$14:$AE$600,3,FALSE),0)","v":0},{"$f":"IFERROR(VLOOKUP(FU19,MATCHSELEVES!$Y$14:$AE$600,4,FALSE),0)","v":0},{"$f":"IFERROR(VLOOKUP(FU19,MATCHSELEVES!$Y$14:$AE$600,5,FALSE),0)","v":0},{"$f":"IFERROR(VLOOKUP(FU19,MATCHSELEVES!$Y$14:$AF$600,8,FALSE),0)","v":0},{"$f":"IFERROR(VLOOKUP(FU19,MATCHSELEVES!$Y$14:$AG$600,9,FALSE),0)","v":0},"Hicham L._28",{"$f":"IFERROR(VLOOKUP(GA19,MATCHSELEVES!$Y$14:$AE$600,3,FALSE),0)","v":0},{"$f":"IFERROR(VLOOKUP(GA19,MATCHSELEVES!$Y$14:$AE$600,4,FALSE),0)","v":0},{"$f":"IFERROR(VLOOKUP(GA19,MATCHSELEVES!$Y$14:$AE$600,5,FALSE),0)","v":0},{"$f":"IFERROR(VLOOKUP(GA19,MATCHSELEVES!$Y$14:$AF$600,8,FALSE),0)","v":0},{"$f":"IFERROR(VLOOKUP(GA19,MATCHSELEVES!$Y$14:$AG$600,9,FALSE),0)","v":0},"Hicham L._29",{"$f":"IFERROR(VLOOKUP(GG19,MATCHSELEVES!$Y$14:$AE$600,3,FALSE),0)","v":0},{"$f":"IFERROR(VLOOKUP(GG19,MATCHSELEVES!$Y$14:$AE$600,4,FALSE),0)","v":0},{"$f":"IFERROR(VLOOKUP(GG19,MATCHSELEVES!$Y$14:$AE$600,5,FALSE),0)","v":0},{"$f":"IFERROR(VLOOKUP(GG19,MATCHSELEVES!$Y$14:$AF$600,8,FALSE),0)","v":0},{"$f":"IFERROR(VLOOKUP(GG19,MATCHSELEVES!$Y$14:$AG$600,9,FALSE),0)","v":0},"Hicham L._30",{"$f":"IFERROR(VLOOKUP(GM19,MATCHSELEVES!$Y$14:$AE$600,3,FALSE),0)","v":0},{"$f":"IFERROR(VLOOKUP(GM19,MATCHSELEVES!$Y$14:$AE$600,4,FALSE),0)","v":0},{"$f":"IFERROR(VLOOKUP(GM19,MATCHSELEVES!$Y$14:$AE$600,5,FALSE),0)","v":0},{"$f":"IFERROR(VLOOKUP(GM19,MATCHSELEVES!$Y$14:$AF$600,8,FALSE),0)","v":0},{"$f":"IFERROR(VLOOKUP(GM19,MATCHSELEVES!$Y$14:$AG$600,9,FALSE),0)","v":0},"Hicham L._31",{"$f":"IFERROR(VLOOKUP(GS19,MATCHSELEVES!$Y$14:$AE$600,3,FALSE),0)","v":0},{"$f":"IFERROR(VLOOKUP(GS19,MATCHSELEVES!$Y$14:$AE$600,4,FALSE),0)","v":0},{"$f":"IFERROR(VLOOKUP(GS19,MATCHSELEVES!$Y$14:$AE$600,5,FALSE),0)","v":0},{"$f":"IFERROR(VLOOKUP(GS19,MATCHSELEVES!$Y$14:$AF$600,8,FALSE),0)","v":0},{"$f":"IFERROR(VLOOKUP(GS19,MATCHSELEVES!$Y$14:$AG$600,9,FALSE),0)","v":0},"Hicham L._32",{"$f":"IFERROR(VLOOKUP(GY19,MATCHSELEVES!$Y$14:$AE$600,3,FALSE),0)","v":0},{"$f":"IFERROR(VLOOKUP(GY19,MATCHSELEVES!$Y$14:$AE$600,4,FALSE),0)","v":0},{"$f":"IFERROR(VLOOKUP(GY19,MATCHSELEVES!$Y$14:$AE$600,5,FALSE),0)","v":0},{"$f":"IFERROR(VLOOKUP(GY19,MATCHSELEVES!$Y$14:$AF$600,8,FALSE),0)","v":0},{"$f":"IFERROR(VLOOKUP(GY19,MATCHSELEVES!$Y$14:$AG$600,9,FALSE),0)","v":0},"Hicham L._33",{"$f":"IFERROR(VLOOKUP(HE19,MATCHSELEVES!$Y$14:$AE$600,3,FALSE),0)","v":0},{"$f":"IFERROR(VLOOKUP(HE19,MATCHSELEVES!$Y$14:$AE$600,4,FALSE),0)","v":0},{"$f":"IFERROR(VLOOKUP(HE19,MATCHSELEVES!$Y$14:$AE$600,5,FALSE),0)","v":0},{"$f":"IFERROR(VLOOKUP(HE19,MATCHSELEVES!$Y$14:$AF$600,8,FALSE),0)","v":0},{"$f":"IFERROR(VLOOKUP(HE19,MATCHSELEVES!$Y$14:$AG$600,9,FALSE),0)","v":0},"Hicham L._34",{"$f":"IFERROR(VLOOKUP(HK19,MATCHSELEVES!$Y$14:$AE$600,3,FALSE),0)","v":0},{"$f":"IFERROR(VLOOKUP(HK19,MATCHSELEVES!$Y$14:$AE$600,4,FALSE),0)","v":0},{"$f":"IFERROR(VLOOKUP(HK19,MATCHSELEVES!$Y$14:$AE$600,5,FALSE),0)","v":0},{"$f":"IFERROR(VLOOKUP(HK19,MATCHSELEVES!$Y$14:$AF$600,8,FALSE),0)","v":0},{"$f":"IFERROR(VLOOKUP(HK19,MATCHSELEVES!$Y$14:$AG$600,9,FALSE),0)","v":0},"Hicham L._35",{"$f":"IFERROR(VLOOKUP(HQ19,MATCHSELEVES!$Y$14:$AE$600,3,FALSE),0)","v":0},{"$f":"IFERROR(VLOOKUP(HQ19,MATCHSELEVES!$Y$14:$AE$600,4,FALSE),0)","v":0},{"$f":"IFERROR(VLOOKUP(HQ19,MATCHSELEVES!$Y$14:$AE$600,5,FALSE),0)","v":0},{"$f":"IFERROR(VLOOKUP(HQ19,MATCHSELEVES!$Y$14:$AF$600,8,FALSE),0)","v":0},{"$f":"IFERROR(VLOOKUP(HQ19,MATCHSELEVES!$Y$14:$AG$600,9,FALSE),0)","v":0},"Hicham L._36",{"$f":"IFERROR(VLOOKUP(HW19,MATCHSELEVES!$Y$14:$AE$600,3,FALSE),0)","v":0},{"$f":"IFERROR(VLOOKUP(HW19,MATCHSELEVES!$Y$14:$AE$600,4,FALSE),0)","v":0},{"$f":"IFERROR(VLOOKUP(HW19,MATCHSELEVES!$Y$14:$AE$600,5,FALSE),0)","v":0},{"$f":"IFERROR(VLOOKUP(HW19,MATCHSELEVES!$Y$14:$AF$600,8,FALSE),0)","v":0},{"$f":"IFERROR(VLOOKUP(HW19,MATCHSELEVES!$Y$14:$AG$600,9,FALSE),0)","v":0},"Hicham L._37",{"$f":"IFERROR(VLOOKUP(IC19,MATCHSELEVES!$Y$14:$AE$600,3,FALSE),0)","v":0},{"$f":"IFERROR(VLOOKUP(IC19,MATCHSELEVES!$Y$14:$AE$600,4,FALSE),0)","v":0},{"$f":"IFERROR(VLOOKUP(IC19,MATCHSELEVES!$Y$14:$AE$600,5,FALSE),0)","v":0},{"$f":"IFERROR(VLOOKUP(IC19,MATCHSELEVES!$Y$14:$AF$600,8,FALSE),0)","v":0},{"$f":"IFERROR(VLOOKUP(IC19,MATCHSELEVES!$Y$14:$AG$600,9,FALSE),0)","v":0},"Hicham L._38",{"$f":"IFERROR(VLOOKUP(II19,MATCHSELEVES!$Y$14:$AE$600,3,FALSE),0)","v":0},{"$f":"IFERROR(VLOOKUP(II19,MATCHSELEVES!$Y$14:$AE$600,4,FALSE),0)","v":0},{"$f":"IFERROR(VLOOKUP(II19,MATCHSELEVES!$Y$14:$AE$600,5,FALSE),0)","v":0},{"$f":"IFERROR(VLOOKUP(II19,MATCHSELEVES!$Y$14:$AF$600,8,FALSE),0)","v":0},{"$f":"IFERROR(VLOOKUP(II19,MATCHSELEVES!$Y$14:$AG$600,9,FALSE),0)","v":0},"Hicham L._39",{"$f":"IFERROR(VLOOKUP(IO19,MATCHSELEVES!$Y$14:$AE$600,3,FALSE),0)","v":0},{"$f":"IFERROR(VLOOKUP(IO19,MATCHSELEVES!$Y$14:$AE$600,4,FALSE),0)","v":0},{"$f":"IFERROR(VLOOKUP(IO19,MATCHSELEVES!$Y$14:$AE$600,5,FALSE),0)","v":0},{"$f":"IFERROR(VLOOKUP(IO19,MATCHSELEVES!$Y$14:$AF$600,8,FALSE),0)","v":0},{"$f":"IFERROR(VLOOKUP(IO19,MATCHSELEVES!$Y$14:$AG$600,9,FALSE),0)","v":0},"Hicham L._40",{"$f":"IFERROR(VLOOKUP(IU19,MATCHSELEVES!$Y$14:$AE$600,3,FALSE),0)","v":0},{"$f":"IFERROR(VLOOKUP(IU19,MATCHSELEVES!$Y$14:$AE$600,4,FALSE),0)","v":0},{"$f":"IFERROR(VLOOKUP(IU19,MATCHSELEVES!$Y$14:$AE$600,5,FALSE),0)","v":0},{"$f":"IFERROR(VLOOKUP(IU19,MATCHSELEVES!$Y$14:$AF$600,8,FALSE),0)","v":0},{"$f":"IFERROR(VLOOKUP(IU19,MATCHSELEVES!$Y$14:$AG$600,9,FALSE),0)","v":0},{"$f":"Tableau10[[#This Row],[CLASSE]]","v":"Hicham L."},1,{"$f":"MD1POINT!D19","v":1},"Hicham L.p_1",{"$f":"IFERROR(VLOOKUP(JD19,MATCHSELEVES!$Y$14:$AE$600,3,FALSE),0)","v":0},{"$f":"IFERROR(VLOOKUP(JD19,MATCHSELEVES!$Y$14:$AE$600,4,FALSE),0)","v":0},{"$f":"IFERROR(VLOOKUP(JD19,MATCHSELEVES!$Y$14:$AE$600,5,FALSE),0)","v":0},{"$f":"IFERROR(VLOOKUP(JD19,MATCHSELEVES!$Y$14:$AF$600,8,FALSE),0)","v":0},{"$f":"IFERROR(VLOOKUP(JD19,MATCHSELEVES!$Y$14:$AG$600,9,FALSE),0)","v":0},"Hicham L.p_2",{"$f":"IFERROR(VLOOKUP(JJ19,MATCHSELEVES!$Y$14:$AE$600,3,FALSE),0)","v":0},{"$f":"IFERROR(VLOOKUP(JJ19,MATCHSELEVES!$Y$14:$AE$600,4,FALSE),0)","v":0},{"$f":"IFERROR(VLOOKUP(JJ19,MATCHSELEVES!$Y$14:$AE$600,5,FALSE),0)","v":0},{"$f":"IFERROR(VLOOKUP(JJ19,MATCHSELEVES!$Y$14:$AF$600,8,FALSE),0)","v":0},{"$f":"IFERROR(VLOOKUP(JJ19,MATCHSELEVES!$Y$14:$AG$600,9,FALSE),0)","v":0},"Hicham L.p_3",{"$f":"IFERROR(VLOOKUP(JP19,MATCHSELEVES!$Y$14:$AE$600,3,FALSE),0)","v":0},{"$f":"IFERROR(VLOOKUP(JP19,MATCHSELEVES!$Y$14:$AE$600,4,FALSE),0)","v":0},{"$f":"IFERROR(VLOOKUP(JP19,MATCHSELEVES!$Y$14:$AE$600,5,FALSE),0)","v":0},{"$f":"IFERROR(VLOOKUP(JP19,MATCHSELEVES!$Y$14:$AF$600,8,FALSE),0)","v":0},{"$f":"IFERROR(VLOOKUP(JP19,MATCHSELEVES!$Y$14:$AG$600,9,FALSE),0)","v":0},"Hicham L.p_4",{"$f":"IFERROR(VLOOKUP(JV19,MATCHSELEVES!$Y$14:$AE$600,3,FALSE),0)","v":0},{"$f":"IFERROR(VLOOKUP(JV19,MATCHSELEVES!$Y$14:$AE$600,4,FALSE),0)","v":0},{"$f":"IFERROR(VLOOKUP(JV19,MATCHSELEVES!$Y$14:$AE$600,5,FALSE),0)","v":0},{"$f":"IFERROR(VLOOKUP(JV19,MATCHSELEVES!$Y$14:$AF$600,8,FALSE),0)","v":0},{"$f":"IFERROR(VLOOKUP(JV19,MATCHSELEVES!$Y$14:$AG$600,9,FALSE),0)","v":0},"Hicham L.p_5",{"$f":"IFERROR(VLOOKUP(KB19,MATCHSELEVES!$Y$14:$AE$600,3,FALSE),0)","v":0},{"$f":"IFERROR(VLOOKUP(KB19,MATCHSELEVES!$Y$14:$AE$600,4,FALSE),0)","v":0},{"$f":"IFERROR(VLOOKUP(KB19,MATCHSELEVES!$Y$14:$AE$600,5,FALSE),0)","v":0},{"$f":"IFERROR(VLOOKUP(KB19,MATCHSELEVES!$Y$14:$AF$600,8,FALSE),0)","v":0},{"$f":"IFERROR(VLOOKUP(KB19,MATCHSELEVES!$Y$14:$AG$600,9,FALSE),0)","v":0},"Hicham L.p_6",{"$f":"IFERROR(VLOOKUP(KH19,MATCHSELEVES!$Y$14:$AE$600,3,FALSE),0)","v":0},{"$f":"IFERROR(VLOOKUP(KH19,MATCHSELEVES!$Y$14:$AE$600,4,FALSE),0)","v":0},{"$f":"IFERROR(VLOOKUP(KH19,MATCHSELEVES!$Y$14:$AE$600,5,FALSE),0)","v":0},{"$f":"IFERROR(VLOOKUP(KH19,MATCHSELEVES!$Y$14:$AF$600,8,FALSE),0)","v":0},{"$f":"IFERROR(VLOOKUP(KH19,MATCHSELEVES!$Y$14:$AG$600,9,FALSE),0)","v":0},"Hicham L.p_7",{"$f":"IFERROR(VLOOKUP(KN19,MATCHSELEVES!$Y$14:$AE$600,3,FALSE),0)","v":0},{"$f":"IFERROR(VLOOKUP(KN19,MATCHSELEVES!$Y$14:$AE$600,4,FALSE),0)","v":0},{"$f":"IFERROR(VLOOKUP(KN19,MATCHSELEVES!$Y$14:$AE$600,5,FALSE),0)","v":0},{"$f":"IFERROR(VLOOKUP(KN19,MATCHSELEVES!$Y$14:$AF$600,8,FALSE),0)","v":0},{"$f":"IFERROR(VLOOKUP(KN19,MATCHSELEVES!$Y$14:$AG$600,9,FALSE),0)","v":0},"Hicham L.p_8",{"$f":"IFERROR(VLOOKUP(KT19,MATCHSELEVES!$Y$14:$AE$600,3,FALSE),0)","v":0},{"$f":"IFERROR(VLOOKUP(KT19,MATCHSELEVES!$Y$14:$AE$600,4,FALSE),0)","v":0},{"$f":"IFERROR(VLOOKUP(KT19,MATCHSELEVES!$Y$14:$AE$600,5,FALSE),0)","v":0},{"$f":"IFERROR(VLOOKUP(KT19,MATCHSELEVES!$Y$14:$AF$600,8,FALSE),0)","v":0},{"$f":"IFERROR(VLOOKUP(KT19,MATCHSELEVES!$Y$14:$AG$600,9,FALSE),0)","v":0},"Hicham L.p_9",{"$f":"IFERROR(VLOOKUP(KZ19,MATCHSELEVES!$Y$14:$AE$600,3,FALSE),0)","v":0},{"$f":"IFERROR(VLOOKUP(KZ19,MATCHSELEVES!$Y$14:$AE$600,4,FALSE),0)","v":0},{"$f":"IFERROR(VLOOKUP(KZ19,MATCHSELEVES!$Y$14:$AE$600,5,FALSE),0)","v":0},{"$f":"IFERROR(VLOOKUP(KZ19,MATCHSELEVES!$Y$14:$AF$600,8,FALSE),0)","v":0},{"$f":"IFERROR(VLOOKUP(KZ19,MATCHSELEVES!$Y$14:$AG$600,9,FALSE),0)","v":0},"Hicham L.p_10",{"$f":"IFERROR(VLOOKUP(LF19,MATCHSELEVES!$Y$14:$AE$600,3,FALSE),0)","v":0},{"$f":"IFERROR(VLOOKUP(LF19,MATCHSELEVES!$Y$14:$AE$600,4,FALSE),0)","v":0},{"$f":"IFERROR(VLOOKUP(LF19,MATCHSELEVES!$Y$14:$AE$600,5,FALSE),0)","v":0},{"$f":"IFERROR(VLOOKUP(LF19,MATCHSELEVES!$Y$14:$AF$600,8,FALSE),0)","v":0},{"$f":"IFERROR(VLOOKUP(LF19,MATCHSELEVES!$Y$14:$AG$600,9,FALSE),0)","v":0},"Hicham L.p_11",{"$f":"IFERROR(VLOOKUP(LL19,MATCHSELEVES!$Y$14:$AE$600,3,FALSE),0)","v":0},{"$f":"IFERROR(VLOOKUP(LL19,MATCHSELEVES!$Y$14:$AE$600,4,FALSE),0)","v":0},{"$f":"IFERROR(VLOOKUP(LL19,MATCHSELEVES!$Y$14:$AE$600,5,FALSE),0)","v":0},{"$f":"IFERROR(VLOOKUP(LL19,MATCHSELEVES!$Y$14:$AF$600,8,FALSE),0)","v":0},{"$f":"IFERROR(VLOOKUP(LL19,MATCHSELEVES!$Y$14:$AG$600,9,FALSE),0)","v":0},"Hicham L.p_12",{"$f":"IFERROR(VLOOKUP(LR19,MATCHSELEVES!$Y$14:$AE$600,3,FALSE),0)","v":0},{"$f":"IFERROR(VLOOKUP(LR19,MATCHSELEVES!$Y$14:$AE$600,4,FALSE),0)","v":0},{"$f":"IFERROR(VLOOKUP(LR19,MATCHSELEVES!$Y$14:$AE$600,5,FALSE),0)","v":0},{"$f":"IFERROR(VLOOKUP(LR19,MATCHSELEVES!$Y$14:$AF$600,8,FALSE),0)","v":0},{"$f":"IFERROR(VLOOKUP(LR19,MATCHSELEVES!$Y$14:$AG$600,9,FALSE),0)","v":0},"Hicham L.p_13",{"$f":"IFERROR(VLOOKUP(LX19,MATCHSELEVES!$Y$14:$AE$600,3,FALSE),0)","v":0},{"$f":"IFERROR(VLOOKUP(LX19,MATCHSELEVES!$Y$14:$AE$600,4,FALSE),0)","v":0},{"$f":"IFERROR(VLOOKUP(LX19,MATCHSELEVES!$Y$14:$AE$600,5,FALSE),0)","v":0},{"$f":"IFERROR(VLOOKUP(LX19,MATCHSELEVES!$Y$14:$AF$600,8,FALSE),0)","v":0},{"$f":"IFERROR(VLOOKUP(LX19,MATCHSELEVES!$Y$14:$AG$600,9,FALSE),0)","v":0},"Hicham L.p_14",{"$f":"IFERROR(VLOOKUP(MD19,MATCHSELEVES!$Y$14:$AE$600,3,FALSE),0)","v":0},{"$f":"IFERROR(VLOOKUP(MD19,MATCHSELEVES!$Y$14:$AE$600,4,FALSE),0)","v":0},{"$f":"IFERROR(VLOOKUP(MD19,MATCHSELEVES!$Y$14:$AE$600,5,FALSE),0)","v":0},{"$f":"IFERROR(VLOOKUP(MD19,MATCHSELEVES!$Y$14:$AF$600,8,FALSE),0)","v":0},{"$f":"IFERROR(VLOOKUP(MD19,MATCHSELEVES!$Y$14:$AG$600,9,FALSE),0)","v":0},"Hicham L.p_15",{"$f":"IFERROR(VLOOKUP(MJ19,MATCHSELEVES!$Y$14:$AE$600,3,FALSE),0)","v":0},{"$f":"IFERROR(VLOOKUP(MJ19,MATCHSELEVES!$Y$14:$AE$600,4,FALSE),0)","v":0},{"$f":"IFERROR(VLOOKUP(MJ19,MATCHSELEVES!$Y$14:$AE$600,5,FALSE),0)","v":0},{"$f":"IFERROR(VLOOKUP(MJ19,MATCHSELEVES!$Y$14:$AF$600,8,FALSE),0)","v":0},{"$f":"IFERROR(VLOOKUP(MJ19,MATCHSELEVES!$Y$14:$AG$600,9,FALSE),0)","v":0},"Hicham L.p_16",{"$f":"IFERROR(VLOOKUP(MP19,MATCHSELEVES!$Y$14:$AE$600,3,FALSE),0)","v":0},{"$f":"IFERROR(VLOOKUP(MP19,MATCHSELEVES!$Y$14:$AE$600,4,FALSE),0)","v":0},{"$f":"IFERROR(VLOOKUP(MP19,MATCHSELEVES!$Y$14:$AE$600,5,FALSE),0)","v":0},{"$f":"IFERROR(VLOOKUP(MP19,MATCHSELEVES!$Y$14:$AF$600,8,FALSE),0)","v":0},{"$f":"IFERROR(VLOOKUP(MP19,MATCHSELEVES!$Y$14:$AG$600,9,FALSE),0)","v":0},"Hicham L.p_17",{"$f":"IFERROR(VLOOKUP(MV19,MATCHSELEVES!$Y$14:$AE$600,3,FALSE),0)","v":0},{"$f":"IFERROR(VLOOKUP(MV19,MATCHSELEVES!$Y$14:$AE$600,4,FALSE),0)","v":0},{"$f":"IFERROR(VLOOKUP(MV19,MATCHSELEVES!$Y$14:$AE$600,5,FALSE),0)","v":0},{"$f":"IFERROR(VLOOKUP(MV19,MATCHSELEVES!$Y$14:$AF$600,8,FALSE),0)","v":0},{"$f":"IFERROR(VLOOKUP(MV19,MATCHSELEVES!$Y$14:$AG$600,9,FALSE),0)","v":0},"Hicham L.p_18",{"$f":"IFERROR(VLOOKUP(NB19,MATCHSELEVES!$Y$14:$AE$600,3,FALSE),0)","v":0},{"$f":"IFERROR(VLOOKUP(NB19,MATCHSELEVES!$Y$14:$AE$600,4,FALSE),0)","v":0},{"$f":"IFERROR(VLOOKUP(NB19,MATCHSELEVES!$Y$14:$AE$600,5,FALSE),0)","v":0},{"$f":"IFERROR(VLOOKUP(NB19,MATCHSELEVES!$Y$14:$AF$600,8,FALSE),0)","v":0},{"$f":"IFERROR(VLOOKUP(NB19,MATCHSELEVES!$Y$14:$AG$600,9,FALSE),0)","v":0},"Hicham L.p_19",{"$f":"IFERROR(VLOOKUP(NH19,MATCHSELEVES!$Y$14:$AE$600,3,FALSE),0)","v":0},{"$f":"IFERROR(VLOOKUP(NH19,MATCHSELEVES!$Y$14:$AE$600,4,FALSE),0)","v":0},{"$f":"IFERROR(VLOOKUP(NH19,MATCHSELEVES!$Y$14:$AE$600,5,FALSE),0)","v":0},{"$f":"IFERROR(VLOOKUP(NH19,MATCHSELEVES!$Y$14:$AF$600,8,FALSE),0)","v":0},{"$f":"IFERROR(VLOOKUP(NH19,MATCHSELEVES!$Y$14:$AG$600,9,FALSE),0)","v":0},"Hicham L.p_20",{"$f":"IFERROR(VLOOKUP(NN19,MATCHSELEVES!$Y$14:$AE$600,3,FALSE),0)","v":0},{"$f":"IFERROR(VLOOKUP(NN19,MATCHSELEVES!$Y$14:$AE$600,4,FALSE),0)","v":0},{"$f":"IFERROR(VLOOKUP(NN19,MATCHSELEVES!$Y$14:$AE$600,5,FALSE),0)","v":0},{"$f":"IFERROR(VLOOKUP(NN19,MATCHSELEVES!$Y$14:$AF$600,8,FALSE),0)","v":0},{"$f":"IFERROR(VLOOKUP(NN19,MATCHSELEVES!$Y$14:$AG$600,9,FALSE),0)","v":0},"Hicham L.p_21",{"$f":"IFERROR(VLOOKUP(NT19,MATCHSELEVES!$Y$14:$AE$600,3,FALSE),0)","v":0},{"$f":"IFERROR(VLOOKUP(NT19,MATCHSELEVES!$Y$14:$AE$600,4,FALSE),0)","v":0},{"$f":"IFERROR(VLOOKUP(NT19,MATCHSELEVES!$Y$14:$AE$600,5,FALSE),0)","v":0},{"$f":"IFERROR(VLOOKUP(NT19,MATCHSELEVES!$Y$14:$AF$600,8,FALSE),0)","v":0},{"$f":"IFERROR(VLOOKUP(NT19,MATCHSELEVES!$Y$14:$AG$600,9,FALSE),0)","v":0},"Hicham L.p_22",{"$f":"IFERROR(VLOOKUP(NZ19,MATCHSELEVES!$Y$14:$AE$600,3,FALSE),0)","v":0},{"$f":"IFERROR(VLOOKUP(NZ19,MATCHSELEVES!$Y$14:$AE$600,4,FALSE),0)","v":0},{"$f":"IFERROR(VLOOKUP(NZ19,MATCHSELEVES!$Y$14:$AE$600,5,FALSE),0)","v":0},{"$f":"IFERROR(VLOOKUP(NZ19,MATCHSELEVES!$Y$14:$AF$600,8,FALSE),0)","v":0},{"$f":"IFERROR(VLOOKUP(NZ19,MATCHSELEVES!$Y$14:$AG$600,9,FALSE),0)","v":0},"Hicham L.p_23",{"$f":"IFERROR(VLOOKUP(OF19,MATCHSELEVES!$Y$14:$AE$600,3,FALSE),0)","v":0},{"$f":"IFERROR(VLOOKUP(OF19,MATCHSELEVES!$Y$14:$AE$600,4,FALSE),0)","v":0},{"$f":"IFERROR(VLOOKUP(OF19,MATCHSELEVES!$Y$14:$AE$600,5,FALSE),0)","v":0},{"$f":"IFERROR(VLOOKUP(OF19,MATCHSELEVES!$Y$14:$AF$600,8,FALSE),0)","v":0},{"$f":"IFERROR(VLOOKUP(OF19,MATCHSELEVES!$Y$14:$AG$600,9,FALSE),0)","v":0},"Hicham L.p_24",{"$f":"IFERROR(VLOOKUP(OL19,MATCHSELEVES!$Y$14:$AE$600,3,FALSE),0)","v":0},{"$f":"IFERROR(VLOOKUP(OL19,MATCHSELEVES!$Y$14:$AE$600,4,FALSE),0)","v":0},{"$f":"IFERROR(VLOOKUP(OL19,MATCHSELEVES!$Y$14:$AE$600,5,FALSE),0)","v":0},{"$f":"IFERROR(VLOOKUP(OL19,MATCHSELEVES!$Y$14:$AF$600,8,FALSE),0)","v":0},{"$f":"IFERROR(VLOOKUP(OL19,MATCHSELEVES!$Y$14:$AG$600,9,FALSE),0)","v":0},"Hicham L.p_25",{"$f":"IFERROR(VLOOKUP(OR19,MATCHSELEVES!$Y$14:$AE$600,3,FALSE),0)","v":0},{"$f":"IFERROR(VLOOKUP(OR19,MATCHSELEVES!$Y$14:$AE$600,4,FALSE),0)","v":0},{"$f":"IFERROR(VLOOKUP(OR19,MATCHSELEVES!$Y$14:$AE$600,5,FALSE),0)","v":0},{"$f":"IFERROR(VLOOKUP(OR19,MATCHSELEVES!$Y$14:$AF$600,8,FALSE),0)","v":0},{"$f":"IFERROR(VLOOKUP(OR19,MATCHSELEVES!$Y$14:$AG$600,9,FALSE),0)","v":0},"Hicham L.p_26",{"$f":"IFERROR(VLOOKUP(OX19,MATCHSELEVES!$Y$14:$AE$600,3,FALSE),0)","v":0},{"$f":"IFERROR(VLOOKUP(OX19,MATCHSELEVES!$Y$14:$AE$600,4,FALSE),0)","v":0},{"$f":"IFERROR(VLOOKUP(OX19,MATCHSELEVES!$Y$14:$AE$600,5,FALSE),0)","v":0},{"$f":"IFERROR(VLOOKUP(OX19,MATCHSELEVES!$Y$14:$AF$600,8,FALSE),0)","v":0},{"$f":"IFERROR(VLOOKUP(OX19,MATCHSELEVES!$Y$14:$AG$600,9,FALSE),0)","v":0},"Hicham L.p_27",{"$f":"IFERROR(VLOOKUP(PD19,MATCHSELEVES!$Y$14:$AE$600,3,FALSE),0)","v":0},{"$f":"IFERROR(VLOOKUP(PD19,MATCHSELEVES!$Y$14:$AE$600,4,FALSE),0)","v":0},{"$f":"IFERROR(VLOOKUP(PD19,MATCHSELEVES!$Y$14:$AE$600,5,FALSE),0)","v":0},{"$f":"IFERROR(VLOOKUP(PD19,MATCHSELEVES!$Y$14:$AF$600,8,FALSE),0)","v":0},{"$f":"IFERROR(VLOOKUP(PD19,MATCHSELEVES!$Y$14:$AG$600,9,FALSE),0)","v":0},"Hicham L.p_28",{"$f":"IFERROR(VLOOKUP(PJ19,MATCHSELEVES!$Y$14:$AE$600,3,FALSE),0)","v":0},{"$f":"IFERROR(VLOOKUP(PJ19,MATCHSELEVES!$Y$14:$AE$600,4,FALSE),0)","v":0},{"$f":"IFERROR(VLOOKUP(PJ19,MATCHSELEVES!$Y$14:$AE$600,5,FALSE),0)","v":0},{"$f":"IFERROR(VLOOKUP(PJ19,MATCHSELEVES!$Y$14:$AF$600,8,FALSE),0)","v":0},{"$f":"IFERROR(VLOOKUP(PJ19,MATCHSELEVES!$Y$14:$AG$600,9,FALSE),0)","v":0},"Hicham L.p_29",{"$f":"IFERROR(VLOOKUP(PP19,MATCHSELEVES!$Y$14:$AE$600,3,FALSE),0)","v":0},{"$f":"IFERROR(VLOOKUP(PP19,MATCHSELEVES!$Y$14:$AE$600,4,FALSE),0)","v":0},{"$f":"IFERROR(VLOOKUP(PP19,MATCHSELEVES!$Y$14:$AE$600,5,FALSE),0)","v":0},{"$f":"IFERROR(VLOOKUP(PP19,MATCHSELEVES!$Y$14:$AF$600,8,FALSE),0)","v":0},{"$f":"IFERROR(VLOOKUP(PP19,MATCHSELEVES!$Y$14:$AG$600,9,FALSE),0)","v":0},"Hicham L.p_30",{"$f":"IFERROR(VLOOKUP(PV19,MATCHSELEVES!$Y$14:$AE$600,3,FALSE),0)","v":0},{"$f":"IFERROR(VLOOKUP(PV19,MATCHSELEVES!$Y$14:$AE$600,4,FALSE),0)","v":0},{"$f":"IFERROR(VLOOKUP(PV19,MATCHSELEVES!$Y$14:$AE$600,5,FALSE),0)","v":0},{"$f":"IFERROR(VLOOKUP(PV19,MATCHSELEVES!$Y$14:$AF$600,8,FALSE),0)","v":0},{"$f":"IFERROR(VLOOKUP(PV19,MATCHSELEVES!$Y$14:$AG$600,9,FALSE),0)","v":0},"Hicham L.p_31",{"$f":"IFERROR(VLOOKUP(QB19,MATCHSELEVES!$Y$14:$AE$600,3,FALSE),0)","v":0},{"$f":"IFERROR(VLOOKUP(QB19,MATCHSELEVES!$Y$14:$AE$600,4,FALSE),0)","v":0},{"$f":"IFERROR(VLOOKUP(QB19,MATCHSELEVES!$Y$14:$AE$600,5,FALSE),0)","v":0},{"$f":"IFERROR(VLOOKUP(QB19,MATCHSELEVES!$Y$14:$AF$600,8,FALSE),0)","v":0},{"$f":"IFERROR(VLOOKUP(QB19,MATCHSELEVES!$Y$14:$AG$600,9,FALSE),0)","v":0},"Hicham L.p_32",{"$f":"IFERROR(VLOOKUP(QH19,MATCHSELEVES!$Y$14:$AE$600,3,FALSE),0)","v":0},{"$f":"IFERROR(VLOOKUP(QH19,MATCHSELEVES!$Y$14:$AE$600,4,FALSE),0)","v":0},{"$f":"IFERROR(VLOOKUP(QH19,MATCHSELEVES!$Y$14:$AE$600,5,FALSE),0)","v":0},{"$f":"IFERROR(VLOOKUP(QH19,MATCHSELEVES!$Y$14:$AF$600,8,FALSE),0)","v":0},{"$f":"IFERROR(VLOOKUP(QH19,MATCHSELEVES!$Y$14:$AG$600,9,FALSE),0)","v":0},"Hicham L.p_33",{"$f":"IFERROR(VLOOKUP(QN19,MATCHSELEVES!$Y$14:$AE$600,3,FALSE),0)","v":0},{"$f":"IFERROR(VLOOKUP(QN19,MATCHSELEVES!$Y$14:$AE$600,4,FALSE),0)","v":0},{"$f":"IFERROR(VLOOKUP(QN19,MATCHSELEVES!$Y$14:$AE$600,5,FALSE),0)","v":0},{"$f":"IFERROR(VLOOKUP(QN19,MATCHSELEVES!$Y$14:$AF$600,8,FALSE),0)","v":0},{"$f":"IFERROR(VLOOKUP(QN19,MATCHSELEVES!$Y$14:$AG$600,9,FALSE),0)","v":0},"Hicham L.p_34",{"$f":"IFERROR(VLOOKUP(QT19,MATCHSELEVES!$Y$14:$AE$600,3,FALSE),0)","v":0},{"$f":"IFERROR(VLOOKUP(QT19,MATCHSELEVES!$Y$14:$AE$600,4,FALSE),0)","v":0},{"$f":"IFERROR(VLOOKUP(QT19,MATCHSELEVES!$Y$14:$AE$600,5,FALSE),0)","v":0},{"$f":"IFERROR(VLOOKUP(QT19,MATCHSELEVES!$Y$14:$AF$600,8,FALSE),0)","v":0},{"$f":"IFERROR(VLOOKUP(QT19,MATCHSELEVES!$Y$14:$AG$600,9,FALSE),0)","v":0},"Hicham L.p_35",{"$f":"IFERROR(VLOOKUP(QZ19,MATCHSELEVES!$Y$14:$AE$600,3,FALSE),0)","v":0},{"$f":"IFERROR(VLOOKUP(QZ19,MATCHSELEVES!$Y$14:$AE$600,4,FALSE),0)","v":0},{"$f":"IFERROR(VLOOKUP(QZ19,MATCHSELEVES!$Y$14:$AE$600,5,FALSE),0)","v":0},{"$f":"IFERROR(VLOOKUP(QZ19,MATCHSELEVES!$Y$14:$AF$600,8,FALSE),0)","v":0},{"$f":"IFERROR(VLOOKUP(QZ19,MATCHSELEVES!$Y$14:$AG$600,9,FALSE),0)","v":0},"Hicham L.p_36",{"$f":"IFERROR(VLOOKUP(RF19,MATCHSELEVES!$Y$14:$AE$600,3,FALSE),0)","v":0},{"$f":"IFERROR(VLOOKUP(RF19,MATCHSELEVES!$Y$14:$AE$600,4,FALSE),0)","v":0},{"$f":"IFERROR(VLOOKUP(RF19,MATCHSELEVES!$Y$14:$AE$600,5,FALSE),0)","v":0},{"$f":"IFERROR(VLOOKUP(RF19,MATCHSELEVES!$Y$14:$AF$600,8,FALSE),0)","v":0},{"$f":"IFERROR(VLOOKUP(RF19,MATCHSELEVES!$Y$14:$AG$600,9,FALSE),0)","v":0},"Hicham L.p_37",{"$f":"IFERROR(VLOOKUP(RL19,MATCHSELEVES!$Y$14:$AE$600,3,FALSE),0)","v":0},{"$f":"IFERROR(VLOOKUP(RL19,MATCHSELEVES!$Y$14:$AE$600,4,FALSE),0)","v":0},{"$f":"IFERROR(VLOOKUP(RL19,MATCHSELEVES!$Y$14:$AE$600,5,FALSE),0)","v":0},{"$f":"IFERROR(VLOOKUP(RL19,MATCHSELEVES!$Y$14:$AF$600,8,FALSE),0)","v":0},{"$f":"IFERROR(VLOOKUP(RL19,MATCHSELEVES!$Y$14:$AG$600,9,FALSE),0)","v":0},"Hicham L.p_38",{"$f":"IFERROR(VLOOKUP(RR19,MATCHSELEVES!$Y$14:$AE$600,3,FALSE),0)","v":0},{"$f":"IFERROR(VLOOKUP(RR19,MATCHSELEVES!$Y$14:$AE$600,4,FALSE),0)","v":0},{"$f":"IFERROR(VLOOKUP(RR19,MATCHSELEVES!$Y$14:$AE$600,5,FALSE),0)","v":0},{"$f":"IFERROR(VLOOKUP(RR19,MATCHSELEVES!$Y$14:$AF$600,8,FALSE),0)","v":0},{"$f":"IFERROR(VLOOKUP(RR19,MATCHSELEVES!$Y$14:$AG$600,9,FALSE),0)","v":0},"Hicham L.p_39",{"$f":"IFERROR(VLOOKUP(RX19,MATCHSELEVES!$Y$14:$AE$600,3,FALSE),0)","v":0},{"$f":"IFERROR(VLOOKUP(RX19,MATCHSELEVES!$Y$14:$AE$600,4,FALSE),0)","v":0},{"$f":"IFERROR(VLOOKUP(RX19,MATCHSELEVES!$Y$14:$AE$600,5,FALSE),0)","v":0},{"$f":"IFERROR(VLOOKUP(RX19,MATCHSELEVES!$Y$14:$AF$600,8,FALSE),0)","v":0},{"$f":"IFERROR(VLOOKUP(RX19,MATCHSELEVES!$Y$14:$AG$600,9,FALSE),0)","v":0},"Hicham L.p_40",{"$f":"IFERROR(VLOOKUP(SD19,MATCHSELEVES!$Y$14:$AE$600,3,FALSE),0)","v":0},{"$f":"IFERROR(VLOOKUP(SD19,MATCHSELEVES!$Y$14:$AE$600,4,FALSE),0)","v":0},{"$f":"IFERROR(VLOOKUP(SD19,MATCHSELEVES!$Y$14:$AE$600,5,FALSE),0)","v":0},{"$f":"IFERROR(VLOOKUP(SD19,MATCHSELEVES!$Y$14:$AF$600,8,FALSE),0)","v":0},{"$f":"IFERROR(VLOOKUP(SD19,MATCHSELEVES!$Y$14:$AG$600,9,FALSE),0)","v":0}]
[17,null,{"$f":"MD1POINT!C20","v":"Jassim"},{"$f":"MD1POINT!D20","v":1},{"$f":"COUNTIF(MATCHSELEVES!$Z$14:$Z$600,C20)+COUNTIF(MATCHSELEVES!$Z$14:$Z$600,$C20&\"p\")","v":0},1,{"$f":"COUNTIF(MATCHSELEVES!$F$14:$H$249,C20)","v":0},1,0,1,0,1,0,1,{"$f":"Y20+AE20+AK20+AQ20+AW20+BC20+BI20+BO20+BU20+CA20+CG20+CM20+CS20+CY20+DE20+DK20+DQ20+DW20+EC20+EI20+EO20+EU20+FA20+FG20+FM20+FS20+FY20+GE20+GK20+GQ20+GW20+4+HI20+HO20+HU20+IA20+HC20+IG20+IM20+IY20+IS20+JH20+JN20+JZ20+JT20+KF20+KR20+KX20+LJ20+LP20+LV20+LD20+MB20+MH20+MN20+MZ20+MT20+NF20+NL20+NR20+NX20+OD20+OJ20+OP20+OV20+PB20+PH20+PT20+PN20+PZ20+QF20+QL20+QR20+RD20+QX20+RJ20+RP20+RV20+SB20+SH20+KL20+Tableau10[[#This Row],[Nombre de matchs joués]]*2","v":4},1,{"$f":"(Tableau10[[#This Row],[CLASSEMENT1]]+Tableau10[[#This Row],[CLASSEMENT2]]+Tableau10[[#This Row],[CLASSEMENT3]]+Tableau10[[#This Row],[CLASSEMENT4]]+Tableau10[[#This Row],[CLASSEMENT5]]+Tableau10[[#This Row],[CLASSEMENT6]])/6","v":1},{"$f":"RANK(Tableau10[[#This Row],[MOYENNE CLASSEMENTS]],Tableau10[MOYENNE CLASSEMENTS],1)","v":1},null,{"$f":"Tableau10[[#This Row],[CLASSEMENT1]]","v":1},"Jassim_1",{"$f":"IFERROR(VLOOKUP(U20,MATCHSELEVES!$Y$14:$AE$600,3,FALSE),0)","v":0},{"$f":"IFERROR(VLOOKUP(U20,MATCHSELEVES!$Y$14:$AE$600,4,FALSE),0)","v":0},{"$f":"IFERROR(VLOOKUP(U20,MATCHSELEVES!$Y$14:$AE$600,5,FALSE),0)","v":0},{"$f":"IFERROR(VLOOKUP(U20,MATCHSELEVES!$Y$14:$AF$600,8,FALSE),0)","v":0},{"$f":"IFERROR(VLOOKUP(U20,MATCHSELEVES!$Y$14:$AG$600,9,FALSE),0)","v":0},"Jassim_2",{"$f":"IFERROR(VLOOKUP(AA20,MATCHSELEVES!$Y$14:$AE$600,3,FALSE),0)","v":0},{"$f":"IFERROR(VLOOKUP(AA20,MATCHSELEVES!$Y$14:$AE$600,4,FALSE),0)","v":0},{"$f":"IFERROR(VLOOKUP(AA20,MATCHSELEVES!$Y$14:$AE$600,5,FALSE),0)","v":0},{"$f":"IFERROR(VLOOKUP(AA20,MATCHSELEVES!$Y$14:$AF$600,8,FALSE),0)","v":0},{"$f":"IFERROR(VLOOKUP(AA20,MATCHSELEVES!$Y$14:$AG$600,9,FALSE),0)","v":0},"Jassim_3",{"$f":"IFERROR(VLOOKUP(AG20,MATCHSELEVES!$Y$14:$AE$600,3,FALSE),0)","v":0},{"$f":"IFERROR(VLOOKUP(AG20,MATCHSELEVES!$Y$14:$AE$600,4,FALSE),0)","v":0},{"$f":"IFERROR(VLOOKUP(AG20,MATCHSELEVES!$Y$14:$AE$600,5,FALSE),0)","v":0},{"$f":"IFERROR(VLOOKUP(AG20,MATCHSELEVES!$Y$14:$AF$600,8,FALSE),0)","v":0},{"$f":"IFERROR(VLOOKUP(AG20,MATCHSELEVES!$Y$14:$AG$600,9,FALSE),0)","v":0},"Jassim_4",{"$f":"IFERROR(VLOOKUP(AM20,MATCHSELEVES!$Y$14:$AE$600,3,FALSE),0)","v":0},{"$f":"IFERROR(VLOOKUP(AM20,MATCHSELEVES!$Y$14:$AE$600,4,FALSE),0)","v":0},{"$f":"IFERROR(VLOOKUP(AM20,MATCHSELEVES!$Y$14:$AE$600,5,FALSE),0)","v":0},{"$f":"IFERROR(VLOOKUP(AM20,MATCHSELEVES!$Y$14:$AF$600,8,FALSE),0)","v":0},{"$f":"IFERROR(VLOOKUP(AM20,MATCHSELEVES!$Y$14:$AG$600,9,FALSE),0)","v":0},"Jassim_5",{"$f":"IFERROR(VLOOKUP(AS20,MATCHSELEVES!$Y$14:$AE$600,3,FALSE),0)","v":0},{"$f":"IFERROR(VLOOKUP(AS20,MATCHSELEVES!$Y$14:$AE$600,4,FALSE),0)","v":0},{"$f":"IFERROR(VLOOKUP(AS20,MATCHSELEVES!$Y$14:$AE$600,5,FALSE),0)","v":0},{"$f":"IFERROR(VLOOKUP(AS20,MATCHSELEVES!$Y$14:$AF$600,8,FALSE),0)","v":0},{"$f":"IFERROR(VLOOKUP(AS20,MATCHSELEVES!$Y$14:$AG$600,9,FALSE),0)","v":0},"Jassim_6",{"$f":"IFERROR(VLOOKUP(AY20,MATCHSELEVES!$Y$14:$AE$600,3,FALSE),0)","v":0},{"$f":"IFERROR(VLOOKUP(AY20,MATCHSELEVES!$Y$14:$AE$600,4,FALSE),0)","v":0},{"$f":"IFERROR(VLOOKUP(AY20,MATCHSELEVES!$Y$14:$AE$600,5,FALSE),0)","v":0},{"$f":"IFERROR(VLOOKUP(AY20,MATCHSELEVES!$Y$14:$AF$600,8,FALSE),0)","v":0},{"$f":"IFERROR(VLOOKUP(AY20,MATCHSELEVES!$Y$14:$AG$600,9,FALSE),0)","v":0},"Jassim_7",{"$f":"IFERROR(VLOOKUP(BE20,MATCHSELEVES!$Y$14:$AE$600,3,FALSE),0)","v":0},{"$f":"IFERROR(VLOOKUP(BE20,MATCHSELEVES!$Y$14:$AE$600,4,FALSE),0)","v":0},{"$f":"IFERROR(VLOOKUP(BE20,MATCHSELEVES!$Y$14:$AE$600,5,FALSE),0)","v":0},{"$f":"IFERROR(VLOOKUP(BE20,MATCHSELEVES!$Y$14:$AF$600,8,FALSE),0)","v":0},{"$f":"IFERROR(VLOOKUP(BE20,MATCHSELEVES!$Y$14:$AG$600,9,FALSE),0)","v":0},"Jassim_8",{"$f":"IFERROR(VLOOKUP(BK20,MATCHSELEVES!$Y$14:$AE$600,3,FALSE),0)","v":0},{"$f":"IFERROR(VLOOKUP(BK20,MATCHSELEVES!$Y$14:$AE$600,4,FALSE),0)","v":0},{"$f":"IFERROR(VLOOKUP(BK20,MATCHSELEVES!$Y$14:$AE$600,5,FALSE),0)","v":0},{"$f":"IFERROR(VLOOKUP(BK20,MATCHSELEVES!$Y$14:$AF$600,8,FALSE),0)","v":0},{"$f":"IFERROR(VLOOKUP(BK20,MATCHSELEVES!$Y$14:$AG$600,9,FALSE),0)","v":0},"Jassim_9",{"$f":"IFERROR(VLOOKUP(BQ20,MATCHSELEVES!$Y$14:$AE$600,3,FALSE),0)","v":0},{"$f":"IFERROR(VLOOKUP(BQ20,MATCHSELEVES!$Y$14:$AE$600,4,FALSE),0)","v":0},{"$f":"IFERROR(VLOOKUP(BQ20,MATCHSELEVES!$Y$14:$AE$600,5,FALSE),0)","v":0},{"$f":"IFERROR(VLOOKUP(BQ20,MATCHSELEVES!$Y$14:$AF$600,8,FALSE),0)","v":0},{"$f":"IFERROR(VLOOKUP(BQ20,MATCHSELEVES!$Y$14:$AG$600,9,FALSE),0)","v":0},"Jassim_10",{"$f":"IFERROR(VLOOKUP(BW20,MATCHSELEVES!$Y$14:$AE$600,3,FALSE),0)","v":0},{"$f":"IFERROR(VLOOKUP(BW20,MATCHSELEVES!$Y$14:$AE$600,4,FALSE),0)","v":0},{"$f":"IFERROR(VLOOKUP(BW20,MATCHSELEVES!$Y$14:$AE$600,5,FALSE),0)","v":0},{"$f":"IFERROR(VLOOKUP(BW20,MATCHSELEVES!$Y$14:$AF$600,8,FALSE),0)","v":0},{"$f":"IFERROR(VLOOKUP(BW20,MATCHSELEVES!$Y$14:$AG$600,9,FALSE),0)","v":0},"Jassim_11",{"$f":"IFERROR(VLOOKUP(CC20,MATCHSELEVES!$Y$14:$AE$600,3,FALSE),0)","v":0},{"$f":"IFERROR(VLOOKUP(CC20,MATCHSELEVES!$Y$14:$AE$600,4,FALSE),0)","v":0},{"$f":"IFERROR(VLOOKUP(CC20,MATCHSELEVES!$Y$14:$AE$600,5,FALSE),0)","v":0},{"$f":"IFERROR(VLOOKUP(CC20,MATCHSELEVES!$Y$14:$AF$600,8,FALSE),0)","v":0},{"$f":"IFERROR(VLOOKUP(CC20,MATCHSELEVES!$Y$14:$AG$600,9,FALSE),0)","v":0},"Jassim_12",{"$f":"IFERROR(VLOOKUP(CI20,MATCHSELEVES!$Y$14:$AE$600,3,FALSE),0)","v":0},{"$f":"IFERROR(VLOOKUP(CI20,MATCHSELEVES!$Y$14:$AE$600,4,FALSE),0)","v":0},{"$f":"IFERROR(VLOOKUP(CI20,MATCHSELEVES!$Y$14:$AE$600,5,FALSE),0)","v":0},{"$f":"IFERROR(VLOOKUP(CI20,MATCHSELEVES!$Y$14:$AF$600,8,FALSE),0)","v":0},{"$f":"IFERROR(VLOOKUP(CI20,MATCHSELEVES!$Y$14:$AG$600,9,FALSE),0)","v":0},"Jassim_13",{"$f":"IFERROR(VLOOKUP(CO20,MATCHSELEVES!$Y$14:$AE$600,3,FALSE),0)","v":0},{"$f":"IFERROR(VLOOKUP(CO20,MATCHSELEVES!$Y$14:$AE$600,4,FALSE),0)","v":0},{"$f":"IFERROR(VLOOKUP(CO20,MATCHSELEVES!$Y$14:$AE$600,5,FALSE),0)","v":0},{"$f":"IFERROR(VLOOKUP(CO20,MATCHSELEVES!$Y$14:$AF$600,8,FALSE),0)","v":0},{"$f":"IFERROR(VLOOKUP(CO20,MATCHSELEVES!$Y$14:$AG$600,9,FALSE),0)","v":0},"Jassim_14",{"$f":"IFERROR(VLOOKUP(CU20,MATCHSELEVES!$Y$14:$AE$600,3,FALSE),0)","v":0},{"$f":"IFERROR(VLOOKUP(CU20,MATCHSELEVES!$Y$14:$AE$600,4,FALSE),0)","v":0},{"$f":"IFERROR(VLOOKUP(CU20,MATCHSELEVES!$Y$14:$AE$600,5,FALSE),0)","v":0},{"$f":"IFERROR(VLOOKUP(CU20,MATCHSELEVES!$Y$14:$AF$600,8,FALSE),0)","v":0},{"$f":"IFERROR(VLOOKUP(CU20,MATCHSELEVES!$Y$14:$AG$600,9,FALSE),0)","v":0},"Jassim_15",{"$f":"IFERROR(VLOOKUP(DA20,MATCHSELEVES!$Y$14:$AE$600,3,FALSE),0)","v":0},{"$f":"IFERROR(VLOOKUP(DA20,MATCHSELEVES!$Y$14:$AE$600,4,FALSE),0)","v":0},{"$f":"IFERROR(VLOOKUP(DA20,MATCHSELEVES!$Y$14:$AE$600,5,FALSE),0)","v":0},{"$f":"IFERROR(VLOOKUP(DA20,MATCHSELEVES!$Y$14:$AF$600,8,FALSE),0)","v":0},{"$f":"IFERROR(VLOOKUP(DA20,MATCHSELEVES!$Y$14:$AG$600,9,FALSE),0)","v":0},"Jassim_16",{"$f":"IFERROR(VLOOKUP(DG20,MATCHSELEVES!$Y$14:$AE$600,3,FALSE),0)","v":0},{"$f":"IFERROR(VLOOKUP(DG20,MATCHSELEVES!$Y$14:$AE$600,4,FALSE),0)","v":0},{"$f":"IFERROR(VLOOKUP(DG20,MATCHSELEVES!$Y$14:$AE$600,5,FALSE),0)","v":0},{"$f":"IFERROR(VLOOKUP(DG20,MATCHSELEVES!$Y$14:$AF$600,8,FALSE),0)","v":0},{"$f":"IFERROR(VLOOKUP(DG20,MATCHSELEVES!$Y$14:$AG$600,9,FALSE),0)","v":0},"Jassim_17",{"$f":"IFERROR(VLOOKUP(DM20,MATCHSELEVES!$Y$14:$AE$600,3,FALSE),0)","v":0},{"$f":"IFERROR(VLOOKUP(DM20,MATCHSELEVES!$Y$14:$AE$600,4,FALSE),0)","v":0},{"$f":"IFERROR(VLOOKUP(DM20,MATCHSELEVES!$Y$14:$AE$600,5,FALSE),0)","v":0},{"$f":"IFERROR(VLOOKUP(DM20,MATCHSELEVES!$Y$14:$AF$600,8,FALSE),0)","v":0},{"$f":"IFERROR(VLOOKUP(DM20,MATCHSELEVES!$Y$14:$AG$600,9,FALSE),0)","v":0},"Jassim_18",{"$f":"IFERROR(VLOOKUP(DS20,MATCHSELEVES!$Y$14:$AE$600,3,FALSE),0)","v":0},{"$f":"IFERROR(VLOOKUP(DS20,MATCHSELEVES!$Y$14:$AE$600,4,FALSE),0)","v":0},{"$f":"IFERROR(VLOOKUP(DS20,MATCHSELEVES!$Y$14:$AE$600,5,FALSE),0)","v":0},{"$f":"IFERROR(VLOOKUP(DS20,MATCHSELEVES!$Y$14:$AF$600,8,FALSE),0)","v":0},{"$f":"IFERROR(VLOOKUP(DS20,MATCHSELEVES!$Y$14:$AG$600,9,FALSE),0)","v":0},"Jassim_19",{"$f":"IFERROR(VLOOKUP(DY20,MATCHSELEVES!$Y$14:$AE$600,3,FALSE),0)","v":0},{"$f":"IFERROR(VLOOKUP(DY20,MATCHSELEVES!$Y$14:$AE$600,4,FALSE),0)","v":0},{"$f":"IFERROR(VLOOKUP(DY20,MATCHSELEVES!$Y$14:$AE$600,5,FALSE),0)","v":0},{"$f":"IFERROR(VLOOKUP(DY20,MATCHSELEVES!$Y$14:$AF$600,8,FALSE),0)","v":0},{"$f":"IFERROR(VLOOKUP(DY20,MATCHSELEVES!$Y$14:$AG$600,9,FALSE),0)","v":0},"Jassim_20",{"$f":"IFERROR(VLOOKUP(EE20,MATCHSELEVES!$Y$14:$AE$600,3,FALSE),0)","v":0},{"$f":"IFERROR(VLOOKUP(EE20,MATCHSELEVES!$Y$14:$AE$600,4,FALSE),0)","v":0},{"$f":"IFERROR(VLOOKUP(EE20,MATCHSELEVES!$Y$14:$AE$600,5,FALSE),0)","v":0},{"$f":"IFERROR(VLOOKUP(EE20,MATCHSELEVES!$Y$14:$AF$600,8,FALSE),0)","v":0},{"$f":"IFERROR(VLOOKUP(EE20,MATCHSELEVES!$Y$14:$AG$600,9,FALSE),0)","v":0},"Jassim_21",{"$f":"IFERROR(VLOOKUP(EK20,MATCHSELEVES!$Y$14:$AE$600,3,FALSE),0)","v":0},{"$f":"IFERROR(VLOOKUP(EK20,MATCHSELEVES!$Y$14:$AE$600,4,FALSE),0)","v":0},{"$f":"IFERROR(VLOOKUP(EK20,MATCHSELEVES!$Y$14:$AE$600,5,FALSE),0)","v":0},{"$f":"IFERROR(VLOOKUP(EK20,MATCHSELEVES!$Y$14:$AF$600,8,FALSE),0)","v":0},{"$f":"IFERROR(VLOOKUP(EK20,MATCHSELEVES!$Y$14:$AG$600,9,FALSE),0)","v":0},"Jassim_22",{"$f":"IFERROR(VLOOKUP(EQ20,MATCHSELEVES!$Y$14:$AE$600,3,FALSE),0)","v":0},{"$f":"IFERROR(VLOOKUP(EQ20,MATCHSELEVES!$Y$14:$AE$600,4,FALSE),0)","v":0},{"$f":"IFERROR(VLOOKUP(EQ20,MATCHSELEVES!$Y$14:$AE$600,5,FALSE),0)","v":0},{"$f":"IFERROR(VLOOKUP(EQ20,MATCHSELEVES!$Y$14:$AF$600,8,FALSE),0)","v":0},{"$f":"IFERROR(VLOOKUP(EQ20,MATCHSELEVES!$Y$14:$AG$600,9,FALSE),0)","v":0},"Jassim_23",{"$f":"IFERROR(VLOOKUP(EW20,MATCHSELEVES!$Y$14:$AE$600,3,FALSE),0)","v":0},{"$f":"IFERROR(VLOOKUP(EW20,MATCHSELEVES!$Y$14:$AE$600,4,FALSE),0)","v":0},{"$f":"IFERROR(VLOOKUP(EW20,MATCHSELEVES!$Y$14:$AE$600,5,FALSE),0)","v":0},{"$f":"IFERROR(VLOOKUP(EW20,MATCHSELEVES!$Y$14:$AF$600,8,FALSE),0)","v":0},{"$f":"IFERROR(VLOOKUP(EW20,MATCHSELEVES!$Y$14:$AG$600,9,FALSE),0)","v":0},"Jassim_24",{"$f":"IFERROR(VLOOKUP(FC20,MATCHSELEVES!$Y$14:$AE$600,3,FALSE),0)","v":0},{"$f":"IFERROR(VLOOKUP(FC20,MATCHSELEVES!$Y$14:$AE$600,4,FALSE),0)","v":0},{"$f":"IFERROR(VLOOKUP(FC20,MATCHSELEVES!$Y$14:$AE$600,5,FALSE),0)","v":0},{"$f":"IFERROR(VLOOKUP(FC20,MATCHSELEVES!$Y$14:$AF$600,8,FALSE),0)","v":0},{"$f":"IFERROR(VLOOKUP(FC20,MATCHSELEVES!$Y$14:$AG$600,9,FALSE),0)","v":0},"Jassim_25",{"$f":"IFERROR(VLOOKUP(FI20,MATCHSELEVES!$Y$14:$AE$600,3,FALSE),0)","v":0},{"$f":"IFERROR(VLOOKUP(FI20,MATCHSELEVES!$Y$14:$AE$600,4,FALSE),0)","v":0},{"$f":"IFERROR(VLOOKUP(FI20,MATCHSELEVES!$Y$14:$AE$600,5,FALSE),0)","v":0},{"$f":"IFERROR(VLOOKUP(FI20,MATCHSELEVES!$Y$14:$AF$600,8,FALSE),0)","v":0},{"$f":"IFERROR(VLOOKUP(FI20,MATCHSELEVES!$Y$14:$AG$600,9,FALSE),0)","v":0},"Jassim_26",{"$f":"IFERROR(VLOOKUP(FO20,MATCHSELEVES!$Y$14:$AE$600,3,FALSE),0)","v":0},{"$f":"IFERROR(VLOOKUP(FO20,MATCHSELEVES!$Y$14:$AE$600,4,FALSE),0)","v":0},{"$f":"IFERROR(VLOOKUP(FO20,MATCHSELEVES!$Y$14:$AE$600,5,FALSE),0)","v":0},{"$f":"IFERROR(VLOOKUP(FO20,MATCHSELEVES!$Y$14:$AF$600,8,FALSE),0)","v":0},{"$f":"IFERROR(VLOOKUP(FO20,MATCHSELEVES!$Y$14:$AG$600,9,FALSE),0)","v":0},"Jassim_27",{"$f":"IFERROR(VLOOKUP(FU20,MATCHSELEVES!$Y$14:$AE$600,3,FALSE),0)","v":0},{"$f":"IFERROR(VLOOKUP(FU20,MATCHSELEVES!$Y$14:$AE$600,4,FALSE),0)","v":0},{"$f":"IFERROR(VLOOKUP(FU20,MATCHSELEVES!$Y$14:$AE$600,5,FALSE),0)","v":0},{"$f":"IFERROR(VLOOKUP(FU20,MATCHSELEVES!$Y$14:$AF$600,8,FALSE),0)","v":0},{"$f":"IFERROR(VLOOKUP(FU20,MATCHSELEVES!$Y$14:$AG$600,9,FALSE),0)","v":0},"Jassim_28",{"$f":"IFERROR(VLOOKUP(GA20,MATCHSELEVES!$Y$14:$AE$600,3,FALSE),0)","v":0},{"$f":"IFERROR(VLOOKUP(GA20,MATCHSELEVES!$Y$14:$AE$600,4,FALSE),0)","v":0},{"$f":"IFERROR(VLOOKUP(GA20,MATCHSELEVES!$Y$14:$AE$600,5,FALSE),0)","v":0},{"$f":"IFERROR(VLOOKUP(GA20,MATCHSELEVES!$Y$14:$AF$600,8,FALSE),0)","v":0},{"$f":"IFERROR(VLOOKUP(GA20,MATCHSELEVES!$Y$14:$AG$600,9,FALSE),0)","v":0},"Jassim_29",{"$f":"IFERROR(VLOOKUP(GG20,MATCHSELEVES!$Y$14:$AE$600,3,FALSE),0)","v":0},{"$f":"IFERROR(VLOOKUP(GG20,MATCHSELEVES!$Y$14:$AE$600,4,FALSE),0)","v":0},{"$f":"IFERROR(VLOOKUP(GG20,MATCHSELEVES!$Y$14:$AE$600,5,FALSE),0)","v":0},{"$f":"IFERROR(VLOOKUP(GG20,MATCHSELEVES!$Y$14:$AF$600,8,FALSE),0)","v":0},{"$f":"IFERROR(VLOOKUP(GG20,MATCHSELEVES!$Y$14:$AG$600,9,FALSE),0)","v":0},"Jassim_30",{"$f":"IFERROR(VLOOKUP(GM20,MATCHSELEVES!$Y$14:$AE$600,3,FALSE),0)","v":0},{"$f":"IFERROR(VLOOKUP(GM20,MATCHSELEVES!$Y$14:$AE$600,4,FALSE),0)","v":0},{"$f":"IFERROR(VLOOKUP(GM20,MATCHSELEVES!$Y$14:$AE$600,5,FALSE),0)","v":0},{"$f":"IFERROR(VLOOKUP(GM20,MATCHSELEVES!$Y$14:$AF$600,8,FALSE),0)","v":0},{"$f":"IFERROR(VLOOKUP(GM20,MATCHSELEVES!$Y$14:$AG$600,9,FALSE),0)","v":0},"Jassim_31",{"$f":"IFERROR(VLOOKUP(GS20,MATCHSELEVES!$Y$14:$AE$600,3,FALSE),0)","v":0},{"$f":"IFERROR(VLOOKUP(GS20,MATCHSELEVES!$Y$14:$AE$600,4,FALSE),0)","v":0},{"$f":"IFERROR(VLOOKUP(GS20,MATCHSELEVES!$Y$14:$AE$600,5,FALSE),0)","v":0},{"$f":"IFERROR(VLOOKUP(GS20,MATCHSELEVES!$Y$14:$AF$600,8,FALSE),0)","v":0},{"$f":"IFERROR(VLOOKUP(GS20,MATCHSELEVES!$Y$14:$AG$600,9,FALSE),0)","v":0},"Jassim_32",{"$f":"IFERROR(VLOOKUP(GY20,MATCHSELEVES!$Y$14:$AE$600,3,FALSE),0)","v":0},{"$f":"IFERROR(VLOOKUP(GY20,MATCHSELEVES!$Y$14:$AE$600,4,FALSE),0)","v":0},{"$f":"IFERROR(VLOOKUP(GY20,MATCHSELEVES!$Y$14:$AE$600,5,FALSE),0)","v":0},{"$f":"IFERROR(VLOOKUP(GY20,MATCHSELEVES!$Y$14:$AF$600,8,FALSE),0)","v":0},{"$f":"IFERROR(VLOOKUP(GY20,MATCHSELEVES!$Y$14:$AG$600,9,FALSE),0)","v":0},"Jassim_33",{"$f":"IFERROR(VLOOKUP(HE20,MATCHSELEVES!$Y$14:$AE$600,3,FALSE),0)","v":0},{"$f":"IFERROR(VLOOKUP(HE20,MATCHSELEVES!$Y$14:$AE$600,4,FALSE),0)","v":0},{"$f":"IFERROR(VLOOKUP(HE20,MATCHSELEVES!$Y$14:$AE$600,5,FALSE),0)","v":0},{"$f":"IFERROR(VLOOKUP(HE20,MATCHSELEVES!$Y$14:$AF$600,8,FALSE),0)","v":0},{"$f":"IFERROR(VLOOKUP(HE20,MATCHSELEVES!$Y$14:$AG$600,9,FALSE),0)","v":0},"Jassim_34",{"$f":"IFERROR(VLOOKUP(HK20,MATCHSELEVES!$Y$14:$AE$600,3,FALSE),0)","v":0},{"$f":"IFERROR(VLOOKUP(HK20,MATCHSELEVES!$Y$14:$AE$600,4,FALSE),0)","v":0},{"$f":"IFERROR(VLOOKUP(HK20,MATCHSELEVES!$Y$14:$AE$600,5,FALSE),0)","v":0},{"$f":"IFERROR(VLOOKUP(HK20,MATCHSELEVES!$Y$14:$AF$600,8,FALSE),0)","v":0},{"$f":"IFERROR(VLOOKUP(HK20,MATCHSELEVES!$Y$14:$AG$600,9,FALSE),0)","v":0},"Jassim_35",{"$f":"IFERROR(VLOOKUP(HQ20,MATCHSELEVES!$Y$14:$AE$600,3,FALSE),0)","v":0},{"$f":"IFERROR(VLOOKUP(HQ20,MATCHSELEVES!$Y$14:$AE$600,4,FALSE),0)","v":0},{"$f":"IFERROR(VLOOKUP(HQ20,MATCHSELEVES!$Y$14:$AE$600,5,FALSE),0)","v":0},{"$f":"IFERROR(VLOOKUP(HQ20,MATCHSELEVES!$Y$14:$AF$600,8,FALSE),0)","v":0},{"$f":"IFERROR(VLOOKUP(HQ20,MATCHSELEVES!$Y$14:$AG$600,9,FALSE),0)","v":0},"Jassim_36",{"$f":"IFERROR(VLOOKUP(HW20,MATCHSELEVES!$Y$14:$AE$600,3,FALSE),0)","v":0},{"$f":"IFERROR(VLOOKUP(HW20,MATCHSELEVES!$Y$14:$AE$600,4,FALSE),0)","v":0},{"$f":"IFERROR(VLOOKUP(HW20,MATCHSELEVES!$Y$14:$AE$600,5,FALSE),0)","v":0},{"$f":"IFERROR(VLOOKUP(HW20,MATCHSELEVES!$Y$14:$AF$600,8,FALSE),0)","v":0},{"$f":"IFERROR(VLOOKUP(HW20,MATCHSELEVES!$Y$14:$AG$600,9,FALSE),0)","v":0},"Jassim_37",{"$f":"IFERROR(VLOOKUP(IC20,MATCHSELEVES!$Y$14:$AE$600,3,FALSE),0)","v":0},{"$f":"IFERROR(VLOOKUP(IC20,MATCHSELEVES!$Y$14:$AE$600,4,FALSE),0)","v":0},{"$f":"IFERROR(VLOOKUP(IC20,MATCHSELEVES!$Y$14:$AE$600,5,FALSE),0)","v":0},{"$f":"IFERROR(VLOOKUP(IC20,MATCHSELEVES!$Y$14:$AF$600,8,FALSE),0)","v":0},{"$f":"IFERROR(VLOOKUP(IC20,MATCHSELEVES!$Y$14:$AG$600,9,FALSE),0)","v":0},"Jassim_38",{"$f":"IFERROR(VLOOKUP(II20,MATCHSELEVES!$Y$14:$AE$600,3,FALSE),0)","v":0},{"$f":"IFERROR(VLOOKUP(II20,MATCHSELEVES!$Y$14:$AE$600,4,FALSE),0)","v":0},{"$f":"IFERROR(VLOOKUP(II20,MATCHSELEVES!$Y$14:$AE$600,5,FALSE),0)","v":0},{"$f":"IFERROR(VLOOKUP(II20,MATCHSELEVES!$Y$14:$AF$600,8,FALSE),0)","v":0},{"$f":"IFERROR(VLOOKUP(II20,MATCHSELEVES!$Y$14:$AG$600,9,FALSE),0)","v":0},"Jassim_39",{"$f":"IFERROR(VLOOKUP(IO20,MATCHSELEVES!$Y$14:$AE$600,3,FALSE),0)","v":0},{"$f":"IFERROR(VLOOKUP(IO20,MATCHSELEVES!$Y$14:$AE$600,4,FALSE),0)","v":0},{"$f":"IFERROR(VLOOKUP(IO20,MATCHSELEVES!$Y$14:$AE$600,5,FALSE),0)","v":0},{"$f":"IFERROR(VLOOKUP(IO20,MATCHSELEVES!$Y$14:$AF$600,8,FALSE),0)","v":0},{"$f":"IFERROR(VLOOKUP(IO20,MATCHSELEVES!$Y$14:$AG$600,9,FALSE),0)","v":0},"Jassim_40",{"$f":"IFERROR(VLOOKUP(IU20,MATCHSELEVES!$Y$14:$AE$600,3,FALSE),0)","v":0},{"$f":"IFERROR(VLOOKUP(IU20,MATCHSELEVES!$Y$14:$AE$600,4,FALSE),0)","v":0},{"$f":"IFERROR(VLOOKUP(IU20,MATCHSELEVES!$Y$14:$AE$600,5,FALSE),0)","v":0},{"$f":"IFERROR(VLOOKUP(IU20,MATCHSELEVES!$Y$14:$AF$600,8,FALSE),0)","v":0},{"$f":"IFERROR(VLOOKUP(IU20,MATCHSELEVES!$Y$14:$AG$600,9,FALSE),0)","v":0},{"$f":"Tableau10[[#This Row],[CLASSE]]","v":"Jassim"},1,{"$f":"MD1POINT!D20","v":1},"Jassimp_1",{"$f":"IFERROR(VLOOKUP(JD20,MATCHSELEVES!$Y$14:$AE$600,3,FALSE),0)","v":0},{"$f":"IFERROR(VLOOKUP(JD20,MATCHSELEVES!$Y$14:$AE$600,4,FALSE),0)","v":0},{"$f":"IFERROR(VLOOKUP(JD20,MATCHSELEVES!$Y$14:$AE$600,5,FALSE),0)","v":0},{"$f":"IFERROR(VLOOKUP(JD20,MATCHSELEVES!$Y$14:$AF$600,8,FALSE),0)","v":0},{"$f":"IFERROR(VLOOKUP(JD20,MATCHSELEVES!$Y$14:$AG$600,9,FALSE),0)","v":0},"Jassimp_2",{"$f":"IFERROR(VLOOKUP(JJ20,MATCHSELEVES!$Y$14:$AE$600,3,FALSE),0)","v":0},{"$f":"IFERROR(VLOOKUP(JJ20,MATCHSELEVES!$Y$14:$AE$600,4,FALSE),0)","v":0},{"$f":"IFERROR(VLOOKUP(JJ20,MATCHSELEVES!$Y$14:$AE$600,5,FALSE),0)","v":0},{"$f":"IFERROR(VLOOKUP(JJ20,MATCHSELEVES!$Y$14:$AF$600,8,FALSE),0)","v":0},{"$f":"IFERROR(VLOOKUP(JJ20,MATCHSELEVES!$Y$14:$AG$600,9,FALSE),0)","v":0},"Jassimp_3",{"$f":"IFERROR(VLOOKUP(JP20,MATCHSELEVES!$Y$14:$AE$600,3,FALSE),0)","v":0},{"$f":"IFERROR(VLOOKUP(JP20,MATCHSELEVES!$Y$14:$AE$600,4,FALSE),0)","v":0},{"$f":"IFERROR(VLOOKUP(JP20,MATCHSELEVES!$Y$14:$AE$600,5,FALSE),0)","v":0},{"$f":"IFERROR(VLOOKUP(JP20,MATCHSELEVES!$Y$14:$AF$600,8,FALSE),0)","v":0},{"$f":"IFERROR(VLOOKUP(JP20,MATCHSELEVES!$Y$14:$AG$600,9,FALSE),0)","v":0},"Jassimp_4",{"$f":"IFERROR(VLOOKUP(JV20,MATCHSELEVES!$Y$14:$AE$600,3,FALSE),0)","v":0},{"$f":"IFERROR(VLOOKUP(JV20,MATCHSELEVES!$Y$14:$AE$600,4,FALSE),0)","v":0},{"$f":"IFERROR(VLOOKUP(JV20,MATCHSELEVES!$Y$14:$AE$600,5,FALSE),0)","v":0},{"$f":"IFERROR(VLOOKUP(JV20,MATCHSELEVES!$Y$14:$AF$600,8,FALSE),0)","v":0},{"$f":"IFERROR(VLOOKUP(JV20,MATCHSELEVES!$Y$14:$AG$600,9,FALSE),0)","v":0},"Jassimp_5",{"$f":"IFERROR(VLOOKUP(KB20,MATCHSELEVES!$Y$14:$AE$600,3,FALSE),0)","v":0},{"$f":"IFERROR(VLOOKUP(KB20,MATCHSELEVES!$Y$14:$AE$600,4,FALSE),0)","v":0},{"$f":"IFERROR(VLOOKUP(KB20,MATCHSELEVES!$Y$14:$AE$600,5,FALSE),0)","v":0},{"$f":"IFERROR(VLOOKUP(KB20,MATCHSELEVES!$Y$14:$AF$600,8,FALSE),0)","v":0},{"$f":"IFERROR(VLOOKUP(KB20,MATCHSELEVES!$Y$14:$AG$600,9,FALSE),0)","v":0},"Jassimp_6",{"$f":"IFERROR(VLOOKUP(KH20,MATCHSELEVES!$Y$14:$AE$600,3,FALSE),0)","v":0},{"$f":"IFERROR(VLOOKUP(KH20,MATCHSELEVES!$Y$14:$AE$600,4,FALSE),0)","v":0},{"$f":"IFERROR(VLOOKUP(KH20,MATCHSELEVES!$Y$14:$AE$600,5,FALSE),0)","v":0},{"$f":"IFERROR(VLOOKUP(KH20,MATCHSELEVES!$Y$14:$AF$600,8,FALSE),0)","v":0},{"$f":"IFERROR(VLOOKUP(KH20,MATCHSELEVES!$Y$14:$AG$600,9,FALSE),0)","v":0},"Jassimp_7",{"$f":"IFERROR(VLOOKUP(KN20,MATCHSELEVES!$Y$14:$AE$600,3,FALSE),0)","v":0},{"$f":"IFERROR(VLOOKUP(KN20,MATCHSELEVES!$Y$14:$AE$600,4,FALSE),0)","v":0},{"$f":"IFERROR(VLOOKUP(KN20,MATCHSELEVES!$Y$14:$AE$600,5,FALSE),0)","v":0},{"$f":"IFERROR(VLOOKUP(KN20,MATCHSELEVES!$Y$14:$AF$600,8,FALSE),0)","v":0},{"$f":"IFERROR(VLOOKUP(KN20,MATCHSELEVES!$Y$14:$AG$600,9,FALSE),0)","v":0},"Jassimp_8",{"$f":"IFERROR(VLOOKUP(KT20,MATCHSELEVES!$Y$14:$AE$600,3,FALSE),0)","v":0},{"$f":"IFERROR(VLOOKUP(KT20,MATCHSELEVES!$Y$14:$AE$600,4,FALSE),0)","v":0},{"$f":"IFERROR(VLOOKUP(KT20,MATCHSELEVES!$Y$14:$AE$600,5,FALSE),0)","v":0},{"$f":"IFERROR(VLOOKUP(KT20,MATCHSELEVES!$Y$14:$AF$600,8,FALSE),0)","v":0},{"$f":"IFERROR(VLOOKUP(KT20,MATCHSELEVES!$Y$14:$AG$600,9,FALSE),0)","v":0},"Jassimp_9",{"$f":"IFERROR(VLOOKUP(KZ20,MATCHSELEVES!$Y$14:$AE$600,3,FALSE),0)","v":0},{"$f":"IFERROR(VLOOKUP(KZ20,MATCHSELEVES!$Y$14:$AE$600,4,FALSE),0)","v":0},{"$f":"IFERROR(VLOOKUP(KZ20,MATCHSELEVES!$Y$14:$AE$600,5,FALSE),0)","v":0},{"$f":"IFERROR(VLOOKUP(KZ20,MATCHSELEVES!$Y$14:$AF$600,8,FALSE),0)","v":0},{"$f":"IFERROR(VLOOKUP(KZ20,MATCHSELEVES!$Y$14:$AG$600,9,FALSE),0)","v":0},"Jassimp_10",{"$f":"IFERROR(VLOOKUP(LF20,MATCHSELEVES!$Y$14:$AE$600,3,FALSE),0)","v":0},{"$f":"IFERROR(VLOOKUP(LF20,MATCHSELEVES!$Y$14:$AE$600,4,FALSE),0)","v":0},{"$f":"IFERROR(VLOOKUP(LF20,MATCHSELEVES!$Y$14:$AE$600,5,FALSE),0)","v":0},{"$f":"IFERROR(VLOOKUP(LF20,MATCHSELEVES!$Y$14:$AF$600,8,FALSE),0)","v":0},{"$f":"IFERROR(VLOOKUP(LF20,MATCHSELEVES!$Y$14:$AG$600,9,FALSE),0)","v":0},"Jassimp_11",{"$f":"IFERROR(VLOOKUP(LL20,MATCHSELEVES!$Y$14:$AE$600,3,FALSE),0)","v":0},{"$f":"IFERROR(VLOOKUP(LL20,MATCHSELEVES!$Y$14:$AE$600,4,FALSE),0)","v":0},{"$f":"IFERROR(VLOOKUP(LL20,MATCHSELEVES!$Y$14:$AE$600,5,FALSE),0)","v":0},{"$f":"IFERROR(VLOOKUP(LL20,MATCHSELEVES!$Y$14:$AF$600,8,FALSE),0)","v":0},{"$f":"IFERROR(VLOOKUP(LL20,MATCHSELEVES!$Y$14:$AG$600,9,FALSE),0)","v":0},"Jassimp_12",{"$f":"IFERROR(VLOOKUP(LR20,MATCHSELEVES!$Y$14:$AE$600,3,FALSE),0)","v":0},{"$f":"IFERROR(VLOOKUP(LR20,MATCHSELEVES!$Y$14:$AE$600,4,FALSE),0)","v":0},{"$f":"IFERROR(VLOOKUP(LR20,MATCHSELEVES!$Y$14:$AE$600,5,FALSE),0)","v":0},{"$f":"IFERROR(VLOOKUP(LR20,MATCHSELEVES!$Y$14:$AF$600,8,FALSE),0)","v":0},{"$f":"IFERROR(VLOOKUP(LR20,MATCHSELEVES!$Y$14:$AG$600,9,FALSE),0)","v":0},"Jassimp_13",{"$f":"IFERROR(VLOOKUP(LX20,MATCHSELEVES!$Y$14:$AE$600,3,FALSE),0)","v":0},{"$f":"IFERROR(VLOOKUP(LX20,MATCHSELEVES!$Y$14:$AE$600,4,FALSE),0)","v":0},{"$f":"IFERROR(VLOOKUP(LX20,MATCHSELEVES!$Y$14:$AE$600,5,FALSE),0)","v":0},{"$f":"IFERROR(VLOOKUP(LX20,MATCHSELEVES!$Y$14:$AF$600,8,FALSE),0)","v":0},{"$f":"IFERROR(VLOOKUP(LX20,MATCHSELEVES!$Y$14:$AG$600,9,FALSE),0)","v":0},"Jassimp_14",{"$f":"IFERROR(VLOOKUP(MD20,MATCHSELEVES!$Y$14:$AE$600,3,FALSE),0)","v":0},{"$f":"IFERROR(VLOOKUP(MD20,MATCHSELEVES!$Y$14:$AE$600,4,FALSE),0)","v":0},{"$f":"IFERROR(VLOOKUP(MD20,MATCHSELEVES!$Y$14:$AE$600,5,FALSE),0)","v":0},{"$f":"IFERROR(VLOOKUP(MD20,MATCHSELEVES!$Y$14:$AF$600,8,FALSE),0)","v":0},{"$f":"IFERROR(VLOOKUP(MD20,MATCHSELEVES!$Y$14:$AG$600,9,FALSE),0)","v":0},"Jassimp_15",{"$f":"IFERROR(VLOOKUP(MJ20,MATCHSELEVES!$Y$14:$AE$600,3,FALSE),0)","v":0},{"$f":"IFERROR(VLOOKUP(MJ20,MATCHSELEVES!$Y$14:$AE$600,4,FALSE),0)","v":0},{"$f":"IFERROR(VLOOKUP(MJ20,MATCHSELEVES!$Y$14:$AE$600,5,FALSE),0)","v":0},{"$f":"IFERROR(VLOOKUP(MJ20,MATCHSELEVES!$Y$14:$AF$600,8,FALSE),0)","v":0},{"$f":"IFERROR(VLOOKUP(MJ20,MATCHSELEVES!$Y$14:$AG$600,9,FALSE),0)","v":0},"Jassimp_16",{"$f":"IFERROR(VLOOKUP(MP20,MATCHSELEVES!$Y$14:$AE$600,3,FALSE),0)","v":0},{"$f":"IFERROR(VLOOKUP(MP20,MATCHSELEVES!$Y$14:$AE$600,4,FALSE),0)","v":0},{"$f":"IFERROR(VLOOKUP(MP20,MATCHSELEVES!$Y$14:$AE$600,5,FALSE),0)","v":0},{"$f":"IFERROR(VLOOKUP(MP20,MATCHSELEVES!$Y$14:$AF$600,8,FALSE),0)","v":0},{"$f":"IFERROR(VLOOKUP(MP20,MATCHSELEVES!$Y$14:$AG$600,9,FALSE),0)","v":0},"Jassimp_17",{"$f":"IFERROR(VLOOKUP(MV20,MATCHSELEVES!$Y$14:$AE$600,3,FALSE),0)","v":0},{"$f":"IFERROR(VLOOKUP(MV20,MATCHSELEVES!$Y$14:$AE$600,4,FALSE),0)","v":0},{"$f":"IFERROR(VLOOKUP(MV20,MATCHSELEVES!$Y$14:$AE$600,5,FALSE),0)","v":0},{"$f":"IFERROR(VLOOKUP(MV20,MATCHSELEVES!$Y$14:$AF$600,8,FALSE),0)","v":0},{"$f":"IFERROR(VLOOKUP(MV20,MATCHSELEVES!$Y$14:$AG$600,9,FALSE),0)","v":0},"Jassimp_18",{"$f":"IFERROR(VLOOKUP(NB20,MATCHSELEVES!$Y$14:$AE$600,3,FALSE),0)","v":0},{"$f":"IFERROR(VLOOKUP(NB20,MATCHSELEVES!$Y$14:$AE$600,4,FALSE),0)","v":0},{"$f":"IFERROR(VLOOKUP(NB20,MATCHSELEVES!$Y$14:$AE$600,5,FALSE),0)","v":0},{"$f":"IFERROR(VLOOKUP(NB20,MATCHSELEVES!$Y$14:$AF$600,8,FALSE),0)","v":0},{"$f":"IFERROR(VLOOKUP(NB20,MATCHSELEVES!$Y$14:$AG$600,9,FALSE),0)","v":0},"Jassimp_19",{"$f":"IFERROR(VLOOKUP(NH20,MATCHSELEVES!$Y$14:$AE$600,3,FALSE),0)","v":0},{"$f":"IFERROR(VLOOKUP(NH20,MATCHSELEVES!$Y$14:$AE$600,4,FALSE),0)","v":0},{"$f":"IFERROR(VLOOKUP(NH20,MATCHSELEVES!$Y$14:$AE$600,5,FALSE),0)","v":0},{"$f":"IFERROR(VLOOKUP(NH20,MATCHSELEVES!$Y$14:$AF$600,8,FALSE),0)","v":0},{"$f":"IFERROR(VLOOKUP(NH20,MATCHSELEVES!$Y$14:$AG$600,9,FALSE),0)","v":0},"Jassimp_20",{"$f":"IFERROR(VLOOKUP(NN20,MATCHSELEVES!$Y$14:$AE$600,3,FALSE),0)","v":0},{"$f":"IFERROR(VLOOKUP(NN20,MATCHSELEVES!$Y$14:$AE$600,4,FALSE),0)","v":0},{"$f":"IFERROR(VLOOKUP(NN20,MATCHSELEVES!$Y$14:$AE$600,5,FALSE),0)","v":0},{"$f":"IFERROR(VLOOKUP(NN20,MATCHSELEVES!$Y$14:$AF$600,8,FALSE),0)","v":0},{"$f":"IFERROR(VLOOKUP(NN20,MATCHSELEVES!$Y$14:$AG$600,9,FALSE),0)","v":0},"Jassimp_21",{"$f":"IFERROR(VLOOKUP(NT20,MATCHSELEVES!$Y$14:$AE$600,3,FALSE),0)","v":0},{"$f":"IFERROR(VLOOKUP(NT20,MATCHSELEVES!$Y$14:$AE$600,4,FALSE),0)","v":0},{"$f":"IFERROR(VLOOKUP(NT20,MATCHSELEVES!$Y$14:$AE$600,5,FALSE),0)","v":0},{"$f":"IFERROR(VLOOKUP(NT20,MATCHSELEVES!$Y$14:$AF$600,8,FALSE),0)","v":0},{"$f":"IFERROR(VLOOKUP(NT20,MATCHSELEVES!$Y$14:$AG$600,9,FALSE),0)","v":0},"Jassimp_22",{"$f":"IFERROR(VLOOKUP(NZ20,MATCHSELEVES!$Y$14:$AE$600,3,FALSE),0)","v":0},{"$f":"IFERROR(VLOOKUP(NZ20,MATCHSELEVES!$Y$14:$AE$600,4,FALSE),0)","v":0},{"$f":"IFERROR(VLOOKUP(NZ20,MATCHSELEVES!$Y$14:$AE$600,5,FALSE),0)","v":0},{"$f":"IFERROR(VLOOKUP(NZ20,MATCHSELEVES!$Y$14:$AF$600,8,FALSE),0)","v":0},{"$f":"IFERROR(VLOOKUP(NZ20,MATCHSELEVES!$Y$14:$AG$600,9,FALSE),0)","v":0},"Jassimp_23",{"$f":"IFERROR(VLOOKUP(OF20,MATCHSELEVES!$Y$14:$AE$600,3,FALSE),0)","v":0},{"$f":"IFERROR(VLOOKUP(OF20,MATCHSELEVES!$Y$14:$AE$600,4,FALSE),0)","v":0},{"$f":"IFERROR(VLOOKUP(OF20,MATCHSELEVES!$Y$14:$AE$600,5,FALSE),0)","v":0},{"$f":"IFERROR(VLOOKUP(OF20,MATCHSELEVES!$Y$14:$AF$600,8,FALSE),0)","v":0},{"$f":"IFERROR(VLOOKUP(OF20,MATCHSELEVES!$Y$14:$AG$600,9,FALSE),0)","v":0},"Jassimp_24",{"$f":"IFERROR(VLOOKUP(OL20,MATCHSELEVES!$Y$14:$AE$600,3,FALSE),0)","v":0},{"$f":"IFERROR(VLOOKUP(OL20,MATCHSELEVES!$Y$14:$AE$600,4,FALSE),0)","v":0},{"$f":"IFERROR(VLOOKUP(OL20,MATCHSELEVES!$Y$14:$AE$600,5,FALSE),0)","v":0},{"$f":"IFERROR(VLOOKUP(OL20,MATCHSELEVES!$Y$14:$AF$600,8,FALSE),0)","v":0},{"$f":"IFERROR(VLOOKUP(OL20,MATCHSELEVES!$Y$14:$AG$600,9,FALSE),0)","v":0},"Jassimp_25",{"$f":"IFERROR(VLOOKUP(OR20,MATCHSELEVES!$Y$14:$AE$600,3,FALSE),0)","v":0},{"$f":"IFERROR(VLOOKUP(OR20,MATCHSELEVES!$Y$14:$AE$600,4,FALSE),0)","v":0},{"$f":"IFERROR(VLOOKUP(OR20,MATCHSELEVES!$Y$14:$AE$600,5,FALSE),0)","v":0},{"$f":"IFERROR(VLOOKUP(OR20,MATCHSELEVES!$Y$14:$AF$600,8,FALSE),0)","v":0},{"$f":"IFERROR(VLOOKUP(OR20,MATCHSELEVES!$Y$14:$AG$600,9,FALSE),0)","v":0},"Jassimp_26",{"$f":"IFERROR(VLOOKUP(OX20,MATCHSELEVES!$Y$14:$AE$600,3,FALSE),0)","v":0},{"$f":"IFERROR(VLOOKUP(OX20,MATCHSELEVES!$Y$14:$AE$600,4,FALSE),0)","v":0},{"$f":"IFERROR(VLOOKUP(OX20,MATCHSELEVES!$Y$14:$AE$600,5,FALSE),0)","v":0},{"$f":"IFERROR(VLOOKUP(OX20,MATCHSELEVES!$Y$14:$AF$600,8,FALSE),0)","v":0},{"$f":"IFERROR(VLOOKUP(OX20,MATCHSELEVES!$Y$14:$AG$600,9,FALSE),0)","v":0},"Jassimp_27",{"$f":"IFERROR(VLOOKUP(PD20,MATCHSELEVES!$Y$14:$AE$600,3,FALSE),0)","v":0},{"$f":"IFERROR(VLOOKUP(PD20,MATCHSELEVES!$Y$14:$AE$600,4,FALSE),0)","v":0},{"$f":"IFERROR(VLOOKUP(PD20,MATCHSELEVES!$Y$14:$AE$600,5,FALSE),0)","v":0},{"$f":"IFERROR(VLOOKUP(PD20,MATCHSELEVES!$Y$14:$AF$600,8,FALSE),0)","v":0},{"$f":"IFERROR(VLOOKUP(PD20,MATCHSELEVES!$Y$14:$AG$600,9,FALSE),0)","v":0},"Jassimp_28",{"$f":"IFERROR(VLOOKUP(PJ20,MATCHSELEVES!$Y$14:$AE$600,3,FALSE),0)","v":0},{"$f":"IFERROR(VLOOKUP(PJ20,MATCHSELEVES!$Y$14:$AE$600,4,FALSE),0)","v":0},{"$f":"IFERROR(VLOOKUP(PJ20,MATCHSELEVES!$Y$14:$AE$600,5,FALSE),0)","v":0},{"$f":"IFERROR(VLOOKUP(PJ20,MATCHSELEVES!$Y$14:$AF$600,8,FALSE),0)","v":0},{"$f":"IFERROR(VLOOKUP(PJ20,MATCHSELEVES!$Y$14:$AG$600,9,FALSE),0)","v":0},"Jassimp_29",{"$f":"IFERROR(VLOOKUP(PP20,MATCHSELEVES!$Y$14:$AE$600,3,FALSE),0)","v":0},{"$f":"IFERROR(VLOOKUP(PP20,MATCHSELEVES!$Y$14:$AE$600,4,FALSE),0)","v":0},{"$f":"IFERROR(VLOOKUP(PP20,MATCHSELEVES!$Y$14:$AE$600,5,FALSE),0)","v":0},{"$f":"IFERROR(VLOOKUP(PP20,MATCHSELEVES!$Y$14:$AF$600,8,FALSE),0)","v":0},{"$f":"IFERROR(VLOOKUP(PP20,MATCHSELEVES!$Y$14:$AG$600,9,FALSE),0)","v":0},"Jassimp_30",{"$f":"IFERROR(VLOOKUP(PV20,MATCHSELEVES!$Y$14:$AE$600,3,FALSE),0)","v":0},{"$f":"IFERROR(VLOOKUP(PV20,MATCHSELEVES!$Y$14:$AE$600,4,FALSE),0)","v":0},{"$f":"IFERROR(VLOOKUP(PV20,MATCHSELEVES!$Y$14:$AE$600,5,FALSE),0)","v":0},{"$f":"IFERROR(VLOOKUP(PV20,MATCHSELEVES!$Y$14:$AF$600,8,FALSE),0)","v":0},{"$f":"IFERROR(VLOOKUP(PV20,MATCHSELEVES!$Y$14:$AG$600,9,FALSE),0)","v":0},"Jassimp_31",{"$f":"IFERROR(VLOOKUP(QB20,MATCHSELEVES!$Y$14:$AE$600,3,FALSE),0)","v":0},{"$f":"IFERROR(VLOOKUP(QB20,MATCHSELEVES!$Y$14:$AE$600,4,FALSE),0)","v":0},{"$f":"IFERROR(VLOOKUP(QB20,MATCHSELEVES!$Y$14:$AE$600,5,FALSE),0)","v":0},{"$f":"IFERROR(VLOOKUP(QB20,MATCHSELEVES!$Y$14:$AF$600,8,FALSE),0)","v":0},{"$f":"IFERROR(VLOOKUP(QB20,MATCHSELEVES!$Y$14:$AG$600,9,FALSE),0)","v":0},"Jassimp_32",{"$f":"IFERROR(VLOOKUP(QH20,MATCHSELEVES!$Y$14:$AE$600,3,FALSE),0)","v":0},{"$f":"IFERROR(VLOOKUP(QH20,MATCHSELEVES!$Y$14:$AE$600,4,FALSE),0)","v":0},{"$f":"IFERROR(VLOOKUP(QH20,MATCHSELEVES!$Y$14:$AE$600,5,FALSE),0)","v":0},{"$f":"IFERROR(VLOOKUP(QH20,MATCHSELEVES!$Y$14:$AF$600,8,FALSE),0)","v":0},{"$f":"IFERROR(VLOOKUP(QH20,MATCHSELEVES!$Y$14:$AG$600,9,FALSE),0)","v":0},"Jassimp_33",{"$f":"IFERROR(VLOOKUP(QN20,MATCHSELEVES!$Y$14:$AE$600,3,FALSE),0)","v":0},{"$f":"IFERROR(VLOOKUP(QN20,MATCHSELEVES!$Y$14:$AE$600,4,FALSE),0)","v":0},{"$f":"IFERROR(VLOOKUP(QN20,MATCHSELEVES!$Y$14:$AE$600,5,FALSE),0)","v":0},{"$f":"IFERROR(VLOOKUP(QN20,MATCHSELEVES!$Y$14:$AF$600,8,FALSE),0)","v":0},{"$f":"IFERROR(VLOOKUP(QN20,MATCHSELEVES!$Y$14:$AG$600,9,FALSE),0)","v":0},"Jassimp_34",{"$f":"IFERROR(VLOOKUP(QT20,MATCHSELEVES!$Y$14:$AE$600,3,FALSE),0)","v":0},{"$f":"IFERROR(VLOOKUP(QT20,MATCHSELEVES!$Y$14:$AE$600,4,FALSE),0)","v":0},{"$f":"IFERROR(VLOOKUP(QT20,MATCHSELEVES!$Y$14:$AE$600,5,FALSE),0)","v":0},{"$f":"IFERROR(VLOOKUP(QT20,MATCHSELEVES!$Y$14:$AF$600,8,FALSE),0)","v":0},{"$f":"IFERROR(VLOOKUP(QT20,MATCHSELEVES!$Y$14:$AG$600,9,FALSE),0)","v":0},"Jassimp_35",{"$f":"IFERROR(VLOOKUP(QZ20,MATCHSELEVES!$Y$14:$AE$600,3,FALSE),0)","v":0},{"$f":"IFERROR(VLOOKUP(QZ20,MATCHSELEVES!$Y$14:$AE$600,4,FALSE),0)","v":0},{"$f":"IFERROR(VLOOKUP(QZ20,MATCHSELEVES!$Y$14:$AE$600,5,FALSE),0)","v":0},{"$f":"IFERROR(VLOOKUP(QZ20,MATCHSELEVES!$Y$14:$AF$600,8,FALSE),0)","v":0},{"$f":"IFERROR(VLOOKUP(QZ20,MATCHSELEVES!$Y$14:$AG$600,9,FALSE),0)","v":0},"Jassimp_36",{"$f":"IFERROR(VLOOKUP(RF20,MATCHSELEVES!$Y$14:$AE$600,3,FALSE),0)","v":0},{"$f":"IFERROR(VLOOKUP(RF20,MATCHSELEVES!$Y$14:$AE$600,4,FALSE),0)","v":0},{"$f":"IFERROR(VLOOKUP(RF20,MATCHSELEVES!$Y$14:$AE$600,5,FALSE),0)","v":0},{"$f":"IFERROR(VLOOKUP(RF20,MATCHSELEVES!$Y$14:$AF$600,8,FALSE),0)","v":0},{"$f":"IFERROR(VLOOKUP(RF20,MATCHSELEVES!$Y$14:$AG$600,9,FALSE),0)","v":0},"Jassimp_37",{"$f":"IFERROR(VLOOKUP(RL20,MATCHSELEVES!$Y$14:$AE$600,3,FALSE),0)","v":0},{"$f":"IFERROR(VLOOKUP(RL20,MATCHSELEVES!$Y$14:$AE$600,4,FALSE),0)","v":0},{"$f":"IFERROR(VLOOKUP(RL20,MATCHSELEVES!$Y$14:$AE$600,5,FALSE),0)","v":0},{"$f":"IFERROR(VLOOKUP(RL20,MATCHSELEVES!$Y$14:$AF$600,8,FALSE),0)","v":0},{"$f":"IFERROR(VLOOKUP(RL20,MATCHSELEVES!$Y$14:$AG$600,9,FALSE),0)","v":0},"Jassimp_38",{"$f":"IFERROR(VLOOKUP(RR20,MATCHSELEVES!$Y$14:$AE$600,3,FALSE),0)","v":0},{"$f":"IFERROR(VLOOKUP(RR20,MATCHSELEVES!$Y$14:$AE$600,4,FALSE),0)","v":0},{"$f":"IFERROR(VLOOKUP(RR20,MATCHSELEVES!$Y$14:$AE$600,5,FALSE),0)","v":0},{"$f":"IFERROR(VLOOKUP(RR20,MATCHSELEVES!$Y$14:$AF$600,8,FALSE),0)","v":0},{"$f":"IFERROR(VLOOKUP(RR20,MATCHSELEVES!$Y$14:$AG$600,9,FALSE),0)","v":0},"Jassimp_39",{"$f":"IFERROR(VLOOKUP(RX20,MATCHSELEVES!$Y$14:$AE$600,3,FALSE),0)","v":0},{"$f":"IFERROR(VLOOKUP(RX20,MATCHSELEVES!$Y$14:$AE$600,4,FALSE),0)","v":0},{"$f":"IFERROR(VLOOKUP(RX20,MATCHSELEVES!$Y$14:$AE$600,5,FALSE),0)","v":0},{"$f":"IFERROR(VLOOKUP(RX20,MATCHSELEVES!$Y$14:$AF$600,8,FALSE),0)","v":0},{"$f":"IFERROR(VLOOKUP(RX20,MATCHSELEVES!$Y$14:$AG$600,9,FALSE),0)","v":0},"Jassimp_40",{"$f":"IFERROR(VLOOKUP(SD20,MATCHSELEVES!$Y$14:$AE$600,3,FALSE),0)","v":0},{"$f":"IFERROR(VLOOKUP(SD20,MATCHSELEVES!$Y$14:$AE$600,4,FALSE),0)","v":0},{"$f":"IFERROR(VLOOKUP(SD20,MATCHSELEVES!$Y$14:$AE$600,5,FALSE),0)","v":0},{"$f":"IFERROR(VLOOKUP(SD20,MATCHSELEVES!$Y$14:$AF$600,8,FALSE),0)","v":0},{"$f":"IFERROR(VLOOKUP(SD20,MATCHSELEVES!$Y$14:$AG$600,9,FALSE),0)","v":0}]
[18,null,{"$f":"MD1POINT!C21","v":"Jean Alexandre"},{"$f":"MD1POINT!D21","v":1},{"$f":"COUNTIF(MATCHSELEVES!$Z$14:$Z$600,C21)+COUNTIF(MATCHSELEVES!$Z$14:$Z$600,$C21&\"p\")","v":0},1,{"$f":"COUNTIF(MATCHSELEVES!$F$14:$H$249,C21)","v":0},1,0,1,0,1,0,1,{"$f":"Y21+AE21+AK21+AQ21+AW21+BC21+BI21+BO21+BU21+CA21+CG21+CM21+CS21+CY21+DE21+DK21+DQ21+DW21+EC21+EI21+EO21+EU21+FA21+FG21+FM21+FS21+FY21+GE21+GK21+GQ21+GW21+4+HI21+HO21+HU21+IA21+HC21+IG21+IM21+IY21+IS21+JH21+JN21+JZ21+JT21+KF21+KR21+KX21+LJ21+LP21+LV21+LD21+MB21+MH21+MN21+MZ21+MT21+NF21+NL21+NR21+NX21+OD21+OJ21+OP21+OV21+PB21+PH21+PT21+PN21+PZ21+QF21+QL21+QR21+RD21+QX21+RJ21+RP21+RV21+SB21+SH21+KL21+Tableau10[[#This Row],[Nombre de matchs joués]]*2","v":4},1,{"$f":"(Tableau10[[#This Row],[CLASSEMENT1]]+Tableau10[[#This Row],[CLASSEMENT2]]+Tableau10[[#This Row],[CLASSEMENT3]]+Tableau10[[#This Row],[CLASSEMENT4]]+Tableau10[[#This Row],[CLASSEMENT5]]+Tableau10[[#This Row],[CLASSEMENT6]])/6","v":1},{"$f":"RANK(Tableau10[[#This Row],[MOYENNE CLASSEMENTS]],Tableau10[MOYENNE CLASSEMENTS],1)","v":1},null,{"$f":"Tableau10[[#This Row],[CLASSEMENT1]]","v":1},"Jean Alexandre_1",{"$f":"IFERROR(VLOOKUP(U21,MATCHSELEVES!$Y$14:$AE$600,3,FALSE),0)","v":0},{"$f":"IFERROR(VLOOKUP(U21,MATCHSELEVES!$Y$14:$AE$600,4,FALSE),0)","v":0},{"$f":"IFERROR(VLOOKUP(U21,MATCHSELEVES!$Y$14:$AE$600,5,FALSE),0)","v":0},{"$f":"IFERROR(VLOOKUP(U21,MATCHSELEVES!$Y$14:$AF$600,8,FALSE),0)","v":0},{"$f":"IFERROR(VLOOKUP(U21,MATCHSELEVES!$Y$14:$AG$600,9,FALSE),0)","v":0},"Jean Alexandre_2",{"$f":"IFERROR(VLOOKUP(AA21,MATCHSELEVES!$Y$14:$AE$600,3,FALSE),0)","v":0},{"$f":"IFERROR(VLOOKUP(AA21,MATCHSELEVES!$Y$14:$AE$600,4,FALSE),0)","v":0},{"$f":"IFERROR(VLOOKUP(AA21,MATCHSELEVES!$Y$14:$AE$600,5,FALSE),0)","v":0},{"$f":"IFERROR(VLOOKUP(AA21,MATCHSELEVES!$Y$14:$AF$600,8,FALSE),0)","v":0},{"$f":"IFERROR(VLOOKUP(AA21,MATCHSELEVES!$Y$14:$AG$600,9,FALSE),0)","v":0},"Jean Alexandre_3",{"$f":"IFERROR(VLOOKUP(AG21,MATCHSELEVES!$Y$14:$AE$600,3,FALSE),0)","v":0},{"$f":"IFERROR(VLOOKUP(AG21,MATCHSELEVES!$Y$14:$AE$600,4,FALSE),0)","v":0},{"$f":"IFERROR(VLOOKUP(AG21,MATCHSELEVES!$Y$14:$AE$600,5,FALSE),0)","v":0},{"$f":"IFERROR(VLOOKUP(AG21,MATCHSELEVES!$Y$14:$AF$600,8,FALSE),0)","v":0},{"$f":"IFERROR(VLOOKUP(AG21,MATCHSELEVES!$Y$14:$AG$600,9,FALSE),0)","v":0},"Jean Alexandre_4",{"$f":"IFERROR(VLOOKUP(AM21,MATCHSELEVES!$Y$14:$AE$600,3,FALSE),0)","v":0},{"$f":"IFERROR(VLOOKUP(AM21,MATCHSELEVES!$Y$14:$AE$600,4,FALSE),0)","v":0},{"$f":"IFERROR(VLOOKUP(AM21,MATCHSELEVES!$Y$14:$AE$600,5,FALSE),0)","v":0},{"$f":"IFERROR(VLOOKUP(AM21,MATCHSELEVES!$Y$14:$AF$600,8,FALSE),0)","v":0},{"$f":"IFERROR(VLOOKUP(AM21,MATCHSELEVES!$Y$14:$AG$600,9,FALSE),0)","v":0},"Jean Alexandre_5",{"$f":"IFERROR(VLOOKUP(AS21,MATCHSELEVES!$Y$14:$AE$600,3,FALSE),0)","v":0},{"$f":"IFERROR(VLOOKUP(AS21,MATCHSELEVES!$Y$14:$AE$600,4,FALSE),0)","v":0},{"$f":"IFERROR(VLOOKUP(AS21,MATCHSELEVES!$Y$14:$AE$600,5,FALSE),0)","v":0},{"$f":"IFERROR(VLOOKUP(AS21,MATCHSELEVES!$Y$14:$AF$600,8,FALSE),0)","v":0},{"$f":"IFERROR(VLOOKUP(AS21,MATCHSELEVES!$Y$14:$AG$600,9,FALSE),0)","v":0},"Jean Alexandre_6",{"$f":"IFERROR(VLOOKUP(AY21,MATCHSELEVES!$Y$14:$AE$600,3,FALSE),0)","v":0},{"$f":"IFERROR(VLOOKUP(AY21,MATCHSELEVES!$Y$14:$AE$600,4,FALSE),0)","v":0},{"$f":"IFERROR(VLOOKUP(AY21,MATCHSELEVES!$Y$14:$AE$600,5,FALSE),0)","v":0},{"$f":"IFERROR(VLOOKUP(AY21,MATCHSELEVES!$Y$14:$AF$600,8,FALSE),0)","v":0},{"$f":"IFERROR(VLOOKUP(AY21,MATCHSELEVES!$Y$14:$AG$600,9,FALSE),0)","v":0},"Jean Alexandre_7",{"$f":"IFERROR(VLOOKUP(BE21,MATCHSELEVES!$Y$14:$AE$600,3,FALSE),0)","v":0},{"$f":"IFERROR(VLOOKUP(BE21,MATCHSELEVES!$Y$14:$AE$600,4,FALSE),0)","v":0},{"$f":"IFERROR(VLOOKUP(BE21,MATCHSELEVES!$Y$14:$AE$600,5,FALSE),0)","v":0},{"$f":"IFERROR(VLOOKUP(BE21,MATCHSELEVES!$Y$14:$AF$600,8,FALSE),0)","v":0},{"$f":"IFERROR(VLOOKUP(BE21,MATCHSELEVES!$Y$14:$AG$600,9,FALSE),0)","v":0},"Jean Alexandre_8",{"$f":"IFERROR(VLOOKUP(BK21,MATCHSELEVES!$Y$14:$AE$600,3,FALSE),0)","v":0},{"$f":"IFERROR(VLOOKUP(BK21,MATCHSELEVES!$Y$14:$AE$600,4,FALSE),0)","v":0},{"$f":"IFERROR(VLOOKUP(BK21,MATCHSELEVES!$Y$14:$AE$600,5,FALSE),0)","v":0},{"$f":"IFERROR(VLOOKUP(BK21,MATCHSELEVES!$Y$14:$AF$600,8,FALSE),0)","v":0},{"$f":"IFERROR(VLOOKUP(BK21,MATCHSELEVES!$Y$14:$AG$600,9,FALSE),0)","v":0},"Jean Alexandre_9",{"$f":"IFERROR(VLOOKUP(BQ21,MATCHSELEVES!$Y$14:$AE$600,3,FALSE),0)","v":0},{"$f":"IFERROR(VLOOKUP(BQ21,MATCHSELEVES!$Y$14:$AE$600,4,FALSE),0)","v":0},{"$f":"IFERROR(VLOOKUP(BQ21,MATCHSELEVES!$Y$14:$AE$600,5,FALSE),0)","v":0},{"$f":"IFERROR(VLOOKUP(BQ21,MATCHSELEVES!$Y$14:$AF$600,8,FALSE),0)","v":0},{"$f":"IFERROR(VLOOKUP(BQ21,MATCHSELEVES!$Y$14:$AG$600,9,FALSE),0)","v":0},"Jean Alexandre_10",{"$f":"IFERROR(VLOOKUP(BW21,MATCHSELEVES!$Y$14:$AE$600,3,FALSE),0)","v":0},{"$f":"IFERROR(VLOOKUP(BW21,MATCHSELEVES!$Y$14:$AE$600,4,FALSE),0)","v":0},{"$f":"IFERROR(VLOOKUP(BW21,MATCHSELEVES!$Y$14:$AE$600,5,FALSE),0)","v":0},{"$f":"IFERROR(VLOOKUP(BW21,MATCHSELEVES!$Y$14:$AF$600,8,FALSE),0)","v":0},{"$f":"IFERROR(VLOOKUP(BW21,MATCHSELEVES!$Y$14:$AG$600,9,FALSE),0)","v":0},"Jean Alexandre_11",{"$f":"IFERROR(VLOOKUP(CC21,MATCHSELEVES!$Y$14:$AE$600,3,FALSE),0)","v":0},{"$f":"IFERROR(VLOOKUP(CC21,MATCHSELEVES!$Y$14:$AE$600,4,FALSE),0)","v":0},{"$f":"IFERROR(VLOOKUP(CC21,MATCHSELEVES!$Y$14:$AE$600,5,FALSE),0)","v":0},{"$f":"IFERROR(VLOOKUP(CC21,MATCHSELEVES!$Y$14:$AF$600,8,FALSE),0)","v":0},{"$f":"IFERROR(VLOOKUP(CC21,MATCHSELEVES!$Y$14:$AG$600,9,FALSE),0)","v":0},"Jean Alexandre_12",{"$f":"IFERROR(VLOOKUP(CI21,MATCHSELEVES!$Y$14:$AE$600,3,FALSE),0)","v":0},{"$f":"IFERROR(VLOOKUP(CI21,MATCHSELEVES!$Y$14:$AE$600,4,FALSE),0)","v":0},{"$f":"IFERROR(VLOOKUP(CI21,MATCHSELEVES!$Y$14:$AE$600,5,FALSE),0)","v":0},{"$f":"IFERROR(VLOOKUP(CI21,MATCHSELEVES!$Y$14:$AF$600,8,FALSE),0)","v":0},{"$f":"IFERROR(VLOOKUP(CI21,MATCHSELEVES!$Y$14:$AG$600,9,FALSE),0)","v":0},"Jean Alexandre_13",{"$f":"IFERROR(VLOOKUP(CO21,MATCHSELEVES!$Y$14:$AE$600,3,FALSE),0)","v":0},{"$f":"IFERROR(VLOOKUP(CO21,MATCHSELEVES!$Y$14:$AE$600,4,FALSE),0)","v":0},{"$f":"IFERROR(VLOOKUP(CO21,MATCHSELEVES!$Y$14:$AE$600,5,FALSE),0)","v":0},{"$f":"IFERROR(VLOOKUP(CO21,MATCHSELEVES!$Y$14:$AF$600,8,FALSE),0)","v":0},{"$f":"IFERROR(VLOOKUP(CO21,MATCHSELEVES!$Y$14:$AG$600,9,FALSE),0)","v":0},"Jean Alexandre_14",{"$f":"IFERROR(VLOOKUP(CU21,MATCHSELEVES!$Y$14:$AE$600,3,FALSE),0)","v":0},{"$f":"IFERROR(VLOOKUP(CU21,MATCHSELEVES!$Y$14:$AE$600,4,FALSE),0)","v":0},{"$f":"IFERROR(VLOOKUP(CU21,MATCHSELEVES!$Y$14:$AE$600,5,FALSE),0)","v":0},{"$f":"IFERROR(VLOOKUP(CU21,MATCHSELEVES!$Y$14:$AF$600,8,FALSE),0)","v":0},{"$f":"IFERROR(VLOOKUP(CU21,MATCHSELEVES!$Y$14:$AG$600,9,FALSE),0)","v":0},"Jean Alexandre_15",{"$f":"IFERROR(VLOOKUP(DA21,MATCHSELEVES!$Y$14:$AE$600,3,FALSE),0)","v":0},{"$f":"IFERROR(VLOOKUP(DA21,MATCHSELEVES!$Y$14:$AE$600,4,FALSE),0)","v":0},{"$f":"IFERROR(VLOOKUP(DA21,MATCHSELEVES!$Y$14:$AE$600,5,FALSE),0)","v":0},{"$f":"IFERROR(VLOOKUP(DA21,MATCHSELEVES!$Y$14:$AF$600,8,FALSE),0)","v":0},{"$f":"IFERROR(VLOOKUP(DA21,MATCHSELEVES!$Y$14:$AG$600,9,FALSE),0)","v":0},"Jean Alexandre_16",{"$f":"IFERROR(VLOOKUP(DG21,MATCHSELEVES!$Y$14:$AE$600,3,FALSE),0)","v":0},{"$f":"IFERROR(VLOOKUP(DG21,MATCHSELEVES!$Y$14:$AE$600,4,FALSE),0)","v":0},{"$f":"IFERROR(VLOOKUP(DG21,MATCHSELEVES!$Y$14:$AE$600,5,FALSE),0)","v":0},{"$f":"IFERROR(VLOOKUP(DG21,MATCHSELEVES!$Y$14:$AF$600,8,FALSE),0)","v":0},{"$f":"IFERROR(VLOOKUP(DG21,MATCHSELEVES!$Y$14:$AG$600,9,FALSE),0)","v":0},"Jean Alexandre_17",{"$f":"IFERROR(VLOOKUP(DM21,MATCHSELEVES!$Y$14:$AE$600,3,FALSE),0)","v":0},{"$f":"IFERROR(VLOOKUP(DM21,MATCHSELEVES!$Y$14:$AE$600,4,FALSE),0)","v":0},{"$f":"IFERROR(VLOOKUP(DM21,MATCHSELEVES!$Y$14:$AE$600,5,FALSE),0)","v":0},{"$f":"IFERROR(VLOOKUP(DM21,MATCHSELEVES!$Y$14:$AF$600,8,FALSE),0)","v":0},{"$f":"IFERROR(VLOOKUP(DM21,MATCHSELEVES!$Y$14:$AG$600,9,FALSE),0)","v":0},"Jean Alexandre_18",{"$f":"IFERROR(VLOOKUP(DS21,MATCHSELEVES!$Y$14:$AE$600,3,FALSE),0)","v":0},{"$f":"IFERROR(VLOOKUP(DS21,MATCHSELEVES!$Y$14:$AE$600,4,FALSE),0)","v":0},{"$f":"IFERROR(VLOOKUP(DS21,MATCHSELEVES!$Y$14:$AE$600,5,FALSE),0)","v":0},{"$f":"IFERROR(VLOOKUP(DS21,MATCHSELEVES!$Y$14:$AF$600,8,FALSE),0)","v":0},{"$f":"IFERROR(VLOOKUP(DS21,MATCHSELEVES!$Y$14:$AG$600,9,FALSE),0)","v":0},"Jean Alexandre_19",{"$f":"IFERROR(VLOOKUP(DY21,MATCHSELEVES!$Y$14:$AE$600,3,FALSE),0)","v":0},{"$f":"IFERROR(VLOOKUP(DY21,MATCHSELEVES!$Y$14:$AE$600,4,FALSE),0)","v":0},{"$f":"IFERROR(VLOOKUP(DY21,MATCHSELEVES!$Y$14:$AE$600,5,FALSE),0)","v":0},{"$f":"IFERROR(VLOOKUP(DY21,MATCHSELEVES!$Y$14:$AF$600,8,FALSE),0)","v":0},{"$f":"IFERROR(VLOOKUP(DY21,MATCHSELEVES!$Y$14:$AG$600,9,FALSE),0)","v":0},"Jean Alexandre_20",{"$f":"IFERROR(VLOOKUP(EE21,MATCHSELEVES!$Y$14:$AE$600,3,FALSE),0)","v":0},{"$f":"IFERROR(VLOOKUP(EE21,MATCHSELEVES!$Y$14:$AE$600,4,FALSE),0)","v":0},{"$f":"IFERROR(VLOOKUP(EE21,MATCHSELEVES!$Y$14:$AE$600,5,FALSE),0)","v":0},{"$f":"IFERROR(VLOOKUP(EE21,MATCHSELEVES!$Y$14:$AF$600,8,FALSE),0)","v":0},{"$f":"IFERROR(VLOOKUP(EE21,MATCHSELEVES!$Y$14:$AG$600,9,FALSE),0)","v":0},"Jean Alexandre_21",{"$f":"IFERROR(VLOOKUP(EK21,MATCHSELEVES!$Y$14:$AE$600,3,FALSE),0)","v":0},{"$f":"IFERROR(VLOOKUP(EK21,MATCHSELEVES!$Y$14:$AE$600,4,FALSE),0)","v":0},{"$f":"IFERROR(VLOOKUP(EK21,MATCHSELEVES!$Y$14:$AE$600,5,FALSE),0)","v":0},{"$f":"IFERROR(VLOOKUP(EK21,MATCHSELEVES!$Y$14:$AF$600,8,FALSE),0)","v":0},{"$f":"IFERROR(VLOOKUP(EK21,MATCHSELEVES!$Y$14:$AG$600,9,FALSE),0)","v":0},"Jean Alexandre_22",{"$f":"IFERROR(VLOOKUP(EQ21,MATCHSELEVES!$Y$14:$AE$600,3,FALSE),0)","v":0},{"$f":"IFERROR(VLOOKUP(EQ21,MATCHSELEVES!$Y$14:$AE$600,4,FALSE),0)","v":0},{"$f":"IFERROR(VLOOKUP(EQ21,MATCHSELEVES!$Y$14:$AE$600,5,FALSE),0)","v":0},{"$f":"IFERROR(VLOOKUP(EQ21,MATCHSELEVES!$Y$14:$AF$600,8,FALSE),0)","v":0},{"$f":"IFERROR(VLOOKUP(EQ21,MATCHSELEVES!$Y$14:$AG$600,9,FALSE),0)","v":0},"Jean Alexandre_23",{"$f":"IFERROR(VLOOKUP(EW21,MATCHSELEVES!$Y$14:$AE$600,3,FALSE),0)","v":0},{"$f":"IFERROR(VLOOKUP(EW21,MATCHSELEVES!$Y$14:$AE$600,4,FALSE),0)","v":0},{"$f":"IFERROR(VLOOKUP(EW21,MATCHSELEVES!$Y$14:$AE$600,5,FALSE),0)","v":0},{"$f":"IFERROR(VLOOKUP(EW21,MATCHSELEVES!$Y$14:$AF$600,8,FALSE),0)","v":0},{"$f":"IFERROR(VLOOKUP(EW21,MATCHSELEVES!$Y$14:$AG$600,9,FALSE),0)","v":0},"Jean Alexandre_24",{"$f":"IFERROR(VLOOKUP(FC21,MATCHSELEVES!$Y$14:$AE$600,3,FALSE),0)","v":0},{"$f":"IFERROR(VLOOKUP(FC21,MATCHSELEVES!$Y$14:$AE$600,4,FALSE),0)","v":0},{"$f":"IFERROR(VLOOKUP(FC21,MATCHSELEVES!$Y$14:$AE$600,5,FALSE),0)","v":0},{"$f":"IFERROR(VLOOKUP(FC21,MATCHSELEVES!$Y$14:$AF$600,8,FALSE),0)","v":0},{"$f":"IFERROR(VLOOKUP(FC21,MATCHSELEVES!$Y$14:$AG$600,9,FALSE),0)","v":0},"Jean Alexandre_25",{"$f":"IFERROR(VLOOKUP(FI21,MATCHSELEVES!$Y$14:$AE$600,3,FALSE),0)","v":0},{"$f":"IFERROR(VLOOKUP(FI21,MATCHSELEVES!$Y$14:$AE$600,4,FALSE),0)","v":0},{"$f":"IFERROR(VLOOKUP(FI21,MATCHSELEVES!$Y$14:$AE$600,5,FALSE),0)","v":0},{"$f":"IFERROR(VLOOKUP(FI21,MATCHSELEVES!$Y$14:$AF$600,8,FALSE),0)","v":0},{"$f":"IFERROR(VLOOKUP(FI21,MATCHSELEVES!$Y$14:$AG$600,9,FALSE),0)","v":0},"Jean Alexandre_26",{"$f":"IFERROR(VLOOKUP(FO21,MATCHSELEVES!$Y$14:$AE$600,3,FALSE),0)","v":0},{"$f":"IFERROR(VLOOKUP(FO21,MATCHSELEVES!$Y$14:$AE$600,4,FALSE),0)","v":0},{"$f":"IFERROR(VLOOKUP(FO21,MATCHSELEVES!$Y$14:$AE$600,5,FALSE),0)","v":0},{"$f":"IFERROR(VLOOKUP(FO21,MATCHSELEVES!$Y$14:$AF$600,8,FALSE),0)","v":0},{"$f":"IFERROR(VLOOKUP(FO21,MATCHSELEVES!$Y$14:$AG$600,9,FALSE),0)","v":0},"Jean Alexandre_27",{"$f":"IFERROR(VLOOKUP(FU21,MATCHSELEVES!$Y$14:$AE$600,3,FALSE),0)","v":0},{"$f":"IFERROR(VLOOKUP(FU21,MATCHSELEVES!$Y$14:$AE$600,4,FALSE),0)","v":0},{"$f":"IFERROR(VLOOKUP(FU21,MATCHSELEVES!$Y$14:$AE$600,5,FALSE),0)","v":0},{"$f":"IFERROR(VLOOKUP(FU21,MATCHSELEVES!$Y$14:$AF$600,8,FALSE),0)","v":0},{"$f":"IFERROR(VLOOKUP(FU21,MATCHSELEVES!$Y$14:$AG$600,9,FALSE),0)","v":0},"Jean Alexandre_28",{"$f":"IFERROR(VLOOKUP(GA21,MATCHSELEVES!$Y$14:$AE$600,3,FALSE),0)","v":0},{"$f":"IFERROR(VLOOKUP(GA21,MATCHSELEVES!$Y$14:$AE$600,4,FALSE),0)","v":0},{"$f":"IFERROR(VLOOKUP(GA21,MATCHSELEVES!$Y$14:$AE$600,5,FALSE),0)","v":0},{"$f":"IFERROR(VLOOKUP(GA21,MATCHSELEVES!$Y$14:$AF$600,8,FALSE),0)","v":0},{"$f":"IFERROR(VLOOKUP(GA21,MATCHSELEVES!$Y$14:$AG$600,9,FALSE),0)","v":0},"Jean Alexandre_29",{"$f":"IFERROR(VLOOKUP(GG21,MATCHSELEVES!$Y$14:$AE$600,3,FALSE),0)","v":0},{"$f":"IFERROR(VLOOKUP(GG21,MATCHSELEVES!$Y$14:$AE$600,4,FALSE),0)","v":0},{"$f":"IFERROR(VLOOKUP(GG21,MATCHSELEVES!$Y$14:$AE$600,5,FALSE),0)","v":0},{"$f":"IFERROR(VLOOKUP(GG21,MATCHSELEVES!$Y$14:$AF$600,8,FALSE),0)","v":0},{"$f":"IFERROR(VLOOKUP(GG21,MATCHSELEVES!$Y$14:$AG$600,9,FALSE),0)","v":0},"Jean Alexandre_30",{"$f":"IFERROR(VLOOKUP(GM21,MATCHSELEVES!$Y$14:$AE$600,3,FALSE),0)","v":0},{"$f":"IFERROR(VLOOKUP(GM21,MATCHSELEVES!$Y$14:$AE$600,4,FALSE),0)","v":0},{"$f":"IFERROR(VLOOKUP(GM21,MATCHSELEVES!$Y$14:$AE$600,5,FALSE),0)","v":0},{"$f":"IFERROR(VLOOKUP(GM21,MATCHSELEVES!$Y$14:$AF$600,8,FALSE),0)","v":0},{"$f":"IFERROR(VLOOKUP(GM21,MATCHSELEVES!$Y$14:$AG$600,9,FALSE),0)","v":0},"Jean Alexandre_31",{"$f":"IFERROR(VLOOKUP(GS21,MATCHSELEVES!$Y$14:$AE$600,3,FALSE),0)","v":0},{"$f":"IFERROR(VLOOKUP(GS21,MATCHSELEVES!$Y$14:$AE$600,4,FALSE),0)","v":0},{"$f":"IFERROR(VLOOKUP(GS21,MATCHSELEVES!$Y$14:$AE$600,5,FALSE),0)","v":0},{"$f":"IFERROR(VLOOKUP(GS21,MATCHSELEVES!$Y$14:$AF$600,8,FALSE),0)","v":0},{"$f":"IFERROR(VLOOKUP(GS21,MATCHSELEVES!$Y$14:$AG$600,9,FALSE),0)","v":0},"Jean Alexandre_32",{"$f":"IFERROR(VLOOKUP(GY21,MATCHSELEVES!$Y$14:$AE$600,3,FALSE),0)","v":0},{"$f":"IFERROR(VLOOKUP(GY21,MATCHSELEVES!$Y$14:$AE$600,4,FALSE),0)","v":0},{"$f":"IFERROR(VLOOKUP(GY21,MATCHSELEVES!$Y$14:$AE$600,5,FALSE),0)","v":0},{"$f":"IFERROR(VLOOKUP(GY21,MATCHSELEVES!$Y$14:$AF$600,8,FALSE),0)","v":0},{"$f":"IFERROR(VLOOKUP(GY21,MATCHSELEVES!$Y$14:$AG$600,9,FALSE),0)","v":0},"Jean Alexandre_33",{"$f":"IFERROR(VLOOKUP(HE21,MATCHSELEVES!$Y$14:$AE$600,3,FALSE),0)","v":0},{"$f":"IFERROR(VLOOKUP(HE21,MATCHSELEVES!$Y$14:$AE$600,4,FALSE),0)","v":0},{"$f":"IFERROR(VLOOKUP(HE21,MATCHSELEVES!$Y$14:$AE$600,5,FALSE),0)","v":0},{"$f":"IFERROR(VLOOKUP(HE21,MATCHSELEVES!$Y$14:$AF$600,8,FALSE),0)","v":0},{"$f":"IFERROR(VLOOKUP(HE21,MATCHSELEVES!$Y$14:$AG$600,9,FALSE),0)","v":0},"Jean Alexandre_34",{"$f":"IFERROR(VLOOKUP(HK21,MATCHSELEVES!$Y$14:$AE$600,3,FALSE),0)","v":0},{"$f":"IFERROR(VLOOKUP(HK21,MATCHSELEVES!$Y$14:$AE$600,4,FALSE),0)","v":0},{"$f":"IFERROR(VLOOKUP(HK21,MATCHSELEVES!$Y$14:$AE$600,5,FALSE),0)","v":0},{"$f":"IFERROR(VLOOKUP(HK21,MATCHSELEVES!$Y$14:$AF$600,8,FALSE),0)","v":0},{"$f":"IFERROR(VLOOKUP(HK21,MATCHSELEVES!$Y$14:$AG$600,9,FALSE),0)","v":0},"Jean Alexandre_35",{"$f":"IFERROR(VLOOKUP(HQ21,MATCHSELEVES!$Y$14:$AE$600,3,FALSE),0)","v":0},{"$f":"IFERROR(VLOOKUP(HQ21,MATCHSELEVES!$Y$14:$AE$600,4,FALSE),0)","v":0},{"$f":"IFERROR(VLOOKUP(HQ21,MATCHSELEVES!$Y$14:$AE$600,5,FALSE),0)","v":0},{"$f":"IFERROR(VLOOKUP(HQ21,MATCHSELEVES!$Y$14:$AF$600,8,FALSE),0)","v":0},{"$f":"IFERROR(VLOOKUP(HQ21,MATCHSELEVES!$Y$14:$AG$600,9,FALSE),0)","v":0},"Jean Alexandre_36",{"$f":"IFERROR(VLOOKUP(HW21,MATCHSELEVES!$Y$14:$AE$600,3,FALSE),0)","v":0},{"$f":"IFERROR(VLOOKUP(HW21,MATCHSELEVES!$Y$14:$AE$600,4,FALSE),0)","v":0},{"$f":"IFERROR(VLOOKUP(HW21,MATCHSELEVES!$Y$14:$AE$600,5,FALSE),0)","v":0},{"$f":"IFERROR(VLOOKUP(HW21,MATCHSELEVES!$Y$14:$AF$600,8,FALSE),0)","v":0},{"$f":"IFERROR(VLOOKUP(HW21,MATCHSELEVES!$Y$14:$AG$600,9,FALSE),0)","v":0},"Jean Alexandre_37",{"$f":"IFERROR(VLOOKUP(IC21,MATCHSELEVES!$Y$14:$AE$600,3,FALSE),0)","v":0},{"$f":"IFERROR(VLOOKUP(IC21,MATCHSELEVES!$Y$14:$AE$600,4,FALSE),0)","v":0},{"$f":"IFERROR(VLOOKUP(IC21,MATCHSELEVES!$Y$14:$AE$600,5,FALSE),0)","v":0},{"$f":"IFERROR(VLOOKUP(IC21,MATCHSELEVES!$Y$14:$AF$600,8,FALSE),0)","v":0},{"$f":"IFERROR(VLOOKUP(IC21,MATCHSELEVES!$Y$14:$AG$600,9,FALSE),0)","v":0},"Jean Alexandre_38",{"$f":"IFERROR(VLOOKUP(II21,MATCHSELEVES!$Y$14:$AE$600,3,FALSE),0)","v":0},{"$f":"IFERROR(VLOOKUP(II21,MATCHSELEVES!$Y$14:$AE$600,4,FALSE),0)","v":0},{"$f":"IFERROR(VLOOKUP(II21,MATCHSELEVES!$Y$14:$AE$600,5,FALSE),0)","v":0},{"$f":"IFERROR(VLOOKUP(II21,MATCHSELEVES!$Y$14:$AF$600,8,FALSE),0)","v":0},{"$f":"IFERROR(VLOOKUP(II21,MATCHSELEVES!$Y$14:$AG$600,9,FALSE),0)","v":0},"Jean Alexandre_39",{"$f":"IFERROR(VLOOKUP(IO21,MATCHSELEVES!$Y$14:$AE$600,3,FALSE),0)","v":0},{"$f":"IFERROR(VLOOKUP(IO21,MATCHSELEVES!$Y$14:$AE$600,4,FALSE),0)","v":0},{"$f":"IFERROR(VLOOKUP(IO21,MATCHSELEVES!$Y$14:$AE$600,5,FALSE),0)","v":0},{"$f":"IFERROR(VLOOKUP(IO21,MATCHSELEVES!$Y$14:$AF$600,8,FALSE),0)","v":0},{"$f":"IFERROR(VLOOKUP(IO21,MATCHSELEVES!$Y$14:$AG$600,9,FALSE),0)","v":0},"Jean Alexandre_40",{"$f":"IFERROR(VLOOKUP(IU21,MATCHSELEVES!$Y$14:$AE$600,3,FALSE),0)","v":0},{"$f":"IFERROR(VLOOKUP(IU21,MATCHSELEVES!$Y$14:$AE$600,4,FALSE),0)","v":0},{"$f":"IFERROR(VLOOKUP(IU21,MATCHSELEVES!$Y$14:$AE$600,5,FALSE),0)","v":0},{"$f":"IFERROR(VLOOKUP(IU21,MATCHSELEVES!$Y$14:$AF$600,8,FALSE),0)","v":0},{"$f":"IFERROR(VLOOKUP(IU21,MATCHSELEVES!$Y$14:$AG$600,9,FALSE),0)","v":0},{"$f":"Tableau10[[#This Row],[CLASSE]]","v":"Jean Alexandre"},1,{"$f":"MD1POINT!D21","v":1},"Jean Alexandrep_1",{"$f":"IFERROR(VLOOKUP(JD21,MATCHSELEVES!$Y$14:$AE$600,3,FALSE),0)","v":0},{"$f":"IFERROR(VLOOKUP(JD21,MATCHSELEVES!$Y$14:$AE$600,4,FALSE),0)","v":0},{"$f":"IFERROR(VLOOKUP(JD21,MATCHSELEVES!$Y$14:$AE$600,5,FALSE),0)","v":0},{"$f":"IFERROR(VLOOKUP(JD21,MATCHSELEVES!$Y$14:$AF$600,8,FALSE),0)","v":0},{"$f":"IFERROR(VLOOKUP(JD21,MATCHSELEVES!$Y$14:$AG$600,9,FALSE),0)","v":0},"Jean Alexandrep_2",{"$f":"IFERROR(VLOOKUP(JJ21,MATCHSELEVES!$Y$14:$AE$600,3,FALSE),0)","v":0},{"$f":"IFERROR(VLOOKUP(JJ21,MATCHSELEVES!$Y$14:$AE$600,4,FALSE),0)","v":0},{"$f":"IFERROR(VLOOKUP(JJ21,MATCHSELEVES!$Y$14:$AE$600,5,FALSE),0)","v":0},{"$f":"IFERROR(VLOOKUP(JJ21,MATCHSELEVES!$Y$14:$AF$600,8,FALSE),0)","v":0},{"$f":"IFERROR(VLOOKUP(JJ21,MATCHSELEVES!$Y$14:$AG$600,9,FALSE),0)","v":0},"Jean Alexandrep_3",{"$f":"IFERROR(VLOOKUP(JP21,MATCHSELEVES!$Y$14:$AE$600,3,FALSE),0)","v":0},{"$f":"IFERROR(VLOOKUP(JP21,MATCHSELEVES!$Y$14:$AE$600,4,FALSE),0)","v":0},{"$f":"IFERROR(VLOOKUP(JP21,MATCHSELEVES!$Y$14:$AE$600,5,FALSE),0)","v":0},{"$f":"IFERROR(VLOOKUP(JP21,MATCHSELEVES!$Y$14:$AF$600,8,FALSE),0)","v":0},{"$f":"IFERROR(VLOOKUP(JP21,MATCHSELEVES!$Y$14:$AG$600,9,FALSE),0)","v":0},"Jean Alexandrep_4",{"$f":"IFERROR(VLOOKUP(JV21,MATCHSELEVES!$Y$14:$AE$600,3,FALSE),0)","v":0},{"$f":"IFERROR(VLOOKUP(JV21,MATCHSELEVES!$Y$14:$AE$600,4,FALSE),0)","v":0},{"$f":"IFERROR(VLOOKUP(JV21,MATCHSELEVES!$Y$14:$AE$600,5,FALSE),0)","v":0},{"$f":"IFERROR(VLOOKUP(JV21,MATCHSELEVES!$Y$14:$AF$600,8,FALSE),0)","v":0},{"$f":"IFERROR(VLOOKUP(JV21,MATCHSELEVES!$Y$14:$AG$600,9,FALSE),0)","v":0},"Jean Alexandrep_5",{"$f":"IFERROR(VLOOKUP(KB21,MATCHSELEVES!$Y$14:$AE$600,3,FALSE),0)","v":0},{"$f":"IFERROR(VLOOKUP(KB21,MATCHSELEVES!$Y$14:$AE$600,4,FALSE),0)","v":0},{"$f":"IFERROR(VLOOKUP(KB21,MATCHSELEVES!$Y$14:$AE$600,5,FALSE),0)","v":0},{"$f":"IFERROR(VLOOKUP(KB21,MATCHSELEVES!$Y$14:$AF$600,8,FALSE),0)","v":0},{"$f":"IFERROR(VLOOKUP(KB21,MATCHSELEVES!$Y$14:$AG$600,9,FALSE),0)","v":0},"Jean Alexandrep_6",{"$f":"IFERROR(VLOOKUP(KH21,MATCHSELEVES!$Y$14:$AE$600,3,FALSE),0)","v":0},{"$f":"IFERROR(VLOOKUP(KH21,MATCHSELEVES!$Y$14:$AE$600,4,FALSE),0)","v":0},{"$f":"IFERROR(VLOOKUP(KH21,MATCHSELEVES!$Y$14:$AE$600,5,FALSE),0)","v":0},{"$f":"IFERROR(VLOOKUP(KH21,MATCHSELEVES!$Y$14:$AF$600,8,FALSE),0)","v":0},{"$f":"IFERROR(VLOOKUP(KH21,MATCHSELEVES!$Y$14:$AG$600,9,FALSE),0)","v":0},"Jean Alexandrep_7",{"$f":"IFERROR(VLOOKUP(KN21,MATCHSELEVES!$Y$14:$AE$600,3,FALSE),0)","v":0},{"$f":"IFERROR(VLOOKUP(KN21,MATCHSELEVES!$Y$14:$AE$600,4,FALSE),0)","v":0},{"$f":"IFERROR(VLOOKUP(KN21,MATCHSELEVES!$Y$14:$AE$600,5,FALSE),0)","v":0},{"$f":"IFERROR(VLOOKUP(KN21,MATCHSELEVES!$Y$14:$AF$600,8,FALSE),0)","v":0},{"$f":"IFERROR(VLOOKUP(KN21,MATCHSELEVES!$Y$14:$AG$600,9,FALSE),0)","v":0},"Jean Alexandrep_8",{"$f":"IFERROR(VLOOKUP(KT21,MATCHSELEVES!$Y$14:$AE$600,3,FALSE),0)","v":0},{"$f":"IFERROR(VLOOKUP(KT21,MATCHSELEVES!$Y$14:$AE$600,4,FALSE),0)","v":0},{"$f":"IFERROR(VLOOKUP(KT21,MATCHSELEVES!$Y$14:$AE$600,5,FALSE),0)","v":0},{"$f":"IFERROR(VLOOKUP(KT21,MATCHSELEVES!$Y$14:$AF$600,8,FALSE),0)","v":0},{"$f":"IFERROR(VLOOKUP(KT21,MATCHSELEVES!$Y$14:$AG$600,9,FALSE),0)","v":0},"Jean Alexandrep_9",{"$f":"IFERROR(VLOOKUP(KZ21,MATCHSELEVES!$Y$14:$AE$600,3,FALSE),0)","v":0},{"$f":"IFERROR(VLOOKUP(KZ21,MATCHSELEVES!$Y$14:$AE$600,4,FALSE),0)","v":0},{"$f":"IFERROR(VLOOKUP(KZ21,MATCHSELEVES!$Y$14:$AE$600,5,FALSE),0)","v":0},{"$f":"IFERROR(VLOOKUP(KZ21,MATCHSELEVES!$Y$14:$AF$600,8,FALSE),0)","v":0},{"$f":"IFERROR(VLOOKUP(KZ21,MATCHSELEVES!$Y$14:$AG$600,9,FALSE),0)","v":0},"Jean Alexandrep_10",{"$f":"IFERROR(VLOOKUP(LF21,MATCHSELEVES!$Y$14:$AE$600,3,FALSE),0)","v":0},{"$f":"IFERROR(VLOOKUP(LF21,MATCHSELEVES!$Y$14:$AE$600,4,FALSE),0)","v":0},{"$f":"IFERROR(VLOOKUP(LF21,MATCHSELEVES!$Y$14:$AE$600,5,FALSE),0)","v":0},{"$f":"IFERROR(VLOOKUP(LF21,MATCHSELEVES!$Y$14:$AF$600,8,FALSE),0)","v":0},{"$f":"IFERROR(VLOOKUP(LF21,MATCHSELEVES!$Y$14:$AG$600,9,FALSE),0)","v":0},"Jean Alexandrep_11",{"$f":"IFERROR(VLOOKUP(LL21,MATCHSELEVES!$Y$14:$AE$600,3,FALSE),0)","v":0},{"$f":"IFERROR(VLOOKUP(LL21,MATCHSELEVES!$Y$14:$AE$600,4,FALSE),0)","v":0},{"$f":"IFERROR(VLOOKUP(LL21,MATCHSELEVES!$Y$14:$AE$600,5,FALSE),0)","v":0},{"$f":"IFERROR(VLOOKUP(LL21,MATCHSELEVES!$Y$14:$AF$600,8,FALSE),0)","v":0},{"$f":"IFERROR(VLOOKUP(LL21,MATCHSELEVES!$Y$14:$AG$600,9,FALSE),0)","v":0},"Jean Alexandrep_12",{"$f":"IFERROR(VLOOKUP(LR21,MATCHSELEVES!$Y$14:$AE$600,3,FALSE),0)","v":0},{"$f":"IFERROR(VLOOKUP(LR21,MATCHSELEVES!$Y$14:$AE$600,4,FALSE),0)","v":0},{"$f":"IFERROR(VLOOKUP(LR21,MATCHSELEVES!$Y$14:$AE$600,5,FALSE),0)","v":0},{"$f":"IFERROR(VLOOKUP(LR21,MATCHSELEVES!$Y$14:$AF$600,8,FALSE),0)","v":0},{"$f":"IFERROR(VLOOKUP(LR21,MATCHSELEVES!$Y$14:$AG$600,9,FALSE),0)","v":0},"Jean Alexandrep_13",{"$f":"IFERROR(VLOOKUP(LX21,MATCHSELEVES!$Y$14:$AE$600,3,FALSE),0)","v":0},{"$f":"IFERROR(VLOOKUP(LX21,MATCHSELEVES!$Y$14:$AE$600,4,FALSE),0)","v":0},{"$f":"IFERROR(VLOOKUP(LX21,MATCHSELEVES!$Y$14:$AE$600,5,FALSE),0)","v":0},{"$f":"IFERROR(VLOOKUP(LX21,MATCHSELEVES!$Y$14:$AF$600,8,FALSE),0)","v":0},{"$f":"IFERROR(VLOOKUP(LX21,MATCHSELEVES!$Y$14:$AG$600,9,FALSE),0)","v":0},"Jean Alexandrep_14",{"$f":"IFERROR(VLOOKUP(MD21,MATCHSELEVES!$Y$14:$AE$600,3,FALSE),0)","v":0},{"$f":"IFERROR(VLOOKUP(MD21,MATCHSELEVES!$Y$14:$AE$600,4,FALSE),0)","v":0},{"$f":"IFERROR(VLOOKUP(MD21,MATCHSELEVES!$Y$14:$AE$600,5,FALSE),0)","v":0},{"$f":"IFERROR(VLOOKUP(MD21,MATCHSELEVES!$Y$14:$AF$600,8,FALSE),0)","v":0},{"$f":"IFERROR(VLOOKUP(MD21,MATCHSELEVES!$Y$14:$AG$600,9,FALSE),0)","v":0},"Jean Alexandrep_15",{"$f":"IFERROR(VLOOKUP(MJ21,MATCHSELEVES!$Y$14:$AE$600,3,FALSE),0)","v":0},{"$f":"IFERROR(VLOOKUP(MJ21,MATCHSELEVES!$Y$14:$AE$600,4,FALSE),0)","v":0},{"$f":"IFERROR(VLOOKUP(MJ21,MATCHSELEVES!$Y$14:$AE$600,5,FALSE),0)","v":0},{"$f":"IFERROR(VLOOKUP(MJ21,MATCHSELEVES!$Y$14:$AF$600,8,FALSE),0)","v":0},{"$f":"IFERROR(VLOOKUP(MJ21,MATCHSELEVES!$Y$14:$AG$600,9,FALSE),0)","v":0},"Jean Alexandrep_16",{"$f":"IFERROR(VLOOKUP(MP21,MATCHSELEVES!$Y$14:$AE$600,3,FALSE),0)","v":0},{"$f":"IFERROR(VLOOKUP(MP21,MATCHSELEVES!$Y$14:$AE$600,4,FALSE),0)","v":0},{"$f":"IFERROR(VLOOKUP(MP21,MATCHSELEVES!$Y$14:$AE$600,5,FALSE),0)","v":0},{"$f":"IFERROR(VLOOKUP(MP21,MATCHSELEVES!$Y$14:$AF$600,8,FALSE),0)","v":0},{"$f":"IFERROR(VLOOKUP(MP21,MATCHSELEVES!$Y$14:$AG$600,9,FALSE),0)","v":0},"Jean Alexandrep_17",{"$f":"IFERROR(VLOOKUP(MV21,MATCHSELEVES!$Y$14:$AE$600,3,FALSE),0)","v":0},{"$f":"IFERROR(VLOOKUP(MV21,MATCHSELEVES!$Y$14:$AE$600,4,FALSE),0)","v":0},{"$f":"IFERROR(VLOOKUP(MV21,MATCHSELEVES!$Y$14:$AE$600,5,FALSE),0)","v":0},{"$f":"IFERROR(VLOOKUP(MV21,MATCHSELEVES!$Y$14:$AF$600,8,FALSE),0)","v":0},{"$f":"IFERROR(VLOOKUP(MV21,MATCHSELEVES!$Y$14:$AG$600,9,FALSE),0)","v":0},"Jean Alexandrep_18",{"$f":"IFERROR(VLOOKUP(NB21,MATCHSELEVES!$Y$14:$AE$600,3,FALSE),0)","v":0},{"$f":"IFERROR(VLOOKUP(NB21,MATCHSELEVES!$Y$14:$AE$600,4,FALSE),0)","v":0},{"$f":"IFERROR(VLOOKUP(NB21,MATCHSELEVES!$Y$14:$AE$600,5,FALSE),0)","v":0},{"$f":"IFERROR(VLOOKUP(NB21,MATCHSELEVES!$Y$14:$AF$600,8,FALSE),0)","v":0},{"$f":"IFERROR(VLOOKUP(NB21,MATCHSELEVES!$Y$14:$AG$600,9,FALSE),0)","v":0},"Jean Alexandrep_19",{"$f":"IFERROR(VLOOKUP(NH21,MATCHSELEVES!$Y$14:$AE$600,3,FALSE),0)","v":0},{"$f":"IFERROR(VLOOKUP(NH21,MATCHSELEVES!$Y$14:$AE$600,4,FALSE),0)","v":0},{"$f":"IFERROR(VLOOKUP(NH21,MATCHSELEVES!$Y$14:$AE$600,5,FALSE),0)","v":0},{"$f":"IFERROR(VLOOKUP(NH21,MATCHSELEVES!$Y$14:$AF$600,8,FALSE),0)","v":0},{"$f":"IFERROR(VLOOKUP(NH21,MATCHSELEVES!$Y$14:$AG$600,9,FALSE),0)","v":0},"Jean Alexandrep_20",{"$f":"IFERROR(VLOOKUP(NN21,MATCHSELEVES!$Y$14:$AE$600,3,FALSE),0)","v":0},{"$f":"IFERROR(VLOOKUP(NN21,MATCHSELEVES!$Y$14:$AE$600,4,FALSE),0)","v":0},{"$f":"IFERROR(VLOOKUP(NN21,MATCHSELEVES!$Y$14:$AE$600,5,FALSE),0)","v":0},{"$f":"IFERROR(VLOOKUP(NN21,MATCHSELEVES!$Y$14:$AF$600,8,FALSE),0)","v":0},{"$f":"IFERROR(VLOOKUP(NN21,MATCHSELEVES!$Y$14:$AG$600,9,FALSE),0)","v":0},"Jean Alexandrep_21",{"$f":"IFERROR(VLOOKUP(NT21,MATCHSELEVES!$Y$14:$AE$600,3,FALSE),0)","v":0},{"$f":"IFERROR(VLOOKUP(NT21,MATCHSELEVES!$Y$14:$AE$600,4,FALSE),0)","v":0},{"$f":"IFERROR(VLOOKUP(NT21,MATCHSELEVES!$Y$14:$AE$600,5,FALSE),0)","v":0},{"$f":"IFERROR(VLOOKUP(NT21,MATCHSELEVES!$Y$14:$AF$600,8,FALSE),0)","v":0},{"$f":"IFERROR(VLOOKUP(NT21,MATCHSELEVES!$Y$14:$AG$600,9,FALSE),0)","v":0},"Jean Alexandrep_22",{"$f":"IFERROR(VLOOKUP(NZ21,MATCHSELEVES!$Y$14:$AE$600,3,FALSE),0)","v":0},{"$f":"IFERROR(VLOOKUP(NZ21,MATCHSELEVES!$Y$14:$AE$600,4,FALSE),0)","v":0},{"$f":"IFERROR(VLOOKUP(NZ21,MATCHSELEVES!$Y$14:$AE$600,5,FALSE),0)","v":0},{"$f":"IFERROR(VLOOKUP(NZ21,MATCHSELEVES!$Y$14:$AF$600,8,FALSE),0)","v":0},{"$f":"IFERROR(VLOOKUP(NZ21,MATCHSELEVES!$Y$14:$AG$600,9,FALSE),0)","v":0},"Jean Alexandrep_23",{"$f":"IFERROR(VLOOKUP(OF21,MATCHSELEVES!$Y$14:$AE$600,3,FALSE),0)","v":0},{"$f":"IFERROR(VLOOKUP(OF21,MATCHSELEVES!$Y$14:$AE$600,4,FALSE),0)","v":0},{"$f":"IFERROR(VLOOKUP(OF21,MATCHSELEVES!$Y$14:$AE$600,5,FALSE),0)","v":0},{"$f":"IFERROR(VLOOKUP(OF21,MATCHSELEVES!$Y$14:$AF$600,8,FALSE),0)","v":0},{"$f":"IFERROR(VLOOKUP(OF21,MATCHSELEVES!$Y$14:$AG$600,9,FALSE),0)","v":0},"Jean Alexandrep_24",{"$f":"IFERROR(VLOOKUP(OL21,MATCHSELEVES!$Y$14:$AE$600,3,FALSE),0)","v":0},{"$f":"IFERROR(VLOOKUP(OL21,MATCHSELEVES!$Y$14:$AE$600,4,FALSE),0)","v":0},{"$f":"IFERROR(VLOOKUP(OL21,MATCHSELEVES!$Y$14:$AE$600,5,FALSE),0)","v":0},{"$f":"IFERROR(VLOOKUP(OL21,MATCHSELEVES!$Y$14:$AF$600,8,FALSE),0)","v":0},{"$f":"IFERROR(VLOOKUP(OL21,MATCHSELEVES!$Y$14:$AG$600,9,FALSE),0)","v":0},"Jean Alexandrep_25",{"$f":"IFERROR(VLOOKUP(OR21,MATCHSELEVES!$Y$14:$AE$600,3,FALSE),0)","v":0},{"$f":"IFERROR(VLOOKUP(OR21,MATCHSELEVES!$Y$14:$AE$600,4,FALSE),0)","v":0},{"$f":"IFERROR(VLOOKUP(OR21,MATCHSELEVES!$Y$14:$AE$600,5,FALSE),0)","v":0},{"$f":"IFERROR(VLOOKUP(OR21,MATCHSELEVES!$Y$14:$AF$600,8,FALSE),0)","v":0},{"$f":"IFERROR(VLOOKUP(OR21,MATCHSELEVES!$Y$14:$AG$600,9,FALSE),0)","v":0},"Jean Alexandrep_26",{"$f":"IFERROR(VLOOKUP(OX21,MATCHSELEVES!$Y$14:$AE$600,3,FALSE),0)","v":0},{"$f":"IFERROR(VLOOKUP(OX21,MATCHSELEVES!$Y$14:$AE$600,4,FALSE),0)","v":0},{"$f":"IFERROR(VLOOKUP(OX21,MATCHSELEVES!$Y$14:$AE$600,5,FALSE),0)","v":0},{"$f":"IFERROR(VLOOKUP(OX21,MATCHSELEVES!$Y$14:$AF$600,8,FALSE),0)","v":0},{"$f":"IFERROR(VLOOKUP(OX21,MATCHSELEVES!$Y$14:$AG$600,9,FALSE),0)","v":0},"Jean Alexandrep_27",{"$f":"IFERROR(VLOOKUP(PD21,MATCHSELEVES!$Y$14:$AE$600,3,FALSE),0)","v":0},{"$f":"IFERROR(VLOOKUP(PD21,MATCHSELEVES!$Y$14:$AE$600,4,FALSE),0)","v":0},{"$f":"IFERROR(VLOOKUP(PD21,MATCHSELEVES!$Y$14:$AE$600,5,FALSE),0)","v":0},{"$f":"IFERROR(VLOOKUP(PD21,MATCHSELEVES!$Y$14:$AF$600,8,FALSE),0)","v":0},{"$f":"IFERROR(VLOOKUP(PD21,MATCHSELEVES!$Y$14:$AG$600,9,FALSE),0)","v":0},"Jean Alexandrep_28",{"$f":"IFERROR(VLOOKUP(PJ21,MATCHSELEVES!$Y$14:$AE$600,3,FALSE),0)","v":0},{"$f":"IFERROR(VLOOKUP(PJ21,MATCHSELEVES!$Y$14:$AE$600,4,FALSE),0)","v":0},{"$f":"IFERROR(VLOOKUP(PJ21,MATCHSELEVES!$Y$14:$AE$600,5,FALSE),0)","v":0},{"$f":"IFERROR(VLOOKUP(PJ21,MATCHSELEVES!$Y$14:$AF$600,8,FALSE),0)","v":0},{"$f":"IFERROR(VLOOKUP(PJ21,MATCHSELEVES!$Y$14:$AG$600,9,FALSE),0)","v":0},"Jean Alexandrep_29",{"$f":"IFERROR(VLOOKUP(PP21,MATCHSELEVES!$Y$14:$AE$600,3,FALSE),0)","v":0},{"$f":"IFERROR(VLOOKUP(PP21,MATCHSELEVES!$Y$14:$AE$600,4,FALSE),0)","v":0},{"$f":"IFERROR(VLOOKUP(PP21,MATCHSELEVES!$Y$14:$AE$600,5,FALSE),0)","v":0},{"$f":"IFERROR(VLOOKUP(PP21,MATCHSELEVES!$Y$14:$AF$600,8,FALSE),0)","v":0},{"$f":"IFERROR(VLOOKUP(PP21,MATCHSELEVES!$Y$14:$AG$600,9,FALSE),0)","v":0},"Jean Alexandrep_30",{"$f":"IFERROR(VLOOKUP(PV21,MATCHSELEVES!$Y$14:$AE$600,3,FALSE),0)","v":0},{"$f":"IFERROR(VLOOKUP(PV21,MATCHSELEVES!$Y$14:$AE$600,4,FALSE),0)","v":0},{"$f":"IFERROR(VLOOKUP(PV21,MATCHSELEVES!$Y$14:$AE$600,5,FALSE),0)","v":0},{"$f":"IFERROR(VLOOKUP(PV21,MATCHSELEVES!$Y$14:$AF$600,8,FALSE),0)","v":0},{"$f":"IFERROR(VLOOKUP(PV21,MATCHSELEVES!$Y$14:$AG$600,9,FALSE),0)","v":0},"Jean Alexandrep_31",{"$f":"IFERROR(VLOOKUP(QB21,MATCHSELEVES!$Y$14:$AE$600,3,FALSE),0)","v":0},{"$f":"IFERROR(VLOOKUP(QB21,MATCHSELEVES!$Y$14:$AE$600,4,FALSE),0)","v":0},{"$f":"IFERROR(VLOOKUP(QB21,MATCHSELEVES!$Y$14:$AE$600,5,FALSE),0)","v":0},{"$f":"IFERROR(VLOOKUP(QB21,MATCHSELEVES!$Y$14:$AF$600,8,FALSE),0)","v":0},{"$f":"IFERROR(VLOOKUP(QB21,MATCHSELEVES!$Y$14:$AG$600,9,FALSE),0)","v":0},"Jean Alexandrep_32",{"$f":"IFERROR(VLOOKUP(QH21,MATCHSELEVES!$Y$14:$AE$600,3,FALSE),0)","v":0},{"$f":"IFERROR(VLOOKUP(QH21,MATCHSELEVES!$Y$14:$AE$600,4,FALSE),0)","v":0},{"$f":"IFERROR(VLOOKUP(QH21,MATCHSELEVES!$Y$14:$AE$600,5,FALSE),0)","v":0},{"$f":"IFERROR(VLOOKUP(QH21,MATCHSELEVES!$Y$14:$AF$600,8,FALSE),0)","v":0},{"$f":"IFERROR(VLOOKUP(QH21,MATCHSELEVES!$Y$14:$AG$600,9,FALSE),0)","v":0},"Jean Alexandrep_33",{"$f":"IFERROR(VLOOKUP(QN21,MATCHSELEVES!$Y$14:$AE$600,3,FALSE),0)","v":0},{"$f":"IFERROR(VLOOKUP(QN21,MATCHSELEVES!$Y$14:$AE$600,4,FALSE),0)","v":0},{"$f":"IFERROR(VLOOKUP(QN21,MATCHSELEVES!$Y$14:$AE$600,5,FALSE),0)","v":0},{"$f":"IFERROR(VLOOKUP(QN21,MATCHSELEVES!$Y$14:$AF$600,8,FALSE),0)","v":0},{"$f":"IFERROR(VLOOKUP(QN21,MATCHSELEVES!$Y$14:$AG$600,9,FALSE),0)","v":0},"Jean Alexandrep_34",{"$f":"IFERROR(VLOOKUP(QT21,MATCHSELEVES!$Y$14:$AE$600,3,FALSE),0)","v":0},{"$f":"IFERROR(VLOOKUP(QT21,MATCHSELEVES!$Y$14:$AE$600,4,FALSE),0)","v":0},{"$f":"IFERROR(VLOOKUP(QT21,MATCHSELEVES!$Y$14:$AE$600,5,FALSE),0)","v":0},{"$f":"IFERROR(VLOOKUP(QT21,MATCHSELEVES!$Y$14:$AF$600,8,FALSE),0)","v":0},{"$f":"IFERROR(VLOOKUP(QT21,MATCHSELEVES!$Y$14:$AG$600,9,FALSE),0)","v":0},"Jean Alexandrep_35",{"$f":"IFERROR(VLOOKUP(QZ21,MATCHSELEVES!$Y$14:$AE$600,3,FALSE),0)","v":0},{"$f":"IFERROR(VLOOKUP(QZ21,MATCHSELEVES!$Y$14:$AE$600,4,FALSE),0)","v":0},{"$f":"IFERROR(VLOOKUP(QZ21,MATCHSELEVES!$Y$14:$AE$600,5,FALSE),0)","v":0},{"$f":"IFERROR(VLOOKUP(QZ21,MATCHSELEVES!$Y$14:$AF$600,8,FALSE),0)","v":0},{"$f":"IFERROR(VLOOKUP(QZ21,MATCHSELEVES!$Y$14:$AG$600,9,FALSE),0)","v":0},"Jean Alexandrep_36",{"$f":"IFERROR(VLOOKUP(RF21,MATCHSELEVES!$Y$14:$AE$600,3,FALSE),0)","v":0},{"$f":"IFERROR(VLOOKUP(RF21,MATCHSELEVES!$Y$14:$AE$600,4,FALSE),0)","v":0},{"$f":"IFERROR(VLOOKUP(RF21,MATCHSELEVES!$Y$14:$AE$600,5,FALSE),0)","v":0},{"$f":"IFERROR(VLOOKUP(RF21,MATCHSELEVES!$Y$14:$AF$600,8,FALSE),0)","v":0},{"$f":"IFERROR(VLOOKUP(RF21,MATCHSELEVES!$Y$14:$AG$600,9,FALSE),0)","v":0},"Jean Alexandrep_37",{"$f":"IFERROR(VLOOKUP(RL21,MATCHSELEVES!$Y$14:$AE$600,3,FALSE),0)","v":0},{"$f":"IFERROR(VLOOKUP(RL21,MATCHSELEVES!$Y$14:$AE$600,4,FALSE),0)","v":0},{"$f":"IFERROR(VLOOKUP(RL21,MATCHSELEVES!$Y$14:$AE$600,5,FALSE),0)","v":0},{"$f":"IFERROR(VLOOKUP(RL21,MATCHSELEVES!$Y$14:$AF$600,8,FALSE),0)","v":0},{"$f":"IFERROR(VLOOKUP(RL21,MATCHSELEVES!$Y$14:$AG$600,9,FALSE),0)","v":0},"Jean Alexandrep_38",{"$f":"IFERROR(VLOOKUP(RR21,MATCHSELEVES!$Y$14:$AE$600,3,FALSE),0)","v":0},{"$f":"IFERROR(VLOOKUP(RR21,MATCHSELEVES!$Y$14:$AE$600,4,FALSE),0)","v":0},{"$f":"IFERROR(VLOOKUP(RR21,MATCHSELEVES!$Y$14:$AE$600,5,FALSE),0)","v":0},{"$f":"IFERROR(VLOOKUP(RR21,MATCHSELEVES!$Y$14:$AF$600,8,FALSE),0)","v":0},{"$f":"IFERROR(VLOOKUP(RR21,MATCHSELEVES!$Y$14:$AG$600,9,FALSE),0)","v":0},"Jean Alexandrep_39",{"$f":"IFERROR(VLOOKUP(RX21,MATCHSELEVES!$Y$14:$AE$600,3,FALSE),0)","v":0},{"$f":"IFERROR(VLOOKUP(RX21,MATCHSELEVES!$Y$14:$AE$600,4,FALSE),0)","v":0},{"$f":"IFERROR(VLOOKUP(RX21,MATCHSELEVES!$Y$14:$AE$600,5,FALSE),0)","v":0},{"$f":"IFERROR(VLOOKUP(RX21,MATCHSELEVES!$Y$14:$AF$600,8,FALSE),0)","v":0},{"$f":"IFERROR(VLOOKUP(RX21,MATCHSELEVES!$Y$14:$AG$600,9,FALSE),0)","v":0},"Jean Alexandrep_40",{"$f":"IFERROR(VLOOKUP(SD21,MATCHSELEVES!$Y$14:$AE$600,3,FALSE),0)","v":0},{"$f":"IFERROR(VLOOKUP(SD21,MATCHSELEVES!$Y$14:$AE$600,4,FALSE),0)","v":0},{"$f":"IFERROR(VLOOKUP(SD21,MATCHSELEVES!$Y$14:$AE$600,5,FALSE),0)","v":0},{"$f":"IFERROR(VLOOKUP(SD21,MATCHSELEVES!$Y$14:$AF$600,8,FALSE),0)","v":0},{"$f":"IFERROR(VLOOKUP(SD21,MATCHSELEVES!$Y$14:$AG$600,9,FALSE),0)","v":0}]
[19,null,{"$f":"MD1POINT!C22","v":"John"},{"$f":"MD1POINT!D22","v":1},{"$f":"COUNTIF(MATCHSELEVES!$Z$14:$Z$600,C22)+COUNTIF(MATCHSELEVES!$Z$14:$Z$600,$C22&\"p\")","v":0},1,{"$f":"COUNTIF(MATCHSELEVES!$F$14:$H$249,C22)","v":0},1,0,1,0,1,0,1,{"$f":"Y22+AE22+AK22+AQ22+AW22+BC22+BI22+BO22+BU22+CA22+CG22+CM22+CS22+CY22+DE22+DK22+DQ22+DW22+EC22+EI22+EO22+EU22+FA22+FG22+FM22+FS22+FY22+GE22+GK22+GQ22+GW22+4+HI22+HO22+HU22+IA22+HC22+IG22+IM22+IY22+IS22+JH22+JN22+JZ22+JT22+KF22+KR22+KX22+LJ22+LP22+LV22+LD22+MB22+MH22+MN22+MZ22+MT22+NF22+NL22+NR22+NX22+OD22+OJ22+OP22+OV22+PB22+PH22+PT22+PN22+PZ22+QF22+QL22+QR22+RD22+QX22+RJ22+RP22+RV22+SB22+SH22+KL22+Tableau10[[#This Row],[Nombre de matchs joués]]*2","v":4},1,{"$f":"(Tableau10[[#This Row],[CLASSEMENT1]]+Tableau10[[#This Row],[CLASSEMENT2]]+Tableau10[[#This Row],[CLASSEMENT3]]+Tableau10[[#This Row],[CLASSEMENT4]]+Tableau10[[#This Row],[CLASSEMENT5]]+Tableau10[[#This Row],[CLASSEMENT6]])/6","v":1},{"$f":"RANK(Tableau10[[#This Row],[MOYENNE CLASSEMENTS]],Tableau10[MOYENNE CLASSEMENTS],1)","v":1},null,{"$f":"Tableau10[[#This Row],[CLASSEMENT1]]","v":1},"John_1",{"$f":"IFERROR(VLOOKUP(U22,MATCHSELEVES!$Y$14:$AE$600,3,FALSE),0)","v":0},{"$f":"IFERROR(VLOOKUP(U22,MATCHSELEVES!$Y$14:$AE$600,4,FALSE),0)","v":0},{"$f":"IFERROR(VLOOKUP(U22,MATCHSELEVES!$Y$14:$AE$600,5,FALSE),0)","v":0},{"$f":"IFERROR(VLOOKUP(U22,MATCHSELEVES!$Y$14:$AF$600,8,FALSE),0)","v":0},{"$f":"IFERROR(VLOOKUP(U22,MATCHSELEVES!$Y$14:$AG$600,9,FALSE),0)","v":0},"John_2",{"$f":"IFERROR(VLOOKUP(AA22,MATCHSELEVES!$Y$14:$AE$600,3,FALSE),0)","v":0},{"$f":"IFERROR(VLOOKUP(AA22,MATCHSELEVES!$Y$14:$AE$600,4,FALSE),0)","v":0},{"$f":"IFERROR(VLOOKUP(AA22,MATCHSELEVES!$Y$14:$AE$600,5,FALSE),0)","v":0},{"$f":"IFERROR(VLOOKUP(AA22,MATCHSELEVES!$Y$14:$AF$600,8,FALSE),0)","v":0},{"$f":"IFERROR(VLOOKUP(AA22,MATCHSELEVES!$Y$14:$AG$600,9,FALSE),0)","v":0},"John_3",{"$f":"IFERROR(VLOOKUP(AG22,MATCHSELEVES!$Y$14:$AE$600,3,FALSE),0)","v":0},{"$f":"IFERROR(VLOOKUP(AG22,MATCHSELEVES!$Y$14:$AE$600,4,FALSE),0)","v":0},{"$f":"IFERROR(VLOOKUP(AG22,MATCHSELEVES!$Y$14:$AE$600,5,FALSE),0)","v":0},{"$f":"IFERROR(VLOOKUP(AG22,MATCHSELEVES!$Y$14:$AF$600,8,FALSE),0)","v":0},{"$f":"IFERROR(VLOOKUP(AG22,MATCHSELEVES!$Y$14:$AG$600,9,FALSE),0)","v":0},"John_4",{"$f":"IFERROR(VLOOKUP(AM22,MATCHSELEVES!$Y$14:$AE$600,3,FALSE),0)","v":0},{"$f":"IFERROR(VLOOKUP(AM22,MATCHSELEVES!$Y$14:$AE$600,4,FALSE),0)","v":0},{"$f":"IFERROR(VLOOKUP(AM22,MATCHSELEVES!$Y$14:$AE$600,5,FALSE),0)","v":0},{"$f":"IFERROR(VLOOKUP(AM22,MATCHSELEVES!$Y$14:$AF$600,8,FALSE),0)","v":0},{"$f":"IFERROR(VLOOKUP(AM22,MATCHSELEVES!$Y$14:$AG$600,9,FALSE),0)","v":0},"John_5",{"$f":"IFERROR(VLOOKUP(AS22,MATCHSELEVES!$Y$14:$AE$600,3,FALSE),0)","v":0},{"$f":"IFERROR(VLOOKUP(AS22,MATCHSELEVES!$Y$14:$AE$600,4,FALSE),0)","v":0},{"$f":"IFERROR(VLOOKUP(AS22,MATCHSELEVES!$Y$14:$AE$600,5,FALSE),0)","v":0},{"$f":"IFERROR(VLOOKUP(AS22,MATCHSELEVES!$Y$14:$AF$600,8,FALSE),0)","v":0},{"$f":"IFERROR(VLOOKUP(AS22,MATCHSELEVES!$Y$14:$AG$600,9,FALSE),0)","v":0},"John_6",{"$f":"IFERROR(VLOOKUP(AY22,MATCHSELEVES!$Y$14:$AE$600,3,FALSE),0)","v":0},{"$f":"IFERROR(VLOOKUP(AY22,MATCHSELEVES!$Y$14:$AE$600,4,FALSE),0)","v":0},{"$f":"IFERROR(VLOOKUP(AY22,MATCHSELEVES!$Y$14:$AE$600,5,FALSE),0)","v":0},{"$f":"IFERROR(VLOOKUP(AY22,MATCHSELEVES!$Y$14:$AF$600,8,FALSE),0)","v":0},{"$f":"IFERROR(VLOOKUP(AY22,MATCHSELEVES!$Y$14:$AG$600,9,FALSE),0)","v":0},"John_7",{"$f":"IFERROR(VLOOKUP(BE22,MATCHSELEVES!$Y$14:$AE$600,3,FALSE),0)","v":0},{"$f":"IFERROR(VLOOKUP(BE22,MATCHSELEVES!$Y$14:$AE$600,4,FALSE),0)","v":0},{"$f":"IFERROR(VLOOKUP(BE22,MATCHSELEVES!$Y$14:$AE$600,5,FALSE),0)","v":0},{"$f":"IFERROR(VLOOKUP(BE22,MATCHSELEVES!$Y$14:$AF$600,8,FALSE),0)","v":0},{"$f":"IFERROR(VLOOKUP(BE22,MATCHSELEVES!$Y$14:$AG$600,9,FALSE),0)","v":0},"John_8",{"$f":"IFERROR(VLOOKUP(BK22,MATCHSELEVES!$Y$14:$AE$600,3,FALSE),0)","v":0},{"$f":"IFERROR(VLOOKUP(BK22,MATCHSELEVES!$Y$14:$AE$600,4,FALSE),0)","v":0},{"$f":"IFERROR(VLOOKUP(BK22,MATCHSELEVES!$Y$14:$AE$600,5,FALSE),0)","v":0},{"$f":"IFERROR(VLOOKUP(BK22,MATCHSELEVES!$Y$14:$AF$600,8,FALSE),0)","v":0},{"$f":"IFERROR(VLOOKUP(BK22,MATCHSELEVES!$Y$14:$AG$600,9,FALSE),0)","v":0},"John_9",{"$f":"IFERROR(VLOOKUP(BQ22,MATCHSELEVES!$Y$14:$AE$600,3,FALSE),0)","v":0},{"$f":"IFERROR(VLOOKUP(BQ22,MATCHSELEVES!$Y$14:$AE$600,4,FALSE),0)","v":0},{"$f":"IFERROR(VLOOKUP(BQ22,MATCHSELEVES!$Y$14:$AE$600,5,FALSE),0)","v":0},{"$f":"IFERROR(VLOOKUP(BQ22,MATCHSELEVES!$Y$14:$AF$600,8,FALSE),0)","v":0},{"$f":"IFERROR(VLOOKUP(BQ22,MATCHSELEVES!$Y$14:$AG$600,9,FALSE),0)","v":0},"John_10",{"$f":"IFERROR(VLOOKUP(BW22,MATCHSELEVES!$Y$14:$AE$600,3,FALSE),0)","v":0},{"$f":"IFERROR(VLOOKUP(BW22,MATCHSELEVES!$Y$14:$AE$600,4,FALSE),0)","v":0},{"$f":"IFERROR(VLOOKUP(BW22,MATCHSELEVES!$Y$14:$AE$600,5,FALSE),0)","v":0},{"$f":"IFERROR(VLOOKUP(BW22,MATCHSELEVES!$Y$14:$AF$600,8,FALSE),0)","v":0},{"$f":"IFERROR(VLOOKUP(BW22,MATCHSELEVES!$Y$14:$AG$600,9,FALSE),0)","v":0},"John_11",{"$f":"IFERROR(VLOOKUP(CC22,MATCHSELEVES!$Y$14:$AE$600,3,FALSE),0)","v":0},{"$f":"IFERROR(VLOOKUP(CC22,MATCHSELEVES!$Y$14:$AE$600,4,FALSE),0)","v":0},{"$f":"IFERROR(VLOOKUP(CC22,MATCHSELEVES!$Y$14:$AE$600,5,FALSE),0)","v":0},{"$f":"IFERROR(VLOOKUP(CC22,MATCHSELEVES!$Y$14:$AF$600,8,FALSE),0)","v":0},{"$f":"IFERROR(VLOOKUP(CC22,MATCHSELEVES!$Y$14:$AG$600,9,FALSE),0)","v":0},"John_12",{"$f":"IFERROR(VLOOKUP(CI22,MATCHSELEVES!$Y$14:$AE$600,3,FALSE),0)","v":0},{"$f":"IFERROR(VLOOKUP(CI22,MATCHSELEVES!$Y$14:$AE$600,4,FALSE),0)","v":0},{"$f":"IFERROR(VLOOKUP(CI22,MATCHSELEVES!$Y$14:$AE$600,5,FALSE),0)","v":0},{"$f":"IFERROR(VLOOKUP(CI22,MATCHSELEVES!$Y$14:$AF$600,8,FALSE),0)","v":0},{"$f":"IFERROR(VLOOKUP(CI22,MATCHSELEVES!$Y$14:$AG$600,9,FALSE),0)","v":0},"John_13",{"$f":"IFERROR(VLOOKUP(CO22,MATCHSELEVES!$Y$14:$AE$600,3,FALSE),0)","v":0},{"$f":"IFERROR(VLOOKUP(CO22,MATCHSELEVES!$Y$14:$AE$600,4,FALSE),0)","v":0},{"$f":"IFERROR(VLOOKUP(CO22,MATCHSELEVES!$Y$14:$AE$600,5,FALSE),0)","v":0},{"$f":"IFERROR(VLOOKUP(CO22,MATCHSELEVES!$Y$14:$AF$600,8,FALSE),0)","v":0},{"$f":"IFERROR(VLOOKUP(CO22,MATCHSELEVES!$Y$14:$AG$600,9,FALSE),0)","v":0},"John_14",{"$f":"IFERROR(VLOOKUP(CU22,MATCHSELEVES!$Y$14:$AE$600,3,FALSE),0)","v":0},{"$f":"IFERROR(VLOOKUP(CU22,MATCHSELEVES!$Y$14:$AE$600,4,FALSE),0)","v":0},{"$f":"IFERROR(VLOOKUP(CU22,MATCHSELEVES!$Y$14:$AE$600,5,FALSE),0)","v":0},{"$f":"IFERROR(VLOOKUP(CU22,MATCHSELEVES!$Y$14:$AF$600,8,FALSE),0)","v":0},{"$f":"IFERROR(VLOOKUP(CU22,MATCHSELEVES!$Y$14:$AG$600,9,FALSE),0)","v":0},"John_15",{"$f":"IFERROR(VLOOKUP(DA22,MATCHSELEVES!$Y$14:$AE$600,3,FALSE),0)","v":0},{"$f":"IFERROR(VLOOKUP(DA22,MATCHSELEVES!$Y$14:$AE$600,4,FALSE),0)","v":0},{"$f":"IFERROR(VLOOKUP(DA22,MATCHSELEVES!$Y$14:$AE$600,5,FALSE),0)","v":0},{"$f":"IFERROR(VLOOKUP(DA22,MATCHSELEVES!$Y$14:$AF$600,8,FALSE),0)","v":0},{"$f":"IFERROR(VLOOKUP(DA22,MATCHSELEVES!$Y$14:$AG$600,9,FALSE),0)","v":0},"John_16",{"$f":"IFERROR(VLOOKUP(DG22,MATCHSELEVES!$Y$14:$AE$600,3,FALSE),0)","v":0},{"$f":"IFERROR(VLOOKUP(DG22,MATCHSELEVES!$Y$14:$AE$600,4,FALSE),0)","v":0},{"$f":"IFERROR(VLOOKUP(DG22,MATCHSELEVES!$Y$14:$AE$600,5,FALSE),0)","v":0},{"$f":"IFERROR(VLOOKUP(DG22,MATCHSELEVES!$Y$14:$AF$600,8,FALSE),0)","v":0},{"$f":"IFERROR(VLOOKUP(DG22,MATCHSELEVES!$Y$14:$AG$600,9,FALSE),0)","v":0},"John_17",{"$f":"IFERROR(VLOOKUP(DM22,MATCHSELEVES!$Y$14:$AE$600,3,FALSE),0)","v":0},{"$f":"IFERROR(VLOOKUP(DM22,MATCHSELEVES!$Y$14:$AE$600,4,FALSE),0)","v":0},{"$f":"IFERROR(VLOOKUP(DM22,MATCHSELEVES!$Y$14:$AE$600,5,FALSE),0)","v":0},{"$f":"IFERROR(VLOOKUP(DM22,MATCHSELEVES!$Y$14:$AF$600,8,FALSE),0)","v":0},{"$f":"IFERROR(VLOOKUP(DM22,MATCHSELEVES!$Y$14:$AG$600,9,FALSE),0)","v":0},"John_18",{"$f":"IFERROR(VLOOKUP(DS22,MATCHSELEVES!$Y$14:$AE$600,3,FALSE),0)","v":0},{"$f":"IFERROR(VLOOKUP(DS22,MATCHSELEVES!$Y$14:$AE$600,4,FALSE),0)","v":0},{"$f":"IFERROR(VLOOKUP(DS22,MATCHSELEVES!$Y$14:$AE$600,5,FALSE),0)","v":0},{"$f":"IFERROR(VLOOKUP(DS22,MATCHSELEVES!$Y$14:$AF$600,8,FALSE),0)","v":0},{"$f":"IFERROR(VLOOKUP(DS22,MATCHSELEVES!$Y$14:$AG$600,9,FALSE),0)","v":0},"John_19",{"$f":"IFERROR(VLOOKUP(DY22,MATCHSELEVES!$Y$14:$AE$600,3,FALSE),0)","v":0},{"$f":"IFERROR(VLOOKUP(DY22,MATCHSELEVES!$Y$14:$AE$600,4,FALSE),0)","v":0},{"$f":"IFERROR(VLOOKUP(DY22,MATCHSELEVES!$Y$14:$AE$600,5,FALSE),0)","v":0},{"$f":"IFERROR(VLOOKUP(DY22,MATCHSELEVES!$Y$14:$AF$600,8,FALSE),0)","v":0},{"$f":"IFERROR(VLOOKUP(DY22,MATCHSELEVES!$Y$14:$AG$600,9,FALSE),0)","v":0},"John_20",{"$f":"IFERROR(VLOOKUP(EE22,MATCHSELEVES!$Y$14:$AE$600,3,FALSE),0)","v":0},{"$f":"IFERROR(VLOOKUP(EE22,MATCHSELEVES!$Y$14:$AE$600,4,FALSE),0)","v":0},{"$f":"IFERROR(VLOOKUP(EE22,MATCHSELEVES!$Y$14:$AE$600,5,FALSE),0)","v":0},{"$f":"IFERROR(VLOOKUP(EE22,MATCHSELEVES!$Y$14:$AF$600,8,FALSE),0)","v":0},{"$f":"IFERROR(VLOOKUP(EE22,MATCHSELEVES!$Y$14:$AG$600,9,FALSE),0)","v":0},"John_21",{"$f":"IFERROR(VLOOKUP(EK22,MATCHSELEVES!$Y$14:$AE$600,3,FALSE),0)","v":0},{"$f":"IFERROR(VLOOKUP(EK22,MATCHSELEVES!$Y$14:$AE$600,4,FALSE),0)","v":0},{"$f":"IFERROR(VLOOKUP(EK22,MATCHSELEVES!$Y$14:$AE$600,5,FALSE),0)","v":0},{"$f":"IFERROR(VLOOKUP(EK22,MATCHSELEVES!$Y$14:$AF$600,8,FALSE),0)","v":0},{"$f":"IFERROR(VLOOKUP(EK22,MATCHSELEVES!$Y$14:$AG$600,9,FALSE),0)","v":0},"John_22",{"$f":"IFERROR(VLOOKUP(EQ22,MATCHSELEVES!$Y$14:$AE$600,3,FALSE),0)","v":0},{"$f":"IFERROR(VLOOKUP(EQ22,MATCHSELEVES!$Y$14:$AE$600,4,FALSE),0)","v":0},{"$f":"IFERROR(VLOOKUP(EQ22,MATCHSELEVES!$Y$14:$AE$600,5,FALSE),0)","v":0},{"$f":"IFERROR(VLOOKUP(EQ22,MATCHSELEVES!$Y$14:$AF$600,8,FALSE),0)","v":0},{"$f":"IFERROR(VLOOKUP(EQ22,MATCHSELEVES!$Y$14:$AG$600,9,FALSE),0)","v":0},"John_23",{"$f":"IFERROR(VLOOKUP(EW22,MATCHSELEVES!$Y$14:$AE$600,3,FALSE),0)","v":0},{"$f":"IFERROR(VLOOKUP(EW22,MATCHSELEVES!$Y$14:$AE$600,4,FALSE),0)","v":0},{"$f":"IFERROR(VLOOKUP(EW22,MATCHSELEVES!$Y$14:$AE$600,5,FALSE),0)","v":0},{"$f":"IFERROR(VLOOKUP(EW22,MATCHSELEVES!$Y$14:$AF$600,8,FALSE),0)","v":0},{"$f":"IFERROR(VLOOKUP(EW22,MATCHSELEVES!$Y$14:$AG$600,9,FALSE),0)","v":0},"John_24",{"$f":"IFERROR(VLOOKUP(FC22,MATCHSELEVES!$Y$14:$AE$600,3,FALSE),0)","v":0},{"$f":"IFERROR(VLOOKUP(FC22,MATCHSELEVES!$Y$14:$AE$600,4,FALSE),0)","v":0},{"$f":"IFERROR(VLOOKUP(FC22,MATCHSELEVES!$Y$14:$AE$600,5,FALSE),0)","v":0},{"$f":"IFERROR(VLOOKUP(FC22,MATCHSELEVES!$Y$14:$AF$600,8,FALSE),0)","v":0},{"$f":"IFERROR(VLOOKUP(FC22,MATCHSELEVES!$Y$14:$AG$600,9,FALSE),0)","v":0},"John_25",{"$f":"IFERROR(VLOOKUP(FI22,MATCHSELEVES!$Y$14:$AE$600,3,FALSE),0)","v":0},{"$f":"IFERROR(VLOOKUP(FI22,MATCHSELEVES!$Y$14:$AE$600,4,FALSE),0)","v":0},{"$f":"IFERROR(VLOOKUP(FI22,MATCHSELEVES!$Y$14:$AE$600,5,FALSE),0)","v":0},{"$f":"IFERROR(VLOOKUP(FI22,MATCHSELEVES!$Y$14:$AF$600,8,FALSE),0)","v":0},{"$f":"IFERROR(VLOOKUP(FI22,MATCHSELEVES!$Y$14:$AG$600,9,FALSE),0)","v":0},"John_26",{"$f":"IFERROR(VLOOKUP(FO22,MATCHSELEVES!$Y$14:$AE$600,3,FALSE),0)","v":0},{"$f":"IFERROR(VLOOKUP(FO22,MATCHSELEVES!$Y$14:$AE$600,4,FALSE),0)","v":0},{"$f":"IFERROR(VLOOKUP(FO22,MATCHSELEVES!$Y$14:$AE$600,5,FALSE),0)","v":0},{"$f":"IFERROR(VLOOKUP(FO22,MATCHSELEVES!$Y$14:$AF$600,8,FALSE),0)","v":0},{"$f":"IFERROR(VLOOKUP(FO22,MATCHSELEVES!$Y$14:$AG$600,9,FALSE),0)","v":0},"John_27",{"$f":"IFERROR(VLOOKUP(FU22,MATCHSELEVES!$Y$14:$AE$600,3,FALSE),0)","v":0},{"$f":"IFERROR(VLOOKUP(FU22,MATCHSELEVES!$Y$14:$AE$600,4,FALSE),0)","v":0},{"$f":"IFERROR(VLOOKUP(FU22,MATCHSELEVES!$Y$14:$AE$600,5,FALSE),0)","v":0},{"$f":"IFERROR(VLOOKUP(FU22,MATCHSELEVES!$Y$14:$AF$600,8,FALSE),0)","v":0},{"$f":"IFERROR(VLOOKUP(FU22,MATCHSELEVES!$Y$14:$AG$600,9,FALSE),0)","v":0},"John_28",{"$f":"IFERROR(VLOOKUP(GA22,MATCHSELEVES!$Y$14:$AE$600,3,FALSE),0)","v":0},{"$f":"IFERROR(VLOOKUP(GA22,MATCHSELEVES!$Y$14:$AE$600,4,FALSE),0)","v":0},{"$f":"IFERROR(VLOOKUP(GA22,MATCHSELEVES!$Y$14:$AE$600,5,FALSE),0)","v":0},{"$f":"IFERROR(VLOOKUP(GA22,MATCHSELEVES!$Y$14:$AF$600,8,FALSE),0)","v":0},{"$f":"IFERROR(VLOOKUP(GA22,MATCHSELEVES!$Y$14:$AG$600,9,FALSE),0)","v":0},"John_29",{"$f":"IFERROR(VLOOKUP(GG22,MATCHSELEVES!$Y$14:$AE$600,3,FALSE),0)","v":0},{"$f":"IFERROR(VLOOKUP(GG22,MATCHSELEVES!$Y$14:$AE$600,4,FALSE),0)","v":0},{"$f":"IFERROR(VLOOKUP(GG22,MATCHSELEVES!$Y$14:$AE$600,5,FALSE),0)","v":0},{"$f":"IFERROR(VLOOKUP(GG22,MATCHSELEVES!$Y$14:$AF$600,8,FALSE),0)","v":0},{"$f":"IFERROR(VLOOKUP(GG22,MATCHSELEVES!$Y$14:$AG$600,9,FALSE),0)","v":0},"John_30",{"$f":"IFERROR(VLOOKUP(GM22,MATCHSELEVES!$Y$14:$AE$600,3,FALSE),0)","v":0},{"$f":"IFERROR(VLOOKUP(GM22,MATCHSELEVES!$Y$14:$AE$600,4,FALSE),0)","v":0},{"$f":"IFERROR(VLOOKUP(GM22,MATCHSELEVES!$Y$14:$AE$600,5,FALSE),0)","v":0},{"$f":"IFERROR(VLOOKUP(GM22,MATCHSELEVES!$Y$14:$AF$600,8,FALSE),0)","v":0},{"$f":"IFERROR(VLOOKUP(GM22,MATCHSELEVES!$Y$14:$AG$600,9,FALSE),0)","v":0},"John_31",{"$f":"IFERROR(VLOOKUP(GS22,MATCHSELEVES!$Y$14:$AE$600,3,FALSE),0)","v":0},{"$f":"IFERROR(VLOOKUP(GS22,MATCHSELEVES!$Y$14:$AE$600,4,FALSE),0)","v":0},{"$f":"IFERROR(VLOOKUP(GS22,MATCHSELEVES!$Y$14:$AE$600,5,FALSE),0)","v":0},{"$f":"IFERROR(VLOOKUP(GS22,MATCHSELEVES!$Y$14:$AF$600,8,FALSE),0)","v":0},{"$f":"IFERROR(VLOOKUP(GS22,MATCHSELEVES!$Y$14:$AG$600,9,FALSE),0)","v":0},"John_32",{"$f":"IFERROR(VLOOKUP(GY22,MATCHSELEVES!$Y$14:$AE$600,3,FALSE),0)","v":0},{"$f":"IFERROR(VLOOKUP(GY22,MATCHSELEVES!$Y$14:$AE$600,4,FALSE),0)","v":0},{"$f":"IFERROR(VLOOKUP(GY22,MATCHSELEVES!$Y$14:$AE$600,5,FALSE),0)","v":0},{"$f":"IFERROR(VLOOKUP(GY22,MATCHSELEVES!$Y$14:$AF$600,8,FALSE),0)","v":0},{"$f":"IFERROR(VLOOKUP(GY22,MATCHSELEVES!$Y$14:$AG$600,9,FALSE),0)","v":0},"John_33",{"$f":"IFERROR(VLOOKUP(HE22,MATCHSELEVES!$Y$14:$AE$600,3,FALSE),0)","v":0},{"$f":"IFERROR(VLOOKUP(HE22,MATCHSELEVES!$Y$14:$AE$600,4,FALSE),0)","v":0},{"$f":"IFERROR(VLOOKUP(HE22,MATCHSELEVES!$Y$14:$AE$600,5,FALSE),0)","v":0},{"$f":"IFERROR(VLOOKUP(HE22,MATCHSELEVES!$Y$14:$AF$600,8,FALSE),0)","v":0},{"$f":"IFERROR(VLOOKUP(HE22,MATCHSELEVES!$Y$14:$AG$600,9,FALSE),0)","v":0},"John_34",{"$f":"IFERROR(VLOOKUP(HK22,MATCHSELEVES!$Y$14:$AE$600,3,FALSE),0)","v":0},{"$f":"IFERROR(VLOOKUP(HK22,MATCHSELEVES!$Y$14:$AE$600,4,FALSE),0)","v":0},{"$f":"IFERROR(VLOOKUP(HK22,MATCHSELEVES!$Y$14:$AE$600,5,FALSE),0)","v":0},{"$f":"IFERROR(VLOOKUP(HK22,MATCHSELEVES!$Y$14:$AF$600,8,FALSE),0)","v":0},{"$f":"IFERROR(VLOOKUP(HK22,MATCHSELEVES!$Y$14:$AG$600,9,FALSE),0)","v":0},"John_35",{"$f":"IFERROR(VLOOKUP(HQ22,MATCHSELEVES!$Y$14:$AE$600,3,FALSE),0)","v":0},{"$f":"IFERROR(VLOOKUP(HQ22,MATCHSELEVES!$Y$14:$AE$600,4,FALSE),0)","v":0},{"$f":"IFERROR(VLOOKUP(HQ22,MATCHSELEVES!$Y$14:$AE$600,5,FALSE),0)","v":0},{"$f":"IFERROR(VLOOKUP(HQ22,MATCHSELEVES!$Y$14:$AF$600,8,FALSE),0)","v":0},{"$f":"IFERROR(VLOOKUP(HQ22,MATCHSELEVES!$Y$14:$AG$600,9,FALSE),0)","v":0},"John_36",{"$f":"IFERROR(VLOOKUP(HW22,MATCHSELEVES!$Y$14:$AE$600,3,FALSE),0)","v":0},{"$f":"IFERROR(VLOOKUP(HW22,MATCHSELEVES!$Y$14:$AE$600,4,FALSE),0)","v":0},{"$f":"IFERROR(VLOOKUP(HW22,MATCHSELEVES!$Y$14:$AE$600,5,FALSE),0)","v":0},{"$f":"IFERROR(VLOOKUP(HW22,MATCHSELEVES!$Y$14:$AF$600,8,FALSE),0)","v":0},{"$f":"IFERROR(VLOOKUP(HW22,MATCHSELEVES!$Y$14:$AG$600,9,FALSE),0)","v":0},"John_37",{"$f":"IFERROR(VLOOKUP(IC22,MATCHSELEVES!$Y$14:$AE$600,3,FALSE),0)","v":0},{"$f":"IFERROR(VLOOKUP(IC22,MATCHSELEVES!$Y$14:$AE$600,4,FALSE),0)","v":0},{"$f":"IFERROR(VLOOKUP(IC22,MATCHSELEVES!$Y$14:$AE$600,5,FALSE),0)","v":0},{"$f":"IFERROR(VLOOKUP(IC22,MATCHSELEVES!$Y$14:$AF$600,8,FALSE),0)","v":0},{"$f":"IFERROR(VLOOKUP(IC22,MATCHSELEVES!$Y$14:$AG$600,9,FALSE),0)","v":0},"John_38",{"$f":"IFERROR(VLOOKUP(II22,MATCHSELEVES!$Y$14:$AE$600,3,FALSE),0)","v":0},{"$f":"IFERROR(VLOOKUP(II22,MATCHSELEVES!$Y$14:$AE$600,4,FALSE),0)","v":0},{"$f":"IFERROR(VLOOKUP(II22,MATCHSELEVES!$Y$14:$AE$600,5,FALSE),0)","v":0},{"$f":"IFERROR(VLOOKUP(II22,MATCHSELEVES!$Y$14:$AF$600,8,FALSE),0)","v":0},{"$f":"IFERROR(VLOOKUP(II22,MATCHSELEVES!$Y$14:$AG$600,9,FALSE),0)","v":0},"John_39",{"$f":"IFERROR(VLOOKUP(IO22,MATCHSELEVES!$Y$14:$AE$600,3,FALSE),0)","v":0},{"$f":"IFERROR(VLOOKUP(IO22,MATCHSELEVES!$Y$14:$AE$600,4,FALSE),0)","v":0},{"$f":"IFERROR(VLOOKUP(IO22,MATCHSELEVES!$Y$14:$AE$600,5,FALSE),0)","v":0},{"$f":"IFERROR(VLOOKUP(IO22,MATCHSELEVES!$Y$14:$AF$600,8,FALSE),0)","v":0},{"$f":"IFERROR(VLOOKUP(IO22,MATCHSELEVES!$Y$14:$AG$600,9,FALSE),0)","v":0},"John_40",{"$f":"IFERROR(VLOOKUP(IU22,MATCHSELEVES!$Y$14:$AE$600,3,FALSE),0)","v":0},{"$f":"IFERROR(VLOOKUP(IU22,MATCHSELEVES!$Y$14:$AE$600,4,FALSE),0)","v":0},{"$f":"IFERROR(VLOOKUP(IU22,MATCHSELEVES!$Y$14:$AE$600,5,FALSE),0)","v":0},{"$f":"IFERROR(VLOOKUP(IU22,MATCHSELEVES!$Y$14:$AF$600,8,FALSE),0)","v":0},{"$f":"IFERROR(VLOOKUP(IU22,MATCHSELEVES!$Y$14:$AG$600,9,FALSE),0)","v":0},{"$f":"Tableau10[[#This Row],[CLASSE]]","v":"John"},1,{"$f":"MD1POINT!D22","v":1},"Johnp_1",{"$f":"IFERROR(VLOOKUP(JD22,MATCHSELEVES!$Y$14:$AE$600,3,FALSE),0)","v":0},{"$f":"IFERROR(VLOOKUP(JD22,MATCHSELEVES!$Y$14:$AE$600,4,FALSE),0)","v":0},{"$f":"IFERROR(VLOOKUP(JD22,MATCHSELEVES!$Y$14:$AE$600,5,FALSE),0)","v":0},{"$f":"IFERROR(VLOOKUP(JD22,MATCHSELEVES!$Y$14:$AF$600,8,FALSE),0)","v":0},{"$f":"IFERROR(VLOOKUP(JD22,MATCHSELEVES!$Y$14:$AG$600,9,FALSE),0)","v":0},"Johnp_2",{"$f":"IFERROR(VLOOKUP(JJ22,MATCHSELEVES!$Y$14:$AE$600,3,FALSE),0)","v":0},{"$f":"IFERROR(VLOOKUP(JJ22,MATCHSELEVES!$Y$14:$AE$600,4,FALSE),0)","v":0},{"$f":"IFERROR(VLOOKUP(JJ22,MATCHSELEVES!$Y$14:$AE$600,5,FALSE),0)","v":0},{"$f":"IFERROR(VLOOKUP(JJ22,MATCHSELEVES!$Y$14:$AF$600,8,FALSE),0)","v":0},{"$f":"IFERROR(VLOOKUP(JJ22,MATCHSELEVES!$Y$14:$AG$600,9,FALSE),0)","v":0},"Johnp_3",{"$f":"IFERROR(VLOOKUP(JP22,MATCHSELEVES!$Y$14:$AE$600,3,FALSE),0)","v":0},{"$f":"IFERROR(VLOOKUP(JP22,MATCHSELEVES!$Y$14:$AE$600,4,FALSE),0)","v":0},{"$f":"IFERROR(VLOOKUP(JP22,MATCHSELEVES!$Y$14:$AE$600,5,FALSE),0)","v":0},{"$f":"IFERROR(VLOOKUP(JP22,MATCHSELEVES!$Y$14:$AF$600,8,FALSE),0)","v":0},{"$f":"IFERROR(VLOOKUP(JP22,MATCHSELEVES!$Y$14:$AG$600,9,FALSE),0)","v":0},"Johnp_4",{"$f":"IFERROR(VLOOKUP(JV22,MATCHSELEVES!$Y$14:$AE$600,3,FALSE),0)","v":0},{"$f":"IFERROR(VLOOKUP(JV22,MATCHSELEVES!$Y$14:$AE$600,4,FALSE),0)","v":0},{"$f":"IFERROR(VLOOKUP(JV22,MATCHSELEVES!$Y$14:$AE$600,5,FALSE),0)","v":0},{"$f":"IFERROR(VLOOKUP(JV22,MATCHSELEVES!$Y$14:$AF$600,8,FALSE),0)","v":0},{"$f":"IFERROR(VLOOKUP(JV22,MATCHSELEVES!$Y$14:$AG$600,9,FALSE),0)","v":0},"Johnp_5",{"$f":"IFERROR(VLOOKUP(KB22,MATCHSELEVES!$Y$14:$AE$600,3,FALSE),0)","v":0},{"$f":"IFERROR(VLOOKUP(KB22,MATCHSELEVES!$Y$14:$AE$600,4,FALSE),0)","v":0},{"$f":"IFERROR(VLOOKUP(KB22,MATCHSELEVES!$Y$14:$AE$600,5,FALSE),0)","v":0},{"$f":"IFERROR(VLOOKUP(KB22,MATCHSELEVES!$Y$14:$AF$600,8,FALSE),0)","v":0},{"$f":"IFERROR(VLOOKUP(KB22,MATCHSELEVES!$Y$14:$AG$600,9,FALSE),0)","v":0},"Johnp_6",{"$f":"IFERROR(VLOOKUP(KH22,MATCHSELEVES!$Y$14:$AE$600,3,FALSE),0)","v":0},{"$f":"IFERROR(VLOOKUP(KH22,MATCHSELEVES!$Y$14:$AE$600,4,FALSE),0)","v":0},{"$f":"IFERROR(VLOOKUP(KH22,MATCHSELEVES!$Y$14:$AE$600,5,FALSE),0)","v":0},{"$f":"IFERROR(VLOOKUP(KH22,MATCHSELEVES!$Y$14:$AF$600,8,FALSE),0)","v":0},{"$f":"IFERROR(VLOOKUP(KH22,MATCHSELEVES!$Y$14:$AG$600,9,FALSE),0)","v":0},"Johnp_7",{"$f":"IFERROR(VLOOKUP(KN22,MATCHSELEVES!$Y$14:$AE$600,3,FALSE),0)","v":0},{"$f":"IFERROR(VLOOKUP(KN22,MATCHSELEVES!$Y$14:$AE$600,4,FALSE),0)","v":0},{"$f":"IFERROR(VLOOKUP(KN22,MATCHSELEVES!$Y$14:$AE$600,5,FALSE),0)","v":0},{"$f":"IFERROR(VLOOKUP(KN22,MATCHSELEVES!$Y$14:$AF$600,8,FALSE),0)","v":0},{"$f":"IFERROR(VLOOKUP(KN22,MATCHSELEVES!$Y$14:$AG$600,9,FALSE),0)","v":0},"Johnp_8",{"$f":"IFERROR(VLOOKUP(KT22,MATCHSELEVES!$Y$14:$AE$600,3,FALSE),0)","v":0},{"$f":"IFERROR(VLOOKUP(KT22,MATCHSELEVES!$Y$14:$AE$600,4,FALSE),0)","v":0},{"$f":"IFERROR(VLOOKUP(KT22,MATCHSELEVES!$Y$14:$AE$600,5,FALSE),0)","v":0},{"$f":"IFERROR(VLOOKUP(KT22,MATCHSELEVES!$Y$14:$AF$600,8,FALSE),0)","v":0},{"$f":"IFERROR(VLOOKUP(KT22,MATCHSELEVES!$Y$14:$AG$600,9,FALSE),0)","v":0},"Johnp_9",{"$f":"IFERROR(VLOOKUP(KZ22,MATCHSELEVES!$Y$14:$AE$600,3,FALSE),0)","v":0},{"$f":"IFERROR(VLOOKUP(KZ22,MATCHSELEVES!$Y$14:$AE$600,4,FALSE),0)","v":0},{"$f":"IFERROR(VLOOKUP(KZ22,MATCHSELEVES!$Y$14:$AE$600,5,FALSE),0)","v":0},{"$f":"IFERROR(VLOOKUP(KZ22,MATCHSELEVES!$Y$14:$AF$600,8,FALSE),0)","v":0},{"$f":"IFERROR(VLOOKUP(KZ22,MATCHSELEVES!$Y$14:$AG$600,9,FALSE),0)","v":0},"Johnp_10",{"$f":"IFERROR(VLOOKUP(LF22,MATCHSELEVES!$Y$14:$AE$600,3,FALSE),0)","v":0},{"$f":"IFERROR(VLOOKUP(LF22,MATCHSELEVES!$Y$14:$AE$600,4,FALSE),0)","v":0},{"$f":"IFERROR(VLOOKUP(LF22,MATCHSELEVES!$Y$14:$AE$600,5,FALSE),0)","v":0},{"$f":"IFERROR(VLOOKUP(LF22,MATCHSELEVES!$Y$14:$AF$600,8,FALSE),0)","v":0},{"$f":"IFERROR(VLOOKUP(LF22,MATCHSELEVES!$Y$14:$AG$600,9,FALSE),0)","v":0},"Johnp_11",{"$f":"IFERROR(VLOOKUP(LL22,MATCHSELEVES!$Y$14:$AE$600,3,FALSE),0)","v":0},{"$f":"IFERROR(VLOOKUP(LL22,MATCHSELEVES!$Y$14:$AE$600,4,FALSE),0)","v":0},{"$f":"IFERROR(VLOOKUP(LL22,MATCHSELEVES!$Y$14:$AE$600,5,FALSE),0)","v":0},{"$f":"IFERROR(VLOOKUP(LL22,MATCHSELEVES!$Y$14:$AF$600,8,FALSE),0)","v":0},{"$f":"IFERROR(VLOOKUP(LL22,MATCHSELEVES!$Y$14:$AG$600,9,FALSE),0)","v":0},"Johnp_12",{"$f":"IFERROR(VLOOKUP(LR22,MATCHSELEVES!$Y$14:$AE$600,3,FALSE),0)","v":0},{"$f":"IFERROR(VLOOKUP(LR22,MATCHSELEVES!$Y$14:$AE$600,4,FALSE),0)","v":0},{"$f":"IFERROR(VLOOKUP(LR22,MATCHSELEVES!$Y$14:$AE$600,5,FALSE),0)","v":0},{"$f":"IFERROR(VLOOKUP(LR22,MATCHSELEVES!$Y$14:$AF$600,8,FALSE),0)","v":0},{"$f":"IFERROR(VLOOKUP(LR22,MATCHSELEVES!$Y$14:$AG$600,9,FALSE),0)","v":0},"Johnp_13",{"$f":"IFERROR(VLOOKUP(LX22,MATCHSELEVES!$Y$14:$AE$600,3,FALSE),0)","v":0},{"$f":"IFERROR(VLOOKUP(LX22,MATCHSELEVES!$Y$14:$AE$600,4,FALSE),0)","v":0},{"$f":"IFERROR(VLOOKUP(LX22,MATCHSELEVES!$Y$14:$AE$600,5,FALSE),0)","v":0},{"$f":"IFERROR(VLOOKUP(LX22,MATCHSELEVES!$Y$14:$AF$600,8,FALSE),0)","v":0},{"$f":"IFERROR(VLOOKUP(LX22,MATCHSELEVES!$Y$14:$AG$600,9,FALSE),0)","v":0},"Johnp_14",{"$f":"IFERROR(VLOOKUP(MD22,MATCHSELEVES!$Y$14:$AE$600,3,FALSE),0)","v":0},{"$f":"IFERROR(VLOOKUP(MD22,MATCHSELEVES!$Y$14:$AE$600,4,FALSE),0)","v":0},{"$f":"IFERROR(VLOOKUP(MD22,MATCHSELEVES!$Y$14:$AE$600,5,FALSE),0)","v":0},{"$f":"IFERROR(VLOOKUP(MD22,MATCHSELEVES!$Y$14:$AF$600,8,FALSE),0)","v":0},{"$f":"IFERROR(VLOOKUP(MD22,MATCHSELEVES!$Y$14:$AG$600,9,FALSE),0)","v":0},"Johnp_15",{"$f":"IFERROR(VLOOKUP(MJ22,MATCHSELEVES!$Y$14:$AE$600,3,FALSE),0)","v":0},{"$f":"IFERROR(VLOOKUP(MJ22,MATCHSELEVES!$Y$14:$AE$600,4,FALSE),0)","v":0},{"$f":"IFERROR(VLOOKUP(MJ22,MATCHSELEVES!$Y$14:$AE$600,5,FALSE),0)","v":0},{"$f":"IFERROR(VLOOKUP(MJ22,MATCHSELEVES!$Y$14:$AF$600,8,FALSE),0)","v":0},{"$f":"IFERROR(VLOOKUP(MJ22,MATCHSELEVES!$Y$14:$AG$600,9,FALSE),0)","v":0},"Johnp_16",{"$f":"IFERROR(VLOOKUP(MP22,MATCHSELEVES!$Y$14:$AE$600,3,FALSE),0)","v":0},{"$f":"IFERROR(VLOOKUP(MP22,MATCHSELEVES!$Y$14:$AE$600,4,FALSE),0)","v":0},{"$f":"IFERROR(VLOOKUP(MP22,MATCHSELEVES!$Y$14:$AE$600,5,FALSE),0)","v":0},{"$f":"IFERROR(VLOOKUP(MP22,MATCHSELEVES!$Y$14:$AF$600,8,FALSE),0)","v":0},{"$f":"IFERROR(VLOOKUP(MP22,MATCHSELEVES!$Y$14:$AG$600,9,FALSE),0)","v":0},"Johnp_17",{"$f":"IFERROR(VLOOKUP(MV22,MATCHSELEVES!$Y$14:$AE$600,3,FALSE),0)","v":0},{"$f":"IFERROR(VLOOKUP(MV22,MATCHSELEVES!$Y$14:$AE$600,4,FALSE),0)","v":0},{"$f":"IFERROR(VLOOKUP(MV22,MATCHSELEVES!$Y$14:$AE$600,5,FALSE),0)","v":0},{"$f":"IFERROR(VLOOKUP(MV22,MATCHSELEVES!$Y$14:$AF$600,8,FALSE),0)","v":0},{"$f":"IFERROR(VLOOKUP(MV22,MATCHSELEVES!$Y$14:$AG$600,9,FALSE),0)","v":0},"Johnp_18",{"$f":"IFERROR(VLOOKUP(NB22,MATCHSELEVES!$Y$14:$AE$600,3,FALSE),0)","v":0},{"$f":"IFERROR(VLOOKUP(NB22,MATCHSELEVES!$Y$14:$AE$600,4,FALSE),0)","v":0},{"$f":"IFERROR(VLOOKUP(NB22,MATCHSELEVES!$Y$14:$AE$600,5,FALSE),0)","v":0},{"$f":"IFERROR(VLOOKUP(NB22,MATCHSELEVES!$Y$14:$AF$600,8,FALSE),0)","v":0},{"$f":"IFERROR(VLOOKUP(NB22,MATCHSELEVES!$Y$14:$AG$600,9,FALSE),0)","v":0},"Johnp_19",{"$f":"IFERROR(VLOOKUP(NH22,MATCHSELEVES!$Y$14:$AE$600,3,FALSE),0)","v":0},{"$f":"IFERROR(VLOOKUP(NH22,MATCHSELEVES!$Y$14:$AE$600,4,FALSE),0)","v":0},{"$f":"IFERROR(VLOOKUP(NH22,MATCHSELEVES!$Y$14:$AE$600,5,FALSE),0)","v":0},{"$f":"IFERROR(VLOOKUP(NH22,MATCHSELEVES!$Y$14:$AF$600,8,FALSE),0)","v":0},{"$f":"IFERROR(VLOOKUP(NH22,MATCHSELEVES!$Y$14:$AG$600,9,FALSE),0)","v":0},"Johnp_20",{"$f":"IFERROR(VLOOKUP(NN22,MATCHSELEVES!$Y$14:$AE$600,3,FALSE),0)","v":0},{"$f":"IFERROR(VLOOKUP(NN22,MATCHSELEVES!$Y$14:$AE$600,4,FALSE),0)","v":0},{"$f":"IFERROR(VLOOKUP(NN22,MATCHSELEVES!$Y$14:$AE$600,5,FALSE),0)","v":0},{"$f":"IFERROR(VLOOKUP(NN22,MATCHSELEVES!$Y$14:$AF$600,8,FALSE),0)","v":0},{"$f":"IFERROR(VLOOKUP(NN22,MATCHSELEVES!$Y$14:$AG$600,9,FALSE),0)","v":0},"Johnp_21",{"$f":"IFERROR(VLOOKUP(NT22,MATCHSELEVES!$Y$14:$AE$600,3,FALSE),0)","v":0},{"$f":"IFERROR(VLOOKUP(NT22,MATCHSELEVES!$Y$14:$AE$600,4,FALSE),0)","v":0},{"$f":"IFERROR(VLOOKUP(NT22,MATCHSELEVES!$Y$14:$AE$600,5,FALSE),0)","v":0},{"$f":"IFERROR(VLOOKUP(NT22,MATCHSELEVES!$Y$14:$AF$600,8,FALSE),0)","v":0},{"$f":"IFERROR(VLOOKUP(NT22,MATCHSELEVES!$Y$14:$AG$600,9,FALSE),0)","v":0},"Johnp_22",{"$f":"IFERROR(VLOOKUP(NZ22,MATCHSELEVES!$Y$14:$AE$600,3,FALSE),0)","v":0},{"$f":"IFERROR(VLOOKUP(NZ22,MATCHSELEVES!$Y$14:$AE$600,4,FALSE),0)","v":0},{"$f":"IFERROR(VLOOKUP(NZ22,MATCHSELEVES!$Y$14:$AE$600,5,FALSE),0)","v":0},{"$f":"IFERROR(VLOOKUP(NZ22,MATCHSELEVES!$Y$14:$AF$600,8,FALSE),0)","v":0},{"$f":"IFERROR(VLOOKUP(NZ22,MATCHSELEVES!$Y$14:$AG$600,9,FALSE),0)","v":0},"Johnp_23",{"$f":"IFERROR(VLOOKUP(OF22,MATCHSELEVES!$Y$14:$AE$600,3,FALSE),0)","v":0},{"$f":"IFERROR(VLOOKUP(OF22,MATCHSELEVES!$Y$14:$AE$600,4,FALSE),0)","v":0},{"$f":"IFERROR(VLOOKUP(OF22,MATCHSELEVES!$Y$14:$AE$600,5,FALSE),0)","v":0},{"$f":"IFERROR(VLOOKUP(OF22,MATCHSELEVES!$Y$14:$AF$600,8,FALSE),0)","v":0},{"$f":"IFERROR(VLOOKUP(OF22,MATCHSELEVES!$Y$14:$AG$600,9,FALSE),0)","v":0},"Johnp_24",{"$f":"IFERROR(VLOOKUP(OL22,MATCHSELEVES!$Y$14:$AE$600,3,FALSE),0)","v":0},{"$f":"IFERROR(VLOOKUP(OL22,MATCHSELEVES!$Y$14:$AE$600,4,FALSE),0)","v":0},{"$f":"IFERROR(VLOOKUP(OL22,MATCHSELEVES!$Y$14:$AE$600,5,FALSE),0)","v":0},{"$f":"IFERROR(VLOOKUP(OL22,MATCHSELEVES!$Y$14:$AF$600,8,FALSE),0)","v":0},{"$f":"IFERROR(VLOOKUP(OL22,MATCHSELEVES!$Y$14:$AG$600,9,FALSE),0)","v":0},"Johnp_25",{"$f":"IFERROR(VLOOKUP(OR22,MATCHSELEVES!$Y$14:$AE$600,3,FALSE),0)","v":0},{"$f":"IFERROR(VLOOKUP(OR22,MATCHSELEVES!$Y$14:$AE$600,4,FALSE),0)","v":0},{"$f":"IFERROR(VLOOKUP(OR22,MATCHSELEVES!$Y$14:$AE$600,5,FALSE),0)","v":0},{"$f":"IFERROR(VLOOKUP(OR22,MATCHSELEVES!$Y$14:$AF$600,8,FALSE),0)","v":0},{"$f":"IFERROR(VLOOKUP(OR22,MATCHSELEVES!$Y$14:$AG$600,9,FALSE),0)","v":0},"Johnp_26",{"$f":"IFERROR(VLOOKUP(OX22,MATCHSELEVES!$Y$14:$AE$600,3,FALSE),0)","v":0},{"$f":"IFERROR(VLOOKUP(OX22,MATCHSELEVES!$Y$14:$AE$600,4,FALSE),0)","v":0},{"$f":"IFERROR(VLOOKUP(OX22,MATCHSELEVES!$Y$14:$AE$600,5,FALSE),0)","v":0},{"$f":"IFERROR(VLOOKUP(OX22,MATCHSELEVES!$Y$14:$AF$600,8,FALSE),0)","v":0},{"$f":"IFERROR(VLOOKUP(OX22,MATCHSELEVES!$Y$14:$AG$600,9,FALSE),0)","v":0},"Johnp_27",{"$f":"IFERROR(VLOOKUP(PD22,MATCHSELEVES!$Y$14:$AE$600,3,FALSE),0)","v":0},{"$f":"IFERROR(VLOOKUP(PD22,MATCHSELEVES!$Y$14:$AE$600,4,FALSE),0)","v":0},{"$f":"IFERROR(VLOOKUP(PD22,MATCHSELEVES!$Y$14:$AE$600,5,FALSE),0)","v":0},{"$f":"IFERROR(VLOOKUP(PD22,MATCHSELEVES!$Y$14:$AF$600,8,FALSE),0)","v":0},{"$f":"IFERROR(VLOOKUP(PD22,MATCHSELEVES!$Y$14:$AG$600,9,FALSE),0)","v":0},"Johnp_28",{"$f":"IFERROR(VLOOKUP(PJ22,MATCHSELEVES!$Y$14:$AE$600,3,FALSE),0)","v":0},{"$f":"IFERROR(VLOOKUP(PJ22,MATCHSELEVES!$Y$14:$AE$600,4,FALSE),0)","v":0},{"$f":"IFERROR(VLOOKUP(PJ22,MATCHSELEVES!$Y$14:$AE$600,5,FALSE),0)","v":0},{"$f":"IFERROR(VLOOKUP(PJ22,MATCHSELEVES!$Y$14:$AF$600,8,FALSE),0)","v":0},{"$f":"IFERROR(VLOOKUP(PJ22,MATCHSELEVES!$Y$14:$AG$600,9,FALSE),0)","v":0},"Johnp_29",{"$f":"IFERROR(VLOOKUP(PP22,MATCHSELEVES!$Y$14:$AE$600,3,FALSE),0)","v":0},{"$f":"IFERROR(VLOOKUP(PP22,MATCHSELEVES!$Y$14:$AE$600,4,FALSE),0)","v":0},{"$f":"IFERROR(VLOOKUP(PP22,MATCHSELEVES!$Y$14:$AE$600,5,FALSE),0)","v":0},{"$f":"IFERROR(VLOOKUP(PP22,MATCHSELEVES!$Y$14:$AF$600,8,FALSE),0)","v":0},{"$f":"IFERROR(VLOOKUP(PP22,MATCHSELEVES!$Y$14:$AG$600,9,FALSE),0)","v":0},"Johnp_30",{"$f":"IFERROR(VLOOKUP(PV22,MATCHSELEVES!$Y$14:$AE$600,3,FALSE),0)","v":0},{"$f":"IFERROR(VLOOKUP(PV22,MATCHSELEVES!$Y$14:$AE$600,4,FALSE),0)","v":0},{"$f":"IFERROR(VLOOKUP(PV22,MATCHSELEVES!$Y$14:$AE$600,5,FALSE),0)","v":0},{"$f":"IFERROR(VLOOKUP(PV22,MATCHSELEVES!$Y$14:$AF$600,8,FALSE),0)","v":0},{"$f":"IFERROR(VLOOKUP(PV22,MATCHSELEVES!$Y$14:$AG$600,9,FALSE),0)","v":0},"Johnp_31",{"$f":"IFERROR(VLOOKUP(QB22,MATCHSELEVES!$Y$14:$AE$600,3,FALSE),0)","v":0},{"$f":"IFERROR(VLOOKUP(QB22,MATCHSELEVES!$Y$14:$AE$600,4,FALSE),0)","v":0},{"$f":"IFERROR(VLOOKUP(QB22,MATCHSELEVES!$Y$14:$AE$600,5,FALSE),0)","v":0},{"$f":"IFERROR(VLOOKUP(QB22,MATCHSELEVES!$Y$14:$AF$600,8,FALSE),0)","v":0},{"$f":"IFERROR(VLOOKUP(QB22,MATCHSELEVES!$Y$14:$AG$600,9,FALSE),0)","v":0},"Johnp_32",{"$f":"IFERROR(VLOOKUP(QH22,MATCHSELEVES!$Y$14:$AE$600,3,FALSE),0)","v":0},{"$f":"IFERROR(VLOOKUP(QH22,MATCHSELEVES!$Y$14:$AE$600,4,FALSE),0)","v":0},{"$f":"IFERROR(VLOOKUP(QH22,MATCHSELEVES!$Y$14:$AE$600,5,FALSE),0)","v":0},{"$f":"IFERROR(VLOOKUP(QH22,MATCHSELEVES!$Y$14:$AF$600,8,FALSE),0)","v":0},{"$f":"IFERROR(VLOOKUP(QH22,MATCHSELEVES!$Y$14:$AG$600,9,FALSE),0)","v":0},"Johnp_33",{"$f":"IFERROR(VLOOKUP(QN22,MATCHSELEVES!$Y$14:$AE$600,3,FALSE),0)","v":0},{"$f":"IFERROR(VLOOKUP(QN22,MATCHSELEVES!$Y$14:$AE$600,4,FALSE),0)","v":0},{"$f":"IFERROR(VLOOKUP(QN22,MATCHSELEVES!$Y$14:$AE$600,5,FALSE),0)","v":0},{"$f":"IFERROR(VLOOKUP(QN22,MATCHSELEVES!$Y$14:$AF$600,8,FALSE),0)","v":0},{"$f":"IFERROR(VLOOKUP(QN22,MATCHSELEVES!$Y$14:$AG$600,9,FALSE),0)","v":0},"Johnp_34",{"$f":"IFERROR(VLOOKUP(QT22,MATCHSELEVES!$Y$14:$AE$600,3,FALSE),0)","v":0},{"$f":"IFERROR(VLOOKUP(QT22,MATCHSELEVES!$Y$14:$AE$600,4,FALSE),0)","v":0},{"$f":"IFERROR(VLOOKUP(QT22,MATCHSELEVES!$Y$14:$AE$600,5,FALSE),0)","v":0},{"$f":"IFERROR(VLOOKUP(QT22,MATCHSELEVES!$Y$14:$AF$600,8,FALSE),0)","v":0},{"$f":"IFERROR(VLOOKUP(QT22,MATCHSELEVES!$Y$14:$AG$600,9,FALSE),0)","v":0},"Johnp_35",{"$f":"IFERROR(VLOOKUP(QZ22,MATCHSELEVES!$Y$14:$AE$600,3,FALSE),0)","v":0},{"$f":"IFERROR(VLOOKUP(QZ22,MATCHSELEVES!$Y$14:$AE$600,4,FALSE),0)","v":0},{"$f":"IFERROR(VLOOKUP(QZ22,MATCHSELEVES!$Y$14:$AE$600,5,FALSE),0)","v":0},{"$f":"IFERROR(VLOOKUP(QZ22,MATCHSELEVES!$Y$14:$AF$600,8,FALSE),0)","v":0},{"$f":"IFERROR(VLOOKUP(QZ22,MATCHSELEVES!$Y$14:$AG$600,9,FALSE),0)","v":0},"Johnp_36",{"$f":"IFERROR(VLOOKUP(RF22,MATCHSELEVES!$Y$14:$AE$600,3,FALSE),0)","v":0},{"$f":"IFERROR(VLOOKUP(RF22,MATCHSELEVES!$Y$14:$AE$600,4,FALSE),0)","v":0},{"$f":"IFERROR(VLOOKUP(RF22,MATCHSELEVES!$Y$14:$AE$600,5,FALSE),0)","v":0},{"$f":"IFERROR(VLOOKUP(RF22,MATCHSELEVES!$Y$14:$AF$600,8,FALSE),0)","v":0},{"$f":"IFERROR(VLOOKUP(RF22,MATCHSELEVES!$Y$14:$AG$600,9,FALSE),0)","v":0},"Johnp_37",{"$f":"IFERROR(VLOOKUP(RL22,MATCHSELEVES!$Y$14:$AE$600,3,FALSE),0)","v":0},{"$f":"IFERROR(VLOOKUP(RL22,MATCHSELEVES!$Y$14:$AE$600,4,FALSE),0)","v":0},{"$f":"IFERROR(VLOOKUP(RL22,MATCHSELEVES!$Y$14:$AE$600,5,FALSE),0)","v":0},{"$f":"IFERROR(VLOOKUP(RL22,MATCHSELEVES!$Y$14:$AF$600,8,FALSE),0)","v":0},{"$f":"IFERROR(VLOOKUP(RL22,MATCHSELEVES!$Y$14:$AG$600,9,FALSE),0)","v":0},"Johnp_38",{"$f":"IFERROR(VLOOKUP(RR22,MATCHSELEVES!$Y$14:$AE$600,3,FALSE),0)","v":0},{"$f":"IFERROR(VLOOKUP(RR22,MATCHSELEVES!$Y$14:$AE$600,4,FALSE),0)","v":0},{"$f":"IFERROR(VLOOKUP(RR22,MATCHSELEVES!$Y$14:$AE$600,5,FALSE),0)","v":0},{"$f":"IFERROR(VLOOKUP(RR22,MATCHSELEVES!$Y$14:$AF$600,8,FALSE),0)","v":0},{"$f":"IFERROR(VLOOKUP(RR22,MATCHSELEVES!$Y$14:$AG$600,9,FALSE),0)","v":0},"Johnp_39",{"$f":"IFERROR(VLOOKUP(RX22,MATCHSELEVES!$Y$14:$AE$600,3,FALSE),0)","v":0},{"$f":"IFERROR(VLOOKUP(RX22,MATCHSELEVES!$Y$14:$AE$600,4,FALSE),0)","v":0},{"$f":"IFERROR(VLOOKUP(RX22,MATCHSELEVES!$Y$14:$AE$600,5,FALSE),0)","v":0},{"$f":"IFERROR(VLOOKUP(RX22,MATCHSELEVES!$Y$14:$AF$600,8,FALSE),0)","v":0},{"$f":"IFERROR(VLOOKUP(RX22,MATCHSELEVES!$Y$14:$AG$600,9,FALSE),0)","v":0},"Johnp_40",{"$f":"IFERROR(VLOOKUP(SD22,MATCHSELEVES!$Y$14:$AE$600,3,FALSE),0)","v":0},{"$f":"IFERROR(VLOOKUP(SD22,MATCHSELEVES!$Y$14:$AE$600,4,FALSE),0)","v":0},{"$f":"IFERROR(VLOOKUP(SD22,MATCHSELEVES!$Y$14:$AE$600,5,FALSE),0)","v":0},{"$f":"IFERROR(VLOOKUP(SD22,MATCHSELEVES!$Y$14:$AF$600,8,FALSE),0)","v":0},{"$f":"IFERROR(VLOOKUP(SD22,MATCHSELEVES!$Y$14:$AG$600,9,FALSE),0)","v":0}]
[20,null,{"$f":"MD1POINT!C23","v":"Kail"},{"$f":"MD1POINT!D23","v":1},{"$f":"COUNTIF(MATCHSELEVES!$Z$14:$Z$600,C23)+COUNTIF(MATCHSELEVES!$Z$14:$Z$600,$C23&\"p\")","v":0},1,{"$f":"COUNTIF(MATCHSELEVES!$F$14:$H$249,C23)","v":0},1,0,1,0,1,0,1,{"$f":"Y23+AE23+AK23+AQ23+AW23+BC23+BI23+BO23+BU23+CA23+CG23+CM23+CS23+CY23+DE23+DK23+DQ23+DW23+EC23+EI23+EO23+EU23+FA23+FG23+FM23+FS23+FY23+GE23+GK23+GQ23+GW23+4+HI23+HO23+HU23+IA23+HC23+IG23+IM23+IY23+IS23+JH23+JN23+JZ23+JT23+KF23+KR23+KX23+LJ23+LP23+LV23+LD23+MB23+MH23+MN23+MZ23+MT23+NF23+NL23+NR23+NX23+OD23+OJ23+OP23+OV23+PB23+PH23+PT23+PN23+PZ23+QF23+QL23+QR23+RD23+QX23+RJ23+RP23+RV23+SB23+SH23+KL23+Tableau10[[#This Row],[Nombre de matchs joués]]*2","v":4},1,{"$f":"(Tableau10[[#This Row],[CLASSEMENT1]]+Tableau10[[#This Row],[CLASSEMENT2]]+Tableau10[[#This Row],[CLASSEMENT3]]+Tableau10[[#This Row],[CLASSEMENT4]]+Tableau10[[#This Row],[CLASSEMENT5]]+Tableau10[[#This Row],[CLASSEMENT6]])/6","v":1},{"$f":"RANK(Tableau10[[#This Row],[MOYENNE CLASSEMENTS]],Tableau10[MOYENNE CLASSEMENTS],1)","v":1},null,{"$f":"Tableau10[[#This Row],[CLASSEMENT1]]","v":1},"Kail_1",{"$f":"IFERROR(VLOOKUP(U23,MATCHSELEVES!$Y$14:$AE$600,3,FALSE),0)","v":0},{"$f":"IFERROR(VLOOKUP(U23,MATCHSELEVES!$Y$14:$AE$600,4,FALSE),0)","v":0},{"$f":"IFERROR(VLOOKUP(U23,MATCHSELEVES!$Y$14:$AE$600,5,FALSE),0)","v":0},{"$f":"IFERROR(VLOOKUP(U23,MATCHSELEVES!$Y$14:$AF$600,8,FALSE),0)","v":0},{"$f":"IFERROR(VLOOKUP(U23,MATCHSELEVES!$Y$14:$AG$600,9,FALSE),0)","v":0},"Kail_2",{"$f":"IFERROR(VLOOKUP(AA23,MATCHSELEVES!$Y$14:$AE$600,3,FALSE),0)","v":0},{"$f":"IFERROR(VLOOKUP(AA23,MATCHSELEVES!$Y$14:$AE$600,4,FALSE),0)","v":0},{"$f":"IFERROR(VLOOKUP(AA23,MATCHSELEVES!$Y$14:$AE$600,5,FALSE),0)","v":0},{"$f":"IFERROR(VLOOKUP(AA23,MATCHSELEVES!$Y$14:$AF$600,8,FALSE),0)","v":0},{"$f":"IFERROR(VLOOKUP(AA23,MATCHSELEVES!$Y$14:$AG$600,9,FALSE),0)","v":0},"Kail_3",{"$f":"IFERROR(VLOOKUP(AG23,MATCHSELEVES!$Y$14:$AE$600,3,FALSE),0)","v":0},{"$f":"IFERROR(VLOOKUP(AG23,MATCHSELEVES!$Y$14:$AE$600,4,FALSE),0)","v":0},{"$f":"IFERROR(VLOOKUP(AG23,MATCHSELEVES!$Y$14:$AE$600,5,FALSE),0)","v":0},{"$f":"IFERROR(VLOOKUP(AG23,MATCHSELEVES!$Y$14:$AF$600,8,FALSE),0)","v":0},{"$f":"IFERROR(VLOOKUP(AG23,MATCHSELEVES!$Y$14:$AG$600,9,FALSE),0)","v":0},"Kail_4",{"$f":"IFERROR(VLOOKUP(AM23,MATCHSELEVES!$Y$14:$AE$600,3,FALSE),0)","v":0},{"$f":"IFERROR(VLOOKUP(AM23,MATCHSELEVES!$Y$14:$AE$600,4,FALSE),0)","v":0},{"$f":"IFERROR(VLOOKUP(AM23,MATCHSELEVES!$Y$14:$AE$600,5,FALSE),0)","v":0},{"$f":"IFERROR(VLOOKUP(AM23,MATCHSELEVES!$Y$14:$AF$600,8,FALSE),0)","v":0},{"$f":"IFERROR(VLOOKUP(AM23,MATCHSELEVES!$Y$14:$AG$600,9,FALSE),0)","v":0},"Kail_5",{"$f":"IFERROR(VLOOKUP(AS23,MATCHSELEVES!$Y$14:$AE$600,3,FALSE),0)","v":0},{"$f":"IFERROR(VLOOKUP(AS23,MATCHSELEVES!$Y$14:$AE$600,4,FALSE),0)","v":0},{"$f":"IFERROR(VLOOKUP(AS23,MATCHSELEVES!$Y$14:$AE$600,5,FALSE),0)","v":0},{"$f":"IFERROR(VLOOKUP(AS23,MATCHSELEVES!$Y$14:$AF$600,8,FALSE),0)","v":0},{"$f":"IFERROR(VLOOKUP(AS23,MATCHSELEVES!$Y$14:$AG$600,9,FALSE),0)","v":0},"Kail_6",{"$f":"IFERROR(VLOOKUP(AY23,MATCHSELEVES!$Y$14:$AE$600,3,FALSE),0)","v":0},{"$f":"IFERROR(VLOOKUP(AY23,MATCHSELEVES!$Y$14:$AE$600,4,FALSE),0)","v":0},{"$f":"IFERROR(VLOOKUP(AY23,MATCHSELEVES!$Y$14:$AE$600,5,FALSE),0)","v":0},{"$f":"IFERROR(VLOOKUP(AY23,MATCHSELEVES!$Y$14:$AF$600,8,FALSE),0)","v":0},{"$f":"IFERROR(VLOOKUP(AY23,MATCHSELEVES!$Y$14:$AG$600,9,FALSE),0)","v":0},"Kail_7",{"$f":"IFERROR(VLOOKUP(BE23,MATCHSELEVES!$Y$14:$AE$600,3,FALSE),0)","v":0},{"$f":"IFERROR(VLOOKUP(BE23,MATCHSELEVES!$Y$14:$AE$600,4,FALSE),0)","v":0},{"$f":"IFERROR(VLOOKUP(BE23,MATCHSELEVES!$Y$14:$AE$600,5,FALSE),0)","v":0},{"$f":"IFERROR(VLOOKUP(BE23,MATCHSELEVES!$Y$14:$AF$600,8,FALSE),0)","v":0},{"$f":"IFERROR(VLOOKUP(BE23,MATCHSELEVES!$Y$14:$AG$600,9,FALSE),0)","v":0},"Kail_8",{"$f":"IFERROR(VLOOKUP(BK23,MATCHSELEVES!$Y$14:$AE$600,3,FALSE),0)","v":0},{"$f":"IFERROR(VLOOKUP(BK23,MATCHSELEVES!$Y$14:$AE$600,4,FALSE),0)","v":0},{"$f":"IFERROR(VLOOKUP(BK23,MATCHSELEVES!$Y$14:$AE$600,5,FALSE),0)","v":0},{"$f":"IFERROR(VLOOKUP(BK23,MATCHSELEVES!$Y$14:$AF$600,8,FALSE),0)","v":0},{"$f":"IFERROR(VLOOKUP(BK23,MATCHSELEVES!$Y$14:$AG$600,9,FALSE),0)","v":0},"Kail_9",{"$f":"IFERROR(VLOOKUP(BQ23,MATCHSELEVES!$Y$14:$AE$600,3,FALSE),0)","v":0},{"$f":"IFERROR(VLOOKUP(BQ23,MATCHSELEVES!$Y$14:$AE$600,4,FALSE),0)","v":0},{"$f":"IFERROR(VLOOKUP(BQ23,MATCHSELEVES!$Y$14:$AE$600,5,FALSE),0)","v":0},{"$f":"IFERROR(VLOOKUP(BQ23,MATCHSELEVES!$Y$14:$AF$600,8,FALSE),0)","v":0},{"$f":"IFERROR(VLOOKUP(BQ23,MATCHSELEVES!$Y$14:$AG$600,9,FALSE),0)","v":0},"Kail_10",{"$f":"IFERROR(VLOOKUP(BW23,MATCHSELEVES!$Y$14:$AE$600,3,FALSE),0)","v":0},{"$f":"IFERROR(VLOOKUP(BW23,MATCHSELEVES!$Y$14:$AE$600,4,FALSE),0)","v":0},{"$f":"IFERROR(VLOOKUP(BW23,MATCHSELEVES!$Y$14:$AE$600,5,FALSE),0)","v":0},{"$f":"IFERROR(VLOOKUP(BW23,MATCHSELEVES!$Y$14:$AF$600,8,FALSE),0)","v":0},{"$f":"IFERROR(VLOOKUP(BW23,MATCHSELEVES!$Y$14:$AG$600,9,FALSE),0)","v":0},"Kail_11",{"$f":"IFERROR(VLOOKUP(CC23,MATCHSELEVES!$Y$14:$AE$600,3,FALSE),0)","v":0},{"$f":"IFERROR(VLOOKUP(CC23,MATCHSELEVES!$Y$14:$AE$600,4,FALSE),0)","v":0},{"$f":"IFERROR(VLOOKUP(CC23,MATCHSELEVES!$Y$14:$AE$600,5,FALSE),0)","v":0},{"$f":"IFERROR(VLOOKUP(CC23,MATCHSELEVES!$Y$14:$AF$600,8,FALSE),0)","v":0},{"$f":"IFERROR(VLOOKUP(CC23,MATCHSELEVES!$Y$14:$AG$600,9,FALSE),0)","v":0},"Kail_12",{"$f":"IFERROR(VLOOKUP(CI23,MATCHSELEVES!$Y$14:$AE$600,3,FALSE),0)","v":0},{"$f":"IFERROR(VLOOKUP(CI23,MATCHSELEVES!$Y$14:$AE$600,4,FALSE),0)","v":0},{"$f":"IFERROR(VLOOKUP(CI23,MATCHSELEVES!$Y$14:$AE$600,5,FALSE),0)","v":0},{"$f":"IFERROR(VLOOKUP(CI23,MATCHSELEVES!$Y$14:$AF$600,8,FALSE),0)","v":0},{"$f":"IFERROR(VLOOKUP(CI23,MATCHSELEVES!$Y$14:$AG$600,9,FALSE),0)","v":0},"Kail_13",{"$f":"IFERROR(VLOOKUP(CO23,MATCHSELEVES!$Y$14:$AE$600,3,FALSE),0)","v":0},{"$f":"IFERROR(VLOOKUP(CO23,MATCHSELEVES!$Y$14:$AE$600,4,FALSE),0)","v":0},{"$f":"IFERROR(VLOOKUP(CO23,MATCHSELEVES!$Y$14:$AE$600,5,FALSE),0)","v":0},{"$f":"IFERROR(VLOOKUP(CO23,MATCHSELEVES!$Y$14:$AF$600,8,FALSE),0)","v":0},{"$f":"IFERROR(VLOOKUP(CO23,MATCHSELEVES!$Y$14:$AG$600,9,FALSE),0)","v":0},"Kail_14",{"$f":"IFERROR(VLOOKUP(CU23,MATCHSELEVES!$Y$14:$AE$600,3,FALSE),0)","v":0},{"$f":"IFERROR(VLOOKUP(CU23,MATCHSELEVES!$Y$14:$AE$600,4,FALSE),0)","v":0},{"$f":"IFERROR(VLOOKUP(CU23,MATCHSELEVES!$Y$14:$AE$600,5,FALSE),0)","v":0},{"$f":"IFERROR(VLOOKUP(CU23,MATCHSELEVES!$Y$14:$AF$600,8,FALSE),0)","v":0},{"$f":"IFERROR(VLOOKUP(CU23,MATCHSELEVES!$Y$14:$AG$600,9,FALSE),0)","v":0},"Kail_15",{"$f":"IFERROR(VLOOKUP(DA23,MATCHSELEVES!$Y$14:$AE$600,3,FALSE),0)","v":0},{"$f":"IFERROR(VLOOKUP(DA23,MATCHSELEVES!$Y$14:$AE$600,4,FALSE),0)","v":0},{"$f":"IFERROR(VLOOKUP(DA23,MATCHSELEVES!$Y$14:$AE$600,5,FALSE),0)","v":0},{"$f":"IFERROR(VLOOKUP(DA23,MATCHSELEVES!$Y$14:$AF$600,8,FALSE),0)","v":0},{"$f":"IFERROR(VLOOKUP(DA23,MATCHSELEVES!$Y$14:$AG$600,9,FALSE),0)","v":0},"Kail_16",{"$f":"IFERROR(VLOOKUP(DG23,MATCHSELEVES!$Y$14:$AE$600,3,FALSE),0)","v":0},{"$f":"IFERROR(VLOOKUP(DG23,MATCHSELEVES!$Y$14:$AE$600,4,FALSE),0)","v":0},{"$f":"IFERROR(VLOOKUP(DG23,MATCHSELEVES!$Y$14:$AE$600,5,FALSE),0)","v":0},{"$f":"IFERROR(VLOOKUP(DG23,MATCHSELEVES!$Y$14:$AF$600,8,FALSE),0)","v":0},{"$f":"IFERROR(VLOOKUP(DG23,MATCHSELEVES!$Y$14:$AG$600,9,FALSE),0)","v":0},"Kail_17",{"$f":"IFERROR(VLOOKUP(DM23,MATCHSELEVES!$Y$14:$AE$600,3,FALSE),0)","v":0},{"$f":"IFERROR(VLOOKUP(DM23,MATCHSELEVES!$Y$14:$AE$600,4,FALSE),0)","v":0},{"$f":"IFERROR(VLOOKUP(DM23,MATCHSELEVES!$Y$14:$AE$600,5,FALSE),0)","v":0},{"$f":"IFERROR(VLOOKUP(DM23,MATCHSELEVES!$Y$14:$AF$600,8,FALSE),0)","v":0},{"$f":"IFERROR(VLOOKUP(DM23,MATCHSELEVES!$Y$14:$AG$600,9,FALSE),0)","v":0},"Kail_18",{"$f":"IFERROR(VLOOKUP(DS23,MATCHSELEVES!$Y$14:$AE$600,3,FALSE),0)","v":0},{"$f":"IFERROR(VLOOKUP(DS23,MATCHSELEVES!$Y$14:$AE$600,4,FALSE),0)","v":0},{"$f":"IFERROR(VLOOKUP(DS23,MATCHSELEVES!$Y$14:$AE$600,5,FALSE),0)","v":0},{"$f":"IFERROR(VLOOKUP(DS23,MATCHSELEVES!$Y$14:$AF$600,8,FALSE),0)","v":0},{"$f":"IFERROR(VLOOKUP(DS23,MATCHSELEVES!$Y$14:$AG$600,9,FALSE),0)","v":0},"Kail_19",{"$f":"IFERROR(VLOOKUP(DY23,MATCHSELEVES!$Y$14:$AE$600,3,FALSE),0)","v":0},{"$f":"IFERROR(VLOOKUP(DY23,MATCHSELEVES!$Y$14:$AE$600,4,FALSE),0)","v":0},{"$f":"IFERROR(VLOOKUP(DY23,MATCHSELEVES!$Y$14:$AE$600,5,FALSE),0)","v":0},{"$f":"IFERROR(VLOOKUP(DY23,MATCHSELEVES!$Y$14:$AF$600,8,FALSE),0)","v":0},{"$f":"IFERROR(VLOOKUP(DY23,MATCHSELEVES!$Y$14:$AG$600,9,FALSE),0)","v":0},"Kail_20",{"$f":"IFERROR(VLOOKUP(EE23,MATCHSELEVES!$Y$14:$AE$600,3,FALSE),0)","v":0},{"$f":"IFERROR(VLOOKUP(EE23,MATCHSELEVES!$Y$14:$AE$600,4,FALSE),0)","v":0},{"$f":"IFERROR(VLOOKUP(EE23,MATCHSELEVES!$Y$14:$AE$600,5,FALSE),0)","v":0},{"$f":"IFERROR(VLOOKUP(EE23,MATCHSELEVES!$Y$14:$AF$600,8,FALSE),0)","v":0},{"$f":"IFERROR(VLOOKUP(EE23,MATCHSELEVES!$Y$14:$AG$600,9,FALSE),0)","v":0},"Kail_21",{"$f":"IFERROR(VLOOKUP(EK23,MATCHSELEVES!$Y$14:$AE$600,3,FALSE),0)","v":0},{"$f":"IFERROR(VLOOKUP(EK23,MATCHSELEVES!$Y$14:$AE$600,4,FALSE),0)","v":0},{"$f":"IFERROR(VLOOKUP(EK23,MATCHSELEVES!$Y$14:$AE$600,5,FALSE),0)","v":0},{"$f":"IFERROR(VLOOKUP(EK23,MATCHSELEVES!$Y$14:$AF$600,8,FALSE),0)","v":0},{"$f":"IFERROR(VLOOKUP(EK23,MATCHSELEVES!$Y$14:$AG$600,9,FALSE),0)","v":0},"Kail_22",{"$f":"IFERROR(VLOOKUP(EQ23,MATCHSELEVES!$Y$14:$AE$600,3,FALSE),0)","v":0},{"$f":"IFERROR(VLOOKUP(EQ23,MATCHSELEVES!$Y$14:$AE$600,4,FALSE),0)","v":0},{"$f":"IFERROR(VLOOKUP(EQ23,MATCHSELEVES!$Y$14:$AE$600,5,FALSE),0)","v":0},{"$f":"IFERROR(VLOOKUP(EQ23,MATCHSELEVES!$Y$14:$AF$600,8,FALSE),0)","v":0},{"$f":"IFERROR(VLOOKUP(EQ23,MATCHSELEVES!$Y$14:$AG$600,9,FALSE),0)","v":0},"Kail_23",{"$f":"IFERROR(VLOOKUP(EW23,MATCHSELEVES!$Y$14:$AE$600,3,FALSE),0)","v":0},{"$f":"IFERROR(VLOOKUP(EW23,MATCHSELEVES!$Y$14:$AE$600,4,FALSE),0)","v":0},{"$f":"IFERROR(VLOOKUP(EW23,MATCHSELEVES!$Y$14:$AE$600,5,FALSE),0)","v":0},{"$f":"IFERROR(VLOOKUP(EW23,MATCHSELEVES!$Y$14:$AF$600,8,FALSE),0)","v":0},{"$f":"IFERROR(VLOOKUP(EW23,MATCHSELEVES!$Y$14:$AG$600,9,FALSE),0)","v":0},"Kail_24",{"$f":"IFERROR(VLOOKUP(FC23,MATCHSELEVES!$Y$14:$AE$600,3,FALSE),0)","v":0},{"$f":"IFERROR(VLOOKUP(FC23,MATCHSELEVES!$Y$14:$AE$600,4,FALSE),0)","v":0},{"$f":"IFERROR(VLOOKUP(FC23,MATCHSELEVES!$Y$14:$AE$600,5,FALSE),0)","v":0},{"$f":"IFERROR(VLOOKUP(FC23,MATCHSELEVES!$Y$14:$AF$600,8,FALSE),0)","v":0},{"$f":"IFERROR(VLOOKUP(FC23,MATCHSELEVES!$Y$14:$AG$600,9,FALSE),0)","v":0},"Kail_25",{"$f":"IFERROR(VLOOKUP(FI23,MATCHSELEVES!$Y$14:$AE$600,3,FALSE),0)","v":0},{"$f":"IFERROR(VLOOKUP(FI23,MATCHSELEVES!$Y$14:$AE$600,4,FALSE),0)","v":0},{"$f":"IFERROR(VLOOKUP(FI23,MATCHSELEVES!$Y$14:$AE$600,5,FALSE),0)","v":0},{"$f":"IFERROR(VLOOKUP(FI23,MATCHSELEVES!$Y$14:$AF$600,8,FALSE),0)","v":0},{"$f":"IFERROR(VLOOKUP(FI23,MATCHSELEVES!$Y$14:$AG$600,9,FALSE),0)","v":0},"Kail_26",{"$f":"IFERROR(VLOOKUP(FO23,MATCHSELEVES!$Y$14:$AE$600,3,FALSE),0)","v":0},{"$f":"IFERROR(VLOOKUP(FO23,MATCHSELEVES!$Y$14:$AE$600,4,FALSE),0)","v":0},{"$f":"IFERROR(VLOOKUP(FO23,MATCHSELEVES!$Y$14:$AE$600,5,FALSE),0)","v":0},{"$f":"IFERROR(VLOOKUP(FO23,MATCHSELEVES!$Y$14:$AF$600,8,FALSE),0)","v":0},{"$f":"IFERROR(VLOOKUP(FO23,MATCHSELEVES!$Y$14:$AG$600,9,FALSE),0)","v":0},"Kail_27",{"$f":"IFERROR(VLOOKUP(FU23,MATCHSELEVES!$Y$14:$AE$600,3,FALSE),0)","v":0},{"$f":"IFERROR(VLOOKUP(FU23,MATCHSELEVES!$Y$14:$AE$600,4,FALSE),0)","v":0},{"$f":"IFERROR(VLOOKUP(FU23,MATCHSELEVES!$Y$14:$AE$600,5,FALSE),0)","v":0},{"$f":"IFERROR(VLOOKUP(FU23,MATCHSELEVES!$Y$14:$AF$600,8,FALSE),0)","v":0},{"$f":"IFERROR(VLOOKUP(FU23,MATCHSELEVES!$Y$14:$AG$600,9,FALSE),0)","v":0},"Kail_28",{"$f":"IFERROR(VLOOKUP(GA23,MATCHSELEVES!$Y$14:$AE$600,3,FALSE),0)","v":0},{"$f":"IFERROR(VLOOKUP(GA23,MATCHSELEVES!$Y$14:$AE$600,4,FALSE),0)","v":0},{"$f":"IFERROR(VLOOKUP(GA23,MATCHSELEVES!$Y$14:$AE$600,5,FALSE),0)","v":0},{"$f":"IFERROR(VLOOKUP(GA23,MATCHSELEVES!$Y$14:$AF$600,8,FALSE),0)","v":0},{"$f":"IFERROR(VLOOKUP(GA23,MATCHSELEVES!$Y$14:$AG$600,9,FALSE),0)","v":0},"Kail_29",{"$f":"IFERROR(VLOOKUP(GG23,MATCHSELEVES!$Y$14:$AE$600,3,FALSE),0)","v":0},{"$f":"IFERROR(VLOOKUP(GG23,MATCHSELEVES!$Y$14:$AE$600,4,FALSE),0)","v":0},{"$f":"IFERROR(VLOOKUP(GG23,MATCHSELEVES!$Y$14:$AE$600,5,FALSE),0)","v":0},{"$f":"IFERROR(VLOOKUP(GG23,MATCHSELEVES!$Y$14:$AF$600,8,FALSE),0)","v":0},{"$f":"IFERROR(VLOOKUP(GG23,MATCHSELEVES!$Y$14:$AG$600,9,FALSE),0)","v":0},"Kail_30",{"$f":"IFERROR(VLOOKUP(GM23,MATCHSELEVES!$Y$14:$AE$600,3,FALSE),0)","v":0},{"$f":"IFERROR(VLOOKUP(GM23,MATCHSELEVES!$Y$14:$AE$600,4,FALSE),0)","v":0},{"$f":"IFERROR(VLOOKUP(GM23,MATCHSELEVES!$Y$14:$AE$600,5,FALSE),0)","v":0},{"$f":"IFERROR(VLOOKUP(GM23,MATCHSELEVES!$Y$14:$AF$600,8,FALSE),0)","v":0},{"$f":"IFERROR(VLOOKUP(GM23,MATCHSELEVES!$Y$14:$AG$600,9,FALSE),0)","v":0},"Kail_31",{"$f":"IFERROR(VLOOKUP(GS23,MATCHSELEVES!$Y$14:$AE$600,3,FALSE),0)","v":0},{"$f":"IFERROR(VLOOKUP(GS23,MATCHSELEVES!$Y$14:$AE$600,4,FALSE),0)","v":0},{"$f":"IFERROR(VLOOKUP(GS23,MATCHSELEVES!$Y$14:$AE$600,5,FALSE),0)","v":0},{"$f":"IFERROR(VLOOKUP(GS23,MATCHSELEVES!$Y$14:$AF$600,8,FALSE),0)","v":0},{"$f":"IFERROR(VLOOKUP(GS23,MATCHSELEVES!$Y$14:$AG$600,9,FALSE),0)","v":0},"Kail_32",{"$f":"IFERROR(VLOOKUP(GY23,MATCHSELEVES!$Y$14:$AE$600,3,FALSE),0)","v":0},{"$f":"IFERROR(VLOOKUP(GY23,MATCHSELEVES!$Y$14:$AE$600,4,FALSE),0)","v":0},{"$f":"IFERROR(VLOOKUP(GY23,MATCHSELEVES!$Y$14:$AE$600,5,FALSE),0)","v":0},{"$f":"IFERROR(VLOOKUP(GY23,MATCHSELEVES!$Y$14:$AF$600,8,FALSE),0)","v":0},{"$f":"IFERROR(VLOOKUP(GY23,MATCHSELEVES!$Y$14:$AG$600,9,FALSE),0)","v":0},"Kail_33",{"$f":"IFERROR(VLOOKUP(HE23,MATCHSELEVES!$Y$14:$AE$600,3,FALSE),0)","v":0},{"$f":"IFERROR(VLOOKUP(HE23,MATCHSELEVES!$Y$14:$AE$600,4,FALSE),0)","v":0},{"$f":"IFERROR(VLOOKUP(HE23,MATCHSELEVES!$Y$14:$AE$600,5,FALSE),0)","v":0},{"$f":"IFERROR(VLOOKUP(HE23,MATCHSELEVES!$Y$14:$AF$600,8,FALSE),0)","v":0},{"$f":"IFERROR(VLOOKUP(HE23,MATCHSELEVES!$Y$14:$AG$600,9,FALSE),0)","v":0},"Kail_34",{"$f":"IFERROR(VLOOKUP(HK23,MATCHSELEVES!$Y$14:$AE$600,3,FALSE),0)","v":0},{"$f":"IFERROR(VLOOKUP(HK23,MATCHSELEVES!$Y$14:$AE$600,4,FALSE),0)","v":0},{"$f":"IFERROR(VLOOKUP(HK23,MATCHSELEVES!$Y$14:$AE$600,5,FALSE),0)","v":0},{"$f":"IFERROR(VLOOKUP(HK23,MATCHSELEVES!$Y$14:$AF$600,8,FALSE),0)","v":0},{"$f":"IFERROR(VLOOKUP(HK23,MATCHSELEVES!$Y$14:$AG$600,9,FALSE),0)","v":0},"Kail_35",{"$f":"IFERROR(VLOOKUP(HQ23,MATCHSELEVES!$Y$14:$AE$600,3,FALSE),0)","v":0},{"$f":"IFERROR(VLOOKUP(HQ23,MATCHSELEVES!$Y$14:$AE$600,4,FALSE),0)","v":0},{"$f":"IFERROR(VLOOKUP(HQ23,MATCHSELEVES!$Y$14:$AE$600,5,FALSE),0)","v":0},{"$f":"IFERROR(VLOOKUP(HQ23,MATCHSELEVES!$Y$14:$AF$600,8,FALSE),0)","v":0},{"$f":"IFERROR(VLOOKUP(HQ23,MATCHSELEVES!$Y$14:$AG$600,9,FALSE),0)","v":0},"Kail_36",{"$f":"IFERROR(VLOOKUP(HW23,MATCHSELEVES!$Y$14:$AE$600,3,FALSE),0)","v":0},{"$f":"IFERROR(VLOOKUP(HW23,MATCHSELEVES!$Y$14:$AE$600,4,FALSE),0)","v":0},{"$f":"IFERROR(VLOOKUP(HW23,MATCHSELEVES!$Y$14:$AE$600,5,FALSE),0)","v":0},{"$f":"IFERROR(VLOOKUP(HW23,MATCHSELEVES!$Y$14:$AF$600,8,FALSE),0)","v":0},{"$f":"IFERROR(VLOOKUP(HW23,MATCHSELEVES!$Y$14:$AG$600,9,FALSE),0)","v":0},"Kail_37",{"$f":"IFERROR(VLOOKUP(IC23,MATCHSELEVES!$Y$14:$AE$600,3,FALSE),0)","v":0},{"$f":"IFERROR(VLOOKUP(IC23,MATCHSELEVES!$Y$14:$AE$600,4,FALSE),0)","v":0},{"$f":"IFERROR(VLOOKUP(IC23,MATCHSELEVES!$Y$14:$AE$600,5,FALSE),0)","v":0},{"$f":"IFERROR(VLOOKUP(IC23,MATCHSELEVES!$Y$14:$AF$600,8,FALSE),0)","v":0},{"$f":"IFERROR(VLOOKUP(IC23,MATCHSELEVES!$Y$14:$AG$600,9,FALSE),0)","v":0},"Kail_38",{"$f":"IFERROR(VLOOKUP(II23,MATCHSELEVES!$Y$14:$AE$600,3,FALSE),0)","v":0},{"$f":"IFERROR(VLOOKUP(II23,MATCHSELEVES!$Y$14:$AE$600,4,FALSE),0)","v":0},{"$f":"IFERROR(VLOOKUP(II23,MATCHSELEVES!$Y$14:$AE$600,5,FALSE),0)","v":0},{"$f":"IFERROR(VLOOKUP(II23,MATCHSELEVES!$Y$14:$AF$600,8,FALSE),0)","v":0},{"$f":"IFERROR(VLOOKUP(II23,MATCHSELEVES!$Y$14:$AG$600,9,FALSE),0)","v":0},"Kail_39",{"$f":"IFERROR(VLOOKUP(IO23,MATCHSELEVES!$Y$14:$AE$600,3,FALSE),0)","v":0},{"$f":"IFERROR(VLOOKUP(IO23,MATCHSELEVES!$Y$14:$AE$600,4,FALSE),0)","v":0},{"$f":"IFERROR(VLOOKUP(IO23,MATCHSELEVES!$Y$14:$AE$600,5,FALSE),0)","v":0},{"$f":"IFERROR(VLOOKUP(IO23,MATCHSELEVES!$Y$14:$AF$600,8,FALSE),0)","v":0},{"$f":"IFERROR(VLOOKUP(IO23,MATCHSELEVES!$Y$14:$AG$600,9,FALSE),0)","v":0},"Kail_40",{"$f":"IFERROR(VLOOKUP(IU23,MATCHSELEVES!$Y$14:$AE$600,3,FALSE),0)","v":0},{"$f":"IFERROR(VLOOKUP(IU23,MATCHSELEVES!$Y$14:$AE$600,4,FALSE),0)","v":0},{"$f":"IFERROR(VLOOKUP(IU23,MATCHSELEVES!$Y$14:$AE$600,5,FALSE),0)","v":0},{"$f":"IFERROR(VLOOKUP(IU23,MATCHSELEVES!$Y$14:$AF$600,8,FALSE),0)","v":0},{"$f":"IFERROR(VLOOKUP(IU23,MATCHSELEVES!$Y$14:$AG$600,9,FALSE),0)","v":0},{"$f":"Tableau10[[#This Row],[CLASSE]]","v":"Kail"},1,{"$f":"MD1POINT!D23","v":1},"Kailp_1",{"$f":"IFERROR(VLOOKUP(JD23,MATCHSELEVES!$Y$14:$AE$600,3,FALSE),0)","v":0},{"$f":"IFERROR(VLOOKUP(JD23,MATCHSELEVES!$Y$14:$AE$600,4,FALSE),0)","v":0},{"$f":"IFERROR(VLOOKUP(JD23,MATCHSELEVES!$Y$14:$AE$600,5,FALSE),0)","v":0},{"$f":"IFERROR(VLOOKUP(JD23,MATCHSELEVES!$Y$14:$AF$600,8,FALSE),0)","v":0},{"$f":"IFERROR(VLOOKUP(JD23,MATCHSELEVES!$Y$14:$AG$600,9,FALSE),0)","v":0},"Kailp_2",{"$f":"IFERROR(VLOOKUP(JJ23,MATCHSELEVES!$Y$14:$AE$600,3,FALSE),0)","v":0},{"$f":"IFERROR(VLOOKUP(JJ23,MATCHSELEVES!$Y$14:$AE$600,4,FALSE),0)","v":0},{"$f":"IFERROR(VLOOKUP(JJ23,MATCHSELEVES!$Y$14:$AE$600,5,FALSE),0)","v":0},{"$f":"IFERROR(VLOOKUP(JJ23,MATCHSELEVES!$Y$14:$AF$600,8,FALSE),0)","v":0},{"$f":"IFERROR(VLOOKUP(JJ23,MATCHSELEVES!$Y$14:$AG$600,9,FALSE),0)","v":0},"Kailp_3",{"$f":"IFERROR(VLOOKUP(JP23,MATCHSELEVES!$Y$14:$AE$600,3,FALSE),0)","v":0},{"$f":"IFERROR(VLOOKUP(JP23,MATCHSELEVES!$Y$14:$AE$600,4,FALSE),0)","v":0},{"$f":"IFERROR(VLOOKUP(JP23,MATCHSELEVES!$Y$14:$AE$600,5,FALSE),0)","v":0},{"$f":"IFERROR(VLOOKUP(JP23,MATCHSELEVES!$Y$14:$AF$600,8,FALSE),0)","v":0},{"$f":"IFERROR(VLOOKUP(JP23,MATCHSELEVES!$Y$14:$AG$600,9,FALSE),0)","v":0},"Kailp_4",{"$f":"IFERROR(VLOOKUP(JV23,MATCHSELEVES!$Y$14:$AE$600,3,FALSE),0)","v":0},{"$f":"IFERROR(VLOOKUP(JV23,MATCHSELEVES!$Y$14:$AE$600,4,FALSE),0)","v":0},{"$f":"IFERROR(VLOOKUP(JV23,MATCHSELEVES!$Y$14:$AE$600,5,FALSE),0)","v":0},{"$f":"IFERROR(VLOOKUP(JV23,MATCHSELEVES!$Y$14:$AF$600,8,FALSE),0)","v":0},{"$f":"IFERROR(VLOOKUP(JV23,MATCHSELEVES!$Y$14:$AG$600,9,FALSE),0)","v":0},"Kailp_5",{"$f":"IFERROR(VLOOKUP(KB23,MATCHSELEVES!$Y$14:$AE$600,3,FALSE),0)","v":0},{"$f":"IFERROR(VLOOKUP(KB23,MATCHSELEVES!$Y$14:$AE$600,4,FALSE),0)","v":0},{"$f":"IFERROR(VLOOKUP(KB23,MATCHSELEVES!$Y$14:$AE$600,5,FALSE),0)","v":0},{"$f":"IFERROR(VLOOKUP(KB23,MATCHSELEVES!$Y$14:$AF$600,8,FALSE),0)","v":0},{"$f":"IFERROR(VLOOKUP(KB23,MATCHSELEVES!$Y$14:$AG$600,9,FALSE),0)","v":0},"Kailp_6",{"$f":"IFERROR(VLOOKUP(KH23,MATCHSELEVES!$Y$14:$AE$600,3,FALSE),0)","v":0},{"$f":"IFERROR(VLOOKUP(KH23,MATCHSELEVES!$Y$14:$AE$600,4,FALSE),0)","v":0},{"$f":"IFERROR(VLOOKUP(KH23,MATCHSELEVES!$Y$14:$AE$600,5,FALSE),0)","v":0},{"$f":"IFERROR(VLOOKUP(KH23,MATCHSELEVES!$Y$14:$AF$600,8,FALSE),0)","v":0},{"$f":"IFERROR(VLOOKUP(KH23,MATCHSELEVES!$Y$14:$AG$600,9,FALSE),0)","v":0},"Kailp_7",{"$f":"IFERROR(VLOOKUP(KN23,MATCHSELEVES!$Y$14:$AE$600,3,FALSE),0)","v":0},{"$f":"IFERROR(VLOOKUP(KN23,MATCHSELEVES!$Y$14:$AE$600,4,FALSE),0)","v":0},{"$f":"IFERROR(VLOOKUP(KN23,MATCHSELEVES!$Y$14:$AE$600,5,FALSE),0)","v":0},{"$f":"IFERROR(VLOOKUP(KN23,MATCHSELEVES!$Y$14:$AF$600,8,FALSE),0)","v":0},{"$f":"IFERROR(VLOOKUP(KN23,MATCHSELEVES!$Y$14:$AG$600,9,FALSE),0)","v":0},"Kailp_8",{"$f":"IFERROR(VLOOKUP(KT23,MATCHSELEVES!$Y$14:$AE$600,3,FALSE),0)","v":0},{"$f":"IFERROR(VLOOKUP(KT23,MATCHSELEVES!$Y$14:$AE$600,4,FALSE),0)","v":0},{"$f":"IFERROR(VLOOKUP(KT23,MATCHSELEVES!$Y$14:$AE$600,5,FALSE),0)","v":0},{"$f":"IFERROR(VLOOKUP(KT23,MATCHSELEVES!$Y$14:$AF$600,8,FALSE),0)","v":0},{"$f":"IFERROR(VLOOKUP(KT23,MATCHSELEVES!$Y$14:$AG$600,9,FALSE),0)","v":0},"Kailp_9",{"$f":"IFERROR(VLOOKUP(KZ23,MATCHSELEVES!$Y$14:$AE$600,3,FALSE),0)","v":0},{"$f":"IFERROR(VLOOKUP(KZ23,MATCHSELEVES!$Y$14:$AE$600,4,FALSE),0)","v":0},{"$f":"IFERROR(VLOOKUP(KZ23,MATCHSELEVES!$Y$14:$AE$600,5,FALSE),0)","v":0},{"$f":"IFERROR(VLOOKUP(KZ23,MATCHSELEVES!$Y$14:$AF$600,8,FALSE),0)","v":0},{"$f":"IFERROR(VLOOKUP(KZ23,MATCHSELEVES!$Y$14:$AG$600,9,FALSE),0)","v":0},"Kailp_10",{"$f":"IFERROR(VLOOKUP(LF23,MATCHSELEVES!$Y$14:$AE$600,3,FALSE),0)","v":0},{"$f":"IFERROR(VLOOKUP(LF23,MATCHSELEVES!$Y$14:$AE$600,4,FALSE),0)","v":0},{"$f":"IFERROR(VLOOKUP(LF23,MATCHSELEVES!$Y$14:$AE$600,5,FALSE),0)","v":0},{"$f":"IFERROR(VLOOKUP(LF23,MATCHSELEVES!$Y$14:$AF$600,8,FALSE),0)","v":0},{"$f":"IFERROR(VLOOKUP(LF23,MATCHSELEVES!$Y$14:$AG$600,9,FALSE),0)","v":0},"Kailp_11",{"$f":"IFERROR(VLOOKUP(LL23,MATCHSELEVES!$Y$14:$AE$600,3,FALSE),0)","v":0},{"$f":"IFERROR(VLOOKUP(LL23,MATCHSELEVES!$Y$14:$AE$600,4,FALSE),0)","v":0},{"$f":"IFERROR(VLOOKUP(LL23,MATCHSELEVES!$Y$14:$AE$600,5,FALSE),0)","v":0},{"$f":"IFERROR(VLOOKUP(LL23,MATCHSELEVES!$Y$14:$AF$600,8,FALSE),0)","v":0},{"$f":"IFERROR(VLOOKUP(LL23,MATCHSELEVES!$Y$14:$AG$600,9,FALSE),0)","v":0},"Kailp_12",{"$f":"IFERROR(VLOOKUP(LR23,MATCHSELEVES!$Y$14:$AE$600,3,FALSE),0)","v":0},{"$f":"IFERROR(VLOOKUP(LR23,MATCHSELEVES!$Y$14:$AE$600,4,FALSE),0)","v":0},{"$f":"IFERROR(VLOOKUP(LR23,MATCHSELEVES!$Y$14:$AE$600,5,FALSE),0)","v":0},{"$f":"IFERROR(VLOOKUP(LR23,MATCHSELEVES!$Y$14:$AF$600,8,FALSE),0)","v":0},{"$f":"IFERROR(VLOOKUP(LR23,MATCHSELEVES!$Y$14:$AG$600,9,FALSE),0)","v":0},"Kailp_13",{"$f":"IFERROR(VLOOKUP(LX23,MATCHSELEVES!$Y$14:$AE$600,3,FALSE),0)","v":0},{"$f":"IFERROR(VLOOKUP(LX23,MATCHSELEVES!$Y$14:$AE$600,4,FALSE),0)","v":0},{"$f":"IFERROR(VLOOKUP(LX23,MATCHSELEVES!$Y$14:$AE$600,5,FALSE),0)","v":0},{"$f":"IFERROR(VLOOKUP(LX23,MATCHSELEVES!$Y$14:$AF$600,8,FALSE),0)","v":0},{"$f":"IFERROR(VLOOKUP(LX23,MATCHSELEVES!$Y$14:$AG$600,9,FALSE),0)","v":0},"Kailp_14",{"$f":"IFERROR(VLOOKUP(MD23,MATCHSELEVES!$Y$14:$AE$600,3,FALSE),0)","v":0},{"$f":"IFERROR(VLOOKUP(MD23,MATCHSELEVES!$Y$14:$AE$600,4,FALSE),0)","v":0},{"$f":"IFERROR(VLOOKUP(MD23,MATCHSELEVES!$Y$14:$AE$600,5,FALSE),0)","v":0},{"$f":"IFERROR(VLOOKUP(MD23,MATCHSELEVES!$Y$14:$AF$600,8,FALSE),0)","v":0},{"$f":"IFERROR(VLOOKUP(MD23,MATCHSELEVES!$Y$14:$AG$600,9,FALSE),0)","v":0},"Kailp_15",{"$f":"IFERROR(VLOOKUP(MJ23,MATCHSELEVES!$Y$14:$AE$600,3,FALSE),0)","v":0},{"$f":"IFERROR(VLOOKUP(MJ23,MATCHSELEVES!$Y$14:$AE$600,4,FALSE),0)","v":0},{"$f":"IFERROR(VLOOKUP(MJ23,MATCHSELEVES!$Y$14:$AE$600,5,FALSE),0)","v":0},{"$f":"IFERROR(VLOOKUP(MJ23,MATCHSELEVES!$Y$14:$AF$600,8,FALSE),0)","v":0},{"$f":"IFERROR(VLOOKUP(MJ23,MATCHSELEVES!$Y$14:$AG$600,9,FALSE),0)","v":0},"Kailp_16",{"$f":"IFERROR(VLOOKUP(MP23,MATCHSELEVES!$Y$14:$AE$600,3,FALSE),0)","v":0},{"$f":"IFERROR(VLOOKUP(MP23,MATCHSELEVES!$Y$14:$AE$600,4,FALSE),0)","v":0},{"$f":"IFERROR(VLOOKUP(MP23,MATCHSELEVES!$Y$14:$AE$600,5,FALSE),0)","v":0},{"$f":"IFERROR(VLOOKUP(MP23,MATCHSELEVES!$Y$14:$AF$600,8,FALSE),0)","v":0},{"$f":"IFERROR(VLOOKUP(MP23,MATCHSELEVES!$Y$14:$AG$600,9,FALSE),0)","v":0},"Kailp_17",{"$f":"IFERROR(VLOOKUP(MV23,MATCHSELEVES!$Y$14:$AE$600,3,FALSE),0)","v":0},{"$f":"IFERROR(VLOOKUP(MV23,MATCHSELEVES!$Y$14:$AE$600,4,FALSE),0)","v":0},{"$f":"IFERROR(VLOOKUP(MV23,MATCHSELEVES!$Y$14:$AE$600,5,FALSE),0)","v":0},{"$f":"IFERROR(VLOOKUP(MV23,MATCHSELEVES!$Y$14:$AF$600,8,FALSE),0)","v":0},{"$f":"IFERROR(VLOOKUP(MV23,MATCHSELEVES!$Y$14:$AG$600,9,FALSE),0)","v":0},"Kailp_18",{"$f":"IFERROR(VLOOKUP(NB23,MATCHSELEVES!$Y$14:$AE$600,3,FALSE),0)","v":0},{"$f":"IFERROR(VLOOKUP(NB23,MATCHSELEVES!$Y$14:$AE$600,4,FALSE),0)","v":0},{"$f":"IFERROR(VLOOKUP(NB23,MATCHSELEVES!$Y$14:$AE$600,5,FALSE),0)","v":0},{"$f":"IFERROR(VLOOKUP(NB23,MATCHSELEVES!$Y$14:$AF$600,8,FALSE),0)","v":0},{"$f":"IFERROR(VLOOKUP(NB23,MATCHSELEVES!$Y$14:$AG$600,9,FALSE),0)","v":0},"Kailp_19",{"$f":"IFERROR(VLOOKUP(NH23,MATCHSELEVES!$Y$14:$AE$600,3,FALSE),0)","v":0},{"$f":"IFERROR(VLOOKUP(NH23,MATCHSELEVES!$Y$14:$AE$600,4,FALSE),0)","v":0},{"$f":"IFERROR(VLOOKUP(NH23,MATCHSELEVES!$Y$14:$AE$600,5,FALSE),0)","v":0},{"$f":"IFERROR(VLOOKUP(NH23,MATCHSELEVES!$Y$14:$AF$600,8,FALSE),0)","v":0},{"$f":"IFERROR(VLOOKUP(NH23,MATCHSELEVES!$Y$14:$AG$600,9,FALSE),0)","v":0},"Kailp_20",{"$f":"IFERROR(VLOOKUP(NN23,MATCHSELEVES!$Y$14:$AE$600,3,FALSE),0)","v":0},{"$f":"IFERROR(VLOOKUP(NN23,MATCHSELEVES!$Y$14:$AE$600,4,FALSE),0)","v":0},{"$f":"IFERROR(VLOOKUP(NN23,MATCHSELEVES!$Y$14:$AE$600,5,FALSE),0)","v":0},{"$f":"IFERROR(VLOOKUP(NN23,MATCHSELEVES!$Y$14:$AF$600,8,FALSE),0)","v":0},{"$f":"IFERROR(VLOOKUP(NN23,MATCHSELEVES!$Y$14:$AG$600,9,FALSE),0)","v":0},"Kailp_21",{"$f":"IFERROR(VLOOKUP(NT23,MATCHSELEVES!$Y$14:$AE$600,3,FALSE),0)","v":0},{"$f":"IFERROR(VLOOKUP(NT23,MATCHSELEVES!$Y$14:$AE$600,4,FALSE),0)","v":0},{"$f":"IFERROR(VLOOKUP(NT23,MATCHSELEVES!$Y$14:$AE$600,5,FALSE),0)","v":0},{"$f":"IFERROR(VLOOKUP(NT23,MATCHSELEVES!$Y$14:$AF$600,8,FALSE),0)","v":0},{"$f":"IFERROR(VLOOKUP(NT23,MATCHSELEVES!$Y$14:$AG$600,9,FALSE),0)","v":0},"Kailp_22",{"$f":"IFERROR(VLOOKUP(NZ23,MATCHSELEVES!$Y$14:$AE$600,3,FALSE),0)","v":0},{"$f":"IFERROR(VLOOKUP(NZ23,MATCHSELEVES!$Y$14:$AE$600,4,FALSE),0)","v":0},{"$f":"IFERROR(VLOOKUP(NZ23,MATCHSELEVES!$Y$14:$AE$600,5,FALSE),0)","v":0},{"$f":"IFERROR(VLOOKUP(NZ23,MATCHSELEVES!$Y$14:$AF$600,8,FALSE),0)","v":0},{"$f":"IFERROR(VLOOKUP(NZ23,MATCHSELEVES!$Y$14:$AG$600,9,FALSE),0)","v":0},"Kailp_23",{"$f":"IFERROR(VLOOKUP(OF23,MATCHSELEVES!$Y$14:$AE$600,3,FALSE),0)","v":0},{"$f":"IFERROR(VLOOKUP(OF23,MATCHSELEVES!$Y$14:$AE$600,4,FALSE),0)","v":0},{"$f":"IFERROR(VLOOKUP(OF23,MATCHSELEVES!$Y$14:$AE$600,5,FALSE),0)","v":0},{"$f":"IFERROR(VLOOKUP(OF23,MATCHSELEVES!$Y$14:$AF$600,8,FALSE),0)","v":0},{"$f":"IFERROR(VLOOKUP(OF23,MATCHSELEVES!$Y$14:$AG$600,9,FALSE),0)","v":0},"Kailp_24",{"$f":"IFERROR(VLOOKUP(OL23,MATCHSELEVES!$Y$14:$AE$600,3,FALSE),0)","v":0},{"$f":"IFERROR(VLOOKUP(OL23,MATCHSELEVES!$Y$14:$AE$600,4,FALSE),0)","v":0},{"$f":"IFERROR(VLOOKUP(OL23,MATCHSELEVES!$Y$14:$AE$600,5,FALSE),0)","v":0},{"$f":"IFERROR(VLOOKUP(OL23,MATCHSELEVES!$Y$14:$AF$600,8,FALSE),0)","v":0},{"$f":"IFERROR(VLOOKUP(OL23,MATCHSELEVES!$Y$14:$AG$600,9,FALSE),0)","v":0},"Kailp_25",{"$f":"IFERROR(VLOOKUP(OR23,MATCHSELEVES!$Y$14:$AE$600,3,FALSE),0)","v":0},{"$f":"IFERROR(VLOOKUP(OR23,MATCHSELEVES!$Y$14:$AE$600,4,FALSE),0)","v":0},{"$f":"IFERROR(VLOOKUP(OR23,MATCHSELEVES!$Y$14:$AE$600,5,FALSE),0)","v":0},{"$f":"IFERROR(VLOOKUP(OR23,MATCHSELEVES!$Y$14:$AF$600,8,FALSE),0)","v":0},{"$f":"IFERROR(VLOOKUP(OR23,MATCHSELEVES!$Y$14:$AG$600,9,FALSE),0)","v":0},"Kailp_26",{"$f":"IFERROR(VLOOKUP(OX23,MATCHSELEVES!$Y$14:$AE$600,3,FALSE),0)","v":0},{"$f":"IFERROR(VLOOKUP(OX23,MATCHSELEVES!$Y$14:$AE$600,4,FALSE),0)","v":0},{"$f":"IFERROR(VLOOKUP(OX23,MATCHSELEVES!$Y$14:$AE$600,5,FALSE),0)","v":0},{"$f":"IFERROR(VLOOKUP(OX23,MATCHSELEVES!$Y$14:$AF$600,8,FALSE),0)","v":0},{"$f":"IFERROR(VLOOKUP(OX23,MATCHSELEVES!$Y$14:$AG$600,9,FALSE),0)","v":0},"Kailp_27",{"$f":"IFERROR(VLOOKUP(PD23,MATCHSELEVES!$Y$14:$AE$600,3,FALSE),0)","v":0},{"$f":"IFERROR(VLOOKUP(PD23,MATCHSELEVES!$Y$14:$AE$600,4,FALSE),0)","v":0},{"$f":"IFERROR(VLOOKUP(PD23,MATCHSELEVES!$Y$14:$AE$600,5,FALSE),0)","v":0},{"$f":"IFERROR(VLOOKUP(PD23,MATCHSELEVES!$Y$14:$AF$600,8,FALSE),0)","v":0},{"$f":"IFERROR(VLOOKUP(PD23,MATCHSELEVES!$Y$14:$AG$600,9,FALSE),0)","v":0},"Kailp_28",{"$f":"IFERROR(VLOOKUP(PJ23,MATCHSELEVES!$Y$14:$AE$600,3,FALSE),0)","v":0},{"$f":"IFERROR(VLOOKUP(PJ23,MATCHSELEVES!$Y$14:$AE$600,4,FALSE),0)","v":0},{"$f":"IFERROR(VLOOKUP(PJ23,MATCHSELEVES!$Y$14:$AE$600,5,FALSE),0)","v":0},{"$f":"IFERROR(VLOOKUP(PJ23,MATCHSELEVES!$Y$14:$AF$600,8,FALSE),0)","v":0},{"$f":"IFERROR(VLOOKUP(PJ23,MATCHSELEVES!$Y$14:$AG$600,9,FALSE),0)","v":0},"Kailp_29",{"$f":"IFERROR(VLOOKUP(PP23,MATCHSELEVES!$Y$14:$AE$600,3,FALSE),0)","v":0},{"$f":"IFERROR(VLOOKUP(PP23,MATCHSELEVES!$Y$14:$AE$600,4,FALSE),0)","v":0},{"$f":"IFERROR(VLOOKUP(PP23,MATCHSELEVES!$Y$14:$AE$600,5,FALSE),0)","v":0},{"$f":"IFERROR(VLOOKUP(PP23,MATCHSELEVES!$Y$14:$AF$600,8,FALSE),0)","v":0},{"$f":"IFERROR(VLOOKUP(PP23,MATCHSELEVES!$Y$14:$AG$600,9,FALSE),0)","v":0},"Kailp_30",{"$f":"IFERROR(VLOOKUP(PV23,MATCHSELEVES!$Y$14:$AE$600,3,FALSE),0)","v":0},{"$f":"IFERROR(VLOOKUP(PV23,MATCHSELEVES!$Y$14:$AE$600,4,FALSE),0)","v":0},{"$f":"IFERROR(VLOOKUP(PV23,MATCHSELEVES!$Y$14:$AE$600,5,FALSE),0)","v":0},{"$f":"IFERROR(VLOOKUP(PV23,MATCHSELEVES!$Y$14:$AF$600,8,FALSE),0)","v":0},{"$f":"IFERROR(VLOOKUP(PV23,MATCHSELEVES!$Y$14:$AG$600,9,FALSE),0)","v":0},"Kailp_31",{"$f":"IFERROR(VLOOKUP(QB23,MATCHSELEVES!$Y$14:$AE$600,3,FALSE),0)","v":0},{"$f":"IFERROR(VLOOKUP(QB23,MATCHSELEVES!$Y$14:$AE$600,4,FALSE),0)","v":0},{"$f":"IFERROR(VLOOKUP(QB23,MATCHSELEVES!$Y$14:$AE$600,5,FALSE),0)","v":0},{"$f":"IFERROR(VLOOKUP(QB23,MATCHSELEVES!$Y$14:$AF$600,8,FALSE),0)","v":0},{"$f":"IFERROR(VLOOKUP(QB23,MATCHSELEVES!$Y$14:$AG$600,9,FALSE),0)","v":0},"Kailp_32",{"$f":"IFERROR(VLOOKUP(QH23,MATCHSELEVES!$Y$14:$AE$600,3,FALSE),0)","v":0},{"$f":"IFERROR(VLOOKUP(QH23,MATCHSELEVES!$Y$14:$AE$600,4,FALSE),0)","v":0},{"$f":"IFERROR(VLOOKUP(QH23,MATCHSELEVES!$Y$14:$AE$600,5,FALSE),0)","v":0},{"$f":"IFERROR(VLOOKUP(QH23,MATCHSELEVES!$Y$14:$AF$600,8,FALSE),0)","v":0},{"$f":"IFERROR(VLOOKUP(QH23,MATCHSELEVES!$Y$14:$AG$600,9,FALSE),0)","v":0},"Kailp_33",{"$f":"IFERROR(VLOOKUP(QN23,MATCHSELEVES!$Y$14:$AE$600,3,FALSE),0)","v":0},{"$f":"IFERROR(VLOOKUP(QN23,MATCHSELEVES!$Y$14:$AE$600,4,FALSE),0)","v":0},{"$f":"IFERROR(VLOOKUP(QN23,MATCHSELEVES!$Y$14:$AE$600,5,FALSE),0)","v":0},{"$f":"IFERROR(VLOOKUP(QN23,MATCHSELEVES!$Y$14:$AF$600,8,FALSE),0)","v":0},{"$f":"IFERROR(VLOOKUP(QN23,MATCHSELEVES!$Y$14:$AG$600,9,FALSE),0)","v":0},"Kailp_34",{"$f":"IFERROR(VLOOKUP(QT23,MATCHSELEVES!$Y$14:$AE$600,3,FALSE),0)","v":0},{"$f":"IFERROR(VLOOKUP(QT23,MATCHSELEVES!$Y$14:$AE$600,4,FALSE),0)","v":0},{"$f":"IFERROR(VLOOKUP(QT23,MATCHSELEVES!$Y$14:$AE$600,5,FALSE),0)","v":0},{"$f":"IFERROR(VLOOKUP(QT23,MATCHSELEVES!$Y$14:$AF$600,8,FALSE),0)","v":0},{"$f":"IFERROR(VLOOKUP(QT23,MATCHSELEVES!$Y$14:$AG$600,9,FALSE),0)","v":0},"Kailp_35",{"$f":"IFERROR(VLOOKUP(QZ23,MATCHSELEVES!$Y$14:$AE$600,3,FALSE),0)","v":0},{"$f":"IFERROR(VLOOKUP(QZ23,MATCHSELEVES!$Y$14:$AE$600,4,FALSE),0)","v":0},{"$f":"IFERROR(VLOOKUP(QZ23,MATCHSELEVES!$Y$14:$AE$600,5,FALSE),0)","v":0},{"$f":"IFERROR(VLOOKUP(QZ23,MATCHSELEVES!$Y$14:$AF$600,8,FALSE),0)","v":0},{"$f":"IFERROR(VLOOKUP(QZ23,MATCHSELEVES!$Y$14:$AG$600,9,FALSE),0)","v":0},"Kailp_36",{"$f":"IFERROR(VLOOKUP(RF23,MATCHSELEVES!$Y$14:$AE$600,3,FALSE),0)","v":0},{"$f":"IFERROR(VLOOKUP(RF23,MATCHSELEVES!$Y$14:$AE$600,4,FALSE),0)","v":0},{"$f":"IFERROR(VLOOKUP(RF23,MATCHSELEVES!$Y$14:$AE$600,5,FALSE),0)","v":0},{"$f":"IFERROR(VLOOKUP(RF23,MATCHSELEVES!$Y$14:$AF$600,8,FALSE),0)","v":0},{"$f":"IFERROR(VLOOKUP(RF23,MATCHSELEVES!$Y$14:$AG$600,9,FALSE),0)","v":0},"Kailp_37",{"$f":"IFERROR(VLOOKUP(RL23,MATCHSELEVES!$Y$14:$AE$600,3,FALSE),0)","v":0},{"$f":"IFERROR(VLOOKUP(RL23,MATCHSELEVES!$Y$14:$AE$600,4,FALSE),0)","v":0},{"$f":"IFERROR(VLOOKUP(RL23,MATCHSELEVES!$Y$14:$AE$600,5,FALSE),0)","v":0},{"$f":"IFERROR(VLOOKUP(RL23,MATCHSELEVES!$Y$14:$AF$600,8,FALSE),0)","v":0},{"$f":"IFERROR(VLOOKUP(RL23,MATCHSELEVES!$Y$14:$AG$600,9,FALSE),0)","v":0},"Kailp_38",{"$f":"IFERROR(VLOOKUP(RR23,MATCHSELEVES!$Y$14:$AE$600,3,FALSE),0)","v":0},{"$f":"IFERROR(VLOOKUP(RR23,MATCHSELEVES!$Y$14:$AE$600,4,FALSE),0)","v":0},{"$f":"IFERROR(VLOOKUP(RR23,MATCHSELEVES!$Y$14:$AE$600,5,FALSE),0)","v":0},{"$f":"IFERROR(VLOOKUP(RR23,MATCHSELEVES!$Y$14:$AF$600,8,FALSE),0)","v":0},{"$f":"IFERROR(VLOOKUP(RR23,MATCHSELEVES!$Y$14:$AG$600,9,FALSE),0)","v":0},"Kailp_39",{"$f":"IFERROR(VLOOKUP(RX23,MATCHSELEVES!$Y$14:$AE$600,3,FALSE),0)","v":0},{"$f":"IFERROR(VLOOKUP(RX23,MATCHSELEVES!$Y$14:$AE$600,4,FALSE),0)","v":0},{"$f":"IFERROR(VLOOKUP(RX23,MATCHSELEVES!$Y$14:$AE$600,5,FALSE),0)","v":0},{"$f":"IFERROR(VLOOKUP(RX23,MATCHSELEVES!$Y$14:$AF$600,8,FALSE),0)","v":0},{"$f":"IFERROR(VLOOKUP(RX23,MATCHSELEVES!$Y$14:$AG$600,9,FALSE),0)","v":0},"Kailp_40",{"$f":"IFERROR(VLOOKUP(SD23,MATCHSELEVES!$Y$14:$AE$600,3,FALSE),0)","v":0},{"$f":"IFERROR(VLOOKUP(SD23,MATCHSELEVES!$Y$14:$AE$600,4,FALSE),0)","v":0},{"$f":"IFERROR(VLOOKUP(SD23,MATCHSELEVES!$Y$14:$AE$600,5,FALSE),0)","v":0},{"$f":"IFERROR(VLOOKUP(SD23,MATCHSELEVES!$Y$14:$AF$600,8,FALSE),0)","v":0},{"$f":"IFERROR(VLOOKUP(SD23,MATCHSELEVES!$Y$14:$AG$600,9,FALSE),0)","v":0}]
[21,null,{"$f":"MD1POINT!C24","v":"Malcom"},{"$f":"MD1POINT!D24","v":1},{"$f":"COUNTIF(MATCHSELEVES!$Z$14:$Z$600,C24)+COUNTIF(MATCHSELEVES!$Z$14:$Z$600,$C24&\"p\")","v":0},1,{"$f":"COUNTIF(MATCHSELEVES!$F$14:$H$249,C24)","v":0},1,0,1,0,1,0,1,{"$f":"Y24+AE24+AK24+AQ24+AW24+BC24+BI24+BO24+BU24+CA24+CG24+CM24+CS24+CY24+DE24+DK24+DQ24+DW24+EC24+EI24+EO24+EU24+FA24+FG24+FM24+FS24+FY24+GE24+GK24+GQ24+GW24+4+HI24+HO24+HU24+IA24+HC24+IG24+IM24+IY24+IS24+JH24+JN24+JZ24+JT24+KF24+KR24+KX24+LJ24+LP24+LV24+LD24+MB24+MH24+MN24+MZ24+MT24+NF24+NL24+NR24+NX24+OD24+OJ24+OP24+OV24+PB24+PH24+PT24+PN24+PZ24+QF24+QL24+QR24+RD24+QX24+RJ24+RP24+RV24+SB24+SH24+KL24+Tableau10[[#This Row],[Nombre de matchs joués]]*2","v":4},1,{"$f":"(Tableau10[[#This Row],[CLASSEMENT1]]+Tableau10[[#This Row],[CLASSEMENT2]]+Tableau10[[#This Row],[CLASSEMENT3]]+Tableau10[[#This Row],[CLASSEMENT4]]+Tableau10[[#This Row],[CLASSEMENT5]]+Tableau10[[#This Row],[CLASSEMENT6]])/6","v":1},{"$f":"RANK(Tableau10[[#This Row],[MOYENNE CLASSEMENTS]],Tableau10[MOYENNE CLASSEMENTS],1)","v":1},null,{"$f":"Tableau10[[#This Row],[CLASSEMENT1]]","v":1},"Malcom_1",{"$f":"IFERROR(VLOOKUP(U24,MATCHSELEVES!$Y$14:$AE$600,3,FALSE),0)","v":0},{"$f":"IFERROR(VLOOKUP(U24,MATCHSELEVES!$Y$14:$AE$600,4,FALSE),0)","v":0},{"$f":"IFERROR(VLOOKUP(U24,MATCHSELEVES!$Y$14:$AE$600,5,FALSE),0)","v":0},{"$f":"IFERROR(VLOOKUP(U24,MATCHSELEVES!$Y$14:$AF$600,8,FALSE),0)","v":0},{"$f":"IFERROR(VLOOKUP(U24,MATCHSELEVES!$Y$14:$AG$600,9,FALSE),0)","v":0},"Malcom_2",{"$f":"IFERROR(VLOOKUP(AA24,MATCHSELEVES!$Y$14:$AE$600,3,FALSE),0)","v":0},{"$f":"IFERROR(VLOOKUP(AA24,MATCHSELEVES!$Y$14:$AE$600,4,FALSE),0)","v":0},{"$f":"IFERROR(VLOOKUP(AA24,MATCHSELEVES!$Y$14:$AE$600,5,FALSE),0)","v":0},{"$f":"IFERROR(VLOOKUP(AA24,MATCHSELEVES!$Y$14:$AF$600,8,FALSE),0)","v":0},{"$f":"IFERROR(VLOOKUP(AA24,MATCHSELEVES!$Y$14:$AG$600,9,FALSE),0)","v":0},"Malcom_3",{"$f":"IFERROR(VLOOKUP(AG24,MATCHSELEVES!$Y$14:$AE$600,3,FALSE),0)","v":0},{"$f":"IFERROR(VLOOKUP(AG24,MATCHSELEVES!$Y$14:$AE$600,4,FALSE),0)","v":0},{"$f":"IFERROR(VLOOKUP(AG24,MATCHSELEVES!$Y$14:$AE$600,5,FALSE),0)","v":0},{"$f":"IFERROR(VLOOKUP(AG24,MATCHSELEVES!$Y$14:$AF$600,8,FALSE),0)","v":0},{"$f":"IFERROR(VLOOKUP(AG24,MATCHSELEVES!$Y$14:$AG$600,9,FALSE),0)","v":0},"Malcom_4",{"$f":"IFERROR(VLOOKUP(AM24,MATCHSELEVES!$Y$14:$AE$600,3,FALSE),0)","v":0},{"$f":"IFERROR(VLOOKUP(AM24,MATCHSELEVES!$Y$14:$AE$600,4,FALSE),0)","v":0},{"$f":"IFERROR(VLOOKUP(AM24,MATCHSELEVES!$Y$14:$AE$600,5,FALSE),0)","v":0},{"$f":"IFERROR(VLOOKUP(AM24,MATCHSELEVES!$Y$14:$AF$600,8,FALSE),0)","v":0},{"$f":"IFERROR(VLOOKUP(AM24,MATCHSELEVES!$Y$14:$AG$600,9,FALSE),0)","v":0},"Malcom_5",{"$f":"IFERROR(VLOOKUP(AS24,MATCHSELEVES!$Y$14:$AE$600,3,FALSE),0)","v":0},{"$f":"IFERROR(VLOOKUP(AS24,MATCHSELEVES!$Y$14:$AE$600,4,FALSE),0)","v":0},{"$f":"IFERROR(VLOOKUP(AS24,MATCHSELEVES!$Y$14:$AE$600,5,FALSE),0)","v":0},{"$f":"IFERROR(VLOOKUP(AS24,MATCHSELEVES!$Y$14:$AF$600,8,FALSE),0)","v":0},{"$f":"IFERROR(VLOOKUP(AS24,MATCHSELEVES!$Y$14:$AG$600,9,FALSE),0)","v":0},"Malcom_6",{"$f":"IFERROR(VLOOKUP(AY24,MATCHSELEVES!$Y$14:$AE$600,3,FALSE),0)","v":0},{"$f":"IFERROR(VLOOKUP(AY24,MATCHSELEVES!$Y$14:$AE$600,4,FALSE),0)","v":0},{"$f":"IFERROR(VLOOKUP(AY24,MATCHSELEVES!$Y$14:$AE$600,5,FALSE),0)","v":0},{"$f":"IFERROR(VLOOKUP(AY24,MATCHSELEVES!$Y$14:$AF$600,8,FALSE),0)","v":0},{"$f":"IFERROR(VLOOKUP(AY24,MATCHSELEVES!$Y$14:$AG$600,9,FALSE),0)","v":0},"Malcom_7",{"$f":"IFERROR(VLOOKUP(BE24,MATCHSELEVES!$Y$14:$AE$600,3,FALSE),0)","v":0},{"$f":"IFERROR(VLOOKUP(BE24,MATCHSELEVES!$Y$14:$AE$600,4,FALSE),0)","v":0},{"$f":"IFERROR(VLOOKUP(BE24,MATCHSELEVES!$Y$14:$AE$600,5,FALSE),0)","v":0},{"$f":"IFERROR(VLOOKUP(BE24,MATCHSELEVES!$Y$14:$AF$600,8,FALSE),0)","v":0},{"$f":"IFERROR(VLOOKUP(BE24,MATCHSELEVES!$Y$14:$AG$600,9,FALSE),0)","v":0},"Malcom_8",{"$f":"IFERROR(VLOOKUP(BK24,MATCHSELEVES!$Y$14:$AE$600,3,FALSE),0)","v":0},{"$f":"IFERROR(VLOOKUP(BK24,MATCHSELEVES!$Y$14:$AE$600,4,FALSE),0)","v":0},{"$f":"IFERROR(VLOOKUP(BK24,MATCHSELEVES!$Y$14:$AE$600,5,FALSE),0)","v":0},{"$f":"IFERROR(VLOOKUP(BK24,MATCHSELEVES!$Y$14:$AF$600,8,FALSE),0)","v":0},{"$f":"IFERROR(VLOOKUP(BK24,MATCHSELEVES!$Y$14:$AG$600,9,FALSE),0)","v":0},"Malcom_9",{"$f":"IFERROR(VLOOKUP(BQ24,MATCHSELEVES!$Y$14:$AE$600,3,FALSE),0)","v":0},{"$f":"IFERROR(VLOOKUP(BQ24,MATCHSELEVES!$Y$14:$AE$600,4,FALSE),0)","v":0},{"$f":"IFERROR(VLOOKUP(BQ24,MATCHSELEVES!$Y$14:$AE$600,5,FALSE),0)","v":0},{"$f":"IFERROR(VLOOKUP(BQ24,MATCHSELEVES!$Y$14:$AF$600,8,FALSE),0)","v":0},{"$f":"IFERROR(VLOOKUP(BQ24,MATCHSELEVES!$Y$14:$AG$600,9,FALSE),0)","v":0},"Malcom_10",{"$f":"IFERROR(VLOOKUP(BW24,MATCHSELEVES!$Y$14:$AE$600,3,FALSE),0)","v":0},{"$f":"IFERROR(VLOOKUP(BW24,MATCHSELEVES!$Y$14:$AE$600,4,FALSE),0)","v":0},{"$f":"IFERROR(VLOOKUP(BW24,MATCHSELEVES!$Y$14:$AE$600,5,FALSE),0)","v":0},{"$f":"IFERROR(VLOOKUP(BW24,MATCHSELEVES!$Y$14:$AF$600,8,FALSE),0)","v":0},{"$f":"IFERROR(VLOOKUP(BW24,MATCHSELEVES!$Y$14:$AG$600,9,FALSE),0)","v":0},"Malcom_11",{"$f":"IFERROR(VLOOKUP(CC24,MATCHSELEVES!$Y$14:$AE$600,3,FALSE),0)","v":0},{"$f":"IFERROR(VLOOKUP(CC24,MATCHSELEVES!$Y$14:$AE$600,4,FALSE),0)","v":0},{"$f":"IFERROR(VLOOKUP(CC24,MATCHSELEVES!$Y$14:$AE$600,5,FALSE),0)","v":0},{"$f":"IFERROR(VLOOKUP(CC24,MATCHSELEVES!$Y$14:$AF$600,8,FALSE),0)","v":0},{"$f":"IFERROR(VLOOKUP(CC24,MATCHSELEVES!$Y$14:$AG$600,9,FALSE),0)","v":0},"Malcom_12",{"$f":"IFERROR(VLOOKUP(CI24,MATCHSELEVES!$Y$14:$AE$600,3,FALSE),0)","v":0},{"$f":"IFERROR(VLOOKUP(CI24,MATCHSELEVES!$Y$14:$AE$600,4,FALSE),0)","v":0},{"$f":"IFERROR(VLOOKUP(CI24,MATCHSELEVES!$Y$14:$AE$600,5,FALSE),0)","v":0},{"$f":"IFERROR(VLOOKUP(CI24,MATCHSELEVES!$Y$14:$AF$600,8,FALSE),0)","v":0},{"$f":"IFERROR(VLOOKUP(CI24,MATCHSELEVES!$Y$14:$AG$600,9,FALSE),0)","v":0},"Malcom_13",{"$f":"IFERROR(VLOOKUP(CO24,MATCHSELEVES!$Y$14:$AE$600,3,FALSE),0)","v":0},{"$f":"IFERROR(VLOOKUP(CO24,MATCHSELEVES!$Y$14:$AE$600,4,FALSE),0)","v":0},{"$f":"IFERROR(VLOOKUP(CO24,MATCHSELEVES!$Y$14:$AE$600,5,FALSE),0)","v":0},{"$f":"IFERROR(VLOOKUP(CO24,MATCHSELEVES!$Y$14:$AF$600,8,FALSE),0)","v":0},{"$f":"IFERROR(VLOOKUP(CO24,MATCHSELEVES!$Y$14:$AG$600,9,FALSE),0)","v":0},"Malcom_14",{"$f":"IFERROR(VLOOKUP(CU24,MATCHSELEVES!$Y$14:$AE$600,3,FALSE),0)","v":0},{"$f":"IFERROR(VLOOKUP(CU24,MATCHSELEVES!$Y$14:$AE$600,4,FALSE),0)","v":0},{"$f":"IFERROR(VLOOKUP(CU24,MATCHSELEVES!$Y$14:$AE$600,5,FALSE),0)","v":0},{"$f":"IFERROR(VLOOKUP(CU24,MATCHSELEVES!$Y$14:$AF$600,8,FALSE),0)","v":0},{"$f":"IFERROR(VLOOKUP(CU24,MATCHSELEVES!$Y$14:$AG$600,9,FALSE),0)","v":0},"Malcom_15",{"$f":"IFERROR(VLOOKUP(DA24,MATCHSELEVES!$Y$14:$AE$600,3,FALSE),0)","v":0},{"$f":"IFERROR(VLOOKUP(DA24,MATCHSELEVES!$Y$14:$AE$600,4,FALSE),0)","v":0},{"$f":"IFERROR(VLOOKUP(DA24,MATCHSELEVES!$Y$14:$AE$600,5,FALSE),0)","v":0},{"$f":"IFERROR(VLOOKUP(DA24,MATCHSELEVES!$Y$14:$AF$600,8,FALSE),0)","v":0},{"$f":"IFERROR(VLOOKUP(DA24,MATCHSELEVES!$Y$14:$AG$600,9,FALSE),0)","v":0},"Malcom_16",{"$f":"IFERROR(VLOOKUP(DG24,MATCHSELEVES!$Y$14:$AE$600,3,FALSE),0)","v":0},{"$f":"IFERROR(VLOOKUP(DG24,MATCHSELEVES!$Y$14:$AE$600,4,FALSE),0)","v":0},{"$f":"IFERROR(VLOOKUP(DG24,MATCHSELEVES!$Y$14:$AE$600,5,FALSE),0)","v":0},{"$f":"IFERROR(VLOOKUP(DG24,MATCHSELEVES!$Y$14:$AF$600,8,FALSE),0)","v":0},{"$f":"IFERROR(VLOOKUP(DG24,MATCHSELEVES!$Y$14:$AG$600,9,FALSE),0)","v":0},"Malcom_17",{"$f":"IFERROR(VLOOKUP(DM24,MATCHSELEVES!$Y$14:$AE$600,3,FALSE),0)","v":0},{"$f":"IFERROR(VLOOKUP(DM24,MATCHSELEVES!$Y$14:$AE$600,4,FALSE),0)","v":0},{"$f":"IFERROR(VLOOKUP(DM24,MATCHSELEVES!$Y$14:$AE$600,5,FALSE),0)","v":0},{"$f":"IFERROR(VLOOKUP(DM24,MATCHSELEVES!$Y$14:$AF$600,8,FALSE),0)","v":0},{"$f":"IFERROR(VLOOKUP(DM24,MATCHSELEVES!$Y$14:$AG$600,9,FALSE),0)","v":0},"Malcom_18",{"$f":"IFERROR(VLOOKUP(DS24,MATCHSELEVES!$Y$14:$AE$600,3,FALSE),0)","v":0},{"$f":"IFERROR(VLOOKUP(DS24,MATCHSELEVES!$Y$14:$AE$600,4,FALSE),0)","v":0},{"$f":"IFERROR(VLOOKUP(DS24,MATCHSELEVES!$Y$14:$AE$600,5,FALSE),0)","v":0},{"$f":"IFERROR(VLOOKUP(DS24,MATCHSELEVES!$Y$14:$AF$600,8,FALSE),0)","v":0},{"$f":"IFERROR(VLOOKUP(DS24,MATCHSELEVES!$Y$14:$AG$600,9,FALSE),0)","v":0},"Malcom_19",{"$f":"IFERROR(VLOOKUP(DY24,MATCHSELEVES!$Y$14:$AE$600,3,FALSE),0)","v":0},{"$f":"IFERROR(VLOOKUP(DY24,MATCHSELEVES!$Y$14:$AE$600,4,FALSE),0)","v":0},{"$f":"IFERROR(VLOOKUP(DY24,MATCHSELEVES!$Y$14:$AE$600,5,FALSE),0)","v":0},{"$f":"IFERROR(VLOOKUP(DY24,MATCHSELEVES!$Y$14:$AF$600,8,FALSE),0)","v":0},{"$f":"IFERROR(VLOOKUP(DY24,MATCHSELEVES!$Y$14:$AG$600,9,FALSE),0)","v":0},"Malcom_20",{"$f":"IFERROR(VLOOKUP(EE24,MATCHSELEVES!$Y$14:$AE$600,3,FALSE),0)","v":0},{"$f":"IFERROR(VLOOKUP(EE24,MATCHSELEVES!$Y$14:$AE$600,4,FALSE),0)","v":0},{"$f":"IFERROR(VLOOKUP(EE24,MATCHSELEVES!$Y$14:$AE$600,5,FALSE),0)","v":0},{"$f":"IFERROR(VLOOKUP(EE24,MATCHSELEVES!$Y$14:$AF$600,8,FALSE),0)","v":0},{"$f":"IFERROR(VLOOKUP(EE24,MATCHSELEVES!$Y$14:$AG$600,9,FALSE),0)","v":0},"Malcom_21",{"$f":"IFERROR(VLOOKUP(EK24,MATCHSELEVES!$Y$14:$AE$600,3,FALSE),0)","v":0},{"$f":"IFERROR(VLOOKUP(EK24,MATCHSELEVES!$Y$14:$AE$600,4,FALSE),0)","v":0},{"$f":"IFERROR(VLOOKUP(EK24,MATCHSELEVES!$Y$14:$AE$600,5,FALSE),0)","v":0},{"$f":"IFERROR(VLOOKUP(EK24,MATCHSELEVES!$Y$14:$AF$600,8,FALSE),0)","v":0},{"$f":"IFERROR(VLOOKUP(EK24,MATCHSELEVES!$Y$14:$AG$600,9,FALSE),0)","v":0},"Malcom_22",{"$f":"IFERROR(VLOOKUP(EQ24,MATCHSELEVES!$Y$14:$AE$600,3,FALSE),0)","v":0},{"$f":"IFERROR(VLOOKUP(EQ24,MATCHSELEVES!$Y$14:$AE$600,4,FALSE),0)","v":0},{"$f":"IFERROR(VLOOKUP(EQ24,MATCHSELEVES!$Y$14:$AE$600,5,FALSE),0)","v":0},{"$f":"IFERROR(VLOOKUP(EQ24,MATCHSELEVES!$Y$14:$AF$600,8,FALSE),0)","v":0},{"$f":"IFERROR(VLOOKUP(EQ24,MATCHSELEVES!$Y$14:$AG$600,9,FALSE),0)","v":0},"Malcom_23",{"$f":"IFERROR(VLOOKUP(EW24,MATCHSELEVES!$Y$14:$AE$600,3,FALSE),0)","v":0},{"$f":"IFERROR(VLOOKUP(EW24,MATCHSELEVES!$Y$14:$AE$600,4,FALSE),0)","v":0},{"$f":"IFERROR(VLOOKUP(EW24,MATCHSELEVES!$Y$14:$AE$600,5,FALSE),0)","v":0},{"$f":"IFERROR(VLOOKUP(EW24,MATCHSELEVES!$Y$14:$AF$600,8,FALSE),0)","v":0},{"$f":"IFERROR(VLOOKUP(EW24,MATCHSELEVES!$Y$14:$AG$600,9,FALSE),0)","v":0},"Malcom_24",{"$f":"IFERROR(VLOOKUP(FC24,MATCHSELEVES!$Y$14:$AE$600,3,FALSE),0)","v":0},{"$f":"IFERROR(VLOOKUP(FC24,MATCHSELEVES!$Y$14:$AE$600,4,FALSE),0)","v":0},{"$f":"IFERROR(VLOOKUP(FC24,MATCHSELEVES!$Y$14:$AE$600,5,FALSE),0)","v":0},{"$f":"IFERROR(VLOOKUP(FC24,MATCHSELEVES!$Y$14:$AF$600,8,FALSE),0)","v":0},{"$f":"IFERROR(VLOOKUP(FC24,MATCHSELEVES!$Y$14:$AG$600,9,FALSE),0)","v":0},"Malcom_25",{"$f":"IFERROR(VLOOKUP(FI24,MATCHSELEVES!$Y$14:$AE$600,3,FALSE),0)","v":0},{"$f":"IFERROR(VLOOKUP(FI24,MATCHSELEVES!$Y$14:$AE$600,4,FALSE),0)","v":0},{"$f":"IFERROR(VLOOKUP(FI24,MATCHSELEVES!$Y$14:$AE$600,5,FALSE),0)","v":0},{"$f":"IFERROR(VLOOKUP(FI24,MATCHSELEVES!$Y$14:$AF$600,8,FALSE),0)","v":0},{"$f":"IFERROR(VLOOKUP(FI24,MATCHSELEVES!$Y$14:$AG$600,9,FALSE),0)","v":0},"Malcom_26",{"$f":"IFERROR(VLOOKUP(FO24,MATCHSELEVES!$Y$14:$AE$600,3,FALSE),0)","v":0},{"$f":"IFERROR(VLOOKUP(FO24,MATCHSELEVES!$Y$14:$AE$600,4,FALSE),0)","v":0},{"$f":"IFERROR(VLOOKUP(FO24,MATCHSELEVES!$Y$14:$AE$600,5,FALSE),0)","v":0},{"$f":"IFERROR(VLOOKUP(FO24,MATCHSELEVES!$Y$14:$AF$600,8,FALSE),0)","v":0},{"$f":"IFERROR(VLOOKUP(FO24,MATCHSELEVES!$Y$14:$AG$600,9,FALSE),0)","v":0},"Malcom_27",{"$f":"IFERROR(VLOOKUP(FU24,MATCHSELEVES!$Y$14:$AE$600,3,FALSE),0)","v":0},{"$f":"IFERROR(VLOOKUP(FU24,MATCHSELEVES!$Y$14:$AE$600,4,FALSE),0)","v":0},{"$f":"IFERROR(VLOOKUP(FU24,MATCHSELEVES!$Y$14:$AE$600,5,FALSE),0)","v":0},{"$f":"IFERROR(VLOOKUP(FU24,MATCHSELEVES!$Y$14:$AF$600,8,FALSE),0)","v":0},{"$f":"IFERROR(VLOOKUP(FU24,MATCHSELEVES!$Y$14:$AG$600,9,FALSE),0)","v":0},"Malcom_28",{"$f":"IFERROR(VLOOKUP(GA24,MATCHSELEVES!$Y$14:$AE$600,3,FALSE),0)","v":0},{"$f":"IFERROR(VLOOKUP(GA24,MATCHSELEVES!$Y$14:$AE$600,4,FALSE),0)","v":0},{"$f":"IFERROR(VLOOKUP(GA24,MATCHSELEVES!$Y$14:$AE$600,5,FALSE),0)","v":0},{"$f":"IFERROR(VLOOKUP(GA24,MATCHSELEVES!$Y$14:$AF$600,8,FALSE),0)","v":0},{"$f":"IFERROR(VLOOKUP(GA24,MATCHSELEVES!$Y$14:$AG$600,9,FALSE),0)","v":0},"Malcom_29",{"$f":"IFERROR(VLOOKUP(GG24,MATCHSELEVES!$Y$14:$AE$600,3,FALSE),0)","v":0},{"$f":"IFERROR(VLOOKUP(GG24,MATCHSELEVES!$Y$14:$AE$600,4,FALSE),0)","v":0},{"$f":"IFERROR(VLOOKUP(GG24,MATCHSELEVES!$Y$14:$AE$600,5,FALSE),0)","v":0},{"$f":"IFERROR(VLOOKUP(GG24,MATCHSELEVES!$Y$14:$AF$600,8,FALSE),0)","v":0},{"$f":"IFERROR(VLOOKUP(GG24,MATCHSELEVES!$Y$14:$AG$600,9,FALSE),0)","v":0},"Malcom_30",{"$f":"IFERROR(VLOOKUP(GM24,MATCHSELEVES!$Y$14:$AE$600,3,FALSE),0)","v":0},{"$f":"IFERROR(VLOOKUP(GM24,MATCHSELEVES!$Y$14:$AE$600,4,FALSE),0)","v":0},{"$f":"IFERROR(VLOOKUP(GM24,MATCHSELEVES!$Y$14:$AE$600,5,FALSE),0)","v":0},{"$f":"IFERROR(VLOOKUP(GM24,MATCHSELEVES!$Y$14:$AF$600,8,FALSE),0)","v":0},{"$f":"IFERROR(VLOOKUP(GM24,MATCHSELEVES!$Y$14:$AG$600,9,FALSE),0)","v":0},"Malcom_31",{"$f":"IFERROR(VLOOKUP(GS24,MATCHSELEVES!$Y$14:$AE$600,3,FALSE),0)","v":0},{"$f":"IFERROR(VLOOKUP(GS24,MATCHSELEVES!$Y$14:$AE$600,4,FALSE),0)","v":0},{"$f":"IFERROR(VLOOKUP(GS24,MATCHSELEVES!$Y$14:$AE$600,5,FALSE),0)","v":0},{"$f":"IFERROR(VLOOKUP(GS24,MATCHSELEVES!$Y$14:$AF$600,8,FALSE),0)","v":0},{"$f":"IFERROR(VLOOKUP(GS24,MATCHSELEVES!$Y$14:$AG$600,9,FALSE),0)","v":0},"Malcom_32",{"$f":"IFERROR(VLOOKUP(GY24,MATCHSELEVES!$Y$14:$AE$600,3,FALSE),0)","v":0},{"$f":"IFERROR(VLOOKUP(GY24,MATCHSELEVES!$Y$14:$AE$600,4,FALSE),0)","v":0},{"$f":"IFERROR(VLOOKUP(GY24,MATCHSELEVES!$Y$14:$AE$600,5,FALSE),0)","v":0},{"$f":"IFERROR(VLOOKUP(GY24,MATCHSELEVES!$Y$14:$AF$600,8,FALSE),0)","v":0},{"$f":"IFERROR(VLOOKUP(GY24,MATCHSELEVES!$Y$14:$AG$600,9,FALSE),0)","v":0},"Malcom_33",{"$f":"IFERROR(VLOOKUP(HE24,MATCHSELEVES!$Y$14:$AE$600,3,FALSE),0)","v":0},{"$f":"IFERROR(VLOOKUP(HE24,MATCHSELEVES!$Y$14:$AE$600,4,FALSE),0)","v":0},{"$f":"IFERROR(VLOOKUP(HE24,MATCHSELEVES!$Y$14:$AE$600,5,FALSE),0)","v":0},{"$f":"IFERROR(VLOOKUP(HE24,MATCHSELEVES!$Y$14:$AF$600,8,FALSE),0)","v":0},{"$f":"IFERROR(VLOOKUP(HE24,MATCHSELEVES!$Y$14:$AG$600,9,FALSE),0)","v":0},"Malcom_34",{"$f":"IFERROR(VLOOKUP(HK24,MATCHSELEVES!$Y$14:$AE$600,3,FALSE),0)","v":0},{"$f":"IFERROR(VLOOKUP(HK24,MATCHSELEVES!$Y$14:$AE$600,4,FALSE),0)","v":0},{"$f":"IFERROR(VLOOKUP(HK24,MATCHSELEVES!$Y$14:$AE$600,5,FALSE),0)","v":0},{"$f":"IFERROR(VLOOKUP(HK24,MATCHSELEVES!$Y$14:$AF$600,8,FALSE),0)","v":0},{"$f":"IFERROR(VLOOKUP(HK24,MATCHSELEVES!$Y$14:$AG$600,9,FALSE),0)","v":0},"Malcom_35",{"$f":"IFERROR(VLOOKUP(HQ24,MATCHSELEVES!$Y$14:$AE$600,3,FALSE),0)","v":0},{"$f":"IFERROR(VLOOKUP(HQ24,MATCHSELEVES!$Y$14:$AE$600,4,FALSE),0)","v":0},{"$f":"IFERROR(VLOOKUP(HQ24,MATCHSELEVES!$Y$14:$AE$600,5,FALSE),0)","v":0},{"$f":"IFERROR(VLOOKUP(HQ24,MATCHSELEVES!$Y$14:$AF$600,8,FALSE),0)","v":0},{"$f":"IFERROR(VLOOKUP(HQ24,MATCHSELEVES!$Y$14:$AG$600,9,FALSE),0)","v":0},"Malcom_36",{"$f":"IFERROR(VLOOKUP(HW24,MATCHSELEVES!$Y$14:$AE$600,3,FALSE),0)","v":0},{"$f":"IFERROR(VLOOKUP(HW24,MATCHSELEVES!$Y$14:$AE$600,4,FALSE),0)","v":0},{"$f":"IFERROR(VLOOKUP(HW24,MATCHSELEVES!$Y$14:$AE$600,5,FALSE),0)","v":0},{"$f":"IFERROR(VLOOKUP(HW24,MATCHSELEVES!$Y$14:$AF$600,8,FALSE),0)","v":0},{"$f":"IFERROR(VLOOKUP(HW24,MATCHSELEVES!$Y$14:$AG$600,9,FALSE),0)","v":0},"Malcom_37",{"$f":"IFERROR(VLOOKUP(IC24,MATCHSELEVES!$Y$14:$AE$600,3,FALSE),0)","v":0},{"$f":"IFERROR(VLOOKUP(IC24,MATCHSELEVES!$Y$14:$AE$600,4,FALSE),0)","v":0},{"$f":"IFERROR(VLOOKUP(IC24,MATCHSELEVES!$Y$14:$AE$600,5,FALSE),0)","v":0},{"$f":"IFERROR(VLOOKUP(IC24,MATCHSELEVES!$Y$14:$AF$600,8,FALSE),0)","v":0},{"$f":"IFERROR(VLOOKUP(IC24,MATCHSELEVES!$Y$14:$AG$600,9,FALSE),0)","v":0},"Malcom_38",{"$f":"IFERROR(VLOOKUP(II24,MATCHSELEVES!$Y$14:$AE$600,3,FALSE),0)","v":0},{"$f":"IFERROR(VLOOKUP(II24,MATCHSELEVES!$Y$14:$AE$600,4,FALSE),0)","v":0},{"$f":"IFERROR(VLOOKUP(II24,MATCHSELEVES!$Y$14:$AE$600,5,FALSE),0)","v":0},{"$f":"IFERROR(VLOOKUP(II24,MATCHSELEVES!$Y$14:$AF$600,8,FALSE),0)","v":0},{"$f":"IFERROR(VLOOKUP(II24,MATCHSELEVES!$Y$14:$AG$600,9,FALSE),0)","v":0},"Malcom_39",{"$f":"IFERROR(VLOOKUP(IO24,MATCHSELEVES!$Y$14:$AE$600,3,FALSE),0)","v":0},{"$f":"IFERROR(VLOOKUP(IO24,MATCHSELEVES!$Y$14:$AE$600,4,FALSE),0)","v":0},{"$f":"IFERROR(VLOOKUP(IO24,MATCHSELEVES!$Y$14:$AE$600,5,FALSE),0)","v":0},{"$f":"IFERROR(VLOOKUP(IO24,MATCHSELEVES!$Y$14:$AF$600,8,FALSE),0)","v":0},{"$f":"IFERROR(VLOOKUP(IO24,MATCHSELEVES!$Y$14:$AG$600,9,FALSE),0)","v":0},"Malcom_40",{"$f":"IFERROR(VLOOKUP(IU24,MATCHSELEVES!$Y$14:$AE$600,3,FALSE),0)","v":0},{"$f":"IFERROR(VLOOKUP(IU24,MATCHSELEVES!$Y$14:$AE$600,4,FALSE),0)","v":0},{"$f":"IFERROR(VLOOKUP(IU24,MATCHSELEVES!$Y$14:$AE$600,5,FALSE),0)","v":0},{"$f":"IFERROR(VLOOKUP(IU24,MATCHSELEVES!$Y$14:$AF$600,8,FALSE),0)","v":0},{"$f":"IFERROR(VLOOKUP(IU24,MATCHSELEVES!$Y$14:$AG$600,9,FALSE),0)","v":0},{"$f":"Tableau10[[#This Row],[CLASSE]]","v":"Malcom"},1,{"$f":"MD1POINT!D24","v":1},"Malcomp_1",{"$f":"IFERROR(VLOOKUP(JD24,MATCHSELEVES!$Y$14:$AE$600,3,FALSE),0)","v":0},{"$f":"IFERROR(VLOOKUP(JD24,MATCHSELEVES!$Y$14:$AE$600,4,FALSE),0)","v":0},{"$f":"IFERROR(VLOOKUP(JD24,MATCHSELEVES!$Y$14:$AE$600,5,FALSE),0)","v":0},{"$f":"IFERROR(VLOOKUP(JD24,MATCHSELEVES!$Y$14:$AF$600,8,FALSE),0)","v":0},{"$f":"IFERROR(VLOOKUP(JD24,MATCHSELEVES!$Y$14:$AG$600,9,FALSE),0)","v":0},"Malcomp_2",{"$f":"IFERROR(VLOOKUP(JJ24,MATCHSELEVES!$Y$14:$AE$600,3,FALSE),0)","v":0},{"$f":"IFERROR(VLOOKUP(JJ24,MATCHSELEVES!$Y$14:$AE$600,4,FALSE),0)","v":0},{"$f":"IFERROR(VLOOKUP(JJ24,MATCHSELEVES!$Y$14:$AE$600,5,FALSE),0)","v":0},{"$f":"IFERROR(VLOOKUP(JJ24,MATCHSELEVES!$Y$14:$AF$600,8,FALSE),0)","v":0},{"$f":"IFERROR(VLOOKUP(JJ24,MATCHSELEVES!$Y$14:$AG$600,9,FALSE),0)","v":0},"Malcomp_3",{"$f":"IFERROR(VLOOKUP(JP24,MATCHSELEVES!$Y$14:$AE$600,3,FALSE),0)","v":0},{"$f":"IFERROR(VLOOKUP(JP24,MATCHSELEVES!$Y$14:$AE$600,4,FALSE),0)","v":0},{"$f":"IFERROR(VLOOKUP(JP24,MATCHSELEVES!$Y$14:$AE$600,5,FALSE),0)","v":0},{"$f":"IFERROR(VLOOKUP(JP24,MATCHSELEVES!$Y$14:$AF$600,8,FALSE),0)","v":0},{"$f":"IFERROR(VLOOKUP(JP24,MATCHSELEVES!$Y$14:$AG$600,9,FALSE),0)","v":0},"Malcomp_4",{"$f":"IFERROR(VLOOKUP(JV24,MATCHSELEVES!$Y$14:$AE$600,3,FALSE),0)","v":0},{"$f":"IFERROR(VLOOKUP(JV24,MATCHSELEVES!$Y$14:$AE$600,4,FALSE),0)","v":0},{"$f":"IFERROR(VLOOKUP(JV24,MATCHSELEVES!$Y$14:$AE$600,5,FALSE),0)","v":0},{"$f":"IFERROR(VLOOKUP(JV24,MATCHSELEVES!$Y$14:$AF$600,8,FALSE),0)","v":0},{"$f":"IFERROR(VLOOKUP(JV24,MATCHSELEVES!$Y$14:$AG$600,9,FALSE),0)","v":0},"Malcomp_5",{"$f":"IFERROR(VLOOKUP(KB24,MATCHSELEVES!$Y$14:$AE$600,3,FALSE),0)","v":0},{"$f":"IFERROR(VLOOKUP(KB24,MATCHSELEVES!$Y$14:$AE$600,4,FALSE),0)","v":0},{"$f":"IFERROR(VLOOKUP(KB24,MATCHSELEVES!$Y$14:$AE$600,5,FALSE),0)","v":0},{"$f":"IFERROR(VLOOKUP(KB24,MATCHSELEVES!$Y$14:$AF$600,8,FALSE),0)","v":0},{"$f":"IFERROR(VLOOKUP(KB24,MATCHSELEVES!$Y$14:$AG$600,9,FALSE),0)","v":0},"Malcomp_6",{"$f":"IFERROR(VLOOKUP(KH24,MATCHSELEVES!$Y$14:$AE$600,3,FALSE),0)","v":0},{"$f":"IFERROR(VLOOKUP(KH24,MATCHSELEVES!$Y$14:$AE$600,4,FALSE),0)","v":0},{"$f":"IFERROR(VLOOKUP(KH24,MATCHSELEVES!$Y$14:$AE$600,5,FALSE),0)","v":0},{"$f":"IFERROR(VLOOKUP(KH24,MATCHSELEVES!$Y$14:$AF$600,8,FALSE),0)","v":0},{"$f":"IFERROR(VLOOKUP(KH24,MATCHSELEVES!$Y$14:$AG$600,9,FALSE),0)","v":0},"Malcomp_7",{"$f":"IFERROR(VLOOKUP(KN24,MATCHSELEVES!$Y$14:$AE$600,3,FALSE),0)","v":0},{"$f":"IFERROR(VLOOKUP(KN24,MATCHSELEVES!$Y$14:$AE$600,4,FALSE),0)","v":0},{"$f":"IFERROR(VLOOKUP(KN24,MATCHSELEVES!$Y$14:$AE$600,5,FALSE),0)","v":0},{"$f":"IFERROR(VLOOKUP(KN24,MATCHSELEVES!$Y$14:$AF$600,8,FALSE),0)","v":0},{"$f":"IFERROR(VLOOKUP(KN24,MATCHSELEVES!$Y$14:$AG$600,9,FALSE),0)","v":0},"Malcomp_8",{"$f":"IFERROR(VLOOKUP(KT24,MATCHSELEVES!$Y$14:$AE$600,3,FALSE),0)","v":0},{"$f":"IFERROR(VLOOKUP(KT24,MATCHSELEVES!$Y$14:$AE$600,4,FALSE),0)","v":0},{"$f":"IFERROR(VLOOKUP(KT24,MATCHSELEVES!$Y$14:$AE$600,5,FALSE),0)","v":0},{"$f":"IFERROR(VLOOKUP(KT24,MATCHSELEVES!$Y$14:$AF$600,8,FALSE),0)","v":0},{"$f":"IFERROR(VLOOKUP(KT24,MATCHSELEVES!$Y$14:$AG$600,9,FALSE),0)","v":0},"Malcomp_9",{"$f":"IFERROR(VLOOKUP(KZ24,MATCHSELEVES!$Y$14:$AE$600,3,FALSE),0)","v":0},{"$f":"IFERROR(VLOOKUP(KZ24,MATCHSELEVES!$Y$14:$AE$600,4,FALSE),0)","v":0},{"$f":"IFERROR(VLOOKUP(KZ24,MATCHSELEVES!$Y$14:$AE$600,5,FALSE),0)","v":0},{"$f":"IFERROR(VLOOKUP(KZ24,MATCHSELEVES!$Y$14:$AF$600,8,FALSE),0)","v":0},{"$f":"IFERROR(VLOOKUP(KZ24,MATCHSELEVES!$Y$14:$AG$600,9,FALSE),0)","v":0},"Malcomp_10",{"$f":"IFERROR(VLOOKUP(LF24,MATCHSELEVES!$Y$14:$AE$600,3,FALSE),0)","v":0},{"$f":"IFERROR(VLOOKUP(LF24,MATCHSELEVES!$Y$14:$AE$600,4,FALSE),0)","v":0},{"$f":"IFERROR(VLOOKUP(LF24,MATCHSELEVES!$Y$14:$AE$600,5,FALSE),0)","v":0},{"$f":"IFERROR(VLOOKUP(LF24,MATCHSELEVES!$Y$14:$AF$600,8,FALSE),0)","v":0},{"$f":"IFERROR(VLOOKUP(LF24,MATCHSELEVES!$Y$14:$AG$600,9,FALSE),0)","v":0},"Malcomp_11",{"$f":"IFERROR(VLOOKUP(LL24,MATCHSELEVES!$Y$14:$AE$600,3,FALSE),0)","v":0},{"$f":"IFERROR(VLOOKUP(LL24,MATCHSELEVES!$Y$14:$AE$600,4,FALSE),0)","v":0},{"$f":"IFERROR(VLOOKUP(LL24,MATCHSELEVES!$Y$14:$AE$600,5,FALSE),0)","v":0},{"$f":"IFERROR(VLOOKUP(LL24,MATCHSELEVES!$Y$14:$AF$600,8,FALSE),0)","v":0},{"$f":"IFERROR(VLOOKUP(LL24,MATCHSELEVES!$Y$14:$AG$600,9,FALSE),0)","v":0},"Malcomp_12",{"$f":"IFERROR(VLOOKUP(LR24,MATCHSELEVES!$Y$14:$AE$600,3,FALSE),0)","v":0},{"$f":"IFERROR(VLOOKUP(LR24,MATCHSELEVES!$Y$14:$AE$600,4,FALSE),0)","v":0},{"$f":"IFERROR(VLOOKUP(LR24,MATCHSELEVES!$Y$14:$AE$600,5,FALSE),0)","v":0},{"$f":"IFERROR(VLOOKUP(LR24,MATCHSELEVES!$Y$14:$AF$600,8,FALSE),0)","v":0},{"$f":"IFERROR(VLOOKUP(LR24,MATCHSELEVES!$Y$14:$AG$600,9,FALSE),0)","v":0},"Malcomp_13",{"$f":"IFERROR(VLOOKUP(LX24,MATCHSELEVES!$Y$14:$AE$600,3,FALSE),0)","v":0},{"$f":"IFERROR(VLOOKUP(LX24,MATCHSELEVES!$Y$14:$AE$600,4,FALSE),0)","v":0},{"$f":"IFERROR(VLOOKUP(LX24,MATCHSELEVES!$Y$14:$AE$600,5,FALSE),0)","v":0},{"$f":"IFERROR(VLOOKUP(LX24,MATCHSELEVES!$Y$14:$AF$600,8,FALSE),0)","v":0},{"$f":"IFERROR(VLOOKUP(LX24,MATCHSELEVES!$Y$14:$AG$600,9,FALSE),0)","v":0},"Malcomp_14",{"$f":"IFERROR(VLOOKUP(MD24,MATCHSELEVES!$Y$14:$AE$600,3,FALSE),0)","v":0},{"$f":"IFERROR(VLOOKUP(MD24,MATCHSELEVES!$Y$14:$AE$600,4,FALSE),0)","v":0},{"$f":"IFERROR(VLOOKUP(MD24,MATCHSELEVES!$Y$14:$AE$600,5,FALSE),0)","v":0},{"$f":"IFERROR(VLOOKUP(MD24,MATCHSELEVES!$Y$14:$AF$600,8,FALSE),0)","v":0},{"$f":"IFERROR(VLOOKUP(MD24,MATCHSELEVES!$Y$14:$AG$600,9,FALSE),0)","v":0},"Malcomp_15",{"$f":"IFERROR(VLOOKUP(MJ24,MATCHSELEVES!$Y$14:$AE$600,3,FALSE),0)","v":0},{"$f":"IFERROR(VLOOKUP(MJ24,MATCHSELEVES!$Y$14:$AE$600,4,FALSE),0)","v":0},{"$f":"IFERROR(VLOOKUP(MJ24,MATCHSELEVES!$Y$14:$AE$600,5,FALSE),0)","v":0},{"$f":"IFERROR(VLOOKUP(MJ24,MATCHSELEVES!$Y$14:$AF$600,8,FALSE),0)","v":0},{"$f":"IFERROR(VLOOKUP(MJ24,MATCHSELEVES!$Y$14:$AG$600,9,FALSE),0)","v":0},"Malcomp_16",{"$f":"IFERROR(VLOOKUP(MP24,MATCHSELEVES!$Y$14:$AE$600,3,FALSE),0)","v":0},{"$f":"IFERROR(VLOOKUP(MP24,MATCHSELEVES!$Y$14:$AE$600,4,FALSE),0)","v":0},{"$f":"IFERROR(VLOOKUP(MP24,MATCHSELEVES!$Y$14:$AE$600,5,FALSE),0)","v":0},{"$f":"IFERROR(VLOOKUP(MP24,MATCHSELEVES!$Y$14:$AF$600,8,FALSE),0)","v":0},{"$f":"IFERROR(VLOOKUP(MP24,MATCHSELEVES!$Y$14:$AG$600,9,FALSE),0)","v":0},"Malcomp_17",{"$f":"IFERROR(VLOOKUP(MV24,MATCHSELEVES!$Y$14:$AE$600,3,FALSE),0)","v":0},{"$f":"IFERROR(VLOOKUP(MV24,MATCHSELEVES!$Y$14:$AE$600,4,FALSE),0)","v":0},{"$f":"IFERROR(VLOOKUP(MV24,MATCHSELEVES!$Y$14:$AE$600,5,FALSE),0)","v":0},{"$f":"IFERROR(VLOOKUP(MV24,MATCHSELEVES!$Y$14:$AF$600,8,FALSE),0)","v":0},{"$f":"IFERROR(VLOOKUP(MV24,MATCHSELEVES!$Y$14:$AG$600,9,FALSE),0)","v":0},"Malcomp_18",{"$f":"IFERROR(VLOOKUP(NB24,MATCHSELEVES!$Y$14:$AE$600,3,FALSE),0)","v":0},{"$f":"IFERROR(VLOOKUP(NB24,MATCHSELEVES!$Y$14:$AE$600,4,FALSE),0)","v":0},{"$f":"IFERROR(VLOOKUP(NB24,MATCHSELEVES!$Y$14:$AE$600,5,FALSE),0)","v":0},{"$f":"IFERROR(VLOOKUP(NB24,MATCHSELEVES!$Y$14:$AF$600,8,FALSE),0)","v":0},{"$f":"IFERROR(VLOOKUP(NB24,MATCHSELEVES!$Y$14:$AG$600,9,FALSE),0)","v":0},"Malcomp_19",{"$f":"IFERROR(VLOOKUP(NH24,MATCHSELEVES!$Y$14:$AE$600,3,FALSE),0)","v":0},{"$f":"IFERROR(VLOOKUP(NH24,MATCHSELEVES!$Y$14:$AE$600,4,FALSE),0)","v":0},{"$f":"IFERROR(VLOOKUP(NH24,MATCHSELEVES!$Y$14:$AE$600,5,FALSE),0)","v":0},{"$f":"IFERROR(VLOOKUP(NH24,MATCHSELEVES!$Y$14:$AF$600,8,FALSE),0)","v":0},{"$f":"IFERROR(VLOOKUP(NH24,MATCHSELEVES!$Y$14:$AG$600,9,FALSE),0)","v":0},"Malcomp_20",{"$f":"IFERROR(VLOOKUP(NN24,MATCHSELEVES!$Y$14:$AE$600,3,FALSE),0)","v":0},{"$f":"IFERROR(VLOOKUP(NN24,MATCHSELEVES!$Y$14:$AE$600,4,FALSE),0)","v":0},{"$f":"IFERROR(VLOOKUP(NN24,MATCHSELEVES!$Y$14:$AE$600,5,FALSE),0)","v":0},{"$f":"IFERROR(VLOOKUP(NN24,MATCHSELEVES!$Y$14:$AF$600,8,FALSE),0)","v":0},{"$f":"IFERROR(VLOOKUP(NN24,MATCHSELEVES!$Y$14:$AG$600,9,FALSE),0)","v":0},"Malcomp_21",{"$f":"IFERROR(VLOOKUP(NT24,MATCHSELEVES!$Y$14:$AE$600,3,FALSE),0)","v":0},{"$f":"IFERROR(VLOOKUP(NT24,MATCHSELEVES!$Y$14:$AE$600,4,FALSE),0)","v":0},{"$f":"IFERROR(VLOOKUP(NT24,MATCHSELEVES!$Y$14:$AE$600,5,FALSE),0)","v":0},{"$f":"IFERROR(VLOOKUP(NT24,MATCHSELEVES!$Y$14:$AF$600,8,FALSE),0)","v":0},{"$f":"IFERROR(VLOOKUP(NT24,MATCHSELEVES!$Y$14:$AG$600,9,FALSE),0)","v":0},"Malcomp_22",{"$f":"IFERROR(VLOOKUP(NZ24,MATCHSELEVES!$Y$14:$AE$600,3,FALSE),0)","v":0},{"$f":"IFERROR(VLOOKUP(NZ24,MATCHSELEVES!$Y$14:$AE$600,4,FALSE),0)","v":0},{"$f":"IFERROR(VLOOKUP(NZ24,MATCHSELEVES!$Y$14:$AE$600,5,FALSE),0)","v":0},{"$f":"IFERROR(VLOOKUP(NZ24,MATCHSELEVES!$Y$14:$AF$600,8,FALSE),0)","v":0},{"$f":"IFERROR(VLOOKUP(NZ24,MATCHSELEVES!$Y$14:$AG$600,9,FALSE),0)","v":0},"Malcomp_23",{"$f":"IFERROR(VLOOKUP(OF24,MATCHSELEVES!$Y$14:$AE$600,3,FALSE),0)","v":0},{"$f":"IFERROR(VLOOKUP(OF24,MATCHSELEVES!$Y$14:$AE$600,4,FALSE),0)","v":0},{"$f":"IFERROR(VLOOKUP(OF24,MATCHSELEVES!$Y$14:$AE$600,5,FALSE),0)","v":0},{"$f":"IFERROR(VLOOKUP(OF24,MATCHSELEVES!$Y$14:$AF$600,8,FALSE),0)","v":0},{"$f":"IFERROR(VLOOKUP(OF24,MATCHSELEVES!$Y$14:$AG$600,9,FALSE),0)","v":0},"Malcomp_24",{"$f":"IFERROR(VLOOKUP(OL24,MATCHSELEVES!$Y$14:$AE$600,3,FALSE),0)","v":0},{"$f":"IFERROR(VLOOKUP(OL24,MATCHSELEVES!$Y$14:$AE$600,4,FALSE),0)","v":0},{"$f":"IFERROR(VLOOKUP(OL24,MATCHSELEVES!$Y$14:$AE$600,5,FALSE),0)","v":0},{"$f":"IFERROR(VLOOKUP(OL24,MATCHSELEVES!$Y$14:$AF$600,8,FALSE),0)","v":0},{"$f":"IFERROR(VLOOKUP(OL24,MATCHSELEVES!$Y$14:$AG$600,9,FALSE),0)","v":0},"Malcomp_25",{"$f":"IFERROR(VLOOKUP(OR24,MATCHSELEVES!$Y$14:$AE$600,3,FALSE),0)","v":0},{"$f":"IFERROR(VLOOKUP(OR24,MATCHSELEVES!$Y$14:$AE$600,4,FALSE),0)","v":0},{"$f":"IFERROR(VLOOKUP(OR24,MATCHSELEVES!$Y$14:$AE$600,5,FALSE),0)","v":0},{"$f":"IFERROR(VLOOKUP(OR24,MATCHSELEVES!$Y$14:$AF$600,8,FALSE),0)","v":0},{"$f":"IFERROR(VLOOKUP(OR24,MATCHSELEVES!$Y$14:$AG$600,9,FALSE),0)","v":0},"Malcomp_26",{"$f":"IFERROR(VLOOKUP(OX24,MATCHSELEVES!$Y$14:$AE$600,3,FALSE),0)","v":0},{"$f":"IFERROR(VLOOKUP(OX24,MATCHSELEVES!$Y$14:$AE$600,4,FALSE),0)","v":0},{"$f":"IFERROR(VLOOKUP(OX24,MATCHSELEVES!$Y$14:$AE$600,5,FALSE),0)","v":0},{"$f":"IFERROR(VLOOKUP(OX24,MATCHSELEVES!$Y$14:$AF$600,8,FALSE),0)","v":0},{"$f":"IFERROR(VLOOKUP(OX24,MATCHSELEVES!$Y$14:$AG$600,9,FALSE),0)","v":0},"Malcomp_27",{"$f":"IFERROR(VLOOKUP(PD24,MATCHSELEVES!$Y$14:$AE$600,3,FALSE),0)","v":0},{"$f":"IFERROR(VLOOKUP(PD24,MATCHSELEVES!$Y$14:$AE$600,4,FALSE),0)","v":0},{"$f":"IFERROR(VLOOKUP(PD24,MATCHSELEVES!$Y$14:$AE$600,5,FALSE),0)","v":0},{"$f":"IFERROR(VLOOKUP(PD24,MATCHSELEVES!$Y$14:$AF$600,8,FALSE),0)","v":0},{"$f":"IFERROR(VLOOKUP(PD24,MATCHSELEVES!$Y$14:$AG$600,9,FALSE),0)","v":0},"Malcomp_28",{"$f":"IFERROR(VLOOKUP(PJ24,MATCHSELEVES!$Y$14:$AE$600,3,FALSE),0)","v":0},{"$f":"IFERROR(VLOOKUP(PJ24,MATCHSELEVES!$Y$14:$AE$600,4,FALSE),0)","v":0},{"$f":"IFERROR(VLOOKUP(PJ24,MATCHSELEVES!$Y$14:$AE$600,5,FALSE),0)","v":0},{"$f":"IFERROR(VLOOKUP(PJ24,MATCHSELEVES!$Y$14:$AF$600,8,FALSE),0)","v":0},{"$f":"IFERROR(VLOOKUP(PJ24,MATCHSELEVES!$Y$14:$AG$600,9,FALSE),0)","v":0},"Malcomp_29",{"$f":"IFERROR(VLOOKUP(PP24,MATCHSELEVES!$Y$14:$AE$600,3,FALSE),0)","v":0},{"$f":"IFERROR(VLOOKUP(PP24,MATCHSELEVES!$Y$14:$AE$600,4,FALSE),0)","v":0},{"$f":"IFERROR(VLOOKUP(PP24,MATCHSELEVES!$Y$14:$AE$600,5,FALSE),0)","v":0},{"$f":"IFERROR(VLOOKUP(PP24,MATCHSELEVES!$Y$14:$AF$600,8,FALSE),0)","v":0},{"$f":"IFERROR(VLOOKUP(PP24,MATCHSELEVES!$Y$14:$AG$600,9,FALSE),0)","v":0},"Malcomp_30",{"$f":"IFERROR(VLOOKUP(PV24,MATCHSELEVES!$Y$14:$AE$600,3,FALSE),0)","v":0},{"$f":"IFERROR(VLOOKUP(PV24,MATCHSELEVES!$Y$14:$AE$600,4,FALSE),0)","v":0},{"$f":"IFERROR(VLOOKUP(PV24,MATCHSELEVES!$Y$14:$AE$600,5,FALSE),0)","v":0},{"$f":"IFERROR(VLOOKUP(PV24,MATCHSELEVES!$Y$14:$AF$600,8,FALSE),0)","v":0},{"$f":"IFERROR(VLOOKUP(PV24,MATCHSELEVES!$Y$14:$AG$600,9,FALSE),0)","v":0},"Malcomp_31",{"$f":"IFERROR(VLOOKUP(QB24,MATCHSELEVES!$Y$14:$AE$600,3,FALSE),0)","v":0},{"$f":"IFERROR(VLOOKUP(QB24,MATCHSELEVES!$Y$14:$AE$600,4,FALSE),0)","v":0},{"$f":"IFERROR(VLOOKUP(QB24,MATCHSELEVES!$Y$14:$AE$600,5,FALSE),0)","v":0},{"$f":"IFERROR(VLOOKUP(QB24,MATCHSELEVES!$Y$14:$AF$600,8,FALSE),0)","v":0},{"$f":"IFERROR(VLOOKUP(QB24,MATCHSELEVES!$Y$14:$AG$600,9,FALSE),0)","v":0},"Malcomp_32",{"$f":"IFERROR(VLOOKUP(QH24,MATCHSELEVES!$Y$14:$AE$600,3,FALSE),0)","v":0},{"$f":"IFERROR(VLOOKUP(QH24,MATCHSELEVES!$Y$14:$AE$600,4,FALSE),0)","v":0},{"$f":"IFERROR(VLOOKUP(QH24,MATCHSELEVES!$Y$14:$AE$600,5,FALSE),0)","v":0},{"$f":"IFERROR(VLOOKUP(QH24,MATCHSELEVES!$Y$14:$AF$600,8,FALSE),0)","v":0},{"$f":"IFERROR(VLOOKUP(QH24,MATCHSELEVES!$Y$14:$AG$600,9,FALSE),0)","v":0},"Malcomp_33",{"$f":"IFERROR(VLOOKUP(QN24,MATCHSELEVES!$Y$14:$AE$600,3,FALSE),0)","v":0},{"$f":"IFERROR(VLOOKUP(QN24,MATCHSELEVES!$Y$14:$AE$600,4,FALSE),0)","v":0},{"$f":"IFERROR(VLOOKUP(QN24,MATCHSELEVES!$Y$14:$AE$600,5,FALSE),0)","v":0},{"$f":"IFERROR(VLOOKUP(QN24,MATCHSELEVES!$Y$14:$AF$600,8,FALSE),0)","v":0},{"$f":"IFERROR(VLOOKUP(QN24,MATCHSELEVES!$Y$14:$AG$600,9,FALSE),0)","v":0},"Malcomp_34",{"$f":"IFERROR(VLOOKUP(QT24,MATCHSELEVES!$Y$14:$AE$600,3,FALSE),0)","v":0},{"$f":"IFERROR(VLOOKUP(QT24,MATCHSELEVES!$Y$14:$AE$600,4,FALSE),0)","v":0},{"$f":"IFERROR(VLOOKUP(QT24,MATCHSELEVES!$Y$14:$AE$600,5,FALSE),0)","v":0},{"$f":"IFERROR(VLOOKUP(QT24,MATCHSELEVES!$Y$14:$AF$600,8,FALSE),0)","v":0},{"$f":"IFERROR(VLOOKUP(QT24,MATCHSELEVES!$Y$14:$AG$600,9,FALSE),0)","v":0},"Malcomp_35",{"$f":"IFERROR(VLOOKUP(QZ24,MATCHSELEVES!$Y$14:$AE$600,3,FALSE),0)","v":0},{"$f":"IFERROR(VLOOKUP(QZ24,MATCHSELEVES!$Y$14:$AE$600,4,FALSE),0)","v":0},{"$f":"IFERROR(VLOOKUP(QZ24,MATCHSELEVES!$Y$14:$AE$600,5,FALSE),0)","v":0},{"$f":"IFERROR(VLOOKUP(QZ24,MATCHSELEVES!$Y$14:$AF$600,8,FALSE),0)","v":0},{"$f":"IFERROR(VLOOKUP(QZ24,MATCHSELEVES!$Y$14:$AG$600,9,FALSE),0)","v":0},"Malcomp_36",{"$f":"IFERROR(VLOOKUP(RF24,MATCHSELEVES!$Y$14:$AE$600,3,FALSE),0)","v":0},{"$f":"IFERROR(VLOOKUP(RF24,MATCHSELEVES!$Y$14:$AE$600,4,FALSE),0)","v":0},{"$f":"IFERROR(VLOOKUP(RF24,MATCHSELEVES!$Y$14:$AE$600,5,FALSE),0)","v":0},{"$f":"IFERROR(VLOOKUP(RF24,MATCHSELEVES!$Y$14:$AF$600,8,FALSE),0)","v":0},{"$f":"IFERROR(VLOOKUP(RF24,MATCHSELEVES!$Y$14:$AG$600,9,FALSE),0)","v":0},"Malcomp_37",{"$f":"IFERROR(VLOOKUP(RL24,MATCHSELEVES!$Y$14:$AE$600,3,FALSE),0)","v":0},{"$f":"IFERROR(VLOOKUP(RL24,MATCHSELEVES!$Y$14:$AE$600,4,FALSE),0)","v":0},{"$f":"IFERROR(VLOOKUP(RL24,MATCHSELEVES!$Y$14:$AE$600,5,FALSE),0)","v":0},{"$f":"IFERROR(VLOOKUP(RL24,MATCHSELEVES!$Y$14:$AF$600,8,FALSE),0)","v":0},{"$f":"IFERROR(VLOOKUP(RL24,MATCHSELEVES!$Y$14:$AG$600,9,FALSE),0)","v":0},"Malcomp_38",{"$f":"IFERROR(VLOOKUP(RR24,MATCHSELEVES!$Y$14:$AE$600,3,FALSE),0)","v":0},{"$f":"IFERROR(VLOOKUP(RR24,MATCHSELEVES!$Y$14:$AE$600,4,FALSE),0)","v":0},{"$f":"IFERROR(VLOOKUP(RR24,MATCHSELEVES!$Y$14:$AE$600,5,FALSE),0)","v":0},{"$f":"IFERROR(VLOOKUP(RR24,MATCHSELEVES!$Y$14:$AF$600,8,FALSE),0)","v":0},{"$f":"IFERROR(VLOOKUP(RR24,MATCHSELEVES!$Y$14:$AG$600,9,FALSE),0)","v":0},"Malcomp_39",{"$f":"IFERROR(VLOOKUP(RX24,MATCHSELEVES!$Y$14:$AE$600,3,FALSE),0)","v":0},{"$f":"IFERROR(VLOOKUP(RX24,MATCHSELEVES!$Y$14:$AE$600,4,FALSE),0)","v":0},{"$f":"IFERROR(VLOOKUP(RX24,MATCHSELEVES!$Y$14:$AE$600,5,FALSE),0)","v":0},{"$f":"IFERROR(VLOOKUP(RX24,MATCHSELEVES!$Y$14:$AF$600,8,FALSE),0)","v":0},{"$f":"IFERROR(VLOOKUP(RX24,MATCHSELEVES!$Y$14:$AG$600,9,FALSE),0)","v":0},"Malcomp_40",{"$f":"IFERROR(VLOOKUP(SD24,MATCHSELEVES!$Y$14:$AE$600,3,FALSE),0)","v":0},{"$f":"IFERROR(VLOOKUP(SD24,MATCHSELEVES!$Y$14:$AE$600,4,FALSE),0)","v":0},{"$f":"IFERROR(VLOOKUP(SD24,MATCHSELEVES!$Y$14:$AE$600,5,FALSE),0)","v":0},{"$f":"IFERROR(VLOOKUP(SD24,MATCHSELEVES!$Y$14:$AF$600,8,FALSE),0)","v":0},{"$f":"IFERROR(VLOOKUP(SD24,MATCHSELEVES!$Y$14:$AG$600,9,FALSE),0)","v":0}]
[22,null,{"$f":"MD1POINT!C25","v":"Nicolas"},{"$f":"MD1POINT!D25","v":1},{"$f":"COUNTIF(MATCHSELEVES!$Z$14:$Z$600,C25)+COUNTIF(MATCHSELEVES!$Z$14:$Z$600,$C25&\"p\")","v":0},1,{"$f":"COUNTIF(MATCHSELEVES!$F$14:$H$249,C25)","v":0},1,0,1,0,1,0,1,{"$f":"Y25+AE25+AK25+AQ25+AW25+BC25+BI25+BO25+BU25+CA25+CG25+CM25+CS25+CY25+DE25+DK25+DQ25+DW25+EC25+EI25+EO25+EU25+FA25+FG25+FM25+FS25+FY25+GE25+GK25+GQ25+GW25+4+HI25+HO25+HU25+IA25+HC25+IG25+IM25+IY25+IS25+JH25+JN25+JZ25+JT25+KF25+KR25+KX25+LJ25+LP25+LV25+LD25+MB25+MH25+MN25+MZ25+MT25+NF25+NL25+NR25+NX25+OD25+OJ25+OP25+OV25+PB25+PH25+PT25+PN25+PZ25+QF25+QL25+QR25+RD25+QX25+RJ25+RP25+RV25+SB25+SH25+KL25+Tableau10[[#This Row],[Nombre de matchs joués]]*2","v":4},1,{"$f":"(Tableau10[[#This Row],[CLASSEMENT1]]+Tableau10[[#This Row],[CLASSEMENT2]]+Tableau10[[#This Row],[CLASSEMENT3]]+Tableau10[[#This Row],[CLASSEMENT4]]+Tableau10[[#This Row],[CLASSEMENT5]]+Tableau10[[#This Row],[CLASSEMENT6]])/6","v":1},{"$f":"RANK(Tableau10[[#This Row],[MOYENNE CLASSEMENTS]],Tableau10[MOYENNE CLASSEMENTS],1)","v":1},null,{"$f":"Tableau10[[#This Row],[CLASSEMENT1]]","v":1},"Nicolas_1",{"$f":"IFERROR(VLOOKUP(U25,MATCHSELEVES!$Y$14:$AE$600,3,FALSE),0)","v":0},{"$f":"IFERROR(VLOOKUP(U25,MATCHSELEVES!$Y$14:$AE$600,4,FALSE),0)","v":0},{"$f":"IFERROR(VLOOKUP(U25,MATCHSELEVES!$Y$14:$AE$600,5,FALSE),0)","v":0},{"$f":"IFERROR(VLOOKUP(U25,MATCHSELEVES!$Y$14:$AF$600,8,FALSE),0)","v":0},{"$f":"IFERROR(VLOOKUP(U25,MATCHSELEVES!$Y$14:$AG$600,9,FALSE),0)","v":0},"Nicolas_2",{"$f":"IFERROR(VLOOKUP(AA25,MATCHSELEVES!$Y$14:$AE$600,3,FALSE),0)","v":0},{"$f":"IFERROR(VLOOKUP(AA25,MATCHSELEVES!$Y$14:$AE$600,4,FALSE),0)","v":0},{"$f":"IFERROR(VLOOKUP(AA25,MATCHSELEVES!$Y$14:$AE$600,5,FALSE),0)","v":0},{"$f":"IFERROR(VLOOKUP(AA25,MATCHSELEVES!$Y$14:$AF$600,8,FALSE),0)","v":0},{"$f":"IFERROR(VLOOKUP(AA25,MATCHSELEVES!$Y$14:$AG$600,9,FALSE),0)","v":0},"Nicolas_3",{"$f":"IFERROR(VLOOKUP(AG25,MATCHSELEVES!$Y$14:$AE$600,3,FALSE),0)","v":0},{"$f":"IFERROR(VLOOKUP(AG25,MATCHSELEVES!$Y$14:$AE$600,4,FALSE),0)","v":0},{"$f":"IFERROR(VLOOKUP(AG25,MATCHSELEVES!$Y$14:$AE$600,5,FALSE),0)","v":0},{"$f":"IFERROR(VLOOKUP(AG25,MATCHSELEVES!$Y$14:$AF$600,8,FALSE),0)","v":0},{"$f":"IFERROR(VLOOKUP(AG25,MATCHSELEVES!$Y$14:$AG$600,9,FALSE),0)","v":0},"Nicolas_4",{"$f":"IFERROR(VLOOKUP(AM25,MATCHSELEVES!$Y$14:$AE$600,3,FALSE),0)","v":0},{"$f":"IFERROR(VLOOKUP(AM25,MATCHSELEVES!$Y$14:$AE$600,4,FALSE),0)","v":0},{"$f":"IFERROR(VLOOKUP(AM25,MATCHSELEVES!$Y$14:$AE$600,5,FALSE),0)","v":0},{"$f":"IFERROR(VLOOKUP(AM25,MATCHSELEVES!$Y$14:$AF$600,8,FALSE),0)","v":0},{"$f":"IFERROR(VLOOKUP(AM25,MATCHSELEVES!$Y$14:$AG$600,9,FALSE),0)","v":0},"Nicolas_5",{"$f":"IFERROR(VLOOKUP(AS25,MATCHSELEVES!$Y$14:$AE$600,3,FALSE),0)","v":0},{"$f":"IFERROR(VLOOKUP(AS25,MATCHSELEVES!$Y$14:$AE$600,4,FALSE),0)","v":0},{"$f":"IFERROR(VLOOKUP(AS25,MATCHSELEVES!$Y$14:$AE$600,5,FALSE),0)","v":0},{"$f":"IFERROR(VLOOKUP(AS25,MATCHSELEVES!$Y$14:$AF$600,8,FALSE),0)","v":0},{"$f":"IFERROR(VLOOKUP(AS25,MATCHSELEVES!$Y$14:$AG$600,9,FALSE),0)","v":0},"Nicolas_6",{"$f":"IFERROR(VLOOKUP(AY25,MATCHSELEVES!$Y$14:$AE$600,3,FALSE),0)","v":0},{"$f":"IFERROR(VLOOKUP(AY25,MATCHSELEVES!$Y$14:$AE$600,4,FALSE),0)","v":0},{"$f":"IFERROR(VLOOKUP(AY25,MATCHSELEVES!$Y$14:$AE$600,5,FALSE),0)","v":0},{"$f":"IFERROR(VLOOKUP(AY25,MATCHSELEVES!$Y$14:$AF$600,8,FALSE),0)","v":0},{"$f":"IFERROR(VLOOKUP(AY25,MATCHSELEVES!$Y$14:$AG$600,9,FALSE),0)","v":0},"Nicolas_7",{"$f":"IFERROR(VLOOKUP(BE25,MATCHSELEVES!$Y$14:$AE$600,3,FALSE),0)","v":0},{"$f":"IFERROR(VLOOKUP(BE25,MATCHSELEVES!$Y$14:$AE$600,4,FALSE),0)","v":0},{"$f":"IFERROR(VLOOKUP(BE25,MATCHSELEVES!$Y$14:$AE$600,5,FALSE),0)","v":0},{"$f":"IFERROR(VLOOKUP(BE25,MATCHSELEVES!$Y$14:$AF$600,8,FALSE),0)","v":0},{"$f":"IFERROR(VLOOKUP(BE25,MATCHSELEVES!$Y$14:$AG$600,9,FALSE),0)","v":0},"Nicolas_8",{"$f":"IFERROR(VLOOKUP(BK25,MATCHSELEVES!$Y$14:$AE$600,3,FALSE),0)","v":0},{"$f":"IFERROR(VLOOKUP(BK25,MATCHSELEVES!$Y$14:$AE$600,4,FALSE),0)","v":0},{"$f":"IFERROR(VLOOKUP(BK25,MATCHSELEVES!$Y$14:$AE$600,5,FALSE),0)","v":0},{"$f":"IFERROR(VLOOKUP(BK25,MATCHSELEVES!$Y$14:$AF$600,8,FALSE),0)","v":0},{"$f":"IFERROR(VLOOKUP(BK25,MATCHSELEVES!$Y$14:$AG$600,9,FALSE),0)","v":0},"Nicolas_9",{"$f":"IFERROR(VLOOKUP(BQ25,MATCHSELEVES!$Y$14:$AE$600,3,FALSE),0)","v":0},{"$f":"IFERROR(VLOOKUP(BQ25,MATCHSELEVES!$Y$14:$AE$600,4,FALSE),0)","v":0},{"$f":"IFERROR(VLOOKUP(BQ25,MATCHSELEVES!$Y$14:$AE$600,5,FALSE),0)","v":0},{"$f":"IFERROR(VLOOKUP(BQ25,MATCHSELEVES!$Y$14:$AF$600,8,FALSE),0)","v":0},{"$f":"IFERROR(VLOOKUP(BQ25,MATCHSELEVES!$Y$14:$AG$600,9,FALSE),0)","v":0},"Nicolas_10",{"$f":"IFERROR(VLOOKUP(BW25,MATCHSELEVES!$Y$14:$AE$600,3,FALSE),0)","v":0},{"$f":"IFERROR(VLOOKUP(BW25,MATCHSELEVES!$Y$14:$AE$600,4,FALSE),0)","v":0},{"$f":"IFERROR(VLOOKUP(BW25,MATCHSELEVES!$Y$14:$AE$600,5,FALSE),0)","v":0},{"$f":"IFERROR(VLOOKUP(BW25,MATCHSELEVES!$Y$14:$AF$600,8,FALSE),0)","v":0},{"$f":"IFERROR(VLOOKUP(BW25,MATCHSELEVES!$Y$14:$AG$600,9,FALSE),0)","v":0},"Nicolas_11",{"$f":"IFERROR(VLOOKUP(CC25,MATCHSELEVES!$Y$14:$AE$600,3,FALSE),0)","v":0},{"$f":"IFERROR(VLOOKUP(CC25,MATCHSELEVES!$Y$14:$AE$600,4,FALSE),0)","v":0},{"$f":"IFERROR(VLOOKUP(CC25,MATCHSELEVES!$Y$14:$AE$600,5,FALSE),0)","v":0},{"$f":"IFERROR(VLOOKUP(CC25,MATCHSELEVES!$Y$14:$AF$600,8,FALSE),0)","v":0},{"$f":"IFERROR(VLOOKUP(CC25,MATCHSELEVES!$Y$14:$AG$600,9,FALSE),0)","v":0},"Nicolas_12",{"$f":"IFERROR(VLOOKUP(CI25,MATCHSELEVES!$Y$14:$AE$600,3,FALSE),0)","v":0},{"$f":"IFERROR(VLOOKUP(CI25,MATCHSELEVES!$Y$14:$AE$600,4,FALSE),0)","v":0},{"$f":"IFERROR(VLOOKUP(CI25,MATCHSELEVES!$Y$14:$AE$600,5,FALSE),0)","v":0},{"$f":"IFERROR(VLOOKUP(CI25,MATCHSELEVES!$Y$14:$AF$600,8,FALSE),0)","v":0},{"$f":"IFERROR(VLOOKUP(CI25,MATCHSELEVES!$Y$14:$AG$600,9,FALSE),0)","v":0},"Nicolas_13",{"$f":"IFERROR(VLOOKUP(CO25,MATCHSELEVES!$Y$14:$AE$600,3,FALSE),0)","v":0},{"$f":"IFERROR(VLOOKUP(CO25,MATCHSELEVES!$Y$14:$AE$600,4,FALSE),0)","v":0},{"$f":"IFERROR(VLOOKUP(CO25,MATCHSELEVES!$Y$14:$AE$600,5,FALSE),0)","v":0},{"$f":"IFERROR(VLOOKUP(CO25,MATCHSELEVES!$Y$14:$AF$600,8,FALSE),0)","v":0},{"$f":"IFERROR(VLOOKUP(CO25,MATCHSELEVES!$Y$14:$AG$600,9,FALSE),0)","v":0},"Nicolas_14",{"$f":"IFERROR(VLOOKUP(CU25,MATCHSELEVES!$Y$14:$AE$600,3,FALSE),0)","v":0},{"$f":"IFERROR(VLOOKUP(CU25,MATCHSELEVES!$Y$14:$AE$600,4,FALSE),0)","v":0},{"$f":"IFERROR(VLOOKUP(CU25,MATCHSELEVES!$Y$14:$AE$600,5,FALSE),0)","v":0},{"$f":"IFERROR(VLOOKUP(CU25,MATCHSELEVES!$Y$14:$AF$600,8,FALSE),0)","v":0},{"$f":"IFERROR(VLOOKUP(CU25,MATCHSELEVES!$Y$14:$AG$600,9,FALSE),0)","v":0},"Nicolas_15",{"$f":"IFERROR(VLOOKUP(DA25,MATCHSELEVES!$Y$14:$AE$600,3,FALSE),0)","v":0},{"$f":"IFERROR(VLOOKUP(DA25,MATCHSELEVES!$Y$14:$AE$600,4,FALSE),0)","v":0},{"$f":"IFERROR(VLOOKUP(DA25,MATCHSELEVES!$Y$14:$AE$600,5,FALSE),0)","v":0},{"$f":"IFERROR(VLOOKUP(DA25,MATCHSELEVES!$Y$14:$AF$600,8,FALSE),0)","v":0},{"$f":"IFERROR(VLOOKUP(DA25,MATCHSELEVES!$Y$14:$AG$600,9,FALSE),0)","v":0},"Nicolas_16",{"$f":"IFERROR(VLOOKUP(DG25,MATCHSELEVES!$Y$14:$AE$600,3,FALSE),0)","v":0},{"$f":"IFERROR(VLOOKUP(DG25,MATCHSELEVES!$Y$14:$AE$600,4,FALSE),0)","v":0},{"$f":"IFERROR(VLOOKUP(DG25,MATCHSELEVES!$Y$14:$AE$600,5,FALSE),0)","v":0},{"$f":"IFERROR(VLOOKUP(DG25,MATCHSELEVES!$Y$14:$AF$600,8,FALSE),0)","v":0},{"$f":"IFERROR(VLOOKUP(DG25,MATCHSELEVES!$Y$14:$AG$600,9,FALSE),0)","v":0},"Nicolas_17",{"$f":"IFERROR(VLOOKUP(DM25,MATCHSELEVES!$Y$14:$AE$600,3,FALSE),0)","v":0},{"$f":"IFERROR(VLOOKUP(DM25,MATCHSELEVES!$Y$14:$AE$600,4,FALSE),0)","v":0},{"$f":"IFERROR(VLOOKUP(DM25,MATCHSELEVES!$Y$14:$AE$600,5,FALSE),0)","v":0},{"$f":"IFERROR(VLOOKUP(DM25,MATCHSELEVES!$Y$14:$AF$600,8,FALSE),0)","v":0},{"$f":"IFERROR(VLOOKUP(DM25,MATCHSELEVES!$Y$14:$AG$600,9,FALSE),0)","v":0},"Nicolas_18",{"$f":"IFERROR(VLOOKUP(DS25,MATCHSELEVES!$Y$14:$AE$600,3,FALSE),0)","v":0},{"$f":"IFERROR(VLOOKUP(DS25,MATCHSELEVES!$Y$14:$AE$600,4,FALSE),0)","v":0},{"$f":"IFERROR(VLOOKUP(DS25,MATCHSELEVES!$Y$14:$AE$600,5,FALSE),0)","v":0},{"$f":"IFERROR(VLOOKUP(DS25,MATCHSELEVES!$Y$14:$AF$600,8,FALSE),0)","v":0},{"$f":"IFERROR(VLOOKUP(DS25,MATCHSELEVES!$Y$14:$AG$600,9,FALSE),0)","v":0},"Nicolas_19",{"$f":"IFERROR(VLOOKUP(DY25,MATCHSELEVES!$Y$14:$AE$600,3,FALSE),0)","v":0},{"$f":"IFERROR(VLOOKUP(DY25,MATCHSELEVES!$Y$14:$AE$600,4,FALSE),0)","v":0},{"$f":"IFERROR(VLOOKUP(DY25,MATCHSELEVES!$Y$14:$AE$600,5,FALSE),0)","v":0},{"$f":"IFERROR(VLOOKUP(DY25,MATCHSELEVES!$Y$14:$AF$600,8,FALSE),0)","v":0},{"$f":"IFERROR(VLOOKUP(DY25,MATCHSELEVES!$Y$14:$AG$600,9,FALSE),0)","v":0},"Nicolas_20",{"$f":"IFERROR(VLOOKUP(EE25,MATCHSELEVES!$Y$14:$AE$600,3,FALSE),0)","v":0},{"$f":"IFERROR(VLOOKUP(EE25,MATCHSELEVES!$Y$14:$AE$600,4,FALSE),0)","v":0},{"$f":"IFERROR(VLOOKUP(EE25,MATCHSELEVES!$Y$14:$AE$600,5,FALSE),0)","v":0},{"$f":"IFERROR(VLOOKUP(EE25,MATCHSELEVES!$Y$14:$AF$600,8,FALSE),0)","v":0},{"$f":"IFERROR(VLOOKUP(EE25,MATCHSELEVES!$Y$14:$AG$600,9,FALSE),0)","v":0},"Nicolas_21",{"$f":"IFERROR(VLOOKUP(EK25,MATCHSELEVES!$Y$14:$AE$600,3,FALSE),0)","v":0},{"$f":"IFERROR(VLOOKUP(EK25,MATCHSELEVES!$Y$14:$AE$600,4,FALSE),0)","v":0},{"$f":"IFERROR(VLOOKUP(EK25,MATCHSELEVES!$Y$14:$AE$600,5,FALSE),0)","v":0},{"$f":"IFERROR(VLOOKUP(EK25,MATCHSELEVES!$Y$14:$AF$600,8,FALSE),0)","v":0},{"$f":"IFERROR(VLOOKUP(EK25,MATCHSELEVES!$Y$14:$AG$600,9,FALSE),0)","v":0},"Nicolas_22",{"$f":"IFERROR(VLOOKUP(EQ25,MATCHSELEVES!$Y$14:$AE$600,3,FALSE),0)","v":0},{"$f":"IFERROR(VLOOKUP(EQ25,MATCHSELEVES!$Y$14:$AE$600,4,FALSE),0)","v":0},{"$f":"IFERROR(VLOOKUP(EQ25,MATCHSELEVES!$Y$14:$AE$600,5,FALSE),0)","v":0},{"$f":"IFERROR(VLOOKUP(EQ25,MATCHSELEVES!$Y$14:$AF$600,8,FALSE),0)","v":0},{"$f":"IFERROR(VLOOKUP(EQ25,MATCHSELEVES!$Y$14:$AG$600,9,FALSE),0)","v":0},"Nicolas_23",{"$f":"IFERROR(VLOOKUP(EW25,MATCHSELEVES!$Y$14:$AE$600,3,FALSE),0)","v":0},{"$f":"IFERROR(VLOOKUP(EW25,MATCHSELEVES!$Y$14:$AE$600,4,FALSE),0)","v":0},{"$f":"IFERROR(VLOOKUP(EW25,MATCHSELEVES!$Y$14:$AE$600,5,FALSE),0)","v":0},{"$f":"IFERROR(VLOOKUP(EW25,MATCHSELEVES!$Y$14:$AF$600,8,FALSE),0)","v":0},{"$f":"IFERROR(VLOOKUP(EW25,MATCHSELEVES!$Y$14:$AG$600,9,FALSE),0)","v":0},"Nicolas_24",{"$f":"IFERROR(VLOOKUP(FC25,MATCHSELEVES!$Y$14:$AE$600,3,FALSE),0)","v":0},{"$f":"IFERROR(VLOOKUP(FC25,MATCHSELEVES!$Y$14:$AE$600,4,FALSE),0)","v":0},{"$f":"IFERROR(VLOOKUP(FC25,MATCHSELEVES!$Y$14:$AE$600,5,FALSE),0)","v":0},{"$f":"IFERROR(VLOOKUP(FC25,MATCHSELEVES!$Y$14:$AF$600,8,FALSE),0)","v":0},{"$f":"IFERROR(VLOOKUP(FC25,MATCHSELEVES!$Y$14:$AG$600,9,FALSE),0)","v":0},"Nicolas_25",{"$f":"IFERROR(VLOOKUP(FI25,MATCHSELEVES!$Y$14:$AE$600,3,FALSE),0)","v":0},{"$f":"IFERROR(VLOOKUP(FI25,MATCHSELEVES!$Y$14:$AE$600,4,FALSE),0)","v":0},{"$f":"IFERROR(VLOOKUP(FI25,MATCHSELEVES!$Y$14:$AE$600,5,FALSE),0)","v":0},{"$f":"IFERROR(VLOOKUP(FI25,MATCHSELEVES!$Y$14:$AF$600,8,FALSE),0)","v":0},{"$f":"IFERROR(VLOOKUP(FI25,MATCHSELEVES!$Y$14:$AG$600,9,FALSE),0)","v":0},"Nicolas_26",{"$f":"IFERROR(VLOOKUP(FO25,MATCHSELEVES!$Y$14:$AE$600,3,FALSE),0)","v":0},{"$f":"IFERROR(VLOOKUP(FO25,MATCHSELEVES!$Y$14:$AE$600,4,FALSE),0)","v":0},{"$f":"IFERROR(VLOOKUP(FO25,MATCHSELEVES!$Y$14:$AE$600,5,FALSE),0)","v":0},{"$f":"IFERROR(VLOOKUP(FO25,MATCHSELEVES!$Y$14:$AF$600,8,FALSE),0)","v":0},{"$f":"IFERROR(VLOOKUP(FO25,MATCHSELEVES!$Y$14:$AG$600,9,FALSE),0)","v":0},"Nicolas_27",{"$f":"IFERROR(VLOOKUP(FU25,MATCHSELEVES!$Y$14:$AE$600,3,FALSE),0)","v":0},{"$f":"IFERROR(VLOOKUP(FU25,MATCHSELEVES!$Y$14:$AE$600,4,FALSE),0)","v":0},{"$f":"IFERROR(VLOOKUP(FU25,MATCHSELEVES!$Y$14:$AE$600,5,FALSE),0)","v":0},{"$f":"IFERROR(VLOOKUP(FU25,MATCHSELEVES!$Y$14:$AF$600,8,FALSE),0)","v":0},{"$f":"IFERROR(VLOOKUP(FU25,MATCHSELEVES!$Y$14:$AG$600,9,FALSE),0)","v":0},"Nicolas_28",{"$f":"IFERROR(VLOOKUP(GA25,MATCHSELEVES!$Y$14:$AE$600,3,FALSE),0)","v":0},{"$f":"IFERROR(VLOOKUP(GA25,MATCHSELEVES!$Y$14:$AE$600,4,FALSE),0)","v":0},{"$f":"IFERROR(VLOOKUP(GA25,MATCHSELEVES!$Y$14:$AE$600,5,FALSE),0)","v":0},{"$f":"IFERROR(VLOOKUP(GA25,MATCHSELEVES!$Y$14:$AF$600,8,FALSE),0)","v":0},{"$f":"IFERROR(VLOOKUP(GA25,MATCHSELEVES!$Y$14:$AG$600,9,FALSE),0)","v":0},"Nicolas_29",{"$f":"IFERROR(VLOOKUP(GG25,MATCHSELEVES!$Y$14:$AE$600,3,FALSE),0)","v":0},{"$f":"IFERROR(VLOOKUP(GG25,MATCHSELEVES!$Y$14:$AE$600,4,FALSE),0)","v":0},{"$f":"IFERROR(VLOOKUP(GG25,MATCHSELEVES!$Y$14:$AE$600,5,FALSE),0)","v":0},{"$f":"IFERROR(VLOOKUP(GG25,MATCHSELEVES!$Y$14:$AF$600,8,FALSE),0)","v":0},{"$f":"IFERROR(VLOOKUP(GG25,MATCHSELEVES!$Y$14:$AG$600,9,FALSE),0)","v":0},"Nicolas_30",{"$f":"IFERROR(VLOOKUP(GM25,MATCHSELEVES!$Y$14:$AE$600,3,FALSE),0)","v":0},{"$f":"IFERROR(VLOOKUP(GM25,MATCHSELEVES!$Y$14:$AE$600,4,FALSE),0)","v":0},{"$f":"IFERROR(VLOOKUP(GM25,MATCHSELEVES!$Y$14:$AE$600,5,FALSE),0)","v":0},{"$f":"IFERROR(VLOOKUP(GM25,MATCHSELEVES!$Y$14:$AF$600,8,FALSE),0)","v":0},{"$f":"IFERROR(VLOOKUP(GM25,MATCHSELEVES!$Y$14:$AG$600,9,FALSE),0)","v":0},"Nicolas_31",{"$f":"IFERROR(VLOOKUP(GS25,MATCHSELEVES!$Y$14:$AE$600,3,FALSE),0)","v":0},{"$f":"IFERROR(VLOOKUP(GS25,MATCHSELEVES!$Y$14:$AE$600,4,FALSE),0)","v":0},{"$f":"IFERROR(VLOOKUP(GS25,MATCHSELEVES!$Y$14:$AE$600,5,FALSE),0)","v":0},{"$f":"IFERROR(VLOOKUP(GS25,MATCHSELEVES!$Y$14:$AF$600,8,FALSE),0)","v":0},{"$f":"IFERROR(VLOOKUP(GS25,MATCHSELEVES!$Y$14:$AG$600,9,FALSE),0)","v":0},"Nicolas_32",{"$f":"IFERROR(VLOOKUP(GY25,MATCHSELEVES!$Y$14:$AE$600,3,FALSE),0)","v":0},{"$f":"IFERROR(VLOOKUP(GY25,MATCHSELEVES!$Y$14:$AE$600,4,FALSE),0)","v":0},{"$f":"IFERROR(VLOOKUP(GY25,MATCHSELEVES!$Y$14:$AE$600,5,FALSE),0)","v":0},{"$f":"IFERROR(VLOOKUP(GY25,MATCHSELEVES!$Y$14:$AF$600,8,FALSE),0)","v":0},{"$f":"IFERROR(VLOOKUP(GY25,MATCHSELEVES!$Y$14:$AG$600,9,FALSE),0)","v":0},"Nicolas_33",{"$f":"IFERROR(VLOOKUP(HE25,MATCHSELEVES!$Y$14:$AE$600,3,FALSE),0)","v":0},{"$f":"IFERROR(VLOOKUP(HE25,MATCHSELEVES!$Y$14:$AE$600,4,FALSE),0)","v":0},{"$f":"IFERROR(VLOOKUP(HE25,MATCHSELEVES!$Y$14:$AE$600,5,FALSE),0)","v":0},{"$f":"IFERROR(VLOOKUP(HE25,MATCHSELEVES!$Y$14:$AF$600,8,FALSE),0)","v":0},{"$f":"IFERROR(VLOOKUP(HE25,MATCHSELEVES!$Y$14:$AG$600,9,FALSE),0)","v":0},"Nicolas_34",{"$f":"IFERROR(VLOOKUP(HK25,MATCHSELEVES!$Y$14:$AE$600,3,FALSE),0)","v":0},{"$f":"IFERROR(VLOOKUP(HK25,MATCHSELEVES!$Y$14:$AE$600,4,FALSE),0)","v":0},{"$f":"IFERROR(VLOOKUP(HK25,MATCHSELEVES!$Y$14:$AE$600,5,FALSE),0)","v":0},{"$f":"IFERROR(VLOOKUP(HK25,MATCHSELEVES!$Y$14:$AF$600,8,FALSE),0)","v":0},{"$f":"IFERROR(VLOOKUP(HK25,MATCHSELEVES!$Y$14:$AG$600,9,FALSE),0)","v":0},"Nicolas_35",{"$f":"IFERROR(VLOOKUP(HQ25,MATCHSELEVES!$Y$14:$AE$600,3,FALSE),0)","v":0},{"$f":"IFERROR(VLOOKUP(HQ25,MATCHSELEVES!$Y$14:$AE$600,4,FALSE),0)","v":0},{"$f":"IFERROR(VLOOKUP(HQ25,MATCHSELEVES!$Y$14:$AE$600,5,FALSE),0)","v":0},{"$f":"IFERROR(VLOOKUP(HQ25,MATCHSELEVES!$Y$14:$AF$600,8,FALSE),0)","v":0},{"$f":"IFERROR(VLOOKUP(HQ25,MATCHSELEVES!$Y$14:$AG$600,9,FALSE),0)","v":0},"Nicolas_36",{"$f":"IFERROR(VLOOKUP(HW25,MATCHSELEVES!$Y$14:$AE$600,3,FALSE),0)","v":0},{"$f":"IFERROR(VLOOKUP(HW25,MATCHSELEVES!$Y$14:$AE$600,4,FALSE),0)","v":0},{"$f":"IFERROR(VLOOKUP(HW25,MATCHSELEVES!$Y$14:$AE$600,5,FALSE),0)","v":0},{"$f":"IFERROR(VLOOKUP(HW25,MATCHSELEVES!$Y$14:$AF$600,8,FALSE),0)","v":0},{"$f":"IFERROR(VLOOKUP(HW25,MATCHSELEVES!$Y$14:$AG$600,9,FALSE),0)","v":0},"Nicolas_37",{"$f":"IFERROR(VLOOKUP(IC25,MATCHSELEVES!$Y$14:$AE$600,3,FALSE),0)","v":0},{"$f":"IFERROR(VLOOKUP(IC25,MATCHSELEVES!$Y$14:$AE$600,4,FALSE),0)","v":0},{"$f":"IFERROR(VLOOKUP(IC25,MATCHSELEVES!$Y$14:$AE$600,5,FALSE),0)","v":0},{"$f":"IFERROR(VLOOKUP(IC25,MATCHSELEVES!$Y$14:$AF$600,8,FALSE),0)","v":0},{"$f":"IFERROR(VLOOKUP(IC25,MATCHSELEVES!$Y$14:$AG$600,9,FALSE),0)","v":0},"Nicolas_38",{"$f":"IFERROR(VLOOKUP(II25,MATCHSELEVES!$Y$14:$AE$600,3,FALSE),0)","v":0},{"$f":"IFERROR(VLOOKUP(II25,MATCHSELEVES!$Y$14:$AE$600,4,FALSE),0)","v":0},{"$f":"IFERROR(VLOOKUP(II25,MATCHSELEVES!$Y$14:$AE$600,5,FALSE),0)","v":0},{"$f":"IFERROR(VLOOKUP(II25,MATCHSELEVES!$Y$14:$AF$600,8,FALSE),0)","v":0},{"$f":"IFERROR(VLOOKUP(II25,MATCHSELEVES!$Y$14:$AG$600,9,FALSE),0)","v":0},"Nicolas_39",{"$f":"IFERROR(VLOOKUP(IO25,MATCHSELEVES!$Y$14:$AE$600,3,FALSE),0)","v":0},{"$f":"IFERROR(VLOOKUP(IO25,MATCHSELEVES!$Y$14:$AE$600,4,FALSE),0)","v":0},{"$f":"IFERROR(VLOOKUP(IO25,MATCHSELEVES!$Y$14:$AE$600,5,FALSE),0)","v":0},{"$f":"IFERROR(VLOOKUP(IO25,MATCHSELEVES!$Y$14:$AF$600,8,FALSE),0)","v":0},{"$f":"IFERROR(VLOOKUP(IO25,MATCHSELEVES!$Y$14:$AG$600,9,FALSE),0)","v":0},"Nicolas_40",{"$f":"IFERROR(VLOOKUP(IU25,MATCHSELEVES!$Y$14:$AE$600,3,FALSE),0)","v":0},{"$f":"IFERROR(VLOOKUP(IU25,MATCHSELEVES!$Y$14:$AE$600,4,FALSE),0)","v":0},{"$f":"IFERROR(VLOOKUP(IU25,MATCHSELEVES!$Y$14:$AE$600,5,FALSE),0)","v":0},{"$f":"IFERROR(VLOOKUP(IU25,MATCHSELEVES!$Y$14:$AF$600,8,FALSE),0)","v":0},{"$f":"IFERROR(VLOOKUP(IU25,MATCHSELEVES!$Y$14:$AG$600,9,FALSE),0)","v":0},{"$f":"Tableau10[[#This Row],[CLASSE]]","v":"Nicolas"},1,{"$f":"MD1POINT!D25","v":1},"Nicolasp_1",{"$f":"IFERROR(VLOOKUP(JD25,MATCHSELEVES!$Y$14:$AE$600,3,FALSE),0)","v":0},{"$f":"IFERROR(VLOOKUP(JD25,MATCHSELEVES!$Y$14:$AE$600,4,FALSE),0)","v":0},{"$f":"IFERROR(VLOOKUP(JD25,MATCHSELEVES!$Y$14:$AE$600,5,FALSE),0)","v":0},{"$f":"IFERROR(VLOOKUP(JD25,MATCHSELEVES!$Y$14:$AF$600,8,FALSE),0)","v":0},{"$f":"IFERROR(VLOOKUP(JD25,MATCHSELEVES!$Y$14:$AG$600,9,FALSE),0)","v":0},"Nicolasp_2",{"$f":"IFERROR(VLOOKUP(JJ25,MATCHSELEVES!$Y$14:$AE$600,3,FALSE),0)","v":0},{"$f":"IFERROR(VLOOKUP(JJ25,MATCHSELEVES!$Y$14:$AE$600,4,FALSE),0)","v":0},{"$f":"IFERROR(VLOOKUP(JJ25,MATCHSELEVES!$Y$14:$AE$600,5,FALSE),0)","v":0},{"$f":"IFERROR(VLOOKUP(JJ25,MATCHSELEVES!$Y$14:$AF$600,8,FALSE),0)","v":0},{"$f":"IFERROR(VLOOKUP(JJ25,MATCHSELEVES!$Y$14:$AG$600,9,FALSE),0)","v":0},"Nicolasp_3",{"$f":"IFERROR(VLOOKUP(JP25,MATCHSELEVES!$Y$14:$AE$600,3,FALSE),0)","v":0},{"$f":"IFERROR(VLOOKUP(JP25,MATCHSELEVES!$Y$14:$AE$600,4,FALSE),0)","v":0},{"$f":"IFERROR(VLOOKUP(JP25,MATCHSELEVES!$Y$14:$AE$600,5,FALSE),0)","v":0},{"$f":"IFERROR(VLOOKUP(JP25,MATCHSELEVES!$Y$14:$AF$600,8,FALSE),0)","v":0},{"$f":"IFERROR(VLOOKUP(JP25,MATCHSELEVES!$Y$14:$AG$600,9,FALSE),0)","v":0},"Nicolasp_4",{"$f":"IFERROR(VLOOKUP(JV25,MATCHSELEVES!$Y$14:$AE$600,3,FALSE),0)","v":0},{"$f":"IFERROR(VLOOKUP(JV25,MATCHSELEVES!$Y$14:$AE$600,4,FALSE),0)","v":0},{"$f":"IFERROR(VLOOKUP(JV25,MATCHSELEVES!$Y$14:$AE$600,5,FALSE),0)","v":0},{"$f":"IFERROR(VLOOKUP(JV25,MATCHSELEVES!$Y$14:$AF$600,8,FALSE),0)","v":0},{"$f":"IFERROR(VLOOKUP(JV25,MATCHSELEVES!$Y$14:$AG$600,9,FALSE),0)","v":0},"Nicolasp_5",{"$f":"IFERROR(VLOOKUP(KB25,MATCHSELEVES!$Y$14:$AE$600,3,FALSE),0)","v":0},{"$f":"IFERROR(VLOOKUP(KB25,MATCHSELEVES!$Y$14:$AE$600,4,FALSE),0)","v":0},{"$f":"IFERROR(VLOOKUP(KB25,MATCHSELEVES!$Y$14:$AE$600,5,FALSE),0)","v":0},{"$f":"IFERROR(VLOOKUP(KB25,MATCHSELEVES!$Y$14:$AF$600,8,FALSE),0)","v":0},{"$f":"IFERROR(VLOOKUP(KB25,MATCHSELEVES!$Y$14:$AG$600,9,FALSE),0)","v":0},"Nicolasp_6",{"$f":"IFERROR(VLOOKUP(KH25,MATCHSELEVES!$Y$14:$AE$600,3,FALSE),0)","v":0},{"$f":"IFERROR(VLOOKUP(KH25,MATCHSELEVES!$Y$14:$AE$600,4,FALSE),0)","v":0},{"$f":"IFERROR(VLOOKUP(KH25,MATCHSELEVES!$Y$14:$AE$600,5,FALSE),0)","v":0},{"$f":"IFERROR(VLOOKUP(KH25,MATCHSELEVES!$Y$14:$AF$600,8,FALSE),0)","v":0},{"$f":"IFERROR(VLOOKUP(KH25,MATCHSELEVES!$Y$14:$AG$600,9,FALSE),0)","v":0},"Nicolasp_7",{"$f":"IFERROR(VLOOKUP(KN25,MATCHSELEVES!$Y$14:$AE$600,3,FALSE),0)","v":0},{"$f":"IFERROR(VLOOKUP(KN25,MATCHSELEVES!$Y$14:$AE$600,4,FALSE),0)","v":0},{"$f":"IFERROR(VLOOKUP(KN25,MATCHSELEVES!$Y$14:$AE$600,5,FALSE),0)","v":0},{"$f":"IFERROR(VLOOKUP(KN25,MATCHSELEVES!$Y$14:$AF$600,8,FALSE),0)","v":0},{"$f":"IFERROR(VLOOKUP(KN25,MATCHSELEVES!$Y$14:$AG$600,9,FALSE),0)","v":0},"Nicolasp_8",{"$f":"IFERROR(VLOOKUP(KT25,MATCHSELEVES!$Y$14:$AE$600,3,FALSE),0)","v":0},{"$f":"IFERROR(VLOOKUP(KT25,MATCHSELEVES!$Y$14:$AE$600,4,FALSE),0)","v":0},{"$f":"IFERROR(VLOOKUP(KT25,MATCHSELEVES!$Y$14:$AE$600,5,FALSE),0)","v":0},{"$f":"IFERROR(VLOOKUP(KT25,MATCHSELEVES!$Y$14:$AF$600,8,FALSE),0)","v":0},{"$f":"IFERROR(VLOOKUP(KT25,MATCHSELEVES!$Y$14:$AG$600,9,FALSE),0)","v":0},"Nicolasp_9",{"$f":"IFERROR(VLOOKUP(KZ25,MATCHSELEVES!$Y$14:$AE$600,3,FALSE),0)","v":0},{"$f":"IFERROR(VLOOKUP(KZ25,MATCHSELEVES!$Y$14:$AE$600,4,FALSE),0)","v":0},{"$f":"IFERROR(VLOOKUP(KZ25,MATCHSELEVES!$Y$14:$AE$600,5,FALSE),0)","v":0},{"$f":"IFERROR(VLOOKUP(KZ25,MATCHSELEVES!$Y$14:$AF$600,8,FALSE),0)","v":0},{"$f":"IFERROR(VLOOKUP(KZ25,MATCHSELEVES!$Y$14:$AG$600,9,FALSE),0)","v":0},"Nicolasp_10",{"$f":"IFERROR(VLOOKUP(LF25,MATCHSELEVES!$Y$14:$AE$600,3,FALSE),0)","v":0},{"$f":"IFERROR(VLOOKUP(LF25,MATCHSELEVES!$Y$14:$AE$600,4,FALSE),0)","v":0},{"$f":"IFERROR(VLOOKUP(LF25,MATCHSELEVES!$Y$14:$AE$600,5,FALSE),0)","v":0},{"$f":"IFERROR(VLOOKUP(LF25,MATCHSELEVES!$Y$14:$AF$600,8,FALSE),0)","v":0},{"$f":"IFERROR(VLOOKUP(LF25,MATCHSELEVES!$Y$14:$AG$600,9,FALSE),0)","v":0},"Nicolasp_11",{"$f":"IFERROR(VLOOKUP(LL25,MATCHSELEVES!$Y$14:$AE$600,3,FALSE),0)","v":0},{"$f":"IFERROR(VLOOKUP(LL25,MATCHSELEVES!$Y$14:$AE$600,4,FALSE),0)","v":0},{"$f":"IFERROR(VLOOKUP(LL25,MATCHSELEVES!$Y$14:$AE$600,5,FALSE),0)","v":0},{"$f":"IFERROR(VLOOKUP(LL25,MATCHSELEVES!$Y$14:$AF$600,8,FALSE),0)","v":0},{"$f":"IFERROR(VLOOKUP(LL25,MATCHSELEVES!$Y$14:$AG$600,9,FALSE),0)","v":0},"Nicolasp_12",{"$f":"IFERROR(VLOOKUP(LR25,MATCHSELEVES!$Y$14:$AE$600,3,FALSE),0)","v":0},{"$f":"IFERROR(VLOOKUP(LR25,MATCHSELEVES!$Y$14:$AE$600,4,FALSE),0)","v":0},{"$f":"IFERROR(VLOOKUP(LR25,MATCHSELEVES!$Y$14:$AE$600,5,FALSE),0)","v":0},{"$f":"IFERROR(VLOOKUP(LR25,MATCHSELEVES!$Y$14:$AF$600,8,FALSE),0)","v":0},{"$f":"IFERROR(VLOOKUP(LR25,MATCHSELEVES!$Y$14:$AG$600,9,FALSE),0)","v":0},"Nicolasp_13",{"$f":"IFERROR(VLOOKUP(LX25,MATCHSELEVES!$Y$14:$AE$600,3,FALSE),0)","v":0},{"$f":"IFERROR(VLOOKUP(LX25,MATCHSELEVES!$Y$14:$AE$600,4,FALSE),0)","v":0},{"$f":"IFERROR(VLOOKUP(LX25,MATCHSELEVES!$Y$14:$AE$600,5,FALSE),0)","v":0},{"$f":"IFERROR(VLOOKUP(LX25,MATCHSELEVES!$Y$14:$AF$600,8,FALSE),0)","v":0},{"$f":"IFERROR(VLOOKUP(LX25,MATCHSELEVES!$Y$14:$AG$600,9,FALSE),0)","v":0},"Nicolasp_14",{"$f":"IFERROR(VLOOKUP(MD25,MATCHSELEVES!$Y$14:$AE$600,3,FALSE),0)","v":0},{"$f":"IFERROR(VLOOKUP(MD25,MATCHSELEVES!$Y$14:$AE$600,4,FALSE),0)","v":0},{"$f":"IFERROR(VLOOKUP(MD25,MATCHSELEVES!$Y$14:$AE$600,5,FALSE),0)","v":0},{"$f":"IFERROR(VLOOKUP(MD25,MATCHSELEVES!$Y$14:$AF$600,8,FALSE),0)","v":0},{"$f":"IFERROR(VLOOKUP(MD25,MATCHSELEVES!$Y$14:$AG$600,9,FALSE),0)","v":0},"Nicolasp_15",{"$f":"IFERROR(VLOOKUP(MJ25,MATCHSELEVES!$Y$14:$AE$600,3,FALSE),0)","v":0},{"$f":"IFERROR(VLOOKUP(MJ25,MATCHSELEVES!$Y$14:$AE$600,4,FALSE),0)","v":0},{"$f":"IFERROR(VLOOKUP(MJ25,MATCHSELEVES!$Y$14:$AE$600,5,FALSE),0)","v":0},{"$f":"IFERROR(VLOOKUP(MJ25,MATCHSELEVES!$Y$14:$AF$600,8,FALSE),0)","v":0},{"$f":"IFERROR(VLOOKUP(MJ25,MATCHSELEVES!$Y$14:$AG$600,9,FALSE),0)","v":0},"Nicolasp_16",{"$f":"IFERROR(VLOOKUP(MP25,MATCHSELEVES!$Y$14:$AE$600,3,FALSE),0)","v":0},{"$f":"IFERROR(VLOOKUP(MP25,MATCHSELEVES!$Y$14:$AE$600,4,FALSE),0)","v":0},{"$f":"IFERROR(VLOOKUP(MP25,MATCHSELEVES!$Y$14:$AE$600,5,FALSE),0)","v":0},{"$f":"IFERROR(VLOOKUP(MP25,MATCHSELEVES!$Y$14:$AF$600,8,FALSE),0)","v":0},{"$f":"IFERROR(VLOOKUP(MP25,MATCHSELEVES!$Y$14:$AG$600,9,FALSE),0)","v":0},"Nicolasp_17",{"$f":"IFERROR(VLOOKUP(MV25,MATCHSELEVES!$Y$14:$AE$600,3,FALSE),0)","v":0},{"$f":"IFERROR(VLOOKUP(MV25,MATCHSELEVES!$Y$14:$AE$600,4,FALSE),0)","v":0},{"$f":"IFERROR(VLOOKUP(MV25,MATCHSELEVES!$Y$14:$AE$600,5,FALSE),0)","v":0},{"$f":"IFERROR(VLOOKUP(MV25,MATCHSELEVES!$Y$14:$AF$600,8,FALSE),0)","v":0},{"$f":"IFERROR(VLOOKUP(MV25,MATCHSELEVES!$Y$14:$AG$600,9,FALSE),0)","v":0},"Nicolasp_18",{"$f":"IFERROR(VLOOKUP(NB25,MATCHSELEVES!$Y$14:$AE$600,3,FALSE),0)","v":0},{"$f":"IFERROR(VLOOKUP(NB25,MATCHSELEVES!$Y$14:$AE$600,4,FALSE),0)","v":0},{"$f":"IFERROR(VLOOKUP(NB25,MATCHSELEVES!$Y$14:$AE$600,5,FALSE),0)","v":0},{"$f":"IFERROR(VLOOKUP(NB25,MATCHSELEVES!$Y$14:$AF$600,8,FALSE),0)","v":0},{"$f":"IFERROR(VLOOKUP(NB25,MATCHSELEVES!$Y$14:$AG$600,9,FALSE),0)","v":0},"Nicolasp_19",{"$f":"IFERROR(VLOOKUP(NH25,MATCHSELEVES!$Y$14:$AE$600,3,FALSE),0)","v":0},{"$f":"IFERROR(VLOOKUP(NH25,MATCHSELEVES!$Y$14:$AE$600,4,FALSE),0)","v":0},{"$f":"IFERROR(VLOOKUP(NH25,MATCHSELEVES!$Y$14:$AE$600,5,FALSE),0)","v":0},{"$f":"IFERROR(VLOOKUP(NH25,MATCHSELEVES!$Y$14:$AF$600,8,FALSE),0)","v":0},{"$f":"IFERROR(VLOOKUP(NH25,MATCHSELEVES!$Y$14:$AG$600,9,FALSE),0)","v":0},"Nicolasp_20",{"$f":"IFERROR(VLOOKUP(NN25,MATCHSELEVES!$Y$14:$AE$600,3,FALSE),0)","v":0},{"$f":"IFERROR(VLOOKUP(NN25,MATCHSELEVES!$Y$14:$AE$600,4,FALSE),0)","v":0},{"$f":"IFERROR(VLOOKUP(NN25,MATCHSELEVES!$Y$14:$AE$600,5,FALSE),0)","v":0},{"$f":"IFERROR(VLOOKUP(NN25,MATCHSELEVES!$Y$14:$AF$600,8,FALSE),0)","v":0},{"$f":"IFERROR(VLOOKUP(NN25,MATCHSELEVES!$Y$14:$AG$600,9,FALSE),0)","v":0},"Nicolasp_21",{"$f":"IFERROR(VLOOKUP(NT25,MATCHSELEVES!$Y$14:$AE$600,3,FALSE),0)","v":0},{"$f":"IFERROR(VLOOKUP(NT25,MATCHSELEVES!$Y$14:$AE$600,4,FALSE),0)","v":0},{"$f":"IFERROR(VLOOKUP(NT25,MATCHSELEVES!$Y$14:$AE$600,5,FALSE),0)","v":0},{"$f":"IFERROR(VLOOKUP(NT25,MATCHSELEVES!$Y$14:$AF$600,8,FALSE),0)","v":0},{"$f":"IFERROR(VLOOKUP(NT25,MATCHSELEVES!$Y$14:$AG$600,9,FALSE),0)","v":0},"Nicolasp_22",{"$f":"IFERROR(VLOOKUP(NZ25,MATCHSELEVES!$Y$14:$AE$600,3,FALSE),0)","v":0},{"$f":"IFERROR(VLOOKUP(NZ25,MATCHSELEVES!$Y$14:$AE$600,4,FALSE),0)","v":0},{"$f":"IFERROR(VLOOKUP(NZ25,MATCHSELEVES!$Y$14:$AE$600,5,FALSE),0)","v":0},{"$f":"IFERROR(VLOOKUP(NZ25,MATCHSELEVES!$Y$14:$AF$600,8,FALSE),0)","v":0},{"$f":"IFERROR(VLOOKUP(NZ25,MATCHSELEVES!$Y$14:$AG$600,9,FALSE),0)","v":0},"Nicolasp_23",{"$f":"IFERROR(VLOOKUP(OF25,MATCHSELEVES!$Y$14:$AE$600,3,FALSE),0)","v":0},{"$f":"IFERROR(VLOOKUP(OF25,MATCHSELEVES!$Y$14:$AE$600,4,FALSE),0)","v":0},{"$f":"IFERROR(VLOOKUP(OF25,MATCHSELEVES!$Y$14:$AE$600,5,FALSE),0)","v":0},{"$f":"IFERROR(VLOOKUP(OF25,MATCHSELEVES!$Y$14:$AF$600,8,FALSE),0)","v":0},{"$f":"IFERROR(VLOOKUP(OF25,MATCHSELEVES!$Y$14:$AG$600,9,FALSE),0)","v":0},"Nicolasp_24",{"$f":"IFERROR(VLOOKUP(OL25,MATCHSELEVES!$Y$14:$AE$600,3,FALSE),0)","v":0},{"$f":"IFERROR(VLOOKUP(OL25,MATCHSELEVES!$Y$14:$AE$600,4,FALSE),0)","v":0},{"$f":"IFERROR(VLOOKUP(OL25,MATCHSELEVES!$Y$14:$AE$600,5,FALSE),0)","v":0},{"$f":"IFERROR(VLOOKUP(OL25,MATCHSELEVES!$Y$14:$AF$600,8,FALSE),0)","v":0},{"$f":"IFERROR(VLOOKUP(OL25,MATCHSELEVES!$Y$14:$AG$600,9,FALSE),0)","v":0},"Nicolasp_25",{"$f":"IFERROR(VLOOKUP(OR25,MATCHSELEVES!$Y$14:$AE$600,3,FALSE),0)","v":0},{"$f":"IFERROR(VLOOKUP(OR25,MATCHSELEVES!$Y$14:$AE$600,4,FALSE),0)","v":0},{"$f":"IFERROR(VLOOKUP(OR25,MATCHSELEVES!$Y$14:$AE$600,5,FALSE),0)","v":0},{"$f":"IFERROR(VLOOKUP(OR25,MATCHSELEVES!$Y$14:$AF$600,8,FALSE),0)","v":0},{"$f":"IFERROR(VLOOKUP(OR25,MATCHSELEVES!$Y$14:$AG$600,9,FALSE),0)","v":0},"Nicolasp_26",{"$f":"IFERROR(VLOOKUP(OX25,MATCHSELEVES!$Y$14:$AE$600,3,FALSE),0)","v":0},{"$f":"IFERROR(VLOOKUP(OX25,MATCHSELEVES!$Y$14:$AE$600,4,FALSE),0)","v":0},{"$f":"IFERROR(VLOOKUP(OX25,MATCHSELEVES!$Y$14:$AE$600,5,FALSE),0)","v":0},{"$f":"IFERROR(VLOOKUP(OX25,MATCHSELEVES!$Y$14:$AF$600,8,FALSE),0)","v":0},{"$f":"IFERROR(VLOOKUP(OX25,MATCHSELEVES!$Y$14:$AG$600,9,FALSE),0)","v":0},"Nicolasp_27",{"$f":"IFERROR(VLOOKUP(PD25,MATCHSELEVES!$Y$14:$AE$600,3,FALSE),0)","v":0},{"$f":"IFERROR(VLOOKUP(PD25,MATCHSELEVES!$Y$14:$AE$600,4,FALSE),0)","v":0},{"$f":"IFERROR(VLOOKUP(PD25,MATCHSELEVES!$Y$14:$AE$600,5,FALSE),0)","v":0},{"$f":"IFERROR(VLOOKUP(PD25,MATCHSELEVES!$Y$14:$AF$600,8,FALSE),0)","v":0},{"$f":"IFERROR(VLOOKUP(PD25,MATCHSELEVES!$Y$14:$AG$600,9,FALSE),0)","v":0},"Nicolasp_28",{"$f":"IFERROR(VLOOKUP(PJ25,MATCHSELEVES!$Y$14:$AE$600,3,FALSE),0)","v":0},{"$f":"IFERROR(VLOOKUP(PJ25,MATCHSELEVES!$Y$14:$AE$600,4,FALSE),0)","v":0},{"$f":"IFERROR(VLOOKUP(PJ25,MATCHSELEVES!$Y$14:$AE$600,5,FALSE),0)","v":0},{"$f":"IFERROR(VLOOKUP(PJ25,MATCHSELEVES!$Y$14:$AF$600,8,FALSE),0)","v":0},{"$f":"IFERROR(VLOOKUP(PJ25,MATCHSELEVES!$Y$14:$AG$600,9,FALSE),0)","v":0},"Nicolasp_29",{"$f":"IFERROR(VLOOKUP(PP25,MATCHSELEVES!$Y$14:$AE$600,3,FALSE),0)","v":0},{"$f":"IFERROR(VLOOKUP(PP25,MATCHSELEVES!$Y$14:$AE$600,4,FALSE),0)","v":0},{"$f":"IFERROR(VLOOKUP(PP25,MATCHSELEVES!$Y$14:$AE$600,5,FALSE),0)","v":0},{"$f":"IFERROR(VLOOKUP(PP25,MATCHSELEVES!$Y$14:$AF$600,8,FALSE),0)","v":0},{"$f":"IFERROR(VLOOKUP(PP25,MATCHSELEVES!$Y$14:$AG$600,9,FALSE),0)","v":0},"Nicolasp_30",{"$f":"IFERROR(VLOOKUP(PV25,MATCHSELEVES!$Y$14:$AE$600,3,FALSE),0)","v":0},{"$f":"IFERROR(VLOOKUP(PV25,MATCHSELEVES!$Y$14:$AE$600,4,FALSE),0)","v":0},{"$f":"IFERROR(VLOOKUP(PV25,MATCHSELEVES!$Y$14:$AE$600,5,FALSE),0)","v":0},{"$f":"IFERROR(VLOOKUP(PV25,MATCHSELEVES!$Y$14:$AF$600,8,FALSE),0)","v":0},{"$f":"IFERROR(VLOOKUP(PV25,MATCHSELEVES!$Y$14:$AG$600,9,FALSE),0)","v":0},"Nicolasp_31",{"$f":"IFERROR(VLOOKUP(QB25,MATCHSELEVES!$Y$14:$AE$600,3,FALSE),0)","v":0},{"$f":"IFERROR(VLOOKUP(QB25,MATCHSELEVES!$Y$14:$AE$600,4,FALSE),0)","v":0},{"$f":"IFERROR(VLOOKUP(QB25,MATCHSELEVES!$Y$14:$AE$600,5,FALSE),0)","v":0},{"$f":"IFERROR(VLOOKUP(QB25,MATCHSELEVES!$Y$14:$AF$600,8,FALSE),0)","v":0},{"$f":"IFERROR(VLOOKUP(QB25,MATCHSELEVES!$Y$14:$AG$600,9,FALSE),0)","v":0},"Nicolasp_32",{"$f":"IFERROR(VLOOKUP(QH25,MATCHSELEVES!$Y$14:$AE$600,3,FALSE),0)","v":0},{"$f":"IFERROR(VLOOKUP(QH25,MATCHSELEVES!$Y$14:$AE$600,4,FALSE),0)","v":0},{"$f":"IFERROR(VLOOKUP(QH25,MATCHSELEVES!$Y$14:$AE$600,5,FALSE),0)","v":0},{"$f":"IFERROR(VLOOKUP(QH25,MATCHSELEVES!$Y$14:$AF$600,8,FALSE),0)","v":0},{"$f":"IFERROR(VLOOKUP(QH25,MATCHSELEVES!$Y$14:$AG$600,9,FALSE),0)","v":0},"Nicolasp_33",{"$f":"IFERROR(VLOOKUP(QN25,MATCHSELEVES!$Y$14:$AE$600,3,FALSE),0)","v":0},{"$f":"IFERROR(VLOOKUP(QN25,MATCHSELEVES!$Y$14:$AE$600,4,FALSE),0)","v":0},{"$f":"IFERROR(VLOOKUP(QN25,MATCHSELEVES!$Y$14:$AE$600,5,FALSE),0)","v":0},{"$f":"IFERROR(VLOOKUP(QN25,MATCHSELEVES!$Y$14:$AF$600,8,FALSE),0)","v":0},{"$f":"IFERROR(VLOOKUP(QN25,MATCHSELEVES!$Y$14:$AG$600,9,FALSE),0)","v":0},"Nicolasp_34",{"$f":"IFERROR(VLOOKUP(QT25,MATCHSELEVES!$Y$14:$AE$600,3,FALSE),0)","v":0},{"$f":"IFERROR(VLOOKUP(QT25,MATCHSELEVES!$Y$14:$AE$600,4,FALSE),0)","v":0},{"$f":"IFERROR(VLOOKUP(QT25,MATCHSELEVES!$Y$14:$AE$600,5,FALSE),0)","v":0},{"$f":"IFERROR(VLOOKUP(QT25,MATCHSELEVES!$Y$14:$AF$600,8,FALSE),0)","v":0},{"$f":"IFERROR(VLOOKUP(QT25,MATCHSELEVES!$Y$14:$AG$600,9,FALSE),0)","v":0},"Nicolasp_35",{"$f":"IFERROR(VLOOKUP(QZ25,MATCHSELEVES!$Y$14:$AE$600,3,FALSE),0)","v":0},{"$f":"IFERROR(VLOOKUP(QZ25,MATCHSELEVES!$Y$14:$AE$600,4,FALSE),0)","v":0},{"$f":"IFERROR(VLOOKUP(QZ25,MATCHSELEVES!$Y$14:$AE$600,5,FALSE),0)","v":0},{"$f":"IFERROR(VLOOKUP(QZ25,MATCHSELEVES!$Y$14:$AF$600,8,FALSE),0)","v":0},{"$f":"IFERROR(VLOOKUP(QZ25,MATCHSELEVES!$Y$14:$AG$600,9,FALSE),0)","v":0},"Nicolasp_36",{"$f":"IFERROR(VLOOKUP(RF25,MATCHSELEVES!$Y$14:$AE$600,3,FALSE),0)","v":0},{"$f":"IFERROR(VLOOKUP(RF25,MATCHSELEVES!$Y$14:$AE$600,4,FALSE),0)","v":0},{"$f":"IFERROR(VLOOKUP(RF25,MATCHSELEVES!$Y$14:$AE$600,5,FALSE),0)","v":0},{"$f":"IFERROR(VLOOKUP(RF25,MATCHSELEVES!$Y$14:$AF$600,8,FALSE),0)","v":0},{"$f":"IFERROR(VLOOKUP(RF25,MATCHSELEVES!$Y$14:$AG$600,9,FALSE),0)","v":0},"Nicolasp_37",{"$f":"IFERROR(VLOOKUP(RL25,MATCHSELEVES!$Y$14:$AE$600,3,FALSE),0)","v":0},{"$f":"IFERROR(VLOOKUP(RL25,MATCHSELEVES!$Y$14:$AE$600,4,FALSE),0)","v":0},{"$f":"IFERROR(VLOOKUP(RL25,MATCHSELEVES!$Y$14:$AE$600,5,FALSE),0)","v":0},{"$f":"IFERROR(VLOOKUP(RL25,MATCHSELEVES!$Y$14:$AF$600,8,FALSE),0)","v":0},{"$f":"IFERROR(VLOOKUP(RL25,MATCHSELEVES!$Y$14:$AG$600,9,FALSE),0)","v":0},"Nicolasp_38",{"$f":"IFERROR(VLOOKUP(RR25,MATCHSELEVES!$Y$14:$AE$600,3,FALSE),0)","v":0},{"$f":"IFERROR(VLOOKUP(RR25,MATCHSELEVES!$Y$14:$AE$600,4,FALSE),0)","v":0},{"$f":"IFERROR(VLOOKUP(RR25,MATCHSELEVES!$Y$14:$AE$600,5,FALSE),0)","v":0},{"$f":"IFERROR(VLOOKUP(RR25,MATCHSELEVES!$Y$14:$AF$600,8,FALSE),0)","v":0},{"$f":"IFERROR(VLOOKUP(RR25,MATCHSELEVES!$Y$14:$AG$600,9,FALSE),0)","v":0},"Nicolasp_39",{"$f":"IFERROR(VLOOKUP(RX25,MATCHSELEVES!$Y$14:$AE$600,3,FALSE),0)","v":0},{"$f":"IFERROR(VLOOKUP(RX25,MATCHSELEVES!$Y$14:$AE$600,4,FALSE),0)","v":0},{"$f":"IFERROR(VLOOKUP(RX25,MATCHSELEVES!$Y$14:$AE$600,5,FALSE),0)","v":0},{"$f":"IFERROR(VLOOKUP(RX25,MATCHSELEVES!$Y$14:$AF$600,8,FALSE),0)","v":0},{"$f":"IFERROR(VLOOKUP(RX25,MATCHSELEVES!$Y$14:$AG$600,9,FALSE),0)","v":0},"Nicolasp_40",{"$f":"IFERROR(VLOOKUP(SD25,MATCHSELEVES!$Y$14:$AE$600,3,FALSE),0)","v":0},{"$f":"IFERROR(VLOOKUP(SD25,MATCHSELEVES!$Y$14:$AE$600,4,FALSE),0)","v":0},{"$f":"IFERROR(VLOOKUP(SD25,MATCHSELEVES!$Y$14:$AE$600,5,FALSE),0)","v":0},{"$f":"IFERROR(VLOOKUP(SD25,MATCHSELEVES!$Y$14:$AF$600,8,FALSE),0)","v":0},{"$f":"IFERROR(VLOOKUP(SD25,MATCHSELEVES!$Y$14:$AG$600,9,FALSE),0)","v":0}]
[23,null,{"$f":"MD1POINT!C26","v":"Oumar"},{"$f":"MD1POINT!D26","v":1},{"$f":"COUNTIF(MATCHSELEVES!$Z$14:$Z$600,C26)+COUNTIF(MATCHSELEVES!$Z$14:$Z$600,$C26&\"p\")","v":0},1,{"$f":"COUNTIF(MATCHSELEVES!$F$14:$H$249,C26)","v":0},1,0,1,0,1,0,1,{"$f":"Y26+AE26+AK26+AQ26+AW26+BC26+BI26+BO26+BU26+CA26+CG26+CM26+CS26+CY26+DE26+DK26+DQ26+DW26+EC26+EI26+EO26+EU26+FA26+FG26+FM26+FS26+FY26+GE26+GK26+GQ26+GW26+4+HI26+HO26+HU26+IA26+HC26+IG26+IM26+IY26+IS26+JH26+JN26+JZ26+JT26+KF26+KR26+KX26+LJ26+LP26+LV26+LD26+MB26+MH26+MN26+MZ26+MT26+NF26+NL26+NR26+NX26+OD26+OJ26+OP26+OV26+PB26+PH26+PT26+PN26+PZ26+QF26+QL26+QR26+RD26+QX26+RJ26+RP26+RV26+SB26+SH26+KL26+Tableau10[[#This Row],[Nombre de matchs joués]]*2","v":4},1,{"$f":"(Tableau10[[#This Row],[CLASSEMENT1]]+Tableau10[[#This Row],[CLASSEMENT2]]+Tableau10[[#This Row],[CLASSEMENT3]]+Tableau10[[#This Row],[CLASSEMENT4]]+Tableau10[[#This Row],[CLASSEMENT5]]+Tableau10[[#This Row],[CLASSEMENT6]])/6","v":1},{"$f":"RANK(Tableau10[[#This Row],[MOYENNE CLASSEMENTS]],Tableau10[MOYENNE CLASSEMENTS],1)","v":1},null,{"$f":"Tableau10[[#This Row],[CLASSEMENT1]]","v":1},"Oumar_1",{"$f":"IFERROR(VLOOKUP(U26,MATCHSELEVES!$Y$14:$AE$600,3,FALSE),0)","v":0},{"$f":"IFERROR(VLOOKUP(U26,MATCHSELEVES!$Y$14:$AE$600,4,FALSE),0)","v":0},{"$f":"IFERROR(VLOOKUP(U26,MATCHSELEVES!$Y$14:$AE$600,5,FALSE),0)","v":0},{"$f":"IFERROR(VLOOKUP(U26,MATCHSELEVES!$Y$14:$AF$600,8,FALSE),0)","v":0},{"$f":"IFERROR(VLOOKUP(U26,MATCHSELEVES!$Y$14:$AG$600,9,FALSE),0)","v":0},"Oumar_2",{"$f":"IFERROR(VLOOKUP(AA26,MATCHSELEVES!$Y$14:$AE$600,3,FALSE),0)","v":0},{"$f":"IFERROR(VLOOKUP(AA26,MATCHSELEVES!$Y$14:$AE$600,4,FALSE),0)","v":0},{"$f":"IFERROR(VLOOKUP(AA26,MATCHSELEVES!$Y$14:$AE$600,5,FALSE),0)","v":0},{"$f":"IFERROR(VLOOKUP(AA26,MATCHSELEVES!$Y$14:$AF$600,8,FALSE),0)","v":0},{"$f":"IFERROR(VLOOKUP(AA26,MATCHSELEVES!$Y$14:$AG$600,9,FALSE),0)","v":0},"Oumar_3",{"$f":"IFERROR(VLOOKUP(AG26,MATCHSELEVES!$Y$14:$AE$600,3,FALSE),0)","v":0},{"$f":"IFERROR(VLOOKUP(AG26,MATCHSELEVES!$Y$14:$AE$600,4,FALSE),0)","v":0},{"$f":"IFERROR(VLOOKUP(AG26,MATCHSELEVES!$Y$14:$AE$600,5,FALSE),0)","v":0},{"$f":"IFERROR(VLOOKUP(AG26,MATCHSELEVES!$Y$14:$AF$600,8,FALSE),0)","v":0},{"$f":"IFERROR(VLOOKUP(AG26,MATCHSELEVES!$Y$14:$AG$600,9,FALSE),0)","v":0},"Oumar_4",{"$f":"IFERROR(VLOOKUP(AM26,MATCHSELEVES!$Y$14:$AE$600,3,FALSE),0)","v":0},{"$f":"IFERROR(VLOOKUP(AM26,MATCHSELEVES!$Y$14:$AE$600,4,FALSE),0)","v":0},{"$f":"IFERROR(VLOOKUP(AM26,MATCHSELEVES!$Y$14:$AE$600,5,FALSE),0)","v":0},{"$f":"IFERROR(VLOOKUP(AM26,MATCHSELEVES!$Y$14:$AF$600,8,FALSE),0)","v":0},{"$f":"IFERROR(VLOOKUP(AM26,MATCHSELEVES!$Y$14:$AG$600,9,FALSE),0)","v":0},"Oumar_5",{"$f":"IFERROR(VLOOKUP(AS26,MATCHSELEVES!$Y$14:$AE$600,3,FALSE),0)","v":0},{"$f":"IFERROR(VLOOKUP(AS26,MATCHSELEVES!$Y$14:$AE$600,4,FALSE),0)","v":0},{"$f":"IFERROR(VLOOKUP(AS26,MATCHSELEVES!$Y$14:$AE$600,5,FALSE),0)","v":0},{"$f":"IFERROR(VLOOKUP(AS26,MATCHSELEVES!$Y$14:$AF$600,8,FALSE),0)","v":0},{"$f":"IFERROR(VLOOKUP(AS26,MATCHSELEVES!$Y$14:$AG$600,9,FALSE),0)","v":0},"Oumar_6",{"$f":"IFERROR(VLOOKUP(AY26,MATCHSELEVES!$Y$14:$AE$600,3,FALSE),0)","v":0},{"$f":"IFERROR(VLOOKUP(AY26,MATCHSELEVES!$Y$14:$AE$600,4,FALSE),0)","v":0},{"$f":"IFERROR(VLOOKUP(AY26,MATCHSELEVES!$Y$14:$AE$600,5,FALSE),0)","v":0},{"$f":"IFERROR(VLOOKUP(AY26,MATCHSELEVES!$Y$14:$AF$600,8,FALSE),0)","v":0},{"$f":"IFERROR(VLOOKUP(AY26,MATCHSELEVES!$Y$14:$AG$600,9,FALSE),0)","v":0},"Oumar_7",{"$f":"IFERROR(VLOOKUP(BE26,MATCHSELEVES!$Y$14:$AE$600,3,FALSE),0)","v":0},{"$f":"IFERROR(VLOOKUP(BE26,MATCHSELEVES!$Y$14:$AE$600,4,FALSE),0)","v":0},{"$f":"IFERROR(VLOOKUP(BE26,MATCHSELEVES!$Y$14:$AE$600,5,FALSE),0)","v":0},{"$f":"IFERROR(VLOOKUP(BE26,MATCHSELEVES!$Y$14:$AF$600,8,FALSE),0)","v":0},{"$f":"IFERROR(VLOOKUP(BE26,MATCHSELEVES!$Y$14:$AG$600,9,FALSE),0)","v":0},"Oumar_8",{"$f":"IFERROR(VLOOKUP(BK26,MATCHSELEVES!$Y$14:$AE$600,3,FALSE),0)","v":0},{"$f":"IFERROR(VLOOKUP(BK26,MATCHSELEVES!$Y$14:$AE$600,4,FALSE),0)","v":0},{"$f":"IFERROR(VLOOKUP(BK26,MATCHSELEVES!$Y$14:$AE$600,5,FALSE),0)","v":0},{"$f":"IFERROR(VLOOKUP(BK26,MATCHSELEVES!$Y$14:$AF$600,8,FALSE),0)","v":0},{"$f":"IFERROR(VLOOKUP(BK26,MATCHSELEVES!$Y$14:$AG$600,9,FALSE),0)","v":0},"Oumar_9",{"$f":"IFERROR(VLOOKUP(BQ26,MATCHSELEVES!$Y$14:$AE$600,3,FALSE),0)","v":0},{"$f":"IFERROR(VLOOKUP(BQ26,MATCHSELEVES!$Y$14:$AE$600,4,FALSE),0)","v":0},{"$f":"IFERROR(VLOOKUP(BQ26,MATCHSELEVES!$Y$14:$AE$600,5,FALSE),0)","v":0},{"$f":"IFERROR(VLOOKUP(BQ26,MATCHSELEVES!$Y$14:$AF$600,8,FALSE),0)","v":0},{"$f":"IFERROR(VLOOKUP(BQ26,MATCHSELEVES!$Y$14:$AG$600,9,FALSE),0)","v":0},"Oumar_10",{"$f":"IFERROR(VLOOKUP(BW26,MATCHSELEVES!$Y$14:$AE$600,3,FALSE),0)","v":0},{"$f":"IFERROR(VLOOKUP(BW26,MATCHSELEVES!$Y$14:$AE$600,4,FALSE),0)","v":0},{"$f":"IFERROR(VLOOKUP(BW26,MATCHSELEVES!$Y$14:$AE$600,5,FALSE),0)","v":0},{"$f":"IFERROR(VLOOKUP(BW26,MATCHSELEVES!$Y$14:$AF$600,8,FALSE),0)","v":0},{"$f":"IFERROR(VLOOKUP(BW26,MATCHSELEVES!$Y$14:$AG$600,9,FALSE),0)","v":0},"Oumar_11",{"$f":"IFERROR(VLOOKUP(CC26,MATCHSELEVES!$Y$14:$AE$600,3,FALSE),0)","v":0},{"$f":"IFERROR(VLOOKUP(CC26,MATCHSELEVES!$Y$14:$AE$600,4,FALSE),0)","v":0},{"$f":"IFERROR(VLOOKUP(CC26,MATCHSELEVES!$Y$14:$AE$600,5,FALSE),0)","v":0},{"$f":"IFERROR(VLOOKUP(CC26,MATCHSELEVES!$Y$14:$AF$600,8,FALSE),0)","v":0},{"$f":"IFERROR(VLOOKUP(CC26,MATCHSELEVES!$Y$14:$AG$600,9,FALSE),0)","v":0},"Oumar_12",{"$f":"IFERROR(VLOOKUP(CI26,MATCHSELEVES!$Y$14:$AE$600,3,FALSE),0)","v":0},{"$f":"IFERROR(VLOOKUP(CI26,MATCHSELEVES!$Y$14:$AE$600,4,FALSE),0)","v":0},{"$f":"IFERROR(VLOOKUP(CI26,MATCHSELEVES!$Y$14:$AE$600,5,FALSE),0)","v":0},{"$f":"IFERROR(VLOOKUP(CI26,MATCHSELEVES!$Y$14:$AF$600,8,FALSE),0)","v":0},{"$f":"IFERROR(VLOOKUP(CI26,MATCHSELEVES!$Y$14:$AG$600,9,FALSE),0)","v":0},"Oumar_13",{"$f":"IFERROR(VLOOKUP(CO26,MATCHSELEVES!$Y$14:$AE$600,3,FALSE),0)","v":0},{"$f":"IFERROR(VLOOKUP(CO26,MATCHSELEVES!$Y$14:$AE$600,4,FALSE),0)","v":0},{"$f":"IFERROR(VLOOKUP(CO26,MATCHSELEVES!$Y$14:$AE$600,5,FALSE),0)","v":0},{"$f":"IFERROR(VLOOKUP(CO26,MATCHSELEVES!$Y$14:$AF$600,8,FALSE),0)","v":0},{"$f":"IFERROR(VLOOKUP(CO26,MATCHSELEVES!$Y$14:$AG$600,9,FALSE),0)","v":0},"Oumar_14",{"$f":"IFERROR(VLOOKUP(CU26,MATCHSELEVES!$Y$14:$AE$600,3,FALSE),0)","v":0},{"$f":"IFERROR(VLOOKUP(CU26,MATCHSELEVES!$Y$14:$AE$600,4,FALSE),0)","v":0},{"$f":"IFERROR(VLOOKUP(CU26,MATCHSELEVES!$Y$14:$AE$600,5,FALSE),0)","v":0},{"$f":"IFERROR(VLOOKUP(CU26,MATCHSELEVES!$Y$14:$AF$600,8,FALSE),0)","v":0},{"$f":"IFERROR(VLOOKUP(CU26,MATCHSELEVES!$Y$14:$AG$600,9,FALSE),0)","v":0},"Oumar_15",{"$f":"IFERROR(VLOOKUP(DA26,MATCHSELEVES!$Y$14:$AE$600,3,FALSE),0)","v":0},{"$f":"IFERROR(VLOOKUP(DA26,MATCHSELEVES!$Y$14:$AE$600,4,FALSE),0)","v":0},{"$f":"IFERROR(VLOOKUP(DA26,MATCHSELEVES!$Y$14:$AE$600,5,FALSE),0)","v":0},{"$f":"IFERROR(VLOOKUP(DA26,MATCHSELEVES!$Y$14:$AF$600,8,FALSE),0)","v":0},{"$f":"IFERROR(VLOOKUP(DA26,MATCHSELEVES!$Y$14:$AG$600,9,FALSE),0)","v":0},"Oumar_16",{"$f":"IFERROR(VLOOKUP(DG26,MATCHSELEVES!$Y$14:$AE$600,3,FALSE),0)","v":0},{"$f":"IFERROR(VLOOKUP(DG26,MATCHSELEVES!$Y$14:$AE$600,4,FALSE),0)","v":0},{"$f":"IFERROR(VLOOKUP(DG26,MATCHSELEVES!$Y$14:$AE$600,5,FALSE),0)","v":0},{"$f":"IFERROR(VLOOKUP(DG26,MATCHSELEVES!$Y$14:$AF$600,8,FALSE),0)","v":0},{"$f":"IFERROR(VLOOKUP(DG26,MATCHSELEVES!$Y$14:$AG$600,9,FALSE),0)","v":0},"Oumar_17",{"$f":"IFERROR(VLOOKUP(DM26,MATCHSELEVES!$Y$14:$AE$600,3,FALSE),0)","v":0},{"$f":"IFERROR(VLOOKUP(DM26,MATCHSELEVES!$Y$14:$AE$600,4,FALSE),0)","v":0},{"$f":"IFERROR(VLOOKUP(DM26,MATCHSELEVES!$Y$14:$AE$600,5,FALSE),0)","v":0},{"$f":"IFERROR(VLOOKUP(DM26,MATCHSELEVES!$Y$14:$AF$600,8,FALSE),0)","v":0},{"$f":"IFERROR(VLOOKUP(DM26,MATCHSELEVES!$Y$14:$AG$600,9,FALSE),0)","v":0},"Oumar_18",{"$f":"IFERROR(VLOOKUP(DS26,MATCHSELEVES!$Y$14:$AE$600,3,FALSE),0)","v":0},{"$f":"IFERROR(VLOOKUP(DS26,MATCHSELEVES!$Y$14:$AE$600,4,FALSE),0)","v":0},{"$f":"IFERROR(VLOOKUP(DS26,MATCHSELEVES!$Y$14:$AE$600,5,FALSE),0)","v":0},{"$f":"IFERROR(VLOOKUP(DS26,MATCHSELEVES!$Y$14:$AF$600,8,FALSE),0)","v":0},{"$f":"IFERROR(VLOOKUP(DS26,MATCHSELEVES!$Y$14:$AG$600,9,FALSE),0)","v":0},"Oumar_19",{"$f":"IFERROR(VLOOKUP(DY26,MATCHSELEVES!$Y$14:$AE$600,3,FALSE),0)","v":0},{"$f":"IFERROR(VLOOKUP(DY26,MATCHSELEVES!$Y$14:$AE$600,4,FALSE),0)","v":0},{"$f":"IFERROR(VLOOKUP(DY26,MATCHSELEVES!$Y$14:$AE$600,5,FALSE),0)","v":0},{"$f":"IFERROR(VLOOKUP(DY26,MATCHSELEVES!$Y$14:$AF$600,8,FALSE),0)","v":0},{"$f":"IFERROR(VLOOKUP(DY26,MATCHSELEVES!$Y$14:$AG$600,9,FALSE),0)","v":0},"Oumar_20",{"$f":"IFERROR(VLOOKUP(EE26,MATCHSELEVES!$Y$14:$AE$600,3,FALSE),0)","v":0},{"$f":"IFERROR(VLOOKUP(EE26,MATCHSELEVES!$Y$14:$AE$600,4,FALSE),0)","v":0},{"$f":"IFERROR(VLOOKUP(EE26,MATCHSELEVES!$Y$14:$AE$600,5,FALSE),0)","v":0},{"$f":"IFERROR(VLOOKUP(EE26,MATCHSELEVES!$Y$14:$AF$600,8,FALSE),0)","v":0},{"$f":"IFERROR(VLOOKUP(EE26,MATCHSELEVES!$Y$14:$AG$600,9,FALSE),0)","v":0},"Oumar_21",{"$f":"IFERROR(VLOOKUP(EK26,MATCHSELEVES!$Y$14:$AE$600,3,FALSE),0)","v":0},{"$f":"IFERROR(VLOOKUP(EK26,MATCHSELEVES!$Y$14:$AE$600,4,FALSE),0)","v":0},{"$f":"IFERROR(VLOOKUP(EK26,MATCHSELEVES!$Y$14:$AE$600,5,FALSE),0)","v":0},{"$f":"IFERROR(VLOOKUP(EK26,MATCHSELEVES!$Y$14:$AF$600,8,FALSE),0)","v":0},{"$f":"IFERROR(VLOOKUP(EK26,MATCHSELEVES!$Y$14:$AG$600,9,FALSE),0)","v":0},"Oumar_22",{"$f":"IFERROR(VLOOKUP(EQ26,MATCHSELEVES!$Y$14:$AE$600,3,FALSE),0)","v":0},{"$f":"IFERROR(VLOOKUP(EQ26,MATCHSELEVES!$Y$14:$AE$600,4,FALSE),0)","v":0},{"$f":"IFERROR(VLOOKUP(EQ26,MATCHSELEVES!$Y$14:$AE$600,5,FALSE),0)","v":0},{"$f":"IFERROR(VLOOKUP(EQ26,MATCHSELEVES!$Y$14:$AF$600,8,FALSE),0)","v":0},{"$f":"IFERROR(VLOOKUP(EQ26,MATCHSELEVES!$Y$14:$AG$600,9,FALSE),0)","v":0},"Oumar_23",{"$f":"IFERROR(VLOOKUP(EW26,MATCHSELEVES!$Y$14:$AE$600,3,FALSE),0)","v":0},{"$f":"IFERROR(VLOOKUP(EW26,MATCHSELEVES!$Y$14:$AE$600,4,FALSE),0)","v":0},{"$f":"IFERROR(VLOOKUP(EW26,MATCHSELEVES!$Y$14:$AE$600,5,FALSE),0)","v":0},{"$f":"IFERROR(VLOOKUP(EW26,MATCHSELEVES!$Y$14:$AF$600,8,FALSE),0)","v":0},{"$f":"IFERROR(VLOOKUP(EW26,MATCHSELEVES!$Y$14:$AG$600,9,FALSE),0)","v":0},"Oumar_24",{"$f":"IFERROR(VLOOKUP(FC26,MATCHSELEVES!$Y$14:$AE$600,3,FALSE),0)","v":0},{"$f":"IFERROR(VLOOKUP(FC26,MATCHSELEVES!$Y$14:$AE$600,4,FALSE),0)","v":0},{"$f":"IFERROR(VLOOKUP(FC26,MATCHSELEVES!$Y$14:$AE$600,5,FALSE),0)","v":0},{"$f":"IFERROR(VLOOKUP(FC26,MATCHSELEVES!$Y$14:$AF$600,8,FALSE),0)","v":0},{"$f":"IFERROR(VLOOKUP(FC26,MATCHSELEVES!$Y$14:$AG$600,9,FALSE),0)","v":0},"Oumar_25",{"$f":"IFERROR(VLOOKUP(FI26,MATCHSELEVES!$Y$14:$AE$600,3,FALSE),0)","v":0},{"$f":"IFERROR(VLOOKUP(FI26,MATCHSELEVES!$Y$14:$AE$600,4,FALSE),0)","v":0},{"$f":"IFERROR(VLOOKUP(FI26,MATCHSELEVES!$Y$14:$AE$600,5,FALSE),0)","v":0},{"$f":"IFERROR(VLOOKUP(FI26,MATCHSELEVES!$Y$14:$AF$600,8,FALSE),0)","v":0},{"$f":"IFERROR(VLOOKUP(FI26,MATCHSELEVES!$Y$14:$AG$600,9,FALSE),0)","v":0},"Oumar_26",{"$f":"IFERROR(VLOOKUP(FO26,MATCHSELEVES!$Y$14:$AE$600,3,FALSE),0)","v":0},{"$f":"IFERROR(VLOOKUP(FO26,MATCHSELEVES!$Y$14:$AE$600,4,FALSE),0)","v":0},{"$f":"IFERROR(VLOOKUP(FO26,MATCHSELEVES!$Y$14:$AE$600,5,FALSE),0)","v":0},{"$f":"IFERROR(VLOOKUP(FO26,MATCHSELEVES!$Y$14:$AF$600,8,FALSE),0)","v":0},{"$f":"IFERROR(VLOOKUP(FO26,MATCHSELEVES!$Y$14:$AG$600,9,FALSE),0)","v":0},"Oumar_27",{"$f":"IFERROR(VLOOKUP(FU26,MATCHSELEVES!$Y$14:$AE$600,3,FALSE),0)","v":0},{"$f":"IFERROR(VLOOKUP(FU26,MATCHSELEVES!$Y$14:$AE$600,4,FALSE),0)","v":0},{"$f":"IFERROR(VLOOKUP(FU26,MATCHSELEVES!$Y$14:$AE$600,5,FALSE),0)","v":0},{"$f":"IFERROR(VLOOKUP(FU26,MATCHSELEVES!$Y$14:$AF$600,8,FALSE),0)","v":0},{"$f":"IFERROR(VLOOKUP(FU26,MATCHSELEVES!$Y$14:$AG$600,9,FALSE),0)","v":0},"Oumar_28",{"$f":"IFERROR(VLOOKUP(GA26,MATCHSELEVES!$Y$14:$AE$600,3,FALSE),0)","v":0},{"$f":"IFERROR(VLOOKUP(GA26,MATCHSELEVES!$Y$14:$AE$600,4,FALSE),0)","v":0},{"$f":"IFERROR(VLOOKUP(GA26,MATCHSELEVES!$Y$14:$AE$600,5,FALSE),0)","v":0},{"$f":"IFERROR(VLOOKUP(GA26,MATCHSELEVES!$Y$14:$AF$600,8,FALSE),0)","v":0},{"$f":"IFERROR(VLOOKUP(GA26,MATCHSELEVES!$Y$14:$AG$600,9,FALSE),0)","v":0},"Oumar_29",{"$f":"IFERROR(VLOOKUP(GG26,MATCHSELEVES!$Y$14:$AE$600,3,FALSE),0)","v":0},{"$f":"IFERROR(VLOOKUP(GG26,MATCHSELEVES!$Y$14:$AE$600,4,FALSE),0)","v":0},{"$f":"IFERROR(VLOOKUP(GG26,MATCHSELEVES!$Y$14:$AE$600,5,FALSE),0)","v":0},{"$f":"IFERROR(VLOOKUP(GG26,MATCHSELEVES!$Y$14:$AF$600,8,FALSE),0)","v":0},{"$f":"IFERROR(VLOOKUP(GG26,MATCHSELEVES!$Y$14:$AG$600,9,FALSE),0)","v":0},"Oumar_30",{"$f":"IFERROR(VLOOKUP(GM26,MATCHSELEVES!$Y$14:$AE$600,3,FALSE),0)","v":0},{"$f":"IFERROR(VLOOKUP(GM26,MATCHSELEVES!$Y$14:$AE$600,4,FALSE),0)","v":0},{"$f":"IFERROR(VLOOKUP(GM26,MATCHSELEVES!$Y$14:$AE$600,5,FALSE),0)","v":0},{"$f":"IFERROR(VLOOKUP(GM26,MATCHSELEVES!$Y$14:$AF$600,8,FALSE),0)","v":0},{"$f":"IFERROR(VLOOKUP(GM26,MATCHSELEVES!$Y$14:$AG$600,9,FALSE),0)","v":0},"Oumar_31",{"$f":"IFERROR(VLOOKUP(GS26,MATCHSELEVES!$Y$14:$AE$600,3,FALSE),0)","v":0},{"$f":"IFERROR(VLOOKUP(GS26,MATCHSELEVES!$Y$14:$AE$600,4,FALSE),0)","v":0},{"$f":"IFERROR(VLOOKUP(GS26,MATCHSELEVES!$Y$14:$AE$600,5,FALSE),0)","v":0},{"$f":"IFERROR(VLOOKUP(GS26,MATCHSELEVES!$Y$14:$AF$600,8,FALSE),0)","v":0},{"$f":"IFERROR(VLOOKUP(GS26,MATCHSELEVES!$Y$14:$AG$600,9,FALSE),0)","v":0},"Oumar_32",{"$f":"IFERROR(VLOOKUP(GY26,MATCHSELEVES!$Y$14:$AE$600,3,FALSE),0)","v":0},{"$f":"IFERROR(VLOOKUP(GY26,MATCHSELEVES!$Y$14:$AE$600,4,FALSE),0)","v":0},{"$f":"IFERROR(VLOOKUP(GY26,MATCHSELEVES!$Y$14:$AE$600,5,FALSE),0)","v":0},{"$f":"IFERROR(VLOOKUP(GY26,MATCHSELEVES!$Y$14:$AF$600,8,FALSE),0)","v":0},{"$f":"IFERROR(VLOOKUP(GY26,MATCHSELEVES!$Y$14:$AG$600,9,FALSE),0)","v":0},"Oumar_33",{"$f":"IFERROR(VLOOKUP(HE26,MATCHSELEVES!$Y$14:$AE$600,3,FALSE),0)","v":0},{"$f":"IFERROR(VLOOKUP(HE26,MATCHSELEVES!$Y$14:$AE$600,4,FALSE),0)","v":0},{"$f":"IFERROR(VLOOKUP(HE26,MATCHSELEVES!$Y$14:$AE$600,5,FALSE),0)","v":0},{"$f":"IFERROR(VLOOKUP(HE26,MATCHSELEVES!$Y$14:$AF$600,8,FALSE),0)","v":0},{"$f":"IFERROR(VLOOKUP(HE26,MATCHSELEVES!$Y$14:$AG$600,9,FALSE),0)","v":0},"Oumar_34",{"$f":"IFERROR(VLOOKUP(HK26,MATCHSELEVES!$Y$14:$AE$600,3,FALSE),0)","v":0},{"$f":"IFERROR(VLOOKUP(HK26,MATCHSELEVES!$Y$14:$AE$600,4,FALSE),0)","v":0},{"$f":"IFERROR(VLOOKUP(HK26,MATCHSELEVES!$Y$14:$AE$600,5,FALSE),0)","v":0},{"$f":"IFERROR(VLOOKUP(HK26,MATCHSELEVES!$Y$14:$AF$600,8,FALSE),0)","v":0},{"$f":"IFERROR(VLOOKUP(HK26,MATCHSELEVES!$Y$14:$AG$600,9,FALSE),0)","v":0},"Oumar_35",{"$f":"IFERROR(VLOOKUP(HQ26,MATCHSELEVES!$Y$14:$AE$600,3,FALSE),0)","v":0},{"$f":"IFERROR(VLOOKUP(HQ26,MATCHSELEVES!$Y$14:$AE$600,4,FALSE),0)","v":0},{"$f":"IFERROR(VLOOKUP(HQ26,MATCHSELEVES!$Y$14:$AE$600,5,FALSE),0)","v":0},{"$f":"IFERROR(VLOOKUP(HQ26,MATCHSELEVES!$Y$14:$AF$600,8,FALSE),0)","v":0},{"$f":"IFERROR(VLOOKUP(HQ26,MATCHSELEVES!$Y$14:$AG$600,9,FALSE),0)","v":0},"Oumar_36",{"$f":"IFERROR(VLOOKUP(HW26,MATCHSELEVES!$Y$14:$AE$600,3,FALSE),0)","v":0},{"$f":"IFERROR(VLOOKUP(HW26,MATCHSELEVES!$Y$14:$AE$600,4,FALSE),0)","v":0},{"$f":"IFERROR(VLOOKUP(HW26,MATCHSELEVES!$Y$14:$AE$600,5,FALSE),0)","v":0},{"$f":"IFERROR(VLOOKUP(HW26,MATCHSELEVES!$Y$14:$AF$600,8,FALSE),0)","v":0},{"$f":"IFERROR(VLOOKUP(HW26,MATCHSELEVES!$Y$14:$AG$600,9,FALSE),0)","v":0},"Oumar_37",{"$f":"IFERROR(VLOOKUP(IC26,MATCHSELEVES!$Y$14:$AE$600,3,FALSE),0)","v":0},{"$f":"IFERROR(VLOOKUP(IC26,MATCHSELEVES!$Y$14:$AE$600,4,FALSE),0)","v":0},{"$f":"IFERROR(VLOOKUP(IC26,MATCHSELEVES!$Y$14:$AE$600,5,FALSE),0)","v":0},{"$f":"IFERROR(VLOOKUP(IC26,MATCHSELEVES!$Y$14:$AF$600,8,FALSE),0)","v":0},{"$f":"IFERROR(VLOOKUP(IC26,MATCHSELEVES!$Y$14:$AG$600,9,FALSE),0)","v":0},"Oumar_38",{"$f":"IFERROR(VLOOKUP(II26,MATCHSELEVES!$Y$14:$AE$600,3,FALSE),0)","v":0},{"$f":"IFERROR(VLOOKUP(II26,MATCHSELEVES!$Y$14:$AE$600,4,FALSE),0)","v":0},{"$f":"IFERROR(VLOOKUP(II26,MATCHSELEVES!$Y$14:$AE$600,5,FALSE),0)","v":0},{"$f":"IFERROR(VLOOKUP(II26,MATCHSELEVES!$Y$14:$AF$600,8,FALSE),0)","v":0},{"$f":"IFERROR(VLOOKUP(II26,MATCHSELEVES!$Y$14:$AG$600,9,FALSE),0)","v":0},"Oumar_39",{"$f":"IFERROR(VLOOKUP(IO26,MATCHSELEVES!$Y$14:$AE$600,3,FALSE),0)","v":0},{"$f":"IFERROR(VLOOKUP(IO26,MATCHSELEVES!$Y$14:$AE$600,4,FALSE),0)","v":0},{"$f":"IFERROR(VLOOKUP(IO26,MATCHSELEVES!$Y$14:$AE$600,5,FALSE),0)","v":0},{"$f":"IFERROR(VLOOKUP(IO26,MATCHSELEVES!$Y$14:$AF$600,8,FALSE),0)","v":0},{"$f":"IFERROR(VLOOKUP(IO26,MATCHSELEVES!$Y$14:$AG$600,9,FALSE),0)","v":0},"Oumar_40",{"$f":"IFERROR(VLOOKUP(IU26,MATCHSELEVES!$Y$14:$AE$600,3,FALSE),0)","v":0},{"$f":"IFERROR(VLOOKUP(IU26,MATCHSELEVES!$Y$14:$AE$600,4,FALSE),0)","v":0},{"$f":"IFERROR(VLOOKUP(IU26,MATCHSELEVES!$Y$14:$AE$600,5,FALSE),0)","v":0},{"$f":"IFERROR(VLOOKUP(IU26,MATCHSELEVES!$Y$14:$AF$600,8,FALSE),0)","v":0},{"$f":"IFERROR(VLOOKUP(IU26,MATCHSELEVES!$Y$14:$AG$600,9,FALSE),0)","v":0},{"$f":"Tableau10[[#This Row],[CLASSE]]","v":"Oumar"},1,{"$f":"MD1POINT!D26","v":1},"Oumarp_1",{"$f":"IFERROR(VLOOKUP(JD26,MATCHSELEVES!$Y$14:$AE$600,3,FALSE),0)","v":0},{"$f":"IFERROR(VLOOKUP(JD26,MATCHSELEVES!$Y$14:$AE$600,4,FALSE),0)","v":0},{"$f":"IFERROR(VLOOKUP(JD26,MATCHSELEVES!$Y$14:$AE$600,5,FALSE),0)","v":0},{"$f":"IFERROR(VLOOKUP(JD26,MATCHSELEVES!$Y$14:$AF$600,8,FALSE),0)","v":0},{"$f":"IFERROR(VLOOKUP(JD26,MATCHSELEVES!$Y$14:$AG$600,9,FALSE),0)","v":0},"Oumarp_2",{"$f":"IFERROR(VLOOKUP(JJ26,MATCHSELEVES!$Y$14:$AE$600,3,FALSE),0)","v":0},{"$f":"IFERROR(VLOOKUP(JJ26,MATCHSELEVES!$Y$14:$AE$600,4,FALSE),0)","v":0},{"$f":"IFERROR(VLOOKUP(JJ26,MATCHSELEVES!$Y$14:$AE$600,5,FALSE),0)","v":0},{"$f":"IFERROR(VLOOKUP(JJ26,MATCHSELEVES!$Y$14:$AF$600,8,FALSE),0)","v":0},{"$f":"IFERROR(VLOOKUP(JJ26,MATCHSELEVES!$Y$14:$AG$600,9,FALSE),0)","v":0},"Oumarp_3",{"$f":"IFERROR(VLOOKUP(JP26,MATCHSELEVES!$Y$14:$AE$600,3,FALSE),0)","v":0},{"$f":"IFERROR(VLOOKUP(JP26,MATCHSELEVES!$Y$14:$AE$600,4,FALSE),0)","v":0},{"$f":"IFERROR(VLOOKUP(JP26,MATCHSELEVES!$Y$14:$AE$600,5,FALSE),0)","v":0},{"$f":"IFERROR(VLOOKUP(JP26,MATCHSELEVES!$Y$14:$AF$600,8,FALSE),0)","v":0},{"$f":"IFERROR(VLOOKUP(JP26,MATCHSELEVES!$Y$14:$AG$600,9,FALSE),0)","v":0},"Oumarp_4",{"$f":"IFERROR(VLOOKUP(JV26,MATCHSELEVES!$Y$14:$AE$600,3,FALSE),0)","v":0},{"$f":"IFERROR(VLOOKUP(JV26,MATCHSELEVES!$Y$14:$AE$600,4,FALSE),0)","v":0},{"$f":"IFERROR(VLOOKUP(JV26,MATCHSELEVES!$Y$14:$AE$600,5,FALSE),0)","v":0},{"$f":"IFERROR(VLOOKUP(JV26,MATCHSELEVES!$Y$14:$AF$600,8,FALSE),0)","v":0},{"$f":"IFERROR(VLOOKUP(JV26,MATCHSELEVES!$Y$14:$AG$600,9,FALSE),0)","v":0},"Oumarp_5",{"$f":"IFERROR(VLOOKUP(KB26,MATCHSELEVES!$Y$14:$AE$600,3,FALSE),0)","v":0},{"$f":"IFERROR(VLOOKUP(KB26,MATCHSELEVES!$Y$14:$AE$600,4,FALSE),0)","v":0},{"$f":"IFERROR(VLOOKUP(KB26,MATCHSELEVES!$Y$14:$AE$600,5,FALSE),0)","v":0},{"$f":"IFERROR(VLOOKUP(KB26,MATCHSELEVES!$Y$14:$AF$600,8,FALSE),0)","v":0},{"$f":"IFERROR(VLOOKUP(KB26,MATCHSELEVES!$Y$14:$AG$600,9,FALSE),0)","v":0},"Oumarp_6",{"$f":"IFERROR(VLOOKUP(KH26,MATCHSELEVES!$Y$14:$AE$600,3,FALSE),0)","v":0},{"$f":"IFERROR(VLOOKUP(KH26,MATCHSELEVES!$Y$14:$AE$600,4,FALSE),0)","v":0},{"$f":"IFERROR(VLOOKUP(KH26,MATCHSELEVES!$Y$14:$AE$600,5,FALSE),0)","v":0},{"$f":"IFERROR(VLOOKUP(KH26,MATCHSELEVES!$Y$14:$AF$600,8,FALSE),0)","v":0},{"$f":"IFERROR(VLOOKUP(KH26,MATCHSELEVES!$Y$14:$AG$600,9,FALSE),0)","v":0},"Oumarp_7",{"$f":"IFERROR(VLOOKUP(KN26,MATCHSELEVES!$Y$14:$AE$600,3,FALSE),0)","v":0},{"$f":"IFERROR(VLOOKUP(KN26,MATCHSELEVES!$Y$14:$AE$600,4,FALSE),0)","v":0},{"$f":"IFERROR(VLOOKUP(KN26,MATCHSELEVES!$Y$14:$AE$600,5,FALSE),0)","v":0},{"$f":"IFERROR(VLOOKUP(KN26,MATCHSELEVES!$Y$14:$AF$600,8,FALSE),0)","v":0},{"$f":"IFERROR(VLOOKUP(KN26,MATCHSELEVES!$Y$14:$AG$600,9,FALSE),0)","v":0},"Oumarp_8",{"$f":"IFERROR(VLOOKUP(KT26,MATCHSELEVES!$Y$14:$AE$600,3,FALSE),0)","v":0},{"$f":"IFERROR(VLOOKUP(KT26,MATCHSELEVES!$Y$14:$AE$600,4,FALSE),0)","v":0},{"$f":"IFERROR(VLOOKUP(KT26,MATCHSELEVES!$Y$14:$AE$600,5,FALSE),0)","v":0},{"$f":"IFERROR(VLOOKUP(KT26,MATCHSELEVES!$Y$14:$AF$600,8,FALSE),0)","v":0},{"$f":"IFERROR(VLOOKUP(KT26,MATCHSELEVES!$Y$14:$AG$600,9,FALSE),0)","v":0},"Oumarp_9",{"$f":"IFERROR(VLOOKUP(KZ26,MATCHSELEVES!$Y$14:$AE$600,3,FALSE),0)","v":0},{"$f":"IFERROR(VLOOKUP(KZ26,MATCHSELEVES!$Y$14:$AE$600,4,FALSE),0)","v":0},{"$f":"IFERROR(VLOOKUP(KZ26,MATCHSELEVES!$Y$14:$AE$600,5,FALSE),0)","v":0},{"$f":"IFERROR(VLOOKUP(KZ26,MATCHSELEVES!$Y$14:$AF$600,8,FALSE),0)","v":0},{"$f":"IFERROR(VLOOKUP(KZ26,MATCHSELEVES!$Y$14:$AG$600,9,FALSE),0)","v":0},"Oumarp_10",{"$f":"IFERROR(VLOOKUP(LF26,MATCHSELEVES!$Y$14:$AE$600,3,FALSE),0)","v":0},{"$f":"IFERROR(VLOOKUP(LF26,MATCHSELEVES!$Y$14:$AE$600,4,FALSE),0)","v":0},{"$f":"IFERROR(VLOOKUP(LF26,MATCHSELEVES!$Y$14:$AE$600,5,FALSE),0)","v":0},{"$f":"IFERROR(VLOOKUP(LF26,MATCHSELEVES!$Y$14:$AF$600,8,FALSE),0)","v":0},{"$f":"IFERROR(VLOOKUP(LF26,MATCHSELEVES!$Y$14:$AG$600,9,FALSE),0)","v":0},"Oumarp_11",{"$f":"IFERROR(VLOOKUP(LL26,MATCHSELEVES!$Y$14:$AE$600,3,FALSE),0)","v":0},{"$f":"IFERROR(VLOOKUP(LL26,MATCHSELEVES!$Y$14:$AE$600,4,FALSE),0)","v":0},{"$f":"IFERROR(VLOOKUP(LL26,MATCHSELEVES!$Y$14:$AE$600,5,FALSE),0)","v":0},{"$f":"IFERROR(VLOOKUP(LL26,MATCHSELEVES!$Y$14:$AF$600,8,FALSE),0)","v":0},{"$f":"IFERROR(VLOOKUP(LL26,MATCHSELEVES!$Y$14:$AG$600,9,FALSE),0)","v":0},"Oumarp_12",{"$f":"IFERROR(VLOOKUP(LR26,MATCHSELEVES!$Y$14:$AE$600,3,FALSE),0)","v":0},{"$f":"IFERROR(VLOOKUP(LR26,MATCHSELEVES!$Y$14:$AE$600,4,FALSE),0)","v":0},{"$f":"IFERROR(VLOOKUP(LR26,MATCHSELEVES!$Y$14:$AE$600,5,FALSE),0)","v":0},{"$f":"IFERROR(VLOOKUP(LR26,MATCHSELEVES!$Y$14:$AF$600,8,FALSE),0)","v":0},{"$f":"IFERROR(VLOOKUP(LR26,MATCHSELEVES!$Y$14:$AG$600,9,FALSE),0)","v":0},"Oumarp_13",{"$f":"IFERROR(VLOOKUP(LX26,MATCHSELEVES!$Y$14:$AE$600,3,FALSE),0)","v":0},{"$f":"IFERROR(VLOOKUP(LX26,MATCHSELEVES!$Y$14:$AE$600,4,FALSE),0)","v":0},{"$f":"IFERROR(VLOOKUP(LX26,MATCHSELEVES!$Y$14:$AE$600,5,FALSE),0)","v":0},{"$f":"IFERROR(VLOOKUP(LX26,MATCHSELEVES!$Y$14:$AF$600,8,FALSE),0)","v":0},{"$f":"IFERROR(VLOOKUP(LX26,MATCHSELEVES!$Y$14:$AG$600,9,FALSE),0)","v":0},"Oumarp_14",{"$f":"IFERROR(VLOOKUP(MD26,MATCHSELEVES!$Y$14:$AE$600,3,FALSE),0)","v":0},{"$f":"IFERROR(VLOOKUP(MD26,MATCHSELEVES!$Y$14:$AE$600,4,FALSE),0)","v":0},{"$f":"IFERROR(VLOOKUP(MD26,MATCHSELEVES!$Y$14:$AE$600,5,FALSE),0)","v":0},{"$f":"IFERROR(VLOOKUP(MD26,MATCHSELEVES!$Y$14:$AF$600,8,FALSE),0)","v":0},{"$f":"IFERROR(VLOOKUP(MD26,MATCHSELEVES!$Y$14:$AG$600,9,FALSE),0)","v":0},"Oumarp_15",{"$f":"IFERROR(VLOOKUP(MJ26,MATCHSELEVES!$Y$14:$AE$600,3,FALSE),0)","v":0},{"$f":"IFERROR(VLOOKUP(MJ26,MATCHSELEVES!$Y$14:$AE$600,4,FALSE),0)","v":0},{"$f":"IFERROR(VLOOKUP(MJ26,MATCHSELEVES!$Y$14:$AE$600,5,FALSE),0)","v":0},{"$f":"IFERROR(VLOOKUP(MJ26,MATCHSELEVES!$Y$14:$AF$600,8,FALSE),0)","v":0},{"$f":"IFERROR(VLOOKUP(MJ26,MATCHSELEVES!$Y$14:$AG$600,9,FALSE),0)","v":0},"Oumarp_16",{"$f":"IFERROR(VLOOKUP(MP26,MATCHSELEVES!$Y$14:$AE$600,3,FALSE),0)","v":0},{"$f":"IFERROR(VLOOKUP(MP26,MATCHSELEVES!$Y$14:$AE$600,4,FALSE),0)","v":0},{"$f":"IFERROR(VLOOKUP(MP26,MATCHSELEVES!$Y$14:$AE$600,5,FALSE),0)","v":0},{"$f":"IFERROR(VLOOKUP(MP26,MATCHSELEVES!$Y$14:$AF$600,8,FALSE),0)","v":0},{"$f":"IFERROR(VLOOKUP(MP26,MATCHSELEVES!$Y$14:$AG$600,9,FALSE),0)","v":0},"Oumarp_17",{"$f":"IFERROR(VLOOKUP(MV26,MATCHSELEVES!$Y$14:$AE$600,3,FALSE),0)","v":0},{"$f":"IFERROR(VLOOKUP(MV26,MATCHSELEVES!$Y$14:$AE$600,4,FALSE),0)","v":0},{"$f":"IFERROR(VLOOKUP(MV26,MATCHSELEVES!$Y$14:$AE$600,5,FALSE),0)","v":0},{"$f":"IFERROR(VLOOKUP(MV26,MATCHSELEVES!$Y$14:$AF$600,8,FALSE),0)","v":0},{"$f":"IFERROR(VLOOKUP(MV26,MATCHSELEVES!$Y$14:$AG$600,9,FALSE),0)","v":0},"Oumarp_18",{"$f":"IFERROR(VLOOKUP(NB26,MATCHSELEVES!$Y$14:$AE$600,3,FALSE),0)","v":0},{"$f":"IFERROR(VLOOKUP(NB26,MATCHSELEVES!$Y$14:$AE$600,4,FALSE),0)","v":0},{"$f":"IFERROR(VLOOKUP(NB26,MATCHSELEVES!$Y$14:$AE$600,5,FALSE),0)","v":0},{"$f":"IFERROR(VLOOKUP(NB26,MATCHSELEVES!$Y$14:$AF$600,8,FALSE),0)","v":0},{"$f":"IFERROR(VLOOKUP(NB26,MATCHSELEVES!$Y$14:$AG$600,9,FALSE),0)","v":0},"Oumarp_19",{"$f":"IFERROR(VLOOKUP(NH26,MATCHSELEVES!$Y$14:$AE$600,3,FALSE),0)","v":0},{"$f":"IFERROR(VLOOKUP(NH26,MATCHSELEVES!$Y$14:$AE$600,4,FALSE),0)","v":0},{"$f":"IFERROR(VLOOKUP(NH26,MATCHSELEVES!$Y$14:$AE$600,5,FALSE),0)","v":0},{"$f":"IFERROR(VLOOKUP(NH26,MATCHSELEVES!$Y$14:$AF$600,8,FALSE),0)","v":0},{"$f":"IFERROR(VLOOKUP(NH26,MATCHSELEVES!$Y$14:$AG$600,9,FALSE),0)","v":0},"Oumarp_20",{"$f":"IFERROR(VLOOKUP(NN26,MATCHSELEVES!$Y$14:$AE$600,3,FALSE),0)","v":0},{"$f":"IFERROR(VLOOKUP(NN26,MATCHSELEVES!$Y$14:$AE$600,4,FALSE),0)","v":0},{"$f":"IFERROR(VLOOKUP(NN26,MATCHSELEVES!$Y$14:$AE$600,5,FALSE),0)","v":0},{"$f":"IFERROR(VLOOKUP(NN26,MATCHSELEVES!$Y$14:$AF$600,8,FALSE),0)","v":0},{"$f":"IFERROR(VLOOKUP(NN26,MATCHSELEVES!$Y$14:$AG$600,9,FALSE),0)","v":0},"Oumarp_21",{"$f":"IFERROR(VLOOKUP(NT26,MATCHSELEVES!$Y$14:$AE$600,3,FALSE),0)","v":0},{"$f":"IFERROR(VLOOKUP(NT26,MATCHSELEVES!$Y$14:$AE$600,4,FALSE),0)","v":0},{"$f":"IFERROR(VLOOKUP(NT26,MATCHSELEVES!$Y$14:$AE$600,5,FALSE),0)","v":0},{"$f":"IFERROR(VLOOKUP(NT26,MATCHSELEVES!$Y$14:$AF$600,8,FALSE),0)","v":0},{"$f":"IFERROR(VLOOKUP(NT26,MATCHSELEVES!$Y$14:$AG$600,9,FALSE),0)","v":0},"Oumarp_22",{"$f":"IFERROR(VLOOKUP(NZ26,MATCHSELEVES!$Y$14:$AE$600,3,FALSE),0)","v":0},{"$f":"IFERROR(VLOOKUP(NZ26,MATCHSELEVES!$Y$14:$AE$600,4,FALSE),0)","v":0},{"$f":"IFERROR(VLOOKUP(NZ26,MATCHSELEVES!$Y$14:$AE$600,5,FALSE),0)","v":0},{"$f":"IFERROR(VLOOKUP(NZ26,MATCHSELEVES!$Y$14:$AF$600,8,FALSE),0)","v":0},{"$f":"IFERROR(VLOOKUP(NZ26,MATCHSELEVES!$Y$14:$AG$600,9,FALSE),0)","v":0},"Oumarp_23",{"$f":"IFERROR(VLOOKUP(OF26,MATCHSELEVES!$Y$14:$AE$600,3,FALSE),0)","v":0},{"$f":"IFERROR(VLOOKUP(OF26,MATCHSELEVES!$Y$14:$AE$600,4,FALSE),0)","v":0},{"$f":"IFERROR(VLOOKUP(OF26,MATCHSELEVES!$Y$14:$AE$600,5,FALSE),0)","v":0},{"$f":"IFERROR(VLOOKUP(OF26,MATCHSELEVES!$Y$14:$AF$600,8,FALSE),0)","v":0},{"$f":"IFERROR(VLOOKUP(OF26,MATCHSELEVES!$Y$14:$AG$600,9,FALSE),0)","v":0},"Oumarp_24",{"$f":"IFERROR(VLOOKUP(OL26,MATCHSELEVES!$Y$14:$AE$600,3,FALSE),0)","v":0},{"$f":"IFERROR(VLOOKUP(OL26,MATCHSELEVES!$Y$14:$AE$600,4,FALSE),0)","v":0},{"$f":"IFERROR(VLOOKUP(OL26,MATCHSELEVES!$Y$14:$AE$600,5,FALSE),0)","v":0},{"$f":"IFERROR(VLOOKUP(OL26,MATCHSELEVES!$Y$14:$AF$600,8,FALSE),0)","v":0},{"$f":"IFERROR(VLOOKUP(OL26,MATCHSELEVES!$Y$14:$AG$600,9,FALSE),0)","v":0},"Oumarp_25",{"$f":"IFERROR(VLOOKUP(OR26,MATCHSELEVES!$Y$14:$AE$600,3,FALSE),0)","v":0},{"$f":"IFERROR(VLOOKUP(OR26,MATCHSELEVES!$Y$14:$AE$600,4,FALSE),0)","v":0},{"$f":"IFERROR(VLOOKUP(OR26,MATCHSELEVES!$Y$14:$AE$600,5,FALSE),0)","v":0},{"$f":"IFERROR(VLOOKUP(OR26,MATCHSELEVES!$Y$14:$AF$600,8,FALSE),0)","v":0},{"$f":"IFERROR(VLOOKUP(OR26,MATCHSELEVES!$Y$14:$AG$600,9,FALSE),0)","v":0},"Oumarp_26",{"$f":"IFERROR(VLOOKUP(OX26,MATCHSELEVES!$Y$14:$AE$600,3,FALSE),0)","v":0},{"$f":"IFERROR(VLOOKUP(OX26,MATCHSELEVES!$Y$14:$AE$600,4,FALSE),0)","v":0},{"$f":"IFERROR(VLOOKUP(OX26,MATCHSELEVES!$Y$14:$AE$600,5,FALSE),0)","v":0},{"$f":"IFERROR(VLOOKUP(OX26,MATCHSELEVES!$Y$14:$AF$600,8,FALSE),0)","v":0},{"$f":"IFERROR(VLOOKUP(OX26,MATCHSELEVES!$Y$14:$AG$600,9,FALSE),0)","v":0},"Oumarp_27",{"$f":"IFERROR(VLOOKUP(PD26,MATCHSELEVES!$Y$14:$AE$600,3,FALSE),0)","v":0},{"$f":"IFERROR(VLOOKUP(PD26,MATCHSELEVES!$Y$14:$AE$600,4,FALSE),0)","v":0},{"$f":"IFERROR(VLOOKUP(PD26,MATCHSELEVES!$Y$14:$AE$600,5,FALSE),0)","v":0},{"$f":"IFERROR(VLOOKUP(PD26,MATCHSELEVES!$Y$14:$AF$600,8,FALSE),0)","v":0},{"$f":"IFERROR(VLOOKUP(PD26,MATCHSELEVES!$Y$14:$AG$600,9,FALSE),0)","v":0},"Oumarp_28",{"$f":"IFERROR(VLOOKUP(PJ26,MATCHSELEVES!$Y$14:$AE$600,3,FALSE),0)","v":0},{"$f":"IFERROR(VLOOKUP(PJ26,MATCHSELEVES!$Y$14:$AE$600,4,FALSE),0)","v":0},{"$f":"IFERROR(VLOOKUP(PJ26,MATCHSELEVES!$Y$14:$AE$600,5,FALSE),0)","v":0},{"$f":"IFERROR(VLOOKUP(PJ26,MATCHSELEVES!$Y$14:$AF$600,8,FALSE),0)","v":0},{"$f":"IFERROR(VLOOKUP(PJ26,MATCHSELEVES!$Y$14:$AG$600,9,FALSE),0)","v":0},"Oumarp_29",{"$f":"IFERROR(VLOOKUP(PP26,MATCHSELEVES!$Y$14:$AE$600,3,FALSE),0)","v":0},{"$f":"IFERROR(VLOOKUP(PP26,MATCHSELEVES!$Y$14:$AE$600,4,FALSE),0)","v":0},{"$f":"IFERROR(VLOOKUP(PP26,MATCHSELEVES!$Y$14:$AE$600,5,FALSE),0)","v":0},{"$f":"IFERROR(VLOOKUP(PP26,MATCHSELEVES!$Y$14:$AF$600,8,FALSE),0)","v":0},{"$f":"IFERROR(VLOOKUP(PP26,MATCHSELEVES!$Y$14:$AG$600,9,FALSE),0)","v":0},"Oumarp_30",{"$f":"IFERROR(VLOOKUP(PV26,MATCHSELEVES!$Y$14:$AE$600,3,FALSE),0)","v":0},{"$f":"IFERROR(VLOOKUP(PV26,MATCHSELEVES!$Y$14:$AE$600,4,FALSE),0)","v":0},{"$f":"IFERROR(VLOOKUP(PV26,MATCHSELEVES!$Y$14:$AE$600,5,FALSE),0)","v":0},{"$f":"IFERROR(VLOOKUP(PV26,MATCHSELEVES!$Y$14:$AF$600,8,FALSE),0)","v":0},{"$f":"IFERROR(VLOOKUP(PV26,MATCHSELEVES!$Y$14:$AG$600,9,FALSE),0)","v":0},"Oumarp_31",{"$f":"IFERROR(VLOOKUP(QB26,MATCHSELEVES!$Y$14:$AE$600,3,FALSE),0)","v":0},{"$f":"IFERROR(VLOOKUP(QB26,MATCHSELEVES!$Y$14:$AE$600,4,FALSE),0)","v":0},{"$f":"IFERROR(VLOOKUP(QB26,MATCHSELEVES!$Y$14:$AE$600,5,FALSE),0)","v":0},{"$f":"IFERROR(VLOOKUP(QB26,MATCHSELEVES!$Y$14:$AF$600,8,FALSE),0)","v":0},{"$f":"IFERROR(VLOOKUP(QB26,MATCHSELEVES!$Y$14:$AG$600,9,FALSE),0)","v":0},"Oumarp_32",{"$f":"IFERROR(VLOOKUP(QH26,MATCHSELEVES!$Y$14:$AE$600,3,FALSE),0)","v":0},{"$f":"IFERROR(VLOOKUP(QH26,MATCHSELEVES!$Y$14:$AE$600,4,FALSE),0)","v":0},{"$f":"IFERROR(VLOOKUP(QH26,MATCHSELEVES!$Y$14:$AE$600,5,FALSE),0)","v":0},{"$f":"IFERROR(VLOOKUP(QH26,MATCHSELEVES!$Y$14:$AF$600,8,FALSE),0)","v":0},{"$f":"IFERROR(VLOOKUP(QH26,MATCHSELEVES!$Y$14:$AG$600,9,FALSE),0)","v":0},"Oumarp_33",{"$f":"IFERROR(VLOOKUP(QN26,MATCHSELEVES!$Y$14:$AE$600,3,FALSE),0)","v":0},{"$f":"IFERROR(VLOOKUP(QN26,MATCHSELEVES!$Y$14:$AE$600,4,FALSE),0)","v":0},{"$f":"IFERROR(VLOOKUP(QN26,MATCHSELEVES!$Y$14:$AE$600,5,FALSE),0)","v":0},{"$f":"IFERROR(VLOOKUP(QN26,MATCHSELEVES!$Y$14:$AF$600,8,FALSE),0)","v":0},{"$f":"IFERROR(VLOOKUP(QN26,MATCHSELEVES!$Y$14:$AG$600,9,FALSE),0)","v":0},"Oumarp_34",{"$f":"IFERROR(VLOOKUP(QT26,MATCHSELEVES!$Y$14:$AE$600,3,FALSE),0)","v":0},{"$f":"IFERROR(VLOOKUP(QT26,MATCHSELEVES!$Y$14:$AE$600,4,FALSE),0)","v":0},{"$f":"IFERROR(VLOOKUP(QT26,MATCHSELEVES!$Y$14:$AE$600,5,FALSE),0)","v":0},{"$f":"IFERROR(VLOOKUP(QT26,MATCHSELEVES!$Y$14:$AF$600,8,FALSE),0)","v":0},{"$f":"IFERROR(VLOOKUP(QT26,MATCHSELEVES!$Y$14:$AG$600,9,FALSE),0)","v":0},"Oumarp_35",{"$f":"IFERROR(VLOOKUP(QZ26,MATCHSELEVES!$Y$14:$AE$600,3,FALSE),0)","v":0},{"$f":"IFERROR(VLOOKUP(QZ26,MATCHSELEVES!$Y$14:$AE$600,4,FALSE),0)","v":0},{"$f":"IFERROR(VLOOKUP(QZ26,MATCHSELEVES!$Y$14:$AE$600,5,FALSE),0)","v":0},{"$f":"IFERROR(VLOOKUP(QZ26,MATCHSELEVES!$Y$14:$AF$600,8,FALSE),0)","v":0},{"$f":"IFERROR(VLOOKUP(QZ26,MATCHSELEVES!$Y$14:$AG$600,9,FALSE),0)","v":0},"Oumarp_36",{"$f":"IFERROR(VLOOKUP(RF26,MATCHSELEVES!$Y$14:$AE$600,3,FALSE),0)","v":0},{"$f":"IFERROR(VLOOKUP(RF26,MATCHSELEVES!$Y$14:$AE$600,4,FALSE),0)","v":0},{"$f":"IFERROR(VLOOKUP(RF26,MATCHSELEVES!$Y$14:$AE$600,5,FALSE),0)","v":0},{"$f":"IFERROR(VLOOKUP(RF26,MATCHSELEVES!$Y$14:$AF$600,8,FALSE),0)","v":0},{"$f":"IFERROR(VLOOKUP(RF26,MATCHSELEVES!$Y$14:$AG$600,9,FALSE),0)","v":0},"Oumarp_37",{"$f":"IFERROR(VLOOKUP(RL26,MATCHSELEVES!$Y$14:$AE$600,3,FALSE),0)","v":0},{"$f":"IFERROR(VLOOKUP(RL26,MATCHSELEVES!$Y$14:$AE$600,4,FALSE),0)","v":0},{"$f":"IFERROR(VLOOKUP(RL26,MATCHSELEVES!$Y$14:$AE$600,5,FALSE),0)","v":0},{"$f":"IFERROR(VLOOKUP(RL26,MATCHSELEVES!$Y$14:$AF$600,8,FALSE),0)","v":0},{"$f":"IFERROR(VLOOKUP(RL26,MATCHSELEVES!$Y$14:$AG$600,9,FALSE),0)","v":0},"Oumarp_38",{"$f":"IFERROR(VLOOKUP(RR26,MATCHSELEVES!$Y$14:$AE$600,3,FALSE),0)","v":0},{"$f":"IFERROR(VLOOKUP(RR26,MATCHSELEVES!$Y$14:$AE$600,4,FALSE),0)","v":0},{"$f":"IFERROR(VLOOKUP(RR26,MATCHSELEVES!$Y$14:$AE$600,5,FALSE),0)","v":0},{"$f":"IFERROR(VLOOKUP(RR26,MATCHSELEVES!$Y$14:$AF$600,8,FALSE),0)","v":0},{"$f":"IFERROR(VLOOKUP(RR26,MATCHSELEVES!$Y$14:$AG$600,9,FALSE),0)","v":0},"Oumarp_39",{"$f":"IFERROR(VLOOKUP(RX26,MATCHSELEVES!$Y$14:$AE$600,3,FALSE),0)","v":0},{"$f":"IFERROR(VLOOKUP(RX26,MATCHSELEVES!$Y$14:$AE$600,4,FALSE),0)","v":0},{"$f":"IFERROR(VLOOKUP(RX26,MATCHSELEVES!$Y$14:$AE$600,5,FALSE),0)","v":0},{"$f":"IFERROR(VLOOKUP(RX26,MATCHSELEVES!$Y$14:$AF$600,8,FALSE),0)","v":0},{"$f":"IFERROR(VLOOKUP(RX26,MATCHSELEVES!$Y$14:$AG$600,9,FALSE),0)","v":0},"Oumarp_40",{"$f":"IFERROR(VLOOKUP(SD26,MATCHSELEVES!$Y$14:$AE$600,3,FALSE),0)","v":0},{"$f":"IFERROR(VLOOKUP(SD26,MATCHSELEVES!$Y$14:$AE$600,4,FALSE),0)","v":0},{"$f":"IFERROR(VLOOKUP(SD26,MATCHSELEVES!$Y$14:$AE$600,5,FALSE),0)","v":0},{"$f":"IFERROR(VLOOKUP(SD26,MATCHSELEVES!$Y$14:$AF$600,8,FALSE),0)","v":0},{"$f":"IFERROR(VLOOKUP(SD26,MATCHSELEVES!$Y$14:$AG$600,9,FALSE),0)","v":0}]
[24,null,{"$f":"MD1POINT!C27","v":"Quintimo"},{"$f":"MD1POINT!D27","v":1},{"$f":"COUNTIF(MATCHSELEVES!$Z$14:$Z$600,C27)+COUNTIF(MATCHSELEVES!$Z$14:$Z$600,$C27&\"p\")","v":0},1,{"$f":"COUNTIF(MATCHSELEVES!$F$14:$H$249,C27)","v":0},1,0,1,0,1,0,1,{"$f":"Y27+AE27+AK27+AQ27+AW27+BC27+BI27+BO27+BU27+CA27+CG27+CM27+CS27+CY27+DE27+DK27+DQ27+DW27+EC27+EI27+EO27+EU27+FA27+FG27+FM27+FS27+FY27+GE27+GK27+GQ27+GW27+4+HI27+HO27+HU27+IA27+HC27+IG27+IM27+IY27+IS27+JH27+JN27+JZ27+JT27+KF27+KR27+KX27+LJ27+LP27+LV27+LD27+MB27+MH27+MN27+MZ27+MT27+NF27+NL27+NR27+NX27+OD27+OJ27+OP27+OV27+PB27+PH27+PT27+PN27+PZ27+QF27+QL27+QR27+RD27+QX27+RJ27+RP27+RV27+SB27+SH27+KL27+Tableau10[[#This Row],[Nombre de matchs joués]]*2","v":4},1,{"$f":"(Tableau10[[#This Row],[CLASSEMENT1]]+Tableau10[[#This Row],[CLASSEMENT2]]+Tableau10[[#This Row],[CLASSEMENT3]]+Tableau10[[#This Row],[CLASSEMENT4]]+Tableau10[[#This Row],[CLASSEMENT5]]+Tableau10[[#This Row],[CLASSEMENT6]])/6","v":1},{"$f":"RANK(Tableau10[[#This Row],[MOYENNE CLASSEMENTS]],Tableau10[MOYENNE CLASSEMENTS],1)","v":1},null,{"$f":"Tableau10[[#This Row],[CLASSEMENT1]]","v":1},"Quintimo_1",{"$f":"IFERROR(VLOOKUP(U27,MATCHSELEVES!$Y$14:$AE$600,3,FALSE),0)","v":0},{"$f":"IFERROR(VLOOKUP(U27,MATCHSELEVES!$Y$14:$AE$600,4,FALSE),0)","v":0},{"$f":"IFERROR(VLOOKUP(U27,MATCHSELEVES!$Y$14:$AE$600,5,FALSE),0)","v":0},{"$f":"IFERROR(VLOOKUP(U27,MATCHSELEVES!$Y$14:$AF$600,8,FALSE),0)","v":0},{"$f":"IFERROR(VLOOKUP(U27,MATCHSELEVES!$Y$14:$AG$600,9,FALSE),0)","v":0},"Quintimo_2",{"$f":"IFERROR(VLOOKUP(AA27,MATCHSELEVES!$Y$14:$AE$600,3,FALSE),0)","v":0},{"$f":"IFERROR(VLOOKUP(AA27,MATCHSELEVES!$Y$14:$AE$600,4,FALSE),0)","v":0},{"$f":"IFERROR(VLOOKUP(AA27,MATCHSELEVES!$Y$14:$AE$600,5,FALSE),0)","v":0},{"$f":"IFERROR(VLOOKUP(AA27,MATCHSELEVES!$Y$14:$AF$600,8,FALSE),0)","v":0},{"$f":"IFERROR(VLOOKUP(AA27,MATCHSELEVES!$Y$14:$AG$600,9,FALSE),0)","v":0},"Quintimo_3",{"$f":"IFERROR(VLOOKUP(AG27,MATCHSELEVES!$Y$14:$AE$600,3,FALSE),0)","v":0},{"$f":"IFERROR(VLOOKUP(AG27,MATCHSELEVES!$Y$14:$AE$600,4,FALSE),0)","v":0},{"$f":"IFERROR(VLOOKUP(AG27,MATCHSELEVES!$Y$14:$AE$600,5,FALSE),0)","v":0},{"$f":"IFERROR(VLOOKUP(AG27,MATCHSELEVES!$Y$14:$AF$600,8,FALSE),0)","v":0},{"$f":"IFERROR(VLOOKUP(AG27,MATCHSELEVES!$Y$14:$AG$600,9,FALSE),0)","v":0},"Quintimo_4",{"$f":"IFERROR(VLOOKUP(AM27,MATCHSELEVES!$Y$14:$AE$600,3,FALSE),0)","v":0},{"$f":"IFERROR(VLOOKUP(AM27,MATCHSELEVES!$Y$14:$AE$600,4,FALSE),0)","v":0},{"$f":"IFERROR(VLOOKUP(AM27,MATCHSELEVES!$Y$14:$AE$600,5,FALSE),0)","v":0},{"$f":"IFERROR(VLOOKUP(AM27,MATCHSELEVES!$Y$14:$AF$600,8,FALSE),0)","v":0},{"$f":"IFERROR(VLOOKUP(AM27,MATCHSELEVES!$Y$14:$AG$600,9,FALSE),0)","v":0},"Quintimo_5",{"$f":"IFERROR(VLOOKUP(AS27,MATCHSELEVES!$Y$14:$AE$600,3,FALSE),0)","v":0},{"$f":"IFERROR(VLOOKUP(AS27,MATCHSELEVES!$Y$14:$AE$600,4,FALSE),0)","v":0},{"$f":"IFERROR(VLOOKUP(AS27,MATCHSELEVES!$Y$14:$AE$600,5,FALSE),0)","v":0},{"$f":"IFERROR(VLOOKUP(AS27,MATCHSELEVES!$Y$14:$AF$600,8,FALSE),0)","v":0},{"$f":"IFERROR(VLOOKUP(AS27,MATCHSELEVES!$Y$14:$AG$600,9,FALSE),0)","v":0},"Quintimo_6",{"$f":"IFERROR(VLOOKUP(AY27,MATCHSELEVES!$Y$14:$AE$600,3,FALSE),0)","v":0},{"$f":"IFERROR(VLOOKUP(AY27,MATCHSELEVES!$Y$14:$AE$600,4,FALSE),0)","v":0},{"$f":"IFERROR(VLOOKUP(AY27,MATCHSELEVES!$Y$14:$AE$600,5,FALSE),0)","v":0},{"$f":"IFERROR(VLOOKUP(AY27,MATCHSELEVES!$Y$14:$AF$600,8,FALSE),0)","v":0},{"$f":"IFERROR(VLOOKUP(AY27,MATCHSELEVES!$Y$14:$AG$600,9,FALSE),0)","v":0},"Quintimo_7",{"$f":"IFERROR(VLOOKUP(BE27,MATCHSELEVES!$Y$14:$AE$600,3,FALSE),0)","v":0},{"$f":"IFERROR(VLOOKUP(BE27,MATCHSELEVES!$Y$14:$AE$600,4,FALSE),0)","v":0},{"$f":"IFERROR(VLOOKUP(BE27,MATCHSELEVES!$Y$14:$AE$600,5,FALSE),0)","v":0},{"$f":"IFERROR(VLOOKUP(BE27,MATCHSELEVES!$Y$14:$AF$600,8,FALSE),0)","v":0},{"$f":"IFERROR(VLOOKUP(BE27,MATCHSELEVES!$Y$14:$AG$600,9,FALSE),0)","v":0},"Quintimo_8",{"$f":"IFERROR(VLOOKUP(BK27,MATCHSELEVES!$Y$14:$AE$600,3,FALSE),0)","v":0},{"$f":"IFERROR(VLOOKUP(BK27,MATCHSELEVES!$Y$14:$AE$600,4,FALSE),0)","v":0},{"$f":"IFERROR(VLOOKUP(BK27,MATCHSELEVES!$Y$14:$AE$600,5,FALSE),0)","v":0},{"$f":"IFERROR(VLOOKUP(BK27,MATCHSELEVES!$Y$14:$AF$600,8,FALSE),0)","v":0},{"$f":"IFERROR(VLOOKUP(BK27,MATCHSELEVES!$Y$14:$AG$600,9,FALSE),0)","v":0},"Quintimo_9",{"$f":"IFERROR(VLOOKUP(BQ27,MATCHSELEVES!$Y$14:$AE$600,3,FALSE),0)","v":0},{"$f":"IFERROR(VLOOKUP(BQ27,MATCHSELEVES!$Y$14:$AE$600,4,FALSE),0)","v":0},{"$f":"IFERROR(VLOOKUP(BQ27,MATCHSELEVES!$Y$14:$AE$600,5,FALSE),0)","v":0},{"$f":"IFERROR(VLOOKUP(BQ27,MATCHSELEVES!$Y$14:$AF$600,8,FALSE),0)","v":0},{"$f":"IFERROR(VLOOKUP(BQ27,MATCHSELEVES!$Y$14:$AG$600,9,FALSE),0)","v":0},"Quintimo_10",{"$f":"IFERROR(VLOOKUP(BW27,MATCHSELEVES!$Y$14:$AE$600,3,FALSE),0)","v":0},{"$f":"IFERROR(VLOOKUP(BW27,MATCHSELEVES!$Y$14:$AE$600,4,FALSE),0)","v":0},{"$f":"IFERROR(VLOOKUP(BW27,MATCHSELEVES!$Y$14:$AE$600,5,FALSE),0)","v":0},{"$f":"IFERROR(VLOOKUP(BW27,MATCHSELEVES!$Y$14:$AF$600,8,FALSE),0)","v":0},{"$f":"IFERROR(VLOOKUP(BW27,MATCHSELEVES!$Y$14:$AG$600,9,FALSE),0)","v":0},"Quintimo_11",{"$f":"IFERROR(VLOOKUP(CC27,MATCHSELEVES!$Y$14:$AE$600,3,FALSE),0)","v":0},{"$f":"IFERROR(VLOOKUP(CC27,MATCHSELEVES!$Y$14:$AE$600,4,FALSE),0)","v":0},{"$f":"IFERROR(VLOOKUP(CC27,MATCHSELEVES!$Y$14:$AE$600,5,FALSE),0)","v":0},{"$f":"IFERROR(VLOOKUP(CC27,MATCHSELEVES!$Y$14:$AF$600,8,FALSE),0)","v":0},{"$f":"IFERROR(VLOOKUP(CC27,MATCHSELEVES!$Y$14:$AG$600,9,FALSE),0)","v":0},"Quintimo_12",{"$f":"IFERROR(VLOOKUP(CI27,MATCHSELEVES!$Y$14:$AE$600,3,FALSE),0)","v":0},{"$f":"IFERROR(VLOOKUP(CI27,MATCHSELEVES!$Y$14:$AE$600,4,FALSE),0)","v":0},{"$f":"IFERROR(VLOOKUP(CI27,MATCHSELEVES!$Y$14:$AE$600,5,FALSE),0)","v":0},{"$f":"IFERROR(VLOOKUP(CI27,MATCHSELEVES!$Y$14:$AF$600,8,FALSE),0)","v":0},{"$f":"IFERROR(VLOOKUP(CI27,MATCHSELEVES!$Y$14:$AG$600,9,FALSE),0)","v":0},"Quintimo_13",{"$f":"IFERROR(VLOOKUP(CO27,MATCHSELEVES!$Y$14:$AE$600,3,FALSE),0)","v":0},{"$f":"IFERROR(VLOOKUP(CO27,MATCHSELEVES!$Y$14:$AE$600,4,FALSE),0)","v":0},{"$f":"IFERROR(VLOOKUP(CO27,MATCHSELEVES!$Y$14:$AE$600,5,FALSE),0)","v":0},{"$f":"IFERROR(VLOOKUP(CO27,MATCHSELEVES!$Y$14:$AF$600,8,FALSE),0)","v":0},{"$f":"IFERROR(VLOOKUP(CO27,MATCHSELEVES!$Y$14:$AG$600,9,FALSE),0)","v":0},"Quintimo_14",{"$f":"IFERROR(VLOOKUP(CU27,MATCHSELEVES!$Y$14:$AE$600,3,FALSE),0)","v":0},{"$f":"IFERROR(VLOOKUP(CU27,MATCHSELEVES!$Y$14:$AE$600,4,FALSE),0)","v":0},{"$f":"IFERROR(VLOOKUP(CU27,MATCHSELEVES!$Y$14:$AE$600,5,FALSE),0)","v":0},{"$f":"IFERROR(VLOOKUP(CU27,MATCHSELEVES!$Y$14:$AF$600,8,FALSE),0)","v":0},{"$f":"IFERROR(VLOOKUP(CU27,MATCHSELEVES!$Y$14:$AG$600,9,FALSE),0)","v":0},"Quintimo_15",{"$f":"IFERROR(VLOOKUP(DA27,MATCHSELEVES!$Y$14:$AE$600,3,FALSE),0)","v":0},{"$f":"IFERROR(VLOOKUP(DA27,MATCHSELEVES!$Y$14:$AE$600,4,FALSE),0)","v":0},{"$f":"IFERROR(VLOOKUP(DA27,MATCHSELEVES!$Y$14:$AE$600,5,FALSE),0)","v":0},{"$f":"IFERROR(VLOOKUP(DA27,MATCHSELEVES!$Y$14:$AF$600,8,FALSE),0)","v":0},{"$f":"IFERROR(VLOOKUP(DA27,MATCHSELEVES!$Y$14:$AG$600,9,FALSE),0)","v":0},"Quintimo_16",{"$f":"IFERROR(VLOOKUP(DG27,MATCHSELEVES!$Y$14:$AE$600,3,FALSE),0)","v":0},{"$f":"IFERROR(VLOOKUP(DG27,MATCHSELEVES!$Y$14:$AE$600,4,FALSE),0)","v":0},{"$f":"IFERROR(VLOOKUP(DG27,MATCHSELEVES!$Y$14:$AE$600,5,FALSE),0)","v":0},{"$f":"IFERROR(VLOOKUP(DG27,MATCHSELEVES!$Y$14:$AF$600,8,FALSE),0)","v":0},{"$f":"IFERROR(VLOOKUP(DG27,MATCHSELEVES!$Y$14:$AG$600,9,FALSE),0)","v":0},"Quintimo_17",{"$f":"IFERROR(VLOOKUP(DM27,MATCHSELEVES!$Y$14:$AE$600,3,FALSE),0)","v":0},{"$f":"IFERROR(VLOOKUP(DM27,MATCHSELEVES!$Y$14:$AE$600,4,FALSE),0)","v":0},{"$f":"IFERROR(VLOOKUP(DM27,MATCHSELEVES!$Y$14:$AE$600,5,FALSE),0)","v":0},{"$f":"IFERROR(VLOOKUP(DM27,MATCHSELEVES!$Y$14:$AF$600,8,FALSE),0)","v":0},{"$f":"IFERROR(VLOOKUP(DM27,MATCHSELEVES!$Y$14:$AG$600,9,FALSE),0)","v":0},"Quintimo_18",{"$f":"IFERROR(VLOOKUP(DS27,MATCHSELEVES!$Y$14:$AE$600,3,FALSE),0)","v":0},{"$f":"IFERROR(VLOOKUP(DS27,MATCHSELEVES!$Y$14:$AE$600,4,FALSE),0)","v":0},{"$f":"IFERROR(VLOOKUP(DS27,MATCHSELEVES!$Y$14:$AE$600,5,FALSE),0)","v":0},{"$f":"IFERROR(VLOOKUP(DS27,MATCHSELEVES!$Y$14:$AF$600,8,FALSE),0)","v":0},{"$f":"IFERROR(VLOOKUP(DS27,MATCHSELEVES!$Y$14:$AG$600,9,FALSE),0)","v":0},"Quintimo_19",{"$f":"IFERROR(VLOOKUP(DY27,MATCHSELEVES!$Y$14:$AE$600,3,FALSE),0)","v":0},{"$f":"IFERROR(VLOOKUP(DY27,MATCHSELEVES!$Y$14:$AE$600,4,FALSE),0)","v":0},{"$f":"IFERROR(VLOOKUP(DY27,MATCHSELEVES!$Y$14:$AE$600,5,FALSE),0)","v":0},{"$f":"IFERROR(VLOOKUP(DY27,MATCHSELEVES!$Y$14:$AF$600,8,FALSE),0)","v":0},{"$f":"IFERROR(VLOOKUP(DY27,MATCHSELEVES!$Y$14:$AG$600,9,FALSE),0)","v":0},"Quintimo_20",{"$f":"IFERROR(VLOOKUP(EE27,MATCHSELEVES!$Y$14:$AE$600,3,FALSE),0)","v":0},{"$f":"IFERROR(VLOOKUP(EE27,MATCHSELEVES!$Y$14:$AE$600,4,FALSE),0)","v":0},{"$f":"IFERROR(VLOOKUP(EE27,MATCHSELEVES!$Y$14:$AE$600,5,FALSE),0)","v":0},{"$f":"IFERROR(VLOOKUP(EE27,MATCHSELEVES!$Y$14:$AF$600,8,FALSE),0)","v":0},{"$f":"IFERROR(VLOOKUP(EE27,MATCHSELEVES!$Y$14:$AG$600,9,FALSE),0)","v":0},"Quintimo_21",{"$f":"IFERROR(VLOOKUP(EK27,MATCHSELEVES!$Y$14:$AE$600,3,FALSE),0)","v":0},{"$f":"IFERROR(VLOOKUP(EK27,MATCHSELEVES!$Y$14:$AE$600,4,FALSE),0)","v":0},{"$f":"IFERROR(VLOOKUP(EK27,MATCHSELEVES!$Y$14:$AE$600,5,FALSE),0)","v":0},{"$f":"IFERROR(VLOOKUP(EK27,MATCHSELEVES!$Y$14:$AF$600,8,FALSE),0)","v":0},{"$f":"IFERROR(VLOOKUP(EK27,MATCHSELEVES!$Y$14:$AG$600,9,FALSE),0)","v":0},"Quintimo_22",{"$f":"IFERROR(VLOOKUP(EQ27,MATCHSELEVES!$Y$14:$AE$600,3,FALSE),0)","v":0},{"$f":"IFERROR(VLOOKUP(EQ27,MATCHSELEVES!$Y$14:$AE$600,4,FALSE),0)","v":0},{"$f":"IFERROR(VLOOKUP(EQ27,MATCHSELEVES!$Y$14:$AE$600,5,FALSE),0)","v":0},{"$f":"IFERROR(VLOOKUP(EQ27,MATCHSELEVES!$Y$14:$AF$600,8,FALSE),0)","v":0},{"$f":"IFERROR(VLOOKUP(EQ27,MATCHSELEVES!$Y$14:$AG$600,9,FALSE),0)","v":0},"Quintimo_23",{"$f":"IFERROR(VLOOKUP(EW27,MATCHSELEVES!$Y$14:$AE$600,3,FALSE),0)","v":0},{"$f":"IFERROR(VLOOKUP(EW27,MATCHSELEVES!$Y$14:$AE$600,4,FALSE),0)","v":0},{"$f":"IFERROR(VLOOKUP(EW27,MATCHSELEVES!$Y$14:$AE$600,5,FALSE),0)","v":0},{"$f":"IFERROR(VLOOKUP(EW27,MATCHSELEVES!$Y$14:$AF$600,8,FALSE),0)","v":0},{"$f":"IFERROR(VLOOKUP(EW27,MATCHSELEVES!$Y$14:$AG$600,9,FALSE),0)","v":0},"Quintimo_24",{"$f":"IFERROR(VLOOKUP(FC27,MATCHSELEVES!$Y$14:$AE$600,3,FALSE),0)","v":0},{"$f":"IFERROR(VLOOKUP(FC27,MATCHSELEVES!$Y$14:$AE$600,4,FALSE),0)","v":0},{"$f":"IFERROR(VLOOKUP(FC27,MATCHSELEVES!$Y$14:$AE$600,5,FALSE),0)","v":0},{"$f":"IFERROR(VLOOKUP(FC27,MATCHSELEVES!$Y$14:$AF$600,8,FALSE),0)","v":0},{"$f":"IFERROR(VLOOKUP(FC27,MATCHSELEVES!$Y$14:$AG$600,9,FALSE),0)","v":0},"Quintimo_25",{"$f":"IFERROR(VLOOKUP(FI27,MATCHSELEVES!$Y$14:$AE$600,3,FALSE),0)","v":0},{"$f":"IFERROR(VLOOKUP(FI27,MATCHSELEVES!$Y$14:$AE$600,4,FALSE),0)","v":0},{"$f":"IFERROR(VLOOKUP(FI27,MATCHSELEVES!$Y$14:$AE$600,5,FALSE),0)","v":0},{"$f":"IFERROR(VLOOKUP(FI27,MATCHSELEVES!$Y$14:$AF$600,8,FALSE),0)","v":0},{"$f":"IFERROR(VLOOKUP(FI27,MATCHSELEVES!$Y$14:$AG$600,9,FALSE),0)","v":0},"Quintimo_26",{"$f":"IFERROR(VLOOKUP(FO27,MATCHSELEVES!$Y$14:$AE$600,3,FALSE),0)","v":0},{"$f":"IFERROR(VLOOKUP(FO27,MATCHSELEVES!$Y$14:$AE$600,4,FALSE),0)","v":0},{"$f":"IFERROR(VLOOKUP(FO27,MATCHSELEVES!$Y$14:$AE$600,5,FALSE),0)","v":0},{"$f":"IFERROR(VLOOKUP(FO27,MATCHSELEVES!$Y$14:$AF$600,8,FALSE),0)","v":0},{"$f":"IFERROR(VLOOKUP(FO27,MATCHSELEVES!$Y$14:$AG$600,9,FALSE),0)","v":0},"Quintimo_27",{"$f":"IFERROR(VLOOKUP(FU27,MATCHSELEVES!$Y$14:$AE$600,3,FALSE),0)","v":0},{"$f":"IFERROR(VLOOKUP(FU27,MATCHSELEVES!$Y$14:$AE$600,4,FALSE),0)","v":0},{"$f":"IFERROR(VLOOKUP(FU27,MATCHSELEVES!$Y$14:$AE$600,5,FALSE),0)","v":0},{"$f":"IFERROR(VLOOKUP(FU27,MATCHSELEVES!$Y$14:$AF$600,8,FALSE),0)","v":0},{"$f":"IFERROR(VLOOKUP(FU27,MATCHSELEVES!$Y$14:$AG$600,9,FALSE),0)","v":0},"Quintimo_28",{"$f":"IFERROR(VLOOKUP(GA27,MATCHSELEVES!$Y$14:$AE$600,3,FALSE),0)","v":0},{"$f":"IFERROR(VLOOKUP(GA27,MATCHSELEVES!$Y$14:$AE$600,4,FALSE),0)","v":0},{"$f":"IFERROR(VLOOKUP(GA27,MATCHSELEVES!$Y$14:$AE$600,5,FALSE),0)","v":0},{"$f":"IFERROR(VLOOKUP(GA27,MATCHSELEVES!$Y$14:$AF$600,8,FALSE),0)","v":0},{"$f":"IFERROR(VLOOKUP(GA27,MATCHSELEVES!$Y$14:$AG$600,9,FALSE),0)","v":0},"Quintimo_29",{"$f":"IFERROR(VLOOKUP(GG27,MATCHSELEVES!$Y$14:$AE$600,3,FALSE),0)","v":0},{"$f":"IFERROR(VLOOKUP(GG27,MATCHSELEVES!$Y$14:$AE$600,4,FALSE),0)","v":0},{"$f":"IFERROR(VLOOKUP(GG27,MATCHSELEVES!$Y$14:$AE$600,5,FALSE),0)","v":0},{"$f":"IFERROR(VLOOKUP(GG27,MATCHSELEVES!$Y$14:$AF$600,8,FALSE),0)","v":0},{"$f":"IFERROR(VLOOKUP(GG27,MATCHSELEVES!$Y$14:$AG$600,9,FALSE),0)","v":0},"Quintimo_30",{"$f":"IFERROR(VLOOKUP(GM27,MATCHSELEVES!$Y$14:$AE$600,3,FALSE),0)","v":0},{"$f":"IFERROR(VLOOKUP(GM27,MATCHSELEVES!$Y$14:$AE$600,4,FALSE),0)","v":0},{"$f":"IFERROR(VLOOKUP(GM27,MATCHSELEVES!$Y$14:$AE$600,5,FALSE),0)","v":0},{"$f":"IFERROR(VLOOKUP(GM27,MATCHSELEVES!$Y$14:$AF$600,8,FALSE),0)","v":0},{"$f":"IFERROR(VLOOKUP(GM27,MATCHSELEVES!$Y$14:$AG$600,9,FALSE),0)","v":0},"Quintimo_31",{"$f":"IFERROR(VLOOKUP(GS27,MATCHSELEVES!$Y$14:$AE$600,3,FALSE),0)","v":0},{"$f":"IFERROR(VLOOKUP(GS27,MATCHSELEVES!$Y$14:$AE$600,4,FALSE),0)","v":0},{"$f":"IFERROR(VLOOKUP(GS27,MATCHSELEVES!$Y$14:$AE$600,5,FALSE),0)","v":0},{"$f":"IFERROR(VLOOKUP(GS27,MATCHSELEVES!$Y$14:$AF$600,8,FALSE),0)","v":0},{"$f":"IFERROR(VLOOKUP(GS27,MATCHSELEVES!$Y$14:$AG$600,9,FALSE),0)","v":0},"Quintimo_32",{"$f":"IFERROR(VLOOKUP(GY27,MATCHSELEVES!$Y$14:$AE$600,3,FALSE),0)","v":0},{"$f":"IFERROR(VLOOKUP(GY27,MATCHSELEVES!$Y$14:$AE$600,4,FALSE),0)","v":0},{"$f":"IFERROR(VLOOKUP(GY27,MATCHSELEVES!$Y$14:$AE$600,5,FALSE),0)","v":0},{"$f":"IFERROR(VLOOKUP(GY27,MATCHSELEVES!$Y$14:$AF$600,8,FALSE),0)","v":0},{"$f":"IFERROR(VLOOKUP(GY27,MATCHSELEVES!$Y$14:$AG$600,9,FALSE),0)","v":0},"Quintimo_33",{"$f":"IFERROR(VLOOKUP(HE27,MATCHSELEVES!$Y$14:$AE$600,3,FALSE),0)","v":0},{"$f":"IFERROR(VLOOKUP(HE27,MATCHSELEVES!$Y$14:$AE$600,4,FALSE),0)","v":0},{"$f":"IFERROR(VLOOKUP(HE27,MATCHSELEVES!$Y$14:$AE$600,5,FALSE),0)","v":0},{"$f":"IFERROR(VLOOKUP(HE27,MATCHSELEVES!$Y$14:$AF$600,8,FALSE),0)","v":0},{"$f":"IFERROR(VLOOKUP(HE27,MATCHSELEVES!$Y$14:$AG$600,9,FALSE),0)","v":0},"Quintimo_34",{"$f":"IFERROR(VLOOKUP(HK27,MATCHSELEVES!$Y$14:$AE$600,3,FALSE),0)","v":0},{"$f":"IFERROR(VLOOKUP(HK27,MATCHSELEVES!$Y$14:$AE$600,4,FALSE),0)","v":0},{"$f":"IFERROR(VLOOKUP(HK27,MATCHSELEVES!$Y$14:$AE$600,5,FALSE),0)","v":0},{"$f":"IFERROR(VLOOKUP(HK27,MATCHSELEVES!$Y$14:$AF$600,8,FALSE),0)","v":0},{"$f":"IFERROR(VLOOKUP(HK27,MATCHSELEVES!$Y$14:$AG$600,9,FALSE),0)","v":0},"Quintimo_35",{"$f":"IFERROR(VLOOKUP(HQ27,MATCHSELEVES!$Y$14:$AE$600,3,FALSE),0)","v":0},{"$f":"IFERROR(VLOOKUP(HQ27,MATCHSELEVES!$Y$14:$AE$600,4,FALSE),0)","v":0},{"$f":"IFERROR(VLOOKUP(HQ27,MATCHSELEVES!$Y$14:$AE$600,5,FALSE),0)","v":0},{"$f":"IFERROR(VLOOKUP(HQ27,MATCHSELEVES!$Y$14:$AF$600,8,FALSE),0)","v":0},{"$f":"IFERROR(VLOOKUP(HQ27,MATCHSELEVES!$Y$14:$AG$600,9,FALSE),0)","v":0},"Quintimo_36",{"$f":"IFERROR(VLOOKUP(HW27,MATCHSELEVES!$Y$14:$AE$600,3,FALSE),0)","v":0},{"$f":"IFERROR(VLOOKUP(HW27,MATCHSELEVES!$Y$14:$AE$600,4,FALSE),0)","v":0},{"$f":"IFERROR(VLOOKUP(HW27,MATCHSELEVES!$Y$14:$AE$600,5,FALSE),0)","v":0},{"$f":"IFERROR(VLOOKUP(HW27,MATCHSELEVES!$Y$14:$AF$600,8,FALSE),0)","v":0},{"$f":"IFERROR(VLOOKUP(HW27,MATCHSELEVES!$Y$14:$AG$600,9,FALSE),0)","v":0},"Quintimo_37",{"$f":"IFERROR(VLOOKUP(IC27,MATCHSELEVES!$Y$14:$AE$600,3,FALSE),0)","v":0},{"$f":"IFERROR(VLOOKUP(IC27,MATCHSELEVES!$Y$14:$AE$600,4,FALSE),0)","v":0},{"$f":"IFERROR(VLOOKUP(IC27,MATCHSELEVES!$Y$14:$AE$600,5,FALSE),0)","v":0},{"$f":"IFERROR(VLOOKUP(IC27,MATCHSELEVES!$Y$14:$AF$600,8,FALSE),0)","v":0},{"$f":"IFERROR(VLOOKUP(IC27,MATCHSELEVES!$Y$14:$AG$600,9,FALSE),0)","v":0},"Quintimo_38",{"$f":"IFERROR(VLOOKUP(II27,MATCHSELEVES!$Y$14:$AE$600,3,FALSE),0)","v":0},{"$f":"IFERROR(VLOOKUP(II27,MATCHSELEVES!$Y$14:$AE$600,4,FALSE),0)","v":0},{"$f":"IFERROR(VLOOKUP(II27,MATCHSELEVES!$Y$14:$AE$600,5,FALSE),0)","v":0},{"$f":"IFERROR(VLOOKUP(II27,MATCHSELEVES!$Y$14:$AF$600,8,FALSE),0)","v":0},{"$f":"IFERROR(VLOOKUP(II27,MATCHSELEVES!$Y$14:$AG$600,9,FALSE),0)","v":0},"Quintimo_39",{"$f":"IFERROR(VLOOKUP(IO27,MATCHSELEVES!$Y$14:$AE$600,3,FALSE),0)","v":0},{"$f":"IFERROR(VLOOKUP(IO27,MATCHSELEVES!$Y$14:$AE$600,4,FALSE),0)","v":0},{"$f":"IFERROR(VLOOKUP(IO27,MATCHSELEVES!$Y$14:$AE$600,5,FALSE),0)","v":0},{"$f":"IFERROR(VLOOKUP(IO27,MATCHSELEVES!$Y$14:$AF$600,8,FALSE),0)","v":0},{"$f":"IFERROR(VLOOKUP(IO27,MATCHSELEVES!$Y$14:$AG$600,9,FALSE),0)","v":0},"Quintimo_40",{"$f":"IFERROR(VLOOKUP(IU27,MATCHSELEVES!$Y$14:$AE$600,3,FALSE),0)","v":0},{"$f":"IFERROR(VLOOKUP(IU27,MATCHSELEVES!$Y$14:$AE$600,4,FALSE),0)","v":0},{"$f":"IFERROR(VLOOKUP(IU27,MATCHSELEVES!$Y$14:$AE$600,5,FALSE),0)","v":0},{"$f":"IFERROR(VLOOKUP(IU27,MATCHSELEVES!$Y$14:$AF$600,8,FALSE),0)","v":0},{"$f":"IFERROR(VLOOKUP(IU27,MATCHSELEVES!$Y$14:$AG$600,9,FALSE),0)","v":0},{"$f":"Tableau10[[#This Row],[CLASSE]]","v":"Quintimo"},1,{"$f":"MD1POINT!D27","v":1},"Quintimop_1",{"$f":"IFERROR(VLOOKUP(JD27,MATCHSELEVES!$Y$14:$AE$600,3,FALSE),0)","v":0},{"$f":"IFERROR(VLOOKUP(JD27,MATCHSELEVES!$Y$14:$AE$600,4,FALSE),0)","v":0},{"$f":"IFERROR(VLOOKUP(JD27,MATCHSELEVES!$Y$14:$AE$600,5,FALSE),0)","v":0},{"$f":"IFERROR(VLOOKUP(JD27,MATCHSELEVES!$Y$14:$AF$600,8,FALSE),0)","v":0},{"$f":"IFERROR(VLOOKUP(JD27,MATCHSELEVES!$Y$14:$AG$600,9,FALSE),0)","v":0},"Quintimop_2",{"$f":"IFERROR(VLOOKUP(JJ27,MATCHSELEVES!$Y$14:$AE$600,3,FALSE),0)","v":0},{"$f":"IFERROR(VLOOKUP(JJ27,MATCHSELEVES!$Y$14:$AE$600,4,FALSE),0)","v":0},{"$f":"IFERROR(VLOOKUP(JJ27,MATCHSELEVES!$Y$14:$AE$600,5,FALSE),0)","v":0},{"$f":"IFERROR(VLOOKUP(JJ27,MATCHSELEVES!$Y$14:$AF$600,8,FALSE),0)","v":0},{"$f":"IFERROR(VLOOKUP(JJ27,MATCHSELEVES!$Y$14:$AG$600,9,FALSE),0)","v":0},"Quintimop_3",{"$f":"IFERROR(VLOOKUP(JP27,MATCHSELEVES!$Y$14:$AE$600,3,FALSE),0)","v":0},{"$f":"IFERROR(VLOOKUP(JP27,MATCHSELEVES!$Y$14:$AE$600,4,FALSE),0)","v":0},{"$f":"IFERROR(VLOOKUP(JP27,MATCHSELEVES!$Y$14:$AE$600,5,FALSE),0)","v":0},{"$f":"IFERROR(VLOOKUP(JP27,MATCHSELEVES!$Y$14:$AF$600,8,FALSE),0)","v":0},{"$f":"IFERROR(VLOOKUP(JP27,MATCHSELEVES!$Y$14:$AG$600,9,FALSE),0)","v":0},"Quintimop_4",{"$f":"IFERROR(VLOOKUP(JV27,MATCHSELEVES!$Y$14:$AE$600,3,FALSE),0)","v":0},{"$f":"IFERROR(VLOOKUP(JV27,MATCHSELEVES!$Y$14:$AE$600,4,FALSE),0)","v":0},{"$f":"IFERROR(VLOOKUP(JV27,MATCHSELEVES!$Y$14:$AE$600,5,FALSE),0)","v":0},{"$f":"IFERROR(VLOOKUP(JV27,MATCHSELEVES!$Y$14:$AF$600,8,FALSE),0)","v":0},{"$f":"IFERROR(VLOOKUP(JV27,MATCHSELEVES!$Y$14:$AG$600,9,FALSE),0)","v":0},"Quintimop_5",{"$f":"IFERROR(VLOOKUP(KB27,MATCHSELEVES!$Y$14:$AE$600,3,FALSE),0)","v":0},{"$f":"IFERROR(VLOOKUP(KB27,MATCHSELEVES!$Y$14:$AE$600,4,FALSE),0)","v":0},{"$f":"IFERROR(VLOOKUP(KB27,MATCHSELEVES!$Y$14:$AE$600,5,FALSE),0)","v":0},{"$f":"IFERROR(VLOOKUP(KB27,MATCHSELEVES!$Y$14:$AF$600,8,FALSE),0)","v":0},{"$f":"IFERROR(VLOOKUP(KB27,MATCHSELEVES!$Y$14:$AG$600,9,FALSE),0)","v":0},"Quintimop_6",{"$f":"IFERROR(VLOOKUP(KH27,MATCHSELEVES!$Y$14:$AE$600,3,FALSE),0)","v":0},{"$f":"IFERROR(VLOOKUP(KH27,MATCHSELEVES!$Y$14:$AE$600,4,FALSE),0)","v":0},{"$f":"IFERROR(VLOOKUP(KH27,MATCHSELEVES!$Y$14:$AE$600,5,FALSE),0)","v":0},{"$f":"IFERROR(VLOOKUP(KH27,MATCHSELEVES!$Y$14:$AF$600,8,FALSE),0)","v":0},{"$f":"IFERROR(VLOOKUP(KH27,MATCHSELEVES!$Y$14:$AG$600,9,FALSE),0)","v":0},"Quintimop_7",{"$f":"IFERROR(VLOOKUP(KN27,MATCHSELEVES!$Y$14:$AE$600,3,FALSE),0)","v":0},{"$f":"IFERROR(VLOOKUP(KN27,MATCHSELEVES!$Y$14:$AE$600,4,FALSE),0)","v":0},{"$f":"IFERROR(VLOOKUP(KN27,MATCHSELEVES!$Y$14:$AE$600,5,FALSE),0)","v":0},{"$f":"IFERROR(VLOOKUP(KN27,MATCHSELEVES!$Y$14:$AF$600,8,FALSE),0)","v":0},{"$f":"IFERROR(VLOOKUP(KN27,MATCHSELEVES!$Y$14:$AG$600,9,FALSE),0)","v":0},"Quintimop_8",{"$f":"IFERROR(VLOOKUP(KT27,MATCHSELEVES!$Y$14:$AE$600,3,FALSE),0)","v":0},{"$f":"IFERROR(VLOOKUP(KT27,MATCHSELEVES!$Y$14:$AE$600,4,FALSE),0)","v":0},{"$f":"IFERROR(VLOOKUP(KT27,MATCHSELEVES!$Y$14:$AE$600,5,FALSE),0)","v":0},{"$f":"IFERROR(VLOOKUP(KT27,MATCHSELEVES!$Y$14:$AF$600,8,FALSE),0)","v":0},{"$f":"IFERROR(VLOOKUP(KT27,MATCHSELEVES!$Y$14:$AG$600,9,FALSE),0)","v":0},"Quintimop_9",{"$f":"IFERROR(VLOOKUP(KZ27,MATCHSELEVES!$Y$14:$AE$600,3,FALSE),0)","v":0},{"$f":"IFERROR(VLOOKUP(KZ27,MATCHSELEVES!$Y$14:$AE$600,4,FALSE),0)","v":0},{"$f":"IFERROR(VLOOKUP(KZ27,MATCHSELEVES!$Y$14:$AE$600,5,FALSE),0)","v":0},{"$f":"IFERROR(VLOOKUP(KZ27,MATCHSELEVES!$Y$14:$AF$600,8,FALSE),0)","v":0},{"$f":"IFERROR(VLOOKUP(KZ27,MATCHSELEVES!$Y$14:$AG$600,9,FALSE),0)","v":0},"Quintimop_10",{"$f":"IFERROR(VLOOKUP(LF27,MATCHSELEVES!$Y$14:$AE$600,3,FALSE),0)","v":0},{"$f":"IFERROR(VLOOKUP(LF27,MATCHSELEVES!$Y$14:$AE$600,4,FALSE),0)","v":0},{"$f":"IFERROR(VLOOKUP(LF27,MATCHSELEVES!$Y$14:$AE$600,5,FALSE),0)","v":0},{"$f":"IFERROR(VLOOKUP(LF27,MATCHSELEVES!$Y$14:$AF$600,8,FALSE),0)","v":0},{"$f":"IFERROR(VLOOKUP(LF27,MATCHSELEVES!$Y$14:$AG$600,9,FALSE),0)","v":0},"Quintimop_11",{"$f":"IFERROR(VLOOKUP(LL27,MATCHSELEVES!$Y$14:$AE$600,3,FALSE),0)","v":0},{"$f":"IFERROR(VLOOKUP(LL27,MATCHSELEVES!$Y$14:$AE$600,4,FALSE),0)","v":0},{"$f":"IFERROR(VLOOKUP(LL27,MATCHSELEVES!$Y$14:$AE$600,5,FALSE),0)","v":0},{"$f":"IFERROR(VLOOKUP(LL27,MATCHSELEVES!$Y$14:$AF$600,8,FALSE),0)","v":0},{"$f":"IFERROR(VLOOKUP(LL27,MATCHSELEVES!$Y$14:$AG$600,9,FALSE),0)","v":0},"Quintimop_12",{"$f":"IFERROR(VLOOKUP(LR27,MATCHSELEVES!$Y$14:$AE$600,3,FALSE),0)","v":0},{"$f":"IFERROR(VLOOKUP(LR27,MATCHSELEVES!$Y$14:$AE$600,4,FALSE),0)","v":0},{"$f":"IFERROR(VLOOKUP(LR27,MATCHSELEVES!$Y$14:$AE$600,5,FALSE),0)","v":0},{"$f":"IFERROR(VLOOKUP(LR27,MATCHSELEVES!$Y$14:$AF$600,8,FALSE),0)","v":0},{"$f":"IFERROR(VLOOKUP(LR27,MATCHSELEVES!$Y$14:$AG$600,9,FALSE),0)","v":0},"Quintimop_13",{"$f":"IFERROR(VLOOKUP(LX27,MATCHSELEVES!$Y$14:$AE$600,3,FALSE),0)","v":0},{"$f":"IFERROR(VLOOKUP(LX27,MATCHSELEVES!$Y$14:$AE$600,4,FALSE),0)","v":0},{"$f":"IFERROR(VLOOKUP(LX27,MATCHSELEVES!$Y$14:$AE$600,5,FALSE),0)","v":0},{"$f":"IFERROR(VLOOKUP(LX27,MATCHSELEVES!$Y$14:$AF$600,8,FALSE),0)","v":0},{"$f":"IFERROR(VLOOKUP(LX27,MATCHSELEVES!$Y$14:$AG$600,9,FALSE),0)","v":0},"Quintimop_14",{"$f":"IFERROR(VLOOKUP(MD27,MATCHSELEVES!$Y$14:$AE$600,3,FALSE),0)","v":0},{"$f":"IFERROR(VLOOKUP(MD27,MATCHSELEVES!$Y$14:$AE$600,4,FALSE),0)","v":0},{"$f":"IFERROR(VLOOKUP(MD27,MATCHSELEVES!$Y$14:$AE$600,5,FALSE),0)","v":0},{"$f":"IFERROR(VLOOKUP(MD27,MATCHSELEVES!$Y$14:$AF$600,8,FALSE),0)","v":0},{"$f":"IFERROR(VLOOKUP(MD27,MATCHSELEVES!$Y$14:$AG$600,9,FALSE),0)","v":0},"Quintimop_15",{"$f":"IFERROR(VLOOKUP(MJ27,MATCHSELEVES!$Y$14:$AE$600,3,FALSE),0)","v":0},{"$f":"IFERROR(VLOOKUP(MJ27,MATCHSELEVES!$Y$14:$AE$600,4,FALSE),0)","v":0},{"$f":"IFERROR(VLOOKUP(MJ27,MATCHSELEVES!$Y$14:$AE$600,5,FALSE),0)","v":0},{"$f":"IFERROR(VLOOKUP(MJ27,MATCHSELEVES!$Y$14:$AF$600,8,FALSE),0)","v":0},{"$f":"IFERROR(VLOOKUP(MJ27,MATCHSELEVES!$Y$14:$AG$600,9,FALSE),0)","v":0},"Quintimop_16",{"$f":"IFERROR(VLOOKUP(MP27,MATCHSELEVES!$Y$14:$AE$600,3,FALSE),0)","v":0},{"$f":"IFERROR(VLOOKUP(MP27,MATCHSELEVES!$Y$14:$AE$600,4,FALSE),0)","v":0},{"$f":"IFERROR(VLOOKUP(MP27,MATCHSELEVES!$Y$14:$AE$600,5,FALSE),0)","v":0},{"$f":"IFERROR(VLOOKUP(MP27,MATCHSELEVES!$Y$14:$AF$600,8,FALSE),0)","v":0},{"$f":"IFERROR(VLOOKUP(MP27,MATCHSELEVES!$Y$14:$AG$600,9,FALSE),0)","v":0},"Quintimop_17",{"$f":"IFERROR(VLOOKUP(MV27,MATCHSELEVES!$Y$14:$AE$600,3,FALSE),0)","v":0},{"$f":"IFERROR(VLOOKUP(MV27,MATCHSELEVES!$Y$14:$AE$600,4,FALSE),0)","v":0},{"$f":"IFERROR(VLOOKUP(MV27,MATCHSELEVES!$Y$14:$AE$600,5,FALSE),0)","v":0},{"$f":"IFERROR(VLOOKUP(MV27,MATCHSELEVES!$Y$14:$AF$600,8,FALSE),0)","v":0},{"$f":"IFERROR(VLOOKUP(MV27,MATCHSELEVES!$Y$14:$AG$600,9,FALSE),0)","v":0},"Quintimop_18",{"$f":"IFERROR(VLOOKUP(NB27,MATCHSELEVES!$Y$14:$AE$600,3,FALSE),0)","v":0},{"$f":"IFERROR(VLOOKUP(NB27,MATCHSELEVES!$Y$14:$AE$600,4,FALSE),0)","v":0},{"$f":"IFERROR(VLOOKUP(NB27,MATCHSELEVES!$Y$14:$AE$600,5,FALSE),0)","v":0},{"$f":"IFERROR(VLOOKUP(NB27,MATCHSELEVES!$Y$14:$AF$600,8,FALSE),0)","v":0},{"$f":"IFERROR(VLOOKUP(NB27,MATCHSELEVES!$Y$14:$AG$600,9,FALSE),0)","v":0},"Quintimop_19",{"$f":"IFERROR(VLOOKUP(NH27,MATCHSELEVES!$Y$14:$AE$600,3,FALSE),0)","v":0},{"$f":"IFERROR(VLOOKUP(NH27,MATCHSELEVES!$Y$14:$AE$600,4,FALSE),0)","v":0},{"$f":"IFERROR(VLOOKUP(NH27,MATCHSELEVES!$Y$14:$AE$600,5,FALSE),0)","v":0},{"$f":"IFERROR(VLOOKUP(NH27,MATCHSELEVES!$Y$14:$AF$600,8,FALSE),0)","v":0},{"$f":"IFERROR(VLOOKUP(NH27,MATCHSELEVES!$Y$14:$AG$600,9,FALSE),0)","v":0},"Quintimop_20",{"$f":"IFERROR(VLOOKUP(NN27,MATCHSELEVES!$Y$14:$AE$600,3,FALSE),0)","v":0},{"$f":"IFERROR(VLOOKUP(NN27,MATCHSELEVES!$Y$14:$AE$600,4,FALSE),0)","v":0},{"$f":"IFERROR(VLOOKUP(NN27,MATCHSELEVES!$Y$14:$AE$600,5,FALSE),0)","v":0},{"$f":"IFERROR(VLOOKUP(NN27,MATCHSELEVES!$Y$14:$AF$600,8,FALSE),0)","v":0},{"$f":"IFERROR(VLOOKUP(NN27,MATCHSELEVES!$Y$14:$AG$600,9,FALSE),0)","v":0},"Quintimop_21",{"$f":"IFERROR(VLOOKUP(NT27,MATCHSELEVES!$Y$14:$AE$600,3,FALSE),0)","v":0},{"$f":"IFERROR(VLOOKUP(NT27,MATCHSELEVES!$Y$14:$AE$600,4,FALSE),0)","v":0},{"$f":"IFERROR(VLOOKUP(NT27,MATCHSELEVES!$Y$14:$AE$600,5,FALSE),0)","v":0},{"$f":"IFERROR(VLOOKUP(NT27,MATCHSELEVES!$Y$14:$AF$600,8,FALSE),0)","v":0},{"$f":"IFERROR(VLOOKUP(NT27,MATCHSELEVES!$Y$14:$AG$600,9,FALSE),0)","v":0},"Quintimop_22",{"$f":"IFERROR(VLOOKUP(NZ27,MATCHSELEVES!$Y$14:$AE$600,3,FALSE),0)","v":0},{"$f":"IFERROR(VLOOKUP(NZ27,MATCHSELEVES!$Y$14:$AE$600,4,FALSE),0)","v":0},{"$f":"IFERROR(VLOOKUP(NZ27,MATCHSELEVES!$Y$14:$AE$600,5,FALSE),0)","v":0},{"$f":"IFERROR(VLOOKUP(NZ27,MATCHSELEVES!$Y$14:$AF$600,8,FALSE),0)","v":0},{"$f":"IFERROR(VLOOKUP(NZ27,MATCHSELEVES!$Y$14:$AG$600,9,FALSE),0)","v":0},"Quintimop_23",{"$f":"IFERROR(VLOOKUP(OF27,MATCHSELEVES!$Y$14:$AE$600,3,FALSE),0)","v":0},{"$f":"IFERROR(VLOOKUP(OF27,MATCHSELEVES!$Y$14:$AE$600,4,FALSE),0)","v":0},{"$f":"IFERROR(VLOOKUP(OF27,MATCHSELEVES!$Y$14:$AE$600,5,FALSE),0)","v":0},{"$f":"IFERROR(VLOOKUP(OF27,MATCHSELEVES!$Y$14:$AF$600,8,FALSE),0)","v":0},{"$f":"IFERROR(VLOOKUP(OF27,MATCHSELEVES!$Y$14:$AG$600,9,FALSE),0)","v":0},"Quintimop_24",{"$f":"IFERROR(VLOOKUP(OL27,MATCHSELEVES!$Y$14:$AE$600,3,FALSE),0)","v":0},{"$f":"IFERROR(VLOOKUP(OL27,MATCHSELEVES!$Y$14:$AE$600,4,FALSE),0)","v":0},{"$f":"IFERROR(VLOOKUP(OL27,MATCHSELEVES!$Y$14:$AE$600,5,FALSE),0)","v":0},{"$f":"IFERROR(VLOOKUP(OL27,MATCHSELEVES!$Y$14:$AF$600,8,FALSE),0)","v":0},{"$f":"IFERROR(VLOOKUP(OL27,MATCHSELEVES!$Y$14:$AG$600,9,FALSE),0)","v":0},"Quintimop_25",{"$f":"IFERROR(VLOOKUP(OR27,MATCHSELEVES!$Y$14:$AE$600,3,FALSE),0)","v":0},{"$f":"IFERROR(VLOOKUP(OR27,MATCHSELEVES!$Y$14:$AE$600,4,FALSE),0)","v":0},{"$f":"IFERROR(VLOOKUP(OR27,MATCHSELEVES!$Y$14:$AE$600,5,FALSE),0)","v":0},{"$f":"IFERROR(VLOOKUP(OR27,MATCHSELEVES!$Y$14:$AF$600,8,FALSE),0)","v":0},{"$f":"IFERROR(VLOOKUP(OR27,MATCHSELEVES!$Y$14:$AG$600,9,FALSE),0)","v":0},"Quintimop_26",{"$f":"IFERROR(VLOOKUP(OX27,MATCHSELEVES!$Y$14:$AE$600,3,FALSE),0)","v":0},{"$f":"IFERROR(VLOOKUP(OX27,MATCHSELEVES!$Y$14:$AE$600,4,FALSE),0)","v":0},{"$f":"IFERROR(VLOOKUP(OX27,MATCHSELEVES!$Y$14:$AE$600,5,FALSE),0)","v":0},{"$f":"IFERROR(VLOOKUP(OX27,MATCHSELEVES!$Y$14:$AF$600,8,FALSE),0)","v":0},{"$f":"IFERROR(VLOOKUP(OX27,MATCHSELEVES!$Y$14:$AG$600,9,FALSE),0)","v":0},"Quintimop_27",{"$f":"IFERROR(VLOOKUP(PD27,MATCHSELEVES!$Y$14:$AE$600,3,FALSE),0)","v":0},{"$f":"IFERROR(VLOOKUP(PD27,MATCHSELEVES!$Y$14:$AE$600,4,FALSE),0)","v":0},{"$f":"IFERROR(VLOOKUP(PD27,MATCHSELEVES!$Y$14:$AE$600,5,FALSE),0)","v":0},{"$f":"IFERROR(VLOOKUP(PD27,MATCHSELEVES!$Y$14:$AF$600,8,FALSE),0)","v":0},{"$f":"IFERROR(VLOOKUP(PD27,MATCHSELEVES!$Y$14:$AG$600,9,FALSE),0)","v":0},"Quintimop_28",{"$f":"IFERROR(VLOOKUP(PJ27,MATCHSELEVES!$Y$14:$AE$600,3,FALSE),0)","v":0},{"$f":"IFERROR(VLOOKUP(PJ27,MATCHSELEVES!$Y$14:$AE$600,4,FALSE),0)","v":0},{"$f":"IFERROR(VLOOKUP(PJ27,MATCHSELEVES!$Y$14:$AE$600,5,FALSE),0)","v":0},{"$f":"IFERROR(VLOOKUP(PJ27,MATCHSELEVES!$Y$14:$AF$600,8,FALSE),0)","v":0},{"$f":"IFERROR(VLOOKUP(PJ27,MATCHSELEVES!$Y$14:$AG$600,9,FALSE),0)","v":0},"Quintimop_29",{"$f":"IFERROR(VLOOKUP(PP27,MATCHSELEVES!$Y$14:$AE$600,3,FALSE),0)","v":0},{"$f":"IFERROR(VLOOKUP(PP27,MATCHSELEVES!$Y$14:$AE$600,4,FALSE),0)","v":0},{"$f":"IFERROR(VLOOKUP(PP27,MATCHSELEVES!$Y$14:$AE$600,5,FALSE),0)","v":0},{"$f":"IFERROR(VLOOKUP(PP27,MATCHSELEVES!$Y$14:$AF$600,8,FALSE),0)","v":0},{"$f":"IFERROR(VLOOKUP(PP27,MATCHSELEVES!$Y$14:$AG$600,9,FALSE),0)","v":0},"Quintimop_30",{"$f":"IFERROR(VLOOKUP(PV27,MATCHSELEVES!$Y$14:$AE$600,3,FALSE),0)","v":0},{"$f":"IFERROR(VLOOKUP(PV27,MATCHSELEVES!$Y$14:$AE$600,4,FALSE),0)","v":0},{"$f":"IFERROR(VLOOKUP(PV27,MATCHSELEVES!$Y$14:$AE$600,5,FALSE),0)","v":0},{"$f":"IFERROR(VLOOKUP(PV27,MATCHSELEVES!$Y$14:$AF$600,8,FALSE),0)","v":0},{"$f":"IFERROR(VLOOKUP(PV27,MATCHSELEVES!$Y$14:$AG$600,9,FALSE),0)","v":0},"Quintimop_31",{"$f":"IFERROR(VLOOKUP(QB27,MATCHSELEVES!$Y$14:$AE$600,3,FALSE),0)","v":0},{"$f":"IFERROR(VLOOKUP(QB27,MATCHSELEVES!$Y$14:$AE$600,4,FALSE),0)","v":0},{"$f":"IFERROR(VLOOKUP(QB27,MATCHSELEVES!$Y$14:$AE$600,5,FALSE),0)","v":0},{"$f":"IFERROR(VLOOKUP(QB27,MATCHSELEVES!$Y$14:$AF$600,8,FALSE),0)","v":0},{"$f":"IFERROR(VLOOKUP(QB27,MATCHSELEVES!$Y$14:$AG$600,9,FALSE),0)","v":0},"Quintimop_32",{"$f":"IFERROR(VLOOKUP(QH27,MATCHSELEVES!$Y$14:$AE$600,3,FALSE),0)","v":0},{"$f":"IFERROR(VLOOKUP(QH27,MATCHSELEVES!$Y$14:$AE$600,4,FALSE),0)","v":0},{"$f":"IFERROR(VLOOKUP(QH27,MATCHSELEVES!$Y$14:$AE$600,5,FALSE),0)","v":0},{"$f":"IFERROR(VLOOKUP(QH27,MATCHSELEVES!$Y$14:$AF$600,8,FALSE),0)","v":0},{"$f":"IFERROR(VLOOKUP(QH27,MATCHSELEVES!$Y$14:$AG$600,9,FALSE),0)","v":0},"Quintimop_33",{"$f":"IFERROR(VLOOKUP(QN27,MATCHSELEVES!$Y$14:$AE$600,3,FALSE),0)","v":0},{"$f":"IFERROR(VLOOKUP(QN27,MATCHSELEVES!$Y$14:$AE$600,4,FALSE),0)","v":0},{"$f":"IFERROR(VLOOKUP(QN27,MATCHSELEVES!$Y$14:$AE$600,5,FALSE),0)","v":0},{"$f":"IFERROR(VLOOKUP(QN27,MATCHSELEVES!$Y$14:$AF$600,8,FALSE),0)","v":0},{"$f":"IFERROR(VLOOKUP(QN27,MATCHSELEVES!$Y$14:$AG$600,9,FALSE),0)","v":0},"Quintimop_34",{"$f":"IFERROR(VLOOKUP(QT27,MATCHSELEVES!$Y$14:$AE$600,3,FALSE),0)","v":0},{"$f":"IFERROR(VLOOKUP(QT27,MATCHSELEVES!$Y$14:$AE$600,4,FALSE),0)","v":0},{"$f":"IFERROR(VLOOKUP(QT27,MATCHSELEVES!$Y$14:$AE$600,5,FALSE),0)","v":0},{"$f":"IFERROR(VLOOKUP(QT27,MATCHSELEVES!$Y$14:$AF$600,8,FALSE),0)","v":0},{"$f":"IFERROR(VLOOKUP(QT27,MATCHSELEVES!$Y$14:$AG$600,9,FALSE),0)","v":0},"Quintimop_35",{"$f":"IFERROR(VLOOKUP(QZ27,MATCHSELEVES!$Y$14:$AE$600,3,FALSE),0)","v":0},{"$f":"IFERROR(VLOOKUP(QZ27,MATCHSELEVES!$Y$14:$AE$600,4,FALSE),0)","v":0},{"$f":"IFERROR(VLOOKUP(QZ27,MATCHSELEVES!$Y$14:$AE$600,5,FALSE),0)","v":0},{"$f":"IFERROR(VLOOKUP(QZ27,MATCHSELEVES!$Y$14:$AF$600,8,FALSE),0)","v":0},{"$f":"IFERROR(VLOOKUP(QZ27,MATCHSELEVES!$Y$14:$AG$600,9,FALSE),0)","v":0},"Quintimop_36",{"$f":"IFERROR(VLOOKUP(RF27,MATCHSELEVES!$Y$14:$AE$600,3,FALSE),0)","v":0},{"$f":"IFERROR(VLOOKUP(RF27,MATCHSELEVES!$Y$14:$AE$600,4,FALSE),0)","v":0},{"$f":"IFERROR(VLOOKUP(RF27,MATCHSELEVES!$Y$14:$AE$600,5,FALSE),0)","v":0},{"$f":"IFERROR(VLOOKUP(RF27,MATCHSELEVES!$Y$14:$AF$600,8,FALSE),0)","v":0},{"$f":"IFERROR(VLOOKUP(RF27,MATCHSELEVES!$Y$14:$AG$600,9,FALSE),0)","v":0},"Quintimop_37",{"$f":"IFERROR(VLOOKUP(RL27,MATCHSELEVES!$Y$14:$AE$600,3,FALSE),0)","v":0},{"$f":"IFERROR(VLOOKUP(RL27,MATCHSELEVES!$Y$14:$AE$600,4,FALSE),0)","v":0},{"$f":"IFERROR(VLOOKUP(RL27,MATCHSELEVES!$Y$14:$AE$600,5,FALSE),0)","v":0},{"$f":"IFERROR(VLOOKUP(RL27,MATCHSELEVES!$Y$14:$AF$600,8,FALSE),0)","v":0},{"$f":"IFERROR(VLOOKUP(RL27,MATCHSELEVES!$Y$14:$AG$600,9,FALSE),0)","v":0},"Quintimop_38",{"$f":"IFERROR(VLOOKUP(RR27,MATCHSELEVES!$Y$14:$AE$600,3,FALSE),0)","v":0},{"$f":"IFERROR(VLOOKUP(RR27,MATCHSELEVES!$Y$14:$AE$600,4,FALSE),0)","v":0},{"$f":"IFERROR(VLOOKUP(RR27,MATCHSELEVES!$Y$14:$AE$600,5,FALSE),0)","v":0},{"$f":"IFERROR(VLOOKUP(RR27,MATCHSELEVES!$Y$14:$AF$600,8,FALSE),0)","v":0},{"$f":"IFERROR(VLOOKUP(RR27,MATCHSELEVES!$Y$14:$AG$600,9,FALSE),0)","v":0},"Quintimop_39",{"$f":"IFERROR(VLOOKUP(RX27,MATCHSELEVES!$Y$14:$AE$600,3,FALSE),0)","v":0},{"$f":"IFERROR(VLOOKUP(RX27,MATCHSELEVES!$Y$14:$AE$600,4,FALSE),0)","v":0},{"$f":"IFERROR(VLOOKUP(RX27,MATCHSELEVES!$Y$14:$AE$600,5,FALSE),0)","v":0},{"$f":"IFERROR(VLOOKUP(RX27,MATCHSELEVES!$Y$14:$AF$600,8,FALSE),0)","v":0},{"$f":"IFERROR(VLOOKUP(RX27,MATCHSELEVES!$Y$14:$AG$600,9,FALSE),0)","v":0},"Quintimop_40",{"$f":"IFERROR(VLOOKUP(SD27,MATCHSELEVES!$Y$14:$AE$600,3,FALSE),0)","v":0},{"$f":"IFERROR(VLOOKUP(SD27,MATCHSELEVES!$Y$14:$AE$600,4,FALSE),0)","v":0},{"$f":"IFERROR(VLOOKUP(SD27,MATCHSELEVES!$Y$14:$AE$600,5,FALSE),0)","v":0},{"$f":"IFERROR(VLOOKUP(SD27,MATCHSELEVES!$Y$14:$AF$600,8,FALSE),0)","v":0},{"$f":"IFERROR(VLOOKUP(SD27,MATCHSELEVES!$Y$14:$AG$600,9,FALSE),0)","v":0}]
[25,null,{"$f":"MD1POINT!C28","v":"Raphaël"},{"$f":"MD1POINT!D28","v":1},{"$f":"COUNTIF(MATCHSELEVES!$Z$14:$Z$600,C28)+COUNTIF(MATCHSELEVES!$Z$14:$Z$600,$C28&\"p\")","v":0},1,{"$f":"COUNTIF(MATCHSELEVES!$F$14:$H$249,C28)","v":0},1,0,1,0,1,0,1,{"$f":"Y28+AE28+AK28+AQ28+AW28+BC28+BI28+BO28+BU28+CA28+CG28+CM28+CS28+CY28+DE28+DK28+DQ28+DW28+EC28+EI28+EO28+EU28+FA28+FG28+FM28+FS28+FY28+GE28+GK28+GQ28+GW28+4+HI28+HO28+HU28+IA28+HC28+IG28+IM28+IY28+IS28+JH28+JN28+JZ28+JT28+KF28+KR28+KX28+LJ28+LP28+LV28+LD28+MB28+MH28+MN28+MZ28+MT28+NF28+NL28+NR28+NX28+OD28+OJ28+OP28+OV28+PB28+PH28+PT28+PN28+PZ28+QF28+QL28+QR28+RD28+QX28+RJ28+RP28+RV28+SB28+SH28+KL28+Tableau10[[#This Row],[Nombre de matchs joués]]*2","v":4},1,{"$f":"(Tableau10[[#This Row],[CLASSEMENT1]]+Tableau10[[#This Row],[CLASSEMENT2]]+Tableau10[[#This Row],[CLASSEMENT3]]+Tableau10[[#This Row],[CLASSEMENT4]]+Tableau10[[#This Row],[CLASSEMENT5]]+Tableau10[[#This Row],[CLASSEMENT6]])/6","v":1},{"$f":"RANK(Tableau10[[#This Row],[MOYENNE CLASSEMENTS]],Tableau10[MOYENNE CLASSEMENTS],1)","v":1},null,{"$f":"Tableau10[[#This Row],[CLASSEMENT1]]","v":1},"Raphaël_1",{"$f":"IFERROR(VLOOKUP(U28,MATCHSELEVES!$Y$14:$AE$600,3,FALSE),0)","v":0},{"$f":"IFERROR(VLOOKUP(U28,MATCHSELEVES!$Y$14:$AE$600,4,FALSE),0)","v":0},{"$f":"IFERROR(VLOOKUP(U28,MATCHSELEVES!$Y$14:$AE$600,5,FALSE),0)","v":0},{"$f":"IFERROR(VLOOKUP(U28,MATCHSELEVES!$Y$14:$AF$600,8,FALSE),0)","v":0},{"$f":"IFERROR(VLOOKUP(U28,MATCHSELEVES!$Y$14:$AG$600,9,FALSE),0)","v":0},"Raphaël_2",{"$f":"IFERROR(VLOOKUP(AA28,MATCHSELEVES!$Y$14:$AE$600,3,FALSE),0)","v":0},{"$f":"IFERROR(VLOOKUP(AA28,MATCHSELEVES!$Y$14:$AE$600,4,FALSE),0)","v":0},{"$f":"IFERROR(VLOOKUP(AA28,MATCHSELEVES!$Y$14:$AE$600,5,FALSE),0)","v":0},{"$f":"IFERROR(VLOOKUP(AA28,MATCHSELEVES!$Y$14:$AF$600,8,FALSE),0)","v":0},{"$f":"IFERROR(VLOOKUP(AA28,MATCHSELEVES!$Y$14:$AG$600,9,FALSE),0)","v":0},"Raphaël_3",{"$f":"IFERROR(VLOOKUP(AG28,MATCHSELEVES!$Y$14:$AE$600,3,FALSE),0)","v":0},{"$f":"IFERROR(VLOOKUP(AG28,MATCHSELEVES!$Y$14:$AE$600,4,FALSE),0)","v":0},{"$f":"IFERROR(VLOOKUP(AG28,MATCHSELEVES!$Y$14:$AE$600,5,FALSE),0)","v":0},{"$f":"IFERROR(VLOOKUP(AG28,MATCHSELEVES!$Y$14:$AF$600,8,FALSE),0)","v":0},{"$f":"IFERROR(VLOOKUP(AG28,MATCHSELEVES!$Y$14:$AG$600,9,FALSE),0)","v":0},"Raphaël_4",{"$f":"IFERROR(VLOOKUP(AM28,MATCHSELEVES!$Y$14:$AE$600,3,FALSE),0)","v":0},{"$f":"IFERROR(VLOOKUP(AM28,MATCHSELEVES!$Y$14:$AE$600,4,FALSE),0)","v":0},{"$f":"IFERROR(VLOOKUP(AM28,MATCHSELEVES!$Y$14:$AE$600,5,FALSE),0)","v":0},{"$f":"IFERROR(VLOOKUP(AM28,MATCHSELEVES!$Y$14:$AF$600,8,FALSE),0)","v":0},{"$f":"IFERROR(VLOOKUP(AM28,MATCHSELEVES!$Y$14:$AG$600,9,FALSE),0)","v":0},"Raphaël_5",{"$f":"IFERROR(VLOOKUP(AS28,MATCHSELEVES!$Y$14:$AE$600,3,FALSE),0)","v":0},{"$f":"IFERROR(VLOOKUP(AS28,MATCHSELEVES!$Y$14:$AE$600,4,FALSE),0)","v":0},{"$f":"IFERROR(VLOOKUP(AS28,MATCHSELEVES!$Y$14:$AE$600,5,FALSE),0)","v":0},{"$f":"IFERROR(VLOOKUP(AS28,MATCHSELEVES!$Y$14:$AF$600,8,FALSE),0)","v":0},{"$f":"IFERROR(VLOOKUP(AS28,MATCHSELEVES!$Y$14:$AG$600,9,FALSE),0)","v":0},"Raphaël_6",{"$f":"IFERROR(VLOOKUP(AY28,MATCHSELEVES!$Y$14:$AE$600,3,FALSE),0)","v":0},{"$f":"IFERROR(VLOOKUP(AY28,MATCHSELEVES!$Y$14:$AE$600,4,FALSE),0)","v":0},{"$f":"IFERROR(VLOOKUP(AY28,MATCHSELEVES!$Y$14:$AE$600,5,FALSE),0)","v":0},{"$f":"IFERROR(VLOOKUP(AY28,MATCHSELEVES!$Y$14:$AF$600,8,FALSE),0)","v":0},{"$f":"IFERROR(VLOOKUP(AY28,MATCHSELEVES!$Y$14:$AG$600,9,FALSE),0)","v":0},"Raphaël_7",{"$f":"IFERROR(VLOOKUP(BE28,MATCHSELEVES!$Y$14:$AE$600,3,FALSE),0)","v":0},{"$f":"IFERROR(VLOOKUP(BE28,MATCHSELEVES!$Y$14:$AE$600,4,FALSE),0)","v":0},{"$f":"IFERROR(VLOOKUP(BE28,MATCHSELEVES!$Y$14:$AE$600,5,FALSE),0)","v":0},{"$f":"IFERROR(VLOOKUP(BE28,MATCHSELEVES!$Y$14:$AF$600,8,FALSE),0)","v":0},{"$f":"IFERROR(VLOOKUP(BE28,MATCHSELEVES!$Y$14:$AG$600,9,FALSE),0)","v":0},"Raphaël_8",{"$f":"IFERROR(VLOOKUP(BK28,MATCHSELEVES!$Y$14:$AE$600,3,FALSE),0)","v":0},{"$f":"IFERROR(VLOOKUP(BK28,MATCHSELEVES!$Y$14:$AE$600,4,FALSE),0)","v":0},{"$f":"IFERROR(VLOOKUP(BK28,MATCHSELEVES!$Y$14:$AE$600,5,FALSE),0)","v":0},{"$f":"IFERROR(VLOOKUP(BK28,MATCHSELEVES!$Y$14:$AF$600,8,FALSE),0)","v":0},{"$f":"IFERROR(VLOOKUP(BK28,MATCHSELEVES!$Y$14:$AG$600,9,FALSE),0)","v":0},"Raphaël_9",{"$f":"IFERROR(VLOOKUP(BQ28,MATCHSELEVES!$Y$14:$AE$600,3,FALSE),0)","v":0},{"$f":"IFERROR(VLOOKUP(BQ28,MATCHSELEVES!$Y$14:$AE$600,4,FALSE),0)","v":0},{"$f":"IFERROR(VLOOKUP(BQ28,MATCHSELEVES!$Y$14:$AE$600,5,FALSE),0)","v":0},{"$f":"IFERROR(VLOOKUP(BQ28,MATCHSELEVES!$Y$14:$AF$600,8,FALSE),0)","v":0},{"$f":"IFERROR(VLOOKUP(BQ28,MATCHSELEVES!$Y$14:$AG$600,9,FALSE),0)","v":0},"Raphaël_10",{"$f":"IFERROR(VLOOKUP(BW28,MATCHSELEVES!$Y$14:$AE$600,3,FALSE),0)","v":0},{"$f":"IFERROR(VLOOKUP(BW28,MATCHSELEVES!$Y$14:$AE$600,4,FALSE),0)","v":0},{"$f":"IFERROR(VLOOKUP(BW28,MATCHSELEVES!$Y$14:$AE$600,5,FALSE),0)","v":0},{"$f":"IFERROR(VLOOKUP(BW28,MATCHSELEVES!$Y$14:$AF$600,8,FALSE),0)","v":0},{"$f":"IFERROR(VLOOKUP(BW28,MATCHSELEVES!$Y$14:$AG$600,9,FALSE),0)","v":0},"Raphaël_11",{"$f":"IFERROR(VLOOKUP(CC28,MATCHSELEVES!$Y$14:$AE$600,3,FALSE),0)","v":0},{"$f":"IFERROR(VLOOKUP(CC28,MATCHSELEVES!$Y$14:$AE$600,4,FALSE),0)","v":0},{"$f":"IFERROR(VLOOKUP(CC28,MATCHSELEVES!$Y$14:$AE$600,5,FALSE),0)","v":0},{"$f":"IFERROR(VLOOKUP(CC28,MATCHSELEVES!$Y$14:$AF$600,8,FALSE),0)","v":0},{"$f":"IFERROR(VLOOKUP(CC28,MATCHSELEVES!$Y$14:$AG$600,9,FALSE),0)","v":0},"Raphaël_12",{"$f":"IFERROR(VLOOKUP(CI28,MATCHSELEVES!$Y$14:$AE$600,3,FALSE),0)","v":0},{"$f":"IFERROR(VLOOKUP(CI28,MATCHSELEVES!$Y$14:$AE$600,4,FALSE),0)","v":0},{"$f":"IFERROR(VLOOKUP(CI28,MATCHSELEVES!$Y$14:$AE$600,5,FALSE),0)","v":0},{"$f":"IFERROR(VLOOKUP(CI28,MATCHSELEVES!$Y$14:$AF$600,8,FALSE),0)","v":0},{"$f":"IFERROR(VLOOKUP(CI28,MATCHSELEVES!$Y$14:$AG$600,9,FALSE),0)","v":0},"Raphaël_13",{"$f":"IFERROR(VLOOKUP(CO28,MATCHSELEVES!$Y$14:$AE$600,3,FALSE),0)","v":0},{"$f":"IFERROR(VLOOKUP(CO28,MATCHSELEVES!$Y$14:$AE$600,4,FALSE),0)","v":0},{"$f":"IFERROR(VLOOKUP(CO28,MATCHSELEVES!$Y$14:$AE$600,5,FALSE),0)","v":0},{"$f":"IFERROR(VLOOKUP(CO28,MATCHSELEVES!$Y$14:$AF$600,8,FALSE),0)","v":0},{"$f":"IFERROR(VLOOKUP(CO28,MATCHSELEVES!$Y$14:$AG$600,9,FALSE),0)","v":0},"Raphaël_14",{"$f":"IFERROR(VLOOKUP(CU28,MATCHSELEVES!$Y$14:$AE$600,3,FALSE),0)","v":0},{"$f":"IFERROR(VLOOKUP(CU28,MATCHSELEVES!$Y$14:$AE$600,4,FALSE),0)","v":0},{"$f":"IFERROR(VLOOKUP(CU28,MATCHSELEVES!$Y$14:$AE$600,5,FALSE),0)","v":0},{"$f":"IFERROR(VLOOKUP(CU28,MATCHSELEVES!$Y$14:$AF$600,8,FALSE),0)","v":0},{"$f":"IFERROR(VLOOKUP(CU28,MATCHSELEVES!$Y$14:$AG$600,9,FALSE),0)","v":0},"Raphaël_15",{"$f":"IFERROR(VLOOKUP(DA28,MATCHSELEVES!$Y$14:$AE$600,3,FALSE),0)","v":0},{"$f":"IFERROR(VLOOKUP(DA28,MATCHSELEVES!$Y$14:$AE$600,4,FALSE),0)","v":0},{"$f":"IFERROR(VLOOKUP(DA28,MATCHSELEVES!$Y$14:$AE$600,5,FALSE),0)","v":0},{"$f":"IFERROR(VLOOKUP(DA28,MATCHSELEVES!$Y$14:$AF$600,8,FALSE),0)","v":0},{"$f":"IFERROR(VLOOKUP(DA28,MATCHSELEVES!$Y$14:$AG$600,9,FALSE),0)","v":0},"Raphaël_16",{"$f":"IFERROR(VLOOKUP(DG28,MATCHSELEVES!$Y$14:$AE$600,3,FALSE),0)","v":0},{"$f":"IFERROR(VLOOKUP(DG28,MATCHSELEVES!$Y$14:$AE$600,4,FALSE),0)","v":0},{"$f":"IFERROR(VLOOKUP(DG28,MATCHSELEVES!$Y$14:$AE$600,5,FALSE),0)","v":0},{"$f":"IFERROR(VLOOKUP(DG28,MATCHSELEVES!$Y$14:$AF$600,8,FALSE),0)","v":0},{"$f":"IFERROR(VLOOKUP(DG28,MATCHSELEVES!$Y$14:$AG$600,9,FALSE),0)","v":0},"Raphaël_17",{"$f":"IFERROR(VLOOKUP(DM28,MATCHSELEVES!$Y$14:$AE$600,3,FALSE),0)","v":0},{"$f":"IFERROR(VLOOKUP(DM28,MATCHSELEVES!$Y$14:$AE$600,4,FALSE),0)","v":0},{"$f":"IFERROR(VLOOKUP(DM28,MATCHSELEVES!$Y$14:$AE$600,5,FALSE),0)","v":0},{"$f":"IFERROR(VLOOKUP(DM28,MATCHSELEVES!$Y$14:$AF$600,8,FALSE),0)","v":0},{"$f":"IFERROR(VLOOKUP(DM28,MATCHSELEVES!$Y$14:$AG$600,9,FALSE),0)","v":0},"Raphaël_18",{"$f":"IFERROR(VLOOKUP(DS28,MATCHSELEVES!$Y$14:$AE$600,3,FALSE),0)","v":0},{"$f":"IFERROR(VLOOKUP(DS28,MATCHSELEVES!$Y$14:$AE$600,4,FALSE),0)","v":0},{"$f":"IFERROR(VLOOKUP(DS28,MATCHSELEVES!$Y$14:$AE$600,5,FALSE),0)","v":0},{"$f":"IFERROR(VLOOKUP(DS28,MATCHSELEVES!$Y$14:$AF$600,8,FALSE),0)","v":0},{"$f":"IFERROR(VLOOKUP(DS28,MATCHSELEVES!$Y$14:$AG$600,9,FALSE),0)","v":0},"Raphaël_19",{"$f":"IFERROR(VLOOKUP(DY28,MATCHSELEVES!$Y$14:$AE$600,3,FALSE),0)","v":0},{"$f":"IFERROR(VLOOKUP(DY28,MATCHSELEVES!$Y$14:$AE$600,4,FALSE),0)","v":0},{"$f":"IFERROR(VLOOKUP(DY28,MATCHSELEVES!$Y$14:$AE$600,5,FALSE),0)","v":0},{"$f":"IFERROR(VLOOKUP(DY28,MATCHSELEVES!$Y$14:$AF$600,8,FALSE),0)","v":0},{"$f":"IFERROR(VLOOKUP(DY28,MATCHSELEVES!$Y$14:$AG$600,9,FALSE),0)","v":0},"Raphaël_20",{"$f":"IFERROR(VLOOKUP(EE28,MATCHSELEVES!$Y$14:$AE$600,3,FALSE),0)","v":0},{"$f":"IFERROR(VLOOKUP(EE28,MATCHSELEVES!$Y$14:$AE$600,4,FALSE),0)","v":0},{"$f":"IFERROR(VLOOKUP(EE28,MATCHSELEVES!$Y$14:$AE$600,5,FALSE),0)","v":0},{"$f":"IFERROR(VLOOKUP(EE28,MATCHSELEVES!$Y$14:$AF$600,8,FALSE),0)","v":0},{"$f":"IFERROR(VLOOKUP(EE28,MATCHSELEVES!$Y$14:$AG$600,9,FALSE),0)","v":0},"Raphaël_21",{"$f":"IFERROR(VLOOKUP(EK28,MATCHSELEVES!$Y$14:$AE$600,3,FALSE),0)","v":0},{"$f":"IFERROR(VLOOKUP(EK28,MATCHSELEVES!$Y$14:$AE$600,4,FALSE),0)","v":0},{"$f":"IFERROR(VLOOKUP(EK28,MATCHSELEVES!$Y$14:$AE$600,5,FALSE),0)","v":0},{"$f":"IFERROR(VLOOKUP(EK28,MATCHSELEVES!$Y$14:$AF$600,8,FALSE),0)","v":0},{"$f":"IFERROR(VLOOKUP(EK28,MATCHSELEVES!$Y$14:$AG$600,9,FALSE),0)","v":0},"Raphaël_22",{"$f":"IFERROR(VLOOKUP(EQ28,MATCHSELEVES!$Y$14:$AE$600,3,FALSE),0)","v":0},{"$f":"IFERROR(VLOOKUP(EQ28,MATCHSELEVES!$Y$14:$AE$600,4,FALSE),0)","v":0},{"$f":"IFERROR(VLOOKUP(EQ28,MATCHSELEVES!$Y$14:$AE$600,5,FALSE),0)","v":0},{"$f":"IFERROR(VLOOKUP(EQ28,MATCHSELEVES!$Y$14:$AF$600,8,FALSE),0)","v":0},{"$f":"IFERROR(VLOOKUP(EQ28,MATCHSELEVES!$Y$14:$AG$600,9,FALSE),0)","v":0},"Raphaël_23",{"$f":"IFERROR(VLOOKUP(EW28,MATCHSELEVES!$Y$14:$AE$600,3,FALSE),0)","v":0},{"$f":"IFERROR(VLOOKUP(EW28,MATCHSELEVES!$Y$14:$AE$600,4,FALSE),0)","v":0},{"$f":"IFERROR(VLOOKUP(EW28,MATCHSELEVES!$Y$14:$AE$600,5,FALSE),0)","v":0},{"$f":"IFERROR(VLOOKUP(EW28,MATCHSELEVES!$Y$14:$AF$600,8,FALSE),0)","v":0},{"$f":"IFERROR(VLOOKUP(EW28,MATCHSELEVES!$Y$14:$AG$600,9,FALSE),0)","v":0},"Raphaël_24",{"$f":"IFERROR(VLOOKUP(FC28,MATCHSELEVES!$Y$14:$AE$600,3,FALSE),0)","v":0},{"$f":"IFERROR(VLOOKUP(FC28,MATCHSELEVES!$Y$14:$AE$600,4,FALSE),0)","v":0},{"$f":"IFERROR(VLOOKUP(FC28,MATCHSELEVES!$Y$14:$AE$600,5,FALSE),0)","v":0},{"$f":"IFERROR(VLOOKUP(FC28,MATCHSELEVES!$Y$14:$AF$600,8,FALSE),0)","v":0},{"$f":"IFERROR(VLOOKUP(FC28,MATCHSELEVES!$Y$14:$AG$600,9,FALSE),0)","v":0},"Raphaël_25",{"$f":"IFERROR(VLOOKUP(FI28,MATCHSELEVES!$Y$14:$AE$600,3,FALSE),0)","v":0},{"$f":"IFERROR(VLOOKUP(FI28,MATCHSELEVES!$Y$14:$AE$600,4,FALSE),0)","v":0},{"$f":"IFERROR(VLOOKUP(FI28,MATCHSELEVES!$Y$14:$AE$600,5,FALSE),0)","v":0},{"$f":"IFERROR(VLOOKUP(FI28,MATCHSELEVES!$Y$14:$AF$600,8,FALSE),0)","v":0},{"$f":"IFERROR(VLOOKUP(FI28,MATCHSELEVES!$Y$14:$AG$600,9,FALSE),0)","v":0},"Raphaël_26",{"$f":"IFERROR(VLOOKUP(FO28,MATCHSELEVES!$Y$14:$AE$600,3,FALSE),0)","v":0},{"$f":"IFERROR(VLOOKUP(FO28,MATCHSELEVES!$Y$14:$AE$600,4,FALSE),0)","v":0},{"$f":"IFERROR(VLOOKUP(FO28,MATCHSELEVES!$Y$14:$AE$600,5,FALSE),0)","v":0},{"$f":"IFERROR(VLOOKUP(FO28,MATCHSELEVES!$Y$14:$AF$600,8,FALSE),0)","v":0},{"$f":"IFERROR(VLOOKUP(FO28,MATCHSELEVES!$Y$14:$AG$600,9,FALSE),0)","v":0},"Raphaël_27",{"$f":"IFERROR(VLOOKUP(FU28,MATCHSELEVES!$Y$14:$AE$600,3,FALSE),0)","v":0},{"$f":"IFERROR(VLOOKUP(FU28,MATCHSELEVES!$Y$14:$AE$600,4,FALSE),0)","v":0},{"$f":"IFERROR(VLOOKUP(FU28,MATCHSELEVES!$Y$14:$AE$600,5,FALSE),0)","v":0},{"$f":"IFERROR(VLOOKUP(FU28,MATCHSELEVES!$Y$14:$AF$600,8,FALSE),0)","v":0},{"$f":"IFERROR(VLOOKUP(FU28,MATCHSELEVES!$Y$14:$AG$600,9,FALSE),0)","v":0},"Raphaël_28",{"$f":"IFERROR(VLOOKUP(GA28,MATCHSELEVES!$Y$14:$AE$600,3,FALSE),0)","v":0},{"$f":"IFERROR(VLOOKUP(GA28,MATCHSELEVES!$Y$14:$AE$600,4,FALSE),0)","v":0},{"$f":"IFERROR(VLOOKUP(GA28,MATCHSELEVES!$Y$14:$AE$600,5,FALSE),0)","v":0},{"$f":"IFERROR(VLOOKUP(GA28,MATCHSELEVES!$Y$14:$AF$600,8,FALSE),0)","v":0},{"$f":"IFERROR(VLOOKUP(GA28,MATCHSELEVES!$Y$14:$AG$600,9,FALSE),0)","v":0},"Raphaël_29",{"$f":"IFERROR(VLOOKUP(GG28,MATCHSELEVES!$Y$14:$AE$600,3,FALSE),0)","v":0},{"$f":"IFERROR(VLOOKUP(GG28,MATCHSELEVES!$Y$14:$AE$600,4,FALSE),0)","v":0},{"$f":"IFERROR(VLOOKUP(GG28,MATCHSELEVES!$Y$14:$AE$600,5,FALSE),0)","v":0},{"$f":"IFERROR(VLOOKUP(GG28,MATCHSELEVES!$Y$14:$AF$600,8,FALSE),0)","v":0},{"$f":"IFERROR(VLOOKUP(GG28,MATCHSELEVES!$Y$14:$AG$600,9,FALSE),0)","v":0},"Raphaël_30",{"$f":"IFERROR(VLOOKUP(GM28,MATCHSELEVES!$Y$14:$AE$600,3,FALSE),0)","v":0},{"$f":"IFERROR(VLOOKUP(GM28,MATCHSELEVES!$Y$14:$AE$600,4,FALSE),0)","v":0},{"$f":"IFERROR(VLOOKUP(GM28,MATCHSELEVES!$Y$14:$AE$600,5,FALSE),0)","v":0},{"$f":"IFERROR(VLOOKUP(GM28,MATCHSELEVES!$Y$14:$AF$600,8,FALSE),0)","v":0},{"$f":"IFERROR(VLOOKUP(GM28,MATCHSELEVES!$Y$14:$AG$600,9,FALSE),0)","v":0},"Raphaël_31",{"$f":"IFERROR(VLOOKUP(GS28,MATCHSELEVES!$Y$14:$AE$600,3,FALSE),0)","v":0},{"$f":"IFERROR(VLOOKUP(GS28,MATCHSELEVES!$Y$14:$AE$600,4,FALSE),0)","v":0},{"$f":"IFERROR(VLOOKUP(GS28,MATCHSELEVES!$Y$14:$AE$600,5,FALSE),0)","v":0},{"$f":"IFERROR(VLOOKUP(GS28,MATCHSELEVES!$Y$14:$AF$600,8,FALSE),0)","v":0},{"$f":"IFERROR(VLOOKUP(GS28,MATCHSELEVES!$Y$14:$AG$600,9,FALSE),0)","v":0},"Raphaël_32",{"$f":"IFERROR(VLOOKUP(GY28,MATCHSELEVES!$Y$14:$AE$600,3,FALSE),0)","v":0},{"$f":"IFERROR(VLOOKUP(GY28,MATCHSELEVES!$Y$14:$AE$600,4,FALSE),0)","v":0},{"$f":"IFERROR(VLOOKUP(GY28,MATCHSELEVES!$Y$14:$AE$600,5,FALSE),0)","v":0},{"$f":"IFERROR(VLOOKUP(GY28,MATCHSELEVES!$Y$14:$AF$600,8,FALSE),0)","v":0},{"$f":"IFERROR(VLOOKUP(GY28,MATCHSELEVES!$Y$14:$AG$600,9,FALSE),0)","v":0},"Raphaël_33",{"$f":"IFERROR(VLOOKUP(HE28,MATCHSELEVES!$Y$14:$AE$600,3,FALSE),0)","v":0},{"$f":"IFERROR(VLOOKUP(HE28,MATCHSELEVES!$Y$14:$AE$600,4,FALSE),0)","v":0},{"$f":"IFERROR(VLOOKUP(HE28,MATCHSELEVES!$Y$14:$AE$600,5,FALSE),0)","v":0},{"$f":"IFERROR(VLOOKUP(HE28,MATCHSELEVES!$Y$14:$AF$600,8,FALSE),0)","v":0},{"$f":"IFERROR(VLOOKUP(HE28,MATCHSELEVES!$Y$14:$AG$600,9,FALSE),0)","v":0},"Raphaël_34",{"$f":"IFERROR(VLOOKUP(HK28,MATCHSELEVES!$Y$14:$AE$600,3,FALSE),0)","v":0},{"$f":"IFERROR(VLOOKUP(HK28,MATCHSELEVES!$Y$14:$AE$600,4,FALSE),0)","v":0},{"$f":"IFERROR(VLOOKUP(HK28,MATCHSELEVES!$Y$14:$AE$600,5,FALSE),0)","v":0},{"$f":"IFERROR(VLOOKUP(HK28,MATCHSELEVES!$Y$14:$AF$600,8,FALSE),0)","v":0},{"$f":"IFERROR(VLOOKUP(HK28,MATCHSELEVES!$Y$14:$AG$600,9,FALSE),0)","v":0},"Raphaël_35",{"$f":"IFERROR(VLOOKUP(HQ28,MATCHSELEVES!$Y$14:$AE$600,3,FALSE),0)","v":0},{"$f":"IFERROR(VLOOKUP(HQ28,MATCHSELEVES!$Y$14:$AE$600,4,FALSE),0)","v":0},{"$f":"IFERROR(VLOOKUP(HQ28,MATCHSELEVES!$Y$14:$AE$600,5,FALSE),0)","v":0},{"$f":"IFERROR(VLOOKUP(HQ28,MATCHSELEVES!$Y$14:$AF$600,8,FALSE),0)","v":0},{"$f":"IFERROR(VLOOKUP(HQ28,MATCHSELEVES!$Y$14:$AG$600,9,FALSE),0)","v":0},"Raphaël_36",{"$f":"IFERROR(VLOOKUP(HW28,MATCHSELEVES!$Y$14:$AE$600,3,FALSE),0)","v":0},{"$f":"IFERROR(VLOOKUP(HW28,MATCHSELEVES!$Y$14:$AE$600,4,FALSE),0)","v":0},{"$f":"IFERROR(VLOOKUP(HW28,MATCHSELEVES!$Y$14:$AE$600,5,FALSE),0)","v":0},{"$f":"IFERROR(VLOOKUP(HW28,MATCHSELEVES!$Y$14:$AF$600,8,FALSE),0)","v":0},{"$f":"IFERROR(VLOOKUP(HW28,MATCHSELEVES!$Y$14:$AG$600,9,FALSE),0)","v":0},"Raphaël_37",{"$f":"IFERROR(VLOOKUP(IC28,MATCHSELEVES!$Y$14:$AE$600,3,FALSE),0)","v":0},{"$f":"IFERROR(VLOOKUP(IC28,MATCHSELEVES!$Y$14:$AE$600,4,FALSE),0)","v":0},{"$f":"IFERROR(VLOOKUP(IC28,MATCHSELEVES!$Y$14:$AE$600,5,FALSE),0)","v":0},{"$f":"IFERROR(VLOOKUP(IC28,MATCHSELEVES!$Y$14:$AF$600,8,FALSE),0)","v":0},{"$f":"IFERROR(VLOOKUP(IC28,MATCHSELEVES!$Y$14:$AG$600,9,FALSE),0)","v":0},"Raphaël_38",{"$f":"IFERROR(VLOOKUP(II28,MATCHSELEVES!$Y$14:$AE$600,3,FALSE),0)","v":0},{"$f":"IFERROR(VLOOKUP(II28,MATCHSELEVES!$Y$14:$AE$600,4,FALSE),0)","v":0},{"$f":"IFERROR(VLOOKUP(II28,MATCHSELEVES!$Y$14:$AE$600,5,FALSE),0)","v":0},{"$f":"IFERROR(VLOOKUP(II28,MATCHSELEVES!$Y$14:$AF$600,8,FALSE),0)","v":0},{"$f":"IFERROR(VLOOKUP(II28,MATCHSELEVES!$Y$14:$AG$600,9,FALSE),0)","v":0},"Raphaël_39",{"$f":"IFERROR(VLOOKUP(IO28,MATCHSELEVES!$Y$14:$AE$600,3,FALSE),0)","v":0},{"$f":"IFERROR(VLOOKUP(IO28,MATCHSELEVES!$Y$14:$AE$600,4,FALSE),0)","v":0},{"$f":"IFERROR(VLOOKUP(IO28,MATCHSELEVES!$Y$14:$AE$600,5,FALSE),0)","v":0},{"$f":"IFERROR(VLOOKUP(IO28,MATCHSELEVES!$Y$14:$AF$600,8,FALSE),0)","v":0},{"$f":"IFERROR(VLOOKUP(IO28,MATCHSELEVES!$Y$14:$AG$600,9,FALSE),0)","v":0},"Raphaël_40",{"$f":"IFERROR(VLOOKUP(IU28,MATCHSELEVES!$Y$14:$AE$600,3,FALSE),0)","v":0},{"$f":"IFERROR(VLOOKUP(IU28,MATCHSELEVES!$Y$14:$AE$600,4,FALSE),0)","v":0},{"$f":"IFERROR(VLOOKUP(IU28,MATCHSELEVES!$Y$14:$AE$600,5,FALSE),0)","v":0},{"$f":"IFERROR(VLOOKUP(IU28,MATCHSELEVES!$Y$14:$AF$600,8,FALSE),0)","v":0},{"$f":"IFERROR(VLOOKUP(IU28,MATCHSELEVES!$Y$14:$AG$600,9,FALSE),0)","v":0},{"$f":"Tableau10[[#This Row],[CLASSE]]","v":"Raphaël"},1,{"$f":"MD1POINT!D28","v":1},"Raphaëlp_1",{"$f":"IFERROR(VLOOKUP(JD28,MATCHSELEVES!$Y$14:$AE$600,3,FALSE),0)","v":0},{"$f":"IFERROR(VLOOKUP(JD28,MATCHSELEVES!$Y$14:$AE$600,4,FALSE),0)","v":0},{"$f":"IFERROR(VLOOKUP(JD28,MATCHSELEVES!$Y$14:$AE$600,5,FALSE),0)","v":0},{"$f":"IFERROR(VLOOKUP(JD28,MATCHSELEVES!$Y$14:$AF$600,8,FALSE),0)","v":0},{"$f":"IFERROR(VLOOKUP(JD28,MATCHSELEVES!$Y$14:$AG$600,9,FALSE),0)","v":0},"Raphaëlp_2",{"$f":"IFERROR(VLOOKUP(JJ28,MATCHSELEVES!$Y$14:$AE$600,3,FALSE),0)","v":0},{"$f":"IFERROR(VLOOKUP(JJ28,MATCHSELEVES!$Y$14:$AE$600,4,FALSE),0)","v":0},{"$f":"IFERROR(VLOOKUP(JJ28,MATCHSELEVES!$Y$14:$AE$600,5,FALSE),0)","v":0},{"$f":"IFERROR(VLOOKUP(JJ28,MATCHSELEVES!$Y$14:$AF$600,8,FALSE),0)","v":0},{"$f":"IFERROR(VLOOKUP(JJ28,MATCHSELEVES!$Y$14:$AG$600,9,FALSE),0)","v":0},"Raphaëlp_3",{"$f":"IFERROR(VLOOKUP(JP28,MATCHSELEVES!$Y$14:$AE$600,3,FALSE),0)","v":0},{"$f":"IFERROR(VLOOKUP(JP28,MATCHSELEVES!$Y$14:$AE$600,4,FALSE),0)","v":0},{"$f":"IFERROR(VLOOKUP(JP28,MATCHSELEVES!$Y$14:$AE$600,5,FALSE),0)","v":0},{"$f":"IFERROR(VLOOKUP(JP28,MATCHSELEVES!$Y$14:$AF$600,8,FALSE),0)","v":0},{"$f":"IFERROR(VLOOKUP(JP28,MATCHSELEVES!$Y$14:$AG$600,9,FALSE),0)","v":0},"Raphaëlp_4",{"$f":"IFERROR(VLOOKUP(JV28,MATCHSELEVES!$Y$14:$AE$600,3,FALSE),0)","v":0},{"$f":"IFERROR(VLOOKUP(JV28,MATCHSELEVES!$Y$14:$AE$600,4,FALSE),0)","v":0},{"$f":"IFERROR(VLOOKUP(JV28,MATCHSELEVES!$Y$14:$AE$600,5,FALSE),0)","v":0},{"$f":"IFERROR(VLOOKUP(JV28,MATCHSELEVES!$Y$14:$AF$600,8,FALSE),0)","v":0},{"$f":"IFERROR(VLOOKUP(JV28,MATCHSELEVES!$Y$14:$AG$600,9,FALSE),0)","v":0},"Raphaëlp_5",{"$f":"IFERROR(VLOOKUP(KB28,MATCHSELEVES!$Y$14:$AE$600,3,FALSE),0)","v":0},{"$f":"IFERROR(VLOOKUP(KB28,MATCHSELEVES!$Y$14:$AE$600,4,FALSE),0)","v":0},{"$f":"IFERROR(VLOOKUP(KB28,MATCHSELEVES!$Y$14:$AE$600,5,FALSE),0)","v":0},{"$f":"IFERROR(VLOOKUP(KB28,MATCHSELEVES!$Y$14:$AF$600,8,FALSE),0)","v":0},{"$f":"IFERROR(VLOOKUP(KB28,MATCHSELEVES!$Y$14:$AG$600,9,FALSE),0)","v":0},"Raphaëlp_6",{"$f":"IFERROR(VLOOKUP(KH28,MATCHSELEVES!$Y$14:$AE$600,3,FALSE),0)","v":0},{"$f":"IFERROR(VLOOKUP(KH28,MATCHSELEVES!$Y$14:$AE$600,4,FALSE),0)","v":0},{"$f":"IFERROR(VLOOKUP(KH28,MATCHSELEVES!$Y$14:$AE$600,5,FALSE),0)","v":0},{"$f":"IFERROR(VLOOKUP(KH28,MATCHSELEVES!$Y$14:$AF$600,8,FALSE),0)","v":0},{"$f":"IFERROR(VLOOKUP(KH28,MATCHSELEVES!$Y$14:$AG$600,9,FALSE),0)","v":0},"Raphaëlp_7",{"$f":"IFERROR(VLOOKUP(KN28,MATCHSELEVES!$Y$14:$AE$600,3,FALSE),0)","v":0},{"$f":"IFERROR(VLOOKUP(KN28,MATCHSELEVES!$Y$14:$AE$600,4,FALSE),0)","v":0},{"$f":"IFERROR(VLOOKUP(KN28,MATCHSELEVES!$Y$14:$AE$600,5,FALSE),0)","v":0},{"$f":"IFERROR(VLOOKUP(KN28,MATCHSELEVES!$Y$14:$AF$600,8,FALSE),0)","v":0},{"$f":"IFERROR(VLOOKUP(KN28,MATCHSELEVES!$Y$14:$AG$600,9,FALSE),0)","v":0},"Raphaëlp_8",{"$f":"IFERROR(VLOOKUP(KT28,MATCHSELEVES!$Y$14:$AE$600,3,FALSE),0)","v":0},{"$f":"IFERROR(VLOOKUP(KT28,MATCHSELEVES!$Y$14:$AE$600,4,FALSE),0)","v":0},{"$f":"IFERROR(VLOOKUP(KT28,MATCHSELEVES!$Y$14:$AE$600,5,FALSE),0)","v":0},{"$f":"IFERROR(VLOOKUP(KT28,MATCHSELEVES!$Y$14:$AF$600,8,FALSE),0)","v":0},{"$f":"IFERROR(VLOOKUP(KT28,MATCHSELEVES!$Y$14:$AG$600,9,FALSE),0)","v":0},"Raphaëlp_9",{"$f":"IFERROR(VLOOKUP(KZ28,MATCHSELEVES!$Y$14:$AE$600,3,FALSE),0)","v":0},{"$f":"IFERROR(VLOOKUP(KZ28,MATCHSELEVES!$Y$14:$AE$600,4,FALSE),0)","v":0},{"$f":"IFERROR(VLOOKUP(KZ28,MATCHSELEVES!$Y$14:$AE$600,5,FALSE),0)","v":0},{"$f":"IFERROR(VLOOKUP(KZ28,MATCHSELEVES!$Y$14:$AF$600,8,FALSE),0)","v":0},{"$f":"IFERROR(VLOOKUP(KZ28,MATCHSELEVES!$Y$14:$AG$600,9,FALSE),0)","v":0},"Raphaëlp_10",{"$f":"IFERROR(VLOOKUP(LF28,MATCHSELEVES!$Y$14:$AE$600,3,FALSE),0)","v":0},{"$f":"IFERROR(VLOOKUP(LF28,MATCHSELEVES!$Y$14:$AE$600,4,FALSE),0)","v":0},{"$f":"IFERROR(VLOOKUP(LF28,MATCHSELEVES!$Y$14:$AE$600,5,FALSE),0)","v":0},{"$f":"IFERROR(VLOOKUP(LF28,MATCHSELEVES!$Y$14:$AF$600,8,FALSE),0)","v":0},{"$f":"IFERROR(VLOOKUP(LF28,MATCHSELEVES!$Y$14:$AG$600,9,FALSE),0)","v":0},"Raphaëlp_11",{"$f":"IFERROR(VLOOKUP(LL28,MATCHSELEVES!$Y$14:$AE$600,3,FALSE),0)","v":0},{"$f":"IFERROR(VLOOKUP(LL28,MATCHSELEVES!$Y$14:$AE$600,4,FALSE),0)","v":0},{"$f":"IFERROR(VLOOKUP(LL28,MATCHSELEVES!$Y$14:$AE$600,5,FALSE),0)","v":0},{"$f":"IFERROR(VLOOKUP(LL28,MATCHSELEVES!$Y$14:$AF$600,8,FALSE),0)","v":0},{"$f":"IFERROR(VLOOKUP(LL28,MATCHSELEVES!$Y$14:$AG$600,9,FALSE),0)","v":0},"Raphaëlp_12",{"$f":"IFERROR(VLOOKUP(LR28,MATCHSELEVES!$Y$14:$AE$600,3,FALSE),0)","v":0},{"$f":"IFERROR(VLOOKUP(LR28,MATCHSELEVES!$Y$14:$AE$600,4,FALSE),0)","v":0},{"$f":"IFERROR(VLOOKUP(LR28,MATCHSELEVES!$Y$14:$AE$600,5,FALSE),0)","v":0},{"$f":"IFERROR(VLOOKUP(LR28,MATCHSELEVES!$Y$14:$AF$600,8,FALSE),0)","v":0},{"$f":"IFERROR(VLOOKUP(LR28,MATCHSELEVES!$Y$14:$AG$600,9,FALSE),0)","v":0},"Raphaëlp_13",{"$f":"IFERROR(VLOOKUP(LX28,MATCHSELEVES!$Y$14:$AE$600,3,FALSE),0)","v":0},{"$f":"IFERROR(VLOOKUP(LX28,MATCHSELEVES!$Y$14:$AE$600,4,FALSE),0)","v":0},{"$f":"IFERROR(VLOOKUP(LX28,MATCHSELEVES!$Y$14:$AE$600,5,FALSE),0)","v":0},{"$f":"IFERROR(VLOOKUP(LX28,MATCHSELEVES!$Y$14:$AF$600,8,FALSE),0)","v":0},{"$f":"IFERROR(VLOOKUP(LX28,MATCHSELEVES!$Y$14:$AG$600,9,FALSE),0)","v":0},"Raphaëlp_14",{"$f":"IFERROR(VLOOKUP(MD28,MATCHSELEVES!$Y$14:$AE$600,3,FALSE),0)","v":0},{"$f":"IFERROR(VLOOKUP(MD28,MATCHSELEVES!$Y$14:$AE$600,4,FALSE),0)","v":0},{"$f":"IFERROR(VLOOKUP(MD28,MATCHSELEVES!$Y$14:$AE$600,5,FALSE),0)","v":0},{"$f":"IFERROR(VLOOKUP(MD28,MATCHSELEVES!$Y$14:$AF$600,8,FALSE),0)","v":0},{"$f":"IFERROR(VLOOKUP(MD28,MATCHSELEVES!$Y$14:$AG$600,9,FALSE),0)","v":0},"Raphaëlp_15",{"$f":"IFERROR(VLOOKUP(MJ28,MATCHSELEVES!$Y$14:$AE$600,3,FALSE),0)","v":0},{"$f":"IFERROR(VLOOKUP(MJ28,MATCHSELEVES!$Y$14:$AE$600,4,FALSE),0)","v":0},{"$f":"IFERROR(VLOOKUP(MJ28,MATCHSELEVES!$Y$14:$AE$600,5,FALSE),0)","v":0},{"$f":"IFERROR(VLOOKUP(MJ28,MATCHSELEVES!$Y$14:$AF$600,8,FALSE),0)","v":0},{"$f":"IFERROR(VLOOKUP(MJ28,MATCHSELEVES!$Y$14:$AG$600,9,FALSE),0)","v":0},"Raphaëlp_16",{"$f":"IFERROR(VLOOKUP(MP28,MATCHSELEVES!$Y$14:$AE$600,3,FALSE),0)","v":0},{"$f":"IFERROR(VLOOKUP(MP28,MATCHSELEVES!$Y$14:$AE$600,4,FALSE),0)","v":0},{"$f":"IFERROR(VLOOKUP(MP28,MATCHSELEVES!$Y$14:$AE$600,5,FALSE),0)","v":0},{"$f":"IFERROR(VLOOKUP(MP28,MATCHSELEVES!$Y$14:$AF$600,8,FALSE),0)","v":0},{"$f":"IFERROR(VLOOKUP(MP28,MATCHSELEVES!$Y$14:$AG$600,9,FALSE),0)","v":0},"Raphaëlp_17",{"$f":"IFERROR(VLOOKUP(MV28,MATCHSELEVES!$Y$14:$AE$600,3,FALSE),0)","v":0},{"$f":"IFERROR(VLOOKUP(MV28,MATCHSELEVES!$Y$14:$AE$600,4,FALSE),0)","v":0},{"$f":"IFERROR(VLOOKUP(MV28,MATCHSELEVES!$Y$14:$AE$600,5,FALSE),0)","v":0},{"$f":"IFERROR(VLOOKUP(MV28,MATCHSELEVES!$Y$14:$AF$600,8,FALSE),0)","v":0},{"$f":"IFERROR(VLOOKUP(MV28,MATCHSELEVES!$Y$14:$AG$600,9,FALSE),0)","v":0},"Raphaëlp_18",{"$f":"IFERROR(VLOOKUP(NB28,MATCHSELEVES!$Y$14:$AE$600,3,FALSE),0)","v":0},{"$f":"IFERROR(VLOOKUP(NB28,MATCHSELEVES!$Y$14:$AE$600,4,FALSE),0)","v":0},{"$f":"IFERROR(VLOOKUP(NB28,MATCHSELEVES!$Y$14:$AE$600,5,FALSE),0)","v":0},{"$f":"IFERROR(VLOOKUP(NB28,MATCHSELEVES!$Y$14:$AF$600,8,FALSE),0)","v":0},{"$f":"IFERROR(VLOOKUP(NB28,MATCHSELEVES!$Y$14:$AG$600,9,FALSE),0)","v":0},"Raphaëlp_19",{"$f":"IFERROR(VLOOKUP(NH28,MATCHSELEVES!$Y$14:$AE$600,3,FALSE),0)","v":0},{"$f":"IFERROR(VLOOKUP(NH28,MATCHSELEVES!$Y$14:$AE$600,4,FALSE),0)","v":0},{"$f":"IFERROR(VLOOKUP(NH28,MATCHSELEVES!$Y$14:$AE$600,5,FALSE),0)","v":0},{"$f":"IFERROR(VLOOKUP(NH28,MATCHSELEVES!$Y$14:$AF$600,8,FALSE),0)","v":0},{"$f":"IFERROR(VLOOKUP(NH28,MATCHSELEVES!$Y$14:$AG$600,9,FALSE),0)","v":0},"Raphaëlp_20",{"$f":"IFERROR(VLOOKUP(NN28,MATCHSELEVES!$Y$14:$AE$600,3,FALSE),0)","v":0},{"$f":"IFERROR(VLOOKUP(NN28,MATCHSELEVES!$Y$14:$AE$600,4,FALSE),0)","v":0},{"$f":"IFERROR(VLOOKUP(NN28,MATCHSELEVES!$Y$14:$AE$600,5,FALSE),0)","v":0},{"$f":"IFERROR(VLOOKUP(NN28,MATCHSELEVES!$Y$14:$AF$600,8,FALSE),0)","v":0},{"$f":"IFERROR(VLOOKUP(NN28,MATCHSELEVES!$Y$14:$AG$600,9,FALSE),0)","v":0},"Raphaëlp_21",{"$f":"IFERROR(VLOOKUP(NT28,MATCHSELEVES!$Y$14:$AE$600,3,FALSE),0)","v":0},{"$f":"IFERROR(VLOOKUP(NT28,MATCHSELEVES!$Y$14:$AE$600,4,FALSE),0)","v":0},{"$f":"IFERROR(VLOOKUP(NT28,MATCHSELEVES!$Y$14:$AE$600,5,FALSE),0)","v":0},{"$f":"IFERROR(VLOOKUP(NT28,MATCHSELEVES!$Y$14:$AF$600,8,FALSE),0)","v":0},{"$f":"IFERROR(VLOOKUP(NT28,MATCHSELEVES!$Y$14:$AG$600,9,FALSE),0)","v":0},"Raphaëlp_22",{"$f":"IFERROR(VLOOKUP(NZ28,MATCHSELEVES!$Y$14:$AE$600,3,FALSE),0)","v":0},{"$f":"IFERROR(VLOOKUP(NZ28,MATCHSELEVES!$Y$14:$AE$600,4,FALSE),0)","v":0},{"$f":"IFERROR(VLOOKUP(NZ28,MATCHSELEVES!$Y$14:$AE$600,5,FALSE),0)","v":0},{"$f":"IFERROR(VLOOKUP(NZ28,MATCHSELEVES!$Y$14:$AF$600,8,FALSE),0)","v":0},{"$f":"IFERROR(VLOOKUP(NZ28,MATCHSELEVES!$Y$14:$AG$600,9,FALSE),0)","v":0},"Raphaëlp_23",{"$f":"IFERROR(VLOOKUP(OF28,MATCHSELEVES!$Y$14:$AE$600,3,FALSE),0)","v":0},{"$f":"IFERROR(VLOOKUP(OF28,MATCHSELEVES!$Y$14:$AE$600,4,FALSE),0)","v":0},{"$f":"IFERROR(VLOOKUP(OF28,MATCHSELEVES!$Y$14:$AE$600,5,FALSE),0)","v":0},{"$f":"IFERROR(VLOOKUP(OF28,MATCHSELEVES!$Y$14:$AF$600,8,FALSE),0)","v":0},{"$f":"IFERROR(VLOOKUP(OF28,MATCHSELEVES!$Y$14:$AG$600,9,FALSE),0)","v":0},"Raphaëlp_24",{"$f":"IFERROR(VLOOKUP(OL28,MATCHSELEVES!$Y$14:$AE$600,3,FALSE),0)","v":0},{"$f":"IFERROR(VLOOKUP(OL28,MATCHSELEVES!$Y$14:$AE$600,4,FALSE),0)","v":0},{"$f":"IFERROR(VLOOKUP(OL28,MATCHSELEVES!$Y$14:$AE$600,5,FALSE),0)","v":0},{"$f":"IFERROR(VLOOKUP(OL28,MATCHSELEVES!$Y$14:$AF$600,8,FALSE),0)","v":0},{"$f":"IFERROR(VLOOKUP(OL28,MATCHSELEVES!$Y$14:$AG$600,9,FALSE),0)","v":0},"Raphaëlp_25",{"$f":"IFERROR(VLOOKUP(OR28,MATCHSELEVES!$Y$14:$AE$600,3,FALSE),0)","v":0},{"$f":"IFERROR(VLOOKUP(OR28,MATCHSELEVES!$Y$14:$AE$600,4,FALSE),0)","v":0},{"$f":"IFERROR(VLOOKUP(OR28,MATCHSELEVES!$Y$14:$AE$600,5,FALSE),0)","v":0},{"$f":"IFERROR(VLOOKUP(OR28,MATCHSELEVES!$Y$14:$AF$600,8,FALSE),0)","v":0},{"$f":"IFERROR(VLOOKUP(OR28,MATCHSELEVES!$Y$14:$AG$600,9,FALSE),0)","v":0},"Raphaëlp_26",{"$f":"IFERROR(VLOOKUP(OX28,MATCHSELEVES!$Y$14:$AE$600,3,FALSE),0)","v":0},{"$f":"IFERROR(VLOOKUP(OX28,MATCHSELEVES!$Y$14:$AE$600,4,FALSE),0)","v":0},{"$f":"IFERROR(VLOOKUP(OX28,MATCHSELEVES!$Y$14:$AE$600,5,FALSE),0)","v":0},{"$f":"IFERROR(VLOOKUP(OX28,MATCHSELEVES!$Y$14:$AF$600,8,FALSE),0)","v":0},{"$f":"IFERROR(VLOOKUP(OX28,MATCHSELEVES!$Y$14:$AG$600,9,FALSE),0)","v":0},"Raphaëlp_27",{"$f":"IFERROR(VLOOKUP(PD28,MATCHSELEVES!$Y$14:$AE$600,3,FALSE),0)","v":0},{"$f":"IFERROR(VLOOKUP(PD28,MATCHSELEVES!$Y$14:$AE$600,4,FALSE),0)","v":0},{"$f":"IFERROR(VLOOKUP(PD28,MATCHSELEVES!$Y$14:$AE$600,5,FALSE),0)","v":0},{"$f":"IFERROR(VLOOKUP(PD28,MATCHSELEVES!$Y$14:$AF$600,8,FALSE),0)","v":0},{"$f":"IFERROR(VLOOKUP(PD28,MATCHSELEVES!$Y$14:$AG$600,9,FALSE),0)","v":0},"Raphaëlp_28",{"$f":"IFERROR(VLOOKUP(PJ28,MATCHSELEVES!$Y$14:$AE$600,3,FALSE),0)","v":0},{"$f":"IFERROR(VLOOKUP(PJ28,MATCHSELEVES!$Y$14:$AE$600,4,FALSE),0)","v":0},{"$f":"IFERROR(VLOOKUP(PJ28,MATCHSELEVES!$Y$14:$AE$600,5,FALSE),0)","v":0},{"$f":"IFERROR(VLOOKUP(PJ28,MATCHSELEVES!$Y$14:$AF$600,8,FALSE),0)","v":0},{"$f":"IFERROR(VLOOKUP(PJ28,MATCHSELEVES!$Y$14:$AG$600,9,FALSE),0)","v":0},"Raphaëlp_29",{"$f":"IFERROR(VLOOKUP(PP28,MATCHSELEVES!$Y$14:$AE$600,3,FALSE),0)","v":0},{"$f":"IFERROR(VLOOKUP(PP28,MATCHSELEVES!$Y$14:$AE$600,4,FALSE),0)","v":0},{"$f":"IFERROR(VLOOKUP(PP28,MATCHSELEVES!$Y$14:$AE$600,5,FALSE),0)","v":0},{"$f":"IFERROR(VLOOKUP(PP28,MATCHSELEVES!$Y$14:$AF$600,8,FALSE),0)","v":0},{"$f":"IFERROR(VLOOKUP(PP28,MATCHSELEVES!$Y$14:$AG$600,9,FALSE),0)","v":0},"Raphaëlp_30",{"$f":"IFERROR(VLOOKUP(PV28,MATCHSELEVES!$Y$14:$AE$600,3,FALSE),0)","v":0},{"$f":"IFERROR(VLOOKUP(PV28,MATCHSELEVES!$Y$14:$AE$600,4,FALSE),0)","v":0},{"$f":"IFERROR(VLOOKUP(PV28,MATCHSELEVES!$Y$14:$AE$600,5,FALSE),0)","v":0},{"$f":"IFERROR(VLOOKUP(PV28,MATCHSELEVES!$Y$14:$AF$600,8,FALSE),0)","v":0},{"$f":"IFERROR(VLOOKUP(PV28,MATCHSELEVES!$Y$14:$AG$600,9,FALSE),0)","v":0},"Raphaëlp_31",{"$f":"IFERROR(VLOOKUP(QB28,MATCHSELEVES!$Y$14:$AE$600,3,FALSE),0)","v":0},{"$f":"IFERROR(VLOOKUP(QB28,MATCHSELEVES!$Y$14:$AE$600,4,FALSE),0)","v":0},{"$f":"IFERROR(VLOOKUP(QB28,MATCHSELEVES!$Y$14:$AE$600,5,FALSE),0)","v":0},{"$f":"IFERROR(VLOOKUP(QB28,MATCHSELEVES!$Y$14:$AF$600,8,FALSE),0)","v":0},{"$f":"IFERROR(VLOOKUP(QB28,MATCHSELEVES!$Y$14:$AG$600,9,FALSE),0)","v":0},"Raphaëlp_32",{"$f":"IFERROR(VLOOKUP(QH28,MATCHSELEVES!$Y$14:$AE$600,3,FALSE),0)","v":0},{"$f":"IFERROR(VLOOKUP(QH28,MATCHSELEVES!$Y$14:$AE$600,4,FALSE),0)","v":0},{"$f":"IFERROR(VLOOKUP(QH28,MATCHSELEVES!$Y$14:$AE$600,5,FALSE),0)","v":0},{"$f":"IFERROR(VLOOKUP(QH28,MATCHSELEVES!$Y$14:$AF$600,8,FALSE),0)","v":0},{"$f":"IFERROR(VLOOKUP(QH28,MATCHSELEVES!$Y$14:$AG$600,9,FALSE),0)","v":0},"Raphaëlp_33",{"$f":"IFERROR(VLOOKUP(QN28,MATCHSELEVES!$Y$14:$AE$600,3,FALSE),0)","v":0},{"$f":"IFERROR(VLOOKUP(QN28,MATCHSELEVES!$Y$14:$AE$600,4,FALSE),0)","v":0},{"$f":"IFERROR(VLOOKUP(QN28,MATCHSELEVES!$Y$14:$AE$600,5,FALSE),0)","v":0},{"$f":"IFERROR(VLOOKUP(QN28,MATCHSELEVES!$Y$14:$AF$600,8,FALSE),0)","v":0},{"$f":"IFERROR(VLOOKUP(QN28,MATCHSELEVES!$Y$14:$AG$600,9,FALSE),0)","v":0},"Raphaëlp_34",{"$f":"IFERROR(VLOOKUP(QT28,MATCHSELEVES!$Y$14:$AE$600,3,FALSE),0)","v":0},{"$f":"IFERROR(VLOOKUP(QT28,MATCHSELEVES!$Y$14:$AE$600,4,FALSE),0)","v":0},{"$f":"IFERROR(VLOOKUP(QT28,MATCHSELEVES!$Y$14:$AE$600,5,FALSE),0)","v":0},{"$f":"IFERROR(VLOOKUP(QT28,MATCHSELEVES!$Y$14:$AF$600,8,FALSE),0)","v":0},{"$f":"IFERROR(VLOOKUP(QT28,MATCHSELEVES!$Y$14:$AG$600,9,FALSE),0)","v":0},"Raphaëlp_35",{"$f":"IFERROR(VLOOKUP(QZ28,MATCHSELEVES!$Y$14:$AE$600,3,FALSE),0)","v":0},{"$f":"IFERROR(VLOOKUP(QZ28,MATCHSELEVES!$Y$14:$AE$600,4,FALSE),0)","v":0},{"$f":"IFERROR(VLOOKUP(QZ28,MATCHSELEVES!$Y$14:$AE$600,5,FALSE),0)","v":0},{"$f":"IFERROR(VLOOKUP(QZ28,MATCHSELEVES!$Y$14:$AF$600,8,FALSE),0)","v":0},{"$f":"IFERROR(VLOOKUP(QZ28,MATCHSELEVES!$Y$14:$AG$600,9,FALSE),0)","v":0},"Raphaëlp_36",{"$f":"IFERROR(VLOOKUP(RF28,MATCHSELEVES!$Y$14:$AE$600,3,FALSE),0)","v":0},{"$f":"IFERROR(VLOOKUP(RF28,MATCHSELEVES!$Y$14:$AE$600,4,FALSE),0)","v":0},{"$f":"IFERROR(VLOOKUP(RF28,MATCHSELEVES!$Y$14:$AE$600,5,FALSE),0)","v":0},{"$f":"IFERROR(VLOOKUP(RF28,MATCHSELEVES!$Y$14:$AF$600,8,FALSE),0)","v":0},{"$f":"IFERROR(VLOOKUP(RF28,MATCHSELEVES!$Y$14:$AG$600,9,FALSE),0)","v":0},"Raphaëlp_37",{"$f":"IFERROR(VLOOKUP(RL28,MATCHSELEVES!$Y$14:$AE$600,3,FALSE),0)","v":0},{"$f":"IFERROR(VLOOKUP(RL28,MATCHSELEVES!$Y$14:$AE$600,4,FALSE),0)","v":0},{"$f":"IFERROR(VLOOKUP(RL28,MATCHSELEVES!$Y$14:$AE$600,5,FALSE),0)","v":0},{"$f":"IFERROR(VLOOKUP(RL28,MATCHSELEVES!$Y$14:$AF$600,8,FALSE),0)","v":0},{"$f":"IFERROR(VLOOKUP(RL28,MATCHSELEVES!$Y$14:$AG$600,9,FALSE),0)","v":0},"Raphaëlp_38",{"$f":"IFERROR(VLOOKUP(RR28,MATCHSELEVES!$Y$14:$AE$600,3,FALSE),0)","v":0},{"$f":"IFERROR(VLOOKUP(RR28,MATCHSELEVES!$Y$14:$AE$600,4,FALSE),0)","v":0},{"$f":"IFERROR(VLOOKUP(RR28,MATCHSELEVES!$Y$14:$AE$600,5,FALSE),0)","v":0},{"$f":"IFERROR(VLOOKUP(RR28,MATCHSELEVES!$Y$14:$AF$600,8,FALSE),0)","v":0},{"$f":"IFERROR(VLOOKUP(RR28,MATCHSELEVES!$Y$14:$AG$600,9,FALSE),0)","v":0},"Raphaëlp_39",{"$f":"IFERROR(VLOOKUP(RX28,MATCHSELEVES!$Y$14:$AE$600,3,FALSE),0)","v":0},{"$f":"IFERROR(VLOOKUP(RX28,MATCHSELEVES!$Y$14:$AE$600,4,FALSE),0)","v":0},{"$f":"IFERROR(VLOOKUP(RX28,MATCHSELEVES!$Y$14:$AE$600,5,FALSE),0)","v":0},{"$f":"IFERROR(VLOOKUP(RX28,MATCHSELEVES!$Y$14:$AF$600,8,FALSE),0)","v":0},{"$f":"IFERROR(VLOOKUP(RX28,MATCHSELEVES!$Y$14:$AG$600,9,FALSE),0)","v":0},"Raphaëlp_40",{"$f":"IFERROR(VLOOKUP(SD28,MATCHSELEVES!$Y$14:$AE$600,3,FALSE),0)","v":0},{"$f":"IFERROR(VLOOKUP(SD28,MATCHSELEVES!$Y$14:$AE$600,4,FALSE),0)","v":0},{"$f":"IFERROR(VLOOKUP(SD28,MATCHSELEVES!$Y$14:$AE$600,5,FALSE),0)","v":0},{"$f":"IFERROR(VLOOKUP(SD28,MATCHSELEVES!$Y$14:$AF$600,8,FALSE),0)","v":0},{"$f":"IFERROR(VLOOKUP(SD28,MATCHSELEVES!$Y$14:$AG$600,9,FALSE),0)","v":0}]
[26,null,{"$f":"MD1POINT!C29","v":"Richmond"},{"$f":"MD1POINT!D29","v":1},{"$f":"COUNTIF(MATCHSELEVES!$Z$14:$Z$600,C29)+COUNTIF(MATCHSELEVES!$Z$14:$Z$600,$C29&\"p\")","v":0},1,{"$f":"COUNTIF(MATCHSELEVES!$F$14:$H$249,C29)","v":0},1,0,1,0,1,0,1,{"$f":"Y29+AE29+AK29+AQ29+AW29+BC29+BI29+BO29+BU29+CA29+CG29+CM29+CS29+CY29+DE29+DK29+DQ29+DW29+EC29+EI29+EO29+EU29+FA29+FG29+FM29+FS29+FY29+GE29+GK29+GQ29+GW29+4+HI29+HO29+HU29+IA29+HC29+IG29+IM29+IY29+IS29+JH29+JN29+JZ29+JT29+KF29+KR29+KX29+LJ29+LP29+LV29+LD29+MB29+MH29+MN29+MZ29+MT29+NF29+NL29+NR29+NX29+OD29+OJ29+OP29+OV29+PB29+PH29+PT29+PN29+PZ29+QF29+QL29+QR29+RD29+QX29+RJ29+RP29+RV29+SB29+SH29+KL29+Tableau10[[#This Row],[Nombre de matchs joués]]*2","v":4},1,{"$f":"(Tableau10[[#This Row],[CLASSEMENT1]]+Tableau10[[#This Row],[CLASSEMENT2]]+Tableau10[[#This Row],[CLASSEMENT3]]+Tableau10[[#This Row],[CLASSEMENT4]]+Tableau10[[#This Row],[CLASSEMENT5]]+Tableau10[[#This Row],[CLASSEMENT6]])/6","v":1},{"$f":"RANK(Tableau10[[#This Row],[MOYENNE CLASSEMENTS]],Tableau10[MOYENNE CLASSEMENTS],1)","v":1},null,{"$f":"Tableau10[[#This Row],[CLASSEMENT1]]","v":1},"Richmond_1",{"$f":"IFERROR(VLOOKUP(U29,MATCHSELEVES!$Y$14:$AE$600,3,FALSE),0)","v":0},{"$f":"IFERROR(VLOOKUP(U29,MATCHSELEVES!$Y$14:$AE$600,4,FALSE),0)","v":0},{"$f":"IFERROR(VLOOKUP(U29,MATCHSELEVES!$Y$14:$AE$600,5,FALSE),0)","v":0},{"$f":"IFERROR(VLOOKUP(U29,MATCHSELEVES!$Y$14:$AF$600,8,FALSE),0)","v":0},{"$f":"IFERROR(VLOOKUP(U29,MATCHSELEVES!$Y$14:$AG$600,9,FALSE),0)","v":0},"Richmond_2",{"$f":"IFERROR(VLOOKUP(AA29,MATCHSELEVES!$Y$14:$AE$600,3,FALSE),0)","v":0},{"$f":"IFERROR(VLOOKUP(AA29,MATCHSELEVES!$Y$14:$AE$600,4,FALSE),0)","v":0},{"$f":"IFERROR(VLOOKUP(AA29,MATCHSELEVES!$Y$14:$AE$600,5,FALSE),0)","v":0},{"$f":"IFERROR(VLOOKUP(AA29,MATCHSELEVES!$Y$14:$AF$600,8,FALSE),0)","v":0},{"$f":"IFERROR(VLOOKUP(AA29,MATCHSELEVES!$Y$14:$AG$600,9,FALSE),0)","v":0},"Richmond_3",{"$f":"IFERROR(VLOOKUP(AG29,MATCHSELEVES!$Y$14:$AE$600,3,FALSE),0)","v":0},{"$f":"IFERROR(VLOOKUP(AG29,MATCHSELEVES!$Y$14:$AE$600,4,FALSE),0)","v":0},{"$f":"IFERROR(VLOOKUP(AG29,MATCHSELEVES!$Y$14:$AE$600,5,FALSE),0)","v":0},{"$f":"IFERROR(VLOOKUP(AG29,MATCHSELEVES!$Y$14:$AF$600,8,FALSE),0)","v":0},{"$f":"IFERROR(VLOOKUP(AG29,MATCHSELEVES!$Y$14:$AG$600,9,FALSE),0)","v":0},"Richmond_4",{"$f":"IFERROR(VLOOKUP(AM29,MATCHSELEVES!$Y$14:$AE$600,3,FALSE),0)","v":0},{"$f":"IFERROR(VLOOKUP(AM29,MATCHSELEVES!$Y$14:$AE$600,4,FALSE),0)","v":0},{"$f":"IFERROR(VLOOKUP(AM29,MATCHSELEVES!$Y$14:$AE$600,5,FALSE),0)","v":0},{"$f":"IFERROR(VLOOKUP(AM29,MATCHSELEVES!$Y$14:$AF$600,8,FALSE),0)","v":0},{"$f":"IFERROR(VLOOKUP(AM29,MATCHSELEVES!$Y$14:$AG$600,9,FALSE),0)","v":0},"Richmond_5",{"$f":"IFERROR(VLOOKUP(AS29,MATCHSELEVES!$Y$14:$AE$600,3,FALSE),0)","v":0},{"$f":"IFERROR(VLOOKUP(AS29,MATCHSELEVES!$Y$14:$AE$600,4,FALSE),0)","v":0},{"$f":"IFERROR(VLOOKUP(AS29,MATCHSELEVES!$Y$14:$AE$600,5,FALSE),0)","v":0},{"$f":"IFERROR(VLOOKUP(AS29,MATCHSELEVES!$Y$14:$AF$600,8,FALSE),0)","v":0},{"$f":"IFERROR(VLOOKUP(AS29,MATCHSELEVES!$Y$14:$AG$600,9,FALSE),0)","v":0},"Richmond_6",{"$f":"IFERROR(VLOOKUP(AY29,MATCHSELEVES!$Y$14:$AE$600,3,FALSE),0)","v":0},{"$f":"IFERROR(VLOOKUP(AY29,MATCHSELEVES!$Y$14:$AE$600,4,FALSE),0)","v":0},{"$f":"IFERROR(VLOOKUP(AY29,MATCHSELEVES!$Y$14:$AE$600,5,FALSE),0)","v":0},{"$f":"IFERROR(VLOOKUP(AY29,MATCHSELEVES!$Y$14:$AF$600,8,FALSE),0)","v":0},{"$f":"IFERROR(VLOOKUP(AY29,MATCHSELEVES!$Y$14:$AG$600,9,FALSE),0)","v":0},"Richmond_7",{"$f":"IFERROR(VLOOKUP(BE29,MATCHSELEVES!$Y$14:$AE$600,3,FALSE),0)","v":0},{"$f":"IFERROR(VLOOKUP(BE29,MATCHSELEVES!$Y$14:$AE$600,4,FALSE),0)","v":0},{"$f":"IFERROR(VLOOKUP(BE29,MATCHSELEVES!$Y$14:$AE$600,5,FALSE),0)","v":0},{"$f":"IFERROR(VLOOKUP(BE29,MATCHSELEVES!$Y$14:$AF$600,8,FALSE),0)","v":0},{"$f":"IFERROR(VLOOKUP(BE29,MATCHSELEVES!$Y$14:$AG$600,9,FALSE),0)","v":0},"Richmond_8",{"$f":"IFERROR(VLOOKUP(BK29,MATCHSELEVES!$Y$14:$AE$600,3,FALSE),0)","v":0},{"$f":"IFERROR(VLOOKUP(BK29,MATCHSELEVES!$Y$14:$AE$600,4,FALSE),0)","v":0},{"$f":"IFERROR(VLOOKUP(BK29,MATCHSELEVES!$Y$14:$AE$600,5,FALSE),0)","v":0},{"$f":"IFERROR(VLOOKUP(BK29,MATCHSELEVES!$Y$14:$AF$600,8,FALSE),0)","v":0},{"$f":"IFERROR(VLOOKUP(BK29,MATCHSELEVES!$Y$14:$AG$600,9,FALSE),0)","v":0},"Richmond_9",{"$f":"IFERROR(VLOOKUP(BQ29,MATCHSELEVES!$Y$14:$AE$600,3,FALSE),0)","v":0},{"$f":"IFERROR(VLOOKUP(BQ29,MATCHSELEVES!$Y$14:$AE$600,4,FALSE),0)","v":0},{"$f":"IFERROR(VLOOKUP(BQ29,MATCHSELEVES!$Y$14:$AE$600,5,FALSE),0)","v":0},{"$f":"IFERROR(VLOOKUP(BQ29,MATCHSELEVES!$Y$14:$AF$600,8,FALSE),0)","v":0},{"$f":"IFERROR(VLOOKUP(BQ29,MATCHSELEVES!$Y$14:$AG$600,9,FALSE),0)","v":0},"Richmond_10",{"$f":"IFERROR(VLOOKUP(BW29,MATCHSELEVES!$Y$14:$AE$600,3,FALSE),0)","v":0},{"$f":"IFERROR(VLOOKUP(BW29,MATCHSELEVES!$Y$14:$AE$600,4,FALSE),0)","v":0},{"$f":"IFERROR(VLOOKUP(BW29,MATCHSELEVES!$Y$14:$AE$600,5,FALSE),0)","v":0},{"$f":"IFERROR(VLOOKUP(BW29,MATCHSELEVES!$Y$14:$AF$600,8,FALSE),0)","v":0},{"$f":"IFERROR(VLOOKUP(BW29,MATCHSELEVES!$Y$14:$AG$600,9,FALSE),0)","v":0},"Richmond_11",{"$f":"IFERROR(VLOOKUP(CC29,MATCHSELEVES!$Y$14:$AE$600,3,FALSE),0)","v":0},{"$f":"IFERROR(VLOOKUP(CC29,MATCHSELEVES!$Y$14:$AE$600,4,FALSE),0)","v":0},{"$f":"IFERROR(VLOOKUP(CC29,MATCHSELEVES!$Y$14:$AE$600,5,FALSE),0)","v":0},{"$f":"IFERROR(VLOOKUP(CC29,MATCHSELEVES!$Y$14:$AF$600,8,FALSE),0)","v":0},{"$f":"IFERROR(VLOOKUP(CC29,MATCHSELEVES!$Y$14:$AG$600,9,FALSE),0)","v":0},"Richmond_12",{"$f":"IFERROR(VLOOKUP(CI29,MATCHSELEVES!$Y$14:$AE$600,3,FALSE),0)","v":0},{"$f":"IFERROR(VLOOKUP(CI29,MATCHSELEVES!$Y$14:$AE$600,4,FALSE),0)","v":0},{"$f":"IFERROR(VLOOKUP(CI29,MATCHSELEVES!$Y$14:$AE$600,5,FALSE),0)","v":0},{"$f":"IFERROR(VLOOKUP(CI29,MATCHSELEVES!$Y$14:$AF$600,8,FALSE),0)","v":0},{"$f":"IFERROR(VLOOKUP(CI29,MATCHSELEVES!$Y$14:$AG$600,9,FALSE),0)","v":0},"Richmond_13",{"$f":"IFERROR(VLOOKUP(CO29,MATCHSELEVES!$Y$14:$AE$600,3,FALSE),0)","v":0},{"$f":"IFERROR(VLOOKUP(CO29,MATCHSELEVES!$Y$14:$AE$600,4,FALSE),0)","v":0},{"$f":"IFERROR(VLOOKUP(CO29,MATCHSELEVES!$Y$14:$AE$600,5,FALSE),0)","v":0},{"$f":"IFERROR(VLOOKUP(CO29,MATCHSELEVES!$Y$14:$AF$600,8,FALSE),0)","v":0},{"$f":"IFERROR(VLOOKUP(CO29,MATCHSELEVES!$Y$14:$AG$600,9,FALSE),0)","v":0},"Richmond_14",{"$f":"IFERROR(VLOOKUP(CU29,MATCHSELEVES!$Y$14:$AE$600,3,FALSE),0)","v":0},{"$f":"IFERROR(VLOOKUP(CU29,MATCHSELEVES!$Y$14:$AE$600,4,FALSE),0)","v":0},{"$f":"IFERROR(VLOOKUP(CU29,MATCHSELEVES!$Y$14:$AE$600,5,FALSE),0)","v":0},{"$f":"IFERROR(VLOOKUP(CU29,MATCHSELEVES!$Y$14:$AF$600,8,FALSE),0)","v":0},{"$f":"IFERROR(VLOOKUP(CU29,MATCHSELEVES!$Y$14:$AG$600,9,FALSE),0)","v":0},"Richmond_15",{"$f":"IFERROR(VLOOKUP(DA29,MATCHSELEVES!$Y$14:$AE$600,3,FALSE),0)","v":0},{"$f":"IFERROR(VLOOKUP(DA29,MATCHSELEVES!$Y$14:$AE$600,4,FALSE),0)","v":0},{"$f":"IFERROR(VLOOKUP(DA29,MATCHSELEVES!$Y$14:$AE$600,5,FALSE),0)","v":0},{"$f":"IFERROR(VLOOKUP(DA29,MATCHSELEVES!$Y$14:$AF$600,8,FALSE),0)","v":0},{"$f":"IFERROR(VLOOKUP(DA29,MATCHSELEVES!$Y$14:$AG$600,9,FALSE),0)","v":0},"Richmond_16",{"$f":"IFERROR(VLOOKUP(DG29,MATCHSELEVES!$Y$14:$AE$600,3,FALSE),0)","v":0},{"$f":"IFERROR(VLOOKUP(DG29,MATCHSELEVES!$Y$14:$AE$600,4,FALSE),0)","v":0},{"$f":"IFERROR(VLOOKUP(DG29,MATCHSELEVES!$Y$14:$AE$600,5,FALSE),0)","v":0},{"$f":"IFERROR(VLOOKUP(DG29,MATCHSELEVES!$Y$14:$AF$600,8,FALSE),0)","v":0},{"$f":"IFERROR(VLOOKUP(DG29,MATCHSELEVES!$Y$14:$AG$600,9,FALSE),0)","v":0},"Richmond_17",{"$f":"IFERROR(VLOOKUP(DM29,MATCHSELEVES!$Y$14:$AE$600,3,FALSE),0)","v":0},{"$f":"IFERROR(VLOOKUP(DM29,MATCHSELEVES!$Y$14:$AE$600,4,FALSE),0)","v":0},{"$f":"IFERROR(VLOOKUP(DM29,MATCHSELEVES!$Y$14:$AE$600,5,FALSE),0)","v":0},{"$f":"IFERROR(VLOOKUP(DM29,MATCHSELEVES!$Y$14:$AF$600,8,FALSE),0)","v":0},{"$f":"IFERROR(VLOOKUP(DM29,MATCHSELEVES!$Y$14:$AG$600,9,FALSE),0)","v":0},"Richmond_18",{"$f":"IFERROR(VLOOKUP(DS29,MATCHSELEVES!$Y$14:$AE$600,3,FALSE),0)","v":0},{"$f":"IFERROR(VLOOKUP(DS29,MATCHSELEVES!$Y$14:$AE$600,4,FALSE),0)","v":0},{"$f":"IFERROR(VLOOKUP(DS29,MATCHSELEVES!$Y$14:$AE$600,5,FALSE),0)","v":0},{"$f":"IFERROR(VLOOKUP(DS29,MATCHSELEVES!$Y$14:$AF$600,8,FALSE),0)","v":0},{"$f":"IFERROR(VLOOKUP(DS29,MATCHSELEVES!$Y$14:$AG$600,9,FALSE),0)","v":0},"Richmond_19",{"$f":"IFERROR(VLOOKUP(DY29,MATCHSELEVES!$Y$14:$AE$600,3,FALSE),0)","v":0},{"$f":"IFERROR(VLOOKUP(DY29,MATCHSELEVES!$Y$14:$AE$600,4,FALSE),0)","v":0},{"$f":"IFERROR(VLOOKUP(DY29,MATCHSELEVES!$Y$14:$AE$600,5,FALSE),0)","v":0},{"$f":"IFERROR(VLOOKUP(DY29,MATCHSELEVES!$Y$14:$AF$600,8,FALSE),0)","v":0},{"$f":"IFERROR(VLOOKUP(DY29,MATCHSELEVES!$Y$14:$AG$600,9,FALSE),0)","v":0},"Richmond_20",{"$f":"IFERROR(VLOOKUP(EE29,MATCHSELEVES!$Y$14:$AE$600,3,FALSE),0)","v":0},{"$f":"IFERROR(VLOOKUP(EE29,MATCHSELEVES!$Y$14:$AE$600,4,FALSE),0)","v":0},{"$f":"IFERROR(VLOOKUP(EE29,MATCHSELEVES!$Y$14:$AE$600,5,FALSE),0)","v":0},{"$f":"IFERROR(VLOOKUP(EE29,MATCHSELEVES!$Y$14:$AF$600,8,FALSE),0)","v":0},{"$f":"IFERROR(VLOOKUP(EE29,MATCHSELEVES!$Y$14:$AG$600,9,FALSE),0)","v":0},"Richmond_21",{"$f":"IFERROR(VLOOKUP(EK29,MATCHSELEVES!$Y$14:$AE$600,3,FALSE),0)","v":0},{"$f":"IFERROR(VLOOKUP(EK29,MATCHSELEVES!$Y$14:$AE$600,4,FALSE),0)","v":0},{"$f":"IFERROR(VLOOKUP(EK29,MATCHSELEVES!$Y$14:$AE$600,5,FALSE),0)","v":0},{"$f":"IFERROR(VLOOKUP(EK29,MATCHSELEVES!$Y$14:$AF$600,8,FALSE),0)","v":0},{"$f":"IFERROR(VLOOKUP(EK29,MATCHSELEVES!$Y$14:$AG$600,9,FALSE),0)","v":0},"Richmond_22",{"$f":"IFERROR(VLOOKUP(EQ29,MATCHSELEVES!$Y$14:$AE$600,3,FALSE),0)","v":0},{"$f":"IFERROR(VLOOKUP(EQ29,MATCHSELEVES!$Y$14:$AE$600,4,FALSE),0)","v":0},{"$f":"IFERROR(VLOOKUP(EQ29,MATCHSELEVES!$Y$14:$AE$600,5,FALSE),0)","v":0},{"$f":"IFERROR(VLOOKUP(EQ29,MATCHSELEVES!$Y$14:$AF$600,8,FALSE),0)","v":0},{"$f":"IFERROR(VLOOKUP(EQ29,MATCHSELEVES!$Y$14:$AG$600,9,FALSE),0)","v":0},"Richmond_23",{"$f":"IFERROR(VLOOKUP(EW29,MATCHSELEVES!$Y$14:$AE$600,3,FALSE),0)","v":0},{"$f":"IFERROR(VLOOKUP(EW29,MATCHSELEVES!$Y$14:$AE$600,4,FALSE),0)","v":0},{"$f":"IFERROR(VLOOKUP(EW29,MATCHSELEVES!$Y$14:$AE$600,5,FALSE),0)","v":0},{"$f":"IFERROR(VLOOKUP(EW29,MATCHSELEVES!$Y$14:$AF$600,8,FALSE),0)","v":0},{"$f":"IFERROR(VLOOKUP(EW29,MATCHSELEVES!$Y$14:$AG$600,9,FALSE),0)","v":0},"Richmond_24",{"$f":"IFERROR(VLOOKUP(FC29,MATCHSELEVES!$Y$14:$AE$600,3,FALSE),0)","v":0},{"$f":"IFERROR(VLOOKUP(FC29,MATCHSELEVES!$Y$14:$AE$600,4,FALSE),0)","v":0},{"$f":"IFERROR(VLOOKUP(FC29,MATCHSELEVES!$Y$14:$AE$600,5,FALSE),0)","v":0},{"$f":"IFERROR(VLOOKUP(FC29,MATCHSELEVES!$Y$14:$AF$600,8,FALSE),0)","v":0},{"$f":"IFERROR(VLOOKUP(FC29,MATCHSELEVES!$Y$14:$AG$600,9,FALSE),0)","v":0},"Richmond_25",{"$f":"IFERROR(VLOOKUP(FI29,MATCHSELEVES!$Y$14:$AE$600,3,FALSE),0)","v":0},{"$f":"IFERROR(VLOOKUP(FI29,MATCHSELEVES!$Y$14:$AE$600,4,FALSE),0)","v":0},{"$f":"IFERROR(VLOOKUP(FI29,MATCHSELEVES!$Y$14:$AE$600,5,FALSE),0)","v":0},{"$f":"IFERROR(VLOOKUP(FI29,MATCHSELEVES!$Y$14:$AF$600,8,FALSE),0)","v":0},{"$f":"IFERROR(VLOOKUP(FI29,MATCHSELEVES!$Y$14:$AG$600,9,FALSE),0)","v":0},"Richmond_26",{"$f":"IFERROR(VLOOKUP(FO29,MATCHSELEVES!$Y$14:$AE$600,3,FALSE),0)","v":0},{"$f":"IFERROR(VLOOKUP(FO29,MATCHSELEVES!$Y$14:$AE$600,4,FALSE),0)","v":0},{"$f":"IFERROR(VLOOKUP(FO29,MATCHSELEVES!$Y$14:$AE$600,5,FALSE),0)","v":0},{"$f":"IFERROR(VLOOKUP(FO29,MATCHSELEVES!$Y$14:$AF$600,8,FALSE),0)","v":0},{"$f":"IFERROR(VLOOKUP(FO29,MATCHSELEVES!$Y$14:$AG$600,9,FALSE),0)","v":0},"Richmond_27",{"$f":"IFERROR(VLOOKUP(FU29,MATCHSELEVES!$Y$14:$AE$600,3,FALSE),0)","v":0},{"$f":"IFERROR(VLOOKUP(FU29,MATCHSELEVES!$Y$14:$AE$600,4,FALSE),0)","v":0},{"$f":"IFERROR(VLOOKUP(FU29,MATCHSELEVES!$Y$14:$AE$600,5,FALSE),0)","v":0},{"$f":"IFERROR(VLOOKUP(FU29,MATCHSELEVES!$Y$14:$AF$600,8,FALSE),0)","v":0},{"$f":"IFERROR(VLOOKUP(FU29,MATCHSELEVES!$Y$14:$AG$600,9,FALSE),0)","v":0},"Richmond_28",{"$f":"IFERROR(VLOOKUP(GA29,MATCHSELEVES!$Y$14:$AE$600,3,FALSE),0)","v":0},{"$f":"IFERROR(VLOOKUP(GA29,MATCHSELEVES!$Y$14:$AE$600,4,FALSE),0)","v":0},{"$f":"IFERROR(VLOOKUP(GA29,MATCHSELEVES!$Y$14:$AE$600,5,FALSE),0)","v":0},{"$f":"IFERROR(VLOOKUP(GA29,MATCHSELEVES!$Y$14:$AF$600,8,FALSE),0)","v":0},{"$f":"IFERROR(VLOOKUP(GA29,MATCHSELEVES!$Y$14:$AG$600,9,FALSE),0)","v":0},"Richmond_29",{"$f":"IFERROR(VLOOKUP(GG29,MATCHSELEVES!$Y$14:$AE$600,3,FALSE),0)","v":0},{"$f":"IFERROR(VLOOKUP(GG29,MATCHSELEVES!$Y$14:$AE$600,4,FALSE),0)","v":0},{"$f":"IFERROR(VLOOKUP(GG29,MATCHSELEVES!$Y$14:$AE$600,5,FALSE),0)","v":0},{"$f":"IFERROR(VLOOKUP(GG29,MATCHSELEVES!$Y$14:$AF$600,8,FALSE),0)","v":0},{"$f":"IFERROR(VLOOKUP(GG29,MATCHSELEVES!$Y$14:$AG$600,9,FALSE),0)","v":0},"Richmond_30",{"$f":"IFERROR(VLOOKUP(GM29,MATCHSELEVES!$Y$14:$AE$600,3,FALSE),0)","v":0},{"$f":"IFERROR(VLOOKUP(GM29,MATCHSELEVES!$Y$14:$AE$600,4,FALSE),0)","v":0},{"$f":"IFERROR(VLOOKUP(GM29,MATCHSELEVES!$Y$14:$AE$600,5,FALSE),0)","v":0},{"$f":"IFERROR(VLOOKUP(GM29,MATCHSELEVES!$Y$14:$AF$600,8,FALSE),0)","v":0},{"$f":"IFERROR(VLOOKUP(GM29,MATCHSELEVES!$Y$14:$AG$600,9,FALSE),0)","v":0},"Richmond_31",{"$f":"IFERROR(VLOOKUP(GS29,MATCHSELEVES!$Y$14:$AE$600,3,FALSE),0)","v":0},{"$f":"IFERROR(VLOOKUP(GS29,MATCHSELEVES!$Y$14:$AE$600,4,FALSE),0)","v":0},{"$f":"IFERROR(VLOOKUP(GS29,MATCHSELEVES!$Y$14:$AE$600,5,FALSE),0)","v":0},{"$f":"IFERROR(VLOOKUP(GS29,MATCHSELEVES!$Y$14:$AF$600,8,FALSE),0)","v":0},{"$f":"IFERROR(VLOOKUP(GS29,MATCHSELEVES!$Y$14:$AG$600,9,FALSE),0)","v":0},"Richmond_32",{"$f":"IFERROR(VLOOKUP(GY29,MATCHSELEVES!$Y$14:$AE$600,3,FALSE),0)","v":0},{"$f":"IFERROR(VLOOKUP(GY29,MATCHSELEVES!$Y$14:$AE$600,4,FALSE),0)","v":0},{"$f":"IFERROR(VLOOKUP(GY29,MATCHSELEVES!$Y$14:$AE$600,5,FALSE),0)","v":0},{"$f":"IFERROR(VLOOKUP(GY29,MATCHSELEVES!$Y$14:$AF$600,8,FALSE),0)","v":0},{"$f":"IFERROR(VLOOKUP(GY29,MATCHSELEVES!$Y$14:$AG$600,9,FALSE),0)","v":0},"Richmond_33",{"$f":"IFERROR(VLOOKUP(HE29,MATCHSELEVES!$Y$14:$AE$600,3,FALSE),0)","v":0},{"$f":"IFERROR(VLOOKUP(HE29,MATCHSELEVES!$Y$14:$AE$600,4,FALSE),0)","v":0},{"$f":"IFERROR(VLOOKUP(HE29,MATCHSELEVES!$Y$14:$AE$600,5,FALSE),0)","v":0},{"$f":"IFERROR(VLOOKUP(HE29,MATCHSELEVES!$Y$14:$AF$600,8,FALSE),0)","v":0},{"$f":"IFERROR(VLOOKUP(HE29,MATCHSELEVES!$Y$14:$AG$600,9,FALSE),0)","v":0},"Richmond_34",{"$f":"IFERROR(VLOOKUP(HK29,MATCHSELEVES!$Y$14:$AE$600,3,FALSE),0)","v":0},{"$f":"IFERROR(VLOOKUP(HK29,MATCHSELEVES!$Y$14:$AE$600,4,FALSE),0)","v":0},{"$f":"IFERROR(VLOOKUP(HK29,MATCHSELEVES!$Y$14:$AE$600,5,FALSE),0)","v":0},{"$f":"IFERROR(VLOOKUP(HK29,MATCHSELEVES!$Y$14:$AF$600,8,FALSE),0)","v":0},{"$f":"IFERROR(VLOOKUP(HK29,MATCHSELEVES!$Y$14:$AG$600,9,FALSE),0)","v":0},"Richmond_35",{"$f":"IFERROR(VLOOKUP(HQ29,MATCHSELEVES!$Y$14:$AE$600,3,FALSE),0)","v":0},{"$f":"IFERROR(VLOOKUP(HQ29,MATCHSELEVES!$Y$14:$AE$600,4,FALSE),0)","v":0},{"$f":"IFERROR(VLOOKUP(HQ29,MATCHSELEVES!$Y$14:$AE$600,5,FALSE),0)","v":0},{"$f":"IFERROR(VLOOKUP(HQ29,MATCHSELEVES!$Y$14:$AF$600,8,FALSE),0)","v":0},{"$f":"IFERROR(VLOOKUP(HQ29,MATCHSELEVES!$Y$14:$AG$600,9,FALSE),0)","v":0},"Richmond_36",{"$f":"IFERROR(VLOOKUP(HW29,MATCHSELEVES!$Y$14:$AE$600,3,FALSE),0)","v":0},{"$f":"IFERROR(VLOOKUP(HW29,MATCHSELEVES!$Y$14:$AE$600,4,FALSE),0)","v":0},{"$f":"IFERROR(VLOOKUP(HW29,MATCHSELEVES!$Y$14:$AE$600,5,FALSE),0)","v":0},{"$f":"IFERROR(VLOOKUP(HW29,MATCHSELEVES!$Y$14:$AF$600,8,FALSE),0)","v":0},{"$f":"IFERROR(VLOOKUP(HW29,MATCHSELEVES!$Y$14:$AG$600,9,FALSE),0)","v":0},"Richmond_37",{"$f":"IFERROR(VLOOKUP(IC29,MATCHSELEVES!$Y$14:$AE$600,3,FALSE),0)","v":0},{"$f":"IFERROR(VLOOKUP(IC29,MATCHSELEVES!$Y$14:$AE$600,4,FALSE),0)","v":0},{"$f":"IFERROR(VLOOKUP(IC29,MATCHSELEVES!$Y$14:$AE$600,5,FALSE),0)","v":0},{"$f":"IFERROR(VLOOKUP(IC29,MATCHSELEVES!$Y$14:$AF$600,8,FALSE),0)","v":0},{"$f":"IFERROR(VLOOKUP(IC29,MATCHSELEVES!$Y$14:$AG$600,9,FALSE),0)","v":0},"Richmond_38",{"$f":"IFERROR(VLOOKUP(II29,MATCHSELEVES!$Y$14:$AE$600,3,FALSE),0)","v":0},{"$f":"IFERROR(VLOOKUP(II29,MATCHSELEVES!$Y$14:$AE$600,4,FALSE),0)","v":0},{"$f":"IFERROR(VLOOKUP(II29,MATCHSELEVES!$Y$14:$AE$600,5,FALSE),0)","v":0},{"$f":"IFERROR(VLOOKUP(II29,MATCHSELEVES!$Y$14:$AF$600,8,FALSE),0)","v":0},{"$f":"IFERROR(VLOOKUP(II29,MATCHSELEVES!$Y$14:$AG$600,9,FALSE),0)","v":0},"Richmond_39",{"$f":"IFERROR(VLOOKUP(IO29,MATCHSELEVES!$Y$14:$AE$600,3,FALSE),0)","v":0},{"$f":"IFERROR(VLOOKUP(IO29,MATCHSELEVES!$Y$14:$AE$600,4,FALSE),0)","v":0},{"$f":"IFERROR(VLOOKUP(IO29,MATCHSELEVES!$Y$14:$AE$600,5,FALSE),0)","v":0},{"$f":"IFERROR(VLOOKUP(IO29,MATCHSELEVES!$Y$14:$AF$600,8,FALSE),0)","v":0},{"$f":"IFERROR(VLOOKUP(IO29,MATCHSELEVES!$Y$14:$AG$600,9,FALSE),0)","v":0},"Richmond_40",{"$f":"IFERROR(VLOOKUP(IU29,MATCHSELEVES!$Y$14:$AE$600,3,FALSE),0)","v":0},{"$f":"IFERROR(VLOOKUP(IU29,MATCHSELEVES!$Y$14:$AE$600,4,FALSE),0)","v":0},{"$f":"IFERROR(VLOOKUP(IU29,MATCHSELEVES!$Y$14:$AE$600,5,FALSE),0)","v":0},{"$f":"IFERROR(VLOOKUP(IU29,MATCHSELEVES!$Y$14:$AF$600,8,FALSE),0)","v":0},{"$f":"IFERROR(VLOOKUP(IU29,MATCHSELEVES!$Y$14:$AG$600,9,FALSE),0)","v":0},{"$f":"Tableau10[[#This Row],[CLASSE]]","v":"Richmond"},1,{"$f":"MD1POINT!D29","v":1},"Richmondp_1",{"$f":"IFERROR(VLOOKUP(JD29,MATCHSELEVES!$Y$14:$AE$600,3,FALSE),0)","v":0},{"$f":"IFERROR(VLOOKUP(JD29,MATCHSELEVES!$Y$14:$AE$600,4,FALSE),0)","v":0},{"$f":"IFERROR(VLOOKUP(JD29,MATCHSELEVES!$Y$14:$AE$600,5,FALSE),0)","v":0},{"$f":"IFERROR(VLOOKUP(JD29,MATCHSELEVES!$Y$14:$AF$600,8,FALSE),0)","v":0},{"$f":"IFERROR(VLOOKUP(JD29,MATCHSELEVES!$Y$14:$AG$600,9,FALSE),0)","v":0},"Richmondp_2",{"$f":"IFERROR(VLOOKUP(JJ29,MATCHSELEVES!$Y$14:$AE$600,3,FALSE),0)","v":0},{"$f":"IFERROR(VLOOKUP(JJ29,MATCHSELEVES!$Y$14:$AE$600,4,FALSE),0)","v":0},{"$f":"IFERROR(VLOOKUP(JJ29,MATCHSELEVES!$Y$14:$AE$600,5,FALSE),0)","v":0},{"$f":"IFERROR(VLOOKUP(JJ29,MATCHSELEVES!$Y$14:$AF$600,8,FALSE),0)","v":0},{"$f":"IFERROR(VLOOKUP(JJ29,MATCHSELEVES!$Y$14:$AG$600,9,FALSE),0)","v":0},"Richmondp_3",{"$f":"IFERROR(VLOOKUP(JP29,MATCHSELEVES!$Y$14:$AE$600,3,FALSE),0)","v":0},{"$f":"IFERROR(VLOOKUP(JP29,MATCHSELEVES!$Y$14:$AE$600,4,FALSE),0)","v":0},{"$f":"IFERROR(VLOOKUP(JP29,MATCHSELEVES!$Y$14:$AE$600,5,FALSE),0)","v":0},{"$f":"IFERROR(VLOOKUP(JP29,MATCHSELEVES!$Y$14:$AF$600,8,FALSE),0)","v":0},{"$f":"IFERROR(VLOOKUP(JP29,MATCHSELEVES!$Y$14:$AG$600,9,FALSE),0)","v":0},"Richmondp_4",{"$f":"IFERROR(VLOOKUP(JV29,MATCHSELEVES!$Y$14:$AE$600,3,FALSE),0)","v":0},{"$f":"IFERROR(VLOOKUP(JV29,MATCHSELEVES!$Y$14:$AE$600,4,FALSE),0)","v":0},{"$f":"IFERROR(VLOOKUP(JV29,MATCHSELEVES!$Y$14:$AE$600,5,FALSE),0)","v":0},{"$f":"IFERROR(VLOOKUP(JV29,MATCHSELEVES!$Y$14:$AF$600,8,FALSE),0)","v":0},{"$f":"IFERROR(VLOOKUP(JV29,MATCHSELEVES!$Y$14:$AG$600,9,FALSE),0)","v":0},"Richmondp_5",{"$f":"IFERROR(VLOOKUP(KB29,MATCHSELEVES!$Y$14:$AE$600,3,FALSE),0)","v":0},{"$f":"IFERROR(VLOOKUP(KB29,MATCHSELEVES!$Y$14:$AE$600,4,FALSE),0)","v":0},{"$f":"IFERROR(VLOOKUP(KB29,MATCHSELEVES!$Y$14:$AE$600,5,FALSE),0)","v":0},{"$f":"IFERROR(VLOOKUP(KB29,MATCHSELEVES!$Y$14:$AF$600,8,FALSE),0)","v":0},{"$f":"IFERROR(VLOOKUP(KB29,MATCHSELEVES!$Y$14:$AG$600,9,FALSE),0)","v":0},"Richmondp_6",{"$f":"IFERROR(VLOOKUP(KH29,MATCHSELEVES!$Y$14:$AE$600,3,FALSE),0)","v":0},{"$f":"IFERROR(VLOOKUP(KH29,MATCHSELEVES!$Y$14:$AE$600,4,FALSE),0)","v":0},{"$f":"IFERROR(VLOOKUP(KH29,MATCHSELEVES!$Y$14:$AE$600,5,FALSE),0)","v":0},{"$f":"IFERROR(VLOOKUP(KH29,MATCHSELEVES!$Y$14:$AF$600,8,FALSE),0)","v":0},{"$f":"IFERROR(VLOOKUP(KH29,MATCHSELEVES!$Y$14:$AG$600,9,FALSE),0)","v":0},"Richmondp_7",{"$f":"IFERROR(VLOOKUP(KN29,MATCHSELEVES!$Y$14:$AE$600,3,FALSE),0)","v":0},{"$f":"IFERROR(VLOOKUP(KN29,MATCHSELEVES!$Y$14:$AE$600,4,FALSE),0)","v":0},{"$f":"IFERROR(VLOOKUP(KN29,MATCHSELEVES!$Y$14:$AE$600,5,FALSE),0)","v":0},{"$f":"IFERROR(VLOOKUP(KN29,MATCHSELEVES!$Y$14:$AF$600,8,FALSE),0)","v":0},{"$f":"IFERROR(VLOOKUP(KN29,MATCHSELEVES!$Y$14:$AG$600,9,FALSE),0)","v":0},"Richmondp_8",{"$f":"IFERROR(VLOOKUP(KT29,MATCHSELEVES!$Y$14:$AE$600,3,FALSE),0)","v":0},{"$f":"IFERROR(VLOOKUP(KT29,MATCHSELEVES!$Y$14:$AE$600,4,FALSE),0)","v":0},{"$f":"IFERROR(VLOOKUP(KT29,MATCHSELEVES!$Y$14:$AE$600,5,FALSE),0)","v":0},{"$f":"IFERROR(VLOOKUP(KT29,MATCHSELEVES!$Y$14:$AF$600,8,FALSE),0)","v":0},{"$f":"IFERROR(VLOOKUP(KT29,MATCHSELEVES!$Y$14:$AG$600,9,FALSE),0)","v":0},"Richmondp_9",{"$f":"IFERROR(VLOOKUP(KZ29,MATCHSELEVES!$Y$14:$AE$600,3,FALSE),0)","v":0},{"$f":"IFERROR(VLOOKUP(KZ29,MATCHSELEVES!$Y$14:$AE$600,4,FALSE),0)","v":0},{"$f":"IFERROR(VLOOKUP(KZ29,MATCHSELEVES!$Y$14:$AE$600,5,FALSE),0)","v":0},{"$f":"IFERROR(VLOOKUP(KZ29,MATCHSELEVES!$Y$14:$AF$600,8,FALSE),0)","v":0},{"$f":"IFERROR(VLOOKUP(KZ29,MATCHSELEVES!$Y$14:$AG$600,9,FALSE),0)","v":0},"Richmondp_10",{"$f":"IFERROR(VLOOKUP(LF29,MATCHSELEVES!$Y$14:$AE$600,3,FALSE),0)","v":0},{"$f":"IFERROR(VLOOKUP(LF29,MATCHSELEVES!$Y$14:$AE$600,4,FALSE),0)","v":0},{"$f":"IFERROR(VLOOKUP(LF29,MATCHSELEVES!$Y$14:$AE$600,5,FALSE),0)","v":0},{"$f":"IFERROR(VLOOKUP(LF29,MATCHSELEVES!$Y$14:$AF$600,8,FALSE),0)","v":0},{"$f":"IFERROR(VLOOKUP(LF29,MATCHSELEVES!$Y$14:$AG$600,9,FALSE),0)","v":0},"Richmondp_11",{"$f":"IFERROR(VLOOKUP(LL29,MATCHSELEVES!$Y$14:$AE$600,3,FALSE),0)","v":0},{"$f":"IFERROR(VLOOKUP(LL29,MATCHSELEVES!$Y$14:$AE$600,4,FALSE),0)","v":0},{"$f":"IFERROR(VLOOKUP(LL29,MATCHSELEVES!$Y$14:$AE$600,5,FALSE),0)","v":0},{"$f":"IFERROR(VLOOKUP(LL29,MATCHSELEVES!$Y$14:$AF$600,8,FALSE),0)","v":0},{"$f":"IFERROR(VLOOKUP(LL29,MATCHSELEVES!$Y$14:$AG$600,9,FALSE),0)","v":0},"Richmondp_12",{"$f":"IFERROR(VLOOKUP(LR29,MATCHSELEVES!$Y$14:$AE$600,3,FALSE),0)","v":0},{"$f":"IFERROR(VLOOKUP(LR29,MATCHSELEVES!$Y$14:$AE$600,4,FALSE),0)","v":0},{"$f":"IFERROR(VLOOKUP(LR29,MATCHSELEVES!$Y$14:$AE$600,5,FALSE),0)","v":0},{"$f":"IFERROR(VLOOKUP(LR29,MATCHSELEVES!$Y$14:$AF$600,8,FALSE),0)","v":0},{"$f":"IFERROR(VLOOKUP(LR29,MATCHSELEVES!$Y$14:$AG$600,9,FALSE),0)","v":0},"Richmondp_13",{"$f":"IFERROR(VLOOKUP(LX29,MATCHSELEVES!$Y$14:$AE$600,3,FALSE),0)","v":0},{"$f":"IFERROR(VLOOKUP(LX29,MATCHSELEVES!$Y$14:$AE$600,4,FALSE),0)","v":0},{"$f":"IFERROR(VLOOKUP(LX29,MATCHSELEVES!$Y$14:$AE$600,5,FALSE),0)","v":0},{"$f":"IFERROR(VLOOKUP(LX29,MATCHSELEVES!$Y$14:$AF$600,8,FALSE),0)","v":0},{"$f":"IFERROR(VLOOKUP(LX29,MATCHSELEVES!$Y$14:$AG$600,9,FALSE),0)","v":0},"Richmondp_14",{"$f":"IFERROR(VLOOKUP(MD29,MATCHSELEVES!$Y$14:$AE$600,3,FALSE),0)","v":0},{"$f":"IFERROR(VLOOKUP(MD29,MATCHSELEVES!$Y$14:$AE$600,4,FALSE),0)","v":0},{"$f":"IFERROR(VLOOKUP(MD29,MATCHSELEVES!$Y$14:$AE$600,5,FALSE),0)","v":0},{"$f":"IFERROR(VLOOKUP(MD29,MATCHSELEVES!$Y$14:$AF$600,8,FALSE),0)","v":0},{"$f":"IFERROR(VLOOKUP(MD29,MATCHSELEVES!$Y$14:$AG$600,9,FALSE),0)","v":0},"Richmondp_15",{"$f":"IFERROR(VLOOKUP(MJ29,MATCHSELEVES!$Y$14:$AE$600,3,FALSE),0)","v":0},{"$f":"IFERROR(VLOOKUP(MJ29,MATCHSELEVES!$Y$14:$AE$600,4,FALSE),0)","v":0},{"$f":"IFERROR(VLOOKUP(MJ29,MATCHSELEVES!$Y$14:$AE$600,5,FALSE),0)","v":0},{"$f":"IFERROR(VLOOKUP(MJ29,MATCHSELEVES!$Y$14:$AF$600,8,FALSE),0)","v":0},{"$f":"IFERROR(VLOOKUP(MJ29,MATCHSELEVES!$Y$14:$AG$600,9,FALSE),0)","v":0},"Richmondp_16",{"$f":"IFERROR(VLOOKUP(MP29,MATCHSELEVES!$Y$14:$AE$600,3,FALSE),0)","v":0},{"$f":"IFERROR(VLOOKUP(MP29,MATCHSELEVES!$Y$14:$AE$600,4,FALSE),0)","v":0},{"$f":"IFERROR(VLOOKUP(MP29,MATCHSELEVES!$Y$14:$AE$600,5,FALSE),0)","v":0},{"$f":"IFERROR(VLOOKUP(MP29,MATCHSELEVES!$Y$14:$AF$600,8,FALSE),0)","v":0},{"$f":"IFERROR(VLOOKUP(MP29,MATCHSELEVES!$Y$14:$AG$600,9,FALSE),0)","v":0},"Richmondp_17",{"$f":"IFERROR(VLOOKUP(MV29,MATCHSELEVES!$Y$14:$AE$600,3,FALSE),0)","v":0},{"$f":"IFERROR(VLOOKUP(MV29,MATCHSELEVES!$Y$14:$AE$600,4,FALSE),0)","v":0},{"$f":"IFERROR(VLOOKUP(MV29,MATCHSELEVES!$Y$14:$AE$600,5,FALSE),0)","v":0},{"$f":"IFERROR(VLOOKUP(MV29,MATCHSELEVES!$Y$14:$AF$600,8,FALSE),0)","v":0},{"$f":"IFERROR(VLOOKUP(MV29,MATCHSELEVES!$Y$14:$AG$600,9,FALSE),0)","v":0},"Richmondp_18",{"$f":"IFERROR(VLOOKUP(NB29,MATCHSELEVES!$Y$14:$AE$600,3,FALSE),0)","v":0},{"$f":"IFERROR(VLOOKUP(NB29,MATCHSELEVES!$Y$14:$AE$600,4,FALSE),0)","v":0},{"$f":"IFERROR(VLOOKUP(NB29,MATCHSELEVES!$Y$14:$AE$600,5,FALSE),0)","v":0},{"$f":"IFERROR(VLOOKUP(NB29,MATCHSELEVES!$Y$14:$AF$600,8,FALSE),0)","v":0},{"$f":"IFERROR(VLOOKUP(NB29,MATCHSELEVES!$Y$14:$AG$600,9,FALSE),0)","v":0},"Richmondp_19",{"$f":"IFERROR(VLOOKUP(NH29,MATCHSELEVES!$Y$14:$AE$600,3,FALSE),0)","v":0},{"$f":"IFERROR(VLOOKUP(NH29,MATCHSELEVES!$Y$14:$AE$600,4,FALSE),0)","v":0},{"$f":"IFERROR(VLOOKUP(NH29,MATCHSELEVES!$Y$14:$AE$600,5,FALSE),0)","v":0},{"$f":"IFERROR(VLOOKUP(NH29,MATCHSELEVES!$Y$14:$AF$600,8,FALSE),0)","v":0},{"$f":"IFERROR(VLOOKUP(NH29,MATCHSELEVES!$Y$14:$AG$600,9,FALSE),0)","v":0},"Richmondp_20",{"$f":"IFERROR(VLOOKUP(NN29,MATCHSELEVES!$Y$14:$AE$600,3,FALSE),0)","v":0},{"$f":"IFERROR(VLOOKUP(NN29,MATCHSELEVES!$Y$14:$AE$600,4,FALSE),0)","v":0},{"$f":"IFERROR(VLOOKUP(NN29,MATCHSELEVES!$Y$14:$AE$600,5,FALSE),0)","v":0},{"$f":"IFERROR(VLOOKUP(NN29,MATCHSELEVES!$Y$14:$AF$600,8,FALSE),0)","v":0},{"$f":"IFERROR(VLOOKUP(NN29,MATCHSELEVES!$Y$14:$AG$600,9,FALSE),0)","v":0},"Richmondp_21",{"$f":"IFERROR(VLOOKUP(NT29,MATCHSELEVES!$Y$14:$AE$600,3,FALSE),0)","v":0},{"$f":"IFERROR(VLOOKUP(NT29,MATCHSELEVES!$Y$14:$AE$600,4,FALSE),0)","v":0},{"$f":"IFERROR(VLOOKUP(NT29,MATCHSELEVES!$Y$14:$AE$600,5,FALSE),0)","v":0},{"$f":"IFERROR(VLOOKUP(NT29,MATCHSELEVES!$Y$14:$AF$600,8,FALSE),0)","v":0},{"$f":"IFERROR(VLOOKUP(NT29,MATCHSELEVES!$Y$14:$AG$600,9,FALSE),0)","v":0},"Richmondp_22",{"$f":"IFERROR(VLOOKUP(NZ29,MATCHSELEVES!$Y$14:$AE$600,3,FALSE),0)","v":0},{"$f":"IFERROR(VLOOKUP(NZ29,MATCHSELEVES!$Y$14:$AE$600,4,FALSE),0)","v":0},{"$f":"IFERROR(VLOOKUP(NZ29,MATCHSELEVES!$Y$14:$AE$600,5,FALSE),0)","v":0},{"$f":"IFERROR(VLOOKUP(NZ29,MATCHSELEVES!$Y$14:$AF$600,8,FALSE),0)","v":0},{"$f":"IFERROR(VLOOKUP(NZ29,MATCHSELEVES!$Y$14:$AG$600,9,FALSE),0)","v":0},"Richmondp_23",{"$f":"IFERROR(VLOOKUP(OF29,MATCHSELEVES!$Y$14:$AE$600,3,FALSE),0)","v":0},{"$f":"IFERROR(VLOOKUP(OF29,MATCHSELEVES!$Y$14:$AE$600,4,FALSE),0)","v":0},{"$f":"IFERROR(VLOOKUP(OF29,MATCHSELEVES!$Y$14:$AE$600,5,FALSE),0)","v":0},{"$f":"IFERROR(VLOOKUP(OF29,MATCHSELEVES!$Y$14:$AF$600,8,FALSE),0)","v":0},{"$f":"IFERROR(VLOOKUP(OF29,MATCHSELEVES!$Y$14:$AG$600,9,FALSE),0)","v":0},"Richmondp_24",{"$f":"IFERROR(VLOOKUP(OL29,MATCHSELEVES!$Y$14:$AE$600,3,FALSE),0)","v":0},{"$f":"IFERROR(VLOOKUP(OL29,MATCHSELEVES!$Y$14:$AE$600,4,FALSE),0)","v":0},{"$f":"IFERROR(VLOOKUP(OL29,MATCHSELEVES!$Y$14:$AE$600,5,FALSE),0)","v":0},{"$f":"IFERROR(VLOOKUP(OL29,MATCHSELEVES!$Y$14:$AF$600,8,FALSE),0)","v":0},{"$f":"IFERROR(VLOOKUP(OL29,MATCHSELEVES!$Y$14:$AG$600,9,FALSE),0)","v":0},"Richmondp_25",{"$f":"IFERROR(VLOOKUP(OR29,MATCHSELEVES!$Y$14:$AE$600,3,FALSE),0)","v":0},{"$f":"IFERROR(VLOOKUP(OR29,MATCHSELEVES!$Y$14:$AE$600,4,FALSE),0)","v":0},{"$f":"IFERROR(VLOOKUP(OR29,MATCHSELEVES!$Y$14:$AE$600,5,FALSE),0)","v":0},{"$f":"IFERROR(VLOOKUP(OR29,MATCHSELEVES!$Y$14:$AF$600,8,FALSE),0)","v":0},{"$f":"IFERROR(VLOOKUP(OR29,MATCHSELEVES!$Y$14:$AG$600,9,FALSE),0)","v":0},"Richmondp_26",{"$f":"IFERROR(VLOOKUP(OX29,MATCHSELEVES!$Y$14:$AE$600,3,FALSE),0)","v":0},{"$f":"IFERROR(VLOOKUP(OX29,MATCHSELEVES!$Y$14:$AE$600,4,FALSE),0)","v":0},{"$f":"IFERROR(VLOOKUP(OX29,MATCHSELEVES!$Y$14:$AE$600,5,FALSE),0)","v":0},{"$f":"IFERROR(VLOOKUP(OX29,MATCHSELEVES!$Y$14:$AF$600,8,FALSE),0)","v":0},{"$f":"IFERROR(VLOOKUP(OX29,MATCHSELEVES!$Y$14:$AG$600,9,FALSE),0)","v":0},"Richmondp_27",{"$f":"IFERROR(VLOOKUP(PD29,MATCHSELEVES!$Y$14:$AE$600,3,FALSE),0)","v":0},{"$f":"IFERROR(VLOOKUP(PD29,MATCHSELEVES!$Y$14:$AE$600,4,FALSE),0)","v":0},{"$f":"IFERROR(VLOOKUP(PD29,MATCHSELEVES!$Y$14:$AE$600,5,FALSE),0)","v":0},{"$f":"IFERROR(VLOOKUP(PD29,MATCHSELEVES!$Y$14:$AF$600,8,FALSE),0)","v":0},{"$f":"IFERROR(VLOOKUP(PD29,MATCHSELEVES!$Y$14:$AG$600,9,FALSE),0)","v":0},"Richmondp_28",{"$f":"IFERROR(VLOOKUP(PJ29,MATCHSELEVES!$Y$14:$AE$600,3,FALSE),0)","v":0},{"$f":"IFERROR(VLOOKUP(PJ29,MATCHSELEVES!$Y$14:$AE$600,4,FALSE),0)","v":0},{"$f":"IFERROR(VLOOKUP(PJ29,MATCHSELEVES!$Y$14:$AE$600,5,FALSE),0)","v":0},{"$f":"IFERROR(VLOOKUP(PJ29,MATCHSELEVES!$Y$14:$AF$600,8,FALSE),0)","v":0},{"$f":"IFERROR(VLOOKUP(PJ29,MATCHSELEVES!$Y$14:$AG$600,9,FALSE),0)","v":0},"Richmondp_29",{"$f":"IFERROR(VLOOKUP(PP29,MATCHSELEVES!$Y$14:$AE$600,3,FALSE),0)","v":0},{"$f":"IFERROR(VLOOKUP(PP29,MATCHSELEVES!$Y$14:$AE$600,4,FALSE),0)","v":0},{"$f":"IFERROR(VLOOKUP(PP29,MATCHSELEVES!$Y$14:$AE$600,5,FALSE),0)","v":0},{"$f":"IFERROR(VLOOKUP(PP29,MATCHSELEVES!$Y$14:$AF$600,8,FALSE),0)","v":0},{"$f":"IFERROR(VLOOKUP(PP29,MATCHSELEVES!$Y$14:$AG$600,9,FALSE),0)","v":0},"Richmondp_30",{"$f":"IFERROR(VLOOKUP(PV29,MATCHSELEVES!$Y$14:$AE$600,3,FALSE),0)","v":0},{"$f":"IFERROR(VLOOKUP(PV29,MATCHSELEVES!$Y$14:$AE$600,4,FALSE),0)","v":0},{"$f":"IFERROR(VLOOKUP(PV29,MATCHSELEVES!$Y$14:$AE$600,5,FALSE),0)","v":0},{"$f":"IFERROR(VLOOKUP(PV29,MATCHSELEVES!$Y$14:$AF$600,8,FALSE),0)","v":0},{"$f":"IFERROR(VLOOKUP(PV29,MATCHSELEVES!$Y$14:$AG$600,9,FALSE),0)","v":0},"Richmondp_31",{"$f":"IFERROR(VLOOKUP(QB29,MATCHSELEVES!$Y$14:$AE$600,3,FALSE),0)","v":0},{"$f":"IFERROR(VLOOKUP(QB29,MATCHSELEVES!$Y$14:$AE$600,4,FALSE),0)","v":0},{"$f":"IFERROR(VLOOKUP(QB29,MATCHSELEVES!$Y$14:$AE$600,5,FALSE),0)","v":0},{"$f":"IFERROR(VLOOKUP(QB29,MATCHSELEVES!$Y$14:$AF$600,8,FALSE),0)","v":0},{"$f":"IFERROR(VLOOKUP(QB29,MATCHSELEVES!$Y$14:$AG$600,9,FALSE),0)","v":0},"Richmondp_32",{"$f":"IFERROR(VLOOKUP(QH29,MATCHSELEVES!$Y$14:$AE$600,3,FALSE),0)","v":0},{"$f":"IFERROR(VLOOKUP(QH29,MATCHSELEVES!$Y$14:$AE$600,4,FALSE),0)","v":0},{"$f":"IFERROR(VLOOKUP(QH29,MATCHSELEVES!$Y$14:$AE$600,5,FALSE),0)","v":0},{"$f":"IFERROR(VLOOKUP(QH29,MATCHSELEVES!$Y$14:$AF$600,8,FALSE),0)","v":0},{"$f":"IFERROR(VLOOKUP(QH29,MATCHSELEVES!$Y$14:$AG$600,9,FALSE),0)","v":0},"Richmondp_33",{"$f":"IFERROR(VLOOKUP(QN29,MATCHSELEVES!$Y$14:$AE$600,3,FALSE),0)","v":0},{"$f":"IFERROR(VLOOKUP(QN29,MATCHSELEVES!$Y$14:$AE$600,4,FALSE),0)","v":0},{"$f":"IFERROR(VLOOKUP(QN29,MATCHSELEVES!$Y$14:$AE$600,5,FALSE),0)","v":0},{"$f":"IFERROR(VLOOKUP(QN29,MATCHSELEVES!$Y$14:$AF$600,8,FALSE),0)","v":0},{"$f":"IFERROR(VLOOKUP(QN29,MATCHSELEVES!$Y$14:$AG$600,9,FALSE),0)","v":0},"Richmondp_34",{"$f":"IFERROR(VLOOKUP(QT29,MATCHSELEVES!$Y$14:$AE$600,3,FALSE),0)","v":0},{"$f":"IFERROR(VLOOKUP(QT29,MATCHSELEVES!$Y$14:$AE$600,4,FALSE),0)","v":0},{"$f":"IFERROR(VLOOKUP(QT29,MATCHSELEVES!$Y$14:$AE$600,5,FALSE),0)","v":0},{"$f":"IFERROR(VLOOKUP(QT29,MATCHSELEVES!$Y$14:$AF$600,8,FALSE),0)","v":0},{"$f":"IFERROR(VLOOKUP(QT29,MATCHSELEVES!$Y$14:$AG$600,9,FALSE),0)","v":0},"Richmondp_35",{"$f":"IFERROR(VLOOKUP(QZ29,MATCHSELEVES!$Y$14:$AE$600,3,FALSE),0)","v":0},{"$f":"IFERROR(VLOOKUP(QZ29,MATCHSELEVES!$Y$14:$AE$600,4,FALSE),0)","v":0},{"$f":"IFERROR(VLOOKUP(QZ29,MATCHSELEVES!$Y$14:$AE$600,5,FALSE),0)","v":0},{"$f":"IFERROR(VLOOKUP(QZ29,MATCHSELEVES!$Y$14:$AF$600,8,FALSE),0)","v":0},{"$f":"IFERROR(VLOOKUP(QZ29,MATCHSELEVES!$Y$14:$AG$600,9,FALSE),0)","v":0},"Richmondp_36",{"$f":"IFERROR(VLOOKUP(RF29,MATCHSELEVES!$Y$14:$AE$600,3,FALSE),0)","v":0},{"$f":"IFERROR(VLOOKUP(RF29,MATCHSELEVES!$Y$14:$AE$600,4,FALSE),0)","v":0},{"$f":"IFERROR(VLOOKUP(RF29,MATCHSELEVES!$Y$14:$AE$600,5,FALSE),0)","v":0},{"$f":"IFERROR(VLOOKUP(RF29,MATCHSELEVES!$Y$14:$AF$600,8,FALSE),0)","v":0},{"$f":"IFERROR(VLOOKUP(RF29,MATCHSELEVES!$Y$14:$AG$600,9,FALSE),0)","v":0},"Richmondp_37",{"$f":"IFERROR(VLOOKUP(RL29,MATCHSELEVES!$Y$14:$AE$600,3,FALSE),0)","v":0},{"$f":"IFERROR(VLOOKUP(RL29,MATCHSELEVES!$Y$14:$AE$600,4,FALSE),0)","v":0},{"$f":"IFERROR(VLOOKUP(RL29,MATCHSELEVES!$Y$14:$AE$600,5,FALSE),0)","v":0},{"$f":"IFERROR(VLOOKUP(RL29,MATCHSELEVES!$Y$14:$AF$600,8,FALSE),0)","v":0},{"$f":"IFERROR(VLOOKUP(RL29,MATCHSELEVES!$Y$14:$AG$600,9,FALSE),0)","v":0},"Richmondp_38",{"$f":"IFERROR(VLOOKUP(RR29,MATCHSELEVES!$Y$14:$AE$600,3,FALSE),0)","v":0},{"$f":"IFERROR(VLOOKUP(RR29,MATCHSELEVES!$Y$14:$AE$600,4,FALSE),0)","v":0},{"$f":"IFERROR(VLOOKUP(RR29,MATCHSELEVES!$Y$14:$AE$600,5,FALSE),0)","v":0},{"$f":"IFERROR(VLOOKUP(RR29,MATCHSELEVES!$Y$14:$AF$600,8,FALSE),0)","v":0},{"$f":"IFERROR(VLOOKUP(RR29,MATCHSELEVES!$Y$14:$AG$600,9,FALSE),0)","v":0},"Richmondp_39",{"$f":"IFERROR(VLOOKUP(RX29,MATCHSELEVES!$Y$14:$AE$600,3,FALSE),0)","v":0},{"$f":"IFERROR(VLOOKUP(RX29,MATCHSELEVES!$Y$14:$AE$600,4,FALSE),0)","v":0},{"$f":"IFERROR(VLOOKUP(RX29,MATCHSELEVES!$Y$14:$AE$600,5,FALSE),0)","v":0},{"$f":"IFERROR(VLOOKUP(RX29,MATCHSELEVES!$Y$14:$AF$600,8,FALSE),0)","v":0},{"$f":"IFERROR(VLOOKUP(RX29,MATCHSELEVES!$Y$14:$AG$600,9,FALSE),0)","v":0},"Richmondp_40",{"$f":"IFERROR(VLOOKUP(SD29,MATCHSELEVES!$Y$14:$AE$600,3,FALSE),0)","v":0},{"$f":"IFERROR(VLOOKUP(SD29,MATCHSELEVES!$Y$14:$AE$600,4,FALSE),0)","v":0},{"$f":"IFERROR(VLOOKUP(SD29,MATCHSELEVES!$Y$14:$AE$600,5,FALSE),0)","v":0},{"$f":"IFERROR(VLOOKUP(SD29,MATCHSELEVES!$Y$14:$AF$600,8,FALSE),0)","v":0},{"$f":"IFERROR(VLOOKUP(SD29,MATCHSELEVES!$Y$14:$AG$600,9,FALSE),0)","v":0}]
[27,null,{"$f":"MD1POINT!C30","v":"Serdar"},{"$f":"MD1POINT!D30","v":1},{"$f":"COUNTIF(MATCHSELEVES!$Z$14:$Z$600,C30)+COUNTIF(MATCHSELEVES!$Z$14:$Z$600,$C30&\"p\")","v":0},1,{"$f":"COUNTIF(MATCHSELEVES!$F$14:$H$249,C30)","v":0},1,0,1,0,1,0,1,{"$f":"Y30+AE30+AK30+AQ30+AW30+BC30+BI30+BO30+BU30+CA30+CG30+CM30+CS30+CY30+DE30+DK30+DQ30+DW30+EC30+EI30+EO30+EU30+FA30+FG30+FM30+FS30+FY30+GE30+GK30+GQ30+GW30+4+HI30+HO30+HU30+IA30+HC30+IG30+IM30+IY30+IS30+JH30+JN30+JZ30+JT30+KF30+KR30+KX30+LJ30+LP30+LV30+LD30+MB30+MH30+MN30+MZ30+MT30+NF30+NL30+NR30+NX30+OD30+OJ30+OP30+OV30+PB30+PH30+PT30+PN30+PZ30+QF30+QL30+QR30+RD30+QX30+RJ30+RP30+RV30+SB30+SH30+KL30+Tableau10[[#This Row],[Nombre de matchs joués]]*2","v":4},1,{"$f":"(Tableau10[[#This Row],[CLASSEMENT1]]+Tableau10[[#This Row],[CLASSEMENT2]]+Tableau10[[#This Row],[CLASSEMENT3]]+Tableau10[[#This Row],[CLASSEMENT4]]+Tableau10[[#This Row],[CLASSEMENT5]]+Tableau10[[#This Row],[CLASSEMENT6]])/6","v":1},{"$f":"RANK(Tableau10[[#This Row],[MOYENNE CLASSEMENTS]],Tableau10[MOYENNE CLASSEMENTS],1)","v":1},null,{"$f":"Tableau10[[#This Row],[CLASSEMENT1]]","v":1},"Serdar_1",{"$f":"IFERROR(VLOOKUP(U30,MATCHSELEVES!$Y$14:$AE$600,3,FALSE),0)","v":0},{"$f":"IFERROR(VLOOKUP(U30,MATCHSELEVES!$Y$14:$AE$600,4,FALSE),0)","v":0},{"$f":"IFERROR(VLOOKUP(U30,MATCHSELEVES!$Y$14:$AE$600,5,FALSE),0)","v":0},{"$f":"IFERROR(VLOOKUP(U30,MATCHSELEVES!$Y$14:$AF$600,8,FALSE),0)","v":0},{"$f":"IFERROR(VLOOKUP(U30,MATCHSELEVES!$Y$14:$AG$600,9,FALSE),0)","v":0},"Serdar_2",{"$f":"IFERROR(VLOOKUP(AA30,MATCHSELEVES!$Y$14:$AE$600,3,FALSE),0)","v":0},{"$f":"IFERROR(VLOOKUP(AA30,MATCHSELEVES!$Y$14:$AE$600,4,FALSE),0)","v":0},{"$f":"IFERROR(VLOOKUP(AA30,MATCHSELEVES!$Y$14:$AE$600,5,FALSE),0)","v":0},{"$f":"IFERROR(VLOOKUP(AA30,MATCHSELEVES!$Y$14:$AF$600,8,FALSE),0)","v":0},{"$f":"IFERROR(VLOOKUP(AA30,MATCHSELEVES!$Y$14:$AG$600,9,FALSE),0)","v":0},"Serdar_3",{"$f":"IFERROR(VLOOKUP(AG30,MATCHSELEVES!$Y$14:$AE$600,3,FALSE),0)","v":0},{"$f":"IFERROR(VLOOKUP(AG30,MATCHSELEVES!$Y$14:$AE$600,4,FALSE),0)","v":0},{"$f":"IFERROR(VLOOKUP(AG30,MATCHSELEVES!$Y$14:$AE$600,5,FALSE),0)","v":0},{"$f":"IFERROR(VLOOKUP(AG30,MATCHSELEVES!$Y$14:$AF$600,8,FALSE),0)","v":0},{"$f":"IFERROR(VLOOKUP(AG30,MATCHSELEVES!$Y$14:$AG$600,9,FALSE),0)","v":0},"Serdar_4",{"$f":"IFERROR(VLOOKUP(AM30,MATCHSELEVES!$Y$14:$AE$600,3,FALSE),0)","v":0},{"$f":"IFERROR(VLOOKUP(AM30,MATCHSELEVES!$Y$14:$AE$600,4,FALSE),0)","v":0},{"$f":"IFERROR(VLOOKUP(AM30,MATCHSELEVES!$Y$14:$AE$600,5,FALSE),0)","v":0},{"$f":"IFERROR(VLOOKUP(AM30,MATCHSELEVES!$Y$14:$AF$600,8,FALSE),0)","v":0},{"$f":"IFERROR(VLOOKUP(AM30,MATCHSELEVES!$Y$14:$AG$600,9,FALSE),0)","v":0},"Serdar_5",{"$f":"IFERROR(VLOOKUP(AS30,MATCHSELEVES!$Y$14:$AE$600,3,FALSE),0)","v":0},{"$f":"IFERROR(VLOOKUP(AS30,MATCHSELEVES!$Y$14:$AE$600,4,FALSE),0)","v":0},{"$f":"IFERROR(VLOOKUP(AS30,MATCHSELEVES!$Y$14:$AE$600,5,FALSE),0)","v":0},{"$f":"IFERROR(VLOOKUP(AS30,MATCHSELEVES!$Y$14:$AF$600,8,FALSE),0)","v":0},{"$f":"IFERROR(VLOOKUP(AS30,MATCHSELEVES!$Y$14:$AG$600,9,FALSE),0)","v":0},"Serdar_6",{"$f":"IFERROR(VLOOKUP(AY30,MATCHSELEVES!$Y$14:$AE$600,3,FALSE),0)","v":0},{"$f":"IFERROR(VLOOKUP(AY30,MATCHSELEVES!$Y$14:$AE$600,4,FALSE),0)","v":0},{"$f":"IFERROR(VLOOKUP(AY30,MATCHSELEVES!$Y$14:$AE$600,5,FALSE),0)","v":0},{"$f":"IFERROR(VLOOKUP(AY30,MATCHSELEVES!$Y$14:$AF$600,8,FALSE),0)","v":0},{"$f":"IFERROR(VLOOKUP(AY30,MATCHSELEVES!$Y$14:$AG$600,9,FALSE),0)","v":0},"Serdar_7",{"$f":"IFERROR(VLOOKUP(BE30,MATCHSELEVES!$Y$14:$AE$600,3,FALSE),0)","v":0},{"$f":"IFERROR(VLOOKUP(BE30,MATCHSELEVES!$Y$14:$AE$600,4,FALSE),0)","v":0},{"$f":"IFERROR(VLOOKUP(BE30,MATCHSELEVES!$Y$14:$AE$600,5,FALSE),0)","v":0},{"$f":"IFERROR(VLOOKUP(BE30,MATCHSELEVES!$Y$14:$AF$600,8,FALSE),0)","v":0},{"$f":"IFERROR(VLOOKUP(BE30,MATCHSELEVES!$Y$14:$AG$600,9,FALSE),0)","v":0},"Serdar_8",{"$f":"IFERROR(VLOOKUP(BK30,MATCHSELEVES!$Y$14:$AE$600,3,FALSE),0)","v":0},{"$f":"IFERROR(VLOOKUP(BK30,MATCHSELEVES!$Y$14:$AE$600,4,FALSE),0)","v":0},{"$f":"IFERROR(VLOOKUP(BK30,MATCHSELEVES!$Y$14:$AE$600,5,FALSE),0)","v":0},{"$f":"IFERROR(VLOOKUP(BK30,MATCHSELEVES!$Y$14:$AF$600,8,FALSE),0)","v":0},{"$f":"IFERROR(VLOOKUP(BK30,MATCHSELEVES!$Y$14:$AG$600,9,FALSE),0)","v":0},"Serdar_9",{"$f":"IFERROR(VLOOKUP(BQ30,MATCHSELEVES!$Y$14:$AE$600,3,FALSE),0)","v":0},{"$f":"IFERROR(VLOOKUP(BQ30,MATCHSELEVES!$Y$14:$AE$600,4,FALSE),0)","v":0},{"$f":"IFERROR(VLOOKUP(BQ30,MATCHSELEVES!$Y$14:$AE$600,5,FALSE),0)","v":0},{"$f":"IFERROR(VLOOKUP(BQ30,MATCHSELEVES!$Y$14:$AF$600,8,FALSE),0)","v":0},{"$f":"IFERROR(VLOOKUP(BQ30,MATCHSELEVES!$Y$14:$AG$600,9,FALSE),0)","v":0},"Serdar_10",{"$f":"IFERROR(VLOOKUP(BW30,MATCHSELEVES!$Y$14:$AE$600,3,FALSE),0)","v":0},{"$f":"IFERROR(VLOOKUP(BW30,MATCHSELEVES!$Y$14:$AE$600,4,FALSE),0)","v":0},{"$f":"IFERROR(VLOOKUP(BW30,MATCHSELEVES!$Y$14:$AE$600,5,FALSE),0)","v":0},{"$f":"IFERROR(VLOOKUP(BW30,MATCHSELEVES!$Y$14:$AF$600,8,FALSE),0)","v":0},{"$f":"IFERROR(VLOOKUP(BW30,MATCHSELEVES!$Y$14:$AG$600,9,FALSE),0)","v":0},"Serdar_11",{"$f":"IFERROR(VLOOKUP(CC30,MATCHSELEVES!$Y$14:$AE$600,3,FALSE),0)","v":0},{"$f":"IFERROR(VLOOKUP(CC30,MATCHSELEVES!$Y$14:$AE$600,4,FALSE),0)","v":0},{"$f":"IFERROR(VLOOKUP(CC30,MATCHSELEVES!$Y$14:$AE$600,5,FALSE),0)","v":0},{"$f":"IFERROR(VLOOKUP(CC30,MATCHSELEVES!$Y$14:$AF$600,8,FALSE),0)","v":0},{"$f":"IFERROR(VLOOKUP(CC30,MATCHSELEVES!$Y$14:$AG$600,9,FALSE),0)","v":0},"Serdar_12",{"$f":"IFERROR(VLOOKUP(CI30,MATCHSELEVES!$Y$14:$AE$600,3,FALSE),0)","v":0},{"$f":"IFERROR(VLOOKUP(CI30,MATCHSELEVES!$Y$14:$AE$600,4,FALSE),0)","v":0},{"$f":"IFERROR(VLOOKUP(CI30,MATCHSELEVES!$Y$14:$AE$600,5,FALSE),0)","v":0},{"$f":"IFERROR(VLOOKUP(CI30,MATCHSELEVES!$Y$14:$AF$600,8,FALSE),0)","v":0},{"$f":"IFERROR(VLOOKUP(CI30,MATCHSELEVES!$Y$14:$AG$600,9,FALSE),0)","v":0},"Serdar_13",{"$f":"IFERROR(VLOOKUP(CO30,MATCHSELEVES!$Y$14:$AE$600,3,FALSE),0)","v":0},{"$f":"IFERROR(VLOOKUP(CO30,MATCHSELEVES!$Y$14:$AE$600,4,FALSE),0)","v":0},{"$f":"IFERROR(VLOOKUP(CO30,MATCHSELEVES!$Y$14:$AE$600,5,FALSE),0)","v":0},{"$f":"IFERROR(VLOOKUP(CO30,MATCHSELEVES!$Y$14:$AF$600,8,FALSE),0)","v":0},{"$f":"IFERROR(VLOOKUP(CO30,MATCHSELEVES!$Y$14:$AG$600,9,FALSE),0)","v":0},"Serdar_14",{"$f":"IFERROR(VLOOKUP(CU30,MATCHSELEVES!$Y$14:$AE$600,3,FALSE),0)","v":0},{"$f":"IFERROR(VLOOKUP(CU30,MATCHSELEVES!$Y$14:$AE$600,4,FALSE),0)","v":0},{"$f":"IFERROR(VLOOKUP(CU30,MATCHSELEVES!$Y$14:$AE$600,5,FALSE),0)","v":0},{"$f":"IFERROR(VLOOKUP(CU30,MATCHSELEVES!$Y$14:$AF$600,8,FALSE),0)","v":0},{"$f":"IFERROR(VLOOKUP(CU30,MATCHSELEVES!$Y$14:$AG$600,9,FALSE),0)","v":0},"Serdar_15",{"$f":"IFERROR(VLOOKUP(DA30,MATCHSELEVES!$Y$14:$AE$600,3,FALSE),0)","v":0},{"$f":"IFERROR(VLOOKUP(DA30,MATCHSELEVES!$Y$14:$AE$600,4,FALSE),0)","v":0},{"$f":"IFERROR(VLOOKUP(DA30,MATCHSELEVES!$Y$14:$AE$600,5,FALSE),0)","v":0},{"$f":"IFERROR(VLOOKUP(DA30,MATCHSELEVES!$Y$14:$AF$600,8,FALSE),0)","v":0},{"$f":"IFERROR(VLOOKUP(DA30,MATCHSELEVES!$Y$14:$AG$600,9,FALSE),0)","v":0},"Serdar_16",{"$f":"IFERROR(VLOOKUP(DG30,MATCHSELEVES!$Y$14:$AE$600,3,FALSE),0)","v":0},{"$f":"IFERROR(VLOOKUP(DG30,MATCHSELEVES!$Y$14:$AE$600,4,FALSE),0)","v":0},{"$f":"IFERROR(VLOOKUP(DG30,MATCHSELEVES!$Y$14:$AE$600,5,FALSE),0)","v":0},{"$f":"IFERROR(VLOOKUP(DG30,MATCHSELEVES!$Y$14:$AF$600,8,FALSE),0)","v":0},{"$f":"IFERROR(VLOOKUP(DG30,MATCHSELEVES!$Y$14:$AG$600,9,FALSE),0)","v":0},"Serdar_17",{"$f":"IFERROR(VLOOKUP(DM30,MATCHSELEVES!$Y$14:$AE$600,3,FALSE),0)","v":0},{"$f":"IFERROR(VLOOKUP(DM30,MATCHSELEVES!$Y$14:$AE$600,4,FALSE),0)","v":0},{"$f":"IFERROR(VLOOKUP(DM30,MATCHSELEVES!$Y$14:$AE$600,5,FALSE),0)","v":0},{"$f":"IFERROR(VLOOKUP(DM30,MATCHSELEVES!$Y$14:$AF$600,8,FALSE),0)","v":0},{"$f":"IFERROR(VLOOKUP(DM30,MATCHSELEVES!$Y$14:$AG$600,9,FALSE),0)","v":0},"Serdar_18",{"$f":"IFERROR(VLOOKUP(DS30,MATCHSELEVES!$Y$14:$AE$600,3,FALSE),0)","v":0},{"$f":"IFERROR(VLOOKUP(DS30,MATCHSELEVES!$Y$14:$AE$600,4,FALSE),0)","v":0},{"$f":"IFERROR(VLOOKUP(DS30,MATCHSELEVES!$Y$14:$AE$600,5,FALSE),0)","v":0},{"$f":"IFERROR(VLOOKUP(DS30,MATCHSELEVES!$Y$14:$AF$600,8,FALSE),0)","v":0},{"$f":"IFERROR(VLOOKUP(DS30,MATCHSELEVES!$Y$14:$AG$600,9,FALSE),0)","v":0},"Serdar_19",{"$f":"IFERROR(VLOOKUP(DY30,MATCHSELEVES!$Y$14:$AE$600,3,FALSE),0)","v":0},{"$f":"IFERROR(VLOOKUP(DY30,MATCHSELEVES!$Y$14:$AE$600,4,FALSE),0)","v":0},{"$f":"IFERROR(VLOOKUP(DY30,MATCHSELEVES!$Y$14:$AE$600,5,FALSE),0)","v":0},{"$f":"IFERROR(VLOOKUP(DY30,MATCHSELEVES!$Y$14:$AF$600,8,FALSE),0)","v":0},{"$f":"IFERROR(VLOOKUP(DY30,MATCHSELEVES!$Y$14:$AG$600,9,FALSE),0)","v":0},"Serdar_20",{"$f":"IFERROR(VLOOKUP(EE30,MATCHSELEVES!$Y$14:$AE$600,3,FALSE),0)","v":0},{"$f":"IFERROR(VLOOKUP(EE30,MATCHSELEVES!$Y$14:$AE$600,4,FALSE),0)","v":0},{"$f":"IFERROR(VLOOKUP(EE30,MATCHSELEVES!$Y$14:$AE$600,5,FALSE),0)","v":0},{"$f":"IFERROR(VLOOKUP(EE30,MATCHSELEVES!$Y$14:$AF$600,8,FALSE),0)","v":0},{"$f":"IFERROR(VLOOKUP(EE30,MATCHSELEVES!$Y$14:$AG$600,9,FALSE),0)","v":0},"Serdar_21",{"$f":"IFERROR(VLOOKUP(EK30,MATCHSELEVES!$Y$14:$AE$600,3,FALSE),0)","v":0},{"$f":"IFERROR(VLOOKUP(EK30,MATCHSELEVES!$Y$14:$AE$600,4,FALSE),0)","v":0},{"$f":"IFERROR(VLOOKUP(EK30,MATCHSELEVES!$Y$14:$AE$600,5,FALSE),0)","v":0},{"$f":"IFERROR(VLOOKUP(EK30,MATCHSELEVES!$Y$14:$AF$600,8,FALSE),0)","v":0},{"$f":"IFERROR(VLOOKUP(EK30,MATCHSELEVES!$Y$14:$AG$600,9,FALSE),0)","v":0},"Serdar_22",{"$f":"IFERROR(VLOOKUP(EQ30,MATCHSELEVES!$Y$14:$AE$600,3,FALSE),0)","v":0},{"$f":"IFERROR(VLOOKUP(EQ30,MATCHSELEVES!$Y$14:$AE$600,4,FALSE),0)","v":0},{"$f":"IFERROR(VLOOKUP(EQ30,MATCHSELEVES!$Y$14:$AE$600,5,FALSE),0)","v":0},{"$f":"IFERROR(VLOOKUP(EQ30,MATCHSELEVES!$Y$14:$AF$600,8,FALSE),0)","v":0},{"$f":"IFERROR(VLOOKUP(EQ30,MATCHSELEVES!$Y$14:$AG$600,9,FALSE),0)","v":0},"Serdar_23",{"$f":"IFERROR(VLOOKUP(EW30,MATCHSELEVES!$Y$14:$AE$600,3,FALSE),0)","v":0},{"$f":"IFERROR(VLOOKUP(EW30,MATCHSELEVES!$Y$14:$AE$600,4,FALSE),0)","v":0},{"$f":"IFERROR(VLOOKUP(EW30,MATCHSELEVES!$Y$14:$AE$600,5,FALSE),0)","v":0},{"$f":"IFERROR(VLOOKUP(EW30,MATCHSELEVES!$Y$14:$AF$600,8,FALSE),0)","v":0},{"$f":"IFERROR(VLOOKUP(EW30,MATCHSELEVES!$Y$14:$AG$600,9,FALSE),0)","v":0},"Serdar_24",{"$f":"IFERROR(VLOOKUP(FC30,MATCHSELEVES!$Y$14:$AE$600,3,FALSE),0)","v":0},{"$f":"IFERROR(VLOOKUP(FC30,MATCHSELEVES!$Y$14:$AE$600,4,FALSE),0)","v":0},{"$f":"IFERROR(VLOOKUP(FC30,MATCHSELEVES!$Y$14:$AE$600,5,FALSE),0)","v":0},{"$f":"IFERROR(VLOOKUP(FC30,MATCHSELEVES!$Y$14:$AF$600,8,FALSE),0)","v":0},{"$f":"IFERROR(VLOOKUP(FC30,MATCHSELEVES!$Y$14:$AG$600,9,FALSE),0)","v":0},"Serdar_25",{"$f":"IFERROR(VLOOKUP(FI30,MATCHSELEVES!$Y$14:$AE$600,3,FALSE),0)","v":0},{"$f":"IFERROR(VLOOKUP(FI30,MATCHSELEVES!$Y$14:$AE$600,4,FALSE),0)","v":0},{"$f":"IFERROR(VLOOKUP(FI30,MATCHSELEVES!$Y$14:$AE$600,5,FALSE),0)","v":0},{"$f":"IFERROR(VLOOKUP(FI30,MATCHSELEVES!$Y$14:$AF$600,8,FALSE),0)","v":0},{"$f":"IFERROR(VLOOKUP(FI30,MATCHSELEVES!$Y$14:$AG$600,9,FALSE),0)","v":0},"Serdar_26",{"$f":"IFERROR(VLOOKUP(FO30,MATCHSELEVES!$Y$14:$AE$600,3,FALSE),0)","v":0},{"$f":"IFERROR(VLOOKUP(FO30,MATCHSELEVES!$Y$14:$AE$600,4,FALSE),0)","v":0},{"$f":"IFERROR(VLOOKUP(FO30,MATCHSELEVES!$Y$14:$AE$600,5,FALSE),0)","v":0},{"$f":"IFERROR(VLOOKUP(FO30,MATCHSELEVES!$Y$14:$AF$600,8,FALSE),0)","v":0},{"$f":"IFERROR(VLOOKUP(FO30,MATCHSELEVES!$Y$14:$AG$600,9,FALSE),0)","v":0},"Serdar_27",{"$f":"IFERROR(VLOOKUP(FU30,MATCHSELEVES!$Y$14:$AE$600,3,FALSE),0)","v":0},{"$f":"IFERROR(VLOOKUP(FU30,MATCHSELEVES!$Y$14:$AE$600,4,FALSE),0)","v":0},{"$f":"IFERROR(VLOOKUP(FU30,MATCHSELEVES!$Y$14:$AE$600,5,FALSE),0)","v":0},{"$f":"IFERROR(VLOOKUP(FU30,MATCHSELEVES!$Y$14:$AF$600,8,FALSE),0)","v":0},{"$f":"IFERROR(VLOOKUP(FU30,MATCHSELEVES!$Y$14:$AG$600,9,FALSE),0)","v":0},"Serdar_28",{"$f":"IFERROR(VLOOKUP(GA30,MATCHSELEVES!$Y$14:$AE$600,3,FALSE),0)","v":0},{"$f":"IFERROR(VLOOKUP(GA30,MATCHSELEVES!$Y$14:$AE$600,4,FALSE),0)","v":0},{"$f":"IFERROR(VLOOKUP(GA30,MATCHSELEVES!$Y$14:$AE$600,5,FALSE),0)","v":0},{"$f":"IFERROR(VLOOKUP(GA30,MATCHSELEVES!$Y$14:$AF$600,8,FALSE),0)","v":0},{"$f":"IFERROR(VLOOKUP(GA30,MATCHSELEVES!$Y$14:$AG$600,9,FALSE),0)","v":0},"Serdar_29",{"$f":"IFERROR(VLOOKUP(GG30,MATCHSELEVES!$Y$14:$AE$600,3,FALSE),0)","v":0},{"$f":"IFERROR(VLOOKUP(GG30,MATCHSELEVES!$Y$14:$AE$600,4,FALSE),0)","v":0},{"$f":"IFERROR(VLOOKUP(GG30,MATCHSELEVES!$Y$14:$AE$600,5,FALSE),0)","v":0},{"$f":"IFERROR(VLOOKUP(GG30,MATCHSELEVES!$Y$14:$AF$600,8,FALSE),0)","v":0},{"$f":"IFERROR(VLOOKUP(GG30,MATCHSELEVES!$Y$14:$AG$600,9,FALSE),0)","v":0},"Serdar_30",{"$f":"IFERROR(VLOOKUP(GM30,MATCHSELEVES!$Y$14:$AE$600,3,FALSE),0)","v":0},{"$f":"IFERROR(VLOOKUP(GM30,MATCHSELEVES!$Y$14:$AE$600,4,FALSE),0)","v":0},{"$f":"IFERROR(VLOOKUP(GM30,MATCHSELEVES!$Y$14:$AE$600,5,FALSE),0)","v":0},{"$f":"IFERROR(VLOOKUP(GM30,MATCHSELEVES!$Y$14:$AF$600,8,FALSE),0)","v":0},{"$f":"IFERROR(VLOOKUP(GM30,MATCHSELEVES!$Y$14:$AG$600,9,FALSE),0)","v":0},"Serdar_31",{"$f":"IFERROR(VLOOKUP(GS30,MATCHSELEVES!$Y$14:$AE$600,3,FALSE),0)","v":0},{"$f":"IFERROR(VLOOKUP(GS30,MATCHSELEVES!$Y$14:$AE$600,4,FALSE),0)","v":0},{"$f":"IFERROR(VLOOKUP(GS30,MATCHSELEVES!$Y$14:$AE$600,5,FALSE),0)","v":0},{"$f":"IFERROR(VLOOKUP(GS30,MATCHSELEVES!$Y$14:$AF$600,8,FALSE),0)","v":0},{"$f":"IFERROR(VLOOKUP(GS30,MATCHSELEVES!$Y$14:$AG$600,9,FALSE),0)","v":0},"Serdar_32",{"$f":"IFERROR(VLOOKUP(GY30,MATCHSELEVES!$Y$14:$AE$600,3,FALSE),0)","v":0},{"$f":"IFERROR(VLOOKUP(GY30,MATCHSELEVES!$Y$14:$AE$600,4,FALSE),0)","v":0},{"$f":"IFERROR(VLOOKUP(GY30,MATCHSELEVES!$Y$14:$AE$600,5,FALSE),0)","v":0},{"$f":"IFERROR(VLOOKUP(GY30,MATCHSELEVES!$Y$14:$AF$600,8,FALSE),0)","v":0},{"$f":"IFERROR(VLOOKUP(GY30,MATCHSELEVES!$Y$14:$AG$600,9,FALSE),0)","v":0},"Serdar_33",{"$f":"IFERROR(VLOOKUP(HE30,MATCHSELEVES!$Y$14:$AE$600,3,FALSE),0)","v":0},{"$f":"IFERROR(VLOOKUP(HE30,MATCHSELEVES!$Y$14:$AE$600,4,FALSE),0)","v":0},{"$f":"IFERROR(VLOOKUP(HE30,MATCHSELEVES!$Y$14:$AE$600,5,FALSE),0)","v":0},{"$f":"IFERROR(VLOOKUP(HE30,MATCHSELEVES!$Y$14:$AF$600,8,FALSE),0)","v":0},{"$f":"IFERROR(VLOOKUP(HE30,MATCHSELEVES!$Y$14:$AG$600,9,FALSE),0)","v":0},"Serdar_34",{"$f":"IFERROR(VLOOKUP(HK30,MATCHSELEVES!$Y$14:$AE$600,3,FALSE),0)","v":0},{"$f":"IFERROR(VLOOKUP(HK30,MATCHSELEVES!$Y$14:$AE$600,4,FALSE),0)","v":0},{"$f":"IFERROR(VLOOKUP(HK30,MATCHSELEVES!$Y$14:$AE$600,5,FALSE),0)","v":0},{"$f":"IFERROR(VLOOKUP(HK30,MATCHSELEVES!$Y$14:$AF$600,8,FALSE),0)","v":0},{"$f":"IFERROR(VLOOKUP(HK30,MATCHSELEVES!$Y$14:$AG$600,9,FALSE),0)","v":0},"Serdar_35",{"$f":"IFERROR(VLOOKUP(HQ30,MATCHSELEVES!$Y$14:$AE$600,3,FALSE),0)","v":0},{"$f":"IFERROR(VLOOKUP(HQ30,MATCHSELEVES!$Y$14:$AE$600,4,FALSE),0)","v":0},{"$f":"IFERROR(VLOOKUP(HQ30,MATCHSELEVES!$Y$14:$AE$600,5,FALSE),0)","v":0},{"$f":"IFERROR(VLOOKUP(HQ30,MATCHSELEVES!$Y$14:$AF$600,8,FALSE),0)","v":0},{"$f":"IFERROR(VLOOKUP(HQ30,MATCHSELEVES!$Y$14:$AG$600,9,FALSE),0)","v":0},"Serdar_36",{"$f":"IFERROR(VLOOKUP(HW30,MATCHSELEVES!$Y$14:$AE$600,3,FALSE),0)","v":0},{"$f":"IFERROR(VLOOKUP(HW30,MATCHSELEVES!$Y$14:$AE$600,4,FALSE),0)","v":0},{"$f":"IFERROR(VLOOKUP(HW30,MATCHSELEVES!$Y$14:$AE$600,5,FALSE),0)","v":0},{"$f":"IFERROR(VLOOKUP(HW30,MATCHSELEVES!$Y$14:$AF$600,8,FALSE),0)","v":0},{"$f":"IFERROR(VLOOKUP(HW30,MATCHSELEVES!$Y$14:$AG$600,9,FALSE),0)","v":0},"Serdar_37",{"$f":"IFERROR(VLOOKUP(IC30,MATCHSELEVES!$Y$14:$AE$600,3,FALSE),0)","v":0},{"$f":"IFERROR(VLOOKUP(IC30,MATCHSELEVES!$Y$14:$AE$600,4,FALSE),0)","v":0},{"$f":"IFERROR(VLOOKUP(IC30,MATCHSELEVES!$Y$14:$AE$600,5,FALSE),0)","v":0},{"$f":"IFERROR(VLOOKUP(IC30,MATCHSELEVES!$Y$14:$AF$600,8,FALSE),0)","v":0},{"$f":"IFERROR(VLOOKUP(IC30,MATCHSELEVES!$Y$14:$AG$600,9,FALSE),0)","v":0},"Serdar_38",{"$f":"IFERROR(VLOOKUP(II30,MATCHSELEVES!$Y$14:$AE$600,3,FALSE),0)","v":0},{"$f":"IFERROR(VLOOKUP(II30,MATCHSELEVES!$Y$14:$AE$600,4,FALSE),0)","v":0},{"$f":"IFERROR(VLOOKUP(II30,MATCHSELEVES!$Y$14:$AE$600,5,FALSE),0)","v":0},{"$f":"IFERROR(VLOOKUP(II30,MATCHSELEVES!$Y$14:$AF$600,8,FALSE),0)","v":0},{"$f":"IFERROR(VLOOKUP(II30,MATCHSELEVES!$Y$14:$AG$600,9,FALSE),0)","v":0},"Serdar_39",{"$f":"IFERROR(VLOOKUP(IO30,MATCHSELEVES!$Y$14:$AE$600,3,FALSE),0)","v":0},{"$f":"IFERROR(VLOOKUP(IO30,MATCHSELEVES!$Y$14:$AE$600,4,FALSE),0)","v":0},{"$f":"IFERROR(VLOOKUP(IO30,MATCHSELEVES!$Y$14:$AE$600,5,FALSE),0)","v":0},{"$f":"IFERROR(VLOOKUP(IO30,MATCHSELEVES!$Y$14:$AF$600,8,FALSE),0)","v":0},{"$f":"IFERROR(VLOOKUP(IO30,MATCHSELEVES!$Y$14:$AG$600,9,FALSE),0)","v":0},"Serdar_40",{"$f":"IFERROR(VLOOKUP(IU30,MATCHSELEVES!$Y$14:$AE$600,3,FALSE),0)","v":0},{"$f":"IFERROR(VLOOKUP(IU30,MATCHSELEVES!$Y$14:$AE$600,4,FALSE),0)","v":0},{"$f":"IFERROR(VLOOKUP(IU30,MATCHSELEVES!$Y$14:$AE$600,5,FALSE),0)","v":0},{"$f":"IFERROR(VLOOKUP(IU30,MATCHSELEVES!$Y$14:$AF$600,8,FALSE),0)","v":0},{"$f":"IFERROR(VLOOKUP(IU30,MATCHSELEVES!$Y$14:$AG$600,9,FALSE),0)","v":0},{"$f":"Tableau10[[#This Row],[CLASSE]]","v":"Serdar"},1,{"$f":"MD1POINT!D30","v":1},"Serdarp_1",{"$f":"IFERROR(VLOOKUP(JD30,MATCHSELEVES!$Y$14:$AE$600,3,FALSE),0)","v":0},{"$f":"IFERROR(VLOOKUP(JD30,MATCHSELEVES!$Y$14:$AE$600,4,FALSE),0)","v":0},{"$f":"IFERROR(VLOOKUP(JD30,MATCHSELEVES!$Y$14:$AE$600,5,FALSE),0)","v":0},{"$f":"IFERROR(VLOOKUP(JD30,MATCHSELEVES!$Y$14:$AF$600,8,FALSE),0)","v":0},{"$f":"IFERROR(VLOOKUP(JD30,MATCHSELEVES!$Y$14:$AG$600,9,FALSE),0)","v":0},"Serdarp_2",{"$f":"IFERROR(VLOOKUP(JJ30,MATCHSELEVES!$Y$14:$AE$600,3,FALSE),0)","v":0},{"$f":"IFERROR(VLOOKUP(JJ30,MATCHSELEVES!$Y$14:$AE$600,4,FALSE),0)","v":0},{"$f":"IFERROR(VLOOKUP(JJ30,MATCHSELEVES!$Y$14:$AE$600,5,FALSE),0)","v":0},{"$f":"IFERROR(VLOOKUP(JJ30,MATCHSELEVES!$Y$14:$AF$600,8,FALSE),0)","v":0},{"$f":"IFERROR(VLOOKUP(JJ30,MATCHSELEVES!$Y$14:$AG$600,9,FALSE),0)","v":0},"Serdarp_3",{"$f":"IFERROR(VLOOKUP(JP30,MATCHSELEVES!$Y$14:$AE$600,3,FALSE),0)","v":0},{"$f":"IFERROR(VLOOKUP(JP30,MATCHSELEVES!$Y$14:$AE$600,4,FALSE),0)","v":0},{"$f":"IFERROR(VLOOKUP(JP30,MATCHSELEVES!$Y$14:$AE$600,5,FALSE),0)","v":0},{"$f":"IFERROR(VLOOKUP(JP30,MATCHSELEVES!$Y$14:$AF$600,8,FALSE),0)","v":0},{"$f":"IFERROR(VLOOKUP(JP30,MATCHSELEVES!$Y$14:$AG$600,9,FALSE),0)","v":0},"Serdarp_4",{"$f":"IFERROR(VLOOKUP(JV30,MATCHSELEVES!$Y$14:$AE$600,3,FALSE),0)","v":0},{"$f":"IFERROR(VLOOKUP(JV30,MATCHSELEVES!$Y$14:$AE$600,4,FALSE),0)","v":0},{"$f":"IFERROR(VLOOKUP(JV30,MATCHSELEVES!$Y$14:$AE$600,5,FALSE),0)","v":0},{"$f":"IFERROR(VLOOKUP(JV30,MATCHSELEVES!$Y$14:$AF$600,8,FALSE),0)","v":0},{"$f":"IFERROR(VLOOKUP(JV30,MATCHSELEVES!$Y$14:$AG$600,9,FALSE),0)","v":0},"Serdarp_5",{"$f":"IFERROR(VLOOKUP(KB30,MATCHSELEVES!$Y$14:$AE$600,3,FALSE),0)","v":0},{"$f":"IFERROR(VLOOKUP(KB30,MATCHSELEVES!$Y$14:$AE$600,4,FALSE),0)","v":0},{"$f":"IFERROR(VLOOKUP(KB30,MATCHSELEVES!$Y$14:$AE$600,5,FALSE),0)","v":0},{"$f":"IFERROR(VLOOKUP(KB30,MATCHSELEVES!$Y$14:$AF$600,8,FALSE),0)","v":0},{"$f":"IFERROR(VLOOKUP(KB30,MATCHSELEVES!$Y$14:$AG$600,9,FALSE),0)","v":0},"Serdarp_6",{"$f":"IFERROR(VLOOKUP(KH30,MATCHSELEVES!$Y$14:$AE$600,3,FALSE),0)","v":0},{"$f":"IFERROR(VLOOKUP(KH30,MATCHSELEVES!$Y$14:$AE$600,4,FALSE),0)","v":0},{"$f":"IFERROR(VLOOKUP(KH30,MATCHSELEVES!$Y$14:$AE$600,5,FALSE),0)","v":0},{"$f":"IFERROR(VLOOKUP(KH30,MATCHSELEVES!$Y$14:$AF$600,8,FALSE),0)","v":0},{"$f":"IFERROR(VLOOKUP(KH30,MATCHSELEVES!$Y$14:$AG$600,9,FALSE),0)","v":0},"Serdarp_7",{"$f":"IFERROR(VLOOKUP(KN30,MATCHSELEVES!$Y$14:$AE$600,3,FALSE),0)","v":0},{"$f":"IFERROR(VLOOKUP(KN30,MATCHSELEVES!$Y$14:$AE$600,4,FALSE),0)","v":0},{"$f":"IFERROR(VLOOKUP(KN30,MATCHSELEVES!$Y$14:$AE$600,5,FALSE),0)","v":0},{"$f":"IFERROR(VLOOKUP(KN30,MATCHSELEVES!$Y$14:$AF$600,8,FALSE),0)","v":0},{"$f":"IFERROR(VLOOKUP(KN30,MATCHSELEVES!$Y$14:$AG$600,9,FALSE),0)","v":0},"Serdarp_8",{"$f":"IFERROR(VLOOKUP(KT30,MATCHSELEVES!$Y$14:$AE$600,3,FALSE),0)","v":0},{"$f":"IFERROR(VLOOKUP(KT30,MATCHSELEVES!$Y$14:$AE$600,4,FALSE),0)","v":0},{"$f":"IFERROR(VLOOKUP(KT30,MATCHSELEVES!$Y$14:$AE$600,5,FALSE),0)","v":0},{"$f":"IFERROR(VLOOKUP(KT30,MATCHSELEVES!$Y$14:$AF$600,8,FALSE),0)","v":0},{"$f":"IFERROR(VLOOKUP(KT30,MATCHSELEVES!$Y$14:$AG$600,9,FALSE),0)","v":0},"Serdarp_9",{"$f":"IFERROR(VLOOKUP(KZ30,MATCHSELEVES!$Y$14:$AE$600,3,FALSE),0)","v":0},{"$f":"IFERROR(VLOOKUP(KZ30,MATCHSELEVES!$Y$14:$AE$600,4,FALSE),0)","v":0},{"$f":"IFERROR(VLOOKUP(KZ30,MATCHSELEVES!$Y$14:$AE$600,5,FALSE),0)","v":0},{"$f":"IFERROR(VLOOKUP(KZ30,MATCHSELEVES!$Y$14:$AF$600,8,FALSE),0)","v":0},{"$f":"IFERROR(VLOOKUP(KZ30,MATCHSELEVES!$Y$14:$AG$600,9,FALSE),0)","v":0},"Serdarp_10",{"$f":"IFERROR(VLOOKUP(LF30,MATCHSELEVES!$Y$14:$AE$600,3,FALSE),0)","v":0},{"$f":"IFERROR(VLOOKUP(LF30,MATCHSELEVES!$Y$14:$AE$600,4,FALSE),0)","v":0},{"$f":"IFERROR(VLOOKUP(LF30,MATCHSELEVES!$Y$14:$AE$600,5,FALSE),0)","v":0},{"$f":"IFERROR(VLOOKUP(LF30,MATCHSELEVES!$Y$14:$AF$600,8,FALSE),0)","v":0},{"$f":"IFERROR(VLOOKUP(LF30,MATCHSELEVES!$Y$14:$AG$600,9,FALSE),0)","v":0},"Serdarp_11",{"$f":"IFERROR(VLOOKUP(LL30,MATCHSELEVES!$Y$14:$AE$600,3,FALSE),0)","v":0},{"$f":"IFERROR(VLOOKUP(LL30,MATCHSELEVES!$Y$14:$AE$600,4,FALSE),0)","v":0},{"$f":"IFERROR(VLOOKUP(LL30,MATCHSELEVES!$Y$14:$AE$600,5,FALSE),0)","v":0},{"$f":"IFERROR(VLOOKUP(LL30,MATCHSELEVES!$Y$14:$AF$600,8,FALSE),0)","v":0},{"$f":"IFERROR(VLOOKUP(LL30,MATCHSELEVES!$Y$14:$AG$600,9,FALSE),0)","v":0},"Serdarp_12",{"$f":"IFERROR(VLOOKUP(LR30,MATCHSELEVES!$Y$14:$AE$600,3,FALSE),0)","v":0},{"$f":"IFERROR(VLOOKUP(LR30,MATCHSELEVES!$Y$14:$AE$600,4,FALSE),0)","v":0},{"$f":"IFERROR(VLOOKUP(LR30,MATCHSELEVES!$Y$14:$AE$600,5,FALSE),0)","v":0},{"$f":"IFERROR(VLOOKUP(LR30,MATCHSELEVES!$Y$14:$AF$600,8,FALSE),0)","v":0},{"$f":"IFERROR(VLOOKUP(LR30,MATCHSELEVES!$Y$14:$AG$600,9,FALSE),0)","v":0},"Serdarp_13",{"$f":"IFERROR(VLOOKUP(LX30,MATCHSELEVES!$Y$14:$AE$600,3,FALSE),0)","v":0},{"$f":"IFERROR(VLOOKUP(LX30,MATCHSELEVES!$Y$14:$AE$600,4,FALSE),0)","v":0},{"$f":"IFERROR(VLOOKUP(LX30,MATCHSELEVES!$Y$14:$AE$600,5,FALSE),0)","v":0},{"$f":"IFERROR(VLOOKUP(LX30,MATCHSELEVES!$Y$14:$AF$600,8,FALSE),0)","v":0},{"$f":"IFERROR(VLOOKUP(LX30,MATCHSELEVES!$Y$14:$AG$600,9,FALSE),0)","v":0},"Serdarp_14",{"$f":"IFERROR(VLOOKUP(MD30,MATCHSELEVES!$Y$14:$AE$600,3,FALSE),0)","v":0},{"$f":"IFERROR(VLOOKUP(MD30,MATCHSELEVES!$Y$14:$AE$600,4,FALSE),0)","v":0},{"$f":"IFERROR(VLOOKUP(MD30,MATCHSELEVES!$Y$14:$AE$600,5,FALSE),0)","v":0},{"$f":"IFERROR(VLOOKUP(MD30,MATCHSELEVES!$Y$14:$AF$600,8,FALSE),0)","v":0},{"$f":"IFERROR(VLOOKUP(MD30,MATCHSELEVES!$Y$14:$AG$600,9,FALSE),0)","v":0},"Serdarp_15",{"$f":"IFERROR(VLOOKUP(MJ30,MATCHSELEVES!$Y$14:$AE$600,3,FALSE),0)","v":0},{"$f":"IFERROR(VLOOKUP(MJ30,MATCHSELEVES!$Y$14:$AE$600,4,FALSE),0)","v":0},{"$f":"IFERROR(VLOOKUP(MJ30,MATCHSELEVES!$Y$14:$AE$600,5,FALSE),0)","v":0},{"$f":"IFERROR(VLOOKUP(MJ30,MATCHSELEVES!$Y$14:$AF$600,8,FALSE),0)","v":0},{"$f":"IFERROR(VLOOKUP(MJ30,MATCHSELEVES!$Y$14:$AG$600,9,FALSE),0)","v":0},"Serdarp_16",{"$f":"IFERROR(VLOOKUP(MP30,MATCHSELEVES!$Y$14:$AE$600,3,FALSE),0)","v":0},{"$f":"IFERROR(VLOOKUP(MP30,MATCHSELEVES!$Y$14:$AE$600,4,FALSE),0)","v":0},{"$f":"IFERROR(VLOOKUP(MP30,MATCHSELEVES!$Y$14:$AE$600,5,FALSE),0)","v":0},{"$f":"IFERROR(VLOOKUP(MP30,MATCHSELEVES!$Y$14:$AF$600,8,FALSE),0)","v":0},{"$f":"IFERROR(VLOOKUP(MP30,MATCHSELEVES!$Y$14:$AG$600,9,FALSE),0)","v":0},"Serdarp_17",{"$f":"IFERROR(VLOOKUP(MV30,MATCHSELEVES!$Y$14:$AE$600,3,FALSE),0)","v":0},{"$f":"IFERROR(VLOOKUP(MV30,MATCHSELEVES!$Y$14:$AE$600,4,FALSE),0)","v":0},{"$f":"IFERROR(VLOOKUP(MV30,MATCHSELEVES!$Y$14:$AE$600,5,FALSE),0)","v":0},{"$f":"IFERROR(VLOOKUP(MV30,MATCHSELEVES!$Y$14:$AF$600,8,FALSE),0)","v":0},{"$f":"IFERROR(VLOOKUP(MV30,MATCHSELEVES!$Y$14:$AG$600,9,FALSE),0)","v":0},"Serdarp_18",{"$f":"IFERROR(VLOOKUP(NB30,MATCHSELEVES!$Y$14:$AE$600,3,FALSE),0)","v":0},{"$f":"IFERROR(VLOOKUP(NB30,MATCHSELEVES!$Y$14:$AE$600,4,FALSE),0)","v":0},{"$f":"IFERROR(VLOOKUP(NB30,MATCHSELEVES!$Y$14:$AE$600,5,FALSE),0)","v":0},{"$f":"IFERROR(VLOOKUP(NB30,MATCHSELEVES!$Y$14:$AF$600,8,FALSE),0)","v":0},{"$f":"IFERROR(VLOOKUP(NB30,MATCHSELEVES!$Y$14:$AG$600,9,FALSE),0)","v":0},"Serdarp_19",{"$f":"IFERROR(VLOOKUP(NH30,MATCHSELEVES!$Y$14:$AE$600,3,FALSE),0)","v":0},{"$f":"IFERROR(VLOOKUP(NH30,MATCHSELEVES!$Y$14:$AE$600,4,FALSE),0)","v":0},{"$f":"IFERROR(VLOOKUP(NH30,MATCHSELEVES!$Y$14:$AE$600,5,FALSE),0)","v":0},{"$f":"IFERROR(VLOOKUP(NH30,MATCHSELEVES!$Y$14:$AF$600,8,FALSE),0)","v":0},{"$f":"IFERROR(VLOOKUP(NH30,MATCHSELEVES!$Y$14:$AG$600,9,FALSE),0)","v":0},"Serdarp_20",{"$f":"IFERROR(VLOOKUP(NN30,MATCHSELEVES!$Y$14:$AE$600,3,FALSE),0)","v":0},{"$f":"IFERROR(VLOOKUP(NN30,MATCHSELEVES!$Y$14:$AE$600,4,FALSE),0)","v":0},{"$f":"IFERROR(VLOOKUP(NN30,MATCHSELEVES!$Y$14:$AE$600,5,FALSE),0)","v":0},{"$f":"IFERROR(VLOOKUP(NN30,MATCHSELEVES!$Y$14:$AF$600,8,FALSE),0)","v":0},{"$f":"IFERROR(VLOOKUP(NN30,MATCHSELEVES!$Y$14:$AG$600,9,FALSE),0)","v":0},"Serdarp_21",{"$f":"IFERROR(VLOOKUP(NT30,MATCHSELEVES!$Y$14:$AE$600,3,FALSE),0)","v":0},{"$f":"IFERROR(VLOOKUP(NT30,MATCHSELEVES!$Y$14:$AE$600,4,FALSE),0)","v":0},{"$f":"IFERROR(VLOOKUP(NT30,MATCHSELEVES!$Y$14:$AE$600,5,FALSE),0)","v":0},{"$f":"IFERROR(VLOOKUP(NT30,MATCHSELEVES!$Y$14:$AF$600,8,FALSE),0)","v":0},{"$f":"IFERROR(VLOOKUP(NT30,MATCHSELEVES!$Y$14:$AG$600,9,FALSE),0)","v":0},"Serdarp_22",{"$f":"IFERROR(VLOOKUP(NZ30,MATCHSELEVES!$Y$14:$AE$600,3,FALSE),0)","v":0},{"$f":"IFERROR(VLOOKUP(NZ30,MATCHSELEVES!$Y$14:$AE$600,4,FALSE),0)","v":0},{"$f":"IFERROR(VLOOKUP(NZ30,MATCHSELEVES!$Y$14:$AE$600,5,FALSE),0)","v":0},{"$f":"IFERROR(VLOOKUP(NZ30,MATCHSELEVES!$Y$14:$AF$600,8,FALSE),0)","v":0},{"$f":"IFERROR(VLOOKUP(NZ30,MATCHSELEVES!$Y$14:$AG$600,9,FALSE),0)","v":0},"Serdarp_23",{"$f":"IFERROR(VLOOKUP(OF30,MATCHSELEVES!$Y$14:$AE$600,3,FALSE),0)","v":0},{"$f":"IFERROR(VLOOKUP(OF30,MATCHSELEVES!$Y$14:$AE$600,4,FALSE),0)","v":0},{"$f":"IFERROR(VLOOKUP(OF30,MATCHSELEVES!$Y$14:$AE$600,5,FALSE),0)","v":0},{"$f":"IFERROR(VLOOKUP(OF30,MATCHSELEVES!$Y$14:$AF$600,8,FALSE),0)","v":0},{"$f":"IFERROR(VLOOKUP(OF30,MATCHSELEVES!$Y$14:$AG$600,9,FALSE),0)","v":0},"Serdarp_24",{"$f":"IFERROR(VLOOKUP(OL30,MATCHSELEVES!$Y$14:$AE$600,3,FALSE),0)","v":0},{"$f":"IFERROR(VLOOKUP(OL30,MATCHSELEVES!$Y$14:$AE$600,4,FALSE),0)","v":0},{"$f":"IFERROR(VLOOKUP(OL30,MATCHSELEVES!$Y$14:$AE$600,5,FALSE),0)","v":0},{"$f":"IFERROR(VLOOKUP(OL30,MATCHSELEVES!$Y$14:$AF$600,8,FALSE),0)","v":0},{"$f":"IFERROR(VLOOKUP(OL30,MATCHSELEVES!$Y$14:$AG$600,9,FALSE),0)","v":0},"Serdarp_25",{"$f":"IFERROR(VLOOKUP(OR30,MATCHSELEVES!$Y$14:$AE$600,3,FALSE),0)","v":0},{"$f":"IFERROR(VLOOKUP(OR30,MATCHSELEVES!$Y$14:$AE$600,4,FALSE),0)","v":0},{"$f":"IFERROR(VLOOKUP(OR30,MATCHSELEVES!$Y$14:$AE$600,5,FALSE),0)","v":0},{"$f":"IFERROR(VLOOKUP(OR30,MATCHSELEVES!$Y$14:$AF$600,8,FALSE),0)","v":0},{"$f":"IFERROR(VLOOKUP(OR30,MATCHSELEVES!$Y$14:$AG$600,9,FALSE),0)","v":0},"Serdarp_26",{"$f":"IFERROR(VLOOKUP(OX30,MATCHSELEVES!$Y$14:$AE$600,3,FALSE),0)","v":0},{"$f":"IFERROR(VLOOKUP(OX30,MATCHSELEVES!$Y$14:$AE$600,4,FALSE),0)","v":0},{"$f":"IFERROR(VLOOKUP(OX30,MATCHSELEVES!$Y$14:$AE$600,5,FALSE),0)","v":0},{"$f":"IFERROR(VLOOKUP(OX30,MATCHSELEVES!$Y$14:$AF$600,8,FALSE),0)","v":0},{"$f":"IFERROR(VLOOKUP(OX30,MATCHSELEVES!$Y$14:$AG$600,9,FALSE),0)","v":0},"Serdarp_27",{"$f":"IFERROR(VLOOKUP(PD30,MATCHSELEVES!$Y$14:$AE$600,3,FALSE),0)","v":0},{"$f":"IFERROR(VLOOKUP(PD30,MATCHSELEVES!$Y$14:$AE$600,4,FALSE),0)","v":0},{"$f":"IFERROR(VLOOKUP(PD30,MATCHSELEVES!$Y$14:$AE$600,5,FALSE),0)","v":0},{"$f":"IFERROR(VLOOKUP(PD30,MATCHSELEVES!$Y$14:$AF$600,8,FALSE),0)","v":0},{"$f":"IFERROR(VLOOKUP(PD30,MATCHSELEVES!$Y$14:$AG$600,9,FALSE),0)","v":0},"Serdarp_28",{"$f":"IFERROR(VLOOKUP(PJ30,MATCHSELEVES!$Y$14:$AE$600,3,FALSE),0)","v":0},{"$f":"IFERROR(VLOOKUP(PJ30,MATCHSELEVES!$Y$14:$AE$600,4,FALSE),0)","v":0},{"$f":"IFERROR(VLOOKUP(PJ30,MATCHSELEVES!$Y$14:$AE$600,5,FALSE),0)","v":0},{"$f":"IFERROR(VLOOKUP(PJ30,MATCHSELEVES!$Y$14:$AF$600,8,FALSE),0)","v":0},{"$f":"IFERROR(VLOOKUP(PJ30,MATCHSELEVES!$Y$14:$AG$600,9,FALSE),0)","v":0},"Serdarp_29",{"$f":"IFERROR(VLOOKUP(PP30,MATCHSELEVES!$Y$14:$AE$600,3,FALSE),0)","v":0},{"$f":"IFERROR(VLOOKUP(PP30,MATCHSELEVES!$Y$14:$AE$600,4,FALSE),0)","v":0},{"$f":"IFERROR(VLOOKUP(PP30,MATCHSELEVES!$Y$14:$AE$600,5,FALSE),0)","v":0},{"$f":"IFERROR(VLOOKUP(PP30,MATCHSELEVES!$Y$14:$AF$600,8,FALSE),0)","v":0},{"$f":"IFERROR(VLOOKUP(PP30,MATCHSELEVES!$Y$14:$AG$600,9,FALSE),0)","v":0},"Serdarp_30",{"$f":"IFERROR(VLOOKUP(PV30,MATCHSELEVES!$Y$14:$AE$600,3,FALSE),0)","v":0},{"$f":"IFERROR(VLOOKUP(PV30,MATCHSELEVES!$Y$14:$AE$600,4,FALSE),0)","v":0},{"$f":"IFERROR(VLOOKUP(PV30,MATCHSELEVES!$Y$14:$AE$600,5,FALSE),0)","v":0},{"$f":"IFERROR(VLOOKUP(PV30,MATCHSELEVES!$Y$14:$AF$600,8,FALSE),0)","v":0},{"$f":"IFERROR(VLOOKUP(PV30,MATCHSELEVES!$Y$14:$AG$600,9,FALSE),0)","v":0},"Serdarp_31",{"$f":"IFERROR(VLOOKUP(QB30,MATCHSELEVES!$Y$14:$AE$600,3,FALSE),0)","v":0},{"$f":"IFERROR(VLOOKUP(QB30,MATCHSELEVES!$Y$14:$AE$600,4,FALSE),0)","v":0},{"$f":"IFERROR(VLOOKUP(QB30,MATCHSELEVES!$Y$14:$AE$600,5,FALSE),0)","v":0},{"$f":"IFERROR(VLOOKUP(QB30,MATCHSELEVES!$Y$14:$AF$600,8,FALSE),0)","v":0},{"$f":"IFERROR(VLOOKUP(QB30,MATCHSELEVES!$Y$14:$AG$600,9,FALSE),0)","v":0},"Serdarp_32",{"$f":"IFERROR(VLOOKUP(QH30,MATCHSELEVES!$Y$14:$AE$600,3,FALSE),0)","v":0},{"$f":"IFERROR(VLOOKUP(QH30,MATCHSELEVES!$Y$14:$AE$600,4,FALSE),0)","v":0},{"$f":"IFERROR(VLOOKUP(QH30,MATCHSELEVES!$Y$14:$AE$600,5,FALSE),0)","v":0},{"$f":"IFERROR(VLOOKUP(QH30,MATCHSELEVES!$Y$14:$AF$600,8,FALSE),0)","v":0},{"$f":"IFERROR(VLOOKUP(QH30,MATCHSELEVES!$Y$14:$AG$600,9,FALSE),0)","v":0},"Serdarp_33",{"$f":"IFERROR(VLOOKUP(QN30,MATCHSELEVES!$Y$14:$AE$600,3,FALSE),0)","v":0},{"$f":"IFERROR(VLOOKUP(QN30,MATCHSELEVES!$Y$14:$AE$600,4,FALSE),0)","v":0},{"$f":"IFERROR(VLOOKUP(QN30,MATCHSELEVES!$Y$14:$AE$600,5,FALSE),0)","v":0},{"$f":"IFERROR(VLOOKUP(QN30,MATCHSELEVES!$Y$14:$AF$600,8,FALSE),0)","v":0},{"$f":"IFERROR(VLOOKUP(QN30,MATCHSELEVES!$Y$14:$AG$600,9,FALSE),0)","v":0},"Serdarp_34",{"$f":"IFERROR(VLOOKUP(QT30,MATCHSELEVES!$Y$14:$AE$600,3,FALSE),0)","v":0},{"$f":"IFERROR(VLOOKUP(QT30,MATCHSELEVES!$Y$14:$AE$600,4,FALSE),0)","v":0},{"$f":"IFERROR(VLOOKUP(QT30,MATCHSELEVES!$Y$14:$AE$600,5,FALSE),0)","v":0},{"$f":"IFERROR(VLOOKUP(QT30,MATCHSELEVES!$Y$14:$AF$600,8,FALSE),0)","v":0},{"$f":"IFERROR(VLOOKUP(QT30,MATCHSELEVES!$Y$14:$AG$600,9,FALSE),0)","v":0},"Serdarp_35",{"$f":"IFERROR(VLOOKUP(QZ30,MATCHSELEVES!$Y$14:$AE$600,3,FALSE),0)","v":0},{"$f":"IFERROR(VLOOKUP(QZ30,MATCHSELEVES!$Y$14:$AE$600,4,FALSE),0)","v":0},{"$f":"IFERROR(VLOOKUP(QZ30,MATCHSELEVES!$Y$14:$AE$600,5,FALSE),0)","v":0},{"$f":"IFERROR(VLOOKUP(QZ30,MATCHSELEVES!$Y$14:$AF$600,8,FALSE),0)","v":0},{"$f":"IFERROR(VLOOKUP(QZ30,MATCHSELEVES!$Y$14:$AG$600,9,FALSE),0)","v":0},"Serdarp_36",{"$f":"IFERROR(VLOOKUP(RF30,MATCHSELEVES!$Y$14:$AE$600,3,FALSE),0)","v":0},{"$f":"IFERROR(VLOOKUP(RF30,MATCHSELEVES!$Y$14:$AE$600,4,FALSE),0)","v":0},{"$f":"IFERROR(VLOOKUP(RF30,MATCHSELEVES!$Y$14:$AE$600,5,FALSE),0)","v":0},{"$f":"IFERROR(VLOOKUP(RF30,MATCHSELEVES!$Y$14:$AF$600,8,FALSE),0)","v":0},{"$f":"IFERROR(VLOOKUP(RF30,MATCHSELEVES!$Y$14:$AG$600,9,FALSE),0)","v":0},"Serdarp_37",{"$f":"IFERROR(VLOOKUP(RL30,MATCHSELEVES!$Y$14:$AE$600,3,FALSE),0)","v":0},{"$f":"IFERROR(VLOOKUP(RL30,MATCHSELEVES!$Y$14:$AE$600,4,FALSE),0)","v":0},{"$f":"IFERROR(VLOOKUP(RL30,MATCHSELEVES!$Y$14:$AE$600,5,FALSE),0)","v":0},{"$f":"IFERROR(VLOOKUP(RL30,MATCHSELEVES!$Y$14:$AF$600,8,FALSE),0)","v":0},{"$f":"IFERROR(VLOOKUP(RL30,MATCHSELEVES!$Y$14:$AG$600,9,FALSE),0)","v":0},"Serdarp_38",{"$f":"IFERROR(VLOOKUP(RR30,MATCHSELEVES!$Y$14:$AE$600,3,FALSE),0)","v":0},{"$f":"IFERROR(VLOOKUP(RR30,MATCHSELEVES!$Y$14:$AE$600,4,FALSE),0)","v":0},{"$f":"IFERROR(VLOOKUP(RR30,MATCHSELEVES!$Y$14:$AE$600,5,FALSE),0)","v":0},{"$f":"IFERROR(VLOOKUP(RR30,MATCHSELEVES!$Y$14:$AF$600,8,FALSE),0)","v":0},{"$f":"IFERROR(VLOOKUP(RR30,MATCHSELEVES!$Y$14:$AG$600,9,FALSE),0)","v":0},"Serdarp_39",{"$f":"IFERROR(VLOOKUP(RX30,MATCHSELEVES!$Y$14:$AE$600,3,FALSE),0)","v":0},{"$f":"IFERROR(VLOOKUP(RX30,MATCHSELEVES!$Y$14:$AE$600,4,FALSE),0)","v":0},{"$f":"IFERROR(VLOOKUP(RX30,MATCHSELEVES!$Y$14:$AE$600,5,FALSE),0)","v":0},{"$f":"IFERROR(VLOOKUP(RX30,MATCHSELEVES!$Y$14:$AF$600,8,FALSE),0)","v":0},{"$f":"IFERROR(VLOOKUP(RX30,MATCHSELEVES!$Y$14:$AG$600,9,FALSE),0)","v":0},"Serdarp_40",{"$f":"IFERROR(VLOOKUP(SD30,MATCHSELEVES!$Y$14:$AE$600,3,FALSE),0)","v":0},{"$f":"IFERROR(VLOOKUP(SD30,MATCHSELEVES!$Y$14:$AE$600,4,FALSE),0)","v":0},{"$f":"IFERROR(VLOOKUP(SD30,MATCHSELEVES!$Y$14:$AE$600,5,FALSE),0)","v":0},{"$f":"IFERROR(VLOOKUP(SD30,MATCHSELEVES!$Y$14:$AF$600,8,FALSE),0)","v":0},{"$f":"IFERROR(VLOOKUP(SD30,MATCHSELEVES!$Y$14:$AG$600,9,FALSE),0)","v":0}]
[28,null,{"$f":"MD1POINT!C31","v":"Valentin"},{"$f":"MD1POINT!D31","v":1},{"$f":"COUNTIF(MATCHSELEVES!$Z$14:$Z$600,C31)+COUNTIF(MATCHSELEVES!$Z$14:$Z$600,$C31&\"p\")","v":0},1,{"$f":"COUNTIF(MATCHSELEVES!$F$14:$H$249,C31)","v":0},1,0,1,0,1,0,1,{"$f":"Y31+AE31+AK31+AQ31+AW31+BC31+BI31+BO31+BU31+CA31+CG31+CM31+CS31+CY31+DE31+DK31+DQ31+DW31+EC31+EI31+EO31+EU31+FA31+FG31+FM31+FS31+FY31+GE31+GK31+GQ31+GW31+4+HI31+HO31+HU31+IA31+HC31+IG31+IM31+IY31+IS31+JH31+JN31+JZ31+JT31+KF31+KR31+KX31+LJ31+LP31+LV31+LD31+MB31+MH31+MN31+MZ31+MT31+NF31+NL31+NR31+NX31+OD31+OJ31+OP31+OV31+PB31+PH31+PT31+PN31+PZ31+QF31+QL31+QR31+RD31+QX31+RJ31+RP31+RV31+SB31+SH31+KL31+Tableau10[[#This Row],[Nombre de matchs joués]]*2","v":4},1,{"$f":"(Tableau10[[#This Row],[CLASSEMENT1]]+Tableau10[[#This Row],[CLASSEMENT2]]+Tableau10[[#This Row],[CLASSEMENT3]]+Tableau10[[#This Row],[CLASSEMENT4]]+Tableau10[[#This Row],[CLASSEMENT5]]+Tableau10[[#This Row],[CLASSEMENT6]])/6","v":1},{"$f":"RANK(Tableau10[[#This Row],[MOYENNE CLASSEMENTS]],Tableau10[MOYENNE CLASSEMENTS],1)","v":1},null,{"$f":"Tableau10[[#This Row],[CLASSEMENT1]]","v":1},"Valentin_1",{"$f":"IFERROR(VLOOKUP(U31,MATCHSELEVES!$Y$14:$AE$600,3,FALSE),0)","v":0},{"$f":"IFERROR(VLOOKUP(U31,MATCHSELEVES!$Y$14:$AE$600,4,FALSE),0)","v":0},{"$f":"IFERROR(VLOOKUP(U31,MATCHSELEVES!$Y$14:$AE$600,5,FALSE),0)","v":0},{"$f":"IFERROR(VLOOKUP(U31,MATCHSELEVES!$Y$14:$AF$600,8,FALSE),0)","v":0},{"$f":"IFERROR(VLOOKUP(U31,MATCHSELEVES!$Y$14:$AG$600,9,FALSE),0)","v":0},"Valentin_2",{"$f":"IFERROR(VLOOKUP(AA31,MATCHSELEVES!$Y$14:$AE$600,3,FALSE),0)","v":0},{"$f":"IFERROR(VLOOKUP(AA31,MATCHSELEVES!$Y$14:$AE$600,4,FALSE),0)","v":0},{"$f":"IFERROR(VLOOKUP(AA31,MATCHSELEVES!$Y$14:$AE$600,5,FALSE),0)","v":0},{"$f":"IFERROR(VLOOKUP(AA31,MATCHSELEVES!$Y$14:$AF$600,8,FALSE),0)","v":0},{"$f":"IFERROR(VLOOKUP(AA31,MATCHSELEVES!$Y$14:$AG$600,9,FALSE),0)","v":0},"Valentin_3",{"$f":"IFERROR(VLOOKUP(AG31,MATCHSELEVES!$Y$14:$AE$600,3,FALSE),0)","v":0},{"$f":"IFERROR(VLOOKUP(AG31,MATCHSELEVES!$Y$14:$AE$600,4,FALSE),0)","v":0},{"$f":"IFERROR(VLOOKUP(AG31,MATCHSELEVES!$Y$14:$AE$600,5,FALSE),0)","v":0},{"$f":"IFERROR(VLOOKUP(AG31,MATCHSELEVES!$Y$14:$AF$600,8,FALSE),0)","v":0},{"$f":"IFERROR(VLOOKUP(AG31,MATCHSELEVES!$Y$14:$AG$600,9,FALSE),0)","v":0},"Valentin_4",{"$f":"IFERROR(VLOOKUP(AM31,MATCHSELEVES!$Y$14:$AE$600,3,FALSE),0)","v":0},{"$f":"IFERROR(VLOOKUP(AM31,MATCHSELEVES!$Y$14:$AE$600,4,FALSE),0)","v":0},{"$f":"IFERROR(VLOOKUP(AM31,MATCHSELEVES!$Y$14:$AE$600,5,FALSE),0)","v":0},{"$f":"IFERROR(VLOOKUP(AM31,MATCHSELEVES!$Y$14:$AF$600,8,FALSE),0)","v":0},{"$f":"IFERROR(VLOOKUP(AM31,MATCHSELEVES!$Y$14:$AG$600,9,FALSE),0)","v":0},"Valentin_5",{"$f":"IFERROR(VLOOKUP(AS31,MATCHSELEVES!$Y$14:$AE$600,3,FALSE),0)","v":0},{"$f":"IFERROR(VLOOKUP(AS31,MATCHSELEVES!$Y$14:$AE$600,4,FALSE),0)","v":0},{"$f":"IFERROR(VLOOKUP(AS31,MATCHSELEVES!$Y$14:$AE$600,5,FALSE),0)","v":0},{"$f":"IFERROR(VLOOKUP(AS31,MATCHSELEVES!$Y$14:$AF$600,8,FALSE),0)","v":0},{"$f":"IFERROR(VLOOKUP(AS31,MATCHSELEVES!$Y$14:$AG$600,9,FALSE),0)","v":0},"Valentin_6",{"$f":"IFERROR(VLOOKUP(AY31,MATCHSELEVES!$Y$14:$AE$600,3,FALSE),0)","v":0},{"$f":"IFERROR(VLOOKUP(AY31,MATCHSELEVES!$Y$14:$AE$600,4,FALSE),0)","v":0},{"$f":"IFERROR(VLOOKUP(AY31,MATCHSELEVES!$Y$14:$AE$600,5,FALSE),0)","v":0},{"$f":"IFERROR(VLOOKUP(AY31,MATCHSELEVES!$Y$14:$AF$600,8,FALSE),0)","v":0},{"$f":"IFERROR(VLOOKUP(AY31,MATCHSELEVES!$Y$14:$AG$600,9,FALSE),0)","v":0},"Valentin_7",{"$f":"IFERROR(VLOOKUP(BE31,MATCHSELEVES!$Y$14:$AE$600,3,FALSE),0)","v":0},{"$f":"IFERROR(VLOOKUP(BE31,MATCHSELEVES!$Y$14:$AE$600,4,FALSE),0)","v":0},{"$f":"IFERROR(VLOOKUP(BE31,MATCHSELEVES!$Y$14:$AE$600,5,FALSE),0)","v":0},{"$f":"IFERROR(VLOOKUP(BE31,MATCHSELEVES!$Y$14:$AF$600,8,FALSE),0)","v":0},{"$f":"IFERROR(VLOOKUP(BE31,MATCHSELEVES!$Y$14:$AG$600,9,FALSE),0)","v":0},"Valentin_8",{"$f":"IFERROR(VLOOKUP(BK31,MATCHSELEVES!$Y$14:$AE$600,3,FALSE),0)","v":0},{"$f":"IFERROR(VLOOKUP(BK31,MATCHSELEVES!$Y$14:$AE$600,4,FALSE),0)","v":0},{"$f":"IFERROR(VLOOKUP(BK31,MATCHSELEVES!$Y$14:$AE$600,5,FALSE),0)","v":0},{"$f":"IFERROR(VLOOKUP(BK31,MATCHSELEVES!$Y$14:$AF$600,8,FALSE),0)","v":0},{"$f":"IFERROR(VLOOKUP(BK31,MATCHSELEVES!$Y$14:$AG$600,9,FALSE),0)","v":0},"Valentin_9",{"$f":"IFERROR(VLOOKUP(BQ31,MATCHSELEVES!$Y$14:$AE$600,3,FALSE),0)","v":0},{"$f":"IFERROR(VLOOKUP(BQ31,MATCHSELEVES!$Y$14:$AE$600,4,FALSE),0)","v":0},{"$f":"IFERROR(VLOOKUP(BQ31,MATCHSELEVES!$Y$14:$AE$600,5,FALSE),0)","v":0},{"$f":"IFERROR(VLOOKUP(BQ31,MATCHSELEVES!$Y$14:$AF$600,8,FALSE),0)","v":0},{"$f":"IFERROR(VLOOKUP(BQ31,MATCHSELEVES!$Y$14:$AG$600,9,FALSE),0)","v":0},"Valentin_10",{"$f":"IFERROR(VLOOKUP(BW31,MATCHSELEVES!$Y$14:$AE$600,3,FALSE),0)","v":0},{"$f":"IFERROR(VLOOKUP(BW31,MATCHSELEVES!$Y$14:$AE$600,4,FALSE),0)","v":0},{"$f":"IFERROR(VLOOKUP(BW31,MATCHSELEVES!$Y$14:$AE$600,5,FALSE),0)","v":0},{"$f":"IFERROR(VLOOKUP(BW31,MATCHSELEVES!$Y$14:$AF$600,8,FALSE),0)","v":0},{"$f":"IFERROR(VLOOKUP(BW31,MATCHSELEVES!$Y$14:$AG$600,9,FALSE),0)","v":0},"Valentin_11",{"$f":"IFERROR(VLOOKUP(CC31,MATCHSELEVES!$Y$14:$AE$600,3,FALSE),0)","v":0},{"$f":"IFERROR(VLOOKUP(CC31,MATCHSELEVES!$Y$14:$AE$600,4,FALSE),0)","v":0},{"$f":"IFERROR(VLOOKUP(CC31,MATCHSELEVES!$Y$14:$AE$600,5,FALSE),0)","v":0},{"$f":"IFERROR(VLOOKUP(CC31,MATCHSELEVES!$Y$14:$AF$600,8,FALSE),0)","v":0},{"$f":"IFERROR(VLOOKUP(CC31,MATCHSELEVES!$Y$14:$AG$600,9,FALSE),0)","v":0},"Valentin_12",{"$f":"IFERROR(VLOOKUP(CI31,MATCHSELEVES!$Y$14:$AE$600,3,FALSE),0)","v":0},{"$f":"IFERROR(VLOOKUP(CI31,MATCHSELEVES!$Y$14:$AE$600,4,FALSE),0)","v":0},{"$f":"IFERROR(VLOOKUP(CI31,MATCHSELEVES!$Y$14:$AE$600,5,FALSE),0)","v":0},{"$f":"IFERROR(VLOOKUP(CI31,MATCHSELEVES!$Y$14:$AF$600,8,FALSE),0)","v":0},{"$f":"IFERROR(VLOOKUP(CI31,MATCHSELEVES!$Y$14:$AG$600,9,FALSE),0)","v":0},"Valentin_13",{"$f":"IFERROR(VLOOKUP(CO31,MATCHSELEVES!$Y$14:$AE$600,3,FALSE),0)","v":0},{"$f":"IFERROR(VLOOKUP(CO31,MATCHSELEVES!$Y$14:$AE$600,4,FALSE),0)","v":0},{"$f":"IFERROR(VLOOKUP(CO31,MATCHSELEVES!$Y$14:$AE$600,5,FALSE),0)","v":0},{"$f":"IFERROR(VLOOKUP(CO31,MATCHSELEVES!$Y$14:$AF$600,8,FALSE),0)","v":0},{"$f":"IFERROR(VLOOKUP(CO31,MATCHSELEVES!$Y$14:$AG$600,9,FALSE),0)","v":0},"Valentin_14",{"$f":"IFERROR(VLOOKUP(CU31,MATCHSELEVES!$Y$14:$AE$600,3,FALSE),0)","v":0},{"$f":"IFERROR(VLOOKUP(CU31,MATCHSELEVES!$Y$14:$AE$600,4,FALSE),0)","v":0},{"$f":"IFERROR(VLOOKUP(CU31,MATCHSELEVES!$Y$14:$AE$600,5,FALSE),0)","v":0},{"$f":"IFERROR(VLOOKUP(CU31,MATCHSELEVES!$Y$14:$AF$600,8,FALSE),0)","v":0},{"$f":"IFERROR(VLOOKUP(CU31,MATCHSELEVES!$Y$14:$AG$600,9,FALSE),0)","v":0},"Valentin_15",{"$f":"IFERROR(VLOOKUP(DA31,MATCHSELEVES!$Y$14:$AE$600,3,FALSE),0)","v":0},{"$f":"IFERROR(VLOOKUP(DA31,MATCHSELEVES!$Y$14:$AE$600,4,FALSE),0)","v":0},{"$f":"IFERROR(VLOOKUP(DA31,MATCHSELEVES!$Y$14:$AE$600,5,FALSE),0)","v":0},{"$f":"IFERROR(VLOOKUP(DA31,MATCHSELEVES!$Y$14:$AF$600,8,FALSE),0)","v":0},{"$f":"IFERROR(VLOOKUP(DA31,MATCHSELEVES!$Y$14:$AG$600,9,FALSE),0)","v":0},"Valentin_16",{"$f":"IFERROR(VLOOKUP(DG31,MATCHSELEVES!$Y$14:$AE$600,3,FALSE),0)","v":0},{"$f":"IFERROR(VLOOKUP(DG31,MATCHSELEVES!$Y$14:$AE$600,4,FALSE),0)","v":0},{"$f":"IFERROR(VLOOKUP(DG31,MATCHSELEVES!$Y$14:$AE$600,5,FALSE),0)","v":0},{"$f":"IFERROR(VLOOKUP(DG31,MATCHSELEVES!$Y$14:$AF$600,8,FALSE),0)","v":0},{"$f":"IFERROR(VLOOKUP(DG31,MATCHSELEVES!$Y$14:$AG$600,9,FALSE),0)","v":0},"Valentin_17",{"$f":"IFERROR(VLOOKUP(DM31,MATCHSELEVES!$Y$14:$AE$600,3,FALSE),0)","v":0},{"$f":"IFERROR(VLOOKUP(DM31,MATCHSELEVES!$Y$14:$AE$600,4,FALSE),0)","v":0},{"$f":"IFERROR(VLOOKUP(DM31,MATCHSELEVES!$Y$14:$AE$600,5,FALSE),0)","v":0},{"$f":"IFERROR(VLOOKUP(DM31,MATCHSELEVES!$Y$14:$AF$600,8,FALSE),0)","v":0},{"$f":"IFERROR(VLOOKUP(DM31,MATCHSELEVES!$Y$14:$AG$600,9,FALSE),0)","v":0},"Valentin_18",{"$f":"IFERROR(VLOOKUP(DS31,MATCHSELEVES!$Y$14:$AE$600,3,FALSE),0)","v":0},{"$f":"IFERROR(VLOOKUP(DS31,MATCHSELEVES!$Y$14:$AE$600,4,FALSE),0)","v":0},{"$f":"IFERROR(VLOOKUP(DS31,MATCHSELEVES!$Y$14:$AE$600,5,FALSE),0)","v":0},{"$f":"IFERROR(VLOOKUP(DS31,MATCHSELEVES!$Y$14:$AF$600,8,FALSE),0)","v":0},{"$f":"IFERROR(VLOOKUP(DS31,MATCHSELEVES!$Y$14:$AG$600,9,FALSE),0)","v":0},"Valentin_19",{"$f":"IFERROR(VLOOKUP(DY31,MATCHSELEVES!$Y$14:$AE$600,3,FALSE),0)","v":0},{"$f":"IFERROR(VLOOKUP(DY31,MATCHSELEVES!$Y$14:$AE$600,4,FALSE),0)","v":0},{"$f":"IFERROR(VLOOKUP(DY31,MATCHSELEVES!$Y$14:$AE$600,5,FALSE),0)","v":0},{"$f":"IFERROR(VLOOKUP(DY31,MATCHSELEVES!$Y$14:$AF$600,8,FALSE),0)","v":0},{"$f":"IFERROR(VLOOKUP(DY31,MATCHSELEVES!$Y$14:$AG$600,9,FALSE),0)","v":0},"Valentin_20",{"$f":"IFERROR(VLOOKUP(EE31,MATCHSELEVES!$Y$14:$AE$600,3,FALSE),0)","v":0},{"$f":"IFERROR(VLOOKUP(EE31,MATCHSELEVES!$Y$14:$AE$600,4,FALSE),0)","v":0},{"$f":"IFERROR(VLOOKUP(EE31,MATCHSELEVES!$Y$14:$AE$600,5,FALSE),0)","v":0},{"$f":"IFERROR(VLOOKUP(EE31,MATCHSELEVES!$Y$14:$AF$600,8,FALSE),0)","v":0},{"$f":"IFERROR(VLOOKUP(EE31,MATCHSELEVES!$Y$14:$AG$600,9,FALSE),0)","v":0},"Valentin_21",{"$f":"IFERROR(VLOOKUP(EK31,MATCHSELEVES!$Y$14:$AE$600,3,FALSE),0)","v":0},{"$f":"IFERROR(VLOOKUP(EK31,MATCHSELEVES!$Y$14:$AE$600,4,FALSE),0)","v":0},{"$f":"IFERROR(VLOOKUP(EK31,MATCHSELEVES!$Y$14:$AE$600,5,FALSE),0)","v":0},{"$f":"IFERROR(VLOOKUP(EK31,MATCHSELEVES!$Y$14:$AF$600,8,FALSE),0)","v":0},{"$f":"IFERROR(VLOOKUP(EK31,MATCHSELEVES!$Y$14:$AG$600,9,FALSE),0)","v":0},"Valentin_22",{"$f":"IFERROR(VLOOKUP(EQ31,MATCHSELEVES!$Y$14:$AE$600,3,FALSE),0)","v":0},{"$f":"IFERROR(VLOOKUP(EQ31,MATCHSELEVES!$Y$14:$AE$600,4,FALSE),0)","v":0},{"$f":"IFERROR(VLOOKUP(EQ31,MATCHSELEVES!$Y$14:$AE$600,5,FALSE),0)","v":0},{"$f":"IFERROR(VLOOKUP(EQ31,MATCHSELEVES!$Y$14:$AF$600,8,FALSE),0)","v":0},{"$f":"IFERROR(VLOOKUP(EQ31,MATCHSELEVES!$Y$14:$AG$600,9,FALSE),0)","v":0},"Valentin_23",{"$f":"IFERROR(VLOOKUP(EW31,MATCHSELEVES!$Y$14:$AE$600,3,FALSE),0)","v":0},{"$f":"IFERROR(VLOOKUP(EW31,MATCHSELEVES!$Y$14:$AE$600,4,FALSE),0)","v":0},{"$f":"IFERROR(VLOOKUP(EW31,MATCHSELEVES!$Y$14:$AE$600,5,FALSE),0)","v":0},{"$f":"IFERROR(VLOOKUP(EW31,MATCHSELEVES!$Y$14:$AF$600,8,FALSE),0)","v":0},{"$f":"IFERROR(VLOOKUP(EW31,MATCHSELEVES!$Y$14:$AG$600,9,FALSE),0)","v":0},"Valentin_24",{"$f":"IFERROR(VLOOKUP(FC31,MATCHSELEVES!$Y$14:$AE$600,3,FALSE),0)","v":0},{"$f":"IFERROR(VLOOKUP(FC31,MATCHSELEVES!$Y$14:$AE$600,4,FALSE),0)","v":0},{"$f":"IFERROR(VLOOKUP(FC31,MATCHSELEVES!$Y$14:$AE$600,5,FALSE),0)","v":0},{"$f":"IFERROR(VLOOKUP(FC31,MATCHSELEVES!$Y$14:$AF$600,8,FALSE),0)","v":0},{"$f":"IFERROR(VLOOKUP(FC31,MATCHSELEVES!$Y$14:$AG$600,9,FALSE),0)","v":0},"Valentin_25",{"$f":"IFERROR(VLOOKUP(FI31,MATCHSELEVES!$Y$14:$AE$600,3,FALSE),0)","v":0},{"$f":"IFERROR(VLOOKUP(FI31,MATCHSELEVES!$Y$14:$AE$600,4,FALSE),0)","v":0},{"$f":"IFERROR(VLOOKUP(FI31,MATCHSELEVES!$Y$14:$AE$600,5,FALSE),0)","v":0},{"$f":"IFERROR(VLOOKUP(FI31,MATCHSELEVES!$Y$14:$AF$600,8,FALSE),0)","v":0},{"$f":"IFERROR(VLOOKUP(FI31,MATCHSELEVES!$Y$14:$AG$600,9,FALSE),0)","v":0},"Valentin_26",{"$f":"IFERROR(VLOOKUP(FO31,MATCHSELEVES!$Y$14:$AE$600,3,FALSE),0)","v":0},{"$f":"IFERROR(VLOOKUP(FO31,MATCHSELEVES!$Y$14:$AE$600,4,FALSE),0)","v":0},{"$f":"IFERROR(VLOOKUP(FO31,MATCHSELEVES!$Y$14:$AE$600,5,FALSE),0)","v":0},{"$f":"IFERROR(VLOOKUP(FO31,MATCHSELEVES!$Y$14:$AF$600,8,FALSE),0)","v":0},{"$f":"IFERROR(VLOOKUP(FO31,MATCHSELEVES!$Y$14:$AG$600,9,FALSE),0)","v":0},"Valentin_27",{"$f":"IFERROR(VLOOKUP(FU31,MATCHSELEVES!$Y$14:$AE$600,3,FALSE),0)","v":0},{"$f":"IFERROR(VLOOKUP(FU31,MATCHSELEVES!$Y$14:$AE$600,4,FALSE),0)","v":0},{"$f":"IFERROR(VLOOKUP(FU31,MATCHSELEVES!$Y$14:$AE$600,5,FALSE),0)","v":0},{"$f":"IFERROR(VLOOKUP(FU31,MATCHSELEVES!$Y$14:$AF$600,8,FALSE),0)","v":0},{"$f":"IFERROR(VLOOKUP(FU31,MATCHSELEVES!$Y$14:$AG$600,9,FALSE),0)","v":0},"Valentin_28",{"$f":"IFERROR(VLOOKUP(GA31,MATCHSELEVES!$Y$14:$AE$600,3,FALSE),0)","v":0},{"$f":"IFERROR(VLOOKUP(GA31,MATCHSELEVES!$Y$14:$AE$600,4,FALSE),0)","v":0},{"$f":"IFERROR(VLOOKUP(GA31,MATCHSELEVES!$Y$14:$AE$600,5,FALSE),0)","v":0},{"$f":"IFERROR(VLOOKUP(GA31,MATCHSELEVES!$Y$14:$AF$600,8,FALSE),0)","v":0},{"$f":"IFERROR(VLOOKUP(GA31,MATCHSELEVES!$Y$14:$AG$600,9,FALSE),0)","v":0},"Valentin_29",{"$f":"IFERROR(VLOOKUP(GG31,MATCHSELEVES!$Y$14:$AE$600,3,FALSE),0)","v":0},{"$f":"IFERROR(VLOOKUP(GG31,MATCHSELEVES!$Y$14:$AE$600,4,FALSE),0)","v":0},{"$f":"IFERROR(VLOOKUP(GG31,MATCHSELEVES!$Y$14:$AE$600,5,FALSE),0)","v":0},{"$f":"IFERROR(VLOOKUP(GG31,MATCHSELEVES!$Y$14:$AF$600,8,FALSE),0)","v":0},{"$f":"IFERROR(VLOOKUP(GG31,MATCHSELEVES!$Y$14:$AG$600,9,FALSE),0)","v":0},"Valentin_30",{"$f":"IFERROR(VLOOKUP(GM31,MATCHSELEVES!$Y$14:$AE$600,3,FALSE),0)","v":0},{"$f":"IFERROR(VLOOKUP(GM31,MATCHSELEVES!$Y$14:$AE$600,4,FALSE),0)","v":0},{"$f":"IFERROR(VLOOKUP(GM31,MATCHSELEVES!$Y$14:$AE$600,5,FALSE),0)","v":0},{"$f":"IFERROR(VLOOKUP(GM31,MATCHSELEVES!$Y$14:$AF$600,8,FALSE),0)","v":0},{"$f":"IFERROR(VLOOKUP(GM31,MATCHSELEVES!$Y$14:$AG$600,9,FALSE),0)","v":0},"Valentin_31",{"$f":"IFERROR(VLOOKUP(GS31,MATCHSELEVES!$Y$14:$AE$600,3,FALSE),0)","v":0},{"$f":"IFERROR(VLOOKUP(GS31,MATCHSELEVES!$Y$14:$AE$600,4,FALSE),0)","v":0},{"$f":"IFERROR(VLOOKUP(GS31,MATCHSELEVES!$Y$14:$AE$600,5,FALSE),0)","v":0},{"$f":"IFERROR(VLOOKUP(GS31,MATCHSELEVES!$Y$14:$AF$600,8,FALSE),0)","v":0},{"$f":"IFERROR(VLOOKUP(GS31,MATCHSELEVES!$Y$14:$AG$600,9,FALSE),0)","v":0},"Valentin_32",{"$f":"IFERROR(VLOOKUP(GY31,MATCHSELEVES!$Y$14:$AE$600,3,FALSE),0)","v":0},{"$f":"IFERROR(VLOOKUP(GY31,MATCHSELEVES!$Y$14:$AE$600,4,FALSE),0)","v":0},{"$f":"IFERROR(VLOOKUP(GY31,MATCHSELEVES!$Y$14:$AE$600,5,FALSE),0)","v":0},{"$f":"IFERROR(VLOOKUP(GY31,MATCHSELEVES!$Y$14:$AF$600,8,FALSE),0)","v":0},{"$f":"IFERROR(VLOOKUP(GY31,MATCHSELEVES!$Y$14:$AG$600,9,FALSE),0)","v":0},"Valentin_33",{"$f":"IFERROR(VLOOKUP(HE31,MATCHSELEVES!$Y$14:$AE$600,3,FALSE),0)","v":0},{"$f":"IFERROR(VLOOKUP(HE31,MATCHSELEVES!$Y$14:$AE$600,4,FALSE),0)","v":0},{"$f":"IFERROR(VLOOKUP(HE31,MATCHSELEVES!$Y$14:$AE$600,5,FALSE),0)","v":0},{"$f":"IFERROR(VLOOKUP(HE31,MATCHSELEVES!$Y$14:$AF$600,8,FALSE),0)","v":0},{"$f":"IFERROR(VLOOKUP(HE31,MATCHSELEVES!$Y$14:$AG$600,9,FALSE),0)","v":0},"Valentin_34",{"$f":"IFERROR(VLOOKUP(HK31,MATCHSELEVES!$Y$14:$AE$600,3,FALSE),0)","v":0},{"$f":"IFERROR(VLOOKUP(HK31,MATCHSELEVES!$Y$14:$AE$600,4,FALSE),0)","v":0},{"$f":"IFERROR(VLOOKUP(HK31,MATCHSELEVES!$Y$14:$AE$600,5,FALSE),0)","v":0},{"$f":"IFERROR(VLOOKUP(HK31,MATCHSELEVES!$Y$14:$AF$600,8,FALSE),0)","v":0},{"$f":"IFERROR(VLOOKUP(HK31,MATCHSELEVES!$Y$14:$AG$600,9,FALSE),0)","v":0},"Valentin_35",{"$f":"IFERROR(VLOOKUP(HQ31,MATCHSELEVES!$Y$14:$AE$600,3,FALSE),0)","v":0},{"$f":"IFERROR(VLOOKUP(HQ31,MATCHSELEVES!$Y$14:$AE$600,4,FALSE),0)","v":0},{"$f":"IFERROR(VLOOKUP(HQ31,MATCHSELEVES!$Y$14:$AE$600,5,FALSE),0)","v":0},{"$f":"IFERROR(VLOOKUP(HQ31,MATCHSELEVES!$Y$14:$AF$600,8,FALSE),0)","v":0},{"$f":"IFERROR(VLOOKUP(HQ31,MATCHSELEVES!$Y$14:$AG$600,9,FALSE),0)","v":0},"Valentin_36",{"$f":"IFERROR(VLOOKUP(HW31,MATCHSELEVES!$Y$14:$AE$600,3,FALSE),0)","v":0},{"$f":"IFERROR(VLOOKUP(HW31,MATCHSELEVES!$Y$14:$AE$600,4,FALSE),0)","v":0},{"$f":"IFERROR(VLOOKUP(HW31,MATCHSELEVES!$Y$14:$AE$600,5,FALSE),0)","v":0},{"$f":"IFERROR(VLOOKUP(HW31,MATCHSELEVES!$Y$14:$AF$600,8,FALSE),0)","v":0},{"$f":"IFERROR(VLOOKUP(HW31,MATCHSELEVES!$Y$14:$AG$600,9,FALSE),0)","v":0},"Valentin_37",{"$f":"IFERROR(VLOOKUP(IC31,MATCHSELEVES!$Y$14:$AE$600,3,FALSE),0)","v":0},{"$f":"IFERROR(VLOOKUP(IC31,MATCHSELEVES!$Y$14:$AE$600,4,FALSE),0)","v":0},{"$f":"IFERROR(VLOOKUP(IC31,MATCHSELEVES!$Y$14:$AE$600,5,FALSE),0)","v":0},{"$f":"IFERROR(VLOOKUP(IC31,MATCHSELEVES!$Y$14:$AF$600,8,FALSE),0)","v":0},{"$f":"IFERROR(VLOOKUP(IC31,MATCHSELEVES!$Y$14:$AG$600,9,FALSE),0)","v":0},"Valentin_38",{"$f":"IFERROR(VLOOKUP(II31,MATCHSELEVES!$Y$14:$AE$600,3,FALSE),0)","v":0},{"$f":"IFERROR(VLOOKUP(II31,MATCHSELEVES!$Y$14:$AE$600,4,FALSE),0)","v":0},{"$f":"IFERROR(VLOOKUP(II31,MATCHSELEVES!$Y$14:$AE$600,5,FALSE),0)","v":0},{"$f":"IFERROR(VLOOKUP(II31,MATCHSELEVES!$Y$14:$AF$600,8,FALSE),0)","v":0},{"$f":"IFERROR(VLOOKUP(II31,MATCHSELEVES!$Y$14:$AG$600,9,FALSE),0)","v":0},"Valentin_39",{"$f":"IFERROR(VLOOKUP(IO31,MATCHSELEVES!$Y$14:$AE$600,3,FALSE),0)","v":0},{"$f":"IFERROR(VLOOKUP(IO31,MATCHSELEVES!$Y$14:$AE$600,4,FALSE),0)","v":0},{"$f":"IFERROR(VLOOKUP(IO31,MATCHSELEVES!$Y$14:$AE$600,5,FALSE),0)","v":0},{"$f":"IFERROR(VLOOKUP(IO31,MATCHSELEVES!$Y$14:$AF$600,8,FALSE),0)","v":0},{"$f":"IFERROR(VLOOKUP(IO31,MATCHSELEVES!$Y$14:$AG$600,9,FALSE),0)","v":0},"Valentin_40",{"$f":"IFERROR(VLOOKUP(IU31,MATCHSELEVES!$Y$14:$AE$600,3,FALSE),0)","v":0},{"$f":"IFERROR(VLOOKUP(IU31,MATCHSELEVES!$Y$14:$AE$600,4,FALSE),0)","v":0},{"$f":"IFERROR(VLOOKUP(IU31,MATCHSELEVES!$Y$14:$AE$600,5,FALSE),0)","v":0},{"$f":"IFERROR(VLOOKUP(IU31,MATCHSELEVES!$Y$14:$AF$600,8,FALSE),0)","v":0},{"$f":"IFERROR(VLOOKUP(IU31,MATCHSELEVES!$Y$14:$AG$600,9,FALSE),0)","v":0},{"$f":"Tableau10[[#This Row],[CLASSE]]","v":"Valentin"},1,{"$f":"MD1POINT!D31","v":1},"Valentinp_1",{"$f":"IFERROR(VLOOKUP(JD31,MATCHSELEVES!$Y$14:$AE$600,3,FALSE),0)","v":0},{"$f":"IFERROR(VLOOKUP(JD31,MATCHSELEVES!$Y$14:$AE$600,4,FALSE),0)","v":0},{"$f":"IFERROR(VLOOKUP(JD31,MATCHSELEVES!$Y$14:$AE$600,5,FALSE),0)","v":0},{"$f":"IFERROR(VLOOKUP(JD31,MATCHSELEVES!$Y$14:$AF$600,8,FALSE),0)","v":0},{"$f":"IFERROR(VLOOKUP(JD31,MATCHSELEVES!$Y$14:$AG$600,9,FALSE),0)","v":0},"Valentinp_2",{"$f":"IFERROR(VLOOKUP(JJ31,MATCHSELEVES!$Y$14:$AE$600,3,FALSE),0)","v":0},{"$f":"IFERROR(VLOOKUP(JJ31,MATCHSELEVES!$Y$14:$AE$600,4,FALSE),0)","v":0},{"$f":"IFERROR(VLOOKUP(JJ31,MATCHSELEVES!$Y$14:$AE$600,5,FALSE),0)","v":0},{"$f":"IFERROR(VLOOKUP(JJ31,MATCHSELEVES!$Y$14:$AF$600,8,FALSE),0)","v":0},{"$f":"IFERROR(VLOOKUP(JJ31,MATCHSELEVES!$Y$14:$AG$600,9,FALSE),0)","v":0},"Valentinp_3",{"$f":"IFERROR(VLOOKUP(JP31,MATCHSELEVES!$Y$14:$AE$600,3,FALSE),0)","v":0},{"$f":"IFERROR(VLOOKUP(JP31,MATCHSELEVES!$Y$14:$AE$600,4,FALSE),0)","v":0},{"$f":"IFERROR(VLOOKUP(JP31,MATCHSELEVES!$Y$14:$AE$600,5,FALSE),0)","v":0},{"$f":"IFERROR(VLOOKUP(JP31,MATCHSELEVES!$Y$14:$AF$600,8,FALSE),0)","v":0},{"$f":"IFERROR(VLOOKUP(JP31,MATCHSELEVES!$Y$14:$AG$600,9,FALSE),0)","v":0},"Valentinp_4",{"$f":"IFERROR(VLOOKUP(JV31,MATCHSELEVES!$Y$14:$AE$600,3,FALSE),0)","v":0},{"$f":"IFERROR(VLOOKUP(JV31,MATCHSELEVES!$Y$14:$AE$600,4,FALSE),0)","v":0},{"$f":"IFERROR(VLOOKUP(JV31,MATCHSELEVES!$Y$14:$AE$600,5,FALSE),0)","v":0},{"$f":"IFERROR(VLOOKUP(JV31,MATCHSELEVES!$Y$14:$AF$600,8,FALSE),0)","v":0},{"$f":"IFERROR(VLOOKUP(JV31,MATCHSELEVES!$Y$14:$AG$600,9,FALSE),0)","v":0},"Valentinp_5",{"$f":"IFERROR(VLOOKUP(KB31,MATCHSELEVES!$Y$14:$AE$600,3,FALSE),0)","v":0},{"$f":"IFERROR(VLOOKUP(KB31,MATCHSELEVES!$Y$14:$AE$600,4,FALSE),0)","v":0},{"$f":"IFERROR(VLOOKUP(KB31,MATCHSELEVES!$Y$14:$AE$600,5,FALSE),0)","v":0},{"$f":"IFERROR(VLOOKUP(KB31,MATCHSELEVES!$Y$14:$AF$600,8,FALSE),0)","v":0},{"$f":"IFERROR(VLOOKUP(KB31,MATCHSELEVES!$Y$14:$AG$600,9,FALSE),0)","v":0},"Valentinp_6",{"$f":"IFERROR(VLOOKUP(KH31,MATCHSELEVES!$Y$14:$AE$600,3,FALSE),0)","v":0},{"$f":"IFERROR(VLOOKUP(KH31,MATCHSELEVES!$Y$14:$AE$600,4,FALSE),0)","v":0},{"$f":"IFERROR(VLOOKUP(KH31,MATCHSELEVES!$Y$14:$AE$600,5,FALSE),0)","v":0},{"$f":"IFERROR(VLOOKUP(KH31,MATCHSELEVES!$Y$14:$AF$600,8,FALSE),0)","v":0},{"$f":"IFERROR(VLOOKUP(KH31,MATCHSELEVES!$Y$14:$AG$600,9,FALSE),0)","v":0},"Valentinp_7",{"$f":"IFERROR(VLOOKUP(KN31,MATCHSELEVES!$Y$14:$AE$600,3,FALSE),0)","v":0},{"$f":"IFERROR(VLOOKUP(KN31,MATCHSELEVES!$Y$14:$AE$600,4,FALSE),0)","v":0},{"$f":"IFERROR(VLOOKUP(KN31,MATCHSELEVES!$Y$14:$AE$600,5,FALSE),0)","v":0},{"$f":"IFERROR(VLOOKUP(KN31,MATCHSELEVES!$Y$14:$AF$600,8,FALSE),0)","v":0},{"$f":"IFERROR(VLOOKUP(KN31,MATCHSELEVES!$Y$14:$AG$600,9,FALSE),0)","v":0},"Valentinp_8",{"$f":"IFERROR(VLOOKUP(KT31,MATCHSELEVES!$Y$14:$AE$600,3,FALSE),0)","v":0},{"$f":"IFERROR(VLOOKUP(KT31,MATCHSELEVES!$Y$14:$AE$600,4,FALSE),0)","v":0},{"$f":"IFERROR(VLOOKUP(KT31,MATCHSELEVES!$Y$14:$AE$600,5,FALSE),0)","v":0},{"$f":"IFERROR(VLOOKUP(KT31,MATCHSELEVES!$Y$14:$AF$600,8,FALSE),0)","v":0},{"$f":"IFERROR(VLOOKUP(KT31,MATCHSELEVES!$Y$14:$AG$600,9,FALSE),0)","v":0},"Valentinp_9",{"$f":"IFERROR(VLOOKUP(KZ31,MATCHSELEVES!$Y$14:$AE$600,3,FALSE),0)","v":0},{"$f":"IFERROR(VLOOKUP(KZ31,MATCHSELEVES!$Y$14:$AE$600,4,FALSE),0)","v":0},{"$f":"IFERROR(VLOOKUP(KZ31,MATCHSELEVES!$Y$14:$AE$600,5,FALSE),0)","v":0},{"$f":"IFERROR(VLOOKUP(KZ31,MATCHSELEVES!$Y$14:$AF$600,8,FALSE),0)","v":0},{"$f":"IFERROR(VLOOKUP(KZ31,MATCHSELEVES!$Y$14:$AG$600,9,FALSE),0)","v":0},"Valentinp_10",{"$f":"IFERROR(VLOOKUP(LF31,MATCHSELEVES!$Y$14:$AE$600,3,FALSE),0)","v":0},{"$f":"IFERROR(VLOOKUP(LF31,MATCHSELEVES!$Y$14:$AE$600,4,FALSE),0)","v":0},{"$f":"IFERROR(VLOOKUP(LF31,MATCHSELEVES!$Y$14:$AE$600,5,FALSE),0)","v":0},{"$f":"IFERROR(VLOOKUP(LF31,MATCHSELEVES!$Y$14:$AF$600,8,FALSE),0)","v":0},{"$f":"IFERROR(VLOOKUP(LF31,MATCHSELEVES!$Y$14:$AG$600,9,FALSE),0)","v":0},"Valentinp_11",{"$f":"IFERROR(VLOOKUP(LL31,MATCHSELEVES!$Y$14:$AE$600,3,FALSE),0)","v":0},{"$f":"IFERROR(VLOOKUP(LL31,MATCHSELEVES!$Y$14:$AE$600,4,FALSE),0)","v":0},{"$f":"IFERROR(VLOOKUP(LL31,MATCHSELEVES!$Y$14:$AE$600,5,FALSE),0)","v":0},{"$f":"IFERROR(VLOOKUP(LL31,MATCHSELEVES!$Y$14:$AF$600,8,FALSE),0)","v":0},{"$f":"IFERROR(VLOOKUP(LL31,MATCHSELEVES!$Y$14:$AG$600,9,FALSE),0)","v":0},"Valentinp_12",{"$f":"IFERROR(VLOOKUP(LR31,MATCHSELEVES!$Y$14:$AE$600,3,FALSE),0)","v":0},{"$f":"IFERROR(VLOOKUP(LR31,MATCHSELEVES!$Y$14:$AE$600,4,FALSE),0)","v":0},{"$f":"IFERROR(VLOOKUP(LR31,MATCHSELEVES!$Y$14:$AE$600,5,FALSE),0)","v":0},{"$f":"IFERROR(VLOOKUP(LR31,MATCHSELEVES!$Y$14:$AF$600,8,FALSE),0)","v":0},{"$f":"IFERROR(VLOOKUP(LR31,MATCHSELEVES!$Y$14:$AG$600,9,FALSE),0)","v":0},"Valentinp_13",{"$f":"IFERROR(VLOOKUP(LX31,MATCHSELEVES!$Y$14:$AE$600,3,FALSE),0)","v":0},{"$f":"IFERROR(VLOOKUP(LX31,MATCHSELEVES!$Y$14:$AE$600,4,FALSE),0)","v":0},{"$f":"IFERROR(VLOOKUP(LX31,MATCHSELEVES!$Y$14:$AE$600,5,FALSE),0)","v":0},{"$f":"IFERROR(VLOOKUP(LX31,MATCHSELEVES!$Y$14:$AF$600,8,FALSE),0)","v":0},{"$f":"IFERROR(VLOOKUP(LX31,MATCHSELEVES!$Y$14:$AG$600,9,FALSE),0)","v":0},"Valentinp_14",{"$f":"IFERROR(VLOOKUP(MD31,MATCHSELEVES!$Y$14:$AE$600,3,FALSE),0)","v":0},{"$f":"IFERROR(VLOOKUP(MD31,MATCHSELEVES!$Y$14:$AE$600,4,FALSE),0)","v":0},{"$f":"IFERROR(VLOOKUP(MD31,MATCHSELEVES!$Y$14:$AE$600,5,FALSE),0)","v":0},{"$f":"IFERROR(VLOOKUP(MD31,MATCHSELEVES!$Y$14:$AF$600,8,FALSE),0)","v":0},{"$f":"IFERROR(VLOOKUP(MD31,MATCHSELEVES!$Y$14:$AG$600,9,FALSE),0)","v":0},"Valentinp_15",{"$f":"IFERROR(VLOOKUP(MJ31,MATCHSELEVES!$Y$14:$AE$600,3,FALSE),0)","v":0},{"$f":"IFERROR(VLOOKUP(MJ31,MATCHSELEVES!$Y$14:$AE$600,4,FALSE),0)","v":0},{"$f":"IFERROR(VLOOKUP(MJ31,MATCHSELEVES!$Y$14:$AE$600,5,FALSE),0)","v":0},{"$f":"IFERROR(VLOOKUP(MJ31,MATCHSELEVES!$Y$14:$AF$600,8,FALSE),0)","v":0},{"$f":"IFERROR(VLOOKUP(MJ31,MATCHSELEVES!$Y$14:$AG$600,9,FALSE),0)","v":0},"Valentinp_16",{"$f":"IFERROR(VLOOKUP(MP31,MATCHSELEVES!$Y$14:$AE$600,3,FALSE),0)","v":0},{"$f":"IFERROR(VLOOKUP(MP31,MATCHSELEVES!$Y$14:$AE$600,4,FALSE),0)","v":0},{"$f":"IFERROR(VLOOKUP(MP31,MATCHSELEVES!$Y$14:$AE$600,5,FALSE),0)","v":0},{"$f":"IFERROR(VLOOKUP(MP31,MATCHSELEVES!$Y$14:$AF$600,8,FALSE),0)","v":0},{"$f":"IFERROR(VLOOKUP(MP31,MATCHSELEVES!$Y$14:$AG$600,9,FALSE),0)","v":0},"Valentinp_17",{"$f":"IFERROR(VLOOKUP(MV31,MATCHSELEVES!$Y$14:$AE$600,3,FALSE),0)","v":0},{"$f":"IFERROR(VLOOKUP(MV31,MATCHSELEVES!$Y$14:$AE$600,4,FALSE),0)","v":0},{"$f":"IFERROR(VLOOKUP(MV31,MATCHSELEVES!$Y$14:$AE$600,5,FALSE),0)","v":0},{"$f":"IFERROR(VLOOKUP(MV31,MATCHSELEVES!$Y$14:$AF$600,8,FALSE),0)","v":0},{"$f":"IFERROR(VLOOKUP(MV31,MATCHSELEVES!$Y$14:$AG$600,9,FALSE),0)","v":0},"Valentinp_18",{"$f":"IFERROR(VLOOKUP(NB31,MATCHSELEVES!$Y$14:$AE$600,3,FALSE),0)","v":0},{"$f":"IFERROR(VLOOKUP(NB31,MATCHSELEVES!$Y$14:$AE$600,4,FALSE),0)","v":0},{"$f":"IFERROR(VLOOKUP(NB31,MATCHSELEVES!$Y$14:$AE$600,5,FALSE),0)","v":0},{"$f":"IFERROR(VLOOKUP(NB31,MATCHSELEVES!$Y$14:$AF$600,8,FALSE),0)","v":0},{"$f":"IFERROR(VLOOKUP(NB31,MATCHSELEVES!$Y$14:$AG$600,9,FALSE),0)","v":0},"Valentinp_19",{"$f":"IFERROR(VLOOKUP(NH31,MATCHSELEVES!$Y$14:$AE$600,3,FALSE),0)","v":0},{"$f":"IFERROR(VLOOKUP(NH31,MATCHSELEVES!$Y$14:$AE$600,4,FALSE),0)","v":0},{"$f":"IFERROR(VLOOKUP(NH31,MATCHSELEVES!$Y$14:$AE$600,5,FALSE),0)","v":0},{"$f":"IFERROR(VLOOKUP(NH31,MATCHSELEVES!$Y$14:$AF$600,8,FALSE),0)","v":0},{"$f":"IFERROR(VLOOKUP(NH31,MATCHSELEVES!$Y$14:$AG$600,9,FALSE),0)","v":0},"Valentinp_20",{"$f":"IFERROR(VLOOKUP(NN31,MATCHSELEVES!$Y$14:$AE$600,3,FALSE),0)","v":0},{"$f":"IFERROR(VLOOKUP(NN31,MATCHSELEVES!$Y$14:$AE$600,4,FALSE),0)","v":0},{"$f":"IFERROR(VLOOKUP(NN31,MATCHSELEVES!$Y$14:$AE$600,5,FALSE),0)","v":0},{"$f":"IFERROR(VLOOKUP(NN31,MATCHSELEVES!$Y$14:$AF$600,8,FALSE),0)","v":0},{"$f":"IFERROR(VLOOKUP(NN31,MATCHSELEVES!$Y$14:$AG$600,9,FALSE),0)","v":0},"Valentinp_21",{"$f":"IFERROR(VLOOKUP(NT31,MATCHSELEVES!$Y$14:$AE$600,3,FALSE),0)","v":0},{"$f":"IFERROR(VLOOKUP(NT31,MATCHSELEVES!$Y$14:$AE$600,4,FALSE),0)","v":0},{"$f":"IFERROR(VLOOKUP(NT31,MATCHSELEVES!$Y$14:$AE$600,5,FALSE),0)","v":0},{"$f":"IFERROR(VLOOKUP(NT31,MATCHSELEVES!$Y$14:$AF$600,8,FALSE),0)","v":0},{"$f":"IFERROR(VLOOKUP(NT31,MATCHSELEVES!$Y$14:$AG$600,9,FALSE),0)","v":0},"Valentinp_22",{"$f":"IFERROR(VLOOKUP(NZ31,MATCHSELEVES!$Y$14:$AE$600,3,FALSE),0)","v":0},{"$f":"IFERROR(VLOOKUP(NZ31,MATCHSELEVES!$Y$14:$AE$600,4,FALSE),0)","v":0},{"$f":"IFERROR(VLOOKUP(NZ31,MATCHSELEVES!$Y$14:$AE$600,5,FALSE),0)","v":0},{"$f":"IFERROR(VLOOKUP(NZ31,MATCHSELEVES!$Y$14:$AF$600,8,FALSE),0)","v":0},{"$f":"IFERROR(VLOOKUP(NZ31,MATCHSELEVES!$Y$14:$AG$600,9,FALSE),0)","v":0},"Valentinp_23",{"$f":"IFERROR(VLOOKUP(OF31,MATCHSELEVES!$Y$14:$AE$600,3,FALSE),0)","v":0},{"$f":"IFERROR(VLOOKUP(OF31,MATCHSELEVES!$Y$14:$AE$600,4,FALSE),0)","v":0},{"$f":"IFERROR(VLOOKUP(OF31,MATCHSELEVES!$Y$14:$AE$600,5,FALSE),0)","v":0},{"$f":"IFERROR(VLOOKUP(OF31,MATCHSELEVES!$Y$14:$AF$600,8,FALSE),0)","v":0},{"$f":"IFERROR(VLOOKUP(OF31,MATCHSELEVES!$Y$14:$AG$600,9,FALSE),0)","v":0},"Valentinp_24",{"$f":"IFERROR(VLOOKUP(OL31,MATCHSELEVES!$Y$14:$AE$600,3,FALSE),0)","v":0},{"$f":"IFERROR(VLOOKUP(OL31,MATCHSELEVES!$Y$14:$AE$600,4,FALSE),0)","v":0},{"$f":"IFERROR(VLOOKUP(OL31,MATCHSELEVES!$Y$14:$AE$600,5,FALSE),0)","v":0},{"$f":"IFERROR(VLOOKUP(OL31,MATCHSELEVES!$Y$14:$AF$600,8,FALSE),0)","v":0},{"$f":"IFERROR(VLOOKUP(OL31,MATCHSELEVES!$Y$14:$AG$600,9,FALSE),0)","v":0},"Valentinp_25",{"$f":"IFERROR(VLOOKUP(OR31,MATCHSELEVES!$Y$14:$AE$600,3,FALSE),0)","v":0},{"$f":"IFERROR(VLOOKUP(OR31,MATCHSELEVES!$Y$14:$AE$600,4,FALSE),0)","v":0},{"$f":"IFERROR(VLOOKUP(OR31,MATCHSELEVES!$Y$14:$AE$600,5,FALSE),0)","v":0},{"$f":"IFERROR(VLOOKUP(OR31,MATCHSELEVES!$Y$14:$AF$600,8,FALSE),0)","v":0},{"$f":"IFERROR(VLOOKUP(OR31,MATCHSELEVES!$Y$14:$AG$600,9,FALSE),0)","v":0},"Valentinp_26",{"$f":"IFERROR(VLOOKUP(OX31,MATCHSELEVES!$Y$14:$AE$600,3,FALSE),0)","v":0},{"$f":"IFERROR(VLOOKUP(OX31,MATCHSELEVES!$Y$14:$AE$600,4,FALSE),0)","v":0},{"$f":"IFERROR(VLOOKUP(OX31,MATCHSELEVES!$Y$14:$AE$600,5,FALSE),0)","v":0},{"$f":"IFERROR(VLOOKUP(OX31,MATCHSELEVES!$Y$14:$AF$600,8,FALSE),0)","v":0},{"$f":"IFERROR(VLOOKUP(OX31,MATCHSELEVES!$Y$14:$AG$600,9,FALSE),0)","v":0},"Valentinp_27",{"$f":"IFERROR(VLOOKUP(PD31,MATCHSELEVES!$Y$14:$AE$600,3,FALSE),0)","v":0},{"$f":"IFERROR(VLOOKUP(PD31,MATCHSELEVES!$Y$14:$AE$600,4,FALSE),0)","v":0},{"$f":"IFERROR(VLOOKUP(PD31,MATCHSELEVES!$Y$14:$AE$600,5,FALSE),0)","v":0},{"$f":"IFERROR(VLOOKUP(PD31,MATCHSELEVES!$Y$14:$AF$600,8,FALSE),0)","v":0},{"$f":"IFERROR(VLOOKUP(PD31,MATCHSELEVES!$Y$14:$AG$600,9,FALSE),0)","v":0},"Valentinp_28",{"$f":"IFERROR(VLOOKUP(PJ31,MATCHSELEVES!$Y$14:$AE$600,3,FALSE),0)","v":0},{"$f":"IFERROR(VLOOKUP(PJ31,MATCHSELEVES!$Y$14:$AE$600,4,FALSE),0)","v":0},{"$f":"IFERROR(VLOOKUP(PJ31,MATCHSELEVES!$Y$14:$AE$600,5,FALSE),0)","v":0},{"$f":"IFERROR(VLOOKUP(PJ31,MATCHSELEVES!$Y$14:$AF$600,8,FALSE),0)","v":0},{"$f":"IFERROR(VLOOKUP(PJ31,MATCHSELEVES!$Y$14:$AG$600,9,FALSE),0)","v":0},"Valentinp_29",{"$f":"IFERROR(VLOOKUP(PP31,MATCHSELEVES!$Y$14:$AE$600,3,FALSE),0)","v":0},{"$f":"IFERROR(VLOOKUP(PP31,MATCHSELEVES!$Y$14:$AE$600,4,FALSE),0)","v":0},{"$f":"IFERROR(VLOOKUP(PP31,MATCHSELEVES!$Y$14:$AE$600,5,FALSE),0)","v":0},{"$f":"IFERROR(VLOOKUP(PP31,MATCHSELEVES!$Y$14:$AF$600,8,FALSE),0)","v":0},{"$f":"IFERROR(VLOOKUP(PP31,MATCHSELEVES!$Y$14:$AG$600,9,FALSE),0)","v":0},"Valentinp_30",{"$f":"IFERROR(VLOOKUP(PV31,MATCHSELEVES!$Y$14:$AE$600,3,FALSE),0)","v":0},{"$f":"IFERROR(VLOOKUP(PV31,MATCHSELEVES!$Y$14:$AE$600,4,FALSE),0)","v":0},{"$f":"IFERROR(VLOOKUP(PV31,MATCHSELEVES!$Y$14:$AE$600,5,FALSE),0)","v":0},{"$f":"IFERROR(VLOOKUP(PV31,MATCHSELEVES!$Y$14:$AF$600,8,FALSE),0)","v":0},{"$f":"IFERROR(VLOOKUP(PV31,MATCHSELEVES!$Y$14:$AG$600,9,FALSE),0)","v":0},"Valentinp_31",{"$f":"IFERROR(VLOOKUP(QB31,MATCHSELEVES!$Y$14:$AE$600,3,FALSE),0)","v":0},{"$f":"IFERROR(VLOOKUP(QB31,MATCHSELEVES!$Y$14:$AE$600,4,FALSE),0)","v":0},{"$f":"IFERROR(VLOOKUP(QB31,MATCHSELEVES!$Y$14:$AE$600,5,FALSE),0)","v":0},{"$f":"IFERROR(VLOOKUP(QB31,MATCHSELEVES!$Y$14:$AF$600,8,FALSE),0)","v":0},{"$f":"IFERROR(VLOOKUP(QB31,MATCHSELEVES!$Y$14:$AG$600,9,FALSE),0)","v":0},"Valentinp_32",{"$f":"IFERROR(VLOOKUP(QH31,MATCHSELEVES!$Y$14:$AE$600,3,FALSE),0)","v":0},{"$f":"IFERROR(VLOOKUP(QH31,MATCHSELEVES!$Y$14:$AE$600,4,FALSE),0)","v":0},{"$f":"IFERROR(VLOOKUP(QH31,MATCHSELEVES!$Y$14:$AE$600,5,FALSE),0)","v":0},{"$f":"IFERROR(VLOOKUP(QH31,MATCHSELEVES!$Y$14:$AF$600,8,FALSE),0)","v":0},{"$f":"IFERROR(VLOOKUP(QH31,MATCHSELEVES!$Y$14:$AG$600,9,FALSE),0)","v":0},"Valentinp_33",{"$f":"IFERROR(VLOOKUP(QN31,MATCHSELEVES!$Y$14:$AE$600,3,FALSE),0)","v":0},{"$f":"IFERROR(VLOOKUP(QN31,MATCHSELEVES!$Y$14:$AE$600,4,FALSE),0)","v":0},{"$f":"IFERROR(VLOOKUP(QN31,MATCHSELEVES!$Y$14:$AE$600,5,FALSE),0)","v":0},{"$f":"IFERROR(VLOOKUP(QN31,MATCHSELEVES!$Y$14:$AF$600,8,FALSE),0)","v":0},{"$f":"IFERROR(VLOOKUP(QN31,MATCHSELEVES!$Y$14:$AG$600,9,FALSE),0)","v":0},"Valentinp_34",{"$f":"IFERROR(VLOOKUP(QT31,MATCHSELEVES!$Y$14:$AE$600,3,FALSE),0)","v":0},{"$f":"IFERROR(VLOOKUP(QT31,MATCHSELEVES!$Y$14:$AE$600,4,FALSE),0)","v":0},{"$f":"IFERROR(VLOOKUP(QT31,MATCHSELEVES!$Y$14:$AE$600,5,FALSE),0)","v":0},{"$f":"IFERROR(VLOOKUP(QT31,MATCHSELEVES!$Y$14:$AF$600,8,FALSE),0)","v":0},{"$f":"IFERROR(VLOOKUP(QT31,MATCHSELEVES!$Y$14:$AG$600,9,FALSE),0)","v":0},"Valentinp_35",{"$f":"IFERROR(VLOOKUP(QZ31,MATCHSELEVES!$Y$14:$AE$600,3,FALSE),0)","v":0},{"$f":"IFERROR(VLOOKUP(QZ31,MATCHSELEVES!$Y$14:$AE$600,4,FALSE),0)","v":0},{"$f":"IFERROR(VLOOKUP(QZ31,MATCHSELEVES!$Y$14:$AE$600,5,FALSE),0)","v":0},{"$f":"IFERROR(VLOOKUP(QZ31,MATCHSELEVES!$Y$14:$AF$600,8,FALSE),0)","v":0},{"$f":"IFERROR(VLOOKUP(QZ31,MATCHSELEVES!$Y$14:$AG$600,9,FALSE),0)","v":0},"Valentinp_36",{"$f":"IFERROR(VLOOKUP(RF31,MATCHSELEVES!$Y$14:$AE$600,3,FALSE),0)","v":0},{"$f":"IFERROR(VLOOKUP(RF31,MATCHSELEVES!$Y$14:$AE$600,4,FALSE),0)","v":0},{"$f":"IFERROR(VLOOKUP(RF31,MATCHSELEVES!$Y$14:$AE$600,5,FALSE),0)","v":0},{"$f":"IFERROR(VLOOKUP(RF31,MATCHSELEVES!$Y$14:$AF$600,8,FALSE),0)","v":0},{"$f":"IFERROR(VLOOKUP(RF31,MATCHSELEVES!$Y$14:$AG$600,9,FALSE),0)","v":0},"Valentinp_37",{"$f":"IFERROR(VLOOKUP(RL31,MATCHSELEVES!$Y$14:$AE$600,3,FALSE),0)","v":0},{"$f":"IFERROR(VLOOKUP(RL31,MATCHSELEVES!$Y$14:$AE$600,4,FALSE),0)","v":0},{"$f":"IFERROR(VLOOKUP(RL31,MATCHSELEVES!$Y$14:$AE$600,5,FALSE),0)","v":0},{"$f":"IFERROR(VLOOKUP(RL31,MATCHSELEVES!$Y$14:$AF$600,8,FALSE),0)","v":0},{"$f":"IFERROR(VLOOKUP(RL31,MATCHSELEVES!$Y$14:$AG$600,9,FALSE),0)","v":0},"Valentinp_38",{"$f":"IFERROR(VLOOKUP(RR31,MATCHSELEVES!$Y$14:$AE$600,3,FALSE),0)","v":0},{"$f":"IFERROR(VLOOKUP(RR31,MATCHSELEVES!$Y$14:$AE$600,4,FALSE),0)","v":0},{"$f":"IFERROR(VLOOKUP(RR31,MATCHSELEVES!$Y$14:$AE$600,5,FALSE),0)","v":0},{"$f":"IFERROR(VLOOKUP(RR31,MATCHSELEVES!$Y$14:$AF$600,8,FALSE),0)","v":0},{"$f":"IFERROR(VLOOKUP(RR31,MATCHSELEVES!$Y$14:$AG$600,9,FALSE),0)","v":0},"Valentinp_39",{"$f":"IFERROR(VLOOKUP(RX31,MATCHSELEVES!$Y$14:$AE$600,3,FALSE),0)","v":0},{"$f":"IFERROR(VLOOKUP(RX31,MATCHSELEVES!$Y$14:$AE$600,4,FALSE),0)","v":0},{"$f":"IFERROR(VLOOKUP(RX31,MATCHSELEVES!$Y$14:$AE$600,5,FALSE),0)","v":0},{"$f":"IFERROR(VLOOKUP(RX31,MATCHSELEVES!$Y$14:$AF$600,8,FALSE),0)","v":0},{"$f":"IFERROR(VLOOKUP(RX31,MATCHSELEVES!$Y$14:$AG$600,9,FALSE),0)","v":0},"Valentinp_40",{"$f":"IFERROR(VLOOKUP(SD31,MATCHSELEVES!$Y$14:$AE$600,3,FALSE),0)","v":0},{"$f":"IFERROR(VLOOKUP(SD31,MATCHSELEVES!$Y$14:$AE$600,4,FALSE),0)","v":0},{"$f":"IFERROR(VLOOKUP(SD31,MATCHSELEVES!$Y$14:$AE$600,5,FALSE),0)","v":0},{"$f":"IFERROR(VLOOKUP(SD31,MATCHSELEVES!$Y$14:$AF$600,8,FALSE),0)","v":0},{"$f":"IFERROR(VLOOKUP(SD31,MATCHSELEVES!$Y$14:$AG$600,9,FALSE),0)","v":0}]
[29,null,{"$f":"MD1POINT!C32","v":"Walid"},{"$f":"MD1POINT!D32","v":1},{"$f":"COUNTIF(MATCHSELEVES!$Z$14:$Z$600,C32)+COUNTIF(MATCHSELEVES!$Z$14:$Z$600,$C32&\"p\")","v":0},1,{"$f":"COUNTIF(MATCHSELEVES!$F$14:$H$249,C32)","v":0},1,0,1,0,1,0,1,{"$f":"Y32+AE32+AK32+AQ32+AW32+BC32+BI32+BO32+BU32+CA32+CG32+CM32+CS32+CY32+DE32+DK32+DQ32+DW32+EC32+EI32+EO32+EU32+FA32+FG32+FM32+FS32+FY32+GE32+GK32+GQ32+GW32+4+HI32+HO32+HU32+IA32+HC32+IG32+IM32+IY32+IS32+JH32+JN32+JZ32+JT32+KF32+KR32+KX32+LJ32+LP32+LV32+LD32+MB32+MH32+MN32+MZ32+MT32+NF32+NL32+NR32+NX32+OD32+OJ32+OP32+OV32+PB32+PH32+PT32+PN32+PZ32+QF32+QL32+QR32+RD32+QX32+RJ32+RP32+RV32+SB32+SH32+KL32+Tableau10[[#This Row],[Nombre de matchs joués]]*2","v":4},1,{"$f":"(Tableau10[[#This Row],[CLASSEMENT1]]+Tableau10[[#This Row],[CLASSEMENT2]]+Tableau10[[#This Row],[CLASSEMENT3]]+Tableau10[[#This Row],[CLASSEMENT4]]+Tableau10[[#This Row],[CLASSEMENT5]]+Tableau10[[#This Row],[CLASSEMENT6]])/6","v":1},{"$f":"RANK(Tableau10[[#This Row],[MOYENNE CLASSEMENTS]],Tableau10[MOYENNE CLASSEMENTS],1)","v":1},null,{"$f":"Tableau10[[#This Row],[CLASSEMENT1]]","v":1},"Walid_1",{"$f":"IFERROR(VLOOKUP(U32,MATCHSELEVES!$Y$14:$AE$600,3,FALSE),0)","v":0},{"$f":"IFERROR(VLOOKUP(U32,MATCHSELEVES!$Y$14:$AE$600,4,FALSE),0)","v":0},{"$f":"IFERROR(VLOOKUP(U32,MATCHSELEVES!$Y$14:$AE$600,5,FALSE),0)","v":0},{"$f":"IFERROR(VLOOKUP(U32,MATCHSELEVES!$Y$14:$AF$600,8,FALSE),0)","v":0},{"$f":"IFERROR(VLOOKUP(U32,MATCHSELEVES!$Y$14:$AG$600,9,FALSE),0)","v":0},"Walid_2",{"$f":"IFERROR(VLOOKUP(AA32,MATCHSELEVES!$Y$14:$AE$600,3,FALSE),0)","v":0},{"$f":"IFERROR(VLOOKUP(AA32,MATCHSELEVES!$Y$14:$AE$600,4,FALSE),0)","v":0},{"$f":"IFERROR(VLOOKUP(AA32,MATCHSELEVES!$Y$14:$AE$600,5,FALSE),0)","v":0},{"$f":"IFERROR(VLOOKUP(AA32,MATCHSELEVES!$Y$14:$AF$600,8,FALSE),0)","v":0},{"$f":"IFERROR(VLOOKUP(AA32,MATCHSELEVES!$Y$14:$AG$600,9,FALSE),0)","v":0},"Walid_3",{"$f":"IFERROR(VLOOKUP(AG32,MATCHSELEVES!$Y$14:$AE$600,3,FALSE),0)","v":0},{"$f":"IFERROR(VLOOKUP(AG32,MATCHSELEVES!$Y$14:$AE$600,4,FALSE),0)","v":0},{"$f":"IFERROR(VLOOKUP(AG32,MATCHSELEVES!$Y$14:$AE$600,5,FALSE),0)","v":0},{"$f":"IFERROR(VLOOKUP(AG32,MATCHSELEVES!$Y$14:$AF$600,8,FALSE),0)","v":0},{"$f":"IFERROR(VLOOKUP(AG32,MATCHSELEVES!$Y$14:$AG$600,9,FALSE),0)","v":0},"Walid_4",{"$f":"IFERROR(VLOOKUP(AM32,MATCHSELEVES!$Y$14:$AE$600,3,FALSE),0)","v":0},{"$f":"IFERROR(VLOOKUP(AM32,MATCHSELEVES!$Y$14:$AE$600,4,FALSE),0)","v":0},{"$f":"IFERROR(VLOOKUP(AM32,MATCHSELEVES!$Y$14:$AE$600,5,FALSE),0)","v":0},{"$f":"IFERROR(VLOOKUP(AM32,MATCHSELEVES!$Y$14:$AF$600,8,FALSE),0)","v":0},{"$f":"IFERROR(VLOOKUP(AM32,MATCHSELEVES!$Y$14:$AG$600,9,FALSE),0)","v":0},"Walid_5",{"$f":"IFERROR(VLOOKUP(AS32,MATCHSELEVES!$Y$14:$AE$600,3,FALSE),0)","v":0},{"$f":"IFERROR(VLOOKUP(AS32,MATCHSELEVES!$Y$14:$AE$600,4,FALSE),0)","v":0},{"$f":"IFERROR(VLOOKUP(AS32,MATCHSELEVES!$Y$14:$AE$600,5,FALSE),0)","v":0},{"$f":"IFERROR(VLOOKUP(AS32,MATCHSELEVES!$Y$14:$AF$600,8,FALSE),0)","v":0},{"$f":"IFERROR(VLOOKUP(AS32,MATCHSELEVES!$Y$14:$AG$600,9,FALSE),0)","v":0},"Walid_6",{"$f":"IFERROR(VLOOKUP(AY32,MATCHSELEVES!$Y$14:$AE$600,3,FALSE),0)","v":0},{"$f":"IFERROR(VLOOKUP(AY32,MATCHSELEVES!$Y$14:$AE$600,4,FALSE),0)","v":0},{"$f":"IFERROR(VLOOKUP(AY32,MATCHSELEVES!$Y$14:$AE$600,5,FALSE),0)","v":0},{"$f":"IFERROR(VLOOKUP(AY32,MATCHSELEVES!$Y$14:$AF$600,8,FALSE),0)","v":0},{"$f":"IFERROR(VLOOKUP(AY32,MATCHSELEVES!$Y$14:$AG$600,9,FALSE),0)","v":0},"Walid_7",{"$f":"IFERROR(VLOOKUP(BE32,MATCHSELEVES!$Y$14:$AE$600,3,FALSE),0)","v":0},{"$f":"IFERROR(VLOOKUP(BE32,MATCHSELEVES!$Y$14:$AE$600,4,FALSE),0)","v":0},{"$f":"IFERROR(VLOOKUP(BE32,MATCHSELEVES!$Y$14:$AE$600,5,FALSE),0)","v":0},{"$f":"IFERROR(VLOOKUP(BE32,MATCHSELEVES!$Y$14:$AF$600,8,FALSE),0)","v":0},{"$f":"IFERROR(VLOOKUP(BE32,MATCHSELEVES!$Y$14:$AG$600,9,FALSE),0)","v":0},"Walid_8",{"$f":"IFERROR(VLOOKUP(BK32,MATCHSELEVES!$Y$14:$AE$600,3,FALSE),0)","v":0},{"$f":"IFERROR(VLOOKUP(BK32,MATCHSELEVES!$Y$14:$AE$600,4,FALSE),0)","v":0},{"$f":"IFERROR(VLOOKUP(BK32,MATCHSELEVES!$Y$14:$AE$600,5,FALSE),0)","v":0},{"$f":"IFERROR(VLOOKUP(BK32,MATCHSELEVES!$Y$14:$AF$600,8,FALSE),0)","v":0},{"$f":"IFERROR(VLOOKUP(BK32,MATCHSELEVES!$Y$14:$AG$600,9,FALSE),0)","v":0},"Walid_9",{"$f":"IFERROR(VLOOKUP(BQ32,MATCHSELEVES!$Y$14:$AE$600,3,FALSE),0)","v":0},{"$f":"IFERROR(VLOOKUP(BQ32,MATCHSELEVES!$Y$14:$AE$600,4,FALSE),0)","v":0},{"$f":"IFERROR(VLOOKUP(BQ32,MATCHSELEVES!$Y$14:$AE$600,5,FALSE),0)","v":0},{"$f":"IFERROR(VLOOKUP(BQ32,MATCHSELEVES!$Y$14:$AF$600,8,FALSE),0)","v":0},{"$f":"IFERROR(VLOOKUP(BQ32,MATCHSELEVES!$Y$14:$AG$600,9,FALSE),0)","v":0},"Walid_10",{"$f":"IFERROR(VLOOKUP(BW32,MATCHSELEVES!$Y$14:$AE$600,3,FALSE),0)","v":0},{"$f":"IFERROR(VLOOKUP(BW32,MATCHSELEVES!$Y$14:$AE$600,4,FALSE),0)","v":0},{"$f":"IFERROR(VLOOKUP(BW32,MATCHSELEVES!$Y$14:$AE$600,5,FALSE),0)","v":0},{"$f":"IFERROR(VLOOKUP(BW32,MATCHSELEVES!$Y$14:$AF$600,8,FALSE),0)","v":0},{"$f":"IFERROR(VLOOKUP(BW32,MATCHSELEVES!$Y$14:$AG$600,9,FALSE),0)","v":0},"Walid_11",{"$f":"IFERROR(VLOOKUP(CC32,MATCHSELEVES!$Y$14:$AE$600,3,FALSE),0)","v":0},{"$f":"IFERROR(VLOOKUP(CC32,MATCHSELEVES!$Y$14:$AE$600,4,FALSE),0)","v":0},{"$f":"IFERROR(VLOOKUP(CC32,MATCHSELEVES!$Y$14:$AE$600,5,FALSE),0)","v":0},{"$f":"IFERROR(VLOOKUP(CC32,MATCHSELEVES!$Y$14:$AF$600,8,FALSE),0)","v":0},{"$f":"IFERROR(VLOOKUP(CC32,MATCHSELEVES!$Y$14:$AG$600,9,FALSE),0)","v":0},"Walid_12",{"$f":"IFERROR(VLOOKUP(CI32,MATCHSELEVES!$Y$14:$AE$600,3,FALSE),0)","v":0},{"$f":"IFERROR(VLOOKUP(CI32,MATCHSELEVES!$Y$14:$AE$600,4,FALSE),0)","v":0},{"$f":"IFERROR(VLOOKUP(CI32,MATCHSELEVES!$Y$14:$AE$600,5,FALSE),0)","v":0},{"$f":"IFERROR(VLOOKUP(CI32,MATCHSELEVES!$Y$14:$AF$600,8,FALSE),0)","v":0},{"$f":"IFERROR(VLOOKUP(CI32,MATCHSELEVES!$Y$14:$AG$600,9,FALSE),0)","v":0},"Walid_13",{"$f":"IFERROR(VLOOKUP(CO32,MATCHSELEVES!$Y$14:$AE$600,3,FALSE),0)","v":0},{"$f":"IFERROR(VLOOKUP(CO32,MATCHSELEVES!$Y$14:$AE$600,4,FALSE),0)","v":0},{"$f":"IFERROR(VLOOKUP(CO32,MATCHSELEVES!$Y$14:$AE$600,5,FALSE),0)","v":0},{"$f":"IFERROR(VLOOKUP(CO32,MATCHSELEVES!$Y$14:$AF$600,8,FALSE),0)","v":0},{"$f":"IFERROR(VLOOKUP(CO32,MATCHSELEVES!$Y$14:$AG$600,9,FALSE),0)","v":0},"Walid_14",{"$f":"IFERROR(VLOOKUP(CU32,MATCHSELEVES!$Y$14:$AE$600,3,FALSE),0)","v":0},{"$f":"IFERROR(VLOOKUP(CU32,MATCHSELEVES!$Y$14:$AE$600,4,FALSE),0)","v":0},{"$f":"IFERROR(VLOOKUP(CU32,MATCHSELEVES!$Y$14:$AE$600,5,FALSE),0)","v":0},{"$f":"IFERROR(VLOOKUP(CU32,MATCHSELEVES!$Y$14:$AF$600,8,FALSE),0)","v":0},{"$f":"IFERROR(VLOOKUP(CU32,MATCHSELEVES!$Y$14:$AG$600,9,FALSE),0)","v":0},"Walid_15",{"$f":"IFERROR(VLOOKUP(DA32,MATCHSELEVES!$Y$14:$AE$600,3,FALSE),0)","v":0},{"$f":"IFERROR(VLOOKUP(DA32,MATCHSELEVES!$Y$14:$AE$600,4,FALSE),0)","v":0},{"$f":"IFERROR(VLOOKUP(DA32,MATCHSELEVES!$Y$14:$AE$600,5,FALSE),0)","v":0},{"$f":"IFERROR(VLOOKUP(DA32,MATCHSELEVES!$Y$14:$AF$600,8,FALSE),0)","v":0},{"$f":"IFERROR(VLOOKUP(DA32,MATCHSELEVES!$Y$14:$AG$600,9,FALSE),0)","v":0},"Walid_16",{"$f":"IFERROR(VLOOKUP(DG32,MATCHSELEVES!$Y$14:$AE$600,3,FALSE),0)","v":0},{"$f":"IFERROR(VLOOKUP(DG32,MATCHSELEVES!$Y$14:$AE$600,4,FALSE),0)","v":0},{"$f":"IFERROR(VLOOKUP(DG32,MATCHSELEVES!$Y$14:$AE$600,5,FALSE),0)","v":0},{"$f":"IFERROR(VLOOKUP(DG32,MATCHSELEVES!$Y$14:$AF$600,8,FALSE),0)","v":0},{"$f":"IFERROR(VLOOKUP(DG32,MATCHSELEVES!$Y$14:$AG$600,9,FALSE),0)","v":0},"Walid_17",{"$f":"IFERROR(VLOOKUP(DM32,MATCHSELEVES!$Y$14:$AE$600,3,FALSE),0)","v":0},{"$f":"IFERROR(VLOOKUP(DM32,MATCHSELEVES!$Y$14:$AE$600,4,FALSE),0)","v":0},{"$f":"IFERROR(VLOOKUP(DM32,MATCHSELEVES!$Y$14:$AE$600,5,FALSE),0)","v":0},{"$f":"IFERROR(VLOOKUP(DM32,MATCHSELEVES!$Y$14:$AF$600,8,FALSE),0)","v":0},{"$f":"IFERROR(VLOOKUP(DM32,MATCHSELEVES!$Y$14:$AG$600,9,FALSE),0)","v":0},"Walid_18",{"$f":"IFERROR(VLOOKUP(DS32,MATCHSELEVES!$Y$14:$AE$600,3,FALSE),0)","v":0},{"$f":"IFERROR(VLOOKUP(DS32,MATCHSELEVES!$Y$14:$AE$600,4,FALSE),0)","v":0},{"$f":"IFERROR(VLOOKUP(DS32,MATCHSELEVES!$Y$14:$AE$600,5,FALSE),0)","v":0},{"$f":"IFERROR(VLOOKUP(DS32,MATCHSELEVES!$Y$14:$AF$600,8,FALSE),0)","v":0},{"$f":"IFERROR(VLOOKUP(DS32,MATCHSELEVES!$Y$14:$AG$600,9,FALSE),0)","v":0},"Walid_19",{"$f":"IFERROR(VLOOKUP(DY32,MATCHSELEVES!$Y$14:$AE$600,3,FALSE),0)","v":0},{"$f":"IFERROR(VLOOKUP(DY32,MATCHSELEVES!$Y$14:$AE$600,4,FALSE),0)","v":0},{"$f":"IFERROR(VLOOKUP(DY32,MATCHSELEVES!$Y$14:$AE$600,5,FALSE),0)","v":0},{"$f":"IFERROR(VLOOKUP(DY32,MATCHSELEVES!$Y$14:$AF$600,8,FALSE),0)","v":0},{"$f":"IFERROR(VLOOKUP(DY32,MATCHSELEVES!$Y$14:$AG$600,9,FALSE),0)","v":0},"Walid_20",{"$f":"IFERROR(VLOOKUP(EE32,MATCHSELEVES!$Y$14:$AE$600,3,FALSE),0)","v":0},{"$f":"IFERROR(VLOOKUP(EE32,MATCHSELEVES!$Y$14:$AE$600,4,FALSE),0)","v":0},{"$f":"IFERROR(VLOOKUP(EE32,MATCHSELEVES!$Y$14:$AE$600,5,FALSE),0)","v":0},{"$f":"IFERROR(VLOOKUP(EE32,MATCHSELEVES!$Y$14:$AF$600,8,FALSE),0)","v":0},{"$f":"IFERROR(VLOOKUP(EE32,MATCHSELEVES!$Y$14:$AG$600,9,FALSE),0)","v":0},"Walid_21",{"$f":"IFERROR(VLOOKUP(EK32,MATCHSELEVES!$Y$14:$AE$600,3,FALSE),0)","v":0},{"$f":"IFERROR(VLOOKUP(EK32,MATCHSELEVES!$Y$14:$AE$600,4,FALSE),0)","v":0},{"$f":"IFERROR(VLOOKUP(EK32,MATCHSELEVES!$Y$14:$AE$600,5,FALSE),0)","v":0},{"$f":"IFERROR(VLOOKUP(EK32,MATCHSELEVES!$Y$14:$AF$600,8,FALSE),0)","v":0},{"$f":"IFERROR(VLOOKUP(EK32,MATCHSELEVES!$Y$14:$AG$600,9,FALSE),0)","v":0},"Walid_22",{"$f":"IFERROR(VLOOKUP(EQ32,MATCHSELEVES!$Y$14:$AE$600,3,FALSE),0)","v":0},{"$f":"IFERROR(VLOOKUP(EQ32,MATCHSELEVES!$Y$14:$AE$600,4,FALSE),0)","v":0},{"$f":"IFERROR(VLOOKUP(EQ32,MATCHSELEVES!$Y$14:$AE$600,5,FALSE),0)","v":0},{"$f":"IFERROR(VLOOKUP(EQ32,MATCHSELEVES!$Y$14:$AF$600,8,FALSE),0)","v":0},{"$f":"IFERROR(VLOOKUP(EQ32,MATCHSELEVES!$Y$14:$AG$600,9,FALSE),0)","v":0},"Walid_23",{"$f":"IFERROR(VLOOKUP(EW32,MATCHSELEVES!$Y$14:$AE$600,3,FALSE),0)","v":0},{"$f":"IFERROR(VLOOKUP(EW32,MATCHSELEVES!$Y$14:$AE$600,4,FALSE),0)","v":0},{"$f":"IFERROR(VLOOKUP(EW32,MATCHSELEVES!$Y$14:$AE$600,5,FALSE),0)","v":0},{"$f":"IFERROR(VLOOKUP(EW32,MATCHSELEVES!$Y$14:$AF$600,8,FALSE),0)","v":0},{"$f":"IFERROR(VLOOKUP(EW32,MATCHSELEVES!$Y$14:$AG$600,9,FALSE),0)","v":0},"Walid_24",{"$f":"IFERROR(VLOOKUP(FC32,MATCHSELEVES!$Y$14:$AE$600,3,FALSE),0)","v":0},{"$f":"IFERROR(VLOOKUP(FC32,MATCHSELEVES!$Y$14:$AE$600,4,FALSE),0)","v":0},{"$f":"IFERROR(VLOOKUP(FC32,MATCHSELEVES!$Y$14:$AE$600,5,FALSE),0)","v":0},{"$f":"IFERROR(VLOOKUP(FC32,MATCHSELEVES!$Y$14:$AF$600,8,FALSE),0)","v":0},{"$f":"IFERROR(VLOOKUP(FC32,MATCHSELEVES!$Y$14:$AG$600,9,FALSE),0)","v":0},"Walid_25",{"$f":"IFERROR(VLOOKUP(FI32,MATCHSELEVES!$Y$14:$AE$600,3,FALSE),0)","v":0},{"$f":"IFERROR(VLOOKUP(FI32,MATCHSELEVES!$Y$14:$AE$600,4,FALSE),0)","v":0},{"$f":"IFERROR(VLOOKUP(FI32,MATCHSELEVES!$Y$14:$AE$600,5,FALSE),0)","v":0},{"$f":"IFERROR(VLOOKUP(FI32,MATCHSELEVES!$Y$14:$AF$600,8,FALSE),0)","v":0},{"$f":"IFERROR(VLOOKUP(FI32,MATCHSELEVES!$Y$14:$AG$600,9,FALSE),0)","v":0},"Walid_26",{"$f":"IFERROR(VLOOKUP(FO32,MATCHSELEVES!$Y$14:$AE$600,3,FALSE),0)","v":0},{"$f":"IFERROR(VLOOKUP(FO32,MATCHSELEVES!$Y$14:$AE$600,4,FALSE),0)","v":0},{"$f":"IFERROR(VLOOKUP(FO32,MATCHSELEVES!$Y$14:$AE$600,5,FALSE),0)","v":0},{"$f":"IFERROR(VLOOKUP(FO32,MATCHSELEVES!$Y$14:$AF$600,8,FALSE),0)","v":0},{"$f":"IFERROR(VLOOKUP(FO32,MATCHSELEVES!$Y$14:$AG$600,9,FALSE),0)","v":0},"Walid_27",{"$f":"IFERROR(VLOOKUP(FU32,MATCHSELEVES!$Y$14:$AE$600,3,FALSE),0)","v":0},{"$f":"IFERROR(VLOOKUP(FU32,MATCHSELEVES!$Y$14:$AE$600,4,FALSE),0)","v":0},{"$f":"IFERROR(VLOOKUP(FU32,MATCHSELEVES!$Y$14:$AE$600,5,FALSE),0)","v":0},{"$f":"IFERROR(VLOOKUP(FU32,MATCHSELEVES!$Y$14:$AF$600,8,FALSE),0)","v":0},{"$f":"IFERROR(VLOOKUP(FU32,MATCHSELEVES!$Y$14:$AG$600,9,FALSE),0)","v":0},"Walid_28",{"$f":"IFERROR(VLOOKUP(GA32,MATCHSELEVES!$Y$14:$AE$600,3,FALSE),0)","v":0},{"$f":"IFERROR(VLOOKUP(GA32,MATCHSELEVES!$Y$14:$AE$600,4,FALSE),0)","v":0},{"$f":"IFERROR(VLOOKUP(GA32,MATCHSELEVES!$Y$14:$AE$600,5,FALSE),0)","v":0},{"$f":"IFERROR(VLOOKUP(GA32,MATCHSELEVES!$Y$14:$AF$600,8,FALSE),0)","v":0},{"$f":"IFERROR(VLOOKUP(GA32,MATCHSELEVES!$Y$14:$AG$600,9,FALSE),0)","v":0},"Walid_29",{"$f":"IFERROR(VLOOKUP(GG32,MATCHSELEVES!$Y$14:$AE$600,3,FALSE),0)","v":0},{"$f":"IFERROR(VLOOKUP(GG32,MATCHSELEVES!$Y$14:$AE$600,4,FALSE),0)","v":0},{"$f":"IFERROR(VLOOKUP(GG32,MATCHSELEVES!$Y$14:$AE$600,5,FALSE),0)","v":0},{"$f":"IFERROR(VLOOKUP(GG32,MATCHSELEVES!$Y$14:$AF$600,8,FALSE),0)","v":0},{"$f":"IFERROR(VLOOKUP(GG32,MATCHSELEVES!$Y$14:$AG$600,9,FALSE),0)","v":0},"Walid_30",{"$f":"IFERROR(VLOOKUP(GM32,MATCHSELEVES!$Y$14:$AE$600,3,FALSE),0)","v":0},{"$f":"IFERROR(VLOOKUP(GM32,MATCHSELEVES!$Y$14:$AE$600,4,FALSE),0)","v":0},{"$f":"IFERROR(VLOOKUP(GM32,MATCHSELEVES!$Y$14:$AE$600,5,FALSE),0)","v":0},{"$f":"IFERROR(VLOOKUP(GM32,MATCHSELEVES!$Y$14:$AF$600,8,FALSE),0)","v":0},{"$f":"IFERROR(VLOOKUP(GM32,MATCHSELEVES!$Y$14:$AG$600,9,FALSE),0)","v":0},"Walid_31",{"$f":"IFERROR(VLOOKUP(GS32,MATCHSELEVES!$Y$14:$AE$600,3,FALSE),0)","v":0},{"$f":"IFERROR(VLOOKUP(GS32,MATCHSELEVES!$Y$14:$AE$600,4,FALSE),0)","v":0},{"$f":"IFERROR(VLOOKUP(GS32,MATCHSELEVES!$Y$14:$AE$600,5,FALSE),0)","v":0},{"$f":"IFERROR(VLOOKUP(GS32,MATCHSELEVES!$Y$14:$AF$600,8,FALSE),0)","v":0},{"$f":"IFERROR(VLOOKUP(GS32,MATCHSELEVES!$Y$14:$AG$600,9,FALSE),0)","v":0},"Walid_32",{"$f":"IFERROR(VLOOKUP(GY32,MATCHSELEVES!$Y$14:$AE$600,3,FALSE),0)","v":0},{"$f":"IFERROR(VLOOKUP(GY32,MATCHSELEVES!$Y$14:$AE$600,4,FALSE),0)","v":0},{"$f":"IFERROR(VLOOKUP(GY32,MATCHSELEVES!$Y$14:$AE$600,5,FALSE),0)","v":0},{"$f":"IFERROR(VLOOKUP(GY32,MATCHSELEVES!$Y$14:$AF$600,8,FALSE),0)","v":0},{"$f":"IFERROR(VLOOKUP(GY32,MATCHSELEVES!$Y$14:$AG$600,9,FALSE),0)","v":0},"Walid_33",{"$f":"IFERROR(VLOOKUP(HE32,MATCHSELEVES!$Y$14:$AE$600,3,FALSE),0)","v":0},{"$f":"IFERROR(VLOOKUP(HE32,MATCHSELEVES!$Y$14:$AE$600,4,FALSE),0)","v":0},{"$f":"IFERROR(VLOOKUP(HE32,MATCHSELEVES!$Y$14:$AE$600,5,FALSE),0)","v":0},{"$f":"IFERROR(VLOOKUP(HE32,MATCHSELEVES!$Y$14:$AF$600,8,FALSE),0)","v":0},{"$f":"IFERROR(VLOOKUP(HE32,MATCHSELEVES!$Y$14:$AG$600,9,FALSE),0)","v":0},"Walid_34",{"$f":"IFERROR(VLOOKUP(HK32,MATCHSELEVES!$Y$14:$AE$600,3,FALSE),0)","v":0},{"$f":"IFERROR(VLOOKUP(HK32,MATCHSELEVES!$Y$14:$AE$600,4,FALSE),0)","v":0},{"$f":"IFERROR(VLOOKUP(HK32,MATCHSELEVES!$Y$14:$AE$600,5,FALSE),0)","v":0},{"$f":"IFERROR(VLOOKUP(HK32,MATCHSELEVES!$Y$14:$AF$600,8,FALSE),0)","v":0},{"$f":"IFERROR(VLOOKUP(HK32,MATCHSELEVES!$Y$14:$AG$600,9,FALSE),0)","v":0},"Walid_35",{"$f":"IFERROR(VLOOKUP(HQ32,MATCHSELEVES!$Y$14:$AE$600,3,FALSE),0)","v":0},{"$f":"IFERROR(VLOOKUP(HQ32,MATCHSELEVES!$Y$14:$AE$600,4,FALSE),0)","v":0},{"$f":"IFERROR(VLOOKUP(HQ32,MATCHSELEVES!$Y$14:$AE$600,5,FALSE),0)","v":0},{"$f":"IFERROR(VLOOKUP(HQ32,MATCHSELEVES!$Y$14:$AF$600,8,FALSE),0)","v":0},{"$f":"IFERROR(VLOOKUP(HQ32,MATCHSELEVES!$Y$14:$AG$600,9,FALSE),0)","v":0},"Walid_36",{"$f":"IFERROR(VLOOKUP(HW32,MATCHSELEVES!$Y$14:$AE$600,3,FALSE),0)","v":0},{"$f":"IFERROR(VLOOKUP(HW32,MATCHSELEVES!$Y$14:$AE$600,4,FALSE),0)","v":0},{"$f":"IFERROR(VLOOKUP(HW32,MATCHSELEVES!$Y$14:$AE$600,5,FALSE),0)","v":0},{"$f":"IFERROR(VLOOKUP(HW32,MATCHSELEVES!$Y$14:$AF$600,8,FALSE),0)","v":0},{"$f":"IFERROR(VLOOKUP(HW32,MATCHSELEVES!$Y$14:$AG$600,9,FALSE),0)","v":0},"Walid_37",{"$f":"IFERROR(VLOOKUP(IC32,MATCHSELEVES!$Y$14:$AE$600,3,FALSE),0)","v":0},{"$f":"IFERROR(VLOOKUP(IC32,MATCHSELEVES!$Y$14:$AE$600,4,FALSE),0)","v":0},{"$f":"IFERROR(VLOOKUP(IC32,MATCHSELEVES!$Y$14:$AE$600,5,FALSE),0)","v":0},{"$f":"IFERROR(VLOOKUP(IC32,MATCHSELEVES!$Y$14:$AF$600,8,FALSE),0)","v":0},{"$f":"IFERROR(VLOOKUP(IC32,MATCHSELEVES!$Y$14:$AG$600,9,FALSE),0)","v":0},"Walid_38",{"$f":"IFERROR(VLOOKUP(II32,MATCHSELEVES!$Y$14:$AE$600,3,FALSE),0)","v":0},{"$f":"IFERROR(VLOOKUP(II32,MATCHSELEVES!$Y$14:$AE$600,4,FALSE),0)","v":0},{"$f":"IFERROR(VLOOKUP(II32,MATCHSELEVES!$Y$14:$AE$600,5,FALSE),0)","v":0},{"$f":"IFERROR(VLOOKUP(II32,MATCHSELEVES!$Y$14:$AF$600,8,FALSE),0)","v":0},{"$f":"IFERROR(VLOOKUP(II32,MATCHSELEVES!$Y$14:$AG$600,9,FALSE),0)","v":0},"Walid_39",{"$f":"IFERROR(VLOOKUP(IO32,MATCHSELEVES!$Y$14:$AE$600,3,FALSE),0)","v":0},{"$f":"IFERROR(VLOOKUP(IO32,MATCHSELEVES!$Y$14:$AE$600,4,FALSE),0)","v":0},{"$f":"IFERROR(VLOOKUP(IO32,MATCHSELEVES!$Y$14:$AE$600,5,FALSE),0)","v":0},{"$f":"IFERROR(VLOOKUP(IO32,MATCHSELEVES!$Y$14:$AF$600,8,FALSE),0)","v":0},{"$f":"IFERROR(VLOOKUP(IO32,MATCHSELEVES!$Y$14:$AG$600,9,FALSE),0)","v":0},"Walid_40",{"$f":"IFERROR(VLOOKUP(IU32,MATCHSELEVES!$Y$14:$AE$600,3,FALSE),0)","v":0},{"$f":"IFERROR(VLOOKUP(IU32,MATCHSELEVES!$Y$14:$AE$600,4,FALSE),0)","v":0},{"$f":"IFERROR(VLOOKUP(IU32,MATCHSELEVES!$Y$14:$AE$600,5,FALSE),0)","v":0},{"$f":"IFERROR(VLOOKUP(IU32,MATCHSELEVES!$Y$14:$AF$600,8,FALSE),0)","v":0},{"$f":"IFERROR(VLOOKUP(IU32,MATCHSELEVES!$Y$14:$AG$600,9,FALSE),0)","v":0},{"$f":"Tableau10[[#This Row],[CLASSE]]","v":"Walid"},1,{"$f":"MD1POINT!D32","v":1},"Walidp_1",{"$f":"IFERROR(VLOOKUP(JD32,MATCHSELEVES!$Y$14:$AE$600,3,FALSE),0)","v":0},{"$f":"IFERROR(VLOOKUP(JD32,MATCHSELEVES!$Y$14:$AE$600,4,FALSE),0)","v":0},{"$f":"IFERROR(VLOOKUP(JD32,MATCHSELEVES!$Y$14:$AE$600,5,FALSE),0)","v":0},{"$f":"IFERROR(VLOOKUP(JD32,MATCHSELEVES!$Y$14:$AF$600,8,FALSE),0)","v":0},{"$f":"IFERROR(VLOOKUP(JD32,MATCHSELEVES!$Y$14:$AG$600,9,FALSE),0)","v":0},"Walidp_2",{"$f":"IFERROR(VLOOKUP(JJ32,MATCHSELEVES!$Y$14:$AE$600,3,FALSE),0)","v":0},{"$f":"IFERROR(VLOOKUP(JJ32,MATCHSELEVES!$Y$14:$AE$600,4,FALSE),0)","v":0},{"$f":"IFERROR(VLOOKUP(JJ32,MATCHSELEVES!$Y$14:$AE$600,5,FALSE),0)","v":0},{"$f":"IFERROR(VLOOKUP(JJ32,MATCHSELEVES!$Y$14:$AF$600,8,FALSE),0)","v":0},{"$f":"IFERROR(VLOOKUP(JJ32,MATCHSELEVES!$Y$14:$AG$600,9,FALSE),0)","v":0},"Walidp_3",{"$f":"IFERROR(VLOOKUP(JP32,MATCHSELEVES!$Y$14:$AE$600,3,FALSE),0)","v":0},{"$f":"IFERROR(VLOOKUP(JP32,MATCHSELEVES!$Y$14:$AE$600,4,FALSE),0)","v":0},{"$f":"IFERROR(VLOOKUP(JP32,MATCHSELEVES!$Y$14:$AE$600,5,FALSE),0)","v":0},{"$f":"IFERROR(VLOOKUP(JP32,MATCHSELEVES!$Y$14:$AF$600,8,FALSE),0)","v":0},{"$f":"IFERROR(VLOOKUP(JP32,MATCHSELEVES!$Y$14:$AG$600,9,FALSE),0)","v":0},"Walidp_4",{"$f":"IFERROR(VLOOKUP(JV32,MATCHSELEVES!$Y$14:$AE$600,3,FALSE),0)","v":0},{"$f":"IFERROR(VLOOKUP(JV32,MATCHSELEVES!$Y$14:$AE$600,4,FALSE),0)","v":0},{"$f":"IFERROR(VLOOKUP(JV32,MATCHSELEVES!$Y$14:$AE$600,5,FALSE),0)","v":0},{"$f":"IFERROR(VLOOKUP(JV32,MATCHSELEVES!$Y$14:$AF$600,8,FALSE),0)","v":0},{"$f":"IFERROR(VLOOKUP(JV32,MATCHSELEVES!$Y$14:$AG$600,9,FALSE),0)","v":0},"Walidp_5",{"$f":"IFERROR(VLOOKUP(KB32,MATCHSELEVES!$Y$14:$AE$600,3,FALSE),0)","v":0},{"$f":"IFERROR(VLOOKUP(KB32,MATCHSELEVES!$Y$14:$AE$600,4,FALSE),0)","v":0},{"$f":"IFERROR(VLOOKUP(KB32,MATCHSELEVES!$Y$14:$AE$600,5,FALSE),0)","v":0},{"$f":"IFERROR(VLOOKUP(KB32,MATCHSELEVES!$Y$14:$AF$600,8,FALSE),0)","v":0},{"$f":"IFERROR(VLOOKUP(KB32,MATCHSELEVES!$Y$14:$AG$600,9,FALSE),0)","v":0},"Walidp_6",{"$f":"IFERROR(VLOOKUP(KH32,MATCHSELEVES!$Y$14:$AE$600,3,FALSE),0)","v":0},{"$f":"IFERROR(VLOOKUP(KH32,MATCHSELEVES!$Y$14:$AE$600,4,FALSE),0)","v":0},{"$f":"IFERROR(VLOOKUP(KH32,MATCHSELEVES!$Y$14:$AE$600,5,FALSE),0)","v":0},{"$f":"IFERROR(VLOOKUP(KH32,MATCHSELEVES!$Y$14:$AF$600,8,FALSE),0)","v":0},{"$f":"IFERROR(VLOOKUP(KH32,MATCHSELEVES!$Y$14:$AG$600,9,FALSE),0)","v":0},"Walidp_7",{"$f":"IFERROR(VLOOKUP(KN32,MATCHSELEVES!$Y$14:$AE$600,3,FALSE),0)","v":0},{"$f":"IFERROR(VLOOKUP(KN32,MATCHSELEVES!$Y$14:$AE$600,4,FALSE),0)","v":0},{"$f":"IFERROR(VLOOKUP(KN32,MATCHSELEVES!$Y$14:$AE$600,5,FALSE),0)","v":0},{"$f":"IFERROR(VLOOKUP(KN32,MATCHSELEVES!$Y$14:$AF$600,8,FALSE),0)","v":0},{"$f":"IFERROR(VLOOKUP(KN32,MATCHSELEVES!$Y$14:$AG$600,9,FALSE),0)","v":0},"Walidp_8",{"$f":"IFERROR(VLOOKUP(KT32,MATCHSELEVES!$Y$14:$AE$600,3,FALSE),0)","v":0},{"$f":"IFERROR(VLOOKUP(KT32,MATCHSELEVES!$Y$14:$AE$600,4,FALSE),0)","v":0},{"$f":"IFERROR(VLOOKUP(KT32,MATCHSELEVES!$Y$14:$AE$600,5,FALSE),0)","v":0},{"$f":"IFERROR(VLOOKUP(KT32,MATCHSELEVES!$Y$14:$AF$600,8,FALSE),0)","v":0},{"$f":"IFERROR(VLOOKUP(KT32,MATCHSELEVES!$Y$14:$AG$600,9,FALSE),0)","v":0},"Walidp_9",{"$f":"IFERROR(VLOOKUP(KZ32,MATCHSELEVES!$Y$14:$AE$600,3,FALSE),0)","v":0},{"$f":"IFERROR(VLOOKUP(KZ32,MATCHSELEVES!$Y$14:$AE$600,4,FALSE),0)","v":0},{"$f":"IFERROR(VLOOKUP(KZ32,MATCHSELEVES!$Y$14:$AE$600,5,FALSE),0)","v":0},{"$f":"IFERROR(VLOOKUP(KZ32,MATCHSELEVES!$Y$14:$AF$600,8,FALSE),0)","v":0},{"$f":"IFERROR(VLOOKUP(KZ32,MATCHSELEVES!$Y$14:$AG$600,9,FALSE),0)","v":0},"Walidp_10",{"$f":"IFERROR(VLOOKUP(LF32,MATCHSELEVES!$Y$14:$AE$600,3,FALSE),0)","v":0},{"$f":"IFERROR(VLOOKUP(LF32,MATCHSELEVES!$Y$14:$AE$600,4,FALSE),0)","v":0},{"$f":"IFERROR(VLOOKUP(LF32,MATCHSELEVES!$Y$14:$AE$600,5,FALSE),0)","v":0},{"$f":"IFERROR(VLOOKUP(LF32,MATCHSELEVES!$Y$14:$AF$600,8,FALSE),0)","v":0},{"$f":"IFERROR(VLOOKUP(LF32,MATCHSELEVES!$Y$14:$AG$600,9,FALSE),0)","v":0},"Walidp_11",{"$f":"IFERROR(VLOOKUP(LL32,MATCHSELEVES!$Y$14:$AE$600,3,FALSE),0)","v":0},{"$f":"IFERROR(VLOOKUP(LL32,MATCHSELEVES!$Y$14:$AE$600,4,FALSE),0)","v":0},{"$f":"IFERROR(VLOOKUP(LL32,MATCHSELEVES!$Y$14:$AE$600,5,FALSE),0)","v":0},{"$f":"IFERROR(VLOOKUP(LL32,MATCHSELEVES!$Y$14:$AF$600,8,FALSE),0)","v":0},{"$f":"IFERROR(VLOOKUP(LL32,MATCHSELEVES!$Y$14:$AG$600,9,FALSE),0)","v":0},"Walidp_12",{"$f":"IFERROR(VLOOKUP(LR32,MATCHSELEVES!$Y$14:$AE$600,3,FALSE),0)","v":0},{"$f":"IFERROR(VLOOKUP(LR32,MATCHSELEVES!$Y$14:$AE$600,4,FALSE),0)","v":0},{"$f":"IFERROR(VLOOKUP(LR32,MATCHSELEVES!$Y$14:$AE$600,5,FALSE),0)","v":0},{"$f":"IFERROR(VLOOKUP(LR32,MATCHSELEVES!$Y$14:$AF$600,8,FALSE),0)","v":0},{"$f":"IFERROR(VLOOKUP(LR32,MATCHSELEVES!$Y$14:$AG$600,9,FALSE),0)","v":0},"Walidp_13",{"$f":"IFERROR(VLOOKUP(LX32,MATCHSELEVES!$Y$14:$AE$600,3,FALSE),0)","v":0},{"$f":"IFERROR(VLOOKUP(LX32,MATCHSELEVES!$Y$14:$AE$600,4,FALSE),0)","v":0},{"$f":"IFERROR(VLOOKUP(LX32,MATCHSELEVES!$Y$14:$AE$600,5,FALSE),0)","v":0},{"$f":"IFERROR(VLOOKUP(LX32,MATCHSELEVES!$Y$14:$AF$600,8,FALSE),0)","v":0},{"$f":"IFERROR(VLOOKUP(LX32,MATCHSELEVES!$Y$14:$AG$600,9,FALSE),0)","v":0},"Walidp_14",{"$f":"IFERROR(VLOOKUP(MD32,MATCHSELEVES!$Y$14:$AE$600,3,FALSE),0)","v":0},{"$f":"IFERROR(VLOOKUP(MD32,MATCHSELEVES!$Y$14:$AE$600,4,FALSE),0)","v":0},{"$f":"IFERROR(VLOOKUP(MD32,MATCHSELEVES!$Y$14:$AE$600,5,FALSE),0)","v":0},{"$f":"IFERROR(VLOOKUP(MD32,MATCHSELEVES!$Y$14:$AF$600,8,FALSE),0)","v":0},{"$f":"IFERROR(VLOOKUP(MD32,MATCHSELEVES!$Y$14:$AG$600,9,FALSE),0)","v":0},"Walidp_15",{"$f":"IFERROR(VLOOKUP(MJ32,MATCHSELEVES!$Y$14:$AE$600,3,FALSE),0)","v":0},{"$f":"IFERROR(VLOOKUP(MJ32,MATCHSELEVES!$Y$14:$AE$600,4,FALSE),0)","v":0},{"$f":"IFERROR(VLOOKUP(MJ32,MATCHSELEVES!$Y$14:$AE$600,5,FALSE),0)","v":0},{"$f":"IFERROR(VLOOKUP(MJ32,MATCHSELEVES!$Y$14:$AF$600,8,FALSE),0)","v":0},{"$f":"IFERROR(VLOOKUP(MJ32,MATCHSELEVES!$Y$14:$AG$600,9,FALSE),0)","v":0},"Walidp_16",{"$f":"IFERROR(VLOOKUP(MP32,MATCHSELEVES!$Y$14:$AE$600,3,FALSE),0)","v":0},{"$f":"IFERROR(VLOOKUP(MP32,MATCHSELEVES!$Y$14:$AE$600,4,FALSE),0)","v":0},{"$f":"IFERROR(VLOOKUP(MP32,MATCHSELEVES!$Y$14:$AE$600,5,FALSE),0)","v":0},{"$f":"IFERROR(VLOOKUP(MP32,MATCHSELEVES!$Y$14:$AF$600,8,FALSE),0)","v":0},{"$f":"IFERROR(VLOOKUP(MP32,MATCHSELEVES!$Y$14:$AG$600,9,FALSE),0)","v":0},"Walidp_17",{"$f":"IFERROR(VLOOKUP(MV32,MATCHSELEVES!$Y$14:$AE$600,3,FALSE),0)","v":0},{"$f":"IFERROR(VLOOKUP(MV32,MATCHSELEVES!$Y$14:$AE$600,4,FALSE),0)","v":0},{"$f":"IFERROR(VLOOKUP(MV32,MATCHSELEVES!$Y$14:$AE$600,5,FALSE),0)","v":0},{"$f":"IFERROR(VLOOKUP(MV32,MATCHSELEVES!$Y$14:$AF$600,8,FALSE),0)","v":0},{"$f":"IFERROR(VLOOKUP(MV32,MATCHSELEVES!$Y$14:$AG$600,9,FALSE),0)","v":0},"Walidp_18",{"$f":"IFERROR(VLOOKUP(NB32,MATCHSELEVES!$Y$14:$AE$600,3,FALSE),0)","v":0},{"$f":"IFERROR(VLOOKUP(NB32,MATCHSELEVES!$Y$14:$AE$600,4,FALSE),0)","v":0},{"$f":"IFERROR(VLOOKUP(NB32,MATCHSELEVES!$Y$14:$AE$600,5,FALSE),0)","v":0},{"$f":"IFERROR(VLOOKUP(NB32,MATCHSELEVES!$Y$14:$AF$600,8,FALSE),0)","v":0},{"$f":"IFERROR(VLOOKUP(NB32,MATCHSELEVES!$Y$14:$AG$600,9,FALSE),0)","v":0},"Walidp_19",{"$f":"IFERROR(VLOOKUP(NH32,MATCHSELEVES!$Y$14:$AE$600,3,FALSE),0)","v":0},{"$f":"IFERROR(VLOOKUP(NH32,MATCHSELEVES!$Y$14:$AE$600,4,FALSE),0)","v":0},{"$f":"IFERROR(VLOOKUP(NH32,MATCHSELEVES!$Y$14:$AE$600,5,FALSE),0)","v":0},{"$f":"IFERROR(VLOOKUP(NH32,MATCHSELEVES!$Y$14:$AF$600,8,FALSE),0)","v":0},{"$f":"IFERROR(VLOOKUP(NH32,MATCHSELEVES!$Y$14:$AG$600,9,FALSE),0)","v":0},"Walidp_20",{"$f":"IFERROR(VLOOKUP(NN32,MATCHSELEVES!$Y$14:$AE$600,3,FALSE),0)","v":0},{"$f":"IFERROR(VLOOKUP(NN32,MATCHSELEVES!$Y$14:$AE$600,4,FALSE),0)","v":0},{"$f":"IFERROR(VLOOKUP(NN32,MATCHSELEVES!$Y$14:$AE$600,5,FALSE),0)","v":0},{"$f":"IFERROR(VLOOKUP(NN32,MATCHSELEVES!$Y$14:$AF$600,8,FALSE),0)","v":0},{"$f":"IFERROR(VLOOKUP(NN32,MATCHSELEVES!$Y$14:$AG$600,9,FALSE),0)","v":0},"Walidp_21",{"$f":"IFERROR(VLOOKUP(NT32,MATCHSELEVES!$Y$14:$AE$600,3,FALSE),0)","v":0},{"$f":"IFERROR(VLOOKUP(NT32,MATCHSELEVES!$Y$14:$AE$600,4,FALSE),0)","v":0},{"$f":"IFERROR(VLOOKUP(NT32,MATCHSELEVES!$Y$14:$AE$600,5,FALSE),0)","v":0},{"$f":"IFERROR(VLOOKUP(NT32,MATCHSELEVES!$Y$14:$AF$600,8,FALSE),0)","v":0},{"$f":"IFERROR(VLOOKUP(NT32,MATCHSELEVES!$Y$14:$AG$600,9,FALSE),0)","v":0},"Walidp_22",{"$f":"IFERROR(VLOOKUP(NZ32,MATCHSELEVES!$Y$14:$AE$600,3,FALSE),0)","v":0},{"$f":"IFERROR(VLOOKUP(NZ32,MATCHSELEVES!$Y$14:$AE$600,4,FALSE),0)","v":0},{"$f":"IFERROR(VLOOKUP(NZ32,MATCHSELEVES!$Y$14:$AE$600,5,FALSE),0)","v":0},{"$f":"IFERROR(VLOOKUP(NZ32,MATCHSELEVES!$Y$14:$AF$600,8,FALSE),0)","v":0},{"$f":"IFERROR(VLOOKUP(NZ32,MATCHSELEVES!$Y$14:$AG$600,9,FALSE),0)","v":0},"Walidp_23",{"$f":"IFERROR(VLOOKUP(OF32,MATCHSELEVES!$Y$14:$AE$600,3,FALSE),0)","v":0},{"$f":"IFERROR(VLOOKUP(OF32,MATCHSELEVES!$Y$14:$AE$600,4,FALSE),0)","v":0},{"$f":"IFERROR(VLOOKUP(OF32,MATCHSELEVES!$Y$14:$AE$600,5,FALSE),0)","v":0},{"$f":"IFERROR(VLOOKUP(OF32,MATCHSELEVES!$Y$14:$AF$600,8,FALSE),0)","v":0},{"$f":"IFERROR(VLOOKUP(OF32,MATCHSELEVES!$Y$14:$AG$600,9,FALSE),0)","v":0},"Walidp_24",{"$f":"IFERROR(VLOOKUP(OL32,MATCHSELEVES!$Y$14:$AE$600,3,FALSE),0)","v":0},{"$f":"IFERROR(VLOOKUP(OL32,MATCHSELEVES!$Y$14:$AE$600,4,FALSE),0)","v":0},{"$f":"IFERROR(VLOOKUP(OL32,MATCHSELEVES!$Y$14:$AE$600,5,FALSE),0)","v":0},{"$f":"IFERROR(VLOOKUP(OL32,MATCHSELEVES!$Y$14:$AF$600,8,FALSE),0)","v":0},{"$f":"IFERROR(VLOOKUP(OL32,MATCHSELEVES!$Y$14:$AG$600,9,FALSE),0)","v":0},"Walidp_25",{"$f":"IFERROR(VLOOKUP(OR32,MATCHSELEVES!$Y$14:$AE$600,3,FALSE),0)","v":0},{"$f":"IFERROR(VLOOKUP(OR32,MATCHSELEVES!$Y$14:$AE$600,4,FALSE),0)","v":0},{"$f":"IFERROR(VLOOKUP(OR32,MATCHSELEVES!$Y$14:$AE$600,5,FALSE),0)","v":0},{"$f":"IFERROR(VLOOKUP(OR32,MATCHSELEVES!$Y$14:$AF$600,8,FALSE),0)","v":0},{"$f":"IFERROR(VLOOKUP(OR32,MATCHSELEVES!$Y$14:$AG$600,9,FALSE),0)","v":0},"Walidp_26",{"$f":"IFERROR(VLOOKUP(OX32,MATCHSELEVES!$Y$14:$AE$600,3,FALSE),0)","v":0},{"$f":"IFERROR(VLOOKUP(OX32,MATCHSELEVES!$Y$14:$AE$600,4,FALSE),0)","v":0},{"$f":"IFERROR(VLOOKUP(OX32,MATCHSELEVES!$Y$14:$AE$600,5,FALSE),0)","v":0},{"$f":"IFERROR(VLOOKUP(OX32,MATCHSELEVES!$Y$14:$AF$600,8,FALSE),0)","v":0},{"$f":"IFERROR(VLOOKUP(OX32,MATCHSELEVES!$Y$14:$AG$600,9,FALSE),0)","v":0},"Walidp_27",{"$f":"IFERROR(VLOOKUP(PD32,MATCHSELEVES!$Y$14:$AE$600,3,FALSE),0)","v":0},{"$f":"IFERROR(VLOOKUP(PD32,MATCHSELEVES!$Y$14:$AE$600,4,FALSE),0)","v":0},{"$f":"IFERROR(VLOOKUP(PD32,MATCHSELEVES!$Y$14:$AE$600,5,FALSE),0)","v":0},{"$f":"IFERROR(VLOOKUP(PD32,MATCHSELEVES!$Y$14:$AF$600,8,FALSE),0)","v":0},{"$f":"IFERROR(VLOOKUP(PD32,MATCHSELEVES!$Y$14:$AG$600,9,FALSE),0)","v":0},"Walidp_28",{"$f":"IFERROR(VLOOKUP(PJ32,MATCHSELEVES!$Y$14:$AE$600,3,FALSE),0)","v":0},{"$f":"IFERROR(VLOOKUP(PJ32,MATCHSELEVES!$Y$14:$AE$600,4,FALSE),0)","v":0},{"$f":"IFERROR(VLOOKUP(PJ32,MATCHSELEVES!$Y$14:$AE$600,5,FALSE),0)","v":0},{"$f":"IFERROR(VLOOKUP(PJ32,MATCHSELEVES!$Y$14:$AF$600,8,FALSE),0)","v":0},{"$f":"IFERROR(VLOOKUP(PJ32,MATCHSELEVES!$Y$14:$AG$600,9,FALSE),0)","v":0},"Walidp_29",{"$f":"IFERROR(VLOOKUP(PP32,MATCHSELEVES!$Y$14:$AE$600,3,FALSE),0)","v":0},{"$f":"IFERROR(VLOOKUP(PP32,MATCHSELEVES!$Y$14:$AE$600,4,FALSE),0)","v":0},{"$f":"IFERROR(VLOOKUP(PP32,MATCHSELEVES!$Y$14:$AE$600,5,FALSE),0)","v":0},{"$f":"IFERROR(VLOOKUP(PP32,MATCHSELEVES!$Y$14:$AF$600,8,FALSE),0)","v":0},{"$f":"IFERROR(VLOOKUP(PP32,MATCHSELEVES!$Y$14:$AG$600,9,FALSE),0)","v":0},"Walidp_30",{"$f":"IFERROR(VLOOKUP(PV32,MATCHSELEVES!$Y$14:$AE$600,3,FALSE),0)","v":0},{"$f":"IFERROR(VLOOKUP(PV32,MATCHSELEVES!$Y$14:$AE$600,4,FALSE),0)","v":0},{"$f":"IFERROR(VLOOKUP(PV32,MATCHSELEVES!$Y$14:$AE$600,5,FALSE),0)","v":0},{"$f":"IFERROR(VLOOKUP(PV32,MATCHSELEVES!$Y$14:$AF$600,8,FALSE),0)","v":0},{"$f":"IFERROR(VLOOKUP(PV32,MATCHSELEVES!$Y$14:$AG$600,9,FALSE),0)","v":0},"Walidp_31",{"$f":"IFERROR(VLOOKUP(QB32,MATCHSELEVES!$Y$14:$AE$600,3,FALSE),0)","v":0},{"$f":"IFERROR(VLOOKUP(QB32,MATCHSELEVES!$Y$14:$AE$600,4,FALSE),0)","v":0},{"$f":"IFERROR(VLOOKUP(QB32,MATCHSELEVES!$Y$14:$AE$600,5,FALSE),0)","v":0},{"$f":"IFERROR(VLOOKUP(QB32,MATCHSELEVES!$Y$14:$AF$600,8,FALSE),0)","v":0},{"$f":"IFERROR(VLOOKUP(QB32,MATCHSELEVES!$Y$14:$AG$600,9,FALSE),0)","v":0},"Walidp_32",{"$f":"IFERROR(VLOOKUP(QH32,MATCHSELEVES!$Y$14:$AE$600,3,FALSE),0)","v":0},{"$f":"IFERROR(VLOOKUP(QH32,MATCHSELEVES!$Y$14:$AE$600,4,FALSE),0)","v":0},{"$f":"IFERROR(VLOOKUP(QH32,MATCHSELEVES!$Y$14:$AE$600,5,FALSE),0)","v":0},{"$f":"IFERROR(VLOOKUP(QH32,MATCHSELEVES!$Y$14:$AF$600,8,FALSE),0)","v":0},{"$f":"IFERROR(VLOOKUP(QH32,MATCHSELEVES!$Y$14:$AG$600,9,FALSE),0)","v":0},"Walidp_33",{"$f":"IFERROR(VLOOKUP(QN32,MATCHSELEVES!$Y$14:$AE$600,3,FALSE),0)","v":0},{"$f":"IFERROR(VLOOKUP(QN32,MATCHSELEVES!$Y$14:$AE$600,4,FALSE),0)","v":0},{"$f":"IFERROR(VLOOKUP(QN32,MATCHSELEVES!$Y$14:$AE$600,5,FALSE),0)","v":0},{"$f":"IFERROR(VLOOKUP(QN32,MATCHSELEVES!$Y$14:$AF$600,8,FALSE),0)","v":0},{"$f":"IFERROR(VLOOKUP(QN32,MATCHSELEVES!$Y$14:$AG$600,9,FALSE),0)","v":0},"Walidp_34",{"$f":"IFERROR(VLOOKUP(QT32,MATCHSELEVES!$Y$14:$AE$600,3,FALSE),0)","v":0},{"$f":"IFERROR(VLOOKUP(QT32,MATCHSELEVES!$Y$14:$AE$600,4,FALSE),0)","v":0},{"$f":"IFERROR(VLOOKUP(QT32,MATCHSELEVES!$Y$14:$AE$600,5,FALSE),0)","v":0},{"$f":"IFERROR(VLOOKUP(QT32,MATCHSELEVES!$Y$14:$AF$600,8,FALSE),0)","v":0},{"$f":"IFERROR(VLOOKUP(QT32,MATCHSELEVES!$Y$14:$AG$600,9,FALSE),0)","v":0},"Walidp_35",{"$f":"IFERROR(VLOOKUP(QZ32,MATCHSELEVES!$Y$14:$AE$600,3,FALSE),0)","v":0},{"$f":"IFERROR(VLOOKUP(QZ32,MATCHSELEVES!$Y$14:$AE$600,4,FALSE),0)","v":0},{"$f":"IFERROR(VLOOKUP(QZ32,MATCHSELEVES!$Y$14:$AE$600,5,FALSE),0)","v":0},{"$f":"IFERROR(VLOOKUP(QZ32,MATCHSELEVES!$Y$14:$AF$600,8,FALSE),0)","v":0},{"$f":"IFERROR(VLOOKUP(QZ32,MATCHSELEVES!$Y$14:$AG$600,9,FALSE),0)","v":0},"Walidp_36",{"$f":"IFERROR(VLOOKUP(RF32,MATCHSELEVES!$Y$14:$AE$600,3,FALSE),0)","v":0},{"$f":"IFERROR(VLOOKUP(RF32,MATCHSELEVES!$Y$14:$AE$600,4,FALSE),0)","v":0},{"$f":"IFERROR(VLOOKUP(RF32,MATCHSELEVES!$Y$14:$AE$600,5,FALSE),0)","v":0},{"$f":"IFERROR(VLOOKUP(RF32,MATCHSELEVES!$Y$14:$AF$600,8,FALSE),0)","v":0},{"$f":"IFERROR(VLOOKUP(RF32,MATCHSELEVES!$Y$14:$AG$600,9,FALSE),0)","v":0},"Walidp_37",{"$f":"IFERROR(VLOOKUP(RL32,MATCHSELEVES!$Y$14:$AE$600,3,FALSE),0)","v":0},{"$f":"IFERROR(VLOOKUP(RL32,MATCHSELEVES!$Y$14:$AE$600,4,FALSE),0)","v":0},{"$f":"IFERROR(VLOOKUP(RL32,MATCHSELEVES!$Y$14:$AE$600,5,FALSE),0)","v":0},{"$f":"IFERROR(VLOOKUP(RL32,MATCHSELEVES!$Y$14:$AF$600,8,FALSE),0)","v":0},{"$f":"IFERROR(VLOOKUP(RL32,MATCHSELEVES!$Y$14:$AG$600,9,FALSE),0)","v":0},"Walidp_38",{"$f":"IFERROR(VLOOKUP(RR32,MATCHSELEVES!$Y$14:$AE$600,3,FALSE),0)","v":0},{"$f":"IFERROR(VLOOKUP(RR32,MATCHSELEVES!$Y$14:$AE$600,4,FALSE),0)","v":0},{"$f":"IFERROR(VLOOKUP(RR32,MATCHSELEVES!$Y$14:$AE$600,5,FALSE),0)","v":0},{"$f":"IFERROR(VLOOKUP(RR32,MATCHSELEVES!$Y$14:$AF$600,8,FALSE),0)","v":0},{"$f":"IFERROR(VLOOKUP(RR32,MATCHSELEVES!$Y$14:$AG$600,9,FALSE),0)","v":0},"Walidp_39",{"$f":"IFERROR(VLOOKUP(RX32,MATCHSELEVES!$Y$14:$AE$600,3,FALSE),0)","v":0},{"$f":"IFERROR(VLOOKUP(RX32,MATCHSELEVES!$Y$14:$AE$600,4,FALSE),0)","v":0},{"$f":"IFERROR(VLOOKUP(RX32,MATCHSELEVES!$Y$14:$AE$600,5,FALSE),0)","v":0},{"$f":"IFERROR(VLOOKUP(RX32,MATCHSELEVES!$Y$14:$AF$600,8,FALSE),0)","v":0},{"$f":"IFERROR(VLOOKUP(RX32,MATCHSELEVES!$Y$14:$AG$600,9,FALSE),0)","v":0},"Walidp_40",{"$f":"IFERROR(VLOOKUP(SD32,MATCHSELEVES!$Y$14:$AE$600,3,FALSE),0)","v":0},{"$f":"IFERROR(VLOOKUP(SD32,MATCHSELEVES!$Y$14:$AE$600,4,FALSE),0)","v":0},{"$f":"IFERROR(VLOOKUP(SD32,MATCHSELEVES!$Y$14:$AE$600,5,FALSE),0)","v":0},{"$f":"IFERROR(VLOOKUP(SD32,MATCHSELEVES!$Y$14:$AF$600,8,FALSE),0)","v":0},{"$f":"IFERROR(VLOOKUP(SD32,MATCHSELEVES!$Y$14:$AG$600,9,FALSE),0)","v":0}]
[30,null,{"$f":"MD1POINT!C33","v":"Willy"},{"$f":"MD1POINT!D33","v":1},{"$f":"COUNTIF(MATCHSELEVES!$Z$14:$Z$600,C33)+COUNTIF(MATCHSELEVES!$Z$14:$Z$600,$C33&\"p\")","v":0},1,{"$f":"COUNTIF(MATCHSELEVES!$F$14:$H$249,C33)","v":0},1,0,1,0,1,0,1,{"$f":"Y33+AE33+AK33+AQ33+AW33+BC33+BI33+BO33+BU33+CA33+CG33+CM33+CS33+CY33+DE33+DK33+DQ33+DW33+EC33+EI33+EO33+EU33+FA33+FG33+FM33+FS33+FY33+GE33+GK33+GQ33+GW33+4+HI33+HO33+HU33+IA33+HC33+IG33+IM33+IY33+IS33+JH33+JN33+JZ33+JT33+KF33+KR33+KX33+LJ33+LP33+LV33+LD33+MB33+MH33+MN33+MZ33+MT33+NF33+NL33+NR33+NX33+OD33+OJ33+OP33+OV33+PB33+PH33+PT33+PN33+PZ33+QF33+QL33+QR33+RD33+QX33+RJ33+RP33+RV33+SB33+SH33+KL33+Tableau10[[#This Row],[Nombre de matchs joués]]*2","v":4},1,{"$f":"(Tableau10[[#This Row],[CLASSEMENT1]]+Tableau10[[#This Row],[CLASSEMENT2]]+Tableau10[[#This Row],[CLASSEMENT3]]+Tableau10[[#This Row],[CLASSEMENT4]]+Tableau10[[#This Row],[CLASSEMENT5]]+Tableau10[[#This Row],[CLASSEMENT6]])/6","v":1},{"$f":"RANK(Tableau10[[#This Row],[MOYENNE CLASSEMENTS]],Tableau10[MOYENNE CLASSEMENTS],1)","v":1},null,{"$f":"Tableau10[[#This Row],[CLASSEMENT1]]","v":1},"Willy_1",{"$f":"IFERROR(VLOOKUP(U33,MATCHSELEVES!$Y$14:$AE$600,3,FALSE),0)","v":0},{"$f":"IFERROR(VLOOKUP(U33,MATCHSELEVES!$Y$14:$AE$600,4,FALSE),0)","v":0},{"$f":"IFERROR(VLOOKUP(U33,MATCHSELEVES!$Y$14:$AE$600,5,FALSE),0)","v":0},{"$f":"IFERROR(VLOOKUP(U33,MATCHSELEVES!$Y$14:$AF$600,8,FALSE),0)","v":0},{"$f":"IFERROR(VLOOKUP(U33,MATCHSELEVES!$Y$14:$AG$600,9,FALSE),0)","v":0},"Willy_2",{"$f":"IFERROR(VLOOKUP(AA33,MATCHSELEVES!$Y$14:$AE$600,3,FALSE),0)","v":0},{"$f":"IFERROR(VLOOKUP(AA33,MATCHSELEVES!$Y$14:$AE$600,4,FALSE),0)","v":0},{"$f":"IFERROR(VLOOKUP(AA33,MATCHSELEVES!$Y$14:$AE$600,5,FALSE),0)","v":0},{"$f":"IFERROR(VLOOKUP(AA33,MATCHSELEVES!$Y$14:$AF$600,8,FALSE),0)","v":0},{"$f":"IFERROR(VLOOKUP(AA33,MATCHSELEVES!$Y$14:$AG$600,9,FALSE),0)","v":0},"Willy_3",{"$f":"IFERROR(VLOOKUP(AG33,MATCHSELEVES!$Y$14:$AE$600,3,FALSE),0)","v":0},{"$f":"IFERROR(VLOOKUP(AG33,MATCHSELEVES!$Y$14:$AE$600,4,FALSE),0)","v":0},{"$f":"IFERROR(VLOOKUP(AG33,MATCHSELEVES!$Y$14:$AE$600,5,FALSE),0)","v":0},{"$f":"IFERROR(VLOOKUP(AG33,MATCHSELEVES!$Y$14:$AF$600,8,FALSE),0)","v":0},{"$f":"IFERROR(VLOOKUP(AG33,MATCHSELEVES!$Y$14:$AG$600,9,FALSE),0)","v":0},"Willy_4",{"$f":"IFERROR(VLOOKUP(AM33,MATCHSELEVES!$Y$14:$AE$600,3,FALSE),0)","v":0},{"$f":"IFERROR(VLOOKUP(AM33,MATCHSELEVES!$Y$14:$AE$600,4,FALSE),0)","v":0},{"$f":"IFERROR(VLOOKUP(AM33,MATCHSELEVES!$Y$14:$AE$600,5,FALSE),0)","v":0},{"$f":"IFERROR(VLOOKUP(AM33,MATCHSELEVES!$Y$14:$AF$600,8,FALSE),0)","v":0},{"$f":"IFERROR(VLOOKUP(AM33,MATCHSELEVES!$Y$14:$AG$600,9,FALSE),0)","v":0},"Willy_5",{"$f":"IFERROR(VLOOKUP(AS33,MATCHSELEVES!$Y$14:$AE$600,3,FALSE),0)","v":0},{"$f":"IFERROR(VLOOKUP(AS33,MATCHSELEVES!$Y$14:$AE$600,4,FALSE),0)","v":0},{"$f":"IFERROR(VLOOKUP(AS33,MATCHSELEVES!$Y$14:$AE$600,5,FALSE),0)","v":0},{"$f":"IFERROR(VLOOKUP(AS33,MATCHSELEVES!$Y$14:$AF$600,8,FALSE),0)","v":0},{"$f":"IFERROR(VLOOKUP(AS33,MATCHSELEVES!$Y$14:$AG$600,9,FALSE),0)","v":0},"Willy_6",{"$f":"IFERROR(VLOOKUP(AY33,MATCHSELEVES!$Y$14:$AE$600,3,FALSE),0)","v":0},{"$f":"IFERROR(VLOOKUP(AY33,MATCHSELEVES!$Y$14:$AE$600,4,FALSE),0)","v":0},{"$f":"IFERROR(VLOOKUP(AY33,MATCHSELEVES!$Y$14:$AE$600,5,FALSE),0)","v":0},{"$f":"IFERROR(VLOOKUP(AY33,MATCHSELEVES!$Y$14:$AF$600,8,FALSE),0)","v":0},{"$f":"IFERROR(VLOOKUP(AY33,MATCHSELEVES!$Y$14:$AG$600,9,FALSE),0)","v":0},"Willy_7",{"$f":"IFERROR(VLOOKUP(BE33,MATCHSELEVES!$Y$14:$AE$600,3,FALSE),0)","v":0},{"$f":"IFERROR(VLOOKUP(BE33,MATCHSELEVES!$Y$14:$AE$600,4,FALSE),0)","v":0},{"$f":"IFERROR(VLOOKUP(BE33,MATCHSELEVES!$Y$14:$AE$600,5,FALSE),0)","v":0},{"$f":"IFERROR(VLOOKUP(BE33,MATCHSELEVES!$Y$14:$AF$600,8,FALSE),0)","v":0},{"$f":"IFERROR(VLOOKUP(BE33,MATCHSELEVES!$Y$14:$AG$600,9,FALSE),0)","v":0},"Willy_8",{"$f":"IFERROR(VLOOKUP(BK33,MATCHSELEVES!$Y$14:$AE$600,3,FALSE),0)","v":0},{"$f":"IFERROR(VLOOKUP(BK33,MATCHSELEVES!$Y$14:$AE$600,4,FALSE),0)","v":0},{"$f":"IFERROR(VLOOKUP(BK33,MATCHSELEVES!$Y$14:$AE$600,5,FALSE),0)","v":0},{"$f":"IFERROR(VLOOKUP(BK33,MATCHSELEVES!$Y$14:$AF$600,8,FALSE),0)","v":0},{"$f":"IFERROR(VLOOKUP(BK33,MATCHSELEVES!$Y$14:$AG$600,9,FALSE),0)","v":0},"Willy_9",{"$f":"IFERROR(VLOOKUP(BQ33,MATCHSELEVES!$Y$14:$AE$600,3,FALSE),0)","v":0},{"$f":"IFERROR(VLOOKUP(BQ33,MATCHSELEVES!$Y$14:$AE$600,4,FALSE),0)","v":0},{"$f":"IFERROR(VLOOKUP(BQ33,MATCHSELEVES!$Y$14:$AE$600,5,FALSE),0)","v":0},{"$f":"IFERROR(VLOOKUP(BQ33,MATCHSELEVES!$Y$14:$AF$600,8,FALSE),0)","v":0},{"$f":"IFERROR(VLOOKUP(BQ33,MATCHSELEVES!$Y$14:$AG$600,9,FALSE),0)","v":0},"Willy_10",{"$f":"IFERROR(VLOOKUP(BW33,MATCHSELEVES!$Y$14:$AE$600,3,FALSE),0)","v":0},{"$f":"IFERROR(VLOOKUP(BW33,MATCHSELEVES!$Y$14:$AE$600,4,FALSE),0)","v":0},{"$f":"IFERROR(VLOOKUP(BW33,MATCHSELEVES!$Y$14:$AE$600,5,FALSE),0)","v":0},{"$f":"IFERROR(VLOOKUP(BW33,MATCHSELEVES!$Y$14:$AF$600,8,FALSE),0)","v":0},{"$f":"IFERROR(VLOOKUP(BW33,MATCHSELEVES!$Y$14:$AG$600,9,FALSE),0)","v":0},"Willy_11",{"$f":"IFERROR(VLOOKUP(CC33,MATCHSELEVES!$Y$14:$AE$600,3,FALSE),0)","v":0},{"$f":"IFERROR(VLOOKUP(CC33,MATCHSELEVES!$Y$14:$AE$600,4,FALSE),0)","v":0},{"$f":"IFERROR(VLOOKUP(CC33,MATCHSELEVES!$Y$14:$AE$600,5,FALSE),0)","v":0},{"$f":"IFERROR(VLOOKUP(CC33,MATCHSELEVES!$Y$14:$AF$600,8,FALSE),0)","v":0},{"$f":"IFERROR(VLOOKUP(CC33,MATCHSELEVES!$Y$14:$AG$600,9,FALSE),0)","v":0},"Willy_12",{"$f":"IFERROR(VLOOKUP(CI33,MATCHSELEVES!$Y$14:$AE$600,3,FALSE),0)","v":0},{"$f":"IFERROR(VLOOKUP(CI33,MATCHSELEVES!$Y$14:$AE$600,4,FALSE),0)","v":0},{"$f":"IFERROR(VLOOKUP(CI33,MATCHSELEVES!$Y$14:$AE$600,5,FALSE),0)","v":0},{"$f":"IFERROR(VLOOKUP(CI33,MATCHSELEVES!$Y$14:$AF$600,8,FALSE),0)","v":0},{"$f":"IFERROR(VLOOKUP(CI33,MATCHSELEVES!$Y$14:$AG$600,9,FALSE),0)","v":0},"Willy_13",{"$f":"IFERROR(VLOOKUP(CO33,MATCHSELEVES!$Y$14:$AE$600,3,FALSE),0)","v":0},{"$f":"IFERROR(VLOOKUP(CO33,MATCHSELEVES!$Y$14:$AE$600,4,FALSE),0)","v":0},{"$f":"IFERROR(VLOOKUP(CO33,MATCHSELEVES!$Y$14:$AE$600,5,FALSE),0)","v":0},{"$f":"IFERROR(VLOOKUP(CO33,MATCHSELEVES!$Y$14:$AF$600,8,FALSE),0)","v":0},{"$f":"IFERROR(VLOOKUP(CO33,MATCHSELEVES!$Y$14:$AG$600,9,FALSE),0)","v":0},"Willy_14",{"$f":"IFERROR(VLOOKUP(CU33,MATCHSELEVES!$Y$14:$AE$600,3,FALSE),0)","v":0},{"$f":"IFERROR(VLOOKUP(CU33,MATCHSELEVES!$Y$14:$AE$600,4,FALSE),0)","v":0},{"$f":"IFERROR(VLOOKUP(CU33,MATCHSELEVES!$Y$14:$AE$600,5,FALSE),0)","v":0},{"$f":"IFERROR(VLOOKUP(CU33,MATCHSELEVES!$Y$14:$AF$600,8,FALSE),0)","v":0},{"$f":"IFERROR(VLOOKUP(CU33,MATCHSELEVES!$Y$14:$AG$600,9,FALSE),0)","v":0},"Willy_15",{"$f":"IFERROR(VLOOKUP(DA33,MATCHSELEVES!$Y$14:$AE$600,3,FALSE),0)","v":0},{"$f":"IFERROR(VLOOKUP(DA33,MATCHSELEVES!$Y$14:$AE$600,4,FALSE),0)","v":0},{"$f":"IFERROR(VLOOKUP(DA33,MATCHSELEVES!$Y$14:$AE$600,5,FALSE),0)","v":0},{"$f":"IFERROR(VLOOKUP(DA33,MATCHSELEVES!$Y$14:$AF$600,8,FALSE),0)","v":0},{"$f":"IFERROR(VLOOKUP(DA33,MATCHSELEVES!$Y$14:$AG$600,9,FALSE),0)","v":0},"Willy_16",{"$f":"IFERROR(VLOOKUP(DG33,MATCHSELEVES!$Y$14:$AE$600,3,FALSE),0)","v":0},{"$f":"IFERROR(VLOOKUP(DG33,MATCHSELEVES!$Y$14:$AE$600,4,FALSE),0)","v":0},{"$f":"IFERROR(VLOOKUP(DG33,MATCHSELEVES!$Y$14:$AE$600,5,FALSE),0)","v":0},{"$f":"IFERROR(VLOOKUP(DG33,MATCHSELEVES!$Y$14:$AF$600,8,FALSE),0)","v":0},{"$f":"IFERROR(VLOOKUP(DG33,MATCHSELEVES!$Y$14:$AG$600,9,FALSE),0)","v":0},"Willy_17",{"$f":"IFERROR(VLOOKUP(DM33,MATCHSELEVES!$Y$14:$AE$600,3,FALSE),0)","v":0},{"$f":"IFERROR(VLOOKUP(DM33,MATCHSELEVES!$Y$14:$AE$600,4,FALSE),0)","v":0},{"$f":"IFERROR(VLOOKUP(DM33,MATCHSELEVES!$Y$14:$AE$600,5,FALSE),0)","v":0},{"$f":"IFERROR(VLOOKUP(DM33,MATCHSELEVES!$Y$14:$AF$600,8,FALSE),0)","v":0},{"$f":"IFERROR(VLOOKUP(DM33,MATCHSELEVES!$Y$14:$AG$600,9,FALSE),0)","v":0},"Willy_18",{"$f":"IFERROR(VLOOKUP(DS33,MATCHSELEVES!$Y$14:$AE$600,3,FALSE),0)","v":0},{"$f":"IFERROR(VLOOKUP(DS33,MATCHSELEVES!$Y$14:$AE$600,4,FALSE),0)","v":0},{"$f":"IFERROR(VLOOKUP(DS33,MATCHSELEVES!$Y$14:$AE$600,5,FALSE),0)","v":0},{"$f":"IFERROR(VLOOKUP(DS33,MATCHSELEVES!$Y$14:$AF$600,8,FALSE),0)","v":0},{"$f":"IFERROR(VLOOKUP(DS33,MATCHSELEVES!$Y$14:$AG$600,9,FALSE),0)","v":0},"Willy_19",{"$f":"IFERROR(VLOOKUP(DY33,MATCHSELEVES!$Y$14:$AE$600,3,FALSE),0)","v":0},{"$f":"IFERROR(VLOOKUP(DY33,MATCHSELEVES!$Y$14:$AE$600,4,FALSE),0)","v":0},{"$f":"IFERROR(VLOOKUP(DY33,MATCHSELEVES!$Y$14:$AE$600,5,FALSE),0)","v":0},{"$f":"IFERROR(VLOOKUP(DY33,MATCHSELEVES!$Y$14:$AF$600,8,FALSE),0)","v":0},{"$f":"IFERROR(VLOOKUP(DY33,MATCHSELEVES!$Y$14:$AG$600,9,FALSE),0)","v":0},"Willy_20",{"$f":"IFERROR(VLOOKUP(EE33,MATCHSELEVES!$Y$14:$AE$600,3,FALSE),0)","v":0},{"$f":"IFERROR(VLOOKUP(EE33,MATCHSELEVES!$Y$14:$AE$600,4,FALSE),0)","v":0},{"$f":"IFERROR(VLOOKUP(EE33,MATCHSELEVES!$Y$14:$AE$600,5,FALSE),0)","v":0},{"$f":"IFERROR(VLOOKUP(EE33,MATCHSELEVES!$Y$14:$AF$600,8,FALSE),0)","v":0},{"$f":"IFERROR(VLOOKUP(EE33,MATCHSELEVES!$Y$14:$AG$600,9,FALSE),0)","v":0},"Willy_21",{"$f":"IFERROR(VLOOKUP(EK33,MATCHSELEVES!$Y$14:$AE$600,3,FALSE),0)","v":0},{"$f":"IFERROR(VLOOKUP(EK33,MATCHSELEVES!$Y$14:$AE$600,4,FALSE),0)","v":0},{"$f":"IFERROR(VLOOKUP(EK33,MATCHSELEVES!$Y$14:$AE$600,5,FALSE),0)","v":0},{"$f":"IFERROR(VLOOKUP(EK33,MATCHSELEVES!$Y$14:$AF$600,8,FALSE),0)","v":0},{"$f":"IFERROR(VLOOKUP(EK33,MATCHSELEVES!$Y$14:$AG$600,9,FALSE),0)","v":0},"Willy_22",{"$f":"IFERROR(VLOOKUP(EQ33,MATCHSELEVES!$Y$14:$AE$600,3,FALSE),0)","v":0},{"$f":"IFERROR(VLOOKUP(EQ33,MATCHSELEVES!$Y$14:$AE$600,4,FALSE),0)","v":0},{"$f":"IFERROR(VLOOKUP(EQ33,MATCHSELEVES!$Y$14:$AE$600,5,FALSE),0)","v":0},{"$f":"IFERROR(VLOOKUP(EQ33,MATCHSELEVES!$Y$14:$AF$600,8,FALSE),0)","v":0},{"$f":"IFERROR(VLOOKUP(EQ33,MATCHSELEVES!$Y$14:$AG$600,9,FALSE),0)","v":0},"Willy_23",{"$f":"IFERROR(VLOOKUP(EW33,MATCHSELEVES!$Y$14:$AE$600,3,FALSE),0)","v":0},{"$f":"IFERROR(VLOOKUP(EW33,MATCHSELEVES!$Y$14:$AE$600,4,FALSE),0)","v":0},{"$f":"IFERROR(VLOOKUP(EW33,MATCHSELEVES!$Y$14:$AE$600,5,FALSE),0)","v":0},{"$f":"IFERROR(VLOOKUP(EW33,MATCHSELEVES!$Y$14:$AF$600,8,FALSE),0)","v":0},{"$f":"IFERROR(VLOOKUP(EW33,MATCHSELEVES!$Y$14:$AG$600,9,FALSE),0)","v":0},"Willy_24",{"$f":"IFERROR(VLOOKUP(FC33,MATCHSELEVES!$Y$14:$AE$600,3,FALSE),0)","v":0},{"$f":"IFERROR(VLOOKUP(FC33,MATCHSELEVES!$Y$14:$AE$600,4,FALSE),0)","v":0},{"$f":"IFERROR(VLOOKUP(FC33,MATCHSELEVES!$Y$14:$AE$600,5,FALSE),0)","v":0},{"$f":"IFERROR(VLOOKUP(FC33,MATCHSELEVES!$Y$14:$AF$600,8,FALSE),0)","v":0},{"$f":"IFERROR(VLOOKUP(FC33,MATCHSELEVES!$Y$14:$AG$600,9,FALSE),0)","v":0},"Willy_25",{"$f":"IFERROR(VLOOKUP(FI33,MATCHSELEVES!$Y$14:$AE$600,3,FALSE),0)","v":0},{"$f":"IFERROR(VLOOKUP(FI33,MATCHSELEVES!$Y$14:$AE$600,4,FALSE),0)","v":0},{"$f":"IFERROR(VLOOKUP(FI33,MATCHSELEVES!$Y$14:$AE$600,5,FALSE),0)","v":0},{"$f":"IFERROR(VLOOKUP(FI33,MATCHSELEVES!$Y$14:$AF$600,8,FALSE),0)","v":0},{"$f":"IFERROR(VLOOKUP(FI33,MATCHSELEVES!$Y$14:$AG$600,9,FALSE),0)","v":0},"Willy_26",{"$f":"IFERROR(VLOOKUP(FO33,MATCHSELEVES!$Y$14:$AE$600,3,FALSE),0)","v":0},{"$f":"IFERROR(VLOOKUP(FO33,MATCHSELEVES!$Y$14:$AE$600,4,FALSE),0)","v":0},{"$f":"IFERROR(VLOOKUP(FO33,MATCHSELEVES!$Y$14:$AE$600,5,FALSE),0)","v":0},{"$f":"IFERROR(VLOOKUP(FO33,MATCHSELEVES!$Y$14:$AF$600,8,FALSE),0)","v":0},{"$f":"IFERROR(VLOOKUP(FO33,MATCHSELEVES!$Y$14:$AG$600,9,FALSE),0)","v":0},"Willy_27",{"$f":"IFERROR(VLOOKUP(FU33,MATCHSELEVES!$Y$14:$AE$600,3,FALSE),0)","v":0},{"$f":"IFERROR(VLOOKUP(FU33,MATCHSELEVES!$Y$14:$AE$600,4,FALSE),0)","v":0},{"$f":"IFERROR(VLOOKUP(FU33,MATCHSELEVES!$Y$14:$AE$600,5,FALSE),0)","v":0},{"$f":"IFERROR(VLOOKUP(FU33,MATCHSELEVES!$Y$14:$AF$600,8,FALSE),0)","v":0},{"$f":"IFERROR(VLOOKUP(FU33,MATCHSELEVES!$Y$14:$AG$600,9,FALSE),0)","v":0},"Willy_28",{"$f":"IFERROR(VLOOKUP(GA33,MATCHSELEVES!$Y$14:$AE$600,3,FALSE),0)","v":0},{"$f":"IFERROR(VLOOKUP(GA33,MATCHSELEVES!$Y$14:$AE$600,4,FALSE),0)","v":0},{"$f":"IFERROR(VLOOKUP(GA33,MATCHSELEVES!$Y$14:$AE$600,5,FALSE),0)","v":0},{"$f":"IFERROR(VLOOKUP(GA33,MATCHSELEVES!$Y$14:$AF$600,8,FALSE),0)","v":0},{"$f":"IFERROR(VLOOKUP(GA33,MATCHSELEVES!$Y$14:$AG$600,9,FALSE),0)","v":0},"Willy_29",{"$f":"IFERROR(VLOOKUP(GG33,MATCHSELEVES!$Y$14:$AE$600,3,FALSE),0)","v":0},{"$f":"IFERROR(VLOOKUP(GG33,MATCHSELEVES!$Y$14:$AE$600,4,FALSE),0)","v":0},{"$f":"IFERROR(VLOOKUP(GG33,MATCHSELEVES!$Y$14:$AE$600,5,FALSE),0)","v":0},{"$f":"IFERROR(VLOOKUP(GG33,MATCHSELEVES!$Y$14:$AF$600,8,FALSE),0)","v":0},{"$f":"IFERROR(VLOOKUP(GG33,MATCHSELEVES!$Y$14:$AG$600,9,FALSE),0)","v":0},"Willy_30",{"$f":"IFERROR(VLOOKUP(GM33,MATCHSELEVES!$Y$14:$AE$600,3,FALSE),0)","v":0},{"$f":"IFERROR(VLOOKUP(GM33,MATCHSELEVES!$Y$14:$AE$600,4,FALSE),0)","v":0},{"$f":"IFERROR(VLOOKUP(GM33,MATCHSELEVES!$Y$14:$AE$600,5,FALSE),0)","v":0},{"$f":"IFERROR(VLOOKUP(GM33,MATCHSELEVES!$Y$14:$AF$600,8,FALSE),0)","v":0},{"$f":"IFERROR(VLOOKUP(GM33,MATCHSELEVES!$Y$14:$AG$600,9,FALSE),0)","v":0},"Willy_31",{"$f":"IFERROR(VLOOKUP(GS33,MATCHSELEVES!$Y$14:$AE$600,3,FALSE),0)","v":0},{"$f":"IFERROR(VLOOKUP(GS33,MATCHSELEVES!$Y$14:$AE$600,4,FALSE),0)","v":0},{"$f":"IFERROR(VLOOKUP(GS33,MATCHSELEVES!$Y$14:$AE$600,5,FALSE),0)","v":0},{"$f":"IFERROR(VLOOKUP(GS33,MATCHSELEVES!$Y$14:$AF$600,8,FALSE),0)","v":0},{"$f":"IFERROR(VLOOKUP(GS33,MATCHSELEVES!$Y$14:$AG$600,9,FALSE),0)","v":0},"Willy_32",{"$f":"IFERROR(VLOOKUP(GY33,MATCHSELEVES!$Y$14:$AE$600,3,FALSE),0)","v":0},{"$f":"IFERROR(VLOOKUP(GY33,MATCHSELEVES!$Y$14:$AE$600,4,FALSE),0)","v":0},{"$f":"IFERROR(VLOOKUP(GY33,MATCHSELEVES!$Y$14:$AE$600,5,FALSE),0)","v":0},{"$f":"IFERROR(VLOOKUP(GY33,MATCHSELEVES!$Y$14:$AF$600,8,FALSE),0)","v":0},{"$f":"IFERROR(VLOOKUP(GY33,MATCHSELEVES!$Y$14:$AG$600,9,FALSE),0)","v":0},"Willy_33",{"$f":"IFERROR(VLOOKUP(HE33,MATCHSELEVES!$Y$14:$AE$600,3,FALSE),0)","v":0},{"$f":"IFERROR(VLOOKUP(HE33,MATCHSELEVES!$Y$14:$AE$600,4,FALSE),0)","v":0},{"$f":"IFERROR(VLOOKUP(HE33,MATCHSELEVES!$Y$14:$AE$600,5,FALSE),0)","v":0},{"$f":"IFERROR(VLOOKUP(HE33,MATCHSELEVES!$Y$14:$AF$600,8,FALSE),0)","v":0},{"$f":"IFERROR(VLOOKUP(HE33,MATCHSELEVES!$Y$14:$AG$600,9,FALSE),0)","v":0},"Willy_34",{"$f":"IFERROR(VLOOKUP(HK33,MATCHSELEVES!$Y$14:$AE$600,3,FALSE),0)","v":0},{"$f":"IFERROR(VLOOKUP(HK33,MATCHSELEVES!$Y$14:$AE$600,4,FALSE),0)","v":0},{"$f":"IFERROR(VLOOKUP(HK33,MATCHSELEVES!$Y$14:$AE$600,5,FALSE),0)","v":0},{"$f":"IFERROR(VLOOKUP(HK33,MATCHSELEVES!$Y$14:$AF$600,8,FALSE),0)","v":0},{"$f":"IFERROR(VLOOKUP(HK33,MATCHSELEVES!$Y$14:$AG$600,9,FALSE),0)","v":0},"Willy_35",{"$f":"IFERROR(VLOOKUP(HQ33,MATCHSELEVES!$Y$14:$AE$600,3,FALSE),0)","v":0},{"$f":"IFERROR(VLOOKUP(HQ33,MATCHSELEVES!$Y$14:$AE$600,4,FALSE),0)","v":0},{"$f":"IFERROR(VLOOKUP(HQ33,MATCHSELEVES!$Y$14:$AE$600,5,FALSE),0)","v":0},{"$f":"IFERROR(VLOOKUP(HQ33,MATCHSELEVES!$Y$14:$AF$600,8,FALSE),0)","v":0},{"$f":"IFERROR(VLOOKUP(HQ33,MATCHSELEVES!$Y$14:$AG$600,9,FALSE),0)","v":0},"Willy_36",{"$f":"IFERROR(VLOOKUP(HW33,MATCHSELEVES!$Y$14:$AE$600,3,FALSE),0)","v":0},{"$f":"IFERROR(VLOOKUP(HW33,MATCHSELEVES!$Y$14:$AE$600,4,FALSE),0)","v":0},{"$f":"IFERROR(VLOOKUP(HW33,MATCHSELEVES!$Y$14:$AE$600,5,FALSE),0)","v":0},{"$f":"IFERROR(VLOOKUP(HW33,MATCHSELEVES!$Y$14:$AF$600,8,FALSE),0)","v":0},{"$f":"IFERROR(VLOOKUP(HW33,MATCHSELEVES!$Y$14:$AG$600,9,FALSE),0)","v":0},"Willy_37",{"$f":"IFERROR(VLOOKUP(IC33,MATCHSELEVES!$Y$14:$AE$600,3,FALSE),0)","v":0},{"$f":"IFERROR(VLOOKUP(IC33,MATCHSELEVES!$Y$14:$AE$600,4,FALSE),0)","v":0},{"$f":"IFERROR(VLOOKUP(IC33,MATCHSELEVES!$Y$14:$AE$600,5,FALSE),0)","v":0},{"$f":"IFERROR(VLOOKUP(IC33,MATCHSELEVES!$Y$14:$AF$600,8,FALSE),0)","v":0},{"$f":"IFERROR(VLOOKUP(IC33,MATCHSELEVES!$Y$14:$AG$600,9,FALSE),0)","v":0},"Willy_38",{"$f":"IFERROR(VLOOKUP(II33,MATCHSELEVES!$Y$14:$AE$600,3,FALSE),0)","v":0},{"$f":"IFERROR(VLOOKUP(II33,MATCHSELEVES!$Y$14:$AE$600,4,FALSE),0)","v":0},{"$f":"IFERROR(VLOOKUP(II33,MATCHSELEVES!$Y$14:$AE$600,5,FALSE),0)","v":0},{"$f":"IFERROR(VLOOKUP(II33,MATCHSELEVES!$Y$14:$AF$600,8,FALSE),0)","v":0},{"$f":"IFERROR(VLOOKUP(II33,MATCHSELEVES!$Y$14:$AG$600,9,FALSE),0)","v":0},"Willy_39",{"$f":"IFERROR(VLOOKUP(IO33,MATCHSELEVES!$Y$14:$AE$600,3,FALSE),0)","v":0},{"$f":"IFERROR(VLOOKUP(IO33,MATCHSELEVES!$Y$14:$AE$600,4,FALSE),0)","v":0},{"$f":"IFERROR(VLOOKUP(IO33,MATCHSELEVES!$Y$14:$AE$600,5,FALSE),0)","v":0},{"$f":"IFERROR(VLOOKUP(IO33,MATCHSELEVES!$Y$14:$AF$600,8,FALSE),0)","v":0},{"$f":"IFERROR(VLOOKUP(IO33,MATCHSELEVES!$Y$14:$AG$600,9,FALSE),0)","v":0},"Willy_40",{"$f":"IFERROR(VLOOKUP(IU33,MATCHSELEVES!$Y$14:$AE$600,3,FALSE),0)","v":0},{"$f":"IFERROR(VLOOKUP(IU33,MATCHSELEVES!$Y$14:$AE$600,4,FALSE),0)","v":0},{"$f":"IFERROR(VLOOKUP(IU33,MATCHSELEVES!$Y$14:$AE$600,5,FALSE),0)","v":0},{"$f":"IFERROR(VLOOKUP(IU33,MATCHSELEVES!$Y$14:$AF$600,8,FALSE),0)","v":0},{"$f":"IFERROR(VLOOKUP(IU33,MATCHSELEVES!$Y$14:$AG$600,9,FALSE),0)","v":0},{"$f":"Tableau10[[#This Row],[CLASSE]]","v":"Willy"},1,{"$f":"MD1POINT!D33","v":1},"Willyp_1",{"$f":"IFERROR(VLOOKUP(JD33,MATCHSELEVES!$Y$14:$AE$600,3,FALSE),0)","v":0},{"$f":"IFERROR(VLOOKUP(JD33,MATCHSELEVES!$Y$14:$AE$600,4,FALSE),0)","v":0},{"$f":"IFERROR(VLOOKUP(JD33,MATCHSELEVES!$Y$14:$AE$600,5,FALSE),0)","v":0},{"$f":"IFERROR(VLOOKUP(JD33,MATCHSELEVES!$Y$14:$AF$600,8,FALSE),0)","v":0},{"$f":"IFERROR(VLOOKUP(JD33,MATCHSELEVES!$Y$14:$AG$600,9,FALSE),0)","v":0},"Willyp_2",{"$f":"IFERROR(VLOOKUP(JJ33,MATCHSELEVES!$Y$14:$AE$600,3,FALSE),0)","v":0},{"$f":"IFERROR(VLOOKUP(JJ33,MATCHSELEVES!$Y$14:$AE$600,4,FALSE),0)","v":0},{"$f":"IFERROR(VLOOKUP(JJ33,MATCHSELEVES!$Y$14:$AE$600,5,FALSE),0)","v":0},{"$f":"IFERROR(VLOOKUP(JJ33,MATCHSELEVES!$Y$14:$AF$600,8,FALSE),0)","v":0},{"$f":"IFERROR(VLOOKUP(JJ33,MATCHSELEVES!$Y$14:$AG$600,9,FALSE),0)","v":0},"Willyp_3",{"$f":"IFERROR(VLOOKUP(JP33,MATCHSELEVES!$Y$14:$AE$600,3,FALSE),0)","v":0},{"$f":"IFERROR(VLOOKUP(JP33,MATCHSELEVES!$Y$14:$AE$600,4,FALSE),0)","v":0},{"$f":"IFERROR(VLOOKUP(JP33,MATCHSELEVES!$Y$14:$AE$600,5,FALSE),0)","v":0},{"$f":"IFERROR(VLOOKUP(JP33,MATCHSELEVES!$Y$14:$AF$600,8,FALSE),0)","v":0},{"$f":"IFERROR(VLOOKUP(JP33,MATCHSELEVES!$Y$14:$AG$600,9,FALSE),0)","v":0},"Willyp_4",{"$f":"IFERROR(VLOOKUP(JV33,MATCHSELEVES!$Y$14:$AE$600,3,FALSE),0)","v":0},{"$f":"IFERROR(VLOOKUP(JV33,MATCHSELEVES!$Y$14:$AE$600,4,FALSE),0)","v":0},{"$f":"IFERROR(VLOOKUP(JV33,MATCHSELEVES!$Y$14:$AE$600,5,FALSE),0)","v":0},{"$f":"IFERROR(VLOOKUP(JV33,MATCHSELEVES!$Y$14:$AF$600,8,FALSE),0)","v":0},{"$f":"IFERROR(VLOOKUP(JV33,MATCHSELEVES!$Y$14:$AG$600,9,FALSE),0)","v":0},"Willyp_5",{"$f":"IFERROR(VLOOKUP(KB33,MATCHSELEVES!$Y$14:$AE$600,3,FALSE),0)","v":0},{"$f":"IFERROR(VLOOKUP(KB33,MATCHSELEVES!$Y$14:$AE$600,4,FALSE),0)","v":0},{"$f":"IFERROR(VLOOKUP(KB33,MATCHSELEVES!$Y$14:$AE$600,5,FALSE),0)","v":0},{"$f":"IFERROR(VLOOKUP(KB33,MATCHSELEVES!$Y$14:$AF$600,8,FALSE),0)","v":0},{"$f":"IFERROR(VLOOKUP(KB33,MATCHSELEVES!$Y$14:$AG$600,9,FALSE),0)","v":0},"Willyp_6",{"$f":"IFERROR(VLOOKUP(KH33,MATCHSELEVES!$Y$14:$AE$600,3,FALSE),0)","v":0},{"$f":"IFERROR(VLOOKUP(KH33,MATCHSELEVES!$Y$14:$AE$600,4,FALSE),0)","v":0},{"$f":"IFERROR(VLOOKUP(KH33,MATCHSELEVES!$Y$14:$AE$600,5,FALSE),0)","v":0},{"$f":"IFERROR(VLOOKUP(KH33,MATCHSELEVES!$Y$14:$AF$600,8,FALSE),0)","v":0},{"$f":"IFERROR(VLOOKUP(KH33,MATCHSELEVES!$Y$14:$AG$600,9,FALSE),0)","v":0},"Willyp_7",{"$f":"IFERROR(VLOOKUP(KN33,MATCHSELEVES!$Y$14:$AE$600,3,FALSE),0)","v":0},{"$f":"IFERROR(VLOOKUP(KN33,MATCHSELEVES!$Y$14:$AE$600,4,FALSE),0)","v":0},{"$f":"IFERROR(VLOOKUP(KN33,MATCHSELEVES!$Y$14:$AE$600,5,FALSE),0)","v":0},{"$f":"IFERROR(VLOOKUP(KN33,MATCHSELEVES!$Y$14:$AF$600,8,FALSE),0)","v":0},{"$f":"IFERROR(VLOOKUP(KN33,MATCHSELEVES!$Y$14:$AG$600,9,FALSE),0)","v":0},"Willyp_8",{"$f":"IFERROR(VLOOKUP(KT33,MATCHSELEVES!$Y$14:$AE$600,3,FALSE),0)","v":0},{"$f":"IFERROR(VLOOKUP(KT33,MATCHSELEVES!$Y$14:$AE$600,4,FALSE),0)","v":0},{"$f":"IFERROR(VLOOKUP(KT33,MATCHSELEVES!$Y$14:$AE$600,5,FALSE),0)","v":0},{"$f":"IFERROR(VLOOKUP(KT33,MATCHSELEVES!$Y$14:$AF$600,8,FALSE),0)","v":0},{"$f":"IFERROR(VLOOKUP(KT33,MATCHSELEVES!$Y$14:$AG$600,9,FALSE),0)","v":0},"Willyp_9",{"$f":"IFERROR(VLOOKUP(KZ33,MATCHSELEVES!$Y$14:$AE$600,3,FALSE),0)","v":0},{"$f":"IFERROR(VLOOKUP(KZ33,MATCHSELEVES!$Y$14:$AE$600,4,FALSE),0)","v":0},{"$f":"IFERROR(VLOOKUP(KZ33,MATCHSELEVES!$Y$14:$AE$600,5,FALSE),0)","v":0},{"$f":"IFERROR(VLOOKUP(KZ33,MATCHSELEVES!$Y$14:$AF$600,8,FALSE),0)","v":0},{"$f":"IFERROR(VLOOKUP(KZ33,MATCHSELEVES!$Y$14:$AG$600,9,FALSE),0)","v":0},"Willyp_10",{"$f":"IFERROR(VLOOKUP(LF33,MATCHSELEVES!$Y$14:$AE$600,3,FALSE),0)","v":0},{"$f":"IFERROR(VLOOKUP(LF33,MATCHSELEVES!$Y$14:$AE$600,4,FALSE),0)","v":0},{"$f":"IFERROR(VLOOKUP(LF33,MATCHSELEVES!$Y$14:$AE$600,5,FALSE),0)","v":0},{"$f":"IFERROR(VLOOKUP(LF33,MATCHSELEVES!$Y$14:$AF$600,8,FALSE),0)","v":0},{"$f":"IFERROR(VLOOKUP(LF33,MATCHSELEVES!$Y$14:$AG$600,9,FALSE),0)","v":0},"Willyp_11",{"$f":"IFERROR(VLOOKUP(LL33,MATCHSELEVES!$Y$14:$AE$600,3,FALSE),0)","v":0},{"$f":"IFERROR(VLOOKUP(LL33,MATCHSELEVES!$Y$14:$AE$600,4,FALSE),0)","v":0},{"$f":"IFERROR(VLOOKUP(LL33,MATCHSELEVES!$Y$14:$AE$600,5,FALSE),0)","v":0},{"$f":"IFERROR(VLOOKUP(LL33,MATCHSELEVES!$Y$14:$AF$600,8,FALSE),0)","v":0},{"$f":"IFERROR(VLOOKUP(LL33,MATCHSELEVES!$Y$14:$AG$600,9,FALSE),0)","v":0},"Willyp_12",{"$f":"IFERROR(VLOOKUP(LR33,MATCHSELEVES!$Y$14:$AE$600,3,FALSE),0)","v":0},{"$f":"IFERROR(VLOOKUP(LR33,MATCHSELEVES!$Y$14:$AE$600,4,FALSE),0)","v":0},{"$f":"IFERROR(VLOOKUP(LR33,MATCHSELEVES!$Y$14:$AE$600,5,FALSE),0)","v":0},{"$f":"IFERROR(VLOOKUP(LR33,MATCHSELEVES!$Y$14:$AF$600,8,FALSE),0)","v":0},{"$f":"IFERROR(VLOOKUP(LR33,MATCHSELEVES!$Y$14:$AG$600,9,FALSE),0)","v":0},"Willyp_13",{"$f":"IFERROR(VLOOKUP(LX33,MATCHSELEVES!$Y$14:$AE$600,3,FALSE),0)","v":0},{"$f":"IFERROR(VLOOKUP(LX33,MATCHSELEVES!$Y$14:$AE$600,4,FALSE),0)","v":0},{"$f":"IFERROR(VLOOKUP(LX33,MATCHSELEVES!$Y$14:$AE$600,5,FALSE),0)","v":0},{"$f":"IFERROR(VLOOKUP(LX33,MATCHSELEVES!$Y$14:$AF$600,8,FALSE),0)","v":0},{"$f":"IFERROR(VLOOKUP(LX33,MATCHSELEVES!$Y$14:$AG$600,9,FALSE),0)","v":0},"Willyp_14",{"$f":"IFERROR(VLOOKUP(MD33,MATCHSELEVES!$Y$14:$AE$600,3,FALSE),0)","v":0},{"$f":"IFERROR(VLOOKUP(MD33,MATCHSELEVES!$Y$14:$AE$600,4,FALSE),0)","v":0},{"$f":"IFERROR(VLOOKUP(MD33,MATCHSELEVES!$Y$14:$AE$600,5,FALSE),0)","v":0},{"$f":"IFERROR(VLOOKUP(MD33,MATCHSELEVES!$Y$14:$AF$600,8,FALSE),0)","v":0},{"$f":"IFERROR(VLOOKUP(MD33,MATCHSELEVES!$Y$14:$AG$600,9,FALSE),0)","v":0},"Willyp_15",{"$f":"IFERROR(VLOOKUP(MJ33,MATCHSELEVES!$Y$14:$AE$600,3,FALSE),0)","v":0},{"$f":"IFERROR(VLOOKUP(MJ33,MATCHSELEVES!$Y$14:$AE$600,4,FALSE),0)","v":0},{"$f":"IFERROR(VLOOKUP(MJ33,MATCHSELEVES!$Y$14:$AE$600,5,FALSE),0)","v":0},{"$f":"IFERROR(VLOOKUP(MJ33,MATCHSELEVES!$Y$14:$AF$600,8,FALSE),0)","v":0},{"$f":"IFERROR(VLOOKUP(MJ33,MATCHSELEVES!$Y$14:$AG$600,9,FALSE),0)","v":0},"Willyp_16",{"$f":"IFERROR(VLOOKUP(MP33,MATCHSELEVES!$Y$14:$AE$600,3,FALSE),0)","v":0},{"$f":"IFERROR(VLOOKUP(MP33,MATCHSELEVES!$Y$14:$AE$600,4,FALSE),0)","v":0},{"$f":"IFERROR(VLOOKUP(MP33,MATCHSELEVES!$Y$14:$AE$600,5,FALSE),0)","v":0},{"$f":"IFERROR(VLOOKUP(MP33,MATCHSELEVES!$Y$14:$AF$600,8,FALSE),0)","v":0},{"$f":"IFERROR(VLOOKUP(MP33,MATCHSELEVES!$Y$14:$AG$600,9,FALSE),0)","v":0},"Willyp_17",{"$f":"IFERROR(VLOOKUP(MV33,MATCHSELEVES!$Y$14:$AE$600,3,FALSE),0)","v":0},{"$f":"IFERROR(VLOOKUP(MV33,MATCHSELEVES!$Y$14:$AE$600,4,FALSE),0)","v":0},{"$f":"IFERROR(VLOOKUP(MV33,MATCHSELEVES!$Y$14:$AE$600,5,FALSE),0)","v":0},{"$f":"IFERROR(VLOOKUP(MV33,MATCHSELEVES!$Y$14:$AF$600,8,FALSE),0)","v":0},{"$f":"IFERROR(VLOOKUP(MV33,MATCHSELEVES!$Y$14:$AG$600,9,FALSE),0)","v":0},"Willyp_18",{"$f":"IFERROR(VLOOKUP(NB33,MATCHSELEVES!$Y$14:$AE$600,3,FALSE),0)","v":0},{"$f":"IFERROR(VLOOKUP(NB33,MATCHSELEVES!$Y$14:$AE$600,4,FALSE),0)","v":0},{"$f":"IFERROR(VLOOKUP(NB33,MATCHSELEVES!$Y$14:$AE$600,5,FALSE),0)","v":0},{"$f":"IFERROR(VLOOKUP(NB33,MATCHSELEVES!$Y$14:$AF$600,8,FALSE),0)","v":0},{"$f":"IFERROR(VLOOKUP(NB33,MATCHSELEVES!$Y$14:$AG$600,9,FALSE),0)","v":0},"Willyp_19",{"$f":"IFERROR(VLOOKUP(NH33,MATCHSELEVES!$Y$14:$AE$600,3,FALSE),0)","v":0},{"$f":"IFERROR(VLOOKUP(NH33,MATCHSELEVES!$Y$14:$AE$600,4,FALSE),0)","v":0},{"$f":"IFERROR(VLOOKUP(NH33,MATCHSELEVES!$Y$14:$AE$600,5,FALSE),0)","v":0},{"$f":"IFERROR(VLOOKUP(NH33,MATCHSELEVES!$Y$14:$AF$600,8,FALSE),0)","v":0},{"$f":"IFERROR(VLOOKUP(NH33,MATCHSELEVES!$Y$14:$AG$600,9,FALSE),0)","v":0},"Willyp_20",{"$f":"IFERROR(VLOOKUP(NN33,MATCHSELEVES!$Y$14:$AE$600,3,FALSE),0)","v":0},{"$f":"IFERROR(VLOOKUP(NN33,MATCHSELEVES!$Y$14:$AE$600,4,FALSE),0)","v":0},{"$f":"IFERROR(VLOOKUP(NN33,MATCHSELEVES!$Y$14:$AE$600,5,FALSE),0)","v":0},{"$f":"IFERROR(VLOOKUP(NN33,MATCHSELEVES!$Y$14:$AF$600,8,FALSE),0)","v":0},{"$f":"IFERROR(VLOOKUP(NN33,MATCHSELEVES!$Y$14:$AG$600,9,FALSE),0)","v":0},"Willyp_21",{"$f":"IFERROR(VLOOKUP(NT33,MATCHSELEVES!$Y$14:$AE$600,3,FALSE),0)","v":0},{"$f":"IFERROR(VLOOKUP(NT33,MATCHSELEVES!$Y$14:$AE$600,4,FALSE),0)","v":0},{"$f":"IFERROR(VLOOKUP(NT33,MATCHSELEVES!$Y$14:$AE$600,5,FALSE),0)","v":0},{"$f":"IFERROR(VLOOKUP(NT33,MATCHSELEVES!$Y$14:$AF$600,8,FALSE),0)","v":0},{"$f":"IFERROR(VLOOKUP(NT33,MATCHSELEVES!$Y$14:$AG$600,9,FALSE),0)","v":0},"Willyp_22",{"$f":"IFERROR(VLOOKUP(NZ33,MATCHSELEVES!$Y$14:$AE$600,3,FALSE),0)","v":0},{"$f":"IFERROR(VLOOKUP(NZ33,MATCHSELEVES!$Y$14:$AE$600,4,FALSE),0)","v":0},{"$f":"IFERROR(VLOOKUP(NZ33,MATCHSELEVES!$Y$14:$AE$600,5,FALSE),0)","v":0},{"$f":"IFERROR(VLOOKUP(NZ33,MATCHSELEVES!$Y$14:$AF$600,8,FALSE),0)","v":0},{"$f":"IFERROR(VLOOKUP(NZ33,MATCHSELEVES!$Y$14:$AG$600,9,FALSE),0)","v":0},"Willyp_23",{"$f":"IFERROR(VLOOKUP(OF33,MATCHSELEVES!$Y$14:$AE$600,3,FALSE),0)","v":0},{"$f":"IFERROR(VLOOKUP(OF33,MATCHSELEVES!$Y$14:$AE$600,4,FALSE),0)","v":0},{"$f":"IFERROR(VLOOKUP(OF33,MATCHSELEVES!$Y$14:$AE$600,5,FALSE),0)","v":0},{"$f":"IFERROR(VLOOKUP(OF33,MATCHSELEVES!$Y$14:$AF$600,8,FALSE),0)","v":0},{"$f":"IFERROR(VLOOKUP(OF33,MATCHSELEVES!$Y$14:$AG$600,9,FALSE),0)","v":0},"Willyp_24",{"$f":"IFERROR(VLOOKUP(OL33,MATCHSELEVES!$Y$14:$AE$600,3,FALSE),0)","v":0},{"$f":"IFERROR(VLOOKUP(OL33,MATCHSELEVES!$Y$14:$AE$600,4,FALSE),0)","v":0},{"$f":"IFERROR(VLOOKUP(OL33,MATCHSELEVES!$Y$14:$AE$600,5,FALSE),0)","v":0},{"$f":"IFERROR(VLOOKUP(OL33,MATCHSELEVES!$Y$14:$AF$600,8,FALSE),0)","v":0},{"$f":"IFERROR(VLOOKUP(OL33,MATCHSELEVES!$Y$14:$AG$600,9,FALSE),0)","v":0},"Willyp_25",{"$f":"IFERROR(VLOOKUP(OR33,MATCHSELEVES!$Y$14:$AE$600,3,FALSE),0)","v":0},{"$f":"IFERROR(VLOOKUP(OR33,MATCHSELEVES!$Y$14:$AE$600,4,FALSE),0)","v":0},{"$f":"IFERROR(VLOOKUP(OR33,MATCHSELEVES!$Y$14:$AE$600,5,FALSE),0)","v":0},{"$f":"IFERROR(VLOOKUP(OR33,MATCHSELEVES!$Y$14:$AF$600,8,FALSE),0)","v":0},{"$f":"IFERROR(VLOOKUP(OR33,MATCHSELEVES!$Y$14:$AG$600,9,FALSE),0)","v":0},"Willyp_26",{"$f":"IFERROR(VLOOKUP(OX33,MATCHSELEVES!$Y$14:$AE$600,3,FALSE),0)","v":0},{"$f":"IFERROR(VLOOKUP(OX33,MATCHSELEVES!$Y$14:$AE$600,4,FALSE),0)","v":0},{"$f":"IFERROR(VLOOKUP(OX33,MATCHSELEVES!$Y$14:$AE$600,5,FALSE),0)","v":0},{"$f":"IFERROR(VLOOKUP(OX33,MATCHSELEVES!$Y$14:$AF$600,8,FALSE),0)","v":0},{"$f":"IFERROR(VLOOKUP(OX33,MATCHSELEVES!$Y$14:$AG$600,9,FALSE),0)","v":0},"Willyp_27",{"$f":"IFERROR(VLOOKUP(PD33,MATCHSELEVES!$Y$14:$AE$600,3,FALSE),0)","v":0},{"$f":"IFERROR(VLOOKUP(PD33,MATCHSELEVES!$Y$14:$AE$600,4,FALSE),0)","v":0},{"$f":"IFERROR(VLOOKUP(PD33,MATCHSELEVES!$Y$14:$AE$600,5,FALSE),0)","v":0},{"$f":"IFERROR(VLOOKUP(PD33,MATCHSELEVES!$Y$14:$AF$600,8,FALSE),0)","v":0},{"$f":"IFERROR(VLOOKUP(PD33,MATCHSELEVES!$Y$14:$AG$600,9,FALSE),0)","v":0},"Willyp_28",{"$f":"IFERROR(VLOOKUP(PJ33,MATCHSELEVES!$Y$14:$AE$600,3,FALSE),0)","v":0},{"$f":"IFERROR(VLOOKUP(PJ33,MATCHSELEVES!$Y$14:$AE$600,4,FALSE),0)","v":0},{"$f":"IFERROR(VLOOKUP(PJ33,MATCHSELEVES!$Y$14:$AE$600,5,FALSE),0)","v":0},{"$f":"IFERROR(VLOOKUP(PJ33,MATCHSELEVES!$Y$14:$AF$600,8,FALSE),0)","v":0},{"$f":"IFERROR(VLOOKUP(PJ33,MATCHSELEVES!$Y$14:$AG$600,9,FALSE),0)","v":0},"Willyp_29",{"$f":"IFERROR(VLOOKUP(PP33,MATCHSELEVES!$Y$14:$AE$600,3,FALSE),0)","v":0},{"$f":"IFERROR(VLOOKUP(PP33,MATCHSELEVES!$Y$14:$AE$600,4,FALSE),0)","v":0},{"$f":"IFERROR(VLOOKUP(PP33,MATCHSELEVES!$Y$14:$AE$600,5,FALSE),0)","v":0},{"$f":"IFERROR(VLOOKUP(PP33,MATCHSELEVES!$Y$14:$AF$600,8,FALSE),0)","v":0},{"$f":"IFERROR(VLOOKUP(PP33,MATCHSELEVES!$Y$14:$AG$600,9,FALSE),0)","v":0},"Willyp_30",{"$f":"IFERROR(VLOOKUP(PV33,MATCHSELEVES!$Y$14:$AE$600,3,FALSE),0)","v":0},{"$f":"IFERROR(VLOOKUP(PV33,MATCHSELEVES!$Y$14:$AE$600,4,FALSE),0)","v":0},{"$f":"IFERROR(VLOOKUP(PV33,MATCHSELEVES!$Y$14:$AE$600,5,FALSE),0)","v":0},{"$f":"IFERROR(VLOOKUP(PV33,MATCHSELEVES!$Y$14:$AF$600,8,FALSE),0)","v":0},{"$f":"IFERROR(VLOOKUP(PV33,MATCHSELEVES!$Y$14:$AG$600,9,FALSE),0)","v":0},"Willyp_31",{"$f":"IFERROR(VLOOKUP(QB33,MATCHSELEVES!$Y$14:$AE$600,3,FALSE),0)","v":0},{"$f":"IFERROR(VLOOKUP(QB33,MATCHSELEVES!$Y$14:$AE$600,4,FALSE),0)","v":0},{"$f":"IFERROR(VLOOKUP(QB33,MATCHSELEVES!$Y$14:$AE$600,5,FALSE),0)","v":0},{"$f":"IFERROR(VLOOKUP(QB33,MATCHSELEVES!$Y$14:$AF$600,8,FALSE),0)","v":0},{"$f":"IFERROR(VLOOKUP(QB33,MATCHSELEVES!$Y$14:$AG$600,9,FALSE),0)","v":0},"Willyp_32",{"$f":"IFERROR(VLOOKUP(QH33,MATCHSELEVES!$Y$14:$AE$600,3,FALSE),0)","v":0},{"$f":"IFERROR(VLOOKUP(QH33,MATCHSELEVES!$Y$14:$AE$600,4,FALSE),0)","v":0},{"$f":"IFERROR(VLOOKUP(QH33,MATCHSELEVES!$Y$14:$AE$600,5,FALSE),0)","v":0},{"$f":"IFERROR(VLOOKUP(QH33,MATCHSELEVES!$Y$14:$AF$600,8,FALSE),0)","v":0},{"$f":"IFERROR(VLOOKUP(QH33,MATCHSELEVES!$Y$14:$AG$600,9,FALSE),0)","v":0},"Willyp_33",{"$f":"IFERROR(VLOOKUP(QN33,MATCHSELEVES!$Y$14:$AE$600,3,FALSE),0)","v":0},{"$f":"IFERROR(VLOOKUP(QN33,MATCHSELEVES!$Y$14:$AE$600,4,FALSE),0)","v":0},{"$f":"IFERROR(VLOOKUP(QN33,MATCHSELEVES!$Y$14:$AE$600,5,FALSE),0)","v":0},{"$f":"IFERROR(VLOOKUP(QN33,MATCHSELEVES!$Y$14:$AF$600,8,FALSE),0)","v":0},{"$f":"IFERROR(VLOOKUP(QN33,MATCHSELEVES!$Y$14:$AG$600,9,FALSE),0)","v":0},"Willyp_34",{"$f":"IFERROR(VLOOKUP(QT33,MATCHSELEVES!$Y$14:$AE$600,3,FALSE),0)","v":0},{"$f":"IFERROR(VLOOKUP(QT33,MATCHSELEVES!$Y$14:$AE$600,4,FALSE),0)","v":0},{"$f":"IFERROR(VLOOKUP(QT33,MATCHSELEVES!$Y$14:$AE$600,5,FALSE),0)","v":0},{"$f":"IFERROR(VLOOKUP(QT33,MATCHSELEVES!$Y$14:$AF$600,8,FALSE),0)","v":0},{"$f":"IFERROR(VLOOKUP(QT33,MATCHSELEVES!$Y$14:$AG$600,9,FALSE),0)","v":0},"Willyp_35",{"$f":"IFERROR(VLOOKUP(QZ33,MATCHSELEVES!$Y$14:$AE$600,3,FALSE),0)","v":0},{"$f":"IFERROR(VLOOKUP(QZ33,MATCHSELEVES!$Y$14:$AE$600,4,FALSE),0)","v":0},{"$f":"IFERROR(VLOOKUP(QZ33,MATCHSELEVES!$Y$14:$AE$600,5,FALSE),0)","v":0},{"$f":"IFERROR(VLOOKUP(QZ33,MATCHSELEVES!$Y$14:$AF$600,8,FALSE),0)","v":0},{"$f":"IFERROR(VLOOKUP(QZ33,MATCHSELEVES!$Y$14:$AG$600,9,FALSE),0)","v":0},"Willyp_36",{"$f":"IFERROR(VLOOKUP(RF33,MATCHSELEVES!$Y$14:$AE$600,3,FALSE),0)","v":0},{"$f":"IFERROR(VLOOKUP(RF33,MATCHSELEVES!$Y$14:$AE$600,4,FALSE),0)","v":0},{"$f":"IFERROR(VLOOKUP(RF33,MATCHSELEVES!$Y$14:$AE$600,5,FALSE),0)","v":0},{"$f":"IFERROR(VLOOKUP(RF33,MATCHSELEVES!$Y$14:$AF$600,8,FALSE),0)","v":0},{"$f":"IFERROR(VLOOKUP(RF33,MATCHSELEVES!$Y$14:$AG$600,9,FALSE),0)","v":0},"Willyp_37",{"$f":"IFERROR(VLOOKUP(RL33,MATCHSELEVES!$Y$14:$AE$600,3,FALSE),0)","v":0},{"$f":"IFERROR(VLOOKUP(RL33,MATCHSELEVES!$Y$14:$AE$600,4,FALSE),0)","v":0},{"$f":"IFERROR(VLOOKUP(RL33,MATCHSELEVES!$Y$14:$AE$600,5,FALSE),0)","v":0},{"$f":"IFERROR(VLOOKUP(RL33,MATCHSELEVES!$Y$14:$AF$600,8,FALSE),0)","v":0},{"$f":"IFERROR(VLOOKUP(RL33,MATCHSELEVES!$Y$14:$AG$600,9,FALSE),0)","v":0},"Willyp_38",{"$f":"IFERROR(VLOOKUP(RR33,MATCHSELEVES!$Y$14:$AE$600,3,FALSE),0)","v":0},{"$f":"IFERROR(VLOOKUP(RR33,MATCHSELEVES!$Y$14:$AE$600,4,FALSE),0)","v":0},{"$f":"IFERROR(VLOOKUP(RR33,MATCHSELEVES!$Y$14:$AE$600,5,FALSE),0)","v":0},{"$f":"IFERROR(VLOOKUP(RR33,MATCHSELEVES!$Y$14:$AF$600,8,FALSE),0)","v":0},{"$f":"IFERROR(VLOOKUP(RR33,MATCHSELEVES!$Y$14:$AG$600,9,FALSE),0)","v":0},"Willyp_39",{"$f":"IFERROR(VLOOKUP(RX33,MATCHSELEVES!$Y$14:$AE$600,3,FALSE),0)","v":0},{"$f":"IFERROR(VLOOKUP(RX33,MATCHSELEVES!$Y$14:$AE$600,4,FALSE),0)","v":0},{"$f":"IFERROR(VLOOKUP(RX33,MATCHSELEVES!$Y$14:$AE$600,5,FALSE),0)","v":0},{"$f":"IFERROR(VLOOKUP(RX33,MATCHSELEVES!$Y$14:$AF$600,8,FALSE),0)","v":0},{"$f":"IFERROR(VLOOKUP(RX33,MATCHSELEVES!$Y$14:$AG$600,9,FALSE),0)","v":0},"Willyp_40",{"$f":"IFERROR(VLOOKUP(SD33,MATCHSELEVES!$Y$14:$AE$600,3,FALSE),0)","v":0},{"$f":"IFERROR(VLOOKUP(SD33,MATCHSELEVES!$Y$14:$AE$600,4,FALSE),0)","v":0},{"$f":"IFERROR(VLOOKUP(SD33,MATCHSELEVES!$Y$14:$AE$600,5,FALSE),0)","v":0},{"$f":"IFERROR(VLOOKUP(SD33,MATCHSELEVES!$Y$14:$AF$600,8,FALSE),0)","v":0},{"$f":"IFERROR(VLOOKUP(SD33,MATCHSELEVES!$Y$14:$AG$600,9,FALSE),0)","v":0}]
[31,null,{"$f":"MD1POINT!C34","v":"Yahia"},{"$f":"MD1POINT!D34","v":1},{"$f":"COUNTIF(MATCHSELEVES!$Z$14:$Z$600,C34)+COUNTIF(MATCHSELEVES!$Z$14:$Z$600,$C34&\"p\")","v":0},1,{"$f":"COUNTIF(MATCHSELEVES!$F$14:$H$249,C34)","v":0},1,0,1,0,1,0,1,{"$f":"Y34+AE34+AK34+AQ34+AW34+BC34+BI34+BO34+BU34+CA34+CG34+CM34+CS34+CY34+DE34+DK34+DQ34+DW34+EC34+EI34+EO34+EU34+FA34+FG34+FM34+FS34+FY34+GE34+GK34+GQ34+GW34+4+HI34+HO34+HU34+IA34+HC34+IG34+IM34+IY34+IS34+JH34+JN34+JZ34+JT34+KF34+KR34+KX34+LJ34+LP34+LV34+LD34+MB34+MH34+MN34+MZ34+MT34+NF34+NL34+NR34+NX34+OD34+OJ34+OP34+OV34+PB34+PH34+PT34+PN34+PZ34+QF34+QL34+QR34+RD34+QX34+RJ34+RP34+RV34+SB34+SH34+KL34+Tableau10[[#This Row],[Nombre de matchs joués]]*2","v":4},1,{"$f":"(Tableau10[[#This Row],[CLASSEMENT1]]+Tableau10[[#This Row],[CLASSEMENT2]]+Tableau10[[#This Row],[CLASSEMENT3]]+Tableau10[[#This Row],[CLASSEMENT4]]+Tableau10[[#This Row],[CLASSEMENT5]]+Tableau10[[#This Row],[CLASSEMENT6]])/6","v":1},{"$f":"RANK(Tableau10[[#This Row],[MOYENNE CLASSEMENTS]],Tableau10[MOYENNE CLASSEMENTS],1)","v":1},null,{"$f":"Tableau10[[#This Row],[CLASSEMENT1]]","v":1},"Yahia_1",{"$f":"IFERROR(VLOOKUP(U34,MATCHSELEVES!$Y$14:$AE$600,3,FALSE),0)","v":0},{"$f":"IFERROR(VLOOKUP(U34,MATCHSELEVES!$Y$14:$AE$600,4,FALSE),0)","v":0},{"$f":"IFERROR(VLOOKUP(U34,MATCHSELEVES!$Y$14:$AE$600,5,FALSE),0)","v":0},{"$f":"IFERROR(VLOOKUP(U34,MATCHSELEVES!$Y$14:$AF$600,8,FALSE),0)","v":0},{"$f":"IFERROR(VLOOKUP(U34,MATCHSELEVES!$Y$14:$AG$600,9,FALSE),0)","v":0},"Yahia_2",{"$f":"IFERROR(VLOOKUP(AA34,MATCHSELEVES!$Y$14:$AE$600,3,FALSE),0)","v":0},{"$f":"IFERROR(VLOOKUP(AA34,MATCHSELEVES!$Y$14:$AE$600,4,FALSE),0)","v":0},{"$f":"IFERROR(VLOOKUP(AA34,MATCHSELEVES!$Y$14:$AE$600,5,FALSE),0)","v":0},{"$f":"IFERROR(VLOOKUP(AA34,MATCHSELEVES!$Y$14:$AF$600,8,FALSE),0)","v":0},{"$f":"IFERROR(VLOOKUP(AA34,MATCHSELEVES!$Y$14:$AG$600,9,FALSE),0)","v":0},"Yahia_3",{"$f":"IFERROR(VLOOKUP(AG34,MATCHSELEVES!$Y$14:$AE$600,3,FALSE),0)","v":0},{"$f":"IFERROR(VLOOKUP(AG34,MATCHSELEVES!$Y$14:$AE$600,4,FALSE),0)","v":0},{"$f":"IFERROR(VLOOKUP(AG34,MATCHSELEVES!$Y$14:$AE$600,5,FALSE),0)","v":0},{"$f":"IFERROR(VLOOKUP(AG34,MATCHSELEVES!$Y$14:$AF$600,8,FALSE),0)","v":0},{"$f":"IFERROR(VLOOKUP(AG34,MATCHSELEVES!$Y$14:$AG$600,9,FALSE),0)","v":0},"Yahia_4",{"$f":"IFERROR(VLOOKUP(AM34,MATCHSELEVES!$Y$14:$AE$600,3,FALSE),0)","v":0},{"$f":"IFERROR(VLOOKUP(AM34,MATCHSELEVES!$Y$14:$AE$600,4,FALSE),0)","v":0},{"$f":"IFERROR(VLOOKUP(AM34,MATCHSELEVES!$Y$14:$AE$600,5,FALSE),0)","v":0},{"$f":"IFERROR(VLOOKUP(AM34,MATCHSELEVES!$Y$14:$AF$600,8,FALSE),0)","v":0},{"$f":"IFERROR(VLOOKUP(AM34,MATCHSELEVES!$Y$14:$AG$600,9,FALSE),0)","v":0},"Yahia_5",{"$f":"IFERROR(VLOOKUP(AS34,MATCHSELEVES!$Y$14:$AE$600,3,FALSE),0)","v":0},{"$f":"IFERROR(VLOOKUP(AS34,MATCHSELEVES!$Y$14:$AE$600,4,FALSE),0)","v":0},{"$f":"IFERROR(VLOOKUP(AS34,MATCHSELEVES!$Y$14:$AE$600,5,FALSE),0)","v":0},{"$f":"IFERROR(VLOOKUP(AS34,MATCHSELEVES!$Y$14:$AF$600,8,FALSE),0)","v":0},{"$f":"IFERROR(VLOOKUP(AS34,MATCHSELEVES!$Y$14:$AG$600,9,FALSE),0)","v":0},"Yahia_6",{"$f":"IFERROR(VLOOKUP(AY34,MATCHSELEVES!$Y$14:$AE$600,3,FALSE),0)","v":0},{"$f":"IFERROR(VLOOKUP(AY34,MATCHSELEVES!$Y$14:$AE$600,4,FALSE),0)","v":0},{"$f":"IFERROR(VLOOKUP(AY34,MATCHSELEVES!$Y$14:$AE$600,5,FALSE),0)","v":0},{"$f":"IFERROR(VLOOKUP(AY34,MATCHSELEVES!$Y$14:$AF$600,8,FALSE),0)","v":0},{"$f":"IFERROR(VLOOKUP(AY34,MATCHSELEVES!$Y$14:$AG$600,9,FALSE),0)","v":0},"Yahia_7",{"$f":"IFERROR(VLOOKUP(BE34,MATCHSELEVES!$Y$14:$AE$600,3,FALSE),0)","v":0},{"$f":"IFERROR(VLOOKUP(BE34,MATCHSELEVES!$Y$14:$AE$600,4,FALSE),0)","v":0},{"$f":"IFERROR(VLOOKUP(BE34,MATCHSELEVES!$Y$14:$AE$600,5,FALSE),0)","v":0},{"$f":"IFERROR(VLOOKUP(BE34,MATCHSELEVES!$Y$14:$AF$600,8,FALSE),0)","v":0},{"$f":"IFERROR(VLOOKUP(BE34,MATCHSELEVES!$Y$14:$AG$600,9,FALSE),0)","v":0},"Yahia_8",{"$f":"IFERROR(VLOOKUP(BK34,MATCHSELEVES!$Y$14:$AE$600,3,FALSE),0)","v":0},{"$f":"IFERROR(VLOOKUP(BK34,MATCHSELEVES!$Y$14:$AE$600,4,FALSE),0)","v":0},{"$f":"IFERROR(VLOOKUP(BK34,MATCHSELEVES!$Y$14:$AE$600,5,FALSE),0)","v":0},{"$f":"IFERROR(VLOOKUP(BK34,MATCHSELEVES!$Y$14:$AF$600,8,FALSE),0)","v":0},{"$f":"IFERROR(VLOOKUP(BK34,MATCHSELEVES!$Y$14:$AG$600,9,FALSE),0)","v":0},"Yahia_9",{"$f":"IFERROR(VLOOKUP(BQ34,MATCHSELEVES!$Y$14:$AE$600,3,FALSE),0)","v":0},{"$f":"IFERROR(VLOOKUP(BQ34,MATCHSELEVES!$Y$14:$AE$600,4,FALSE),0)","v":0},{"$f":"IFERROR(VLOOKUP(BQ34,MATCHSELEVES!$Y$14:$AE$600,5,FALSE),0)","v":0},{"$f":"IFERROR(VLOOKUP(BQ34,MATCHSELEVES!$Y$14:$AF$600,8,FALSE),0)","v":0},{"$f":"IFERROR(VLOOKUP(BQ34,MATCHSELEVES!$Y$14:$AG$600,9,FALSE),0)","v":0},"Yahia_10",{"$f":"IFERROR(VLOOKUP(BW34,MATCHSELEVES!$Y$14:$AE$600,3,FALSE),0)","v":0},{"$f":"IFERROR(VLOOKUP(BW34,MATCHSELEVES!$Y$14:$AE$600,4,FALSE),0)","v":0},{"$f":"IFERROR(VLOOKUP(BW34,MATCHSELEVES!$Y$14:$AE$600,5,FALSE),0)","v":0},{"$f":"IFERROR(VLOOKUP(BW34,MATCHSELEVES!$Y$14:$AF$600,8,FALSE),0)","v":0},{"$f":"IFERROR(VLOOKUP(BW34,MATCHSELEVES!$Y$14:$AG$600,9,FALSE),0)","v":0},"Yahia_11",{"$f":"IFERROR(VLOOKUP(CC34,MATCHSELEVES!$Y$14:$AE$600,3,FALSE),0)","v":0},{"$f":"IFERROR(VLOOKUP(CC34,MATCHSELEVES!$Y$14:$AE$600,4,FALSE),0)","v":0},{"$f":"IFERROR(VLOOKUP(CC34,MATCHSELEVES!$Y$14:$AE$600,5,FALSE),0)","v":0},{"$f":"IFERROR(VLOOKUP(CC34,MATCHSELEVES!$Y$14:$AF$600,8,FALSE),0)","v":0},{"$f":"IFERROR(VLOOKUP(CC34,MATCHSELEVES!$Y$14:$AG$600,9,FALSE),0)","v":0},"Yahia_12",{"$f":"IFERROR(VLOOKUP(CI34,MATCHSELEVES!$Y$14:$AE$600,3,FALSE),0)","v":0},{"$f":"IFERROR(VLOOKUP(CI34,MATCHSELEVES!$Y$14:$AE$600,4,FALSE),0)","v":0},{"$f":"IFERROR(VLOOKUP(CI34,MATCHSELEVES!$Y$14:$AE$600,5,FALSE),0)","v":0},{"$f":"IFERROR(VLOOKUP(CI34,MATCHSELEVES!$Y$14:$AF$600,8,FALSE),0)","v":0},{"$f":"IFERROR(VLOOKUP(CI34,MATCHSELEVES!$Y$14:$AG$600,9,FALSE),0)","v":0},"Yahia_13",{"$f":"IFERROR(VLOOKUP(CO34,MATCHSELEVES!$Y$14:$AE$600,3,FALSE),0)","v":0},{"$f":"IFERROR(VLOOKUP(CO34,MATCHSELEVES!$Y$14:$AE$600,4,FALSE),0)","v":0},{"$f":"IFERROR(VLOOKUP(CO34,MATCHSELEVES!$Y$14:$AE$600,5,FALSE),0)","v":0},{"$f":"IFERROR(VLOOKUP(CO34,MATCHSELEVES!$Y$14:$AF$600,8,FALSE),0)","v":0},{"$f":"IFERROR(VLOOKUP(CO34,MATCHSELEVES!$Y$14:$AG$600,9,FALSE),0)","v":0},"Yahia_14",{"$f":"IFERROR(VLOOKUP(CU34,MATCHSELEVES!$Y$14:$AE$600,3,FALSE),0)","v":0},{"$f":"IFERROR(VLOOKUP(CU34,MATCHSELEVES!$Y$14:$AE$600,4,FALSE),0)","v":0},{"$f":"IFERROR(VLOOKUP(CU34,MATCHSELEVES!$Y$14:$AE$600,5,FALSE),0)","v":0},{"$f":"IFERROR(VLOOKUP(CU34,MATCHSELEVES!$Y$14:$AF$600,8,FALSE),0)","v":0},{"$f":"IFERROR(VLOOKUP(CU34,MATCHSELEVES!$Y$14:$AG$600,9,FALSE),0)","v":0},"Yahia_15",{"$f":"IFERROR(VLOOKUP(DA34,MATCHSELEVES!$Y$14:$AE$600,3,FALSE),0)","v":0},{"$f":"IFERROR(VLOOKUP(DA34,MATCHSELEVES!$Y$14:$AE$600,4,FALSE),0)","v":0},{"$f":"IFERROR(VLOOKUP(DA34,MATCHSELEVES!$Y$14:$AE$600,5,FALSE),0)","v":0},{"$f":"IFERROR(VLOOKUP(DA34,MATCHSELEVES!$Y$14:$AF$600,8,FALSE),0)","v":0},{"$f":"IFERROR(VLOOKUP(DA34,MATCHSELEVES!$Y$14:$AG$600,9,FALSE),0)","v":0},"Yahia_16",{"$f":"IFERROR(VLOOKUP(DG34,MATCHSELEVES!$Y$14:$AE$600,3,FALSE),0)","v":0},{"$f":"IFERROR(VLOOKUP(DG34,MATCHSELEVES!$Y$14:$AE$600,4,FALSE),0)","v":0},{"$f":"IFERROR(VLOOKUP(DG34,MATCHSELEVES!$Y$14:$AE$600,5,FALSE),0)","v":0},{"$f":"IFERROR(VLOOKUP(DG34,MATCHSELEVES!$Y$14:$AF$600,8,FALSE),0)","v":0},{"$f":"IFERROR(VLOOKUP(DG34,MATCHSELEVES!$Y$14:$AG$600,9,FALSE),0)","v":0},"Yahia_17",{"$f":"IFERROR(VLOOKUP(DM34,MATCHSELEVES!$Y$14:$AE$600,3,FALSE),0)","v":0},{"$f":"IFERROR(VLOOKUP(DM34,MATCHSELEVES!$Y$14:$AE$600,4,FALSE),0)","v":0},{"$f":"IFERROR(VLOOKUP(DM34,MATCHSELEVES!$Y$14:$AE$600,5,FALSE),0)","v":0},{"$f":"IFERROR(VLOOKUP(DM34,MATCHSELEVES!$Y$14:$AF$600,8,FALSE),0)","v":0},{"$f":"IFERROR(VLOOKUP(DM34,MATCHSELEVES!$Y$14:$AG$600,9,FALSE),0)","v":0},"Yahia_18",{"$f":"IFERROR(VLOOKUP(DS34,MATCHSELEVES!$Y$14:$AE$600,3,FALSE),0)","v":0},{"$f":"IFERROR(VLOOKUP(DS34,MATCHSELEVES!$Y$14:$AE$600,4,FALSE),0)","v":0},{"$f":"IFERROR(VLOOKUP(DS34,MATCHSELEVES!$Y$14:$AE$600,5,FALSE),0)","v":0},{"$f":"IFERROR(VLOOKUP(DS34,MATCHSELEVES!$Y$14:$AF$600,8,FALSE),0)","v":0},{"$f":"IFERROR(VLOOKUP(DS34,MATCHSELEVES!$Y$14:$AG$600,9,FALSE),0)","v":0},"Yahia_19",{"$f":"IFERROR(VLOOKUP(DY34,MATCHSELEVES!$Y$14:$AE$600,3,FALSE),0)","v":0},{"$f":"IFERROR(VLOOKUP(DY34,MATCHSELEVES!$Y$14:$AE$600,4,FALSE),0)","v":0},{"$f":"IFERROR(VLOOKUP(DY34,MATCHSELEVES!$Y$14:$AE$600,5,FALSE),0)","v":0},{"$f":"IFERROR(VLOOKUP(DY34,MATCHSELEVES!$Y$14:$AF$600,8,FALSE),0)","v":0},{"$f":"IFERROR(VLOOKUP(DY34,MATCHSELEVES!$Y$14:$AG$600,9,FALSE),0)","v":0},"Yahia_20",{"$f":"IFERROR(VLOOKUP(EE34,MATCHSELEVES!$Y$14:$AE$600,3,FALSE),0)","v":0},{"$f":"IFERROR(VLOOKUP(EE34,MATCHSELEVES!$Y$14:$AE$600,4,FALSE),0)","v":0},{"$f":"IFERROR(VLOOKUP(EE34,MATCHSELEVES!$Y$14:$AE$600,5,FALSE),0)","v":0},{"$f":"IFERROR(VLOOKUP(EE34,MATCHSELEVES!$Y$14:$AF$600,8,FALSE),0)","v":0},{"$f":"IFERROR(VLOOKUP(EE34,MATCHSELEVES!$Y$14:$AG$600,9,FALSE),0)","v":0},"Yahia_21",{"$f":"IFERROR(VLOOKUP(EK34,MATCHSELEVES!$Y$14:$AE$600,3,FALSE),0)","v":0},{"$f":"IFERROR(VLOOKUP(EK34,MATCHSELEVES!$Y$14:$AE$600,4,FALSE),0)","v":0},{"$f":"IFERROR(VLOOKUP(EK34,MATCHSELEVES!$Y$14:$AE$600,5,FALSE),0)","v":0},{"$f":"IFERROR(VLOOKUP(EK34,MATCHSELEVES!$Y$14:$AF$600,8,FALSE),0)","v":0},{"$f":"IFERROR(VLOOKUP(EK34,MATCHSELEVES!$Y$14:$AG$600,9,FALSE),0)","v":0},"Yahia_22",{"$f":"IFERROR(VLOOKUP(EQ34,MATCHSELEVES!$Y$14:$AE$600,3,FALSE),0)","v":0},{"$f":"IFERROR(VLOOKUP(EQ34,MATCHSELEVES!$Y$14:$AE$600,4,FALSE),0)","v":0},{"$f":"IFERROR(VLOOKUP(EQ34,MATCHSELEVES!$Y$14:$AE$600,5,FALSE),0)","v":0},{"$f":"IFERROR(VLOOKUP(EQ34,MATCHSELEVES!$Y$14:$AF$600,8,FALSE),0)","v":0},{"$f":"IFERROR(VLOOKUP(EQ34,MATCHSELEVES!$Y$14:$AG$600,9,FALSE),0)","v":0},"Yahia_23",{"$f":"IFERROR(VLOOKUP(EW34,MATCHSELEVES!$Y$14:$AE$600,3,FALSE),0)","v":0},{"$f":"IFERROR(VLOOKUP(EW34,MATCHSELEVES!$Y$14:$AE$600,4,FALSE),0)","v":0},{"$f":"IFERROR(VLOOKUP(EW34,MATCHSELEVES!$Y$14:$AE$600,5,FALSE),0)","v":0},{"$f":"IFERROR(VLOOKUP(EW34,MATCHSELEVES!$Y$14:$AF$600,8,FALSE),0)","v":0},{"$f":"IFERROR(VLOOKUP(EW34,MATCHSELEVES!$Y$14:$AG$600,9,FALSE),0)","v":0},"Yahia_24",{"$f":"IFERROR(VLOOKUP(FC34,MATCHSELEVES!$Y$14:$AE$600,3,FALSE),0)","v":0},{"$f":"IFERROR(VLOOKUP(FC34,MATCHSELEVES!$Y$14:$AE$600,4,FALSE),0)","v":0},{"$f":"IFERROR(VLOOKUP(FC34,MATCHSELEVES!$Y$14:$AE$600,5,FALSE),0)","v":0},{"$f":"IFERROR(VLOOKUP(FC34,MATCHSELEVES!$Y$14:$AF$600,8,FALSE),0)","v":0},{"$f":"IFERROR(VLOOKUP(FC34,MATCHSELEVES!$Y$14:$AG$600,9,FALSE),0)","v":0},"Yahia_25",{"$f":"IFERROR(VLOOKUP(FI34,MATCHSELEVES!$Y$14:$AE$600,3,FALSE),0)","v":0},{"$f":"IFERROR(VLOOKUP(FI34,MATCHSELEVES!$Y$14:$AE$600,4,FALSE),0)","v":0},{"$f":"IFERROR(VLOOKUP(FI34,MATCHSELEVES!$Y$14:$AE$600,5,FALSE),0)","v":0},{"$f":"IFERROR(VLOOKUP(FI34,MATCHSELEVES!$Y$14:$AF$600,8,FALSE),0)","v":0},{"$f":"IFERROR(VLOOKUP(FI34,MATCHSELEVES!$Y$14:$AG$600,9,FALSE),0)","v":0},"Yahia_26",{"$f":"IFERROR(VLOOKUP(FO34,MATCHSELEVES!$Y$14:$AE$600,3,FALSE),0)","v":0},{"$f":"IFERROR(VLOOKUP(FO34,MATCHSELEVES!$Y$14:$AE$600,4,FALSE),0)","v":0},{"$f":"IFERROR(VLOOKUP(FO34,MATCHSELEVES!$Y$14:$AE$600,5,FALSE),0)","v":0},{"$f":"IFERROR(VLOOKUP(FO34,MATCHSELEVES!$Y$14:$AF$600,8,FALSE),0)","v":0},{"$f":"IFERROR(VLOOKUP(FO34,MATCHSELEVES!$Y$14:$AG$600,9,FALSE),0)","v":0},"Yahia_27",{"$f":"IFERROR(VLOOKUP(FU34,MATCHSELEVES!$Y$14:$AE$600,3,FALSE),0)","v":0},{"$f":"IFERROR(VLOOKUP(FU34,MATCHSELEVES!$Y$14:$AE$600,4,FALSE),0)","v":0},{"$f":"IFERROR(VLOOKUP(FU34,MATCHSELEVES!$Y$14:$AE$600,5,FALSE),0)","v":0},{"$f":"IFERROR(VLOOKUP(FU34,MATCHSELEVES!$Y$14:$AF$600,8,FALSE),0)","v":0},{"$f":"IFERROR(VLOOKUP(FU34,MATCHSELEVES!$Y$14:$AG$600,9,FALSE),0)","v":0},"Yahia_28",{"$f":"IFERROR(VLOOKUP(GA34,MATCHSELEVES!$Y$14:$AE$600,3,FALSE),0)","v":0},{"$f":"IFERROR(VLOOKUP(GA34,MATCHSELEVES!$Y$14:$AE$600,4,FALSE),0)","v":0},{"$f":"IFERROR(VLOOKUP(GA34,MATCHSELEVES!$Y$14:$AE$600,5,FALSE),0)","v":0},{"$f":"IFERROR(VLOOKUP(GA34,MATCHSELEVES!$Y$14:$AF$600,8,FALSE),0)","v":0},{"$f":"IFERROR(VLOOKUP(GA34,MATCHSELEVES!$Y$14:$AG$600,9,FALSE),0)","v":0},"Yahia_29",{"$f":"IFERROR(VLOOKUP(GG34,MATCHSELEVES!$Y$14:$AE$600,3,FALSE),0)","v":0},{"$f":"IFERROR(VLOOKUP(GG34,MATCHSELEVES!$Y$14:$AE$600,4,FALSE),0)","v":0},{"$f":"IFERROR(VLOOKUP(GG34,MATCHSELEVES!$Y$14:$AE$600,5,FALSE),0)","v":0},{"$f":"IFERROR(VLOOKUP(GG34,MATCHSELEVES!$Y$14:$AF$600,8,FALSE),0)","v":0},{"$f":"IFERROR(VLOOKUP(GG34,MATCHSELEVES!$Y$14:$AG$600,9,FALSE),0)","v":0},"Yahia_30",{"$f":"IFERROR(VLOOKUP(GM34,MATCHSELEVES!$Y$14:$AE$600,3,FALSE),0)","v":0},{"$f":"IFERROR(VLOOKUP(GM34,MATCHSELEVES!$Y$14:$AE$600,4,FALSE),0)","v":0},{"$f":"IFERROR(VLOOKUP(GM34,MATCHSELEVES!$Y$14:$AE$600,5,FALSE),0)","v":0},{"$f":"IFERROR(VLOOKUP(GM34,MATCHSELEVES!$Y$14:$AF$600,8,FALSE),0)","v":0},{"$f":"IFERROR(VLOOKUP(GM34,MATCHSELEVES!$Y$14:$AG$600,9,FALSE),0)","v":0},"Yahia_31",{"$f":"IFERROR(VLOOKUP(GS34,MATCHSELEVES!$Y$14:$AE$600,3,FALSE),0)","v":0},{"$f":"IFERROR(VLOOKUP(GS34,MATCHSELEVES!$Y$14:$AE$600,4,FALSE),0)","v":0},{"$f":"IFERROR(VLOOKUP(GS34,MATCHSELEVES!$Y$14:$AE$600,5,FALSE),0)","v":0},{"$f":"IFERROR(VLOOKUP(GS34,MATCHSELEVES!$Y$14:$AF$600,8,FALSE),0)","v":0},{"$f":"IFERROR(VLOOKUP(GS34,MATCHSELEVES!$Y$14:$AG$600,9,FALSE),0)","v":0},"Yahia_32",{"$f":"IFERROR(VLOOKUP(GY34,MATCHSELEVES!$Y$14:$AE$600,3,FALSE),0)","v":0},{"$f":"IFERROR(VLOOKUP(GY34,MATCHSELEVES!$Y$14:$AE$600,4,FALSE),0)","v":0},{"$f":"IFERROR(VLOOKUP(GY34,MATCHSELEVES!$Y$14:$AE$600,5,FALSE),0)","v":0},{"$f":"IFERROR(VLOOKUP(GY34,MATCHSELEVES!$Y$14:$AF$600,8,FALSE),0)","v":0},{"$f":"IFERROR(VLOOKUP(GY34,MATCHSELEVES!$Y$14:$AG$600,9,FALSE),0)","v":0},"Yahia_33",{"$f":"IFERROR(VLOOKUP(HE34,MATCHSELEVES!$Y$14:$AE$600,3,FALSE),0)","v":0},{"$f":"IFERROR(VLOOKUP(HE34,MATCHSELEVES!$Y$14:$AE$600,4,FALSE),0)","v":0},{"$f":"IFERROR(VLOOKUP(HE34,MATCHSELEVES!$Y$14:$AE$600,5,FALSE),0)","v":0},{"$f":"IFERROR(VLOOKUP(HE34,MATCHSELEVES!$Y$14:$AF$600,8,FALSE),0)","v":0},{"$f":"IFERROR(VLOOKUP(HE34,MATCHSELEVES!$Y$14:$AG$600,9,FALSE),0)","v":0},"Yahia_34",{"$f":"IFERROR(VLOOKUP(HK34,MATCHSELEVES!$Y$14:$AE$600,3,FALSE),0)","v":0},{"$f":"IFERROR(VLOOKUP(HK34,MATCHSELEVES!$Y$14:$AE$600,4,FALSE),0)","v":0},{"$f":"IFERROR(VLOOKUP(HK34,MATCHSELEVES!$Y$14:$AE$600,5,FALSE),0)","v":0},{"$f":"IFERROR(VLOOKUP(HK34,MATCHSELEVES!$Y$14:$AF$600,8,FALSE),0)","v":0},{"$f":"IFERROR(VLOOKUP(HK34,MATCHSELEVES!$Y$14:$AG$600,9,FALSE),0)","v":0},"Yahia_35",{"$f":"IFERROR(VLOOKUP(HQ34,MATCHSELEVES!$Y$14:$AE$600,3,FALSE),0)","v":0},{"$f":"IFERROR(VLOOKUP(HQ34,MATCHSELEVES!$Y$14:$AE$600,4,FALSE),0)","v":0},{"$f":"IFERROR(VLOOKUP(HQ34,MATCHSELEVES!$Y$14:$AE$600,5,FALSE),0)","v":0},{"$f":"IFERROR(VLOOKUP(HQ34,MATCHSELEVES!$Y$14:$AF$600,8,FALSE),0)","v":0},{"$f":"IFERROR(VLOOKUP(HQ34,MATCHSELEVES!$Y$14:$AG$600,9,FALSE),0)","v":0},"Yahia_36",{"$f":"IFERROR(VLOOKUP(HW34,MATCHSELEVES!$Y$14:$AE$600,3,FALSE),0)","v":0},{"$f":"IFERROR(VLOOKUP(HW34,MATCHSELEVES!$Y$14:$AE$600,4,FALSE),0)","v":0},{"$f":"IFERROR(VLOOKUP(HW34,MATCHSELEVES!$Y$14:$AE$600,5,FALSE),0)","v":0},{"$f":"IFERROR(VLOOKUP(HW34,MATCHSELEVES!$Y$14:$AF$600,8,FALSE),0)","v":0},{"$f":"IFERROR(VLOOKUP(HW34,MATCHSELEVES!$Y$14:$AG$600,9,FALSE),0)","v":0},"Yahia_37",{"$f":"IFERROR(VLOOKUP(IC34,MATCHSELEVES!$Y$14:$AE$600,3,FALSE),0)","v":0},{"$f":"IFERROR(VLOOKUP(IC34,MATCHSELEVES!$Y$14:$AE$600,4,FALSE),0)","v":0},{"$f":"IFERROR(VLOOKUP(IC34,MATCHSELEVES!$Y$14:$AE$600,5,FALSE),0)","v":0},{"$f":"IFERROR(VLOOKUP(IC34,MATCHSELEVES!$Y$14:$AF$600,8,FALSE),0)","v":0},{"$f":"IFERROR(VLOOKUP(IC34,MATCHSELEVES!$Y$14:$AG$600,9,FALSE),0)","v":0},"Yahia_38",{"$f":"IFERROR(VLOOKUP(II34,MATCHSELEVES!$Y$14:$AE$600,3,FALSE),0)","v":0},{"$f":"IFERROR(VLOOKUP(II34,MATCHSELEVES!$Y$14:$AE$600,4,FALSE),0)","v":0},{"$f":"IFERROR(VLOOKUP(II34,MATCHSELEVES!$Y$14:$AE$600,5,FALSE),0)","v":0},{"$f":"IFERROR(VLOOKUP(II34,MATCHSELEVES!$Y$14:$AF$600,8,FALSE),0)","v":0},{"$f":"IFERROR(VLOOKUP(II34,MATCHSELEVES!$Y$14:$AG$600,9,FALSE),0)","v":0},"Yahia_39",{"$f":"IFERROR(VLOOKUP(IO34,MATCHSELEVES!$Y$14:$AE$600,3,FALSE),0)","v":0},{"$f":"IFERROR(VLOOKUP(IO34,MATCHSELEVES!$Y$14:$AE$600,4,FALSE),0)","v":0},{"$f":"IFERROR(VLOOKUP(IO34,MATCHSELEVES!$Y$14:$AE$600,5,FALSE),0)","v":0},{"$f":"IFERROR(VLOOKUP(IO34,MATCHSELEVES!$Y$14:$AF$600,8,FALSE),0)","v":0},{"$f":"IFERROR(VLOOKUP(IO34,MATCHSELEVES!$Y$14:$AG$600,9,FALSE),0)","v":0},"Yahia_40",{"$f":"IFERROR(VLOOKUP(IU34,MATCHSELEVES!$Y$14:$AE$600,3,FALSE),0)","v":0},{"$f":"IFERROR(VLOOKUP(IU34,MATCHSELEVES!$Y$14:$AE$600,4,FALSE),0)","v":0},{"$f":"IFERROR(VLOOKUP(IU34,MATCHSELEVES!$Y$14:$AE$600,5,FALSE),0)","v":0},{"$f":"IFERROR(VLOOKUP(IU34,MATCHSELEVES!$Y$14:$AF$600,8,FALSE),0)","v":0},{"$f":"IFERROR(VLOOKUP(IU34,MATCHSELEVES!$Y$14:$AG$600,9,FALSE),0)","v":0},{"$f":"Tableau10[[#This Row],[CLASSE]]","v":"Yahia"},1,{"$f":"MD1POINT!D34","v":1},"Yahiap_1",{"$f":"IFERROR(VLOOKUP(JD34,MATCHSELEVES!$Y$14:$AE$600,3,FALSE),0)","v":0},{"$f":"IFERROR(VLOOKUP(JD34,MATCHSELEVES!$Y$14:$AE$600,4,FALSE),0)","v":0},{"$f":"IFERROR(VLOOKUP(JD34,MATCHSELEVES!$Y$14:$AE$600,5,FALSE),0)","v":0},{"$f":"IFERROR(VLOOKUP(JD34,MATCHSELEVES!$Y$14:$AF$600,8,FALSE),0)","v":0},{"$f":"IFERROR(VLOOKUP(JD34,MATCHSELEVES!$Y$14:$AG$600,9,FALSE),0)","v":0},"Yahiap_2",{"$f":"IFERROR(VLOOKUP(JJ34,MATCHSELEVES!$Y$14:$AE$600,3,FALSE),0)","v":0},{"$f":"IFERROR(VLOOKUP(JJ34,MATCHSELEVES!$Y$14:$AE$600,4,FALSE),0)","v":0},{"$f":"IFERROR(VLOOKUP(JJ34,MATCHSELEVES!$Y$14:$AE$600,5,FALSE),0)","v":0},{"$f":"IFERROR(VLOOKUP(JJ34,MATCHSELEVES!$Y$14:$AF$600,8,FALSE),0)","v":0},{"$f":"IFERROR(VLOOKUP(JJ34,MATCHSELEVES!$Y$14:$AG$600,9,FALSE),0)","v":0},"Yahiap_3",{"$f":"IFERROR(VLOOKUP(JP34,MATCHSELEVES!$Y$14:$AE$600,3,FALSE),0)","v":0},{"$f":"IFERROR(VLOOKUP(JP34,MATCHSELEVES!$Y$14:$AE$600,4,FALSE),0)","v":0},{"$f":"IFERROR(VLOOKUP(JP34,MATCHSELEVES!$Y$14:$AE$600,5,FALSE),0)","v":0},{"$f":"IFERROR(VLOOKUP(JP34,MATCHSELEVES!$Y$14:$AF$600,8,FALSE),0)","v":0},{"$f":"IFERROR(VLOOKUP(JP34,MATCHSELEVES!$Y$14:$AG$600,9,FALSE),0)","v":0},"Yahiap_4",{"$f":"IFERROR(VLOOKUP(JV34,MATCHSELEVES!$Y$14:$AE$600,3,FALSE),0)","v":0},{"$f":"IFERROR(VLOOKUP(JV34,MATCHSELEVES!$Y$14:$AE$600,4,FALSE),0)","v":0},{"$f":"IFERROR(VLOOKUP(JV34,MATCHSELEVES!$Y$14:$AE$600,5,FALSE),0)","v":0},{"$f":"IFERROR(VLOOKUP(JV34,MATCHSELEVES!$Y$14:$AF$600,8,FALSE),0)","v":0},{"$f":"IFERROR(VLOOKUP(JV34,MATCHSELEVES!$Y$14:$AG$600,9,FALSE),0)","v":0},"Yahiap_5",{"$f":"IFERROR(VLOOKUP(KB34,MATCHSELEVES!$Y$14:$AE$600,3,FALSE),0)","v":0},{"$f":"IFERROR(VLOOKUP(KB34,MATCHSELEVES!$Y$14:$AE$600,4,FALSE),0)","v":0},{"$f":"IFERROR(VLOOKUP(KB34,MATCHSELEVES!$Y$14:$AE$600,5,FALSE),0)","v":0},{"$f":"IFERROR(VLOOKUP(KB34,MATCHSELEVES!$Y$14:$AF$600,8,FALSE),0)","v":0},{"$f":"IFERROR(VLOOKUP(KB34,MATCHSELEVES!$Y$14:$AG$600,9,FALSE),0)","v":0},"Yahiap_6",{"$f":"IFERROR(VLOOKUP(KH34,MATCHSELEVES!$Y$14:$AE$600,3,FALSE),0)","v":0},{"$f":"IFERROR(VLOOKUP(KH34,MATCHSELEVES!$Y$14:$AE$600,4,FALSE),0)","v":0},{"$f":"IFERROR(VLOOKUP(KH34,MATCHSELEVES!$Y$14:$AE$600,5,FALSE),0)","v":0},{"$f":"IFERROR(VLOOKUP(KH34,MATCHSELEVES!$Y$14:$AF$600,8,FALSE),0)","v":0},{"$f":"IFERROR(VLOOKUP(KH34,MATCHSELEVES!$Y$14:$AG$600,9,FALSE),0)","v":0},"Yahiap_7",{"$f":"IFERROR(VLOOKUP(KN34,MATCHSELEVES!$Y$14:$AE$600,3,FALSE),0)","v":0},{"$f":"IFERROR(VLOOKUP(KN34,MATCHSELEVES!$Y$14:$AE$600,4,FALSE),0)","v":0},{"$f":"IFERROR(VLOOKUP(KN34,MATCHSELEVES!$Y$14:$AE$600,5,FALSE),0)","v":0},{"$f":"IFERROR(VLOOKUP(KN34,MATCHSELEVES!$Y$14:$AF$600,8,FALSE),0)","v":0},{"$f":"IFERROR(VLOOKUP(KN34,MATCHSELEVES!$Y$14:$AG$600,9,FALSE),0)","v":0},"Yahiap_8",{"$f":"IFERROR(VLOOKUP(KT34,MATCHSELEVES!$Y$14:$AE$600,3,FALSE),0)","v":0},{"$f":"IFERROR(VLOOKUP(KT34,MATCHSELEVES!$Y$14:$AE$600,4,FALSE),0)","v":0},{"$f":"IFERROR(VLOOKUP(KT34,MATCHSELEVES!$Y$14:$AE$600,5,FALSE),0)","v":0},{"$f":"IFERROR(VLOOKUP(KT34,MATCHSELEVES!$Y$14:$AF$600,8,FALSE),0)","v":0},{"$f":"IFERROR(VLOOKUP(KT34,MATCHSELEVES!$Y$14:$AG$600,9,FALSE),0)","v":0},"Yahiap_9",{"$f":"IFERROR(VLOOKUP(KZ34,MATCHSELEVES!$Y$14:$AE$600,3,FALSE),0)","v":0},{"$f":"IFERROR(VLOOKUP(KZ34,MATCHSELEVES!$Y$14:$AE$600,4,FALSE),0)","v":0},{"$f":"IFERROR(VLOOKUP(KZ34,MATCHSELEVES!$Y$14:$AE$600,5,FALSE),0)","v":0},{"$f":"IFERROR(VLOOKUP(KZ34,MATCHSELEVES!$Y$14:$AF$600,8,FALSE),0)","v":0},{"$f":"IFERROR(VLOOKUP(KZ34,MATCHSELEVES!$Y$14:$AG$600,9,FALSE),0)","v":0},"Yahiap_10",{"$f":"IFERROR(VLOOKUP(LF34,MATCHSELEVES!$Y$14:$AE$600,3,FALSE),0)","v":0},{"$f":"IFERROR(VLOOKUP(LF34,MATCHSELEVES!$Y$14:$AE$600,4,FALSE),0)","v":0},{"$f":"IFERROR(VLOOKUP(LF34,MATCHSELEVES!$Y$14:$AE$600,5,FALSE),0)","v":0},{"$f":"IFERROR(VLOOKUP(LF34,MATCHSELEVES!$Y$14:$AF$600,8,FALSE),0)","v":0},{"$f":"IFERROR(VLOOKUP(LF34,MATCHSELEVES!$Y$14:$AG$600,9,FALSE),0)","v":0},"Yahiap_11",{"$f":"IFERROR(VLOOKUP(LL34,MATCHSELEVES!$Y$14:$AE$600,3,FALSE),0)","v":0},{"$f":"IFERROR(VLOOKUP(LL34,MATCHSELEVES!$Y$14:$AE$600,4,FALSE),0)","v":0},{"$f":"IFERROR(VLOOKUP(LL34,MATCHSELEVES!$Y$14:$AE$600,5,FALSE),0)","v":0},{"$f":"IFERROR(VLOOKUP(LL34,MATCHSELEVES!$Y$14:$AF$600,8,FALSE),0)","v":0},{"$f":"IFERROR(VLOOKUP(LL34,MATCHSELEVES!$Y$14:$AG$600,9,FALSE),0)","v":0},"Yahiap_12",{"$f":"IFERROR(VLOOKUP(LR34,MATCHSELEVES!$Y$14:$AE$600,3,FALSE),0)","v":0},{"$f":"IFERROR(VLOOKUP(LR34,MATCHSELEVES!$Y$14:$AE$600,4,FALSE),0)","v":0},{"$f":"IFERROR(VLOOKUP(LR34,MATCHSELEVES!$Y$14:$AE$600,5,FALSE),0)","v":0},{"$f":"IFERROR(VLOOKUP(LR34,MATCHSELEVES!$Y$14:$AF$600,8,FALSE),0)","v":0},{"$f":"IFERROR(VLOOKUP(LR34,MATCHSELEVES!$Y$14:$AG$600,9,FALSE),0)","v":0},"Yahiap_13",{"$f":"IFERROR(VLOOKUP(LX34,MATCHSELEVES!$Y$14:$AE$600,3,FALSE),0)","v":0},{"$f":"IFERROR(VLOOKUP(LX34,MATCHSELEVES!$Y$14:$AE$600,4,FALSE),0)","v":0},{"$f":"IFERROR(VLOOKUP(LX34,MATCHSELEVES!$Y$14:$AE$600,5,FALSE),0)","v":0},{"$f":"IFERROR(VLOOKUP(LX34,MATCHSELEVES!$Y$14:$AF$600,8,FALSE),0)","v":0},{"$f":"IFERROR(VLOOKUP(LX34,MATCHSELEVES!$Y$14:$AG$600,9,FALSE),0)","v":0},"Yahiap_14",{"$f":"IFERROR(VLOOKUP(MD34,MATCHSELEVES!$Y$14:$AE$600,3,FALSE),0)","v":0},{"$f":"IFERROR(VLOOKUP(MD34,MATCHSELEVES!$Y$14:$AE$600,4,FALSE),0)","v":0},{"$f":"IFERROR(VLOOKUP(MD34,MATCHSELEVES!$Y$14:$AE$600,5,FALSE),0)","v":0},{"$f":"IFERROR(VLOOKUP(MD34,MATCHSELEVES!$Y$14:$AF$600,8,FALSE),0)","v":0},{"$f":"IFERROR(VLOOKUP(MD34,MATCHSELEVES!$Y$14:$AG$600,9,FALSE),0)","v":0},"Yahiap_15",{"$f":"IFERROR(VLOOKUP(MJ34,MATCHSELEVES!$Y$14:$AE$600,3,FALSE),0)","v":0},{"$f":"IFERROR(VLOOKUP(MJ34,MATCHSELEVES!$Y$14:$AE$600,4,FALSE),0)","v":0},{"$f":"IFERROR(VLOOKUP(MJ34,MATCHSELEVES!$Y$14:$AE$600,5,FALSE),0)","v":0},{"$f":"IFERROR(VLOOKUP(MJ34,MATCHSELEVES!$Y$14:$AF$600,8,FALSE),0)","v":0},{"$f":"IFERROR(VLOOKUP(MJ34,MATCHSELEVES!$Y$14:$AG$600,9,FALSE),0)","v":0},"Yahiap_16",{"$f":"IFERROR(VLOOKUP(MP34,MATCHSELEVES!$Y$14:$AE$600,3,FALSE),0)","v":0},{"$f":"IFERROR(VLOOKUP(MP34,MATCHSELEVES!$Y$14:$AE$600,4,FALSE),0)","v":0},{"$f":"IFERROR(VLOOKUP(MP34,MATCHSELEVES!$Y$14:$AE$600,5,FALSE),0)","v":0},{"$f":"IFERROR(VLOOKUP(MP34,MATCHSELEVES!$Y$14:$AF$600,8,FALSE),0)","v":0},{"$f":"IFERROR(VLOOKUP(MP34,MATCHSELEVES!$Y$14:$AG$600,9,FALSE),0)","v":0},"Yahiap_17",{"$f":"IFERROR(VLOOKUP(MV34,MATCHSELEVES!$Y$14:$AE$600,3,FALSE),0)","v":0},{"$f":"IFERROR(VLOOKUP(MV34,MATCHSELEVES!$Y$14:$AE$600,4,FALSE),0)","v":0},{"$f":"IFERROR(VLOOKUP(MV34,MATCHSELEVES!$Y$14:$AE$600,5,FALSE),0)","v":0},{"$f":"IFERROR(VLOOKUP(MV34,MATCHSELEVES!$Y$14:$AF$600,8,FALSE),0)","v":0},{"$f":"IFERROR(VLOOKUP(MV34,MATCHSELEVES!$Y$14:$AG$600,9,FALSE),0)","v":0},"Yahiap_18",{"$f":"IFERROR(VLOOKUP(NB34,MATCHSELEVES!$Y$14:$AE$600,3,FALSE),0)","v":0},{"$f":"IFERROR(VLOOKUP(NB34,MATCHSELEVES!$Y$14:$AE$600,4,FALSE),0)","v":0},{"$f":"IFERROR(VLOOKUP(NB34,MATCHSELEVES!$Y$14:$AE$600,5,FALSE),0)","v":0},{"$f":"IFERROR(VLOOKUP(NB34,MATCHSELEVES!$Y$14:$AF$600,8,FALSE),0)","v":0},{"$f":"IFERROR(VLOOKUP(NB34,MATCHSELEVES!$Y$14:$AG$600,9,FALSE),0)","v":0},"Yahiap_19",{"$f":"IFERROR(VLOOKUP(NH34,MATCHSELEVES!$Y$14:$AE$600,3,FALSE),0)","v":0},{"$f":"IFERROR(VLOOKUP(NH34,MATCHSELEVES!$Y$14:$AE$600,4,FALSE),0)","v":0},{"$f":"IFERROR(VLOOKUP(NH34,MATCHSELEVES!$Y$14:$AE$600,5,FALSE),0)","v":0},{"$f":"IFERROR(VLOOKUP(NH34,MATCHSELEVES!$Y$14:$AF$600,8,FALSE),0)","v":0},{"$f":"IFERROR(VLOOKUP(NH34,MATCHSELEVES!$Y$14:$AG$600,9,FALSE),0)","v":0},"Yahiap_20",{"$f":"IFERROR(VLOOKUP(NN34,MATCHSELEVES!$Y$14:$AE$600,3,FALSE),0)","v":0},{"$f":"IFERROR(VLOOKUP(NN34,MATCHSELEVES!$Y$14:$AE$600,4,FALSE),0)","v":0},{"$f":"IFERROR(VLOOKUP(NN34,MATCHSELEVES!$Y$14:$AE$600,5,FALSE),0)","v":0},{"$f":"IFERROR(VLOOKUP(NN34,MATCHSELEVES!$Y$14:$AF$600,8,FALSE),0)","v":0},{"$f":"IFERROR(VLOOKUP(NN34,MATCHSELEVES!$Y$14:$AG$600,9,FALSE),0)","v":0},"Yahiap_21",{"$f":"IFERROR(VLOOKUP(NT34,MATCHSELEVES!$Y$14:$AE$600,3,FALSE),0)","v":0},{"$f":"IFERROR(VLOOKUP(NT34,MATCHSELEVES!$Y$14:$AE$600,4,FALSE),0)","v":0},{"$f":"IFERROR(VLOOKUP(NT34,MATCHSELEVES!$Y$14:$AE$600,5,FALSE),0)","v":0},{"$f":"IFERROR(VLOOKUP(NT34,MATCHSELEVES!$Y$14:$AF$600,8,FALSE),0)","v":0},{"$f":"IFERROR(VLOOKUP(NT34,MATCHSELEVES!$Y$14:$AG$600,9,FALSE),0)","v":0},"Yahiap_22",{"$f":"IFERROR(VLOOKUP(NZ34,MATCHSELEVES!$Y$14:$AE$600,3,FALSE),0)","v":0},{"$f":"IFERROR(VLOOKUP(NZ34,MATCHSELEVES!$Y$14:$AE$600,4,FALSE),0)","v":0},{"$f":"IFERROR(VLOOKUP(NZ34,MATCHSELEVES!$Y$14:$AE$600,5,FALSE),0)","v":0},{"$f":"IFERROR(VLOOKUP(NZ34,MATCHSELEVES!$Y$14:$AF$600,8,FALSE),0)","v":0},{"$f":"IFERROR(VLOOKUP(NZ34,MATCHSELEVES!$Y$14:$AG$600,9,FALSE),0)","v":0},"Yahiap_23",{"$f":"IFERROR(VLOOKUP(OF34,MATCHSELEVES!$Y$14:$AE$600,3,FALSE),0)","v":0},{"$f":"IFERROR(VLOOKUP(OF34,MATCHSELEVES!$Y$14:$AE$600,4,FALSE),0)","v":0},{"$f":"IFERROR(VLOOKUP(OF34,MATCHSELEVES!$Y$14:$AE$600,5,FALSE),0)","v":0},{"$f":"IFERROR(VLOOKUP(OF34,MATCHSELEVES!$Y$14:$AF$600,8,FALSE),0)","v":0},{"$f":"IFERROR(VLOOKUP(OF34,MATCHSELEVES!$Y$14:$AG$600,9,FALSE),0)","v":0},"Yahiap_24",{"$f":"IFERROR(VLOOKUP(OL34,MATCHSELEVES!$Y$14:$AE$600,3,FALSE),0)","v":0},{"$f":"IFERROR(VLOOKUP(OL34,MATCHSELEVES!$Y$14:$AE$600,4,FALSE),0)","v":0},{"$f":"IFERROR(VLOOKUP(OL34,MATCHSELEVES!$Y$14:$AE$600,5,FALSE),0)","v":0},{"$f":"IFERROR(VLOOKUP(OL34,MATCHSELEVES!$Y$14:$AF$600,8,FALSE),0)","v":0},{"$f":"IFERROR(VLOOKUP(OL34,MATCHSELEVES!$Y$14:$AG$600,9,FALSE),0)","v":0},"Yahiap_25",{"$f":"IFERROR(VLOOKUP(OR34,MATCHSELEVES!$Y$14:$AE$600,3,FALSE),0)","v":0},{"$f":"IFERROR(VLOOKUP(OR34,MATCHSELEVES!$Y$14:$AE$600,4,FALSE),0)","v":0},{"$f":"IFERROR(VLOOKUP(OR34,MATCHSELEVES!$Y$14:$AE$600,5,FALSE),0)","v":0},{"$f":"IFERROR(VLOOKUP(OR34,MATCHSELEVES!$Y$14:$AF$600,8,FALSE),0)","v":0},{"$f":"IFERROR(VLOOKUP(OR34,MATCHSELEVES!$Y$14:$AG$600,9,FALSE),0)","v":0},"Yahiap_26",{"$f":"IFERROR(VLOOKUP(OX34,MATCHSELEVES!$Y$14:$AE$600,3,FALSE),0)","v":0},{"$f":"IFERROR(VLOOKUP(OX34,MATCHSELEVES!$Y$14:$AE$600,4,FALSE),0)","v":0},{"$f":"IFERROR(VLOOKUP(OX34,MATCHSELEVES!$Y$14:$AE$600,5,FALSE),0)","v":0},{"$f":"IFERROR(VLOOKUP(OX34,MATCHSELEVES!$Y$14:$AF$600,8,FALSE),0)","v":0},{"$f":"IFERROR(VLOOKUP(OX34,MATCHSELEVES!$Y$14:$AG$600,9,FALSE),0)","v":0},"Yahiap_27",{"$f":"IFERROR(VLOOKUP(PD34,MATCHSELEVES!$Y$14:$AE$600,3,FALSE),0)","v":0},{"$f":"IFERROR(VLOOKUP(PD34,MATCHSELEVES!$Y$14:$AE$600,4,FALSE),0)","v":0},{"$f":"IFERROR(VLOOKUP(PD34,MATCHSELEVES!$Y$14:$AE$600,5,FALSE),0)","v":0},{"$f":"IFERROR(VLOOKUP(PD34,MATCHSELEVES!$Y$14:$AF$600,8,FALSE),0)","v":0},{"$f":"IFERROR(VLOOKUP(PD34,MATCHSELEVES!$Y$14:$AG$600,9,FALSE),0)","v":0},"Yahiap_28",{"$f":"IFERROR(VLOOKUP(PJ34,MATCHSELEVES!$Y$14:$AE$600,3,FALSE),0)","v":0},{"$f":"IFERROR(VLOOKUP(PJ34,MATCHSELEVES!$Y$14:$AE$600,4,FALSE),0)","v":0},{"$f":"IFERROR(VLOOKUP(PJ34,MATCHSELEVES!$Y$14:$AE$600,5,FALSE),0)","v":0},{"$f":"IFERROR(VLOOKUP(PJ34,MATCHSELEVES!$Y$14:$AF$600,8,FALSE),0)","v":0},{"$f":"IFERROR(VLOOKUP(PJ34,MATCHSELEVES!$Y$14:$AG$600,9,FALSE),0)","v":0},"Yahiap_29",{"$f":"IFERROR(VLOOKUP(PP34,MATCHSELEVES!$Y$14:$AE$600,3,FALSE),0)","v":0},{"$f":"IFERROR(VLOOKUP(PP34,MATCHSELEVES!$Y$14:$AE$600,4,FALSE),0)","v":0},{"$f":"IFERROR(VLOOKUP(PP34,MATCHSELEVES!$Y$14:$AE$600,5,FALSE),0)","v":0},{"$f":"IFERROR(VLOOKUP(PP34,MATCHSELEVES!$Y$14:$AF$600,8,FALSE),0)","v":0},{"$f":"IFERROR(VLOOKUP(PP34,MATCHSELEVES!$Y$14:$AG$600,9,FALSE),0)","v":0},"Yahiap_30",{"$f":"IFERROR(VLOOKUP(PV34,MATCHSELEVES!$Y$14:$AE$600,3,FALSE),0)","v":0},{"$f":"IFERROR(VLOOKUP(PV34,MATCHSELEVES!$Y$14:$AE$600,4,FALSE),0)","v":0},{"$f":"IFERROR(VLOOKUP(PV34,MATCHSELEVES!$Y$14:$AE$600,5,FALSE),0)","v":0},{"$f":"IFERROR(VLOOKUP(PV34,MATCHSELEVES!$Y$14:$AF$600,8,FALSE),0)","v":0},{"$f":"IFERROR(VLOOKUP(PV34,MATCHSELEVES!$Y$14:$AG$600,9,FALSE),0)","v":0},"Yahiap_31",{"$f":"IFERROR(VLOOKUP(QB34,MATCHSELEVES!$Y$14:$AE$600,3,FALSE),0)","v":0},{"$f":"IFERROR(VLOOKUP(QB34,MATCHSELEVES!$Y$14:$AE$600,4,FALSE),0)","v":0},{"$f":"IFERROR(VLOOKUP(QB34,MATCHSELEVES!$Y$14:$AE$600,5,FALSE),0)","v":0},{"$f":"IFERROR(VLOOKUP(QB34,MATCHSELEVES!$Y$14:$AF$600,8,FALSE),0)","v":0},{"$f":"IFERROR(VLOOKUP(QB34,MATCHSELEVES!$Y$14:$AG$600,9,FALSE),0)","v":0},"Yahiap_32",{"$f":"IFERROR(VLOOKUP(QH34,MATCHSELEVES!$Y$14:$AE$600,3,FALSE),0)","v":0},{"$f":"IFERROR(VLOOKUP(QH34,MATCHSELEVES!$Y$14:$AE$600,4,FALSE),0)","v":0},{"$f":"IFERROR(VLOOKUP(QH34,MATCHSELEVES!$Y$14:$AE$600,5,FALSE),0)","v":0},{"$f":"IFERROR(VLOOKUP(QH34,MATCHSELEVES!$Y$14:$AF$600,8,FALSE),0)","v":0},{"$f":"IFERROR(VLOOKUP(QH34,MATCHSELEVES!$Y$14:$AG$600,9,FALSE),0)","v":0},"Yahiap_33",{"$f":"IFERROR(VLOOKUP(QN34,MATCHSELEVES!$Y$14:$AE$600,3,FALSE),0)","v":0},{"$f":"IFERROR(VLOOKUP(QN34,MATCHSELEVES!$Y$14:$AE$600,4,FALSE),0)","v":0},{"$f":"IFERROR(VLOOKUP(QN34,MATCHSELEVES!$Y$14:$AE$600,5,FALSE),0)","v":0},{"$f":"IFERROR(VLOOKUP(QN34,MATCHSELEVES!$Y$14:$AF$600,8,FALSE),0)","v":0},{"$f":"IFERROR(VLOOKUP(QN34,MATCHSELEVES!$Y$14:$AG$600,9,FALSE),0)","v":0},"Yahiap_34",{"$f":"IFERROR(VLOOKUP(QT34,MATCHSELEVES!$Y$14:$AE$600,3,FALSE),0)","v":0},{"$f":"IFERROR(VLOOKUP(QT34,MATCHSELEVES!$Y$14:$AE$600,4,FALSE),0)","v":0},{"$f":"IFERROR(VLOOKUP(QT34,MATCHSELEVES!$Y$14:$AE$600,5,FALSE),0)","v":0},{"$f":"IFERROR(VLOOKUP(QT34,MATCHSELEVES!$Y$14:$AF$600,8,FALSE),0)","v":0},{"$f":"IFERROR(VLOOKUP(QT34,MATCHSELEVES!$Y$14:$AG$600,9,FALSE),0)","v":0},"Yahiap_35",{"$f":"IFERROR(VLOOKUP(QZ34,MATCHSELEVES!$Y$14:$AE$600,3,FALSE),0)","v":0},{"$f":"IFERROR(VLOOKUP(QZ34,MATCHSELEVES!$Y$14:$AE$600,4,FALSE),0)","v":0},{"$f":"IFERROR(VLOOKUP(QZ34,MATCHSELEVES!$Y$14:$AE$600,5,FALSE),0)","v":0},{"$f":"IFERROR(VLOOKUP(QZ34,MATCHSELEVES!$Y$14:$AF$600,8,FALSE),0)","v":0},{"$f":"IFERROR(VLOOKUP(QZ34,MATCHSELEVES!$Y$14:$AG$600,9,FALSE),0)","v":0},"Yahiap_36",{"$f":"IFERROR(VLOOKUP(RF34,MATCHSELEVES!$Y$14:$AE$600,3,FALSE),0)","v":0},{"$f":"IFERROR(VLOOKUP(RF34,MATCHSELEVES!$Y$14:$AE$600,4,FALSE),0)","v":0},{"$f":"IFERROR(VLOOKUP(RF34,MATCHSELEVES!$Y$14:$AE$600,5,FALSE),0)","v":0},{"$f":"IFERROR(VLOOKUP(RF34,MATCHSELEVES!$Y$14:$AF$600,8,FALSE),0)","v":0},{"$f":"IFERROR(VLOOKUP(RF34,MATCHSELEVES!$Y$14:$AG$600,9,FALSE),0)","v":0},"Yahiap_37",{"$f":"IFERROR(VLOOKUP(RL34,MATCHSELEVES!$Y$14:$AE$600,3,FALSE),0)","v":0},{"$f":"IFERROR(VLOOKUP(RL34,MATCHSELEVES!$Y$14:$AE$600,4,FALSE),0)","v":0},{"$f":"IFERROR(VLOOKUP(RL34,MATCHSELEVES!$Y$14:$AE$600,5,FALSE),0)","v":0},{"$f":"IFERROR(VLOOKUP(RL34,MATCHSELEVES!$Y$14:$AF$600,8,FALSE),0)","v":0},{"$f":"IFERROR(VLOOKUP(RL34,MATCHSELEVES!$Y$14:$AG$600,9,FALSE),0)","v":0},"Yahiap_38",{"$f":"IFERROR(VLOOKUP(RR34,MATCHSELEVES!$Y$14:$AE$600,3,FALSE),0)","v":0},{"$f":"IFERROR(VLOOKUP(RR34,MATCHSELEVES!$Y$14:$AE$600,4,FALSE),0)","v":0},{"$f":"IFERROR(VLOOKUP(RR34,MATCHSELEVES!$Y$14:$AE$600,5,FALSE),0)","v":0},{"$f":"IFERROR(VLOOKUP(RR34,MATCHSELEVES!$Y$14:$AF$600,8,FALSE),0)","v":0},{"$f":"IFERROR(VLOOKUP(RR34,MATCHSELEVES!$Y$14:$AG$600,9,FALSE),0)","v":0},"Yahiap_39",{"$f":"IFERROR(VLOOKUP(RX34,MATCHSELEVES!$Y$14:$AE$600,3,FALSE),0)","v":0},{"$f":"IFERROR(VLOOKUP(RX34,MATCHSELEVES!$Y$14:$AE$600,4,FALSE),0)","v":0},{"$f":"IFERROR(VLOOKUP(RX34,MATCHSELEVES!$Y$14:$AE$600,5,FALSE),0)","v":0},{"$f":"IFERROR(VLOOKUP(RX34,MATCHSELEVES!$Y$14:$AF$600,8,FALSE),0)","v":0},{"$f":"IFERROR(VLOOKUP(RX34,MATCHSELEVES!$Y$14:$AG$600,9,FALSE),0)","v":0},"Yahiap_40",{"$f":"IFERROR(VLOOKUP(SD34,MATCHSELEVES!$Y$14:$AE$600,3,FALSE),0)","v":0},{"$f":"IFERROR(VLOOKUP(SD34,MATCHSELEVES!$Y$14:$AE$600,4,FALSE),0)","v":0},{"$f":"IFERROR(VLOOKUP(SD34,MATCHSELEVES!$Y$14:$AE$600,5,FALSE),0)","v":0},{"$f":"IFERROR(VLOOKUP(SD34,MATCHSELEVES!$Y$14:$AF$600,8,FALSE),0)","v":0},{"$f":"IFERROR(VLOOKUP(SD34,MATCHSELEVES!$Y$14:$AG$600,9,FALSE),0)","v":0}]
[32,null,{"$f":"MD1POINT!C35","v":"Yamine"},{"$f":"MD1POINT!D35","v":1},{"$f":"COUNTIF(MATCHSELEVES!$Z$14:$Z$600,C35)+COUNTIF(MATCHSELEVES!$Z$14:$Z$600,$C35&\"p\")","v":0},1,{"$f":"COUNTIF(MATCHSELEVES!$F$14:$H$249,C35)","v":0},1,0,1,0,1,0,1,{"$f":"Y35+AE35+AK35+AQ35+AW35+BC35+BI35+BO35+BU35+CA35+CG35+CM35+CS35+CY35+DE35+DK35+DQ35+DW35+EC35+EI35+EO35+EU35+FA35+FG35+FM35+FS35+FY35+GE35+GK35+GQ35+GW35+4+HI35+HO35+HU35+IA35+HC35+IG35+IM35+IY35+IS35+JH35+JN35+JZ35+JT35+KF35+KR35+KX35+LJ35+LP35+LV35+LD35+MB35+MH35+MN35+MZ35+MT35+NF35+NL35+NR35+NX35+OD35+OJ35+OP35+OV35+PB35+PH35+PT35+PN35+PZ35+QF35+QL35+QR35+RD35+QX35+RJ35+RP35+RV35+SB35+SH35+KL35+Tableau10[[#This Row],[Nombre de matchs joués]]*2","v":4},1,{"$f":"(Tableau10[[#This Row],[CLASSEMENT1]]+Tableau10[[#This Row],[CLASSEMENT2]]+Tableau10[[#This Row],[CLASSEMENT3]]+Tableau10[[#This Row],[CLASSEMENT4]]+Tableau10[[#This Row],[CLASSEMENT5]]+Tableau10[[#This Row],[CLASSEMENT6]])/6","v":1},{"$f":"RANK(Tableau10[[#This Row],[MOYENNE CLASSEMENTS]],Tableau10[MOYENNE CLASSEMENTS],1)","v":1},null,{"$f":"Tableau10[[#This Row],[CLASSEMENT1]]","v":1},"Yamine_1",{"$f":"IFERROR(VLOOKUP(U35,MATCHSELEVES!$Y$14:$AE$600,3,FALSE),0)","v":0},{"$f":"IFERROR(VLOOKUP(U35,MATCHSELEVES!$Y$14:$AE$600,4,FALSE),0)","v":0},{"$f":"IFERROR(VLOOKUP(U35,MATCHSELEVES!$Y$14:$AE$600,5,FALSE),0)","v":0},{"$f":"IFERROR(VLOOKUP(U35,MATCHSELEVES!$Y$14:$AF$600,8,FALSE),0)","v":0},{"$f":"IFERROR(VLOOKUP(U35,MATCHSELEVES!$Y$14:$AG$600,9,FALSE),0)","v":0},"Yamine_2",{"$f":"IFERROR(VLOOKUP(AA35,MATCHSELEVES!$Y$14:$AE$600,3,FALSE),0)","v":0},{"$f":"IFERROR(VLOOKUP(AA35,MATCHSELEVES!$Y$14:$AE$600,4,FALSE),0)","v":0},{"$f":"IFERROR(VLOOKUP(AA35,MATCHSELEVES!$Y$14:$AE$600,5,FALSE),0)","v":0},{"$f":"IFERROR(VLOOKUP(AA35,MATCHSELEVES!$Y$14:$AF$600,8,FALSE),0)","v":0},{"$f":"IFERROR(VLOOKUP(AA35,MATCHSELEVES!$Y$14:$AG$600,9,FALSE),0)","v":0},"Yamine_3",{"$f":"IFERROR(VLOOKUP(AG35,MATCHSELEVES!$Y$14:$AE$600,3,FALSE),0)","v":0},{"$f":"IFERROR(VLOOKUP(AG35,MATCHSELEVES!$Y$14:$AE$600,4,FALSE),0)","v":0},{"$f":"IFERROR(VLOOKUP(AG35,MATCHSELEVES!$Y$14:$AE$600,5,FALSE),0)","v":0},{"$f":"IFERROR(VLOOKUP(AG35,MATCHSELEVES!$Y$14:$AF$600,8,FALSE),0)","v":0},{"$f":"IFERROR(VLOOKUP(AG35,MATCHSELEVES!$Y$14:$AG$600,9,FALSE),0)","v":0},"Yamine_4",{"$f":"IFERROR(VLOOKUP(AM35,MATCHSELEVES!$Y$14:$AE$600,3,FALSE),0)","v":0},{"$f":"IFERROR(VLOOKUP(AM35,MATCHSELEVES!$Y$14:$AE$600,4,FALSE),0)","v":0},{"$f":"IFERROR(VLOOKUP(AM35,MATCHSELEVES!$Y$14:$AE$600,5,FALSE),0)","v":0},{"$f":"IFERROR(VLOOKUP(AM35,MATCHSELEVES!$Y$14:$AF$600,8,FALSE),0)","v":0},{"$f":"IFERROR(VLOOKUP(AM35,MATCHSELEVES!$Y$14:$AG$600,9,FALSE),0)","v":0},"Yamine_5",{"$f":"IFERROR(VLOOKUP(AS35,MATCHSELEVES!$Y$14:$AE$600,3,FALSE),0)","v":0},{"$f":"IFERROR(VLOOKUP(AS35,MATCHSELEVES!$Y$14:$AE$600,4,FALSE),0)","v":0},{"$f":"IFERROR(VLOOKUP(AS35,MATCHSELEVES!$Y$14:$AE$600,5,FALSE),0)","v":0},{"$f":"IFERROR(VLOOKUP(AS35,MATCHSELEVES!$Y$14:$AF$600,8,FALSE),0)","v":0},{"$f":"IFERROR(VLOOKUP(AS35,MATCHSELEVES!$Y$14:$AG$600,9,FALSE),0)","v":0},"Yamine_6",{"$f":"IFERROR(VLOOKUP(AY35,MATCHSELEVES!$Y$14:$AE$600,3,FALSE),0)","v":0},{"$f":"IFERROR(VLOOKUP(AY35,MATCHSELEVES!$Y$14:$AE$600,4,FALSE),0)","v":0},{"$f":"IFERROR(VLOOKUP(AY35,MATCHSELEVES!$Y$14:$AE$600,5,FALSE),0)","v":0},{"$f":"IFERROR(VLOOKUP(AY35,MATCHSELEVES!$Y$14:$AF$600,8,FALSE),0)","v":0},{"$f":"IFERROR(VLOOKUP(AY35,MATCHSELEVES!$Y$14:$AG$600,9,FALSE),0)","v":0},"Yamine_7",{"$f":"IFERROR(VLOOKUP(BE35,MATCHSELEVES!$Y$14:$AE$600,3,FALSE),0)","v":0},{"$f":"IFERROR(VLOOKUP(BE35,MATCHSELEVES!$Y$14:$AE$600,4,FALSE),0)","v":0},{"$f":"IFERROR(VLOOKUP(BE35,MATCHSELEVES!$Y$14:$AE$600,5,FALSE),0)","v":0},{"$f":"IFERROR(VLOOKUP(BE35,MATCHSELEVES!$Y$14:$AF$600,8,FALSE),0)","v":0},{"$f":"IFERROR(VLOOKUP(BE35,MATCHSELEVES!$Y$14:$AG$600,9,FALSE),0)","v":0},"Yamine_8",{"$f":"IFERROR(VLOOKUP(BK35,MATCHSELEVES!$Y$14:$AE$600,3,FALSE),0)","v":0},{"$f":"IFERROR(VLOOKUP(BK35,MATCHSELEVES!$Y$14:$AE$600,4,FALSE),0)","v":0},{"$f":"IFERROR(VLOOKUP(BK35,MATCHSELEVES!$Y$14:$AE$600,5,FALSE),0)","v":0},{"$f":"IFERROR(VLOOKUP(BK35,MATCHSELEVES!$Y$14:$AF$600,8,FALSE),0)","v":0},{"$f":"IFERROR(VLOOKUP(BK35,MATCHSELEVES!$Y$14:$AG$600,9,FALSE),0)","v":0},"Yamine_9",{"$f":"IFERROR(VLOOKUP(BQ35,MATCHSELEVES!$Y$14:$AE$600,3,FALSE),0)","v":0},{"$f":"IFERROR(VLOOKUP(BQ35,MATCHSELEVES!$Y$14:$AE$600,4,FALSE),0)","v":0},{"$f":"IFERROR(VLOOKUP(BQ35,MATCHSELEVES!$Y$14:$AE$600,5,FALSE),0)","v":0},{"$f":"IFERROR(VLOOKUP(BQ35,MATCHSELEVES!$Y$14:$AF$600,8,FALSE),0)","v":0},{"$f":"IFERROR(VLOOKUP(BQ35,MATCHSELEVES!$Y$14:$AG$600,9,FALSE),0)","v":0},"Yamine_10",{"$f":"IFERROR(VLOOKUP(BW35,MATCHSELEVES!$Y$14:$AE$600,3,FALSE),0)","v":0},{"$f":"IFERROR(VLOOKUP(BW35,MATCHSELEVES!$Y$14:$AE$600,4,FALSE),0)","v":0},{"$f":"IFERROR(VLOOKUP(BW35,MATCHSELEVES!$Y$14:$AE$600,5,FALSE),0)","v":0},{"$f":"IFERROR(VLOOKUP(BW35,MATCHSELEVES!$Y$14:$AF$600,8,FALSE),0)","v":0},{"$f":"IFERROR(VLOOKUP(BW35,MATCHSELEVES!$Y$14:$AG$600,9,FALSE),0)","v":0},"Yamine_11",{"$f":"IFERROR(VLOOKUP(CC35,MATCHSELEVES!$Y$14:$AE$600,3,FALSE),0)","v":0},{"$f":"IFERROR(VLOOKUP(CC35,MATCHSELEVES!$Y$14:$AE$600,4,FALSE),0)","v":0},{"$f":"IFERROR(VLOOKUP(CC35,MATCHSELEVES!$Y$14:$AE$600,5,FALSE),0)","v":0},{"$f":"IFERROR(VLOOKUP(CC35,MATCHSELEVES!$Y$14:$AF$600,8,FALSE),0)","v":0},{"$f":"IFERROR(VLOOKUP(CC35,MATCHSELEVES!$Y$14:$AG$600,9,FALSE),0)","v":0},"Yamine_12",{"$f":"IFERROR(VLOOKUP(CI35,MATCHSELEVES!$Y$14:$AE$600,3,FALSE),0)","v":0},{"$f":"IFERROR(VLOOKUP(CI35,MATCHSELEVES!$Y$14:$AE$600,4,FALSE),0)","v":0},{"$f":"IFERROR(VLOOKUP(CI35,MATCHSELEVES!$Y$14:$AE$600,5,FALSE),0)","v":0},{"$f":"IFERROR(VLOOKUP(CI35,MATCHSELEVES!$Y$14:$AF$600,8,FALSE),0)","v":0},{"$f":"IFERROR(VLOOKUP(CI35,MATCHSELEVES!$Y$14:$AG$600,9,FALSE),0)","v":0},"Yamine_13",{"$f":"IFERROR(VLOOKUP(CO35,MATCHSELEVES!$Y$14:$AE$600,3,FALSE),0)","v":0},{"$f":"IFERROR(VLOOKUP(CO35,MATCHSELEVES!$Y$14:$AE$600,4,FALSE),0)","v":0},{"$f":"IFERROR(VLOOKUP(CO35,MATCHSELEVES!$Y$14:$AE$600,5,FALSE),0)","v":0},{"$f":"IFERROR(VLOOKUP(CO35,MATCHSELEVES!$Y$14:$AF$600,8,FALSE),0)","v":0},{"$f":"IFERROR(VLOOKUP(CO35,MATCHSELEVES!$Y$14:$AG$600,9,FALSE),0)","v":0},"Yamine_14",{"$f":"IFERROR(VLOOKUP(CU35,MATCHSELEVES!$Y$14:$AE$600,3,FALSE),0)","v":0},{"$f":"IFERROR(VLOOKUP(CU35,MATCHSELEVES!$Y$14:$AE$600,4,FALSE),0)","v":0},{"$f":"IFERROR(VLOOKUP(CU35,MATCHSELEVES!$Y$14:$AE$600,5,FALSE),0)","v":0},{"$f":"IFERROR(VLOOKUP(CU35,MATCHSELEVES!$Y$14:$AF$600,8,FALSE),0)","v":0},{"$f":"IFERROR(VLOOKUP(CU35,MATCHSELEVES!$Y$14:$AG$600,9,FALSE),0)","v":0},"Yamine_15",{"$f":"IFERROR(VLOOKUP(DA35,MATCHSELEVES!$Y$14:$AE$600,3,FALSE),0)","v":0},{"$f":"IFERROR(VLOOKUP(DA35,MATCHSELEVES!$Y$14:$AE$600,4,FALSE),0)","v":0},{"$f":"IFERROR(VLOOKUP(DA35,MATCHSELEVES!$Y$14:$AE$600,5,FALSE),0)","v":0},{"$f":"IFERROR(VLOOKUP(DA35,MATCHSELEVES!$Y$14:$AF$600,8,FALSE),0)","v":0},{"$f":"IFERROR(VLOOKUP(DA35,MATCHSELEVES!$Y$14:$AG$600,9,FALSE),0)","v":0},"Yamine_16",{"$f":"IFERROR(VLOOKUP(DG35,MATCHSELEVES!$Y$14:$AE$600,3,FALSE),0)","v":0},{"$f":"IFERROR(VLOOKUP(DG35,MATCHSELEVES!$Y$14:$AE$600,4,FALSE),0)","v":0},{"$f":"IFERROR(VLOOKUP(DG35,MATCHSELEVES!$Y$14:$AE$600,5,FALSE),0)","v":0},{"$f":"IFERROR(VLOOKUP(DG35,MATCHSELEVES!$Y$14:$AF$600,8,FALSE),0)","v":0},{"$f":"IFERROR(VLOOKUP(DG35,MATCHSELEVES!$Y$14:$AG$600,9,FALSE),0)","v":0},"Yamine_17",{"$f":"IFERROR(VLOOKUP(DM35,MATCHSELEVES!$Y$14:$AE$600,3,FALSE),0)","v":0},{"$f":"IFERROR(VLOOKUP(DM35,MATCHSELEVES!$Y$14:$AE$600,4,FALSE),0)","v":0},{"$f":"IFERROR(VLOOKUP(DM35,MATCHSELEVES!$Y$14:$AE$600,5,FALSE),0)","v":0},{"$f":"IFERROR(VLOOKUP(DM35,MATCHSELEVES!$Y$14:$AF$600,8,FALSE),0)","v":0},{"$f":"IFERROR(VLOOKUP(DM35,MATCHSELEVES!$Y$14:$AG$600,9,FALSE),0)","v":0},"Yamine_18",{"$f":"IFERROR(VLOOKUP(DS35,MATCHSELEVES!$Y$14:$AE$600,3,FALSE),0)","v":0},{"$f":"IFERROR(VLOOKUP(DS35,MATCHSELEVES!$Y$14:$AE$600,4,FALSE),0)","v":0},{"$f":"IFERROR(VLOOKUP(DS35,MATCHSELEVES!$Y$14:$AE$600,5,FALSE),0)","v":0},{"$f":"IFERROR(VLOOKUP(DS35,MATCHSELEVES!$Y$14:$AF$600,8,FALSE),0)","v":0},{"$f":"IFERROR(VLOOKUP(DS35,MATCHSELEVES!$Y$14:$AG$600,9,FALSE),0)","v":0},"Yamine_19",{"$f":"IFERROR(VLOOKUP(DY35,MATCHSELEVES!$Y$14:$AE$600,3,FALSE),0)","v":0},{"$f":"IFERROR(VLOOKUP(DY35,MATCHSELEVES!$Y$14:$AE$600,4,FALSE),0)","v":0},{"$f":"IFERROR(VLOOKUP(DY35,MATCHSELEVES!$Y$14:$AE$600,5,FALSE),0)","v":0},{"$f":"IFERROR(VLOOKUP(DY35,MATCHSELEVES!$Y$14:$AF$600,8,FALSE),0)","v":0},{"$f":"IFERROR(VLOOKUP(DY35,MATCHSELEVES!$Y$14:$AG$600,9,FALSE),0)","v":0},"Yamine_20",{"$f":"IFERROR(VLOOKUP(EE35,MATCHSELEVES!$Y$14:$AE$600,3,FALSE),0)","v":0},{"$f":"IFERROR(VLOOKUP(EE35,MATCHSELEVES!$Y$14:$AE$600,4,FALSE),0)","v":0},{"$f":"IFERROR(VLOOKUP(EE35,MATCHSELEVES!$Y$14:$AE$600,5,FALSE),0)","v":0},{"$f":"IFERROR(VLOOKUP(EE35,MATCHSELEVES!$Y$14:$AF$600,8,FALSE),0)","v":0},{"$f":"IFERROR(VLOOKUP(EE35,MATCHSELEVES!$Y$14:$AG$600,9,FALSE),0)","v":0},"Yamine_21",{"$f":"IFERROR(VLOOKUP(EK35,MATCHSELEVES!$Y$14:$AE$600,3,FALSE),0)","v":0},{"$f":"IFERROR(VLOOKUP(EK35,MATCHSELEVES!$Y$14:$AE$600,4,FALSE),0)","v":0},{"$f":"IFERROR(VLOOKUP(EK35,MATCHSELEVES!$Y$14:$AE$600,5,FALSE),0)","v":0},{"$f":"IFERROR(VLOOKUP(EK35,MATCHSELEVES!$Y$14:$AF$600,8,FALSE),0)","v":0},{"$f":"IFERROR(VLOOKUP(EK35,MATCHSELEVES!$Y$14:$AG$600,9,FALSE),0)","v":0},"Yamine_22",{"$f":"IFERROR(VLOOKUP(EQ35,MATCHSELEVES!$Y$14:$AE$600,3,FALSE),0)","v":0},{"$f":"IFERROR(VLOOKUP(EQ35,MATCHSELEVES!$Y$14:$AE$600,4,FALSE),0)","v":0},{"$f":"IFERROR(VLOOKUP(EQ35,MATCHSELEVES!$Y$14:$AE$600,5,FALSE),0)","v":0},{"$f":"IFERROR(VLOOKUP(EQ35,MATCHSELEVES!$Y$14:$AF$600,8,FALSE),0)","v":0},{"$f":"IFERROR(VLOOKUP(EQ35,MATCHSELEVES!$Y$14:$AG$600,9,FALSE),0)","v":0},"Yamine_23",{"$f":"IFERROR(VLOOKUP(EW35,MATCHSELEVES!$Y$14:$AE$600,3,FALSE),0)","v":0},{"$f":"IFERROR(VLOOKUP(EW35,MATCHSELEVES!$Y$14:$AE$600,4,FALSE),0)","v":0},{"$f":"IFERROR(VLOOKUP(EW35,MATCHSELEVES!$Y$14:$AE$600,5,FALSE),0)","v":0},{"$f":"IFERROR(VLOOKUP(EW35,MATCHSELEVES!$Y$14:$AF$600,8,FALSE),0)","v":0},{"$f":"IFERROR(VLOOKUP(EW35,MATCHSELEVES!$Y$14:$AG$600,9,FALSE),0)","v":0},"Yamine_24",{"$f":"IFERROR(VLOOKUP(FC35,MATCHSELEVES!$Y$14:$AE$600,3,FALSE),0)","v":0},{"$f":"IFERROR(VLOOKUP(FC35,MATCHSELEVES!$Y$14:$AE$600,4,FALSE),0)","v":0},{"$f":"IFERROR(VLOOKUP(FC35,MATCHSELEVES!$Y$14:$AE$600,5,FALSE),0)","v":0},{"$f":"IFERROR(VLOOKUP(FC35,MATCHSELEVES!$Y$14:$AF$600,8,FALSE),0)","v":0},{"$f":"IFERROR(VLOOKUP(FC35,MATCHSELEVES!$Y$14:$AG$600,9,FALSE),0)","v":0},"Yamine_25",{"$f":"IFERROR(VLOOKUP(FI35,MATCHSELEVES!$Y$14:$AE$600,3,FALSE),0)","v":0},{"$f":"IFERROR(VLOOKUP(FI35,MATCHSELEVES!$Y$14:$AE$600,4,FALSE),0)","v":0},{"$f":"IFERROR(VLOOKUP(FI35,MATCHSELEVES!$Y$14:$AE$600,5,FALSE),0)","v":0},{"$f":"IFERROR(VLOOKUP(FI35,MATCHSELEVES!$Y$14:$AF$600,8,FALSE),0)","v":0},{"$f":"IFERROR(VLOOKUP(FI35,MATCHSELEVES!$Y$14:$AG$600,9,FALSE),0)","v":0},"Yamine_26",{"$f":"IFERROR(VLOOKUP(FO35,MATCHSELEVES!$Y$14:$AE$600,3,FALSE),0)","v":0},{"$f":"IFERROR(VLOOKUP(FO35,MATCHSELEVES!$Y$14:$AE$600,4,FALSE),0)","v":0},{"$f":"IFERROR(VLOOKUP(FO35,MATCHSELEVES!$Y$14:$AE$600,5,FALSE),0)","v":0},{"$f":"IFERROR(VLOOKUP(FO35,MATCHSELEVES!$Y$14:$AF$600,8,FALSE),0)","v":0},{"$f":"IFERROR(VLOOKUP(FO35,MATCHSELEVES!$Y$14:$AG$600,9,FALSE),0)","v":0},"Yamine_27",{"$f":"IFERROR(VLOOKUP(FU35,MATCHSELEVES!$Y$14:$AE$600,3,FALSE),0)","v":0},{"$f":"IFERROR(VLOOKUP(FU35,MATCHSELEVES!$Y$14:$AE$600,4,FALSE),0)","v":0},{"$f":"IFERROR(VLOOKUP(FU35,MATCHSELEVES!$Y$14:$AE$600,5,FALSE),0)","v":0},{"$f":"IFERROR(VLOOKUP(FU35,MATCHSELEVES!$Y$14:$AF$600,8,FALSE),0)","v":0},{"$f":"IFERROR(VLOOKUP(FU35,MATCHSELEVES!$Y$14:$AG$600,9,FALSE),0)","v":0},"Yamine_28",{"$f":"IFERROR(VLOOKUP(GA35,MATCHSELEVES!$Y$14:$AE$600,3,FALSE),0)","v":0},{"$f":"IFERROR(VLOOKUP(GA35,MATCHSELEVES!$Y$14:$AE$600,4,FALSE),0)","v":0},{"$f":"IFERROR(VLOOKUP(GA35,MATCHSELEVES!$Y$14:$AE$600,5,FALSE),0)","v":0},{"$f":"IFERROR(VLOOKUP(GA35,MATCHSELEVES!$Y$14:$AF$600,8,FALSE),0)","v":0},{"$f":"IFERROR(VLOOKUP(GA35,MATCHSELEVES!$Y$14:$AG$600,9,FALSE),0)","v":0},"Yamine_29",{"$f":"IFERROR(VLOOKUP(GG35,MATCHSELEVES!$Y$14:$AE$600,3,FALSE),0)","v":0},{"$f":"IFERROR(VLOOKUP(GG35,MATCHSELEVES!$Y$14:$AE$600,4,FALSE),0)","v":0},{"$f":"IFERROR(VLOOKUP(GG35,MATCHSELEVES!$Y$14:$AE$600,5,FALSE),0)","v":0},{"$f":"IFERROR(VLOOKUP(GG35,MATCHSELEVES!$Y$14:$AF$600,8,FALSE),0)","v":0},{"$f":"IFERROR(VLOOKUP(GG35,MATCHSELEVES!$Y$14:$AG$600,9,FALSE),0)","v":0},"Yamine_30",{"$f":"IFERROR(VLOOKUP(GM35,MATCHSELEVES!$Y$14:$AE$600,3,FALSE),0)","v":0},{"$f":"IFERROR(VLOOKUP(GM35,MATCHSELEVES!$Y$14:$AE$600,4,FALSE),0)","v":0},{"$f":"IFERROR(VLOOKUP(GM35,MATCHSELEVES!$Y$14:$AE$600,5,FALSE),0)","v":0},{"$f":"IFERROR(VLOOKUP(GM35,MATCHSELEVES!$Y$14:$AF$600,8,FALSE),0)","v":0},{"$f":"IFERROR(VLOOKUP(GM35,MATCHSELEVES!$Y$14:$AG$600,9,FALSE),0)","v":0},"Yamine_31",{"$f":"IFERROR(VLOOKUP(GS35,MATCHSELEVES!$Y$14:$AE$600,3,FALSE),0)","v":0},{"$f":"IFERROR(VLOOKUP(GS35,MATCHSELEVES!$Y$14:$AE$600,4,FALSE),0)","v":0},{"$f":"IFERROR(VLOOKUP(GS35,MATCHSELEVES!$Y$14:$AE$600,5,FALSE),0)","v":0},{"$f":"IFERROR(VLOOKUP(GS35,MATCHSELEVES!$Y$14:$AF$600,8,FALSE),0)","v":0},{"$f":"IFERROR(VLOOKUP(GS35,MATCHSELEVES!$Y$14:$AG$600,9,FALSE),0)","v":0},"Yamine_32",{"$f":"IFERROR(VLOOKUP(GY35,MATCHSELEVES!$Y$14:$AE$600,3,FALSE),0)","v":0},{"$f":"IFERROR(VLOOKUP(GY35,MATCHSELEVES!$Y$14:$AE$600,4,FALSE),0)","v":0},{"$f":"IFERROR(VLOOKUP(GY35,MATCHSELEVES!$Y$14:$AE$600,5,FALSE),0)","v":0},{"$f":"IFERROR(VLOOKUP(GY35,MATCHSELEVES!$Y$14:$AF$600,8,FALSE),0)","v":0},{"$f":"IFERROR(VLOOKUP(GY35,MATCHSELEVES!$Y$14:$AG$600,9,FALSE),0)","v":0},"Yamine_33",{"$f":"IFERROR(VLOOKUP(HE35,MATCHSELEVES!$Y$14:$AE$600,3,FALSE),0)","v":0},{"$f":"IFERROR(VLOOKUP(HE35,MATCHSELEVES!$Y$14:$AE$600,4,FALSE),0)","v":0},{"$f":"IFERROR(VLOOKUP(HE35,MATCHSELEVES!$Y$14:$AE$600,5,FALSE),0)","v":0},{"$f":"IFERROR(VLOOKUP(HE35,MATCHSELEVES!$Y$14:$AF$600,8,FALSE),0)","v":0},{"$f":"IFERROR(VLOOKUP(HE35,MATCHSELEVES!$Y$14:$AG$600,9,FALSE),0)","v":0},"Yamine_34",{"$f":"IFERROR(VLOOKUP(HK35,MATCHSELEVES!$Y$14:$AE$600,3,FALSE),0)","v":0},{"$f":"IFERROR(VLOOKUP(HK35,MATCHSELEVES!$Y$14:$AE$600,4,FALSE),0)","v":0},{"$f":"IFERROR(VLOOKUP(HK35,MATCHSELEVES!$Y$14:$AE$600,5,FALSE),0)","v":0},{"$f":"IFERROR(VLOOKUP(HK35,MATCHSELEVES!$Y$14:$AF$600,8,FALSE),0)","v":0},{"$f":"IFERROR(VLOOKUP(HK35,MATCHSELEVES!$Y$14:$AG$600,9,FALSE),0)","v":0},"Yamine_35",{"$f":"IFERROR(VLOOKUP(HQ35,MATCHSELEVES!$Y$14:$AE$600,3,FALSE),0)","v":0},{"$f":"IFERROR(VLOOKUP(HQ35,MATCHSELEVES!$Y$14:$AE$600,4,FALSE),0)","v":0},{"$f":"IFERROR(VLOOKUP(HQ35,MATCHSELEVES!$Y$14:$AE$600,5,FALSE),0)","v":0},{"$f":"IFERROR(VLOOKUP(HQ35,MATCHSELEVES!$Y$14:$AF$600,8,FALSE),0)","v":0},{"$f":"IFERROR(VLOOKUP(HQ35,MATCHSELEVES!$Y$14:$AG$600,9,FALSE),0)","v":0},"Yamine_36",{"$f":"IFERROR(VLOOKUP(HW35,MATCHSELEVES!$Y$14:$AE$600,3,FALSE),0)","v":0},{"$f":"IFERROR(VLOOKUP(HW35,MATCHSELEVES!$Y$14:$AE$600,4,FALSE),0)","v":0},{"$f":"IFERROR(VLOOKUP(HW35,MATCHSELEVES!$Y$14:$AE$600,5,FALSE),0)","v":0},{"$f":"IFERROR(VLOOKUP(HW35,MATCHSELEVES!$Y$14:$AF$600,8,FALSE),0)","v":0},{"$f":"IFERROR(VLOOKUP(HW35,MATCHSELEVES!$Y$14:$AG$600,9,FALSE),0)","v":0},"Yamine_37",{"$f":"IFERROR(VLOOKUP(IC35,MATCHSELEVES!$Y$14:$AE$600,3,FALSE),0)","v":0},{"$f":"IFERROR(VLOOKUP(IC35,MATCHSELEVES!$Y$14:$AE$600,4,FALSE),0)","v":0},{"$f":"IFERROR(VLOOKUP(IC35,MATCHSELEVES!$Y$14:$AE$600,5,FALSE),0)","v":0},{"$f":"IFERROR(VLOOKUP(IC35,MATCHSELEVES!$Y$14:$AF$600,8,FALSE),0)","v":0},{"$f":"IFERROR(VLOOKUP(IC35,MATCHSELEVES!$Y$14:$AG$600,9,FALSE),0)","v":0},"Yamine_38",{"$f":"IFERROR(VLOOKUP(II35,MATCHSELEVES!$Y$14:$AE$600,3,FALSE),0)","v":0},{"$f":"IFERROR(VLOOKUP(II35,MATCHSELEVES!$Y$14:$AE$600,4,FALSE),0)","v":0},{"$f":"IFERROR(VLOOKUP(II35,MATCHSELEVES!$Y$14:$AE$600,5,FALSE),0)","v":0},{"$f":"IFERROR(VLOOKUP(II35,MATCHSELEVES!$Y$14:$AF$600,8,FALSE),0)","v":0},{"$f":"IFERROR(VLOOKUP(II35,MATCHSELEVES!$Y$14:$AG$600,9,FALSE),0)","v":0},"Yamine_39",{"$f":"IFERROR(VLOOKUP(IO35,MATCHSELEVES!$Y$14:$AE$600,3,FALSE),0)","v":0},{"$f":"IFERROR(VLOOKUP(IO35,MATCHSELEVES!$Y$14:$AE$600,4,FALSE),0)","v":0},{"$f":"IFERROR(VLOOKUP(IO35,MATCHSELEVES!$Y$14:$AE$600,5,FALSE),0)","v":0},{"$f":"IFERROR(VLOOKUP(IO35,MATCHSELEVES!$Y$14:$AF$600,8,FALSE),0)","v":0},{"$f":"IFERROR(VLOOKUP(IO35,MATCHSELEVES!$Y$14:$AG$600,9,FALSE),0)","v":0},"Yamine_40",{"$f":"IFERROR(VLOOKUP(IU35,MATCHSELEVES!$Y$14:$AE$600,3,FALSE),0)","v":0},{"$f":"IFERROR(VLOOKUP(IU35,MATCHSELEVES!$Y$14:$AE$600,4,FALSE),0)","v":0},{"$f":"IFERROR(VLOOKUP(IU35,MATCHSELEVES!$Y$14:$AE$600,5,FALSE),0)","v":0},{"$f":"IFERROR(VLOOKUP(IU35,MATCHSELEVES!$Y$14:$AF$600,8,FALSE),0)","v":0},{"$f":"IFERROR(VLOOKUP(IU35,MATCHSELEVES!$Y$14:$AG$600,9,FALSE),0)","v":0},{"$f":"Tableau10[[#This Row],[CLASSE]]","v":"Yamine"},1,{"$f":"MD1POINT!D35","v":1},"Yaminep_1",{"$f":"IFERROR(VLOOKUP(JD35,MATCHSELEVES!$Y$14:$AE$600,3,FALSE),0)","v":0},{"$f":"IFERROR(VLOOKUP(JD35,MATCHSELEVES!$Y$14:$AE$600,4,FALSE),0)","v":0},{"$f":"IFERROR(VLOOKUP(JD35,MATCHSELEVES!$Y$14:$AE$600,5,FALSE),0)","v":0},{"$f":"IFERROR(VLOOKUP(JD35,MATCHSELEVES!$Y$14:$AF$600,8,FALSE),0)","v":0},{"$f":"IFERROR(VLOOKUP(JD35,MATCHSELEVES!$Y$14:$AG$600,9,FALSE),0)","v":0},"Yaminep_2",{"$f":"IFERROR(VLOOKUP(JJ35,MATCHSELEVES!$Y$14:$AE$600,3,FALSE),0)","v":0},{"$f":"IFERROR(VLOOKUP(JJ35,MATCHSELEVES!$Y$14:$AE$600,4,FALSE),0)","v":0},{"$f":"IFERROR(VLOOKUP(JJ35,MATCHSELEVES!$Y$14:$AE$600,5,FALSE),0)","v":0},{"$f":"IFERROR(VLOOKUP(JJ35,MATCHSELEVES!$Y$14:$AF$600,8,FALSE),0)","v":0},{"$f":"IFERROR(VLOOKUP(JJ35,MATCHSELEVES!$Y$14:$AG$600,9,FALSE),0)","v":0},"Yaminep_3",{"$f":"IFERROR(VLOOKUP(JP35,MATCHSELEVES!$Y$14:$AE$600,3,FALSE),0)","v":0},{"$f":"IFERROR(VLOOKUP(JP35,MATCHSELEVES!$Y$14:$AE$600,4,FALSE),0)","v":0},{"$f":"IFERROR(VLOOKUP(JP35,MATCHSELEVES!$Y$14:$AE$600,5,FALSE),0)","v":0},{"$f":"IFERROR(VLOOKUP(JP35,MATCHSELEVES!$Y$14:$AF$600,8,FALSE),0)","v":0},{"$f":"IFERROR(VLOOKUP(JP35,MATCHSELEVES!$Y$14:$AG$600,9,FALSE),0)","v":0},"Yaminep_4",{"$f":"IFERROR(VLOOKUP(JV35,MATCHSELEVES!$Y$14:$AE$600,3,FALSE),0)","v":0},{"$f":"IFERROR(VLOOKUP(JV35,MATCHSELEVES!$Y$14:$AE$600,4,FALSE),0)","v":0},{"$f":"IFERROR(VLOOKUP(JV35,MATCHSELEVES!$Y$14:$AE$600,5,FALSE),0)","v":0},{"$f":"IFERROR(VLOOKUP(JV35,MATCHSELEVES!$Y$14:$AF$600,8,FALSE),0)","v":0},{"$f":"IFERROR(VLOOKUP(JV35,MATCHSELEVES!$Y$14:$AG$600,9,FALSE),0)","v":0},"Yaminep_5",{"$f":"IFERROR(VLOOKUP(KB35,MATCHSELEVES!$Y$14:$AE$600,3,FALSE),0)","v":0},{"$f":"IFERROR(VLOOKUP(KB35,MATCHSELEVES!$Y$14:$AE$600,4,FALSE),0)","v":0},{"$f":"IFERROR(VLOOKUP(KB35,MATCHSELEVES!$Y$14:$AE$600,5,FALSE),0)","v":0},{"$f":"IFERROR(VLOOKUP(KB35,MATCHSELEVES!$Y$14:$AF$600,8,FALSE),0)","v":0},{"$f":"IFERROR(VLOOKUP(KB35,MATCHSELEVES!$Y$14:$AG$600,9,FALSE),0)","v":0},"Yaminep_6",{"$f":"IFERROR(VLOOKUP(KH35,MATCHSELEVES!$Y$14:$AE$600,3,FALSE),0)","v":0},{"$f":"IFERROR(VLOOKUP(KH35,MATCHSELEVES!$Y$14:$AE$600,4,FALSE),0)","v":0},{"$f":"IFERROR(VLOOKUP(KH35,MATCHSELEVES!$Y$14:$AE$600,5,FALSE),0)","v":0},{"$f":"IFERROR(VLOOKUP(KH35,MATCHSELEVES!$Y$14:$AF$600,8,FALSE),0)","v":0},{"$f":"IFERROR(VLOOKUP(KH35,MATCHSELEVES!$Y$14:$AG$600,9,FALSE),0)","v":0},"Yaminep_7",{"$f":"IFERROR(VLOOKUP(KN35,MATCHSELEVES!$Y$14:$AE$600,3,FALSE),0)","v":0},{"$f":"IFERROR(VLOOKUP(KN35,MATCHSELEVES!$Y$14:$AE$600,4,FALSE),0)","v":0},{"$f":"IFERROR(VLOOKUP(KN35,MATCHSELEVES!$Y$14:$AE$600,5,FALSE),0)","v":0},{"$f":"IFERROR(VLOOKUP(KN35,MATCHSELEVES!$Y$14:$AF$600,8,FALSE),0)","v":0},{"$f":"IFERROR(VLOOKUP(KN35,MATCHSELEVES!$Y$14:$AG$600,9,FALSE),0)","v":0},"Yaminep_8",{"$f":"IFERROR(VLOOKUP(KT35,MATCHSELEVES!$Y$14:$AE$600,3,FALSE),0)","v":0},{"$f":"IFERROR(VLOOKUP(KT35,MATCHSELEVES!$Y$14:$AE$600,4,FALSE),0)","v":0},{"$f":"IFERROR(VLOOKUP(KT35,MATCHSELEVES!$Y$14:$AE$600,5,FALSE),0)","v":0},{"$f":"IFERROR(VLOOKUP(KT35,MATCHSELEVES!$Y$14:$AF$600,8,FALSE),0)","v":0},{"$f":"IFERROR(VLOOKUP(KT35,MATCHSELEVES!$Y$14:$AG$600,9,FALSE),0)","v":0},"Yaminep_9",{"$f":"IFERROR(VLOOKUP(KZ35,MATCHSELEVES!$Y$14:$AE$600,3,FALSE),0)","v":0},{"$f":"IFERROR(VLOOKUP(KZ35,MATCHSELEVES!$Y$14:$AE$600,4,FALSE),0)","v":0},{"$f":"IFERROR(VLOOKUP(KZ35,MATCHSELEVES!$Y$14:$AE$600,5,FALSE),0)","v":0},{"$f":"IFERROR(VLOOKUP(KZ35,MATCHSELEVES!$Y$14:$AF$600,8,FALSE),0)","v":0},{"$f":"IFERROR(VLOOKUP(KZ35,MATCHSELEVES!$Y$14:$AG$600,9,FALSE),0)","v":0},"Yaminep_10",{"$f":"IFERROR(VLOOKUP(LF35,MATCHSELEVES!$Y$14:$AE$600,3,FALSE),0)","v":0},{"$f":"IFERROR(VLOOKUP(LF35,MATCHSELEVES!$Y$14:$AE$600,4,FALSE),0)","v":0},{"$f":"IFERROR(VLOOKUP(LF35,MATCHSELEVES!$Y$14:$AE$600,5,FALSE),0)","v":0},{"$f":"IFERROR(VLOOKUP(LF35,MATCHSELEVES!$Y$14:$AF$600,8,FALSE),0)","v":0},{"$f":"IFERROR(VLOOKUP(LF35,MATCHSELEVES!$Y$14:$AG$600,9,FALSE),0)","v":0},"Yaminep_11",{"$f":"IFERROR(VLOOKUP(LL35,MATCHSELEVES!$Y$14:$AE$600,3,FALSE),0)","v":0},{"$f":"IFERROR(VLOOKUP(LL35,MATCHSELEVES!$Y$14:$AE$600,4,FALSE),0)","v":0},{"$f":"IFERROR(VLOOKUP(LL35,MATCHSELEVES!$Y$14:$AE$600,5,FALSE),0)","v":0},{"$f":"IFERROR(VLOOKUP(LL35,MATCHSELEVES!$Y$14:$AF$600,8,FALSE),0)","v":0},{"$f":"IFERROR(VLOOKUP(LL35,MATCHSELEVES!$Y$14:$AG$600,9,FALSE),0)","v":0},"Yaminep_12",{"$f":"IFERROR(VLOOKUP(LR35,MATCHSELEVES!$Y$14:$AE$600,3,FALSE),0)","v":0},{"$f":"IFERROR(VLOOKUP(LR35,MATCHSELEVES!$Y$14:$AE$600,4,FALSE),0)","v":0},{"$f":"IFERROR(VLOOKUP(LR35,MATCHSELEVES!$Y$14:$AE$600,5,FALSE),0)","v":0},{"$f":"IFERROR(VLOOKUP(LR35,MATCHSELEVES!$Y$14:$AF$600,8,FALSE),0)","v":0},{"$f":"IFERROR(VLOOKUP(LR35,MATCHSELEVES!$Y$14:$AG$600,9,FALSE),0)","v":0},"Yaminep_13",{"$f":"IFERROR(VLOOKUP(LX35,MATCHSELEVES!$Y$14:$AE$600,3,FALSE),0)","v":0},{"$f":"IFERROR(VLOOKUP(LX35,MATCHSELEVES!$Y$14:$AE$600,4,FALSE),0)","v":0},{"$f":"IFERROR(VLOOKUP(LX35,MATCHSELEVES!$Y$14:$AE$600,5,FALSE),0)","v":0},{"$f":"IFERROR(VLOOKUP(LX35,MATCHSELEVES!$Y$14:$AF$600,8,FALSE),0)","v":0},{"$f":"IFERROR(VLOOKUP(LX35,MATCHSELEVES!$Y$14:$AG$600,9,FALSE),0)","v":0},"Yaminep_14",{"$f":"IFERROR(VLOOKUP(MD35,MATCHSELEVES!$Y$14:$AE$600,3,FALSE),0)","v":0},{"$f":"IFERROR(VLOOKUP(MD35,MATCHSELEVES!$Y$14:$AE$600,4,FALSE),0)","v":0},{"$f":"IFERROR(VLOOKUP(MD35,MATCHSELEVES!$Y$14:$AE$600,5,FALSE),0)","v":0},{"$f":"IFERROR(VLOOKUP(MD35,MATCHSELEVES!$Y$14:$AF$600,8,FALSE),0)","v":0},{"$f":"IFERROR(VLOOKUP(MD35,MATCHSELEVES!$Y$14:$AG$600,9,FALSE),0)","v":0},"Yaminep_15",{"$f":"IFERROR(VLOOKUP(MJ35,MATCHSELEVES!$Y$14:$AE$600,3,FALSE),0)","v":0},{"$f":"IFERROR(VLOOKUP(MJ35,MATCHSELEVES!$Y$14:$AE$600,4,FALSE),0)","v":0},{"$f":"IFERROR(VLOOKUP(MJ35,MATCHSELEVES!$Y$14:$AE$600,5,FALSE),0)","v":0},{"$f":"IFERROR(VLOOKUP(MJ35,MATCHSELEVES!$Y$14:$AF$600,8,FALSE),0)","v":0},{"$f":"IFERROR(VLOOKUP(MJ35,MATCHSELEVES!$Y$14:$AG$600,9,FALSE),0)","v":0},"Yaminep_16",{"$f":"IFERROR(VLOOKUP(MP35,MATCHSELEVES!$Y$14:$AE$600,3,FALSE),0)","v":0},{"$f":"IFERROR(VLOOKUP(MP35,MATCHSELEVES!$Y$14:$AE$600,4,FALSE),0)","v":0},{"$f":"IFERROR(VLOOKUP(MP35,MATCHSELEVES!$Y$14:$AE$600,5,FALSE),0)","v":0},{"$f":"IFERROR(VLOOKUP(MP35,MATCHSELEVES!$Y$14:$AF$600,8,FALSE),0)","v":0},{"$f":"IFERROR(VLOOKUP(MP35,MATCHSELEVES!$Y$14:$AG$600,9,FALSE),0)","v":0},"Yaminep_17",{"$f":"IFERROR(VLOOKUP(MV35,MATCHSELEVES!$Y$14:$AE$600,3,FALSE),0)","v":0},{"$f":"IFERROR(VLOOKUP(MV35,MATCHSELEVES!$Y$14:$AE$600,4,FALSE),0)","v":0},{"$f":"IFERROR(VLOOKUP(MV35,MATCHSELEVES!$Y$14:$AE$600,5,FALSE),0)","v":0},{"$f":"IFERROR(VLOOKUP(MV35,MATCHSELEVES!$Y$14:$AF$600,8,FALSE),0)","v":0},{"$f":"IFERROR(VLOOKUP(MV35,MATCHSELEVES!$Y$14:$AG$600,9,FALSE),0)","v":0},"Yaminep_18",{"$f":"IFERROR(VLOOKUP(NB35,MATCHSELEVES!$Y$14:$AE$600,3,FALSE),0)","v":0},{"$f":"IFERROR(VLOOKUP(NB35,MATCHSELEVES!$Y$14:$AE$600,4,FALSE),0)","v":0},{"$f":"IFERROR(VLOOKUP(NB35,MATCHSELEVES!$Y$14:$AE$600,5,FALSE),0)","v":0},{"$f":"IFERROR(VLOOKUP(NB35,MATCHSELEVES!$Y$14:$AF$600,8,FALSE),0)","v":0},{"$f":"IFERROR(VLOOKUP(NB35,MATCHSELEVES!$Y$14:$AG$600,9,FALSE),0)","v":0},"Yaminep_19",{"$f":"IFERROR(VLOOKUP(NH35,MATCHSELEVES!$Y$14:$AE$600,3,FALSE),0)","v":0},{"$f":"IFERROR(VLOOKUP(NH35,MATCHSELEVES!$Y$14:$AE$600,4,FALSE),0)","v":0},{"$f":"IFERROR(VLOOKUP(NH35,MATCHSELEVES!$Y$14:$AE$600,5,FALSE),0)","v":0},{"$f":"IFERROR(VLOOKUP(NH35,MATCHSELEVES!$Y$14:$AF$600,8,FALSE),0)","v":0},{"$f":"IFERROR(VLOOKUP(NH35,MATCHSELEVES!$Y$14:$AG$600,9,FALSE),0)","v":0},"Yaminep_20",{"$f":"IFERROR(VLOOKUP(NN35,MATCHSELEVES!$Y$14:$AE$600,3,FALSE),0)","v":0},{"$f":"IFERROR(VLOOKUP(NN35,MATCHSELEVES!$Y$14:$AE$600,4,FALSE),0)","v":0},{"$f":"IFERROR(VLOOKUP(NN35,MATCHSELEVES!$Y$14:$AE$600,5,FALSE),0)","v":0},{"$f":"IFERROR(VLOOKUP(NN35,MATCHSELEVES!$Y$14:$AF$600,8,FALSE),0)","v":0},{"$f":"IFERROR(VLOOKUP(NN35,MATCHSELEVES!$Y$14:$AG$600,9,FALSE),0)","v":0},"Yaminep_21",{"$f":"IFERROR(VLOOKUP(NT35,MATCHSELEVES!$Y$14:$AE$600,3,FALSE),0)","v":0},{"$f":"IFERROR(VLOOKUP(NT35,MATCHSELEVES!$Y$14:$AE$600,4,FALSE),0)","v":0},{"$f":"IFERROR(VLOOKUP(NT35,MATCHSELEVES!$Y$14:$AE$600,5,FALSE),0)","v":0},{"$f":"IFERROR(VLOOKUP(NT35,MATCHSELEVES!$Y$14:$AF$600,8,FALSE),0)","v":0},{"$f":"IFERROR(VLOOKUP(NT35,MATCHSELEVES!$Y$14:$AG$600,9,FALSE),0)","v":0},"Yaminep_22",{"$f":"IFERROR(VLOOKUP(NZ35,MATCHSELEVES!$Y$14:$AE$600,3,FALSE),0)","v":0},{"$f":"IFERROR(VLOOKUP(NZ35,MATCHSELEVES!$Y$14:$AE$600,4,FALSE),0)","v":0},{"$f":"IFERROR(VLOOKUP(NZ35,MATCHSELEVES!$Y$14:$AE$600,5,FALSE),0)","v":0},{"$f":"IFERROR(VLOOKUP(NZ35,MATCHSELEVES!$Y$14:$AF$600,8,FALSE),0)","v":0},{"$f":"IFERROR(VLOOKUP(NZ35,MATCHSELEVES!$Y$14:$AG$600,9,FALSE),0)","v":0},"Yaminep_23",{"$f":"IFERROR(VLOOKUP(OF35,MATCHSELEVES!$Y$14:$AE$600,3,FALSE),0)","v":0},{"$f":"IFERROR(VLOOKUP(OF35,MATCHSELEVES!$Y$14:$AE$600,4,FALSE),0)","v":0},{"$f":"IFERROR(VLOOKUP(OF35,MATCHSELEVES!$Y$14:$AE$600,5,FALSE),0)","v":0},{"$f":"IFERROR(VLOOKUP(OF35,MATCHSELEVES!$Y$14:$AF$600,8,FALSE),0)","v":0},{"$f":"IFERROR(VLOOKUP(OF35,MATCHSELEVES!$Y$14:$AG$600,9,FALSE),0)","v":0},"Yaminep_24",{"$f":"IFERROR(VLOOKUP(OL35,MATCHSELEVES!$Y$14:$AE$600,3,FALSE),0)","v":0},{"$f":"IFERROR(VLOOKUP(OL35,MATCHSELEVES!$Y$14:$AE$600,4,FALSE),0)","v":0},{"$f":"IFERROR(VLOOKUP(OL35,MATCHSELEVES!$Y$14:$AE$600,5,FALSE),0)","v":0},{"$f":"IFERROR(VLOOKUP(OL35,MATCHSELEVES!$Y$14:$AF$600,8,FALSE),0)","v":0},{"$f":"IFERROR(VLOOKUP(OL35,MATCHSELEVES!$Y$14:$AG$600,9,FALSE),0)","v":0},"Yaminep_25",{"$f":"IFERROR(VLOOKUP(OR35,MATCHSELEVES!$Y$14:$AE$600,3,FALSE),0)","v":0},{"$f":"IFERROR(VLOOKUP(OR35,MATCHSELEVES!$Y$14:$AE$600,4,FALSE),0)","v":0},{"$f":"IFERROR(VLOOKUP(OR35,MATCHSELEVES!$Y$14:$AE$600,5,FALSE),0)","v":0},{"$f":"IFERROR(VLOOKUP(OR35,MATCHSELEVES!$Y$14:$AF$600,8,FALSE),0)","v":0},{"$f":"IFERROR(VLOOKUP(OR35,MATCHSELEVES!$Y$14:$AG$600,9,FALSE),0)","v":0},"Yaminep_26",{"$f":"IFERROR(VLOOKUP(OX35,MATCHSELEVES!$Y$14:$AE$600,3,FALSE),0)","v":0},{"$f":"IFERROR(VLOOKUP(OX35,MATCHSELEVES!$Y$14:$AE$600,4,FALSE),0)","v":0},{"$f":"IFERROR(VLOOKUP(OX35,MATCHSELEVES!$Y$14:$AE$600,5,FALSE),0)","v":0},{"$f":"IFERROR(VLOOKUP(OX35,MATCHSELEVES!$Y$14:$AF$600,8,FALSE),0)","v":0},{"$f":"IFERROR(VLOOKUP(OX35,MATCHSELEVES!$Y$14:$AG$600,9,FALSE),0)","v":0},"Yaminep_27",{"$f":"IFERROR(VLOOKUP(PD35,MATCHSELEVES!$Y$14:$AE$600,3,FALSE),0)","v":0},{"$f":"IFERROR(VLOOKUP(PD35,MATCHSELEVES!$Y$14:$AE$600,4,FALSE),0)","v":0},{"$f":"IFERROR(VLOOKUP(PD35,MATCHSELEVES!$Y$14:$AE$600,5,FALSE),0)","v":0},{"$f":"IFERROR(VLOOKUP(PD35,MATCHSELEVES!$Y$14:$AF$600,8,FALSE),0)","v":0},{"$f":"IFERROR(VLOOKUP(PD35,MATCHSELEVES!$Y$14:$AG$600,9,FALSE),0)","v":0},"Yaminep_28",{"$f":"IFERROR(VLOOKUP(PJ35,MATCHSELEVES!$Y$14:$AE$600,3,FALSE),0)","v":0},{"$f":"IFERROR(VLOOKUP(PJ35,MATCHSELEVES!$Y$14:$AE$600,4,FALSE),0)","v":0},{"$f":"IFERROR(VLOOKUP(PJ35,MATCHSELEVES!$Y$14:$AE$600,5,FALSE),0)","v":0},{"$f":"IFERROR(VLOOKUP(PJ35,MATCHSELEVES!$Y$14:$AF$600,8,FALSE),0)","v":0},{"$f":"IFERROR(VLOOKUP(PJ35,MATCHSELEVES!$Y$14:$AG$600,9,FALSE),0)","v":0},"Yaminep_29",{"$f":"IFERROR(VLOOKUP(PP35,MATCHSELEVES!$Y$14:$AE$600,3,FALSE),0)","v":0},{"$f":"IFERROR(VLOOKUP(PP35,MATCHSELEVES!$Y$14:$AE$600,4,FALSE),0)","v":0},{"$f":"IFERROR(VLOOKUP(PP35,MATCHSELEVES!$Y$14:$AE$600,5,FALSE),0)","v":0},{"$f":"IFERROR(VLOOKUP(PP35,MATCHSELEVES!$Y$14:$AF$600,8,FALSE),0)","v":0},{"$f":"IFERROR(VLOOKUP(PP35,MATCHSELEVES!$Y$14:$AG$600,9,FALSE),0)","v":0},"Yaminep_30",{"$f":"IFERROR(VLOOKUP(PV35,MATCHSELEVES!$Y$14:$AE$600,3,FALSE),0)","v":0},{"$f":"IFERROR(VLOOKUP(PV35,MATCHSELEVES!$Y$14:$AE$600,4,FALSE),0)","v":0},{"$f":"IFERROR(VLOOKUP(PV35,MATCHSELEVES!$Y$14:$AE$600,5,FALSE),0)","v":0},{"$f":"IFERROR(VLOOKUP(PV35,MATCHSELEVES!$Y$14:$AF$600,8,FALSE),0)","v":0},{"$f":"IFERROR(VLOOKUP(PV35,MATCHSELEVES!$Y$14:$AG$600,9,FALSE),0)","v":0},"Yaminep_31",{"$f":"IFERROR(VLOOKUP(QB35,MATCHSELEVES!$Y$14:$AE$600,3,FALSE),0)","v":0},{"$f":"IFERROR(VLOOKUP(QB35,MATCHSELEVES!$Y$14:$AE$600,4,FALSE),0)","v":0},{"$f":"IFERROR(VLOOKUP(QB35,MATCHSELEVES!$Y$14:$AE$600,5,FALSE),0)","v":0},{"$f":"IFERROR(VLOOKUP(QB35,MATCHSELEVES!$Y$14:$AF$600,8,FALSE),0)","v":0},{"$f":"IFERROR(VLOOKUP(QB35,MATCHSELEVES!$Y$14:$AG$600,9,FALSE),0)","v":0},"Yaminep_32",{"$f":"IFERROR(VLOOKUP(QH35,MATCHSELEVES!$Y$14:$AE$600,3,FALSE),0)","v":0},{"$f":"IFERROR(VLOOKUP(QH35,MATCHSELEVES!$Y$14:$AE$600,4,FALSE),0)","v":0},{"$f":"IFERROR(VLOOKUP(QH35,MATCHSELEVES!$Y$14:$AE$600,5,FALSE),0)","v":0},{"$f":"IFERROR(VLOOKUP(QH35,MATCHSELEVES!$Y$14:$AF$600,8,FALSE),0)","v":0},{"$f":"IFERROR(VLOOKUP(QH35,MATCHSELEVES!$Y$14:$AG$600,9,FALSE),0)","v":0},"Yaminep_33",{"$f":"IFERROR(VLOOKUP(QN35,MATCHSELEVES!$Y$14:$AE$600,3,FALSE),0)","v":0},{"$f":"IFERROR(VLOOKUP(QN35,MATCHSELEVES!$Y$14:$AE$600,4,FALSE),0)","v":0},{"$f":"IFERROR(VLOOKUP(QN35,MATCHSELEVES!$Y$14:$AE$600,5,FALSE),0)","v":0},{"$f":"IFERROR(VLOOKUP(QN35,MATCHSELEVES!$Y$14:$AF$600,8,FALSE),0)","v":0},{"$f":"IFERROR(VLOOKUP(QN35,MATCHSELEVES!$Y$14:$AG$600,9,FALSE),0)","v":0},"Yaminep_34",{"$f":"IFERROR(VLOOKUP(QT35,MATCHSELEVES!$Y$14:$AE$600,3,FALSE),0)","v":0},{"$f":"IFERROR(VLOOKUP(QT35,MATCHSELEVES!$Y$14:$AE$600,4,FALSE),0)","v":0},{"$f":"IFERROR(VLOOKUP(QT35,MATCHSELEVES!$Y$14:$AE$600,5,FALSE),0)","v":0},{"$f":"IFERROR(VLOOKUP(QT35,MATCHSELEVES!$Y$14:$AF$600,8,FALSE),0)","v":0},{"$f":"IFERROR(VLOOKUP(QT35,MATCHSELEVES!$Y$14:$AG$600,9,FALSE),0)","v":0},"Yaminep_35",{"$f":"IFERROR(VLOOKUP(QZ35,MATCHSELEVES!$Y$14:$AE$600,3,FALSE),0)","v":0},{"$f":"IFERROR(VLOOKUP(QZ35,MATCHSELEVES!$Y$14:$AE$600,4,FALSE),0)","v":0},{"$f":"IFERROR(VLOOKUP(QZ35,MATCHSELEVES!$Y$14:$AE$600,5,FALSE),0)","v":0},{"$f":"IFERROR(VLOOKUP(QZ35,MATCHSELEVES!$Y$14:$AF$600,8,FALSE),0)","v":0},{"$f":"IFERROR(VLOOKUP(QZ35,MATCHSELEVES!$Y$14:$AG$600,9,FALSE),0)","v":0},"Yaminep_36",{"$f":"IFERROR(VLOOKUP(RF35,MATCHSELEVES!$Y$14:$AE$600,3,FALSE),0)","v":0},{"$f":"IFERROR(VLOOKUP(RF35,MATCHSELEVES!$Y$14:$AE$600,4,FALSE),0)","v":0},{"$f":"IFERROR(VLOOKUP(RF35,MATCHSELEVES!$Y$14:$AE$600,5,FALSE),0)","v":0},{"$f":"IFERROR(VLOOKUP(RF35,MATCHSELEVES!$Y$14:$AF$600,8,FALSE),0)","v":0},{"$f":"IFERROR(VLOOKUP(RF35,MATCHSELEVES!$Y$14:$AG$600,9,FALSE),0)","v":0},"Yaminep_37",{"$f":"IFERROR(VLOOKUP(RL35,MATCHSELEVES!$Y$14:$AE$600,3,FALSE),0)","v":0},{"$f":"IFERROR(VLOOKUP(RL35,MATCHSELEVES!$Y$14:$AE$600,4,FALSE),0)","v":0},{"$f":"IFERROR(VLOOKUP(RL35,MATCHSELEVES!$Y$14:$AE$600,5,FALSE),0)","v":0},{"$f":"IFERROR(VLOOKUP(RL35,MATCHSELEVES!$Y$14:$AF$600,8,FALSE),0)","v":0},{"$f":"IFERROR(VLOOKUP(RL35,MATCHSELEVES!$Y$14:$AG$600,9,FALSE),0)","v":0},"Yaminep_38",{"$f":"IFERROR(VLOOKUP(RR35,MATCHSELEVES!$Y$14:$AE$600,3,FALSE),0)","v":0},{"$f":"IFERROR(VLOOKUP(RR35,MATCHSELEVES!$Y$14:$AE$600,4,FALSE),0)","v":0},{"$f":"IFERROR(VLOOKUP(RR35,MATCHSELEVES!$Y$14:$AE$600,5,FALSE),0)","v":0},{"$f":"IFERROR(VLOOKUP(RR35,MATCHSELEVES!$Y$14:$AF$600,8,FALSE),0)","v":0},{"$f":"IFERROR(VLOOKUP(RR35,MATCHSELEVES!$Y$14:$AG$600,9,FALSE),0)","v":0},"Yaminep_39",{"$f":"IFERROR(VLOOKUP(RX35,MATCHSELEVES!$Y$14:$AE$600,3,FALSE),0)","v":0},{"$f":"IFERROR(VLOOKUP(RX35,MATCHSELEVES!$Y$14:$AE$600,4,FALSE),0)","v":0},{"$f":"IFERROR(VLOOKUP(RX35,MATCHSELEVES!$Y$14:$AE$600,5,FALSE),0)","v":0},{"$f":"IFERROR(VLOOKUP(RX35,MATCHSELEVES!$Y$14:$AF$600,8,FALSE),0)","v":0},{"$f":"IFERROR(VLOOKUP(RX35,MATCHSELEVES!$Y$14:$AG$600,9,FALSE),0)","v":0},"Yaminep_40",{"$f":"IFERROR(VLOOKUP(SD35,MATCHSELEVES!$Y$14:$AE$600,3,FALSE),0)","v":0},{"$f":"IFERROR(VLOOKUP(SD35,MATCHSELEVES!$Y$14:$AE$600,4,FALSE),0)","v":0},{"$f":"IFERROR(VLOOKUP(SD35,MATCHSELEVES!$Y$14:$AE$600,5,FALSE),0)","v":0},{"$f":"IFERROR(VLOOKUP(SD35,MATCHSELEVES!$Y$14:$AF$600,8,FALSE),0)","v":0},{"$f":"IFERROR(VLOOKUP(SD35,MATCHSELEVES!$Y$14:$AG$600,9,FALSE),0)","v":0}]
[33,null,{"$f":"MD1POINT!C36","v":"Yanis"},{"$f":"MD1POINT!D36","v":1},{"$f":"COUNTIF(MATCHSELEVES!$Z$14:$Z$600,C36)+COUNTIF(MATCHSELEVES!$Z$14:$Z$600,$C36&\"p\")","v":0},1,{"$f":"COUNTIF(MATCHSELEVES!$F$14:$H$249,C36)","v":0},1,0,1,0,1,0,1,{"$f":"Y36+AE36+AK36+AQ36+AW36+BC36+BI36+BO36+BU36+CA36+CG36+CM36+CS36+CY36+DE36+DK36+DQ36+DW36+EC36+EI36+EO36+EU36+FA36+FG36+FM36+FS36+FY36+GE36+GK36+GQ36+GW36+4+HI36+HO36+HU36+IA36+HC36+IG36+IM36+IY36+IS36+JH36+JN36+JZ36+JT36+KF36+KR36+KX36+LJ36+LP36+LV36+LD36+MB36+MH36+MN36+MZ36+MT36+NF36+NL36+NR36+NX36+OD36+OJ36+OP36+OV36+PB36+PH36+PT36+PN36+PZ36+QF36+QL36+QR36+RD36+QX36+RJ36+RP36+RV36+SB36+SH36+KL36+Tableau10[[#This Row],[Nombre de matchs joués]]*2","v":4},1,{"$f":"(Tableau10[[#This Row],[CLASSEMENT1]]+Tableau10[[#This Row],[CLASSEMENT2]]+Tableau10[[#This Row],[CLASSEMENT3]]+Tableau10[[#This Row],[CLASSEMENT4]]+Tableau10[[#This Row],[CLASSEMENT5]]+Tableau10[[#This Row],[CLASSEMENT6]])/6","v":1},{"$f":"RANK(Tableau10[[#This Row],[MOYENNE CLASSEMENTS]],Tableau10[MOYENNE CLASSEMENTS],1)","v":1},null,{"$f":"Tableau10[[#This Row],[CLASSEMENT1]]","v":1},"Yanis_1",{"$f":"IFERROR(VLOOKUP(U36,MATCHSELEVES!$Y$14:$AE$600,3,FALSE),0)","v":0},{"$f":"IFERROR(VLOOKUP(U36,MATCHSELEVES!$Y$14:$AE$600,4,FALSE),0)","v":0},{"$f":"IFERROR(VLOOKUP(U36,MATCHSELEVES!$Y$14:$AE$600,5,FALSE),0)","v":0},{"$f":"IFERROR(VLOOKUP(U36,MATCHSELEVES!$Y$14:$AF$600,8,FALSE),0)","v":0},{"$f":"IFERROR(VLOOKUP(U36,MATCHSELEVES!$Y$14:$AG$600,9,FALSE),0)","v":0},"Yanis_2",{"$f":"IFERROR(VLOOKUP(AA36,MATCHSELEVES!$Y$14:$AE$600,3,FALSE),0)","v":0},{"$f":"IFERROR(VLOOKUP(AA36,MATCHSELEVES!$Y$14:$AE$600,4,FALSE),0)","v":0},{"$f":"IFERROR(VLOOKUP(AA36,MATCHSELEVES!$Y$14:$AE$600,5,FALSE),0)","v":0},{"$f":"IFERROR(VLOOKUP(AA36,MATCHSELEVES!$Y$14:$AF$600,8,FALSE),0)","v":0},{"$f":"IFERROR(VLOOKUP(AA36,MATCHSELEVES!$Y$14:$AG$600,9,FALSE),0)","v":0},"Yanis_3",{"$f":"IFERROR(VLOOKUP(AG36,MATCHSELEVES!$Y$14:$AE$600,3,FALSE),0)","v":0},{"$f":"IFERROR(VLOOKUP(AG36,MATCHSELEVES!$Y$14:$AE$600,4,FALSE),0)","v":0},{"$f":"IFERROR(VLOOKUP(AG36,MATCHSELEVES!$Y$14:$AE$600,5,FALSE),0)","v":0},{"$f":"IFERROR(VLOOKUP(AG36,MATCHSELEVES!$Y$14:$AF$600,8,FALSE),0)","v":0},{"$f":"IFERROR(VLOOKUP(AG36,MATCHSELEVES!$Y$14:$AG$600,9,FALSE),0)","v":0},"Yanis_4",{"$f":"IFERROR(VLOOKUP(AM36,MATCHSELEVES!$Y$14:$AE$600,3,FALSE),0)","v":0},{"$f":"IFERROR(VLOOKUP(AM36,MATCHSELEVES!$Y$14:$AE$600,4,FALSE),0)","v":0},{"$f":"IFERROR(VLOOKUP(AM36,MATCHSELEVES!$Y$14:$AE$600,5,FALSE),0)","v":0},{"$f":"IFERROR(VLOOKUP(AM36,MATCHSELEVES!$Y$14:$AF$600,8,FALSE),0)","v":0},{"$f":"IFERROR(VLOOKUP(AM36,MATCHSELEVES!$Y$14:$AG$600,9,FALSE),0)","v":0},"Yanis_5",{"$f":"IFERROR(VLOOKUP(AS36,MATCHSELEVES!$Y$14:$AE$600,3,FALSE),0)","v":0},{"$f":"IFERROR(VLOOKUP(AS36,MATCHSELEVES!$Y$14:$AE$600,4,FALSE),0)","v":0},{"$f":"IFERROR(VLOOKUP(AS36,MATCHSELEVES!$Y$14:$AE$600,5,FALSE),0)","v":0},{"$f":"IFERROR(VLOOKUP(AS36,MATCHSELEVES!$Y$14:$AF$600,8,FALSE),0)","v":0},{"$f":"IFERROR(VLOOKUP(AS36,MATCHSELEVES!$Y$14:$AG$600,9,FALSE),0)","v":0},"Yanis_6",{"$f":"IFERROR(VLOOKUP(AY36,MATCHSELEVES!$Y$14:$AE$600,3,FALSE),0)","v":0},{"$f":"IFERROR(VLOOKUP(AY36,MATCHSELEVES!$Y$14:$AE$600,4,FALSE),0)","v":0},{"$f":"IFERROR(VLOOKUP(AY36,MATCHSELEVES!$Y$14:$AE$600,5,FALSE),0)","v":0},{"$f":"IFERROR(VLOOKUP(AY36,MATCHSELEVES!$Y$14:$AF$600,8,FALSE),0)","v":0},{"$f":"IFERROR(VLOOKUP(AY36,MATCHSELEVES!$Y$14:$AG$600,9,FALSE),0)","v":0},"Yanis_7",{"$f":"IFERROR(VLOOKUP(BE36,MATCHSELEVES!$Y$14:$AE$600,3,FALSE),0)","v":0},{"$f":"IFERROR(VLOOKUP(BE36,MATCHSELEVES!$Y$14:$AE$600,4,FALSE),0)","v":0},{"$f":"IFERROR(VLOOKUP(BE36,MATCHSELEVES!$Y$14:$AE$600,5,FALSE),0)","v":0},{"$f":"IFERROR(VLOOKUP(BE36,MATCHSELEVES!$Y$14:$AF$600,8,FALSE),0)","v":0},{"$f":"IFERROR(VLOOKUP(BE36,MATCHSELEVES!$Y$14:$AG$600,9,FALSE),0)","v":0},"Yanis_8",{"$f":"IFERROR(VLOOKUP(BK36,MATCHSELEVES!$Y$14:$AE$600,3,FALSE),0)","v":0},{"$f":"IFERROR(VLOOKUP(BK36,MATCHSELEVES!$Y$14:$AE$600,4,FALSE),0)","v":0},{"$f":"IFERROR(VLOOKUP(BK36,MATCHSELEVES!$Y$14:$AE$600,5,FALSE),0)","v":0},{"$f":"IFERROR(VLOOKUP(BK36,MATCHSELEVES!$Y$14:$AF$600,8,FALSE),0)","v":0},{"$f":"IFERROR(VLOOKUP(BK36,MATCHSELEVES!$Y$14:$AG$600,9,FALSE),0)","v":0},"Yanis_9",{"$f":"IFERROR(VLOOKUP(BQ36,MATCHSELEVES!$Y$14:$AE$600,3,FALSE),0)","v":0},{"$f":"IFERROR(VLOOKUP(BQ36,MATCHSELEVES!$Y$14:$AE$600,4,FALSE),0)","v":0},{"$f":"IFERROR(VLOOKUP(BQ36,MATCHSELEVES!$Y$14:$AE$600,5,FALSE),0)","v":0},{"$f":"IFERROR(VLOOKUP(BQ36,MATCHSELEVES!$Y$14:$AF$600,8,FALSE),0)","v":0},{"$f":"IFERROR(VLOOKUP(BQ36,MATCHSELEVES!$Y$14:$AG$600,9,FALSE),0)","v":0},"Yanis_10",{"$f":"IFERROR(VLOOKUP(BW36,MATCHSELEVES!$Y$14:$AE$600,3,FALSE),0)","v":0},{"$f":"IFERROR(VLOOKUP(BW36,MATCHSELEVES!$Y$14:$AE$600,4,FALSE),0)","v":0},{"$f":"IFERROR(VLOOKUP(BW36,MATCHSELEVES!$Y$14:$AE$600,5,FALSE),0)","v":0},{"$f":"IFERROR(VLOOKUP(BW36,MATCHSELEVES!$Y$14:$AF$600,8,FALSE),0)","v":0},{"$f":"IFERROR(VLOOKUP(BW36,MATCHSELEVES!$Y$14:$AG$600,9,FALSE),0)","v":0},"Yanis_11",{"$f":"IFERROR(VLOOKUP(CC36,MATCHSELEVES!$Y$14:$AE$600,3,FALSE),0)","v":0},{"$f":"IFERROR(VLOOKUP(CC36,MATCHSELEVES!$Y$14:$AE$600,4,FALSE),0)","v":0},{"$f":"IFERROR(VLOOKUP(CC36,MATCHSELEVES!$Y$14:$AE$600,5,FALSE),0)","v":0},{"$f":"IFERROR(VLOOKUP(CC36,MATCHSELEVES!$Y$14:$AF$600,8,FALSE),0)","v":0},{"$f":"IFERROR(VLOOKUP(CC36,MATCHSELEVES!$Y$14:$AG$600,9,FALSE),0)","v":0},"Yanis_12",{"$f":"IFERROR(VLOOKUP(CI36,MATCHSELEVES!$Y$14:$AE$600,3,FALSE),0)","v":0},{"$f":"IFERROR(VLOOKUP(CI36,MATCHSELEVES!$Y$14:$AE$600,4,FALSE),0)","v":0},{"$f":"IFERROR(VLOOKUP(CI36,MATCHSELEVES!$Y$14:$AE$600,5,FALSE),0)","v":0},{"$f":"IFERROR(VLOOKUP(CI36,MATCHSELEVES!$Y$14:$AF$600,8,FALSE),0)","v":0},{"$f":"IFERROR(VLOOKUP(CI36,MATCHSELEVES!$Y$14:$AG$600,9,FALSE),0)","v":0},"Yanis_13",{"$f":"IFERROR(VLOOKUP(CO36,MATCHSELEVES!$Y$14:$AE$600,3,FALSE),0)","v":0},{"$f":"IFERROR(VLOOKUP(CO36,MATCHSELEVES!$Y$14:$AE$600,4,FALSE),0)","v":0},{"$f":"IFERROR(VLOOKUP(CO36,MATCHSELEVES!$Y$14:$AE$600,5,FALSE),0)","v":0},{"$f":"IFERROR(VLOOKUP(CO36,MATCHSELEVES!$Y$14:$AF$600,8,FALSE),0)","v":0},{"$f":"IFERROR(VLOOKUP(CO36,MATCHSELEVES!$Y$14:$AG$600,9,FALSE),0)","v":0},"Yanis_14",{"$f":"IFERROR(VLOOKUP(CU36,MATCHSELEVES!$Y$14:$AE$600,3,FALSE),0)","v":0},{"$f":"IFERROR(VLOOKUP(CU36,MATCHSELEVES!$Y$14:$AE$600,4,FALSE),0)","v":0},{"$f":"IFERROR(VLOOKUP(CU36,MATCHSELEVES!$Y$14:$AE$600,5,FALSE),0)","v":0},{"$f":"IFERROR(VLOOKUP(CU36,MATCHSELEVES!$Y$14:$AF$600,8,FALSE),0)","v":0},{"$f":"IFERROR(VLOOKUP(CU36,MATCHSELEVES!$Y$14:$AG$600,9,FALSE),0)","v":0},"Yanis_15",{"$f":"IFERROR(VLOOKUP(DA36,MATCHSELEVES!$Y$14:$AE$600,3,FALSE),0)","v":0},{"$f":"IFERROR(VLOOKUP(DA36,MATCHSELEVES!$Y$14:$AE$600,4,FALSE),0)","v":0},{"$f":"IFERROR(VLOOKUP(DA36,MATCHSELEVES!$Y$14:$AE$600,5,FALSE),0)","v":0},{"$f":"IFERROR(VLOOKUP(DA36,MATCHSELEVES!$Y$14:$AF$600,8,FALSE),0)","v":0},{"$f":"IFERROR(VLOOKUP(DA36,MATCHSELEVES!$Y$14:$AG$600,9,FALSE),0)","v":0},"Yanis_16",{"$f":"IFERROR(VLOOKUP(DG36,MATCHSELEVES!$Y$14:$AE$600,3,FALSE),0)","v":0},{"$f":"IFERROR(VLOOKUP(DG36,MATCHSELEVES!$Y$14:$AE$600,4,FALSE),0)","v":0},{"$f":"IFERROR(VLOOKUP(DG36,MATCHSELEVES!$Y$14:$AE$600,5,FALSE),0)","v":0},{"$f":"IFERROR(VLOOKUP(DG36,MATCHSELEVES!$Y$14:$AF$600,8,FALSE),0)","v":0},{"$f":"IFERROR(VLOOKUP(DG36,MATCHSELEVES!$Y$14:$AG$600,9,FALSE),0)","v":0},"Yanis_17",{"$f":"IFERROR(VLOOKUP(DM36,MATCHSELEVES!$Y$14:$AE$600,3,FALSE),0)","v":0},{"$f":"IFERROR(VLOOKUP(DM36,MATCHSELEVES!$Y$14:$AE$600,4,FALSE),0)","v":0},{"$f":"IFERROR(VLOOKUP(DM36,MATCHSELEVES!$Y$14:$AE$600,5,FALSE),0)","v":0},{"$f":"IFERROR(VLOOKUP(DM36,MATCHSELEVES!$Y$14:$AF$600,8,FALSE),0)","v":0},{"$f":"IFERROR(VLOOKUP(DM36,MATCHSELEVES!$Y$14:$AG$600,9,FALSE),0)","v":0},"Yanis_18",{"$f":"IFERROR(VLOOKUP(DS36,MATCHSELEVES!$Y$14:$AE$600,3,FALSE),0)","v":0},{"$f":"IFERROR(VLOOKUP(DS36,MATCHSELEVES!$Y$14:$AE$600,4,FALSE),0)","v":0},{"$f":"IFERROR(VLOOKUP(DS36,MATCHSELEVES!$Y$14:$AE$600,5,FALSE),0)","v":0},{"$f":"IFERROR(VLOOKUP(DS36,MATCHSELEVES!$Y$14:$AF$600,8,FALSE),0)","v":0},{"$f":"IFERROR(VLOOKUP(DS36,MATCHSELEVES!$Y$14:$AG$600,9,FALSE),0)","v":0},"Yanis_19",{"$f":"IFERROR(VLOOKUP(DY36,MATCHSELEVES!$Y$14:$AE$600,3,FALSE),0)","v":0},{"$f":"IFERROR(VLOOKUP(DY36,MATCHSELEVES!$Y$14:$AE$600,4,FALSE),0)","v":0},{"$f":"IFERROR(VLOOKUP(DY36,MATCHSELEVES!$Y$14:$AE$600,5,FALSE),0)","v":0},{"$f":"IFERROR(VLOOKUP(DY36,MATCHSELEVES!$Y$14:$AF$600,8,FALSE),0)","v":0},{"$f":"IFERROR(VLOOKUP(DY36,MATCHSELEVES!$Y$14:$AG$600,9,FALSE),0)","v":0},"Yanis_20",{"$f":"IFERROR(VLOOKUP(EE36,MATCHSELEVES!$Y$14:$AE$600,3,FALSE),0)","v":0},{"$f":"IFERROR(VLOOKUP(EE36,MATCHSELEVES!$Y$14:$AE$600,4,FALSE),0)","v":0},{"$f":"IFERROR(VLOOKUP(EE36,MATCHSELEVES!$Y$14:$AE$600,5,FALSE),0)","v":0},{"$f":"IFERROR(VLOOKUP(EE36,MATCHSELEVES!$Y$14:$AF$600,8,FALSE),0)","v":0},{"$f":"IFERROR(VLOOKUP(EE36,MATCHSELEVES!$Y$14:$AG$600,9,FALSE),0)","v":0},"Yanis_21",{"$f":"IFERROR(VLOOKUP(EK36,MATCHSELEVES!$Y$14:$AE$600,3,FALSE),0)","v":0},{"$f":"IFERROR(VLOOKUP(EK36,MATCHSELEVES!$Y$14:$AE$600,4,FALSE),0)","v":0},{"$f":"IFERROR(VLOOKUP(EK36,MATCHSELEVES!$Y$14:$AE$600,5,FALSE),0)","v":0},{"$f":"IFERROR(VLOOKUP(EK36,MATCHSELEVES!$Y$14:$AF$600,8,FALSE),0)","v":0},{"$f":"IFERROR(VLOOKUP(EK36,MATCHSELEVES!$Y$14:$AG$600,9,FALSE),0)","v":0},"Yanis_22",{"$f":"IFERROR(VLOOKUP(EQ36,MATCHSELEVES!$Y$14:$AE$600,3,FALSE),0)","v":0},{"$f":"IFERROR(VLOOKUP(EQ36,MATCHSELEVES!$Y$14:$AE$600,4,FALSE),0)","v":0},{"$f":"IFERROR(VLOOKUP(EQ36,MATCHSELEVES!$Y$14:$AE$600,5,FALSE),0)","v":0},{"$f":"IFERROR(VLOOKUP(EQ36,MATCHSELEVES!$Y$14:$AF$600,8,FALSE),0)","v":0},{"$f":"IFERROR(VLOOKUP(EQ36,MATCHSELEVES!$Y$14:$AG$600,9,FALSE),0)","v":0},"Yanis_23",{"$f":"IFERROR(VLOOKUP(EW36,MATCHSELEVES!$Y$14:$AE$600,3,FALSE),0)","v":0},{"$f":"IFERROR(VLOOKUP(EW36,MATCHSELEVES!$Y$14:$AE$600,4,FALSE),0)","v":0},{"$f":"IFERROR(VLOOKUP(EW36,MATCHSELEVES!$Y$14:$AE$600,5,FALSE),0)","v":0},{"$f":"IFERROR(VLOOKUP(EW36,MATCHSELEVES!$Y$14:$AF$600,8,FALSE),0)","v":0},{"$f":"IFERROR(VLOOKUP(EW36,MATCHSELEVES!$Y$14:$AG$600,9,FALSE),0)","v":0},"Yanis_24",{"$f":"IFERROR(VLOOKUP(FC36,MATCHSELEVES!$Y$14:$AE$600,3,FALSE),0)","v":0},{"$f":"IFERROR(VLOOKUP(FC36,MATCHSELEVES!$Y$14:$AE$600,4,FALSE),0)","v":0},{"$f":"IFERROR(VLOOKUP(FC36,MATCHSELEVES!$Y$14:$AE$600,5,FALSE),0)","v":0},{"$f":"IFERROR(VLOOKUP(FC36,MATCHSELEVES!$Y$14:$AF$600,8,FALSE),0)","v":0},{"$f":"IFERROR(VLOOKUP(FC36,MATCHSELEVES!$Y$14:$AG$600,9,FALSE),0)","v":0},"Yanis_25",{"$f":"IFERROR(VLOOKUP(FI36,MATCHSELEVES!$Y$14:$AE$600,3,FALSE),0)","v":0},{"$f":"IFERROR(VLOOKUP(FI36,MATCHSELEVES!$Y$14:$AE$600,4,FALSE),0)","v":0},{"$f":"IFERROR(VLOOKUP(FI36,MATCHSELEVES!$Y$14:$AE$600,5,FALSE),0)","v":0},{"$f":"IFERROR(VLOOKUP(FI36,MATCHSELEVES!$Y$14:$AF$600,8,FALSE),0)","v":0},{"$f":"IFERROR(VLOOKUP(FI36,MATCHSELEVES!$Y$14:$AG$600,9,FALSE),0)","v":0},"Yanis_26",{"$f":"IFERROR(VLOOKUP(FO36,MATCHSELEVES!$Y$14:$AE$600,3,FALSE),0)","v":0},{"$f":"IFERROR(VLOOKUP(FO36,MATCHSELEVES!$Y$14:$AE$600,4,FALSE),0)","v":0},{"$f":"IFERROR(VLOOKUP(FO36,MATCHSELEVES!$Y$14:$AE$600,5,FALSE),0)","v":0},{"$f":"IFERROR(VLOOKUP(FO36,MATCHSELEVES!$Y$14:$AF$600,8,FALSE),0)","v":0},{"$f":"IFERROR(VLOOKUP(FO36,MATCHSELEVES!$Y$14:$AG$600,9,FALSE),0)","v":0},"Yanis_27",{"$f":"IFERROR(VLOOKUP(FU36,MATCHSELEVES!$Y$14:$AE$600,3,FALSE),0)","v":0},{"$f":"IFERROR(VLOOKUP(FU36,MATCHSELEVES!$Y$14:$AE$600,4,FALSE),0)","v":0},{"$f":"IFERROR(VLOOKUP(FU36,MATCHSELEVES!$Y$14:$AE$600,5,FALSE),0)","v":0},{"$f":"IFERROR(VLOOKUP(FU36,MATCHSELEVES!$Y$14:$AF$600,8,FALSE),0)","v":0},{"$f":"IFERROR(VLOOKUP(FU36,MATCHSELEVES!$Y$14:$AG$600,9,FALSE),0)","v":0},"Yanis_28",{"$f":"IFERROR(VLOOKUP(GA36,MATCHSELEVES!$Y$14:$AE$600,3,FALSE),0)","v":0},{"$f":"IFERROR(VLOOKUP(GA36,MATCHSELEVES!$Y$14:$AE$600,4,FALSE),0)","v":0},{"$f":"IFERROR(VLOOKUP(GA36,MATCHSELEVES!$Y$14:$AE$600,5,FALSE),0)","v":0},{"$f":"IFERROR(VLOOKUP(GA36,MATCHSELEVES!$Y$14:$AF$600,8,FALSE),0)","v":0},{"$f":"IFERROR(VLOOKUP(GA36,MATCHSELEVES!$Y$14:$AG$600,9,FALSE),0)","v":0},"Yanis_29",{"$f":"IFERROR(VLOOKUP(GG36,MATCHSELEVES!$Y$14:$AE$600,3,FALSE),0)","v":0},{"$f":"IFERROR(VLOOKUP(GG36,MATCHSELEVES!$Y$14:$AE$600,4,FALSE),0)","v":0},{"$f":"IFERROR(VLOOKUP(GG36,MATCHSELEVES!$Y$14:$AE$600,5,FALSE),0)","v":0},{"$f":"IFERROR(VLOOKUP(GG36,MATCHSELEVES!$Y$14:$AF$600,8,FALSE),0)","v":0},{"$f":"IFERROR(VLOOKUP(GG36,MATCHSELEVES!$Y$14:$AG$600,9,FALSE),0)","v":0},"Yanis_30",{"$f":"IFERROR(VLOOKUP(GM36,MATCHSELEVES!$Y$14:$AE$600,3,FALSE),0)","v":0},{"$f":"IFERROR(VLOOKUP(GM36,MATCHSELEVES!$Y$14:$AE$600,4,FALSE),0)","v":0},{"$f":"IFERROR(VLOOKUP(GM36,MATCHSELEVES!$Y$14:$AE$600,5,FALSE),0)","v":0},{"$f":"IFERROR(VLOOKUP(GM36,MATCHSELEVES!$Y$14:$AF$600,8,FALSE),0)","v":0},{"$f":"IFERROR(VLOOKUP(GM36,MATCHSELEVES!$Y$14:$AG$600,9,FALSE),0)","v":0},"Yanis_31",{"$f":"IFERROR(VLOOKUP(GS36,MATCHSELEVES!$Y$14:$AE$600,3,FALSE),0)","v":0},{"$f":"IFERROR(VLOOKUP(GS36,MATCHSELEVES!$Y$14:$AE$600,4,FALSE),0)","v":0},{"$f":"IFERROR(VLOOKUP(GS36,MATCHSELEVES!$Y$14:$AE$600,5,FALSE),0)","v":0},{"$f":"IFERROR(VLOOKUP(GS36,MATCHSELEVES!$Y$14:$AF$600,8,FALSE),0)","v":0},{"$f":"IFERROR(VLOOKUP(GS36,MATCHSELEVES!$Y$14:$AG$600,9,FALSE),0)","v":0},"Yanis_32",{"$f":"IFERROR(VLOOKUP(GY36,MATCHSELEVES!$Y$14:$AE$600,3,FALSE),0)","v":0},{"$f":"IFERROR(VLOOKUP(GY36,MATCHSELEVES!$Y$14:$AE$600,4,FALSE),0)","v":0},{"$f":"IFERROR(VLOOKUP(GY36,MATCHSELEVES!$Y$14:$AE$600,5,FALSE),0)","v":0},{"$f":"IFERROR(VLOOKUP(GY36,MATCHSELEVES!$Y$14:$AF$600,8,FALSE),0)","v":0},{"$f":"IFERROR(VLOOKUP(GY36,MATCHSELEVES!$Y$14:$AG$600,9,FALSE),0)","v":0},"Yanis_33",{"$f":"IFERROR(VLOOKUP(HE36,MATCHSELEVES!$Y$14:$AE$600,3,FALSE),0)","v":0},{"$f":"IFERROR(VLOOKUP(HE36,MATCHSELEVES!$Y$14:$AE$600,4,FALSE),0)","v":0},{"$f":"IFERROR(VLOOKUP(HE36,MATCHSELEVES!$Y$14:$AE$600,5,FALSE),0)","v":0},{"$f":"IFERROR(VLOOKUP(HE36,MATCHSELEVES!$Y$14:$AF$600,8,FALSE),0)","v":0},{"$f":"IFERROR(VLOOKUP(HE36,MATCHSELEVES!$Y$14:$AG$600,9,FALSE),0)","v":0},"Yanis_34",{"$f":"IFERROR(VLOOKUP(HK36,MATCHSELEVES!$Y$14:$AE$600,3,FALSE),0)","v":0},{"$f":"IFERROR(VLOOKUP(HK36,MATCHSELEVES!$Y$14:$AE$600,4,FALSE),0)","v":0},{"$f":"IFERROR(VLOOKUP(HK36,MATCHSELEVES!$Y$14:$AE$600,5,FALSE),0)","v":0},{"$f":"IFERROR(VLOOKUP(HK36,MATCHSELEVES!$Y$14:$AF$600,8,FALSE),0)","v":0},{"$f":"IFERROR(VLOOKUP(HK36,MATCHSELEVES!$Y$14:$AG$600,9,FALSE),0)","v":0},"Yanis_35",{"$f":"IFERROR(VLOOKUP(HQ36,MATCHSELEVES!$Y$14:$AE$600,3,FALSE),0)","v":0},{"$f":"IFERROR(VLOOKUP(HQ36,MATCHSELEVES!$Y$14:$AE$600,4,FALSE),0)","v":0},{"$f":"IFERROR(VLOOKUP(HQ36,MATCHSELEVES!$Y$14:$AE$600,5,FALSE),0)","v":0},{"$f":"IFERROR(VLOOKUP(HQ36,MATCHSELEVES!$Y$14:$AF$600,8,FALSE),0)","v":0},{"$f":"IFERROR(VLOOKUP(HQ36,MATCHSELEVES!$Y$14:$AG$600,9,FALSE),0)","v":0},"Yanis_36",{"$f":"IFERROR(VLOOKUP(HW36,MATCHSELEVES!$Y$14:$AE$600,3,FALSE),0)","v":0},{"$f":"IFERROR(VLOOKUP(HW36,MATCHSELEVES!$Y$14:$AE$600,4,FALSE),0)","v":0},{"$f":"IFERROR(VLOOKUP(HW36,MATCHSELEVES!$Y$14:$AE$600,5,FALSE),0)","v":0},{"$f":"IFERROR(VLOOKUP(HW36,MATCHSELEVES!$Y$14:$AF$600,8,FALSE),0)","v":0},{"$f":"IFERROR(VLOOKUP(HW36,MATCHSELEVES!$Y$14:$AG$600,9,FALSE),0)","v":0},"Yanis_37",{"$f":"IFERROR(VLOOKUP(IC36,MATCHSELEVES!$Y$14:$AE$600,3,FALSE),0)","v":0},{"$f":"IFERROR(VLOOKUP(IC36,MATCHSELEVES!$Y$14:$AE$600,4,FALSE),0)","v":0},{"$f":"IFERROR(VLOOKUP(IC36,MATCHSELEVES!$Y$14:$AE$600,5,FALSE),0)","v":0},{"$f":"IFERROR(VLOOKUP(IC36,MATCHSELEVES!$Y$14:$AF$600,8,FALSE),0)","v":0},{"$f":"IFERROR(VLOOKUP(IC36,MATCHSELEVES!$Y$14:$AG$600,9,FALSE),0)","v":0},"Yanis_38",{"$f":"IFERROR(VLOOKUP(II36,MATCHSELEVES!$Y$14:$AE$600,3,FALSE),0)","v":0},{"$f":"IFERROR(VLOOKUP(II36,MATCHSELEVES!$Y$14:$AE$600,4,FALSE),0)","v":0},{"$f":"IFERROR(VLOOKUP(II36,MATCHSELEVES!$Y$14:$AE$600,5,FALSE),0)","v":0},{"$f":"IFERROR(VLOOKUP(II36,MATCHSELEVES!$Y$14:$AF$600,8,FALSE),0)","v":0},{"$f":"IFERROR(VLOOKUP(II36,MATCHSELEVES!$Y$14:$AG$600,9,FALSE),0)","v":0},"Yanis_39",{"$f":"IFERROR(VLOOKUP(IO36,MATCHSELEVES!$Y$14:$AE$600,3,FALSE),0)","v":0},{"$f":"IFERROR(VLOOKUP(IO36,MATCHSELEVES!$Y$14:$AE$600,4,FALSE),0)","v":0},{"$f":"IFERROR(VLOOKUP(IO36,MATCHSELEVES!$Y$14:$AE$600,5,FALSE),0)","v":0},{"$f":"IFERROR(VLOOKUP(IO36,MATCHSELEVES!$Y$14:$AF$600,8,FALSE),0)","v":0},{"$f":"IFERROR(VLOOKUP(IO36,MATCHSELEVES!$Y$14:$AG$600,9,FALSE),0)","v":0},"Yanis_40",{"$f":"IFERROR(VLOOKUP(IU36,MATCHSELEVES!$Y$14:$AE$600,3,FALSE),0)","v":0},{"$f":"IFERROR(VLOOKUP(IU36,MATCHSELEVES!$Y$14:$AE$600,4,FALSE),0)","v":0},{"$f":"IFERROR(VLOOKUP(IU36,MATCHSELEVES!$Y$14:$AE$600,5,FALSE),0)","v":0},{"$f":"IFERROR(VLOOKUP(IU36,MATCHSELEVES!$Y$14:$AF$600,8,FALSE),0)","v":0},{"$f":"IFERROR(VLOOKUP(IU36,MATCHSELEVES!$Y$14:$AG$600,9,FALSE),0)","v":0},{"$f":"Tableau10[[#This Row],[CLASSE]]","v":"Yanis"},1,{"$f":"MD1POINT!D36","v":1},"Yanisp_1",{"$f":"IFERROR(VLOOKUP(JD36,MATCHSELEVES!$Y$14:$AE$600,3,FALSE),0)","v":0},{"$f":"IFERROR(VLOOKUP(JD36,MATCHSELEVES!$Y$14:$AE$600,4,FALSE),0)","v":0},{"$f":"IFERROR(VLOOKUP(JD36,MATCHSELEVES!$Y$14:$AE$600,5,FALSE),0)","v":0},{"$f":"IFERROR(VLOOKUP(JD36,MATCHSELEVES!$Y$14:$AF$600,8,FALSE),0)","v":0},{"$f":"IFERROR(VLOOKUP(JD36,MATCHSELEVES!$Y$14:$AG$600,9,FALSE),0)","v":0},"Yanisp_2",{"$f":"IFERROR(VLOOKUP(JJ36,MATCHSELEVES!$Y$14:$AE$600,3,FALSE),0)","v":0},{"$f":"IFERROR(VLOOKUP(JJ36,MATCHSELEVES!$Y$14:$AE$600,4,FALSE),0)","v":0},{"$f":"IFERROR(VLOOKUP(JJ36,MATCHSELEVES!$Y$14:$AE$600,5,FALSE),0)","v":0},{"$f":"IFERROR(VLOOKUP(JJ36,MATCHSELEVES!$Y$14:$AF$600,8,FALSE),0)","v":0},{"$f":"IFERROR(VLOOKUP(JJ36,MATCHSELEVES!$Y$14:$AG$600,9,FALSE),0)","v":0},"Yanisp_3",{"$f":"IFERROR(VLOOKUP(JP36,MATCHSELEVES!$Y$14:$AE$600,3,FALSE),0)","v":0},{"$f":"IFERROR(VLOOKUP(JP36,MATCHSELEVES!$Y$14:$AE$600,4,FALSE),0)","v":0},{"$f":"IFERROR(VLOOKUP(JP36,MATCHSELEVES!$Y$14:$AE$600,5,FALSE),0)","v":0},{"$f":"IFERROR(VLOOKUP(JP36,MATCHSELEVES!$Y$14:$AF$600,8,FALSE),0)","v":0},{"$f":"IFERROR(VLOOKUP(JP36,MATCHSELEVES!$Y$14:$AG$600,9,FALSE),0)","v":0},"Yanisp_4",{"$f":"IFERROR(VLOOKUP(JV36,MATCHSELEVES!$Y$14:$AE$600,3,FALSE),0)","v":0},{"$f":"IFERROR(VLOOKUP(JV36,MATCHSELEVES!$Y$14:$AE$600,4,FALSE),0)","v":0},{"$f":"IFERROR(VLOOKUP(JV36,MATCHSELEVES!$Y$14:$AE$600,5,FALSE),0)","v":0},{"$f":"IFERROR(VLOOKUP(JV36,MATCHSELEVES!$Y$14:$AF$600,8,FALSE),0)","v":0},{"$f":"IFERROR(VLOOKUP(JV36,MATCHSELEVES!$Y$14:$AG$600,9,FALSE),0)","v":0},"Yanisp_5",{"$f":"IFERROR(VLOOKUP(KB36,MATCHSELEVES!$Y$14:$AE$600,3,FALSE),0)","v":0},{"$f":"IFERROR(VLOOKUP(KB36,MATCHSELEVES!$Y$14:$AE$600,4,FALSE),0)","v":0},{"$f":"IFERROR(VLOOKUP(KB36,MATCHSELEVES!$Y$14:$AE$600,5,FALSE),0)","v":0},{"$f":"IFERROR(VLOOKUP(KB36,MATCHSELEVES!$Y$14:$AF$600,8,FALSE),0)","v":0},{"$f":"IFERROR(VLOOKUP(KB36,MATCHSELEVES!$Y$14:$AG$600,9,FALSE),0)","v":0},"Yanisp_6",{"$f":"IFERROR(VLOOKUP(KH36,MATCHSELEVES!$Y$14:$AE$600,3,FALSE),0)","v":0},{"$f":"IFERROR(VLOOKUP(KH36,MATCHSELEVES!$Y$14:$AE$600,4,FALSE),0)","v":0},{"$f":"IFERROR(VLOOKUP(KH36,MATCHSELEVES!$Y$14:$AE$600,5,FALSE),0)","v":0},{"$f":"IFERROR(VLOOKUP(KH36,MATCHSELEVES!$Y$14:$AF$600,8,FALSE),0)","v":0},{"$f":"IFERROR(VLOOKUP(KH36,MATCHSELEVES!$Y$14:$AG$600,9,FALSE),0)","v":0},"Yanisp_7",{"$f":"IFERROR(VLOOKUP(KN36,MATCHSELEVES!$Y$14:$AE$600,3,FALSE),0)","v":0},{"$f":"IFERROR(VLOOKUP(KN36,MATCHSELEVES!$Y$14:$AE$600,4,FALSE),0)","v":0},{"$f":"IFERROR(VLOOKUP(KN36,MATCHSELEVES!$Y$14:$AE$600,5,FALSE),0)","v":0},{"$f":"IFERROR(VLOOKUP(KN36,MATCHSELEVES!$Y$14:$AF$600,8,FALSE),0)","v":0},{"$f":"IFERROR(VLOOKUP(KN36,MATCHSELEVES!$Y$14:$AG$600,9,FALSE),0)","v":0},"Yanisp_8",{"$f":"IFERROR(VLOOKUP(KT36,MATCHSELEVES!$Y$14:$AE$600,3,FALSE),0)","v":0},{"$f":"IFERROR(VLOOKUP(KT36,MATCHSELEVES!$Y$14:$AE$600,4,FALSE),0)","v":0},{"$f":"IFERROR(VLOOKUP(KT36,MATCHSELEVES!$Y$14:$AE$600,5,FALSE),0)","v":0},{"$f":"IFERROR(VLOOKUP(KT36,MATCHSELEVES!$Y$14:$AF$600,8,FALSE),0)","v":0},{"$f":"IFERROR(VLOOKUP(KT36,MATCHSELEVES!$Y$14:$AG$600,9,FALSE),0)","v":0},"Yanisp_9",{"$f":"IFERROR(VLOOKUP(KZ36,MATCHSELEVES!$Y$14:$AE$600,3,FALSE),0)","v":0},{"$f":"IFERROR(VLOOKUP(KZ36,MATCHSELEVES!$Y$14:$AE$600,4,FALSE),0)","v":0},{"$f":"IFERROR(VLOOKUP(KZ36,MATCHSELEVES!$Y$14:$AE$600,5,FALSE),0)","v":0},{"$f":"IFERROR(VLOOKUP(KZ36,MATCHSELEVES!$Y$14:$AF$600,8,FALSE),0)","v":0},{"$f":"IFERROR(VLOOKUP(KZ36,MATCHSELEVES!$Y$14:$AG$600,9,FALSE),0)","v":0},"Yanisp_10",{"$f":"IFERROR(VLOOKUP(LF36,MATCHSELEVES!$Y$14:$AE$600,3,FALSE),0)","v":0},{"$f":"IFERROR(VLOOKUP(LF36,MATCHSELEVES!$Y$14:$AE$600,4,FALSE),0)","v":0},{"$f":"IFERROR(VLOOKUP(LF36,MATCHSELEVES!$Y$14:$AE$600,5,FALSE),0)","v":0},{"$f":"IFERROR(VLOOKUP(LF36,MATCHSELEVES!$Y$14:$AF$600,8,FALSE),0)","v":0},{"$f":"IFERROR(VLOOKUP(LF36,MATCHSELEVES!$Y$14:$AG$600,9,FALSE),0)","v":0},"Yanisp_11",{"$f":"IFERROR(VLOOKUP(LL36,MATCHSELEVES!$Y$14:$AE$600,3,FALSE),0)","v":0},{"$f":"IFERROR(VLOOKUP(LL36,MATCHSELEVES!$Y$14:$AE$600,4,FALSE),0)","v":0},{"$f":"IFERROR(VLOOKUP(LL36,MATCHSELEVES!$Y$14:$AE$600,5,FALSE),0)","v":0},{"$f":"IFERROR(VLOOKUP(LL36,MATCHSELEVES!$Y$14:$AF$600,8,FALSE),0)","v":0},{"$f":"IFERROR(VLOOKUP(LL36,MATCHSELEVES!$Y$14:$AG$600,9,FALSE),0)","v":0},"Yanisp_12",{"$f":"IFERROR(VLOOKUP(LR36,MATCHSELEVES!$Y$14:$AE$600,3,FALSE),0)","v":0},{"$f":"IFERROR(VLOOKUP(LR36,MATCHSELEVES!$Y$14:$AE$600,4,FALSE),0)","v":0},{"$f":"IFERROR(VLOOKUP(LR36,MATCHSELEVES!$Y$14:$AE$600,5,FALSE),0)","v":0},{"$f":"IFERROR(VLOOKUP(LR36,MATCHSELEVES!$Y$14:$AF$600,8,FALSE),0)","v":0},{"$f":"IFERROR(VLOOKUP(LR36,MATCHSELEVES!$Y$14:$AG$600,9,FALSE),0)","v":0},"Yanisp_13",{"$f":"IFERROR(VLOOKUP(LX36,MATCHSELEVES!$Y$14:$AE$600,3,FALSE),0)","v":0},{"$f":"IFERROR(VLOOKUP(LX36,MATCHSELEVES!$Y$14:$AE$600,4,FALSE),0)","v":0},{"$f":"IFERROR(VLOOKUP(LX36,MATCHSELEVES!$Y$14:$AE$600,5,FALSE),0)","v":0},{"$f":"IFERROR(VLOOKUP(LX36,MATCHSELEVES!$Y$14:$AF$600,8,FALSE),0)","v":0},{"$f":"IFERROR(VLOOKUP(LX36,MATCHSELEVES!$Y$14:$AG$600,9,FALSE),0)","v":0},"Yanisp_14",{"$f":"IFERROR(VLOOKUP(MD36,MATCHSELEVES!$Y$14:$AE$600,3,FALSE),0)","v":0},{"$f":"IFERROR(VLOOKUP(MD36,MATCHSELEVES!$Y$14:$AE$600,4,FALSE),0)","v":0},{"$f":"IFERROR(VLOOKUP(MD36,MATCHSELEVES!$Y$14:$AE$600,5,FALSE),0)","v":0},{"$f":"IFERROR(VLOOKUP(MD36,MATCHSELEVES!$Y$14:$AF$600,8,FALSE),0)","v":0},{"$f":"IFERROR(VLOOKUP(MD36,MATCHSELEVES!$Y$14:$AG$600,9,FALSE),0)","v":0},"Yanisp_15",{"$f":"IFERROR(VLOOKUP(MJ36,MATCHSELEVES!$Y$14:$AE$600,3,FALSE),0)","v":0},{"$f":"IFERROR(VLOOKUP(MJ36,MATCHSELEVES!$Y$14:$AE$600,4,FALSE),0)","v":0},{"$f":"IFERROR(VLOOKUP(MJ36,MATCHSELEVES!$Y$14:$AE$600,5,FALSE),0)","v":0},{"$f":"IFERROR(VLOOKUP(MJ36,MATCHSELEVES!$Y$14:$AF$600,8,FALSE),0)","v":0},{"$f":"IFERROR(VLOOKUP(MJ36,MATCHSELEVES!$Y$14:$AG$600,9,FALSE),0)","v":0},"Yanisp_16",{"$f":"IFERROR(VLOOKUP(MP36,MATCHSELEVES!$Y$14:$AE$600,3,FALSE),0)","v":0},{"$f":"IFERROR(VLOOKUP(MP36,MATCHSELEVES!$Y$14:$AE$600,4,FALSE),0)","v":0},{"$f":"IFERROR(VLOOKUP(MP36,MATCHSELEVES!$Y$14:$AE$600,5,FALSE),0)","v":0},{"$f":"IFERROR(VLOOKUP(MP36,MATCHSELEVES!$Y$14:$AF$600,8,FALSE),0)","v":0},{"$f":"IFERROR(VLOOKUP(MP36,MATCHSELEVES!$Y$14:$AG$600,9,FALSE),0)","v":0},"Yanisp_17",{"$f":"IFERROR(VLOOKUP(MV36,MATCHSELEVES!$Y$14:$AE$600,3,FALSE),0)","v":0},{"$f":"IFERROR(VLOOKUP(MV36,MATCHSELEVES!$Y$14:$AE$600,4,FALSE),0)","v":0},{"$f":"IFERROR(VLOOKUP(MV36,MATCHSELEVES!$Y$14:$AE$600,5,FALSE),0)","v":0},{"$f":"IFERROR(VLOOKUP(MV36,MATCHSELEVES!$Y$14:$AF$600,8,FALSE),0)","v":0},{"$f":"IFERROR(VLOOKUP(MV36,MATCHSELEVES!$Y$14:$AG$600,9,FALSE),0)","v":0},"Yanisp_18",{"$f":"IFERROR(VLOOKUP(NB36,MATCHSELEVES!$Y$14:$AE$600,3,FALSE),0)","v":0},{"$f":"IFERROR(VLOOKUP(NB36,MATCHSELEVES!$Y$14:$AE$600,4,FALSE),0)","v":0},{"$f":"IFERROR(VLOOKUP(NB36,MATCHSELEVES!$Y$14:$AE$600,5,FALSE),0)","v":0},{"$f":"IFERROR(VLOOKUP(NB36,MATCHSELEVES!$Y$14:$AF$600,8,FALSE),0)","v":0},{"$f":"IFERROR(VLOOKUP(NB36,MATCHSELEVES!$Y$14:$AG$600,9,FALSE),0)","v":0},"Yanisp_19",{"$f":"IFERROR(VLOOKUP(NH36,MATCHSELEVES!$Y$14:$AE$600,3,FALSE),0)","v":0},{"$f":"IFERROR(VLOOKUP(NH36,MATCHSELEVES!$Y$14:$AE$600,4,FALSE),0)","v":0},{"$f":"IFERROR(VLOOKUP(NH36,MATCHSELEVES!$Y$14:$AE$600,5,FALSE),0)","v":0},{"$f":"IFERROR(VLOOKUP(NH36,MATCHSELEVES!$Y$14:$AF$600,8,FALSE),0)","v":0},{"$f":"IFERROR(VLOOKUP(NH36,MATCHSELEVES!$Y$14:$AG$600,9,FALSE),0)","v":0},"Yanisp_20",{"$f":"IFERROR(VLOOKUP(NN36,MATCHSELEVES!$Y$14:$AE$600,3,FALSE),0)","v":0},{"$f":"IFERROR(VLOOKUP(NN36,MATCHSELEVES!$Y$14:$AE$600,4,FALSE),0)","v":0},{"$f":"IFERROR(VLOOKUP(NN36,MATCHSELEVES!$Y$14:$AE$600,5,FALSE),0)","v":0},{"$f":"IFERROR(VLOOKUP(NN36,MATCHSELEVES!$Y$14:$AF$600,8,FALSE),0)","v":0},{"$f":"IFERROR(VLOOKUP(NN36,MATCHSELEVES!$Y$14:$AG$600,9,FALSE),0)","v":0},"Yanisp_21",{"$f":"IFERROR(VLOOKUP(NT36,MATCHSELEVES!$Y$14:$AE$600,3,FALSE),0)","v":0},{"$f":"IFERROR(VLOOKUP(NT36,MATCHSELEVES!$Y$14:$AE$600,4,FALSE),0)","v":0},{"$f":"IFERROR(VLOOKUP(NT36,MATCHSELEVES!$Y$14:$AE$600,5,FALSE),0)","v":0},{"$f":"IFERROR(VLOOKUP(NT36,MATCHSELEVES!$Y$14:$AF$600,8,FALSE),0)","v":0},{"$f":"IFERROR(VLOOKUP(NT36,MATCHSELEVES!$Y$14:$AG$600,9,FALSE),0)","v":0},"Yanisp_22",{"$f":"IFERROR(VLOOKUP(NZ36,MATCHSELEVES!$Y$14:$AE$600,3,FALSE),0)","v":0},{"$f":"IFERROR(VLOOKUP(NZ36,MATCHSELEVES!$Y$14:$AE$600,4,FALSE),0)","v":0},{"$f":"IFERROR(VLOOKUP(NZ36,MATCHSELEVES!$Y$14:$AE$600,5,FALSE),0)","v":0},{"$f":"IFERROR(VLOOKUP(NZ36,MATCHSELEVES!$Y$14:$AF$600,8,FALSE),0)","v":0},{"$f":"IFERROR(VLOOKUP(NZ36,MATCHSELEVES!$Y$14:$AG$600,9,FALSE),0)","v":0},"Yanisp_23",{"$f":"IFERROR(VLOOKUP(OF36,MATCHSELEVES!$Y$14:$AE$600,3,FALSE),0)","v":0},{"$f":"IFERROR(VLOOKUP(OF36,MATCHSELEVES!$Y$14:$AE$600,4,FALSE),0)","v":0},{"$f":"IFERROR(VLOOKUP(OF36,MATCHSELEVES!$Y$14:$AE$600,5,FALSE),0)","v":0},{"$f":"IFERROR(VLOOKUP(OF36,MATCHSELEVES!$Y$14:$AF$600,8,FALSE),0)","v":0},{"$f":"IFERROR(VLOOKUP(OF36,MATCHSELEVES!$Y$14:$AG$600,9,FALSE),0)","v":0},"Yanisp_24",{"$f":"IFERROR(VLOOKUP(OL36,MATCHSELEVES!$Y$14:$AE$600,3,FALSE),0)","v":0},{"$f":"IFERROR(VLOOKUP(OL36,MATCHSELEVES!$Y$14:$AE$600,4,FALSE),0)","v":0},{"$f":"IFERROR(VLOOKUP(OL36,MATCHSELEVES!$Y$14:$AE$600,5,FALSE),0)","v":0},{"$f":"IFERROR(VLOOKUP(OL36,MATCHSELEVES!$Y$14:$AF$600,8,FALSE),0)","v":0},{"$f":"IFERROR(VLOOKUP(OL36,MATCHSELEVES!$Y$14:$AG$600,9,FALSE),0)","v":0},"Yanisp_25",{"$f":"IFERROR(VLOOKUP(OR36,MATCHSELEVES!$Y$14:$AE$600,3,FALSE),0)","v":0},{"$f":"IFERROR(VLOOKUP(OR36,MATCHSELEVES!$Y$14:$AE$600,4,FALSE),0)","v":0},{"$f":"IFERROR(VLOOKUP(OR36,MATCHSELEVES!$Y$14:$AE$600,5,FALSE),0)","v":0},{"$f":"IFERROR(VLOOKUP(OR36,MATCHSELEVES!$Y$14:$AF$600,8,FALSE),0)","v":0},{"$f":"IFERROR(VLOOKUP(OR36,MATCHSELEVES!$Y$14:$AG$600,9,FALSE),0)","v":0},"Yanisp_26",{"$f":"IFERROR(VLOOKUP(OX36,MATCHSELEVES!$Y$14:$AE$600,3,FALSE),0)","v":0},{"$f":"IFERROR(VLOOKUP(OX36,MATCHSELEVES!$Y$14:$AE$600,4,FALSE),0)","v":0},{"$f":"IFERROR(VLOOKUP(OX36,MATCHSELEVES!$Y$14:$AE$600,5,FALSE),0)","v":0},{"$f":"IFERROR(VLOOKUP(OX36,MATCHSELEVES!$Y$14:$AF$600,8,FALSE),0)","v":0},{"$f":"IFERROR(VLOOKUP(OX36,MATCHSELEVES!$Y$14:$AG$600,9,FALSE),0)","v":0},"Yanisp_27",{"$f":"IFERROR(VLOOKUP(PD36,MATCHSELEVES!$Y$14:$AE$600,3,FALSE),0)","v":0},{"$f":"IFERROR(VLOOKUP(PD36,MATCHSELEVES!$Y$14:$AE$600,4,FALSE),0)","v":0},{"$f":"IFERROR(VLOOKUP(PD36,MATCHSELEVES!$Y$14:$AE$600,5,FALSE),0)","v":0},{"$f":"IFERROR(VLOOKUP(PD36,MATCHSELEVES!$Y$14:$AF$600,8,FALSE),0)","v":0},{"$f":"IFERROR(VLOOKUP(PD36,MATCHSELEVES!$Y$14:$AG$600,9,FALSE),0)","v":0},"Yanisp_28",{"$f":"IFERROR(VLOOKUP(PJ36,MATCHSELEVES!$Y$14:$AE$600,3,FALSE),0)","v":0},{"$f":"IFERROR(VLOOKUP(PJ36,MATCHSELEVES!$Y$14:$AE$600,4,FALSE),0)","v":0},{"$f":"IFERROR(VLOOKUP(PJ36,MATCHSELEVES!$Y$14:$AE$600,5,FALSE),0)","v":0},{"$f":"IFERROR(VLOOKUP(PJ36,MATCHSELEVES!$Y$14:$AF$600,8,FALSE),0)","v":0},{"$f":"IFERROR(VLOOKUP(PJ36,MATCHSELEVES!$Y$14:$AG$600,9,FALSE),0)","v":0},"Yanisp_29",{"$f":"IFERROR(VLOOKUP(PP36,MATCHSELEVES!$Y$14:$AE$600,3,FALSE),0)","v":0},{"$f":"IFERROR(VLOOKUP(PP36,MATCHSELEVES!$Y$14:$AE$600,4,FALSE),0)","v":0},{"$f":"IFERROR(VLOOKUP(PP36,MATCHSELEVES!$Y$14:$AE$600,5,FALSE),0)","v":0},{"$f":"IFERROR(VLOOKUP(PP36,MATCHSELEVES!$Y$14:$AF$600,8,FALSE),0)","v":0},{"$f":"IFERROR(VLOOKUP(PP36,MATCHSELEVES!$Y$14:$AG$600,9,FALSE),0)","v":0},"Yanisp_30",{"$f":"IFERROR(VLOOKUP(PV36,MATCHSELEVES!$Y$14:$AE$600,3,FALSE),0)","v":0},{"$f":"IFERROR(VLOOKUP(PV36,MATCHSELEVES!$Y$14:$AE$600,4,FALSE),0)","v":0},{"$f":"IFERROR(VLOOKUP(PV36,MATCHSELEVES!$Y$14:$AE$600,5,FALSE),0)","v":0},{"$f":"IFERROR(VLOOKUP(PV36,MATCHSELEVES!$Y$14:$AF$600,8,FALSE),0)","v":0},{"$f":"IFERROR(VLOOKUP(PV36,MATCHSELEVES!$Y$14:$AG$600,9,FALSE),0)","v":0},"Yanisp_31",{"$f":"IFERROR(VLOOKUP(QB36,MATCHSELEVES!$Y$14:$AE$600,3,FALSE),0)","v":0},{"$f":"IFERROR(VLOOKUP(QB36,MATCHSELEVES!$Y$14:$AE$600,4,FALSE),0)","v":0},{"$f":"IFERROR(VLOOKUP(QB36,MATCHSELEVES!$Y$14:$AE$600,5,FALSE),0)","v":0},{"$f":"IFERROR(VLOOKUP(QB36,MATCHSELEVES!$Y$14:$AF$600,8,FALSE),0)","v":0},{"$f":"IFERROR(VLOOKUP(QB36,MATCHSELEVES!$Y$14:$AG$600,9,FALSE),0)","v":0},"Yanisp_32",{"$f":"IFERROR(VLOOKUP(QH36,MATCHSELEVES!$Y$14:$AE$600,3,FALSE),0)","v":0},{"$f":"IFERROR(VLOOKUP(QH36,MATCHSELEVES!$Y$14:$AE$600,4,FALSE),0)","v":0},{"$f":"IFERROR(VLOOKUP(QH36,MATCHSELEVES!$Y$14:$AE$600,5,FALSE),0)","v":0},{"$f":"IFERROR(VLOOKUP(QH36,MATCHSELEVES!$Y$14:$AF$600,8,FALSE),0)","v":0},{"$f":"IFERROR(VLOOKUP(QH36,MATCHSELEVES!$Y$14:$AG$600,9,FALSE),0)","v":0},"Yanisp_33",{"$f":"IFERROR(VLOOKUP(QN36,MATCHSELEVES!$Y$14:$AE$600,3,FALSE),0)","v":0},{"$f":"IFERROR(VLOOKUP(QN36,MATCHSELEVES!$Y$14:$AE$600,4,FALSE),0)","v":0},{"$f":"IFERROR(VLOOKUP(QN36,MATCHSELEVES!$Y$14:$AE$600,5,FALSE),0)","v":0},{"$f":"IFERROR(VLOOKUP(QN36,MATCHSELEVES!$Y$14:$AF$600,8,FALSE),0)","v":0},{"$f":"IFERROR(VLOOKUP(QN36,MATCHSELEVES!$Y$14:$AG$600,9,FALSE),0)","v":0},"Yanisp_34",{"$f":"IFERROR(VLOOKUP(QT36,MATCHSELEVES!$Y$14:$AE$600,3,FALSE),0)","v":0},{"$f":"IFERROR(VLOOKUP(QT36,MATCHSELEVES!$Y$14:$AE$600,4,FALSE),0)","v":0},{"$f":"IFERROR(VLOOKUP(QT36,MATCHSELEVES!$Y$14:$AE$600,5,FALSE),0)","v":0},{"$f":"IFERROR(VLOOKUP(QT36,MATCHSELEVES!$Y$14:$AF$600,8,FALSE),0)","v":0},{"$f":"IFERROR(VLOOKUP(QT36,MATCHSELEVES!$Y$14:$AG$600,9,FALSE),0)","v":0},"Yanisp_35",{"$f":"IFERROR(VLOOKUP(QZ36,MATCHSELEVES!$Y$14:$AE$600,3,FALSE),0)","v":0},{"$f":"IFERROR(VLOOKUP(QZ36,MATCHSELEVES!$Y$14:$AE$600,4,FALSE),0)","v":0},{"$f":"IFERROR(VLOOKUP(QZ36,MATCHSELEVES!$Y$14:$AE$600,5,FALSE),0)","v":0},{"$f":"IFERROR(VLOOKUP(QZ36,MATCHSELEVES!$Y$14:$AF$600,8,FALSE),0)","v":0},{"$f":"IFERROR(VLOOKUP(QZ36,MATCHSELEVES!$Y$14:$AG$600,9,FALSE),0)","v":0},"Yanisp_36",{"$f":"IFERROR(VLOOKUP(RF36,MATCHSELEVES!$Y$14:$AE$600,3,FALSE),0)","v":0},{"$f":"IFERROR(VLOOKUP(RF36,MATCHSELEVES!$Y$14:$AE$600,4,FALSE),0)","v":0},{"$f":"IFERROR(VLOOKUP(RF36,MATCHSELEVES!$Y$14:$AE$600,5,FALSE),0)","v":0},{"$f":"IFERROR(VLOOKUP(RF36,MATCHSELEVES!$Y$14:$AF$600,8,FALSE),0)","v":0},{"$f":"IFERROR(VLOOKUP(RF36,MATCHSELEVES!$Y$14:$AG$600,9,FALSE),0)","v":0},"Yanisp_37",{"$f":"IFERROR(VLOOKUP(RL36,MATCHSELEVES!$Y$14:$AE$600,3,FALSE),0)","v":0},{"$f":"IFERROR(VLOOKUP(RL36,MATCHSELEVES!$Y$14:$AE$600,4,FALSE),0)","v":0},{"$f":"IFERROR(VLOOKUP(RL36,MATCHSELEVES!$Y$14:$AE$600,5,FALSE),0)","v":0},{"$f":"IFERROR(VLOOKUP(RL36,MATCHSELEVES!$Y$14:$AF$600,8,FALSE),0)","v":0},{"$f":"IFERROR(VLOOKUP(RL36,MATCHSELEVES!$Y$14:$AG$600,9,FALSE),0)","v":0},"Yanisp_38",{"$f":"IFERROR(VLOOKUP(RR36,MATCHSELEVES!$Y$14:$AE$600,3,FALSE),0)","v":0},{"$f":"IFERROR(VLOOKUP(RR36,MATCHSELEVES!$Y$14:$AE$600,4,FALSE),0)","v":0},{"$f":"IFERROR(VLOOKUP(RR36,MATCHSELEVES!$Y$14:$AE$600,5,FALSE),0)","v":0},{"$f":"IFERROR(VLOOKUP(RR36,MATCHSELEVES!$Y$14:$AF$600,8,FALSE),0)","v":0},{"$f":"IFERROR(VLOOKUP(RR36,MATCHSELEVES!$Y$14:$AG$600,9,FALSE),0)","v":0},"Yanisp_39",{"$f":"IFERROR(VLOOKUP(RX36,MATCHSELEVES!$Y$14:$AE$600,3,FALSE),0)","v":0},{"$f":"IFERROR(VLOOKUP(RX36,MATCHSELEVES!$Y$14:$AE$600,4,FALSE),0)","v":0},{"$f":"IFERROR(VLOOKUP(RX36,MATCHSELEVES!$Y$14:$AE$600,5,FALSE),0)","v":0},{"$f":"IFERROR(VLOOKUP(RX36,MATCHSELEVES!$Y$14:$AF$600,8,FALSE),0)","v":0},{"$f":"IFERROR(VLOOKUP(RX36,MATCHSELEVES!$Y$14:$AG$600,9,FALSE),0)","v":0},"Yanisp_40",{"$f":"IFERROR(VLOOKUP(SD36,MATCHSELEVES!$Y$14:$AE$600,3,FALSE),0)","v":0},{"$f":"IFERROR(VLOOKUP(SD36,MATCHSELEVES!$Y$14:$AE$600,4,FALSE),0)","v":0},{"$f":"IFERROR(VLOOKUP(SD36,MATCHSELEVES!$Y$14:$AE$600,5,FALSE),0)","v":0},{"$f":"IFERROR(VLOOKUP(SD36,MATCHSELEVES!$Y$14:$AF$600,8,FALSE),0)","v":0},{"$f":"IFERROR(VLOOKUP(SD36,MATCHSELEVES!$Y$14:$AG$600,9,FALSE),0)","v":0}]
[34,null,{"$f":"MD1POINT!C37","v":"Yousri"},{"$f":"MD1POINT!D37","v":1},{"$f":"COUNTIF(MATCHSELEVES!$Z$14:$Z$600,C37)+COUNTIF(MATCHSELEVES!$Z$14:$Z$600,$C37&\"p\")","v":0},1,{"$f":"COUNTIF(MATCHSELEVES!$F$14:$H$249,C37)","v":0},1,0,1,0,1,0,1,{"$f":"Y37+AE37+AK37+AQ37+AW37+BC37+BI37+BO37+BU37+CA37+CG37+CM37+CS37+CY37+DE37+DK37+DQ37+DW37+EC37+EI37+EO37+EU37+FA37+FG37+FM37+FS37+FY37+GE37+GK37+GQ37+GW37+4+HI37+HO37+HU37+IA37+HC37+IG37+IM37+IY37+IS37+JH37+JN37+JZ37+JT37+KF37+KR37+KX37+LJ37+LP37+LV37+LD37+MB37+MH37+MN37+MZ37+MT37+NF37+NL37+NR37+NX37+OD37+OJ37+OP37+OV37+PB37+PH37+PT37+PN37+PZ37+QF37+QL37+QR37+RD37+QX37+RJ37+RP37+RV37+SB37+SH37+KL37+Tableau10[[#This Row],[Nombre de matchs joués]]*2","v":4},1,{"$f":"(Tableau10[[#This Row],[CLASSEMENT1]]+Tableau10[[#This Row],[CLASSEMENT2]]+Tableau10[[#This Row],[CLASSEMENT3]]+Tableau10[[#This Row],[CLASSEMENT4]]+Tableau10[[#This Row],[CLASSEMENT5]]+Tableau10[[#This Row],[CLASSEMENT6]])/6","v":1},{"$f":"RANK(Tableau10[[#This Row],[MOYENNE CLASSEMENTS]],Tableau10[MOYENNE CLASSEMENTS],1)","v":1},null,{"$f":"Tableau10[[#This Row],[CLASSEMENT1]]","v":1},"Yousri_1",{"$f":"IFERROR(VLOOKUP(U37,MATCHSELEVES!$Y$14:$AE$600,3,FALSE),0)","v":0},{"$f":"IFERROR(VLOOKUP(U37,MATCHSELEVES!$Y$14:$AE$600,4,FALSE),0)","v":0},{"$f":"IFERROR(VLOOKUP(U37,MATCHSELEVES!$Y$14:$AE$600,5,FALSE),0)","v":0},{"$f":"IFERROR(VLOOKUP(U37,MATCHSELEVES!$Y$14:$AF$600,8,FALSE),0)","v":0},{"$f":"IFERROR(VLOOKUP(U37,MATCHSELEVES!$Y$14:$AG$600,9,FALSE),0)","v":0},"Yousri_2",{"$f":"IFERROR(VLOOKUP(AA37,MATCHSELEVES!$Y$14:$AE$600,3,FALSE),0)","v":0},{"$f":"IFERROR(VLOOKUP(AA37,MATCHSELEVES!$Y$14:$AE$600,4,FALSE),0)","v":0},{"$f":"IFERROR(VLOOKUP(AA37,MATCHSELEVES!$Y$14:$AE$600,5,FALSE),0)","v":0},{"$f":"IFERROR(VLOOKUP(AA37,MATCHSELEVES!$Y$14:$AF$600,8,FALSE),0)","v":0},{"$f":"IFERROR(VLOOKUP(AA37,MATCHSELEVES!$Y$14:$AG$600,9,FALSE),0)","v":0},"Yousri_3",{"$f":"IFERROR(VLOOKUP(AG37,MATCHSELEVES!$Y$14:$AE$600,3,FALSE),0)","v":0},{"$f":"IFERROR(VLOOKUP(AG37,MATCHSELEVES!$Y$14:$AE$600,4,FALSE),0)","v":0},{"$f":"IFERROR(VLOOKUP(AG37,MATCHSELEVES!$Y$14:$AE$600,5,FALSE),0)","v":0},{"$f":"IFERROR(VLOOKUP(AG37,MATCHSELEVES!$Y$14:$AF$600,8,FALSE),0)","v":0},{"$f":"IFERROR(VLOOKUP(AG37,MATCHSELEVES!$Y$14:$AG$600,9,FALSE),0)","v":0},"Yousri_4",{"$f":"IFERROR(VLOOKUP(AM37,MATCHSELEVES!$Y$14:$AE$600,3,FALSE),0)","v":0},{"$f":"IFERROR(VLOOKUP(AM37,MATCHSELEVES!$Y$14:$AE$600,4,FALSE),0)","v":0},{"$f":"IFERROR(VLOOKUP(AM37,MATCHSELEVES!$Y$14:$AE$600,5,FALSE),0)","v":0},{"$f":"IFERROR(VLOOKUP(AM37,MATCHSELEVES!$Y$14:$AF$600,8,FALSE),0)","v":0},{"$f":"IFERROR(VLOOKUP(AM37,MATCHSELEVES!$Y$14:$AG$600,9,FALSE),0)","v":0},"Yousri_5",{"$f":"IFERROR(VLOOKUP(AS37,MATCHSELEVES!$Y$14:$AE$600,3,FALSE),0)","v":0},{"$f":"IFERROR(VLOOKUP(AS37,MATCHSELEVES!$Y$14:$AE$600,4,FALSE),0)","v":0},{"$f":"IFERROR(VLOOKUP(AS37,MATCHSELEVES!$Y$14:$AE$600,5,FALSE),0)","v":0},{"$f":"IFERROR(VLOOKUP(AS37,MATCHSELEVES!$Y$14:$AF$600,8,FALSE),0)","v":0},{"$f":"IFERROR(VLOOKUP(AS37,MATCHSELEVES!$Y$14:$AG$600,9,FALSE),0)","v":0},"Yousri_6",{"$f":"IFERROR(VLOOKUP(AY37,MATCHSELEVES!$Y$14:$AE$600,3,FALSE),0)","v":0},{"$f":"IFERROR(VLOOKUP(AY37,MATCHSELEVES!$Y$14:$AE$600,4,FALSE),0)","v":0},{"$f":"IFERROR(VLOOKUP(AY37,MATCHSELEVES!$Y$14:$AE$600,5,FALSE),0)","v":0},{"$f":"IFERROR(VLOOKUP(AY37,MATCHSELEVES!$Y$14:$AF$600,8,FALSE),0)","v":0},{"$f":"IFERROR(VLOOKUP(AY37,MATCHSELEVES!$Y$14:$AG$600,9,FALSE),0)","v":0},"Yousri_7",{"$f":"IFERROR(VLOOKUP(BE37,MATCHSELEVES!$Y$14:$AE$600,3,FALSE),0)","v":0},{"$f":"IFERROR(VLOOKUP(BE37,MATCHSELEVES!$Y$14:$AE$600,4,FALSE),0)","v":0},{"$f":"IFERROR(VLOOKUP(BE37,MATCHSELEVES!$Y$14:$AE$600,5,FALSE),0)","v":0},{"$f":"IFERROR(VLOOKUP(BE37,MATCHSELEVES!$Y$14:$AF$600,8,FALSE),0)","v":0},{"$f":"IFERROR(VLOOKUP(BE37,MATCHSELEVES!$Y$14:$AG$600,9,FALSE),0)","v":0},"Yousri_8",{"$f":"IFERROR(VLOOKUP(BK37,MATCHSELEVES!$Y$14:$AE$600,3,FALSE),0)","v":0},{"$f":"IFERROR(VLOOKUP(BK37,MATCHSELEVES!$Y$14:$AE$600,4,FALSE),0)","v":0},{"$f":"IFERROR(VLOOKUP(BK37,MATCHSELEVES!$Y$14:$AE$600,5,FALSE),0)","v":0},{"$f":"IFERROR(VLOOKUP(BK37,MATCHSELEVES!$Y$14:$AF$600,8,FALSE),0)","v":0},{"$f":"IFERROR(VLOOKUP(BK37,MATCHSELEVES!$Y$14:$AG$600,9,FALSE),0)","v":0},"Yousri_9",{"$f":"IFERROR(VLOOKUP(BQ37,MATCHSELEVES!$Y$14:$AE$600,3,FALSE),0)","v":0},{"$f":"IFERROR(VLOOKUP(BQ37,MATCHSELEVES!$Y$14:$AE$600,4,FALSE),0)","v":0},{"$f":"IFERROR(VLOOKUP(BQ37,MATCHSELEVES!$Y$14:$AE$600,5,FALSE),0)","v":0},{"$f":"IFERROR(VLOOKUP(BQ37,MATCHSELEVES!$Y$14:$AF$600,8,FALSE),0)","v":0},{"$f":"IFERROR(VLOOKUP(BQ37,MATCHSELEVES!$Y$14:$AG$600,9,FALSE),0)","v":0},"Yousri_10",{"$f":"IFERROR(VLOOKUP(BW37,MATCHSELEVES!$Y$14:$AE$600,3,FALSE),0)","v":0},{"$f":"IFERROR(VLOOKUP(BW37,MATCHSELEVES!$Y$14:$AE$600,4,FALSE),0)","v":0},{"$f":"IFERROR(VLOOKUP(BW37,MATCHSELEVES!$Y$14:$AE$600,5,FALSE),0)","v":0},{"$f":"IFERROR(VLOOKUP(BW37,MATCHSELEVES!$Y$14:$AF$600,8,FALSE),0)","v":0},{"$f":"IFERROR(VLOOKUP(BW37,MATCHSELEVES!$Y$14:$AG$600,9,FALSE),0)","v":0},"Yousri_11",{"$f":"IFERROR(VLOOKUP(CC37,MATCHSELEVES!$Y$14:$AE$600,3,FALSE),0)","v":0},{"$f":"IFERROR(VLOOKUP(CC37,MATCHSELEVES!$Y$14:$AE$600,4,FALSE),0)","v":0},{"$f":"IFERROR(VLOOKUP(CC37,MATCHSELEVES!$Y$14:$AE$600,5,FALSE),0)","v":0},{"$f":"IFERROR(VLOOKUP(CC37,MATCHSELEVES!$Y$14:$AF$600,8,FALSE),0)","v":0},{"$f":"IFERROR(VLOOKUP(CC37,MATCHSELEVES!$Y$14:$AG$600,9,FALSE),0)","v":0},"Yousri_12",{"$f":"IFERROR(VLOOKUP(CI37,MATCHSELEVES!$Y$14:$AE$600,3,FALSE),0)","v":0},{"$f":"IFERROR(VLOOKUP(CI37,MATCHSELEVES!$Y$14:$AE$600,4,FALSE),0)","v":0},{"$f":"IFERROR(VLOOKUP(CI37,MATCHSELEVES!$Y$14:$AE$600,5,FALSE),0)","v":0},{"$f":"IFERROR(VLOOKUP(CI37,MATCHSELEVES!$Y$14:$AF$600,8,FALSE),0)","v":0},{"$f":"IFERROR(VLOOKUP(CI37,MATCHSELEVES!$Y$14:$AG$600,9,FALSE),0)","v":0},"Yousri_13",{"$f":"IFERROR(VLOOKUP(CO37,MATCHSELEVES!$Y$14:$AE$600,3,FALSE),0)","v":0},{"$f":"IFERROR(VLOOKUP(CO37,MATCHSELEVES!$Y$14:$AE$600,4,FALSE),0)","v":0},{"$f":"IFERROR(VLOOKUP(CO37,MATCHSELEVES!$Y$14:$AE$600,5,FALSE),0)","v":0},{"$f":"IFERROR(VLOOKUP(CO37,MATCHSELEVES!$Y$14:$AF$600,8,FALSE),0)","v":0},{"$f":"IFERROR(VLOOKUP(CO37,MATCHSELEVES!$Y$14:$AG$600,9,FALSE),0)","v":0},"Yousri_14",{"$f":"IFERROR(VLOOKUP(CU37,MATCHSELEVES!$Y$14:$AE$600,3,FALSE),0)","v":0},{"$f":"IFERROR(VLOOKUP(CU37,MATCHSELEVES!$Y$14:$AE$600,4,FALSE),0)","v":0},{"$f":"IFERROR(VLOOKUP(CU37,MATCHSELEVES!$Y$14:$AE$600,5,FALSE),0)","v":0},{"$f":"IFERROR(VLOOKUP(CU37,MATCHSELEVES!$Y$14:$AF$600,8,FALSE),0)","v":0},{"$f":"IFERROR(VLOOKUP(CU37,MATCHSELEVES!$Y$14:$AG$600,9,FALSE),0)","v":0},"Yousri_15",{"$f":"IFERROR(VLOOKUP(DA37,MATCHSELEVES!$Y$14:$AE$600,3,FALSE),0)","v":0},{"$f":"IFERROR(VLOOKUP(DA37,MATCHSELEVES!$Y$14:$AE$600,4,FALSE),0)","v":0},{"$f":"IFERROR(VLOOKUP(DA37,MATCHSELEVES!$Y$14:$AE$600,5,FALSE),0)","v":0},{"$f":"IFERROR(VLOOKUP(DA37,MATCHSELEVES!$Y$14:$AF$600,8,FALSE),0)","v":0},{"$f":"IFERROR(VLOOKUP(DA37,MATCHSELEVES!$Y$14:$AG$600,9,FALSE),0)","v":0},"Yousri_16",{"$f":"IFERROR(VLOOKUP(DG37,MATCHSELEVES!$Y$14:$AE$600,3,FALSE),0)","v":0},{"$f":"IFERROR(VLOOKUP(DG37,MATCHSELEVES!$Y$14:$AE$600,4,FALSE),0)","v":0},{"$f":"IFERROR(VLOOKUP(DG37,MATCHSELEVES!$Y$14:$AE$600,5,FALSE),0)","v":0},{"$f":"IFERROR(VLOOKUP(DG37,MATCHSELEVES!$Y$14:$AF$600,8,FALSE),0)","v":0},{"$f":"IFERROR(VLOOKUP(DG37,MATCHSELEVES!$Y$14:$AG$600,9,FALSE),0)","v":0},"Yousri_17",{"$f":"IFERROR(VLOOKUP(DM37,MATCHSELEVES!$Y$14:$AE$600,3,FALSE),0)","v":0},{"$f":"IFERROR(VLOOKUP(DM37,MATCHSELEVES!$Y$14:$AE$600,4,FALSE),0)","v":0},{"$f":"IFERROR(VLOOKUP(DM37,MATCHSELEVES!$Y$14:$AE$600,5,FALSE),0)","v":0},{"$f":"IFERROR(VLOOKUP(DM37,MATCHSELEVES!$Y$14:$AF$600,8,FALSE),0)","v":0},{"$f":"IFERROR(VLOOKUP(DM37,MATCHSELEVES!$Y$14:$AG$600,9,FALSE),0)","v":0},"Yousri_18",{"$f":"IFERROR(VLOOKUP(DS37,MATCHSELEVES!$Y$14:$AE$600,3,FALSE),0)","v":0},{"$f":"IFERROR(VLOOKUP(DS37,MATCHSELEVES!$Y$14:$AE$600,4,FALSE),0)","v":0},{"$f":"IFERROR(VLOOKUP(DS37,MATCHSELEVES!$Y$14:$AE$600,5,FALSE),0)","v":0},{"$f":"IFERROR(VLOOKUP(DS37,MATCHSELEVES!$Y$14:$AF$600,8,FALSE),0)","v":0},{"$f":"IFERROR(VLOOKUP(DS37,MATCHSELEVES!$Y$14:$AG$600,9,FALSE),0)","v":0},"Yousri_19",{"$f":"IFERROR(VLOOKUP(DY37,MATCHSELEVES!$Y$14:$AE$600,3,FALSE),0)","v":0},{"$f":"IFERROR(VLOOKUP(DY37,MATCHSELEVES!$Y$14:$AE$600,4,FALSE),0)","v":0},{"$f":"IFERROR(VLOOKUP(DY37,MATCHSELEVES!$Y$14:$AE$600,5,FALSE),0)","v":0},{"$f":"IFERROR(VLOOKUP(DY37,MATCHSELEVES!$Y$14:$AF$600,8,FALSE),0)","v":0},{"$f":"IFERROR(VLOOKUP(DY37,MATCHSELEVES!$Y$14:$AG$600,9,FALSE),0)","v":0},"Yousri_20",{"$f":"IFERROR(VLOOKUP(EE37,MATCHSELEVES!$Y$14:$AE$600,3,FALSE),0)","v":0},{"$f":"IFERROR(VLOOKUP(EE37,MATCHSELEVES!$Y$14:$AE$600,4,FALSE),0)","v":0},{"$f":"IFERROR(VLOOKUP(EE37,MATCHSELEVES!$Y$14:$AE$600,5,FALSE),0)","v":0},{"$f":"IFERROR(VLOOKUP(EE37,MATCHSELEVES!$Y$14:$AF$600,8,FALSE),0)","v":0},{"$f":"IFERROR(VLOOKUP(EE37,MATCHSELEVES!$Y$14:$AG$600,9,FALSE),0)","v":0},"Yousri_21",{"$f":"IFERROR(VLOOKUP(EK37,MATCHSELEVES!$Y$14:$AE$600,3,FALSE),0)","v":0},{"$f":"IFERROR(VLOOKUP(EK37,MATCHSELEVES!$Y$14:$AE$600,4,FALSE),0)","v":0},{"$f":"IFERROR(VLOOKUP(EK37,MATCHSELEVES!$Y$14:$AE$600,5,FALSE),0)","v":0},{"$f":"IFERROR(VLOOKUP(EK37,MATCHSELEVES!$Y$14:$AF$600,8,FALSE),0)","v":0},{"$f":"IFERROR(VLOOKUP(EK37,MATCHSELEVES!$Y$14:$AG$600,9,FALSE),0)","v":0},"Yousri_22",{"$f":"IFERROR(VLOOKUP(EQ37,MATCHSELEVES!$Y$14:$AE$600,3,FALSE),0)","v":0},{"$f":"IFERROR(VLOOKUP(EQ37,MATCHSELEVES!$Y$14:$AE$600,4,FALSE),0)","v":0},{"$f":"IFERROR(VLOOKUP(EQ37,MATCHSELEVES!$Y$14:$AE$600,5,FALSE),0)","v":0},{"$f":"IFERROR(VLOOKUP(EQ37,MATCHSELEVES!$Y$14:$AF$600,8,FALSE),0)","v":0},{"$f":"IFERROR(VLOOKUP(EQ37,MATCHSELEVES!$Y$14:$AG$600,9,FALSE),0)","v":0},"Yousri_23",{"$f":"IFERROR(VLOOKUP(EW37,MATCHSELEVES!$Y$14:$AE$600,3,FALSE),0)","v":0},{"$f":"IFERROR(VLOOKUP(EW37,MATCHSELEVES!$Y$14:$AE$600,4,FALSE),0)","v":0},{"$f":"IFERROR(VLOOKUP(EW37,MATCHSELEVES!$Y$14:$AE$600,5,FALSE),0)","v":0},{"$f":"IFERROR(VLOOKUP(EW37,MATCHSELEVES!$Y$14:$AF$600,8,FALSE),0)","v":0},{"$f":"IFERROR(VLOOKUP(EW37,MATCHSELEVES!$Y$14:$AG$600,9,FALSE),0)","v":0},"Yousri_24",{"$f":"IFERROR(VLOOKUP(FC37,MATCHSELEVES!$Y$14:$AE$600,3,FALSE),0)","v":0},{"$f":"IFERROR(VLOOKUP(FC37,MATCHSELEVES!$Y$14:$AE$600,4,FALSE),0)","v":0},{"$f":"IFERROR(VLOOKUP(FC37,MATCHSELEVES!$Y$14:$AE$600,5,FALSE),0)","v":0},{"$f":"IFERROR(VLOOKUP(FC37,MATCHSELEVES!$Y$14:$AF$600,8,FALSE),0)","v":0},{"$f":"IFERROR(VLOOKUP(FC37,MATCHSELEVES!$Y$14:$AG$600,9,FALSE),0)","v":0},"Yousri_25",{"$f":"IFERROR(VLOOKUP(FI37,MATCHSELEVES!$Y$14:$AE$600,3,FALSE),0)","v":0},{"$f":"IFERROR(VLOOKUP(FI37,MATCHSELEVES!$Y$14:$AE$600,4,FALSE),0)","v":0},{"$f":"IFERROR(VLOOKUP(FI37,MATCHSELEVES!$Y$14:$AE$600,5,FALSE),0)","v":0},{"$f":"IFERROR(VLOOKUP(FI37,MATCHSELEVES!$Y$14:$AF$600,8,FALSE),0)","v":0},{"$f":"IFERROR(VLOOKUP(FI37,MATCHSELEVES!$Y$14:$AG$600,9,FALSE),0)","v":0},"Yousri_26",{"$f":"IFERROR(VLOOKUP(FO37,MATCHSELEVES!$Y$14:$AE$600,3,FALSE),0)","v":0},{"$f":"IFERROR(VLOOKUP(FO37,MATCHSELEVES!$Y$14:$AE$600,4,FALSE),0)","v":0},{"$f":"IFERROR(VLOOKUP(FO37,MATCHSELEVES!$Y$14:$AE$600,5,FALSE),0)","v":0},{"$f":"IFERROR(VLOOKUP(FO37,MATCHSELEVES!$Y$14:$AF$600,8,FALSE),0)","v":0},{"$f":"IFERROR(VLOOKUP(FO37,MATCHSELEVES!$Y$14:$AG$600,9,FALSE),0)","v":0},"Yousri_27",{"$f":"IFERROR(VLOOKUP(FU37,MATCHSELEVES!$Y$14:$AE$600,3,FALSE),0)","v":0},{"$f":"IFERROR(VLOOKUP(FU37,MATCHSELEVES!$Y$14:$AE$600,4,FALSE),0)","v":0},{"$f":"IFERROR(VLOOKUP(FU37,MATCHSELEVES!$Y$14:$AE$600,5,FALSE),0)","v":0},{"$f":"IFERROR(VLOOKUP(FU37,MATCHSELEVES!$Y$14:$AF$600,8,FALSE),0)","v":0},{"$f":"IFERROR(VLOOKUP(FU37,MATCHSELEVES!$Y$14:$AG$600,9,FALSE),0)","v":0},"Yousri_28",{"$f":"IFERROR(VLOOKUP(GA37,MATCHSELEVES!$Y$14:$AE$600,3,FALSE),0)","v":0},{"$f":"IFERROR(VLOOKUP(GA37,MATCHSELEVES!$Y$14:$AE$600,4,FALSE),0)","v":0},{"$f":"IFERROR(VLOOKUP(GA37,MATCHSELEVES!$Y$14:$AE$600,5,FALSE),0)","v":0},{"$f":"IFERROR(VLOOKUP(GA37,MATCHSELEVES!$Y$14:$AF$600,8,FALSE),0)","v":0},{"$f":"IFERROR(VLOOKUP(GA37,MATCHSELEVES!$Y$14:$AG$600,9,FALSE),0)","v":0},"Yousri_29",{"$f":"IFERROR(VLOOKUP(GG37,MATCHSELEVES!$Y$14:$AE$600,3,FALSE),0)","v":0},{"$f":"IFERROR(VLOOKUP(GG37,MATCHSELEVES!$Y$14:$AE$600,4,FALSE),0)","v":0},{"$f":"IFERROR(VLOOKUP(GG37,MATCHSELEVES!$Y$14:$AE$600,5,FALSE),0)","v":0},{"$f":"IFERROR(VLOOKUP(GG37,MATCHSELEVES!$Y$14:$AF$600,8,FALSE),0)","v":0},{"$f":"IFERROR(VLOOKUP(GG37,MATCHSELEVES!$Y$14:$AG$600,9,FALSE),0)","v":0},"Yousri_30",{"$f":"IFERROR(VLOOKUP(GM37,MATCHSELEVES!$Y$14:$AE$600,3,FALSE),0)","v":0},{"$f":"IFERROR(VLOOKUP(GM37,MATCHSELEVES!$Y$14:$AE$600,4,FALSE),0)","v":0},{"$f":"IFERROR(VLOOKUP(GM37,MATCHSELEVES!$Y$14:$AE$600,5,FALSE),0)","v":0},{"$f":"IFERROR(VLOOKUP(GM37,MATCHSELEVES!$Y$14:$AF$600,8,FALSE),0)","v":0},{"$f":"IFERROR(VLOOKUP(GM37,MATCHSELEVES!$Y$14:$AG$600,9,FALSE),0)","v":0},"Yousri_31",{"$f":"IFERROR(VLOOKUP(GS37,MATCHSELEVES!$Y$14:$AE$600,3,FALSE),0)","v":0},{"$f":"IFERROR(VLOOKUP(GS37,MATCHSELEVES!$Y$14:$AE$600,4,FALSE),0)","v":0},{"$f":"IFERROR(VLOOKUP(GS37,MATCHSELEVES!$Y$14:$AE$600,5,FALSE),0)","v":0},{"$f":"IFERROR(VLOOKUP(GS37,MATCHSELEVES!$Y$14:$AF$600,8,FALSE),0)","v":0},{"$f":"IFERROR(VLOOKUP(GS37,MATCHSELEVES!$Y$14:$AG$600,9,FALSE),0)","v":0},"Yousri_32",{"$f":"IFERROR(VLOOKUP(GY37,MATCHSELEVES!$Y$14:$AE$600,3,FALSE),0)","v":0},{"$f":"IFERROR(VLOOKUP(GY37,MATCHSELEVES!$Y$14:$AE$600,4,FALSE),0)","v":0},{"$f":"IFERROR(VLOOKUP(GY37,MATCHSELEVES!$Y$14:$AE$600,5,FALSE),0)","v":0},{"$f":"IFERROR(VLOOKUP(GY37,MATCHSELEVES!$Y$14:$AF$600,8,FALSE),0)","v":0},{"$f":"IFERROR(VLOOKUP(GY37,MATCHSELEVES!$Y$14:$AG$600,9,FALSE),0)","v":0},"Yousri_33",{"$f":"IFERROR(VLOOKUP(HE37,MATCHSELEVES!$Y$14:$AE$600,3,FALSE),0)","v":0},{"$f":"IFERROR(VLOOKUP(HE37,MATCHSELEVES!$Y$14:$AE$600,4,FALSE),0)","v":0},{"$f":"IFERROR(VLOOKUP(HE37,MATCHSELEVES!$Y$14:$AE$600,5,FALSE),0)","v":0},{"$f":"IFERROR(VLOOKUP(HE37,MATCHSELEVES!$Y$14:$AF$600,8,FALSE),0)","v":0},{"$f":"IFERROR(VLOOKUP(HE37,MATCHSELEVES!$Y$14:$AG$600,9,FALSE),0)","v":0},"Yousri_34",{"$f":"IFERROR(VLOOKUP(HK37,MATCHSELEVES!$Y$14:$AE$600,3,FALSE),0)","v":0},{"$f":"IFERROR(VLOOKUP(HK37,MATCHSELEVES!$Y$14:$AE$600,4,FALSE),0)","v":0},{"$f":"IFERROR(VLOOKUP(HK37,MATCHSELEVES!$Y$14:$AE$600,5,FALSE),0)","v":0},{"$f":"IFERROR(VLOOKUP(HK37,MATCHSELEVES!$Y$14:$AF$600,8,FALSE),0)","v":0},{"$f":"IFERROR(VLOOKUP(HK37,MATCHSELEVES!$Y$14:$AG$600,9,FALSE),0)","v":0},"Yousri_35",{"$f":"IFERROR(VLOOKUP(HQ37,MATCHSELEVES!$Y$14:$AE$600,3,FALSE),0)","v":0},{"$f":"IFERROR(VLOOKUP(HQ37,MATCHSELEVES!$Y$14:$AE$600,4,FALSE),0)","v":0},{"$f":"IFERROR(VLOOKUP(HQ37,MATCHSELEVES!$Y$14:$AE$600,5,FALSE),0)","v":0},{"$f":"IFERROR(VLOOKUP(HQ37,MATCHSELEVES!$Y$14:$AF$600,8,FALSE),0)","v":0},{"$f":"IFERROR(VLOOKUP(HQ37,MATCHSELEVES!$Y$14:$AG$600,9,FALSE),0)","v":0},"Yousri_36",{"$f":"IFERROR(VLOOKUP(HW37,MATCHSELEVES!$Y$14:$AE$600,3,FALSE),0)","v":0},{"$f":"IFERROR(VLOOKUP(HW37,MATCHSELEVES!$Y$14:$AE$600,4,FALSE),0)","v":0},{"$f":"IFERROR(VLOOKUP(HW37,MATCHSELEVES!$Y$14:$AE$600,5,FALSE),0)","v":0},{"$f":"IFERROR(VLOOKUP(HW37,MATCHSELEVES!$Y$14:$AF$600,8,FALSE),0)","v":0},{"$f":"IFERROR(VLOOKUP(HW37,MATCHSELEVES!$Y$14:$AG$600,9,FALSE),0)","v":0},"Yousri_37",{"$f":"IFERROR(VLOOKUP(IC37,MATCHSELEVES!$Y$14:$AE$600,3,FALSE),0)","v":0},{"$f":"IFERROR(VLOOKUP(IC37,MATCHSELEVES!$Y$14:$AE$600,4,FALSE),0)","v":0},{"$f":"IFERROR(VLOOKUP(IC37,MATCHSELEVES!$Y$14:$AE$600,5,FALSE),0)","v":0},{"$f":"IFERROR(VLOOKUP(IC37,MATCHSELEVES!$Y$14:$AF$600,8,FALSE),0)","v":0},{"$f":"IFERROR(VLOOKUP(IC37,MATCHSELEVES!$Y$14:$AG$600,9,FALSE),0)","v":0},"Yousri_38",{"$f":"IFERROR(VLOOKUP(II37,MATCHSELEVES!$Y$14:$AE$600,3,FALSE),0)","v":0},{"$f":"IFERROR(VLOOKUP(II37,MATCHSELEVES!$Y$14:$AE$600,4,FALSE),0)","v":0},{"$f":"IFERROR(VLOOKUP(II37,MATCHSELEVES!$Y$14:$AE$600,5,FALSE),0)","v":0},{"$f":"IFERROR(VLOOKUP(II37,MATCHSELEVES!$Y$14:$AF$600,8,FALSE),0)","v":0},{"$f":"IFERROR(VLOOKUP(II37,MATCHSELEVES!$Y$14:$AG$600,9,FALSE),0)","v":0},"Yousri_39",{"$f":"IFERROR(VLOOKUP(IO37,MATCHSELEVES!$Y$14:$AE$600,3,FALSE),0)","v":0},{"$f":"IFERROR(VLOOKUP(IO37,MATCHSELEVES!$Y$14:$AE$600,4,FALSE),0)","v":0},{"$f":"IFERROR(VLOOKUP(IO37,MATCHSELEVES!$Y$14:$AE$600,5,FALSE),0)","v":0},{"$f":"IFERROR(VLOOKUP(IO37,MATCHSELEVES!$Y$14:$AF$600,8,FALSE),0)","v":0},{"$f":"IFERROR(VLOOKUP(IO37,MATCHSELEVES!$Y$14:$AG$600,9,FALSE),0)","v":0},"Yousri_40",{"$f":"IFERROR(VLOOKUP(IU37,MATCHSELEVES!$Y$14:$AE$600,3,FALSE),0)","v":0},{"$f":"IFERROR(VLOOKUP(IU37,MATCHSELEVES!$Y$14:$AE$600,4,FALSE),0)","v":0},{"$f":"IFERROR(VLOOKUP(IU37,MATCHSELEVES!$Y$14:$AE$600,5,FALSE),0)","v":0},{"$f":"IFERROR(VLOOKUP(IU37,MATCHSELEVES!$Y$14:$AF$600,8,FALSE),0)","v":0},{"$f":"IFERROR(VLOOKUP(IU37,MATCHSELEVES!$Y$14:$AG$600,9,FALSE),0)","v":0},{"$f":"Tableau10[[#This Row],[CLASSE]]","v":"Yousri"},1,{"$f":"MD1POINT!D37","v":1},"Yousrip_1",{"$f":"IFERROR(VLOOKUP(JD37,MATCHSELEVES!$Y$14:$AE$600,3,FALSE),0)","v":0},{"$f":"IFERROR(VLOOKUP(JD37,MATCHSELEVES!$Y$14:$AE$600,4,FALSE),0)","v":0},{"$f":"IFERROR(VLOOKUP(JD37,MATCHSELEVES!$Y$14:$AE$600,5,FALSE),0)","v":0},{"$f":"IFERROR(VLOOKUP(JD37,MATCHSELEVES!$Y$14:$AF$600,8,FALSE),0)","v":0},{"$f":"IFERROR(VLOOKUP(JD37,MATCHSELEVES!$Y$14:$AG$600,9,FALSE),0)","v":0},"Yousrip_2",{"$f":"IFERROR(VLOOKUP(JJ37,MATCHSELEVES!$Y$14:$AE$600,3,FALSE),0)","v":0},{"$f":"IFERROR(VLOOKUP(JJ37,MATCHSELEVES!$Y$14:$AE$600,4,FALSE),0)","v":0},{"$f":"IFERROR(VLOOKUP(JJ37,MATCHSELEVES!$Y$14:$AE$600,5,FALSE),0)","v":0},{"$f":"IFERROR(VLOOKUP(JJ37,MATCHSELEVES!$Y$14:$AF$600,8,FALSE),0)","v":0},{"$f":"IFERROR(VLOOKUP(JJ37,MATCHSELEVES!$Y$14:$AG$600,9,FALSE),0)","v":0},"Yousrip_3",{"$f":"IFERROR(VLOOKUP(JP37,MATCHSELEVES!$Y$14:$AE$600,3,FALSE),0)","v":0},{"$f":"IFERROR(VLOOKUP(JP37,MATCHSELEVES!$Y$14:$AE$600,4,FALSE),0)","v":0},{"$f":"IFERROR(VLOOKUP(JP37,MATCHSELEVES!$Y$14:$AE$600,5,FALSE),0)","v":0},{"$f":"IFERROR(VLOOKUP(JP37,MATCHSELEVES!$Y$14:$AF$600,8,FALSE),0)","v":0},{"$f":"IFERROR(VLOOKUP(JP37,MATCHSELEVES!$Y$14:$AG$600,9,FALSE),0)","v":0},"Yousrip_4",{"$f":"IFERROR(VLOOKUP(JV37,MATCHSELEVES!$Y$14:$AE$600,3,FALSE),0)","v":0},{"$f":"IFERROR(VLOOKUP(JV37,MATCHSELEVES!$Y$14:$AE$600,4,FALSE),0)","v":0},{"$f":"IFERROR(VLOOKUP(JV37,MATCHSELEVES!$Y$14:$AE$600,5,FALSE),0)","v":0},{"$f":"IFERROR(VLOOKUP(JV37,MATCHSELEVES!$Y$14:$AF$600,8,FALSE),0)","v":0},{"$f":"IFERROR(VLOOKUP(JV37,MATCHSELEVES!$Y$14:$AG$600,9,FALSE),0)","v":0},"Yousrip_5",{"$f":"IFERROR(VLOOKUP(KB37,MATCHSELEVES!$Y$14:$AE$600,3,FALSE),0)","v":0},{"$f":"IFERROR(VLOOKUP(KB37,MATCHSELEVES!$Y$14:$AE$600,4,FALSE),0)","v":0},{"$f":"IFERROR(VLOOKUP(KB37,MATCHSELEVES!$Y$14:$AE$600,5,FALSE),0)","v":0},{"$f":"IFERROR(VLOOKUP(KB37,MATCHSELEVES!$Y$14:$AF$600,8,FALSE),0)","v":0},{"$f":"IFERROR(VLOOKUP(KB37,MATCHSELEVES!$Y$14:$AG$600,9,FALSE),0)","v":0},"Yousrip_6",{"$f":"IFERROR(VLOOKUP(KH37,MATCHSELEVES!$Y$14:$AE$600,3,FALSE),0)","v":0},{"$f":"IFERROR(VLOOKUP(KH37,MATCHSELEVES!$Y$14:$AE$600,4,FALSE),0)","v":0},{"$f":"IFERROR(VLOOKUP(KH37,MATCHSELEVES!$Y$14:$AE$600,5,FALSE),0)","v":0},{"$f":"IFERROR(VLOOKUP(KH37,MATCHSELEVES!$Y$14:$AF$600,8,FALSE),0)","v":0},{"$f":"IFERROR(VLOOKUP(KH37,MATCHSELEVES!$Y$14:$AG$600,9,FALSE),0)","v":0},"Yousrip_7",{"$f":"IFERROR(VLOOKUP(KN37,MATCHSELEVES!$Y$14:$AE$600,3,FALSE),0)","v":0},{"$f":"IFERROR(VLOOKUP(KN37,MATCHSELEVES!$Y$14:$AE$600,4,FALSE),0)","v":0},{"$f":"IFERROR(VLOOKUP(KN37,MATCHSELEVES!$Y$14:$AE$600,5,FALSE),0)","v":0},{"$f":"IFERROR(VLOOKUP(KN37,MATCHSELEVES!$Y$14:$AF$600,8,FALSE),0)","v":0},{"$f":"IFERROR(VLOOKUP(KN37,MATCHSELEVES!$Y$14:$AG$600,9,FALSE),0)","v":0},"Yousrip_8",{"$f":"IFERROR(VLOOKUP(KT37,MATCHSELEVES!$Y$14:$AE$600,3,FALSE),0)","v":0},{"$f":"IFERROR(VLOOKUP(KT37,MATCHSELEVES!$Y$14:$AE$600,4,FALSE),0)","v":0},{"$f":"IFERROR(VLOOKUP(KT37,MATCHSELEVES!$Y$14:$AE$600,5,FALSE),0)","v":0},{"$f":"IFERROR(VLOOKUP(KT37,MATCHSELEVES!$Y$14:$AF$600,8,FALSE),0)","v":0},{"$f":"IFERROR(VLOOKUP(KT37,MATCHSELEVES!$Y$14:$AG$600,9,FALSE),0)","v":0},"Yousrip_9",{"$f":"IFERROR(VLOOKUP(KZ37,MATCHSELEVES!$Y$14:$AE$600,3,FALSE),0)","v":0},{"$f":"IFERROR(VLOOKUP(KZ37,MATCHSELEVES!$Y$14:$AE$600,4,FALSE),0)","v":0},{"$f":"IFERROR(VLOOKUP(KZ37,MATCHSELEVES!$Y$14:$AE$600,5,FALSE),0)","v":0},{"$f":"IFERROR(VLOOKUP(KZ37,MATCHSELEVES!$Y$14:$AF$600,8,FALSE),0)","v":0},{"$f":"IFERROR(VLOOKUP(KZ37,MATCHSELEVES!$Y$14:$AG$600,9,FALSE),0)","v":0},"Yousrip_10",{"$f":"IFERROR(VLOOKUP(LF37,MATCHSELEVES!$Y$14:$AE$600,3,FALSE),0)","v":0},{"$f":"IFERROR(VLOOKUP(LF37,MATCHSELEVES!$Y$14:$AE$600,4,FALSE),0)","v":0},{"$f":"IFERROR(VLOOKUP(LF37,MATCHSELEVES!$Y$14:$AE$600,5,FALSE),0)","v":0},{"$f":"IFERROR(VLOOKUP(LF37,MATCHSELEVES!$Y$14:$AF$600,8,FALSE),0)","v":0},{"$f":"IFERROR(VLOOKUP(LF37,MATCHSELEVES!$Y$14:$AG$600,9,FALSE),0)","v":0},"Yousrip_11",{"$f":"IFERROR(VLOOKUP(LL37,MATCHSELEVES!$Y$14:$AE$600,3,FALSE),0)","v":0},{"$f":"IFERROR(VLOOKUP(LL37,MATCHSELEVES!$Y$14:$AE$600,4,FALSE),0)","v":0},{"$f":"IFERROR(VLOOKUP(LL37,MATCHSELEVES!$Y$14:$AE$600,5,FALSE),0)","v":0},{"$f":"IFERROR(VLOOKUP(LL37,MATCHSELEVES!$Y$14:$AF$600,8,FALSE),0)","v":0},{"$f":"IFERROR(VLOOKUP(LL37,MATCHSELEVES!$Y$14:$AG$600,9,FALSE),0)","v":0},"Yousrip_12",{"$f":"IFERROR(VLOOKUP(LR37,MATCHSELEVES!$Y$14:$AE$600,3,FALSE),0)","v":0},{"$f":"IFERROR(VLOOKUP(LR37,MATCHSELEVES!$Y$14:$AE$600,4,FALSE),0)","v":0},{"$f":"IFERROR(VLOOKUP(LR37,MATCHSELEVES!$Y$14:$AE$600,5,FALSE),0)","v":0},{"$f":"IFERROR(VLOOKUP(LR37,MATCHSELEVES!$Y$14:$AF$600,8,FALSE),0)","v":0},{"$f":"IFERROR(VLOOKUP(LR37,MATCHSELEVES!$Y$14:$AG$600,9,FALSE),0)","v":0},"Yousrip_13",{"$f":"IFERROR(VLOOKUP(LX37,MATCHSELEVES!$Y$14:$AE$600,3,FALSE),0)","v":0},{"$f":"IFERROR(VLOOKUP(LX37,MATCHSELEVES!$Y$14:$AE$600,4,FALSE),0)","v":0},{"$f":"IFERROR(VLOOKUP(LX37,MATCHSELEVES!$Y$14:$AE$600,5,FALSE),0)","v":0},{"$f":"IFERROR(VLOOKUP(LX37,MATCHSELEVES!$Y$14:$AF$600,8,FALSE),0)","v":0},{"$f":"IFERROR(VLOOKUP(LX37,MATCHSELEVES!$Y$14:$AG$600,9,FALSE),0)","v":0},"Yousrip_14",{"$f":"IFERROR(VLOOKUP(MD37,MATCHSELEVES!$Y$14:$AE$600,3,FALSE),0)","v":0},{"$f":"IFERROR(VLOOKUP(MD37,MATCHSELEVES!$Y$14:$AE$600,4,FALSE),0)","v":0},{"$f":"IFERROR(VLOOKUP(MD37,MATCHSELEVES!$Y$14:$AE$600,5,FALSE),0)","v":0},{"$f":"IFERROR(VLOOKUP(MD37,MATCHSELEVES!$Y$14:$AF$600,8,FALSE),0)","v":0},{"$f":"IFERROR(VLOOKUP(MD37,MATCHSELEVES!$Y$14:$AG$600,9,FALSE),0)","v":0},"Yousrip_15",{"$f":"IFERROR(VLOOKUP(MJ37,MATCHSELEVES!$Y$14:$AE$600,3,FALSE),0)","v":0},{"$f":"IFERROR(VLOOKUP(MJ37,MATCHSELEVES!$Y$14:$AE$600,4,FALSE),0)","v":0},{"$f":"IFERROR(VLOOKUP(MJ37,MATCHSELEVES!$Y$14:$AE$600,5,FALSE),0)","v":0},{"$f":"IFERROR(VLOOKUP(MJ37,MATCHSELEVES!$Y$14:$AF$600,8,FALSE),0)","v":0},{"$f":"IFERROR(VLOOKUP(MJ37,MATCHSELEVES!$Y$14:$AG$600,9,FALSE),0)","v":0},"Yousrip_16",{"$f":"IFERROR(VLOOKUP(MP37,MATCHSELEVES!$Y$14:$AE$600,3,FALSE),0)","v":0},{"$f":"IFERROR(VLOOKUP(MP37,MATCHSELEVES!$Y$14:$AE$600,4,FALSE),0)","v":0},{"$f":"IFERROR(VLOOKUP(MP37,MATCHSELEVES!$Y$14:$AE$600,5,FALSE),0)","v":0},{"$f":"IFERROR(VLOOKUP(MP37,MATCHSELEVES!$Y$14:$AF$600,8,FALSE),0)","v":0},{"$f":"IFERROR(VLOOKUP(MP37,MATCHSELEVES!$Y$14:$AG$600,9,FALSE),0)","v":0},"Yousrip_17",{"$f":"IFERROR(VLOOKUP(MV37,MATCHSELEVES!$Y$14:$AE$600,3,FALSE),0)","v":0},{"$f":"IFERROR(VLOOKUP(MV37,MATCHSELEVES!$Y$14:$AE$600,4,FALSE),0)","v":0},{"$f":"IFERROR(VLOOKUP(MV37,MATCHSELEVES!$Y$14:$AE$600,5,FALSE),0)","v":0},{"$f":"IFERROR(VLOOKUP(MV37,MATCHSELEVES!$Y$14:$AF$600,8,FALSE),0)","v":0},{"$f":"IFERROR(VLOOKUP(MV37,MATCHSELEVES!$Y$14:$AG$600,9,FALSE),0)","v":0},"Yousrip_18",{"$f":"IFERROR(VLOOKUP(NB37,MATCHSELEVES!$Y$14:$AE$600,3,FALSE),0)","v":0},{"$f":"IFERROR(VLOOKUP(NB37,MATCHSELEVES!$Y$14:$AE$600,4,FALSE),0)","v":0},{"$f":"IFERROR(VLOOKUP(NB37,MATCHSELEVES!$Y$14:$AE$600,5,FALSE),0)","v":0},{"$f":"IFERROR(VLOOKUP(NB37,MATCHSELEVES!$Y$14:$AF$600,8,FALSE),0)","v":0},{"$f":"IFERROR(VLOOKUP(NB37,MATCHSELEVES!$Y$14:$AG$600,9,FALSE),0)","v":0},"Yousrip_19",{"$f":"IFERROR(VLOOKUP(NH37,MATCHSELEVES!$Y$14:$AE$600,3,FALSE),0)","v":0},{"$f":"IFERROR(VLOOKUP(NH37,MATCHSELEVES!$Y$14:$AE$600,4,FALSE),0)","v":0},{"$f":"IFERROR(VLOOKUP(NH37,MATCHSELEVES!$Y$14:$AE$600,5,FALSE),0)","v":0},{"$f":"IFERROR(VLOOKUP(NH37,MATCHSELEVES!$Y$14:$AF$600,8,FALSE),0)","v":0},{"$f":"IFERROR(VLOOKUP(NH37,MATCHSELEVES!$Y$14:$AG$600,9,FALSE),0)","v":0},"Yousrip_20",{"$f":"IFERROR(VLOOKUP(NN37,MATCHSELEVES!$Y$14:$AE$600,3,FALSE),0)","v":0},{"$f":"IFERROR(VLOOKUP(NN37,MATCHSELEVES!$Y$14:$AE$600,4,FALSE),0)","v":0},{"$f":"IFERROR(VLOOKUP(NN37,MATCHSELEVES!$Y$14:$AE$600,5,FALSE),0)","v":0},{"$f":"IFERROR(VLOOKUP(NN37,MATCHSELEVES!$Y$14:$AF$600,8,FALSE),0)","v":0},{"$f":"IFERROR(VLOOKUP(NN37,MATCHSELEVES!$Y$14:$AG$600,9,FALSE),0)","v":0},"Yousrip_21",{"$f":"IFERROR(VLOOKUP(NT37,MATCHSELEVES!$Y$14:$AE$600,3,FALSE),0)","v":0},{"$f":"IFERROR(VLOOKUP(NT37,MATCHSELEVES!$Y$14:$AE$600,4,FALSE),0)","v":0},{"$f":"IFERROR(VLOOKUP(NT37,MATCHSELEVES!$Y$14:$AE$600,5,FALSE),0)","v":0},{"$f":"IFERROR(VLOOKUP(NT37,MATCHSELEVES!$Y$14:$AF$600,8,FALSE),0)","v":0},{"$f":"IFERROR(VLOOKUP(NT37,MATCHSELEVES!$Y$14:$AG$600,9,FALSE),0)","v":0},"Yousrip_22",{"$f":"IFERROR(VLOOKUP(NZ37,MATCHSELEVES!$Y$14:$AE$600,3,FALSE),0)","v":0},{"$f":"IFERROR(VLOOKUP(NZ37,MATCHSELEVES!$Y$14:$AE$600,4,FALSE),0)","v":0},{"$f":"IFERROR(VLOOKUP(NZ37,MATCHSELEVES!$Y$14:$AE$600,5,FALSE),0)","v":0},{"$f":"IFERROR(VLOOKUP(NZ37,MATCHSELEVES!$Y$14:$AF$600,8,FALSE),0)","v":0},{"$f":"IFERROR(VLOOKUP(NZ37,MATCHSELEVES!$Y$14:$AG$600,9,FALSE),0)","v":0},"Yousrip_23",{"$f":"IFERROR(VLOOKUP(OF37,MATCHSELEVES!$Y$14:$AE$600,3,FALSE),0)","v":0},{"$f":"IFERROR(VLOOKUP(OF37,MATCHSELEVES!$Y$14:$AE$600,4,FALSE),0)","v":0},{"$f":"IFERROR(VLOOKUP(OF37,MATCHSELEVES!$Y$14:$AE$600,5,FALSE),0)","v":0},{"$f":"IFERROR(VLOOKUP(OF37,MATCHSELEVES!$Y$14:$AF$600,8,FALSE),0)","v":0},{"$f":"IFERROR(VLOOKUP(OF37,MATCHSELEVES!$Y$14:$AG$600,9,FALSE),0)","v":0},"Yousrip_24",{"$f":"IFERROR(VLOOKUP(OL37,MATCHSELEVES!$Y$14:$AE$600,3,FALSE),0)","v":0},{"$f":"IFERROR(VLOOKUP(OL37,MATCHSELEVES!$Y$14:$AE$600,4,FALSE),0)","v":0},{"$f":"IFERROR(VLOOKUP(OL37,MATCHSELEVES!$Y$14:$AE$600,5,FALSE),0)","v":0},{"$f":"IFERROR(VLOOKUP(OL37,MATCHSELEVES!$Y$14:$AF$600,8,FALSE),0)","v":0},{"$f":"IFERROR(VLOOKUP(OL37,MATCHSELEVES!$Y$14:$AG$600,9,FALSE),0)","v":0},"Yousrip_25",{"$f":"IFERROR(VLOOKUP(OR37,MATCHSELEVES!$Y$14:$AE$600,3,FALSE),0)","v":0},{"$f":"IFERROR(VLOOKUP(OR37,MATCHSELEVES!$Y$14:$AE$600,4,FALSE),0)","v":0},{"$f":"IFERROR(VLOOKUP(OR37,MATCHSELEVES!$Y$14:$AE$600,5,FALSE),0)","v":0},{"$f":"IFERROR(VLOOKUP(OR37,MATCHSELEVES!$Y$14:$AF$600,8,FALSE),0)","v":0},{"$f":"IFERROR(VLOOKUP(OR37,MATCHSELEVES!$Y$14:$AG$600,9,FALSE),0)","v":0},"Yousrip_26",{"$f":"IFERROR(VLOOKUP(OX37,MATCHSELEVES!$Y$14:$AE$600,3,FALSE),0)","v":0},{"$f":"IFERROR(VLOOKUP(OX37,MATCHSELEVES!$Y$14:$AE$600,4,FALSE),0)","v":0},{"$f":"IFERROR(VLOOKUP(OX37,MATCHSELEVES!$Y$14:$AE$600,5,FALSE),0)","v":0},{"$f":"IFERROR(VLOOKUP(OX37,MATCHSELEVES!$Y$14:$AF$600,8,FALSE),0)","v":0},{"$f":"IFERROR(VLOOKUP(OX37,MATCHSELEVES!$Y$14:$AG$600,9,FALSE),0)","v":0},"Yousrip_27",{"$f":"IFERROR(VLOOKUP(PD37,MATCHSELEVES!$Y$14:$AE$600,3,FALSE),0)","v":0},{"$f":"IFERROR(VLOOKUP(PD37,MATCHSELEVES!$Y$14:$AE$600,4,FALSE),0)","v":0},{"$f":"IFERROR(VLOOKUP(PD37,MATCHSELEVES!$Y$14:$AE$600,5,FALSE),0)","v":0},{"$f":"IFERROR(VLOOKUP(PD37,MATCHSELEVES!$Y$14:$AF$600,8,FALSE),0)","v":0},{"$f":"IFERROR(VLOOKUP(PD37,MATCHSELEVES!$Y$14:$AG$600,9,FALSE),0)","v":0},"Yousrip_28",{"$f":"IFERROR(VLOOKUP(PJ37,MATCHSELEVES!$Y$14:$AE$600,3,FALSE),0)","v":0},{"$f":"IFERROR(VLOOKUP(PJ37,MATCHSELEVES!$Y$14:$AE$600,4,FALSE),0)","v":0},{"$f":"IFERROR(VLOOKUP(PJ37,MATCHSELEVES!$Y$14:$AE$600,5,FALSE),0)","v":0},{"$f":"IFERROR(VLOOKUP(PJ37,MATCHSELEVES!$Y$14:$AF$600,8,FALSE),0)","v":0},{"$f":"IFERROR(VLOOKUP(PJ37,MATCHSELEVES!$Y$14:$AG$600,9,FALSE),0)","v":0},"Yousrip_29",{"$f":"IFERROR(VLOOKUP(PP37,MATCHSELEVES!$Y$14:$AE$600,3,FALSE),0)","v":0},{"$f":"IFERROR(VLOOKUP(PP37,MATCHSELEVES!$Y$14:$AE$600,4,FALSE),0)","v":0},{"$f":"IFERROR(VLOOKUP(PP37,MATCHSELEVES!$Y$14:$AE$600,5,FALSE),0)","v":0},{"$f":"IFERROR(VLOOKUP(PP37,MATCHSELEVES!$Y$14:$AF$600,8,FALSE),0)","v":0},{"$f":"IFERROR(VLOOKUP(PP37,MATCHSELEVES!$Y$14:$AG$600,9,FALSE),0)","v":0},"Yousrip_30",{"$f":"IFERROR(VLOOKUP(PV37,MATCHSELEVES!$Y$14:$AE$600,3,FALSE),0)","v":0},{"$f":"IFERROR(VLOOKUP(PV37,MATCHSELEVES!$Y$14:$AE$600,4,FALSE),0)","v":0},{"$f":"IFERROR(VLOOKUP(PV37,MATCHSELEVES!$Y$14:$AE$600,5,FALSE),0)","v":0},{"$f":"IFERROR(VLOOKUP(PV37,MATCHSELEVES!$Y$14:$AF$600,8,FALSE),0)","v":0},{"$f":"IFERROR(VLOOKUP(PV37,MATCHSELEVES!$Y$14:$AG$600,9,FALSE),0)","v":0},"Yousrip_31",{"$f":"IFERROR(VLOOKUP(QB37,MATCHSELEVES!$Y$14:$AE$600,3,FALSE),0)","v":0},{"$f":"IFERROR(VLOOKUP(QB37,MATCHSELEVES!$Y$14:$AE$600,4,FALSE),0)","v":0},{"$f":"IFERROR(VLOOKUP(QB37,MATCHSELEVES!$Y$14:$AE$600,5,FALSE),0)","v":0},{"$f":"IFERROR(VLOOKUP(QB37,MATCHSELEVES!$Y$14:$AF$600,8,FALSE),0)","v":0},{"$f":"IFERROR(VLOOKUP(QB37,MATCHSELEVES!$Y$14:$AG$600,9,FALSE),0)","v":0},"Yousrip_32",{"$f":"IFERROR(VLOOKUP(QH37,MATCHSELEVES!$Y$14:$AE$600,3,FALSE),0)","v":0},{"$f":"IFERROR(VLOOKUP(QH37,MATCHSELEVES!$Y$14:$AE$600,4,FALSE),0)","v":0},{"$f":"IFERROR(VLOOKUP(QH37,MATCHSELEVES!$Y$14:$AE$600,5,FALSE),0)","v":0},{"$f":"IFERROR(VLOOKUP(QH37,MATCHSELEVES!$Y$14:$AF$600,8,FALSE),0)","v":0},{"$f":"IFERROR(VLOOKUP(QH37,MATCHSELEVES!$Y$14:$AG$600,9,FALSE),0)","v":0},"Yousrip_33",{"$f":"IFERROR(VLOOKUP(QN37,MATCHSELEVES!$Y$14:$AE$600,3,FALSE),0)","v":0},{"$f":"IFERROR(VLOOKUP(QN37,MATCHSELEVES!$Y$14:$AE$600,4,FALSE),0)","v":0},{"$f":"IFERROR(VLOOKUP(QN37,MATCHSELEVES!$Y$14:$AE$600,5,FALSE),0)","v":0},{"$f":"IFERROR(VLOOKUP(QN37,MATCHSELEVES!$Y$14:$AF$600,8,FALSE),0)","v":0},{"$f":"IFERROR(VLOOKUP(QN37,MATCHSELEVES!$Y$14:$AG$600,9,FALSE),0)","v":0},"Yousrip_34",{"$f":"IFERROR(VLOOKUP(QT37,MATCHSELEVES!$Y$14:$AE$600,3,FALSE),0)","v":0},{"$f":"IFERROR(VLOOKUP(QT37,MATCHSELEVES!$Y$14:$AE$600,4,FALSE),0)","v":0},{"$f":"IFERROR(VLOOKUP(QT37,MATCHSELEVES!$Y$14:$AE$600,5,FALSE),0)","v":0},{"$f":"IFERROR(VLOOKUP(QT37,MATCHSELEVES!$Y$14:$AF$600,8,FALSE),0)","v":0},{"$f":"IFERROR(VLOOKUP(QT37,MATCHSELEVES!$Y$14:$AG$600,9,FALSE),0)","v":0},"Yousrip_35",{"$f":"IFERROR(VLOOKUP(QZ37,MATCHSELEVES!$Y$14:$AE$600,3,FALSE),0)","v":0},{"$f":"IFERROR(VLOOKUP(QZ37,MATCHSELEVES!$Y$14:$AE$600,4,FALSE),0)","v":0},{"$f":"IFERROR(VLOOKUP(QZ37,MATCHSELEVES!$Y$14:$AE$600,5,FALSE),0)","v":0},{"$f":"IFERROR(VLOOKUP(QZ37,MATCHSELEVES!$Y$14:$AF$600,8,FALSE),0)","v":0},{"$f":"IFERROR(VLOOKUP(QZ37,MATCHSELEVES!$Y$14:$AG$600,9,FALSE),0)","v":0},"Yousrip_36",{"$f":"IFERROR(VLOOKUP(RF37,MATCHSELEVES!$Y$14:$AE$600,3,FALSE),0)","v":0},{"$f":"IFERROR(VLOOKUP(RF37,MATCHSELEVES!$Y$14:$AE$600,4,FALSE),0)","v":0},{"$f":"IFERROR(VLOOKUP(RF37,MATCHSELEVES!$Y$14:$AE$600,5,FALSE),0)","v":0},{"$f":"IFERROR(VLOOKUP(RF37,MATCHSELEVES!$Y$14:$AF$600,8,FALSE),0)","v":0},{"$f":"IFERROR(VLOOKUP(RF37,MATCHSELEVES!$Y$14:$AG$600,9,FALSE),0)","v":0},"Yousrip_37",{"$f":"IFERROR(VLOOKUP(RL37,MATCHSELEVES!$Y$14:$AE$600,3,FALSE),0)","v":0},{"$f":"IFERROR(VLOOKUP(RL37,MATCHSELEVES!$Y$14:$AE$600,4,FALSE),0)","v":0},{"$f":"IFERROR(VLOOKUP(RL37,MATCHSELEVES!$Y$14:$AE$600,5,FALSE),0)","v":0},{"$f":"IFERROR(VLOOKUP(RL37,MATCHSELEVES!$Y$14:$AF$600,8,FALSE),0)","v":0},{"$f":"IFERROR(VLOOKUP(RL37,MATCHSELEVES!$Y$14:$AG$600,9,FALSE),0)","v":0},"Yousrip_38",{"$f":"IFERROR(VLOOKUP(RR37,MATCHSELEVES!$Y$14:$AE$600,3,FALSE),0)","v":0},{"$f":"IFERROR(VLOOKUP(RR37,MATCHSELEVES!$Y$14:$AE$600,4,FALSE),0)","v":0},{"$f":"IFERROR(VLOOKUP(RR37,MATCHSELEVES!$Y$14:$AE$600,5,FALSE),0)","v":0},{"$f":"IFERROR(VLOOKUP(RR37,MATCHSELEVES!$Y$14:$AF$600,8,FALSE),0)","v":0},{"$f":"IFERROR(VLOOKUP(RR37,MATCHSELEVES!$Y$14:$AG$600,9,FALSE),0)","v":0},"Yousrip_39",{"$f":"IFERROR(VLOOKUP(RX37,MATCHSELEVES!$Y$14:$AE$600,3,FALSE),0)","v":0},{"$f":"IFERROR(VLOOKUP(RX37,MATCHSELEVES!$Y$14:$AE$600,4,FALSE),0)","v":0},{"$f":"IFERROR(VLOOKUP(RX37,MATCHSELEVES!$Y$14:$AE$600,5,FALSE),0)","v":0},{"$f":"IFERROR(VLOOKUP(RX37,MATCHSELEVES!$Y$14:$AF$600,8,FALSE),0)","v":0},{"$f":"IFERROR(VLOOKUP(RX37,MATCHSELEVES!$Y$14:$AG$600,9,FALSE),0)","v":0},"Yousrip_40",{"$f":"IFERROR(VLOOKUP(SD37,MATCHSELEVES!$Y$14:$AE$600,3,FALSE),0)","v":0},{"$f":"IFERROR(VLOOKUP(SD37,MATCHSELEVES!$Y$14:$AE$600,4,FALSE),0)","v":0},{"$f":"IFERROR(VLOOKUP(SD37,MATCHSELEVES!$Y$14:$AE$600,5,FALSE),0)","v":0},{"$f":"IFERROR(VLOOKUP(SD37,MATCHSELEVES!$Y$14:$AF$600,8,FALSE),0)","v":0},{"$f":"IFERROR(VLOOKUP(SD37,MATCHSELEVES!$Y$14:$AG$600,9,FALSE),0)","v":0}]
[35]
[]
[null,null,null,null,null,null,null,null,null,null,{"$f":"IFERROR(K4/E4,0)","v":0}]
[null,null,null,null,null,null,null,null,null,null,{"$f":"IFERROR(K5/E5,0)","v":0}]
[null,null,null,null,null,null,null,null,null,null,0]
[null,null,null,null,null,null,null,null,null,null,0]
[null,null,null,null,null,null,null,null,null,null,0]
[null,null,null,null,null,null,null,null,null,null,0]
[null,null,null,null,null,null,null,null,null,null,0]
[null,null,null,null,null,null,null,null,null,null,0]
[null,null,null,null,null,null,null,null,null,null,0]
[null,null,null,null,null,null,null,null,null,null,0]
[null,null,null,null,null,null,null,null,null,null,0]
[null,null,null,null,null,null,null,null,null,null,0]
[null,null,null,null,null,null,null,null,null,null,0]
[null,null,null,null,null,null,null,null,null,null,0]
[null,null,null,null,null,null,null,null,null,null,0]
[null,null,null,null,null,null,null,null,null,null,0]
[null,null,null,null,null,null,null,null,null,null,0]
[null,null,null,null,null,null,null,null,null,null,0]
[null,null,null,null,null,null,null,null,null,null,0]
[null,null,null,null,null,null,null,null,null,null,0]
[null,null,null,null,null,null,null,null,null,null,0]
[null,null,null,null,null,null,null,null,null,null,0]
[null,null,null,null,null,null,null,null,null,null,0]
[null,null,null,null,null,null,null,null,null,null,0]
[null,null,null,null,null,null,null,null,null,null,0]
[null,null,null,null,null,null,null,null,null,null,0]
[null,null,null,null,null,null,null,null,null,null,0]
[null,null,null,null,null,null,null,null,null,null,0]
[null,null,null,null,null,null,null,null,null,null,0]
[null,null,null,null,null,null,null,null,null,null,0]
[null,null,null,null,null,null,null,null,null,null,0]
[null,null,null,null,null,null,null,null,null,null,0]
[null,null,null,null,null,null,null,null,null,null,0]
[null,null,null,null,null,null,null,null,null,null,0]
[null,null,null,null,null,null,null,null,null,null,0]

{"sheet":"NOTECYCLE","index":4,"n_rows":37,"n_cols":60,"rows_kept":37,"cut":false,"hidden":false,"merged":[[1,13,1,14],[1,20,1,21],[1,3,1,4],[1,5,1,6],[1,7,1,8],[1,9,1,10],[1,11,1,12],[1,15,1,16],[0,36,0,37],[0,38,0,39],[1,17,1,18],[2,20,2,21],[0,26,0,27],[0,28,0,29],[0,30,0,31],[0,32,0,33],[0,34,0,35]]}
[null,null,null,null,null,null,null,null,null,null,null,null,null,null,null,null,null,null,null,null,null,null,null,null,{"$f":"SUMPRODUCT(N(ISTEXT(C4:C37)))","v":34},"élèves dans la classe"]
[{"$f":"MD1POINT!A2","v":"2ELEC-2TU"},null,null,"DEFI",null,"Matchs joués",null,"Victoires",null,"Points marqués",null,"Points encaissés",null,"Points thèmes",null,"Points ATP",null,"Moyenne classement",null,null,"BAREME ->",null,null,null,"DEFI","NOTE","Matchs joués","NOTE","Victoires","NOTE","Points marqués","NOTE","Points encaissés","NOTE","Points thèmes","NOTE","Points ATP","NOTE","Moyenne classement","NOTE"]
["NOTE",null,"MAX->",1,"Note /4",{"$f":"MAX(Tableau10[Nombre de matchs joués])","v":0},"Note /6",{"$f":"MAX(Tableau10[Nombre de victoires])","v":0},"Note /2",{"$f":"MAX(Tableau10[Nombre de points marqués])","v":0},"Note/2",null,"N.Not",{"$f":"MAX(Tableau10[Nombre de points thèmes])","v":0},"Note /3",{"$f":"MAX(Tableau10[Pts ATP])","v":4},"Note /3",null,"N.Not",null,"Vous pouvez modifier les notes dans les cellules rouges",null,null,"MEILLEUR->",1,4,{"$f":"F3","v":0},6,{"$f":"H3","v":0},2,{"$f":"J3","v":0},2,null,"Non noté",{"$f":"N3","v":0},3,{"$f":"P3","v":4},3,null,"Non noté",null,null,null,null,1,4,{"$f":"MAX(Tableau10[Nombre de matchs joués])","v":0},6,{"$f":"MAX(Tableau10[Nombre de victoires])","v":0},3,{"$f":"MAX(Tableau10[Nombre de points marqués])","v":0},3,null,"Non noté",{"$f":"MAX(Tableau10[Nombre de points thèmes])","v":0},3,{"$f":"MAX(Tableau10[Pts ATP])","v":4},1,1,"Non noté"]
[{"$f":"E4+G4+I4+K4+M4+O4+Q4","v":20},1,{"$f":"Tableau10[[#This Row],[CLASSE]]","v":"Achraf"},{"$f":"VLOOKUP(C4,Tableau10[[CLASSE]:[CLASSEMENT7]],2,FALSE)","v":1},{"$f":"VLOOKUP(CLASSEMENTELEVES!D4,NOTECYCLE!$Y$3:$Z$37,2,TRUE)","v":4},{"$f":"VLOOKUP(C4,Tableau10[[CLASSE]:[CLASSEMENT7]],3,FALSE)","v":0},{"$f":"VLOOKUP(CLASSEMENTELEVES!E4,NOTECYCLE!$AA$3:$AB$37,2,TRUE)","v":6},{"$f":"VLOOKUP(C4,Tableau10[[CLASSE]:[CLASSEMENT7]],5,FALSE)","v":0},{"$f":"VLOOKUP(CLASSEMENTELEVES!G4,NOTECYCLE!$AC$3:$AD$37,2,TRUE)","v":2},{"$f":"VLOOKUP(C4,Tableau10[[CLASSE]:[CLASSEMENT7]],7,FALSE)","v":0},{"$f":"VLOOKUP(CLASSEMENTELEVES!I4,NOTECYCLE!$AE$3:$AF$37,2,TRUE)","v":2},{"$f":"VLOOKUP(C4,Tableau10[[CLASSE]:[CLASSEMENT7]],9,FALSE)","v":0},null,{"$f":"VLOOKUP(C4,Tableau10[[CLASSE]:[CLASSEMENT7]],11,FALSE)","v":0},{"$f":"VLOOKUP(CLASSEMENTELEVES!M4,NOTECYCLE!$AI$3:$AJ$37,2,TRUE)","v":3},{"$f":"VLOOKUP(C4,Tableau10[[CLASSE]:[CLASSEMENT7]],13,FALSE)","v":4},{"$f":"VLOOKUP(CLASSEMENTELEVES!O4,NOTECYCLE!$AK$3:$AL$37,2,TRUE)","v":3},{"$f":"VLOOKUP(C4,Tableau10[[CLASSE]:[CLASSEMENT8]],15,FALSE)","v":1},null,null,null,null,null,null,2,{"$f":"$Z$3-$Z$3*Y4/$Y$1","v":3.7647058823529411},{"$f":"AA5-1000","v":-1033},0,{"$f":"AC5-1000","v":-1009},0,{"$f":"AE5-1000","v":-1099},0,null,null,{"$f":"AI5-1000","v":-1050},0,{"$f":"AK5-1000","v":-1096},0]
[{"$f":"E5+G5+I5+K5+M5+O5+Q5","v":20},2,{"$f":"Tableau10[[#This Row],[CLASSE]]","v":"Adel"},{"$f":"VLOOKUP(C5,Tableau10[[CLASSE]:[CLASSEMENT7]],2,FALSE)","v":1},{"$f":"VLOOKUP(CLASSEMENTELEVES!D5,NOTECYCLE!$Y$3:$Z$37,2,TRUE)","v":4},{"$f":"VLOOKUP(C5,Tableau10[[CLASSE]:[CLASSEMENT7]],3,FALSE)","v":0},{"$f":"VLOOKUP(CLASSEMENTELEVES!E5,NOTECYCLE!$AA$3:$AB$37,2,TRUE)","v":6},{"$f":"VLOOKUP(C5,Tableau10[[CLASSE]:[CLASSEMENT7]],5,FALSE)","v":0},{"$f":"VLOOKUP(CLASSEMENTELEVES!G5,NOTECYCLE!$AC$3:$AD$37,2,TRUE)","v":2},{"$f":"VLOOKUP(C5,Tableau10[[CLASSE]:[CLASSEMENT7]],7,FALSE)","v":0},{"$f":"VLOOKUP(CLASSEMENTELEVES!I5,NOTECYCLE!$AE$3:$AF$37,2,TRUE)","v":2},{"$f":"VLOOKUP(C5,Tableau10[[CLASSE]:[CLASSEMENT7]],9,FALSE)","v":0},null,{"$f":"VLOOKUP(C5,Tableau10[[CLASSE]:[CLASSEMENT7]],11,FALSE)","v":0},{"$f":"VLOOKUP(CLASSEMENTELEVES!M5,NOTECYCLE!$AI$3:$AJ$37,2,TRUE)","v":3},{"$f":"VLOOKUP(C5,Tableau10[[CLASSE]:[CLASSEMENT7]],13,FALSE)","v":4},{"$f":"VLOOKUP(CLASSEMENTELEVES!O5,NOTECYCLE!$AK$3:$AL$37,2,TRUE)","v":3},{"$f":"VLOOKUP(C5,Tableau10[[CLASSE]:[CLASSEMENT8]],15,FALSE)","v":1},null,null,null,null,null,null,3,{"$f":"$Z$3-$Z$3*Y5/$Y$1","v":3.6470588235294117},{"$f":"AA6-3","v":-33},0.5,{"$f":"AC6-3","v":-9},0.5,{"$f":"AE6-33","v":-99},0.5,null,null,{"$f":"AI6-10","v":-50},0.5,{"$f":"AK6-20","v":-96},0.5]
[20,3,{"$f":"Tableau10[[#This Row],[CLASSE]]","v":"Adem"},{"$f":"VLOOKUP(C6,Tableau10[[CLASSE]:[CLASSEMENT7]],2,FALSE)","v":1},{"$f":"VLOOKUP(CLASSEMENTELEVES!D6,NOTECYCLE!$Y$3:$Z$37,2,TRUE)","v":4},{"$f":"VLOOKUP(C6,Tableau10[[CLASSE]:[CLASSEMENT7]],3,FALSE)","v":0},{"$f":"VLOOKUP(CLASSEMENTELEVES!E6,NOTECYCLE!$AA$3:$AB$37,2,TRUE)","v":6},{"$f":"VLOOKUP(C6,Tableau10[[CLASSE]:[CLASSEMENT7]],5,FALSE)","v":0},{"$f":"VLOOKUP(CLASSEMENTELEVES!G6,NOTECYCLE!$AC$3:$AD$37,2,TRUE)","v":2},{"$f":"VLOOKUP(C6,Tableau10[[CLASSE]:[CLASSEMENT7]],7,FALSE)","v":0},{"$f":"VLOOKUP(CLASSEMENTELEVES!I6,NOTECYCLE!$AE$3:$AF$37,2,TRUE)","v":2},{"$f":"VLOOKUP(C6,Tableau10[[CLASSE]:[CLASSEMENT7]],9,FALSE)","v":0},null,{"$f":"VLOOKUP(C6,Tableau10[[CLASSE]:[CLASSEMENT7]],11,FALSE)","v":0},{"$f":"VLOOKUP(CLASSEMENTELEVES!M6,NOTECYCLE!$AI$3:$AJ$37,2,TRUE)","v":3},{"$f":"VLOOKUP(C6,Tableau10[[CLASSE]:[CLASSEMENT7]],13,FALSE)","v":4},{"$f":"VLOOKUP(CLASSEMENTELEVES!O6,NOTECYCLE!$AK$3:$AL$37,2,TRUE)","v":3},{"$f":"VLOOKUP(C6,Tableau10[[CLASSE]:[CLASSEMENT8]],15,FALSE)","v":1},null,null,null,null,null,null,4,3.5294117647058822,-30,1,-6,1,-66,1,null,null,-40,1,-76,1]
[20,4,{"$f":"Tableau10[[#This Row],[CLASSE]]","v":"Amar"},{"$f":"VLOOKUP(C7,Tableau10[[CLASSE]:[CLASSEMENT7]],2,FALSE)","v":1},{"$f":"VLOOKUP(CLASSEMENTELEVES!D7,NOTECYCLE!$Y$3:$Z$37,2,TRUE)","v":4},{"$f":"VLOOKUP(C7,Tableau10[[CLASSE]:[CLASSEMENT7]],3,FALSE)","v":0},{"$f":"VLOOKUP(CLASSEMENTELEVES!E7,NOTECYCLE!$AA$3:$AB$37,2,TRUE)","v":6},{"$f":"VLOOKUP(C7,Tableau10[[CLASSE]:[CLASSEMENT7]],5,FALSE)","v":0},{"$f":"VLOOKUP(CLASSEMENTELEVES!G7,NOTECYCLE!$AC$3:$AD$37,2,TRUE)","v":2},{"$f":"VLOOKUP(C7,Tableau10[[CLASSE]:[CLASSEMENT7]],7,FALSE)","v":0},{"$f":"VLOOKUP(CLASSEMENTELEVES!I7,NOTECYCLE!$AE$3:$AF$37,2,TRUE)","v":2},{"$f":"VLOOKUP(C7,Tableau10[[CLASSE]:[CLASSEMENT7]],9,FALSE)","v":0},null,{"$f":"VLOOKUP(C7,Tableau10[[CLASSE]:[CLASSEMENT7]],11,FALSE)","v":0},{"$f":"VLOOKUP(CLASSEMENTELEVES!M7,NOTECYCLE!$AI$3:$AJ$37,2,TRUE)","v":3},{"$f":"VLOOKUP(C7,Tableau10[[CLASSE]:[CLASSEMENT7]],13,FALSE)","v":4},{"$f":"VLOOKUP(CLASSEMENTELEVES!O7,NOTECYCLE!$AK$3:$AL$37,2,TRUE)","v":3},{"$f":"VLOOKUP(C7,Tableau10[[CLASSE]:[CLASSEMENT8]],15,FALSE)","v":1},null,null,null,null,null,null,5,3.4117647058823528,-27,1.5,{"$f":"AC8-3","v":-3},1.5,{"$f":"AE8-33","v":-33},1.5,null,null,-30,1.5,-56,1.5]
[20,5,{"$f":"Tableau10[[#This Row],[CLASSE]]","v":"Ayoub"},{"$f":"VLOOKUP(C8,Tableau10[[CLASSE]:[CLASSEMENT7]],2,FALSE)","v":1},{"$f":"VLOOKUP(CLASSEMENTELEVES!D8,NOTECYCLE!$Y$3:$Z$37,2,TRUE)","v":4},{"$f":"VLOOKUP(C8,Tableau10[[CLASSE]:[CLASSEMENT7]],3,FALSE)","v":0},{"$f":"VLOOKUP(CLASSEMENTELEVES!E8,NOTECYCLE!$AA$3:$AB$37,2,TRUE)","v":6},{"$f":"VLOOKUP(C8,Tableau10[[CLASSE]:[CLASSEMENT7]],5,FALSE)","v":0},{"$f":"VLOOKUP(CLASSEMENTELEVES!G8,NOTECYCLE!$AC$3:$AD$37,2,TRUE)","v":2},{"$f":"VLOOKUP(C8,Tableau10[[CLASSE]:[CLASSEMENT7]],7,FALSE)","v":0},{"$f":"VLOOKUP(CLASSEMENTELEVES!I8,NOTECYCLE!$AE$3:$AF$37,2,TRUE)","v":2},{"$f":"VLOOKUP(C8,Tableau10[[CLASSE]:[CLASSEMENT7]],9,FALSE)","v":0},null,{"$f":"VLOOKUP(C8,Tableau10[[CLASSE]:[CLASSEMENT7]],11,FALSE)","v":0},{"$f":"VLOOKUP(CLASSEMENTELEVES!M8,NOTECYCLE!$AI$3:$AJ$37,2,TRUE)","v":3},{"$f":"VLOOKUP(C8,Tableau10[[CLASSE]:[CLASSEMENT7]],13,FALSE)","v":4},{"$f":"VLOOKUP(CLASSEMENTELEVES!O8,NOTECYCLE!$AK$3:$AL$37,2,TRUE)","v":3},{"$f":"VLOOKUP(C8,Tableau10[[CLASSE]:[CLASSEMENT8]],15,FALSE)","v":1},null,null,null,null,null,null,6,3.2941176470588234,-24,2,{"$f":"AC3","v":0},2,{"$f":"AE3","v":0},2,null,null,-20,2,-36,2]
[20,6,{"$f":"Tableau10[[#This Row],[CLASSE]]","v":"Azedine"},{"$f":"VLOOKUP(C9,Tableau10[[CLASSE]:[CLASSEMENT7]],2,FALSE)","v":1},{"$f":"VLOOKUP(CLASSEMENTELEVES!D9,NOTECYCLE!$Y$3:$Z$37,2,TRUE)","v":4},{"$f":"VLOOKUP(C9,Tableau10[[CLASSE]:[CLASSEMENT7]],3,FALSE)","v":0},{"$f":"VLOOKUP(CLASSEMENTELEVES!E9,NOTECYCLE!$AA$3:$AB$37,2,TRUE)","v":6},{"$f":"VLOOKUP(C9,Tableau10[[CLASSE]:[CLASSEMENT7]],5,FALSE)","v":0},{"$f":"VLOOKUP(CLASSEMENTELEVES!G9,NOTECYCLE!$AC$3:$AD$37,2,TRUE)","v":2},{"$f":"VLOOKUP(C9,Tableau10[[CLASSE]:[CLASSEMENT7]],7,FALSE)","v":0},{"$f":"VLOOKUP(CLASSEMENTELEVES!I9,NOTECYCLE!$AE$3:$AF$37,2,TRUE)","v":2},{"$f":"VLOOKUP(C9,Tableau10[[CLASSE]:[CLASSEMENT7]],9,FALSE)","v":0},null,{"$f":"VLOOKUP(C9,Tableau10[[CLASSE]:[CLASSEMENT7]],11,FALSE)","v":0},{"$f":"VLOOKUP(CLASSEMENTELEVES!M9,NOTECYCLE!$AI$3:$AJ$37,2,TRUE)","v":3},{"$f":"VLOOKUP(C9,Tableau10[[CLASSE]:[CLASSEMENT7]],13,FALSE)","v":4},{"$f":"VLOOKUP(CLASSEMENTELEVES!O9,NOTECYCLE!$AK$3:$AL$37,2,TRUE)","v":3},{"$f":"VLOOKUP(C9,Tableau10[[CLASSE]:[CLASSEMENT8]],15,FALSE)","v":1},null,null,null,null,null,null,7,3.1764705882352944,-21,2.5,1000,2,1000,2,null,null,{"$f":"AI10-10","v":-10},2.5,{"$f":"AK10-20","v":-16},2.5]
[20,7,{"$f":"Tableau10[[#This Row],[CLASSE]]","v":"Bilal B."},{"$f":"VLOOKUP(C10,Tableau10[[CLASSE]:[CLASSEMENT7]],2,FALSE)","v":1},{"$f":"VLOOKUP(CLASSEMENTELEVES!D10,NOTECYCLE!$Y$3:$Z$37,2,TRUE)","v":4},{"$f":"VLOOKUP(C10,Tableau10[[CLASSE]:[CLASSEMENT7]],3,FALSE)","v":0},{"$f":"VLOOKUP(CLASSEMENTELEVES!E10,NOTECYCLE!$AA$3:$AB$37,2,TRUE)","v":6},{"$f":"VLOOKUP(C10,Tableau10[[CLASSE]:[CLASSEMENT7]],5,FALSE)","v":0},{"$f":"VLOOKUP(CLASSEMENTELEVES!G10,NOTECYCLE!$AC$3:$AD$37,2,TRUE)","v":2},{"$f":"VLOOKUP(C10,Tableau10[[CLASSE]:[CLASSEMENT7]],7,FALSE)","v":0},{"$f":"VLOOKUP(CLASSEMENTELEVES!I10,NOTECYCLE!$AE$3:$AF$37,2,TRUE)","v":2},{"$f":"VLOOKUP(C10,Tableau10[[CLASSE]:[CLASSEMENT7]],9,FALSE)","v":0},null,{"$f":"VLOOKUP(C10,Tableau10[[CLASSE]:[CLASSEMENT7]],11,FALSE)","v":0},{"$f":"VLOOKUP(CLASSEMENTELEVES!M10,NOTECYCLE!$AI$3:$AJ$37,2,TRUE)","v":3},{"$f":"VLOOKUP(C10,Tableau10[[CLASSE]:[CLASSEMENT7]],13,FALSE)","v":4},{"$f":"VLOOKUP(CLASSEMENTELEVES!O10,NOTECYCLE!$AK$3:$AL$37,2,TRUE)","v":3},{"$f":"VLOOKUP(C10,Tableau10[[CLASSE]:[CLASSEMENT8]],15,FALSE)","v":1},null,null,null,null,null,null,8,3.0588235294117645,-18,3,null,null,null,null,null,null,{"$f":"AI3","v":0},3,{"$f":"AK3","v":4},3]
[20,8,{"$f":"Tableau10[[#This Row],[CLASSE]]","v":"Bilal S."},{"$f":"VLOOKUP(C11,Tableau10[[CLASSE]:[CLASSEMENT7]],2,FALSE)","v":1},{"$f":"VLOOKUP(CLASSEMENTELEVES!D11,NOTECYCLE!$Y$3:$Z$37,2,TRUE)","v":4},{"$f":"VLOOKUP(C11,Tableau10[[CLASSE]:[CLASSEMENT7]],3,FALSE)","v":0},{"$f":"VLOOKUP(CLASSEMENTELEVES!E11,NOTECYCLE!$AA$3:$AB$37,2,TRUE)","v":6},{"$f":"VLOOKUP(C11,Tableau10[[CLASSE]:[CLASSEMENT7]],5,FALSE)","v":0},{"$f":"VLOOKUP(CLASSEMENTELEVES!G11,NOTECYCLE!$AC$3:$AD$37,2,TRUE)","v":2},{"$f":"VLOOKUP(C11,Tableau10[[CLASSE]:[CLASSEMENT7]],7,FALSE)","v":0},{"$f":"VLOOKUP(CLASSEMENTELEVES!I11,NOTECYCLE!$AE$3:$AF$37,2,TRUE)","v":2},{"$f":"VLOOKUP(C11,Tableau10[[CLASSE]:[CLASSEMENT7]],9,FALSE)","v":0},null,{"$f":"VLOOKUP(C11,Tableau10[[CLASSE]:[CLASSEMENT7]],11,FALSE)","v":0},{"$f":"VLOOKUP(CLASSEMENTELEVES!M11,NOTECYCLE!$AI$3:$AJ$37,2,TRUE)","v":3},{"$f":"VLOOKUP(C11,Tableau10[[CLASSE]:[CLASSEMENT7]],13,FALSE)","v":4},{"$f":"VLOOKUP(CLASSEMENTELEVES!O11,NOTECYCLE!$AK$3:$AL$37,2,TRUE)","v":3},{"$f":"VLOOKUP(C11,Tableau10[[CLASSE]:[CLASSEMENT8]],15,FALSE)","v":1},null,null,null,null,null,null,9,2.9411764705882355,-15,3.5,null,null,null,null,null,null,1000,3,1000,3]
[20,9,{"$f":"Tableau10[[#This Row],[CLASSE]]","v":"Djaoidou"},{"$f":"VLOOKUP(C12,Tableau10[[CLASSE]:[CLASSEMENT7]],2,FALSE)","v":1},{"$f":"VLOOKUP(CLASSEMENTELEVES!D12,NOTECYCLE!$Y$3:$Z$37,2,TRUE)","v":4},{"$f":"VLOOKUP(C12,Tableau10[[CLASSE]:[CLASSEMENT7]],3,FALSE)","v":0},{"$f":"VLOOKUP(CLASSEMENTELEVES!E12,NOTECYCLE!$AA$3:$AB$37,2,TRUE)","v":6},{"$f":"VLOOKUP(C12,Tableau10[[CLASSE]:[CLASSEMENT7]],5,FALSE)","v":0},{"$f":"VLOOKUP(CLASSEMENTELEVES!G12,NOTECYCLE!$AC$3:$AD$37,2,TRUE)","v":2},{"$f":"VLOOKUP(C12,Tableau10[[CLASSE]:[CLASSEMENT7]],7,FALSE)","v":0},{"$f":"VLOOKUP(CLASSEMENTELEVES!I12,NOTECYCLE!$AE$3:$AF$37,2,TRUE)","v":2},{"$f":"VLOOKUP(C12,Tableau10[[CLASSE]:[CLASSEMENT7]],9,FALSE)","v":0},null,{"$f":"VLOOKUP(C12,Tableau10[[CLASSE]:[CLASSEMENT7]],11,FALSE)","v":0},{"$f":"VLOOKUP(CLASSEMENTELEVES!M12,NOTECYCLE!$AI$3:$AJ$37,2,TRUE)","v":3},{"$f":"VLOOKUP(C12,Tableau10[[CLASSE]:[CLASSEMENT7]],13,FALSE)","v":4},{"$f":"VLOOKUP(CLASSEMENTELEVES!O12,NOTECYCLE!$AK$3:$AL$37,2,TRUE)","v":3},{"$f":"VLOOKUP(C12,Tableau10[[CLASSE]:[CLASSEMENT8]],15,FALSE)","v":1},null,null,null,null,null,null,10,2.8235294117647056,-12,4]
[20,10,{"$f":"Tableau10[[#This Row],[CLASSE]]","v":"Fahade"},{"$f":"VLOOKUP(C13,Tableau10[[CLASSE]:[CLASSEMENT7]],2,FALSE)","v":1},{"$f":"VLOOKUP(CLASSEMENTELEVES!D13,NOTECYCLE!$Y$3:$Z$37,2,TRUE)","v":4},{"$f":"VLOOKUP(C13,Tableau10[[CLASSE]:[CLASSEMENT7]],3,FALSE)","v":0},{"$f":"VLOOKUP(CLASSEMENTELEVES!E13,NOTECYCLE!$AA$3:$AB$37,2,TRUE)","v":6},{"$f":"VLOOKUP(C13,Tableau10[[CLASSE]:[CLASSEMENT7]],5,FALSE)","v":0},{"$f":"VLOOKUP(CLASSEMENTELEVES!G13,NOTECYCLE!$AC$3:$AD$37,2,TRUE)","v":2},{"$f":"VLOOKUP(C13,Tableau10[[CLASSE]:[CLASSEMENT7]],7,FALSE)","v":0},{"$f":"VLOOKUP(CLASSEMENTELEVES!I13,NOTECYCLE!$AE$3:$AF$37,2,TRUE)","v":2},{"$f":"VLOOKUP(C13,Tableau10[[CLASSE]:[CLASSEMENT7]],9,FALSE)","v":0},null,{"$f":"VLOOKUP(C13,Tableau10[[CLASSE]:[CLASSEMENT7]],11,FALSE)","v":0},{"$f":"VLOOKUP(CLASSEMENTELEVES!M13,NOTECYCLE!$AI$3:$AJ$37,2,TRUE)","v":3},{"$f":"VLOOKUP(C13,Tableau10[[CLASSE]:[CLASSEMENT7]],13,FALSE)","v":4},{"$f":"VLOOKUP(CLASSEMENTELEVES!O13,NOTECYCLE!$AK$3:$AL$37,2,TRUE)","v":3},{"$f":"VLOOKUP(C13,Tableau10[[CLASSE]:[CLASSEMENT8]],15,FALSE)","v":1},null,null,null,null,null,null,11,2.7058823529411766,-9,4.5]
[20,11,{"$f":"Tableau10[[#This Row],[CLASSE]]","v":"Farhane"},{"$f":"VLOOKUP(C14,Tableau10[[CLASSE]:[CLASSEMENT7]],2,FALSE)","v":1},{"$f":"VLOOKUP(CLASSEMENTELEVES!D14,NOTECYCLE!$Y$3:$Z$37,2,TRUE)","v":4},{"$f":"VLOOKUP(C14,Tableau10[[CLASSE]:[CLASSEMENT7]],3,FALSE)","v":0},{"$f":"VLOOKUP(CLASSEMENTELEVES!E14,NOTECYCLE!$AA$3:$AB$37,2,TRUE)","v":6},{"$f":"VLOOKUP(C14,Tableau10[[CLASSE]:[CLASSEMENT7]],5,FALSE)","v":0},{"$f":"VLOOKUP(CLASSEMENTELEVES!G14,NOTECYCLE!$AC$3:$AD$37,2,TRUE)","v":2},{"$f":"VLOOKUP(C14,Tableau10[[CLASSE]:[CLASSEMENT7]],7,FALSE)","v":0},{"$f":"VLOOKUP(CLASSEMENTELEVES!I14,NOTECYCLE!$AE$3:$AF$37,2,TRUE)","v":2},{"$f":"VLOOKUP(C14,Tableau10[[CLASSE]:[CLASSEMENT7]],9,FALSE)","v":0},null,{"$f":"VLOOKUP(C14,Tableau10[[CLASSE]:[CLASSEMENT7]],11,FALSE)","v":0},{"$f":"VLOOKUP(CLASSEMENTELEVES!M14,NOTECYCLE!$AI$3:$AJ$37,2,TRUE)","v":3},{"$f":"VLOOKUP(C14,Tableau10[[CLASSE]:[CLASSEMENT7]],13,FALSE)","v":4},{"$f":"VLOOKUP(CLASSEMENTELEVES!O14,NOTECYCLE!$AK$3:$AL$37,2,TRUE)","v":3},{"$f":"VLOOKUP(C14,Tableau10[[CLASSE]:[CLASSEMENT8]],15,FALSE)","v":1},null,null,null,null,null,null,12,2.5882352941176467,-6,5]
[20,12,{"$f":"Tableau10[[#This Row],[CLASSE]]","v":"Faudel"},{"$f":"VLOOKUP(C15,Tableau10[[CLASSE]:[CLASSEMENT7]],2,FALSE)","v":1},{"$f":"VLOOKUP(CLASSEMENTELEVES!D15,NOTECYCLE!$Y$3:$Z$37,2,TRUE)","v":4},{"$f":"VLOOKUP(C15,Tableau10[[CLASSE]:[CLASSEMENT7]],3,FALSE)","v":0},{"$f":"VLOOKUP(CLASSEMENTELEVES!E15,NOTECYCLE!$AA$3:$AB$37,2,TRUE)","v":6},{"$f":"VLOOKUP(C15,Tableau10[[CLASSE]:[CLASSEMENT7]],5,FALSE)","v":0},{"$f":"VLOOKUP(CLASSEMENTELEVES!G15,NOTECYCLE!$AC$3:$AD$37,2,TRUE)","v":2},{"$f":"VLOOKUP(C15,Tableau10[[CLASSE]:[CLASSEMENT7]],7,FALSE)","v":0},{"$f":"VLOOKUP(CLASSEMENTELEVES!I15,NOTECYCLE!$AE$3:$AF$37,2,TRUE)","v":2},{"$f":"VLOOKUP(C15,Tableau10[[CLASSE]:[CLASSEMENT7]],9,FALSE)","v":0},null,{"$f":"VLOOKUP(C15,Tableau10[[CLASSE]:[CLASSEMENT7]],11,FALSE)","v":0},{"$f":"VLOOKUP(CLASSEMENTELEVES!M15,NOTECYCLE!$AI$3:$AJ$37,2,TRUE)","v":3},{"$f":"VLOOKUP(C15,Tableau10[[CLASSE]:[CLASSEMENT7]],13,FALSE)","v":4},{"$f":"VLOOKUP(CLASSEMENTELEVES!O15,NOTECYCLE!$AK$3:$AL$37,2,TRUE)","v":3},{"$f":"VLOOKUP(C15,Tableau10[[CLASSE]:[CLASSEMENT8]],15,FALSE)","v":1},null,null,null,null,null,null,13,2.4705882352941178,{"$f":"AA16-3","v":-3},5.5]
[20,13,{"$f":"Tableau10[[#This Row],[CLASSE]]","v":"Fazil"},{"$f":"VLOOKUP(C16,Tableau10[[CLASSE]:[CLASSEMENT7]],2,FALSE)","v":1},{"$f":"VLOOKUP(CLASSEMENTELEVES!D16,NOTECYCLE!$Y$3:$Z$37,2,TRUE)","v":4},{"$f":"VLOOKUP(C16,Tableau10[[CLASSE]:[CLASSEMENT7]],3,FALSE)","v":0},{"$f":"VLOOKUP(CLASSEMENTELEVES!E16,NOTECYCLE!$AA$3:$AB$37,2,TRUE)","v":6},{"$f":"VLOOKUP(C16,Tableau10[[CLASSE]:[CLASSEMENT7]],5,FALSE)","v":0},{"$f":"VLOOKUP(CLASSEMENTELEVES!G16,NOTECYCLE!$AC$3:$AD$37,2,TRUE)","v":2},{"$f":"VLOOKUP(C16,Tableau10[[CLASSE]:[CLASSEMENT7]],7,FALSE)","v":0},{"$f":"VLOOKUP(CLASSEMENTELEVES!I16,NOTECYCLE!$AE$3:$AF$37,2,TRUE)","v":2},{"$f":"VLOOKUP(C16,Tableau10[[CLASSE]:[CLASSEMENT7]],9,FALSE)","v":0},null,{"$f":"VLOOKUP(C16,Tableau10[[CLASSE]:[CLASSEMENT7]],11,FALSE)","v":0},{"$f":"VLOOKUP(CLASSEMENTELEVES!M16,NOTECYCLE!$AI$3:$AJ$37,2,TRUE)","v":3},{"$f":"VLOOKUP(C16,Tableau10[[CLASSE]:[CLASSEMENT7]],13,FALSE)","v":4},{"$f":"VLOOKUP(CLASSEMENTELEVES!O16,NOTECYCLE!$AK$3:$AL$37,2,TRUE)","v":3},{"$f":"VLOOKUP(C16,Tableau10[[CLASSE]:[CLASSEMENT8]],15,FALSE)","v":1},null,null,null,null,null,null,14,2.3529411764705883,{"$f":"AA3","v":0},6]
[20,14,{"$f":"Tableau10[[#This Row],[CLASSE]]","v":"Hakim"},{"$f":"VLOOKUP(C17,Tableau10[[CLASSE]:[CLASSEMENT7]],2,FALSE)","v":1},{"$f":"VLOOKUP(CLASSEMENTELEVES!D17,NOTECYCLE!$Y$3:$Z$37,2,TRUE)","v":4},{"$f":"VLOOKUP(C17,Tableau10[[CLASSE]:[CLASSEMENT7]],3,FALSE)","v":0},{"$f":"VLOOKUP(CLASSEMENTELEVES!E17,NOTECYCLE!$AA$3:$AB$37,2,TRUE)","v":6},{"$f":"VLOOKUP(C17,Tableau10[[CLASSE]:[CLASSEMENT7]],5,FALSE)","v":0},{"$f":"VLOOKUP(CLASSEMENTELEVES!G17,NOTECYCLE!$AC$3:$AD$37,2,TRUE)","v":2},{"$f":"VLOOKUP(C17,Tableau10[[CLASSE]:[CLASSEMENT7]],7,FALSE)","v":0},{"$f":"VLOOKUP(CLASSEMENTELEVES!I17,NOTECYCLE!$AE$3:$AF$37,2,TRUE)","v":2},{"$f":"VLOOKUP(C17,Tableau10[[CLASSE]:[CLASSEMENT7]],9,FALSE)","v":0},null,{"$f":"VLOOKUP(C17,Tableau10[[CLASSE]:[CLASSEMENT7]],11,FALSE)","v":0},{"$f":"VLOOKUP(CLASSEMENTELEVES!M17,NOTECYCLE!$AI$3:$AJ$37,2,TRUE)","v":3},{"$f":"VLOOKUP(C17,Tableau10[[CLASSE]:[CLASSEMENT7]],13,FALSE)","v":4},{"$f":"VLOOKUP(CLASSEMENTELEVES!O17,NOTECYCLE!$AK$3:$AL$37,2,TRUE)","v":3},{"$f":"VLOOKUP(C17,Tableau10[[CLASSE]:[CLASSEMENT8]],15,FALSE)","v":1},null,null,null,null,null,null,15,2.2352941176470589,1000,6]
[20,15,{"$f":"Tableau10[[#This Row],[CLASSE]]","v":"Hicham"},{"$f":"VLOOKUP(C18,Tableau10[[CLASSE]:[CLASSEMENT7]],2,FALSE)","v":1},{"$f":"VLOOKUP(CLASSEMENTELEVES!D18,NOTECYCLE!$Y$3:$Z$37,2,TRUE)","v":4},{"$f":"VLOOKUP(C18,Tableau10[[CLASSE]:[CLASSEMENT7]],3,FALSE)","v":0},{"$f":"VLOOKUP(CLASSEMENTELEVES!E18,NOTECYCLE!$AA$3:$AB$37,2,TRUE)","v":6},{"$f":"VLOOKUP(C18,Tableau10[[CLASSE]:[CLASSEMENT7]],5,FALSE)","v":0},{"$f":"VLOOKUP(CLASSEMENTELEVES!G18,NOTECYCLE!$AC$3:$AD$37,2,TRUE)","v":2},{"$f":"VLOOKUP(C18,Tableau10[[CLASSE]:[CLASSEMENT7]],7,FALSE)","v":0},{"$f":"VLOOKUP(CLASSEMENTELEVES!I18,NOTECYCLE!$AE$3:$AF$37,2,TRUE)","v":2},{"$f":"VLOOKUP(C18,Tableau10[[CLASSE]:[CLASSEMENT7]],9,FALSE)","v":0},null,{"$f":"VLOOKUP(C18,Tableau10[[CLASSE]:[CLASSEMENT7]],11,FALSE)","v":0},{"$f":"VLOOKUP(CLASSEMENTELEVES!M18,NOTECYCLE!$AI$3:$AJ$37,2,TRUE)","v":3},{"$f":"VLOOKUP(C18,Tableau10[[CLASSE]:[CLASSEMENT7]],13,FALSE)","v":4},{"$f":"VLOOKUP(CLASSEMENTELEVES!O18,NOTECYCLE!$AK$3:$AL$37,2,TRUE)","v":3},{"$f":"VLOOKUP(C18,Tableau10[[CLASSE]:[CLASSEMENT8]],15,FALSE)","v":1},null,null,null,null,null,null,16,2.1176470588235294]
[20,16,{"$f":"Tableau10[[#This Row],[CLASSE]]","v":"Hicham L."},{"$f":"VLOOKUP(C19,Tableau10[[CLASSE]:[CLASSEMENT7]],2,FALSE)","v":1},{"$f":"VLOOKUP(CLASSEMENTELEVES!D19,NOTECYCLE!$Y$3:$Z$37,2,TRUE)","v":4},{"$f":"VLOOKUP(C19,Tableau10[[CLASSE]:[CLASSEMENT7]],3,FALSE)","v":0},{"$f":"VLOOKUP(CLASSEMENTELEVES!E19,NOTECYCLE!$AA$3:$AB$37,2,TRUE)","v":6},{"$f":"VLOOKUP(C19,Tableau10[[CLASSE]:[CLASSEMENT7]],5,FALSE)","v":0},{"$f":"VLOOKUP(CLASSEMENTELEVES!G19,NOTECYCLE!$AC$3:$AD$37,2,TRUE)","v":2},{"$f":"VLOOKUP(C19,Tableau10[[CLASSE]:[CLASSEMENT7]],7,FALSE)","v":0},{"$f":"VLOOKUP(CLASSEMENTELEVES!I19,NOTECYCLE!$AE$3:$AF$37,2,TRUE)","v":2},{"$f":"VLOOKUP(C19,Tableau10[[CLASSE]:[CLASSEMENT7]],9,FALSE)","v":0},null,{"$f":"VLOOKUP(C19,Tableau10[[CLASSE]:[CLASSEMENT7]],11,FALSE)","v":0},{"$f":"VLOOKUP(CLASSEMENTELEVES!M19,NOTECYCLE!$AI$3:$AJ$37,2,TRUE)","v":3},{"$f":"VLOOKUP(C19,Tableau10[[CLASSE]:[CLASSEMENT7]],13,FALSE)","v":4},{"$f":"VLOOKUP(CLASSEMENTELEVES!O19,NOTECYCLE!$AK$3:$AL$37,2,TRUE)","v":3},{"$f":"VLOOKUP(C19,Tableau10[[CLASSE]:[CLASSEMENT8]],15,FALSE)","v":1},null,null,null,null,null,null,17,2]
[20,17,{"$f":"Tableau10[[#This Row],[CLASSE]]","v":"Jassim"},{"$f":"VLOOKUP(C20,Tableau10[[CLASSE]:[CLASSEMENT7]],2,FALSE)","v":1},{"$f":"VLOOKUP(CLASSEMENTELEVES!D20,NOTECYCLE!$Y$3:$Z$37,2,TRUE)","v":4},{"$f":"VLOOKUP(C20,Tableau10[[CLASSE]:[CLASSEMENT7]],3,FALSE)","v":0},{"$f":"VLOOKUP(CLASSEMENTELEVES!E20,NOTECYCLE!$AA$3:$AB$37,2,TRUE)","v":6},{"$f":"VLOOKUP(C20,Tableau10[[CLASSE]:[CLASSEMENT7]],5,FALSE)","v":0},{"$f":"VLOOKUP(CLASSEMENTELEVES!G20,NOTECYCLE!$AC$3:$AD$37,2,TRUE)","v":2},{"$f":"VLOOKUP(C20,Tableau10[[CLASSE]:[CLASSEMENT7]],7,FALSE)","v":0},{"$f":"VLOOKUP(CLASSEMENTELEVES!I20,NOTECYCLE!$AE$3:$AF$37,2,TRUE)","v":2},{"$f":"VLOOKUP(C20,Tableau10[[CLASSE]:[CLASSEMENT7]],9,FALSE)","v":0},null,{"$f":"VLOOKUP(C20,Tableau10[[CLASSE]:[CLASSEMENT7]],11,FALSE)","v":0},{"$f":"VLOOKUP(CLASSEMENTELEVES!M20,NOTECYCLE!$AI$3:$AJ$37,2,TRUE)","v":3},{"$f":"VLOOKUP(C20,Tableau10[[CLASSE]:[CLASSEMENT7]],13,FALSE)","v":4},{"$f":"VLOOKUP(CLASSEMENTELEVES!O20,NOTECYCLE!$AK$3:$AL$37,2,TRUE)","v":3},{"$f":"VLOOKUP(C20,Tableau10[[CLASSE]:[CLASSEMENT8]],15,FALSE)","v":1},null,null,null,null,null,null,18,1.8823529411764706]
[20,18,{"$f":"Tableau10[[#This Row],[CLASSE]]","v":"Jean Alexandre"},{"$f":"VLOOKUP(C21,Tableau10[[CLASSE]:[CLASSEMENT7]],2,FALSE)","v":1},{"$f":"VLOOKUP(CLASSEMENTELEVES!D21,NOTECYCLE!$Y$3:$Z$37,2,TRUE)","v":4},{"$f":"VLOOKUP(C21,Tableau10[[CLASSE]:[CLASSEMENT7]],3,FALSE)","v":0},{"$f":"VLOOKUP(CLASSEMENTELEVES!E21,NOTECYCLE!$AA$3:$AB$37,2,TRUE)","v":6},{"$f":"VLOOKUP(C21,Tableau10[[CLASSE]:[CLASSEMENT7]],5,FALSE)","v":0},{"$f":"VLOOKUP(CLASSEMENTELEVES!G21,NOTECYCLE!$AC$3:$AD$37,2,TRUE)","v":2},{"$f":"VLOOKUP(C21,Tableau10[[CLASSE]:[CLASSEMENT7]],7,FALSE)","v":0},{"$f":"VLOOKUP(CLASSEMENTELEVES!I21,NOTECYCLE!$AE$3:$AF$37,2,TRUE)","v":2},{"$f":"VLOOKUP(C21,Tableau10[[CLASSE]:[CLASSEMENT7]],9,FALSE)","v":0},null,{"$f":"VLOOKUP(C21,Tableau10[[CLASSE]:[CLASSEMENT7]],11,FALSE)","v":0},{"$f":"VLOOKUP(CLASSEMENTELEVES!M21,NOTECYCLE!$AI$3:$AJ$37,2,TRUE)","v":3},{"$f":"VLOOKUP(C21,Tableau10[[CLASSE]:[CLASSEMENT7]],13,FALSE)","v":4},{"$f":"VLOOKUP(CLASSEMENTELEVES!O21,NOTECYCLE!$AK$3:$AL$37,2,TRUE)","v":3},{"$f":"VLOOKUP(C21,Tableau10[[CLASSE]:[CLASSEMENT8]],15,FALSE)","v":1},null,null,null,null,null,null,19,1.7647058823529411]
[20,19,{"$f":"Tableau10[[#This Row],[CLASSE]]","v":"John"},{"$f":"VLOOKUP(C22,Tableau10[[CLASSE]:[CLASSEMENT7]],2,FALSE)","v":1},{"$f":"VLOOKUP(CLASSEMENTELEVES!D22,NOTECYCLE!$Y$3:$Z$37,2,TRUE)","v":4},{"$f":"VLOOKUP(C22,Tableau10[[CLASSE]:[CLASSEMENT7]],3,FALSE)","v":0},{"$f":"VLOOKUP(CLASSEMENTELEVES!E22,NOTECYCLE!$AA$3:$AB$37,2,TRUE)","v":6},{"$f":"VLOOKUP(C22,Tableau10[[CLASSE]:[CLASSEMENT7]],5,FALSE)","v":0},{"$f":"VLOOKUP(CLASSEMENTELEVES!G22,NOTECYCLE!$AC$3:$AD$37,2,TRUE)","v":2},{"$f":"VLOOKUP(C22,Tableau10[[CLASSE]:[CLASSEMENT7]],7,FALSE)","v":0},{"$f":"VLOOKUP(CLASSEMENTELEVES!I22,NOTECYCLE!$AE$3:$AF$37,2,TRUE)","v":2},{"$f":"VLOOKUP(C22,Tableau10[[CLASSE]:[CLASSEMENT7]],9,FALSE)","v":0},null,{"$f":"VLOOKUP(C22,Tableau10[[CLASSE]:[CLASSEMENT7]],11,FALSE)","v":0},{"$f":"VLOOKUP(CLASSEMENTELEVES!M22,NOTECYCLE!$AI$3:$AJ$37,2,TRUE)","v":3},{"$f":"VLOOKUP(C22,Tableau10[[CLASSE]:[CLASSEMENT7]],13,FALSE)","v":4},{"$f":"VLOOKUP(CLASSEMENTELEVES!O22,NOTECYCLE!$AK$3:$AL$37,2,TRUE)","v":3},{"$f":"VLOOKUP(C22,Tableau10[[CLASSE]:[CLASSEMENT8]],15,FALSE)","v":1},null,null,null,null,null,null,20,1.6470588235294117]
[20,20,{"$f":"Tableau10[[#This Row],[CLASSE]]","v":"Kail"},{"$f":"VLOOKUP(C23,Tableau10[[CLASSE]:[CLASSEMENT7]],2,FALSE)","v":1},{"$f":"VLOOKUP(CLASSEMENTELEVES!D23,NOTECYCLE!$Y$3:$Z$37,2,TRUE)","v":4},{"$f":"VLOOKUP(C23,Tableau10[[CLASSE]:[CLASSEMENT7]],3,FALSE)","v":0},{"$f":"VLOOKUP(CLASSEMENTELEVES!E23,NOTECYCLE!$AA$3:$AB$37,2,TRUE)","v":6},{"$f":"VLOOKUP(C23,Tableau10[[CLASSE]:[CLASSEMENT7]],5,FALSE)","v":0},{"$f":"VLOOKUP(CLASSEMENTELEVES!G23,NOTECYCLE!$AC$3:$AD$37,2,TRUE)","v":2},{"$f":"VLOOKUP(C23,Tableau10[[CLASSE]:[CLASSEMENT7]],7,FALSE)","v":0},{"$f":"VLOOKUP(CLASSEMENTELEVES!I23,NOTECYCLE!$AE$3:$AF$37,2,TRUE)","v":2},{"$f":"VLOOKUP(C23,Tableau10[[CLASSE]:[CLASSEMENT7]],9,FALSE)","v":0},null,{"$f":"VLOOKUP(C23,Tableau10[[CLASSE]:[CLASSEMENT7]],11,FALSE)","v":0},{"$f":"VLOOKUP(CLASSEMENTELEVES!M23,NOTECYCLE!$AI$3:$AJ$37,2,TRUE)","v":3},{"$f":"VLOOKUP(C23,Tableau10[[CLASSE]:[CLASSEMENT7]],13,FALSE)","v":4},{"$f":"VLOOKUP(CLASSEMENTELEVES!O23,NOTECYCLE!$AK$3:$AL$37,2,TRUE)","v":3},{"$f":"VLOOKUP(C23,Tableau10[[CLASSE]:[CLASSEMENT8]],15,FALSE)","v":1},null,null,null,null,null,null,21,1.5294117647058822]
[20,21,{"$f":"Tableau10[[#This Row],[CLASSE]]","v":"Malcom"},{"$f":"VLOOKUP(C24,Tableau10[[CLASSE]:[CLASSEMENT7]],2,FALSE)","v":1},{"$f":"VLOOKUP(CLASSEMENTELEVES!D24,NOTECYCLE!$Y$3:$Z$37,2,TRUE)","v":4},{"$f":"VLOOKUP(C24,Tableau10[[CLASSE]:[CLASSEMENT7]],3,FALSE)","v":0},{"$f":"VLOOKUP(CLASSEMENTELEVES!E24,NOTECYCLE!$AA$3:$AB$37,2,TRUE)","v":6},{"$f":"VLOOKUP(C24,Tableau10[[CLASSE]:[CLASSEMENT7]],5,FALSE)","v":0},{"$f":"VLOOKUP(CLASSEMENTELEVES!G24,NOTECYCLE!$AC$3:$AD$37,2,TRUE)","v":2},{"$f":"VLOOKUP(C24,Tableau10[[CLASSE]:[CLASSEMENT7]],7,FALSE)","v":0},{"$f":"VLOOKUP(CLASSEMENTELEVES!I24,NOTECYCLE!$AE$3:$AF$37,2,TRUE)","v":2},{"$f":"VLOOKUP(C24,Tableau10[[CLASSE]:[CLASSEMENT7]],9,FALSE)","v":0},null,{"$f":"VLOOKUP(C24,Tableau10[[CLASSE]:[CLASSEMENT7]],11,FALSE)","v":0},{"$f":"VLOOKUP(CLASSEMENTELEVES!M24,NOTECYCLE!$AI$3:$AJ$37,2,TRUE)","v":3},{"$f":"VLOOKUP(C24,Tableau10[[CLASSE]:[CLASSEMENT7]],13,FALSE)","v":4},{"$f":"VLOOKUP(CLASSEMENTELEVES!O24,NOTECYCLE!$AK$3:$AL$37,2,TRUE)","v":3},{"$f":"VLOOKUP(C24,Tableau10[[CLASSE]:[CLASSEMENT8]],15,FALSE)","v":1},null,null,null,null,null,null,22,1.4117647058823528]
[20,22,{"$f":"Tableau10[[#This Row],[CLASSE]]","v":"Nicolas"},{"$f":"VLOOKUP(C25,Tableau10[[CLASSE]:[CLASSEMENT7]],2,FALSE)","v":1},{"$f":"VLOOKUP(CLASSEMENTELEVES!D25,NOTECYCLE!$Y$3:$Z$37,2,TRUE)","v":4},{"$f":"VLOOKUP(C25,Tableau10[[CLASSE]:[CLASSEMENT7]],3,FALSE)","v":0},{"$f":"VLOOKUP(CLASSEMENTELEVES!E25,NOTECYCLE!$AA$3:$AB$37,2,TRUE)","v":6},{"$f":"VLOOKUP(C25,Tableau10[[CLASSE]:[CLASSEMENT7]],5,FALSE)","v":0},{"$f":"VLOOKUP(CLASSEMENTELEVES!G25,NOTECYCLE!$AC$3:$AD$37,2,TRUE)","v":2},{"$f":"VLOOKUP(C25,Tableau10[[CLASSE]:[CLASSEMENT7]],7,FALSE)","v":0},{"$f":"VLOOKUP(CLASSEMENTELEVES!I25,NOTECYCLE!$AE$3:$AF$37,2,TRUE)","v":2},{"$f":"VLOOKUP(C25,Tableau10[[CLASSE]:[CLASSEMENT7]],9,FALSE)","v":0},null,{"$f":"VLOOKUP(C25,Tableau10[[CLASSE]:[CLASSEMENT7]],11,FALSE)","v":0},{"$f":"VLOOKUP(CLASSEMENTELEVES!M25,NOTECYCLE!$AI$3:$AJ$37,2,TRUE)","v":3},{"$f":"VLOOKUP(C25,Tableau10[[CLASSE]:[CLASSEMENT7]],13,FALSE)","v":4},{"$f":"VLOOKUP(CLASSEMENTELEVES!O25,NOTECYCLE!$AK$3:$AL$37,2,TRUE)","v":3},{"$f":"VLOOKUP(C25,Tableau10[[CLASSE]:[CLASSEMENT8]],15,FALSE)","v":1},null,null,null,null,null,null,23,1.2941176470588234]
[20,23,{"$f":"Tableau10[[#This Row],[CLASSE]]","v":"Oumar"},{"$f":"VLOOKUP(C26,Tableau10[[CLASSE]:[CLASSEMENT7]],2,FALSE)","v":1},{"$f":"VLOOKUP(CLASSEMENTELEVES!D26,NOTECYCLE!$Y$3:$Z$37,2,TRUE)","v":4},{"$f":"VLOOKUP(C26,Tableau10[[CLASSE]:[CLASSEMENT7]],3,FALSE)","v":0},{"$f":"VLOOKUP(CLASSEMENTELEVES!E26,NOTECYCLE!$AA$3:$AB$37,2,TRUE)","v":6},{"$f":"VLOOKUP(C26,Tableau10[[CLASSE]:[CLASSEMENT7]],5,FALSE)","v":0},{"$f":"VLOOKUP(CLASSEMENTELEVES!G26,NOTECYCLE!$AC$3:$AD$37,2,TRUE)","v":2},{"$f":"VLOOKUP(C26,Tableau10[[CLASSE]:[CLASSEMENT7]],7,FALSE)","v":0},{"$f":"VLOOKUP(CLASSEMENTELEVES!I26,NOTECYCLE!$AE$3:$AF$37,2,TRUE)","v":2},{"$f":"VLOOKUP(C26,Tableau10[[CLASSE]:[CLASSEMENT7]],9,FALSE)","v":0},null,{"$f":"VLOOKUP(C26,Tableau10[[CLASSE]:[CLASSEMENT7]],11,FALSE)","v":0},{"$f":"VLOOKUP(CLASSEMENTELEVES!M26,NOTECYCLE!$AI$3:$AJ$37,2,TRUE)","v":3},{"$f":"VLOOKUP(C26,Tableau10[[CLASSE]:[CLASSEMENT7]],13,FALSE)","v":4},{"$f":"VLOOKUP(CLASSEMENTELEVES!O26,NOTECYCLE!$AK$3:$AL$37,2,TRUE)","v":3},{"$f":"VLOOKUP(C26,Tableau10[[CLASSE]:[CLASSEMENT8]],15,FALSE)","v":1},null,null,null,null,null,null,24,1.1764705882352939]
[20,24,{"$f":"Tableau10[[#This Row],[CLASSE]]","v":"Quintimo"},{"$f":"VLOOKUP(C27,Tableau10[[CLASSE]:[CLASSEMENT7]],2,FALSE)","v":1},{"$f":"VLOOKUP(CLASSEMENTELEVES!D27,NOTECYCLE!$Y$3:$Z$37,2,TRUE)","v":4},{"$f":"VLOOKUP(C27,Tableau10[[CLASSE]:[CLASSEMENT7]],3,FALSE)","v":0},{"$f":"VLOOKUP(CLASSEMENTELEVES!E27,NOTECYCLE!$AA$3:$AB$37,2,TRUE)","v":6},{"$f":"VLOOKUP(C27,Tableau10[[CLASSE]:[CLASSEMENT7]],5,FALSE)","v":0},{"$f":"VLOOKUP(CLASSEMENTELEVES!G27,NOTECYCLE!$AC$3:$AD$37,2,TRUE)","v":2},{"$f":"VLOOKUP(C27,Tableau10[[CLASSE]:[CLASSEMENT7]],7,FALSE)","v":0},{"$f":"VLOOKUP(CLASSEMENTELEVES!I27,NOTECYCLE!$AE$3:$AF$37,2,TRUE)","v":2},{"$f":"VLOOKUP(C27,Tableau10[[CLASSE]:[CLASSEMENT7]],9,FALSE)","v":0},null,{"$f":"VLOOKUP(C27,Tableau10[[CLASSE]:[CLASSEMENT7]],11,FALSE)","v":0},{"$f":"VLOOKUP(CLASSEMENTELEVES!M27,NOTECYCLE!$AI$3:$AJ$37,2,TRUE)","v":3},{"$f":"VLOOKUP(C27,Tableau10[[CLASSE]:[CLASSEMENT7]],13,FALSE)","v":4},{"$f":"VLOOKUP(CLASSEMENTELEVES!O27,NOTECYCLE!$AK$3:$AL$37,2,TRUE)","v":3},{"$f":"VLOOKUP(C27,Tableau10[[CLASSE]:[CLASSEMENT8]],15,FALSE)","v":1},null,null,null,null,null,null,25,1.0588235294117645]
[20,25,{"$f":"Tableau10[[#This Row],[CLASSE]]","v":"Raphaël"},{"$f":"VLOOKUP(C28,Tableau10[[CLASSE]:[CLASSEMENT7]],2,FALSE)","v":1},{"$f":"VLOOKUP(CLASSEMENTELEVES!D28,NOTECYCLE!$Y$3:$Z$37,2,TRUE)","v":4},{"$f":"VLOOKUP(C28,Tableau10[[CLASSE]:[CLASSEMENT7]],3,FALSE)","v":0},{"$f":"VLOOKUP(CLASSEMENTELEVES!E28,NOTECYCLE!$AA$3:$AB$37,2,TRUE)","v":6},{"$f":"VLOOKUP(C28,Tableau10[[CLASSE]:[CLASSEMENT7]],5,FALSE)","v":0},{"$f":"VLOOKUP(CLASSEMENTELEVES!G28,NOTECYCLE!$AC$3:$AD$37,2,TRUE)","v":2},{"$f":"VLOOKUP(C28,Tableau10[[CLASSE]:[CLASSEMENT7]],7,FALSE)","v":0},{"$f":"VLOOKUP(CLASSEMENTELEVES!I28,NOTECYCLE!$AE$3:$AF$37,2,TRUE)","v":2},{"$f":"VLOOKUP(C28,Tableau10[[CLASSE]:[CLASSEMENT7]],9,FALSE)","v":0},null,{"$f":"VLOOKUP(C28,Tableau10[[CLASSE]:[CLASSEMENT7]],11,FALSE)","v":0},{"$f":"VLOOKUP(CLASSEMENTELEVES!M28,NOTECYCLE!$AI$3:$AJ$37,2,TRUE)","v":3},{"$f":"VLOOKUP(C28,Tableau10[[CLASSE]:[CLASSEMENT7]],13,FALSE)","v":4},{"$f":"VLOOKUP(CLASSEMENTELEVES!O28,NOTECYCLE!$AK$3:$AL$37,2,TRUE)","v":3},{"$f":"VLOOKUP(C28,Tableau10[[CLASSE]:[CLASSEMENT8]],15,FALSE)","v":1},null,null,null,null,null,null,26,0.9411764705882355]
[20,26,{"$f":"Tableau10[[#This Row],[CLASSE]]","v":"Richmond"},{"$f":"VLOOKUP(C29,Tableau10[[CLASSE]:[CLASSEMENT7]],2,FALSE)","v":1},{"$f":"VLOOKUP(CLASSEMENTELEVES!D29,NOTECYCLE!$Y$3:$Z$37,2,TRUE)","v":4},{"$f":"VLOOKUP(C29,Tableau10[[CLASSE]:[CLASSEMENT7]],3,FALSE)","v":0},{"$f":"VLOOKUP(CLASSEMENTELEVES!E29,NOTECYCLE!$AA$3:$AB$37,2,TRUE)","v":6},{"$f":"VLOOKUP(C29,Tableau10[[CLASSE]:[CLASSEMENT7]],5,FALSE)","v":0},{"$f":"VLOOKUP(CLASSEMENTELEVES!G29,NOTECYCLE!$AC$3:$AD$37,2,TRUE)","v":2},{"$f":"VLOOKUP(C29,Tableau10[[CLASSE]:[CLASSEMENT7]],7,FALSE)","v":0},{"$f":"VLOOKUP(CLASSEMENTELEVES!I29,NOTECYCLE!$AE$3:$AF$37,2,TRUE)","v":2},{"$f":"VLOOKUP(C29,Tableau10[[CLASSE]:[CLASSEMENT7]],9,FALSE)","v":0},null,{"$f":"VLOOKUP(C29,Tableau10[[CLASSE]:[CLASSEMENT7]],11,FALSE)","v":0},{"$f":"VLOOKUP(CLASSEMENTELEVES!M29,NOTECYCLE!$AI$3:$AJ$37,2,TRUE)","v":3},{"$f":"VLOOKUP(C29,Tableau10[[CLASSE]:[CLASSEMENT7]],13,FALSE)","v":4},{"$f":"VLOOKUP(CLASSEMENTELEVES!O29,NOTECYCLE!$AK$3:$AL$37,2,TRUE)","v":3},{"$f":"VLOOKUP(C29,Tableau10[[CLASSE]:[CLASSEMENT8]],15,FALSE)","v":1},null,null,null,null,null,null,27,0.82352941176470607]
[20,27,{"$f":"Tableau10[[#This Row],[CLASSE]]","v":"Serdar"},{"$f":"VLOOKUP(C30,Tableau10[[CLASSE]:[CLASSEMENT7]],2,FALSE)","v":1},{"$f":"VLOOKUP(CLASSEMENTELEVES!D30,NOTECYCLE!$Y$3:$Z$37,2,TRUE)","v":4},{"$f":"VLOOKUP(C30,Tableau10[[CLASSE]:[CLASSEMENT7]],3,FALSE)","v":0},{"$f":"VLOOKUP(CLASSEMENTELEVES!E30,NOTECYCLE!$AA$3:$AB$37,2,TRUE)","v":6},{"$f":"VLOOKUP(C30,Tableau10[[CLASSE]:[CLASSEMENT7]],5,FALSE)","v":0},{"$f":"VLOOKUP(CLASSEMENTELEVES!G30,NOTECYCLE!$AC$3:$AD$37,2,TRUE)","v":2},{"$f":"VLOOKUP(C30,Tableau10[[CLASSE]:[CLASSEMENT7]],7,FALSE)","v":0},{"$f":"VLOOKUP(CLASSEMENTELEVES!I30,NOTECYCLE!$AE$3:$AF$37,2,TRUE)","v":2},{"$f":"VLOOKUP(C30,Tableau10[[CLASSE]:[CLASSEMENT7]],9,FALSE)","v":0},null,{"$f":"VLOOKUP(C30,Tableau10[[CLASSE]:[CLASSEMENT7]],11,FALSE)","v":0},{"$f":"VLOOKUP(CLASSEMENTELEVES!M30,NOTECYCLE!$AI$3:$AJ$37,2,TRUE)","v":3},{"$f":"VLOOKUP(C30,Tableau10[[CLASSE]:[CLASSEMENT7]],13,FALSE)","v":4},{"$f":"VLOOKUP(CLASSEMENTELEVES!O30,NOTECYCLE!$AK$3:$AL$37,2,TRUE)","v":3},{"$f":"VLOOKUP(C30,Tableau10[[CLASSE]:[CLASSEMENT8]],15,FALSE)","v":1},null,null,null,null,null,null,28,0.70588235294117663]
[20,28,{"$f":"Tableau10[[#This Row],[CLASSE]]","v":"Valentin"},{"$f":"VLOOKUP(C31,Tableau10[[CLASSE]:[CLASSEMENT7]],2,FALSE)","v":1},{"$f":"VLOOKUP(CLASSEMENTELEVES!D31,NOTECYCLE!$Y$3:$Z$37,2,TRUE)","v":4},{"$f":"VLOOKUP(C31,Tableau10[[CLASSE]:[CLASSEMENT7]],3,FALSE)","v":0},{"$f":"VLOOKUP(CLASSEMENTELEVES!E31,NOTECYCLE!$AA$3:$AB$37,2,TRUE)","v":6},{"$f":"VLOOKUP(C31,Tableau10[[CLASSE]:[CLASSEMENT7]],5,FALSE)","v":0},{"$f":"VLOOKUP(CLASSEMENTELEVES!G31,NOTECYCLE!$AC$3:$AD$37,2,TRUE)","v":2},{"$f":"VLOOKUP(C31,Tableau10[[CLASSE]:[CLASSEMENT7]],7,FALSE)","v":0},{"$f":"VLOOKUP(CLASSEMENTELEVES!I31,NOTECYCLE!$AE$3:$AF$37,2,TRUE)","v":2},{"$f":"VLOOKUP(C31,Tableau10[[CLASSE]:[CLASSEMENT7]],9,FALSE)","v":0},null,{"$f":"VLOOKUP(C31,Tableau10[[CLASSE]:[CLASSEMENT7]],11,FALSE)","v":0},{"$f":"VLOOKUP(CLASSEMENTELEVES!M31,NOTECYCLE!$AI$3:$AJ$37,2,TRUE)","v":3},{"$f":"VLOOKUP(C31,Tableau10[[CLASSE]:[CLASSEMENT7]],13,FALSE)","v":4},{"$f":"VLOOKUP(CLASSEMENTELEVES!O31,NOTECYCLE!$AK$3:$AL$37,2,TRUE)","v":3},{"$f":"VLOOKUP(C31,Tableau10[[CLASSE]:[CLASSEMENT8]],15,FALSE)","v":1},null,null,null,null,null,null,29,0.58823529411764719]
[20,29,{"$f":"Tableau10[[#This Row],[CLASSE]]","v":"Walid"},{"$f":"VLOOKUP(C32,Tableau10[[CLASSE]:[CLASSEMENT7]],2,FALSE)","v":1},{"$f":"VLOOKUP(CLASSEMENTELEVES!D32,NOTECYCLE!$Y$3:$Z$37,2,TRUE)","v":4},{"$f":"VLOOKUP(C32,Tableau10[[CLASSE]:[CLASSEMENT7]],3,FALSE)","v":0},{"$f":"VLOOKUP(CLASSEMENTELEVES!E32,NOTECYCLE!$AA$3:$AB$37,2,TRUE)","v":6},{"$f":"VLOOKUP(C32,Tableau10[[CLASSE]:[CLASSEMENT7]],5,FALSE)","v":0},{"$f":"VLOOKUP(CLASSEMENTELEVES!G32,NOTECYCLE!$AC$3:$AD$37,2,TRUE)","v":2},{"$f":"VLOOKUP(C32,Tableau10[[CLASSE]:[CLASSEMENT7]],7,FALSE)","v":0},{"$f":"VLOOKUP(CLASSEMENTELEVES!I32,NOTECYCLE!$AE$3:$AF$37,2,TRUE)","v":2},{"$f":"VLOOKUP(C32,Tableau10[[CLASSE]:[CLASSEMENT7]],9,FALSE)","v":0},null,{"$f":"VLOOKUP(C32,Tableau10[[CLASSE]:[CLASSEMENT7]],11,FALSE)","v":0},{"$f":"VLOOKUP(CLASSEMENTELEVES!M32,NOTECYCLE!$AI$3:$AJ$37,2,TRUE)","v":3},{"$f":"VLOOKUP(C32,Tableau10[[CLASSE]:[CLASSEMENT7]],13,FALSE)","v":4},{"$f":"VLOOKUP(CLASSEMENTELEVES!O32,NOTECYCLE!$AK$3:$AL$37,2,TRUE)","v":3},{"$f":"VLOOKUP(C32,Tableau10[[CLASSE]:[CLASSEMENT8]],15,FALSE)","v":1},null,null,null,null,null,null,30,0.47058823529411775]
[20,30,{"$f":"Tableau10[[#This Row],[CLASSE]]","v":"Willy"},{"$f":"VLOOKUP(C33,Tableau10[[CLASSE]:[CLASSEMENT7]],2,FALSE)","v":1},{"$f":"VLOOKUP(CLASSEMENTELEVES!D33,NOTECYCLE!$Y$3:$Z$37,2,TRUE)","v":4},{"$f":"VLOOKUP(C33,Tableau10[[CLASSE]:[CLASSEMENT7]],3,FALSE)","v":0},{"$f":"VLOOKUP(CLASSEMENTELEVES!E33,NOTECYCLE!$AA$3:$AB$37,2,TRUE)","v":6},{"$f":"VLOOKUP(C33,Tableau10[[CLASSE]:[CLASSEMENT7]],5,FALSE)","v":0},{"$f":"VLOOKUP(CLASSEMENTELEVES!G33,NOTECYCLE!$AC$3:$AD$37,2,TRUE)","v":2},{"$f":"VLOOKUP(C33,Tableau10[[CLASSE]:[CLASSEMENT7]],7,FALSE)","v":0},{"$f":"VLOOKUP(CLASSEMENTELEVES!I33,NOTECYCLE!$AE$3:$AF$37,2,TRUE)","v":2},{"$f":"VLOOKUP(C33,Tableau10[[CLASSE]:[CLASSEMENT7]],9,FALSE)","v":0},null,{"$f":"VLOOKUP(C33,Tableau10[[CLASSE]:[CLASSEMENT7]],11,FALSE)","v":0},{"$f":"VLOOKUP(CLASSEMENTELEVES!M33,NOTECYCLE!$AI$3:$AJ$37,2,TRUE)","v":3},{"$f":"VLOOKUP(C33,Tableau10[[CLASSE]:[CLASSEMENT7]],13,FALSE)","v":4},{"$f":"VLOOKUP(CLASSEMENTELEVES!O33,NOTECYCLE!$AK$3:$AL$37,2,TRUE)","v":3},{"$f":"VLOOKUP(C33,Tableau10[[CLASSE]:[CLASSEMENT8]],15,FALSE)","v":1},null,null,null,null,null,null,31,0.35294117647058831]
[20,31,{"$f":"Tableau10[[#This Row],[CLASSE]]","v":"Yahia"},{"$f":"VLOOKUP(C34,Tableau10[[CLASSE]:[CLASSEMENT7]],2,FALSE)","v":1},{"$f":"VLOOKUP(CLASSEMENTELEVES!D34,NOTECYCLE!$Y$3:$Z$37,2,TRUE)","v":4},{"$f":"VLOOKUP(C34,Tableau10[[CLASSE]:[CLASSEMENT7]],3,FALSE)","v":0},{"$f":"VLOOKUP(CLASSEMENTELEVES!E34,NOTECYCLE!$AA$3:$AB$37,2,TRUE)","v":6},{"$f":"VLOOKUP(C34,Tableau10[[CLASSE]:[CLASSEMENT7]],5,FALSE)","v":0},{"$f":"VLOOKUP(CLASSEMENTELEVES!G34,NOTECYCLE!$AC$3:$AD$37,2,TRUE)","v":2},{"$f":"VLOOKUP(C34,Tableau10[[CLASSE]:[CLASSEMENT7]],7,FALSE)","v":0},{"$f":"VLOOKUP(CLASSEMENTELEVES!I34,NOTECYCLE!$AE$3:$AF$37,2,TRUE)","v":2},{"$f":"VLOOKUP(C34,Tableau10[[CLASSE]:[CLASSEMENT7]],9,FALSE)","v":0},null,{"$f":"VLOOKUP(C34,Tableau10[[CLASSE]:[CLASSEMENT7]],11,FALSE)","v":0},{"$f":"VLOOKUP(CLASSEMENTELEVES!M34,NOTECYCLE!$AI$3:$AJ$37,2,TRUE)","v":3},{"$f":"VLOOKUP(C34,Tableau10[[CLASSE]:[CLASSEMENT7]],13,FALSE)","v":4},{"$f":"VLOOKUP(CLASSEMENTELEVES!O34,NOTECYCLE!$AK$3:$AL$37,2,TRUE)","v":3},{"$f":"VLOOKUP(C34,Tableau10[[CLASSE]:[CLASSEMENT8]],15,FALSE)","v":1},null,null,null,null,null,null,32,0.23529411764705888]
[20,32,{"$f":"Tableau10[[#This Row],[CLASSE]]","v":"Yamine"},{"$f":"VLOOKUP(C35,Tableau10[[CLASSE]:[CLASSEMENT7]],2,FALSE)","v":1},{"$f":"VLOOKUP(CLASSEMENTELEVES!D35,NOTECYCLE!$Y$3:$Z$37,2,TRUE)","v":4},{"$f":"VLOOKUP(C35,Tableau10[[CLASSE]:[CLASSEMENT7]],3,FALSE)","v":0},{"$f":"VLOOKUP(CLASSEMENTELEVES!E35,NOTECYCLE!$AA$3:$AB$37,2,TRUE)","v":6},{"$f":"VLOOKUP(C35,Tableau10[[CLASSE]:[CLASSEMENT7]],5,FALSE)","v":0},{"$f":"VLOOKUP(CLASSEMENTELEVES!G35,NOTECYCLE!$AC$3:$AD$37,2,TRUE)","v":2},{"$f":"VLOOKUP(C35,Tableau10[[CLASSE]:[CLASSEMENT7]],7,FALSE)","v":0},{"$f":"VLOOKUP(CLASSEMENTELEVES!I35,NOTECYCLE!$AE$3:$AF$37,2,TRUE)","v":2},{"$f":"VLOOKUP(C35,Tableau10[[CLASSE]:[CLASSEMENT7]],9,FALSE)","v":0},null,{"$f":"VLOOKUP(C35,Tableau10[[CLASSE]:[CLASSEMENT7]],11,FALSE)","v":0},{"$f":"VLOOKUP(CLASSEMENTELEVES!M35,NOTECYCLE!$AI$3:$AJ$37,2,TRUE)","v":3},{"$f":"VLOOKUP(C35,Tableau10[[CLASSE]:[CLASSEMENT7]],13,FALSE)","v":4},{"$f":"VLOOKUP(CLASSEMENTELEVES!O35,NOTECYCLE!$AK$3:$AL$37,2,TRUE)","v":3},{"$f":"VLOOKUP(C35,Tableau10[[CLASSE]:[CLASSEMENT8]],15,FALSE)","v":1},null,null,null,null,null,null,33,0.11764705882352944]
[20,33,{"$f":"Tableau10[[#This Row],[CLASSE]]","v":"Yanis"},{"$f":"VLOOKUP(C36,Tableau10[[CLASSE]:[CLASSEMENT7]],2,FALSE)","v":1},{"$f":"VLOOKUP(CLASSEMENTELEVES!D36,NOTECYCLE!$Y$3:$Z$37,2,TRUE)","v":4},{"$f":"VLOOKUP(C36,Tableau10[[CLASSE]:[CLASSEMENT7]],3,FALSE)","v":0},{"$f":"VLOOKUP(CLASSEMENTELEVES!E36,NOTECYCLE!$AA$3:$AB$37,2,TRUE)","v":6},{"$f":"VLOOKUP(C36,Tableau10[[CLASSE]:[CLASSEMENT7]],5,FALSE)","v":0},{"$f":"VLOOKUP(CLASSEMENTELEVES!G36,NOTECYCLE!$AC$3:$AD$37,2,TRUE)","v":2},{"$f":"VLOOKUP(C36,Tableau10[[CLASSE]:[CLASSEMENT7]],7,FALSE)","v":0},{"$f":"VLOOKUP(CLASSEMENTELEVES!I36,NOTECYCLE!$AE$3:$AF$37,2,TRUE)","v":2},{"$f":"VLOOKUP(C36,Tableau10[[CLASSE]:[CLASSEMENT7]],9,FALSE)","v":0},null,{"$f":"VLOOKUP(C36,Tableau10[[CLASSE]:[CLASSEMENT7]],11,FALSE)","v":0},{"$f":"VLOOKUP(CLASSEMENTELEVES!M36,NOTECYCLE!$AI$3:$AJ$37,2,TRUE)","v":3},{"$f":"VLOOKUP(C36,Tableau10[[CLASSE]:[CLASSEMENT7]],13,FALSE)","v":4},{"$f":"VLOOKUP(CLASSEMENTELEVES!O36,NOTECYCLE!$AK$3:$AL$37,2,TRUE)","v":3},{"$f":"VLOOKUP(C36,Tableau10[[CLASSE]:[CLASSEMENT8]],15,FALSE)","v":1},null,null,null,null,null,null,34,0]
[20,34,{"$f":"Tableau10[[#This Row],[CLASSE]]","v":"Yousri"},{"$f":"VLOOKUP(C37,Tableau10[[CLASSE]:[CLASSEMENT7]],2,FALSE)","v":1},{"$f":"VLOOKUP(CLASSEMENTELEVES!D37,NOTECYCLE!$Y$3:$Z$37,2,TRUE)","v":4},{"$f":"VLOOKUP(C37,Tableau10[[CLASSE]:[CLASSEMENT7]],3,FALSE)","v":0},{"$f":"VLOOKUP(CLASSEMENTELEVES!E37,NOTECYCLE!$AA$3:$AB$37,2,TRUE)","v":6},{"$f":"VLOOKUP(C37,Tableau10[[CLASSE]:[CLASSEMENT7]],5,FALSE)","v":0},{"$f":"VLOOKUP(CLASSEMENTELEVES!G37,NOTECYCLE!$AC$3:$AD$37,2,TRUE)","v":2},{"$f":"VLOOKUP(C37,Tableau10[[CLASSE]:[CLASSEMENT7]],7,FALSE)","v":0},{"$f":"VLOOKUP(CLASSEMENTELEVES!I37,NOTECYCLE!$AE$3:$AF$37,2,TRUE)","v":2},{"$f":"VLOOKUP(C37,Tableau10[[CLASSE]:[CLASSEMENT7]],9,FALSE)","v":0},null,{"$f":"VLOOKUP(C37,Tableau10[[CLASSE]:[CLASSEMENT7]],11,FALSE)","v":0},{"$f":"VLOOKUP(CLASSEMENTELEVES!M37,NOTECYCLE!$AI$3:$AJ$37,2,TRUE)","v":3},{"$f":"VLOOKUP(C37,Tableau10[[CLASSE]:[CLASSEMENT7]],13,FALSE)","v":4},{"$f":"VLOOKUP(CLASSEMENTELEVES!O37,NOTECYCLE!$AK$3:$AL$37,2,TRUE)","v":3},{"$f":"VLOOKUP(C37,Tableau10[[CLASSE]:[CLASSEMENT8]],15,FALSE)","v":1},null,null,null,null,null,null,35,-0.11764705882352899]

{"sheet":"MATCHPOULENOTE","index":5,"n_rows":20,"n_cols":35,"rows_kept":20,"cut":false,"hidden":false,"merged":[[0,19,1,22]]}
[null,null,null,{"$f":"OFFSET(INDEX(place,MATCH(D2,elevesc,0),MATCH($B$4,classements,0)),0,1)","v":1},1,1,1,1,1,1,1,1,1,1,1,1,1,1,null,"CLIQUEZ EN FACE DU MATCH CORRESPONDANT PUIS SUR L'ELEVE VAINQUEUR, SON SCORE, SON ADVERSAIRE et SON SCORE (INDIQUEZ LES PTS THEME SI NECESSAIRE) \net VALIDER QUAND VOUS ETES SUR !"]
[null,{"$f":"CLASSEMENTELEVES!C3","v":"CLASSE"},null,{"$f":"CLASSEMENTELEVES!C4","v":"Achraf"},{"$f":"CLASSEMENTELEVES!C5","v":"Adel"},{"$f":"CLASSEMENTELEVES!C6","v":"Adem"},{"$f":"CLASSEMENTELEVES!C7","v":"Amar"},{"$f":"CLASSEMENTELEVES!C8","v":"Ayoub"},{"$f":"CLASSEMENTELEVES!C9","v":"Azedine"},{"$f":"CLASSEMENTELEVES!C10","v":"Bilal B."},{"$f":"CLASSEMENTELEVES!C11","v":"Bilal S."},{"$f":"CLASSEMENTELEVES!C12","v":"Djaoidou"},{"$f":"CLASSEMENTELEVES!C13","v":"Fahade"},{"$f":"CLASSEMENTELEVES!C14","v":"Farhane"},{"$f":"CLASSEMENTELEVES!C15","v":"Faudel"},{"$f":"CLASSEMENTELEVES!C16","v":"Fazil"},{"$f":"CLASSEMENTELEVES!C17","v":"Hakim"},{"$f":"CLASSEMENTELEVES!C18","v":"Hicham"}]
[null,null,null,{"$f":"OFFSET(INDEX(place,MATCH(D4,elevesc,0),MATCH($B$4,classements,0)),0,1)","v":1},{"$f":"OFFSET(INDEX(place,MATCH(E4,elevesc,0),MATCH($B$4,classements,0)),0,1)","v":1},1,1,1,1,1,1,1,1,1,1,1,1,1,1,1,1,1,{"$error":"#N/A"}]
[null,"DEFIS",null,{"$f":"CLASSEMENTELEVES!C19","v":"Hicham L."},{"$f":"CLASSEMENTELEVES!C20","v":"Jassim"},{"$f":"CLASSEMENTELEVES!C21","v":"Jean Alexandre"},{"$f":"CLASSEMENTELEVES!C22","v":"John"},{"$f":"CLASSEMENTELEVES!C23","v":"Kail"},{"$f":"CLASSEMENTELEVES!C24","v":"Malcom"},{"$f":"CLASSEMENTELEVES!C25","v":"Nicolas"},{"$f":"CLASSEMENTELEVES!C26","v":"Oumar"},{"$f":"CLASSEMENTELEVES!C27","v":"Quintimo"},{"$f":"CLASSEMENTELEVES!C28","v":"Raphaël"},{"$f":"CLASSEMENTELEVES!C29","v":"Richmond"},{"$f":"CLASSEMENTELEVES!C30","v":"Serdar"},{"$f":"CLASSEMENTELEVES!C31","v":"Valentin"},{"$f":"CLASSEMENTELEVES!C32","v":"Walid"},{"$f":"CLASSEMENTELEVES!C33","v":"Willy"},{"$f":"CLASSEMENTELEVES!C34","v":"Yahia"},{"$f":"CLASSEMENTELEVES!C35","v":"Yamine"},{"$f":"CLASSEMENTELEVES!C36","v":"Yanis"},{"$f":"CLASSEMENTELEVES!C37","v":"Yousri"},{"$f":"CLASSEMENTELEVES!C38","v":0}]
[null,null,null,1,2,3,4,5,6,7,8,9,10,11,12,13,14,15,31,32,33,34,35]
[null,null,null,16,17,18,19,20,21,22,23,24,25,26,27,28,29,30,31,32,33,34,35]
[]
[]
[]
[]
[]
[]
[]
[]
[null,"TERRAIN 1",null,"Niveau",null,"Match 1","Set 1","Set 2","Cas","Match 2","Set 1","Set 2",null,"Match 3","Set 1","Set 2",null,"Match 4","Set 1","Set 2",null,"Match 5","Set 1","Set 2",null,"PTS niveau","M1 Cas","M1 Cas","M1 Cas","M1 Cas","M5 Cas","Moyenne Cas ","Classement Poule","Classement sexe","NOTE /20"]
[null,"Abdelwahid","f","A",null,"Abdelwahid",11,6,{"$f":"IF(AND(G16>G17,H16>H17,H17<G17),1,IF(AND(G16>G17,H16>H17,H17<=G17),2,IF(AND(H16>H17,G16<G17),3,IF(AND(H16<H17,G16>G17),4,IF(AND(H16<H17,G16<G17,H16>G16+1),5,IF(F16=\"\",\"pas joué\",6))))))","v":4},"Abdelwahid",null,null,{"$f":"IF(AND(K16>K17,L16>L17,L17<K17),1,IF(AND(K16>K17,L16>L17,L17<=K17),2,IF(AND(L16>L17,K16<K17),3,IF(AND(L16<L17,K16>K17),4,IF(AND(L16<L17,K16<K17,L16>K16+1),5,IF(J16=\"\",\"pas joué\",6))))))","v":6},"Abdelwahid",null,null,{"$f":"IF(AND(O16>O17,P16>P17,P17<O17),1,IF(AND(O16>O17,P16>P17,P17<=O17),2,IF(AND(P16>P17,O16<O17),3,IF(AND(P16<P17,O16>O17),4,IF(AND(P16<P17,O16<O17,P16>O16+1),5,IF(N16=\"\",\"pas joué\",6))))))","v":6},"Abdelwahid",null,null,{"$f":"IF(AND(S16>S17,T16>T17,T17<S17),1,IF(AND(S16>S17,T16>T17,T17<=S17),2,IF(AND(T16>T17,S16<S17),3,IF(AND(T16<T17,S16>S17),4,IF(AND(T16<T17,S16<S17,T16>S16+1),5,IF(R16=\"\",\"pas joué\",6))))))","v":6},"Abdelwahid",null,null,{"$f":"IF(AND(W16>W17,X16>X17,X17<W17),1,IF(AND(W16>W17,X16>X17,X17<=W17),2,IF(AND(X16>X17,W16<W17),3,IF(AND(X16<X17,W16>W17),4,IF(AND(X16<X17,W16<W17,X16>W16+1),5,IF(V16=\"\",\"pas joué\",6))))))","v":6},8,{"$f":"IFERROR(IF($D16=\"A\",VLOOKUP(I16,DEBUT!$P$5:$S$24,2,IF($D16=\"B\",VLOOKUP(I16,DEBUT!$P$5:$S$24,3,IF($D16=\"C\",VLOOKUP(I16,DEBUT!$P$5:$S$24,4),\"pas joué\"))))),\"pas joué\")","v":2.5},{"$f":"IFERROR(IF($D16=\"A\",VLOOKUP(M16,DEBUT!$P$5:$S$24,2,IF($D16=\"B\",VLOOKUP(M16,DEBUT!$P$5:$S$24,3,IF($D16=\"C\",VLOOKUP(M16,DEBUT!$P$5:$S$24,4)))))),\"pas joué\")","v":3.5},{"$f":"IFERROR(IF($D16=\"A\",VLOOKUP(Q16,DEBUT!$P$5:$S$24,2,IF($D16=\"B\",VLOOKUP(Q16,DEBUT!$P$5:$S$24,3,IF($D16=\"C\",VLOOKUP(Q16,DEBUT!$P$5:$S$24,4)))))),\"pas joué\")","v":3.5},{"$f":"IFERROR(IF($D16=\"A\",VLOOKUP(U16,DEBUT!$P$5:$S$24,2,IF($D16=\"B\",VLOOKUP(U16,DEBUT!$P$5:$S$24,3,IF($D16=\"C\",VLOOKUP(U16,DEBUT!$P$5:$S$24,4)))))),\"pas joué\")","v":3.5},{"$f":"IFERROR(IF($D16=\"A\",VLOOKUP(Y16,DEBUT!$P$5:$S$24,2,IF($D16=\"B\",VLOOKUP(Y16,DEBUT!$P$5:$S$24,3,IF($D16=\"C\",VLOOKUP(Y16,DEBUT!$P$5:$S$24,4)))))),\"pas joué\")","v":3.5},{"$f":"AVERAGEIF(AA16:AE16,\"<>*pas joué\")","v":3.3},2,3,{"$f":"Z16+AF16+AG16+AH16","v":16.3}]
[null,"Abdel","f","B",null,null,3,11,{"$f":"IF(AND(H17>H16,G17>G16,H16<G16),1,IF(AND(H17>H16,G17>G16,H16>=G16),2,IF(AND(H17>H16,G17<G16),3,IF(AND(H17<H16,G17>G16),4,IF(AND(H17<H16,G17,G16,H17>G17+1),5,IF(F16=\"\",\"pas joué\",6))))))","v":3},null,null,null,{"$f":"IF(AND(L17>L16,K17>K16,L16<K16),1,IF(AND(L17>L16,K17>K16,L16>=K16),2,IF(AND(L17>L16,K17<K16),3,IF(AND(L17<L16,K17>K16),4,IF(AND(L17<L16,K17,K16,L17>K17+1),5,IF(J16=\"\",\"pas joué\",6))))))","v":6},null,null,null,{"$f":"IF(AND(P17>P16,O17>O16,P16<O16),1,IF(AND(P17>P16,O17>O16,P16>=O16),2,IF(AND(P17>P16,O17<O16),3,IF(AND(P17<P16,O17>O16),4,IF(AND(P17<P16,O17,O16,P17>O17+1),5,IF(N16=\"\",\"pas joué\",6))))))","v":6},null,null,null,{"$f":"IF(AND(T17>T16,S17>S16,T16<S16),1,IF(AND(T17>T16,S17>S16,T16>=S16),2,IF(AND(T17>T16,S17<S16),3,IF(AND(T17<T16,S17>S16),4,IF(AND(T17<T16,S17,S16,T17>S17+1),5,IF(R16=\"\",\"pas joué\",6))))))","v":6},null,null,null,{"$f":"IF(AND(X17>X16,W17>W16,X16<W16),1,IF(AND(X17>X16,W17>W16,X16>=W16),2,IF(AND(X17>X16,W17<W16),3,IF(AND(X17<X16,W17>W16),4,IF(AND(X17<X16,W17,W16,X17>W17+1),5,IF(V16=\"\",\"pas joué\",6))))))","v":6},null,null,null,null,null,null,null,null,null,{"$f":"Z17+AF17+AG17+AH17","v":0}]
[null,"Achraf","f","C",null,"Match 6","Set 1","Set 2",null,"Match 7","Set 1","Set 2",null,"Match 8",null,null,null,"Match 9",null,null,null,"Match 10",null,null,null,null,null,null,null,null,null,null,null,null,0]
[null,"Abdel","f","A",null,"Abdelwahid",null,null,{"$f":"IF(AND(G19>G20,H19>H20,H20<G20),1,IF(AND(G19>G20,H19>H20,H20<=G20),2,IF(AND(H19>H20,G19<G20),3,IF(AND(H19<H20,G19>G20),4,IF(AND(H19<H20,G19<G20,H19>G19+1),5,IF(F19=\"\",\"pas joué\",6))))))","v":6},"Abdelwahid",null,null,{"$f":"IF(AND(K19>K20,L19>L20,L20<K20),1,IF(AND(K19>K20,L19>L20,L20<=K20),2,IF(AND(L19>L20,K19<K20),3,IF(AND(L19<L20,K19>K20),4,IF(AND(L19<L20,K19<K20,L19>K19+1),5,IF(J19=\"\",\"pas joué\",6))))))","v":6},"Abdelwahid",null,null,{"$f":"IF(AND(O19>O20,P19>P20,P20<O20),1,IF(AND(O19>O20,P19>P20,P20<=O20),2,IF(AND(P19>P20,O19<O20),3,IF(AND(P19<P20,O19>O20),4,IF(AND(P19<P20,O19<O20,P19>O19+1),5,IF(N19=\"\",\"pas joué\",6))))))","v":6},"Abdelwahid",null,null,{"$f":"IF(AND(S19>S20,T19>T20,T20<S20),1,IF(AND(S19>S20,T19>T20,T20<=S20),2,IF(AND(T19>T20,S19<S20),3,IF(AND(T19<T20,S19>S20),4,IF(AND(T19<T20,S19<S20,T19>S19+1),5,IF(R19=\"\",\"pas joué\",6))))))","v":6},"Abdelwahid",null,null,{"$f":"IF(AND(W19>W20,X19>X20,X20<W20),1,IF(AND(W19>W20,X19>X20,X20<=W20),2,IF(AND(X19>X20,W19<W20),3,IF(AND(X19<X20,W19>W20),4,IF(AND(X19<X20,W19<W20,X19>W19+1),5,IF(V19=\"\",\"pas joué\",6))))))","v":6},null,null,null,null,null,null,null,null,null,0]
[null,"Achraf","g","A",null,null,null,null,{"$f":"IF(AND(H20>H19,G20>G19,H19<G19),1,IF(AND(H20>H19,G20>G19,H19>=G19),2,IF(AND(H20>H19,G20<G19),3,IF(AND(H20<H19,G20>G19),4,IF(AND(H20<H19,G20,G19,H20>G20+1),5,IF(F19=\"\",\"pas joué\",6))))))","v":6},null,null,null,{"$f":"IF(AND(L20>L19,K20>K19,L19<K19),1,IF(AND(L20>L19,K20>K19,L19>=K19),2,IF(AND(L20>L19,K20<K19),3,IF(AND(L20<L19,K20>K19),4,IF(AND(L20<L19,K20,K19,L20>K20+1),5,IF(J19=\"\",\"pas joué\",6))))))","v":6},null,null,null,{"$f":"IF(AND(P20>P19,O20>O19,P19<O19),1,IF(AND(P20>P19,O20>O19,P19>=O19),2,IF(AND(P20>P19,O20<O19),3,IF(AND(P20<P19,O20>O19),4,IF(AND(P20<P19,O20,O19,P20>O20+1),5,IF(N19=\"\",\"pas joué\",6))))))","v":6},null,null,null,{"$f":"IF(AND(T20>T19,S20>S19,T19<S19),1,IF(AND(T20>T19,S20>S19,T19>=S19),2,IF(AND(T20>T19,S20<S19),3,IF(AND(T20<T19,S20>S19),4,IF(AND(T20<T19,S20,S19,T20>S20+1),5,IF(R19=\"\",\"pas joué\",6))))))","v":6},null,null,null,{"$f":"IF(AND(X20>X19,W20>W19,X19<W19),1,IF(AND(X20>X19,W20>W19,X19>=W19),2,IF(AND(X20>X19,W20<W19),3,IF(AND(X20<X19,W20>W19),4,IF(AND(X20<X19,W20,W19,X20>W20+1),5,IF(V19=\"\",\"pas joué\",6))))))","v":6},null,null,null,null,null,null,null,null,null,0]

{"sheet":"APPEL","index":6,"n_rows":38,"n_cols":28,"rows_kept":38,"cut":false,"hidden":false,"merged":[[0,19,0,20],[0,22,0,23],[0,25,0,26],[0,1,0,2],[0,4,0,5],[0,7,0,8],[0,10,0,11],[0,13,0,14],[0,16,0,17]]}
[null,"TPROE",null,null,"TAPR",null,null,"1COM-1ELEC",null,null,"2COM-2GA",null,null,"2ELEC-2TU",null,null,"TTU-TELEC",null,null,"1CIP-1META-1PROE",null,null,"1TU-1GA"]
[null,"PRENOMS","NOMS","sexe","PRENOMS","NOMS","sexe","PRENOMS","NOMS","sexe","PRENOMS","NOMS","sexe","PRENOMS","NOMS","sexe","PRENOMS","NOMS","sexe","PRENOMS","NOMS","sexe","PRENOMS","NOMS","sexe","PRENOMS","NOMS","sexe"]
[1,"MAZIZ Abdelwahid","Abdelwahid","g","REYNAUD Alexandrine","Alexandrine","f","BELLAL Abdelmalik","Abdelmalik","g","HATTAB Amira","Amira","f","LOUTAYI Achraf","Achraf","g","SAHLI Abdelbasset","Abdelbasset","g","DHAHBI Amen","Amen","g","MUNDEMBA -MVONDO Abraham","Abraham","g"]
[2,"SAHLI Ali","Ali","g","BEN DAAMAR Asiya","Asiya","f","MAATOUG Aslem","Aslem","g","RAHMANI Anissa","Anissa","f","FRANCILLETTE Adel","Adel","g","ALI ASSOUMANE Amir","Amir","g","GUIRASSY Bafode","Bafode","g","CHADHOULI Aimane","Aimane","g"]
[3,"SAIDI Fares","Fares","g","CISSE Bacary","Bacary","g","AGAGUENA Dhayaeddine","Dhayaeddine","g","DY Brinna","Brinna","f","MAAOUI Adem","Adem","g","BEN SALAH Aoukar","Aoukar","g","ZORNIC Demir","Demir","g","SADJI Alya","Alya","f"]
[4,"BOURIALA Haykel Riadh","Haykel Riadh","g","BOUGHRAROU Behija","Behija","f","BAGHOUL Dounia","Dounia","f","NAMI Chahla","Chahla","f","NEDJIMA Amar","Amar","g","SAADA Badis","Badis","g","UCA Fatih Harun","Fatih ","g","CHBANI Amel","Amel","f"]
[5,"Jeff","Jeff","g","SOUEFOU Chadia","Chadia","f","LUCEVIC Erol","Erol","g","HACHIM Chamina","Chamina","f","AIFFAT Ayoub","Ayoub","g","MHADJI Badrane","Badrane","g","SOUMATI-SHAIMI Ilyes","Ilyes","g","MFURI Clarky","Clarky","g"]
[6,"MONIN Maxence","Maxence","g","MADI Chafion","Chafion","g","ANGELINI Erwan","Erwan","g","VULAJ Gentjana","Gentjana","f","BOUZIANE Azedine","Azedine","g","GASSAMA Bamadi","Bamadi","g","BATAZ jawad","jawad","g","ANLI Djamel","Djamel","g"]
[7,"BOUHANNA Mohamed","Zakaria","g","VIARDOT Christopher","Christopher","g","UYSAL Hamza","Hamza","g","ISKIN Ruheda Nefisse","Nefisse","f","BOULENDJAS Bilal","Bilal B.","g","HAZIM Benamar","Benamar","g","SINGH Khemandeef","Khemandeef","g","SEBAA Dounia","Dounia","f"]
[8,"CAMARA Mohamed","Mohamed C.","g","COVACIU Dorin","Dorin","g","BENAÏSSA Ismaïl","Ismaïl","g","BOUHAJAR Nissrine","Nissrine","f","SARIKAYA Bilal","Bilal S.","g","CHEBEL Bilale","Bilale","g","BARKAD HARBI Mahamoud","Mahamoud","g","TIGANJ Hana","Hana","f"]
[9,"TOUIZRAT Mohamed","Mohamed T.","g","RAFIK Ines","Ines","f","MARGUERON Lucas","Lucas","g","SAHIN Sueda","Sueda","f","BOUCHOURANE Djaoidou","Djaoidou","g","AUGUSTIN Brahyan","Brahyan","g","DECADE Nataël","Nataël","g","LENGA Serone","Serone","g"]
[10,"CAO Phi Tram","Phi Tram","g","DJELASSI Inès","Inès","f","AZZOUG Marouane","Marouane","g","HOAREAU William","William","g","MADI Fahade","Fahade","g","BOUMAKO Diva","Diva","g","BURNIKU Nderim","Nderim","g","HANAFI Suha","Suha","f"]
[11,"ARGOUBI Ryad","Ryad","g","RETUREAU Jeremy Corentin Olivier","Jeremy ","g","SEDDIKI Mohammed-Aimad","Mohammed-Aimad","g","ELEZI Zamira","Zamira","f","AYOUBA Farhane","Farhane","g","SALKANOVIC Edhem","Edhem","g","EPOTU BANYAKU Storn","Storn","g","FAIZ Yassine","Yassine","g"]
[12,"TARCHOUN Samy","Samy","g","FERNANDEZ Jessie","Jessie","f","ROSSET Rayan","Rayan","g","SANLIOGLU Zumra","Zumra","f","MEZOUAR Faudel","Faudel","g","DRNDIC Emin","Emin","g","LAKEHAL Yanis","Yanis","g"]
[13,null,null,null,"ISLAM KHAN Nahidul","KHAN Nahidul","g","SEMAKDJI Wassim","Wassim","g",null,null,null,"ISSOUFA Fazil","Fazil","g","BIRI Emre","Emre","g"]
[14,null,null,null,"ZAIDI Narjisse","Narjisse","f","SOUMARE Yaya","Yaya","g",null,null,null,null,"Hakim",null,"LOUADJ Faouzi","Faouzi","g"]
[15,null,null,null,"BOGATU Petronela","Petronela","f",null,null,null,null,null,null,"MOGNIDAHO Hicham","Hicham","g","MELAAB Hedi","Hedi","g"]
[16,null,null,null,"ANOKORANG Queenster","Queenster","f",null,null,null,null,null,null,null,"Hicham L.",null,"DALI Khalil","Khalil","g"]
[17,null,null,null,"WOLO-MASILA Syntiche","Syntiche","f",null,null,null,null,null,null,"KHENFOUF Jassim","Jassim","g","SEMAKDJI Kheireddine","Kheireddine","g"]
[18,null,null,null,"GOULOT Victor","Victor","g",null,null,null,null,null,null,"CISSE Jean Alexandre","Jean Alexandre","g","USOYAN Knias","Knias","g"]
[19,null,null,null,"ARROUDJ Yanis","Yanis","g",null,null,null,null,null,null,"RAQUIN John","John","g","DIEMER Maxime","Maxime","g"]
[20,null,null,null,null,null,null,null,null,null,null,null,null,"LARGOT Kail-Mourad","Kail","g","FALL Mouhammadou","Mouhammadou","g"]
[21,null,null,null,null,null,null,null,null,null,null,null,null,"AUGUSTE Malcom","Malcom","g","YORULMAZ Mustafa","Mustafa","g"]
[22,null,null,null,null,null,null,null,null,null,null,null,null,"D'OLIVEIRA Nicolas","Nicolas","g","ZIANI Nassim","Nassim","g"]
[23,null,null,null,null,null,null,null,null,null,null,null,null,"DIALLO Oumar","Oumar","g","USOYAN Rustan","Rustan","g"]
[24,null,null,null,null,null,null,null,null,null,null,null,null,"GARCIA DE AGUIAR Quintimo","Quintimo","g","LANDU SAMU Samuel","Samuel","g"]
[25,null,null,null,null,null,null,null,null,null,null,null,null,"IBRAHIM Raphaël","Raphaël","g","HAMOUDA Sheyms-Edyn","Sheyms-Edyn","g"]
[26,null,null,null,null,null,null,null,null,null,null,null,null,"OSEI ASIBEY Richmond","Richmond","g","PEOU Sombate Rothanak","Sombate","g"]
[27,null,null,null,null,null,null,null,null,null,null,null,null,null,"Serdar",null,"UL ISLAM Tareq","Tareq","g"]
[28,null,null,null,null,null,null,null,null,null,null,null,null,"LE BARS Valentin","Valentin","g","NONGA KOUM Willy","Willy","g"]
[29,null,null,null,null,null,null,null,null,null,null,null,null,null,"Walid",null,"BOUCHAREB Yacine","Yacine","g"]
[30,null,null,null,null,null,null,null,null,null,null,null,null,"MVOTO Willy","Willy","g","RICHARD Yohann","Yohann","g"]
[31,null,null,null,null,null,null,null,null,null,null,null,null,"FRIDHAR Yahia","Yahia","g",null,null,"g"]
[32,null,null,null,null,null,null,null,null,null,null,null,null,"BOUDOUHA Yamine","Yamine","g",null,null,"g"]
[33,null,null,null,null,null,null,null,null,null,null,null,null,"BOUIFER Yanis","Yanis","g"]
[34,null,null,null,null,null,null,null,null,null,null,null,null,"KAOUCHE Yousri","Yousri","g"]
[35,null,null,null,null,null,null,null,null,null,null,null,null,null,"ZZ"]
[36,null,null,null,null,null,null,null,null,null,null,null,null,null,"zzz"]

{"sheet":"DEBUT","index":7,"n_rows":76,"n_cols":23,"rows_kept":76,"cut":false,"hidden":false,"merged":[[0,12,1,15]]}
[null,null,null,null,null,null,null,null,null,null,null,null,"CCF N4"]
[]
[]
[null,"POINTS",null,"BAREME ECART ENTRE LE VAINQUEUR ET LE PERDANT","POINTS POUR LE GAGNANT","POINTS POUR LE PERDANT","ECART SCORE","Niveau",null,null,null,null,"Note","Niveau","Cas explications","Cas","Cas / A","Cas / B","Cas / C","Classement classe","Note classement classe","Classement poule","Note classement poule"]
[null,null,null,null,null,null,null,null,null,null,null,null,10,"A","Gagne 2 sets et 1er<2è",6,3.5,4.5,5,1,3,1,2]
[null,0,null,-35,1,-1,null,"A",null,null,null,null,9,"A","Gagne 2 sets et 1er>=2è",5,3,4,4.75,2,3,2,1.5]
[null,1,null,-34,1,-1,null,"B",null,null,null,null,8,"A","Perd 1er et Gagne 2nd",4,2.5,3.5,4.5,3,3,3,1]
[null,2,null,-33,1,-1,null,"C",null,null,null,null,7,"B","Gagne 1er et perd 2nd",3,2,3,4.25,4,2.75,4,0.5]
[null,3,null,-32,1,-1,null,null,null,null,null,null,6,"B","Perds 2 sets et 1er<2nd (min +2pts)",2,1.5,2.5,4,5,2.75,5,0]
[null,4,null,-31,1,-1,null,null,null,null,null,null,5,"B","Perds 2 sets et 1er>=2nd",1,1,2,3.5,6,2.75]
[null,5,null,-30,1,-1,null,null,null,null,null,null,4,"B",null,null,null,null,null,7,2.5]
[null,6,null,-29,1,-1,null,null,null,null,null,null,3,"C",null,null,null,null,null,8,2.5]
[null,7,null,-28,1,-1,null,null,null,null,null,null,2,"C",null,null,null,null,null,9,2.5]
[null,8,null,-27,1,-1,null,null,null,null,null,null,1,"C",null,null,null,null,null,10,2.25]
[null,9,null,-26,1,-1,null,null,null,null,null,null,0,"C",null,null,null,null,null,11,2.25]
[null,10,null,-25,1,-1,null,null,null,null,null,null,null,null,null,null,null,null,null,12,2.25]
[null,11,null,-24,2,-1,null,null,null,null,null,null,null,null,null,null,null,null,null,13,2]
[null,null,null,-23,2,-1,null,null,null,null,null,null,null,null,null,null,null,null,null,14,2]
[null,null,null,-22,2,-1,null,null,null,null,null,null,null,null,null,null,null,null,null,15,2]
[null,12,null,-21,2,-1,null,null,null,null,null,null,null,null,null,null,null,null,null,16]
[null,13,null,-20,2,-1,null,null,null,null,null,null,null,null,null,null,null,null,null,17]
[null,14,null,-19,2,-1,null,null,null,null,null,null,null,null,null,null,null,null,null,18]
[null,15,null,-18,2,-1,null,null,null,null,null,null,null,null,null,null,null,null,null,19]
[null,16,null,-17,2,-1,null,null,null,null,null,null,null,null,null,null,null,null,null,20]
[null,17,null,-16,2,-1,null,null,null,null,null,null,null,null,null,null,null,null,null,21]
[null,18,null,-15,2,-1,null,null,null,null,null,null,null,null,null,null,null,null,null,22]
[null,19,null,-14,3,-2,null,null,null,null,null,null,null,null,null,null,null,null,null,23]
[null,20,null,-13,3,-2,null,null,null,null,null,null,null,null,null,null,null,null,null,24]
[null,21,null,-12,3,-2,null,null,null,null,null,null,null,null,null,null,null,null,null,25]
[null,22,null,-11,3,-2,null,null,null,null,null,null,null,null,null,null,null,null,null,26]
[null,23,null,-10,3,-2,null,null,null,null,null,null,null,null,null,null,null,null,null,27]
[null,24,null,-9,4,-2,null,null,null,null,null,null,null,null,null,null,null,null,null,28]
[null,25,null,-8,4,-2,null,null,null,null,null,null,null,null,null,null,null,null,null,29]
[null,26,null,-7,4,-2,null,null,null,null,null,null,null,null,null,null,null,null,null,30]
[null,27,null,-6,4,-2,null,null,null,null,null,null,null,null,null,null,null,null,null,31]
[null,28,null,-5,4,-2,null,null,null,null,null,null,null,null,null,null,null,null,null,32]
[null,29,null,-4,5,-3,null,null,null,null,null,null,null,null,null,null,null,null,null,33]
[null,30,null,-3,5,-3,null,null,null,null,null,null,null,null,null,null,null,null,null,34]
[null,null,null,-2,5,-3,null,null,null,null,null,null,null,null,null,null,null,null,null,35]
[null,null,null,-1,5,-3]
[null,31,null,0]
[null,32,null,1,6,-1]
[null,33,null,2,6,-1]
[null,34,null,3,6,-1]
[null,35,null,4,6,-2]
[null,null,null,5,7,-2]
[null,null,null,6,7,-2]
[null,null,null,7,7,-2]
[null,null,null,8,7,-3]
[null,null,null,9,7,-3]
[null,null,null,10,7,-3]
[null,null,null,11,8,-3]
[null,null,null,12,8,-3]
[null,null,null,13,8,-3]
[null,null,null,14,8,-4]
[null,null,null,15,8,-4]
[null,null,null,16,9,-4]
[null,null,null,17,9,-4]
[null,null,null,18,9,-4]
[null,null,null,19,9,-4]
[null,null,null,20,9,-4]
[null,null,null,21,9,-5]
[null,null,null,22,9,-5]
[null,null,null,23,9,-5]
[null,null,null,24,9,-5]
[null,null,null,25,9,-5]
[null,null,null,26,10,-6]
[null,null,null,27,10,-6]
[null,null,null,28,10,-6]
[null,null,null,29,10,-6]
[null,null,null,30,10,-6]
[null,null,null,31,10,-6]
[null,null,null,32,10,-6]
[null,null,null,33,10,-6]
[null,null,null,34,10,-6]
[null,null,null,35,10,-6]