{"text_format":"1","workbook":"xlsx","n_sheets":14,"sheets":["MICKAPPS","AFC","ECHFMTELEVE","NOTE1","SAELEVE1","MATCHS ZONES","MATCHS STRATEGIQUES","M1OBS","MATCHSSCORE","REGLES","SUIVI TACTIQUE","APPEL","DEBUT","SAMICBIS"],"not_rendered":{"charts":4,"images":80,"macros":0,"external_links":1,"defined_names":75,"comments":0,"pivot_tables":0},"unopened":[],"bounds":{"document_bytes":16777216,"sheet_cells":100000,"rows_first":2000,"rows_last":500,"rows_between":2000,"halvings":0,"cell_chars":16384,"cell_head_chars":4096},"cells_cut":0,"cells_raw":0,"read":"whole","date_system":"1900"}

{"sheet":"MICKAPPS","index":0,"n_rows":24,"n_cols":8,"rows_kept":24,"cut":false,"hidden":false,"merged":[[15,3,15,6],[22,7,22,10],[23,7,23,9],[17,3,17,6],[16,3,16,6],[17,7,17,11]]}
[]
[]
[]
[]
[]
[]
[]
[]
[]
[]
[]
[]
[]
[]
[]
[null,null,null,"BAD COACH"]
[null,null,null,"Contenus  inspirés des travaux de :",null,null,null,"Schémas réalisés à l'aide des images 3D de N.ROUDNEFF"]
[null,null,null,"Bertrand GAUTHE - Pierre PEZELIER\nNicolas MASCRET",null,null,null,"Certains schémas récupérés de l'application Défis Badminton de LACROIX (Académie de Créteil)"]
[]
[]
[]
[]
[null,null,null,null,null,null,null,"mickael.da-costa@ac-lyon.fr"]
[null,null,null,null,null,null,null,"acmickeps.wordpress.com"]

{"sheet":"AFC","index":1,"n_rows":13,"n_cols":7,"rows_kept":13,"cut":false,"hidden":false,"merged":[[3,1,3,6],[7,1,7,6],[11,1,11,6],[1,1,1,6]]}
[]
[null,"EXPERIENCE CORPORELLE N°4 : Conduire et maîtriser un affrontement individuel ou collectif"]
[]
[null,"ATTENDUS DE FIN DE CYCLE"]
[null,"A1","A2","A3","A4","A5","A6"]
[null,"Etre capable de s'échauffer en équipe","Etre capable de produire des trajectoires variées : service long et court, dégagé, amorti, tendu, smash","Etre capable de faire des choix tactiques adaptés à mes possiblités techniques et au profil de l'adversaire","Etre capable d'entrainer un partenaire et de s'entrainer à partir de choix éclairés","Coacher un partenaire pour l'aider à progresser","Arbitrer un match"]
[]
[null,"FORME DE PRATIQUE SCOLAIRE - SITUATION D'EVALUATION"]
[null,"PROTOCOLE","AVANT LE MATCH","PENDANT LE MATCH","PENDANT LE MATCH","A LA FIN DU MATCH COMPLET","PENDANT LE CYCLE"]
[null,"Les joueurs sont par équipes de 2 (un n°1 et un n° 2) . Les n° 1 s'affrontent en un set de 11 pts. Puis ce sont les n°2. On ajoute ensuite leur score et les élèves s'affrontent en double. La 1ère équipe à atteindre 25 pts gagne.","Les élèves choisissent une stratégie et une tactique adaptée. ","Dès qu'un des 2 joueurs atteint 6 points, un temps mort d'une minute est accordé. En concertation avec son partenaire coach Ils peuvent modifier la tactique choisie. ","Les 2 partenaires observent les points marqués en ou hors zones dangereuses ","Chaque joueur choisit une tactique qu'il aimerait travailler avec son partenaire et le type d'exercice (multi-volant, routine, match à thème)","Chaque joueur expérime différentes tactiques et réalisent des exercices pour progresser parmis celles qui sont le plus adaptées à son profil"]
[]
[null,"Critères d'évaluation"]
[null,"Choix d'une tactique d'avant match - Régulation de cette tactique pendant le match","Nombre de points marqués en zones dangereuses / hors zones dangereuses","Classements : défi, matchs joués, matchs gagnés, points marqués, encaissés, points thèmes, …","Temps de travail sur les situations d'apprentissages choisies","Qualité de la relation coach-joueur-adversaire","Analyse de son match et de son profil de jeu"]

{"sheet":"ECHFMTELEVE","index":2,"n_rows":18,"n_cols":6,"rows_kept":18,"cut":false,"hidden":false,"merged":[[5,5,10,7],[12,5,15,7],[17,5,21,7],[2,3,2,4],[4,3,4,4],[11,3,11,4],[16,3,16,4],[5,3,10,4],[12,3,15,4],[17,3,21,4]]}
[]
["Classe ","2TU"]
["TERRAIN",2,null,"ECHAUFFEMENT détaillé"]
[1,"Achraf"]
[2,null,null,{"$f":"VLOOKUP($D$3,DEBUT!$A$2:$M$16,2,FALSE)","v":"Echauffement cardio-pulmonaire"},null,{"$f":"VLOOKUP($D$3,DEBUT!$A$2:$M$16,4,FALSE)","v":"5 min"}]
[3,null,null,{"$f":"VLOOKUP($D$3,DEBUT!$A$2:$M$16,3,FALSE)","v":"3 A-R course / Montée genoux / Talons fesses / Pas chassés / Pas croisés / Flexions / Extensions / Course arrière / Appuis arrières / Accélération progressive (60% - 70% - 80% - 90%)"},null,{"$f":"VLOOKUP($D$3,DEBUT!$A$2:$M$16,5,FALSE)","v":"Progressivité / Complet / "}]
[4]
[5]
[6]
[]
[]
[null,null,null,{"$f":"VLOOKUP($D$3,DEBUT!$A$2:$M$16,6,FALSE)","v":"Mobilisation articulaire"},null,{"$f":"VLOOKUP($D$3,DEBUT!$A$2:$M$16,8,FALSE)","v":"3 min"}]
[null,null,null,{"$f":"VLOOKUP($D$3,DEBUT!$A$2:$M$16,7,FALSE)","v":"Cou / Epaules / Coudes / Poignets / Bassin / Genoux / Chevilles"},null,{"$f":"VLOOKUP($D$3,DEBUT!$A$2:$M$16,9,FALSE)","v":"Du haut vers le bas"}]
[]
[]
[]
[null,null,null,{"$f":"VLOOKUP($D$3,DEBUT!$A$2:$M$16,10,FALSE)","v":"Etirements"},null,{"$f":"VLOOKUP($D$3,DEBUT!$A$2:$M$16,12,FALSE)","v":"3 min"}]
[null,null,null,{"$f":"VLOOKUP($D$3,DEBUT!$A$2:$M$16,11,FALSE)","v":"Triceps / Biceps / Epaules / Adducteurs / ischios / Quadriceps / Mollets"},null,{"$f":"VLOOKUP($D$3,DEBUT!$A$2:$M$16,13,FALSE)","v":"Du haut vers le bas / Tenir 7\""}]

{"sheet":"NOTE1","index":3,"n_rows":14,"n_cols":4,"rows_kept":14,"cut":false,"hidden":false,"merged":[]}
[]
[]
[]
[]
[null,"NOTE D'ECHAUFFEMENT DU GROUPE","NOTES"]
[]
[null,"Les 3 parties sont réalisées…",null,"/3"]
[null,"…complètement…",null,"/5"]
[null,"…de manière logique…",null,"/3"]
[null,"…sans perte de temps…",null,"/3"]
[null,"…et bien démontrées…",null,"/5"]
[null,"..et en plus mes camarades m'ont bien suivi!",null,"/1"]
[null,"QUESTION  BONUS vers le PROF",null,"/2"]
[null,"NOTE",{"$f":"SUM(C7:C13)","v":0},"/20"]

{"sheet":"SAELEVE1","index":4,"n_rows":19,"n_cols":11,"rows_kept":19,"cut":false,"hidden":false,"merged":[[1,3,1,9],[1,0,1,2],[0,8,0,9],[0,10,1,10],[0,3,0,6],[13,2,13,4],[13,5,13,7],[13,8,13,10],[12,2,12,10],[18,2,18,10],[14,2,14,4],[14,5,14,7],[14,8,14,10],[15,2,15,10],[16,2,16,10],[17,2,17,10],[2,2,3,2],[2,3,3,4],[2,6,2,9],[7,17,7,18],[9,2,9,6],[9,7,9,10],[8,2,8,6],[8,7,8,10],[2,10,3,10],[3,6,3,9],[4,2,4,6],[4,7,4,10],[7,7,7,10],[5,7,5,10],[6,7,6,10],[5,2,7,6]]}
[null,null,"Thème","Jouer sur la profondeur",null,null,null,"Type SA ->","SEQUENCE DE JEU 1",null,{"$f":"INDEX(choixsa,MATCH(I1,situations,0),MATCH(D2,tactiques,0))","v":{"$error":"#N/A"}}]
["Tactique"]
[null,null,"BAD","SJ:Service long-amorti-contre amorti",null,"Obj",{"$f":"VLOOKUP($D$3,SAMICBIS!$A$3:$T$500,5,FALSE)","v":"Joueur sur la profondeur"},null,null,null,{"$f":"VLOOKUP($D$3,SAMICBIS!$A$3:$T$70,2,FALSE)","v":{"$error":"#N/A"}}]
[null,null,null,null,null,"But",{"$f":"VLOOKUP($D$3,SAMICBIS!$A$3:$T$500,6,FALSE)","v":"Respecter les 2 premiers coups imposés et gagner le point"}]
[null,null,"Schéma / Matériel nécessaire",null,null,null,null,"Matériel nécessaire"]
[null,null,null,null,null,null,null,{"$f":"VLOOKUP($D$3,SAMICBIS!$A$3:$T$500,13,FALSE)","v":"2 joueurs - 2 raquettes - 1 volant - des plots repeères"}]
[null,null,null,null,null,null,null,"Consignes"]
[null,null,null,null,null,null,null,{"$f":"CONCATENATE(VLOOKUP($D$3,SAMICBIS!$A$3:$T$500,8,FALSE),\"  -  \",VLOOKUP($D$3,SAMICBIS!$A$3:$T$500,10,FALSE))","v":"1 – S long   2- amorti puis libre  -  Ou S court Contre amorti"}]
[null,null,"Critères de réussite",null,null,null,null,"Conseils pour réussir"]
[null,null,{"$f":"VLOOKUP($D$3,SAMICBIS!$A$3:$T$500,14,FALSE)","v":0},null,null,null,null,{"$f":"VLOOKUP($D$3,SAMICBIS!$A$3:$T$500,12,FALSE)","v":0}]
[]
[]
[null,null,"ACQUISITIONS PRIORITAIRES"]
[null,null,"Connaissances",null,null,"Capacités",null,null,"Attitudes"]
[null,null,{"$f":"VLOOKUP($D$3,SAMICBIS!$A$3:$T$500,16,FALSE)","v":0},null,null,{"$f":"VLOOKUP($D$3,SAMICBIS!$A$3:$T$500,17,FALSE)","v":42},null,null,{"$f":"VLOOKUP($D$3,SAMICBIS!$A$3:$T$500,18,FALSE)","v":0}]
[null,null,"COMPLEXIFICATION "]
[null,null,{"$f":"VLOOKUP($D$3,SAMICBIS!$A$3:$T$500,19,FALSE)","v":0}]
[null,null,"Simplification"]
[null,null,{"$f":"VLOOKUP($D$3,SAMICBIS!$A$3:$T$500,20,FALSE)","v":0}]

{"sheet":"MATCHS ZONES","index":5,"n_rows":33,"n_cols":818,"rows_kept":33,"cut":false,"hidden":false,"merged":[[30,702,32,702],[30,661,32,662],[30,666,32,667],[30,668,32,668],[30,694,32,694],[30,695,32,696],[30,700,32,701],[30,600,32,600],[30,626,32,626],[30,627,32,628],[30,632,32,633],[30,634,32,634],[27,647,34,647],[27,651,27,653],[27,658,27,660],[27,667,27,669],[27,674,27,676],[27,685,27,687],[29,661,29,662],[29,663,29,665],[29,666,29,667],[30,660,32,660],[29,700,29,701],[29,763,29,764],[29,765,29,767],[29,768,29,769],[27,817,34,817],[28,681,34,681],[29,559,29,560],[29,561,29,563],[29,564,29,565],[29,593,29,594],[29,595,29,597],[29,598,29,599],[29,627,29,628],[29,629,29,631],[27,776,27,778],[27,783,34,783],[27,787,27,789],[27,794,27,796],[27,803,27,805],[27,810,27,812],[29,797,29,798],[29,799,29,801],[29,802,29,803],[30,796,32,796],[30,797,32,798],[30,802,32,803],[30,804,32,804],[30,728,32,728],[30,729,32,730],[30,734,32,735],[30,736,32,736],[30,762,32,762],[30,763,32,764],[15,783,26,783],[15,817,26,817],[27,549,27,551],[27,556,27,558],[27,565,27,567],[27,572,27,574],[27,579,34,579],[27,583,27,585],[27,590,27,592],[27,599,27,601],[14,803,14,804],[14,805,14,806],[14,810,14,811],[14,812,14,813],[15,579,26,579],[15,613,26,613],[15,647,26,647],[15,681,26,681],[15,715,26,715],[15,749,26,749],[14,776,14,777],[14,778,14,779],[14,787,14,788],[14,789,14,790],[14,794,14,795],[14,796,14,797],[27,735,27,737],[27,742,27,744],[27,749,34,749],[27,753,27,755],[27,760,27,762],[27,606,27,608],[27,769,27,771],[14,762,14,763],[14,769,14,770],[14,771,14,772],[14,726,14,727],[14,728,14,729],[14,735,14,736],[14,737,14,738],[14,742,14,743],[14,744,14,745],[14,701,14,702],[14,703,14,704],[14,708,14,709],[14,710,14,711],[14,719,14,720],[14,721,14,722],[27,613,34,613],[27,617,27,619],[27,624,27,626],[27,633,27,635],[27,640,27,642],[29,632,29,633],[30,768,32,769],[30,770,32,770],[27,692,27,694],[27,701,27,703],[27,708,27,710],[27,715,34,715],[27,719,27,721],[27,726,27,728],[29,695,29,696],[29,697,29,699],[14,692,14,693],[14,694,14,695],[14,651,14,652],[14,653,14,654],[14,658,14,659],[14,660,14,661],[14,667,14,668],[14,669,14,670],[14,624,14,625],[14,626,14,627],[14,633,14,634],[14,635,14,636],[14,640,14,641],[14,642,14,643],[14,753,14,754],[14,755,14,756],[14,687,14,688],[14,674,14,675],[14,676,14,677],[14,685,14,686],[29,729,29,730],[29,731,29,733],[29,734,29,735],[14,760,14,761],[14,617,14,618],[14,619,14,620],[14,572,14,573],[14,574,14,575],[14,583,14,584],[14,585,14,586],[14,590,14,591],[14,592,14,593],[13,787,13,790],[13,794,13,797],[13,803,13,806],[13,810,13,813],[14,549,14,550],[14,551,14,552],[14,556,14,557],[14,558,14,559],[14,565,14,566],[14,567,14,568],[13,735,13,738],[13,742,13,745],[13,753,13,756],[13,760,13,763],[13,769,13,772],[13,776,13,779],[13,685,13,688],[13,692,13,695],[13,701,13,704],[13,708,13,711],[13,719,13,722],[13,726,13,729],[13,633,13,636],[13,640,13,643],[13,651,13,654],[13,658,13,661],[13,667,13,670],[13,674,13,677],[12,783,14,783],[12,803,12,806],[12,810,12,813],[12,817,14,817],[13,549,13,552],[13,556,13,559],[13,565,13,568],[13,572,13,575],[13,583,13,586],[13,590,13,593],[12,579,14,579],[12,613,14,613],[12,647,14,647],[12,681,14,681],[12,715,14,715],[12,749,14,749],[13,599,13,602],[13,606,13,609],[13,617,13,620],[13,624,13,627],[14,599,14,600],[14,601,14,602],[14,606,14,607],[14,608,14,609],[11,769,11,772],[11,776,11,779],[11,787,11,790],[11,794,11,797],[11,803,11,806],[11,810,11,813],[11,685,11,688],[11,692,11,695],[11,701,11,704],[11,708,11,711],[11,719,11,722],[11,726,11,729],[6,817,11,817],[11,549,11,552],[11,556,11,559],[11,565,11,568],[11,572,11,575],[11,583,11,586],[11,590,11,593],[11,599,11,602],[11,606,11,609],[11,617,11,620],[6,776,6,779],[6,783,11,783],[6,787,6,790],[6,794,6,797],[6,803,6,806],[6,810,6,813],[6,735,6,738],[6,742,6,745],[6,749,11,749],[6,753,6,756],[11,753,11,756],[11,760,11,763],[6,692,6,695],[6,701,6,704],[6,708,6,711],[6,715,11,715],[6,719,6,722],[6,726,6,729],[6,651,6,654],[6,658,6,661],[6,667,6,670],[6,674,6,677],[6,681,11,681],[6,685,6,688],[11,651,11,654],[11,658,11,661],[11,667,11,670],[11,674,11,677],[6,760,6,763],[6,633,6,636],[6,640,6,643],[6,647,11,647],[11,624,11,627],[11,633,11,636],[11,640,11,643],[5,810,5,813],[6,549,6,552],[6,556,6,559],[6,565,6,568],[6,572,6,575],[6,579,11,579],[6,583,6,586],[6,590,6,593],[6,599,6,602],[6,606,6,609],[5,760,5,763],[5,769,5,772],[5,776,5,779],[5,787,5,790],[5,794,5,797],[5,803,5,806],[5,708,5,711],[5,719,5,722],[5,726,5,729],[5,735,5,738],[5,742,5,745],[5,753,5,756],[5,658,5,661],[6,769,6,772],[11,735,11,738],[11,742,11,745],[5,667,5,670],[5,674,5,677],[5,685,5,688],[5,692,5,695],[5,701,5,704],[5,606,5,609],[5,617,5,620],[5,624,5,627],[5,633,5,636],[5,640,5,643],[5,651,5,654],[4,794,4,797],[4,803,4,806],[4,810,4,813],[5,549,5,552],[5,556,5,559],[5,565,5,568],[5,572,5,575],[5,583,5,586],[5,590,5,593],[5,599,5,602],[4,742,4,745],[4,753,4,756],[4,760,4,763],[4,769,4,772],[4,776,4,779],[4,787,4,790],[4,692,4,695],[4,701,4,704],[4,708,4,711],[4,719,4,722],[4,726,4,729],[4,735,4,738],[4,640,4,643],[4,651,4,654],[4,658,4,661],[4,667,4,670],[4,674,4,677],[4,685,4,688],[4,590,4,593],[4,599,4,602],[4,606,4,609],[4,617,4,620],[4,624,4,627],[4,633,4,636],[1,776,1,779],[1,787,1,790],[1,794,1,797],[1,803,1,806],[0,629,1,631],[1,590,1,593],[1,599,1,602],[1,606,1,609],[1,617,1,620],[1,810,1,813],[4,549,4,552],[4,556,4,559],[4,565,4,568],[4,572,4,575],[4,583,4,586],[1,726,1,729],[1,735,1,738],[1,742,1,745],[1,753,1,756],[1,760,1,763],[1,769,1,772],[1,674,1,677],[1,685,1,688],[1,692,1,695],[1,701,1,704],[1,708,1,711],[1,719,1,722],[1,624,1,627],[1,633,1,636],[1,640,1,643],[1,651,1,654],[1,658,1,661],[1,667,1,670],[0,663,1,665],[0,697,1,699],[0,731,1,733],[0,765,1,767],[0,799,1,801],[1,549,1,552],[1,556,1,559],[1,565,1,568],[30,456,32,456],[30,457,32,458],[30,462,32,463],[30,464,32,464],[30,490,32,490],[30,491,32,492],[29,457,29,458],[29,459,29,461],[29,462,29,463],[29,491,29,492],[29,493,29,495],[29,496,29,497],[27,545,34,545],[27,504,27,506],[27,511,34,511],[27,515,27,517],[27,522,27,524],[27,531,27,533],[27,538,27,540],[29,525,29,526],[6,613,11,613],[6,617,6,620],[6,624,6,627],[30,598,32,599],[30,558,32,558],[30,559,32,560],[30,564,32,565],[27,379,27,381],[27,386,27,388],[27,395,27,397],[27,402,27,404],[30,388,32,388],[27,334,27,336],[27,341,34,341],[27,345,27,347],[27,352,27,354],[27,361,27,363],[14,352,14,353],[14,354,14,355],[14,361,14,362],[14,363,14,364],[14,368,14,369],[14,370,14,371],[14,345,14,346],[14,347,14,348],[14,379,14,380],[14,381,14,382],[13,515,13,518],[13,522,13,525],[13,531,13,534],[13,538,13,541],[11,504,11,507],[1,572,1,575],[1,583,1,586],[30,525,32,526],[30,530,32,531],[30,532,32,532],[0,561,1,563],[0,595,1,597],[30,566,32,566],[30,592,32,592],[30,593,32,594],[30,396,32,396],[30,422,32,422],[30,423,32,424],[30,428,32,429],[27,413,27,415],[29,389,29,390],[29,391,29,393],[29,394,29,395],[15,545,26,545],[14,540,14,541],[14,397,14,398],[14,531,14,532],[14,533,14,534],[13,386,13,389],[14,386,14,387],[14,388,14,389],[13,395,13,398],[13,402,13,405],[12,511,14,511],[12,531,12,534],[12,538,12,541],[12,545,14,545],[30,328,32,328],[30,354,32,354],[30,355,32,356],[30,360,32,361],[30,362,32,362],[27,368,27,370],[29,360,29,361],[30,286,32,286],[30,287,32,288],[30,292,32,293],[30,294,32,294],[30,320,32,320],[30,321,32,322],[28,409,34,409],[29,287,29,288],[29,289,29,291],[29,292,29,293],[29,321,29,322],[29,323,29,325],[29,326,29,327],[29,355,29,356],[29,357,29,359],[27,375,34,375],[27,277,27,279],[27,284,27,286],[27,293,27,295],[27,300,27,302],[27,307,34,307],[27,311,27,313],[27,318,27,320],[27,327,27,329],[29,527,29,529],[29,530,29,531],[30,524,32,524],[27,463,27,465],[27,470,27,472],[27,477,34,477],[27,481,27,483],[27,488,27,490],[27,497,27,499],[30,496,32,497],[30,498,32,498],[27,420,27,422],[27,429,27,431],[27,436,27,438],[27,443,34,443],[27,447,27,449],[27,454,27,456],[29,423,29,424],[29,425,29,427],[29,428,29,429],[30,430,32,430],[30,389,32,390],[30,394,32,395],[30,326,32,327],[15,307,26,307],[15,341,26,341],[15,375,26,375],[15,409,26,409],[15,443,26,443],[15,477,26,477],[14,504,14,505],[14,506,14,507],[14,515,14,516],[14,517,14,518],[14,522,14,523],[14,524,14,525],[14,481,14,482],[14,483,14,484],[14,488,14,489],[14,490,14,491],[14,497,14,498],[14,499,14,500],[14,454,14,455],[14,456,14,457],[14,463,14,464],[14,465,14,466],[14,470,14,471],[14,472,14,473],[14,429,14,430],[14,431,14,432],[14,436,14,437],[14,438,14,439],[14,413,14,414],[14,422,14,423],[15,511,26,511],[14,395,14,396],[14,538,14,539],[14,277,14,278],[14,279,14,280],[14,284,14,285],[14,286,14,287],[14,293,14,294],[14,295,14,296],[13,463,13,466],[13,470,13,473],[13,481,13,484],[13,488,13,491],[13,497,13,500],[13,504,13,507],[13,413,13,416],[13,420,13,423],[13,429,13,432],[13,436,13,439],[14,447,14,448],[14,449,14,450],[14,402,14,403],[14,404,14,405],[13,447,13,450],[13,454,13,457],[14,415,14,416],[14,420,14,421],[13,361,13,364],[13,368,13,371],[13,379,13,382],[13,277,13,280],[13,284,13,287],[13,293,13,296],[13,300,13,303],[13,311,13,314],[13,318,13,321],[12,307,14,307],[12,341,14,341],[12,375,14,375],[12,409,14,409],[12,443,14,443],[12,477,14,477],[13,327,13,330],[13,334,13,337],[13,345,13,348],[13,352,13,355],[14,327,14,328],[14,329,14,330],[14,334,14,335],[14,336,14,337],[14,300,14,301],[14,302,14,303],[14,311,14,312],[14,313,14,314],[14,318,14,319],[14,320,14,321],[11,515,11,518],[11,522,11,525],[11,531,11,534],[11,538,11,541],[11,413,11,416],[11,420,11,423],[11,429,11,432],[11,436,11,439],[11,447,11,450],[11,454,11,457],[6,545,11,545],[11,277,11,280],[11,284,11,287],[11,293,11,296],[11,300,11,303],[11,311,11,314],[11,318,11,321],[11,327,11,330],[11,334,11,337],[11,345,11,348],[6,504,6,507],[6,511,11,511],[6,515,6,518],[6,522,6,525],[6,531,6,534],[6,538,6,541],[6,463,6,466],[6,470,6,473],[6,477,11,477],[6,481,6,484],[6,488,6,491],[6,497,6,500],[11,463,11,466],[11,470,11,473],[11,481,11,484],[11,488,11,491],[6,420,6,423],[6,429,6,432],[6,436,6,439],[6,443,11,443],[6,447,6,450],[6,454,6,457],[6,379,6,382],[6,386,6,389],[6,395,6,398],[6,402,6,405],[6,409,11,409],[6,413,6,416],[11,379,11,382],[11,386,11,389],[11,395,11,398],[11,402,11,405],[11,497,11,500],[6,341,11,341],[6,345,6,348],[6,352,6,355],[6,361,6,364],[6,368,6,371],[6,375,11,375],[11,352,11,355],[11,361,11,364],[11,368,11,371],[5,538,5,541],[6,277,6,280],[6,284,6,287],[6,293,6,296],[6,300,6,303],[6,307,11,307],[6,311,6,314],[6,318,6,321],[6,327,6,330],[6,334,6,337],[5,488,5,491],[5,497,5,500],[5,504,5,507],[5,515,5,518],[5,522,5,525],[5,531,5,534],[5,436,5,439],[5,447,5,450],[5,454,5,457],[5,463,5,466],[5,470,5,473],[5,481,5,484],[5,386,5,389],[5,395,5,398],[5,402,5,405],[5,413,5,416],[5,420,5,423],[5,429,5,432],[5,334,5,337],[5,345,5,348],[5,352,5,355],[5,361,5,364],[5,368,5,371],[5,379,5,382],[4,522,4,525],[4,531,4,534],[4,538,4,541],[5,277,5,280],[5,284,5,287],[5,293,5,296],[5,300,5,303],[5,311,5,314],[5,318,5,321],[5,327,5,330],[4,470,4,473],[4,481,4,484],[4,488,4,491],[4,497,4,500],[4,504,4,507],[4,515,4,518],[4,420,4,423],[4,429,4,432],[4,436,4,439],[4,447,4,450],[4,454,4,457],[4,463,4,466],[4,368,4,371],[4,379,4,382],[4,386,4,389],[4,395,4,398],[4,402,4,405],[4,413,4,416],[4,318,4,321],[4,327,4,330],[4,334,4,337],[4,345,4,348],[4,352,4,355],[4,361,4,364],[1,504,1,507],[1,515,1,518],[1,522,1,525],[1,531,1,534],[1,538,1,541],[4,277,4,280],[4,284,4,287],[4,293,4,296],[4,300,4,303],[4,311,4,314],[1,454,1,457],[1,463,1,466],[1,470,1,473],[1,481,1,484],[1,488,1,491],[1,497,1,500],[1,402,1,405],[1,413,1,416],[1,420,1,423],[1,429,1,432],[1,436,1,439],[1,447,1,450],[1,352,1,355],[1,361,1,364],[1,368,1,371],[1,379,1,382],[1,386,1,389],[1,395,1,398],[0,391,1,393],[0,425,1,427],[0,459,1,461],[0,493,1,495],[0,527,1,529],[1,277,1,280],[1,284,1,287],[1,293,1,296],[1,300,1,303],[1,311,1,314],[27,273,34,273],[28,137,34,137],[4,1,10,1],[0,289,1,291],[0,323,1,325],[0,357,1,359],[1,318,1,321],[1,327,1,330],[1,334,1,337],[1,345,1,348],[4,141,4,144],[4,148,4,151],[4,157,4,160],[4,164,4,167],[30,253,32,254],[30,258,32,259],[30,260,32,260],[30,158,32,158],[30,184,32,184],[30,185,32,186],[30,190,32,191],[30,192,32,192],[30,218,32,218],[30,117,32,118],[30,122,32,123],[30,124,32,124],[30,150,32,150],[30,151,32,152],[30,54,32,55],[30,56,32,56],[30,82,32,82],[30,83,32,84],[30,88,32,89],[30,90,32,90],[30,14,32,14],[30,15,32,16],[30,20,32,21],[30,22,32,22],[30,48,32,48],[30,49,32,50],[29,185,29,186],[29,187,29,189],[29,190,29,191],[29,219,29,220],[29,221,29,223],[29,224,29,225],[29,15,29,16],[29,17,29,19],[29,20,29,21],[29,49,29,50],[29,51,29,53],[29,54,29,55],[27,123,27,125],[27,130,27,132],[27,141,27,143],[29,117,29,118],[29,119,29,121],[29,122,29,123],[30,116,32,116],[27,232,27,234],[27,239,34,239],[27,243,27,245],[27,250,27,252],[27,259,27,261],[27,266,27,268],[29,253,29,254],[29,255,29,257],[29,258,29,259],[30,252,32,252],[27,191,27,193],[27,198,27,200],[27,205,34,205],[27,209,27,211],[27,216,27,218],[27,225,27,227],[30,219,32,220],[30,224,32,225],[30,226,32,226],[27,62,27,64],[27,69,34,69],[27,73,27,75],[27,80,27,82],[27,89,27,91],[27,96,27,98],[29,83,29,84],[29,85,29,87],[29,88,29,89],[15,239,26,239],[15,273,26,273],[27,5,27,7],[27,12,27,14],[27,21,27,23],[27,28,27,30],[27,35,34,35],[27,39,27,41],[27,46,27,48],[27,55,27,57],[27,148,27,150],[27,157,27,159],[27,164,27,166],[27,171,34,171],[27,175,27,177],[27,182,27,184],[29,151,29,152],[29,153,29,155],[29,156,29,157],[30,156,32,157],[27,103,34,103],[27,107,27,109],[27,114,27,116],[15,35,26,35],[15,69,26,69],[15,103,26,103],[15,137,26,137],[15,171,26,171],[15,205,26,205],[14,232,14,233],[14,234,14,235],[14,243,14,244],[14,245,14,246],[14,250,14,251],[14,252,14,253],[14,209,14,210],[14,211,14,212],[14,216,14,217],[14,218,14,219],[14,225,14,226],[14,227,14,228],[14,182,14,183],[14,184,14,185],[14,191,14,192],[14,193,14,194],[14,198,14,199],[14,200,14,201],[14,157,14,158],[14,159,14,160],[14,164,14,165],[14,166,14,167],[14,73,14,74],[14,75,14,76],[13,5,13,8],[13,12,13,15],[13,21,13,24],[13,28,13,31],[13,39,13,42],[13,46,13,49],[13,55,13,58],[13,62,13,65],[14,175,14,176],[14,177,14,178],[14,130,14,131],[14,132,14,133],[14,141,14,142],[14,143,14,144],[14,148,14,149],[14,150,14,151],[14,107,14,108],[14,109,14,110],[14,114,14,115],[14,116,14,117],[14,123,14,124],[14,125,14,126],[14,80,14,81],[14,82,14,83],[14,89,14,90],[14,91,14,92],[14,96,14,97],[14,98,14,99],[14,55,14,56],[14,57,14,58],[14,62,14,63],[14,64,14,65],[14,28,14,29],[14,30,14,31],[14,39,14,40],[14,41,14,42],[14,46,14,47],[14,48,14,49],[14,5,14,6],[14,7,14,8],[14,12,14,13],[14,14,14,15],[14,21,14,22],[14,23,14,24],[12,273,14,273],[12,239,14,239],[12,259,12,262],[12,266,12,269],[12,205,14,205],[12,171,14,171],[12,137,14,137],[12,69,14,69],[12,103,14,103],[13,225,13,228],[13,232,13,235],[13,243,13,246],[13,250,13,253],[13,259,13,262],[13,266,13,269],[13,175,13,178],[13,182,13,185],[13,191,13,194],[13,198,13,201],[13,209,13,212],[13,157,13,160],[13,164,13,167],[14,259,14,260],[14,261,14,262],[14,266,14,267],[14,268,14,269],[11,266,11,269],[12,35,14,35],[11,216,11,219],[11,225,11,228],[11,232,11,235],[11,243,11,246],[11,250,11,253],[11,259,11,262],[11,164,11,167],[11,175,11,178],[11,182,11,185],[11,191,11,194],[11,198,11,201],[11,209,11,212],[11,114,11,117],[11,123,11,126],[11,130,11,133],[11,141,11,144],[11,148,11,151],[11,157,11,160],[11,62,11,65],[13,73,13,76],[13,80,13,83],[13,89,13,92],[13,96,13,99]],"merged_total":1159,"flags":["merged_cut"]}
[null,null,null,null,null,null,null,null,null,null,null,null,null,null,null,null,null,"MATCH 1",null,null,null,null,null,null,null,null,null,null,null,null,null,null,null,null,null,null,null,null,null,null,null,null,null,null,null,null,null,null,null,null,null,"MATCH 2",null,null,null,null,null,null,null,null,null,null,null,null,null,null,null,null,null,null,null,null,null,null,null,null,null,null,null,null,null,null,null,null,null,"MATCH 3",null,null,null,null,null,null,null,null,null,null,null,null,null,null,null,null,null,null,null,null,null,null,null,null,null,null,null,null,null,null,null,null,null,"MATCH 4",null,null,null,null,null,null,null,null,null,null,null,null,null,null,null,null,null,null,null,null,null,null,null,null,null,null,null,null,null,null,null,null,null,"MATCH 5",null,null,null,null,null,null,null,null,null,null,null,null,null,null,null,null,null,null,null,null,null,null,null,null,null,null,null,null,null,null,null,null,null,"MATCH 6",null,null,null,null,null,null,null,null,null,null,null,null,null,null,null,null,null,null,null,null,null,null,null,null,null,null,null,null,null,null,null,null,null,"MATCH 7",null,null,null,null,null,null,null,null,null,null,null,null,null,null,null,null,null,null,null,null,null,null,null,null,null,null,null,null,null,null,null,null,null,"MATCH 8",null,null,null,null,null,null,null,null,null,null,null,null,null,null,null,null,null,null,null,null,null,null,null,null,null,null,null,null,null,null,null,null,null,"MATCH 9",null,null,null,null,null,null,null,null,null,null,null,null,null,null,null,null,null,null,null,null,null,null,null,null,null,null,null,null,null,null,null,null,null,"MATCH 10",null,null,null,null,null,null,null,null,null,null,null,null,null,null,null,null,null,null,null,null,null,null,null,null,null,null,null,null,null,null,null,null,null,"MATCH 11",null,null,null,null,null,null,null,null,null,null,null,null,null,null,null,null,null,null,null,null,null,null,null,null,null,null,null,null,null,null,null,null,null,"MATCH 12",null,null,null,null,null,null,null,null,null,null,null,null,null,null,null,null,null,null,null,null,null,null,null,null,null,null,null,null,null,null,null,null,null,"MATCH 13",null,null,null,null,null,null,null,null,null,null,null,null,null,null,null,null,null,null,null,null,null,null,null,null,null,null,null,null,null,null,null,null,null,"MATCH 14",null,null,null,null,null,null,null,null,null,null,null,null,null,null,null,null,null,null,null,null,null,null,null,null,null,null,null,null,null,null,null,null,null,"MATCH 15",null,null,null,null,null,null,null,null,null,null,null,null,null,null,null,null,null,null,null,null,null,null,null,null,null,null,null,null,null,null,null,null,null,"MATCH 16",null,null,null,null,null,null,null,null,null,null,null,null,null,null,null,null,null,null,null,null,null,null,null,null,null,null,null,null,null,null,null,null,null,"MATCH 17",null,null,null,null,null,null,null,null,null,null,null,null,null,null,null,null,null,null,null,null,null,null,null,null,null,null,null,null,null,null,null,null,null,"MATCH 18",null,null,null,null,null,null,null,null,null,null,null,null,null,null,null,null,null,null,null,null,null,null,null,null,null,null,null,null,null,null,null,null,null,"MATCH 19",null,null,null,null,null,null,null,null,null,null,null,null,null,null,null,null,null,null,null,null,null,null,null,null,null,null,null,null,null,null,null,null,null,"MATCH 20",null,null,null,null,null,null,null,null,null,null,null,null,null,null,null,null,null,null,null,null,null,null,null,null,null,null,null,null,null,null,null,null,null,"MATCH 21",null,null,null,null,null,null,null,null,null,null,null,null,null,null,null,null,null,null,null,null,null,null,null,null,null,null,null,null,null,null,null,null,null,"MATCH 22",null,null,null,null,null,null,null,null,null,null,null,null,null,null,null,null,null,null,null,null,null,null,null,null,null,null,null,null,null,null,null,null,null,"MATCH 23",null,null,null,null,null,null,null,null,null,null,null,null,null,null,null,null,null,null,null,null,null,null,null,null,null,null,null,null,null,null,null,null,null,"MATCH 24"]
[null,{"$f":"ECHFMTELEVE!B2","v":"2TU"},null,null,"n°1"," ",null,null,null,null,"SIMPLE 1",null,"Alaeddine",null,null,null,"n°1",null,null,null,"n°2","Amadou",null,null,null,null,"SIMPLE 2",null,"Alpha Oumar",null,null,null,"n°2",null,null,null,null,null,"n°1",null,null,null,null,null,"SIMPLE 1",null,null,null,null,null,"n°1",null,null,null,"n°2",null,null,null,null,null,"SIMPLE 2",null,null,null,null,null,"n°2",null,null,null,null,null,"n°1",null,null,null,null,null,"SIMPLE 1",null,null,null,null,null,"n°1",null,null,null,"n°2",null,null,null,null,null,"SIMPLE 2",null,null,null,null,null,"n°2",null,null,null,null,null,"n°1",null,null,null,null,null,"SIMPLE 1",null,null,null,null,null,"n°1",null,null,null,"n°2",null,null,null,null,null,"SIMPLE 2",null,null,null,null,null,"n°2",null,null,null,null,null,"n°1",null,null,null,null,null,"SIMPLE 1",null,null,null,null,null,"n°1",null,null,null,"n°2",null,null,null,null,null,"SIMPLE 2",null,null,null,null,null,"n°2",null,null,null,null,null,"n°1",null,null,null,null,null,"SIMPLE 1",null,null,null,null,null,"n°1",null,null,null,"n°2",null,null,null,null,null,"SIMPLE 2",null,null,null,null,null,"n°2",null,null,null,null,null,"n°1",null,null,null,null,null,"SIMPLE 1",null,null,null,null,null,"n°1",null,null,null,"n°2",null,null,null,null,null,"SIMPLE 2",null,null,null,null,null,"n°2",null,null,null,null,null,"n°1",null,null,null,null,null,"SIMPLE 1",null,null,null,null,null,"n°1",null,null,null,"n°2",null,null,null,null,null,"SIMPLE 2",null,null,null,null,null,"n°2",null,null,null,null,null,"n°1",null,null,null,null,null,"SIMPLE 1",null,null,null,null,null,"n°1",null,null,null,"n°2",null,null,null,null,null,"SIMPLE 2",null,null,null,null,null,"n°2",null,null,null,null,null,"n°1",null,null,null,null,null,"SIMPLE 1",null,null,null,null,null,"n°1",null,null,null,"n°2",null,null,null,null,null,"SIMPLE 2",null,null,null,null,null,"n°2",null,null,null,null,null,"n°1",null,null,null,null,null,"SIMPLE 1",null,null,null,null,null,"n°1",null,null,null,"n°2",null,null,null,null,null,"SIMPLE 2",null,null,null,null,null,"n°2",null,null,null,null,null,"n°1",null,null,null,null,null,"SIMPLE 1",null,null,null,null,null,"n°1",null,null,null,"n°2",null,null,null,null,null,"SIMPLE 2",null,null,null,null,null,"n°2",null,null,null,null,null,"n°1",null,null,null,null,null,"SIMPLE 1",null,null,null,null,null,"n°1",null,null,null,"n°2",null,null,null,null,null,"SIMPLE 2",null,null,null,null,null,"n°2",null,null,null,null,null,"n°1",null,null,null,null,null,"SIMPLE 1",null,null,null,null,null,"n°1",null,null,null,"n°2",null,null,null,null,null,"SIMPLE 2",null,null,null,null,null,"n°2",null,null,null,null,null,"n°1",null,null,null,null,null,"SIMPLE 1",null,null,null,null,null,"n°1",null,null,null,"n°2",null,null,null,null,null,"SIMPLE 2",null,null,null,null,null,"n°2",null,null,null,null,null,"n°1",null,null,null,null,null,"SIMPLE 1",null,null,null,null,null,"n°1",null,null,null,"n°2",null,null,null,null,null,"SIMPLE 2",null,null,null,null,null,"n°2",null,null,null,null,null,"n°1","Ensar",null,null,null,null,"SIMPLE 1",null,"Alaeddine",null,null,null,"n°1",null,null,null,"n°2","Amadou",null,null,null,null,"SIMPLE 2",null,"Alpha Oumar",null,null,null,"n°2",null,null,null,null,null,"n°1",null,null,null,null,null,"SIMPLE 1",null,null,null,null,null,"n°1",null,null,null,"n°2",null,null,null,null,null,"SIMPLE 2",null,null,null,null,null,"n°2",null,null,null,null,null,"n°1",null,null,null,null,null,"SIMPLE 1",null,null,null,null,null,"n°1",null,null,null,"n°2",null,null,null,null,null,"SIMPLE 2",null,null,null,null,null,"n°2",null,null,null,null,null,"n°1",null,null,null,null,null,"SIMPLE 1",null,null,null,null,null,"n°1",null,null,null,"n°2",null,null,null,null,null,"SIMPLE 2",null,null,null,null,null,"n°2",null,null,null,null,null,"n°1",null,null,null,null,null,"SIMPLE 1",null,null,null,null,null,"n°1",null,null,null,"n°2",null,null,null,null,null,"SIMPLE 2",null,null,null,null,null,"n°2",null,null,null,null,null,"n°1",null,null,null,null,null,"SIMPLE 1",null,null,null,null,null,"n°1",null,null,null,"n°2",null,null,null,null,null,"SIMPLE 2",null,null,null,null,null,"n°2",null,null,null,null,null,"n°1",null,null,null,null,null,"SIMPLE 1",null,null,null,null,null,"n°1",null,null,null,"n°2",null,null,null,null,null,"SIMPLE 2",null,null,null,null,null,"n°2",null,null,null,null,null,"n°1",null,null,null,null,null,"SIMPLE 1",null,null,null,null,null,"n°1",null,null,null,"n°2",null,null,null,null,null,"SIMPLE 2",null,null,null,null,null,"n°2"]
[]
[]
[null,"CHOIX DES ZONES\n OU\nCOUPS DANGEREUX",null,null,null,"Mon choix",null,null,null,null,null,null,"Mon choix",null,null,null,null,null,null,null,null,{"$f":"$F$5","v":"Mon choix"},null,null,null,null,null,null,{"$f":"$M$5","v":"Mon choix"},null,null,null,null,null,null,null,null,null,null,{"$f":"$F$5","v":"Mon choix"},null,null,null,null,null,null,{"$f":"$M$5","v":"Mon choix"},null,null,null,null,null,null,null,null,{"$f":"$F$5","v":"Mon choix"},null,null,null,null,null,null,{"$f":"$M$5","v":"Mon choix"},null,null,null,null,null,null,null,null,null,null,{"$f":"$F$5","v":"Mon choix"},null,null,null,null,null,null,{"$f":"$M$5","v":"Mon choix"},null,null,null,null,null,null,null,null,{"$f":"$F$5","v":"Mon choix"},null,null,null,null,null,null,{"$f":"$M$5","v":"Mon choix"},null,null,null,null,null,null,null,null,null,null,{"$f":"$F$5","v":"Mon choix"},null,null,null,null,null,null,{"$f":"$M$5","v":"Mon choix"},null,null,null,null,null,null,null,null,{"$f":"$F$5","v":"Mon choix"},null,null,null,null,null,null,{"$f":"$M$5","v":"Mon choix"},null,null,null,null,null,null,null,null,null,null,{"$f":"$F$5","v":"Mon choix"},null,null,null,null,null,null,{"$f":"$M$5","v":"Mon choix"},null,null,null,null,null,null,null,null,{"$f":"$F$5","v":"Mon choix"},null,null,null,null,null,null,{"$f":"$M$5","v":"Mon choix"},null,null,null,null,null,null,null,null,null,null,{"$f":"$F$5","v":"Mon choix"},null,null,null,null,null,null,{"$f":"$M$5","v":"Mon choix"},null,null,null,null,null,null,null,null,{"$f":"$F$5","v":"Mon choix"},null,null,null,null,null,null,{"$f":"$M$5","v":"Mon choix"},null,null,null,null,null,null,null,null,null,null,{"$f":"$F$5","v":"Mon choix"},null,null,null,null,null,null,{"$f":"$M$5","v":"Mon choix"},null,null,null,null,null,null,null,null,{"$f":"$F$5","v":"Mon choix"},null,null,null,null,null,null,{"$f":"$M$5","v":"Mon choix"},null,null,null,null,null,null,null,null,null,null,{"$f":"$F$5","v":"Mon choix"},null,null,null,null,null,null,{"$f":"$M$5","v":"Mon choix"},null,null,null,null,null,null,null,null,{"$f":"$F$5","v":"Mon choix"},null,null,null,null,null,null,{"$f":"$M$5","v":"Mon choix"},null,null,null,null,null,null,null,null,null,null,{"$f":"$F$5","v":"Mon choix"},null,null,null,null,null,null,{"$f":"$M$5","v":"Mon choix"},null,null,null,null,null,null,null,null,{"$f":"$F$5","v":"Mon choix"},null,null,null,null,null,null,{"$f":"$M$5","v":"Mon choix"},null,null,null,null,null,null,null,null,null,null,{"$f":"$F$5","v":"Mon choix"},null,null,null,null,null,null,{"$f":"$M$5","v":"Mon choix"},null,null,null,null,null,null,null,null,{"$f":"$F$5","v":"Mon choix"},null,null,null,null,null,null,{"$f":"$M$5","v":"Mon choix"},null,null,null,null,null,null,null,null,null,null,{"$f":"$F$5","v":"Mon choix"},null,null,null,null,null,null,{"$f":"$M$5","v":"Mon choix"},null,null,null,null,null,null,null,null,{"$f":"$F$5","v":"Mon choix"},null,null,null,null,null,null,{"$f":"$M$5","v":"Mon choix"},null,null,null,null,null,null,null,null,null,null,{"$f":"$F$5","v":"Mon choix"},null,null,null,null,null,null,{"$f":"$M$5","v":"Mon choix"},null,null,null,null,null,null,null,null,{"$f":"$F$5","v":"Mon choix"},null,null,null,null,null,null,{"$f":"$M$5","v":"Mon choix"},null,null,null,null,null,null,null,null,null,null,{"$f":"$F$5","v":"Mon choix"},null,null,null,null,null,null,{"$f":"$M$5","v":"Mon choix"},null,null,null,null,null,null,null,null,{"$f":"$F$5","v":"Mon choix"},null,null,null,null,null,null,{"$f":"$M$5","v":"Mon choix"},null,null,null,null,null,null,null,null,null,null,{"$f":"$F$5","v":"Mon choix"},null,null,null,null,null,null,{"$f":"$M$5","v":"Mon choix"},null,null,null,null,null,null,null,null,{"$f":"$F$5","v":"Mon choix"},null,null,null,null,null,null,{"$f":"$M$5","v":"Mon choix"},null,null,null,null,null,null,null,null,null,null,{"$f":"$F$5","v":"Mon choix"},null,null,null,null,null,null,{"$f":"$M$5","v":"Mon choix"},null,null,null,null,null,null,null,null,{"$f":"$F$5","v":"Mon choix"},null,null,null,null,null,null,{"$f":"$M$5","v":"Mon choix"},null,null,null,null,null,null,null,null,null,null,{"$f":"$F$5","v":"Mon choix"},null,null,null,null,null,null,{"$f":"$M$5","v":"Mon choix"},null,null,null,null,null,null,null,null,{"$f":"$F$5","v":"Mon choix"},null,null,null,null,null,null,{"$f":"$M$5","v":"Mon choix"},null,null,null,null,null,null,null,null,null,null,{"$f":"$F$5","v":"Mon choix"},null,null,null,null,null,null,{"$f":"$M$5","v":"Mon choix"},null,null,null,null,null,null,null,null,{"$f":"$F$5","v":"Mon choix"},null,null,null,null,null,null,{"$f":"$M$5","v":"Mon choix"},null,null,null,null,null,null,null,null,null,null,{"$f":"$F$5","v":"Mon choix"},null,null,null,null,null,null,{"$f":"$M$5","v":"Mon choix"},null,null,null,null,null,null,null,null,{"$f":"$F$5","v":"Mon choix"},null,null,null,null,null,null,{"$f":"$M$5","v":"Mon choix"},null,null,null,null,null,null,null,null,null,null,{"$f":"$F$5","v":"Mon choix"},null,null,null,null,null,null,{"$f":"$M$5","v":"Mon choix"},null,null,null,null,null,null,null,null,{"$f":"$F$5","v":"Mon choix"},null,null,null,null,null,null,{"$f":"$M$5","v":"Mon choix"},null,null,null,null,null,null,null,null,null,null,{"$f":"$F$5","v":"Mon choix"},null,null,null,null,null,null,{"$f":"$M$5","v":"Mon choix"},null,null,null,null,null,null,null,null,{"$f":"$F$5","v":"Mon choix"},null,null,null,null,null,null,{"$f":"$M$5","v":"Mon choix"},null,null,null,null,null,null,null,null,null,null,{"$f":"$F$5","v":"Mon choix"},null,null,null,null,null,null,{"$f":"$M$5","v":"Mon choix"},null,null,null,null,null,null,null,null,{"$f":"$F$5","v":"Mon choix"},null,null,null,null,null,null,{"$f":"$M$5","v":"Mon choix"},null,null,null,null,null,null,null,null,null,null,{"$f":"$F$5","v":"Mon choix"},null,null,null,null,null,null,{"$f":"$M$5","v":"Mon choix"},null,null,null,null,null,null,null,null,{"$f":"$F$5","v":"Mon choix"},null,null,null,null,null,null,{"$f":"$M$5","v":"Mon choix"},null,null,null,null,null,null,null,null,null,null,{"$f":"$F$5","v":"Mon choix"},null,null,null,null,null,null,{"$f":"$M$5","v":"Mon choix"},null,null,null,null,null,null,null,null,{"$f":"$F$5","v":"Mon choix"},null,null,null,null,null,null,{"$f":"$M$5","v":"Mon choix"},null,null,null,null,null,null,null,null,null,null,{"$f":"$F$5","v":"Mon choix"},null,null,null,null,null,null,{"$f":"$M$5","v":"Mon choix"},null,null,null,null,null,null,null,null,{"$f":"$F$5","v":"Mon choix"},null,null,null,null,null,null,{"$f":"$M$5","v":"Mon choix"}]
[null,null,null,null,null,"Zones avant et arrière",null,null,null,null,null,null,"Zones avant et arrière",null,null,null,null,null,null,null,null,"Zones avant et arrière",null,null,null,null,null,null,"Zones avant et arrière",null,null,null,null,null,null,null,null,null,null,"Zone arrière",null,null,null,null,null,null,"Zone arrière",null,null,null,null,null,null,null,null,"Zone arrière",null,null,null,null,null,null,"Zone arrière",null,null,null,null,null,null,null,null,null,null,"Zone arrière",null,null,null,null,null,null,"Zone arrière",null,null,null,null,null,null,null,null,"Zone arrière",null,null,null,null,null,null,"Zone arrière",null,null,null,null,null,null,null,null,null,null,"Zone arrière",null,null,null,null,null,null,"Zone arrière",null,null,null,null,null,null,null,null,"Zone arrière",null,null,null,null,null,null,"Zone arrière",null,null,null,null,null,null,null,null,null,null,"Zone arrière",null,null,null,null,null,null,"Zone arrière",null,null,null,null,null,null,null,null,"Zone arrière",null,null,null,null,null,null,"Zone arrière",null,null,null,null,null,null,null,null,null,null,"Zone arrière",null,null,null,null,null,null,"Zone arrière",null,null,null,null,null,null,null,null,"Zone arrière",null,null,null,null,null,null,"Zone arrière",null,null,null,null,null,null,null,null,null,null,"Zone arrière",null,null,null,null,null,null,"Zone arrière",null,null,null,null,null,null,null,null,"Zone arrière",null,null,null,null,null,null,"Zone arrière",null,null,null,null,null,null,null,null,null,null,"Zone arrière",null,null,null,null,null,null,"Zone arrière",null,null,null,null,null,null,null,null,"Zone arrière",null,null,null,null,null,null,"Zone arrière",null,null,null,null,null,null,null,null,null,null,"Zone arrière",null,null,null,null,null,null,"Zone arrière",null,null,null,null,null,null,null,null,"Zone arrière",null,null,null,null,null,null,"Zone arrière",null,null,null,null,null,null,null,null,null,null,"Zone arrière",null,null,null,null,null,null,"Zone arrière",null,null,null,null,null,null,null,null,"Zone arrière",null,null,null,null,null,null,"Zone arrière",null,null,null,null,null,null,null,null,null,null,"Zone arrière",null,null,null,null,null,null,"Zone arrière",null,null,null,null,null,null,null,null,"Zone arrière",null,null,null,null,null,null,"Zone arrière",null,null,null,null,null,null,null,null,null,null,"Zone arrière",null,null,null,null,null,null,"Zone arrière",null,null,null,null,null,null,null,null,"Zone arrière",null,null,null,null,null,null,"Zone arrière",null,null,null,null,null,null,null,null,null,null,"Zone arrière",null,null,null,null,null,null,"Zone arrière",null,null,null,null,null,null,null,null,"Zone arrière",null,null,null,null,null,null,"Zone arrière",null,null,null,null,null,null,null,null,null,null,"Zone arrière",null,null,null,null,null,null,"Zone arrière",null,null,null,null,null,null,null,null,"Zone arrière",null,null,null,null,null,null,"Zone arrière",null,null,null,null,null,null,null,null,null,null,"Zone arrière",null,null,null,null,null,null,"Zone arrière",null,null,null,null,null,null,null,null,"Zone arrière",null,null,null,null,null,null,"Zone arrière",null,null,null,null,null,null,null,null,null,null,"Zone arrière",null,null,null,null,null,null,"Zone arrière",null,null,null,null,null,null,null,null,"Zone arrière",null,null,null,null,null,null,"Zone arrière",null,null,null,null,null,null,null,null,null,null,"Zone arrière",null,null,null,null,null,null,"Zone arrière",null,null,null,null,null,null,null,null,"Zone arrière",null,null,null,null,null,null,"Zone arrière",null,null,null,null,null,null,null,null,null,null,"Zone arrière",null,null,null,null,null,null,"Zone arrière",null,null,null,null,null,null,null,null,"Zone arrière",null,null,null,null,null,null,"Zone arrière",null,null,null,null,null,null,null,null,null,null,"Zone arrière",null,null,null,null,null,null,"Zone arrière",null,null,null,null,null,null,null,null,"Zone arrière",null,null,null,null,null,null,"Zone arrière",null,null,null,null,null,null,null,null,null,null,"Zone arrière",null,null,null,null,null,null,"Zone arrière",null,null,null,null,null,null,null,null,"Zone arrière",null,null,null,null,null,null,"Zone arrière",null,null,null,null,null,null,null,null,null,null,"Zone arrière",null,null,null,null,null,null,"Zone arrière",null,null,null,null,null,null,null,null,"Zone arrière",null,null,null,null,null,null,"Zone arrière",null,null,null,null,null,null,null,null,null,null,"Zone arrière",null,null,null,null,null,null,"Zone arrière",null,null,null,null,null,null,null,null,"Zone arrière",null,null,null,null,null,null,"Zone arrière",null,null,null,null,null,null,null,null,null,null,"Zone arrière",null,null,null,null,null,null,"Zone arrière",null,null,null,null,null,null,null,null,"Zone arrière",null,null,null,null,null,null,"Zone arrière",null,null,null,null,null,null,null,null,null,null,"Zone arrière",null,null,null,null,null,null,"Zone arrière",null,null,null,null,null,null,null,null,"Zone arrière",null,null,null,null,null,null,"Zone arrière"]
[null,null,null,null,null,null,null,null,null,null,null,null,null,null,null,null,null,null,null,null,null,null,null,null,null,null,null,null,null,null,null,null,null,null,null,"NOUVEAU MATCH",null,null,null,null,null,null,null,null,null,null,null,null,null,null,null,null,null,null,null,null,null,null,null,null,null,null,null,null,null,null,null,null,null,"NOUVEAU MATCH",null,null,null,null,null,null,null,null,null,null,null,null,null,null,null,null,null,null,null,null,null,null,null,null,null,null,null,null,null,null,null,null,null,"NOUVEAU MATCH",null,null,null,null,null,null,null,null,null,null,null,null,null,null,null,null,null,null,null,null,null,null,null,null,null,null,null,null,null,null,null,null,null,"NOUVEAU MATCH",null,null,null,null,null,null,null,null,null,null,null,null,null,null,null,null,null,null,null,null,null,null,null,null,null,null,null,null,null,null,null,null,null,"NOUVEAU MATCH",null,null,null,null,null,null,null,null,null,null,null,null,null,null,null,null,null,null,null,null,null,null,null,null,null,null,null,null,null,null,null,null,null,"NOUVEAU MATCH",null,null,null,null,null,null,null,null,null,null,null,null,null,null,null,null,null,null,null,null,null,null,null,null,null,null,null,null,null,null,null,null,null,"NOUVEAU MATCH",null,null,null,null,null,null,null,null,null,null,null,null,null,null,null,null,null,null,null,null,null,null,null,null,null,null,null,null,null,null,null,null,null,"NOUVEAU MATCH",null,null,null,null,null,null,null,null,null,null,null,null,null,null,null,null,null,null,null,null,null,null,null,null,null,null,null,null,null,null,null,null,null,"NOUVEAU MATCH",null,null,null,null,null,null,null,null,null,null,null,null,null,null,null,null,null,null,null,null,null,null,null,null,null,null,null,null,null,null,null,null,null,"NOUVEAU MATCH",null,null,null,null,null,null,null,null,null,null,null,null,null,null,null,null,null,null,null,null,null,null,null,null,null,null,null,null,null,null,null,null,null,"NOUVEAU MATCH",null,null,null,null,null,null,null,null,null,null,null,null,null,null,null,null,null,null,null,null,null,null,null,null,null,null,null,null,null,null,null,null,null,"NOUVEAU MATCH",null,null,null,null,null,null,null,null,null,null,null,null,null,null,null,null,null,null,null,null,null,null,null,null,null,null,null,null,null,null,null,null,null,"NOUVEAU MATCH",null,null,null,null,null,null,null,null,null,null,null,null,null,null,null,null,null,null,null,null,null,null,null,null,null,null,null,null,null,null,null,null,null,"NOUVEAU MATCH",null,null,null,null,null,null,null,null,null,null,null,null,null,null,null,null,null,null,null,null,null,null,null,null,null,null,null,null,null,null,null,null,null,"NOUVEAU MATCH",null,null,null,null,null,null,null,null,null,null,null,null,null,null,null,null,null,null,null,null,null,null,null,null,null,null,null,null,null,null,null,null,null,"NOUVEAU MATCH",null,null,null,null,null,null,null,null,null,null,null,null,null,null,null,null,null,null,null,null,null,null,null,null,null,null,null,null,null,null,null,null,null,"NOUVEAU MATCH",null,null,null,null,null,null,null,null,null,null,null,null,null,null,null,null,null,null,null,null,null,null,null,null,null,null,null,null,null,null,null,null,null,"NOUVEAU MATCH",null,null,null,null,null,null,null,null,null,null,null,null,null,null,null,null,null,null,null,null,null,null,null,null,null,null,null,null,null,null,null,null,null,"NOUVEAU MATCH",null,null,null,null,null,null,null,null,null,null,null,null,null,null,null,null,null,null,null,null,null,null,null,null,null,null,null,null,null,null,null,null,null,"NOUVEAU MATCH",null,null,null,null,null,null,null,null,null,null,null,null,null,null,null,null,null,null,null,null,null,null,null,null,null,null,null,null,null,null,null,null,null,"NOUVEAU MATCH",null,null,null,null,null,null,null,null,null,null,null,null,null,null,null,null,null,null,null,null,null,null,null,null,null,null,null,null,null,null,null,null,null,"NOUVEAU MATCH",null,null,null,null,null,null,null,null,null,null,null,null,null,null,null,null,null,null,null,null,null,null,null,null,null,null,null,null,null,null,null,null,null,"NOUVEAU MATCH",null,null,null,null,null,null,null,null,null,null,null,null,null,null,null,null,null,null,null,null,null,null,null,null,null,null,null,null,null,null,null,null,null,"NOUVEAU MATCH"]
[null,null,null,null,null,{"$f":"IFERROR(HLOOKUP(F$6,DEBUT!$CP$2:$DI$18,2,FALSE),\"\")","v":"x"},{"$f":"IFERROR(HLOOKUP(F$6,DEBUT!$CP$2:$DI$18,6,FALSE),\"\")","v":"x"},{"$f":"IFERROR(HLOOKUP(F$6,DEBUT!$CP$2:$DI$18,10,FALSE),\"\")","v":"x"},{"$f":"IFERROR(HLOOKUP(F$6,DEBUT!$CP$2:$DI$18,14,FALSE),\"\")","v":"x"},null,null,null,{"$f":"IFERROR(HLOOKUP(M$6,DEBUT!$CP$2:$DI$18,2,FALSE),\"\")","v":"x"},{"$f":"IFERROR(HLOOKUP(M$6,DEBUT!$CP$2:$DI$18,6,FALSE),\"\")","v":"x"},{"$f":"IFERROR(HLOOKUP(M$6,DEBUT!$CP$2:$DI$18,10,FALSE),\"\")","v":"x"},{"$f":"IFERROR(HLOOKUP(M$6,DEBUT!$CP$2:$DI$18,14,FALSE),\"\")","v":"x"},null,null,null,null,null,{"$f":"IFERROR(HLOOKUP(V$6,DEBUT!$CP$2:$DI$18,2,FALSE),\"\")","v":"x"},{"$f":"IFERROR(HLOOKUP(V$6,DEBUT!$CP$2:$DI$18,6,FALSE),\"\")","v":"x"},{"$f":"IFERROR(HLOOKUP(V$6,DEBUT!$CP$2:$DI$18,10,FALSE),\"\")","v":"x"},{"$f":"IFERROR(HLOOKUP(V$6,DEBUT!$CP$2:$DI$18,14,FALSE),\"\")","v":"x"},null,null,null,{"$f":"IFERROR(HLOOKUP(AC$6,DEBUT!$CP$2:$DI$18,2,FALSE),\"\")","v":"x"},{"$f":"IFERROR(HLOOKUP(AC$6,DEBUT!$CP$2:$DI$18,6,FALSE),\"\")","v":"x"},{"$f":"IFERROR(HLOOKUP(AC$6,DEBUT!$CP$2:$DI$18,10,FALSE),\"\")","v":"x"},{"$f":"IFERROR(HLOOKUP(AC$6,DEBUT!$CP$2:$DI$18,14,FALSE),\"\")","v":"x"},null,null,null,null,null,null,null,{"$f":"IFERROR(HLOOKUP(AN$6,DEBUT!$CP$2:$DI$18,2,FALSE),\"\")","v":"x"},{"$f":"IFERROR(HLOOKUP(AN$6,DEBUT!$CP$2:$DI$18,6,FALSE),\"\")","v":"x"},{"$f":"IFERROR(HLOOKUP(AN$6,DEBUT!$CP$2:$DI$18,10,FALSE),\"\")","v":"x"},{"$f":"IFERROR(HLOOKUP(AN$6,DEBUT!$CP$2:$DI$18,14,FALSE),\"\")","v":"x"},null,null,null,{"$f":"IFERROR(HLOOKUP(AU$6,DEBUT!$CP$2:$DI$18,2,FALSE),\"\")","v":"x"},{"$f":"IFERROR(HLOOKUP(AU$6,DEBUT!$CP$2:$DI$18,6,FALSE),\"\")","v":"x"},{"$f":"IFERROR(HLOOKUP(AU$6,DEBUT!$CP$2:$DI$18,10,FALSE),\"\")","v":"x"},{"$f":"IFERROR(HLOOKUP(AU$6,DEBUT!$CP$2:$DI$18,14,FALSE),\"\")","v":"x"},null,null,null,null,null,{"$f":"IFERROR(HLOOKUP(BD$6,DEBUT!$CP$2:$DI$18,2,FALSE),\"\")","v":"x"},{"$f":"IFERROR(HLOOKUP(BD$6,DEBUT!$CP$2:$DI$18,6,FALSE),\"\")","v":"x"},{"$f":"IFERROR(HLOOKUP(BD$6,DEBUT!$CP$2:$DI$18,10,FALSE),\"\")","v":"x"},{"$f":"IFERROR(HLOOKUP(BD$6,DEBUT!$CP$2:$DI$18,14,FALSE),\"\")","v":"x"},null,null,null,{"$f":"IFERROR(HLOOKUP(BK$6,DEBUT!$CP$2:$DI$18,2,FALSE),\"\")","v":"x"},{"$f":"IFERROR(HLOOKUP(BK$6,DEBUT!$CP$2:$DI$18,6,FALSE),\"\")","v":"x"},{"$f":"IFERROR(HLOOKUP(BK$6,DEBUT!$CP$2:$DI$18,10,FALSE),\"\")","v":"x"},{"$f":"IFERROR(HLOOKUP(BK$6,DEBUT!$CP$2:$DI$18,14,FALSE),\"\")","v":"x"},null,null,null,null,null,null,null,{"$f":"IFERROR(HLOOKUP(BV$6,DEBUT!$CP$2:$DI$18,2,FALSE),\"\")","v":"x"},{"$f":"IFERROR(HLOOKUP(BV$6,DEBUT!$CP$2:$DI$18,6,FALSE),\"\")","v":"x"},{"$f":"IFERROR(HLOOKUP(BV$6,DEBUT!$CP$2:$DI$18,10,FALSE),\"\")","v":"x"},{"$f":"IFERROR(HLOOKUP(BV$6,DEBUT!$CP$2:$DI$18,14,FALSE),\"\")","v":"x"},null,null,null,{"$f":"IFERROR(HLOOKUP(CC$6,DEBUT!$CP$2:$DI$18,2,FALSE),\"\")","v":"x"},{"$f":"IFERROR(HLOOKUP(CC$6,DEBUT!$CP$2:$DI$18,6,FALSE),\"\")","v":"x"},{"$f":"IFERROR(HLOOKUP(CC$6,DEBUT!$CP$2:$DI$18,10,FALSE),\"\")","v":"x"},{"$f":"IFERROR(HLOOKUP(CC$6,DEBUT!$CP$2:$DI$18,14,FALSE),\"\")","v":"x"},null,null,null,null,null,{"$f":"IFERROR(HLOOKUP(CL$6,DEBUT!$CP$2:$DI$18,2,FALSE),\"\")","v":"x"},{"$f":"IFERROR(HLOOKUP(CL$6,DEBUT!$CP$2:$DI$18,6,FALSE),\"\")","v":"x"},{"$f":"IFERROR(HLOOKUP(CL$6,DEBUT!$CP$2:$DI$18,10,FALSE),\"\")","v":"x"},{"$f":"IFERROR(HLOOKUP(CL$6,DEBUT!$CP$2:$DI$18,14,FALSE),\"\")","v":"x"},null,null,null,{"$f":"IFERROR(HLOOKUP(CS$6,DEBUT!$CP$2:$DI$18,2,FALSE),\"\")","v":"x"},{"$f":"IFERROR(HLOOKUP(CS$6,DEBUT!$CP$2:$DI$18,6,FALSE),\"\")","v":"x"},{"$f":"IFERROR(HLOOKUP(CS$6,DEBUT!$CP$2:$DI$18,10,FALSE),\"\")","v":"x"},{"$f":"IFERROR(HLOOKUP(CS$6,DEBUT!$CP$2:$DI$18,14,FALSE),\"\")","v":"x"},null,null,null,null,null,null,null,{"$f":"IFERROR(HLOOKUP(DD$6,DEBUT!$CP$2:$DI$18,2,FALSE),\"\")","v":"x"},{"$f":"IFERROR(HLOOKUP(DD$6,DEBUT!$CP$2:$DI$18,6,FALSE),\"\")","v":"x"},{"$f":"IFERROR(HLOOKUP(DD$6,DEBUT!$CP$2:$DI$18,10,FALSE),\"\")","v":"x"},{"$f":"IFERROR(HLOOKUP(DD$6,DEBUT!$CP$2:$DI$18,14,FALSE),\"\")","v":"x"},null,null,null,{"$f":"IFERROR(HLOOKUP(DK$6,DEBUT!$CP$2:$DI$18,2,FALSE),\"\")","v":"x"},{"$f":"IFERROR(HLOOKUP(DK$6,DEBUT!$CP$2:$DI$18,6,FALSE),\"\")","v":"x"},{"$f":"IFERROR(HLOOKUP(DK$6,DEBUT!$CP$2:$DI$18,10,FALSE),\"\")","v":"x"},{"$f":"IFERROR(HLOOKUP(DK$6,DEBUT!$CP$2:$DI$18,14,FALSE),\"\")","v":"x"},null,null,null,null,null,{"$f":"IFERROR(HLOOKUP(DT$6,DEBUT!$CP$2:$DI$18,2,FALSE),\"\")","v":"x"},{"$f":"IFERROR(HLOOKUP(DT$6,DEBUT!$CP$2:$DI$18,6,FALSE),\"\")","v":"x"},{"$f":"IFERROR(HLOOKUP(DT$6,DEBUT!$CP$2:$DI$18,10,FALSE),\"\")","v":"x"},{"$f":"IFERROR(HLOOKUP(DT$6,DEBUT!$CP$2:$DI$18,14,FALSE),\"\")","v":"x"},null,null,null,{"$f":"IFERROR(HLOOKUP(EA$6,DEBUT!$CP$2:$DI$18,2,FALSE),\"\")","v":"x"},{"$f":"IFERROR(HLOOKUP(EA$6,DEBUT!$CP$2:$DI$18,6,FALSE),\"\")","v":"x"},{"$f":"IFERROR(HLOOKUP(EA$6,DEBUT!$CP$2:$DI$18,10,FALSE),\"\")","v":"x"},{"$f":"IFERROR(HLOOKUP(EA$6,DEBUT!$CP$2:$DI$18,14,FALSE),\"\")","v":"x"},null,null,null,null,null,null,null,{"$f":"IFERROR(HLOOKUP(EL$6,DEBUT!$CP$2:$DI$18,2,FALSE),\"\")","v":"x"},{"$f":"IFERROR(HLOOKUP(EL$6,DEBUT!$CP$2:$DI$18,6,FALSE),\"\")","v":"x"},{"$f":"IFERROR(HLOOKUP(EL$6,DEBUT!$CP$2:$DI$18,10,FALSE),\"\")","v":"x"},{"$f":"IFERROR(HLOOKUP(EL$6,DEBUT!$CP$2:$DI$18,14,FALSE),\"\")","v":"x"},null,null,null,{"$f":"IFERROR(HLOOKUP(ES$6,DEBUT!$CP$2:$DI$18,2,FALSE),\"\")","v":"x"},{"$f":"IFERROR(HLOOKUP(ES$6,DEBUT!$CP$2:$DI$18,6,FALSE),\"\")","v":"x"},{"$f":"IFERROR(HLOOKUP(ES$6,DEBUT!$CP$2:$DI$18,10,FALSE),\"\")","v":"x"},{"$f":"IFERROR(HLOOKUP(ES$6,DEBUT!$CP$2:$DI$18,14,FALSE),\"\")","v":"x"},null,null,null,null,null,{"$f":"IFERROR(HLOOKUP(FB$6,DEBUT!$CP$2:$DI$18,2,FALSE),\"\")","v":"x"},{"$f":"IFERROR(HLOOKUP(FB$6,DEBUT!$CP$2:$DI$18,6,FALSE),\"\")","v":"x"},{"$f":"IFERROR(HLOOKUP(FB$6,DEBUT!$CP$2:$DI$18,10,FALSE),\"\")","v":"x"},{"$f":"IFERROR(HLOOKUP(FB$6,DEBUT!$CP$2:$DI$18,14,FALSE),\"\")","v":"x"},null,null,null,{"$f":"IFERROR(HLOOKUP(FI$6,DEBUT!$CP$2:$DI$18,2,FALSE),\"\")","v":"x"},{"$f":"IFERROR(HLOOKUP(FI$6,DEBUT!$CP$2:$DI$18,6,FALSE),\"\")","v":"x"},{"$f":"IFERROR(HLOOKUP(FI$6,DEBUT!$CP$2:$DI$18,10,FALSE),\"\")","v":"x"},{"$f":"IFERROR(HLOOKUP(FI$6,DEBUT!$CP$2:$DI$18,14,FALSE),\"\")","v":"x"},null,null,null,null,null,null,null,{"$f":"IFERROR(HLOOKUP(FT$6,DEBUT!$CP$2:$DI$18,2,FALSE),\"\")","v":"x"},{"$f":"IFERROR(HLOOKUP(FT$6,DEBUT!$CP$2:$DI$18,6,FALSE),\"\")","v":"x"},{"$f":"IFERROR(HLOOKUP(FT$6,DEBUT!$CP$2:$DI$18,10,FALSE),\"\")","v":"x"},{"$f":"IFERROR(HLOOKUP(FT$6,DEBUT!$CP$2:$DI$18,14,FALSE),\"\")","v":"x"},null,null,null,{"$f":"IFERROR(HLOOKUP(GA$6,DEBUT!$CP$2:$DI$18,2,FALSE),\"\")","v":"x"},{"$f":"IFERROR(HLOOKUP(GA$6,DEBUT!$CP$2:$DI$18,6,FALSE),\"\")","v":"x"},{"$f":"IFERROR(HLOOKUP(GA$6,DEBUT!$CP$2:$DI$18,10,FALSE),\"\")","v":"x"},{"$f":"IFERROR(HLOOKUP(GA$6,DEBUT!$CP$2:$DI$18,14,FALSE),\"\")","v":"x"},null,null,null,null,null,{"$f":"IFERROR(HLOOKUP(GJ$6,DEBUT!$CP$2:$DI$18,2,FALSE),\"\")","v":"x"},{"$f":"IFERROR(HLOOKUP(GJ$6,DEBUT!$CP$2:$DI$18,6,FALSE),\"\")","v":"x"},{"$f":"IFERROR(HLOOKUP(GJ$6,DEBUT!$CP$2:$DI$18,10,FALSE),\"\")","v":"x"},{"$f":"IFERROR(HLOOKUP(GJ$6,DEBUT!$CP$2:$DI$18,14,FALSE),\"\")","v":"x"},null,null,null,{"$f":"IFERROR(HLOOKUP(GQ$6,DEBUT!$CP$2:$DI$18,2,FALSE),\"\")","v":"x"},{"$f":"IFERROR(HLOOKUP(GQ$6,DEBUT!$CP$2:$DI$18,6,FALSE),\"\")","v":"x"},{"$f":"IFERROR(HLOOKUP(GQ$6,DEBUT!$CP$2:$DI$18,10,FALSE),\"\")","v":"x"},{"$f":"IFERROR(HLOOKUP(GQ$6,DEBUT!$CP$2:$DI$18,14,FALSE),\"\")","v":"x"},null,null,null,null,null,null,null,{"$f":"IFERROR(HLOOKUP(HB$6,DEBUT!$CP$2:$DI$18,2,FALSE),\"\")","v":"x"},{"$f":"IFERROR(HLOOKUP(HB$6,DEBUT!$CP$2:$DI$18,6,FALSE),\"\")","v":"x"},{"$f":"IFERROR(HLOOKUP(HB$6,DEBUT!$CP$2:$DI$18,10,FALSE),\"\")","v":"x"},{"$f":"IFERROR(HLOOKUP(HB$6,DEBUT!$CP$2:$DI$18,14,FALSE),\"\")","v":"x"},null,null,null,{"$f":"IFERROR(HLOOKUP(HI$6,DEBUT!$CP$2:$DI$18,2,FALSE),\"\")","v":"x"},{"$f":"IFERROR(HLOOKUP(HI$6,DEBUT!$CP$2:$DI$18,6,FALSE),\"\")","v":"x"},{"$f":"IFERROR(HLOOKUP(HI$6,DEBUT!$CP$2:$DI$18,10,FALSE),\"\")","v":"x"},{"$f":"IFERROR(HLOOKUP(HI$6,DEBUT!$CP$2:$DI$18,14,FALSE),\"\")","v":"x"},null,null,null,null,null,{"$f":"IFERROR(HLOOKUP(HR$6,DEBUT!$CP$2:$DI$18,2,FALSE),\"\")","v":"x"},{"$f":"IFERROR(HLOOKUP(HR$6,DEBUT!$CP$2:$DI$18,6,FALSE),\"\")","v":"x"},{"$f":"IFERROR(HLOOKUP(HR$6,DEBUT!$CP$2:$DI$18,10,FALSE),\"\")","v":"x"},{"$f":"IFERROR(HLOOKUP(HR$6,DEBUT!$CP$2:$DI$18,14,FALSE),\"\")","v":"x"},null,null,null,{"$f":"IFERROR(HLOOKUP(HY$6,DEBUT!$CP$2:$DI$18,2,FALSE),\"\")","v":"x"},{"$f":"IFERROR(HLOOKUP(HY$6,DEBUT!$CP$2:$DI$18,6,FALSE),\"\")","v":"x"},{"$f":"IFERROR(HLOOKUP(HY$6,DEBUT!$CP$2:$DI$18,10,FALSE),\"\")","v":"x"},{"$f":"IFERROR(HLOOKUP(HY$6,DEBUT!$CP$2:$DI$18,14,FALSE),\"\")","v":"x"},null,null,null,null,null,null,null,{"$f":"IFERROR(HLOOKUP(IJ$6,DEBUT!$CP$2:$DI$18,2,FALSE),\"\")","v":"x"},{"$f":"IFERROR(HLOOKUP(IJ$6,DEBUT!$CP$2:$DI$18,6,FALSE),\"\")","v":"x"},{"$f":"IFERROR(HLOOKUP(IJ$6,DEBUT!$CP$2:$DI$18,10,FALSE),\"\")","v":"x"},{"$f":"IFERROR(HLOOKUP(IJ$6,DEBUT!$CP$2:$DI$18,14,FALSE),\"\")","v":"x"},null,null,null,{"$f":"IFERROR(HLOOKUP(IQ$6,DEBUT!$CP$2:$DI$18,2,FALSE),\"\")","v":"x"},{"$f":"IFERROR(HLOOKUP(IQ$6,DEBUT!$CP$2:$DI$18,6,FALSE),\"\")","v":"x"},{"$f":"IFERROR(HLOOKUP(IQ$6,DEBUT!$CP$2:$DI$18,10,FALSE),\"\")","v":"x"},{"$f":"IFERROR(HLOOKUP(IQ$6,DEBUT!$CP$2:$DI$18,14,FALSE),\"\")","v":"x"},null,null,null,null,null,{"$f":"IFERROR(HLOOKUP(IZ$6,DEBUT!$CP$2:$DI$18,2,FALSE),\"\")","v":"x"},{"$f":"IFERROR(HLOOKUP(IZ$6,DEBUT!$CP$2:$DI$18,6,FALSE),\"\")","v":"x"},{"$f":"IFERROR(HLOOKUP(IZ$6,DEBUT!$CP$2:$DI$18,10,FALSE),\"\")","v":"x"},{"$f":"IFERROR(HLOOKUP(IZ$6,DEBUT!$CP$2:$DI$18,14,FALSE),\"\")","v":"x"},null,null,null,{"$f":"IFERROR(HLOOKUP(JG$6,DEBUT!$CP$2:$DI$18,2,FALSE),\"\")","v":"x"},{"$f":"IFERROR(HLOOKUP(JG$6,DEBUT!$CP$2:$DI$18,6,FALSE),\"\")","v":"x"},{"$f":"IFERROR(HLOOKUP(JG$6,DEBUT!$CP$2:$DI$18,10,FALSE),\"\")","v":"x"},{"$f":"IFERROR(HLOOKUP(JG$6,DEBUT!$CP$2:$DI$18,14,FALSE),\"\")","v":"x"},null,null,null,null,null,null,null,{"$f":"IFERROR(HLOOKUP(JR$6,DEBUT!$CP$2:$DI$18,2,FALSE),\"\")","v":"x"},{"$f":"IFERROR(HLOOKUP(JR$6,DEBUT!$CP$2:$DI$18,6,FALSE),\"\")","v":"x"},{"$f":"IFERROR(HLOOKUP(JR$6,DEBUT!$CP$2:$DI$18,10,FALSE),\"\")","v":"x"},{"$f":"IFERROR(HLOOKUP(JR$6,DEBUT!$CP$2:$DI$18,14,FALSE),\"\")","v":"x"},null,null,null,{"$f":"IFERROR(HLOOKUP(JY$6,DEBUT!$CP$2:$DI$18,2,FALSE),\"\")","v":"x"},{"$f":"IFERROR(HLOOKUP(JY$6,DEBUT!$CP$2:$DI$18,6,FALSE),\"\")","v":"x"},{"$f":"IFERROR(HLOOKUP(JY$6,DEBUT!$CP$2:$DI$18,10,FALSE),\"\")","v":"x"},{"$f":"IFERROR(HLOOKUP(JY$6,DEBUT!$CP$2:$DI$18,14,FALSE),\"\")","v":"x"},null,null,null,null,null,{"$f":"IFERROR(HLOOKUP(KH$6,DEBUT!$CP$2:$DI$18,2,FALSE),\"\")","v":"x"},{"$f":"IFERROR(HLOOKUP(KH$6,DEBUT!$CP$2:$DI$18,6,FALSE),\"\")","v":"x"},{"$f":"IFERROR(HLOOKUP(KH$6,DEBUT!$CP$2:$DI$18,10,FALSE),\"\")","v":"x"},{"$f":"IFERROR(HLOOKUP(KH$6,DEBUT!$CP$2:$DI$18,14,FALSE),\"\")","v":"x"},null,null,null,{"$f":"IFERROR(HLOOKUP(KO$6,DEBUT!$CP$2:$DI$18,2,FALSE),\"\")","v":"x"},{"$f":"IFERROR(HLOOKUP(KO$6,DEBUT!$CP$2:$DI$18,6,FALSE),\"\")","v":"x"},{"$f":"IFERROR(HLOOKUP(KO$6,DEBUT!$CP$2:$DI$18,10,FALSE),\"\")","v":"x"},{"$f":"IFERROR(HLOOKUP(KO$6,DEBUT!$CP$2:$DI$18,14,FALSE),\"\")","v":"x"},null,null,null,null,null,null,null,{"$f":"IFERROR(HLOOKUP(KZ$6,DEBUT!$CP$2:$DI$18,2,FALSE),\"\")","v":"x"},{"$f":"IFERROR(HLOOKUP(KZ$6,DEBUT!$CP$2:$DI$18,6,FALSE),\"\")","v":"x"},{"$f":"IFERROR(HLOOKUP(KZ$6,DEBUT!$CP$2:$DI$18,10,FALSE),\"\")","v":"x"},{"$f":"IFERROR(HLOOKUP(KZ$6,DEBUT!$CP$2:$DI$18,14,FALSE),\"\")","v":"x"},null,null,null,{"$f":"IFERROR(HLOOKUP(LG$6,DEBUT!$CP$2:$DI$18,2,FALSE),\"\")","v":"x"},{"$f":"IFERROR(HLOOKUP(LG$6,DEBUT!$CP$2:$DI$18,6,FALSE),\"\")","v":"x"},{"$f":"IFERROR(HLOOKUP(LG$6,DEBUT!$CP$2:$DI$18,10,FALSE),\"\")","v":"x"},{"$f":"IFERROR(HLOOKUP(LG$6,DEBUT!$CP$2:$DI$18,14,FALSE),\"\")","v":"x"},null,null,null,null,null,{"$f":"IFERROR(HLOOKUP(LP$6,DEBUT!$CP$2:$DI$18,2,FALSE),\"\")","v":"x"},{"$f":"IFERROR(HLOOKUP(LP$6,DEBUT!$CP$2:$DI$18,6,FALSE),\"\")","v":"x"},{"$f":"IFERROR(HLOOKUP(LP$6,DEBUT!$CP$2:$DI$18,10,FALSE),\"\")","v":"x"},{"$f":"IFERROR(HLOOKUP(LP$6,DEBUT!$CP$2:$DI$18,14,FALSE),\"\")","v":"x"},null,null,null,{"$f":"IFERROR(HLOOKUP(LW$6,DEBUT!$CP$2:$DI$18,2,FALSE),\"\")","v":"x"},{"$f":"IFERROR(HLOOKUP(LW$6,DEBUT!$CP$2:$DI$18,6,FALSE),\"\")","v":"x"},{"$f":"IFERROR(HLOOKUP(LW$6,DEBUT!$CP$2:$DI$18,10,FALSE),\"\")","v":"x"},{"$f":"IFERROR(HLOOKUP(LW$6,DEBUT!$CP$2:$DI$18,14,FALSE),\"\")","v":"x"},null,null,null,null,null,null,null,{"$f":"IFERROR(HLOOKUP(MH$6,DEBUT!$CP$2:$DI$18,2,FALSE),\"\")","v":"x"},{"$f":"IFERROR(HLOOKUP(MH$6,DEBUT!$CP$2:$DI$18,6,FALSE),\"\")","v":"x"},{"$f":"IFERROR(HLOOKUP(MH$6,DEBUT!$CP$2:$DI$18,10,FALSE),\"\")","v":"x"},{"$f":"IFERROR(HLOOKUP(MH$6,DEBUT!$CP$2:$DI$18,14,FALSE),\"\")","v":"x"},null,null,null,{"$f":"IFERROR(HLOOKUP(MO$6,DEBUT!$CP$2:$DI$18,2,FALSE),\"\")","v":"x"},{"$f":"IFERROR(HLOOKUP(MO$6,DEBUT!$CP$2:$DI$18,6,FALSE),\"\")","v":"x"},{"$f":"IFERROR(HLOOKUP(MO$6,DEBUT!$CP$2:$DI$18,10,FALSE),\"\")","v":"x"},{"$f":"IFERROR(HLOOKUP(MO$6,DEBUT!$CP$2:$DI$18,14,FALSE),\"\")","v":"x"},null,null,null,null,null,{"$f":"IFERROR(HLOOKUP(MX$6,DEBUT!$CP$2:$DI$18,2,FALSE),\"\")","v":"x"},{"$f":"IFERROR(HLOOKUP(MX$6,DEBUT!$CP$2:$DI$18,6,FALSE),\"\")","v":"x"},{"$f":"IFERROR(HLOOKUP(MX$6,DEBUT!$CP$2:$DI$18,10,FALSE),\"\")","v":"x"},{"$f":"IFERROR(HLOOKUP(MX$6,DEBUT!$CP$2:$DI$18,14,FALSE),\"\")","v":"x"},null,null,null,{"$f":"IFERROR(HLOOKUP(NE$6,DEBUT!$CP$2:$DI$18,2,FALSE),\"\")","v":"x"},{"$f":"IFERROR(HLOOKUP(NE$6,DEBUT!$CP$2:$DI$18,6,FALSE),\"\")","v":"x"},{"$f":"IFERROR(HLOOKUP(NE$6,DEBUT!$CP$2:$DI$18,10,FALSE),\"\")","v":"x"},{"$f":"IFERROR(HLOOKUP(NE$6,DEBUT!$CP$2:$DI$18,14,FALSE),\"\")","v":"x"},null,null,null,null,null,null,null,{"$f":"IFERROR(HLOOKUP(NP$6,DEBUT!$CP$2:$DI$18,2,FALSE),\"\")","v":"x"},{"$f":"IFERROR(HLOOKUP(NP$6,DEBUT!$CP$2:$DI$18,6,FALSE),\"\")","v":"x"},{"$f":"IFERROR(HLOOKUP(NP$6,DEBUT!$CP$2:$DI$18,10,FALSE),\"\")","v":"x"},{"$f":"IFERROR(HLOOKUP(NP$6,DEBUT!$CP$2:$DI$18,14,FALSE),\"\")","v":"x"},null,null,null,{"$f":"IFERROR(HLOOKUP(NW$6,DEBUT!$CP$2:$DI$18,2,FALSE),\"\")","v":"x"},{"$f":"IFERROR(HLOOKUP(NW$6,DEBUT!$CP$2:$DI$18,6,FALSE),\"\")","v":"x"},{"$f":"IFERROR(HLOOKUP(NW$6,DEBUT!$CP$2:$DI$18,10,FALSE),\"\")","v":"x"},{"$f":"IFERROR(HLOOKUP(NW$6,DEBUT!$CP$2:$DI$18,14,FALSE),\"\")","v":"x"},null,null,null,null,null,{"$f":"IFERROR(HLOOKUP(OF$6,DEBUT!$CP$2:$DI$18,2,FALSE),\"\")","v":"x"},{"$f":"IFERROR(HLOOKUP(OF$6,DEBUT!$CP$2:$DI$18,6,FALSE),\"\")","v":"x"},{"$f":"IFERROR(HLOOKUP(OF$6,DEBUT!$CP$2:$DI$18,10,FALSE),\"\")","v":"x"},{"$f":"IFERROR(HLOOKUP(OF$6,DEBUT!$CP$2:$DI$18,14,FALSE),\"\")","v":"x"},null,null,null,{"$f":"IFERROR(HLOOKUP(OM$6,DEBUT!$CP$2:$DI$18,2,FALSE),\"\")","v":"x"},{"$f":"IFERROR(HLOOKUP(OM$6,DEBUT!$CP$2:$DI$18,6,FALSE),\"\")","v":"x"},{"$f":"IFERROR(HLOOKUP(OM$6,DEBUT!$CP$2:$DI$18,10,FALSE),\"\")","v":"x"},{"$f":"IFERROR(HLOOKUP(OM$6,DEBUT!$CP$2:$DI$18,14,FALSE),\"\")","v":"x"},null,null,null,null,null,null,null,{"$f":"IFERROR(HLOOKUP(OX$6,DEBUT!$CP$2:$DI$18,2,FALSE),\"\")","v":"x"},{"$f":"IFERROR(HLOOKUP(OX$6,DEBUT!$CP$2:$DI$18,6,FALSE),\"\")","v":"x"},{"$f":"IFERROR(HLOOKUP(OX$6,DEBUT!$CP$2:$DI$18,10,FALSE),\"\")","v":"x"},{"$f":"IFERROR(HLOOKUP(OX$6,DEBUT!$CP$2:$DI$18,14,FALSE),\"\")","v":"x"},null,null,null,{"$f":"IFERROR(HLOOKUP(PE$6,DEBUT!$CP$2:$DI$18,2,FALSE),\"\")","v":"x"},{"$f":"IFERROR(HLOOKUP(PE$6,DEBUT!$CP$2:$DI$18,6,FALSE),\"\")","v":"x"},{"$f":"IFERROR(HLOOKUP(PE$6,DEBUT!$CP$2:$DI$18,10,FALSE),\"\")","v":"x"},{"$f":"IFERROR(HLOOKUP(PE$6,DEBUT!$CP$2:$DI$18,14,FALSE),\"\")","v":"x"},null,null,null,null,null,{"$f":"IFERROR(HLOOKUP(PN$6,DEBUT!$CP$2:$DI$18,2,FALSE),\"\")","v":"x"},{"$f":"IFERROR(HLOOKUP(PN$6,DEBUT!$CP$2:$DI$18,6,FALSE),\"\")","v":"x"},{"$f":"IFERROR(HLOOKUP(PN$6,DEBUT!$CP$2:$DI$18,10,FALSE),\"\")","v":"x"},{"$f":"IFERROR(HLOOKUP(PN$6,DEBUT!$CP$2:$DI$18,14,FALSE),\"\")","v":"x"},null,null,null,{"$f":"IFERROR(HLOOKUP(PU$6,DEBUT!$CP$2:$DI$18,2,FALSE),\"\")","v":"x"},{"$f":"IFERROR(HLOOKUP(PU$6,DEBUT!$CP$2:$DI$18,6,FALSE),\"\")","v":"x"},{"$f":"IFERROR(HLOOKUP(PU$6,DEBUT!$CP$2:$DI$18,10,FALSE),\"\")","v":"x"},{"$f":"IFERROR(HLOOKUP(PU$6,DEBUT!$CP$2:$DI$18,14,FALSE),\"\")","v":"x"},null,null,null,null,null,null,null,{"$f":"IFERROR(HLOOKUP(QF$6,DEBUT!$CP$2:$DI$18,2,FALSE),\"\")","v":"x"},{"$f":"IFERROR(HLOOKUP(QF$6,DEBUT!$CP$2:$DI$18,6,FALSE),\"\")","v":"x"},{"$f":"IFERROR(HLOOKUP(QF$6,DEBUT!$CP$2:$DI$18,10,FALSE),\"\")","v":"x"},{"$f":"IFERROR(HLOOKUP(QF$6,DEBUT!$CP$2:$DI$18,14,FALSE),\"\")","v":"x"},null,null,null,{"$f":"IFERROR(HLOOKUP(QM$6,DEBUT!$CP$2:$DI$18,2,FALSE),\"\")","v":"x"},{"$f":"IFERROR(HLOOKUP(QM$6,DEBUT!$CP$2:$DI$18,6,FALSE),\"\")","v":"x"},{"$f":"IFERROR(HLOOKUP(QM$6,DEBUT!$CP$2:$DI$18,10,FALSE),\"\")","v":"x"},{"$f":"IFERROR(HLOOKUP(QM$6,DEBUT!$CP$2:$DI$18,14,FALSE),\"\")","v":"x"},null,null,null,null,null,{"$f":"IFERROR(HLOOKUP(QV$6,DEBUT!$CP$2:$DI$18,2,FALSE),\"\")","v":"x"},{"$f":"IFERROR(HLOOKUP(QV$6,DEBUT!$CP$2:$DI$18,6,FALSE),\"\")","v":"x"},{"$f":"IFERROR(HLOOKUP(QV$6,DEBUT!$CP$2:$DI$18,10,FALSE),\"\")","v":"x"},{"$f":"IFERROR(HLOOKUP(QV$6,DEBUT!$CP$2:$DI$18,14,FALSE),\"\")","v":"x"},null,null,null,{"$f":"IFERROR(HLOOKUP(RC$6,DEBUT!$CP$2:$DI$18,2,FALSE),\"\")","v":"x"},{"$f":"IFERROR(HLOOKUP(RC$6,DEBUT!$CP$2:$DI$18,6,FALSE),\"\")","v":"x"},{"$f":"IFERROR(HLOOKUP(RC$6,DEBUT!$CP$2:$DI$18,10,FALSE),\"\")","v":"x"},{"$f":"IFERROR(HLOOKUP(RC$6,DEBUT!$CP$2:$DI$18,14,FALSE),\"\")","v":"x"},null,null,null,null,null,null,null,{"$f":"IFERROR(HLOOKUP(RN$6,DEBUT!$CP$2:$DI$18,2,FALSE),\"\")","v":"x"},{"$f":"IFERROR(HLOOKUP(RN$6,DEBUT!$CP$2:$DI$18,6,FALSE),\"\")","v":"x"},{"$f":"IFERROR(HLOOKUP(RN$6,DEBUT!$CP$2:$DI$18,10,FALSE),\"\")","v":"x"},{"$f":"IFERROR(HLOOKUP(RN$6,DEBUT!$CP$2:$DI$18,14,FALSE),\"\")","v":"x"},null,null,null,{"$f":"IFERROR(HLOOKUP(RU$6,DEBUT!$CP$2:$DI$18,2,FALSE),\"\")","v":"x"},{"$f":"IFERROR(HLOOKUP(RU$6,DEBUT!$CP$2:$DI$18,6,FALSE),\"\")","v":"x"},{"$f":"IFERROR(HLOOKUP(RU$6,DEBUT!$CP$2:$DI$18,10,FALSE),\"\")","v":"x"},{"$f":"IFERROR(HLOOKUP(RU$6,DEBUT!$CP$2:$DI$18,14,FALSE),\"\")","v":"x"},null,null,null,null,null,{"$f":"IFERROR(HLOOKUP(SD$6,DEBUT!$CP$2:$DI$18,2,FALSE),\"\")","v":"x"},{"$f":"IFERROR(HLOOKUP(SD$6,DEBUT!$CP$2:$DI$18,6,FALSE),\"\")","v":"x"},{"$f":"IFERROR(HLOOKUP(SD$6,DEBUT!$CP$2:$DI$18,10,FALSE),\"\")","v":"x"},{"$f":"IFERROR(HLOOKUP(SD$6,DEBUT!$CP$2:$DI$18,14,FALSE),\"\")","v":"x"},null,null,null,{"$f":"IFERROR(HLOOKUP(SK$6,DEBUT!$CP$2:$DI$18,2,FALSE),\"\")","v":"x"},{"$f":"IFERROR(HLOOKUP(SK$6,DEBUT!$CP$2:$DI$18,6,FALSE),\"\")","v":"x"},{"$f":"IFERROR(HLOOKUP(SK$6,DEBUT!$CP$2:$DI$18,10,FALSE),\"\")","v":"x"},{"$f":"IFERROR(HLOOKUP(SK$6,DEBUT!$CP$2:$DI$18,14,FALSE),\"\")","v":"x"},null,null,null,null,null,null,null,{"$f":"IFERROR(HLOOKUP(SV$6,DEBUT!$CP$2:$DI$18,2,FALSE),\"\")","v":"x"},{"$f":"IFERROR(HLOOKUP(SV$6,DEBUT!$CP$2:$DI$18,6,FALSE),\"\")","v":"x"},{"$f":"IFERROR(HLOOKUP(SV$6,DEBUT!$CP$2:$DI$18,10,FALSE),\"\")","v":"x"},{"$f":"IFERROR(HLOOKUP(SV$6,DEBUT!$CP$2:$DI$18,14,FALSE),\"\")","v":"x"},null,null,null,{"$f":"IFERROR(HLOOKUP(TC$6,DEBUT!$CP$2:$DI$18,2,FALSE),\"\")","v":"x"},{"$f":"IFERROR(HLOOKUP(TC$6,DEBUT!$CP$2:$DI$18,6,FALSE),\"\")","v":"x"},{"$f":"IFERROR(HLOOKUP(TC$6,DEBUT!$CP$2:$DI$18,10,FALSE),\"\")","v":"x"},{"$f":"IFERROR(HLOOKUP(TC$6,DEBUT!$CP$2:$DI$18,14,FALSE),\"\")","v":"x"},null,null,null,null,null,{"$f":"IFERROR(HLOOKUP(TL$6,DEBUT!$CP$2:$DI$18,2,FALSE),\"\")","v":"x"},{"$f":"IFERROR(HLOOKUP(TL$6,DEBUT!$CP$2:$DI$18,6,FALSE),\"\")","v":"x"},{"$f":"IFERROR(HLOOKUP(TL$6,DEBUT!$CP$2:$DI$18,10,FALSE),\"\")","v":"x"},{"$f":"IFERROR(HLOOKUP(TL$6,DEBUT!$CP$2:$DI$18,14,FALSE),\"\")","v":"x"},null,null,null,{"$f":"IFERROR(HLOOKUP(TS$6,DEBUT!$CP$2:$DI$18,2,FALSE),\"\")","v":"x"},{"$f":"IFERROR(HLOOKUP(TS$6,DEBUT!$CP$2:$DI$18,6,FALSE),\"\")","v":"x"},{"$f":"IFERROR(HLOOKUP(TS$6,DEBUT!$CP$2:$DI$18,10,FALSE),\"\")","v":"x"},{"$f":"IFERROR(HLOOKUP(TS$6,DEBUT!$CP$2:$DI$18,14,FALSE),\"\")","v":"x"},null,null,null,null,null,null,null,{"$f":"IFERROR(HLOOKUP(UD$6,DEBUT!$CP$2:$DI$18,2,FALSE),\"\")","v":"x"},{"$f":"IFERROR(HLOOKUP(UD$6,DEBUT!$CP$2:$DI$18,6,FALSE),\"\")","v":"x"},{"$f":"IFERROR(HLOOKUP(UD$6,DEBUT!$CP$2:$DI$18,10,FALSE),\"\")","v":"x"},{"$f":"IFERROR(HLOOKUP(UD$6,DEBUT!$CP$2:$DI$18,14,FALSE),\"\")","v":"x"},null,null,null,{"$f":"IFERROR(HLOOKUP(UK$6,DEBUT!$CP$2:$DI$18,2,FALSE),\"\")","v":"x"},{"$f":"IFERROR(HLOOKUP(UK$6,DEBUT!$CP$2:$DI$18,6,FALSE),\"\")","v":"x"},{"$f":"IFERROR(HLOOKUP(UK$6,DEBUT!$CP$2:$DI$18,10,FALSE),\"\")","v":"x"},{"$f":"IFERROR(HLOOKUP(UK$6,DEBUT!$CP$2:$DI$18,14,FALSE),\"\")","v":"x"},null,null,null,null,null,{"$f":"IFERROR(HLOOKUP(UT$6,DEBUT!$CP$2:$DI$18,2,FALSE),\"\")","v":"x"},{"$f":"IFERROR(HLOOKUP(UT$6,DEBUT!$CP$2:$DI$18,6,FALSE),\"\")","v":"x"},{"$f":"IFERROR(HLOOKUP(UT$6,DEBUT!$CP$2:$DI$18,10,FALSE),\"\")","v":"x"},{"$f":"IFERROR(HLOOKUP(UT$6,DEBUT!$CP$2:$DI$18,14,FALSE),\"\")","v":"x"},null,null,null,{"$f":"IFERROR(HLOOKUP(VA$6,DEBUT!$CP$2:$DI$18,2,FALSE),\"\")","v":"x"},{"$f":"IFERROR(HLOOKUP(VA$6,DEBUT!$CP$2:$DI$18,6,FALSE),\"\")","v":"x"},{"$f":"IFERROR(HLOOKUP(VA$6,DEBUT!$CP$2:$DI$18,10,FALSE),\"\")","v":"x"},{"$f":"IFERROR(HLOOKUP(VA$6,DEBUT!$CP$2:$DI$18,14,FALSE),\"\")","v":"x"},null,null,null,null,null,null,null,{"$f":"IFERROR(HLOOKUP(VL$6,DEBUT!$CP$2:$DI$18,2,FALSE),\"\")","v":"x"},{"$f":"IFERROR(HLOOKUP(VL$6,DEBUT!$CP$2:$DI$18,6,FALSE),\"\")","v":"x"},{"$f":"IFERROR(HLOOKUP(VL$6,DEBUT!$CP$2:$DI$18,10,FALSE),\"\")","v":"x"},{"$f":"IFERROR(HLOOKUP(VL$6,DEBUT!$CP$2:$DI$18,14,FALSE),\"\")","v":"x"},null,null,null,{"$f":"IFERROR(HLOOKUP(VS$6,DEBUT!$CP$2:$DI$18,2,FALSE),\"\")","v":"x"},{"$f":"IFERROR(HLOOKUP(VS$6,DEBUT!$CP$2:$DI$18,6,FALSE),\"\")","v":"x"},{"$f":"IFERROR(HLOOKUP(VS$6,DEBUT!$CP$2:$DI$18,10,FALSE),\"\")","v":"x"},{"$f":"IFERROR(HLOOKUP(VS$6,DEBUT!$CP$2:$DI$18,14,FALSE),\"\")","v":"x"},null,null,null,null,null,{"$f":"IFERROR(HLOOKUP(WB$6,DEBUT!$CP$2:$DI$18,2,FALSE),\"\")","v":"x"},{"$f":"IFERROR(HLOOKUP(WB$6,DEBUT!$CP$2:$DI$18,6,FALSE),\"\")","v":"x"},{"$f":"IFERROR(HLOOKUP(WB$6,DEBUT!$CP$2:$DI$18,10,FALSE),\"\")","v":"x"},{"$f":"IFERROR(HLOOKUP(WB$6,DEBUT!$CP$2:$DI$18,14,FALSE),\"\")","v":"x"},null,null,null,{"$f":"IFERROR(HLOOKUP(WI$6,DEBUT!$CP$2:$DI$18,2,FALSE),\"\")","v":"x"},{"$f":"IFERROR(HLOOKUP(WI$6,DEBUT!$CP$2:$DI$18,6,FALSE),\"\")","v":"x"},{"$f":"IFERROR(HLOOKUP(WI$6,DEBUT!$CP$2:$DI$18,10,FALSE),\"\")","v":"x"},{"$f":"IFERROR(HLOOKUP(WI$6,DEBUT!$CP$2:$DI$18,14,FALSE),\"\")","v":"x"},null,null,null,null,null,null,null,{"$f":"IFERROR(HLOOKUP(WT$6,DEBUT!$CP$2:$DI$18,2,FALSE),\"\")","v":"x"},{"$f":"IFERROR(HLOOKUP(WT$6,DEBUT!$CP$2:$DI$18,6,FALSE),\"\")","v":"x"},{"$f":"IFERROR(HLOOKUP(WT$6,DEBUT!$CP$2:$DI$18,10,FALSE),\"\")","v":"x"},{"$f":"IFERROR(HLOOKUP(WT$6,DEBUT!$CP$2:$DI$18,14,FALSE),\"\")","v":"x"},null,null,null,{"$f":"IFERROR(HLOOKUP(XA$6,DEBUT!$CP$2:$DI$18,2,FALSE),\"\")","v":"x"},{"$f":"IFERROR(HLOOKUP(XA$6,DEBUT!$CP$2:$DI$18,6,FALSE),\"\")","v":"x"},{"$f":"IFERROR(HLOOKUP(XA$6,DEBUT!$CP$2:$DI$18,10,FALSE),\"\")","v":"x"},{"$f":"IFERROR(HLOOKUP(XA$6,DEBUT!$CP$2:$DI$18,14,FALSE),\"\")","v":"x"},null,null,null,null,null,{"$f":"IFERROR(HLOOKUP(XJ$6,DEBUT!$CP$2:$DI$18,2,FALSE),\"\")","v":"x"},{"$f":"IFERROR(HLOOKUP(XJ$6,DEBUT!$CP$2:$DI$18,6,FALSE),\"\")","v":"x"},{"$f":"IFERROR(HLOOKUP(XJ$6,DEBUT!$CP$2:$DI$18,10,FALSE),\"\")","v":"x"},{"$f":"IFERROR(HLOOKUP(XJ$6,DEBUT!$CP$2:$DI$18,14,FALSE),\"\")","v":"x"},null,null,null,{"$f":"IFERROR(HLOOKUP(XQ$6,DEBUT!$CP$2:$DI$18,2,FALSE),\"\")","v":"x"},{"$f":"IFERROR(HLOOKUP(XQ$6,DEBUT!$CP$2:$DI$18,6,FALSE),\"\")","v":"x"},{"$f":"IFERROR(HLOOKUP(XQ$6,DEBUT!$CP$2:$DI$18,10,FALSE),\"\")","v":"x"},{"$f":"IFERROR(HLOOKUP(XQ$6,DEBUT!$CP$2:$DI$18,14,FALSE),\"\")","v":"x"},null,null,null,null,null,null,null,{"$f":"IFERROR(HLOOKUP(YB$6,DEBUT!$CP$2:$DI$18,2,FALSE),\"\")","v":"x"},{"$f":"IFERROR(HLOOKUP(YB$6,DEBUT!$CP$2:$DI$18,6,FALSE),\"\")","v":"x"},{"$f":"IFERROR(HLOOKUP(YB$6,DEBUT!$CP$2:$DI$18,10,FALSE),\"\")","v":"x"},{"$f":"IFERROR(HLOOKUP(YB$6,DEBUT!$CP$2:$DI$18,14,FALSE),\"\")","v":"x"},null,null,null,{"$f":"IFERROR(HLOOKUP(YI$6,DEBUT!$CP$2:$DI$18,2,FALSE),\"\")","v":"x"},{"$f":"IFERROR(HLOOKUP(YI$6,DEBUT!$CP$2:$DI$18,6,FALSE),\"\")","v":"x"},{"$f":"IFERROR(HLOOKUP(YI$6,DEBUT!$CP$2:$DI$18,10,FALSE),\"\")","v":"x"},{"$f":"IFERROR(HLOOKUP(YI$6,DEBUT!$CP$2:$DI$18,14,FALSE),\"\")","v":"x"},null,null,null,null,null,{"$f":"IFERROR(HLOOKUP(YR$6,DEBUT!$CP$2:$DI$18,2,FALSE),\"\")","v":"x"},{"$f":"IFERROR(HLOOKUP(YR$6,DEBUT!$CP$2:$DI$18,6,FALSE),\"\")","v":"x"},{"$f":"IFERROR(HLOOKUP(YR$6,DEBUT!$CP$2:$DI$18,10,FALSE),\"\")","v":"x"},{"$f":"IFERROR(HLOOKUP(YR$6,DEBUT!$CP$2:$DI$18,14,FALSE),\"\")","v":"x"},null,null,null,{"$f":"IFERROR(HLOOKUP(YY$6,DEBUT!$CP$2:$DI$18,2,FALSE),\"\")","v":"x"},{"$f":"IFERROR(HLOOKUP(YY$6,DEBUT!$CP$2:$DI$18,6,FALSE),\"\")","v":"x"},{"$f":"IFERROR(HLOOKUP(YY$6,DEBUT!$CP$2:$DI$18,10,FALSE),\"\")","v":"x"},{"$f":"IFERROR(HLOOKUP(YY$6,DEBUT!$CP$2:$DI$18,14,FALSE),\"\")","v":"x"},null,null,null,null,null,null,null,{"$f":"IFERROR(HLOOKUP(ZJ$6,DEBUT!$CP$2:$DI$18,2,FALSE),\"\")","v":"x"},{"$f":"IFERROR(HLOOKUP(ZJ$6,DEBUT!$CP$2:$DI$18,6,FALSE),\"\")","v":"x"},{"$f":"IFERROR(HLOOKUP(ZJ$6,DEBUT!$CP$2:$DI$18,10,FALSE),\"\")","v":"x"},{"$f":"IFERROR(HLOOKUP(ZJ$6,DEBUT!$CP$2:$DI$18,14,FALSE),\"\")","v":"x"},null,null,null,{"$f":"IFERROR(HLOOKUP(ZQ$6,DEBUT!$CP$2:$DI$18,2,FALSE),\"\")","v":"x"},{"$f":"IFERROR(HLOOKUP(ZQ$6,DEBUT!$CP$2:$DI$18,6,FALSE),\"\")","v":"x"},{"$f":"IFERROR(HLOOKUP(ZQ$6,DEBUT!$CP$2:$DI$18,10,FALSE),\"\")","v":"x"},{"$f":"IFERROR(HLOOKUP(ZQ$6,DEBUT!$CP$2:$DI$18,14,FALSE),\"\")","v":"x"},null,null,null,null,null,{"$f":"IFERROR(HLOOKUP(ZZ$6,DEBUT!$CP$2:$DI$18,2,FALSE),\"\")","v":"x"},{"$f":"IFERROR(HLOOKUP(ZZ$6,DEBUT!$CP$2:$DI$18,6,FALSE),\"\")","v":"x"},{"$f":"IFERROR(HLOOKUP(ZZ$6,DEBUT!$CP$2:$DI$18,10,FALSE),\"\")","v":"x"},{"$f":"IFERROR(HLOOKUP(ZZ$6,DEBUT!$CP$2:$DI$18,14,FALSE),\"\")","v":"x"},null,null,null,{"$f":"IFERROR(HLOOKUP(AAG$6,DEBUT!$CP$2:$DI$18,2,FALSE),\"\")","v":"x"},{"$f":"IFERROR(HLOOKUP(AAG$6,DEBUT!$CP$2:$DI$18,6,FALSE),\"\")","v":"x"},{"$f":"IFERROR(HLOOKUP(AAG$6,DEBUT!$CP$2:$DI$18,10,FALSE),\"\")","v":"x"},{"$f":"IFERROR(HLOOKUP(AAG$6,DEBUT!$CP$2:$DI$18,14,FALSE),\"\")","v":"x"},null,null,null,null,null,null,null,{"$f":"IFERROR(HLOOKUP(AAR$6,DEBUT!$CP$2:$DI$18,2,FALSE),\"\")","v":"x"},{"$f":"IFERROR(HLOOKUP(AAR$6,DEBUT!$CP$2:$DI$18,6,FALSE),\"\")","v":"x"},{"$f":"IFERROR(HLOOKUP(AAR$6,DEBUT!$CP$2:$DI$18,10,FALSE),\"\")","v":"x"},{"$f":"IFERROR(HLOOKUP(AAR$6,DEBUT!$CP$2:$DI$18,14,FALSE),\"\")","v":"x"},null,null,null,{"$f":"IFERROR(HLOOKUP(AAY$6,DEBUT!$CP$2:$DI$18,2,FALSE),\"\")","v":"x"},{"$f":"IFERROR(HLOOKUP(AAY$6,DEBUT!$CP$2:$DI$18,6,FALSE),\"\")","v":"x"},{"$f":"IFERROR(HLOOKUP(AAY$6,DEBUT!$CP$2:$DI$18,10,FALSE),\"\")","v":"x"},{"$f":"IFERROR(HLOOKUP(AAY$6,DEBUT!$CP$2:$DI$18,14,FALSE),\"\")","v":"x"},null,null,null,null,null,{"$f":"IFERROR(HLOOKUP(ABH$6,DEBUT!$CP$2:$DI$18,2,FALSE),\"\")","v":"x"},{"$f":"IFERROR(HLOOKUP(ABH$6,DEBUT!$CP$2:$DI$18,6,FALSE),\"\")","v":"x"},{"$f":"IFERROR(HLOOKUP(ABH$6,DEBUT!$CP$2:$DI$18,10,FALSE),\"\")","v":"x"},{"$f":"IFERROR(HLOOKUP(ABH$6,DEBUT!$CP$2:$DI$18,14,FALSE),\"\")","v":"x"},null,null,null,{"$f":"IFERROR(HLOOKUP(ABO$6,DEBUT!$CP$2:$DI$18,2,FALSE),\"\")","v":"x"},{"$f":"IFERROR(HLOOKUP(ABO$6,DEBUT!$CP$2:$DI$18,6,FALSE),\"\")","v":"x"},{"$f":"IFERROR(HLOOKUP(ABO$6,DEBUT!$CP$2:$DI$18,10,FALSE),\"\")","v":"x"},{"$f":"IFERROR(HLOOKUP(ABO$6,DEBUT!$CP$2:$DI$18,14,FALSE),\"\")","v":"x"},null,null,null,null,null,null,null,{"$f":"IFERROR(HLOOKUP(ABZ$6,DEBUT!$CP$2:$DI$18,2,FALSE),\"\")","v":"x"},{"$f":"IFERROR(HLOOKUP(ABZ$6,DEBUT!$CP$2:$DI$18,6,FALSE),\"\")","v":"x"},{"$f":"IFERROR(HLOOKUP(ABZ$6,DEBUT!$CP$2:$DI$18,10,FALSE),\"\")","v":"x"},{"$f":"IFERROR(HLOOKUP(ABZ$6,DEBUT!$CP$2:$DI$18,14,FALSE),\"\")","v":"x"},null,null,null,{"$f":"IFERROR(HLOOKUP(ACG$6,DEBUT!$CP$2:$DI$18,2,FALSE),\"\")","v":"x"},{"$f":"IFERROR(HLOOKUP(ACG$6,DEBUT!$CP$2:$DI$18,6,FALSE),\"\")","v":"x"},{"$f":"IFERROR(HLOOKUP(ACG$6,DEBUT!$CP$2:$DI$18,10,FALSE),\"\")","v":"x"},{"$f":"IFERROR(HLOOKUP(ACG$6,DEBUT!$CP$2:$DI$18,14,FALSE),\"\")","v":"x"},null,null,null,null,null,{"$f":"IFERROR(HLOOKUP(ACP$6,DEBUT!$CP$2:$DI$18,2,FALSE),\"\")","v":"x"},{"$f":"IFERROR(HLOOKUP(ACP$6,DEBUT!$CP$2:$DI$18,6,FALSE),\"\")","v":"x"},{"$f":"IFERROR(HLOOKUP(ACP$6,DEBUT!$CP$2:$DI$18,10,FALSE),\"\")","v":"x"},{"$f":"IFERROR(HLOOKUP(ACP$6,DEBUT!$CP$2:$DI$18,14,FALSE),\"\")","v":"x"},null,null,null,{"$f":"IFERROR(HLOOKUP(ACW$6,DEBUT!$CP$2:$DI$18,2,FALSE),\"\")","v":"x"},{"$f":"IFERROR(HLOOKUP(ACW$6,DEBUT!$CP$2:$DI$18,6,FALSE),\"\")","v":"x"},{"$f":"IFERROR(HLOOKUP(ACW$6,DEBUT!$CP$2:$DI$18,10,FALSE),\"\")","v":"x"},{"$f":"IFERROR(HLOOKUP(ACW$6,DEBUT!$CP$2:$DI$18,14,FALSE),\"\")","v":"x"},null,null,null,null,null,null,null,{"$f":"IFERROR(HLOOKUP(ADH$6,DEBUT!$CP$2:$DI$18,2,FALSE),\"\")","v":"x"},{"$f":"IFERROR(HLOOKUP(ADH$6,DEBUT!$CP$2:$DI$18,6,FALSE),\"\")","v":"x"},{"$f":"IFERROR(HLOOKUP(ADH$6,DEBUT!$CP$2:$DI$18,10,FALSE),\"\")","v":"x"},{"$f":"IFERROR(HLOOKUP(ADH$6,DEBUT!$CP$2:$DI$18,14,FALSE),\"\")","v":"x"},null,null,null,{"$f":"IFERROR(HLOOKUP(ADO$6,DEBUT!$CP$2:$DI$18,2,FALSE),\"\")","v":"x"},{"$f":"IFERROR(HLOOKUP(ADO$6,DEBUT!$CP$2:$DI$18,6,FALSE),\"\")","v":"x"},{"$f":"IFERROR(HLOOKUP(ADO$6,DEBUT!$CP$2:$DI$18,10,FALSE),\"\")","v":"x"},{"$f":"IFERROR(HLOOKUP(ADO$6,DEBUT!$CP$2:$DI$18,14,FALSE),\"\")","v":"x"},null,null,null,null,null,{"$f":"IFERROR(HLOOKUP(ADX$6,DEBUT!$CP$2:$DI$18,2,FALSE),\"\")","v":"x"},{"$f":"IFERROR(HLOOKUP(ADX$6,DEBUT!$CP$2:$DI$18,6,FALSE),\"\")","v":"x"},{"$f":"IFERROR(HLOOKUP(ADX$6,DEBUT!$CP$2:$DI$18,10,FALSE),\"\")","v":"x"},{"$f":"IFERROR(HLOOKUP(ADX$6,DEBUT!$CP$2:$DI$18,14,FALSE),\"\")","v":"x"},null,null,null,{"$f":"IFERROR(HLOOKUP(AEE$6,DEBUT!$CP$2:$DI$18,2,FALSE),\"\")","v":"x"},{"$f":"IFERROR(HLOOKUP(AEE$6,DEBUT!$CP$2:$DI$18,6,FALSE),\"\")","v":"x"},{"$f":"IFERROR(HLOOKUP(AEE$6,DEBUT!$CP$2:$DI$18,10,FALSE),\"\")","v":"x"},{"$f":"IFERROR(HLOOKUP(AEE$6,DEBUT!$CP$2:$DI$18,14,FALSE),\"\")","v":"x"}]
[null,null,null,null,null,{"$f":"IFERROR(HLOOKUP(F$6,DEBUT!$CP$2:$DI$18,3,FALSE),\"\")","v":"X"},{"$f":"IFERROR(HLOOKUP(F$6,DEBUT!$CP$2:$DI$18,7,FALSE),\"\")","v":"X"},{"$f":"IFERROR(HLOOKUP(F$6,DEBUT!$CP$2:$DI$18,11,FALSE),\"\")","v":"X"},{"$f":"IFERROR(HLOOKUP(F$6,DEBUT!$CP$2:$DI$18,15,FALSE),\"\")","v":"X"},null,null,null,{"$f":"IFERROR(HLOOKUP(M$6,DEBUT!$CP$2:$DI$18,3,FALSE),\"\")","v":"X"},{"$f":"IFERROR(HLOOKUP(M$6,DEBUT!$CP$2:$DI$18,7,FALSE),\"\")","v":"X"},{"$f":"IFERROR(HLOOKUP(M$6,DEBUT!$CP$2:$DI$18,11,FALSE),\"\")","v":"X"},{"$f":"IFERROR(HLOOKUP(M$6,DEBUT!$CP$2:$DI$18,15,FALSE),\"\")","v":"X"},null,null,null,null,null,{"$f":"IFERROR(HLOOKUP(V$6,DEBUT!$CP$2:$DI$18,3,FALSE),\"\")","v":"X"},{"$f":"IFERROR(HLOOKUP(V$6,DEBUT!$CP$2:$DI$18,7,FALSE),\"\")","v":"X"},{"$f":"IFERROR(HLOOKUP(V$6,DEBUT!$CP$2:$DI$18,11,FALSE),\"\")","v":"X"},{"$f":"IFERROR(HLOOKUP(V$6,DEBUT!$CP$2:$DI$18,15,FALSE),\"\")","v":"X"},null,null,null,{"$f":"IFERROR(HLOOKUP(AC$6,DEBUT!$CP$2:$DI$18,3,FALSE),\"\")","v":"X"},{"$f":"IFERROR(HLOOKUP(AC$6,DEBUT!$CP$2:$DI$18,7,FALSE),\"\")","v":"X"},{"$f":"IFERROR(HLOOKUP(AC$6,DEBUT!$CP$2:$DI$18,11,FALSE),\"\")","v":"X"},{"$f":"IFERROR(HLOOKUP(AC$6,DEBUT!$CP$2:$DI$18,15,FALSE),\"\")","v":"X"},null,null,null,null,null,null,null,{"$f":"IFERROR(HLOOKUP(AN$6,DEBUT!$CP$2:$DI$18,3,FALSE),\"\")","v":"X"},{"$f":"IFERROR(HLOOKUP(AN$6,DEBUT!$CP$2:$DI$18,7,FALSE),\"\")","v":"X"},{"$f":"IFERROR(HLOOKUP(AN$6,DEBUT!$CP$2:$DI$18,11,FALSE),\"\")","v":"X"},{"$f":"IFERROR(HLOOKUP(AN$6,DEBUT!$CP$2:$DI$18,15,FALSE),\"\")","v":"X"},null,null,null,{"$f":"IFERROR(HLOOKUP(AU$6,DEBUT!$CP$2:$DI$18,3,FALSE),\"\")","v":"X"},{"$f":"IFERROR(HLOOKUP(AU$6,DEBUT!$CP$2:$DI$18,7,FALSE),\"\")","v":"X"},{"$f":"IFERROR(HLOOKUP(AU$6,DEBUT!$CP$2:$DI$18,11,FALSE),\"\")","v":"X"},{"$f":"IFERROR(HLOOKUP(AU$6,DEBUT!$CP$2:$DI$18,15,FALSE),\"\")","v":"X"},null,null,null,null,null,{"$f":"IFERROR(HLOOKUP(BD$6,DEBUT!$CP$2:$DI$18,3,FALSE),\"\")","v":"X"},{"$f":"IFERROR(HLOOKUP(BD$6,DEBUT!$CP$2:$DI$18,7,FALSE),\"\")","v":"X"},{"$f":"IFERROR(HLOOKUP(BD$6,DEBUT!$CP$2:$DI$18,11,FALSE),\"\")","v":"X"},{"$f":"IFERROR(HLOOKUP(BD$6,DEBUT!$CP$2:$DI$18,15,FALSE),\"\")","v":"X"},null,null,null,{"$f":"IFERROR(HLOOKUP(BK$6,DEBUT!$CP$2:$DI$18,3,FALSE),\"\")","v":"X"},{"$f":"IFERROR(HLOOKUP(BK$6,DEBUT!$CP$2:$DI$18,7,FALSE),\"\")","v":"X"},{"$f":"IFERROR(HLOOKUP(BK$6,DEBUT!$CP$2:$DI$18,11,FALSE),\"\")","v":"X"},{"$f":"IFERROR(HLOOKUP(BK$6,DEBUT!$CP$2:$DI$18,15,FALSE),\"\")","v":"X"},null,null,null,null,null,null,null,{"$f":"IFERROR(HLOOKUP(BV$6,DEBUT!$CP$2:$DI$18,3,FALSE),\"\")","v":"X"},{"$f":"IFERROR(HLOOKUP(BV$6,DEBUT!$CP$2:$DI$18,7,FALSE),\"\")","v":"X"},{"$f":"IFERROR(HLOOKUP(BV$6,DEBUT!$CP$2:$DI$18,11,FALSE),\"\")","v":"X"},{"$f":"IFERROR(HLOOKUP(BV$6,DEBUT!$CP$2:$DI$18,15,FALSE),\"\")","v":"X"},null,null,null,{"$f":"IFERROR(HLOOKUP(CC$6,DEBUT!$CP$2:$DI$18,3,FALSE),\"\")","v":"X"},{"$f":"IFERROR(HLOOKUP(CC$6,DEBUT!$CP$2:$DI$18,7,FALSE),\"\")","v":"X"},{"$f":"IFERROR(HLOOKUP(CC$6,DEBUT!$CP$2:$DI$18,11,FALSE),\"\")","v":"X"},{"$f":"IFERROR(HLOOKUP(CC$6,DEBUT!$CP$2:$DI$18,15,FALSE),\"\")","v":"X"},null,null,null,null,null,{"$f":"IFERROR(HLOOKUP(CL$6,DEBUT!$CP$2:$DI$18,3,FALSE),\"\")","v":"X"},{"$f":"IFERROR(HLOOKUP(CL$6,DEBUT!$CP$2:$DI$18,7,FALSE),\"\")","v":"X"},{"$f":"IFERROR(HLOOKUP(CL$6,DEBUT!$CP$2:$DI$18,11,FALSE),\"\")","v":"X"},{"$f":"IFERROR(HLOOKUP(CL$6,DEBUT!$CP$2:$DI$18,15,FALSE),\"\")","v":"X"},null,null,null,{"$f":"IFERROR(HLOOKUP(CS$6,DEBUT!$CP$2:$DI$18,3,FALSE),\"\")","v":"X"},{"$f":"IFERROR(HLOOKUP(CS$6,DEBUT!$CP$2:$DI$18,7,FALSE),\"\")","v":"X"},{"$f":"IFERROR(HLOOKUP(CS$6,DEBUT!$CP$2:$DI$18,11,FALSE),\"\")","v":"X"},{"$f":"IFERROR(HLOOKUP(CS$6,DEBUT!$CP$2:$DI$18,15,FALSE),\"\")","v":"X"},null,null,null,null,null,null,null,{"$f":"IFERROR(HLOOKUP(DD$6,DEBUT!$CP$2:$DI$18,3,FALSE),\"\")","v":"X"},{"$f":"IFERROR(HLOOKUP(DD$6,DEBUT!$CP$2:$DI$18,7,FALSE),\"\")","v":"X"},{"$f":"IFERROR(HLOOKUP(DD$6,DEBUT!$CP$2:$DI$18,11,FALSE),\"\")","v":"X"},{"$f":"IFERROR(HLOOKUP(DD$6,DEBUT!$CP$2:$DI$18,15,FALSE),\"\")","v":"X"},null,null,null,{"$f":"IFERROR(HLOOKUP(DK$6,DEBUT!$CP$2:$DI$18,3,FALSE),\"\")","v":"X"},{"$f":"IFERROR(HLOOKUP(DK$6,DEBUT!$CP$2:$DI$18,7,FALSE),\"\")","v":"X"},{"$f":"IFERROR(HLOOKUP(DK$6,DEBUT!$CP$2:$DI$18,11,FALSE),\"\")","v":"X"},{"$f":"IFERROR(HLOOKUP(DK$6,DEBUT!$CP$2:$DI$18,15,FALSE),\"\")","v":"X"},null,null,null,null,null,{"$f":"IFERROR(HLOOKUP(DT$6,DEBUT!$CP$2:$DI$18,3,FALSE),\"\")","v":"X"},{"$f":"IFERROR(HLOOKUP(DT$6,DEBUT!$CP$2:$DI$18,7,FALSE),\"\")","v":"X"},{"$f":"IFERROR(HLOOKUP(DT$6,DEBUT!$CP$2:$DI$18,11,FALSE),\"\")","v":"X"},{"$f":"IFERROR(HLOOKUP(DT$6,DEBUT!$CP$2:$DI$18,15,FALSE),\"\")","v":"X"},null,null,null,{"$f":"IFERROR(HLOOKUP(EA$6,DEBUT!$CP$2:$DI$18,3,FALSE),\"\")","v":"X"},{"$f":"IFERROR(HLOOKUP(EA$6,DEBUT!$CP$2:$DI$18,7,FALSE),\"\")","v":"X"},{"$f":"IFERROR(HLOOKUP(EA$6,DEBUT!$CP$2:$DI$18,11,FALSE),\"\")","v":"X"},{"$f":"IFERROR(HLOOKUP(EA$6,DEBUT!$CP$2:$DI$18,15,FALSE),\"\")","v":"X"},null,null,null,null,null,null,null,{"$f":"IFERROR(HLOOKUP(EL$6,DEBUT!$CP$2:$DI$18,3,FALSE),\"\")","v":"X"},{"$f":"IFERROR(HLOOKUP(EL$6,DEBUT!$CP$2:$DI$18,7,FALSE),\"\")","v":"X"},{"$f":"IFERROR(HLOOKUP(EL$6,DEBUT!$CP$2:$DI$18,11,FALSE),\"\")","v":"X"},{"$f":"IFERROR(HLOOKUP(EL$6,DEBUT!$CP$2:$DI$18,15,FALSE),\"\")","v":"X"},null,null,null,{"$f":"IFERROR(HLOOKUP(ES$6,DEBUT!$CP$2:$DI$18,3,FALSE),\"\")","v":"X"},{"$f":"IFERROR(HLOOKUP(ES$6,DEBUT!$CP$2:$DI$18,7,FALSE),\"\")","v":"X"},{"$f":"IFERROR(HLOOKUP(ES$6,DEBUT!$CP$2:$DI$18,11,FALSE),\"\")","v":"X"},{"$f":"IFERROR(HLOOKUP(ES$6,DEBUT!$CP$2:$DI$18,15,FALSE),\"\")","v":"X"},null,null,null,null,null,{"$f":"IFERROR(HLOOKUP(FB$6,DEBUT!$CP$2:$DI$18,3,FALSE),\"\")","v":"X"},{"$f":"IFERROR(HLOOKUP(FB$6,DEBUT!$CP$2:$DI$18,7,FALSE),\"\")","v":"X"},{"$f":"IFERROR(HLOOKUP(FB$6,DEBUT!$CP$2:$DI$18,11,FALSE),\"\")","v":"X"},{"$f":"IFERROR(HLOOKUP(FB$6,DEBUT!$CP$2:$DI$18,15,FALSE),\"\")","v":"X"},null,null,null,{"$f":"IFERROR(HLOOKUP(FI$6,DEBUT!$CP$2:$DI$18,3,FALSE),\"\")","v":"X"},{"$f":"IFERROR(HLOOKUP(FI$6,DEBUT!$CP$2:$DI$18,7,FALSE),\"\")","v":"X"},{"$f":"IFERROR(HLOOKUP(FI$6,DEBUT!$CP$2:$DI$18,11,FALSE),\"\")","v":"X"},{"$f":"IFERROR(HLOOKUP(FI$6,DEBUT!$CP$2:$DI$18,15,FALSE),\"\")","v":"X"},null,null,null,null,null,null,null,{"$f":"IFERROR(HLOOKUP(FT$6,DEBUT!$CP$2:$DI$18,3,FALSE),\"\")","v":"X"},{"$f":"IFERROR(HLOOKUP(FT$6,DEBUT!$CP$2:$DI$18,7,FALSE),\"\")","v":"X"},{"$f":"IFERROR(HLOOKUP(FT$6,DEBUT!$CP$2:$DI$18,11,FALSE),\"\")","v":"X"},{"$f":"IFERROR(HLOOKUP(FT$6,DEBUT!$CP$2:$DI$18,15,FALSE),\"\")","v":"X"},null,null,null,{"$f":"IFERROR(HLOOKUP(GA$6,DEBUT!$CP$2:$DI$18,3,FALSE),\"\")","v":"X"},{"$f":"IFERROR(HLOOKUP(GA$6,DEBUT!$CP$2:$DI$18,7,FALSE),\"\")","v":"X"},{"$f":"IFERROR(HLOOKUP(GA$6,DEBUT!$CP$2:$DI$18,11,FALSE),\"\")","v":"X"},{"$f":"IFERROR(HLOOKUP(GA$6,DEBUT!$CP$2:$DI$18,15,FALSE),\"\")","v":"X"},null,null,null,null,null,{"$f":"IFERROR(HLOOKUP(GJ$6,DEBUT!$CP$2:$DI$18,3,FALSE),\"\")","v":"X"},{"$f":"IFERROR(HLOOKUP(GJ$6,DEBUT!$CP$2:$DI$18,7,FALSE),\"\")","v":"X"},{"$f":"IFERROR(HLOOKUP(GJ$6,DEBUT!$CP$2:$DI$18,11,FALSE),\"\")","v":"X"},{"$f":"IFERROR(HLOOKUP(GJ$6,DEBUT!$CP$2:$DI$18,15,FALSE),\"\")","v":"X"},null,null,null,{"$f":"IFERROR(HLOOKUP(GQ$6,DEBUT!$CP$2:$DI$18,3,FALSE),\"\")","v":"X"},{"$f":"IFERROR(HLOOKUP(GQ$6,DEBUT!$CP$2:$DI$18,7,FALSE),\"\")","v":"X"},{"$f":"IFERROR(HLOOKUP(GQ$6,DEBUT!$CP$2:$DI$18,11,FALSE),\"\")","v":"X"},{"$f":"IFERROR(HLOOKUP(GQ$6,DEBUT!$CP$2:$DI$18,15,FALSE),\"\")","v":"X"},null,null,null,null,null,null,null,{"$f":"IFERROR(HLOOKUP(HB$6,DEBUT!$CP$2:$DI$18,3,FALSE),\"\")","v":"X"},{"$f":"IFERROR(HLOOKUP(HB$6,DEBUT!$CP$2:$DI$18,7,FALSE),\"\")","v":"X"},{"$f":"IFERROR(HLOOKUP(HB$6,DEBUT!$CP$2:$DI$18,11,FALSE),\"\")","v":"X"},{"$f":"IFERROR(HLOOKUP(HB$6,DEBUT!$CP$2:$DI$18,15,FALSE),\"\")","v":"X"},null,null,null,{"$f":"IFERROR(HLOOKUP(HI$6,DEBUT!$CP$2:$DI$18,3,FALSE),\"\")","v":"X"},{"$f":"IFERROR(HLOOKUP(HI$6,DEBUT!$CP$2:$DI$18,7,FALSE),\"\")","v":"X"},{"$f":"IFERROR(HLOOKUP(HI$6,DEBUT!$CP$2:$DI$18,11,FALSE),\"\")","v":"X"},{"$f":"IFERROR(HLOOKUP(HI$6,DEBUT!$CP$2:$DI$18,15,FALSE),\"\")","v":"X"},null,null,null,null,null,{"$f":"IFERROR(HLOOKUP(HR$6,DEBUT!$CP$2:$DI$18,3,FALSE),\"\")","v":"X"},{"$f":"IFERROR(HLOOKUP(HR$6,DEBUT!$CP$2:$DI$18,7,FALSE),\"\")","v":"X"},{"$f":"IFERROR(HLOOKUP(HR$6,DEBUT!$CP$2:$DI$18,11,FALSE),\"\")","v":"X"},{"$f":"IFERROR(HLOOKUP(HR$6,DEBUT!$CP$2:$DI$18,15,FALSE),\"\")","v":"X"},null,null,null,{"$f":"IFERROR(HLOOKUP(HY$6,DEBUT!$CP$2:$DI$18,3,FALSE),\"\")","v":"X"},{"$f":"IFERROR(HLOOKUP(HY$6,DEBUT!$CP$2:$DI$18,7,FALSE),\"\")","v":"X"},{"$f":"IFERROR(HLOOKUP(HY$6,DEBUT!$CP$2:$DI$18,11,FALSE),\"\")","v":"X"},{"$f":"IFERROR(HLOOKUP(HY$6,DEBUT!$CP$2:$DI$18,15,FALSE),\"\")","v":"X"},null,null,null,null,null,null,null,{"$f":"IFERROR(HLOOKUP(IJ$6,DEBUT!$CP$2:$DI$18,3,FALSE),\"\")","v":"X"},{"$f":"IFERROR(HLOOKUP(IJ$6,DEBUT!$CP$2:$DI$18,7,FALSE),\"\")","v":"X"},{"$f":"IFERROR(HLOOKUP(IJ$6,DEBUT!$CP$2:$DI$18,11,FALSE),\"\")","v":"X"},{"$f":"IFERROR(HLOOKUP(IJ$6,DEBUT!$CP$2:$DI$18,15,FALSE),\"\")","v":"X"},null,null,null,{"$f":"IFERROR(HLOOKUP(IQ$6,DEBUT!$CP$2:$DI$18,3,FALSE),\"\")","v":"X"},{"$f":"IFERROR(HLOOKUP(IQ$6,DEBUT!$CP$2:$DI$18,7,FALSE),\"\")","v":"X"},{"$f":"IFERROR(HLOOKUP(IQ$6,DEBUT!$CP$2:$DI$18,11,FALSE),\"\")","v":"X"},{"$f":"IFERROR(HLOOKUP(IQ$6,DEBUT!$CP$2:$DI$18,15,FALSE),\"\")","v":"X"},null,null,null,null,null,{"$f":"IFERROR(HLOOKUP(IZ$6,DEBUT!$CP$2:$DI$18,3,FALSE),\"\")","v":"X"},{"$f":"IFERROR(HLOOKUP(IZ$6,DEBUT!$CP$2:$DI$18,7,FALSE),\"\")","v":"X"},{"$f":"IFERROR(HLOOKUP(IZ$6,DEBUT!$CP$2:$DI$18,11,FALSE),\"\")","v":"X"},{"$f":"IFERROR(HLOOKUP(IZ$6,DEBUT!$CP$2:$DI$18,15,FALSE),\"\")","v":"X"},null,null,null,{"$f":"IFERROR(HLOOKUP(JG$6,DEBUT!$CP$2:$DI$18,3,FALSE),\"\")","v":"X"},{"$f":"IFERROR(HLOOKUP(JG$6,DEBUT!$CP$2:$DI$18,7,FALSE),\"\")","v":"X"},{"$f":"IFERROR(HLOOKUP(JG$6,DEBUT!$CP$2:$DI$18,11,FALSE),\"\")","v":"X"},{"$f":"IFERROR(HLOOKUP(JG$6,DEBUT!$CP$2:$DI$18,15,FALSE),\"\")","v":"X"},null,null,null,null,null,null,null,{"$f":"IFERROR(HLOOKUP(JR$6,DEBUT!$CP$2:$DI$18,3,FALSE),\"\")","v":"X"},{"$f":"IFERROR(HLOOKUP(JR$6,DEBUT!$CP$2:$DI$18,7,FALSE),\"\")","v":"X"},{"$f":"IFERROR(HLOOKUP(JR$6,DEBUT!$CP$2:$DI$18,11,FALSE),\"\")","v":"X"},{"$f":"IFERROR(HLOOKUP(JR$6,DEBUT!$CP$2:$DI$18,15,FALSE),\"\")","v":"X"},null,null,null,{"$f":"IFERROR(HLOOKUP(JY$6,DEBUT!$CP$2:$DI$18,3,FALSE),\"\")","v":"X"},{"$f":"IFERROR(HLOOKUP(JY$6,DEBUT!$CP$2:$DI$18,7,FALSE),\"\")","v":"X"},{"$f":"IFERROR(HLOOKUP(JY$6,DEBUT!$CP$2:$DI$18,11,FALSE),\"\")","v":"X"},{"$f":"IFERROR(HLOOKUP(JY$6,DEBUT!$CP$2:$DI$18,15,FALSE),\"\")","v":"X"},null,null,null,null,null,{"$f":"IFERROR(HLOOKUP(KH$6,DEBUT!$CP$2:$DI$18,3,FALSE),\"\")","v":"X"},{"$f":"IFERROR(HLOOKUP(KH$6,DEBUT!$CP$2:$DI$18,7,FALSE),\"\")","v":"X"},{"$f":"IFERROR(HLOOKUP(KH$6,DEBUT!$CP$2:$DI$18,11,FALSE),\"\")","v":"X"},{"$f":"IFERROR(HLOOKUP(KH$6,DEBUT!$CP$2:$DI$18,15,FALSE),\"\")","v":"X"},null,null,null,{"$f":"IFERROR(HLOOKUP(KO$6,DEBUT!$CP$2:$DI$18,3,FALSE),\"\")","v":"X"},{"$f":"IFERROR(HLOOKUP(KO$6,DEBUT!$CP$2:$DI$18,7,FALSE),\"\")","v":"X"},{"$f":"IFERROR(HLOOKUP(KO$6,DEBUT!$CP$2:$DI$18,11,FALSE),\"\")","v":"X"},{"$f":"IFERROR(HLOOKUP(KO$6,DEBUT!$CP$2:$DI$18,15,FALSE),\"\")","v":"X"},null,null,null,null,null,null,null,{"$f":"IFERROR(HLOOKUP(KZ$6,DEBUT!$CP$2:$DI$18,3,FALSE),\"\")","v":"X"},{"$f":"IFERROR(HLOOKUP(KZ$6,DEBUT!$CP$2:$DI$18,7,FALSE),\"\")","v":"X"},{"$f":"IFERROR(HLOOKUP(KZ$6,DEBUT!$CP$2:$DI$18,11,FALSE),\"\")","v":"X"},{"$f":"IFERROR(HLOOKUP(KZ$6,DEBUT!$CP$2:$DI$18,15,FALSE),\"\")","v":"X"},null,null,null,{"$f":"IFERROR(HLOOKUP(LG$6,DEBUT!$CP$2:$DI$18,3,FALSE),\"\")","v":"X"},{"$f":"IFERROR(HLOOKUP(LG$6,DEBUT!$CP$2:$DI$18,7,FALSE),\"\")","v":"X"},{"$f":"IFERROR(HLOOKUP(LG$6,DEBUT!$CP$2:$DI$18,11,FALSE),\"\")","v":"X"},{"$f":"IFERROR(HLOOKUP(LG$6,DEBUT!$CP$2:$DI$18,15,FALSE),\"\")","v":"X"},null,null,null,null,null,{"$f":"IFERROR(HLOOKUP(LP$6,DEBUT!$CP$2:$DI$18,3,FALSE),\"\")","v":"X"},{"$f":"IFERROR(HLOOKUP(LP$6,DEBUT!$CP$2:$DI$18,7,FALSE),\"\")","v":"X"},{"$f":"IFERROR(HLOOKUP(LP$6,DEBUT!$CP$2:$DI$18,11,FALSE),\"\")","v":"X"},{"$f":"IFERROR(HLOOKUP(LP$6,DEBUT!$CP$2:$DI$18,15,FALSE),\"\")","v":"X"},null,null,null,{"$f":"IFERROR(HLOOKUP(LW$6,DEBUT!$CP$2:$DI$18,3,FALSE),\"\")","v":"X"},{"$f":"IFERROR(HLOOKUP(LW$6,DEBUT!$CP$2:$DI$18,7,FALSE),\"\")","v":"X"},{"$f":"IFERROR(HLOOKUP(LW$6,DEBUT!$CP$2:$DI$18,11,FALSE),\"\")","v":"X"},{"$f":"IFERROR(HLOOKUP(LW$6,DEBUT!$CP$2:$DI$18,15,FALSE),\"\")","v":"X"},null,null,null,null,null,null,null,{"$f":"IFERROR(HLOOKUP(MH$6,DEBUT!$CP$2:$DI$18,3,FALSE),\"\")","v":"X"},{"$f":"IFERROR(HLOOKUP(MH$6,DEBUT!$CP$2:$DI$18,7,FALSE),\"\")","v":"X"},{"$f":"IFERROR(HLOOKUP(MH$6,DEBUT!$CP$2:$DI$18,11,FALSE),\"\")","v":"X"},{"$f":"IFERROR(HLOOKUP(MH$6,DEBUT!$CP$2:$DI$18,15,FALSE),\"\")","v":"X"},null,null,null,{"$f":"IFERROR(HLOOKUP(MO$6,DEBUT!$CP$2:$DI$18,3,FALSE),\"\")","v":"X"},{"$f":"IFERROR(HLOOKUP(MO$6,DEBUT!$CP$2:$DI$18,7,FALSE),\"\")","v":"X"},{"$f":"IFERROR(HLOOKUP(MO$6,DEBUT!$CP$2:$DI$18,11,FALSE),\"\")","v":"X"},{"$f":"IFERROR(HLOOKUP(MO$6,DEBUT!$CP$2:$DI$18,15,FALSE),\"\")","v":"X"},null,null,null,null,null,{"$f":"IFERROR(HLOOKUP(MX$6,DEBUT!$CP$2:$DI$18,3,FALSE),\"\")","v":"X"},{"$f":"IFERROR(HLOOKUP(MX$6,DEBUT!$CP$2:$DI$18,7,FALSE),\"\")","v":"X"},{"$f":"IFERROR(HLOOKUP(MX$6,DEBUT!$CP$2:$DI$18,11,FALSE),\"\")","v":"X"},{"$f":"IFERROR(HLOOKUP(MX$6,DEBUT!$CP$2:$DI$18,15,FALSE),\"\")","v":"X"},null,null,null,{"$f":"IFERROR(HLOOKUP(NE$6,DEBUT!$CP$2:$DI$18,3,FALSE),\"\")","v":"X"},{"$f":"IFERROR(HLOOKUP(NE$6,DEBUT!$CP$2:$DI$18,7,FALSE),\"\")","v":"X"},{"$f":"IFERROR(HLOOKUP(NE$6,DEBUT!$CP$2:$DI$18,11,FALSE),\"\")","v":"X"},{"$f":"IFERROR(HLOOKUP(NE$6,DEBUT!$CP$2:$DI$18,15,FALSE),\"\")","v":"X"},null,null,null,null,null,null,null,{"$f":"IFERROR(HLOOKUP(NP$6,DEBUT!$CP$2:$DI$18,3,FALSE),\"\")","v":"X"},{"$f":"IFERROR(HLOOKUP(NP$6,DEBUT!$CP$2:$DI$18,7,FALSE),\"\")","v":"X"},{"$f":"IFERROR(HLOOKUP(NP$6,DEBUT!$CP$2:$DI$18,11,FALSE),\"\")","v":"X"},{"$f":"IFERROR(HLOOKUP(NP$6,DEBUT!$CP$2:$DI$18,15,FALSE),\"\")","v":"X"},null,null,null,{"$f":"IFERROR(HLOOKUP(NW$6,DEBUT!$CP$2:$DI$18,3,FALSE),\"\")","v":"X"},{"$f":"IFERROR(HLOOKUP(NW$6,DEBUT!$CP$2:$DI$18,7,FALSE),\"\")","v":"X"},{"$f":"IFERROR(HLOOKUP(NW$6,DEBUT!$CP$2:$DI$18,11,FALSE),\"\")","v":"X"},{"$f":"IFERROR(HLOOKUP(NW$6,DEBUT!$CP$2:$DI$18,15,FALSE),\"\")","v":"X"},null,null,null,null,null,{"$f":"IFERROR(HLOOKUP(OF$6,DEBUT!$CP$2:$DI$18,3,FALSE),\"\")","v":"X"},{"$f":"IFERROR(HLOOKUP(OF$6,DEBUT!$CP$2:$DI$18,7,FALSE),\"\")","v":"X"},{"$f":"IFERROR(HLOOKUP(OF$6,DEBUT!$CP$2:$DI$18,11,FALSE),\"\")","v":"X"},{"$f":"IFERROR(HLOOKUP(OF$6,DEBUT!$CP$2:$DI$18,15,FALSE),\"\")","v":"X"},null,null,null,{"$f":"IFERROR(HLOOKUP(OM$6,DEBUT!$CP$2:$DI$18,3,FALSE),\"\")","v":"X"},{"$f":"IFERROR(HLOOKUP(OM$6,DEBUT!$CP$2:$DI$18,7,FALSE),\"\")","v":"X"},{"$f":"IFERROR(HLOOKUP(OM$6,DEBUT!$CP$2:$DI$18,11,FALSE),\"\")","v":"X"},{"$f":"IFERROR(HLOOKUP(OM$6,DEBUT!$CP$2:$DI$18,15,FALSE),\"\")","v":"X"},null,null,null,null,null,null,null,{"$f":"IFERROR(HLOOKUP(OX$6,DEBUT!$CP$2:$DI$18,3,FALSE),\"\")","v":"X"},{"$f":"IFERROR(HLOOKUP(OX$6,DEBUT!$CP$2:$DI$18,7,FALSE),\"\")","v":"X"},{"$f":"IFERROR(HLOOKUP(OX$6,DEBUT!$CP$2:$DI$18,11,FALSE),\"\")","v":"X"},{"$f":"IFERROR(HLOOKUP(OX$6,DEBUT!$CP$2:$DI$18,15,FALSE),\"\")","v":"X"},null,null,null,{"$f":"IFERROR(HLOOKUP(PE$6,DEBUT!$CP$2:$DI$18,3,FALSE),\"\")","v":"X"},{"$f":"IFERROR(HLOOKUP(PE$6,DEBUT!$CP$2:$DI$18,7,FALSE),\"\")","v":"X"},{"$f":"IFERROR(HLOOKUP(PE$6,DEBUT!$CP$2:$DI$18,11,FALSE),\"\")","v":"X"},{"$f":"IFERROR(HLOOKUP(PE$6,DEBUT!$CP$2:$DI$18,15,FALSE),\"\")","v":"X"},null,null,null,null,null,{"$f":"IFERROR(HLOOKUP(PN$6,DEBUT!$CP$2:$DI$18,3,FALSE),\"\")","v":"X"},{"$f":"IFERROR(HLOOKUP(PN$6,DEBUT!$CP$2:$DI$18,7,FALSE),\"\")","v":"X"},{"$f":"IFERROR(HLOOKUP(PN$6,DEBUT!$CP$2:$DI$18,11,FALSE),\"\")","v":"X"},{"$f":"IFERROR(HLOOKUP(PN$6,DEBUT!$CP$2:$DI$18,15,FALSE),\"\")","v":"X"},null,null,null,{"$f":"IFERROR(HLOOKUP(PU$6,DEBUT!$CP$2:$DI$18,3,FALSE),\"\")","v":"X"},{"$f":"IFERROR(HLOOKUP(PU$6,DEBUT!$CP$2:$DI$18,7,FALSE),\"\")","v":"X"},{"$f":"IFERROR(HLOOKUP(PU$6,DEBUT!$CP$2:$DI$18,11,FALSE),\"\")","v":"X"},{"$f":"IFERROR(HLOOKUP(PU$6,DEBUT!$CP$2:$DI$18,15,FALSE),\"\")","v":"X"},null,null,null,null,null,null,null,{"$f":"IFERROR(HLOOKUP(QF$6,DEBUT!$CP$2:$DI$18,3,FALSE),\"\")","v":"X"},{"$f":"IFERROR(HLOOKUP(QF$6,DEBUT!$CP$2:$DI$18,7,FALSE),\"\")","v":"X"},{"$f":"IFERROR(HLOOKUP(QF$6,DEBUT!$CP$2:$DI$18,11,FALSE),\"\")","v":"X"},{"$f":"IFERROR(HLOOKUP(QF$6,DEBUT!$CP$2:$DI$18,15,FALSE),\"\")","v":"X"},null,null,null,{"$f":"IFERROR(HLOOKUP(QM$6,DEBUT!$CP$2:$DI$18,3,FALSE),\"\")","v":"X"},{"$f":"IFERROR(HLOOKUP(QM$6,DEBUT!$CP$2:$DI$18,7,FALSE),\"\")","v":"X"},{"$f":"IFERROR(HLOOKUP(QM$6,DEBUT!$CP$2:$DI$18,11,FALSE),\"\")","v":"X"},{"$f":"IFERROR(HLOOKUP(QM$6,DEBUT!$CP$2:$DI$18,15,FALSE),\"\")","v":"X"},null,null,null,null,null,{"$f":"IFERROR(HLOOKUP(QV$6,DEBUT!$CP$2:$DI$18,3,FALSE),\"\")","v":"X"},{"$f":"IFERROR(HLOOKUP(QV$6,DEBUT!$CP$2:$DI$18,7,FALSE),\"\")","v":"X"},{"$f":"IFERROR(HLOOKUP(QV$6,DEBUT!$CP$2:$DI$18,11,FALSE),\"\")","v":"X"},{"$f":"IFERROR(HLOOKUP(QV$6,DEBUT!$CP$2:$DI$18,15,FALSE),\"\")","v":"X"},null,null,null,{"$f":"IFERROR(HLOOKUP(RC$6,DEBUT!$CP$2:$DI$18,3,FALSE),\"\")","v":"X"},{"$f":"IFERROR(HLOOKUP(RC$6,DEBUT!$CP$2:$DI$18,7,FALSE),\"\")","v":"X"},{"$f":"IFERROR(HLOOKUP(RC$6,DEBUT!$CP$2:$DI$18,11,FALSE),\"\")","v":"X"},{"$f":"IFERROR(HLOOKUP(RC$6,DEBUT!$CP$2:$DI$18,15,FALSE),\"\")","v":"X"},null,null,null,null,null,null,null,{"$f":"IFERROR(HLOOKUP(RN$6,DEBUT!$CP$2:$DI$18,3,FALSE),\"\")","v":"X"},{"$f":"IFERROR(HLOOKUP(RN$6,DEBUT!$CP$2:$DI$18,7,FALSE),\"\")","v":"X"},{"$f":"IFERROR(HLOOKUP(RN$6,DEBUT!$CP$2:$DI$18,11,FALSE),\"\")","v":"X"},{"$f":"IFERROR(HLOOKUP(RN$6,DEBUT!$CP$2:$DI$18,15,FALSE),\"\")","v":"X"},null,null,null,{"$f":"IFERROR(HLOOKUP(RU$6,DEBUT!$CP$2:$DI$18,3,FALSE),\"\")","v":"X"},{"$f":"IFERROR(HLOOKUP(RU$6,DEBUT!$CP$2:$DI$18,7,FALSE),\"\")","v":"X"},{"$f":"IFERROR(HLOOKUP(RU$6,DEBUT!$CP$2:$DI$18,11,FALSE),\"\")","v":"X"},{"$f":"IFERROR(HLOOKUP(RU$6,DEBUT!$CP$2:$DI$18,15,FALSE),\"\")","v":"X"},null,null,null,null,null,{"$f":"IFERROR(HLOOKUP(SD$6,DEBUT!$CP$2:$DI$18,3,FALSE),\"\")","v":"X"},{"$f":"IFERROR(HLOOKUP(SD$6,DEBUT!$CP$2:$DI$18,7,FALSE),\"\")","v":"X"},{"$f":"IFERROR(HLOOKUP(SD$6,DEBUT!$CP$2:$DI$18,11,FALSE),\"\")","v":"X"},{"$f":"IFERROR(HLOOKUP(SD$6,DEBUT!$CP$2:$DI$18,15,FALSE),\"\")","v":"X"},null,null,null,{"$f":"IFERROR(HLOOKUP(SK$6,DEBUT!$CP$2:$DI$18,3,FALSE),\"\")","v":"X"},{"$f":"IFERROR(HLOOKUP(SK$6,DEBUT!$CP$2:$DI$18,7,FALSE),\"\")","v":"X"},{"$f":"IFERROR(HLOOKUP(SK$6,DEBUT!$CP$2:$DI$18,11,FALSE),\"\")","v":"X"},{"$f":"IFERROR(HLOOKUP(SK$6,DEBUT!$CP$2:$DI$18,15,FALSE),\"\")","v":"X"},null,null,null,null,null,null,null,{"$f":"IFERROR(HLOOKUP(SV$6,DEBUT!$CP$2:$DI$18,3,FALSE),\"\")","v":"X"},{"$f":"IFERROR(HLOOKUP(SV$6,DEBUT!$CP$2:$DI$18,7,FALSE),\"\")","v":"X"},{"$f":"IFERROR(HLOOKUP(SV$6,DEBUT!$CP$2:$DI$18,11,FALSE),\"\")","v":"X"},{"$f":"IFERROR(HLOOKUP(SV$6,DEBUT!$CP$2:$DI$18,15,FALSE),\"\")","v":"X"},null,null,null,{"$f":"IFERROR(HLOOKUP(TC$6,DEBUT!$CP$2:$DI$18,3,FALSE),\"\")","v":"X"},{"$f":"IFERROR(HLOOKUP(TC$6,DEBUT!$CP$2:$DI$18,7,FALSE),\"\")","v":"X"},{"$f":"IFERROR(HLOOKUP(TC$6,DEBUT!$CP$2:$DI$18,11,FALSE),\"\")","v":"X"},{"$f":"IFERROR(HLOOKUP(TC$6,DEBUT!$CP$2:$DI$18,15,FALSE),\"\")","v":"X"},null,null,null,null,null,{"$f":"IFERROR(HLOOKUP(TL$6,DEBUT!$CP$2:$DI$18,3,FALSE),\"\")","v":"X"},{"$f":"IFERROR(HLOOKUP(TL$6,DEBUT!$CP$2:$DI$18,7,FALSE),\"\")","v":"X"},{"$f":"IFERROR(HLOOKUP(TL$6,DEBUT!$CP$2:$DI$18,11,FALSE),\"\")","v":"X"},{"$f":"IFERROR(HLOOKUP(TL$6,DEBUT!$CP$2:$DI$18,15,FALSE),\"\")","v":"X"},null,null,null,{"$f":"IFERROR(HLOOKUP(TS$6,DEBUT!$CP$2:$DI$18,3,FALSE),\"\")","v":"X"},{"$f":"IFERROR(HLOOKUP(TS$6,DEBUT!$CP$2:$DI$18,7,FALSE),\"\")","v":"X"},{"$f":"IFERROR(HLOOKUP(TS$6,DEBUT!$CP$2:$DI$18,11,FALSE),\"\")","v":"X"},{"$f":"IFERROR(HLOOKUP(TS$6,DEBUT!$CP$2:$DI$18,15,FALSE),\"\")","v":"X"},null,null,null,null,null,null,null,{"$f":"IFERROR(HLOOKUP(UD$6,DEBUT!$CP$2:$DI$18,3,FALSE),\"\")","v":"X"},{"$f":"IFERROR(HLOOKUP(UD$6,DEBUT!$CP$2:$DI$18,7,FALSE),\"\")","v":"X"},{"$f":"IFERROR(HLOOKUP(UD$6,DEBUT!$CP$2:$DI$18,11,FALSE),\"\")","v":"X"},{"$f":"IFERROR(HLOOKUP(UD$6,DEBUT!$CP$2:$DI$18,15,FALSE),\"\")","v":"X"},null,null,null,{"$f":"IFERROR(HLOOKUP(UK$6,DEBUT!$CP$2:$DI$18,3,FALSE),\"\")","v":"X"},{"$f":"IFERROR(HLOOKUP(UK$6,DEBUT!$CP$2:$DI$18,7,FALSE),\"\")","v":"X"},{"$f":"IFERROR(HLOOKUP(UK$6,DEBUT!$CP$2:$DI$18,11,FALSE),\"\")","v":"X"},{"$f":"IFERROR(HLOOKUP(UK$6,DEBUT!$CP$2:$DI$18,15,FALSE),\"\")","v":"X"},null,null,null,null,null,{"$f":"IFERROR(HLOOKUP(UT$6,DEBUT!$CP$2:$DI$18,3,FALSE),\"\")","v":"X"},{"$f":"IFERROR(HLOOKUP(UT$6,DEBUT!$CP$2:$DI$18,7,FALSE),\"\")","v":"X"},{"$f":"IFERROR(HLOOKUP(UT$6,DEBUT!$CP$2:$DI$18,11,FALSE),\"\")","v":"X"},{"$f":"IFERROR(HLOOKUP(UT$6,DEBUT!$CP$2:$DI$18,15,FALSE),\"\")","v":"X"},null,null,null,{"$f":"IFERROR(HLOOKUP(VA$6,DEBUT!$CP$2:$DI$18,3,FALSE),\"\")","v":"X"},{"$f":"IFERROR(HLOOKUP(VA$6,DEBUT!$CP$2:$DI$18,7,FALSE),\"\")","v":"X"},{"$f":"IFERROR(HLOOKUP(VA$6,DEBUT!$CP$2:$DI$18,11,FALSE),\"\")","v":"X"},{"$f":"IFERROR(HLOOKUP(VA$6,DEBUT!$CP$2:$DI$18,15,FALSE),\"\")","v":"X"},null,null,null,null,null,null,null,{"$f":"IFERROR(HLOOKUP(VL$6,DEBUT!$CP$2:$DI$18,3,FALSE),\"\")","v":"X"},{"$f":"IFERROR(HLOOKUP(VL$6,DEBUT!$CP$2:$DI$18,7,FALSE),\"\")","v":"X"},{"$f":"IFERROR(HLOOKUP(VL$6,DEBUT!$CP$2:$DI$18,11,FALSE),\"\")","v":"X"},{"$f":"IFERROR(HLOOKUP(VL$6,DEBUT!$CP$2:$DI$18,15,FALSE),\"\")","v":"X"},null,null,null,{"$f":"IFERROR(HLOOKUP(VS$6,DEBUT!$CP$2:$DI$18,3,FALSE),\"\")","v":"X"},{"$f":"IFERROR(HLOOKUP(VS$6,DEBUT!$CP$2:$DI$18,7,FALSE),\"\")","v":"X"},{"$f":"IFERROR(HLOOKUP(VS$6,DEBUT!$CP$2:$DI$18,11,FALSE),\"\")","v":"X"},{"$f":"IFERROR(HLOOKUP(VS$6,DEBUT!$CP$2:$DI$18,15,FALSE),\"\")","v":"X"},null,null,null,null,null,{"$f":"IFERROR(HLOOKUP(WB$6,DEBUT!$CP$2:$DI$18,3,FALSE),\"\")","v":"X"},{"$f":"IFERROR(HLOOKUP(WB$6,DEBUT!$CP$2:$DI$18,7,FALSE),\"\")","v":"X"},{"$f":"IFERROR(HLOOKUP(WB$6,DEBUT!$CP$2:$DI$18,11,FALSE),\"\")","v":"X"},{"$f":"IFERROR(HLOOKUP(WB$6,DEBUT!$CP$2:$DI$18,15,FALSE),\"\")","v":"X"},null,null,null,{"$f":"IFERROR(HLOOKUP(WI$6,DEBUT!$CP$2:$DI$18,3,FALSE),\"\")","v":"X"},{"$f":"IFERROR(HLOOKUP(WI$6,DEBUT!$CP$2:$DI$18,7,FALSE),\"\")","v":"X"},{"$f":"IFERROR(HLOOKUP(WI$6,DEBUT!$CP$2:$DI$18,11,FALSE),\"\")","v":"X"},{"$f":"IFERROR(HLOOKUP(WI$6,DEBUT!$CP$2:$DI$18,15,FALSE),\"\")","v":"X"},null,null,null,null,null,null,null,{"$f":"IFERROR(HLOOKUP(WT$6,DEBUT!$CP$2:$DI$18,3,FALSE),\"\")","v":"X"},{"$f":"IFERROR(HLOOKUP(WT$6,DEBUT!$CP$2:$DI$18,7,FALSE),\"\")","v":"X"},{"$f":"IFERROR(HLOOKUP(WT$6,DEBUT!$CP$2:$DI$18,11,FALSE),\"\")","v":"X"},{"$f":"IFERROR(HLOOKUP(WT$6,DEBUT!$CP$2:$DI$18,15,FALSE),\"\")","v":"X"},null,null,null,{"$f":"IFERROR(HLOOKUP(XA$6,DEBUT!$CP$2:$DI$18,3,FALSE),\"\")","v":"X"},{"$f":"IFERROR(HLOOKUP(XA$6,DEBUT!$CP$2:$DI$18,7,FALSE),\"\")","v":"X"},{"$f":"IFERROR(HLOOKUP(XA$6,DEBUT!$CP$2:$DI$18,11,FALSE),\"\")","v":"X"},{"$f":"IFERROR(HLOOKUP(XA$6,DEBUT!$CP$2:$DI$18,15,FALSE),\"\")","v":"X"},null,null,null,null,null,{"$f":"IFERROR(HLOOKUP(XJ$6,DEBUT!$CP$2:$DI$18,3,FALSE),\"\")","v":"X"},{"$f":"IFERROR(HLOOKUP(XJ$6,DEBUT!$CP$2:$DI$18,7,FALSE),\"\")","v":"X"},{"$f":"IFERROR(HLOOKUP(XJ$6,DEBUT!$CP$2:$DI$18,11,FALSE),\"\")","v":"X"},{"$f":"IFERROR(HLOOKUP(XJ$6,DEBUT!$CP$2:$DI$18,15,FALSE),\"\")","v":"X"},null,null,null,{"$f":"IFERROR(HLOOKUP(XQ$6,DEBUT!$CP$2:$DI$18,3,FALSE),\"\")","v":"X"},{"$f":"IFERROR(HLOOKUP(XQ$6,DEBUT!$CP$2:$DI$18,7,FALSE),\"\")","v":"X"},{"$f":"IFERROR(HLOOKUP(XQ$6,DEBUT!$CP$2:$DI$18,11,FALSE),\"\")","v":"X"},{"$f":"IFERROR(HLOOKUP(XQ$6,DEBUT!$CP$2:$DI$18,15,FALSE),\"\")","v":"X"},null,null,null,null,null,null,null,{"$f":"IFERROR(HLOOKUP(YB$6,DEBUT!$CP$2:$DI$18,3,FALSE),\"\")","v":"X"},{"$f":"IFERROR(HLOOKUP(YB$6,DEBUT!$CP$2:$DI$18,7,FALSE),\"\")","v":"X"},{"$f":"IFERROR(HLOOKUP(YB$6,DEBUT!$CP$2:$DI$18,11,FALSE),\"\")","v":"X"},{"$f":"IFERROR(HLOOKUP(YB$6,DEBUT!$CP$2:$DI$18,15,FALSE),\"\")","v":"X"},null,null,null,{"$f":"IFERROR(HLOOKUP(YI$6,DEBUT!$CP$2:$DI$18,3,FALSE),\"\")","v":"X"},{"$f":"IFERROR(HLOOKUP(YI$6,DEBUT!$CP$2:$DI$18,7,FALSE),\"\")","v":"X"},{"$f":"IFERROR(HLOOKUP(YI$6,DEBUT!$CP$2:$DI$18,11,FALSE),\"\")","v":"X"},{"$f":"IFERROR(HLOOKUP(YI$6,DEBUT!$CP$2:$DI$18,15,FALSE),\"\")","v":"X"},null,null,null,null,null,{"$f":"IFERROR(HLOOKUP(YR$6,DEBUT!$CP$2:$DI$18,3,FALSE),\"\")","v":"X"},{"$f":"IFERROR(HLOOKUP(YR$6,DEBUT!$CP$2:$DI$18,7,FALSE),\"\")","v":"X"},{"$f":"IFERROR(HLOOKUP(YR$6,DEBUT!$CP$2:$DI$18,11,FALSE),\"\")","v":"X"},{"$f":"IFERROR(HLOOKUP(YR$6,DEBUT!$CP$2:$DI$18,15,FALSE),\"\")","v":"X"},null,null,null,{"$f":"IFERROR(HLOOKUP(YY$6,DEBUT!$CP$2:$DI$18,3,FALSE),\"\")","v":"X"},{"$f":"IFERROR(HLOOKUP(YY$6,DEBUT!$CP$2:$DI$18,7,FALSE),\"\")","v":"X"},{"$f":"IFERROR(HLOOKUP(YY$6,DEBUT!$CP$2:$DI$18,11,FALSE),\"\")","v":"X"},{"$f":"IFERROR(HLOOKUP(YY$6,DEBUT!$CP$2:$DI$18,15,FALSE),\"\")","v":"X"},null,null,null,null,null,null,null,{"$f":"IFERROR(HLOOKUP(ZJ$6,DEBUT!$CP$2:$DI$18,3,FALSE),\"\")","v":"X"},{"$f":"IFERROR(HLOOKUP(ZJ$6,DEBUT!$CP$2:$DI$18,7,FALSE),\"\")","v":"X"},{"$f":"IFERROR(HLOOKUP(ZJ$6,DEBUT!$CP$2:$DI$18,11,FALSE),\"\")","v":"X"},{"$f":"IFERROR(HLOOKUP(ZJ$6,DEBUT!$CP$2:$DI$18,15,FALSE),\"\")","v":"X"},null,null,null,{"$f":"IFERROR(HLOOKUP(ZQ$6,DEBUT!$CP$2:$DI$18,3,FALSE),\"\")","v":"X"},{"$f":"IFERROR(HLOOKUP(ZQ$6,DEBUT!$CP$2:$DI$18,7,FALSE),\"\")","v":"X"},{"$f":"IFERROR(HLOOKUP(ZQ$6,DEBUT!$CP$2:$DI$18,11,FALSE),\"\")","v":"X"},{"$f":"IFERROR(HLOOKUP(ZQ$6,DEBUT!$CP$2:$DI$18,15,FALSE),\"\")","v":"X"},null,null,null,null,null,{"$f":"IFERROR(HLOOKUP(ZZ$6,DEBUT!$CP$2:$DI$18,3,FALSE),\"\")","v":"X"},{"$f":"IFERROR(HLOOKUP(ZZ$6,DEBUT!$CP$2:$DI$18,7,FALSE),\"\")","v":"X"},{"$f":"IFERROR(HLOOKUP(ZZ$6,DEBUT!$CP$2:$DI$18,11,FALSE),\"\")","v":"X"},{"$f":"IFERROR(HLOOKUP(ZZ$6,DEBUT!$CP$2:$DI$18,15,FALSE),\"\")","v":"X"},null,null,null,{"$f":"IFERROR(HLOOKUP(AAG$6,DEBUT!$CP$2:$DI$18,3,FALSE),\"\")","v":"X"},{"$f":"IFERROR(HLOOKUP(AAG$6,DEBUT!$CP$2:$DI$18,7,FALSE),\"\")","v":"X"},{"$f":"IFERROR(HLOOKUP(AAG$6,DEBUT!$CP$2:$DI$18,11,FALSE),\"\")","v":"X"},{"$f":"IFERROR(HLOOKUP(AAG$6,DEBUT!$CP$2:$DI$18,15,FALSE),\"\")","v":"X"},null,null,null,null,null,null,null,{"$f":"IFERROR(HLOOKUP(AAR$6,DEBUT!$CP$2:$DI$18,3,FALSE),\"\")","v":"X"},{"$f":"IFERROR(HLOOKUP(AAR$6,DEBUT!$CP$2:$DI$18,7,FALSE),\"\")","v":"X"},{"$f":"IFERROR(HLOOKUP(AAR$6,DEBUT!$CP$2:$DI$18,11,FALSE),\"\")","v":"X"},{"$f":"IFERROR(HLOOKUP(AAR$6,DEBUT!$CP$2:$DI$18,15,FALSE),\"\")","v":"X"},null,null,null,{"$f":"IFERROR(HLOOKUP(AAY$6,DEBUT!$CP$2:$DI$18,3,FALSE),\"\")","v":"X"},{"$f":"IFERROR(HLOOKUP(AAY$6,DEBUT!$CP$2:$DI$18,7,FALSE),\"\")","v":"X"},{"$f":"IFERROR(HLOOKUP(AAY$6,DEBUT!$CP$2:$DI$18,11,FALSE),\"\")","v":"X"},{"$f":"IFERROR(HLOOKUP(AAY$6,DEBUT!$CP$2:$DI$18,15,FALSE),\"\")","v":"X"},null,null,null,null,null,{"$f":"IFERROR(HLOOKUP(ABH$6,DEBUT!$CP$2:$DI$18,3,FALSE),\"\")","v":"X"},{"$f":"IFERROR(HLOOKUP(ABH$6,DEBUT!$CP$2:$DI$18,7,FALSE),\"\")","v":"X"},{"$f":"IFERROR(HLOOKUP(ABH$6,DEBUT!$CP$2:$DI$18,11,FALSE),\"\")","v":"X"},{"$f":"IFERROR(HLOOKUP(ABH$6,DEBUT!$CP$2:$DI$18,15,FALSE),\"\")","v":"X"},null,null,null,{"$f":"IFERROR(HLOOKUP(ABO$6,DEBUT!$CP$2:$DI$18,3,FALSE),\"\")","v":"X"},{"$f":"IFERROR(HLOOKUP(ABO$6,DEBUT!$CP$2:$DI$18,7,FALSE),\"\")","v":"X"},{"$f":"IFERROR(HLOOKUP(ABO$6,DEBUT!$CP$2:$DI$18,11,FALSE),\"\")","v":"X"},{"$f":"IFERROR(HLOOKUP(ABO$6,DEBUT!$CP$2:$DI$18,15,FALSE),\"\")","v":"X"},null,null,null,null,null,null,null,{"$f":"IFERROR(HLOOKUP(ABZ$6,DEBUT!$CP$2:$DI$18,3,FALSE),\"\")","v":"X"},{"$f":"IFERROR(HLOOKUP(ABZ$6,DEBUT!$CP$2:$DI$18,7,FALSE),\"\")","v":"X"},{"$f":"IFERROR(HLOOKUP(ABZ$6,DEBUT!$CP$2:$DI$18,11,FALSE),\"\")","v":"X"},{"$f":"IFERROR(HLOOKUP(ABZ$6,DEBUT!$CP$2:$DI$18,15,FALSE),\"\")","v":"X"},null,null,null,{"$f":"IFERROR(HLOOKUP(ACG$6,DEBUT!$CP$2:$DI$18,3,FALSE),\"\")","v":"X"},{"$f":"IFERROR(HLOOKUP(ACG$6,DEBUT!$CP$2:$DI$18,7,FALSE),\"\")","v":"X"},{"$f":"IFERROR(HLOOKUP(ACG$6,DEBUT!$CP$2:$DI$18,11,FALSE),\"\")","v":"X"},{"$f":"IFERROR(HLOOKUP(ACG$6,DEBUT!$CP$2:$DI$18,15,FALSE),\"\")","v":"X"},null,null,null,null,null,{"$f":"IFERROR(HLOOKUP(ACP$6,DEBUT!$CP$2:$DI$18,3,FALSE),\"\")","v":"X"},{"$f":"IFERROR(HLOOKUP(ACP$6,DEBUT!$CP$2:$DI$18,7,FALSE),\"\")","v":"X"},{"$f":"IFERROR(HLOOKUP(ACP$6,DEBUT!$CP$2:$DI$18,11,FALSE),\"\")","v":"X"},{"$f":"IFERROR(HLOOKUP(ACP$6,DEBUT!$CP$2:$DI$18,15,FALSE),\"\")","v":"X"},null,null,null,{"$f":"IFERROR(HLOOKUP(ACW$6,DEBUT!$CP$2:$DI$18,3,FALSE),\"\")","v":"X"},{"$f":"IFERROR(HLOOKUP(ACW$6,DEBUT!$CP$2:$DI$18,7,FALSE),\"\")","v":"X"},{"$f":"IFERROR(HLOOKUP(ACW$6,DEBUT!$CP$2:$DI$18,11,FALSE),\"\")","v":"X"},{"$f":"IFERROR(HLOOKUP(ACW$6,DEBUT!$CP$2:$DI$18,15,FALSE),\"\")","v":"X"},null,null,null,null,null,null,null,{"$f":"IFERROR(HLOOKUP(ADH$6,DEBUT!$CP$2:$DI$18,3,FALSE),\"\")","v":"X"},{"$f":"IFERROR(HLOOKUP(ADH$6,DEBUT!$CP$2:$DI$18,7,FALSE),\"\")","v":"X"},{"$f":"IFERROR(HLOOKUP(ADH$6,DEBUT!$CP$2:$DI$18,11,FALSE),\"\")","v":"X"},{"$f":"IFERROR(HLOOKUP(ADH$6,DEBUT!$CP$2:$DI$18,15,FALSE),\"\")","v":"X"},null,null,null,{"$f":"IFERROR(HLOOKUP(ADO$6,DEBUT!$CP$2:$DI$18,3,FALSE),\"\")","v":"X"},{"$f":"IFERROR(HLOOKUP(ADO$6,DEBUT!$CP$2:$DI$18,7,FALSE),\"\")","v":"X"},{"$f":"IFERROR(HLOOKUP(ADO$6,DEBUT!$CP$2:$DI$18,11,FALSE),\"\")","v":"X"},{"$f":"IFERROR(HLOOKUP(ADO$6,DEBUT!$CP$2:$DI$18,15,FALSE),\"\")","v":"X"},null,null,null,null,null,{"$f":"IFERROR(HLOOKUP(ADX$6,DEBUT!$CP$2:$DI$18,3,FALSE),\"\")","v":"X"},{"$f":"IFERROR(HLOOKUP(ADX$6,DEBUT!$CP$2:$DI$18,7,FALSE),\"\")","v":"X"},{"$f":"IFERROR(HLOOKUP(ADX$6,DEBUT!$CP$2:$DI$18,11,FALSE),\"\")","v":"X"},{"$f":"IFERROR(HLOOKUP(ADX$6,DEBUT!$CP$2:$DI$18,15,FALSE),\"\")","v":"X"},null,null,null,{"$f":"IFERROR(HLOOKUP(AEE$6,DEBUT!$CP$2:$DI$18,3,FALSE),\"\")","v":"X"},{"$f":"IFERROR(HLOOKUP(AEE$6,DEBUT!$CP$2:$DI$18,7,FALSE),\"\")","v":"X"},{"$f":"IFERROR(HLOOKUP(AEE$6,DEBUT!$CP$2:$DI$18,11,FALSE),\"\")","v":"X"},{"$f":"IFERROR(HLOOKUP(AEE$6,DEBUT!$CP$2:$DI$18,15,FALSE),\"\")","v":"X"}]
[null,null,null,null,null,{"$f":"IFERROR(HLOOKUP(F$6,DEBUT!$CP$2:$DI$18,4,FALSE),\"\")","v":0},{"$f":"IFERROR(HLOOKUP(F$6,DEBUT!$CP$2:$DI$18,8,FALSE),\"\")","v":0},{"$f":"IFERROR(HLOOKUP(F$6,DEBUT!$CP$2:$DI$18,12,FALSE),\"\")","v":0},{"$f":"IFERROR(HLOOKUP(F$6,DEBUT!$CP$2:$DI$18,16,FALSE),\"\")","v":0},null,null,null,{"$f":"IFERROR(HLOOKUP(M$6,DEBUT!$CP$2:$DI$18,4,FALSE),\"\")","v":0},{"$f":"IFERROR(HLOOKUP(M$6,DEBUT!$CP$2:$DI$18,8,FALSE),\"\")","v":0},{"$f":"IFERROR(HLOOKUP(M$6,DEBUT!$CP$2:$DI$18,12,FALSE),\"\")","v":0},{"$f":"IFERROR(HLOOKUP(M$6,DEBUT!$CP$2:$DI$18,16,FALSE),\"\")","v":0},null,null,null,null,null,{"$f":"IFERROR(HLOOKUP(V$6,DEBUT!$CP$2:$DI$18,4,FALSE),\"\")","v":0},{"$f":"IFERROR(HLOOKUP(V$6,DEBUT!$CP$2:$DI$18,8,FALSE),\"\")","v":0},{"$f":"IFERROR(HLOOKUP(V$6,DEBUT!$CP$2:$DI$18,12,FALSE),\"\")","v":0},{"$f":"IFERROR(HLOOKUP(V$6,DEBUT!$CP$2:$DI$18,16,FALSE),\"\")","v":0},null,null,null,{"$f":"IFERROR(HLOOKUP(AC$6,DEBUT!$CP$2:$DI$18,4,FALSE),\"\")","v":0},{"$f":"IFERROR(HLOOKUP(AC$6,DEBUT!$CP$2:$DI$18,8,FALSE),\"\")","v":0},{"$f":"IFERROR(HLOOKUP(AC$6,DEBUT!$CP$2:$DI$18,12,FALSE),\"\")","v":0},{"$f":"IFERROR(HLOOKUP(AC$6,DEBUT!$CP$2:$DI$18,16,FALSE),\"\")","v":0},null,null,null,null,null,null,null,{"$f":"IFERROR(HLOOKUP(AN$6,DEBUT!$CP$2:$DI$18,4,FALSE),\"\")","v":0},{"$f":"IFERROR(HLOOKUP(AN$6,DEBUT!$CP$2:$DI$18,8,FALSE),\"\")","v":0},{"$f":"IFERROR(HLOOKUP(AN$6,DEBUT!$CP$2:$DI$18,12,FALSE),\"\")","v":0},{"$f":"IFERROR(HLOOKUP(AN$6,DEBUT!$CP$2:$DI$18,16,FALSE),\"\")","v":0},null,null,null,{"$f":"IFERROR(HLOOKUP(AU$6,DEBUT!$CP$2:$DI$18,4,FALSE),\"\")","v":0},{"$f":"IFERROR(HLOOKUP(AU$6,DEBUT!$CP$2:$DI$18,8,FALSE),\"\")","v":0},{"$f":"IFERROR(HLOOKUP(AU$6,DEBUT!$CP$2:$DI$18,12,FALSE),\"\")","v":0},{"$f":"IFERROR(HLOOKUP(AU$6,DEBUT!$CP$2:$DI$18,16,FALSE),\"\")","v":0},null,null,null,null,null,{"$f":"IFERROR(HLOOKUP(BD$6,DEBUT!$CP$2:$DI$18,4,FALSE),\"\")","v":0},{"$f":"IFERROR(HLOOKUP(BD$6,DEBUT!$CP$2:$DI$18,8,FALSE),\"\")","v":0},{"$f":"IFERROR(HLOOKUP(BD$6,DEBUT!$CP$2:$DI$18,12,FALSE),\"\")","v":0},{"$f":"IFERROR(HLOOKUP(BD$6,DEBUT!$CP$2:$DI$18,16,FALSE),\"\")","v":0},null,null,null,{"$f":"IFERROR(HLOOKUP(BK$6,DEBUT!$CP$2:$DI$18,4,FALSE),\"\")","v":0},{"$f":"IFERROR(HLOOKUP(BK$6,DEBUT!$CP$2:$DI$18,8,FALSE),\"\")","v":0},{"$f":"IFERROR(HLOOKUP(BK$6,DEBUT!$CP$2:$DI$18,12,FALSE),\"\")","v":0},{"$f":"IFERROR(HLOOKUP(BK$6,DEBUT!$CP$2:$DI$18,16,FALSE),\"\")","v":0},null,null,null,null,null,null,null,{"$f":"IFERROR(HLOOKUP(BV$6,DEBUT!$CP$2:$DI$18,4,FALSE),\"\")","v":0},{"$f":"IFERROR(HLOOKUP(BV$6,DEBUT!$CP$2:$DI$18,8,FALSE),\"\")","v":0},{"$f":"IFERROR(HLOOKUP(BV$6,DEBUT!$CP$2:$DI$18,12,FALSE),\"\")","v":0},{"$f":"IFERROR(HLOOKUP(BV$6,DEBUT!$CP$2:$DI$18,16,FALSE),\"\")","v":0},null,null,null,{"$f":"IFERROR(HLOOKUP(CC$6,DEBUT!$CP$2:$DI$18,4,FALSE),\"\")","v":0},{"$f":"IFERROR(HLOOKUP(CC$6,DEBUT!$CP$2:$DI$18,8,FALSE),\"\")","v":0},{"$f":"IFERROR(HLOOKUP(CC$6,DEBUT!$CP$2:$DI$18,12,FALSE),\"\")","v":0},{"$f":"IFERROR(HLOOKUP(CC$6,DEBUT!$CP$2:$DI$18,16,FALSE),\"\")","v":0},null,null,null,null,null,{"$f":"IFERROR(HLOOKUP(CL$6,DEBUT!$CP$2:$DI$18,4,FALSE),\"\")","v":0},{"$f":"IFERROR(HLOOKUP(CL$6,DEBUT!$CP$2:$DI$18,8,FALSE),\"\")","v":0},{"$f":"IFERROR(HLOOKUP(CL$6,DEBUT!$CP$2:$DI$18,12,FALSE),\"\")","v":0},{"$f":"IFERROR(HLOOKUP(CL$6,DEBUT!$CP$2:$DI$18,16,FALSE),\"\")","v":0},null,null,null,{"$f":"IFERROR(HLOOKUP(CS$6,DEBUT!$CP$2:$DI$18,4,FALSE),\"\")","v":0},{"$f":"IFERROR(HLOOKUP(CS$6,DEBUT!$CP$2:$DI$18,8,FALSE),\"\")","v":0},{"$f":"IFERROR(HLOOKUP(CS$6,DEBUT!$CP$2:$DI$18,12,FALSE),\"\")","v":0},{"$f":"IFERROR(HLOOKUP(CS$6,DEBUT!$CP$2:$DI$18,16,FALSE),\"\")","v":0},null,null,null,null,null,null,null,{"$f":"IFERROR(HLOOKUP(DD$6,DEBUT!$CP$2:$DI$18,4,FALSE),\"\")","v":0},{"$f":"IFERROR(HLOOKUP(DD$6,DEBUT!$CP$2:$DI$18,8,FALSE),\"\")","v":0},{"$f":"IFERROR(HLOOKUP(DD$6,DEBUT!$CP$2:$DI$18,12,FALSE),\"\")","v":0},{"$f":"IFERROR(HLOOKUP(DD$6,DEBUT!$CP$2:$DI$18,16,FALSE),\"\")","v":0},null,null,null,{"$f":"IFERROR(HLOOKUP(DK$6,DEBUT!$CP$2:$DI$18,4,FALSE),\"\")","v":0},{"$f":"IFERROR(HLOOKUP(DK$6,DEBUT!$CP$2:$DI$18,8,FALSE),\"\")","v":0},{"$f":"IFERROR(HLOOKUP(DK$6,DEBUT!$CP$2:$DI$18,12,FALSE),\"\")","v":0},{"$f":"IFERROR(HLOOKUP(DK$6,DEBUT!$CP$2:$DI$18,16,FALSE),\"\")","v":0},null,null,null,null,null,{"$f":"IFERROR(HLOOKUP(DT$6,DEBUT!$CP$2:$DI$18,4,FALSE),\"\")","v":0},{"$f":"IFERROR(HLOOKUP(DT$6,DEBUT!$CP$2:$DI$18,8,FALSE),\"\")","v":0},{"$f":"IFERROR(HLOOKUP(DT$6,DEBUT!$CP$2:$DI$18,12,FALSE),\"\")","v":0},{"$f":"IFERROR(HLOOKUP(DT$6,DEBUT!$CP$2:$DI$18,16,FALSE),\"\")","v":0},null,null,null,{"$f":"IFERROR(HLOOKUP(EA$6,DEBUT!$CP$2:$DI$18,4,FALSE),\"\")","v":0},{"$f":"IFERROR(HLOOKUP(EA$6,DEBUT!$CP$2:$DI$18,8,FALSE),\"\")","v":0},{"$f":"IFERROR(HLOOKUP(EA$6,DEBUT!$CP$2:$DI$18,12,FALSE),\"\")","v":0},{"$f":"IFERROR(HLOOKUP(EA$6,DEBUT!$CP$2:$DI$18,16,FALSE),\"\")","v":0},null,null,null,null,null,null,null,{"$f":"IFERROR(HLOOKUP(EL$6,DEBUT!$CP$2:$DI$18,4,FALSE),\"\")","v":0},{"$f":"IFERROR(HLOOKUP(EL$6,DEBUT!$CP$2:$DI$18,8,FALSE),\"\")","v":0},{"$f":"IFERROR(HLOOKUP(EL$6,DEBUT!$CP$2:$DI$18,12,FALSE),\"\")","v":0},{"$f":"IFERROR(HLOOKUP(EL$6,DEBUT!$CP$2:$DI$18,16,FALSE),\"\")","v":0},null,null,null,{"$f":"IFERROR(HLOOKUP(ES$6,DEBUT!$CP$2:$DI$18,4,FALSE),\"\")","v":0},{"$f":"IFERROR(HLOOKUP(ES$6,DEBUT!$CP$2:$DI$18,8,FALSE),\"\")","v":0},{"$f":"IFERROR(HLOOKUP(ES$6,DEBUT!$CP$2:$DI$18,12,FALSE),\"\")","v":0},{"$f":"IFERROR(HLOOKUP(ES$6,DEBUT!$CP$2:$DI$18,16,FALSE),\"\")","v":0},null,null,null,null,null,{"$f":"IFERROR(HLOOKUP(FB$6,DEBUT!$CP$2:$DI$18,4,FALSE),\"\")","v":0},{"$f":"IFERROR(HLOOKUP(FB$6,DEBUT!$CP$2:$DI$18,8,FALSE),\"\")","v":0},{"$f":"IFERROR(HLOOKUP(FB$6,DEBUT!$CP$2:$DI$18,12,FALSE),\"\")","v":0},{"$f":"IFERROR(HLOOKUP(FB$6,DEBUT!$CP$2:$DI$18,16,FALSE),\"\")","v":0},null,null,null,{"$f":"IFERROR(HLOOKUP(FI$6,DEBUT!$CP$2:$DI$18,4,FALSE),\"\")","v":0},{"$f":"IFERROR(HLOOKUP(FI$6,DEBUT!$CP$2:$DI$18,8,FALSE),\"\")","v":0},{"$f":"IFERROR(HLOOKUP(FI$6,DEBUT!$CP$2:$DI$18,12,FALSE),\"\")","v":0},{"$f":"IFERROR(HLOOKUP(FI$6,DEBUT!$CP$2:$DI$18,16,FALSE),\"\")","v":0},null,null,null,null,null,null,null,{"$f":"IFERROR(HLOOKUP(FT$6,DEBUT!$CP$2:$DI$18,4,FALSE),\"\")","v":0},{"$f":"IFERROR(HLOOKUP(FT$6,DEBUT!$CP$2:$DI$18,8,FALSE),\"\")","v":0},{"$f":"IFERROR(HLOOKUP(FT$6,DEBUT!$CP$2:$DI$18,12,FALSE),\"\")","v":0},{"$f":"IFERROR(HLOOKUP(FT$6,DEBUT!$CP$2:$DI$18,16,FALSE),\"\")","v":0},null,null,null,{"$f":"IFERROR(HLOOKUP(GA$6,DEBUT!$CP$2:$DI$18,4,FALSE),\"\")","v":0},{"$f":"IFERROR(HLOOKUP(GA$6,DEBUT!$CP$2:$DI$18,8,FALSE),\"\")","v":0},{"$f":"IFERROR(HLOOKUP(GA$6,DEBUT!$CP$2:$DI$18,12,FALSE),\"\")","v":0},{"$f":"IFERROR(HLOOKUP(GA$6,DEBUT!$CP$2:$DI$18,16,FALSE),\"\")","v":0},null,null,null,null,null,{"$f":"IFERROR(HLOOKUP(GJ$6,DEBUT!$CP$2:$DI$18,4,FALSE),\"\")","v":0},{"$f":"IFERROR(HLOOKUP(GJ$6,DEBUT!$CP$2:$DI$18,8,FALSE),\"\")","v":0},{"$f":"IFERROR(HLOOKUP(GJ$6,DEBUT!$CP$2:$DI$18,12,FALSE),\"\")","v":0},{"$f":"IFERROR(HLOOKUP(GJ$6,DEBUT!$CP$2:$DI$18,16,FALSE),\"\")","v":0},null,null,null,{"$f":"IFERROR(HLOOKUP(GQ$6,DEBUT!$CP$2:$DI$18,4,FALSE),\"\")","v":0},{"$f":"IFERROR(HLOOKUP(GQ$6,DEBUT!$CP$2:$DI$18,8,FALSE),\"\")","v":0},{"$f":"IFERROR(HLOOKUP(GQ$6,DEBUT!$CP$2:$DI$18,12,FALSE),\"\")","v":0},{"$f":"IFERROR(HLOOKUP(GQ$6,DEBUT!$CP$2:$DI$18,16,FALSE),\"\")","v":0},null,null,null,null,null,null,null,{"$f":"IFERROR(HLOOKUP(HB$6,DEBUT!$CP$2:$DI$18,4,FALSE),\"\")","v":0},{"$f":"IFERROR(HLOOKUP(HB$6,DEBUT!$CP$2:$DI$18,8,FALSE),\"\")","v":0},{"$f":"IFERROR(HLOOKUP(HB$6,DEBUT!$CP$2:$DI$18,12,FALSE),\"\")","v":0},{"$f":"IFERROR(HLOOKUP(HB$6,DEBUT!$CP$2:$DI$18,16,FALSE),\"\")","v":0},null,null,null,{"$f":"IFERROR(HLOOKUP(HI$6,DEBUT!$CP$2:$DI$18,4,FALSE),\"\")","v":0},{"$f":"IFERROR(HLOOKUP(HI$6,DEBUT!$CP$2:$DI$18,8,FALSE),\"\")","v":0},{"$f":"IFERROR(HLOOKUP(HI$6,DEBUT!$CP$2:$DI$18,12,FALSE),\"\")","v":0},{"$f":"IFERROR(HLOOKUP(HI$6,DEBUT!$CP$2:$DI$18,16,FALSE),\"\")","v":0},null,null,null,null,null,{"$f":"IFERROR(HLOOKUP(HR$6,DEBUT!$CP$2:$DI$18,4,FALSE),\"\")","v":0},{"$f":"IFERROR(HLOOKUP(HR$6,DEBUT!$CP$2:$DI$18,8,FALSE),\"\")","v":0},{"$f":"IFERROR(HLOOKUP(HR$6,DEBUT!$CP$2:$DI$18,12,FALSE),\"\")","v":0},{"$f":"IFERROR(HLOOKUP(HR$6,DEBUT!$CP$2:$DI$18,16,FALSE),\"\")","v":0},null,null,null,{"$f":"IFERROR(HLOOKUP(HY$6,DEBUT!$CP$2:$DI$18,4,FALSE),\"\")","v":0},{"$f":"IFERROR(HLOOKUP(HY$6,DEBUT!$CP$2:$DI$18,8,FALSE),\"\")","v":0},{"$f":"IFERROR(HLOOKUP(HY$6,DEBUT!$CP$2:$DI$18,12,FALSE),\"\")","v":0},{"$f":"IFERROR(HLOOKUP(HY$6,DEBUT!$CP$2:$DI$18,16,FALSE),\"\")","v":0},null,null,null,null,null,null,null,{"$f":"IFERROR(HLOOKUP(IJ$6,DEBUT!$CP$2:$DI$18,4,FALSE),\"\")","v":0},{"$f":"IFERROR(HLOOKUP(IJ$6,DEBUT!$CP$2:$DI$18,8,FALSE),\"\")","v":0},{"$f":"IFERROR(HLOOKUP(IJ$6,DEBUT!$CP$2:$DI$18,12,FALSE),\"\")","v":0},{"$f":"IFERROR(HLOOKUP(IJ$6,DEBUT!$CP$2:$DI$18,16,FALSE),\"\")","v":0},null,null,null,{"$f":"IFERROR(HLOOKUP(IQ$6,DEBUT!$CP$2:$DI$18,4,FALSE),\"\")","v":0},{"$f":"IFERROR(HLOOKUP(IQ$6,DEBUT!$CP$2:$DI$18,8,FALSE),\"\")","v":0},{"$f":"IFERROR(HLOOKUP(IQ$6,DEBUT!$CP$2:$DI$18,12,FALSE),\"\")","v":0},{"$f":"IFERROR(HLOOKUP(IQ$6,DEBUT!$CP$2:$DI$18,16,FALSE),\"\")","v":0},null,null,null,null,null,{"$f":"IFERROR(HLOOKUP(IZ$6,DEBUT!$CP$2:$DI$18,4,FALSE),\"\")","v":0},{"$f":"IFERROR(HLOOKUP(IZ$6,DEBUT!$CP$2:$DI$18,8,FALSE),\"\")","v":0},{"$f":"IFERROR(HLOOKUP(IZ$6,DEBUT!$CP$2:$DI$18,12,FALSE),\"\")","v":0},{"$f":"IFERROR(HLOOKUP(IZ$6,DEBUT!$CP$2:$DI$18,16,FALSE),\"\")","v":0},null,null,null,{"$f":"IFERROR(HLOOKUP(JG$6,DEBUT!$CP$2:$DI$18,4,FALSE),\"\")","v":0},{"$f":"IFERROR(HLOOKUP(JG$6,DEBUT!$CP$2:$DI$18,8,FALSE),\"\")","v":0},{"$f":"IFERROR(HLOOKUP(JG$6,DEBUT!$CP$2:$DI$18,12,FALSE),\"\")","v":0},{"$f":"IFERROR(HLOOKUP(JG$6,DEBUT!$CP$2:$DI$18,16,FALSE),\"\")","v":0},null,null,null,null,null,null,null,{"$f":"IFERROR(HLOOKUP(JR$6,DEBUT!$CP$2:$DI$18,4,FALSE),\"\")","v":0},{"$f":"IFERROR(HLOOKUP(JR$6,DEBUT!$CP$2:$DI$18,8,FALSE),\"\")","v":0},{"$f":"IFERROR(HLOOKUP(JR$6,DEBUT!$CP$2:$DI$18,12,FALSE),\"\")","v":0},{"$f":"IFERROR(HLOOKUP(JR$6,DEBUT!$CP$2:$DI$18,16,FALSE),\"\")","v":0},null,null,null,{"$f":"IFERROR(HLOOKUP(JY$6,DEBUT!$CP$2:$DI$18,4,FALSE),\"\")","v":0},{"$f":"IFERROR(HLOOKUP(JY$6,DEBUT!$CP$2:$DI$18,8,FALSE),\"\")","v":0},{"$f":"IFERROR(HLOOKUP(JY$6,DEBUT!$CP$2:$DI$18,12,FALSE),\"\")","v":0},{"$f":"IFERROR(HLOOKUP(JY$6,DEBUT!$CP$2:$DI$18,16,FALSE),\"\")","v":0},null,null,null,null,null,{"$f":"IFERROR(HLOOKUP(KH$6,DEBUT!$CP$2:$DI$18,4,FALSE),\"\")","v":0},{"$f":"IFERROR(HLOOKUP(KH$6,DEBUT!$CP$2:$DI$18,8,FALSE),\"\")","v":0},{"$f":"IFERROR(HLOOKUP(KH$6,DEBUT!$CP$2:$DI$18,12,FALSE),\"\")","v":0},{"$f":"IFERROR(HLOOKUP(KH$6,DEBUT!$CP$2:$DI$18,16,FALSE),\"\")","v":0},null,null,null,{"$f":"IFERROR(HLOOKUP(KO$6,DEBUT!$CP$2:$DI$18,4,FALSE),\"\")","v":0},{"$f":"IFERROR(HLOOKUP(KO$6,DEBUT!$CP$2:$DI$18,8,FALSE),\"\")","v":0},{"$f":"IFERROR(HLOOKUP(KO$6,DEBUT!$CP$2:$DI$18,12,FALSE),\"\")","v":0},{"$f":"IFERROR(HLOOKUP(KO$6,DEBUT!$CP$2:$DI$18,16,FALSE),\"\")","v":0},null,null,null,null,null,null,null,{"$f":"IFERROR(HLOOKUP(KZ$6,DEBUT!$CP$2:$DI$18,4,FALSE),\"\")","v":0},{"$f":"IFERROR(HLOOKUP(KZ$6,DEBUT!$CP$2:$DI$18,8,FALSE),\"\")","v":0},{"$f":"IFERROR(HLOOKUP(KZ$6,DEBUT!$CP$2:$DI$18,12,FALSE),\"\")","v":0},{"$f":"IFERROR(HLOOKUP(KZ$6,DEBUT!$CP$2:$DI$18,16,FALSE),\"\")","v":0},null,null,null,{"$f":"IFERROR(HLOOKUP(LG$6,DEBUT!$CP$2:$DI$18,4,FALSE),\"\")","v":0},{"$f":"IFERROR(HLOOKUP(LG$6,DEBUT!$CP$2:$DI$18,8,FALSE),\"\")","v":0},{"$f":"IFERROR(HLOOKUP(LG$6,DEBUT!$CP$2:$DI$18,12,FALSE),\"\")","v":0},{"$f":"IFERROR(HLOOKUP(LG$6,DEBUT!$CP$2:$DI$18,16,FALSE),\"\")","v":0},null,null,null,null,null,{"$f":"IFERROR(HLOOKUP(LP$6,DEBUT!$CP$2:$DI$18,4,FALSE),\"\")","v":0},{"$f":"IFERROR(HLOOKUP(LP$6,DEBUT!$CP$2:$DI$18,8,FALSE),\"\")","v":0},{"$f":"IFERROR(HLOOKUP(LP$6,DEBUT!$CP$2:$DI$18,12,FALSE),\"\")","v":0},{"$f":"IFERROR(HLOOKUP(LP$6,DEBUT!$CP$2:$DI$18,16,FALSE),\"\")","v":0},null,null,null,{"$f":"IFERROR(HLOOKUP(LW$6,DEBUT!$CP$2:$DI$18,4,FALSE),\"\")","v":0},{"$f":"IFERROR(HLOOKUP(LW$6,DEBUT!$CP$2:$DI$18,8,FALSE),\"\")","v":0},{"$f":"IFERROR(HLOOKUP(LW$6,DEBUT!$CP$2:$DI$18,12,FALSE),\"\")","v":0},{"$f":"IFERROR(HLOOKUP(LW$6,DEBUT!$CP$2:$DI$18,16,FALSE),\"\")","v":0},null,null,null,null,null,null,null,{"$f":"IFERROR(HLOOKUP(MH$6,DEBUT!$CP$2:$DI$18,4,FALSE),\"\")","v":0},{"$f":"IFERROR(HLOOKUP(MH$6,DEBUT!$CP$2:$DI$18,8,FALSE),\"\")","v":0},{"$f":"IFERROR(HLOOKUP(MH$6,DEBUT!$CP$2:$DI$18,12,FALSE),\"\")","v":0},{"$f":"IFERROR(HLOOKUP(MH$6,DEBUT!$CP$2:$DI$18,16,FALSE),\"\")","v":0},null,null,null,{"$f":"IFERROR(HLOOKUP(MO$6,DEBUT!$CP$2:$DI$18,4,FALSE),\"\")","v":0},{"$f":"IFERROR(HLOOKUP(MO$6,DEBUT!$CP$2:$DI$18,8,FALSE),\"\")","v":0},{"$f":"IFERROR(HLOOKUP(MO$6,DEBUT!$CP$2:$DI$18,12,FALSE),\"\")","v":0},{"$f":"IFERROR(HLOOKUP(MO$6,DEBUT!$CP$2:$DI$18,16,FALSE),\"\")","v":0},null,null,null,null,null,{"$f":"IFERROR(HLOOKUP(MX$6,DEBUT!$CP$2:$DI$18,4,FALSE),\"\")","v":0},{"$f":"IFERROR(HLOOKUP(MX$6,DEBUT!$CP$2:$DI$18,8,FALSE),\"\")","v":0},{"$f":"IFERROR(HLOOKUP(MX$6,DEBUT!$CP$2:$DI$18,12,FALSE),\"\")","v":0},{"$f":"IFERROR(HLOOKUP(MX$6,DEBUT!$CP$2:$DI$18,16,FALSE),\"\")","v":0},null,null,null,{"$f":"IFERROR(HLOOKUP(NE$6,DEBUT!$CP$2:$DI$18,4,FALSE),\"\")","v":0},{"$f":"IFERROR(HLOOKUP(NE$6,DEBUT!$CP$2:$DI$18,8,FALSE),\"\")","v":0},{"$f":"IFERROR(HLOOKUP(NE$6,DEBUT!$CP$2:$DI$18,12,FALSE),\"\")","v":0},{"$f":"IFERROR(HLOOKUP(NE$6,DEBUT!$CP$2:$DI$18,16,FALSE),\"\")","v":0},null,null,null,null,null,null,null,{"$f":"IFERROR(HLOOKUP(NP$6,DEBUT!$CP$2:$DI$18,4,FALSE),\"\")","v":0},{"$f":"IFERROR(HLOOKUP(NP$6,DEBUT!$CP$2:$DI$18,8,FALSE),\"\")","v":0},{"$f":"IFERROR(HLOOKUP(NP$6,DEBUT!$CP$2:$DI$18,12,FALSE),\"\")","v":0},{"$f":"IFERROR(HLOOKUP(NP$6,DEBUT!$CP$2:$DI$18,16,FALSE),\"\")","v":0},null,null,null,{"$f":"IFERROR(HLOOKUP(NW$6,DEBUT!$CP$2:$DI$18,4,FALSE),\"\")","v":0},{"$f":"IFERROR(HLOOKUP(NW$6,DEBUT!$CP$2:$DI$18,8,FALSE),\"\")","v":0},{"$f":"IFERROR(HLOOKUP(NW$6,DEBUT!$CP$2:$DI$18,12,FALSE),\"\")","v":0},{"$f":"IFERROR(HLOOKUP(NW$6,DEBUT!$CP$2:$DI$18,16,FALSE),\"\")","v":0},null,null,null,null,null,{"$f":"IFERROR(HLOOKUP(OF$6,DEBUT!$CP$2:$DI$18,4,FALSE),\"\")","v":0},{"$f":"IFERROR(HLOOKUP(OF$6,DEBUT!$CP$2:$DI$18,8,FALSE),\"\")","v":0},{"$f":"IFERROR(HLOOKUP(OF$6,DEBUT!$CP$2:$DI$18,12,FALSE),\"\")","v":0},{"$f":"IFERROR(HLOOKUP(OF$6,DEBUT!$CP$2:$DI$18,16,FALSE),\"\")","v":0},null,null,null,{"$f":"IFERROR(HLOOKUP(OM$6,DEBUT!$CP$2:$DI$18,4,FALSE),\"\")","v":0},{"$f":"IFERROR(HLOOKUP(OM$6,DEBUT!$CP$2:$DI$18,8,FALSE),\"\")","v":0},{"$f":"IFERROR(HLOOKUP(OM$6,DEBUT!$CP$2:$DI$18,12,FALSE),\"\")","v":0},{"$f":"IFERROR(HLOOKUP(OM$6,DEBUT!$CP$2:$DI$18,16,FALSE),\"\")","v":0},null,null,null,null,null,null,null,{"$f":"IFERROR(HLOOKUP(OX$6,DEBUT!$CP$2:$DI$18,4,FALSE),\"\")","v":0},{"$f":"IFERROR(HLOOKUP(OX$6,DEBUT!$CP$2:$DI$18,8,FALSE),\"\")","v":0},{"$f":"IFERROR(HLOOKUP(OX$6,DEBUT!$CP$2:$DI$18,12,FALSE),\"\")","v":0},{"$f":"IFERROR(HLOOKUP(OX$6,DEBUT!$CP$2:$DI$18,16,FALSE),\"\")","v":0},null,null,null,{"$f":"IFERROR(HLOOKUP(PE$6,DEBUT!$CP$2:$DI$18,4,FALSE),\"\")","v":0},{"$f":"IFERROR(HLOOKUP(PE$6,DEBUT!$CP$2:$DI$18,8,FALSE),\"\")","v":0},{"$f":"IFERROR(HLOOKUP(PE$6,DEBUT!$CP$2:$DI$18,12,FALSE),\"\")","v":0},{"$f":"IFERROR(HLOOKUP(PE$6,DEBUT!$CP$2:$DI$18,16,FALSE),\"\")","v":0},null,null,null,null,null,{"$f":"IFERROR(HLOOKUP(PN$6,DEBUT!$CP$2:$DI$18,4,FALSE),\"\")","v":0},{"$f":"IFERROR(HLOOKUP(PN$6,DEBUT!$CP$2:$DI$18,8,FALSE),\"\")","v":0},{"$f":"IFERROR(HLOOKUP(PN$6,DEBUT!$CP$2:$DI$18,12,FALSE),\"\")","v":0},{"$f":"IFERROR(HLOOKUP(PN$6,DEBUT!$CP$2:$DI$18,16,FALSE),\"\")","v":0},null,null,null,{"$f":"IFERROR(HLOOKUP(PU$6,DEBUT!$CP$2:$DI$18,4,FALSE),\"\")","v":0},{"$f":"IFERROR(HLOOKUP(PU$6,DEBUT!$CP$2:$DI$18,8,FALSE),\"\")","v":0},{"$f":"IFERROR(HLOOKUP(PU$6,DEBUT!$CP$2:$DI$18,12,FALSE),\"\")","v":0},{"$f":"IFERROR(HLOOKUP(PU$6,DEBUT!$CP$2:$DI$18,16,FALSE),\"\")","v":0},null,null,null,null,null,null,null,{"$f":"IFERROR(HLOOKUP(QF$6,DEBUT!$CP$2:$DI$18,4,FALSE),\"\")","v":0},{"$f":"IFERROR(HLOOKUP(QF$6,DEBUT!$CP$2:$DI$18,8,FALSE),\"\")","v":0},{"$f":"IFERROR(HLOOKUP(QF$6,DEBUT!$CP$2:$DI$18,12,FALSE),\"\")","v":0},{"$f":"IFERROR(HLOOKUP(QF$6,DEBUT!$CP$2:$DI$18,16,FALSE),\"\")","v":0},null,null,null,{"$f":"IFERROR(HLOOKUP(QM$6,DEBUT!$CP$2:$DI$18,4,FALSE),\"\")","v":0},{"$f":"IFERROR(HLOOKUP(QM$6,DEBUT!$CP$2:$DI$18,8,FALSE),\"\")","v":0},{"$f":"IFERROR(HLOOKUP(QM$6,DEBUT!$CP$2:$DI$18,12,FALSE),\"\")","v":0},{"$f":"IFERROR(HLOOKUP(QM$6,DEBUT!$CP$2:$DI$18,16,FALSE),\"\")","v":0},null,null,null,null,null,{"$f":"IFERROR(HLOOKUP(QV$6,DEBUT!$CP$2:$DI$18,4,FALSE),\"\")","v":0},{"$f":"IFERROR(HLOOKUP(QV$6,DEBUT!$CP$2:$DI$18,8,FALSE),\"\")","v":0},{"$f":"IFERROR(HLOOKUP(QV$6,DEBUT!$CP$2:$DI$18,12,FALSE),\"\")","v":0},{"$f":"IFERROR(HLOOKUP(QV$6,DEBUT!$CP$2:$DI$18,16,FALSE),\"\")","v":0},null,null,null,{"$f":"IFERROR(HLOOKUP(RC$6,DEBUT!$CP$2:$DI$18,4,FALSE),\"\")","v":0},{"$f":"IFERROR(HLOOKUP(RC$6,DEBUT!$CP$2:$DI$18,8,FALSE),\"\")","v":0},{"$f":"IFERROR(HLOOKUP(RC$6,DEBUT!$CP$2:$DI$18,12,FALSE),\"\")","v":0},{"$f":"IFERROR(HLOOKUP(RC$6,DEBUT!$CP$2:$DI$18,16,FALSE),\"\")","v":0},null,null,null,null,null,null,null,{"$f":"IFERROR(HLOOKUP(RN$6,DEBUT!$CP$2:$DI$18,4,FALSE),\"\")","v":0},{"$f":"IFERROR(HLOOKUP(RN$6,DEBUT!$CP$2:$DI$18,8,FALSE),\"\")","v":0},{"$f":"IFERROR(HLOOKUP(RN$6,DEBUT!$CP$2:$DI$18,12,FALSE),\"\")","v":0},{"$f":"IFERROR(HLOOKUP(RN$6,DEBUT!$CP$2:$DI$18,16,FALSE),\"\")","v":0},null,null,null,{"$f":"IFERROR(HLOOKUP(RU$6,DEBUT!$CP$2:$DI$18,4,FALSE),\"\")","v":0},{"$f":"IFERROR(HLOOKUP(RU$6,DEBUT!$CP$2:$DI$18,8,FALSE),\"\")","v":0},{"$f":"IFERROR(HLOOKUP(RU$6,DEBUT!$CP$2:$DI$18,12,FALSE),\"\")","v":0},{"$f":"IFERROR(HLOOKUP(RU$6,DEBUT!$CP$2:$DI$18,16,FALSE),\"\")","v":0},null,null,null,null,null,{"$f":"IFERROR(HLOOKUP(SD$6,DEBUT!$CP$2:$DI$18,4,FALSE),\"\")","v":0},{"$f":"IFERROR(HLOOKUP(SD$6,DEBUT!$CP$2:$DI$18,8,FALSE),\"\")","v":0},{"$f":"IFERROR(HLOOKUP(SD$6,DEBUT!$CP$2:$DI$18,12,FALSE),\"\")","v":0},{"$f":"IFERROR(HLOOKUP(SD$6,DEBUT!$CP$2:$DI$18,16,FALSE),\"\")","v":0},null,null,null,{"$f":"IFERROR(HLOOKUP(SK$6,DEBUT!$CP$2:$DI$18,4,FALSE),\"\")","v":0},{"$f":"IFERROR(HLOOKUP(SK$6,DEBUT!$CP$2:$DI$18,8,FALSE),\"\")","v":0},{"$f":"IFERROR(HLOOKUP(SK$6,DEBUT!$CP$2:$DI$18,12,FALSE),\"\")","v":0},{"$f":"IFERROR(HLOOKUP(SK$6,DEBUT!$CP$2:$DI$18,16,FALSE),\"\")","v":0},null,null,null,null,null,null,null,{"$f":"IFERROR(HLOOKUP(SV$6,DEBUT!$CP$2:$DI$18,4,FALSE),\"\")","v":0},{"$f":"IFERROR(HLOOKUP(SV$6,DEBUT!$CP$2:$DI$18,8,FALSE),\"\")","v":0},{"$f":"IFERROR(HLOOKUP(SV$6,DEBUT!$CP$2:$DI$18,12,FALSE),\"\")","v":0},{"$f":"IFERROR(HLOOKUP(SV$6,DEBUT!$CP$2:$DI$18,16,FALSE),\"\")","v":0},null,null,null,{"$f":"IFERROR(HLOOKUP(TC$6,DEBUT!$CP$2:$DI$18,4,FALSE),\"\")","v":0},{"$f":"IFERROR(HLOOKUP(TC$6,DEBUT!$CP$2:$DI$18,8,FALSE),\"\")","v":0},{"$f":"IFERROR(HLOOKUP(TC$6,DEBUT!$CP$2:$DI$18,12,FALSE),\"\")","v":0},{"$f":"IFERROR(HLOOKUP(TC$6,DEBUT!$CP$2:$DI$18,16,FALSE),\"\")","v":0},null,null,null,null,null,{"$f":"IFERROR(HLOOKUP(TL$6,DEBUT!$CP$2:$DI$18,4,FALSE),\"\")","v":0},{"$f":"IFERROR(HLOOKUP(TL$6,DEBUT!$CP$2:$DI$18,8,FALSE),\"\")","v":0},{"$f":"IFERROR(HLOOKUP(TL$6,DEBUT!$CP$2:$DI$18,12,FALSE),\"\")","v":0},{"$f":"IFERROR(HLOOKUP(TL$6,DEBUT!$CP$2:$DI$18,16,FALSE),\"\")","v":0},null,null,null,{"$f":"IFERROR(HLOOKUP(TS$6,DEBUT!$CP$2:$DI$18,4,FALSE),\"\")","v":0},{"$f":"IFERROR(HLOOKUP(TS$6,DEBUT!$CP$2:$DI$18,8,FALSE),\"\")","v":0},{"$f":"IFERROR(HLOOKUP(TS$6,DEBUT!$CP$2:$DI$18,12,FALSE),\"\")","v":0},{"$f":"IFERROR(HLOOKUP(TS$6,DEBUT!$CP$2:$DI$18,16,FALSE),\"\")","v":0},null,null,null,null,null,null,null,{"$f":"IFERROR(HLOOKUP(UD$6,DEBUT!$CP$2:$DI$18,4,FALSE),\"\")","v":0},{"$f":"IFERROR(HLOOKUP(UD$6,DEBUT!$CP$2:$DI$18,8,FALSE),\"\")","v":0},{"$f":"IFERROR(HLOOKUP(UD$6,DEBUT!$CP$2:$DI$18,12,FALSE),\"\")","v":0},{"$f":"IFERROR(HLOOKUP(UD$6,DEBUT!$CP$2:$DI$18,16,FALSE),\"\")","v":0},null,null,null,{"$f":"IFERROR(HLOOKUP(UK$6,DEBUT!$CP$2:$DI$18,4,FALSE),\"\")","v":0},{"$f":"IFERROR(HLOOKUP(UK$6,DEBUT!$CP$2:$DI$18,8,FALSE),\"\")","v":0},{"$f":"IFERROR(HLOOKUP(UK$6,DEBUT!$CP$2:$DI$18,12,FALSE),\"\")","v":0},{"$f":"IFERROR(HLOOKUP(UK$6,DEBUT!$CP$2:$DI$18,16,FALSE),\"\")","v":0},null,null,null,null,null,{"$f":"IFERROR(HLOOKUP(UT$6,DEBUT!$CP$2:$DI$18,4,FALSE),\"\")","v":0},{"$f":"IFERROR(HLOOKUP(UT$6,DEBUT!$CP$2:$DI$18,8,FALSE),\"\")","v":0},{"$f":"IFERROR(HLOOKUP(UT$6,DEBUT!$CP$2:$DI$18,12,FALSE),\"\")","v":0},{"$f":"IFERROR(HLOOKUP(UT$6,DEBUT!$CP$2:$DI$18,16,FALSE),\"\")","v":0},null,null,null,{"$f":"IFERROR(HLOOKUP(VA$6,DEBUT!$CP$2:$DI$18,4,FALSE),\"\")","v":0},{"$f":"IFERROR(HLOOKUP(VA$6,DEBUT!$CP$2:$DI$18,8,FALSE),\"\")","v":0},{"$f":"IFERROR(HLOOKUP(VA$6,DEBUT!$CP$2:$DI$18,12,FALSE),\"\")","v":0},{"$f":"IFERROR(HLOOKUP(VA$6,DEBUT!$CP$2:$DI$18,16,FALSE),\"\")","v":0},null,null,null,null,null,null,null,{"$f":"IFERROR(HLOOKUP(VL$6,DEBUT!$CP$2:$DI$18,4,FALSE),\"\")","v":0},{"$f":"IFERROR(HLOOKUP(VL$6,DEBUT!$CP$2:$DI$18,8,FALSE),\"\")","v":0},{"$f":"IFERROR(HLOOKUP(VL$6,DEBUT!$CP$2:$DI$18,12,FALSE),\"\")","v":0},{"$f":"IFERROR(HLOOKUP(VL$6,DEBUT!$CP$2:$DI$18,16,FALSE),\"\")","v":0},null,null,null,{"$f":"IFERROR(HLOOKUP(VS$6,DEBUT!$CP$2:$DI$18,4,FALSE),\"\")","v":0},{"$f":"IFERROR(HLOOKUP(VS$6,DEBUT!$CP$2:$DI$18,8,FALSE),\"\")","v":0},{"$f":"IFERROR(HLOOKUP(VS$6,DEBUT!$CP$2:$DI$18,12,FALSE),\"\")","v":0},{"$f":"IFERROR(HLOOKUP(VS$6,DEBUT!$CP$2:$DI$18,16,FALSE),\"\")","v":0},null,null,null,null,null,{"$f":"IFERROR(HLOOKUP(WB$6,DEBUT!$CP$2:$DI$18,4,FALSE),\"\")","v":0},{"$f":"IFERROR(HLOOKUP(WB$6,DEBUT!$CP$2:$DI$18,8,FALSE),\"\")","v":0},{"$f":"IFERROR(HLOOKUP(WB$6,DEBUT!$CP$2:$DI$18,12,FALSE),\"\")","v":0},{"$f":"IFERROR(HLOOKUP(WB$6,DEBUT!$CP$2:$DI$18,16,FALSE),\"\")","v":0},null,null,null,{"$f":"IFERROR(HLOOKUP(WI$6,DEBUT!$CP$2:$DI$18,4,FALSE),\"\")","v":0},{"$f":"IFERROR(HLOOKUP(WI$6,DEBUT!$CP$2:$DI$18,8,FALSE),\"\")","v":0},{"$f":"IFERROR(HLOOKUP(WI$6,DEBUT!$CP$2:$DI$18,12,FALSE),\"\")","v":0},{"$f":"IFERROR(HLOOKUP(WI$6,DEBUT!$CP$2:$DI$18,16,FALSE),\"\")","v":0},null,null,null,null,null,null,null,{"$f":"IFERROR(HLOOKUP(WT$6,DEBUT!$CP$2:$DI$18,4,FALSE),\"\")","v":0},{"$f":"IFERROR(HLOOKUP(WT$6,DEBUT!$CP$2:$DI$18,8,FALSE),\"\")","v":0},{"$f":"IFERROR(HLOOKUP(WT$6,DEBUT!$CP$2:$DI$18,12,FALSE),\"\")","v":0},{"$f":"IFERROR(HLOOKUP(WT$6,DEBUT!$CP$2:$DI$18,16,FALSE),\"\")","v":0},null,null,null,{"$f":"IFERROR(HLOOKUP(XA$6,DEBUT!$CP$2:$DI$18,4,FALSE),\"\")","v":0},{"$f":"IFERROR(HLOOKUP(XA$6,DEBUT!$CP$2:$DI$18,8,FALSE),\"\")","v":0},{"$f":"IFERROR(HLOOKUP(XA$6,DEBUT!$CP$2:$DI$18,12,FALSE),\"\")","v":0},{"$f":"IFERROR(HLOOKUP(XA$6,DEBUT!$CP$2:$DI$18,16,FALSE),\"\")","v":0},null,null,null,null,null,{"$f":"IFERROR(HLOOKUP(XJ$6,DEBUT!$CP$2:$DI$18,4,FALSE),\"\")","v":0},{"$f":"IFERROR(HLOOKUP(XJ$6,DEBUT!$CP$2:$DI$18,8,FALSE),\"\")","v":0},{"$f":"IFERROR(HLOOKUP(XJ$6,DEBUT!$CP$2:$DI$18,12,FALSE),\"\")","v":0},{"$f":"IFERROR(HLOOKUP(XJ$6,DEBUT!$CP$2:$DI$18,16,FALSE),\"\")","v":0},null,null,null,{"$f":"IFERROR(HLOOKUP(XQ$6,DEBUT!$CP$2:$DI$18,4,FALSE),\"\")","v":0},{"$f":"IFERROR(HLOOKUP(XQ$6,DEBUT!$CP$2:$DI$18,8,FALSE),\"\")","v":0},{"$f":"IFERROR(HLOOKUP(XQ$6,DEBUT!$CP$2:$DI$18,12,FALSE),\"\")","v":0},{"$f":"IFERROR(HLOOKUP(XQ$6,DEBUT!$CP$2:$DI$18,16,FALSE),\"\")","v":0},null,null,null,null,null,null,null,{"$f":"IFERROR(HLOOKUP(YB$6,DEBUT!$CP$2:$DI$18,4,FALSE),\"\")","v":0},{"$f":"IFERROR(HLOOKUP(YB$6,DEBUT!$CP$2:$DI$18,8,FALSE),\"\")","v":0},{"$f":"IFERROR(HLOOKUP(YB$6,DEBUT!$CP$2:$DI$18,12,FALSE),\"\")","v":0},{"$f":"IFERROR(HLOOKUP(YB$6,DEBUT!$CP$2:$DI$18,16,FALSE),\"\")","v":0},null,null,null,{"$f":"IFERROR(HLOOKUP(YI$6,DEBUT!$CP$2:$DI$18,4,FALSE),\"\")","v":0},{"$f":"IFERROR(HLOOKUP(YI$6,DEBUT!$CP$2:$DI$18,8,FALSE),\"\")","v":0},{"$f":"IFERROR(HLOOKUP(YI$6,DEBUT!$CP$2:$DI$18,12,FALSE),\"\")","v":0},{"$f":"IFERROR(HLOOKUP(YI$6,DEBUT!$CP$2:$DI$18,16,FALSE),\"\")","v":0},null,null,null,null,null,{"$f":"IFERROR(HLOOKUP(YR$6,DEBUT!$CP$2:$DI$18,4,FALSE),\"\")","v":0},{"$f":"IFERROR(HLOOKUP(YR$6,DEBUT!$CP$2:$DI$18,8,FALSE),\"\")","v":0},{"$f":"IFERROR(HLOOKUP(YR$6,DEBUT!$CP$2:$DI$18,12,FALSE),\"\")","v":0},{"$f":"IFERROR(HLOOKUP(YR$6,DEBUT!$CP$2:$DI$18,16,FALSE),\"\")","v":0},null,null,null,{"$f":"IFERROR(HLOOKUP(YY$6,DEBUT!$CP$2:$DI$18,4,FALSE),\"\")","v":0},{"$f":"IFERROR(HLOOKUP(YY$6,DEBUT!$CP$2:$DI$18,8,FALSE),\"\")","v":0},{"$f":"IFERROR(HLOOKUP(YY$6,DEBUT!$CP$2:$DI$18,12,FALSE),\"\")","v":0},{"$f":"IFERROR(HLOOKUP(YY$6,DEBUT!$CP$2:$DI$18,16,FALSE),\"\")","v":0},null,null,null,null,null,null,null,{"$f":"IFERROR(HLOOKUP(ZJ$6,DEBUT!$CP$2:$DI$18,4,FALSE),\"\")","v":0},{"$f":"IFERROR(HLOOKUP(ZJ$6,DEBUT!$CP$2:$DI$18,8,FALSE),\"\")","v":0},{"$f":"IFERROR(HLOOKUP(ZJ$6,DEBUT!$CP$2:$DI$18,12,FALSE),\"\")","v":0},{"$f":"IFERROR(HLOOKUP(ZJ$6,DEBUT!$CP$2:$DI$18,16,FALSE),\"\")","v":0},null,null,null,{"$f":"IFERROR(HLOOKUP(ZQ$6,DEBUT!$CP$2:$DI$18,4,FALSE),\"\")","v":0},{"$f":"IFERROR(HLOOKUP(ZQ$6,DEBUT!$CP$2:$DI$18,8,FALSE),\"\")","v":0},{"$f":"IFERROR(HLOOKUP(ZQ$6,DEBUT!$CP$2:$DI$18,12,FALSE),\"\")","v":0},{"$f":"IFERROR(HLOOKUP(ZQ$6,DEBUT!$CP$2:$DI$18,16,FALSE),\"\")","v":0},null,null,null,null,null,{"$f":"IFERROR(HLOOKUP(ZZ$6,DEBUT!$CP$2:$DI$18,4,FALSE),\"\")","v":0},{"$f":"IFERROR(HLOOKUP(ZZ$6,DEBUT!$CP$2:$DI$18,8,FALSE),\"\")","v":0},{"$f":"IFERROR(HLOOKUP(ZZ$6,DEBUT!$CP$2:$DI$18,12,FALSE),\"\")","v":0},{"$f":"IFERROR(HLOOKUP(ZZ$6,DEBUT!$CP$2:$DI$18,16,FALSE),\"\")","v":0},null,null,null,{"$f":"IFERROR(HLOOKUP(AAG$6,DEBUT!$CP$2:$DI$18,4,FALSE),\"\")","v":0},{"$f":"IFERROR(HLOOKUP(AAG$6,DEBUT!$CP$2:$DI$18,8,FALSE),\"\")","v":0},{"$f":"IFERROR(HLOOKUP(AAG$6,DEBUT!$CP$2:$DI$18,12,FALSE),\"\")","v":0},{"$f":"IFERROR(HLOOKUP(AAG$6,DEBUT!$CP$2:$DI$18,16,FALSE),\"\")","v":0},null,null,null,null,null,null,null,{"$f":"IFERROR(HLOOKUP(AAR$6,DEBUT!$CP$2:$DI$18,4,FALSE),\"\")","v":0},{"$f":"IFERROR(HLOOKUP(AAR$6,DEBUT!$CP$2:$DI$18,8,FALSE),\"\")","v":0},{"$f":"IFERROR(HLOOKUP(AAR$6,DEBUT!$CP$2:$DI$18,12,FALSE),\"\")","v":0},{"$f":"IFERROR(HLOOKUP(AAR$6,DEBUT!$CP$2:$DI$18,16,FALSE),\"\")","v":0},null,null,null,{"$f":"IFERROR(HLOOKUP(AAY$6,DEBUT!$CP$2:$DI$18,4,FALSE),\"\")","v":0},{"$f":"IFERROR(HLOOKUP(AAY$6,DEBUT!$CP$2:$DI$18,8,FALSE),\"\")","v":0},{"$f":"IFERROR(HLOOKUP(AAY$6,DEBUT!$CP$2:$DI$18,12,FALSE),\"\")","v":0},{"$f":"IFERROR(HLOOKUP(AAY$6,DEBUT!$CP$2:$DI$18,16,FALSE),\"\")","v":0},null,null,null,null,null,{"$f":"IFERROR(HLOOKUP(ABH$6,DEBUT!$CP$2:$DI$18,4,FALSE),\"\")","v":0},{"$f":"IFERROR(HLOOKUP(ABH$6,DEBUT!$CP$2:$DI$18,8,FALSE),\"\")","v":0},{"$f":"IFERROR(HLOOKUP(ABH$6,DEBUT!$CP$2:$DI$18,12,FALSE),\"\")","v":0},{"$f":"IFERROR(HLOOKUP(ABH$6,DEBUT!$CP$2:$DI$18,16,FALSE),\"\")","v":0},null,null,null,{"$f":"IFERROR(HLOOKUP(ABO$6,DEBUT!$CP$2:$DI$18,4,FALSE),\"\")","v":0},{"$f":"IFERROR(HLOOKUP(ABO$6,DEBUT!$CP$2:$DI$18,8,FALSE),\"\")","v":0},{"$f":"IFERROR(HLOOKUP(ABO$6,DEBUT!$CP$2:$DI$18,12,FALSE),\"\")","v":0},{"$f":"IFERROR(HLOOKUP(ABO$6,DEBUT!$CP$2:$DI$18,16,FALSE),\"\")","v":0},null,null,null,null,null,null,null,{"$f":"IFERROR(HLOOKUP(ABZ$6,DEBUT!$CP$2:$DI$18,4,FALSE),\"\")","v":0},{"$f":"IFERROR(HLOOKUP(ABZ$6,DEBUT!$CP$2:$DI$18,8,FALSE),\"\")","v":0},{"$f":"IFERROR(HLOOKUP(ABZ$6,DEBUT!$CP$2:$DI$18,12,FALSE),\"\")","v":0},{"$f":"IFERROR(HLOOKUP(ABZ$6,DEBUT!$CP$2:$DI$18,16,FALSE),\"\")","v":0},null,null,null,{"$f":"IFERROR(HLOOKUP(ACG$6,DEBUT!$CP$2:$DI$18,4,FALSE),\"\")","v":0},{"$f":"IFERROR(HLOOKUP(ACG$6,DEBUT!$CP$2:$DI$18,8,FALSE),\"\")","v":0},{"$f":"IFERROR(HLOOKUP(ACG$6,DEBUT!$CP$2:$DI$18,12,FALSE),\"\")","v":0},{"$f":"IFERROR(HLOOKUP(ACG$6,DEBUT!$CP$2:$DI$18,16,FALSE),\"\")","v":0},null,null,null,null,null,{"$f":"IFERROR(HLOOKUP(ACP$6,DEBUT!$CP$2:$DI$18,4,FALSE),\"\")","v":0},{"$f":"IFERROR(HLOOKUP(ACP$6,DEBUT!$CP$2:$DI$18,8,FALSE),\"\")","v":0},{"$f":"IFERROR(HLOOKUP(ACP$6,DEBUT!$CP$2:$DI$18,12,FALSE),\"\")","v":0},{"$f":"IFERROR(HLOOKUP(ACP$6,DEBUT!$CP$2:$DI$18,16,FALSE),\"\")","v":0},null,null,null,{"$f":"IFERROR(HLOOKUP(ACW$6,DEBUT!$CP$2:$DI$18,4,FALSE),\"\")","v":0},{"$f":"IFERROR(HLOOKUP(ACW$6,DEBUT!$CP$2:$DI$18,8,FALSE),\"\")","v":0},{"$f":"IFERROR(HLOOKUP(ACW$6,DEBUT!$CP$2:$DI$18,12,FALSE),\"\")","v":0},{"$f":"IFERROR(HLOOKUP(ACW$6,DEBUT!$CP$2:$DI$18,16,FALSE),\"\")","v":0},null,null,null,null,null,null,null,{"$f":"IFERROR(HLOOKUP(ADH$6,DEBUT!$CP$2:$DI$18,4,FALSE),\"\")","v":0},{"$f":"IFERROR(HLOOKUP(ADH$6,DEBUT!$CP$2:$DI$18,8,FALSE),\"\")","v":0},{"$f":"IFERROR(HLOOKUP(ADH$6,DEBUT!$CP$2:$DI$18,12,FALSE),\"\")","v":0},{"$f":"IFERROR(HLOOKUP(ADH$6,DEBUT!$CP$2:$DI$18,16,FALSE),\"\")","v":0},null,null,null,{"$f":"IFERROR(HLOOKUP(ADO$6,DEBUT!$CP$2:$DI$18,4,FALSE),\"\")","v":0},{"$f":"IFERROR(HLOOKUP(ADO$6,DEBUT!$CP$2:$DI$18,8,FALSE),\"\")","v":0},{"$f":"IFERROR(HLOOKUP(ADO$6,DEBUT!$CP$2:$DI$18,12,FALSE),\"\")","v":0},{"$f":"IFERROR(HLOOKUP(ADO$6,DEBUT!$CP$2:$DI$18,16,FALSE),\"\")","v":0},null,null,null,null,null,{"$f":"IFERROR(HLOOKUP(ADX$6,DEBUT!$CP$2:$DI$18,4,FALSE),\"\")","v":0},{"$f":"IFERROR(HLOOKUP(ADX$6,DEBUT!$CP$2:$DI$18,8,FALSE),\"\")","v":0},{"$f":"IFERROR(HLOOKUP(ADX$6,DEBUT!$CP$2:$DI$18,12,FALSE),\"\")","v":0},{"$f":"IFERROR(HLOOKUP(ADX$6,DEBUT!$CP$2:$DI$18,16,FALSE),\"\")","v":0},null,null,null,{"$f":"IFERROR(HLOOKUP(AEE$6,DEBUT!$CP$2:$DI$18,4,FALSE),\"\")","v":0},{"$f":"IFERROR(HLOOKUP(AEE$6,DEBUT!$CP$2:$DI$18,8,FALSE),\"\")","v":0},{"$f":"IFERROR(HLOOKUP(AEE$6,DEBUT!$CP$2:$DI$18,12,FALSE),\"\")","v":0},{"$f":"IFERROR(HLOOKUP(AEE$6,DEBUT!$CP$2:$DI$18,16,FALSE),\"\")","v":0}]
[null,null,null,null,null,{"$f":"IFERROR(HLOOKUP(F$6,DEBUT!$CP$2:$DI$18,5,FALSE),\"\")","v":"x"},{"$f":"IFERROR(HLOOKUP(F$6,DEBUT!$CP$2:$DI$18,9,FALSE),\"\")","v":"x"},{"$f":"IFERROR(HLOOKUP(F$6,DEBUT!$CP$2:$DI$18,13,FALSE),\"\")","v":"x"},{"$f":"IFERROR(HLOOKUP(F$6,DEBUT!$CP$2:$DI$18,17,FALSE),\"\")","v":"x"},null,null,null,{"$f":"IFERROR(HLOOKUP(M$6,DEBUT!$CP$2:$DI$18,5,FALSE),\"\")","v":"x"},{"$f":"IFERROR(HLOOKUP(M$6,DEBUT!$CP$2:$DI$18,9,FALSE),\"\")","v":"x"},{"$f":"IFERROR(HLOOKUP(M$6,DEBUT!$CP$2:$DI$18,13,FALSE),\"\")","v":"x"},{"$f":"IFERROR(HLOOKUP(M$6,DEBUT!$CP$2:$DI$18,17,FALSE),\"\")","v":"x"},null,null,null,null,null,{"$f":"IFERROR(HLOOKUP(V$6,DEBUT!$CP$2:$DI$18,5,FALSE),\"\")","v":"x"},{"$f":"IFERROR(HLOOKUP(V$6,DEBUT!$CP$2:$DI$18,9,FALSE),\"\")","v":"x"},{"$f":"IFERROR(HLOOKUP(V$6,DEBUT!$CP$2:$DI$18,13,FALSE),\"\")","v":"x"},{"$f":"IFERROR(HLOOKUP(V$6,DEBUT!$CP$2:$DI$18,17,FALSE),\"\")","v":"x"},null,null,null,{"$f":"IFERROR(HLOOKUP(AC$6,DEBUT!$CP$2:$DI$18,5,FALSE),\"\")","v":"x"},{"$f":"IFERROR(HLOOKUP(AC$6,DEBUT!$CP$2:$DI$18,9,FALSE),\"\")","v":"x"},{"$f":"IFERROR(HLOOKUP(AC$6,DEBUT!$CP$2:$DI$18,13,FALSE),\"\")","v":"x"},{"$f":"IFERROR(HLOOKUP(AC$6,DEBUT!$CP$2:$DI$18,17,FALSE),\"\")","v":"x"},null,null,null,null,null,null,null,{"$f":"IFERROR(HLOOKUP(AN$6,DEBUT!$CP$2:$DI$18,5,FALSE),\"\")","v":0},{"$f":"IFERROR(HLOOKUP(AN$6,DEBUT!$CP$2:$DI$18,9,FALSE),\"\")","v":0},{"$f":"IFERROR(HLOOKUP(AN$6,DEBUT!$CP$2:$DI$18,13,FALSE),\"\")","v":0},{"$f":"IFERROR(HLOOKUP(AN$6,DEBUT!$CP$2:$DI$18,17,FALSE),\"\")","v":0},null,null,null,{"$f":"IFERROR(HLOOKUP(AU$6,DEBUT!$CP$2:$DI$18,5,FALSE),\"\")","v":0},{"$f":"IFERROR(HLOOKUP(AU$6,DEBUT!$CP$2:$DI$18,9,FALSE),\"\")","v":0},{"$f":"IFERROR(HLOOKUP(AU$6,DEBUT!$CP$2:$DI$18,13,FALSE),\"\")","v":0},{"$f":"IFERROR(HLOOKUP(AU$6,DEBUT!$CP$2:$DI$18,17,FALSE),\"\")","v":0},null,null,null,null,null,{"$f":"IFERROR(HLOOKUP(BD$6,DEBUT!$CP$2:$DI$18,5,FALSE),\"\")","v":0},{"$f":"IFERROR(HLOOKUP(BD$6,DEBUT!$CP$2:$DI$18,9,FALSE),\"\")","v":0},{"$f":"IFERROR(HLOOKUP(BD$6,DEBUT!$CP$2:$DI$18,13,FALSE),\"\")","v":0},{"$f":"IFERROR(HLOOKUP(BD$6,DEBUT!$CP$2:$DI$18,17,FALSE),\"\")","v":0},null,null,null,{"$f":"IFERROR(HLOOKUP(BK$6,DEBUT!$CP$2:$DI$18,5,FALSE),\"\")","v":0},{"$f":"IFERROR(HLOOKUP(BK$6,DEBUT!$CP$2:$DI$18,9,FALSE),\"\")","v":0},{"$f":"IFERROR(HLOOKUP(BK$6,DEBUT!$CP$2:$DI$18,13,FALSE),\"\")","v":0},{"$f":"IFERROR(HLOOKUP(BK$6,DEBUT!$CP$2:$DI$18,17,FALSE),\"\")","v":0},null,null,null,null,null,null,null,{"$f":"IFERROR(HLOOKUP(BV$6,DEBUT!$CP$2:$DI$18,5,FALSE),\"\")","v":0},{"$f":"IFERROR(HLOOKUP(BV$6,DEBUT!$CP$2:$DI$18,9,FALSE),\"\")","v":0},{"$f":"IFERROR(HLOOKUP(BV$6,DEBUT!$CP$2:$DI$18,13,FALSE),\"\")","v":0},{"$f":"IFERROR(HLOOKUP(BV$6,DEBUT!$CP$2:$DI$18,17,FALSE),\"\")","v":0},null,null,null,{"$f":"IFERROR(HLOOKUP(CC$6,DEBUT!$CP$2:$DI$18,5,FALSE),\"\")","v":0},{"$f":"IFERROR(HLOOKUP(CC$6,DEBUT!$CP$2:$DI$18,9,FALSE),\"\")","v":0},{"$f":"IFERROR(HLOOKUP(CC$6,DEBUT!$CP$2:$DI$18,13,FALSE),\"\")","v":0},{"$f":"IFERROR(HLOOKUP(CC$6,DEBUT!$CP$2:$DI$18,17,FALSE),\"\")","v":0},null,null,null,null,null,{"$f":"IFERROR(HLOOKUP(CL$6,DEBUT!$CP$2:$DI$18,5,FALSE),\"\")","v":0},{"$f":"IFERROR(HLOOKUP(CL$6,DEBUT!$CP$2:$DI$18,9,FALSE),\"\")","v":0},{"$f":"IFERROR(HLOOKUP(CL$6,DEBUT!$CP$2:$DI$18,13,FALSE),\"\")","v":0},{"$f":"IFERROR(HLOOKUP(CL$6,DEBUT!$CP$2:$DI$18,17,FALSE),\"\")","v":0},null,null,null,{"$f":"IFERROR(HLOOKUP(CS$6,DEBUT!$CP$2:$DI$18,5,FALSE),\"\")","v":0},{"$f":"IFERROR(HLOOKUP(CS$6,DEBUT!$CP$2:$DI$18,9,FALSE),\"\")","v":0},{"$f":"IFERROR(HLOOKUP(CS$6,DEBUT!$CP$2:$DI$18,13,FALSE),\"\")","v":0},{"$f":"IFERROR(HLOOKUP(CS$6,DEBUT!$CP$2:$DI$18,17,FALSE),\"\")","v":0},null,null,null,null,null,null,null,{"$f":"IFERROR(HLOOKUP(DD$6,DEBUT!$CP$2:$DI$18,5,FALSE),\"\")","v":0},{"$f":"IFERROR(HLOOKUP(DD$6,DEBUT!$CP$2:$DI$18,9,FALSE),\"\")","v":0},{"$f":"IFERROR(HLOOKUP(DD$6,DEBUT!$CP$2:$DI$18,13,FALSE),\"\")","v":0},{"$f":"IFERROR(HLOOKUP(DD$6,DEBUT!$CP$2:$DI$18,17,FALSE),\"\")","v":0},null,null,null,{"$f":"IFERROR(HLOOKUP(DK$6,DEBUT!$CP$2:$DI$18,5,FALSE),\"\")","v":0},{"$f":"IFERROR(HLOOKUP(DK$6,DEBUT!$CP$2:$DI$18,9,FALSE),\"\")","v":0},{"$f":"IFERROR(HLOOKUP(DK$6,DEBUT!$CP$2:$DI$18,13,FALSE),\"\")","v":0},{"$f":"IFERROR(HLOOKUP(DK$6,DEBUT!$CP$2:$DI$18,17,FALSE),\"\")","v":0},null,null,null,null,null,{"$f":"IFERROR(HLOOKUP(DT$6,DEBUT!$CP$2:$DI$18,5,FALSE),\"\")","v":0},{"$f":"IFERROR(HLOOKUP(DT$6,DEBUT!$CP$2:$DI$18,9,FALSE),\"\")","v":0},{"$f":"IFERROR(HLOOKUP(DT$6,DEBUT!$CP$2:$DI$18,13,FALSE),\"\")","v":0},{"$f":"IFERROR(HLOOKUP(DT$6,DEBUT!$CP$2:$DI$18,17,FALSE),\"\")","v":0},null,null,null,{"$f":"IFERROR(HLOOKUP(EA$6,DEBUT!$CP$2:$DI$18,5,FALSE),\"\")","v":0},{"$f":"IFERROR(HLOOKUP(EA$6,DEBUT!$CP$2:$DI$18,9,FALSE),\"\")","v":0},{"$f":"IFERROR(HLOOKUP(EA$6,DEBUT!$CP$2:$DI$18,13,FALSE),\"\")","v":0},{"$f":"IFERROR(HLOOKUP(EA$6,DEBUT!$CP$2:$DI$18,17,FALSE),\"\")","v":0},null,null,null,null,null,null,null,{"$f":"IFERROR(HLOOKUP(EL$6,DEBUT!$CP$2:$DI$18,5,FALSE),\"\")","v":0},{"$f":"IFERROR(HLOOKUP(EL$6,DEBUT!$CP$2:$DI$18,9,FALSE),\"\")","v":0},{"$f":"IFERROR(HLOOKUP(EL$6,DEBUT!$CP$2:$DI$18,13,FALSE),\"\")","v":0},{"$f":"IFERROR(HLOOKUP(EL$6,DEBUT!$CP$2:$DI$18,17,FALSE),\"\")","v":0},null,null,null,{"$f":"IFERROR(HLOOKUP(ES$6,DEBUT!$CP$2:$DI$18,5,FALSE),\"\")","v":0},{"$f":"IFERROR(HLOOKUP(ES$6,DEBUT!$CP$2:$DI$18,9,FALSE),\"\")","v":0},{"$f":"IFERROR(HLOOKUP(ES$6,DEBUT!$CP$2:$DI$18,13,FALSE),\"\")","v":0},{"$f":"IFERROR(HLOOKUP(ES$6,DEBUT!$CP$2:$DI$18,17,FALSE),\"\")","v":0},null,null,null,null,null,{"$f":"IFERROR(HLOOKUP(FB$6,DEBUT!$CP$2:$DI$18,5,FALSE),\"\")","v":0},{"$f":"IFERROR(HLOOKUP(FB$6,DEBUT!$CP$2:$DI$18,9,FALSE),\"\")","v":0},{"$f":"IFERROR(HLOOKUP(FB$6,DEBUT!$CP$2:$DI$18,13,FALSE),\"\")","v":0},{"$f":"IFERROR(HLOOKUP(FB$6,DEBUT!$CP$2:$DI$18,17,FALSE),\"\")","v":0},null,null,null,{"$f":"IFERROR(HLOOKUP(FI$6,DEBUT!$CP$2:$DI$18,5,FALSE),\"\")","v":0},{"$f":"IFERROR(HLOOKUP(FI$6,DEBUT!$CP$2:$DI$18,9,FALSE),\"\")","v":0},{"$f":"IFERROR(HLOOKUP(FI$6,DEBUT!$CP$2:$DI$18,13,FALSE),\"\")","v":0},{"$f":"IFERROR(HLOOKUP(FI$6,DEBUT!$CP$2:$DI$18,17,FALSE),\"\")","v":0},null,null,null,null,null,null,null,{"$f":"IFERROR(HLOOKUP(FT$6,DEBUT!$CP$2:$DI$18,5,FALSE),\"\")","v":0},{"$f":"IFERROR(HLOOKUP(FT$6,DEBUT!$CP$2:$DI$18,9,FALSE),\"\")","v":0},{"$f":"IFERROR(HLOOKUP(FT$6,DEBUT!$CP$2:$DI$18,13,FALSE),\"\")","v":0},{"$f":"IFERROR(HLOOKUP(FT$6,DEBUT!$CP$2:$DI$18,17,FALSE),\"\")","v":0},null,null,null,{"$f":"IFERROR(HLOOKUP(GA$6,DEBUT!$CP$2:$DI$18,5,FALSE),\"\")","v":0},{"$f":"IFERROR(HLOOKUP(GA$6,DEBUT!$CP$2:$DI$18,9,FALSE),\"\")","v":0},{"$f":"IFERROR(HLOOKUP(GA$6,DEBUT!$CP$2:$DI$18,13,FALSE),\"\")","v":0},{"$f":"IFERROR(HLOOKUP(GA$6,DEBUT!$CP$2:$DI$18,17,FALSE),\"\")","v":0},null,null,null,null,null,{"$f":"IFERROR(HLOOKUP(GJ$6,DEBUT!$CP$2:$DI$18,5,FALSE),\"\")","v":0},{"$f":"IFERROR(HLOOKUP(GJ$6,DEBUT!$CP$2:$DI$18,9,FALSE),\"\")","v":0},{"$f":"IFERROR(HLOOKUP(GJ$6,DEBUT!$CP$2:$DI$18,13,FALSE),\"\")","v":0},{"$f":"IFERROR(HLOOKUP(GJ$6,DEBUT!$CP$2:$DI$18,17,FALSE),\"\")","v":0},null,null,null,{"$f":"IFERROR(HLOOKUP(GQ$6,DEBUT!$CP$2:$DI$18,5,FALSE),\"\")","v":0},{"$f":"IFERROR(HLOOKUP(GQ$6,DEBUT!$CP$2:$DI$18,9,FALSE),\"\")","v":0},{"$f":"IFERROR(HLOOKUP(GQ$6,DEBUT!$CP$2:$DI$18,13,FALSE),\"\")","v":0},{"$f":"IFERROR(HLOOKUP(GQ$6,DEBUT!$CP$2:$DI$18,17,FALSE),\"\")","v":0},null,null,null,null,null,null,null,{"$f":"IFERROR(HLOOKUP(HB$6,DEBUT!$CP$2:$DI$18,5,FALSE),\"\")","v":0},{"$f":"IFERROR(HLOOKUP(HB$6,DEBUT!$CP$2:$DI$18,9,FALSE),\"\")","v":0},{"$f":"IFERROR(HLOOKUP(HB$6,DEBUT!$CP$2:$DI$18,13,FALSE),\"\")","v":0},{"$f":"IFERROR(HLOOKUP(HB$6,DEBUT!$CP$2:$DI$18,17,FALSE),\"\")","v":0},null,null,null,{"$f":"IFERROR(HLOOKUP(HI$6,DEBUT!$CP$2:$DI$18,5,FALSE),\"\")","v":0},{"$f":"IFERROR(HLOOKUP(HI$6,DEBUT!$CP$2:$DI$18,9,FALSE),\"\")","v":0},{"$f":"IFERROR(HLOOKUP(HI$6,DEBUT!$CP$2:$DI$18,13,FALSE),\"\")","v":0},{"$f":"IFERROR(HLOOKUP(HI$6,DEBUT!$CP$2:$DI$18,17,FALSE),\"\")","v":0},null,null,null,null,null,{"$f":"IFERROR(HLOOKUP(HR$6,DEBUT!$CP$2:$DI$18,5,FALSE),\"\")","v":0},{"$f":"IFERROR(HLOOKUP(HR$6,DEBUT!$CP$2:$DI$18,9,FALSE),\"\")","v":0},{"$f":"IFERROR(HLOOKUP(HR$6,DEBUT!$CP$2:$DI$18,13,FALSE),\"\")","v":0},{"$f":"IFERROR(HLOOKUP(HR$6,DEBUT!$CP$2:$DI$18,17,FALSE),\"\")","v":0},null,null,null,{"$f":"IFERROR(HLOOKUP(HY$6,DEBUT!$CP$2:$DI$18,5,FALSE),\"\")","v":0},{"$f":"IFERROR(HLOOKUP(HY$6,DEBUT!$CP$2:$DI$18,9,FALSE),\"\")","v":0},{"$f":"IFERROR(HLOOKUP(HY$6,DEBUT!$CP$2:$DI$18,13,FALSE),\"\")","v":0},{"$f":"IFERROR(HLOOKUP(HY$6,DEBUT!$CP$2:$DI$18,17,FALSE),\"\")","v":0},null,null,null,null,null,null,null,{"$f":"IFERROR(HLOOKUP(IJ$6,DEBUT!$CP$2:$DI$18,5,FALSE),\"\")","v":0},{"$f":"IFERROR(HLOOKUP(IJ$6,DEBUT!$CP$2:$DI$18,9,FALSE),\"\")","v":0},{"$f":"IFERROR(HLOOKUP(IJ$6,DEBUT!$CP$2:$DI$18,13,FALSE),\"\")","v":0},{"$f":"IFERROR(HLOOKUP(IJ$6,DEBUT!$CP$2:$DI$18,17,FALSE),\"\")","v":0},null,null,null,{"$f":"IFERROR(HLOOKUP(IQ$6,DEBUT!$CP$2:$DI$18,5,FALSE),\"\")","v":0},{"$f":"IFERROR(HLOOKUP(IQ$6,DEBUT!$CP$2:$DI$18,9,FALSE),\"\")","v":0},{"$f":"IFERROR(HLOOKUP(IQ$6,DEBUT!$CP$2:$DI$18,13,FALSE),\"\")","v":0},{"$f":"IFERROR(HLOOKUP(IQ$6,DEBUT!$CP$2:$DI$18,17,FALSE),\"\")","v":0},null,null,null,null,null,{"$f":"IFERROR(HLOOKUP(IZ$6,DEBUT!$CP$2:$DI$18,5,FALSE),\"\")","v":0},{"$f":"IFERROR(HLOOKUP(IZ$6,DEBUT!$CP$2:$DI$18,9,FALSE),\"\")","v":0},{"$f":"IFERROR(HLOOKUP(IZ$6,DEBUT!$CP$2:$DI$18,13,FALSE),\"\")","v":0},{"$f":"IFERROR(HLOOKUP(IZ$6,DEBUT!$CP$2:$DI$18,17,FALSE),\"\")","v":0},null,null,null,{"$f":"IFERROR(HLOOKUP(JG$6,DEBUT!$CP$2:$DI$18,5,FALSE),\"\")","v":0},{"$f":"IFERROR(HLOOKUP(JG$6,DEBUT!$CP$2:$DI$18,9,FALSE),\"\")","v":0},{"$f":"IFERROR(HLOOKUP(JG$6,DEBUT!$CP$2:$DI$18,13,FALSE),\"\")","v":0},{"$f":"IFERROR(HLOOKUP(JG$6,DEBUT!$CP$2:$DI$18,17,FALSE),\"\")","v":0},null,null,null,null,null,null,null,{"$f":"IFERROR(HLOOKUP(JR$6,DEBUT!$CP$2:$DI$18,5,FALSE),\"\")","v":0},{"$f":"IFERROR(HLOOKUP(JR$6,DEBUT!$CP$2:$DI$18,9,FALSE),\"\")","v":0},{"$f":"IFERROR(HLOOKUP(JR$6,DEBUT!$CP$2:$DI$18,13,FALSE),\"\")","v":0},{"$f":"IFERROR(HLOOKUP(JR$6,DEBUT!$CP$2:$DI$18,17,FALSE),\"\")","v":0},null,null,null,{"$f":"IFERROR(HLOOKUP(JY$6,DEBUT!$CP$2:$DI$18,5,FALSE),\"\")","v":0},{"$f":"IFERROR(HLOOKUP(JY$6,DEBUT!$CP$2:$DI$18,9,FALSE),\"\")","v":0},{"$f":"IFERROR(HLOOKUP(JY$6,DEBUT!$CP$2:$DI$18,13,FALSE),\"\")","v":0},{"$f":"IFERROR(HLOOKUP(JY$6,DEBUT!$CP$2:$DI$18,17,FALSE),\"\")","v":0},null,null,null,null,null,{"$f":"IFERROR(HLOOKUP(KH$6,DEBUT!$CP$2:$DI$18,5,FALSE),\"\")","v":0},{"$f":"IFERROR(HLOOKUP(KH$6,DEBUT!$CP$2:$DI$18,9,FALSE),\"\")","v":0},{"$f":"IFERROR(HLOOKUP(KH$6,DEBUT!$CP$2:$DI$18,13,FALSE),\"\")","v":0},{"$f":"IFERROR(HLOOKUP(KH$6,DEBUT!$CP$2:$DI$18,17,FALSE),\"\")","v":0},null,null,null,{"$f":"IFERROR(HLOOKUP(KO$6,DEBUT!$CP$2:$DI$18,5,FALSE),\"\")","v":0},{"$f":"IFERROR(HLOOKUP(KO$6,DEBUT!$CP$2:$DI$18,9,FALSE),\"\")","v":0},{"$f":"IFERROR(HLOOKUP(KO$6,DEBUT!$CP$2:$DI$18,13,FALSE),\"\")","v":0},{"$f":"IFERROR(HLOOKUP(KO$6,DEBUT!$CP$2:$DI$18,17,FALSE),\"\")","v":0},null,null,null,null,null,null,null,{"$f":"IFERROR(HLOOKUP(KZ$6,DEBUT!$CP$2:$DI$18,5,FALSE),\"\")","v":0},{"$f":"IFERROR(HLOOKUP(KZ$6,DEBUT!$CP$2:$DI$18,9,FALSE),\"\")","v":0},{"$f":"IFERROR(HLOOKUP(KZ$6,DEBUT!$CP$2:$DI$18,13,FALSE),\"\")","v":0},{"$f":"IFERROR(HLOOKUP(KZ$6,DEBUT!$CP$2:$DI$18,17,FALSE),\"\")","v":0},null,null,null,{"$f":"IFERROR(HLOOKUP(LG$6,DEBUT!$CP$2:$DI$18,5,FALSE),\"\")","v":0},{"$f":"IFERROR(HLOOKUP(LG$6,DEBUT!$CP$2:$DI$18,9,FALSE),\"\")","v":0},{"$f":"IFERROR(HLOOKUP(LG$6,DEBUT!$CP$2:$DI$18,13,FALSE),\"\")","v":0},{"$f":"IFERROR(HLOOKUP(LG$6,DEBUT!$CP$2:$DI$18,17,FALSE),\"\")","v":0},null,null,null,null,null,{"$f":"IFERROR(HLOOKUP(LP$6,DEBUT!$CP$2:$DI$18,5,FALSE),\"\")","v":0},{"$f":"IFERROR(HLOOKUP(LP$6,DEBUT!$CP$2:$DI$18,9,FALSE),\"\")","v":0},{"$f":"IFERROR(HLOOKUP(LP$6,DEBUT!$CP$2:$DI$18,13,FALSE),\"\")","v":0},{"$f":"IFERROR(HLOOKUP(LP$6,DEBUT!$CP$2:$DI$18,17,FALSE),\"\")","v":0},null,null,null,{"$f":"IFERROR(HLOOKUP(LW$6,DEBUT!$CP$2:$DI$18,5,FALSE),\"\")","v":0},{"$f":"IFERROR(HLOOKUP(LW$6,DEBUT!$CP$2:$DI$18,9,FALSE),\"\")","v":0},{"$f":"IFERROR(HLOOKUP(LW$6,DEBUT!$CP$2:$DI$18,13,FALSE),\"\")","v":0},{"$f":"IFERROR(HLOOKUP(LW$6,DEBUT!$CP$2:$DI$18,17,FALSE),\"\")","v":0},null,null,null,null,null,null,null,{"$f":"IFERROR(HLOOKUP(MH$6,DEBUT!$CP$2:$DI$18,5,FALSE),\"\")","v":0},{"$f":"IFERROR(HLOOKUP(MH$6,DEBUT!$CP$2:$DI$18,9,FALSE),\"\")","v":0},{"$f":"IFERROR(HLOOKUP(MH$6,DEBUT!$CP$2:$DI$18,13,FALSE),\"\")","v":0},{"$f":"IFERROR(HLOOKUP(MH$6,DEBUT!$CP$2:$DI$18,17,FALSE),\"\")","v":0},null,null,null,{"$f":"IFERROR(HLOOKUP(MO$6,DEBUT!$CP$2:$DI$18,5,FALSE),\"\")","v":0},{"$f":"IFERROR(HLOOKUP(MO$6,DEBUT!$CP$2:$DI$18,9,FALSE),\"\")","v":0},{"$f":"IFERROR(HLOOKUP(MO$6,DEBUT!$CP$2:$DI$18,13,FALSE),\"\")","v":0},{"$f":"IFERROR(HLOOKUP(MO$6,DEBUT!$CP$2:$DI$18,17,FALSE),\"\")","v":0},null,null,null,null,null,{"$f":"IFERROR(HLOOKUP(MX$6,DEBUT!$CP$2:$DI$18,5,FALSE),\"\")","v":0},{"$f":"IFERROR(HLOOKUP(MX$6,DEBUT!$CP$2:$DI$18,9,FALSE),\"\")","v":0},{"$f":"IFERROR(HLOOKUP(MX$6,DEBUT!$CP$2:$DI$18,13,FALSE),\"\")","v":0},{"$f":"IFERROR(HLOOKUP(MX$6,DEBUT!$CP$2:$DI$18,17,FALSE),\"\")","v":0},null,null,null,{"$f":"IFERROR(HLOOKUP(NE$6,DEBUT!$CP$2:$DI$18,5,FALSE),\"\")","v":0},{"$f":"IFERROR(HLOOKUP(NE$6,DEBUT!$CP$2:$DI$18,9,FALSE),\"\")","v":0},{"$f":"IFERROR(HLOOKUP(NE$6,DEBUT!$CP$2:$DI$18,13,FALSE),\"\")","v":0},{"$f":"IFERROR(HLOOKUP(NE$6,DEBUT!$CP$2:$DI$18,17,FALSE),\"\")","v":0},null,null,null,null,null,null,null,{"$f":"IFERROR(HLOOKUP(NP$6,DEBUT!$CP$2:$DI$18,5,FALSE),\"\")","v":0},{"$f":"IFERROR(HLOOKUP(NP$6,DEBUT!$CP$2:$DI$18,9,FALSE),\"\")","v":0},{"$f":"IFERROR(HLOOKUP(NP$6,DEBUT!$CP$2:$DI$18,13,FALSE),\"\")","v":0},{"$f":"IFERROR(HLOOKUP(NP$6,DEBUT!$CP$2:$DI$18,17,FALSE),\"\")","v":0},null,null,null,{"$f":"IFERROR(HLOOKUP(NW$6,DEBUT!$CP$2:$DI$18,5,FALSE),\"\")","v":0},{"$f":"IFERROR(HLOOKUP(NW$6,DEBUT!$CP$2:$DI$18,9,FALSE),\"\")","v":0},{"$f":"IFERROR(HLOOKUP(NW$6,DEBUT!$CP$2:$DI$18,13,FALSE),\"\")","v":0},{"$f":"IFERROR(HLOOKUP(NW$6,DEBUT!$CP$2:$DI$18,17,FALSE),\"\")","v":0},null,null,null,null,null,{"$f":"IFERROR(HLOOKUP(OF$6,DEBUT!$CP$2:$DI$18,5,FALSE),\"\")","v":0},{"$f":"IFERROR(HLOOKUP(OF$6,DEBUT!$CP$2:$DI$18,9,FALSE),\"\")","v":0},{"$f":"IFERROR(HLOOKUP(OF$6,DEBUT!$CP$2:$DI$18,13,FALSE),\"\")","v":0},{"$f":"IFERROR(HLOOKUP(OF$6,DEBUT!$CP$2:$DI$18,17,FALSE),\"\")","v":0},null,null,null,{"$f":"IFERROR(HLOOKUP(OM$6,DEBUT!$CP$2:$DI$18,5,FALSE),\"\")","v":0},{"$f":"IFERROR(HLOOKUP(OM$6,DEBUT!$CP$2:$DI$18,9,FALSE),\"\")","v":0},{"$f":"IFERROR(HLOOKUP(OM$6,DEBUT!$CP$2:$DI$18,13,FALSE),\"\")","v":0},{"$f":"IFERROR(HLOOKUP(OM$6,DEBUT!$CP$2:$DI$18,17,FALSE),\"\")","v":0},null,null,null,null,null,null,null,{"$f":"IFERROR(HLOOKUP(OX$6,DEBUT!$CP$2:$DI$18,5,FALSE),\"\")","v":0},{"$f":"IFERROR(HLOOKUP(OX$6,DEBUT!$CP$2:$DI$18,9,FALSE),\"\")","v":0},{"$f":"IFERROR(HLOOKUP(OX$6,DEBUT!$CP$2:$DI$18,13,FALSE),\"\")","v":0},{"$f":"IFERROR(HLOOKUP(OX$6,DEBUT!$CP$2:$DI$18,17,FALSE),\"\")","v":0},null,null,null,{"$f":"IFERROR(HLOOKUP(PE$6,DEBUT!$CP$2:$DI$18,5,FALSE),\"\")","v":0},{"$f":"IFERROR(HLOOKUP(PE$6,DEBUT!$CP$2:$DI$18,9,FALSE),\"\")","v":0},{"$f":"IFERROR(HLOOKUP(PE$6,DEBUT!$CP$2:$DI$18,13,FALSE),\"\")","v":0},{"$f":"IFERROR(HLOOKUP(PE$6,DEBUT!$CP$2:$DI$18,17,FALSE),\"\")","v":0},null,null,null,null,null,{"$f":"IFERROR(HLOOKUP(PN$6,DEBUT!$CP$2:$DI$18,5,FALSE),\"\")","v":0},{"$f":"IFERROR(HLOOKUP(PN$6,DEBUT!$CP$2:$DI$18,9,FALSE),\"\")","v":0},{"$f":"IFERROR(HLOOKUP(PN$6,DEBUT!$CP$2:$DI$18,13,FALSE),\"\")","v":0},{"$f":"IFERROR(HLOOKUP(PN$6,DEBUT!$CP$2:$DI$18,17,FALSE),\"\")","v":0},null,null,null,{"$f":"IFERROR(HLOOKUP(PU$6,DEBUT!$CP$2:$DI$18,5,FALSE),\"\")","v":0},{"$f":"IFERROR(HLOOKUP(PU$6,DEBUT!$CP$2:$DI$18,9,FALSE),\"\")","v":0},{"$f":"IFERROR(HLOOKUP(PU$6,DEBUT!$CP$2:$DI$18,13,FALSE),\"\")","v":0},{"$f":"IFERROR(HLOOKUP(PU$6,DEBUT!$CP$2:$DI$18,17,FALSE),\"\")","v":0},null,null,null,null,null,null,null,{"$f":"IFERROR(HLOOKUP(QF$6,DEBUT!$CP$2:$DI$18,5,FALSE),\"\")","v":0},{"$f":"IFERROR(HLOOKUP(QF$6,DEBUT!$CP$2:$DI$18,9,FALSE),\"\")","v":0},{"$f":"IFERROR(HLOOKUP(QF$6,DEBUT!$CP$2:$DI$18,13,FALSE),\"\")","v":0},{"$f":"IFERROR(HLOOKUP(QF$6,DEBUT!$CP$2:$DI$18,17,FALSE),\"\")","v":0},null,null,null,{"$f":"IFERROR(HLOOKUP(QM$6,DEBUT!$CP$2:$DI$18,5,FALSE),\"\")","v":0},{"$f":"IFERROR(HLOOKUP(QM$6,DEBUT!$CP$2:$DI$18,9,FALSE),\"\")","v":0},{"$f":"IFERROR(HLOOKUP(QM$6,DEBUT!$CP$2:$DI$18,13,FALSE),\"\")","v":0},{"$f":"IFERROR(HLOOKUP(QM$6,DEBUT!$CP$2:$DI$18,17,FALSE),\"\")","v":0},null,null,null,null,null,{"$f":"IFERROR(HLOOKUP(QV$6,DEBUT!$CP$2:$DI$18,5,FALSE),\"\")","v":0},{"$f":"IFERROR(HLOOKUP(QV$6,DEBUT!$CP$2:$DI$18,9,FALSE),\"\")","v":0},{"$f":"IFERROR(HLOOKUP(QV$6,DEBUT!$CP$2:$DI$18,13,FALSE),\"\")","v":0},{"$f":"IFERROR(HLOOKUP(QV$6,DEBUT!$CP$2:$DI$18,17,FALSE),\"\")","v":0},null,null,null,{"$f":"IFERROR(HLOOKUP(RC$6,DEBUT!$CP$2:$DI$18,5,FALSE),\"\")","v":0},{"$f":"IFERROR(HLOOKUP(RC$6,DEBUT!$CP$2:$DI$18,9,FALSE),\"\")","v":0},{"$f":"IFERROR(HLOOKUP(RC$6,DEBUT!$CP$2:$DI$18,13,FALSE),\"\")","v":0},{"$f":"IFERROR(HLOOKUP(RC$6,DEBUT!$CP$2:$DI$18,17,FALSE),\"\")","v":0},null,null,null,null,null,null,null,{"$f":"IFERROR(HLOOKUP(RN$6,DEBUT!$CP$2:$DI$18,5,FALSE),\"\")","v":0},{"$f":"IFERROR(HLOOKUP(RN$6,DEBUT!$CP$2:$DI$18,9,FALSE),\"\")","v":0},{"$f":"IFERROR(HLOOKUP(RN$6,DEBUT!$CP$2:$DI$18,13,FALSE),\"\")","v":0},{"$f":"IFERROR(HLOOKUP(RN$6,DEBUT!$CP$2:$DI$18,17,FALSE),\"\")","v":0},null,null,null,{"$f":"IFERROR(HLOOKUP(RU$6,DEBUT!$CP$2:$DI$18,5,FALSE),\"\")","v":0},{"$f":"IFERROR(HLOOKUP(RU$6,DEBUT!$CP$2:$DI$18,9,FALSE),\"\")","v":0},{"$f":"IFERROR(HLOOKUP(RU$6,DEBUT!$CP$2:$DI$18,13,FALSE),\"\")","v":0},{"$f":"IFERROR(HLOOKUP(RU$6,DEBUT!$CP$2:$DI$18,17,FALSE),\"\")","v":0},null,null,null,null,null,{"$f":"IFERROR(HLOOKUP(SD$6,DEBUT!$CP$2:$DI$18,5,FALSE),\"\")","v":0},{"$f":"IFERROR(HLOOKUP(SD$6,DEBUT!$CP$2:$DI$18,9,FALSE),\"\")","v":0},{"$f":"IFERROR(HLOOKUP(SD$6,DEBUT!$CP$2:$DI$18,13,FALSE),\"\")","v":0},{"$f":"IFERROR(HLOOKUP(SD$6,DEBUT!$CP$2:$DI$18,17,FALSE),\"\")","v":0},null,null,null,{"$f":"IFERROR(HLOOKUP(SK$6,DEBUT!$CP$2:$DI$18,5,FALSE),\"\")","v":0},{"$f":"IFERROR(HLOOKUP(SK$6,DEBUT!$CP$2:$DI$18,9,FALSE),\"\")","v":0},{"$f":"IFERROR(HLOOKUP(SK$6,DEBUT!$CP$2:$DI$18,13,FALSE),\"\")","v":0},{"$f":"IFERROR(HLOOKUP(SK$6,DEBUT!$CP$2:$DI$18,17,FALSE),\"\")","v":0},null,null,null,null,null,null,null,{"$f":"IFERROR(HLOOKUP(SV$6,DEBUT!$CP$2:$DI$18,5,FALSE),\"\")","v":0},{"$f":"IFERROR(HLOOKUP(SV$6,DEBUT!$CP$2:$DI$18,9,FALSE),\"\")","v":0},{"$f":"IFERROR(HLOOKUP(SV$6,DEBUT!$CP$2:$DI$18,13,FALSE),\"\")","v":0},{"$f":"IFERROR(HLOOKUP(SV$6,DEBUT!$CP$2:$DI$18,17,FALSE),\"\")","v":0},null,null,null,{"$f":"IFERROR(HLOOKUP(TC$6,DEBUT!$CP$2:$DI$18,5,FALSE),\"\")","v":0},{"$f":"IFERROR(HLOOKUP(TC$6,DEBUT!$CP$2:$DI$18,9,FALSE),\"\")","v":0},{"$f":"IFERROR(HLOOKUP(TC$6,DEBUT!$CP$2:$DI$18,13,FALSE),\"\")","v":0},{"$f":"IFERROR(HLOOKUP(TC$6,DEBUT!$CP$2:$DI$18,17,FALSE),\"\")","v":0},null,null,null,null,null,{"$f":"IFERROR(HLOOKUP(TL$6,DEBUT!$CP$2:$DI$18,5,FALSE),\"\")","v":0},{"$f":"IFERROR(HLOOKUP(TL$6,DEBUT!$CP$2:$DI$18,9,FALSE),\"\")","v":0},{"$f":"IFERROR(HLOOKUP(TL$6,DEBUT!$CP$2:$DI$18,13,FALSE),\"\")","v":0},{"$f":"IFERROR(HLOOKUP(TL$6,DEBUT!$CP$2:$DI$18,17,FALSE),\"\")","v":0},null,null,null,{"$f":"IFERROR(HLOOKUP(TS$6,DEBUT!$CP$2:$DI$18,5,FALSE),\"\")","v":0},{"$f":"IFERROR(HLOOKUP(TS$6,DEBUT!$CP$2:$DI$18,9,FALSE),\"\")","v":0},{"$f":"IFERROR(HLOOKUP(TS$6,DEBUT!$CP$2:$DI$18,13,FALSE),\"\")","v":0},{"$f":"IFERROR(HLOOKUP(TS$6,DEBUT!$CP$2:$DI$18,17,FALSE),\"\")","v":0},null,null,null,null,null,null,null,{"$f":"IFERROR(HLOOKUP(UD$6,DEBUT!$CP$2:$DI$18,5,FALSE),\"\")","v":0},{"$f":"IFERROR(HLOOKUP(UD$6,DEBUT!$CP$2:$DI$18,9,FALSE),\"\")","v":0},{"$f":"IFERROR(HLOOKUP(UD$6,DEBUT!$CP$2:$DI$18,13,FALSE),\"\")","v":0},{"$f":"IFERROR(HLOOKUP(UD$6,DEBUT!$CP$2:$DI$18,17,FALSE),\"\")","v":0},null,null,null,{"$f":"IFERROR(HLOOKUP(UK$6,DEBUT!$CP$2:$DI$18,5,FALSE),\"\")","v":0},{"$f":"IFERROR(HLOOKUP(UK$6,DEBUT!$CP$2:$DI$18,9,FALSE),\"\")","v":0},{"$f":"IFERROR(HLOOKUP(UK$6,DEBUT!$CP$2:$DI$18,13,FALSE),\"\")","v":0},{"$f":"IFERROR(HLOOKUP(UK$6,DEBUT!$CP$2:$DI$18,17,FALSE),\"\")","v":0},null,null,null,null,null,{"$f":"IFERROR(HLOOKUP(UT$6,DEBUT!$CP$2:$DI$18,5,FALSE),\"\")","v":0},{"$f":"IFERROR(HLOOKUP(UT$6,DEBUT!$CP$2:$DI$18,9,FALSE),\"\")","v":0},{"$f":"IFERROR(HLOOKUP(UT$6,DEBUT!$CP$2:$DI$18,13,FALSE),\"\")","v":0},{"$f":"IFERROR(HLOOKUP(UT$6,DEBUT!$CP$2:$DI$18,17,FALSE),\"\")","v":0},null,null,null,{"$f":"IFERROR(HLOOKUP(VA$6,DEBUT!$CP$2:$DI$18,5,FALSE),\"\")","v":0},{"$f":"IFERROR(HLOOKUP(VA$6,DEBUT!$CP$2:$DI$18,9,FALSE),\"\")","v":0},{"$f":"IFERROR(HLOOKUP(VA$6,DEBUT!$CP$2:$DI$18,13,FALSE),\"\")","v":0},{"$f":"IFERROR(HLOOKUP(VA$6,DEBUT!$CP$2:$DI$18,17,FALSE),\"\")","v":0},null,null,null,null,null,null,null,{"$f":"IFERROR(HLOOKUP(VL$6,DEBUT!$CP$2:$DI$18,5,FALSE),\"\")","v":0},{"$f":"IFERROR(HLOOKUP(VL$6,DEBUT!$CP$2:$DI$18,9,FALSE),\"\")","v":0},{"$f":"IFERROR(HLOOKUP(VL$6,DEBUT!$CP$2:$DI$18,13,FALSE),\"\")","v":0},{"$f":"IFERROR(HLOOKUP(VL$6,DEBUT!$CP$2:$DI$18,17,FALSE),\"\")","v":0},null,null,null,{"$f":"IFERROR(HLOOKUP(VS$6,DEBUT!$CP$2:$DI$18,5,FALSE),\"\")","v":0},{"$f":"IFERROR(HLOOKUP(VS$6,DEBUT!$CP$2:$DI$18,9,FALSE),\"\")","v":0},{"$f":"IFERROR(HLOOKUP(VS$6,DEBUT!$CP$2:$DI$18,13,FALSE),\"\")","v":0},{"$f":"IFERROR(HLOOKUP(VS$6,DEBUT!$CP$2:$DI$18,17,FALSE),\"\")","v":0},null,null,null,null,null,{"$f":"IFERROR(HLOOKUP(WB$6,DEBUT!$CP$2:$DI$18,5,FALSE),\"\")","v":0},{"$f":"IFERROR(HLOOKUP(WB$6,DEBUT!$CP$2:$DI$18,9,FALSE),\"\")","v":0},{"$f":"IFERROR(HLOOKUP(WB$6,DEBUT!$CP$2:$DI$18,13,FALSE),\"\")","v":0},{"$f":"IFERROR(HLOOKUP(WB$6,DEBUT!$CP$2:$DI$18,17,FALSE),\"\")","v":0},null,null,null,{"$f":"IFERROR(HLOOKUP(WI$6,DEBUT!$CP$2:$DI$18,5,FALSE),\"\")","v":0},{"$f":"IFERROR(HLOOKUP(WI$6,DEBUT!$CP$2:$DI$18,9,FALSE),\"\")","v":0},{"$f":"IFERROR(HLOOKUP(WI$6,DEBUT!$CP$2:$DI$18,13,FALSE),\"\")","v":0},{"$f":"IFERROR(HLOOKUP(WI$6,DEBUT!$CP$2:$DI$18,17,FALSE),\"\")","v":0},null,null,null,null,null,null,null,{"$f":"IFERROR(HLOOKUP(WT$6,DEBUT!$CP$2:$DI$18,5,FALSE),\"\")","v":0},{"$f":"IFERROR(HLOOKUP(WT$6,DEBUT!$CP$2:$DI$18,9,FALSE),\"\")","v":0},{"$f":"IFERROR(HLOOKUP(WT$6,DEBUT!$CP$2:$DI$18,13,FALSE),\"\")","v":0},{"$f":"IFERROR(HLOOKUP(WT$6,DEBUT!$CP$2:$DI$18,17,FALSE),\"\")","v":0},null,null,null,{"$f":"IFERROR(HLOOKUP(XA$6,DEBUT!$CP$2:$DI$18,5,FALSE),\"\")","v":0},{"$f":"IFERROR(HLOOKUP(XA$6,DEBUT!$CP$2:$DI$18,9,FALSE),\"\")","v":0},{"$f":"IFERROR(HLOOKUP(XA$6,DEBUT!$CP$2:$DI$18,13,FALSE),\"\")","v":0},{"$f":"IFERROR(HLOOKUP(XA$6,DEBUT!$CP$2:$DI$18,17,FALSE),\"\")","v":0},null,null,null,null,null,{"$f":"IFERROR(HLOOKUP(XJ$6,DEBUT!$CP$2:$DI$18,5,FALSE),\"\")","v":0},{"$f":"IFERROR(HLOOKUP(XJ$6,DEBUT!$CP$2:$DI$18,9,FALSE),\"\")","v":0},{"$f":"IFERROR(HLOOKUP(XJ$6,DEBUT!$CP$2:$DI$18,13,FALSE),\"\")","v":0},{"$f":"IFERROR(HLOOKUP(XJ$6,DEBUT!$CP$2:$DI$18,17,FALSE),\"\")","v":0},null,null,null,{"$f":"IFERROR(HLOOKUP(XQ$6,DEBUT!$CP$2:$DI$18,5,FALSE),\"\")","v":0},{"$f":"IFERROR(HLOOKUP(XQ$6,DEBUT!$CP$2:$DI$18,9,FALSE),\"\")","v":0},{"$f":"IFERROR(HLOOKUP(XQ$6,DEBUT!$CP$2:$DI$18,13,FALSE),\"\")","v":0},{"$f":"IFERROR(HLOOKUP(XQ$6,DEBUT!$CP$2:$DI$18,17,FALSE),\"\")","v":0},null,null,null,null,null,null,null,{"$f":"IFERROR(HLOOKUP(YB$6,DEBUT!$CP$2:$DI$18,5,FALSE),\"\")","v":0},{"$f":"IFERROR(HLOOKUP(YB$6,DEBUT!$CP$2:$DI$18,9,FALSE),\"\")","v":0},{"$f":"IFERROR(HLOOKUP(YB$6,DEBUT!$CP$2:$DI$18,13,FALSE),\"\")","v":0},{"$f":"IFERROR(HLOOKUP(YB$6,DEBUT!$CP$2:$DI$18,17,FALSE),\"\")","v":0},null,null,null,{"$f":"IFERROR(HLOOKUP(YI$6,DEBUT!$CP$2:$DI$18,5,FALSE),\"\")","v":0},{"$f":"IFERROR(HLOOKUP(YI$6,DEBUT!$CP$2:$DI$18,9,FALSE),\"\")","v":0},{"$f":"IFERROR(HLOOKUP(YI$6,DEBUT!$CP$2:$DI$18,13,FALSE),\"\")","v":0},{"$f":"IFERROR(HLOOKUP(YI$6,DEBUT!$CP$2:$DI$18,17,FALSE),\"\")","v":0},null,null,null,null,null,{"$f":"IFERROR(HLOOKUP(YR$6,DEBUT!$CP$2:$DI$18,5,FALSE),\"\")","v":0},{"$f":"IFERROR(HLOOKUP(YR$6,DEBUT!$CP$2:$DI$18,9,FALSE),\"\")","v":0},{"$f":"IFERROR(HLOOKUP(YR$6,DEBUT!$CP$2:$DI$18,13,FALSE),\"\")","v":0},{"$f":"IFERROR(HLOOKUP(YR$6,DEBUT!$CP$2:$DI$18,17,FALSE),\"\")","v":0},null,null,null,{"$f":"IFERROR(HLOOKUP(YY$6,DEBUT!$CP$2:$DI$18,5,FALSE),\"\")","v":0},{"$f":"IFERROR(HLOOKUP(YY$6,DEBUT!$CP$2:$DI$18,9,FALSE),\"\")","v":0},{"$f":"IFERROR(HLOOKUP(YY$6,DEBUT!$CP$2:$DI$18,13,FALSE),\"\")","v":0},{"$f":"IFERROR(HLOOKUP(YY$6,DEBUT!$CP$2:$DI$18,17,FALSE),\"\")","v":0},null,null,null,null,null,null,null,{"$f":"IFERROR(HLOOKUP(ZJ$6,DEBUT!$CP$2:$DI$18,5,FALSE),\"\")","v":0},{"$f":"IFERROR(HLOOKUP(ZJ$6,DEBUT!$CP$2:$DI$18,9,FALSE),\"\")","v":0},{"$f":"IFERROR(HLOOKUP(ZJ$6,DEBUT!$CP$2:$DI$18,13,FALSE),\"\")","v":0},{"$f":"IFERROR(HLOOKUP(ZJ$6,DEBUT!$CP$2:$DI$18,17,FALSE),\"\")","v":0},null,null,null,{"$f":"IFERROR(HLOOKUP(ZQ$6,DEBUT!$CP$2:$DI$18,5,FALSE),\"\")","v":0},{"$f":"IFERROR(HLOOKUP(ZQ$6,DEBUT!$CP$2:$DI$18,9,FALSE),\"\")","v":0},{"$f":"IFERROR(HLOOKUP(ZQ$6,DEBUT!$CP$2:$DI$18,13,FALSE),\"\")","v":0},{"$f":"IFERROR(HLOOKUP(ZQ$6,DEBUT!$CP$2:$DI$18,17,FALSE),\"\")","v":0},null,null,null,null,null,{"$f":"IFERROR(HLOOKUP(ZZ$6,DEBUT!$CP$2:$DI$18,5,FALSE),\"\")","v":0},{"$f":"IFERROR(HLOOKUP(ZZ$6,DEBUT!$CP$2:$DI$18,9,FALSE),\"\")","v":0},{"$f":"IFERROR(HLOOKUP(ZZ$6,DEBUT!$CP$2:$DI$18,13,FALSE),\"\")","v":0},{"$f":"IFERROR(HLOOKUP(ZZ$6,DEBUT!$CP$2:$DI$18,17,FALSE),\"\")","v":0},null,null,null,{"$f":"IFERROR(HLOOKUP(AAG$6,DEBUT!$CP$2:$DI$18,5,FALSE),\"\")","v":0},{"$f":"IFERROR(HLOOKUP(AAG$6,DEBUT!$CP$2:$DI$18,9,FALSE),\"\")","v":0},{"$f":"IFERROR(HLOOKUP(AAG$6,DEBUT!$CP$2:$DI$18,13,FALSE),\"\")","v":0},{"$f":"IFERROR(HLOOKUP(AAG$6,DEBUT!$CP$2:$DI$18,17,FALSE),\"\")","v":0},null,null,null,null,null,null,null,{"$f":"IFERROR(HLOOKUP(AAR$6,DEBUT!$CP$2:$DI$18,5,FALSE),\"\")","v":0},{"$f":"IFERROR(HLOOKUP(AAR$6,DEBUT!$CP$2:$DI$18,9,FALSE),\"\")","v":0},{"$f":"IFERROR(HLOOKUP(AAR$6,DEBUT!$CP$2:$DI$18,13,FALSE),\"\")","v":0},{"$f":"IFERROR(HLOOKUP(AAR$6,DEBUT!$CP$2:$DI$18,17,FALSE),\"\")","v":0},null,null,null,{"$f":"IFERROR(HLOOKUP(AAY$6,DEBUT!$CP$2:$DI$18,5,FALSE),\"\")","v":0},{"$f":"IFERROR(HLOOKUP(AAY$6,DEBUT!$CP$2:$DI$18,9,FALSE),\"\")","v":0},{"$f":"IFERROR(HLOOKUP(AAY$6,DEBUT!$CP$2:$DI$18,13,FALSE),\"\")","v":0},{"$f":"IFERROR(HLOOKUP(AAY$6,DEBUT!$CP$2:$DI$18,17,FALSE),\"\")","v":0},null,null,null,null,null,{"$f":"IFERROR(HLOOKUP(ABH$6,DEBUT!$CP$2:$DI$18,5,FALSE),\"\")","v":0},{"$f":"IFERROR(HLOOKUP(ABH$6,DEBUT!$CP$2:$DI$18,9,FALSE),\"\")","v":0},{"$f":"IFERROR(HLOOKUP(ABH$6,DEBUT!$CP$2:$DI$18,13,FALSE),\"\")","v":0},{"$f":"IFERROR(HLOOKUP(ABH$6,DEBUT!$CP$2:$DI$18,17,FALSE),\"\")","v":0},null,null,null,{"$f":"IFERROR(HLOOKUP(ABO$6,DEBUT!$CP$2:$DI$18,5,FALSE),\"\")","v":0},{"$f":"IFERROR(HLOOKUP(ABO$6,DEBUT!$CP$2:$DI$18,9,FALSE),\"\")","v":0},{"$f":"IFERROR(HLOOKUP(ABO$6,DEBUT!$CP$2:$DI$18,13,FALSE),\"\")","v":0},{"$f":"IFERROR(HLOOKUP(ABO$6,DEBUT!$CP$2:$DI$18,17,FALSE),\"\")","v":0},null,null,null,null,null,null,null,{"$f":"IFERROR(HLOOKUP(ABZ$6,DEBUT!$CP$2:$DI$18,5,FALSE),\"\")","v":0},{"$f":"IFERROR(HLOOKUP(ABZ$6,DEBUT!$CP$2:$DI$18,9,FALSE),\"\")","v":0},{"$f":"IFERROR(HLOOKUP(ABZ$6,DEBUT!$CP$2:$DI$18,13,FALSE),\"\")","v":0},{"$f":"IFERROR(HLOOKUP(ABZ$6,DEBUT!$CP$2:$DI$18,17,FALSE),\"\")","v":0},null,null,null,{"$f":"IFERROR(HLOOKUP(ACG$6,DEBUT!$CP$2:$DI$18,5,FALSE),\"\")","v":0},{"$f":"IFERROR(HLOOKUP(ACG$6,DEBUT!$CP$2:$DI$18,9,FALSE),\"\")","v":0},{"$f":"IFERROR(HLOOKUP(ACG$6,DEBUT!$CP$2:$DI$18,13,FALSE),\"\")","v":0},{"$f":"IFERROR(HLOOKUP(ACG$6,DEBUT!$CP$2:$DI$18,17,FALSE),\"\")","v":0},null,null,null,null,null,{"$f":"IFERROR(HLOOKUP(ACP$6,DEBUT!$CP$2:$DI$18,5,FALSE),\"\")","v":0},{"$f":"IFERROR(HLOOKUP(ACP$6,DEBUT!$CP$2:$DI$18,9,FALSE),\"\")","v":0},{"$f":"IFERROR(HLOOKUP(ACP$6,DEBUT!$CP$2:$DI$18,13,FALSE),\"\")","v":0},{"$f":"IFERROR(HLOOKUP(ACP$6,DEBUT!$CP$2:$DI$18,17,FALSE),\"\")","v":0},null,null,null,{"$f":"IFERROR(HLOOKUP(ACW$6,DEBUT!$CP$2:$DI$18,5,FALSE),\"\")","v":0},{"$f":"IFERROR(HLOOKUP(ACW$6,DEBUT!$CP$2:$DI$18,9,FALSE),\"\")","v":0},{"$f":"IFERROR(HLOOKUP(ACW$6,DEBUT!$CP$2:$DI$18,13,FALSE),\"\")","v":0},{"$f":"IFERROR(HLOOKUP(ACW$6,DEBUT!$CP$2:$DI$18,17,FALSE),\"\")","v":0},null,null,null,null,null,null,null,{"$f":"IFERROR(HLOOKUP(ADH$6,DEBUT!$CP$2:$DI$18,5,FALSE),\"\")","v":0},{"$f":"IFERROR(HLOOKUP(ADH$6,DEBUT!$CP$2:$DI$18,9,FALSE),\"\")","v":0},{"$f":"IFERROR(HLOOKUP(ADH$6,DEBUT!$CP$2:$DI$18,13,FALSE),\"\")","v":0},{"$f":"IFERROR(HLOOKUP(ADH$6,DEBUT!$CP$2:$DI$18,17,FALSE),\"\")","v":0},null,null,null,{"$f":"IFERROR(HLOOKUP(ADO$6,DEBUT!$CP$2:$DI$18,5,FALSE),\"\")","v":0},{"$f":"IFERROR(HLOOKUP(ADO$6,DEBUT!$CP$2:$DI$18,9,FALSE),\"\")","v":0},{"$f":"IFERROR(HLOOKUP(ADO$6,DEBUT!$CP$2:$DI$18,13,FALSE),\"\")","v":0},{"$f":"IFERROR(HLOOKUP(ADO$6,DEBUT!$CP$2:$DI$18,17,FALSE),\"\")","v":0},null,null,null,null,null,{"$f":"IFERROR(HLOOKUP(ADX$6,DEBUT!$CP$2:$DI$18,5,FALSE),\"\")","v":0},{"$f":"IFERROR(HLOOKUP(ADX$6,DEBUT!$CP$2:$DI$18,9,FALSE),\"\")","v":0},{"$f":"IFERROR(HLOOKUP(ADX$6,DEBUT!$CP$2:$DI$18,13,FALSE),\"\")","v":0},{"$f":"IFERROR(HLOOKUP(ADX$6,DEBUT!$CP$2:$DI$18,17,FALSE),\"\")","v":0},null,null,null,{"$f":"IFERROR(HLOOKUP(AEE$6,DEBUT!$CP$2:$DI$18,5,FALSE),\"\")","v":0},{"$f":"IFERROR(HLOOKUP(AEE$6,DEBUT!$CP$2:$DI$18,9,FALSE),\"\")","v":0},{"$f":"IFERROR(HLOOKUP(AEE$6,DEBUT!$CP$2:$DI$18,13,FALSE),\"\")","v":0},{"$f":"IFERROR(HLOOKUP(AEE$6,DEBUT!$CP$2:$DI$18,17,FALSE),\"\")","v":0}]
[]
[]
[null,"MATCHS",null,null,null,"SCORE",null,null,null,null,null,null,"SCORE",null,null,null,null,null,null,null,null,"SCORE",null,null,null,null,null,null,"SCORE",null,null,null,null,null,null,null,null,null,null,"SCORE",null,null,null,null,null,null,"SCORE",null,null,null,null,null,null,null,null,"SCORE",null,null,null,null,null,null,"SCORE",null,null,null,null,null,null,null,null,null,null,"SCORE",null,null,null,null,null,null,"SCORE",null,null,null,null,null,null,null,null,"SCORE",null,null,null,null,null,null,"SCORE",null,null,null,null,null,null,null,null,null,null,"SCORE",null,null,null,null,null,null,"SCORE",null,null,null,null,null,null,null,null,"SCORE",null,null,null,null,null,null,"SCORE",null,null,null,null,null,null,null,null,null,null,"SCORE",null,null,null,null,null,null,"SCORE",null,null,null,null,null,null,null,null,"SCORE",null,null,null,null,null,null,"SCORE",null,null,null,null,null,null,null,null,null,null,"SCORE",null,null,null,null,null,null,"SCORE",null,null,null,null,null,null,null,null,"SCORE",null,null,null,null,null,null,"SCORE",null,null,null,null,null,null,null,null,null,null,"SCORE",null,null,null,null,null,null,"SCORE",null,null,null,null,null,null,null,null,"SCORE",null,null,null,null,null,null,"SCORE",null,null,null,null,null,null,null,null,null,null,"SCORE",null,null,null,null,null,null,"SCORE",null,null,null,null,null,null,null,null,"SCORE",null,null,null,null,null,null,"SCORE",null,null,null,null,null,null,null,null,null,null,"SCORE",null,null,null,null,null,null,"SCORE",null,null,null,null,null,null,null,null,"SCORE",null,null,null,null,null,null,"SCORE",null,null,null,null,null,null,null,null,null,null,"SCORE",null,null,null,null,null,null,"SCORE",null,null,null,null,null,null,null,null,"SCORE",null,null,null,null,null,null,"SCORE",null,null,null,null,null,null,null,null,null,null,"SCORE",null,null,null,null,null,null,"SCORE",null,null,null,null,null,null,null,null,"SCORE",null,null,null,null,null,null,"SCORE",null,null,null,null,null,null,null,null,null,null,"SCORE",null,null,null,null,null,null,"SCORE",null,null,null,null,null,null,null,null,"SCORE",null,null,null,null,null,null,"SCORE",null,null,null,null,null,null,null,null,null,null,"SCORE",null,null,null,null,null,null,"SCORE",null,null,null,null,null,null,null,null,"SCORE",null,null,null,null,null,null,"SCORE",null,null,null,null,null,null,null,null,null,null,"SCORE",null,null,null,null,null,null,"SCORE",null,null,null,null,null,null,null,null,"SCORE",null,null,null,null,null,null,"SCORE",null,null,null,null,null,null,null,null,null,null,"SCORE",null,null,null,null,null,null,"SCORE",null,null,null,null,null,null,null,null,"SCORE",null,null,null,null,null,null,"SCORE",null,null,null,null,null,null,null,null,null,null,"SCORE",null,null,null,null,null,null,"SCORE",null,null,null,null,null,null,null,null,"SCORE",null,null,null,null,null,null,"SCORE",null,null,null,null,null,null,null,null,null,null,"SCORE",null,null,null,null,null,null,"SCORE",null,null,null,null,null,null,null,null,"SCORE",null,null,null,null,null,null,"SCORE",null,null,null,null,null,null,null,null,null,null,"SCORE",null,null,null,null,null,null,"SCORE",null,null,null,null,null,null,null,null,"SCORE",null,null,null,null,null,null,"SCORE",null,null,null,null,null,null,null,null,null,null,"SCORE",null,null,null,null,null,null,"SCORE",null,null,null,null,null,null,null,null,"SCORE",null,null,null,null,null,null,"SCORE",null,null,null,null,null,null,null,null,null,null,"SCORE",null,null,null,null,null,null,"SCORE",null,null,null,null,null,null,null,null,"SCORE",null,null,null,null,null,null,"SCORE",null,null,null,null,null,null,null,null,null,null,"SCORE",null,null,null,null,null,null,"SCORE",null,null,null,null,null,null,null,null,"SCORE",null,null,null,null,null,null,"SCORE",null,null,null,null,null,null,null,null,null,null,"SCORE",null,null,null,null,null,null,"SCORE",null,null,null,null,null,null,null,null,"SCORE",null,null,null,null,null,null,"SCORE",null,null,null,null,null,null,null,null,null,null,"SCORE",null,null,null,null,null,null,"SCORE",null,null,null,null,null,null,null,null,"SCORE",null,null,null,null,null,null,"SCORE",null,null,null,null,null,null,null,null,null,null,"SCORE",null,null,null,null,null,null,"SCORE",null,null,null,null,null,null,null,null,"SCORE",null,null,null,null,null,null,"SCORE"]
[null,"POINTS MARQUES AVEC OU SANS RESPECT DU CHOIX",null,null,null,"Points marqués avec RESPECT du choix",null,"Tous les AUTRES points marqués",null,null,null,null,"Points marqués avec RESPECT du choix",null,"Tous les AUTRES points marqués",null,null,null,null,null,null,"Points marqués avec RESPECT du choix",null,"Tous les AUTRES points marqués",null,null,null,null,"Points marqués avec RESPECT du choix",null,"Tous les AUTRES points marqués",null,null,null,null,null,null,null,null,"Points marqués avec RESPECT du choix",null,"Tous les AUTRES points marqués",null,null,null,null,"Points marqués avec RESPECT du choix",null,"Tous les AUTRES points marqués",null,null,null,null,null,null,"Points marqués avec RESPECT du choix",null,"Tous les AUTRES points marqués",null,null,null,null,"Points marqués avec RESPECT du choix",null,"Tous les AUTRES points marqués",null,null,null,null,null,null,null,null,"Points marqués avec RESPECT du choix",null,"Tous les AUTRES points marqués",null,null,null,null,"Points marqués avec RESPECT du choix",null,"Tous les AUTRES points marqués",null,null,null,null,null,null,"Points marqués avec RESPECT du choix",null,"Tous les AUTRES points marqués",null,null,null,null,"Points marqués avec RESPECT du choix",null,"Tous les AUTRES points marqués",null,null,null,null,null,null,null,null,"Points marqués avec RESPECT du choix",null,"Tous les AUTRES points marqués",null,null,null,null,"Points marqués avec RESPECT du choix",null,"Tous les AUTRES points marqués",null,null,null,null,null,null,"Points marqués avec RESPECT du choix",null,"Tous les AUTRES points marqués",null,null,null,null,"Points marqués avec RESPECT du choix",null,"Tous les AUTRES points marqués",null,null,null,null,null,null,null,null,"Points marqués avec RESPECT du choix",null,"Tous les AUTRES points marqués",null,null,null,null,"Points marqués avec RESPECT du choix",null,"Tous les AUTRES points marqués",null,null,null,null,null,null,"Points marqués avec RESPECT du choix",null,"Tous les AUTRES points marqués",null,null,null,null,"Points marqués avec RESPECT du choix",null,"Tous les AUTRES points marqués",null,null,null,null,null,null,null,null,"Points marqués avec RESPECT du choix",null,"Tous les AUTRES points marqués",null,null,null,null,"Points marqués avec RESPECT du choix",null,"Tous les AUTRES points marqués",null,null,null,null,null,null,"Points marqués avec RESPECT du choix",null,"Tous les AUTRES points marqués",null,null,null,null,"Points marqués avec RESPECT du choix",null,"Tous les AUTRES points marqués",null,null,null,null,null,null,null,null,"Points marqués avec RESPECT du choix",null,"Tous les AUTRES points marqués",null,null,null,null,"Points marqués avec RESPECT du choix",null,"Tous les AUTRES points marqués",null,null,null,null,null,null,"Points marqués avec RESPECT du choix",null,"Tous les AUTRES points marqués",null,null,null,null,"Points marqués avec RESPECT du choix",null,"Tous les AUTRES points marqués",null,null,null,null,null,null,null,null,"Points marqués avec RESPECT du choix",null,"Tous les AUTRES points marqués",null,null,null,null,"Points marqués avec RESPECT du choix",null,"Tous les AUTRES points marqués",null,null,null,null,null,null,"Points marqués avec RESPECT du choix",null,"Tous les AUTRES points marqués",null,null,null,null,"Points marqués avec RESPECT du choix",null,"Tous les AUTRES points marqués",null,null,null,null,null,null,null,null,"Points marqués avec RESPECT du choix",null,"Tous les AUTRES points marqués",null,null,null,null,"Points marqués avec RESPECT du choix",null,"Tous les AUTRES points marqués",null,null,null,null,null,null,"Points marqués avec RESPECT du choix",null,"Tous les AUTRES points marqués",null,null,null,null,"Points marqués avec RESPECT du choix",null,"Tous les AUTRES points marqués",null,null,null,null,null,null,null,null,"Points marqués avec RESPECT du choix",null,"Tous les AUTRES points marqués",null,null,null,null,"Points marqués avec RESPECT du choix",null,"Tous les AUTRES points marqués",null,null,null,null,null,null,"Points marqués avec RESPECT du choix",null,"Tous les AUTRES points marqués",null,null,null,null,"Points marqués avec RESPECT du choix",null,"Tous les AUTRES points marqués",null,null,null,null,null,null,null,null,"Points marqués avec RESPECT du choix",null,"Tous les AUTRES points marqués",null,null,null,null,"Points marqués avec RESPECT du choix",null,"Tous les AUTRES points marqués",null,null,null,null,null,null,"Points marqués avec RESPECT du choix",null,"Tous les AUTRES points marqués",null,null,null,null,"Points marqués avec RESPECT du choix",null,"Tous les AUTRES points marqués",null,null,null,null,null,null,null,null,"Points marqués avec RESPECT du choix",null,"Tous les AUTRES points marqués",null,null,null,null,"Points marqués avec RESPECT du choix",null,"Tous les AUTRES points marqués",null,null,null,null,null,null,"Points marqués avec RESPECT du choix",null,"Tous les AUTRES points marqués",null,null,null,null,"Points marqués avec RESPECT du choix",null,"Tous les AUTRES points marqués",null,null,null,null,null,null,null,null,"Points marqués avec RESPECT du choix",null,"Tous les AUTRES points marqués",null,null,null,null,"Points marqués avec RESPECT du choix",null,"Tous les AUTRES points marqués",null,null,null,null,null,null,"Points marqués avec RESPECT du choix",null,"Tous les AUTRES points marqués",null,null,null,null,"Points marqués avec RESPECT du choix",null,"Tous les AUTRES points marqués",null,null,null,null,null,null,null,null,"Points marqués avec RESPECT du choix",null,"Tous les AUTRES points marqués",null,null,null,null,"Points marqués avec RESPECT du choix",null,"Tous les AUTRES points marqués",null,null,null,null,null,null,"Points marqués avec RESPECT du choix",null,"Tous les AUTRES points marqués",null,null,null,null,"Points marqués avec RESPECT du choix",null,"Tous les AUTRES points marqués",null,null,null,null,null,null,null,null,"Points marqués avec RESPECT du choix",null,"Tous les AUTRES points marqués",null,null,null,null,"Points marqués avec RESPECT du choix",null,"Tous les AUTRES points marqués",null,null,null,null,null,null,"Points marqués avec RESPECT du choix",null,"Tous les AUTRES points marqués",null,null,null,null,"Points marqués avec RESPECT du choix",null,"Tous les AUTRES points marqués",null,null,null,null,null,null,null,null,"Points marqués avec RESPECT du choix",null,"Tous les AUTRES points marqués",null,null,null,null,"Points marqués avec RESPECT du choix",null,"Tous les AUTRES points marqués",null,null,null,null,null,null,"Points marqués avec RESPECT du choix",null,"Tous les AUTRES points marqués",null,null,null,null,"Points marqués avec RESPECT du choix",null,"Tous les AUTRES points marqués",null,null,null,null,null,null,null,null,"Points marqués avec RESPECT du choix",null,"Tous les AUTRES points marqués",null,null,null,null,"Points marqués avec RESPECT du choix",null,"Tous les AUTRES points marqués",null,null,null,null,null,null,"Points marqués avec RESPECT du choix",null,"Tous les AUTRES points marqués",null,null,null,null,"Points marqués avec RESPECT du choix",null,"Tous les AUTRES points marqués",null,null,null,null,null,null,null,null,"Points marqués avec RESPECT du choix",null,"Tous les AUTRES points marqués",null,null,null,null,"Points marqués avec RESPECT du choix",null,"Tous les AUTRES points marqués",null,null,null,null,null,null,"Points marqués avec RESPECT du choix",null,"Tous les AUTRES points marqués",null,null,null,null,"Points marqués avec RESPECT du choix",null,"Tous les AUTRES points marqués",null,null,null,null,null,null,null,null,"Points marqués avec RESPECT du choix",null,"Tous les AUTRES points marqués",null,null,null,null,"Points marqués avec RESPECT du choix",null,"Tous les AUTRES points marqués",null,null,null,null,null,null,"Points marqués avec RESPECT du choix",null,"Tous les AUTRES points marqués",null,null,null,null,"Points marqués avec RESPECT du choix",null,"Tous les AUTRES points marqués",null,null,null,null,null,null,null,null,"Points marqués avec RESPECT du choix",null,"Tous les AUTRES points marqués",null,null,null,null,"Points marqués avec RESPECT du choix",null,"Tous les AUTRES points marqués",null,null,null,null,null,null,"Points marqués avec RESPECT du choix",null,"Tous les AUTRES points marqués",null,null,null,null,"Points marqués avec RESPECT du choix",null,"Tous les AUTRES points marqués",null,null,null,null,null,null,null,null,"Points marqués avec RESPECT du choix",null,"Tous les AUTRES points marqués",null,null,null,null,"Points marqués avec RESPECT du choix",null,"Tous les AUTRES points marqués",null,null,null,null,null,null,"Points marqués avec RESPECT du choix",null,"Tous les AUTRES points marqués",null,null,null,null,"Points marqués avec RESPECT du choix",null,"Tous les AUTRES points marqués",null,null,null,null,null,null,null,null,"Points marqués avec RESPECT du choix",null,"Tous les AUTRES points marqués",null,null,null,null,"Points marqués avec RESPECT du choix",null,"Tous les AUTRES points marqués",null,null,null,null,null,null,"Points marqués avec RESPECT du choix",null,"Tous les AUTRES points marqués",null,null,null,null,"Points marqués avec RESPECT du choix",null,"Tous les AUTRES points marqués",null,null,null,null,null,null,null,null,"Points marqués avec RESPECT du choix",null,"Tous les AUTRES points marqués",null,null,null,null,"Points marqués avec RESPECT du choix",null,"Tous les AUTRES points marqués",null,null,null,null,null,null,"Points marqués avec RESPECT du choix",null,"Tous les AUTRES points marqués",null,null,null,null,"Points marqués avec RESPECT du choix",null,"Tous les AUTRES points marqués",null,null,null,null,null,null,null,null,"Points marqués avec RESPECT du choix",null,"Tous les AUTRES points marqués",null,null,null,null,"Points marqués avec RESPECT du choix",null,"Tous les AUTRES points marqués",null,null,null,null,null,null,"Points marqués avec RESPECT du choix",null,"Tous les AUTRES points marqués",null,null,null,null,"Points marqués avec RESPECT du choix",null,"Tous les AUTRES points marqués"]
[null,1,null,null,null,null,null,null,null,null,null,null,null,null,null,null,null,null,null,null,null,null,null,null,null,null,null,null,null,null,null,null,null,null,null,"NOUVEAU MATCH",null,null,null,null,null,null,null,null,null,null,null,null,null,null,null,null,null,null,null,null,null,null,null,null,null,null,null,null,null,null,null,null,null,"NOUVEAU MATCH",null,null,null,null,null,null,null,null,null,null,null,null,null,null,null,null,null,null,null,null,null,null,null,null,null,null,null,null,null,null,null,null,null,"NOUVEAU MATCH",null,null,null,null,null,null,null,null,null,null,null,null,null,null,null,null,null,null,null,null,null,null,null,null,null,null,null,null,null,null,null,null,null,"NOUVEAU MATCH",null,null,null,null,null,null,null,null,null,null,null,null,null,null,null,null,null,null,null,null,null,null,null,null,null,null,null,null,null,null,null,null,null,"NOUVEAU MATCH",null,null,null,null,null,null,null,null,null,null,null,null,null,null,null,null,null,null,null,null,null,null,null,null,null,null,null,null,null,null,null,null,null,"NOUVEAU MATCH",null,null,null,null,null,null,null,null,null,null,null,null,null,null,null,null,null,null,null,null,null,null,null,null,null,null,null,null,null,null,null,null,null,"NOUVEAU MATCH",null,null,null,null,null,null,null,null,null,null,null,null,null,null,null,null,null,null,null,null,null,null,null,null,null,null,null,null,null,null,null,null,null,"NOUVEAU MATCH",null,null,null,null,null,null,null,null,null,null,null,null,null,null,null,null,null,null,null,null,null,null,null,null,null,null,null,null,null,null,null,null,null,"NOUVEAU MATCH",null,null,null,null,null,null,null,null,null,null,null,null,null,null,null,null,null,null,null,null,null,null,null,null,null,null,null,null,null,null,null,null,null,"NOUVEAU MATCH",null,null,null,null,null,null,null,null,null,null,null,null,null,null,null,null,null,null,null,null,null,null,null,null,null,null,null,null,null,null,null,null,null,"NOUVEAU MATCH",null,null,null,null,null,null,null,null,null,null,null,null,null,null,null,null,null,null,null,null,null,null,null,null,null,null,null,null,null,null,null,null,null,"NOUVEAU MATCH",null,null,null,null,null,null,null,null,null,null,null,null,null,null,null,null,null,null,null,null,null,null,null,null,null,null,null,null,null,null,null,null,null,"NOUVEAU MATCH",null,null,null,null,null,null,null,null,null,null,null,null,null,null,null,null,null,null,null,null,null,null,null,null,null,null,null,null,null,null,null,null,null,"NOUVEAU MATCH",null,null,null,null,null,null,null,null,null,null,null,null,null,null,null,null,null,null,null,null,null,null,null,null,null,null,null,null,null,null,null,null,null,"NOUVEAU MATCH",null,null,null,null,null,null,null,null,null,null,null,null,null,null,null,null,null,null,null,null,null,null,null,null,null,null,null,null,null,null,null,null,null,"NOUVEAU MATCH",null,null,null,null,null,null,null,null,null,null,null,null,null,null,null,null,null,null,null,null,null,null,null,null,null,null,null,null,null,null,null,null,null,"NOUVEAU MATCH",null,null,null,null,null,null,null,null,null,null,null,null,null,null,null,null,null,null,null,null,null,null,null,null,null,null,null,null,null,null,null,null,null,"NOUVEAU MATCH",null,null,null,null,null,null,null,null,null,null,null,null,null,null,null,null,null,null,null,null,null,null,null,null,null,null,null,null,null,null,null,null,null,"NOUVEAU MATCH",null,null,null,null,null,null,null,null,null,null,null,null,null,null,null,null,null,null,null,null,null,null,null,null,null,null,null,null,null,null,null,null,null,"NOUVEAU MATCH",null,null,null,null,null,null,null,null,null,null,null,null,null,null,null,null,null,null,null,null,null,null,null,null,null,null,null,null,null,null,null,null,null,"NOUVEAU MATCH",null,null,null,null,null,null,null,null,null,null,null,null,null,null,null,null,null,null,null,null,null,null,null,null,null,null,null,null,null,null,null,null,null,"NOUVEAU MATCH",null,null,null,null,null,null,null,null,null,null,null,null,null,null,null,null,null,null,null,null,null,null,null,null,null,null,null,null,null,null,null,null,null,"NOUVEAU MATCH",null,null,null,null,null,null,null,null,null,null,null,null,null,null,null,null,null,null,null,null,null,null,null,null,null,null,null,null,null,null,null,null,null,"NOUVEAU MATCH"]
[null,2]
[null,3]
[null,4]
[null,5]
[null,6]
[null,7]
[null,8]
[null,9]
[null,10]
[null,11]
[null,"TOTAL",null,null,null,{"$f":"(SUMPRODUCT(N(ISTEXT(F16:F26))))","v":0},"+",{"$f":"(SUMPRODUCT(N(ISTEXT(H16:H26))))","v":0},null,null,null,null,{"$f":"(SUMPRODUCT(N(ISTEXT(M16:M26))))","v":0},"+",{"$f":"(SUMPRODUCT(N(ISTEXT(O16:O26))))","v":0},null,null,null,null,null,null,{"$f":"(SUMPRODUCT(N(ISTEXT(V16:V26))))","v":0},"+",{"$f":"(SUMPRODUCT(N(ISTEXT(X16:X26))))","v":0},null,null,null,null,{"$f":"(SUMPRODUCT(N(ISTEXT(AC16:AC26))))","v":0},"+",{"$f":"(SUMPRODUCT(N(ISTEXT(AE16:AE26))))","v":0},null,null,null,null,null,null,null,null,{"$f":"(SUMPRODUCT(N(ISTEXT(AN16:AN26))))","v":0},"+",{"$f":"(SUMPRODUCT(N(ISTEXT(AP16:AP26))))","v":0},null,null,null,null,{"$f":"(SUMPRODUCT(N(ISTEXT(AU16:AU26))))","v":0},"+",{"$f":"(SUMPRODUCT(N(ISTEXT(AW16:AW26))))","v":0},null,null,null,null,null,null,{"$f":"(SUMPRODUCT(N(ISTEXT(BD16:BD26))))","v":0},"+",{"$f":"(SUMPRODUCT(N(ISTEXT(BF16:BF26))))","v":0},null,null,null,null,{"$f":"(SUMPRODUCT(N(ISTEXT(BK16:BK26))))","v":0},"+",{"$f":"(SUMPRODUCT(N(ISTEXT(BM16:BM26))))","v":0},null,null,null,null,null,null,null,null,{"$f":"(SUMPRODUCT(N(ISTEXT(BV16:BV26))))","v":0},"+",{"$f":"(SUMPRODUCT(N(ISTEXT(BX16:BX26))))","v":0},null,null,null,null,{"$f":"(SUMPRODUCT(N(ISTEXT(CC16:CC26))))","v":0},"+",{"$f":"(SUMPRODUCT(N(ISTEXT(CE16:CE26))))","v":0},null,null,null,null,null,null,{"$f":"(SUMPRODUCT(N(ISTEXT(CL16:CL26))))","v":0},"+",{"$f":"(SUMPRODUCT(N(ISTEXT(CN16:CN26))))","v":0},null,null,null,null,{"$f":"(SUMPRODUCT(N(ISTEXT(CS16:CS26))))","v":0},"+",{"$f":"(SUMPRODUCT(N(ISTEXT(CU16:CU26))))","v":0},null,null,null,null,null,null,null,null,{"$f":"(SUMPRODUCT(N(ISTEXT(DD16:DD26))))","v":0},"+",{"$f":"(SUMPRODUCT(N(ISTEXT(DF16:DF26))))","v":0},null,null,null,null,{"$f":"(SUMPRODUCT(N(ISTEXT(DK16:DK26))))","v":0},"+",{"$f":"(SUMPRODUCT(N(ISTEXT(DM16:DM26))))","v":0},null,null,null,null,null,null,{"$f":"(SUMPRODUCT(N(ISTEXT(DT16:DT26))))","v":0},"+",{"$f":"(SUMPRODUCT(N(ISTEXT(DV16:DV26))))","v":0},null,null,null,null,{"$f":"(SUMPRODUCT(N(ISTEXT(EA16:EA26))))","v":0},"+",{"$f":"(SUMPRODUCT(N(ISTEXT(EC16:EC26))))","v":0},null,null,null,null,null,null,null,null,{"$f":"(SUMPRODUCT(N(ISTEXT(EL16:EL26))))","v":0},"+",{"$f":"(SUMPRODUCT(N(ISTEXT(EN16:EN26))))","v":0},null,null,null,null,{"$f":"(SUMPRODUCT(N(ISTEXT(ES16:ES26))))","v":0},"+",{"$f":"(SUMPRODUCT(N(ISTEXT(EU16:EU26))))","v":0},null,null,null,null,null,null,{"$f":"(SUMPRODUCT(N(ISTEXT(FB16:FB26))))","v":0},"+",{"$f":"(SUMPRODUCT(N(ISTEXT(FD16:FD26))))","v":0},null,null,null,null,{"$f":"(SUMPRODUCT(N(ISTEXT(FI16:FI26))))","v":0},"+",{"$f":"(SUMPRODUCT(N(ISTEXT(FK16:FK26))))","v":0},null,null,null,null,null,null,null,null,{"$f":"(SUMPRODUCT(N(ISTEXT(FT16:FT26))))","v":0},"+",{"$f":"(SUMPRODUCT(N(ISTEXT(FV16:FV26))))","v":0},null,null,null,null,{"$f":"(SUMPRODUCT(N(ISTEXT(GA16:GA26))))","v":0},"+",{"$f":"(SUMPRODUCT(N(ISTEXT(GC16:GC26))))","v":0},null,null,null,null,null,null,{"$f":"(SUMPRODUCT(N(ISTEXT(GJ16:GJ26))))","v":0},"+",{"$f":"(SUMPRODUCT(N(ISTEXT(GL16:GL26))))","v":0},null,null,null,null,{"$f":"(SUMPRODUCT(N(ISTEXT(GQ16:GQ26))))","v":0},"+",{"$f":"(SUMPRODUCT(N(ISTEXT(GS16:GS26))))","v":0},null,null,null,null,null,null,null,null,{"$f":"(SUMPRODUCT(N(ISTEXT(HB16:HB26))))","v":0},"+",{"$f":"(SUMPRODUCT(N(ISTEXT(HD16:HD26))))","v":0},null,null,null,null,{"$f":"(SUMPRODUCT(N(ISTEXT(HI16:HI26))))","v":0},"+",{"$f":"(SUMPRODUCT(N(ISTEXT(HK16:HK26))))","v":0},null,null,null,null,null,null,{"$f":"(SUMPRODUCT(N(ISTEXT(HR16:HR26))))","v":0},"+",{"$f":"(SUMPRODUCT(N(ISTEXT(HT16:HT26))))","v":0},null,null,null,null,{"$f":"(SUMPRODUCT(N(ISTEXT(HY16:HY26))))","v":0},"+",{"$f":"(SUMPRODUCT(N(ISTEXT(IA16:IA26))))","v":0},null,null,null,null,null,null,null,null,{"$f":"(SUMPRODUCT(N(ISTEXT(IJ16:IJ26))))","v":0},"+",{"$f":"(SUMPRODUCT(N(ISTEXT(IL16:IL26))))","v":0},null,null,null,null,{"$f":"(SUMPRODUCT(N(ISTEXT(IQ16:IQ26))))","v":0},"+",{"$f":"(SUMPRODUCT(N(ISTEXT(IS16:IS26))))","v":0},null,null,null,null,null,null,{"$f":"(SUMPRODUCT(N(ISTEXT(IZ16:IZ26))))","v":0},"+",{"$f":"(SUMPRODUCT(N(ISTEXT(JB16:JB26))))","v":0},null,null,null,null,{"$f":"(SUMPRODUCT(N(ISTEXT(JG16:JG26))))","v":0},"+",{"$f":"(SUMPRODUCT(N(ISTEXT(JI16:JI26))))","v":0},null,null,null,null,null,null,null,null,{"$f":"(SUMPRODUCT(N(ISTEXT(JR16:JR26))))","v":0},"+",{"$f":"(SUMPRODUCT(N(ISTEXT(JT16:JT26))))","v":0},null,null,null,null,{"$f":"(SUMPRODUCT(N(ISTEXT(JY16:JY26))))","v":0},"+",{"$f":"(SUMPRODUCT(N(ISTEXT(KA16:KA26))))","v":0},null,null,null,null,null,null,{"$f":"(SUMPRODUCT(N(ISTEXT(KH16:KH26))))","v":0},"+",{"$f":"(SUMPRODUCT(N(ISTEXT(KJ16:KJ26))))","v":0},null,null,null,null,{"$f":"(SUMPRODUCT(N(ISTEXT(KO16:KO26))))","v":0},"+",{"$f":"(SUMPRODUCT(N(ISTEXT(KQ16:KQ26))))","v":0},null,null,null,null,null,null,null,null,{"$f":"(SUMPRODUCT(N(ISTEXT(KZ16:KZ26))))","v":0},"+",{"$f":"(SUMPRODUCT(N(ISTEXT(LB16:LB26))))","v":0},null,null,null,null,{"$f":"(SUMPRODUCT(N(ISTEXT(LG16:LG26))))","v":0},"+",{"$f":"(SUMPRODUCT(N(ISTEXT(LI16:LI26))))","v":0},null,null,null,null,null,null,{"$f":"(SUMPRODUCT(N(ISTEXT(LP16:LP26))))","v":0},"+",{"$f":"(SUMPRODUCT(N(ISTEXT(LR16:LR26))))","v":0},null,null,null,null,{"$f":"(SUMPRODUCT(N(ISTEXT(LW16:LW26))))","v":0},"+",{"$f":"(SUMPRODUCT(N(ISTEXT(LY16:LY26))))","v":0},null,null,null,null,null,null,null,null,{"$f":"(SUMPRODUCT(N(ISTEXT(MH16:MH26))))","v":0},"+",{"$f":"(SUMPRODUCT(N(ISTEXT(MJ16:MJ26))))","v":0},null,null,null,null,{"$f":"(SUMPRODUCT(N(ISTEXT(MO16:MO26))))","v":0},"+",{"$f":"(SUMPRODUCT(N(ISTEXT(MQ16:MQ26))))","v":0},null,null,null,null,null,null,{"$f":"(SUMPRODUCT(N(ISTEXT(MX16:MX26))))","v":0},"+",{"$f":"(SUMPRODUCT(N(ISTEXT(MZ16:MZ26))))","v":0},null,null,null,null,{"$f":"(SUMPRODUCT(N(ISTEXT(NE16:NE26))))","v":0},"+",{"$f":"(SUMPRODUCT(N(ISTEXT(NG16:NG26))))","v":0},null,null,null,null,null,null,null,null,{"$f":"(SUMPRODUCT(N(ISTEXT(NP16:NP26))))","v":0},"+",{"$f":"(SUMPRODUCT(N(ISTEXT(NR16:NR26))))","v":0},null,null,null,null,{"$f":"(SUMPRODUCT(N(ISTEXT(NW16:NW26))))","v":0},"+",{"$f":"(SUMPRODUCT(N(ISTEXT(NY16:NY26))))","v":0},null,null,null,null,null,null,{"$f":"(SUMPRODUCT(N(ISTEXT(OF16:OF26))))","v":0},"+",{"$f":"(SUMPRODUCT(N(ISTEXT(OH16:OH26))))","v":0},null,null,null,null,{"$f":"(SUMPRODUCT(N(ISTEXT(OM16:OM26))))","v":0},"+",{"$f":"(SUMPRODUCT(N(ISTEXT(OO16:OO26))))","v":0},null,null,null,null,null,null,null,null,{"$f":"(SUMPRODUCT(N(ISTEXT(OX16:OX26))))","v":0},"+",{"$f":"(SUMPRODUCT(N(ISTEXT(OZ16:OZ26))))","v":0},null,null,null,null,{"$f":"(SUMPRODUCT(N(ISTEXT(PE16:PE26))))","v":0},"+",{"$f":"(SUMPRODUCT(N(ISTEXT(PG16:PG26))))","v":0},null,null,null,null,null,null,{"$f":"(SUMPRODUCT(N(ISTEXT(PN16:PN26))))","v":0},"+",{"$f":"(SUMPRODUCT(N(ISTEXT(PP16:PP26))))","v":0},null,null,null,null,{"$f":"(SUMPRODUCT(N(ISTEXT(PU16:PU26))))","v":0},"+",{"$f":"(SUMPRODUCT(N(ISTEXT(PW16:PW26))))","v":0},null,null,null,null,null,null,null,null,{"$f":"(SUMPRODUCT(N(ISTEXT(QF16:QF26))))","v":0},"+",{"$f":"(SUMPRODUCT(N(ISTEXT(QH16:QH26))))","v":0},null,null,null,null,{"$f":"(SUMPRODUCT(N(ISTEXT(QM16:QM26))))","v":0},"+",{"$f":"(SUMPRODUCT(N(ISTEXT(QO16:QO26))))","v":0},null,null,null,null,null,null,{"$f":"(SUMPRODUCT(N(ISTEXT(QV16:QV26))))","v":0},"+",{"$f":"(SUMPRODUCT(N(ISTEXT(QX16:QX26))))","v":0},null,null,null,null,{"$f":"(SUMPRODUCT(N(ISTEXT(RC16:RC26))))","v":0},"+",{"$f":"(SUMPRODUCT(N(ISTEXT(RE16:RE26))))","v":0},null,null,null,null,null,null,null,null,{"$f":"(SUMPRODUCT(N(ISTEXT(RN16:RN26))))","v":0},"+",{"$f":"(SUMPRODUCT(N(ISTEXT(RP16:RP26))))","v":0},null,null,null,null,{"$f":"(SUMPRODUCT(N(ISTEXT(RU16:RU26))))","v":0},"+",{"$f":"(SUMPRODUCT(N(ISTEXT(RW16:RW26))))","v":0},null,null,null,null,null,null,{"$f":"(SUMPRODUCT(N(ISTEXT(SD16:SD26))))","v":0},"+",{"$f":"(SUMPRODUCT(N(ISTEXT(SF16:SF26))))","v":0},null,null,null,null,{"$f":"(SUMPRODUCT(N(ISTEXT(SK16:SK26))))","v":0},"+",{"$f":"(SUMPRODUCT(N(ISTEXT(SM16:SM26))))","v":0},null,null,null,null,null,null,null,null,{"$f":"(SUMPRODUCT(N(ISTEXT(SV16:SV26))))","v":0},"+",{"$f":"(SUMPRODUCT(N(ISTEXT(SX16:SX26))))","v":0},null,null,null,null,{"$f":"(SUMPRODUCT(N(ISTEXT(TC16:TC26))))","v":0},"+",{"$f":"(SUMPRODUCT(N(ISTEXT(TE16:TE26))))","v":0},null,null,null,null,null,null,{"$f":"(SUMPRODUCT(N(ISTEXT(TL16:TL26))))","v":0},"+",{"$f":"(SUMPRODUCT(N(ISTEXT(TN16:TN26))))","v":0},null,null,null,null,{"$f":"(SUMPRODUCT(N(ISTEXT(TS16:TS26))))","v":0},"+",{"$f":"(SUMPRODUCT(N(ISTEXT(TU16:TU26))))","v":0},null,null,null,null,null,null,null,null,{"$f":"(SUMPRODUCT(N(ISTEXT(UD16:UD26))))","v":0},"+",{"$f":"(SUMPRODUCT(N(ISTEXT(UF16:UF26))))","v":0},null,null,null,null,{"$f":"(SUMPRODUCT(N(ISTEXT(UK16:UK26))))","v":0},"+",{"$f":"(SUMPRODUCT(N(ISTEXT(UM16:UM26))))","v":0},null,null,null,null,null,null,{"$f":"(SUMPRODUCT(N(ISTEXT(UT16:UT26))))","v":0},"+",{"$f":"(SUMPRODUCT(N(ISTEXT(UV16:UV26))))","v":0},null,null,null,null,{"$f":"(SUMPRODUCT(N(ISTEXT(VA16:VA26))))","v":0},"+",{"$f":"(SUMPRODUCT(N(ISTEXT(VC16:VC26))))","v":0},null,null,null,null,null,null,null,null,{"$f":"(SUMPRODUCT(N(ISTEXT(VL16:VL26))))","v":0},"+",{"$f":"(SUMPRODUCT(N(ISTEXT(VN16:VN26))))","v":0},null,null,null,null,{"$f":"(SUMPRODUCT(N(ISTEXT(VS16:VS26))))","v":0},"+",{"$f":"(SUMPRODUCT(N(ISTEXT(VU16:VU26))))","v":0},null,null,null,null,null,null,{"$f":"(SUMPRODUCT(N(ISTEXT(WB16:WB26))))","v":0},"+",{"$f":"(SUMPRODUCT(N(ISTEXT(WD16:WD26))))","v":0},null,null,null,null,{"$f":"(SUMPRODUCT(N(ISTEXT(WI16:WI26))))","v":0},"+",{"$f":"(SUMPRODUCT(N(ISTEXT(WK16:WK26))))","v":0},null,null,null,null,null,null,null,null,{"$f":"(SUMPRODUCT(N(ISTEXT(WT16:WT26))))","v":0},"+",{"$f":"(SUMPRODUCT(N(ISTEXT(WV16:WV26))))","v":0},null,null,null,null,{"$f":"(SUMPRODUCT(N(ISTEXT(XA16:XA26))))","v":0},"+",{"$f":"(SUMPRODUCT(N(ISTEXT(XC16:XC26))))","v":0},null,null,null,null,null,null,{"$f":"(SUMPRODUCT(N(ISTEXT(XJ16:XJ26))))","v":0},"+",{"$f":"(SUMPRODUCT(N(ISTEXT(XL16:XL26))))","v":0},null,null,null,null,{"$f":"(SUMPRODUCT(N(ISTEXT(XQ16:XQ26))))","v":0},"+",{"$f":"(SUMPRODUCT(N(ISTEXT(XS16:XS26))))","v":0},null,null,null,null,null,null,null,null,{"$f":"(SUMPRODUCT(N(ISTEXT(YB16:YB26))))","v":0},"+",{"$f":"(SUMPRODUCT(N(ISTEXT(YD16:YD26))))","v":0},null,null,null,null,{"$f":"(SUMPRODUCT(N(ISTEXT(YI16:YI26))))","v":0},"+",{"$f":"(SUMPRODUCT(N(ISTEXT(YK16:YK26))))","v":0},null,null,null,null,null,null,{"$f":"(SUMPRODUCT(N(ISTEXT(YR16:YR26))))","v":0},"+",{"$f":"(SUMPRODUCT(N(ISTEXT(YT16:YT26))))","v":0},null,null,null,null,{"$f":"(SUMPRODUCT(N(ISTEXT(YY16:YY26))))","v":0},"+",{"$f":"(SUMPRODUCT(N(ISTEXT(ZA16:ZA26))))","v":0},null,null,null,null,null,null,null,null,{"$f":"(SUMPRODUCT(N(ISTEXT(ZJ16:ZJ26))))","v":0},"+",{"$f":"(SUMPRODUCT(N(ISTEXT(ZL16:ZL26))))","v":0},null,null,null,null,{"$f":"(SUMPRODUCT(N(ISTEXT(ZQ16:ZQ26))))","v":0},"+",{"$f":"(SUMPRODUCT(N(ISTEXT(ZS16:ZS26))))","v":0},null,null,null,null,null,null,{"$f":"(SUMPRODUCT(N(ISTEXT(ZZ16:ZZ26))))","v":0},"+",{"$f":"(SUMPRODUCT(N(ISTEXT(AAB16:AAB26))))","v":0},null,null,null,null,{"$f":"(SUMPRODUCT(N(ISTEXT(AAG16:AAG26))))","v":0},"+",{"$f":"(SUMPRODUCT(N(ISTEXT(AAI16:AAI26))))","v":0},null,null,null,null,null,null,null,null,{"$f":"(SUMPRODUCT(N(ISTEXT(AAR16:AAR26))))","v":0},"+",{"$f":"(SUMPRODUCT(N(ISTEXT(AAT16:AAT26))))","v":0},null,null,null,null,{"$f":"(SUMPRODUCT(N(ISTEXT(AAY16:AAY26))))","v":0},"+",{"$f":"(SUMPRODUCT(N(ISTEXT(ABA16:ABA26))))","v":0},null,null,null,null,null,null,{"$f":"(SUMPRODUCT(N(ISTEXT(ABH16:ABH26))))","v":0},"+",{"$f":"(SUMPRODUCT(N(ISTEXT(ABJ16:ABJ26))))","v":0},null,null,null,null,{"$f":"(SUMPRODUCT(N(ISTEXT(ABO16:ABO26))))","v":0},"+",{"$f":"(SUMPRODUCT(N(ISTEXT(ABQ16:ABQ26))))","v":0},null,null,null,null,null,null,null,null,{"$f":"(SUMPRODUCT(N(ISTEXT(ABZ16:ABZ26))))","v":0},"+",{"$f":"(SUMPRODUCT(N(ISTEXT(ACB16:ACB26))))","v":0},null,null,null,null,{"$f":"(SUMPRODUCT(N(ISTEXT(ACG16:ACG26))))","v":0},"+",{"$f":"(SUMPRODUCT(N(ISTEXT(ACI16:ACI26))))","v":0},null,null,null,null,null,null,{"$f":"(SUMPRODUCT(N(ISTEXT(ACP16:ACP26))))","v":0},"+",{"$f":"(SUMPRODUCT(N(ISTEXT(ACR16:ACR26))))","v":0},null,null,null,null,{"$f":"(SUMPRODUCT(N(ISTEXT(ACW16:ACW26))))","v":0},"+",{"$f":"(SUMPRODUCT(N(ISTEXT(ACY16:ACY26))))","v":0},null,null,null,null,null,null,null,null,{"$f":"(SUMPRODUCT(N(ISTEXT(ADH16:ADH26))))","v":0},"+",{"$f":"(SUMPRODUCT(N(ISTEXT(ADJ16:ADJ26))))","v":0},null,null,null,null,{"$f":"(SUMPRODUCT(N(ISTEXT(ADO16:ADO26))))","v":0},"+",{"$f":"(SUMPRODUCT(N(ISTEXT(ADQ16:ADQ26))))","v":0},null,null,null,null,null,null,{"$f":"(SUMPRODUCT(N(ISTEXT(ADX16:ADX26))))","v":0},"+",{"$f":"(SUMPRODUCT(N(ISTEXT(ADZ16:ADZ26))))","v":0},null,null,null,null,{"$f":"(SUMPRODUCT(N(ISTEXT(AEE16:AEE26))))","v":0},"+",{"$f":"(SUMPRODUCT(N(ISTEXT(AEG16:AEG26))))","v":0}]
[null,"SCORE ",null,null,null,{"$f":"F27+H27","v":0},null,null,null,null,null,null,{"$f":"M27+O27","v":0},null,null,null,null,null,null,null,null,{"$f":"V27+X27","v":0},null,null,null,null,null,null,{"$f":"AC27+AE27","v":0},null,null,null,null,null,null,"NOUVEAU MATCH",null,null,null,{"$f":"AN27+AP27","v":0},null,null,null,null,null,null,{"$f":"AU27+AW27","v":0},null,null,null,null,null,null,null,null,{"$f":"BD27+BF27","v":0},null,null,null,null,null,null,{"$f":"BK27+BM27","v":0},null,null,null,null,null,null,"NOUVEAU MATCH",null,null,null,{"$f":"BV27+BX27","v":0},null,null,null,null,null,null,{"$f":"CC27+CE27","v":0},null,null,null,null,null,null,null,null,{"$f":"CL27+CN27","v":0},null,null,null,null,null,null,{"$f":"CS27+CU27","v":0},null,null,null,null,null,null,"NOUVEAU MATCH",null,null,null,{"$f":"DD27+DF27","v":0},null,null,null,null,null,null,{"$f":"DK27+DM27","v":0},null,null,null,null,null,null,null,null,{"$f":"DT27+DV27","v":0},null,null,null,null,null,null,{"$f":"EA27+EC27","v":0},null,null,null,null,null,null,null,null,null,null,{"$f":"EL27+EN27","v":0},null,null,null,null,null,null,{"$f":"ES27+EU27","v":0},null,null,null,null,null,null,null,null,{"$f":"FB27+FD27","v":0},null,null,null,null,null,null,{"$f":"FI27+FK27","v":0},null,null,null,null,null,null,"NOUVEAU MATCH",null,null,null,{"$f":"FT27+FV27","v":0},null,null,null,null,null,null,{"$f":"GA27+GC27","v":0},null,null,null,null,null,null,null,null,{"$f":"GJ27+GL27","v":0},null,null,null,null,null,null,{"$f":"GQ27+GS27","v":0},null,null,null,null,null,null,"NOUVEAU MATCH",null,null,null,{"$f":"HB27+HD27","v":0},null,null,null,null,null,null,{"$f":"HI27+HK27","v":0},null,null,null,null,null,null,null,null,{"$f":"HR27+HT27","v":0},null,null,null,null,null,null,{"$f":"HY27+IA27","v":0},null,null,null,null,null,null,"NOUVEAU MATCH",null,null,null,{"$f":"IJ27+IL27","v":0},null,null,null,null,null,null,{"$f":"IQ27+IS27","v":0},null,null,null,null,null,null,null,null,{"$f":"IZ27+JB27","v":0},null,null,null,null,null,null,{"$f":"JG27+JI27","v":0},null,null,null,null,null,null,"NOUVEAU MATCH",null,null,null,{"$f":"JR27+JT27","v":0},null,null,null,null,null,null,{"$f":"JY27+KA27","v":0},null,null,null,null,null,null,null,null,{"$f":"KH27+KJ27","v":0},null,null,null,null,null,null,{"$f":"KO27+KQ27","v":0},null,null,null,null,null,null,"NOUVEAU MATCH",null,null,null,{"$f":"KZ27+LB27","v":0},null,null,null,null,null,null,{"$f":"LG27+LI27","v":0},null,null,null,null,null,null,null,null,{"$f":"LP27+LR27","v":0},null,null,null,null,null,null,{"$f":"LW27+LY27","v":0},null,null,null,null,null,null,"NOUVEAU MATCH",null,null,null,{"$f":"MH27+MJ27","v":0},null,null,null,null,null,null,{"$f":"MO27+MQ27","v":0},null,null,null,null,null,null,null,null,{"$f":"MX27+MZ27","v":0},null,null,null,null,null,null,{"$f":"NE27+NG27","v":0},null,null,null,null,null,null,"NOUVEAU MATCH",null,null,null,{"$f":"NP27+NR27","v":0},null,null,null,null,null,null,{"$f":"NW27+NY27","v":0},null,null,null,null,null,null,null,null,{"$f":"OF27+OH27","v":0},null,null,null,null,null,null,{"$f":"OM27+OO27","v":0},null,null,null,null,null,null,null,null,null,null,{"$f":"OX27+OZ27","v":0},null,null,null,null,null,null,{"$f":"PE27+PG27","v":0},null,null,null,null,null,null,null,null,{"$f":"PN27+PP27","v":0},null,null,null,null,null,null,{"$f":"PU27+PW27","v":0},null,null,null,null,null,null,"NOUVEAU MATCH",null,null,null,{"$f":"QF27+QH27","v":0},null,null,null,null,null,null,{"$f":"QM27+QO27","v":0},null,null,null,null,null,null,null,null,{"$f":"QV27+QX27","v":0},null,null,null,null,null,null,{"$f":"RC27+RE27","v":0},null,null,null,null,null,null,"NOUVEAU MATCH",null,null,null,{"$f":"RN27+RP27","v":0},null,null,null,null,null,null,{"$f":"RU27+RW27","v":0},null,null,null,null,null,null,null,null,{"$f":"SD27+SF27","v":0},null,null,null,null,null,null,{"$f":"SK27+SM27","v":0},null,null,null,null,null,null,"NOUVEAU MATCH",null,null,null,{"$f":"SV27+SX27","v":0},null,null,null,null,null,null,{"$f":"TC27+TE27","v":0},null,null,null,null,null,null,null,null,{"$f":"TL27+TN27","v":0},null,null,null,null,null,null,{"$f":"TS27+TU27","v":0},null,null,null,null,null,null,"NOUVEAU MATCH",null,null,null,{"$f":"UD27+UF27","v":0},null,null,null,null,null,null,{"$f":"UK27+UM27","v":0},null,null,null,null,null,null,null,null,{"$f":"UT27+UV27","v":0},null,null,null,null,null,null,{"$f":"VA27+VC27","v":0},null,null,null,null,null,null,"NOUVEAU MATCH",null,null,null,{"$f":"VL27+VN27","v":0},null,null,null,null,null,null,{"$f":"VS27+VU27","v":0},null,null,null,null,null,null,null,null,{"$f":"WB27+WD27","v":0},null,null,null,null,null,null,{"$f":"WI27+WK27","v":0},null,null,null,null,null,null,"NOUVEAU MATCH",null,null,null,{"$f":"WT27+WV27","v":0},null,null,null,null,null,null,{"$f":"XA27+XC27","v":0},null,null,null,null,null,null,null,null,{"$f":"XJ27+XL27","v":0},null,null,null,null,null,null,{"$f":"XQ27+XS27","v":0},null,null,null,null,null,null,"NOUVEAU MATCH",null,null,null,{"$f":"YB27+YD27","v":0},null,null,null,null,null,null,{"$f":"YI27+YK27","v":0},null,null,null,null,null,null,null,null,{"$f":"YR27+YT27","v":0},null,null,null,null,null,null,{"$f":"YY27+ZA27","v":0},null,null,null,null,null,null,null,null,null,null,{"$f":"ZJ27+ZL27","v":0},null,null,null,null,null,null,{"$f":"ZQ27+ZS27","v":0},null,null,null,null,null,null,null,null,{"$f":"ZZ27+AAB27","v":0},null,null,null,null,null,null,{"$f":"AAG27+AAI27","v":0},null,null,null,null,null,null,"NOUVEAU MATCH",null,null,null,{"$f":"AAR27+AAT27","v":0},null,null,null,null,null,null,{"$f":"AAY27+ABA27","v":0},null,null,null,null,null,null,null,null,{"$f":"ABH27+ABJ27","v":0},null,null,null,null,null,null,{"$f":"ABO27+ABQ27","v":0},null,null,null,null,null,null,"NOUVEAU MATCH",null,null,null,{"$f":"ABZ27+ACB27","v":0},null,null,null,null,null,null,{"$f":"ACG27+ACI27","v":0},null,null,null,null,null,null,null,null,{"$f":"ACP27+ACR27","v":0},null,null,null,null,null,null,{"$f":"ACW27+ACY27","v":0},null,null,null,null,null,null,"NOUVEAU MATCH",null,null,null,{"$f":"ADH27+ADJ27","v":0},null,null,null,null,null,null,{"$f":"ADO27+ADQ27","v":0},null,null,null,null,null,null,null,null,{"$f":"ADX27+ADZ27","v":0},null,null,null,null,null,null,{"$f":"AEE27+AEG27","v":0},null,null,null,null,null,null,"NOUVEAU MATCH"]
[null,null,null,null,null,null,null,null,null,null,null,null,null,null,null,null,null,null,null,null,null,null,null,null,null,null,null,null,null,null,null,null,null,null,null,null,null,null,null,null,null,null,null,null,null,null,null,null,null,null,null,null,null,null,null,null,null,null,null,null,null,null,null,null,null,null,null,null,null,null,null,null,null,null,null,null,null,null,null,null,null,null,null,null,null,null,null,null,null,null,null,null,null,null,null,null,null,null,null,null,null,null,null,null,null,null,null,null,null,null,null,null,null,null,null,null,null,null,null,null,null,null,null,null,null,null,null,null,null,null,null,null,null,null,null,null,null,"NOUVEAU MATCH",null,null,null,null,null,null,null,null,null,null,null,null,null,null,null,null,null,null,null,null,null,null,null,null,null,null,null,null,null,null,null,null,null,null,null,null,null,null,null,null,null,null,null,null,null,null,null,null,null,null,null,null,null,null,null,null,null,null,null,null,null,null,null,null,null,null,null,null,null,null,null,null,null,null,null,null,null,null,null,null,null,null,null,null,null,null,null,null,null,null,null,null,null,null,null,null,null,null,null,null,null,null,null,null,null,null,null,null,null,null,null,null,null,null,null,null,null,null,null,null,null,null,null,null,null,null,null,null,null,null,null,null,null,null,null,null,null,null,null,null,null,null,null,null,null,null,null,null,null,null,null,null,null,null,null,null,null,null,null,null,null,null,null,null,null,null,null,null,null,null,null,null,null,null,null,null,null,null,null,null,null,null,null,null,null,null,null,null,null,null,null,null,null,null,null,null,null,null,null,null,null,null,null,null,null,null,null,null,null,null,null,null,null,null,null,null,null,null,null,null,null,null,null,null,null,null,null,null,null,null,null,null,null,null,null,null,null,null,null,null,null,null,null,null,null,null,null,null,null,null,null,null,null,null,null,null,null,null,null,null,null,null,null,null,null,null,null,null,null,null,null,"NOUVEAU MATCH",null,null,null,null,null,null,null,null,null,null,null,null,null,null,null,null,null,null,null,null,null,null,null,null,null,null,null,null,null,null,null,null,null,null,null,null,null,null,null,null,null,null,null,null,null,null,null,null,null,null,null,null,null,null,null,null,null,null,null,null,null,null,null,null,null,null,null,null,null,null,null,null,null,null,null,null,null,null,null,null,null,null,null,null,null,null,null,null,null,null,null,null,null,null,null,null,null,null,null,null,null,null,null,null,null,null,null,null,null,null,null,null,null,null,null,null,null,null,null,null,null,null,null,null,null,null,null,null,null,null,null,null,null,null,null,null,null,null,null,null,null,null,null,null,null,null,null,null,null,null,null,null,null,null,null,null,null,null,null,null,null,null,null,null,null,null,null,null,null,null,null,null,null,null,null,null,null,null,null,null,null,null,null,null,null,null,null,null,null,null,null,null,null,null,null,null,null,null,null,null,null,null,null,null,null,null,null,null,null,null,null,null,null,null,null,null,null,null,null,null,null,null,null,null,null,null,null,null,null,null,null,null,null,null,null,null,null,null,null,null,null,null,null,null,null,null,null,null,null,null,null,null,null,null,null,null,null,null,null,null,null,null,null,null,null,null,null,null,null,null,null,"NOUVEAU MATCH"]
[null,null,null,null,null,null,null,null,null,null,null,null,null,"score individuel","score cumulé","Score final",null,"DOUBLE",null,null,"Score final",null,"score cumulé","score individuel",null,null,null,null,null,null,null,null,null,null,null,null,null,null,null,null,null,null,null,null,null,null,null,"score individuel","score cumulé","Score final",null,"DOUBLE",null,null,"Score final",null,"score cumulé","score individuel",null,null,null,null,null,null,null,null,null,null,null,null,null,null,null,null,null,null,null,null,null,null,null,"score individuel","score cumulé","Score final",null,"DOUBLE",null,null,"Score final",null,"score cumulé","score individuel",null,null,null,null,null,null,null,null,null,null,null,null,null,null,null,null,null,null,null,null,null,null,null,"score individuel","score cumulé","Score final",null,"DOUBLE",null,null,"Score final",null,"score cumulé","score individuel",null,null,null,null,null,null,null,null,null,null,null,null,null,null,null,null,null,null,null,null,null,null,null,"score individuel","score cumulé","Score final",null,"DOUBLE",null,null,"Score final",null,"score cumulé","score individuel",null,null,null,null,null,null,null,null,null,null,null,null,null,null,null,null,null,null,null,null,null,null,null,"score individuel","score cumulé","Score final",null,"DOUBLE",null,null,"Score final",null,"score cumulé","score individuel",null,null,null,null,null,null,null,null,null,null,null,null,null,null,null,null,null,null,null,null,null,null,null,"score individuel","score cumulé","Score final",null,"DOUBLE",null,null,"Score final",null,"score cumulé","score individuel",null,null,null,null,null,null,null,null,null,null,null,null,null,null,null,null,null,null,null,null,null,null,null,"score individuel","score cumulé","Score final",null,"DOUBLE",null,null,"Score final",null,"score cumulé","score individuel",null,null,null,null,null,null,null,null,null,null,null,null,null,null,null,null,null,null,null,null,null,null,null,"score individuel","score cumulé","Score final",null,"DOUBLE",null,null,"Score final",null,"score cumulé","score individuel",null,null,null,null,null,null,null,null,null,null,null,null,null,null,null,null,null,null,null,null,null,null,null,"score individuel","score cumulé","Score final",null,"DOUBLE",null,null,"Score final",null,"score cumulé","score individuel",null,null,null,null,null,null,null,null,null,null,null,null,null,null,null,null,null,null,null,null,null,null,null,"score individuel","score cumulé","Score final",null,"DOUBLE",null,null,"Score final",null,"score cumulé","score individuel",null,null,null,null,null,null,null,null,null,null,null,null,null,null,null,null,null,null,null,null,null,null,null,"score individuel","score cumulé","Score final",null,"DOUBLE",null,null,"Score final",null,"score cumulé","score individuel",null,null,null,null,null,null,null,null,null,null,null,null,null,null,null,null,null,null,null,null,null,null,null,"score individuel","score cumulé","Score final",null,"DOUBLE",null,null,"Score final",null,"score cumulé","score individuel",null,null,null,null,null,null,null,null,null,null,null,null,null,null,null,null,null,null,null,null,null,null,null,"score individuel","score cumulé","Score final",null,"DOUBLE",null,null,"Score final",null,"score cumulé","score individuel",null,null,null,null,null,null,null,null,null,null,null,null,null,null,null,null,null,null,null,null,null,null,null,"score individuel","score cumulé","Score final",null,"DOUBLE",null,null,"Score final",null,"score cumulé","score individuel",null,null,null,null,null,null,null,null,null,null,null,null,null,null,null,null,null,null,null,null,null,null,null,"score individuel","score cumulé","Score final",null,"DOUBLE",null,null,"Score final",null,"score cumulé","score individuel",null,null,null,null,null,null,null,null,null,null,null,null,null,null,null,null,null,null,null,null,null,null,null,"score individuel","score cumulé","Score final",null,"DOUBLE",null,null,"Score final",null,"score cumulé","score individuel",null,null,null,null,null,null,null,null,null,null,null,null,null,null,null,null,null,null,null,null,null,null,null,"score individuel","score cumulé","Score final",null,"DOUBLE",null,null,"Score final",null,"score cumulé","score individuel",null,null,null,null,null,null,null,null,null,null,null,null,null,null,null,null,null,null,null,null,null,null,null,"score individuel","score cumulé","Score final",null,"DOUBLE",null,null,"Score final",null,"score cumulé","score individuel",null,null,null,null,null,null,null,null,null,null,null,null,null,null,null,null,null,null,null,null,null,null,null,"score individuel","score cumulé","Score final",null,"DOUBLE",null,null,"Score final",null,"score cumulé","score individuel",null,null,null,null,null,null,null,null,null,null,null,null,null,null,null,null,null,null,null,null,null,null,null,"score individuel","score cumulé","Score final",null,"DOUBLE",null,null,"Score final",null,"score cumulé","score individuel",null,null,null,null,null,null,null,null,null,null,null,null,null,null,null,null,null,null,null,null,null,null,null,"score individuel","score cumulé","Score final",null,"DOUBLE",null,null,"Score final",null,"score cumulé","score individuel",null,null,null,null,null,null,null,null,null,null,null,null,null,null,null,null,null,null,null,null,null,null,null,"score individuel","score cumulé","Score final",null,"DOUBLE",null,null,"Score final",null,"score cumulé","score individuel",null,null,null,null,null,null,null,null,null,null,null,null,null,null,null,null,null,null,null,null,null,null,null,"score individuel","score cumulé","Score final",null,"DOUBLE",null,null,"Score final",null,"score cumulé","score individuel"]
[null,null,null,null,null,null,null,null,null,null,null,null,{"$f":"F2","v":" "},{"$f":"F28","v":0},{"$f":"N31+N33","v":0},null,null,null,null,null,null,null,{"$f":"X31+X33","v":0},{"$f":"M28","v":0},{"$f":"M2","v":"Alaeddine"},null,null,null,null,null,null,null,null,null,null,null,null,null,null,null,null,null,null,null,null,null,{"$f":"AN2","v":0},{"$f":"AN28","v":0},{"$f":"AV31+AV33","v":0},null,null,null,null,null,null,null,{"$f":"BF31+BF33","v":0},{"$f":"AU28","v":0},{"$f":"AU2","v":0},null,null,null,null,null,null,null,null,null,null,null,null,null,null,null,null,null,null,null,null,null,{"$f":"BV2","v":0},{"$f":"BV28","v":0},{"$f":"CD31+CD33","v":0},null,null,null,null,null,null,null,{"$f":"CN31+CN33","v":0},{"$f":"CC28","v":0},{"$f":"CC2","v":0},null,null,null,null,null,null,null,null,null,null,null,null,null,null,null,null,null,null,null,null,null,{"$f":"DD2","v":0},{"$f":"DD28","v":0},{"$f":"DL31+DL33","v":0},null,null,null,null,null,null,null,{"$f":"DV31+DV33","v":0},{"$f":"DK28","v":0},{"$f":"DK2","v":0},null,null,null,null,null,null,null,null,null,null,null,null,null,null,null,null,null,null,null,null,null,{"$f":"EL2","v":0},{"$f":"EL28","v":0},{"$f":"ET31+ET33","v":0},null,null,null,null,null,null,null,{"$f":"FD31+FD33","v":0},{"$f":"ES28","v":0},{"$f":"ES2","v":0},null,null,null,null,null,null,null,null,null,null,null,null,null,null,null,null,null,null,null,null,null,{"$f":"FT2","v":0},{"$f":"FT28","v":0},{"$f":"GB31+GB33","v":0},null,null,null,null,null,null,null,{"$f":"GL31+GL33","v":0},{"$f":"GA28","v":0},{"$f":"GA2","v":0},null,null,null,null,null,null,null,null,null,null,null,null,null,null,null,null,null,null,null,null,null,{"$f":"HB2","v":0},{"$f":"HB28","v":0},{"$f":"HJ31+HJ33","v":0},null,null,null,null,null,null,null,{"$f":"HT31+HT33","v":0},{"$f":"HI28","v":0},{"$f":"HI2","v":0},null,null,null,null,null,null,null,null,null,null,null,null,null,null,null,null,null,null,null,null,null,{"$f":"IJ2","v":0},{"$f":"IJ28","v":0},{"$f":"IR31+IR33","v":0},null,null,null,null,null,null,null,{"$f":"JB31+JB33","v":0},{"$f":"IQ28","v":0},{"$f":"IQ2","v":0},null,null,null,null,null,null,null,null,null,null,null,null,null,null,null,null,null,null,null,null,null,{"$f":"JR2","v":0},{"$f":"JR28","v":0},{"$f":"JZ31+JZ33","v":0},null,null,null,null,null,null,null,{"$f":"KJ31+KJ33","v":0},{"$f":"JY28","v":0},{"$f":"JY2","v":0},null,null,null,null,null,null,null,null,null,null,null,null,null,null,null,null,null,null,null,null,null,{"$f":"KZ2","v":0},{"$f":"KZ28","v":0},{"$f":"LH31+LH33","v":0},null,null,null,null,null,null,null,{"$f":"LR31+LR33","v":0},{"$f":"LG28","v":0},{"$f":"LG2","v":0},null,null,null,null,null,null,null,null,null,null,null,null,null,null,null,null,null,null,null,null,null,{"$f":"MH2","v":0},{"$f":"MH28","v":0},{"$f":"MP31+MP33","v":0},null,null,null,null,null,null,null,{"$f":"MZ31+MZ33","v":0},{"$f":"MO28","v":0},{"$f":"MO2","v":0},null,null,null,null,null,null,null,null,null,null,null,null,null,null,null,null,null,null,null,null,null,{"$f":"NP2","v":0},{"$f":"NP28","v":0},{"$f":"NX31+NX33","v":0},null,null,null,null,null,null,null,{"$f":"OH31+OH33","v":0},{"$f":"NW28","v":0},{"$f":"NW2","v":0},null,null,null,null,null,null,null,null,null,null,null,null,null,null,null,null,null,null,null,null,null,{"$f":"OX2","v":0},{"$f":"OX28","v":0},{"$f":"PF31+PF33","v":0},null,null,null,null,null,null,null,{"$f":"PP31+PP33","v":0},{"$f":"PE28","v":0},{"$f":"PE2","v":0},null,null,null,null,null,null,null,null,null,null,null,null,null,null,null,null,null,null,null,null,null,{"$f":"QF2","v":0},{"$f":"QF28","v":0},{"$f":"QN31+QN33","v":0},null,null,null,null,null,null,null,{"$f":"QX31+QX33","v":0},{"$f":"QM28","v":0},{"$f":"QM2","v":0},null,null,null,null,null,null,null,null,null,null,null,null,null,null,null,null,null,null,null,null,null,{"$f":"RN2","v":0},{"$f":"RN28","v":0},{"$f":"RV31+RV33","v":0},null,null,null,null,null,null,null,{"$f":"SF31+SF33","v":0},{"$f":"RU28","v":0},{"$f":"RU2","v":0},null,null,null,null,null,null,null,null,null,null,null,null,null,null,null,null,null,null,null,null,null,{"$f":"SV2","v":0},{"$f":"SV28","v":0},{"$f":"TD31+TD33","v":0},null,null,null,null,null,null,null,{"$f":"TN31+TN33","v":0},{"$f":"TC28","v":0},{"$f":"TC2","v":0},null,null,null,null,null,null,null,null,null,null,null,null,null,null,null,null,null,null,null,null,null,{"$f":"UD2","v":"Ensar"},{"$f":"UD28","v":0},{"$f":"UL31+UL33","v":0},null,null,null,null,null,null,null,{"$f":"UV31+UV33","v":0},{"$f":"UK28","v":0},{"$f":"UK2","v":"Alaeddine"},null,null,null,null,null,null,null,null,null,null,null,null,null,null,null,null,null,null,null,null,null,{"$f":"VL2","v":0},{"$f":"VL28","v":0},{"$f":"VT31+VT33","v":0},null,null,null,null,null,null,null,{"$f":"WD31+WD33","v":0},{"$f":"VS28","v":0},{"$f":"VS2","v":0},null,null,null,null,null,null,null,null,null,null,null,null,null,null,null,null,null,null,null,null,null,{"$f":"WT2","v":0},{"$f":"WT28","v":0},{"$f":"XB31+XB33","v":0},null,null,null,null,null,null,null,{"$f":"XL31+XL33","v":0},{"$f":"XA28","v":0},{"$f":"XA2","v":0},null,null,null,null,null,null,null,null,null,null,null,null,null,null,null,null,null,null,null,null,null,{"$f":"YB2","v":0},{"$f":"YB28","v":0},{"$f":"YJ31+YJ33","v":0},null,null,null,null,null,null,null,{"$f":"YT31+YT33","v":0},{"$f":"YI28","v":0},{"$f":"YI2","v":0},null,null,null,null,null,null,null,null,null,null,null,null,null,null,null,null,null,null,null,null,null,{"$f":"ZJ2","v":0},{"$f":"ZJ28","v":0},{"$f":"ZR31+ZR33","v":0},null,null,null,null,null,null,null,{"$f":"AAB31+AAB33","v":0},{"$f":"ZQ28","v":0},{"$f":"ZQ2","v":0},null,null,null,null,null,null,null,null,null,null,null,null,null,null,null,null,null,null,null,null,null,{"$f":"AAR2","v":0},{"$f":"AAR28","v":0},{"$f":"AAZ31+AAZ33","v":0},null,null,null,null,null,null,null,{"$f":"ABJ31+ABJ33","v":0},{"$f":"AAY28","v":0},{"$f":"AAY2","v":0},null,null,null,null,null,null,null,null,null,null,null,null,null,null,null,null,null,null,null,null,null,{"$f":"ABZ2","v":0},{"$f":"ABZ28","v":0},{"$f":"ACH31+ACH33","v":0},null,null,null,null,null,null,null,{"$f":"ACR31+ACR33","v":0},{"$f":"ACG28","v":0},{"$f":"ACG2","v":0},null,null,null,null,null,null,null,null,null,null,null,null,null,null,null,null,null,null,null,null,null,{"$f":"ADH2","v":0},{"$f":"ADH28","v":0},{"$f":"ADP31+ADP33","v":0},null,null,null,null,null,null,null,{"$f":"ADZ31+ADZ33","v":0},{"$f":"ADO28","v":0},{"$f":"ADO2","v":0}]
[null,null,null,null,null,null,null,null,null,null,null,null,null,"+",null,null,null,null,"-",null,null,null,null,"+",null,null,null,null,null,null,null,null,null,null,null,null,null,null,null,null,null,null,null,null,null,null,null,"+",null,null,null,null,null,null,null,null,null,"+",null,null,null,null,null,null,null,null,null,null,null,null,null,null,null,null,null,null,null,null,null,null,null,"+",null,null,null,null,null,null,null,null,null,"+",null,null,null,null,null,null,null,null,null,null,null,null,null,null,null,null,null,null,null,null,null,null,null,"+",null,null,null,null,null,null,null,null,null,"+",null,null,null,null,null,null,null,null,null,null,null,null,null,null,null,null,null,null,null,null,null,null,null,"+",null,null,null,null,null,null,null,null,null,"+",null,null,null,null,null,null,null,null,null,null,null,null,null,null,null,null,null,null,null,null,null,null,null,"+",null,null,null,null,null,null,null,null,null,"+",null,null,null,null,null,null,null,null,null,null,null,null,null,null,null,null,null,null,null,null,null,null,null,"+",null,null,null,null,null,null,null,null,null,"+",null,null,null,null,null,null,null,null,null,null,null,null,null,null,null,null,null,null,null,null,null,null,null,"+",null,null,null,null,null,null,null,null,null,"+",null,null,null,null,null,null,null,null,null,null,null,null,null,null,null,null,null,null,null,null,null,null,null,"+",null,null,null,null,"-",null,null,null,null,"+",null,null,null,null,null,null,null,null,null,null,null,null,null,null,null,null,null,null,null,null,null,null,null,"+",null,null,null,null,null,null,null,null,null,"+",null,null,null,null,null,null,null,null,null,null,null,null,null,null,null,null,null,null,null,null,null,null,null,"+",null,null,null,null,null,null,null,null,null,"+",null,null,null,null,null,null,null,null,null,null,null,null,null,null,null,null,null,null,null,null,null,null,null,"+",null,null,null,null,null,null,null,null,null,"+",null,null,null,null,null,null,null,null,null,null,null,null,null,null,null,null,null,null,null,null,null,null,null,"+",null,null,null,null,null,null,null,null,null,"+",null,null,null,null,null,null,null,null,null,null,null,null,null,null,null,null,null,null,null,null,null,null,null,"+",null,null,null,null,null,null,null,null,null,"+",null,null,null,null,null,null,null,null,null,null,null,null,null,null,null,null,null,null,null,null,null,null,null,"+",null,null,null,null,null,null,null,null,null,"+",null,null,null,null,null,null,null,null,null,null,null,null,null,null,null,null,null,null,null,null,null,null,null,"+",null,null,null,null,null,null,null,null,null,"+",null,null,null,null,null,null,null,null,null,null,null,null,null,null,null,null,null,null,null,null,null,null,null,"+",null,null,null,null,"-",null,null,null,null,"+",null,null,null,null,null,null,null,null,null,null,null,null,null,null,null,null,null,null,null,null,null,null,null,"+",null,null,null,null,null,null,null,null,null,"+",null,null,null,null,null,null,null,null,null,null,null,null,null,null,null,null,null,null,null,null,null,null,null,"+",null,null,null,null,null,null,null,null,null,"+",null,null,null,null,null,null,null,null,null,null,null,null,null,null,null,null,null,null,null,null,null,null,null,"+",null,null,null,null,null,null,null,null,null,"+",null,null,null,null,null,null,null,null,null,null,null,null,null,null,null,null,null,null,null,null,null,null,null,"+",null,null,null,null,null,null,null,null,null,"+",null,null,null,null,null,null,null,null,null,null,null,null,null,null,null,null,null,null,null,null,null,null,null,"+",null,null,null,null,null,null,null,null,null,"+",null,null,null,null,null,null,null,null,null,null,null,null,null,null,null,null,null,null,null,null,null,null,null,"+",null,null,null,null,null,null,null,null,null,"+",null,null,null,null,null,null,null,null,null,null,null,null,null,null,null,null,null,null,null,null,null,null,null,"+",null,null,null,null,null,null,null,null,null,"+"]
[null,null,null,null,null,null,null,null,null,null,null,null,{"$f":"V2","v":"Amadou"},{"$f":"V28","v":0},null,null,null,null,null,null,null,null,null,{"$f":"AC28","v":0},{"$f":"AC2","v":"Alpha Oumar"},null,null,null,null,null,null,null,null,null,null,null,null,null,null,null,null,null,null,null,null,null,{"$f":"BD2","v":0},{"$f":"BD28","v":0},null,null,null,null,null,null,null,null,null,{"$f":"BK28","v":0},{"$f":"BK2","v":0},null,null,null,null,null,null,null,null,null,null,null,null,null,null,null,null,null,null,null,null,null,{"$f":"CL2","v":0},{"$f":"CL28","v":0},null,null,null,null,null,null,null,null,null,{"$f":"CS28","v":0},{"$f":"CS2","v":0},null,null,null,null,null,null,null,null,null,null,null,null,null,null,null,null,null,null,null,null,null,{"$f":"DT2","v":0},{"$f":"DT28","v":0},null,null,null,null,null,null,null,null,null,{"$f":"EA28","v":0},{"$f":"EA2","v":0},null,null,null,null,null,null,null,null,null,null,null,null,null,null,null,null,null,null,null,null,null,{"$f":"FB2","v":0},{"$f":"FB28","v":0},null,null,null,null,null,null,null,null,null,{"$f":"FI28","v":0},{"$f":"FI2","v":0},null,null,null,null,null,null,null,null,null,null,null,null,null,null,null,null,null,null,null,null,null,{"$f":"GJ2","v":0},{"$f":"GJ28","v":0},null,null,null,null,null,null,null,null,null,{"$f":"GQ28","v":0},{"$f":"GQ2","v":0},null,null,null,null,null,null,null,null,null,null,null,null,null,null,null,null,null,null,null,null,null,{"$f":"HR2","v":0},{"$f":"HR28","v":0},null,null,null,null,null,null,null,null,null,{"$f":"HY28","v":0},{"$f":"HY2","v":0},null,null,null,null,null,null,null,null,null,null,null,null,null,null,null,null,null,null,null,null,null,{"$f":"IZ2","v":0},{"$f":"IZ28","v":0},null,null,null,null,null,null,null,null,null,{"$f":"JG28","v":0},{"$f":"JG2","v":0},null,null,null,null,null,null,null,null,null,null,null,null,null,null,null,null,null,null,null,null,null,{"$f":"KH2","v":0},{"$f":"KH28","v":0},null,null,null,null,null,null,null,null,null,{"$f":"KO28","v":0},{"$f":"KO2","v":0},null,null,null,null,null,null,null,null,null,null,null,null,null,null,null,null,null,null,null,null,null,{"$f":"LP2","v":0},{"$f":"LP28","v":0},null,null,null,null,null,null,null,null,null,{"$f":"LW28","v":0},{"$f":"LW2","v":0},null,null,null,null,null,null,null,null,null,null,null,null,null,null,null,null,null,null,null,null,null,{"$f":"MX2","v":0},{"$f":"MX28","v":0},null,null,null,null,null,null,null,null,null,{"$f":"NE28","v":0},{"$f":"NE2","v":0},null,null,null,null,null,null,null,null,null,null,null,null,null,null,null,null,null,null,null,null,null,{"$f":"OF2","v":0},{"$f":"OF28","v":0},null,null,null,null,null,null,null,null,null,{"$f":"OM28","v":0},{"$f":"OM2","v":0},null,null,null,null,null,null,null,null,null,null,null,null,null,null,null,null,null,null,null,null,null,{"$f":"PN2","v":0},{"$f":"PN28","v":0},null,null,null,null,null,null,null,null,null,{"$f":"PU28","v":0},{"$f":"PU2","v":0},null,null,null,null,null,null,null,null,null,null,null,null,null,null,null,null,null,null,null,null,null,{"$f":"QV2","v":0},{"$f":"QV28","v":0},null,null,null,null,null,null,null,null,null,{"$f":"RC28","v":0},{"$f":"RC2","v":0},null,null,null,null,null,null,null,null,null,null,null,null,null,null,null,null,null,null,null,null,null,{"$f":"SD2","v":0},{"$f":"SD28","v":0},null,null,null,null,null,null,null,null,null,{"$f":"SK28","v":0},{"$f":"SK2","v":0},null,null,null,null,null,null,null,null,null,null,null,null,null,null,null,null,null,null,null,null,null,{"$f":"TL2","v":0},{"$f":"TL28","v":0},null,null,null,null,null,null,null,null,null,{"$f":"TS28","v":0},{"$f":"TS2","v":0},null,null,null,null,null,null,null,null,null,null,null,null,null,null,null,null,null,null,null,null,null,{"$f":"UT2","v":"Amadou"},{"$f":"UT28","v":0},null,null,null,null,null,null,null,null,null,{"$f":"VA28","v":0},{"$f":"VA2","v":"Alpha Oumar"},null,null,null,null,null,null,null,null,null,null,null,null,null,null,null,null,null,null,null,null,null,{"$f":"WB2","v":0},{"$f":"WB28","v":0},null,null,null,null,null,null,null,null,null,{"$f":"WI28","v":0},{"$f":"WI2","v":0},null,null,null,null,null,null,null,null,null,null,null,null,null,null,null,null,null,null,null,null,null,{"$f":"XJ2","v":0},{"$f":"XJ28","v":0},null,null,null,null,null,null,null,null,null,{"$f":"XQ28","v":0},{"$f":"XQ2","v":0},null,null,null,null,null,null,null,null,null,null,null,null,null,null,null,null,null,null,null,null,null,{"$f":"YR2","v":0},{"$f":"YR28","v":0},null,null,null,null,null,null,null,null,null,{"$f":"YY28","v":0},{"$f":"YY2","v":0},null,null,null,null,null,null,null,null,null,null,null,null,null,null,null,null,null,null,null,null,null,{"$f":"ZZ2","v":0},{"$f":"ZZ28","v":0},null,null,null,null,null,null,null,null,null,{"$f":"AAG28","v":0},{"$f":"AAG2","v":0},null,null,null,null,null,null,null,null,null,null,null,null,null,null,null,null,null,null,null,null,null,{"$f":"ABH2","v":0},{"$f":"ABH28","v":0},null,null,null,null,null,null,null,null,null,{"$f":"ABO28","v":0},{"$f":"ABO2","v":0},null,null,null,null,null,null,null,null,null,null,null,null,null,null,null,null,null,null,null,null,null,{"$f":"ACP2","v":0},{"$f":"ACP28","v":0},null,null,null,null,null,null,null,null,null,{"$f":"ACW28","v":0},{"$f":"ACW2","v":0},null,null,null,null,null,null,null,null,null,null,null,null,null,null,null,null,null,null,null,null,null,{"$f":"ADX2","v":0},{"$f":"ADX28","v":0},null,null,null,null,null,null,null,null,null,{"$f":"AEE28","v":0},{"$f":"AEE2","v":0}]

{"sheet":"MATCHS STRATEGIQUES","index":6,"n_rows":63,"n_cols":818,"rows_kept":63,"cut":false,"hidden":false,"merged":[[62,556,62,559],[62,565,62,568],[62,572,62,575],[62,742,62,745],[62,769,62,772],[62,776,62,779],[62,787,62,790],[62,794,62,797],[62,803,62,806],[62,810,62,813],[61,538,61,541],[61,549,61,552],[62,590,62,593],[62,599,62,602],[62,674,62,677],[62,685,62,688],[62,606,62,609],[62,617,62,620],[62,624,62,627],[62,633,62,636],[62,640,62,643],[62,651,62,654],[62,658,62,661],[62,667,62,670],[61,794,61,797],[61,803,61,806],[61,810,61,813],[62,753,62,756],[62,760,62,763],[62,692,62,695],[62,701,62,704],[62,708,62,711],[62,413,62,416],[62,420,62,423],[62,429,62,432],[62,436,62,439],[62,447,62,450],[62,454,62,457],[62,463,62,466],[62,470,62,473],[62,481,62,484],[62,488,62,491],[62,497,62,500],[62,504,62,507],[62,515,62,518],[62,522,62,525],[62,531,62,534],[62,538,62,541],[62,549,62,552],[61,565,61,568],[61,572,61,575],[61,583,61,586],[61,590,61,593],[61,599,61,602],[61,606,61,609],[61,617,61,620],[61,624,61,627],[61,633,61,636],[62,583,62,586],[61,719,61,722],[61,726,61,729],[61,735,61,738],[61,742,61,745],[60,565,60,568],[60,572,60,575],[60,583,60,586],[60,590,60,593],[60,599,60,602],[60,606,60,609],[60,617,60,620],[61,658,61,661],[61,667,61,670],[61,674,61,677],[61,685,61,688],[61,692,61,695],[61,701,61,704],[60,760,60,763],[60,769,60,772],[60,776,60,779],[60,787,60,790],[60,794,60,797],[60,803,60,806],[61,776,61,779],[61,787,61,790],[62,719,62,722],[62,726,62,729],[62,735,62,738],[60,810,60,813],[60,667,60,670],[60,674,60,677],[60,685,60,688],[60,692,60,695],[60,701,60,704],[60,708,60,711],[60,719,60,722],[60,726,60,729],[60,735,60,738],[61,413,61,416],[61,420,61,423],[61,429,61,432],[61,436,61,439],[61,447,61,450],[61,454,61,457],[61,463,61,466],[61,470,61,473],[61,481,61,484],[61,488,61,491],[61,497,61,500],[61,504,61,507],[61,515,61,518],[61,522,61,525],[61,531,61,534],[61,556,61,559],[61,769,61,772],[61,708,61,711],[61,753,61,756],[61,760,61,763],[61,640,61,643],[61,651,61,654],[60,624,60,627],[60,633,60,636],[60,640,60,643],[60,651,60,654],[60,658,60,661],[60,742,60,745],[60,753,60,756],[60,420,60,423],[60,429,60,432],[60,436,60,439],[60,447,60,450],[60,454,60,457],[60,463,60,466],[60,470,60,473],[60,481,60,484],[60,488,60,491],[60,497,60,500],[60,504,60,507],[60,515,60,518],[60,522,60,525],[60,531,60,534],[60,538,60,541],[60,549,60,552],[60,556,60,559],[59,447,59,450],[59,454,59,457],[59,463,59,466],[59,470,59,473],[59,481,59,484],[59,787,59,790],[59,640,59,643],[59,651,59,654],[59,658,59,661],[59,667,59,670],[59,674,59,677],[59,685,59,688],[59,692,59,695],[59,701,59,704],[59,708,59,711],[59,565,59,568],[59,572,59,575],[59,583,59,586],[59,590,59,593],[59,599,59,602],[59,606,59,609],[59,617,59,620],[59,624,59,627],[59,633,59,636],[59,719,59,722],[59,726,59,729],[59,735,59,738],[59,742,59,745],[59,753,59,756],[59,760,59,763],[59,769,59,772],[59,776,59,779],[58,810,58,813],[58,674,58,677],[58,685,58,688],[58,692,58,695],[58,701,58,704],[58,708,58,711],[58,719,58,722],[58,726,58,729],[58,735,58,738],[59,488,59,491],[59,497,59,500],[59,504,59,507],[59,515,59,518],[59,522,59,525],[59,531,59,534],[59,538,59,541],[59,549,59,552],[59,556,59,559],[59,794,59,797],[59,803,59,806],[59,810,59,813],[58,651,58,654],[58,658,58,661],[58,667,58,670],[57,810,57,813],[58,413,58,416],[58,420,58,423],[58,429,58,432],[58,436,58,439],[58,447,58,450],[58,454,58,457],[58,463,58,466],[58,470,58,473],[58,481,58,484],[58,488,58,491],[58,497,58,500],[58,504,58,507],[58,515,58,518],[58,522,58,525],[58,531,58,534],[58,538,58,541],[58,549,58,552],[58,556,58,559],[58,565,58,568],[58,572,58,575],[58,742,58,745],[58,753,58,756],[58,760,58,763],[58,769,58,772],[58,776,58,779],[58,787,58,790],[57,515,57,518],[57,522,57,525],[57,531,57,534],[58,794,58,797],[58,803,58,806],[57,556,57,559],[58,583,58,586],[57,719,57,722],[57,726,57,729],[57,735,57,738],[57,742,57,745],[57,753,57,756],[57,760,57,763],[57,769,57,772],[57,776,57,779],[57,787,57,790],[57,640,57,643],[57,651,57,654],[57,658,57,661],[57,667,57,670],[57,674,57,677],[57,685,57,688],[57,692,57,695],[57,701,57,704],[57,708,57,711],[58,590,58,593],[58,599,58,602],[58,606,58,609],[58,617,58,620],[58,624,58,627],[58,633,58,636],[58,640,58,643],[56,742,56,745],[56,753,56,756],[56,760,56,763],[56,769,56,772],[56,776,56,779],[56,787,56,790],[56,794,56,797],[56,803,56,806],[57,565,57,568],[57,572,57,575],[57,583,57,586],[57,590,57,593],[57,599,57,602],[57,606,57,609],[57,617,57,620],[57,624,57,627],[57,633,57,636],[57,794,57,797],[57,803,57,806],[56,810,56,813],[56,667,56,670],[56,674,56,677],[56,685,56,688],[56,692,56,695],[56,701,56,704],[56,708,56,711],[56,719,56,722],[56,726,56,729],[56,735,56,738],[56,590,56,593],[56,599,56,602],[56,606,56,609],[56,617,56,620],[56,624,56,627],[56,633,56,636],[56,640,56,643],[56,651,56,654],[56,658,56,661],[52,613,65,613],[52,647,65,647],[52,681,65,681],[52,715,65,715],[52,749,65,749],[52,783,65,783],[53,606,53,609],[53,617,53,620],[53,624,53,627],[53,633,53,636],[53,640,53,643],[53,651,53,654],[53,658,53,661],[56,429,56,432],[56,436,56,439],[56,447,56,450],[56,454,56,457],[56,463,56,466],[56,470,56,473],[56,481,56,484],[56,488,56,491],[56,497,56,500],[56,504,56,507],[56,515,56,518],[56,522,56,525],[56,531,56,534],[56,538,56,541],[56,549,56,552],[52,443,65,443],[52,477,65,477],[54,549,54,552],[57,429,57,432],[57,436,57,439],[57,447,57,450],[57,454,57,457],[57,463,57,466],[57,470,57,473],[57,481,57,484],[57,488,57,491],[57,497,57,500],[57,504,57,507],[57,538,57,541],[57,549,57,552],[59,429,59,432],[59,436,59,439],[55,429,55,432],[55,436,55,439],[55,447,55,450],[55,454,55,457],[55,463,55,466],[55,470,55,473],[55,481,55,484],[55,787,55,790],[55,640,55,643],[55,651,55,654],[55,658,55,661],[55,667,55,670],[55,674,55,677],[55,685,55,688],[55,692,55,695],[55,701,55,704],[55,708,55,711],[55,565,55,568],[55,572,55,575],[55,583,55,586],[55,590,55,593],[55,599,55,602],[55,606,55,609],[55,617,55,620],[55,624,55,627],[55,633,55,636],[55,719,55,722],[55,726,55,729],[55,735,55,738],[55,742,55,745],[54,787,54,790],[54,794,54,797],[54,803,54,806],[54,810,54,813],[54,667,54,670],[54,674,54,677],[54,685,54,688],[54,692,54,695],[54,701,54,704],[54,708,54,711],[54,719,54,722],[54,726,54,729],[54,735,54,738],[55,488,55,491],[55,497,55,500],[55,504,55,507],[55,515,55,518],[55,522,55,525],[55,531,55,534],[55,538,55,541],[55,549,55,552],[55,556,55,559],[55,794,55,797],[55,803,55,806],[55,810,55,813],[55,753,55,756],[55,760,55,763],[55,769,55,772],[55,776,55,779],[52,511,65,511],[52,545,65,545],[52,579,65,579],[54,436,54,439],[54,447,54,450],[54,454,54,457],[54,463,54,466],[54,470,54,473],[54,481,54,484],[54,488,54,491],[54,497,54,500],[54,504,54,507],[53,742,53,745],[53,753,53,756],[53,760,53,763],[53,769,53,772],[53,776,53,779],[53,787,53,790],[53,794,53,797],[53,803,53,806],[53,590,53,593],[53,599,53,602],[54,590,54,593],[54,599,54,602],[54,606,54,609],[54,617,54,620],[54,624,54,627],[54,633,54,636],[54,640,54,643],[54,651,54,654],[54,658,54,661],[54,515,54,518],[54,522,54,525],[54,531,54,534],[54,538,54,541],[53,810,53,813],[53,667,53,670],[53,674,53,677],[53,685,53,688],[53,692,53,695],[53,701,53,704],[53,708,53,711],[53,719,53,722],[53,726,53,729],[53,735,53,738],[52,817,65,817],[53,413,53,416],[53,420,53,423],[53,429,53,432],[53,436,53,439],[53,447,53,450],[53,454,53,457],[53,463,53,466],[53,470,53,473],[53,481,53,484],[53,488,53,491],[53,497,53,500],[53,504,53,507],[53,515,53,518],[53,522,53,525],[53,531,53,534],[53,538,53,541],[53,549,53,552],[53,556,53,559],[53,565,53,568],[53,572,53,575],[53,583,53,586],[54,556,54,559],[54,565,54,568],[54,572,54,575],[54,583,54,586],[54,742,54,745],[54,753,54,756],[54,760,54,763],[54,769,54,772],[54,776,54,779],[56,556,56,559],[56,565,56,568],[56,572,56,575],[56,583,56,586],[50,794,50,797],[50,803,50,806],[50,810,50,813],[51,413,51,416],[51,420,51,423],[51,429,51,432],[51,436,51,439],[51,447,51,450],[51,454,51,457],[51,463,51,466],[51,470,51,473],[51,481,51,484],[51,488,51,491],[51,497,51,500],[51,504,51,507],[51,515,51,518],[51,522,51,525],[51,531,51,534],[51,538,51,541],[51,549,51,552],[51,556,51,559],[51,565,51,568],[51,769,51,772],[51,776,51,779],[51,787,51,790],[51,794,51,797],[51,803,51,806],[51,810,51,813],[51,692,51,695],[51,701,51,704],[51,708,51,711],[51,719,51,722],[49,787,49,790],[49,794,49,797],[51,572,51,575],[51,583,51,586],[50,719,50,722],[50,726,50,729],[50,735,50,738],[50,742,50,745],[50,753,50,756],[50,760,50,763],[50,769,50,772],[50,776,50,779],[50,787,50,790],[50,640,50,643],[50,651,50,654],[50,658,50,661],[50,667,50,670],[50,674,50,677],[50,685,50,688],[51,760,51,763],[51,617,51,620],[51,624,51,627],[51,633,51,636],[51,640,51,643],[51,651,51,654],[51,658,51,661],[51,667,51,670],[51,674,51,677],[51,685,51,688],[49,565,49,568],[49,572,49,575],[49,583,49,586],[49,590,49,593],[49,599,49,602],[49,606,49,609],[49,617,49,620],[49,624,49,627],[49,633,49,636],[51,590,51,593],[51,599,51,602],[51,606,51,609],[49,810,49,813],[50,413,50,416],[50,420,50,423],[50,429,50,432],[50,436,50,439],[50,447,50,450],[50,454,50,457],[50,463,50,466],[50,470,50,473],[50,481,50,484],[50,488,50,491],[50,497,50,500],[50,504,50,507],[50,515,50,518],[50,522,50,525],[50,531,50,534],[50,538,50,541],[50,549,50,552],[50,556,50,559],[50,565,50,568],[50,572,50,575],[50,583,50,586],[50,590,50,593],[50,606,50,609],[50,617,50,620],[50,624,50,627],[50,633,50,636],[50,692,50,695],[50,701,50,704],[50,708,50,711],[48,810,48,813],[49,413,49,416],[49,420,49,423],[49,429,49,432],[49,436,49,439],[49,447,49,450],[49,454,49,457],[49,463,49,466],[49,470,49,473],[49,481,49,484],[49,488,49,491],[49,497,49,500],[49,504,49,507],[49,515,49,518],[49,522,49,525],[49,531,49,534],[49,538,49,541],[49,549,49,552],[49,556,49,559],[48,651,48,654],[48,658,48,661],[48,667,48,670],[48,674,48,677],[48,685,48,688],[48,692,48,695],[48,701,48,704],[48,708,48,711],[49,803,49,806],[49,640,49,643],[49,651,49,654],[49,658,49,661],[49,667,49,670],[43,796,45,796],[43,797,45,798],[43,802,45,803],[43,804,45,804],[43,559,45,560],[43,564,45,565],[43,566,45,566],[43,592,45,592],[43,593,45,594],[43,598,45,599],[43,600,45,600],[43,626,45,626],[43,627,45,628],[48,640,48,643],[48,769,48,772],[48,776,48,779],[48,787,48,790],[48,794,48,797],[48,803,48,806],[40,783,51,783],[40,787,40,789],[40,794,40,796],[40,803,40,805],[40,674,40,676],[40,685,40,687],[40,692,40,694],[40,701,40,703],[42,661,42,662],[42,663,42,665],[42,666,42,667],[42,695,42,696],[42,697,42,699],[48,429,48,432],[48,436,48,439],[48,447,48,450],[48,454,48,457],[48,463,48,466],[48,470,48,473],[48,481,48,484],[48,488,48,491],[48,497,48,500],[48,504,48,507],[48,515,48,518],[48,522,48,525],[48,531,48,534],[48,538,48,541],[48,719,48,722],[48,549,48,552],[48,556,48,559],[48,565,48,568],[48,572,48,575],[48,583,48,586],[48,590,48,593],[48,599,48,602],[48,606,48,609],[48,617,48,620],[42,797,42,798],[42,799,42,801],[42,802,42,803],[43,422,45,422],[43,423,45,424],[43,428,45,429],[43,430,45,430],[43,456,45,456],[43,457,45,458],[43,462,45,463],[43,464,45,464],[43,490,45,490],[43,491,45,492],[43,496,45,497],[43,498,45,498],[43,524,45,524],[43,525,45,526],[43,530,45,531],[43,532,45,532],[43,545,43,548],[43,558,45,558],[43,661,45,662],[43,666,45,667],[43,668,45,668],[43,694,45,694],[43,695,45,696],[43,700,45,701],[43,702,45,702],[40,579,51,579],[45,545,45,548],[43,763,45,764],[43,768,45,769],[40,810,40,812],[42,423,42,424],[42,425,42,427],[42,428,42,429],[42,457,42,458],[42,459,42,461],[42,462,42,463],[42,491,42,492],[42,493,42,495],[42,496,42,497],[42,525,42,526],[42,527,42,529],[42,530,42,531],[42,559,42,560],[42,561,42,563],[42,564,42,565],[42,593,42,594],[42,595,42,597],[40,708,40,710],[40,715,51,715],[40,719,40,721],[40,726,40,728],[40,735,40,737],[40,742,40,744],[40,749,51,749],[40,753,40,755],[42,763,42,764],[42,765,42,767],[40,647,51,647],[40,651,40,653],[40,658,40,660],[40,667,40,669],[40,769,40,771],[40,776,40,778],[42,768,42,769],[43,770,45,770],[49,674,49,677],[49,685,49,688],[49,692,49,695],[49,701,49,704],[49,708,49,711],[42,598,42,599],[42,627,42,628],[42,629,42,631],[42,632,42,633],[43,632,45,633],[43,634,45,634],[48,624,48,627],[48,633,48,636],[49,735,49,738],[49,742,49,745],[49,753,49,756],[49,760,49,763],[49,769,49,772],[49,776,49,779],[40,760,40,762],[42,729,42,730],[42,731,42,733],[42,734,42,735],[43,728,45,728],[43,729,45,730],[43,734,45,735],[43,736,45,736],[43,762,45,762],[48,726,48,729],[48,735,48,738],[48,742,48,745],[48,753,48,756],[48,760,48,763],[49,719,49,722],[49,726,49,729],[40,640,40,642],[42,700,42,701],[43,660,45,660],[50,599,50,602],[51,726,51,729],[51,735,51,738],[51,742,51,745],[51,753,51,756],[28,817,39,817],[40,413,40,415],[40,420,40,422],[40,429,40,431],[40,436,40,438],[40,443,51,443],[40,447,40,449],[40,454,40,456],[40,463,40,465],[40,470,40,472],[40,477,51,477],[40,481,40,483],[40,488,40,490],[40,497,40,499],[40,504,40,506],[40,511,51,511],[40,515,40,517],[40,522,40,524],[40,531,40,533],[40,538,40,540],[40,549,40,551],[40,556,40,558],[40,565,40,567],[40,572,40,574],[40,583,40,585],[40,590,40,592],[40,599,40,601],[40,606,40,608],[40,613,51,613],[40,617,40,619],[40,624,40,626],[40,633,40,635],[27,812,27,813],[28,443,39,443],[28,477,39,477],[28,511,39,511],[28,545,39,545],[28,579,39,579],[28,613,39,613],[28,647,39,647],[28,681,39,681],[28,715,39,715],[28,749,39,749],[28,783,39,783],[27,776,27,777],[27,778,27,779],[27,787,27,788],[27,789,27,790],[27,794,27,795],[27,769,27,770],[27,771,27,772],[27,551,27,552],[27,556,27,557],[27,558,27,559],[27,565,27,566],[27,567,27,568],[27,708,27,709],[27,710,27,711],[27,719,27,720],[27,721,27,722],[27,726,27,727],[27,728,27,729],[27,735,27,736],[27,660,27,661],[27,667,27,668],[27,669,27,670],[27,674,27,675],[27,676,27,677],[27,658,27,659],[27,701,27,702],[27,703,27,704],[27,653,27,654],[27,429,27,430],[27,431,27,432],[27,436,27,437],[27,438,27,439],[27,447,27,448],[27,449,27,450],[27,454,27,455],[27,456,27,457],[27,463,27,464],[27,465,27,466],[27,470,27,471],[27,472,27,473],[27,481,27,482],[26,787,26,790],[26,794,26,797],[26,803,26,806],[26,810,26,813],[26,753,26,756],[26,760,26,763],[26,769,26,772],[26,776,26,779],[27,796,27,797],[27,803,27,804],[27,805,27,806],[27,810,27,811],[27,737,27,738],[27,742,27,743],[27,744,27,745],[27,753,27,754],[27,755,27,756],[27,760,27,761],[27,762,27,763],[27,483,27,484],[27,488,27,489],[27,585,27,586],[27,590,27,591],[27,592,27,593],[27,599,27,600],[27,601,27,602],[27,606,27,607],[27,608,27,609],[27,617,27,618],[27,619,27,620],[27,490,27,491],[26,708,26,711],[26,719,26,722],[26,726,26,729],[26,735,26,738],[26,742,26,745],[26,633,26,636],[26,640,26,643],[26,651,26,654],[26,658,26,661],[26,667,26,670],[26,674,26,677],[26,685,26,688],[26,692,26,695],[26,701,26,704],[27,497,27,498],[27,499,27,500],[27,504,27,505],[27,506,27,507],[27,515,27,516],[27,517,27,518],[27,522,27,523],[27,524,27,525],[27,531,27,532],[27,533,27,534],[27,538,27,539],[27,540,27,541],[27,549,27,550],[19,803,19,806],[19,810,19,813],[26,413,26,416],[26,420,26,423],[26,429,26,432],[26,436,26,439],[26,447,26,450],[26,454,26,457],[26,463,26,466],[26,470,26,473],[26,481,26,484],[26,488,26,491],[26,497,26,500],[26,504,26,507],[26,515,26,518],[26,522,26,525],[26,531,26,534],[26,538,26,541],[26,549,26,552],[26,556,26,559],[26,565,26,568],[26,572,26,575],[26,583,26,586],[26,590,26,593],[19,726,19,729],[18,538,18,541],[18,549,18,552],[18,556,18,559],[18,565,18,568],[18,572,18,575],[18,583,18,586],[18,590,18,593],[18,599,18,602],[18,606,18,609],[18,463,18,466],[19,735,19,738],[19,742,19,745],[19,753,19,756],[19,640,19,643],[19,651,19,654],[19,658,19,661],[19,667,19,670],[19,674,19,677],[19,685,19,688],[19,692,19,695],[19,701,19,704],[19,708,19,711],[18,470,18,473],[18,481,18,484],[18,488,18,491],[18,497,18,500],[18,504,18,507],[18,515,18,518],[18,522,18,525],[18,531,18,534],[19,429,19,432],[19,436,19,439],[19,447,19,450],[19,454,19,457],[19,463,19,466],[19,470,19,473],[19,481,19,484],[19,488,19,491],[19,497,19,500],[19,504,19,507],[19,515,19,518],[19,522,19,525],[19,531,19,534],[19,538,19,541],[19,549,19,552],[19,556,19,559],[19,565,19,568],[16,817,27,817],[17,413,17,416],[17,420,17,423]],"merged_total":3290,"flags":["merged_cut"]}
[null,null,null,null,null,null,null,null,null,null,null,null,null,null,null,null,null,"MATCH 1",null,null,null,null,null,null,null,null,null,null,null,null,null,null,null,null,null,null,null,null,null,null,null,null,null,null,null,null,null,null,null,null,null,"MATCH 2",null,null,null,null,null,null,null,null,null,null,null,null,null,null,null,null,null,null,null,null,null,null,null,null,null,null,null,null,null,null,null,null,null,"MATCH 3",null,null,null,null,null,null,null,null,null,null,null,null,null,null,null,null,null,null,null,null,null,null,null,null,null,null,null,null,null,null,null,null,null,"MATCH 4",null,null,null,null,null,null,null,null,null,null,null,null,null,null,null,null,null,null,null,null,null,null,null,null,null,null,null,null,null,null,null,null,null,"MATCH 5",null,null,null,null,null,null,null,null,null,null,null,null,null,null,null,null,null,null,null,null,null,null,null,null,null,null,null,null,null,null,null,null,null,"MATCH 6",null,null,null,null,null,null,null,null,null,null,null,null,null,null,null,null,null,null,null,null,null,null,null,null,null,null,null,null,null,null,null,null,null,"MATCH 7",null,null,null,null,null,null,null,null,null,null,null,null,null,null,null,null,null,null,null,null,null,null,null,null,null,null,null,null,null,null,null,null,null,"MATCH 8",null,null,null,null,null,null,null,null,null,null,null,null,null,null,null,null,null,null,null,null,null,null,null,null,null,null,null,null,null,null,null,null,null,"MATCH 9",null,null,null,null,null,null,null,null,null,null,null,null,null,null,null,null,null,null,null,null,null,null,null,null,null,null,null,null,null,null,null,null,null,"MATCH 10",null,null,null,null,null,null,null,null,null,null,null,null,null,null,null,null,null,null,null,null,null,null,null,null,null,null,null,null,null,null,null,null,null,"MATCH 11",null,null,null,null,null,null,null,null,null,null,null,null,null,null,null,null,null,null,null,null,null,null,null,null,null,null,null,null,null,null,null,null,null,"MATCH 12",null,null,null,null,null,null,null,null,null,null,null,null,null,null,null,null,null,null,null,null,null,null,null,null,null,null,null,null,null,null,null,null,null,"MATCH 13",null,null,null,null,null,null,null,null,null,null,null,null,null,null,null,null,null,null,null,null,null,null,null,null,null,null,null,null,null,null,null,null,null,"MATCH 14",null,null,null,null,null,null,null,null,null,null,null,null,null,null,null,null,null,null,null,null,null,null,null,null,null,null,null,null,null,null,null,null,null,"MATCH 15",null,null,null,null,null,null,null,null,null,null,null,null,null,null,null,null,null,null,null,null,null,null,null,null,null,null,null,null,null,null,null,null,null,"MATCH 16",null,null,null,null,null,null,null,null,null,null,null,null,null,null,null,null,null,null,null,null,null,null,null,null,null,null,null,null,null,null,null,null,null,"MATCH 17",null,null,null,null,null,null,null,null,null,null,null,null,null,null,null,null,null,null,null,null,null,null,null,null,null,null,null,null,null,null,null,null,null,"MATCH 18",null,null,null,null,null,null,null,null,null,null,null,null,null,null,null,null,null,null,null,null,null,null,null,null,null,null,null,null,null,null,null,null,null,"MATCH 19",null,null,null,null,null,null,null,null,null,null,null,null,null,null,null,null,null,null,null,null,null,null,null,null,null,null,null,null,null,null,null,null,null,"MATCH 20",null,null,null,null,null,null,null,null,null,null,null,null,null,null,null,null,null,null,null,null,null,null,null,null,null,null,null,null,null,null,null,null,null,"MATCH 21",null,null,null,null,null,null,null,null,null,null,null,null,null,null,null,null,null,null,null,null,null,null,null,null,null,null,null,null,null,null,null,null,null,"MATCH 22",null,null,null,null,null,null,null,null,null,null,null,null,null,null,null,null,null,null,null,null,null,null,null,null,null,null,null,null,null,null,null,null,null,"MATCH 23",null,null,null,null,null,null,null,null,null,null,null,null,null,null,null,null,null,null,null,null,null,null,null,null,null,null,null,null,null,null,null,null,null,"MATCH 24"]
[null,{"$f":"ECHFMTELEVE!B2","v":"2TU"},null,null,"n°1",null,null,null,null,null,"SIMPLE 1",null,null,null,null,null,"n°1",null,null,null,"n°2",null,null,null,null,null,"SIMPLE 2",null,null,null,null,null,"n°2",null,null,null,null,null,"n°1",null,null,null,null,null,"SIMPLE 1",null,null,null,null,null,"n°1",null,null,null,"n°2",null,null,null,null,null,"SIMPLE 2",null,null,null,null,null,"n°2",null,null,null,null,null,"n°1",null,null,null,null,null,"SIMPLE 1",null,null,null,null,null,"n°1",null,null,null,"n°2",null,null,null,null,null,"SIMPLE 2",null,null,null,null,null,"n°2",null,null,null,null,null,"n°1",null,null,null,null,null,"SIMPLE 1",null,null,null,null,null,"n°1",null,null,null,"n°2",null,null,null,null,null,"SIMPLE 2",null,null,null,null,null,"n°2",null,null,null,null,null,"n°1",null,null,null,null,null,"SIMPLE 1",null,null,null,null,null,"n°1",null,null,null,"n°2",null,null,null,null,null,"SIMPLE 2",null,null,null,null,null,"n°2",null,null,null,null,null,"n°1",null,null,null,null,null,"SIMPLE 1",null,null,null,null,null,"n°1",null,null,null,"n°2",null,null,null,null,null,"SIMPLE 2",null,null,null,null,null,"n°2",null,null,null,null,null,"n°1",null,null,null,null,null,"SIMPLE 1",null,null,null,null,null,"n°1",null,null,null,"n°2",null,null,null,null,null,"SIMPLE 2",null,null,null,null,null,"n°2",null,null,null,null,null,"n°1",null,null,null,null,null,"SIMPLE 1",null,null,null,null,null,"n°1",null,null,null,"n°2",null,null,null,null,null,"SIMPLE 2",null,null,null,null,null,"n°2",null,null,null,null,null,"n°1",null,null,null,null,null,"SIMPLE 1",null,null,null,null,null,"n°1",null,null,null,"n°2",null,null,null,null,null,"SIMPLE 2",null,null,null,null,null,"n°2",null,null,null,null,null,"n°1",null,null,null,null,null,"SIMPLE 1",null,null,null,null,null,"n°1",null,null,null,"n°2",null,null,null,null,null,"SIMPLE 2",null,null,null,null,null,"n°2",null,null,null,null,null,"n°1",null,null,null,null,null,"SIMPLE 1",null,null,null,null,null,"n°1",null,null,null,"n°2",null,null,null,null,null,"SIMPLE 2",null,null,null,null,null,"n°2",null,null,null,null,null,"n°1",null,null,null,null,null,"SIMPLE 1",null,null,null,null,null,"n°1",null,null,null,"n°2",null,null,null,null,null,"SIMPLE 2",null,null,null,null,null,"n°2",null,null,null,null,null,"n°1",null,null,null,null,null,"SIMPLE 1",null,null,null,null,null,"n°1",null,null,null,"n°2",null,null,null,null,null,"SIMPLE 2",null,null,null,null,null,"n°2",null,null,null,null,null,"n°1",null,null,null,null,null,"SIMPLE 1",null,null,null,null,null,"n°1",null,null,null,"n°2",null,null,null,null,null,"SIMPLE 2",null,null,null,null,null,"n°2",null,null,null,null,null,"n°1",null,null,null,null,null,"SIMPLE 1",null,null,null,null,null,"n°1",null,null,null,"n°2",null,null,null,null,null,"SIMPLE 2",null,null,null,null,null,"n°2",null,null,null,null,null,"n°1",null,null,null,null,null,"SIMPLE 1",null,null,null,null,null,"n°1",null,null,null,"n°2",null,null,null,null,null,"SIMPLE 2",null,null,null,null,null,"n°2",null,null,null,null,null,"n°1",null,null,null,null,null,"SIMPLE 1",null,null,null,null,null,"n°1",null,null,null,"n°2",null,null,null,null,null,"SIMPLE 2",null,null,null,null,null,"n°2",null,null,null,null,null,"n°1",null,null,null,null,null,"SIMPLE 1",null,null,null,null,null,"n°1",null,null,null,"n°2",null,null,null,null,null,"SIMPLE 2",null,null,null,null,null,"n°2",null,null,null,null,null,"n°1",null,null,null,null,null,"SIMPLE 1",null,null,null,null,null,"n°1",null,null,null,"n°2",null,null,null,null,null,"SIMPLE 2",null,null,null,null,null,"n°2",null,null,null,null,null,"n°1",null,null,null,null,null,"SIMPLE 1",null,null,null,null,null,"n°1",null,null,null,"n°2",null,null,null,null,null,"SIMPLE 2",null,null,null,null,null,"n°2",null,null,null,null,null,"n°1",null,null,null,null,null,"SIMPLE 1",null,null,null,null,null,"n°1",null,null,null,"n°2",null,null,null,null,null,"SIMPLE 2",null,null,null,null,null,"n°2",null,null,null,null,null,"n°1",null,null,null,null,null,"SIMPLE 1",null,null,null,null,null,"n°1",null,null,null,"n°2",null,null,null,null,null,"SIMPLE 2",null,null,null,null,null,"n°2",null,null,null,null,null,"n°1",null,null,null,null,null,"SIMPLE 1",null,null,null,null,null,"n°1",null,null,null,"n°2",null,null,null,null,null,"SIMPLE 2",null,null,null,null,null,"n°2",null,null,null,null,null,"n°1",null,null,null,null,null,"SIMPLE 1",null,null,null,null,null,"n°1",null,null,null,"n°2",null,null,null,null,null,"SIMPLE 2",null,null,null,null,null,"n°2"]
[]
[]
[null,"CHOIX\n STRATEGIES ET TACTIQUES",null,null,null,"Choix stratégique",null,null,null,null,null,null,"Choix stratégique",null,null,null,null,null,null,null,null,"Choix stratégique",null,null,null,null,null,null,"Choix stratégique",null,null,null,null,null,null,"NOUVEAU MATCH",null,null,null,"Choix stratégique",null,null,null,null,null,null,"Choix stratégique",null,null,null,null,null,null,null,null,"Choix stratégique",null,null,null,null,null,null,"Choix stratégique",null,null,null,null,null,null,"NOUVEAU MATCH",null,null,null,"Choix stratégique",null,null,null,null,null,null,"Choix stratégique",null,null,null,null,null,null,null,null,"Choix stratégique",null,null,null,null,null,null,"Choix stratégique",null,null,null,null,null,null,"NOUVEAU MATCH",null,null,null,"Choix stratégique",null,null,null,null,null,null,"Choix stratégique",null,null,null,null,null,null,null,null,"Choix stratégique",null,null,null,null,null,null,"Choix stratégique",null,null,null,null,null,null,"NOUVEAU MATCH",null,null,null,"Choix stratégique",null,null,null,null,null,null,"Choix stratégique",null,null,null,null,null,null,null,null,"Choix stratégique",null,null,null,null,null,null,"Choix stratégique",null,null,null,null,null,null,"NOUVEAU MATCH",null,null,null,"Choix stratégique",null,null,null,null,null,null,"Choix stratégique",null,null,null,null,null,null,null,null,"Choix stratégique",null,null,null,null,null,null,"Choix stratégique",null,null,null,null,null,null,"NOUVEAU MATCH",null,null,null,"Choix stratégique",null,null,null,null,null,null,"Choix stratégique",null,null,null,null,null,null,null,null,"Choix stratégique",null,null,null,null,null,null,"Choix stratégique",null,null,null,null,null,null,"NOUVEAU MATCH",null,null,null,"Choix stratégique",null,null,null,null,null,null,"Choix stratégique",null,null,null,null,null,null,null,null,"Choix stratégique",null,null,null,null,null,null,"Choix stratégique",null,null,null,null,null,null,"NOUVEAU MATCH",null,null,null,"Choix stratégique",null,null,null,null,null,null,"Choix stratégique",null,null,null,null,null,null,null,null,"Choix stratégique",null,null,null,null,null,null,"Choix stratégique",null,null,null,null,null,null,"NOUVEAU MATCH",null,null,null,"Choix stratégique",null,null,null,null,null,null,"Choix stratégique",null,null,null,null,null,null,null,null,"Choix stratégique",null,null,null,null,null,null,"Choix stratégique",null,null,null,null,null,null,"NOUVEAU MATCH",null,null,null,"Choix stratégique",null,null,null,null,null,null,"Choix stratégique",null,null,null,null,null,null,null,null,"Choix stratégique",null,null,null,null,null,null,"Choix stratégique",null,null,null,null,null,null,"NOUVEAU MATCH",null,null,null,"Choix stratégique",null,null,null,null,null,null,"Choix stratégique",null,null,null,null,null,null,null,null,"Choix stratégique",null,null,null,null,null,null,"Choix stratégique",null,null,null,null,null,null,"NOUVEAU MATCH",null,null,null,"Choix stratégique",null,null,null,null,null,null,"Choix stratégique",null,null,null,null,null,null,null,null,"Choix stratégique",null,null,null,null,null,null,"Choix stratégique",null,null,null,null,null,null,"NOUVEAU MATCH",null,null,null,"Choix stratégique",null,null,null,null,null,null,"Choix stratégique",null,null,null,null,null,null,null,null,"Choix stratégique",null,null,null,null,null,null,"Choix stratégique",null,null,null,null,null,null,"NOUVEAU MATCH",null,null,null,"Choix stratégique",null,null,null,null,null,null,"Choix stratégique",null,null,null,null,null,null,null,null,"Choix stratégique",null,null,null,null,null,null,"Choix stratégique",null,null,null,null,null,null,"NOUVEAU MATCH",null,null,null,"Choix stratégique",null,null,null,null,null,null,"Choix stratégique",null,null,null,null,null,null,null,null,"Choix stratégique",null,null,null,null,null,null,"Choix stratégique",null,null,null,null,null,null,"NOUVEAU MATCH",null,null,null,"Choix stratégique",null,null,null,null,null,null,"Choix stratégique",null,null,null,null,null,null,null,null,"Choix stratégique",null,null,null,null,null,null,"Choix stratégique",null,null,null,null,null,null,"NOUVEAU MATCH",null,null,null,"Choix stratégique",null,null,null,null,null,null,"Choix stratégique",null,null,null,null,null,null,null,null,"Choix stratégique",null,null,null,null,null,null,"Choix stratégique",null,null,null,null,null,null,"NOUVEAU MATCH",null,null,null,"Choix stratégique",null,null,null,null,null,null,"Choix stratégique",null,null,null,null,null,null,null,null,"Choix stratégique",null,null,null,null,null,null,"Choix stratégique",null,null,null,null,null,null,"NOUVEAU MATCH",null,null,null,"Choix stratégique",null,null,null,null,null,null,"Choix stratégique",null,null,null,null,null,null,null,null,"Choix stratégique",null,null,null,null,null,null,"Choix stratégique",null,null,null,null,null,null,"NOUVEAU MATCH",null,null,null,"Choix stratégique",null,null,null,null,null,null,"Choix stratégique",null,null,null,null,null,null,null,null,"Choix stratégique",null,null,null,null,null,null,"Choix stratégique",null,null,null,null,null,null,"NOUVEAU MATCH",null,null,null,"Choix stratégique",null,null,null,null,null,null,"Choix stratégique",null,null,null,null,null,null,null,null,"Choix stratégique",null,null,null,null,null,null,"Choix stratégique",null,null,null,null,null,null,"NOUVEAU MATCH",null,null,null,"Choix stratégique",null,null,null,null,null,null,"Choix stratégique",null,null,null,null,null,null,null,null,"Choix stratégique",null,null,null,null,null,null,"Choix stratégique",null,null,null,null,null,null,"NOUVEAU MATCH",null,null,null,"Choix stratégique",null,null,null,null,null,null,"Choix stratégique",null,null,null,null,null,null,null,null,"Choix stratégique",null,null,null,null,null,null,"Choix stratégique",null,null,null,null,null,null,"NOUVEAU MATCH"]
[]
[null,null,null,null,null,"Tactique privilégiée",null,null,null,null,null,null,"Tactique privilégiée",null,null,null,null,null,null,null,null,"Tactique privilégiée",null,null,null,null,null,null,"Tactique privilégiée",null,null,null,null,null,null,null,null,null,null,"Tactique privilégiée",null,null,null,null,null,null,"Tactique privilégiée",null,null,null,null,null,null,null,null,"Tactique privilégiée",null,null,null,null,null,null,"Tactique privilégiée",null,null,null,null,null,null,null,null,null,null,"Tactique privilégiée",null,null,null,null,null,null,"Tactique privilégiée",null,null,null,null,null,null,null,null,"Tactique privilégiée",null,null,null,null,null,null,"Tactique privilégiée",null,null,null,null,null,null,null,null,null,null,"Tactique privilégiée",null,null,null,null,null,null,"Tactique privilégiée",null,null,null,null,null,null,null,null,"Tactique privilégiée",null,null,null,null,null,null,"Tactique privilégiée",null,null,null,null,null,null,null,null,null,null,"Tactique privilégiée",null,null,null,null,null,null,"Tactique privilégiée",null,null,null,null,null,null,null,null,"Tactique privilégiée",null,null,null,null,null,null,"Tactique privilégiée",null,null,null,null,null,null,null,null,null,null,"Tactique privilégiée",null,null,null,null,null,null,"Tactique privilégiée",null,null,null,null,null,null,null,null,"Tactique privilégiée",null,null,null,null,null,null,"Tactique privilégiée",null,null,null,null,null,null,null,null,null,null,"Tactique privilégiée",null,null,null,null,null,null,"Tactique privilégiée",null,null,null,null,null,null,null,null,"Tactique privilégiée",null,null,null,null,null,null,"Tactique privilégiée",null,null,null,null,null,null,null,null,null,null,"Tactique privilégiée",null,null,null,null,null,null,"Tactique privilégiée",null,null,null,null,null,null,null,null,"Tactique privilégiée",null,null,null,null,null,null,"Tactique privilégiée",null,null,null,null,null,null,null,null,null,null,"Tactique privilégiée",null,null,null,null,null,null,"Tactique privilégiée",null,null,null,null,null,null,null,null,"Tactique privilégiée",null,null,null,null,null,null,"Tactique privilégiée",null,null,null,null,null,null,null,null,null,null,"Tactique privilégiée",null,null,null,null,null,null,"Tactique privilégiée",null,null,null,null,null,null,null,null,"Tactique privilégiée",null,null,null,null,null,null,"Tactique privilégiée",null,null,null,null,null,null,null,null,null,null,"Tactique privilégiée",null,null,null,null,null,null,"Tactique privilégiée",null,null,null,null,null,null,null,null,"Tactique privilégiée",null,null,null,null,null,null,"Tactique privilégiée",null,null,null,null,null,null,null,null,null,null,"Tactique privilégiée",null,null,null,null,null,null,"Tactique privilégiée",null,null,null,null,null,null,null,null,"Tactique privilégiée",null,null,null,null,null,null,"Tactique privilégiée",null,null,null,null,null,null,null,null,null,null,"Tactique privilégiée",null,null,null,null,null,null,"Tactique privilégiée",null,null,null,null,null,null,null,null,"Tactique privilégiée",null,null,null,null,null,null,"Tactique privilégiée",null,null,null,null,null,null,null,null,null,null,"Tactique privilégiée",null,null,null,null,null,null,"Tactique privilégiée",null,null,null,null,null,null,null,null,"Tactique privilégiée",null,null,null,null,null,null,"Tactique privilégiée",null,null,null,null,null,null,null,null,null,null,"Tactique privilégiée",null,null,null,null,null,null,"Tactique privilégiée",null,null,null,null,null,null,null,null,"Tactique privilégiée",null,null,null,null,null,null,"Tactique privilégiée",null,null,null,null,null,null,null,null,null,null,"Tactique privilégiée",null,null,null,null,null,null,"Tactique privilégiée",null,null,null,null,null,null,null,null,"Tactique privilégiée",null,null,null,null,null,null,"Tactique privilégiée",null,null,null,null,null,null,null,null,null,null,"Tactique privilégiée",null,null,null,null,null,null,"Tactique privilégiée",null,null,null,null,null,null,null,null,"Tactique privilégiée",null,null,null,null,null,null,"Tactique privilégiée",null,null,null,null,null,null,null,null,null,null,"Tactique privilégiée",null,null,null,null,null,null,"Tactique privilégiée",null,null,null,null,null,null,null,null,"Tactique privilégiée",null,null,null,null,null,null,"Tactique privilégiée",null,null,null,null,null,null,null,null,null,null,"Tactique privilégiée",null,null,null,null,null,null,"Tactique privilégiée",null,null,null,null,null,null,null,null,"Tactique privilégiée",null,null,null,null,null,null,"Tactique privilégiée",null,null,null,null,null,null,null,null,null,null,"Tactique privilégiée",null,null,null,null,null,null,"Tactique privilégiée",null,null,null,null,null,null,null,null,"Tactique privilégiée",null,null,null,null,null,null,"Tactique privilégiée",null,null,null,null,null,null,null,null,null,null,"Tactique privilégiée",null,null,null,null,null,null,"Tactique privilégiée",null,null,null,null,null,null,null,null,"Tactique privilégiée",null,null,null,null,null,null,"Tactique privilégiée",null,null,null,null,null,null,null,null,null,null,"Tactique privilégiée",null,null,null,null,null,null,"Tactique privilégiée",null,null,null,null,null,null,null,null,"Tactique privilégiée",null,null,null,null,null,null,"Tactique privilégiée",null,null,null,null,null,null,null,null,null,null,"Tactique privilégiée",null,null,null,null,null,null,"Tactique privilégiée",null,null,null,null,null,null,null,null,"Tactique privilégiée",null,null,null,null,null,null,"Tactique privilégiée",null,null,null,null,null,null,null,null,null,null,"Tactique privilégiée",null,null,null,null,null,null,"Tactique privilégiée",null,null,null,null,null,null,null,null,"Tactique privilégiée",null,null,null,null,null,null,"Tactique privilégiée"]
[]
[null,null,null,null,null,"Indicateur de réussite",null,null,null,null,null,null,"Indicateur de réussite",null,null,null,null,null,null,null,null,"Indicateur de réussite",null,null,null,null,null,null,"Indicateur de réussite",null,null,null,null,null,null,null,null,null,null,"Indicateur de réussite",null,null,null,null,null,null,"Indicateur de réussite",null,null,null,null,null,null,null,null,"Indicateur de réussite",null,null,null,null,null,null,"Indicateur de réussite",null,null,null,null,null,null,null,null,null,null,"Indicateur de réussite",null,null,null,null,null,null,"Indicateur de réussite",null,null,null,null,null,null,null,null,"Indicateur de réussite",null,null,null,null,null,null,"Indicateur de réussite",null,null,null,null,null,null,null,null,null,null,"Indicateur de réussite",null,null,null,null,null,null,"Indicateur de réussite",null,null,null,null,null,null,null,null,"Indicateur de réussite",null,null,null,null,null,null,"Indicateur de réussite",null,null,null,null,null,null,null,null,null,null,"Indicateur de réussite",null,null,null,null,null,null,"Indicateur de réussite",null,null,null,null,null,null,null,null,"Indicateur de réussite",null,null,null,null,null,null,"Indicateur de réussite",null,null,null,null,null,null,null,null,null,null,"Indicateur de réussite",null,null,null,null,null,null,"Indicateur de réussite",null,null,null,null,null,null,null,null,"Indicateur de réussite",null,null,null,null,null,null,"Indicateur de réussite",null,null,null,null,null,null,null,null,null,null,"Indicateur de réussite",null,null,null,null,null,null,"Indicateur de réussite",null,null,null,null,null,null,null,null,"Indicateur de réussite",null,null,null,null,null,null,"Indicateur de réussite",null,null,null,null,null,null,null,null,null,null,"Indicateur de réussite",null,null,null,null,null,null,"Indicateur de réussite",null,null,null,null,null,null,null,null,"Indicateur de réussite",null,null,null,null,null,null,"Indicateur de réussite",null,null,null,null,null,null,null,null,null,null,"Indicateur de réussite",null,null,null,null,null,null,"Indicateur de réussite",null,null,null,null,null,null,null,null,"Indicateur de réussite",null,null,null,null,null,null,"Indicateur de réussite",null,null,null,null,null,null,null,null,null,null,"Indicateur de réussite",null,null,null,null,null,null,"Indicateur de réussite",null,null,null,null,null,null,null,null,"Indicateur de réussite",null,null,null,null,null,null,"Indicateur de réussite",null,null,null,null,null,null,null,null,null,null,"Indicateur de réussite",null,null,null,null,null,null,"Indicateur de réussite",null,null,null,null,null,null,null,null,"Indicateur de réussite",null,null,null,null,null,null,"Indicateur de réussite",null,null,null,null,null,null,null,null,null,null,"Indicateur de réussite",null,null,null,null,null,null,"Indicateur de réussite",null,null,null,null,null,null,null,null,"Indicateur de réussite",null,null,null,null,null,null,"Indicateur de réussite",null,null,null,null,null,null,null,null,null,null,"Indicateur de réussite",null,null,null,null,null,null,"Indicateur de réussite",null,null,null,null,null,null,null,null,"Indicateur de réussite",null,null,null,null,null,null,"Indicateur de réussite",null,null,null,null,null,null,null,null,null,null,"Indicateur de réussite",null,null,null,null,null,null,"Indicateur de réussite",null,null,null,null,null,null,null,null,"Indicateur de réussite",null,null,null,null,null,null,"Indicateur de réussite",null,null,null,null,null,null,null,null,null,null,"Indicateur de réussite",null,null,null,null,null,null,"Indicateur de réussite",null,null,null,null,null,null,null,null,"Indicateur de réussite",null,null,null,null,null,null,"Indicateur de réussite",null,null,null,null,null,null,null,null,null,null,"Indicateur de réussite",null,null,null,null,null,null,"Indicateur de réussite",null,null,null,null,null,null,null,null,"Indicateur de réussite",null,null,null,null,null,null,"Indicateur de réussite",null,null,null,null,null,null,null,null,null,null,"Indicateur de réussite",null,null,null,null,null,null,"Indicateur de réussite",null,null,null,null,null,null,null,null,"Indicateur de réussite",null,null,null,null,null,null,"Indicateur de réussite",null,null,null,null,null,null,null,null,null,null,"Indicateur de réussite",null,null,null,null,null,null,"Indicateur de réussite",null,null,null,null,null,null,null,null,"Indicateur de réussite",null,null,null,null,null,null,"Indicateur de réussite",null,null,null,null,null,null,null,null,null,null,"Indicateur de réussite",null,null,null,null,null,null,"Indicateur de réussite",null,null,null,null,null,null,null,null,"Indicateur de réussite",null,null,null,null,null,null,"Indicateur de réussite",null,null,null,null,null,null,null,null,null,null,"Indicateur de réussite",null,null,null,null,null,null,"Indicateur de réussite",null,null,null,null,null,null,null,null,"Indicateur de réussite",null,null,null,null,null,null,"Indicateur de réussite",null,null,null,null,null,null,null,null,null,null,"Indicateur de réussite",null,null,null,null,null,null,"Indicateur de réussite",null,null,null,null,null,null,null,null,"Indicateur de réussite",null,null,null,null,null,null,"Indicateur de réussite",null,null,null,null,null,null,null,null,null,null,"Indicateur de réussite",null,null,null,null,null,null,"Indicateur de réussite",null,null,null,null,null,null,null,null,"Indicateur de réussite",null,null,null,null,null,null,"Indicateur de réussite",null,null,null,null,null,null,null,null,null,null,"Indicateur de réussite",null,null,null,null,null,null,"Indicateur de réussite",null,null,null,null,null,null,null,null,"Indicateur de réussite",null,null,null,null,null,null,"Indicateur de réussite",null,null,null,null,null,null,null,null,null,null,"Indicateur de réussite",null,null,null,null,null,null,"Indicateur de réussite",null,null,null,null,null,null,null,null,"Indicateur de réussite",null,null,null,null,null,null,"Indicateur de réussite"]
[null,null,null,null,null,{"$f":"HLOOKUP(F8,DEBUT!$AB$4:$BP$78,2,FALSE)","v":{"$error":"#N/A"}},null,null,null,null,null,null,{"$f":"HLOOKUP(M8,DEBUT!$AB$4:$BP$78,2,FALSE)","v":{"$error":"#N/A"}},null,null,null,null,null,null,null,null,{"$f":"HLOOKUP(V8,DEBUT!$AB$4:$BP$78,2,FALSE)","v":{"$error":"#N/A"}},null,null,null,null,null,null,{"$f":"HLOOKUP(AC8,DEBUT!$AB$4:$BP$78,2,FALSE)","v":{"$error":"#N/A"}},null,null,null,null,null,null,null,null,null,null,{"$f":"HLOOKUP(AN8,DEBUT!$AB$4:$BP$78,2,FALSE)","v":{"$error":"#N/A"}},null,null,null,null,null,null,{"$f":"HLOOKUP(AU8,DEBUT!$AB$4:$BP$78,2,FALSE)","v":{"$error":"#N/A"}},null,null,null,null,null,null,null,null,{"$f":"HLOOKUP(BD8,DEBUT!$AB$4:$BP$78,2,FALSE)","v":{"$error":"#N/A"}},null,null,null,null,null,null,{"$f":"HLOOKUP(BK8,DEBUT!$AB$4:$BP$78,2,FALSE)","v":{"$error":"#N/A"}},null,null,null,null,null,null,null,null,null,null,{"$f":"HLOOKUP(BV8,DEBUT!$AB$4:$BP$78,2,FALSE)","v":{"$error":"#N/A"}},null,null,null,null,null,null,{"$f":"HLOOKUP(CC8,DEBUT!$AB$4:$BP$78,2,FALSE)","v":{"$error":"#N/A"}},null,null,null,null,null,null,null,null,{"$f":"HLOOKUP(CL8,DEBUT!$AB$4:$BP$78,2,FALSE)","v":{"$error":"#N/A"}},null,null,null,null,null,null,{"$f":"HLOOKUP(CS8,DEBUT!$AB$4:$BP$78,2,FALSE)","v":{"$error":"#N/A"}},null,null,null,null,null,null,null,null,null,null,{"$f":"HLOOKUP(DD8,DEBUT!$AB$4:$BP$78,2,FALSE)","v":{"$error":"#N/A"}},null,null,null,null,null,null,{"$f":"HLOOKUP(DK8,DEBUT!$AB$4:$BP$78,2,FALSE)","v":{"$error":"#N/A"}},null,null,null,null,null,null,null,null,{"$f":"HLOOKUP(DT8,DEBUT!$AB$4:$BP$78,2,FALSE)","v":{"$error":"#N/A"}},null,null,null,null,null,null,{"$f":"HLOOKUP(EA8,DEBUT!$AB$4:$BP$78,2,FALSE)","v":{"$error":"#N/A"}},null,null,null,null,null,null,null,null,null,null,{"$f":"HLOOKUP(EL8,DEBUT!$AB$4:$BP$78,2,FALSE)","v":{"$error":"#N/A"}},null,null,null,null,null,null,{"$f":"HLOOKUP(ES8,DEBUT!$AB$4:$BP$78,2,FALSE)","v":{"$error":"#N/A"}},null,null,null,null,null,null,null,null,{"$f":"HLOOKUP(FB8,DEBUT!$AB$4:$BP$78,2,FALSE)","v":{"$error":"#N/A"}},null,null,null,null,null,null,{"$f":"HLOOKUP(FI8,DEBUT!$AB$4:$BP$78,2,FALSE)","v":{"$error":"#N/A"}},null,null,null,null,null,null,null,null,null,null,{"$f":"HLOOKUP(FT8,DEBUT!$AB$4:$BP$78,2,FALSE)","v":{"$error":"#N/A"}},null,null,null,null,null,null,{"$f":"HLOOKUP(GA8,DEBUT!$AB$4:$BP$78,2,FALSE)","v":{"$error":"#N/A"}},null,null,null,null,null,null,null,null,{"$f":"HLOOKUP(GJ8,DEBUT!$AB$4:$BP$78,2,FALSE)","v":{"$error":"#N/A"}},null,null,null,null,null,null,{"$f":"HLOOKUP(GQ8,DEBUT!$AB$4:$BP$78,2,FALSE)","v":{"$error":"#N/A"}},null,null,null,null,null,null,null,null,null,null,{"$f":"HLOOKUP(HB8,DEBUT!$AB$4:$BP$78,2,FALSE)","v":{"$error":"#N/A"}},null,null,null,null,null,null,{"$f":"HLOOKUP(HI8,DEBUT!$AB$4:$BP$78,2,FALSE)","v":{"$error":"#N/A"}},null,null,null,null,null,null,null,null,{"$f":"HLOOKUP(HR8,DEBUT!$AB$4:$BP$78,2,FALSE)","v":{"$error":"#N/A"}},null,null,null,null,null,null,{"$f":"HLOOKUP(HY8,DEBUT!$AB$4:$BP$78,2,FALSE)","v":{"$error":"#N/A"}},null,null,null,null,null,null,null,null,null,null,{"$f":"HLOOKUP(IJ8,DEBUT!$AB$4:$BP$78,2,FALSE)","v":{"$error":"#N/A"}},null,null,null,null,null,null,{"$f":"HLOOKUP(IQ8,DEBUT!$AB$4:$BP$78,2,FALSE)","v":{"$error":"#N/A"}},null,null,null,null,null,null,null,null,{"$f":"HLOOKUP(IZ8,DEBUT!$AB$4:$BP$78,2,FALSE)","v":{"$error":"#N/A"}},null,null,null,null,null,null,{"$f":"HLOOKUP(JG8,DEBUT!$AB$4:$BP$78,2,FALSE)","v":{"$error":"#N/A"}},null,null,null,null,null,null,null,null,null,null,{"$f":"HLOOKUP(JR8,DEBUT!$AB$4:$BP$78,2,FALSE)","v":{"$error":"#N/A"}},null,null,null,null,null,null,{"$f":"HLOOKUP(JY8,DEBUT!$AB$4:$BP$78,2,FALSE)","v":{"$error":"#N/A"}},null,null,null,null,null,null,null,null,{"$f":"HLOOKUP(KH8,DEBUT!$AB$4:$BP$78,2,FALSE)","v":{"$error":"#N/A"}},null,null,null,null,null,null,{"$f":"HLOOKUP(KO8,DEBUT!$AB$4:$BP$78,2,FALSE)","v":{"$error":"#N/A"}},null,null,null,null,null,null,null,null,null,null,{"$f":"HLOOKUP(KZ8,DEBUT!$AB$4:$BP$78,2,FALSE)","v":{"$error":"#N/A"}},null,null,null,null,null,null,{"$f":"HLOOKUP(LG8,DEBUT!$AB$4:$BP$78,2,FALSE)","v":{"$error":"#N/A"}},null,null,null,null,null,null,null,null,{"$f":"HLOOKUP(LP8,DEBUT!$AB$4:$BP$78,2,FALSE)","v":{"$error":"#N/A"}},null,null,null,null,null,null,{"$f":"HLOOKUP(LW8,DEBUT!$AB$4:$BP$78,2,FALSE)","v":{"$error":"#N/A"}},null,null,null,null,null,null,null,null,null,null,{"$f":"HLOOKUP(MH8,DEBUT!$AB$4:$BP$78,2,FALSE)","v":{"$error":"#N/A"}},null,null,null,null,null,null,{"$f":"HLOOKUP(MO8,DEBUT!$AB$4:$BP$78,2,FALSE)","v":{"$error":"#N/A"}},null,null,null,null,null,null,null,null,{"$f":"HLOOKUP(MX8,DEBUT!$AB$4:$BP$78,2,FALSE)","v":{"$error":"#N/A"}},null,null,null,null,null,null,{"$f":"HLOOKUP(NE8,DEBUT!$AB$4:$BP$78,2,FALSE)","v":{"$error":"#N/A"}},null,null,null,null,null,null,null,null,null,null,{"$f":"HLOOKUP(NP8,DEBUT!$AB$4:$BP$78,2,FALSE)","v":{"$error":"#N/A"}},null,null,null,null,null,null,{"$f":"HLOOKUP(NW8,DEBUT!$AB$4:$BP$78,2,FALSE)","v":{"$error":"#N/A"}},null,null,null,null,null,null,null,null,{"$f":"HLOOKUP(OF8,DEBUT!$AB$4:$BP$78,2,FALSE)","v":{"$error":"#N/A"}},null,null,null,null,null,null,{"$f":"HLOOKUP(OM8,DEBUT!$AB$4:$BP$78,2,FALSE)","v":{"$error":"#N/A"}},null,null,null,null,null,null,null,null,null,null,{"$f":"HLOOKUP(OX8,DEBUT!$AB$4:$BP$78,2,FALSE)","v":{"$error":"#N/A"}},null,null,null,null,null,null,{"$f":"HLOOKUP(PE8,DEBUT!$AB$4:$BP$78,2,FALSE)","v":{"$error":"#N/A"}},null,null,null,null,null,null,null,null,{"$f":"HLOOKUP(PN8,DEBUT!$AB$4:$BP$78,2,FALSE)","v":{"$error":"#N/A"}},null,null,null,null,null,null,{"$f":"HLOOKUP(PU8,DEBUT!$AB$4:$BP$78,2,FALSE)","v":{"$error":"#N/A"}},null,null,null,null,null,null,null,null,null,null,{"$f":"HLOOKUP(QF8,DEBUT!$AB$4:$BP$78,2,FALSE)","v":{"$error":"#N/A"}},null,null,null,null,null,null,{"$f":"HLOOKUP(QM8,DEBUT!$AB$4:$BP$78,2,FALSE)","v":{"$error":"#N/A"}},null,null,null,null,null,null,null,null,{"$f":"HLOOKUP(QV8,DEBUT!$AB$4:$BP$78,2,FALSE)","v":{"$error":"#N/A"}},null,null,null,null,null,null,{"$f":"HLOOKUP(RC8,DEBUT!$AB$4:$BP$78,2,FALSE)","v":{"$error":"#N/A"}},null,null,null,null,null,null,null,null,null,null,{"$f":"HLOOKUP(RN8,DEBUT!$AB$4:$BP$78,2,FALSE)","v":{"$error":"#N/A"}},null,null,null,null,null,null,{"$f":"HLOOKUP(RU8,DEBUT!$AB$4:$BP$78,2,FALSE)","v":{"$error":"#N/A"}},null,null,null,null,null,null,null,null,{"$f":"HLOOKUP(SD8,DEBUT!$AB$4:$BP$78,2,FALSE)","v":{"$error":"#N/A"}},null,null,null,null,null,null,{"$f":"HLOOKUP(SK8,DEBUT!$AB$4:$BP$78,2,FALSE)","v":{"$error":"#N/A"}},null,null,null,null,null,null,null,null,null,null,{"$f":"HLOOKUP(SV8,DEBUT!$AB$4:$BP$78,2,FALSE)","v":{"$error":"#N/A"}},null,null,null,null,null,null,{"$f":"HLOOKUP(TC8,DEBUT!$AB$4:$BP$78,2,FALSE)","v":{"$error":"#N/A"}},null,null,null,null,null,null,null,null,{"$f":"HLOOKUP(TL8,DEBUT!$AB$4:$BP$78,2,FALSE)","v":{"$error":"#N/A"}},null,null,null,null,null,null,{"$f":"HLOOKUP(TS8,DEBUT!$AB$4:$BP$78,2,FALSE)","v":{"$error":"#N/A"}},null,null,null,null,null,null,null,null,null,null,{"$f":"HLOOKUP(UD8,DEBUT!$AB$4:$BP$78,2,FALSE)","v":{"$error":"#N/A"}},null,null,null,null,null,null,{"$f":"HLOOKUP(UK8,DEBUT!$AB$4:$BP$78,2,FALSE)","v":{"$error":"#N/A"}},null,null,null,null,null,null,null,null,{"$f":"HLOOKUP(UT8,DEBUT!$AB$4:$BP$78,2,FALSE)","v":{"$error":"#N/A"}},null,null,null,null,null,null,{"$f":"HLOOKUP(VA8,DEBUT!$AB$4:$BP$78,2,FALSE)","v":{"$error":"#N/A"}},null,null,null,null,null,null,null,null,null,null,{"$f":"HLOOKUP(VL8,DEBUT!$AB$4:$BP$78,2,FALSE)","v":{"$error":"#N/A"}},null,null,null,null,null,null,{"$f":"HLOOKUP(VS8,DEBUT!$AB$4:$BP$78,2,FALSE)","v":{"$error":"#N/A"}},null,null,null,null,null,null,null,null,{"$f":"HLOOKUP(WB8,DEBUT!$AB$4:$BP$78,2,FALSE)","v":{"$error":"#N/A"}},null,null,null,null,null,null,{"$f":"HLOOKUP(WI8,DEBUT!$AB$4:$BP$78,2,FALSE)","v":{"$error":"#N/A"}},null,null,null,null,null,null,null,null,null,null,{"$f":"HLOOKUP(WT8,DEBUT!$AB$4:$BP$78,2,FALSE)","v":{"$error":"#N/A"}},null,null,null,null,null,null,{"$f":"HLOOKUP(XA8,DEBUT!$AB$4:$BP$78,2,FALSE)","v":{"$error":"#N/A"}},null,null,null,null,null,null,null,null,{"$f":"HLOOKUP(XJ8,DEBUT!$AB$4:$BP$78,2,FALSE)","v":{"$error":"#N/A"}},null,null,null,null,null,null,{"$f":"HLOOKUP(XQ8,DEBUT!$AB$4:$BP$78,2,FALSE)","v":{"$error":"#N/A"}},null,null,null,null,null,null,null,null,null,null,{"$f":"HLOOKUP(YB8,DEBUT!$AB$4:$BP$78,2,FALSE)","v":{"$error":"#N/A"}},null,null,null,null,null,null,{"$f":"HLOOKUP(YI8,DEBUT!$AB$4:$BP$78,2,FALSE)","v":{"$error":"#N/A"}},null,null,null,null,null,null,null,null,{"$f":"HLOOKUP(YR8,DEBUT!$AB$4:$BP$78,2,FALSE)","v":{"$error":"#N/A"}},null,null,null,null,null,null,{"$f":"HLOOKUP(YY8,DEBUT!$AB$4:$BP$78,2,FALSE)","v":{"$error":"#N/A"}},null,null,null,null,null,null,null,null,null,null,{"$f":"HLOOKUP(ZJ8,DEBUT!$AB$4:$BP$78,2,FALSE)","v":{"$error":"#N/A"}},null,null,null,null,null,null,{"$f":"HLOOKUP(ZQ8,DEBUT!$AB$4:$BP$78,2,FALSE)","v":{"$error":"#N/A"}},null,null,null,null,null,null,null,null,{"$f":"HLOOKUP(ZZ8,DEBUT!$AB$4:$BP$78,2,FALSE)","v":{"$error":"#N/A"}},null,null,null,null,null,null,{"$f":"HLOOKUP(AAG8,DEBUT!$AB$4:$BP$78,2,FALSE)","v":{"$error":"#N/A"}},null,null,null,null,null,null,null,null,null,null,{"$f":"HLOOKUP(AAR8,DEBUT!$AB$4:$BP$78,2,FALSE)","v":{"$error":"#N/A"}},null,null,null,null,null,null,{"$f":"HLOOKUP(AAY8,DEBUT!$AB$4:$BP$78,2,FALSE)","v":{"$error":"#N/A"}},null,null,null,null,null,null,null,null,{"$f":"HLOOKUP(ABH8,DEBUT!$AB$4:$BP$78,2,FALSE)","v":{"$error":"#N/A"}},null,null,null,null,null,null,{"$f":"HLOOKUP(ABO8,DEBUT!$AB$4:$BP$78,2,FALSE)","v":{"$error":"#N/A"}},null,null,null,null,null,null,null,null,null,null,{"$f":"HLOOKUP(ABZ8,DEBUT!$AB$4:$BP$78,2,FALSE)","v":{"$error":"#N/A"}},null,null,null,null,null,null,{"$f":"HLOOKUP(ACG8,DEBUT!$AB$4:$BP$78,2,FALSE)","v":{"$error":"#N/A"}},null,null,null,null,null,null,null,null,{"$f":"HLOOKUP(ACP8,DEBUT!$AB$4:$BP$78,2,FALSE)","v":{"$error":"#N/A"}},null,null,null,null,null,null,{"$f":"HLOOKUP(ACW8,DEBUT!$AB$4:$BP$78,2,FALSE)","v":{"$error":"#N/A"}},null,null,null,null,null,null,null,null,null,null,{"$f":"HLOOKUP(ADH8,DEBUT!$AB$4:$BP$78,2,FALSE)","v":{"$error":"#N/A"}},null,null,null,null,null,null,{"$f":"HLOOKUP(ADO8,DEBUT!$AB$4:$BP$78,2,FALSE)","v":{"$error":"#N/A"}},null,null,null,null,null,null,null,null,{"$f":"HLOOKUP(ADX8,DEBUT!$AB$4:$BP$78,2,FALSE)","v":{"$error":"#N/A"}},null,null,null,null,null,null,{"$f":"HLOOKUP(AEE8,DEBUT!$AB$4:$BP$78,2,FALSE)","v":{"$error":"#N/A"}}]
[null,null,null,null,null,"Zones dangereuses",null,null,null,null,null,null,"Zones dangereuses",null,null,null,null,null,null,null,null,"Zones dangereuses",null,null,null,null,null,null,"Zones dangereuses",null,null,null,null,null,null,null,null,null,null,"Zones dangereuses",null,null,null,null,null,null,"Zones dangereuses",null,null,null,null,null,null,null,null,"Zones dangereuses",null,null,null,null,null,null,"Zones dangereuses",null,null,null,null,null,null,null,null,null,null,"Zones dangereuses",null,null,null,null,null,null,"Zones dangereuses",null,null,null,null,null,null,null,null,"Zones dangereuses",null,null,null,null,null,null,"Zones dangereuses",null,null,null,null,null,null,null,null,null,null,"Zones dangereuses",null,null,null,null,null,null,"Zones dangereuses",null,null,null,null,null,null,null,null,"Zones dangereuses",null,null,null,null,null,null,"Zones dangereuses",null,null,null,null,null,null,null,null,null,null,"Zones dangereuses",null,null,null,null,null,null,"Zones dangereuses",null,null,null,null,null,null,null,null,"Zones dangereuses",null,null,null,null,null,null,"Zones dangereuses",null,null,null,null,null,null,null,null,null,null,"Zones dangereuses",null,null,null,null,null,null,"Zones dangereuses",null,null,null,null,null,null,null,null,"Zones dangereuses",null,null,null,null,null,null,"Zones dangereuses",null,null,null,null,null,null,null,null,null,null,"Zones dangereuses",null,null,null,null,null,null,"Zones dangereuses",null,null,null,null,null,null,null,null,"Zones dangereuses",null,null,null,null,null,null,"Zones dangereuses",null,null,null,null,null,null,null,null,null,null,"Zones dangereuses",null,null,null,null,null,null,"Zones dangereuses",null,null,null,null,null,null,null,null,"Zones dangereuses",null,null,null,null,null,null,"Zones dangereuses",null,null,null,null,null,null,null,null,null,null,"Zones dangereuses",null,null,null,null,null,null,"Zones dangereuses",null,null,null,null,null,null,null,null,"Zones dangereuses",null,null,null,null,null,null,"Zones dangereuses",null,null,null,null,null,null,null,null,null,null,"Zones dangereuses",null,null,null,null,null,null,"Zones dangereuses",null,null,null,null,null,null,null,null,"Zones dangereuses",null,null,null,null,null,null,"Zones dangereuses",null,null,null,null,null,null,null,null,null,null,"Zones dangereuses",null,null,null,null,null,null,"Zones dangereuses",null,null,null,null,null,null,null,null,"Zones dangereuses",null,null,null,null,null,null,"Zones dangereuses",null,null,null,null,null,null,null,null,null,null,"Zones dangereuses",null,null,null,null,null,null,"Zones dangereuses",null,null,null,null,null,null,null,null,"Zones dangereuses",null,null,null,null,null,null,"Zones dangereuses",null,null,null,null,null,null,null,null,null,null,"Zones dangereuses",null,null,null,null,null,null,"Zones dangereuses",null,null,null,null,null,null,null,null,"Zones dangereuses",null,null,null,null,null,null,"Zones dangereuses",null,null,null,null,null,null,null,null,null,null,"Zones dangereuses",null,null,null,null,null,null,"Zones dangereuses",null,null,null,null,null,null,null,null,"Zones dangereuses",null,null,null,null,null,null,"Zones dangereuses",null,null,null,null,null,null,null,null,null,null,"Zones dangereuses",null,null,null,null,null,null,"Zones dangereuses",null,null,null,null,null,null,null,null,"Zones dangereuses",null,null,null,null,null,null,"Zones dangereuses",null,null,null,null,null,null,null,null,null,null,"Zones dangereuses",null,null,null,null,null,null,"Zones dangereuses",null,null,null,null,null,null,null,null,"Zones dangereuses",null,null,null,null,null,null,"Zones dangereuses",null,null,null,null,null,null,null,null,null,null,"Zones dangereuses",null,null,null,null,null,null,"Zones dangereuses",null,null,null,null,null,null,null,null,"Zones dangereuses",null,null,null,null,null,null,"Zones dangereuses",null,null,null,null,null,null,null,null,null,null,"Zones dangereuses",null,null,null,null,null,null,"Zones dangereuses",null,null,null,null,null,null,null,null,"Zones dangereuses",null,null,null,null,null,null,"Zones dangereuses",null,null,null,null,null,null,null,null,null,null,"Zones dangereuses",null,null,null,null,null,null,"Zones dangereuses",null,null,null,null,null,null,null,null,"Zones dangereuses",null,null,null,null,null,null,"Zones dangereuses",null,null,null,null,null,null,null,null,null,null,"Zones dangereuses",null,null,null,null,null,null,"Zones dangereuses",null,null,null,null,null,null,null,null,"Zones dangereuses",null,null,null,null,null,null,"Zones dangereuses",null,null,null,null,null,null,null,null,null,null,"Zones dangereuses",null,null,null,null,null,null,"Zones dangereuses",null,null,null,null,null,null,null,null,"Zones dangereuses",null,null,null,null,null,null,"Zones dangereuses",null,null,null,null,null,null,null,null,null,null,"Zones dangereuses",null,null,null,null,null,null,"Zones dangereuses",null,null,null,null,null,null,null,null,"Zones dangereuses",null,null,null,null,null,null,"Zones dangereuses",null,null,null,null,null,null,null,null,null,null,"Zones dangereuses",null,null,null,null,null,null,"Zones dangereuses",null,null,null,null,null,null,null,null,"Zones dangereuses",null,null,null,null,null,null,"Zones dangereuses",null,null,null,null,null,null,null,null,null,null,"Zones dangereuses",null,null,null,null,null,null,"Zones dangereuses",null,null,null,null,null,null,null,null,"Zones dangereuses",null,null,null,null,null,null,"Zones dangereuses"]
[null,null,null,null,null,{"$f":"IFERROR(HLOOKUP(HLOOKUP(F$8,DEBUT!$AB$4:$BP$78,3,FALSE),DEBUT!$CP$2:$DI$18,2,FALSE),\"\")","v":""},{"$f":"IFERROR(HLOOKUP(HLOOKUP(F$8,DEBUT!$AB$4:$BP$78,3,FALSE),DEBUT!$CP$2:$DI$18,6,FALSE),\"\")","v":""},{"$f":"IFERROR(HLOOKUP(HLOOKUP(F$8,DEBUT!$AB$4:$BP$78,3,FALSE),DEBUT!$CP$2:$DI$18,10,FALSE),\"\")","v":""},{"$f":"IFERROR(HLOOKUP(HLOOKUP(F$8,DEBUT!$AB$4:$BP$78,3,FALSE),DEBUT!$CP$2:$DI$18,14,FALSE),\"\")","v":""},null,null,null,{"$f":"IFERROR(HLOOKUP(HLOOKUP(M$8,DEBUT!$AB$4:$BP$78,3,FALSE),DEBUT!$CP$2:$DI$18,2,FALSE),\"\")","v":""},{"$f":"IFERROR(HLOOKUP(HLOOKUP(M$8,DEBUT!$AB$4:$BP$78,3,FALSE),DEBUT!$CP$2:$DI$18,6,FALSE),\"\")","v":""},{"$f":"IFERROR(HLOOKUP(HLOOKUP(M$8,DEBUT!$AB$4:$BP$78,3,FALSE),DEBUT!$CP$2:$DI$18,10,FALSE),\"\")","v":""},{"$f":"IFERROR(HLOOKUP(HLOOKUP(M$8,DEBUT!$AB$4:$BP$78,3,FALSE),DEBUT!$CP$2:$DI$18,14,FALSE),\"\")","v":""},null,null,null,null,null,{"$f":"IFERROR(HLOOKUP(HLOOKUP(V$8,DEBUT!$AB$4:$BP$78,3,FALSE),DEBUT!$CP$2:$DI$18,2,FALSE),\"\")","v":""},{"$f":"IFERROR(HLOOKUP(HLOOKUP(V$8,DEBUT!$AB$4:$BP$78,3,FALSE),DEBUT!$CP$2:$DI$18,6,FALSE),\"\")","v":""},{"$f":"IFERROR(HLOOKUP(HLOOKUP(V$8,DEBUT!$AB$4:$BP$78,3,FALSE),DEBUT!$CP$2:$DI$18,10,FALSE),\"\")","v":""},{"$f":"IFERROR(HLOOKUP(HLOOKUP(V$8,DEBUT!$AB$4:$BP$78,3,FALSE),DEBUT!$CP$2:$DI$18,14,FALSE),\"\")","v":""},null,null,null,{"$f":"IFERROR(HLOOKUP(HLOOKUP(AC$8,DEBUT!$AB$4:$BP$78,3,FALSE),DEBUT!$CP$2:$DI$18,2,FALSE),\"\")","v":""},{"$f":"IFERROR(HLOOKUP(HLOOKUP(AC$8,DEBUT!$AB$4:$BP$78,3,FALSE),DEBUT!$CP$2:$DI$18,6,FALSE),\"\")","v":""},{"$f":"IFERROR(HLOOKUP(HLOOKUP(AC$8,DEBUT!$AB$4:$BP$78,3,FALSE),DEBUT!$CP$2:$DI$18,10,FALSE),\"\")","v":""},{"$f":"IFERROR(HLOOKUP(HLOOKUP(AC$8,DEBUT!$AB$4:$BP$78,3,FALSE),DEBUT!$CP$2:$DI$18,14,FALSE),\"\")","v":""},null,null,null,null,null,null,null,{"$f":"IFERROR(HLOOKUP(HLOOKUP(AN$8,DEBUT!$AB$4:$BP$78,3,FALSE),DEBUT!$CP$2:$DI$18,2,FALSE),\"\")","v":""},{"$f":"IFERROR(HLOOKUP(HLOOKUP(AN$8,DEBUT!$AB$4:$BP$78,3,FALSE),DEBUT!$CP$2:$DI$18,6,FALSE),\"\")","v":""},{"$f":"IFERROR(HLOOKUP(HLOOKUP(AN$8,DEBUT!$AB$4:$BP$78,3,FALSE),DEBUT!$CP$2:$DI$18,10,FALSE),\"\")","v":""},{"$f":"IFERROR(HLOOKUP(HLOOKUP(AN$8,DEBUT!$AB$4:$BP$78,3,FALSE),DEBUT!$CP$2:$DI$18,14,FALSE),\"\")","v":""},null,null,null,{"$f":"IFERROR(HLOOKUP(HLOOKUP(AU$8,DEBUT!$AB$4:$BP$78,3,FALSE),DEBUT!$CP$2:$DI$18,2,FALSE),\"\")","v":""},{"$f":"IFERROR(HLOOKUP(HLOOKUP(AU$8,DEBUT!$AB$4:$BP$78,3,FALSE),DEBUT!$CP$2:$DI$18,6,FALSE),\"\")","v":""},{"$f":"IFERROR(HLOOKUP(HLOOKUP(AU$8,DEBUT!$AB$4:$BP$78,3,FALSE),DEBUT!$CP$2:$DI$18,10,FALSE),\"\")","v":""},{"$f":"IFERROR(HLOOKUP(HLOOKUP(AU$8,DEBUT!$AB$4:$BP$78,3,FALSE),DEBUT!$CP$2:$DI$18,14,FALSE),\"\")","v":""},null,null,null,null,null,{"$f":"IFERROR(HLOOKUP(HLOOKUP(BD$8,DEBUT!$AB$4:$BP$78,3,FALSE),DEBUT!$CP$2:$DI$18,2,FALSE),\"\")","v":""},{"$f":"IFERROR(HLOOKUP(HLOOKUP(BD$8,DEBUT!$AB$4:$BP$78,3,FALSE),DEBUT!$CP$2:$DI$18,6,FALSE),\"\")","v":""},{"$f":"IFERROR(HLOOKUP(HLOOKUP(BD$8,DEBUT!$AB$4:$BP$78,3,FALSE),DEBUT!$CP$2:$DI$18,10,FALSE),\"\")","v":""},{"$f":"IFERROR(HLOOKUP(HLOOKUP(BD$8,DEBUT!$AB$4:$BP$78,3,FALSE),DEBUT!$CP$2:$DI$18,14,FALSE),\"\")","v":""},null,null,null,{"$f":"IFERROR(HLOOKUP(HLOOKUP(BK$8,DEBUT!$AB$4:$BP$78,3,FALSE),DEBUT!$CP$2:$DI$18,2,FALSE),\"\")","v":""},{"$f":"IFERROR(HLOOKUP(HLOOKUP(BK$8,DEBUT!$AB$4:$BP$78,3,FALSE),DEBUT!$CP$2:$DI$18,6,FALSE),\"\")","v":""},{"$f":"IFERROR(HLOOKUP(HLOOKUP(BK$8,DEBUT!$AB$4:$BP$78,3,FALSE),DEBUT!$CP$2:$DI$18,10,FALSE),\"\")","v":""},{"$f":"IFERROR(HLOOKUP(HLOOKUP(BK$8,DEBUT!$AB$4:$BP$78,3,FALSE),DEBUT!$CP$2:$DI$18,14,FALSE),\"\")","v":""},null,null,null,null,null,null,null,{"$f":"IFERROR(HLOOKUP(HLOOKUP(BV$8,DEBUT!$AB$4:$BP$78,3,FALSE),DEBUT!$CP$2:$DI$18,2,FALSE),\"\")","v":""},{"$f":"IFERROR(HLOOKUP(HLOOKUP(BV$8,DEBUT!$AB$4:$BP$78,3,FALSE),DEBUT!$CP$2:$DI$18,6,FALSE),\"\")","v":""},{"$f":"IFERROR(HLOOKUP(HLOOKUP(BV$8,DEBUT!$AB$4:$BP$78,3,FALSE),DEBUT!$CP$2:$DI$18,10,FALSE),\"\")","v":""},{"$f":"IFERROR(HLOOKUP(HLOOKUP(BV$8,DEBUT!$AB$4:$BP$78,3,FALSE),DEBUT!$CP$2:$DI$18,14,FALSE),\"\")","v":""},null,null,null,{"$f":"IFERROR(HLOOKUP(HLOOKUP(CC$8,DEBUT!$AB$4:$BP$78,3,FALSE),DEBUT!$CP$2:$DI$18,2,FALSE),\"\")","v":""},{"$f":"IFERROR(HLOOKUP(HLOOKUP(CC$8,DEBUT!$AB$4:$BP$78,3,FALSE),DEBUT!$CP$2:$DI$18,6,FALSE),\"\")","v":""},{"$f":"IFERROR(HLOOKUP(HLOOKUP(CC$8,DEBUT!$AB$4:$BP$78,3,FALSE),DEBUT!$CP$2:$DI$18,10,FALSE),\"\")","v":""},{"$f":"IFERROR(HLOOKUP(HLOOKUP(CC$8,DEBUT!$AB$4:$BP$78,3,FALSE),DEBUT!$CP$2:$DI$18,14,FALSE),\"\")","v":""},null,null,null,null,null,{"$f":"IFERROR(HLOOKUP(HLOOKUP(CL$8,DEBUT!$AB$4:$BP$78,3,FALSE),DEBUT!$CP$2:$DI$18,2,FALSE),\"\")","v":""},{"$f":"IFERROR(HLOOKUP(HLOOKUP(CL$8,DEBUT!$AB$4:$BP$78,3,FALSE),DEBUT!$CP$2:$DI$18,6,FALSE),\"\")","v":""},{"$f":"IFERROR(HLOOKUP(HLOOKUP(CL$8,DEBUT!$AB$4:$BP$78,3,FALSE),DEBUT!$CP$2:$DI$18,10,FALSE),\"\")","v":""},{"$f":"IFERROR(HLOOKUP(HLOOKUP(CL$8,DEBUT!$AB$4:$BP$78,3,FALSE),DEBUT!$CP$2:$DI$18,14,FALSE),\"\")","v":""},null,null,null,{"$f":"IFERROR(HLOOKUP(HLOOKUP(CS$8,DEBUT!$AB$4:$BP$78,3,FALSE),DEBUT!$CP$2:$DI$18,2,FALSE),\"\")","v":""},{"$f":"IFERROR(HLOOKUP(HLOOKUP(CS$8,DEBUT!$AB$4:$BP$78,3,FALSE),DEBUT!$CP$2:$DI$18,6,FALSE),\"\")","v":""},{"$f":"IFERROR(HLOOKUP(HLOOKUP(CS$8,DEBUT!$AB$4:$BP$78,3,FALSE),DEBUT!$CP$2:$DI$18,10,FALSE),\"\")","v":""},{"$f":"IFERROR(HLOOKUP(HLOOKUP(CS$8,DEBUT!$AB$4:$BP$78,3,FALSE),DEBUT!$CP$2:$DI$18,14,FALSE),\"\")","v":""},null,null,null,null,null,null,null,{"$f":"IFERROR(HLOOKUP(HLOOKUP(DD$8,DEBUT!$AB$4:$BP$78,3,FALSE),DEBUT!$CP$2:$DI$18,2,FALSE),\"\")","v":""},{"$f":"IFERROR(HLOOKUP(HLOOKUP(DD$8,DEBUT!$AB$4:$BP$78,3,FALSE),DEBUT!$CP$2:$DI$18,6,FALSE),\"\")","v":""},{"$f":"IFERROR(HLOOKUP(HLOOKUP(DD$8,DEBUT!$AB$4:$BP$78,3,FALSE),DEBUT!$CP$2:$DI$18,10,FALSE),\"\")","v":""},{"$f":"IFERROR(HLOOKUP(HLOOKUP(DD$8,DEBUT!$AB$4:$BP$78,3,FALSE),DEBUT!$CP$2:$DI$18,14,FALSE),\"\")","v":""},null,null,null,{"$f":"IFERROR(HLOOKUP(HLOOKUP(DK$8,DEBUT!$AB$4:$BP$78,3,FALSE),DEBUT!$CP$2:$DI$18,2,FALSE),\"\")","v":""},{"$f":"IFERROR(HLOOKUP(HLOOKUP(DK$8,DEBUT!$AB$4:$BP$78,3,FALSE),DEBUT!$CP$2:$DI$18,6,FALSE),\"\")","v":""},{"$f":"IFERROR(HLOOKUP(HLOOKUP(DK$8,DEBUT!$AB$4:$BP$78,3,FALSE),DEBUT!$CP$2:$DI$18,10,FALSE),\"\")","v":""},{"$f":"IFERROR(HLOOKUP(HLOOKUP(DK$8,DEBUT!$AB$4:$BP$78,3,FALSE),DEBUT!$CP$2:$DI$18,14,FALSE),\"\")","v":""},null,null,null,null,null,{"$f":"IFERROR(HLOOKUP(HLOOKUP(DT$8,DEBUT!$AB$4:$BP$78,3,FALSE),DEBUT!$CP$2:$DI$18,2,FALSE),\"\")","v":""},{"$f":"IFERROR(HLOOKUP(HLOOKUP(DT$8,DEBUT!$AB$4:$BP$78,3,FALSE),DEBUT!$CP$2:$DI$18,6,FALSE),\"\")","v":""},{"$f":"IFERROR(HLOOKUP(HLOOKUP(DT$8,DEBUT!$AB$4:$BP$78,3,FALSE),DEBUT!$CP$2:$DI$18,10,FALSE),\"\")","v":""},{"$f":"IFERROR(HLOOKUP(HLOOKUP(DT$8,DEBUT!$AB$4:$BP$78,3,FALSE),DEBUT!$CP$2:$DI$18,14,FALSE),\"\")","v":""},null,null,null,{"$f":"IFERROR(HLOOKUP(HLOOKUP(EA$8,DEBUT!$AB$4:$BP$78,3,FALSE),DEBUT!$CP$2:$DI$18,2,FALSE),\"\")","v":""},{"$f":"IFERROR(HLOOKUP(HLOOKUP(EA$8,DEBUT!$AB$4:$BP$78,3,FALSE),DEBUT!$CP$2:$DI$18,6,FALSE),\"\")","v":""},{"$f":"IFERROR(HLOOKUP(HLOOKUP(EA$8,DEBUT!$AB$4:$BP$78,3,FALSE),DEBUT!$CP$2:$DI$18,10,FALSE),\"\")","v":""},{"$f":"IFERROR(HLOOKUP(HLOOKUP(EA$8,DEBUT!$AB$4:$BP$78,3,FALSE),DEBUT!$CP$2:$DI$18,14,FALSE),\"\")","v":""},null,null,null,null,null,null,null,{"$f":"IFERROR(HLOOKUP(HLOOKUP(EL$8,DEBUT!$AB$4:$BP$78,3,FALSE),DEBUT!$CP$2:$DI$18,2,FALSE),\"\")","v":""},{"$f":"IFERROR(HLOOKUP(HLOOKUP(EL$8,DEBUT!$AB$4:$BP$78,3,FALSE),DEBUT!$CP$2:$DI$18,6,FALSE),\"\")","v":""},{"$f":"IFERROR(HLOOKUP(HLOOKUP(EL$8,DEBUT!$AB$4:$BP$78,3,FALSE),DEBUT!$CP$2:$DI$18,10,FALSE),\"\")","v":""},{"$f":"IFERROR(HLOOKUP(HLOOKUP(EL$8,DEBUT!$AB$4:$BP$78,3,FALSE),DEBUT!$CP$2:$DI$18,14,FALSE),\"\")","v":""},null,null,null,{"$f":"IFERROR(HLOOKUP(HLOOKUP(ES$8,DEBUT!$AB$4:$BP$78,3,FALSE),DEBUT!$CP$2:$DI$18,2,FALSE),\"\")","v":""},{"$f":"IFERROR(HLOOKUP(HLOOKUP(ES$8,DEBUT!$AB$4:$BP$78,3,FALSE),DEBUT!$CP$2:$DI$18,6,FALSE),\"\")","v":""},{"$f":"IFERROR(HLOOKUP(HLOOKUP(ES$8,DEBUT!$AB$4:$BP$78,3,FALSE),DEBUT!$CP$2:$DI$18,10,FALSE),\"\")","v":""},{"$f":"IFERROR(HLOOKUP(HLOOKUP(ES$8,DEBUT!$AB$4:$BP$78,3,FALSE),DEBUT!$CP$2:$DI$18,14,FALSE),\"\")","v":""},null,null,null,null,null,{"$f":"IFERROR(HLOOKUP(HLOOKUP(FB$8,DEBUT!$AB$4:$BP$78,3,FALSE),DEBUT!$CP$2:$DI$18,2,FALSE),\"\")","v":""},{"$f":"IFERROR(HLOOKUP(HLOOKUP(FB$8,DEBUT!$AB$4:$BP$78,3,FALSE),DEBUT!$CP$2:$DI$18,6,FALSE),\"\")","v":""},{"$f":"IFERROR(HLOOKUP(HLOOKUP(FB$8,DEBUT!$AB$4:$BP$78,3,FALSE),DEBUT!$CP$2:$DI$18,10,FALSE),\"\")","v":""},{"$f":"IFERROR(HLOOKUP(HLOOKUP(FB$8,DEBUT!$AB$4:$BP$78,3,FALSE),DEBUT!$CP$2:$DI$18,14,FALSE),\"\")","v":""},null,null,null,{"$f":"IFERROR(HLOOKUP(HLOOKUP(FI$8,DEBUT!$AB$4:$BP$78,3,FALSE),DEBUT!$CP$2:$DI$18,2,FALSE),\"\")","v":""},{"$f":"IFERROR(HLOOKUP(HLOOKUP(FI$8,DEBUT!$AB$4:$BP$78,3,FALSE),DEBUT!$CP$2:$DI$18,6,FALSE),\"\")","v":""},{"$f":"IFERROR(HLOOKUP(HLOOKUP(FI$8,DEBUT!$AB$4:$BP$78,3,FALSE),DEBUT!$CP$2:$DI$18,10,FALSE),\"\")","v":""},{"$f":"IFERROR(HLOOKUP(HLOOKUP(FI$8,DEBUT!$AB$4:$BP$78,3,FALSE),DEBUT!$CP$2:$DI$18,14,FALSE),\"\")","v":""},null,null,null,null,null,null,null,{"$f":"IFERROR(HLOOKUP(HLOOKUP(FT$8,DEBUT!$AB$4:$BP$78,3,FALSE),DEBUT!$CP$2:$DI$18,2,FALSE),\"\")","v":""},{"$f":"IFERROR(HLOOKUP(HLOOKUP(FT$8,DEBUT!$AB$4:$BP$78,3,FALSE),DEBUT!$CP$2:$DI$18,6,FALSE),\"\")","v":""},{"$f":"IFERROR(HLOOKUP(HLOOKUP(FT$8,DEBUT!$AB$4:$BP$78,3,FALSE),DEBUT!$CP$2:$DI$18,10,FALSE),\"\")","v":""},{"$f":"IFERROR(HLOOKUP(HLOOKUP(FT$8,DEBUT!$AB$4:$BP$78,3,FALSE),DEBUT!$CP$2:$DI$18,14,FALSE),\"\")","v":""},null,null,null,{"$f":"IFERROR(HLOOKUP(HLOOKUP(GA$8,DEBUT!$AB$4:$BP$78,3,FALSE),DEBUT!$CP$2:$DI$18,2,FALSE),\"\")","v":""},{"$f":"IFERROR(HLOOKUP(HLOOKUP(GA$8,DEBUT!$AB$4:$BP$78,3,FALSE),DEBUT!$CP$2:$DI$18,6,FALSE),\"\")","v":""},{"$f":"IFERROR(HLOOKUP(HLOOKUP(GA$8,DEBUT!$AB$4:$BP$78,3,FALSE),DEBUT!$CP$2:$DI$18,10,FALSE),\"\")","v":""},{"$f":"IFERROR(HLOOKUP(HLOOKUP(GA$8,DEBUT!$AB$4:$BP$78,3,FALSE),DEBUT!$CP$2:$DI$18,14,FALSE),\"\")","v":""},null,null,null,null,null,{"$f":"IFERROR(HLOOKUP(HLOOKUP(GJ$8,DEBUT!$AB$4:$BP$78,3,FALSE),DEBUT!$CP$2:$DI$18,2,FALSE),\"\")","v":""},{"$f":"IFERROR(HLOOKUP(HLOOKUP(GJ$8,DEBUT!$AB$4:$BP$78,3,FALSE),DEBUT!$CP$2:$DI$18,6,FALSE),\"\")","v":""},{"$f":"IFERROR(HLOOKUP(HLOOKUP(GJ$8,DEBUT!$AB$4:$BP$78,3,FALSE),DEBUT!$CP$2:$DI$18,10,FALSE),\"\")","v":""},{"$f":"IFERROR(HLOOKUP(HLOOKUP(GJ$8,DEBUT!$AB$4:$BP$78,3,FALSE),DEBUT!$CP$2:$DI$18,14,FALSE),\"\")","v":""},null,null,null,{"$f":"IFERROR(HLOOKUP(HLOOKUP(GQ$8,DEBUT!$AB$4:$BP$78,3,FALSE),DEBUT!$CP$2:$DI$18,2,FALSE),\"\")","v":""},{"$f":"IFERROR(HLOOKUP(HLOOKUP(GQ$8,DEBUT!$AB$4:$BP$78,3,FALSE),DEBUT!$CP$2:$DI$18,6,FALSE),\"\")","v":""},{"$f":"IFERROR(HLOOKUP(HLOOKUP(GQ$8,DEBUT!$AB$4:$BP$78,3,FALSE),DEBUT!$CP$2:$DI$18,10,FALSE),\"\")","v":""},{"$f":"IFERROR(HLOOKUP(HLOOKUP(GQ$8,DEBUT!$AB$4:$BP$78,3,FALSE),DEBUT!$CP$2:$DI$18,14,FALSE),\"\")","v":""},null,null,null,null,null,null,null,{"$f":"IFERROR(HLOOKUP(HLOOKUP(HB$8,DEBUT!$AB$4:$BP$78,3,FALSE),DEBUT!$CP$2:$DI$18,2,FALSE),\"\")","v":""},{"$f":"IFERROR(HLOOKUP(HLOOKUP(HB$8,DEBUT!$AB$4:$BP$78,3,FALSE),DEBUT!$CP$2:$DI$18,6,FALSE),\"\")","v":""},{"$f":"IFERROR(HLOOKUP(HLOOKUP(HB$8,DEBUT!$AB$4:$BP$78,3,FALSE),DEBUT!$CP$2:$DI$18,10,FALSE),\"\")","v":""},{"$f":"IFERROR(HLOOKUP(HLOOKUP(HB$8,DEBUT!$AB$4:$BP$78,3,FALSE),DEBUT!$CP$2:$DI$18,14,FALSE),\"\")","v":""},null,null,null,{"$f":"IFERROR(HLOOKUP(HLOOKUP(HI$8,DEBUT!$AB$4:$BP$78,3,FALSE),DEBUT!$CP$2:$DI$18,2,FALSE),\"\")","v":""},{"$f":"IFERROR(HLOOKUP(HLOOKUP(HI$8,DEBUT!$AB$4:$BP$78,3,FALSE),DEBUT!$CP$2:$DI$18,6,FALSE),\"\")","v":""},{"$f":"IFERROR(HLOOKUP(HLOOKUP(HI$8,DEBUT!$AB$4:$BP$78,3,FALSE),DEBUT!$CP$2:$DI$18,10,FALSE),\"\")","v":""},{"$f":"IFERROR(HLOOKUP(HLOOKUP(HI$8,DEBUT!$AB$4:$BP$78,3,FALSE),DEBUT!$CP$2:$DI$18,14,FALSE),\"\")","v":""},null,null,null,null,null,{"$f":"IFERROR(HLOOKUP(HLOOKUP(HR$8,DEBUT!$AB$4:$BP$78,3,FALSE),DEBUT!$CP$2:$DI$18,2,FALSE),\"\")","v":""},{"$f":"IFERROR(HLOOKUP(HLOOKUP(HR$8,DEBUT!$AB$4:$BP$78,3,FALSE),DEBUT!$CP$2:$DI$18,6,FALSE),\"\")","v":""},{"$f":"IFERROR(HLOOKUP(HLOOKUP(HR$8,DEBUT!$AB$4:$BP$78,3,FALSE),DEBUT!$CP$2:$DI$18,10,FALSE),\"\")","v":""},{"$f":"IFERROR(HLOOKUP(HLOOKUP(HR$8,DEBUT!$AB$4:$BP$78,3,FALSE),DEBUT!$CP$2:$DI$18,14,FALSE),\"\")","v":""},null,null,null,{"$f":"IFERROR(HLOOKUP(HLOOKUP(HY$8,DEBUT!$AB$4:$BP$78,3,FALSE),DEBUT!$CP$2:$DI$18,2,FALSE),\"\")","v":""},{"$f":"IFERROR(HLOOKUP(HLOOKUP(HY$8,DEBUT!$AB$4:$BP$78,3,FALSE),DEBUT!$CP$2:$DI$18,6,FALSE),\"\")","v":""},{"$f":"IFERROR(HLOOKUP(HLOOKUP(HY$8,DEBUT!$AB$4:$BP$78,3,FALSE),DEBUT!$CP$2:$DI$18,10,FALSE),\"\")","v":""},{"$f":"IFERROR(HLOOKUP(HLOOKUP(HY$8,DEBUT!$AB$4:$BP$78,3,FALSE),DEBUT!$CP$2:$DI$18,14,FALSE),\"\")","v":""},null,null,null,null,null,null,null,{"$f":"IFERROR(HLOOKUP(HLOOKUP(IJ$8,DEBUT!$AB$4:$BP$78,3,FALSE),DEBUT!$CP$2:$DI$18,2,FALSE),\"\")","v":""},{"$f":"IFERROR(HLOOKUP(HLOOKUP(IJ$8,DEBUT!$AB$4:$BP$78,3,FALSE),DEBUT!$CP$2:$DI$18,6,FALSE),\"\")","v":""},{"$f":"IFERROR(HLOOKUP(HLOOKUP(IJ$8,DEBUT!$AB$4:$BP$78,3,FALSE),DEBUT!$CP$2:$DI$18,10,FALSE),\"\")","v":""},{"$f":"IFERROR(HLOOKUP(HLOOKUP(IJ$8,DEBUT!$AB$4:$BP$78,3,FALSE),DEBUT!$CP$2:$DI$18,14,FALSE),\"\")","v":""},null,null,null,{"$f":"IFERROR(HLOOKUP(HLOOKUP(IQ$8,DEBUT!$AB$4:$BP$78,3,FALSE),DEBUT!$CP$2:$DI$18,2,FALSE),\"\")","v":""},{"$f":"IFERROR(HLOOKUP(HLOOKUP(IQ$8,DEBUT!$AB$4:$BP$78,3,FALSE),DEBUT!$CP$2:$DI$18,6,FALSE),\"\")","v":""},{"$f":"IFERROR(HLOOKUP(HLOOKUP(IQ$8,DEBUT!$AB$4:$BP$78,3,FALSE),DEBUT!$CP$2:$DI$18,10,FALSE),\"\")","v":""},{"$f":"IFERROR(HLOOKUP(HLOOKUP(IQ$8,DEBUT!$AB$4:$BP$78,3,FALSE),DEBUT!$CP$2:$DI$18,14,FALSE),\"\")","v":""},null,null,null,null,null,{"$f":"IFERROR(HLOOKUP(HLOOKUP(IZ$8,DEBUT!$AB$4:$BP$78,3,FALSE),DEBUT!$CP$2:$DI$18,2,FALSE),\"\")","v":""},{"$f":"IFERROR(HLOOKUP(HLOOKUP(IZ$8,DEBUT!$AB$4:$BP$78,3,FALSE),DEBUT!$CP$2:$DI$18,6,FALSE),\"\")","v":""},{"$f":"IFERROR(HLOOKUP(HLOOKUP(IZ$8,DEBUT!$AB$4:$BP$78,3,FALSE),DEBUT!$CP$2:$DI$18,10,FALSE),\"\")","v":""},{"$f":"IFERROR(HLOOKUP(HLOOKUP(IZ$8,DEBUT!$AB$4:$BP$78,3,FALSE),DEBUT!$CP$2:$DI$18,14,FALSE),\"\")","v":""},null,null,null,{"$f":"IFERROR(HLOOKUP(HLOOKUP(JG$8,DEBUT!$AB$4:$BP$78,3,FALSE),DEBUT!$CP$2:$DI$18,2,FALSE),\"\")","v":""},{"$f":"IFERROR(HLOOKUP(HLOOKUP(JG$8,DEBUT!$AB$4:$BP$78,3,FALSE),DEBUT!$CP$2:$DI$18,6,FALSE),\"\")","v":""},{"$f":"IFERROR(HLOOKUP(HLOOKUP(JG$8,DEBUT!$AB$4:$BP$78,3,FALSE),DEBUT!$CP$2:$DI$18,10,FALSE),\"\")","v":""},{"$f":"IFERROR(HLOOKUP(HLOOKUP(JG$8,DEBUT!$AB$4:$BP$78,3,FALSE),DEBUT!$CP$2:$DI$18,14,FALSE),\"\")","v":""},null,null,null,null,null,null,null,{"$f":"IFERROR(HLOOKUP(HLOOKUP(JR$8,DEBUT!$AB$4:$BP$78,3,FALSE),DEBUT!$CP$2:$DI$18,2,FALSE),\"\")","v":""},{"$f":"IFERROR(HLOOKUP(HLOOKUP(JR$8,DEBUT!$AB$4:$BP$78,3,FALSE),DEBUT!$CP$2:$DI$18,6,FALSE),\"\")","v":""},{"$f":"IFERROR(HLOOKUP(HLOOKUP(JR$8,DEBUT!$AB$4:$BP$78,3,FALSE),DEBUT!$CP$2:$DI$18,10,FALSE),\"\")","v":""},{"$f":"IFERROR(HLOOKUP(HLOOKUP(JR$8,DEBUT!$AB$4:$BP$78,3,FALSE),DEBUT!$CP$2:$DI$18,14,FALSE),\"\")","v":""},null,null,null,{"$f":"IFERROR(HLOOKUP(HLOOKUP(JY$8,DEBUT!$AB$4:$BP$78,3,FALSE),DEBUT!$CP$2:$DI$18,2,FALSE),\"\")","v":""},{"$f":"IFERROR(HLOOKUP(HLOOKUP(JY$8,DEBUT!$AB$4:$BP$78,3,FALSE),DEBUT!$CP$2:$DI$18,6,FALSE),\"\")","v":""},{"$f":"IFERROR(HLOOKUP(HLOOKUP(JY$8,DEBUT!$AB$4:$BP$78,3,FALSE),DEBUT!$CP$2:$DI$18,10,FALSE),\"\")","v":""},{"$f":"IFERROR(HLOOKUP(HLOOKUP(JY$8,DEBUT!$AB$4:$BP$78,3,FALSE),DEBUT!$CP$2:$DI$18,14,FALSE),\"\")","v":""},null,null,null,null,null,{"$f":"IFERROR(HLOOKUP(HLOOKUP(KH$8,DEBUT!$AB$4:$BP$78,3,FALSE),DEBUT!$CP$2:$DI$18,2,FALSE),\"\")","v":""},{"$f":"IFERROR(HLOOKUP(HLOOKUP(KH$8,DEBUT!$AB$4:$BP$78,3,FALSE),DEBUT!$CP$2:$DI$18,6,FALSE),\"\")","v":""},{"$f":"IFERROR(HLOOKUP(HLOOKUP(KH$8,DEBUT!$AB$4:$BP$78,3,FALSE),DEBUT!$CP$2:$DI$18,10,FALSE),\"\")","v":""},{"$f":"IFERROR(HLOOKUP(HLOOKUP(KH$8,DEBUT!$AB$4:$BP$78,3,FALSE),DEBUT!$CP$2:$DI$18,14,FALSE),\"\")","v":""},null,null,null,{"$f":"IFERROR(HLOOKUP(HLOOKUP(KO$8,DEBUT!$AB$4:$BP$78,3,FALSE),DEBUT!$CP$2:$DI$18,2,FALSE),\"\")","v":""},{"$f":"IFERROR(HLOOKUP(HLOOKUP(KO$8,DEBUT!$AB$4:$BP$78,3,FALSE),DEBUT!$CP$2:$DI$18,6,FALSE),\"\")","v":""},{"$f":"IFERROR(HLOOKUP(HLOOKUP(KO$8,DEBUT!$AB$4:$BP$78,3,FALSE),DEBUT!$CP$2:$DI$18,10,FALSE),\"\")","v":""},{"$f":"IFERROR(HLOOKUP(HLOOKUP(KO$8,DEBUT!$AB$4:$BP$78,3,FALSE),DEBUT!$CP$2:$DI$18,14,FALSE),\"\")","v":""},null,null,null,null,null,null,null,{"$f":"IFERROR(HLOOKUP(HLOOKUP(KZ$8,DEBUT!$AB$4:$BP$78,3,FALSE),DEBUT!$CP$2:$DI$18,2,FALSE),\"\")","v":""},{"$f":"IFERROR(HLOOKUP(HLOOKUP(KZ$8,DEBUT!$AB$4:$BP$78,3,FALSE),DEBUT!$CP$2:$DI$18,6,FALSE),\"\")","v":""},{"$f":"IFERROR(HLOOKUP(HLOOKUP(KZ$8,DEBUT!$AB$4:$BP$78,3,FALSE),DEBUT!$CP$2:$DI$18,10,FALSE),\"\")","v":""},{"$f":"IFERROR(HLOOKUP(HLOOKUP(KZ$8,DEBUT!$AB$4:$BP$78,3,FALSE),DEBUT!$CP$2:$DI$18,14,FALSE),\"\")","v":""},null,null,null,{"$f":"IFERROR(HLOOKUP(HLOOKUP(LG$8,DEBUT!$AB$4:$BP$78,3,FALSE),DEBUT!$CP$2:$DI$18,2,FALSE),\"\")","v":""},{"$f":"IFERROR(HLOOKUP(HLOOKUP(LG$8,DEBUT!$AB$4:$BP$78,3,FALSE),DEBUT!$CP$2:$DI$18,6,FALSE),\"\")","v":""},{"$f":"IFERROR(HLOOKUP(HLOOKUP(LG$8,DEBUT!$AB$4:$BP$78,3,FALSE),DEBUT!$CP$2:$DI$18,10,FALSE),\"\")","v":""},{"$f":"IFERROR(HLOOKUP(HLOOKUP(LG$8,DEBUT!$AB$4:$BP$78,3,FALSE),DEBUT!$CP$2:$DI$18,14,FALSE),\"\")","v":""},null,null,null,null,null,{"$f":"IFERROR(HLOOKUP(HLOOKUP(LP$8,DEBUT!$AB$4:$BP$78,3,FALSE),DEBUT!$CP$2:$DI$18,2,FALSE),\"\")","v":""},{"$f":"IFERROR(HLOOKUP(HLOOKUP(LP$8,DEBUT!$AB$4:$BP$78,3,FALSE),DEBUT!$CP$2:$DI$18,6,FALSE),\"\")","v":""},{"$f":"IFERROR(HLOOKUP(HLOOKUP(LP$8,DEBUT!$AB$4:$BP$78,3,FALSE),DEBUT!$CP$2:$DI$18,10,FALSE),\"\")","v":""},{"$f":"IFERROR(HLOOKUP(HLOOKUP(LP$8,DEBUT!$AB$4:$BP$78,3,FALSE),DEBUT!$CP$2:$DI$18,14,FALSE),\"\")","v":""},null,null,null,{"$f":"IFERROR(HLOOKUP(HLOOKUP(LW$8,DEBUT!$AB$4:$BP$78,3,FALSE),DEBUT!$CP$2:$DI$18,2,FALSE),\"\")","v":""},{"$f":"IFERROR(HLOOKUP(HLOOKUP(LW$8,DEBUT!$AB$4:$BP$78,3,FALSE),DEBUT!$CP$2:$DI$18,6,FALSE),\"\")","v":""},{"$f":"IFERROR(HLOOKUP(HLOOKUP(LW$8,DEBUT!$AB$4:$BP$78,3,FALSE),DEBUT!$CP$2:$DI$18,10,FALSE),\"\")","v":""},{"$f":"IFERROR(HLOOKUP(HLOOKUP(LW$8,DEBUT!$AB$4:$BP$78,3,FALSE),DEBUT!$CP$2:$DI$18,14,FALSE),\"\")","v":""},null,null,null,null,null,null,null,{"$f":"IFERROR(HLOOKUP(HLOOKUP(MH$8,DEBUT!$AB$4:$BP$78,3,FALSE),DEBUT!$CP$2:$DI$18,2,FALSE),\"\")","v":""},{"$f":"IFERROR(HLOOKUP(HLOOKUP(MH$8,DEBUT!$AB$4:$BP$78,3,FALSE),DEBUT!$CP$2:$DI$18,6,FALSE),\"\")","v":""},{"$f":"IFERROR(HLOOKUP(HLOOKUP(MH$8,DEBUT!$AB$4:$BP$78,3,FALSE),DEBUT!$CP$2:$DI$18,10,FALSE),\"\")","v":""},{"$f":"IFERROR(HLOOKUP(HLOOKUP(MH$8,DEBUT!$AB$4:$BP$78,3,FALSE),DEBUT!$CP$2:$DI$18,14,FALSE),\"\")","v":""},null,null,null,{"$f":"IFERROR(HLOOKUP(HLOOKUP(MO$8,DEBUT!$AB$4:$BP$78,3,FALSE),DEBUT!$CP$2:$DI$18,2,FALSE),\"\")","v":""},{"$f":"IFERROR(HLOOKUP(HLOOKUP(MO$8,DEBUT!$AB$4:$BP$78,3,FALSE),DEBUT!$CP$2:$DI$18,6,FALSE),\"\")","v":""},{"$f":"IFERROR(HLOOKUP(HLOOKUP(MO$8,DEBUT!$AB$4:$BP$78,3,FALSE),DEBUT!$CP$2:$DI$18,10,FALSE),\"\")","v":""},{"$f":"IFERROR(HLOOKUP(HLOOKUP(MO$8,DEBUT!$AB$4:$BP$78,3,FALSE),DEBUT!$CP$2:$DI$18,14,FALSE),\"\")","v":""},null,null,null,null,null,{"$f":"IFERROR(HLOOKUP(HLOOKUP(MX$8,DEBUT!$AB$4:$BP$78,3,FALSE),DEBUT!$CP$2:$DI$18,2,FALSE),\"\")","v":""},{"$f":"IFERROR(HLOOKUP(HLOOKUP(MX$8,DEBUT!$AB$4:$BP$78,3,FALSE),DEBUT!$CP$2:$DI$18,6,FALSE),\"\")","v":""},{"$f":"IFERROR(HLOOKUP(HLOOKUP(MX$8,DEBUT!$AB$4:$BP$78,3,FALSE),DEBUT!$CP$2:$DI$18,10,FALSE),\"\")","v":""},{"$f":"IFERROR(HLOOKUP(HLOOKUP(MX$8,DEBUT!$AB$4:$BP$78,3,FALSE),DEBUT!$CP$2:$DI$18,14,FALSE),\"\")","v":""},null,null,null,{"$f":"IFERROR(HLOOKUP(HLOOKUP(NE$8,DEBUT!$AB$4:$BP$78,3,FALSE),DEBUT!$CP$2:$DI$18,2,FALSE),\"\")","v":""},{"$f":"IFERROR(HLOOKUP(HLOOKUP(NE$8,DEBUT!$AB$4:$BP$78,3,FALSE),DEBUT!$CP$2:$DI$18,6,FALSE),\"\")","v":""},{"$f":"IFERROR(HLOOKUP(HLOOKUP(NE$8,DEBUT!$AB$4:$BP$78,3,FALSE),DEBUT!$CP$2:$DI$18,10,FALSE),\"\")","v":""},{"$f":"IFERROR(HLOOKUP(HLOOKUP(NE$8,DEBUT!$AB$4:$BP$78,3,FALSE),DEBUT!$CP$2:$DI$18,14,FALSE),\"\")","v":""},null,null,null,null,null,null,null,{"$f":"IFERROR(HLOOKUP(HLOOKUP(NP$8,DEBUT!$AB$4:$BP$78,3,FALSE),DEBUT!$CP$2:$DI$18,2,FALSE),\"\")","v":""},{"$f":"IFERROR(HLOOKUP(HLOOKUP(NP$8,DEBUT!$AB$4:$BP$78,3,FALSE),DEBUT!$CP$2:$DI$18,6,FALSE),\"\")","v":""},{"$f":"IFERROR(HLOOKUP(HLOOKUP(NP$8,DEBUT!$AB$4:$BP$78,3,FALSE),DEBUT!$CP$2:$DI$18,10,FALSE),\"\")","v":""},{"$f":"IFERROR(HLOOKUP(HLOOKUP(NP$8,DEBUT!$AB$4:$BP$78,3,FALSE),DEBUT!$CP$2:$DI$18,14,FALSE),\"\")","v":""},null,null,null,{"$f":"IFERROR(HLOOKUP(HLOOKUP(NW$8,DEBUT!$AB$4:$BP$78,3,FALSE),DEBUT!$CP$2:$DI$18,2,FALSE),\"\")","v":""},{"$f":"IFERROR(HLOOKUP(HLOOKUP(NW$8,DEBUT!$AB$4:$BP$78,3,FALSE),DEBUT!$CP$2:$DI$18,6,FALSE),\"\")","v":""},{"$f":"IFERROR(HLOOKUP(HLOOKUP(NW$8,DEBUT!$AB$4:$BP$78,3,FALSE),DEBUT!$CP$2:$DI$18,10,FALSE),\"\")","v":""},{"$f":"IFERROR(HLOOKUP(HLOOKUP(NW$8,DEBUT!$AB$4:$BP$78,3,FALSE),DEBUT!$CP$2:$DI$18,14,FALSE),\"\")","v":""},null,null,null,null,null,{"$f":"IFERROR(HLOOKUP(HLOOKUP(OF$8,DEBUT!$AB$4:$BP$78,3,FALSE),DEBUT!$CP$2:$DI$18,2,FALSE),\"\")","v":""},{"$f":"IFERROR(HLOOKUP(HLOOKUP(OF$8,DEBUT!$AB$4:$BP$78,3,FALSE),DEBUT!$CP$2:$DI$18,6,FALSE),\"\")","v":""},{"$f":"IFERROR(HLOOKUP(HLOOKUP(OF$8,DEBUT!$AB$4:$BP$78,3,FALSE),DEBUT!$CP$2:$DI$18,10,FALSE),\"\")","v":""},{"$f":"IFERROR(HLOOKUP(HLOOKUP(OF$8,DEBUT!$AB$4:$BP$78,3,FALSE),DEBUT!$CP$2:$DI$18,14,FALSE),\"\")","v":""},null,null,null,{"$f":"IFERROR(HLOOKUP(HLOOKUP(OM$8,DEBUT!$AB$4:$BP$78,3,FALSE),DEBUT!$CP$2:$DI$18,2,FALSE),\"\")","v":""},{"$f":"IFERROR(HLOOKUP(HLOOKUP(OM$8,DEBUT!$AB$4:$BP$78,3,FALSE),DEBUT!$CP$2:$DI$18,6,FALSE),\"\")","v":""},{"$f":"IFERROR(HLOOKUP(HLOOKUP(OM$8,DEBUT!$AB$4:$BP$78,3,FALSE),DEBUT!$CP$2:$DI$18,10,FALSE),\"\")","v":""},{"$f":"IFERROR(HLOOKUP(HLOOKUP(OM$8,DEBUT!$AB$4:$BP$78,3,FALSE),DEBUT!$CP$2:$DI$18,14,FALSE),\"\")","v":""},null,null,null,null,null,null,null,{"$f":"IFERROR(HLOOKUP(HLOOKUP(OX$8,DEBUT!$AB$4:$BP$78,3,FALSE),DEBUT!$CP$2:$DI$18,2,FALSE),\"\")","v":""},{"$f":"IFERROR(HLOOKUP(HLOOKUP(OX$8,DEBUT!$AB$4:$BP$78,3,FALSE),DEBUT!$CP$2:$DI$18,6,FALSE),\"\")","v":""},{"$f":"IFERROR(HLOOKUP(HLOOKUP(OX$8,DEBUT!$AB$4:$BP$78,3,FALSE),DEBUT!$CP$2:$DI$18,10,FALSE),\"\")","v":""},{"$f":"IFERROR(HLOOKUP(HLOOKUP(OX$8,DEBUT!$AB$4:$BP$78,3,FALSE),DEBUT!$CP$2:$DI$18,14,FALSE),\"\")","v":""},null,null,null,{"$f":"IFERROR(HLOOKUP(HLOOKUP(PE$8,DEBUT!$AB$4:$BP$78,3,FALSE),DEBUT!$CP$2:$DI$18,2,FALSE),\"\")","v":""},{"$f":"IFERROR(HLOOKUP(HLOOKUP(PE$8,DEBUT!$AB$4:$BP$78,3,FALSE),DEBUT!$CP$2:$DI$18,6,FALSE),\"\")","v":""},{"$f":"IFERROR(HLOOKUP(HLOOKUP(PE$8,DEBUT!$AB$4:$BP$78,3,FALSE),DEBUT!$CP$2:$DI$18,10,FALSE),\"\")","v":""},{"$f":"IFERROR(HLOOKUP(HLOOKUP(PE$8,DEBUT!$AB$4:$BP$78,3,FALSE),DEBUT!$CP$2:$DI$18,14,FALSE),\"\")","v":""},null,null,null,null,null,{"$f":"IFERROR(HLOOKUP(HLOOKUP(PN$8,DEBUT!$AB$4:$BP$78,3,FALSE),DEBUT!$CP$2:$DI$18,2,FALSE),\"\")","v":""},{"$f":"IFERROR(HLOOKUP(HLOOKUP(PN$8,DEBUT!$AB$4:$BP$78,3,FALSE),DEBUT!$CP$2:$DI$18,6,FALSE),\"\")","v":""},{"$f":"IFERROR(HLOOKUP(HLOOKUP(PN$8,DEBUT!$AB$4:$BP$78,3,FALSE),DEBUT!$CP$2:$DI$18,10,FALSE),\"\")","v":""},{"$f":"IFERROR(HLOOKUP(HLOOKUP(PN$8,DEBUT!$AB$4:$BP$78,3,FALSE),DEBUT!$CP$2:$DI$18,14,FALSE),\"\")","v":""},null,null,null,{"$f":"IFERROR(HLOOKUP(HLOOKUP(PU$8,DEBUT!$AB$4:$BP$78,3,FALSE),DEBUT!$CP$2:$DI$18,2,FALSE),\"\")","v":""},{"$f":"IFERROR(HLOOKUP(HLOOKUP(PU$8,DEBUT!$AB$4:$BP$78,3,FALSE),DEBUT!$CP$2:$DI$18,6,FALSE),\"\")","v":""},{"$f":"IFERROR(HLOOKUP(HLOOKUP(PU$8,DEBUT!$AB$4:$BP$78,3,FALSE),DEBUT!$CP$2:$DI$18,10,FALSE),\"\")","v":""},{"$f":"IFERROR(HLOOKUP(HLOOKUP(PU$8,DEBUT!$AB$4:$BP$78,3,FALSE),DEBUT!$CP$2:$DI$18,14,FALSE),\"\")","v":""},null,null,null,null,null,null,null,{"$f":"IFERROR(HLOOKUP(HLOOKUP(QF$8,DEBUT!$AB$4:$BP$78,3,FALSE),DEBUT!$CP$2:$DI$18,2,FALSE),\"\")","v":""},{"$f":"IFERROR(HLOOKUP(HLOOKUP(QF$8,DEBUT!$AB$4:$BP$78,3,FALSE),DEBUT!$CP$2:$DI$18,6,FALSE),\"\")","v":""},{"$f":"IFERROR(HLOOKUP(HLOOKUP(QF$8,DEBUT!$AB$4:$BP$78,3,FALSE),DEBUT!$CP$2:$DI$18,10,FALSE),\"\")","v":""},{"$f":"IFERROR(HLOOKUP(HLOOKUP(QF$8,DEBUT!$AB$4:$BP$78,3,FALSE),DEBUT!$CP$2:$DI$18,14,FALSE),\"\")","v":""},null,null,null,{"$f":"IFERROR(HLOOKUP(HLOOKUP(QM$8,DEBUT!$AB$4:$BP$78,3,FALSE),DEBUT!$CP$2:$DI$18,2,FALSE),\"\")","v":""},{"$f":"IFERROR(HLOOKUP(HLOOKUP(QM$8,DEBUT!$AB$4:$BP$78,3,FALSE),DEBUT!$CP$2:$DI$18,6,FALSE),\"\")","v":""},{"$f":"IFERROR(HLOOKUP(HLOOKUP(QM$8,DEBUT!$AB$4:$BP$78,3,FALSE),DEBUT!$CP$2:$DI$18,10,FALSE),\"\")","v":""},{"$f":"IFERROR(HLOOKUP(HLOOKUP(QM$8,DEBUT!$AB$4:$BP$78,3,FALSE),DEBUT!$CP$2:$DI$18,14,FALSE),\"\")","v":""},null,null,null,null,null,{"$f":"IFERROR(HLOOKUP(HLOOKUP(QV$8,DEBUT!$AB$4:$BP$78,3,FALSE),DEBUT!$CP$2:$DI$18,2,FALSE),\"\")","v":""},{"$f":"IFERROR(HLOOKUP(HLOOKUP(QV$8,DEBUT!$AB$4:$BP$78,3,FALSE),DEBUT!$CP$2:$DI$18,6,FALSE),\"\")","v":""},{"$f":"IFERROR(HLOOKUP(HLOOKUP(QV$8,DEBUT!$AB$4:$BP$78,3,FALSE),DEBUT!$CP$2:$DI$18,10,FALSE),\"\")","v":""},{"$f":"IFERROR(HLOOKUP(HLOOKUP(QV$8,DEBUT!$AB$4:$BP$78,3,FALSE),DEBUT!$CP$2:$DI$18,14,FALSE),\"\")","v":""},null,null,null,{"$f":"IFERROR(HLOOKUP(HLOOKUP(RC$8,DEBUT!$AB$4:$BP$78,3,FALSE),DEBUT!$CP$2:$DI$18,2,FALSE),\"\")","v":""},{"$f":"IFERROR(HLOOKUP(HLOOKUP(RC$8,DEBUT!$AB$4:$BP$78,3,FALSE),DEBUT!$CP$2:$DI$18,6,FALSE),\"\")","v":""},{"$f":"IFERROR(HLOOKUP(HLOOKUP(RC$8,DEBUT!$AB$4:$BP$78,3,FALSE),DEBUT!$CP$2:$DI$18,10,FALSE),\"\")","v":""},{"$f":"IFERROR(HLOOKUP(HLOOKUP(RC$8,DEBUT!$AB$4:$BP$78,3,FALSE),DEBUT!$CP$2:$DI$18,14,FALSE),\"\")","v":""},null,null,null,null,null,null,null,{"$f":"IFERROR(HLOOKUP(HLOOKUP(RN$8,DEBUT!$AB$4:$BP$78,3,FALSE),DEBUT!$CP$2:$DI$18,2,FALSE),\"\")","v":""},{"$f":"IFERROR(HLOOKUP(HLOOKUP(RN$8,DEBUT!$AB$4:$BP$78,3,FALSE),DEBUT!$CP$2:$DI$18,6,FALSE),\"\")","v":""},{"$f":"IFERROR(HLOOKUP(HLOOKUP(RN$8,DEBUT!$AB$4:$BP$78,3,FALSE),DEBUT!$CP$2:$DI$18,10,FALSE),\"\")","v":""},{"$f":"IFERROR(HLOOKUP(HLOOKUP(RN$8,DEBUT!$AB$4:$BP$78,3,FALSE),DEBUT!$CP$2:$DI$18,14,FALSE),\"\")","v":""},null,null,null,{"$f":"IFERROR(HLOOKUP(HLOOKUP(RU$8,DEBUT!$AB$4:$BP$78,3,FALSE),DEBUT!$CP$2:$DI$18,2,FALSE),\"\")","v":""},{"$f":"IFERROR(HLOOKUP(HLOOKUP(RU$8,DEBUT!$AB$4:$BP$78,3,FALSE),DEBUT!$CP$2:$DI$18,6,FALSE),\"\")","v":""},{"$f":"IFERROR(HLOOKUP(HLOOKUP(RU$8,DEBUT!$AB$4:$BP$78,3,FALSE),DEBUT!$CP$2:$DI$18,10,FALSE),\"\")","v":""},{"$f":"IFERROR(HLOOKUP(HLOOKUP(RU$8,DEBUT!$AB$4:$BP$78,3,FALSE),DEBUT!$CP$2:$DI$18,14,FALSE),\"\")","v":""},null,null,null,null,null,{"$f":"IFERROR(HLOOKUP(HLOOKUP(SD$8,DEBUT!$AB$4:$BP$78,3,FALSE),DEBUT!$CP$2:$DI$18,2,FALSE),\"\")","v":""},{"$f":"IFERROR(HLOOKUP(HLOOKUP(SD$8,DEBUT!$AB$4:$BP$78,3,FALSE),DEBUT!$CP$2:$DI$18,6,FALSE),\"\")","v":""},{"$f":"IFERROR(HLOOKUP(HLOOKUP(SD$8,DEBUT!$AB$4:$BP$78,3,FALSE),DEBUT!$CP$2:$DI$18,10,FALSE),\"\")","v":""},{"$f":"IFERROR(HLOOKUP(HLOOKUP(SD$8,DEBUT!$AB$4:$BP$78,3,FALSE),DEBUT!$CP$2:$DI$18,14,FALSE),\"\")","v":""},null,null,null,{"$f":"IFERROR(HLOOKUP(HLOOKUP(SK$8,DEBUT!$AB$4:$BP$78,3,FALSE),DEBUT!$CP$2:$DI$18,2,FALSE),\"\")","v":""},{"$f":"IFERROR(HLOOKUP(HLOOKUP(SK$8,DEBUT!$AB$4:$BP$78,3,FALSE),DEBUT!$CP$2:$DI$18,6,FALSE),\"\")","v":""},{"$f":"IFERROR(HLOOKUP(HLOOKUP(SK$8,DEBUT!$AB$4:$BP$78,3,FALSE),DEBUT!$CP$2:$DI$18,10,FALSE),\"\")","v":""},{"$f":"IFERROR(HLOOKUP(HLOOKUP(SK$8,DEBUT!$AB$4:$BP$78,3,FALSE),DEBUT!$CP$2:$DI$18,14,FALSE),\"\")","v":""},null,null,null,null,null,null,null,{"$f":"IFERROR(HLOOKUP(HLOOKUP(SV$8,DEBUT!$AB$4:$BP$78,3,FALSE),DEBUT!$CP$2:$DI$18,2,FALSE),\"\")","v":""},{"$f":"IFERROR(HLOOKUP(HLOOKUP(SV$8,DEBUT!$AB$4:$BP$78,3,FALSE),DEBUT!$CP$2:$DI$18,6,FALSE),\"\")","v":""},{"$f":"IFERROR(HLOOKUP(HLOOKUP(SV$8,DEBUT!$AB$4:$BP$78,3,FALSE),DEBUT!$CP$2:$DI$18,10,FALSE),\"\")","v":""},{"$f":"IFERROR(HLOOKUP(HLOOKUP(SV$8,DEBUT!$AB$4:$BP$78,3,FALSE),DEBUT!$CP$2:$DI$18,14,FALSE),\"\")","v":""},null,null,null,{"$f":"IFERROR(HLOOKUP(HLOOKUP(TC$8,DEBUT!$AB$4:$BP$78,3,FALSE),DEBUT!$CP$2:$DI$18,2,FALSE),\"\")","v":""},{"$f":"IFERROR(HLOOKUP(HLOOKUP(TC$8,DEBUT!$AB$4:$BP$78,3,FALSE),DEBUT!$CP$2:$DI$18,6,FALSE),\"\")","v":""},{"$f":"IFERROR(HLOOKUP(HLOOKUP(TC$8,DEBUT!$AB$4:$BP$78,3,FALSE),DEBUT!$CP$2:$DI$18,10,FALSE),\"\")","v":""},{"$f":"IFERROR(HLOOKUP(HLOOKUP(TC$8,DEBUT!$AB$4:$BP$78,3,FALSE),DEBUT!$CP$2:$DI$18,14,FALSE),\"\")","v":""},null,null,null,null,null,{"$f":"IFERROR(HLOOKUP(HLOOKUP(TL$8,DEBUT!$AB$4:$BP$78,3,FALSE),DEBUT!$CP$2:$DI$18,2,FALSE),\"\")","v":""},{"$f":"IFERROR(HLOOKUP(HLOOKUP(TL$8,DEBUT!$AB$4:$BP$78,3,FALSE),DEBUT!$CP$2:$DI$18,6,FALSE),\"\")","v":""},{"$f":"IFERROR(HLOOKUP(HLOOKUP(TL$8,DEBUT!$AB$4:$BP$78,3,FALSE),DEBUT!$CP$2:$DI$18,10,FALSE),\"\")","v":""},{"$f":"IFERROR(HLOOKUP(HLOOKUP(TL$8,DEBUT!$AB$4:$BP$78,3,FALSE),DEBUT!$CP$2:$DI$18,14,FALSE),\"\")","v":""},null,null,null,{"$f":"IFERROR(HLOOKUP(HLOOKUP(TS$8,DEBUT!$AB$4:$BP$78,3,FALSE),DEBUT!$CP$2:$DI$18,2,FALSE),\"\")","v":""},{"$f":"IFERROR(HLOOKUP(HLOOKUP(TS$8,DEBUT!$AB$4:$BP$78,3,FALSE),DEBUT!$CP$2:$DI$18,6,FALSE),\"\")","v":""},{"$f":"IFERROR(HLOOKUP(HLOOKUP(TS$8,DEBUT!$AB$4:$BP$78,3,FALSE),DEBUT!$CP$2:$DI$18,10,FALSE),\"\")","v":""},{"$f":"IFERROR(HLOOKUP(HLOOKUP(TS$8,DEBUT!$AB$4:$BP$78,3,FALSE),DEBUT!$CP$2:$DI$18,14,FALSE),\"\")","v":""},null,null,null,null,null,null,null,{"$f":"IFERROR(HLOOKUP(HLOOKUP(UD$8,DEBUT!$AB$4:$BP$78,3,FALSE),DEBUT!$CP$2:$DI$18,2,FALSE),\"\")","v":""},{"$f":"IFERROR(HLOOKUP(HLOOKUP(UD$8,DEBUT!$AB$4:$BP$78,3,FALSE),DEBUT!$CP$2:$DI$18,6,FALSE),\"\")","v":""},{"$f":"IFERROR(HLOOKUP(HLOOKUP(UD$8,DEBUT!$AB$4:$BP$78,3,FALSE),DEBUT!$CP$2:$DI$18,10,FALSE),\"\")","v":""},{"$f":"IFERROR(HLOOKUP(HLOOKUP(UD$8,DEBUT!$AB$4:$BP$78,3,FALSE),DEBUT!$CP$2:$DI$18,14,FALSE),\"\")","v":""},null,null,null,{"$f":"IFERROR(HLOOKUP(HLOOKUP(UK$8,DEBUT!$AB$4:$BP$78,3,FALSE),DEBUT!$CP$2:$DI$18,2,FALSE),\"\")","v":""},{"$f":"IFERROR(HLOOKUP(HLOOKUP(UK$8,DEBUT!$AB$4:$BP$78,3,FALSE),DEBUT!$CP$2:$DI$18,6,FALSE),\"\")","v":""},{"$f":"IFERROR(HLOOKUP(HLOOKUP(UK$8,DEBUT!$AB$4:$BP$78,3,FALSE),DEBUT!$CP$2:$DI$18,10,FALSE),\"\")","v":""},{"$f":"IFERROR(HLOOKUP(HLOOKUP(UK$8,DEBUT!$AB$4:$BP$78,3,FALSE),DEBUT!$CP$2:$DI$18,14,FALSE),\"\")","v":""},null,null,null,null,null,{"$f":"IFERROR(HLOOKUP(HLOOKUP(UT$8,DEBUT!$AB$4:$BP$78,3,FALSE),DEBUT!$CP$2:$DI$18,2,FALSE),\"\")","v":""},{"$f":"IFERROR(HLOOKUP(HLOOKUP(UT$8,DEBUT!$AB$4:$BP$78,3,FALSE),DEBUT!$CP$2:$DI$18,6,FALSE),\"\")","v":""},{"$f":"IFERROR(HLOOKUP(HLOOKUP(UT$8,DEBUT!$AB$4:$BP$78,3,FALSE),DEBUT!$CP$2:$DI$18,10,FALSE),\"\")","v":""},{"$f":"IFERROR(HLOOKUP(HLOOKUP(UT$8,DEBUT!$AB$4:$BP$78,3,FALSE),DEBUT!$CP$2:$DI$18,14,FALSE),\"\")","v":""},null,null,null,{"$f":"IFERROR(HLOOKUP(HLOOKUP(VA$8,DEBUT!$AB$4:$BP$78,3,FALSE),DEBUT!$CP$2:$DI$18,2,FALSE),\"\")","v":""},{"$f":"IFERROR(HLOOKUP(HLOOKUP(VA$8,DEBUT!$AB$4:$BP$78,3,FALSE),DEBUT!$CP$2:$DI$18,6,FALSE),\"\")","v":""},{"$f":"IFERROR(HLOOKUP(HLOOKUP(VA$8,DEBUT!$AB$4:$BP$78,3,FALSE),DEBUT!$CP$2:$DI$18,10,FALSE),\"\")","v":""},{"$f":"IFERROR(HLOOKUP(HLOOKUP(VA$8,DEBUT!$AB$4:$BP$78,3,FALSE),DEBUT!$CP$2:$DI$18,14,FALSE),\"\")","v":""},null,null,null,null,null,null,null,{"$f":"IFERROR(HLOOKUP(HLOOKUP(VL$8,DEBUT!$AB$4:$BP$78,3,FALSE),DEBUT!$CP$2:$DI$18,2,FALSE),\"\")","v":""},{"$f":"IFERROR(HLOOKUP(HLOOKUP(VL$8,DEBUT!$AB$4:$BP$78,3,FALSE),DEBUT!$CP$2:$DI$18,6,FALSE),\"\")","v":""},{"$f":"IFERROR(HLOOKUP(HLOOKUP(VL$8,DEBUT!$AB$4:$BP$78,3,FALSE),DEBUT!$CP$2:$DI$18,10,FALSE),\"\")","v":""},{"$f":"IFERROR(HLOOKUP(HLOOKUP(VL$8,DEBUT!$AB$4:$BP$78,3,FALSE),DEBUT!$CP$2:$DI$18,14,FALSE),\"\")","v":""},null,null,null,{"$f":"IFERROR(HLOOKUP(HLOOKUP(VS$8,DEBUT!$AB$4:$BP$78,3,FALSE),DEBUT!$CP$2:$DI$18,2,FALSE),\"\")","v":""},{"$f":"IFERROR(HLOOKUP(HLOOKUP(VS$8,DEBUT!$AB$4:$BP$78,3,FALSE),DEBUT!$CP$2:$DI$18,6,FALSE),\"\")","v":""},{"$f":"IFERROR(HLOOKUP(HLOOKUP(VS$8,DEBUT!$AB$4:$BP$78,3,FALSE),DEBUT!$CP$2:$DI$18,10,FALSE),\"\")","v":""},{"$f":"IFERROR(HLOOKUP(HLOOKUP(VS$8,DEBUT!$AB$4:$BP$78,3,FALSE),DEBUT!$CP$2:$DI$18,14,FALSE),\"\")","v":""},null,null,null,null,null,{"$f":"IFERROR(HLOOKUP(HLOOKUP(WB$8,DEBUT!$AB$4:$BP$78,3,FALSE),DEBUT!$CP$2:$DI$18,2,FALSE),\"\")","v":""},{"$f":"IFERROR(HLOOKUP(HLOOKUP(WB$8,DEBUT!$AB$4:$BP$78,3,FALSE),DEBUT!$CP$2:$DI$18,6,FALSE),\"\")","v":""},{"$f":"IFERROR(HLOOKUP(HLOOKUP(WB$8,DEBUT!$AB$4:$BP$78,3,FALSE),DEBUT!$CP$2:$DI$18,10,FALSE),\"\")","v":""},{"$f":"IFERROR(HLOOKUP(HLOOKUP(WB$8,DEBUT!$AB$4:$BP$78,3,FALSE),DEBUT!$CP$2:$DI$18,14,FALSE),\"\")","v":""},null,null,null,{"$f":"IFERROR(HLOOKUP(HLOOKUP(WI$8,DEBUT!$AB$4:$BP$78,3,FALSE),DEBUT!$CP$2:$DI$18,2,FALSE),\"\")","v":""},{"$f":"IFERROR(HLOOKUP(HLOOKUP(WI$8,DEBUT!$AB$4:$BP$78,3,FALSE),DEBUT!$CP$2:$DI$18,6,FALSE),\"\")","v":""},{"$f":"IFERROR(HLOOKUP(HLOOKUP(WI$8,DEBUT!$AB$4:$BP$78,3,FALSE),DEBUT!$CP$2:$DI$18,10,FALSE),\"\")","v":""},{"$f":"IFERROR(HLOOKUP(HLOOKUP(WI$8,DEBUT!$AB$4:$BP$78,3,FALSE),DEBUT!$CP$2:$DI$18,14,FALSE),\"\")","v":""},null,null,null,null,null,null,null,{"$f":"IFERROR(HLOOKUP(HLOOKUP(WT$8,DEBUT!$AB$4:$BP$78,3,FALSE),DEBUT!$CP$2:$DI$18,2,FALSE),\"\")","v":""},{"$f":"IFERROR(HLOOKUP(HLOOKUP(WT$8,DEBUT!$AB$4:$BP$78,3,FALSE),DEBUT!$CP$2:$DI$18,6,FALSE),\"\")","v":""},{"$f":"IFERROR(HLOOKUP(HLOOKUP(WT$8,DEBUT!$AB$4:$BP$78,3,FALSE),DEBUT!$CP$2:$DI$18,10,FALSE),\"\")","v":""},{"$f":"IFERROR(HLOOKUP(HLOOKUP(WT$8,DEBUT!$AB$4:$BP$78,3,FALSE),DEBUT!$CP$2:$DI$18,14,FALSE),\"\")","v":""},null,null,null,{"$f":"IFERROR(HLOOKUP(HLOOKUP(XA$8,DEBUT!$AB$4:$BP$78,3,FALSE),DEBUT!$CP$2:$DI$18,2,FALSE),\"\")","v":""},{"$f":"IFERROR(HLOOKUP(HLOOKUP(XA$8,DEBUT!$AB$4:$BP$78,3,FALSE),DEBUT!$CP$2:$DI$18,6,FALSE),\"\")","v":""},{"$f":"IFERROR(HLOOKUP(HLOOKUP(XA$8,DEBUT!$AB$4:$BP$78,3,FALSE),DEBUT!$CP$2:$DI$18,10,FALSE),\"\")","v":""},{"$f":"IFERROR(HLOOKUP(HLOOKUP(XA$8,DEBUT!$AB$4:$BP$78,3,FALSE),DEBUT!$CP$2:$DI$18,14,FALSE),\"\")","v":""},null,null,null,null,null,{"$f":"IFERROR(HLOOKUP(HLOOKUP(XJ$8,DEBUT!$AB$4:$BP$78,3,FALSE),DEBUT!$CP$2:$DI$18,2,FALSE),\"\")","v":""},{"$f":"IFERROR(HLOOKUP(HLOOKUP(XJ$8,DEBUT!$AB$4:$BP$78,3,FALSE),DEBUT!$CP$2:$DI$18,6,FALSE),\"\")","v":""},{"$f":"IFERROR(HLOOKUP(HLOOKUP(XJ$8,DEBUT!$AB$4:$BP$78,3,FALSE),DEBUT!$CP$2:$DI$18,10,FALSE),\"\")","v":""},{"$f":"IFERROR(HLOOKUP(HLOOKUP(XJ$8,DEBUT!$AB$4:$BP$78,3,FALSE),DEBUT!$CP$2:$DI$18,14,FALSE),\"\")","v":""},null,null,null,{"$f":"IFERROR(HLOOKUP(HLOOKUP(XQ$8,DEBUT!$AB$4:$BP$78,3,FALSE),DEBUT!$CP$2:$DI$18,2,FALSE),\"\")","v":""},{"$f":"IFERROR(HLOOKUP(HLOOKUP(XQ$8,DEBUT!$AB$4:$BP$78,3,FALSE),DEBUT!$CP$2:$DI$18,6,FALSE),\"\")","v":""},{"$f":"IFERROR(HLOOKUP(HLOOKUP(XQ$8,DEBUT!$AB$4:$BP$78,3,FALSE),DEBUT!$CP$2:$DI$18,10,FALSE),\"\")","v":""},{"$f":"IFERROR(HLOOKUP(HLOOKUP(XQ$8,DEBUT!$AB$4:$BP$78,3,FALSE),DEBUT!$CP$2:$DI$18,14,FALSE),\"\")","v":""},null,null,null,null,null,null,null,{"$f":"IFERROR(HLOOKUP(HLOOKUP(YB$8,DEBUT!$AB$4:$BP$78,3,FALSE),DEBUT!$CP$2:$DI$18,2,FALSE),\"\")","v":""},{"$f":"IFERROR(HLOOKUP(HLOOKUP(YB$8,DEBUT!$AB$4:$BP$78,3,FALSE),DEBUT!$CP$2:$DI$18,6,FALSE),\"\")","v":""},{"$f":"IFERROR(HLOOKUP(HLOOKUP(YB$8,DEBUT!$AB$4:$BP$78,3,FALSE),DEBUT!$CP$2:$DI$18,10,FALSE),\"\")","v":""},{"$f":"IFERROR(HLOOKUP(HLOOKUP(YB$8,DEBUT!$AB$4:$BP$78,3,FALSE),DEBUT!$CP$2:$DI$18,14,FALSE),\"\")","v":""},null,null,null,{"$f":"IFERROR(HLOOKUP(HLOOKUP(YI$8,DEBUT!$AB$4:$BP$78,3,FALSE),DEBUT!$CP$2:$DI$18,2,FALSE),\"\")","v":""},{"$f":"IFERROR(HLOOKUP(HLOOKUP(YI$8,DEBUT!$AB$4:$BP$78,3,FALSE),DEBUT!$CP$2:$DI$18,6,FALSE),\"\")","v":""},{"$f":"IFERROR(HLOOKUP(HLOOKUP(YI$8,DEBUT!$AB$4:$BP$78,3,FALSE),DEBUT!$CP$2:$DI$18,10,FALSE),\"\")","v":""},{"$f":"IFERROR(HLOOKUP(HLOOKUP(YI$8,DEBUT!$AB$4:$BP$78,3,FALSE),DEBUT!$CP$2:$DI$18,14,FALSE),\"\")","v":""},null,null,null,null,null,{"$f":"IFERROR(HLOOKUP(HLOOKUP(YR$8,DEBUT!$AB$4:$BP$78,3,FALSE),DEBUT!$CP$2:$DI$18,2,FALSE),\"\")","v":""},{"$f":"IFERROR(HLOOKUP(HLOOKUP(YR$8,DEBUT!$AB$4:$BP$78,3,FALSE),DEBUT!$CP$2:$DI$18,6,FALSE),\"\")","v":""},{"$f":"IFERROR(HLOOKUP(HLOOKUP(YR$8,DEBUT!$AB$4:$BP$78,3,FALSE),DEBUT!$CP$2:$DI$18,10,FALSE),\"\")","v":""},{"$f":"IFERROR(HLOOKUP(HLOOKUP(YR$8,DEBUT!$AB$4:$BP$78,3,FALSE),DEBUT!$CP$2:$DI$18,14,FALSE),\"\")","v":""},null,null,null,{"$f":"IFERROR(HLOOKUP(HLOOKUP(YY$8,DEBUT!$AB$4:$BP$78,3,FALSE),DEBUT!$CP$2:$DI$18,2,FALSE),\"\")","v":""},{"$f":"IFERROR(HLOOKUP(HLOOKUP(YY$8,DEBUT!$AB$4:$BP$78,3,FALSE),DEBUT!$CP$2:$DI$18,6,FALSE),\"\")","v":""},{"$f":"IFERROR(HLOOKUP(HLOOKUP(YY$8,DEBUT!$AB$4:$BP$78,3,FALSE),DEBUT!$CP$2:$DI$18,10,FALSE),\"\")","v":""},{"$f":"IFERROR(HLOOKUP(HLOOKUP(YY$8,DEBUT!$AB$4:$BP$78,3,FALSE),DEBUT!$CP$2:$DI$18,14,FALSE),\"\")","v":""},null,null,null,null,null,null,null,{"$f":"IFERROR(HLOOKUP(HLOOKUP(ZJ$8,DEBUT!$AB$4:$BP$78,3,FALSE),DEBUT!$CP$2:$DI$18,2,FALSE),\"\")","v":""},{"$f":"IFERROR(HLOOKUP(HLOOKUP(ZJ$8,DEBUT!$AB$4:$BP$78,3,FALSE),DEBUT!$CP$2:$DI$18,6,FALSE),\"\")","v":""},{"$f":"IFERROR(HLOOKUP(HLOOKUP(ZJ$8,DEBUT!$AB$4:$BP$78,3,FALSE),DEBUT!$CP$2:$DI$18,10,FALSE),\"\")","v":""},{"$f":"IFERROR(HLOOKUP(HLOOKUP(ZJ$8,DEBUT!$AB$4:$BP$78,3,FALSE),DEBUT!$CP$2:$DI$18,14,FALSE),\"\")","v":""},null,null,null,{"$f":"IFERROR(HLOOKUP(HLOOKUP(ZQ$8,DEBUT!$AB$4:$BP$78,3,FALSE),DEBUT!$CP$2:$DI$18,2,FALSE),\"\")","v":""},{"$f":"IFERROR(HLOOKUP(HLOOKUP(ZQ$8,DEBUT!$AB$4:$BP$78,3,FALSE),DEBUT!$CP$2:$DI$18,6,FALSE),\"\")","v":""},{"$f":"IFERROR(HLOOKUP(HLOOKUP(ZQ$8,DEBUT!$AB$4:$BP$78,3,FALSE),DEBUT!$CP$2:$DI$18,10,FALSE),\"\")","v":""},{"$f":"IFERROR(HLOOKUP(HLOOKUP(ZQ$8,DEBUT!$AB$4:$BP$78,3,FALSE),DEBUT!$CP$2:$DI$18,14,FALSE),\"\")","v":""},null,null,null,null,null,{"$f":"IFERROR(HLOOKUP(HLOOKUP(ZZ$8,DEBUT!$AB$4:$BP$78,3,FALSE),DEBUT!$CP$2:$DI$18,2,FALSE),\"\")","v":""},{"$f":"IFERROR(HLOOKUP(HLOOKUP(ZZ$8,DEBUT!$AB$4:$BP$78,3,FALSE),DEBUT!$CP$2:$DI$18,6,FALSE),\"\")","v":""},{"$f":"IFERROR(HLOOKUP(HLOOKUP(ZZ$8,DEBUT!$AB$4:$BP$78,3,FALSE),DEBUT!$CP$2:$DI$18,10,FALSE),\"\")","v":""},{"$f":"IFERROR(HLOOKUP(HLOOKUP(ZZ$8,DEBUT!$AB$4:$BP$78,3,FALSE),DEBUT!$CP$2:$DI$18,14,FALSE),\"\")","v":""},null,null,null,{"$f":"IFERROR(HLOOKUP(HLOOKUP(AAG$8,DEBUT!$AB$4:$BP$78,3,FALSE),DEBUT!$CP$2:$DI$18,2,FALSE),\"\")","v":""},{"$f":"IFERROR(HLOOKUP(HLOOKUP(AAG$8,DEBUT!$AB$4:$BP$78,3,FALSE),DEBUT!$CP$2:$DI$18,6,FALSE),\"\")","v":""},{"$f":"IFERROR(HLOOKUP(HLOOKUP(AAG$8,DEBUT!$AB$4:$BP$78,3,FALSE),DEBUT!$CP$2:$DI$18,10,FALSE),\"\")","v":""},{"$f":"IFERROR(HLOOKUP(HLOOKUP(AAG$8,DEBUT!$AB$4:$BP$78,3,FALSE),DEBUT!$CP$2:$DI$18,14,FALSE),\"\")","v":""},null,null,null,null,null,null,null,{"$f":"IFERROR(HLOOKUP(HLOOKUP(AAR$8,DEBUT!$AB$4:$BP$78,3,FALSE),DEBUT!$CP$2:$DI$18,2,FALSE),\"\")","v":""},{"$f":"IFERROR(HLOOKUP(HLOOKUP(AAR$8,DEBUT!$AB$4:$BP$78,3,FALSE),DEBUT!$CP$2:$DI$18,6,FALSE),\"\")","v":""},{"$f":"IFERROR(HLOOKUP(HLOOKUP(AAR$8,DEBUT!$AB$4:$BP$78,3,FALSE),DEBUT!$CP$2:$DI$18,10,FALSE),\"\")","v":""},{"$f":"IFERROR(HLOOKUP(HLOOKUP(AAR$8,DEBUT!$AB$4:$BP$78,3,FALSE),DEBUT!$CP$2:$DI$18,14,FALSE),\"\")","v":""},null,null,null,{"$f":"IFERROR(HLOOKUP(HLOOKUP(AAY$8,DEBUT!$AB$4:$BP$78,3,FALSE),DEBUT!$CP$2:$DI$18,2,FALSE),\"\")","v":""},{"$f":"IFERROR(HLOOKUP(HLOOKUP(AAY$8,DEBUT!$AB$4:$BP$78,3,FALSE),DEBUT!$CP$2:$DI$18,6,FALSE),\"\")","v":""},{"$f":"IFERROR(HLOOKUP(HLOOKUP(AAY$8,DEBUT!$AB$4:$BP$78,3,FALSE),DEBUT!$CP$2:$DI$18,10,FALSE),\"\")","v":""},{"$f":"IFERROR(HLOOKUP(HLOOKUP(AAY$8,DEBUT!$AB$4:$BP$78,3,FALSE),DEBUT!$CP$2:$DI$18,14,FALSE),\"\")","v":""},null,null,null,null,null,{"$f":"IFERROR(HLOOKUP(HLOOKUP(ABH$8,DEBUT!$AB$4:$BP$78,3,FALSE),DEBUT!$CP$2:$DI$18,2,FALSE),\"\")","v":""},{"$f":"IFERROR(HLOOKUP(HLOOKUP(ABH$8,DEBUT!$AB$4:$BP$78,3,FALSE),DEBUT!$CP$2:$DI$18,6,FALSE),\"\")","v":""},{"$f":"IFERROR(HLOOKUP(HLOOKUP(ABH$8,DEBUT!$AB$4:$BP$78,3,FALSE),DEBUT!$CP$2:$DI$18,10,FALSE),\"\")","v":""},{"$f":"IFERROR(HLOOKUP(HLOOKUP(ABH$8,DEBUT!$AB$4:$BP$78,3,FALSE),DEBUT!$CP$2:$DI$18,14,FALSE),\"\")","v":""},null,null,null,{"$f":"IFERROR(HLOOKUP(HLOOKUP(ABO$8,DEBUT!$AB$4:$BP$78,3,FALSE),DEBUT!$CP$2:$DI$18,2,FALSE),\"\")","v":""},{"$f":"IFERROR(HLOOKUP(HLOOKUP(ABO$8,DEBUT!$AB$4:$BP$78,3,FALSE),DEBUT!$CP$2:$DI$18,6,FALSE),\"\")","v":""},{"$f":"IFERROR(HLOOKUP(HLOOKUP(ABO$8,DEBUT!$AB$4:$BP$78,3,FALSE),DEBUT!$CP$2:$DI$18,10,FALSE),\"\")","v":""},{"$f":"IFERROR(HLOOKUP(HLOOKUP(ABO$8,DEBUT!$AB$4:$BP$78,3,FALSE),DEBUT!$CP$2:$DI$18,14,FALSE),\"\")","v":""},null,null,null,null,null,null,null,{"$f":"IFERROR(HLOOKUP(HLOOKUP(ABZ$8,DEBUT!$AB$4:$BP$78,3,FALSE),DEBUT!$CP$2:$DI$18,2,FALSE),\"\")","v":""},{"$f":"IFERROR(HLOOKUP(HLOOKUP(ABZ$8,DEBUT!$AB$4:$BP$78,3,FALSE),DEBUT!$CP$2:$DI$18,6,FALSE),\"\")","v":""},{"$f":"IFERROR(HLOOKUP(HLOOKUP(ABZ$8,DEBUT!$AB$4:$BP$78,3,FALSE),DEBUT!$CP$2:$DI$18,10,FALSE),\"\")","v":""},{"$f":"IFERROR(HLOOKUP(HLOOKUP(ABZ$8,DEBUT!$AB$4:$BP$78,3,FALSE),DEBUT!$CP$2:$DI$18,14,FALSE),\"\")","v":""},null,null,null,{"$f":"IFERROR(HLOOKUP(HLOOKUP(ACG$8,DEBUT!$AB$4:$BP$78,3,FALSE),DEBUT!$CP$2:$DI$18,2,FALSE),\"\")","v":""},{"$f":"IFERROR(HLOOKUP(HLOOKUP(ACG$8,DEBUT!$AB$4:$BP$78,3,FALSE),DEBUT!$CP$2:$DI$18,6,FALSE),\"\")","v":""},{"$f":"IFERROR(HLOOKUP(HLOOKUP(ACG$8,DEBUT!$AB$4:$BP$78,3,FALSE),DEBUT!$CP$2:$DI$18,10,FALSE),\"\")","v":""},{"$f":"IFERROR(HLOOKUP(HLOOKUP(ACG$8,DEBUT!$AB$4:$BP$78,3,FALSE),DEBUT!$CP$2:$DI$18,14,FALSE),\"\")","v":""},null,null,null,null,null,{"$f":"IFERROR(HLOOKUP(HLOOKUP(ACP$8,DEBUT!$AB$4:$BP$78,3,FALSE),DEBUT!$CP$2:$DI$18,2,FALSE),\"\")","v":""},{"$f":"IFERROR(HLOOKUP(HLOOKUP(ACP$8,DEBUT!$AB$4:$BP$78,3,FALSE),DEBUT!$CP$2:$DI$18,6,FALSE),\"\")","v":""},{"$f":"IFERROR(HLOOKUP(HLOOKUP(ACP$8,DEBUT!$AB$4:$BP$78,3,FALSE),DEBUT!$CP$2:$DI$18,10,FALSE),\"\")","v":""},{"$f":"IFERROR(HLOOKUP(HLOOKUP(ACP$8,DEBUT!$AB$4:$BP$78,3,FALSE),DEBUT!$CP$2:$DI$18,14,FALSE),\"\")","v":""},null,null,null,{"$f":"IFERROR(HLOOKUP(HLOOKUP(ACW$8,DEBUT!$AB$4:$BP$78,3,FALSE),DEBUT!$CP$2:$DI$18,2,FALSE),\"\")","v":""},{"$f":"IFERROR(HLOOKUP(HLOOKUP(ACW$8,DEBUT!$AB$4:$BP$78,3,FALSE),DEBUT!$CP$2:$DI$18,6,FALSE),\"\")","v":""},{"$f":"IFERROR(HLOOKUP(HLOOKUP(ACW$8,DEBUT!$AB$4:$BP$78,3,FALSE),DEBUT!$CP$2:$DI$18,10,FALSE),\"\")","v":""},{"$f":"IFERROR(HLOOKUP(HLOOKUP(ACW$8,DEBUT!$AB$4:$BP$78,3,FALSE),DEBUT!$CP$2:$DI$18,14,FALSE),\"\")","v":""},null,null,null,null,null,null,null,{"$f":"IFERROR(HLOOKUP(HLOOKUP(ADH$8,DEBUT!$AB$4:$BP$78,3,FALSE),DEBUT!$CP$2:$DI$18,2,FALSE),\"\")","v":""},{"$f":"IFERROR(HLOOKUP(HLOOKUP(ADH$8,DEBUT!$AB$4:$BP$78,3,FALSE),DEBUT!$CP$2:$DI$18,6,FALSE),\"\")","v":""},{"$f":"IFERROR(HLOOKUP(HLOOKUP(ADH$8,DEBUT!$AB$4:$BP$78,3,FALSE),DEBUT!$CP$2:$DI$18,10,FALSE),\"\")","v":""},{"$f":"IFERROR(HLOOKUP(HLOOKUP(ADH$8,DEBUT!$AB$4:$BP$78,3,FALSE),DEBUT!$CP$2:$DI$18,14,FALSE),\"\")","v":""},null,null,null,{"$f":"IFERROR(HLOOKUP(HLOOKUP(ADO$8,DEBUT!$AB$4:$BP$78,3,FALSE),DEBUT!$CP$2:$DI$18,2,FALSE),\"\")","v":""},{"$f":"IFERROR(HLOOKUP(HLOOKUP(ADO$8,DEBUT!$AB$4:$BP$78,3,FALSE),DEBUT!$CP$2:$DI$18,6,FALSE),\"\")","v":""},{"$f":"IFERROR(HLOOKUP(HLOOKUP(ADO$8,DEBUT!$AB$4:$BP$78,3,FALSE),DEBUT!$CP$2:$DI$18,10,FALSE),\"\")","v":""},{"$f":"IFERROR(HLOOKUP(HLOOKUP(ADO$8,DEBUT!$AB$4:$BP$78,3,FALSE),DEBUT!$CP$2:$DI$18,14,FALSE),\"\")","v":""},null,null,null,null,null,{"$f":"IFERROR(HLOOKUP(HLOOKUP(ADX$8,DEBUT!$AB$4:$BP$78,3,FALSE),DEBUT!$CP$2:$DI$18,2,FALSE),\"\")","v":""},{"$f":"IFERROR(HLOOKUP(HLOOKUP(ADX$8,DEBUT!$AB$4:$BP$78,3,FALSE),DEBUT!$CP$2:$DI$18,6,FALSE),\"\")","v":""},{"$f":"IFERROR(HLOOKUP(HLOOKUP(ADX$8,DEBUT!$AB$4:$BP$78,3,FALSE),DEBUT!$CP$2:$DI$18,10,FALSE),\"\")","v":""},{"$f":"IFERROR(HLOOKUP(HLOOKUP(ADX$8,DEBUT!$AB$4:$BP$78,3,FALSE),DEBUT!$CP$2:$DI$18,14,FALSE),\"\")","v":""},null,null,null,{"$f":"IFERROR(HLOOKUP(HLOOKUP(AEE$8,DEBUT!$AB$4:$BP$78,3,FALSE),DEBUT!$CP$2:$DI$18,2,FALSE),\"\")","v":""},{"$f":"IFERROR(HLOOKUP(HLOOKUP(AEE$8,DEBUT!$AB$4:$BP$78,3,FALSE),DEBUT!$CP$2:$DI$18,6,FALSE),\"\")","v":""},{"$f":"IFERROR(HLOOKUP(HLOOKUP(AEE$8,DEBUT!$AB$4:$BP$78,3,FALSE),DEBUT!$CP$2:$DI$18,10,FALSE),\"\")","v":""},{"$f":"IFERROR(HLOOKUP(HLOOKUP(AEE$8,DEBUT!$AB$4:$BP$78,3,FALSE),DEBUT!$CP$2:$DI$18,14,FALSE),\"\")","v":""}]
[null,null,null,null,null,{"$f":"IFERROR(HLOOKUP(HLOOKUP(F$8,DEBUT!$AB$4:$BP$78,3,FALSE),DEBUT!$CP$2:$DI$18,3,FALSE),\"\")","v":""},{"$f":"IFERROR(HLOOKUP(HLOOKUP(F$8,DEBUT!$AB$4:$BP$78,3,FALSE),DEBUT!$CP$2:$DI$18,7,FALSE),\"\")","v":""},{"$f":"IFERROR(HLOOKUP(HLOOKUP(F$8,DEBUT!$AB$4:$BP$78,3,FALSE),DEBUT!$CP$2:$DI$18,11,FALSE),\"\")","v":""},{"$f":"IFERROR(HLOOKUP(HLOOKUP(F$8,DEBUT!$AB$4:$BP$78,3,FALSE),DEBUT!$CP$2:$DI$18,15,FALSE),\"\")","v":""},null,null,null,{"$f":"IFERROR(HLOOKUP(HLOOKUP(M$8,DEBUT!$AB$4:$BP$78,3,FALSE),DEBUT!$CP$2:$DI$18,3,FALSE),\"\")","v":""},{"$f":"IFERROR(HLOOKUP(HLOOKUP(M$8,DEBUT!$AB$4:$BP$78,3,FALSE),DEBUT!$CP$2:$DI$18,7,FALSE),\"\")","v":""},{"$f":"IFERROR(HLOOKUP(HLOOKUP(M$8,DEBUT!$AB$4:$BP$78,3,FALSE),DEBUT!$CP$2:$DI$18,11,FALSE),\"\")","v":""},{"$f":"IFERROR(HLOOKUP(HLOOKUP(M$8,DEBUT!$AB$4:$BP$78,3,FALSE),DEBUT!$CP$2:$DI$18,15,FALSE),\"\")","v":""},null,null,null,null,null,{"$f":"IFERROR(HLOOKUP(HLOOKUP(V$8,DEBUT!$AB$4:$BP$78,3,FALSE),DEBUT!$CP$2:$DI$18,3,FALSE),\"\")","v":""},{"$f":"IFERROR(HLOOKUP(HLOOKUP(V$8,DEBUT!$AB$4:$BP$78,3,FALSE),DEBUT!$CP$2:$DI$18,7,FALSE),\"\")","v":""},{"$f":"IFERROR(HLOOKUP(HLOOKUP(V$8,DEBUT!$AB$4:$BP$78,3,FALSE),DEBUT!$CP$2:$DI$18,11,FALSE),\"\")","v":""},{"$f":"IFERROR(HLOOKUP(HLOOKUP(V$8,DEBUT!$AB$4:$BP$78,3,FALSE),DEBUT!$CP$2:$DI$18,15,FALSE),\"\")","v":""},null,null,null,{"$f":"IFERROR(HLOOKUP(HLOOKUP(AC$8,DEBUT!$AB$4:$BP$78,3,FALSE),DEBUT!$CP$2:$DI$18,3,FALSE),\"\")","v":""},{"$f":"IFERROR(HLOOKUP(HLOOKUP(AC$8,DEBUT!$AB$4:$BP$78,3,FALSE),DEBUT!$CP$2:$DI$18,7,FALSE),\"\")","v":""},{"$f":"IFERROR(HLOOKUP(HLOOKUP(AC$8,DEBUT!$AB$4:$BP$78,3,FALSE),DEBUT!$CP$2:$DI$18,11,FALSE),\"\")","v":""},{"$f":"IFERROR(HLOOKUP(HLOOKUP(AC$8,DEBUT!$AB$4:$BP$78,3,FALSE),DEBUT!$CP$2:$DI$18,15,FALSE),\"\")","v":""},null,null,null,null,null,null,null,{"$f":"IFERROR(HLOOKUP(HLOOKUP(AN$8,DEBUT!$AB$4:$BP$78,3,FALSE),DEBUT!$CP$2:$DI$18,3,FALSE),\"\")","v":""},{"$f":"IFERROR(HLOOKUP(HLOOKUP(AN$8,DEBUT!$AB$4:$BP$78,3,FALSE),DEBUT!$CP$2:$DI$18,7,FALSE),\"\")","v":""},{"$f":"IFERROR(HLOOKUP(HLOOKUP(AN$8,DEBUT!$AB$4:$BP$78,3,FALSE),DEBUT!$CP$2:$DI$18,11,FALSE),\"\")","v":""},{"$f":"IFERROR(HLOOKUP(HLOOKUP(AN$8,DEBUT!$AB$4:$BP$78,3,FALSE),DEBUT!$CP$2:$DI$18,15,FALSE),\"\")","v":""},null,null,null,{"$f":"IFERROR(HLOOKUP(HLOOKUP(AU$8,DEBUT!$AB$4:$BP$78,3,FALSE),DEBUT!$CP$2:$DI$18,3,FALSE),\"\")","v":""},{"$f":"IFERROR(HLOOKUP(HLOOKUP(AU$8,DEBUT!$AB$4:$BP$78,3,FALSE),DEBUT!$CP$2:$DI$18,7,FALSE),\"\")","v":""},{"$f":"IFERROR(HLOOKUP(HLOOKUP(AU$8,DEBUT!$AB$4:$BP$78,3,FALSE),DEBUT!$CP$2:$DI$18,11,FALSE),\"\")","v":""},{"$f":"IFERROR(HLOOKUP(HLOOKUP(AU$8,DEBUT!$AB$4:$BP$78,3,FALSE),DEBUT!$CP$2:$DI$18,15,FALSE),\"\")","v":""},null,null,null,null,null,{"$f":"IFERROR(HLOOKUP(HLOOKUP(BD$8,DEBUT!$AB$4:$BP$78,3,FALSE),DEBUT!$CP$2:$DI$18,3,FALSE),\"\")","v":""},{"$f":"IFERROR(HLOOKUP(HLOOKUP(BD$8,DEBUT!$AB$4:$BP$78,3,FALSE),DEBUT!$CP$2:$DI$18,7,FALSE),\"\")","v":""},{"$f":"IFERROR(HLOOKUP(HLOOKUP(BD$8,DEBUT!$AB$4:$BP$78,3,FALSE),DEBUT!$CP$2:$DI$18,11,FALSE),\"\")","v":""},{"$f":"IFERROR(HLOOKUP(HLOOKUP(BD$8,DEBUT!$AB$4:$BP$78,3,FALSE),DEBUT!$CP$2:$DI$18,15,FALSE),\"\")","v":""},null,null,null,{"$f":"IFERROR(HLOOKUP(HLOOKUP(BK$8,DEBUT!$AB$4:$BP$78,3,FALSE),DEBUT!$CP$2:$DI$18,3,FALSE),\"\")","v":""},{"$f":"IFERROR(HLOOKUP(HLOOKUP(BK$8,DEBUT!$AB$4:$BP$78,3,FALSE),DEBUT!$CP$2:$DI$18,7,FALSE),\"\")","v":""},{"$f":"IFERROR(HLOOKUP(HLOOKUP(BK$8,DEBUT!$AB$4:$BP$78,3,FALSE),DEBUT!$CP$2:$DI$18,11,FALSE),\"\")","v":""},{"$f":"IFERROR(HLOOKUP(HLOOKUP(BK$8,DEBUT!$AB$4:$BP$78,3,FALSE),DEBUT!$CP$2:$DI$18,15,FALSE),\"\")","v":""},null,null,null,null,null,null,null,{"$f":"IFERROR(HLOOKUP(HLOOKUP(BV$8,DEBUT!$AB$4:$BP$78,3,FALSE),DEBUT!$CP$2:$DI$18,3,FALSE),\"\")","v":""},{"$f":"IFERROR(HLOOKUP(HLOOKUP(BV$8,DEBUT!$AB$4:$BP$78,3,FALSE),DEBUT!$CP$2:$DI$18,7,FALSE),\"\")","v":""},{"$f":"IFERROR(HLOOKUP(HLOOKUP(BV$8,DEBUT!$AB$4:$BP$78,3,FALSE),DEBUT!$CP$2:$DI$18,11,FALSE),\"\")","v":""},{"$f":"IFERROR(HLOOKUP(HLOOKUP(BV$8,DEBUT!$AB$4:$BP$78,3,FALSE),DEBUT!$CP$2:$DI$18,15,FALSE),\"\")","v":""},null,null,null,{"$f":"IFERROR(HLOOKUP(HLOOKUP(CC$8,DEBUT!$AB$4:$BP$78,3,FALSE),DEBUT!$CP$2:$DI$18,3,FALSE),\"\")","v":""},{"$f":"IFERROR(HLOOKUP(HLOOKUP(CC$8,DEBUT!$AB$4:$BP$78,3,FALSE),DEBUT!$CP$2:$DI$18,7,FALSE),\"\")","v":""},{"$f":"IFERROR(HLOOKUP(HLOOKUP(CC$8,DEBUT!$AB$4:$BP$78,3,FALSE),DEBUT!$CP$2:$DI$18,11,FALSE),\"\")","v":""},{"$f":"IFERROR(HLOOKUP(HLOOKUP(CC$8,DEBUT!$AB$4:$BP$78,3,FALSE),DEBUT!$CP$2:$DI$18,15,FALSE),\"\")","v":""},null,null,null,null,null,{"$f":"IFERROR(HLOOKUP(HLOOKUP(CL$8,DEBUT!$AB$4:$BP$78,3,FALSE),DEBUT!$CP$2:$DI$18,3,FALSE),\"\")","v":""},{"$f":"IFERROR(HLOOKUP(HLOOKUP(CL$8,DEBUT!$AB$4:$BP$78,3,FALSE),DEBUT!$CP$2:$DI$18,7,FALSE),\"\")","v":""},{"$f":"IFERROR(HLOOKUP(HLOOKUP(CL$8,DEBUT!$AB$4:$BP$78,3,FALSE),DEBUT!$CP$2:$DI$18,11,FALSE),\"\")","v":""},{"$f":"IFERROR(HLOOKUP(HLOOKUP(CL$8,DEBUT!$AB$4:$BP$78,3,FALSE),DEBUT!$CP$2:$DI$18,15,FALSE),\"\")","v":""},null,null,null,{"$f":"IFERROR(HLOOKUP(HLOOKUP(CS$8,DEBUT!$AB$4:$BP$78,3,FALSE),DEBUT!$CP$2:$DI$18,3,FALSE),\"\")","v":""},{"$f":"IFERROR(HLOOKUP(HLOOKUP(CS$8,DEBUT!$AB$4:$BP$78,3,FALSE),DEBUT!$CP$2:$DI$18,7,FALSE),\"\")","v":""},{"$f":"IFERROR(HLOOKUP(HLOOKUP(CS$8,DEBUT!$AB$4:$BP$78,3,FALSE),DEBUT!$CP$2:$DI$18,11,FALSE),\"\")","v":""},{"$f":"IFERROR(HLOOKUP(HLOOKUP(CS$8,DEBUT!$AB$4:$BP$78,3,FALSE),DEBUT!$CP$2:$DI$18,15,FALSE),\"\")","v":""},null,null,null,null,null,null,null,{"$f":"IFERROR(HLOOKUP(HLOOKUP(DD$8,DEBUT!$AB$4:$BP$78,3,FALSE),DEBUT!$CP$2:$DI$18,3,FALSE),\"\")","v":""},{"$f":"IFERROR(HLOOKUP(HLOOKUP(DD$8,DEBUT!$AB$4:$BP$78,3,FALSE),DEBUT!$CP$2:$DI$18,7,FALSE),\"\")","v":""},{"$f":"IFERROR(HLOOKUP(HLOOKUP(DD$8,DEBUT!$AB$4:$BP$78,3,FALSE),DEBUT!$CP$2:$DI$18,11,FALSE),\"\")","v":""},{"$f":"IFERROR(HLOOKUP(HLOOKUP(DD$8,DEBUT!$AB$4:$BP$78,3,FALSE),DEBUT!$CP$2:$DI$18,15,FALSE),\"\")","v":""},null,null,null,{"$f":"IFERROR(HLOOKUP(HLOOKUP(DK$8,DEBUT!$AB$4:$BP$78,3,FALSE),DEBUT!$CP$2:$DI$18,3,FALSE),\"\")","v":""},{"$f":"IFERROR(HLOOKUP(HLOOKUP(DK$8,DEBUT!$AB$4:$BP$78,3,FALSE),DEBUT!$CP$2:$DI$18,7,FALSE),\"\")","v":""},{"$f":"IFERROR(HLOOKUP(HLOOKUP(DK$8,DEBUT!$AB$4:$BP$78,3,FALSE),DEBUT!$CP$2:$DI$18,11,FALSE),\"\")","v":""},{"$f":"IFERROR(HLOOKUP(HLOOKUP(DK$8,DEBUT!$AB$4:$BP$78,3,FALSE),DEBUT!$CP$2:$DI$18,15,FALSE),\"\")","v":""},null,null,null,null,null,{"$f":"IFERROR(HLOOKUP(HLOOKUP(DT$8,DEBUT!$AB$4:$BP$78,3,FALSE),DEBUT!$CP$2:$DI$18,3,FALSE),\"\")","v":""},{"$f":"IFERROR(HLOOKUP(HLOOKUP(DT$8,DEBUT!$AB$4:$BP$78,3,FALSE),DEBUT!$CP$2:$DI$18,7,FALSE),\"\")","v":""},{"$f":"IFERROR(HLOOKUP(HLOOKUP(DT$8,DEBUT!$AB$4:$BP$78,3,FALSE),DEBUT!$CP$2:$DI$18,11,FALSE),\"\")","v":""},{"$f":"IFERROR(HLOOKUP(HLOOKUP(DT$8,DEBUT!$AB$4:$BP$78,3,FALSE),DEBUT!$CP$2:$DI$18,15,FALSE),\"\")","v":""},null,null,null,{"$f":"IFERROR(HLOOKUP(HLOOKUP(EA$8,DEBUT!$AB$4:$BP$78,3,FALSE),DEBUT!$CP$2:$DI$18,3,FALSE),\"\")","v":""},{"$f":"IFERROR(HLOOKUP(HLOOKUP(EA$8,DEBUT!$AB$4:$BP$78,3,FALSE),DEBUT!$CP$2:$DI$18,7,FALSE),\"\")","v":""},{"$f":"IFERROR(HLOOKUP(HLOOKUP(EA$8,DEBUT!$AB$4:$BP$78,3,FALSE),DEBUT!$CP$2:$DI$18,11,FALSE),\"\")","v":""},{"$f":"IFERROR(HLOOKUP(HLOOKUP(EA$8,DEBUT!$AB$4:$BP$78,3,FALSE),DEBUT!$CP$2:$DI$18,15,FALSE),\"\")","v":""},null,null,null,null,null,null,null,{"$f":"IFERROR(HLOOKUP(HLOOKUP(EL$8,DEBUT!$AB$4:$BP$78,3,FALSE),DEBUT!$CP$2:$DI$18,3,FALSE),\"\")","v":""},{"$f":"IFERROR(HLOOKUP(HLOOKUP(EL$8,DEBUT!$AB$4:$BP$78,3,FALSE),DEBUT!$CP$2:$DI$18,7,FALSE),\"\")","v":""},{"$f":"IFERROR(HLOOKUP(HLOOKUP(EL$8,DEBUT!$AB$4:$BP$78,3,FALSE),DEBUT!$CP$2:$DI$18,11,FALSE),\"\")","v":""},{"$f":"IFERROR(HLOOKUP(HLOOKUP(EL$8,DEBUT!$AB$4:$BP$78,3,FALSE),DEBUT!$CP$2:$DI$18,15,FALSE),\"\")","v":""},null,null,null,{"$f":"IFERROR(HLOOKUP(HLOOKUP(ES$8,DEBUT!$AB$4:$BP$78,3,FALSE),DEBUT!$CP$2:$DI$18,3,FALSE),\"\")","v":""},{"$f":"IFERROR(HLOOKUP(HLOOKUP(ES$8,DEBUT!$AB$4:$BP$78,3,FALSE),DEBUT!$CP$2:$DI$18,7,FALSE),\"\")","v":""},{"$f":"IFERROR(HLOOKUP(HLOOKUP(ES$8,DEBUT!$AB$4:$BP$78,3,FALSE),DEBUT!$CP$2:$DI$18,11,FALSE),\"\")","v":""},{"$f":"IFERROR(HLOOKUP(HLOOKUP(ES$8,DEBUT!$AB$4:$BP$78,3,FALSE),DEBUT!$CP$2:$DI$18,15,FALSE),\"\")","v":""},null,null,null,null,null,{"$f":"IFERROR(HLOOKUP(HLOOKUP(FB$8,DEBUT!$AB$4:$BP$78,3,FALSE),DEBUT!$CP$2:$DI$18,3,FALSE),\"\")","v":""},{"$f":"IFERROR(HLOOKUP(HLOOKUP(FB$8,DEBUT!$AB$4:$BP$78,3,FALSE),DEBUT!$CP$2:$DI$18,7,FALSE),\"\")","v":""},{"$f":"IFERROR(HLOOKUP(HLOOKUP(FB$8,DEBUT!$AB$4:$BP$78,3,FALSE),DEBUT!$CP$2:$DI$18,11,FALSE),\"\")","v":""},{"$f":"IFERROR(HLOOKUP(HLOOKUP(FB$8,DEBUT!$AB$4:$BP$78,3,FALSE),DEBUT!$CP$2:$DI$18,15,FALSE),\"\")","v":""},null,null,null,{"$f":"IFERROR(HLOOKUP(HLOOKUP(FI$8,DEBUT!$AB$4:$BP$78,3,FALSE),DEBUT!$CP$2:$DI$18,3,FALSE),\"\")","v":""},{"$f":"IFERROR(HLOOKUP(HLOOKUP(FI$8,DEBUT!$AB$4:$BP$78,3,FALSE),DEBUT!$CP$2:$DI$18,7,FALSE),\"\")","v":""},{"$f":"IFERROR(HLOOKUP(HLOOKUP(FI$8,DEBUT!$AB$4:$BP$78,3,FALSE),DEBUT!$CP$2:$DI$18,11,FALSE),\"\")","v":""},{"$f":"IFERROR(HLOOKUP(HLOOKUP(FI$8,DEBUT!$AB$4:$BP$78,3,FALSE),DEBUT!$CP$2:$DI$18,15,FALSE),\"\")","v":""},null,null,null,null,null,null,null,{"$f":"IFERROR(HLOOKUP(HLOOKUP(FT$8,DEBUT!$AB$4:$BP$78,3,FALSE),DEBUT!$CP$2:$DI$18,3,FALSE),\"\")","v":""},{"$f":"IFERROR(HLOOKUP(HLOOKUP(FT$8,DEBUT!$AB$4:$BP$78,3,FALSE),DEBUT!$CP$2:$DI$18,7,FALSE),\"\")","v":""},{"$f":"IFERROR(HLOOKUP(HLOOKUP(FT$8,DEBUT!$AB$4:$BP$78,3,FALSE),DEBUT!$CP$2:$DI$18,11,FALSE),\"\")","v":""},{"$f":"IFERROR(HLOOKUP(HLOOKUP(FT$8,DEBUT!$AB$4:$BP$78,3,FALSE),DEBUT!$CP$2:$DI$18,15,FALSE),\"\")","v":""},null,null,null,{"$f":"IFERROR(HLOOKUP(HLOOKUP(GA$8,DEBUT!$AB$4:$BP$78,3,FALSE),DEBUT!$CP$2:$DI$18,3,FALSE),\"\")","v":""},{"$f":"IFERROR(HLOOKUP(HLOOKUP(GA$8,DEBUT!$AB$4:$BP$78,3,FALSE),DEBUT!$CP$2:$DI$18,7,FALSE),\"\")","v":""},{"$f":"IFERROR(HLOOKUP(HLOOKUP(GA$8,DEBUT!$AB$4:$BP$78,3,FALSE),DEBUT!$CP$2:$DI$18,11,FALSE),\"\")","v":""},{"$f":"IFERROR(HLOOKUP(HLOOKUP(GA$8,DEBUT!$AB$4:$BP$78,3,FALSE),DEBUT!$CP$2:$DI$18,15,FALSE),\"\")","v":""},null,null,null,null,null,{"$f":"IFERROR(HLOOKUP(HLOOKUP(GJ$8,DEBUT!$AB$4:$BP$78,3,FALSE),DEBUT!$CP$2:$DI$18,3,FALSE),\"\")","v":""},{"$f":"IFERROR(HLOOKUP(HLOOKUP(GJ$8,DEBUT!$AB$4:$BP$78,3,FALSE),DEBUT!$CP$2:$DI$18,7,FALSE),\"\")","v":""},{"$f":"IFERROR(HLOOKUP(HLOOKUP(GJ$8,DEBUT!$AB$4:$BP$78,3,FALSE),DEBUT!$CP$2:$DI$18,11,FALSE),\"\")","v":""},{"$f":"IFERROR(HLOOKUP(HLOOKUP(GJ$8,DEBUT!$AB$4:$BP$78,3,FALSE),DEBUT!$CP$2:$DI$18,15,FALSE),\"\")","v":""},null,null,null,{"$f":"IFERROR(HLOOKUP(HLOOKUP(GQ$8,DEBUT!$AB$4:$BP$78,3,FALSE),DEBUT!$CP$2:$DI$18,3,FALSE),\"\")","v":""},{"$f":"IFERROR(HLOOKUP(HLOOKUP(GQ$8,DEBUT!$AB$4:$BP$78,3,FALSE),DEBUT!$CP$2:$DI$18,7,FALSE),\"\")","v":""},{"$f":"IFERROR(HLOOKUP(HLOOKUP(GQ$8,DEBUT!$AB$4:$BP$78,3,FALSE),DEBUT!$CP$2:$DI$18,11,FALSE),\"\")","v":""},{"$f":"IFERROR(HLOOKUP(HLOOKUP(GQ$8,DEBUT!$AB$4:$BP$78,3,FALSE),DEBUT!$CP$2:$DI$18,15,FALSE),\"\")","v":""},null,null,null,null,null,null,null,{"$f":"IFERROR(HLOOKUP(HLOOKUP(HB$8,DEBUT!$AB$4:$BP$78,3,FALSE),DEBUT!$CP$2:$DI$18,3,FALSE),\"\")","v":""},{"$f":"IFERROR(HLOOKUP(HLOOKUP(HB$8,DEBUT!$AB$4:$BP$78,3,FALSE),DEBUT!$CP$2:$DI$18,7,FALSE),\"\")","v":""},{"$f":"IFERROR(HLOOKUP(HLOOKUP(HB$8,DEBUT!$AB$4:$BP$78,3,FALSE),DEBUT!$CP$2:$DI$18,11,FALSE),\"\")","v":""},{"$f":"IFERROR(HLOOKUP(HLOOKUP(HB$8,DEBUT!$AB$4:$BP$78,3,FALSE),DEBUT!$CP$2:$DI$18,15,FALSE),\"\")","v":""},null,null,null,{"$f":"IFERROR(HLOOKUP(HLOOKUP(HI$8,DEBUT!$AB$4:$BP$78,3,FALSE),DEBUT!$CP$2:$DI$18,3,FALSE),\"\")","v":""},{"$f":"IFERROR(HLOOKUP(HLOOKUP(HI$8,DEBUT!$AB$4:$BP$78,3,FALSE),DEBUT!$CP$2:$DI$18,7,FALSE),\"\")","v":""},{"$f":"IFERROR(HLOOKUP(HLOOKUP(HI$8,DEBUT!$AB$4:$BP$78,3,FALSE),DEBUT!$CP$2:$DI$18,11,FALSE),\"\")","v":""},{"$f":"IFERROR(HLOOKUP(HLOOKUP(HI$8,DEBUT!$AB$4:$BP$78,3,FALSE),DEBUT!$CP$2:$DI$18,15,FALSE),\"\")","v":""},null,null,null,null,null,{"$f":"IFERROR(HLOOKUP(HLOOKUP(HR$8,DEBUT!$AB$4:$BP$78,3,FALSE),DEBUT!$CP$2:$DI$18,3,FALSE),\"\")","v":""},{"$f":"IFERROR(HLOOKUP(HLOOKUP(HR$8,DEBUT!$AB$4:$BP$78,3,FALSE),DEBUT!$CP$2:$DI$18,7,FALSE),\"\")","v":""},{"$f":"IFERROR(HLOOKUP(HLOOKUP(HR$8,DEBUT!$AB$4:$BP$78,3,FALSE),DEBUT!$CP$2:$DI$18,11,FALSE),\"\")","v":""},{"$f":"IFERROR(HLOOKUP(HLOOKUP(HR$8,DEBUT!$AB$4:$BP$78,3,FALSE),DEBUT!$CP$2:$DI$18,15,FALSE),\"\")","v":""},null,null,null,{"$f":"IFERROR(HLOOKUP(HLOOKUP(HY$8,DEBUT!$AB$4:$BP$78,3,FALSE),DEBUT!$CP$2:$DI$18,3,FALSE),\"\")","v":""},{"$f":"IFERROR(HLOOKUP(HLOOKUP(HY$8,DEBUT!$AB$4:$BP$78,3,FALSE),DEBUT!$CP$2:$DI$18,7,FALSE),\"\")","v":""},{"$f":"IFERROR(HLOOKUP(HLOOKUP(HY$8,DEBUT!$AB$4:$BP$78,3,FALSE),DEBUT!$CP$2:$DI$18,11,FALSE),\"\")","v":""},{"$f":"IFERROR(HLOOKUP(HLOOKUP(HY$8,DEBUT!$AB$4:$BP$78,3,FALSE),DEBUT!$CP$2:$DI$18,15,FALSE),\"\")","v":""},null,null,null,null,null,null,null,{"$f":"IFERROR(HLOOKUP(HLOOKUP(IJ$8,DEBUT!$AB$4:$BP$78,3,FALSE),DEBUT!$CP$2:$DI$18,3,FALSE),\"\")","v":""},{"$f":"IFERROR(HLOOKUP(HLOOKUP(IJ$8,DEBUT!$AB$4:$BP$78,3,FALSE),DEBUT!$CP$2:$DI$18,7,FALSE),\"\")","v":""},{"$f":"IFERROR(HLOOKUP(HLOOKUP(IJ$8,DEBUT!$AB$4:$BP$78,3,FALSE),DEBUT!$CP$2:$DI$18,11,FALSE),\"\")","v":""},{"$f":"IFERROR(HLOOKUP(HLOOKUP(IJ$8,DEBUT!$AB$4:$BP$78,3,FALSE),DEBUT!$CP$2:$DI$18,15,FALSE),\"\")","v":""},null,null,null,{"$f":"IFERROR(HLOOKUP(HLOOKUP(IQ$8,DEBUT!$AB$4:$BP$78,3,FALSE),DEBUT!$CP$2:$DI$18,3,FALSE),\"\")","v":""},{"$f":"IFERROR(HLOOKUP(HLOOKUP(IQ$8,DEBUT!$AB$4:$BP$78,3,FALSE),DEBUT!$CP$2:$DI$18,7,FALSE),\"\")","v":""},{"$f":"IFERROR(HLOOKUP(HLOOKUP(IQ$8,DEBUT!$AB$4:$BP$78,3,FALSE),DEBUT!$CP$2:$DI$18,11,FALSE),\"\")","v":""},{"$f":"IFERROR(HLOOKUP(HLOOKUP(IQ$8,DEBUT!$AB$4:$BP$78,3,FALSE),DEBUT!$CP$2:$DI$18,15,FALSE),\"\")","v":""},null,null,null,null,null,{"$f":"IFERROR(HLOOKUP(HLOOKUP(IZ$8,DEBUT!$AB$4:$BP$78,3,FALSE),DEBUT!$CP$2:$DI$18,3,FALSE),\"\")","v":""},{"$f":"IFERROR(HLOOKUP(HLOOKUP(IZ$8,DEBUT!$AB$4:$BP$78,3,FALSE),DEBUT!$CP$2:$DI$18,7,FALSE),\"\")","v":""},{"$f":"IFERROR(HLOOKUP(HLOOKUP(IZ$8,DEBUT!$AB$4:$BP$78,3,FALSE),DEBUT!$CP$2:$DI$18,11,FALSE),\"\")","v":""},{"$f":"IFERROR(HLOOKUP(HLOOKUP(IZ$8,DEBUT!$AB$4:$BP$78,3,FALSE),DEBUT!$CP$2:$DI$18,15,FALSE),\"\")","v":""},null,null,null,{"$f":"IFERROR(HLOOKUP(HLOOKUP(JG$8,DEBUT!$AB$4:$BP$78,3,FALSE),DEBUT!$CP$2:$DI$18,3,FALSE),\"\")","v":""},{"$f":"IFERROR(HLOOKUP(HLOOKUP(JG$8,DEBUT!$AB$4:$BP$78,3,FALSE),DEBUT!$CP$2:$DI$18,7,FALSE),\"\")","v":""},{"$f":"IFERROR(HLOOKUP(HLOOKUP(JG$8,DEBUT!$AB$4:$BP$78,3,FALSE),DEBUT!$CP$2:$DI$18,11,FALSE),\"\")","v":""},{"$f":"IFERROR(HLOOKUP(HLOOKUP(JG$8,DEBUT!$AB$4:$BP$78,3,FALSE),DEBUT!$CP$2:$DI$18,15,FALSE),\"\")","v":""},null,null,null,null,null,null,null,{"$f":"IFERROR(HLOOKUP(HLOOKUP(JR$8,DEBUT!$AB$4:$BP$78,3,FALSE),DEBUT!$CP$2:$DI$18,3,FALSE),\"\")","v":""},{"$f":"IFERROR(HLOOKUP(HLOOKUP(JR$8,DEBUT!$AB$4:$BP$78,3,FALSE),DEBUT!$CP$2:$DI$18,7,FALSE),\"\")","v":""},{"$f":"IFERROR(HLOOKUP(HLOOKUP(JR$8,DEBUT!$AB$4:$BP$78,3,FALSE),DEBUT!$CP$2:$DI$18,11,FALSE),\"\")","v":""},{"$f":"IFERROR(HLOOKUP(HLOOKUP(JR$8,DEBUT!$AB$4:$BP$78,3,FALSE),DEBUT!$CP$2:$DI$18,15,FALSE),\"\")","v":""},null,null,null,{"$f":"IFERROR(HLOOKUP(HLOOKUP(JY$8,DEBUT!$AB$4:$BP$78,3,FALSE),DEBUT!$CP$2:$DI$18,3,FALSE),\"\")","v":""},{"$f":"IFERROR(HLOOKUP(HLOOKUP(JY$8,DEBUT!$AB$4:$BP$78,3,FALSE),DEBUT!$CP$2:$DI$18,7,FALSE),\"\")","v":""},{"$f":"IFERROR(HLOOKUP(HLOOKUP(JY$8,DEBUT!$AB$4:$BP$78,3,FALSE),DEBUT!$CP$2:$DI$18,11,FALSE),\"\")","v":""},{"$f":"IFERROR(HLOOKUP(HLOOKUP(JY$8,DEBUT!$AB$4:$BP$78,3,FALSE),DEBUT!$CP$2:$DI$18,15,FALSE),\"\")","v":""},null,null,null,null,null,{"$f":"IFERROR(HLOOKUP(HLOOKUP(KH$8,DEBUT!$AB$4:$BP$78,3,FALSE),DEBUT!$CP$2:$DI$18,3,FALSE),\"\")","v":""},{"$f":"IFERROR(HLOOKUP(HLOOKUP(KH$8,DEBUT!$AB$4:$BP$78,3,FALSE),DEBUT!$CP$2:$DI$18,7,FALSE),\"\")","v":""},{"$f":"IFERROR(HLOOKUP(HLOOKUP(KH$8,DEBUT!$AB$4:$BP$78,3,FALSE),DEBUT!$CP$2:$DI$18,11,FALSE),\"\")","v":""},{"$f":"IFERROR(HLOOKUP(HLOOKUP(KH$8,DEBUT!$AB$4:$BP$78,3,FALSE),DEBUT!$CP$2:$DI$18,15,FALSE),\"\")","v":""},null,null,null,{"$f":"IFERROR(HLOOKUP(HLOOKUP(KO$8,DEBUT!$AB$4:$BP$78,3,FALSE),DEBUT!$CP$2:$DI$18,3,FALSE),\"\")","v":""},{"$f":"IFERROR(HLOOKUP(HLOOKUP(KO$8,DEBUT!$AB$4:$BP$78,3,FALSE),DEBUT!$CP$2:$DI$18,7,FALSE),\"\")","v":""},{"$f":"IFERROR(HLOOKUP(HLOOKUP(KO$8,DEBUT!$AB$4:$BP$78,3,FALSE),DEBUT!$CP$2:$DI$18,11,FALSE),\"\")","v":""},{"$f":"IFERROR(HLOOKUP(HLOOKUP(KO$8,DEBUT!$AB$4:$BP$78,3,FALSE),DEBUT!$CP$2:$DI$18,15,FALSE),\"\")","v":""},null,null,null,null,null,null,null,{"$f":"IFERROR(HLOOKUP(HLOOKUP(KZ$8,DEBUT!$AB$4:$BP$78,3,FALSE),DEBUT!$CP$2:$DI$18,3,FALSE),\"\")","v":""},{"$f":"IFERROR(HLOOKUP(HLOOKUP(KZ$8,DEBUT!$AB$4:$BP$78,3,FALSE),DEBUT!$CP$2:$DI$18,7,FALSE),\"\")","v":""},{"$f":"IFERROR(HLOOKUP(HLOOKUP(KZ$8,DEBUT!$AB$4:$BP$78,3,FALSE),DEBUT!$CP$2:$DI$18,11,FALSE),\"\")","v":""},{"$f":"IFERROR(HLOOKUP(HLOOKUP(KZ$8,DEBUT!$AB$4:$BP$78,3,FALSE),DEBUT!$CP$2:$DI$18,15,FALSE),\"\")","v":""},null,null,null,{"$f":"IFERROR(HLOOKUP(HLOOKUP(LG$8,DEBUT!$AB$4:$BP$78,3,FALSE),DEBUT!$CP$2:$DI$18,3,FALSE),\"\")","v":""},{"$f":"IFERROR(HLOOKUP(HLOOKUP(LG$8,DEBUT!$AB$4:$BP$78,3,FALSE),DEBUT!$CP$2:$DI$18,7,FALSE),\"\")","v":""},{"$f":"IFERROR(HLOOKUP(HLOOKUP(LG$8,DEBUT!$AB$4:$BP$78,3,FALSE),DEBUT!$CP$2:$DI$18,11,FALSE),\"\")","v":""},{"$f":"IFERROR(HLOOKUP(HLOOKUP(LG$8,DEBUT!$AB$4:$BP$78,3,FALSE),DEBUT!$CP$2:$DI$18,15,FALSE),\"\")","v":""},null,null,null,null,null,{"$f":"IFERROR(HLOOKUP(HLOOKUP(LP$8,DEBUT!$AB$4:$BP$78,3,FALSE),DEBUT!$CP$2:$DI$18,3,FALSE),\"\")","v":""},{"$f":"IFERROR(HLOOKUP(HLOOKUP(LP$8,DEBUT!$AB$4:$BP$78,3,FALSE),DEBUT!$CP$2:$DI$18,7,FALSE),\"\")","v":""},{"$f":"IFERROR(HLOOKUP(HLOOKUP(LP$8,DEBUT!$AB$4:$BP$78,3,FALSE),DEBUT!$CP$2:$DI$18,11,FALSE),\"\")","v":""},{"$f":"IFERROR(HLOOKUP(HLOOKUP(LP$8,DEBUT!$AB$4:$BP$78,3,FALSE),DEBUT!$CP$2:$DI$18,15,FALSE),\"\")","v":""},null,null,null,{"$f":"IFERROR(HLOOKUP(HLOOKUP(LW$8,DEBUT!$AB$4:$BP$78,3,FALSE),DEBUT!$CP$2:$DI$18,3,FALSE),\"\")","v":""},{"$f":"IFERROR(HLOOKUP(HLOOKUP(LW$8,DEBUT!$AB$4:$BP$78,3,FALSE),DEBUT!$CP$2:$DI$18,7,FALSE),\"\")","v":""},{"$f":"IFERROR(HLOOKUP(HLOOKUP(LW$8,DEBUT!$AB$4:$BP$78,3,FALSE),DEBUT!$CP$2:$DI$18,11,FALSE),\"\")","v":""},{"$f":"IFERROR(HLOOKUP(HLOOKUP(LW$8,DEBUT!$AB$4:$BP$78,3,FALSE),DEBUT!$CP$2:$DI$18,15,FALSE),\"\")","v":""},null,null,null,null,null,null,null,{"$f":"IFERROR(HLOOKUP(HLOOKUP(MH$8,DEBUT!$AB$4:$BP$78,3,FALSE),DEBUT!$CP$2:$DI$18,3,FALSE),\"\")","v":""},{"$f":"IFERROR(HLOOKUP(HLOOKUP(MH$8,DEBUT!$AB$4:$BP$78,3,FALSE),DEBUT!$CP$2:$DI$18,7,FALSE),\"\")","v":""},{"$f":"IFERROR(HLOOKUP(HLOOKUP(MH$8,DEBUT!$AB$4:$BP$78,3,FALSE),DEBUT!$CP$2:$DI$18,11,FALSE),\"\")","v":""},{"$f":"IFERROR(HLOOKUP(HLOOKUP(MH$8,DEBUT!$AB$4:$BP$78,3,FALSE),DEBUT!$CP$2:$DI$18,15,FALSE),\"\")","v":""},null,null,null,{"$f":"IFERROR(HLOOKUP(HLOOKUP(MO$8,DEBUT!$AB$4:$BP$78,3,FALSE),DEBUT!$CP$2:$DI$18,3,FALSE),\"\")","v":""},{"$f":"IFERROR(HLOOKUP(HLOOKUP(MO$8,DEBUT!$AB$4:$BP$78,3,FALSE),DEBUT!$CP$2:$DI$18,7,FALSE),\"\")","v":""},{"$f":"IFERROR(HLOOKUP(HLOOKUP(MO$8,DEBUT!$AB$4:$BP$78,3,FALSE),DEBUT!$CP$2:$DI$18,11,FALSE),\"\")","v":""},{"$f":"IFERROR(HLOOKUP(HLOOKUP(MO$8,DEBUT!$AB$4:$BP$78,3,FALSE),DEBUT!$CP$2:$DI$18,15,FALSE),\"\")","v":""},null,null,null,null,null,{"$f":"IFERROR(HLOOKUP(HLOOKUP(MX$8,DEBUT!$AB$4:$BP$78,3,FALSE),DEBUT!$CP$2:$DI$18,3,FALSE),\"\")","v":""},{"$f":"IFERROR(HLOOKUP(HLOOKUP(MX$8,DEBUT!$AB$4:$BP$78,3,FALSE),DEBUT!$CP$2:$DI$18,7,FALSE),\"\")","v":""},{"$f":"IFERROR(HLOOKUP(HLOOKUP(MX$8,DEBUT!$AB$4:$BP$78,3,FALSE),DEBUT!$CP$2:$DI$18,11,FALSE),\"\")","v":""},{"$f":"IFERROR(HLOOKUP(HLOOKUP(MX$8,DEBUT!$AB$4:$BP$78,3,FALSE),DEBUT!$CP$2:$DI$18,15,FALSE),\"\")","v":""},null,null,null,{"$f":"IFERROR(HLOOKUP(HLOOKUP(NE$8,DEBUT!$AB$4:$BP$78,3,FALSE),DEBUT!$CP$2:$DI$18,3,FALSE),\"\")","v":""},{"$f":"IFERROR(HLOOKUP(HLOOKUP(NE$8,DEBUT!$AB$4:$BP$78,3,FALSE),DEBUT!$CP$2:$DI$18,7,FALSE),\"\")","v":""},{"$f":"IFERROR(HLOOKUP(HLOOKUP(NE$8,DEBUT!$AB$4:$BP$78,3,FALSE),DEBUT!$CP$2:$DI$18,11,FALSE),\"\")","v":""},{"$f":"IFERROR(HLOOKUP(HLOOKUP(NE$8,DEBUT!$AB$4:$BP$78,3,FALSE),DEBUT!$CP$2:$DI$18,15,FALSE),\"\")","v":""},null,null,null,null,null,null,null,{"$f":"IFERROR(HLOOKUP(HLOOKUP(NP$8,DEBUT!$AB$4:$BP$78,3,FALSE),DEBUT!$CP$2:$DI$18,3,FALSE),\"\")","v":""},{"$f":"IFERROR(HLOOKUP(HLOOKUP(NP$8,DEBUT!$AB$4:$BP$78,3,FALSE),DEBUT!$CP$2:$DI$18,7,FALSE),\"\")","v":""},{"$f":"IFERROR(HLOOKUP(HLOOKUP(NP$8,DEBUT!$AB$4:$BP$78,3,FALSE),DEBUT!$CP$2:$DI$18,11,FALSE),\"\")","v":""},{"$f":"IFERROR(HLOOKUP(HLOOKUP(NP$8,DEBUT!$AB$4:$BP$78,3,FALSE),DEBUT!$CP$2:$DI$18,15,FALSE),\"\")","v":""},null,null,null,{"$f":"IFERROR(HLOOKUP(HLOOKUP(NW$8,DEBUT!$AB$4:$BP$78,3,FALSE),DEBUT!$CP$2:$DI$18,3,FALSE),\"\")","v":""},{"$f":"IFERROR(HLOOKUP(HLOOKUP(NW$8,DEBUT!$AB$4:$BP$78,3,FALSE),DEBUT!$CP$2:$DI$18,7,FALSE),\"\")","v":""},{"$f":"IFERROR(HLOOKUP(HLOOKUP(NW$8,DEBUT!$AB$4:$BP$78,3,FALSE),DEBUT!$CP$2:$DI$18,11,FALSE),\"\")","v":""},{"$f":"IFERROR(HLOOKUP(HLOOKUP(NW$8,DEBUT!$AB$4:$BP$78,3,FALSE),DEBUT!$CP$2:$DI$18,15,FALSE),\"\")","v":""},null,null,null,null,null,{"$f":"IFERROR(HLOOKUP(HLOOKUP(OF$8,DEBUT!$AB$4:$BP$78,3,FALSE),DEBUT!$CP$2:$DI$18,3,FALSE),\"\")","v":""},{"$f":"IFERROR(HLOOKUP(HLOOKUP(OF$8,DEBUT!$AB$4:$BP$78,3,FALSE),DEBUT!$CP$2:$DI$18,7,FALSE),\"\")","v":""},{"$f":"IFERROR(HLOOKUP(HLOOKUP(OF$8,DEBUT!$AB$4:$BP$78,3,FALSE),DEBUT!$CP$2:$DI$18,11,FALSE),\"\")","v":""},{"$f":"IFERROR(HLOOKUP(HLOOKUP(OF$8,DEBUT!$AB$4:$BP$78,3,FALSE),DEBUT!$CP$2:$DI$18,15,FALSE),\"\")","v":""},null,null,null,{"$f":"IFERROR(HLOOKUP(HLOOKUP(OM$8,DEBUT!$AB$4:$BP$78,3,FALSE),DEBUT!$CP$2:$DI$18,3,FALSE),\"\")","v":""},{"$f":"IFERROR(HLOOKUP(HLOOKUP(OM$8,DEBUT!$AB$4:$BP$78,3,FALSE),DEBUT!$CP$2:$DI$18,7,FALSE),\"\")","v":""},{"$f":"IFERROR(HLOOKUP(HLOOKUP(OM$8,DEBUT!$AB$4:$BP$78,3,FALSE),DEBUT!$CP$2:$DI$18,11,FALSE),\"\")","v":""},{"$f":"IFERROR(HLOOKUP(HLOOKUP(OM$8,DEBUT!$AB$4:$BP$78,3,FALSE),DEBUT!$CP$2:$DI$18,15,FALSE),\"\")","v":""},null,null,null,null,null,null,null,{"$f":"IFERROR(HLOOKUP(HLOOKUP(OX$8,DEBUT!$AB$4:$BP$78,3,FALSE),DEBUT!$CP$2:$DI$18,3,FALSE),\"\")","v":""},{"$f":"IFERROR(HLOOKUP(HLOOKUP(OX$8,DEBUT!$AB$4:$BP$78,3,FALSE),DEBUT!$CP$2:$DI$18,7,FALSE),\"\")","v":""},{"$f":"IFERROR(HLOOKUP(HLOOKUP(OX$8,DEBUT!$AB$4:$BP$78,3,FALSE),DEBUT!$CP$2:$DI$18,11,FALSE),\"\")","v":""},{"$f":"IFERROR(HLOOKUP(HLOOKUP(OX$8,DEBUT!$AB$4:$BP$78,3,FALSE),DEBUT!$CP$2:$DI$18,15,FALSE),\"\")","v":""},null,null,null,{"$f":"IFERROR(HLOOKUP(HLOOKUP(PE$8,DEBUT!$AB$4:$BP$78,3,FALSE),DEBUT!$CP$2:$DI$18,3,FALSE),\"\")","v":""},{"$f":"IFERROR(HLOOKUP(HLOOKUP(PE$8,DEBUT!$AB$4:$BP$78,3,FALSE),DEBUT!$CP$2:$DI$18,7,FALSE),\"\")","v":""},{"$f":"IFERROR(HLOOKUP(HLOOKUP(PE$8,DEBUT!$AB$4:$BP$78,3,FALSE),DEBUT!$CP$2:$DI$18,11,FALSE),\"\")","v":""},{"$f":"IFERROR(HLOOKUP(HLOOKUP(PE$8,DEBUT!$AB$4:$BP$78,3,FALSE),DEBUT!$CP$2:$DI$18,15,FALSE),\"\")","v":""},null,null,null,null,null,{"$f":"IFERROR(HLOOKUP(HLOOKUP(PN$8,DEBUT!$AB$4:$BP$78,3,FALSE),DEBUT!$CP$2:$DI$18,3,FALSE),\"\")","v":""},{"$f":"IFERROR(HLOOKUP(HLOOKUP(PN$8,DEBUT!$AB$4:$BP$78,3,FALSE),DEBUT!$CP$2:$DI$18,7,FALSE),\"\")","v":""},{"$f":"IFERROR(HLOOKUP(HLOOKUP(PN$8,DEBUT!$AB$4:$BP$78,3,FALSE),DEBUT!$CP$2:$DI$18,11,FALSE),\"\")","v":""},{"$f":"IFERROR(HLOOKUP(HLOOKUP(PN$8,DEBUT!$AB$4:$BP$78,3,FALSE),DEBUT!$CP$2:$DI$18,15,FALSE),\"\")","v":""},null,null,null,{"$f":"IFERROR(HLOOKUP(HLOOKUP(PU$8,DEBUT!$AB$4:$BP$78,3,FALSE),DEBUT!$CP$2:$DI$18,3,FALSE),\"\")","v":""},{"$f":"IFERROR(HLOOKUP(HLOOKUP(PU$8,DEBUT!$AB$4:$BP$78,3,FALSE),DEBUT!$CP$2:$DI$18,7,FALSE),\"\")","v":""},{"$f":"IFERROR(HLOOKUP(HLOOKUP(PU$8,DEBUT!$AB$4:$BP$78,3,FALSE),DEBUT!$CP$2:$DI$18,11,FALSE),\"\")","v":""},{"$f":"IFERROR(HLOOKUP(HLOOKUP(PU$8,DEBUT!$AB$4:$BP$78,3,FALSE),DEBUT!$CP$2:$DI$18,15,FALSE),\"\")","v":""},null,null,null,null,null,null,null,{"$f":"IFERROR(HLOOKUP(HLOOKUP(QF$8,DEBUT!$AB$4:$BP$78,3,FALSE),DEBUT!$CP$2:$DI$18,3,FALSE),\"\")","v":""},{"$f":"IFERROR(HLOOKUP(HLOOKUP(QF$8,DEBUT!$AB$4:$BP$78,3,FALSE),DEBUT!$CP$2:$DI$18,7,FALSE),\"\")","v":""},{"$f":"IFERROR(HLOOKUP(HLOOKUP(QF$8,DEBUT!$AB$4:$BP$78,3,FALSE),DEBUT!$CP$2:$DI$18,11,FALSE),\"\")","v":""},{"$f":"IFERROR(HLOOKUP(HLOOKUP(QF$8,DEBUT!$AB$4:$BP$78,3,FALSE),DEBUT!$CP$2:$DI$18,15,FALSE),\"\")","v":""},null,null,null,{"$f":"IFERROR(HLOOKUP(HLOOKUP(QM$8,DEBUT!$AB$4:$BP$78,3,FALSE),DEBUT!$CP$2:$DI$18,3,FALSE),\"\")","v":""},{"$f":"IFERROR(HLOOKUP(HLOOKUP(QM$8,DEBUT!$AB$4:$BP$78,3,FALSE),DEBUT!$CP$2:$DI$18,7,FALSE),\"\")","v":""},{"$f":"IFERROR(HLOOKUP(HLOOKUP(QM$8,DEBUT!$AB$4:$BP$78,3,FALSE),DEBUT!$CP$2:$DI$18,11,FALSE),\"\")","v":""},{"$f":"IFERROR(HLOOKUP(HLOOKUP(QM$8,DEBUT!$AB$4:$BP$78,3,FALSE),DEBUT!$CP$2:$DI$18,15,FALSE),\"\")","v":""},null,null,null,null,null,{"$f":"IFERROR(HLOOKUP(HLOOKUP(QV$8,DEBUT!$AB$4:$BP$78,3,FALSE),DEBUT!$CP$2:$DI$18,3,FALSE),\"\")","v":""},{"$f":"IFERROR(HLOOKUP(HLOOKUP(QV$8,DEBUT!$AB$4:$BP$78,3,FALSE),DEBUT!$CP$2:$DI$18,7,FALSE),\"\")","v":""},{"$f":"IFERROR(HLOOKUP(HLOOKUP(QV$8,DEBUT!$AB$4:$BP$78,3,FALSE),DEBUT!$CP$2:$DI$18,11,FALSE),\"\")","v":""},{"$f":"IFERROR(HLOOKUP(HLOOKUP(QV$8,DEBUT!$AB$4:$BP$78,3,FALSE),DEBUT!$CP$2:$DI$18,15,FALSE),\"\")","v":""},null,null,null,{"$f":"IFERROR(HLOOKUP(HLOOKUP(RC$8,DEBUT!$AB$4:$BP$78,3,FALSE),DEBUT!$CP$2:$DI$18,3,FALSE),\"\")","v":""},{"$f":"IFERROR(HLOOKUP(HLOOKUP(RC$8,DEBUT!$AB$4:$BP$78,3,FALSE),DEBUT!$CP$2:$DI$18,7,FALSE),\"\")","v":""},{"$f":"IFERROR(HLOOKUP(HLOOKUP(RC$8,DEBUT!$AB$4:$BP$78,3,FALSE),DEBUT!$CP$2:$DI$18,11,FALSE),\"\")","v":""},{"$f":"IFERROR(HLOOKUP(HLOOKUP(RC$8,DEBUT!$AB$4:$BP$78,3,FALSE),DEBUT!$CP$2:$DI$18,15,FALSE),\"\")","v":""},null,null,null,null,null,null,null,{"$f":"IFERROR(HLOOKUP(HLOOKUP(RN$8,DEBUT!$AB$4:$BP$78,3,FALSE),DEBUT!$CP$2:$DI$18,3,FALSE),\"\")","v":""},{"$f":"IFERROR(HLOOKUP(HLOOKUP(RN$8,DEBUT!$AB$4:$BP$78,3,FALSE),DEBUT!$CP$2:$DI$18,7,FALSE),\"\")","v":""},{"$f":"IFERROR(HLOOKUP(HLOOKUP(RN$8,DEBUT!$AB$4:$BP$78,3,FALSE),DEBUT!$CP$2:$DI$18,11,FALSE),\"\")","v":""},{"$f":"IFERROR(HLOOKUP(HLOOKUP(RN$8,DEBUT!$AB$4:$BP$78,3,FALSE),DEBUT!$CP$2:$DI$18,15,FALSE),\"\")","v":""},null,null,null,{"$f":"IFERROR(HLOOKUP(HLOOKUP(RU$8,DEBUT!$AB$4:$BP$78,3,FALSE),DEBUT!$CP$2:$DI$18,3,FALSE),\"\")","v":""},{"$f":"IFERROR(HLOOKUP(HLOOKUP(RU$8,DEBUT!$AB$4:$BP$78,3,FALSE),DEBUT!$CP$2:$DI$18,7,FALSE),\"\")","v":""},{"$f":"IFERROR(HLOOKUP(HLOOKUP(RU$8,DEBUT!$AB$4:$BP$78,3,FALSE),DEBUT!$CP$2:$DI$18,11,FALSE),\"\")","v":""},{"$f":"IFERROR(HLOOKUP(HLOOKUP(RU$8,DEBUT!$AB$4:$BP$78,3,FALSE),DEBUT!$CP$2:$DI$18,15,FALSE),\"\")","v":""},null,null,null,null,null,{"$f":"IFERROR(HLOOKUP(HLOOKUP(SD$8,DEBUT!$AB$4:$BP$78,3,FALSE),DEBUT!$CP$2:$DI$18,3,FALSE),\"\")","v":""},{"$f":"IFERROR(HLOOKUP(HLOOKUP(SD$8,DEBUT!$AB$4:$BP$78,3,FALSE),DEBUT!$CP$2:$DI$18,7,FALSE),\"\")","v":""},{"$f":"IFERROR(HLOOKUP(HLOOKUP(SD$8,DEBUT!$AB$4:$BP$78,3,FALSE),DEBUT!$CP$2:$DI$18,11,FALSE),\"\")","v":""},{"$f":"IFERROR(HLOOKUP(HLOOKUP(SD$8,DEBUT!$AB$4:$BP$78,3,FALSE),DEBUT!$CP$2:$DI$18,15,FALSE),\"\")","v":""},null,null,null,{"$f":"IFERROR(HLOOKUP(HLOOKUP(SK$8,DEBUT!$AB$4:$BP$78,3,FALSE),DEBUT!$CP$2:$DI$18,3,FALSE),\"\")","v":""},{"$f":"IFERROR(HLOOKUP(HLOOKUP(SK$8,DEBUT!$AB$4:$BP$78,3,FALSE),DEBUT!$CP$2:$DI$18,7,FALSE),\"\")","v":""},{"$f":"IFERROR(HLOOKUP(HLOOKUP(SK$8,DEBUT!$AB$4:$BP$78,3,FALSE),DEBUT!$CP$2:$DI$18,11,FALSE),\"\")","v":""},{"$f":"IFERROR(HLOOKUP(HLOOKUP(SK$8,DEBUT!$AB$4:$BP$78,3,FALSE),DEBUT!$CP$2:$DI$18,15,FALSE),\"\")","v":""},null,null,null,null,null,null,null,{"$f":"IFERROR(HLOOKUP(HLOOKUP(SV$8,DEBUT!$AB$4:$BP$78,3,FALSE),DEBUT!$CP$2:$DI$18,3,FALSE),\"\")","v":""},{"$f":"IFERROR(HLOOKUP(HLOOKUP(SV$8,DEBUT!$AB$4:$BP$78,3,FALSE),DEBUT!$CP$2:$DI$18,7,FALSE),\"\")","v":""},{"$f":"IFERROR(HLOOKUP(HLOOKUP(SV$8,DEBUT!$AB$4:$BP$78,3,FALSE),DEBUT!$CP$2:$DI$18,11,FALSE),\"\")","v":""},{"$f":"IFERROR(HLOOKUP(HLOOKUP(SV$8,DEBUT!$AB$4:$BP$78,3,FALSE),DEBUT!$CP$2:$DI$18,15,FALSE),\"\")","v":""},null,null,null,{"$f":"IFERROR(HLOOKUP(HLOOKUP(TC$8,DEBUT!$AB$4:$BP$78,3,FALSE),DEBUT!$CP$2:$DI$18,3,FALSE),\"\")","v":""},{"$f":"IFERROR(HLOOKUP(HLOOKUP(TC$8,DEBUT!$AB$4:$BP$78,3,FALSE),DEBUT!$CP$2:$DI$18,7,FALSE),\"\")","v":""},{"$f":"IFERROR(HLOOKUP(HLOOKUP(TC$8,DEBUT!$AB$4:$BP$78,3,FALSE),DEBUT!$CP$2:$DI$18,11,FALSE),\"\")","v":""},{"$f":"IFERROR(HLOOKUP(HLOOKUP(TC$8,DEBUT!$AB$4:$BP$78,3,FALSE),DEBUT!$CP$2:$DI$18,15,FALSE),\"\")","v":""},null,null,null,null,null,{"$f":"IFERROR(HLOOKUP(HLOOKUP(TL$8,DEBUT!$AB$4:$BP$78,3,FALSE),DEBUT!$CP$2:$DI$18,3,FALSE),\"\")","v":""},{"$f":"IFERROR(HLOOKUP(HLOOKUP(TL$8,DEBUT!$AB$4:$BP$78,3,FALSE),DEBUT!$CP$2:$DI$18,7,FALSE),\"\")","v":""},{"$f":"IFERROR(HLOOKUP(HLOOKUP(TL$8,DEBUT!$AB$4:$BP$78,3,FALSE),DEBUT!$CP$2:$DI$18,11,FALSE),\"\")","v":""},{"$f":"IFERROR(HLOOKUP(HLOOKUP(TL$8,DEBUT!$AB$4:$BP$78,3,FALSE),DEBUT!$CP$2:$DI$18,15,FALSE),\"\")","v":""},null,null,null,{"$f":"IFERROR(HLOOKUP(HLOOKUP(TS$8,DEBUT!$AB$4:$BP$78,3,FALSE),DEBUT!$CP$2:$DI$18,3,FALSE),\"\")","v":""},{"$f":"IFERROR(HLOOKUP(HLOOKUP(TS$8,DEBUT!$AB$4:$BP$78,3,FALSE),DEBUT!$CP$2:$DI$18,7,FALSE),\"\")","v":""},{"$f":"IFERROR(HLOOKUP(HLOOKUP(TS$8,DEBUT!$AB$4:$BP$78,3,FALSE),DEBUT!$CP$2:$DI$18,11,FALSE),\"\")","v":""},{"$f":"IFERROR(HLOOKUP(HLOOKUP(TS$8,DEBUT!$AB$4:$BP$78,3,FALSE),DEBUT!$CP$2:$DI$18,15,FALSE),\"\")","v":""},null,null,null,null,null,null,null,{"$f":"IFERROR(HLOOKUP(HLOOKUP(UD$8,DEBUT!$AB$4:$BP$78,3,FALSE),DEBUT!$CP$2:$DI$18,3,FALSE),\"\")","v":""},{"$f":"IFERROR(HLOOKUP(HLOOKUP(UD$8,DEBUT!$AB$4:$BP$78,3,FALSE),DEBUT!$CP$2:$DI$18,7,FALSE),\"\")","v":""},{"$f":"IFERROR(HLOOKUP(HLOOKUP(UD$8,DEBUT!$AB$4:$BP$78,3,FALSE),DEBUT!$CP$2:$DI$18,11,FALSE),\"\")","v":""},{"$f":"IFERROR(HLOOKUP(HLOOKUP(UD$8,DEBUT!$AB$4:$BP$78,3,FALSE),DEBUT!$CP$2:$DI$18,15,FALSE),\"\")","v":""},null,null,null,{"$f":"IFERROR(HLOOKUP(HLOOKUP(UK$8,DEBUT!$AB$4:$BP$78,3,FALSE),DEBUT!$CP$2:$DI$18,3,FALSE),\"\")","v":""},{"$f":"IFERROR(HLOOKUP(HLOOKUP(UK$8,DEBUT!$AB$4:$BP$78,3,FALSE),DEBUT!$CP$2:$DI$18,7,FALSE),\"\")","v":""},{"$f":"IFERROR(HLOOKUP(HLOOKUP(UK$8,DEBUT!$AB$4:$BP$78,3,FALSE),DEBUT!$CP$2:$DI$18,11,FALSE),\"\")","v":""},{"$f":"IFERROR(HLOOKUP(HLOOKUP(UK$8,DEBUT!$AB$4:$BP$78,3,FALSE),DEBUT!$CP$2:$DI$18,15,FALSE),\"\")","v":""},null,null,null,null,null,{"$f":"IFERROR(HLOOKUP(HLOOKUP(UT$8,DEBUT!$AB$4:$BP$78,3,FALSE),DEBUT!$CP$2:$DI$18,3,FALSE),\"\")","v":""},{"$f":"IFERROR(HLOOKUP(HLOOKUP(UT$8,DEBUT!$AB$4:$BP$78,3,FALSE),DEBUT!$CP$2:$DI$18,7,FALSE),\"\")","v":""},{"$f":"IFERROR(HLOOKUP(HLOOKUP(UT$8,DEBUT!$AB$4:$BP$78,3,FALSE),DEBUT!$CP$2:$DI$18,11,FALSE),\"\")","v":""},{"$f":"IFERROR(HLOOKUP(HLOOKUP(UT$8,DEBUT!$AB$4:$BP$78,3,FALSE),DEBUT!$CP$2:$DI$18,15,FALSE),\"\")","v":""},null,null,null,{"$f":"IFERROR(HLOOKUP(HLOOKUP(VA$8,DEBUT!$AB$4:$BP$78,3,FALSE),DEBUT!$CP$2:$DI$18,3,FALSE),\"\")","v":""},{"$f":"IFERROR(HLOOKUP(HLOOKUP(VA$8,DEBUT!$AB$4:$BP$78,3,FALSE),DEBUT!$CP$2:$DI$18,7,FALSE),\"\")","v":""},{"$f":"IFERROR(HLOOKUP(HLOOKUP(VA$8,DEBUT!$AB$4:$BP$78,3,FALSE),DEBUT!$CP$2:$DI$18,11,FALSE),\"\")","v":""},{"$f":"IFERROR(HLOOKUP(HLOOKUP(VA$8,DEBUT!$AB$4:$BP$78,3,FALSE),DEBUT!$CP$2:$DI$18,15,FALSE),\"\")","v":""},null,null,null,null,null,null,null,{"$f":"IFERROR(HLOOKUP(HLOOKUP(VL$8,DEBUT!$AB$4:$BP$78,3,FALSE),DEBUT!$CP$2:$DI$18,3,FALSE),\"\")","v":""},{"$f":"IFERROR(HLOOKUP(HLOOKUP(VL$8,DEBUT!$AB$4:$BP$78,3,FALSE),DEBUT!$CP$2:$DI$18,7,FALSE),\"\")","v":""},{"$f":"IFERROR(HLOOKUP(HLOOKUP(VL$8,DEBUT!$AB$4:$BP$78,3,FALSE),DEBUT!$CP$2:$DI$18,11,FALSE),\"\")","v":""},{"$f":"IFERROR(HLOOKUP(HLOOKUP(VL$8,DEBUT!$AB$4:$BP$78,3,FALSE),DEBUT!$CP$2:$DI$18,15,FALSE),\"\")","v":""},null,null,null,{"$f":"IFERROR(HLOOKUP(HLOOKUP(VS$8,DEBUT!$AB$4:$BP$78,3,FALSE),DEBUT!$CP$2:$DI$18,3,FALSE),\"\")","v":""},{"$f":"IFERROR(HLOOKUP(HLOOKUP(VS$8,DEBUT!$AB$4:$BP$78,3,FALSE),DEBUT!$CP$2:$DI$18,7,FALSE),\"\")","v":""},{"$f":"IFERROR(HLOOKUP(HLOOKUP(VS$8,DEBUT!$AB$4:$BP$78,3,FALSE),DEBUT!$CP$2:$DI$18,11,FALSE),\"\")","v":""},{"$f":"IFERROR(HLOOKUP(HLOOKUP(VS$8,DEBUT!$AB$4:$BP$78,3,FALSE),DEBUT!$CP$2:$DI$18,15,FALSE),\"\")","v":""},null,null,null,null,null,{"$f":"IFERROR(HLOOKUP(HLOOKUP(WB$8,DEBUT!$AB$4:$BP$78,3,FALSE),DEBUT!$CP$2:$DI$18,3,FALSE),\"\")","v":""},{"$f":"IFERROR(HLOOKUP(HLOOKUP(WB$8,DEBUT!$AB$4:$BP$78,3,FALSE),DEBUT!$CP$2:$DI$18,7,FALSE),\"\")","v":""},{"$f":"IFERROR(HLOOKUP(HLOOKUP(WB$8,DEBUT!$AB$4:$BP$78,3,FALSE),DEBUT!$CP$2:$DI$18,11,FALSE),\"\")","v":""},{"$f":"IFERROR(HLOOKUP(HLOOKUP(WB$8,DEBUT!$AB$4:$BP$78,3,FALSE),DEBUT!$CP$2:$DI$18,15,FALSE),\"\")","v":""},null,null,null,{"$f":"IFERROR(HLOOKUP(HLOOKUP(WI$8,DEBUT!$AB$4:$BP$78,3,FALSE),DEBUT!$CP$2:$DI$18,3,FALSE),\"\")","v":""},{"$f":"IFERROR(HLOOKUP(HLOOKUP(WI$8,DEBUT!$AB$4:$BP$78,3,FALSE),DEBUT!$CP$2:$DI$18,7,FALSE),\"\")","v":""},{"$f":"IFERROR(HLOOKUP(HLOOKUP(WI$8,DEBUT!$AB$4:$BP$78,3,FALSE),DEBUT!$CP$2:$DI$18,11,FALSE),\"\")","v":""},{"$f":"IFERROR(HLOOKUP(HLOOKUP(WI$8,DEBUT!$AB$4:$BP$78,3,FALSE),DEBUT!$CP$2:$DI$18,15,FALSE),\"\")","v":""},null,null,null,null,null,null,null,{"$f":"IFERROR(HLOOKUP(HLOOKUP(WT$8,DEBUT!$AB$4:$BP$78,3,FALSE),DEBUT!$CP$2:$DI$18,3,FALSE),\"\")","v":""},{"$f":"IFERROR(HLOOKUP(HLOOKUP(WT$8,DEBUT!$AB$4:$BP$78,3,FALSE),DEBUT!$CP$2:$DI$18,7,FALSE),\"\")","v":""},{"$f":"IFERROR(HLOOKUP(HLOOKUP(WT$8,DEBUT!$AB$4:$BP$78,3,FALSE),DEBUT!$CP$2:$DI$18,11,FALSE),\"\")","v":""},{"$f":"IFERROR(HLOOKUP(HLOOKUP(WT$8,DEBUT!$AB$4:$BP$78,3,FALSE),DEBUT!$CP$2:$DI$18,15,FALSE),\"\")","v":""},null,null,null,{"$f":"IFERROR(HLOOKUP(HLOOKUP(XA$8,DEBUT!$AB$4:$BP$78,3,FALSE),DEBUT!$CP$2:$DI$18,3,FALSE),\"\")","v":""},{"$f":"IFERROR(HLOOKUP(HLOOKUP(XA$8,DEBUT!$AB$4:$BP$78,3,FALSE),DEBUT!$CP$2:$DI$18,7,FALSE),\"\")","v":""},{"$f":"IFERROR(HLOOKUP(HLOOKUP(XA$8,DEBUT!$AB$4:$BP$78,3,FALSE),DEBUT!$CP$2:$DI$18,11,FALSE),\"\")","v":""},{"$f":"IFERROR(HLOOKUP(HLOOKUP(XA$8,DEBUT!$AB$4:$BP$78,3,FALSE),DEBUT!$CP$2:$DI$18,15,FALSE),\"\")","v":""},null,null,null,null,null,{"$f":"IFERROR(HLOOKUP(HLOOKUP(XJ$8,DEBUT!$AB$4:$BP$78,3,FALSE),DEBUT!$CP$2:$DI$18,3,FALSE),\"\")","v":""},{"$f":"IFERROR(HLOOKUP(HLOOKUP(XJ$8,DEBUT!$AB$4:$BP$78,3,FALSE),DEBUT!$CP$2:$DI$18,7,FALSE),\"\")","v":""},{"$f":"IFERROR(HLOOKUP(HLOOKUP(XJ$8,DEBUT!$AB$4:$BP$78,3,FALSE),DEBUT!$CP$2:$DI$18,11,FALSE),\"\")","v":""},{"$f":"IFERROR(HLOOKUP(HLOOKUP(XJ$8,DEBUT!$AB$4:$BP$78,3,FALSE),DEBUT!$CP$2:$DI$18,15,FALSE),\"\")","v":""},null,null,null,{"$f":"IFERROR(HLOOKUP(HLOOKUP(XQ$8,DEBUT!$AB$4:$BP$78,3,FALSE),DEBUT!$CP$2:$DI$18,3,FALSE),\"\")","v":""},{"$f":"IFERROR(HLOOKUP(HLOOKUP(XQ$8,DEBUT!$AB$4:$BP$78,3,FALSE),DEBUT!$CP$2:$DI$18,7,FALSE),\"\")","v":""},{"$f":"IFERROR(HLOOKUP(HLOOKUP(XQ$8,DEBUT!$AB$4:$BP$78,3,FALSE),DEBUT!$CP$2:$DI$18,11,FALSE),\"\")","v":""},{"$f":"IFERROR(HLOOKUP(HLOOKUP(XQ$8,DEBUT!$AB$4:$BP$78,3,FALSE),DEBUT!$CP$2:$DI$18,15,FALSE),\"\")","v":""},null,null,null,null,null,null,null,{"$f":"IFERROR(HLOOKUP(HLOOKUP(YB$8,DEBUT!$AB$4:$BP$78,3,FALSE),DEBUT!$CP$2:$DI$18,3,FALSE),\"\")","v":""},{"$f":"IFERROR(HLOOKUP(HLOOKUP(YB$8,DEBUT!$AB$4:$BP$78,3,FALSE),DEBUT!$CP$2:$DI$18,7,FALSE),\"\")","v":""},{"$f":"IFERROR(HLOOKUP(HLOOKUP(YB$8,DEBUT!$AB$4:$BP$78,3,FALSE),DEBUT!$CP$2:$DI$18,11,FALSE),\"\")","v":""},{"$f":"IFERROR(HLOOKUP(HLOOKUP(YB$8,DEBUT!$AB$4:$BP$78,3,FALSE),DEBUT!$CP$2:$DI$18,15,FALSE),\"\")","v":""},null,null,null,{"$f":"IFERROR(HLOOKUP(HLOOKUP(YI$8,DEBUT!$AB$4:$BP$78,3,FALSE),DEBUT!$CP$2:$DI$18,3,FALSE),\"\")","v":""},{"$f":"IFERROR(HLOOKUP(HLOOKUP(YI$8,DEBUT!$AB$4:$BP$78,3,FALSE),DEBUT!$CP$2:$DI$18,7,FALSE),\"\")","v":""},{"$f":"IFERROR(HLOOKUP(HLOOKUP(YI$8,DEBUT!$AB$4:$BP$78,3,FALSE),DEBUT!$CP$2:$DI$18,11,FALSE),\"\")","v":""},{"$f":"IFERROR(HLOOKUP(HLOOKUP(YI$8,DEBUT!$AB$4:$BP$78,3,FALSE),DEBUT!$CP$2:$DI$18,15,FALSE),\"\")","v":""},null,null,null,null,null,{"$f":"IFERROR(HLOOKUP(HLOOKUP(YR$8,DEBUT!$AB$4:$BP$78,3,FALSE),DEBUT!$CP$2:$DI$18,3,FALSE),\"\")","v":""},{"$f":"IFERROR(HLOOKUP(HLOOKUP(YR$8,DEBUT!$AB$4:$BP$78,3,FALSE),DEBUT!$CP$2:$DI$18,7,FALSE),\"\")","v":""},{"$f":"IFERROR(HLOOKUP(HLOOKUP(YR$8,DEBUT!$AB$4:$BP$78,3,FALSE),DEBUT!$CP$2:$DI$18,11,FALSE),\"\")","v":""},{"$f":"IFERROR(HLOOKUP(HLOOKUP(YR$8,DEBUT!$AB$4:$BP$78,3,FALSE),DEBUT!$CP$2:$DI$18,15,FALSE),\"\")","v":""},null,null,null,{"$f":"IFERROR(HLOOKUP(HLOOKUP(YY$8,DEBUT!$AB$4:$BP$78,3,FALSE),DEBUT!$CP$2:$DI$18,3,FALSE),\"\")","v":""},{"$f":"IFERROR(HLOOKUP(HLOOKUP(YY$8,DEBUT!$AB$4:$BP$78,3,FALSE),DEBUT!$CP$2:$DI$18,7,FALSE),\"\")","v":""},{"$f":"IFERROR(HLOOKUP(HLOOKUP(YY$8,DEBUT!$AB$4:$BP$78,3,FALSE),DEBUT!$CP$2:$DI$18,11,FALSE),\"\")","v":""},{"$f":"IFERROR(HLOOKUP(HLOOKUP(YY$8,DEBUT!$AB$4:$BP$78,3,FALSE),DEBUT!$CP$2:$DI$18,15,FALSE),\"\")","v":""},null,null,null,null,null,null,null,{"$f":"IFERROR(HLOOKUP(HLOOKUP(ZJ$8,DEBUT!$AB$4:$BP$78,3,FALSE),DEBUT!$CP$2:$DI$18,3,FALSE),\"\")","v":""},{"$f":"IFERROR(HLOOKUP(HLOOKUP(ZJ$8,DEBUT!$AB$4:$BP$78,3,FALSE),DEBUT!$CP$2:$DI$18,7,FALSE),\"\")","v":""},{"$f":"IFERROR(HLOOKUP(HLOOKUP(ZJ$8,DEBUT!$AB$4:$BP$78,3,FALSE),DEBUT!$CP$2:$DI$18,11,FALSE),\"\")","v":""},{"$f":"IFERROR(HLOOKUP(HLOOKUP(ZJ$8,DEBUT!$AB$4:$BP$78,3,FALSE),DEBUT!$CP$2:$DI$18,15,FALSE),\"\")","v":""},null,null,null,{"$f":"IFERROR(HLOOKUP(HLOOKUP(ZQ$8,DEBUT!$AB$4:$BP$78,3,FALSE),DEBUT!$CP$2:$DI$18,3,FALSE),\"\")","v":""},{"$f":"IFERROR(HLOOKUP(HLOOKUP(ZQ$8,DEBUT!$AB$4:$BP$78,3,FALSE),DEBUT!$CP$2:$DI$18,7,FALSE),\"\")","v":""},{"$f":"IFERROR(HLOOKUP(HLOOKUP(ZQ$8,DEBUT!$AB$4:$BP$78,3,FALSE),DEBUT!$CP$2:$DI$18,11,FALSE),\"\")","v":""},{"$f":"IFERROR(HLOOKUP(HLOOKUP(ZQ$8,DEBUT!$AB$4:$BP$78,3,FALSE),DEBUT!$CP$2:$DI$18,15,FALSE),\"\")","v":""},null,null,null,null,null,{"$f":"IFERROR(HLOOKUP(HLOOKUP(ZZ$8,DEBUT!$AB$4:$BP$78,3,FALSE),DEBUT!$CP$2:$DI$18,3,FALSE),\"\")","v":""},{"$f":"IFERROR(HLOOKUP(HLOOKUP(ZZ$8,DEBUT!$AB$4:$BP$78,3,FALSE),DEBUT!$CP$2:$DI$18,7,FALSE),\"\")","v":""},{"$f":"IFERROR(HLOOKUP(HLOOKUP(ZZ$8,DEBUT!$AB$4:$BP$78,3,FALSE),DEBUT!$CP$2:$DI$18,11,FALSE),\"\")","v":""},{"$f":"IFERROR(HLOOKUP(HLOOKUP(ZZ$8,DEBUT!$AB$4:$BP$78,3,FALSE),DEBUT!$CP$2:$DI$18,15,FALSE),\"\")","v":""},null,null,null,{"$f":"IFERROR(HLOOKUP(HLOOKUP(AAG$8,DEBUT!$AB$4:$BP$78,3,FALSE),DEBUT!$CP$2:$DI$18,3,FALSE),\"\")","v":""},{"$f":"IFERROR(HLOOKUP(HLOOKUP(AAG$8,DEBUT!$AB$4:$BP$78,3,FALSE),DEBUT!$CP$2:$DI$18,7,FALSE),\"\")","v":""},{"$f":"IFERROR(HLOOKUP(HLOOKUP(AAG$8,DEBUT!$AB$4:$BP$78,3,FALSE),DEBUT!$CP$2:$DI$18,11,FALSE),\"\")","v":""},{"$f":"IFERROR(HLOOKUP(HLOOKUP(AAG$8,DEBUT!$AB$4:$BP$78,3,FALSE),DEBUT!$CP$2:$DI$18,15,FALSE),\"\")","v":""},null,null,null,null,null,null,null,{"$f":"IFERROR(HLOOKUP(HLOOKUP(AAR$8,DEBUT!$AB$4:$BP$78,3,FALSE),DEBUT!$CP$2:$DI$18,3,FALSE),\"\")","v":""},{"$f":"IFERROR(HLOOKUP(HLOOKUP(AAR$8,DEBUT!$AB$4:$BP$78,3,FALSE),DEBUT!$CP$2:$DI$18,7,FALSE),\"\")","v":""},{"$f":"IFERROR(HLOOKUP(HLOOKUP(AAR$8,DEBUT!$AB$4:$BP$78,3,FALSE),DEBUT!$CP$2:$DI$18,11,FALSE),\"\")","v":""},{"$f":"IFERROR(HLOOKUP(HLOOKUP(AAR$8,DEBUT!$AB$4:$BP$78,3,FALSE),DEBUT!$CP$2:$DI$18,15,FALSE),\"\")","v":""},null,null,null,{"$f":"IFERROR(HLOOKUP(HLOOKUP(AAY$8,DEBUT!$AB$4:$BP$78,3,FALSE),DEBUT!$CP$2:$DI$18,3,FALSE),\"\")","v":""},{"$f":"IFERROR(HLOOKUP(HLOOKUP(AAY$8,DEBUT!$AB$4:$BP$78,3,FALSE),DEBUT!$CP$2:$DI$18,7,FALSE),\"\")","v":""},{"$f":"IFERROR(HLOOKUP(HLOOKUP(AAY$8,DEBUT!$AB$4:$BP$78,3,FALSE),DEBUT!$CP$2:$DI$18,11,FALSE),\"\")","v":""},{"$f":"IFERROR(HLOOKUP(HLOOKUP(AAY$8,DEBUT!$AB$4:$BP$78,3,FALSE),DEBUT!$CP$2:$DI$18,15,FALSE),\"\")","v":""},null,null,null,null,null,{"$f":"IFERROR(HLOOKUP(HLOOKUP(ABH$8,DEBUT!$AB$4:$BP$78,3,FALSE),DEBUT!$CP$2:$DI$18,3,FALSE),\"\")","v":""},{"$f":"IFERROR(HLOOKUP(HLOOKUP(ABH$8,DEBUT!$AB$4:$BP$78,3,FALSE),DEBUT!$CP$2:$DI$18,7,FALSE),\"\")","v":""},{"$f":"IFERROR(HLOOKUP(HLOOKUP(ABH$8,DEBUT!$AB$4:$BP$78,3,FALSE),DEBUT!$CP$2:$DI$18,11,FALSE),\"\")","v":""},{"$f":"IFERROR(HLOOKUP(HLOOKUP(ABH$8,DEBUT!$AB$4:$BP$78,3,FALSE),DEBUT!$CP$2:$DI$18,15,FALSE),\"\")","v":""},null,null,null,{"$f":"IFERROR(HLOOKUP(HLOOKUP(ABO$8,DEBUT!$AB$4:$BP$78,3,FALSE),DEBUT!$CP$2:$DI$18,3,FALSE),\"\")","v":""},{"$f":"IFERROR(HLOOKUP(HLOOKUP(ABO$8,DEBUT!$AB$4:$BP$78,3,FALSE),DEBUT!$CP$2:$DI$18,7,FALSE),\"\")","v":""},{"$f":"IFERROR(HLOOKUP(HLOOKUP(ABO$8,DEBUT!$AB$4:$BP$78,3,FALSE),DEBUT!$CP$2:$DI$18,11,FALSE),\"\")","v":""},{"$f":"IFERROR(HLOOKUP(HLOOKUP(ABO$8,DEBUT!$AB$4:$BP$78,3,FALSE),DEBUT!$CP$2:$DI$18,15,FALSE),\"\")","v":""},null,null,null,null,null,null,null,{"$f":"IFERROR(HLOOKUP(HLOOKUP(ABZ$8,DEBUT!$AB$4:$BP$78,3,FALSE),DEBUT!$CP$2:$DI$18,3,FALSE),\"\")","v":""},{"$f":"IFERROR(HLOOKUP(HLOOKUP(ABZ$8,DEBUT!$AB$4:$BP$78,3,FALSE),DEBUT!$CP$2:$DI$18,7,FALSE),\"\")","v":""},{"$f":"IFERROR(HLOOKUP(HLOOKUP(ABZ$8,DEBUT!$AB$4:$BP$78,3,FALSE),DEBUT!$CP$2:$DI$18,11,FALSE),\"\")","v":""},{"$f":"IFERROR(HLOOKUP(HLOOKUP(ABZ$8,DEBUT!$AB$4:$BP$78,3,FALSE),DEBUT!$CP$2:$DI$18,15,FALSE),\"\")","v":""},null,null,null,{"$f":"IFERROR(HLOOKUP(HLOOKUP(ACG$8,DEBUT!$AB$4:$BP$78,3,FALSE),DEBUT!$CP$2:$DI$18,3,FALSE),\"\")","v":""},{"$f":"IFERROR(HLOOKUP(HLOOKUP(ACG$8,DEBUT!$AB$4:$BP$78,3,FALSE),DEBUT!$CP$2:$DI$18,7,FALSE),\"\")","v":""},{"$f":"IFERROR(HLOOKUP(HLOOKUP(ACG$8,DEBUT!$AB$4:$BP$78,3,FALSE),DEBUT!$CP$2:$DI$18,11,FALSE),\"\")","v":""},{"$f":"IFERROR(HLOOKUP(HLOOKUP(ACG$8,DEBUT!$AB$4:$BP$78,3,FALSE),DEBUT!$CP$2:$DI$18,15,FALSE),\"\")","v":""},null,null,null,null,null,{"$f":"IFERROR(HLOOKUP(HLOOKUP(ACP$8,DEBUT!$AB$4:$BP$78,3,FALSE),DEBUT!$CP$2:$DI$18,3,FALSE),\"\")","v":""},{"$f":"IFERROR(HLOOKUP(HLOOKUP(ACP$8,DEBUT!$AB$4:$BP$78,3,FALSE),DEBUT!$CP$2:$DI$18,7,FALSE),\"\")","v":""},{"$f":"IFERROR(HLOOKUP(HLOOKUP(ACP$8,DEBUT!$AB$4:$BP$78,3,FALSE),DEBUT!$CP$2:$DI$18,11,FALSE),\"\")","v":""},{"$f":"IFERROR(HLOOKUP(HLOOKUP(ACP$8,DEBUT!$AB$4:$BP$78,3,FALSE),DEBUT!$CP$2:$DI$18,15,FALSE),\"\")","v":""},null,null,null,{"$f":"IFERROR(HLOOKUP(HLOOKUP(ACW$8,DEBUT!$AB$4:$BP$78,3,FALSE),DEBUT!$CP$2:$DI$18,3,FALSE),\"\")","v":""},{"$f":"IFERROR(HLOOKUP(HLOOKUP(ACW$8,DEBUT!$AB$4:$BP$78,3,FALSE),DEBUT!$CP$2:$DI$18,7,FALSE),\"\")","v":""},{"$f":"IFERROR(HLOOKUP(HLOOKUP(ACW$8,DEBUT!$AB$4:$BP$78,3,FALSE),DEBUT!$CP$2:$DI$18,11,FALSE),\"\")","v":""},{"$f":"IFERROR(HLOOKUP(HLOOKUP(ACW$8,DEBUT!$AB$4:$BP$78,3,FALSE),DEBUT!$CP$2:$DI$18,15,FALSE),\"\")","v":""},null,null,null,null,null,null,null,{"$f":"IFERROR(HLOOKUP(HLOOKUP(ADH$8,DEBUT!$AB$4:$BP$78,3,FALSE),DEBUT!$CP$2:$DI$18,3,FALSE),\"\")","v":""},{"$f":"IFERROR(HLOOKUP(HLOOKUP(ADH$8,DEBUT!$AB$4:$BP$78,3,FALSE),DEBUT!$CP$2:$DI$18,7,FALSE),\"\")","v":""},{"$f":"IFERROR(HLOOKUP(HLOOKUP(ADH$8,DEBUT!$AB$4:$BP$78,3,FALSE),DEBUT!$CP$2:$DI$18,11,FALSE),\"\")","v":""},{"$f":"IFERROR(HLOOKUP(HLOOKUP(ADH$8,DEBUT!$AB$4:$BP$78,3,FALSE),DEBUT!$CP$2:$DI$18,15,FALSE),\"\")","v":""},null,null,null,{"$f":"IFERROR(HLOOKUP(HLOOKUP(ADO$8,DEBUT!$AB$4:$BP$78,3,FALSE),DEBUT!$CP$2:$DI$18,3,FALSE),\"\")","v":""},{"$f":"IFERROR(HLOOKUP(HLOOKUP(ADO$8,DEBUT!$AB$4:$BP$78,3,FALSE),DEBUT!$CP$2:$DI$18,7,FALSE),\"\")","v":""},{"$f":"IFERROR(HLOOKUP(HLOOKUP(ADO$8,DEBUT!$AB$4:$BP$78,3,FALSE),DEBUT!$CP$2:$DI$18,11,FALSE),\"\")","v":""},{"$f":"IFERROR(HLOOKUP(HLOOKUP(ADO$8,DEBUT!$AB$4:$BP$78,3,FALSE),DEBUT!$CP$2:$DI$18,15,FALSE),\"\")","v":""},null,null,null,null,null,{"$f":"IFERROR(HLOOKUP(HLOOKUP(ADX$8,DEBUT!$AB$4:$BP$78,3,FALSE),DEBUT!$CP$2:$DI$18,3,FALSE),\"\")","v":""},{"$f":"IFERROR(HLOOKUP(HLOOKUP(ADX$8,DEBUT!$AB$4:$BP$78,3,FALSE),DEBUT!$CP$2:$DI$18,7,FALSE),\"\")","v":""},{"$f":"IFERROR(HLOOKUP(HLOOKUP(ADX$8,DEBUT!$AB$4:$BP$78,3,FALSE),DEBUT!$CP$2:$DI$18,11,FALSE),\"\")","v":""},{"$f":"IFERROR(HLOOKUP(HLOOKUP(ADX$8,DEBUT!$AB$4:$BP$78,3,FALSE),DEBUT!$CP$2:$DI$18,15,FALSE),\"\")","v":""},null,null,null,{"$f":"IFERROR(HLOOKUP(HLOOKUP(AEE$8,DEBUT!$AB$4:$BP$78,3,FALSE),DEBUT!$CP$2:$DI$18,3,FALSE),\"\")","v":""},{"$f":"IFERROR(HLOOKUP(HLOOKUP(AEE$8,DEBUT!$AB$4:$BP$78,3,FALSE),DEBUT!$CP$2:$DI$18,7,FALSE),\"\")","v":""},{"$f":"IFERROR(HLOOKUP(HLOOKUP(AEE$8,DEBUT!$AB$4:$BP$78,3,FALSE),DEBUT!$CP$2:$DI$18,11,FALSE),\"\")","v":""},{"$f":"IFERROR(HLOOKUP(HLOOKUP(AEE$8,DEBUT!$AB$4:$BP$78,3,FALSE),DEBUT!$CP$2:$DI$18,15,FALSE),\"\")","v":""}]
[null,null,null,null,null,{"$f":"IFERROR(HLOOKUP(HLOOKUP(F$8,DEBUT!$AB$4:$BP$78,3,FALSE),DEBUT!$CP$2:$DI$18,4,FALSE),\"\")","v":""},{"$f":"IFERROR(HLOOKUP(HLOOKUP(F$8,DEBUT!$AB$4:$BP$78,3,FALSE),DEBUT!$CP$2:$DI$18,8,FALSE),\"\")","v":""},{"$f":"IFERROR(HLOOKUP(HLOOKUP(F$8,DEBUT!$AB$4:$BP$78,3,FALSE),DEBUT!$CP$2:$DI$18,12,FALSE),\"\")","v":""},{"$f":"IFERROR(HLOOKUP(HLOOKUP(F$8,DEBUT!$AB$4:$BP$78,3,FALSE),DEBUT!$CP$2:$DI$18,16,FALSE),\"\")","v":""},null,null,null,{"$f":"IFERROR(HLOOKUP(HLOOKUP(M$8,DEBUT!$AB$4:$BP$78,3,FALSE),DEBUT!$CP$2:$DI$18,4,FALSE),\"\")","v":""},{"$f":"IFERROR(HLOOKUP(HLOOKUP(M$8,DEBUT!$AB$4:$BP$78,3,FALSE),DEBUT!$CP$2:$DI$18,8,FALSE),\"\")","v":""},{"$f":"IFERROR(HLOOKUP(HLOOKUP(M$8,DEBUT!$AB$4:$BP$78,3,FALSE),DEBUT!$CP$2:$DI$18,12,FALSE),\"\")","v":""},{"$f":"IFERROR(HLOOKUP(HLOOKUP(M$8,DEBUT!$AB$4:$BP$78,3,FALSE),DEBUT!$CP$2:$DI$18,16,FALSE),\"\")","v":""},null,null,null,null,null,{"$f":"IFERROR(HLOOKUP(HLOOKUP(V$8,DEBUT!$AB$4:$BP$78,3,FALSE),DEBUT!$CP$2:$DI$18,4,FALSE),\"\")","v":""},{"$f":"IFERROR(HLOOKUP(HLOOKUP(V$8,DEBUT!$AB$4:$BP$78,3,FALSE),DEBUT!$CP$2:$DI$18,8,FALSE),\"\")","v":""},{"$f":"IFERROR(HLOOKUP(HLOOKUP(V$8,DEBUT!$AB$4:$BP$78,3,FALSE),DEBUT!$CP$2:$DI$18,12,FALSE),\"\")","v":""},{"$f":"IFERROR(HLOOKUP(HLOOKUP(V$8,DEBUT!$AB$4:$BP$78,3,FALSE),DEBUT!$CP$2:$DI$18,16,FALSE),\"\")","v":""},null,null,null,{"$f":"IFERROR(HLOOKUP(HLOOKUP(AC$8,DEBUT!$AB$4:$BP$78,3,FALSE),DEBUT!$CP$2:$DI$18,4,FALSE),\"\")","v":""},{"$f":"IFERROR(HLOOKUP(HLOOKUP(AC$8,DEBUT!$AB$4:$BP$78,3,FALSE),DEBUT!$CP$2:$DI$18,8,FALSE),\"\")","v":""},{"$f":"IFERROR(HLOOKUP(HLOOKUP(AC$8,DEBUT!$AB$4:$BP$78,3,FALSE),DEBUT!$CP$2:$DI$18,12,FALSE),\"\")","v":""},{"$f":"IFERROR(HLOOKUP(HLOOKUP(AC$8,DEBUT!$AB$4:$BP$78,3,FALSE),DEBUT!$CP$2:$DI$18,16,FALSE),\"\")","v":""},null,null,null,null,null,null,null,{"$f":"IFERROR(HLOOKUP(HLOOKUP(AN$8,DEBUT!$AB$4:$BP$78,3,FALSE),DEBUT!$CP$2:$DI$18,4,FALSE),\"\")","v":""},{"$f":"IFERROR(HLOOKUP(HLOOKUP(AN$8,DEBUT!$AB$4:$BP$78,3,FALSE),DEBUT!$CP$2:$DI$18,8,FALSE),\"\")","v":""},{"$f":"IFERROR(HLOOKUP(HLOOKUP(AN$8,DEBUT!$AB$4:$BP$78,3,FALSE),DEBUT!$CP$2:$DI$18,12,FALSE),\"\")","v":""},{"$f":"IFERROR(HLOOKUP(HLOOKUP(AN$8,DEBUT!$AB$4:$BP$78,3,FALSE),DEBUT!$CP$2:$DI$18,16,FALSE),\"\")","v":""},null,null,null,{"$f":"IFERROR(HLOOKUP(HLOOKUP(AU$8,DEBUT!$AB$4:$BP$78,3,FALSE),DEBUT!$CP$2:$DI$18,4,FALSE),\"\")","v":""},{"$f":"IFERROR(HLOOKUP(HLOOKUP(AU$8,DEBUT!$AB$4:$BP$78,3,FALSE),DEBUT!$CP$2:$DI$18,8,FALSE),\"\")","v":""},{"$f":"IFERROR(HLOOKUP(HLOOKUP(AU$8,DEBUT!$AB$4:$BP$78,3,FALSE),DEBUT!$CP$2:$DI$18,12,FALSE),\"\")","v":""},{"$f":"IFERROR(HLOOKUP(HLOOKUP(AU$8,DEBUT!$AB$4:$BP$78,3,FALSE),DEBUT!$CP$2:$DI$18,16,FALSE),\"\")","v":""},null,null,null,null,null,{"$f":"IFERROR(HLOOKUP(HLOOKUP(BD$8,DEBUT!$AB$4:$BP$78,3,FALSE),DEBUT!$CP$2:$DI$18,4,FALSE),\"\")","v":""},{"$f":"IFERROR(HLOOKUP(HLOOKUP(BD$8,DEBUT!$AB$4:$BP$78,3,FALSE),DEBUT!$CP$2:$DI$18,8,FALSE),\"\")","v":""},{"$f":"IFERROR(HLOOKUP(HLOOKUP(BD$8,DEBUT!$AB$4:$BP$78,3,FALSE),DEBUT!$CP$2:$DI$18,12,FALSE),\"\")","v":""},{"$f":"IFERROR(HLOOKUP(HLOOKUP(BD$8,DEBUT!$AB$4:$BP$78,3,FALSE),DEBUT!$CP$2:$DI$18,16,FALSE),\"\")","v":""},null,null,null,{"$f":"IFERROR(HLOOKUP(HLOOKUP(BK$8,DEBUT!$AB$4:$BP$78,3,FALSE),DEBUT!$CP$2:$DI$18,4,FALSE),\"\")","v":""},{"$f":"IFERROR(HLOOKUP(HLOOKUP(BK$8,DEBUT!$AB$4:$BP$78,3,FALSE),DEBUT!$CP$2:$DI$18,8,FALSE),\"\")","v":""},{"$f":"IFERROR(HLOOKUP(HLOOKUP(BK$8,DEBUT!$AB$4:$BP$78,3,FALSE),DEBUT!$CP$2:$DI$18,12,FALSE),\"\")","v":""},{"$f":"IFERROR(HLOOKUP(HLOOKUP(BK$8,DEBUT!$AB$4:$BP$78,3,FALSE),DEBUT!$CP$2:$DI$18,16,FALSE),\"\")","v":""},null,null,null,null,null,null,null,{"$f":"IFERROR(HLOOKUP(HLOOKUP(BV$8,DEBUT!$AB$4:$BP$78,3,FALSE),DEBUT!$CP$2:$DI$18,4,FALSE),\"\")","v":""},{"$f":"IFERROR(HLOOKUP(HLOOKUP(BV$8,DEBUT!$AB$4:$BP$78,3,FALSE),DEBUT!$CP$2:$DI$18,8,FALSE),\"\")","v":""},{"$f":"IFERROR(HLOOKUP(HLOOKUP(BV$8,DEBUT!$AB$4:$BP$78,3,FALSE),DEBUT!$CP$2:$DI$18,12,FALSE),\"\")","v":""},{"$f":"IFERROR(HLOOKUP(HLOOKUP(BV$8,DEBUT!$AB$4:$BP$78,3,FALSE),DEBUT!$CP$2:$DI$18,16,FALSE),\"\")","v":""},null,null,null,{"$f":"IFERROR(HLOOKUP(HLOOKUP(CC$8,DEBUT!$AB$4:$BP$78,3,FALSE),DEBUT!$CP$2:$DI$18,4,FALSE),\"\")","v":""},{"$f":"IFERROR(HLOOKUP(HLOOKUP(CC$8,DEBUT!$AB$4:$BP$78,3,FALSE),DEBUT!$CP$2:$DI$18,8,FALSE),\"\")","v":""},{"$f":"IFERROR(HLOOKUP(HLOOKUP(CC$8,DEBUT!$AB$4:$BP$78,3,FALSE),DEBUT!$CP$2:$DI$18,12,FALSE),\"\")","v":""},{"$f":"IFERROR(HLOOKUP(HLOOKUP(CC$8,DEBUT!$AB$4:$BP$78,3,FALSE),DEBUT!$CP$2:$DI$18,16,FALSE),\"\")","v":""},null,null,null,null,null,{"$f":"IFERROR(HLOOKUP(HLOOKUP(CL$8,DEBUT!$AB$4:$BP$78,3,FALSE),DEBUT!$CP$2:$DI$18,4,FALSE),\"\")","v":""},{"$f":"IFERROR(HLOOKUP(HLOOKUP(CL$8,DEBUT!$AB$4:$BP$78,3,FALSE),DEBUT!$CP$2:$DI$18,8,FALSE),\"\")","v":""},{"$f":"IFERROR(HLOOKUP(HLOOKUP(CL$8,DEBUT!$AB$4:$BP$78,3,FALSE),DEBUT!$CP$2:$DI$18,12,FALSE),\"\")","v":""},{"$f":"IFERROR(HLOOKUP(HLOOKUP(CL$8,DEBUT!$AB$4:$BP$78,3,FALSE),DEBUT!$CP$2:$DI$18,16,FALSE),\"\")","v":""},null,null,null,{"$f":"IFERROR(HLOOKUP(HLOOKUP(CS$8,DEBUT!$AB$4:$BP$78,3,FALSE),DEBUT!$CP$2:$DI$18,4,FALSE),\"\")","v":""},{"$f":"IFERROR(HLOOKUP(HLOOKUP(CS$8,DEBUT!$AB$4:$BP$78,3,FALSE),DEBUT!$CP$2:$DI$18,8,FALSE),\"\")","v":""},{"$f":"IFERROR(HLOOKUP(HLOOKUP(CS$8,DEBUT!$AB$4:$BP$78,3,FALSE),DEBUT!$CP$2:$DI$18,12,FALSE),\"\")","v":""},{"$f":"IFERROR(HLOOKUP(HLOOKUP(CS$8,DEBUT!$AB$4:$BP$78,3,FALSE),DEBUT!$CP$2:$DI$18,16,FALSE),\"\")","v":""},null,null,null,null,null,null,null,{"$f":"IFERROR(HLOOKUP(HLOOKUP(DD$8,DEBUT!$AB$4:$BP$78,3,FALSE),DEBUT!$CP$2:$DI$18,4,FALSE),\"\")","v":""},{"$f":"IFERROR(HLOOKUP(HLOOKUP(DD$8,DEBUT!$AB$4:$BP$78,3,FALSE),DEBUT!$CP$2:$DI$18,8,FALSE),\"\")","v":""},{"$f":"IFERROR(HLOOKUP(HLOOKUP(DD$8,DEBUT!$AB$4:$BP$78,3,FALSE),DEBUT!$CP$2:$DI$18,12,FALSE),\"\")","v":""},{"$f":"IFERROR(HLOOKUP(HLOOKUP(DD$8,DEBUT!$AB$4:$BP$78,3,FALSE),DEBUT!$CP$2:$DI$18,16,FALSE),\"\")","v":""},null,null,null,{"$f":"IFERROR(HLOOKUP(HLOOKUP(DK$8,DEBUT!$AB$4:$BP$78,3,FALSE),DEBUT!$CP$2:$DI$18,4,FALSE),\"\")","v":""},{"$f":"IFERROR(HLOOKUP(HLOOKUP(DK$8,DEBUT!$AB$4:$BP$78,3,FALSE),DEBUT!$CP$2:$DI$18,8,FALSE),\"\")","v":""},{"$f":"IFERROR(HLOOKUP(HLOOKUP(DK$8,DEBUT!$AB$4:$BP$78,3,FALSE),DEBUT!$CP$2:$DI$18,12,FALSE),\"\")","v":""},{"$f":"IFERROR(HLOOKUP(HLOOKUP(DK$8,DEBUT!$AB$4:$BP$78,3,FALSE),DEBUT!$CP$2:$DI$18,16,FALSE),\"\")","v":""},null,null,null,null,null,{"$f":"IFERROR(HLOOKUP(HLOOKUP(DT$8,DEBUT!$AB$4:$BP$78,3,FALSE),DEBUT!$CP$2:$DI$18,4,FALSE),\"\")","v":""},{"$f":"IFERROR(HLOOKUP(HLOOKUP(DT$8,DEBUT!$AB$4:$BP$78,3,FALSE),DEBUT!$CP$2:$DI$18,8,FALSE),\"\")","v":""},{"$f":"IFERROR(HLOOKUP(HLOOKUP(DT$8,DEBUT!$AB$4:$BP$78,3,FALSE),DEBUT!$CP$2:$DI$18,12,FALSE),\"\")","v":""},{"$f":"IFERROR(HLOOKUP(HLOOKUP(DT$8,DEBUT!$AB$4:$BP$78,3,FALSE),DEBUT!$CP$2:$DI$18,16,FALSE),\"\")","v":""},null,null,null,{"$f":"IFERROR(HLOOKUP(HLOOKUP(EA$8,DEBUT!$AB$4:$BP$78,3,FALSE),DEBUT!$CP$2:$DI$18,4,FALSE),\"\")","v":""},{"$f":"IFERROR(HLOOKUP(HLOOKUP(EA$8,DEBUT!$AB$4:$BP$78,3,FALSE),DEBUT!$CP$2:$DI$18,8,FALSE),\"\")","v":""},{"$f":"IFERROR(HLOOKUP(HLOOKUP(EA$8,DEBUT!$AB$4:$BP$78,3,FALSE),DEBUT!$CP$2:$DI$18,12,FALSE),\"\")","v":""},{"$f":"IFERROR(HLOOKUP(HLOOKUP(EA$8,DEBUT!$AB$4:$BP$78,3,FALSE),DEBUT!$CP$2:$DI$18,16,FALSE),\"\")","v":""},null,null,null,null,null,null,null,{"$f":"IFERROR(HLOOKUP(HLOOKUP(EL$8,DEBUT!$AB$4:$BP$78,3,FALSE),DEBUT!$CP$2:$DI$18,4,FALSE),\"\")","v":""},{"$f":"IFERROR(HLOOKUP(HLOOKUP(EL$8,DEBUT!$AB$4:$BP$78,3,FALSE),DEBUT!$CP$2:$DI$18,8,FALSE),\"\")","v":""},{"$f":"IFERROR(HLOOKUP(HLOOKUP(EL$8,DEBUT!$AB$4:$BP$78,3,FALSE),DEBUT!$CP$2:$DI$18,12,FALSE),\"\")","v":""},{"$f":"IFERROR(HLOOKUP(HLOOKUP(EL$8,DEBUT!$AB$4:$BP$78,3,FALSE),DEBUT!$CP$2:$DI$18,16,FALSE),\"\")","v":""},null,null,null,{"$f":"IFERROR(HLOOKUP(HLOOKUP(ES$8,DEBUT!$AB$4:$BP$78,3,FALSE),DEBUT!$CP$2:$DI$18,4,FALSE),\"\")","v":""},{"$f":"IFERROR(HLOOKUP(HLOOKUP(ES$8,DEBUT!$AB$4:$BP$78,3,FALSE),DEBUT!$CP$2:$DI$18,8,FALSE),\"\")","v":""},{"$f":"IFERROR(HLOOKUP(HLOOKUP(ES$8,DEBUT!$AB$4:$BP$78,3,FALSE),DEBUT!$CP$2:$DI$18,12,FALSE),\"\")","v":""},{"$f":"IFERROR(HLOOKUP(HLOOKUP(ES$8,DEBUT!$AB$4:$BP$78,3,FALSE),DEBUT!$CP$2:$DI$18,16,FALSE),\"\")","v":""},null,null,null,null,null,{"$f":"IFERROR(HLOOKUP(HLOOKUP(FB$8,DEBUT!$AB$4:$BP$78,3,FALSE),DEBUT!$CP$2:$DI$18,4,FALSE),\"\")","v":""},{"$f":"IFERROR(HLOOKUP(HLOOKUP(FB$8,DEBUT!$AB$4:$BP$78,3,FALSE),DEBUT!$CP$2:$DI$18,8,FALSE),\"\")","v":""},{"$f":"IFERROR(HLOOKUP(HLOOKUP(FB$8,DEBUT!$AB$4:$BP$78,3,FALSE),DEBUT!$CP$2:$DI$18,12,FALSE),\"\")","v":""},{"$f":"IFERROR(HLOOKUP(HLOOKUP(FB$8,DEBUT!$AB$4:$BP$78,3,FALSE),DEBUT!$CP$2:$DI$18,16,FALSE),\"\")","v":""},null,null,null,{"$f":"IFERROR(HLOOKUP(HLOOKUP(FI$8,DEBUT!$AB$4:$BP$78,3,FALSE),DEBUT!$CP$2:$DI$18,4,FALSE),\"\")","v":""},{"$f":"IFERROR(HLOOKUP(HLOOKUP(FI$8,DEBUT!$AB$4:$BP$78,3,FALSE),DEBUT!$CP$2:$DI$18,8,FALSE),\"\")","v":""},{"$f":"IFERROR(HLOOKUP(HLOOKUP(FI$8,DEBUT!$AB$4:$BP$78,3,FALSE),DEBUT!$CP$2:$DI$18,12,FALSE),\"\")","v":""},{"$f":"IFERROR(HLOOKUP(HLOOKUP(FI$8,DEBUT!$AB$4:$BP$78,3,FALSE),DEBUT!$CP$2:$DI$18,16,FALSE),\"\")","v":""},null,null,null,null,null,null,null,{"$f":"IFERROR(HLOOKUP(HLOOKUP(FT$8,DEBUT!$AB$4:$BP$78,3,FALSE),DEBUT!$CP$2:$DI$18,4,FALSE),\"\")","v":""},{"$f":"IFERROR(HLOOKUP(HLOOKUP(FT$8,DEBUT!$AB$4:$BP$78,3,FALSE),DEBUT!$CP$2:$DI$18,8,FALSE),\"\")","v":""},{"$f":"IFERROR(HLOOKUP(HLOOKUP(FT$8,DEBUT!$AB$4:$BP$78,3,FALSE),DEBUT!$CP$2:$DI$18,12,FALSE),\"\")","v":""},{"$f":"IFERROR(HLOOKUP(HLOOKUP(FT$8,DEBUT!$AB$4:$BP$78,3,FALSE),DEBUT!$CP$2:$DI$18,16,FALSE),\"\")","v":""},null,null,null,{"$f":"IFERROR(HLOOKUP(HLOOKUP(GA$8,DEBUT!$AB$4:$BP$78,3,FALSE),DEBUT!$CP$2:$DI$18,4,FALSE),\"\")","v":""},{"$f":"IFERROR(HLOOKUP(HLOOKUP(GA$8,DEBUT!$AB$4:$BP$78,3,FALSE),DEBUT!$CP$2:$DI$18,8,FALSE),\"\")","v":""},{"$f":"IFERROR(HLOOKUP(HLOOKUP(GA$8,DEBUT!$AB$4:$BP$78,3,FALSE),DEBUT!$CP$2:$DI$18,12,FALSE),\"\")","v":""},{"$f":"IFERROR(HLOOKUP(HLOOKUP(GA$8,DEBUT!$AB$4:$BP$78,3,FALSE),DEBUT!$CP$2:$DI$18,16,FALSE),\"\")","v":""},null,null,null,null,null,{"$f":"IFERROR(HLOOKUP(HLOOKUP(GJ$8,DEBUT!$AB$4:$BP$78,3,FALSE),DEBUT!$CP$2:$DI$18,4,FALSE),\"\")","v":""},{"$f":"IFERROR(HLOOKUP(HLOOKUP(GJ$8,DEBUT!$AB$4:$BP$78,3,FALSE),DEBUT!$CP$2:$DI$18,8,FALSE),\"\")","v":""},{"$f":"IFERROR(HLOOKUP(HLOOKUP(GJ$8,DEBUT!$AB$4:$BP$78,3,FALSE),DEBUT!$CP$2:$DI$18,12,FALSE),\"\")","v":""},{"$f":"IFERROR(HLOOKUP(HLOOKUP(GJ$8,DEBUT!$AB$4:$BP$78,3,FALSE),DEBUT!$CP$2:$DI$18,16,FALSE),\"\")","v":""},null,null,null,{"$f":"IFERROR(HLOOKUP(HLOOKUP(GQ$8,DEBUT!$AB$4:$BP$78,3,FALSE),DEBUT!$CP$2:$DI$18,4,FALSE),\"\")","v":""},{"$f":"IFERROR(HLOOKUP(HLOOKUP(GQ$8,DEBUT!$AB$4:$BP$78,3,FALSE),DEBUT!$CP$2:$DI$18,8,FALSE),\"\")","v":""},{"$f":"IFERROR(HLOOKUP(HLOOKUP(GQ$8,DEBUT!$AB$4:$BP$78,3,FALSE),DEBUT!$CP$2:$DI$18,12,FALSE),\"\")","v":""},{"$f":"IFERROR(HLOOKUP(HLOOKUP(GQ$8,DEBUT!$AB$4:$BP$78,3,FALSE),DEBUT!$CP$2:$DI$18,16,FALSE),\"\")","v":""},null,null,null,null,null,null,null,{"$f":"IFERROR(HLOOKUP(HLOOKUP(HB$8,DEBUT!$AB$4:$BP$78,3,FALSE),DEBUT!$CP$2:$DI$18,4,FALSE),\"\")","v":""},{"$f":"IFERROR(HLOOKUP(HLOOKUP(HB$8,DEBUT!$AB$4:$BP$78,3,FALSE),DEBUT!$CP$2:$DI$18,8,FALSE),\"\")","v":""},{"$f":"IFERROR(HLOOKUP(HLOOKUP(HB$8,DEBUT!$AB$4:$BP$78,3,FALSE),DEBUT!$CP$2:$DI$18,12,FALSE),\"\")","v":""},{"$f":"IFERROR(HLOOKUP(HLOOKUP(HB$8,DEBUT!$AB$4:$BP$78,3,FALSE),DEBUT!$CP$2:$DI$18,16,FALSE),\"\")","v":""},null,null,null,{"$f":"IFERROR(HLOOKUP(HLOOKUP(HI$8,DEBUT!$AB$4:$BP$78,3,FALSE),DEBUT!$CP$2:$DI$18,4,FALSE),\"\")","v":""},{"$f":"IFERROR(HLOOKUP(HLOOKUP(HI$8,DEBUT!$AB$4:$BP$78,3,FALSE),DEBUT!$CP$2:$DI$18,8,FALSE),\"\")","v":""},{"$f":"IFERROR(HLOOKUP(HLOOKUP(HI$8,DEBUT!$AB$4:$BP$78,3,FALSE),DEBUT!$CP$2:$DI$18,12,FALSE),\"\")","v":""},{"$f":"IFERROR(HLOOKUP(HLOOKUP(HI$8,DEBUT!$AB$4:$BP$78,3,FALSE),DEBUT!$CP$2:$DI$18,16,FALSE),\"\")","v":""},null,null,null,null,null,{"$f":"IFERROR(HLOOKUP(HLOOKUP(HR$8,DEBUT!$AB$4:$BP$78,3,FALSE),DEBUT!$CP$2:$DI$18,4,FALSE),\"\")","v":""},{"$f":"IFERROR(HLOOKUP(HLOOKUP(HR$8,DEBUT!$AB$4:$BP$78,3,FALSE),DEBUT!$CP$2:$DI$18,8,FALSE),\"\")","v":""},{"$f":"IFERROR(HLOOKUP(HLOOKUP(HR$8,DEBUT!$AB$4:$BP$78,3,FALSE),DEBUT!$CP$2:$DI$18,12,FALSE),\"\")","v":""},{"$f":"IFERROR(HLOOKUP(HLOOKUP(HR$8,DEBUT!$AB$4:$BP$78,3,FALSE),DEBUT!$CP$2:$DI$18,16,FALSE),\"\")","v":""},null,null,null,{"$f":"IFERROR(HLOOKUP(HLOOKUP(HY$8,DEBUT!$AB$4:$BP$78,3,FALSE),DEBUT!$CP$2:$DI$18,4,FALSE),\"\")","v":""},{"$f":"IFERROR(HLOOKUP(HLOOKUP(HY$8,DEBUT!$AB$4:$BP$78,3,FALSE),DEBUT!$CP$2:$DI$18,8,FALSE),\"\")","v":""},{"$f":"IFERROR(HLOOKUP(HLOOKUP(HY$8,DEBUT!$AB$4:$BP$78,3,FALSE),DEBUT!$CP$2:$DI$18,12,FALSE),\"\")","v":""},{"$f":"IFERROR(HLOOKUP(HLOOKUP(HY$8,DEBUT!$AB$4:$BP$78,3,FALSE),DEBUT!$CP$2:$DI$18,16,FALSE),\"\")","v":""},null,null,null,null,null,null,null,{"$f":"IFERROR(HLOOKUP(HLOOKUP(IJ$8,DEBUT!$AB$4:$BP$78,3,FALSE),DEBUT!$CP$2:$DI$18,4,FALSE),\"\")","v":""},{"$f":"IFERROR(HLOOKUP(HLOOKUP(IJ$8,DEBUT!$AB$4:$BP$78,3,FALSE),DEBUT!$CP$2:$DI$18,8,FALSE),\"\")","v":""},{"$f":"IFERROR(HLOOKUP(HLOOKUP(IJ$8,DEBUT!$AB$4:$BP$78,3,FALSE),DEBUT!$CP$2:$DI$18,12,FALSE),\"\")","v":""},{"$f":"IFERROR(HLOOKUP(HLOOKUP(IJ$8,DEBUT!$AB$4:$BP$78,3,FALSE),DEBUT!$CP$2:$DI$18,16,FALSE),\"\")","v":""},null,null,null,{"$f":"IFERROR(HLOOKUP(HLOOKUP(IQ$8,DEBUT!$AB$4:$BP$78,3,FALSE),DEBUT!$CP$2:$DI$18,4,FALSE),\"\")","v":""},{"$f":"IFERROR(HLOOKUP(HLOOKUP(IQ$8,DEBUT!$AB$4:$BP$78,3,FALSE),DEBUT!$CP$2:$DI$18,8,FALSE),\"\")","v":""},{"$f":"IFERROR(HLOOKUP(HLOOKUP(IQ$8,DEBUT!$AB$4:$BP$78,3,FALSE),DEBUT!$CP$2:$DI$18,12,FALSE),\"\")","v":""},{"$f":"IFERROR(HLOOKUP(HLOOKUP(IQ$8,DEBUT!$AB$4:$BP$78,3,FALSE),DEBUT!$CP$2:$DI$18,16,FALSE),\"\")","v":""},null,null,null,null,null,{"$f":"IFERROR(HLOOKUP(HLOOKUP(IZ$8,DEBUT!$AB$4:$BP$78,3,FALSE),DEBUT!$CP$2:$DI$18,4,FALSE),\"\")","v":""},{"$f":"IFERROR(HLOOKUP(HLOOKUP(IZ$8,DEBUT!$AB$4:$BP$78,3,FALSE),DEBUT!$CP$2:$DI$18,8,FALSE),\"\")","v":""},{"$f":"IFERROR(HLOOKUP(HLOOKUP(IZ$8,DEBUT!$AB$4:$BP$78,3,FALSE),DEBUT!$CP$2:$DI$18,12,FALSE),\"\")","v":""},{"$f":"IFERROR(HLOOKUP(HLOOKUP(IZ$8,DEBUT!$AB$4:$BP$78,3,FALSE),DEBUT!$CP$2:$DI$18,16,FALSE),\"\")","v":""},null,null,null,{"$f":"IFERROR(HLOOKUP(HLOOKUP(JG$8,DEBUT!$AB$4:$BP$78,3,FALSE),DEBUT!$CP$2:$DI$18,4,FALSE),\"\")","v":""},{"$f":"IFERROR(HLOOKUP(HLOOKUP(JG$8,DEBUT!$AB$4:$BP$78,3,FALSE),DEBUT!$CP$2:$DI$18,8,FALSE),\"\")","v":""},{"$f":"IFERROR(HLOOKUP(HLOOKUP(JG$8,DEBUT!$AB$4:$BP$78,3,FALSE),DEBUT!$CP$2:$DI$18,12,FALSE),\"\")","v":""},{"$f":"IFERROR(HLOOKUP(HLOOKUP(JG$8,DEBUT!$AB$4:$BP$78,3,FALSE),DEBUT!$CP$2:$DI$18,16,FALSE),\"\")","v":""},null,null,null,null,null,null,null,{"$f":"IFERROR(HLOOKUP(HLOOKUP(JR$8,DEBUT!$AB$4:$BP$78,3,FALSE),DEBUT!$CP$2:$DI$18,4,FALSE),\"\")","v":""},{"$f":"IFERROR(HLOOKUP(HLOOKUP(JR$8,DEBUT!$AB$4:$BP$78,3,FALSE),DEBUT!$CP$2:$DI$18,8,FALSE),\"\")","v":""},{"$f":"IFERROR(HLOOKUP(HLOOKUP(JR$8,DEBUT!$AB$4:$BP$78,3,FALSE),DEBUT!$CP$2:$DI$18,12,FALSE),\"\")","v":""},{"$f":"IFERROR(HLOOKUP(HLOOKUP(JR$8,DEBUT!$AB$4:$BP$78,3,FALSE),DEBUT!$CP$2:$DI$18,16,FALSE),\"\")","v":""},null,null,null,{"$f":"IFERROR(HLOOKUP(HLOOKUP(JY$8,DEBUT!$AB$4:$BP$78,3,FALSE),DEBUT!$CP$2:$DI$18,4,FALSE),\"\")","v":""},{"$f":"IFERROR(HLOOKUP(HLOOKUP(JY$8,DEBUT!$AB$4:$BP$78,3,FALSE),DEBUT!$CP$2:$DI$18,8,FALSE),\"\")","v":""},{"$f":"IFERROR(HLOOKUP(HLOOKUP(JY$8,DEBUT!$AB$4:$BP$78,3,FALSE),DEBUT!$CP$2:$DI$18,12,FALSE),\"\")","v":""},{"$f":"IFERROR(HLOOKUP(HLOOKUP(JY$8,DEBUT!$AB$4:$BP$78,3,FALSE),DEBUT!$CP$2:$DI$18,16,FALSE),\"\")","v":""},null,null,null,null,null,{"$f":"IFERROR(HLOOKUP(HLOOKUP(KH$8,DEBUT!$AB$4:$BP$78,3,FALSE),DEBUT!$CP$2:$DI$18,4,FALSE),\"\")","v":""},{"$f":"IFERROR(HLOOKUP(HLOOKUP(KH$8,DEBUT!$AB$4:$BP$78,3,FALSE),DEBUT!$CP$2:$DI$18,8,FALSE),\"\")","v":""},{"$f":"IFERROR(HLOOKUP(HLOOKUP(KH$8,DEBUT!$AB$4:$BP$78,3,FALSE),DEBUT!$CP$2:$DI$18,12,FALSE),\"\")","v":""},{"$f":"IFERROR(HLOOKUP(HLOOKUP(KH$8,DEBUT!$AB$4:$BP$78,3,FALSE),DEBUT!$CP$2:$DI$18,16,FALSE),\"\")","v":""},null,null,null,{"$f":"IFERROR(HLOOKUP(HLOOKUP(KO$8,DEBUT!$AB$4:$BP$78,3,FALSE),DEBUT!$CP$2:$DI$18,4,FALSE),\"\")","v":""},{"$f":"IFERROR(HLOOKUP(HLOOKUP(KO$8,DEBUT!$AB$4:$BP$78,3,FALSE),DEBUT!$CP$2:$DI$18,8,FALSE),\"\")","v":""},{"$f":"IFERROR(HLOOKUP(HLOOKUP(KO$8,DEBUT!$AB$4:$BP$78,3,FALSE),DEBUT!$CP$2:$DI$18,12,FALSE),\"\")","v":""},{"$f":"IFERROR(HLOOKUP(HLOOKUP(KO$8,DEBUT!$AB$4:$BP$78,3,FALSE),DEBUT!$CP$2:$DI$18,16,FALSE),\"\")","v":""},null,null,null,null,null,null,null,{"$f":"IFERROR(HLOOKUP(HLOOKUP(KZ$8,DEBUT!$AB$4:$BP$78,3,FALSE),DEBUT!$CP$2:$DI$18,4,FALSE),\"\")","v":""},{"$f":"IFERROR(HLOOKUP(HLOOKUP(KZ$8,DEBUT!$AB$4:$BP$78,3,FALSE),DEBUT!$CP$2:$DI$18,8,FALSE),\"\")","v":""},{"$f":"IFERROR(HLOOKUP(HLOOKUP(KZ$8,DEBUT!$AB$4:$BP$78,3,FALSE),DEBUT!$CP$2:$DI$18,12,FALSE),\"\")","v":""},{"$f":"IFERROR(HLOOKUP(HLOOKUP(KZ$8,DEBUT!$AB$4:$BP$78,3,FALSE),DEBUT!$CP$2:$DI$18,16,FALSE),\"\")","v":""},null,null,null,{"$f":"IFERROR(HLOOKUP(HLOOKUP(LG$8,DEBUT!$AB$4:$BP$78,3,FALSE),DEBUT!$CP$2:$DI$18,4,FALSE),\"\")","v":""},{"$f":"IFERROR(HLOOKUP(HLOOKUP(LG$8,DEBUT!$AB$4:$BP$78,3,FALSE),DEBUT!$CP$2:$DI$18,8,FALSE),\"\")","v":""},{"$f":"IFERROR(HLOOKUP(HLOOKUP(LG$8,DEBUT!$AB$4:$BP$78,3,FALSE),DEBUT!$CP$2:$DI$18,12,FALSE),\"\")","v":""},{"$f":"IFERROR(HLOOKUP(HLOOKUP(LG$8,DEBUT!$AB$4:$BP$78,3,FALSE),DEBUT!$CP$2:$DI$18,16,FALSE),\"\")","v":""},null,null,null,null,null,{"$f":"IFERROR(HLOOKUP(HLOOKUP(LP$8,DEBUT!$AB$4:$BP$78,3,FALSE),DEBUT!$CP$2:$DI$18,4,FALSE),\"\")","v":""},{"$f":"IFERROR(HLOOKUP(HLOOKUP(LP$8,DEBUT!$AB$4:$BP$78,3,FALSE),DEBUT!$CP$2:$DI$18,8,FALSE),\"\")","v":""},{"$f":"IFERROR(HLOOKUP(HLOOKUP(LP$8,DEBUT!$AB$4:$BP$78,3,FALSE),DEBUT!$CP$2:$DI$18,12,FALSE),\"\")","v":""},{"$f":"IFERROR(HLOOKUP(HLOOKUP(LP$8,DEBUT!$AB$4:$BP$78,3,FALSE),DEBUT!$CP$2:$DI$18,16,FALSE),\"\")","v":""},null,null,null,{"$f":"IFERROR(HLOOKUP(HLOOKUP(LW$8,DEBUT!$AB$4:$BP$78,3,FALSE),DEBUT!$CP$2:$DI$18,4,FALSE),\"\")","v":""},{"$f":"IFERROR(HLOOKUP(HLOOKUP(LW$8,DEBUT!$AB$4:$BP$78,3,FALSE),DEBUT!$CP$2:$DI$18,8,FALSE),\"\")","v":""},{"$f":"IFERROR(HLOOKUP(HLOOKUP(LW$8,DEBUT!$AB$4:$BP$78,3,FALSE),DEBUT!$CP$2:$DI$18,12,FALSE),\"\")","v":""},{"$f":"IFERROR(HLOOKUP(HLOOKUP(LW$8,DEBUT!$AB$4:$BP$78,3,FALSE),DEBUT!$CP$2:$DI$18,16,FALSE),\"\")","v":""},null,null,null,null,null,null,null,{"$f":"IFERROR(HLOOKUP(HLOOKUP(MH$8,DEBUT!$AB$4:$BP$78,3,FALSE),DEBUT!$CP$2:$DI$18,4,FALSE),\"\")","v":""},{"$f":"IFERROR(HLOOKUP(HLOOKUP(MH$8,DEBUT!$AB$4:$BP$78,3,FALSE),DEBUT!$CP$2:$DI$18,8,FALSE),\"\")","v":""},{"$f":"IFERROR(HLOOKUP(HLOOKUP(MH$8,DEBUT!$AB$4:$BP$78,3,FALSE),DEBUT!$CP$2:$DI$18,12,FALSE),\"\")","v":""},{"$f":"IFERROR(HLOOKUP(HLOOKUP(MH$8,DEBUT!$AB$4:$BP$78,3,FALSE),DEBUT!$CP$2:$DI$18,16,FALSE),\"\")","v":""},null,null,null,{"$f":"IFERROR(HLOOKUP(HLOOKUP(MO$8,DEBUT!$AB$4:$BP$78,3,FALSE),DEBUT!$CP$2:$DI$18,4,FALSE),\"\")","v":""},{"$f":"IFERROR(HLOOKUP(HLOOKUP(MO$8,DEBUT!$AB$4:$BP$78,3,FALSE),DEBUT!$CP$2:$DI$18,8,FALSE),\"\")","v":""},{"$f":"IFERROR(HLOOKUP(HLOOKUP(MO$8,DEBUT!$AB$4:$BP$78,3,FALSE),DEBUT!$CP$2:$DI$18,12,FALSE),\"\")","v":""},{"$f":"IFERROR(HLOOKUP(HLOOKUP(MO$8,DEBUT!$AB$4:$BP$78,3,FALSE),DEBUT!$CP$2:$DI$18,16,FALSE),\"\")","v":""},null,null,null,null,null,{"$f":"IFERROR(HLOOKUP(HLOOKUP(MX$8,DEBUT!$AB$4:$BP$78,3,FALSE),DEBUT!$CP$2:$DI$18,4,FALSE),\"\")","v":""},{"$f":"IFERROR(HLOOKUP(HLOOKUP(MX$8,DEBUT!$AB$4:$BP$78,3,FALSE),DEBUT!$CP$2:$DI$18,8,FALSE),\"\")","v":""},{"$f":"IFERROR(HLOOKUP(HLOOKUP(MX$8,DEBUT!$AB$4:$BP$78,3,FALSE),DEBUT!$CP$2:$DI$18,12,FALSE),\"\")","v":""},{"$f":"IFERROR(HLOOKUP(HLOOKUP(MX$8,DEBUT!$AB$4:$BP$78,3,FALSE),DEBUT!$CP$2:$DI$18,16,FALSE),\"\")","v":""},null,null,null,{"$f":"IFERROR(HLOOKUP(HLOOKUP(NE$8,DEBUT!$AB$4:$BP$78,3,FALSE),DEBUT!$CP$2:$DI$18,4,FALSE),\"\")","v":""},{"$f":"IFERROR(HLOOKUP(HLOOKUP(NE$8,DEBUT!$AB$4:$BP$78,3,FALSE),DEBUT!$CP$2:$DI$18,8,FALSE),\"\")","v":""},{"$f":"IFERROR(HLOOKUP(HLOOKUP(NE$8,DEBUT!$AB$4:$BP$78,3,FALSE),DEBUT!$CP$2:$DI$18,12,FALSE),\"\")","v":""},{"$f":"IFERROR(HLOOKUP(HLOOKUP(NE$8,DEBUT!$AB$4:$BP$78,3,FALSE),DEBUT!$CP$2:$DI$18,16,FALSE),\"\")","v":""},null,null,null,null,null,null,null,{"$f":"IFERROR(HLOOKUP(HLOOKUP(NP$8,DEBUT!$AB$4:$BP$78,3,FALSE),DEBUT!$CP$2:$DI$18,4,FALSE),\"\")","v":""},{"$f":"IFERROR(HLOOKUP(HLOOKUP(NP$8,DEBUT!$AB$4:$BP$78,3,FALSE),DEBUT!$CP$2:$DI$18,8,FALSE),\"\")","v":""},{"$f":"IFERROR(HLOOKUP(HLOOKUP(NP$8,DEBUT!$AB$4:$BP$78,3,FALSE),DEBUT!$CP$2:$DI$18,12,FALSE),\"\")","v":""},{"$f":"IFERROR(HLOOKUP(HLOOKUP(NP$8,DEBUT!$AB$4:$BP$78,3,FALSE),DEBUT!$CP$2:$DI$18,16,FALSE),\"\")","v":""},null,null,null,{"$f":"IFERROR(HLOOKUP(HLOOKUP(NW$8,DEBUT!$AB$4:$BP$78,3,FALSE),DEBUT!$CP$2:$DI$18,4,FALSE),\"\")","v":""},{"$f":"IFERROR(HLOOKUP(HLOOKUP(NW$8,DEBUT!$AB$4:$BP$78,3,FALSE),DEBUT!$CP$2:$DI$18,8,FALSE),\"\")","v":""},{"$f":"IFERROR(HLOOKUP(HLOOKUP(NW$8,DEBUT!$AB$4:$BP$78,3,FALSE),DEBUT!$CP$2:$DI$18,12,FALSE),\"\")","v":""},{"$f":"IFERROR(HLOOKUP(HLOOKUP(NW$8,DEBUT!$AB$4:$BP$78,3,FALSE),DEBUT!$CP$2:$DI$18,16,FALSE),\"\")","v":""},null,null,null,null,null,{"$f":"IFERROR(HLOOKUP(HLOOKUP(OF$8,DEBUT!$AB$4:$BP$78,3,FALSE),DEBUT!$CP$2:$DI$18,4,FALSE),\"\")","v":""},{"$f":"IFERROR(HLOOKUP(HLOOKUP(OF$8,DEBUT!$AB$4:$BP$78,3,FALSE),DEBUT!$CP$2:$DI$18,8,FALSE),\"\")","v":""},{"$f":"IFERROR(HLOOKUP(HLOOKUP(OF$8,DEBUT!$AB$4:$BP$78,3,FALSE),DEBUT!$CP$2:$DI$18,12,FALSE),\"\")","v":""},{"$f":"IFERROR(HLOOKUP(HLOOKUP(OF$8,DEBUT!$AB$4:$BP$78,3,FALSE),DEBUT!$CP$2:$DI$18,16,FALSE),\"\")","v":""},null,null,null,{"$f":"IFERROR(HLOOKUP(HLOOKUP(OM$8,DEBUT!$AB$4:$BP$78,3,FALSE),DEBUT!$CP$2:$DI$18,4,FALSE),\"\")","v":""},{"$f":"IFERROR(HLOOKUP(HLOOKUP(OM$8,DEBUT!$AB$4:$BP$78,3,FALSE),DEBUT!$CP$2:$DI$18,8,FALSE),\"\")","v":""},{"$f":"IFERROR(HLOOKUP(HLOOKUP(OM$8,DEBUT!$AB$4:$BP$78,3,FALSE),DEBUT!$CP$2:$DI$18,12,FALSE),\"\")","v":""},{"$f":"IFERROR(HLOOKUP(HLOOKUP(OM$8,DEBUT!$AB$4:$BP$78,3,FALSE),DEBUT!$CP$2:$DI$18,16,FALSE),\"\")","v":""},null,null,null,null,null,null,null,{"$f":"IFERROR(HLOOKUP(HLOOKUP(OX$8,DEBUT!$AB$4:$BP$78,3,FALSE),DEBUT!$CP$2:$DI$18,4,FALSE),\"\")","v":""},{"$f":"IFERROR(HLOOKUP(HLOOKUP(OX$8,DEBUT!$AB$4:$BP$78,3,FALSE),DEBUT!$CP$2:$DI$18,8,FALSE),\"\")","v":""},{"$f":"IFERROR(HLOOKUP(HLOOKUP(OX$8,DEBUT!$AB$4:$BP$78,3,FALSE),DEBUT!$CP$2:$DI$18,12,FALSE),\"\")","v":""},{"$f":"IFERROR(HLOOKUP(HLOOKUP(OX$8,DEBUT!$AB$4:$BP$78,3,FALSE),DEBUT!$CP$2:$DI$18,16,FALSE),\"\")","v":""},null,null,null,{"$f":"IFERROR(HLOOKUP(HLOOKUP(PE$8,DEBUT!$AB$4:$BP$78,3,FALSE),DEBUT!$CP$2:$DI$18,4,FALSE),\"\")","v":""},{"$f":"IFERROR(HLOOKUP(HLOOKUP(PE$8,DEBUT!$AB$4:$BP$78,3,FALSE),DEBUT!$CP$2:$DI$18,8,FALSE),\"\")","v":""},{"$f":"IFERROR(HLOOKUP(HLOOKUP(PE$8,DEBUT!$AB$4:$BP$78,3,FALSE),DEBUT!$CP$2:$DI$18,12,FALSE),\"\")","v":""},{"$f":"IFERROR(HLOOKUP(HLOOKUP(PE$8,DEBUT!$AB$4:$BP$78,3,FALSE),DEBUT!$CP$2:$DI$18,16,FALSE),\"\")","v":""},null,null,null,null,null,{"$f":"IFERROR(HLOOKUP(HLOOKUP(PN$8,DEBUT!$AB$4:$BP$78,3,FALSE),DEBUT!$CP$2:$DI$18,4,FALSE),\"\")","v":""},{"$f":"IFERROR(HLOOKUP(HLOOKUP(PN$8,DEBUT!$AB$4:$BP$78,3,FALSE),DEBUT!$CP$2:$DI$18,8,FALSE),\"\")","v":""},{"$f":"IFERROR(HLOOKUP(HLOOKUP(PN$8,DEBUT!$AB$4:$BP$78,3,FALSE),DEBUT!$CP$2:$DI$18,12,FALSE),\"\")","v":""},{"$f":"IFERROR(HLOOKUP(HLOOKUP(PN$8,DEBUT!$AB$4:$BP$78,3,FALSE),DEBUT!$CP$2:$DI$18,16,FALSE),\"\")","v":""},null,null,null,{"$f":"IFERROR(HLOOKUP(HLOOKUP(PU$8,DEBUT!$AB$4:$BP$78,3,FALSE),DEBUT!$CP$2:$DI$18,4,FALSE),\"\")","v":""},{"$f":"IFERROR(HLOOKUP(HLOOKUP(PU$8,DEBUT!$AB$4:$BP$78,3,FALSE),DEBUT!$CP$2:$DI$18,8,FALSE),\"\")","v":""},{"$f":"IFERROR(HLOOKUP(HLOOKUP(PU$8,DEBUT!$AB$4:$BP$78,3,FALSE),DEBUT!$CP$2:$DI$18,12,FALSE),\"\")","v":""},{"$f":"IFERROR(HLOOKUP(HLOOKUP(PU$8,DEBUT!$AB$4:$BP$78,3,FALSE),DEBUT!$CP$2:$DI$18,16,FALSE),\"\")","v":""},null,null,null,null,null,null,null,{"$f":"IFERROR(HLOOKUP(HLOOKUP(QF$8,DEBUT!$AB$4:$BP$78,3,FALSE),DEBUT!$CP$2:$DI$18,4,FALSE),\"\")","v":""},{"$f":"IFERROR(HLOOKUP(HLOOKUP(QF$8,DEBUT!$AB$4:$BP$78,3,FALSE),DEBUT!$CP$2:$DI$18,8,FALSE),\"\")","v":""},{"$f":"IFERROR(HLOOKUP(HLOOKUP(QF$8,DEBUT!$AB$4:$BP$78,3,FALSE),DEBUT!$CP$2:$DI$18,12,FALSE),\"\")","v":""},{"$f":"IFERROR(HLOOKUP(HLOOKUP(QF$8,DEBUT!$AB$4:$BP$78,3,FALSE),DEBUT!$CP$2:$DI$18,16,FALSE),\"\")","v":""},null,null,null,{"$f":"IFERROR(HLOOKUP(HLOOKUP(QM$8,DEBUT!$AB$4:$BP$78,3,FALSE),DEBUT!$CP$2:$DI$18,4,FALSE),\"\")","v":""},{"$f":"IFERROR(HLOOKUP(HLOOKUP(QM$8,DEBUT!$AB$4:$BP$78,3,FALSE),DEBUT!$CP$2:$DI$18,8,FALSE),\"\")","v":""},{"$f":"IFERROR(HLOOKUP(HLOOKUP(QM$8,DEBUT!$AB$4:$BP$78,3,FALSE),DEBUT!$CP$2:$DI$18,12,FALSE),\"\")","v":""},{"$f":"IFERROR(HLOOKUP(HLOOKUP(QM$8,DEBUT!$AB$4:$BP$78,3,FALSE),DEBUT!$CP$2:$DI$18,16,FALSE),\"\")","v":""},null,null,null,null,null,{"$f":"IFERROR(HLOOKUP(HLOOKUP(QV$8,DEBUT!$AB$4:$BP$78,3,FALSE),DEBUT!$CP$2:$DI$18,4,FALSE),\"\")","v":""},{"$f":"IFERROR(HLOOKUP(HLOOKUP(QV$8,DEBUT!$AB$4:$BP$78,3,FALSE),DEBUT!$CP$2:$DI$18,8,FALSE),\"\")","v":""},{"$f":"IFERROR(HLOOKUP(HLOOKUP(QV$8,DEBUT!$AB$4:$BP$78,3,FALSE),DEBUT!$CP$2:$DI$18,12,FALSE),\"\")","v":""},{"$f":"IFERROR(HLOOKUP(HLOOKUP(QV$8,DEBUT!$AB$4:$BP$78,3,FALSE),DEBUT!$CP$2:$DI$18,16,FALSE),\"\")","v":""},null,null,null,{"$f":"IFERROR(HLOOKUP(HLOOKUP(RC$8,DEBUT!$AB$4:$BP$78,3,FALSE),DEBUT!$CP$2:$DI$18,4,FALSE),\"\")","v":""},{"$f":"IFERROR(HLOOKUP(HLOOKUP(RC$8,DEBUT!$AB$4:$BP$78,3,FALSE),DEBUT!$CP$2:$DI$18,8,FALSE),\"\")","v":""},{"$f":"IFERROR(HLOOKUP(HLOOKUP(RC$8,DEBUT!$AB$4:$BP$78,3,FALSE),DEBUT!$CP$2:$DI$18,12,FALSE),\"\")","v":""},{"$f":"IFERROR(HLOOKUP(HLOOKUP(RC$8,DEBUT!$AB$4:$BP$78,3,FALSE),DEBUT!$CP$2:$DI$18,16,FALSE),\"\")","v":""},null,null,null,null,null,null,null,{"$f":"IFERROR(HLOOKUP(HLOOKUP(RN$8,DEBUT!$AB$4:$BP$78,3,FALSE),DEBUT!$CP$2:$DI$18,4,FALSE),\"\")","v":""},{"$f":"IFERROR(HLOOKUP(HLOOKUP(RN$8,DEBUT!$AB$4:$BP$78,3,FALSE),DEBUT!$CP$2:$DI$18,8,FALSE),\"\")","v":""},{"$f":"IFERROR(HLOOKUP(HLOOKUP(RN$8,DEBUT!$AB$4:$BP$78,3,FALSE),DEBUT!$CP$2:$DI$18,12,FALSE),\"\")","v":""},{"$f":"IFERROR(HLOOKUP(HLOOKUP(RN$8,DEBUT!$AB$4:$BP$78,3,FALSE),DEBUT!$CP$2:$DI$18,16,FALSE),\"\")","v":""},null,null,null,{"$f":"IFERROR(HLOOKUP(HLOOKUP(RU$8,DEBUT!$AB$4:$BP$78,3,FALSE),DEBUT!$CP$2:$DI$18,4,FALSE),\"\")","v":""},{"$f":"IFERROR(HLOOKUP(HLOOKUP(RU$8,DEBUT!$AB$4:$BP$78,3,FALSE),DEBUT!$CP$2:$DI$18,8,FALSE),\"\")","v":""},{"$f":"IFERROR(HLOOKUP(HLOOKUP(RU$8,DEBUT!$AB$4:$BP$78,3,FALSE),DEBUT!$CP$2:$DI$18,12,FALSE),\"\")","v":""},{"$f":"IFERROR(HLOOKUP(HLOOKUP(RU$8,DEBUT!$AB$4:$BP$78,3,FALSE),DEBUT!$CP$2:$DI$18,16,FALSE),\"\")","v":""},null,null,null,null,null,{"$f":"IFERROR(HLOOKUP(HLOOKUP(SD$8,DEBUT!$AB$4:$BP$78,3,FALSE),DEBUT!$CP$2:$DI$18,4,FALSE),\"\")","v":""},{"$f":"IFERROR(HLOOKUP(HLOOKUP(SD$8,DEBUT!$AB$4:$BP$78,3,FALSE),DEBUT!$CP$2:$DI$18,8,FALSE),\"\")","v":""},{"$f":"IFERROR(HLOOKUP(HLOOKUP(SD$8,DEBUT!$AB$4:$BP$78,3,FALSE),DEBUT!$CP$2:$DI$18,12,FALSE),\"\")","v":""},{"$f":"IFERROR(HLOOKUP(HLOOKUP(SD$8,DEBUT!$AB$4:$BP$78,3,FALSE),DEBUT!$CP$2:$DI$18,16,FALSE),\"\")","v":""},null,null,null,{"$f":"IFERROR(HLOOKUP(HLOOKUP(SK$8,DEBUT!$AB$4:$BP$78,3,FALSE),DEBUT!$CP$2:$DI$18,4,FALSE),\"\")","v":""},{"$f":"IFERROR(HLOOKUP(HLOOKUP(SK$8,DEBUT!$AB$4:$BP$78,3,FALSE),DEBUT!$CP$2:$DI$18,8,FALSE),\"\")","v":""},{"$f":"IFERROR(HLOOKUP(HLOOKUP(SK$8,DEBUT!$AB$4:$BP$78,3,FALSE),DEBUT!$CP$2:$DI$18,12,FALSE),\"\")","v":""},{"$f":"IFERROR(HLOOKUP(HLOOKUP(SK$8,DEBUT!$AB$4:$BP$78,3,FALSE),DEBUT!$CP$2:$DI$18,16,FALSE),\"\")","v":""},null,null,null,null,null,null,null,{"$f":"IFERROR(HLOOKUP(HLOOKUP(SV$8,DEBUT!$AB$4:$BP$78,3,FALSE),DEBUT!$CP$2:$DI$18,4,FALSE),\"\")","v":""},{"$f":"IFERROR(HLOOKUP(HLOOKUP(SV$8,DEBUT!$AB$4:$BP$78,3,FALSE),DEBUT!$CP$2:$DI$18,8,FALSE),\"\")","v":""},{"$f":"IFERROR(HLOOKUP(HLOOKUP(SV$8,DEBUT!$AB$4:$BP$78,3,FALSE),DEBUT!$CP$2:$DI$18,12,FALSE),\"\")","v":""},{"$f":"IFERROR(HLOOKUP(HLOOKUP(SV$8,DEBUT!$AB$4:$BP$78,3,FALSE),DEBUT!$CP$2:$DI$18,16,FALSE),\"\")","v":""},null,null,null,{"$f":"IFERROR(HLOOKUP(HLOOKUP(TC$8,DEBUT!$AB$4:$BP$78,3,FALSE),DEBUT!$CP$2:$DI$18,4,FALSE),\"\")","v":""},{"$f":"IFERROR(HLOOKUP(HLOOKUP(TC$8,DEBUT!$AB$4:$BP$78,3,FALSE),DEBUT!$CP$2:$DI$18,8,FALSE),\"\")","v":""},{"$f":"IFERROR(HLOOKUP(HLOOKUP(TC$8,DEBUT!$AB$4:$BP$78,3,FALSE),DEBUT!$CP$2:$DI$18,12,FALSE),\"\")","v":""},{"$f":"IFERROR(HLOOKUP(HLOOKUP(TC$8,DEBUT!$AB$4:$BP$78,3,FALSE),DEBUT!$CP$2:$DI$18,16,FALSE),\"\")","v":""},null,null,null,null,null,{"$f":"IFERROR(HLOOKUP(HLOOKUP(TL$8,DEBUT!$AB$4:$BP$78,3,FALSE),DEBUT!$CP$2:$DI$18,4,FALSE),\"\")","v":""},{"$f":"IFERROR(HLOOKUP(HLOOKUP(TL$8,DEBUT!$AB$4:$BP$78,3,FALSE),DEBUT!$CP$2:$DI$18,8,FALSE),\"\")","v":""},{"$f":"IFERROR(HLOOKUP(HLOOKUP(TL$8,DEBUT!$AB$4:$BP$78,3,FALSE),DEBUT!$CP$2:$DI$18,12,FALSE),\"\")","v":""},{"$f":"IFERROR(HLOOKUP(HLOOKUP(TL$8,DEBUT!$AB$4:$BP$78,3,FALSE),DEBUT!$CP$2:$DI$18,16,FALSE),\"\")","v":""},null,null,null,{"$f":"IFERROR(HLOOKUP(HLOOKUP(TS$8,DEBUT!$AB$4:$BP$78,3,FALSE),DEBUT!$CP$2:$DI$18,4,FALSE),\"\")","v":""},{"$f":"IFERROR(HLOOKUP(HLOOKUP(TS$8,DEBUT!$AB$4:$BP$78,3,FALSE),DEBUT!$CP$2:$DI$18,8,FALSE),\"\")","v":""},{"$f":"IFERROR(HLOOKUP(HLOOKUP(TS$8,DEBUT!$AB$4:$BP$78,3,FALSE),DEBUT!$CP$2:$DI$18,12,FALSE),\"\")","v":""},{"$f":"IFERROR(HLOOKUP(HLOOKUP(TS$8,DEBUT!$AB$4:$BP$78,3,FALSE),DEBUT!$CP$2:$DI$18,16,FALSE),\"\")","v":""},null,null,null,null,null,null,null,{"$f":"IFERROR(HLOOKUP(HLOOKUP(UD$8,DEBUT!$AB$4:$BP$78,3,FALSE),DEBUT!$CP$2:$DI$18,4,FALSE),\"\")","v":""},{"$f":"IFERROR(HLOOKUP(HLOOKUP(UD$8,DEBUT!$AB$4:$BP$78,3,FALSE),DEBUT!$CP$2:$DI$18,8,FALSE),\"\")","v":""},{"$f":"IFERROR(HLOOKUP(HLOOKUP(UD$8,DEBUT!$AB$4:$BP$78,3,FALSE),DEBUT!$CP$2:$DI$18,12,FALSE),\"\")","v":""},{"$f":"IFERROR(HLOOKUP(HLOOKUP(UD$8,DEBUT!$AB$4:$BP$78,3,FALSE),DEBUT!$CP$2:$DI$18,16,FALSE),\"\")","v":""},null,null,null,{"$f":"IFERROR(HLOOKUP(HLOOKUP(UK$8,DEBUT!$AB$4:$BP$78,3,FALSE),DEBUT!$CP$2:$DI$18,4,FALSE),\"\")","v":""},{"$f":"IFERROR(HLOOKUP(HLOOKUP(UK$8,DEBUT!$AB$4:$BP$78,3,FALSE),DEBUT!$CP$2:$DI$18,8,FALSE),\"\")","v":""},{"$f":"IFERROR(HLOOKUP(HLOOKUP(UK$8,DEBUT!$AB$4:$BP$78,3,FALSE),DEBUT!$CP$2:$DI$18,12,FALSE),\"\")","v":""},{"$f":"IFERROR(HLOOKUP(HLOOKUP(UK$8,DEBUT!$AB$4:$BP$78,3,FALSE),DEBUT!$CP$2:$DI$18,16,FALSE),\"\")","v":""},null,null,null,null,null,{"$f":"IFERROR(HLOOKUP(HLOOKUP(UT$8,DEBUT!$AB$4:$BP$78,3,FALSE),DEBUT!$CP$2:$DI$18,4,FALSE),\"\")","v":""},{"$f":"IFERROR(HLOOKUP(HLOOKUP(UT$8,DEBUT!$AB$4:$BP$78,3,FALSE),DEBUT!$CP$2:$DI$18,8,FALSE),\"\")","v":""},{"$f":"IFERROR(HLOOKUP(HLOOKUP(UT$8,DEBUT!$AB$4:$BP$78,3,FALSE),DEBUT!$CP$2:$DI$18,12,FALSE),\"\")","v":""},{"$f":"IFERROR(HLOOKUP(HLOOKUP(UT$8,DEBUT!$AB$4:$BP$78,3,FALSE),DEBUT!$CP$2:$DI$18,16,FALSE),\"\")","v":""},null,null,null,{"$f":"IFERROR(HLOOKUP(HLOOKUP(VA$8,DEBUT!$AB$4:$BP$78,3,FALSE),DEBUT!$CP$2:$DI$18,4,FALSE),\"\")","v":""},{"$f":"IFERROR(HLOOKUP(HLOOKUP(VA$8,DEBUT!$AB$4:$BP$78,3,FALSE),DEBUT!$CP$2:$DI$18,8,FALSE),\"\")","v":""},{"$f":"IFERROR(HLOOKUP(HLOOKUP(VA$8,DEBUT!$AB$4:$BP$78,3,FALSE),DEBUT!$CP$2:$DI$18,12,FALSE),\"\")","v":""},{"$f":"IFERROR(HLOOKUP(HLOOKUP(VA$8,DEBUT!$AB$4:$BP$78,3,FALSE),DEBUT!$CP$2:$DI$18,16,FALSE),\"\")","v":""},null,null,null,null,null,null,null,{"$f":"IFERROR(HLOOKUP(HLOOKUP(VL$8,DEBUT!$AB$4:$BP$78,3,FALSE),DEBUT!$CP$2:$DI$18,4,FALSE),\"\")","v":""},{"$f":"IFERROR(HLOOKUP(HLOOKUP(VL$8,DEBUT!$AB$4:$BP$78,3,FALSE),DEBUT!$CP$2:$DI$18,8,FALSE),\"\")","v":""},{"$f":"IFERROR(HLOOKUP(HLOOKUP(VL$8,DEBUT!$AB$4:$BP$78,3,FALSE),DEBUT!$CP$2:$DI$18,12,FALSE),\"\")","v":""},{"$f":"IFERROR(HLOOKUP(HLOOKUP(VL$8,DEBUT!$AB$4:$BP$78,3,FALSE),DEBUT!$CP$2:$DI$18,16,FALSE),\"\")","v":""},null,null,null,{"$f":"IFERROR(HLOOKUP(HLOOKUP(VS$8,DEBUT!$AB$4:$BP$78,3,FALSE),DEBUT!$CP$2:$DI$18,4,FALSE),\"\")","v":""},{"$f":"IFERROR(HLOOKUP(HLOOKUP(VS$8,DEBUT!$AB$4:$BP$78,3,FALSE),DEBUT!$CP$2:$DI$18,8,FALSE),\"\")","v":""},{"$f":"IFERROR(HLOOKUP(HLOOKUP(VS$8,DEBUT!$AB$4:$BP$78,3,FALSE),DEBUT!$CP$2:$DI$18,12,FALSE),\"\")","v":""},{"$f":"IFERROR(HLOOKUP(HLOOKUP(VS$8,DEBUT!$AB$4:$BP$78,3,FALSE),DEBUT!$CP$2:$DI$18,16,FALSE),\"\")","v":""},null,null,null,null,null,{"$f":"IFERROR(HLOOKUP(HLOOKUP(WB$8,DEBUT!$AB$4:$BP$78,3,FALSE),DEBUT!$CP$2:$DI$18,4,FALSE),\"\")","v":""},{"$f":"IFERROR(HLOOKUP(HLOOKUP(WB$8,DEBUT!$AB$4:$BP$78,3,FALSE),DEBUT!$CP$2:$DI$18,8,FALSE),\"\")","v":""},{"$f":"IFERROR(HLOOKUP(HLOOKUP(WB$8,DEBUT!$AB$4:$BP$78,3,FALSE),DEBUT!$CP$2:$DI$18,12,FALSE),\"\")","v":""},{"$f":"IFERROR(HLOOKUP(HLOOKUP(WB$8,DEBUT!$AB$4:$BP$78,3,FALSE),DEBUT!$CP$2:$DI$18,16,FALSE),\"\")","v":""},null,null,null,{"$f":"IFERROR(HLOOKUP(HLOOKUP(WI$8,DEBUT!$AB$4:$BP$78,3,FALSE),DEBUT!$CP$2:$DI$18,4,FALSE),\"\")","v":""},{"$f":"IFERROR(HLOOKUP(HLOOKUP(WI$8,DEBUT!$AB$4:$BP$78,3,FALSE),DEBUT!$CP$2:$DI$18,8,FALSE),\"\")","v":""},{"$f":"IFERROR(HLOOKUP(HLOOKUP(WI$8,DEBUT!$AB$4:$BP$78,3,FALSE),DEBUT!$CP$2:$DI$18,12,FALSE),\"\")","v":""},{"$f":"IFERROR(HLOOKUP(HLOOKUP(WI$8,DEBUT!$AB$4:$BP$78,3,FALSE),DEBUT!$CP$2:$DI$18,16,FALSE),\"\")","v":""},null,null,null,null,null,null,null,{"$f":"IFERROR(HLOOKUP(HLOOKUP(WT$8,DEBUT!$AB$4:$BP$78,3,FALSE),DEBUT!$CP$2:$DI$18,4,FALSE),\"\")","v":""},{"$f":"IFERROR(HLOOKUP(HLOOKUP(WT$8,DEBUT!$AB$4:$BP$78,3,FALSE),DEBUT!$CP$2:$DI$18,8,FALSE),\"\")","v":""},{"$f":"IFERROR(HLOOKUP(HLOOKUP(WT$8,DEBUT!$AB$4:$BP$78,3,FALSE),DEBUT!$CP$2:$DI$18,12,FALSE),\"\")","v":""},{"$f":"IFERROR(HLOOKUP(HLOOKUP(WT$8,DEBUT!$AB$4:$BP$78,3,FALSE),DEBUT!$CP$2:$DI$18,16,FALSE),\"\")","v":""},null,null,null,{"$f":"IFERROR(HLOOKUP(HLOOKUP(XA$8,DEBUT!$AB$4:$BP$78,3,FALSE),DEBUT!$CP$2:$DI$18,4,FALSE),\"\")","v":""},{"$f":"IFERROR(HLOOKUP(HLOOKUP(XA$8,DEBUT!$AB$4:$BP$78,3,FALSE),DEBUT!$CP$2:$DI$18,8,FALSE),\"\")","v":""},{"$f":"IFERROR(HLOOKUP(HLOOKUP(XA$8,DEBUT!$AB$4:$BP$78,3,FALSE),DEBUT!$CP$2:$DI$18,12,FALSE),\"\")","v":""},{"$f":"IFERROR(HLOOKUP(HLOOKUP(XA$8,DEBUT!$AB$4:$BP$78,3,FALSE),DEBUT!$CP$2:$DI$18,16,FALSE),\"\")","v":""},null,null,null,null,null,{"$f":"IFERROR(HLOOKUP(HLOOKUP(XJ$8,DEBUT!$AB$4:$BP$78,3,FALSE),DEBUT!$CP$2:$DI$18,4,FALSE),\"\")","v":""},{"$f":"IFERROR(HLOOKUP(HLOOKUP(XJ$8,DEBUT!$AB$4:$BP$78,3,FALSE),DEBUT!$CP$2:$DI$18,8,FALSE),\"\")","v":""},{"$f":"IFERROR(HLOOKUP(HLOOKUP(XJ$8,DEBUT!$AB$4:$BP$78,3,FALSE),DEBUT!$CP$2:$DI$18,12,FALSE),\"\")","v":""},{"$f":"IFERROR(HLOOKUP(HLOOKUP(XJ$8,DEBUT!$AB$4:$BP$78,3,FALSE),DEBUT!$CP$2:$DI$18,16,FALSE),\"\")","v":""},null,null,null,{"$f":"IFERROR(HLOOKUP(HLOOKUP(XQ$8,DEBUT!$AB$4:$BP$78,3,FALSE),DEBUT!$CP$2:$DI$18,4,FALSE),\"\")","v":""},{"$f":"IFERROR(HLOOKUP(HLOOKUP(XQ$8,DEBUT!$AB$4:$BP$78,3,FALSE),DEBUT!$CP$2:$DI$18,8,FALSE),\"\")","v":""},{"$f":"IFERROR(HLOOKUP(HLOOKUP(XQ$8,DEBUT!$AB$4:$BP$78,3,FALSE),DEBUT!$CP$2:$DI$18,12,FALSE),\"\")","v":""},{"$f":"IFERROR(HLOOKUP(HLOOKUP(XQ$8,DEBUT!$AB$4:$BP$78,3,FALSE),DEBUT!$CP$2:$DI$18,16,FALSE),\"\")","v":""},null,null,null,null,null,null,null,{"$f":"IFERROR(HLOOKUP(HLOOKUP(YB$8,DEBUT!$AB$4:$BP$78,3,FALSE),DEBUT!$CP$2:$DI$18,4,FALSE),\"\")","v":""},{"$f":"IFERROR(HLOOKUP(HLOOKUP(YB$8,DEBUT!$AB$4:$BP$78,3,FALSE),DEBUT!$CP$2:$DI$18,8,FALSE),\"\")","v":""},{"$f":"IFERROR(HLOOKUP(HLOOKUP(YB$8,DEBUT!$AB$4:$BP$78,3,FALSE),DEBUT!$CP$2:$DI$18,12,FALSE),\"\")","v":""},{"$f":"IFERROR(HLOOKUP(HLOOKUP(YB$8,DEBUT!$AB$4:$BP$78,3,FALSE),DEBUT!$CP$2:$DI$18,16,FALSE),\"\")","v":""},null,null,null,{"$f":"IFERROR(HLOOKUP(HLOOKUP(YI$8,DEBUT!$AB$4:$BP$78,3,FALSE),DEBUT!$CP$2:$DI$18,4,FALSE),\"\")","v":""},{"$f":"IFERROR(HLOOKUP(HLOOKUP(YI$8,DEBUT!$AB$4:$BP$78,3,FALSE),DEBUT!$CP$2:$DI$18,8,FALSE),\"\")","v":""},{"$f":"IFERROR(HLOOKUP(HLOOKUP(YI$8,DEBUT!$AB$4:$BP$78,3,FALSE),DEBUT!$CP$2:$DI$18,12,FALSE),\"\")","v":""},{"$f":"IFERROR(HLOOKUP(HLOOKUP(YI$8,DEBUT!$AB$4:$BP$78,3,FALSE),DEBUT!$CP$2:$DI$18,16,FALSE),\"\")","v":""},null,null,null,null,null,{"$f":"IFERROR(HLOOKUP(HLOOKUP(YR$8,DEBUT!$AB$4:$BP$78,3,FALSE),DEBUT!$CP$2:$DI$18,4,FALSE),\"\")","v":""},{"$f":"IFERROR(HLOOKUP(HLOOKUP(YR$8,DEBUT!$AB$4:$BP$78,3,FALSE),DEBUT!$CP$2:$DI$18,8,FALSE),\"\")","v":""},{"$f":"IFERROR(HLOOKUP(HLOOKUP(YR$8,DEBUT!$AB$4:$BP$78,3,FALSE),DEBUT!$CP$2:$DI$18,12,FALSE),\"\")","v":""},{"$f":"IFERROR(HLOOKUP(HLOOKUP(YR$8,DEBUT!$AB$4:$BP$78,3,FALSE),DEBUT!$CP$2:$DI$18,16,FALSE),\"\")","v":""},null,null,null,{"$f":"IFERROR(HLOOKUP(HLOOKUP(YY$8,DEBUT!$AB$4:$BP$78,3,FALSE),DEBUT!$CP$2:$DI$18,4,FALSE),\"\")","v":""},{"$f":"IFERROR(HLOOKUP(HLOOKUP(YY$8,DEBUT!$AB$4:$BP$78,3,FALSE),DEBUT!$CP$2:$DI$18,8,FALSE),\"\")","v":""},{"$f":"IFERROR(HLOOKUP(HLOOKUP(YY$8,DEBUT!$AB$4:$BP$78,3,FALSE),DEBUT!$CP$2:$DI$18,12,FALSE),\"\")","v":""},{"$f":"IFERROR(HLOOKUP(HLOOKUP(YY$8,DEBUT!$AB$4:$BP$78,3,FALSE),DEBUT!$CP$2:$DI$18,16,FALSE),\"\")","v":""},null,null,null,null,null,null,null,{"$f":"IFERROR(HLOOKUP(HLOOKUP(ZJ$8,DEBUT!$AB$4:$BP$78,3,FALSE),DEBUT!$CP$2:$DI$18,4,FALSE),\"\")","v":""},{"$f":"IFERROR(HLOOKUP(HLOOKUP(ZJ$8,DEBUT!$AB$4:$BP$78,3,FALSE),DEBUT!$CP$2:$DI$18,8,FALSE),\"\")","v":""},{"$f":"IFERROR(HLOOKUP(HLOOKUP(ZJ$8,DEBUT!$AB$4:$BP$78,3,FALSE),DEBUT!$CP$2:$DI$18,12,FALSE),\"\")","v":""},{"$f":"IFERROR(HLOOKUP(HLOOKUP(ZJ$8,DEBUT!$AB$4:$BP$78,3,FALSE),DEBUT!$CP$2:$DI$18,16,FALSE),\"\")","v":""},null,null,null,{"$f":"IFERROR(HLOOKUP(HLOOKUP(ZQ$8,DEBUT!$AB$4:$BP$78,3,FALSE),DEBUT!$CP$2:$DI$18,4,FALSE),\"\")","v":""},{"$f":"IFERROR(HLOOKUP(HLOOKUP(ZQ$8,DEBUT!$AB$4:$BP$78,3,FALSE),DEBUT!$CP$2:$DI$18,8,FALSE),\"\")","v":""},{"$f":"IFERROR(HLOOKUP(HLOOKUP(ZQ$8,DEBUT!$AB$4:$BP$78,3,FALSE),DEBUT!$CP$2:$DI$18,12,FALSE),\"\")","v":""},{"$f":"IFERROR(HLOOKUP(HLOOKUP(ZQ$8,DEBUT!$AB$4:$BP$78,3,FALSE),DEBUT!$CP$2:$DI$18,16,FALSE),\"\")","v":""},null,null,null,null,null,{"$f":"IFERROR(HLOOKUP(HLOOKUP(ZZ$8,DEBUT!$AB$4:$BP$78,3,FALSE),DEBUT!$CP$2:$DI$18,4,FALSE),\"\")","v":""},{"$f":"IFERROR(HLOOKUP(HLOOKUP(ZZ$8,DEBUT!$AB$4:$BP$78,3,FALSE),DEBUT!$CP$2:$DI$18,8,FALSE),\"\")","v":""},{"$f":"IFERROR(HLOOKUP(HLOOKUP(ZZ$8,DEBUT!$AB$4:$BP$78,3,FALSE),DEBUT!$CP$2:$DI$18,12,FALSE),\"\")","v":""},{"$f":"IFERROR(HLOOKUP(HLOOKUP(ZZ$8,DEBUT!$AB$4:$BP$78,3,FALSE),DEBUT!$CP$2:$DI$18,16,FALSE),\"\")","v":""},null,null,null,{"$f":"IFERROR(HLOOKUP(HLOOKUP(AAG$8,DEBUT!$AB$4:$BP$78,3,FALSE),DEBUT!$CP$2:$DI$18,4,FALSE),\"\")","v":""},{"$f":"IFERROR(HLOOKUP(HLOOKUP(AAG$8,DEBUT!$AB$4:$BP$78,3,FALSE),DEBUT!$CP$2:$DI$18,8,FALSE),\"\")","v":""},{"$f":"IFERROR(HLOOKUP(HLOOKUP(AAG$8,DEBUT!$AB$4:$BP$78,3,FALSE),DEBUT!$CP$2:$DI$18,12,FALSE),\"\")","v":""},{"$f":"IFERROR(HLOOKUP(HLOOKUP(AAG$8,DEBUT!$AB$4:$BP$78,3,FALSE),DEBUT!$CP$2:$DI$18,16,FALSE),\"\")","v":""},null,null,null,null,null,null,null,{"$f":"IFERROR(HLOOKUP(HLOOKUP(AAR$8,DEBUT!$AB$4:$BP$78,3,FALSE),DEBUT!$CP$2:$DI$18,4,FALSE),\"\")","v":""},{"$f":"IFERROR(HLOOKUP(HLOOKUP(AAR$8,DEBUT!$AB$4:$BP$78,3,FALSE),DEBUT!$CP$2:$DI$18,8,FALSE),\"\")","v":""},{"$f":"IFERROR(HLOOKUP(HLOOKUP(AAR$8,DEBUT!$AB$4:$BP$78,3,FALSE),DEBUT!$CP$2:$DI$18,12,FALSE),\"\")","v":""},{"$f":"IFERROR(HLOOKUP(HLOOKUP(AAR$8,DEBUT!$AB$4:$BP$78,3,FALSE),DEBUT!$CP$2:$DI$18,16,FALSE),\"\")","v":""},null,null,null,{"$f":"IFERROR(HLOOKUP(HLOOKUP(AAY$8,DEBUT!$AB$4:$BP$78,3,FALSE),DEBUT!$CP$2:$DI$18,4,FALSE),\"\")","v":""},{"$f":"IFERROR(HLOOKUP(HLOOKUP(AAY$8,DEBUT!$AB$4:$BP$78,3,FALSE),DEBUT!$CP$2:$DI$18,8,FALSE),\"\")","v":""},{"$f":"IFERROR(HLOOKUP(HLOOKUP(AAY$8,DEBUT!$AB$4:$BP$78,3,FALSE),DEBUT!$CP$2:$DI$18,12,FALSE),\"\")","v":""},{"$f":"IFERROR(HLOOKUP(HLOOKUP(AAY$8,DEBUT!$AB$4:$BP$78,3,FALSE),DEBUT!$CP$2:$DI$18,16,FALSE),\"\")","v":""},null,null,null,null,null,{"$f":"IFERROR(HLOOKUP(HLOOKUP(ABH$8,DEBUT!$AB$4:$BP$78,3,FALSE),DEBUT!$CP$2:$DI$18,4,FALSE),\"\")","v":""},{"$f":"IFERROR(HLOOKUP(HLOOKUP(ABH$8,DEBUT!$AB$4:$BP$78,3,FALSE),DEBUT!$CP$2:$DI$18,8,FALSE),\"\")","v":""},{"$f":"IFERROR(HLOOKUP(HLOOKUP(ABH$8,DEBUT!$AB$4:$BP$78,3,FALSE),DEBUT!$CP$2:$DI$18,12,FALSE),\"\")","v":""},{"$f":"IFERROR(HLOOKUP(HLOOKUP(ABH$8,DEBUT!$AB$4:$BP$78,3,FALSE),DEBUT!$CP$2:$DI$18,16,FALSE),\"\")","v":""},null,null,null,{"$f":"IFERROR(HLOOKUP(HLOOKUP(ABO$8,DEBUT!$AB$4:$BP$78,3,FALSE),DEBUT!$CP$2:$DI$18,4,FALSE),\"\")","v":""},{"$f":"IFERROR(HLOOKUP(HLOOKUP(ABO$8,DEBUT!$AB$4:$BP$78,3,FALSE),DEBUT!$CP$2:$DI$18,8,FALSE),\"\")","v":""},{"$f":"IFERROR(HLOOKUP(HLOOKUP(ABO$8,DEBUT!$AB$4:$BP$78,3,FALSE),DEBUT!$CP$2:$DI$18,12,FALSE),\"\")","v":""},{"$f":"IFERROR(HLOOKUP(HLOOKUP(ABO$8,DEBUT!$AB$4:$BP$78,3,FALSE),DEBUT!$CP$2:$DI$18,16,FALSE),\"\")","v":""},null,null,null,null,null,null,null,{"$f":"IFERROR(HLOOKUP(HLOOKUP(ABZ$8,DEBUT!$AB$4:$BP$78,3,FALSE),DEBUT!$CP$2:$DI$18,4,FALSE),\"\")","v":""},{"$f":"IFERROR(HLOOKUP(HLOOKUP(ABZ$8,DEBUT!$AB$4:$BP$78,3,FALSE),DEBUT!$CP$2:$DI$18,8,FALSE),\"\")","v":""},{"$f":"IFERROR(HLOOKUP(HLOOKUP(ABZ$8,DEBUT!$AB$4:$BP$78,3,FALSE),DEBUT!$CP$2:$DI$18,12,FALSE),\"\")","v":""},{"$f":"IFERROR(HLOOKUP(HLOOKUP(ABZ$8,DEBUT!$AB$4:$BP$78,3,FALSE),DEBUT!$CP$2:$DI$18,16,FALSE),\"\")","v":""},null,null,null,{"$f":"IFERROR(HLOOKUP(HLOOKUP(ACG$8,DEBUT!$AB$4:$BP$78,3,FALSE),DEBUT!$CP$2:$DI$18,4,FALSE),\"\")","v":""},{"$f":"IFERROR(HLOOKUP(HLOOKUP(ACG$8,DEBUT!$AB$4:$BP$78,3,FALSE),DEBUT!$CP$2:$DI$18,8,FALSE),\"\")","v":""},{"$f":"IFERROR(HLOOKUP(HLOOKUP(ACG$8,DEBUT!$AB$4:$BP$78,3,FALSE),DEBUT!$CP$2:$DI$18,12,FALSE),\"\")","v":""},{"$f":"IFERROR(HLOOKUP(HLOOKUP(ACG$8,DEBUT!$AB$4:$BP$78,3,FALSE),DEBUT!$CP$2:$DI$18,16,FALSE),\"\")","v":""},null,null,null,null,null,{"$f":"IFERROR(HLOOKUP(HLOOKUP(ACP$8,DEBUT!$AB$4:$BP$78,3,FALSE),DEBUT!$CP$2:$DI$18,4,FALSE),\"\")","v":""},{"$f":"IFERROR(HLOOKUP(HLOOKUP(ACP$8,DEBUT!$AB$4:$BP$78,3,FALSE),DEBUT!$CP$2:$DI$18,8,FALSE),\"\")","v":""},{"$f":"IFERROR(HLOOKUP(HLOOKUP(ACP$8,DEBUT!$AB$4:$BP$78,3,FALSE),DEBUT!$CP$2:$DI$18,12,FALSE),\"\")","v":""},{"$f":"IFERROR(HLOOKUP(HLOOKUP(ACP$8,DEBUT!$AB$4:$BP$78,3,FALSE),DEBUT!$CP$2:$DI$18,16,FALSE),\"\")","v":""},null,null,null,{"$f":"IFERROR(HLOOKUP(HLOOKUP(ACW$8,DEBUT!$AB$4:$BP$78,3,FALSE),DEBUT!$CP$2:$DI$18,4,FALSE),\"\")","v":""},{"$f":"IFERROR(HLOOKUP(HLOOKUP(ACW$8,DEBUT!$AB$4:$BP$78,3,FALSE),DEBUT!$CP$2:$DI$18,8,FALSE),\"\")","v":""},{"$f":"IFERROR(HLOOKUP(HLOOKUP(ACW$8,DEBUT!$AB$4:$BP$78,3,FALSE),DEBUT!$CP$2:$DI$18,12,FALSE),\"\")","v":""},{"$f":"IFERROR(HLOOKUP(HLOOKUP(ACW$8,DEBUT!$AB$4:$BP$78,3,FALSE),DEBUT!$CP$2:$DI$18,16,FALSE),\"\")","v":""},null,null,null,null,null,null,null,{"$f":"IFERROR(HLOOKUP(HLOOKUP(ADH$8,DEBUT!$AB$4:$BP$78,3,FALSE),DEBUT!$CP$2:$DI$18,4,FALSE),\"\")","v":""},{"$f":"IFERROR(HLOOKUP(HLOOKUP(ADH$8,DEBUT!$AB$4:$BP$78,3,FALSE),DEBUT!$CP$2:$DI$18,8,FALSE),\"\")","v":""},{"$f":"IFERROR(HLOOKUP(HLOOKUP(ADH$8,DEBUT!$AB$4:$BP$78,3,FALSE),DEBUT!$CP$2:$DI$18,12,FALSE),\"\")","v":""},{"$f":"IFERROR(HLOOKUP(HLOOKUP(ADH$8,DEBUT!$AB$4:$BP$78,3,FALSE),DEBUT!$CP$2:$DI$18,16,FALSE),\"\")","v":""},null,null,null,{"$f":"IFERROR(HLOOKUP(HLOOKUP(ADO$8,DEBUT!$AB$4:$BP$78,3,FALSE),DEBUT!$CP$2:$DI$18,4,FALSE),\"\")","v":""},{"$f":"IFERROR(HLOOKUP(HLOOKUP(ADO$8,DEBUT!$AB$4:$BP$78,3,FALSE),DEBUT!$CP$2:$DI$18,8,FALSE),\"\")","v":""},{"$f":"IFERROR(HLOOKUP(HLOOKUP(ADO$8,DEBUT!$AB$4:$BP$78,3,FALSE),DEBUT!$CP$2:$DI$18,12,FALSE),\"\")","v":""},{"$f":"IFERROR(HLOOKUP(HLOOKUP(ADO$8,DEBUT!$AB$4:$BP$78,3,FALSE),DEBUT!$CP$2:$DI$18,16,FALSE),\"\")","v":""},null,null,null,null,null,{"$f":"IFERROR(HLOOKUP(HLOOKUP(ADX$8,DEBUT!$AB$4:$BP$78,3,FALSE),DEBUT!$CP$2:$DI$18,4,FALSE),\"\")","v":""},{"$f":"IFERROR(HLOOKUP(HLOOKUP(ADX$8,DEBUT!$AB$4:$BP$78,3,FALSE),DEBUT!$CP$2:$DI$18,8,FALSE),\"\")","v":""},{"$f":"IFERROR(HLOOKUP(HLOOKUP(ADX$8,DEBUT!$AB$4:$BP$78,3,FALSE),DEBUT!$CP$2:$DI$18,12,FALSE),\"\")","v":""},{"$f":"IFERROR(HLOOKUP(HLOOKUP(ADX$8,DEBUT!$AB$4:$BP$78,3,FALSE),DEBUT!$CP$2:$DI$18,16,FALSE),\"\")","v":""},null,null,null,{"$f":"IFERROR(HLOOKUP(HLOOKUP(AEE$8,DEBUT!$AB$4:$BP$78,3,FALSE),DEBUT!$CP$2:$DI$18,4,FALSE),\"\")","v":""},{"$f":"IFERROR(HLOOKUP(HLOOKUP(AEE$8,DEBUT!$AB$4:$BP$78,3,FALSE),DEBUT!$CP$2:$DI$18,8,FALSE),\"\")","v":""},{"$f":"IFERROR(HLOOKUP(HLOOKUP(AEE$8,DEBUT!$AB$4:$BP$78,3,FALSE),DEBUT!$CP$2:$DI$18,12,FALSE),\"\")","v":""},{"$f":"IFERROR(HLOOKUP(HLOOKUP(AEE$8,DEBUT!$AB$4:$BP$78,3,FALSE),DEBUT!$CP$2:$DI$18,16,FALSE),\"\")","v":""}]
[null,null,null,null,null,{"$f":"IFERROR(HLOOKUP(HLOOKUP(F$8,DEBUT!$AB$4:$BP$78,3,FALSE),DEBUT!$CP$2:$DI$18,5,FALSE),\"\")","v":""},{"$f":"IFERROR(HLOOKUP(HLOOKUP(F$8,DEBUT!$AB$4:$BP$78,3,FALSE),DEBUT!$CP$2:$DI$18,9,FALSE),\"\")","v":""},{"$f":"IFERROR(HLOOKUP(HLOOKUP(F$8,DEBUT!$AB$4:$BP$78,3,FALSE),DEBUT!$CP$2:$DI$18,13,FALSE),\"\")","v":""},{"$f":"IFERROR(HLOOKUP(HLOOKUP(F$8,DEBUT!$AB$4:$BP$78,3,FALSE),DEBUT!$CP$2:$DI$18,17,FALSE),\"\")","v":""},null,null,null,{"$f":"IFERROR(HLOOKUP(HLOOKUP(M$8,DEBUT!$AB$4:$BP$78,3,FALSE),DEBUT!$CP$2:$DI$18,5,FALSE),\"\")","v":""},{"$f":"IFERROR(HLOOKUP(HLOOKUP(M$8,DEBUT!$AB$4:$BP$78,3,FALSE),DEBUT!$CP$2:$DI$18,9,FALSE),\"\")","v":""},{"$f":"IFERROR(HLOOKUP(HLOOKUP(M$8,DEBUT!$AB$4:$BP$78,3,FALSE),DEBUT!$CP$2:$DI$18,13,FALSE),\"\")","v":""},{"$f":"IFERROR(HLOOKUP(HLOOKUP(M$8,DEBUT!$AB$4:$BP$78,3,FALSE),DEBUT!$CP$2:$DI$18,17,FALSE),\"\")","v":""},null,null,null,null,null,{"$f":"IFERROR(HLOOKUP(HLOOKUP(V$8,DEBUT!$AB$4:$BP$78,3,FALSE),DEBUT!$CP$2:$DI$18,5,FALSE),\"\")","v":""},{"$f":"IFERROR(HLOOKUP(HLOOKUP(V$8,DEBUT!$AB$4:$BP$78,3,FALSE),DEBUT!$CP$2:$DI$18,9,FALSE),\"\")","v":""},{"$f":"IFERROR(HLOOKUP(HLOOKUP(V$8,DEBUT!$AB$4:$BP$78,3,FALSE),DEBUT!$CP$2:$DI$18,13,FALSE),\"\")","v":""},{"$f":"IFERROR(HLOOKUP(HLOOKUP(V$8,DEBUT!$AB$4:$BP$78,3,FALSE),DEBUT!$CP$2:$DI$18,17,FALSE),\"\")","v":""},null,null,null,{"$f":"IFERROR(HLOOKUP(HLOOKUP(AC$8,DEBUT!$AB$4:$BP$78,3,FALSE),DEBUT!$CP$2:$DI$18,5,FALSE),\"\")","v":""},{"$f":"IFERROR(HLOOKUP(HLOOKUP(AC$8,DEBUT!$AB$4:$BP$78,3,FALSE),DEBUT!$CP$2:$DI$18,9,FALSE),\"\")","v":""},{"$f":"IFERROR(HLOOKUP(HLOOKUP(AC$8,DEBUT!$AB$4:$BP$78,3,FALSE),DEBUT!$CP$2:$DI$18,13,FALSE),\"\")","v":""},{"$f":"IFERROR(HLOOKUP(HLOOKUP(AC$8,DEBUT!$AB$4:$BP$78,3,FALSE),DEBUT!$CP$2:$DI$18,17,FALSE),\"\")","v":""},null,null,null,null,null,null,null,{"$f":"IFERROR(HLOOKUP(HLOOKUP(AN$8,DEBUT!$AB$4:$BP$78,3,FALSE),DEBUT!$CP$2:$DI$18,5,FALSE),\"\")","v":""},{"$f":"IFERROR(HLOOKUP(HLOOKUP(AN$8,DEBUT!$AB$4:$BP$78,3,FALSE),DEBUT!$CP$2:$DI$18,9,FALSE),\"\")","v":""},{"$f":"IFERROR(HLOOKUP(HLOOKUP(AN$8,DEBUT!$AB$4:$BP$78,3,FALSE),DEBUT!$CP$2:$DI$18,13,FALSE),\"\")","v":""},{"$f":"IFERROR(HLOOKUP(HLOOKUP(AN$8,DEBUT!$AB$4:$BP$78,3,FALSE),DEBUT!$CP$2:$DI$18,17,FALSE),\"\")","v":""},null,null,null,{"$f":"IFERROR(HLOOKUP(HLOOKUP(AU$8,DEBUT!$AB$4:$BP$78,3,FALSE),DEBUT!$CP$2:$DI$18,5,FALSE),\"\")","v":""},{"$f":"IFERROR(HLOOKUP(HLOOKUP(AU$8,DEBUT!$AB$4:$BP$78,3,FALSE),DEBUT!$CP$2:$DI$18,9,FALSE),\"\")","v":""},{"$f":"IFERROR(HLOOKUP(HLOOKUP(AU$8,DEBUT!$AB$4:$BP$78,3,FALSE),DEBUT!$CP$2:$DI$18,13,FALSE),\"\")","v":""},{"$f":"IFERROR(HLOOKUP(HLOOKUP(AU$8,DEBUT!$AB$4:$BP$78,3,FALSE),DEBUT!$CP$2:$DI$18,17,FALSE),\"\")","v":""},null,null,null,null,null,{"$f":"IFERROR(HLOOKUP(HLOOKUP(BD$8,DEBUT!$AB$4:$BP$78,3,FALSE),DEBUT!$CP$2:$DI$18,5,FALSE),\"\")","v":""},{"$f":"IFERROR(HLOOKUP(HLOOKUP(BD$8,DEBUT!$AB$4:$BP$78,3,FALSE),DEBUT!$CP$2:$DI$18,9,FALSE),\"\")","v":""},{"$f":"IFERROR(HLOOKUP(HLOOKUP(BD$8,DEBUT!$AB$4:$BP$78,3,FALSE),DEBUT!$CP$2:$DI$18,13,FALSE),\"\")","v":""},{"$f":"IFERROR(HLOOKUP(HLOOKUP(BD$8,DEBUT!$AB$4:$BP$78,3,FALSE),DEBUT!$CP$2:$DI$18,17,FALSE),\"\")","v":""},null,null,null,{"$f":"IFERROR(HLOOKUP(HLOOKUP(BK$8,DEBUT!$AB$4:$BP$78,3,FALSE),DEBUT!$CP$2:$DI$18,5,FALSE),\"\")","v":""},{"$f":"IFERROR(HLOOKUP(HLOOKUP(BK$8,DEBUT!$AB$4:$BP$78,3,FALSE),DEBUT!$CP$2:$DI$18,9,FALSE),\"\")","v":""},{"$f":"IFERROR(HLOOKUP(HLOOKUP(BK$8,DEBUT!$AB$4:$BP$78,3,FALSE),DEBUT!$CP$2:$DI$18,13,FALSE),\"\")","v":""},{"$f":"IFERROR(HLOOKUP(HLOOKUP(BK$8,DEBUT!$AB$4:$BP$78,3,FALSE),DEBUT!$CP$2:$DI$18,17,FALSE),\"\")","v":""},null,null,null,null,null,null,null,{"$f":"IFERROR(HLOOKUP(HLOOKUP(BV$8,DEBUT!$AB$4:$BP$78,3,FALSE),DEBUT!$CP$2:$DI$18,5,FALSE),\"\")","v":""},{"$f":"IFERROR(HLOOKUP(HLOOKUP(BV$8,DEBUT!$AB$4:$BP$78,3,FALSE),DEBUT!$CP$2:$DI$18,9,FALSE),\"\")","v":""},{"$f":"IFERROR(HLOOKUP(HLOOKUP(BV$8,DEBUT!$AB$4:$BP$78,3,FALSE),DEBUT!$CP$2:$DI$18,13,FALSE),\"\")","v":""},{"$f":"IFERROR(HLOOKUP(HLOOKUP(BV$8,DEBUT!$AB$4:$BP$78,3,FALSE),DEBUT!$CP$2:$DI$18,17,FALSE),\"\")","v":""},null,null,null,{"$f":"IFERROR(HLOOKUP(HLOOKUP(CC$8,DEBUT!$AB$4:$BP$78,3,FALSE),DEBUT!$CP$2:$DI$18,5,FALSE),\"\")","v":""},{"$f":"IFERROR(HLOOKUP(HLOOKUP(CC$8,DEBUT!$AB$4:$BP$78,3,FALSE),DEBUT!$CP$2:$DI$18,9,FALSE),\"\")","v":""},{"$f":"IFERROR(HLOOKUP(HLOOKUP(CC$8,DEBUT!$AB$4:$BP$78,3,FALSE),DEBUT!$CP$2:$DI$18,13,FALSE),\"\")","v":""},{"$f":"IFERROR(HLOOKUP(HLOOKUP(CC$8,DEBUT!$AB$4:$BP$78,3,FALSE),DEBUT!$CP$2:$DI$18,17,FALSE),\"\")","v":""},null,null,null,null,null,{"$f":"IFERROR(HLOOKUP(HLOOKUP(CL$8,DEBUT!$AB$4:$BP$78,3,FALSE),DEBUT!$CP$2:$DI$18,5,FALSE),\"\")","v":""},{"$f":"IFERROR(HLOOKUP(HLOOKUP(CL$8,DEBUT!$AB$4:$BP$78,3,FALSE),DEBUT!$CP$2:$DI$18,9,FALSE),\"\")","v":""},{"$f":"IFERROR(HLOOKUP(HLOOKUP(CL$8,DEBUT!$AB$4:$BP$78,3,FALSE),DEBUT!$CP$2:$DI$18,13,FALSE),\"\")","v":""},{"$f":"IFERROR(HLOOKUP(HLOOKUP(CL$8,DEBUT!$AB$4:$BP$78,3,FALSE),DEBUT!$CP$2:$DI$18,17,FALSE),\"\")","v":""},null,null,null,{"$f":"IFERROR(HLOOKUP(HLOOKUP(CS$8,DEBUT!$AB$4:$BP$78,3,FALSE),DEBUT!$CP$2:$DI$18,5,FALSE),\"\")","v":""},{"$f":"IFERROR(HLOOKUP(HLOOKUP(CS$8,DEBUT!$AB$4:$BP$78,3,FALSE),DEBUT!$CP$2:$DI$18,9,FALSE),\"\")","v":""},{"$f":"IFERROR(HLOOKUP(HLOOKUP(CS$8,DEBUT!$AB$4:$BP$78,3,FALSE),DEBUT!$CP$2:$DI$18,13,FALSE),\"\")","v":""},{"$f":"IFERROR(HLOOKUP(HLOOKUP(CS$8,DEBUT!$AB$4:$BP$78,3,FALSE),DEBUT!$CP$2:$DI$18,17,FALSE),\"\")","v":""},null,null,null,null,null,null,null,{"$f":"IFERROR(HLOOKUP(HLOOKUP(DD$8,DEBUT!$AB$4:$BP$78,3,FALSE),DEBUT!$CP$2:$DI$18,5,FALSE),\"\")","v":""},{"$f":"IFERROR(HLOOKUP(HLOOKUP(DD$8,DEBUT!$AB$4:$BP$78,3,FALSE),DEBUT!$CP$2:$DI$18,9,FALSE),\"\")","v":""},{"$f":"IFERROR(HLOOKUP(HLOOKUP(DD$8,DEBUT!$AB$4:$BP$78,3,FALSE),DEBUT!$CP$2:$DI$18,13,FALSE),\"\")","v":""},{"$f":"IFERROR(HLOOKUP(HLOOKUP(DD$8,DEBUT!$AB$4:$BP$78,3,FALSE),DEBUT!$CP$2:$DI$18,17,FALSE),\"\")","v":""},null,null,null,{"$f":"IFERROR(HLOOKUP(HLOOKUP(DK$8,DEBUT!$AB$4:$BP$78,3,FALSE),DEBUT!$CP$2:$DI$18,5,FALSE),\"\")","v":""},{"$f":"IFERROR(HLOOKUP(HLOOKUP(DK$8,DEBUT!$AB$4:$BP$78,3,FALSE),DEBUT!$CP$2:$DI$18,9,FALSE),\"\")","v":""},{"$f":"IFERROR(HLOOKUP(HLOOKUP(DK$8,DEBUT!$AB$4:$BP$78,3,FALSE),DEBUT!$CP$2:$DI$18,13,FALSE),\"\")","v":""},{"$f":"IFERROR(HLOOKUP(HLOOKUP(DK$8,DEBUT!$AB$4:$BP$78,3,FALSE),DEBUT!$CP$2:$DI$18,17,FALSE),\"\")","v":""},null,null,null,null,null,{"$f":"IFERROR(HLOOKUP(HLOOKUP(DT$8,DEBUT!$AB$4:$BP$78,3,FALSE),DEBUT!$CP$2:$DI$18,5,FALSE),\"\")","v":""},{"$f":"IFERROR(HLOOKUP(HLOOKUP(DT$8,DEBUT!$AB$4:$BP$78,3,FALSE),DEBUT!$CP$2:$DI$18,9,FALSE),\"\")","v":""},{"$f":"IFERROR(HLOOKUP(HLOOKUP(DT$8,DEBUT!$AB$4:$BP$78,3,FALSE),DEBUT!$CP$2:$DI$18,13,FALSE),\"\")","v":""},{"$f":"IFERROR(HLOOKUP(HLOOKUP(DT$8,DEBUT!$AB$4:$BP$78,3,FALSE),DEBUT!$CP$2:$DI$18,17,FALSE),\"\")","v":""},null,null,null,{"$f":"IFERROR(HLOOKUP(HLOOKUP(EA$8,DEBUT!$AB$4:$BP$78,3,FALSE),DEBUT!$CP$2:$DI$18,5,FALSE),\"\")","v":""},{"$f":"IFERROR(HLOOKUP(HLOOKUP(EA$8,DEBUT!$AB$4:$BP$78,3,FALSE),DEBUT!$CP$2:$DI$18,9,FALSE),\"\")","v":""},{"$f":"IFERROR(HLOOKUP(HLOOKUP(EA$8,DEBUT!$AB$4:$BP$78,3,FALSE),DEBUT!$CP$2:$DI$18,13,FALSE),\"\")","v":""},{"$f":"IFERROR(HLOOKUP(HLOOKUP(EA$8,DEBUT!$AB$4:$BP$78,3,FALSE),DEBUT!$CP$2:$DI$18,17,FALSE),\"\")","v":""},null,null,null,null,null,null,null,{"$f":"IFERROR(HLOOKUP(HLOOKUP(EL$8,DEBUT!$AB$4:$BP$78,3,FALSE),DEBUT!$CP$2:$DI$18,5,FALSE),\"\")","v":""},{"$f":"IFERROR(HLOOKUP(HLOOKUP(EL$8,DEBUT!$AB$4:$BP$78,3,FALSE),DEBUT!$CP$2:$DI$18,9,FALSE),\"\")","v":""},{"$f":"IFERROR(HLOOKUP(HLOOKUP(EL$8,DEBUT!$AB$4:$BP$78,3,FALSE),DEBUT!$CP$2:$DI$18,13,FALSE),\"\")","v":""},{"$f":"IFERROR(HLOOKUP(HLOOKUP(EL$8,DEBUT!$AB$4:$BP$78,3,FALSE),DEBUT!$CP$2:$DI$18,17,FALSE),\"\")","v":""},null,null,null,{"$f":"IFERROR(HLOOKUP(HLOOKUP(ES$8,DEBUT!$AB$4:$BP$78,3,FALSE),DEBUT!$CP$2:$DI$18,5,FALSE),\"\")","v":""},{"$f":"IFERROR(HLOOKUP(HLOOKUP(ES$8,DEBUT!$AB$4:$BP$78,3,FALSE),DEBUT!$CP$2:$DI$18,9,FALSE),\"\")","v":""},{"$f":"IFERROR(HLOOKUP(HLOOKUP(ES$8,DEBUT!$AB$4:$BP$78,3,FALSE),DEBUT!$CP$2:$DI$18,13,FALSE),\"\")","v":""},{"$f":"IFERROR(HLOOKUP(HLOOKUP(ES$8,DEBUT!$AB$4:$BP$78,3,FALSE),DEBUT!$CP$2:$DI$18,17,FALSE),\"\")","v":""},null,null,null,null,null,{"$f":"IFERROR(HLOOKUP(HLOOKUP(FB$8,DEBUT!$AB$4:$BP$78,3,FALSE),DEBUT!$CP$2:$DI$18,5,FALSE),\"\")","v":""},{"$f":"IFERROR(HLOOKUP(HLOOKUP(FB$8,DEBUT!$AB$4:$BP$78,3,FALSE),DEBUT!$CP$2:$DI$18,9,FALSE),\"\")","v":""},{"$f":"IFERROR(HLOOKUP(HLOOKUP(FB$8,DEBUT!$AB$4:$BP$78,3,FALSE),DEBUT!$CP$2:$DI$18,13,FALSE),\"\")","v":""},{"$f":"IFERROR(HLOOKUP(HLOOKUP(FB$8,DEBUT!$AB$4:$BP$78,3,FALSE),DEBUT!$CP$2:$DI$18,17,FALSE),\"\")","v":""},null,null,null,{"$f":"IFERROR(HLOOKUP(HLOOKUP(FI$8,DEBUT!$AB$4:$BP$78,3,FALSE),DEBUT!$CP$2:$DI$18,5,FALSE),\"\")","v":""},{"$f":"IFERROR(HLOOKUP(HLOOKUP(FI$8,DEBUT!$AB$4:$BP$78,3,FALSE),DEBUT!$CP$2:$DI$18,9,FALSE),\"\")","v":""},{"$f":"IFERROR(HLOOKUP(HLOOKUP(FI$8,DEBUT!$AB$4:$BP$78,3,FALSE),DEBUT!$CP$2:$DI$18,13,FALSE),\"\")","v":""},{"$f":"IFERROR(HLOOKUP(HLOOKUP(FI$8,DEBUT!$AB$4:$BP$78,3,FALSE),DEBUT!$CP$2:$DI$18,17,FALSE),\"\")","v":""},null,null,null,null,null,null,null,{"$f":"IFERROR(HLOOKUP(HLOOKUP(FT$8,DEBUT!$AB$4:$BP$78,3,FALSE),DEBUT!$CP$2:$DI$18,5,FALSE),\"\")","v":""},{"$f":"IFERROR(HLOOKUP(HLOOKUP(FT$8,DEBUT!$AB$4:$BP$78,3,FALSE),DEBUT!$CP$2:$DI$18,9,FALSE),\"\")","v":""},{"$f":"IFERROR(HLOOKUP(HLOOKUP(FT$8,DEBUT!$AB$4:$BP$78,3,FALSE),DEBUT!$CP$2:$DI$18,13,FALSE),\"\")","v":""},{"$f":"IFERROR(HLOOKUP(HLOOKUP(FT$8,DEBUT!$AB$4:$BP$78,3,FALSE),DEBUT!$CP$2:$DI$18,17,FALSE),\"\")","v":""},null,null,null,{"$f":"IFERROR(HLOOKUP(HLOOKUP(GA$8,DEBUT!$AB$4:$BP$78,3,FALSE),DEBUT!$CP$2:$DI$18,5,FALSE),\"\")","v":""},{"$f":"IFERROR(HLOOKUP(HLOOKUP(GA$8,DEBUT!$AB$4:$BP$78,3,FALSE),DEBUT!$CP$2:$DI$18,9,FALSE),\"\")","v":""},{"$f":"IFERROR(HLOOKUP(HLOOKUP(GA$8,DEBUT!$AB$4:$BP$78,3,FALSE),DEBUT!$CP$2:$DI$18,13,FALSE),\"\")","v":""},{"$f":"IFERROR(HLOOKUP(HLOOKUP(GA$8,DEBUT!$AB$4:$BP$78,3,FALSE),DEBUT!$CP$2:$DI$18,17,FALSE),\"\")","v":""},null,null,null,null,null,{"$f":"IFERROR(HLOOKUP(HLOOKUP(GJ$8,DEBUT!$AB$4:$BP$78,3,FALSE),DEBUT!$CP$2:$DI$18,5,FALSE),\"\")","v":""},{"$f":"IFERROR(HLOOKUP(HLOOKUP(GJ$8,DEBUT!$AB$4:$BP$78,3,FALSE),DEBUT!$CP$2:$DI$18,9,FALSE),\"\")","v":""},{"$f":"IFERROR(HLOOKUP(HLOOKUP(GJ$8,DEBUT!$AB$4:$BP$78,3,FALSE),DEBUT!$CP$2:$DI$18,13,FALSE),\"\")","v":""},{"$f":"IFERROR(HLOOKUP(HLOOKUP(GJ$8,DEBUT!$AB$4:$BP$78,3,FALSE),DEBUT!$CP$2:$DI$18,17,FALSE),\"\")","v":""},null,null,null,{"$f":"IFERROR(HLOOKUP(HLOOKUP(GQ$8,DEBUT!$AB$4:$BP$78,3,FALSE),DEBUT!$CP$2:$DI$18,5,FALSE),\"\")","v":""},{"$f":"IFERROR(HLOOKUP(HLOOKUP(GQ$8,DEBUT!$AB$4:$BP$78,3,FALSE),DEBUT!$CP$2:$DI$18,9,FALSE),\"\")","v":""},{"$f":"IFERROR(HLOOKUP(HLOOKUP(GQ$8,DEBUT!$AB$4:$BP$78,3,FALSE),DEBUT!$CP$2:$DI$18,13,FALSE),\"\")","v":""},{"$f":"IFERROR(HLOOKUP(HLOOKUP(GQ$8,DEBUT!$AB$4:$BP$78,3,FALSE),DEBUT!$CP$2:$DI$18,17,FALSE),\"\")","v":""},null,null,null,null,null,null,null,{"$f":"IFERROR(HLOOKUP(HLOOKUP(HB$8,DEBUT!$AB$4:$BP$78,3,FALSE),DEBUT!$CP$2:$DI$18,5,FALSE),\"\")","v":""},{"$f":"IFERROR(HLOOKUP(HLOOKUP(HB$8,DEBUT!$AB$4:$BP$78,3,FALSE),DEBUT!$CP$2:$DI$18,9,FALSE),\"\")","v":""},{"$f":"IFERROR(HLOOKUP(HLOOKUP(HB$8,DEBUT!$AB$4:$BP$78,3,FALSE),DEBUT!$CP$2:$DI$18,13,FALSE),\"\")","v":""},{"$f":"IFERROR(HLOOKUP(HLOOKUP(HB$8,DEBUT!$AB$4:$BP$78,3,FALSE),DEBUT!$CP$2:$DI$18,17,FALSE),\"\")","v":""},null,null,null,{"$f":"IFERROR(HLOOKUP(HLOOKUP(HI$8,DEBUT!$AB$4:$BP$78,3,FALSE),DEBUT!$CP$2:$DI$18,5,FALSE),\"\")","v":""},{"$f":"IFERROR(HLOOKUP(HLOOKUP(HI$8,DEBUT!$AB$4:$BP$78,3,FALSE),DEBUT!$CP$2:$DI$18,9,FALSE),\"\")","v":""},{"$f":"IFERROR(HLOOKUP(HLOOKUP(HI$8,DEBUT!$AB$4:$BP$78,3,FALSE),DEBUT!$CP$2:$DI$18,13,FALSE),\"\")","v":""},{"$f":"IFERROR(HLOOKUP(HLOOKUP(HI$8,DEBUT!$AB$4:$BP$78,3,FALSE),DEBUT!$CP$2:$DI$18,17,FALSE),\"\")","v":""},null,null,null,null,null,{"$f":"IFERROR(HLOOKUP(HLOOKUP(HR$8,DEBUT!$AB$4:$BP$78,3,FALSE),DEBUT!$CP$2:$DI$18,5,FALSE),\"\")","v":""},{"$f":"IFERROR(HLOOKUP(HLOOKUP(HR$8,DEBUT!$AB$4:$BP$78,3,FALSE),DEBUT!$CP$2:$DI$18,9,FALSE),\"\")","v":""},{"$f":"IFERROR(HLOOKUP(HLOOKUP(HR$8,DEBUT!$AB$4:$BP$78,3,FALSE),DEBUT!$CP$2:$DI$18,13,FALSE),\"\")","v":""},{"$f":"IFERROR(HLOOKUP(HLOOKUP(HR$8,DEBUT!$AB$4:$BP$78,3,FALSE),DEBUT!$CP$2:$DI$18,17,FALSE),\"\")","v":""},null,null,null,{"$f":"IFERROR(HLOOKUP(HLOOKUP(HY$8,DEBUT!$AB$4:$BP$78,3,FALSE),DEBUT!$CP$2:$DI$18,5,FALSE),\"\")","v":""},{"$f":"IFERROR(HLOOKUP(HLOOKUP(HY$8,DEBUT!$AB$4:$BP$78,3,FALSE),DEBUT!$CP$2:$DI$18,9,FALSE),\"\")","v":""},{"$f":"IFERROR(HLOOKUP(HLOOKUP(HY$8,DEBUT!$AB$4:$BP$78,3,FALSE),DEBUT!$CP$2:$DI$18,13,FALSE),\"\")","v":""},{"$f":"IFERROR(HLOOKUP(HLOOKUP(HY$8,DEBUT!$AB$4:$BP$78,3,FALSE),DEBUT!$CP$2:$DI$18,17,FALSE),\"\")","v":""},null,null,null,null,null,null,null,{"$f":"IFERROR(HLOOKUP(HLOOKUP(IJ$8,DEBUT!$AB$4:$BP$78,3,FALSE),DEBUT!$CP$2:$DI$18,5,FALSE),\"\")","v":""},{"$f":"IFERROR(HLOOKUP(HLOOKUP(IJ$8,DEBUT!$AB$4:$BP$78,3,FALSE),DEBUT!$CP$2:$DI$18,9,FALSE),\"\")","v":""},{"$f":"IFERROR(HLOOKUP(HLOOKUP(IJ$8,DEBUT!$AB$4:$BP$78,3,FALSE),DEBUT!$CP$2:$DI$18,13,FALSE),\"\")","v":""},{"$f":"IFERROR(HLOOKUP(HLOOKUP(IJ$8,DEBUT!$AB$4:$BP$78,3,FALSE),DEBUT!$CP$2:$DI$18,17,FALSE),\"\")","v":""},null,null,null,{"$f":"IFERROR(HLOOKUP(HLOOKUP(IQ$8,DEBUT!$AB$4:$BP$78,3,FALSE),DEBUT!$CP$2:$DI$18,5,FALSE),\"\")","v":""},{"$f":"IFERROR(HLOOKUP(HLOOKUP(IQ$8,DEBUT!$AB$4:$BP$78,3,FALSE),DEBUT!$CP$2:$DI$18,9,FALSE),\"\")","v":""},{"$f":"IFERROR(HLOOKUP(HLOOKUP(IQ$8,DEBUT!$AB$4:$BP$78,3,FALSE),DEBUT!$CP$2:$DI$18,13,FALSE),\"\")","v":""},{"$f":"IFERROR(HLOOKUP(HLOOKUP(IQ$8,DEBUT!$AB$4:$BP$78,3,FALSE),DEBUT!$CP$2:$DI$18,17,FALSE),\"\")","v":""},null,null,null,null,null,{"$f":"IFERROR(HLOOKUP(HLOOKUP(IZ$8,DEBUT!$AB$4:$BP$78,3,FALSE),DEBUT!$CP$2:$DI$18,5,FALSE),\"\")","v":""},{"$f":"IFERROR(HLOOKUP(HLOOKUP(IZ$8,DEBUT!$AB$4:$BP$78,3,FALSE),DEBUT!$CP$2:$DI$18,9,FALSE),\"\")","v":""},{"$f":"IFERROR(HLOOKUP(HLOOKUP(IZ$8,DEBUT!$AB$4:$BP$78,3,FALSE),DEBUT!$CP$2:$DI$18,13,FALSE),\"\")","v":""},{"$f":"IFERROR(HLOOKUP(HLOOKUP(IZ$8,DEBUT!$AB$4:$BP$78,3,FALSE),DEBUT!$CP$2:$DI$18,17,FALSE),\"\")","v":""},null,null,null,{"$f":"IFERROR(HLOOKUP(HLOOKUP(JG$8,DEBUT!$AB$4:$BP$78,3,FALSE),DEBUT!$CP$2:$DI$18,5,FALSE),\"\")","v":""},{"$f":"IFERROR(HLOOKUP(HLOOKUP(JG$8,DEBUT!$AB$4:$BP$78,3,FALSE),DEBUT!$CP$2:$DI$18,9,FALSE),\"\")","v":""},{"$f":"IFERROR(HLOOKUP(HLOOKUP(JG$8,DEBUT!$AB$4:$BP$78,3,FALSE),DEBUT!$CP$2:$DI$18,13,FALSE),\"\")","v":""},{"$f":"IFERROR(HLOOKUP(HLOOKUP(JG$8,DEBUT!$AB$4:$BP$78,3,FALSE),DEBUT!$CP$2:$DI$18,17,FALSE),\"\")","v":""},null,null,null,null,null,null,null,{"$f":"IFERROR(HLOOKUP(HLOOKUP(JR$8,DEBUT!$AB$4:$BP$78,3,FALSE),DEBUT!$CP$2:$DI$18,5,FALSE),\"\")","v":""},{"$f":"IFERROR(HLOOKUP(HLOOKUP(JR$8,DEBUT!$AB$4:$BP$78,3,FALSE),DEBUT!$CP$2:$DI$18,9,FALSE),\"\")","v":""},{"$f":"IFERROR(HLOOKUP(HLOOKUP(JR$8,DEBUT!$AB$4:$BP$78,3,FALSE),DEBUT!$CP$2:$DI$18,13,FALSE),\"\")","v":""},{"$f":"IFERROR(HLOOKUP(HLOOKUP(JR$8,DEBUT!$AB$4:$BP$78,3,FALSE),DEBUT!$CP$2:$DI$18,17,FALSE),\"\")","v":""},null,null,null,{"$f":"IFERROR(HLOOKUP(HLOOKUP(JY$8,DEBUT!$AB$4:$BP$78,3,FALSE),DEBUT!$CP$2:$DI$18,5,FALSE),\"\")","v":""},{"$f":"IFERROR(HLOOKUP(HLOOKUP(JY$8,DEBUT!$AB$4:$BP$78,3,FALSE),DEBUT!$CP$2:$DI$18,9,FALSE),\"\")","v":""},{"$f":"IFERROR(HLOOKUP(HLOOKUP(JY$8,DEBUT!$AB$4:$BP$78,3,FALSE),DEBUT!$CP$2:$DI$18,13,FALSE),\"\")","v":""},{"$f":"IFERROR(HLOOKUP(HLOOKUP(JY$8,DEBUT!$AB$4:$BP$78,3,FALSE),DEBUT!$CP$2:$DI$18,17,FALSE),\"\")","v":""},null,null,null,null,null,{"$f":"IFERROR(HLOOKUP(HLOOKUP(KH$8,DEBUT!$AB$4:$BP$78,3,FALSE),DEBUT!$CP$2:$DI$18,5,FALSE),\"\")","v":""},{"$f":"IFERROR(HLOOKUP(HLOOKUP(KH$8,DEBUT!$AB$4:$BP$78,3,FALSE),DEBUT!$CP$2:$DI$18,9,FALSE),\"\")","v":""},{"$f":"IFERROR(HLOOKUP(HLOOKUP(KH$8,DEBUT!$AB$4:$BP$78,3,FALSE),DEBUT!$CP$2:$DI$18,13,FALSE),\"\")","v":""},{"$f":"IFERROR(HLOOKUP(HLOOKUP(KH$8,DEBUT!$AB$4:$BP$78,3,FALSE),DEBUT!$CP$2:$DI$18,17,FALSE),\"\")","v":""},null,null,null,{"$f":"IFERROR(HLOOKUP(HLOOKUP(KO$8,DEBUT!$AB$4:$BP$78,3,FALSE),DEBUT!$CP$2:$DI$18,5,FALSE),\"\")","v":""},{"$f":"IFERROR(HLOOKUP(HLOOKUP(KO$8,DEBUT!$AB$4:$BP$78,3,FALSE),DEBUT!$CP$2:$DI$18,9,FALSE),\"\")","v":""},{"$f":"IFERROR(HLOOKUP(HLOOKUP(KO$8,DEBUT!$AB$4:$BP$78,3,FALSE),DEBUT!$CP$2:$DI$18,13,FALSE),\"\")","v":""},{"$f":"IFERROR(HLOOKUP(HLOOKUP(KO$8,DEBUT!$AB$4:$BP$78,3,FALSE),DEBUT!$CP$2:$DI$18,17,FALSE),\"\")","v":""},null,null,null,null,null,null,null,{"$f":"IFERROR(HLOOKUP(HLOOKUP(KZ$8,DEBUT!$AB$4:$BP$78,3,FALSE),DEBUT!$CP$2:$DI$18,5,FALSE),\"\")","v":""},{"$f":"IFERROR(HLOOKUP(HLOOKUP(KZ$8,DEBUT!$AB$4:$BP$78,3,FALSE),DEBUT!$CP$2:$DI$18,9,FALSE),\"\")","v":""},{"$f":"IFERROR(HLOOKUP(HLOOKUP(KZ$8,DEBUT!$AB$4:$BP$78,3,FALSE),DEBUT!$CP$2:$DI$18,13,FALSE),\"\")","v":""},{"$f":"IFERROR(HLOOKUP(HLOOKUP(KZ$8,DEBUT!$AB$4:$BP$78,3,FALSE),DEBUT!$CP$2:$DI$18,17,FALSE),\"\")","v":""},null,null,null,{"$f":"IFERROR(HLOOKUP(HLOOKUP(LG$8,DEBUT!$AB$4:$BP$78,3,FALSE),DEBUT!$CP$2:$DI$18,5,FALSE),\"\")","v":""},{"$f":"IFERROR(HLOOKUP(HLOOKUP(LG$8,DEBUT!$AB$4:$BP$78,3,FALSE),DEBUT!$CP$2:$DI$18,9,FALSE),\"\")","v":""},{"$f":"IFERROR(HLOOKUP(HLOOKUP(LG$8,DEBUT!$AB$4:$BP$78,3,FALSE),DEBUT!$CP$2:$DI$18,13,FALSE),\"\")","v":""},{"$f":"IFERROR(HLOOKUP(HLOOKUP(LG$8,DEBUT!$AB$4:$BP$78,3,FALSE),DEBUT!$CP$2:$DI$18,17,FALSE),\"\")","v":""},null,null,null,null,null,{"$f":"IFERROR(HLOOKUP(HLOOKUP(LP$8,DEBUT!$AB$4:$BP$78,3,FALSE),DEBUT!$CP$2:$DI$18,5,FALSE),\"\")","v":""},{"$f":"IFERROR(HLOOKUP(HLOOKUP(LP$8,DEBUT!$AB$4:$BP$78,3,FALSE),DEBUT!$CP$2:$DI$18,9,FALSE),\"\")","v":""},{"$f":"IFERROR(HLOOKUP(HLOOKUP(LP$8,DEBUT!$AB$4:$BP$78,3,FALSE),DEBUT!$CP$2:$DI$18,13,FALSE),\"\")","v":""},{"$f":"IFERROR(HLOOKUP(HLOOKUP(LP$8,DEBUT!$AB$4:$BP$78,3,FALSE),DEBUT!$CP$2:$DI$18,17,FALSE),\"\")","v":""},null,null,null,{"$f":"IFERROR(HLOOKUP(HLOOKUP(LW$8,DEBUT!$AB$4:$BP$78,3,FALSE),DEBUT!$CP$2:$DI$18,5,FALSE),\"\")","v":""},{"$f":"IFERROR(HLOOKUP(HLOOKUP(LW$8,DEBUT!$AB$4:$BP$78,3,FALSE),DEBUT!$CP$2:$DI$18,9,FALSE),\"\")","v":""},{"$f":"IFERROR(HLOOKUP(HLOOKUP(LW$8,DEBUT!$AB$4:$BP$78,3,FALSE),DEBUT!$CP$2:$DI$18,13,FALSE),\"\")","v":""},{"$f":"IFERROR(HLOOKUP(HLOOKUP(LW$8,DEBUT!$AB$4:$BP$78,3,FALSE),DEBUT!$CP$2:$DI$18,17,FALSE),\"\")","v":""},null,null,null,null,null,null,null,{"$f":"IFERROR(HLOOKUP(HLOOKUP(MH$8,DEBUT!$AB$4:$BP$78,3,FALSE),DEBUT!$CP$2:$DI$18,5,FALSE),\"\")","v":""},{"$f":"IFERROR(HLOOKUP(HLOOKUP(MH$8,DEBUT!$AB$4:$BP$78,3,FALSE),DEBUT!$CP$2:$DI$18,9,FALSE),\"\")","v":""},{"$f":"IFERROR(HLOOKUP(HLOOKUP(MH$8,DEBUT!$AB$4:$BP$78,3,FALSE),DEBUT!$CP$2:$DI$18,13,FALSE),\"\")","v":""},{"$f":"IFERROR(HLOOKUP(HLOOKUP(MH$8,DEBUT!$AB$4:$BP$78,3,FALSE),DEBUT!$CP$2:$DI$18,17,FALSE),\"\")","v":""},null,null,null,{"$f":"IFERROR(HLOOKUP(HLOOKUP(MO$8,DEBUT!$AB$4:$BP$78,3,FALSE),DEBUT!$CP$2:$DI$18,5,FALSE),\"\")","v":""},{"$f":"IFERROR(HLOOKUP(HLOOKUP(MO$8,DEBUT!$AB$4:$BP$78,3,FALSE),DEBUT!$CP$2:$DI$18,9,FALSE),\"\")","v":""},{"$f":"IFERROR(HLOOKUP(HLOOKUP(MO$8,DEBUT!$AB$4:$BP$78,3,FALSE),DEBUT!$CP$2:$DI$18,13,FALSE),\"\")","v":""},{"$f":"IFERROR(HLOOKUP(HLOOKUP(MO$8,DEBUT!$AB$4:$BP$78,3,FALSE),DEBUT!$CP$2:$DI$18,17,FALSE),\"\")","v":""},null,null,null,null,null,{"$f":"IFERROR(HLOOKUP(HLOOKUP(MX$8,DEBUT!$AB$4:$BP$78,3,FALSE),DEBUT!$CP$2:$DI$18,5,FALSE),\"\")","v":""},{"$f":"IFERROR(HLOOKUP(HLOOKUP(MX$8,DEBUT!$AB$4:$BP$78,3,FALSE),DEBUT!$CP$2:$DI$18,9,FALSE),\"\")","v":""},{"$f":"IFERROR(HLOOKUP(HLOOKUP(MX$8,DEBUT!$AB$4:$BP$78,3,FALSE),DEBUT!$CP$2:$DI$18,13,FALSE),\"\")","v":""},{"$f":"IFERROR(HLOOKUP(HLOOKUP(MX$8,DEBUT!$AB$4:$BP$78,3,FALSE),DEBUT!$CP$2:$DI$18,17,FALSE),\"\")","v":""},null,null,null,{"$f":"IFERROR(HLOOKUP(HLOOKUP(NE$8,DEBUT!$AB$4:$BP$78,3,FALSE),DEBUT!$CP$2:$DI$18,5,FALSE),\"\")","v":""},{"$f":"IFERROR(HLOOKUP(HLOOKUP(NE$8,DEBUT!$AB$4:$BP$78,3,FALSE),DEBUT!$CP$2:$DI$18,9,FALSE),\"\")","v":""},{"$f":"IFERROR(HLOOKUP(HLOOKUP(NE$8,DEBUT!$AB$4:$BP$78,3,FALSE),DEBUT!$CP$2:$DI$18,13,FALSE),\"\")","v":""},{"$f":"IFERROR(HLOOKUP(HLOOKUP(NE$8,DEBUT!$AB$4:$BP$78,3,FALSE),DEBUT!$CP$2:$DI$18,17,FALSE),\"\")","v":""},null,null,null,null,null,null,null,{"$f":"IFERROR(HLOOKUP(HLOOKUP(NP$8,DEBUT!$AB$4:$BP$78,3,FALSE),DEBUT!$CP$2:$DI$18,5,FALSE),\"\")","v":""},{"$f":"IFERROR(HLOOKUP(HLOOKUP(NP$8,DEBUT!$AB$4:$BP$78,3,FALSE),DEBUT!$CP$2:$DI$18,9,FALSE),\"\")","v":""},{"$f":"IFERROR(HLOOKUP(HLOOKUP(NP$8,DEBUT!$AB$4:$BP$78,3,FALSE),DEBUT!$CP$2:$DI$18,13,FALSE),\"\")","v":""},{"$f":"IFERROR(HLOOKUP(HLOOKUP(NP$8,DEBUT!$AB$4:$BP$78,3,FALSE),DEBUT!$CP$2:$DI$18,17,FALSE),\"\")","v":""},null,null,null,{"$f":"IFERROR(HLOOKUP(HLOOKUP(NW$8,DEBUT!$AB$4:$BP$78,3,FALSE),DEBUT!$CP$2:$DI$18,5,FALSE),\"\")","v":""},{"$f":"IFERROR(HLOOKUP(HLOOKUP(NW$8,DEBUT!$AB$4:$BP$78,3,FALSE),DEBUT!$CP$2:$DI$18,9,FALSE),\"\")","v":""},{"$f":"IFERROR(HLOOKUP(HLOOKUP(NW$8,DEBUT!$AB$4:$BP$78,3,FALSE),DEBUT!$CP$2:$DI$18,13,FALSE),\"\")","v":""},{"$f":"IFERROR(HLOOKUP(HLOOKUP(NW$8,DEBUT!$AB$4:$BP$78,3,FALSE),DEBUT!$CP$2:$DI$18,17,FALSE),\"\")","v":""},null,null,null,null,null,{"$f":"IFERROR(HLOOKUP(HLOOKUP(OF$8,DEBUT!$AB$4:$BP$78,3,FALSE),DEBUT!$CP$2:$DI$18,5,FALSE),\"\")","v":""},{"$f":"IFERROR(HLOOKUP(HLOOKUP(OF$8,DEBUT!$AB$4:$BP$78,3,FALSE),DEBUT!$CP$2:$DI$18,9,FALSE),\"\")","v":""},{"$f":"IFERROR(HLOOKUP(HLOOKUP(OF$8,DEBUT!$AB$4:$BP$78,3,FALSE),DEBUT!$CP$2:$DI$18,13,FALSE),\"\")","v":""},{"$f":"IFERROR(HLOOKUP(HLOOKUP(OF$8,DEBUT!$AB$4:$BP$78,3,FALSE),DEBUT!$CP$2:$DI$18,17,FALSE),\"\")","v":""},null,null,null,{"$f":"IFERROR(HLOOKUP(HLOOKUP(OM$8,DEBUT!$AB$4:$BP$78,3,FALSE),DEBUT!$CP$2:$DI$18,5,FALSE),\"\")","v":""},{"$f":"IFERROR(HLOOKUP(HLOOKUP(OM$8,DEBUT!$AB$4:$BP$78,3,FALSE),DEBUT!$CP$2:$DI$18,9,FALSE),\"\")","v":""},{"$f":"IFERROR(HLOOKUP(HLOOKUP(OM$8,DEBUT!$AB$4:$BP$78,3,FALSE),DEBUT!$CP$2:$DI$18,13,FALSE),\"\")","v":""},{"$f":"IFERROR(HLOOKUP(HLOOKUP(OM$8,DEBUT!$AB$4:$BP$78,3,FALSE),DEBUT!$CP$2:$DI$18,17,FALSE),\"\")","v":""},null,null,null,null,null,null,null,{"$f":"IFERROR(HLOOKUP(HLOOKUP(OX$8,DEBUT!$AB$4:$BP$78,3,FALSE),DEBUT!$CP$2:$DI$18,5,FALSE),\"\")","v":""},{"$f":"IFERROR(HLOOKUP(HLOOKUP(OX$8,DEBUT!$AB$4:$BP$78,3,FALSE),DEBUT!$CP$2:$DI$18,9,FALSE),\"\")","v":""},{"$f":"IFERROR(HLOOKUP(HLOOKUP(OX$8,DEBUT!$AB$4:$BP$78,3,FALSE),DEBUT!$CP$2:$DI$18,13,FALSE),\"\")","v":""},{"$f":"IFERROR(HLOOKUP(HLOOKUP(OX$8,DEBUT!$AB$4:$BP$78,3,FALSE),DEBUT!$CP$2:$DI$18,17,FALSE),\"\")","v":""},null,null,null,{"$f":"IFERROR(HLOOKUP(HLOOKUP(PE$8,DEBUT!$AB$4:$BP$78,3,FALSE),DEBUT!$CP$2:$DI$18,5,FALSE),\"\")","v":""},{"$f":"IFERROR(HLOOKUP(HLOOKUP(PE$8,DEBUT!$AB$4:$BP$78,3,FALSE),DEBUT!$CP$2:$DI$18,9,FALSE),\"\")","v":""},{"$f":"IFERROR(HLOOKUP(HLOOKUP(PE$8,DEBUT!$AB$4:$BP$78,3,FALSE),DEBUT!$CP$2:$DI$18,13,FALSE),\"\")","v":""},{"$f":"IFERROR(HLOOKUP(HLOOKUP(PE$8,DEBUT!$AB$4:$BP$78,3,FALSE),DEBUT!$CP$2:$DI$18,17,FALSE),\"\")","v":""},null,null,null,null,null,{"$f":"IFERROR(HLOOKUP(HLOOKUP(PN$8,DEBUT!$AB$4:$BP$78,3,FALSE),DEBUT!$CP$2:$DI$18,5,FALSE),\"\")","v":""},{"$f":"IFERROR(HLOOKUP(HLOOKUP(PN$8,DEBUT!$AB$4:$BP$78,3,FALSE),DEBUT!$CP$2:$DI$18,9,FALSE),\"\")","v":""},{"$f":"IFERROR(HLOOKUP(HLOOKUP(PN$8,DEBUT!$AB$4:$BP$78,3,FALSE),DEBUT!$CP$2:$DI$18,13,FALSE),\"\")","v":""},{"$f":"IFERROR(HLOOKUP(HLOOKUP(PN$8,DEBUT!$AB$4:$BP$78,3,FALSE),DEBUT!$CP$2:$DI$18,17,FALSE),\"\")","v":""},null,null,null,{"$f":"IFERROR(HLOOKUP(HLOOKUP(PU$8,DEBUT!$AB$4:$BP$78,3,FALSE),DEBUT!$CP$2:$DI$18,5,FALSE),\"\")","v":""},{"$f":"IFERROR(HLOOKUP(HLOOKUP(PU$8,DEBUT!$AB$4:$BP$78,3,FALSE),DEBUT!$CP$2:$DI$18,9,FALSE),\"\")","v":""},{"$f":"IFERROR(HLOOKUP(HLOOKUP(PU$8,DEBUT!$AB$4:$BP$78,3,FALSE),DEBUT!$CP$2:$DI$18,13,FALSE),\"\")","v":""},{"$f":"IFERROR(HLOOKUP(HLOOKUP(PU$8,DEBUT!$AB$4:$BP$78,3,FALSE),DEBUT!$CP$2:$DI$18,17,FALSE),\"\")","v":""},null,null,null,null,null,null,null,{"$f":"IFERROR(HLOOKUP(HLOOKUP(QF$8,DEBUT!$AB$4:$BP$78,3,FALSE),DEBUT!$CP$2:$DI$18,5,FALSE),\"\")","v":""},{"$f":"IFERROR(HLOOKUP(HLOOKUP(QF$8,DEBUT!$AB$4:$BP$78,3,FALSE),DEBUT!$CP$2:$DI$18,9,FALSE),\"\")","v":""},{"$f":"IFERROR(HLOOKUP(HLOOKUP(QF$8,DEBUT!$AB$4:$BP$78,3,FALSE),DEBUT!$CP$2:$DI$18,13,FALSE),\"\")","v":""},{"$f":"IFERROR(HLOOKUP(HLOOKUP(QF$8,DEBUT!$AB$4:$BP$78,3,FALSE),DEBUT!$CP$2:$DI$18,17,FALSE),\"\")","v":""},null,null,null,{"$f":"IFERROR(HLOOKUP(HLOOKUP(QM$8,DEBUT!$AB$4:$BP$78,3,FALSE),DEBUT!$CP$2:$DI$18,5,FALSE),\"\")","v":""},{"$f":"IFERROR(HLOOKUP(HLOOKUP(QM$8,DEBUT!$AB$4:$BP$78,3,FALSE),DEBUT!$CP$2:$DI$18,9,FALSE),\"\")","v":""},{"$f":"IFERROR(HLOOKUP(HLOOKUP(QM$8,DEBUT!$AB$4:$BP$78,3,FALSE),DEBUT!$CP$2:$DI$18,13,FALSE),\"\")","v":""},{"$f":"IFERROR(HLOOKUP(HLOOKUP(QM$8,DEBUT!$AB$4:$BP$78,3,FALSE),DEBUT!$CP$2:$DI$18,17,FALSE),\"\")","v":""},null,null,null,null,null,{"$f":"IFERROR(HLOOKUP(HLOOKUP(QV$8,DEBUT!$AB$4:$BP$78,3,FALSE),DEBUT!$CP$2:$DI$18,5,FALSE),\"\")","v":""},{"$f":"IFERROR(HLOOKUP(HLOOKUP(QV$8,DEBUT!$AB$4:$BP$78,3,FALSE),DEBUT!$CP$2:$DI$18,9,FALSE),\"\")","v":""},{"$f":"IFERROR(HLOOKUP(HLOOKUP(QV$8,DEBUT!$AB$4:$BP$78,3,FALSE),DEBUT!$CP$2:$DI$18,13,FALSE),\"\")","v":""},{"$f":"IFERROR(HLOOKUP(HLOOKUP(QV$8,DEBUT!$AB$4:$BP$78,3,FALSE),DEBUT!$CP$2:$DI$18,17,FALSE),\"\")","v":""},null,null,null,{"$f":"IFERROR(HLOOKUP(HLOOKUP(RC$8,DEBUT!$AB$4:$BP$78,3,FALSE),DEBUT!$CP$2:$DI$18,5,FALSE),\"\")","v":""},{"$f":"IFERROR(HLOOKUP(HLOOKUP(RC$8,DEBUT!$AB$4:$BP$78,3,FALSE),DEBUT!$CP$2:$DI$18,9,FALSE),\"\")","v":""},{"$f":"IFERROR(HLOOKUP(HLOOKUP(RC$8,DEBUT!$AB$4:$BP$78,3,FALSE),DEBUT!$CP$2:$DI$18,13,FALSE),\"\")","v":""},{"$f":"IFERROR(HLOOKUP(HLOOKUP(RC$8,DEBUT!$AB$4:$BP$78,3,FALSE),DEBUT!$CP$2:$DI$18,17,FALSE),\"\")","v":""},null,null,null,null,null,null,null,{"$f":"IFERROR(HLOOKUP(HLOOKUP(RN$8,DEBUT!$AB$4:$BP$78,3,FALSE),DEBUT!$CP$2:$DI$18,5,FALSE),\"\")","v":""},{"$f":"IFERROR(HLOOKUP(HLOOKUP(RN$8,DEBUT!$AB$4:$BP$78,3,FALSE),DEBUT!$CP$2:$DI$18,9,FALSE),\"\")","v":""},{"$f":"IFERROR(HLOOKUP(HLOOKUP(RN$8,DEBUT!$AB$4:$BP$78,3,FALSE),DEBUT!$CP$2:$DI$18,13,FALSE),\"\")","v":""},{"$f":"IFERROR(HLOOKUP(HLOOKUP(RN$8,DEBUT!$AB$4:$BP$78,3,FALSE),DEBUT!$CP$2:$DI$18,17,FALSE),\"\")","v":""},null,null,null,{"$f":"IFERROR(HLOOKUP(HLOOKUP(RU$8,DEBUT!$AB$4:$BP$78,3,FALSE),DEBUT!$CP$2:$DI$18,5,FALSE),\"\")","v":""},{"$f":"IFERROR(HLOOKUP(HLOOKUP(RU$8,DEBUT!$AB$4:$BP$78,3,FALSE),DEBUT!$CP$2:$DI$18,9,FALSE),\"\")","v":""},{"$f":"IFERROR(HLOOKUP(HLOOKUP(RU$8,DEBUT!$AB$4:$BP$78,3,FALSE),DEBUT!$CP$2:$DI$18,13,FALSE),\"\")","v":""},{"$f":"IFERROR(HLOOKUP(HLOOKUP(RU$8,DEBUT!$AB$4:$BP$78,3,FALSE),DEBUT!$CP$2:$DI$18,17,FALSE),\"\")","v":""},null,null,null,null,null,{"$f":"IFERROR(HLOOKUP(HLOOKUP(SD$8,DEBUT!$AB$4:$BP$78,3,FALSE),DEBUT!$CP$2:$DI$18,5,FALSE),\"\")","v":""},{"$f":"IFERROR(HLOOKUP(HLOOKUP(SD$8,DEBUT!$AB$4:$BP$78,3,FALSE),DEBUT!$CP$2:$DI$18,9,FALSE),\"\")","v":""},{"$f":"IFERROR(HLOOKUP(HLOOKUP(SD$8,DEBUT!$AB$4:$BP$78,3,FALSE),DEBUT!$CP$2:$DI$18,13,FALSE),\"\")","v":""},{"$f":"IFERROR(HLOOKUP(HLOOKUP(SD$8,DEBUT!$AB$4:$BP$78,3,FALSE),DEBUT!$CP$2:$DI$18,17,FALSE),\"\")","v":""},null,null,null,{"$f":"IFERROR(HLOOKUP(HLOOKUP(SK$8,DEBUT!$AB$4:$BP$78,3,FALSE),DEBUT!$CP$2:$DI$18,5,FALSE),\"\")","v":""},{"$f":"IFERROR(HLOOKUP(HLOOKUP(SK$8,DEBUT!$AB$4:$BP$78,3,FALSE),DEBUT!$CP$2:$DI$18,9,FALSE),\"\")","v":""},{"$f":"IFERROR(HLOOKUP(HLOOKUP(SK$8,DEBUT!$AB$4:$BP$78,3,FALSE),DEBUT!$CP$2:$DI$18,13,FALSE),\"\")","v":""},{"$f":"IFERROR(HLOOKUP(HLOOKUP(SK$8,DEBUT!$AB$4:$BP$78,3,FALSE),DEBUT!$CP$2:$DI$18,17,FALSE),\"\")","v":""},null,null,null,null,null,null,null,{"$f":"IFERROR(HLOOKUP(HLOOKUP(SV$8,DEBUT!$AB$4:$BP$78,3,FALSE),DEBUT!$CP$2:$DI$18,5,FALSE),\"\")","v":""},{"$f":"IFERROR(HLOOKUP(HLOOKUP(SV$8,DEBUT!$AB$4:$BP$78,3,FALSE),DEBUT!$CP$2:$DI$18,9,FALSE),\"\")","v":""},{"$f":"IFERROR(HLOOKUP(HLOOKUP(SV$8,DEBUT!$AB$4:$BP$78,3,FALSE),DEBUT!$CP$2:$DI$18,13,FALSE),\"\")","v":""},{"$f":"IFERROR(HLOOKUP(HLOOKUP(SV$8,DEBUT!$AB$4:$BP$78,3,FALSE),DEBUT!$CP$2:$DI$18,17,FALSE),\"\")","v":""},null,null,null,{"$f":"IFERROR(HLOOKUP(HLOOKUP(TC$8,DEBUT!$AB$4:$BP$78,3,FALSE),DEBUT!$CP$2:$DI$18,5,FALSE),\"\")","v":""},{"$f":"IFERROR(HLOOKUP(HLOOKUP(TC$8,DEBUT!$AB$4:$BP$78,3,FALSE),DEBUT!$CP$2:$DI$18,9,FALSE),\"\")","v":""},{"$f":"IFERROR(HLOOKUP(HLOOKUP(TC$8,DEBUT!$AB$4:$BP$78,3,FALSE),DEBUT!$CP$2:$DI$18,13,FALSE),\"\")","v":""},{"$f":"IFERROR(HLOOKUP(HLOOKUP(TC$8,DEBUT!$AB$4:$BP$78,3,FALSE),DEBUT!$CP$2:$DI$18,17,FALSE),\"\")","v":""},null,null,null,null,null,{"$f":"IFERROR(HLOOKUP(HLOOKUP(TL$8,DEBUT!$AB$4:$BP$78,3,FALSE),DEBUT!$CP$2:$DI$18,5,FALSE),\"\")","v":""},{"$f":"IFERROR(HLOOKUP(HLOOKUP(TL$8,DEBUT!$AB$4:$BP$78,3,FALSE),DEBUT!$CP$2:$DI$18,9,FALSE),\"\")","v":""},{"$f":"IFERROR(HLOOKUP(HLOOKUP(TL$8,DEBUT!$AB$4:$BP$78,3,FALSE),DEBUT!$CP$2:$DI$18,13,FALSE),\"\")","v":""},{"$f":"IFERROR(HLOOKUP(HLOOKUP(TL$8,DEBUT!$AB$4:$BP$78,3,FALSE),DEBUT!$CP$2:$DI$18,17,FALSE),\"\")","v":""},null,null,null,{"$f":"IFERROR(HLOOKUP(HLOOKUP(TS$8,DEBUT!$AB$4:$BP$78,3,FALSE),DEBUT!$CP$2:$DI$18,5,FALSE),\"\")","v":""},{"$f":"IFERROR(HLOOKUP(HLOOKUP(TS$8,DEBUT!$AB$4:$BP$78,3,FALSE),DEBUT!$CP$2:$DI$18,9,FALSE),\"\")","v":""},{"$f":"IFERROR(HLOOKUP(HLOOKUP(TS$8,DEBUT!$AB$4:$BP$78,3,FALSE),DEBUT!$CP$2:$DI$18,13,FALSE),\"\")","v":""},{"$f":"IFERROR(HLOOKUP(HLOOKUP(TS$8,DEBUT!$AB$4:$BP$78,3,FALSE),DEBUT!$CP$2:$DI$18,17,FALSE),\"\")","v":""},null,null,null,null,null,null,null,{"$f":"IFERROR(HLOOKUP(HLOOKUP(UD$8,DEBUT!$AB$4:$BP$78,3,FALSE),DEBUT!$CP$2:$DI$18,5,FALSE),\"\")","v":""},{"$f":"IFERROR(HLOOKUP(HLOOKUP(UD$8,DEBUT!$AB$4:$BP$78,3,FALSE),DEBUT!$CP$2:$DI$18,9,FALSE),\"\")","v":""},{"$f":"IFERROR(HLOOKUP(HLOOKUP(UD$8,DEBUT!$AB$4:$BP$78,3,FALSE),DEBUT!$CP$2:$DI$18,13,FALSE),\"\")","v":""},{"$f":"IFERROR(HLOOKUP(HLOOKUP(UD$8,DEBUT!$AB$4:$BP$78,3,FALSE),DEBUT!$CP$2:$DI$18,17,FALSE),\"\")","v":""},null,null,null,{"$f":"IFERROR(HLOOKUP(HLOOKUP(UK$8,DEBUT!$AB$4:$BP$78,3,FALSE),DEBUT!$CP$2:$DI$18,5,FALSE),\"\")","v":""},{"$f":"IFERROR(HLOOKUP(HLOOKUP(UK$8,DEBUT!$AB$4:$BP$78,3,FALSE),DEBUT!$CP$2:$DI$18,9,FALSE),\"\")","v":""},{"$f":"IFERROR(HLOOKUP(HLOOKUP(UK$8,DEBUT!$AB$4:$BP$78,3,FALSE),DEBUT!$CP$2:$DI$18,13,FALSE),\"\")","v":""},{"$f":"IFERROR(HLOOKUP(HLOOKUP(UK$8,DEBUT!$AB$4:$BP$78,3,FALSE),DEBUT!$CP$2:$DI$18,17,FALSE),\"\")","v":""},null,null,null,null,null,{"$f":"IFERROR(HLOOKUP(HLOOKUP(UT$8,DEBUT!$AB$4:$BP$78,3,FALSE),DEBUT!$CP$2:$DI$18,5,FALSE),\"\")","v":""},{"$f":"IFERROR(HLOOKUP(HLOOKUP(UT$8,DEBUT!$AB$4:$BP$78,3,FALSE),DEBUT!$CP$2:$DI$18,9,FALSE),\"\")","v":""},{"$f":"IFERROR(HLOOKUP(HLOOKUP(UT$8,DEBUT!$AB$4:$BP$78,3,FALSE),DEBUT!$CP$2:$DI$18,13,FALSE),\"\")","v":""},{"$f":"IFERROR(HLOOKUP(HLOOKUP(UT$8,DEBUT!$AB$4:$BP$78,3,FALSE),DEBUT!$CP$2:$DI$18,17,FALSE),\"\")","v":""},null,null,null,{"$f":"IFERROR(HLOOKUP(HLOOKUP(VA$8,DEBUT!$AB$4:$BP$78,3,FALSE),DEBUT!$CP$2:$DI$18,5,FALSE),\"\")","v":""},{"$f":"IFERROR(HLOOKUP(HLOOKUP(VA$8,DEBUT!$AB$4:$BP$78,3,FALSE),DEBUT!$CP$2:$DI$18,9,FALSE),\"\")","v":""},{"$f":"IFERROR(HLOOKUP(HLOOKUP(VA$8,DEBUT!$AB$4:$BP$78,3,FALSE),DEBUT!$CP$2:$DI$18,13,FALSE),\"\")","v":""},{"$f":"IFERROR(HLOOKUP(HLOOKUP(VA$8,DEBUT!$AB$4:$BP$78,3,FALSE),DEBUT!$CP$2:$DI$18,17,FALSE),\"\")","v":""},null,null,null,null,null,null,null,{"$f":"IFERROR(HLOOKUP(HLOOKUP(VL$8,DEBUT!$AB$4:$BP$78,3,FALSE),DEBUT!$CP$2:$DI$18,5,FALSE),\"\")","v":""},{"$f":"IFERROR(HLOOKUP(HLOOKUP(VL$8,DEBUT!$AB$4:$BP$78,3,FALSE),DEBUT!$CP$2:$DI$18,9,FALSE),\"\")","v":""},{"$f":"IFERROR(HLOOKUP(HLOOKUP(VL$8,DEBUT!$AB$4:$BP$78,3,FALSE),DEBUT!$CP$2:$DI$18,13,FALSE),\"\")","v":""},{"$f":"IFERROR(HLOOKUP(HLOOKUP(VL$8,DEBUT!$AB$4:$BP$78,3,FALSE),DEBUT!$CP$2:$DI$18,17,FALSE),\"\")","v":""},null,null,null,{"$f":"IFERROR(HLOOKUP(HLOOKUP(VS$8,DEBUT!$AB$4:$BP$78,3,FALSE),DEBUT!$CP$2:$DI$18,5,FALSE),\"\")","v":""},{"$f":"IFERROR(HLOOKUP(HLOOKUP(VS$8,DEBUT!$AB$4:$BP$78,3,FALSE),DEBUT!$CP$2:$DI$18,9,FALSE),\"\")","v":""},{"$f":"IFERROR(HLOOKUP(HLOOKUP(VS$8,DEBUT!$AB$4:$BP$78,3,FALSE),DEBUT!$CP$2:$DI$18,13,FALSE),\"\")","v":""},{"$f":"IFERROR(HLOOKUP(HLOOKUP(VS$8,DEBUT!$AB$4:$BP$78,3,FALSE),DEBUT!$CP$2:$DI$18,17,FALSE),\"\")","v":""},null,null,null,null,null,{"$f":"IFERROR(HLOOKUP(HLOOKUP(WB$8,DEBUT!$AB$4:$BP$78,3,FALSE),DEBUT!$CP$2:$DI$18,5,FALSE),\"\")","v":""},{"$f":"IFERROR(HLOOKUP(HLOOKUP(WB$8,DEBUT!$AB$4:$BP$78,3,FALSE),DEBUT!$CP$2:$DI$18,9,FALSE),\"\")","v":""},{"$f":"IFERROR(HLOOKUP(HLOOKUP(WB$8,DEBUT!$AB$4:$BP$78,3,FALSE),DEBUT!$CP$2:$DI$18,13,FALSE),\"\")","v":""},{"$f":"IFERROR(HLOOKUP(HLOOKUP(WB$8,DEBUT!$AB$4:$BP$78,3,FALSE),DEBUT!$CP$2:$DI$18,17,FALSE),\"\")","v":""},null,null,null,{"$f":"IFERROR(HLOOKUP(HLOOKUP(WI$8,DEBUT!$AB$4:$BP$78,3,FALSE),DEBUT!$CP$2:$DI$18,5,FALSE),\"\")","v":""},{"$f":"IFERROR(HLOOKUP(HLOOKUP(WI$8,DEBUT!$AB$4:$BP$78,3,FALSE),DEBUT!$CP$2:$DI$18,9,FALSE),\"\")","v":""},{"$f":"IFERROR(HLOOKUP(HLOOKUP(WI$8,DEBUT!$AB$4:$BP$78,3,FALSE),DEBUT!$CP$2:$DI$18,13,FALSE),\"\")","v":""},{"$f":"IFERROR(HLOOKUP(HLOOKUP(WI$8,DEBUT!$AB$4:$BP$78,3,FALSE),DEBUT!$CP$2:$DI$18,17,FALSE),\"\")","v":""},null,null,null,null,null,null,null,{"$f":"IFERROR(HLOOKUP(HLOOKUP(WT$8,DEBUT!$AB$4:$BP$78,3,FALSE),DEBUT!$CP$2:$DI$18,5,FALSE),\"\")","v":""},{"$f":"IFERROR(HLOOKUP(HLOOKUP(WT$8,DEBUT!$AB$4:$BP$78,3,FALSE),DEBUT!$CP$2:$DI$18,9,FALSE),\"\")","v":""},{"$f":"IFERROR(HLOOKUP(HLOOKUP(WT$8,DEBUT!$AB$4:$BP$78,3,FALSE),DEBUT!$CP$2:$DI$18,13,FALSE),\"\")","v":""},{"$f":"IFERROR(HLOOKUP(HLOOKUP(WT$8,DEBUT!$AB$4:$BP$78,3,FALSE),DEBUT!$CP$2:$DI$18,17,FALSE),\"\")","v":""},null,null,null,{"$f":"IFERROR(HLOOKUP(HLOOKUP(XA$8,DEBUT!$AB$4:$BP$78,3,FALSE),DEBUT!$CP$2:$DI$18,5,FALSE),\"\")","v":""},{"$f":"IFERROR(HLOOKUP(HLOOKUP(XA$8,DEBUT!$AB$4:$BP$78,3,FALSE),DEBUT!$CP$2:$DI$18,9,FALSE),\"\")","v":""},{"$f":"IFERROR(HLOOKUP(HLOOKUP(XA$8,DEBUT!$AB$4:$BP$78,3,FALSE),DEBUT!$CP$2:$DI$18,13,FALSE),\"\")","v":""},{"$f":"IFERROR(HLOOKUP(HLOOKUP(XA$8,DEBUT!$AB$4:$BP$78,3,FALSE),DEBUT!$CP$2:$DI$18,17,FALSE),\"\")","v":""},null,null,null,null,null,{"$f":"IFERROR(HLOOKUP(HLOOKUP(XJ$8,DEBUT!$AB$4:$BP$78,3,FALSE),DEBUT!$CP$2:$DI$18,5,FALSE),\"\")","v":""},{"$f":"IFERROR(HLOOKUP(HLOOKUP(XJ$8,DEBUT!$AB$4:$BP$78,3,FALSE),DEBUT!$CP$2:$DI$18,9,FALSE),\"\")","v":""},{"$f":"IFERROR(HLOOKUP(HLOOKUP(XJ$8,DEBUT!$AB$4:$BP$78,3,FALSE),DEBUT!$CP$2:$DI$18,13,FALSE),\"\")","v":""},{"$f":"IFERROR(HLOOKUP(HLOOKUP(XJ$8,DEBUT!$AB$4:$BP$78,3,FALSE),DEBUT!$CP$2:$DI$18,17,FALSE),\"\")","v":""},null,null,null,{"$f":"IFERROR(HLOOKUP(HLOOKUP(XQ$8,DEBUT!$AB$4:$BP$78,3,FALSE),DEBUT!$CP$2:$DI$18,5,FALSE),\"\")","v":""},{"$f":"IFERROR(HLOOKUP(HLOOKUP(XQ$8,DEBUT!$AB$4:$BP$78,3,FALSE),DEBUT!$CP$2:$DI$18,9,FALSE),\"\")","v":""},{"$f":"IFERROR(HLOOKUP(HLOOKUP(XQ$8,DEBUT!$AB$4:$BP$78,3,FALSE),DEBUT!$CP$2:$DI$18,13,FALSE),\"\")","v":""},{"$f":"IFERROR(HLOOKUP(HLOOKUP(XQ$8,DEBUT!$AB$4:$BP$78,3,FALSE),DEBUT!$CP$2:$DI$18,17,FALSE),\"\")","v":""},null,null,null,null,null,null,null,{"$f":"IFERROR(HLOOKUP(HLOOKUP(YB$8,DEBUT!$AB$4:$BP$78,3,FALSE),DEBUT!$CP$2:$DI$18,5,FALSE),\"\")","v":""},{"$f":"IFERROR(HLOOKUP(HLOOKUP(YB$8,DEBUT!$AB$4:$BP$78,3,FALSE),DEBUT!$CP$2:$DI$18,9,FALSE),\"\")","v":""},{"$f":"IFERROR(HLOOKUP(HLOOKUP(YB$8,DEBUT!$AB$4:$BP$78,3,FALSE),DEBUT!$CP$2:$DI$18,13,FALSE),\"\")","v":""},{"$f":"IFERROR(HLOOKUP(HLOOKUP(YB$8,DEBUT!$AB$4:$BP$78,3,FALSE),DEBUT!$CP$2:$DI$18,17,FALSE),\"\")","v":""},null,null,null,{"$f":"IFERROR(HLOOKUP(HLOOKUP(YI$8,DEBUT!$AB$4:$BP$78,3,FALSE),DEBUT!$CP$2:$DI$18,5,FALSE),\"\")","v":""},{"$f":"IFERROR(HLOOKUP(HLOOKUP(YI$8,DEBUT!$AB$4:$BP$78,3,FALSE),DEBUT!$CP$2:$DI$18,9,FALSE),\"\")","v":""},{"$f":"IFERROR(HLOOKUP(HLOOKUP(YI$8,DEBUT!$AB$4:$BP$78,3,FALSE),DEBUT!$CP$2:$DI$18,13,FALSE),\"\")","v":""},{"$f":"IFERROR(HLOOKUP(HLOOKUP(YI$8,DEBUT!$AB$4:$BP$78,3,FALSE),DEBUT!$CP$2:$DI$18,17,FALSE),\"\")","v":""},null,null,null,null,null,{"$f":"IFERROR(HLOOKUP(HLOOKUP(YR$8,DEBUT!$AB$4:$BP$78,3,FALSE),DEBUT!$CP$2:$DI$18,5,FALSE),\"\")","v":""},{"$f":"IFERROR(HLOOKUP(HLOOKUP(YR$8,DEBUT!$AB$4:$BP$78,3,FALSE),DEBUT!$CP$2:$DI$18,9,FALSE),\"\")","v":""},{"$f":"IFERROR(HLOOKUP(HLOOKUP(YR$8,DEBUT!$AB$4:$BP$78,3,FALSE),DEBUT!$CP$2:$DI$18,13,FALSE),\"\")","v":""},{"$f":"IFERROR(HLOOKUP(HLOOKUP(YR$8,DEBUT!$AB$4:$BP$78,3,FALSE),DEBUT!$CP$2:$DI$18,17,FALSE),\"\")","v":""},null,null,null,{"$f":"IFERROR(HLOOKUP(HLOOKUP(YY$8,DEBUT!$AB$4:$BP$78,3,FALSE),DEBUT!$CP$2:$DI$18,5,FALSE),\"\")","v":""},{"$f":"IFERROR(HLOOKUP(HLOOKUP(YY$8,DEBUT!$AB$4:$BP$78,3,FALSE),DEBUT!$CP$2:$DI$18,9,FALSE),\"\")","v":""},{"$f":"IFERROR(HLOOKUP(HLOOKUP(YY$8,DEBUT!$AB$4:$BP$78,3,FALSE),DEBUT!$CP$2:$DI$18,13,FALSE),\"\")","v":""},{"$f":"IFERROR(HLOOKUP(HLOOKUP(YY$8,DEBUT!$AB$4:$BP$78,3,FALSE),DEBUT!$CP$2:$DI$18,17,FALSE),\"\")","v":""},null,null,null,null,null,null,null,{"$f":"IFERROR(HLOOKUP(HLOOKUP(ZJ$8,DEBUT!$AB$4:$BP$78,3,FALSE),DEBUT!$CP$2:$DI$18,5,FALSE),\"\")","v":""},{"$f":"IFERROR(HLOOKUP(HLOOKUP(ZJ$8,DEBUT!$AB$4:$BP$78,3,FALSE),DEBUT!$CP$2:$DI$18,9,FALSE),\"\")","v":""},{"$f":"IFERROR(HLOOKUP(HLOOKUP(ZJ$8,DEBUT!$AB$4:$BP$78,3,FALSE),DEBUT!$CP$2:$DI$18,13,FALSE),\"\")","v":""},{"$f":"IFERROR(HLOOKUP(HLOOKUP(ZJ$8,DEBUT!$AB$4:$BP$78,3,FALSE),DEBUT!$CP$2:$DI$18,17,FALSE),\"\")","v":""},null,null,null,{"$f":"IFERROR(HLOOKUP(HLOOKUP(ZQ$8,DEBUT!$AB$4:$BP$78,3,FALSE),DEBUT!$CP$2:$DI$18,5,FALSE),\"\")","v":""},{"$f":"IFERROR(HLOOKUP(HLOOKUP(ZQ$8,DEBUT!$AB$4:$BP$78,3,FALSE),DEBUT!$CP$2:$DI$18,9,FALSE),\"\")","v":""},{"$f":"IFERROR(HLOOKUP(HLOOKUP(ZQ$8,DEBUT!$AB$4:$BP$78,3,FALSE),DEBUT!$CP$2:$DI$18,13,FALSE),\"\")","v":""},{"$f":"IFERROR(HLOOKUP(HLOOKUP(ZQ$8,DEBUT!$AB$4:$BP$78,3,FALSE),DEBUT!$CP$2:$DI$18,17,FALSE),\"\")","v":""},null,null,null,null,null,{"$f":"IFERROR(HLOOKUP(HLOOKUP(ZZ$8,DEBUT!$AB$4:$BP$78,3,FALSE),DEBUT!$CP$2:$DI$18,5,FALSE),\"\")","v":""},{"$f":"IFERROR(HLOOKUP(HLOOKUP(ZZ$8,DEBUT!$AB$4:$BP$78,3,FALSE),DEBUT!$CP$2:$DI$18,9,FALSE),\"\")","v":""},{"$f":"IFERROR(HLOOKUP(HLOOKUP(ZZ$8,DEBUT!$AB$4:$BP$78,3,FALSE),DEBUT!$CP$2:$DI$18,13,FALSE),\"\")","v":""},{"$f":"IFERROR(HLOOKUP(HLOOKUP(ZZ$8,DEBUT!$AB$4:$BP$78,3,FALSE),DEBUT!$CP$2:$DI$18,17,FALSE),\"\")","v":""},null,null,null,{"$f":"IFERROR(HLOOKUP(HLOOKUP(AAG$8,DEBUT!$AB$4:$BP$78,3,FALSE),DEBUT!$CP$2:$DI$18,5,FALSE),\"\")","v":""},{"$f":"IFERROR(HLOOKUP(HLOOKUP(AAG$8,DEBUT!$AB$4:$BP$78,3,FALSE),DEBUT!$CP$2:$DI$18,9,FALSE),\"\")","v":""},{"$f":"IFERROR(HLOOKUP(HLOOKUP(AAG$8,DEBUT!$AB$4:$BP$78,3,FALSE),DEBUT!$CP$2:$DI$18,13,FALSE),\"\")","v":""},{"$f":"IFERROR(HLOOKUP(HLOOKUP(AAG$8,DEBUT!$AB$4:$BP$78,3,FALSE),DEBUT!$CP$2:$DI$18,17,FALSE),\"\")","v":""},null,null,null,null,null,null,null,{"$f":"IFERROR(HLOOKUP(HLOOKUP(AAR$8,DEBUT!$AB$4:$BP$78,3,FALSE),DEBUT!$CP$2:$DI$18,5,FALSE),\"\")","v":""},{"$f":"IFERROR(HLOOKUP(HLOOKUP(AAR$8,DEBUT!$AB$4:$BP$78,3,FALSE),DEBUT!$CP$2:$DI$18,9,FALSE),\"\")","v":""},{"$f":"IFERROR(HLOOKUP(HLOOKUP(AAR$8,DEBUT!$AB$4:$BP$78,3,FALSE),DEBUT!$CP$2:$DI$18,13,FALSE),\"\")","v":""},{"$f":"IFERROR(HLOOKUP(HLOOKUP(AAR$8,DEBUT!$AB$4:$BP$78,3,FALSE),DEBUT!$CP$2:$DI$18,17,FALSE),\"\")","v":""},null,null,null,{"$f":"IFERROR(HLOOKUP(HLOOKUP(AAY$8,DEBUT!$AB$4:$BP$78,3,FALSE),DEBUT!$CP$2:$DI$18,5,FALSE),\"\")","v":""},{"$f":"IFERROR(HLOOKUP(HLOOKUP(AAY$8,DEBUT!$AB$4:$BP$78,3,FALSE),DEBUT!$CP$2:$DI$18,9,FALSE),\"\")","v":""},{"$f":"IFERROR(HLOOKUP(HLOOKUP(AAY$8,DEBUT!$AB$4:$BP$78,3,FALSE),DEBUT!$CP$2:$DI$18,13,FALSE),\"\")","v":""},{"$f":"IFERROR(HLOOKUP(HLOOKUP(AAY$8,DEBUT!$AB$4:$BP$78,3,FALSE),DEBUT!$CP$2:$DI$18,17,FALSE),\"\")","v":""},null,null,null,null,null,{"$f":"IFERROR(HLOOKUP(HLOOKUP(ABH$8,DEBUT!$AB$4:$BP$78,3,FALSE),DEBUT!$CP$2:$DI$18,5,FALSE),\"\")","v":""},{"$f":"IFERROR(HLOOKUP(HLOOKUP(ABH$8,DEBUT!$AB$4:$BP$78,3,FALSE),DEBUT!$CP$2:$DI$18,9,FALSE),\"\")","v":""},{"$f":"IFERROR(HLOOKUP(HLOOKUP(ABH$8,DEBUT!$AB$4:$BP$78,3,FALSE),DEBUT!$CP$2:$DI$18,13,FALSE),\"\")","v":""},{"$f":"IFERROR(HLOOKUP(HLOOKUP(ABH$8,DEBUT!$AB$4:$BP$78,3,FALSE),DEBUT!$CP$2:$DI$18,17,FALSE),\"\")","v":""},null,null,null,{"$f":"IFERROR(HLOOKUP(HLOOKUP(ABO$8,DEBUT!$AB$4:$BP$78,3,FALSE),DEBUT!$CP$2:$DI$18,5,FALSE),\"\")","v":""},{"$f":"IFERROR(HLOOKUP(HLOOKUP(ABO$8,DEBUT!$AB$4:$BP$78,3,FALSE),DEBUT!$CP$2:$DI$18,9,FALSE),\"\")","v":""},{"$f":"IFERROR(HLOOKUP(HLOOKUP(ABO$8,DEBUT!$AB$4:$BP$78,3,FALSE),DEBUT!$CP$2:$DI$18,13,FALSE),\"\")","v":""},{"$f":"IFERROR(HLOOKUP(HLOOKUP(ABO$8,DEBUT!$AB$4:$BP$78,3,FALSE),DEBUT!$CP$2:$DI$18,17,FALSE),\"\")","v":""},null,null,null,null,null,null,null,{"$f":"IFERROR(HLOOKUP(HLOOKUP(ABZ$8,DEBUT!$AB$4:$BP$78,3,FALSE),DEBUT!$CP$2:$DI$18,5,FALSE),\"\")","v":""},{"$f":"IFERROR(HLOOKUP(HLOOKUP(ABZ$8,DEBUT!$AB$4:$BP$78,3,FALSE),DEBUT!$CP$2:$DI$18,9,FALSE),\"\")","v":""},{"$f":"IFERROR(HLOOKUP(HLOOKUP(ABZ$8,DEBUT!$AB$4:$BP$78,3,FALSE),DEBUT!$CP$2:$DI$18,13,FALSE),\"\")","v":""},{"$f":"IFERROR(HLOOKUP(HLOOKUP(ABZ$8,DEBUT!$AB$4:$BP$78,3,FALSE),DEBUT!$CP$2:$DI$18,17,FALSE),\"\")","v":""},null,null,null,{"$f":"IFERROR(HLOOKUP(HLOOKUP(ACG$8,DEBUT!$AB$4:$BP$78,3,FALSE),DEBUT!$CP$2:$DI$18,5,FALSE),\"\")","v":""},{"$f":"IFERROR(HLOOKUP(HLOOKUP(ACG$8,DEBUT!$AB$4:$BP$78,3,FALSE),DEBUT!$CP$2:$DI$18,9,FALSE),\"\")","v":""},{"$f":"IFERROR(HLOOKUP(HLOOKUP(ACG$8,DEBUT!$AB$4:$BP$78,3,FALSE),DEBUT!$CP$2:$DI$18,13,FALSE),\"\")","v":""},{"$f":"IFERROR(HLOOKUP(HLOOKUP(ACG$8,DEBUT!$AB$4:$BP$78,3,FALSE),DEBUT!$CP$2:$DI$18,17,FALSE),\"\")","v":""},null,null,null,null,null,{"$f":"IFERROR(HLOOKUP(HLOOKUP(ACP$8,DEBUT!$AB$4:$BP$78,3,FALSE),DEBUT!$CP$2:$DI$18,5,FALSE),\"\")","v":""},{"$f":"IFERROR(HLOOKUP(HLOOKUP(ACP$8,DEBUT!$AB$4:$BP$78,3,FALSE),DEBUT!$CP$2:$DI$18,9,FALSE),\"\")","v":""},{"$f":"IFERROR(HLOOKUP(HLOOKUP(ACP$8,DEBUT!$AB$4:$BP$78,3,FALSE),DEBUT!$CP$2:$DI$18,13,FALSE),\"\")","v":""},{"$f":"IFERROR(HLOOKUP(HLOOKUP(ACP$8,DEBUT!$AB$4:$BP$78,3,FALSE),DEBUT!$CP$2:$DI$18,17,FALSE),\"\")","v":""},null,null,null,{"$f":"IFERROR(HLOOKUP(HLOOKUP(ACW$8,DEBUT!$AB$4:$BP$78,3,FALSE),DEBUT!$CP$2:$DI$18,5,FALSE),\"\")","v":""},{"$f":"IFERROR(HLOOKUP(HLOOKUP(ACW$8,DEBUT!$AB$4:$BP$78,3,FALSE),DEBUT!$CP$2:$DI$18,9,FALSE),\"\")","v":""},{"$f":"IFERROR(HLOOKUP(HLOOKUP(ACW$8,DEBUT!$AB$4:$BP$78,3,FALSE),DEBUT!$CP$2:$DI$18,13,FALSE),\"\")","v":""},{"$f":"IFERROR(HLOOKUP(HLOOKUP(ACW$8,DEBUT!$AB$4:$BP$78,3,FALSE),DEBUT!$CP$2:$DI$18,17,FALSE),\"\")","v":""},null,null,null,null,null,null,null,{"$f":"IFERROR(HLOOKUP(HLOOKUP(ADH$8,DEBUT!$AB$4:$BP$78,3,FALSE),DEBUT!$CP$2:$DI$18,5,FALSE),\"\")","v":""},{"$f":"IFERROR(HLOOKUP(HLOOKUP(ADH$8,DEBUT!$AB$4:$BP$78,3,FALSE),DEBUT!$CP$2:$DI$18,9,FALSE),\"\")","v":""},{"$f":"IFERROR(HLOOKUP(HLOOKUP(ADH$8,DEBUT!$AB$4:$BP$78,3,FALSE),DEBUT!$CP$2:$DI$18,13,FALSE),\"\")","v":""},{"$f":"IFERROR(HLOOKUP(HLOOKUP(ADH$8,DEBUT!$AB$4:$BP$78,3,FALSE),DEBUT!$CP$2:$DI$18,17,FALSE),\"\")","v":""},null,null,null,{"$f":"IFERROR(HLOOKUP(HLOOKUP(ADO$8,DEBUT!$AB$4:$BP$78,3,FALSE),DEBUT!$CP$2:$DI$18,5,FALSE),\"\")","v":""},{"$f":"IFERROR(HLOOKUP(HLOOKUP(ADO$8,DEBUT!$AB$4:$BP$78,3,FALSE),DEBUT!$CP$2:$DI$18,9,FALSE),\"\")","v":""},{"$f":"IFERROR(HLOOKUP(HLOOKUP(ADO$8,DEBUT!$AB$4:$BP$78,3,FALSE),DEBUT!$CP$2:$DI$18,13,FALSE),\"\")","v":""},{"$f":"IFERROR(HLOOKUP(HLOOKUP(ADO$8,DEBUT!$AB$4:$BP$78,3,FALSE),DEBUT!$CP$2:$DI$18,17,FALSE),\"\")","v":""},null,null,null,null,null,{"$f":"IFERROR(HLOOKUP(HLOOKUP(ADX$8,DEBUT!$AB$4:$BP$78,3,FALSE),DEBUT!$CP$2:$DI$18,5,FALSE),\"\")","v":""},{"$f":"IFERROR(HLOOKUP(HLOOKUP(ADX$8,DEBUT!$AB$4:$BP$78,3,FALSE),DEBUT!$CP$2:$DI$18,9,FALSE),\"\")","v":""},{"$f":"IFERROR(HLOOKUP(HLOOKUP(ADX$8,DEBUT!$AB$4:$BP$78,3,FALSE),DEBUT!$CP$2:$DI$18,13,FALSE),\"\")","v":""},{"$f":"IFERROR(HLOOKUP(HLOOKUP(ADX$8,DEBUT!$AB$4:$BP$78,3,FALSE),DEBUT!$CP$2:$DI$18,17,FALSE),\"\")","v":""},null,null,null,{"$f":"IFERROR(HLOOKUP(HLOOKUP(AEE$8,DEBUT!$AB$4:$BP$78,3,FALSE),DEBUT!$CP$2:$DI$18,5,FALSE),\"\")","v":""},{"$f":"IFERROR(HLOOKUP(HLOOKUP(AEE$8,DEBUT!$AB$4:$BP$78,3,FALSE),DEBUT!$CP$2:$DI$18,9,FALSE),\"\")","v":""},{"$f":"IFERROR(HLOOKUP(HLOOKUP(AEE$8,DEBUT!$AB$4:$BP$78,3,FALSE),DEBUT!$CP$2:$DI$18,13,FALSE),\"\")","v":""},{"$f":"IFERROR(HLOOKUP(HLOOKUP(AEE$8,DEBUT!$AB$4:$BP$78,3,FALSE),DEBUT!$CP$2:$DI$18,17,FALSE),\"\")","v":""}]
[]
[null,null,null,null,null,null,null,null,null,null,null,null,null,null,null,null,null,null,null,null,null,null,null,null,null,null,null,null,null,null,null,null,null,null,null,"NOUVEAU MATCH",null,null,null,null,null,null,null,null,null,null,null,null,null,null,null,null,null,null,null,null,null,null,null,null,null,null,null,null,null,null,null,null,null,"NOUVEAU MATCH",null,null,null,null,null,null,null,null,null,null,null,null,null,null,null,null,null,null,null,null,null,null,null,null,null,null,null,null,null,null,null,null,null,"NOUVEAU MATCH",null,null,null,null,null,null,null,null,null,null,null,null,null,null,null,null,null,null,null,null,null,null,null,null,null,null,null,null,null,null,null,null,null,"NOUVEAU MATCH",null,null,null,null,null,null,null,null,null,null,null,null,null,null,null,null,null,null,null,null,null,null,null,null,null,null,null,null,null,null,null,null,null,"NOUVEAU MATCH",null,null,null,null,null,null,null,null,null,null,null,null,null,null,null,null,null,null,null,null,null,null,null,null,null,null,null,null,null,null,null,null,null,"NOUVEAU MATCH",null,null,null,null,null,null,null,null,null,null,null,null,null,null,null,null,null,null,null,null,null,null,null,null,null,null,null,null,null,null,null,null,null,"NOUVEAU MATCH",null,null,null,null,null,null,null,null,null,null,null,null,null,null,null,null,null,null,null,null,null,null,null,null,null,null,null,null,null,null,null,null,null,"NOUVEAU MATCH",null,null,null,null,null,null,null,null,null,null,null,null,null,null,null,null,null,null,null,null,null,null,null,null,null,null,null,null,null,null,null,null,null,"NOUVEAU MATCH",null,null,null,null,null,null,null,null,null,null,null,null,null,null,null,null,null,null,null,null,null,null,null,null,null,null,null,null,null,null,null,null,null,"NOUVEAU MATCH",null,null,null,null,null,null,null,null,null,null,null,null,null,null,null,null,null,null,null,null,null,null,null,null,null,null,null,null,null,null,null,null,null,"NOUVEAU MATCH",null,null,null,null,null,null,null,null,null,null,null,null,null,null,null,null,null,null,null,null,null,null,null,null,null,null,null,null,null,null,null,null,null,"NOUVEAU MATCH",null,null,null,null,null,null,null,null,null,null,null,null,null,null,null,null,null,null,null,null,null,null,null,null,null,null,null,null,null,null,null,null,null,"NOUVEAU MATCH",null,null,null,null,null,null,null,null,null,null,null,null,null,null,null,null,null,null,null,null,null,null,null,null,null,null,null,null,null,null,null,null,null,"NOUVEAU MATCH",null,null,null,null,null,null,null,null,null,null,null,null,null,null,null,null,null,null,null,null,null,null,null,null,null,null,null,null,null,null,null,null,null,"NOUVEAU MATCH",null,null,null,null,null,null,null,null,null,null,null,null,null,null,null,null,null,null,null,null,null,null,null,null,null,null,null,null,null,null,null,null,null,"NOUVEAU MATCH",null,null,null,null,null,null,null,null,null,null,null,null,null,null,null,null,null,null,null,null,null,null,null,null,null,null,null,null,null,null,null,null,null,"NOUVEAU MATCH",null,null,null,null,null,null,null,null,null,null,null,null,null,null,null,null,null,null,null,null,null,null,null,null,null,null,null,null,null,null,null,null,null,"NOUVEAU MATCH",null,null,null,null,null,null,null,null,null,null,null,null,null,null,null,null,null,null,null,null,null,null,null,null,null,null,null,null,null,null,null,null,null,"NOUVEAU MATCH",null,null,null,null,null,null,null,null,null,null,null,null,null,null,null,null,null,null,null,null,null,null,null,null,null,null,null,null,null,null,null,null,null,"NOUVEAU MATCH",null,null,null,null,null,null,null,null,null,null,null,null,null,null,null,null,null,null,null,null,null,null,null,null,null,null,null,null,null,null,null,null,null,"NOUVEAU MATCH",null,null,null,null,null,null,null,null,null,null,null,null,null,null,null,null,null,null,null,null,null,null,null,null,null,null,null,null,null,null,null,null,null,"NOUVEAU MATCH",null,null,null,null,null,null,null,null,null,null,null,null,null,null,null,null,null,null,null,null,null,null,null,null,null,null,null,null,null,null,null,null,null,"NOUVEAU MATCH",null,null,null,null,null,null,null,null,null,null,null,null,null,null,null,null,null,null,null,null,null,null,null,null,null,null,null,null,null,null,null,null,null,"NOUVEAU MATCH"]
[null,"DESAVANTAGES POSSIBLES",null,null,null,"Désavantage",null,null,null,null,null,null,"Désavantage",null,null,null,null,null,null,null,null,"Désavantage",null,null,null,null,null,null,"Désavantage",null,null,null,null,null,null,null,null,null,null,"Désavantage",null,null,null,null,null,null,"Désavantage",null,null,null,null,null,null,null,null,"Désavantage",null,null,null,null,null,null,"Désavantage",null,null,null,null,null,null,null,null,null,null,"Désavantage",null,null,null,null,null,null,"Désavantage",null,null,null,null,null,null,null,null,"Désavantage",null,null,null,null,null,null,"Désavantage",null,null,null,null,null,null,null,null,null,null,"Désavantage",null,null,null,null,null,null,"Désavantage",null,null,null,null,null,null,null,null,"Désavantage",null,null,null,null,null,null,"Désavantage",null,null,null,null,null,null,null,null,null,null,"Désavantage",null,null,null,null,null,null,"Désavantage",null,null,null,null,null,null,null,null,"Désavantage",null,null,null,null,null,null,"Désavantage",null,null,null,null,null,null,null,null,null,null,"Désavantage",null,null,null,null,null,null,"Désavantage",null,null,null,null,null,null,null,null,"Désavantage",null,null,null,null,null,null,"Désavantage",null,null,null,null,null,null,null,null,null,null,"Désavantage",null,null,null,null,null,null,"Désavantage",null,null,null,null,null,null,null,null,"Désavantage",null,null,null,null,null,null,"Désavantage",null,null,null,null,null,null,null,null,null,null,"Désavantage",null,null,null,null,null,null,"Désavantage",null,null,null,null,null,null,null,null,"Désavantage",null,null,null,null,null,null,"Désavantage",null,null,null,null,null,null,null,null,null,null,"Désavantage",null,null,null,null,null,null,"Désavantage",null,null,null,null,null,null,null,null,"Désavantage",null,null,null,null,null,null,"Désavantage",null,null,null,null,null,null,null,null,null,null,"Désavantage",null,null,null,null,null,null,"Désavantage",null,null,null,null,null,null,null,null,"Désavantage",null,null,null,null,null,null,"Désavantage",null,null,null,null,null,null,null,null,null,null,"Désavantage",null,null,null,null,null,null,"Désavantage",null,null,null,null,null,null,null,null,"Désavantage",null,null,null,null,null,null,"Désavantage",null,null,null,null,null,null,null,null,null,null,"Désavantage",null,null,null,null,null,null,"Désavantage",null,null,null,null,null,null,null,null,"Désavantage",null,null,null,null,null,null,"Désavantage",null,null,null,null,null,null,null,null,null,null,"Désavantage",null,null,null,null,null,null,"Désavantage",null,null,null,null,null,null,null,null,"Désavantage",null,null,null,null,null,null,"Désavantage",null,null,null,null,null,null,null,null,null,null,"Désavantage",null,null,null,null,null,null,"Désavantage",null,null,null,null,null,null,null,null,"Désavantage",null,null,null,null,null,null,"Désavantage",null,null,null,null,null,null,null,null,null,null,"Désavantage",null,null,null,null,null,null,"Désavantage",null,null,null,null,null,null,null,null,"Désavantage",null,null,null,null,null,null,"Désavantage",null,null,null,null,null,null,null,null,null,null,"Désavantage",null,null,null,null,null,null,"Désavantage",null,null,null,null,null,null,null,null,"Désavantage",null,null,null,null,null,null,"Désavantage",null,null,null,null,null,null,null,null,null,null,"Désavantage",null,null,null,null,null,null,"Désavantage",null,null,null,null,null,null,null,null,"Désavantage",null,null,null,null,null,null,"Désavantage",null,null,null,null,null,null,null,null,null,null,"Désavantage",null,null,null,null,null,null,"Désavantage",null,null,null,null,null,null,null,null,"Désavantage",null,null,null,null,null,null,"Désavantage",null,null,null,null,null,null,null,null,null,null,"Désavantage",null,null,null,null,null,null,"Désavantage",null,null,null,null,null,null,null,null,"Désavantage",null,null,null,null,null,null,"Désavantage",null,null,null,null,null,null,null,null,null,null,"Désavantage",null,null,null,null,null,null,"Désavantage",null,null,null,null,null,null,null,null,"Désavantage",null,null,null,null,null,null,"Désavantage",null,null,null,null,null,null,null,null,null,null,"Désavantage",null,null,null,null,null,null,"Désavantage",null,null,null,null,null,null,null,null,"Désavantage",null,null,null,null,null,null,"Désavantage",null,null,null,null,null,null,null,null,null,null,"Désavantage",null,null,null,null,null,null,"Désavantage",null,null,null,null,null,null,null,null,"Désavantage",null,null,null,null,null,null,"Désavantage",null,null,null,null,null,null,null,null,null,null,"Désavantage",null,null,null,null,null,null,"Désavantage",null,null,null,null,null,null,null,null,"Désavantage",null,null,null,null,null,null,"Désavantage",null,null,null,null,null,null,null,null,null,null,"Désavantage",null,null,null,null,null,null,"Désavantage",null,null,null,null,null,null,null,null,"Désavantage",null,null,null,null,null,null,"Désavantage"]
[null,null,null,null,null,{"$f":"HLOOKUP(F$8,DEBUT!$AB$4:$BP$78,4,FALSE)","v":{"$error":"#N/A"}},null,null,null,null,null,null,{"$f":"HLOOKUP(M$8,DEBUT!$AB$4:$BP$78,4,FALSE)","v":{"$error":"#N/A"}},null,null,null,null,null,null,null,null,{"$f":"HLOOKUP(V$8,DEBUT!$AB$4:$BP$78,4,FALSE)","v":{"$error":"#N/A"}},null,null,null,null,null,null,{"$f":"HLOOKUP(AC$8,DEBUT!$AB$4:$BP$78,4,FALSE)","v":{"$error":"#N/A"}},null,null,null,null,null,null,null,null,null,null,{"$f":"HLOOKUP(AN$8,DEBUT!$AB$4:$BP$78,4,FALSE)","v":{"$error":"#N/A"}},null,null,null,null,null,null,{"$f":"HLOOKUP(AU$8,DEBUT!$AB$4:$BP$78,4,FALSE)","v":{"$error":"#N/A"}},null,null,null,null,null,null,null,null,{"$f":"HLOOKUP(BD$8,DEBUT!$AB$4:$BP$78,4,FALSE)","v":{"$error":"#N/A"}},null,null,null,null,null,null,{"$f":"HLOOKUP(BK$8,DEBUT!$AB$4:$BP$78,4,FALSE)","v":{"$error":"#N/A"}},null,null,null,null,null,null,null,null,null,null,{"$f":"HLOOKUP(BV$8,DEBUT!$AB$4:$BP$78,4,FALSE)","v":{"$error":"#N/A"}},null,null,null,null,null,null,{"$f":"HLOOKUP(CC$8,DEBUT!$AB$4:$BP$78,4,FALSE)","v":{"$error":"#N/A"}},null,null,null,null,null,null,null,null,{"$f":"HLOOKUP(CL$8,DEBUT!$AB$4:$BP$78,4,FALSE)","v":{"$error":"#N/A"}},null,null,null,null,null,null,{"$f":"HLOOKUP(CS$8,DEBUT!$AB$4:$BP$78,4,FALSE)","v":{"$error":"#N/A"}},null,null,null,null,null,null,null,null,null,null,{"$f":"HLOOKUP(DD$8,DEBUT!$AB$4:$BP$78,4,FALSE)","v":{"$error":"#N/A"}},null,null,null,null,null,null,{"$f":"HLOOKUP(DK$8,DEBUT!$AB$4:$BP$78,4,FALSE)","v":{"$error":"#N/A"}},null,null,null,null,null,null,null,null,{"$f":"HLOOKUP(DT$8,DEBUT!$AB$4:$BP$78,4,FALSE)","v":{"$error":"#N/A"}},null,null,null,null,null,null,{"$f":"HLOOKUP(EA$8,DEBUT!$AB$4:$BP$78,4,FALSE)","v":{"$error":"#N/A"}},null,null,null,null,null,null,null,null,null,null,{"$f":"HLOOKUP(EL$8,DEBUT!$AB$4:$BP$78,4,FALSE)","v":{"$error":"#N/A"}},null,null,null,null,null,null,{"$f":"HLOOKUP(ES$8,DEBUT!$AB$4:$BP$78,4,FALSE)","v":{"$error":"#N/A"}},null,null,null,null,null,null,null,null,{"$f":"HLOOKUP(FB$8,DEBUT!$AB$4:$BP$78,4,FALSE)","v":{"$error":"#N/A"}},null,null,null,null,null,null,{"$f":"HLOOKUP(FI$8,DEBUT!$AB$4:$BP$78,4,FALSE)","v":{"$error":"#N/A"}},null,null,null,null,null,null,null,null,null,null,{"$f":"HLOOKUP(FT$8,DEBUT!$AB$4:$BP$78,4,FALSE)","v":{"$error":"#N/A"}},null,null,null,null,null,null,{"$f":"HLOOKUP(GA$8,DEBUT!$AB$4:$BP$78,4,FALSE)","v":{"$error":"#N/A"}},null,null,null,null,null,null,null,null,{"$f":"HLOOKUP(GJ$8,DEBUT!$AB$4:$BP$78,4,FALSE)","v":{"$error":"#N/A"}},null,null,null,null,null,null,{"$f":"HLOOKUP(GQ$8,DEBUT!$AB$4:$BP$78,4,FALSE)","v":{"$error":"#N/A"}},null,null,null,null,null,null,null,null,null,null,{"$f":"HLOOKUP(HB$8,DEBUT!$AB$4:$BP$78,4,FALSE)","v":{"$error":"#N/A"}},null,null,null,null,null,null,{"$f":"HLOOKUP(HI$8,DEBUT!$AB$4:$BP$78,4,FALSE)","v":{"$error":"#N/A"}},null,null,null,null,null,null,null,null,{"$f":"HLOOKUP(HR$8,DEBUT!$AB$4:$BP$78,4,FALSE)","v":{"$error":"#N/A"}},null,null,null,null,null,null,{"$f":"HLOOKUP(HY$8,DEBUT!$AB$4:$BP$78,4,FALSE)","v":{"$error":"#N/A"}},null,null,null,null,null,null,null,null,null,null,{"$f":"HLOOKUP(IJ$8,DEBUT!$AB$4:$BP$78,4,FALSE)","v":{"$error":"#N/A"}},null,null,null,null,null,null,{"$f":"HLOOKUP(IQ$8,DEBUT!$AB$4:$BP$78,4,FALSE)","v":{"$error":"#N/A"}},null,null,null,null,null,null,null,null,{"$f":"HLOOKUP(IZ$8,DEBUT!$AB$4:$BP$78,4,FALSE)","v":{"$error":"#N/A"}},null,null,null,null,null,null,{"$f":"HLOOKUP(JG$8,DEBUT!$AB$4:$BP$78,4,FALSE)","v":{"$error":"#N/A"}},null,null,null,null,null,null,null,null,null,null,{"$f":"HLOOKUP(JR$8,DEBUT!$AB$4:$BP$78,4,FALSE)","v":{"$error":"#N/A"}},null,null,null,null,null,null,{"$f":"HLOOKUP(JY$8,DEBUT!$AB$4:$BP$78,4,FALSE)","v":{"$error":"#N/A"}},null,null,null,null,null,null,null,null,{"$f":"HLOOKUP(KH$8,DEBUT!$AB$4:$BP$78,4,FALSE)","v":{"$error":"#N/A"}},null,null,null,null,null,null,{"$f":"HLOOKUP(KO$8,DEBUT!$AB$4:$BP$78,4,FALSE)","v":{"$error":"#N/A"}},null,null,null,null,null,null,null,null,null,null,{"$f":"HLOOKUP(KZ$8,DEBUT!$AB$4:$BP$78,4,FALSE)","v":{"$error":"#N/A"}},null,null,null,null,null,null,{"$f":"HLOOKUP(LG$8,DEBUT!$AB$4:$BP$78,4,FALSE)","v":{"$error":"#N/A"}},null,null,null,null,null,null,null,null,{"$f":"HLOOKUP(LP$8,DEBUT!$AB$4:$BP$78,4,FALSE)","v":{"$error":"#N/A"}},null,null,null,null,null,null,{"$f":"HLOOKUP(LW$8,DEBUT!$AB$4:$BP$78,4,FALSE)","v":{"$error":"#N/A"}},null,null,null,null,null,null,null,null,null,null,{"$f":"HLOOKUP(MH$8,DEBUT!$AB$4:$BP$78,4,FALSE)","v":{"$error":"#N/A"}},null,null,null,null,null,null,{"$f":"HLOOKUP(MO$8,DEBUT!$AB$4:$BP$78,4,FALSE)","v":{"$error":"#N/A"}},null,null,null,null,null,null,null,null,{"$f":"HLOOKUP(MX$8,DEBUT!$AB$4:$BP$78,4,FALSE)","v":{"$error":"#N/A"}},null,null,null,null,null,null,{"$f":"HLOOKUP(NE$8,DEBUT!$AB$4:$BP$78,4,FALSE)","v":{"$error":"#N/A"}},null,null,null,null,null,null,null,null,null,null,{"$f":"HLOOKUP(NP$8,DEBUT!$AB$4:$BP$78,4,FALSE)","v":{"$error":"#N/A"}},null,null,null,null,null,null,{"$f":"HLOOKUP(NW$8,DEBUT!$AB$4:$BP$78,4,FALSE)","v":{"$error":"#N/A"}},null,null,null,null,null,null,null,null,{"$f":"HLOOKUP(OF$8,DEBUT!$AB$4:$BP$78,4,FALSE)","v":{"$error":"#N/A"}},null,null,null,null,null,null,{"$f":"HLOOKUP(OM$8,DEBUT!$AB$4:$BP$78,4,FALSE)","v":{"$error":"#N/A"}},null,null,null,null,null,null,null,null,null,null,{"$f":"HLOOKUP(OX$8,DEBUT!$AB$4:$BP$78,4,FALSE)","v":{"$error":"#N/A"}},null,null,null,null,null,null,{"$f":"HLOOKUP(PE$8,DEBUT!$AB$4:$BP$78,4,FALSE)","v":{"$error":"#N/A"}},null,null,null,null,null,null,null,null,{"$f":"HLOOKUP(PN$8,DEBUT!$AB$4:$BP$78,4,FALSE)","v":{"$error":"#N/A"}},null,null,null,null,null,null,{"$f":"HLOOKUP(PU$8,DEBUT!$AB$4:$BP$78,4,FALSE)","v":{"$error":"#N/A"}},null,null,null,null,null,null,null,null,null,null,{"$f":"HLOOKUP(QF$8,DEBUT!$AB$4:$BP$78,4,FALSE)","v":{"$error":"#N/A"}},null,null,null,null,null,null,{"$f":"HLOOKUP(QM$8,DEBUT!$AB$4:$BP$78,4,FALSE)","v":{"$error":"#N/A"}},null,null,null,null,null,null,null,null,{"$f":"HLOOKUP(QV$8,DEBUT!$AB$4:$BP$78,4,FALSE)","v":{"$error":"#N/A"}},null,null,null,null,null,null,{"$f":"HLOOKUP(RC$8,DEBUT!$AB$4:$BP$78,4,FALSE)","v":{"$error":"#N/A"}},null,null,null,null,null,null,null,null,null,null,{"$f":"HLOOKUP(RN$8,DEBUT!$AB$4:$BP$78,4,FALSE)","v":{"$error":"#N/A"}},null,null,null,null,null,null,{"$f":"HLOOKUP(RU$8,DEBUT!$AB$4:$BP$78,4,FALSE)","v":{"$error":"#N/A"}},null,null,null,null,null,null,null,null,{"$f":"HLOOKUP(SD$8,DEBUT!$AB$4:$BP$78,4,FALSE)","v":{"$error":"#N/A"}},null,null,null,null,null,null,{"$f":"HLOOKUP(SK$8,DEBUT!$AB$4:$BP$78,4,FALSE)","v":{"$error":"#N/A"}},null,null,null,null,null,null,null,null,null,null,{"$f":"HLOOKUP(SV$8,DEBUT!$AB$4:$BP$78,4,FALSE)","v":{"$error":"#N/A"}},null,null,null,null,null,null,{"$f":"HLOOKUP(TC$8,DEBUT!$AB$4:$BP$78,4,FALSE)","v":{"$error":"#N/A"}},null,null,null,null,null,null,null,null,{"$f":"HLOOKUP(TL$8,DEBUT!$AB$4:$BP$78,4,FALSE)","v":{"$error":"#N/A"}},null,null,null,null,null,null,{"$f":"HLOOKUP(TS$8,DEBUT!$AB$4:$BP$78,4,FALSE)","v":{"$error":"#N/A"}},null,null,null,null,null,null,null,null,null,null,{"$f":"HLOOKUP(UD$8,DEBUT!$AB$4:$BP$78,4,FALSE)","v":{"$error":"#N/A"}},null,null,null,null,null,null,{"$f":"HLOOKUP(UK$8,DEBUT!$AB$4:$BP$78,4,FALSE)","v":{"$error":"#N/A"}},null,null,null,null,null,null,null,null,{"$f":"HLOOKUP(UT$8,DEBUT!$AB$4:$BP$78,4,FALSE)","v":{"$error":"#N/A"}},null,null,null,null,null,null,{"$f":"HLOOKUP(VA$8,DEBUT!$AB$4:$BP$78,4,FALSE)","v":{"$error":"#N/A"}},null,null,null,null,null,null,null,null,null,null,{"$f":"HLOOKUP(VL$8,DEBUT!$AB$4:$BP$78,4,FALSE)","v":{"$error":"#N/A"}},null,null,null,null,null,null,{"$f":"HLOOKUP(VS$8,DEBUT!$AB$4:$BP$78,4,FALSE)","v":{"$error":"#N/A"}},null,null,null,null,null,null,null,null,{"$f":"HLOOKUP(WB$8,DEBUT!$AB$4:$BP$78,4,FALSE)","v":{"$error":"#N/A"}},null,null,null,null,null,null,{"$f":"HLOOKUP(WI$8,DEBUT!$AB$4:$BP$78,4,FALSE)","v":{"$error":"#N/A"}},null,null,null,null,null,null,null,null,null,null,{"$f":"HLOOKUP(WT$8,DEBUT!$AB$4:$BP$78,4,FALSE)","v":{"$error":"#N/A"}},null,null,null,null,null,null,{"$f":"HLOOKUP(XA$8,DEBUT!$AB$4:$BP$78,4,FALSE)","v":{"$error":"#N/A"}},null,null,null,null,null,null,null,null,{"$f":"HLOOKUP(XJ$8,DEBUT!$AB$4:$BP$78,4,FALSE)","v":{"$error":"#N/A"}},null,null,null,null,null,null,{"$f":"HLOOKUP(XQ$8,DEBUT!$AB$4:$BP$78,4,FALSE)","v":{"$error":"#N/A"}},null,null,null,null,null,null,null,null,null,null,{"$f":"HLOOKUP(YB$8,DEBUT!$AB$4:$BP$78,4,FALSE)","v":{"$error":"#N/A"}},null,null,null,null,null,null,{"$f":"HLOOKUP(YI$8,DEBUT!$AB$4:$BP$78,4,FALSE)","v":{"$error":"#N/A"}},null,null,null,null,null,null,null,null,{"$f":"HLOOKUP(YR$8,DEBUT!$AB$4:$BP$78,4,FALSE)","v":{"$error":"#N/A"}},null,null,null,null,null,null,{"$f":"HLOOKUP(YY$8,DEBUT!$AB$4:$BP$78,4,FALSE)","v":{"$error":"#N/A"}},null,null,null,null,null,null,null,null,null,null,{"$f":"HLOOKUP(ZJ$8,DEBUT!$AB$4:$BP$78,4,FALSE)","v":{"$error":"#N/A"}},null,null,null,null,null,null,{"$f":"HLOOKUP(ZQ$8,DEBUT!$AB$4:$BP$78,4,FALSE)","v":{"$error":"#N/A"}},null,null,null,null,null,null,null,null,{"$f":"HLOOKUP(ZZ$8,DEBUT!$AB$4:$BP$78,4,FALSE)","v":{"$error":"#N/A"}},null,null,null,null,null,null,{"$f":"HLOOKUP(AAG$8,DEBUT!$AB$4:$BP$78,4,FALSE)","v":{"$error":"#N/A"}},null,null,null,null,null,null,null,null,null,null,{"$f":"HLOOKUP(AAR$8,DEBUT!$AB$4:$BP$78,4,FALSE)","v":{"$error":"#N/A"}},null,null,null,null,null,null,{"$f":"HLOOKUP(AAY$8,DEBUT!$AB$4:$BP$78,4,FALSE)","v":{"$error":"#N/A"}},null,null,null,null,null,null,null,null,{"$f":"HLOOKUP(ABH$8,DEBUT!$AB$4:$BP$78,4,FALSE)","v":{"$error":"#N/A"}},null,null,null,null,null,null,{"$f":"HLOOKUP(ABO$8,DEBUT!$AB$4:$BP$78,4,FALSE)","v":{"$error":"#N/A"}},null,null,null,null,null,null,null,null,null,null,{"$f":"HLOOKUP(ABZ$8,DEBUT!$AB$4:$BP$78,4,FALSE)","v":{"$error":"#N/A"}},null,null,null,null,null,null,{"$f":"HLOOKUP(ACG$8,DEBUT!$AB$4:$BP$78,4,FALSE)","v":{"$error":"#N/A"}},null,null,null,null,null,null,null,null,{"$f":"HLOOKUP(ACP$8,DEBUT!$AB$4:$BP$78,4,FALSE)","v":{"$error":"#N/A"}},null,null,null,null,null,null,{"$f":"HLOOKUP(ACW$8,DEBUT!$AB$4:$BP$78,4,FALSE)","v":{"$error":"#N/A"}},null,null,null,null,null,null,null,null,null,null,{"$f":"HLOOKUP(ADH$8,DEBUT!$AB$4:$BP$78,4,FALSE)","v":{"$error":"#N/A"}},null,null,null,null,null,null,{"$f":"HLOOKUP(ADO$8,DEBUT!$AB$4:$BP$78,4,FALSE)","v":{"$error":"#N/A"}},null,null,null,null,null,null,null,null,{"$f":"HLOOKUP(ADX$8,DEBUT!$AB$4:$BP$78,4,FALSE)","v":{"$error":"#N/A"}},null,null,null,null,null,null,{"$f":"HLOOKUP(AEE$8,DEBUT!$AB$4:$BP$78,4,FALSE)","v":{"$error":"#N/A"}}]
[]
[null,null,null,null,null,{"$f":"IFERROR(HLOOKUP(F$19,DEBUT!$BS$2:$CM$18,2,FALSE),\"\")","v":""},{"$f":"IFERROR(HLOOKUP(F$19,DEBUT!$BS$2:$CM$18,6,FALSE),\"\")","v":""},{"$f":"IFERROR(HLOOKUP(F$19,DEBUT!$BS$2:$CM$18,10,FALSE),\"\")","v":""},{"$f":"IFERROR(HLOOKUP(F$19,DEBUT!$BS$2:$CM$18,14,FALSE),\"\")","v":""},null,null,null,{"$f":"IFERROR(HLOOKUP(M$19,DEBUT!$BS$2:$CM$18,2,FALSE),\"\")","v":""},{"$f":"IFERROR(HLOOKUP(M$19,DEBUT!$BS$2:$CM$18,6,FALSE),\"\")","v":""},{"$f":"IFERROR(HLOOKUP(M$19,DEBUT!$BS$2:$CM$18,10,FALSE),\"\")","v":""},{"$f":"IFERROR(HLOOKUP(M$19,DEBUT!$BS$2:$CM$18,14,FALSE),\"\")","v":""},null,null,null,null,null,{"$f":"IFERROR(HLOOKUP(V$19,DEBUT!$BS$2:$CM$18,2,FALSE),\"\")","v":""},{"$f":"IFERROR(HLOOKUP(V$19,DEBUT!$BS$2:$CM$18,6,FALSE),\"\")","v":""},{"$f":"IFERROR(HLOOKUP(V$19,DEBUT!$BS$2:$CM$18,10,FALSE),\"\")","v":""},{"$f":"IFERROR(HLOOKUP(V$19,DEBUT!$BS$2:$CM$18,14,FALSE),\"\")","v":""},null,null,null,{"$f":"IFERROR(HLOOKUP(AC$19,DEBUT!$BS$2:$CM$18,2,FALSE),\"\")","v":""},{"$f":"IFERROR(HLOOKUP(AC$19,DEBUT!$BS$2:$CM$18,6,FALSE),\"\")","v":""},{"$f":"IFERROR(HLOOKUP(AC$19,DEBUT!$BS$2:$CM$18,10,FALSE),\"\")","v":""},{"$f":"IFERROR(HLOOKUP(AC$19,DEBUT!$BS$2:$CM$18,14,FALSE),\"\")","v":""},null,null,null,null,null,null,null,{"$f":"IFERROR(HLOOKUP(AN$19,DEBUT!$BS$2:$CM$18,2,FALSE),\"\")","v":""},{"$f":"IFERROR(HLOOKUP(AN$19,DEBUT!$BS$2:$CM$18,6,FALSE),\"\")","v":""},{"$f":"IFERROR(HLOOKUP(AN$19,DEBUT!$BS$2:$CM$18,10,FALSE),\"\")","v":""},{"$f":"IFERROR(HLOOKUP(AN$19,DEBUT!$BS$2:$CM$18,14,FALSE),\"\")","v":""},null,null,null,{"$f":"IFERROR(HLOOKUP(AU$19,DEBUT!$BS$2:$CM$18,2,FALSE),\"\")","v":""},{"$f":"IFERROR(HLOOKUP(AU$19,DEBUT!$BS$2:$CM$18,6,FALSE),\"\")","v":""},{"$f":"IFERROR(HLOOKUP(AU$19,DEBUT!$BS$2:$CM$18,10,FALSE),\"\")","v":""},{"$f":"IFERROR(HLOOKUP(AU$19,DEBUT!$BS$2:$CM$18,14,FALSE),\"\")","v":""},null,null,null,null,null,{"$f":"IFERROR(HLOOKUP(BD$19,DEBUT!$BS$2:$CM$18,2,FALSE),\"\")","v":""},{"$f":"IFERROR(HLOOKUP(BD$19,DEBUT!$BS$2:$CM$18,6,FALSE),\"\")","v":""},{"$f":"IFERROR(HLOOKUP(BD$19,DEBUT!$BS$2:$CM$18,10,FALSE),\"\")","v":""},{"$f":"IFERROR(HLOOKUP(BD$19,DEBUT!$BS$2:$CM$18,14,FALSE),\"\")","v":""},null,null,null,{"$f":"IFERROR(HLOOKUP(BK$19,DEBUT!$BS$2:$CM$18,2,FALSE),\"\")","v":""},{"$f":"IFERROR(HLOOKUP(BK$19,DEBUT!$BS$2:$CM$18,6,FALSE),\"\")","v":""},{"$f":"IFERROR(HLOOKUP(BK$19,DEBUT!$BS$2:$CM$18,10,FALSE),\"\")","v":""},{"$f":"IFERROR(HLOOKUP(BK$19,DEBUT!$BS$2:$CM$18,14,FALSE),\"\")","v":""},null,null,null,null,null,null,null,{"$f":"IFERROR(HLOOKUP(BV$19,DEBUT!$BS$2:$CM$18,2,FALSE),\"\")","v":""},{"$f":"IFERROR(HLOOKUP(BV$19,DEBUT!$BS$2:$CM$18,6,FALSE),\"\")","v":""},{"$f":"IFERROR(HLOOKUP(BV$19,DEBUT!$BS$2:$CM$18,10,FALSE),\"\")","v":""},{"$f":"IFERROR(HLOOKUP(BV$19,DEBUT!$BS$2:$CM$18,14,FALSE),\"\")","v":""},null,null,null,{"$f":"IFERROR(HLOOKUP(CC$19,DEBUT!$BS$2:$CM$18,2,FALSE),\"\")","v":""},{"$f":"IFERROR(HLOOKUP(CC$19,DEBUT!$BS$2:$CM$18,6,FALSE),\"\")","v":""},{"$f":"IFERROR(HLOOKUP(CC$19,DEBUT!$BS$2:$CM$18,10,FALSE),\"\")","v":""},{"$f":"IFERROR(HLOOKUP(CC$19,DEBUT!$BS$2:$CM$18,14,FALSE),\"\")","v":""},null,null,null,null,null,{"$f":"IFERROR(HLOOKUP(CL$19,DEBUT!$BS$2:$CM$18,2,FALSE),\"\")","v":""},{"$f":"IFERROR(HLOOKUP(CL$19,DEBUT!$BS$2:$CM$18,6,FALSE),\"\")","v":""},{"$f":"IFERROR(HLOOKUP(CL$19,DEBUT!$BS$2:$CM$18,10,FALSE),\"\")","v":""},{"$f":"IFERROR(HLOOKUP(CL$19,DEBUT!$BS$2:$CM$18,14,FALSE),\"\")","v":""},null,null,null,{"$f":"IFERROR(HLOOKUP(CS$19,DEBUT!$BS$2:$CM$18,2,FALSE),\"\")","v":""},{"$f":"IFERROR(HLOOKUP(CS$19,DEBUT!$BS$2:$CM$18,6,FALSE),\"\")","v":""},{"$f":"IFERROR(HLOOKUP(CS$19,DEBUT!$BS$2:$CM$18,10,FALSE),\"\")","v":""},{"$f":"IFERROR(HLOOKUP(CS$19,DEBUT!$BS$2:$CM$18,14,FALSE),\"\")","v":""},null,null,null,null,null,null,null,{"$f":"IFERROR(HLOOKUP(DD$19,DEBUT!$BS$2:$CM$18,2,FALSE),\"\")","v":""},{"$f":"IFERROR(HLOOKUP(DD$19,DEBUT!$BS$2:$CM$18,6,FALSE),\"\")","v":""},{"$f":"IFERROR(HLOOKUP(DD$19,DEBUT!$BS$2:$CM$18,10,FALSE),\"\")","v":""},{"$f":"IFERROR(HLOOKUP(DD$19,DEBUT!$BS$2:$CM$18,14,FALSE),\"\")","v":""},null,null,null,{"$f":"IFERROR(HLOOKUP(DK$19,DEBUT!$BS$2:$CM$18,2,FALSE),\"\")","v":""},{"$f":"IFERROR(HLOOKUP(DK$19,DEBUT!$BS$2:$CM$18,6,FALSE),\"\")","v":""},{"$f":"IFERROR(HLOOKUP(DK$19,DEBUT!$BS$2:$CM$18,10,FALSE),\"\")","v":""},{"$f":"IFERROR(HLOOKUP(DK$19,DEBUT!$BS$2:$CM$18,14,FALSE),\"\")","v":""},null,null,null,null,null,{"$f":"IFERROR(HLOOKUP(DT$19,DEBUT!$BS$2:$CM$18,2,FALSE),\"\")","v":""},{"$f":"IFERROR(HLOOKUP(DT$19,DEBUT!$BS$2:$CM$18,6,FALSE),\"\")","v":""},{"$f":"IFERROR(HLOOKUP(DT$19,DEBUT!$BS$2:$CM$18,10,FALSE),\"\")","v":""},{"$f":"IFERROR(HLOOKUP(DT$19,DEBUT!$BS$2:$CM$18,14,FALSE),\"\")","v":""},null,null,null,{"$f":"IFERROR(HLOOKUP(EA$19,DEBUT!$BS$2:$CM$18,2,FALSE),\"\")","v":""},{"$f":"IFERROR(HLOOKUP(EA$19,DEBUT!$BS$2:$CM$18,6,FALSE),\"\")","v":""},{"$f":"IFERROR(HLOOKUP(EA$19,DEBUT!$BS$2:$CM$18,10,FALSE),\"\")","v":""},{"$f":"IFERROR(HLOOKUP(EA$19,DEBUT!$BS$2:$CM$18,14,FALSE),\"\")","v":""},null,null,null,null,null,null,null,{"$f":"IFERROR(HLOOKUP(EL$19,DEBUT!$BS$2:$CM$18,2,FALSE),\"\")","v":""},{"$f":"IFERROR(HLOOKUP(EL$19,DEBUT!$BS$2:$CM$18,6,FALSE),\"\")","v":""},{"$f":"IFERROR(HLOOKUP(EL$19,DEBUT!$BS$2:$CM$18,10,FALSE),\"\")","v":""},{"$f":"IFERROR(HLOOKUP(EL$19,DEBUT!$BS$2:$CM$18,14,FALSE),\"\")","v":""},null,null,null,{"$f":"IFERROR(HLOOKUP(ES$19,DEBUT!$BS$2:$CM$18,2,FALSE),\"\")","v":""},{"$f":"IFERROR(HLOOKUP(ES$19,DEBUT!$BS$2:$CM$18,6,FALSE),\"\")","v":""},{"$f":"IFERROR(HLOOKUP(ES$19,DEBUT!$BS$2:$CM$18,10,FALSE),\"\")","v":""},{"$f":"IFERROR(HLOOKUP(ES$19,DEBUT!$BS$2:$CM$18,14,FALSE),\"\")","v":""},null,null,null,null,null,{"$f":"IFERROR(HLOOKUP(FB$19,DEBUT!$BS$2:$CM$18,2,FALSE),\"\")","v":""},{"$f":"IFERROR(HLOOKUP(FB$19,DEBUT!$BS$2:$CM$18,6,FALSE),\"\")","v":""},{"$f":"IFERROR(HLOOKUP(FB$19,DEBUT!$BS$2:$CM$18,10,FALSE),\"\")","v":""},{"$f":"IFERROR(HLOOKUP(FB$19,DEBUT!$BS$2:$CM$18,14,FALSE),\"\")","v":""},null,null,null,{"$f":"IFERROR(HLOOKUP(FI$19,DEBUT!$BS$2:$CM$18,2,FALSE),\"\")","v":""},{"$f":"IFERROR(HLOOKUP(FI$19,DEBUT!$BS$2:$CM$18,6,FALSE),\"\")","v":""},{"$f":"IFERROR(HLOOKUP(FI$19,DEBUT!$BS$2:$CM$18,10,FALSE),\"\")","v":""},{"$f":"IFERROR(HLOOKUP(FI$19,DEBUT!$BS$2:$CM$18,14,FALSE),\"\")","v":""},null,null,null,null,null,null,null,{"$f":"IFERROR(HLOOKUP(FT$19,DEBUT!$BS$2:$CM$18,2,FALSE),\"\")","v":""},{"$f":"IFERROR(HLOOKUP(FT$19,DEBUT!$BS$2:$CM$18,6,FALSE),\"\")","v":""},{"$f":"IFERROR(HLOOKUP(FT$19,DEBUT!$BS$2:$CM$18,10,FALSE),\"\")","v":""},{"$f":"IFERROR(HLOOKUP(FT$19,DEBUT!$BS$2:$CM$18,14,FALSE),\"\")","v":""},null,null,null,{"$f":"IFERROR(HLOOKUP(GA$19,DEBUT!$BS$2:$CM$18,2,FALSE),\"\")","v":""},{"$f":"IFERROR(HLOOKUP(GA$19,DEBUT!$BS$2:$CM$18,6,FALSE),\"\")","v":""},{"$f":"IFERROR(HLOOKUP(GA$19,DEBUT!$BS$2:$CM$18,10,FALSE),\"\")","v":""},{"$f":"IFERROR(HLOOKUP(GA$19,DEBUT!$BS$2:$CM$18,14,FALSE),\"\")","v":""},null,null,null,null,null,{"$f":"IFERROR(HLOOKUP(GJ$19,DEBUT!$BS$2:$CM$18,2,FALSE),\"\")","v":""},{"$f":"IFERROR(HLOOKUP(GJ$19,DEBUT!$BS$2:$CM$18,6,FALSE),\"\")","v":""},{"$f":"IFERROR(HLOOKUP(GJ$19,DEBUT!$BS$2:$CM$18,10,FALSE),\"\")","v":""},{"$f":"IFERROR(HLOOKUP(GJ$19,DEBUT!$BS$2:$CM$18,14,FALSE),\"\")","v":""},null,null,null,{"$f":"IFERROR(HLOOKUP(GQ$19,DEBUT!$BS$2:$CM$18,2,FALSE),\"\")","v":""},{"$f":"IFERROR(HLOOKUP(GQ$19,DEBUT!$BS$2:$CM$18,6,FALSE),\"\")","v":""},{"$f":"IFERROR(HLOOKUP(GQ$19,DEBUT!$BS$2:$CM$18,10,FALSE),\"\")","v":""},{"$f":"IFERROR(HLOOKUP(GQ$19,DEBUT!$BS$2:$CM$18,14,FALSE),\"\")","v":""},null,null,null,null,null,null,null,{"$f":"IFERROR(HLOOKUP(HB$19,DEBUT!$BS$2:$CM$18,2,FALSE),\"\")","v":""},{"$f":"IFERROR(HLOOKUP(HB$19,DEBUT!$BS$2:$CM$18,6,FALSE),\"\")","v":""},{"$f":"IFERROR(HLOOKUP(HB$19,DEBUT!$BS$2:$CM$18,10,FALSE),\"\")","v":""},{"$f":"IFERROR(HLOOKUP(HB$19,DEBUT!$BS$2:$CM$18,14,FALSE),\"\")","v":""},null,null,null,{"$f":"IFERROR(HLOOKUP(HI$19,DEBUT!$BS$2:$CM$18,2,FALSE),\"\")","v":""},{"$f":"IFERROR(HLOOKUP(HI$19,DEBUT!$BS$2:$CM$18,6,FALSE),\"\")","v":""},{"$f":"IFERROR(HLOOKUP(HI$19,DEBUT!$BS$2:$CM$18,10,FALSE),\"\")","v":""},{"$f":"IFERROR(HLOOKUP(HI$19,DEBUT!$BS$2:$CM$18,14,FALSE),\"\")","v":""},null,null,null,null,null,{"$f":"IFERROR(HLOOKUP(HR$19,DEBUT!$BS$2:$CM$18,2,FALSE),\"\")","v":""},{"$f":"IFERROR(HLOOKUP(HR$19,DEBUT!$BS$2:$CM$18,6,FALSE),\"\")","v":""},{"$f":"IFERROR(HLOOKUP(HR$19,DEBUT!$BS$2:$CM$18,10,FALSE),\"\")","v":""},{"$f":"IFERROR(HLOOKUP(HR$19,DEBUT!$BS$2:$CM$18,14,FALSE),\"\")","v":""},null,null,null,{"$f":"IFERROR(HLOOKUP(HY$19,DEBUT!$BS$2:$CM$18,2,FALSE),\"\")","v":""},{"$f":"IFERROR(HLOOKUP(HY$19,DEBUT!$BS$2:$CM$18,6,FALSE),\"\")","v":""},{"$f":"IFERROR(HLOOKUP(HY$19,DEBUT!$BS$2:$CM$18,10,FALSE),\"\")","v":""},{"$f":"IFERROR(HLOOKUP(HY$19,DEBUT!$BS$2:$CM$18,14,FALSE),\"\")","v":""},null,null,null,null,null,null,null,{"$f":"IFERROR(HLOOKUP(IJ$19,DEBUT!$BS$2:$CM$18,2,FALSE),\"\")","v":""},{"$f":"IFERROR(HLOOKUP(IJ$19,DEBUT!$BS$2:$CM$18,6,FALSE),\"\")","v":""},{"$f":"IFERROR(HLOOKUP(IJ$19,DEBUT!$BS$2:$CM$18,10,FALSE),\"\")","v":""},{"$f":"IFERROR(HLOOKUP(IJ$19,DEBUT!$BS$2:$CM$18,14,FALSE),\"\")","v":""},null,null,null,{"$f":"IFERROR(HLOOKUP(IQ$19,DEBUT!$BS$2:$CM$18,2,FALSE),\"\")","v":""},{"$f":"IFERROR(HLOOKUP(IQ$19,DEBUT!$BS$2:$CM$18,6,FALSE),\"\")","v":""},{"$f":"IFERROR(HLOOKUP(IQ$19,DEBUT!$BS$2:$CM$18,10,FALSE),\"\")","v":""},{"$f":"IFERROR(HLOOKUP(IQ$19,DEBUT!$BS$2:$CM$18,14,FALSE),\"\")","v":""},null,null,null,null,null,{"$f":"IFERROR(HLOOKUP(IZ$19,DEBUT!$BS$2:$CM$18,2,FALSE),\"\")","v":""},{"$f":"IFERROR(HLOOKUP(IZ$19,DEBUT!$BS$2:$CM$18,6,FALSE),\"\")","v":""},{"$f":"IFERROR(HLOOKUP(IZ$19,DEBUT!$BS$2:$CM$18,10,FALSE),\"\")","v":""},{"$f":"IFERROR(HLOOKUP(IZ$19,DEBUT!$BS$2:$CM$18,14,FALSE),\"\")","v":""},null,null,null,{"$f":"IFERROR(HLOOKUP(JG$19,DEBUT!$BS$2:$CM$18,2,FALSE),\"\")","v":""},{"$f":"IFERROR(HLOOKUP(JG$19,DEBUT!$BS$2:$CM$18,6,FALSE),\"\")","v":""},{"$f":"IFERROR(HLOOKUP(JG$19,DEBUT!$BS$2:$CM$18,10,FALSE),\"\")","v":""},{"$f":"IFERROR(HLOOKUP(JG$19,DEBUT!$BS$2:$CM$18,14,FALSE),\"\")","v":""},null,null,null,null,null,null,null,{"$f":"IFERROR(HLOOKUP(JR$19,DEBUT!$BS$2:$CM$18,2,FALSE),\"\")","v":""},{"$f":"IFERROR(HLOOKUP(JR$19,DEBUT!$BS$2:$CM$18,6,FALSE),\"\")","v":""},{"$f":"IFERROR(HLOOKUP(JR$19,DEBUT!$BS$2:$CM$18,10,FALSE),\"\")","v":""},{"$f":"IFERROR(HLOOKUP(JR$19,DEBUT!$BS$2:$CM$18,14,FALSE),\"\")","v":""},null,null,null,{"$f":"IFERROR(HLOOKUP(JY$19,DEBUT!$BS$2:$CM$18,2,FALSE),\"\")","v":""},{"$f":"IFERROR(HLOOKUP(JY$19,DEBUT!$BS$2:$CM$18,6,FALSE),\"\")","v":""},{"$f":"IFERROR(HLOOKUP(JY$19,DEBUT!$BS$2:$CM$18,10,FALSE),\"\")","v":""},{"$f":"IFERROR(HLOOKUP(JY$19,DEBUT!$BS$2:$CM$18,14,FALSE),\"\")","v":""},null,null,null,null,null,{"$f":"IFERROR(HLOOKUP(KH$19,DEBUT!$BS$2:$CM$18,2,FALSE),\"\")","v":""},{"$f":"IFERROR(HLOOKUP(KH$19,DEBUT!$BS$2:$CM$18,6,FALSE),\"\")","v":""},{"$f":"IFERROR(HLOOKUP(KH$19,DEBUT!$BS$2:$CM$18,10,FALSE),\"\")","v":""},{"$f":"IFERROR(HLOOKUP(KH$19,DEBUT!$BS$2:$CM$18,14,FALSE),\"\")","v":""},null,null,null,{"$f":"IFERROR(HLOOKUP(KO$19,DEBUT!$BS$2:$CM$18,2,FALSE),\"\")","v":""},{"$f":"IFERROR(HLOOKUP(KO$19,DEBUT!$BS$2:$CM$18,6,FALSE),\"\")","v":""},{"$f":"IFERROR(HLOOKUP(KO$19,DEBUT!$BS$2:$CM$18,10,FALSE),\"\")","v":""},{"$f":"IFERROR(HLOOKUP(KO$19,DEBUT!$BS$2:$CM$18,14,FALSE),\"\")","v":""},null,null,null,null,null,null,null,{"$f":"IFERROR(HLOOKUP(KZ$19,DEBUT!$BS$2:$CM$18,2,FALSE),\"\")","v":""},{"$f":"IFERROR(HLOOKUP(KZ$19,DEBUT!$BS$2:$CM$18,6,FALSE),\"\")","v":""},{"$f":"IFERROR(HLOOKUP(KZ$19,DEBUT!$BS$2:$CM$18,10,FALSE),\"\")","v":""},{"$f":"IFERROR(HLOOKUP(KZ$19,DEBUT!$BS$2:$CM$18,14,FALSE),\"\")","v":""},null,null,null,{"$f":"IFERROR(HLOOKUP(LG$19,DEBUT!$BS$2:$CM$18,2,FALSE),\"\")","v":""},{"$f":"IFERROR(HLOOKUP(LG$19,DEBUT!$BS$2:$CM$18,6,FALSE),\"\")","v":""},{"$f":"IFERROR(HLOOKUP(LG$19,DEBUT!$BS$2:$CM$18,10,FALSE),\"\")","v":""},{"$f":"IFERROR(HLOOKUP(LG$19,DEBUT!$BS$2:$CM$18,14,FALSE),\"\")","v":""},null,null,null,null,null,{"$f":"IFERROR(HLOOKUP(LP$19,DEBUT!$BS$2:$CM$18,2,FALSE),\"\")","v":""},{"$f":"IFERROR(HLOOKUP(LP$19,DEBUT!$BS$2:$CM$18,6,FALSE),\"\")","v":""},{"$f":"IFERROR(HLOOKUP(LP$19,DEBUT!$BS$2:$CM$18,10,FALSE),\"\")","v":""},{"$f":"IFERROR(HLOOKUP(LP$19,DEBUT!$BS$2:$CM$18,14,FALSE),\"\")","v":""},null,null,null,{"$f":"IFERROR(HLOOKUP(LW$19,DEBUT!$BS$2:$CM$18,2,FALSE),\"\")","v":""},{"$f":"IFERROR(HLOOKUP(LW$19,DEBUT!$BS$2:$CM$18,6,FALSE),\"\")","v":""},{"$f":"IFERROR(HLOOKUP(LW$19,DEBUT!$BS$2:$CM$18,10,FALSE),\"\")","v":""},{"$f":"IFERROR(HLOOKUP(LW$19,DEBUT!$BS$2:$CM$18,14,FALSE),\"\")","v":""},null,null,null,null,null,null,null,{"$f":"IFERROR(HLOOKUP(MH$19,DEBUT!$BS$2:$CM$18,2,FALSE),\"\")","v":""},{"$f":"IFERROR(HLOOKUP(MH$19,DEBUT!$BS$2:$CM$18,6,FALSE),\"\")","v":""},{"$f":"IFERROR(HLOOKUP(MH$19,DEBUT!$BS$2:$CM$18,10,FALSE),\"\")","v":""},{"$f":"IFERROR(HLOOKUP(MH$19,DEBUT!$BS$2:$CM$18,14,FALSE),\"\")","v":""},null,null,null,{"$f":"IFERROR(HLOOKUP(MO$19,DEBUT!$BS$2:$CM$18,2,FALSE),\"\")","v":""},{"$f":"IFERROR(HLOOKUP(MO$19,DEBUT!$BS$2:$CM$18,6,FALSE),\"\")","v":""},{"$f":"IFERROR(HLOOKUP(MO$19,DEBUT!$BS$2:$CM$18,10,FALSE),\"\")","v":""},{"$f":"IFERROR(HLOOKUP(MO$19,DEBUT!$BS$2:$CM$18,14,FALSE),\"\")","v":""},null,null,null,null,null,{"$f":"IFERROR(HLOOKUP(MX$19,DEBUT!$BS$2:$CM$18,2,FALSE),\"\")","v":""},{"$f":"IFERROR(HLOOKUP(MX$19,DEBUT!$BS$2:$CM$18,6,FALSE),\"\")","v":""},{"$f":"IFERROR(HLOOKUP(MX$19,DEBUT!$BS$2:$CM$18,10,FALSE),\"\")","v":""},{"$f":"IFERROR(HLOOKUP(MX$19,DEBUT!$BS$2:$CM$18,14,FALSE),\"\")","v":""},null,null,null,{"$f":"IFERROR(HLOOKUP(NE$19,DEBUT!$BS$2:$CM$18,2,FALSE),\"\")","v":""},{"$f":"IFERROR(HLOOKUP(NE$19,DEBUT!$BS$2:$CM$18,6,FALSE),\"\")","v":""},{"$f":"IFERROR(HLOOKUP(NE$19,DEBUT!$BS$2:$CM$18,10,FALSE),\"\")","v":""},{"$f":"IFERROR(HLOOKUP(NE$19,DEBUT!$BS$2:$CM$18,14,FALSE),\"\")","v":""},null,null,null,null,null,null,null,{"$f":"IFERROR(HLOOKUP(NP$19,DEBUT!$BS$2:$CM$18,2,FALSE),\"\")","v":""},{"$f":"IFERROR(HLOOKUP(NP$19,DEBUT!$BS$2:$CM$18,6,FALSE),\"\")","v":""},{"$f":"IFERROR(HLOOKUP(NP$19,DEBUT!$BS$2:$CM$18,10,FALSE),\"\")","v":""},{"$f":"IFERROR(HLOOKUP(NP$19,DEBUT!$BS$2:$CM$18,14,FALSE),\"\")","v":""},null,null,null,{"$f":"IFERROR(HLOOKUP(NW$19,DEBUT!$BS$2:$CM$18,2,FALSE),\"\")","v":""},{"$f":"IFERROR(HLOOKUP(NW$19,DEBUT!$BS$2:$CM$18,6,FALSE),\"\")","v":""},{"$f":"IFERROR(HLOOKUP(NW$19,DEBUT!$BS$2:$CM$18,10,FALSE),\"\")","v":""},{"$f":"IFERROR(HLOOKUP(NW$19,DEBUT!$BS$2:$CM$18,14,FALSE),\"\")","v":""},null,null,null,null,null,{"$f":"IFERROR(HLOOKUP(OF$19,DEBUT!$BS$2:$CM$18,2,FALSE),\"\")","v":""},{"$f":"IFERROR(HLOOKUP(OF$19,DEBUT!$BS$2:$CM$18,6,FALSE),\"\")","v":""},{"$f":"IFERROR(HLOOKUP(OF$19,DEBUT!$BS$2:$CM$18,10,FALSE),\"\")","v":""},{"$f":"IFERROR(HLOOKUP(OF$19,DEBUT!$BS$2:$CM$18,14,FALSE),\"\")","v":""},null,null,null,{"$f":"IFERROR(HLOOKUP(OM$19,DEBUT!$BS$2:$CM$18,2,FALSE),\"\")","v":""},{"$f":"IFERROR(HLOOKUP(OM$19,DEBUT!$BS$2:$CM$18,6,FALSE),\"\")","v":""},{"$f":"IFERROR(HLOOKUP(OM$19,DEBUT!$BS$2:$CM$18,10,FALSE),\"\")","v":""},{"$f":"IFERROR(HLOOKUP(OM$19,DEBUT!$BS$2:$CM$18,14,FALSE),\"\")","v":""},null,null,null,null,null,null,null,{"$f":"IFERROR(HLOOKUP(OX$19,DEBUT!$BS$2:$CM$18,2,FALSE),\"\")","v":""},{"$f":"IFERROR(HLOOKUP(OX$19,DEBUT!$BS$2:$CM$18,6,FALSE),\"\")","v":""},{"$f":"IFERROR(HLOOKUP(OX$19,DEBUT!$BS$2:$CM$18,10,FALSE),\"\")","v":""},{"$f":"IFERROR(HLOOKUP(OX$19,DEBUT!$BS$2:$CM$18,14,FALSE),\"\")","v":""},null,null,null,{"$f":"IFERROR(HLOOKUP(PE$19,DEBUT!$BS$2:$CM$18,2,FALSE),\"\")","v":""},{"$f":"IFERROR(HLOOKUP(PE$19,DEBUT!$BS$2:$CM$18,6,FALSE),\"\")","v":""},{"$f":"IFERROR(HLOOKUP(PE$19,DEBUT!$BS$2:$CM$18,10,FALSE),\"\")","v":""},{"$f":"IFERROR(HLOOKUP(PE$19,DEBUT!$BS$2:$CM$18,14,FALSE),\"\")","v":""},null,null,null,null,null,{"$f":"IFERROR(HLOOKUP(PN$19,DEBUT!$BS$2:$CM$18,2,FALSE),\"\")","v":""},{"$f":"IFERROR(HLOOKUP(PN$19,DEBUT!$BS$2:$CM$18,6,FALSE),\"\")","v":""},{"$f":"IFERROR(HLOOKUP(PN$19,DEBUT!$BS$2:$CM$18,10,FALSE),\"\")","v":""},{"$f":"IFERROR(HLOOKUP(PN$19,DEBUT!$BS$2:$CM$18,14,FALSE),\"\")","v":""},null,null,null,{"$f":"IFERROR(HLOOKUP(PU$19,DEBUT!$BS$2:$CM$18,2,FALSE),\"\")","v":""},{"$f":"IFERROR(HLOOKUP(PU$19,DEBUT!$BS$2:$CM$18,6,FALSE),\"\")","v":""},{"$f":"IFERROR(HLOOKUP(PU$19,DEBUT!$BS$2:$CM$18,10,FALSE),\"\")","v":""},{"$f":"IFERROR(HLOOKUP(PU$19,DEBUT!$BS$2:$CM$18,14,FALSE),\"\")","v":""},null,null,null,null,null,null,null,{"$f":"IFERROR(HLOOKUP(QF$19,DEBUT!$BS$2:$CM$18,2,FALSE),\"\")","v":""},{"$f":"IFERROR(HLOOKUP(QF$19,DEBUT!$BS$2:$CM$18,6,FALSE),\"\")","v":""},{"$f":"IFERROR(HLOOKUP(QF$19,DEBUT!$BS$2:$CM$18,10,FALSE),\"\")","v":""},{"$f":"IFERROR(HLOOKUP(QF$19,DEBUT!$BS$2:$CM$18,14,FALSE),\"\")","v":""},null,null,null,{"$f":"IFERROR(HLOOKUP(QM$19,DEBUT!$BS$2:$CM$18,2,FALSE),\"\")","v":""},{"$f":"IFERROR(HLOOKUP(QM$19,DEBUT!$BS$2:$CM$18,6,FALSE),\"\")","v":""},{"$f":"IFERROR(HLOOKUP(QM$19,DEBUT!$BS$2:$CM$18,10,FALSE),\"\")","v":""},{"$f":"IFERROR(HLOOKUP(QM$19,DEBUT!$BS$2:$CM$18,14,FALSE),\"\")","v":""},null,null,null,null,null,{"$f":"IFERROR(HLOOKUP(QV$19,DEBUT!$BS$2:$CM$18,2,FALSE),\"\")","v":""},{"$f":"IFERROR(HLOOKUP(QV$19,DEBUT!$BS$2:$CM$18,6,FALSE),\"\")","v":""},{"$f":"IFERROR(HLOOKUP(QV$19,DEBUT!$BS$2:$CM$18,10,FALSE),\"\")","v":""},{"$f":"IFERROR(HLOOKUP(QV$19,DEBUT!$BS$2:$CM$18,14,FALSE),\"\")","v":""},null,null,null,{"$f":"IFERROR(HLOOKUP(RC$19,DEBUT!$BS$2:$CM$18,2,FALSE),\"\")","v":""},{"$f":"IFERROR(HLOOKUP(RC$19,DEBUT!$BS$2:$CM$18,6,FALSE),\"\")","v":""},{"$f":"IFERROR(HLOOKUP(RC$19,DEBUT!$BS$2:$CM$18,10,FALSE),\"\")","v":""},{"$f":"IFERROR(HLOOKUP(RC$19,DEBUT!$BS$2:$CM$18,14,FALSE),\"\")","v":""},null,null,null,null,null,null,null,{"$f":"IFERROR(HLOOKUP(RN$19,DEBUT!$BS$2:$CM$18,2,FALSE),\"\")","v":""},{"$f":"IFERROR(HLOOKUP(RN$19,DEBUT!$BS$2:$CM$18,6,FALSE),\"\")","v":""},{"$f":"IFERROR(HLOOKUP(RN$19,DEBUT!$BS$2:$CM$18,10,FALSE),\"\")","v":""},{"$f":"IFERROR(HLOOKUP(RN$19,DEBUT!$BS$2:$CM$18,14,FALSE),\"\")","v":""},null,null,null,{"$f":"IFERROR(HLOOKUP(RU$19,DEBUT!$BS$2:$CM$18,2,FALSE),\"\")","v":""},{"$f":"IFERROR(HLOOKUP(RU$19,DEBUT!$BS$2:$CM$18,6,FALSE),\"\")","v":""},{"$f":"IFERROR(HLOOKUP(RU$19,DEBUT!$BS$2:$CM$18,10,FALSE),\"\")","v":""},{"$f":"IFERROR(HLOOKUP(RU$19,DEBUT!$BS$2:$CM$18,14,FALSE),\"\")","v":""},null,null,null,null,null,{"$f":"IFERROR(HLOOKUP(SD$19,DEBUT!$BS$2:$CM$18,2,FALSE),\"\")","v":""},{"$f":"IFERROR(HLOOKUP(SD$19,DEBUT!$BS$2:$CM$18,6,FALSE),\"\")","v":""},{"$f":"IFERROR(HLOOKUP(SD$19,DEBUT!$BS$2:$CM$18,10,FALSE),\"\")","v":""},{"$f":"IFERROR(HLOOKUP(SD$19,DEBUT!$BS$2:$CM$18,14,FALSE),\"\")","v":""},null,null,null,{"$f":"IFERROR(HLOOKUP(SK$19,DEBUT!$BS$2:$CM$18,2,FALSE),\"\")","v":""},{"$f":"IFERROR(HLOOKUP(SK$19,DEBUT!$BS$2:$CM$18,6,FALSE),\"\")","v":""},{"$f":"IFERROR(HLOOKUP(SK$19,DEBUT!$BS$2:$CM$18,10,FALSE),\"\")","v":""},{"$f":"IFERROR(HLOOKUP(SK$19,DEBUT!$BS$2:$CM$18,14,FALSE),\"\")","v":""},null,null,null,null,null,null,null,{"$f":"IFERROR(HLOOKUP(SV$19,DEBUT!$BS$2:$CM$18,2,FALSE),\"\")","v":""},{"$f":"IFERROR(HLOOKUP(SV$19,DEBUT!$BS$2:$CM$18,6,FALSE),\"\")","v":""},{"$f":"IFERROR(HLOOKUP(SV$19,DEBUT!$BS$2:$CM$18,10,FALSE),\"\")","v":""},{"$f":"IFERROR(HLOOKUP(SV$19,DEBUT!$BS$2:$CM$18,14,FALSE),\"\")","v":""},null,null,null,{"$f":"IFERROR(HLOOKUP(TC$19,DEBUT!$BS$2:$CM$18,2,FALSE),\"\")","v":""},{"$f":"IFERROR(HLOOKUP(TC$19,DEBUT!$BS$2:$CM$18,6,FALSE),\"\")","v":""},{"$f":"IFERROR(HLOOKUP(TC$19,DEBUT!$BS$2:$CM$18,10,FALSE),\"\")","v":""},{"$f":"IFERROR(HLOOKUP(TC$19,DEBUT!$BS$2:$CM$18,14,FALSE),\"\")","v":""},null,null,null,null,null,{"$f":"IFERROR(HLOOKUP(TL$19,DEBUT!$BS$2:$CM$18,2,FALSE),\"\")","v":""},{"$f":"IFERROR(HLOOKUP(TL$19,DEBUT!$BS$2:$CM$18,6,FALSE),\"\")","v":""},{"$f":"IFERROR(HLOOKUP(TL$19,DEBUT!$BS$2:$CM$18,10,FALSE),\"\")","v":""},{"$f":"IFERROR(HLOOKUP(TL$19,DEBUT!$BS$2:$CM$18,14,FALSE),\"\")","v":""},null,null,null,{"$f":"IFERROR(HLOOKUP(TS$19,DEBUT!$BS$2:$CM$18,2,FALSE),\"\")","v":""},{"$f":"IFERROR(HLOOKUP(TS$19,DEBUT!$BS$2:$CM$18,6,FALSE),\"\")","v":""},{"$f":"IFERROR(HLOOKUP(TS$19,DEBUT!$BS$2:$CM$18,10,FALSE),\"\")","v":""},{"$f":"IFERROR(HLOOKUP(TS$19,DEBUT!$BS$2:$CM$18,14,FALSE),\"\")","v":""},null,null,null,null,null,null,null,{"$f":"IFERROR(HLOOKUP(UD$19,DEBUT!$BS$2:$CM$18,2,FALSE),\"\")","v":""},{"$f":"IFERROR(HLOOKUP(UD$19,DEBUT!$BS$2:$CM$18,6,FALSE),\"\")","v":""},{"$f":"IFERROR(HLOOKUP(UD$19,DEBUT!$BS$2:$CM$18,10,FALSE),\"\")","v":""},{"$f":"IFERROR(HLOOKUP(UD$19,DEBUT!$BS$2:$CM$18,14,FALSE),\"\")","v":""},null,null,null,{"$f":"IFERROR(HLOOKUP(UK$19,DEBUT!$BS$2:$CM$18,2,FALSE),\"\")","v":""},{"$f":"IFERROR(HLOOKUP(UK$19,DEBUT!$BS$2:$CM$18,6,FALSE),\"\")","v":""},{"$f":"IFERROR(HLOOKUP(UK$19,DEBUT!$BS$2:$CM$18,10,FALSE),\"\")","v":""},{"$f":"IFERROR(HLOOKUP(UK$19,DEBUT!$BS$2:$CM$18,14,FALSE),\"\")","v":""},null,null,null,null,null,{"$f":"IFERROR(HLOOKUP(UT$19,DEBUT!$BS$2:$CM$18,2,FALSE),\"\")","v":""},{"$f":"IFERROR(HLOOKUP(UT$19,DEBUT!$BS$2:$CM$18,6,FALSE),\"\")","v":""},{"$f":"IFERROR(HLOOKUP(UT$19,DEBUT!$BS$2:$CM$18,10,FALSE),\"\")","v":""},{"$f":"IFERROR(HLOOKUP(UT$19,DEBUT!$BS$2:$CM$18,14,FALSE),\"\")","v":""},null,null,null,{"$f":"IFERROR(HLOOKUP(VA$19,DEBUT!$BS$2:$CM$18,2,FALSE),\"\")","v":""},{"$f":"IFERROR(HLOOKUP(VA$19,DEBUT!$BS$2:$CM$18,6,FALSE),\"\")","v":""},{"$f":"IFERROR(HLOOKUP(VA$19,DEBUT!$BS$2:$CM$18,10,FALSE),\"\")","v":""},{"$f":"IFERROR(HLOOKUP(VA$19,DEBUT!$BS$2:$CM$18,14,FALSE),\"\")","v":""},null,null,null,null,null,null,null,{"$f":"IFERROR(HLOOKUP(VL$19,DEBUT!$BS$2:$CM$18,2,FALSE),\"\")","v":""},{"$f":"IFERROR(HLOOKUP(VL$19,DEBUT!$BS$2:$CM$18,6,FALSE),\"\")","v":""},{"$f":"IFERROR(HLOOKUP(VL$19,DEBUT!$BS$2:$CM$18,10,FALSE),\"\")","v":""},{"$f":"IFERROR(HLOOKUP(VL$19,DEBUT!$BS$2:$CM$18,14,FALSE),\"\")","v":""},null,null,null,{"$f":"IFERROR(HLOOKUP(VS$19,DEBUT!$BS$2:$CM$18,2,FALSE),\"\")","v":""},{"$f":"IFERROR(HLOOKUP(VS$19,DEBUT!$BS$2:$CM$18,6,FALSE),\"\")","v":""},{"$f":"IFERROR(HLOOKUP(VS$19,DEBUT!$BS$2:$CM$18,10,FALSE),\"\")","v":""},{"$f":"IFERROR(HLOOKUP(VS$19,DEBUT!$BS$2:$CM$18,14,FALSE),\"\")","v":""},null,null,null,null,null,{"$f":"IFERROR(HLOOKUP(WB$19,DEBUT!$BS$2:$CM$18,2,FALSE),\"\")","v":""},{"$f":"IFERROR(HLOOKUP(WB$19,DEBUT!$BS$2:$CM$18,6,FALSE),\"\")","v":""},{"$f":"IFERROR(HLOOKUP(WB$19,DEBUT!$BS$2:$CM$18,10,FALSE),\"\")","v":""},{"$f":"IFERROR(HLOOKUP(WB$19,DEBUT!$BS$2:$CM$18,14,FALSE),\"\")","v":""},null,null,null,{"$f":"IFERROR(HLOOKUP(WI$19,DEBUT!$BS$2:$CM$18,2,FALSE),\"\")","v":""},{"$f":"IFERROR(HLOOKUP(WI$19,DEBUT!$BS$2:$CM$18,6,FALSE),\"\")","v":""},{"$f":"IFERROR(HLOOKUP(WI$19,DEBUT!$BS$2:$CM$18,10,FALSE),\"\")","v":""},{"$f":"IFERROR(HLOOKUP(WI$19,DEBUT!$BS$2:$CM$18,14,FALSE),\"\")","v":""},null,null,null,null,null,null,null,{"$f":"IFERROR(HLOOKUP(WT$19,DEBUT!$BS$2:$CM$18,2,FALSE),\"\")","v":""},{"$f":"IFERROR(HLOOKUP(WT$19,DEBUT!$BS$2:$CM$18,6,FALSE),\"\")","v":""},{"$f":"IFERROR(HLOOKUP(WT$19,DEBUT!$BS$2:$CM$18,10,FALSE),\"\")","v":""},{"$f":"IFERROR(HLOOKUP(WT$19,DEBUT!$BS$2:$CM$18,14,FALSE),\"\")","v":""},null,null,null,{"$f":"IFERROR(HLOOKUP(XA$19,DEBUT!$BS$2:$CM$18,2,FALSE),\"\")","v":""},{"$f":"IFERROR(HLOOKUP(XA$19,DEBUT!$BS$2:$CM$18,6,FALSE),\"\")","v":""},{"$f":"IFERROR(HLOOKUP(XA$19,DEBUT!$BS$2:$CM$18,10,FALSE),\"\")","v":""},{"$f":"IFERROR(HLOOKUP(XA$19,DEBUT!$BS$2:$CM$18,14,FALSE),\"\")","v":""},null,null,null,null,null,{"$f":"IFERROR(HLOOKUP(XJ$19,DEBUT!$BS$2:$CM$18,2,FALSE),\"\")","v":""},{"$f":"IFERROR(HLOOKUP(XJ$19,DEBUT!$BS$2:$CM$18,6,FALSE),\"\")","v":""},{"$f":"IFERROR(HLOOKUP(XJ$19,DEBUT!$BS$2:$CM$18,10,FALSE),\"\")","v":""},{"$f":"IFERROR(HLOOKUP(XJ$19,DEBUT!$BS$2:$CM$18,14,FALSE),\"\")","v":""},null,null,null,{"$f":"IFERROR(HLOOKUP(XQ$19,DEBUT!$BS$2:$CM$18,2,FALSE),\"\")","v":""},{"$f":"IFERROR(HLOOKUP(XQ$19,DEBUT!$BS$2:$CM$18,6,FALSE),\"\")","v":""},{"$f":"IFERROR(HLOOKUP(XQ$19,DEBUT!$BS$2:$CM$18,10,FALSE),\"\")","v":""},{"$f":"IFERROR(HLOOKUP(XQ$19,DEBUT!$BS$2:$CM$18,14,FALSE),\"\")","v":""},null,null,null,null,null,null,null,{"$f":"IFERROR(HLOOKUP(YB$19,DEBUT!$BS$2:$CM$18,2,FALSE),\"\")","v":""},{"$f":"IFERROR(HLOOKUP(YB$19,DEBUT!$BS$2:$CM$18,6,FALSE),\"\")","v":""},{"$f":"IFERROR(HLOOKUP(YB$19,DEBUT!$BS$2:$CM$18,10,FALSE),\"\")","v":""},{"$f":"IFERROR(HLOOKUP(YB$19,DEBUT!$BS$2:$CM$18,14,FALSE),\"\")","v":""},null,null,null,{"$f":"IFERROR(HLOOKUP(YI$19,DEBUT!$BS$2:$CM$18,2,FALSE),\"\")","v":""},{"$f":"IFERROR(HLOOKUP(YI$19,DEBUT!$BS$2:$CM$18,6,FALSE),\"\")","v":""},{"$f":"IFERROR(HLOOKUP(YI$19,DEBUT!$BS$2:$CM$18,10,FALSE),\"\")","v":""},{"$f":"IFERROR(HLOOKUP(YI$19,DEBUT!$BS$2:$CM$18,14,FALSE),\"\")","v":""},null,null,null,null,null,{"$f":"IFERROR(HLOOKUP(YR$19,DEBUT!$BS$2:$CM$18,2,FALSE),\"\")","v":""},{"$f":"IFERROR(HLOOKUP(YR$19,DEBUT!$BS$2:$CM$18,6,FALSE),\"\")","v":""},{"$f":"IFERROR(HLOOKUP(YR$19,DEBUT!$BS$2:$CM$18,10,FALSE),\"\")","v":""},{"$f":"IFERROR(HLOOKUP(YR$19,DEBUT!$BS$2:$CM$18,14,FALSE),\"\")","v":""},null,null,null,{"$f":"IFERROR(HLOOKUP(YY$19,DEBUT!$BS$2:$CM$18,2,FALSE),\"\")","v":""},{"$f":"IFERROR(HLOOKUP(YY$19,DEBUT!$BS$2:$CM$18,6,FALSE),\"\")","v":""},{"$f":"IFERROR(HLOOKUP(YY$19,DEBUT!$BS$2:$CM$18,10,FALSE),\"\")","v":""},{"$f":"IFERROR(HLOOKUP(YY$19,DEBUT!$BS$2:$CM$18,14,FALSE),\"\")","v":""},null,null,null,null,null,null,null,{"$f":"IFERROR(HLOOKUP(ZJ$19,DEBUT!$BS$2:$CM$18,2,FALSE),\"\")","v":""},{"$f":"IFERROR(HLOOKUP(ZJ$19,DEBUT!$BS$2:$CM$18,6,FALSE),\"\")","v":""},{"$f":"IFERROR(HLOOKUP(ZJ$19,DEBUT!$BS$2:$CM$18,10,FALSE),\"\")","v":""},{"$f":"IFERROR(HLOOKUP(ZJ$19,DEBUT!$BS$2:$CM$18,14,FALSE),\"\")","v":""},null,null,null,{"$f":"IFERROR(HLOOKUP(ZQ$19,DEBUT!$BS$2:$CM$18,2,FALSE),\"\")","v":""},{"$f":"IFERROR(HLOOKUP(ZQ$19,DEBUT!$BS$2:$CM$18,6,FALSE),\"\")","v":""},{"$f":"IFERROR(HLOOKUP(ZQ$19,DEBUT!$BS$2:$CM$18,10,FALSE),\"\")","v":""},{"$f":"IFERROR(HLOOKUP(ZQ$19,DEBUT!$BS$2:$CM$18,14,FALSE),\"\")","v":""},null,null,null,null,null,{"$f":"IFERROR(HLOOKUP(ZZ$19,DEBUT!$BS$2:$CM$18,2,FALSE),\"\")","v":""},{"$f":"IFERROR(HLOOKUP(ZZ$19,DEBUT!$BS$2:$CM$18,6,FALSE),\"\")","v":""},{"$f":"IFERROR(HLOOKUP(ZZ$19,DEBUT!$BS$2:$CM$18,10,FALSE),\"\")","v":""},{"$f":"IFERROR(HLOOKUP(ZZ$19,DEBUT!$BS$2:$CM$18,14,FALSE),\"\")","v":""},null,null,null,{"$f":"IFERROR(HLOOKUP(AAG$19,DEBUT!$BS$2:$CM$18,2,FALSE),\"\")","v":""},{"$f":"IFERROR(HLOOKUP(AAG$19,DEBUT!$BS$2:$CM$18,6,FALSE),\"\")","v":""},{"$f":"IFERROR(HLOOKUP(AAG$19,DEBUT!$BS$2:$CM$18,10,FALSE),\"\")","v":""},{"$f":"IFERROR(HLOOKUP(AAG$19,DEBUT!$BS$2:$CM$18,14,FALSE),\"\")","v":""},null,null,null,null,null,null,null,{"$f":"IFERROR(HLOOKUP(AAR$19,DEBUT!$BS$2:$CM$18,2,FALSE),\"\")","v":""},{"$f":"IFERROR(HLOOKUP(AAR$19,DEBUT!$BS$2:$CM$18,6,FALSE),\"\")","v":""},{"$f":"IFERROR(HLOOKUP(AAR$19,DEBUT!$BS$2:$CM$18,10,FALSE),\"\")","v":""},{"$f":"IFERROR(HLOOKUP(AAR$19,DEBUT!$BS$2:$CM$18,14,FALSE),\"\")","v":""},null,null,null,{"$f":"IFERROR(HLOOKUP(AAY$19,DEBUT!$BS$2:$CM$18,2,FALSE),\"\")","v":""},{"$f":"IFERROR(HLOOKUP(AAY$19,DEBUT!$BS$2:$CM$18,6,FALSE),\"\")","v":""},{"$f":"IFERROR(HLOOKUP(AAY$19,DEBUT!$BS$2:$CM$18,10,FALSE),\"\")","v":""},{"$f":"IFERROR(HLOOKUP(AAY$19,DEBUT!$BS$2:$CM$18,14,FALSE),\"\")","v":""},null,null,null,null,null,{"$f":"IFERROR(HLOOKUP(ABH$19,DEBUT!$BS$2:$CM$18,2,FALSE),\"\")","v":""},{"$f":"IFERROR(HLOOKUP(ABH$19,DEBUT!$BS$2:$CM$18,6,FALSE),\"\")","v":""},{"$f":"IFERROR(HLOOKUP(ABH$19,DEBUT!$BS$2:$CM$18,10,FALSE),\"\")","v":""},{"$f":"IFERROR(HLOOKUP(ABH$19,DEBUT!$BS$2:$CM$18,14,FALSE),\"\")","v":""},null,null,null,{"$f":"IFERROR(HLOOKUP(ABO$19,DEBUT!$BS$2:$CM$18,2,FALSE),\"\")","v":""},{"$f":"IFERROR(HLOOKUP(ABO$19,DEBUT!$BS$2:$CM$18,6,FALSE),\"\")","v":""},{"$f":"IFERROR(HLOOKUP(ABO$19,DEBUT!$BS$2:$CM$18,10,FALSE),\"\")","v":""},{"$f":"IFERROR(HLOOKUP(ABO$19,DEBUT!$BS$2:$CM$18,14,FALSE),\"\")","v":""},null,null,null,null,null,null,null,{"$f":"IFERROR(HLOOKUP(ABZ$19,DEBUT!$BS$2:$CM$18,2,FALSE),\"\")","v":""},{"$f":"IFERROR(HLOOKUP(ABZ$19,DEBUT!$BS$2:$CM$18,6,FALSE),\"\")","v":""},{"$f":"IFERROR(HLOOKUP(ABZ$19,DEBUT!$BS$2:$CM$18,10,FALSE),\"\")","v":""},{"$f":"IFERROR(HLOOKUP(ABZ$19,DEBUT!$BS$2:$CM$18,14,FALSE),\"\")","v":""},null,null,null,{"$f":"IFERROR(HLOOKUP(ACG$19,DEBUT!$BS$2:$CM$18,2,FALSE),\"\")","v":""},{"$f":"IFERROR(HLOOKUP(ACG$19,DEBUT!$BS$2:$CM$18,6,FALSE),\"\")","v":""},{"$f":"IFERROR(HLOOKUP(ACG$19,DEBUT!$BS$2:$CM$18,10,FALSE),\"\")","v":""},{"$f":"IFERROR(HLOOKUP(ACG$19,DEBUT!$BS$2:$CM$18,14,FALSE),\"\")","v":""},null,null,null,null,null,{"$f":"IFERROR(HLOOKUP(ACP$19,DEBUT!$BS$2:$CM$18,2,FALSE),\"\")","v":""},{"$f":"IFERROR(HLOOKUP(ACP$19,DEBUT!$BS$2:$CM$18,6,FALSE),\"\")","v":""},{"$f":"IFERROR(HLOOKUP(ACP$19,DEBUT!$BS$2:$CM$18,10,FALSE),\"\")","v":""},{"$f":"IFERROR(HLOOKUP(ACP$19,DEBUT!$BS$2:$CM$18,14,FALSE),\"\")","v":""},null,null,null,{"$f":"IFERROR(HLOOKUP(ACW$19,DEBUT!$BS$2:$CM$18,2,FALSE),\"\")","v":""},{"$f":"IFERROR(HLOOKUP(ACW$19,DEBUT!$BS$2:$CM$18,6,FALSE),\"\")","v":""},{"$f":"IFERROR(HLOOKUP(ACW$19,DEBUT!$BS$2:$CM$18,10,FALSE),\"\")","v":""},{"$f":"IFERROR(HLOOKUP(ACW$19,DEBUT!$BS$2:$CM$18,14,FALSE),\"\")","v":""},null,null,null,null,null,null,null,{"$f":"IFERROR(HLOOKUP(ADH$19,DEBUT!$BS$2:$CM$18,2,FALSE),\"\")","v":""},{"$f":"IFERROR(HLOOKUP(ADH$19,DEBUT!$BS$2:$CM$18,6,FALSE),\"\")","v":""},{"$f":"IFERROR(HLOOKUP(ADH$19,DEBUT!$BS$2:$CM$18,10,FALSE),\"\")","v":""},{"$f":"IFERROR(HLOOKUP(ADH$19,DEBUT!$BS$2:$CM$18,14,FALSE),\"\")","v":""},null,null,null,{"$f":"IFERROR(HLOOKUP(ADO$19,DEBUT!$BS$2:$CM$18,2,FALSE),\"\")","v":""},{"$f":"IFERROR(HLOOKUP(ADO$19,DEBUT!$BS$2:$CM$18,6,FALSE),\"\")","v":""},{"$f":"IFERROR(HLOOKUP(ADO$19,DEBUT!$BS$2:$CM$18,10,FALSE),\"\")","v":""},{"$f":"IFERROR(HLOOKUP(ADO$19,DEBUT!$BS$2:$CM$18,14,FALSE),\"\")","v":""},null,null,null,null,null,{"$f":"IFERROR(HLOOKUP(ADX$19,DEBUT!$BS$2:$CM$18,2,FALSE),\"\")","v":""},{"$f":"IFERROR(HLOOKUP(ADX$19,DEBUT!$BS$2:$CM$18,6,FALSE),\"\")","v":""},{"$f":"IFERROR(HLOOKUP(ADX$19,DEBUT!$BS$2:$CM$18,10,FALSE),\"\")","v":""},{"$f":"IFERROR(HLOOKUP(ADX$19,DEBUT!$BS$2:$CM$18,14,FALSE),\"\")","v":""},null,null,null,{"$f":"IFERROR(HLOOKUP(AEE$19,DEBUT!$BS$2:$CM$18,2,FALSE),\"\")","v":""},{"$f":"IFERROR(HLOOKUP(AEE$19,DEBUT!$BS$2:$CM$18,6,FALSE),\"\")","v":""},{"$f":"IFERROR(HLOOKUP(AEE$19,DEBUT!$BS$2:$CM$18,10,FALSE),\"\")","v":""},{"$f":"IFERROR(HLOOKUP(AEE$19,DEBUT!$BS$2:$CM$18,14,FALSE),\"\")","v":""}]
[null,null,null,null,null,{"$f":"IFERROR(HLOOKUP(F$19,DEBUT!$BS$2:$CM$18,3,FALSE),\"\")","v":""},{"$f":"IFERROR(HLOOKUP(F$19,DEBUT!$BS$2:$CM$18,7,FALSE),\"\")","v":""},{"$f":"IFERROR(HLOOKUP(F$19,DEBUT!$BS$2:$CM$18,11,FALSE),\"\")","v":""},{"$f":"IFERROR(HLOOKUP(F$19,DEBUT!$BS$2:$CM$18,15,FALSE),\"\")","v":""},null,null,null,{"$f":"IFERROR(HLOOKUP(M$19,DEBUT!$BS$2:$CM$18,3,FALSE),\"\")","v":""},{"$f":"IFERROR(HLOOKUP(M$19,DEBUT!$BS$2:$CM$18,7,FALSE),\"\")","v":""},{"$f":"IFERROR(HLOOKUP(M$19,DEBUT!$BS$2:$CM$18,11,FALSE),\"\")","v":""},{"$f":"IFERROR(HLOOKUP(M$19,DEBUT!$BS$2:$CM$18,15,FALSE),\"\")","v":""},null,null,null,null,null,{"$f":"IFERROR(HLOOKUP(V$19,DEBUT!$BS$2:$CM$18,3,FALSE),\"\")","v":""},{"$f":"IFERROR(HLOOKUP(V$19,DEBUT!$BS$2:$CM$18,7,FALSE),\"\")","v":""},{"$f":"IFERROR(HLOOKUP(V$19,DEBUT!$BS$2:$CM$18,11,FALSE),\"\")","v":""},{"$f":"IFERROR(HLOOKUP(V$19,DEBUT!$BS$2:$CM$18,15,FALSE),\"\")","v":""},null,null,null,{"$f":"IFERROR(HLOOKUP(AC$19,DEBUT!$BS$2:$CM$18,3,FALSE),\"\")","v":""},{"$f":"IFERROR(HLOOKUP(AC$19,DEBUT!$BS$2:$CM$18,7,FALSE),\"\")","v":""},{"$f":"IFERROR(HLOOKUP(AC$19,DEBUT!$BS$2:$CM$18,11,FALSE),\"\")","v":""},{"$f":"IFERROR(HLOOKUP(AC$19,DEBUT!$BS$2:$CM$18,15,FALSE),\"\")","v":""},null,null,null,null,null,null,null,{"$f":"IFERROR(HLOOKUP(AN$19,DEBUT!$BS$2:$CM$18,3,FALSE),\"\")","v":""},{"$f":"IFERROR(HLOOKUP(AN$19,DEBUT!$BS$2:$CM$18,7,FALSE),\"\")","v":""},{"$f":"IFERROR(HLOOKUP(AN$19,DEBUT!$BS$2:$CM$18,11,FALSE),\"\")","v":""},{"$f":"IFERROR(HLOOKUP(AN$19,DEBUT!$BS$2:$CM$18,15,FALSE),\"\")","v":""},null,null,null,{"$f":"IFERROR(HLOOKUP(AU$19,DEBUT!$BS$2:$CM$18,3,FALSE),\"\")","v":""},{"$f":"IFERROR(HLOOKUP(AU$19,DEBUT!$BS$2:$CM$18,7,FALSE),\"\")","v":""},{"$f":"IFERROR(HLOOKUP(AU$19,DEBUT!$BS$2:$CM$18,11,FALSE),\"\")","v":""},{"$f":"IFERROR(HLOOKUP(AU$19,DEBUT!$BS$2:$CM$18,15,FALSE),\"\")","v":""},null,null,null,null,null,{"$f":"IFERROR(HLOOKUP(BD$19,DEBUT!$BS$2:$CM$18,3,FALSE),\"\")","v":""},{"$f":"IFERROR(HLOOKUP(BD$19,DEBUT!$BS$2:$CM$18,7,FALSE),\"\")","v":""},{"$f":"IFERROR(HLOOKUP(BD$19,DEBUT!$BS$2:$CM$18,11,FALSE),\"\")","v":""},{"$f":"IFERROR(HLOOKUP(BD$19,DEBUT!$BS$2:$CM$18,15,FALSE),\"\")","v":""},null,null,null,{"$f":"IFERROR(HLOOKUP(BK$19,DEBUT!$BS$2:$CM$18,3,FALSE),\"\")","v":""},{"$f":"IFERROR(HLOOKUP(BK$19,DEBUT!$BS$2:$CM$18,7,FALSE),\"\")","v":""},{"$f":"IFERROR(HLOOKUP(BK$19,DEBUT!$BS$2:$CM$18,11,FALSE),\"\")","v":""},{"$f":"IFERROR(HLOOKUP(BK$19,DEBUT!$BS$2:$CM$18,15,FALSE),\"\")","v":""},null,null,null,null,null,null,null,{"$f":"IFERROR(HLOOKUP(BV$19,DEBUT!$BS$2:$CM$18,3,FALSE),\"\")","v":""},{"$f":"IFERROR(HLOOKUP(BV$19,DEBUT!$BS$2:$CM$18,7,FALSE),\"\")","v":""},{"$f":"IFERROR(HLOOKUP(BV$19,DEBUT!$BS$2:$CM$18,11,FALSE),\"\")","v":""},{"$f":"IFERROR(HLOOKUP(BV$19,DEBUT!$BS$2:$CM$18,15,FALSE),\"\")","v":""},null,null,null,{"$f":"IFERROR(HLOOKUP(CC$19,DEBUT!$BS$2:$CM$18,3,FALSE),\"\")","v":""},{"$f":"IFERROR(HLOOKUP(CC$19,DEBUT!$BS$2:$CM$18,7,FALSE),\"\")","v":""},{"$f":"IFERROR(HLOOKUP(CC$19,DEBUT!$BS$2:$CM$18,11,FALSE),\"\")","v":""},{"$f":"IFERROR(HLOOKUP(CC$19,DEBUT!$BS$2:$CM$18,15,FALSE),\"\")","v":""},null,null,null,null,null,{"$f":"IFERROR(HLOOKUP(CL$19,DEBUT!$BS$2:$CM$18,3,FALSE),\"\")","v":""},{"$f":"IFERROR(HLOOKUP(CL$19,DEBUT!$BS$2:$CM$18,7,FALSE),\"\")","v":""},{"$f":"IFERROR(HLOOKUP(CL$19,DEBUT!$BS$2:$CM$18,11,FALSE),\"\")","v":""},{"$f":"IFERROR(HLOOKUP(CL$19,DEBUT!$BS$2:$CM$18,15,FALSE),\"\")","v":""},null,null,null,{"$f":"IFERROR(HLOOKUP(CS$19,DEBUT!$BS$2:$CM$18,3,FALSE),\"\")","v":""},{"$f":"IFERROR(HLOOKUP(CS$19,DEBUT!$BS$2:$CM$18,7,FALSE),\"\")","v":""},{"$f":"IFERROR(HLOOKUP(CS$19,DEBUT!$BS$2:$CM$18,11,FALSE),\"\")","v":""},{"$f":"IFERROR(HLOOKUP(CS$19,DEBUT!$BS$2:$CM$18,15,FALSE),\"\")","v":""},null,null,null,null,null,null,null,{"$f":"IFERROR(HLOOKUP(DD$19,DEBUT!$BS$2:$CM$18,3,FALSE),\"\")","v":""},{"$f":"IFERROR(HLOOKUP(DD$19,DEBUT!$BS$2:$CM$18,7,FALSE),\"\")","v":""},{"$f":"IFERROR(HLOOKUP(DD$19,DEBUT!$BS$2:$CM$18,11,FALSE),\"\")","v":""},{"$f":"IFERROR(HLOOKUP(DD$19,DEBUT!$BS$2:$CM$18,15,FALSE),\"\")","v":""},null,null,null,{"$f":"IFERROR(HLOOKUP(DK$19,DEBUT!$BS$2:$CM$18,3,FALSE),\"\")","v":""},{"$f":"IFERROR(HLOOKUP(DK$19,DEBUT!$BS$2:$CM$18,7,FALSE),\"\")","v":""},{"$f":"IFERROR(HLOOKUP(DK$19,DEBUT!$BS$2:$CM$18,11,FALSE),\"\")","v":""},{"$f":"IFERROR(HLOOKUP(DK$19,DEBUT!$BS$2:$CM$18,15,FALSE),\"\")","v":""},null,null,null,null,null,{"$f":"IFERROR(HLOOKUP(DT$19,DEBUT!$BS$2:$CM$18,3,FALSE),\"\")","v":""},{"$f":"IFERROR(HLOOKUP(DT$19,DEBUT!$BS$2:$CM$18,7,FALSE),\"\")","v":""},{"$f":"IFERROR(HLOOKUP(DT$19,DEBUT!$BS$2:$CM$18,11,FALSE),\"\")","v":""},{"$f":"IFERROR(HLOOKUP(DT$19,DEBUT!$BS$2:$CM$18,15,FALSE),\"\")","v":""},null,null,null,{"$f":"IFERROR(HLOOKUP(EA$19,DEBUT!$BS$2:$CM$18,3,FALSE),\"\")","v":""},{"$f":"IFERROR(HLOOKUP(EA$19,DEBUT!$BS$2:$CM$18,7,FALSE),\"\")","v":""},{"$f":"IFERROR(HLOOKUP(EA$19,DEBUT!$BS$2:$CM$18,11,FALSE),\"\")","v":""},{"$f":"IFERROR(HLOOKUP(EA$19,DEBUT!$BS$2:$CM$18,15,FALSE),\"\")","v":""},null,null,null,null,null,null,null,{"$f":"IFERROR(HLOOKUP(EL$19,DEBUT!$BS$2:$CM$18,3,FALSE),\"\")","v":""},{"$f":"IFERROR(HLOOKUP(EL$19,DEBUT!$BS$2:$CM$18,7,FALSE),\"\")","v":""},{"$f":"IFERROR(HLOOKUP(EL$19,DEBUT!$BS$2:$CM$18,11,FALSE),\"\")","v":""},{"$f":"IFERROR(HLOOKUP(EL$19,DEBUT!$BS$2:$CM$18,15,FALSE),\"\")","v":""},null,null,null,{"$f":"IFERROR(HLOOKUP(ES$19,DEBUT!$BS$2:$CM$18,3,FALSE),\"\")","v":""},{"$f":"IFERROR(HLOOKUP(ES$19,DEBUT!$BS$2:$CM$18,7,FALSE),\"\")","v":""},{"$f":"IFERROR(HLOOKUP(ES$19,DEBUT!$BS$2:$CM$18,11,FALSE),\"\")","v":""},{"$f":"IFERROR(HLOOKUP(ES$19,DEBUT!$BS$2:$CM$18,15,FALSE),\"\")","v":""},null,null,null,null,null,{"$f":"IFERROR(HLOOKUP(FB$19,DEBUT!$BS$2:$CM$18,3,FALSE),\"\")","v":""},{"$f":"IFERROR(HLOOKUP(FB$19,DEBUT!$BS$2:$CM$18,7,FALSE),\"\")","v":""},{"$f":"IFERROR(HLOOKUP(FB$19,DEBUT!$BS$2:$CM$18,11,FALSE),\"\")","v":""},{"$f":"IFERROR(HLOOKUP(FB$19,DEBUT!$BS$2:$CM$18,15,FALSE),\"\")","v":""},null,null,null,{"$f":"IFERROR(HLOOKUP(FI$19,DEBUT!$BS$2:$CM$18,3,FALSE),\"\")","v":""},{"$f":"IFERROR(HLOOKUP(FI$19,DEBUT!$BS$2:$CM$18,7,FALSE),\"\")","v":""},{"$f":"IFERROR(HLOOKUP(FI$19,DEBUT!$BS$2:$CM$18,11,FALSE),\"\")","v":""},{"$f":"IFERROR(HLOOKUP(FI$19,DEBUT!$BS$2:$CM$18,15,FALSE),\"\")","v":""},null,null,null,null,null,null,null,{"$f":"IFERROR(HLOOKUP(FT$19,DEBUT!$BS$2:$CM$18,3,FALSE),\"\")","v":""},{"$f":"IFERROR(HLOOKUP(FT$19,DEBUT!$BS$2:$CM$18,7,FALSE),\"\")","v":""},{"$f":"IFERROR(HLOOKUP(FT$19,DEBUT!$BS$2:$CM$18,11,FALSE),\"\")","v":""},{"$f":"IFERROR(HLOOKUP(FT$19,DEBUT!$BS$2:$CM$18,15,FALSE),\"\")","v":""},null,null,null,{"$f":"IFERROR(HLOOKUP(GA$19,DEBUT!$BS$2:$CM$18,3,FALSE),\"\")","v":""},{"$f":"IFERROR(HLOOKUP(GA$19,DEBUT!$BS$2:$CM$18,7,FALSE),\"\")","v":""},{"$f":"IFERROR(HLOOKUP(GA$19,DEBUT!$BS$2:$CM$18,11,FALSE),\"\")","v":""},{"$f":"IFERROR(HLOOKUP(GA$19,DEBUT!$BS$2:$CM$18,15,FALSE),\"\")","v":""},null,null,null,null,null,{"$f":"IFERROR(HLOOKUP(GJ$19,DEBUT!$BS$2:$CM$18,3,FALSE),\"\")","v":""},{"$f":"IFERROR(HLOOKUP(GJ$19,DEBUT!$BS$2:$CM$18,7,FALSE),\"\")","v":""},{"$f":"IFERROR(HLOOKUP(GJ$19,DEBUT!$BS$2:$CM$18,11,FALSE),\"\")","v":""},{"$f":"IFERROR(HLOOKUP(GJ$19,DEBUT!$BS$2:$CM$18,15,FALSE),\"\")","v":""},null,null,null,{"$f":"IFERROR(HLOOKUP(GQ$19,DEBUT!$BS$2:$CM$18,3,FALSE),\"\")","v":""},{"$f":"IFERROR(HLOOKUP(GQ$19,DEBUT!$BS$2:$CM$18,7,FALSE),\"\")","v":""},{"$f":"IFERROR(HLOOKUP(GQ$19,DEBUT!$BS$2:$CM$18,11,FALSE),\"\")","v":""},{"$f":"IFERROR(HLOOKUP(GQ$19,DEBUT!$BS$2:$CM$18,15,FALSE),\"\")","v":""},null,null,null,null,null,null,null,{"$f":"IFERROR(HLOOKUP(HB$19,DEBUT!$BS$2:$CM$18,3,FALSE),\"\")","v":""},{"$f":"IFERROR(HLOOKUP(HB$19,DEBUT!$BS$2:$CM$18,7,FALSE),\"\")","v":""},{"$f":"IFERROR(HLOOKUP(HB$19,DEBUT!$BS$2:$CM$18,11,FALSE),\"\")","v":""},{"$f":"IFERROR(HLOOKUP(HB$19,DEBUT!$BS$2:$CM$18,15,FALSE),\"\")","v":""},null,null,null,{"$f":"IFERROR(HLOOKUP(HI$19,DEBUT!$BS$2:$CM$18,3,FALSE),\"\")","v":""},{"$f":"IFERROR(HLOOKUP(HI$19,DEBUT!$BS$2:$CM$18,7,FALSE),\"\")","v":""},{"$f":"IFERROR(HLOOKUP(HI$19,DEBUT!$BS$2:$CM$18,11,FALSE),\"\")","v":""},{"$f":"IFERROR(HLOOKUP(HI$19,DEBUT!$BS$2:$CM$18,15,FALSE),\"\")","v":""},null,null,null,null,null,{"$f":"IFERROR(HLOOKUP(HR$19,DEBUT!$BS$2:$CM$18,3,FALSE),\"\")","v":""},{"$f":"IFERROR(HLOOKUP(HR$19,DEBUT!$BS$2:$CM$18,7,FALSE),\"\")","v":""},{"$f":"IFERROR(HLOOKUP(HR$19,DEBUT!$BS$2:$CM$18,11,FALSE),\"\")","v":""},{"$f":"IFERROR(HLOOKUP(HR$19,DEBUT!$BS$2:$CM$18,15,FALSE),\"\")","v":""},null,null,null,{"$f":"IFERROR(HLOOKUP(HY$19,DEBUT!$BS$2:$CM$18,3,FALSE),\"\")","v":""},{"$f":"IFERROR(HLOOKUP(HY$19,DEBUT!$BS$2:$CM$18,7,FALSE),\"\")","v":""},{"$f":"IFERROR(HLOOKUP(HY$19,DEBUT!$BS$2:$CM$18,11,FALSE),\"\")","v":""},{"$f":"IFERROR(HLOOKUP(HY$19,DEBUT!$BS$2:$CM$18,15,FALSE),\"\")","v":""},null,null,null,null,null,null,null,{"$f":"IFERROR(HLOOKUP(IJ$19,DEBUT!$BS$2:$CM$18,3,FALSE),\"\")","v":""},{"$f":"IFERROR(HLOOKUP(IJ$19,DEBUT!$BS$2:$CM$18,7,FALSE),\"\")","v":""},{"$f":"IFERROR(HLOOKUP(IJ$19,DEBUT!$BS$2:$CM$18,11,FALSE),\"\")","v":""},{"$f":"IFERROR(HLOOKUP(IJ$19,DEBUT!$BS$2:$CM$18,15,FALSE),\"\")","v":""},null,null,null,{"$f":"IFERROR(HLOOKUP(IQ$19,DEBUT!$BS$2:$CM$18,3,FALSE),\"\")","v":""},{"$f":"IFERROR(HLOOKUP(IQ$19,DEBUT!$BS$2:$CM$18,7,FALSE),\"\")","v":""},{"$f":"IFERROR(HLOOKUP(IQ$19,DEBUT!$BS$2:$CM$18,11,FALSE),\"\")","v":""},{"$f":"IFERROR(HLOOKUP(IQ$19,DEBUT!$BS$2:$CM$18,15,FALSE),\"\")","v":""},null,null,null,null,null,{"$f":"IFERROR(HLOOKUP(IZ$19,DEBUT!$BS$2:$CM$18,3,FALSE),\"\")","v":""},{"$f":"IFERROR(HLOOKUP(IZ$19,DEBUT!$BS$2:$CM$18,7,FALSE),\"\")","v":""},{"$f":"IFERROR(HLOOKUP(IZ$19,DEBUT!$BS$2:$CM$18,11,FALSE),\"\")","v":""},{"$f":"IFERROR(HLOOKUP(IZ$19,DEBUT!$BS$2:$CM$18,15,FALSE),\"\")","v":""},null,null,null,{"$f":"IFERROR(HLOOKUP(JG$19,DEBUT!$BS$2:$CM$18,3,FALSE),\"\")","v":""},{"$f":"IFERROR(HLOOKUP(JG$19,DEBUT!$BS$2:$CM$18,7,FALSE),\"\")","v":""},{"$f":"IFERROR(HLOOKUP(JG$19,DEBUT!$BS$2:$CM$18,11,FALSE),\"\")","v":""},{"$f":"IFERROR(HLOOKUP(JG$19,DEBUT!$BS$2:$CM$18,15,FALSE),\"\")","v":""},null,null,null,null,null,null,null,{"$f":"IFERROR(HLOOKUP(JR$19,DEBUT!$BS$2:$CM$18,3,FALSE),\"\")","v":""},{"$f":"IFERROR(HLOOKUP(JR$19,DEBUT!$BS$2:$CM$18,7,FALSE),\"\")","v":""},{"$f":"IFERROR(HLOOKUP(JR$19,DEBUT!$BS$2:$CM$18,11,FALSE),\"\")","v":""},{"$f":"IFERROR(HLOOKUP(JR$19,DEBUT!$BS$2:$CM$18,15,FALSE),\"\")","v":""},null,null,null,{"$f":"IFERROR(HLOOKUP(JY$19,DEBUT!$BS$2:$CM$18,3,FALSE),\"\")","v":""},{"$f":"IFERROR(HLOOKUP(JY$19,DEBUT!$BS$2:$CM$18,7,FALSE),\"\")","v":""},{"$f":"IFERROR(HLOOKUP(JY$19,DEBUT!$BS$2:$CM$18,11,FALSE),\"\")","v":""},{"$f":"IFERROR(HLOOKUP(JY$19,DEBUT!$BS$2:$CM$18,15,FALSE),\"\")","v":""},null,null,null,null,null,{"$f":"IFERROR(HLOOKUP(KH$19,DEBUT!$BS$2:$CM$18,3,FALSE),\"\")","v":""},{"$f":"IFERROR(HLOOKUP(KH$19,DEBUT!$BS$2:$CM$18,7,FALSE),\"\")","v":""},{"$f":"IFERROR(HLOOKUP(KH$19,DEBUT!$BS$2:$CM$18,11,FALSE),\"\")","v":""},{"$f":"IFERROR(HLOOKUP(KH$19,DEBUT!$BS$2:$CM$18,15,FALSE),\"\")","v":""},null,null,null,{"$f":"IFERROR(HLOOKUP(KO$19,DEBUT!$BS$2:$CM$18,3,FALSE),\"\")","v":""},{"$f":"IFERROR(HLOOKUP(KO$19,DEBUT!$BS$2:$CM$18,7,FALSE),\"\")","v":""},{"$f":"IFERROR(HLOOKUP(KO$19,DEBUT!$BS$2:$CM$18,11,FALSE),\"\")","v":""},{"$f":"IFERROR(HLOOKUP(KO$19,DEBUT!$BS$2:$CM$18,15,FALSE),\"\")","v":""},null,null,null,null,null,null,null,{"$f":"IFERROR(HLOOKUP(KZ$19,DEBUT!$BS$2:$CM$18,3,FALSE),\"\")","v":""},{"$f":"IFERROR(HLOOKUP(KZ$19,DEBUT!$BS$2:$CM$18,7,FALSE),\"\")","v":""},{"$f":"IFERROR(HLOOKUP(KZ$19,DEBUT!$BS$2:$CM$18,11,FALSE),\"\")","v":""},{"$f":"IFERROR(HLOOKUP(KZ$19,DEBUT!$BS$2:$CM$18,15,FALSE),\"\")","v":""},null,null,null,{"$f":"IFERROR(HLOOKUP(LG$19,DEBUT!$BS$2:$CM$18,3,FALSE),\"\")","v":""},{"$f":"IFERROR(HLOOKUP(LG$19,DEBUT!$BS$2:$CM$18,7,FALSE),\"\")","v":""},{"$f":"IFERROR(HLOOKUP(LG$19,DEBUT!$BS$2:$CM$18,11,FALSE),\"\")","v":""},{"$f":"IFERROR(HLOOKUP(LG$19,DEBUT!$BS$2:$CM$18,15,FALSE),\"\")","v":""},null,null,null,null,null,{"$f":"IFERROR(HLOOKUP(LP$19,DEBUT!$BS$2:$CM$18,3,FALSE),\"\")","v":""},{"$f":"IFERROR(HLOOKUP(LP$19,DEBUT!$BS$2:$CM$18,7,FALSE),\"\")","v":""},{"$f":"IFERROR(HLOOKUP(LP$19,DEBUT!$BS$2:$CM$18,11,FALSE),\"\")","v":""},{"$f":"IFERROR(HLOOKUP(LP$19,DEBUT!$BS$2:$CM$18,15,FALSE),\"\")","v":""},null,null,null,{"$f":"IFERROR(HLOOKUP(LW$19,DEBUT!$BS$2:$CM$18,3,FALSE),\"\")","v":""},{"$f":"IFERROR(HLOOKUP(LW$19,DEBUT!$BS$2:$CM$18,7,FALSE),\"\")","v":""},{"$f":"IFERROR(HLOOKUP(LW$19,DEBUT!$BS$2:$CM$18,11,FALSE),\"\")","v":""},{"$f":"IFERROR(HLOOKUP(LW$19,DEBUT!$BS$2:$CM$18,15,FALSE),\"\")","v":""},null,null,null,null,null,null,null,{"$f":"IFERROR(HLOOKUP(MH$19,DEBUT!$BS$2:$CM$18,3,FALSE),\"\")","v":""},{"$f":"IFERROR(HLOOKUP(MH$19,DEBUT!$BS$2:$CM$18,7,FALSE),\"\")","v":""},{"$f":"IFERROR(HLOOKUP(MH$19,DEBUT!$BS$2:$CM$18,11,FALSE),\"\")","v":""},{"$f":"IFERROR(HLOOKUP(MH$19,DEBUT!$BS$2:$CM$18,15,FALSE),\"\")","v":""},null,null,null,{"$f":"IFERROR(HLOOKUP(MO$19,DEBUT!$BS$2:$CM$18,3,FALSE),\"\")","v":""},{"$f":"IFERROR(HLOOKUP(MO$19,DEBUT!$BS$2:$CM$18,7,FALSE),\"\")","v":""},{"$f":"IFERROR(HLOOKUP(MO$19,DEBUT!$BS$2:$CM$18,11,FALSE),\"\")","v":""},{"$f":"IFERROR(HLOOKUP(MO$19,DEBUT!$BS$2:$CM$18,15,FALSE),\"\")","v":""},null,null,null,null,null,{"$f":"IFERROR(HLOOKUP(MX$19,DEBUT!$BS$2:$CM$18,3,FALSE),\"\")","v":""},{"$f":"IFERROR(HLOOKUP(MX$19,DEBUT!$BS$2:$CM$18,7,FALSE),\"\")","v":""},{"$f":"IFERROR(HLOOKUP(MX$19,DEBUT!$BS$2:$CM$18,11,FALSE),\"\")","v":""},{"$f":"IFERROR(HLOOKUP(MX$19,DEBUT!$BS$2:$CM$18,15,FALSE),\"\")","v":""},null,null,null,{"$f":"IFERROR(HLOOKUP(NE$19,DEBUT!$BS$2:$CM$18,3,FALSE),\"\")","v":""},{"$f":"IFERROR(HLOOKUP(NE$19,DEBUT!$BS$2:$CM$18,7,FALSE),\"\")","v":""},{"$f":"IFERROR(HLOOKUP(NE$19,DEBUT!$BS$2:$CM$18,11,FALSE),\"\")","v":""},{"$f":"IFERROR(HLOOKUP(NE$19,DEBUT!$BS$2:$CM$18,15,FALSE),\"\")","v":""},null,null,null,null,null,null,null,{"$f":"IFERROR(HLOOKUP(NP$19,DEBUT!$BS$2:$CM$18,3,FALSE),\"\")","v":""},{"$f":"IFERROR(HLOOKUP(NP$19,DEBUT!$BS$2:$CM$18,7,FALSE),\"\")","v":""},{"$f":"IFERROR(HLOOKUP(NP$19,DEBUT!$BS$2:$CM$18,11,FALSE),\"\")","v":""},{"$f":"IFERROR(HLOOKUP(NP$19,DEBUT!$BS$2:$CM$18,15,FALSE),\"\")","v":""},null,null,null,{"$f":"IFERROR(HLOOKUP(NW$19,DEBUT!$BS$2:$CM$18,3,FALSE),\"\")","v":""},{"$f":"IFERROR(HLOOKUP(NW$19,DEBUT!$BS$2:$CM$18,7,FALSE),\"\")","v":""},{"$f":"IFERROR(HLOOKUP(NW$19,DEBUT!$BS$2:$CM$18,11,FALSE),\"\")","v":""},{"$f":"IFERROR(HLOOKUP(NW$19,DEBUT!$BS$2:$CM$18,15,FALSE),\"\")","v":""},null,null,null,null,null,{"$f":"IFERROR(HLOOKUP(OF$19,DEBUT!$BS$2:$CM$18,3,FALSE),\"\")","v":""},{"$f":"IFERROR(HLOOKUP(OF$19,DEBUT!$BS$2:$CM$18,7,FALSE),\"\")","v":""},{"$f":"IFERROR(HLOOKUP(OF$19,DEBUT!$BS$2:$CM$18,11,FALSE),\"\")","v":""},{"$f":"IFERROR(HLOOKUP(OF$19,DEBUT!$BS$2:$CM$18,15,FALSE),\"\")","v":""},null,null,null,{"$f":"IFERROR(HLOOKUP(OM$19,DEBUT!$BS$2:$CM$18,3,FALSE),\"\")","v":""},{"$f":"IFERROR(HLOOKUP(OM$19,DEBUT!$BS$2:$CM$18,7,FALSE),\"\")","v":""},{"$f":"IFERROR(HLOOKUP(OM$19,DEBUT!$BS$2:$CM$18,11,FALSE),\"\")","v":""},{"$f":"IFERROR(HLOOKUP(OM$19,DEBUT!$BS$2:$CM$18,15,FALSE),\"\")","v":""},null,null,null,null,null,null,null,{"$f":"IFERROR(HLOOKUP(OX$19,DEBUT!$BS$2:$CM$18,3,FALSE),\"\")","v":""},{"$f":"IFERROR(HLOOKUP(OX$19,DEBUT!$BS$2:$CM$18,7,FALSE),\"\")","v":""},{"$f":"IFERROR(HLOOKUP(OX$19,DEBUT!$BS$2:$CM$18,11,FALSE),\"\")","v":""},{"$f":"IFERROR(HLOOKUP(OX$19,DEBUT!$BS$2:$CM$18,15,FALSE),\"\")","v":""},null,null,null,{"$f":"IFERROR(HLOOKUP(PE$19,DEBUT!$BS$2:$CM$18,3,FALSE),\"\")","v":""},{"$f":"IFERROR(HLOOKUP(PE$19,DEBUT!$BS$2:$CM$18,7,FALSE),\"\")","v":""},{"$f":"IFERROR(HLOOKUP(PE$19,DEBUT!$BS$2:$CM$18,11,FALSE),\"\")","v":""},{"$f":"IFERROR(HLOOKUP(PE$19,DEBUT!$BS$2:$CM$18,15,FALSE),\"\")","v":""},null,null,null,null,null,{"$f":"IFERROR(HLOOKUP(PN$19,DEBUT!$BS$2:$CM$18,3,FALSE),\"\")","v":""},{"$f":"IFERROR(HLOOKUP(PN$19,DEBUT!$BS$2:$CM$18,7,FALSE),\"\")","v":""},{"$f":"IFERROR(HLOOKUP(PN$19,DEBUT!$BS$2:$CM$18,11,FALSE),\"\")","v":""},{"$f":"IFERROR(HLOOKUP(PN$19,DEBUT!$BS$2:$CM$18,15,FALSE),\"\")","v":""},null,null,null,{"$f":"IFERROR(HLOOKUP(PU$19,DEBUT!$BS$2:$CM$18,3,FALSE),\"\")","v":""},{"$f":"IFERROR(HLOOKUP(PU$19,DEBUT!$BS$2:$CM$18,7,FALSE),\"\")","v":""},{"$f":"IFERROR(HLOOKUP(PU$19,DEBUT!$BS$2:$CM$18,11,FALSE),\"\")","v":""},{"$f":"IFERROR(HLOOKUP(PU$19,DEBUT!$BS$2:$CM$18,15,FALSE),\"\")","v":""},null,null,null,null,null,null,null,{"$f":"IFERROR(HLOOKUP(QF$19,DEBUT!$BS$2:$CM$18,3,FALSE),\"\")","v":""},{"$f":"IFERROR(HLOOKUP(QF$19,DEBUT!$BS$2:$CM$18,7,FALSE),\"\")","v":""},{"$f":"IFERROR(HLOOKUP(QF$19,DEBUT!$BS$2:$CM$18,11,FALSE),\"\")","v":""},{"$f":"IFERROR(HLOOKUP(QF$19,DEBUT!$BS$2:$CM$18,15,FALSE),\"\")","v":""},null,null,null,{"$f":"IFERROR(HLOOKUP(QM$19,DEBUT!$BS$2:$CM$18,3,FALSE),\"\")","v":""},{"$f":"IFERROR(HLOOKUP(QM$19,DEBUT!$BS$2:$CM$18,7,FALSE),\"\")","v":""},{"$f":"IFERROR(HLOOKUP(QM$19,DEBUT!$BS$2:$CM$18,11,FALSE),\"\")","v":""},{"$f":"IFERROR(HLOOKUP(QM$19,DEBUT!$BS$2:$CM$18,15,FALSE),\"\")","v":""},null,null,null,null,null,{"$f":"IFERROR(HLOOKUP(QV$19,DEBUT!$BS$2:$CM$18,3,FALSE),\"\")","v":""},{"$f":"IFERROR(HLOOKUP(QV$19,DEBUT!$BS$2:$CM$18,7,FALSE),\"\")","v":""},{"$f":"IFERROR(HLOOKUP(QV$19,DEBUT!$BS$2:$CM$18,11,FALSE),\"\")","v":""},{"$f":"IFERROR(HLOOKUP(QV$19,DEBUT!$BS$2:$CM$18,15,FALSE),\"\")","v":""},null,null,null,{"$f":"IFERROR(HLOOKUP(RC$19,DEBUT!$BS$2:$CM$18,3,FALSE),\"\")","v":""},{"$f":"IFERROR(HLOOKUP(RC$19,DEBUT!$BS$2:$CM$18,7,FALSE),\"\")","v":""},{"$f":"IFERROR(HLOOKUP(RC$19,DEBUT!$BS$2:$CM$18,11,FALSE),\"\")","v":""},{"$f":"IFERROR(HLOOKUP(RC$19,DEBUT!$BS$2:$CM$18,15,FALSE),\"\")","v":""},null,null,null,null,null,null,null,{"$f":"IFERROR(HLOOKUP(RN$19,DEBUT!$BS$2:$CM$18,3,FALSE),\"\")","v":""},{"$f":"IFERROR(HLOOKUP(RN$19,DEBUT!$BS$2:$CM$18,7,FALSE),\"\")","v":""},{"$f":"IFERROR(HLOOKUP(RN$19,DEBUT!$BS$2:$CM$18,11,FALSE),\"\")","v":""},{"$f":"IFERROR(HLOOKUP(RN$19,DEBUT!$BS$2:$CM$18,15,FALSE),\"\")","v":""},null,null,null,{"$f":"IFERROR(HLOOKUP(RU$19,DEBUT!$BS$2:$CM$18,3,FALSE),\"\")","v":""},{"$f":"IFERROR(HLOOKUP(RU$19,DEBUT!$BS$2:$CM$18,7,FALSE),\"\")","v":""},{"$f":"IFERROR(HLOOKUP(RU$19,DEBUT!$BS$2:$CM$18,11,FALSE),\"\")","v":""},{"$f":"IFERROR(HLOOKUP(RU$19,DEBUT!$BS$2:$CM$18,15,FALSE),\"\")","v":""},null,null,null,null,null,{"$f":"IFERROR(HLOOKUP(SD$19,DEBUT!$BS$2:$CM$18,3,FALSE),\"\")","v":""},{"$f":"IFERROR(HLOOKUP(SD$19,DEBUT!$BS$2:$CM$18,7,FALSE),\"\")","v":""},{"$f":"IFERROR(HLOOKUP(SD$19,DEBUT!$BS$2:$CM$18,11,FALSE),\"\")","v":""},{"$f":"IFERROR(HLOOKUP(SD$19,DEBUT!$BS$2:$CM$18,15,FALSE),\"\")","v":""},null,null,null,{"$f":"IFERROR(HLOOKUP(SK$19,DEBUT!$BS$2:$CM$18,3,FALSE),\"\")","v":""},{"$f":"IFERROR(HLOOKUP(SK$19,DEBUT!$BS$2:$CM$18,7,FALSE),\"\")","v":""},{"$f":"IFERROR(HLOOKUP(SK$19,DEBUT!$BS$2:$CM$18,11,FALSE),\"\")","v":""},{"$f":"IFERROR(HLOOKUP(SK$19,DEBUT!$BS$2:$CM$18,15,FALSE),\"\")","v":""},null,null,null,null,null,null,null,{"$f":"IFERROR(HLOOKUP(SV$19,DEBUT!$BS$2:$CM$18,3,FALSE),\"\")","v":""},{"$f":"IFERROR(HLOOKUP(SV$19,DEBUT!$BS$2:$CM$18,7,FALSE),\"\")","v":""},{"$f":"IFERROR(HLOOKUP(SV$19,DEBUT!$BS$2:$CM$18,11,FALSE),\"\")","v":""},{"$f":"IFERROR(HLOOKUP(SV$19,DEBUT!$BS$2:$CM$18,15,FALSE),\"\")","v":""},null,null,null,{"$f":"IFERROR(HLOOKUP(TC$19,DEBUT!$BS$2:$CM$18,3,FALSE),\"\")","v":""},{"$f":"IFERROR(HLOOKUP(TC$19,DEBUT!$BS$2:$CM$18,7,FALSE),\"\")","v":""},{"$f":"IFERROR(HLOOKUP(TC$19,DEBUT!$BS$2:$CM$18,11,FALSE),\"\")","v":""},{"$f":"IFERROR(HLOOKUP(TC$19,DEBUT!$BS$2:$CM$18,15,FALSE),\"\")","v":""},null,null,null,null,null,{"$f":"IFERROR(HLOOKUP(TL$19,DEBUT!$BS$2:$CM$18,3,FALSE),\"\")","v":""},{"$f":"IFERROR(HLOOKUP(TL$19,DEBUT!$BS$2:$CM$18,7,FALSE),\"\")","v":""},{"$f":"IFERROR(HLOOKUP(TL$19,DEBUT!$BS$2:$CM$18,11,FALSE),\"\")","v":""},{"$f":"IFERROR(HLOOKUP(TL$19,DEBUT!$BS$2:$CM$18,15,FALSE),\"\")","v":""},null,null,null,{"$f":"IFERROR(HLOOKUP(TS$19,DEBUT!$BS$2:$CM$18,3,FALSE),\"\")","v":""},{"$f":"IFERROR(HLOOKUP(TS$19,DEBUT!$BS$2:$CM$18,7,FALSE),\"\")","v":""},{"$f":"IFERROR(HLOOKUP(TS$19,DEBUT!$BS$2:$CM$18,11,FALSE),\"\")","v":""},{"$f":"IFERROR(HLOOKUP(TS$19,DEBUT!$BS$2:$CM$18,15,FALSE),\"\")","v":""},null,null,null,null,null,null,null,{"$f":"IFERROR(HLOOKUP(UD$19,DEBUT!$BS$2:$CM$18,3,FALSE),\"\")","v":""},{"$f":"IFERROR(HLOOKUP(UD$19,DEBUT!$BS$2:$CM$18,7,FALSE),\"\")","v":""},{"$f":"IFERROR(HLOOKUP(UD$19,DEBUT!$BS$2:$CM$18,11,FALSE),\"\")","v":""},{"$f":"IFERROR(HLOOKUP(UD$19,DEBUT!$BS$2:$CM$18,15,FALSE),\"\")","v":""},null,null,null,{"$f":"IFERROR(HLOOKUP(UK$19,DEBUT!$BS$2:$CM$18,3,FALSE),\"\")","v":""},{"$f":"IFERROR(HLOOKUP(UK$19,DEBUT!$BS$2:$CM$18,7,FALSE),\"\")","v":""},{"$f":"IFERROR(HLOOKUP(UK$19,DEBUT!$BS$2:$CM$18,11,FALSE),\"\")","v":""},{"$f":"IFERROR(HLOOKUP(UK$19,DEBUT!$BS$2:$CM$18,15,FALSE),\"\")","v":""},null,null,null,null,null,{"$f":"IFERROR(HLOOKUP(UT$19,DEBUT!$BS$2:$CM$18,3,FALSE),\"\")","v":""},{"$f":"IFERROR(HLOOKUP(UT$19,DEBUT!$BS$2:$CM$18,7,FALSE),\"\")","v":""},{"$f":"IFERROR(HLOOKUP(UT$19,DEBUT!$BS$2:$CM$18,11,FALSE),\"\")","v":""},{"$f":"IFERROR(HLOOKUP(UT$19,DEBUT!$BS$2:$CM$18,15,FALSE),\"\")","v":""},null,null,null,{"$f":"IFERROR(HLOOKUP(VA$19,DEBUT!$BS$2:$CM$18,3,FALSE),\"\")","v":""},{"$f":"IFERROR(HLOOKUP(VA$19,DEBUT!$BS$2:$CM$18,7,FALSE),\"\")","v":""},{"$f":"IFERROR(HLOOKUP(VA$19,DEBUT!$BS$2:$CM$18,11,FALSE),\"\")","v":""},{"$f":"IFERROR(HLOOKUP(VA$19,DEBUT!$BS$2:$CM$18,15,FALSE),\"\")","v":""},null,null,null,null,null,null,null,{"$f":"IFERROR(HLOOKUP(VL$19,DEBUT!$BS$2:$CM$18,3,FALSE),\"\")","v":""},{"$f":"IFERROR(HLOOKUP(VL$19,DEBUT!$BS$2:$CM$18,7,FALSE),\"\")","v":""},{"$f":"IFERROR(HLOOKUP(VL$19,DEBUT!$BS$2:$CM$18,11,FALSE),\"\")","v":""},{"$f":"IFERROR(HLOOKUP(VL$19,DEBUT!$BS$2:$CM$18,15,FALSE),\"\")","v":""},null,null,null,{"$f":"IFERROR(HLOOKUP(VS$19,DEBUT!$BS$2:$CM$18,3,FALSE),\"\")","v":""},{"$f":"IFERROR(HLOOKUP(VS$19,DEBUT!$BS$2:$CM$18,7,FALSE),\"\")","v":""},{"$f":"IFERROR(HLOOKUP(VS$19,DEBUT!$BS$2:$CM$18,11,FALSE),\"\")","v":""},{"$f":"IFERROR(HLOOKUP(VS$19,DEBUT!$BS$2:$CM$18,15,FALSE),\"\")","v":""},null,null,null,null,null,{"$f":"IFERROR(HLOOKUP(WB$19,DEBUT!$BS$2:$CM$18,3,FALSE),\"\")","v":""},{"$f":"IFERROR(HLOOKUP(WB$19,DEBUT!$BS$2:$CM$18,7,FALSE),\"\")","v":""},{"$f":"IFERROR(HLOOKUP(WB$19,DEBUT!$BS$2:$CM$18,11,FALSE),\"\")","v":""},{"$f":"IFERROR(HLOOKUP(WB$19,DEBUT!$BS$2:$CM$18,15,FALSE),\"\")","v":""},null,null,null,{"$f":"IFERROR(HLOOKUP(WI$19,DEBUT!$BS$2:$CM$18,3,FALSE),\"\")","v":""},{"$f":"IFERROR(HLOOKUP(WI$19,DEBUT!$BS$2:$CM$18,7,FALSE),\"\")","v":""},{"$f":"IFERROR(HLOOKUP(WI$19,DEBUT!$BS$2:$CM$18,11,FALSE),\"\")","v":""},{"$f":"IFERROR(HLOOKUP(WI$19,DEBUT!$BS$2:$CM$18,15,FALSE),\"\")","v":""},null,null,null,null,null,null,null,{"$f":"IFERROR(HLOOKUP(WT$19,DEBUT!$BS$2:$CM$18,3,FALSE),\"\")","v":""},{"$f":"IFERROR(HLOOKUP(WT$19,DEBUT!$BS$2:$CM$18,7,FALSE),\"\")","v":""},{"$f":"IFERROR(HLOOKUP(WT$19,DEBUT!$BS$2:$CM$18,11,FALSE),\"\")","v":""},{"$f":"IFERROR(HLOOKUP(WT$19,DEBUT!$BS$2:$CM$18,15,FALSE),\"\")","v":""},null,null,null,{"$f":"IFERROR(HLOOKUP(XA$19,DEBUT!$BS$2:$CM$18,3,FALSE),\"\")","v":""},{"$f":"IFERROR(HLOOKUP(XA$19,DEBUT!$BS$2:$CM$18,7,FALSE),\"\")","v":""},{"$f":"IFERROR(HLOOKUP(XA$19,DEBUT!$BS$2:$CM$18,11,FALSE),\"\")","v":""},{"$f":"IFERROR(HLOOKUP(XA$19,DEBUT!$BS$2:$CM$18,15,FALSE),\"\")","v":""},null,null,null,null,null,{"$f":"IFERROR(HLOOKUP(XJ$19,DEBUT!$BS$2:$CM$18,3,FALSE),\"\")","v":""},{"$f":"IFERROR(HLOOKUP(XJ$19,DEBUT!$BS$2:$CM$18,7,FALSE),\"\")","v":""},{"$f":"IFERROR(HLOOKUP(XJ$19,DEBUT!$BS$2:$CM$18,11,FALSE),\"\")","v":""},{"$f":"IFERROR(HLOOKUP(XJ$19,DEBUT!$BS$2:$CM$18,15,FALSE),\"\")","v":""},null,null,null,{"$f":"IFERROR(HLOOKUP(XQ$19,DEBUT!$BS$2:$CM$18,3,FALSE),\"\")","v":""},{"$f":"IFERROR(HLOOKUP(XQ$19,DEBUT!$BS$2:$CM$18,7,FALSE),\"\")","v":""},{"$f":"IFERROR(HLOOKUP(XQ$19,DEBUT!$BS$2:$CM$18,11,FALSE),\"\")","v":""},{"$f":"IFERROR(HLOOKUP(XQ$19,DEBUT!$BS$2:$CM$18,15,FALSE),\"\")","v":""},null,null,null,null,null,null,null,{"$f":"IFERROR(HLOOKUP(YB$19,DEBUT!$BS$2:$CM$18,3,FALSE),\"\")","v":""},{"$f":"IFERROR(HLOOKUP(YB$19,DEBUT!$BS$2:$CM$18,7,FALSE),\"\")","v":""},{"$f":"IFERROR(HLOOKUP(YB$19,DEBUT!$BS$2:$CM$18,11,FALSE),\"\")","v":""},{"$f":"IFERROR(HLOOKUP(YB$19,DEBUT!$BS$2:$CM$18,15,FALSE),\"\")","v":""},null,null,null,{"$f":"IFERROR(HLOOKUP(YI$19,DEBUT!$BS$2:$CM$18,3,FALSE),\"\")","v":""},{"$f":"IFERROR(HLOOKUP(YI$19,DEBUT!$BS$2:$CM$18,7,FALSE),\"\")","v":""},{"$f":"IFERROR(HLOOKUP(YI$19,DEBUT!$BS$2:$CM$18,11,FALSE),\"\")","v":""},{"$f":"IFERROR(HLOOKUP(YI$19,DEBUT!$BS$2:$CM$18,15,FALSE),\"\")","v":""},null,null,null,null,null,{"$f":"IFERROR(HLOOKUP(YR$19,DEBUT!$BS$2:$CM$18,3,FALSE),\"\")","v":""},{"$f":"IFERROR(HLOOKUP(YR$19,DEBUT!$BS$2:$CM$18,7,FALSE),\"\")","v":""},{"$f":"IFERROR(HLOOKUP(YR$19,DEBUT!$BS$2:$CM$18,11,FALSE),\"\")","v":""},{"$f":"IFERROR(HLOOKUP(YR$19,DEBUT!$BS$2:$CM$18,15,FALSE),\"\")","v":""},null,null,null,{"$f":"IFERROR(HLOOKUP(YY$19,DEBUT!$BS$2:$CM$18,3,FALSE),\"\")","v":""},{"$f":"IFERROR(HLOOKUP(YY$19,DEBUT!$BS$2:$CM$18,7,FALSE),\"\")","v":""},{"$f":"IFERROR(HLOOKUP(YY$19,DEBUT!$BS$2:$CM$18,11,FALSE),\"\")","v":""},{"$f":"IFERROR(HLOOKUP(YY$19,DEBUT!$BS$2:$CM$18,15,FALSE),\"\")","v":""},null,null,null,null,null,null,null,{"$f":"IFERROR(HLOOKUP(ZJ$19,DEBUT!$BS$2:$CM$18,3,FALSE),\"\")","v":""},{"$f":"IFERROR(HLOOKUP(ZJ$19,DEBUT!$BS$2:$CM$18,7,FALSE),\"\")","v":""},{"$f":"IFERROR(HLOOKUP(ZJ$19,DEBUT!$BS$2:$CM$18,11,FALSE),\"\")","v":""},{"$f":"IFERROR(HLOOKUP(ZJ$19,DEBUT!$BS$2:$CM$18,15,FALSE),\"\")","v":""},null,null,null,{"$f":"IFERROR(HLOOKUP(ZQ$19,DEBUT!$BS$2:$CM$18,3,FALSE),\"\")","v":""},{"$f":"IFERROR(HLOOKUP(ZQ$19,DEBUT!$BS$2:$CM$18,7,FALSE),\"\")","v":""},{"$f":"IFERROR(HLOOKUP(ZQ$19,DEBUT!$BS$2:$CM$18,11,FALSE),\"\")","v":""},{"$f":"IFERROR(HLOOKUP(ZQ$19,DEBUT!$BS$2:$CM$18,15,FALSE),\"\")","v":""},null,null,null,null,null,{"$f":"IFERROR(HLOOKUP(ZZ$19,DEBUT!$BS$2:$CM$18,3,FALSE),\"\")","v":""},{"$f":"IFERROR(HLOOKUP(ZZ$19,DEBUT!$BS$2:$CM$18,7,FALSE),\"\")","v":""},{"$f":"IFERROR(HLOOKUP(ZZ$19,DEBUT!$BS$2:$CM$18,11,FALSE),\"\")","v":""},{"$f":"IFERROR(HLOOKUP(ZZ$19,DEBUT!$BS$2:$CM$18,15,FALSE),\"\")","v":""},null,null,null,{"$f":"IFERROR(HLOOKUP(AAG$19,DEBUT!$BS$2:$CM$18,3,FALSE),\"\")","v":""},{"$f":"IFERROR(HLOOKUP(AAG$19,DEBUT!$BS$2:$CM$18,7,FALSE),\"\")","v":""},{"$f":"IFERROR(HLOOKUP(AAG$19,DEBUT!$BS$2:$CM$18,11,FALSE),\"\")","v":""},{"$f":"IFERROR(HLOOKUP(AAG$19,DEBUT!$BS$2:$CM$18,15,FALSE),\"\")","v":""},null,null,null,null,null,null,null,{"$f":"IFERROR(HLOOKUP(AAR$19,DEBUT!$BS$2:$CM$18,3,FALSE),\"\")","v":""},{"$f":"IFERROR(HLOOKUP(AAR$19,DEBUT!$BS$2:$CM$18,7,FALSE),\"\")","v":""},{"$f":"IFERROR(HLOOKUP(AAR$19,DEBUT!$BS$2:$CM$18,11,FALSE),\"\")","v":""},{"$f":"IFERROR(HLOOKUP(AAR$19,DEBUT!$BS$2:$CM$18,15,FALSE),\"\")","v":""},null,null,null,{"$f":"IFERROR(HLOOKUP(AAY$19,DEBUT!$BS$2:$CM$18,3,FALSE),\"\")","v":""},{"$f":"IFERROR(HLOOKUP(AAY$19,DEBUT!$BS$2:$CM$18,7,FALSE),\"\")","v":""},{"$f":"IFERROR(HLOOKUP(AAY$19,DEBUT!$BS$2:$CM$18,11,FALSE),\"\")","v":""},{"$f":"IFERROR(HLOOKUP(AAY$19,DEBUT!$BS$2:$CM$18,15,FALSE),\"\")","v":""},null,null,null,null,null,{"$f":"IFERROR(HLOOKUP(ABH$19,DEBUT!$BS$2:$CM$18,3,FALSE),\"\")","v":""},{"$f":"IFERROR(HLOOKUP(ABH$19,DEBUT!$BS$2:$CM$18,7,FALSE),\"\")","v":""},{"$f":"IFERROR(HLOOKUP(ABH$19,DEBUT!$BS$2:$CM$18,11,FALSE),\"\")","v":""},{"$f":"IFERROR(HLOOKUP(ABH$19,DEBUT!$BS$2:$CM$18,15,FALSE),\"\")","v":""},null,null,null,{"$f":"IFERROR(HLOOKUP(ABO$19,DEBUT!$BS$2:$CM$18,3,FALSE),\"\")","v":""},{"$f":"IFERROR(HLOOKUP(ABO$19,DEBUT!$BS$2:$CM$18,7,FALSE),\"\")","v":""},{"$f":"IFERROR(HLOOKUP(ABO$19,DEBUT!$BS$2:$CM$18,11,FALSE),\"\")","v":""},{"$f":"IFERROR(HLOOKUP(ABO$19,DEBUT!$BS$2:$CM$18,15,FALSE),\"\")","v":""},null,null,null,null,null,null,null,{"$f":"IFERROR(HLOOKUP(ABZ$19,DEBUT!$BS$2:$CM$18,3,FALSE),\"\")","v":""},{"$f":"IFERROR(HLOOKUP(ABZ$19,DEBUT!$BS$2:$CM$18,7,FALSE),\"\")","v":""},{"$f":"IFERROR(HLOOKUP(ABZ$19,DEBUT!$BS$2:$CM$18,11,FALSE),\"\")","v":""},{"$f":"IFERROR(HLOOKUP(ABZ$19,DEBUT!$BS$2:$CM$18,15,FALSE),\"\")","v":""},null,null,null,{"$f":"IFERROR(HLOOKUP(ACG$19,DEBUT!$BS$2:$CM$18,3,FALSE),\"\")","v":""},{"$f":"IFERROR(HLOOKUP(ACG$19,DEBUT!$BS$2:$CM$18,7,FALSE),\"\")","v":""},{"$f":"IFERROR(HLOOKUP(ACG$19,DEBUT!$BS$2:$CM$18,11,FALSE),\"\")","v":""},{"$f":"IFERROR(HLOOKUP(ACG$19,DEBUT!$BS$2:$CM$18,15,FALSE),\"\")","v":""},null,null,null,null,null,{"$f":"IFERROR(HLOOKUP(ACP$19,DEBUT!$BS$2:$CM$18,3,FALSE),\"\")","v":""},{"$f":"IFERROR(HLOOKUP(ACP$19,DEBUT!$BS$2:$CM$18,7,FALSE),\"\")","v":""},{"$f":"IFERROR(HLOOKUP(ACP$19,DEBUT!$BS$2:$CM$18,11,FALSE),\"\")","v":""},{"$f":"IFERROR(HLOOKUP(ACP$19,DEBUT!$BS$2:$CM$18,15,FALSE),\"\")","v":""},null,null,null,{"$f":"IFERROR(HLOOKUP(ACW$19,DEBUT!$BS$2:$CM$18,3,FALSE),\"\")","v":""},{"$f":"IFERROR(HLOOKUP(ACW$19,DEBUT!$BS$2:$CM$18,7,FALSE),\"\")","v":""},{"$f":"IFERROR(HLOOKUP(ACW$19,DEBUT!$BS$2:$CM$18,11,FALSE),\"\")","v":""},{"$f":"IFERROR(HLOOKUP(ACW$19,DEBUT!$BS$2:$CM$18,15,FALSE),\"\")","v":""},null,null,null,null,null,null,null,{"$f":"IFERROR(HLOOKUP(ADH$19,DEBUT!$BS$2:$CM$18,3,FALSE),\"\")","v":""},{"$f":"IFERROR(HLOOKUP(ADH$19,DEBUT!$BS$2:$CM$18,7,FALSE),\"\")","v":""},{"$f":"IFERROR(HLOOKUP(ADH$19,DEBUT!$BS$2:$CM$18,11,FALSE),\"\")","v":""},{"$f":"IFERROR(HLOOKUP(ADH$19,DEBUT!$BS$2:$CM$18,15,FALSE),\"\")","v":""},null,null,null,{"$f":"IFERROR(HLOOKUP(ADO$19,DEBUT!$BS$2:$CM$18,3,FALSE),\"\")","v":""},{"$f":"IFERROR(HLOOKUP(ADO$19,DEBUT!$BS$2:$CM$18,7,FALSE),\"\")","v":""},{"$f":"IFERROR(HLOOKUP(ADO$19,DEBUT!$BS$2:$CM$18,11,FALSE),\"\")","v":""},{"$f":"IFERROR(HLOOKUP(ADO$19,DEBUT!$BS$2:$CM$18,15,FALSE),\"\")","v":""},null,null,null,null,null,{"$f":"IFERROR(HLOOKUP(ADX$19,DEBUT!$BS$2:$CM$18,3,FALSE),\"\")","v":""},{"$f":"IFERROR(HLOOKUP(ADX$19,DEBUT!$BS$2:$CM$18,7,FALSE),\"\")","v":""},{"$f":"IFERROR(HLOOKUP(ADX$19,DEBUT!$BS$2:$CM$18,11,FALSE),\"\")","v":""},{"$f":"IFERROR(HLOOKUP(ADX$19,DEBUT!$BS$2:$CM$18,15,FALSE),\"\")","v":""},null,null,null,{"$f":"IFERROR(HLOOKUP(AEE$19,DEBUT!$BS$2:$CM$18,3,FALSE),\"\")","v":""},{"$f":"IFERROR(HLOOKUP(AEE$19,DEBUT!$BS$2:$CM$18,7,FALSE),\"\")","v":""},{"$f":"IFERROR(HLOOKUP(AEE$19,DEBUT!$BS$2:$CM$18,11,FALSE),\"\")","v":""},{"$f":"IFERROR(HLOOKUP(AEE$19,DEBUT!$BS$2:$CM$18,15,FALSE),\"\")","v":""}]
[null,null,null,null,null,{"$f":"IFERROR(HLOOKUP(F$19,DEBUT!$BS$2:$CM$18,4,FALSE),\"\")","v":""},{"$f":"IFERROR(HLOOKUP(F$19,DEBUT!$BS$2:$CM$18,8,FALSE),\"\")","v":""},{"$f":"IFERROR(HLOOKUP(F$19,DEBUT!$BS$2:$CM$18,12,FALSE),\"\")","v":""},{"$f":"IFERROR(HLOOKUP(F$19,DEBUT!$BS$2:$CM$18,16,FALSE),\"\")","v":""},null,null,null,{"$f":"IFERROR(HLOOKUP(M$19,DEBUT!$BS$2:$CM$18,4,FALSE),\"\")","v":""},{"$f":"IFERROR(HLOOKUP(M$19,DEBUT!$BS$2:$CM$18,8,FALSE),\"\")","v":""},{"$f":"IFERROR(HLOOKUP(M$19,DEBUT!$BS$2:$CM$18,12,FALSE),\"\")","v":""},{"$f":"IFERROR(HLOOKUP(M$19,DEBUT!$BS$2:$CM$18,16,FALSE),\"\")","v":""},null,null,null,null,null,{"$f":"IFERROR(HLOOKUP(V$19,DEBUT!$BS$2:$CM$18,4,FALSE),\"\")","v":""},{"$f":"IFERROR(HLOOKUP(V$19,DEBUT!$BS$2:$CM$18,8,FALSE),\"\")","v":""},{"$f":"IFERROR(HLOOKUP(V$19,DEBUT!$BS$2:$CM$18,12,FALSE),\"\")","v":""},{"$f":"IFERROR(HLOOKUP(V$19,DEBUT!$BS$2:$CM$18,16,FALSE),\"\")","v":""},null,null,null,{"$f":"IFERROR(HLOOKUP(AC$19,DEBUT!$BS$2:$CM$18,4,FALSE),\"\")","v":""},{"$f":"IFERROR(HLOOKUP(AC$19,DEBUT!$BS$2:$CM$18,8,FALSE),\"\")","v":""},{"$f":"IFERROR(HLOOKUP(AC$19,DEBUT!$BS$2:$CM$18,12,FALSE),\"\")","v":""},{"$f":"IFERROR(HLOOKUP(AC$19,DEBUT!$BS$2:$CM$18,16,FALSE),\"\")","v":""},null,null,null,null,null,null,null,{"$f":"IFERROR(HLOOKUP(AN$19,DEBUT!$BS$2:$CM$18,4,FALSE),\"\")","v":""},{"$f":"IFERROR(HLOOKUP(AN$19,DEBUT!$BS$2:$CM$18,8,FALSE),\"\")","v":""},{"$f":"IFERROR(HLOOKUP(AN$19,DEBUT!$BS$2:$CM$18,12,FALSE),\"\")","v":""},{"$f":"IFERROR(HLOOKUP(AN$19,DEBUT!$BS$2:$CM$18,16,FALSE),\"\")","v":""},null,null,null,{"$f":"IFERROR(HLOOKUP(AU$19,DEBUT!$BS$2:$CM$18,4,FALSE),\"\")","v":""},{"$f":"IFERROR(HLOOKUP(AU$19,DEBUT!$BS$2:$CM$18,8,FALSE),\"\")","v":""},{"$f":"IFERROR(HLOOKUP(AU$19,DEBUT!$BS$2:$CM$18,12,FALSE),\"\")","v":""},{"$f":"IFERROR(HLOOKUP(AU$19,DEBUT!$BS$2:$CM$18,16,FALSE),\"\")","v":""},null,null,null,null,null,{"$f":"IFERROR(HLOOKUP(BD$19,DEBUT!$BS$2:$CM$18,4,FALSE),\"\")","v":""},{"$f":"IFERROR(HLOOKUP(BD$19,DEBUT!$BS$2:$CM$18,8,FALSE),\"\")","v":""},{"$f":"IFERROR(HLOOKUP(BD$19,DEBUT!$BS$2:$CM$18,12,FALSE),\"\")","v":""},{"$f":"IFERROR(HLOOKUP(BD$19,DEBUT!$BS$2:$CM$18,16,FALSE),\"\")","v":""},null,null,null,{"$f":"IFERROR(HLOOKUP(BK$19,DEBUT!$BS$2:$CM$18,4,FALSE),\"\")","v":""},{"$f":"IFERROR(HLOOKUP(BK$19,DEBUT!$BS$2:$CM$18,8,FALSE),\"\")","v":""},{"$f":"IFERROR(HLOOKUP(BK$19,DEBUT!$BS$2:$CM$18,12,FALSE),\"\")","v":""},{"$f":"IFERROR(HLOOKUP(BK$19,DEBUT!$BS$2:$CM$18,16,FALSE),\"\")","v":""},null,null,null,null,null,null,null,{"$f":"IFERROR(HLOOKUP(BV$19,DEBUT!$BS$2:$CM$18,4,FALSE),\"\")","v":""},{"$f":"IFERROR(HLOOKUP(BV$19,DEBUT!$BS$2:$CM$18,8,FALSE),\"\")","v":""},{"$f":"IFERROR(HLOOKUP(BV$19,DEBUT!$BS$2:$CM$18,12,FALSE),\"\")","v":""},{"$f":"IFERROR(HLOOKUP(BV$19,DEBUT!$BS$2:$CM$18,16,FALSE),\"\")","v":""},null,null,null,{"$f":"IFERROR(HLOOKUP(CC$19,DEBUT!$BS$2:$CM$18,4,FALSE),\"\")","v":""},{"$f":"IFERROR(HLOOKUP(CC$19,DEBUT!$BS$2:$CM$18,8,FALSE),\"\")","v":""},{"$f":"IFERROR(HLOOKUP(CC$19,DEBUT!$BS$2:$CM$18,12,FALSE),\"\")","v":""},{"$f":"IFERROR(HLOOKUP(CC$19,DEBUT!$BS$2:$CM$18,16,FALSE),\"\")","v":""},null,null,null,null,null,{"$f":"IFERROR(HLOOKUP(CL$19,DEBUT!$BS$2:$CM$18,4,FALSE),\"\")","v":""},{"$f":"IFERROR(HLOOKUP(CL$19,DEBUT!$BS$2:$CM$18,8,FALSE),\"\")","v":""},{"$f":"IFERROR(HLOOKUP(CL$19,DEBUT!$BS$2:$CM$18,12,FALSE),\"\")","v":""},{"$f":"IFERROR(HLOOKUP(CL$19,DEBUT!$BS$2:$CM$18,16,FALSE),\"\")","v":""},null,null,null,{"$f":"IFERROR(HLOOKUP(CS$19,DEBUT!$BS$2:$CM$18,4,FALSE),\"\")","v":""},{"$f":"IFERROR(HLOOKUP(CS$19,DEBUT!$BS$2:$CM$18,8,FALSE),\"\")","v":""},{"$f":"IFERROR(HLOOKUP(CS$19,DEBUT!$BS$2:$CM$18,12,FALSE),\"\")","v":""},{"$f":"IFERROR(HLOOKUP(CS$19,DEBUT!$BS$2:$CM$18,16,FALSE),\"\")","v":""},null,null,null,null,null,null,null,{"$f":"IFERROR(HLOOKUP(DD$19,DEBUT!$BS$2:$CM$18,4,FALSE),\"\")","v":""},{"$f":"IFERROR(HLOOKUP(DD$19,DEBUT!$BS$2:$CM$18,8,FALSE),\"\")","v":""},{"$f":"IFERROR(HLOOKUP(DD$19,DEBUT!$BS$2:$CM$18,12,FALSE),\"\")","v":""},{"$f":"IFERROR(HLOOKUP(DD$19,DEBUT!$BS$2:$CM$18,16,FALSE),\"\")","v":""},null,null,null,{"$f":"IFERROR(HLOOKUP(DK$19,DEBUT!$BS$2:$CM$18,4,FALSE),\"\")","v":""},{"$f":"IFERROR(HLOOKUP(DK$19,DEBUT!$BS$2:$CM$18,8,FALSE),\"\")","v":""},{"$f":"IFERROR(HLOOKUP(DK$19,DEBUT!$BS$2:$CM$18,12,FALSE),\"\")","v":""},{"$f":"IFERROR(HLOOKUP(DK$19,DEBUT!$BS$2:$CM$18,16,FALSE),\"\")","v":""},null,null,null,null,null,{"$f":"IFERROR(HLOOKUP(DT$19,DEBUT!$BS$2:$CM$18,4,FALSE),\"\")","v":""},{"$f":"IFERROR(HLOOKUP(DT$19,DEBUT!$BS$2:$CM$18,8,FALSE),\"\")","v":""},{"$f":"IFERROR(HLOOKUP(DT$19,DEBUT!$BS$2:$CM$18,12,FALSE),\"\")","v":""},{"$f":"IFERROR(HLOOKUP(DT$19,DEBUT!$BS$2:$CM$18,16,FALSE),\"\")","v":""},null,null,null,{"$f":"IFERROR(HLOOKUP(EA$19,DEBUT!$BS$2:$CM$18,4,FALSE),\"\")","v":""},{"$f":"IFERROR(HLOOKUP(EA$19,DEBUT!$BS$2:$CM$18,8,FALSE),\"\")","v":""},{"$f":"IFERROR(HLOOKUP(EA$19,DEBUT!$BS$2:$CM$18,12,FALSE),\"\")","v":""},{"$f":"IFERROR(HLOOKUP(EA$19,DEBUT!$BS$2:$CM$18,16,FALSE),\"\")","v":""},null,null,null,null,null,null,null,{"$f":"IFERROR(HLOOKUP(EL$19,DEBUT!$BS$2:$CM$18,4,FALSE),\"\")","v":""},{"$f":"IFERROR(HLOOKUP(EL$19,DEBUT!$BS$2:$CM$18,8,FALSE),\"\")","v":""},{"$f":"IFERROR(HLOOKUP(EL$19,DEBUT!$BS$2:$CM$18,12,FALSE),\"\")","v":""},{"$f":"IFERROR(HLOOKUP(EL$19,DEBUT!$BS$2:$CM$18,16,FALSE),\"\")","v":""},null,null,null,{"$f":"IFERROR(HLOOKUP(ES$19,DEBUT!$BS$2:$CM$18,4,FALSE),\"\")","v":""},{"$f":"IFERROR(HLOOKUP(ES$19,DEBUT!$BS$2:$CM$18,8,FALSE),\"\")","v":""},{"$f":"IFERROR(HLOOKUP(ES$19,DEBUT!$BS$2:$CM$18,12,FALSE),\"\")","v":""},{"$f":"IFERROR(HLOOKUP(ES$19,DEBUT!$BS$2:$CM$18,16,FALSE),\"\")","v":""},null,null,null,null,null,{"$f":"IFERROR(HLOOKUP(FB$19,DEBUT!$BS$2:$CM$18,4,FALSE),\"\")","v":""},{"$f":"IFERROR(HLOOKUP(FB$19,DEBUT!$BS$2:$CM$18,8,FALSE),\"\")","v":""},{"$f":"IFERROR(HLOOKUP(FB$19,DEBUT!$BS$2:$CM$18,12,FALSE),\"\")","v":""},{"$f":"IFERROR(HLOOKUP(FB$19,DEBUT!$BS$2:$CM$18,16,FALSE),\"\")","v":""},null,null,null,{"$f":"IFERROR(HLOOKUP(FI$19,DEBUT!$BS$2:$CM$18,4,FALSE),\"\")","v":""},{"$f":"IFERROR(HLOOKUP(FI$19,DEBUT!$BS$2:$CM$18,8,FALSE),\"\")","v":""},{"$f":"IFERROR(HLOOKUP(FI$19,DEBUT!$BS$2:$CM$18,12,FALSE),\"\")","v":""},{"$f":"IFERROR(HLOOKUP(FI$19,DEBUT!$BS$2:$CM$18,16,FALSE),\"\")","v":""},null,null,null,null,null,null,null,{"$f":"IFERROR(HLOOKUP(FT$19,DEBUT!$BS$2:$CM$18,4,FALSE),\"\")","v":""},{"$f":"IFERROR(HLOOKUP(FT$19,DEBUT!$BS$2:$CM$18,8,FALSE),\"\")","v":""},{"$f":"IFERROR(HLOOKUP(FT$19,DEBUT!$BS$2:$CM$18,12,FALSE),\"\")","v":""},{"$f":"IFERROR(HLOOKUP(FT$19,DEBUT!$BS$2:$CM$18,16,FALSE),\"\")","v":""},null,null,null,{"$f":"IFERROR(HLOOKUP(GA$19,DEBUT!$BS$2:$CM$18,4,FALSE),\"\")","v":""},{"$f":"IFERROR(HLOOKUP(GA$19,DEBUT!$BS$2:$CM$18,8,FALSE),\"\")","v":""},{"$f":"IFERROR(HLOOKUP(GA$19,DEBUT!$BS$2:$CM$18,12,FALSE),\"\")","v":""},{"$f":"IFERROR(HLOOKUP(GA$19,DEBUT!$BS$2:$CM$18,16,FALSE),\"\")","v":""},null,null,null,null,null,{"$f":"IFERROR(HLOOKUP(GJ$19,DEBUT!$BS$2:$CM$18,4,FALSE),\"\")","v":""},{"$f":"IFERROR(HLOOKUP(GJ$19,DEBUT!$BS$2:$CM$18,8,FALSE),\"\")","v":""},{"$f":"IFERROR(HLOOKUP(GJ$19,DEBUT!$BS$2:$CM$18,12,FALSE),\"\")","v":""},{"$f":"IFERROR(HLOOKUP(GJ$19,DEBUT!$BS$2:$CM$18,16,FALSE),\"\")","v":""},null,null,null,{"$f":"IFERROR(HLOOKUP(GQ$19,DEBUT!$BS$2:$CM$18,4,FALSE),\"\")","v":""},{"$f":"IFERROR(HLOOKUP(GQ$19,DEBUT!$BS$2:$CM$18,8,FALSE),\"\")","v":""},{"$f":"IFERROR(HLOOKUP(GQ$19,DEBUT!$BS$2:$CM$18,12,FALSE),\"\")","v":""},{"$f":"IFERROR(HLOOKUP(GQ$19,DEBUT!$BS$2:$CM$18,16,FALSE),\"\")","v":""},null,null,null,null,null,null,null,{"$f":"IFERROR(HLOOKUP(HB$19,DEBUT!$BS$2:$CM$18,4,FALSE),\"\")","v":""},{"$f":"IFERROR(HLOOKUP(HB$19,DEBUT!$BS$2:$CM$18,8,FALSE),\"\")","v":""},{"$f":"IFERROR(HLOOKUP(HB$19,DEBUT!$BS$2:$CM$18,12,FALSE),\"\")","v":""},{"$f":"IFERROR(HLOOKUP(HB$19,DEBUT!$BS$2:$CM$18,16,FALSE),\"\")","v":""},null,null,null,{"$f":"IFERROR(HLOOKUP(HI$19,DEBUT!$BS$2:$CM$18,4,FALSE),\"\")","v":""},{"$f":"IFERROR(HLOOKUP(HI$19,DEBUT!$BS$2:$CM$18,8,FALSE),\"\")","v":""},{"$f":"IFERROR(HLOOKUP(HI$19,DEBUT!$BS$2:$CM$18,12,FALSE),\"\")","v":""},{"$f":"IFERROR(HLOOKUP(HI$19,DEBUT!$BS$2:$CM$18,16,FALSE),\"\")","v":""},null,null,null,null,null,{"$f":"IFERROR(HLOOKUP(HR$19,DEBUT!$BS$2:$CM$18,4,FALSE),\"\")","v":""},{"$f":"IFERROR(HLOOKUP(HR$19,DEBUT!$BS$2:$CM$18,8,FALSE),\"\")","v":""},{"$f":"IFERROR(HLOOKUP(HR$19,DEBUT!$BS$2:$CM$18,12,FALSE),\"\")","v":""},{"$f":"IFERROR(HLOOKUP(HR$19,DEBUT!$BS$2:$CM$18,16,FALSE),\"\")","v":""},null,null,null,{"$f":"IFERROR(HLOOKUP(HY$19,DEBUT!$BS$2:$CM$18,4,FALSE),\"\")","v":""},{"$f":"IFERROR(HLOOKUP(HY$19,DEBUT!$BS$2:$CM$18,8,FALSE),\"\")","v":""},{"$f":"IFERROR(HLOOKUP(HY$19,DEBUT!$BS$2:$CM$18,12,FALSE),\"\")","v":""},{"$f":"IFERROR(HLOOKUP(HY$19,DEBUT!$BS$2:$CM$18,16,FALSE),\"\")","v":""},null,null,null,null,null,null,null,{"$f":"IFERROR(HLOOKUP(IJ$19,DEBUT!$BS$2:$CM$18,4,FALSE),\"\")","v":""},{"$f":"IFERROR(HLOOKUP(IJ$19,DEBUT!$BS$2:$CM$18,8,FALSE),\"\")","v":""},{"$f":"IFERROR(HLOOKUP(IJ$19,DEBUT!$BS$2:$CM$18,12,FALSE),\"\")","v":""},{"$f":"IFERROR(HLOOKUP(IJ$19,DEBUT!$BS$2:$CM$18,16,FALSE),\"\")","v":""},null,null,null,{"$f":"IFERROR(HLOOKUP(IQ$19,DEBUT!$BS$2:$CM$18,4,FALSE),\"\")","v":""},{"$f":"IFERROR(HLOOKUP(IQ$19,DEBUT!$BS$2:$CM$18,8,FALSE),\"\")","v":""},{"$f":"IFERROR(HLOOKUP(IQ$19,DEBUT!$BS$2:$CM$18,12,FALSE),\"\")","v":""},{"$f":"IFERROR(HLOOKUP(IQ$19,DEBUT!$BS$2:$CM$18,16,FALSE),\"\")","v":""},null,null,null,null,null,{"$f":"IFERROR(HLOOKUP(IZ$19,DEBUT!$BS$2:$CM$18,4,FALSE),\"\")","v":""},{"$f":"IFERROR(HLOOKUP(IZ$19,DEBUT!$BS$2:$CM$18,8,FALSE),\"\")","v":""},{"$f":"IFERROR(HLOOKUP(IZ$19,DEBUT!$BS$2:$CM$18,12,FALSE),\"\")","v":""},{"$f":"IFERROR(HLOOKUP(IZ$19,DEBUT!$BS$2:$CM$18,16,FALSE),\"\")","v":""},null,null,null,{"$f":"IFERROR(HLOOKUP(JG$19,DEBUT!$BS$2:$CM$18,4,FALSE),\"\")","v":""},{"$f":"IFERROR(HLOOKUP(JG$19,DEBUT!$BS$2:$CM$18,8,FALSE),\"\")","v":""},{"$f":"IFERROR(HLOOKUP(JG$19,DEBUT!$BS$2:$CM$18,12,FALSE),\"\")","v":""},{"$f":"IFERROR(HLOOKUP(JG$19,DEBUT!$BS$2:$CM$18,16,FALSE),\"\")","v":""},null,null,null,null,null,null,null,{"$f":"IFERROR(HLOOKUP(JR$19,DEBUT!$BS$2:$CM$18,4,FALSE),\"\")","v":""},{"$f":"IFERROR(HLOOKUP(JR$19,DEBUT!$BS$2:$CM$18,8,FALSE),\"\")","v":""},{"$f":"IFERROR(HLOOKUP(JR$19,DEBUT!$BS$2:$CM$18,12,FALSE),\"\")","v":""},{"$f":"IFERROR(HLOOKUP(JR$19,DEBUT!$BS$2:$CM$18,16,FALSE),\"\")","v":""},null,null,null,{"$f":"IFERROR(HLOOKUP(JY$19,DEBUT!$BS$2:$CM$18,4,FALSE),\"\")","v":""},{"$f":"IFERROR(HLOOKUP(JY$19,DEBUT!$BS$2:$CM$18,8,FALSE),\"\")","v":""},{"$f":"IFERROR(HLOOKUP(JY$19,DEBUT!$BS$2:$CM$18,12,FALSE),\"\")","v":""},{"$f":"IFERROR(HLOOKUP(JY$19,DEBUT!$BS$2:$CM$18,16,FALSE),\"\")","v":""},null,null,null,null,null,{"$f":"IFERROR(HLOOKUP(KH$19,DEBUT!$BS$2:$CM$18,4,FALSE),\"\")","v":""},{"$f":"IFERROR(HLOOKUP(KH$19,DEBUT!$BS$2:$CM$18,8,FALSE),\"\")","v":""},{"$f":"IFERROR(HLOOKUP(KH$19,DEBUT!$BS$2:$CM$18,12,FALSE),\"\")","v":""},{"$f":"IFERROR(HLOOKUP(KH$19,DEBUT!$BS$2:$CM$18,16,FALSE),\"\")","v":""},null,null,null,{"$f":"IFERROR(HLOOKUP(KO$19,DEBUT!$BS$2:$CM$18,4,FALSE),\"\")","v":""},{"$f":"IFERROR(HLOOKUP(KO$19,DEBUT!$BS$2:$CM$18,8,FALSE),\"\")","v":""},{"$f":"IFERROR(HLOOKUP(KO$19,DEBUT!$BS$2:$CM$18,12,FALSE),\"\")","v":""},{"$f":"IFERROR(HLOOKUP(KO$19,DEBUT!$BS$2:$CM$18,16,FALSE),\"\")","v":""},null,null,null,null,null,null,null,{"$f":"IFERROR(HLOOKUP(KZ$19,DEBUT!$BS$2:$CM$18,4,FALSE),\"\")","v":""},{"$f":"IFERROR(HLOOKUP(KZ$19,DEBUT!$BS$2:$CM$18,8,FALSE),\"\")","v":""},{"$f":"IFERROR(HLOOKUP(KZ$19,DEBUT!$BS$2:$CM$18,12,FALSE),\"\")","v":""},{"$f":"IFERROR(HLOOKUP(KZ$19,DEBUT!$BS$2:$CM$18,16,FALSE),\"\")","v":""},null,null,null,{"$f":"IFERROR(HLOOKUP(LG$19,DEBUT!$BS$2:$CM$18,4,FALSE),\"\")","v":""},{"$f":"IFERROR(HLOOKUP(LG$19,DEBUT!$BS$2:$CM$18,8,FALSE),\"\")","v":""},{"$f":"IFERROR(HLOOKUP(LG$19,DEBUT!$BS$2:$CM$18,12,FALSE),\"\")","v":""},{"$f":"IFERROR(HLOOKUP(LG$19,DEBUT!$BS$2:$CM$18,16,FALSE),\"\")","v":""},null,null,null,null,null,{"$f":"IFERROR(HLOOKUP(LP$19,DEBUT!$BS$2:$CM$18,4,FALSE),\"\")","v":""},{"$f":"IFERROR(HLOOKUP(LP$19,DEBUT!$BS$2:$CM$18,8,FALSE),\"\")","v":""},{"$f":"IFERROR(HLOOKUP(LP$19,DEBUT!$BS$2:$CM$18,12,FALSE),\"\")","v":""},{"$f":"IFERROR(HLOOKUP(LP$19,DEBUT!$BS$2:$CM$18,16,FALSE),\"\")","v":""},null,null,null,{"$f":"IFERROR(HLOOKUP(LW$19,DEBUT!$BS$2:$CM$18,4,FALSE),\"\")","v":""},{"$f":"IFERROR(HLOOKUP(LW$19,DEBUT!$BS$2:$CM$18,8,FALSE),\"\")","v":""},{"$f":"IFERROR(HLOOKUP(LW$19,DEBUT!$BS$2:$CM$18,12,FALSE),\"\")","v":""},{"$f":"IFERROR(HLOOKUP(LW$19,DEBUT!$BS$2:$CM$18,16,FALSE),\"\")","v":""},null,null,null,null,null,null,null,{"$f":"IFERROR(HLOOKUP(MH$19,DEBUT!$BS$2:$CM$18,4,FALSE),\"\")","v":""},{"$f":"IFERROR(HLOOKUP(MH$19,DEBUT!$BS$2:$CM$18,8,FALSE),\"\")","v":""},{"$f":"IFERROR(HLOOKUP(MH$19,DEBUT!$BS$2:$CM$18,12,FALSE),\"\")","v":""},{"$f":"IFERROR(HLOOKUP(MH$19,DEBUT!$BS$2:$CM$18,16,FALSE),\"\")","v":""},null,null,null,{"$f":"IFERROR(HLOOKUP(MO$19,DEBUT!$BS$2:$CM$18,4,FALSE),\"\")","v":""},{"$f":"IFERROR(HLOOKUP(MO$19,DEBUT!$BS$2:$CM$18,8,FALSE),\"\")","v":""},{"$f":"IFERROR(HLOOKUP(MO$19,DEBUT!$BS$2:$CM$18,12,FALSE),\"\")","v":""},{"$f":"IFERROR(HLOOKUP(MO$19,DEBUT!$BS$2:$CM$18,16,FALSE),\"\")","v":""},null,null,null,null,null,{"$f":"IFERROR(HLOOKUP(MX$19,DEBUT!$BS$2:$CM$18,4,FALSE),\"\")","v":""},{"$f":"IFERROR(HLOOKUP(MX$19,DEBUT!$BS$2:$CM$18,8,FALSE),\"\")","v":""},{"$f":"IFERROR(HLOOKUP(MX$19,DEBUT!$BS$2:$CM$18,12,FALSE),\"\")","v":""},{"$f":"IFERROR(HLOOKUP(MX$19,DEBUT!$BS$2:$CM$18,16,FALSE),\"\")","v":""},null,null,null,{"$f":"IFERROR(HLOOKUP(NE$19,DEBUT!$BS$2:$CM$18,4,FALSE),\"\")","v":""},{"$f":"IFERROR(HLOOKUP(NE$19,DEBUT!$BS$2:$CM$18,8,FALSE),\"\")","v":""},{"$f":"IFERROR(HLOOKUP(NE$19,DEBUT!$BS$2:$CM$18,12,FALSE),\"\")","v":""},{"$f":"IFERROR(HLOOKUP(NE$19,DEBUT!$BS$2:$CM$18,16,FALSE),\"\")","v":""},null,null,null,null,null,null,null,{"$f":"IFERROR(HLOOKUP(NP$19,DEBUT!$BS$2:$CM$18,4,FALSE),\"\")","v":""},{"$f":"IFERROR(HLOOKUP(NP$19,DEBUT!$BS$2:$CM$18,8,FALSE),\"\")","v":""},{"$f":"IFERROR(HLOOKUP(NP$19,DEBUT!$BS$2:$CM$18,12,FALSE),\"\")","v":""},{"$f":"IFERROR(HLOOKUP(NP$19,DEBUT!$BS$2:$CM$18,16,FALSE),\"\")","v":""},null,null,null,{"$f":"IFERROR(HLOOKUP(NW$19,DEBUT!$BS$2:$CM$18,4,FALSE),\"\")","v":""},{"$f":"IFERROR(HLOOKUP(NW$19,DEBUT!$BS$2:$CM$18,8,FALSE),\"\")","v":""},{"$f":"IFERROR(HLOOKUP(NW$19,DEBUT!$BS$2:$CM$18,12,FALSE),\"\")","v":""},{"$f":"IFERROR(HLOOKUP(NW$19,DEBUT!$BS$2:$CM$18,16,FALSE),\"\")","v":""},null,null,null,null,null,{"$f":"IFERROR(HLOOKUP(OF$19,DEBUT!$BS$2:$CM$18,4,FALSE),\"\")","v":""},{"$f":"IFERROR(HLOOKUP(OF$19,DEBUT!$BS$2:$CM$18,8,FALSE),\"\")","v":""},{"$f":"IFERROR(HLOOKUP(OF$19,DEBUT!$BS$2:$CM$18,12,FALSE),\"\")","v":""},{"$f":"IFERROR(HLOOKUP(OF$19,DEBUT!$BS$2:$CM$18,16,FALSE),\"\")","v":""},null,null,null,{"$f":"IFERROR(HLOOKUP(OM$19,DEBUT!$BS$2:$CM$18,4,FALSE),\"\")","v":""},{"$f":"IFERROR(HLOOKUP(OM$19,DEBUT!$BS$2:$CM$18,8,FALSE),\"\")","v":""},{"$f":"IFERROR(HLOOKUP(OM$19,DEBUT!$BS$2:$CM$18,12,FALSE),\"\")","v":""},{"$f":"IFERROR(HLOOKUP(OM$19,DEBUT!$BS$2:$CM$18,16,FALSE),\"\")","v":""},null,null,null,null,null,null,null,{"$f":"IFERROR(HLOOKUP(OX$19,DEBUT!$BS$2:$CM$18,4,FALSE),\"\")","v":""},{"$f":"IFERROR(HLOOKUP(OX$19,DEBUT!$BS$2:$CM$18,8,FALSE),\"\")","v":""},{"$f":"IFERROR(HLOOKUP(OX$19,DEBUT!$BS$2:$CM$18,12,FALSE),\"\")","v":""},{"$f":"IFERROR(HLOOKUP(OX$19,DEBUT!$BS$2:$CM$18,16,FALSE),\"\")","v":""},null,null,null,{"$f":"IFERROR(HLOOKUP(PE$19,DEBUT!$BS$2:$CM$18,4,FALSE),\"\")","v":""},{"$f":"IFERROR(HLOOKUP(PE$19,DEBUT!$BS$2:$CM$18,8,FALSE),\"\")","v":""},{"$f":"IFERROR(HLOOKUP(PE$19,DEBUT!$BS$2:$CM$18,12,FALSE),\"\")","v":""},{"$f":"IFERROR(HLOOKUP(PE$19,DEBUT!$BS$2:$CM$18,16,FALSE),\"\")","v":""},null,null,null,null,null,{"$f":"IFERROR(HLOOKUP(PN$19,DEBUT!$BS$2:$CM$18,4,FALSE),\"\")","v":""},{"$f":"IFERROR(HLOOKUP(PN$19,DEBUT!$BS$2:$CM$18,8,FALSE),\"\")","v":""},{"$f":"IFERROR(HLOOKUP(PN$19,DEBUT!$BS$2:$CM$18,12,FALSE),\"\")","v":""},{"$f":"IFERROR(HLOOKUP(PN$19,DEBUT!$BS$2:$CM$18,16,FALSE),\"\")","v":""},null,null,null,{"$f":"IFERROR(HLOOKUP(PU$19,DEBUT!$BS$2:$CM$18,4,FALSE),\"\")","v":""},{"$f":"IFERROR(HLOOKUP(PU$19,DEBUT!$BS$2:$CM$18,8,FALSE),\"\")","v":""},{"$f":"IFERROR(HLOOKUP(PU$19,DEBUT!$BS$2:$CM$18,12,FALSE),\"\")","v":""},{"$f":"IFERROR(HLOOKUP(PU$19,DEBUT!$BS$2:$CM$18,16,FALSE),\"\")","v":""},null,null,null,null,null,null,null,{"$f":"IFERROR(HLOOKUP(QF$19,DEBUT!$BS$2:$CM$18,4,FALSE),\"\")","v":""},{"$f":"IFERROR(HLOOKUP(QF$19,DEBUT!$BS$2:$CM$18,8,FALSE),\"\")","v":""},{"$f":"IFERROR(HLOOKUP(QF$19,DEBUT!$BS$2:$CM$18,12,FALSE),\"\")","v":""},{"$f":"IFERROR(HLOOKUP(QF$19,DEBUT!$BS$2:$CM$18,16,FALSE),\"\")","v":""},null,null,null,{"$f":"IFERROR(HLOOKUP(QM$19,DEBUT!$BS$2:$CM$18,4,FALSE),\"\")","v":""},{"$f":"IFERROR(HLOOKUP(QM$19,DEBUT!$BS$2:$CM$18,8,FALSE),\"\")","v":""},{"$f":"IFERROR(HLOOKUP(QM$19,DEBUT!$BS$2:$CM$18,12,FALSE),\"\")","v":""},{"$f":"IFERROR(HLOOKUP(QM$19,DEBUT!$BS$2:$CM$18,16,FALSE),\"\")","v":""},null,null,null,null,null,{"$f":"IFERROR(HLOOKUP(QV$19,DEBUT!$BS$2:$CM$18,4,FALSE),\"\")","v":""},{"$f":"IFERROR(HLOOKUP(QV$19,DEBUT!$BS$2:$CM$18,8,FALSE),\"\")","v":""},{"$f":"IFERROR(HLOOKUP(QV$19,DEBUT!$BS$2:$CM$18,12,FALSE),\"\")","v":""},{"$f":"IFERROR(HLOOKUP(QV$19,DEBUT!$BS$2:$CM$18,16,FALSE),\"\")","v":""},null,null,null,{"$f":"IFERROR(HLOOKUP(RC$19,DEBUT!$BS$2:$CM$18,4,FALSE),\"\")","v":""},{"$f":"IFERROR(HLOOKUP(RC$19,DEBUT!$BS$2:$CM$18,8,FALSE),\"\")","v":""},{"$f":"IFERROR(HLOOKUP(RC$19,DEBUT!$BS$2:$CM$18,12,FALSE),\"\")","v":""},{"$f":"IFERROR(HLOOKUP(RC$19,DEBUT!$BS$2:$CM$18,16,FALSE),\"\")","v":""},null,null,null,null,null,null,null,{"$f":"IFERROR(HLOOKUP(RN$19,DEBUT!$BS$2:$CM$18,4,FALSE),\"\")","v":""},{"$f":"IFERROR(HLOOKUP(RN$19,DEBUT!$BS$2:$CM$18,8,FALSE),\"\")","v":""},{"$f":"IFERROR(HLOOKUP(RN$19,DEBUT!$BS$2:$CM$18,12,FALSE),\"\")","v":""},{"$f":"IFERROR(HLOOKUP(RN$19,DEBUT!$BS$2:$CM$18,16,FALSE),\"\")","v":""},null,null,null,{"$f":"IFERROR(HLOOKUP(RU$19,DEBUT!$BS$2:$CM$18,4,FALSE),\"\")","v":""},{"$f":"IFERROR(HLOOKUP(RU$19,DEBUT!$BS$2:$CM$18,8,FALSE),\"\")","v":""},{"$f":"IFERROR(HLOOKUP(RU$19,DEBUT!$BS$2:$CM$18,12,FALSE),\"\")","v":""},{"$f":"IFERROR(HLOOKUP(RU$19,DEBUT!$BS$2:$CM$18,16,FALSE),\"\")","v":""},null,null,null,null,null,{"$f":"IFERROR(HLOOKUP(SD$19,DEBUT!$BS$2:$CM$18,4,FALSE),\"\")","v":""},{"$f":"IFERROR(HLOOKUP(SD$19,DEBUT!$BS$2:$CM$18,8,FALSE),\"\")","v":""},{"$f":"IFERROR(HLOOKUP(SD$19,DEBUT!$BS$2:$CM$18,12,FALSE),\"\")","v":""},{"$f":"IFERROR(HLOOKUP(SD$19,DEBUT!$BS$2:$CM$18,16,FALSE),\"\")","v":""},null,null,null,{"$f":"IFERROR(HLOOKUP(SK$19,DEBUT!$BS$2:$CM$18,4,FALSE),\"\")","v":""},{"$f":"IFERROR(HLOOKUP(SK$19,DEBUT!$BS$2:$CM$18,8,FALSE),\"\")","v":""},{"$f":"IFERROR(HLOOKUP(SK$19,DEBUT!$BS$2:$CM$18,12,FALSE),\"\")","v":""},{"$f":"IFERROR(HLOOKUP(SK$19,DEBUT!$BS$2:$CM$18,16,FALSE),\"\")","v":""},null,null,null,null,null,null,null,{"$f":"IFERROR(HLOOKUP(SV$19,DEBUT!$BS$2:$CM$18,4,FALSE),\"\")","v":""},{"$f":"IFERROR(HLOOKUP(SV$19,DEBUT!$BS$2:$CM$18,8,FALSE),\"\")","v":""},{"$f":"IFERROR(HLOOKUP(SV$19,DEBUT!$BS$2:$CM$18,12,FALSE),\"\")","v":""},{"$f":"IFERROR(HLOOKUP(SV$19,DEBUT!$BS$2:$CM$18,16,FALSE),\"\")","v":""},null,null,null,{"$f":"IFERROR(HLOOKUP(TC$19,DEBUT!$BS$2:$CM$18,4,FALSE),\"\")","v":""},{"$f":"IFERROR(HLOOKUP(TC$19,DEBUT!$BS$2:$CM$18,8,FALSE),\"\")","v":""},{"$f":"IFERROR(HLOOKUP(TC$19,DEBUT!$BS$2:$CM$18,12,FALSE),\"\")","v":""},{"$f":"IFERROR(HLOOKUP(TC$19,DEBUT!$BS$2:$CM$18,16,FALSE),\"\")","v":""},null,null,null,null,null,{"$f":"IFERROR(HLOOKUP(TL$19,DEBUT!$BS$2:$CM$18,4,FALSE),\"\")","v":""},{"$f":"IFERROR(HLOOKUP(TL$19,DEBUT!$BS$2:$CM$18,8,FALSE),\"\")","v":""},{"$f":"IFERROR(HLOOKUP(TL$19,DEBUT!$BS$2:$CM$18,12,FALSE),\"\")","v":""},{"$f":"IFERROR(HLOOKUP(TL$19,DEBUT!$BS$2:$CM$18,16,FALSE),\"\")","v":""},null,null,null,{"$f":"IFERROR(HLOOKUP(TS$19,DEBUT!$BS$2:$CM$18,4,FALSE),\"\")","v":""},{"$f":"IFERROR(HLOOKUP(TS$19,DEBUT!$BS$2:$CM$18,8,FALSE),\"\")","v":""},{"$f":"IFERROR(HLOOKUP(TS$19,DEBUT!$BS$2:$CM$18,12,FALSE),\"\")","v":""},{"$f":"IFERROR(HLOOKUP(TS$19,DEBUT!$BS$2:$CM$18,16,FALSE),\"\")","v":""},null,null,null,null,null,null,null,{"$f":"IFERROR(HLOOKUP(UD$19,DEBUT!$BS$2:$CM$18,4,FALSE),\"\")","v":""},{"$f":"IFERROR(HLOOKUP(UD$19,DEBUT!$BS$2:$CM$18,8,FALSE),\"\")","v":""},{"$f":"IFERROR(HLOOKUP(UD$19,DEBUT!$BS$2:$CM$18,12,FALSE),\"\")","v":""},{"$f":"IFERROR(HLOOKUP(UD$19,DEBUT!$BS$2:$CM$18,16,FALSE),\"\")","v":""},null,null,null,{"$f":"IFERROR(HLOOKUP(UK$19,DEBUT!$BS$2:$CM$18,4,FALSE),\"\")","v":""},{"$f":"IFERROR(HLOOKUP(UK$19,DEBUT!$BS$2:$CM$18,8,FALSE),\"\")","v":""},{"$f":"IFERROR(HLOOKUP(UK$19,DEBUT!$BS$2:$CM$18,12,FALSE),\"\")","v":""},{"$f":"IFERROR(HLOOKUP(UK$19,DEBUT!$BS$2:$CM$18,16,FALSE),\"\")","v":""},null,null,null,null,null,{"$f":"IFERROR(HLOOKUP(UT$19,DEBUT!$BS$2:$CM$18,4,FALSE),\"\")","v":""},{"$f":"IFERROR(HLOOKUP(UT$19,DEBUT!$BS$2:$CM$18,8,FALSE),\"\")","v":""},{"$f":"IFERROR(HLOOKUP(UT$19,DEBUT!$BS$2:$CM$18,12,FALSE),\"\")","v":""},{"$f":"IFERROR(HLOOKUP(UT$19,DEBUT!$BS$2:$CM$18,16,FALSE),\"\")","v":""},null,null,null,{"$f":"IFERROR(HLOOKUP(VA$19,DEBUT!$BS$2:$CM$18,4,FALSE),\"\")","v":""},{"$f":"IFERROR(HLOOKUP(VA$19,DEBUT!$BS$2:$CM$18,8,FALSE),\"\")","v":""},{"$f":"IFERROR(HLOOKUP(VA$19,DEBUT!$BS$2:$CM$18,12,FALSE),\"\")","v":""},{"$f":"IFERROR(HLOOKUP(VA$19,DEBUT!$BS$2:$CM$18,16,FALSE),\"\")","v":""},null,null,null,null,null,null,null,{"$f":"IFERROR(HLOOKUP(VL$19,DEBUT!$BS$2:$CM$18,4,FALSE),\"\")","v":""},{"$f":"IFERROR(HLOOKUP(VL$19,DEBUT!$BS$2:$CM$18,8,FALSE),\"\")","v":""},{"$f":"IFERROR(HLOOKUP(VL$19,DEBUT!$BS$2:$CM$18,12,FALSE),\"\")","v":""},{"$f":"IFERROR(HLOOKUP(VL$19,DEBUT!$BS$2:$CM$18,16,FALSE),\"\")","v":""},null,null,null,{"$f":"IFERROR(HLOOKUP(VS$19,DEBUT!$BS$2:$CM$18,4,FALSE),\"\")","v":""},{"$f":"IFERROR(HLOOKUP(VS$19,DEBUT!$BS$2:$CM$18,8,FALSE),\"\")","v":""},{"$f":"IFERROR(HLOOKUP(VS$19,DEBUT!$BS$2:$CM$18,12,FALSE),\"\")","v":""},{"$f":"IFERROR(HLOOKUP(VS$19,DEBUT!$BS$2:$CM$18,16,FALSE),\"\")","v":""},null,null,null,null,null,{"$f":"IFERROR(HLOOKUP(WB$19,DEBUT!$BS$2:$CM$18,4,FALSE),\"\")","v":""},{"$f":"IFERROR(HLOOKUP(WB$19,DEBUT!$BS$2:$CM$18,8,FALSE),\"\")","v":""},{"$f":"IFERROR(HLOOKUP(WB$19,DEBUT!$BS$2:$CM$18,12,FALSE),\"\")","v":""},{"$f":"IFERROR(HLOOKUP(WB$19,DEBUT!$BS$2:$CM$18,16,FALSE),\"\")","v":""},null,null,null,{"$f":"IFERROR(HLOOKUP(WI$19,DEBUT!$BS$2:$CM$18,4,FALSE),\"\")","v":""},{"$f":"IFERROR(HLOOKUP(WI$19,DEBUT!$BS$2:$CM$18,8,FALSE),\"\")","v":""},{"$f":"IFERROR(HLOOKUP(WI$19,DEBUT!$BS$2:$CM$18,12,FALSE),\"\")","v":""},{"$f":"IFERROR(HLOOKUP(WI$19,DEBUT!$BS$2:$CM$18,16,FALSE),\"\")","v":""},null,null,null,null,null,null,null,{"$f":"IFERROR(HLOOKUP(WT$19,DEBUT!$BS$2:$CM$18,4,FALSE),\"\")","v":""},{"$f":"IFERROR(HLOOKUP(WT$19,DEBUT!$BS$2:$CM$18,8,FALSE),\"\")","v":""},{"$f":"IFERROR(HLOOKUP(WT$19,DEBUT!$BS$2:$CM$18,12,FALSE),\"\")","v":""},{"$f":"IFERROR(HLOOKUP(WT$19,DEBUT!$BS$2:$CM$18,16,FALSE),\"\")","v":""},null,null,null,{"$f":"IFERROR(HLOOKUP(XA$19,DEBUT!$BS$2:$CM$18,4,FALSE),\"\")","v":""},{"$f":"IFERROR(HLOOKUP(XA$19,DEBUT!$BS$2:$CM$18,8,FALSE),\"\")","v":""},{"$f":"IFERROR(HLOOKUP(XA$19,DEBUT!$BS$2:$CM$18,12,FALSE),\"\")","v":""},{"$f":"IFERROR(HLOOKUP(XA$19,DEBUT!$BS$2:$CM$18,16,FALSE),\"\")","v":""},null,null,null,null,null,{"$f":"IFERROR(HLOOKUP(XJ$19,DEBUT!$BS$2:$CM$18,4,FALSE),\"\")","v":""},{"$f":"IFERROR(HLOOKUP(XJ$19,DEBUT!$BS$2:$CM$18,8,FALSE),\"\")","v":""},{"$f":"IFERROR(HLOOKUP(XJ$19,DEBUT!$BS$2:$CM$18,12,FALSE),\"\")","v":""},{"$f":"IFERROR(HLOOKUP(XJ$19,DEBUT!$BS$2:$CM$18,16,FALSE),\"\")","v":""},null,null,null,{"$f":"IFERROR(HLOOKUP(XQ$19,DEBUT!$BS$2:$CM$18,4,FALSE),\"\")","v":""},{"$f":"IFERROR(HLOOKUP(XQ$19,DEBUT!$BS$2:$CM$18,8,FALSE),\"\")","v":""},{"$f":"IFERROR(HLOOKUP(XQ$19,DEBUT!$BS$2:$CM$18,12,FALSE),\"\")","v":""},{"$f":"IFERROR(HLOOKUP(XQ$19,DEBUT!$BS$2:$CM$18,16,FALSE),\"\")","v":""},null,null,null,null,null,null,null,{"$f":"IFERROR(HLOOKUP(YB$19,DEBUT!$BS$2:$CM$18,4,FALSE),\"\")","v":""},{"$f":"IFERROR(HLOOKUP(YB$19,DEBUT!$BS$2:$CM$18,8,FALSE),\"\")","v":""},{"$f":"IFERROR(HLOOKUP(YB$19,DEBUT!$BS$2:$CM$18,12,FALSE),\"\")","v":""},{"$f":"IFERROR(HLOOKUP(YB$19,DEBUT!$BS$2:$CM$18,16,FALSE),\"\")","v":""},null,null,null,{"$f":"IFERROR(HLOOKUP(YI$19,DEBUT!$BS$2:$CM$18,4,FALSE),\"\")","v":""},{"$f":"IFERROR(HLOOKUP(YI$19,DEBUT!$BS$2:$CM$18,8,FALSE),\"\")","v":""},{"$f":"IFERROR(HLOOKUP(YI$19,DEBUT!$BS$2:$CM$18,12,FALSE),\"\")","v":""},{"$f":"IFERROR(HLOOKUP(YI$19,DEBUT!$BS$2:$CM$18,16,FALSE),\"\")","v":""},null,null,null,null,null,{"$f":"IFERROR(HLOOKUP(YR$19,DEBUT!$BS$2:$CM$18,4,FALSE),\"\")","v":""},{"$f":"IFERROR(HLOOKUP(YR$19,DEBUT!$BS$2:$CM$18,8,FALSE),\"\")","v":""},{"$f":"IFERROR(HLOOKUP(YR$19,DEBUT!$BS$2:$CM$18,12,FALSE),\"\")","v":""},{"$f":"IFERROR(HLOOKUP(YR$19,DEBUT!$BS$2:$CM$18,16,FALSE),\"\")","v":""},null,null,null,{"$f":"IFERROR(HLOOKUP(YY$19,DEBUT!$BS$2:$CM$18,4,FALSE),\"\")","v":""},{"$f":"IFERROR(HLOOKUP(YY$19,DEBUT!$BS$2:$CM$18,8,FALSE),\"\")","v":""},{"$f":"IFERROR(HLOOKUP(YY$19,DEBUT!$BS$2:$CM$18,12,FALSE),\"\")","v":""},{"$f":"IFERROR(HLOOKUP(YY$19,DEBUT!$BS$2:$CM$18,16,FALSE),\"\")","v":""},null,null,null,null,null,null,null,{"$f":"IFERROR(HLOOKUP(ZJ$19,DEBUT!$BS$2:$CM$18,4,FALSE),\"\")","v":""},{"$f":"IFERROR(HLOOKUP(ZJ$19,DEBUT!$BS$2:$CM$18,8,FALSE),\"\")","v":""},{"$f":"IFERROR(HLOOKUP(ZJ$19,DEBUT!$BS$2:$CM$18,12,FALSE),\"\")","v":""},{"$f":"IFERROR(HLOOKUP(ZJ$19,DEBUT!$BS$2:$CM$18,16,FALSE),\"\")","v":""},null,null,null,{"$f":"IFERROR(HLOOKUP(ZQ$19,DEBUT!$BS$2:$CM$18,4,FALSE),\"\")","v":""},{"$f":"IFERROR(HLOOKUP(ZQ$19,DEBUT!$BS$2:$CM$18,8,FALSE),\"\")","v":""},{"$f":"IFERROR(HLOOKUP(ZQ$19,DEBUT!$BS$2:$CM$18,12,FALSE),\"\")","v":""},{"$f":"IFERROR(HLOOKUP(ZQ$19,DEBUT!$BS$2:$CM$18,16,FALSE),\"\")","v":""},null,null,null,null,null,{"$f":"IFERROR(HLOOKUP(ZZ$19,DEBUT!$BS$2:$CM$18,4,FALSE),\"\")","v":""},{"$f":"IFERROR(HLOOKUP(ZZ$19,DEBUT!$BS$2:$CM$18,8,FALSE),\"\")","v":""},{"$f":"IFERROR(HLOOKUP(ZZ$19,DEBUT!$BS$2:$CM$18,12,FALSE),\"\")","v":""},{"$f":"IFERROR(HLOOKUP(ZZ$19,DEBUT!$BS$2:$CM$18,16,FALSE),\"\")","v":""},null,null,null,{"$f":"IFERROR(HLOOKUP(AAG$19,DEBUT!$BS$2:$CM$18,4,FALSE),\"\")","v":""},{"$f":"IFERROR(HLOOKUP(AAG$19,DEBUT!$BS$2:$CM$18,8,FALSE),\"\")","v":""},{"$f":"IFERROR(HLOOKUP(AAG$19,DEBUT!$BS$2:$CM$18,12,FALSE),\"\")","v":""},{"$f":"IFERROR(HLOOKUP(AAG$19,DEBUT!$BS$2:$CM$18,16,FALSE),\"\")","v":""},null,null,null,null,null,null,null,{"$f":"IFERROR(HLOOKUP(AAR$19,DEBUT!$BS$2:$CM$18,4,FALSE),\"\")","v":""},{"$f":"IFERROR(HLOOKUP(AAR$19,DEBUT!$BS$2:$CM$18,8,FALSE),\"\")","v":""},{"$f":"IFERROR(HLOOKUP(AAR$19,DEBUT!$BS$2:$CM$18,12,FALSE),\"\")","v":""},{"$f":"IFERROR(HLOOKUP(AAR$19,DEBUT!$BS$2:$CM$18,16,FALSE),\"\")","v":""},null,null,null,{"$f":"IFERROR(HLOOKUP(AAY$19,DEBUT!$BS$2:$CM$18,4,FALSE),\"\")","v":""},{"$f":"IFERROR(HLOOKUP(AAY$19,DEBUT!$BS$2:$CM$18,8,FALSE),\"\")","v":""},{"$f":"IFERROR(HLOOKUP(AAY$19,DEBUT!$BS$2:$CM$18,12,FALSE),\"\")","v":""},{"$f":"IFERROR(HLOOKUP(AAY$19,DEBUT!$BS$2:$CM$18,16,FALSE),\"\")","v":""},null,null,null,null,null,{"$f":"IFERROR(HLOOKUP(ABH$19,DEBUT!$BS$2:$CM$18,4,FALSE),\"\")","v":""},{"$f":"IFERROR(HLOOKUP(ABH$19,DEBUT!$BS$2:$CM$18,8,FALSE),\"\")","v":""},{"$f":"IFERROR(HLOOKUP(ABH$19,DEBUT!$BS$2:$CM$18,12,FALSE),\"\")","v":""},{"$f":"IFERROR(HLOOKUP(ABH$19,DEBUT!$BS$2:$CM$18,16,FALSE),\"\")","v":""},null,null,null,{"$f":"IFERROR(HLOOKUP(ABO$19,DEBUT!$BS$2:$CM$18,4,FALSE),\"\")","v":""},{"$f":"IFERROR(HLOOKUP(ABO$19,DEBUT!$BS$2:$CM$18,8,FALSE),\"\")","v":""},{"$f":"IFERROR(HLOOKUP(ABO$19,DEBUT!$BS$2:$CM$18,12,FALSE),\"\")","v":""},{"$f":"IFERROR(HLOOKUP(ABO$19,DEBUT!$BS$2:$CM$18,16,FALSE),\"\")","v":""},null,null,null,null,null,null,null,{"$f":"IFERROR(HLOOKUP(ABZ$19,DEBUT!$BS$2:$CM$18,4,FALSE),\"\")","v":""},{"$f":"IFERROR(HLOOKUP(ABZ$19,DEBUT!$BS$2:$CM$18,8,FALSE),\"\")","v":""},{"$f":"IFERROR(HLOOKUP(ABZ$19,DEBUT!$BS$2:$CM$18,12,FALSE),\"\")","v":""},{"$f":"IFERROR(HLOOKUP(ABZ$19,DEBUT!$BS$2:$CM$18,16,FALSE),\"\")","v":""},null,null,null,{"$f":"IFERROR(HLOOKUP(ACG$19,DEBUT!$BS$2:$CM$18,4,FALSE),\"\")","v":""},{"$f":"IFERROR(HLOOKUP(ACG$19,DEBUT!$BS$2:$CM$18,8,FALSE),\"\")","v":""},{"$f":"IFERROR(HLOOKUP(ACG$19,DEBUT!$BS$2:$CM$18,12,FALSE),\"\")","v":""},{"$f":"IFERROR(HLOOKUP(ACG$19,DEBUT!$BS$2:$CM$18,16,FALSE),\"\")","v":""},null,null,null,null,null,{"$f":"IFERROR(HLOOKUP(ACP$19,DEBUT!$BS$2:$CM$18,4,FALSE),\"\")","v":""},{"$f":"IFERROR(HLOOKUP(ACP$19,DEBUT!$BS$2:$CM$18,8,FALSE),\"\")","v":""},{"$f":"IFERROR(HLOOKUP(ACP$19,DEBUT!$BS$2:$CM$18,12,FALSE),\"\")","v":""},{"$f":"IFERROR(HLOOKUP(ACP$19,DEBUT!$BS$2:$CM$18,16,FALSE),\"\")","v":""},null,null,null,{"$f":"IFERROR(HLOOKUP(ACW$19,DEBUT!$BS$2:$CM$18,4,FALSE),\"\")","v":""},{"$f":"IFERROR(HLOOKUP(ACW$19,DEBUT!$BS$2:$CM$18,8,FALSE),\"\")","v":""},{"$f":"IFERROR(HLOOKUP(ACW$19,DEBUT!$BS$2:$CM$18,12,FALSE),\"\")","v":""},{"$f":"IFERROR(HLOOKUP(ACW$19,DEBUT!$BS$2:$CM$18,16,FALSE),\"\")","v":""},null,null,null,null,null,null,null,{"$f":"IFERROR(HLOOKUP(ADH$19,DEBUT!$BS$2:$CM$18,4,FALSE),\"\")","v":""},{"$f":"IFERROR(HLOOKUP(ADH$19,DEBUT!$BS$2:$CM$18,8,FALSE),\"\")","v":""},{"$f":"IFERROR(HLOOKUP(ADH$19,DEBUT!$BS$2:$CM$18,12,FALSE),\"\")","v":""},{"$f":"IFERROR(HLOOKUP(ADH$19,DEBUT!$BS$2:$CM$18,16,FALSE),\"\")","v":""},null,null,null,{"$f":"IFERROR(HLOOKUP(ADO$19,DEBUT!$BS$2:$CM$18,4,FALSE),\"\")","v":""},{"$f":"IFERROR(HLOOKUP(ADO$19,DEBUT!$BS$2:$CM$18,8,FALSE),\"\")","v":""},{"$f":"IFERROR(HLOOKUP(ADO$19,DEBUT!$BS$2:$CM$18,12,FALSE),\"\")","v":""},{"$f":"IFERROR(HLOOKUP(ADO$19,DEBUT!$BS$2:$CM$18,16,FALSE),\"\")","v":""},null,null,null,null,null,{"$f":"IFERROR(HLOOKUP(ADX$19,DEBUT!$BS$2:$CM$18,4,FALSE),\"\")","v":""},{"$f":"IFERROR(HLOOKUP(ADX$19,DEBUT!$BS$2:$CM$18,8,FALSE),\"\")","v":""},{"$f":"IFERROR(HLOOKUP(ADX$19,DEBUT!$BS$2:$CM$18,12,FALSE),\"\")","v":""},{"$f":"IFERROR(HLOOKUP(ADX$19,DEBUT!$BS$2:$CM$18,16,FALSE),\"\")","v":""},null,null,null,{"$f":"IFERROR(HLOOKUP(AEE$19,DEBUT!$BS$2:$CM$18,4,FALSE),\"\")","v":""},{"$f":"IFERROR(HLOOKUP(AEE$19,DEBUT!$BS$2:$CM$18,8,FALSE),\"\")","v":""},{"$f":"IFERROR(HLOOKUP(AEE$19,DEBUT!$BS$2:$CM$18,12,FALSE),\"\")","v":""},{"$f":"IFERROR(HLOOKUP(AEE$19,DEBUT!$BS$2:$CM$18,16,FALSE),\"\")","v":""}]
[null,null,null,null,null,{"$f":"IFERROR(HLOOKUP(F$19,DEBUT!$BS$2:$CM$18,5,FALSE),\"\")","v":""},{"$f":"IFERROR(HLOOKUP(F$19,DEBUT!$BS$2:$CM$18,9,FALSE),\"\")","v":""},{"$f":"IFERROR(HLOOKUP(F$19,DEBUT!$BS$2:$CM$18,13,FALSE),\"\")","v":""},{"$f":"IFERROR(HLOOKUP(F$19,DEBUT!$BS$2:$CM$18,17,FALSE),\"\")","v":""},null,null,null,{"$f":"IFERROR(HLOOKUP(M$19,DEBUT!$BS$2:$CM$18,5,FALSE),\"\")","v":""},{"$f":"IFERROR(HLOOKUP(M$19,DEBUT!$BS$2:$CM$18,9,FALSE),\"\")","v":""},{"$f":"IFERROR(HLOOKUP(M$19,DEBUT!$BS$2:$CM$18,13,FALSE),\"\")","v":""},{"$f":"IFERROR(HLOOKUP(M$19,DEBUT!$BS$2:$CM$18,17,FALSE),\"\")","v":""},null,null,null,null,null,{"$f":"IFERROR(HLOOKUP(V$19,DEBUT!$BS$2:$CM$18,5,FALSE),\"\")","v":""},{"$f":"IFERROR(HLOOKUP(V$19,DEBUT!$BS$2:$CM$18,9,FALSE),\"\")","v":""},{"$f":"IFERROR(HLOOKUP(V$19,DEBUT!$BS$2:$CM$18,13,FALSE),\"\")","v":""},{"$f":"IFERROR(HLOOKUP(V$19,DEBUT!$BS$2:$CM$18,17,FALSE),\"\")","v":""},null,null,null,{"$f":"IFERROR(HLOOKUP(AC$19,DEBUT!$BS$2:$CM$18,5,FALSE),\"\")","v":""},{"$f":"IFERROR(HLOOKUP(AC$19,DEBUT!$BS$2:$CM$18,9,FALSE),\"\")","v":""},{"$f":"IFERROR(HLOOKUP(AC$19,DEBUT!$BS$2:$CM$18,13,FALSE),\"\")","v":""},{"$f":"IFERROR(HLOOKUP(AC$19,DEBUT!$BS$2:$CM$18,17,FALSE),\"\")","v":""},null,null,null,null,null,null,null,{"$f":"IFERROR(HLOOKUP(AN$19,DEBUT!$BS$2:$CM$18,5,FALSE),\"\")","v":""},{"$f":"IFERROR(HLOOKUP(AN$19,DEBUT!$BS$2:$CM$18,9,FALSE),\"\")","v":""},{"$f":"IFERROR(HLOOKUP(AN$19,DEBUT!$BS$2:$CM$18,13,FALSE),\"\")","v":""},{"$f":"IFERROR(HLOOKUP(AN$19,DEBUT!$BS$2:$CM$18,17,FALSE),\"\")","v":""},null,null,null,{"$f":"IFERROR(HLOOKUP(AU$19,DEBUT!$BS$2:$CM$18,5,FALSE),\"\")","v":""},{"$f":"IFERROR(HLOOKUP(AU$19,DEBUT!$BS$2:$CM$18,9,FALSE),\"\")","v":""},{"$f":"IFERROR(HLOOKUP(AU$19,DEBUT!$BS$2:$CM$18,13,FALSE),\"\")","v":""},{"$f":"IFERROR(HLOOKUP(AU$19,DEBUT!$BS$2:$CM$18,17,FALSE),\"\")","v":""},null,null,null,null,null,{"$f":"IFERROR(HLOOKUP(BD$19,DEBUT!$BS$2:$CM$18,5,FALSE),\"\")","v":""},{"$f":"IFERROR(HLOOKUP(BD$19,DEBUT!$BS$2:$CM$18,9,FALSE),\"\")","v":""},{"$f":"IFERROR(HLOOKUP(BD$19,DEBUT!$BS$2:$CM$18,13,FALSE),\"\")","v":""},{"$f":"IFERROR(HLOOKUP(BD$19,DEBUT!$BS$2:$CM$18,17,FALSE),\"\")","v":""},null,null,null,{"$f":"IFERROR(HLOOKUP(BK$19,DEBUT!$BS$2:$CM$18,5,FALSE),\"\")","v":""},{"$f":"IFERROR(HLOOKUP(BK$19,DEBUT!$BS$2:$CM$18,9,FALSE),\"\")","v":""},{"$f":"IFERROR(HLOOKUP(BK$19,DEBUT!$BS$2:$CM$18,13,FALSE),\"\")","v":""},{"$f":"IFERROR(HLOOKUP(BK$19,DEBUT!$BS$2:$CM$18,17,FALSE),\"\")","v":""},null,null,null,null,null,null,null,{"$f":"IFERROR(HLOOKUP(BV$19,DEBUT!$BS$2:$CM$18,5,FALSE),\"\")","v":""},{"$f":"IFERROR(HLOOKUP(BV$19,DEBUT!$BS$2:$CM$18,9,FALSE),\"\")","v":""},{"$f":"IFERROR(HLOOKUP(BV$19,DEBUT!$BS$2:$CM$18,13,FALSE),\"\")","v":""},{"$f":"IFERROR(HLOOKUP(BV$19,DEBUT!$BS$2:$CM$18,17,FALSE),\"\")","v":""},null,null,null,{"$f":"IFERROR(HLOOKUP(CC$19,DEBUT!$BS$2:$CM$18,5,FALSE),\"\")","v":""},{"$f":"IFERROR(HLOOKUP(CC$19,DEBUT!$BS$2:$CM$18,9,FALSE),\"\")","v":""},{"$f":"IFERROR(HLOOKUP(CC$19,DEBUT!$BS$2:$CM$18,13,FALSE),\"\")","v":""},{"$f":"IFERROR(HLOOKUP(CC$19,DEBUT!$BS$2:$CM$18,17,FALSE),\"\")","v":""},null,null,null,null,null,{"$f":"IFERROR(HLOOKUP(CL$19,DEBUT!$BS$2:$CM$18,5,FALSE),\"\")","v":""},{"$f":"IFERROR(HLOOKUP(CL$19,DEBUT!$BS$2:$CM$18,9,FALSE),\"\")","v":""},{"$f":"IFERROR(HLOOKUP(CL$19,DEBUT!$BS$2:$CM$18,13,FALSE),\"\")","v":""},{"$f":"IFERROR(HLOOKUP(CL$19,DEBUT!$BS$2:$CM$18,17,FALSE),\"\")","v":""},null,null,null,{"$f":"IFERROR(HLOOKUP(CS$19,DEBUT!$BS$2:$CM$18,5,FALSE),\"\")","v":""},{"$f":"IFERROR(HLOOKUP(CS$19,DEBUT!$BS$2:$CM$18,9,FALSE),\"\")","v":""},{"$f":"IFERROR(HLOOKUP(CS$19,DEBUT!$BS$2:$CM$18,13,FALSE),\"\")","v":""},{"$f":"IFERROR(HLOOKUP(CS$19,DEBUT!$BS$2:$CM$18,17,FALSE),\"\")","v":""},null,null,null,null,null,null,null,{"$f":"IFERROR(HLOOKUP(DD$19,DEBUT!$BS$2:$CM$18,5,FALSE),\"\")","v":""},{"$f":"IFERROR(HLOOKUP(DD$19,DEBUT!$BS$2:$CM$18,9,FALSE),\"\")","v":""},{"$f":"IFERROR(HLOOKUP(DD$19,DEBUT!$BS$2:$CM$18,13,FALSE),\"\")","v":""},{"$f":"IFERROR(HLOOKUP(DD$19,DEBUT!$BS$2:$CM$18,17,FALSE),\"\")","v":""},null,null,null,{"$f":"IFERROR(HLOOKUP(DK$19,DEBUT!$BS$2:$CM$18,5,FALSE),\"\")","v":""},{"$f":"IFERROR(HLOOKUP(DK$19,DEBUT!$BS$2:$CM$18,9,FALSE),\"\")","v":""},{"$f":"IFERROR(HLOOKUP(DK$19,DEBUT!$BS$2:$CM$18,13,FALSE),\"\")","v":""},{"$f":"IFERROR(HLOOKUP(DK$19,DEBUT!$BS$2:$CM$18,17,FALSE),\"\")","v":""},null,null,null,null,null,{"$f":"IFERROR(HLOOKUP(DT$19,DEBUT!$BS$2:$CM$18,5,FALSE),\"\")","v":""},{"$f":"IFERROR(HLOOKUP(DT$19,DEBUT!$BS$2:$CM$18,9,FALSE),\"\")","v":""},{"$f":"IFERROR(HLOOKUP(DT$19,DEBUT!$BS$2:$CM$18,13,FALSE),\"\")","v":""},{"$f":"IFERROR(HLOOKUP(DT$19,DEBUT!$BS$2:$CM$18,17,FALSE),\"\")","v":""},null,null,null,{"$f":"IFERROR(HLOOKUP(EA$19,DEBUT!$BS$2:$CM$18,5,FALSE),\"\")","v":""},{"$f":"IFERROR(HLOOKUP(EA$19,DEBUT!$BS$2:$CM$18,9,FALSE),\"\")","v":""},{"$f":"IFERROR(HLOOKUP(EA$19,DEBUT!$BS$2:$CM$18,13,FALSE),\"\")","v":""},{"$f":"IFERROR(HLOOKUP(EA$19,DEBUT!$BS$2:$CM$18,17,FALSE),\"\")","v":""},null,null,null,null,null,null,null,{"$f":"IFERROR(HLOOKUP(EL$19,DEBUT!$BS$2:$CM$18,5,FALSE),\"\")","v":""},{"$f":"IFERROR(HLOOKUP(EL$19,DEBUT!$BS$2:$CM$18,9,FALSE),\"\")","v":""},{"$f":"IFERROR(HLOOKUP(EL$19,DEBUT!$BS$2:$CM$18,13,FALSE),\"\")","v":""},{"$f":"IFERROR(HLOOKUP(EL$19,DEBUT!$BS$2:$CM$18,17,FALSE),\"\")","v":""},null,null,null,{"$f":"IFERROR(HLOOKUP(ES$19,DEBUT!$BS$2:$CM$18,5,FALSE),\"\")","v":""},{"$f":"IFERROR(HLOOKUP(ES$19,DEBUT!$BS$2:$CM$18,9,FALSE),\"\")","v":""},{"$f":"IFERROR(HLOOKUP(ES$19,DEBUT!$BS$2:$CM$18,13,FALSE),\"\")","v":""},{"$f":"IFERROR(HLOOKUP(ES$19,DEBUT!$BS$2:$CM$18,17,FALSE),\"\")","v":""},null,null,null,null,null,{"$f":"IFERROR(HLOOKUP(FB$19,DEBUT!$BS$2:$CM$18,5,FALSE),\"\")","v":""},{"$f":"IFERROR(HLOOKUP(FB$19,DEBUT!$BS$2:$CM$18,9,FALSE),\"\")","v":""},{"$f":"IFERROR(HLOOKUP(FB$19,DEBUT!$BS$2:$CM$18,13,FALSE),\"\")","v":""},{"$f":"IFERROR(HLOOKUP(FB$19,DEBUT!$BS$2:$CM$18,17,FALSE),\"\")","v":""},null,null,null,{"$f":"IFERROR(HLOOKUP(FI$19,DEBUT!$BS$2:$CM$18,5,FALSE),\"\")","v":""},{"$f":"IFERROR(HLOOKUP(FI$19,DEBUT!$BS$2:$CM$18,9,FALSE),\"\")","v":""},{"$f":"IFERROR(HLOOKUP(FI$19,DEBUT!$BS$2:$CM$18,13,FALSE),\"\")","v":""},{"$f":"IFERROR(HLOOKUP(FI$19,DEBUT!$BS$2:$CM$18,17,FALSE),\"\")","v":""},null,null,null,null,null,null,null,{"$f":"IFERROR(HLOOKUP(FT$19,DEBUT!$BS$2:$CM$18,5,FALSE),\"\")","v":""},{"$f":"IFERROR(HLOOKUP(FT$19,DEBUT!$BS$2:$CM$18,9,FALSE),\"\")","v":""},{"$f":"IFERROR(HLOOKUP(FT$19,DEBUT!$BS$2:$CM$18,13,FALSE),\"\")","v":""},{"$f":"IFERROR(HLOOKUP(FT$19,DEBUT!$BS$2:$CM$18,17,FALSE),\"\")","v":""},null,null,null,{"$f":"IFERROR(HLOOKUP(GA$19,DEBUT!$BS$2:$CM$18,5,FALSE),\"\")","v":""},{"$f":"IFERROR(HLOOKUP(GA$19,DEBUT!$BS$2:$CM$18,9,FALSE),\"\")","v":""},{"$f":"IFERROR(HLOOKUP(GA$19,DEBUT!$BS$2:$CM$18,13,FALSE),\"\")","v":""},{"$f":"IFERROR(HLOOKUP(GA$19,DEBUT!$BS$2:$CM$18,17,FALSE),\"\")","v":""},null,null,null,null,null,{"$f":"IFERROR(HLOOKUP(GJ$19,DEBUT!$BS$2:$CM$18,5,FALSE),\"\")","v":""},{"$f":"IFERROR(HLOOKUP(GJ$19,DEBUT!$BS$2:$CM$18,9,FALSE),\"\")","v":""},{"$f":"IFERROR(HLOOKUP(GJ$19,DEBUT!$BS$2:$CM$18,13,FALSE),\"\")","v":""},{"$f":"IFERROR(HLOOKUP(GJ$19,DEBUT!$BS$2:$CM$18,17,FALSE),\"\")","v":""},null,null,null,{"$f":"IFERROR(HLOOKUP(GQ$19,DEBUT!$BS$2:$CM$18,5,FALSE),\"\")","v":""},{"$f":"IFERROR(HLOOKUP(GQ$19,DEBUT!$BS$2:$CM$18,9,FALSE),\"\")","v":""},{"$f":"IFERROR(HLOOKUP(GQ$19,DEBUT!$BS$2:$CM$18,13,FALSE),\"\")","v":""},{"$f":"IFERROR(HLOOKUP(GQ$19,DEBUT!$BS$2:$CM$18,17,FALSE),\"\")","v":""},null,null,null,null,null,null,null,{"$f":"IFERROR(HLOOKUP(HB$19,DEBUT!$BS$2:$CM$18,5,FALSE),\"\")","v":""},{"$f":"IFERROR(HLOOKUP(HB$19,DEBUT!$BS$2:$CM$18,9,FALSE),\"\")","v":""},{"$f":"IFERROR(HLOOKUP(HB$19,DEBUT!$BS$2:$CM$18,13,FALSE),\"\")","v":""},{"$f":"IFERROR(HLOOKUP(HB$19,DEBUT!$BS$2:$CM$18,17,FALSE),\"\")","v":""},null,null,null,{"$f":"IFERROR(HLOOKUP(HI$19,DEBUT!$BS$2:$CM$18,5,FALSE),\"\")","v":""},{"$f":"IFERROR(HLOOKUP(HI$19,DEBUT!$BS$2:$CM$18,9,FALSE),\"\")","v":""},{"$f":"IFERROR(HLOOKUP(HI$19,DEBUT!$BS$2:$CM$18,13,FALSE),\"\")","v":""},{"$f":"IFERROR(HLOOKUP(HI$19,DEBUT!$BS$2:$CM$18,17,FALSE),\"\")","v":""},null,null,null,null,null,{"$f":"IFERROR(HLOOKUP(HR$19,DEBUT!$BS$2:$CM$18,5,FALSE),\"\")","v":""},{"$f":"IFERROR(HLOOKUP(HR$19,DEBUT!$BS$2:$CM$18,9,FALSE),\"\")","v":""},{"$f":"IFERROR(HLOOKUP(HR$19,DEBUT!$BS$2:$CM$18,13,FALSE),\"\")","v":""},{"$f":"IFERROR(HLOOKUP(HR$19,DEBUT!$BS$2:$CM$18,17,FALSE),\"\")","v":""},null,null,null,{"$f":"IFERROR(HLOOKUP(HY$19,DEBUT!$BS$2:$CM$18,5,FALSE),\"\")","v":""},{"$f":"IFERROR(HLOOKUP(HY$19,DEBUT!$BS$2:$CM$18,9,FALSE),\"\")","v":""},{"$f":"IFERROR(HLOOKUP(HY$19,DEBUT!$BS$2:$CM$18,13,FALSE),\"\")","v":""},{"$f":"IFERROR(HLOOKUP(HY$19,DEBUT!$BS$2:$CM$18,17,FALSE),\"\")","v":""},null,null,null,null,null,null,null,{"$f":"IFERROR(HLOOKUP(IJ$19,DEBUT!$BS$2:$CM$18,5,FALSE),\"\")","v":""},{"$f":"IFERROR(HLOOKUP(IJ$19,DEBUT!$BS$2:$CM$18,9,FALSE),\"\")","v":""},{"$f":"IFERROR(HLOOKUP(IJ$19,DEBUT!$BS$2:$CM$18,13,FALSE),\"\")","v":""},{"$f":"IFERROR(HLOOKUP(IJ$19,DEBUT!$BS$2:$CM$18,17,FALSE),\"\")","v":""},null,null,null,{"$f":"IFERROR(HLOOKUP(IQ$19,DEBUT!$BS$2:$CM$18,5,FALSE),\"\")","v":""},{"$f":"IFERROR(HLOOKUP(IQ$19,DEBUT!$BS$2:$CM$18,9,FALSE),\"\")","v":""},{"$f":"IFERROR(HLOOKUP(IQ$19,DEBUT!$BS$2:$CM$18,13,FALSE),\"\")","v":""},{"$f":"IFERROR(HLOOKUP(IQ$19,DEBUT!$BS$2:$CM$18,17,FALSE),\"\")","v":""},null,null,null,null,null,{"$f":"IFERROR(HLOOKUP(IZ$19,DEBUT!$BS$2:$CM$18,5,FALSE),\"\")","v":""},{"$f":"IFERROR(HLOOKUP(IZ$19,DEBUT!$BS$2:$CM$18,9,FALSE),\"\")","v":""},{"$f":"IFERROR(HLOOKUP(IZ$19,DEBUT!$BS$2:$CM$18,13,FALSE),\"\")","v":""},{"$f":"IFERROR(HLOOKUP(IZ$19,DEBUT!$BS$2:$CM$18,17,FALSE),\"\")","v":""},null,null,null,{"$f":"IFERROR(HLOOKUP(JG$19,DEBUT!$BS$2:$CM$18,5,FALSE),\"\")","v":""},{"$f":"IFERROR(HLOOKUP(JG$19,DEBUT!$BS$2:$CM$18,9,FALSE),\"\")","v":""},{"$f":"IFERROR(HLOOKUP(JG$19,DEBUT!$BS$2:$CM$18,13,FALSE),\"\")","v":""},{"$f":"IFERROR(HLOOKUP(JG$19,DEBUT!$BS$2:$CM$18,17,FALSE),\"\")","v":""},null,null,null,null,null,null,null,{"$f":"IFERROR(HLOOKUP(JR$19,DEBUT!$BS$2:$CM$18,5,FALSE),\"\")","v":""},{"$f":"IFERROR(HLOOKUP(JR$19,DEBUT!$BS$2:$CM$18,9,FALSE),\"\")","v":""},{"$f":"IFERROR(HLOOKUP(JR$19,DEBUT!$BS$2:$CM$18,13,FALSE),\"\")","v":""},{"$f":"IFERROR(HLOOKUP(JR$19,DEBUT!$BS$2:$CM$18,17,FALSE),\"\")","v":""},null,null,null,{"$f":"IFERROR(HLOOKUP(JY$19,DEBUT!$BS$2:$CM$18,5,FALSE),\"\")","v":""},{"$f":"IFERROR(HLOOKUP(JY$19,DEBUT!$BS$2:$CM$18,9,FALSE),\"\")","v":""},{"$f":"IFERROR(HLOOKUP(JY$19,DEBUT!$BS$2:$CM$18,13,FALSE),\"\")","v":""},{"$f":"IFERROR(HLOOKUP(JY$19,DEBUT!$BS$2:$CM$18,17,FALSE),\"\")","v":""},null,null,null,null,null,{"$f":"IFERROR(HLOOKUP(KH$19,DEBUT!$BS$2:$CM$18,5,FALSE),\"\")","v":""},{"$f":"IFERROR(HLOOKUP(KH$19,DEBUT!$BS$2:$CM$18,9,FALSE),\"\")","v":""},{"$f":"IFERROR(HLOOKUP(KH$19,DEBUT!$BS$2:$CM$18,13,FALSE),\"\")","v":""},{"$f":"IFERROR(HLOOKUP(KH$19,DEBUT!$BS$2:$CM$18,17,FALSE),\"\")","v":""},null,null,null,{"$f":"IFERROR(HLOOKUP(KO$19,DEBUT!$BS$2:$CM$18,5,FALSE),\"\")","v":""},{"$f":"IFERROR(HLOOKUP(KO$19,DEBUT!$BS$2:$CM$18,9,FALSE),\"\")","v":""},{"$f":"IFERROR(HLOOKUP(KO$19,DEBUT!$BS$2:$CM$18,13,FALSE),\"\")","v":""},{"$f":"IFERROR(HLOOKUP(KO$19,DEBUT!$BS$2:$CM$18,17,FALSE),\"\")","v":""},null,null,null,null,null,null,null,{"$f":"IFERROR(HLOOKUP(KZ$19,DEBUT!$BS$2:$CM$18,5,FALSE),\"\")","v":""},{"$f":"IFERROR(HLOOKUP(KZ$19,DEBUT!$BS$2:$CM$18,9,FALSE),\"\")","v":""},{"$f":"IFERROR(HLOOKUP(KZ$19,DEBUT!$BS$2:$CM$18,13,FALSE),\"\")","v":""},{"$f":"IFERROR(HLOOKUP(KZ$19,DEBUT!$BS$2:$CM$18,17,FALSE),\"\")","v":""},null,null,null,{"$f":"IFERROR(HLOOKUP(LG$19,DEBUT!$BS$2:$CM$18,5,FALSE),\"\")","v":""},{"$f":"IFERROR(HLOOKUP(LG$19,DEBUT!$BS$2:$CM$18,9,FALSE),\"\")","v":""},{"$f":"IFERROR(HLOOKUP(LG$19,DEBUT!$BS$2:$CM$18,13,FALSE),\"\")","v":""},{"$f":"IFERROR(HLOOKUP(LG$19,DEBUT!$BS$2:$CM$18,17,FALSE),\"\")","v":""},null,null,null,null,null,{"$f":"IFERROR(HLOOKUP(LP$19,DEBUT!$BS$2:$CM$18,5,FALSE),\"\")","v":""},{"$f":"IFERROR(HLOOKUP(LP$19,DEBUT!$BS$2:$CM$18,9,FALSE),\"\")","v":""},{"$f":"IFERROR(HLOOKUP(LP$19,DEBUT!$BS$2:$CM$18,13,FALSE),\"\")","v":""},{"$f":"IFERROR(HLOOKUP(LP$19,DEBUT!$BS$2:$CM$18,17,FALSE),\"\")","v":""},null,null,null,{"$f":"IFERROR(HLOOKUP(LW$19,DEBUT!$BS$2:$CM$18,5,FALSE),\"\")","v":""},{"$f":"IFERROR(HLOOKUP(LW$19,DEBUT!$BS$2:$CM$18,9,FALSE),\"\")","v":""},{"$f":"IFERROR(HLOOKUP(LW$19,DEBUT!$BS$2:$CM$18,13,FALSE),\"\")","v":""},{"$f":"IFERROR(HLOOKUP(LW$19,DEBUT!$BS$2:$CM$18,17,FALSE),\"\")","v":""},null,null,null,null,null,null,null,{"$f":"IFERROR(HLOOKUP(MH$19,DEBUT!$BS$2:$CM$18,5,FALSE),\"\")","v":""},{"$f":"IFERROR(HLOOKUP(MH$19,DEBUT!$BS$2:$CM$18,9,FALSE),\"\")","v":""},{"$f":"IFERROR(HLOOKUP(MH$19,DEBUT!$BS$2:$CM$18,13,FALSE),\"\")","v":""},{"$f":"IFERROR(HLOOKUP(MH$19,DEBUT!$BS$2:$CM$18,17,FALSE),\"\")","v":""},null,null,null,{"$f":"IFERROR(HLOOKUP(MO$19,DEBUT!$BS$2:$CM$18,5,FALSE),\"\")","v":""},{"$f":"IFERROR(HLOOKUP(MO$19,DEBUT!$BS$2:$CM$18,9,FALSE),\"\")","v":""},{"$f":"IFERROR(HLOOKUP(MO$19,DEBUT!$BS$2:$CM$18,13,FALSE),\"\")","v":""},{"$f":"IFERROR(HLOOKUP(MO$19,DEBUT!$BS$2:$CM$18,17,FALSE),\"\")","v":""},null,null,null,null,null,{"$f":"IFERROR(HLOOKUP(MX$19,DEBUT!$BS$2:$CM$18,5,FALSE),\"\")","v":""},{"$f":"IFERROR(HLOOKUP(MX$19,DEBUT!$BS$2:$CM$18,9,FALSE),\"\")","v":""},{"$f":"IFERROR(HLOOKUP(MX$19,DEBUT!$BS$2:$CM$18,13,FALSE),\"\")","v":""},{"$f":"IFERROR(HLOOKUP(MX$19,DEBUT!$BS$2:$CM$18,17,FALSE),\"\")","v":""},null,null,null,{"$f":"IFERROR(HLOOKUP(NE$19,DEBUT!$BS$2:$CM$18,5,FALSE),\"\")","v":""},{"$f":"IFERROR(HLOOKUP(NE$19,DEBUT!$BS$2:$CM$18,9,FALSE),\"\")","v":""},{"$f":"IFERROR(HLOOKUP(NE$19,DEBUT!$BS$2:$CM$18,13,FALSE),\"\")","v":""},{"$f":"IFERROR(HLOOKUP(NE$19,DEBUT!$BS$2:$CM$18,17,FALSE),\"\")","v":""},null,null,null,null,null,null,null,{"$f":"IFERROR(HLOOKUP(NP$19,DEBUT!$BS$2:$CM$18,5,FALSE),\"\")","v":""},{"$f":"IFERROR(HLOOKUP(NP$19,DEBUT!$BS$2:$CM$18,9,FALSE),\"\")","v":""},{"$f":"IFERROR(HLOOKUP(NP$19,DEBUT!$BS$2:$CM$18,13,FALSE),\"\")","v":""},{"$f":"IFERROR(HLOOKUP(NP$19,DEBUT!$BS$2:$CM$18,17,FALSE),\"\")","v":""},null,null,null,{"$f":"IFERROR(HLOOKUP(NW$19,DEBUT!$BS$2:$CM$18,5,FALSE),\"\")","v":""},{"$f":"IFERROR(HLOOKUP(NW$19,DEBUT!$BS$2:$CM$18,9,FALSE),\"\")","v":""},{"$f":"IFERROR(HLOOKUP(NW$19,DEBUT!$BS$2:$CM$18,13,FALSE),\"\")","v":""},{"$f":"IFERROR(HLOOKUP(NW$19,DEBUT!$BS$2:$CM$18,17,FALSE),\"\")","v":""},null,null,null,null,null,{"$f":"IFERROR(HLOOKUP(OF$19,DEBUT!$BS$2:$CM$18,5,FALSE),\"\")","v":""},{"$f":"IFERROR(HLOOKUP(OF$19,DEBUT!$BS$2:$CM$18,9,FALSE),\"\")","v":""},{"$f":"IFERROR(HLOOKUP(OF$19,DEBUT!$BS$2:$CM$18,13,FALSE),\"\")","v":""},{"$f":"IFERROR(HLOOKUP(OF$19,DEBUT!$BS$2:$CM$18,17,FALSE),\"\")","v":""},null,null,null,{"$f":"IFERROR(HLOOKUP(OM$19,DEBUT!$BS$2:$CM$18,5,FALSE),\"\")","v":""},{"$f":"IFERROR(HLOOKUP(OM$19,DEBUT!$BS$2:$CM$18,9,FALSE),\"\")","v":""},{"$f":"IFERROR(HLOOKUP(OM$19,DEBUT!$BS$2:$CM$18,13,FALSE),\"\")","v":""},{"$f":"IFERROR(HLOOKUP(OM$19,DEBUT!$BS$2:$CM$18,17,FALSE),\"\")","v":""},null,null,null,null,null,null,null,{"$f":"IFERROR(HLOOKUP(OX$19,DEBUT!$BS$2:$CM$18,5,FALSE),\"\")","v":""},{"$f":"IFERROR(HLOOKUP(OX$19,DEBUT!$BS$2:$CM$18,9,FALSE),\"\")","v":""},{"$f":"IFERROR(HLOOKUP(OX$19,DEBUT!$BS$2:$CM$18,13,FALSE),\"\")","v":""},{"$f":"IFERROR(HLOOKUP(OX$19,DEBUT!$BS$2:$CM$18,17,FALSE),\"\")","v":""},null,null,null,{"$f":"IFERROR(HLOOKUP(PE$19,DEBUT!$BS$2:$CM$18,5,FALSE),\"\")","v":""},{"$f":"IFERROR(HLOOKUP(PE$19,DEBUT!$BS$2:$CM$18,9,FALSE),\"\")","v":""},{"$f":"IFERROR(HLOOKUP(PE$19,DEBUT!$BS$2:$CM$18,13,FALSE),\"\")","v":""},{"$f":"IFERROR(HLOOKUP(PE$19,DEBUT!$BS$2:$CM$18,17,FALSE),\"\")","v":""},null,null,null,null,null,{"$f":"IFERROR(HLOOKUP(PN$19,DEBUT!$BS$2:$CM$18,5,FALSE),\"\")","v":""},{"$f":"IFERROR(HLOOKUP(PN$19,DEBUT!$BS$2:$CM$18,9,FALSE),\"\")","v":""},{"$f":"IFERROR(HLOOKUP(PN$19,DEBUT!$BS$2:$CM$18,13,FALSE),\"\")","v":""},{"$f":"IFERROR(HLOOKUP(PN$19,DEBUT!$BS$2:$CM$18,17,FALSE),\"\")","v":""},null,null,null,{"$f":"IFERROR(HLOOKUP(PU$19,DEBUT!$BS$2:$CM$18,5,FALSE),\"\")","v":""},{"$f":"IFERROR(HLOOKUP(PU$19,DEBUT!$BS$2:$CM$18,9,FALSE),\"\")","v":""},{"$f":"IFERROR(HLOOKUP(PU$19,DEBUT!$BS$2:$CM$18,13,FALSE),\"\")","v":""},{"$f":"IFERROR(HLOOKUP(PU$19,DEBUT!$BS$2:$CM$18,17,FALSE),\"\")","v":""},null,null,null,null,null,null,null,{"$f":"IFERROR(HLOOKUP(QF$19,DEBUT!$BS$2:$CM$18,5,FALSE),\"\")","v":""},{"$f":"IFERROR(HLOOKUP(QF$19,DEBUT!$BS$2:$CM$18,9,FALSE),\"\")","v":""},{"$f":"IFERROR(HLOOKUP(QF$19,DEBUT!$BS$2:$CM$18,13,FALSE),\"\")","v":""},{"$f":"IFERROR(HLOOKUP(QF$19,DEBUT!$BS$2:$CM$18,17,FALSE),\"\")","v":""},null,null,null,{"$f":"IFERROR(HLOOKUP(QM$19,DEBUT!$BS$2:$CM$18,5,FALSE),\"\")","v":""},{"$f":"IFERROR(HLOOKUP(QM$19,DEBUT!$BS$2:$CM$18,9,FALSE),\"\")","v":""},{"$f":"IFERROR(HLOOKUP(QM$19,DEBUT!$BS$2:$CM$18,13,FALSE),\"\")","v":""},{"$f":"IFERROR(HLOOKUP(QM$19,DEBUT!$BS$2:$CM$18,17,FALSE),\"\")","v":""},null,null,null,null,null,{"$f":"IFERROR(HLOOKUP(QV$19,DEBUT!$BS$2:$CM$18,5,FALSE),\"\")","v":""},{"$f":"IFERROR(HLOOKUP(QV$19,DEBUT!$BS$2:$CM$18,9,FALSE),\"\")","v":""},{"$f":"IFERROR(HLOOKUP(QV$19,DEBUT!$BS$2:$CM$18,13,FALSE),\"\")","v":""},{"$f":"IFERROR(HLOOKUP(QV$19,DEBUT!$BS$2:$CM$18,17,FALSE),\"\")","v":""},null,null,null,{"$f":"IFERROR(HLOOKUP(RC$19,DEBUT!$BS$2:$CM$18,5,FALSE),\"\")","v":""},{"$f":"IFERROR(HLOOKUP(RC$19,DEBUT!$BS$2:$CM$18,9,FALSE),\"\")","v":""},{"$f":"IFERROR(HLOOKUP(RC$19,DEBUT!$BS$2:$CM$18,13,FALSE),\"\")","v":""},{"$f":"IFERROR(HLOOKUP(RC$19,DEBUT!$BS$2:$CM$18,17,FALSE),\"\")","v":""},null,null,null,null,null,null,null,{"$f":"IFERROR(HLOOKUP(RN$19,DEBUT!$BS$2:$CM$18,5,FALSE),\"\")","v":""},{"$f":"IFERROR(HLOOKUP(RN$19,DEBUT!$BS$2:$CM$18,9,FALSE),\"\")","v":""},{"$f":"IFERROR(HLOOKUP(RN$19,DEBUT!$BS$2:$CM$18,13,FALSE),\"\")","v":""},{"$f":"IFERROR(HLOOKUP(RN$19,DEBUT!$BS$2:$CM$18,17,FALSE),\"\")","v":""},null,null,null,{"$f":"IFERROR(HLOOKUP(RU$19,DEBUT!$BS$2:$CM$18,5,FALSE),\"\")","v":""},{"$f":"IFERROR(HLOOKUP(RU$19,DEBUT!$BS$2:$CM$18,9,FALSE),\"\")","v":""},{"$f":"IFERROR(HLOOKUP(RU$19,DEBUT!$BS$2:$CM$18,13,FALSE),\"\")","v":""},{"$f":"IFERROR(HLOOKUP(RU$19,DEBUT!$BS$2:$CM$18,17,FALSE),\"\")","v":""},null,null,null,null,null,{"$f":"IFERROR(HLOOKUP(SD$19,DEBUT!$BS$2:$CM$18,5,FALSE),\"\")","v":""},{"$f":"IFERROR(HLOOKUP(SD$19,DEBUT!$BS$2:$CM$18,9,FALSE),\"\")","v":""},{"$f":"IFERROR(HLOOKUP(SD$19,DEBUT!$BS$2:$CM$18,13,FALSE),\"\")","v":""},{"$f":"IFERROR(HLOOKUP(SD$19,DEBUT!$BS$2:$CM$18,17,FALSE),\"\")","v":""},null,null,null,{"$f":"IFERROR(HLOOKUP(SK$19,DEBUT!$BS$2:$CM$18,5,FALSE),\"\")","v":""},{"$f":"IFERROR(HLOOKUP(SK$19,DEBUT!$BS$2:$CM$18,9,FALSE),\"\")","v":""},{"$f":"IFERROR(HLOOKUP(SK$19,DEBUT!$BS$2:$CM$18,13,FALSE),\"\")","v":""},{"$f":"IFERROR(HLOOKUP(SK$19,DEBUT!$BS$2:$CM$18,17,FALSE),\"\")","v":""},null,null,null,null,null,null,null,{"$f":"IFERROR(HLOOKUP(SV$19,DEBUT!$BS$2:$CM$18,5,FALSE),\"\")","v":""},{"$f":"IFERROR(HLOOKUP(SV$19,DEBUT!$BS$2:$CM$18,9,FALSE),\"\")","v":""},{"$f":"IFERROR(HLOOKUP(SV$19,DEBUT!$BS$2:$CM$18,13,FALSE),\"\")","v":""},{"$f":"IFERROR(HLOOKUP(SV$19,DEBUT!$BS$2:$CM$18,17,FALSE),\"\")","v":""},null,null,null,{"$f":"IFERROR(HLOOKUP(TC$19,DEBUT!$BS$2:$CM$18,5,FALSE),\"\")","v":""},{"$f":"IFERROR(HLOOKUP(TC$19,DEBUT!$BS$2:$CM$18,9,FALSE),\"\")","v":""},{"$f":"IFERROR(HLOOKUP(TC$19,DEBUT!$BS$2:$CM$18,13,FALSE),\"\")","v":""},{"$f":"IFERROR(HLOOKUP(TC$19,DEBUT!$BS$2:$CM$18,17,FALSE),\"\")","v":""},null,null,null,null,null,{"$f":"IFERROR(HLOOKUP(TL$19,DEBUT!$BS$2:$CM$18,5,FALSE),\"\")","v":""},{"$f":"IFERROR(HLOOKUP(TL$19,DEBUT!$BS$2:$CM$18,9,FALSE),\"\")","v":""},{"$f":"IFERROR(HLOOKUP(TL$19,DEBUT!$BS$2:$CM$18,13,FALSE),\"\")","v":""},{"$f":"IFERROR(HLOOKUP(TL$19,DEBUT!$BS$2:$CM$18,17,FALSE),\"\")","v":""},null,null,null,{"$f":"IFERROR(HLOOKUP(TS$19,DEBUT!$BS$2:$CM$18,5,FALSE),\"\")","v":""},{"$f":"IFERROR(HLOOKUP(TS$19,DEBUT!$BS$2:$CM$18,9,FALSE),\"\")","v":""},{"$f":"IFERROR(HLOOKUP(TS$19,DEBUT!$BS$2:$CM$18,13,FALSE),\"\")","v":""},{"$f":"IFERROR(HLOOKUP(TS$19,DEBUT!$BS$2:$CM$18,17,FALSE),\"\")","v":""},null,null,null,null,null,null,null,{"$f":"IFERROR(HLOOKUP(UD$19,DEBUT!$BS$2:$CM$18,5,FALSE),\"\")","v":""},{"$f":"IFERROR(HLOOKUP(UD$19,DEBUT!$BS$2:$CM$18,9,FALSE),\"\")","v":""},{"$f":"IFERROR(HLOOKUP(UD$19,DEBUT!$BS$2:$CM$18,13,FALSE),\"\")","v":""},{"$f":"IFERROR(HLOOKUP(UD$19,DEBUT!$BS$2:$CM$18,17,FALSE),\"\")","v":""},null,null,null,{"$f":"IFERROR(HLOOKUP(UK$19,DEBUT!$BS$2:$CM$18,5,FALSE),\"\")","v":""},{"$f":"IFERROR(HLOOKUP(UK$19,DEBUT!$BS$2:$CM$18,9,FALSE),\"\")","v":""},{"$f":"IFERROR(HLOOKUP(UK$19,DEBUT!$BS$2:$CM$18,13,FALSE),\"\")","v":""},{"$f":"IFERROR(HLOOKUP(UK$19,DEBUT!$BS$2:$CM$18,17,FALSE),\"\")","v":""},null,null,null,null,null,{"$f":"IFERROR(HLOOKUP(UT$19,DEBUT!$BS$2:$CM$18,5,FALSE),\"\")","v":""},{"$f":"IFERROR(HLOOKUP(UT$19,DEBUT!$BS$2:$CM$18,9,FALSE),\"\")","v":""},{"$f":"IFERROR(HLOOKUP(UT$19,DEBUT!$BS$2:$CM$18,13,FALSE),\"\")","v":""},{"$f":"IFERROR(HLOOKUP(UT$19,DEBUT!$BS$2:$CM$18,17,FALSE),\"\")","v":""},null,null,null,{"$f":"IFERROR(HLOOKUP(VA$19,DEBUT!$BS$2:$CM$18,5,FALSE),\"\")","v":""},{"$f":"IFERROR(HLOOKUP(VA$19,DEBUT!$BS$2:$CM$18,9,FALSE),\"\")","v":""},{"$f":"IFERROR(HLOOKUP(VA$19,DEBUT!$BS$2:$CM$18,13,FALSE),\"\")","v":""},{"$f":"IFERROR(HLOOKUP(VA$19,DEBUT!$BS$2:$CM$18,17,FALSE),\"\")","v":""},null,null,null,null,null,null,null,{"$f":"IFERROR(HLOOKUP(VL$19,DEBUT!$BS$2:$CM$18,5,FALSE),\"\")","v":""},{"$f":"IFERROR(HLOOKUP(VL$19,DEBUT!$BS$2:$CM$18,9,FALSE),\"\")","v":""},{"$f":"IFERROR(HLOOKUP(VL$19,DEBUT!$BS$2:$CM$18,13,FALSE),\"\")","v":""},{"$f":"IFERROR(HLOOKUP(VL$19,DEBUT!$BS$2:$CM$18,17,FALSE),\"\")","v":""},null,null,null,{"$f":"IFERROR(HLOOKUP(VS$19,DEBUT!$BS$2:$CM$18,5,FALSE),\"\")","v":""},{"$f":"IFERROR(HLOOKUP(VS$19,DEBUT!$BS$2:$CM$18,9,FALSE),\"\")","v":""},{"$f":"IFERROR(HLOOKUP(VS$19,DEBUT!$BS$2:$CM$18,13,FALSE),\"\")","v":""},{"$f":"IFERROR(HLOOKUP(VS$19,DEBUT!$BS$2:$CM$18,17,FALSE),\"\")","v":""},null,null,null,null,null,{"$f":"IFERROR(HLOOKUP(WB$19,DEBUT!$BS$2:$CM$18,5,FALSE),\"\")","v":""},{"$f":"IFERROR(HLOOKUP(WB$19,DEBUT!$BS$2:$CM$18,9,FALSE),\"\")","v":""},{"$f":"IFERROR(HLOOKUP(WB$19,DEBUT!$BS$2:$CM$18,13,FALSE),\"\")","v":""},{"$f":"IFERROR(HLOOKUP(WB$19,DEBUT!$BS$2:$CM$18,17,FALSE),\"\")","v":""},null,null,null,{"$f":"IFERROR(HLOOKUP(WI$19,DEBUT!$BS$2:$CM$18,5,FALSE),\"\")","v":""},{"$f":"IFERROR(HLOOKUP(WI$19,DEBUT!$BS$2:$CM$18,9,FALSE),\"\")","v":""},{"$f":"IFERROR(HLOOKUP(WI$19,DEBUT!$BS$2:$CM$18,13,FALSE),\"\")","v":""},{"$f":"IFERROR(HLOOKUP(WI$19,DEBUT!$BS$2:$CM$18,17,FALSE),\"\")","v":""},null,null,null,null,null,null,null,{"$f":"IFERROR(HLOOKUP(WT$19,DEBUT!$BS$2:$CM$18,5,FALSE),\"\")","v":""},{"$f":"IFERROR(HLOOKUP(WT$19,DEBUT!$BS$2:$CM$18,9,FALSE),\"\")","v":""},{"$f":"IFERROR(HLOOKUP(WT$19,DEBUT!$BS$2:$CM$18,13,FALSE),\"\")","v":""},{"$f":"IFERROR(HLOOKUP(WT$19,DEBUT!$BS$2:$CM$18,17,FALSE),\"\")","v":""},null,null,null,{"$f":"IFERROR(HLOOKUP(XA$19,DEBUT!$BS$2:$CM$18,5,FALSE),\"\")","v":""},{"$f":"IFERROR(HLOOKUP(XA$19,DEBUT!$BS$2:$CM$18,9,FALSE),\"\")","v":""},{"$f":"IFERROR(HLOOKUP(XA$19,DEBUT!$BS$2:$CM$18,13,FALSE),\"\")","v":""},{"$f":"IFERROR(HLOOKUP(XA$19,DEBUT!$BS$2:$CM$18,17,FALSE),\"\")","v":""},null,null,null,null,null,{"$f":"IFERROR(HLOOKUP(XJ$19,DEBUT!$BS$2:$CM$18,5,FALSE),\"\")","v":""},{"$f":"IFERROR(HLOOKUP(XJ$19,DEBUT!$BS$2:$CM$18,9,FALSE),\"\")","v":""},{"$f":"IFERROR(HLOOKUP(XJ$19,DEBUT!$BS$2:$CM$18,13,FALSE),\"\")","v":""},{"$f":"IFERROR(HLOOKUP(XJ$19,DEBUT!$BS$2:$CM$18,17,FALSE),\"\")","v":""},null,null,null,{"$f":"IFERROR(HLOOKUP(XQ$19,DEBUT!$BS$2:$CM$18,5,FALSE),\"\")","v":""},{"$f":"IFERROR(HLOOKUP(XQ$19,DEBUT!$BS$2:$CM$18,9,FALSE),\"\")","v":""},{"$f":"IFERROR(HLOOKUP(XQ$19,DEBUT!$BS$2:$CM$18,13,FALSE),\"\")","v":""},{"$f":"IFERROR(HLOOKUP(XQ$19,DEBUT!$BS$2:$CM$18,17,FALSE),\"\")","v":""},null,null,null,null,null,null,null,{"$f":"IFERROR(HLOOKUP(YB$19,DEBUT!$BS$2:$CM$18,5,FALSE),\"\")","v":""},{"$f":"IFERROR(HLOOKUP(YB$19,DEBUT!$BS$2:$CM$18,9,FALSE),\"\")","v":""},{"$f":"IFERROR(HLOOKUP(YB$19,DEBUT!$BS$2:$CM$18,13,FALSE),\"\")","v":""},{"$f":"IFERROR(HLOOKUP(YB$19,DEBUT!$BS$2:$CM$18,17,FALSE),\"\")","v":""},null,null,null,{"$f":"IFERROR(HLOOKUP(YI$19,DEBUT!$BS$2:$CM$18,5,FALSE),\"\")","v":""},{"$f":"IFERROR(HLOOKUP(YI$19,DEBUT!$BS$2:$CM$18,9,FALSE),\"\")","v":""},{"$f":"IFERROR(HLOOKUP(YI$19,DEBUT!$BS$2:$CM$18,13,FALSE),\"\")","v":""},{"$f":"IFERROR(HLOOKUP(YI$19,DEBUT!$BS$2:$CM$18,17,FALSE),\"\")","v":""},null,null,null,null,null,{"$f":"IFERROR(HLOOKUP(YR$19,DEBUT!$BS$2:$CM$18,5,FALSE),\"\")","v":""},{"$f":"IFERROR(HLOOKUP(YR$19,DEBUT!$BS$2:$CM$18,9,FALSE),\"\")","v":""},{"$f":"IFERROR(HLOOKUP(YR$19,DEBUT!$BS$2:$CM$18,13,FALSE),\"\")","v":""},{"$f":"IFERROR(HLOOKUP(YR$19,DEBUT!$BS$2:$CM$18,17,FALSE),\"\")","v":""},null,null,null,{"$f":"IFERROR(HLOOKUP(YY$19,DEBUT!$BS$2:$CM$18,5,FALSE),\"\")","v":""},{"$f":"IFERROR(HLOOKUP(YY$19,DEBUT!$BS$2:$CM$18,9,FALSE),\"\")","v":""},{"$f":"IFERROR(HLOOKUP(YY$19,DEBUT!$BS$2:$CM$18,13,FALSE),\"\")","v":""},{"$f":"IFERROR(HLOOKUP(YY$19,DEBUT!$BS$2:$CM$18,17,FALSE),\"\")","v":""},null,null,null,null,null,null,null,{"$f":"IFERROR(HLOOKUP(ZJ$19,DEBUT!$BS$2:$CM$18,5,FALSE),\"\")","v":""},{"$f":"IFERROR(HLOOKUP(ZJ$19,DEBUT!$BS$2:$CM$18,9,FALSE),\"\")","v":""},{"$f":"IFERROR(HLOOKUP(ZJ$19,DEBUT!$BS$2:$CM$18,13,FALSE),\"\")","v":""},{"$f":"IFERROR(HLOOKUP(ZJ$19,DEBUT!$BS$2:$CM$18,17,FALSE),\"\")","v":""},null,null,null,{"$f":"IFERROR(HLOOKUP(ZQ$19,DEBUT!$BS$2:$CM$18,5,FALSE),\"\")","v":""},{"$f":"IFERROR(HLOOKUP(ZQ$19,DEBUT!$BS$2:$CM$18,9,FALSE),\"\")","v":""},{"$f":"IFERROR(HLOOKUP(ZQ$19,DEBUT!$BS$2:$CM$18,13,FALSE),\"\")","v":""},{"$f":"IFERROR(HLOOKUP(ZQ$19,DEBUT!$BS$2:$CM$18,17,FALSE),\"\")","v":""},null,null,null,null,null,{"$f":"IFERROR(HLOOKUP(ZZ$19,DEBUT!$BS$2:$CM$18,5,FALSE),\"\")","v":""},{"$f":"IFERROR(HLOOKUP(ZZ$19,DEBUT!$BS$2:$CM$18,9,FALSE),\"\")","v":""},{"$f":"IFERROR(HLOOKUP(ZZ$19,DEBUT!$BS$2:$CM$18,13,FALSE),\"\")","v":""},{"$f":"IFERROR(HLOOKUP(ZZ$19,DEBUT!$BS$2:$CM$18,17,FALSE),\"\")","v":""},null,null,null,{"$f":"IFERROR(HLOOKUP(AAG$19,DEBUT!$BS$2:$CM$18,5,FALSE),\"\")","v":""},{"$f":"IFERROR(HLOOKUP(AAG$19,DEBUT!$BS$2:$CM$18,9,FALSE),\"\")","v":""},{"$f":"IFERROR(HLOOKUP(AAG$19,DEBUT!$BS$2:$CM$18,13,FALSE),\"\")","v":""},{"$f":"IFERROR(HLOOKUP(AAG$19,DEBUT!$BS$2:$CM$18,17,FALSE),\"\")","v":""},null,null,null,null,null,null,null,{"$f":"IFERROR(HLOOKUP(AAR$19,DEBUT!$BS$2:$CM$18,5,FALSE),\"\")","v":""},{"$f":"IFERROR(HLOOKUP(AAR$19,DEBUT!$BS$2:$CM$18,9,FALSE),\"\")","v":""},{"$f":"IFERROR(HLOOKUP(AAR$19,DEBUT!$BS$2:$CM$18,13,FALSE),\"\")","v":""},{"$f":"IFERROR(HLOOKUP(AAR$19,DEBUT!$BS$2:$CM$18,17,FALSE),\"\")","v":""},null,null,null,{"$f":"IFERROR(HLOOKUP(AAY$19,DEBUT!$BS$2:$CM$18,5,FALSE),\"\")","v":""},{"$f":"IFERROR(HLOOKUP(AAY$19,DEBUT!$BS$2:$CM$18,9,FALSE),\"\")","v":""},{"$f":"IFERROR(HLOOKUP(AAY$19,DEBUT!$BS$2:$CM$18,13,FALSE),\"\")","v":""},{"$f":"IFERROR(HLOOKUP(AAY$19,DEBUT!$BS$2:$CM$18,17,FALSE),\"\")","v":""},null,null,null,null,null,{"$f":"IFERROR(HLOOKUP(ABH$19,DEBUT!$BS$2:$CM$18,5,FALSE),\"\")","v":""},{"$f":"IFERROR(HLOOKUP(ABH$19,DEBUT!$BS$2:$CM$18,9,FALSE),\"\")","v":""},{"$f":"IFERROR(HLOOKUP(ABH$19,DEBUT!$BS$2:$CM$18,13,FALSE),\"\")","v":""},{"$f":"IFERROR(HLOOKUP(ABH$19,DEBUT!$BS$2:$CM$18,17,FALSE),\"\")","v":""},null,null,null,{"$f":"IFERROR(HLOOKUP(ABO$19,DEBUT!$BS$2:$CM$18,5,FALSE),\"\")","v":""},{"$f":"IFERROR(HLOOKUP(ABO$19,DEBUT!$BS$2:$CM$18,9,FALSE),\"\")","v":""},{"$f":"IFERROR(HLOOKUP(ABO$19,DEBUT!$BS$2:$CM$18,13,FALSE),\"\")","v":""},{"$f":"IFERROR(HLOOKUP(ABO$19,DEBUT!$BS$2:$CM$18,17,FALSE),\"\")","v":""},null,null,null,null,null,null,null,{"$f":"IFERROR(HLOOKUP(ABZ$19,DEBUT!$BS$2:$CM$18,5,FALSE),\"\")","v":""},{"$f":"IFERROR(HLOOKUP(ABZ$19,DEBUT!$BS$2:$CM$18,9,FALSE),\"\")","v":""},{"$f":"IFERROR(HLOOKUP(ABZ$19,DEBUT!$BS$2:$CM$18,13,FALSE),\"\")","v":""},{"$f":"IFERROR(HLOOKUP(ABZ$19,DEBUT!$BS$2:$CM$18,17,FALSE),\"\")","v":""},null,null,null,{"$f":"IFERROR(HLOOKUP(ACG$19,DEBUT!$BS$2:$CM$18,5,FALSE),\"\")","v":""},{"$f":"IFERROR(HLOOKUP(ACG$19,DEBUT!$BS$2:$CM$18,9,FALSE),\"\")","v":""},{"$f":"IFERROR(HLOOKUP(ACG$19,DEBUT!$BS$2:$CM$18,13,FALSE),\"\")","v":""},{"$f":"IFERROR(HLOOKUP(ACG$19,DEBUT!$BS$2:$CM$18,17,FALSE),\"\")","v":""},null,null,null,null,null,{"$f":"IFERROR(HLOOKUP(ACP$19,DEBUT!$BS$2:$CM$18,5,FALSE),\"\")","v":""},{"$f":"IFERROR(HLOOKUP(ACP$19,DEBUT!$BS$2:$CM$18,9,FALSE),\"\")","v":""},{"$f":"IFERROR(HLOOKUP(ACP$19,DEBUT!$BS$2:$CM$18,13,FALSE),\"\")","v":""},{"$f":"IFERROR(HLOOKUP(ACP$19,DEBUT!$BS$2:$CM$18,17,FALSE),\"\")","v":""},null,null,null,{"$f":"IFERROR(HLOOKUP(ACW$19,DEBUT!$BS$2:$CM$18,5,FALSE),\"\")","v":""},{"$f":"IFERROR(HLOOKUP(ACW$19,DEBUT!$BS$2:$CM$18,9,FALSE),\"\")","v":""},{"$f":"IFERROR(HLOOKUP(ACW$19,DEBUT!$BS$2:$CM$18,13,FALSE),\"\")","v":""},{"$f":"IFERROR(HLOOKUP(ACW$19,DEBUT!$BS$2:$CM$18,17,FALSE),\"\")","v":""},null,null,null,null,null,null,null,{"$f":"IFERROR(HLOOKUP(ADH$19,DEBUT!$BS$2:$CM$18,5,FALSE),\"\")","v":""},{"$f":"IFERROR(HLOOKUP(ADH$19,DEBUT!$BS$2:$CM$18,9,FALSE),\"\")","v":""},{"$f":"IFERROR(HLOOKUP(ADH$19,DEBUT!$BS$2:$CM$18,13,FALSE),\"\")","v":""},{"$f":"IFERROR(HLOOKUP(ADH$19,DEBUT!$BS$2:$CM$18,17,FALSE),\"\")","v":""},null,null,null,{"$f":"IFERROR(HLOOKUP(ADO$19,DEBUT!$BS$2:$CM$18,5,FALSE),\"\")","v":""},{"$f":"IFERROR(HLOOKUP(ADO$19,DEBUT!$BS$2:$CM$18,9,FALSE),\"\")","v":""},{"$f":"IFERROR(HLOOKUP(ADO$19,DEBUT!$BS$2:$CM$18,13,FALSE),\"\")","v":""},{"$f":"IFERROR(HLOOKUP(ADO$19,DEBUT!$BS$2:$CM$18,17,FALSE),\"\")","v":""},null,null,null,null,null,{"$f":"IFERROR(HLOOKUP(ADX$19,DEBUT!$BS$2:$CM$18,5,FALSE),\"\")","v":""},{"$f":"IFERROR(HLOOKUP(ADX$19,DEBUT!$BS$2:$CM$18,9,FALSE),\"\")","v":""},{"$f":"IFERROR(HLOOKUP(ADX$19,DEBUT!$BS$2:$CM$18,13,FALSE),\"\")","v":""},{"$f":"IFERROR(HLOOKUP(ADX$19,DEBUT!$BS$2:$CM$18,17,FALSE),\"\")","v":""},null,null,null,{"$f":"IFERROR(HLOOKUP(AEE$19,DEBUT!$BS$2:$CM$18,5,FALSE),\"\")","v":""},{"$f":"IFERROR(HLOOKUP(AEE$19,DEBUT!$BS$2:$CM$18,9,FALSE),\"\")","v":""},{"$f":"IFERROR(HLOOKUP(AEE$19,DEBUT!$BS$2:$CM$18,13,FALSE),\"\")","v":""},{"$f":"IFERROR(HLOOKUP(AEE$19,DEBUT!$BS$2:$CM$18,17,FALSE),\"\")","v":""}]
[]
[]
[null,"MATCHS",null,null,null,"SCORE",null,null,null,null,null,null,"SCORE",null,null,null,null,null,null,null,null,"SCORE",null,null,null,null,null,null,"SCORE",null,null,null,null,null,null,null,null,null,null,"SCORE",null,null,null,null,null,null,"SCORE",null,null,null,null,null,null,null,null,"SCORE",null,null,null,null,null,null,"SCORE",null,null,null,null,null,null,null,null,null,null,"SCORE",null,null,null,null,null,null,"SCORE",null,null,null,null,null,null,null,null,"SCORE",null,null,null,null,null,null,"SCORE",null,null,null,null,null,null,null,null,null,null,"SCORE",null,null,null,null,null,null,"SCORE",null,null,null,null,null,null,null,null,"SCORE",null,null,null,null,null,null,"SCORE",null,null,null,null,null,null,null,null,null,null,"SCORE",null,null,null,null,null,null,"SCORE",null,null,null,null,null,null,null,null,"SCORE",null,null,null,null,null,null,"SCORE",null,null,null,null,null,null,null,null,null,null,"SCORE",null,null,null,null,null,null,"SCORE",null,null,null,null,null,null,null,null,"SCORE",null,null,null,null,null,null,"SCORE",null,null,null,null,null,null,null,null,null,null,"SCORE",null,null,null,null,null,null,"SCORE",null,null,null,null,null,null,null,null,"SCORE",null,null,null,null,null,null,"SCORE",null,null,null,null,null,null,null,null,null,null,"SCORE",null,null,null,null,null,null,"SCORE",null,null,null,null,null,null,null,null,"SCORE",null,null,null,null,null,null,"SCORE",null,null,null,null,null,null,null,null,null,null,"SCORE",null,null,null,null,null,null,"SCORE",null,null,null,null,null,null,null,null,"SCORE",null,null,null,null,null,null,"SCORE",null,null,null,null,null,null,null,null,null,null,"SCORE",null,null,null,null,null,null,"SCORE",null,null,null,null,null,null,null,null,"SCORE",null,null,null,null,null,null,"SCORE",null,null,null,null,null,null,null,null,null,null,"SCORE",null,null,null,null,null,null,"SCORE",null,null,null,null,null,null,null,null,"SCORE",null,null,null,null,null,null,"SCORE",null,null,null,null,null,null,null,null,null,null,"SCORE",null,null,null,null,null,null,"SCORE",null,null,null,null,null,null,null,null,"SCORE",null,null,null,null,null,null,"SCORE",null,null,null,null,null,null,null,null,null,null,"SCORE",null,null,null,null,null,null,"SCORE",null,null,null,null,null,null,null,null,"SCORE",null,null,null,null,null,null,"SCORE",null,null,null,null,null,null,null,null,null,null,"SCORE",null,null,null,null,null,null,"SCORE",null,null,null,null,null,null,null,null,"SCORE",null,null,null,null,null,null,"SCORE",null,null,null,null,null,null,null,null,null,null,"SCORE",null,null,null,null,null,null,"SCORE",null,null,null,null,null,null,null,null,"SCORE",null,null,null,null,null,null,"SCORE",null,null,null,null,null,null,null,null,null,null,"SCORE",null,null,null,null,null,null,"SCORE",null,null,null,null,null,null,null,null,"SCORE",null,null,null,null,null,null,"SCORE",null,null,null,null,null,null,null,null,null,null,"SCORE",null,null,null,null,null,null,"SCORE",null,null,null,null,null,null,null,null,"SCORE",null,null,null,null,null,null,"SCORE",null,null,null,null,null,null,null,null,null,null,"SCORE",null,null,null,null,null,null,"SCORE",null,null,null,null,null,null,null,null,"SCORE",null,null,null,null,null,null,"SCORE",null,null,null,null,null,null,null,null,null,null,"SCORE",null,null,null,null,null,null,"SCORE",null,null,null,null,null,null,null,null,"SCORE",null,null,null,null,null,null,"SCORE",null,null,null,null,null,null,null,null,null,null,"SCORE",null,null,null,null,null,null,"SCORE",null,null,null,null,null,null,null,null,"SCORE",null,null,null,null,null,null,"SCORE",null,null,null,null,null,null,null,null,null,null,"SCORE",null,null,null,null,null,null,"SCORE",null,null,null,null,null,null,null,null,"SCORE",null,null,null,null,null,null,"SCORE",null,null,null,null,null,null,null,null,null,null,"SCORE",null,null,null,null,null,null,"SCORE",null,null,null,null,null,null,null,null,"SCORE",null,null,null,null,null,null,"SCORE",null,null,null,null,null,null,null,null,null,null,"SCORE",null,null,null,null,null,null,"SCORE",null,null,null,null,null,null,null,null,"SCORE",null,null,null,null,null,null,"SCORE",null,null,null,null,null,null,null,null,null,null,"SCORE",null,null,null,null,null,null,"SCORE",null,null,null,null,null,null,null,null,"SCORE",null,null,null,null,null,null,"SCORE"]
[null,"POINTS MARQUES EN OU HORS ZONES DANGEREUSES",null,null,null,"POINTS MARQUES EN ZONES DANGEREUSES",null,"POINTS MARQUES HORS ZONES DANGEREUSES",null,null,null,null,"POINTS MARQUES EN ZONES DANGEREUSES",null,"POINTS MARQUES HORS ZONES DANGEREUSES",null,null,null,null,null,null,"POINTS MARQUES EN ZONES DANGEREUSES",null,"POINTS MARQUES HORS ZONES DANGEREUSES",null,null,null,null,"POINTS MARQUES EN ZONES DANGEREUSES",null,"POINTS MARQUES HORS ZONES DANGEREUSES",null,null,null,null,null,null,null,null,"POINTS MARQUES EN ZONES DANGEREUSES",null,"POINTS MARQUES HORS ZONES DANGEREUSES",null,null,null,null,"POINTS MARQUES EN ZONES DANGEREUSES",null,"POINTS MARQUES HORS ZONES DANGEREUSES",null,null,null,null,null,null,"POINTS MARQUES EN ZONES DANGEREUSES",null,"POINTS MARQUES HORS ZONES DANGEREUSES",null,null,null,null,"POINTS MARQUES EN ZONES DANGEREUSES",null,"POINTS MARQUES HORS ZONES DANGEREUSES",null,null,null,null,null,null,null,null,"POINTS MARQUES EN ZONES DANGEREUSES",null,"POINTS MARQUES HORS ZONES DANGEREUSES",null,null,null,null,"POINTS MARQUES EN ZONES DANGEREUSES",null,"POINTS MARQUES HORS ZONES DANGEREUSES",null,null,null,null,null,null,"POINTS MARQUES EN ZONES DANGEREUSES",null,"POINTS MARQUES HORS ZONES DANGEREUSES",null,null,null,null,"POINTS MARQUES EN ZONES DANGEREUSES",null,"POINTS MARQUES HORS ZONES DANGEREUSES",null,null,null,null,null,null,null,null,"POINTS MARQUES EN ZONES DANGEREUSES",null,"POINTS MARQUES HORS ZONES DANGEREUSES",null,null,null,null,"POINTS MARQUES EN ZONES DANGEREUSES",null,"POINTS MARQUES HORS ZONES DANGEREUSES",null,null,null,null,null,null,"POINTS MARQUES EN ZONES DANGEREUSES",null,"POINTS MARQUES HORS ZONES DANGEREUSES",null,null,null,null,"POINTS MARQUES EN ZONES DANGEREUSES",null,"POINTS MARQUES HORS ZONES DANGEREUSES",null,null,null,null,null,null,null,null,"POINTS MARQUES EN ZONES DANGEREUSES",null,"POINTS MARQUES HORS ZONES DANGEREUSES",null,null,null,null,"POINTS MARQUES EN ZONES DANGEREUSES",null,"POINTS MARQUES HORS ZONES DANGEREUSES",null,null,null,null,null,null,"POINTS MARQUES EN ZONES DANGEREUSES",null,"POINTS MARQUES HORS ZONES DANGEREUSES",null,null,null,null,"POINTS MARQUES EN ZONES DANGEREUSES",null,"POINTS MARQUES HORS ZONES DANGEREUSES",null,null,null,null,null,null,null,null,"POINTS MARQUES EN ZONES DANGEREUSES",null,"POINTS MARQUES HORS ZONES DANGEREUSES",null,null,null,null,"POINTS MARQUES EN ZONES DANGEREUSES",null,"POINTS MARQUES HORS ZONES DANGEREUSES",null,null,null,null,null,null,"POINTS MARQUES EN ZONES DANGEREUSES",null,"POINTS MARQUES HORS ZONES DANGEREUSES",null,null,null,null,"POINTS MARQUES EN ZONES DANGEREUSES",null,"POINTS MARQUES HORS ZONES DANGEREUSES",null,null,null,null,null,null,null,null,"POINTS MARQUES EN ZONES DANGEREUSES",null,"POINTS MARQUES HORS ZONES DANGEREUSES",null,null,null,null,"POINTS MARQUES EN ZONES DANGEREUSES",null,"POINTS MARQUES HORS ZONES DANGEREUSES",null,null,null,null,null,null,"POINTS MARQUES EN ZONES DANGEREUSES",null,"POINTS MARQUES HORS ZONES DANGEREUSES",null,null,null,null,"POINTS MARQUES EN ZONES DANGEREUSES",null,"POINTS MARQUES HORS ZONES DANGEREUSES",null,null,null,null,null,null,null,null,"POINTS MARQUES EN ZONES DANGEREUSES",null,"POINTS MARQUES HORS ZONES DANGEREUSES",null,null,null,null,"POINTS MARQUES EN ZONES DANGEREUSES",null,"POINTS MARQUES HORS ZONES DANGEREUSES",null,null,null,null,null,null,"POINTS MARQUES EN ZONES DANGEREUSES",null,"POINTS MARQUES HORS ZONES DANGEREUSES",null,null,null,null,"POINTS MARQUES EN ZONES DANGEREUSES",null,"POINTS MARQUES HORS ZONES DANGEREUSES",null,null,null,null,null,null,null,null,"POINTS MARQUES EN ZONES DANGEREUSES",null,"POINTS MARQUES HORS ZONES DANGEREUSES",null,null,null,null,"POINTS MARQUES EN ZONES DANGEREUSES",null,"POINTS MARQUES HORS ZONES DANGEREUSES",null,null,null,null,null,null,"POINTS MARQUES EN ZONES DANGEREUSES",null,"POINTS MARQUES HORS ZONES DANGEREUSES",null,null,null,null,"POINTS MARQUES EN ZONES DANGEREUSES",null,"POINTS MARQUES HORS ZONES DANGEREUSES",null,null,null,null,null,null,null,null,"POINTS MARQUES EN ZONES DANGEREUSES",null,"POINTS MARQUES HORS ZONES DANGEREUSES",null,null,null,null,"POINTS MARQUES EN ZONES DANGEREUSES",null,"POINTS MARQUES HORS ZONES DANGEREUSES",null,null,null,null,null,null,"POINTS MARQUES EN ZONES DANGEREUSES",null,"POINTS MARQUES HORS ZONES DANGEREUSES",null,null,null,null,"POINTS MARQUES EN ZONES DANGEREUSES",null,"POINTS MARQUES HORS ZONES DANGEREUSES",null,null,null,null,null,null,null,null,"POINTS MARQUES EN ZONES DANGEREUSES",null,"POINTS MARQUES HORS ZONES DANGEREUSES",null,null,null,null,"POINTS MARQUES EN ZONES DANGEREUSES",null,"POINTS MARQUES HORS ZONES DANGEREUSES",null,null,null,null,null,null,"POINTS MARQUES EN ZONES DANGEREUSES",null,"POINTS MARQUES HORS ZONES DANGEREUSES",null,null,null,null,"POINTS MARQUES EN ZONES DANGEREUSES",null,"POINTS MARQUES HORS ZONES DANGEREUSES",null,null,null,null,null,null,null,null,"POINTS MARQUES EN ZONES DANGEREUSES",null,"POINTS MARQUES HORS ZONES DANGEREUSES",null,null,null,null,"POINTS MARQUES EN ZONES DANGEREUSES",null,"POINTS MARQUES HORS ZONES DANGEREUSES",null,null,null,null,null,null,"POINTS MARQUES EN ZONES DANGEREUSES",null,"POINTS MARQUES HORS ZONES DANGEREUSES",null,null,null,null,"POINTS MARQUES EN ZONES DANGEREUSES",null,"POINTS MARQUES HORS ZONES DANGEREUSES",null,null,null,null,null,null,null,null,"POINTS MARQUES EN ZONES DANGEREUSES",null,"POINTS MARQUES HORS ZONES DANGEREUSES",null,null,null,null,"POINTS MARQUES EN ZONES DANGEREUSES",null,"POINTS MARQUES HORS ZONES DANGEREUSES",null,null,null,null,null,null,"POINTS MARQUES EN ZONES DANGEREUSES",null,"POINTS MARQUES HORS ZONES DANGEREUSES",null,null,null,null,"POINTS MARQUES EN ZONES DANGEREUSES",null,"POINTS MARQUES HORS ZONES DANGEREUSES",null,null,null,null,null,null,null,null,"POINTS MARQUES EN ZONES DANGEREUSES",null,"POINTS MARQUES HORS ZONES DANGEREUSES",null,null,null,null,"POINTS MARQUES EN ZONES DANGEREUSES",null,"POINTS MARQUES HORS ZONES DANGEREUSES",null,null,null,null,null,null,"POINTS MARQUES EN ZONES DANGEREUSES",null,"POINTS MARQUES HORS ZONES DANGEREUSES",null,null,null,null,"POINTS MARQUES EN ZONES DANGEREUSES",null,"POINTS MARQUES HORS ZONES DANGEREUSES",null,null,null,null,null,null,null,null,"POINTS MARQUES EN ZONES DANGEREUSES",null,"POINTS MARQUES HORS ZONES DANGEREUSES",null,null,null,null,"POINTS MARQUES EN ZONES DANGEREUSES",null,"POINTS MARQUES HORS ZONES DANGEREUSES",null,null,null,null,null,null,"POINTS MARQUES EN ZONES DANGEREUSES",null,"POINTS MARQUES HORS ZONES DANGEREUSES",null,null,null,null,"POINTS MARQUES EN ZONES DANGEREUSES",null,"POINTS MARQUES HORS ZONES DANGEREUSES",null,null,null,null,null,null,null,null,"POINTS MARQUES EN ZONES DANGEREUSES",null,"POINTS MARQUES HORS ZONES DANGEREUSES",null,null,null,null,"POINTS MARQUES EN ZONES DANGEREUSES",null,"POINTS MARQUES HORS ZONES DANGEREUSES",null,null,null,null,null,null,"POINTS MARQUES EN ZONES DANGEREUSES",null,"POINTS MARQUES HORS ZONES DANGEREUSES",null,null,null,null,"POINTS MARQUES EN ZONES DANGEREUSES",null,"POINTS MARQUES HORS ZONES DANGEREUSES",null,null,null,null,null,null,null,null,"POINTS MARQUES EN ZONES DANGEREUSES",null,"POINTS MARQUES HORS ZONES DANGEREUSES",null,null,null,null,"POINTS MARQUES EN ZONES DANGEREUSES",null,"POINTS MARQUES HORS ZONES DANGEREUSES",null,null,null,null,null,null,"POINTS MARQUES EN ZONES DANGEREUSES",null,"POINTS MARQUES HORS ZONES DANGEREUSES",null,null,null,null,"POINTS MARQUES EN ZONES DANGEREUSES",null,"POINTS MARQUES HORS ZONES DANGEREUSES",null,null,null,null,null,null,null,null,"POINTS MARQUES EN ZONES DANGEREUSES",null,"POINTS MARQUES HORS ZONES DANGEREUSES",null,null,null,null,"POINTS MARQUES EN ZONES DANGEREUSES",null,"POINTS MARQUES HORS ZONES DANGEREUSES",null,null,null,null,null,null,"POINTS MARQUES EN ZONES DANGEREUSES",null,"POINTS MARQUES HORS ZONES DANGEREUSES",null,null,null,null,"POINTS MARQUES EN ZONES DANGEREUSES",null,"POINTS MARQUES HORS ZONES DANGEREUSES",null,null,null,null,null,null,null,null,"POINTS MARQUES EN ZONES DANGEREUSES",null,"POINTS MARQUES HORS ZONES DANGEREUSES",null,null,null,null,"POINTS MARQUES EN ZONES DANGEREUSES",null,"POINTS MARQUES HORS ZONES DANGEREUSES",null,null,null,null,null,null,"POINTS MARQUES EN ZONES DANGEREUSES",null,"POINTS MARQUES HORS ZONES DANGEREUSES",null,null,null,null,"POINTS MARQUES EN ZONES DANGEREUSES",null,"POINTS MARQUES HORS ZONES DANGEREUSES",null,null,null,null,null,null,null,null,"POINTS MARQUES EN ZONES DANGEREUSES",null,"POINTS MARQUES HORS ZONES DANGEREUSES",null,null,null,null,"POINTS MARQUES EN ZONES DANGEREUSES",null,"POINTS MARQUES HORS ZONES DANGEREUSES",null,null,null,null,null,null,"POINTS MARQUES EN ZONES DANGEREUSES",null,"POINTS MARQUES HORS ZONES DANGEREUSES",null,null,null,null,"POINTS MARQUES EN ZONES DANGEREUSES",null,"POINTS MARQUES HORS ZONES DANGEREUSES",null,null,null,null,null,null,null,null,"POINTS MARQUES EN ZONES DANGEREUSES",null,"POINTS MARQUES HORS ZONES DANGEREUSES",null,null,null,null,"POINTS MARQUES EN ZONES DANGEREUSES",null,"POINTS MARQUES HORS ZONES DANGEREUSES",null,null,null,null,null,null,"POINTS MARQUES EN ZONES DANGEREUSES",null,"POINTS MARQUES HORS ZONES DANGEREUSES",null,null,null,null,"POINTS MARQUES EN ZONES DANGEREUSES",null,"POINTS MARQUES HORS ZONES DANGEREUSES",null,null,null,null,null,null,null,null,"POINTS MARQUES EN ZONES DANGEREUSES",null,"POINTS MARQUES HORS ZONES DANGEREUSES",null,null,null,null,"POINTS MARQUES EN ZONES DANGEREUSES",null,"POINTS MARQUES HORS ZONES DANGEREUSES",null,null,null,null,null,null,"POINTS MARQUES EN ZONES DANGEREUSES",null,"POINTS MARQUES HORS ZONES DANGEREUSES",null,null,null,null,"POINTS MARQUES EN ZONES DANGEREUSES",null,"POINTS MARQUES HORS ZONES DANGEREUSES",null,null,null,null,null,null,null,null,"POINTS MARQUES EN ZONES DANGEREUSES",null,"POINTS MARQUES HORS ZONES DANGEREUSES",null,null,null,null,"POINTS MARQUES EN ZONES DANGEREUSES",null,"POINTS MARQUES HORS ZONES DANGEREUSES",null,null,null,null,null,null,"POINTS MARQUES EN ZONES DANGEREUSES",null,"POINTS MARQUES HORS ZONES DANGEREUSES",null,null,null,null,"POINTS MARQUES EN ZONES DANGEREUSES",null,"POINTS MARQUES HORS ZONES DANGEREUSES",null,null,null,null,null,null,null,null,"POINTS MARQUES EN ZONES DANGEREUSES",null,"POINTS MARQUES HORS ZONES DANGEREUSES",null,null,null,null,"POINTS MARQUES EN ZONES DANGEREUSES",null,"POINTS MARQUES HORS ZONES DANGEREUSES",null,null,null,null,null,null,"POINTS MARQUES EN ZONES DANGEREUSES",null,"POINTS MARQUES HORS ZONES DANGEREUSES",null,null,null,null,"POINTS MARQUES EN ZONES DANGEREUSES",null,"POINTS MARQUES HORS ZONES DANGEREUSES"]
[null,1,null,null,null,null,null,null,null,null,null,null,null,null,null,null,null,null,null,null,null,null,null,null,null,null,null,null,null,null,null,null,null,null,null,"NOUVEAU MATCH",null,null,null,null,null,null,null,null,null,null,null,null,null,null,null,null,null,null,null,null,null,null,null,null,null,null,null,null,null,null,null,null,null,"NOUVEAU MATCH",null,null,null,null,null,null,null,null,null,null,null,null,null,null,null,null,null,null,null,null,null,null,null,null,null,null,null,null,null,null,null,null,null,"NOUVEAU MATCH",null,null,null,null,null,null,null,null,null,null,null,null,null,null,null,null,null,null,null,null,null,null,null,null,null,null,null,null,null,null,null,null,null,"NOUVEAU MATCH",null,null,null,null,null,null,null,null,null,null,null,null,null,null,null,null,null,null,null,null,null,null,null,null,null,null,null,null,null,null,null,null,null,"NOUVEAU MATCH",null,null,null,null,null,null,null,null,null,null,null,null,null,null,null,null,null,null,null,null,null,null,null,null,null,null,null,null,null,null,null,null,null,"NOUVEAU MATCH",null,null,null,null,null,null,null,null,null,null,null,null,null,null,null,null,null,null,null,null,null,null,null,null,null,null,null,null,null,null,null,null,null,"NOUVEAU MATCH",null,null,null,null,null,null,null,null,null,null,null,null,null,null,null,null,null,null,null,null,null,null,null,null,null,null,null,null,null,null,null,null,null,"NOUVEAU MATCH",null,null,null,null,null,null,null,null,null,null,null,null,null,null,null,null,null,null,null,null,null,null,null,null,null,null,null,null,null,null,null,null,null,"NOUVEAU MATCH",null,null,null,null,null,null,null,null,null,null,null,null,null,null,null,null,null,null,null,null,null,null,null,null,null,null,null,null,null,null,null,null,null,"NOUVEAU MATCH",null,null,null,null,null,null,null,null,null,null,null,null,null,null,null,null,null,null,null,null,null,null,null,null,null,null,null,null,null,null,null,null,null,"NOUVEAU MATCH",null,null,null,null,null,null,null,null,null,null,null,null,null,null,null,null,null,null,null,null,null,null,null,null,null,null,null,null,null,null,null,null,null,"NOUVEAU MATCH",null,null,null,null,null,null,null,null,null,null,null,null,null,null,null,null,null,null,null,null,null,null,null,null,null,null,null,null,null,null,null,null,null,"NOUVEAU MATCH",null,null,null,null,null,null,null,null,null,null,null,null,null,null,null,null,null,null,null,null,null,null,null,null,null,null,null,null,null,null,null,null,null,"NOUVEAU MATCH",null,null,null,null,null,null,null,null,null,null,null,null,null,null,null,null,null,null,null,null,null,null,null,null,null,null,null,null,null,null,null,null,null,"NOUVEAU MATCH",null,null,null,null,null,null,null,null,null,null,null,null,null,null,null,null,null,null,null,null,null,null,null,null,null,null,null,null,null,null,null,null,null,"NOUVEAU MATCH",null,null,null,null,null,null,null,null,null,null,null,null,null,null,null,null,null,null,null,null,null,null,null,null,null,null,null,null,null,null,null,null,null,"NOUVEAU MATCH",null,null,null,null,null,null,null,null,null,null,null,null,null,null,null,null,null,null,null,null,null,null,null,null,null,null,null,null,null,null,null,null,null,"NOUVEAU MATCH",null,null,null,null,null,null,null,null,null,null,null,null,null,null,null,null,null,null,null,null,null,null,null,null,null,null,null,null,null,null,null,null,null,"NOUVEAU MATCH",null,null,null,null,null,null,null,null,null,null,null,null,null,null,null,null,null,null,null,null,null,null,null,null,null,null,null,null,null,null,null,null,null,"NOUVEAU MATCH",null,null,null,null,null,null,null,null,null,null,null,null,null,null,null,null,null,null,null,null,null,null,null,null,null,null,null,null,null,null,null,null,null,"NOUVEAU MATCH",null,null,null,null,null,null,null,null,null,null,null,null,null,null,null,null,null,null,null,null,null,null,null,null,null,null,null,null,null,null,null,null,null,"NOUVEAU MATCH",null,null,null,null,null,null,null,null,null,null,null,null,null,null,null,null,null,null,null,null,null,null,null,null,null,null,null,null,null,null,null,null,null,"NOUVEAU MATCH",null,null,null,null,null,null,null,null,null,null,null,null,null,null,null,null,null,null,null,null,null,null,null,null,null,null,null,null,null,null,null,null,null,"NOUVEAU MATCH"]
[null,2]
[null,3]
[null,4]
[null,5]
[null,6]
[null,7]
[null,8]
[null,9]
[null,10]
[null,11]
[null,"TOTAL",null,null,null,{"$f":"(SUMPRODUCT(N(ISTEXT(F29:F39))))","v":0},"+",{"$f":"(SUMPRODUCT(N(ISTEXT(H29:H39))))","v":0},null,null,null,null,{"$f":"(SUMPRODUCT(N(ISTEXT(M29:M39))))","v":0},"+",{"$f":"(SUMPRODUCT(N(ISTEXT(O29:O39))))","v":0},null,null,null,null,null,null,{"$f":"(SUMPRODUCT(N(ISTEXT(V29:V39))))","v":0},"+",{"$f":"(SUMPRODUCT(N(ISTEXT(X29:X39))))","v":0},null,null,null,null,{"$f":"(SUMPRODUCT(N(ISTEXT(AC29:AC39))))","v":0},"+",{"$f":"(SUMPRODUCT(N(ISTEXT(AE29:AE39))))","v":0},null,null,null,null,null,null,null,null,{"$f":"(SUMPRODUCT(N(ISTEXT(AN29:AN39))))","v":0},"+",{"$f":"(SUMPRODUCT(N(ISTEXT(AP29:AP39))))","v":0},null,null,null,null,{"$f":"(SUMPRODUCT(N(ISTEXT(AU29:AU39))))","v":0},"+",{"$f":"(SUMPRODUCT(N(ISTEXT(AW29:AW39))))","v":0},null,null,null,null,null,null,{"$f":"(SUMPRODUCT(N(ISTEXT(BD29:BD39))))","v":0},"+",{"$f":"(SUMPRODUCT(N(ISTEXT(BF29:BF39))))","v":0},null,null,null,null,{"$f":"(SUMPRODUCT(N(ISTEXT(BK29:BK39))))","v":0},"+",{"$f":"(SUMPRODUCT(N(ISTEXT(BM29:BM39))))","v":0},null,null,null,null,null,null,null,null,{"$f":"(SUMPRODUCT(N(ISTEXT(BV29:BV39))))","v":0},"+",{"$f":"(SUMPRODUCT(N(ISTEXT(BX29:BX39))))","v":0},null,null,null,null,{"$f":"(SUMPRODUCT(N(ISTEXT(CC29:CC39))))","v":0},"+",{"$f":"(SUMPRODUCT(N(ISTEXT(CE29:CE39))))","v":0},null,null,null,null,null,null,{"$f":"(SUMPRODUCT(N(ISTEXT(CL29:CL39))))","v":0},"+",{"$f":"(SUMPRODUCT(N(ISTEXT(CN29:CN39))))","v":0},null,null,null,null,{"$f":"(SUMPRODUCT(N(ISTEXT(CS29:CS39))))","v":0},"+",{"$f":"(SUMPRODUCT(N(ISTEXT(CU29:CU39))))","v":0},null,null,null,null,null,null,null,null,{"$f":"(SUMPRODUCT(N(ISTEXT(DD29:DD39))))","v":0},"+",{"$f":"(SUMPRODUCT(N(ISTEXT(DF29:DF39))))","v":0},null,null,null,null,{"$f":"(SUMPRODUCT(N(ISTEXT(DK29:DK39))))","v":0},"+",{"$f":"(SUMPRODUCT(N(ISTEXT(DM29:DM39))))","v":0},null,null,null,null,null,null,{"$f":"(SUMPRODUCT(N(ISTEXT(DT29:DT39))))","v":0},"+",{"$f":"(SUMPRODUCT(N(ISTEXT(DV29:DV39))))","v":0},null,null,null,null,{"$f":"(SUMPRODUCT(N(ISTEXT(EA29:EA39))))","v":0},"+",{"$f":"(SUMPRODUCT(N(ISTEXT(EC29:EC39))))","v":0},null,null,null,null,null,null,null,null,{"$f":"(SUMPRODUCT(N(ISTEXT(EL29:EL39))))","v":0},"+",{"$f":"(SUMPRODUCT(N(ISTEXT(EN29:EN39))))","v":0},null,null,null,null,{"$f":"(SUMPRODUCT(N(ISTEXT(ES29:ES39))))","v":0},"+",{"$f":"(SUMPRODUCT(N(ISTEXT(EU29:EU39))))","v":0},null,null,null,null,null,null,{"$f":"(SUMPRODUCT(N(ISTEXT(FB29:FB39))))","v":0},"+",{"$f":"(SUMPRODUCT(N(ISTEXT(FD29:FD39))))","v":0},null,null,null,null,{"$f":"(SUMPRODUCT(N(ISTEXT(FI29:FI39))))","v":0},"+",{"$f":"(SUMPRODUCT(N(ISTEXT(FK29:FK39))))","v":0},null,null,null,null,null,null,null,null,{"$f":"(SUMPRODUCT(N(ISTEXT(FT29:FT39))))","v":0},"+",{"$f":"(SUMPRODUCT(N(ISTEXT(FV29:FV39))))","v":0},null,null,null,null,{"$f":"(SUMPRODUCT(N(ISTEXT(GA29:GA39))))","v":0},"+",{"$f":"(SUMPRODUCT(N(ISTEXT(GC29:GC39))))","v":0},null,null,null,null,null,null,{"$f":"(SUMPRODUCT(N(ISTEXT(GJ29:GJ39))))","v":0},"+",{"$f":"(SUMPRODUCT(N(ISTEXT(GL29:GL39))))","v":0},null,null,null,null,{"$f":"(SUMPRODUCT(N(ISTEXT(GQ29:GQ39))))","v":0},"+",{"$f":"(SUMPRODUCT(N(ISTEXT(GS29:GS39))))","v":0},null,null,null,null,null,null,null,null,{"$f":"(SUMPRODUCT(N(ISTEXT(HB29:HB39))))","v":0},"+",{"$f":"(SUMPRODUCT(N(ISTEXT(HD29:HD39))))","v":0},null,null,null,null,{"$f":"(SUMPRODUCT(N(ISTEXT(HI29:HI39))))","v":0},"+",{"$f":"(SUMPRODUCT(N(ISTEXT(HK29:HK39))))","v":0},null,null,null,null,null,null,{"$f":"(SUMPRODUCT(N(ISTEXT(HR29:HR39))))","v":0},"+",{"$f":"(SUMPRODUCT(N(ISTEXT(HT29:HT39))))","v":0},null,null,null,null,{"$f":"(SUMPRODUCT(N(ISTEXT(HY29:HY39))))","v":0},"+",{"$f":"(SUMPRODUCT(N(ISTEXT(IA29:IA39))))","v":0},null,null,null,null,null,null,null,null,{"$f":"(SUMPRODUCT(N(ISTEXT(IJ29:IJ39))))","v":0},"+",{"$f":"(SUMPRODUCT(N(ISTEXT(IL29:IL39))))","v":0},null,null,null,null,{"$f":"(SUMPRODUCT(N(ISTEXT(IQ29:IQ39))))","v":0},"+",{"$f":"(SUMPRODUCT(N(ISTEXT(IS29:IS39))))","v":0},null,null,null,null,null,null,{"$f":"(SUMPRODUCT(N(ISTEXT(IZ29:IZ39))))","v":0},"+",{"$f":"(SUMPRODUCT(N(ISTEXT(JB29:JB39))))","v":0},null,null,null,null,{"$f":"(SUMPRODUCT(N(ISTEXT(JG29:JG39))))","v":0},"+",{"$f":"(SUMPRODUCT(N(ISTEXT(JI29:JI39))))","v":0},null,null,null,null,null,null,null,null,{"$f":"(SUMPRODUCT(N(ISTEXT(JR29:JR39))))","v":0},"+",{"$f":"(SUMPRODUCT(N(ISTEXT(JT29:JT39))))","v":0},null,null,null,null,{"$f":"(SUMPRODUCT(N(ISTEXT(JY29:JY39))))","v":0},"+",{"$f":"(SUMPRODUCT(N(ISTEXT(KA29:KA39))))","v":0},null,null,null,null,null,null,{"$f":"(SUMPRODUCT(N(ISTEXT(KH29:KH39))))","v":0},"+",{"$f":"(SUMPRODUCT(N(ISTEXT(KJ29:KJ39))))","v":0},null,null,null,null,{"$f":"(SUMPRODUCT(N(ISTEXT(KO29:KO39))))","v":0},"+",{"$f":"(SUMPRODUCT(N(ISTEXT(KQ29:KQ39))))","v":0},null,null,null,null,null,null,null,null,{"$f":"(SUMPRODUCT(N(ISTEXT(KZ29:KZ39))))","v":0},"+",{"$f":"(SUMPRODUCT(N(ISTEXT(LB29:LB39))))","v":0},null,null,null,null,{"$f":"(SUMPRODUCT(N(ISTEXT(LG29:LG39))))","v":0},"+",{"$f":"(SUMPRODUCT(N(ISTEXT(LI29:LI39))))","v":0},null,null,null,null,null,null,{"$f":"(SUMPRODUCT(N(ISTEXT(LP29:LP39))))","v":0},"+",{"$f":"(SUMPRODUCT(N(ISTEXT(LR29:LR39))))","v":0},null,null,null,null,{"$f":"(SUMPRODUCT(N(ISTEXT(LW29:LW39))))","v":0},"+",{"$f":"(SUMPRODUCT(N(ISTEXT(LY29:LY39))))","v":0},null,null,null,null,null,null,null,null,{"$f":"(SUMPRODUCT(N(ISTEXT(MH29:MH39))))","v":0},"+",{"$f":"(SUMPRODUCT(N(ISTEXT(MJ29:MJ39))))","v":0},null,null,null,null,{"$f":"(SUMPRODUCT(N(ISTEXT(MO29:MO39))))","v":0},"+",{"$f":"(SUMPRODUCT(N(ISTEXT(MQ29:MQ39))))","v":0},null,null,null,null,null,null,{"$f":"(SUMPRODUCT(N(ISTEXT(MX29:MX39))))","v":0},"+",{"$f":"(SUMPRODUCT(N(ISTEXT(MZ29:MZ39))))","v":0},null,null,null,null,{"$f":"(SUMPRODUCT(N(ISTEXT(NE29:NE39))))","v":0},"+",{"$f":"(SUMPRODUCT(N(ISTEXT(NG29:NG39))))","v":0},null,null,null,null,null,null,null,null,{"$f":"(SUMPRODUCT(N(ISTEXT(NP29:NP39))))","v":0},"+",{"$f":"(SUMPRODUCT(N(ISTEXT(NR29:NR39))))","v":0},null,null,null,null,{"$f":"(SUMPRODUCT(N(ISTEXT(NW29:NW39))))","v":0},"+",{"$f":"(SUMPRODUCT(N(ISTEXT(NY29:NY39))))","v":0},null,null,null,null,null,null,{"$f":"(SUMPRODUCT(N(ISTEXT(OF29:OF39))))","v":0},"+",{"$f":"(SUMPRODUCT(N(ISTEXT(OH29:OH39))))","v":0},null,null,null,null,{"$f":"(SUMPRODUCT(N(ISTEXT(OM29:OM39))))","v":0},"+",{"$f":"(SUMPRODUCT(N(ISTEXT(OO29:OO39))))","v":0},null,null,null,null,null,null,null,null,{"$f":"(SUMPRODUCT(N(ISTEXT(OX29:OX39))))","v":0},"+",{"$f":"(SUMPRODUCT(N(ISTEXT(OZ29:OZ39))))","v":0},null,null,null,null,{"$f":"(SUMPRODUCT(N(ISTEXT(PE29:PE39))))","v":0},"+",{"$f":"(SUMPRODUCT(N(ISTEXT(PG29:PG39))))","v":0},null,null,null,null,null,null,{"$f":"(SUMPRODUCT(N(ISTEXT(PN29:PN39))))","v":0},"+",{"$f":"(SUMPRODUCT(N(ISTEXT(PP29:PP39))))","v":0},null,null,null,null,{"$f":"(SUMPRODUCT(N(ISTEXT(PU29:PU39))))","v":0},"+",{"$f":"(SUMPRODUCT(N(ISTEXT(PW29:PW39))))","v":0},null,null,null,null,null,null,null,null,{"$f":"(SUMPRODUCT(N(ISTEXT(QF29:QF39))))","v":0},"+",{"$f":"(SUMPRODUCT(N(ISTEXT(QH29:QH39))))","v":0},null,null,null,null,{"$f":"(SUMPRODUCT(N(ISTEXT(QM29:QM39))))","v":0},"+",{"$f":"(SUMPRODUCT(N(ISTEXT(QO29:QO39))))","v":0},null,null,null,null,null,null,{"$f":"(SUMPRODUCT(N(ISTEXT(QV29:QV39))))","v":0},"+",{"$f":"(SUMPRODUCT(N(ISTEXT(QX29:QX39))))","v":0},null,null,null,null,{"$f":"(SUMPRODUCT(N(ISTEXT(RC29:RC39))))","v":0},"+",{"$f":"(SUMPRODUCT(N(ISTEXT(RE29:RE39))))","v":0},null,null,null,null,null,null,null,null,{"$f":"(SUMPRODUCT(N(ISTEXT(RN29:RN39))))","v":0},"+",{"$f":"(SUMPRODUCT(N(ISTEXT(RP29:RP39))))","v":0},null,null,null,null,{"$f":"(SUMPRODUCT(N(ISTEXT(RU29:RU39))))","v":0},"+",{"$f":"(SUMPRODUCT(N(ISTEXT(RW29:RW39))))","v":0},null,null,null,null,null,null,{"$f":"(SUMPRODUCT(N(ISTEXT(SD29:SD39))))","v":0},"+",{"$f":"(SUMPRODUCT(N(ISTEXT(SF29:SF39))))","v":0},null,null,null,null,{"$f":"(SUMPRODUCT(N(ISTEXT(SK29:SK39))))","v":0},"+",{"$f":"(SUMPRODUCT(N(ISTEXT(SM29:SM39))))","v":0},null,null,null,null,null,null,null,null,{"$f":"(SUMPRODUCT(N(ISTEXT(SV29:SV39))))","v":0},"+",{"$f":"(SUMPRODUCT(N(ISTEXT(SX29:SX39))))","v":0},null,null,null,null,{"$f":"(SUMPRODUCT(N(ISTEXT(TC29:TC39))))","v":0},"+",{"$f":"(SUMPRODUCT(N(ISTEXT(TE29:TE39))))","v":0},null,null,null,null,null,null,{"$f":"(SUMPRODUCT(N(ISTEXT(TL29:TL39))))","v":0},"+",{"$f":"(SUMPRODUCT(N(ISTEXT(TN29:TN39))))","v":0},null,null,null,null,{"$f":"(SUMPRODUCT(N(ISTEXT(TS29:TS39))))","v":0},"+",{"$f":"(SUMPRODUCT(N(ISTEXT(TU29:TU39))))","v":0},null,null,null,null,null,null,null,null,{"$f":"(SUMPRODUCT(N(ISTEXT(UD29:UD39))))","v":0},"+",{"$f":"(SUMPRODUCT(N(ISTEXT(UF29:UF39))))","v":0},null,null,null,null,{"$f":"(SUMPRODUCT(N(ISTEXT(UK29:UK39))))","v":0},"+",{"$f":"(SUMPRODUCT(N(ISTEXT(UM29:UM39))))","v":0},null,null,null,null,null,null,{"$f":"(SUMPRODUCT(N(ISTEXT(UT29:UT39))))","v":0},"+",{"$f":"(SUMPRODUCT(N(ISTEXT(UV29:UV39))))","v":0},null,null,null,null,{"$f":"(SUMPRODUCT(N(ISTEXT(VA29:VA39))))","v":0},"+",{"$f":"(SUMPRODUCT(N(ISTEXT(VC29:VC39))))","v":0},null,null,null,null,null,null,null,null,{"$f":"(SUMPRODUCT(N(ISTEXT(VL29:VL39))))","v":0},"+",{"$f":"(SUMPRODUCT(N(ISTEXT(VN29:VN39))))","v":0},null,null,null,null,{"$f":"(SUMPRODUCT(N(ISTEXT(VS29:VS39))))","v":0},"+",{"$f":"(SUMPRODUCT(N(ISTEXT(VU29:VU39))))","v":0},null,null,null,null,null,null,{"$f":"(SUMPRODUCT(N(ISTEXT(WB29:WB39))))","v":0},"+",{"$f":"(SUMPRODUCT(N(ISTEXT(WD29:WD39))))","v":0},null,null,null,null,{"$f":"(SUMPRODUCT(N(ISTEXT(WI29:WI39))))","v":0},"+",{"$f":"(SUMPRODUCT(N(ISTEXT(WK29:WK39))))","v":0},null,null,null,null,null,null,null,null,{"$f":"(SUMPRODUCT(N(ISTEXT(WT29:WT39))))","v":0},"+",{"$f":"(SUMPRODUCT(N(ISTEXT(WV29:WV39))))","v":0},null,null,null,null,{"$f":"(SUMPRODUCT(N(ISTEXT(XA29:XA39))))","v":0},"+",{"$f":"(SUMPRODUCT(N(ISTEXT(XC29:XC39))))","v":0},null,null,null,null,null,null,{"$f":"(SUMPRODUCT(N(ISTEXT(XJ29:XJ39))))","v":0},"+",{"$f":"(SUMPRODUCT(N(ISTEXT(XL29:XL39))))","v":0},null,null,null,null,{"$f":"(SUMPRODUCT(N(ISTEXT(XQ29:XQ39))))","v":0},"+",{"$f":"(SUMPRODUCT(N(ISTEXT(XS29:XS39))))","v":0},null,null,null,null,null,null,null,null,{"$f":"(SUMPRODUCT(N(ISTEXT(YB29:YB39))))","v":0},"+",{"$f":"(SUMPRODUCT(N(ISTEXT(YD29:YD39))))","v":0},null,null,null,null,{"$f":"(SUMPRODUCT(N(ISTEXT(YI29:YI39))))","v":0},"+",{"$f":"(SUMPRODUCT(N(ISTEXT(YK29:YK39))))","v":0},null,null,null,null,null,null,{"$f":"(SUMPRODUCT(N(ISTEXT(YR29:YR39))))","v":0},"+",{"$f":"(SUMPRODUCT(N(ISTEXT(YT29:YT39))))","v":0},null,null,null,null,{"$f":"(SUMPRODUCT(N(ISTEXT(YY29:YY39))))","v":0},"+",{"$f":"(SUMPRODUCT(N(ISTEXT(ZA29:ZA39))))","v":0},null,null,null,null,null,null,null,null,{"$f":"(SUMPRODUCT(N(ISTEXT(ZJ29:ZJ39))))","v":0},"+",{"$f":"(SUMPRODUCT(N(ISTEXT(ZL29:ZL39))))","v":0},null,null,null,null,{"$f":"(SUMPRODUCT(N(ISTEXT(ZQ29:ZQ39))))","v":0},"+",{"$f":"(SUMPRODUCT(N(ISTEXT(ZS29:ZS39))))","v":0},null,null,null,null,null,null,{"$f":"(SUMPRODUCT(N(ISTEXT(ZZ29:ZZ39))))","v":0},"+",{"$f":"(SUMPRODUCT(N(ISTEXT(AAB29:AAB39))))","v":0},null,null,null,null,{"$f":"(SUMPRODUCT(N(ISTEXT(AAG29:AAG39))))","v":0},"+",{"$f":"(SUMPRODUCT(N(ISTEXT(AAI29:AAI39))))","v":0},null,null,null,null,null,null,null,null,{"$f":"(SUMPRODUCT(N(ISTEXT(AAR29:AAR39))))","v":0},"+",{"$f":"(SUMPRODUCT(N(ISTEXT(AAT29:AAT39))))","v":0},null,null,null,null,{"$f":"(SUMPRODUCT(N(ISTEXT(AAY29:AAY39))))","v":0},"+",{"$f":"(SUMPRODUCT(N(ISTEXT(ABA29:ABA39))))","v":0},null,null,null,null,null,null,{"$f":"(SUMPRODUCT(N(ISTEXT(ABH29:ABH39))))","v":0},"+",{"$f":"(SUMPRODUCT(N(ISTEXT(ABJ29:ABJ39))))","v":0},null,null,null,null,{"$f":"(SUMPRODUCT(N(ISTEXT(ABO29:ABO39))))","v":0},"+",{"$f":"(SUMPRODUCT(N(ISTEXT(ABQ29:ABQ39))))","v":0},null,null,null,null,null,null,null,null,{"$f":"(SUMPRODUCT(N(ISTEXT(ABZ29:ABZ39))))","v":0},"+",{"$f":"(SUMPRODUCT(N(ISTEXT(ACB29:ACB39))))","v":0},null,null,null,null,{"$f":"(SUMPRODUCT(N(ISTEXT(ACG29:ACG39))))","v":0},"+",{"$f":"(SUMPRODUCT(N(ISTEXT(ACI29:ACI39))))","v":0},null,null,null,null,null,null,{"$f":"(SUMPRODUCT(N(ISTEXT(ACP29:ACP39))))","v":0},"+",{"$f":"(SUMPRODUCT(N(ISTEXT(ACR29:ACR39))))","v":0},null,null,null,null,{"$f":"(SUMPRODUCT(N(ISTEXT(ACW29:ACW39))))","v":0},"+",{"$f":"(SUMPRODUCT(N(ISTEXT(ACY29:ACY39))))","v":0},null,null,null,null,null,null,null,null,{"$f":"(SUMPRODUCT(N(ISTEXT(ADH29:ADH39))))","v":0},"+",{"$f":"(SUMPRODUCT(N(ISTEXT(ADJ29:ADJ39))))","v":0},null,null,null,null,{"$f":"(SUMPRODUCT(N(ISTEXT(ADO29:ADO39))))","v":0},"+",{"$f":"(SUMPRODUCT(N(ISTEXT(ADQ29:ADQ39))))","v":0},null,null,null,null,null,null,{"$f":"(SUMPRODUCT(N(ISTEXT(ADX29:ADX39))))","v":0},"+",{"$f":"(SUMPRODUCT(N(ISTEXT(ADZ29:ADZ39))))","v":0},null,null,null,null,{"$f":"(SUMPRODUCT(N(ISTEXT(AEE29:AEE39))))","v":0},"+",{"$f":"(SUMPRODUCT(N(ISTEXT(AEG29:AEG39))))","v":0}]
[null,"SCORE ",null,null,null,{"$f":"F40+H40","v":0},null,null,null,null,null,null,{"$f":"M40+O40","v":0},null,null,null,null,null,null,null,null,{"$f":"V40+X40","v":0},null,null,null,null,null,null,{"$f":"AC40+AE40","v":0},null,null,null,null,null,null,"NOUVEAU MATCH",null,null,null,{"$f":"AN40+AP40","v":0},null,null,null,null,null,null,{"$f":"AU40+AW40","v":0},null,null,null,null,null,null,null,null,{"$f":"BD40+BF40","v":0},null,null,null,null,null,null,{"$f":"BK40+BM40","v":0},null,null,null,null,null,null,"NOUVEAU MATCH",null,null,null,{"$f":"BV40+BX40","v":0},null,null,null,null,null,null,{"$f":"CC40+CE40","v":0},null,null,null,null,null,null,null,null,{"$f":"CL40+CN40","v":0},null,null,null,null,null,null,{"$f":"CS40+CU40","v":0},null,null,null,null,null,null,"NOUVEAU MATCH",null,null,null,{"$f":"DD40+DF40","v":0},null,null,null,null,null,null,{"$f":"DK40+DM40","v":0},null,null,null,null,null,null,null,null,{"$f":"DT40+DV40","v":0},null,null,null,null,null,null,{"$f":"EA40+EC40","v":0},null,null,null,null,null,null,null,null,null,null,{"$f":"EL40+EN40","v":0},null,null,null,null,null,null,{"$f":"ES40+EU40","v":0},null,null,null,null,null,null,null,null,{"$f":"FB40+FD40","v":0},null,null,null,null,null,null,{"$f":"FI40+FK40","v":0},null,null,null,null,null,null,"NOUVEAU MATCH",null,null,null,{"$f":"FT40+FV40","v":0},null,null,null,null,null,null,{"$f":"GA40+GC40","v":0},null,null,null,null,null,null,null,null,{"$f":"GJ40+GL40","v":0},null,null,null,null,null,null,{"$f":"GQ40+GS40","v":0},null,null,null,null,null,null,"NOUVEAU MATCH",null,null,null,{"$f":"HB40+HD40","v":0},null,null,null,null,null,null,{"$f":"HI40+HK40","v":0},null,null,null,null,null,null,null,null,{"$f":"HR40+HT40","v":0},null,null,null,null,null,null,{"$f":"HY40+IA40","v":0},null,null,null,null,null,null,"NOUVEAU MATCH",null,null,null,{"$f":"IJ40+IL40","v":0},null,null,null,null,null,null,{"$f":"IQ40+IS40","v":0},null,null,null,null,null,null,null,null,{"$f":"IZ40+JB40","v":0},null,null,null,null,null,null,{"$f":"JG40+JI40","v":0},null,null,null,null,null,null,null,null,null,null,{"$f":"JR40+JT40","v":0},null,null,null,null,null,null,{"$f":"JY40+KA40","v":0},null,null,null,null,null,null,null,null,{"$f":"KH40+KJ40","v":0},null,null,null,null,null,null,{"$f":"KO40+KQ40","v":0},null,null,null,null,null,null,"NOUVEAU MATCH",null,null,null,{"$f":"KZ40+LB40","v":0},null,null,null,null,null,null,{"$f":"LG40+LI40","v":0},null,null,null,null,null,null,null,null,{"$f":"LP40+LR40","v":0},null,null,null,null,null,null,{"$f":"LW40+LY40","v":0},null,null,null,null,null,null,"NOUVEAU MATCH",null,null,null,{"$f":"MH40+MJ40","v":0},null,null,null,null,null,null,{"$f":"MO40+MQ40","v":0},null,null,null,null,null,null,null,null,{"$f":"MX40+MZ40","v":0},null,null,null,null,null,null,{"$f":"NE40+NG40","v":0},null,null,null,null,null,null,"NOUVEAU MATCH",null,null,null,{"$f":"NP40+NR40","v":0},null,null,null,null,null,null,{"$f":"NW40+NY40","v":0},null,null,null,null,null,null,null,null,{"$f":"OF40+OH40","v":0},null,null,null,null,null,null,{"$f":"OM40+OO40","v":0},null,null,null,null,null,null,null,null,null,null,{"$f":"OX40+OZ40","v":0},null,null,null,null,null,null,{"$f":"PE40+PG40","v":0},null,null,null,null,null,null,null,null,{"$f":"PN40+PP40","v":0},null,null,null,null,null,null,{"$f":"PU40+PW40","v":0},null,null,null,null,null,null,"NOUVEAU MATCH",null,null,null,{"$f":"QF40+QH40","v":0},null,null,null,null,null,null,{"$f":"QM40+QO40","v":0},null,null,null,null,null,null,null,null,{"$f":"QV40+QX40","v":0},null,null,null,null,null,null,{"$f":"RC40+RE40","v":0},null,null,null,null,null,null,"NOUVEAU MATCH",null,null,null,{"$f":"RN40+RP40","v":0},null,null,null,null,null,null,{"$f":"RU40+RW40","v":0},null,null,null,null,null,null,null,null,{"$f":"SD40+SF40","v":0},null,null,null,null,null,null,{"$f":"SK40+SM40","v":0},null,null,null,null,null,null,"NOUVEAU MATCH",null,null,null,{"$f":"SV40+SX40","v":0},null,null,null,null,null,null,{"$f":"TC40+TE40","v":0},null,null,null,null,null,null,null,null,{"$f":"TL40+TN40","v":0},null,null,null,null,null,null,{"$f":"TS40+TU40","v":0},null,null,null,null,null,null,null,null,null,null,{"$f":"UD40+UF40","v":0},null,null,null,null,null,null,{"$f":"UK40+UM40","v":0},null,null,null,null,null,null,null,null,{"$f":"UT40+UV40","v":0},null,null,null,null,null,null,{"$f":"VA40+VC40","v":0},null,null,null,null,null,null,"NOUVEAU MATCH",null,null,null,{"$f":"VL40+VN40","v":0},null,null,null,null,null,null,{"$f":"VS40+VU40","v":0},null,null,null,null,null,null,null,null,{"$f":"WB40+WD40","v":0},null,null,null,null,null,null,{"$f":"WI40+WK40","v":0},null,null,null,null,null,null,"NOUVEAU MATCH",null,null,null,{"$f":"WT40+WV40","v":0},null,null,null,null,null,null,{"$f":"XA40+XC40","v":0},null,null,null,null,null,null,null,null,{"$f":"XJ40+XL40","v":0},null,null,null,null,null,null,{"$f":"XQ40+XS40","v":0},null,null,null,null,null,null,"NOUVEAU MATCH",null,null,null,{"$f":"YB40+YD40","v":0},null,null,null,null,null,null,{"$f":"YI40+YK40","v":0},null,null,null,null,null,null,null,null,{"$f":"YR40+YT40","v":0},null,null,null,null,null,null,{"$f":"YY40+ZA40","v":0},null,null,null,null,null,null,null,null,null,null,{"$f":"ZJ40+ZL40","v":0},null,null,null,null,null,null,{"$f":"ZQ40+ZS40","v":0},null,null,null,null,null,null,null,null,{"$f":"ZZ40+AAB40","v":0},null,null,null,null,null,null,{"$f":"AAG40+AAI40","v":0},null,null,null,null,null,null,"NOUVEAU MATCH",null,null,null,{"$f":"AAR40+AAT40","v":0},null,null,null,null,null,null,{"$f":"AAY40+ABA40","v":0},null,null,null,null,null,null,null,null,{"$f":"ABH40+ABJ40","v":0},null,null,null,null,null,null,{"$f":"ABO40+ABQ40","v":0},null,null,null,null,null,null,"NOUVEAU MATCH",null,null,null,{"$f":"ABZ40+ACB40","v":0},null,null,null,null,null,null,{"$f":"ACG40+ACI40","v":0},null,null,null,null,null,null,null,null,{"$f":"ACP40+ACR40","v":0},null,null,null,null,null,null,{"$f":"ACW40+ACY40","v":0},null,null,null,null,null,null,"NOUVEAU MATCH",null,null,null,{"$f":"ADH40+ADJ40","v":0},null,null,null,null,null,null,{"$f":"ADO40+ADQ40","v":0},null,null,null,null,null,null,null,null,{"$f":"ADX40+ADZ40","v":0},null,null,null,null,null,null,{"$f":"AEE40+AEG40","v":0}]
[]
[null,null,null,null,null,null,null,null,null,null,null,null,null,"score individuel","score cumulé","Score final",null,"DOUBLE",null,null,"Score final",null,"score cumulé","score individuel",null,null,null,null,null,null,null,null,null,null,null,null,null,null,null,null,null,null,null,null,null,null,null,"score individuel","score cumulé","Score final",null,"DOUBLE",null,null,"Score final",null,"score cumulé","score individuel",null,null,null,null,null,null,null,null,null,null,null,null,null,null,null,null,null,null,null,null,null,null,null,"score individuel","score cumulé","Score final",null,"DOUBLE",null,null,"Score final",null,"score cumulé","score individuel",null,null,null,null,null,null,null,null,null,null,null,null,null,null,null,null,null,null,null,null,null,null,null,"score individuel","score cumulé","Score final",null,"DOUBLE",null,null,"Score final",null,"score cumulé","score individuel",null,null,null,null,null,null,null,null,null,null,null,null,null,null,null,null,null,null,null,null,null,null,null,"score individuel","score cumulé","Score final",null,"DOUBLE",null,null,"Score final",null,"score cumulé","score individuel",null,null,null,null,null,null,null,null,null,null,null,null,null,null,null,null,null,null,null,null,null,null,null,"score individuel","score cumulé","Score final",null,"DOUBLE",null,null,"Score final",null,"score cumulé","score individuel",null,null,null,null,null,null,null,null,null,null,null,null,null,null,null,null,null,null,null,null,null,null,null,"score individuel","score cumulé","Score final",null,"DOUBLE",null,null,"Score final",null,"score cumulé","score individuel",null,null,null,null,null,null,null,null,null,null,null,null,null,null,null,null,null,null,null,null,null,null,null,"score individuel","score cumulé","Score final",null,"DOUBLE",null,null,"Score final",null,"score cumulé","score individuel",null,null,null,null,null,null,null,null,null,null,null,null,null,null,null,null,null,null,null,null,null,null,null,"score individuel","score cumulé","Score final",null,"DOUBLE",null,null,"Score final",null,"score cumulé","score individuel",null,null,null,null,null,null,null,null,null,null,null,null,null,null,null,null,null,null,null,null,null,null,null,"score individuel","score cumulé","Score final",null,"DOUBLE",null,null,"Score final",null,"score cumulé","score individuel",null,null,null,null,null,null,null,null,null,null,null,null,null,null,null,null,null,null,null,null,null,null,null,"score individuel","score cumulé","Score final",null,"DOUBLE",null,null,"Score final",null,"score cumulé","score individuel",null,null,null,null,null,null,null,null,null,null,null,null,null,null,null,null,null,null,null,null,null,null,null,"score individuel","score cumulé","Score final",null,"DOUBLE",null,null,"Score final",null,"score cumulé","score individuel",null,null,null,null,null,null,null,null,null,null,null,null,null,null,null,null,null,null,null,null,null,null,null,"score individuel","score cumulé","Score final",null,"DOUBLE",null,null,"Score final",null,"score cumulé","score individuel",null,null,null,null,null,null,null,null,null,null,null,null,null,null,null,null,null,null,null,null,null,null,null,"score individuel","score cumulé","Score final",null,"DOUBLE",null,null,"Score final",null,"score cumulé","score individuel",null,null,null,null,null,null,null,null,null,null,null,null,null,null,null,null,null,null,null,null,null,null,null,"score individuel","score cumulé","Score final",null,"DOUBLE",null,null,"Score final",null,"score cumulé","score individuel",null,null,null,null,null,null,null,null,null,null,null,null,null,null,null,null,null,null,null,null,null,null,null,"score individuel","score cumulé","Score final",null,"DOUBLE",null,null,"Score final",null,"score cumulé","score individuel",null,null,null,null,null,null,null,null,null,null,null,null,null,null,null,null,null,null,null,null,null,null,null,"score individuel","score cumulé","Score final",null,"DOUBLE",null,null,"Score final",null,"score cumulé","score individuel",null,null,null,null,null,null,null,null,null,null,null,null,null,null,null,null,null,null,null,null,null,null,null,"score individuel","score cumulé","Score final",null,"DOUBLE",null,null,"Score final",null,"score cumulé","score individuel",null,null,null,null,null,null,null,null,null,null,null,null,null,null,null,null,null,null,null,null,null,null,null,"score individuel","score cumulé","Score final",null,"DOUBLE",null,null,"Score final",null,"score cumulé","score individuel",null,null,null,null,null,null,null,null,null,null,null,null,null,null,null,null,null,null,null,null,null,null,null,"score individuel","score cumulé","Score final",null,"DOUBLE",null,null,"Score final",null,"score cumulé","score individuel",null,null,null,null,null,null,null,null,null,null,null,null,null,null,null,null,null,null,null,null,null,null,null,"score individuel","score cumulé","Score final",null,"DOUBLE",null,null,"Score final",null,"score cumulé","score individuel",null,null,null,null,null,null,null,null,null,null,null,null,null,null,null,null,null,null,null,null,null,null,null,"score individuel","score cumulé","Score final",null,"DOUBLE",null,null,"Score final",null,"score cumulé","score individuel",null,null,null,null,null,null,null,null,null,null,null,null,null,null,null,null,null,null,null,null,null,null,null,"score individuel","score cumulé","Score final",null,"DOUBLE",null,null,"Score final",null,"score cumulé","score individuel",null,null,null,null,null,null,null,null,null,null,null,null,null,null,null,null,null,null,null,null,null,null,null,"score individuel","score cumulé","Score final",null,"DOUBLE",null,null,"Score final",null,"score cumulé","score individuel"]
[null,null,null,null,null,null,null,null,null,null,null,null,{"$f":"F2","v":0},{"$f":"F41","v":0},{"$f":"N44+N46","v":0},null,null,null,null,null,null,null,{"$f":"X44+X46","v":0},{"$f":"M41","v":0},{"$f":"M2","v":0},null,null,null,null,null,null,null,null,null,null,null,null,null,null,null,null,null,null,null,null,null,{"$f":"AN2","v":0},{"$f":"AN41","v":0},{"$f":"AV44+AV46","v":0},null,null,null,null,null,null,null,{"$f":"BF44+BF46","v":0},{"$f":"AU41","v":0},{"$f":"AU2","v":0},null,null,null,null,null,null,null,null,null,null,null,null,null,null,null,null,null,null,null,null,null,{"$f":"BV2","v":0},{"$f":"BV41","v":0},{"$f":"CD44+CD46","v":0},null,null,null,null,null,null,null,{"$f":"CN44+CN46","v":0},{"$f":"CC41","v":0},{"$f":"CC2","v":0},null,null,null,null,null,null,null,null,null,null,null,null,null,null,null,null,null,null,null,null,null,{"$f":"DD2","v":0},{"$f":"DD41","v":0},{"$f":"DL44+DL46","v":0},null,null,null,null,null,null,null,{"$f":"DV44+DV46","v":0},{"$f":"DK41","v":0},{"$f":"DK2","v":0},null,null,null,null,null,null,null,null,null,null,{"$f":"EE2","v":"n°2"},null,null,null,null,null,null,null,null,null,null,{"$f":"EL2","v":0},{"$f":"EL41","v":0},{"$f":"ET44+ET46","v":0},null,null,null,null,null,null,null,{"$f":"FD44+FD46","v":0},{"$f":"ES41","v":0},{"$f":"ES2","v":0},null,null,null,null,null,null,null,null,null,null,null,null,null,null,null,null,null,null,null,null,null,{"$f":"FT2","v":0},{"$f":"FT41","v":0},{"$f":"GB44+GB46","v":0},null,null,null,null,null,null,null,{"$f":"GL44+GL46","v":0},{"$f":"GA41","v":0},{"$f":"GA2","v":0},null,null,null,null,null,null,null,null,null,null,null,null,null,null,null,null,null,null,null,null,null,{"$f":"HB2","v":0},{"$f":"HB41","v":0},{"$f":"HJ44+HJ46","v":0},null,null,null,null,null,null,null,{"$f":"HT44+HT46","v":0},{"$f":"HI41","v":0},{"$f":"HI2","v":0},null,null,null,null,null,null,null,null,null,null,null,null,null,null,null,null,null,null,null,null,null,{"$f":"IJ2","v":0},{"$f":"IJ41","v":0},{"$f":"IR44+IR46","v":0},null,null,null,null,null,null,null,{"$f":"JB44+JB46","v":0},{"$f":"IQ41","v":0},{"$f":"IQ2","v":0},null,null,null,null,null,null,null,null,null,null,null,null,null,null,null,null,null,null,null,null,null,{"$f":"JR2","v":0},{"$f":"JR41","v":0},{"$f":"JZ44+JZ46","v":0},null,null,null,null,null,null,null,{"$f":"KJ44+KJ46","v":0},{"$f":"JY41","v":0},{"$f":"JY2","v":0},null,null,null,null,null,null,null,null,null,null,null,null,null,null,null,null,null,null,null,null,null,{"$f":"KZ2","v":0},{"$f":"KZ41","v":0},{"$f":"LH44+LH46","v":0},null,null,null,null,null,null,null,{"$f":"LR44+LR46","v":0},{"$f":"LG41","v":0},{"$f":"LG2","v":0},null,null,null,null,null,null,null,null,null,null,null,null,null,null,null,null,null,null,null,null,null,{"$f":"MH2","v":0},{"$f":"MH41","v":0},{"$f":"MP44+MP46","v":0},null,null,null,null,null,null,null,{"$f":"MZ44+MZ46","v":0},{"$f":"MO41","v":0},{"$f":"MO2","v":0},null,null,null,null,null,null,null,null,null,null,null,null,null,null,null,null,null,null,null,null,null,{"$f":"NP2","v":0},{"$f":"NP41","v":0},{"$f":"NX44+NX46","v":0},null,null,null,null,null,null,null,{"$f":"OH44+OH46","v":0},{"$f":"NW41","v":0},{"$f":"NW2","v":0},null,null,null,null,null,null,null,null,null,null,null,null,null,null,null,null,null,null,null,null,null,{"$f":"OX2","v":0},{"$f":"OX41","v":0},{"$f":"PF44+PF46","v":0},null,null,null,null,null,null,null,{"$f":"PP44+PP46","v":0},{"$f":"PE41","v":0},{"$f":"PE2","v":0},null,null,null,null,null,null,null,null,null,null,null,null,null,null,null,null,null,null,null,null,null,{"$f":"QF2","v":0},{"$f":"QF41","v":0},{"$f":"QN44+QN46","v":0},null,null,null,null,null,null,null,{"$f":"QX44+QX46","v":0},{"$f":"QM41","v":0},{"$f":"QM2","v":0},null,null,null,null,null,null,null,null,null,null,null,null,null,null,null,null,null,null,null,null,null,{"$f":"RN2","v":0},{"$f":"RN41","v":0},{"$f":"RV44+RV46","v":0},null,null,null,null,null,null,null,{"$f":"SF44+SF46","v":0},{"$f":"RU41","v":0},{"$f":"RU2","v":0},null,null,null,null,null,null,null,null,null,null,null,null,null,null,null,null,null,null,null,null,null,{"$f":"SV2","v":0},{"$f":"SV41","v":0},{"$f":"TD44+TD46","v":0},null,null,null,null,null,null,null,{"$f":"TN44+TN46","v":0},{"$f":"TC41","v":0},{"$f":"TC2","v":0},null,null,null,null,null,null,null,null,null,null,{"$f":"TW2","v":"n°2"},null,null,null,null,null,null,null,null,null,null,{"$f":"UD2","v":0},{"$f":"UD41","v":0},{"$f":"UL44+UL46","v":0},null,null,null,null,null,null,null,{"$f":"UV44+UV46","v":0},{"$f":"UK41","v":0},{"$f":"UK2","v":0},null,null,null,null,null,null,null,null,null,null,null,null,null,null,null,null,null,null,null,null,null,{"$f":"VL2","v":0},{"$f":"VL41","v":0},{"$f":"VT44+VT46","v":0},null,null,null,null,null,null,null,{"$f":"WD44+WD46","v":0},{"$f":"VS41","v":0},{"$f":"VS2","v":0},null,null,null,null,null,null,null,null,null,null,null,null,null,null,null,null,null,null,null,null,null,{"$f":"WT2","v":0},{"$f":"WT41","v":0},{"$f":"XB44+XB46","v":0},null,null,null,null,null,null,null,{"$f":"XL44+XL46","v":0},{"$f":"XA41","v":0},{"$f":"XA2","v":0},null,null,null,null,null,null,null,null,null,null,null,null,null,null,null,null,null,null,null,null,null,{"$f":"YB2","v":0},{"$f":"YB41","v":0},{"$f":"YJ44+YJ46","v":0},null,null,null,null,null,null,null,{"$f":"YT44+YT46","v":0},{"$f":"YI41","v":0},{"$f":"YI2","v":0},null,null,null,null,null,null,null,null,null,null,null,null,null,null,null,null,null,null,null,null,null,{"$f":"ZJ2","v":0},{"$f":"ZJ41","v":0},{"$f":"ZR44+ZR46","v":0},null,null,null,null,null,null,null,{"$f":"AAB44+AAB46","v":0},{"$f":"ZQ41","v":0},{"$f":"ZQ2","v":0},null,null,null,null,null,null,null,null,null,null,null,null,null,null,null,null,null,null,null,null,null,{"$f":"AAR2","v":0},{"$f":"AAR41","v":0},{"$f":"AAZ44+AAZ46","v":0},null,null,null,null,null,null,null,{"$f":"ABJ44+ABJ46","v":0},{"$f":"AAY41","v":0},{"$f":"AAY2","v":0},null,null,null,null,null,null,null,null,null,null,null,null,null,null,null,null,null,null,null,null,null,{"$f":"ABZ2","v":0},{"$f":"ABZ41","v":0},{"$f":"ACH44+ACH46","v":0},null,null,null,null,null,null,null,{"$f":"ACR44+ACR46","v":0},{"$f":"ACG41","v":0},{"$f":"ACG2","v":0},null,null,null,null,null,null,null,null,null,null,null,null,null,null,null,null,null,null,null,null,null,{"$f":"ADH2","v":0},{"$f":"ADH41","v":0},{"$f":"ADP44+ADP46","v":0},null,null,null,null,null,null,null,{"$f":"ADZ44+ADZ46","v":0},{"$f":"ADO41","v":0},{"$f":"ADO2","v":0}]
[null,null,null,null,null,null,null,null,null,null,null,null,null,"+",null,null,null,null,"-",null,null,null,null,"+",null,null,null,null,null,null,null,null,null,null,null,null,null,null,null,null,null,null,null,null,null,null,null,"+",null,null,null,null,"-",null,null,null,null,"+",null,null,null,null,null,null,null,null,null,null,null,null,null,null,null,null,null,null,null,null,null,null,null,"+",null,null,null,null,"-",null,null,null,null,"+",null,null,null,null,null,null,null,null,null,null,null,null,null,null,null,null,null,null,null,null,null,null,null,"+",null,null,null,null,"-",null,null,null,null,"+",null,null,null,null,null,null,null,null,null,null,null,null,null,null,null,null,null,null,null,null,null,null,null,"+",null,null,null,null,"-",null,null,null,null,"+",null,null,null,null,null,null,null,null,null,null,null,null,null,null,null,null,null,null,null,null,null,null,null,"+",null,null,null,null,"-",null,null,null,null,"+",null,null,null,null,null,null,null,null,null,null,null,null,null,null,null,null,null,null,null,null,null,null,null,"+",null,null,null,null,"-",null,null,null,null,"+",null,null,null,null,null,null,null,null,null,null,null,null,null,null,null,null,null,null,null,null,null,null,null,"+",null,null,null,null,"-",null,null,null,null,"+",null,null,null,null,null,null,null,null,null,null,null,null,null,null,null,null,null,null,null,null,null,null,null,"+",null,null,null,null,"-",null,null,null,null,"+",null,null,null,null,null,null,null,null,null,null,null,null,null,null,null,null,null,null,null,null,null,null,null,"+",null,null,null,null,"-",null,null,null,null,"+",null,null,null,null,null,null,null,null,null,null,null,null,null,null,null,null,null,null,null,null,null,null,null,"+",null,null,null,null,"-",null,null,null,null,"+",null,null,null,null,null,null,null,null,null,null,null,null,null,null,null,null,null,null,null,null,null,null,null,"+",null,null,null,null,"-",null,null,null,null,"+",null,null,null,null,null,null,null,null,null,null,null,null,null,null,null,null,null,null,null,null,null,null,null,"+",null,null,null,null,"-",null,null,null,null,"+",null,null,null,null,null,null,null,null,null,null,null,null,null,null,null,null,null,null,null,null,null,null,null,"+",null,null,null,null,"-",null,null,null,null,"+",null,null,null,null,null,null,null,null,null,null,null,null,null,null,null,null,null,null,null,null,null,null,null,"+",null,null,null,null,"-",null,null,null,null,"+",null,null,null,null,null,null,null,null,null,null,null,null,null,null,null,null,null,null,null,null,null,null,null,"+",null,null,null,null,"-",null,null,null,null,"+",null,null,null,null,null,null,null,null,null,null,null,null,null,null,null,null,null,null,null,null,null,null,null,"+",null,null,null,null,"-",null,null,null,null,"+",null,null,null,null,null,null,null,null,null,null,null,null,null,null,null,null,null,null,null,null,null,null,null,"+",null,null,null,null,"-",null,null,null,null,"+",null,null,null,null,null,null,null,null,null,null,null,null,null,null,null,null,null,null,null,null,null,null,null,"+",null,null,null,null,"-",null,null,null,null,"+",null,null,null,null,null,null,null,null,null,null,null,null,null,null,null,null,null,null,null,null,null,null,null,"+",null,null,null,null,"-",null,null,null,null,"+",null,null,null,null,null,null,null,null,null,null,null,null,null,null,null,null,null,null,null,null,null,null,null,"+",null,null,null,null,"-",null,null,null,null,"+",null,null,null,null,null,null,null,null,null,null,null,null,null,null,null,null,null,null,null,null,null,null,null,"+",null,null,null,null,"-",null,null,null,null,"+",null,null,null,null,null,null,null,null,null,null,null,null,null,null,null,null,null,null,null,null,null,null,null,"+",null,null,null,null,"-",null,null,null,null,"+",null,null,null,null,null,null,null,null,null,null,null,null,null,null,null,null,null,null,null,null,null,null,null,"+",null,null,null,null,"-",null,null,null,null,"+"]
[null,null,null,null,null,null,null,null,null,null,null,null,{"$f":"V2","v":0},{"$f":"V41","v":0},null,null,null,null,null,null,null,null,null,{"$f":"AC41","v":0},{"$f":"AC2","v":0},null,null,null,null,null,null,null,null,null,null,null,null,null,null,null,null,null,null,null,null,null,{"$f":"BD2","v":0},{"$f":"BD41","v":0},null,null,null,null,null,null,null,null,null,{"$f":"BK41","v":0},{"$f":"BK2","v":0},null,null,null,null,null,null,null,null,null,null,null,null,null,null,null,null,null,null,null,null,null,{"$f":"CL2","v":0},{"$f":"CL41","v":0},null,null,null,null,null,null,null,null,null,{"$f":"CS41","v":0},{"$f":"CS2","v":0},null,null,null,null,null,null,null,null,null,null,null,null,null,null,null,null,null,null,null,null,null,{"$f":"DT2","v":0},{"$f":"DT41","v":0},null,null,null,null,null,null,null,null,null,{"$f":"EA41","v":0},{"$f":"EA2","v":0},null,null,null,null,null,null,null,null,null,null,{"$f":"EU2","v":0},null,null,null,null,null,null,null,null,null,null,{"$f":"FB2","v":0},{"$f":"FB41","v":0},null,null,null,null,null,null,null,null,null,{"$f":"FI41","v":0},{"$f":"FI2","v":0},null,null,null,null,null,null,null,null,null,null,null,null,null,null,null,null,null,null,null,null,null,{"$f":"GJ2","v":0},{"$f":"GJ41","v":0},null,null,null,null,null,null,null,null,null,{"$f":"GQ41","v":0},{"$f":"GQ2","v":0},null,null,null,null,null,null,null,null,null,null,null,null,null,null,null,null,null,null,null,null,null,{"$f":"HR2","v":0},{"$f":"HR41","v":0},null,null,null,null,null,null,null,null,null,{"$f":"HY41","v":0},{"$f":"HY2","v":0},null,null,null,null,null,null,null,null,null,null,null,null,null,null,null,null,null,null,null,null,null,{"$f":"IZ2","v":0},{"$f":"IZ41","v":0},null,null,null,null,null,null,null,null,null,{"$f":"JG41","v":0},{"$f":"JG2","v":0},null,null,null,null,null,null,null,null,null,null,null,null,null,null,null,null,null,null,null,null,null,{"$f":"KH2","v":0},{"$f":"KH41","v":0},null,null,null,null,null,null,null,null,null,{"$f":"KO41","v":0},{"$f":"KO2","v":0},null,null,null,null,null,null,null,null,null,null,null,null,null,null,null,null,null,null,null,null,null,{"$f":"LP2","v":0},{"$f":"LP41","v":0},null,null,null,null,null,null,null,null,null,{"$f":"LW41","v":0},{"$f":"LW2","v":0},null,null,null,null,null,null,null,null,null,null,null,null,null,null,null,null,null,null,null,null,null,{"$f":"MX2","v":0},{"$f":"MX41","v":0},null,null,null,null,null,null,null,null,null,{"$f":"NE41","v":0},{"$f":"NE2","v":0},null,null,null,null,null,null,null,null,null,null,null,null,null,null,null,null,null,null,null,null,null,{"$f":"OF2","v":0},{"$f":"OF41","v":0},null,null,null,null,null,null,null,null,null,{"$f":"OM41","v":0},{"$f":"OM2","v":0},null,null,null,null,null,null,null,null,null,null,null,null,null,null,null,null,null,null,null,null,null,{"$f":"PN2","v":0},{"$f":"PN41","v":0},null,null,null,null,null,null,null,null,null,{"$f":"PU41","v":0},{"$f":"PU2","v":0},null,null,null,null,null,null,null,null,null,null,null,null,null,null,null,null,null,null,null,null,null,{"$f":"QV2","v":0},{"$f":"QV41","v":0},null,null,null,null,null,null,null,null,null,{"$f":"RC41","v":0},{"$f":"RC2","v":0},null,null,null,null,null,null,null,null,null,null,null,null,null,null,null,null,null,null,null,null,null,{"$f":"SD2","v":0},{"$f":"SD41","v":0},null,null,null,null,null,null,null,null,null,{"$f":"SK41","v":0},{"$f":"SK2","v":0},null,null,null,null,null,null,null,null,null,null,null,null,null,null,null,null,null,null,null,null,null,{"$f":"TL2","v":0},{"$f":"TL41","v":0},null,null,null,null,null,null,null,null,null,{"$f":"TS41","v":0},{"$f":"TS2","v":0},null,null,null,null,null,null,null,null,null,null,{"$f":"UM2","v":0},null,null,null,null,null,null,null,null,null,null,{"$f":"UT2","v":0},{"$f":"UT41","v":0},null,null,null,null,null,null,null,null,null,{"$f":"VA41","v":0},{"$f":"VA2","v":0},null,null,null,null,null,null,null,null,null,null,null,null,null,null,null,null,null,null,null,null,null,{"$f":"WB2","v":0},{"$f":"WB41","v":0},null,null,null,null,null,null,null,null,null,{"$f":"WI41","v":0},{"$f":"WI2","v":0},null,null,null,null,null,null,null,null,null,null,null,null,null,null,null,null,null,null,null,null,null,{"$f":"XJ2","v":0},{"$f":"XJ41","v":0},null,null,null,null,null,null,null,null,null,{"$f":"XQ41","v":0},{"$f":"XQ2","v":0},null,null,null,null,null,null,null,null,null,null,null,null,null,null,null,null,null,null,null,null,null,{"$f":"YR2","v":0},{"$f":"YR41","v":0},null,null,null,null,null,null,null,null,null,{"$f":"YY41","v":0},{"$f":"YY2","v":0},null,null,null,null,null,null,null,null,null,null,null,null,null,null,null,null,null,null,null,null,null,{"$f":"ZZ2","v":0},{"$f":"ZZ41","v":0},null,null,null,null,null,null,null,null,null,{"$f":"AAG41","v":0},{"$f":"AAG2","v":0},null,null,null,null,null,null,null,null,null,null,null,null,null,null,null,null,null,null,null,null,null,{"$f":"ABH2","v":0},{"$f":"ABH41","v":0},null,null,null,null,null,null,null,null,null,{"$f":"ABO41","v":0},{"$f":"ABO2","v":0},null,null,null,null,null,null,null,null,null,null,null,null,null,null,null,null,null,null,null,null,null,{"$f":"ACP2","v":0},{"$f":"ACP41","v":0},null,null,null,null,null,null,null,null,null,{"$f":"ACW41","v":0},{"$f":"ACW2","v":0},null,null,null,null,null,null,null,null,null,null,null,null,null,null,null,null,null,null,null,null,null,{"$f":"ADX2","v":0},{"$f":"ADX41","v":0},null,null,null,null,null,null,null,null,null,{"$f":"AEE41","v":0},{"$f":"AEE2","v":0}]
[]
[]
[null,"UTILITE DE LA TACTIQUE",null,null,null,"La tactique utilisée était elle la bonne face à cet adversaire ?",null,null,null,null,null,null,"La tactique utilisée était elle la bonne face à cet adversaire ?",null,null,null,null,null,null,null,null,"La tactique utilisée était elle la bonne face à cet adversaire ?",null,null,null,null,null,null,"La tactique utilisée était elle la bonne face à cet adversaire ?",null,null,null,null,null,null,null,null,null,null,"La tactique utilisée était elle la bonne face à cet adversaire ?",null,null,null,null,null,null,"La tactique utilisée était elle la bonne face à cet adversaire ?",null,null,null,null,null,null,null,null,"La tactique utilisée était elle la bonne face à cet adversaire ?",null,null,null,null,null,null,"La tactique utilisée était elle la bonne face à cet adversaire ?",null,null,null,null,null,null,null,null,null,null,"La tactique utilisée était elle la bonne face à cet adversaire ?",null,null,null,null,null,null,"La tactique utilisée était elle la bonne face à cet adversaire ?",null,null,null,null,null,null,null,null,"La tactique utilisée était elle la bonne face à cet adversaire ?",null,null,null,null,null,null,"La tactique utilisée était elle la bonne face à cet adversaire ?",null,null,null,null,null,null,null,null,null,null,"La tactique utilisée était elle la bonne face à cet adversaire ?",null,null,null,null,null,null,"La tactique utilisée était elle la bonne face à cet adversaire ?",null,null,null,null,null,null,null,null,"La tactique utilisée était elle la bonne face à cet adversaire ?",null,null,null,null,null,null,"La tactique utilisée était elle la bonne face à cet adversaire ?",null,null,null,null,null,null,null,null,null,null,"La tactique utilisée était elle la bonne face à cet adversaire ?",null,null,null,null,null,null,"La tactique utilisée était elle la bonne face à cet adversaire ?",null,null,null,null,null,null,null,null,"La tactique utilisée était elle la bonne face à cet adversaire ?",null,null,null,null,null,null,"La tactique utilisée était elle la bonne face à cet adversaire ?",null,null,null,null,null,null,null,null,null,null,"La tactique utilisée était elle la bonne face à cet adversaire ?",null,null,null,null,null,null,"La tactique utilisée était elle la bonne face à cet adversaire ?",null,null,null,null,null,null,null,null,"La tactique utilisée était elle la bonne face à cet adversaire ?",null,null,null,null,null,null,"La tactique utilisée était elle la bonne face à cet adversaire ?",null,null,null,null,null,null,null,null,null,null,"La tactique utilisée était elle la bonne face à cet adversaire ?",null,null,null,null,null,null,"La tactique utilisée était elle la bonne face à cet adversaire ?",null,null,null,null,null,null,null,null,"La tactique utilisée était elle la bonne face à cet adversaire ?",null,null,null,null,null,null,"La tactique utilisée était elle la bonne face à cet adversaire ?",null,null,null,null,null,null,null,null,null,null,"La tactique utilisée était elle la bonne face à cet adversaire ?",null,null,null,null,null,null,"La tactique utilisée était elle la bonne face à cet adversaire ?",null,null,null,null,null,null,null,null,"La tactique utilisée était elle la bonne face à cet adversaire ?",null,null,null,null,null,null,"La tactique utilisée était elle la bonne face à cet adversaire ?",null,null,null,null,null,null,null,null,null,null,"La tactique utilisée était elle la bonne face à cet adversaire ?",null,null,null,null,null,null,"La tactique utilisée était elle la bonne face à cet adversaire ?",null,null,null,null,null,null,null,null,"La tactique utilisée était elle la bonne face à cet adversaire ?",null,null,null,null,null,null,"La tactique utilisée était elle la bonne face à cet adversaire ?",null,null,null,null,null,null,null,null,null,null,"La tactique utilisée était elle la bonne face à cet adversaire ?",null,null,null,null,null,null,"La tactique utilisée était elle la bonne face à cet adversaire ?",null,null,null,null,null,null,null,null,"La tactique utilisée était elle la bonne face à cet adversaire ?",null,null,null,null,null,null,"La tactique utilisée était elle la bonne face à cet adversaire ?",null,null,null,null,null,null,null,null,null,null,"La tactique utilisée était elle la bonne face à cet adversaire ?",null,null,null,null,null,null,"La tactique utilisée était elle la bonne face à cet adversaire ?",null,null,null,null,null,null,null,null,"La tactique utilisée était elle la bonne face à cet adversaire ?",null,null,null,null,null,null,"La tactique utilisée était elle la bonne face à cet adversaire ?",null,null,null,null,null,null,null,null,null,null,"La tactique utilisée était elle la bonne face à cet adversaire ?",null,null,null,null,null,null,"La tactique utilisée était elle la bonne face à cet adversaire ?",null,null,null,null,null,null,null,null,"La tactique utilisée était elle la bonne face à cet adversaire ?",null,null,null,null,null,null,"La tactique utilisée était elle la bonne face à cet adversaire ?",null,null,null,null,null,null,null,null,null,null,"La tactique utilisée était elle la bonne face à cet adversaire ?",null,null,null,null,null,null,"La tactique utilisée était elle la bonne face à cet adversaire ?",null,null,null,null,null,null,null,null,"La tactique utilisée était elle la bonne face à cet adversaire ?",null,null,null,null,null,null,"La tactique utilisée était elle la bonne face à cet adversaire ?",null,null,null,null,null,null,null,null,null,null,"La tactique utilisée était elle la bonne face à cet adversaire ?",null,null,null,null,null,null,"La tactique utilisée était elle la bonne face à cet adversaire ?",null,null,null,null,null,null,null,null,"La tactique utilisée était elle la bonne face à cet adversaire ?",null,null,null,null,null,null,"La tactique utilisée était elle la bonne face à cet adversaire ?",null,null,null,null,null,null,null,null,null,null,"La tactique utilisée était elle la bonne face à cet adversaire ?",null,null,null,null,null,null,"La tactique utilisée était elle la bonne face à cet adversaire ?",null,null,null,null,null,null,null,null,"La tactique utilisée était elle la bonne face à cet adversaire ?",null,null,null,null,null,null,"La tactique utilisée était elle la bonne face à cet adversaire ?",null,null,null,null,null,null,null,null,null,null,"La tactique utilisée était elle la bonne face à cet adversaire ?",null,null,null,null,null,null,"La tactique utilisée était elle la bonne face à cet adversaire ?",null,null,null,null,null,null,null,null,"La tactique utilisée était elle la bonne face à cet adversaire ?",null,null,null,null,null,null,"La tactique utilisée était elle la bonne face à cet adversaire ?",null,null,null,null,null,null,null,null,null,null,"La tactique utilisée était elle la bonne face à cet adversaire ?",null,null,null,null,null,null,"La tactique utilisée était elle la bonne face à cet adversaire ?",null,null,null,null,null,null,null,null,"La tactique utilisée était elle la bonne face à cet adversaire ?",null,null,null,null,null,null,"La tactique utilisée était elle la bonne face à cet adversaire ?",null,null,null,null,null,null,null,null,null,null,"La tactique utilisée était elle la bonne face à cet adversaire ?",null,null,null,null,null,null,"La tactique utilisée était elle la bonne face à cet adversaire ?",null,null,null,null,null,null,null,null,"La tactique utilisée était elle la bonne face à cet adversaire ?",null,null,null,null,null,null,"La tactique utilisée était elle la bonne face à cet adversaire ?",null,null,null,null,null,null,null,null,null,null,"La tactique utilisée était elle la bonne face à cet adversaire ?",null,null,null,null,null,null,"La tactique utilisée était elle la bonne face à cet adversaire ?",null,null,null,null,null,null,null,null,"La tactique utilisée était elle la bonne face à cet adversaire ?",null,null,null,null,null,null,"La tactique utilisée était elle la bonne face à cet adversaire ?",null,null,null,null,null,null,null,null,null,null,"La tactique utilisée était elle la bonne face à cet adversaire ?",null,null,null,null,null,null,"La tactique utilisée était elle la bonne face à cet adversaire ?",null,null,null,null,null,null,null,null,"La tactique utilisée était elle la bonne face à cet adversaire ?",null,null,null,null,null,null,"La tactique utilisée était elle la bonne face à cet adversaire ?",null,null,null,null,null,null,null,null,null,null,"La tactique utilisée était elle la bonne face à cet adversaire ?",null,null,null,null,null,null,"La tactique utilisée était elle la bonne face à cet adversaire ?",null,null,null,null,null,null,null,null,"La tactique utilisée était elle la bonne face à cet adversaire ?",null,null,null,null,null,null,"La tactique utilisée était elle la bonne face à cet adversaire ?",null,null,null,null,null,null,null,null,null,null,"La tactique utilisée était elle la bonne face à cet adversaire ?",null,null,null,null,null,null,"La tactique utilisée était elle la bonne face à cet adversaire ?",null,null,null,null,null,null,null,null,"La tactique utilisée était elle la bonne face à cet adversaire ?",null,null,null,null,null,null,"La tactique utilisée était elle la bonne face à cet adversaire ?",null,null,null,null,null,null,null,null,null,null,"La tactique utilisée était elle la bonne face à cet adversaire ?",null,null,null,null,null,null,"La tactique utilisée était elle la bonne face à cet adversaire ?",null,null,null,null,null,null,null,null,"La tactique utilisée était elle la bonne face à cet adversaire ?",null,null,null,null,null,null,"La tactique utilisée était elle la bonne face à cet adversaire ?",null,null,null,null,null,null,null,null,null,null,"La tactique utilisée était elle la bonne face à cet adversaire ?",null,null,null,null,null,null,"La tactique utilisée était elle la bonne face à cet adversaire ?",null,null,null,null,null,null,null,null,"La tactique utilisée était elle la bonne face à cet adversaire ?",null,null,null,null,null,null,"La tactique utilisée était elle la bonne face à cet adversaire ?"]
[null,null,null,null,null,null,null,null,null,null,null,null,null,null,null,null,null,null,null,null,null,null,null,null,null,null,null,null,null,null,null,null,null,null,null,null,null,null,null,null,null,null,null,null,null,null,null,null,null,null,null,null,null,null,null,null,null,null,null,null,null,null,null,null,null,null,null,null,null,null,null,null,null,null,null,null,null,null,null,null,"oui",null,null,null,null,null,null,null,null,null,null,null,null,null,null,null,null,null,null,null,null,null,null,null,null,null,null,null,null,null,null,null,null,null,null,null,null,null,null,null,null,null,null,null,null,null,null,null,null,null,null,null,null,null,null,null,null,null,null,null,null,null,null,null,null,null,null,null,null,null,null,null,null,null,null,null,null,null,null,null,null,null,null,null,null,null,null,null,null,null,null,null,null,null,null,null,null,null,null,null,null,null,null,null,null,null,null,null,null,null,null,null,null,null,null,null,null,null,null,null,null,null,null,null,null,null,null,null,null,null,null,null,null,null,null,null,"oui",null,null,null,null,null,null,null,null,null,null,null,null,null,null,null,null,null,null,null,null,null,null,null,null,null,null,null,null,null,null,null,null,null,null,null,null,null,null,null,null,null,null,null,null,null,null,null,null,null,null,null,null,null,null,null,null,null,null,null,null,null,null,null,null,null,null,null,null,null,null,null,null,null,null,null,null,null,null,null,null,null,null,null,null,null,null,null,null,null,null,null,null,null,null,null,null,null,null,null,null,null,null,null,null,null,null,null,null,null,null,null,null,null,null,null,null,null,null,null,null,null,null,null,null,null,null,null,null,null,null,null,null,null,null,null,"oui",null,null,null,null,null,null,null,null,null,null,null,null,null,null,null,null,null,null,null,null,null,null,null,null,null,null,null,null,null,null,null,null,null,null,null,null,null,null,null,null,null,null,null,null,null,null,null,null,null,null,null,null,null,null,null,null,null,null,null,null,null,null,null,null,null,null,null,null,null,null,null,null,null,null,null,null,null,null,null,null,null,null,null,null,null,null,null,null,null,null,null,null,null,null,null,null,null,null,null,null,null,null,null,null,null,null,null,null,null,null,null,null,null,null,null,null,null,null,null,null,null,null,null,null,null,null,null,null,null,null,null,null,null,null,null,"oui",null,null,null,null,null,null,null,null,null,null,null,null,null,null,null,null,null,null,null,null,null,null,null,null,null,null,null,null,null,null,null,null,null,null,null,null,null,null,null,null,null,null,null,null,null,null,null,null,null,null,null,null,null,null,null,null,null,null,null,null,null,null,null,null,null,null,null,null,null,null,null,null,null,null,null,null,null,null,null,null,null,null,null,null,null,null,null,null,null,null,null,null,null,null,null,null,null,null,null,null,null,null,null,null,null,null,null,null,null,null,null,null,null,null,null,null,null,null,null,null,null,null,null,null,null,null,null,null,null,null,null,null,null,null,null,"oui",null,null,null,null,null,null,null,null,null,null,null,null,null,null,null,null,null,null,null,null,null,null,null,null,null,null,null,null,null,null,null,null,null,null,null,null,null,null,null,null,null,null,null,null,null,null,null,null,null,null,null,null,null,null,null,null,null,null,null,null,null,null,null,null,null,null,null,null,null,null,null,null,null,null,null,null,null,null,null,null,null,null,null,null,null,null,null,null,null,null,null,null,null,null,null,null,null,null,null,null,null,null,null,null,null,null,null,null,null,null,null,null,null,null,null,null,null,null,null,null,null,null,null,null,null,null,null,null,null,null,null,null,null,null,null,"oui"]
[null,null,null,null,null,"Pourquoi ?",null,null,null,null,null,null,"Pourquoi ?",null,null,null,null,null,null,null,null,"Pourquoi ?",null,null,null,null,null,null,"Pourquoi ?",null,null,null,null,null,null,null,null,null,null,"Pourquoi ?",null,null,null,null,null,null,"Pourquoi ?",null,null,null,null,null,null,null,null,"Pourquoi ?",null,null,null,null,null,null,"Pourquoi ?",null,null,null,null,null,null,null,null,null,null,"Pourquoi ?",null,null,null,null,null,null,"Pourquoi ?",null,null,null,null,null,null,null,null,"Pourquoi ?",null,null,null,null,null,null,"Pourquoi ?",null,null,null,null,null,null,null,null,null,null,"Pourquoi ?",null,null,null,null,null,null,"Pourquoi ?",null,null,null,null,null,null,null,null,"Pourquoi ?",null,null,null,null,null,null,"Pourquoi ?",null,null,null,null,null,null,null,null,null,null,"Pourquoi ?",null,null,null,null,null,null,"Pourquoi ?",null,null,null,null,null,null,null,null,"Pourquoi ?",null,null,null,null,null,null,"Pourquoi ?",null,null,null,null,null,null,null,null,null,null,"Pourquoi ?",null,null,null,null,null,null,"Pourquoi ?",null,null,null,null,null,null,null,null,"Pourquoi ?",null,null,null,null,null,null,"Pourquoi ?",null,null,null,null,null,null,null,null,null,null,"Pourquoi ?",null,null,null,null,null,null,"Pourquoi ?",null,null,null,null,null,null,null,null,"Pourquoi ?",null,null,null,null,null,null,"Pourquoi ?",null,null,null,null,null,null,null,null,null,null,"Pourquoi ?",null,null,null,null,null,null,"Pourquoi ?",null,null,null,null,null,null,null,null,"Pourquoi ?",null,null,null,null,null,null,"Pourquoi ?",null,null,null,null,null,null,null,null,null,null,"Pourquoi ?",null,null,null,null,null,null,"Pourquoi ?",null,null,null,null,null,null,null,null,"Pourquoi ?",null,null,null,null,null,null,"Pourquoi ?",null,null,null,null,null,null,null,null,null,null,"Pourquoi ?",null,null,null,null,null,null,"Pourquoi ?",null,null,null,null,null,null,null,null,"Pourquoi ?",null,null,null,null,null,null,"Pourquoi ?",null,null,null,null,null,null,null,null,null,null,"Pourquoi ?",null,null,null,null,null,null,"Pourquoi ?",null,null,null,null,null,null,null,null,"Pourquoi ?",null,null,null,null,null,null,"Pourquoi ?",null,null,null,null,null,null,null,null,null,null,"Pourquoi ?",null,null,null,null,null,null,"Pourquoi ?",null,null,null,null,null,null,null,null,"Pourquoi ?",null,null,null,null,null,null,"Pourquoi ?",null,null,null,null,null,null,null,null,null,null,"Pourquoi ?",null,null,null,null,null,null,"Pourquoi ?",null,null,null,null,null,null,null,null,"Pourquoi ?",null,null,null,null,null,null,"Pourquoi ?",null,null,null,null,null,null,null,null,null,null,"Pourquoi ?",null,null,null,null,null,null,"Pourquoi ?",null,null,null,null,null,null,null,null,"Pourquoi ?",null,null,null,null,null,null,"Pourquoi ?",null,null,null,null,null,null,null,null,null,null,"Pourquoi ?",null,null,null,null,null,null,"Pourquoi ?",null,null,null,null,null,null,null,null,"Pourquoi ?",null,null,null,null,null,null,"Pourquoi ?",null,null,null,null,null,null,null,null,null,null,"Pourquoi ?",null,null,null,null,null,null,"Pourquoi ?",null,null,null,null,null,null,null,null,"Pourquoi ?",null,null,null,null,null,null,"Pourquoi ?",null,null,null,null,null,null,null,null,null,null,"Pourquoi ?",null,null,null,null,null,null,"Pourquoi ?",null,null,null,null,null,null,null,null,"Pourquoi ?",null,null,null,null,null,null,"Pourquoi ?",null,null,null,null,null,null,null,null,null,null,"Pourquoi ?",null,null,null,null,null,null,"Pourquoi ?",null,null,null,null,null,null,null,null,"Pourquoi ?",null,null,null,null,null,null,"Pourquoi ?",null,null,null,null,null,null,null,null,null,null,"Pourquoi ?",null,null,null,null,null,null,"Pourquoi ?",null,null,null,null,null,null,null,null,"Pourquoi ?",null,null,null,null,null,null,"Pourquoi ?",null,null,null,null,null,null,null,null,null,null,"Pourquoi ?",null,null,null,null,null,null,"Pourquoi ?",null,null,null,null,null,null,null,null,"Pourquoi ?",null,null,null,null,null,null,"Pourquoi ?",null,null,null,null,null,null,null,null,null,null,"Pourquoi ?",null,null,null,null,null,null,"Pourquoi ?",null,null,null,null,null,null,null,null,"Pourquoi ?",null,null,null,null,null,null,"Pourquoi ?",null,null,null,null,null,null,null,null,null,null,"Pourquoi ?",null,null,null,null,null,null,"Pourquoi ?",null,null,null,null,null,null,null,null,"Pourquoi ?",null,null,null,null,null,null,"Pourquoi ?",null,null,null,null,null,null,null,null,null,null,"Pourquoi ?",null,null,null,null,null,null,"Pourquoi ?",null,null,null,null,null,null,null,null,"Pourquoi ?",null,null,null,null,null,null,"Pourquoi ?",null,null,null,null,null,null,null,null,null,null,"Pourquoi ?",null,null,null,null,null,null,"Pourquoi ?",null,null,null,null,null,null,null,null,"Pourquoi ?",null,null,null,null,null,null,"Pourquoi ?"]
[null,null,null,null,null,null,null,null,null,null,null,null,null,null,null,null,null,null,null,null,null,null,null,null,null,null,null,null,null,null,null,null,null,null,null,null,null,null,null,null,null,null,null,null,null,null,null,null,null,null,null,null,null,null,null,null,null,null,null,null,null,null,null,null,null,null,null,null,null,null,null,null,null,null,null,null,null,null,null,null,"parce que ",null,null,null,null,null,null,null,null,null,null,null,null,null,null,null,null,null,null,null,null,null,null,null,null,null,null,null,null,null,null,null,null,null,null,null,null,null,null,null,null,null,null,null,null,null,null,null,null,null,null,null,null,null,null,null,null,null,null,null,null,null,null,null,null,null,null,null,null,null,null,null,null,null,null,null,null,null,null,null,null,null,null,null,null,null,null,null,null,null,null,null,null,null,null,null,null,null,null,null,null,null,null,null,null,null,null,null,null,null,null,null,null,null,null,null,null,null,null,null,null,null,null,null,null,null,null,null,null,null,null,null,null,null,null,null,"parce que ",null,null,null,null,null,null,null,null,null,null,null,null,null,null,null,null,null,null,null,null,null,null,null,null,null,null,null,null,null,null,null,null,null,null,null,null,null,null,null,null,null,null,null,null,null,null,null,null,null,null,null,null,null,null,null,null,null,null,null,null,null,null,null,null,null,null,null,null,null,null,null,null,null,null,null,null,null,null,null,null,null,null,null,null,null,null,null,null,null,null,null,null,null,null,null,null,null,null,null,null,null,null,null,null,null,null,null,null,null,null,null,null,null,null,null,null,null,null,null,null,null,null,null,null,null,null,null,null,null,null,null,null,null,null,null,"parce que ",null,null,null,null,null,null,null,null,null,null,null,null,null,null,null,null,null,null,null,null,null,null,null,null,null,null,null,null,null,null,null,null,null,null,null,null,null,null,null,null,null,null,null,null,null,null,null,null,null,null,null,null,null,null,null,null,null,null,null,null,null,null,null,null,null,null,null,null,null,null,null,null,null,null,null,null,null,null,null,null,null,null,null,null,null,null,null,null,null,null,null,null,null,null,null,null,null,null,null,null,null,null,null,null,null,null,null,null,null,null,null,null,null,null,null,null,null,null,null,null,null,null,null,null,null,null,null,null,null,null,null,null,null,null,null,"parce que ",null,null,null,null,null,null,null,null,null,null,null,null,null,null,null,null,null,null,null,null,null,null,null,null,null,null,null,null,null,null,null,null,null,null,null,null,null,null,null,null,null,null,null,null,null,null,null,null,null,null,null,null,null,null,null,null,null,null,null,null,null,null,null,null,null,null,null,null,null,null,null,null,null,null,null,null,null,null,null,null,null,null,null,null,null,null,null,null,null,null,null,null,null,null,null,null,null,null,null,null,null,null,null,null,null,null,null,null,null,null,null,null,null,null,null,null,null,null,null,null,null,null,null,null,null,null,null,null,null,null,null,null,null,null,null,"parce que ",null,null,null,null,null,null,null,null,null,null,null,null,null,null,null,null,null,null,null,null,null,null,null,null,null,null,null,null,null,null,null,null,null,null,null,null,null,null,null,null,null,null,null,null,null,null,null,null,null,null,null,null,null,null,null,null,null,null,null,null,null,null,null,null,null,null,null,null,null,null,null,null,null,null,null,null,null,null,null,null,null,null,null,null,null,null,null,null,null,null,null,null,null,null,null,null,null,null,null,null,null,null,null,null,null,null,null,null,null,null,null,null,null,null,null,null,null,null,null,null,null,null,null,null,null,null,null,null,null,null,null,null,null,null,null,"parce que "]
[null,null,null,null,null,null,null,null,null,null,null,null,null,null,null,null,null,null,null,null,null,null,null,null,null,null,null,null,null,null,null,null,null,null,null,"NOUVEAU MATCH",null,null,null,null,null,null,null,null,null,null,null,null,null,null,null,null,null,null,null,null,null,null,null,null,null,null,null,null,null,null,null,null,null,"NOUVEAU MATCH",null,null,null,null,null,null,null,null,null,null,null,null,null,null,null,null,null,null,null,null,null,null,null,null,null,null,null,null,null,null,null,null,null,"NOUVEAU MATCH",null,null,null,null,null,null,null,null,null,null,null,null,null,null,null,null,null,null,null,null,null,null,null,null,null,null,null,null,null,null,null,null,null,"NOUVEAU MATCH",null,null,null,null,null,null,null,null,null,null,null,null,null,null,null,null,null,null,null,null,null,null,null,null,null,null,null,null,null,null,null,null,null,"NOUVEAU MATCH",null,null,null,null,null,null,null,null,null,null,null,null,null,null,null,null,null,null,null,null,null,null,null,null,null,null,null,null,null,null,null,null,null,"NOUVEAU MATCH",null,null,null,null,null,null,null,null,null,null,null,null,null,null,null,null,null,null,null,null,null,null,null,null,null,null,null,null,null,null,null,null,null,"NOUVEAU MATCH",null,null,null,null,null,null,null,null,null,null,null,null,null,null,null,null,null,null,null,null,null,null,null,null,null,null,null,null,null,null,null,null,null,"NOUVEAU MATCH",null,null,null,null,null,null,null,null,null,null,null,null,null,null,null,null,null,null,null,null,null,null,null,null,null,null,null,null,null,null,null,null,null,"NOUVEAU MATCH",null,null,null,null,null,null,null,null,null,null,null,null,null,null,null,null,null,null,null,null,null,null,null,null,null,null,null,null,null,null,null,null,null,"NOUVEAU MATCH",null,null,null,null,null,null,null,null,null,null,null,null,null,null,null,null,null,null,null,null,null,null,null,null,null,null,null,null,null,null,null,null,null,"NOUVEAU MATCH",null,null,null,null,null,null,null,null,null,null,null,null,null,null,null,null,null,null,null,null,null,null,null,null,null,null,null,null,null,null,null,null,null,"NOUVEAU MATCH",null,null,null,null,null,null,null,null,null,null,null,null,null,null,null,null,null,null,null,null,null,null,null,null,null,null,null,null,null,null,null,null,null,"NOUVEAU MATCH",null,null,null,null,null,null,null,null,null,null,null,null,null,null,null,null,null,null,null,null,null,null,null,null,null,null,null,null,null,null,null,null,null,"NOUVEAU MATCH",null,null,null,null,null,null,null,null,null,null,null,null,null,null,null,null,null,null,null,null,null,null,null,null,null,null,null,null,null,null,null,null,null,"NOUVEAU MATCH",null,null,null,null,null,null,null,null,null,null,null,null,null,null,null,null,null,null,null,null,null,null,null,null,null,null,null,null,null,null,null,null,null,"NOUVEAU MATCH",null,null,null,null,null,null,null,null,null,null,null,null,null,null,null,null,null,null,null,null,null,null,null,null,null,null,null,null,null,null,null,null,null,"NOUVEAU MATCH",null,null,null,null,null,null,null,null,null,null,null,null,null,null,null,null,null,null,null,null,null,null,null,null,null,null,null,null,null,null,null,null,null,"NOUVEAU MATCH",null,null,null,null,null,null,null,null,null,null,null,null,null,null,null,null,null,null,null,null,null,null,null,null,null,null,null,null,null,null,null,null,null,"NOUVEAU MATCH",null,null,null,null,null,null,null,null,null,null,null,null,null,null,null,null,null,null,null,null,null,null,null,null,null,null,null,null,null,null,null,null,null,"NOUVEAU MATCH",null,null,null,null,null,null,null,null,null,null,null,null,null,null,null,null,null,null,null,null,null,null,null,null,null,null,null,null,null,null,null,null,null,"NOUVEAU MATCH",null,null,null,null,null,null,null,null,null,null,null,null,null,null,null,null,null,null,null,null,null,null,null,null,null,null,null,null,null,null,null,null,null,"NOUVEAU MATCH",null,null,null,null,null,null,null,null,null,null,null,null,null,null,null,null,null,null,null,null,null,null,null,null,null,null,null,null,null,null,null,null,null,"NOUVEAU MATCH",null,null,null,null,null,null,null,null,null,null,null,null,null,null,null,null,null,null,null,null,null,null,null,null,null,null,null,null,null,null,null,null,null,"NOUVEAU MATCH"]
[null,"CHOIX D'APPRENTISSAGE",null,null,null,"Quelle STRATEGIE aimerais-je travailler ?",null,null,null,null,null,null,"Quelle STRATEGIE aimerais-je travailler ?",null,null,null,null,null,null,null,null,"Quelle STRATEGIE aimerais-je travailler ?",null,null,null,null,null,null,"Quelle STRATEGIE aimerais-je travailler ?",null,null,null,null,null,null,null,null,null,null,"Quelle STRATEGIE aimerais-je travailler ?",null,null,null,null,null,null,"Quelle STRATEGIE aimerais-je travailler ?",null,null,null,null,null,null,null,null,"Quelle STRATEGIE aimerais-je travailler ?",null,null,null,null,null,null,"Quelle STRATEGIE aimerais-je travailler ?",null,null,null,null,null,null,null,null,null,null,"Quelle STRATEGIE aimerais-je travailler ?",null,null,null,null,null,null,"Quelle STRATEGIE aimerais-je travailler ?",null,null,null,null,null,null,null,null,"Quelle STRATEGIE aimerais-je travailler ?",null,null,null,null,null,null,"Quelle STRATEGIE aimerais-je travailler ?",null,null,null,null,null,null,null,null,null,null,"Quelle STRATEGIE aimerais-je travailler ?",null,null,null,null,null,null,"Quelle STRATEGIE aimerais-je travailler ?",null,null,null,null,null,null,null,null,"Quelle STRATEGIE aimerais-je travailler ?",null,null,null,null,null,null,"Quelle STRATEGIE aimerais-je travailler ?",null,null,null,null,null,null,null,null,null,null,"Quelle STRATEGIE aimerais-je travailler ?",null,null,null,null,null,null,"Quelle STRATEGIE aimerais-je travailler ?",null,null,null,null,null,null,null,null,"Quelle STRATEGIE aimerais-je travailler ?",null,null,null,null,null,null,"Quelle STRATEGIE aimerais-je travailler ?",null,null,null,null,null,null,null,null,null,null,"Quelle STRATEGIE aimerais-je travailler ?",null,null,null,null,null,null,"Quelle STRATEGIE aimerais-je travailler ?",null,null,null,null,null,null,null,null,"Quelle STRATEGIE aimerais-je travailler ?",null,null,null,null,null,null,"Quelle STRATEGIE aimerais-je travailler ?",null,null,null,null,null,null,null,null,null,null,"Quelle STRATEGIE aimerais-je travailler ?",null,null,null,null,null,null,"Quelle STRATEGIE aimerais-je travailler ?",null,null,null,null,null,null,null,null,"Quelle STRATEGIE aimerais-je travailler ?",null,null,null,null,null,null,"Quelle STRATEGIE aimerais-je travailler ?",null,null,null,null,null,null,null,null,null,null,"Quelle STRATEGIE aimerais-je travailler ?",null,null,null,null,null,null,"Quelle STRATEGIE aimerais-je travailler ?",null,null,null,null,null,null,null,null,"Quelle STRATEGIE aimerais-je travailler ?",null,null,null,null,null,null,"Quelle STRATEGIE aimerais-je travailler ?",null,null,null,null,null,null,null,null,null,null,"Quelle STRATEGIE aimerais-je travailler ?",null,null,null,null,null,null,"Quelle STRATEGIE aimerais-je travailler ?",null,null,null,null,null,null,null,null,"Quelle STRATEGIE aimerais-je travailler ?",null,null,null,null,null,null,"Quelle STRATEGIE aimerais-je travailler ?",null,null,null,null,null,null,null,null,null,null,"Quelle STRATEGIE aimerais-je travailler ?",null,null,null,null,null,null,"Quelle STRATEGIE aimerais-je travailler ?",null,null,null,null,null,null,null,null,"Quelle STRATEGIE aimerais-je travailler ?",null,null,null,null,null,null,"Quelle STRATEGIE aimerais-je travailler ?",null,null,null,null,null,null,null,null,null,null,"Quelle STRATEGIE aimerais-je travailler ?",null,null,null,null,null,null,"Quelle STRATEGIE aimerais-je travailler ?",null,null,null,null,null,null,null,null,"Quelle STRATEGIE aimerais-je travailler ?",null,null,null,null,null,null,"Quelle STRATEGIE aimerais-je travailler ?",null,null,null,null,null,null,null,null,null,null,"Quelle STRATEGIE aimerais-je travailler ?",null,null,null,null,null,null,"Quelle STRATEGIE aimerais-je travailler ?",null,null,null,null,null,null,null,null,"Quelle STRATEGIE aimerais-je travailler ?",null,null,null,null,null,null,"Quelle STRATEGIE aimerais-je travailler ?",null,null,null,null,null,null,null,null,null,null,"Quelle STRATEGIE aimerais-je travailler ?",null,null,null,null,null,null,"Quelle STRATEGIE aimerais-je travailler ?",null,null,null,null,null,null,null,null,"Quelle STRATEGIE aimerais-je travailler ?",null,null,null,null,null,null,"Quelle STRATEGIE aimerais-je travailler ?",null,null,null,null,null,null,null,null,null,null,"Quelle STRATEGIE aimerais-je travailler ?",null,null,null,null,null,null,"Quelle STRATEGIE aimerais-je travailler ?",null,null,null,null,null,null,null,null,"Quelle STRATEGIE aimerais-je travailler ?",null,null,null,null,null,null,"Quelle STRATEGIE aimerais-je travailler ?",null,null,null,null,null,null,null,null,null,null,"Quelle STRATEGIE aimerais-je travailler ?",null,null,null,null,null,null,"Quelle STRATEGIE aimerais-je travailler ?",null,null,null,null,null,null,null,null,"Quelle STRATEGIE aimerais-je travailler ?",null,null,null,null,null,null,"Quelle STRATEGIE aimerais-je travailler ?",null,null,null,null,null,null,null,null,null,null,"Quelle STRATEGIE aimerais-je travailler ?",null,null,null,null,null,null,"Quelle STRATEGIE aimerais-je travailler ?",null,null,null,null,null,null,null,null,"Quelle STRATEGIE aimerais-je travailler ?",null,null,null,null,null,null,"Quelle STRATEGIE aimerais-je travailler ?",null,null,null,null,null,null,null,null,null,null,"Quelle STRATEGIE aimerais-je travailler ?",null,null,null,null,null,null,"Quelle STRATEGIE aimerais-je travailler ?",null,null,null,null,null,null,null,null,"Quelle STRATEGIE aimerais-je travailler ?",null,null,null,null,null,null,"Quelle STRATEGIE aimerais-je travailler ?",null,null,null,null,null,null,null,null,null,null,"Quelle STRATEGIE aimerais-je travailler ?",null,null,null,null,null,null,"Quelle STRATEGIE aimerais-je travailler ?",null,null,null,null,null,null,null,null,"Quelle STRATEGIE aimerais-je travailler ?",null,null,null,null,null,null,"Quelle STRATEGIE aimerais-je travailler ?",null,null,null,null,null,null,null,null,null,null,"Quelle STRATEGIE aimerais-je travailler ?",null,null,null,null,null,null,"Quelle STRATEGIE aimerais-je travailler ?",null,null,null,null,null,null,null,null,"Quelle STRATEGIE aimerais-je travailler ?",null,null,null,null,null,null,"Quelle STRATEGIE aimerais-je travailler ?",null,null,null,null,null,null,null,null,null,null,"Quelle STRATEGIE aimerais-je travailler ?",null,null,null,null,null,null,"Quelle STRATEGIE aimerais-je travailler ?",null,null,null,null,null,null,null,null,"Quelle STRATEGIE aimerais-je travailler ?",null,null,null,null,null,null,"Quelle STRATEGIE aimerais-je travailler ?",null,null,null,null,null,null,null,null,null,null,"Quelle STRATEGIE aimerais-je travailler ?",null,null,null,null,null,null,"Quelle STRATEGIE aimerais-je travailler ?",null,null,null,null,null,null,null,null,"Quelle STRATEGIE aimerais-je travailler ?",null,null,null,null,null,null,"Quelle STRATEGIE aimerais-je travailler ?",null,null,null,null,null,null,null,null,null,null,"Quelle STRATEGIE aimerais-je travailler ?",null,null,null,null,null,null,"Quelle STRATEGIE aimerais-je travailler ?",null,null,null,null,null,null,null,null,"Quelle STRATEGIE aimerais-je travailler ?",null,null,null,null,null,null,"Quelle STRATEGIE aimerais-je travailler ?",null,null,null,null,null,null,null,null,null,null,"Quelle STRATEGIE aimerais-je travailler ?",null,null,null,null,null,null,"Quelle STRATEGIE aimerais-je travailler ?",null,null,null,null,null,null,null,null,"Quelle STRATEGIE aimerais-je travailler ?",null,null,null,null,null,null,"Quelle STRATEGIE aimerais-je travailler ?",null,null,null,null,null,null,null,null,null,null,"Quelle STRATEGIE aimerais-je travailler ?",null,null,null,null,null,null,"Quelle STRATEGIE aimerais-je travailler ?",null,null,null,null,null,null,null,null,"Quelle STRATEGIE aimerais-je travailler ?",null,null,null,null,null,null,"Quelle STRATEGIE aimerais-je travailler ?"]
[null,null,null,null,null,"Renvoyer"]
[null,null,null,null,null,"Quelle tactique aimerais-je travailler ?",null,null,null,null,null,null,"Quelle tactique aimerais-je travailler ?",null,null,null,null,null,null,null,null,"Quelle tactique aimerais-je travailler ?",null,null,null,null,null,null,"Quelle tactique aimerais-je travailler ?",null,null,null,null,null,null,null,null,null,null,"Quelle tactique aimerais-je travailler ?",null,null,null,null,null,null,"Quelle tactique aimerais-je travailler ?",null,null,null,null,null,null,null,null,"Quelle tactique aimerais-je travailler ?",null,null,null,null,null,null,"Quelle tactique aimerais-je travailler ?",null,null,null,null,null,null,null,null,null,null,"Quelle tactique aimerais-je travailler ?",null,null,null,null,null,null,"Quelle tactique aimerais-je travailler ?",null,null,null,null,null,null,null,null,"Quelle tactique aimerais-je travailler ?",null,null,null,null,null,null,"Quelle tactique aimerais-je travailler ?",null,null,null,null,null,null,null,null,null,null,"Quelle tactique aimerais-je travailler ?",null,null,null,null,null,null,"Quelle tactique aimerais-je travailler ?",null,null,null,null,null,null,null,null,"Quelle tactique aimerais-je travailler ?",null,null,null,null,null,null,"Quelle tactique aimerais-je travailler ?",null,null,null,null,null,null,null,null,null,null,"Quelle tactique aimerais-je travailler ?",null,null,null,null,null,null,"Quelle tactique aimerais-je travailler ?",null,null,null,null,null,null,null,null,"Quelle tactique aimerais-je travailler ?",null,null,null,null,null,null,"Quelle tactique aimerais-je travailler ?",null,null,null,null,null,null,null,null,null,null,"Quelle tactique aimerais-je travailler ?",null,null,null,null,null,null,"Quelle tactique aimerais-je travailler ?",null,null,null,null,null,null,null,null,"Quelle tactique aimerais-je travailler ?",null,null,null,null,null,null,"Quelle tactique aimerais-je travailler ?",null,null,null,null,null,null,null,null,null,null,"Quelle tactique aimerais-je travailler ?",null,null,null,null,null,null,"Quelle tactique aimerais-je travailler ?",null,null,null,null,null,null,null,null,"Quelle tactique aimerais-je travailler ?",null,null,null,null,null,null,"Quelle tactique aimerais-je travailler ?",null,null,null,null,null,null,null,null,null,null,"Quelle tactique aimerais-je travailler ?",null,null,null,null,null,null,"Quelle tactique aimerais-je travailler ?",null,null,null,null,null,null,null,null,"Quelle tactique aimerais-je travailler ?",null,null,null,null,null,null,"Quelle tactique aimerais-je travailler ?",null,null,null,null,null,null,null,null,null,null,"Quelle tactique aimerais-je travailler ?",null,null,null,null,null,null,"Quelle tactique aimerais-je travailler ?",null,null,null,null,null,null,null,null,"Quelle tactique aimerais-je travailler ?",null,null,null,null,null,null,"Quelle tactique aimerais-je travailler ?",null,null,null,null,null,null,null,null,null,null,"Quelle tactique aimerais-je travailler ?",null,null,null,null,null,null,"Quelle tactique aimerais-je travailler ?",null,null,null,null,null,null,null,null,"Quelle tactique aimerais-je travailler ?",null,null,null,null,null,null,"Quelle tactique aimerais-je travailler ?",null,null,null,null,null,null,null,null,null,null,"Quelle tactique aimerais-je travailler ?",null,null,null,null,null,null,"Quelle tactique aimerais-je travailler ?",null,null,null,null,null,null,null,null,"Quelle tactique aimerais-je travailler ?",null,null,null,null,null,null,"Quelle tactique aimerais-je travailler ?",null,null,null,null,null,null,null,null,null,null,"Quelle tactique aimerais-je travailler ?",null,null,null,null,null,null,"Quelle tactique aimerais-je travailler ?",null,null,null,null,null,null,null,null,"Quelle tactique aimerais-je travailler ?",null,null,null,null,null,null,"Quelle tactique aimerais-je travailler ?",null,null,null,null,null,null,null,null,null,null,"Quelle tactique aimerais-je travailler ?",null,null,null,null,null,null,"Quelle tactique aimerais-je travailler ?",null,null,null,null,null,null,null,null,"Quelle tactique aimerais-je travailler ?",null,null,null,null,null,null,"Quelle tactique aimerais-je travailler ?",null,null,null,null,null,null,null,null,null,null,"Quelle tactique aimerais-je travailler ?",null,null,null,null,null,null,"Quelle tactique aimerais-je travailler ?",null,null,null,null,null,null,null,null,"Quelle tactique aimerais-je travailler ?",null,null,null,null,null,null,"Quelle tactique aimerais-je travailler ?",null,null,null,null,null,null,null,null,null,null,"Quelle tactique aimerais-je travailler ?",null,null,null,null,null,null,"Quelle tactique aimerais-je travailler ?",null,null,null,null,null,null,null,null,"Quelle tactique aimerais-je travailler ?",null,null,null,null,null,null,"Quelle tactique aimerais-je travailler ?",null,null,null,null,null,null,null,null,null,null,"Quelle tactique aimerais-je travailler ?",null,null,null,null,null,null,"Quelle tactique aimerais-je travailler ?",null,null,null,null,null,null,null,null,"Quelle tactique aimerais-je travailler ?",null,null,null,null,null,null,"Quelle tactique aimerais-je travailler ?",null,null,null,null,null,null,null,null,null,null,"Quelle tactique aimerais-je travailler ?",null,null,null,null,null,null,"Quelle tactique aimerais-je travailler ?",null,null,null,null,null,null,null,null,"Quelle tactique aimerais-je travailler ?",null,null,null,null,null,null,"Quelle tactique aimerais-je travailler ?",null,null,null,null,null,null,null,null,null,null,"Quelle tactique aimerais-je travailler ?",null,null,null,null,null,null,"Quelle tactique aimerais-je travailler ?",null,null,null,null,null,null,null,null,"Quelle tactique aimerais-je travailler ?",null,null,null,null,null,null,"Quelle tactique aimerais-je travailler ?",null,null,null,null,null,null,null,null,null,null,"Quelle tactique aimerais-je travailler ?",null,null,null,null,null,null,"Quelle tactique aimerais-je travailler ?",null,null,null,null,null,null,null,null,"Quelle tactique aimerais-je travailler ?",null,null,null,null,null,null,"Quelle tactique aimerais-je travailler ?",null,null,null,null,null,null,null,null,null,null,"Quelle tactique aimerais-je travailler ?",null,null,null,null,null,null,"Quelle tactique aimerais-je travailler ?",null,null,null,null,null,null,null,null,"Quelle tactique aimerais-je travailler ?",null,null,null,null,null,null,"Quelle tactique aimerais-je travailler ?",null,null,null,null,null,null,null,null,null,null,"Quelle tactique aimerais-je travailler ?",null,null,null,null,null,null,"Quelle tactique aimerais-je travailler ?",null,null,null,null,null,null,null,null,"Quelle tactique aimerais-je travailler ?",null,null,null,null,null,null,"Quelle tactique aimerais-je travailler ?",null,null,null,null,null,null,null,null,null,null,"Quelle tactique aimerais-je travailler ?",null,null,null,null,null,null,"Quelle tactique aimerais-je travailler ?",null,null,null,null,null,null,null,null,"Quelle tactique aimerais-je travailler ?",null,null,null,null,null,null,"Quelle tactique aimerais-je travailler ?",null,null,null,null,null,null,null,null,null,null,"Quelle tactique aimerais-je travailler ?",null,null,null,null,null,null,"Quelle tactique aimerais-je travailler ?",null,null,null,null,null,null,null,null,"Quelle tactique aimerais-je travailler ?",null,null,null,null,null,null,"Quelle tactique aimerais-je travailler ?",null,null,null,null,null,null,null,null,null,null,"Quelle tactique aimerais-je travailler ?",null,null,null,null,null,null,"Quelle tactique aimerais-je travailler ?",null,null,null,null,null,null,null,null,"Quelle tactique aimerais-je travailler ?",null,null,null,null,null,null,"Quelle tactique aimerais-je travailler ?"]
[]
[null,null,null,null,null,"Quel type de situation ?",null,null,null,null,null,null,"Quel type de situation ?",null,null,null,null,null,null,null,null,"Quel type de situation ?",null,null,null,null,null,null,"Quel type de situation ?",null,null,null,null,null,null,null,null,null,null,"Quel type de situation ?",null,null,null,null,null,null,"Quel type de situation ?",null,null,null,null,null,null,null,null,"Quel type de situation ?",null,null,null,null,null,null,"Quel type de situation ?",null,null,null,null,null,null,null,null,null,null,"Quel type de situation ?",null,null,null,null,null,null,"Quel type de situation ?",null,null,null,null,null,null,null,null,"Quel type de situation ?",null,null,null,null,null,null,"Quel type de situation ?",null,null,null,null,null,null,null,null,null,null,"Quel type de situation ?",null,null,null,null,null,null,"Quel type de situation ?",null,null,null,null,null,null,null,null,"Quel type de situation ?",null,null,null,null,null,null,"Quel type de situation ?",null,null,null,null,null,null,null,null,null,null,"Quel type de situation ?",null,null,null,null,null,null,"Quel type de situation ?",null,null,null,null,null,null,null,null,"Quel type de situation ?",null,null,null,null,null,null,"Quel type de situation ?",null,null,null,null,null,null,null,null,null,null,"Quel type de situation ?",null,null,null,null,null,null,"Quel type de situation ?",null,null,null,null,null,null,null,null,"Quel type de situation ?",null,null,null,null,null,null,"Quel type de situation ?",null,null,null,null,null,null,null,null,null,null,"Quel type de situation ?",null,null,null,null,null,null,"Quel type de situation ?",null,null,null,null,null,null,null,null,"Quel type de situation ?",null,null,null,null,null,null,"Quel type de situation ?",null,null,null,null,null,null,null,null,null,null,"Quel type de situation ?",null,null,null,null,null,null,"Quel type de situation ?",null,null,null,null,null,null,null,null,"Quel type de situation ?",null,null,null,null,null,null,"Quel type de situation ?",null,null,null,null,null,null,null,null,null,null,"Quel type de situation ?",null,null,null,null,null,null,"Quel type de situation ?",null,null,null,null,null,null,null,null,"Quel type de situation ?",null,null,null,null,null,null,"Quel type de situation ?",null,null,null,null,null,null,null,null,null,null,"Quel type de situation ?",null,null,null,null,null,null,"Quel type de situation ?",null,null,null,null,null,null,null,null,"Quel type de situation ?",null,null,null,null,null,null,"Quel type de situation ?",null,null,null,null,null,null,null,null,null,null,"Quel type de situation ?",null,null,null,null,null,null,"Quel type de situation ?",null,null,null,null,null,null,null,null,"Quel type de situation ?",null,null,null,null,null,null,"Quel type de situation ?",null,null,null,null,null,null,null,null,null,null,"Quel type de situation ?",null,null,null,null,null,null,"Quel type de situation ?",null,null,null,null,null,null,null,null,"Quel type de situation ?",null,null,null,null,null,null,"Quel type de situation ?",null,null,null,null,null,null,null,null,null,null,"Quel type de situation ?",null,null,null,null,null,null,"Quel type de situation ?",null,null,null,null,null,null,null,null,"Quel type de situation ?",null,null,null,null,null,null,"Quel type de situation ?",null,null,null,null,null,null,null,null,null,null,"Quel type de situation ?",null,null,null,null,null,null,"Quel type de situation ?",null,null,null,null,null,null,null,null,"Quel type de situation ?",null,null,null,null,null,null,"Quel type de situation ?",null,null,null,null,null,null,null,null,null,null,"Quel type de situation ?",null,null,null,null,null,null,"Quel type de situation ?",null,null,null,null,null,null,null,null,"Quel type de situation ?",null,null,null,null,null,null,"Quel type de situation ?",null,null,null,null,null,null,null,null,null,null,"Quel type de situation ?",null,null,null,null,null,null,"Quel type de situation ?",null,null,null,null,null,null,null,null,"Quel type de situation ?",null,null,null,null,null,null,"Quel type de situation ?",null,null,null,null,null,null,null,null,null,null,"Quel type de situation ?",null,null,null,null,null,null,"Quel type de situation ?",null,null,null,null,null,null,null,null,"Quel type de situation ?",null,null,null,null,null,null,"Quel type de situation ?",null,null,null,null,null,null,null,null,null,null,"Quel type de situation ?",null,null,null,null,null,null,"Quel type de situation ?",null,null,null,null,null,null,null,null,"Quel type de situation ?",null,null,null,null,null,null,"Quel type de situation ?",null,null,null,null,null,null,null,null,null,null,"Quel type de situation ?",null,null,null,null,null,null,"Quel type de situation ?",null,null,null,null,null,null,null,null,"Quel type de situation ?",null,null,null,null,null,null,"Quel type de situation ?",null,null,null,null,null,null,null,null,null,null,"Quel type de situation ?",null,null,null,null,null,null,"Quel type de situation ?",null,null,null,null,null,null,null,null,"Quel type de situation ?",null,null,null,null,null,null,"Quel type de situation ?",null,null,null,null,null,null,null,null,null,null,"Quel type de situation ?",null,null,null,null,null,null,"Quel type de situation ?",null,null,null,null,null,null,null,null,"Quel type de situation ?",null,null,null,null,null,null,"Quel type de situation ?",null,null,null,null,null,null,null,null,null,null,"Quel type de situation ?",null,null,null,null,null,null,"Quel type de situation ?",null,null,null,null,null,null,null,null,"Quel type de situation ?",null,null,null,null,null,null,"Quel type de situation ?",null,null,null,null,null,null,null,null,null,null,"Quel type de situation ?",null,null,null,null,null,null,"Quel type de situation ?",null,null,null,null,null,null,null,null,"Quel type de situation ?",null,null,null,null,null,null,"Quel type de situation ?",null,null,null,null,null,null,null,null,null,null,"Quel type de situation ?",null,null,null,null,null,null,"Quel type de situation ?",null,null,null,null,null,null,null,null,"Quel type de situation ?",null,null,null,null,null,null,"Quel type de situation ?"]
[]
[null,null,null,null,null,"Nom de la situation à travailler",null,null,null,null,null,null,"Nom de la situation à travailler",null,null,null,null,null,null,null,null,"Nom de la situation à travailler",null,null,null,null,null,null,"Nom de la situation à travailler",null,null,null,null,null,null,null,null,null,null,"Nom de la situation à travailler",null,null,null,null,null,null,"Nom de la situation à travailler",null,null,null,null,null,null,null,null,"Nom de la situation à travailler",null,null,null,null,null,null,"Nom de la situation à travailler",null,null,null,null,null,null,null,null,null,null,"Nom de la situation à travailler",null,null,null,null,null,null,"Nom de la situation à travailler",null,null,null,null,null,null,null,null,"Nom de la situation à travailler",null,null,null,null,null,null,"Nom de la situation à travailler",null,null,null,null,null,null,null,null,null,null,"Nom de la situation à travailler",null,null,null,null,null,null,"Nom de la situation à travailler",null,null,null,null,null,null,null,null,"Nom de la situation à travailler",null,null,null,null,null,null,"Nom de la situation à travailler",null,null,null,null,null,null,null,null,null,null,"Nom de la situation à travailler",null,null,null,null,null,null,"Nom de la situation à travailler",null,null,null,null,null,null,null,null,"Nom de la situation à travailler",null,null,null,null,null,null,"Nom de la situation à travailler",null,null,null,null,null,null,null,null,null,null,"Nom de la situation à travailler",null,null,null,null,null,null,"Nom de la situation à travailler",null,null,null,null,null,null,null,null,"Nom de la situation à travailler",null,null,null,null,null,null,"Nom de la situation à travailler",null,null,null,null,null,null,null,null,null,null,"Nom de la situation à travailler",null,null,null,null,null,null,"Nom de la situation à travailler",null,null,null,null,null,null,null,null,"Nom de la situation à travailler",null,null,null,null,null,null,"Nom de la situation à travailler",null,null,null,null,null,null,null,null,null,null,"Nom de la situation à travailler",null,null,null,null,null,null,"Nom de la situation à travailler",null,null,null,null,null,null,null,null,"Nom de la situation à travailler",null,null,null,null,null,null,"Nom de la situation à travailler",null,null,null,null,null,null,null,null,null,null,"Nom de la situation à travailler",null,null,null,null,null,null,"Nom de la situation à travailler",null,null,null,null,null,null,null,null,"Nom de la situation à travailler",null,null,null,null,null,null,"Nom de la situation à travailler",null,null,null,null,null,null,null,null,null,null,"Nom de la situation à travailler",null,null,null,null,null,null,"Nom de la situation à travailler",null,null,null,null,null,null,null,null,"Nom de la situation à travailler",null,null,null,null,null,null,"Nom de la situation à travailler",null,null,null,null,null,null,null,null,null,null,"Nom de la situation à travailler",null,null,null,null,null,null,"Nom de la situation à travailler",null,null,null,null,null,null,null,null,"Nom de la situation à travailler",null,null,null,null,null,null,"Nom de la situation à travailler",null,null,null,null,null,null,null,null,null,null,"Nom de la situation à travailler",null,null,null,null,null,null,"Nom de la situation à travailler",null,null,null,null,null,null,null,null,"Nom de la situation à travailler",null,null,null,null,null,null,"Nom de la situation à travailler",null,null,null,null,null,null,null,null,null,null,"Nom de la situation à travailler",null,null,null,null,null,null,"Nom de la situation à travailler",null,null,null,null,null,null,null,null,"Nom de la situation à travailler",null,null,null,null,null,null,"Nom de la situation à travailler",null,null,null,null,null,null,null,null,null,null,"Nom de la situation à travailler",null,null,null,null,null,null,"Nom de la situation à travailler",null,null,null,null,null,null,null,null,"Nom de la situation à travailler",null,null,null,null,null,null,"Nom de la situation à travailler",null,null,null,null,null,null,null,null,null,null,"Nom de la situation à travailler",null,null,null,null,null,null,"Nom de la situation à travailler",null,null,null,null,null,null,null,null,"Nom de la situation à travailler",null,null,null,null,null,null,"Nom de la situation à travailler",null,null,null,null,null,null,null,null,null,null,"Nom de la situation à travailler",null,null,null,null,null,null,"Nom de la situation à travailler",null,null,null,null,null,null,null,null,"Nom de la situation à travailler",null,null,null,null,null,null,"Nom de la situation à travailler",null,null,null,null,null,null,null,null,null,null,"Nom de la situation à travailler",null,null,null,null,null,null,"Nom de la situation à travailler",null,null,null,null,null,null,null,null,"Nom de la situation à travailler",null,null,null,null,null,null,"Nom de la situation à travailler",null,null,null,null,null,null,null,null,null,null,"Nom de la situation à travailler",null,null,null,null,null,null,"Nom de la situation à travailler",null,null,null,null,null,null,null,null,"Nom de la situation à travailler",null,null,null,null,null,null,"Nom de la situation à travailler",null,null,null,null,null,null,null,null,null,null,"Nom de la situation à travailler",null,null,null,null,null,null,"Nom de la situation à travailler",null,null,null,null,null,null,null,null,"Nom de la situation à travailler",null,null,null,null,null,null,"Nom de la situation à travailler",null,null,null,null,null,null,null,null,null,null,"Nom de la situation à travailler",null,null,null,null,null,null,"Nom de la situation à travailler",null,null,null,null,null,null,null,null,"Nom de la situation à travailler",null,null,null,null,null,null,"Nom de la situation à travailler",null,null,null,null,null,null,null,null,null,null,"Nom de la situation à travailler",null,null,null,null,null,null,"Nom de la situation à travailler",null,null,null,null,null,null,null,null,"Nom de la situation à travailler",null,null,null,null,null,null,"Nom de la situation à travailler",null,null,null,null,null,null,null,null,null,null,"Nom de la situation à travailler",null,null,null,null,null,null,"Nom de la situation à travailler",null,null,null,null,null,null,null,null,"Nom de la situation à travailler",null,null,null,null,null,null,"Nom de la situation à travailler",null,null,null,null,null,null,null,null,null,null,"Nom de la situation à travailler",null,null,null,null,null,null,"Nom de la situation à travailler",null,null,null,null,null,null,null,null,"Nom de la situation à travailler",null,null,null,null,null,null,"Nom de la situation à travailler",null,null,null,null,null,null,null,null,null,null,"Nom de la situation à travailler",null,null,null,null,null,null,"Nom de la situation à travailler",null,null,null,null,null,null,null,null,"Nom de la situation à travailler",null,null,null,null,null,null,"Nom de la situation à travailler"]
[null,null,null,null,null,{"$f":"INDEX(choixsa,MATCH(F59,situations,0),MATCH(F57,tactiques,0))","v":{"$error":"#N/A"}},null,null,null,null,null,null,{"$f":"INDEX(choixsa,MATCH(M59,situations,0),MATCH(M57,tactiques,0))","v":{"$error":"#N/A"}},null,null,null,null,null,null,null,null,{"$f":"INDEX(choixsa,MATCH(V59,situations,0),MATCH(V57,tactiques,0))","v":{"$error":"#N/A"}},null,null,null,null,null,null,{"$f":"INDEX(choixsa,MATCH(AC59,situations,0),MATCH(AC57,tactiques,0))","v":{"$error":"#N/A"}},null,null,null,null,null,null,null,null,null,null,{"$f":"INDEX(choixsa,MATCH(AN59,situations,0),MATCH(AN57,tactiques,0))","v":{"$error":"#N/A"}},null,null,null,null,null,null,{"$f":"INDEX(choixsa,MATCH(AU59,situations,0),MATCH(AU57,tactiques,0))","v":{"$error":"#N/A"}},null,null,null,null,null,null,null,null,{"$f":"INDEX(choixsa,MATCH(BD59,situations,0),MATCH(BD57,tactiques,0))","v":{"$error":"#N/A"}},null,null,null,null,null,null,{"$f":"INDEX(choixsa,MATCH(BK59,situations,0),MATCH(BK57,tactiques,0))","v":{"$error":"#N/A"}},null,null,null,null,null,null,null,null,null,null,{"$f":"INDEX(choixsa,MATCH(BV59,situations,0),MATCH(BV57,tactiques,0))","v":{"$error":"#N/A"}},null,null,null,null,null,null,{"$f":"INDEX(choixsa,MATCH(CC59,situations,0),MATCH(CC57,tactiques,0))","v":{"$error":"#N/A"}},null,null,null,null,null,null,null,null,{"$f":"INDEX(choixsa,MATCH(CL59,situations,0),MATCH(CL57,tactiques,0))","v":{"$error":"#N/A"}},null,null,null,null,null,null,{"$f":"INDEX(choixsa,MATCH(CS59,situations,0),MATCH(CS57,tactiques,0))","v":{"$error":"#N/A"}},null,null,null,null,null,null,null,null,null,null,{"$f":"INDEX(choixsa,MATCH(DD59,situations,0),MATCH(DD57,tactiques,0))","v":{"$error":"#N/A"}},null,null,null,null,null,null,{"$f":"INDEX(choixsa,MATCH(DK59,situations,0),MATCH(DK57,tactiques,0))","v":{"$error":"#N/A"}},null,null,null,null,null,null,null,null,{"$f":"INDEX(choixsa,MATCH(DT59,situations,0),MATCH(DT57,tactiques,0))","v":{"$error":"#N/A"}},null,null,null,null,null,null,{"$f":"INDEX(choixsa,MATCH(EA59,situations,0),MATCH(EA57,tactiques,0))","v":{"$error":"#N/A"}},null,null,null,null,null,null,null,null,null,null,{"$f":"INDEX(choixsa,MATCH(EL59,situations,0),MATCH(EL57,tactiques,0))","v":{"$error":"#N/A"}},null,null,null,null,null,null,{"$f":"INDEX(choixsa,MATCH(ES59,situations,0),MATCH(ES57,tactiques,0))","v":{"$error":"#N/A"}},null,null,null,null,null,null,null,null,{"$f":"INDEX(choixsa,MATCH(FB59,situations,0),MATCH(FB57,tactiques,0))","v":{"$error":"#N/A"}},null,null,null,null,null,null,{"$f":"INDEX(choixsa,MATCH(FI59,situations,0),MATCH(FI57,tactiques,0))","v":{"$error":"#N/A"}},null,null,null,null,null,null,null,null,null,null,{"$f":"INDEX(choixsa,MATCH(FT59,situations,0),MATCH(FT57,tactiques,0))","v":{"$error":"#N/A"}},null,null,null,null,null,null,{"$f":"INDEX(choixsa,MATCH(GA59,situations,0),MATCH(GA57,tactiques,0))","v":{"$error":"#N/A"}},null,null,null,null,null,null,null,null,{"$f":"INDEX(choixsa,MATCH(GJ59,situations,0),MATCH(GJ57,tactiques,0))","v":{"$error":"#N/A"}},null,null,null,null,null,null,{"$f":"INDEX(choixsa,MATCH(GQ59,situations,0),MATCH(GQ57,tactiques,0))","v":{"$error":"#N/A"}},null,null,null,null,null,null,null,null,null,null,{"$f":"INDEX(choixsa,MATCH(HB59,situations,0),MATCH(HB57,tactiques,0))","v":{"$error":"#N/A"}},null,null,null,null,null,null,{"$f":"INDEX(choixsa,MATCH(HI59,situations,0),MATCH(HI57,tactiques,0))","v":{"$error":"#N/A"}},null,null,null,null,null,null,null,null,{"$f":"INDEX(choixsa,MATCH(HR59,situations,0),MATCH(HR57,tactiques,0))","v":{"$error":"#N/A"}},null,null,null,null,null,null,{"$f":"INDEX(choixsa,MATCH(HY59,situations,0),MATCH(HY57,tactiques,0))","v":{"$error":"#N/A"}},null,null,null,null,null,null,null,null,null,null,{"$f":"INDEX(choixsa,MATCH(IJ59,situations,0),MATCH(IJ57,tactiques,0))","v":{"$error":"#N/A"}},null,null,null,null,null,null,{"$f":"INDEX(choixsa,MATCH(IQ59,situations,0),MATCH(IQ57,tactiques,0))","v":{"$error":"#N/A"}},null,null,null,null,null,null,null,null,{"$f":"INDEX(choixsa,MATCH(IZ59,situations,0),MATCH(IZ57,tactiques,0))","v":{"$error":"#N/A"}},null,null,null,null,null,null,{"$f":"INDEX(choixsa,MATCH(JG59,situations,0),MATCH(JG57,tactiques,0))","v":{"$error":"#N/A"}},null,null,null,null,null,null,null,null,null,null,{"$f":"INDEX(choixsa,MATCH(JR59,situations,0),MATCH(JR57,tactiques,0))","v":{"$error":"#N/A"}},null,null,null,null,null,null,{"$f":"INDEX(choixsa,MATCH(JY59,situations,0),MATCH(JY57,tactiques,0))","v":{"$error":"#N/A"}},null,null,null,null,null,null,null,null,{"$f":"INDEX(choixsa,MATCH(KH59,situations,0),MATCH(KH57,tactiques,0))","v":{"$error":"#N/A"}},null,null,null,null,null,null,{"$f":"INDEX(choixsa,MATCH(KO59,situations,0),MATCH(KO57,tactiques,0))","v":{"$error":"#N/A"}},null,null,null,null,null,null,null,null,null,null,{"$f":"INDEX(choixsa,MATCH(KZ59,situations,0),MATCH(KZ57,tactiques,0))","v":{"$error":"#N/A"}},null,null,null,null,null,null,{"$f":"INDEX(choixsa,MATCH(LG59,situations,0),MATCH(LG57,tactiques,0))","v":{"$error":"#N/A"}},null,null,null,null,null,null,null,null,{"$f":"INDEX(choixsa,MATCH(LP59,situations,0),MATCH(LP57,tactiques,0))","v":{"$error":"#N/A"}},null,null,null,null,null,null,{"$f":"INDEX(choixsa,MATCH(LW59,situations,0),MATCH(LW57,tactiques,0))","v":{"$error":"#N/A"}},null,null,null,null,null,null,null,null,null,null,{"$f":"INDEX(choixsa,MATCH(MH59,situations,0),MATCH(MH57,tactiques,0))","v":{"$error":"#N/A"}},null,null,null,null,null,null,{"$f":"INDEX(choixsa,MATCH(MO59,situations,0),MATCH(MO57,tactiques,0))","v":{"$error":"#N/A"}},null,null,null,null,null,null,null,null,{"$f":"INDEX(choixsa,MATCH(MX59,situations,0),MATCH(MX57,tactiques,0))","v":{"$error":"#N/A"}},null,null,null,null,null,null,{"$f":"INDEX(choixsa,MATCH(NE59,situations,0),MATCH(NE57,tactiques,0))","v":{"$error":"#N/A"}},null,null,null,null,null,null,null,null,null,null,{"$f":"INDEX(choixsa,MATCH(NP59,situations,0),MATCH(NP57,tactiques,0))","v":{"$error":"#N/A"}},null,null,null,null,null,null,{"$f":"INDEX(choixsa,MATCH(NW59,situations,0),MATCH(NW57,tactiques,0))","v":{"$error":"#N/A"}},null,null,null,null,null,null,null,null,{"$f":"INDEX(choixsa,MATCH(OF59,situations,0),MATCH(OF57,tactiques,0))","v":{"$error":"#N/A"}},null,null,null,null,null,null,{"$f":"INDEX(choixsa,MATCH(OM59,situations,0),MATCH(OM57,tactiques,0))","v":{"$error":"#N/A"}},null,null,null,null,null,null,null,null,null,null,{"$f":"INDEX(choixsa,MATCH(OX59,situations,0),MATCH(OX57,tactiques,0))","v":{"$error":"#N/A"}},null,null,null,null,null,null,{"$f":"INDEX(choixsa,MATCH(PE59,situations,0),MATCH(PE57,tactiques,0))","v":{"$error":"#N/A"}},null,null,null,null,null,null,null,null,{"$f":"INDEX(choixsa,MATCH(PN59,situations,0),MATCH(PN57,tactiques,0))","v":{"$error":"#N/A"}},null,null,null,null,null,null,{"$f":"INDEX(choixsa,MATCH(PU59,situations,0),MATCH(PU57,tactiques,0))","v":{"$error":"#N/A"}},null,null,null,null,null,null,null,null,null,null,{"$f":"INDEX(choixsa,MATCH(QF59,situations,0),MATCH(QF57,tactiques,0))","v":{"$error":"#N/A"}},null,null,null,null,null,null,{"$f":"INDEX(choixsa,MATCH(QM59,situations,0),MATCH(QM57,tactiques,0))","v":{"$error":"#N/A"}},null,null,null,null,null,null,null,null,{"$f":"INDEX(choixsa,MATCH(QV59,situations,0),MATCH(QV57,tactiques,0))","v":{"$error":"#N/A"}},null,null,null,null,null,null,{"$f":"INDEX(choixsa,MATCH(RC59,situations,0),MATCH(RC57,tactiques,0))","v":{"$error":"#N/A"}},null,null,null,null,null,null,null,null,null,null,{"$f":"INDEX(choixsa,MATCH(RN59,situations,0),MATCH(RN57,tactiques,0))","v":{"$error":"#N/A"}},null,null,null,null,null,null,{"$f":"INDEX(choixsa,MATCH(RU59,situations,0),MATCH(RU57,tactiques,0))","v":{"$error":"#N/A"}},null,null,null,null,null,null,null,null,{"$f":"INDEX(choixsa,MATCH(SD59,situations,0),MATCH(SD57,tactiques,0))","v":{"$error":"#N/A"}},null,null,null,null,null,null,{"$f":"INDEX(choixsa,MATCH(SK59,situations,0),MATCH(SK57,tactiques,0))","v":{"$error":"#N/A"}},null,null,null,null,null,null,null,null,null,null,{"$f":"INDEX(choixsa,MATCH(SV59,situations,0),MATCH(SV57,tactiques,0))","v":{"$error":"#N/A"}},null,null,null,null,null,null,{"$f":"INDEX(choixsa,MATCH(TC59,situations,0),MATCH(TC57,tactiques,0))","v":{"$error":"#N/A"}},null,null,null,null,null,null,null,null,{"$f":"INDEX(choixsa,MATCH(TL59,situations,0),MATCH(TL57,tactiques,0))","v":{"$error":"#N/A"}},null,null,null,null,null,null,{"$f":"INDEX(choixsa,MATCH(TS59,situations,0),MATCH(TS57,tactiques,0))","v":{"$error":"#N/A"}},null,null,null,null,null,null,null,null,null,null,{"$f":"INDEX(choixsa,MATCH(UD59,situations,0),MATCH(UD57,tactiques,0))","v":{"$error":"#N/A"}},null,null,null,null,null,null,{"$f":"INDEX(choixsa,MATCH(UK59,situations,0),MATCH(UK57,tactiques,0))","v":{"$error":"#N/A"}},null,null,null,null,null,null,null,null,{"$f":"INDEX(choixsa,MATCH(UT59,situations,0),MATCH(UT57,tactiques,0))","v":{"$error":"#N/A"}},null,null,null,null,null,null,{"$f":"INDEX(choixsa,MATCH(VA59,situations,0),MATCH(VA57,tactiques,0))","v":{"$error":"#N/A"}},null,null,null,null,null,null,null,null,null,null,{"$f":"INDEX(choixsa,MATCH(VL59,situations,0),MATCH(VL57,tactiques,0))","v":{"$error":"#N/A"}},null,null,null,null,null,null,{"$f":"INDEX(choixsa,MATCH(VS59,situations,0),MATCH(VS57,tactiques,0))","v":{"$error":"#N/A"}},null,null,null,null,null,null,null,null,{"$f":"INDEX(choixsa,MATCH(WB59,situations,0),MATCH(WB57,tactiques,0))","v":{"$error":"#N/A"}},null,null,null,null,null,null,{"$f":"INDEX(choixsa,MATCH(WI59,situations,0),MATCH(WI57,tactiques,0))","v":{"$error":"#N/A"}},null,null,null,null,null,null,null,null,null,null,{"$f":"INDEX(choixsa,MATCH(WT59,situations,0),MATCH(WT57,tactiques,0))","v":{"$error":"#N/A"}},null,null,null,null,null,null,{"$f":"INDEX(choixsa,MATCH(XA59,situations,0),MATCH(XA57,tactiques,0))","v":{"$error":"#N/A"}},null,null,null,null,null,null,null,null,{"$f":"INDEX(choixsa,MATCH(XJ59,situations,0),MATCH(XJ57,tactiques,0))","v":{"$error":"#N/A"}},null,null,null,null,null,null,{"$f":"INDEX(choixsa,MATCH(XQ59,situations,0),MATCH(XQ57,tactiques,0))","v":{"$error":"#N/A"}},null,null,null,null,null,null,null,null,null,null,{"$f":"INDEX(choixsa,MATCH(YB59,situations,0),MATCH(YB57,tactiques,0))","v":{"$error":"#N/A"}},null,null,null,null,null,null,{"$f":"INDEX(choixsa,MATCH(YI59,situations,0),MATCH(YI57,tactiques,0))","v":{"$error":"#N/A"}},null,null,null,null,null,null,null,null,{"$f":"INDEX(choixsa,MATCH(YR59,situations,0),MATCH(YR57,tactiques,0))","v":{"$error":"#N/A"}},null,null,null,null,null,null,{"$f":"INDEX(choixsa,MATCH(YY59,situations,0),MATCH(YY57,tactiques,0))","v":{"$error":"#N/A"}},null,null,null,null,null,null,null,null,null,null,{"$f":"INDEX(choixsa,MATCH(ZJ59,situations,0),MATCH(ZJ57,tactiques,0))","v":{"$error":"#N/A"}},null,null,null,null,null,null,{"$f":"INDEX(choixsa,MATCH(ZQ59,situations,0),MATCH(ZQ57,tactiques,0))","v":{"$error":"#N/A"}},null,null,null,null,null,null,null,null,{"$f":"INDEX(choixsa,MATCH(ZZ59,situations,0),MATCH(ZZ57,tactiques,0))","v":{"$error":"#N/A"}},null,null,null,null,null,null,{"$f":"INDEX(choixsa,MATCH(AAG59,situations,0),MATCH(AAG57,tactiques,0))","v":{"$error":"#N/A"}},null,null,null,null,null,null,null,null,null,null,{"$f":"INDEX(choixsa,MATCH(AAR59,situations,0),MATCH(AAR57,tactiques,0))","v":{"$error":"#N/A"}},null,null,null,null,null,null,{"$f":"INDEX(choixsa,MATCH(AAY59,situations,0),MATCH(AAY57,tactiques,0))","v":{"$error":"#N/A"}},null,null,null,null,null,null,null,null,{"$f":"INDEX(choixsa,MATCH(ABH59,situations,0),MATCH(ABH57,tactiques,0))","v":{"$error":"#N/A"}},null,null,null,null,null,null,{"$f":"INDEX(choixsa,MATCH(ABO59,situations,0),MATCH(ABO57,tactiques,0))","v":{"$error":"#N/A"}},null,null,null,null,null,null,null,null,null,null,{"$f":"INDEX(choixsa,MATCH(ABZ59,situations,0),MATCH(ABZ57,tactiques,0))","v":{"$error":"#N/A"}},null,null,null,null,null,null,{"$f":"INDEX(choixsa,MATCH(ACG59,situations,0),MATCH(ACG57,tactiques,0))","v":{"$error":"#N/A"}},null,null,null,null,null,null,null,null,{"$f":"INDEX(choixsa,MATCH(ACP59,situations,0),MATCH(ACP57,tactiques,0))","v":{"$error":"#N/A"}},null,null,null,null,null,null,{"$f":"INDEX(choixsa,MATCH(ACW59,situations,0),MATCH(ACW57,tactiques,0))","v":{"$error":"#N/A"}},null,null,null,null,null,null,null,null,null,null,{"$f":"INDEX(choixsa,MATCH(ADH59,situations,0),MATCH(ADH57,tactiques,0))","v":{"$error":"#N/A"}},null,null,null,null,null,null,{"$f":"INDEX(choixsa,MATCH(ADO59,situations,0),MATCH(ADO57,tactiques,0))","v":{"$error":"#N/A"}},null,null,null,null,null,null,null,null,{"$f":"INDEX(choixsa,MATCH(ADX59,situations,0),MATCH(ADX57,tactiques,0))","v":{"$error":"#N/A"}},null,null,null,null,null,null,{"$f":"INDEX(choixsa,MATCH(AEE59,situations,0),MATCH(AEE57,tactiques,0))","v":{"$error":"#N/A"}}]
[null,null,null,null,null,"Objectif",null,null,null,null,null,null,"Objectif",null,null,null,null,null,null,null,null,"Objectif",null,null,null,null,null,null,"Objectif",null,null,null,null,null,null,null,null,null,null,"Objectif",null,null,null,null,null,null,"Objectif",null,null,null,null,null,null,null,null,"Objectif",null,null,null,null,null,null,"Objectif",null,null,null,null,null,null,null,null,null,null,"Objectif",null,null,null,null,null,null,"Objectif",null,null,null,null,null,null,null,null,"Objectif",null,null,null,null,null,null,"Objectif",null,null,null,null,null,null,null,null,null,null,"Objectif",null,null,null,null,null,null,"Objectif",null,null,null,null,null,null,null,null,"Objectif",null,null,null,null,null,null,"Objectif",null,null,null,null,null,null,null,null,null,null,"Objectif",null,null,null,null,null,null,"Objectif",null,null,null,null,null,null,null,null,"Objectif",null,null,null,null,null,null,"Objectif",null,null,null,null,null,null,null,null,null,null,"Objectif",null,null,null,null,null,null,"Objectif",null,null,null,null,null,null,null,null,"Objectif",null,null,null,null,null,null,"Objectif",null,null,null,null,null,null,null,null,null,null,"Objectif",null,null,null,null,null,null,"Objectif",null,null,null,null,null,null,null,null,"Objectif",null,null,null,null,null,null,"Objectif",null,null,null,null,null,null,null,null,null,null,"Objectif",null,null,null,null,null,null,"Objectif",null,null,null,null,null,null,null,null,"Objectif",null,null,null,null,null,null,"Objectif",null,null,null,null,null,null,null,null,null,null,"Objectif",null,null,null,null,null,null,"Objectif",null,null,null,null,null,null,null,null,"Objectif",null,null,null,null,null,null,"Objectif",null,null,null,null,null,null,null,null,null,null,"Objectif",null,null,null,null,null,null,"Objectif",null,null,null,null,null,null,null,null,"Objectif",null,null,null,null,null,null,"Objectif",null,null,null,null,null,null,null,null,null,null,"Objectif",null,null,null,null,null,null,"Objectif",null,null,null,null,null,null,null,null,"Objectif",null,null,null,null,null,null,"Objectif",null,null,null,null,null,null,null,null,null,null,"Objectif",null,null,null,null,null,null,"Objectif",null,null,null,null,null,null,null,null,"Objectif",null,null,null,null,null,null,"Objectif",null,null,null,null,null,null,null,null,null,null,"Objectif",null,null,null,null,null,null,"Objectif",null,null,null,null,null,null,null,null,"Objectif",null,null,null,null,null,null,"Objectif",null,null,null,null,null,null,null,null,null,null,"Objectif",null,null,null,null,null,null,"Objectif",null,null,null,null,null,null,null,null,"Objectif",null,null,null,null,null,null,"Objectif",null,null,null,null,null,null,null,null,null,null,"Objectif",null,null,null,null,null,null,"Objectif",null,null,null,null,null,null,null,null,"Objectif",null,null,null,null,null,null,"Objectif",null,null,null,null,null,null,null,null,null,null,"Objectif",null,null,null,null,null,null,"Objectif",null,null,null,null,null,null,null,null,"Objectif",null,null,null,null,null,null,"Objectif",null,null,null,null,null,null,null,null,null,null,"Objectif",null,null,null,null,null,null,"Objectif",null,null,null,null,null,null,null,null,"Objectif",null,null,null,null,null,null,"Objectif",null,null,null,null,null,null,null,null,null,null,"Objectif",null,null,null,null,null,null,"Objectif",null,null,null,null,null,null,null,null,"Objectif",null,null,null,null,null,null,"Objectif",null,null,null,null,null,null,null,null,null,null,"Objectif",null,null,null,null,null,null,"Objectif",null,null,null,null,null,null,null,null,"Objectif",null,null,null,null,null,null,"Objectif",null,null,null,null,null,null,null,null,null,null,"Objectif",null,null,null,null,null,null,"Objectif",null,null,null,null,null,null,null,null,"Objectif",null,null,null,null,null,null,"Objectif",null,null,null,null,null,null,null,null,null,null,"Objectif",null,null,null,null,null,null,"Objectif",null,null,null,null,null,null,null,null,"Objectif",null,null,null,null,null,null,"Objectif",null,null,null,null,null,null,null,null,null,null,"Objectif",null,null,null,null,null,null,"Objectif",null,null,null,null,null,null,null,null,"Objectif",null,null,null,null,null,null,"Objectif",null,null,null,null,null,null,null,null,null,null,"Objectif",null,null,null,null,null,null,"Objectif",null,null,null,null,null,null,null,null,"Objectif",null,null,null,null,null,null,"Objectif",null,null,null,null,null,null,null,null,null,null,"Objectif",null,null,null,null,null,null,"Objectif",null,null,null,null,null,null,null,null,"Objectif",null,null,null,null,null,null,"Objectif"]
[null,null,null,null,null,{"$f":"VLOOKUP(F61,SAMICBIS!$A$3:$E$232,5,FALSE)","v":{"$error":"#N/A"}},null,null,null,null,null,null,{"$f":"VLOOKUP(M61,SAMICBIS!$A$3:$E$232,5,FALSE)","v":{"$error":"#N/A"}},null,null,null,null,null,null,null,null,{"$f":"VLOOKUP(V61,SAMICBIS!$A$3:$E$232,5,FALSE)","v":{"$error":"#N/A"}},null,null,null,null,null,null,{"$f":"VLOOKUP(AC61,SAMICBIS!$A$3:$E$232,5,FALSE)","v":{"$error":"#N/A"}},null,null,null,null,null,null,null,null,null,null,{"$f":"VLOOKUP(AN61,SAMICBIS!$A$3:$E$500,5,FALSE)","v":{"$error":"#N/A"}},null,null,null,null,null,null,{"$f":"VLOOKUP(AU61,SAMICBIS!$A$3:$E$500,5,FALSE)","v":{"$error":"#N/A"}},null,null,null,null,null,null,null,null,{"$f":"VLOOKUP(BD61,SAMICBIS!$A$3:$E$500,5,FALSE)","v":{"$error":"#N/A"}},null,null,null,null,null,null,{"$f":"VLOOKUP(BK61,SAMICBIS!$A$3:$E$500,5,FALSE)","v":{"$error":"#N/A"}},null,null,null,null,null,null,null,null,null,null,{"$f":"VLOOKUP(BV61,SAMICBIS!$A$3:$E$500,5,FALSE)","v":{"$error":"#N/A"}},null,null,null,null,null,null,{"$f":"VLOOKUP(CC61,SAMICBIS!$A$3:$E$500,5,FALSE)","v":{"$error":"#N/A"}},null,null,null,null,null,null,null,null,{"$f":"VLOOKUP(CL61,SAMICBIS!$A$3:$E$500,5,FALSE)","v":{"$error":"#N/A"}},null,null,null,null,null,null,{"$f":"VLOOKUP(CS61,SAMICBIS!$A$3:$E$500,5,FALSE)","v":{"$error":"#N/A"}},null,null,null,null,null,null,null,null,null,null,{"$f":"VLOOKUP(DD61,SAMICBIS!$A$3:$E$500,5,FALSE)","v":{"$error":"#N/A"}},null,null,null,null,null,null,{"$f":"VLOOKUP(DK61,SAMICBIS!$A$3:$E$500,5,FALSE)","v":{"$error":"#N/A"}},null,null,null,null,null,null,null,null,{"$f":"VLOOKUP(DT61,SAMICBIS!$A$3:$E$500,5,FALSE)","v":{"$error":"#N/A"}},null,null,null,null,null,null,{"$f":"VLOOKUP(EA61,SAMICBIS!$A$3:$E$500,5,FALSE)","v":{"$error":"#N/A"}},null,null,null,null,null,null,null,null,null,null,{"$f":"VLOOKUP(EL61,SAMICBIS!$A$3:$E$500,5,FALSE)","v":{"$error":"#N/A"}},null,null,null,null,null,null,{"$f":"VLOOKUP(ES61,SAMICBIS!$A$3:$E$500,5,FALSE)","v":{"$error":"#N/A"}},null,null,null,null,null,null,null,null,{"$f":"VLOOKUP(FB61,SAMICBIS!$A$3:$E$500,5,FALSE)","v":{"$error":"#N/A"}},null,null,null,null,null,null,{"$f":"VLOOKUP(FI61,SAMICBIS!$A$3:$E$500,5,FALSE)","v":{"$error":"#N/A"}},null,null,null,null,null,null,null,null,null,null,{"$f":"VLOOKUP(FT61,SAMICBIS!$A$3:$E$500,5,FALSE)","v":{"$error":"#N/A"}},null,null,null,null,null,null,{"$f":"VLOOKUP(GA61,SAMICBIS!$A$3:$E$500,5,FALSE)","v":{"$error":"#N/A"}},null,null,null,null,null,null,null,null,{"$f":"VLOOKUP(GJ61,SAMICBIS!$A$3:$E$500,5,FALSE)","v":{"$error":"#N/A"}},null,null,null,null,null,null,{"$f":"VLOOKUP(GQ61,SAMICBIS!$A$3:$E$500,5,FALSE)","v":{"$error":"#N/A"}},null,null,null,null,null,null,null,null,null,null,{"$f":"VLOOKUP(HB61,SAMICBIS!$A$3:$E$500,5,FALSE)","v":{"$error":"#N/A"}},null,null,null,null,null,null,{"$f":"VLOOKUP(HI61,SAMICBIS!$A$3:$E$500,5,FALSE)","v":{"$error":"#N/A"}},null,null,null,null,null,null,null,null,{"$f":"VLOOKUP(HR61,SAMICBIS!$A$3:$E$500,5,FALSE)","v":{"$error":"#N/A"}},null,null,null,null,null,null,{"$f":"VLOOKUP(HY61,SAMICBIS!$A$3:$E$500,5,FALSE)","v":{"$error":"#N/A"}},null,null,null,null,null,null,null,null,null,null,{"$f":"VLOOKUP(IJ61,SAMICBIS!$A$3:$E$500,5,FALSE)","v":{"$error":"#N/A"}},null,null,null,null,null,null,{"$f":"VLOOKUP(IQ61,SAMICBIS!$A$3:$E$500,5,FALSE)","v":{"$error":"#N/A"}},null,null,null,null,null,null,null,null,{"$f":"VLOOKUP(IZ61,SAMICBIS!$A$3:$E$500,5,FALSE)","v":{"$error":"#N/A"}},null,null,null,null,null,null,{"$f":"VLOOKUP(JG61,SAMICBIS!$A$3:$E$500,5,FALSE)","v":{"$error":"#N/A"}},null,null,null,null,null,null,null,null,null,null,{"$f":"VLOOKUP(JR61,SAMICBIS!$A$3:$E$500,5,FALSE)","v":{"$error":"#N/A"}},null,null,null,null,null,null,{"$f":"VLOOKUP(JY61,SAMICBIS!$A$3:$E$500,5,FALSE)","v":{"$error":"#N/A"}},null,null,null,null,null,null,null,null,{"$f":"VLOOKUP(KH61,SAMICBIS!$A$3:$E$500,5,FALSE)","v":{"$error":"#N/A"}},null,null,null,null,null,null,{"$f":"VLOOKUP(KO61,SAMICBIS!$A$3:$E$500,5,FALSE)","v":{"$error":"#N/A"}},null,null,null,null,null,null,null,null,null,null,{"$f":"VLOOKUP(KZ61,SAMICBIS!$A$3:$E$500,5,FALSE)","v":{"$error":"#N/A"}},null,null,null,null,null,null,{"$f":"VLOOKUP(LG61,SAMICBIS!$A$3:$E$500,5,FALSE)","v":{"$error":"#N/A"}},null,null,null,null,null,null,null,null,{"$f":"VLOOKUP(LP61,SAMICBIS!$A$3:$E$500,5,FALSE)","v":{"$error":"#N/A"}},null,null,null,null,null,null,{"$f":"VLOOKUP(LW61,SAMICBIS!$A$3:$E$500,5,FALSE)","v":{"$error":"#N/A"}},null,null,null,null,null,null,null,null,null,null,{"$f":"VLOOKUP(MH61,SAMICBIS!$A$3:$E$500,5,FALSE)","v":{"$error":"#N/A"}},null,null,null,null,null,null,{"$f":"VLOOKUP(MO61,SAMICBIS!$A$3:$E$500,5,FALSE)","v":{"$error":"#N/A"}},null,null,null,null,null,null,null,null,{"$f":"VLOOKUP(MX61,SAMICBIS!$A$3:$E$500,5,FALSE)","v":{"$error":"#N/A"}},null,null,null,null,null,null,{"$f":"VLOOKUP(NE61,SAMICBIS!$A$3:$E$500,5,FALSE)","v":{"$error":"#N/A"}},null,null,null,null,null,null,null,null,null,null,{"$f":"VLOOKUP(NP61,SAMICBIS!$A$3:$E$500,5,FALSE)","v":{"$error":"#N/A"}},null,null,null,null,null,null,{"$f":"VLOOKUP(NW61,SAMICBIS!$A$3:$E$500,5,FALSE)","v":{"$error":"#N/A"}},null,null,null,null,null,null,null,null,{"$f":"VLOOKUP(OF61,SAMICBIS!$A$3:$E$500,5,FALSE)","v":{"$error":"#N/A"}},null,null,null,null,null,null,{"$f":"VLOOKUP(OM61,SAMICBIS!$A$3:$E$500,5,FALSE)","v":{"$error":"#N/A"}},null,null,null,null,null,null,null,null,null,null,{"$f":"VLOOKUP(OX61,SAMICBIS!$A$3:$E$500,5,FALSE)","v":{"$error":"#N/A"}},null,null,null,null,null,null,{"$f":"VLOOKUP(PE61,SAMICBIS!$A$3:$E$500,5,FALSE)","v":{"$error":"#N/A"}},null,null,null,null,null,null,null,null,{"$f":"VLOOKUP(PN61,SAMICBIS!$A$3:$E$500,5,FALSE)","v":{"$error":"#N/A"}},null,null,null,null,null,null,{"$f":"VLOOKUP(PU61,SAMICBIS!$A$3:$E$500,5,FALSE)","v":{"$error":"#N/A"}},null,null,null,null,null,null,null,null,null,null,{"$f":"VLOOKUP(QF61,SAMICBIS!$A$3:$E$500,5,FALSE)","v":{"$error":"#N/A"}},null,null,null,null,null,null,{"$f":"VLOOKUP(QM61,SAMICBIS!$A$3:$E$500,5,FALSE)","v":{"$error":"#N/A"}},null,null,null,null,null,null,null,null,{"$f":"VLOOKUP(QV61,SAMICBIS!$A$3:$E$500,5,FALSE)","v":{"$error":"#N/A"}},null,null,null,null,null,null,{"$f":"VLOOKUP(RC61,SAMICBIS!$A$3:$E$500,5,FALSE)","v":{"$error":"#N/A"}},null,null,null,null,null,null,null,null,null,null,{"$f":"VLOOKUP(RN61,SAMICBIS!$A$3:$E$500,5,FALSE)","v":{"$error":"#N/A"}},null,null,null,null,null,null,{"$f":"VLOOKUP(RU61,SAMICBIS!$A$3:$E$500,5,FALSE)","v":{"$error":"#N/A"}},null,null,null,null,null,null,null,null,{"$f":"VLOOKUP(SD61,SAMICBIS!$A$3:$E$500,5,FALSE)","v":{"$error":"#N/A"}},null,null,null,null,null,null,{"$f":"VLOOKUP(SK61,SAMICBIS!$A$3:$E$500,5,FALSE)","v":{"$error":"#N/A"}},null,null,null,null,null,null,null,null,null,null,{"$f":"VLOOKUP(SV61,SAMICBIS!$A$3:$E$500,5,FALSE)","v":{"$error":"#N/A"}},null,null,null,null,null,null,{"$f":"VLOOKUP(TC61,SAMICBIS!$A$3:$E$500,5,FALSE)","v":{"$error":"#N/A"}},null,null,null,null,null,null,null,null,{"$f":"VLOOKUP(TL61,SAMICBIS!$A$3:$E$500,5,FALSE)","v":{"$error":"#N/A"}},null,null,null,null,null,null,{"$f":"VLOOKUP(TS61,SAMICBIS!$A$3:$E$500,5,FALSE)","v":{"$error":"#N/A"}},null,null,null,null,null,null,null,null,null,null,{"$f":"VLOOKUP(UD61,SAMICBIS!$A$3:$E$500,5,FALSE)","v":{"$error":"#N/A"}},null,null,null,null,null,null,{"$f":"VLOOKUP(UK61,SAMICBIS!$A$3:$E$500,5,FALSE)","v":{"$error":"#N/A"}},null,null,null,null,null,null,null,null,{"$f":"VLOOKUP(UT61,SAMICBIS!$A$3:$E$500,5,FALSE)","v":{"$error":"#N/A"}},null,null,null,null,null,null,{"$f":"VLOOKUP(VA61,SAMICBIS!$A$3:$E$500,5,FALSE)","v":{"$error":"#N/A"}},null,null,null,null,null,null,null,null,null,null,{"$f":"VLOOKUP(VL61,SAMICBIS!$A$3:$E$500,5,FALSE)","v":{"$error":"#N/A"}},null,null,null,null,null,null,{"$f":"VLOOKUP(VS61,SAMICBIS!$A$3:$E$500,5,FALSE)","v":{"$error":"#N/A"}},null,null,null,null,null,null,null,null,{"$f":"VLOOKUP(WB61,SAMICBIS!$A$3:$E$500,5,FALSE)","v":{"$error":"#N/A"}},null,null,null,null,null,null,{"$f":"VLOOKUP(WI61,SAMICBIS!$A$3:$E$500,5,FALSE)","v":{"$error":"#N/A"}},null,null,null,null,null,null,null,null,null,null,{"$f":"VLOOKUP(WT61,SAMICBIS!$A$3:$E$500,5,FALSE)","v":{"$error":"#N/A"}},null,null,null,null,null,null,{"$f":"VLOOKUP(XA61,SAMICBIS!$A$3:$E$500,5,FALSE)","v":{"$error":"#N/A"}},null,null,null,null,null,null,null,null,{"$f":"VLOOKUP(XJ61,SAMICBIS!$A$3:$E$500,5,FALSE)","v":{"$error":"#N/A"}},null,null,null,null,null,null,{"$f":"VLOOKUP(XQ61,SAMICBIS!$A$3:$E$500,5,FALSE)","v":{"$error":"#N/A"}},null,null,null,null,null,null,null,null,null,null,{"$f":"VLOOKUP(YB61,SAMICBIS!$A$3:$E$500,5,FALSE)","v":{"$error":"#N/A"}},null,null,null,null,null,null,{"$f":"VLOOKUP(YI61,SAMICBIS!$A$3:$E$500,5,FALSE)","v":{"$error":"#N/A"}},null,null,null,null,null,null,null,null,{"$f":"VLOOKUP(YR61,SAMICBIS!$A$3:$E$500,5,FALSE)","v":{"$error":"#N/A"}},null,null,null,null,null,null,{"$f":"VLOOKUP(YY61,SAMICBIS!$A$3:$E$500,5,FALSE)","v":{"$error":"#N/A"}},null,null,null,null,null,null,null,null,null,null,{"$f":"VLOOKUP(ZJ61,SAMICBIS!$A$3:$E$500,5,FALSE)","v":{"$error":"#N/A"}},null,null,null,null,null,null,{"$f":"VLOOKUP(ZQ61,SAMICBIS!$A$3:$E$500,5,FALSE)","v":{"$error":"#N/A"}},null,null,null,null,null,null,null,null,{"$f":"VLOOKUP(ZZ61,SAMICBIS!$A$3:$E$500,5,FALSE)","v":{"$error":"#N/A"}},null,null,null,null,null,null,{"$f":"VLOOKUP(AAG61,SAMICBIS!$A$3:$E$500,5,FALSE)","v":{"$error":"#N/A"}},null,null,null,null,null,null,null,null,null,null,{"$f":"VLOOKUP(AAR61,SAMICBIS!$A$3:$E$500,5,FALSE)","v":{"$error":"#N/A"}},null,null,null,null,null,null,{"$f":"VLOOKUP(AAY61,SAMICBIS!$A$3:$E$500,5,FALSE)","v":{"$error":"#N/A"}},null,null,null,null,null,null,null,null,{"$f":"VLOOKUP(ABH61,SAMICBIS!$A$3:$E$500,5,FALSE)","v":{"$error":"#N/A"}},null,null,null,null,null,null,{"$f":"VLOOKUP(ABO61,SAMICBIS!$A$3:$E$500,5,FALSE)","v":{"$error":"#N/A"}},null,null,null,null,null,null,null,null,null,null,{"$f":"VLOOKUP(ABZ61,SAMICBIS!$A$3:$E$500,5,FALSE)","v":{"$error":"#N/A"}},null,null,null,null,null,null,{"$f":"VLOOKUP(ACG61,SAMICBIS!$A$3:$E$500,5,FALSE)","v":{"$error":"#N/A"}},null,null,null,null,null,null,null,null,{"$f":"VLOOKUP(ACP61,SAMICBIS!$A$3:$E$500,5,FALSE)","v":{"$error":"#N/A"}},null,null,null,null,null,null,{"$f":"VLOOKUP(ACW61,SAMICBIS!$A$3:$E$500,5,FALSE)","v":{"$error":"#N/A"}},null,null,null,null,null,null,null,null,null,null,{"$f":"VLOOKUP(ADH61,SAMICBIS!$A$3:$E$500,5,FALSE)","v":{"$error":"#N/A"}},null,null,null,null,null,null,{"$f":"VLOOKUP(ADO61,SAMICBIS!$A$3:$E$500,5,FALSE)","v":{"$error":"#N/A"}},null,null,null,null,null,null,null,null,{"$f":"VLOOKUP(ADX61,SAMICBIS!$A$3:$E$500,5,FALSE)","v":{"$error":"#N/A"}},null,null,null,null,null,null,{"$f":"VLOOKUP(AEE61,SAMICBIS!$A$3:$E$500,5,FALSE)","v":{"$error":"#N/A"}}]

{"sheet":"M1OBS","index":7,"n_rows":83,"n_cols":57,"rows_kept":83,"cut":false,"hidden":false,"merged":[[77,2,77,22],[79,2,79,22],[81,2,81,22],[82,2,82,22],[77,25,77,45],[78,25,78,45],[79,25,79,45],[80,25,80,45],[81,25,81,45],[82,25,82,45],[74,25,74,45],[76,25,76,37],[76,39,76,45],[71,25,71,45],[75,2,75,15],[75,25,75,38],[72,2,72,22],[71,2,71,22],[73,2,73,22],[72,25,72,45],[73,25,73,45],[66,28,66,42],[70,1,70,45],[64,4,64,18],[5,30,5,41],[5,20,5,22],[5,25,5,27],[5,23,5,24],[5,6,5,17],[40,6,40,17],[40,30,40,41],[39,6,39,17],[39,30,39,41],[39,20,39,27],[60,4,60,18],[63,4,63,18],[58,4,58,18],[1,9,1,19],[3,20,3,22],[3,25,3,27],[1,28,1,38],[1,20,1,27],[61,4,61,18],[57,4,57,18],[61,28,61,42],[64,28,64,42],[63,28,63,42],[1,1,1,6],[0,0,0,41],[78,2,78,22],[80,2,80,22],[57,28,57,42],[52,2,52,22],[52,25,52,44],[60,28,60,42],[55,20,55,27],[58,28,58,42],[67,28,67,42],[66,4,66,18],[74,2,74,22],[67,4,67,18],[76,2,76,14],[76,16,76,22]]}
["OBJECTIF : OBSERVER OU ET COMMENT A ETE MARQUE LE DERNIER POINT"]
[null,"1TU",null,null,null,null,null,null,null,"Amir",null,null,null,null,null,null,null,null,null,null,"COACHS-ARBITRES",null,null,null,null,null,null,null,"Emre"]
[]
[null,null,null,null,null,null,null,null,null,null,null,null,null,null,null,null,null,null,null,null,"SCORE",null,null,null,null,"SCORE"]
[null,null,null,null,null,null,null,null,null,null,null,null,null,null,null,null,null,null,null,null,null,null,null,null,null,null,null,null,null,null,null,null,null,null,null,null,null,null,null,null,null,null,null,null,null,null,null,null,null,null,null,null,null,null,null,null,0]
[null,null,null,null,null,null,"Hedi",null,null,null,null,null,null,null,null,null,null,null,null,null,{"$f":"BB53","v":0},null,null,"-",null,{"$f":"BC53","v":0},null,null,null,null,"Wail",null,null,null,null,null,null,null,null,null,null,null,null,null,null,null,null,null,null,null,null,null,null,null,null,null,1]
[null,null,null,null,null,null,null,null,null,null,null,null,null,null,null,null,null,null,null,null,null,null,null,null,null,null,null,null,null,null,null,null,null,null,null,null,null,null,null,null,null,null,null,null,null,null,null,null,null,null,null,null,null,null,null,null,2]
[null,null,null,null,null,null,null,null,null,null,null,null,null,null,null,null,null,null,null,null,null,null,null,null,null,null,null,null,null,null,null,null,null,null,null,null,null,null,null,null,null,null,null,null,null,null,null,null,null,null,null,null,null,null,null,null,3]
[null,null,null,null,null,null,null,null,null,null,null,null,null,null,null,null,null,null,null,null,null,null,null,null,null,null,null,null,null,null,null,null,null,null,null,null,null,null,null,null,null,null,null,null,null,null,null,null,null,null,null,null,null,null,null,null,4]
[null,null,null,null,null,null,null,null,null,null,null,null,null,null,null,null,null,null,null,null,null,null,null,null,null,null,null,null,null,null,null,null,null,null,null,null,null,null,null,null,null,null,null,null,null,null,null,null,null,null,null,null,null,null,null,null,5]
[null,null,null,null,null,null,null,null,null,null,null,null,null,null,null,null,null,null,null,null,null,null,null,null,null,null,null,null,null,null,null,null,null,null,null,null,null,null,null,null,null,null,null,null,null,null,null,null,null,null,null,null,null,null,null,null,6]
[null,null,null,null,null,null,null,null,null,null,null,null,null,null,null,null,null,null,null,null,null,null,null,null,null,null,null,null,null,null,null,null,null,null,null,null,null,null,null,null,null,null,null,null,null,null,null,null,null,null,null,null,null,null,null,null,7]
[null,null,null,null,null,null,null,null,null,null,null,null,null,null,null,null,null,null,null,null,null,null,null,null,null,null,null,null,null,null,null,null,null,null,null,null,null,null,null,null,null,null,null,null,null,null,null,null,null,null,null,null,null,null,null,null,8]
[null,null,null,null,null,null,null,null,null,null,null,null,null,null,null,null,null,null,null,null,null,null,null,null,null,null,null,null,null,null,null,null,null,null,null,null,null,null,null,null,null,null,null,null,null,null,null,null,null,null,null,null,null,null,null,null,9]
[null,null,null,null,null,null,null,null,null,null,null,null,null,null,null,null,null,null,null,null,null,null,null,null,null,null,null,null,null,null,null,null,null,null,null,null,null,null,null,null,null,null,null,null,null,null,null,null,null,null,null,null,null,null,null,null,10]
[null,null,null,null,null,null,null,null,null,null,null,null,null,null,null,null,null,null,null,null,null,null,null,null,null,null,null,null,null,null,null,null,null,null,null,null,null,null,null,null,null,null,null,null,null,null,null,null,null,null,null,null,null,null,null,null,11]
[]
[]
[]
[]
[]
[]
[]
[]
[]
[]
[]
[]
[]
[]
[]
[]
[]
[]
[]
[]
[]
[]
[null,null,null,null,null,null,null,null,null,null,null,null,null,null,null,null,null,null,null,null,null,null,null,null,null,null,null,null,null,null,null,null,null,null,null,null,null,null,null,null,null,null,null,null,null,null,null,null,null,null,null,null,"COUPS"]
[null,null,null,null,null,null,"Zones visées",null,null,null,null,null,null,null,null,null,null,null,null,null,"RESULTATS",null,null,null,null,null,null,null,null,null,"Zones visées ",null,null,null,null,null,null,null,null,null,null,null,null,null,null,null,null,null,null,"ZONES VISEES",{"$f":"G6","v":"Hedi"},{"$f":"AE6","v":"Wail"},"COUPS",{"$f":"G6","v":"Hedi"},{"$f":"AE6","v":"Wail"}]
[null,null,null,null,null,null,null,null,null,null,null,null,null,null,null,null,null,null,null,null,null,null,null,null,null,null,null,null,null,null,null,null,null,null,null,null,null,null,null,null,null,null,null,null,null,null,null,null,null,"Zone avant G",{"$f":"(SUMPRODUCT(N(ISTEXT(Z11:AD16))))-COUNTIF(Z11:AD16,BD42)","v":0},{"$f":"(SUMPRODUCT(N(ISTEXT(S29:W34))))-COUNTIF(S29:W34,BA42)","v":0},"AMORTI",{"$f":"COUNTIF($Y$11:$AT$34,BA41)","v":0},{"$f":"COUNTIF($C$11:$X$34,BA41)","v":0},"AMORTI"]
[null,null,null,null,null,null,null,null,null,null,null,null,null,null,null,null,null,null,null,null,null,null,null,null,null,null,null,null,null,null,null,null,null,null,null,null,null,null,null,null,null,null,null,null,null,null,null,null,null,"Zone avant C",{"$f":"(SUMPRODUCT(N(ISTEXT(Z17:AD28))))-COUNTIF(Z17:AD28,BD42)","v":0},{"$f":"(SUMPRODUCT(N(ISTEXT(S17:W28))))-COUNTIF(S17:W28,BA42)","v":0},{"$f":"CONCATENATE(\"FAUTE \",AE6)","v":"FAUTE Wail"},{"$f":"COUNTIF(A8:W10,BA42)+COUNTIF(A11:W34,BA42)+COUNTIF(A35:W37,BA42)","v":0},{"$f":"COUNTIF(Z8:AV10,BD42)+COUNTIF(Z11:AV34,BD42)+COUNTIF(Z35:AV37,BD42)","v":0},{"$f":"CONCATENATE(\"FAUTE \",G6)","v":"FAUTE Hedi"}]
[null,null,null,null,null,null,null,null,null,null,null,null,null,null,null,null,null,null,null,null,null,null,null,null,null,null,null,null,null,null,null,null,null,null,null,null,null,null,null,null,null,null,null,null,null,null,null,null,null,"Zone avant D",{"$f":"(SUMPRODUCT(N(ISTEXT(Z29:AD34))))-COUNTIF(Z29:AD34,BD42)","v":0},{"$f":"(SUMPRODUCT(N(ISTEXT(S11:W16))))-COUNTIF(S11:W16,BA42)","v":0}]
[null,null,null,null,null,null,null,null,null,null,null,null,null,null,null,null,null,null,null,null,null,null,null,null,null,null,null,null,null,null,null,null,null,null,null,null,null,null,null,null,null,null,null,null,null,null,null,null,null,"Centre G",{"$f":"(SUMPRODUCT(N(ISTEXT(AE11:AL16))))-COUNTIF(AE11:AL16,BD42)","v":0},{"$f":"(SUMPRODUCT(N(ISTEXT(K29:R34))))*COUNTIF(K29:R34,BA42)","v":0},"CLOCHE",{"$f":"COUNTIF($Y$11:$AT$34,BA44)","v":0},{"$f":"COUNTIF($C$11:$X$34,BA44)","v":0},"CLOCHE"]
[null,null,null,null,null,null,null,null,null,null,null,null,null,null,null,null,null,null,null,null,null,null,null,null,null,null,null,null,null,null,null,null,null,null,null,null,null,null,null,null,null,null,null,null,null,null,null,null,null,"Centre",{"$f":"(SUMPRODUCT(N(ISTEXT(AE17:AL28))))-COUNTIF(AE17:AL28,BD42)","v":0},{"$f":"(SUMPRODUCT(N(ISTEXT(K17:R28))))-COUNTIF(K17:R28,BA42)","v":0},"SERVICE",{"$f":"COUNTIF($Y$11:$AT$34,BA45)","v":0},{"$f":"COUNTIF($C$11:$X$34,BA45)","v":0},"SERVICE"]
[null,null,null,null,null,null,null,null,null,null,null,null,null,null,null,null,null,null,null,null,null,null,null,null,null,null,null,null,null,null,null,null,null,null,null,null,null,null,null,null,null,null,null,null,null,null,null,null,null,"Centre D",{"$f":"(SUMPRODUCT(N(ISTEXT(AE29:AL34))))-COUNTIF(AE29:AL34,BD42)","v":0},{"$f":"(SUMPRODUCT(N(ISTEXT(K11:R16))))-COUNTIF(K11:R16,BA42)","v":0},"FORT",{"$f":"COUNTIF($Y$11:$AT$34,BA46)","v":0},{"$f":"COUNTIF($C$11:$X$34,BA46)","v":0},"FORT"]
[null,null,null,null,null,null,null,null,null,null,null,null,null,null,null,null,null,null,null,null,null,null,null,null,null,null,null,null,null,null,null,null,null,null,null,null,null,null,null,null,null,null,null,null,null,null,null,null,null,"Zone arrière G",{"$f":"(SUMPRODUCT(N(ISTEXT(AM11:AT16))))-COUNTIF(AM11:AT16,BD42)","v":0},{"$f":"(SUMPRODUCT(N(ISTEXT(C29:J34))))-COUNTIF(C29:J34,BA42)","v":0},"SMASH",{"$f":"COUNTIF($Y$11:$AT$34,BA47)","v":0},{"$f":"COUNTIF($C$11:$X$34,BA47)","v":0},"SMASH"]
[null,null,null,null,null,null,null,null,null,null,null,null,null,null,null,null,null,null,null,null,null,null,null,null,null,null,null,null,null,null,null,null,null,null,null,null,null,null,null,null,null,null,null,null,null,null,null,null,null,"Zone AR C",{"$f":"(SUMPRODUCT(N(ISTEXT(AM17:AT28))))-COUNTIF(AM17:AT28,BD42)","v":0},{"$f":"(SUMPRODUCT(N(ISTEXT(C17:J28))))-COUNTIF(C17:J28,BA42)","v":0},"DEGAGE",{"$f":"COUNTIF($Y$11:$AT$34,BA48)","v":0},{"$f":"COUNTIF($C$11:$X$34,BA48)","v":0},"DEGAGE"]
[null,null,null,null,null,null,null,null,null,null,null,null,null,null,null,null,null,null,null,null,null,null,null,null,null,null,null,null,null,null,null,null,null,null,null,null,null,null,null,null,null,null,null,null,null,null,null,null,null,"Zone AR D",{"$f":"(SUMPRODUCT(N(ISTEXT(AM29:AT34))))-COUNTIF(AM29:AT34,BD42)","v":0},{"$f":"(SUMPRODUCT(N(ISTEXT(C11:J16))))-COUNTIF(C11:J16,BA42)","v":0},"x",{"$f":"COUNTIF($Y$11:$AT$34,BA49)","v":0},{"$f":"COUNTIF($C$11:$X$34,BA49)","v":0},"x"]
[null,null,null,null,null,null,null,null,null,null,null,null,null,null,null,null,null,null,null,null,null,null,null,null,null,null,null,null,null,null,null,null,null,null,null,null,null,null,null,null,null,null,null,null,null,null,null,null,null,"Hors zones",{"$f":"SUMPRODUCT(N(ISTEXT(Z8:AV10)))+SUMPRODUCT(N(ISTEXT(AU11:AV34)))+SUMPRODUCT(N(ISTEXT(Z35:AV37)))","v":0},{"$f":"SUMPRODUCT(N(ISTEXT(A8:W10)))+SUMPRODUCT(N(ISTEXT(A11:B34)))+SUMPRODUCT(N(ISTEXT(A35:W37)))","v":0}]
[null,null,null,null,null,null,null,null,null,null,null,null,null,null,null,null,null,null,null,null,null,null,null,null,null,null,null,null,null,null,null,null,null,null,null,null,null,null,null,null,null,null,null,null,null,null,null,null,null,"Filet",{"$f":"SUMPRODUCT(N(ISTEXT(Y8:Y37)))","v":0},{"$f":"SUMPRODUCT(N(ISTEXT(X8:X37)))","v":0},{"$f":"CONCATENATE(\"FILET \",AE6)","v":"FILET Wail"},{"$f":"COUNTIF(Y8:Y37,BA51)","v":0},{"$f":"COUNTIF(X8:X37,BD51)","v":0},{"$f":"CONCATENATE(\"FILET \",G6)","v":"FILET Hedi"}]
[]
[null,null,"COUPS TECHNIQUES UTILISES",null,null,null,null,null,null,null,null,null,null,null,null,null,null,null,null,null,null,null,null,null,null,"COUPS TECHNIQUES UTILISES",null,null,null,null,null,null,null,null,null,null,null,null,null,null,null,null,null,null,null,null,null,null,null,null,{"$f":"SUM(AY41:AY51)","v":0},{"$f":"SUM(AZ41:AZ51)","v":0},"MON SCORE",{"$f":"SUM(BB41:BB51)","v":0},{"$f":"SUM(BC41:BC51)","v":0}]
[]
[]
[null,null,null,null,null,null,null,null,null,null,null,null,null,null,null,null,null,null,null,null,"PROFILS DE JEU",null,null,null,null,null,null,null,null,null,null,null,null,null,null,null,null,null,null,null,null,null,null,null,null,null,null,null,null,{"$f":"G6","v":"Hedi"},null,{"$f":"AE6","v":"Wail"}]
[]
[null,null,null,null,"MA TACTIQUE",null,null,null,null,null,null,null,null,null,null,null,null,null,null,null,null,null,null,null,null,null,null,null,"MA TACTIQUE",null,null,null,null,null,null,null,null,null,null,null,null,null,null,null,null,null,null,null,{"$f":"E58","v":"MA TACTIQUE"},{"$f":"E59","v":"Viser le centre"},null,{"$f":"AC59","v":"Viser le centre"}]
[null,null,null,null,"Viser le centre",null,null,null,null,null,null,null,null,null,null,null,null,null,null,null,null,null,null,null,null,null,null,null,"Viser le centre",null,null,null,null,null,null,null,null,null,null,null,null,null,null,null,null,null,null,null,{"$f":"E61","v":"MON POINT FORT"},{"$f":"E62","v":0},null,{"$f":"AC62","v":0}]
[null,null,null,null,null,null,null,null,null,null,null,null,null,null,null,null,null,null,null,null,null,null,null,null,null,null,null,null,null,null,null,null,null,null,null,null,null,null,null,null,null,null,null,null,null,null,null,null,{"$f":"E64","v":"MON POINT FAIBLE"},{"$f":"E65","v":0},null,{"$f":"AC65","v":0}]
[null,null,null,null,"MON POINT FORT",null,null,null,null,null,null,null,null,null,null,null,null,null,null,null,null,null,null,null,null,null,null,null,"MON POINT FORT",null,null,null,null,null,null,null,null,null,null,null,null,null,null,null,null,null,null,null,{"$f":"E67","v":"Comment battre Wail ?"},{"$f":"E68","v":0},null,{"$f":"AC68","v":0}]
[]
[]
[null,null,null,null,"MON POINT FAIBLE",null,null,null,null,null,null,null,null,null,null,null,null,null,null,null,null,null,null,null,null,null,null,null,"MON POINT FAIBLE"]
[]
[]
[null,null,null,null,{"$f":"CONCATENATE(\"Comment battre \",AE6,\" ?\")","v":"Comment battre Wail ?"},null,null,null,null,null,null,null,null,null,null,null,null,null,null,null,null,null,null,null,null,null,null,null,{"$f":"CONCATENATE(\"Comment battre \",G6,\" ?\")","v":"Comment battre Hedi ?"}]
[]
[]
[]
[null,"CHOIX DE LA SITUATION A TRAVAILLER POUR AMELIORER ..."]
[null,null,"MA STRATEGIE",null,null,null,null,null,null,null,null,null,null,null,null,null,null,null,null,null,null,null,null,null,null,"MA STRATEGIE"]
[null,null,"Jouer sur la largeur",null,null,null,null,null,null,null,null,null,null,null,null,null,null,null,null,null,null,null,null,null,null,"Jouer sur la largeur"]
[null,null,"MA TACTIQUE",null,null,null,null,null,null,null,null,null,null,null,null,null,null,null,null,null,null,null,null,null,null,"MA TACTIQUE"]
[null,null,"Je fixe d'un côté pour jouer de l'autre",null,null,null,null,null,null,null,null,null,null,null,null,null,null,null,null,null,null,null,null,null,null,"Je fixe d'un côté pour jouer de l'autre"]
[null,null,"Nom de la situation à travailler",null,null,null,null,null,null,null,null,null,null,null,null,null,null,null,null,null,null,null,null,null,null,"Nom de la situation à travailler"]
[null,null,{"$f":"INDEX(choixsa,MATCH(Q77,situations,0),MATCH(C75,tactiques,0))","v":"R:Gauche-Droite"},null,null,null,null,null,null,null,null,null,null,null,null,null,"ROUTINE 1",null,null,null,null,null,null,null,null,{"$f":"INDEX(choixsa,MATCH(AN77,situations,0),MATCH(Z75,tactiques,0))","v":"R:Gauche-Droite"},null,null,null,null,null,null,null,null,null,null,null,null,null,"ROUTINE 1"]
[null,null,"Objectif",null,null,null,null,null,null,null,null,null,null,null,null,null,null,null,null,null,null,null,null,null,null,"Objectif",null,null,null,null,null,null,null,null,null,null,null,null,null,null,null,null,null,null,null,null,null,null,null,"N4"]
[null,{"$f":"IF(Q77=DEBUT!S2,VLOOKUP(M1OBS!C77,DEBUT!R3:V26,2,FALSE),IF(Q77=DEBUT!T2,VLOOKUP(M1OBS!C77,DEBUT!R3:V26,3,FALSE),IF(Q77=DEBUT!U2,VLOOKUP(M1OBS!C77,DEBUT!R3:V26,4,FALSE),IF(Q77=DEBUT!V2,VLOOKUP(M1OBS!C77,DEBUT!R3:V26,5,FALSE)))))","v":false},{"$f":"VLOOKUP(C77,SAMICBIS!$A$3:$T$500,5,FALSE)","v":"Continuité de l'échange"},null,null,null,null,null,null,null,null,null,null,null,null,null,null,null,null,null,null,null,null,null,{"$f":"IF(AM77=DEBUT!S2,VLOOKUP(M1OBS!Z77,DEBUT!R3:V26,2,FALSE),IF(AM77=DEBUT!T2,VLOOKUP(M1OBS!Z77,DEBUT!R3:V26,3,FALSE),IF(AM77=DEBUT!U2,VLOOKUP(M1OBS!Z77,DEBUT!R3:V26,4,FALSE),IF(AM77=DEBUT!V2,VLOOKUP(M1OBS!Z77,DEBUT!R3:V26,5,FALSE)))))","v":false},{"$f":"VLOOKUP(Z77,SAMICBIS!$A$3:$T$500,5,FALSE)","v":"Continuité de l'échange"}]
[null,null,"But",null,null,null,null,null,null,null,null,null,null,null,null,null,null,null,null,null,null,null,null,null,null,"But"]
[null,null,{"$f":"VLOOKUP(C77,SAMICBIS!$A$3:$T$500,6,FALSE)","v":"Réaliser 15 passes en en alternant droite-gauche"},null,null,null,null,null,null,null,null,null,null,null,null,null,null,null,null,null,null,null,null,null,null,{"$f":"VLOOKUP(Z77,SAMICBIS!$A$3:$T$500,6,FALSE)","v":"Réaliser 15 passes en en alternant droite-gauche"}]
[null,null,"Consignes",null,null,null,null,null,null,null,null,null,null,null,null,null,null,null,null,null,null,null,null,null,null,"Consignes"]
[null,null,{"$f":"VLOOKUP(C77,SAMICBIS!$A$3:$T$500,8,FALSE)","v":"Le joueur qui valide doit renvoyer alternativement à droite et à gauche pendant 15 échanges. L'autre joueur doit renvoyer au centre en coup droit."},null,null,null,null,null,null,null,null,null,null,null,null,null,null,null,null,null,null,null,null,null,null,{"$f":"VLOOKUP(Z77,SAMICBIS!$A$3:$T$500,8,FALSE)","v":"Le joueur qui valide doit renvoyer alternativement à droite et à gauche pendant 15 échanges. L'autre joueur doit renvoyer au centre en coup droit."}]

{"sheet":"MATCHSSCORE","index":8,"n_rows":23,"n_cols":27,"rows_kept":23,"cut":false,"hidden":false,"merged":[[4,3,4,4],[5,3,5,4],[6,3,6,4],[18,0,19,0],[18,11,19,11],[36,0,37,0],[21,0,22,0],[21,11,22,11],[24,0,25,0],[27,0,28,0],[30,0,31,0],[33,0,34,0],[1,3,1,5],[8,8,8,11],[12,0,13,0],[12,11,13,11],[15,0,16,0],[15,11,16,11],[9,0,10,0],[9,11,10,11],[1,8,1,9],[2,8,2,9],[3,8,3,9],[5,8,5,9],[4,8,4,9],[6,8,6,9],[2,3,2,4],[3,3,3,4]]}
[]
[null,{"$f":"ECHFMTELEVE!B2","v":"2TU"},null,"Classement",null,null,null,"V","PTS GAGNES",null,"D","PTS PERDUS"]
[null,"Achraf",null,null,null,{"$f":"IF(D3=1,\"er\",\"ème\")","v":"ème"},null,null,{"$f":"IFERROR(VLOOKUP(B3,$B$10:$I$11,8,FALSE),0)+IFERROR(VLOOKUP(B3,$B$13:$I$14,8,FALSE),0)+IFERROR(VLOOKUP(B3,$B$16:$I$17,8,FALSE),0)+IFERROR(VLOOKUP(B3,$B$19:$I$20,8,FALSE),0)+IFERROR(VLOOKUP(B3,$B$22:$I$23,8,FALSE),0)+IFERROR(VLOOKUP(B3,$M$10:$T$11,8,FALSE),0)+IFERROR(VLOOKUP(B3,$M$13:$T$14,8,FALSE),0)+IFERROR(VLOOKUP(B3,$M$16:$T$17,8,FALSE),0)+IFERROR(VLOOKUP(B3,$M$19:$T$20,8,FALSE),0)+IFERROR(VLOOKUP(B3,$M$22:$T$23,8,FALSE),0)","v":0},null,null,{"$f":"IFERROR(VLOOKUP(B3,$B$10:$J$11,9,FALSE),0)+IFERROR(VLOOKUP(B3,$B$13:$J$14,9,FALSE),0)+IFERROR(VLOOKUP(B3,$B$16:$J$17,9,FALSE),0)+IFERROR(VLOOKUP(B3,$B$19:$J$20,9,FALSE),0)+IFERROR(VLOOKUP(B3,$B$22:$J$23,9,FALSE),0)+IFERROR(VLOOKUP(B3,$M$10:$U$11,9,FALSE),0)+IFERROR(VLOOKUP(B3,$M$13:$U$14,9,FALSE),0)+IFERROR(VLOOKUP(B3,$M$16:$U$17,9,FALSE),0)+IFERROR(VLOOKUP(B3,$M$19:$U$20,9,FALSE),0)+IFERROR(VLOOKUP(B3,$M$22:$U$23,9,FALSE),0)","v":0}]
[null,"Alaeddine",null,null,null,{"$f":"IF(D4=1,\"er\",\"ème\")","v":"ème"},null,null,{"$f":"IFERROR(VLOOKUP(B4,$B$10:$I$11,8,FALSE),0)+IFERROR(VLOOKUP(B4,$B$13:$I$14,8,FALSE),0)+IFERROR(VLOOKUP(B4,$B$16:$I$17,8,FALSE),0)+IFERROR(VLOOKUP(B4,$B$19:$I$20,8,FALSE),0)+IFERROR(VLOOKUP(B4,$B$22:$I$23,8,FALSE),0)+IFERROR(VLOOKUP(B4,$M$10:$T$11,8,FALSE),0)+IFERROR(VLOOKUP(B4,$M$13:$T$14,8,FALSE),0)+IFERROR(VLOOKUP(B4,$M$16:$T$17,8,FALSE),0)+IFERROR(VLOOKUP(B4,$M$19:$T$20,8,FALSE),0)+IFERROR(VLOOKUP(B4,$M$22:$T$23,8,FALSE),0)","v":0},null,null,{"$f":"IFERROR(VLOOKUP(B4,$B$10:$J$11,9,FALSE),0)+IFERROR(VLOOKUP(B4,$B$13:$J$14,9,FALSE),0)+IFERROR(VLOOKUP(B4,$B$16:$J$17,9,FALSE),0)+IFERROR(VLOOKUP(B4,$B$19:$J$20,9,FALSE),0)+IFERROR(VLOOKUP(B4,$B$22:$J$23,9,FALSE),0)+IFERROR(VLOOKUP(B4,$M$10:$U$11,9,FALSE),0)+IFERROR(VLOOKUP(B4,$M$13:$U$14,9,FALSE),0)+IFERROR(VLOOKUP(B4,$M$16:$U$17,9,FALSE),0)+IFERROR(VLOOKUP(B4,$M$19:$U$20,9,FALSE),0)+IFERROR(VLOOKUP(B4,$M$22:$U$23,9,FALSE),0)","v":0}]
[null,"Amadou",null,null,null,"ème",null,null,0,null,null,0]
[null,"Ibrahim",null,null,null,"ème",null,null,0,null,null,0]
[null,null,null,null,null,"ème",null,null,0,null,null,0]
[]
[null,null,null,"1er SET",null,"2ème SET",null,"3ème SET",null,null,null,null,null,null,"1er SET",null,"2ème SET",null,"3ème SET",null,null,null,0]
["MATCH 1",{"$f":"B3","v":"Achraf"},null,null,null,null,null,null,{"$f":"SUM(D10:H10)","v":0},{"$f":"I11","v":0},null,"MATCH 2",{"$f":"B5","v":"Amadou"},null,null,null,null,null,null,{"$f":"SUM(O10:S10)","v":0},{"$f":"T11","v":0},null,1,null,null,null,"1er"]
[null,{"$f":"B4","v":"Alaeddine"},null,null,null,null,null,null,{"$f":"SUM(D11:H11)","v":0},{"$f":"I10","v":0},null,null,{"$f":"B6","v":"Ibrahim"},null,null,null,null,null,null,{"$f":"SUM(O11:S11)","v":0},{"$f":"T10","v":0},null,2,null,null,null,"2ème"]
[null,null,null,"1er SET",null,"2ème SET",null,"3ème SET",null,null,null,null,null,null,"1er SET",null,"2ème SET",null,"3ème SET",null,null,null,3,null,null,null,"3ème"]
["MATCH 3",{"$f":"B3","v":"Achraf"},null,null,null,null,null,null,{"$f":"SUM(D13:H13)","v":0},{"$f":"I14","v":0},null,"MATCH 4",{"$f":"B4","v":"Alaeddine"},null,null,null,null,null,null,{"$f":"SUM(O13:S13)","v":0},{"$f":"T14","v":0},null,4,null,null,null,"4ème"]
[null,{"$f":"B7","v":0},null,null,null,null,null,null,{"$f":"SUM(D14:H14)","v":0},{"$f":"I13","v":0},null,null,{"$f":"B5","v":"Amadou"},null,null,null,null,null,null,{"$f":"SUM(O14:S14)","v":0},{"$f":"T13","v":0},null,5,null,null,null,"5ème"]
[null,null,null,"1er SET",null,"2ème SET",null,"3ème SET",null,null,null,null,null,null,"1er SET",null,"2ème SET",null,"3ème SET",null,null,null,6]
["MATCH 5",{"$f":"B6","v":"Ibrahim"},null,null,null,null,null,null,{"$f":"SUM(D16:H16)","v":0},{"$f":"I17","v":0},null,"MATCH 6",null,null,null,null,null,null,null,{"$f":"SUM(O16:S16)","v":0},{"$f":"T17","v":0},null,7]
[null,{"$f":"B7","v":0},null,null,null,null,null,null,{"$f":"SUM(D17:H17)","v":0},{"$f":"I16","v":0},null,null,null,null,null,null,null,null,null,{"$f":"SUM(O17:S17)","v":0},{"$f":"T16","v":0},null,8]
[null,null,null,"1er SET",null,"2ème SET",null,"3ème SET",null,null,null,null,null,null,"1er SET",null,"2ème SET",null,"3ème SET",null,null,null,9]
["MATCH 7",null,null,null,null,null,null,null,{"$f":"SUM(D19:H19)","v":0},{"$f":"I20","v":0},null,"MATCH 8",null,null,null,null,null,null,null,{"$f":"SUM(O19:S19)","v":0},{"$f":"T20","v":0},null,10]
[null,null,null,null,null,null,null,null,{"$f":"SUM(D20:H20)","v":0},{"$f":"I19","v":0},null,null,null,null,null,null,null,null,null,{"$f":"SUM(O20:S20)","v":0},{"$f":"T19","v":0},null,11]
[null,null,null,"1er SET",null,"2ème SET",null,"3ème SET",null,null,null,null,null,null,"1er SET",null,"2ème SET",null,"3ème SET",null,null,null,0]
["MATCH 9",null,null,null,null,null,null,null,{"$f":"SUM(D22:H22)","v":0},{"$f":"I23","v":0},null,"MATCH 10",null,null,null,null,null,null,null,{"$f":"SUM(O22:S22)","v":0},{"$f":"T23","v":0}]
[null,null,null,null,null,null,null,null,{"$f":"SUM(D23:H23)","v":0},{"$f":"I22","v":0},null,null,null,null,null,null,null,null,null,{"$f":"SUM(O23:S23)","v":0},{"$f":"T22","v":0}]

{"sheet":"REGLES","index":9,"n_rows":6,"n_cols":6,"rows_kept":6,"cut":false,"hidden":false,"merged":[[3,3,4,3],[3,4,4,4]]}
[]
[null,null,"ZONES"]
[null,null,"Couloir latéral= faute en simple\nmais compte en double",null,null,"...SI JE TIRE DANS LE COULOIR \nOU HORS DU TERRAIN"]
[null,"...SI LE VOLANT DE L'ADV TOUCHE LE SOL DE MON 1/2 TERRAIN","MON SCORE EST IMPAIR \n(1, 3, 5,…)","...SI JE TIRE DANS LE FILET \nOU \nSI JE TOUCHE LE FILET AVEC MON CORPS ","...SI JE TIRE DANS LA ZONE MORTE AU SERVICE"]
[null,null,"MON SCORE EST PAIR \n(0, 2, 4,..)",null,null,"...SI JE NE SERT PAS EN DIAGONALE"]
[null,null,"Couloir latéral= faute en simple\nmais compte en double"]

{"sheet":"SUIVI TACTIQUE","index":10,"n_rows":23,"n_cols":64,"rows_kept":23,"cut":false,"hidden":false,"merged":[[3,33,3,37],[3,38,3,42],[3,3,3,7],[3,8,3,12],[3,13,3,17],[3,18,3,22],[3,23,3,27],[3,28,3,32],[8,1,9,1],[11,1,12,1],[14,1,15,1],[17,1,18,1],[5,1,6,1]]}
[]
[null,{"$f":"ECHFMTELEVE!B2","v":"2TU"},null,null,null,null,null,null,null,null,null,null,null,null,null,null,null,null,null,null,null,null,null,null,null,null,null,null,null,null,null,null,null,null,null,null,null,null,null,null,null,null,null,null,null,null,null,null,null,null,null,null,null,"Prénom incrémenté","Prénom","Tactique avant match","Tactique travaillée","N°incrémentation"]
[null,null,null,null,null,null,null,null,null,null,null,null,null,null,null,null,null,null,null,null,null,null,null,null,null,null,null,null,null,null,null,null,null,null,null,null,null,null,null,null,null,null,null,null,null,null,null,null,null,null,null,null,null,{"$f":"BC3&\"_\"&BF3","v":"0_"},{"$f":"'MATCHS STRATEGIQUES'!F$2","v":0},{"$f":"'MATCHS STRATEGIQUES'!F$8","v":0},{"$f":"'MATCHS STRATEGIQUES'!F$57","v":0},{"$f":"IF(BC3<>0,COUNTIF($BC$3:BC3,BC3),\"\")","v":""}]
[null,null,"STRATEGIE",{"$f":"DEBUT!AC3","v":"Renvoyer"},null,null,null,null,{"$f":"DEBUT!AH3","v":"Jouer sur la largeur"},null,null,null,null,{"$f":"DEBUT!AM3","v":"Jouer sur la profondeur"},null,null,null,null,{"$f":"DEBUT!AR3","v":"Jouer aux 4 coins"},null,null,null,null,{"$f":"DEBUT!AW3","v":"Jouer fort-tendu"},null,null,null,null,{"$f":"DEBUT!BB3","v":"Smasher dès que possible"},null,null,null,null,{"$f":"DEBUT!BG3","v":"Jouer sur le point faible de l'adversaire"},null,null,null,null,{"$f":"DEBUT!BL3","v":"Défendre, attendre, contrer"},null,null,null,null,null,null,null,null,null,null,null,null,null,null,{"$f":"BC4&\"_\"&BF4","v":"0_"},{"$f":"'MATCHS STRATEGIQUES'!M$2","v":0},{"$f":"'MATCHS STRATEGIQUES'!M$8","v":0},{"$f":"'MATCHS STRATEGIQUES'!M$57","v":0},{"$f":"IF(BC4<>0,COUNTIF($BC$3:BC4,BC4),\"\")","v":""},null,null,1,"chiffre","choix tactique/match","choix tactique/à travailler"]
[null,null,"TACTIQUE",{"$f":"IF(DEBUT!AC4=0,\"\",DEBUT!AC4)","v":"Je renvoie les volants au centre comme je peux"},{"$f":"IF(DEBUT!AD4=0,\"\",DEBUT!AD4)","v":"Je renvoie en cloche le plus haut possible"},{"$f":"IF(DEBUT!AE4=0,\"\",DEBUT!AE4)","v":""},{"$f":"IF(DEBUT!AF4=0,\"\",DEBUT!AF4)","v":""},{"$f":"IF(DEBUT!AG4=0,\"\",DEBUT!AG4)","v":""},{"$f":"IF(DEBUT!AH4=0,\"\",DEBUT!AH4)","v":"Je fixe d'un côté pour jouer de l'autre"},{"$f":"IF(DEBUT!AI4=0,\"\",DEBUT!AI4)","v":""},{"$f":"IF(DEBUT!AJ4=0,\"\",DEBUT!AJ4)","v":""},{"$f":"IF(DEBUT!AK4=0,\"\",DEBUT!AK4)","v":""},{"$f":"IF(DEBUT!AL4=0,\"\",DEBUT!AL4)","v":""},{"$f":"IF(DEBUT!AM4=0,\"\",DEBUT!AM4)","v":"Fixer long pour empêcher le replacement et amortir"},{"$f":"IF(DEBUT!AN4=0,\"\",DEBUT!AN4)","v":"Fixer court pour empêcher le replacement et lober "},{"$f":"IF(DEBUT!AO4=0,\"\",DEBUT!AO4)","v":"Alterner jouer long et court , fatiguer / contre pied"},{"$f":"IF(DEBUT!AP4=0,\"\",DEBUT!AP4)","v":""},{"$f":"IF(DEBUT!AQ4=0,\"\",DEBUT!AQ4)","v":""},{"$f":"IF(DEBUT!AR4=0,\"\",DEBUT!AR4)","v":"Rechercher des lignes de déplacement brisées "},{"$f":"IF(DEBUT!AS4=0,\"\",DEBUT!AS4)","v":"Rechercher des lignes de déplacement brisées en insistant soit long soit court"},{"$f":"IF(DEBUT!AT4=0,\"\",DEBUT!AT4)","v":"Induire le doute en jouant proche des lignes"},{"$f":"IF(DEBUT!AU4=0,\"\",DEBUT!AU4)","v":""},{"$f":"IF(DEBUT!AV4=0,\"\",DEBUT!AV4)","v":""},{"$f":"IF(DEBUT!AW4=0,\"\",DEBUT!AW4)","v":"prendre de vitesse dès le service"},{"$f":"IF(DEBUT!AX4=0,\"\",DEBUT!AX4)","v":"jouer à plat "},{"$f":"IF(DEBUT!AY4=0,\"\",DEBUT!AY4)","v":"jouer sur l’adversaire plutôt au niveau de la main"},{"$f":"IF(DEBUT!AZ4=0,\"\",DEBUT!AZ4)","v":""},{"$f":"IF(DEBUT!BA4=0,\"\",DEBUT!BA4)","v":""},{"$f":"IF(DEBUT!BB4=0,\"\",DEBUT!BB4)","v":"descendre tous les volants (smash et amorti) pour rechercher un défense mi- court favorable au smash gagnant "},{"$f":"IF(DEBUT!BC4=0,\"\",DEBUT!BC4)","v":"Jouer en dégagé défensif (sur revers adverse) pour empêcher l’attaque adverse et avancer pour smasher dès que possible."},{"$f":"IF(DEBUT!BD4=0,\"\",DEBUT!BD4)","v":"Jouer au centre long/court pour ne pas ouvrir d’angle et pouvoir smasher rapidement."},{"$f":"IF(DEBUT!BE4=0,\"\",DEBUT!BE4)","v":""},{"$f":"IF(DEBUT!BF4=0,\"\",DEBUT!BF4)","v":""},{"$f":"IF(DEBUT!BG4=0,\"\",DEBUT!BG4)","v":""},{"$f":"IF(DEBUT!BH4=0,\"\",DEBUT!BH4)","v":""},{"$f":"IF(DEBUT!BI4=0,\"\",DEBUT!BI4)","v":""},{"$f":"IF(DEBUT!BJ4=0,\"\",DEBUT!BJ4)","v":""},{"$f":"IF(DEBUT!BK4=0,\"\",DEBUT!BK4)","v":""},{"$f":"IF(DEBUT!BL4=0,\"\",DEBUT!BL4)","v":"Jouer en dégagé pour\nrechercher des volants adverse descendant afin de contrer en blocks ou contre- amortis."},{"$f":"IF(DEBUT!BM4=0,\"\",DEBUT!BM4)","v":"Jouer sans prise de risque, souventlongetsurrevers afin d’attendre la faute de l’adversaire"},{"$f":"IF(DEBUT!BN4=0,\"\",DEBUT!BN4)","v":"Alterner dégagé défensif et offensif sans prendre de risque»"},{"$f":"IF(DEBUT!BO4=0,\"\",DEBUT!BO4)","v":""},{"$f":"IF(DEBUT!BP4=0,\"\",DEBUT!BP4)","v":""},null,null,null,null,null,null,null,null,null,null,"0_",{"$f":"'MATCHS STRATEGIQUES'!V$2","v":0},{"$f":"'MATCHS STRATEGIQUES'!V$8","v":0},{"$f":"'MATCHS STRATEGIQUES'!V$57","v":0},{"$f":"IF(BC5<>0,COUNTIF($BC$3:BC5,BC5),\"\")","v":""}]
[null,"Alpha Oumar","Niveau de maitrise",null,null,null,null,null,null,null,null,null,null,null,null,null,null,null,null,null,null,null,null,null,null,null,null,null,null,null,null,null,null,null,null,null,null,null,null,null,null,null,null,null,null,null,null,null,null,null,null,null,null,"0_",{"$f":"'MATCHS STRATEGIQUES'!AC$2","v":0},{"$f":"'MATCHS STRATEGIQUES'!AC$8","v":0},{"$f":"'MATCHS STRATEGIQUES'!AC$57","v":0},{"$f":"IF(BC6<>0,COUNTIF($BC$3:BC6,BC6),\"\")","v":""}]
[null,null,"Entrainement",null,null,null,null,null,null,null,null,null,null,null,null,null,null,null,null,null,null,null,null,null,null,null,null,null,null,null,null,null,null,null,null,null,null,null,null,null,null,null,null,null,null,null,null,null,null,null,null,null,null,"n°1_1",{"$f":"'MATCHS STRATEGIQUES'!AM$2","v":"n°1"},{"$f":"'MATCHS STRATEGIQUES'!AM$8","v":0},{"$f":"'MATCHS STRATEGIQUES'!AM$57","v":0},{"$f":"IF(BC7<>0,COUNTIF($BC$3:BC7,BC7),\"\")","v":1}]
[null,null,null,null,null,null,null,null,null,null,null,null,null,null,null,null,null,null,null,null,null,null,null,null,null,null,null,null,null,null,null,null,null,null,null,null,null,null,null,null,null,null,null,null,null,null,null,null,null,null,null,null,null,"_",null,null,null,{"$f":"IF(BC8<>0,COUNTIF($BC$3:BC8,BC8),\"\")","v":""}]
[null,null,"Niveau de maitrise",null,null,null,null,null,null,null,null,null,null,null,null,null,null,null,null,null,null,null,null,null,null,null,null,null,null,null,null,null,null,null,null,null,null,null,null,null,null,null,null,null,null,null,null,null,null,null,null,null,null,{"$f":"BC9&\"_\"&BF9","v":"0_"},{"$f":"'MATCHS STRATEGIQUES'!AC$2","v":0},{"$f":"'MATCHS STRATEGIQUES'!AC$8","v":0},{"$f":"'MATCHS STRATEGIQUES'!AC$57","v":0},{"$f":"IF(BC9<>0,COUNTIF($BC$3:BC9,BC9),\"\")","v":""}]
[null,null,"Entrainement",null,null,null,null,null,null,null,null,null,null,null,null,null,null,null,null,null,null,null,null,null,null,null,null,null,null,null,null,null,null,null,null,null,null,null,null,null,null,null,null,null,null,null,null,null,null,null,null,null,null,"n°1_2",{"$f":"'MATCHS STRATEGIQUES'!AM$2","v":"n°1"},{"$f":"'MATCHS STRATEGIQUES'!AM$8","v":0},{"$f":"'MATCHS STRATEGIQUES'!AM$57","v":0},{"$f":"IF(BC10<>0,COUNTIF($BC$3:BC10,BC10),\"\")","v":2}]
[null,null,null,null,null,null,null,null,null,null,null,null,null,null,null,null,null,null,null,null,null,null,null,null,null,null,null,null,null,null,null,null,null,null,null,null,null,null,null,null,null,null,null,null,null,null,null,null,null,null,null,null,null,"_",null,null,null,{"$f":"IF(BC11<>0,COUNTIF($BC$3:BC11,BC11),\"\")","v":""}]
[null,null,"Niveau de maitrise",null,null,null,null,null,null,null,null,null,null,null,null,null,null,null,null,null,null,null,null,null,null,null,null,null,null,null,null,null,null,null,null,null,null,null,null,null,null,null,null,null,null,null,null,null,null,null,null,null,null,{"$f":"BC12&\"_\"&BF12","v":"0_"},{"$f":"'MATCHS STRATEGIQUES'!AC$2","v":0},{"$f":"'MATCHS STRATEGIQUES'!AC$8","v":0},{"$f":"'MATCHS STRATEGIQUES'!AC$57","v":0},{"$f":"IF(BC12<>0,COUNTIF($BC$3:BC12,BC12),\"\")","v":""}]
[null,null,"Entrainement",null,null,null,null,null,null,null,null,null,null,null,null,null,null,null,null,null,null,null,null,null,null,null,null,null,null,null,null,null,null,null,null,null,null,null,null,null,null,null,null,null,null,null,null,null,null,null,null,null,null,"n°1_3",{"$f":"'MATCHS STRATEGIQUES'!AM$2","v":"n°1"},{"$f":"'MATCHS STRATEGIQUES'!AM$8","v":0},{"$f":"'MATCHS STRATEGIQUES'!AM$57","v":0},{"$f":"IF(BC13<>0,COUNTIF($BC$3:BC13,BC13),\"\")","v":3}]
[null,null,null,null,null,null,null,null,null,null,null,null,null,null,null,null,null,null,null,null,null,null,null,null,null,null,null,null,null,null,null,null,null,null,null,null,null,null,null,null,null,null,null,null,null,null,null,null,null,null,null,null,null,"_",null,null,null,{"$f":"IF(BC14<>0,COUNTIF($BC$3:BC14,BC14),\"\")","v":""}]
[null,null,"Niveau de maitrise",null,null,null,null,null,null,null,null,null,null,null,null,null,null,null,null,null,null,null,null,null,null,null,null,null,null,null,null,null,null,null,null,null,null,null,null,null,null,null,null,null,null,null,null,null,null,null,null,null,null,{"$f":"BC15&\"_\"&BF15","v":"0_"},{"$f":"'MATCHS STRATEGIQUES'!AC$2","v":0},{"$f":"'MATCHS STRATEGIQUES'!AC$8","v":0},{"$f":"'MATCHS STRATEGIQUES'!AC$57","v":0},{"$f":"IF(BC15<>0,COUNTIF($BC$3:BC15,BC15),\"\")","v":""}]
[null,null,"Entrainement",null,null,null,null,null,null,null,null,null,null,null,null,null,null,null,null,null,null,null,null,null,null,null,null,null,null,null,null,null,null,null,null,null,null,null,null,null,null,null,null,null,null,null,null,null,null,null,null,null,null,"n°1_4",{"$f":"'MATCHS STRATEGIQUES'!AM$2","v":"n°1"},{"$f":"'MATCHS STRATEGIQUES'!AM$8","v":0},{"$f":"'MATCHS STRATEGIQUES'!AM$57","v":0},{"$f":"IF(BC16<>0,COUNTIF($BC$3:BC16,BC16),\"\")","v":4}]
[null,null,null,null,null,null,null,null,null,null,null,null,null,null,null,null,null,null,null,null,null,null,null,null,null,null,null,null,null,null,null,null,null,null,null,null,null,null,null,null,null,null,null,null,null,null,null,null,null,null,null,null,null,"_",null,null,null,{"$f":"IF(BC17<>0,COUNTIF($BC$3:BC17,BC17),\"\")","v":""}]
[null,null,"Niveau de maitrise",null,null,null,null,null,null,null,null,null,null,null,null,null,null,null,null,null,null,null,null,null,null,null,null,null,null,null,null,null,null,null,null,null,null,null,null,null,null,null,null,null,null,null,null,null,null,null,null,null,null,{"$f":"BC18&\"_\"&BF18","v":"0_"},{"$f":"'MATCHS STRATEGIQUES'!AC$2","v":0},{"$f":"'MATCHS STRATEGIQUES'!AC$8","v":0},{"$f":"'MATCHS STRATEGIQUES'!AC$57","v":0},{"$f":"IF(BC18<>0,COUNTIF($BC$3:BC18,BC18),\"\")","v":""}]
[null,null,"Entrainement",null,null,null,null,null,null,null,null,null,null,null,null,null,null,null,null,null,null,null,null,null,null,null,null,null,null,null,null,null,null,null,null,null,null,null,null,null,null,null,null,null,null,null,null,null,null,null,null,null,null,"n°1_5",{"$f":"'MATCHS STRATEGIQUES'!AM$2","v":"n°1"},{"$f":"'MATCHS STRATEGIQUES'!AM$8","v":0},{"$f":"'MATCHS STRATEGIQUES'!AM$57","v":0},{"$f":"IF(BC19<>0,COUNTIF($BC$3:BC19,BC19),\"\")","v":5}]
[null,null,null,null,null,null,null,null,null,null,null,null,null,null,null,null,null,null,null,null,null,null,null,null,null,null,null,null,null,null,null,null,null,null,null,null,null,null,null,null,null,null,null,null,null,null,null,null,null,null,null,null,null,"_",null,null,null,{"$f":"IF(BC20<>0,COUNTIF($BC$3:BC20,BC20),\"\")","v":""}]
[null,null,null,null,null,null,null,null,null,null,null,null,null,null,null,null,null,null,null,null,null,null,null,null,null,null,null,null,null,null,null,null,null,null,null,null,null,null,null,null,null,null,null,null,null,null,null,null,null,null,null,null,null,"_",null,null,null,{"$f":"IF(BC21<>0,COUNTIF($BC$3:BC21,BC21),\"\")","v":""}]
[null,null,null,null,null,null,null,null,null,null,null,null,null,null,null,null,null,null,null,null,null,null,null,null,null,null,null,null,null,null,null,null,null,null,null,null,null,null,null,null,null,null,null,null,null,null,null,null,null,null,null,null,null,"_",null,null,null,{"$f":"IF(BC22<>0,COUNTIF($BC$3:BC22,BC22),\"\")","v":""}]
[null,null,null,null,null,null,null,null,null,null,null,null,null,null,null,null,null,null,null,null,null,null,null,null,null,null,null,null,null,null,null,null,null,null,null,null,null,null,null,null,null,null,null,null,null,null,null,null,null,null,null,null,null,"_",null,null,null,{"$f":"IF(BC23<>0,COUNTIF($BC$3:BC23,BC23),\"\")","v":""}]

{"sheet":"APPEL","index":11,"n_rows":38,"n_cols":28,"rows_kept":38,"cut":false,"hidden":false,"merged":[[0,22,0,23],[0,25,0,26],[0,1,0,2],[0,4,0,5],[0,7,0,8],[0,10,0,11],[0,13,0,14],[0,16,0,17],[0,19,0,20]]}
[null,"1GA",null,null,"2TU",null,null,"3PP",null,null,"1TV",null,null,"1COM",null,null,"TMELEC",null,null,"1META",null,null,"TPROE",null,null,"TEVS"]
[null,"PRENOMS","NOMS","sexe","PRENOMS","NOMS","sexe","PRENOMS","NOMS","sexe","PRENOMS","NOMS","sexe","PRENOMS","NOMS","sexe","PRENOMS","NOMS","sexe","PRENOMS","NOMS","sexe","PRENOMS","NOMS","sexe","PRENOMS","NOMS","sexe"]
[1,"Amira","Amira","F","Achraf","Achraf","g","Adam","Adam","g","Baptiste","Baptiste",null,"Alaudin","Alaudin","g","Alain","Alain","g","Abdel Nour","Abdel Nour","g","Aboubacar","Aboubacar","g","Aejaz","Aejaz","g"]
[2,"Estelle","Estelle","F","Ali-Han","Alaeddine","g","Amine","Amine","g","Rémy","Rémy",null,"Anissa","Anissa","F","Aslem","Aslem","g","Eric","Eric","g","Bafode","Bafode","g","Ahmad","Ahmad","g"]
[3,"Gentjana","Gentjana","F","Alpha Oumar","Alpha Oumar","g","Anis","Anis","g","Théo","Théo",null,"Arthur","Arthur","g","Erol","Erol","g","Hamza","Hamza","g","Cristiano","Cristiano","g","Angel","Angel","F"]
[4,"Kamylia","Kamylia","F","Amadou","Amadou","g","Anthony","Anthony","g",null,"Maxime",null,"Brinna","Brinna","F","Hamza","Hamza","g","Mamadou Oury","Mamadou Oury","g","Emil","Emil","g","Ani","Ani","F"]
[5,"Kathy","Kathy","F","Ensar","Ensar","g","Bilel","Bilel","g",null,"Smaïn",null,"Chahla","Chahla","F","Idriss","Idriss","g","Naby","Naby","g","Fahari","Fahari","g","Chaima","Chaima","F"]
[6,"Maïssa","Maïssa","F","Hamza","Hamza","g","Can","Can","g",null,"Nour",null,"Chamina","Chamina","F","Iliess","Iliess","g","Salim","Salim","g","Fazil","Fazil","g","Chainese","Chainese","g"]
[7,"Maryka","Maryka","F","Ibrahim","Ibrahim","g","Cherine","Cherine","F",null,"Raymond",null,"Claudia","Claudia","F","Ismaïl","Ismaïl","g","Sean","Sean","g","Ibrahim","Ibrahim","g","Fjorel","Fjorel","g"]
[8,"Mounir","Mounir","g","Imad","Imad","g","Eden","Eden","F",null,null,null,"Daniela","Daniela","F","Jessim","Jessim","g","Simon","Simon","g","Jawad","Jawad","g","Howeyda","Howeyda","F"]
[9,"Mounir","Mounir","g","Mamadou Gando","Mamadou Gando","g","Elyes","Elyes","g",null,null,null,"Eva","Eva","F","Khalil","Khalil","g","Souleymane Thierno","Souleymane Thierno","g","Khemandeef","Khemandeef","g","Kaïs","Yolan","g"]
[10,"Munire","Munire","F","Mohamed","Mohamed","g","Farok","Farok","g",null,null,null,"Intissar","Intissar","F","Namereq","Namereq","g","Soumaila","Soumaila","g","Mourad","Mourad","g","Lucie","Lucie","F"]
[11,"Nesrin","Nesrin","F","Walid","Walid","g","Hamza","Hamza","g",null,null,null,"Ivan","Ivan","g","Rayan","Rayan","g","Théo","Théo","g",null,"Redouane",null,"Maily","Maily","F"]
[12,"Nissrine","Nissrine","F","Wassime","Wassime","g","Hosna","Hosna","F",null,null,null,"Kannelle","Kannelle","F","Sandro","Sandro","g","Yanis","Yanis","g",null,null,null,"Mounia","Mounia","F"]
[13,"Rith Assirie","Rith Assirie","F",null,"Boubacar",null,"Jérémy","Jérémy","g",null,null,null,"Kia","Kia","F","Wassim","Wassim","g",null,"Amara",null,null,null,null,"Pticem","Pticem","F"]
[14,"Ruheda Nefisse","Ruheda Nefisse","F",null,"Lamine",null,"Jordan","Jordan","g",null,null,null,"Léonardo","Léonardo","g",null,null,null,null,"Eldin ",null,null,null,null,"Sarah","Sarah","F"]
[15,"Sendes","Sendes","F",null,"Pedro",null,"Kevin","Kevin","g",null,null,null,"Naima","Naima","F",null,null,null,null,"Enis",null,null,null,null,"Sophie","Sophie","F"]
[16,"Shaïnez","Shaïnez","F",null,"Riard",null,"Lukas","Lukas","g",null,null,null,"Naïma","Naïma","F"]
[17,"Sihem","Sihem","F",null,"yanis",null,"Meliana","Meliana","F",null,null,null,"Nasir","Nasir","g"]
[18,"Sueda","Sueda","F",null,null,"g","Muhammed-Yusuf","Muhammed-Yusuf","g",null,null,null,"Riad","Riad","g"]
[19,"Zamira","Zamira","F",null,null,null,"Noha","Noha","F",null,null,null,"Sofiane","Sofiane","g"]
[20,"Zoulfa","Zoulfa","F",null,null,null,"Ricardo","Ricardo","g",null,null,null,"Teguil","Teguil","g"]
[21,"Zumra","Zumra","F",null,null,null,"Tony","Tony","g",null,null,null,"Walid","Walid","g"]
[22,null,null,null,null,null,null,"Wassime","Wassime","g",null,null,null,"Zakaria","Zakaria","g"]
[23,null,null,null,null,null,null,"Wilberlyn","Wilberlyn","F",null,null,null,null,"Célia"]
[24]
[25]
[26]
[27]
[28]
[29]
[30]
[31]
[32]
[33]
[34]
[35]
[36]

{"sheet":"DEBUT","index":12,"n_rows":49,"n_cols":108,"rows_kept":49,"cut":false,"hidden":false,"merged":[[2,53,2,57],[2,58,2,62],[2,63,2,67],[32,26,47,26],[2,28,2,32],[2,33,2,37],[2,38,2,42],[2,43,2,47],[2,48,2,52],[1,25,2,26],[3,25,3,26],[62,4,62,6],[62,7,62,9],[62,10,62,12],[28,10,28,12],[28,7,28,9],[81,2,86,2],[87,2,91,2],[43,1,49,1],[50,1,57,1],[50,2,51,2],[52,2,53,2],[68,2,71,2],[72,2,75,2],[76,2,78,2]]}
["ECHAUFFEMENT","Parties ","Consignes","Durée","Logique","Parties ","Consignes","Durée","Logique","Parties ","Consignes","Durée","Logique",null,null,null,null,"COUPS - TACTIQUES - STRATEGIES ",null,null,null,null,null,null,null,null,null,null,null,null,null,null,null,null,null,null,null,null,1,2,3,null,null,4,5,6,null,null,7,8,9,null,null,10,11,12,null,null,null,null,null,null,null,13,14,15]
["ECHAUFFEMENT détaillé","Echauffement cardio-pulmonaire","3 A-R course / Montée genoux / Talons fesses / Pas chassés / Pas croisés / Flexions / Extensions / Course arrière / Appuis arrières / Accélération progressive (60% - 70% - 80% - 90%)","5 min","Progressivité / Complet / ","Mobilisation articulaire","Cou / Epaules / Coudes / Poignets / Bassin / Genoux / Chevilles","3 min","Du haut vers le bas","Etirements","Triceps / Biceps / Epaules / Adducteurs / ischios / Quadriceps / Mollets","3 min","Du haut vers le bas / Tenir 7\"",null,null,null,null,"MON POINT FORT","N1","N2","N3","N4",null,null,null,"Indiquer sur cette ligne les thèmes de travail ->",null,null,"S1",null,null,null,null,"S2",null,null,null,null,"S3",null,null,null,null,"S4",null,null,null,null,"S5",null,null,null,null,"S6",null,null,null,null,"S7",null,null,null,null,"S8",null,null,null,null,null,null,"Zones ou coups interdits","Zone avant interdite","Zone arrière interdite","Zones avant et arrière interdites","Zone mi-court interdite","4 coins interdits","2 coins arrières interdits","2 coins avant interdits","1 coin avant - 1 coin arrière interdits","Carré central interdit","Zones centrales latérales interdites","Zones latérales interdites","smash interdit","Service flick interdit","dégagé interdit","amorti interdit",null,null,null,null,null,null,"Zones ou coups dangereux","Zone avant","Zone arrière","Zones avant et arrière","Zone mi-court","4 coins","2 coins arrières","2 coins avant","1 coin avant - 1 coin arrière","Carré central","Zones centrales latérales","Zones latérales","smash","Service flick","dégagé","amorti"]
["ECHAUFFEMENT simplifié","Echauffement cardio-pulmonaire","Ne pas oublier tous les exercices en finissant par des accélérations progressives","5 min",null,"Mobilisation articulaire","Commencer par le haut ou le bas pour ne rien oublier","3 min",null,"Etirements","Essayer d'associer un étirement actif avec un mouvement dynamique","3 min",null,null,null,null,0,"POINTS FORTS-FAIBLES-PREFERES",null,null,null,null,null,null,null,null,null,"STRATEGIE","Renvoyer",null,null,null,null,"Jouer sur la largeur",null,null,null,null,"Jouer sur la profondeur",null,null,null,null,"Jouer aux 4 coins",null,null,null,null,"Jouer fort-tendu",null,null,null,null,"Smasher dès que possible",null,null,null,null,"Jouer sur le point faible de l'adversaire",null,null,null,null,"Défendre, attendre, contrer",null,null,null,null,"Déplacement","Travail technique",1,null,"x","x",null,"x","x",null,"x",null,null,"x",null,null,null,null,null,null,null,null,null,null,1,null,"x","x",null,"x","x",null,"x",null,null,"x"]
["ECHAUFFEMENT-grandes parties","Echauffement cardio-pulmonaire",null,null,null,"Mobilisation articulaire",null,null,null,"Etirements",null,null,null,null,null,null,1,"SERVICE",null,null,null,null,null,null,null,"qui se reporteront en bas du tableau de gauche \n<-",null,"TACTIQUE","Je renvoie les volants au centre comme je peux","Je renvoie en cloche le plus haut possible",null,null,null,"Je fixe d'un côté pour jouer de l'autre",null,null,null,null,"Fixer long pour empêcher le replacement et amortir","Fixer court pour empêcher le replacement et lober ","Alterner jouer long et court , fatiguer / contre pied",null,null,"Rechercher des lignes de déplacement brisées ","Rechercher des lignes de déplacement brisées en insistant soit long soit court","Induire le doute en jouant proche des lignes",null,null,"prendre de vitesse dès le service","jouer à plat ","jouer sur l’adversaire plutôt au niveau de la main",null,null,"descendre tous les volants (smash et amorti) pour rechercher un défense mi- court favorable au smash gagnant ","Jouer en dégagé défensif (sur revers adverse) pour empêcher l’attaque adverse et avancer pour smasher dès que possible.","Jouer au centre long/court pour ne pas ouvrir d’angle et pouvoir smasher rapidement.",null,null,null,null,null,null,null,"Jouer en dégagé pour\nrechercher des volants adverse descendant afin de contrer en blocks ou contre- amortis.","Jouer sans prise de risque, souventlongetsurrevers afin d’attendre la faute de l’adversaire","Alterner dégagé défensif et offensif sans prendre de risque»",null,null,null,null,2,null,"x","x","x","x","x",null,"x",null,"x","x",null,null,null,null,null,null,null,null,null,null,2,null,"X","X","x","X","X",null,null,null,"x","x"]
["ECHAUFFEMENT ritualisé",null,null,null,null,null,null,null,null,null,null,null,null,null,null,null,2,"AMORTI",null,null,null,null,null,null,null,null,null,"INDICATEUR DE REUSSITE","Point direct en zone ou point gagné avec volant touché en zone dangereuse.","Point direct en zone ou point gagné avec volant touché en zone dangereuse.",null,null,null,"Point direct en zone ou point gagné avec volant touché en zone dangereuse.",null,null,null,null,"Point direct en zone ou point gagné avec volant touché en zone dangereuse.","Point direct en zone ou point gagné avec volant touché en zone dangereuse.","Point direct en zone ou point gagné avec volant touché en zone dangereuse.",null,null,"Point direct en zone ou point gagné avec volant touché en zone dangereuse.","Point direct en zone ou point gagné avec volant touché en zone dangereuse.","Point direct en zone ou point gagné avec volant touché en zone dangereuse.",null,null,"Je gagne en un ou deux coups.","Point direct en zone ou point gagné avec volant touché en zone dangereuse.","Point direct en zone ou point gagné avec volant touché en zone dangereuse.",null,null,"Smash gagnant","Smash gagnant","Smash gagnant",null,null,null,null,null,null,null,"Gain du point sur block, contre-amorti ou défense longue.","Je gagne sur faute de l’adversaire.","Je gagne sur faute adverse ou sur volant dans ma zone favorable d’attaque",null,null,null,null,3,null,null,null,"x",null,null,null,null,null,"x","x",null,null,null,null,null,null,null,null,null,null,3,null,null,null,"x",null,null,null,null,null,"x","x"]
["ECHAUFFEMENT-S5",null,null,null,null,null,null,null,null,null,null,null,null,null,null,null,3,"DEGAGE",null,null,null,null,null,null,null,null,null,"Zone dangereuse","Carré central","Carré central",null,null,null,"Zones latérales",null,null,null,null,"Zones avant et arrière","Zones avant et arrière","Zones avant et arrière",null,null,"4 coins","4 coins","4 coins",null,null,"Carré central","Zones centrales latérales","Carré central",null,null,"smash","smash","smash",null,null,null,null,null,null,null,null,null,null,null,null,null,null,4,"x",null,"x",null,"x",null,"x","x",null,null,"x",null,null,null,null,null,null,null,null,null,null,4,"x",null,"x",null,"x",null,"x","x",null,null,"x"]
["ECHAUFFEMENT-S6",null,null,null,null,null,null,null,null,null,null,null,null,null,null,null,4,"SMASH",null,null,null,null,null,null,null,null,null,"Désavantage","Carré central interdit","Carré central interdit",null,null,null,"Zones latérales interdites",null,null,null,null,"Zones avant et arrière interdites","Zone avant interdite","Zone arrière interdite",null,null,"2 coins avant interdits","1 coin avant - 1 coin arrière interdits","4 coins interdits",null,null,"smash interdit","Zone mi-court interdite","Service flick interdit",null,null,"smash interdit","smash interdit","smash interdit",null,null,null,null,null,null,null,"Zone ar interdite","Coin ar interdit","Zone ar interdite",null,null,null,null,5,null,"x","x",null,null,null,null,null,null,null,null,null,null,null,null,null,null,null,null,null,null,5,null,"x","x"]
["ECHAUFFEMENT-S7",null,null,null,null,null,null,null,null,null,null,null,null,null,null,null,5,"FORT",null,null,null,null,null,null,null,null,null,"Désavantage 2",null,null,null,null,null,null,null,null,null,null,null,null,null,null,null,null,null,null,null,null,"Zone centrale ar interdite",null,null,null,null,null,null,null,null,null,null,null,null,null,null,null,null,null,null,null,null,null,6,null,"x","x","x",null,null,null,null,"x",null,null,null,null,null,null,null,null,null,null,null,null,6,null,"X","X","x",null,null,null,null,"x"]
["ECHAUFFEMENT-S8",null,null,null,null,null,null,null,null,null,null,null,null,null,null,null,6,null,null,null,null,null,null,null,null,null,null,"Multi-volants 1","R:Gauche-Droite","R:Gauche-Droite",null,null,null,"R:Alterner droite gauche à 4",null,null,null,null,"R:15 échanges Alterner Zone avant Zone arrière ","R:15 échanges Alterner Zone avant Zone arrière ","R:15 échanges Alterner Zone avant Zone arrière ",null,null,"R:Alterner 4 zones","R:Alterner 4 zones","R:Alterner 4 zones",null,null,"PF-Envoi au centre-Smash","PF-Envoi au centre-Smash","PF-Envoi au centre-Smash",null,null,"PF-Envoi au centre-Smash","PF-Envoi au centre-Smash","PF-Envoi au centre-Smash",null,null,"MULTI VOLANTS",null,null,null,null,null,null,null,null,null,"R:15 échanges en alternant les 4 coins-Replacement obligatoire","MV:service",7,null,null,null,"x",null,null,null,null,"x",null,null,null,null,null,null,null,null,null,null,null,null,7,null,null,null,"x",null,null,null,null,"x"]
["ECHAUFFEMENT-S9",null,null,null,null,null,null,null,null,null,null,null,null,null,null,null,7,"TACTIQUE",null,null,null,null,null,null,null,null,null,"Multi-volants 2",null,null,null,null,null,"R:Gauche-Droite",null,null,null,null,"R:Alterner Zone avant et Zone arrière à 3","R:Alterner Zone avant et Zone arrière à 4","R:Alterner Zone avant et Zone arrière à 5",null,null,"R:Alterner 4 coins réduits","R:Alterner 4 coins réduits","R:Alterner 4 coins réduits",null,null,"PF-Envoi au centre-Smash","PF-Envoi au centre-Smash","PF-Envoi au centre-Smash",null,null,"PF-Envoi au centre-Smash","PF-Envoi au centre-Smash","PF-Envoi au centre-Smash",null,null,null,null,null,null,null,null,null,null,null,null,"R:Touche plots coins",null,8,"x",null,"x",null,null,null,null,null,null,null,null,null,null,null,null,null,null,null,null,null,null,8,"x",null,"x"]
["ECHAUFFEMENT-S10",null,null,null,null,null,null,null,null,null,null,null,null,null,null,null,8,"DEPLACEMENT",null,null,null,null,null,null,null,null,null,"Multi-volants 3",null,null,null,null,null,null,null,null,null,null,"R:15 échanges Alterner Zone avant Zone arrière ","R:15 échanges Alterner Zone avant Zone arrière ","R:15 échanges Alterner Zone avant Zone arrière ",null,null,null,null,null,null,null,null,null,null,null,null,"PF-Envoi au centre-Smash","PF-Envoi au centre-Smash","PF-Envoi au centre-Smash",null,null,null,null,null,null,null,null,null,null,null,null,"R:Cavalier",null,9,null,"x","x",null,null,null,null,null,null,null,null,null,null,null,null,null,null,null,null,null,null,9,null,"x","x"]
[null,null,null,null,null,null,null,null,null,null,null,null,null,null,null,null,9,null,null,null,null,null,null,null,null,null,null,"ROUTINE 1","R:Alterner droite gauche à 3","R:Alterner droite gauche à 4",null,null,null,"R:Gauche-Droite",null,null,null,null,"R:15 échanges Alterner Zone avant Zone arrière ","R:15 échanges Alterner Zone avant Zone arrière ","R:15 échanges Alterner Zone avant Zone arrière ",null,null,"R:fou","R:fou","R:fou",null,null,"PF-Envoi au centre-Smash","PF-Envoi au centre-Smash","PF-Envoi au centre-Smash",null,null,"PF-Envoi au centre-Smash","PF-Envoi au centre-Smash","PF-Envoi au centre-Smash",null,null,"VOLANT CONTINU",null,null,null,null,"VOLANT CONTINU",null,null,null,null,null,null,10,null,"x","x","x",null,null,null,null,"x",null,null,null,null,null,null,null,null,null,null,null,null,10,null,"X","X","x",null,null,null,null,"x"]
[null,null,null,null,null,null,null,null,null,null,null,null,null,null,null,null,10,null,null,null,null,null,null,null,null,null,null,"ROUTINE 2","R:Gauche-Droite","R:Gauche-Droite",null,null,null,"R:Alterner droite gauche à 4",null,null,null,null,"R:Alterner Zone avant et Zone arrière à 3","R-1am 1 dégagé","R:Alterner Zone avant et Zone arrière à 5",null,null,"R:dame","R:dame","R:dame",null,null,null,null,null,null,null,null,null,null,null,null,null,null,null,null,null,null,null,null,null,null,null,null,11,null,null,null,"x",null,null,null,null,"x",null,null,null,null,null,null,null,null,null,null,null,null,11,null,null,null,"x",null,null,null,null,"x"]
[null,null,null,null,null,null,null,null,null,null,null,null,null,null,null,null,11,null,null,null,null,null,null,null,null,null,null,"ROUTINE 3",null,null,null,null,null,"R:renvoyer alternativement à Droite et à Gauche en couloirs réduits",null,null,null,null,"R:15 frappes hors zone avant","R:15 frappes hors zone avant","R:15 frappes hors zone avant",null,null,"R:Roi","R:Roi","R:Roi",null,null,null,null,null,null,null,null,null,null,null,null,null,null,null,null,null,null,null,null,null,null,null,null,12,"x",null,"x",null,null,null,null,null,null,null,null,null,null,null,null,null,null,null,null,null,null,12,"x",null,"x"]
[null,null,null,null,null,null,null,null,null,null,null,null,null,null,null,null,12,"MA STRATEGIE",null,null,null,null,null,null,null,null,null,"ROUTINE 4","R:Gauche-Droite","R:Gauche-Droite",null,null,null,null,null,null,null,null,"R:2 long 1 court","R:2 long 1 court","R:2 long 1 court",null,null,"R:Alterner 4 zones","R:Alterner 4 zones","R:Alterner 4 zones",null,null,"PF-Envoi au centre-Smash","PF-Envoi au centre-Smash","PF-Envoi au centre-Smash",null,null,"PF-Envoi au centre-Smash","PF-Envoi au centre-Smash","PF-Envoi au centre-Smash",null,null,"ROUTINE",null,null,null,null,"ROUTINE",null,null,null,null,null,null,13,null,"x","x",null,"x","x",null,null,null,null,"x",null,null,null,null,null,null,null,null,null,null,13,null,"x","x",null,"x","x",null,null,null,null,"x"]
[null,null,null,null,null,null,null,null,null,null,null,null,null,null,null,null,"S1",{"$f":"AC3","v":"Renvoyer"},null,null,null,null,null,null,null,null,null,"ROUTINE 5","R:Alterner droite gauche à 3","R:Alterner droite gauche à 4",null,null,null,null,null,null,null,null,null,null,null,null,null,"R:Alterner 4 coins réduits","R:Alterner 4 coins réduits","R:Alterner 4 coins réduits",null,null,null,null,null,null,null,null,null,null,null,null,null,null,null,null,null,null,null,null,null,null,null,null,14,null,"x","x","x","x","x",null,null,null,"x","x",null,null,null,null,null,null,null,null,null,null,14,null,"X","X","x","X","X",null,null,null,"x","x"]
[null,null,null,null,null,null,null,null,null,null,null,null,null,null,null,null,"S2",{"$f":"AH3","v":"Jouer sur la largeur"},null,null,null,null,null,null,null,null,null,"ROUTINE 6","R:renvoyer alternativement à Droite et à Gauche en couloirs réduits","R:renvoyer alternativement à Droite et à Gauche en couloirs réduits",null,null,null,null,null,null,null,null,null,null,null,null,null,null,null,null,null,null,null,null,null,null,null,null,null,null,null,null,null,null,null,null,null,null,null,null,null,null,null,null,15,null,null,null,"x",null,null,null,null,null,"x","x",null,null,null,null,null,null,null,null,null,null,15,null,null,null,"x",null,null,null,null,null,"x","x"]
[null,"N° - COULEUR TERRAIN","NOTES ECHAUFFEMENT",null,"MARQUER LES POINTS DANS ET HORS ZONES","Tactique pertinente?",null,"Maitrise","Entrainement",null,null,null,null,null,null,null,"S3",{"$f":"AM3","v":"Jouer sur la profondeur"},null,null,null,null,null,null,null,null,null,"SEQUENCE DE JEU 1",null,null,null,null,null,"MT-pts marqués en zones latérales",null,null,null,null,"SJ:Service long- amorti-libre","SJ:Service court, renvoi au centre-dégagé",null,null,null,"SEQUENCE DE JEU",null,null,null,null,"MT-Service haut au centre-Smash-libre","MT-Service haut au centre-Smash-libre","MT-Service haut au centre-Smash-libre",null,null,"MT-Service au centre-smash-libre","MT-Service au centre-smash-libre","MT-Service au centre-smash-libre",null,null,"SEQUENCE DE JEU",null,null,null,null,"SEQUENCE DE JEU",null,null,null,null,null,null,16,"x",null,"x",null,"x",null,"x",null,null,null,"x",null,null,null,null,null,null,null,null,null,null,16,"x",null,"x",null,"x",null,"x",null,null,null,"x"]
[null,1,0,null,null,null,null,null,null,null,null,null,null,null,null,null,"S4",{"$f":"AR3","v":"Jouer aux 4 coins"},null,null,null,null,null,null,null,null,null,"SEQUENCE DE JEU 2",null,null,null,null,null,"MT-pts marqués en zones latérales",null,null,null,null,"SJ:Service long, renvoi  au centre-amorti","SJ:Service long, renvoi  au centre-amorti",null,null,null,null,null,null,null,null,null,null,null,null,null,"MT-Smash uniquement","MT-Smash uniquement","MT-Smash uniquement"]
[null,2,1,null,"x","oui",null,"Je maitrise efficacement","J'approfondis",null,null,null,null,null,null,null,"S5",{"$f":"AW3","v":"Jouer fort-tendu"},null,null,null,null,null,null,null,null,null,"SEQUENCE DE JEU 3",null,null,null,null,null,null,null,null,null,null,"SJ:Service long, renvoi  au centre-amorti","SJ:Service long, renvoi  au centre-amorti",null,null,null,null,null,null,null,null,"MT-Smash gagnant","MT-Smash gagnant","MT-Smash gagnant",null,null,"PF-Envoi au centre-Smash","PF-Envoi au centre-Smash","PF-Envoi au centre-Smash"]
[null,3,2,null,null,"non",null,"Je maitrise contre un adversaire de mon niveau","Je découvre",null,null,null,null,null,null,null,"S6",{"$f":"BB3","v":"Smasher dès que possible"},null,null,null,null,null,null,null,null,null,"JEU 1","MT-pts marqués en zones latérales","MT-pts marqués en zones latérales",null,null,null,"MT-Couloirs latéraux uniquement",null,null,null,null,"SJ:Service long- amorti","SJ:Service court, renvoi au centre-dégagé","Séquence de jeu : Service long, renvoi  au centre-amorti",null,null,"MT:SUMO","MT:SUMO","MT:SUMO",null,null,"MT-Bingo smash","MT-Bingo smash","MT-Bingo smash",null,null,"MT-Service au centre-smash-libre","MT-Service au centre-smash-libre","MT-Service au centre-smash-libre",null,null,"JEU"]
[null,4,3,null,"ATTEND FAUTE","pas vraiment",null,"Je maitrise parfois","Trop difficle",null,null,null,null,null,null,null,"S7",{"$f":"BG3","v":"Jouer sur le point faible de l'adversaire"},null,null,null,null,null,null,null,null,null,"JEU 2","MT-pts marqués en zones latérales","MT-pts marqués en zones latérales",null,null,null,null,null,null,null,null,"SJ:Service long, renvoi  au centre-amorti","SJ:Service long, renvoi  au centre-amorti","MT-pied bloqué sur tapis",null,null,"MT-Points direct","MT-Points direct","MT-Points direct",null,null,null,null,null,null,null,"MT-Smash uniquement","MT-Smash uniquement","MT-Smash uniquement"]
[null,5,4,null,"LARGEUR","presque",null,"Je ne maitrise pas","Pas envie",null,null,null,null,null,null,null,"S8",{"$f":"BL3","v":"Défendre, attendre, contrer"},null,null,null,null,null,null,null,null,null,"JEU 3",null,null,null,null,null,null,null,null,null,null,null,null,"Séquence de jeu : Service long, renvoi  au centre-amorti",null,null,"MT-Bingo pts direct","MT-Bingo pts direct","MT-Bingo pts direct",null,null,null,null,null,null,null,"MT-Service haut au centre-Smash-libre","MT-Service haut au centre-Smash-libre","MT-Service haut au centre-Smash-libre"]
[null,6,5,null,"PROFONDEUR",null,null,"Trop dur",null,null,null,null,null,null,null,null,"S9",{"$f":"BQ3","v":"Déplacement"},null,null,null,null,null,null,null,null,null,"MATCH A THEME 1","MT-Couloirs latéraux uniquement","MT-Couloirs latéraux uniquement",null,null,null,"MT-Couloirs latéraux uniquement",null,null,null,null,"MT-pts marqués en zones avant et arrière","MT : zone Av","MT : zone Av",null,null,"MT-Points direct","MT-Points direct","MT-Points direct",null,null,"MT-Smash gagnant","MT-Smash gagnant","MT-Smash gagnant",null,null,"MT-Smash uniquement","MT-Smash uniquement","MT-Smash uniquement",null,null,"MATCH A THEME"]
[null,7,6,null,"4 COINS",null,null,null,null,null,null,null,null,null,null,null,"S10",{"$f":"BR3","v":"Travail technique"},null,null,null,null,null,null,null,null,null,"MATCH A THEME 2",null,null,null,null,null,null,null,null,null,null,"MT-Bingo Zone avant","MT : zone AR","MT-Bingo pts direct",null,null,"MT:SUMO","MT:SUMO","MT:SUMO",null,null,"MT-Service haut au centre-Smash-libre","MT-Service haut au centre-Smash-libre","MT-Service haut au centre-Smash-libre",null,null,"MT-Service au centre-smash-libre","MT-Service au centre-smash-libre","MT-Service au centre-smash-libre"]
[null,8,7,null,"FORT",null,null,null,null,null,null,null,null,null,null,null,"S11",null,null,null,null,null,null,null,null,null,null,"MATCH A THEME 3",null,null,null,null,null,null,null,null,null,null,"MT : zone AR","MT: S long - dégagé-libre","MT: S long - dégagé-libre",null,null,"MT-Bingo pts direct","MT-Bingo pts direct","MT-Bingo pts direct",null,null,"MT-Bingo smash","MT-Bingo smash","MT-Bingo smash",null,null,"MT-Bingo smash","MT-Bingo smash","MT-Bingo smash"]
[null,9,8,null,"SMASH"]
[null,"BLANC",9,null,"PT FAIBLE ADV"]
[null,"BLEU",10,null,"DEFENDRE"]
[null,"JAUNE",11]
[null,"VERT",12]
[null,"ORANGE",13,null,null,null,null,null,null,null,null,null,null,null,null,null,null,null,null,null,null,null,null,null,null,null,null,null,null,null,null,null,null,null,null,null,null,null,null,null,null,null,null,"4 coins"]
[null,"NOIR",14]
[null,"VIOLET",15]
[null,"ROUGE",16]
[null,null,17]
[null,null,18]
[null,null,19]
[null,null,20]
[null,null,21]
[null,null,22]
[null,null,23]
[null,null,24]
[null,null,25]
[null,null,26]
[null,null,27]
[null,null,28]
[null,null,29]
[null,null,30]

{"sheet":"SAMICBIS","index":13,"n_rows":739,"n_cols":22,"rows_kept":739,"cut":false,"hidden":false,"merged":[[0,2,0,7]]}
[null,null,null,null,null,null,null,null,"3,2x5,82 schéma pour un pc",null,"4,7x8,64 schéma pour la tablette","(du à une sorte de bug)",null,null,"traits-repères pour aligner les images pour la tablette ipad",null,null,null,null,"Conseil pour "]
["nom SA","n° SA","OBJECTIF GENERAL","Niveau ","Obj SA","But","Type SA2","Consignes","Schéma","Consignes 2","Schéma 2","Réussir","Matériel ","CR","Intérêt SA","Connaissances","Capacités","Attitudes","Complexification","Simplification",null,"type SA"]
["Défendre 1",null,"Défendre-contrer",null,null,null,null,null,null,null,null,null,null,null,null,null,null,null,null,null,null,"Mutli-volant"]
[null,null,"Défendre-contrer",null,null,null,null,null,null,null,null,null,null,null,null,null,3,null,null,null,null,"Routine"]
[null,null,"Défendre-contrer",null,null,null,null,null,null,null,null,null,null,null,null,null,4,null,null,null,null,"Séquence de jeu"]
[null,null,"Défendre-contrer",null,null,null,null,null,null,null,null,null,null,null,null,null,5,null,null,null,null,"Match à thème"]
[null,null,"Défendre-contrer"]
[null,null,"Défendre-contrer",null,null,null,null,null,null,null,null,null,null,null,null,null,6]
[null,null,"Défendre-contrer"]
[null,null,"Défendre-contrer",null,null,null,null,null,null,null,null,null,null,null,null,null,7]
[null,null,"Défendre-contrer",null,null,null,null,null,null,null,null,null,null,null,null,null,8]
[null,null,"Défendre-contrer",null,null,null,null,null,null,null,null,null,null,null,null,null,9]
[null,null,"Défendre-contrer",null,null,null,null,null,null,null,null,null,null,null,null,null,10]
[null,null,"Défendre-contrer",null,null,null,null,null,null,null,null,null,null,null,null,null,11]
[null,null,"Défendre-contrer"]
[null,null,"Défendre-contrer",null,null,null,null,null,null,null,null,null,null,null,null,null,12]
[null,null,"Défendre-contrer",null,null,null,null,null,null,null,null,null,null,null,null,null,13]
[null,null,"Défendre-contrer",null,null,null,null,null,null,null,null,null,null,null,null,null,14]
[null,null,"Défendre-contrer"]
[null,null,"Défendre-contrer",null,null,null,null,null,null,null,null,null,null,null,null,null,15]
[null,null,"Défendre-contrer"]
[null,null,"Défendre-contrer",null,null,null,null,null,null,null,null,null,null,null,null,null,16]
[null,null,"Défendre-contrer",null,null,null,null,null,null,null,null,null,null,null,null,null,17]
[null,null,"Défendre-contrer"]
[null,null,"Défendre-contrer",null,null,null,null,null,null,null,null,null,null,null,null,null,18]
[null,null,"Défendre-contrer",null,null,null,null,null,null,null,null,null,null,null,null,null,19]
[null,null,"Défendre-contrer"]
[null,null,"Défendre-contrer",null,null,null,null,null,null,null,null,null,null,null,null,null,20]
[null,null,"Défendre-contrer",null,null,null,null,null,null,null,null,null,null,null,null,null,21]
[null,null,"Défendre-contrer"]
[null,null,"Défendre-contrer",null,null,null,null,null,null,null,null,null,null,null,null,null,22]
[null,null,"Défendre-contrer",null,null,null,null,null,null,null,null,null,null,null,null,null,23]
[null,null,"Défendre-contrer"]
[null,null,"Défendre-contrer",null,null,null,null,null,null,null,null,null,null,null,null,null,24]
[null,null,"Défendre-contrer",null,null,null,null,null,null,null,null,null,null,null,null,null,25]
[null,null,"Défendre-contrer",null,null,null,null,null,null,null,null,null,null,null,null,null,26]
[null,null,"Défendre-contrer"]
[null,null,"Défendre-contrer",null,null,null,null,null,null,null,null,null,null,null,null,null,27]
[null,null,"Défendre-contrer",null,null,null,null,null,null,null,null,null,null,null,null,null,28]
[null,null,"Défendre-contrer"]
["R:15 échanges en alternant les 4 coins-Replacement obligatoire","R-4coins+C","Déplacement",null,"Se replacer au centre","Se replacer au centre après chaque frappe.","volant continu","Tenir l'échange pendant 1 minute en renvoyant dans les 4 zones et en repassant dans le centre entre chaque frappe.",null,null,null,null,null,null,null,null,29]
["R:Touche plots coins","R-TouchePlot","Déplacement",null,"Se replacer au centre","Se replacer au centre parès chaque frappe","Volant continu","Tenir l'échange pendant 1 min en touchant un plot entre chaque frappe",null,null,null,null,null,null,null,null,30]
["R:Cavalier","PF-cavalier","Déplacement",null,"Améliorer le déplacement","Renvoyer le volant après avoir réaliser un déplacement vers l'avant et le côté (ou l'arrière et le côté)",null,"Le joueur blanc envoie en continu le volant une fois au centre une fois devant à droite (ou devant à gauche ou au fond à droite ou au fond à gauche). Le joueur rouge  renvoie toujours au centre."]
[null,null,"déplacement",null,null,null,null,null,null,null,null,null,null,null,null,null,31]
[null,null,"déplacement",null,null,null,null,null,null,null,null,null,null,null,null,null,32]
[null,null,"déplacement"]
[null,null,"déplacement",null,null,null,null,null,null,null,null,null,null,null,null,null,33]
[null,null,"déplacement",null,null,null,null,null,null,null,null,null,null,null,null,null,34]
[null,null,"déplacement"]
[null,null,"déplacement",null,null,null,null,null,null,null,null,null,null,null,null,null,35]
[null,null,"déplacement",null,null,null,null,null,null,null,null,null,null,null,null,null,36]
[null,null,"déplacement"]
[null,null,"déplacement",null,null,null,null,null,null,null,null,null,null,null,null,null,37]
[null,null,"déplacement",null,null,null,null,null,null,null,null,null,null,null,null,null,38]
[null,null,"déplacement"]
[null,null,"déplacement",null,null,null,null,null,null,null,null,null,null,null,null,null,39]
[null,null,"déplacement",null,null,null,null,null,null,null,null,null,null,null,null,null,40]
[null,null,"déplacement"]
[null,null,"déplacement",null,null,null,null,null,null,null,null,null,null,null,null,null,41]
[null,null,"déplacement",null,null,null,null,null,null,null,null,null,null,null,null,null,42]
[null,null,"déplacement"]
[null,null,"déplacement",null,null,null,null,null,null,null,null,null,null,null,null,null,43]
[null,null,"déplacement",null,null,null,null,null,null,null,null,null,null,null,null,null,44]
[null,null,"déplacement"]
[null,null,"déplacement",null,null,null,null,null,null,null,null,null,null,null,null,null,45]
[null,null,"déplacement",null,null,null,null,null,null,null,null,null,null,null,null,null,46]
["MT-Points direct","MT-ptsD","Jouer aux 4 coins",null,"Marquer en utilisant les espaces libres","Viser là où l'autre n'est pas","match à thème","Seuls les points marqués en touchant directement le sol comptent"]
["R:Alterner 4 zones","R-T4zones","Jouer aux 4 coins",null,"Renvoyer sur l'ensemble du terrain","Renvoyer en suivant l'ordre des zones : 1-2-3-4","volant continu","Tenir 1 minute en renvoyant le volant dans les 4 zones successivement.",null,null,null,null,null,null,null,null,47]
["R:Alterner 4 coins réduits","R-15-4coins -","Jouer aux 4 coins",null,"Renvoyer sur l'ensemble du terrain","Renvoyer en suivant l'ordre des zones : 1-2-3-5","Volant continu","Tenir 1 minute en renvoyant le volant dans les 4 zones successivement.",null,null,null,null,null,null,null,null,48]
["R:fou","PF-fou","Jouer aux 4 coins",null,"Améliorer le déplacement","Renvoyer le volant après avoir réaliser un déplacement en diagonale",null,"Le joueur blanc envoie en continu le volant une fois devant à gauche une fois au fond à droite (et inversement). Le joueur rouge  renvoie toujours au centre."]
["R:dame","PF-dame","Jouer aux 4 coins",null,"Améliorer le déplacement","Renvoyer le volant après avoir réaliser un pas en ligne droite puis en diagonale",null,"Le joueur blanc envoie en continu le volant en suivant l'ordre des chiffre (1-devant à gauche. 2- Au fond à droite. 3- Devant à droite. 4- Au fond à gauche). Le joueur rouge  renvoie toujours au centre.",null,null,null,null,null,null,null,null,49]
["R:Roi","PF-Roi","Jouer aux 4 coins",null,"Améliorer le déplacement",null,null,null,null,null,null,null,null,null,null,null,50]
["MT-Bingo pts direct","MT-BingoptsD","Jouer aux 4 coins",null,"Travail du smash et de la prise d'information","Gagner le smash en annonçant le point à l'avance",null,"Si le joueur annonce BINGO avant de marquer le point il marque 5pts. S'il rate son coup c'est l'autre qui marque 5 pts"]
["MT:SUMO",null,"Jouer aux 4 coins",null,"Déplacer l'adversaire en dehors de la zone centrale","Faire sortir les 2 pieds de l'adv du rond central",null,"2 cercles (ou rectangles) sont matérailisés sur chaque demi-terrain.\nLes élèves sont placés à l'intérieur et doivent essayer de faire sortir l'adversaire de cette zone. Il marque 1 point à chaque fois d'un élève sort les 2 pieds.",null,null,null,null,null,null,null,null,51]
[null,null,"Jouer aux 4 coins",null,null,null,null,null,null,null,null,null,null,null,null,null,52]
[null,null,"Jouer aux 4 coins"]
[null,null,"Jouer aux 4 coins",null,null,null,null,null,null,null,null,null,null,null,null,null,53]
[null,null,"Jouer aux 4 coins",null,null,null,null,null,null,null,null,null,null,null,null,null,54]
[null,null,"Jouer aux 4 coins"]
[null,null,"Jouer aux 4 coins",null,null,null,null,null,null,null,null,null,null,null,null,null,55]
[null,null,"Jouer aux 4 coins",null,null,null,null,null,null,null,null,null,null,null,null,null,56]
[null,null,"Jouer aux 4 coins"]
[null,null,"Jouer aux 4 coins",null,null,null,null,null,null,null,null,null,null,null,null,null,57]
[null,null,"Jouer aux 4 coins",null,null,null,null,null,null,null,null,null,null,null,null,null,58]
[null,null,"Jouer aux 4 coins"]
[null,null,"Jouer aux 4 coins",null,null,null,null,null,null,null,null,null,null,null,null,null,59]
[null,null,"Jouer aux 4 coins",null,null,null,null,null,null,null,null,null,null,null,null,null,60]
[null,null,"Jouer aux 4 coins"]
[null,null,"Jouer aux 4 coins",null,null,null,null,null,null,null,null,null,null,null,null,null,61]
[null,null,"Jouer aux 4 coins",null,null,null,null,null,null,null,null,null,null,null,null,null,62]
[null,null,"Jouer aux 4 coins"]
[null,null,"Jouer aux 4 coins",null,null,null,null,null,null,null,null,null,null,null,null,null,63]
[null,null,"Jouer aux 4 coins",null,null,null,null,null,null,null,null,null,null,null,null,null,64]
[null,null,"Jouer aux 4 coins"]
[null,null,"Jouer aux 4 coins",null,null,null,null,null,null,null,null,null,null,null,null,null,65]
[null,null,"Jouer aux 4 coins",null,null,null,null,null,null,null,null,null,null,null,null,null,66]
[null,null,"Jouer aux 4 coins"]
[null,null,"Jouer aux 4 coins",null,null,null,null,null,null,null,null,null,null,null,null,null,67]
[null,null,"Jouer aux 4 coins",null,null,null,null,null,null,null,null,null,null,null,null,null,68]
[null,null,"Jouer aux 4 coins"]
[null,null,"Jouer aux 4 coins",null,null,null,null,null,null,null,null,null,null,null,null,null,69]
[null,null,"Jouer aux 4 coins",null,null,null,null,null,null,null,null,null,null,null,null,null,70]
[null,null,"Jouer aux 4 coins"]
[null,null,"Jouer aux 4 coins",null,null,null,null,null,null,null,null,null,null,null,null,null,71]
[null,null,"Jouer aux 4 coins",null,null,null,null,null,null,null,null,null,null,null,null,null,72]
[null,null,"Jouer aux 4 coins"]
[null,null,"Jouer aux 4 coins",null,null,null,null,null,null,null,null,null,null,null,null,null,73]
["MT-Smash gagnant","MT-Sm","Jouer fort-tendu",null,"Utiliser le smash pour gagner le point","Marquer des points en utilisant le smash","match à thème","Seuls les points marqués sur un smash comptent",null,null,null,null,null,null,null,null,74]
["MV:Service tendu",null,"Jouer fort-tendu",null,"Travaille le service tendu-flick",null,null,"Le joueur Rouge enchaine un maximum de services dans la zone bleue. Le service se fait main basse, croisé et proche du filet.",null,null,null,"Chercher à frapper fort le volant avec une trajectoire la plus tendue possible. Viser juste à côté de la tête du joueur adverse.","Entre 2 et 4 joueurs par terrain. Plusieurs volants par joueur",null,null,null,null,null,null,null,null,"Routine"]
[null,null,"Jouer fort-tendu",null,null,null,null,null,null,null,null,null,null,null,null,null,75,null,null,null,null,"Multi-volants"]
[null,null,"Jouer fort-tendu",null,null,null,null,null,null,null,null,null,null,null,null,null,76,null,null,null,null,"Volant continu"]
[null,null,"Jouer fort-tendu"]
[null,null,"Jouer fort-tendu",null,null,null,null,null,null,null,null,null,null,null,null,null,77]
[null,null,"Jouer fort-tendu",null,null,null,null,null,null,null,null,null,null,null,null,null,78]
[null,null,"Jouer fort-tendu"]
[null,null,"Jouer fort-tendu",null,null,null,null,null,null,null,null,null,null,null,null,null,79]
[null,null,"Jouer fort-tendu",null,null,null,null,null,null,null,null,null,null,null,null,null,80]
[null,null,"Jouer fort-tendu"]
[null,null,"Jouer fort-tendu",null,null,null,null,null,null,null,null,null,null,null,null,null,81]
[null,null,"Jouer fort-tendu",null,null,null,null,null,null,null,null,null,null,null,null,null,82]
[null,null,"Jouer fort-tendu"]
[null,null,"Jouer fort-tendu",null,null,null,null,null,null,null,null,null,null,null,null,null,83]
[null,null,"Jouer fort-tendu",null,null,null,null,null,null,null,null,null,null,null,null,null,84]
[null,null,"Jouer fort-tendu"]
[null,null,"Jouer fort-tendu",null,null,null,null,null,null,null,null,null,null,null,null,null,85]
[null,null,"Jouer fort-tendu",null,null,null,null,null,null,null,null,null,null,null,null,null,86]
[null,null,"Jouer fort-tendu"]
[null,null,"Jouer fort-tendu",null,null,null,null,null,null,null,null,null,null,null,null,null,87]
[null,null,"Jouer fort-tendu",null,null,null,null,null,null,null,null,null,null,null,null,null,88]
[null,null,"Jouer fort-tendu"]
[null,null,"Jouer fort-tendu",null,null,null,null,null,null,null,null,null,null,null,null,null,89]
[null,null,"Jouer fort-tendu",null,null,null,null,null,null,null,null,null,null,null,null,null,90]
[null,null,"Jouer fort-tendu"]
[null,null,"Jouer fort-tendu",null,null,null,null,null,null,null,null,null,null,null,null,null,91]
[null,null,"Jouer fort-tendu",null,null,null,null,null,null,null,null,null,null,null,null,null,92]
[null,null,"Jouer fort-tendu"]
[null,null,"Jouer fort-tendu",null,null,null,null,null,null,null,null,null,null,null,null,null,93]
[null,null,"Jouer fort-tendu",null,null,null,null,null,null,null,null,null,null,null,null,null,94]
[null,null,"Jouer fort-tendu"]
[null,null,"Jouer fort-tendu",null,null,null,null,null,null,null,null,null,null,null,null,null,95]
[null,null,"Jouer fort-tendu",null,null,null,null,null,null,null,null,null,null,null,null,null,96]
[null,null,"Jouer fort-tendu"]
[null,null,"Jouer fort-tendu",null,null,null,null,null,null,null,null,null,null,null,null,null,97]
[null,null,"Jouer fort-tendu"]
["R:Gauche-Droite","R-GD","Jouer sur la largeur",null,"Continuité de l'échange","Réaliser 15 passes en en alternant droite-gauche","volant continu","Le joueur qui valide doit renvoyer alternativement à droite et à gauche pendant 15 échanges. L'autre joueur doit renvoyer au centre en coup droit.",null,null,null,"essai",null,null,null,null,98]
["MT-pts marqués en zones latérales","MT-Zlat","Jouer sur la largeur",null,"Utiliser la largeur du terrain","Marquer des points dans les zones latérales","match à thème","2 zones latérales. Seuls les points marqués dans ces zones comptent (faute adverse ou point direct)",null,"Un seul des 2 joueurs doit jouer dans les zones latérales.",null,null,null,null,null,null,99]
["R:Alterner droite gauche à 3","R-DGà3","Jouer sur la largeur",null,"Donner une direction au volant en CD haut : le renvoyer croisé","Renvoyer ","Volant continu","Le joueur jaune renvoit alternativement sur la joueuse bleue et le joueur blanc. La joueuse bleue et le joueur blanc renvoient le volant une fois à droite, une fois à gauche.",null,null,null,null,null,null,null,null,100]
["R:15 échanges Alterner gauche droite","R-15DG","Jouer sur la largeur",null,"Jouer sur la largeur","Réaliser 15 échanges en alternant droite-gauche","volant continu","Alterner des renvois à gauche et à droite."]
["R:renvoyer alternativement à Droite et à Gauche en couloirs réduits","R-DGréduit","Jouer sur la largeur",null,"Jouer sur la largeur","Réaliser 15 échanges en alternant droite-gauche","volant continu","Alterner des renvois à gauche et à droite.",null,null,null,"Orienter le tamis de sa rauqette ers la zone visée",null,null,null,null,101]
["MT-Couloirs latéraux uniquement","MT-Zlat","Jouer sur la largeur",null,"Jouer sur la largeur","Marquer des points dans les zones latérales",null,"Seuls les points marqués en zones latérales comptent",null,null,null,null,null,null,null,null,102]
["MT-Zones latérales","MT-Zlat","Jouer sur la largeur",null,"Jouer sur la largeur","Gagner le match en jouant dans les couloirs latéraux du terrain.",null,"Seuls les points marqués dans les couloirs latéraux comptent"]
["MV:D-G",null,"Jouer sur la largeur",null,"Travailler l'orientation du tamis de la raquette",null,null,"Le joueur rouge sert en cloche au centre. La joueuse bleue renvoit une fois à droite, une fois à gauche",null,null,null,"Orienter le tamis de sa raquette vers la zone visée. Garder le coude haut","Entre 2 et 4 joueurs par terrain. Plusieurs volants par joueur",null,null,null,103]
[null,null,"Jouer sur la largeur",null,null,null,null,null,null,null,null,null,null,null,null,null,104]
[null,null,"Jouer sur la largeur"]
[null,null,"Jouer sur la largeur",null,null,null,null,null,null,null,null,null,null,null,null,null,105]
[null,null,"Jouer sur la largeur",null,null,null,null,null,null,null,null,null,null,null,null,null,106]
[null,null,"Jouer sur la largeur"]
[null,null,"Jouer sur la largeur",null,null,null,null,null,null,null,null,null,null,null,null,null,107]
[null,null,"Jouer sur la largeur",null,null,null,null,null,null,null,null,null,null,null,null,null,108]
[null,null,"Jouer sur la largeur"]
[null,null,"Jouer sur la largeur",null,null,null,null,null,null,null,null,null,null,null,null,null,109]
[null,null,"Jouer sur la largeur",null,null,null,null,null,null,null,null,null,null,null,null,null,110]
[null,null,"Jouer sur la largeur"]
[null,null,"Jouer sur la largeur",null,null,null,null,null,null,null,null,null,null,null,null,null,12]
[null,null,"Jouer sur la largeur",null,null,null,null,null,null,null,null,null,null,null,null,null,13]
[null,null,"Jouer sur la largeur"]
[null,null,"Jouer sur la largeur",null,null,null,null,null,null,null,null,null,null,null,null,null,14]
[null,null,"Jouer sur la largeur",null,null,null,null,null,null,null,null,null,null,null,null,null,15]
[null,null,"Jouer sur la largeur"]
[null,null,"Jouer sur la largeur",null,null,null,null,null,null,null,null,null,null,null,null,null,16]
[null,null,"Jouer sur la largeur",null,null,null,null,null,null,null,null,null,null,null,null,null,17]
[null,null,"Jouer sur la largeur"]
[null,null,"Jouer sur la largeur",null,null,null,null,null,null,null,null,null,null,null,null,null,18]
[null,null,"Jouer sur la largeur",null,null,null,null,null,null,null,null,null,null,null,null,null,19]
[null,null,"Jouer sur la largeur"]
[null,null,"Jouer sur la largeur",null,null,null,null,null,null,null,null,null,null,null,null,null,20]
[null,null,"Jouer sur la largeur",null,null,null,null,null,null,null,null,null,null,null,null,null,21]
[null,null,"Jouer sur la largeur"]
[null,null,"Jouer sur la largeur",null,null,null,null,null,null,null,null,null,null,null,null,null,22]
[null,null,"Jouer sur la largeur",null,null,null,null,null,null,null,null,null,null,null,null,null,23]
[null,null,"Jouer sur la largeur"]
[null,null,"Jouer sur la largeur",null,null,null,null,null,null,null,null,null,null,null,null,null,24]
[null,null,"Jouer sur la largeur",null,null,null,null,null,null,null,null,null,null,null,null,null,25]
[null,null,"Jouer sur la largeur"]
[null,null,"Jouer sur la largeur",null,null,null,null,null,null,null,null,null,null,null,null,null,26]
[null,null,"Jouer sur la largeur",null,null,null,null,null,null,null,null,null,null,null,null,null,27]
[null,null,"Jouer sur la largeur"]
[null,null,"Jouer sur la largeur",null,null,null,null,null,null,null,null,null,null,null,null,null,28]
[null,null,"Jouer sur la largeur",null,null,null,null,null,null,null,null,null,null,null,null,null,29]
[null,null,"Jouer sur la largeur"]
[null,null,"Jouer sur la largeur",null,null,null,null,null,null,null,null,null,null,null,null,null,30]
[null,null,"Jouer sur la largeur",null,null,null,null,null,null,null,null,null,null,null,null,null,31]
[null,null,"Jouer sur la largeur"]
[null,null,"Jouer sur la largeur",null,null,null,null,null,null,null,null,null,null,null,null,null,32]
[null,null,"Jouer sur la largeur",null,null,null,null,null,null,null,null,null,null,null,null,null,33]
[null,null,"Jouer sur la largeur"]
[null,null,"Jouer sur la largeur",null,null,null,null,null,null,null,null,null,null,null,null,null,34]
[null,null,"Jouer sur la largeur",null,null,null,null,null,null,null,null,null,null,null,null,null,35]
[null,null,"Jouer sur la largeur"]
[null,null,"Jouer sur la largeur",null,null,null,null,null,null,null,null,null,null,null,null,null,36]
["R:15 frappes hors zone avant","R-15Hors Zavt","Jouer sur la profondeur",null,"Différenciation frappe main haute et frappe main basse : la frappe main haute","Jouer en dehors de la zone avant","Routine","Réaliser 15 frappes de suite sans faire tomber le volant",null,"Agrandir la zone interdite en cas de réussite facile",null,"Conseil pour réussir","Matériel","CR","Intérêt","Cns",37,"Att","COMplex","Simplf"]
["MT-pied bloqué sur tapis","MT-PiedBloqué","Jouer sur la profondeur",null,"Jouer en dehors de la zone centrale","Faire sortir l'adversaire du tapis et viser hors de la zone centrale","match à thème","Un des 2 joueurs commence en étant bloqué sur le tapis (il ne peut sortir qu'un seul pied de ce tapis sinon il fait faute). Ils réalisent un match en 11 pts. Puis ils font la revanche en échangeant les rôles.",null,"On peut interdire de sortir du tapis",null,"Jouer court, long, à droite et à gauche pour marquer un point","1 tapis ou zone matéralisée sur le terrain. A environ 1m de la zone morte","Mon adversaire en régulièrement en difficulté pour renvoyer mes volants.","c"]
["MT-pts marqués en zones avant et arrière","MT-Zav-Ar","Jouer sur la profondeur",null,"Utliser la profondeur du terrain","Marquer des points dans les zones avant et arrière","match à thème","2 zones avant et arrières. Seuls le spoints marqués dans ces zones comptent (faute adv ou points direct)",null,"Un seul des 2 joueurs doit jouer dans les zones latérales.",null,null,null,null,null,null,38]
["R:Zones arrières","R-Zar","Jouer sur la profondeur",null,"Apprendre le coup de dégagé","Réaliser 15 échanges en renvoyant le volant dans la zone arrière","volant continu","2 zones arrières. Renvoyer le volant uniquement dans ces zones.",null,"Un pied peut être autorisé à sortir (ou agrandir la zone)",null,null,null,null,null,null,39]
["SJ:Service long- amorti","SJ-Slg-am","Jouer sur la profondeur",null,"L'amorti de fond de court","Respecter les 3 premiers coups imposés","Volant continu","1- S long          2- amorti droit",null,"3-lift droit     4-Amorti droit"]
["SJ:Service long- amorti-libre","SJ-Slg-am-libr","Jouer sur la profondeur","N2","L’amorti de fond de court : côté RV et côté CD","Respecter les 3 premiers coups imposés","Multi-volants","1- S long ou lift\n2-Amorti devant\n3-jeu libre",null,"idem côté RV",null,null,null,null,null,null,40]
["MT:faire sortir l'autre du terrain","MT-sortir autre","Jouer sur la profondeur","N2","Dégagement de fond de court","Faire sortir un maximum de fois l'adversaire au fond de son demi-terrain","Jeu","Faire sortir l’autre du terrain en tirant loin et fort. 1 pt à chaque fois qu'il sort 1 pied. 2 points lorsqu'il sort les 2 pieds.",null,"Soit il faut lui faire sortir un pied soit les 2.",null,null,null,null,null,null,41]
["MT: S long - dégagé-libre","MT-Slg-D-Libr","Jouer sur la profondeur","N2","Dégagement de fond de court","Respecter les 3 premiers coups imposés","Match à thème","1- S long\n2- Dégagement\n3- jeu libre\n"]
["SJ:Service long-amorti-contre amorti","SJ-Slg-am","Jouer sur la profondeur","N3","Joueur sur la profondeur","Respecter les 2 premiers coups imposés et gagner le point","Séquence de jeu","1 – S long   2- amorti puis libre",null,"Ou S court Contre amorti",null,null,"2 joueurs - 2 raquettes - 1 volant - des plots repeères",null,null,null,42]
["SJ:Service long-amorti-contre amorti","Sj:Slg-am-CA","Jouer sur la profondeur",null,"Jouer sur la profondeur","Respecter les 3 premiers coups imposés","Séquence de jeu","1 – S long   2- amorti",null,"3- CA           4- libre",null,null,null,null,null,null,43]
["SJ:long-Am- Lift-libre","SJ-Slg-am-lift","Jouer sur la profondeur","N3","Jouer sur la profondeur","Respecter les 3 premiers coups imposés","Match à thème","1- S long    2- Amorti",null,"3-Lift          4 – jeu libre"]
["MT-zone centrale et latérales interdites","MT-ZcetLinterdites","Jouer sur la profondeur","N3","Jouer sur la profondeur",null,"Match à thème","La zone centrale est considérée comme faute.",null,null,null,null,null,null,null,null,44]
["R:15 échanges Alterner Zone avant Zone arrière ","R-15Zav-Zar","Jouer sur la profondeur",null,"Jouer sur la profondeur","Réaliser 15 échanges en alternant avant arrière.","volant continu","Réaliser 15 échanges en alternant des renvois en zone avant (amorti) et en zone arrière (dégagé).",null,null,null,null,null,null,null,null,45]
["SJ:Service court, renvoi au centre-dégagé","SJ-Sc-Rc-D","Jouer sur la profondeur",null,"Jouer sur la profondeur","Travailler un schéma tactique: service court renvoi long","séquence de jeu","1-Réaliser un service court. 2- renoyer au centre. 3- réaliser un dégagé"]
["SJ:Service long, renvoi  au centre-amorti","SJ-Slg-Rc-Am","Jouer sur la profondeur",null,"Jouer sur la profondeur","Travailler un schéma tactique: service court renvoi long","séquence de jeu","1-Réaliser un service long. 2- renvoyer au centre. 3-Réaliser un amorti ",null,null,null,null,null,null,null,null,46]
["R:Réaliser 20 échanges en dégagé","R-20D","Jouer sur la profondeur",null,"Apprendre le coup de dégagé","Réaliser 15 échanges en renvoyant le volant dans la zone arrière","volant continu","2 zones arrières. Renvoyer le volant uniquement dans ces zones.",null,"Un pied peut être autorisé à sortir.",null,"Lever la raquette au dessus de la tête en donnant de l'élan à la tête de raquette.",null,null,null,null,47]
["R:Alterner Zone avant et Zone arrière à 3","R-Zav-Zar à 3","Jouer sur la profondeur",null,"Jouer sur la profondeur","Réaliser 15 échanges en alternant avant arrière.","volant continu","Réaliser 15 échanges en alternant des renvois en zone avant (amorti) et en zone arrière (dégagé).",null,null,null,"Accélérer ou ralentir son geste pour doser la force de renvoi."]
["R:tour","PF-tour","Jouer sur la profondeur",null,"Améliorer le déplacement","Renvoyer le volant après avoir réaliser un déplacement en ligne droite.",null,"Le joueur blanc envoie en continu le volant une fois au fond une fois devant. Le joueur rouge  renvoie toujours au centre.",null,null,null,null,null,null,null,null,48]
["MT : zone AR","MT-Zar","Jouer sur la profondeur",null,"Travailler le dégagé","Gagner le match en respectant les zones définies",null,"Le matchs e joue uniquement dans la zone arrière du terrain",null,null,null,null,null,null,null,null,49]
["MT : zone Av","MT-Zav ","Jouer sur la profondeur",null,"Travail des Contre amorti","Gagner le match en respectant les zones définies",null,"Le matchse joue uniquement dans la zone avant du terrain"]
["PF:Renvoyer volant en Zone Arrière","R-Zar","Jouer sur la profondeur",null,"Jouer sur la profondeur : travail technique du dégagé","Renvoyer le maximum de volant en zone arrière",null,"1-Un Joueur bleu en poste fixe qui envoie des volants haut sur tout le terrain. 2-Le joueur rouge réalise un dégagé main haute en zone arrière (zone bleue)",null,null,null,"Lever le coude au dessus de l'épaule. Chercher à frapper fort en visant le plafond du gymnase. ","2 raquettes - Multi volants","1 pt par volant dans la zone arrière. Réussir un dégagé / 2 minimum",null,null,50]
["R:2 long 1 court","R-2L1c","Jouer sur la profondeur",null,"Jouer sur la profondeur : fixer au fond pour amortir","Renvoyer le volant 2 fois de suite long puis une fois court le plus longtemps possible",null,"0-Le poste fixe envoie toujours au centre. 1- le joueur rouge renvoit 2 fois de suite au fond puis une fois court et ainsi de suite jusqu'à ce que le volant tombe au sol",null,null,null,"Mémoriser la routine et s'appliquer sur les gestes : je mets e la vitesse pour dégager au fond, je ralentit mon geste pour amortir","2 raquettes - 1 volant",null,null,null,51]
["MV:Service court",null,"Jouer sur la profondeur",null,"Travailler le service court","Viser la zone proche de la zone morte",null,"Le joueur Rouge enchaine un maximum de services dans la zone bleue. Le service se fait main basse, croisé et proche du filet.",null,null,null,"Se placer proche de la ligne du centre et à 1m de la zone morte. Tenir le volant bras tendu et le lacher pour essayer dele toucher en dessous du genou en controlant la force. ","Entre 2 et 4 joueurs par terrain. Plusieurs volants par joueur"]
["MV: Service long",null,"Jouer sur la profondeur",null,"Travailler le service court",null,null,"Le joueur Rouge enchaine un maximum de services dans la zone bleue. Le service se fait main basse, croisé et proche du filet.",null,null,null,"Se placer proche de la zone morte et du centre. Tenir le volant, le lacher et accélérer le geste de sa raquette pour l'envoyer haut et loin.","Entre 2 et 4 joueurs par terrain. Plusieurs volants par joueur",null,null,null,52]
["MV-Av-Ar",null,"Jouer sur la profondeur",null,"Travailler le dégagé et l'amorti",null,null,"Le joueur rouge sert en cloche au centre. La joueuse bleue renvoit une fois long, une fois court",null,null,null,"Garder le coude haut. Varier la force mise dans le geste. Viser le volant avec son bras libre.","Multi volants",null,null,null,53]
["R-2longs-1court",null,"Jouer sur la profondeur",null,"Travailler le dégagé et l'amorti",null,null,"1-Le joueur 1 sert long, 2-le joueur 2 renvoit long 3-renvoit court 4- long et ainsi de suite"]
["MT-dégagé amorti tenté","MT-DégAm","Jouer sur la profondeur",null,"Jouer sur la profondeur : fixer au fond pour amortir","Gagner le point en choisissant le bon moment pour amortir",null,"Les joueurs échangent le volant en dégagé. Dès que l'un des 2 joueurs tente un amorti le match  commence.",null,null,null,"S'appliquer sur chaque dégagé. Choisir le bon moment pour amortir : lorsque l'adversaire est au fond et qu'il renvoit un peu court",null,null,null,null,54]
["MT-Bingo Zone avant","MT-BingZAv","Jouer sur la profondeur",null,"Jouer sur la profondeur : fixer au fond pour amortir","Gagner le point en choisissant le bon moment pour amortir",null,"Les joueurs réalisent un match classique. Lorsqu'un des joueurs annoncent bingo à voix haute et réussit un amorti en zone avant le points compte triple",null,null,null,"Identifier le bon moment pour annoncer le bingo : le joueur est au fond du terrain et vient de renvoyer un peu court",null,null,null,null,55]
["R-1am 1 dégagé","R-1xav1xar","Jouer sur la profondeur",null,"Jouer sur la profondeur : travail de l'amorti et du dégagé","Réaliser un max d'amorti et de dégagé en zones définies",null,"1-Le joueur Rouge sert au centre 2- la joueuse bleue renvoit une fois en zone avant une fois en zone arrière"]
["MT:Rémi1",null,"Jouer sur la profondeur",null,"être capable de fixer l’adversaire sur un endroit du terrain pour jouer de l’autre. ","trouver un schéma tactique permettant de marquer le plus de 3 points possible. ",null,"Chaque joueur choisie une zone dans le terrain de l’adversaire qu’il gardera tout le match. \nSi le volant tombe dans cette zone sans que l’adversaire ne puisse le renvoyer  3 points. S’il marque un point autrement  1 point\n\nService croisé. ",null,null,null,"Réaliser un dégagé haut et puissant. Réaliser un amorti qui retombe proche du filet. Jouer à l'opposé du placement de l'adversaire","Un terrain de badminton \n-\t2 raquettes \n-\t1 volant \n-\tDes plots pour identifier les 4 zones\nMatch en 18 point. ","Par match :\nAu moins 3 3 point par joueurs dans le match",null,null,"Savoir réaliser un dégagé puissant, haut et en cloche qui puisse faire reculer son adversaire dans le fond du terrain.\n\nSavoir réaliser un amorti très court, qui passe très proche du filet et retombe le  plus près possible de celui-ci  pour faire avancer l’adversaire au filet.\n\nEtre capable de faire un schéma tactique permettant de fixer l’adversaire pour jouer à l’opposé et marquer plus facilement dans la zone à 3 points. "]
["SJ:Rémi2",null,"Jouer sur la profondeur",null,"fixer l’adversaire pour jouer à l’opposer. ","créer des automatises et des repères pour créer des schémas tactiques. ",null,"1er temps Un joueur engage vers le centre du terrain\nLe joueur qui renvoie cherche a faire reculer le serveur au fond du terrain. \nLorsqu’il voit que le serveur a les pieds dans la zone arrière, il doit enchainer un amorti dans la zone avant. Si le volant atterri bien dans cette zone alors l’objectif est réussi, et le serveur peut faire un 2ème service. \n\n2ème temps : même règles mais inversement on cherche à amener le joueur dans la zone  avant pour ensuite jouer dans la zone arrière. ",null,null,null,"pour réaliser le dégagé : se mettre de profil, lever le bras libre comme si on voulait attraper le volant, puis pivoter avec la jambe d’appuis pour frapper le volant au dessus de sa tête en visant le plus haut possible. ","2 joueurs\n2 zones aux extrémités de la longueur du terrain\nChaque joueur fait 8 essais puis inversement des rôles. \nUn joueur travail l’autre cherche juste à remettre le volant dans le terrain.  ","Au moins 4 volants sur 8 qui arrivent dans la zone demandée en passant préalablement dans la zone opposée ",null,null,"Etre capable de réaliser un dégagé haut et puissant, avec une trajectoire en cloche pour que celui-ci tombe  au fond du terrain.\n \npour réaliser le dégagé : se mettre de profil, lever le bras libre comme si on voulait attraper le volant, puis pivoter avec la jambe d’appuis pour frapper le volant au dessus de sa tête en visant le plus haut possible. \n\nEtre capable de réaliser un amorti, qui passe le plus prêt possible du filet pour retomber juste derrière celui-ci .\n\nPour réaliser un amorti : \nFaire la même procédure que pour le  dégagé mais juste freiner son geste  avant de frapper le volant. On bloque toutes les articulations du bras pour taper très légèrement le volant avec le poignet.  \n\nEtre capable de pouvoir observer le positionnement de  l’adversaire tout en se replaçant et se déplaçant part de brefs regards en se servant d’indicateurs précis . "]
[null,null,"Jouer sur la profondeur"]
[null,null,"Jouer sur la profondeur",null,null,null,null,null,null,null,null,null,null,null,null,null,58]
[null,null,"Jouer sur la profondeur",null,null,null,null,null,null,null,null,null,null,null,null,null,59]
[null,null,"Jouer sur la profondeur"]
[null,null,"Jouer sur la profondeur",null,null,null,null,null,null,null,null,null,null,null,null,null,60]
[null,null,"Jouer sur la profondeur",null,null,null,null,null,null,null,null,null,null,null,null,null,61]
[null,null,"Jouer sur la profondeur"]
[null,null,"Jouer sur la profondeur",null,null,null,null,null,null,null,null,null,null,null,null,null,62]
[null,null,"Jouer sur la profondeur",null,null,null,null,null,null,null,null,null,null,null,null,null,63]
[null,null,"Jouer sur la profondeur"]
[null,null,"Jouer sur la profondeur",null,null,null,null,null,null,null,null,null,null,null,null,null,64]
[null,null,"Jouer sur la profondeur",null,null,null,null,null,null,null,null,null,null,null,null,null,65]
[null,null,"Jouer sur la profondeur"]
[null,null,"Jouer sur la profondeur",null,null,null,null,null,null,null,null,null,null,null,null,null,66]
[null,null,"Jouer sur la profondeur",null,null,null,null,null,null,null,null,null,null,null,null,null,67]
[null,null,"Jouer sur la profondeur"]
[null,null,"Jouer sur la profondeur",null,null,null,null,null,null,null,null,null,null,null,null,null,68]
[null,null,"Jouer sur la profondeur",null,null,null,null,null,null,null,null,null,null,null,null,null,69]
[null,null,"Jouer sur la profondeur"]
[null,null,"Jouer sur la profondeur",null,null,null,null,null,null,null,null,null,null,null,null,null,70]
[null,null,"Jouer sur la profondeur",null,null,null,null,null,null,null,null,null,null,null,null,null,71]
[null,null,"Jouer sur la profondeur"]
[null,null,"Jouer sur la profondeur",null,null,null,null,null,null,null,null,null,null,null,null,null,72]
[null,null,"Jouer sur la profondeur",null,null,null,null,null,null,null,null,null,null,null,null,null,73]
[null,null,"Jouer sur la profondeur"]
[null,null,"Jouer sur le point faible de l'adversaire",null,null,null,null,null,null,null,null,null,null,null,null,null,74]
[null,null,"Jouer sur le point faible de l'adversaire",null,null,null,null,null,null,null,null,null,null,null,null,null,75]
[null,null,"Jouer sur le point faible de l'adversaire"]
[null,null,"Jouer sur le point faible de l'adversaire",null,null,null,null,null,null,null,null,null,null,null,null,null,76]
[null,null,"Jouer sur le point faible de l'adversaire",null,null,null,null,null,null,null,null,null,null,null,null,null,77]
[null,null,"Jouer sur le point faible de l'adversaire"]
[null,null,"Jouer sur le point faible de l'adversaire",null,null,null,null,null,null,null,null,null,null,null,null,null,78]
[null,null,"Jouer sur le point faible de l'adversaire",null,null,null,null,null,null,null,null,null,null,null,null,null,79]
[null,null,"Jouer sur le point faible de l'adversaire"]
[null,null,"Jouer sur le point faible de l'adversaire",null,null,null,null,null,null,null,null,null,null,null,null,null,80]
[null,null,"Jouer sur le point faible de l'adversaire",null,null,null,null,null,null,null,null,null,null,null,null,null,81]
[null,null,"Jouer sur le point faible de l'adversaire"]
[null,null,"Jouer sur le point faible de l'adversaire",null,null,null,null,null,null,null,null,null,null,null,null,null,82]
[null,null,"Jouer sur le point faible de l'adversaire",null,null,null,null,null,null,null,null,null,null,null,null,null,83]
[null,null,"Jouer sur le point faible de l'adversaire"]
[null,null,"Jouer sur le point faible de l'adversaire",null,null,null,null,null,null,null,null,null,null,null,null,null,84]
[null,null,"Jouer sur le point faible de l'adversaire",null,null,null,null,null,null,null,null,null,null,null,null,null,85]
[null,null,"Jouer sur le point faible de l'adversaire"]
[null,null,"Jouer sur le point faible de l'adversaire",null,null,null,null,null,null,null,null,null,null,null,null,null,86]
[null,null,"Jouer sur le point faible de l'adversaire",null,null,null,null,null,null,null,null,null,null,null,null,null,87]
[null,null,"Jouer sur le point faible de l'adversaire"]
[null,null,"Jouer sur le point faible de l'adversaire",null,null,null,null,null,null,null,null,null,null,null,null,null,88]
[null,null,"Jouer sur le point faible de l'adversaire",null,null,null,null,null,null,null,null,null,null,null,null,null,89]
[null,null,"Jouer sur le point faible de l'adversaire"]
[null,null,"Jouer sur le point faible de l'adversaire",null,null,null,null,null,null,null,null,null,null,null,null,null,90]
[null,null,"Jouer sur le point faible de l'adversaire",null,null,null,null,null,null,null,null,null,null,null,null,null,91]
[null,null,"Jouer sur le point faible de l'adversaire"]
[null,null,"Jouer sur le point faible de l'adversaire",null,null,null,null,null,null,null,null,null,null,null,null,null,92]
[null,null,"Jouer sur le point faible de l'adversaire",null,null,null,null,null,null,null,null,null,null,null,null,null,93]
[null,null,"Jouer sur le point faible de l'adversaire"]
[null,null,"Jouer sur le point faible de l'adversaire",null,null,null,null,null,null,null,null,null,null,null,null,null,94]
[null,null,"Jouer sur le point faible de l'adversaire",null,null,null,null,null,null,null,null,null,null,null,null,null,95]
[null,null,"Jouer sur le point faible de l'adversaire"]
[null,null,"Jouer sur le point faible de l'adversaire",null,null,null,null,null,null,null,null,null,null,null,null,null,96]
[null,null,"Jouer sur le point faible de l'adversaire",null,null,null,null,null,null,null,null,null,null,null,null,null,97]
[null,null,"Jouer sur le point faible de l'adversaire",null,null,null,null,null,null,null,null,null,"2 raquettes - 1 volant"]
[null,null,"Jouer sur le point faible de l'adversaire",null,null,null,null,null,null,null,null,null,"2 raquettes - 1 volant",null,null,null,98]
["MV:haut ou bas","MV-HouB","Renvoyer",null,"Différenciation frappe main haute et frappe main basse : la frappe main haute","Reconnaître lorsque je dois frapper main haute ou main basse","Routine","Annoncer haut ou bas en fonction du volant envoyé par l'adversaire",null,null,null,"leve la tête ",null,null,null,null,99,null,null,"leve la tête "]
["R:Réaliser 20 échanges sur 1/2 terrain","R-20R1/2t","Renvoyer","N1","Continuité de l'échange","Tenir le volant en vie pendant 20 passes","Volant continu","Se grouper par 4 sur un 1/2 terrain. Tenter de maintenir le volant en vie durant 20 passes.","3,44 x 1,84",null,null,"Renvoyer le volant haut et en cloche","4 raquettes - 1 volant","On réussi au bout de 3'"]
["R:Réaliser 20 échanges","R-20é","Renvoyer","N1","Continuité de l'échange","Tenir le volant en vie pendant 20 passes","Volant continu","Se grouper par 4 sur 1 terrain entier. Tenter de maintenir le volant en vie pendant 20 passes en lui faisant franchir le filet à chaque passe.",null,null,null,"Renvoyer le volant haut et en cloche","4 raquettes - 1 volant","CR","Intérêt","Cns",200]
["R:réaliser 20 échanges en tournante sur 1/2 terrain","R-20étournante1/2t","Renvoyer","N1","Continuité de l'échange","Tenir le volant en vie pendant 20 passes","Volant continu","A renvoi le volant sur B qui renvoi sur C qui renvoi sur D. Entre chaque frappe, le joueur se replace derrière son partenaire.",null,"Ajouter des portes latérales si besoin",null,"Renvoyer le volant haut et en cloche","4 raquettes - 1 volant"," ",null,null,201]
["R:échanger pendant 1'","R-1'","Renvoyer","N1","Continuité de l'échange","Tenir le volant en vie pendant 1 minute","volant continu","Les 2 joueurs se font des passes en étant en face",null,"Lorsque le volant tombe au sol la minute recommence",null,"Envoyer le volant haut et en cloche au centre","2 raquettes - 1 volant",null,"c",null,202]
["R:pion","PF-pion","Renvoyer",null,"Améliorer le déplacement","Renvoyer le volant après avoir réaliser un léger déplacement en ligne droite ou en diagonale",null,"Le joueur blanc envoie en continu le volant une fois au centre une fois devant lui. Le joueur rouge  renvoie toujours au centre.",null,null,null,"Varier l'orientation de sa raquette et la force dosée pur viser la zone attendue. Anticiper son prochain coup.",null,null,null,null,203]
["R:Gauche-Droite","R-GD","Jouer sur la largeur",null,"Continuité de l'échange","Réaliser 15 passes en en alternant droite-gauche","volant continu","Le joueur qui valide doit renvoyer alternativement à droite et à gauche pendant 15 échanges. L'autre joueur doit renvoyer au centre en coup droit.",null,null,null,"essai",null,null,null,null,4]
["MT-pts marqués en zones latérales","MT-Zlat","Jouer sur la largeur",null,"Utiliser la largeur du terrain","Marquer des points dans les zones latérales","match à thème","2 zones latérales. Seuls les points marqués dans ces zones comptent (faute adverse ou point direct)",null,"Un seul des 2 joueurs doit jouer dans les zones latérales."]
["R:Alterner droite gauche à 3","R-DGà3","Jouer sur la largeur",null,"Donner une direction au volant en CD haut : le renvoyer croisé","Renvoyer ","Volant continu","Le joueur jaune renvoit alternativement sur la joueuse bleue et le joueur blanc. La joueuse bleue et le joueur blanc renvoient le volant une fois à droite, une fois à gauche.",null,null,null,null,null,null,null,null,5]
["R:15 échanges Alterner gauche droite","R-15DG","Jouer sur la largeur",null,"Jouer sur la largeur","Réaliser 15 échanges en alternant droite-gauche","volant continu","Alterner des renvois à gauche et à droite.",null,null,null,null,null,null,null,null,6]
["R:renvoyer alternativement à Droite et à Gauche en couloirs réduits","R-DGréduit","Jouer sur la largeur",null,"Jouer sur la largeur","Réaliser 15 échanges en alternant droite-gauche","volant continu","Alterner des renvois à gauche et à droite.",null,null,null,"Orienter le tamis de sa rauqette ers la zone visée","?",null,null,null,null,null,null,"leve la tête "]
["MT-Couloirs latéraux uniquement","MT-Zlat","Jouer sur la largeur",null,"Jouer sur la largeur","Marquer des points dans les zones latérales",null,"Seuls les points marqués en zones latérales comptent",null,null,null,null,null,null,null,null,7,"Att","COMplex","Simplf"]
["MT-Zones latérales","MT-Zlat","Jouer sur la largeur",null,"Jouer sur la largeur","Gagner le match en jouant dans les couloirs latéraux du terrain.",null,"Seuls les points marqués dans les couloirs latéraux comptent",null,null,null,null,null,null,null,null,8]
["MV:D-G",null,"Jouer sur la largeur",null,"Travailler l'orientation du tamis de la raquette",null,null,"Le joueur rouge sert en cloche au centre. La joueuse bleue renvoit une fois à droite, une fois à gauche",null,null,null,"Orienter le tamis de sa raquette vers la zone visée. Garder le coude haut"]
[null,null,"Renvoyer",null,null,null,null,null,null,null,null,null,null,null,null,null,9]
[null,null,"Renvoyer",null,null,null,null,null,null,null,null,null,null,null,null,null,10]
[null,null,"Renvoyer"]
[null,null,"Renvoyer",null,null,null,null,null,null,null,null,null,null,null,null,null,11]
[null,null,"Renvoyer",null,null,null,null,null,null,null,null,null,null,null,null,null,12]
[null,null,"Renvoyer"]
[null,null,"Renvoyer",null,null,null,null,null,null,null,null,null,null,null,null,null,13]
[null,null,"Renvoyer",null,null,null,null,null,null,null,null,null,null,null,null,null,14]
[null,null,"Renvoyer"]
[null,null,"Renvoyer",null,null,null,null,null,null,null,null,null,null,null,null,null,15]
[null,null,"Renvoyer",null,null,null,null,null,null,null,null,null,null,null,null,null,16]
[null,null,"Renvoyer"]
[null,null,"Renvoyer",null,null,null,null,null,null,null,null,null,null,null,null,null,17]
[null,null,"Renvoyer",null,null,null,null,null,null,null,null,null,null,null,null,null,18]
[null,null,"Renvoyer"]
[null,null,"Renvoyer",null,null,null,null,null,null,null,null,null,null,null,null,null,19]
[null,null,"Renvoyer",null,null,null,null,null,null,null,null,null,null,null,null,null,20]
[null,null,"Renvoyer"]
[null,null,"Renvoyer",null,null,null,null,null,null,null,null,null,null,null,null,null,21]
["MT-Service au centre-smash-libre","MT-Sc-Sm-libr","Smasher dès que possible",null,"Travailler le smash","Réaliser les 2 coups imposés et gagner le match",null,"Le serveur sert au centre. LE receveur réalise un smash. Puis le match est libre",null,null,null,null,null,null,null,null,22]
["MT-Smash uniquement","MT-Smuniq","Smasher dès que possible",null,"Travail du smash","Gagner le match en utilisant le smash",null,"Seuls les points marqués en utilisant le smash comptent.",null,"Ou alors bonifier le smash de 5 pts"]
["MT-Bingo smash","MT-BingSm","Smasher dès que possible",null,"Travail du smash et de la prise d'information","Gagner le smash en annonçant le point à l'avance",null,"Si le joueur annonce BINGO avant de marquer le point en smash il marque 5pts. S'il rate son coup c'est l'autre qui marque 5 pts",null,null,null,null,null,null,null,null,23]
["PF-Envoi au centre-Smash","PF-RcSm","Smasher dès que possible",null,"Smasher dès que possible","Réussir un maximum de smash",null,"1-Le joueur jaune au poste fixe envoie des volants haut au centre 2-Le joueur rouge réalise des smashs",null,null,null,"Lever le coude, frapper le volant en avant de la tête, tamis orienté vers les pieds de l'adversaire. Frapper en avançant. Accepter de rater le volant au début","2 raquettes - multi-volants",null,null,null,24]
["MT-Service haut au centre-Smash-libre","MT-ShtcSm","Smasher dès que possible",null,"Smasher dès que possible","Réussir à marquer le point sur un smash",null,"1-Le joueur jaune au poste fixe envoie des volants haut au centre 2-Le joueur rouge réalise des smashs 3-libre"]
[null,null,"Smasher dès que possible",null,null,null,null,null,null,null,null,null,null,null,null,null,25]
[null,null,"Smasher dès que possible",null,null,null,null,null,null,null,null,null,null,null,null,null,26]
[null,null,"Smasher dès que possible"]
[null,null,"Smasher dès que possible",null,null,null,null,null,null,null,null,null,null,null,null,null,27]
[null,null,"Smasher dès que possible",null,null,null,null,null,null,null,null,null,null,null,null,null,28]
[null,null,"Smasher dès que possible"]
[null,null,"Smasher dès que possible",null,null,null,null,null,null,null,null,null,null,null,null,null,29]
[null,null,"Smasher dès que possible",null,null,null,null,null,null,null,null,null,null,null,null,null,30]
[null,null,"Smasher dès que possible"]
[null,null,"Smasher dès que possible",null,null,null,null,null,null,null,null,null,null,null,null,null,31]
[null,null,"Smasher dès que possible",null,null,null,null,null,null,null,null,null,null,null,null,null,32]
[null,null,"Smasher dès que possible"]
[null,null,"Smasher dès que possible",null,null,null,null,null,null,null,null,null,null,null,null,null,33]
[null,null,"Smasher dès que possible",null,null,null,null,null,null,null,null,null,null,null,null,null,34]
[null,null,"Smasher dès que possible"]
[null,null,"Smasher dès que possible",null,null,null,null,null,null,null,null,null,null,null,null,null,35]
[null,null,"Smasher dès que possible",null,null,null,null,null,null,null,null,null,null,null,null,null,36]
[null,null,"Smasher dès que possible"]
[null,null,"Smasher dès que possible",null,null,null,null,null,null,null,null,null,null,null,null,null,37]
[null,null,"Smasher dès que possible",null,null,null,null,null,null,null,null,null,null,null,null,null,38]
[null,null,"Smasher dès que possible"]
[null,null,"Smasher dès que possible",null,null,null,null,null,null,null,null,null,null,null,null,null,39]
[null,null,"Smasher dès que possible"]
[null,null,"Smasher dès que possible",null,null,null,null,null,null,null,null,null,null,null,null,null,40]
[null,null,"Smasher dès que possible",null,null,null,null,null,null,null,null,null,null,null,null,null,41]
[null,null,"Smasher dès que possible",null,null,null,null,null,null,null,null,null,null,null,null,null,42]
[null,null,"Smasher dès que possible"]
[null,null,"Smasher dès que possible",null,null,null,null,null,null,null,null,null,null,null,null,null,43]
[null,null,"Smasher dès que possible"]
[null,null,"Smasher dès que possible",null,null,null,null,null,null,null,null,null,null,null,null,null,44]
[null,null,"Smasher dès que possible",null,null,null,null,null,null,null,null,null,null,null,null,null,45]
[null,null,"Smasher dès que possible"]
[null,null,"Smasher dès que possible",null,null,null,null,null,null,null,null,null,null,null,null,null,46]
[null,null,"Smasher dès que possible",null,null,null,null,null,null,null,null,null,null,null,null,null,47]
[null,null,"Smasher dès que possible"]
[null,null,"Smasher dès que possible",null,null,null,null,null,null,null,null,null,null,null,null,null,48]
[null,null,"Smasher dès que possible",null,null,null,null,null,null,null,null,null,null,null,null,null,49]
[null,null,"Smasher dès que possible"]
[null,null,"Smasher dès que possible",null,null,null,null,null,null,null,null,null,null,null,null,null,50]
[null,null,"Smasher dès que possible",null,null,null,null,null,null,null,null,null,null,null,null,null,51]
["MT-Service/postion adv","MT-S/adv","Travail technique Service",null,"utiliser le service pour prendre l'avantage","Servir long et court","match à thème","LE receveur se place pied collé sur la ligne de la zone morte ou sur la ligne de fond. Le serveur sert court ou long en fonction de la position de son adversaire. Match en 11 pts libre après le service.",null,null,null,null,null,null,null,null,52]
["MV:service",null,"Travail technique Service",null,"Travailler les paramètres de trajectoires du service","Réussir un max de service",null,"N1 : Renvoyer le volant de l'autre côté de différentes manières : \n-service court en RV \nN2 : + -service long et court en CD\nN3 : +service tendu\nN4 : même préparation de service + feinte"]
["MV:Spauline1",null,"Travail technique Service",null,"Passer d’un élève incapable de réussir un service réussi de manière régulière à un élève capable de servir sans faire de faute","Réussir 5 services d'affilé",null,"Les deux élèves doivent enchaîner 5 services réussi chacun. Un service est considéré réussi quand il n’y a pas faute. Quand le but est atteint l’on peut passer à la situation suivante.",null,"servir avec le tamis en dessous du nombril\n● servir derrière la ligne de service\n● Le volant atterrit derrière la ligne de service adverse et dans les limites du terrain\n● (Le service est en diagonale)\n● Les deux élèves réussissent à enchaîner 5 services réussi chacun",null,"bien orienter le tamis de la raquette (perpendiculaire à la chute du volant)\n● aider son partenaire afin de réussir l’exercice ensemble\n● répéter le geste pour l’intégrer (service cuillère attendu)\n● Connaître les règles du service et donc les lignes du terrain de badminton","Par groupe de 2. 5 volants par groupe. L’un sert et l’autre vérifie si le service est bon et ramasse les volants, au bout de 5 services on inverse.","Enchainer 5 services chacun en visant la bonne zone et en respectant les règles du service",null,null,"bien orienter le tamis de la raquette (perpendiculaire à la chute du volant)\n● aider son partenaire afin de réussir l’exercice ensemble\n● répéter le geste pour l’intégrer (service cuillère attendu)\n● Connaître les règles du service et donc les lignes du terrain de badminton"]
["SJ:SPauline2",null,"Travail technique Service",null,"Passer d’un élève qui sert pour engager le jeux à un élève capable de servir loin afin de prendre l’avantage en repoussant son adversaire.","gagner son adversaire et marquer au moins 20 points",null,"Par deux, sur un terrain entier. Le joueur qui sert cherche à faire reculer son adversaire, il dispose de 6 services d'affilé pour marquer le plus de points possible. Si le receveur recule mais reste dans la première zone il gagne 1pt, si le receveur recule dans la deuxième zone il gagne 3pts, si le receveur recule dans la troisième zone il gagne 5pts. Le receveur aura pour rôle de renvoyer le volant dans le camp adverse s'il échoue cela donne un pt à son adversaire, io devra à chaques service avoir un pied sur la ligne de service. Au bout de 6 services les rôles s'inversent. Un service raté vaut 0 pts.",null,null,null,"servir avec le tamis en dessous du nombril\n● servir derrière la ligne de service\n● Le volant atterrit derrière la ligne de service adverse et dans les limites du terrain\n● (Le service est en diagonale)\n● Les deux élèves réussissent à gagner 20 pts chacun\n● Respectent les règles de l'exercice (le receveur a à chaque service un pied sur la ligne de\nservice)","Terrain entier. Volants. Plots","Marquer au moins 20 points en respectant les règles du service",null,null,"bien orienter le tamis de la raquette (perpendiculaire à la chute du volant)\n● répéter le geste pour l’intégrer\n● Connaître les règles du service et donc les lignes du terrain de badminton\n● Augmenter le trajet de la raquette, pour accélérer la tête de raquette et gagner en puissance.\n● Montrer la direction que l'on veut donner au volant avec le pied non raquette pour maîtriser la\ntrajectoire\n● Si service revers faire du relâché serré pour gagner en puissance, ne pas serrer le manche de\nla raquette"]
["MT:SPauline3",null,"Travail technique Service",null,"passer d'un élève qui sert pour engager le jeu à un élève qui attaque au service.","gagner le match en utilisant le service. Marquer au moins 2 points grâce au service",null,"Match en 11 point sur terrain de simple, 3pts marqués si service gagnant ou sur le coup suivant du serveur.\nIls servent chacun leur tour, le service ne revient pas à celui qui a marqué le point mais à celui qui n'a pas servi lors de l’échange précédent.",null,null,null,"Choisir de servir court ou long en fonction de l’emplacement de l’adversaire sur le\nterrain\n● Faire de vrai service long (pas mis court) pour faire reculer son adversaire qui en\nmanque de puissance ne pourra pas renvoyer en fond de terrain (limite les possibilité\nde l’adversaire et donc l’incertitude).\n● Varier les trajectoires et le type de service, afin de créer de l’incertitude.","Terrain entier. Volant. 2 raquettes","Gagner le match\n● Marquer au moins deux fois grâce au service\n● Peu de fautes de service <4\n● Respecte les règles du service,sur cet exercice service croisé obligatoire\n● Respecter les règles de l'exercice, alterner le service",null,null,"Choisir de servir court ou long en fonction de l’emplacement de l’adversaire sur le\nterrain\n● Faire de vrai service long (pas mis court) pour faire reculer son adversaire qui en\nmanque de puissance ne pourra pas renvoyer en fond de terrain (limite les possibilité\nde l’adversaire et donc l’incertitude).\n● Idem exercice 2\n● Varier les trajectoires et le type de service, afin de créer de l’incertitude."]
[null,null,"Travail technique Service",null,null,null,null,null,null,null,null,null,null,null,null,null,55]
[null,null,"Travail technique Service",null,null,null,null,null,null,null,null,null,null,null,null,null,56]
[null,null,"Travail technique Service"]
[null,null,"Travail technique Service",null,null,null,null,null,null,null,null,null,null,null,null,null,57]
[null,null,"Travail technique Service",null,null,null,null,null,null,null,null,null,null,null,null,null,58]
[null,null,"Travail technique Service"]
[null,null,"Travail technique Service",null,null,null,null,null,null,null,null,null,null,null,null,null,59]
[null,null,"Travail technique Service",null,null,null,null,null,null,null,null,null,null,null,null,null,60]
[null,null,"Travail technique Service"]
[null,null,"Travail technique Service",null,null,null,null,null,null,null,null,null,null,null,null,null,61]
[null,null,"Travail technique Service",null,null,null,null,null,null,null,null,null,null,null,null,null,62]
[null,null,"Travail technique Service"]
[null,null,"Travail technique Service",null,null,null,null,null,null,null,null,null,null,null,null,null,63]
[null,null,null,null,null,null,null,null,null,null,null,null,null,null,null,null,64]
[]
[null,null,null,null,null,null,null,null,null,null,null,null,null,null,null,null,65]
[null,null,null,null,null,null,null,null,null,null,null,null,null,null,null,null,66]
[]
[null,null,null,null,null,null,null,null,null,null,null,null,null,null,null,null,67]
[]
[null,null,null,null,null,null,null,null,null,null,null,null,null,null,null,null,68]
[null,null,null,null,null,null,null,null,null,null,null,null,null,null,null,null,69]
[]
[null,null,null,null,null,null,null,null,null,null,null,null,null,null,null,null,70]
[null,null,null,null,null,null,null,null,null,null,null,null,null,null,null,null,71]
[null,null,null,null,null,null,null,null,null,null,null,null,null,null,null,null,72]
[]
[null,null,null,null,null,null,null,null,null,null,null,null,null,null,null,null,73]
[]
[null,null,null,null,null,null,null,null,null,null,null,null,null,null,null,null,74]
[null,null,null,null,null,null,null,null,null,null,null,null,null,null,null,null,75]
[]
[null,null,null,null,null,null,null,null,null,null,null,null,null,null,null,null,76]
[null,null,null,null,null,null,null,null,null,null,null,null,null,null,null,null,77]
[]
[null,null,null,null,null,null,null,null,null,null,null,null,null,null,null,null,78]
[null,null,null,null,null,null,null,null,null,null,null,null,null,null,null,null,79]
[]
[null,null,null,null,null,null,null,null,null,null,null,null,null,null,null,null,80]
[null,null,null,null,null,null,null,null,null,null,null,null,null,null,null,null,81]
[]
[null,null,null,null,null,null,null,null,null,null,null,null,null,null,null,null,82]
[null,null,null,null,null,null,null,null,null,null,null,null,null,null,null,null,83]
[]
[null,null,null,null,null,null,null,null,null,null,null,null,null,null,null,null,84]
[null,null,null,null,null,null,null,null,null,null,null,null,null,null,null,null,85]
[]
[null,null,null,null,null,null,null,null,null,null,null,null,null,null,null,null,86]
[null,null,null,null,null,null,null,null,null,null,null,null,null,null,null,null,87]
[]
[null,null,null,null,null,null,null,null,null,null,null,null,null,null,null,null,88]
[null,null,null,null,null,null,null,null,null,null,null,null,null,null,null,null,89]
[]
[null,null,null,null,null,null,null,null,null,null,null,null,null,null,null,null,90]
[null,null,null,null,null,null,null,null,null,null,null,null,null,null,null,null,91]
[]
[null,null,null,null,null,null,null,null,null,null,null,null,null,null,null,null,92]
[null,null,null,null,null,null,null,null,null,null,null,null,null,null,null,null,93]
[]
[null,null,null,null,null,null,null,null,null,null,null,null,null,null,null,null,94]
[null,null,null,null,null,null,null,null,null,null,null,null,null,null,null,null,95]
[]
[null,null,null,null,null,null,null,null,null,null,null,null,null,null,null,null,96]
[null,null,null,null,null,null,null,null,null,null,null,null,null,null,null,null,97]
[]
[null,null,null,null,null,null,null,null,null,null,null,null,null,null,null,null,98]
[null,null,null,null,null,null,null,null,null,null,null,null,null,null,null,null,99]
[]
[null,null,null,null,null,null,null,null,null,null,null,null,null,null,null,null,300]
[null,null,null,null,null,null,null,null,null,null,null,null,null,null,null,null,301]
[null,null,null,null,null,null,null,null,null,null,null,null,null,null,null,null,302]
[]
[null,null,null,null,null,null,null,null,null,null,null,null,null,null,null,null,3]
[]
[null,null,null,null,null,null,null,null,null,null,null,null,null,null,null,null,4]
[null,null,null,null,null,null,null,null,null,null,null,null,null,null,null,null,5]
[]
[null,null,null,null,null,null,null,null,null,null,null,null,null,null,null,null,6]
[null,null,null,null,null,null,null,null,null,null,null,null,null,null,null,null,7]
[]
[null,null,null,null,null,null,null,null,null,null,null,null,null,null,null,null,8]
[null,null,null,null,null,null,null,null,null,null,null,null,null,null,null,null,9]
[]
[null,null,null,null,null,null,null,null,null,null,null,null,null,null,null,null,10]
[null,null,null,null,null,null,null,null,null,null,null,null,null,null,null,null,11]
[]
[null,null,null,null,null,null,null,null,null,null,null,null,null,null,null,null,12]
[null,null,null,null,null,null,null,null,null,null,null,null,null,null,null,null,13]
[]
[null,null,null,null,null,null,null,null,null,null,null,null,null,null,null,null,14]
[null,null,null,null,null,null,null,null,null,null,null,null,null,null,null,null,15]
[]
[null,null,null,null,null,null,null,null,null,null,null,null,null,null,null,null,16]
[null,null,null,null,null,null,null,null,null,null,null,null,null,null,null,null,17]
[]
[null,null,null,null,null,null,null,null,null,null,null,null,null,null,null,null,18]
[null,null,null,null,null,null,null,null,null,null,null,null,null,null,null,null,19]
[]
[null,null,null,null,null,null,null,null,null,null,null,null,null,null,null,null,20]
[null,null,null,null,null,null,null,null,null,null,null,null,null,null,null,null,21]
[]
[null,null,null,null,null,null,null,null,null,null,null,null,null,null,null,null,22]
[null,null,null,null,null,null,null,null,null,null,null,null,null,null,null,null,23]
[]
[null,null,null,null,null,null,null,null,null,null,null,null,null,null,null,null,24]
[null,null,null,null,null,null,null,null,null,null,null,null,null,null,null,null,25]
[]
[null,null,null,null,null,null,null,null,null,null,null,null,null,null,null,null,26]
[null,null,null,null,null,null,null,null,null,null,null,null,null,null,null,null,27]
[]
[null,null,null,null,null,null,null,null,null,null,null,null,null,null,null,null,28]
[null,null,null,null,null,null,null,null,null,null,null,null,null,null,null,null,29]
[]
[null,null,null,null,null,null,null,null,null,null,null,null,null,null,null,null,30]
[null,null,null,null,null,null,null,null,null,null,null,null,null,null,null,null,31]
[]
[null,null,null,null,null,null,null,null,null,null,null,null,null,null,null,null,32]
[null,null,null,null,null,null,null,null,null,null,null,null,null,null,null,null,33]
[]
[null,null,null,null,null,null,null,null,null,null,null,null,null,null,null,null,34]
[null,null,null,null,null,null,null,null,null,null,null,null,null,null,null,null,35]
[]
[null,null,null,null,null,null,null,null,null,null,null,null,null,null,null,null,36]
[null,null,null,null,null,null,null,null,null,null,null,null,null,null,null,null,37]
[]
[null,null,null,null,null,null,null,null,null,null,null,null,null,null,null,null,38]
[null,null,null,null,null,null,null,null,null,null,null,null,null,null,null,null,39]
[]
[null,null,null,null,null,null,null,null,null,null,null,null,null,null,null,null,40]
[null,null,null,null,null,null,null,null,null,null,null,null,null,null,null,null,41]
[]
[null,null,null,null,null,null,null,null,null,null,null,null,null,null,null,null,42]
[]
[null,null,null,null,null,null,null,null,null,null,null,null,null,null,null,null,43]
[null,null,null,null,null,null,null,null,null,null,null,null,null,null,null,null,44]
[null,null,null,null,null,null,null,null,null,null,null,null,null,null,null,null,45]
[]
[null,null,null,null,null,null,null,null,null,null,null,null,null,null,null,null,46]
[]
[null,null,null,null,null,null,null,null,null,null,null,null,null,null,null,null,47]
[null,null,null,null,null,null,null,null,null,null,null,null,null,null,null,null,48]
[]
[null,null,null,null,null,null,null,null,null,null,null,null,null,null,null,null,49]
[null,null,null,null,null,null,null,null,null,null,null,null,null,null,null,null,50]
[]
[null,null,null,null,null,null,null,null,null,null,null,null,null,null,null,null,51]
[null,null,null,null,null,null,null,null,null,null,null,null,null,null,null,null,52]
[]
[null,null,null,null,null,null,null,null,null,null,null,null,null,null,null,null,53]
[null,null,null,null,null,null,null,null,null,null,null,null,null,null,null,null,54]
[]
[null,null,null,null,null,null,null,null,null,null,null,null,null,null,null,null,55]
[null,null,null,null,null,null,null,null,null,null,null,null,null,null,null,null,56]
[]
[null,null,null,null,null,null,null,null,null,null,null,null,null,null,null,null,57]
[null,null,null,null,null,null,null,null,null,null,null,null,null,null,null,null,58]
[]
[null,null,null,null,null,null,null,null,null,null,null,null,null,null,null,null,59]
[null,null,null,null,null,null,null,null,null,null,null,null,null,null,null,null,60]
[]
[null,null,null,null,null,null,null,null,null,null,null,null,null,null,null,null,61]
[null,null,null,null,null,null,null,null,null,null,null,null,null,null,null,null,62]
[]
[null,null,null,null,null,null,null,null,null,null,null,null,null,null,null,null,63]
[null,null,null,null,null,null,null,null,null,null,null,null,null,null,null,null,64]
[]
[null,null,null,null,null,null,null,null,null,null,null,null,null,null,null,null,65]
[null,null,null,null,null,null,null,null,null,null,null,null,null,null,null,null,66]
[]
[null,null,null,null,null,null,null,null,null,null,null,null,null,null,null,null,67]
[null,null,null,null,null,null,null,null,null,null,null,null,null,null,null,null,68]
[]
[null,null,null,null,null,null,null,null,null,null,null,null,null,null,null,null,69]
[null,null,null,null,null,null,null,null,null,null,null,null,null,null,null,null,70]
[]
[null,null,null,null,null,null,null,null,null,null,null,null,null,null,null,null,71]
[null,null,null,null,null,null,null,null,null,null,null,null,null,null,null,null,72]
[]
[null,null,null,null,null,null,null,null,null,null,null,null,null,null,null,null,73]
[null,null,null,null,null,null,null,null,null,null,null,null,null,null,null,null,74]
[]
[null,null,null,null,null,null,null,null,null,null,null,null,null,null,null,null,75]
[null,null,null,null,null,null,null,null,null,null,null,null,null,null,null,null,76]
[]
[null,null,null,null,null,null,null,null,null,null,null,null,null,null,null,null,77]
[null,null,null,null,null,null,null,null,null,null,null,null,null,null,null,null,78]
[]
[null,null,null,null,null,null,null,null,null,null,null,null,null,null,null,null,79]
[]
[null,null,null,null,null,null,null,null,null,null,null,null,null,null,null,null,80]
[null,null,null,null,null,null,null,null,null,null,null,null,null,null,null,null,81]
[null,null,null,null,null,null,null,null,null,null,null,null,null,null,null,null,82]
[]
[null,null,null,null,null,null,null,null,null,null,null,null,null,null,null,null,83]
[null,null,null,null,null,null,null,null,null,null,null,null,null,null,null,null,84]
[]
[null,null,null,null,null,null,null,null,null,null,null,null,null,null,null,null,85]
[]
[null,null,null,null,null,null,null,null,null,null,null,null,null,null,null,null,86]
[null,null,null,null,null,null,null,null,null,null,null,null,null,null,null,null,87]
[null,null,null,null,null,null,null,null,null,null,null,null,null,null,null,null,88]
[]
[null,null,null,null,null,null,null,null,null,null,null,null,null,null,null,null,89]
[null,null,null,null,null,null,null,null,null,null,null,null,null,null,null,null,90]
[]
[null,null,null,null,null,null,null,null,null,null,null,null,null,null,null,null,91]
[null,null,null,null,null,null,null,null,null,null,null,null,null,null,null,null,92]
[]
[null,null,null,null,null,null,null,null,null,null,null,null,null,null,null,null,93]
[null,null,null,null,null,null,null,null,null,null,null,null,null,null,null,null,94]
[]
[null,null,null,null,null,null,null,null,null,null,null,null,null,null,null,null,95]
[null,null,null,null,null,null,null,null,null,null,null,null,null,null,null,null,96]
[]
[null,null,null,null,null,null,null,null,null,null,null,null,null,null,null,null,97]
[]
[null,null,null,null,null,null,null,null,null,null,null,null,null,null,null,null,98]
[null,null,null,null,null,null,null,null,null,null,null,null,null,null,null,null,99]
[]
[null,null,null,null,null,null,null,null,null,null,null,null,null,null,null,null,400]
[null,null,null,null,null,null,null,null,null,null,null,null,null,null,null,null,401]
[]
[null,null,null,null,null,null,null,null,null,null,null,null,null,null,null,null,402]
[null,null,null,null,null,null,null,null,null,null,null,null,null,null,null,null,403]
[]
[null,null,null,null,null,null,null,null,null,null,null,null,null,null,null,null,404]
[null,null,null,null,null,null,null,null,null,null,null,null,null,null,null,null,5]
[]
[null,null,null,null,null,null,null,null,null,null,null,null,null,null,null,null,6]
[null,null,null,null,null,null,null,null,null,null,null,null,null,null,null,null,7]
[]
[null,null,null,null,null,null,null,null,null,null,null,null,null,null,null,null,8]
[null,null,null,null,null,null,null,null,null,null,null,null,null,null,null,null,9]
[]
[null,null,null,null,null,null,null,null,null,null,null,null,null,null,null,null,10]
[null,null,null,null,null,null,null,null,null,null,null,null,null,null,null,null,11]
[]
[null,null,null,null,null,null,null,null,null,null,null,null,null,null,null,null,12]
[null,null,null,null,null,null,null,null,null,null,null,null,null,null,null,null,13]
[]
[null,null,null,null,null,null,null,null,null,null,null,null,null,null,null,null,14]
[null,null,null,null,null,null,null,null,null,null,null,null,null,null,null,null,15]
[]
[null,null,null,null,null,null,null,null,null,null,null,null,null,null,null,null,16]
[null,null,null,null,null,null,null,null,null,null,null,null,null,null,null,null,17]
[]
[null,null,null,null,null,null,null,null,null,null,null,null,null,null,null,null,18]
[null,null,null,null,null,null,null,null,null,null,null,null,null,null,null,null,19]
[]
[null,null,null,null,null,null,null,null,null,null,null,null,null,null,null,null,20]
[null,null,null,null,null,null,null,null,null,null,null,null,null,null,null,null,21]
[]
[null,null,null,null,null,null,null,null,null,null,null,null,null,null,null,null,22]
[null,null,null,null,null,null,null,null,null,null,null,null,null,null,null,null,23]
[]
[null,null,null,null,null,null,null,null,null,null,null,null,null,null,null,null,24]
[null,null,null,null,null,null,null,null,null,null,null,null,null,null,null,null,25]
[]
[null,null,null,null,null,null,null,null,null,null,null,null,null,null,null,null,26]
[null,null,null,null,null,null,null,null,null,null,null,null,null,null,null,null,27]
[]
[null,null,null,null,null,null,null,null,null,null,null,null,null,null,null,null,28]
[null,null,null,null,null,null,null,null,null,null,null,null,null,null,null,null,29]
[]
[null,null,null,null,null,null,null,null,null,null,null,null,null,null,null,null,30]
[null,null,null,null,null,null,null,null,null,null,null,null,null,null,null,null,31]
[]
[null,null,null,null,null,null,null,null,null,null,null,null,null,null,null,null,32]
[null,null,null,null,null,null,null,null,null,null,null,null,null,null,null,null,33]
[]
[null,null,null,null,null,null,null,null,null,null,null,null,null,null,null,null,34]
[null,null,null,null,null,null,null,null,null,null,null,null,null,null,null,null,35]
[]
[null,null,null,null,null,null,null,null,null,null,null,null,null,null,null,null,36]
[null,null,null,null,null,null,null,null,null,null,null,null,null,null,null,null,37]
[]
[null,null,null,null,null,null,null,null,null,null,null,null,null,null,null,null,38]
[]
[null,null,null,null,null,null,null,null,null,null,null,null,null,null,null,null,39]
[null,null,null,null,null,null,null,null,null,null,null,null,null,null,null,null,40]
[null,null,null,null,null,null,null,null,null,null,null,null,null,null,null,null,41]
[]
[null,null,null,null,null,null,null,null,null,null,null,null,null,null,null,null,42]
[null,null,null,null,null,null,null,null,null,null,null,null,null,null,null,null,43]
[]
[null,null,null,null,null,null,null,null,null,null,null,null,null,null,null,null,44]
[null,null,null,null,null,null,null,null,null,null,null,null,null,null,null,null,45]
[]
[null,null,null,null,null,null,null,null,null,null,null,null,null,null,null,null,46]
[]
[null,null,null,null,null,null,null,null,null,null,null,null,null,null,null,null,47]
[null,null,null,null,null,null,null,null,null,null,null,null,null,null,null,null,48]
[]
[null,null,null,null,null,null,null,null,null,null,null,null,null,null,null,null,49]
[null,null,null,null,null,null,null,null,null,null,null,null,null,null,null,null,50]
[null,null,null,null,null,null,null,null,null,null,null,null,null,null,null,null,51]
[]
[null,null,null,null,null,null,null,null,null,null,null,null,null,null,null,null,52]
[]
[null,null,null,null,null,null,null,null,null,null,null,null,null,null,null,null,53]
[null,null,null,null,null,null,null,null,null,null,null,null,null,null,null,null,54]
[]
[null,null,null,null,null,null,null,null,null,null,null,null,null,null,null,null,55]
[null,null,null,null,null,null,null,null,null,null,null,null,null,null,null,null,56]
[]
[null,null,null,null,null,null,null,null,null,null,null,null,null,null,null,null,57]
[null,null,null,null,null,null,null,null,null,null,null,null,null,null,null,null,58]
[]
[null,null,null,null,null,null,null,null,null,null,null,null,null,null,null,null,59]
[null,null,null,null,null,null,null,null,null,null,null,null,null,null,null,null,60]
[]
[null,null,null,null,null,null,null,null,null,null,null,null,null,null,null,null,61]
[null,null,null,null,null,null,null,null,null,null,null,null,null,null,null,null,62]
[]
[null,null,null,null,null,null,null,null,null,null,null,null,null,null,null,null,63]
[null,null,null,null,null,null,null,null,null,null,null,null,null,null,null,null,64]
[]
[null,null,null,null,null,null,null,null,null,null,null,null,null,null,null,null,65]
[null,null,null,null,null,null,null,null,null,null,null,null,null,null,null,null,66]
[]
[null,null,null,null,null,null,null,null,null,null,null,null,null,null,null,null,67]
[null,null,null,null,null,null,null,null,null,null,null,null,null,null,null,null,68]
[]
[null,null,null,null,null,null,null,null,null,null,null,null,null,null,null,null,69]
[null,null,null,null,null,null,null,null,null,null,null,null,null,null,null,null,70]
[]
[null,null,null,null,null,null,null,null,null,null,null,null,null,null,null,null,71]
[null,null,null,null,null,null,null,null,null,null,null,null,null,null,null,null,72]
[]
[null,null,null,null,null,null,null,null,null,null,null,null,null,null,null,null,73]
[null,null,null,null,null,null,null,null,null,null,null,null,null,null,null,null,74]
[]
[null,null,null,null,null,null,null,null,null,null,null,null,null,null,null,null,75]
[null,null,null,null,null,null,null,null,null,null,null,null,null,null,null,null,76]
[]
[null,null,null,null,null,null,null,null,null,null,null,null,null,null,null,null,77]
[null,null,null,null,null,null,null,null,null,null,null,null,null,null,null,null,78]
[]
[null,null,null,null,null,null,null,null,null,null,null,null,null,null,null,null,79]
[null,null,null,null,null,null,null,null,null,null,null,null,null,null,null,null,80]
[]
[null,null,null,null,null,null,null,null,null,null,null,null,null,null,null,null,81]
[null,null,null,null,null,null,null,null,null,null,null,null,null,null,null,null,82]
[]
[null,null,null,null,null,null,null,null,null,null,null,null,null,null,null,null,83]
[null,null,null,null,null,null,null,null,null,null,null,null,null,null,null,null,84]
[]
[null,null,null,null,null,null,null,null,null,null,null,null,null,null,null,null,85]
[null,null,null,null,null,null,null,null,null,null,null,null,null,null,null,null,86]
[]
[null,null,null,null,null,null,null,null,null,null,null,null,null,null,null,null,87]
[null,null,null,null,null,null,null,null,null,null,null,null,null,null,null,null,88]
[]
[null,null,null,null,null,null,null,null,null,null,null,null,null,null,null,null,89]
[null,null,null,null,null,null,null,null,null,null,null,null,null,null,null,null,90]
[]
[null,null,null,null,null,null,null,null,null,null,null,null,null,null,null,null,91]
[null,null,null,null,null,null,null,null,null,null,null,null,null,null,null,null,92]
[]
[null,null,null,null,null,null,null,null,null,null,null,null,null,null,null,null,93]
[]
[null,null,null,null,null,null,null,null,null,null,null,null,null,null,null,null,94]
[null,null,null,null,null,null,null,null,null,null,null,null,null,null,null,null,95]