{"text_format":"1","workbook":"xlsx","n_sheets":14,"sheets":["MICKAPPS","AFC","ECHFMTELEVE","NOTE1","SAELEVE1","REGLES","MATCHS CLASSIQUES","MATCHS ZONES","MATCHS STRATEGIQUES","MATCHSSCORE","SUIVI TACTIQUE","APPEL","DEBUT","SAMICBIS"],"not_rendered":{"charts":0,"images":78,"macros":0,"external_links":1,"defined_names":74,"comments":0,"pivot_tables":0},"unopened":[],"bounds":{"document_bytes":16777216,"sheet_cells":100000,"rows_first":2000,"rows_last":500,"rows_between":2000,"halvings":0,"cell_chars":16384,"cell_head_chars":4096},"cells_cut":0,"cells_raw":0,"read":"whole","date_system":"1900"}

{"sheet":"MICKAPPS","index":0,"n_rows":24,"n_cols":8,"rows_kept":24,"cut":false,"hidden":false,"merged":[[15,3,15,6],[22,7,22,10],[23,7,23,9],[17,3,17,6],[16,3,16,6],[17,7,17,11]]}
[]
[]
[]
[]
[]
[]
[]
[]
[]
[]
[]
[]
[]
[]
[]
[null,null,null,"BAD COACH"]
[null,null,null,"Contenus  inspirés des travaux de :",null,null,null,"Schémas réalisés à l'aide des images 3D de N.ROUDNEFF"]
[null,null,null,"Bertrand GAUTHE - Pierre PEZELIER\nNicolas MASCRET",null,null,null,"Certains schémas récupérés de l'application Défis Badminton de LACROIX (Académie de Créteil)"]
[]
[]
[]
[]
[null,null,null,null,null,null,null,"mickael.da-costa@ac-lyon.fr"]
[null,null,null,null,null,null,null,"acmickeps.wordpress.com"]

{"sheet":"AFC","index":1,"n_rows":13,"n_cols":7,"rows_kept":13,"cut":false,"hidden":false,"merged":[[3,1,3,6],[7,1,7,6],[11,1,11,6],[1,1,1,6]]}
[]
[null,"CHAMP D'APPRENTISSAGE N°4 : Conduire et maîtriser un affrontement individuel ou collectif"]
[]
[null,"ATTENDUS DE FIN DE CYCLE simplifiés"]
[null,"A1","A2","A3","A4","A5","A6"]
[null,"Etre capable de s'échauffer en équipe","Etre capable de produire des trajectoires variées : service long et court, dégagé, amorti, tendu, smash","Etre capable de faire des choix tactiques adaptés à mes possiblités techniques et au profil de l'adversaire","Etre capable d'entrainer un partenaire et de s'entrainer à partir de choix éclairés","Coacher un partenaire pour l'aider à progresser","Arbitrer un match"]
[]
[null,"FORME DE PRATIQUE SCOLAIRE - SITUATION D'EVALUATION"]
[null,"PROTOCOLE","AVANT LE MATCH","PENDANT LE MATCH","PENDANT LE MATCH","A LA FIN DU MATCH COMPLET","PENDANT LE CYCLE"]
[null,"Les joueurs sont par équipes de 2 (un n°1 et un n° 2) . Les n° 1 s'affrontent en un set de 11 pts. Puis ce sont les n°2. On ajoute ensuite leur score et les élèves s'affrontent en double. La 1ère équipe à atteindre 25 pts gagne.","Les élèves choisissent une stratégie et une tactique adaptée. ","Dès qu'un des 2 joueurs atteint 6 points, un temps mort d'une minute est accordé. En concertation avec son partenaire coach Ils peuvent modifier la tactique choisie. ","Les 2 partenaires observent les points marqués en ou hors zones dangereuses ","Chaque joueur choisit une tactique qu'il aimerait travailler avec son partenaire et le type d'exercice (multi-volant, routine, match à thème)","Chaque joueur expérime différentes tactiques et réalisent des exercices pour progresser parmis celles qui sont le plus adaptées à son profil"]
[]
[null,"Critères d'évaluation"]
[null,"Choix d'une tactique d'avant match - Régulation de cette tactique pendant le match","Nombre de points marqués en zones dangereuses / hors zones dangereuses","Classements : défi, matchs joués, matchs gagnés, points marqués, encaissés, points thèmes, …","Temps de travail sur les situations d'apprentissages choisies","Qualité de la relation coach-joueur-adversaire","Analyse de son match et de son profil de jeu"]

{"sheet":"ECHFMTELEVE","index":2,"n_rows":18,"n_cols":6,"rows_kept":18,"cut":false,"hidden":false,"merged":[[5,5,10,7],[12,5,15,7],[17,5,21,7],[2,3,2,4],[4,3,4,4],[11,3,11,4],[16,3,16,4],[5,3,10,4],[12,3,15,4],[17,3,21,4]]}
[]
["Classe ","TELEC"]
["TERRAIN",1,null,"ECHAUFFEMENT détaillé"]
[1,"Mohamed"]
[2,null,null,{"$f":"VLOOKUP($D$3,DEBUT!$A$2:$M$16,2,FALSE)","v":"Echauffement cardio-pulmonaire"},null,{"$f":"VLOOKUP($D$3,DEBUT!$A$2:$M$16,4,FALSE)","v":"5 min"}]
[3,null,null,{"$f":"VLOOKUP($D$3,DEBUT!$A$2:$M$16,3,FALSE)","v":"3 A-R course / Montée genoux / Talons fesses / Pas chassés / Pas croisés / Flexions / Extensions / Course arrière / Appuis arrières / Accélération progressive (60% - 70% - 80% - 90%)"},null,{"$f":"VLOOKUP($D$3,DEBUT!$A$2:$M$16,5,FALSE)","v":"Progressivité / Complet / "}]
[4]
[5]
[6]
[]
[]
[null,null,null,{"$f":"VLOOKUP($D$3,DEBUT!$A$2:$M$16,6,FALSE)","v":"Mobilisation articulaire"},null,{"$f":"VLOOKUP($D$3,DEBUT!$A$2:$M$16,8,FALSE)","v":"3 min"}]
[null,null,null,{"$f":"VLOOKUP($D$3,DEBUT!$A$2:$M$16,7,FALSE)","v":"Cou / Epaules / Coudes / Poignets / Bassin / Genoux / Chevilles"},null,{"$f":"VLOOKUP($D$3,DEBUT!$A$2:$M$16,9,FALSE)","v":"Du haut vers le bas"}]
[]
[]
[]
[null,null,null,{"$f":"VLOOKUP($D$3,DEBUT!$A$2:$M$16,10,FALSE)","v":"Etirements dynamiques"},null,{"$f":"VLOOKUP($D$3,DEBUT!$A$2:$M$16,12,FALSE)","v":"3 min"}]
[null,null,null,{"$f":"VLOOKUP($D$3,DEBUT!$A$2:$M$16,11,FALSE)","v":"Triceps / Biceps / Epaules / Adducteurs / ischios / Quadriceps / Mollets"},null,{"$f":"VLOOKUP($D$3,DEBUT!$A$2:$M$16,13,FALSE)","v":"Du haut vers le bas / Tenir 7\"actif + \n4\" mouvement dynamique"}]

{"sheet":"NOTE1","index":3,"n_rows":14,"n_cols":4,"rows_kept":14,"cut":false,"hidden":false,"merged":[]}
[]
[]
[]
[]
[null,"NOTE D'ECHAUFFEMENT DU GROUPE","NOTES"]
[]
[null,"Les 3 parties sont réalisées…",null,"/3"]
[null,"…complètement…",null,"/5"]
[null,"…de manière logique…",null,"/3"]
[null,"…sans perte de temps…",null,"/3"]
[null,"…et bien démontrées…",null,"/5"]
[null,"..et en plus mes camarades m'ont bien suivi!",null,"/1"]
[null,"QUESTION  BONUS vers le PROF",null,"/2"]
[null,"NOTE",{"$f":"SUM(C7:C13)","v":0},"/20"]

{"sheet":"SAELEVE1","index":4,"n_rows":19,"n_cols":11,"rows_kept":19,"cut":false,"hidden":false,"merged":[[2,2,3,2],[2,3,3,4],[2,6,2,9],[7,17,7,18],[9,2,9,6],[9,7,9,10],[8,2,8,6],[8,7,8,10],[2,10,3,10],[3,6,3,9],[4,2,4,6],[4,7,4,10],[7,7,7,10],[5,7,5,10],[6,7,6,10],[5,2,7,6],[13,2,13,4],[13,5,13,7],[13,8,13,10],[12,2,12,10],[18,2,18,10],[14,2,14,4],[14,5,14,7],[14,8,14,10],[15,2,15,10],[16,2,16,10],[17,2,17,10],[1,3,1,9],[1,0,1,2],[0,8,0,9],[0,10,1,10],[0,3,0,6]]}
[null,null,"Thème","Jouer sur la profondeur",null,null,null,"Type SA ->","SEQUENCE DE JEU 1",null,{"$f":"INDEX(choixsa,MATCH(I1,situations,0),MATCH(D2,tactiques,0))","v":{"$error":"#N/A"}}]
["Tactique"]
[null,null,"BAD","MT-pied bloqué sur tapis",null,"Obj",{"$f":"VLOOKUP($D$3,SAMICBIS!$A$3:$T$500,5,FALSE)","v":"Jouer en dehors de la zone centrale"},null,null,null,{"$f":"VLOOKUP($D$3,SAMICBIS!$A$3:$T$70,2,FALSE)","v":{"$error":"#N/A"}}]
[null,null,null,null,null,"But",{"$f":"VLOOKUP($D$3,SAMICBIS!$A$3:$T$500,6,FALSE)","v":"Faire sortir l'adversaire du tapis et viser hors de la zone centrale"}]
[null,null,"Schéma / Matériel nécessaire",null,null,null,null,"Matériel nécessaire"]
[null,null,null,null,null,null,null,{"$f":"VLOOKUP($D$3,SAMICBIS!$A$3:$T$500,13,FALSE)","v":"1 tapis ou 1 zone matéralisée par 4 pastilles sur le terrain. A environ 1m de la zone morte"}]
[null,null,null,null,null,null,null,"Consignes"]
[null,null,null,null,null,null,null,{"$f":"CONCATENATE(VLOOKUP($D$3,SAMICBIS!$A$3:$T$500,8,FALSE),\"  -  \",VLOOKUP($D$3,SAMICBIS!$A$3:$T$500,10,FALSE))","v":"Un des 2 joueurs commence en étant bloqué sur le tapis (il ne peut sortir qu'un seul pied de ce tapis sinon il fait faute). Ils réalisent un match en 11 pts. Puis ils font la revanche en échangeant les rôles.  -  On peut interdire de sortir du tapis"}]
[null,null,"Critères de réussite",null,null,null,null,"Conseils pour réussir"]
[null,null,{"$f":"VLOOKUP($D$3,SAMICBIS!$A$3:$T$500,14,FALSE)","v":"Mon adversaire en régulièrement en difficulté pour renvoyer mes volants."},null,null,null,null,{"$f":"VLOOKUP($D$3,SAMICBIS!$A$3:$T$500,12,FALSE)","v":"Jouer court, long, à droite et à gauche pour marquer un point"}]
[]
[]
[null,null,"ACQUISITIONS PRIORITAIRES"]
[null,null,"Connaissances",null,null,"Capacités",null,null,"Attitudes"]
[null,null,{"$f":"VLOOKUP($D$3,SAMICBIS!$A$3:$T$500,16,FALSE)","v":0},null,null,{"$f":"VLOOKUP($D$3,SAMICBIS!$A$3:$T$500,17,FALSE)","v":0},null,null,{"$f":"VLOOKUP($D$3,SAMICBIS!$A$3:$T$500,18,FALSE)","v":0}]
[null,null,"COMPLEXIFICATION "]
[null,null,{"$f":"VLOOKUP($D$3,SAMICBIS!$A$3:$T$500,19,FALSE)","v":0}]
[null,null,"Simplification"]
[null,null,{"$f":"VLOOKUP($D$3,SAMICBIS!$A$3:$T$500,20,FALSE)","v":0}]

{"sheet":"REGLES","index":5,"n_rows":6,"n_cols":6,"rows_kept":6,"cut":false,"hidden":false,"merged":[[3,3,4,3],[3,4,4,4]]}
[]
[null,null,"ZONES"]
[null,null,"Couloir latéral= faute en simple\nmais compte en double",null,null,"...SI JE TIRE DANS LE COULOIR \nOU HORS DU TERRAIN"]
[null,"...SI LE VOLANT DE L'ADV TOUCHE LE SOL DE MON 1/2 TERRAIN","Mon SCORE de SERVEUR est IMPAIR \n(1, 3, 5,…) Je sers à GAUCHE","...SI JE TIRE DANS LE FILET \nOU \nSI JE TOUCHE LE FILET AVEC MON CORPS ou MA RAQUETTE","...SI JE TIRE DANS LA ZONE MORTE AU SERVICE"]
[null,null,"Mon SCORE de SERVEUR est PAIR\n(0, 2, 4,..) Je sers à DROITE",null,null,"...SI JE NE SERT PAS EN DIAGONALE"]
[null,null,"Couloir latéral= faute en simple\nmais compte en double"]

{"sheet":"MATCHS CLASSIQUES","index":6,"n_rows":24,"n_cols":1106,"rows_kept":24,"cut":false,"hidden":false,"merged":[[0,11,1,13],[1,314,1,316],[1,318,1,320],[1,326,1,328],[1,330,1,332],[1,268,1,270],[1,272,1,274],[1,303,1,305],[1,307,1,309],[1,165,1,167],[1,169,1,171],[1,96,1,98],[1,100,1,102],[1,107,1,109],[1,111,1,113],[0,34,1,36],[1,27,1,29],[1,31,1,33],[1,38,1,40],[1,50,1,52],[1,54,1,56],[1,61,1,63],[1,65,1,67],[0,149,1,151],[5,162,16,162],[5,116,16,116],[5,139,16,139],[5,300,16,300],[5,323,16,323],[5,346,16,346],[5,645,16,645],[5,668,16,668],[5,691,16,691],[1,717,1,719],[1,721,1,723],[1,728,1,730],[1,732,1,734],[0,609,1,611],[1,648,1,650],[0,701,1,703],[0,724,1,726],[0,747,1,749],[1,694,1,696],[1,698,1,700],[1,705,1,707],[1,709,1,711],[1,686,1,688],[1,579,1,581],[1,583,1,585],[1,590,1,592],[1,594,1,596],[1,510,1,512],[1,514,1,516],[1,521,1,523],[1,525,1,527],[1,479,1,481],[0,563,1,565],[1,556,1,558],[1,560,1,562],[0,402,1,404],[1,372,1,374],[1,376,1,378],[2,760,4,760],[2,737,4,737],[2,714,4,714],[2,622,4,622],[2,553,4,553],[2,461,4,461],[2,484,4,484],[2,438,4,438],[2,415,4,415],[2,392,4,392],[0,586,1,588],[1,567,1,569],[1,571,1,573],[2,668,4,668],[2,691,4,691],[1,652,1,654],[1,659,1,661],[1,663,1,665],[1,671,1,673],[1,675,1,677],[1,682,1,684],[2,162,4,162],[2,139,4,139],[2,806,4,806],[17,484,24,484],[19,471,19,474],[20,448,22,448],[5,806,16,806],[5,484,16,484],[5,507,16,507],[5,530,16,530],[5,553,16,553],[5,277,16,277],[5,369,16,369],[5,392,16,392],[5,415,16,415],[22,200,22,201],[20,195,22,195],[17,208,24,208],[19,195,19,198],[5,760,16,760],[5,737,16,737],[5,576,16,576],[5,461,16,461],[5,438,16,438],[19,11,19,14],[17,806,24,806],[20,757,22,757],[17,599,24,599],[20,343,22,343],[20,312,22,313],[20,315,20,316],[20,174,22,175],[17,162,24,162],[22,31,22,32],[22,39,22,40],[23,34,23,37],[17,24,24,24],[20,11,22,11],[20,13,22,14],[23,11,23,14],[20,519,22,520],[17,507,24,507],[17,530,24,530],[19,494,19,497],[19,517,19,520],[20,16,20,17],[22,16,22,17],[23,126,23,129],[5,24,16,24],[5,714,16,714],[5,599,16,599],[5,622,16,622],[5,185,16,185],[5,208,16,208],[5,93,16,93],[17,300,24,300],[20,307,20,308],[20,310,22,310],[20,241,22,241],[17,231,24,231],[20,238,20,239],[20,243,22,244],[20,246,20,247],[20,113,22,113],[17,116,24,116],[17,139,24,139],[19,126,19,129],[20,136,22,136],[17,93,24,93],[19,80,19,83],[19,103,19,106],[20,77,20,78],[20,8,20,9],[22,8,22,9],[20,793,22,793],[1,4,1,6],[1,8,1,10],[1,15,1,17],[1,19,1,21],[20,21,22,21],[20,744,20,745],[20,747,22,747],[20,749,22,750],[20,752,20,753],[17,668,24,668],[17,691,24,691],[19,655,19,658],[19,678,19,681],[17,622,24,622],[17,645,24,645],[19,632,19,635],[20,629,20,630],[17,553,24,553],[17,576,24,576],[19,563,19,566],[19,586,19,589],[5,70,16,70],[1,42,1,44],[2,47,4,47],[5,47,16,47],[17,47,24,47],[19,34,19,37],[20,31,20,32],[20,34,22,34],[20,36,22,37],[20,39,20,40],[20,44,22,44],[2,24,4,24],[2,93,4,93],[2,116,4,116],[23,57,23,60],[2,70,4,70],[17,70,24,70],[0,80,1,82],[0,103,1,105],[0,126,1,128],[1,73,1,75],[1,77,1,79],[1,84,1,86],[1,88,1,90],[19,57,19,60],[20,54,20,55],[20,57,22,57],[20,59,22,60],[20,62,20,63],[20,67,22,67],[22,54,22,55],[22,62,22,63],[0,57,1,59],[23,80,23,83],[23,103,23,106],[0,172,1,174],[0,195,1,197],[1,142,1,144],[1,146,1,148],[1,153,1,155],[1,157,1,159],[22,77,22,78],[22,85,22,86],[22,100,22,101],[22,108,22,109],[22,123,22,124],[22,131,22,132],[20,105,22,106],[20,108,20,109],[20,123,20,124],[20,126,22,126],[20,128,22,129],[20,131,20,132],[20,80,22,80],[20,82,22,83],[20,85,20,86],[20,90,22,90],[20,100,20,101],[20,103,22,103],[1,119,1,121],[1,123,1,125],[1,130,1,132],[1,134,1,136],[22,146,22,147],[22,154,22,155],[22,169,22,170],[22,177,22,178],[22,192,22,193],[20,169,20,170],[20,172,22,172],[20,177,20,178],[20,182,22,182],[20,192,20,193],[17,185,24,185],[19,149,19,152],[19,172,19,175],[20,146,20,147],[20,149,22,149],[20,151,22,152],[20,154,20,155],[20,159,22,159],[23,149,23,152],[23,172,23,175],[20,220,22,221],[20,223,20,224],[20,228,22,228],[1,234,1,236],[1,238,1,240],[1,245,1,247],[1,249,1,251],[1,257,1,259],[1,261,1,263],[2,254,4,254],[2,231,4,231],[5,254,16,254],[5,231,16,231],[23,195,23,198],[0,218,1,220],[0,241,1,243],[0,264,1,266],[1,211,1,213],[1,215,1,217],[1,222,1,224],[1,226,1,228],[20,197,22,198],[20,200,20,201],[20,205,22,205],[23,218,23,221],[23,241,23,244],[23,264,23,267],[22,215,22,216],[22,223,22,224],[22,238,22,239],[22,246,22,247],[22,261,22,262],[19,218,19,221],[19,241,19,244],[19,264,19,267],[20,215,20,216],[20,218,22,218],[1,176,1,178],[1,180,1,182],[1,188,1,190],[1,192,1,194],[1,199,1,201],[1,203,1,205],[2,300,4,300],[2,323,4,323],[2,346,4,346],[0,287,1,289],[0,310,1,312],[0,333,1,335],[1,280,1,282],[1,284,1,286],[1,291,1,293],[1,295,1,297],[2,277,4,277],[2,208,4,208],[2,185,4,185],[22,269,22,270],[20,251,22,251],[20,261,20,262],[20,264,22,264],[20,266,22,267],[20,269,20,270],[20,274,22,274],[17,254,24,254],[17,277,24,277],[0,356,1,358],[0,379,1,381],[1,349,1,351],[1,353,1,355],[1,360,1,362],[1,364,1,366],[20,320,22,320],[20,330,20,331],[20,333,22,333],[20,335,22,336],[20,338,20,339],[1,337,1,339],[1,341,1,343],[22,353,22,354],[22,361,22,362],[22,376,22,377],[20,353,20,354],[20,356,22,356],[20,358,22,359],[20,361,20,362],[20,366,22,366],[22,284,22,285],[22,292,22,293],[22,307,22,308],[22,315,22,316],[22,330,22,331],[17,323,24,323],[17,346,24,346],[19,287,19,290],[19,310,19,313],[19,333,19,336],[20,284,20,285],[20,287,22,287],[20,289,22,290],[20,292,20,293],[20,297,22,297],[22,338,22,339],[23,287,23,290],[23,310,23,313],[23,333,23,336],[20,381,22,382],[22,384,22,385],[22,399,22,400],[22,407,22,408],[20,384,20,385],[20,389,22,389],[20,399,20,400],[20,402,22,402],[20,404,22,405],[20,407,20,408],[17,392,24,392],[23,356,23,359],[23,379,23,382],[23,402,23,405],[0,425,1,427],[0,471,1,473],[1,418,1,420],[1,422,1,424],[1,429,1,431],[1,433,1,435],[1,441,1,443],[1,387,1,389],[1,395,1,397],[1,399,1,401],[1,406,1,408],[1,410,1,412],[2,369,4,369],[17,415,24,415],[19,356,19,359],[19,379,19,382],[19,402,19,405],[20,412,22,412],[17,369,24,369],[20,376,20,377],[20,379,22,379],[20,545,20,546],[20,550,22,550],[22,491,22,492],[22,499,22,500],[22,514,22,515],[22,522,22,523],[22,537,22,538],[22,545,22,546],[1,383,1,385],[0,448,1,450],[1,544,1,546],[1,548,1,550],[2,507,4,507],[2,530,4,530],[0,494,1,496],[0,517,1,519],[0,540,1,542],[1,487,1,489],[1,491,1,493],[1,498,1,500],[1,502,1,504],[20,476,20,477],[20,481,22,481],[22,422,22,423],[1,533,1,535],[1,537,1,539],[20,422,20,423],[20,425,22,425],[20,427,22,428],[20,430,20,431],[17,438,24,438],[19,425,19,428],[19,448,19,451],[20,537,20,538],[23,425,23,428],[23,448,23,451],[23,471,23,474],[22,430,22,431],[20,435,22,435],[20,445,20,446],[1,445,1,447],[1,452,1,454],[1,456,1,458],[1,464,1,466],[1,468,1,470],[1,475,1,477],[23,494,23,497],[23,517,23,520],[23,540,23,543],[22,445,22,446],[22,453,22,454],[22,468,22,469],[22,476,22,477],[20,450,22,451],[20,453,20,454],[20,458,22,458],[20,468,20,469],[20,471,22,471],[20,473,22,474],[17,461,24,461],[19,540,19,543],[20,491,20,492],[20,494,22,494],[20,540,22,540],[20,542,22,543],[20,596,22,596],[20,606,20,607],[20,609,22,609],[20,611,22,612],[20,614,20,615],[20,496,22,497],[20,499,20,500],[20,504,22,504],[20,514,20,515],[20,517,22,517],[20,522,20,523],[20,527,22,527],[20,560,20,561],[20,563,22,563],[20,565,22,566],[20,568,20,569],[20,573,22,573],[20,583,20,584],[20,586,22,586],[20,588,22,589],[20,591,20,592],[22,560,22,561],[22,568,22,569],[22,583,22,584],[22,591,22,592],[23,563,23,566],[23,586,23,589],[23,609,23,612],[0,632,1,634],[0,655,1,657],[0,678,1,680],[1,625,1,627],[1,629,1,631],[1,636,1,638],[1,640,1,642],[1,602,1,604],[1,606,1,608],[1,613,1,615],[1,617,1,619],[2,576,4,576],[2,599,4,599],[23,632,23,635],[23,655,23,658],[23,678,23,681],[2,645,4,645],[20,619,22,619],[19,609,19,612],[22,606,22,607],[22,614,22,615],[20,683,20,684],[20,688,22,688],[22,629,22,630],[22,637,22,638],[22,652,22,653],[22,660,22,661],[22,675,22,676],[22,683,22,684],[20,657,22,658],[20,660,20,661],[20,665,22,665],[20,675,20,676],[20,678,22,678],[20,680,22,681],[20,632,22,632],[20,634,22,635],[20,637,20,638],[20,642,22,642],[20,652,20,653],[20,655,22,655],[1,763,1,765],[1,767,1,769],[1,774,1,776],[1,778,1,780],[1,786,1,788],[1,790,1,792],[1,797,1,799],[22,729,22,730],[22,744,22,745],[22,752,22,753],[17,760,24,760],[5,783,16,783],[1,740,1,742],[1,744,1,746],[1,751,1,753],[1,755,1,757],[20,767,20,768],[20,770,22,770],[20,772,22,773],[20,775,20,776],[20,780,22,780],[20,790,20,791],[22,767,22,768],[22,775,22,776],[23,701,23,704],[23,724,23,727],[23,747,23,750],[20,698,20,699],[20,701,22,701],[20,703,22,704],[20,706,20,707],[20,711,22,711],[20,721,20,722],[22,698,22,699],[22,706,22,707],[22,721,22,722],[17,714,24,714],[17,737,24,737],[19,701,19,704],[19,724,19,727],[19,747,19,750],[20,724,22,724],[20,726,22,727],[20,729,20,730],[20,734,22,734],[17,829,24,829],[19,770,19,773],[19,793,19,796],[19,816,19,819],[20,795,22,796],[20,798,20,799],[1,801,1,803],[1,809,1,811],[1,813,1,815],[1,820,1,822],[1,824,1,826],[2,783,4,783],[0,770,1,772],[0,793,1,795],[0,816,1,818],[23,770,23,773],[23,793,23,796],[23,816,23,819],[20,803,22,803],[20,813,20,814],[20,816,22,816],[20,818,22,819],[20,821,20,822],[20,826,22,826],[22,790,22,791],[22,798,22,799],[22,813,22,814],[22,821,22,822],[17,783,24,783],[1,889,1,891],[1,893,1,895],[2,852,4,852],[2,875,4,875],[0,839,1,841],[0,862,1,864],[0,885,1,887],[1,832,1,834],[1,836,1,838],[1,843,1,845],[1,847,1,849],[1,855,1,857],[1,859,1,861],[1,866,1,868],[17,852,24,852],[17,875,24,875],[23,885,23,888],[1,870,1,872],[1,878,1,880],[17,898,24,898],[20,864,22,865],[20,867,20,868],[20,872,22,872],[22,890,22,891],[2,829,4,829],[22,836,22,837],[22,844,22,845],[22,859,22,860],[22,867,22,868],[22,882,22,883],[19,839,19,842],[19,862,19,865],[19,885,19,888],[20,836,20,837],[20,839,22,839],[20,841,22,842],[20,844,20,845],[20,849,22,849],[20,859,20,860],[20,862,22,862],[5,829,16,829],[23,839,23,842],[23,862,23,865],[1,962,1,964],[2,921,4,921],[2,944,4,944],[2,967,4,967],[0,954,1,956],[1,901,1,903],[1,905,1,907],[1,912,1,914],[1,916,1,918],[1,924,1,926],[1,928,1,930],[1,935,1,937],[1,939,1,941],[1,947,1,949],[0,908,1,910],[0,931,1,933],[1,882,1,884],[22,905,22,906],[22,913,22,914],[22,928,22,929],[2,898,4,898],[5,852,16,852],[5,875,16,875],[5,898,16,898],[19,954,19,957],[20,908,22,908],[20,910,22,911],[22,936,22,937],[22,951,22,952],[1,951,1,953],[5,944,16,944],[5,921,16,921],[20,905,20,906],[20,913,20,914],[20,918,22,918],[20,882,20,883],[20,885,22,885],[20,887,22,888],[20,890,20,891],[20,895,22,895],[20,928,20,929],[20,931,22,931],[20,933,22,934],[20,936,20,937],[20,941,22,941],[20,951,20,952],[23,908,23,911],[23,931,23,934],[23,954,23,957],[17,921,24,921],[17,944,24,944],[19,908,19,911],[19,931,19,934],[0,977,1,979],[0,1000,1,1002],[0,1023,1,1025],[1,1008,1,1010],[1,1016,1,1018],[1,1020,1,1022],[17,990,24,990],[20,954,22,954],[20,956,22,957],[20,959,20,960],[20,964,22,964],[1,958,1,960],[1,970,1,972],[5,967,16,967],[17,967,24,967],[1,974,1,976],[1,981,1,983],[1,985,1,987],[1,993,1,995],[1,997,1,999],[1,1004,1,1006],[22,1005,22,1006],[22,1020,22,1021],[22,959,22,960],[1,1100,1,1102],[1,1027,1,1029],[1,1031,1,1033],[1,1039,1,1041],[1,1043,1,1045],[1,1050,1,1052],[1,1054,1,1056],[2,990,4,990],[2,1013,4,1013],[2,1036,4,1036],[2,1059,4,1059],[2,1082,4,1082],[1,1085,1,1087],[1,1089,1,1091],[1,1096,1,1098],[0,1046,1,1048],[0,1069,1,1071],[0,1092,1,1094],[1,1062,1,1064],[1,1066,1,1068],[1,1073,1,1075],[1,1077,1,1079],[2,1105,4,1105],[5,990,16,990],[5,1013,16,1013],[5,1036,16,1036],[5,1059,16,1059],[5,1082,16,1082],[5,1105,16,1105],[17,1082,24,1082],[17,1105,24,1105],[19,1092,19,1095],[20,1023,22,1023],[20,1025,22,1026],[20,1074,20,1075],[20,1079,22,1079],[22,1074,22,1075],[20,1002,22,1003],[20,1005,20,1006],[20,1010,22,1010],[20,1020,20,1021],[17,1013,24,1013],[17,1036,24,1036],[17,1059,24,1059],[20,1089,20,1090],[20,1092,22,1092],[20,974,20,975],[20,977,22,977],[20,979,22,980],[20,982,20,983],[20,987,22,987],[20,1056,22,1056],[20,1066,20,1067],[20,1069,22,1069],[20,1071,22,1072],[22,1066,22,1067],[20,1028,20,1029],[20,1033,22,1033],[20,1043,20,1044],[20,1046,22,1046],[20,1048,22,1049],[20,1051,20,1052],[22,1051,22,1052],[20,997,20,998],[20,1000,22,1000],[22,974,22,975],[22,982,22,983],[22,997,22,998],[19,977,19,980],[19,1000,19,1003],[19,1023,19,1026],[23,977,23,980],[23,1000,23,1003],[23,1023,23,1026],[23,1046,23,1049],[19,1046,19,1049],[19,1069,19,1072],[23,1069,23,1072],[23,1092,23,1095],[20,1094,22,1095],[20,1097,20,1098],[20,1102,22,1102],[22,1089,22,1090],[22,1097,22,1098],[22,1028,22,1029],[22,1043,22,1044]]}
[null,null,null,null,null,null,null,null,null,null,null,"MATCH 1",null,null,null,null,null,null,null,null,null,null,null,null,null,null,null,null,null,null,null,null,null,null,"MATCH 2",null,null,null,null,null,null,null,null,null,null,null,null,null,null,null,null,null,null,null,null,null,null,"MATCH 3",null,null,null,null,null,null,null,null,null,null,null,null,null,null,null,null,null,null,null,null,null,null,"MATCH 1",null,null,null,null,null,null,null,null,null,null,null,null,null,null,null,null,null,null,null,null,null,null,"MATCH 2",null,null,null,null,null,null,null,null,null,null,null,null,null,null,null,null,null,null,null,null,null,null,"MATCH 3",null,null,null,null,null,null,null,null,null,null,null,null,null,null,null,null,null,null,null,null,null,null,"MATCH 1",null,null,null,null,null,null,null,null,null,null,null,null,null,null,null,null,null,null,null,null,null,null,"MATCH 2",null,null,null,null,null,null,null,null,null,null,null,null,null,null,null,null,null,null,null,null,null,null,"MATCH 3",null,null,null,null,null,null,null,null,null,null,null,null,null,null,null,null,null,null,null,null,null,null,"MATCH 1",null,null,null,null,null,null,null,null,null,null,null,null,null,null,null,null,null,null,null,null,null,null,"MATCH 2",null,null,null,null,null,null,null,null,null,null,null,null,null,null,null,null,null,null,null,null,null,null,"MATCH 3",null,null,null,null,null,null,null,null,null,null,null,null,null,null,null,null,null,null,null,null,null,null,"MATCH 1",null,null,null,null,null,null,null,null,null,null,null,null,null,null,null,null,null,null,null,null,null,null,"MATCH 2",null,null,null,null,null,null,null,null,null,null,null,null,null,null,null,null,null,null,null,null,null,null,"MATCH 3",null,null,null,null,null,null,null,null,null,null,null,null,null,null,null,null,null,null,null,null,null,null,"MATCH 1",null,null,null,null,null,null,null,null,null,null,null,null,null,null,null,null,null,null,null,null,null,null,"MATCH 2",null,null,null,null,null,null,null,null,null,null,null,null,null,null,null,null,null,null,null,null,null,null,"MATCH 3",null,null,null,null,null,null,null,null,null,null,null,null,null,null,null,null,null,null,null,null,null,null,"MATCH 1",null,null,null,null,null,null,null,null,null,null,null,null,null,null,null,null,null,null,null,null,null,null,"MATCH 2",null,null,null,null,null,null,null,null,null,null,null,null,null,null,null,null,null,null,null,null,null,null,"MATCH 3",null,null,null,null,null,null,null,null,null,null,null,null,null,null,null,null,null,null,null,null,null,null,"MATCH 1",null,null,null,null,null,null,null,null,null,null,null,null,null,null,null,null,null,null,null,null,null,null,"MATCH 2",null,null,null,null,null,null,null,null,null,null,null,null,null,null,null,null,null,null,null,null,null,null,"MATCH 3",null,null,null,null,null,null,null,null,null,null,null,null,null,null,null,null,null,null,null,null,null,null,"MATCH 1",null,null,null,null,null,null,null,null,null,null,null,null,null,null,null,null,null,null,null,null,null,null,"MATCH 2",null,null,null,null,null,null,null,null,null,null,null,null,null,null,null,null,null,null,null,null,null,null,"MATCH 3",null,null,null,null,null,null,null,null,null,null,null,null,null,null,null,null,null,null,null,null,null,null,"MATCH 1",null,null,null,null,null,null,null,null,null,null,null,null,null,null,null,null,null,null,null,null,null,null,"MATCH 2",null,null,null,null,null,null,null,null,null,null,null,null,null,null,null,null,null,null,null,null,null,null,"MATCH 3",null,null,null,null,null,null,null,null,null,null,null,null,null,null,null,null,null,null,null,null,null,null,"MATCH 1",null,null,null,null,null,null,null,null,null,null,null,null,null,null,null,null,null,null,null,null,null,null,"MATCH 2",null,null,null,null,null,null,null,null,null,null,null,null,null,null,null,null,null,null,null,null,null,null,"MATCH 3",null,null,null,null,null,null,null,null,null,null,null,null,null,null,null,null,null,null,null,null,null,null,"MATCH 1",null,null,null,null,null,null,null,null,null,null,null,null,null,null,null,null,null,null,null,null,null,null,"MATCH 2",null,null,null,null,null,null,null,null,null,null,null,null,null,null,null,null,null,null,null,null,null,null,"MATCH 3",null,null,null,null,null,null,null,null,null,null,null,null,null,null,null,null,null,null,null,null,null,null,"MATCH 1",null,null,null,null,null,null,null,null,null,null,null,null,null,null,null,null,null,null,null,null,null,null,"MATCH 2",null,null,null,null,null,null,null,null,null,null,null,null,null,null,null,null,null,null,null,null,null,null,"MATCH 3",null,null,null,null,null,null,null,null,null,null,null,null,null,null,null,null,null,null,null,null,null,null,"MATCH 1",null,null,null,null,null,null,null,null,null,null,null,null,null,null,null,null,null,null,null,null,null,null,"MATCH 2",null,null,null,null,null,null,null,null,null,null,null,null,null,null,null,null,null,null,null,null,null,null,"MATCH 3",null,null,null,null,null,null,null,null,null,null,null,null,null,null,null,null,null,null,null,null,null,null,"MATCH 1",null,null,null,null,null,null,null,null,null,null,null,null,null,null,null,null,null,null,null,null,null,null,"MATCH 2",null,null,null,null,null,null,null,null,null,null,null,null,null,null,null,null,null,null,null,null,null,null,"MATCH 3",null,null,null,null,null,null,null,null,null,null,null,null,null,null,null,null,null,null,null,null,null,null,"MATCH 1",null,null,null,null,null,null,null,null,null,null,null,null,null,null,null,null,null,null,null,null,null,null,"MATCH 2",null,null,null,null,null,null,null,null,null,null,null,null,null,null,null,null,null,null,null,null,null,null,"MATCH 3"]
[null,{"$f":"ECHFMTELEVE!B2","v":"TELEC"},null,"n°1","Adgy",null,null,"SIMPLE 1","Ayoub",null,null,null,null,null,"n°2",null,null,null,"SIMPLE 2",null,null,null,null,null,null,null,"n°1",null,null,null,"SIMPLE 1",null,null,null,null,null,null,"n°2",null,null,null,"SIMPLE 2",null,null,null,null,null,null,null,"n°1",null,null,null,"SIMPLE 1",null,null,null,null,null,null,"n°2",null,null,null,"SIMPLE 2",null,null,null,null,null,null,null,"n°1","Adgy",null,null,"SIMPLE 1","Ayoub",null,null,null,null,null,"n°2",null,null,null,"SIMPLE 2",null,null,null,null,null,null,null,"n°1",null,null,null,"SIMPLE 1",null,null,null,null,null,null,"n°2",null,null,null,"SIMPLE 2",null,null,null,null,null,null,null,"n°1",null,null,null,"SIMPLE 1",null,null,null,null,null,null,"n°2",null,null,null,"SIMPLE 2",null,null,null,null,null,null,null,"n°1","Adgy",null,null,"SIMPLE 1","Ayoub",null,null,null,null,null,"n°2",null,null,null,"SIMPLE 2",null,null,null,null,null,null,null,"n°1",null,null,null,"SIMPLE 1",null,null,null,null,null,null,"n°2",null,null,null,"SIMPLE 2",null,null,null,null,null,null,null,"n°1",null,null,null,"SIMPLE 1",null,null,null,null,null,null,"n°2",null,null,null,"SIMPLE 2",null,null,null,null,null,null,null,"n°1","Adgy",null,null,"SIMPLE 1","Ayoub",null,null,null,null,null,"n°2",null,null,null,"SIMPLE 2",null,null,null,null,null,null,null,"n°1",null,null,null,"SIMPLE 1",null,null,null,null,null,null,"n°2",null,null,null,"SIMPLE 2",null,null,null,null,null,null,null,"n°1",null,null,null,"SIMPLE 1",null,null,null,null,null,null,"n°2",null,null,null,"SIMPLE 2",null,null,null,null,null,null,null,"n°1","Adgy",null,null,"SIMPLE 1","Ayoub",null,null,null,null,null,"n°2",null,null,null,"SIMPLE 2",null,null,null,null,null,null,null,"n°1",null,null,null,"SIMPLE 1",null,null,null,null,null,null,"n°2",null,null,null,"SIMPLE 2",null,null,null,null,null,null,null,"n°1",null,null,null,"SIMPLE 1",null,null,null,null,null,null,"n°2",null,null,null,"SIMPLE 2",null,null,null,null,null,null,null,"n°1","Adgy",null,null,"SIMPLE 1","Ayoub",null,null,null,null,null,"n°2",null,null,null,"SIMPLE 2",null,null,null,null,null,null,null,"n°1",null,null,null,"SIMPLE 1",null,null,null,null,null,null,"n°2",null,null,null,"SIMPLE 2",null,null,null,null,null,null,null,"n°1",null,null,null,"SIMPLE 1",null,null,null,null,null,null,"n°2",null,null,null,"SIMPLE 2",null,null,null,null,null,null,null,"n°1","Adgy",null,null,"SIMPLE 1","Ayoub",null,null,null,null,null,"n°2",null,null,null,"SIMPLE 2",null,null,null,null,null,null,null,"n°1",null,null,null,"SIMPLE 1",null,null,null,null,null,null,"n°2",null,null,null,"SIMPLE 2",null,null,null,null,null,null,null,"n°1",null,null,null,"SIMPLE 1",null,null,null,null,null,null,"n°2",null,null,null,"SIMPLE 2",null,null,null,null,null,null,null,"n°1","Adgy",null,null,"SIMPLE 1","Ayoub",null,null,null,null,null,"n°2",null,null,null,"SIMPLE 2",null,null,null,null,null,null,null,"n°1",null,null,null,"SIMPLE 1",null,null,null,null,null,null,"n°2",null,null,null,"SIMPLE 2",null,null,null,null,null,null,null,"n°1",null,null,null,"SIMPLE 1",null,null,null,null,null,null,"n°2",null,null,null,"SIMPLE 2",null,null,null,null,null,null,null,"n°1","Adgy",null,null,"SIMPLE 1","Ayoub",null,null,null,null,null,"n°2",null,null,null,"SIMPLE 2",null,null,null,null,null,null,null,"n°1",null,null,null,"SIMPLE 1",null,null,null,null,null,null,"n°2",null,null,null,"SIMPLE 2",null,null,null,null,null,null,null,"n°1",null,null,null,"SIMPLE 1",null,null,null,null,null,null,"n°2",null,null,null,"SIMPLE 2",null,null,null,null,null,null,null,"n°1","Adgy",null,null,"SIMPLE 1","Ayoub",null,null,null,null,null,"n°2",null,null,null,"SIMPLE 2",null,null,null,null,null,null,null,"n°1",null,null,null,"SIMPLE 1",null,null,null,null,null,null,"n°2",null,null,null,"SIMPLE 2",null,null,null,null,null,null,null,"n°1",null,null,null,"SIMPLE 1",null,null,null,null,null,null,"n°2",null,null,null,"SIMPLE 2",null,null,null,null,null,null,null,"n°1","Adgy",null,null,"SIMPLE 1","Ayoub",null,null,null,null,null,"n°2",null,null,null,"SIMPLE 2",null,null,null,null,null,null,null,"n°1",null,null,null,"SIMPLE 1",null,null,null,null,null,null,"n°2",null,null,null,"SIMPLE 2",null,null,null,null,null,null,null,"n°1",null,null,null,"SIMPLE 1",null,null,null,null,null,null,"n°2",null,null,null,"SIMPLE 2",null,null,null,null,null,null,null,"n°1","Adgy",null,null,"SIMPLE 1","Ayoub",null,null,null,null,null,"n°2",null,null,null,"SIMPLE 2",null,null,null,null,null,null,null,"n°1",null,null,null,"SIMPLE 1",null,null,null,null,null,null,"n°2",null,null,null,"SIMPLE 2",null,null,null,null,null,null,null,"n°1",null,null,null,"SIMPLE 1",null,null,null,null,null,null,"n°2",null,null,null,"SIMPLE 2",null,null,null,null,null,null,null,"n°1","Adgy",null,null,"SIMPLE 1","Ayoub",null,null,null,null,null,"n°2",null,null,null,"SIMPLE 2",null,null,null,null,null,null,null,"n°1",null,null,null,"SIMPLE 1",null,null,null,null,null,null,"n°2",null,null,null,"SIMPLE 2",null,null,null,null,null,null,null,"n°1",null,null,null,"SIMPLE 1",null,null,null,null,null,null,"n°2",null,null,null,"SIMPLE 2",null,null,null,null,null,null,null,"n°1","Adgy",null,null,"SIMPLE 1","Ayoub",null,null,null,null,null,"n°2",null,null,null,"SIMPLE 2",null,null,null,null,null,null,null,"n°1",null,null,null,"SIMPLE 1",null,null,null,null,null,null,"n°2",null,null,null,"SIMPLE 2",null,null,null,null,null,null,null,"n°1",null,null,null,"SIMPLE 1",null,null,null,null,null,null,"n°2",null,null,null,"SIMPLE 2",null,null,null,null,null,null,null,"n°1","Adgy",null,null,"SIMPLE 1","Ayoub",null,null,null,null,null,"n°2",null,null,null,"SIMPLE 2",null,null,null,null,null,null,null,"n°1",null,null,null,"SIMPLE 1",null,null,null,null,null,null,"n°2",null,null,null,"SIMPLE 2",null,null,null,null,null,null,null,"n°1",null,null,null,"SIMPLE 1",null,null,null,null,null,null,"n°2",null,null,null,"SIMPLE 2",null,null,null,null,null,null,null,"n°1","Adgy",null,null,"SIMPLE 1","Ayoub",null,null,null,null,null,"n°2",null,null,null,"SIMPLE 2",null,null,null,null,null,null,null,"n°1",null,null,null,"SIMPLE 1",null,null,null,null,null,null,"n°2",null,null,null,"SIMPLE 2",null,null,null,null,null,null,null,"n°1",null,null,null,"SIMPLE 1",null,null,null,null,null,null,"n°2",null,null,null,"SIMPLE 2"]
[]
[null,"MATCHS",null,null,null,"SCORE",null,null,null,"SCORE",null,null,null,null,null,null,"SCORE",null,null,null,"SCORE",null,null,null,null,null,null,null,"SCORE",null,null,null,"SCORE",null,null,null,null,null,null,"SCORE",null,null,null,"SCORE",null,null,null,null,null,null,null,"SCORE",null,null,null,"SCORE",null,null,null,null,null,null,"SCORE",null,null,null,"SCORE",null,null,null,null,null,null,null,"SCORE",null,null,null,"SCORE",null,null,null,null,null,null,"SCORE",null,null,null,"SCORE",null,null,null,null,null,null,null,"SCORE",null,null,null,"SCORE",null,null,null,null,null,null,"SCORE",null,null,null,"SCORE",null,null,null,null,null,null,null,"SCORE",null,null,null,"SCORE",null,null,null,null,null,null,"SCORE",null,null,null,"SCORE",null,null,null,null,null,null,null,"SCORE",null,null,null,"SCORE",null,null,null,null,null,null,"SCORE",null,null,null,"SCORE",null,null,null,null,null,null,null,"SCORE",null,null,null,"SCORE",null,null,null,null,null,null,"SCORE",null,null,null,"SCORE",null,null,null,null,null,null,null,"SCORE",null,null,null,"SCORE",null,null,null,null,null,null,"SCORE",null,null,null,"SCORE",null,null,null,null,null,null,null,"SCORE",null,null,null,"SCORE",null,null,null,null,null,null,"SCORE",null,null,null,"SCORE",null,null,null,null,null,null,null,"SCORE",null,null,null,"SCORE",null,null,null,null,null,null,"SCORE",null,null,null,"SCORE",null,null,null,null,null,null,null,"SCORE",null,null,null,"SCORE",null,null,null,null,null,null,"SCORE",null,null,null,"SCORE",null,null,null,null,null,null,null,"SCORE",null,null,null,"SCORE",null,null,null,null,null,null,"SCORE",null,null,null,"SCORE",null,null,null,null,null,null,null,"SCORE",null,null,null,"SCORE",null,null,null,null,null,null,"SCORE",null,null,null,"SCORE",null,null,null,null,null,null,null,"SCORE",null,null,null,"SCORE",null,null,null,null,null,null,"SCORE",null,null,null,"SCORE",null,null,null,null,null,null,null,"SCORE",null,null,null,"SCORE",null,null,null,null,null,null,"SCORE",null,null,null,"SCORE",null,null,null,null,null,null,null,"SCORE",null,null,null,"SCORE",null,null,null,null,null,null,"SCORE",null,null,null,"SCORE",null,null,null,null,null,null,null,"SCORE",null,null,null,"SCORE",null,null,null,null,null,null,"SCORE",null,null,null,"SCORE",null,null,null,null,null,null,null,"SCORE",null,null,null,"SCORE",null,null,null,null,null,null,"SCORE",null,null,null,"SCORE",null,null,null,null,null,null,null,"SCORE",null,null,null,"SCORE",null,null,null,null,null,null,"SCORE",null,null,null,"SCORE",null,null,null,null,null,null,null,"SCORE",null,null,null,"SCORE",null,null,null,null,null,null,"SCORE",null,null,null,"SCORE",null,null,null,null,null,null,null,"SCORE",null,null,null,"SCORE",null,null,null,null,null,null,"SCORE",null,null,null,"SCORE",null,null,null,null,null,null,null,"SCORE",null,null,null,"SCORE",null,null,null,null,null,null,"SCORE",null,null,null,"SCORE",null,null,null,null,null,null,null,"SCORE",null,null,null,"SCORE",null,null,null,null,null,null,"SCORE",null,null,null,"SCORE",null,null,null,null,null,null,null,"SCORE",null,null,null,"SCORE",null,null,null,null,null,null,"SCORE",null,null,null,"SCORE",null,null,null,null,null,null,null,"SCORE",null,null,null,"SCORE",null,null,null,null,null,null,"SCORE",null,null,null,"SCORE",null,null,null,null,null,null,null,"SCORE",null,null,null,"SCORE",null,null,null,null,null,null,"SCORE",null,null,null,"SCORE",null,null,null,null,null,null,null,"SCORE",null,null,null,"SCORE",null,null,null,null,null,null,"SCORE",null,null,null,"SCORE",null,null,null,null,null,null,null,"SCORE",null,null,null,"SCORE",null,null,null,null,null,null,"SCORE",null,null,null,"SCORE",null,null,null,null,null,null,null,"SCORE",null,null,null,"SCORE",null,null,null,null,null,null,"SCORE",null,null,null,"SCORE",null,null,null,null,null,null,null,"SCORE",null,null,null,"SCORE",null,null,null,null,null,null,"SCORE",null,null,null,"SCORE",null,null,null,null,null,null,null,"SCORE",null,null,null,"SCORE",null,null,null,null,null,null,"SCORE",null,null,null,"SCORE",null,null,null,null,null,null,null,"SCORE",null,null,null,"SCORE",null,null,null,null,null,null,"SCORE",null,null,null,"SCORE",null,null,null,null,null,null,null,"SCORE",null,null,null,"SCORE",null,null,null,null,null,null,"SCORE",null,null,null,"SCORE",null,null,null,null,null,null,null,"SCORE",null,null,null,"SCORE",null,null,null,null,null,null,"SCORE",null,null,null,"SCORE",null,null,null,null,null,null,null,"SCORE",null,null,null,"SCORE",null,null,null,null,null,null,"SCORE",null,null,null,"SCORE",null,null,null,null,null,null,null,"SCORE",null,null,null,"SCORE",null,null,null,null,null,null,"SCORE",null,null,null,"SCORE",null,null,null,null,null,null,null,"SCORE",null,null,null,"SCORE",null,null,null,null,null,null,"SCORE",null,null,null,"SCORE",null,null,null,null,null,null,null,"SCORE",null,null,null,"SCORE",null,null,null,null,null,null,"SCORE",null,null,null,"SCORE",null,null,null,null,null,null,null,"SCORE",null,null,null,"SCORE",null,null,null,null,null,null,"SCORE",null,null,null,"SCORE",null,null,null,null,null,null,null,"SCORE",null,null,null,"SCORE",null,null,null,null,null,null,"SCORE",null,null,null,"SCORE",null,null,null,null,null,null,null,"SCORE",null,null,null,"SCORE",null,null,null,null,null,null,"SCORE",null,null,null,"SCORE",null,null,null,null,null,null,null,"SCORE",null,null,null,"SCORE",null,null,null,null,null,null,"SCORE",null,null,null,"SCORE",null,null,null,null,null,null,null,"SCORE",null,null,null,"SCORE",null,null,null,null,null,null,"SCORE",null,null,null,"SCORE",null,null,null,null,null,null,null,"SCORE",null,null,null,"SCORE",null,null,null,null,null,null,"SCORE",null,null,null,"SCORE",null,null,null,null,null,null,null,"SCORE",null,null,null,"SCORE",null,null,null,null,null,null,"SCORE",null,null,null,"SCORE",null,null,null,null,null,null,null,"SCORE",null,null,null,"SCORE",null,null,null,null,null,null,"SCORE",null,null,null,"SCORE",null,null,null,null,null,null,null,"SCORE",null,null,null,"SCORE",null,null,null,null,null,null,"SCORE",null,null,null,"SCORE"]
[null,"POINTS \nMARQUES",null,null,null,"Points marqués ",null,null,null,"Points marqués",null,null,null,null,null,null,"Points marqués ",null,null,null,"Points marqués",null,null,null,null,null,null,null,"Points marqués ",null,null,null,"Points marqués",null,null,null,null,null,null,"Points marqués ",null,null,null,"Points marqués",null,null,null,null,null,null,null,"Points marqués ",null,null,null,"Points marqués",null,null,null,null,null,null,"Points marqués ",null,null,null,"Points marqués",null,null,null,null,null,null,null,"Points marqués ",null,null,null,"Points marqués",null,null,null,null,null,null,"Points marqués ",null,null,null,"Points marqués",null,null,null,null,null,null,null,"Points marqués ",null,null,null,"Points marqués",null,null,null,null,null,null,"Points marqués ",null,null,null,"Points marqués",null,null,null,null,null,null,null,"Points marqués ",null,null,null,"Points marqués",null,null,null,null,null,null,"Points marqués ",null,null,null,"Points marqués",null,null,null,null,null,null,null,"Points marqués ",null,null,null,"Points marqués",null,null,null,null,null,null,"Points marqués ",null,null,null,"Points marqués",null,null,null,null,null,null,null,"Points marqués ",null,null,null,"Points marqués",null,null,null,null,null,null,"Points marqués ",null,null,null,"Points marqués",null,null,null,null,null,null,null,"Points marqués ",null,null,null,"Points marqués",null,null,null,null,null,null,"Points marqués ",null,null,null,"Points marqués",null,null,null,null,null,null,null,"Points marqués ",null,null,null,"Points marqués",null,null,null,null,null,null,"Points marqués ",null,null,null,"Points marqués",null,null,null,null,null,null,null,"Points marqués ",null,null,null,"Points marqués",null,null,null,null,null,null,"Points marqués ",null,null,null,"Points marqués",null,null,null,null,null,null,null,"Points marqués ",null,null,null,"Points marqués",null,null,null,null,null,null,"Points marqués ",null,null,null,"Points marqués",null,null,null,null,null,null,null,"Points marqués ",null,null,null,"Points marqués",null,null,null,null,null,null,"Points marqués ",null,null,null,"Points marqués",null,null,null,null,null,null,null,"Points marqués ",null,null,null,"Points marqués",null,null,null,null,null,null,"Points marqués ",null,null,null,"Points marqués",null,null,null,null,null,null,null,"Points marqués ",null,null,null,"Points marqués",null,null,null,null,null,null,"Points marqués ",null,null,null,"Points marqués",null,null,null,null,null,null,null,"Points marqués ",null,null,null,"Points marqués",null,null,null,null,null,null,"Points marqués ",null,null,null,"Points marqués",null,null,null,null,null,null,null,"Points marqués ",null,null,null,"Points marqués",null,null,null,null,null,null,"Points marqués ",null,null,null,"Points marqués",null,null,null,null,null,null,null,"Points marqués ",null,null,null,"Points marqués",null,null,null,null,null,null,"Points marqués ",null,null,null,"Points marqués",null,null,null,null,null,null,null,"Points marqués ",null,null,null,"Points marqués",null,null,null,null,null,null,"Points marqués ",null,null,null,"Points marqués",null,null,null,null,null,null,null,"Points marqués ",null,null,null,"Points marqués",null,null,null,null,null,null,"Points marqués ",null,null,null,"Points marqués",null,null,null,null,null,null,null,"Points marqués ",null,null,null,"Points marqués",null,null,null,null,null,null,"Points marqués ",null,null,null,"Points marqués",null,null,null,null,null,null,null,"Points marqués ",null,null,null,"Points marqués",null,null,null,null,null,null,"Points marqués ",null,null,null,"Points marqués",null,null,null,null,null,null,null,"Points marqués ",null,null,null,"Points marqués",null,null,null,null,null,null,"Points marqués ",null,null,null,"Points marqués",null,null,null,null,null,null,null,"Points marqués ",null,null,null,"Points marqués",null,null,null,null,null,null,"Points marqués ",null,null,null,"Points marqués",null,null,null,null,null,null,null,"Points marqués ",null,null,null,"Points marqués",null,null,null,null,null,null,"Points marqués ",null,null,null,"Points marqués",null,null,null,null,null,null,null,"Points marqués ",null,null,null,"Points marqués",null,null,null,null,null,null,"Points marqués ",null,null,null,"Points marqués",null,null,null,null,null,null,null,"Points marqués ",null,null,null,"Points marqués",null,null,null,null,null,null,"Points marqués ",null,null,null,"Points marqués",null,null,null,null,null,null,null,"Points marqués ",null,null,null,"Points marqués",null,null,null,null,null,null,"Points marqués ",null,null,null,"Points marqués",null,null,null,null,null,null,null,"Points marqués ",null,null,null,"Points marqués",null,null,null,null,null,null,"Points marqués ",null,null,null,"Points marqués",null,null,null,null,null,null,null,"Points marqués ",null,null,null,"Points marqués",null,null,null,null,null,null,"Points marqués ",null,null,null,"Points marqués",null,null,null,null,null,null,null,"Points marqués ",null,null,null,"Points marqués",null,null,null,null,null,null,"Points marqués ",null,null,null,"Points marqués",null,null,null,null,null,null,null,"Points marqués ",null,null,null,"Points marqués",null,null,null,null,null,null,"Points marqués ",null,null,null,"Points marqués",null,null,null,null,null,null,null,"Points marqués ",null,null,null,"Points marqués",null,null,null,null,null,null,"Points marqués ",null,null,null,"Points marqués",null,null,null,null,null,null,null,"Points marqués ",null,null,null,"Points marqués",null,null,null,null,null,null,"Points marqués ",null,null,null,"Points marqués",null,null,null,null,null,null,null,"Points marqués ",null,null,null,"Points marqués",null,null,null,null,null,null,"Points marqués ",null,null,null,"Points marqués",null,null,null,null,null,null,null,"Points marqués ",null,null,null,"Points marqués",null,null,null,null,null,null,"Points marqués ",null,null,null,"Points marqués",null,null,null,null,null,null,null,"Points marqués ",null,null,null,"Points marqués",null,null,null,null,null,null,"Points marqués ",null,null,null,"Points marqués",null,null,null,null,null,null,null,"Points marqués ",null,null,null,"Points marqués",null,null,null,null,null,null,"Points marqués ",null,null,null,"Points marqués",null,null,null,null,null,null,null,"Points marqués ",null,null,null,"Points marqués",null,null,null,null,null,null,"Points marqués ",null,null,null,"Points marqués",null,null,null,null,null,null,null,"Points marqués ",null,null,null,"Points marqués",null,null,null,null,null,null,"Points marqués ",null,null,null,"Points marqués",null,null,null,null,null,null,null,"Points marqués ",null,null,null,"Points marqués",null,null,null,null,null,null,"Points marqués ",null,null,null,"Points marqués",null,null,null,null,null,null,null,"Points marqués ",null,null,null,"Points marqués",null,null,null,null,null,null,"Points marqués ",null,null,null,"Points marqués",null,null,null,null,null,null,null,"Points marqués ",null,null,null,"Points marqués",null,null,null,null,null,null,"Points marqués ",null,null,null,"Points marqués",null,null,null,null,null,null,null,"Points marqués ",null,null,null,"Points marqués",null,null,null,null,null,null,"Points marqués ",null,null,null,"Points marqués",null,null,null,null,null,null,null,"Points marqués ",null,null,null,"Points marqués",null,null,null,null,null,null,"Points marqués ",null,null,null,"Points marqués",null,null,null,null,null,null,null,"Points marqués ",null,null,null,"Points marqués",null,null,null,null,null,null,"Points marqués ",null,null,null,"Points marqués",null,null,null,null,null,null,null,"Points marqués ",null,null,null,"Points marqués",null,null,null,null,null,null,"Points marqués ",null,null,null,"Points marqués",null,null,null,null,null,null,null,"Points marqués ",null,null,null,"Points marqués",null,null,null,null,null,null,"Points marqués ",null,null,null,"Points marqués"]
[null,1,null,null,null,null,null,null,null,null,null,null,null,null,null,null,null,null,null,null,null,null,null,null,"NOUVEAU MATCH",null,null,null,null,null,null,null,null,null,null,null,null,null,null,null,null,null,null,null,null,null,null,"NOUVEAU MATCH",null,null,null,null,null,null,null,null,null,null,null,null,null,null,null,null,null,null,null,null,null,null,"NOUVEAU MATCH",null,null,null,null,null,null,null,null,null,null,null,null,null,null,null,null,null,null,null,null,null,null,"NOUVEAU MATCH",null,null,null,null,null,null,null,null,null,null,null,null,null,null,null,null,null,null,null,null,null,null,"NOUVEAU MATCH",null,null,null,null,null,null,null,null,null,null,null,null,null,null,null,null,null,null,null,null,null,null,"NOUVEAU MATCH",null,null,null,null,null,null,null,null,null,null,null,null,null,null,null,null,null,null,null,null,null,null,"NOUVEAU MATCH",null,null,null,null,null,null,null,null,null,null,null,null,null,null,null,null,null,null,null,null,null,null,"NOUVEAU MATCH",null,null,null,null,null,null,null,null,null,null,null,null,null,null,null,null,null,null,null,null,null,null,"NOUVEAU MATCH",null,null,null,null,null,null,null,null,null,null,null,null,null,null,null,null,null,null,null,null,null,null,"NOUVEAU MATCH",null,null,null,null,null,null,null,null,null,null,null,null,null,null,null,null,null,null,null,null,null,null,"NOUVEAU MATCH",null,null,null,null,null,null,null,null,null,null,null,null,null,null,null,null,null,null,null,null,null,null,"NOUVEAU MATCH",null,null,null,null,null,null,null,null,null,null,null,null,null,null,null,null,null,null,null,null,null,null,"NOUVEAU MATCH",null,null,null,null,null,null,null,null,null,null,null,null,null,null,null,null,null,null,null,null,null,null,"NOUVEAU MATCH",null,null,null,null,null,null,null,null,null,null,null,null,null,null,null,null,null,null,null,null,null,null,"NOUVEAU MATCH",null,null,null,null,null,null,null,null,null,null,null,null,null,null,null,null,null,null,null,null,null,null,"NOUVEAU MATCH",null,null,null,null,null,null,null,null,null,null,null,null,null,null,null,null,null,null,null,null,null,null,"NOUVEAU MATCH",null,null,null,null,null,null,null,null,null,null,null,null,null,null,null,null,null,null,null,null,null,null,"NOUVEAU MATCH",null,null,null,null,null,null,null,null,null,null,null,null,null,null,null,null,null,null,null,null,null,null,"NOUVEAU MATCH",null,null,null,null,null,null,null,null,null,null,null,null,null,null,null,null,null,null,null,null,null,null,"NOUVEAU MATCH",null,null,null,null,null,null,null,null,null,null,null,null,null,null,null,null,null,null,null,null,null,null,"NOUVEAU MATCH",null,null,null,null,null,null,null,null,null,null,null,null,null,null,null,null,null,null,null,null,null,null,"NOUVEAU MATCH",null,null,null,null,null,null,null,null,null,null,null,null,null,null,null,null,null,null,null,null,null,null,"NOUVEAU MATCH",null,null,null,null,null,null,null,null,null,null,null,null,null,null,null,null,null,null,null,null,null,null,"NOUVEAU MATCH",null,null,null,null,null,null,null,null,null,null,null,null,null,null,null,null,null,null,null,null,null,null,"NOUVEAU MATCH",null,null,null,null,null,null,null,null,null,null,null,null,null,null,null,null,null,null,null,null,null,null,"NOUVEAU MATCH",null,null,null,null,null,null,null,null,null,null,null,null,null,null,null,null,null,null,null,null,null,null,"NOUVEAU MATCH",null,null,null,null,null,null,null,null,null,null,null,null,null,null,null,null,null,null,null,null,null,null,"NOUVEAU MATCH",null,null,null,null,null,null,null,null,null,null,null,null,null,null,null,null,null,null,null,null,null,null,"NOUVEAU MATCH",null,null,null,null,null,null,null,null,null,null,null,null,null,null,null,null,null,null,null,null,null,null,"NOUVEAU MATCH",null,null,null,null,null,null,null,null,null,null,null,null,null,null,null,null,null,null,null,null,null,null,"NOUVEAU MATCH",null,null,null,null,null,null,null,null,null,null,null,null,null,null,null,null,null,null,null,null,null,null,"NOUVEAU MATCH",null,null,null,null,null,null,null,null,null,null,null,null,null,null,null,null,null,null,null,null,null,null,"NOUVEAU MATCH",null,null,null,null,null,null,null,null,null,null,null,null,null,null,null,null,null,null,null,null,null,null,"NOUVEAU MATCH",null,null,null,null,null,null,null,null,null,null,null,null,null,null,null,null,null,null,null,null,null,null,"NOUVEAU MATCH",null,null,null,null,null,null,null,null,null,null,null,null,null,null,null,null,null,null,null,null,null,null,"NOUVEAU MATCH",null,null,null,null,null,null,null,null,null,null,null,null,null,null,null,null,null,null,null,null,null,null,"NOUVEAU MATCH",null,null,null,null,null,null,null,null,null,null,null,null,null,null,null,null,null,null,null,null,null,null,"NOUVEAU MATCH",null,null,null,null,null,null,null,null,null,null,null,null,null,null,null,null,null,null,null,null,null,null,"NOUVEAU MATCH",null,null,null,null,null,null,null,null,null,null,null,null,null,null,null,null,null,null,null,null,null,null,"NOUVEAU MATCH",null,null,null,null,null,null,null,null,null,null,null,null,null,null,null,null,null,null,null,null,null,null,"NOUVEAU MATCH",null,null,null,null,null,null,null,null,null,null,null,null,null,null,null,null,null,null,null,null,null,null,"NOUVEAU MATCH",null,null,null,null,null,null,null,null,null,null,null,null,null,null,null,null,null,null,null,null,null,null,"NOUVEAU MATCH",null,null,null,null,null,null,null,null,null,null,null,null,null,null,null,null,null,null,null,null,null,null,"NOUVEAU MATCH",null,null,null,null,null,null,null,null,null,null,null,null,null,null,null,null,null,null,null,null,null,null,"NOUVEAU MATCH",null,null,null,null,null,null,null,null,null,null,null,null,null,null,null,null,null,null,null,null,null,null,"NOUVEAU MATCH",null,null,null,null,null,null,null,null,null,null,null,null,null,null,null,null,null,null,null,null,null,null,"NOUVEAU MATCH",null,null,null,null,null,null,null,null,null,null,null,null,null,null,null,null,null,null,null,null,null,null,"NOUVEAU MATCH"]
[null,2]
[null,3]
[null,4]
[null,5]
[null,6]
[null,7]
[null,8]
[null,9]
[null,10]
[null,11]
[null,"SCORE ",null,null,null,{"$f":"(SUMPRODUCT(N(ISTEXT(F6:F16))))","v":0},null,null,null,{"$f":"(SUMPRODUCT(N(ISTEXT(J6:J16))))","v":0},null,null,null,null,null,null,{"$f":"(SUMPRODUCT(N(ISTEXT(Q6:Q16))))","v":0},null,null,null,{"$f":"(SUMPRODUCT(N(ISTEXT(U6:U16))))","v":0},null,null,null,null,null,null,null,{"$f":"(SUMPRODUCT(N(ISTEXT(AC6:AC16))))","v":0},null,null,null,{"$f":"(SUMPRODUCT(N(ISTEXT(AG6:AG16))))","v":0},null,null,null,null,null,null,{"$f":"(SUMPRODUCT(N(ISTEXT(AN6:AN16))))","v":0},null,null,null,{"$f":"(SUMPRODUCT(N(ISTEXT(AR6:AR16))))","v":0},null,null,null,null,null,null,null,{"$f":"(SUMPRODUCT(N(ISTEXT(AZ6:AZ16))))","v":0},null,null,null,{"$f":"(SUMPRODUCT(N(ISTEXT(BD6:BD16))))","v":0},null,null,null,null,null,null,{"$f":"(SUMPRODUCT(N(ISTEXT(BK6:BK16))))","v":0},null,null,null,{"$f":"(SUMPRODUCT(N(ISTEXT(BO6:BO16))))","v":0},null,null,null,null,null,null,null,{"$f":"(SUMPRODUCT(N(ISTEXT(BW6:BW16))))","v":0},null,null,null,{"$f":"(SUMPRODUCT(N(ISTEXT(CA6:CA16))))","v":0},null,null,null,null,null,null,{"$f":"(SUMPRODUCT(N(ISTEXT(CH6:CH16))))","v":0},null,null,null,{"$f":"(SUMPRODUCT(N(ISTEXT(CL6:CL16))))","v":0},null,null,null,null,null,null,null,{"$f":"(SUMPRODUCT(N(ISTEXT(CT6:CT16))))","v":0},null,null,null,{"$f":"(SUMPRODUCT(N(ISTEXT(CX6:CX16))))","v":0},null,null,null,null,null,null,{"$f":"(SUMPRODUCT(N(ISTEXT(DE6:DE16))))","v":0},null,null,null,{"$f":"(SUMPRODUCT(N(ISTEXT(DI6:DI16))))","v":0},null,null,null,null,null,null,null,{"$f":"(SUMPRODUCT(N(ISTEXT(DQ6:DQ16))))","v":0},null,null,null,{"$f":"(SUMPRODUCT(N(ISTEXT(DU6:DU16))))","v":0},null,null,null,null,null,null,{"$f":"(SUMPRODUCT(N(ISTEXT(EB6:EB16))))","v":0},null,null,null,{"$f":"(SUMPRODUCT(N(ISTEXT(EF6:EF16))))","v":0},null,null,null,null,null,null,null,{"$f":"(SUMPRODUCT(N(ISTEXT(EN6:EN16))))","v":0},null,null,null,{"$f":"(SUMPRODUCT(N(ISTEXT(ER6:ER16))))","v":0},null,null,null,null,null,null,{"$f":"(SUMPRODUCT(N(ISTEXT(EY6:EY16))))","v":0},null,null,null,{"$f":"(SUMPRODUCT(N(ISTEXT(FC6:FC16))))","v":0},null,null,null,null,null,null,null,{"$f":"(SUMPRODUCT(N(ISTEXT(FK6:FK16))))","v":0},null,null,null,{"$f":"(SUMPRODUCT(N(ISTEXT(FO6:FO16))))","v":0},null,null,null,null,null,null,{"$f":"(SUMPRODUCT(N(ISTEXT(FV6:FV16))))","v":0},null,null,null,{"$f":"(SUMPRODUCT(N(ISTEXT(FZ6:FZ16))))","v":0},null,null,null,null,null,null,null,{"$f":"(SUMPRODUCT(N(ISTEXT(GH6:GH16))))","v":0},null,null,null,{"$f":"(SUMPRODUCT(N(ISTEXT(GL6:GL16))))","v":0},null,null,null,null,null,null,{"$f":"(SUMPRODUCT(N(ISTEXT(GS6:GS16))))","v":0},null,null,null,{"$f":"(SUMPRODUCT(N(ISTEXT(GW6:GW16))))","v":0},null,null,null,null,null,null,null,{"$f":"(SUMPRODUCT(N(ISTEXT(HE6:HE16))))","v":0},null,null,null,{"$f":"(SUMPRODUCT(N(ISTEXT(HI6:HI16))))","v":0},null,null,null,null,null,null,{"$f":"(SUMPRODUCT(N(ISTEXT(HP6:HP16))))","v":0},null,null,null,{"$f":"(SUMPRODUCT(N(ISTEXT(HT6:HT16))))","v":0},null,null,null,null,null,null,null,{"$f":"(SUMPRODUCT(N(ISTEXT(IB6:IB16))))","v":0},null,null,null,{"$f":"(SUMPRODUCT(N(ISTEXT(IF6:IF16))))","v":0},null,null,null,null,null,null,{"$f":"(SUMPRODUCT(N(ISTEXT(IM6:IM16))))","v":0},null,null,null,{"$f":"(SUMPRODUCT(N(ISTEXT(IQ6:IQ16))))","v":0},null,null,null,null,null,null,null,{"$f":"(SUMPRODUCT(N(ISTEXT(IY6:IY16))))","v":0},null,null,null,{"$f":"(SUMPRODUCT(N(ISTEXT(JC6:JC16))))","v":0},null,null,null,null,null,null,{"$f":"(SUMPRODUCT(N(ISTEXT(JJ6:JJ16))))","v":0},null,null,null,{"$f":"(SUMPRODUCT(N(ISTEXT(JN6:JN16))))","v":0},null,null,null,null,null,null,null,{"$f":"(SUMPRODUCT(N(ISTEXT(JV6:JV16))))","v":0},null,null,null,{"$f":"(SUMPRODUCT(N(ISTEXT(JZ6:JZ16))))","v":0},null,null,null,null,null,null,{"$f":"(SUMPRODUCT(N(ISTEXT(KG6:KG16))))","v":0},null,null,null,{"$f":"(SUMPRODUCT(N(ISTEXT(KK6:KK16))))","v":0},null,null,null,null,null,null,null,{"$f":"(SUMPRODUCT(N(ISTEXT(KS6:KS16))))","v":0},null,null,null,{"$f":"(SUMPRODUCT(N(ISTEXT(KW6:KW16))))","v":0},null,null,null,null,null,null,{"$f":"(SUMPRODUCT(N(ISTEXT(LD6:LD16))))","v":0},null,null,null,{"$f":"(SUMPRODUCT(N(ISTEXT(LH6:LH16))))","v":0},null,null,null,null,null,null,null,{"$f":"(SUMPRODUCT(N(ISTEXT(LP6:LP16))))","v":0},null,null,null,{"$f":"(SUMPRODUCT(N(ISTEXT(LT6:LT16))))","v":0},null,null,null,null,null,null,{"$f":"(SUMPRODUCT(N(ISTEXT(MA6:MA16))))","v":0},null,null,null,{"$f":"(SUMPRODUCT(N(ISTEXT(ME6:ME16))))","v":0},null,null,null,null,null,null,null,{"$f":"(SUMPRODUCT(N(ISTEXT(MM6:MM16))))","v":0},null,null,null,{"$f":"(SUMPRODUCT(N(ISTEXT(MQ6:MQ16))))","v":0},null,null,null,null,null,null,{"$f":"(SUMPRODUCT(N(ISTEXT(MX6:MX16))))","v":0},null,null,null,{"$f":"(SUMPRODUCT(N(ISTEXT(NB6:NB16))))","v":0},null,null,null,null,null,null,null,{"$f":"(SUMPRODUCT(N(ISTEXT(NJ6:NJ16))))","v":0},null,null,null,{"$f":"(SUMPRODUCT(N(ISTEXT(NN6:NN16))))","v":0},null,null,null,null,null,null,{"$f":"(SUMPRODUCT(N(ISTEXT(NU6:NU16))))","v":0},null,null,null,{"$f":"(SUMPRODUCT(N(ISTEXT(NY6:NY16))))","v":0},null,null,null,null,null,null,null,{"$f":"(SUMPRODUCT(N(ISTEXT(OG6:OG16))))","v":0},null,null,null,{"$f":"(SUMPRODUCT(N(ISTEXT(OK6:OK16))))","v":0},null,null,null,null,null,null,{"$f":"(SUMPRODUCT(N(ISTEXT(OR6:OR16))))","v":0},null,null,null,{"$f":"(SUMPRODUCT(N(ISTEXT(OV6:OV16))))","v":0},null,null,null,null,null,null,null,{"$f":"(SUMPRODUCT(N(ISTEXT(PD6:PD16))))","v":0},null,null,null,{"$f":"(SUMPRODUCT(N(ISTEXT(PH6:PH16))))","v":0},null,null,null,null,null,null,{"$f":"(SUMPRODUCT(N(ISTEXT(PO6:PO16))))","v":0},null,null,null,{"$f":"(SUMPRODUCT(N(ISTEXT(PS6:PS16))))","v":0},null,null,null,null,null,null,null,{"$f":"(SUMPRODUCT(N(ISTEXT(QA6:QA16))))","v":0},null,null,null,{"$f":"(SUMPRODUCT(N(ISTEXT(QE6:QE16))))","v":0},null,null,null,null,null,null,{"$f":"(SUMPRODUCT(N(ISTEXT(QL6:QL16))))","v":0},null,null,null,{"$f":"(SUMPRODUCT(N(ISTEXT(QP6:QP16))))","v":0},null,null,null,null,null,null,null,{"$f":"(SUMPRODUCT(N(ISTEXT(QX6:QX16))))","v":0},null,null,null,{"$f":"(SUMPRODUCT(N(ISTEXT(RB6:RB16))))","v":0},null,null,null,null,null,null,{"$f":"(SUMPRODUCT(N(ISTEXT(RI6:RI16))))","v":0},null,null,null,{"$f":"(SUMPRODUCT(N(ISTEXT(RM6:RM16))))","v":0},null,null,null,null,null,null,null,{"$f":"(SUMPRODUCT(N(ISTEXT(RU6:RU16))))","v":0},null,null,null,{"$f":"(SUMPRODUCT(N(ISTEXT(RY6:RY16))))","v":0},null,null,null,null,null,null,{"$f":"(SUMPRODUCT(N(ISTEXT(SF6:SF16))))","v":0},null,null,null,{"$f":"(SUMPRODUCT(N(ISTEXT(SJ6:SJ16))))","v":0},null,null,null,null,null,null,null,{"$f":"(SUMPRODUCT(N(ISTEXT(SR6:SR16))))","v":0},null,null,null,{"$f":"(SUMPRODUCT(N(ISTEXT(SV6:SV16))))","v":0},null,null,null,null,null,null,{"$f":"(SUMPRODUCT(N(ISTEXT(TC6:TC16))))","v":0},null,null,null,{"$f":"(SUMPRODUCT(N(ISTEXT(TG6:TG16))))","v":0},null,null,null,null,null,null,null,{"$f":"(SUMPRODUCT(N(ISTEXT(TO6:TO16))))","v":0},null,null,null,{"$f":"(SUMPRODUCT(N(ISTEXT(TS6:TS16))))","v":0},null,null,null,null,null,null,{"$f":"(SUMPRODUCT(N(ISTEXT(TZ6:TZ16))))","v":0},null,null,null,{"$f":"(SUMPRODUCT(N(ISTEXT(UD6:UD16))))","v":0},null,null,null,null,null,null,null,{"$f":"(SUMPRODUCT(N(ISTEXT(UL6:UL16))))","v":0},null,null,null,{"$f":"(SUMPRODUCT(N(ISTEXT(UP6:UP16))))","v":0},null,null,null,null,null,null,{"$f":"(SUMPRODUCT(N(ISTEXT(UW6:UW16))))","v":0},null,null,null,{"$f":"(SUMPRODUCT(N(ISTEXT(VA6:VA16))))","v":0},null,null,null,null,null,null,null,{"$f":"(SUMPRODUCT(N(ISTEXT(VI6:VI16))))","v":0},null,null,null,{"$f":"(SUMPRODUCT(N(ISTEXT(VM6:VM16))))","v":0},null,null,null,null,null,null,{"$f":"(SUMPRODUCT(N(ISTEXT(VT6:VT16))))","v":0},null,null,null,{"$f":"(SUMPRODUCT(N(ISTEXT(VX6:VX16))))","v":0},null,null,null,null,null,null,null,{"$f":"(SUMPRODUCT(N(ISTEXT(WF6:WF16))))","v":0},null,null,null,{"$f":"(SUMPRODUCT(N(ISTEXT(WJ6:WJ16))))","v":0},null,null,null,null,null,null,{"$f":"(SUMPRODUCT(N(ISTEXT(WQ6:WQ16))))","v":0},null,null,null,{"$f":"(SUMPRODUCT(N(ISTEXT(WU6:WU16))))","v":0},null,null,null,null,null,null,null,{"$f":"(SUMPRODUCT(N(ISTEXT(XC6:XC16))))","v":0},null,null,null,{"$f":"(SUMPRODUCT(N(ISTEXT(XG6:XG16))))","v":0},null,null,null,null,null,null,{"$f":"(SUMPRODUCT(N(ISTEXT(XN6:XN16))))","v":0},null,null,null,{"$f":"(SUMPRODUCT(N(ISTEXT(XR6:XR16))))","v":0},null,null,null,null,null,null,null,{"$f":"(SUMPRODUCT(N(ISTEXT(XZ6:XZ16))))","v":0},null,null,null,{"$f":"(SUMPRODUCT(N(ISTEXT(YD6:YD16))))","v":0},null,null,null,null,null,null,{"$f":"(SUMPRODUCT(N(ISTEXT(YK6:YK16))))","v":0},null,null,null,{"$f":"(SUMPRODUCT(N(ISTEXT(YO6:YO16))))","v":0},null,null,null,null,null,null,null,{"$f":"(SUMPRODUCT(N(ISTEXT(YW6:YW16))))","v":0},null,null,null,{"$f":"(SUMPRODUCT(N(ISTEXT(ZA6:ZA16))))","v":0},null,null,null,null,null,null,{"$f":"(SUMPRODUCT(N(ISTEXT(ZH6:ZH16))))","v":0},null,null,null,{"$f":"(SUMPRODUCT(N(ISTEXT(ZL6:ZL16))))","v":0},null,null,null,null,null,null,null,{"$f":"(SUMPRODUCT(N(ISTEXT(ZT6:ZT16))))","v":0},null,null,null,{"$f":"(SUMPRODUCT(N(ISTEXT(ZX6:ZX16))))","v":0},null,null,null,null,null,null,{"$f":"(SUMPRODUCT(N(ISTEXT(AAE6:AAE16))))","v":0},null,null,null,{"$f":"(SUMPRODUCT(N(ISTEXT(AAI6:AAI16))))","v":0},null,null,null,null,null,null,null,{"$f":"(SUMPRODUCT(N(ISTEXT(AAQ6:AAQ16))))","v":0},null,null,null,{"$f":"(SUMPRODUCT(N(ISTEXT(AAU6:AAU16))))","v":0},null,null,null,null,null,null,{"$f":"(SUMPRODUCT(N(ISTEXT(ABB6:ABB16))))","v":0},null,null,null,{"$f":"(SUMPRODUCT(N(ISTEXT(ABF6:ABF16))))","v":0},null,null,null,null,null,null,null,{"$f":"(SUMPRODUCT(N(ISTEXT(ABN6:ABN16))))","v":0},null,null,null,{"$f":"(SUMPRODUCT(N(ISTEXT(ABR6:ABR16))))","v":0},null,null,null,null,null,null,{"$f":"(SUMPRODUCT(N(ISTEXT(ABY6:ABY16))))","v":0},null,null,null,{"$f":"(SUMPRODUCT(N(ISTEXT(ACC6:ACC16))))","v":0},null,null,null,null,null,null,null,{"$f":"(SUMPRODUCT(N(ISTEXT(ACK6:ACK16))))","v":0},null,null,null,{"$f":"(SUMPRODUCT(N(ISTEXT(ACO6:ACO16))))","v":0},null,null,null,null,null,null,{"$f":"(SUMPRODUCT(N(ISTEXT(ACV6:ACV16))))","v":0},null,null,null,{"$f":"(SUMPRODUCT(N(ISTEXT(ACZ6:ACZ16))))","v":0},null,null,null,null,null,null,null,{"$f":"(SUMPRODUCT(N(ISTEXT(ADH6:ADH16))))","v":0},null,null,null,{"$f":"(SUMPRODUCT(N(ISTEXT(ADL6:ADL16))))","v":0},null,null,null,null,null,null,{"$f":"(SUMPRODUCT(N(ISTEXT(ADS6:ADS16))))","v":0},null,null,null,{"$f":"(SUMPRODUCT(N(ISTEXT(ADW6:ADW16))))","v":0},null,null,null,null,null,null,null,{"$f":"(SUMPRODUCT(N(ISTEXT(AEE6:AEE16))))","v":0},null,null,null,{"$f":"(SUMPRODUCT(N(ISTEXT(AEI6:AEI16))))","v":0},null,null,null,null,null,null,{"$f":"(SUMPRODUCT(N(ISTEXT(AEP6:AEP16))))","v":0},null,null,null,{"$f":"(SUMPRODUCT(N(ISTEXT(AET6:AET16))))","v":0},null,null,null,null,null,null,null,{"$f":"(SUMPRODUCT(N(ISTEXT(AFB6:AFB16))))","v":0},null,null,null,{"$f":"(SUMPRODUCT(N(ISTEXT(AFF6:AFF16))))","v":0},null,null,null,null,null,null,{"$f":"(SUMPRODUCT(N(ISTEXT(AFM6:AFM16))))","v":0},null,null,null,{"$f":"(SUMPRODUCT(N(ISTEXT(AFQ6:AFQ16))))","v":0},null,null,null,null,null,null,null,{"$f":"(SUMPRODUCT(N(ISTEXT(AFY6:AFY16))))","v":0},null,null,null,{"$f":"(SUMPRODUCT(N(ISTEXT(AGC6:AGC16))))","v":0},null,null,null,null,null,null,{"$f":"(SUMPRODUCT(N(ISTEXT(AGJ6:AGJ16))))","v":0},null,null,null,{"$f":"(SUMPRODUCT(N(ISTEXT(AGN6:AGN16))))","v":0},null,null,null,null,null,null,null,{"$f":"(SUMPRODUCT(N(ISTEXT(AGV6:AGV16))))","v":0},null,null,null,{"$f":"(SUMPRODUCT(N(ISTEXT(AGZ6:AGZ16))))","v":0},null,null,null,null,null,null,{"$f":"(SUMPRODUCT(N(ISTEXT(AHG6:AHG16))))","v":0},null,null,null,{"$f":"(SUMPRODUCT(N(ISTEXT(AHK6:AHK16))))","v":0},null,null,null,null,null,null,null,{"$f":"(SUMPRODUCT(N(ISTEXT(AHS6:AHS16))))","v":0},null,null,null,{"$f":"(SUMPRODUCT(N(ISTEXT(AHW6:AHW16))))","v":0},null,null,null,null,null,null,{"$f":"(SUMPRODUCT(N(ISTEXT(AID6:AID16))))","v":0},null,null,null,{"$f":"(SUMPRODUCT(N(ISTEXT(AIH6:AIH16))))","v":0},null,null,null,null,null,null,null,{"$f":"(SUMPRODUCT(N(ISTEXT(AIP6:AIP16))))","v":0},null,null,null,{"$f":"(SUMPRODUCT(N(ISTEXT(AIT6:AIT16))))","v":0},null,null,null,null,null,null,{"$f":"(SUMPRODUCT(N(ISTEXT(AJA6:AJA16))))","v":0},null,null,null,{"$f":"(SUMPRODUCT(N(ISTEXT(AJE6:AJE16))))","v":0},null,null,null,null,null,null,null,{"$f":"(SUMPRODUCT(N(ISTEXT(AJM6:AJM16))))","v":0},null,null,null,{"$f":"(SUMPRODUCT(N(ISTEXT(AJQ6:AJQ16))))","v":0},null,null,null,null,null,null,{"$f":"(SUMPRODUCT(N(ISTEXT(AJX6:AJX16))))","v":0},null,null,null,{"$f":"(SUMPRODUCT(N(ISTEXT(AKB6:AKB16))))","v":0},null,null,null,null,null,null,null,{"$f":"(SUMPRODUCT(N(ISTEXT(AKJ6:AKJ16))))","v":0},null,null,null,{"$f":"(SUMPRODUCT(N(ISTEXT(AKN6:AKN16))))","v":0},null,null,null,null,null,null,{"$f":"(SUMPRODUCT(N(ISTEXT(AKU6:AKU16))))","v":0},null,null,null,{"$f":"(SUMPRODUCT(N(ISTEXT(AKY6:AKY16))))","v":0},null,null,null,null,null,null,null,{"$f":"(SUMPRODUCT(N(ISTEXT(ALG6:ALG16))))","v":0},null,null,null,{"$f":"(SUMPRODUCT(N(ISTEXT(ALK6:ALK16))))","v":0},null,null,null,null,null,null,{"$f":"(SUMPRODUCT(N(ISTEXT(ALR6:ALR16))))","v":0},null,null,null,{"$f":"(SUMPRODUCT(N(ISTEXT(ALV6:ALV16))))","v":0},null,null,null,null,null,null,null,{"$f":"(SUMPRODUCT(N(ISTEXT(AMD6:AMD16))))","v":0},null,null,null,{"$f":"(SUMPRODUCT(N(ISTEXT(AMH6:AMH16))))","v":0},null,null,null,null,null,null,{"$f":"(SUMPRODUCT(N(ISTEXT(AMO6:AMO16))))","v":0},null,null,null,{"$f":"(SUMPRODUCT(N(ISTEXT(AMS6:AMS16))))","v":0},null,null,null,null,null,null,null,{"$f":"(SUMPRODUCT(N(ISTEXT(ANA6:ANA16))))","v":0},null,null,null,{"$f":"(SUMPRODUCT(N(ISTEXT(ANE6:ANE16))))","v":0},null,null,null,null,null,null,{"$f":"(SUMPRODUCT(N(ISTEXT(ANL6:ANL16))))","v":0},null,null,null,{"$f":"(SUMPRODUCT(N(ISTEXT(ANP6:ANP16))))","v":0},null,null,null,null,null,null,null,{"$f":"(SUMPRODUCT(N(ISTEXT(ANX6:ANX16))))","v":0},null,null,null,{"$f":"(SUMPRODUCT(N(ISTEXT(AOB6:AOB16))))","v":0},null,null,null,null,null,null,{"$f":"(SUMPRODUCT(N(ISTEXT(AOI6:AOI16))))","v":0},null,null,null,{"$f":"(SUMPRODUCT(N(ISTEXT(AOM6:AOM16))))","v":0},null,null,null,null,null,null,null,{"$f":"(SUMPRODUCT(N(ISTEXT(AOU6:AOU16))))","v":0},null,null,null,{"$f":"(SUMPRODUCT(N(ISTEXT(AOY6:AOY16))))","v":0},null,null,null,null,null,null,{"$f":"(SUMPRODUCT(N(ISTEXT(APF6:APF16))))","v":0},null,null,null,{"$f":"(SUMPRODUCT(N(ISTEXT(APJ6:APJ16))))","v":0}]
[null,null,null,null,null,null,null,null,null,null,null,null,null,null,null,null,null,null,null,null,null,null,null,null,"NOUVEAU MATCH",null,null,null,null,null,null,null,null,null,null,null,null,null,null,null,null,null,null,null,null,null,null,"NOUVEAU MATCH",null,null,null,null,null,null,null,null,null,null,null,null,null,null,null,null,null,null,null,null,null,null,"NOUVEAU MATCH",null,null,null,null,null,null,null,null,null,null,null,null,null,null,null,null,null,null,null,null,null,null,"NOUVEAU MATCH",null,null,null,null,null,null,null,null,null,null,null,null,null,null,null,null,null,null,null,null,null,null,"NOUVEAU MATCH",null,null,null,null,null,null,null,null,null,null,null,null,null,null,null,null,null,null,null,null,null,null,"NOUVEAU MATCH",null,null,null,null,null,null,null,null,null,null,null,null,null,null,null,null,null,null,null,null,null,null,"NOUVEAU MATCH",null,null,null,null,null,null,null,null,null,null,null,null,null,null,null,null,null,null,null,null,null,null,"NOUVEAU MATCH",null,null,null,null,null,null,null,null,null,null,null,null,null,null,null,null,null,null,null,null,null,null,"NOUVEAU MATCH",null,null,null,null,null,null,null,null,null,null,null,null,null,null,null,null,null,null,null,null,null,null,"NOUVEAU MATCH",null,null,null,null,null,null,null,null,null,null,null,null,null,null,null,null,null,null,null,null,null,null,"NOUVEAU MATCH",null,null,null,null,null,null,null,null,null,null,null,null,null,null,null,null,null,null,null,null,null,null,"NOUVEAU MATCH",null,null,null,null,null,null,null,null,null,null,null,null,null,null,null,null,null,null,null,null,null,null,"NOUVEAU MATCH",null,null,null,null,null,null,null,null,null,null,null,null,null,null,null,null,null,null,null,null,null,null,"NOUVEAU MATCH",null,null,null,null,null,null,null,null,null,null,null,null,null,null,null,null,null,null,null,null,null,null,"NOUVEAU MATCH",null,null,null,null,null,null,null,null,null,null,null,null,null,null,null,null,null,null,null,null,null,null,"NOUVEAU MATCH",null,null,null,null,null,null,null,null,null,null,null,null,null,null,null,null,null,null,null,null,null,null,"NOUVEAU MATCH",null,null,null,null,null,null,null,null,null,null,null,null,null,null,null,null,null,null,null,null,null,null,"NOUVEAU MATCH",null,null,null,null,null,null,null,null,null,null,null,null,null,null,null,null,null,null,null,null,null,null,"NOUVEAU MATCH",null,null,null,null,null,null,null,null,null,null,null,null,null,null,null,null,null,null,null,null,null,null,"NOUVEAU MATCH",null,null,null,null,null,null,null,null,null,null,null,null,null,null,null,null,null,null,null,null,null,null,"NOUVEAU MATCH",null,null,null,null,null,null,null,null,null,null,null,null,null,null,null,null,null,null,null,null,null,null,"NOUVEAU MATCH",null,null,null,null,null,null,null,null,null,null,null,null,null,null,null,null,null,null,null,null,null,null,"NOUVEAU MATCH",null,null,null,null,null,null,null,null,null,null,null,null,null,null,null,null,null,null,null,null,null,null,"NOUVEAU MATCH",null,null,null,null,null,null,null,null,null,null,null,null,null,null,null,null,null,null,null,null,null,null,"NOUVEAU MATCH",null,null,null,null,null,null,null,null,null,null,null,null,null,null,null,null,null,null,null,null,null,null,"NOUVEAU MATCH",null,null,null,null,null,null,null,null,null,null,null,null,null,null,null,null,null,null,null,null,null,null,"NOUVEAU MATCH",null,null,null,null,null,null,null,null,null,null,null,null,null,null,null,null,null,null,null,null,null,null,"NOUVEAU MATCH",null,null,null,null,null,null,null,null,null,null,null,null,null,null,null,null,null,null,null,null,null,null,"NOUVEAU MATCH",null,null,null,null,null,null,null,null,null,null,null,null,null,null,null,null,null,null,null,null,null,null,"NOUVEAU MATCH",null,null,null,null,null,null,null,null,null,null,null,null,null,null,null,null,null,null,null,null,null,null,"NOUVEAU MATCH",null,null,null,null,null,null,null,null,null,null,null,null,null,null,null,null,null,null,null,null,null,null,"NOUVEAU MATCH",null,null,null,null,null,null,null,null,null,null,null,null,null,null,null,null,null,null,null,null,null,null,"NOUVEAU MATCH",null,null,null,null,null,null,null,null,null,null,null,null,null,null,null,null,null,null,null,null,null,null,"NOUVEAU MATCH",null,null,null,null,null,null,null,null,null,null,null,null,null,null,null,null,null,null,null,null,null,null,"NOUVEAU MATCH",null,null,null,null,null,null,null,null,null,null,null,null,null,null,null,null,null,null,null,null,null,null,"NOUVEAU MATCH",null,null,null,null,null,null,null,null,null,null,null,null,null,null,null,null,null,null,null,null,null,null,"NOUVEAU MATCH",null,null,null,null,null,null,null,null,null,null,null,null,null,null,null,null,null,null,null,null,null,null,"NOUVEAU MATCH",null,null,null,null,null,null,null,null,null,null,null,null,null,null,null,null,null,null,null,null,null,null,"NOUVEAU MATCH",null,null,null,null,null,null,null,null,null,null,null,null,null,null,null,null,null,null,null,null,null,null,"NOUVEAU MATCH",null,null,null,null,null,null,null,null,null,null,null,null,null,null,null,null,null,null,null,null,null,null,"NOUVEAU MATCH",null,null,null,null,null,null,null,null,null,null,null,null,null,null,null,null,null,null,null,null,null,null,"NOUVEAU MATCH",null,null,null,null,null,null,null,null,null,null,null,null,null,null,null,null,null,null,null,null,null,null,"NOUVEAU MATCH",null,null,null,null,null,null,null,null,null,null,null,null,null,null,null,null,null,null,null,null,null,null,"NOUVEAU MATCH",null,null,null,null,null,null,null,null,null,null,null,null,null,null,null,null,null,null,null,null,null,null,"NOUVEAU MATCH",null,null,null,null,null,null,null,null,null,null,null,null,null,null,null,null,null,null,null,null,null,null,"NOUVEAU MATCH",null,null,null,null,null,null,null,null,null,null,null,null,null,null,null,null,null,null,null,null,null,null,"NOUVEAU MATCH",null,null,null,null,null,null,null,null,null,null,null,null,null,null,null,null,null,null,null,null,null,null,"NOUVEAU MATCH"]
[]
[null,null,null,null,null,null,null,null,null,null,null,"DOUBLE\nScore final",null,null,null,null,null,null,null,null,null,null,null,null,null,null,null,null,null,null,null,null,null,null,"DOUBLE\nScore final",null,null,null,null,null,null,null,null,null,null,null,null,null,null,null,null,null,null,null,null,null,null,"DOUBLE\nScore final",null,null,null,null,null,null,null,null,null,null,null,null,null,null,null,null,null,null,null,null,null,null,"DOUBLE\nScore final",null,null,null,null,null,null,null,null,null,null,null,null,null,null,null,null,null,null,null,null,null,null,"DOUBLE\nScore final",null,null,null,null,null,null,null,null,null,null,null,null,null,null,null,null,null,null,null,null,null,null,"DOUBLE\nScore final",null,null,null,null,null,null,null,null,null,null,null,null,null,null,null,null,null,null,null,null,null,null,"DOUBLE\nScore final",null,null,null,null,null,null,null,null,null,null,null,null,null,null,null,null,null,null,null,null,null,null,"DOUBLE\nScore final",null,null,null,null,null,null,null,null,null,null,null,null,null,null,null,null,null,null,null,null,null,null,"DOUBLE\nScore final",null,null,null,null,null,null,null,null,null,null,null,null,null,null,null,null,null,null,null,null,null,null,"DOUBLE\nScore final",null,null,null,null,null,null,null,null,null,null,null,null,null,null,null,null,null,null,null,null,null,null,"DOUBLE\nScore final",null,null,null,null,null,null,null,null,null,null,null,null,null,null,null,null,null,null,null,null,null,null,"DOUBLE\nScore final",null,null,null,null,null,null,null,null,null,null,null,null,null,null,null,null,null,null,null,null,null,null,"DOUBLE\nScore final",null,null,null,null,null,null,null,null,null,null,null,null,null,null,null,null,null,null,null,null,null,null,"DOUBLE\nScore final",null,null,null,null,null,null,null,null,null,null,null,null,null,null,null,null,null,null,null,null,null,null,"DOUBLE\nScore final",null,null,null,null,null,null,null,null,null,null,null,null,null,null,null,null,null,null,null,null,null,null,"DOUBLE\nScore final",null,null,null,null,null,null,null,null,null,null,null,null,null,null,null,null,null,null,null,null,null,null,"DOUBLE\nScore final",null,null,null,null,null,null,null,null,null,null,null,null,null,null,null,null,null,null,null,null,null,null,"DOUBLE\nScore final",null,null,null,null,null,null,null,null,null,null,null,null,null,null,null,null,null,null,null,null,null,null,"DOUBLE\nScore final",null,null,null,null,null,null,null,null,null,null,null,null,null,null,null,null,null,null,null,null,null,null,"DOUBLE\nScore final",null,null,null,null,null,null,null,null,null,null,null,null,null,null,null,null,null,null,null,null,null,null,"DOUBLE\nScore final",null,null,null,null,null,null,null,null,null,null,null,null,null,null,null,null,null,null,null,null,null,null,"DOUBLE\nScore final",null,null,null,null,null,null,null,null,null,null,null,null,null,null,null,null,null,null,null,null,null,null,"DOUBLE\nScore final",null,null,null,null,null,null,null,null,null,null,null,null,null,null,null,null,null,null,null,null,null,null,"DOUBLE\nScore final",null,null,null,null,null,null,null,null,null,null,null,null,null,null,null,null,null,null,null,null,null,null,"DOUBLE\nScore final",null,null,null,null,null,null,null,null,null,null,null,null,null,null,null,null,null,null,null,null,null,null,"DOUBLE\nScore final",null,null,null,null,null,null,null,null,null,null,null,null,null,null,null,null,null,null,null,null,null,null,"DOUBLE\nScore final",null,null,null,null,null,null,null,null,null,null,null,null,null,null,null,null,null,null,null,null,null,null,"DOUBLE\nScore final",null,null,null,null,null,null,null,null,null,null,null,null,null,null,null,null,null,null,null,null,null,null,"DOUBLE\nScore final",null,null,null,null,null,null,null,null,null,null,null,null,null,null,null,null,null,null,null,null,null,null,"DOUBLE\nScore final",null,null,null,null,null,null,null,null,null,null,null,null,null,null,null,null,null,null,null,null,null,null,"DOUBLE\nScore final",null,null,null,null,null,null,null,null,null,null,null,null,null,null,null,null,null,null,null,null,null,null,"DOUBLE\nScore final",null,null,null,null,null,null,null,null,null,null,null,null,null,null,null,null,null,null,null,null,null,null,"DOUBLE\nScore final",null,null,null,null,null,null,null,null,null,null,null,null,null,null,null,null,null,null,null,null,null,null,"DOUBLE\nScore final",null,null,null,null,null,null,null,null,null,null,null,null,null,null,null,null,null,null,null,null,null,null,"DOUBLE\nScore final",null,null,null,null,null,null,null,null,null,null,null,null,null,null,null,null,null,null,null,null,null,null,"DOUBLE\nScore final",null,null,null,null,null,null,null,null,null,null,null,null,null,null,null,null,null,null,null,null,null,null,"DOUBLE\nScore final",null,null,null,null,null,null,null,null,null,null,null,null,null,null,null,null,null,null,null,null,null,null,"DOUBLE\nScore final",null,null,null,null,null,null,null,null,null,null,null,null,null,null,null,null,null,null,null,null,null,null,"DOUBLE\nScore final",null,null,null,null,null,null,null,null,null,null,null,null,null,null,null,null,null,null,null,null,null,null,"DOUBLE\nScore final",null,null,null,null,null,null,null,null,null,null,null,null,null,null,null,null,null,null,null,null,null,null,"DOUBLE\nScore final",null,null,null,null,null,null,null,null,null,null,null,null,null,null,null,null,null,null,null,null,null,null,"DOUBLE\nScore final",null,null,null,null,null,null,null,null,null,null,null,null,null,null,null,null,null,null,null,null,null,null,"DOUBLE\nScore final",null,null,null,null,null,null,null,null,null,null,null,null,null,null,null,null,null,null,null,null,null,null,"DOUBLE\nScore final",null,null,null,null,null,null,null,null,null,null,null,null,null,null,null,null,null,null,null,null,null,null,"DOUBLE\nScore final",null,null,null,null,null,null,null,null,null,null,null,null,null,null,null,null,null,null,null,null,null,null,"DOUBLE\nScore final",null,null,null,null,null,null,null,null,null,null,null,null,null,null,null,null,null,null,null,null,null,null,"DOUBLE\nScore final",null,null,null,null,null,null,null,null,null,null,null,null,null,null,null,null,null,null,null,null,null,null,"DOUBLE\nScore final"]
[null,null,null,null,null,null,null,"n°1",{"$f":"E2","v":"Adgy"},null,{"$f":"F17","v":0},0,null,0,null,{"$f":"J17","v":0},{"$f":"I2","v":"Ayoub"},null,"n°1",null,null,null,null,null,null,null,null,null,null,null,"n°1",{"$f":"AB2","v":0},null,{"$f":"AC17","v":0},0,null,0,null,{"$f":"AG17","v":0},{"$f":"AF2","v":0},null,"n°1",null,null,null,null,null,null,null,null,null,null,null,"n°1",{"$f":"AY2","v":0},null,{"$f":"AZ17","v":0},0,null,0,null,{"$f":"BD17","v":0},{"$f":"BC2","v":0},null,"n°1",null,null,null,null,null,null,null,null,null,null,null,"n°1",{"$f":"BV2","v":"Adgy"},null,{"$f":"BW17","v":0},0,null,0,null,{"$f":"CA17","v":0},{"$f":"BZ2","v":"Ayoub"},null,"n°1",null,null,null,null,null,null,null,null,null,null,null,"n°1",{"$f":"CS2","v":0},null,{"$f":"CT17","v":0},0,null,0,null,{"$f":"CX17","v":0},{"$f":"CW2","v":0},null,"n°1",null,null,null,null,null,null,null,null,null,null,null,"n°1",{"$f":"DP2","v":0},null,{"$f":"DQ17","v":0},0,null,0,null,{"$f":"DU17","v":0},{"$f":"DT2","v":0},null,"n°1",null,null,null,null,null,null,null,null,null,null,null,"n°1",{"$f":"EM2","v":"Adgy"},null,{"$f":"EN17","v":0},0,null,0,null,{"$f":"ER17","v":0},{"$f":"EQ2","v":"Ayoub"},null,"n°1",null,null,null,null,null,null,null,null,null,null,null,"n°1",{"$f":"FJ2","v":0},null,{"$f":"FK17","v":0},0,null,0,null,{"$f":"FO17","v":0},{"$f":"FN2","v":0},null,"n°1",null,null,null,null,null,null,null,null,null,null,null,"n°1",{"$f":"GG2","v":0},null,{"$f":"GH17","v":0},0,null,0,null,{"$f":"GL17","v":0},{"$f":"GK2","v":0},null,"n°1",null,null,null,null,null,null,null,null,null,null,null,"n°1",{"$f":"HD2","v":"Adgy"},null,{"$f":"HE17","v":0},0,null,0,null,{"$f":"HI17","v":0},{"$f":"HH2","v":"Ayoub"},null,"n°1",null,null,null,null,null,null,null,null,null,null,null,"n°1",{"$f":"IA2","v":0},null,{"$f":"IB17","v":0},0,null,0,null,{"$f":"IF17","v":0},{"$f":"IE2","v":0},null,"n°1",null,null,null,null,null,null,null,null,null,null,null,"n°1",{"$f":"IX2","v":0},null,{"$f":"IY17","v":0},0,null,0,null,{"$f":"JC17","v":0},{"$f":"JB2","v":0},null,"n°1",null,null,null,null,null,null,null,null,null,null,null,"n°1",{"$f":"JU2","v":"Adgy"},null,{"$f":"JV17","v":0},0,null,0,null,{"$f":"JZ17","v":0},{"$f":"JY2","v":"Ayoub"},null,"n°1",null,null,null,null,null,null,null,null,null,null,null,"n°1",{"$f":"KR2","v":0},null,{"$f":"KS17","v":0},0,null,0,null,{"$f":"KW17","v":0},{"$f":"KV2","v":0},null,"n°1",null,null,null,null,null,null,null,null,null,null,null,"n°1",{"$f":"LO2","v":0},null,{"$f":"LP17","v":0},0,null,0,null,{"$f":"LT17","v":0},{"$f":"LS2","v":0},null,"n°1",null,null,null,null,null,null,null,null,null,null,null,"n°1",{"$f":"ML2","v":"Adgy"},null,{"$f":"MM17","v":0},0,null,0,null,{"$f":"MQ17","v":0},{"$f":"MP2","v":"Ayoub"},null,"n°1",null,null,null,null,null,null,null,null,null,null,null,"n°1",{"$f":"NI2","v":0},null,{"$f":"NJ17","v":0},0,null,0,null,{"$f":"NN17","v":0},{"$f":"NM2","v":0},null,"n°1",null,null,null,null,null,null,null,null,null,null,null,"n°1",{"$f":"OF2","v":0},null,{"$f":"OG17","v":0},0,null,0,null,{"$f":"OK17","v":0},{"$f":"OJ2","v":0},null,"n°1",null,null,null,null,null,null,null,null,null,null,null,"n°1",{"$f":"PC2","v":"Adgy"},null,{"$f":"PD17","v":0},0,null,0,null,{"$f":"PH17","v":0},{"$f":"PG2","v":"Ayoub"},null,"n°1",null,null,null,null,null,null,null,null,null,null,null,"n°1",{"$f":"PZ2","v":0},null,{"$f":"QA17","v":0},0,null,0,null,{"$f":"QE17","v":0},{"$f":"QD2","v":0},null,"n°1",null,null,null,null,null,null,null,null,null,null,null,"n°1",{"$f":"QW2","v":0},null,{"$f":"QX17","v":0},0,null,0,null,{"$f":"RB17","v":0},{"$f":"RA2","v":0},null,"n°1",null,null,null,null,null,null,null,null,null,null,null,"n°1",{"$f":"RT2","v":"Adgy"},null,{"$f":"RU17","v":0},0,null,0,null,{"$f":"RY17","v":0},{"$f":"RX2","v":"Ayoub"},null,"n°1",null,null,null,null,null,null,null,null,null,null,null,"n°1",{"$f":"SQ2","v":0},null,{"$f":"SR17","v":0},0,null,0,null,{"$f":"SV17","v":0},{"$f":"SU2","v":0},null,"n°1",null,null,null,null,null,null,null,null,null,null,null,"n°1",{"$f":"TN2","v":0},null,{"$f":"TO17","v":0},0,null,0,null,{"$f":"TS17","v":0},{"$f":"TR2","v":0},null,"n°1",null,null,null,null,null,null,null,null,null,null,null,"n°1",{"$f":"UK2","v":"Adgy"},null,{"$f":"UL17","v":0},0,null,0,null,{"$f":"UP17","v":0},{"$f":"UO2","v":"Ayoub"},null,"n°1",null,null,null,null,null,null,null,null,null,null,null,"n°1",{"$f":"VH2","v":0},null,{"$f":"VI17","v":0},0,null,0,null,{"$f":"VM17","v":0},{"$f":"VL2","v":0},null,"n°1",null,null,null,null,null,null,null,null,null,null,null,"n°1",{"$f":"WE2","v":0},null,{"$f":"WF17","v":0},0,null,0,null,{"$f":"WJ17","v":0},{"$f":"WI2","v":0},null,"n°1",null,null,null,null,null,null,null,null,null,null,null,"n°1",{"$f":"XB2","v":"Adgy"},null,{"$f":"XC17","v":0},0,null,0,null,{"$f":"XG17","v":0},{"$f":"XF2","v":"Ayoub"},null,"n°1",null,null,null,null,null,null,null,null,null,null,null,"n°1",{"$f":"XY2","v":0},null,{"$f":"XZ17","v":0},0,null,0,null,{"$f":"YD17","v":0},{"$f":"YC2","v":0},null,"n°1",null,null,null,null,null,null,null,null,null,null,null,"n°1",{"$f":"YV2","v":0},null,{"$f":"YW17","v":0},0,null,0,null,{"$f":"ZA17","v":0},{"$f":"YZ2","v":0},null,"n°1",null,null,null,null,null,null,null,null,null,null,null,"n°1",{"$f":"ZS2","v":"Adgy"},null,{"$f":"ZT17","v":0},0,null,0,null,{"$f":"ZX17","v":0},{"$f":"ZW2","v":"Ayoub"},null,"n°1",null,null,null,null,null,null,null,null,null,null,null,"n°1",{"$f":"AAP2","v":0},null,{"$f":"AAQ17","v":0},0,null,0,null,{"$f":"AAU17","v":0},{"$f":"AAT2","v":0},null,"n°1",null,null,null,null,null,null,null,null,null,null,null,"n°1",{"$f":"ABM2","v":0},null,{"$f":"ABN17","v":0},0,null,0,null,{"$f":"ABR17","v":0},{"$f":"ABQ2","v":0},null,"n°1",null,null,null,null,null,null,null,null,null,null,null,"n°1",{"$f":"ACJ2","v":"Adgy"},null,{"$f":"ACK17","v":0},0,null,0,null,{"$f":"ACO17","v":0},{"$f":"ACN2","v":"Ayoub"},null,"n°1",null,null,null,null,null,null,null,null,null,null,null,"n°1",{"$f":"ADG2","v":0},null,{"$f":"ADH17","v":0},0,null,0,null,{"$f":"ADL17","v":0},{"$f":"ADK2","v":0},null,"n°1",null,null,null,null,null,null,null,null,null,null,null,"n°1",{"$f":"AED2","v":0},null,{"$f":"AEE17","v":0},0,null,0,null,{"$f":"AEI17","v":0},{"$f":"AEH2","v":0},null,"n°1",null,null,null,null,null,null,null,null,null,null,null,"n°1",{"$f":"AFA2","v":"Adgy"},null,{"$f":"AFB17","v":0},0,null,0,null,{"$f":"AFF17","v":0},{"$f":"AFE2","v":"Ayoub"},null,"n°1",null,null,null,null,null,null,null,null,null,null,null,"n°1",{"$f":"AFX2","v":0},null,{"$f":"AFY17","v":0},0,null,0,null,{"$f":"AGC17","v":0},{"$f":"AGB2","v":0},null,"n°1",null,null,null,null,null,null,null,null,null,null,null,"n°1",{"$f":"AGU2","v":0},null,{"$f":"AGV17","v":0},0,null,0,null,{"$f":"AGZ17","v":0},{"$f":"AGY2","v":0},null,"n°1",null,null,null,null,null,null,null,null,null,null,null,"n°1",{"$f":"AHR2","v":"Adgy"},null,{"$f":"AHS17","v":0},0,null,0,null,{"$f":"AHW17","v":0},{"$f":"AHV2","v":"Ayoub"},null,"n°1",null,null,null,null,null,null,null,null,null,null,null,"n°1",{"$f":"AIO2","v":0},null,{"$f":"AIP17","v":0},0,null,0,null,{"$f":"AIT17","v":0},{"$f":"AIS2","v":0},null,"n°1",null,null,null,null,null,null,null,null,null,null,null,"n°1",{"$f":"AJL2","v":0},null,{"$f":"AJM17","v":0},0,null,0,null,{"$f":"AJQ17","v":0},{"$f":"AJP2","v":0},null,"n°1",null,null,null,null,null,null,null,null,null,null,null,"n°1",{"$f":"AKI2","v":"Adgy"},null,{"$f":"AKJ17","v":0},0,null,0,null,{"$f":"AKN17","v":0},{"$f":"AKM2","v":"Ayoub"},null,"n°1",null,null,null,null,null,null,null,null,null,null,null,"n°1",{"$f":"ALF2","v":0},null,{"$f":"ALG17","v":0},0,null,0,null,{"$f":"ALK17","v":0},{"$f":"ALJ2","v":0},null,"n°1",null,null,null,null,null,null,null,null,null,null,null,"n°1",{"$f":"AMC2","v":0},null,{"$f":"AMD17","v":0},0,null,0,null,{"$f":"AMH17","v":0},{"$f":"AMG2","v":0},null,"n°1",null,null,null,null,null,null,null,null,null,null,null,"n°1",{"$f":"AMZ2","v":"Adgy"},null,{"$f":"ANA17","v":0},0,null,0,null,{"$f":"ANE17","v":0},{"$f":"AND2","v":"Ayoub"},null,"n°1",null,null,null,null,null,null,null,null,null,null,null,"n°1",{"$f":"ANW2","v":0},null,{"$f":"ANX17","v":0},0,null,0,null,{"$f":"AOB17","v":0},{"$f":"AOA2","v":0},null,"n°1",null,null,null,null,null,null,null,null,null,null,null,"n°1",{"$f":"AOT2","v":0},null,{"$f":"AOU17","v":0},0,null,0,null,{"$f":"AOY17","v":0},{"$f":"AOX2","v":0},null,"n°1"]
[null,null,null,null,null,null,null,null,null,null,"+",null,null,null,null,"+",null,null,null,null,null,null,null,null,null,null,null,null,null,null,null,null,null,"+",null,null,null,null,"+",null,null,null,null,null,null,null,null,null,null,null,null,null,null,null,null,null,"+",null,null,null,null,"+",null,null,null,null,null,null,null,null,null,null,null,null,null,null,null,null,null,"+",null,null,null,null,"+",null,null,null,null,null,null,null,null,null,null,null,null,null,null,null,null,null,"+",null,null,null,null,"+",null,null,null,null,null,null,null,null,null,null,null,null,null,null,null,null,null,"+",null,null,null,null,"+",null,null,null,null,null,null,null,null,null,null,null,null,null,null,null,null,null,"+",null,null,null,null,"+",null,null,null,null,null,null,null,null,null,null,null,null,null,null,null,null,null,"+",null,null,null,null,"+",null,null,null,null,null,null,null,null,null,null,null,null,null,null,null,null,null,"+",null,null,null,null,"+",null,null,null,null,null,null,null,null,null,null,null,null,null,null,null,null,null,"+",null,null,null,null,"+",null,null,null,null,null,null,null,null,null,null,null,null,null,null,null,null,null,"+",null,null,null,null,"+",null,null,null,null,null,null,null,null,null,null,null,null,null,null,null,null,null,"+",null,null,null,null,"+",null,null,null,null,null,null,null,null,null,null,null,null,null,null,null,null,null,"+",null,null,null,null,"+",null,null,null,null,null,null,null,null,null,null,null,null,null,null,null,null,null,"+",null,null,null,null,"+",null,null,null,null,null,null,null,null,null,null,null,null,null,null,null,null,null,"+",null,null,null,null,"+",null,null,null,null,null,null,null,null,null,null,null,null,null,null,null,null,null,"+",null,null,null,null,"+",null,null,null,null,null,null,null,null,null,null,null,null,null,null,null,null,null,"+",null,null,null,null,"+",null,null,null,null,null,null,null,null,null,null,null,null,null,null,null,null,null,"+",null,null,null,null,"+",null,null,null,null,null,null,null,null,null,null,null,null,null,null,null,null,null,"+",null,null,null,null,"+",null,null,null,null,null,null,null,null,null,null,null,null,null,null,null,null,null,"+",null,null,null,null,"+",null,null,null,null,null,null,null,null,null,null,null,null,null,null,null,null,null,"+",null,null,null,null,"+",null,null,null,null,null,null,null,null,null,null,null,null,null,null,null,null,null,"+",null,null,null,null,"+",null,null,null,null,null,null,null,null,null,null,null,null,null,null,null,null,null,"+",null,null,null,null,"+",null,null,null,null,null,null,null,null,null,null,null,null,null,null,null,null,null,"+",null,null,null,null,"+",null,null,null,null,null,null,null,null,null,null,null,null,null,null,null,null,null,"+",null,null,null,null,"+",null,null,null,null,null,null,null,null,null,null,null,null,null,null,null,null,null,"+",null,null,null,null,"+",null,null,null,null,null,null,null,null,null,null,null,null,null,null,null,null,null,"+",null,null,null,null,"+",null,null,null,null,null,null,null,null,null,null,null,null,null,null,null,null,null,"+",null,null,null,null,"+",null,null,null,null,null,null,null,null,null,null,null,null,null,null,null,null,null,"+",null,null,null,null,"+",null,null,null,null,null,null,null,null,null,null,null,null,null,null,null,null,null,"+",null,null,null,null,"+",null,null,null,null,null,null,null,null,null,null,null,null,null,null,null,null,null,"+",null,null,null,null,"+",null,null,null,null,null,null,null,null,null,null,null,null,null,null,null,null,null,"+",null,null,null,null,"+",null,null,null,null,null,null,null,null,null,null,null,null,null,null,null,null,null,"+",null,null,null,null,"+",null,null,null,null,null,null,null,null,null,null,null,null,null,null,null,null,null,"+",null,null,null,null,"+",null,null,null,null,null,null,null,null,null,null,null,null,null,null,null,null,null,"+",null,null,null,null,"+",null,null,null,null,null,null,null,null,null,null,null,null,null,null,null,null,null,"+",null,null,null,null,"+",null,null,null,null,null,null,null,null,null,null,null,null,null,null,null,null,null,"+",null,null,null,null,"+",null,null,null,null,null,null,null,null,null,null,null,null,null,null,null,null,null,"+",null,null,null,null,"+",null,null,null,null,null,null,null,null,null,null,null,null,null,null,null,null,null,"+",null,null,null,null,"+",null,null,null,null,null,null,null,null,null,null,null,null,null,null,null,null,null,"+",null,null,null,null,"+",null,null,null,null,null,null,null,null,null,null,null,null,null,null,null,null,null,"+",null,null,null,null,"+",null,null,null,null,null,null,null,null,null,null,null,null,null,null,null,null,null,"+",null,null,null,null,"+",null,null,null,null,null,null,null,null,null,null,null,null,null,null,null,null,null,"+",null,null,null,null,"+",null,null,null,null,null,null,null,null,null,null,null,null,null,null,null,null,null,"+",null,null,null,null,"+",null,null,null,null,null,null,null,null,null,null,null,null,null,null,null,null,null,"+",null,null,null,null,"+",null,null,null,null,null,null,null,null,null,null,null,null,null,null,null,null,null,"+",null,null,null,null,"+",null,null,null,null,null,null,null,null,null,null,null,null,null,null,null,null,null,"+",null,null,null,null,"+",null,null,null,null,null,null,null,null,null,null,null,null,null,null,null,null,null,"+",null,null,null,null,"+"]
[null,null,null,null,null,null,null,"n°2",{"$f":"P2","v":0},null,{"$f":"Q17","v":0},null,null,null,null,{"$f":"U17","v":0},{"$f":"T2","v":0},null,"n°2",null,null,null,null,null,null,null,null,null,null,null,"n°2",{"$f":"AM2","v":0},null,{"$f":"AN17","v":0},null,null,null,null,{"$f":"AR17","v":0},{"$f":"AQ2","v":0},null,"n°2",null,null,null,null,null,null,null,null,null,null,null,"n°2",{"$f":"BJ2","v":0},null,{"$f":"BK17","v":0},null,null,null,null,{"$f":"BO17","v":0},{"$f":"BN2","v":0},null,"n°2",null,null,null,null,null,null,null,null,null,null,null,"n°2",{"$f":"CG2","v":0},null,{"$f":"CH17","v":0},null,null,null,null,{"$f":"CL17","v":0},{"$f":"CK2","v":0},null,"n°2",null,null,null,null,null,null,null,null,null,null,null,"n°2",{"$f":"DD2","v":0},null,{"$f":"DE17","v":0},null,null,null,null,{"$f":"DI17","v":0},{"$f":"DH2","v":0},null,"n°2",null,null,null,null,null,null,null,null,null,null,null,"n°2",{"$f":"EA2","v":0},null,{"$f":"EB17","v":0},null,null,null,null,{"$f":"EF17","v":0},{"$f":"EE2","v":0},null,"n°2",null,null,null,null,null,null,null,null,null,null,null,"n°2",{"$f":"EX2","v":0},null,{"$f":"EY17","v":0},null,null,null,null,{"$f":"FC17","v":0},{"$f":"FB2","v":0},null,"n°2",null,null,null,null,null,null,null,null,null,null,null,"n°2",{"$f":"FU2","v":0},null,{"$f":"FV17","v":0},null,null,null,null,{"$f":"FZ17","v":0},{"$f":"FY2","v":0},null,"n°2",null,null,null,null,null,null,null,null,null,null,null,"n°2",{"$f":"GR2","v":0},null,{"$f":"GS17","v":0},null,null,null,null,{"$f":"GW17","v":0},{"$f":"GV2","v":0},null,"n°2",null,null,null,null,null,null,null,null,null,null,null,"n°2",{"$f":"HO2","v":0},null,{"$f":"HP17","v":0},null,null,null,null,{"$f":"HT17","v":0},{"$f":"HS2","v":0},null,"n°2",null,null,null,null,null,null,null,null,null,null,null,"n°2",{"$f":"IL2","v":0},null,{"$f":"IM17","v":0},null,null,null,null,{"$f":"IQ17","v":0},{"$f":"IP2","v":0},null,"n°2",null,null,null,null,null,null,null,null,null,null,null,"n°2",{"$f":"JI2","v":0},null,{"$f":"JJ17","v":0},null,null,null,null,{"$f":"JN17","v":0},{"$f":"JM2","v":0},null,"n°2",null,null,null,null,null,null,null,null,null,null,null,"n°2",{"$f":"KF2","v":0},null,{"$f":"KG17","v":0},null,null,null,null,{"$f":"KK17","v":0},{"$f":"KJ2","v":0},null,"n°2",null,null,null,null,null,null,null,null,null,null,null,"n°2",{"$f":"LC2","v":0},null,{"$f":"LD17","v":0},null,null,null,null,{"$f":"LH17","v":0},{"$f":"LG2","v":0},null,"n°2",null,null,null,null,null,null,null,null,null,null,null,"n°2",{"$f":"LZ2","v":0},null,{"$f":"MA17","v":0},null,null,null,null,{"$f":"ME17","v":0},{"$f":"MD2","v":0},null,"n°2",null,null,null,null,null,null,null,null,null,null,null,"n°2",{"$f":"MW2","v":0},null,{"$f":"MX17","v":0},null,null,null,null,{"$f":"NB17","v":0},{"$f":"NA2","v":0},null,"n°2",null,null,null,null,null,null,null,null,null,null,null,"n°2",{"$f":"NT2","v":0},null,{"$f":"NU17","v":0},null,null,null,null,{"$f":"NY17","v":0},{"$f":"NX2","v":0},null,"n°2",null,null,null,null,null,null,null,null,null,null,null,"n°2",{"$f":"OQ2","v":0},null,{"$f":"OR17","v":0},null,null,null,null,{"$f":"OV17","v":0},{"$f":"OU2","v":0},null,"n°2",null,null,null,null,null,null,null,null,null,null,null,"n°2",{"$f":"PN2","v":0},null,{"$f":"PO17","v":0},null,null,null,null,{"$f":"PS17","v":0},{"$f":"PR2","v":0},null,"n°2",null,null,null,null,null,null,null,null,null,null,null,"n°2",{"$f":"QK2","v":0},null,{"$f":"QL17","v":0},null,null,null,null,{"$f":"QP17","v":0},{"$f":"QO2","v":0},null,"n°2",null,null,null,null,null,null,null,null,null,null,null,"n°2",{"$f":"RH2","v":0},null,{"$f":"RI17","v":0},null,null,null,null,{"$f":"RM17","v":0},{"$f":"RL2","v":0},null,"n°2",null,null,null,null,null,null,null,null,null,null,null,"n°2",{"$f":"SE2","v":0},null,{"$f":"SF17","v":0},null,null,null,null,{"$f":"SJ17","v":0},{"$f":"SI2","v":0},null,"n°2",null,null,null,null,null,null,null,null,null,null,null,"n°2",{"$f":"TB2","v":0},null,{"$f":"TC17","v":0},null,null,null,null,{"$f":"TG17","v":0},{"$f":"TF2","v":0},null,"n°2",null,null,null,null,null,null,null,null,null,null,null,"n°2",{"$f":"TY2","v":0},null,{"$f":"TZ17","v":0},null,null,null,null,{"$f":"UD17","v":0},{"$f":"UC2","v":0},null,"n°2",null,null,null,null,null,null,null,null,null,null,null,"n°2",{"$f":"UV2","v":0},null,{"$f":"UW17","v":0},null,null,null,null,{"$f":"VA17","v":0},{"$f":"UZ2","v":0},null,"n°2",null,null,null,null,null,null,null,null,null,null,null,"n°2",{"$f":"VS2","v":0},null,{"$f":"VT17","v":0},null,null,null,null,{"$f":"VX17","v":0},{"$f":"VW2","v":0},null,"n°2",null,null,null,null,null,null,null,null,null,null,null,"n°2",{"$f":"WP2","v":0},null,{"$f":"WQ17","v":0},null,null,null,null,{"$f":"WU17","v":0},{"$f":"WT2","v":0},null,"n°2",null,null,null,null,null,null,null,null,null,null,null,"n°2",{"$f":"XM2","v":0},null,{"$f":"XN17","v":0},null,null,null,null,{"$f":"XR17","v":0},{"$f":"XQ2","v":0},null,"n°2",null,null,null,null,null,null,null,null,null,null,null,"n°2",{"$f":"YJ2","v":0},null,{"$f":"YK17","v":0},null,null,null,null,{"$f":"YO17","v":0},{"$f":"YN2","v":0},null,"n°2",null,null,null,null,null,null,null,null,null,null,null,"n°2",{"$f":"ZG2","v":0},null,{"$f":"ZH17","v":0},null,null,null,null,{"$f":"ZL17","v":0},{"$f":"ZK2","v":0},null,"n°2",null,null,null,null,null,null,null,null,null,null,null,"n°2",{"$f":"AAD2","v":0},null,{"$f":"AAE17","v":0},null,null,null,null,{"$f":"AAI17","v":0},{"$f":"AAH2","v":0},null,"n°2",null,null,null,null,null,null,null,null,null,null,null,"n°2",{"$f":"ABA2","v":0},null,{"$f":"ABB17","v":0},null,null,null,null,{"$f":"ABF17","v":0},{"$f":"ABE2","v":0},null,"n°2",null,null,null,null,null,null,null,null,null,null,null,"n°2",{"$f":"ABX2","v":0},null,{"$f":"ABY17","v":0},null,null,null,null,{"$f":"ACC17","v":0},{"$f":"ACB2","v":0},null,"n°2",null,null,null,null,null,null,null,null,null,null,null,"n°2",{"$f":"ACU2","v":0},null,{"$f":"ACV17","v":0},null,null,null,null,{"$f":"ACZ17","v":0},{"$f":"ACY2","v":0},null,"n°2",null,null,null,null,null,null,null,null,null,null,null,"n°2",{"$f":"ADR2","v":0},null,{"$f":"ADS17","v":0},null,null,null,null,{"$f":"ADW17","v":0},{"$f":"ADV2","v":0},null,"n°2",null,null,null,null,null,null,null,null,null,null,null,"n°2",{"$f":"AEO2","v":0},null,{"$f":"AEP17","v":0},null,null,null,null,{"$f":"AET17","v":0},{"$f":"AES2","v":0},null,"n°2",null,null,null,null,null,null,null,null,null,null,null,"n°2",{"$f":"AFL2","v":0},null,{"$f":"AFM17","v":0},null,null,null,null,{"$f":"AFQ17","v":0},{"$f":"AFP2","v":0},null,"n°2",null,null,null,null,null,null,null,null,null,null,null,"n°2",{"$f":"AGI2","v":0},null,{"$f":"AGJ17","v":0},null,null,null,null,{"$f":"AGN17","v":0},{"$f":"AGM2","v":0},null,"n°2",null,null,null,null,null,null,null,null,null,null,null,"n°2",{"$f":"AHF2","v":0},null,{"$f":"AHG17","v":0},null,null,null,null,{"$f":"AHK17","v":0},{"$f":"AHJ2","v":0},null,"n°2",null,null,null,null,null,null,null,null,null,null,null,"n°2",{"$f":"AIC2","v":0},null,{"$f":"AID17","v":0},null,null,null,null,{"$f":"AIH17","v":0},{"$f":"AIG2","v":0},null,"n°2",null,null,null,null,null,null,null,null,null,null,null,"n°2",{"$f":"AIZ2","v":0},null,{"$f":"AJA17","v":0},null,null,null,null,{"$f":"AJE17","v":0},{"$f":"AJD2","v":0},null,"n°2",null,null,null,null,null,null,null,null,null,null,null,"n°2",{"$f":"AJW2","v":0},null,{"$f":"AJX17","v":0},null,null,null,null,{"$f":"AKB17","v":0},{"$f":"AKA2","v":0},null,"n°2",null,null,null,null,null,null,null,null,null,null,null,"n°2",{"$f":"AKT2","v":0},null,{"$f":"AKU17","v":0},null,null,null,null,{"$f":"AKY17","v":0},{"$f":"AKX2","v":0},null,"n°2",null,null,null,null,null,null,null,null,null,null,null,"n°2",{"$f":"ALQ2","v":0},null,{"$f":"ALR17","v":0},null,null,null,null,{"$f":"ALV17","v":0},{"$f":"ALU2","v":0},null,"n°2",null,null,null,null,null,null,null,null,null,null,null,"n°2",{"$f":"AMN2","v":0},null,{"$f":"AMO17","v":0},null,null,null,null,{"$f":"AMS17","v":0},{"$f":"AMR2","v":0},null,"n°2",null,null,null,null,null,null,null,null,null,null,null,"n°2",{"$f":"ANK2","v":0},null,{"$f":"ANL17","v":0},null,null,null,null,{"$f":"ANP17","v":0},{"$f":"ANO2","v":0},null,"n°2",null,null,null,null,null,null,null,null,null,null,null,"n°2",{"$f":"AOH2","v":0},null,{"$f":"AOI17","v":0},null,null,null,null,{"$f":"AOM17","v":0},{"$f":"AOL2","v":0},null,"n°2",null,null,null,null,null,null,null,null,null,null,null,"n°2",{"$f":"APE2","v":0},null,{"$f":"APF17","v":0},null,null,null,null,{"$f":"APJ17","v":0},{"$f":"API2","v":0},null,"n°2"]
[null,null,null,null,null,null,null,null,null,null,{"$f":"K21+K23","v":0},"Score additionné",null,null,null,{"$f":"P21+P23","v":0},null,null,null,null,null,null,null,null,null,null,null,null,null,null,null,null,null,{"$f":"AH21+AH23","v":0},"Score additionné",null,null,null,{"$f":"AM21+AM23","v":0},null,null,null,null,null,null,null,null,null,null,null,null,null,null,null,null,null,{"$f":"BE21+BE23","v":0},"Score additionné",null,null,null,{"$f":"BJ21+BJ23","v":0},null,null,null,null,null,null,null,null,null,null,null,null,null,null,null,null,null,{"$f":"CB21+CB23","v":0},"Score additionné",null,null,null,{"$f":"CG21+CG23","v":0},null,null,null,null,null,null,null,null,null,null,null,null,null,null,null,null,null,{"$f":"CY21+CY23","v":0},"Score additionné",null,null,null,{"$f":"DD21+DD23","v":0},null,null,null,null,null,null,null,null,null,null,null,null,null,null,null,null,null,{"$f":"DV21+DV23","v":0},"Score additionné",null,null,null,{"$f":"EA21+EA23","v":0},null,null,null,null,null,null,null,null,null,null,null,null,null,null,null,null,null,{"$f":"ES21+ES23","v":0},"Score additionné",null,null,null,{"$f":"EX21+EX23","v":0},null,null,null,null,null,null,null,null,null,null,null,null,null,null,null,null,null,{"$f":"FP21+FP23","v":0},"Score additionné",null,null,null,{"$f":"FU21+FU23","v":0},null,null,null,null,null,null,null,null,null,null,null,null,null,null,null,null,null,{"$f":"GM21+GM23","v":0},"Score additionné",null,null,null,{"$f":"GR21+GR23","v":0},null,null,null,null,null,null,null,null,null,null,null,null,null,null,null,null,null,{"$f":"HJ21+HJ23","v":0},"Score additionné",null,null,null,{"$f":"HO21+HO23","v":0},null,null,null,null,null,null,null,null,null,null,null,null,null,null,null,null,null,{"$f":"IG21+IG23","v":0},"Score additionné",null,null,null,{"$f":"IL21+IL23","v":0},null,null,null,null,null,null,null,null,null,null,null,null,null,null,null,null,null,{"$f":"JD21+JD23","v":0},"Score additionné",null,null,null,{"$f":"JI21+JI23","v":0},null,null,null,null,null,null,null,null,null,null,null,null,null,null,null,null,null,{"$f":"KA21+KA23","v":0},"Score additionné",null,null,null,{"$f":"KF21+KF23","v":0},null,null,null,null,null,null,null,null,null,null,null,null,null,null,null,null,null,{"$f":"KX21+KX23","v":0},"Score additionné",null,null,null,{"$f":"LC21+LC23","v":0},null,null,null,null,null,null,null,null,null,null,null,null,null,null,null,null,null,{"$f":"LU21+LU23","v":0},"Score additionné",null,null,null,{"$f":"LZ21+LZ23","v":0},null,null,null,null,null,null,null,null,null,null,null,null,null,null,null,null,null,{"$f":"MR21+MR23","v":0},"Score additionné",null,null,null,{"$f":"MW21+MW23","v":0},null,null,null,null,null,null,null,null,null,null,null,null,null,null,null,null,null,{"$f":"NO21+NO23","v":0},"Score additionné",null,null,null,{"$f":"NT21+NT23","v":0},null,null,null,null,null,null,null,null,null,null,null,null,null,null,null,null,null,{"$f":"OL21+OL23","v":0},"Score additionné",null,null,null,{"$f":"OQ21+OQ23","v":0},null,null,null,null,null,null,null,null,null,null,null,null,null,null,null,null,null,{"$f":"PI21+PI23","v":0},"Score additionné",null,null,null,{"$f":"PN21+PN23","v":0},null,null,null,null,null,null,null,null,null,null,null,null,null,null,null,null,null,{"$f":"QF21+QF23","v":0},"Score additionné",null,null,null,{"$f":"QK21+QK23","v":0},null,null,null,null,null,null,null,null,null,null,null,null,null,null,null,null,null,{"$f":"RC21+RC23","v":0},"Score additionné",null,null,null,{"$f":"RH21+RH23","v":0},null,null,null,null,null,null,null,null,null,null,null,null,null,null,null,null,null,{"$f":"RZ21+RZ23","v":0},"Score additionné",null,null,null,{"$f":"SE21+SE23","v":0},null,null,null,null,null,null,null,null,null,null,null,null,null,null,null,null,null,{"$f":"SW21+SW23","v":0},"Score additionné",null,null,null,{"$f":"TB21+TB23","v":0},null,null,null,null,null,null,null,null,null,null,null,null,null,null,null,null,null,{"$f":"TT21+TT23","v":0},"Score additionné",null,null,null,{"$f":"TY21+TY23","v":0},null,null,null,null,null,null,null,null,null,null,null,null,null,null,null,null,null,{"$f":"UQ21+UQ23","v":0},"Score additionné",null,null,null,{"$f":"UV21+UV23","v":0},null,null,null,null,null,null,null,null,null,null,null,null,null,null,null,null,null,{"$f":"VN21+VN23","v":0},"Score additionné",null,null,null,{"$f":"VS21+VS23","v":0},null,null,null,null,null,null,null,null,null,null,null,null,null,null,null,null,null,{"$f":"WK21+WK23","v":0},"Score additionné",null,null,null,{"$f":"WP21+WP23","v":0},null,null,null,null,null,null,null,null,null,null,null,null,null,null,null,null,null,{"$f":"XH21+XH23","v":0},"Score additionné",null,null,null,{"$f":"XM21+XM23","v":0},null,null,null,null,null,null,null,null,null,null,null,null,null,null,null,null,null,{"$f":"YE21+YE23","v":0},"Score additionné",null,null,null,{"$f":"YJ21+YJ23","v":0},null,null,null,null,null,null,null,null,null,null,null,null,null,null,null,null,null,{"$f":"ZB21+ZB23","v":0},"Score additionné",null,null,null,{"$f":"ZG21+ZG23","v":0},null,null,null,null,null,null,null,null,null,null,null,null,null,null,null,null,null,{"$f":"ZY21+ZY23","v":0},"Score additionné",null,null,null,{"$f":"AAD21+AAD23","v":0},null,null,null,null,null,null,null,null,null,null,null,null,null,null,null,null,null,{"$f":"AAV21+AAV23","v":0},"Score additionné",null,null,null,{"$f":"ABA21+ABA23","v":0},null,null,null,null,null,null,null,null,null,null,null,null,null,null,null,null,null,{"$f":"ABS21+ABS23","v":0},"Score additionné",null,null,null,{"$f":"ABX21+ABX23","v":0},null,null,null,null,null,null,null,null,null,null,null,null,null,null,null,null,null,{"$f":"ACP21+ACP23","v":0},"Score additionné",null,null,null,{"$f":"ACU21+ACU23","v":0},null,null,null,null,null,null,null,null,null,null,null,null,null,null,null,null,null,{"$f":"ADM21+ADM23","v":0},"Score additionné",null,null,null,{"$f":"ADR21+ADR23","v":0},null,null,null,null,null,null,null,null,null,null,null,null,null,null,null,null,null,{"$f":"AEJ21+AEJ23","v":0},"Score additionné",null,null,null,{"$f":"AEO21+AEO23","v":0},null,null,null,null,null,null,null,null,null,null,null,null,null,null,null,null,null,{"$f":"AFG21+AFG23","v":0},"Score additionné",null,null,null,{"$f":"AFL21+AFL23","v":0},null,null,null,null,null,null,null,null,null,null,null,null,null,null,null,null,null,{"$f":"AGD21+AGD23","v":0},"Score additionné",null,null,null,{"$f":"AGI21+AGI23","v":0},null,null,null,null,null,null,null,null,null,null,null,null,null,null,null,null,null,{"$f":"AHA21+AHA23","v":0},"Score additionné",null,null,null,{"$f":"AHF21+AHF23","v":0},null,null,null,null,null,null,null,null,null,null,null,null,null,null,null,null,null,{"$f":"AHX21+AHX23","v":0},"Score additionné",null,null,null,{"$f":"AIC21+AIC23","v":0},null,null,null,null,null,null,null,null,null,null,null,null,null,null,null,null,null,{"$f":"AIU21+AIU23","v":0},"Score additionné",null,null,null,{"$f":"AIZ21+AIZ23","v":0},null,null,null,null,null,null,null,null,null,null,null,null,null,null,null,null,null,{"$f":"AJR21+AJR23","v":0},"Score additionné",null,null,null,{"$f":"AJW21+AJW23","v":0},null,null,null,null,null,null,null,null,null,null,null,null,null,null,null,null,null,{"$f":"AKO21+AKO23","v":0},"Score additionné",null,null,null,{"$f":"AKT21+AKT23","v":0},null,null,null,null,null,null,null,null,null,null,null,null,null,null,null,null,null,{"$f":"ALL21+ALL23","v":0},"Score additionné",null,null,null,{"$f":"ALQ21+ALQ23","v":0},null,null,null,null,null,null,null,null,null,null,null,null,null,null,null,null,null,{"$f":"AMI21+AMI23","v":0},"Score additionné",null,null,null,{"$f":"AMN21+AMN23","v":0},null,null,null,null,null,null,null,null,null,null,null,null,null,null,null,null,null,{"$f":"ANF21+ANF23","v":0},"Score additionné",null,null,null,{"$f":"ANK21+ANK23","v":0},null,null,null,null,null,null,null,null,null,null,null,null,null,null,null,null,null,{"$f":"AOC21+AOC23","v":0},"Score additionné",null,null,null,{"$f":"AOH21+AOH23","v":0},null,null,null,null,null,null,null,null,null,null,null,null,null,null,null,null,null,{"$f":"AOZ21+AOZ23","v":0},"Score additionné",null,null,null,{"$f":"APE21+APE23","v":0}]

{"sheet":"MATCHS ZONES","index":7,"n_rows":33,"n_cols":818,"rows_kept":33,"cut":false,"hidden":false,"merged":[[0,255,1,257],[1,5,1,8],[1,12,1,15],[1,21,1,24],[1,28,1,31],[1,39,1,42],[1,46,1,49],[1,55,1,58],[1,62,1,65],[0,17,1,19],[0,51,1,53],[0,85,1,87],[0,119,1,121],[0,153,1,155],[0,187,1,189],[1,73,1,76],[1,80,1,83],[1,89,1,92],[1,96,1,99],[5,62,5,65],[5,73,5,76],[5,80,5,83],[5,89,5,92],[1,259,1,262],[1,266,1,269],[4,5,4,8],[4,12,4,15],[4,21,4,24],[4,28,4,31],[6,35,11,35],[4,39,4,42],[4,46,4,49],[1,209,1,212],[1,216,1,219],[1,225,1,228],[1,232,1,235],[1,243,1,246],[1,250,1,253],[1,157,1,160],[1,164,1,167],[1,175,1,178],[1,182,1,185],[1,191,1,194],[1,198,1,201],[1,107,1,110],[1,114,1,117],[1,123,1,126],[1,130,1,133],[1,141,1,144],[1,148,1,151],[0,221,1,223],[4,55,4,58],[4,62,4,65],[6,69,11,69],[4,73,4,76],[4,80,4,83],[4,89,4,92],[6,273,11,273],[5,5,5,8],[5,12,5,15],[5,21,5,24],[5,28,5,31],[5,39,5,42],[5,46,5,49],[5,55,5,58],[4,216,4,219],[4,225,4,228],[4,232,4,235],[6,239,11,239],[4,243,4,246],[4,250,4,253],[5,216,5,219],[5,225,5,228],[5,232,5,235],[5,243,5,246],[4,175,4,178],[4,182,4,185],[4,191,4,194],[4,198,4,201],[6,205,11,205],[4,209,4,212],[5,182,5,185],[5,191,5,194],[5,250,5,253],[5,259,5,262],[5,266,5,269],[5,130,5,133],[5,141,5,144],[5,148,5,151],[5,157,5,160],[5,164,5,167],[5,175,5,178],[4,259,4,262],[4,266,4,269],[4,107,4,110],[4,114,4,117],[4,123,4,126],[4,130,4,133],[5,96,5,99],[5,107,5,110],[5,114,5,117],[5,123,5,126],[5,198,5,201],[5,209,5,212],[4,96,4,99],[6,130,6,133],[6,141,6,144],[6,46,6,49],[6,55,6,58],[6,62,6,65],[6,73,6,76],[6,80,6,83],[6,89,6,92],[6,5,6,8],[6,12,6,15],[6,21,6,24],[6,28,6,31],[6,39,6,42],[6,137,11,137],[6,171,11,171],[6,103,11,103],[11,73,11,76],[11,80,11,83],[11,89,11,92],[11,96,11,99],[11,107,11,110],[13,114,13,117],[6,250,6,253],[6,259,6,262],[6,266,6,269],[11,5,11,8],[11,12,11,15],[11,21,11,24],[11,28,11,31],[11,39,11,42],[11,46,11,49],[11,55,11,58],[6,198,6,201],[6,209,6,212],[6,216,6,219],[6,225,6,228],[6,232,6,235],[6,243,6,246],[6,148,6,151],[6,157,6,160],[6,164,6,167],[6,175,6,178],[6,182,6,185],[13,216,13,219],[13,123,13,126],[13,130,13,133],[13,141,13,144],[13,148,13,151],[6,191,6,194],[6,96,6,99],[6,107,6,110],[6,114,6,117],[6,123,6,126],[13,157,13,160],[13,164,13,167],[14,259,14,260],[14,261,14,262],[14,266,14,267],[14,268,14,269],[11,266,11,269],[12,35,14,35],[11,216,11,219],[11,225,11,228],[11,232,11,235],[11,243,11,246],[11,250,11,253],[11,259,11,262],[11,164,11,167],[11,175,11,178],[11,182,11,185],[11,191,11,194],[11,198,11,201],[11,209,11,212],[11,114,11,117],[11,123,11,126],[11,130,11,133],[11,141,11,144],[11,148,11,151],[11,157,11,160],[11,62,11,65],[13,73,13,76],[13,80,13,83],[13,89,13,92],[13,96,13,99],[13,107,13,110],[14,28,14,29],[14,30,14,31],[14,39,14,40],[14,41,14,42],[14,46,14,47],[14,48,14,49],[14,5,14,6],[14,7,14,8],[14,12,14,13],[14,14,14,15],[14,21,14,22],[14,23,14,24],[12,273,14,273],[12,239,14,239],[12,259,12,262],[12,266,12,269],[12,205,14,205],[12,171,14,171],[12,137,14,137],[12,69,14,69],[12,103,14,103],[13,225,13,228],[13,232,13,235],[13,243,13,246],[13,250,13,253],[13,259,13,262],[13,266,13,269],[13,175,13,178],[13,182,13,185],[13,191,13,194],[13,198,13,201],[13,209,13,212],[13,5,13,8],[13,12,13,15],[13,21,13,24],[13,28,13,31],[13,39,13,42],[13,46,13,49],[13,55,13,58],[13,62,13,65],[14,175,14,176],[14,177,14,178],[14,130,14,131],[14,132,14,133],[14,141,14,142],[14,143,14,144],[14,148,14,149],[14,150,14,151],[14,107,14,108],[14,109,14,110],[14,114,14,115],[14,116,14,117],[14,123,14,124],[14,125,14,126],[14,80,14,81],[14,82,14,83],[14,89,14,90],[14,91,14,92],[14,96,14,97],[14,98,14,99],[14,55,14,56],[14,57,14,58],[14,62,14,63],[14,64,14,65],[15,35,26,35],[15,69,26,69],[15,103,26,103],[15,137,26,137],[15,171,26,171],[15,205,26,205],[14,232,14,233],[14,234,14,235],[14,243,14,244],[14,245,14,246],[14,250,14,251],[14,252,14,253],[14,209,14,210],[14,211,14,212],[14,216,14,217],[14,218,14,219],[14,225,14,226],[14,227,14,228],[14,182,14,183],[14,184,14,185],[14,191,14,192],[14,193,14,194],[14,198,14,199],[14,200,14,201],[14,157,14,158],[14,159,14,160],[14,164,14,165],[14,166,14,167],[14,73,14,74],[14,75,14,76],[27,62,27,64],[27,69,34,69],[27,73,27,75],[27,80,27,82],[27,89,27,91],[27,96,27,98],[29,83,29,84],[29,85,29,87],[29,88,29,89],[15,239,26,239],[15,273,26,273],[27,5,27,7],[27,12,27,14],[27,21,27,23],[27,28,27,30],[27,35,34,35],[27,39,27,41],[27,46,27,48],[27,55,27,57],[27,148,27,150],[27,157,27,159],[27,164,27,166],[27,171,34,171],[27,175,27,177],[27,182,27,184],[29,151,29,152],[29,153,29,155],[29,156,29,157],[30,156,32,157],[27,103,34,103],[27,107,27,109],[27,114,27,116],[27,123,27,125],[27,130,27,132],[27,141,27,143],[29,117,29,118],[29,119,29,121],[29,122,29,123],[30,116,32,116],[27,232,27,234],[27,239,34,239],[27,243,27,245],[27,250,27,252],[27,259,27,261],[27,266,27,268],[29,253,29,254],[29,255,29,257],[29,258,29,259],[30,252,32,252],[27,191,27,193],[27,198,27,200],[27,205,34,205],[27,209,27,211],[27,216,27,218],[27,225,27,227],[30,219,32,220],[30,224,32,225],[30,226,32,226],[30,56,32,56],[30,82,32,82],[30,83,32,84],[30,88,32,89],[30,90,32,90],[30,14,32,14],[30,15,32,16],[30,20,32,21],[30,22,32,22],[30,48,32,48],[30,49,32,50],[29,185,29,186],[29,187,29,189],[29,190,29,191],[29,219,29,220],[29,221,29,223],[29,224,29,225],[29,15,29,16],[29,17,29,19],[29,20,29,21],[29,49,29,50],[29,51,29,53],[29,54,29,55],[1,293,1,296],[1,300,1,303],[1,311,1,314],[27,273,34,273],[28,137,34,137],[4,1,10,1],[0,289,1,291],[0,323,1,325],[0,357,1,359],[1,318,1,321],[1,327,1,330],[1,334,1,337],[1,345,1,348],[4,141,4,144],[4,148,4,151],[4,157,4,160],[4,164,4,167],[30,253,32,254],[30,258,32,259],[30,260,32,260],[30,158,32,158],[30,184,32,184],[30,185,32,186],[30,190,32,191],[30,192,32,192],[30,218,32,218],[30,117,32,118],[30,122,32,123],[30,124,32,124],[30,150,32,150],[30,151,32,152],[30,54,32,55],[1,531,1,534],[1,538,1,541],[4,277,4,280],[4,284,4,287],[4,293,4,296],[4,300,4,303],[4,311,4,314],[1,454,1,457],[1,463,1,466],[1,470,1,473],[1,481,1,484],[1,488,1,491],[1,497,1,500],[1,402,1,405],[1,413,1,416],[1,420,1,423],[1,429,1,432],[1,436,1,439],[1,447,1,450],[1,352,1,355],[1,361,1,364],[1,368,1,371],[1,379,1,382],[1,386,1,389],[1,395,1,398],[0,391,1,393],[0,425,1,427],[0,459,1,461],[0,493,1,495],[0,527,1,529],[1,277,1,280],[1,284,1,287],[4,454,4,457],[4,463,4,466],[4,368,4,371],[4,379,4,382],[4,386,4,389],[4,395,4,398],[4,402,4,405],[4,413,4,416],[4,318,4,321],[4,327,4,330],[4,334,4,337],[4,345,4,348],[4,352,4,355],[4,361,4,364],[1,504,1,507],[1,515,1,518],[1,522,1,525],[5,386,5,389],[5,395,5,398],[5,402,5,405],[5,413,5,416],[5,420,5,423],[5,429,5,432],[5,334,5,337],[5,345,5,348],[5,352,5,355],[5,361,5,364],[5,368,5,371],[5,379,5,382],[4,522,4,525],[4,531,4,534],[4,538,4,541],[5,277,5,280],[5,284,5,287],[5,293,5,296],[5,300,5,303],[5,311,5,314],[5,318,5,321],[5,327,5,330],[4,470,4,473],[4,481,4,484],[4,488,4,491],[4,497,4,500],[4,504,4,507],[4,515,4,518],[4,420,4,423],[4,429,4,432],[4,436,4,439],[4,447,4,450],[11,497,11,500],[6,341,11,341],[6,345,6,348],[6,352,6,355],[6,361,6,364],[6,368,6,371],[6,375,11,375],[11,352,11,355],[11,361,11,364],[11,368,11,371],[5,538,5,541],[6,277,6,280],[6,284,6,287],[6,293,6,296],[6,300,6,303],[6,307,11,307],[6,311,6,314],[6,318,6,321],[6,327,6,330],[6,334,6,337],[5,488,5,491],[5,497,5,500],[5,504,5,507],[5,515,5,518],[5,522,5,525],[5,531,5,534],[5,436,5,439],[5,447,5,450],[5,454,5,457],[5,463,5,466],[5,470,5,473],[5,481,5,484],[11,463,11,466],[11,470,11,473],[11,481,11,484],[11,488,11,491],[6,420,6,423],[6,429,6,432],[6,436,6,439],[6,443,11,443],[6,447,6,450],[6,454,6,457],[6,379,6,382],[6,386,6,389],[6,395,6,398],[6,402,6,405],[6,409,11,409],[6,413,6,416],[11,379,11,382],[11,386,11,389],[11,395,11,398],[11,402,11,405],[11,515,11,518],[11,522,11,525],[11,531,11,534],[11,538,11,541],[11,413,11,416],[11,420,11,423],[11,429,11,432],[11,436,11,439],[11,447,11,450],[11,454,11,457],[6,545,11,545],[11,277,11,280],[11,284,11,287],[11,293,11,296],[11,300,11,303],[11,311,11,314],[11,318,11,321],[11,327,11,330],[11,334,11,337],[11,345,11,348],[6,504,6,507],[6,511,11,511],[6,515,6,518],[6,522,6,525],[6,531,6,534],[6,538,6,541],[6,463,6,466],[6,470,6,473],[6,477,11,477],[6,481,6,484],[6,488,6,491],[6,497,6,500],[13,311,13,314],[13,318,13,321],[12,307,14,307],[12,341,14,341],[12,375,14,375],[12,409,14,409],[12,443,14,443],[12,477,14,477],[13,327,13,330],[13,334,13,337],[13,345,13,348],[13,352,13,355],[14,327,14,328],[14,329,14,330],[14,334,14,335],[14,336,14,337],[14,300,14,301],[14,302,14,303],[14,311,14,312],[14,313,14,314],[14,318,14,319],[14,320,14,321],[14,538,14,539],[14,277,14,278],[14,279,14,280],[14,284,14,285],[14,286,14,287],[14,293,14,294],[14,295,14,296],[13,463,13,466],[13,470,13,473],[13,481,13,484],[13,488,13,491],[13,497,13,500],[13,504,13,507],[13,413,13,416],[13,420,13,423],[13,429,13,432],[13,436,13,439],[14,447,14,448],[14,449,14,450],[14,402,14,403],[14,404,14,405],[13,447,13,450],[13,454,13,457],[14,415,14,416],[14,420,14,421],[13,361,13,364],[13,368,13,371],[13,379,13,382],[13,277,13,280],[13,284,13,287],[13,293,13,296],[13,300,13,303],[15,307,26,307],[15,341,26,341],[15,375,26,375],[15,409,26,409],[15,443,26,443],[15,477,26,477],[14,504,14,505],[14,506,14,507],[14,515,14,516],[14,517,14,518],[14,522,14,523],[14,524,14,525],[14,481,14,482],[14,483,14,484],[14,488,14,489],[14,490,14,491],[14,497,14,498],[14,499,14,500],[14,454,14,455],[14,456,14,457],[14,463,14,464],[14,465,14,466],[14,470,14,471],[14,472,14,473],[14,429,14,430],[14,431,14,432],[14,436,14,437],[14,438,14,439],[14,413,14,414],[14,422,14,423],[15,511,26,511],[14,395,14,396],[27,277,27,279],[27,284,27,286],[27,293,27,295],[27,300,27,302],[27,307,34,307],[27,311,27,313],[27,318,27,320],[27,327,27,329],[29,527,29,529],[29,530,29,531],[30,524,32,524],[27,463,27,465],[27,470,27,472],[27,477,34,477],[27,481,27,483],[27,488,27,490],[27,497,27,499],[30,496,32,497],[30,498,32,498],[27,420,27,422],[27,429,27,431],[27,436,27,438],[27,443,34,443],[27,447,27,449],[27,454,27,456],[29,423,29,424],[29,425,29,427],[29,428,29,429],[30,430,32,430],[30,389,32,390],[30,394,32,395],[30,326,32,327],[30,328,32,328],[30,354,32,354],[30,355,32,356],[30,360,32,361],[30,362,32,362],[27,368,27,370],[29,360,29,361],[30,286,32,286],[30,287,32,288],[30,292,32,293],[30,294,32,294],[30,320,32,320],[30,321,32,322],[28,409,34,409],[29,287,29,288],[29,289,29,291],[29,292,29,293],[29,321,29,322],[29,323,29,325],[29,326,29,327],[29,355,29,356],[29,357,29,359],[27,375,34,375],[1,572,1,575],[1,583,1,586],[30,525,32,526],[30,530,32,531],[30,532,32,532],[0,561,1,563],[0,595,1,597],[30,566,32,566],[30,592,32,592],[30,593,32,594],[30,396,32,396],[30,422,32,422],[30,423,32,424],[30,428,32,429],[27,413,27,415],[29,389,29,390],[29,391,29,393],[29,394,29,395],[15,545,26,545],[14,540,14,541],[14,397,14,398],[14,531,14,532],[14,533,14,534],[13,386,13,389],[14,386,14,387],[14,388,14,389],[13,395,13,398],[13,402,13,405],[12,511,14,511],[12,531,12,534],[12,538,12,541],[12,545,14,545],[6,613,11,613],[6,617,6,620],[6,624,6,627],[30,598,32,599],[30,558,32,558],[30,559,32,560],[30,564,32,565],[27,379,27,381],[27,386,27,388],[27,395,27,397],[27,402,27,404],[30,388,32,388],[27,334,27,336],[27,341,34,341],[27,345,27,347],[27,352,27,354],[27,361,27,363],[14,352,14,353],[14,354,14,355],[14,361,14,362],[14,363,14,364],[14,368,14,369],[14,370,14,371],[14,345,14,346],[14,347,14,348],[14,379,14,380],[14,381,14,382],[13,515,13,518],[13,522,13,525],[13,531,13,534],[13,538,13,541],[11,504,11,507],[30,456,32,456],[30,457,32,458],[30,462,32,463],[30,464,32,464],[30,490,32,490],[30,491,32,492],[29,457,29,458],[29,459,29,461],[29,462,29,463],[29,491,29,492],[29,493,29,495],[29,496,29,497],[27,545,34,545],[27,504,27,506],[27,511,34,511],[27,515,27,517],[27,522,27,524],[27,531,27,533],[27,538,27,540],[29,525,29,526],[1,810,1,813],[4,549,4,552],[4,556,4,559],[4,565,4,568],[4,572,4,575],[4,583,4,586],[1,726,1,729],[1,735,1,738],[1,742,1,745],[1,753,1,756],[1,760,1,763],[1,769,1,772],[1,674,1,677],[1,685,1,688],[1,692,1,695],[1,701,1,704],[1,708,1,711],[1,719,1,722],[1,624,1,627],[1,633,1,636],[1,640,1,643],[1,651,1,654],[1,658,1,661],[1,667,1,670],[0,663,1,665],[0,697,1,699],[0,731,1,733],[0,765,1,767],[0,799,1,801],[1,549,1,552],[1,556,1,559],[1,565,1,568],[4,735,4,738],[4,640,4,643],[4,651,4,654],[4,658,4,661],[4,667,4,670],[4,674,4,677],[4,685,4,688],[4,590,4,593],[4,599,4,602],[4,606,4,609],[4,617,4,620],[4,624,4,627],[4,633,4,636],[1,776,1,779],[1,787,1,790],[1,794,1,797],[1,803,1,806],[0,629,1,631],[1,590,1,593],[1,599,1,602],[1,606,1,609],[1,617,1,620],[5,667,5,670],[5,674,5,677],[5,685,5,688],[5,692,5,695],[5,701,5,704],[5,606,5,609],[5,617,5,620],[5,624,5,627],[5,633,5,636],[5,640,5,643],[5,651,5,654],[4,794,4,797],[4,803,4,806],[4,810,4,813],[5,549,5,552],[5,556,5,559],[5,565,5,568],[5,572,5,575],[5,583,5,586],[5,590,5,593],[5,599,5,602],[4,742,4,745],[4,753,4,756],[4,760,4,763],[4,769,4,772],[4,776,4,779],[4,787,4,790],[4,692,4,695],[4,701,4,704],[4,708,4,711],[4,719,4,722],[4,726,4,729],[6,633,6,636],[6,640,6,643],[6,647,11,647],[11,624,11,627],[11,633,11,636],[11,640,11,643],[5,810,5,813],[6,549,6,552],[6,556,6,559],[6,565,6,568],[6,572,6,575],[6,579,11,579],[6,583,6,586],[6,590,6,593],[6,599,6,602],[6,606,6,609],[5,760,5,763],[5,769,5,772],[5,776,5,779],[5,787,5,790],[5,794,5,797],[5,803,5,806],[5,708,5,711],[5,719,5,722],[5,726,5,729],[5,735,5,738],[5,742,5,745],[5,753,5,756],[5,658,5,661],[6,769,6,772],[11,735,11,738],[11,742,11,745],[11,753,11,756],[11,760,11,763],[6,692,6,695],[6,701,6,704],[6,708,6,711],[6,715,11,715],[6,719,6,722],[6,726,6,729],[6,651,6,654],[6,658,6,661],[6,667,6,670],[6,674,6,677],[6,681,11,681],[6,685,6,688],[11,651,11,654],[11,658,11,661],[11,667,11,670],[11,674,11,677],[6,760,6,763],[11,769,11,772],[11,776,11,779],[11,787,11,790],[11,794,11,797],[11,803,11,806],[11,810,11,813],[11,685,11,688],[11,692,11,695],[11,701,11,704],[11,708,11,711],[11,719,11,722],[11,726,11,729],[6,817,11,817],[11,549,11,552],[11,556,11,559],[11,565,11,568],[11,572,11,575],[11,583,11,586],[11,590,11,593],[11,599,11,602],[11,606,11,609],[11,617,11,620],[6,776,6,779],[6,783,11,783],[6,787,6,790],[6,794,6,797],[6,803,6,806],[6,810,6,813],[6,735,6,738],[6,742,6,745],[6,749,11,749],[6,753,6,756],[13,719,13,722],[13,726,13,729],[13,633,13,636],[13,640,13,643],[13,651,13,654],[13,658,13,661],[13,667,13,670],[13,674,13,677],[12,783,14,783],[12,803,12,806],[12,810,12,813],[12,817,14,817],[13,549,13,552],[13,556,13,559],[13,565,13,568],[13,572,13,575],[13,583,13,586],[13,590,13,593],[12,579,14,579],[12,613,14,613],[12,647,14,647],[12,681,14,681],[12,715,14,715],[12,749,14,749],[13,599,13,602],[13,606,13,609],[13,617,13,620],[13,624,13,627],[14,599,14,600],[14,601,14,602],[14,606,14,607],[14,608,14,609],[29,729,29,730],[29,731,29,733],[29,734,29,735],[14,760,14,761],[14,617,14,618],[14,619,14,620],[14,572,14,573],[14,574,14,575],[14,583,14,584],[14,585,14,586],[14,590,14,591],[14,592,14,593]],"merged_total":1159,"flags":["merged_cut"]}
[null,null,null,null,null,null,null,null,null,null,null,null,null,null,null,null,null,"MATCH 1",null,null,null,null,null,null,null,null,null,null,null,null,null,null,null,null,null,null,null,null,null,null,null,null,null,null,null,null,null,null,null,null,null,"MATCH 2",null,null,null,null,null,null,null,null,null,null,null,null,null,null,null,null,null,null,null,null,null,null,null,null,null,null,null,null,null,null,null,null,null,"MATCH 3",null,null,null,null,null,null,null,null,null,null,null,null,null,null,null,null,null,null,null,null,null,null,null,null,null,null,null,null,null,null,null,null,null,"MATCH 4",null,null,null,null,null,null,null,null,null,null,null,null,null,null,null,null,null,null,null,null,null,null,null,null,null,null,null,null,null,null,null,null,null,"MATCH 5",null,null,null,null,null,null,null,null,null,null,null,null,null,null,null,null,null,null,null,null,null,null,null,null,null,null,null,null,null,null,null,null,null,"MATCH 6",null,null,null,null,null,null,null,null,null,null,null,null,null,null,null,null,null,null,null,null,null,null,null,null,null,null,null,null,null,null,null,null,null,"MATCH 7",null,null,null,null,null,null,null,null,null,null,null,null,null,null,null,null,null,null,null,null,null,null,null,null,null,null,null,null,null,null,null,null,null,"MATCH 8",null,null,null,null,null,null,null,null,null,null,null,null,null,null,null,null,null,null,null,null,null,null,null,null,null,null,null,null,null,null,null,null,null,"MATCH 9",null,null,null,null,null,null,null,null,null,null,null,null,null,null,null,null,null,null,null,null,null,null,null,null,null,null,null,null,null,null,null,null,null,"MATCH 10",null,null,null,null,null,null,null,null,null,null,null,null,null,null,null,null,null,null,null,null,null,null,null,null,null,null,null,null,null,null,null,null,null,"MATCH 11",null,null,null,null,null,null,null,null,null,null,null,null,null,null,null,null,null,null,null,null,null,null,null,null,null,null,null,null,null,null,null,null,null,"MATCH 12",null,null,null,null,null,null,null,null,null,null,null,null,null,null,null,null,null,null,null,null,null,null,null,null,null,null,null,null,null,null,null,null,null,"MATCH 13",null,null,null,null,null,null,null,null,null,null,null,null,null,null,null,null,null,null,null,null,null,null,null,null,null,null,null,null,null,null,null,null,null,"MATCH 14",null,null,null,null,null,null,null,null,null,null,null,null,null,null,null,null,null,null,null,null,null,null,null,null,null,null,null,null,null,null,null,null,null,"MATCH 15",null,null,null,null,null,null,null,null,null,null,null,null,null,null,null,null,null,null,null,null,null,null,null,null,null,null,null,null,null,null,null,null,null,"MATCH 16",null,null,null,null,null,null,null,null,null,null,null,null,null,null,null,null,null,null,null,null,null,null,null,null,null,null,null,null,null,null,null,null,null,"MATCH 17",null,null,null,null,null,null,null,null,null,null,null,null,null,null,null,null,null,null,null,null,null,null,null,null,null,null,null,null,null,null,null,null,null,"MATCH 18",null,null,null,null,null,null,null,null,null,null,null,null,null,null,null,null,null,null,null,null,null,null,null,null,null,null,null,null,null,null,null,null,null,"MATCH 19",null,null,null,null,null,null,null,null,null,null,null,null,null,null,null,null,null,null,null,null,null,null,null,null,null,null,null,null,null,null,null,null,null,"MATCH 20",null,null,null,null,null,null,null,null,null,null,null,null,null,null,null,null,null,null,null,null,null,null,null,null,null,null,null,null,null,null,null,null,null,"MATCH 21",null,null,null,null,null,null,null,null,null,null,null,null,null,null,null,null,null,null,null,null,null,null,null,null,null,null,null,null,null,null,null,null,null,"MATCH 22",null,null,null,null,null,null,null,null,null,null,null,null,null,null,null,null,null,null,null,null,null,null,null,null,null,null,null,null,null,null,null,null,null,"MATCH 23",null,null,null,null,null,null,null,null,null,null,null,null,null,null,null,null,null,null,null,null,null,null,null,null,null,null,null,null,null,null,null,null,null,"MATCH 24"]
[null,{"$f":"ECHFMTELEVE!B2","v":"TELEC"},null,null,"n°1"," ",null,null,null,null,"SIMPLE 1",null,"Alaeddine",null,null,null,"n°1",null,null,null,"n°2","Amadou",null,null,null,null,"SIMPLE 2",null,"Alpha Oumar",null,null,null,"n°2",null,null,null,null,null,"n°1",null,null,null,null,null,"SIMPLE 1",null,null,null,null,null,"n°1",null,null,null,"n°2",null,null,null,null,null,"SIMPLE 2",null,null,null,null,null,"n°2",null,null,null,null,null,"n°1",null,null,null,null,null,"SIMPLE 1",null,null,null,null,null,"n°1",null,null,null,"n°2",null,null,null,null,null,"SIMPLE 2",null,null,null,null,null,"n°2",null,null,null,null,null,"n°1",null,null,null,null,null,"SIMPLE 1",null,null,null,null,null,"n°1",null,null,null,"n°2",null,null,null,null,null,"SIMPLE 2",null,null,null,null,null,"n°2",null,null,null,null,null,"n°1",null,null,null,null,null,"SIMPLE 1",null,null,null,null,null,"n°1",null,null,null,"n°2",null,null,null,null,null,"SIMPLE 2",null,null,null,null,null,"n°2",null,null,null,null,null,"n°1",null,null,null,null,null,"SIMPLE 1",null,null,null,null,null,"n°1",null,null,null,"n°2",null,null,null,null,null,"SIMPLE 2",null,null,null,null,null,"n°2",null,null,null,null,null,"n°1",null,null,null,null,null,"SIMPLE 1",null,null,null,null,null,"n°1",null,null,null,"n°2",null,null,null,null,null,"SIMPLE 2",null,null,null,null,null,"n°2",null,null,null,null,null,"n°1",null,null,null,null,null,"SIMPLE 1",null,null,null,null,null,"n°1",null,null,null,"n°2",null,null,null,null,null,"SIMPLE 2",null,null,null,null,null,"n°2",null,null,null,null,null,"n°1",null,null,null,null,null,"SIMPLE 1",null,null,null,null,null,"n°1",null,null,null,"n°2",null,null,null,null,null,"SIMPLE 2",null,null,null,null,null,"n°2",null,null,null,null,null,"n°1",null,null,null,null,null,"SIMPLE 1",null,null,null,null,null,"n°1",null,null,null,"n°2",null,null,null,null,null,"SIMPLE 2",null,null,null,null,null,"n°2",null,null,null,null,null,"n°1",null,null,null,null,null,"SIMPLE 1",null,null,null,null,null,"n°1",null,null,null,"n°2",null,null,null,null,null,"SIMPLE 2",null,null,null,null,null,"n°2",null,null,null,null,null,"n°1",null,null,null,null,null,"SIMPLE 1",null,null,null,null,null,"n°1",null,null,null,"n°2",null,null,null,null,null,"SIMPLE 2",null,null,null,null,null,"n°2",null,null,null,null,null,"n°1",null,null,null,null,null,"SIMPLE 1",null,null,null,null,null,"n°1",null,null,null,"n°2",null,null,null,null,null,"SIMPLE 2",null,null,null,null,null,"n°2",null,null,null,null,null,"n°1",null,null,null,null,null,"SIMPLE 1",null,null,null,null,null,"n°1",null,null,null,"n°2",null,null,null,null,null,"SIMPLE 2",null,null,null,null,null,"n°2",null,null,null,null,null,"n°1",null,null,null,null,null,"SIMPLE 1",null,null,null,null,null,"n°1",null,null,null,"n°2",null,null,null,null,null,"SIMPLE 2",null,null,null,null,null,"n°2",null,null,null,null,null,"n°1",null,null,null,null,null,"SIMPLE 1",null,null,null,null,null,"n°1",null,null,null,"n°2",null,null,null,null,null,"SIMPLE 2",null,null,null,null,null,"n°2",null,null,null,null,null,"n°1","Ensar",null,null,null,null,"SIMPLE 1",null,"Alaeddine",null,null,null,"n°1",null,null,null,"n°2","Amadou",null,null,null,null,"SIMPLE 2",null,"Alpha Oumar",null,null,null,"n°2",null,null,null,null,null,"n°1",null,null,null,null,null,"SIMPLE 1",null,null,null,null,null,"n°1",null,null,null,"n°2",null,null,null,null,null,"SIMPLE 2",null,null,null,null,null,"n°2",null,null,null,null,null,"n°1",null,null,null,null,null,"SIMPLE 1",null,null,null,null,null,"n°1",null,null,null,"n°2",null,null,null,null,null,"SIMPLE 2",null,null,null,null,null,"n°2",null,null,null,null,null,"n°1",null,null,null,null,null,"SIMPLE 1",null,null,null,null,null,"n°1",null,null,null,"n°2",null,null,null,null,null,"SIMPLE 2",null,null,null,null,null,"n°2",null,null,null,null,null,"n°1",null,null,null,null,null,"SIMPLE 1",null,null,null,null,null,"n°1",null,null,null,"n°2",null,null,null,null,null,"SIMPLE 2",null,null,null,null,null,"n°2",null,null,null,null,null,"n°1",null,null,null,null,null,"SIMPLE 1",null,null,null,null,null,"n°1",null,null,null,"n°2",null,null,null,null,null,"SIMPLE 2",null,null,null,null,null,"n°2",null,null,null,null,null,"n°1",null,null,null,null,null,"SIMPLE 1",null,null,null,null,null,"n°1",null,null,null,"n°2",null,null,null,null,null,"SIMPLE 2",null,null,null,null,null,"n°2",null,null,null,null,null,"n°1",null,null,null,null,null,"SIMPLE 1",null,null,null,null,null,"n°1",null,null,null,"n°2",null,null,null,null,null,"SIMPLE 2",null,null,null,null,null,"n°2"]
[]
[]
[null,"CHOIX DES ZONES\n OU\nCOUPS DANGEREUX",null,null,null,"Mon choix",null,null,null,null,null,null,"Mon choix",null,null,null,null,null,null,null,null,{"$f":"$F$5","v":"Mon choix"},null,null,null,null,null,null,{"$f":"$M$5","v":"Mon choix"},null,null,null,null,null,null,null,null,null,null,{"$f":"$F$5","v":"Mon choix"},null,null,null,null,null,null,{"$f":"$M$5","v":"Mon choix"},null,null,null,null,null,null,null,null,{"$f":"$F$5","v":"Mon choix"},null,null,null,null,null,null,{"$f":"$M$5","v":"Mon choix"},null,null,null,null,null,null,null,null,null,null,{"$f":"$F$5","v":"Mon choix"},null,null,null,null,null,null,{"$f":"$M$5","v":"Mon choix"},null,null,null,null,null,null,null,null,{"$f":"$F$5","v":"Mon choix"},null,null,null,null,null,null,{"$f":"$M$5","v":"Mon choix"},null,null,null,null,null,null,null,null,null,null,{"$f":"$F$5","v":"Mon choix"},null,null,null,null,null,null,{"$f":"$M$5","v":"Mon choix"},null,null,null,null,null,null,null,null,{"$f":"$F$5","v":"Mon choix"},null,null,null,null,null,null,{"$f":"$M$5","v":"Mon choix"},null,null,null,null,null,null,null,null,null,null,{"$f":"$F$5","v":"Mon choix"},null,null,null,null,null,null,{"$f":"$M$5","v":"Mon choix"},null,null,null,null,null,null,null,null,{"$f":"$F$5","v":"Mon choix"},null,null,null,null,null,null,{"$f":"$M$5","v":"Mon choix"},null,null,null,null,null,null,null,null,null,null,{"$f":"$F$5","v":"Mon choix"},null,null,null,null,null,null,{"$f":"$M$5","v":"Mon choix"},null,null,null,null,null,null,null,null,{"$f":"$F$5","v":"Mon choix"},null,null,null,null,null,null,{"$f":"$M$5","v":"Mon choix"},null,null,null,null,null,null,null,null,null,null,{"$f":"$F$5","v":"Mon choix"},null,null,null,null,null,null,{"$f":"$M$5","v":"Mon choix"},null,null,null,null,null,null,null,null,{"$f":"$F$5","v":"Mon choix"},null,null,null,null,null,null,{"$f":"$M$5","v":"Mon choix"},null,null,null,null,null,null,null,null,null,null,{"$f":"$F$5","v":"Mon choix"},null,null,null,null,null,null,{"$f":"$M$5","v":"Mon choix"},null,null,null,null,null,null,null,null,{"$f":"$F$5","v":"Mon choix"},null,null,null,null,null,null,{"$f":"$M$5","v":"Mon choix"},null,null,null,null,null,null,null,null,null,null,{"$f":"$F$5","v":"Mon choix"},null,null,null,null,null,null,{"$f":"$M$5","v":"Mon choix"},null,null,null,null,null,null,null,null,{"$f":"$F$5","v":"Mon choix"},null,null,null,null,null,null,{"$f":"$M$5","v":"Mon choix"},null,null,null,null,null,null,null,null,null,null,{"$f":"$F$5","v":"Mon choix"},null,null,null,null,null,null,{"$f":"$M$5","v":"Mon choix"},null,null,null,null,null,null,null,null,{"$f":"$F$5","v":"Mon choix"},null,null,null,null,null,null,{"$f":"$M$5","v":"Mon choix"},null,null,null,null,null,null,null,null,null,null,{"$f":"$F$5","v":"Mon choix"},null,null,null,null,null,null,{"$f":"$M$5","v":"Mon choix"},null,null,null,null,null,null,null,null,{"$f":"$F$5","v":"Mon choix"},null,null,null,null,null,null,{"$f":"$M$5","v":"Mon choix"},null,null,null,null,null,null,null,null,null,null,{"$f":"$F$5","v":"Mon choix"},null,null,null,null,null,null,{"$f":"$M$5","v":"Mon choix"},null,null,null,null,null,null,null,null,{"$f":"$F$5","v":"Mon choix"},null,null,null,null,null,null,{"$f":"$M$5","v":"Mon choix"},null,null,null,null,null,null,null,null,null,null,{"$f":"$F$5","v":"Mon choix"},null,null,null,null,null,null,{"$f":"$M$5","v":"Mon choix"},null,null,null,null,null,null,null,null,{"$f":"$F$5","v":"Mon choix"},null,null,null,null,null,null,{"$f":"$M$5","v":"Mon choix"},null,null,null,null,null,null,null,null,null,null,{"$f":"$F$5","v":"Mon choix"},null,null,null,null,null,null,{"$f":"$M$5","v":"Mon choix"},null,null,null,null,null,null,null,null,{"$f":"$F$5","v":"Mon choix"},null,null,null,null,null,null,{"$f":"$M$5","v":"Mon choix"},null,null,null,null,null,null,null,null,null,null,{"$f":"$F$5","v":"Mon choix"},null,null,null,null,null,null,{"$f":"$M$5","v":"Mon choix"},null,null,null,null,null,null,null,null,{"$f":"$F$5","v":"Mon choix"},null,null,null,null,null,null,{"$f":"$M$5","v":"Mon choix"},null,null,null,null,null,null,null,null,null,null,{"$f":"$F$5","v":"Mon choix"},null,null,null,null,null,null,{"$f":"$M$5","v":"Mon choix"},null,null,null,null,null,null,null,null,{"$f":"$F$5","v":"Mon choix"},null,null,null,null,null,null,{"$f":"$M$5","v":"Mon choix"},null,null,null,null,null,null,null,null,null,null,{"$f":"$F$5","v":"Mon choix"},null,null,null,null,null,null,{"$f":"$M$5","v":"Mon choix"},null,null,null,null,null,null,null,null,{"$f":"$F$5","v":"Mon choix"},null,null,null,null,null,null,{"$f":"$M$5","v":"Mon choix"},null,null,null,null,null,null,null,null,null,null,{"$f":"$F$5","v":"Mon choix"},null,null,null,null,null,null,{"$f":"$M$5","v":"Mon choix"},null,null,null,null,null,null,null,null,{"$f":"$F$5","v":"Mon choix"},null,null,null,null,null,null,{"$f":"$M$5","v":"Mon choix"},null,null,null,null,null,null,null,null,null,null,{"$f":"$F$5","v":"Mon choix"},null,null,null,null,null,null,{"$f":"$M$5","v":"Mon choix"},null,null,null,null,null,null,null,null,{"$f":"$F$5","v":"Mon choix"},null,null,null,null,null,null,{"$f":"$M$5","v":"Mon choix"},null,null,null,null,null,null,null,null,null,null,{"$f":"$F$5","v":"Mon choix"},null,null,null,null,null,null,{"$f":"$M$5","v":"Mon choix"},null,null,null,null,null,null,null,null,{"$f":"$F$5","v":"Mon choix"},null,null,null,null,null,null,{"$f":"$M$5","v":"Mon choix"},null,null,null,null,null,null,null,null,null,null,{"$f":"$F$5","v":"Mon choix"},null,null,null,null,null,null,{"$f":"$M$5","v":"Mon choix"},null,null,null,null,null,null,null,null,{"$f":"$F$5","v":"Mon choix"},null,null,null,null,null,null,{"$f":"$M$5","v":"Mon choix"},null,null,null,null,null,null,null,null,null,null,{"$f":"$F$5","v":"Mon choix"},null,null,null,null,null,null,{"$f":"$M$5","v":"Mon choix"},null,null,null,null,null,null,null,null,{"$f":"$F$5","v":"Mon choix"},null,null,null,null,null,null,{"$f":"$M$5","v":"Mon choix"},null,null,null,null,null,null,null,null,null,null,{"$f":"$F$5","v":"Mon choix"},null,null,null,null,null,null,{"$f":"$M$5","v":"Mon choix"},null,null,null,null,null,null,null,null,{"$f":"$F$5","v":"Mon choix"},null,null,null,null,null,null,{"$f":"$M$5","v":"Mon choix"},null,null,null,null,null,null,null,null,null,null,{"$f":"$F$5","v":"Mon choix"},null,null,null,null,null,null,{"$f":"$M$5","v":"Mon choix"},null,null,null,null,null,null,null,null,{"$f":"$F$5","v":"Mon choix"},null,null,null,null,null,null,{"$f":"$M$5","v":"Mon choix"}]
[null,null,null,null,null,"Zone avant",null,null,null,null,null,null,"Zones avant et arrière",null,null,null,null,null,null,null,null,"Zones avant et arrière",null,null,null,null,null,null,"Zones avant et arrière",null,null,null,null,null,null,null,null,null,null,"Zone arrière",null,null,null,null,null,null,"Zone arrière",null,null,null,null,null,null,null,null,"Zone arrière",null,null,null,null,null,null,"Zone arrière",null,null,null,null,null,null,null,null,null,null,"Zone arrière",null,null,null,null,null,null,"Zone arrière",null,null,null,null,null,null,null,null,"Zone arrière",null,null,null,null,null,null,"Zone arrière",null,null,null,null,null,null,null,null,null,null,"Zone arrière",null,null,null,null,null,null,"Zone arrière",null,null,null,null,null,null,null,null,"Zone arrière",null,null,null,null,null,null,"Zone arrière",null,null,null,null,null,null,null,null,null,null,"Zone arrière",null,null,null,null,null,null,"Zone arrière",null,null,null,null,null,null,null,null,"Zone arrière",null,null,null,null,null,null,"Zone arrière",null,null,null,null,null,null,null,null,null,null,"Zone arrière",null,null,null,null,null,null,"Zone arrière",null,null,null,null,null,null,null,null,"Zone arrière",null,null,null,null,null,null,"Zone arrière",null,null,null,null,null,null,null,null,null,null,"Zone arrière",null,null,null,null,null,null,"Zone arrière",null,null,null,null,null,null,null,null,"Zone arrière",null,null,null,null,null,null,"Zone arrière",null,null,null,null,null,null,null,null,null,null,"Zone arrière",null,null,null,null,null,null,"Zone arrière",null,null,null,null,null,null,null,null,"Zone arrière",null,null,null,null,null,null,"Zone arrière",null,null,null,null,null,null,null,null,null,null,"Zone arrière",null,null,null,null,null,null,"Zone arrière",null,null,null,null,null,null,null,null,"Zone arrière",null,null,null,null,null,null,"Zone arrière",null,null,null,null,null,null,null,null,null,null,"Zone arrière",null,null,null,null,null,null,"Zone arrière",null,null,null,null,null,null,null,null,"Zone arrière",null,null,null,null,null,null,"Zone arrière",null,null,null,null,null,null,null,null,null,null,"Zone arrière",null,null,null,null,null,null,"Zone arrière",null,null,null,null,null,null,null,null,"Zone arrière",null,null,null,null,null,null,"Zone arrière",null,null,null,null,null,null,null,null,null,null,"Zone arrière",null,null,null,null,null,null,"Zone arrière",null,null,null,null,null,null,null,null,"Zone arrière",null,null,null,null,null,null,"Zone arrière",null,null,null,null,null,null,null,null,null,null,"Zone arrière",null,null,null,null,null,null,"Zone arrière",null,null,null,null,null,null,null,null,"Zone arrière",null,null,null,null,null,null,"Zone arrière",null,null,null,null,null,null,null,null,null,null,"Zone arrière",null,null,null,null,null,null,"Zone arrière",null,null,null,null,null,null,null,null,"Zone arrière",null,null,null,null,null,null,"Zone arrière",null,null,null,null,null,null,null,null,null,null,"Zone arrière",null,null,null,null,null,null,"Zone arrière",null,null,null,null,null,null,null,null,"Zone arrière",null,null,null,null,null,null,"Zone arrière",null,null,null,null,null,null,null,null,null,null,"Zone arrière",null,null,null,null,null,null,"Zone arrière",null,null,null,null,null,null,null,null,"Zone arrière",null,null,null,null,null,null,"Zone arrière",null,null,null,null,null,null,null,null,null,null,"Zone arrière",null,null,null,null,null,null,"Zone arrière",null,null,null,null,null,null,null,null,"Zone arrière",null,null,null,null,null,null,"Zone arrière",null,null,null,null,null,null,null,null,null,null,"Zone arrière",null,null,null,null,null,null,"Zone arrière",null,null,null,null,null,null,null,null,"Zone arrière",null,null,null,null,null,null,"Zone arrière",null,null,null,null,null,null,null,null,null,null,"Zone arrière",null,null,null,null,null,null,"Zone arrière",null,null,null,null,null,null,null,null,"Zone arrière",null,null,null,null,null,null,"Zone arrière",null,null,null,null,null,null,null,null,null,null,"Zone arrière",null,null,null,null,null,null,"Zone arrière",null,null,null,null,null,null,null,null,"Zone arrière",null,null,null,null,null,null,"Zone arrière",null,null,null,null,null,null,null,null,null,null,"Zone arrière",null,null,null,null,null,null,"Zone arrière",null,null,null,null,null,null,null,null,"Zone arrière",null,null,null,null,null,null,"Zone arrière",null,null,null,null,null,null,null,null,null,null,"Zone arrière",null,null,null,null,null,null,"Zone arrière",null,null,null,null,null,null,null,null,"Zone arrière",null,null,null,null,null,null,"Zone arrière",null,null,null,null,null,null,null,null,null,null,"Zone arrière",null,null,null,null,null,null,"Zone arrière",null,null,null,null,null,null,null,null,"Zone arrière",null,null,null,null,null,null,"Zone arrière",null,null,null,null,null,null,null,null,null,null,"Zone arrière",null,null,null,null,null,null,"Zone arrière",null,null,null,null,null,null,null,null,"Zone arrière",null,null,null,null,null,null,"Zone arrière"]
[null,null,null,null,null,null,null,null,null,null,null,null,null,null,null,null,null,null,null,null,null,null,null,null,null,null,null,null,null,null,null,null,null,null,null,"NOUVEAU MATCH",null,null,null,null,null,null,null,null,null,null,null,null,null,null,null,null,null,null,null,null,null,null,null,null,null,null,null,null,null,null,null,null,null,"NOUVEAU MATCH",null,null,null,null,null,null,null,null,null,null,null,null,null,null,null,null,null,null,null,null,null,null,null,null,null,null,null,null,null,null,null,null,null,"NOUVEAU MATCH",null,null,null,null,null,null,null,null,null,null,null,null,null,null,null,null,null,null,null,null,null,null,null,null,null,null,null,null,null,null,null,null,null,"NOUVEAU MATCH",null,null,null,null,null,null,null,null,null,null,null,null,null,null,null,null,null,null,null,null,null,null,null,null,null,null,null,null,null,null,null,null,null,"NOUVEAU MATCH",null,null,null,null,null,null,null,null,null,null,null,null,null,null,null,null,null,null,null,null,null,null,null,null,null,null,null,null,null,null,null,null,null,"NOUVEAU MATCH",null,null,null,null,null,null,null,null,null,null,null,null,null,null,null,null,null,null,null,null,null,null,null,null,null,null,null,null,null,null,null,null,null,"NOUVEAU MATCH",null,null,null,null,null,null,null,null,null,null,null,null,null,null,null,null,null,null,null,null,null,null,null,null,null,null,null,null,null,null,null,null,null,"NOUVEAU MATCH",null,null,null,null,null,null,null,null,null,null,null,null,null,null,null,null,null,null,null,null,null,null,null,null,null,null,null,null,null,null,null,null,null,"NOUVEAU MATCH",null,null,null,null,null,null,null,null,null,null,null,null,null,null,null,null,null,null,null,null,null,null,null,null,null,null,null,null,null,null,null,null,null,"NOUVEAU MATCH",null,null,null,null,null,null,null,null,null,null,null,null,null,null,null,null,null,null,null,null,null,null,null,null,null,null,null,null,null,null,null,null,null,"NOUVEAU MATCH",null,null,null,null,null,null,null,null,null,null,null,null,null,null,null,null,null,null,null,null,null,null,null,null,null,null,null,null,null,null,null,null,null,"NOUVEAU MATCH",null,null,null,null,null,null,null,null,null,null,null,null,null,null,null,null,null,null,null,null,null,null,null,null,null,null,null,null,null,null,null,null,null,"NOUVEAU MATCH",null,null,null,null,null,null,null,null,null,null,null,null,null,null,null,null,null,null,null,null,null,null,null,null,null,null,null,null,null,null,null,null,null,"NOUVEAU MATCH",null,null,null,null,null,null,null,null,null,null,null,null,null,null,null,null,null,null,null,null,null,null,null,null,null,null,null,null,null,null,null,null,null,"NOUVEAU MATCH",null,null,null,null,null,null,null,null,null,null,null,null,null,null,null,null,null,null,null,null,null,null,null,null,null,null,null,null,null,null,null,null,null,"NOUVEAU MATCH",null,null,null,null,null,null,null,null,null,null,null,null,null,null,null,null,null,null,null,null,null,null,null,null,null,null,null,null,null,null,null,null,null,"NOUVEAU MATCH",null,null,null,null,null,null,null,null,null,null,null,null,null,null,null,null,null,null,null,null,null,null,null,null,null,null,null,null,null,null,null,null,null,"NOUVEAU MATCH",null,null,null,null,null,null,null,null,null,null,null,null,null,null,null,null,null,null,null,null,null,null,null,null,null,null,null,null,null,null,null,null,null,"NOUVEAU MATCH",null,null,null,null,null,null,null,null,null,null,null,null,null,null,null,null,null,null,null,null,null,null,null,null,null,null,null,null,null,null,null,null,null,"NOUVEAU MATCH",null,null,null,null,null,null,null,null,null,null,null,null,null,null,null,null,null,null,null,null,null,null,null,null,null,null,null,null,null,null,null,null,null,"NOUVEAU MATCH",null,null,null,null,null,null,null,null,null,null,null,null,null,null,null,null,null,null,null,null,null,null,null,null,null,null,null,null,null,null,null,null,null,"NOUVEAU MATCH",null,null,null,null,null,null,null,null,null,null,null,null,null,null,null,null,null,null,null,null,null,null,null,null,null,null,null,null,null,null,null,null,null,"NOUVEAU MATCH",null,null,null,null,null,null,null,null,null,null,null,null,null,null,null,null,null,null,null,null,null,null,null,null,null,null,null,null,null,null,null,null,null,"NOUVEAU MATCH"]
[null,null,null,null,null,{"$f":"IFERROR(HLOOKUP(F$6,DEBUT!$CP$2:$DI$18,2,FALSE),\"\")","v":0},{"$f":"IFERROR(HLOOKUP(F$6,DEBUT!$CP$2:$DI$18,6,FALSE),\"\")","v":0},{"$f":"IFERROR(HLOOKUP(F$6,DEBUT!$CP$2:$DI$18,10,FALSE),\"\")","v":0},{"$f":"IFERROR(HLOOKUP(F$6,DEBUT!$CP$2:$DI$18,14,FALSE),\"\")","v":0},null,null,null,{"$f":"IFERROR(HLOOKUP(M$6,DEBUT!$CP$2:$DI$18,2,FALSE),\"\")","v":"x"},{"$f":"IFERROR(HLOOKUP(M$6,DEBUT!$CP$2:$DI$18,6,FALSE),\"\")","v":"x"},{"$f":"IFERROR(HLOOKUP(M$6,DEBUT!$CP$2:$DI$18,10,FALSE),\"\")","v":"x"},{"$f":"IFERROR(HLOOKUP(M$6,DEBUT!$CP$2:$DI$18,14,FALSE),\"\")","v":"x"},null,null,null,null,null,{"$f":"IFERROR(HLOOKUP(V$6,DEBUT!$CP$2:$DI$18,2,FALSE),\"\")","v":"x"},{"$f":"IFERROR(HLOOKUP(V$6,DEBUT!$CP$2:$DI$18,6,FALSE),\"\")","v":"x"},{"$f":"IFERROR(HLOOKUP(V$6,DEBUT!$CP$2:$DI$18,10,FALSE),\"\")","v":"x"},{"$f":"IFERROR(HLOOKUP(V$6,DEBUT!$CP$2:$DI$18,14,FALSE),\"\")","v":"x"},null,null,null,{"$f":"IFERROR(HLOOKUP(AC$6,DEBUT!$CP$2:$DI$18,2,FALSE),\"\")","v":"x"},{"$f":"IFERROR(HLOOKUP(AC$6,DEBUT!$CP$2:$DI$18,6,FALSE),\"\")","v":"x"},{"$f":"IFERROR(HLOOKUP(AC$6,DEBUT!$CP$2:$DI$18,10,FALSE),\"\")","v":"x"},{"$f":"IFERROR(HLOOKUP(AC$6,DEBUT!$CP$2:$DI$18,14,FALSE),\"\")","v":"x"},null,null,null,null,null,null,null,{"$f":"IFERROR(HLOOKUP(AN$6,DEBUT!$CP$2:$DI$18,2,FALSE),\"\")","v":"x"},{"$f":"IFERROR(HLOOKUP(AN$6,DEBUT!$CP$2:$DI$18,6,FALSE),\"\")","v":"x"},{"$f":"IFERROR(HLOOKUP(AN$6,DEBUT!$CP$2:$DI$18,10,FALSE),\"\")","v":"x"},{"$f":"IFERROR(HLOOKUP(AN$6,DEBUT!$CP$2:$DI$18,14,FALSE),\"\")","v":"x"},null,null,null,{"$f":"IFERROR(HLOOKUP(AU$6,DEBUT!$CP$2:$DI$18,2,FALSE),\"\")","v":"x"},{"$f":"IFERROR(HLOOKUP(AU$6,DEBUT!$CP$2:$DI$18,6,FALSE),\"\")","v":"x"},{"$f":"IFERROR(HLOOKUP(AU$6,DEBUT!$CP$2:$DI$18,10,FALSE),\"\")","v":"x"},{"$f":"IFERROR(HLOOKUP(AU$6,DEBUT!$CP$2:$DI$18,14,FALSE),\"\")","v":"x"},null,null,null,null,null,{"$f":"IFERROR(HLOOKUP(BD$6,DEBUT!$CP$2:$DI$18,2,FALSE),\"\")","v":"x"},{"$f":"IFERROR(HLOOKUP(BD$6,DEBUT!$CP$2:$DI$18,6,FALSE),\"\")","v":"x"},{"$f":"IFERROR(HLOOKUP(BD$6,DEBUT!$CP$2:$DI$18,10,FALSE),\"\")","v":"x"},{"$f":"IFERROR(HLOOKUP(BD$6,DEBUT!$CP$2:$DI$18,14,FALSE),\"\")","v":"x"},null,null,null,{"$f":"IFERROR(HLOOKUP(BK$6,DEBUT!$CP$2:$DI$18,2,FALSE),\"\")","v":"x"},{"$f":"IFERROR(HLOOKUP(BK$6,DEBUT!$CP$2:$DI$18,6,FALSE),\"\")","v":"x"},{"$f":"IFERROR(HLOOKUP(BK$6,DEBUT!$CP$2:$DI$18,10,FALSE),\"\")","v":"x"},{"$f":"IFERROR(HLOOKUP(BK$6,DEBUT!$CP$2:$DI$18,14,FALSE),\"\")","v":"x"},null,null,null,null,null,null,null,{"$f":"IFERROR(HLOOKUP(BV$6,DEBUT!$CP$2:$DI$18,2,FALSE),\"\")","v":"x"},{"$f":"IFERROR(HLOOKUP(BV$6,DEBUT!$CP$2:$DI$18,6,FALSE),\"\")","v":"x"},{"$f":"IFERROR(HLOOKUP(BV$6,DEBUT!$CP$2:$DI$18,10,FALSE),\"\")","v":"x"},{"$f":"IFERROR(HLOOKUP(BV$6,DEBUT!$CP$2:$DI$18,14,FALSE),\"\")","v":"x"},null,null,null,{"$f":"IFERROR(HLOOKUP(CC$6,DEBUT!$CP$2:$DI$18,2,FALSE),\"\")","v":"x"},{"$f":"IFERROR(HLOOKUP(CC$6,DEBUT!$CP$2:$DI$18,6,FALSE),\"\")","v":"x"},{"$f":"IFERROR(HLOOKUP(CC$6,DEBUT!$CP$2:$DI$18,10,FALSE),\"\")","v":"x"},{"$f":"IFERROR(HLOOKUP(CC$6,DEBUT!$CP$2:$DI$18,14,FALSE),\"\")","v":"x"},null,null,null,null,null,{"$f":"IFERROR(HLOOKUP(CL$6,DEBUT!$CP$2:$DI$18,2,FALSE),\"\")","v":"x"},{"$f":"IFERROR(HLOOKUP(CL$6,DEBUT!$CP$2:$DI$18,6,FALSE),\"\")","v":"x"},{"$f":"IFERROR(HLOOKUP(CL$6,DEBUT!$CP$2:$DI$18,10,FALSE),\"\")","v":"x"},{"$f":"IFERROR(HLOOKUP(CL$6,DEBUT!$CP$2:$DI$18,14,FALSE),\"\")","v":"x"},null,null,null,{"$f":"IFERROR(HLOOKUP(CS$6,DEBUT!$CP$2:$DI$18,2,FALSE),\"\")","v":"x"},{"$f":"IFERROR(HLOOKUP(CS$6,DEBUT!$CP$2:$DI$18,6,FALSE),\"\")","v":"x"},{"$f":"IFERROR(HLOOKUP(CS$6,DEBUT!$CP$2:$DI$18,10,FALSE),\"\")","v":"x"},{"$f":"IFERROR(HLOOKUP(CS$6,DEBUT!$CP$2:$DI$18,14,FALSE),\"\")","v":"x"},null,null,null,null,null,null,null,{"$f":"IFERROR(HLOOKUP(DD$6,DEBUT!$CP$2:$DI$18,2,FALSE),\"\")","v":"x"},{"$f":"IFERROR(HLOOKUP(DD$6,DEBUT!$CP$2:$DI$18,6,FALSE),\"\")","v":"x"},{"$f":"IFERROR(HLOOKUP(DD$6,DEBUT!$CP$2:$DI$18,10,FALSE),\"\")","v":"x"},{"$f":"IFERROR(HLOOKUP(DD$6,DEBUT!$CP$2:$DI$18,14,FALSE),\"\")","v":"x"},null,null,null,{"$f":"IFERROR(HLOOKUP(DK$6,DEBUT!$CP$2:$DI$18,2,FALSE),\"\")","v":"x"},{"$f":"IFERROR(HLOOKUP(DK$6,DEBUT!$CP$2:$DI$18,6,FALSE),\"\")","v":"x"},{"$f":"IFERROR(HLOOKUP(DK$6,DEBUT!$CP$2:$DI$18,10,FALSE),\"\")","v":"x"},{"$f":"IFERROR(HLOOKUP(DK$6,DEBUT!$CP$2:$DI$18,14,FALSE),\"\")","v":"x"},null,null,null,null,null,{"$f":"IFERROR(HLOOKUP(DT$6,DEBUT!$CP$2:$DI$18,2,FALSE),\"\")","v":"x"},{"$f":"IFERROR(HLOOKUP(DT$6,DEBUT!$CP$2:$DI$18,6,FALSE),\"\")","v":"x"},{"$f":"IFERROR(HLOOKUP(DT$6,DEBUT!$CP$2:$DI$18,10,FALSE),\"\")","v":"x"},{"$f":"IFERROR(HLOOKUP(DT$6,DEBUT!$CP$2:$DI$18,14,FALSE),\"\")","v":"x"},null,null,null,{"$f":"IFERROR(HLOOKUP(EA$6,DEBUT!$CP$2:$DI$18,2,FALSE),\"\")","v":"x"},{"$f":"IFERROR(HLOOKUP(EA$6,DEBUT!$CP$2:$DI$18,6,FALSE),\"\")","v":"x"},{"$f":"IFERROR(HLOOKUP(EA$6,DEBUT!$CP$2:$DI$18,10,FALSE),\"\")","v":"x"},{"$f":"IFERROR(HLOOKUP(EA$6,DEBUT!$CP$2:$DI$18,14,FALSE),\"\")","v":"x"},null,null,null,null,null,null,null,{"$f":"IFERROR(HLOOKUP(EL$6,DEBUT!$CP$2:$DI$18,2,FALSE),\"\")","v":"x"},{"$f":"IFERROR(HLOOKUP(EL$6,DEBUT!$CP$2:$DI$18,6,FALSE),\"\")","v":"x"},{"$f":"IFERROR(HLOOKUP(EL$6,DEBUT!$CP$2:$DI$18,10,FALSE),\"\")","v":"x"},{"$f":"IFERROR(HLOOKUP(EL$6,DEBUT!$CP$2:$DI$18,14,FALSE),\"\")","v":"x"},null,null,null,{"$f":"IFERROR(HLOOKUP(ES$6,DEBUT!$CP$2:$DI$18,2,FALSE),\"\")","v":"x"},{"$f":"IFERROR(HLOOKUP(ES$6,DEBUT!$CP$2:$DI$18,6,FALSE),\"\")","v":"x"},{"$f":"IFERROR(HLOOKUP(ES$6,DEBUT!$CP$2:$DI$18,10,FALSE),\"\")","v":"x"},{"$f":"IFERROR(HLOOKUP(ES$6,DEBUT!$CP$2:$DI$18,14,FALSE),\"\")","v":"x"},null,null,null,null,null,{"$f":"IFERROR(HLOOKUP(FB$6,DEBUT!$CP$2:$DI$18,2,FALSE),\"\")","v":"x"},{"$f":"IFERROR(HLOOKUP(FB$6,DEBUT!$CP$2:$DI$18,6,FALSE),\"\")","v":"x"},{"$f":"IFERROR(HLOOKUP(FB$6,DEBUT!$CP$2:$DI$18,10,FALSE),\"\")","v":"x"},{"$f":"IFERROR(HLOOKUP(FB$6,DEBUT!$CP$2:$DI$18,14,FALSE),\"\")","v":"x"},null,null,null,{"$f":"IFERROR(HLOOKUP(FI$6,DEBUT!$CP$2:$DI$18,2,FALSE),\"\")","v":"x"},{"$f":"IFERROR(HLOOKUP(FI$6,DEBUT!$CP$2:$DI$18,6,FALSE),\"\")","v":"x"},{"$f":"IFERROR(HLOOKUP(FI$6,DEBUT!$CP$2:$DI$18,10,FALSE),\"\")","v":"x"},{"$f":"IFERROR(HLOOKUP(FI$6,DEBUT!$CP$2:$DI$18,14,FALSE),\"\")","v":"x"},null,null,null,null,null,null,null,{"$f":"IFERROR(HLOOKUP(FT$6,DEBUT!$CP$2:$DI$18,2,FALSE),\"\")","v":"x"},{"$f":"IFERROR(HLOOKUP(FT$6,DEBUT!$CP$2:$DI$18,6,FALSE),\"\")","v":"x"},{"$f":"IFERROR(HLOOKUP(FT$6,DEBUT!$CP$2:$DI$18,10,FALSE),\"\")","v":"x"},{"$f":"IFERROR(HLOOKUP(FT$6,DEBUT!$CP$2:$DI$18,14,FALSE),\"\")","v":"x"},null,null,null,{"$f":"IFERROR(HLOOKUP(GA$6,DEBUT!$CP$2:$DI$18,2,FALSE),\"\")","v":"x"},{"$f":"IFERROR(HLOOKUP(GA$6,DEBUT!$CP$2:$DI$18,6,FALSE),\"\")","v":"x"},{"$f":"IFERROR(HLOOKUP(GA$6,DEBUT!$CP$2:$DI$18,10,FALSE),\"\")","v":"x"},{"$f":"IFERROR(HLOOKUP(GA$6,DEBUT!$CP$2:$DI$18,14,FALSE),\"\")","v":"x"},null,null,null,null,null,{"$f":"IFERROR(HLOOKUP(GJ$6,DEBUT!$CP$2:$DI$18,2,FALSE),\"\")","v":"x"},{"$f":"IFERROR(HLOOKUP(GJ$6,DEBUT!$CP$2:$DI$18,6,FALSE),\"\")","v":"x"},{"$f":"IFERROR(HLOOKUP(GJ$6,DEBUT!$CP$2:$DI$18,10,FALSE),\"\")","v":"x"},{"$f":"IFERROR(HLOOKUP(GJ$6,DEBUT!$CP$2:$DI$18,14,FALSE),\"\")","v":"x"},null,null,null,{"$f":"IFERROR(HLOOKUP(GQ$6,DEBUT!$CP$2:$DI$18,2,FALSE),\"\")","v":"x"},{"$f":"IFERROR(HLOOKUP(GQ$6,DEBUT!$CP$2:$DI$18,6,FALSE),\"\")","v":"x"},{"$f":"IFERROR(HLOOKUP(GQ$6,DEBUT!$CP$2:$DI$18,10,FALSE),\"\")","v":"x"},{"$f":"IFERROR(HLOOKUP(GQ$6,DEBUT!$CP$2:$DI$18,14,FALSE),\"\")","v":"x"},null,null,null,null,null,null,null,{"$f":"IFERROR(HLOOKUP(HB$6,DEBUT!$CP$2:$DI$18,2,FALSE),\"\")","v":"x"},{"$f":"IFERROR(HLOOKUP(HB$6,DEBUT!$CP$2:$DI$18,6,FALSE),\"\")","v":"x"},{"$f":"IFERROR(HLOOKUP(HB$6,DEBUT!$CP$2:$DI$18,10,FALSE),\"\")","v":"x"},{"$f":"IFERROR(HLOOKUP(HB$6,DEBUT!$CP$2:$DI$18,14,FALSE),\"\")","v":"x"},null,null,null,{"$f":"IFERROR(HLOOKUP(HI$6,DEBUT!$CP$2:$DI$18,2,FALSE),\"\")","v":"x"},{"$f":"IFERROR(HLOOKUP(HI$6,DEBUT!$CP$2:$DI$18,6,FALSE),\"\")","v":"x"},{"$f":"IFERROR(HLOOKUP(HI$6,DEBUT!$CP$2:$DI$18,10,FALSE),\"\")","v":"x"},{"$f":"IFERROR(HLOOKUP(HI$6,DEBUT!$CP$2:$DI$18,14,FALSE),\"\")","v":"x"},null,null,null,null,null,{"$f":"IFERROR(HLOOKUP(HR$6,DEBUT!$CP$2:$DI$18,2,FALSE),\"\")","v":"x"},{"$f":"IFERROR(HLOOKUP(HR$6,DEBUT!$CP$2:$DI$18,6,FALSE),\"\")","v":"x"},{"$f":"IFERROR(HLOOKUP(HR$6,DEBUT!$CP$2:$DI$18,10,FALSE),\"\")","v":"x"},{"$f":"IFERROR(HLOOKUP(HR$6,DEBUT!$CP$2:$DI$18,14,FALSE),\"\")","v":"x"},null,null,null,{"$f":"IFERROR(HLOOKUP(HY$6,DEBUT!$CP$2:$DI$18,2,FALSE),\"\")","v":"x"},{"$f":"IFERROR(HLOOKUP(HY$6,DEBUT!$CP$2:$DI$18,6,FALSE),\"\")","v":"x"},{"$f":"IFERROR(HLOOKUP(HY$6,DEBUT!$CP$2:$DI$18,10,FALSE),\"\")","v":"x"},{"$f":"IFERROR(HLOOKUP(HY$6,DEBUT!$CP$2:$DI$18,14,FALSE),\"\")","v":"x"},null,null,null,null,null,null,null,{"$f":"IFERROR(HLOOKUP(IJ$6,DEBUT!$CP$2:$DI$18,2,FALSE),\"\")","v":"x"},{"$f":"IFERROR(HLOOKUP(IJ$6,DEBUT!$CP$2:$DI$18,6,FALSE),\"\")","v":"x"},{"$f":"IFERROR(HLOOKUP(IJ$6,DEBUT!$CP$2:$DI$18,10,FALSE),\"\")","v":"x"},{"$f":"IFERROR(HLOOKUP(IJ$6,DEBUT!$CP$2:$DI$18,14,FALSE),\"\")","v":"x"},null,null,null,{"$f":"IFERROR(HLOOKUP(IQ$6,DEBUT!$CP$2:$DI$18,2,FALSE),\"\")","v":"x"},{"$f":"IFERROR(HLOOKUP(IQ$6,DEBUT!$CP$2:$DI$18,6,FALSE),\"\")","v":"x"},{"$f":"IFERROR(HLOOKUP(IQ$6,DEBUT!$CP$2:$DI$18,10,FALSE),\"\")","v":"x"},{"$f":"IFERROR(HLOOKUP(IQ$6,DEBUT!$CP$2:$DI$18,14,FALSE),\"\")","v":"x"},null,null,null,null,null,{"$f":"IFERROR(HLOOKUP(IZ$6,DEBUT!$CP$2:$DI$18,2,FALSE),\"\")","v":"x"},{"$f":"IFERROR(HLOOKUP(IZ$6,DEBUT!$CP$2:$DI$18,6,FALSE),\"\")","v":"x"},{"$f":"IFERROR(HLOOKUP(IZ$6,DEBUT!$CP$2:$DI$18,10,FALSE),\"\")","v":"x"},{"$f":"IFERROR(HLOOKUP(IZ$6,DEBUT!$CP$2:$DI$18,14,FALSE),\"\")","v":"x"},null,null,null,{"$f":"IFERROR(HLOOKUP(JG$6,DEBUT!$CP$2:$DI$18,2,FALSE),\"\")","v":"x"},{"$f":"IFERROR(HLOOKUP(JG$6,DEBUT!$CP$2:$DI$18,6,FALSE),\"\")","v":"x"},{"$f":"IFERROR(HLOOKUP(JG$6,DEBUT!$CP$2:$DI$18,10,FALSE),\"\")","v":"x"},{"$f":"IFERROR(HLOOKUP(JG$6,DEBUT!$CP$2:$DI$18,14,FALSE),\"\")","v":"x"},null,null,null,null,null,null,null,{"$f":"IFERROR(HLOOKUP(JR$6,DEBUT!$CP$2:$DI$18,2,FALSE),\"\")","v":"x"},{"$f":"IFERROR(HLOOKUP(JR$6,DEBUT!$CP$2:$DI$18,6,FALSE),\"\")","v":"x"},{"$f":"IFERROR(HLOOKUP(JR$6,DEBUT!$CP$2:$DI$18,10,FALSE),\"\")","v":"x"},{"$f":"IFERROR(HLOOKUP(JR$6,DEBUT!$CP$2:$DI$18,14,FALSE),\"\")","v":"x"},null,null,null,{"$f":"IFERROR(HLOOKUP(JY$6,DEBUT!$CP$2:$DI$18,2,FALSE),\"\")","v":"x"},{"$f":"IFERROR(HLOOKUP(JY$6,DEBUT!$CP$2:$DI$18,6,FALSE),\"\")","v":"x"},{"$f":"IFERROR(HLOOKUP(JY$6,DEBUT!$CP$2:$DI$18,10,FALSE),\"\")","v":"x"},{"$f":"IFERROR(HLOOKUP(JY$6,DEBUT!$CP$2:$DI$18,14,FALSE),\"\")","v":"x"},null,null,null,null,null,{"$f":"IFERROR(HLOOKUP(KH$6,DEBUT!$CP$2:$DI$18,2,FALSE),\"\")","v":"x"},{"$f":"IFERROR(HLOOKUP(KH$6,DEBUT!$CP$2:$DI$18,6,FALSE),\"\")","v":"x"},{"$f":"IFERROR(HLOOKUP(KH$6,DEBUT!$CP$2:$DI$18,10,FALSE),\"\")","v":"x"},{"$f":"IFERROR(HLOOKUP(KH$6,DEBUT!$CP$2:$DI$18,14,FALSE),\"\")","v":"x"},null,null,null,{"$f":"IFERROR(HLOOKUP(KO$6,DEBUT!$CP$2:$DI$18,2,FALSE),\"\")","v":"x"},{"$f":"IFERROR(HLOOKUP(KO$6,DEBUT!$CP$2:$DI$18,6,FALSE),\"\")","v":"x"},{"$f":"IFERROR(HLOOKUP(KO$6,DEBUT!$CP$2:$DI$18,10,FALSE),\"\")","v":"x"},{"$f":"IFERROR(HLOOKUP(KO$6,DEBUT!$CP$2:$DI$18,14,FALSE),\"\")","v":"x"},null,null,null,null,null,null,null,{"$f":"IFERROR(HLOOKUP(KZ$6,DEBUT!$CP$2:$DI$18,2,FALSE),\"\")","v":"x"},{"$f":"IFERROR(HLOOKUP(KZ$6,DEBUT!$CP$2:$DI$18,6,FALSE),\"\")","v":"x"},{"$f":"IFERROR(HLOOKUP(KZ$6,DEBUT!$CP$2:$DI$18,10,FALSE),\"\")","v":"x"},{"$f":"IFERROR(HLOOKUP(KZ$6,DEBUT!$CP$2:$DI$18,14,FALSE),\"\")","v":"x"},null,null,null,{"$f":"IFERROR(HLOOKUP(LG$6,DEBUT!$CP$2:$DI$18,2,FALSE),\"\")","v":"x"},{"$f":"IFERROR(HLOOKUP(LG$6,DEBUT!$CP$2:$DI$18,6,FALSE),\"\")","v":"x"},{"$f":"IFERROR(HLOOKUP(LG$6,DEBUT!$CP$2:$DI$18,10,FALSE),\"\")","v":"x"},{"$f":"IFERROR(HLOOKUP(LG$6,DEBUT!$CP$2:$DI$18,14,FALSE),\"\")","v":"x"},null,null,null,null,null,{"$f":"IFERROR(HLOOKUP(LP$6,DEBUT!$CP$2:$DI$18,2,FALSE),\"\")","v":"x"},{"$f":"IFERROR(HLOOKUP(LP$6,DEBUT!$CP$2:$DI$18,6,FALSE),\"\")","v":"x"},{"$f":"IFERROR(HLOOKUP(LP$6,DEBUT!$CP$2:$DI$18,10,FALSE),\"\")","v":"x"},{"$f":"IFERROR(HLOOKUP(LP$6,DEBUT!$CP$2:$DI$18,14,FALSE),\"\")","v":"x"},null,null,null,{"$f":"IFERROR(HLOOKUP(LW$6,DEBUT!$CP$2:$DI$18,2,FALSE),\"\")","v":"x"},{"$f":"IFERROR(HLOOKUP(LW$6,DEBUT!$CP$2:$DI$18,6,FALSE),\"\")","v":"x"},{"$f":"IFERROR(HLOOKUP(LW$6,DEBUT!$CP$2:$DI$18,10,FALSE),\"\")","v":"x"},{"$f":"IFERROR(HLOOKUP(LW$6,DEBUT!$CP$2:$DI$18,14,FALSE),\"\")","v":"x"},null,null,null,null,null,null,null,{"$f":"IFERROR(HLOOKUP(MH$6,DEBUT!$CP$2:$DI$18,2,FALSE),\"\")","v":"x"},{"$f":"IFERROR(HLOOKUP(MH$6,DEBUT!$CP$2:$DI$18,6,FALSE),\"\")","v":"x"},{"$f":"IFERROR(HLOOKUP(MH$6,DEBUT!$CP$2:$DI$18,10,FALSE),\"\")","v":"x"},{"$f":"IFERROR(HLOOKUP(MH$6,DEBUT!$CP$2:$DI$18,14,FALSE),\"\")","v":"x"},null,null,null,{"$f":"IFERROR(HLOOKUP(MO$6,DEBUT!$CP$2:$DI$18,2,FALSE),\"\")","v":"x"},{"$f":"IFERROR(HLOOKUP(MO$6,DEBUT!$CP$2:$DI$18,6,FALSE),\"\")","v":"x"},{"$f":"IFERROR(HLOOKUP(MO$6,DEBUT!$CP$2:$DI$18,10,FALSE),\"\")","v":"x"},{"$f":"IFERROR(HLOOKUP(MO$6,DEBUT!$CP$2:$DI$18,14,FALSE),\"\")","v":"x"},null,null,null,null,null,{"$f":"IFERROR(HLOOKUP(MX$6,DEBUT!$CP$2:$DI$18,2,FALSE),\"\")","v":"x"},{"$f":"IFERROR(HLOOKUP(MX$6,DEBUT!$CP$2:$DI$18,6,FALSE),\"\")","v":"x"},{"$f":"IFERROR(HLOOKUP(MX$6,DEBUT!$CP$2:$DI$18,10,FALSE),\"\")","v":"x"},{"$f":"IFERROR(HLOOKUP(MX$6,DEBUT!$CP$2:$DI$18,14,FALSE),\"\")","v":"x"},null,null,null,{"$f":"IFERROR(HLOOKUP(NE$6,DEBUT!$CP$2:$DI$18,2,FALSE),\"\")","v":"x"},{"$f":"IFERROR(HLOOKUP(NE$6,DEBUT!$CP$2:$DI$18,6,FALSE),\"\")","v":"x"},{"$f":"IFERROR(HLOOKUP(NE$6,DEBUT!$CP$2:$DI$18,10,FALSE),\"\")","v":"x"},{"$f":"IFERROR(HLOOKUP(NE$6,DEBUT!$CP$2:$DI$18,14,FALSE),\"\")","v":"x"},null,null,null,null,null,null,null,{"$f":"IFERROR(HLOOKUP(NP$6,DEBUT!$CP$2:$DI$18,2,FALSE),\"\")","v":"x"},{"$f":"IFERROR(HLOOKUP(NP$6,DEBUT!$CP$2:$DI$18,6,FALSE),\"\")","v":"x"},{"$f":"IFERROR(HLOOKUP(NP$6,DEBUT!$CP$2:$DI$18,10,FALSE),\"\")","v":"x"},{"$f":"IFERROR(HLOOKUP(NP$6,DEBUT!$CP$2:$DI$18,14,FALSE),\"\")","v":"x"},null,null,null,{"$f":"IFERROR(HLOOKUP(NW$6,DEBUT!$CP$2:$DI$18,2,FALSE),\"\")","v":"x"},{"$f":"IFERROR(HLOOKUP(NW$6,DEBUT!$CP$2:$DI$18,6,FALSE),\"\")","v":"x"},{"$f":"IFERROR(HLOOKUP(NW$6,DEBUT!$CP$2:$DI$18,10,FALSE),\"\")","v":"x"},{"$f":"IFERROR(HLOOKUP(NW$6,DEBUT!$CP$2:$DI$18,14,FALSE),\"\")","v":"x"},null,null,null,null,null,{"$f":"IFERROR(HLOOKUP(OF$6,DEBUT!$CP$2:$DI$18,2,FALSE),\"\")","v":"x"},{"$f":"IFERROR(HLOOKUP(OF$6,DEBUT!$CP$2:$DI$18,6,FALSE),\"\")","v":"x"},{"$f":"IFERROR(HLOOKUP(OF$6,DEBUT!$CP$2:$DI$18,10,FALSE),\"\")","v":"x"},{"$f":"IFERROR(HLOOKUP(OF$6,DEBUT!$CP$2:$DI$18,14,FALSE),\"\")","v":"x"},null,null,null,{"$f":"IFERROR(HLOOKUP(OM$6,DEBUT!$CP$2:$DI$18,2,FALSE),\"\")","v":"x"},{"$f":"IFERROR(HLOOKUP(OM$6,DEBUT!$CP$2:$DI$18,6,FALSE),\"\")","v":"x"},{"$f":"IFERROR(HLOOKUP(OM$6,DEBUT!$CP$2:$DI$18,10,FALSE),\"\")","v":"x"},{"$f":"IFERROR(HLOOKUP(OM$6,DEBUT!$CP$2:$DI$18,14,FALSE),\"\")","v":"x"},null,null,null,null,null,null,null,{"$f":"IFERROR(HLOOKUP(OX$6,DEBUT!$CP$2:$DI$18,2,FALSE),\"\")","v":"x"},{"$f":"IFERROR(HLOOKUP(OX$6,DEBUT!$CP$2:$DI$18,6,FALSE),\"\")","v":"x"},{"$f":"IFERROR(HLOOKUP(OX$6,DEBUT!$CP$2:$DI$18,10,FALSE),\"\")","v":"x"},{"$f":"IFERROR(HLOOKUP(OX$6,DEBUT!$CP$2:$DI$18,14,FALSE),\"\")","v":"x"},null,null,null,{"$f":"IFERROR(HLOOKUP(PE$6,DEBUT!$CP$2:$DI$18,2,FALSE),\"\")","v":"x"},{"$f":"IFERROR(HLOOKUP(PE$6,DEBUT!$CP$2:$DI$18,6,FALSE),\"\")","v":"x"},{"$f":"IFERROR(HLOOKUP(PE$6,DEBUT!$CP$2:$DI$18,10,FALSE),\"\")","v":"x"},{"$f":"IFERROR(HLOOKUP(PE$6,DEBUT!$CP$2:$DI$18,14,FALSE),\"\")","v":"x"},null,null,null,null,null,{"$f":"IFERROR(HLOOKUP(PN$6,DEBUT!$CP$2:$DI$18,2,FALSE),\"\")","v":"x"},{"$f":"IFERROR(HLOOKUP(PN$6,DEBUT!$CP$2:$DI$18,6,FALSE),\"\")","v":"x"},{"$f":"IFERROR(HLOOKUP(PN$6,DEBUT!$CP$2:$DI$18,10,FALSE),\"\")","v":"x"},{"$f":"IFERROR(HLOOKUP(PN$6,DEBUT!$CP$2:$DI$18,14,FALSE),\"\")","v":"x"},null,null,null,{"$f":"IFERROR(HLOOKUP(PU$6,DEBUT!$CP$2:$DI$18,2,FALSE),\"\")","v":"x"},{"$f":"IFERROR(HLOOKUP(PU$6,DEBUT!$CP$2:$DI$18,6,FALSE),\"\")","v":"x"},{"$f":"IFERROR(HLOOKUP(PU$6,DEBUT!$CP$2:$DI$18,10,FALSE),\"\")","v":"x"},{"$f":"IFERROR(HLOOKUP(PU$6,DEBUT!$CP$2:$DI$18,14,FALSE),\"\")","v":"x"},null,null,null,null,null,null,null,{"$f":"IFERROR(HLOOKUP(QF$6,DEBUT!$CP$2:$DI$18,2,FALSE),\"\")","v":"x"},{"$f":"IFERROR(HLOOKUP(QF$6,DEBUT!$CP$2:$DI$18,6,FALSE),\"\")","v":"x"},{"$f":"IFERROR(HLOOKUP(QF$6,DEBUT!$CP$2:$DI$18,10,FALSE),\"\")","v":"x"},{"$f":"IFERROR(HLOOKUP(QF$6,DEBUT!$CP$2:$DI$18,14,FALSE),\"\")","v":"x"},null,null,null,{"$f":"IFERROR(HLOOKUP(QM$6,DEBUT!$CP$2:$DI$18,2,FALSE),\"\")","v":"x"},{"$f":"IFERROR(HLOOKUP(QM$6,DEBUT!$CP$2:$DI$18,6,FALSE),\"\")","v":"x"},{"$f":"IFERROR(HLOOKUP(QM$6,DEBUT!$CP$2:$DI$18,10,FALSE),\"\")","v":"x"},{"$f":"IFERROR(HLOOKUP(QM$6,DEBUT!$CP$2:$DI$18,14,FALSE),\"\")","v":"x"},null,null,null,null,null,{"$f":"IFERROR(HLOOKUP(QV$6,DEBUT!$CP$2:$DI$18,2,FALSE),\"\")","v":"x"},{"$f":"IFERROR(HLOOKUP(QV$6,DEBUT!$CP$2:$DI$18,6,FALSE),\"\")","v":"x"},{"$f":"IFERROR(HLOOKUP(QV$6,DEBUT!$CP$2:$DI$18,10,FALSE),\"\")","v":"x"},{"$f":"IFERROR(HLOOKUP(QV$6,DEBUT!$CP$2:$DI$18,14,FALSE),\"\")","v":"x"},null,null,null,{"$f":"IFERROR(HLOOKUP(RC$6,DEBUT!$CP$2:$DI$18,2,FALSE),\"\")","v":"x"},{"$f":"IFERROR(HLOOKUP(RC$6,DEBUT!$CP$2:$DI$18,6,FALSE),\"\")","v":"x"},{"$f":"IFERROR(HLOOKUP(RC$6,DEBUT!$CP$2:$DI$18,10,FALSE),\"\")","v":"x"},{"$f":"IFERROR(HLOOKUP(RC$6,DEBUT!$CP$2:$DI$18,14,FALSE),\"\")","v":"x"},null,null,null,null,null,null,null,{"$f":"IFERROR(HLOOKUP(RN$6,DEBUT!$CP$2:$DI$18,2,FALSE),\"\")","v":"x"},{"$f":"IFERROR(HLOOKUP(RN$6,DEBUT!$CP$2:$DI$18,6,FALSE),\"\")","v":"x"},{"$f":"IFERROR(HLOOKUP(RN$6,DEBUT!$CP$2:$DI$18,10,FALSE),\"\")","v":"x"},{"$f":"IFERROR(HLOOKUP(RN$6,DEBUT!$CP$2:$DI$18,14,FALSE),\"\")","v":"x"},null,null,null,{"$f":"IFERROR(HLOOKUP(RU$6,DEBUT!$CP$2:$DI$18,2,FALSE),\"\")","v":"x"},{"$f":"IFERROR(HLOOKUP(RU$6,DEBUT!$CP$2:$DI$18,6,FALSE),\"\")","v":"x"},{"$f":"IFERROR(HLOOKUP(RU$6,DEBUT!$CP$2:$DI$18,10,FALSE),\"\")","v":"x"},{"$f":"IFERROR(HLOOKUP(RU$6,DEBUT!$CP$2:$DI$18,14,FALSE),\"\")","v":"x"},null,null,null,null,null,{"$f":"IFERROR(HLOOKUP(SD$6,DEBUT!$CP$2:$DI$18,2,FALSE),\"\")","v":"x"},{"$f":"IFERROR(HLOOKUP(SD$6,DEBUT!$CP$2:$DI$18,6,FALSE),\"\")","v":"x"},{"$f":"IFERROR(HLOOKUP(SD$6,DEBUT!$CP$2:$DI$18,10,FALSE),\"\")","v":"x"},{"$f":"IFERROR(HLOOKUP(SD$6,DEBUT!$CP$2:$DI$18,14,FALSE),\"\")","v":"x"},null,null,null,{"$f":"IFERROR(HLOOKUP(SK$6,DEBUT!$CP$2:$DI$18,2,FALSE),\"\")","v":"x"},{"$f":"IFERROR(HLOOKUP(SK$6,DEBUT!$CP$2:$DI$18,6,FALSE),\"\")","v":"x"},{"$f":"IFERROR(HLOOKUP(SK$6,DEBUT!$CP$2:$DI$18,10,FALSE),\"\")","v":"x"},{"$f":"IFERROR(HLOOKUP(SK$6,DEBUT!$CP$2:$DI$18,14,FALSE),\"\")","v":"x"},null,null,null,null,null,null,null,{"$f":"IFERROR(HLOOKUP(SV$6,DEBUT!$CP$2:$DI$18,2,FALSE),\"\")","v":"x"},{"$f":"IFERROR(HLOOKUP(SV$6,DEBUT!$CP$2:$DI$18,6,FALSE),\"\")","v":"x"},{"$f":"IFERROR(HLOOKUP(SV$6,DEBUT!$CP$2:$DI$18,10,FALSE),\"\")","v":"x"},{"$f":"IFERROR(HLOOKUP(SV$6,DEBUT!$CP$2:$DI$18,14,FALSE),\"\")","v":"x"},null,null,null,{"$f":"IFERROR(HLOOKUP(TC$6,DEBUT!$CP$2:$DI$18,2,FALSE),\"\")","v":"x"},{"$f":"IFERROR(HLOOKUP(TC$6,DEBUT!$CP$2:$DI$18,6,FALSE),\"\")","v":"x"},{"$f":"IFERROR(HLOOKUP(TC$6,DEBUT!$CP$2:$DI$18,10,FALSE),\"\")","v":"x"},{"$f":"IFERROR(HLOOKUP(TC$6,DEBUT!$CP$2:$DI$18,14,FALSE),\"\")","v":"x"},null,null,null,null,null,{"$f":"IFERROR(HLOOKUP(TL$6,DEBUT!$CP$2:$DI$18,2,FALSE),\"\")","v":"x"},{"$f":"IFERROR(HLOOKUP(TL$6,DEBUT!$CP$2:$DI$18,6,FALSE),\"\")","v":"x"},{"$f":"IFERROR(HLOOKUP(TL$6,DEBUT!$CP$2:$DI$18,10,FALSE),\"\")","v":"x"},{"$f":"IFERROR(HLOOKUP(TL$6,DEBUT!$CP$2:$DI$18,14,FALSE),\"\")","v":"x"},null,null,null,{"$f":"IFERROR(HLOOKUP(TS$6,DEBUT!$CP$2:$DI$18,2,FALSE),\"\")","v":"x"},{"$f":"IFERROR(HLOOKUP(TS$6,DEBUT!$CP$2:$DI$18,6,FALSE),\"\")","v":"x"},{"$f":"IFERROR(HLOOKUP(TS$6,DEBUT!$CP$2:$DI$18,10,FALSE),\"\")","v":"x"},{"$f":"IFERROR(HLOOKUP(TS$6,DEBUT!$CP$2:$DI$18,14,FALSE),\"\")","v":"x"},null,null,null,null,null,null,null,{"$f":"IFERROR(HLOOKUP(UD$6,DEBUT!$CP$2:$DI$18,2,FALSE),\"\")","v":"x"},{"$f":"IFERROR(HLOOKUP(UD$6,DEBUT!$CP$2:$DI$18,6,FALSE),\"\")","v":"x"},{"$f":"IFERROR(HLOOKUP(UD$6,DEBUT!$CP$2:$DI$18,10,FALSE),\"\")","v":"x"},{"$f":"IFERROR(HLOOKUP(UD$6,DEBUT!$CP$2:$DI$18,14,FALSE),\"\")","v":"x"},null,null,null,{"$f":"IFERROR(HLOOKUP(UK$6,DEBUT!$CP$2:$DI$18,2,FALSE),\"\")","v":"x"},{"$f":"IFERROR(HLOOKUP(UK$6,DEBUT!$CP$2:$DI$18,6,FALSE),\"\")","v":"x"},{"$f":"IFERROR(HLOOKUP(UK$6,DEBUT!$CP$2:$DI$18,10,FALSE),\"\")","v":"x"},{"$f":"IFERROR(HLOOKUP(UK$6,DEBUT!$CP$2:$DI$18,14,FALSE),\"\")","v":"x"},null,null,null,null,null,{"$f":"IFERROR(HLOOKUP(UT$6,DEBUT!$CP$2:$DI$18,2,FALSE),\"\")","v":"x"},{"$f":"IFERROR(HLOOKUP(UT$6,DEBUT!$CP$2:$DI$18,6,FALSE),\"\")","v":"x"},{"$f":"IFERROR(HLOOKUP(UT$6,DEBUT!$CP$2:$DI$18,10,FALSE),\"\")","v":"x"},{"$f":"IFERROR(HLOOKUP(UT$6,DEBUT!$CP$2:$DI$18,14,FALSE),\"\")","v":"x"},null,null,null,{"$f":"IFERROR(HLOOKUP(VA$6,DEBUT!$CP$2:$DI$18,2,FALSE),\"\")","v":"x"},{"$f":"IFERROR(HLOOKUP(VA$6,DEBUT!$CP$2:$DI$18,6,FALSE),\"\")","v":"x"},{"$f":"IFERROR(HLOOKUP(VA$6,DEBUT!$CP$2:$DI$18,10,FALSE),\"\")","v":"x"},{"$f":"IFERROR(HLOOKUP(VA$6,DEBUT!$CP$2:$DI$18,14,FALSE),\"\")","v":"x"},null,null,null,null,null,null,null,{"$f":"IFERROR(HLOOKUP(VL$6,DEBUT!$CP$2:$DI$18,2,FALSE),\"\")","v":"x"},{"$f":"IFERROR(HLOOKUP(VL$6,DEBUT!$CP$2:$DI$18,6,FALSE),\"\")","v":"x"},{"$f":"IFERROR(HLOOKUP(VL$6,DEBUT!$CP$2:$DI$18,10,FALSE),\"\")","v":"x"},{"$f":"IFERROR(HLOOKUP(VL$6,DEBUT!$CP$2:$DI$18,14,FALSE),\"\")","v":"x"},null,null,null,{"$f":"IFERROR(HLOOKUP(VS$6,DEBUT!$CP$2:$DI$18,2,FALSE),\"\")","v":"x"},{"$f":"IFERROR(HLOOKUP(VS$6,DEBUT!$CP$2:$DI$18,6,FALSE),\"\")","v":"x"},{"$f":"IFERROR(HLOOKUP(VS$6,DEBUT!$CP$2:$DI$18,10,FALSE),\"\")","v":"x"},{"$f":"IFERROR(HLOOKUP(VS$6,DEBUT!$CP$2:$DI$18,14,FALSE),\"\")","v":"x"},null,null,null,null,null,{"$f":"IFERROR(HLOOKUP(WB$6,DEBUT!$CP$2:$DI$18,2,FALSE),\"\")","v":"x"},{"$f":"IFERROR(HLOOKUP(WB$6,DEBUT!$CP$2:$DI$18,6,FALSE),\"\")","v":"x"},{"$f":"IFERROR(HLOOKUP(WB$6,DEBUT!$CP$2:$DI$18,10,FALSE),\"\")","v":"x"},{"$f":"IFERROR(HLOOKUP(WB$6,DEBUT!$CP$2:$DI$18,14,FALSE),\"\")","v":"x"},null,null,null,{"$f":"IFERROR(HLOOKUP(WI$6,DEBUT!$CP$2:$DI$18,2,FALSE),\"\")","v":"x"},{"$f":"IFERROR(HLOOKUP(WI$6,DEBUT!$CP$2:$DI$18,6,FALSE),\"\")","v":"x"},{"$f":"IFERROR(HLOOKUP(WI$6,DEBUT!$CP$2:$DI$18,10,FALSE),\"\")","v":"x"},{"$f":"IFERROR(HLOOKUP(WI$6,DEBUT!$CP$2:$DI$18,14,FALSE),\"\")","v":"x"},null,null,null,null,null,null,null,{"$f":"IFERROR(HLOOKUP(WT$6,DEBUT!$CP$2:$DI$18,2,FALSE),\"\")","v":"x"},{"$f":"IFERROR(HLOOKUP(WT$6,DEBUT!$CP$2:$DI$18,6,FALSE),\"\")","v":"x"},{"$f":"IFERROR(HLOOKUP(WT$6,DEBUT!$CP$2:$DI$18,10,FALSE),\"\")","v":"x"},{"$f":"IFERROR(HLOOKUP(WT$6,DEBUT!$CP$2:$DI$18,14,FALSE),\"\")","v":"x"},null,null,null,{"$f":"IFERROR(HLOOKUP(XA$6,DEBUT!$CP$2:$DI$18,2,FALSE),\"\")","v":"x"},{"$f":"IFERROR(HLOOKUP(XA$6,DEBUT!$CP$2:$DI$18,6,FALSE),\"\")","v":"x"},{"$f":"IFERROR(HLOOKUP(XA$6,DEBUT!$CP$2:$DI$18,10,FALSE),\"\")","v":"x"},{"$f":"IFERROR(HLOOKUP(XA$6,DEBUT!$CP$2:$DI$18,14,FALSE),\"\")","v":"x"},null,null,null,null,null,{"$f":"IFERROR(HLOOKUP(XJ$6,DEBUT!$CP$2:$DI$18,2,FALSE),\"\")","v":"x"},{"$f":"IFERROR(HLOOKUP(XJ$6,DEBUT!$CP$2:$DI$18,6,FALSE),\"\")","v":"x"},{"$f":"IFERROR(HLOOKUP(XJ$6,DEBUT!$CP$2:$DI$18,10,FALSE),\"\")","v":"x"},{"$f":"IFERROR(HLOOKUP(XJ$6,DEBUT!$CP$2:$DI$18,14,FALSE),\"\")","v":"x"},null,null,null,{"$f":"IFERROR(HLOOKUP(XQ$6,DEBUT!$CP$2:$DI$18,2,FALSE),\"\")","v":"x"},{"$f":"IFERROR(HLOOKUP(XQ$6,DEBUT!$CP$2:$DI$18,6,FALSE),\"\")","v":"x"},{"$f":"IFERROR(HLOOKUP(XQ$6,DEBUT!$CP$2:$DI$18,10,FALSE),\"\")","v":"x"},{"$f":"IFERROR(HLOOKUP(XQ$6,DEBUT!$CP$2:$DI$18,14,FALSE),\"\")","v":"x"},null,null,null,null,null,null,null,{"$f":"IFERROR(HLOOKUP(YB$6,DEBUT!$CP$2:$DI$18,2,FALSE),\"\")","v":"x"},{"$f":"IFERROR(HLOOKUP(YB$6,DEBUT!$CP$2:$DI$18,6,FALSE),\"\")","v":"x"},{"$f":"IFERROR(HLOOKUP(YB$6,DEBUT!$CP$2:$DI$18,10,FALSE),\"\")","v":"x"},{"$f":"IFERROR(HLOOKUP(YB$6,DEBUT!$CP$2:$DI$18,14,FALSE),\"\")","v":"x"},null,null,null,{"$f":"IFERROR(HLOOKUP(YI$6,DEBUT!$CP$2:$DI$18,2,FALSE),\"\")","v":"x"},{"$f":"IFERROR(HLOOKUP(YI$6,DEBUT!$CP$2:$DI$18,6,FALSE),\"\")","v":"x"},{"$f":"IFERROR(HLOOKUP(YI$6,DEBUT!$CP$2:$DI$18,10,FALSE),\"\")","v":"x"},{"$f":"IFERROR(HLOOKUP(YI$6,DEBUT!$CP$2:$DI$18,14,FALSE),\"\")","v":"x"},null,null,null,null,null,{"$f":"IFERROR(HLOOKUP(YR$6,DEBUT!$CP$2:$DI$18,2,FALSE),\"\")","v":"x"},{"$f":"IFERROR(HLOOKUP(YR$6,DEBUT!$CP$2:$DI$18,6,FALSE),\"\")","v":"x"},{"$f":"IFERROR(HLOOKUP(YR$6,DEBUT!$CP$2:$DI$18,10,FALSE),\"\")","v":"x"},{"$f":"IFERROR(HLOOKUP(YR$6,DEBUT!$CP$2:$DI$18,14,FALSE),\"\")","v":"x"},null,null,null,{"$f":"IFERROR(HLOOKUP(YY$6,DEBUT!$CP$2:$DI$18,2,FALSE),\"\")","v":"x"},{"$f":"IFERROR(HLOOKUP(YY$6,DEBUT!$CP$2:$DI$18,6,FALSE),\"\")","v":"x"},{"$f":"IFERROR(HLOOKUP(YY$6,DEBUT!$CP$2:$DI$18,10,FALSE),\"\")","v":"x"},{"$f":"IFERROR(HLOOKUP(YY$6,DEBUT!$CP$2:$DI$18,14,FALSE),\"\")","v":"x"},null,null,null,null,null,null,null,{"$f":"IFERROR(HLOOKUP(ZJ$6,DEBUT!$CP$2:$DI$18,2,FALSE),\"\")","v":"x"},{"$f":"IFERROR(HLOOKUP(ZJ$6,DEBUT!$CP$2:$DI$18,6,FALSE),\"\")","v":"x"},{"$f":"IFERROR(HLOOKUP(ZJ$6,DEBUT!$CP$2:$DI$18,10,FALSE),\"\")","v":"x"},{"$f":"IFERROR(HLOOKUP(ZJ$6,DEBUT!$CP$2:$DI$18,14,FALSE),\"\")","v":"x"},null,null,null,{"$f":"IFERROR(HLOOKUP(ZQ$6,DEBUT!$CP$2:$DI$18,2,FALSE),\"\")","v":"x"},{"$f":"IFERROR(HLOOKUP(ZQ$6,DEBUT!$CP$2:$DI$18,6,FALSE),\"\")","v":"x"},{"$f":"IFERROR(HLOOKUP(ZQ$6,DEBUT!$CP$2:$DI$18,10,FALSE),\"\")","v":"x"},{"$f":"IFERROR(HLOOKUP(ZQ$6,DEBUT!$CP$2:$DI$18,14,FALSE),\"\")","v":"x"},null,null,null,null,null,{"$f":"IFERROR(HLOOKUP(ZZ$6,DEBUT!$CP$2:$DI$18,2,FALSE),\"\")","v":"x"},{"$f":"IFERROR(HLOOKUP(ZZ$6,DEBUT!$CP$2:$DI$18,6,FALSE),\"\")","v":"x"},{"$f":"IFERROR(HLOOKUP(ZZ$6,DEBUT!$CP$2:$DI$18,10,FALSE),\"\")","v":"x"},{"$f":"IFERROR(HLOOKUP(ZZ$6,DEBUT!$CP$2:$DI$18,14,FALSE),\"\")","v":"x"},null,null,null,{"$f":"IFERROR(HLOOKUP(AAG$6,DEBUT!$CP$2:$DI$18,2,FALSE),\"\")","v":"x"},{"$f":"IFERROR(HLOOKUP(AAG$6,DEBUT!$CP$2:$DI$18,6,FALSE),\"\")","v":"x"},{"$f":"IFERROR(HLOOKUP(AAG$6,DEBUT!$CP$2:$DI$18,10,FALSE),\"\")","v":"x"},{"$f":"IFERROR(HLOOKUP(AAG$6,DEBUT!$CP$2:$DI$18,14,FALSE),\"\")","v":"x"},null,null,null,null,null,null,null,{"$f":"IFERROR(HLOOKUP(AAR$6,DEBUT!$CP$2:$DI$18,2,FALSE),\"\")","v":"x"},{"$f":"IFERROR(HLOOKUP(AAR$6,DEBUT!$CP$2:$DI$18,6,FALSE),\"\")","v":"x"},{"$f":"IFERROR(HLOOKUP(AAR$6,DEBUT!$CP$2:$DI$18,10,FALSE),\"\")","v":"x"},{"$f":"IFERROR(HLOOKUP(AAR$6,DEBUT!$CP$2:$DI$18,14,FALSE),\"\")","v":"x"},null,null,null,{"$f":"IFERROR(HLOOKUP(AAY$6,DEBUT!$CP$2:$DI$18,2,FALSE),\"\")","v":"x"},{"$f":"IFERROR(HLOOKUP(AAY$6,DEBUT!$CP$2:$DI$18,6,FALSE),\"\")","v":"x"},{"$f":"IFERROR(HLOOKUP(AAY$6,DEBUT!$CP$2:$DI$18,10,FALSE),\"\")","v":"x"},{"$f":"IFERROR(HLOOKUP(AAY$6,DEBUT!$CP$2:$DI$18,14,FALSE),\"\")","v":"x"},null,null,null,null,null,{"$f":"IFERROR(HLOOKUP(ABH$6,DEBUT!$CP$2:$DI$18,2,FALSE),\"\")","v":"x"},{"$f":"IFERROR(HLOOKUP(ABH$6,DEBUT!$CP$2:$DI$18,6,FALSE),\"\")","v":"x"},{"$f":"IFERROR(HLOOKUP(ABH$6,DEBUT!$CP$2:$DI$18,10,FALSE),\"\")","v":"x"},{"$f":"IFERROR(HLOOKUP(ABH$6,DEBUT!$CP$2:$DI$18,14,FALSE),\"\")","v":"x"},null,null,null,{"$f":"IFERROR(HLOOKUP(ABO$6,DEBUT!$CP$2:$DI$18,2,FALSE),\"\")","v":"x"},{"$f":"IFERROR(HLOOKUP(ABO$6,DEBUT!$CP$2:$DI$18,6,FALSE),\"\")","v":"x"},{"$f":"IFERROR(HLOOKUP(ABO$6,DEBUT!$CP$2:$DI$18,10,FALSE),\"\")","v":"x"},{"$f":"IFERROR(HLOOKUP(ABO$6,DEBUT!$CP$2:$DI$18,14,FALSE),\"\")","v":"x"},null,null,null,null,null,null,null,{"$f":"IFERROR(HLOOKUP(ABZ$6,DEBUT!$CP$2:$DI$18,2,FALSE),\"\")","v":"x"},{"$f":"IFERROR(HLOOKUP(ABZ$6,DEBUT!$CP$2:$DI$18,6,FALSE),\"\")","v":"x"},{"$f":"IFERROR(HLOOKUP(ABZ$6,DEBUT!$CP$2:$DI$18,10,FALSE),\"\")","v":"x"},{"$f":"IFERROR(HLOOKUP(ABZ$6,DEBUT!$CP$2:$DI$18,14,FALSE),\"\")","v":"x"},null,null,null,{"$f":"IFERROR(HLOOKUP(ACG$6,DEBUT!$CP$2:$DI$18,2,FALSE),\"\")","v":"x"},{"$f":"IFERROR(HLOOKUP(ACG$6,DEBUT!$CP$2:$DI$18,6,FALSE),\"\")","v":"x"},{"$f":"IFERROR(HLOOKUP(ACG$6,DEBUT!$CP$2:$DI$18,10,FALSE),\"\")","v":"x"},{"$f":"IFERROR(HLOOKUP(ACG$6,DEBUT!$CP$2:$DI$18,14,FALSE),\"\")","v":"x"},null,null,null,null,null,{"$f":"IFERROR(HLOOKUP(ACP$6,DEBUT!$CP$2:$DI$18,2,FALSE),\"\")","v":"x"},{"$f":"IFERROR(HLOOKUP(ACP$6,DEBUT!$CP$2:$DI$18,6,FALSE),\"\")","v":"x"},{"$f":"IFERROR(HLOOKUP(ACP$6,DEBUT!$CP$2:$DI$18,10,FALSE),\"\")","v":"x"},{"$f":"IFERROR(HLOOKUP(ACP$6,DEBUT!$CP$2:$DI$18,14,FALSE),\"\")","v":"x"},null,null,null,{"$f":"IFERROR(HLOOKUP(ACW$6,DEBUT!$CP$2:$DI$18,2,FALSE),\"\")","v":"x"},{"$f":"IFERROR(HLOOKUP(ACW$6,DEBUT!$CP$2:$DI$18,6,FALSE),\"\")","v":"x"},{"$f":"IFERROR(HLOOKUP(ACW$6,DEBUT!$CP$2:$DI$18,10,FALSE),\"\")","v":"x"},{"$f":"IFERROR(HLOOKUP(ACW$6,DEBUT!$CP$2:$DI$18,14,FALSE),\"\")","v":"x"},null,null,null,null,null,null,null,{"$f":"IFERROR(HLOOKUP(ADH$6,DEBUT!$CP$2:$DI$18,2,FALSE),\"\")","v":"x"},{"$f":"IFERROR(HLOOKUP(ADH$6,DEBUT!$CP$2:$DI$18,6,FALSE),\"\")","v":"x"},{"$f":"IFERROR(HLOOKUP(ADH$6,DEBUT!$CP$2:$DI$18,10,FALSE),\"\")","v":"x"},{"$f":"IFERROR(HLOOKUP(ADH$6,DEBUT!$CP$2:$DI$18,14,FALSE),\"\")","v":"x"},null,null,null,{"$f":"IFERROR(HLOOKUP(ADO$6,DEBUT!$CP$2:$DI$18,2,FALSE),\"\")","v":"x"},{"$f":"IFERROR(HLOOKUP(ADO$6,DEBUT!$CP$2:$DI$18,6,FALSE),\"\")","v":"x"},{"$f":"IFERROR(HLOOKUP(ADO$6,DEBUT!$CP$2:$DI$18,10,FALSE),\"\")","v":"x"},{"$f":"IFERROR(HLOOKUP(ADO$6,DEBUT!$CP$2:$DI$18,14,FALSE),\"\")","v":"x"},null,null,null,null,null,{"$f":"IFERROR(HLOOKUP(ADX$6,DEBUT!$CP$2:$DI$18,2,FALSE),\"\")","v":"x"},{"$f":"IFERROR(HLOOKUP(ADX$6,DEBUT!$CP$2:$DI$18,6,FALSE),\"\")","v":"x"},{"$f":"IFERROR(HLOOKUP(ADX$6,DEBUT!$CP$2:$DI$18,10,FALSE),\"\")","v":"x"},{"$f":"IFERROR(HLOOKUP(ADX$6,DEBUT!$CP$2:$DI$18,14,FALSE),\"\")","v":"x"},null,null,null,{"$f":"IFERROR(HLOOKUP(AEE$6,DEBUT!$CP$2:$DI$18,2,FALSE),\"\")","v":"x"},{"$f":"IFERROR(HLOOKUP(AEE$6,DEBUT!$CP$2:$DI$18,6,FALSE),\"\")","v":"x"},{"$f":"IFERROR(HLOOKUP(AEE$6,DEBUT!$CP$2:$DI$18,10,FALSE),\"\")","v":"x"},{"$f":"IFERROR(HLOOKUP(AEE$6,DEBUT!$CP$2:$DI$18,14,FALSE),\"\")","v":"x"}]
[null,null,null,null,null,{"$f":"IFERROR(HLOOKUP(F$6,DEBUT!$CP$2:$DI$18,3,FALSE),\"\")","v":0},{"$f":"IFERROR(HLOOKUP(F$6,DEBUT!$CP$2:$DI$18,7,FALSE),\"\")","v":0},{"$f":"IFERROR(HLOOKUP(F$6,DEBUT!$CP$2:$DI$18,11,FALSE),\"\")","v":0},{"$f":"IFERROR(HLOOKUP(F$6,DEBUT!$CP$2:$DI$18,15,FALSE),\"\")","v":0},null,null,null,{"$f":"IFERROR(HLOOKUP(M$6,DEBUT!$CP$2:$DI$18,3,FALSE),\"\")","v":"X"},{"$f":"IFERROR(HLOOKUP(M$6,DEBUT!$CP$2:$DI$18,7,FALSE),\"\")","v":"X"},{"$f":"IFERROR(HLOOKUP(M$6,DEBUT!$CP$2:$DI$18,11,FALSE),\"\")","v":"X"},{"$f":"IFERROR(HLOOKUP(M$6,DEBUT!$CP$2:$DI$18,15,FALSE),\"\")","v":"X"},null,null,null,null,null,{"$f":"IFERROR(HLOOKUP(V$6,DEBUT!$CP$2:$DI$18,3,FALSE),\"\")","v":"X"},{"$f":"IFERROR(HLOOKUP(V$6,DEBUT!$CP$2:$DI$18,7,FALSE),\"\")","v":"X"},{"$f":"IFERROR(HLOOKUP(V$6,DEBUT!$CP$2:$DI$18,11,FALSE),\"\")","v":"X"},{"$f":"IFERROR(HLOOKUP(V$6,DEBUT!$CP$2:$DI$18,15,FALSE),\"\")","v":"X"},null,null,null,{"$f":"IFERROR(HLOOKUP(AC$6,DEBUT!$CP$2:$DI$18,3,FALSE),\"\")","v":"X"},{"$f":"IFERROR(HLOOKUP(AC$6,DEBUT!$CP$2:$DI$18,7,FALSE),\"\")","v":"X"},{"$f":"IFERROR(HLOOKUP(AC$6,DEBUT!$CP$2:$DI$18,11,FALSE),\"\")","v":"X"},{"$f":"IFERROR(HLOOKUP(AC$6,DEBUT!$CP$2:$DI$18,15,FALSE),\"\")","v":"X"},null,null,null,null,null,null,null,{"$f":"IFERROR(HLOOKUP(AN$6,DEBUT!$CP$2:$DI$18,3,FALSE),\"\")","v":"X"},{"$f":"IFERROR(HLOOKUP(AN$6,DEBUT!$CP$2:$DI$18,7,FALSE),\"\")","v":"X"},{"$f":"IFERROR(HLOOKUP(AN$6,DEBUT!$CP$2:$DI$18,11,FALSE),\"\")","v":"X"},{"$f":"IFERROR(HLOOKUP(AN$6,DEBUT!$CP$2:$DI$18,15,FALSE),\"\")","v":"X"},null,null,null,{"$f":"IFERROR(HLOOKUP(AU$6,DEBUT!$CP$2:$DI$18,3,FALSE),\"\")","v":"X"},{"$f":"IFERROR(HLOOKUP(AU$6,DEBUT!$CP$2:$DI$18,7,FALSE),\"\")","v":"X"},{"$f":"IFERROR(HLOOKUP(AU$6,DEBUT!$CP$2:$DI$18,11,FALSE),\"\")","v":"X"},{"$f":"IFERROR(HLOOKUP(AU$6,DEBUT!$CP$2:$DI$18,15,FALSE),\"\")","v":"X"},null,null,null,null,null,{"$f":"IFERROR(HLOOKUP(BD$6,DEBUT!$CP$2:$DI$18,3,FALSE),\"\")","v":"X"},{"$f":"IFERROR(HLOOKUP(BD$6,DEBUT!$CP$2:$DI$18,7,FALSE),\"\")","v":"X"},{"$f":"IFERROR(HLOOKUP(BD$6,DEBUT!$CP$2:$DI$18,11,FALSE),\"\")","v":"X"},{"$f":"IFERROR(HLOOKUP(BD$6,DEBUT!$CP$2:$DI$18,15,FALSE),\"\")","v":"X"},null,null,null,{"$f":"IFERROR(HLOOKUP(BK$6,DEBUT!$CP$2:$DI$18,3,FALSE),\"\")","v":"X"},{"$f":"IFERROR(HLOOKUP(BK$6,DEBUT!$CP$2:$DI$18,7,FALSE),\"\")","v":"X"},{"$f":"IFERROR(HLOOKUP(BK$6,DEBUT!$CP$2:$DI$18,11,FALSE),\"\")","v":"X"},{"$f":"IFERROR(HLOOKUP(BK$6,DEBUT!$CP$2:$DI$18,15,FALSE),\"\")","v":"X"},null,null,null,null,null,null,null,{"$f":"IFERROR(HLOOKUP(BV$6,DEBUT!$CP$2:$DI$18,3,FALSE),\"\")","v":"X"},{"$f":"IFERROR(HLOOKUP(BV$6,DEBUT!$CP$2:$DI$18,7,FALSE),\"\")","v":"X"},{"$f":"IFERROR(HLOOKUP(BV$6,DEBUT!$CP$2:$DI$18,11,FALSE),\"\")","v":"X"},{"$f":"IFERROR(HLOOKUP(BV$6,DEBUT!$CP$2:$DI$18,15,FALSE),\"\")","v":"X"},null,null,null,{"$f":"IFERROR(HLOOKUP(CC$6,DEBUT!$CP$2:$DI$18,3,FALSE),\"\")","v":"X"},{"$f":"IFERROR(HLOOKUP(CC$6,DEBUT!$CP$2:$DI$18,7,FALSE),\"\")","v":"X"},{"$f":"IFERROR(HLOOKUP(CC$6,DEBUT!$CP$2:$DI$18,11,FALSE),\"\")","v":"X"},{"$f":"IFERROR(HLOOKUP(CC$6,DEBUT!$CP$2:$DI$18,15,FALSE),\"\")","v":"X"},null,null,null,null,null,{"$f":"IFERROR(HLOOKUP(CL$6,DEBUT!$CP$2:$DI$18,3,FALSE),\"\")","v":"X"},{"$f":"IFERROR(HLOOKUP(CL$6,DEBUT!$CP$2:$DI$18,7,FALSE),\"\")","v":"X"},{"$f":"IFERROR(HLOOKUP(CL$6,DEBUT!$CP$2:$DI$18,11,FALSE),\"\")","v":"X"},{"$f":"IFERROR(HLOOKUP(CL$6,DEBUT!$CP$2:$DI$18,15,FALSE),\"\")","v":"X"},null,null,null,{"$f":"IFERROR(HLOOKUP(CS$6,DEBUT!$CP$2:$DI$18,3,FALSE),\"\")","v":"X"},{"$f":"IFERROR(HLOOKUP(CS$6,DEBUT!$CP$2:$DI$18,7,FALSE),\"\")","v":"X"},{"$f":"IFERROR(HLOOKUP(CS$6,DEBUT!$CP$2:$DI$18,11,FALSE),\"\")","v":"X"},{"$f":"IFERROR(HLOOKUP(CS$6,DEBUT!$CP$2:$DI$18,15,FALSE),\"\")","v":"X"},null,null,null,null,null,null,null,{"$f":"IFERROR(HLOOKUP(DD$6,DEBUT!$CP$2:$DI$18,3,FALSE),\"\")","v":"X"},{"$f":"IFERROR(HLOOKUP(DD$6,DEBUT!$CP$2:$DI$18,7,FALSE),\"\")","v":"X"},{"$f":"IFERROR(HLOOKUP(DD$6,DEBUT!$CP$2:$DI$18,11,FALSE),\"\")","v":"X"},{"$f":"IFERROR(HLOOKUP(DD$6,DEBUT!$CP$2:$DI$18,15,FALSE),\"\")","v":"X"},null,null,null,{"$f":"IFERROR(HLOOKUP(DK$6,DEBUT!$CP$2:$DI$18,3,FALSE),\"\")","v":"X"},{"$f":"IFERROR(HLOOKUP(DK$6,DEBUT!$CP$2:$DI$18,7,FALSE),\"\")","v":"X"},{"$f":"IFERROR(HLOOKUP(DK$6,DEBUT!$CP$2:$DI$18,11,FALSE),\"\")","v":"X"},{"$f":"IFERROR(HLOOKUP(DK$6,DEBUT!$CP$2:$DI$18,15,FALSE),\"\")","v":"X"},null,null,null,null,null,{"$f":"IFERROR(HLOOKUP(DT$6,DEBUT!$CP$2:$DI$18,3,FALSE),\"\")","v":"X"},{"$f":"IFERROR(HLOOKUP(DT$6,DEBUT!$CP$2:$DI$18,7,FALSE),\"\")","v":"X"},{"$f":"IFERROR(HLOOKUP(DT$6,DEBUT!$CP$2:$DI$18,11,FALSE),\"\")","v":"X"},{"$f":"IFERROR(HLOOKUP(DT$6,DEBUT!$CP$2:$DI$18,15,FALSE),\"\")","v":"X"},null,null,null,{"$f":"IFERROR(HLOOKUP(EA$6,DEBUT!$CP$2:$DI$18,3,FALSE),\"\")","v":"X"},{"$f":"IFERROR(HLOOKUP(EA$6,DEBUT!$CP$2:$DI$18,7,FALSE),\"\")","v":"X"},{"$f":"IFERROR(HLOOKUP(EA$6,DEBUT!$CP$2:$DI$18,11,FALSE),\"\")","v":"X"},{"$f":"IFERROR(HLOOKUP(EA$6,DEBUT!$CP$2:$DI$18,15,FALSE),\"\")","v":"X"},null,null,null,null,null,null,null,{"$f":"IFERROR(HLOOKUP(EL$6,DEBUT!$CP$2:$DI$18,3,FALSE),\"\")","v":"X"},{"$f":"IFERROR(HLOOKUP(EL$6,DEBUT!$CP$2:$DI$18,7,FALSE),\"\")","v":"X"},{"$f":"IFERROR(HLOOKUP(EL$6,DEBUT!$CP$2:$DI$18,11,FALSE),\"\")","v":"X"},{"$f":"IFERROR(HLOOKUP(EL$6,DEBUT!$CP$2:$DI$18,15,FALSE),\"\")","v":"X"},null,null,null,{"$f":"IFERROR(HLOOKUP(ES$6,DEBUT!$CP$2:$DI$18,3,FALSE),\"\")","v":"X"},{"$f":"IFERROR(HLOOKUP(ES$6,DEBUT!$CP$2:$DI$18,7,FALSE),\"\")","v":"X"},{"$f":"IFERROR(HLOOKUP(ES$6,DEBUT!$CP$2:$DI$18,11,FALSE),\"\")","v":"X"},{"$f":"IFERROR(HLOOKUP(ES$6,DEBUT!$CP$2:$DI$18,15,FALSE),\"\")","v":"X"},null,null,null,null,null,{"$f":"IFERROR(HLOOKUP(FB$6,DEBUT!$CP$2:$DI$18,3,FALSE),\"\")","v":"X"},{"$f":"IFERROR(HLOOKUP(FB$6,DEBUT!$CP$2:$DI$18,7,FALSE),\"\")","v":"X"},{"$f":"IFERROR(HLOOKUP(FB$6,DEBUT!$CP$2:$DI$18,11,FALSE),\"\")","v":"X"},{"$f":"IFERROR(HLOOKUP(FB$6,DEBUT!$CP$2:$DI$18,15,FALSE),\"\")","v":"X"},null,null,null,{"$f":"IFERROR(HLOOKUP(FI$6,DEBUT!$CP$2:$DI$18,3,FALSE),\"\")","v":"X"},{"$f":"IFERROR(HLOOKUP(FI$6,DEBUT!$CP$2:$DI$18,7,FALSE),\"\")","v":"X"},{"$f":"IFERROR(HLOOKUP(FI$6,DEBUT!$CP$2:$DI$18,11,FALSE),\"\")","v":"X"},{"$f":"IFERROR(HLOOKUP(FI$6,DEBUT!$CP$2:$DI$18,15,FALSE),\"\")","v":"X"},null,null,null,null,null,null,null,{"$f":"IFERROR(HLOOKUP(FT$6,DEBUT!$CP$2:$DI$18,3,FALSE),\"\")","v":"X"},{"$f":"IFERROR(HLOOKUP(FT$6,DEBUT!$CP$2:$DI$18,7,FALSE),\"\")","v":"X"},{"$f":"IFERROR(HLOOKUP(FT$6,DEBUT!$CP$2:$DI$18,11,FALSE),\"\")","v":"X"},{"$f":"IFERROR(HLOOKUP(FT$6,DEBUT!$CP$2:$DI$18,15,FALSE),\"\")","v":"X"},null,null,null,{"$f":"IFERROR(HLOOKUP(GA$6,DEBUT!$CP$2:$DI$18,3,FALSE),\"\")","v":"X"},{"$f":"IFERROR(HLOOKUP(GA$6,DEBUT!$CP$2:$DI$18,7,FALSE),\"\")","v":"X"},{"$f":"IFERROR(HLOOKUP(GA$6,DEBUT!$CP$2:$DI$18,11,FALSE),\"\")","v":"X"},{"$f":"IFERROR(HLOOKUP(GA$6,DEBUT!$CP$2:$DI$18,15,FALSE),\"\")","v":"X"},null,null,null,null,null,{"$f":"IFERROR(HLOOKUP(GJ$6,DEBUT!$CP$2:$DI$18,3,FALSE),\"\")","v":"X"},{"$f":"IFERROR(HLOOKUP(GJ$6,DEBUT!$CP$2:$DI$18,7,FALSE),\"\")","v":"X"},{"$f":"IFERROR(HLOOKUP(GJ$6,DEBUT!$CP$2:$DI$18,11,FALSE),\"\")","v":"X"},{"$f":"IFERROR(HLOOKUP(GJ$6,DEBUT!$CP$2:$DI$18,15,FALSE),\"\")","v":"X"},null,null,null,{"$f":"IFERROR(HLOOKUP(GQ$6,DEBUT!$CP$2:$DI$18,3,FALSE),\"\")","v":"X"},{"$f":"IFERROR(HLOOKUP(GQ$6,DEBUT!$CP$2:$DI$18,7,FALSE),\"\")","v":"X"},{"$f":"IFERROR(HLOOKUP(GQ$6,DEBUT!$CP$2:$DI$18,11,FALSE),\"\")","v":"X"},{"$f":"IFERROR(HLOOKUP(GQ$6,DEBUT!$CP$2:$DI$18,15,FALSE),\"\")","v":"X"},null,null,null,null,null,null,null,{"$f":"IFERROR(HLOOKUP(HB$6,DEBUT!$CP$2:$DI$18,3,FALSE),\"\")","v":"X"},{"$f":"IFERROR(HLOOKUP(HB$6,DEBUT!$CP$2:$DI$18,7,FALSE),\"\")","v":"X"},{"$f":"IFERROR(HLOOKUP(HB$6,DEBUT!$CP$2:$DI$18,11,FALSE),\"\")","v":"X"},{"$f":"IFERROR(HLOOKUP(HB$6,DEBUT!$CP$2:$DI$18,15,FALSE),\"\")","v":"X"},null,null,null,{"$f":"IFERROR(HLOOKUP(HI$6,DEBUT!$CP$2:$DI$18,3,FALSE),\"\")","v":"X"},{"$f":"IFERROR(HLOOKUP(HI$6,DEBUT!$CP$2:$DI$18,7,FALSE),\"\")","v":"X"},{"$f":"IFERROR(HLOOKUP(HI$6,DEBUT!$CP$2:$DI$18,11,FALSE),\"\")","v":"X"},{"$f":"IFERROR(HLOOKUP(HI$6,DEBUT!$CP$2:$DI$18,15,FALSE),\"\")","v":"X"},null,null,null,null,null,{"$f":"IFERROR(HLOOKUP(HR$6,DEBUT!$CP$2:$DI$18,3,FALSE),\"\")","v":"X"},{"$f":"IFERROR(HLOOKUP(HR$6,DEBUT!$CP$2:$DI$18,7,FALSE),\"\")","v":"X"},{"$f":"IFERROR(HLOOKUP(HR$6,DEBUT!$CP$2:$DI$18,11,FALSE),\"\")","v":"X"},{"$f":"IFERROR(HLOOKUP(HR$6,DEBUT!$CP$2:$DI$18,15,FALSE),\"\")","v":"X"},null,null,null,{"$f":"IFERROR(HLOOKUP(HY$6,DEBUT!$CP$2:$DI$18,3,FALSE),\"\")","v":"X"},{"$f":"IFERROR(HLOOKUP(HY$6,DEBUT!$CP$2:$DI$18,7,FALSE),\"\")","v":"X"},{"$f":"IFERROR(HLOOKUP(HY$6,DEBUT!$CP$2:$DI$18,11,FALSE),\"\")","v":"X"},{"$f":"IFERROR(HLOOKUP(HY$6,DEBUT!$CP$2:$DI$18,15,FALSE),\"\")","v":"X"},null,null,null,null,null,null,null,{"$f":"IFERROR(HLOOKUP(IJ$6,DEBUT!$CP$2:$DI$18,3,FALSE),\"\")","v":"X"},{"$f":"IFERROR(HLOOKUP(IJ$6,DEBUT!$CP$2:$DI$18,7,FALSE),\"\")","v":"X"},{"$f":"IFERROR(HLOOKUP(IJ$6,DEBUT!$CP$2:$DI$18,11,FALSE),\"\")","v":"X"},{"$f":"IFERROR(HLOOKUP(IJ$6,DEBUT!$CP$2:$DI$18,15,FALSE),\"\")","v":"X"},null,null,null,{"$f":"IFERROR(HLOOKUP(IQ$6,DEBUT!$CP$2:$DI$18,3,FALSE),\"\")","v":"X"},{"$f":"IFERROR(HLOOKUP(IQ$6,DEBUT!$CP$2:$DI$18,7,FALSE),\"\")","v":"X"},{"$f":"IFERROR(HLOOKUP(IQ$6,DEBUT!$CP$2:$DI$18,11,FALSE),\"\")","v":"X"},{"$f":"IFERROR(HLOOKUP(IQ$6,DEBUT!$CP$2:$DI$18,15,FALSE),\"\")","v":"X"},null,null,null,null,null,{"$f":"IFERROR(HLOOKUP(IZ$6,DEBUT!$CP$2:$DI$18,3,FALSE),\"\")","v":"X"},{"$f":"IFERROR(HLOOKUP(IZ$6,DEBUT!$CP$2:$DI$18,7,FALSE),\"\")","v":"X"},{"$f":"IFERROR(HLOOKUP(IZ$6,DEBUT!$CP$2:$DI$18,11,FALSE),\"\")","v":"X"},{"$f":"IFERROR(HLOOKUP(IZ$6,DEBUT!$CP$2:$DI$18,15,FALSE),\"\")","v":"X"},null,null,null,{"$f":"IFERROR(HLOOKUP(JG$6,DEBUT!$CP$2:$DI$18,3,FALSE),\"\")","v":"X"},{"$f":"IFERROR(HLOOKUP(JG$6,DEBUT!$CP$2:$DI$18,7,FALSE),\"\")","v":"X"},{"$f":"IFERROR(HLOOKUP(JG$6,DEBUT!$CP$2:$DI$18,11,FALSE),\"\")","v":"X"},{"$f":"IFERROR(HLOOKUP(JG$6,DEBUT!$CP$2:$DI$18,15,FALSE),\"\")","v":"X"},null,null,null,null,null,null,null,{"$f":"IFERROR(HLOOKUP(JR$6,DEBUT!$CP$2:$DI$18,3,FALSE),\"\")","v":"X"},{"$f":"IFERROR(HLOOKUP(JR$6,DEBUT!$CP$2:$DI$18,7,FALSE),\"\")","v":"X"},{"$f":"IFERROR(HLOOKUP(JR$6,DEBUT!$CP$2:$DI$18,11,FALSE),\"\")","v":"X"},{"$f":"IFERROR(HLOOKUP(JR$6,DEBUT!$CP$2:$DI$18,15,FALSE),\"\")","v":"X"},null,null,null,{"$f":"IFERROR(HLOOKUP(JY$6,DEBUT!$CP$2:$DI$18,3,FALSE),\"\")","v":"X"},{"$f":"IFERROR(HLOOKUP(JY$6,DEBUT!$CP$2:$DI$18,7,FALSE),\"\")","v":"X"},{"$f":"IFERROR(HLOOKUP(JY$6,DEBUT!$CP$2:$DI$18,11,FALSE),\"\")","v":"X"},{"$f":"IFERROR(HLOOKUP(JY$6,DEBUT!$CP$2:$DI$18,15,FALSE),\"\")","v":"X"},null,null,null,null,null,{"$f":"IFERROR(HLOOKUP(KH$6,DEBUT!$CP$2:$DI$18,3,FALSE),\"\")","v":"X"},{"$f":"IFERROR(HLOOKUP(KH$6,DEBUT!$CP$2:$DI$18,7,FALSE),\"\")","v":"X"},{"$f":"IFERROR(HLOOKUP(KH$6,DEBUT!$CP$2:$DI$18,11,FALSE),\"\")","v":"X"},{"$f":"IFERROR(HLOOKUP(KH$6,DEBUT!$CP$2:$DI$18,15,FALSE),\"\")","v":"X"},null,null,null,{"$f":"IFERROR(HLOOKUP(KO$6,DEBUT!$CP$2:$DI$18,3,FALSE),\"\")","v":"X"},{"$f":"IFERROR(HLOOKUP(KO$6,DEBUT!$CP$2:$DI$18,7,FALSE),\"\")","v":"X"},{"$f":"IFERROR(HLOOKUP(KO$6,DEBUT!$CP$2:$DI$18,11,FALSE),\"\")","v":"X"},{"$f":"IFERROR(HLOOKUP(KO$6,DEBUT!$CP$2:$DI$18,15,FALSE),\"\")","v":"X"},null,null,null,null,null,null,null,{"$f":"IFERROR(HLOOKUP(KZ$6,DEBUT!$CP$2:$DI$18,3,FALSE),\"\")","v":"X"},{"$f":"IFERROR(HLOOKUP(KZ$6,DEBUT!$CP$2:$DI$18,7,FALSE),\"\")","v":"X"},{"$f":"IFERROR(HLOOKUP(KZ$6,DEBUT!$CP$2:$DI$18,11,FALSE),\"\")","v":"X"},{"$f":"IFERROR(HLOOKUP(KZ$6,DEBUT!$CP$2:$DI$18,15,FALSE),\"\")","v":"X"},null,null,null,{"$f":"IFERROR(HLOOKUP(LG$6,DEBUT!$CP$2:$DI$18,3,FALSE),\"\")","v":"X"},{"$f":"IFERROR(HLOOKUP(LG$6,DEBUT!$CP$2:$DI$18,7,FALSE),\"\")","v":"X"},{"$f":"IFERROR(HLOOKUP(LG$6,DEBUT!$CP$2:$DI$18,11,FALSE),\"\")","v":"X"},{"$f":"IFERROR(HLOOKUP(LG$6,DEBUT!$CP$2:$DI$18,15,FALSE),\"\")","v":"X"},null,null,null,null,null,{"$f":"IFERROR(HLOOKUP(LP$6,DEBUT!$CP$2:$DI$18,3,FALSE),\"\")","v":"X"},{"$f":"IFERROR(HLOOKUP(LP$6,DEBUT!$CP$2:$DI$18,7,FALSE),\"\")","v":"X"},{"$f":"IFERROR(HLOOKUP(LP$6,DEBUT!$CP$2:$DI$18,11,FALSE),\"\")","v":"X"},{"$f":"IFERROR(HLOOKUP(LP$6,DEBUT!$CP$2:$DI$18,15,FALSE),\"\")","v":"X"},null,null,null,{"$f":"IFERROR(HLOOKUP(LW$6,DEBUT!$CP$2:$DI$18,3,FALSE),\"\")","v":"X"},{"$f":"IFERROR(HLOOKUP(LW$6,DEBUT!$CP$2:$DI$18,7,FALSE),\"\")","v":"X"},{"$f":"IFERROR(HLOOKUP(LW$6,DEBUT!$CP$2:$DI$18,11,FALSE),\"\")","v":"X"},{"$f":"IFERROR(HLOOKUP(LW$6,DEBUT!$CP$2:$DI$18,15,FALSE),\"\")","v":"X"},null,null,null,null,null,null,null,{"$f":"IFERROR(HLOOKUP(MH$6,DEBUT!$CP$2:$DI$18,3,FALSE),\"\")","v":"X"},{"$f":"IFERROR(HLOOKUP(MH$6,DEBUT!$CP$2:$DI$18,7,FALSE),\"\")","v":"X"},{"$f":"IFERROR(HLOOKUP(MH$6,DEBUT!$CP$2:$DI$18,11,FALSE),\"\")","v":"X"},{"$f":"IFERROR(HLOOKUP(MH$6,DEBUT!$CP$2:$DI$18,15,FALSE),\"\")","v":"X"},null,null,null,{"$f":"IFERROR(HLOOKUP(MO$6,DEBUT!$CP$2:$DI$18,3,FALSE),\"\")","v":"X"},{"$f":"IFERROR(HLOOKUP(MO$6,DEBUT!$CP$2:$DI$18,7,FALSE),\"\")","v":"X"},{"$f":"IFERROR(HLOOKUP(MO$6,DEBUT!$CP$2:$DI$18,11,FALSE),\"\")","v":"X"},{"$f":"IFERROR(HLOOKUP(MO$6,DEBUT!$CP$2:$DI$18,15,FALSE),\"\")","v":"X"},null,null,null,null,null,{"$f":"IFERROR(HLOOKUP(MX$6,DEBUT!$CP$2:$DI$18,3,FALSE),\"\")","v":"X"},{"$f":"IFERROR(HLOOKUP(MX$6,DEBUT!$CP$2:$DI$18,7,FALSE),\"\")","v":"X"},{"$f":"IFERROR(HLOOKUP(MX$6,DEBUT!$CP$2:$DI$18,11,FALSE),\"\")","v":"X"},{"$f":"IFERROR(HLOOKUP(MX$6,DEBUT!$CP$2:$DI$18,15,FALSE),\"\")","v":"X"},null,null,null,{"$f":"IFERROR(HLOOKUP(NE$6,DEBUT!$CP$2:$DI$18,3,FALSE),\"\")","v":"X"},{"$f":"IFERROR(HLOOKUP(NE$6,DEBUT!$CP$2:$DI$18,7,FALSE),\"\")","v":"X"},{"$f":"IFERROR(HLOOKUP(NE$6,DEBUT!$CP$2:$DI$18,11,FALSE),\"\")","v":"X"},{"$f":"IFERROR(HLOOKUP(NE$6,DEBUT!$CP$2:$DI$18,15,FALSE),\"\")","v":"X"},null,null,null,null,null,null,null,{"$f":"IFERROR(HLOOKUP(NP$6,DEBUT!$CP$2:$DI$18,3,FALSE),\"\")","v":"X"},{"$f":"IFERROR(HLOOKUP(NP$6,DEBUT!$CP$2:$DI$18,7,FALSE),\"\")","v":"X"},{"$f":"IFERROR(HLOOKUP(NP$6,DEBUT!$CP$2:$DI$18,11,FALSE),\"\")","v":"X"},{"$f":"IFERROR(HLOOKUP(NP$6,DEBUT!$CP$2:$DI$18,15,FALSE),\"\")","v":"X"},null,null,null,{"$f":"IFERROR(HLOOKUP(NW$6,DEBUT!$CP$2:$DI$18,3,FALSE),\"\")","v":"X"},{"$f":"IFERROR(HLOOKUP(NW$6,DEBUT!$CP$2:$DI$18,7,FALSE),\"\")","v":"X"},{"$f":"IFERROR(HLOOKUP(NW$6,DEBUT!$CP$2:$DI$18,11,FALSE),\"\")","v":"X"},{"$f":"IFERROR(HLOOKUP(NW$6,DEBUT!$CP$2:$DI$18,15,FALSE),\"\")","v":"X"},null,null,null,null,null,{"$f":"IFERROR(HLOOKUP(OF$6,DEBUT!$CP$2:$DI$18,3,FALSE),\"\")","v":"X"},{"$f":"IFERROR(HLOOKUP(OF$6,DEBUT!$CP$2:$DI$18,7,FALSE),\"\")","v":"X"},{"$f":"IFERROR(HLOOKUP(OF$6,DEBUT!$CP$2:$DI$18,11,FALSE),\"\")","v":"X"},{"$f":"IFERROR(HLOOKUP(OF$6,DEBUT!$CP$2:$DI$18,15,FALSE),\"\")","v":"X"},null,null,null,{"$f":"IFERROR(HLOOKUP(OM$6,DEBUT!$CP$2:$DI$18,3,FALSE),\"\")","v":"X"},{"$f":"IFERROR(HLOOKUP(OM$6,DEBUT!$CP$2:$DI$18,7,FALSE),\"\")","v":"X"},{"$f":"IFERROR(HLOOKUP(OM$6,DEBUT!$CP$2:$DI$18,11,FALSE),\"\")","v":"X"},{"$f":"IFERROR(HLOOKUP(OM$6,DEBUT!$CP$2:$DI$18,15,FALSE),\"\")","v":"X"},null,null,null,null,null,null,null,{"$f":"IFERROR(HLOOKUP(OX$6,DEBUT!$CP$2:$DI$18,3,FALSE),\"\")","v":"X"},{"$f":"IFERROR(HLOOKUP(OX$6,DEBUT!$CP$2:$DI$18,7,FALSE),\"\")","v":"X"},{"$f":"IFERROR(HLOOKUP(OX$6,DEBUT!$CP$2:$DI$18,11,FALSE),\"\")","v":"X"},{"$f":"IFERROR(HLOOKUP(OX$6,DEBUT!$CP$2:$DI$18,15,FALSE),\"\")","v":"X"},null,null,null,{"$f":"IFERROR(HLOOKUP(PE$6,DEBUT!$CP$2:$DI$18,3,FALSE),\"\")","v":"X"},{"$f":"IFERROR(HLOOKUP(PE$6,DEBUT!$CP$2:$DI$18,7,FALSE),\"\")","v":"X"},{"$f":"IFERROR(HLOOKUP(PE$6,DEBUT!$CP$2:$DI$18,11,FALSE),\"\")","v":"X"},{"$f":"IFERROR(HLOOKUP(PE$6,DEBUT!$CP$2:$DI$18,15,FALSE),\"\")","v":"X"},null,null,null,null,null,{"$f":"IFERROR(HLOOKUP(PN$6,DEBUT!$CP$2:$DI$18,3,FALSE),\"\")","v":"X"},{"$f":"IFERROR(HLOOKUP(PN$6,DEBUT!$CP$2:$DI$18,7,FALSE),\"\")","v":"X"},{"$f":"IFERROR(HLOOKUP(PN$6,DEBUT!$CP$2:$DI$18,11,FALSE),\"\")","v":"X"},{"$f":"IFERROR(HLOOKUP(PN$6,DEBUT!$CP$2:$DI$18,15,FALSE),\"\")","v":"X"},null,null,null,{"$f":"IFERROR(HLOOKUP(PU$6,DEBUT!$CP$2:$DI$18,3,FALSE),\"\")","v":"X"},{"$f":"IFERROR(HLOOKUP(PU$6,DEBUT!$CP$2:$DI$18,7,FALSE),\"\")","v":"X"},{"$f":"IFERROR(HLOOKUP(PU$6,DEBUT!$CP$2:$DI$18,11,FALSE),\"\")","v":"X"},{"$f":"IFERROR(HLOOKUP(PU$6,DEBUT!$CP$2:$DI$18,15,FALSE),\"\")","v":"X"},null,null,null,null,null,null,null,{"$f":"IFERROR(HLOOKUP(QF$6,DEBUT!$CP$2:$DI$18,3,FALSE),\"\")","v":"X"},{"$f":"IFERROR(HLOOKUP(QF$6,DEBUT!$CP$2:$DI$18,7,FALSE),\"\")","v":"X"},{"$f":"IFERROR(HLOOKUP(QF$6,DEBUT!$CP$2:$DI$18,11,FALSE),\"\")","v":"X"},{"$f":"IFERROR(HLOOKUP(QF$6,DEBUT!$CP$2:$DI$18,15,FALSE),\"\")","v":"X"},null,null,null,{"$f":"IFERROR(HLOOKUP(QM$6,DEBUT!$CP$2:$DI$18,3,FALSE),\"\")","v":"X"},{"$f":"IFERROR(HLOOKUP(QM$6,DEBUT!$CP$2:$DI$18,7,FALSE),\"\")","v":"X"},{"$f":"IFERROR(HLOOKUP(QM$6,DEBUT!$CP$2:$DI$18,11,FALSE),\"\")","v":"X"},{"$f":"IFERROR(HLOOKUP(QM$6,DEBUT!$CP$2:$DI$18,15,FALSE),\"\")","v":"X"},null,null,null,null,null,{"$f":"IFERROR(HLOOKUP(QV$6,DEBUT!$CP$2:$DI$18,3,FALSE),\"\")","v":"X"},{"$f":"IFERROR(HLOOKUP(QV$6,DEBUT!$CP$2:$DI$18,7,FALSE),\"\")","v":"X"},{"$f":"IFERROR(HLOOKUP(QV$6,DEBUT!$CP$2:$DI$18,11,FALSE),\"\")","v":"X"},{"$f":"IFERROR(HLOOKUP(QV$6,DEBUT!$CP$2:$DI$18,15,FALSE),\"\")","v":"X"},null,null,null,{"$f":"IFERROR(HLOOKUP(RC$6,DEBUT!$CP$2:$DI$18,3,FALSE),\"\")","v":"X"},{"$f":"IFERROR(HLOOKUP(RC$6,DEBUT!$CP$2:$DI$18,7,FALSE),\"\")","v":"X"},{"$f":"IFERROR(HLOOKUP(RC$6,DEBUT!$CP$2:$DI$18,11,FALSE),\"\")","v":"X"},{"$f":"IFERROR(HLOOKUP(RC$6,DEBUT!$CP$2:$DI$18,15,FALSE),\"\")","v":"X"},null,null,null,null,null,null,null,{"$f":"IFERROR(HLOOKUP(RN$6,DEBUT!$CP$2:$DI$18,3,FALSE),\"\")","v":"X"},{"$f":"IFERROR(HLOOKUP(RN$6,DEBUT!$CP$2:$DI$18,7,FALSE),\"\")","v":"X"},{"$f":"IFERROR(HLOOKUP(RN$6,DEBUT!$CP$2:$DI$18,11,FALSE),\"\")","v":"X"},{"$f":"IFERROR(HLOOKUP(RN$6,DEBUT!$CP$2:$DI$18,15,FALSE),\"\")","v":"X"},null,null,null,{"$f":"IFERROR(HLOOKUP(RU$6,DEBUT!$CP$2:$DI$18,3,FALSE),\"\")","v":"X"},{"$f":"IFERROR(HLOOKUP(RU$6,DEBUT!$CP$2:$DI$18,7,FALSE),\"\")","v":"X"},{"$f":"IFERROR(HLOOKUP(RU$6,DEBUT!$CP$2:$DI$18,11,FALSE),\"\")","v":"X"},{"$f":"IFERROR(HLOOKUP(RU$6,DEBUT!$CP$2:$DI$18,15,FALSE),\"\")","v":"X"},null,null,null,null,null,{"$f":"IFERROR(HLOOKUP(SD$6,DEBUT!$CP$2:$DI$18,3,FALSE),\"\")","v":"X"},{"$f":"IFERROR(HLOOKUP(SD$6,DEBUT!$CP$2:$DI$18,7,FALSE),\"\")","v":"X"},{"$f":"IFERROR(HLOOKUP(SD$6,DEBUT!$CP$2:$DI$18,11,FALSE),\"\")","v":"X"},{"$f":"IFERROR(HLOOKUP(SD$6,DEBUT!$CP$2:$DI$18,15,FALSE),\"\")","v":"X"},null,null,null,{"$f":"IFERROR(HLOOKUP(SK$6,DEBUT!$CP$2:$DI$18,3,FALSE),\"\")","v":"X"},{"$f":"IFERROR(HLOOKUP(SK$6,DEBUT!$CP$2:$DI$18,7,FALSE),\"\")","v":"X"},{"$f":"IFERROR(HLOOKUP(SK$6,DEBUT!$CP$2:$DI$18,11,FALSE),\"\")","v":"X"},{"$f":"IFERROR(HLOOKUP(SK$6,DEBUT!$CP$2:$DI$18,15,FALSE),\"\")","v":"X"},null,null,null,null,null,null,null,{"$f":"IFERROR(HLOOKUP(SV$6,DEBUT!$CP$2:$DI$18,3,FALSE),\"\")","v":"X"},{"$f":"IFERROR(HLOOKUP(SV$6,DEBUT!$CP$2:$DI$18,7,FALSE),\"\")","v":"X"},{"$f":"IFERROR(HLOOKUP(SV$6,DEBUT!$CP$2:$DI$18,11,FALSE),\"\")","v":"X"},{"$f":"IFERROR(HLOOKUP(SV$6,DEBUT!$CP$2:$DI$18,15,FALSE),\"\")","v":"X"},null,null,null,{"$f":"IFERROR(HLOOKUP(TC$6,DEBUT!$CP$2:$DI$18,3,FALSE),\"\")","v":"X"},{"$f":"IFERROR(HLOOKUP(TC$6,DEBUT!$CP$2:$DI$18,7,FALSE),\"\")","v":"X"},{"$f":"IFERROR(HLOOKUP(TC$6,DEBUT!$CP$2:$DI$18,11,FALSE),\"\")","v":"X"},{"$f":"IFERROR(HLOOKUP(TC$6,DEBUT!$CP$2:$DI$18,15,FALSE),\"\")","v":"X"},null,null,null,null,null,{"$f":"IFERROR(HLOOKUP(TL$6,DEBUT!$CP$2:$DI$18,3,FALSE),\"\")","v":"X"},{"$f":"IFERROR(HLOOKUP(TL$6,DEBUT!$CP$2:$DI$18,7,FALSE),\"\")","v":"X"},{"$f":"IFERROR(HLOOKUP(TL$6,DEBUT!$CP$2:$DI$18,11,FALSE),\"\")","v":"X"},{"$f":"IFERROR(HLOOKUP(TL$6,DEBUT!$CP$2:$DI$18,15,FALSE),\"\")","v":"X"},null,null,null,{"$f":"IFERROR(HLOOKUP(TS$6,DEBUT!$CP$2:$DI$18,3,FALSE),\"\")","v":"X"},{"$f":"IFERROR(HLOOKUP(TS$6,DEBUT!$CP$2:$DI$18,7,FALSE),\"\")","v":"X"},{"$f":"IFERROR(HLOOKUP(TS$6,DEBUT!$CP$2:$DI$18,11,FALSE),\"\")","v":"X"},{"$f":"IFERROR(HLOOKUP(TS$6,DEBUT!$CP$2:$DI$18,15,FALSE),\"\")","v":"X"},null,null,null,null,null,null,null,{"$f":"IFERROR(HLOOKUP(UD$6,DEBUT!$CP$2:$DI$18,3,FALSE),\"\")","v":"X"},{"$f":"IFERROR(HLOOKUP(UD$6,DEBUT!$CP$2:$DI$18,7,FALSE),\"\")","v":"X"},{"$f":"IFERROR(HLOOKUP(UD$6,DEBUT!$CP$2:$DI$18,11,FALSE),\"\")","v":"X"},{"$f":"IFERROR(HLOOKUP(UD$6,DEBUT!$CP$2:$DI$18,15,FALSE),\"\")","v":"X"},null,null,null,{"$f":"IFERROR(HLOOKUP(UK$6,DEBUT!$CP$2:$DI$18,3,FALSE),\"\")","v":"X"},{"$f":"IFERROR(HLOOKUP(UK$6,DEBUT!$CP$2:$DI$18,7,FALSE),\"\")","v":"X"},{"$f":"IFERROR(HLOOKUP(UK$6,DEBUT!$CP$2:$DI$18,11,FALSE),\"\")","v":"X"},{"$f":"IFERROR(HLOOKUP(UK$6,DEBUT!$CP$2:$DI$18,15,FALSE),\"\")","v":"X"},null,null,null,null,null,{"$f":"IFERROR(HLOOKUP(UT$6,DEBUT!$CP$2:$DI$18,3,FALSE),\"\")","v":"X"},{"$f":"IFERROR(HLOOKUP(UT$6,DEBUT!$CP$2:$DI$18,7,FALSE),\"\")","v":"X"},{"$f":"IFERROR(HLOOKUP(UT$6,DEBUT!$CP$2:$DI$18,11,FALSE),\"\")","v":"X"},{"$f":"IFERROR(HLOOKUP(UT$6,DEBUT!$CP$2:$DI$18,15,FALSE),\"\")","v":"X"},null,null,null,{"$f":"IFERROR(HLOOKUP(VA$6,DEBUT!$CP$2:$DI$18,3,FALSE),\"\")","v":"X"},{"$f":"IFERROR(HLOOKUP(VA$6,DEBUT!$CP$2:$DI$18,7,FALSE),\"\")","v":"X"},{"$f":"IFERROR(HLOOKUP(VA$6,DEBUT!$CP$2:$DI$18,11,FALSE),\"\")","v":"X"},{"$f":"IFERROR(HLOOKUP(VA$6,DEBUT!$CP$2:$DI$18,15,FALSE),\"\")","v":"X"},null,null,null,null,null,null,null,{"$f":"IFERROR(HLOOKUP(VL$6,DEBUT!$CP$2:$DI$18,3,FALSE),\"\")","v":"X"},{"$f":"IFERROR(HLOOKUP(VL$6,DEBUT!$CP$2:$DI$18,7,FALSE),\"\")","v":"X"},{"$f":"IFERROR(HLOOKUP(VL$6,DEBUT!$CP$2:$DI$18,11,FALSE),\"\")","v":"X"},{"$f":"IFERROR(HLOOKUP(VL$6,DEBUT!$CP$2:$DI$18,15,FALSE),\"\")","v":"X"},null,null,null,{"$f":"IFERROR(HLOOKUP(VS$6,DEBUT!$CP$2:$DI$18,3,FALSE),\"\")","v":"X"},{"$f":"IFERROR(HLOOKUP(VS$6,DEBUT!$CP$2:$DI$18,7,FALSE),\"\")","v":"X"},{"$f":"IFERROR(HLOOKUP(VS$6,DEBUT!$CP$2:$DI$18,11,FALSE),\"\")","v":"X"},{"$f":"IFERROR(HLOOKUP(VS$6,DEBUT!$CP$2:$DI$18,15,FALSE),\"\")","v":"X"},null,null,null,null,null,{"$f":"IFERROR(HLOOKUP(WB$6,DEBUT!$CP$2:$DI$18,3,FALSE),\"\")","v":"X"},{"$f":"IFERROR(HLOOKUP(WB$6,DEBUT!$CP$2:$DI$18,7,FALSE),\"\")","v":"X"},{"$f":"IFERROR(HLOOKUP(WB$6,DEBUT!$CP$2:$DI$18,11,FALSE),\"\")","v":"X"},{"$f":"IFERROR(HLOOKUP(WB$6,DEBUT!$CP$2:$DI$18,15,FALSE),\"\")","v":"X"},null,null,null,{"$f":"IFERROR(HLOOKUP(WI$6,DEBUT!$CP$2:$DI$18,3,FALSE),\"\")","v":"X"},{"$f":"IFERROR(HLOOKUP(WI$6,DEBUT!$CP$2:$DI$18,7,FALSE),\"\")","v":"X"},{"$f":"IFERROR(HLOOKUP(WI$6,DEBUT!$CP$2:$DI$18,11,FALSE),\"\")","v":"X"},{"$f":"IFERROR(HLOOKUP(WI$6,DEBUT!$CP$2:$DI$18,15,FALSE),\"\")","v":"X"},null,null,null,null,null,null,null,{"$f":"IFERROR(HLOOKUP(WT$6,DEBUT!$CP$2:$DI$18,3,FALSE),\"\")","v":"X"},{"$f":"IFERROR(HLOOKUP(WT$6,DEBUT!$CP$2:$DI$18,7,FALSE),\"\")","v":"X"},{"$f":"IFERROR(HLOOKUP(WT$6,DEBUT!$CP$2:$DI$18,11,FALSE),\"\")","v":"X"},{"$f":"IFERROR(HLOOKUP(WT$6,DEBUT!$CP$2:$DI$18,15,FALSE),\"\")","v":"X"},null,null,null,{"$f":"IFERROR(HLOOKUP(XA$6,DEBUT!$CP$2:$DI$18,3,FALSE),\"\")","v":"X"},{"$f":"IFERROR(HLOOKUP(XA$6,DEBUT!$CP$2:$DI$18,7,FALSE),\"\")","v":"X"},{"$f":"IFERROR(HLOOKUP(XA$6,DEBUT!$CP$2:$DI$18,11,FALSE),\"\")","v":"X"},{"$f":"IFERROR(HLOOKUP(XA$6,DEBUT!$CP$2:$DI$18,15,FALSE),\"\")","v":"X"},null,null,null,null,null,{"$f":"IFERROR(HLOOKUP(XJ$6,DEBUT!$CP$2:$DI$18,3,FALSE),\"\")","v":"X"},{"$f":"IFERROR(HLOOKUP(XJ$6,DEBUT!$CP$2:$DI$18,7,FALSE),\"\")","v":"X"},{"$f":"IFERROR(HLOOKUP(XJ$6,DEBUT!$CP$2:$DI$18,11,FALSE),\"\")","v":"X"},{"$f":"IFERROR(HLOOKUP(XJ$6,DEBUT!$CP$2:$DI$18,15,FALSE),\"\")","v":"X"},null,null,null,{"$f":"IFERROR(HLOOKUP(XQ$6,DEBUT!$CP$2:$DI$18,3,FALSE),\"\")","v":"X"},{"$f":"IFERROR(HLOOKUP(XQ$6,DEBUT!$CP$2:$DI$18,7,FALSE),\"\")","v":"X"},{"$f":"IFERROR(HLOOKUP(XQ$6,DEBUT!$CP$2:$DI$18,11,FALSE),\"\")","v":"X"},{"$f":"IFERROR(HLOOKUP(XQ$6,DEBUT!$CP$2:$DI$18,15,FALSE),\"\")","v":"X"},null,null,null,null,null,null,null,{"$f":"IFERROR(HLOOKUP(YB$6,DEBUT!$CP$2:$DI$18,3,FALSE),\"\")","v":"X"},{"$f":"IFERROR(HLOOKUP(YB$6,DEBUT!$CP$2:$DI$18,7,FALSE),\"\")","v":"X"},{"$f":"IFERROR(HLOOKUP(YB$6,DEBUT!$CP$2:$DI$18,11,FALSE),\"\")","v":"X"},{"$f":"IFERROR(HLOOKUP(YB$6,DEBUT!$CP$2:$DI$18,15,FALSE),\"\")","v":"X"},null,null,null,{"$f":"IFERROR(HLOOKUP(YI$6,DEBUT!$CP$2:$DI$18,3,FALSE),\"\")","v":"X"},{"$f":"IFERROR(HLOOKUP(YI$6,DEBUT!$CP$2:$DI$18,7,FALSE),\"\")","v":"X"},{"$f":"IFERROR(HLOOKUP(YI$6,DEBUT!$CP$2:$DI$18,11,FALSE),\"\")","v":"X"},{"$f":"IFERROR(HLOOKUP(YI$6,DEBUT!$CP$2:$DI$18,15,FALSE),\"\")","v":"X"},null,null,null,null,null,{"$f":"IFERROR(HLOOKUP(YR$6,DEBUT!$CP$2:$DI$18,3,FALSE),\"\")","v":"X"},{"$f":"IFERROR(HLOOKUP(YR$6,DEBUT!$CP$2:$DI$18,7,FALSE),\"\")","v":"X"},{"$f":"IFERROR(HLOOKUP(YR$6,DEBUT!$CP$2:$DI$18,11,FALSE),\"\")","v":"X"},{"$f":"IFERROR(HLOOKUP(YR$6,DEBUT!$CP$2:$DI$18,15,FALSE),\"\")","v":"X"},null,null,null,{"$f":"IFERROR(HLOOKUP(YY$6,DEBUT!$CP$2:$DI$18,3,FALSE),\"\")","v":"X"},{"$f":"IFERROR(HLOOKUP(YY$6,DEBUT!$CP$2:$DI$18,7,FALSE),\"\")","v":"X"},{"$f":"IFERROR(HLOOKUP(YY$6,DEBUT!$CP$2:$DI$18,11,FALSE),\"\")","v":"X"},{"$f":"IFERROR(HLOOKUP(YY$6,DEBUT!$CP$2:$DI$18,15,FALSE),\"\")","v":"X"},null,null,null,null,null,null,null,{"$f":"IFERROR(HLOOKUP(ZJ$6,DEBUT!$CP$2:$DI$18,3,FALSE),\"\")","v":"X"},{"$f":"IFERROR(HLOOKUP(ZJ$6,DEBUT!$CP$2:$DI$18,7,FALSE),\"\")","v":"X"},{"$f":"IFERROR(HLOOKUP(ZJ$6,DEBUT!$CP$2:$DI$18,11,FALSE),\"\")","v":"X"},{"$f":"IFERROR(HLOOKUP(ZJ$6,DEBUT!$CP$2:$DI$18,15,FALSE),\"\")","v":"X"},null,null,null,{"$f":"IFERROR(HLOOKUP(ZQ$6,DEBUT!$CP$2:$DI$18,3,FALSE),\"\")","v":"X"},{"$f":"IFERROR(HLOOKUP(ZQ$6,DEBUT!$CP$2:$DI$18,7,FALSE),\"\")","v":"X"},{"$f":"IFERROR(HLOOKUP(ZQ$6,DEBUT!$CP$2:$DI$18,11,FALSE),\"\")","v":"X"},{"$f":"IFERROR(HLOOKUP(ZQ$6,DEBUT!$CP$2:$DI$18,15,FALSE),\"\")","v":"X"},null,null,null,null,null,{"$f":"IFERROR(HLOOKUP(ZZ$6,DEBUT!$CP$2:$DI$18,3,FALSE),\"\")","v":"X"},{"$f":"IFERROR(HLOOKUP(ZZ$6,DEBUT!$CP$2:$DI$18,7,FALSE),\"\")","v":"X"},{"$f":"IFERROR(HLOOKUP(ZZ$6,DEBUT!$CP$2:$DI$18,11,FALSE),\"\")","v":"X"},{"$f":"IFERROR(HLOOKUP(ZZ$6,DEBUT!$CP$2:$DI$18,15,FALSE),\"\")","v":"X"},null,null,null,{"$f":"IFERROR(HLOOKUP(AAG$6,DEBUT!$CP$2:$DI$18,3,FALSE),\"\")","v":"X"},{"$f":"IFERROR(HLOOKUP(AAG$6,DEBUT!$CP$2:$DI$18,7,FALSE),\"\")","v":"X"},{"$f":"IFERROR(HLOOKUP(AAG$6,DEBUT!$CP$2:$DI$18,11,FALSE),\"\")","v":"X"},{"$f":"IFERROR(HLOOKUP(AAG$6,DEBUT!$CP$2:$DI$18,15,FALSE),\"\")","v":"X"},null,null,null,null,null,null,null,{"$f":"IFERROR(HLOOKUP(AAR$6,DEBUT!$CP$2:$DI$18,3,FALSE),\"\")","v":"X"},{"$f":"IFERROR(HLOOKUP(AAR$6,DEBUT!$CP$2:$DI$18,7,FALSE),\"\")","v":"X"},{"$f":"IFERROR(HLOOKUP(AAR$6,DEBUT!$CP$2:$DI$18,11,FALSE),\"\")","v":"X"},{"$f":"IFERROR(HLOOKUP(AAR$6,DEBUT!$CP$2:$DI$18,15,FALSE),\"\")","v":"X"},null,null,null,{"$f":"IFERROR(HLOOKUP(AAY$6,DEBUT!$CP$2:$DI$18,3,FALSE),\"\")","v":"X"},{"$f":"IFERROR(HLOOKUP(AAY$6,DEBUT!$CP$2:$DI$18,7,FALSE),\"\")","v":"X"},{"$f":"IFERROR(HLOOKUP(AAY$6,DEBUT!$CP$2:$DI$18,11,FALSE),\"\")","v":"X"},{"$f":"IFERROR(HLOOKUP(AAY$6,DEBUT!$CP$2:$DI$18,15,FALSE),\"\")","v":"X"},null,null,null,null,null,{"$f":"IFERROR(HLOOKUP(ABH$6,DEBUT!$CP$2:$DI$18,3,FALSE),\"\")","v":"X"},{"$f":"IFERROR(HLOOKUP(ABH$6,DEBUT!$CP$2:$DI$18,7,FALSE),\"\")","v":"X"},{"$f":"IFERROR(HLOOKUP(ABH$6,DEBUT!$CP$2:$DI$18,11,FALSE),\"\")","v":"X"},{"$f":"IFERROR(HLOOKUP(ABH$6,DEBUT!$CP$2:$DI$18,15,FALSE),\"\")","v":"X"},null,null,null,{"$f":"IFERROR(HLOOKUP(ABO$6,DEBUT!$CP$2:$DI$18,3,FALSE),\"\")","v":"X"},{"$f":"IFERROR(HLOOKUP(ABO$6,DEBUT!$CP$2:$DI$18,7,FALSE),\"\")","v":"X"},{"$f":"IFERROR(HLOOKUP(ABO$6,DEBUT!$CP$2:$DI$18,11,FALSE),\"\")","v":"X"},{"$f":"IFERROR(HLOOKUP(ABO$6,DEBUT!$CP$2:$DI$18,15,FALSE),\"\")","v":"X"},null,null,null,null,null,null,null,{"$f":"IFERROR(HLOOKUP(ABZ$6,DEBUT!$CP$2:$DI$18,3,FALSE),\"\")","v":"X"},{"$f":"IFERROR(HLOOKUP(ABZ$6,DEBUT!$CP$2:$DI$18,7,FALSE),\"\")","v":"X"},{"$f":"IFERROR(HLOOKUP(ABZ$6,DEBUT!$CP$2:$DI$18,11,FALSE),\"\")","v":"X"},{"$f":"IFERROR(HLOOKUP(ABZ$6,DEBUT!$CP$2:$DI$18,15,FALSE),\"\")","v":"X"},null,null,null,{"$f":"IFERROR(HLOOKUP(ACG$6,DEBUT!$CP$2:$DI$18,3,FALSE),\"\")","v":"X"},{"$f":"IFERROR(HLOOKUP(ACG$6,DEBUT!$CP$2:$DI$18,7,FALSE),\"\")","v":"X"},{"$f":"IFERROR(HLOOKUP(ACG$6,DEBUT!$CP$2:$DI$18,11,FALSE),\"\")","v":"X"},{"$f":"IFERROR(HLOOKUP(ACG$6,DEBUT!$CP$2:$DI$18,15,FALSE),\"\")","v":"X"},null,null,null,null,null,{"$f":"IFERROR(HLOOKUP(ACP$6,DEBUT!$CP$2:$DI$18,3,FALSE),\"\")","v":"X"},{"$f":"IFERROR(HLOOKUP(ACP$6,DEBUT!$CP$2:$DI$18,7,FALSE),\"\")","v":"X"},{"$f":"IFERROR(HLOOKUP(ACP$6,DEBUT!$CP$2:$DI$18,11,FALSE),\"\")","v":"X"},{"$f":"IFERROR(HLOOKUP(ACP$6,DEBUT!$CP$2:$DI$18,15,FALSE),\"\")","v":"X"},null,null,null,{"$f":"IFERROR(HLOOKUP(ACW$6,DEBUT!$CP$2:$DI$18,3,FALSE),\"\")","v":"X"},{"$f":"IFERROR(HLOOKUP(ACW$6,DEBUT!$CP$2:$DI$18,7,FALSE),\"\")","v":"X"},{"$f":"IFERROR(HLOOKUP(ACW$6,DEBUT!$CP$2:$DI$18,11,FALSE),\"\")","v":"X"},{"$f":"IFERROR(HLOOKUP(ACW$6,DEBUT!$CP$2:$DI$18,15,FALSE),\"\")","v":"X"},null,null,null,null,null,null,null,{"$f":"IFERROR(HLOOKUP(ADH$6,DEBUT!$CP$2:$DI$18,3,FALSE),\"\")","v":"X"},{"$f":"IFERROR(HLOOKUP(ADH$6,DEBUT!$CP$2:$DI$18,7,FALSE),\"\")","v":"X"},{"$f":"IFERROR(HLOOKUP(ADH$6,DEBUT!$CP$2:$DI$18,11,FALSE),\"\")","v":"X"},{"$f":"IFERROR(HLOOKUP(ADH$6,DEBUT!$CP$2:$DI$18,15,FALSE),\"\")","v":"X"},null,null,null,{"$f":"IFERROR(HLOOKUP(ADO$6,DEBUT!$CP$2:$DI$18,3,FALSE),\"\")","v":"X"},{"$f":"IFERROR(HLOOKUP(ADO$6,DEBUT!$CP$2:$DI$18,7,FALSE),\"\")","v":"X"},{"$f":"IFERROR(HLOOKUP(ADO$6,DEBUT!$CP$2:$DI$18,11,FALSE),\"\")","v":"X"},{"$f":"IFERROR(HLOOKUP(ADO$6,DEBUT!$CP$2:$DI$18,15,FALSE),\"\")","v":"X"},null,null,null,null,null,{"$f":"IFERROR(HLOOKUP(ADX$6,DEBUT!$CP$2:$DI$18,3,FALSE),\"\")","v":"X"},{"$f":"IFERROR(HLOOKUP(ADX$6,DEBUT!$CP$2:$DI$18,7,FALSE),\"\")","v":"X"},{"$f":"IFERROR(HLOOKUP(ADX$6,DEBUT!$CP$2:$DI$18,11,FALSE),\"\")","v":"X"},{"$f":"IFERROR(HLOOKUP(ADX$6,DEBUT!$CP$2:$DI$18,15,FALSE),\"\")","v":"X"},null,null,null,{"$f":"IFERROR(HLOOKUP(AEE$6,DEBUT!$CP$2:$DI$18,3,FALSE),\"\")","v":"X"},{"$f":"IFERROR(HLOOKUP(AEE$6,DEBUT!$CP$2:$DI$18,7,FALSE),\"\")","v":"X"},{"$f":"IFERROR(HLOOKUP(AEE$6,DEBUT!$CP$2:$DI$18,11,FALSE),\"\")","v":"X"},{"$f":"IFERROR(HLOOKUP(AEE$6,DEBUT!$CP$2:$DI$18,15,FALSE),\"\")","v":"X"}]
[null,null,null,null,null,{"$f":"IFERROR(HLOOKUP(F$6,DEBUT!$CP$2:$DI$18,4,FALSE),\"\")","v":0},{"$f":"IFERROR(HLOOKUP(F$6,DEBUT!$CP$2:$DI$18,8,FALSE),\"\")","v":0},{"$f":"IFERROR(HLOOKUP(F$6,DEBUT!$CP$2:$DI$18,12,FALSE),\"\")","v":0},{"$f":"IFERROR(HLOOKUP(F$6,DEBUT!$CP$2:$DI$18,16,FALSE),\"\")","v":0},null,null,null,{"$f":"IFERROR(HLOOKUP(M$6,DEBUT!$CP$2:$DI$18,4,FALSE),\"\")","v":0},{"$f":"IFERROR(HLOOKUP(M$6,DEBUT!$CP$2:$DI$18,8,FALSE),\"\")","v":0},{"$f":"IFERROR(HLOOKUP(M$6,DEBUT!$CP$2:$DI$18,12,FALSE),\"\")","v":0},{"$f":"IFERROR(HLOOKUP(M$6,DEBUT!$CP$2:$DI$18,16,FALSE),\"\")","v":0},null,null,null,null,null,{"$f":"IFERROR(HLOOKUP(V$6,DEBUT!$CP$2:$DI$18,4,FALSE),\"\")","v":0},{"$f":"IFERROR(HLOOKUP(V$6,DEBUT!$CP$2:$DI$18,8,FALSE),\"\")","v":0},{"$f":"IFERROR(HLOOKUP(V$6,DEBUT!$CP$2:$DI$18,12,FALSE),\"\")","v":0},{"$f":"IFERROR(HLOOKUP(V$6,DEBUT!$CP$2:$DI$18,16,FALSE),\"\")","v":0},null,null,null,{"$f":"IFERROR(HLOOKUP(AC$6,DEBUT!$CP$2:$DI$18,4,FALSE),\"\")","v":0},{"$f":"IFERROR(HLOOKUP(AC$6,DEBUT!$CP$2:$DI$18,8,FALSE),\"\")","v":0},{"$f":"IFERROR(HLOOKUP(AC$6,DEBUT!$CP$2:$DI$18,12,FALSE),\"\")","v":0},{"$f":"IFERROR(HLOOKUP(AC$6,DEBUT!$CP$2:$DI$18,16,FALSE),\"\")","v":0},null,null,null,null,null,null,null,{"$f":"IFERROR(HLOOKUP(AN$6,DEBUT!$CP$2:$DI$18,4,FALSE),\"\")","v":0},{"$f":"IFERROR(HLOOKUP(AN$6,DEBUT!$CP$2:$DI$18,8,FALSE),\"\")","v":0},{"$f":"IFERROR(HLOOKUP(AN$6,DEBUT!$CP$2:$DI$18,12,FALSE),\"\")","v":0},{"$f":"IFERROR(HLOOKUP(AN$6,DEBUT!$CP$2:$DI$18,16,FALSE),\"\")","v":0},null,null,null,{"$f":"IFERROR(HLOOKUP(AU$6,DEBUT!$CP$2:$DI$18,4,FALSE),\"\")","v":0},{"$f":"IFERROR(HLOOKUP(AU$6,DEBUT!$CP$2:$DI$18,8,FALSE),\"\")","v":0},{"$f":"IFERROR(HLOOKUP(AU$6,DEBUT!$CP$2:$DI$18,12,FALSE),\"\")","v":0},{"$f":"IFERROR(HLOOKUP(AU$6,DEBUT!$CP$2:$DI$18,16,FALSE),\"\")","v":0},null,null,null,null,null,{"$f":"IFERROR(HLOOKUP(BD$6,DEBUT!$CP$2:$DI$18,4,FALSE),\"\")","v":0},{"$f":"IFERROR(HLOOKUP(BD$6,DEBUT!$CP$2:$DI$18,8,FALSE),\"\")","v":0},{"$f":"IFERROR(HLOOKUP(BD$6,DEBUT!$CP$2:$DI$18,12,FALSE),\"\")","v":0},{"$f":"IFERROR(HLOOKUP(BD$6,DEBUT!$CP$2:$DI$18,16,FALSE),\"\")","v":0},null,null,null,{"$f":"IFERROR(HLOOKUP(BK$6,DEBUT!$CP$2:$DI$18,4,FALSE),\"\")","v":0},{"$f":"IFERROR(HLOOKUP(BK$6,DEBUT!$CP$2:$DI$18,8,FALSE),\"\")","v":0},{"$f":"IFERROR(HLOOKUP(BK$6,DEBUT!$CP$2:$DI$18,12,FALSE),\"\")","v":0},{"$f":"IFERROR(HLOOKUP(BK$6,DEBUT!$CP$2:$DI$18,16,FALSE),\"\")","v":0},null,null,null,null,null,null,null,{"$f":"IFERROR(HLOOKUP(BV$6,DEBUT!$CP$2:$DI$18,4,FALSE),\"\")","v":0},{"$f":"IFERROR(HLOOKUP(BV$6,DEBUT!$CP$2:$DI$18,8,FALSE),\"\")","v":0},{"$f":"IFERROR(HLOOKUP(BV$6,DEBUT!$CP$2:$DI$18,12,FALSE),\"\")","v":0},{"$f":"IFERROR(HLOOKUP(BV$6,DEBUT!$CP$2:$DI$18,16,FALSE),\"\")","v":0},null,null,null,{"$f":"IFERROR(HLOOKUP(CC$6,DEBUT!$CP$2:$DI$18,4,FALSE),\"\")","v":0},{"$f":"IFERROR(HLOOKUP(CC$6,DEBUT!$CP$2:$DI$18,8,FALSE),\"\")","v":0},{"$f":"IFERROR(HLOOKUP(CC$6,DEBUT!$CP$2:$DI$18,12,FALSE),\"\")","v":0},{"$f":"IFERROR(HLOOKUP(CC$6,DEBUT!$CP$2:$DI$18,16,FALSE),\"\")","v":0},null,null,null,null,null,{"$f":"IFERROR(HLOOKUP(CL$6,DEBUT!$CP$2:$DI$18,4,FALSE),\"\")","v":0},{"$f":"IFERROR(HLOOKUP(CL$6,DEBUT!$CP$2:$DI$18,8,FALSE),\"\")","v":0},{"$f":"IFERROR(HLOOKUP(CL$6,DEBUT!$CP$2:$DI$18,12,FALSE),\"\")","v":0},{"$f":"IFERROR(HLOOKUP(CL$6,DEBUT!$CP$2:$DI$18,16,FALSE),\"\")","v":0},null,null,null,{"$f":"IFERROR(HLOOKUP(CS$6,DEBUT!$CP$2:$DI$18,4,FALSE),\"\")","v":0},{"$f":"IFERROR(HLOOKUP(CS$6,DEBUT!$CP$2:$DI$18,8,FALSE),\"\")","v":0},{"$f":"IFERROR(HLOOKUP(CS$6,DEBUT!$CP$2:$DI$18,12,FALSE),\"\")","v":0},{"$f":"IFERROR(HLOOKUP(CS$6,DEBUT!$CP$2:$DI$18,16,FALSE),\"\")","v":0},null,null,null,null,null,null,null,{"$f":"IFERROR(HLOOKUP(DD$6,DEBUT!$CP$2:$DI$18,4,FALSE),\"\")","v":0},{"$f":"IFERROR(HLOOKUP(DD$6,DEBUT!$CP$2:$DI$18,8,FALSE),\"\")","v":0},{"$f":"IFERROR(HLOOKUP(DD$6,DEBUT!$CP$2:$DI$18,12,FALSE),\"\")","v":0},{"$f":"IFERROR(HLOOKUP(DD$6,DEBUT!$CP$2:$DI$18,16,FALSE),\"\")","v":0},null,null,null,{"$f":"IFERROR(HLOOKUP(DK$6,DEBUT!$CP$2:$DI$18,4,FALSE),\"\")","v":0},{"$f":"IFERROR(HLOOKUP(DK$6,DEBUT!$CP$2:$DI$18,8,FALSE),\"\")","v":0},{"$f":"IFERROR(HLOOKUP(DK$6,DEBUT!$CP$2:$DI$18,12,FALSE),\"\")","v":0},{"$f":"IFERROR(HLOOKUP(DK$6,DEBUT!$CP$2:$DI$18,16,FALSE),\"\")","v":0},null,null,null,null,null,{"$f":"IFERROR(HLOOKUP(DT$6,DEBUT!$CP$2:$DI$18,4,FALSE),\"\")","v":0},{"$f":"IFERROR(HLOOKUP(DT$6,DEBUT!$CP$2:$DI$18,8,FALSE),\"\")","v":0},{"$f":"IFERROR(HLOOKUP(DT$6,DEBUT!$CP$2:$DI$18,12,FALSE),\"\")","v":0},{"$f":"IFERROR(HLOOKUP(DT$6,DEBUT!$CP$2:$DI$18,16,FALSE),\"\")","v":0},null,null,null,{"$f":"IFERROR(HLOOKUP(EA$6,DEBUT!$CP$2:$DI$18,4,FALSE),\"\")","v":0},{"$f":"IFERROR(HLOOKUP(EA$6,DEBUT!$CP$2:$DI$18,8,FALSE),\"\")","v":0},{"$f":"IFERROR(HLOOKUP(EA$6,DEBUT!$CP$2:$DI$18,12,FALSE),\"\")","v":0},{"$f":"IFERROR(HLOOKUP(EA$6,DEBUT!$CP$2:$DI$18,16,FALSE),\"\")","v":0},null,null,null,null,null,null,null,{"$f":"IFERROR(HLOOKUP(EL$6,DEBUT!$CP$2:$DI$18,4,FALSE),\"\")","v":0},{"$f":"IFERROR(HLOOKUP(EL$6,DEBUT!$CP$2:$DI$18,8,FALSE),\"\")","v":0},{"$f":"IFERROR(HLOOKUP(EL$6,DEBUT!$CP$2:$DI$18,12,FALSE),\"\")","v":0},{"$f":"IFERROR(HLOOKUP(EL$6,DEBUT!$CP$2:$DI$18,16,FALSE),\"\")","v":0},null,null,null,{"$f":"IFERROR(HLOOKUP(ES$6,DEBUT!$CP$2:$DI$18,4,FALSE),\"\")","v":0},{"$f":"IFERROR(HLOOKUP(ES$6,DEBUT!$CP$2:$DI$18,8,FALSE),\"\")","v":0},{"$f":"IFERROR(HLOOKUP(ES$6,DEBUT!$CP$2:$DI$18,12,FALSE),\"\")","v":0},{"$f":"IFERROR(HLOOKUP(ES$6,DEBUT!$CP$2:$DI$18,16,FALSE),\"\")","v":0},null,null,null,null,null,{"$f":"IFERROR(HLOOKUP(FB$6,DEBUT!$CP$2:$DI$18,4,FALSE),\"\")","v":0},{"$f":"IFERROR(HLOOKUP(FB$6,DEBUT!$CP$2:$DI$18,8,FALSE),\"\")","v":0},{"$f":"IFERROR(HLOOKUP(FB$6,DEBUT!$CP$2:$DI$18,12,FALSE),\"\")","v":0},{"$f":"IFERROR(HLOOKUP(FB$6,DEBUT!$CP$2:$DI$18,16,FALSE),\"\")","v":0},null,null,null,{"$f":"IFERROR(HLOOKUP(FI$6,DEBUT!$CP$2:$DI$18,4,FALSE),\"\")","v":0},{"$f":"IFERROR(HLOOKUP(FI$6,DEBUT!$CP$2:$DI$18,8,FALSE),\"\")","v":0},{"$f":"IFERROR(HLOOKUP(FI$6,DEBUT!$CP$2:$DI$18,12,FALSE),\"\")","v":0},{"$f":"IFERROR(HLOOKUP(FI$6,DEBUT!$CP$2:$DI$18,16,FALSE),\"\")","v":0},null,null,null,null,null,null,null,{"$f":"IFERROR(HLOOKUP(FT$6,DEBUT!$CP$2:$DI$18,4,FALSE),\"\")","v":0},{"$f":"IFERROR(HLOOKUP(FT$6,DEBUT!$CP$2:$DI$18,8,FALSE),\"\")","v":0},{"$f":"IFERROR(HLOOKUP(FT$6,DEBUT!$CP$2:$DI$18,12,FALSE),\"\")","v":0},{"$f":"IFERROR(HLOOKUP(FT$6,DEBUT!$CP$2:$DI$18,16,FALSE),\"\")","v":0},null,null,null,{"$f":"IFERROR(HLOOKUP(GA$6,DEBUT!$CP$2:$DI$18,4,FALSE),\"\")","v":0},{"$f":"IFERROR(HLOOKUP(GA$6,DEBUT!$CP$2:$DI$18,8,FALSE),\"\")","v":0},{"$f":"IFERROR(HLOOKUP(GA$6,DEBUT!$CP$2:$DI$18,12,FALSE),\"\")","v":0},{"$f":"IFERROR(HLOOKUP(GA$6,DEBUT!$CP$2:$DI$18,16,FALSE),\"\")","v":0},null,null,null,null,null,{"$f":"IFERROR(HLOOKUP(GJ$6,DEBUT!$CP$2:$DI$18,4,FALSE),\"\")","v":0},{"$f":"IFERROR(HLOOKUP(GJ$6,DEBUT!$CP$2:$DI$18,8,FALSE),\"\")","v":0},{"$f":"IFERROR(HLOOKUP(GJ$6,DEBUT!$CP$2:$DI$18,12,FALSE),\"\")","v":0},{"$f":"IFERROR(HLOOKUP(GJ$6,DEBUT!$CP$2:$DI$18,16,FALSE),\"\")","v":0},null,null,null,{"$f":"IFERROR(HLOOKUP(GQ$6,DEBUT!$CP$2:$DI$18,4,FALSE),\"\")","v":0},{"$f":"IFERROR(HLOOKUP(GQ$6,DEBUT!$CP$2:$DI$18,8,FALSE),\"\")","v":0},{"$f":"IFERROR(HLOOKUP(GQ$6,DEBUT!$CP$2:$DI$18,12,FALSE),\"\")","v":0},{"$f":"IFERROR(HLOOKUP(GQ$6,DEBUT!$CP$2:$DI$18,16,FALSE),\"\")","v":0},null,null,null,null,null,null,null,{"$f":"IFERROR(HLOOKUP(HB$6,DEBUT!$CP$2:$DI$18,4,FALSE),\"\")","v":0},{"$f":"IFERROR(HLOOKUP(HB$6,DEBUT!$CP$2:$DI$18,8,FALSE),\"\")","v":0},{"$f":"IFERROR(HLOOKUP(HB$6,DEBUT!$CP$2:$DI$18,12,FALSE),\"\")","v":0},{"$f":"IFERROR(HLOOKUP(HB$6,DEBUT!$CP$2:$DI$18,16,FALSE),\"\")","v":0},null,null,null,{"$f":"IFERROR(HLOOKUP(HI$6,DEBUT!$CP$2:$DI$18,4,FALSE),\"\")","v":0},{"$f":"IFERROR(HLOOKUP(HI$6,DEBUT!$CP$2:$DI$18,8,FALSE),\"\")","v":0},{"$f":"IFERROR(HLOOKUP(HI$6,DEBUT!$CP$2:$DI$18,12,FALSE),\"\")","v":0},{"$f":"IFERROR(HLOOKUP(HI$6,DEBUT!$CP$2:$DI$18,16,FALSE),\"\")","v":0},null,null,null,null,null,{"$f":"IFERROR(HLOOKUP(HR$6,DEBUT!$CP$2:$DI$18,4,FALSE),\"\")","v":0},{"$f":"IFERROR(HLOOKUP(HR$6,DEBUT!$CP$2:$DI$18,8,FALSE),\"\")","v":0},{"$f":"IFERROR(HLOOKUP(HR$6,DEBUT!$CP$2:$DI$18,12,FALSE),\"\")","v":0},{"$f":"IFERROR(HLOOKUP(HR$6,DEBUT!$CP$2:$DI$18,16,FALSE),\"\")","v":0},null,null,null,{"$f":"IFERROR(HLOOKUP(HY$6,DEBUT!$CP$2:$DI$18,4,FALSE),\"\")","v":0},{"$f":"IFERROR(HLOOKUP(HY$6,DEBUT!$CP$2:$DI$18,8,FALSE),\"\")","v":0},{"$f":"IFERROR(HLOOKUP(HY$6,DEBUT!$CP$2:$DI$18,12,FALSE),\"\")","v":0},{"$f":"IFERROR(HLOOKUP(HY$6,DEBUT!$CP$2:$DI$18,16,FALSE),\"\")","v":0},null,null,null,null,null,null,null,{"$f":"IFERROR(HLOOKUP(IJ$6,DEBUT!$CP$2:$DI$18,4,FALSE),\"\")","v":0},{"$f":"IFERROR(HLOOKUP(IJ$6,DEBUT!$CP$2:$DI$18,8,FALSE),\"\")","v":0},{"$f":"IFERROR(HLOOKUP(IJ$6,DEBUT!$CP$2:$DI$18,12,FALSE),\"\")","v":0},{"$f":"IFERROR(HLOOKUP(IJ$6,DEBUT!$CP$2:$DI$18,16,FALSE),\"\")","v":0},null,null,null,{"$f":"IFERROR(HLOOKUP(IQ$6,DEBUT!$CP$2:$DI$18,4,FALSE),\"\")","v":0},{"$f":"IFERROR(HLOOKUP(IQ$6,DEBUT!$CP$2:$DI$18,8,FALSE),\"\")","v":0},{"$f":"IFERROR(HLOOKUP(IQ$6,DEBUT!$CP$2:$DI$18,12,FALSE),\"\")","v":0},{"$f":"IFERROR(HLOOKUP(IQ$6,DEBUT!$CP$2:$DI$18,16,FALSE),\"\")","v":0},null,null,null,null,null,{"$f":"IFERROR(HLOOKUP(IZ$6,DEBUT!$CP$2:$DI$18,4,FALSE),\"\")","v":0},{"$f":"IFERROR(HLOOKUP(IZ$6,DEBUT!$CP$2:$DI$18,8,FALSE),\"\")","v":0},{"$f":"IFERROR(HLOOKUP(IZ$6,DEBUT!$CP$2:$DI$18,12,FALSE),\"\")","v":0},{"$f":"IFERROR(HLOOKUP(IZ$6,DEBUT!$CP$2:$DI$18,16,FALSE),\"\")","v":0},null,null,null,{"$f":"IFERROR(HLOOKUP(JG$6,DEBUT!$CP$2:$DI$18,4,FALSE),\"\")","v":0},{"$f":"IFERROR(HLOOKUP(JG$6,DEBUT!$CP$2:$DI$18,8,FALSE),\"\")","v":0},{"$f":"IFERROR(HLOOKUP(JG$6,DEBUT!$CP$2:$DI$18,12,FALSE),\"\")","v":0},{"$f":"IFERROR(HLOOKUP(JG$6,DEBUT!$CP$2:$DI$18,16,FALSE),\"\")","v":0},null,null,null,null,null,null,null,{"$f":"IFERROR(HLOOKUP(JR$6,DEBUT!$CP$2:$DI$18,4,FALSE),\"\")","v":0},{"$f":"IFERROR(HLOOKUP(JR$6,DEBUT!$CP$2:$DI$18,8,FALSE),\"\")","v":0},{"$f":"IFERROR(HLOOKUP(JR$6,DEBUT!$CP$2:$DI$18,12,FALSE),\"\")","v":0},{"$f":"IFERROR(HLOOKUP(JR$6,DEBUT!$CP$2:$DI$18,16,FALSE),\"\")","v":0},null,null,null,{"$f":"IFERROR(HLOOKUP(JY$6,DEBUT!$CP$2:$DI$18,4,FALSE),\"\")","v":0},{"$f":"IFERROR(HLOOKUP(JY$6,DEBUT!$CP$2:$DI$18,8,FALSE),\"\")","v":0},{"$f":"IFERROR(HLOOKUP(JY$6,DEBUT!$CP$2:$DI$18,12,FALSE),\"\")","v":0},{"$f":"IFERROR(HLOOKUP(JY$6,DEBUT!$CP$2:$DI$18,16,FALSE),\"\")","v":0},null,null,null,null,null,{"$f":"IFERROR(HLOOKUP(KH$6,DEBUT!$CP$2:$DI$18,4,FALSE),\"\")","v":0},{"$f":"IFERROR(HLOOKUP(KH$6,DEBUT!$CP$2:$DI$18,8,FALSE),\"\")","v":0},{"$f":"IFERROR(HLOOKUP(KH$6,DEBUT!$CP$2:$DI$18,12,FALSE),\"\")","v":0},{"$f":"IFERROR(HLOOKUP(KH$6,DEBUT!$CP$2:$DI$18,16,FALSE),\"\")","v":0},null,null,null,{"$f":"IFERROR(HLOOKUP(KO$6,DEBUT!$CP$2:$DI$18,4,FALSE),\"\")","v":0},{"$f":"IFERROR(HLOOKUP(KO$6,DEBUT!$CP$2:$DI$18,8,FALSE),\"\")","v":0},{"$f":"IFERROR(HLOOKUP(KO$6,DEBUT!$CP$2:$DI$18,12,FALSE),\"\")","v":0},{"$f":"IFERROR(HLOOKUP(KO$6,DEBUT!$CP$2:$DI$18,16,FALSE),\"\")","v":0},null,null,null,null,null,null,null,{"$f":"IFERROR(HLOOKUP(KZ$6,DEBUT!$CP$2:$DI$18,4,FALSE),\"\")","v":0},{"$f":"IFERROR(HLOOKUP(KZ$6,DEBUT!$CP$2:$DI$18,8,FALSE),\"\")","v":0},{"$f":"IFERROR(HLOOKUP(KZ$6,DEBUT!$CP$2:$DI$18,12,FALSE),\"\")","v":0},{"$f":"IFERROR(HLOOKUP(KZ$6,DEBUT!$CP$2:$DI$18,16,FALSE),\"\")","v":0},null,null,null,{"$f":"IFERROR(HLOOKUP(LG$6,DEBUT!$CP$2:$DI$18,4,FALSE),\"\")","v":0},{"$f":"IFERROR(HLOOKUP(LG$6,DEBUT!$CP$2:$DI$18,8,FALSE),\"\")","v":0},{"$f":"IFERROR(HLOOKUP(LG$6,DEBUT!$CP$2:$DI$18,12,FALSE),\"\")","v":0},{"$f":"IFERROR(HLOOKUP(LG$6,DEBUT!$CP$2:$DI$18,16,FALSE),\"\")","v":0},null,null,null,null,null,{"$f":"IFERROR(HLOOKUP(LP$6,DEBUT!$CP$2:$DI$18,4,FALSE),\"\")","v":0},{"$f":"IFERROR(HLOOKUP(LP$6,DEBUT!$CP$2:$DI$18,8,FALSE),\"\")","v":0},{"$f":"IFERROR(HLOOKUP(LP$6,DEBUT!$CP$2:$DI$18,12,FALSE),\"\")","v":0},{"$f":"IFERROR(HLOOKUP(LP$6,DEBUT!$CP$2:$DI$18,16,FALSE),\"\")","v":0},null,null,null,{"$f":"IFERROR(HLOOKUP(LW$6,DEBUT!$CP$2:$DI$18,4,FALSE),\"\")","v":0},{"$f":"IFERROR(HLOOKUP(LW$6,DEBUT!$CP$2:$DI$18,8,FALSE),\"\")","v":0},{"$f":"IFERROR(HLOOKUP(LW$6,DEBUT!$CP$2:$DI$18,12,FALSE),\"\")","v":0},{"$f":"IFERROR(HLOOKUP(LW$6,DEBUT!$CP$2:$DI$18,16,FALSE),\"\")","v":0},null,null,null,null,null,null,null,{"$f":"IFERROR(HLOOKUP(MH$6,DEBUT!$CP$2:$DI$18,4,FALSE),\"\")","v":0},{"$f":"IFERROR(HLOOKUP(MH$6,DEBUT!$CP$2:$DI$18,8,FALSE),\"\")","v":0},{"$f":"IFERROR(HLOOKUP(MH$6,DEBUT!$CP$2:$DI$18,12,FALSE),\"\")","v":0},{"$f":"IFERROR(HLOOKUP(MH$6,DEBUT!$CP$2:$DI$18,16,FALSE),\"\")","v":0},null,null,null,{"$f":"IFERROR(HLOOKUP(MO$6,DEBUT!$CP$2:$DI$18,4,FALSE),\"\")","v":0},{"$f":"IFERROR(HLOOKUP(MO$6,DEBUT!$CP$2:$DI$18,8,FALSE),\"\")","v":0},{"$f":"IFERROR(HLOOKUP(MO$6,DEBUT!$CP$2:$DI$18,12,FALSE),\"\")","v":0},{"$f":"IFERROR(HLOOKUP(MO$6,DEBUT!$CP$2:$DI$18,16,FALSE),\"\")","v":0},null,null,null,null,null,{"$f":"IFERROR(HLOOKUP(MX$6,DEBUT!$CP$2:$DI$18,4,FALSE),\"\")","v":0},{"$f":"IFERROR(HLOOKUP(MX$6,DEBUT!$CP$2:$DI$18,8,FALSE),\"\")","v":0},{"$f":"IFERROR(HLOOKUP(MX$6,DEBUT!$CP$2:$DI$18,12,FALSE),\"\")","v":0},{"$f":"IFERROR(HLOOKUP(MX$6,DEBUT!$CP$2:$DI$18,16,FALSE),\"\")","v":0},null,null,null,{"$f":"IFERROR(HLOOKUP(NE$6,DEBUT!$CP$2:$DI$18,4,FALSE),\"\")","v":0},{"$f":"IFERROR(HLOOKUP(NE$6,DEBUT!$CP$2:$DI$18,8,FALSE),\"\")","v":0},{"$f":"IFERROR(HLOOKUP(NE$6,DEBUT!$CP$2:$DI$18,12,FALSE),\"\")","v":0},{"$f":"IFERROR(HLOOKUP(NE$6,DEBUT!$CP$2:$DI$18,16,FALSE),\"\")","v":0},null,null,null,null,null,null,null,{"$f":"IFERROR(HLOOKUP(NP$6,DEBUT!$CP$2:$DI$18,4,FALSE),\"\")","v":0},{"$f":"IFERROR(HLOOKUP(NP$6,DEBUT!$CP$2:$DI$18,8,FALSE),\"\")","v":0},{"$f":"IFERROR(HLOOKUP(NP$6,DEBUT!$CP$2:$DI$18,12,FALSE),\"\")","v":0},{"$f":"IFERROR(HLOOKUP(NP$6,DEBUT!$CP$2:$DI$18,16,FALSE),\"\")","v":0},null,null,null,{"$f":"IFERROR(HLOOKUP(NW$6,DEBUT!$CP$2:$DI$18,4,FALSE),\"\")","v":0},{"$f":"IFERROR(HLOOKUP(NW$6,DEBUT!$CP$2:$DI$18,8,FALSE),\"\")","v":0},{"$f":"IFERROR(HLOOKUP(NW$6,DEBUT!$CP$2:$DI$18,12,FALSE),\"\")","v":0},{"$f":"IFERROR(HLOOKUP(NW$6,DEBUT!$CP$2:$DI$18,16,FALSE),\"\")","v":0},null,null,null,null,null,{"$f":"IFERROR(HLOOKUP(OF$6,DEBUT!$CP$2:$DI$18,4,FALSE),\"\")","v":0},{"$f":"IFERROR(HLOOKUP(OF$6,DEBUT!$CP$2:$DI$18,8,FALSE),\"\")","v":0},{"$f":"IFERROR(HLOOKUP(OF$6,DEBUT!$CP$2:$DI$18,12,FALSE),\"\")","v":0},{"$f":"IFERROR(HLOOKUP(OF$6,DEBUT!$CP$2:$DI$18,16,FALSE),\"\")","v":0},null,null,null,{"$f":"IFERROR(HLOOKUP(OM$6,DEBUT!$CP$2:$DI$18,4,FALSE),\"\")","v":0},{"$f":"IFERROR(HLOOKUP(OM$6,DEBUT!$CP$2:$DI$18,8,FALSE),\"\")","v":0},{"$f":"IFERROR(HLOOKUP(OM$6,DEBUT!$CP$2:$DI$18,12,FALSE),\"\")","v":0},{"$f":"IFERROR(HLOOKUP(OM$6,DEBUT!$CP$2:$DI$18,16,FALSE),\"\")","v":0},null,null,null,null,null,null,null,{"$f":"IFERROR(HLOOKUP(OX$6,DEBUT!$CP$2:$DI$18,4,FALSE),\"\")","v":0},{"$f":"IFERROR(HLOOKUP(OX$6,DEBUT!$CP$2:$DI$18,8,FALSE),\"\")","v":0},{"$f":"IFERROR(HLOOKUP(OX$6,DEBUT!$CP$2:$DI$18,12,FALSE),\"\")","v":0},{"$f":"IFERROR(HLOOKUP(OX$6,DEBUT!$CP$2:$DI$18,16,FALSE),\"\")","v":0},null,null,null,{"$f":"IFERROR(HLOOKUP(PE$6,DEBUT!$CP$2:$DI$18,4,FALSE),\"\")","v":0},{"$f":"IFERROR(HLOOKUP(PE$6,DEBUT!$CP$2:$DI$18,8,FALSE),\"\")","v":0},{"$f":"IFERROR(HLOOKUP(PE$6,DEBUT!$CP$2:$DI$18,12,FALSE),\"\")","v":0},{"$f":"IFERROR(HLOOKUP(PE$6,DEBUT!$CP$2:$DI$18,16,FALSE),\"\")","v":0},null,null,null,null,null,{"$f":"IFERROR(HLOOKUP(PN$6,DEBUT!$CP$2:$DI$18,4,FALSE),\"\")","v":0},{"$f":"IFERROR(HLOOKUP(PN$6,DEBUT!$CP$2:$DI$18,8,FALSE),\"\")","v":0},{"$f":"IFERROR(HLOOKUP(PN$6,DEBUT!$CP$2:$DI$18,12,FALSE),\"\")","v":0},{"$f":"IFERROR(HLOOKUP(PN$6,DEBUT!$CP$2:$DI$18,16,FALSE),\"\")","v":0},null,null,null,{"$f":"IFERROR(HLOOKUP(PU$6,DEBUT!$CP$2:$DI$18,4,FALSE),\"\")","v":0},{"$f":"IFERROR(HLOOKUP(PU$6,DEBUT!$CP$2:$DI$18,8,FALSE),\"\")","v":0},{"$f":"IFERROR(HLOOKUP(PU$6,DEBUT!$CP$2:$DI$18,12,FALSE),\"\")","v":0},{"$f":"IFERROR(HLOOKUP(PU$6,DEBUT!$CP$2:$DI$18,16,FALSE),\"\")","v":0},null,null,null,null,null,null,null,{"$f":"IFERROR(HLOOKUP(QF$6,DEBUT!$CP$2:$DI$18,4,FALSE),\"\")","v":0},{"$f":"IFERROR(HLOOKUP(QF$6,DEBUT!$CP$2:$DI$18,8,FALSE),\"\")","v":0},{"$f":"IFERROR(HLOOKUP(QF$6,DEBUT!$CP$2:$DI$18,12,FALSE),\"\")","v":0},{"$f":"IFERROR(HLOOKUP(QF$6,DEBUT!$CP$2:$DI$18,16,FALSE),\"\")","v":0},null,null,null,{"$f":"IFERROR(HLOOKUP(QM$6,DEBUT!$CP$2:$DI$18,4,FALSE),\"\")","v":0},{"$f":"IFERROR(HLOOKUP(QM$6,DEBUT!$CP$2:$DI$18,8,FALSE),\"\")","v":0},{"$f":"IFERROR(HLOOKUP(QM$6,DEBUT!$CP$2:$DI$18,12,FALSE),\"\")","v":0},{"$f":"IFERROR(HLOOKUP(QM$6,DEBUT!$CP$2:$DI$18,16,FALSE),\"\")","v":0},null,null,null,null,null,{"$f":"IFERROR(HLOOKUP(QV$6,DEBUT!$CP$2:$DI$18,4,FALSE),\"\")","v":0},{"$f":"IFERROR(HLOOKUP(QV$6,DEBUT!$CP$2:$DI$18,8,FALSE),\"\")","v":0},{"$f":"IFERROR(HLOOKUP(QV$6,DEBUT!$CP$2:$DI$18,12,FALSE),\"\")","v":0},{"$f":"IFERROR(HLOOKUP(QV$6,DEBUT!$CP$2:$DI$18,16,FALSE),\"\")","v":0},null,null,null,{"$f":"IFERROR(HLOOKUP(RC$6,DEBUT!$CP$2:$DI$18,4,FALSE),\"\")","v":0},{"$f":"IFERROR(HLOOKUP(RC$6,DEBUT!$CP$2:$DI$18,8,FALSE),\"\")","v":0},{"$f":"IFERROR(HLOOKUP(RC$6,DEBUT!$CP$2:$DI$18,12,FALSE),\"\")","v":0},{"$f":"IFERROR(HLOOKUP(RC$6,DEBUT!$CP$2:$DI$18,16,FALSE),\"\")","v":0},null,null,null,null,null,null,null,{"$f":"IFERROR(HLOOKUP(RN$6,DEBUT!$CP$2:$DI$18,4,FALSE),\"\")","v":0},{"$f":"IFERROR(HLOOKUP(RN$6,DEBUT!$CP$2:$DI$18,8,FALSE),\"\")","v":0},{"$f":"IFERROR(HLOOKUP(RN$6,DEBUT!$CP$2:$DI$18,12,FALSE),\"\")","v":0},{"$f":"IFERROR(HLOOKUP(RN$6,DEBUT!$CP$2:$DI$18,16,FALSE),\"\")","v":0},null,null,null,{"$f":"IFERROR(HLOOKUP(RU$6,DEBUT!$CP$2:$DI$18,4,FALSE),\"\")","v":0},{"$f":"IFERROR(HLOOKUP(RU$6,DEBUT!$CP$2:$DI$18,8,FALSE),\"\")","v":0},{"$f":"IFERROR(HLOOKUP(RU$6,DEBUT!$CP$2:$DI$18,12,FALSE),\"\")","v":0},{"$f":"IFERROR(HLOOKUP(RU$6,DEBUT!$CP$2:$DI$18,16,FALSE),\"\")","v":0},null,null,null,null,null,{"$f":"IFERROR(HLOOKUP(SD$6,DEBUT!$CP$2:$DI$18,4,FALSE),\"\")","v":0},{"$f":"IFERROR(HLOOKUP(SD$6,DEBUT!$CP$2:$DI$18,8,FALSE),\"\")","v":0},{"$f":"IFERROR(HLOOKUP(SD$6,DEBUT!$CP$2:$DI$18,12,FALSE),\"\")","v":0},{"$f":"IFERROR(HLOOKUP(SD$6,DEBUT!$CP$2:$DI$18,16,FALSE),\"\")","v":0},null,null,null,{"$f":"IFERROR(HLOOKUP(SK$6,DEBUT!$CP$2:$DI$18,4,FALSE),\"\")","v":0},{"$f":"IFERROR(HLOOKUP(SK$6,DEBUT!$CP$2:$DI$18,8,FALSE),\"\")","v":0},{"$f":"IFERROR(HLOOKUP(SK$6,DEBUT!$CP$2:$DI$18,12,FALSE),\"\")","v":0},{"$f":"IFERROR(HLOOKUP(SK$6,DEBUT!$CP$2:$DI$18,16,FALSE),\"\")","v":0},null,null,null,null,null,null,null,{"$f":"IFERROR(HLOOKUP(SV$6,DEBUT!$CP$2:$DI$18,4,FALSE),\"\")","v":0},{"$f":"IFERROR(HLOOKUP(SV$6,DEBUT!$CP$2:$DI$18,8,FALSE),\"\")","v":0},{"$f":"IFERROR(HLOOKUP(SV$6,DEBUT!$CP$2:$DI$18,12,FALSE),\"\")","v":0},{"$f":"IFERROR(HLOOKUP(SV$6,DEBUT!$CP$2:$DI$18,16,FALSE),\"\")","v":0},null,null,null,{"$f":"IFERROR(HLOOKUP(TC$6,DEBUT!$CP$2:$DI$18,4,FALSE),\"\")","v":0},{"$f":"IFERROR(HLOOKUP(TC$6,DEBUT!$CP$2:$DI$18,8,FALSE),\"\")","v":0},{"$f":"IFERROR(HLOOKUP(TC$6,DEBUT!$CP$2:$DI$18,12,FALSE),\"\")","v":0},{"$f":"IFERROR(HLOOKUP(TC$6,DEBUT!$CP$2:$DI$18,16,FALSE),\"\")","v":0},null,null,null,null,null,{"$f":"IFERROR(HLOOKUP(TL$6,DEBUT!$CP$2:$DI$18,4,FALSE),\"\")","v":0},{"$f":"IFERROR(HLOOKUP(TL$6,DEBUT!$CP$2:$DI$18,8,FALSE),\"\")","v":0},{"$f":"IFERROR(HLOOKUP(TL$6,DEBUT!$CP$2:$DI$18,12,FALSE),\"\")","v":0},{"$f":"IFERROR(HLOOKUP(TL$6,DEBUT!$CP$2:$DI$18,16,FALSE),\"\")","v":0},null,null,null,{"$f":"IFERROR(HLOOKUP(TS$6,DEBUT!$CP$2:$DI$18,4,FALSE),\"\")","v":0},{"$f":"IFERROR(HLOOKUP(TS$6,DEBUT!$CP$2:$DI$18,8,FALSE),\"\")","v":0},{"$f":"IFERROR(HLOOKUP(TS$6,DEBUT!$CP$2:$DI$18,12,FALSE),\"\")","v":0},{"$f":"IFERROR(HLOOKUP(TS$6,DEBUT!$CP$2:$DI$18,16,FALSE),\"\")","v":0},null,null,null,null,null,null,null,{"$f":"IFERROR(HLOOKUP(UD$6,DEBUT!$CP$2:$DI$18,4,FALSE),\"\")","v":0},{"$f":"IFERROR(HLOOKUP(UD$6,DEBUT!$CP$2:$DI$18,8,FALSE),\"\")","v":0},{"$f":"IFERROR(HLOOKUP(UD$6,DEBUT!$CP$2:$DI$18,12,FALSE),\"\")","v":0},{"$f":"IFERROR(HLOOKUP(UD$6,DEBUT!$CP$2:$DI$18,16,FALSE),\"\")","v":0},null,null,null,{"$f":"IFERROR(HLOOKUP(UK$6,DEBUT!$CP$2:$DI$18,4,FALSE),\"\")","v":0},{"$f":"IFERROR(HLOOKUP(UK$6,DEBUT!$CP$2:$DI$18,8,FALSE),\"\")","v":0},{"$f":"IFERROR(HLOOKUP(UK$6,DEBUT!$CP$2:$DI$18,12,FALSE),\"\")","v":0},{"$f":"IFERROR(HLOOKUP(UK$6,DEBUT!$CP$2:$DI$18,16,FALSE),\"\")","v":0},null,null,null,null,null,{"$f":"IFERROR(HLOOKUP(UT$6,DEBUT!$CP$2:$DI$18,4,FALSE),\"\")","v":0},{"$f":"IFERROR(HLOOKUP(UT$6,DEBUT!$CP$2:$DI$18,8,FALSE),\"\")","v":0},{"$f":"IFERROR(HLOOKUP(UT$6,DEBUT!$CP$2:$DI$18,12,FALSE),\"\")","v":0},{"$f":"IFERROR(HLOOKUP(UT$6,DEBUT!$CP$2:$DI$18,16,FALSE),\"\")","v":0},null,null,null,{"$f":"IFERROR(HLOOKUP(VA$6,DEBUT!$CP$2:$DI$18,4,FALSE),\"\")","v":0},{"$f":"IFERROR(HLOOKUP(VA$6,DEBUT!$CP$2:$DI$18,8,FALSE),\"\")","v":0},{"$f":"IFERROR(HLOOKUP(VA$6,DEBUT!$CP$2:$DI$18,12,FALSE),\"\")","v":0},{"$f":"IFERROR(HLOOKUP(VA$6,DEBUT!$CP$2:$DI$18,16,FALSE),\"\")","v":0},null,null,null,null,null,null,null,{"$f":"IFERROR(HLOOKUP(VL$6,DEBUT!$CP$2:$DI$18,4,FALSE),\"\")","v":0},{"$f":"IFERROR(HLOOKUP(VL$6,DEBUT!$CP$2:$DI$18,8,FALSE),\"\")","v":0},{"$f":"IFERROR(HLOOKUP(VL$6,DEBUT!$CP$2:$DI$18,12,FALSE),\"\")","v":0},{"$f":"IFERROR(HLOOKUP(VL$6,DEBUT!$CP$2:$DI$18,16,FALSE),\"\")","v":0},null,null,null,{"$f":"IFERROR(HLOOKUP(VS$6,DEBUT!$CP$2:$DI$18,4,FALSE),\"\")","v":0},{"$f":"IFERROR(HLOOKUP(VS$6,DEBUT!$CP$2:$DI$18,8,FALSE),\"\")","v":0},{"$f":"IFERROR(HLOOKUP(VS$6,DEBUT!$CP$2:$DI$18,12,FALSE),\"\")","v":0},{"$f":"IFERROR(HLOOKUP(VS$6,DEBUT!$CP$2:$DI$18,16,FALSE),\"\")","v":0},null,null,null,null,null,{"$f":"IFERROR(HLOOKUP(WB$6,DEBUT!$CP$2:$DI$18,4,FALSE),\"\")","v":0},{"$f":"IFERROR(HLOOKUP(WB$6,DEBUT!$CP$2:$DI$18,8,FALSE),\"\")","v":0},{"$f":"IFERROR(HLOOKUP(WB$6,DEBUT!$CP$2:$DI$18,12,FALSE),\"\")","v":0},{"$f":"IFERROR(HLOOKUP(WB$6,DEBUT!$CP$2:$DI$18,16,FALSE),\"\")","v":0},null,null,null,{"$f":"IFERROR(HLOOKUP(WI$6,DEBUT!$CP$2:$DI$18,4,FALSE),\"\")","v":0},{"$f":"IFERROR(HLOOKUP(WI$6,DEBUT!$CP$2:$DI$18,8,FALSE),\"\")","v":0},{"$f":"IFERROR(HLOOKUP(WI$6,DEBUT!$CP$2:$DI$18,12,FALSE),\"\")","v":0},{"$f":"IFERROR(HLOOKUP(WI$6,DEBUT!$CP$2:$DI$18,16,FALSE),\"\")","v":0},null,null,null,null,null,null,null,{"$f":"IFERROR(HLOOKUP(WT$6,DEBUT!$CP$2:$DI$18,4,FALSE),\"\")","v":0},{"$f":"IFERROR(HLOOKUP(WT$6,DEBUT!$CP$2:$DI$18,8,FALSE),\"\")","v":0},{"$f":"IFERROR(HLOOKUP(WT$6,DEBUT!$CP$2:$DI$18,12,FALSE),\"\")","v":0},{"$f":"IFERROR(HLOOKUP(WT$6,DEBUT!$CP$2:$DI$18,16,FALSE),\"\")","v":0},null,null,null,{"$f":"IFERROR(HLOOKUP(XA$6,DEBUT!$CP$2:$DI$18,4,FALSE),\"\")","v":0},{"$f":"IFERROR(HLOOKUP(XA$6,DEBUT!$CP$2:$DI$18,8,FALSE),\"\")","v":0},{"$f":"IFERROR(HLOOKUP(XA$6,DEBUT!$CP$2:$DI$18,12,FALSE),\"\")","v":0},{"$f":"IFERROR(HLOOKUP(XA$6,DEBUT!$CP$2:$DI$18,16,FALSE),\"\")","v":0},null,null,null,null,null,{"$f":"IFERROR(HLOOKUP(XJ$6,DEBUT!$CP$2:$DI$18,4,FALSE),\"\")","v":0},{"$f":"IFERROR(HLOOKUP(XJ$6,DEBUT!$CP$2:$DI$18,8,FALSE),\"\")","v":0},{"$f":"IFERROR(HLOOKUP(XJ$6,DEBUT!$CP$2:$DI$18,12,FALSE),\"\")","v":0},{"$f":"IFERROR(HLOOKUP(XJ$6,DEBUT!$CP$2:$DI$18,16,FALSE),\"\")","v":0},null,null,null,{"$f":"IFERROR(HLOOKUP(XQ$6,DEBUT!$CP$2:$DI$18,4,FALSE),\"\")","v":0},{"$f":"IFERROR(HLOOKUP(XQ$6,DEBUT!$CP$2:$DI$18,8,FALSE),\"\")","v":0},{"$f":"IFERROR(HLOOKUP(XQ$6,DEBUT!$CP$2:$DI$18,12,FALSE),\"\")","v":0},{"$f":"IFERROR(HLOOKUP(XQ$6,DEBUT!$CP$2:$DI$18,16,FALSE),\"\")","v":0},null,null,null,null,null,null,null,{"$f":"IFERROR(HLOOKUP(YB$6,DEBUT!$CP$2:$DI$18,4,FALSE),\"\")","v":0},{"$f":"IFERROR(HLOOKUP(YB$6,DEBUT!$CP$2:$DI$18,8,FALSE),\"\")","v":0},{"$f":"IFERROR(HLOOKUP(YB$6,DEBUT!$CP$2:$DI$18,12,FALSE),\"\")","v":0},{"$f":"IFERROR(HLOOKUP(YB$6,DEBUT!$CP$2:$DI$18,16,FALSE),\"\")","v":0},null,null,null,{"$f":"IFERROR(HLOOKUP(YI$6,DEBUT!$CP$2:$DI$18,4,FALSE),\"\")","v":0},{"$f":"IFERROR(HLOOKUP(YI$6,DEBUT!$CP$2:$DI$18,8,FALSE),\"\")","v":0},{"$f":"IFERROR(HLOOKUP(YI$6,DEBUT!$CP$2:$DI$18,12,FALSE),\"\")","v":0},{"$f":"IFERROR(HLOOKUP(YI$6,DEBUT!$CP$2:$DI$18,16,FALSE),\"\")","v":0},null,null,null,null,null,{"$f":"IFERROR(HLOOKUP(YR$6,DEBUT!$CP$2:$DI$18,4,FALSE),\"\")","v":0},{"$f":"IFERROR(HLOOKUP(YR$6,DEBUT!$CP$2:$DI$18,8,FALSE),\"\")","v":0},{"$f":"IFERROR(HLOOKUP(YR$6,DEBUT!$CP$2:$DI$18,12,FALSE),\"\")","v":0},{"$f":"IFERROR(HLOOKUP(YR$6,DEBUT!$CP$2:$DI$18,16,FALSE),\"\")","v":0},null,null,null,{"$f":"IFERROR(HLOOKUP(YY$6,DEBUT!$CP$2:$DI$18,4,FALSE),\"\")","v":0},{"$f":"IFERROR(HLOOKUP(YY$6,DEBUT!$CP$2:$DI$18,8,FALSE),\"\")","v":0},{"$f":"IFERROR(HLOOKUP(YY$6,DEBUT!$CP$2:$DI$18,12,FALSE),\"\")","v":0},{"$f":"IFERROR(HLOOKUP(YY$6,DEBUT!$CP$2:$DI$18,16,FALSE),\"\")","v":0},null,null,null,null,null,null,null,{"$f":"IFERROR(HLOOKUP(ZJ$6,DEBUT!$CP$2:$DI$18,4,FALSE),\"\")","v":0},{"$f":"IFERROR(HLOOKUP(ZJ$6,DEBUT!$CP$2:$DI$18,8,FALSE),\"\")","v":0},{"$f":"IFERROR(HLOOKUP(ZJ$6,DEBUT!$CP$2:$DI$18,12,FALSE),\"\")","v":0},{"$f":"IFERROR(HLOOKUP(ZJ$6,DEBUT!$CP$2:$DI$18,16,FALSE),\"\")","v":0},null,null,null,{"$f":"IFERROR(HLOOKUP(ZQ$6,DEBUT!$CP$2:$DI$18,4,FALSE),\"\")","v":0},{"$f":"IFERROR(HLOOKUP(ZQ$6,DEBUT!$CP$2:$DI$18,8,FALSE),\"\")","v":0},{"$f":"IFERROR(HLOOKUP(ZQ$6,DEBUT!$CP$2:$DI$18,12,FALSE),\"\")","v":0},{"$f":"IFERROR(HLOOKUP(ZQ$6,DEBUT!$CP$2:$DI$18,16,FALSE),\"\")","v":0},null,null,null,null,null,{"$f":"IFERROR(HLOOKUP(ZZ$6,DEBUT!$CP$2:$DI$18,4,FALSE),\"\")","v":0},{"$f":"IFERROR(HLOOKUP(ZZ$6,DEBUT!$CP$2:$DI$18,8,FALSE),\"\")","v":0},{"$f":"IFERROR(HLOOKUP(ZZ$6,DEBUT!$CP$2:$DI$18,12,FALSE),\"\")","v":0},{"$f":"IFERROR(HLOOKUP(ZZ$6,DEBUT!$CP$2:$DI$18,16,FALSE),\"\")","v":0},null,null,null,{"$f":"IFERROR(HLOOKUP(AAG$6,DEBUT!$CP$2:$DI$18,4,FALSE),\"\")","v":0},{"$f":"IFERROR(HLOOKUP(AAG$6,DEBUT!$CP$2:$DI$18,8,FALSE),\"\")","v":0},{"$f":"IFERROR(HLOOKUP(AAG$6,DEBUT!$CP$2:$DI$18,12,FALSE),\"\")","v":0},{"$f":"IFERROR(HLOOKUP(AAG$6,DEBUT!$CP$2:$DI$18,16,FALSE),\"\")","v":0},null,null,null,null,null,null,null,{"$f":"IFERROR(HLOOKUP(AAR$6,DEBUT!$CP$2:$DI$18,4,FALSE),\"\")","v":0},{"$f":"IFERROR(HLOOKUP(AAR$6,DEBUT!$CP$2:$DI$18,8,FALSE),\"\")","v":0},{"$f":"IFERROR(HLOOKUP(AAR$6,DEBUT!$CP$2:$DI$18,12,FALSE),\"\")","v":0},{"$f":"IFERROR(HLOOKUP(AAR$6,DEBUT!$CP$2:$DI$18,16,FALSE),\"\")","v":0},null,null,null,{"$f":"IFERROR(HLOOKUP(AAY$6,DEBUT!$CP$2:$DI$18,4,FALSE),\"\")","v":0},{"$f":"IFERROR(HLOOKUP(AAY$6,DEBUT!$CP$2:$DI$18,8,FALSE),\"\")","v":0},{"$f":"IFERROR(HLOOKUP(AAY$6,DEBUT!$CP$2:$DI$18,12,FALSE),\"\")","v":0},{"$f":"IFERROR(HLOOKUP(AAY$6,DEBUT!$CP$2:$DI$18,16,FALSE),\"\")","v":0},null,null,null,null,null,{"$f":"IFERROR(HLOOKUP(ABH$6,DEBUT!$CP$2:$DI$18,4,FALSE),\"\")","v":0},{"$f":"IFERROR(HLOOKUP(ABH$6,DEBUT!$CP$2:$DI$18,8,FALSE),\"\")","v":0},{"$f":"IFERROR(HLOOKUP(ABH$6,DEBUT!$CP$2:$DI$18,12,FALSE),\"\")","v":0},{"$f":"IFERROR(HLOOKUP(ABH$6,DEBUT!$CP$2:$DI$18,16,FALSE),\"\")","v":0},null,null,null,{"$f":"IFERROR(HLOOKUP(ABO$6,DEBUT!$CP$2:$DI$18,4,FALSE),\"\")","v":0},{"$f":"IFERROR(HLOOKUP(ABO$6,DEBUT!$CP$2:$DI$18,8,FALSE),\"\")","v":0},{"$f":"IFERROR(HLOOKUP(ABO$6,DEBUT!$CP$2:$DI$18,12,FALSE),\"\")","v":0},{"$f":"IFERROR(HLOOKUP(ABO$6,DEBUT!$CP$2:$DI$18,16,FALSE),\"\")","v":0},null,null,null,null,null,null,null,{"$f":"IFERROR(HLOOKUP(ABZ$6,DEBUT!$CP$2:$DI$18,4,FALSE),\"\")","v":0},{"$f":"IFERROR(HLOOKUP(ABZ$6,DEBUT!$CP$2:$DI$18,8,FALSE),\"\")","v":0},{"$f":"IFERROR(HLOOKUP(ABZ$6,DEBUT!$CP$2:$DI$18,12,FALSE),\"\")","v":0},{"$f":"IFERROR(HLOOKUP(ABZ$6,DEBUT!$CP$2:$DI$18,16,FALSE),\"\")","v":0},null,null,null,{"$f":"IFERROR(HLOOKUP(ACG$6,DEBUT!$CP$2:$DI$18,4,FALSE),\"\")","v":0},{"$f":"IFERROR(HLOOKUP(ACG$6,DEBUT!$CP$2:$DI$18,8,FALSE),\"\")","v":0},{"$f":"IFERROR(HLOOKUP(ACG$6,DEBUT!$CP$2:$DI$18,12,FALSE),\"\")","v":0},{"$f":"IFERROR(HLOOKUP(ACG$6,DEBUT!$CP$2:$DI$18,16,FALSE),\"\")","v":0},null,null,null,null,null,{"$f":"IFERROR(HLOOKUP(ACP$6,DEBUT!$CP$2:$DI$18,4,FALSE),\"\")","v":0},{"$f":"IFERROR(HLOOKUP(ACP$6,DEBUT!$CP$2:$DI$18,8,FALSE),\"\")","v":0},{"$f":"IFERROR(HLOOKUP(ACP$6,DEBUT!$CP$2:$DI$18,12,FALSE),\"\")","v":0},{"$f":"IFERROR(HLOOKUP(ACP$6,DEBUT!$CP$2:$DI$18,16,FALSE),\"\")","v":0},null,null,null,{"$f":"IFERROR(HLOOKUP(ACW$6,DEBUT!$CP$2:$DI$18,4,FALSE),\"\")","v":0},{"$f":"IFERROR(HLOOKUP(ACW$6,DEBUT!$CP$2:$DI$18,8,FALSE),\"\")","v":0},{"$f":"IFERROR(HLOOKUP(ACW$6,DEBUT!$CP$2:$DI$18,12,FALSE),\"\")","v":0},{"$f":"IFERROR(HLOOKUP(ACW$6,DEBUT!$CP$2:$DI$18,16,FALSE),\"\")","v":0},null,null,null,null,null,null,null,{"$f":"IFERROR(HLOOKUP(ADH$6,DEBUT!$CP$2:$DI$18,4,FALSE),\"\")","v":0},{"$f":"IFERROR(HLOOKUP(ADH$6,DEBUT!$CP$2:$DI$18,8,FALSE),\"\")","v":0},{"$f":"IFERROR(HLOOKUP(ADH$6,DEBUT!$CP$2:$DI$18,12,FALSE),\"\")","v":0},{"$f":"IFERROR(HLOOKUP(ADH$6,DEBUT!$CP$2:$DI$18,16,FALSE),\"\")","v":0},null,null,null,{"$f":"IFERROR(HLOOKUP(ADO$6,DEBUT!$CP$2:$DI$18,4,FALSE),\"\")","v":0},{"$f":"IFERROR(HLOOKUP(ADO$6,DEBUT!$CP$2:$DI$18,8,FALSE),\"\")","v":0},{"$f":"IFERROR(HLOOKUP(ADO$6,DEBUT!$CP$2:$DI$18,12,FALSE),\"\")","v":0},{"$f":"IFERROR(HLOOKUP(ADO$6,DEBUT!$CP$2:$DI$18,16,FALSE),\"\")","v":0},null,null,null,null,null,{"$f":"IFERROR(HLOOKUP(ADX$6,DEBUT!$CP$2:$DI$18,4,FALSE),\"\")","v":0},{"$f":"IFERROR(HLOOKUP(ADX$6,DEBUT!$CP$2:$DI$18,8,FALSE),\"\")","v":0},{"$f":"IFERROR(HLOOKUP(ADX$6,DEBUT!$CP$2:$DI$18,12,FALSE),\"\")","v":0},{"$f":"IFERROR(HLOOKUP(ADX$6,DEBUT!$CP$2:$DI$18,16,FALSE),\"\")","v":0},null,null,null,{"$f":"IFERROR(HLOOKUP(AEE$6,DEBUT!$CP$2:$DI$18,4,FALSE),\"\")","v":0},{"$f":"IFERROR(HLOOKUP(AEE$6,DEBUT!$CP$2:$DI$18,8,FALSE),\"\")","v":0},{"$f":"IFERROR(HLOOKUP(AEE$6,DEBUT!$CP$2:$DI$18,12,FALSE),\"\")","v":0},{"$f":"IFERROR(HLOOKUP(AEE$6,DEBUT!$CP$2:$DI$18,16,FALSE),\"\")","v":0}]
[null,null,null,null,null,{"$f":"IFERROR(HLOOKUP(F$6,DEBUT!$CP$2:$DI$18,5,FALSE),\"\")","v":"x"},{"$f":"IFERROR(HLOOKUP(F$6,DEBUT!$CP$2:$DI$18,9,FALSE),\"\")","v":"x"},{"$f":"IFERROR(HLOOKUP(F$6,DEBUT!$CP$2:$DI$18,13,FALSE),\"\")","v":"x"},{"$f":"IFERROR(HLOOKUP(F$6,DEBUT!$CP$2:$DI$18,17,FALSE),\"\")","v":"x"},null,null,null,{"$f":"IFERROR(HLOOKUP(M$6,DEBUT!$CP$2:$DI$18,5,FALSE),\"\")","v":"x"},{"$f":"IFERROR(HLOOKUP(M$6,DEBUT!$CP$2:$DI$18,9,FALSE),\"\")","v":"x"},{"$f":"IFERROR(HLOOKUP(M$6,DEBUT!$CP$2:$DI$18,13,FALSE),\"\")","v":"x"},{"$f":"IFERROR(HLOOKUP(M$6,DEBUT!$CP$2:$DI$18,17,FALSE),\"\")","v":"x"},null,null,null,null,null,{"$f":"IFERROR(HLOOKUP(V$6,DEBUT!$CP$2:$DI$18,5,FALSE),\"\")","v":"x"},{"$f":"IFERROR(HLOOKUP(V$6,DEBUT!$CP$2:$DI$18,9,FALSE),\"\")","v":"x"},{"$f":"IFERROR(HLOOKUP(V$6,DEBUT!$CP$2:$DI$18,13,FALSE),\"\")","v":"x"},{"$f":"IFERROR(HLOOKUP(V$6,DEBUT!$CP$2:$DI$18,17,FALSE),\"\")","v":"x"},null,null,null,{"$f":"IFERROR(HLOOKUP(AC$6,DEBUT!$CP$2:$DI$18,5,FALSE),\"\")","v":"x"},{"$f":"IFERROR(HLOOKUP(AC$6,DEBUT!$CP$2:$DI$18,9,FALSE),\"\")","v":"x"},{"$f":"IFERROR(HLOOKUP(AC$6,DEBUT!$CP$2:$DI$18,13,FALSE),\"\")","v":"x"},{"$f":"IFERROR(HLOOKUP(AC$6,DEBUT!$CP$2:$DI$18,17,FALSE),\"\")","v":"x"},null,null,null,null,null,null,null,{"$f":"IFERROR(HLOOKUP(AN$6,DEBUT!$CP$2:$DI$18,5,FALSE),\"\")","v":0},{"$f":"IFERROR(HLOOKUP(AN$6,DEBUT!$CP$2:$DI$18,9,FALSE),\"\")","v":0},{"$f":"IFERROR(HLOOKUP(AN$6,DEBUT!$CP$2:$DI$18,13,FALSE),\"\")","v":0},{"$f":"IFERROR(HLOOKUP(AN$6,DEBUT!$CP$2:$DI$18,17,FALSE),\"\")","v":0},null,null,null,{"$f":"IFERROR(HLOOKUP(AU$6,DEBUT!$CP$2:$DI$18,5,FALSE),\"\")","v":0},{"$f":"IFERROR(HLOOKUP(AU$6,DEBUT!$CP$2:$DI$18,9,FALSE),\"\")","v":0},{"$f":"IFERROR(HLOOKUP(AU$6,DEBUT!$CP$2:$DI$18,13,FALSE),\"\")","v":0},{"$f":"IFERROR(HLOOKUP(AU$6,DEBUT!$CP$2:$DI$18,17,FALSE),\"\")","v":0},null,null,null,null,null,{"$f":"IFERROR(HLOOKUP(BD$6,DEBUT!$CP$2:$DI$18,5,FALSE),\"\")","v":0},{"$f":"IFERROR(HLOOKUP(BD$6,DEBUT!$CP$2:$DI$18,9,FALSE),\"\")","v":0},{"$f":"IFERROR(HLOOKUP(BD$6,DEBUT!$CP$2:$DI$18,13,FALSE),\"\")","v":0},{"$f":"IFERROR(HLOOKUP(BD$6,DEBUT!$CP$2:$DI$18,17,FALSE),\"\")","v":0},null,null,null,{"$f":"IFERROR(HLOOKUP(BK$6,DEBUT!$CP$2:$DI$18,5,FALSE),\"\")","v":0},{"$f":"IFERROR(HLOOKUP(BK$6,DEBUT!$CP$2:$DI$18,9,FALSE),\"\")","v":0},{"$f":"IFERROR(HLOOKUP(BK$6,DEBUT!$CP$2:$DI$18,13,FALSE),\"\")","v":0},{"$f":"IFERROR(HLOOKUP(BK$6,DEBUT!$CP$2:$DI$18,17,FALSE),\"\")","v":0},null,null,null,null,null,null,null,{"$f":"IFERROR(HLOOKUP(BV$6,DEBUT!$CP$2:$DI$18,5,FALSE),\"\")","v":0},{"$f":"IFERROR(HLOOKUP(BV$6,DEBUT!$CP$2:$DI$18,9,FALSE),\"\")","v":0},{"$f":"IFERROR(HLOOKUP(BV$6,DEBUT!$CP$2:$DI$18,13,FALSE),\"\")","v":0},{"$f":"IFERROR(HLOOKUP(BV$6,DEBUT!$CP$2:$DI$18,17,FALSE),\"\")","v":0},null,null,null,{"$f":"IFERROR(HLOOKUP(CC$6,DEBUT!$CP$2:$DI$18,5,FALSE),\"\")","v":0},{"$f":"IFERROR(HLOOKUP(CC$6,DEBUT!$CP$2:$DI$18,9,FALSE),\"\")","v":0},{"$f":"IFERROR(HLOOKUP(CC$6,DEBUT!$CP$2:$DI$18,13,FALSE),\"\")","v":0},{"$f":"IFERROR(HLOOKUP(CC$6,DEBUT!$CP$2:$DI$18,17,FALSE),\"\")","v":0},null,null,null,null,null,{"$f":"IFERROR(HLOOKUP(CL$6,DEBUT!$CP$2:$DI$18,5,FALSE),\"\")","v":0},{"$f":"IFERROR(HLOOKUP(CL$6,DEBUT!$CP$2:$DI$18,9,FALSE),\"\")","v":0},{"$f":"IFERROR(HLOOKUP(CL$6,DEBUT!$CP$2:$DI$18,13,FALSE),\"\")","v":0},{"$f":"IFERROR(HLOOKUP(CL$6,DEBUT!$CP$2:$DI$18,17,FALSE),\"\")","v":0},null,null,null,{"$f":"IFERROR(HLOOKUP(CS$6,DEBUT!$CP$2:$DI$18,5,FALSE),\"\")","v":0},{"$f":"IFERROR(HLOOKUP(CS$6,DEBUT!$CP$2:$DI$18,9,FALSE),\"\")","v":0},{"$f":"IFERROR(HLOOKUP(CS$6,DEBUT!$CP$2:$DI$18,13,FALSE),\"\")","v":0},{"$f":"IFERROR(HLOOKUP(CS$6,DEBUT!$CP$2:$DI$18,17,FALSE),\"\")","v":0},null,null,null,null,null,null,null,{"$f":"IFERROR(HLOOKUP(DD$6,DEBUT!$CP$2:$DI$18,5,FALSE),\"\")","v":0},{"$f":"IFERROR(HLOOKUP(DD$6,DEBUT!$CP$2:$DI$18,9,FALSE),\"\")","v":0},{"$f":"IFERROR(HLOOKUP(DD$6,DEBUT!$CP$2:$DI$18,13,FALSE),\"\")","v":0},{"$f":"IFERROR(HLOOKUP(DD$6,DEBUT!$CP$2:$DI$18,17,FALSE),\"\")","v":0},null,null,null,{"$f":"IFERROR(HLOOKUP(DK$6,DEBUT!$CP$2:$DI$18,5,FALSE),\"\")","v":0},{"$f":"IFERROR(HLOOKUP(DK$6,DEBUT!$CP$2:$DI$18,9,FALSE),\"\")","v":0},{"$f":"IFERROR(HLOOKUP(DK$6,DEBUT!$CP$2:$DI$18,13,FALSE),\"\")","v":0},{"$f":"IFERROR(HLOOKUP(DK$6,DEBUT!$CP$2:$DI$18,17,FALSE),\"\")","v":0},null,null,null,null,null,{"$f":"IFERROR(HLOOKUP(DT$6,DEBUT!$CP$2:$DI$18,5,FALSE),\"\")","v":0},{"$f":"IFERROR(HLOOKUP(DT$6,DEBUT!$CP$2:$DI$18,9,FALSE),\"\")","v":0},{"$f":"IFERROR(HLOOKUP(DT$6,DEBUT!$CP$2:$DI$18,13,FALSE),\"\")","v":0},{"$f":"IFERROR(HLOOKUP(DT$6,DEBUT!$CP$2:$DI$18,17,FALSE),\"\")","v":0},null,null,null,{"$f":"IFERROR(HLOOKUP(EA$6,DEBUT!$CP$2:$DI$18,5,FALSE),\"\")","v":0},{"$f":"IFERROR(HLOOKUP(EA$6,DEBUT!$CP$2:$DI$18,9,FALSE),\"\")","v":0},{"$f":"IFERROR(HLOOKUP(EA$6,DEBUT!$CP$2:$DI$18,13,FALSE),\"\")","v":0},{"$f":"IFERROR(HLOOKUP(EA$6,DEBUT!$CP$2:$DI$18,17,FALSE),\"\")","v":0},null,null,null,null,null,null,null,{"$f":"IFERROR(HLOOKUP(EL$6,DEBUT!$CP$2:$DI$18,5,FALSE),\"\")","v":0},{"$f":"IFERROR(HLOOKUP(EL$6,DEBUT!$CP$2:$DI$18,9,FALSE),\"\")","v":0},{"$f":"IFERROR(HLOOKUP(EL$6,DEBUT!$CP$2:$DI$18,13,FALSE),\"\")","v":0},{"$f":"IFERROR(HLOOKUP(EL$6,DEBUT!$CP$2:$DI$18,17,FALSE),\"\")","v":0},null,null,null,{"$f":"IFERROR(HLOOKUP(ES$6,DEBUT!$CP$2:$DI$18,5,FALSE),\"\")","v":0},{"$f":"IFERROR(HLOOKUP(ES$6,DEBUT!$CP$2:$DI$18,9,FALSE),\"\")","v":0},{"$f":"IFERROR(HLOOKUP(ES$6,DEBUT!$CP$2:$DI$18,13,FALSE),\"\")","v":0},{"$f":"IFERROR(HLOOKUP(ES$6,DEBUT!$CP$2:$DI$18,17,FALSE),\"\")","v":0},null,null,null,null,null,{"$f":"IFERROR(HLOOKUP(FB$6,DEBUT!$CP$2:$DI$18,5,FALSE),\"\")","v":0},{"$f":"IFERROR(HLOOKUP(FB$6,DEBUT!$CP$2:$DI$18,9,FALSE),\"\")","v":0},{"$f":"IFERROR(HLOOKUP(FB$6,DEBUT!$CP$2:$DI$18,13,FALSE),\"\")","v":0},{"$f":"IFERROR(HLOOKUP(FB$6,DEBUT!$CP$2:$DI$18,17,FALSE),\"\")","v":0},null,null,null,{"$f":"IFERROR(HLOOKUP(FI$6,DEBUT!$CP$2:$DI$18,5,FALSE),\"\")","v":0},{"$f":"IFERROR(HLOOKUP(FI$6,DEBUT!$CP$2:$DI$18,9,FALSE),\"\")","v":0},{"$f":"IFERROR(HLOOKUP(FI$6,DEBUT!$CP$2:$DI$18,13,FALSE),\"\")","v":0},{"$f":"IFERROR(HLOOKUP(FI$6,DEBUT!$CP$2:$DI$18,17,FALSE),\"\")","v":0},null,null,null,null,null,null,null,{"$f":"IFERROR(HLOOKUP(FT$6,DEBUT!$CP$2:$DI$18,5,FALSE),\"\")","v":0},{"$f":"IFERROR(HLOOKUP(FT$6,DEBUT!$CP$2:$DI$18,9,FALSE),\"\")","v":0},{"$f":"IFERROR(HLOOKUP(FT$6,DEBUT!$CP$2:$DI$18,13,FALSE),\"\")","v":0},{"$f":"IFERROR(HLOOKUP(FT$6,DEBUT!$CP$2:$DI$18,17,FALSE),\"\")","v":0},null,null,null,{"$f":"IFERROR(HLOOKUP(GA$6,DEBUT!$CP$2:$DI$18,5,FALSE),\"\")","v":0},{"$f":"IFERROR(HLOOKUP(GA$6,DEBUT!$CP$2:$DI$18,9,FALSE),\"\")","v":0},{"$f":"IFERROR(HLOOKUP(GA$6,DEBUT!$CP$2:$DI$18,13,FALSE),\"\")","v":0},{"$f":"IFERROR(HLOOKUP(GA$6,DEBUT!$CP$2:$DI$18,17,FALSE),\"\")","v":0},null,null,null,null,null,{"$f":"IFERROR(HLOOKUP(GJ$6,DEBUT!$CP$2:$DI$18,5,FALSE),\"\")","v":0},{"$f":"IFERROR(HLOOKUP(GJ$6,DEBUT!$CP$2:$DI$18,9,FALSE),\"\")","v":0},{"$f":"IFERROR(HLOOKUP(GJ$6,DEBUT!$CP$2:$DI$18,13,FALSE),\"\")","v":0},{"$f":"IFERROR(HLOOKUP(GJ$6,DEBUT!$CP$2:$DI$18,17,FALSE),\"\")","v":0},null,null,null,{"$f":"IFERROR(HLOOKUP(GQ$6,DEBUT!$CP$2:$DI$18,5,FALSE),\"\")","v":0},{"$f":"IFERROR(HLOOKUP(GQ$6,DEBUT!$CP$2:$DI$18,9,FALSE),\"\")","v":0},{"$f":"IFERROR(HLOOKUP(GQ$6,DEBUT!$CP$2:$DI$18,13,FALSE),\"\")","v":0},{"$f":"IFERROR(HLOOKUP(GQ$6,DEBUT!$CP$2:$DI$18,17,FALSE),\"\")","v":0},null,null,null,null,null,null,null,{"$f":"IFERROR(HLOOKUP(HB$6,DEBUT!$CP$2:$DI$18,5,FALSE),\"\")","v":0},{"$f":"IFERROR(HLOOKUP(HB$6,DEBUT!$CP$2:$DI$18,9,FALSE),\"\")","v":0},{"$f":"IFERROR(HLOOKUP(HB$6,DEBUT!$CP$2:$DI$18,13,FALSE),\"\")","v":0},{"$f":"IFERROR(HLOOKUP(HB$6,DEBUT!$CP$2:$DI$18,17,FALSE),\"\")","v":0},null,null,null,{"$f":"IFERROR(HLOOKUP(HI$6,DEBUT!$CP$2:$DI$18,5,FALSE),\"\")","v":0},{"$f":"IFERROR(HLOOKUP(HI$6,DEBUT!$CP$2:$DI$18,9,FALSE),\"\")","v":0},{"$f":"IFERROR(HLOOKUP(HI$6,DEBUT!$CP$2:$DI$18,13,FALSE),\"\")","v":0},{"$f":"IFERROR(HLOOKUP(HI$6,DEBUT!$CP$2:$DI$18,17,FALSE),\"\")","v":0},null,null,null,null,null,{"$f":"IFERROR(HLOOKUP(HR$6,DEBUT!$CP$2:$DI$18,5,FALSE),\"\")","v":0},{"$f":"IFERROR(HLOOKUP(HR$6,DEBUT!$CP$2:$DI$18,9,FALSE),\"\")","v":0},{"$f":"IFERROR(HLOOKUP(HR$6,DEBUT!$CP$2:$DI$18,13,FALSE),\"\")","v":0},{"$f":"IFERROR(HLOOKUP(HR$6,DEBUT!$CP$2:$DI$18,17,FALSE),\"\")","v":0},null,null,null,{"$f":"IFERROR(HLOOKUP(HY$6,DEBUT!$CP$2:$DI$18,5,FALSE),\"\")","v":0},{"$f":"IFERROR(HLOOKUP(HY$6,DEBUT!$CP$2:$DI$18,9,FALSE),\"\")","v":0},{"$f":"IFERROR(HLOOKUP(HY$6,DEBUT!$CP$2:$DI$18,13,FALSE),\"\")","v":0},{"$f":"IFERROR(HLOOKUP(HY$6,DEBUT!$CP$2:$DI$18,17,FALSE),\"\")","v":0},null,null,null,null,null,null,null,{"$f":"IFERROR(HLOOKUP(IJ$6,DEBUT!$CP$2:$DI$18,5,FALSE),\"\")","v":0},{"$f":"IFERROR(HLOOKUP(IJ$6,DEBUT!$CP$2:$DI$18,9,FALSE),\"\")","v":0},{"$f":"IFERROR(HLOOKUP(IJ$6,DEBUT!$CP$2:$DI$18,13,FALSE),\"\")","v":0},{"$f":"IFERROR(HLOOKUP(IJ$6,DEBUT!$CP$2:$DI$18,17,FALSE),\"\")","v":0},null,null,null,{"$f":"IFERROR(HLOOKUP(IQ$6,DEBUT!$CP$2:$DI$18,5,FALSE),\"\")","v":0},{"$f":"IFERROR(HLOOKUP(IQ$6,DEBUT!$CP$2:$DI$18,9,FALSE),\"\")","v":0},{"$f":"IFERROR(HLOOKUP(IQ$6,DEBUT!$CP$2:$DI$18,13,FALSE),\"\")","v":0},{"$f":"IFERROR(HLOOKUP(IQ$6,DEBUT!$CP$2:$DI$18,17,FALSE),\"\")","v":0},null,null,null,null,null,{"$f":"IFERROR(HLOOKUP(IZ$6,DEBUT!$CP$2:$DI$18,5,FALSE),\"\")","v":0},{"$f":"IFERROR(HLOOKUP(IZ$6,DEBUT!$CP$2:$DI$18,9,FALSE),\"\")","v":0},{"$f":"IFERROR(HLOOKUP(IZ$6,DEBUT!$CP$2:$DI$18,13,FALSE),\"\")","v":0},{"$f":"IFERROR(HLOOKUP(IZ$6,DEBUT!$CP$2:$DI$18,17,FALSE),\"\")","v":0},null,null,null,{"$f":"IFERROR(HLOOKUP(JG$6,DEBUT!$CP$2:$DI$18,5,FALSE),\"\")","v":0},{"$f":"IFERROR(HLOOKUP(JG$6,DEBUT!$CP$2:$DI$18,9,FALSE),\"\")","v":0},{"$f":"IFERROR(HLOOKUP(JG$6,DEBUT!$CP$2:$DI$18,13,FALSE),\"\")","v":0},{"$f":"IFERROR(HLOOKUP(JG$6,DEBUT!$CP$2:$DI$18,17,FALSE),\"\")","v":0},null,null,null,null,null,null,null,{"$f":"IFERROR(HLOOKUP(JR$6,DEBUT!$CP$2:$DI$18,5,FALSE),\"\")","v":0},{"$f":"IFERROR(HLOOKUP(JR$6,DEBUT!$CP$2:$DI$18,9,FALSE),\"\")","v":0},{"$f":"IFERROR(HLOOKUP(JR$6,DEBUT!$CP$2:$DI$18,13,FALSE),\"\")","v":0},{"$f":"IFERROR(HLOOKUP(JR$6,DEBUT!$CP$2:$DI$18,17,FALSE),\"\")","v":0},null,null,null,{"$f":"IFERROR(HLOOKUP(JY$6,DEBUT!$CP$2:$DI$18,5,FALSE),\"\")","v":0},{"$f":"IFERROR(HLOOKUP(JY$6,DEBUT!$CP$2:$DI$18,9,FALSE),\"\")","v":0},{"$f":"IFERROR(HLOOKUP(JY$6,DEBUT!$CP$2:$DI$18,13,FALSE),\"\")","v":0},{"$f":"IFERROR(HLOOKUP(JY$6,DEBUT!$CP$2:$DI$18,17,FALSE),\"\")","v":0},null,null,null,null,null,{"$f":"IFERROR(HLOOKUP(KH$6,DEBUT!$CP$2:$DI$18,5,FALSE),\"\")","v":0},{"$f":"IFERROR(HLOOKUP(KH$6,DEBUT!$CP$2:$DI$18,9,FALSE),\"\")","v":0},{"$f":"IFERROR(HLOOKUP(KH$6,DEBUT!$CP$2:$DI$18,13,FALSE),\"\")","v":0},{"$f":"IFERROR(HLOOKUP(KH$6,DEBUT!$CP$2:$DI$18,17,FALSE),\"\")","v":0},null,null,null,{"$f":"IFERROR(HLOOKUP(KO$6,DEBUT!$CP$2:$DI$18,5,FALSE),\"\")","v":0},{"$f":"IFERROR(HLOOKUP(KO$6,DEBUT!$CP$2:$DI$18,9,FALSE),\"\")","v":0},{"$f":"IFERROR(HLOOKUP(KO$6,DEBUT!$CP$2:$DI$18,13,FALSE),\"\")","v":0},{"$f":"IFERROR(HLOOKUP(KO$6,DEBUT!$CP$2:$DI$18,17,FALSE),\"\")","v":0},null,null,null,null,null,null,null,{"$f":"IFERROR(HLOOKUP(KZ$6,DEBUT!$CP$2:$DI$18,5,FALSE),\"\")","v":0},{"$f":"IFERROR(HLOOKUP(KZ$6,DEBUT!$CP$2:$DI$18,9,FALSE),\"\")","v":0},{"$f":"IFERROR(HLOOKUP(KZ$6,DEBUT!$CP$2:$DI$18,13,FALSE),\"\")","v":0},{"$f":"IFERROR(HLOOKUP(KZ$6,DEBUT!$CP$2:$DI$18,17,FALSE),\"\")","v":0},null,null,null,{"$f":"IFERROR(HLOOKUP(LG$6,DEBUT!$CP$2:$DI$18,5,FALSE),\"\")","v":0},{"$f":"IFERROR(HLOOKUP(LG$6,DEBUT!$CP$2:$DI$18,9,FALSE),\"\")","v":0},{"$f":"IFERROR(HLOOKUP(LG$6,DEBUT!$CP$2:$DI$18,13,FALSE),\"\")","v":0},{"$f":"IFERROR(HLOOKUP(LG$6,DEBUT!$CP$2:$DI$18,17,FALSE),\"\")","v":0},null,null,null,null,null,{"$f":"IFERROR(HLOOKUP(LP$6,DEBUT!$CP$2:$DI$18,5,FALSE),\"\")","v":0},{"$f":"IFERROR(HLOOKUP(LP$6,DEBUT!$CP$2:$DI$18,9,FALSE),\"\")","v":0},{"$f":"IFERROR(HLOOKUP(LP$6,DEBUT!$CP$2:$DI$18,13,FALSE),\"\")","v":0},{"$f":"IFERROR(HLOOKUP(LP$6,DEBUT!$CP$2:$DI$18,17,FALSE),\"\")","v":0},null,null,null,{"$f":"IFERROR(HLOOKUP(LW$6,DEBUT!$CP$2:$DI$18,5,FALSE),\"\")","v":0},{"$f":"IFERROR(HLOOKUP(LW$6,DEBUT!$CP$2:$DI$18,9,FALSE),\"\")","v":0},{"$f":"IFERROR(HLOOKUP(LW$6,DEBUT!$CP$2:$DI$18,13,FALSE),\"\")","v":0},{"$f":"IFERROR(HLOOKUP(LW$6,DEBUT!$CP$2:$DI$18,17,FALSE),\"\")","v":0},null,null,null,null,null,null,null,{"$f":"IFERROR(HLOOKUP(MH$6,DEBUT!$CP$2:$DI$18,5,FALSE),\"\")","v":0},{"$f":"IFERROR(HLOOKUP(MH$6,DEBUT!$CP$2:$DI$18,9,FALSE),\"\")","v":0},{"$f":"IFERROR(HLOOKUP(MH$6,DEBUT!$CP$2:$DI$18,13,FALSE),\"\")","v":0},{"$f":"IFERROR(HLOOKUP(MH$6,DEBUT!$CP$2:$DI$18,17,FALSE),\"\")","v":0},null,null,null,{"$f":"IFERROR(HLOOKUP(MO$6,DEBUT!$CP$2:$DI$18,5,FALSE),\"\")","v":0},{"$f":"IFERROR(HLOOKUP(MO$6,DEBUT!$CP$2:$DI$18,9,FALSE),\"\")","v":0},{"$f":"IFERROR(HLOOKUP(MO$6,DEBUT!$CP$2:$DI$18,13,FALSE),\"\")","v":0},{"$f":"IFERROR(HLOOKUP(MO$6,DEBUT!$CP$2:$DI$18,17,FALSE),\"\")","v":0},null,null,null,null,null,{"$f":"IFERROR(HLOOKUP(MX$6,DEBUT!$CP$2:$DI$18,5,FALSE),\"\")","v":0},{"$f":"IFERROR(HLOOKUP(MX$6,DEBUT!$CP$2:$DI$18,9,FALSE),\"\")","v":0},{"$f":"IFERROR(HLOOKUP(MX$6,DEBUT!$CP$2:$DI$18,13,FALSE),\"\")","v":0},{"$f":"IFERROR(HLOOKUP(MX$6,DEBUT!$CP$2:$DI$18,17,FALSE),\"\")","v":0},null,null,null,{"$f":"IFERROR(HLOOKUP(NE$6,DEBUT!$CP$2:$DI$18,5,FALSE),\"\")","v":0},{"$f":"IFERROR(HLOOKUP(NE$6,DEBUT!$CP$2:$DI$18,9,FALSE),\"\")","v":0},{"$f":"IFERROR(HLOOKUP(NE$6,DEBUT!$CP$2:$DI$18,13,FALSE),\"\")","v":0},{"$f":"IFERROR(HLOOKUP(NE$6,DEBUT!$CP$2:$DI$18,17,FALSE),\"\")","v":0},null,null,null,null,null,null,null,{"$f":"IFERROR(HLOOKUP(NP$6,DEBUT!$CP$2:$DI$18,5,FALSE),\"\")","v":0},{"$f":"IFERROR(HLOOKUP(NP$6,DEBUT!$CP$2:$DI$18,9,FALSE),\"\")","v":0},{"$f":"IFERROR(HLOOKUP(NP$6,DEBUT!$CP$2:$DI$18,13,FALSE),\"\")","v":0},{"$f":"IFERROR(HLOOKUP(NP$6,DEBUT!$CP$2:$DI$18,17,FALSE),\"\")","v":0},null,null,null,{"$f":"IFERROR(HLOOKUP(NW$6,DEBUT!$CP$2:$DI$18,5,FALSE),\"\")","v":0},{"$f":"IFERROR(HLOOKUP(NW$6,DEBUT!$CP$2:$DI$18,9,FALSE),\"\")","v":0},{"$f":"IFERROR(HLOOKUP(NW$6,DEBUT!$CP$2:$DI$18,13,FALSE),\"\")","v":0},{"$f":"IFERROR(HLOOKUP(NW$6,DEBUT!$CP$2:$DI$18,17,FALSE),\"\")","v":0},null,null,null,null,null,{"$f":"IFERROR(HLOOKUP(OF$6,DEBUT!$CP$2:$DI$18,5,FALSE),\"\")","v":0},{"$f":"IFERROR(HLOOKUP(OF$6,DEBUT!$CP$2:$DI$18,9,FALSE),\"\")","v":0},{"$f":"IFERROR(HLOOKUP(OF$6,DEBUT!$CP$2:$DI$18,13,FALSE),\"\")","v":0},{"$f":"IFERROR(HLOOKUP(OF$6,DEBUT!$CP$2:$DI$18,17,FALSE),\"\")","v":0},null,null,null,{"$f":"IFERROR(HLOOKUP(OM$6,DEBUT!$CP$2:$DI$18,5,FALSE),\"\")","v":0},{"$f":"IFERROR(HLOOKUP(OM$6,DEBUT!$CP$2:$DI$18,9,FALSE),\"\")","v":0},{"$f":"IFERROR(HLOOKUP(OM$6,DEBUT!$CP$2:$DI$18,13,FALSE),\"\")","v":0},{"$f":"IFERROR(HLOOKUP(OM$6,DEBUT!$CP$2:$DI$18,17,FALSE),\"\")","v":0},null,null,null,null,null,null,null,{"$f":"IFERROR(HLOOKUP(OX$6,DEBUT!$CP$2:$DI$18,5,FALSE),\"\")","v":0},{"$f":"IFERROR(HLOOKUP(OX$6,DEBUT!$CP$2:$DI$18,9,FALSE),\"\")","v":0},{"$f":"IFERROR(HLOOKUP(OX$6,DEBUT!$CP$2:$DI$18,13,FALSE),\"\")","v":0},{"$f":"IFERROR(HLOOKUP(OX$6,DEBUT!$CP$2:$DI$18,17,FALSE),\"\")","v":0},null,null,null,{"$f":"IFERROR(HLOOKUP(PE$6,DEBUT!$CP$2:$DI$18,5,FALSE),\"\")","v":0},{"$f":"IFERROR(HLOOKUP(PE$6,DEBUT!$CP$2:$DI$18,9,FALSE),\"\")","v":0},{"$f":"IFERROR(HLOOKUP(PE$6,DEBUT!$CP$2:$DI$18,13,FALSE),\"\")","v":0},{"$f":"IFERROR(HLOOKUP(PE$6,DEBUT!$CP$2:$DI$18,17,FALSE),\"\")","v":0},null,null,null,null,null,{"$f":"IFERROR(HLOOKUP(PN$6,DEBUT!$CP$2:$DI$18,5,FALSE),\"\")","v":0},{"$f":"IFERROR(HLOOKUP(PN$6,DEBUT!$CP$2:$DI$18,9,FALSE),\"\")","v":0},{"$f":"IFERROR(HLOOKUP(PN$6,DEBUT!$CP$2:$DI$18,13,FALSE),\"\")","v":0},{"$f":"IFERROR(HLOOKUP(PN$6,DEBUT!$CP$2:$DI$18,17,FALSE),\"\")","v":0},null,null,null,{"$f":"IFERROR(HLOOKUP(PU$6,DEBUT!$CP$2:$DI$18,5,FALSE),\"\")","v":0},{"$f":"IFERROR(HLOOKUP(PU$6,DEBUT!$CP$2:$DI$18,9,FALSE),\"\")","v":0},{"$f":"IFERROR(HLOOKUP(PU$6,DEBUT!$CP$2:$DI$18,13,FALSE),\"\")","v":0},{"$f":"IFERROR(HLOOKUP(PU$6,DEBUT!$CP$2:$DI$18,17,FALSE),\"\")","v":0},null,null,null,null,null,null,null,{"$f":"IFERROR(HLOOKUP(QF$6,DEBUT!$CP$2:$DI$18,5,FALSE),\"\")","v":0},{"$f":"IFERROR(HLOOKUP(QF$6,DEBUT!$CP$2:$DI$18,9,FALSE),\"\")","v":0},{"$f":"IFERROR(HLOOKUP(QF$6,DEBUT!$CP$2:$DI$18,13,FALSE),\"\")","v":0},{"$f":"IFERROR(HLOOKUP(QF$6,DEBUT!$CP$2:$DI$18,17,FALSE),\"\")","v":0},null,null,null,{"$f":"IFERROR(HLOOKUP(QM$6,DEBUT!$CP$2:$DI$18,5,FALSE),\"\")","v":0},{"$f":"IFERROR(HLOOKUP(QM$6,DEBUT!$CP$2:$DI$18,9,FALSE),\"\")","v":0},{"$f":"IFERROR(HLOOKUP(QM$6,DEBUT!$CP$2:$DI$18,13,FALSE),\"\")","v":0},{"$f":"IFERROR(HLOOKUP(QM$6,DEBUT!$CP$2:$DI$18,17,FALSE),\"\")","v":0},null,null,null,null,null,{"$f":"IFERROR(HLOOKUP(QV$6,DEBUT!$CP$2:$DI$18,5,FALSE),\"\")","v":0},{"$f":"IFERROR(HLOOKUP(QV$6,DEBUT!$CP$2:$DI$18,9,FALSE),\"\")","v":0},{"$f":"IFERROR(HLOOKUP(QV$6,DEBUT!$CP$2:$DI$18,13,FALSE),\"\")","v":0},{"$f":"IFERROR(HLOOKUP(QV$6,DEBUT!$CP$2:$DI$18,17,FALSE),\"\")","v":0},null,null,null,{"$f":"IFERROR(HLOOKUP(RC$6,DEBUT!$CP$2:$DI$18,5,FALSE),\"\")","v":0},{"$f":"IFERROR(HLOOKUP(RC$6,DEBUT!$CP$2:$DI$18,9,FALSE),\"\")","v":0},{"$f":"IFERROR(HLOOKUP(RC$6,DEBUT!$CP$2:$DI$18,13,FALSE),\"\")","v":0},{"$f":"IFERROR(HLOOKUP(RC$6,DEBUT!$CP$2:$DI$18,17,FALSE),\"\")","v":0},null,null,null,null,null,null,null,{"$f":"IFERROR(HLOOKUP(RN$6,DEBUT!$CP$2:$DI$18,5,FALSE),\"\")","v":0},{"$f":"IFERROR(HLOOKUP(RN$6,DEBUT!$CP$2:$DI$18,9,FALSE),\"\")","v":0},{"$f":"IFERROR(HLOOKUP(RN$6,DEBUT!$CP$2:$DI$18,13,FALSE),\"\")","v":0},{"$f":"IFERROR(HLOOKUP(RN$6,DEBUT!$CP$2:$DI$18,17,FALSE),\"\")","v":0},null,null,null,{"$f":"IFERROR(HLOOKUP(RU$6,DEBUT!$CP$2:$DI$18,5,FALSE),\"\")","v":0},{"$f":"IFERROR(HLOOKUP(RU$6,DEBUT!$CP$2:$DI$18,9,FALSE),\"\")","v":0},{"$f":"IFERROR(HLOOKUP(RU$6,DEBUT!$CP$2:$DI$18,13,FALSE),\"\")","v":0},{"$f":"IFERROR(HLOOKUP(RU$6,DEBUT!$CP$2:$DI$18,17,FALSE),\"\")","v":0},null,null,null,null,null,{"$f":"IFERROR(HLOOKUP(SD$6,DEBUT!$CP$2:$DI$18,5,FALSE),\"\")","v":0},{"$f":"IFERROR(HLOOKUP(SD$6,DEBUT!$CP$2:$DI$18,9,FALSE),\"\")","v":0},{"$f":"IFERROR(HLOOKUP(SD$6,DEBUT!$CP$2:$DI$18,13,FALSE),\"\")","v":0},{"$f":"IFERROR(HLOOKUP(SD$6,DEBUT!$CP$2:$DI$18,17,FALSE),\"\")","v":0},null,null,null,{"$f":"IFERROR(HLOOKUP(SK$6,DEBUT!$CP$2:$DI$18,5,FALSE),\"\")","v":0},{"$f":"IFERROR(HLOOKUP(SK$6,DEBUT!$CP$2:$DI$18,9,FALSE),\"\")","v":0},{"$f":"IFERROR(HLOOKUP(SK$6,DEBUT!$CP$2:$DI$18,13,FALSE),\"\")","v":0},{"$f":"IFERROR(HLOOKUP(SK$6,DEBUT!$CP$2:$DI$18,17,FALSE),\"\")","v":0},null,null,null,null,null,null,null,{"$f":"IFERROR(HLOOKUP(SV$6,DEBUT!$CP$2:$DI$18,5,FALSE),\"\")","v":0},{"$f":"IFERROR(HLOOKUP(SV$6,DEBUT!$CP$2:$DI$18,9,FALSE),\"\")","v":0},{"$f":"IFERROR(HLOOKUP(SV$6,DEBUT!$CP$2:$DI$18,13,FALSE),\"\")","v":0},{"$f":"IFERROR(HLOOKUP(SV$6,DEBUT!$CP$2:$DI$18,17,FALSE),\"\")","v":0},null,null,null,{"$f":"IFERROR(HLOOKUP(TC$6,DEBUT!$CP$2:$DI$18,5,FALSE),\"\")","v":0},{"$f":"IFERROR(HLOOKUP(TC$6,DEBUT!$CP$2:$DI$18,9,FALSE),\"\")","v":0},{"$f":"IFERROR(HLOOKUP(TC$6,DEBUT!$CP$2:$DI$18,13,FALSE),\"\")","v":0},{"$f":"IFERROR(HLOOKUP(TC$6,DEBUT!$CP$2:$DI$18,17,FALSE),\"\")","v":0},null,null,null,null,null,{"$f":"IFERROR(HLOOKUP(TL$6,DEBUT!$CP$2:$DI$18,5,FALSE),\"\")","v":0},{"$f":"IFERROR(HLOOKUP(TL$6,DEBUT!$CP$2:$DI$18,9,FALSE),\"\")","v":0},{"$f":"IFERROR(HLOOKUP(TL$6,DEBUT!$CP$2:$DI$18,13,FALSE),\"\")","v":0},{"$f":"IFERROR(HLOOKUP(TL$6,DEBUT!$CP$2:$DI$18,17,FALSE),\"\")","v":0},null,null,null,{"$f":"IFERROR(HLOOKUP(TS$6,DEBUT!$CP$2:$DI$18,5,FALSE),\"\")","v":0},{"$f":"IFERROR(HLOOKUP(TS$6,DEBUT!$CP$2:$DI$18,9,FALSE),\"\")","v":0},{"$f":"IFERROR(HLOOKUP(TS$6,DEBUT!$CP$2:$DI$18,13,FALSE),\"\")","v":0},{"$f":"IFERROR(HLOOKUP(TS$6,DEBUT!$CP$2:$DI$18,17,FALSE),\"\")","v":0},null,null,null,null,null,null,null,{"$f":"IFERROR(HLOOKUP(UD$6,DEBUT!$CP$2:$DI$18,5,FALSE),\"\")","v":0},{"$f":"IFERROR(HLOOKUP(UD$6,DEBUT!$CP$2:$DI$18,9,FALSE),\"\")","v":0},{"$f":"IFERROR(HLOOKUP(UD$6,DEBUT!$CP$2:$DI$18,13,FALSE),\"\")","v":0},{"$f":"IFERROR(HLOOKUP(UD$6,DEBUT!$CP$2:$DI$18,17,FALSE),\"\")","v":0},null,null,null,{"$f":"IFERROR(HLOOKUP(UK$6,DEBUT!$CP$2:$DI$18,5,FALSE),\"\")","v":0},{"$f":"IFERROR(HLOOKUP(UK$6,DEBUT!$CP$2:$DI$18,9,FALSE),\"\")","v":0},{"$f":"IFERROR(HLOOKUP(UK$6,DEBUT!$CP$2:$DI$18,13,FALSE),\"\")","v":0},{"$f":"IFERROR(HLOOKUP(UK$6,DEBUT!$CP$2:$DI$18,17,FALSE),\"\")","v":0},null,null,null,null,null,{"$f":"IFERROR(HLOOKUP(UT$6,DEBUT!$CP$2:$DI$18,5,FALSE),\"\")","v":0},{"$f":"IFERROR(HLOOKUP(UT$6,DEBUT!$CP$2:$DI$18,9,FALSE),\"\")","v":0},{"$f":"IFERROR(HLOOKUP(UT$6,DEBUT!$CP$2:$DI$18,13,FALSE),\"\")","v":0},{"$f":"IFERROR(HLOOKUP(UT$6,DEBUT!$CP$2:$DI$18,17,FALSE),\"\")","v":0},null,null,null,{"$f":"IFERROR(HLOOKUP(VA$6,DEBUT!$CP$2:$DI$18,5,FALSE),\"\")","v":0},{"$f":"IFERROR(HLOOKUP(VA$6,DEBUT!$CP$2:$DI$18,9,FALSE),\"\")","v":0},{"$f":"IFERROR(HLOOKUP(VA$6,DEBUT!$CP$2:$DI$18,13,FALSE),\"\")","v":0},{"$f":"IFERROR(HLOOKUP(VA$6,DEBUT!$CP$2:$DI$18,17,FALSE),\"\")","v":0},null,null,null,null,null,null,null,{"$f":"IFERROR(HLOOKUP(VL$6,DEBUT!$CP$2:$DI$18,5,FALSE),\"\")","v":0},{"$f":"IFERROR(HLOOKUP(VL$6,DEBUT!$CP$2:$DI$18,9,FALSE),\"\")","v":0},{"$f":"IFERROR(HLOOKUP(VL$6,DEBUT!$CP$2:$DI$18,13,FALSE),\"\")","v":0},{"$f":"IFERROR(HLOOKUP(VL$6,DEBUT!$CP$2:$DI$18,17,FALSE),\"\")","v":0},null,null,null,{"$f":"IFERROR(HLOOKUP(VS$6,DEBUT!$CP$2:$DI$18,5,FALSE),\"\")","v":0},{"$f":"IFERROR(HLOOKUP(VS$6,DEBUT!$CP$2:$DI$18,9,FALSE),\"\")","v":0},{"$f":"IFERROR(HLOOKUP(VS$6,DEBUT!$CP$2:$DI$18,13,FALSE),\"\")","v":0},{"$f":"IFERROR(HLOOKUP(VS$6,DEBUT!$CP$2:$DI$18,17,FALSE),\"\")","v":0},null,null,null,null,null,{"$f":"IFERROR(HLOOKUP(WB$6,DEBUT!$CP$2:$DI$18,5,FALSE),\"\")","v":0},{"$f":"IFERROR(HLOOKUP(WB$6,DEBUT!$CP$2:$DI$18,9,FALSE),\"\")","v":0},{"$f":"IFERROR(HLOOKUP(WB$6,DEBUT!$CP$2:$DI$18,13,FALSE),\"\")","v":0},{"$f":"IFERROR(HLOOKUP(WB$6,DEBUT!$CP$2:$DI$18,17,FALSE),\"\")","v":0},null,null,null,{"$f":"IFERROR(HLOOKUP(WI$6,DEBUT!$CP$2:$DI$18,5,FALSE),\"\")","v":0},{"$f":"IFERROR(HLOOKUP(WI$6,DEBUT!$CP$2:$DI$18,9,FALSE),\"\")","v":0},{"$f":"IFERROR(HLOOKUP(WI$6,DEBUT!$CP$2:$DI$18,13,FALSE),\"\")","v":0},{"$f":"IFERROR(HLOOKUP(WI$6,DEBUT!$CP$2:$DI$18,17,FALSE),\"\")","v":0},null,null,null,null,null,null,null,{"$f":"IFERROR(HLOOKUP(WT$6,DEBUT!$CP$2:$DI$18,5,FALSE),\"\")","v":0},{"$f":"IFERROR(HLOOKUP(WT$6,DEBUT!$CP$2:$DI$18,9,FALSE),\"\")","v":0},{"$f":"IFERROR(HLOOKUP(WT$6,DEBUT!$CP$2:$DI$18,13,FALSE),\"\")","v":0},{"$f":"IFERROR(HLOOKUP(WT$6,DEBUT!$CP$2:$DI$18,17,FALSE),\"\")","v":0},null,null,null,{"$f":"IFERROR(HLOOKUP(XA$6,DEBUT!$CP$2:$DI$18,5,FALSE),\"\")","v":0},{"$f":"IFERROR(HLOOKUP(XA$6,DEBUT!$CP$2:$DI$18,9,FALSE),\"\")","v":0},{"$f":"IFERROR(HLOOKUP(XA$6,DEBUT!$CP$2:$DI$18,13,FALSE),\"\")","v":0},{"$f":"IFERROR(HLOOKUP(XA$6,DEBUT!$CP$2:$DI$18,17,FALSE),\"\")","v":0},null,null,null,null,null,{"$f":"IFERROR(HLOOKUP(XJ$6,DEBUT!$CP$2:$DI$18,5,FALSE),\"\")","v":0},{"$f":"IFERROR(HLOOKUP(XJ$6,DEBUT!$CP$2:$DI$18,9,FALSE),\"\")","v":0},{"$f":"IFERROR(HLOOKUP(XJ$6,DEBUT!$CP$2:$DI$18,13,FALSE),\"\")","v":0},{"$f":"IFERROR(HLOOKUP(XJ$6,DEBUT!$CP$2:$DI$18,17,FALSE),\"\")","v":0},null,null,null,{"$f":"IFERROR(HLOOKUP(XQ$6,DEBUT!$CP$2:$DI$18,5,FALSE),\"\")","v":0},{"$f":"IFERROR(HLOOKUP(XQ$6,DEBUT!$CP$2:$DI$18,9,FALSE),\"\")","v":0},{"$f":"IFERROR(HLOOKUP(XQ$6,DEBUT!$CP$2:$DI$18,13,FALSE),\"\")","v":0},{"$f":"IFERROR(HLOOKUP(XQ$6,DEBUT!$CP$2:$DI$18,17,FALSE),\"\")","v":0},null,null,null,null,null,null,null,{"$f":"IFERROR(HLOOKUP(YB$6,DEBUT!$CP$2:$DI$18,5,FALSE),\"\")","v":0},{"$f":"IFERROR(HLOOKUP(YB$6,DEBUT!$CP$2:$DI$18,9,FALSE),\"\")","v":0},{"$f":"IFERROR(HLOOKUP(YB$6,DEBUT!$CP$2:$DI$18,13,FALSE),\"\")","v":0},{"$f":"IFERROR(HLOOKUP(YB$6,DEBUT!$CP$2:$DI$18,17,FALSE),\"\")","v":0},null,null,null,{"$f":"IFERROR(HLOOKUP(YI$6,DEBUT!$CP$2:$DI$18,5,FALSE),\"\")","v":0},{"$f":"IFERROR(HLOOKUP(YI$6,DEBUT!$CP$2:$DI$18,9,FALSE),\"\")","v":0},{"$f":"IFERROR(HLOOKUP(YI$6,DEBUT!$CP$2:$DI$18,13,FALSE),\"\")","v":0},{"$f":"IFERROR(HLOOKUP(YI$6,DEBUT!$CP$2:$DI$18,17,FALSE),\"\")","v":0},null,null,null,null,null,{"$f":"IFERROR(HLOOKUP(YR$6,DEBUT!$CP$2:$DI$18,5,FALSE),\"\")","v":0},{"$f":"IFERROR(HLOOKUP(YR$6,DEBUT!$CP$2:$DI$18,9,FALSE),\"\")","v":0},{"$f":"IFERROR(HLOOKUP(YR$6,DEBUT!$CP$2:$DI$18,13,FALSE),\"\")","v":0},{"$f":"IFERROR(HLOOKUP(YR$6,DEBUT!$CP$2:$DI$18,17,FALSE),\"\")","v":0},null,null,null,{"$f":"IFERROR(HLOOKUP(YY$6,DEBUT!$CP$2:$DI$18,5,FALSE),\"\")","v":0},{"$f":"IFERROR(HLOOKUP(YY$6,DEBUT!$CP$2:$DI$18,9,FALSE),\"\")","v":0},{"$f":"IFERROR(HLOOKUP(YY$6,DEBUT!$CP$2:$DI$18,13,FALSE),\"\")","v":0},{"$f":"IFERROR(HLOOKUP(YY$6,DEBUT!$CP$2:$DI$18,17,FALSE),\"\")","v":0},null,null,null,null,null,null,null,{"$f":"IFERROR(HLOOKUP(ZJ$6,DEBUT!$CP$2:$DI$18,5,FALSE),\"\")","v":0},{"$f":"IFERROR(HLOOKUP(ZJ$6,DEBUT!$CP$2:$DI$18,9,FALSE),\"\")","v":0},{"$f":"IFERROR(HLOOKUP(ZJ$6,DEBUT!$CP$2:$DI$18,13,FALSE),\"\")","v":0},{"$f":"IFERROR(HLOOKUP(ZJ$6,DEBUT!$CP$2:$DI$18,17,FALSE),\"\")","v":0},null,null,null,{"$f":"IFERROR(HLOOKUP(ZQ$6,DEBUT!$CP$2:$DI$18,5,FALSE),\"\")","v":0},{"$f":"IFERROR(HLOOKUP(ZQ$6,DEBUT!$CP$2:$DI$18,9,FALSE),\"\")","v":0},{"$f":"IFERROR(HLOOKUP(ZQ$6,DEBUT!$CP$2:$DI$18,13,FALSE),\"\")","v":0},{"$f":"IFERROR(HLOOKUP(ZQ$6,DEBUT!$CP$2:$DI$18,17,FALSE),\"\")","v":0},null,null,null,null,null,{"$f":"IFERROR(HLOOKUP(ZZ$6,DEBUT!$CP$2:$DI$18,5,FALSE),\"\")","v":0},{"$f":"IFERROR(HLOOKUP(ZZ$6,DEBUT!$CP$2:$DI$18,9,FALSE),\"\")","v":0},{"$f":"IFERROR(HLOOKUP(ZZ$6,DEBUT!$CP$2:$DI$18,13,FALSE),\"\")","v":0},{"$f":"IFERROR(HLOOKUP(ZZ$6,DEBUT!$CP$2:$DI$18,17,FALSE),\"\")","v":0},null,null,null,{"$f":"IFERROR(HLOOKUP(AAG$6,DEBUT!$CP$2:$DI$18,5,FALSE),\"\")","v":0},{"$f":"IFERROR(HLOOKUP(AAG$6,DEBUT!$CP$2:$DI$18,9,FALSE),\"\")","v":0},{"$f":"IFERROR(HLOOKUP(AAG$6,DEBUT!$CP$2:$DI$18,13,FALSE),\"\")","v":0},{"$f":"IFERROR(HLOOKUP(AAG$6,DEBUT!$CP$2:$DI$18,17,FALSE),\"\")","v":0},null,null,null,null,null,null,null,{"$f":"IFERROR(HLOOKUP(AAR$6,DEBUT!$CP$2:$DI$18,5,FALSE),\"\")","v":0},{"$f":"IFERROR(HLOOKUP(AAR$6,DEBUT!$CP$2:$DI$18,9,FALSE),\"\")","v":0},{"$f":"IFERROR(HLOOKUP(AAR$6,DEBUT!$CP$2:$DI$18,13,FALSE),\"\")","v":0},{"$f":"IFERROR(HLOOKUP(AAR$6,DEBUT!$CP$2:$DI$18,17,FALSE),\"\")","v":0},null,null,null,{"$f":"IFERROR(HLOOKUP(AAY$6,DEBUT!$CP$2:$DI$18,5,FALSE),\"\")","v":0},{"$f":"IFERROR(HLOOKUP(AAY$6,DEBUT!$CP$2:$DI$18,9,FALSE),\"\")","v":0},{"$f":"IFERROR(HLOOKUP(AAY$6,DEBUT!$CP$2:$DI$18,13,FALSE),\"\")","v":0},{"$f":"IFERROR(HLOOKUP(AAY$6,DEBUT!$CP$2:$DI$18,17,FALSE),\"\")","v":0},null,null,null,null,null,{"$f":"IFERROR(HLOOKUP(ABH$6,DEBUT!$CP$2:$DI$18,5,FALSE),\"\")","v":0},{"$f":"IFERROR(HLOOKUP(ABH$6,DEBUT!$CP$2:$DI$18,9,FALSE),\"\")","v":0},{"$f":"IFERROR(HLOOKUP(ABH$6,DEBUT!$CP$2:$DI$18,13,FALSE),\"\")","v":0},{"$f":"IFERROR(HLOOKUP(ABH$6,DEBUT!$CP$2:$DI$18,17,FALSE),\"\")","v":0},null,null,null,{"$f":"IFERROR(HLOOKUP(ABO$6,DEBUT!$CP$2:$DI$18,5,FALSE),\"\")","v":0},{"$f":"IFERROR(HLOOKUP(ABO$6,DEBUT!$CP$2:$DI$18,9,FALSE),\"\")","v":0},{"$f":"IFERROR(HLOOKUP(ABO$6,DEBUT!$CP$2:$DI$18,13,FALSE),\"\")","v":0},{"$f":"IFERROR(HLOOKUP(ABO$6,DEBUT!$CP$2:$DI$18,17,FALSE),\"\")","v":0},null,null,null,null,null,null,null,{"$f":"IFERROR(HLOOKUP(ABZ$6,DEBUT!$CP$2:$DI$18,5,FALSE),\"\")","v":0},{"$f":"IFERROR(HLOOKUP(ABZ$6,DEBUT!$CP$2:$DI$18,9,FALSE),\"\")","v":0},{"$f":"IFERROR(HLOOKUP(ABZ$6,DEBUT!$CP$2:$DI$18,13,FALSE),\"\")","v":0},{"$f":"IFERROR(HLOOKUP(ABZ$6,DEBUT!$CP$2:$DI$18,17,FALSE),\"\")","v":0},null,null,null,{"$f":"IFERROR(HLOOKUP(ACG$6,DEBUT!$CP$2:$DI$18,5,FALSE),\"\")","v":0},{"$f":"IFERROR(HLOOKUP(ACG$6,DEBUT!$CP$2:$DI$18,9,FALSE),\"\")","v":0},{"$f":"IFERROR(HLOOKUP(ACG$6,DEBUT!$CP$2:$DI$18,13,FALSE),\"\")","v":0},{"$f":"IFERROR(HLOOKUP(ACG$6,DEBUT!$CP$2:$DI$18,17,FALSE),\"\")","v":0},null,null,null,null,null,{"$f":"IFERROR(HLOOKUP(ACP$6,DEBUT!$CP$2:$DI$18,5,FALSE),\"\")","v":0},{"$f":"IFERROR(HLOOKUP(ACP$6,DEBUT!$CP$2:$DI$18,9,FALSE),\"\")","v":0},{"$f":"IFERROR(HLOOKUP(ACP$6,DEBUT!$CP$2:$DI$18,13,FALSE),\"\")","v":0},{"$f":"IFERROR(HLOOKUP(ACP$6,DEBUT!$CP$2:$DI$18,17,FALSE),\"\")","v":0},null,null,null,{"$f":"IFERROR(HLOOKUP(ACW$6,DEBUT!$CP$2:$DI$18,5,FALSE),\"\")","v":0},{"$f":"IFERROR(HLOOKUP(ACW$6,DEBUT!$CP$2:$DI$18,9,FALSE),\"\")","v":0},{"$f":"IFERROR(HLOOKUP(ACW$6,DEBUT!$CP$2:$DI$18,13,FALSE),\"\")","v":0},{"$f":"IFERROR(HLOOKUP(ACW$6,DEBUT!$CP$2:$DI$18,17,FALSE),\"\")","v":0},null,null,null,null,null,null,null,{"$f":"IFERROR(HLOOKUP(ADH$6,DEBUT!$CP$2:$DI$18,5,FALSE),\"\")","v":0},{"$f":"IFERROR(HLOOKUP(ADH$6,DEBUT!$CP$2:$DI$18,9,FALSE),\"\")","v":0},{"$f":"IFERROR(HLOOKUP(ADH$6,DEBUT!$CP$2:$DI$18,13,FALSE),\"\")","v":0},{"$f":"IFERROR(HLOOKUP(ADH$6,DEBUT!$CP$2:$DI$18,17,FALSE),\"\")","v":0},null,null,null,{"$f":"IFERROR(HLOOKUP(ADO$6,DEBUT!$CP$2:$DI$18,5,FALSE),\"\")","v":0},{"$f":"IFERROR(HLOOKUP(ADO$6,DEBUT!$CP$2:$DI$18,9,FALSE),\"\")","v":0},{"$f":"IFERROR(HLOOKUP(ADO$6,DEBUT!$CP$2:$DI$18,13,FALSE),\"\")","v":0},{"$f":"IFERROR(HLOOKUP(ADO$6,DEBUT!$CP$2:$DI$18,17,FALSE),\"\")","v":0},null,null,null,null,null,{"$f":"IFERROR(HLOOKUP(ADX$6,DEBUT!$CP$2:$DI$18,5,FALSE),\"\")","v":0},{"$f":"IFERROR(HLOOKUP(ADX$6,DEBUT!$CP$2:$DI$18,9,FALSE),\"\")","v":0},{"$f":"IFERROR(HLOOKUP(ADX$6,DEBUT!$CP$2:$DI$18,13,FALSE),\"\")","v":0},{"$f":"IFERROR(HLOOKUP(ADX$6,DEBUT!$CP$2:$DI$18,17,FALSE),\"\")","v":0},null,null,null,{"$f":"IFERROR(HLOOKUP(AEE$6,DEBUT!$CP$2:$DI$18,5,FALSE),\"\")","v":0},{"$f":"IFERROR(HLOOKUP(AEE$6,DEBUT!$CP$2:$DI$18,9,FALSE),\"\")","v":0},{"$f":"IFERROR(HLOOKUP(AEE$6,DEBUT!$CP$2:$DI$18,13,FALSE),\"\")","v":0},{"$f":"IFERROR(HLOOKUP(AEE$6,DEBUT!$CP$2:$DI$18,17,FALSE),\"\")","v":0}]
[]
[]
[null,"MATCHS",null,null,null,"SCORE",null,null,null,null,null,null,"SCORE",null,null,null,null,null,null,null,null,"SCORE",null,null,null,null,null,null,"SCORE",null,null,null,null,null,null,null,null,null,null,"SCORE",null,null,null,null,null,null,"SCORE",null,null,null,null,null,null,null,null,"SCORE",null,null,null,null,null,null,"SCORE",null,null,null,null,null,null,null,null,null,null,"SCORE",null,null,null,null,null,null,"SCORE",null,null,null,null,null,null,null,null,"SCORE",null,null,null,null,null,null,"SCORE",null,null,null,null,null,null,null,null,null,null,"SCORE",null,null,null,null,null,null,"SCORE",null,null,null,null,null,null,null,null,"SCORE",null,null,null,null,null,null,"SCORE",null,null,null,null,null,null,null,null,null,null,"SCORE",null,null,null,null,null,null,"SCORE",null,null,null,null,null,null,null,null,"SCORE",null,null,null,null,null,null,"SCORE",null,null,null,null,null,null,null,null,null,null,"SCORE",null,null,null,null,null,null,"SCORE",null,null,null,null,null,null,null,null,"SCORE",null,null,null,null,null,null,"SCORE",null,null,null,null,null,null,null,null,null,null,"SCORE",null,null,null,null,null,null,"SCORE",null,null,null,null,null,null,null,null,"SCORE",null,null,null,null,null,null,"SCORE",null,null,null,null,null,null,null,null,null,null,"SCORE",null,null,null,null,null,null,"SCORE",null,null,null,null,null,null,null,null,"SCORE",null,null,null,null,null,null,"SCORE",null,null,null,null,null,null,null,null,null,null,"SCORE",null,null,null,null,null,null,"SCORE",null,null,null,null,null,null,null,null,"SCORE",null,null,null,null,null,null,"SCORE",null,null,null,null,null,null,null,null,null,null,"SCORE",null,null,null,null,null,null,"SCORE",null,null,null,null,null,null,null,null,"SCORE",null,null,null,null,null,null,"SCORE",null,null,null,null,null,null,null,null,null,null,"SCORE",null,null,null,null,null,null,"SCORE",null,null,null,null,null,null,null,null,"SCORE",null,null,null,null,null,null,"SCORE",null,null,null,null,null,null,null,null,null,null,"SCORE",null,null,null,null,null,null,"SCORE",null,null,null,null,null,null,null,null,"SCORE",null,null,null,null,null,null,"SCORE",null,null,null,null,null,null,null,null,null,null,"SCORE",null,null,null,null,null,null,"SCORE",null,null,null,null,null,null,null,null,"SCORE",null,null,null,null,null,null,"SCORE",null,null,null,null,null,null,null,null,null,null,"SCORE",null,null,null,null,null,null,"SCORE",null,null,null,null,null,null,null,null,"SCORE",null,null,null,null,null,null,"SCORE",null,null,null,null,null,null,null,null,null,null,"SCORE",null,null,null,null,null,null,"SCORE",null,null,null,null,null,null,null,null,"SCORE",null,null,null,null,null,null,"SCORE",null,null,null,null,null,null,null,null,null,null,"SCORE",null,null,null,null,null,null,"SCORE",null,null,null,null,null,null,null,null,"SCORE",null,null,null,null,null,null,"SCORE",null,null,null,null,null,null,null,null,null,null,"SCORE",null,null,null,null,null,null,"SCORE",null,null,null,null,null,null,null,null,"SCORE",null,null,null,null,null,null,"SCORE",null,null,null,null,null,null,null,null,null,null,"SCORE",null,null,null,null,null,null,"SCORE",null,null,null,null,null,null,null,null,"SCORE",null,null,null,null,null,null,"SCORE",null,null,null,null,null,null,null,null,null,null,"SCORE",null,null,null,null,null,null,"SCORE",null,null,null,null,null,null,null,null,"SCORE",null,null,null,null,null,null,"SCORE",null,null,null,null,null,null,null,null,null,null,"SCORE",null,null,null,null,null,null,"SCORE",null,null,null,null,null,null,null,null,"SCORE",null,null,null,null,null,null,"SCORE",null,null,null,null,null,null,null,null,null,null,"SCORE",null,null,null,null,null,null,"SCORE",null,null,null,null,null,null,null,null,"SCORE",null,null,null,null,null,null,"SCORE",null,null,null,null,null,null,null,null,null,null,"SCORE",null,null,null,null,null,null,"SCORE",null,null,null,null,null,null,null,null,"SCORE",null,null,null,null,null,null,"SCORE",null,null,null,null,null,null,null,null,null,null,"SCORE",null,null,null,null,null,null,"SCORE",null,null,null,null,null,null,null,null,"SCORE",null,null,null,null,null,null,"SCORE",null,null,null,null,null,null,null,null,null,null,"SCORE",null,null,null,null,null,null,"SCORE",null,null,null,null,null,null,null,null,"SCORE",null,null,null,null,null,null,"SCORE"]
[null,"POINTS MARQUES AVEC OU SANS RESPECT DU CHOIX",null,null,null,"Points marqués avec RESPECT du choix",null,"Tous les AUTRES points marqués",null,null,null,null,"Points marqués avec RESPECT du choix",null,"Tous les AUTRES points marqués",null,null,null,null,null,null,"Points marqués avec RESPECT du choix",null,"Tous les AUTRES points marqués",null,null,null,null,"Points marqués avec RESPECT du choix",null,"Tous les AUTRES points marqués",null,null,null,null,null,null,null,null,"Points marqués avec RESPECT du choix",null,"Tous les AUTRES points marqués",null,null,null,null,"Points marqués avec RESPECT du choix",null,"Tous les AUTRES points marqués",null,null,null,null,null,null,"Points marqués avec RESPECT du choix",null,"Tous les AUTRES points marqués",null,null,null,null,"Points marqués avec RESPECT du choix",null,"Tous les AUTRES points marqués",null,null,null,null,null,null,null,null,"Points marqués avec RESPECT du choix",null,"Tous les AUTRES points marqués",null,null,null,null,"Points marqués avec RESPECT du choix",null,"Tous les AUTRES points marqués",null,null,null,null,null,null,"Points marqués avec RESPECT du choix",null,"Tous les AUTRES points marqués",null,null,null,null,"Points marqués avec RESPECT du choix",null,"Tous les AUTRES points marqués",null,null,null,null,null,null,null,null,"Points marqués avec RESPECT du choix",null,"Tous les AUTRES points marqués",null,null,null,null,"Points marqués avec RESPECT du choix",null,"Tous les AUTRES points marqués",null,null,null,null,null,null,"Points marqués avec RESPECT du choix",null,"Tous les AUTRES points marqués",null,null,null,null,"Points marqués avec RESPECT du choix",null,"Tous les AUTRES points marqués",null,null,null,null,null,null,null,null,"Points marqués avec RESPECT du choix",null,"Tous les AUTRES points marqués",null,null,null,null,"Points marqués avec RESPECT du choix",null,"Tous les AUTRES points marqués",null,null,null,null,null,null,"Points marqués avec RESPECT du choix",null,"Tous les AUTRES points marqués",null,null,null,null,"Points marqués avec RESPECT du choix",null,"Tous les AUTRES points marqués",null,null,null,null,null,null,null,null,"Points marqués avec RESPECT du choix",null,"Tous les AUTRES points marqués",null,null,null,null,"Points marqués avec RESPECT du choix",null,"Tous les AUTRES points marqués",null,null,null,null,null,null,"Points marqués avec RESPECT du choix",null,"Tous les AUTRES points marqués",null,null,null,null,"Points marqués avec RESPECT du choix",null,"Tous les AUTRES points marqués",null,null,null,null,null,null,null,null,"Points marqués avec RESPECT du choix",null,"Tous les AUTRES points marqués",null,null,null,null,"Points marqués avec RESPECT du choix",null,"Tous les AUTRES points marqués",null,null,null,null,null,null,"Points marqués avec RESPECT du choix",null,"Tous les AUTRES points marqués",null,null,null,null,"Points marqués avec RESPECT du choix",null,"Tous les AUTRES points marqués",null,null,null,null,null,null,null,null,"Points marqués avec RESPECT du choix",null,"Tous les AUTRES points marqués",null,null,null,null,"Points marqués avec RESPECT du choix",null,"Tous les AUTRES points marqués",null,null,null,null,null,null,"Points marqués avec RESPECT du choix",null,"Tous les AUTRES points marqués",null,null,null,null,"Points marqués avec RESPECT du choix",null,"Tous les AUTRES points marqués",null,null,null,null,null,null,null,null,"Points marqués avec RESPECT du choix",null,"Tous les AUTRES points marqués",null,null,null,null,"Points marqués avec RESPECT du choix",null,"Tous les AUTRES points marqués",null,null,null,null,null,null,"Points marqués avec RESPECT du choix",null,"Tous les AUTRES points marqués",null,null,null,null,"Points marqués avec RESPECT du choix",null,"Tous les AUTRES points marqués",null,null,null,null,null,null,null,null,"Points marqués avec RESPECT du choix",null,"Tous les AUTRES points marqués",null,null,null,null,"Points marqués avec RESPECT du choix",null,"Tous les AUTRES points marqués",null,null,null,null,null,null,"Points marqués avec RESPECT du choix",null,"Tous les AUTRES points marqués",null,null,null,null,"Points marqués avec RESPECT du choix",null,"Tous les AUTRES points marqués",null,null,null,null,null,null,null,null,"Points marqués avec RESPECT du choix",null,"Tous les AUTRES points marqués",null,null,null,null,"Points marqués avec RESPECT du choix",null,"Tous les AUTRES points marqués",null,null,null,null,null,null,"Points marqués avec RESPECT du choix",null,"Tous les AUTRES points marqués",null,null,null,null,"Points marqués avec RESPECT du choix",null,"Tous les AUTRES points marqués",null,null,null,null,null,null,null,null,"Points marqués avec RESPECT du choix",null,"Tous les AUTRES points marqués",null,null,null,null,"Points marqués avec RESPECT du choix",null,"Tous les AUTRES points marqués",null,null,null,null,null,null,"Points marqués avec RESPECT du choix",null,"Tous les AUTRES points marqués",null,null,null,null,"Points marqués avec RESPECT du choix",null,"Tous les AUTRES points marqués",null,null,null,null,null,null,null,null,"Points marqués avec RESPECT du choix",null,"Tous les AUTRES points marqués",null,null,null,null,"Points marqués avec RESPECT du choix",null,"Tous les AUTRES points marqués",null,null,null,null,null,null,"Points marqués avec RESPECT du choix",null,"Tous les AUTRES points marqués",null,null,null,null,"Points marqués avec RESPECT du choix",null,"Tous les AUTRES points marqués",null,null,null,null,null,null,null,null,"Points marqués avec RESPECT du choix",null,"Tous les AUTRES points marqués",null,null,null,null,"Points marqués avec RESPECT du choix",null,"Tous les AUTRES points marqués",null,null,null,null,null,null,"Points marqués avec RESPECT du choix",null,"Tous les AUTRES points marqués",null,null,null,null,"Points marqués avec RESPECT du choix",null,"Tous les AUTRES points marqués",null,null,null,null,null,null,null,null,"Points marqués avec RESPECT du choix",null,"Tous les AUTRES points marqués",null,null,null,null,"Points marqués avec RESPECT du choix",null,"Tous les AUTRES points marqués",null,null,null,null,null,null,"Points marqués avec RESPECT du choix",null,"Tous les AUTRES points marqués",null,null,null,null,"Points marqués avec RESPECT du choix",null,"Tous les AUTRES points marqués",null,null,null,null,null,null,null,null,"Points marqués avec RESPECT du choix",null,"Tous les AUTRES points marqués",null,null,null,null,"Points marqués avec RESPECT du choix",null,"Tous les AUTRES points marqués",null,null,null,null,null,null,"Points marqués avec RESPECT du choix",null,"Tous les AUTRES points marqués",null,null,null,null,"Points marqués avec RESPECT du choix",null,"Tous les AUTRES points marqués",null,null,null,null,null,null,null,null,"Points marqués avec RESPECT du choix",null,"Tous les AUTRES points marqués",null,null,null,null,"Points marqués avec RESPECT du choix",null,"Tous les AUTRES points marqués",null,null,null,null,null,null,"Points marqués avec RESPECT du choix",null,"Tous les AUTRES points marqués",null,null,null,null,"Points marqués avec RESPECT du choix",null,"Tous les AUTRES points marqués",null,null,null,null,null,null,null,null,"Points marqués avec RESPECT du choix",null,"Tous les AUTRES points marqués",null,null,null,null,"Points marqués avec RESPECT du choix",null,"Tous les AUTRES points marqués",null,null,null,null,null,null,"Points marqués avec RESPECT du choix",null,"Tous les AUTRES points marqués",null,null,null,null,"Points marqués avec RESPECT du choix",null,"Tous les AUTRES points marqués",null,null,null,null,null,null,null,null,"Points marqués avec RESPECT du choix",null,"Tous les AUTRES points marqués",null,null,null,null,"Points marqués avec RESPECT du choix",null,"Tous les AUTRES points marqués",null,null,null,null,null,null,"Points marqués avec RESPECT du choix",null,"Tous les AUTRES points marqués",null,null,null,null,"Points marqués avec RESPECT du choix",null,"Tous les AUTRES points marqués",null,null,null,null,null,null,null,null,"Points marqués avec RESPECT du choix",null,"Tous les AUTRES points marqués",null,null,null,null,"Points marqués avec RESPECT du choix",null,"Tous les AUTRES points marqués",null,null,null,null,null,null,"Points marqués avec RESPECT du choix",null,"Tous les AUTRES points marqués",null,null,null,null,"Points marqués avec RESPECT du choix",null,"Tous les AUTRES points marqués",null,null,null,null,null,null,null,null,"Points marqués avec RESPECT du choix",null,"Tous les AUTRES points marqués",null,null,null,null,"Points marqués avec RESPECT du choix",null,"Tous les AUTRES points marqués",null,null,null,null,null,null,"Points marqués avec RESPECT du choix",null,"Tous les AUTRES points marqués",null,null,null,null,"Points marqués avec RESPECT du choix",null,"Tous les AUTRES points marqués",null,null,null,null,null,null,null,null,"Points marqués avec RESPECT du choix",null,"Tous les AUTRES points marqués",null,null,null,null,"Points marqués avec RESPECT du choix",null,"Tous les AUTRES points marqués",null,null,null,null,null,null,"Points marqués avec RESPECT du choix",null,"Tous les AUTRES points marqués",null,null,null,null,"Points marqués avec RESPECT du choix",null,"Tous les AUTRES points marqués",null,null,null,null,null,null,null,null,"Points marqués avec RESPECT du choix",null,"Tous les AUTRES points marqués",null,null,null,null,"Points marqués avec RESPECT du choix",null,"Tous les AUTRES points marqués",null,null,null,null,null,null,"Points marqués avec RESPECT du choix",null,"Tous les AUTRES points marqués",null,null,null,null,"Points marqués avec RESPECT du choix",null,"Tous les AUTRES points marqués",null,null,null,null,null,null,null,null,"Points marqués avec RESPECT du choix",null,"Tous les AUTRES points marqués",null,null,null,null,"Points marqués avec RESPECT du choix",null,"Tous les AUTRES points marqués",null,null,null,null,null,null,"Points marqués avec RESPECT du choix",null,"Tous les AUTRES points marqués",null,null,null,null,"Points marqués avec RESPECT du choix",null,"Tous les AUTRES points marqués"]
[null,1,null,null,null,null,null,null,null,null,null,null,null,null,null,null,null,null,null,null,null,null,null,null,null,null,null,null,null,null,null,null,null,null,null,"NOUVEAU MATCH",null,null,null,null,null,null,null,null,null,null,null,null,null,null,null,null,null,null,null,null,null,null,null,null,null,null,null,null,null,null,null,null,null,"NOUVEAU MATCH",null,null,null,null,null,null,null,null,null,null,null,null,null,null,null,null,null,null,null,null,null,null,null,null,null,null,null,null,null,null,null,null,null,"NOUVEAU MATCH",null,null,null,null,null,null,null,null,null,null,null,null,null,null,null,null,null,null,null,null,null,null,null,null,null,null,null,null,null,null,null,null,null,"NOUVEAU MATCH",null,null,null,null,null,null,null,null,null,null,null,null,null,null,null,null,null,null,null,null,null,null,null,null,null,null,null,null,null,null,null,null,null,"NOUVEAU MATCH",null,null,null,null,null,null,null,null,null,null,null,null,null,null,null,null,null,null,null,null,null,null,null,null,null,null,null,null,null,null,null,null,null,"NOUVEAU MATCH",null,null,null,null,null,null,null,null,null,null,null,null,null,null,null,null,null,null,null,null,null,null,null,null,null,null,null,null,null,null,null,null,null,"NOUVEAU MATCH",null,null,null,null,null,null,null,null,null,null,null,null,null,null,null,null,null,null,null,null,null,null,null,null,null,null,null,null,null,null,null,null,null,"NOUVEAU MATCH",null,null,null,null,null,null,null,null,null,null,null,null,null,null,null,null,null,null,null,null,null,null,null,null,null,null,null,null,null,null,null,null,null,"NOUVEAU MATCH",null,null,null,null,null,null,null,null,null,null,null,null,null,null,null,null,null,null,null,null,null,null,null,null,null,null,null,null,null,null,null,null,null,"NOUVEAU MATCH",null,null,null,null,null,null,null,null,null,null,null,null,null,null,null,null,null,null,null,null,null,null,null,null,null,null,null,null,null,null,null,null,null,"NOUVEAU MATCH",null,null,null,null,null,null,null,null,null,null,null,null,null,null,null,null,null,null,null,null,null,null,null,null,null,null,null,null,null,null,null,null,null,"NOUVEAU MATCH",null,null,null,null,null,null,null,null,null,null,null,null,null,null,null,null,null,null,null,null,null,null,null,null,null,null,null,null,null,null,null,null,null,"NOUVEAU MATCH",null,null,null,null,null,null,null,null,null,null,null,null,null,null,null,null,null,null,null,null,null,null,null,null,null,null,null,null,null,null,null,null,null,"NOUVEAU MATCH",null,null,null,null,null,null,null,null,null,null,null,null,null,null,null,null,null,null,null,null,null,null,null,null,null,null,null,null,null,null,null,null,null,"NOUVEAU MATCH",null,null,null,null,null,null,null,null,null,null,null,null,null,null,null,null,null,null,null,null,null,null,null,null,null,null,null,null,null,null,null,null,null,"NOUVEAU MATCH",null,null,null,null,null,null,null,null,null,null,null,null,null,null,null,null,null,null,null,null,null,null,null,null,null,null,null,null,null,null,null,null,null,"NOUVEAU MATCH",null,null,null,null,null,null,null,null,null,null,null,null,null,null,null,null,null,null,null,null,null,null,null,null,null,null,null,null,null,null,null,null,null,"NOUVEAU MATCH",null,null,null,null,null,null,null,null,null,null,null,null,null,null,null,null,null,null,null,null,null,null,null,null,null,null,null,null,null,null,null,null,null,"NOUVEAU MATCH",null,null,null,null,null,null,null,null,null,null,null,null,null,null,null,null,null,null,null,null,null,null,null,null,null,null,null,null,null,null,null,null,null,"NOUVEAU MATCH",null,null,null,null,null,null,null,null,null,null,null,null,null,null,null,null,null,null,null,null,null,null,null,null,null,null,null,null,null,null,null,null,null,"NOUVEAU MATCH",null,null,null,null,null,null,null,null,null,null,null,null,null,null,null,null,null,null,null,null,null,null,null,null,null,null,null,null,null,null,null,null,null,"NOUVEAU MATCH",null,null,null,null,null,null,null,null,null,null,null,null,null,null,null,null,null,null,null,null,null,null,null,null,null,null,null,null,null,null,null,null,null,"NOUVEAU MATCH",null,null,null,null,null,null,null,null,null,null,null,null,null,null,null,null,null,null,null,null,null,null,null,null,null,null,null,null,null,null,null,null,null,"NOUVEAU MATCH"]
[null,2]
[null,3]
[null,4]
[null,5]
[null,6]
[null,7]
[null,8]
[null,9]
[null,10]
[null,11]
[null,"TOTAL",null,null,null,{"$f":"(SUMPRODUCT(N(ISTEXT(F16:F26))))","v":0},"+",{"$f":"(SUMPRODUCT(N(ISTEXT(H16:H26))))","v":0},null,null,null,null,{"$f":"(SUMPRODUCT(N(ISTEXT(M16:M26))))","v":0},"+",{"$f":"(SUMPRODUCT(N(ISTEXT(O16:O26))))","v":0},null,null,null,null,null,null,{"$f":"(SUMPRODUCT(N(ISTEXT(V16:V26))))","v":0},"+",{"$f":"(SUMPRODUCT(N(ISTEXT(X16:X26))))","v":0},null,null,null,null,{"$f":"(SUMPRODUCT(N(ISTEXT(AC16:AC26))))","v":0},"+",{"$f":"(SUMPRODUCT(N(ISTEXT(AE16:AE26))))","v":0},null,null,null,null,null,null,null,null,{"$f":"(SUMPRODUCT(N(ISTEXT(AN16:AN26))))","v":0},"+",{"$f":"(SUMPRODUCT(N(ISTEXT(AP16:AP26))))","v":0},null,null,null,null,{"$f":"(SUMPRODUCT(N(ISTEXT(AU16:AU26))))","v":0},"+",{"$f":"(SUMPRODUCT(N(ISTEXT(AW16:AW26))))","v":0},null,null,null,null,null,null,{"$f":"(SUMPRODUCT(N(ISTEXT(BD16:BD26))))","v":0},"+",{"$f":"(SUMPRODUCT(N(ISTEXT(BF16:BF26))))","v":0},null,null,null,null,{"$f":"(SUMPRODUCT(N(ISTEXT(BK16:BK26))))","v":0},"+",{"$f":"(SUMPRODUCT(N(ISTEXT(BM16:BM26))))","v":0},null,null,null,null,null,null,null,null,{"$f":"(SUMPRODUCT(N(ISTEXT(BV16:BV26))))","v":0},"+",{"$f":"(SUMPRODUCT(N(ISTEXT(BX16:BX26))))","v":0},null,null,null,null,{"$f":"(SUMPRODUCT(N(ISTEXT(CC16:CC26))))","v":0},"+",{"$f":"(SUMPRODUCT(N(ISTEXT(CE16:CE26))))","v":0},null,null,null,null,null,null,{"$f":"(SUMPRODUCT(N(ISTEXT(CL16:CL26))))","v":0},"+",{"$f":"(SUMPRODUCT(N(ISTEXT(CN16:CN26))))","v":0},null,null,null,null,{"$f":"(SUMPRODUCT(N(ISTEXT(CS16:CS26))))","v":0},"+",{"$f":"(SUMPRODUCT(N(ISTEXT(CU16:CU26))))","v":0},null,null,null,null,null,null,null,null,{"$f":"(SUMPRODUCT(N(ISTEXT(DD16:DD26))))","v":0},"+",{"$f":"(SUMPRODUCT(N(ISTEXT(DF16:DF26))))","v":0},null,null,null,null,{"$f":"(SUMPRODUCT(N(ISTEXT(DK16:DK26))))","v":0},"+",{"$f":"(SUMPRODUCT(N(ISTEXT(DM16:DM26))))","v":0},null,null,null,null,null,null,{"$f":"(SUMPRODUCT(N(ISTEXT(DT16:DT26))))","v":0},"+",{"$f":"(SUMPRODUCT(N(ISTEXT(DV16:DV26))))","v":0},null,null,null,null,{"$f":"(SUMPRODUCT(N(ISTEXT(EA16:EA26))))","v":0},"+",{"$f":"(SUMPRODUCT(N(ISTEXT(EC16:EC26))))","v":0},null,null,null,null,null,null,null,null,{"$f":"(SUMPRODUCT(N(ISTEXT(EL16:EL26))))","v":0},"+",{"$f":"(SUMPRODUCT(N(ISTEXT(EN16:EN26))))","v":0},null,null,null,null,{"$f":"(SUMPRODUCT(N(ISTEXT(ES16:ES26))))","v":0},"+",{"$f":"(SUMPRODUCT(N(ISTEXT(EU16:EU26))))","v":0},null,null,null,null,null,null,{"$f":"(SUMPRODUCT(N(ISTEXT(FB16:FB26))))","v":0},"+",{"$f":"(SUMPRODUCT(N(ISTEXT(FD16:FD26))))","v":0},null,null,null,null,{"$f":"(SUMPRODUCT(N(ISTEXT(FI16:FI26))))","v":0},"+",{"$f":"(SUMPRODUCT(N(ISTEXT(FK16:FK26))))","v":0},null,null,null,null,null,null,null,null,{"$f":"(SUMPRODUCT(N(ISTEXT(FT16:FT26))))","v":0},"+",{"$f":"(SUMPRODUCT(N(ISTEXT(FV16:FV26))))","v":0},null,null,null,null,{"$f":"(SUMPRODUCT(N(ISTEXT(GA16:GA26))))","v":0},"+",{"$f":"(SUMPRODUCT(N(ISTEXT(GC16:GC26))))","v":0},null,null,null,null,null,null,{"$f":"(SUMPRODUCT(N(ISTEXT(GJ16:GJ26))))","v":0},"+",{"$f":"(SUMPRODUCT(N(ISTEXT(GL16:GL26))))","v":0},null,null,null,null,{"$f":"(SUMPRODUCT(N(ISTEXT(GQ16:GQ26))))","v":0},"+",{"$f":"(SUMPRODUCT(N(ISTEXT(GS16:GS26))))","v":0},null,null,null,null,null,null,null,null,{"$f":"(SUMPRODUCT(N(ISTEXT(HB16:HB26))))","v":0},"+",{"$f":"(SUMPRODUCT(N(ISTEXT(HD16:HD26))))","v":0},null,null,null,null,{"$f":"(SUMPRODUCT(N(ISTEXT(HI16:HI26))))","v":0},"+",{"$f":"(SUMPRODUCT(N(ISTEXT(HK16:HK26))))","v":0},null,null,null,null,null,null,{"$f":"(SUMPRODUCT(N(ISTEXT(HR16:HR26))))","v":0},"+",{"$f":"(SUMPRODUCT(N(ISTEXT(HT16:HT26))))","v":0},null,null,null,null,{"$f":"(SUMPRODUCT(N(ISTEXT(HY16:HY26))))","v":0},"+",{"$f":"(SUMPRODUCT(N(ISTEXT(IA16:IA26))))","v":0},null,null,null,null,null,null,null,null,{"$f":"(SUMPRODUCT(N(ISTEXT(IJ16:IJ26))))","v":0},"+",{"$f":"(SUMPRODUCT(N(ISTEXT(IL16:IL26))))","v":0},null,null,null,null,{"$f":"(SUMPRODUCT(N(ISTEXT(IQ16:IQ26))))","v":0},"+",{"$f":"(SUMPRODUCT(N(ISTEXT(IS16:IS26))))","v":0},null,null,null,null,null,null,{"$f":"(SUMPRODUCT(N(ISTEXT(IZ16:IZ26))))","v":0},"+",{"$f":"(SUMPRODUCT(N(ISTEXT(JB16:JB26))))","v":0},null,null,null,null,{"$f":"(SUMPRODUCT(N(ISTEXT(JG16:JG26))))","v":0},"+",{"$f":"(SUMPRODUCT(N(ISTEXT(JI16:JI26))))","v":0},null,null,null,null,null,null,null,null,{"$f":"(SUMPRODUCT(N(ISTEXT(JR16:JR26))))","v":0},"+",{"$f":"(SUMPRODUCT(N(ISTEXT(JT16:JT26))))","v":0},null,null,null,null,{"$f":"(SUMPRODUCT(N(ISTEXT(JY16:JY26))))","v":0},"+",{"$f":"(SUMPRODUCT(N(ISTEXT(KA16:KA26))))","v":0},null,null,null,null,null,null,{"$f":"(SUMPRODUCT(N(ISTEXT(KH16:KH26))))","v":0},"+",{"$f":"(SUMPRODUCT(N(ISTEXT(KJ16:KJ26))))","v":0},null,null,null,null,{"$f":"(SUMPRODUCT(N(ISTEXT(KO16:KO26))))","v":0},"+",{"$f":"(SUMPRODUCT(N(ISTEXT(KQ16:KQ26))))","v":0},null,null,null,null,null,null,null,null,{"$f":"(SUMPRODUCT(N(ISTEXT(KZ16:KZ26))))","v":0},"+",{"$f":"(SUMPRODUCT(N(ISTEXT(LB16:LB26))))","v":0},null,null,null,null,{"$f":"(SUMPRODUCT(N(ISTEXT(LG16:LG26))))","v":0},"+",{"$f":"(SUMPRODUCT(N(ISTEXT(LI16:LI26))))","v":0},null,null,null,null,null,null,{"$f":"(SUMPRODUCT(N(ISTEXT(LP16:LP26))))","v":0},"+",{"$f":"(SUMPRODUCT(N(ISTEXT(LR16:LR26))))","v":0},null,null,null,null,{"$f":"(SUMPRODUCT(N(ISTEXT(LW16:LW26))))","v":0},"+",{"$f":"(SUMPRODUCT(N(ISTEXT(LY16:LY26))))","v":0},null,null,null,null,null,null,null,null,{"$f":"(SUMPRODUCT(N(ISTEXT(MH16:MH26))))","v":0},"+",{"$f":"(SUMPRODUCT(N(ISTEXT(MJ16:MJ26))))","v":0},null,null,null,null,{"$f":"(SUMPRODUCT(N(ISTEXT(MO16:MO26))))","v":0},"+",{"$f":"(SUMPRODUCT(N(ISTEXT(MQ16:MQ26))))","v":0},null,null,null,null,null,null,{"$f":"(SUMPRODUCT(N(ISTEXT(MX16:MX26))))","v":0},"+",{"$f":"(SUMPRODUCT(N(ISTEXT(MZ16:MZ26))))","v":0},null,null,null,null,{"$f":"(SUMPRODUCT(N(ISTEXT(NE16:NE26))))","v":0},"+",{"$f":"(SUMPRODUCT(N(ISTEXT(NG16:NG26))))","v":0},null,null,null,null,null,null,null,null,{"$f":"(SUMPRODUCT(N(ISTEXT(NP16:NP26))))","v":0},"+",{"$f":"(SUMPRODUCT(N(ISTEXT(NR16:NR26))))","v":0},null,null,null,null,{"$f":"(SUMPRODUCT(N(ISTEXT(NW16:NW26))))","v":0},"+",{"$f":"(SUMPRODUCT(N(ISTEXT(NY16:NY26))))","v":0},null,null,null,null,null,null,{"$f":"(SUMPRODUCT(N(ISTEXT(OF16:OF26))))","v":0},"+",{"$f":"(SUMPRODUCT(N(ISTEXT(OH16:OH26))))","v":0},null,null,null,null,{"$f":"(SUMPRODUCT(N(ISTEXT(OM16:OM26))))","v":0},"+",{"$f":"(SUMPRODUCT(N(ISTEXT(OO16:OO26))))","v":0},null,null,null,null,null,null,null,null,{"$f":"(SUMPRODUCT(N(ISTEXT(OX16:OX26))))","v":0},"+",{"$f":"(SUMPRODUCT(N(ISTEXT(OZ16:OZ26))))","v":0},null,null,null,null,{"$f":"(SUMPRODUCT(N(ISTEXT(PE16:PE26))))","v":0},"+",{"$f":"(SUMPRODUCT(N(ISTEXT(PG16:PG26))))","v":0},null,null,null,null,null,null,{"$f":"(SUMPRODUCT(N(ISTEXT(PN16:PN26))))","v":0},"+",{"$f":"(SUMPRODUCT(N(ISTEXT(PP16:PP26))))","v":0},null,null,null,null,{"$f":"(SUMPRODUCT(N(ISTEXT(PU16:PU26))))","v":0},"+",{"$f":"(SUMPRODUCT(N(ISTEXT(PW16:PW26))))","v":0},null,null,null,null,null,null,null,null,{"$f":"(SUMPRODUCT(N(ISTEXT(QF16:QF26))))","v":0},"+",{"$f":"(SUMPRODUCT(N(ISTEXT(QH16:QH26))))","v":0},null,null,null,null,{"$f":"(SUMPRODUCT(N(ISTEXT(QM16:QM26))))","v":0},"+",{"$f":"(SUMPRODUCT(N(ISTEXT(QO16:QO26))))","v":0},null,null,null,null,null,null,{"$f":"(SUMPRODUCT(N(ISTEXT(QV16:QV26))))","v":0},"+",{"$f":"(SUMPRODUCT(N(ISTEXT(QX16:QX26))))","v":0},null,null,null,null,{"$f":"(SUMPRODUCT(N(ISTEXT(RC16:RC26))))","v":0},"+",{"$f":"(SUMPRODUCT(N(ISTEXT(RE16:RE26))))","v":0},null,null,null,null,null,null,null,null,{"$f":"(SUMPRODUCT(N(ISTEXT(RN16:RN26))))","v":0},"+",{"$f":"(SUMPRODUCT(N(ISTEXT(RP16:RP26))))","v":0},null,null,null,null,{"$f":"(SUMPRODUCT(N(ISTEXT(RU16:RU26))))","v":0},"+",{"$f":"(SUMPRODUCT(N(ISTEXT(RW16:RW26))))","v":0},null,null,null,null,null,null,{"$f":"(SUMPRODUCT(N(ISTEXT(SD16:SD26))))","v":0},"+",{"$f":"(SUMPRODUCT(N(ISTEXT(SF16:SF26))))","v":0},null,null,null,null,{"$f":"(SUMPRODUCT(N(ISTEXT(SK16:SK26))))","v":0},"+",{"$f":"(SUMPRODUCT(N(ISTEXT(SM16:SM26))))","v":0},null,null,null,null,null,null,null,null,{"$f":"(SUMPRODUCT(N(ISTEXT(SV16:SV26))))","v":0},"+",{"$f":"(SUMPRODUCT(N(ISTEXT(SX16:SX26))))","v":0},null,null,null,null,{"$f":"(SUMPRODUCT(N(ISTEXT(TC16:TC26))))","v":0},"+",{"$f":"(SUMPRODUCT(N(ISTEXT(TE16:TE26))))","v":0},null,null,null,null,null,null,{"$f":"(SUMPRODUCT(N(ISTEXT(TL16:TL26))))","v":0},"+",{"$f":"(SUMPRODUCT(N(ISTEXT(TN16:TN26))))","v":0},null,null,null,null,{"$f":"(SUMPRODUCT(N(ISTEXT(TS16:TS26))))","v":0},"+",{"$f":"(SUMPRODUCT(N(ISTEXT(TU16:TU26))))","v":0},null,null,null,null,null,null,null,null,{"$f":"(SUMPRODUCT(N(ISTEXT(UD16:UD26))))","v":0},"+",{"$f":"(SUMPRODUCT(N(ISTEXT(UF16:UF26))))","v":0},null,null,null,null,{"$f":"(SUMPRODUCT(N(ISTEXT(UK16:UK26))))","v":0},"+",{"$f":"(SUMPRODUCT(N(ISTEXT(UM16:UM26))))","v":0},null,null,null,null,null,null,{"$f":"(SUMPRODUCT(N(ISTEXT(UT16:UT26))))","v":0},"+",{"$f":"(SUMPRODUCT(N(ISTEXT(UV16:UV26))))","v":0},null,null,null,null,{"$f":"(SUMPRODUCT(N(ISTEXT(VA16:VA26))))","v":0},"+",{"$f":"(SUMPRODUCT(N(ISTEXT(VC16:VC26))))","v":0},null,null,null,null,null,null,null,null,{"$f":"(SUMPRODUCT(N(ISTEXT(VL16:VL26))))","v":0},"+",{"$f":"(SUMPRODUCT(N(ISTEXT(VN16:VN26))))","v":0},null,null,null,null,{"$f":"(SUMPRODUCT(N(ISTEXT(VS16:VS26))))","v":0},"+",{"$f":"(SUMPRODUCT(N(ISTEXT(VU16:VU26))))","v":0},null,null,null,null,null,null,{"$f":"(SUMPRODUCT(N(ISTEXT(WB16:WB26))))","v":0},"+",{"$f":"(SUMPRODUCT(N(ISTEXT(WD16:WD26))))","v":0},null,null,null,null,{"$f":"(SUMPRODUCT(N(ISTEXT(WI16:WI26))))","v":0},"+",{"$f":"(SUMPRODUCT(N(ISTEXT(WK16:WK26))))","v":0},null,null,null,null,null,null,null,null,{"$f":"(SUMPRODUCT(N(ISTEXT(WT16:WT26))))","v":0},"+",{"$f":"(SUMPRODUCT(N(ISTEXT(WV16:WV26))))","v":0},null,null,null,null,{"$f":"(SUMPRODUCT(N(ISTEXT(XA16:XA26))))","v":0},"+",{"$f":"(SUMPRODUCT(N(ISTEXT(XC16:XC26))))","v":0},null,null,null,null,null,null,{"$f":"(SUMPRODUCT(N(ISTEXT(XJ16:XJ26))))","v":0},"+",{"$f":"(SUMPRODUCT(N(ISTEXT(XL16:XL26))))","v":0},null,null,null,null,{"$f":"(SUMPRODUCT(N(ISTEXT(XQ16:XQ26))))","v":0},"+",{"$f":"(SUMPRODUCT(N(ISTEXT(XS16:XS26))))","v":0},null,null,null,null,null,null,null,null,{"$f":"(SUMPRODUCT(N(ISTEXT(YB16:YB26))))","v":0},"+",{"$f":"(SUMPRODUCT(N(ISTEXT(YD16:YD26))))","v":0},null,null,null,null,{"$f":"(SUMPRODUCT(N(ISTEXT(YI16:YI26))))","v":0},"+",{"$f":"(SUMPRODUCT(N(ISTEXT(YK16:YK26))))","v":0},null,null,null,null,null,null,{"$f":"(SUMPRODUCT(N(ISTEXT(YR16:YR26))))","v":0},"+",{"$f":"(SUMPRODUCT(N(ISTEXT(YT16:YT26))))","v":0},null,null,null,null,{"$f":"(SUMPRODUCT(N(ISTEXT(YY16:YY26))))","v":0},"+",{"$f":"(SUMPRODUCT(N(ISTEXT(ZA16:ZA26))))","v":0},null,null,null,null,null,null,null,null,{"$f":"(SUMPRODUCT(N(ISTEXT(ZJ16:ZJ26))))","v":0},"+",{"$f":"(SUMPRODUCT(N(ISTEXT(ZL16:ZL26))))","v":0},null,null,null,null,{"$f":"(SUMPRODUCT(N(ISTEXT(ZQ16:ZQ26))))","v":0},"+",{"$f":"(SUMPRODUCT(N(ISTEXT(ZS16:ZS26))))","v":0},null,null,null,null,null,null,{"$f":"(SUMPRODUCT(N(ISTEXT(ZZ16:ZZ26))))","v":0},"+",{"$f":"(SUMPRODUCT(N(ISTEXT(AAB16:AAB26))))","v":0},null,null,null,null,{"$f":"(SUMPRODUCT(N(ISTEXT(AAG16:AAG26))))","v":0},"+",{"$f":"(SUMPRODUCT(N(ISTEXT(AAI16:AAI26))))","v":0},null,null,null,null,null,null,null,null,{"$f":"(SUMPRODUCT(N(ISTEXT(AAR16:AAR26))))","v":0},"+",{"$f":"(SUMPRODUCT(N(ISTEXT(AAT16:AAT26))))","v":0},null,null,null,null,{"$f":"(SUMPRODUCT(N(ISTEXT(AAY16:AAY26))))","v":0},"+",{"$f":"(SUMPRODUCT(N(ISTEXT(ABA16:ABA26))))","v":0},null,null,null,null,null,null,{"$f":"(SUMPRODUCT(N(ISTEXT(ABH16:ABH26))))","v":0},"+",{"$f":"(SUMPRODUCT(N(ISTEXT(ABJ16:ABJ26))))","v":0},null,null,null,null,{"$f":"(SUMPRODUCT(N(ISTEXT(ABO16:ABO26))))","v":0},"+",{"$f":"(SUMPRODUCT(N(ISTEXT(ABQ16:ABQ26))))","v":0},null,null,null,null,null,null,null,null,{"$f":"(SUMPRODUCT(N(ISTEXT(ABZ16:ABZ26))))","v":0},"+",{"$f":"(SUMPRODUCT(N(ISTEXT(ACB16:ACB26))))","v":0},null,null,null,null,{"$f":"(SUMPRODUCT(N(ISTEXT(ACG16:ACG26))))","v":0},"+",{"$f":"(SUMPRODUCT(N(ISTEXT(ACI16:ACI26))))","v":0},null,null,null,null,null,null,{"$f":"(SUMPRODUCT(N(ISTEXT(ACP16:ACP26))))","v":0},"+",{"$f":"(SUMPRODUCT(N(ISTEXT(ACR16:ACR26))))","v":0},null,null,null,null,{"$f":"(SUMPRODUCT(N(ISTEXT(ACW16:ACW26))))","v":0},"+",{"$f":"(SUMPRODUCT(N(ISTEXT(ACY16:ACY26))))","v":0},null,null,null,null,null,null,null,null,{"$f":"(SUMPRODUCT(N(ISTEXT(ADH16:ADH26))))","v":0},"+",{"$f":"(SUMPRODUCT(N(ISTEXT(ADJ16:ADJ26))))","v":0},null,null,null,null,{"$f":"(SUMPRODUCT(N(ISTEXT(ADO16:ADO26))))","v":0},"+",{"$f":"(SUMPRODUCT(N(ISTEXT(ADQ16:ADQ26))))","v":0},null,null,null,null,null,null,{"$f":"(SUMPRODUCT(N(ISTEXT(ADX16:ADX26))))","v":0},"+",{"$f":"(SUMPRODUCT(N(ISTEXT(ADZ16:ADZ26))))","v":0},null,null,null,null,{"$f":"(SUMPRODUCT(N(ISTEXT(AEE16:AEE26))))","v":0},"+",{"$f":"(SUMPRODUCT(N(ISTEXT(AEG16:AEG26))))","v":0}]
[null,"SCORE ",null,null,null,{"$f":"F27+H27","v":0},null,null,null,null,null,null,{"$f":"M27+O27","v":0},null,null,null,null,null,null,null,null,{"$f":"V27+X27","v":0},null,null,null,null,null,null,{"$f":"AC27+AE27","v":0},null,null,null,null,null,null,"NOUVEAU MATCH",null,null,null,{"$f":"AN27+AP27","v":0},null,null,null,null,null,null,{"$f":"AU27+AW27","v":0},null,null,null,null,null,null,null,null,{"$f":"BD27+BF27","v":0},null,null,null,null,null,null,{"$f":"BK27+BM27","v":0},null,null,null,null,null,null,"NOUVEAU MATCH",null,null,null,{"$f":"BV27+BX27","v":0},null,null,null,null,null,null,{"$f":"CC27+CE27","v":0},null,null,null,null,null,null,null,null,{"$f":"CL27+CN27","v":0},null,null,null,null,null,null,{"$f":"CS27+CU27","v":0},null,null,null,null,null,null,"NOUVEAU MATCH",null,null,null,{"$f":"DD27+DF27","v":0},null,null,null,null,null,null,{"$f":"DK27+DM27","v":0},null,null,null,null,null,null,null,null,{"$f":"DT27+DV27","v":0},null,null,null,null,null,null,{"$f":"EA27+EC27","v":0},null,null,null,null,null,null,null,null,null,null,{"$f":"EL27+EN27","v":0},null,null,null,null,null,null,{"$f":"ES27+EU27","v":0},null,null,null,null,null,null,null,null,{"$f":"FB27+FD27","v":0},null,null,null,null,null,null,{"$f":"FI27+FK27","v":0},null,null,null,null,null,null,"NOUVEAU MATCH",null,null,null,{"$f":"FT27+FV27","v":0},null,null,null,null,null,null,{"$f":"GA27+GC27","v":0},null,null,null,null,null,null,null,null,{"$f":"GJ27+GL27","v":0},null,null,null,null,null,null,{"$f":"GQ27+GS27","v":0},null,null,null,null,null,null,"NOUVEAU MATCH",null,null,null,{"$f":"HB27+HD27","v":0},null,null,null,null,null,null,{"$f":"HI27+HK27","v":0},null,null,null,null,null,null,null,null,{"$f":"HR27+HT27","v":0},null,null,null,null,null,null,{"$f":"HY27+IA27","v":0},null,null,null,null,null,null,"NOUVEAU MATCH",null,null,null,{"$f":"IJ27+IL27","v":0},null,null,null,null,null,null,{"$f":"IQ27+IS27","v":0},null,null,null,null,null,null,null,null,{"$f":"IZ27+JB27","v":0},null,null,null,null,null,null,{"$f":"JG27+JI27","v":0},null,null,null,null,null,null,"NOUVEAU MATCH",null,null,null,{"$f":"JR27+JT27","v":0},null,null,null,null,null,null,{"$f":"JY27+KA27","v":0},null,null,null,null,null,null,null,null,{"$f":"KH27+KJ27","v":0},null,null,null,null,null,null,{"$f":"KO27+KQ27","v":0},null,null,null,null,null,null,"NOUVEAU MATCH",null,null,null,{"$f":"KZ27+LB27","v":0},null,null,null,null,null,null,{"$f":"LG27+LI27","v":0},null,null,null,null,null,null,null,null,{"$f":"LP27+LR27","v":0},null,null,null,null,null,null,{"$f":"LW27+LY27","v":0},null,null,null,null,null,null,"NOUVEAU MATCH",null,null,null,{"$f":"MH27+MJ27","v":0},null,null,null,null,null,null,{"$f":"MO27+MQ27","v":0},null,null,null,null,null,null,null,null,{"$f":"MX27+MZ27","v":0},null,null,null,null,null,null,{"$f":"NE27+NG27","v":0},null,null,null,null,null,null,"NOUVEAU MATCH",null,null,null,{"$f":"NP27+NR27","v":0},null,null,null,null,null,null,{"$f":"NW27+NY27","v":0},null,null,null,null,null,null,null,null,{"$f":"OF27+OH27","v":0},null,null,null,null,null,null,{"$f":"OM27+OO27","v":0},null,null,null,null,null,null,null,null,null,null,{"$f":"OX27+OZ27","v":0},null,null,null,null,null,null,{"$f":"PE27+PG27","v":0},null,null,null,null,null,null,null,null,{"$f":"PN27+PP27","v":0},null,null,null,null,null,null,{"$f":"PU27+PW27","v":0},null,null,null,null,null,null,"NOUVEAU MATCH",null,null,null,{"$f":"QF27+QH27","v":0},null,null,null,null,null,null,{"$f":"QM27+QO27","v":0},null,null,null,null,null,null,null,null,{"$f":"QV27+QX27","v":0},null,null,null,null,null,null,{"$f":"RC27+RE27","v":0},null,null,null,null,null,null,"NOUVEAU MATCH",null,null,null,{"$f":"RN27+RP27","v":0},null,null,null,null,null,null,{"$f":"RU27+RW27","v":0},null,null,null,null,null,null,null,null,{"$f":"SD27+SF27","v":0},null,null,null,null,null,null,{"$f":"SK27+SM27","v":0},null,null,null,null,null,null,"NOUVEAU MATCH",null,null,null,{"$f":"SV27+SX27","v":0},null,null,null,null,null,null,{"$f":"TC27+TE27","v":0},null,null,null,null,null,null,null,null,{"$f":"TL27+TN27","v":0},null,null,null,null,null,null,{"$f":"TS27+TU27","v":0},null,null,null,null,null,null,"NOUVEAU MATCH",null,null,null,{"$f":"UD27+UF27","v":0},null,null,null,null,null,null,{"$f":"UK27+UM27","v":0},null,null,null,null,null,null,null,null,{"$f":"UT27+UV27","v":0},null,null,null,null,null,null,{"$f":"VA27+VC27","v":0},null,null,null,null,null,null,"NOUVEAU MATCH",null,null,null,{"$f":"VL27+VN27","v":0},null,null,null,null,null,null,{"$f":"VS27+VU27","v":0},null,null,null,null,null,null,null,null,{"$f":"WB27+WD27","v":0},null,null,null,null,null,null,{"$f":"WI27+WK27","v":0},null,null,null,null,null,null,"NOUVEAU MATCH",null,null,null,{"$f":"WT27+WV27","v":0},null,null,null,null,null,null,{"$f":"XA27+XC27","v":0},null,null,null,null,null,null,null,null,{"$f":"XJ27+XL27","v":0},null,null,null,null,null,null,{"$f":"XQ27+XS27","v":0},null,null,null,null,null,null,"NOUVEAU MATCH",null,null,null,{"$f":"YB27+YD27","v":0},null,null,null,null,null,null,{"$f":"YI27+YK27","v":0},null,null,null,null,null,null,null,null,{"$f":"YR27+YT27","v":0},null,null,null,null,null,null,{"$f":"YY27+ZA27","v":0},null,null,null,null,null,null,null,null,null,null,{"$f":"ZJ27+ZL27","v":0},null,null,null,null,null,null,{"$f":"ZQ27+ZS27","v":0},null,null,null,null,null,null,null,null,{"$f":"ZZ27+AAB27","v":0},null,null,null,null,null,null,{"$f":"AAG27+AAI27","v":0},null,null,null,null,null,null,"NOUVEAU MATCH",null,null,null,{"$f":"AAR27+AAT27","v":0},null,null,null,null,null,null,{"$f":"AAY27+ABA27","v":0},null,null,null,null,null,null,null,null,{"$f":"ABH27+ABJ27","v":0},null,null,null,null,null,null,{"$f":"ABO27+ABQ27","v":0},null,null,null,null,null,null,"NOUVEAU MATCH",null,null,null,{"$f":"ABZ27+ACB27","v":0},null,null,null,null,null,null,{"$f":"ACG27+ACI27","v":0},null,null,null,null,null,null,null,null,{"$f":"ACP27+ACR27","v":0},null,null,null,null,null,null,{"$f":"ACW27+ACY27","v":0},null,null,null,null,null,null,"NOUVEAU MATCH",null,null,null,{"$f":"ADH27+ADJ27","v":0},null,null,null,null,null,null,{"$f":"ADO27+ADQ27","v":0},null,null,null,null,null,null,null,null,{"$f":"ADX27+ADZ27","v":0},null,null,null,null,null,null,{"$f":"AEE27+AEG27","v":0},null,null,null,null,null,null,"NOUVEAU MATCH"]
[null,null,null,null,null,null,null,null,null,null,null,null,null,null,null,null,null,null,null,null,null,null,null,null,null,null,null,null,null,null,null,null,null,null,null,null,null,null,null,null,null,null,null,null,null,null,null,null,null,null,null,null,null,null,null,null,null,null,null,null,null,null,null,null,null,null,null,null,null,null,null,null,null,null,null,null,null,null,null,null,null,null,null,null,null,null,null,null,null,null,null,null,null,null,null,null,null,null,null,null,null,null,null,null,null,null,null,null,null,null,null,null,null,null,null,null,null,null,null,null,null,null,null,null,null,null,null,null,null,null,null,null,null,null,null,null,null,"NOUVEAU MATCH",null,null,null,null,null,null,null,null,null,null,null,null,null,null,null,null,null,null,null,null,null,null,null,null,null,null,null,null,null,null,null,null,null,null,null,null,null,null,null,null,null,null,null,null,null,null,null,null,null,null,null,null,null,null,null,null,null,null,null,null,null,null,null,null,null,null,null,null,null,null,null,null,null,null,null,null,null,null,null,null,null,null,null,null,null,null,null,null,null,null,null,null,null,null,null,null,null,null,null,null,null,null,null,null,null,null,null,null,null,null,null,null,null,null,null,null,null,null,null,null,null,null,null,null,null,null,null,null,null,null,null,null,null,null,null,null,null,null,null,null,null,null,null,null,null,null,null,null,null,null,null,null,null,null,null,null,null,null,null,null,null,null,null,null,null,null,null,null,null,null,null,null,null,null,null,null,null,null,null,null,null,null,null,null,null,null,null,null,null,null,null,null,null,null,null,null,null,null,null,null,null,null,null,null,null,null,null,null,null,null,null,null,null,null,null,null,null,null,null,null,null,null,null,null,null,null,null,null,null,null,null,null,null,null,null,null,null,null,null,null,null,null,null,null,null,null,null,null,null,null,null,null,null,null,null,null,null,null,null,null,null,null,null,null,null,null,null,null,null,null,null,"NOUVEAU MATCH",null,null,null,null,null,null,null,null,null,null,null,null,null,null,null,null,null,null,null,null,null,null,null,null,null,null,null,null,null,null,null,null,null,null,null,null,null,null,null,null,null,null,null,null,null,null,null,null,null,null,null,null,null,null,null,null,null,null,null,null,null,null,null,null,null,null,null,null,null,null,null,null,null,null,null,null,null,null,null,null,null,null,null,null,null,null,null,null,null,null,null,null,null,null,null,null,null,null,null,null,null,null,null,null,null,null,null,null,null,null,null,null,null,null,null,null,null,null,null,null,null,null,null,null,null,null,null,null,null,null,null,null,null,null,null,null,null,null,null,null,null,null,null,null,null,null,null,null,null,null,null,null,null,null,null,null,null,null,null,null,null,null,null,null,null,null,null,null,null,null,null,null,null,null,null,null,null,null,null,null,null,null,null,null,null,null,null,null,null,null,null,null,null,null,null,null,null,null,null,null,null,null,null,null,null,null,null,null,null,null,null,null,null,null,null,null,null,null,null,null,null,null,null,null,null,null,null,null,null,null,null,null,null,null,null,null,null,null,null,null,null,null,null,null,null,null,null,null,null,null,null,null,null,null,null,null,null,null,null,null,null,null,null,null,null,null,null,null,null,null,null,"NOUVEAU MATCH"]
[null,null,null,null,null,null,null,null,null,null,null,null,null,"score individuel","score cumulé","Score final",null,"DOUBLE",null,null,"Score final",null,"score cumulé","score individuel",null,null,null,null,null,null,null,null,null,null,null,null,null,null,null,null,null,null,null,null,null,null,null,"score individuel","score cumulé","Score final",null,"DOUBLE",null,null,"Score final",null,"score cumulé","score individuel",null,null,null,null,null,null,null,null,null,null,null,null,null,null,null,null,null,null,null,null,null,null,null,"score individuel","score cumulé","Score final",null,"DOUBLE",null,null,"Score final",null,"score cumulé","score individuel",null,null,null,null,null,null,null,null,null,null,null,null,null,null,null,null,null,null,null,null,null,null,null,"score individuel","score cumulé","Score final",null,"DOUBLE",null,null,"Score final",null,"score cumulé","score individuel",null,null,null,null,null,null,null,null,null,null,null,null,null,null,null,null,null,null,null,null,null,null,null,"score individuel","score cumulé","Score final",null,"DOUBLE",null,null,"Score final",null,"score cumulé","score individuel",null,null,null,null,null,null,null,null,null,null,null,null,null,null,null,null,null,null,null,null,null,null,null,"score individuel","score cumulé","Score final",null,"DOUBLE",null,null,"Score final",null,"score cumulé","score individuel",null,null,null,null,null,null,null,null,null,null,null,null,null,null,null,null,null,null,null,null,null,null,null,"score individuel","score cumulé","Score final",null,"DOUBLE",null,null,"Score final",null,"score cumulé","score individuel",null,null,null,null,null,null,null,null,null,null,null,null,null,null,null,null,null,null,null,null,null,null,null,"score individuel","score cumulé","Score final",null,"DOUBLE",null,null,"Score final",null,"score cumulé","score individuel",null,null,null,null,null,null,null,null,null,null,null,null,null,null,null,null,null,null,null,null,null,null,null,"score individuel","score cumulé","Score final",null,"DOUBLE",null,null,"Score final",null,"score cumulé","score individuel",null,null,null,null,null,null,null,null,null,null,null,null,null,null,null,null,null,null,null,null,null,null,null,"score individuel","score cumulé","Score final",null,"DOUBLE",null,null,"Score final",null,"score cumulé","score individuel",null,null,null,null,null,null,null,null,null,null,null,null,null,null,null,null,null,null,null,null,null,null,null,"score individuel","score cumulé","Score final",null,"DOUBLE",null,null,"Score final",null,"score cumulé","score individuel",null,null,null,null,null,null,null,null,null,null,null,null,null,null,null,null,null,null,null,null,null,null,null,"score individuel","score cumulé","Score final",null,"DOUBLE",null,null,"Score final",null,"score cumulé","score individuel",null,null,null,null,null,null,null,null,null,null,null,null,null,null,null,null,null,null,null,null,null,null,null,"score individuel","score cumulé","Score final",null,"DOUBLE",null,null,"Score final",null,"score cumulé","score individuel",null,null,null,null,null,null,null,null,null,null,null,null,null,null,null,null,null,null,null,null,null,null,null,"score individuel","score cumulé","Score final",null,"DOUBLE",null,null,"Score final",null,"score cumulé","score individuel",null,null,null,null,null,null,null,null,null,null,null,null,null,null,null,null,null,null,null,null,null,null,null,"score individuel","score cumulé","Score final",null,"DOUBLE",null,null,"Score final",null,"score cumulé","score individuel",null,null,null,null,null,null,null,null,null,null,null,null,null,null,null,null,null,null,null,null,null,null,null,"score individuel","score cumulé","Score final",null,"DOUBLE",null,null,"Score final",null,"score cumulé","score individuel",null,null,null,null,null,null,null,null,null,null,null,null,null,null,null,null,null,null,null,null,null,null,null,"score individuel","score cumulé","Score final",null,"DOUBLE",null,null,"Score final",null,"score cumulé","score individuel",null,null,null,null,null,null,null,null,null,null,null,null,null,null,null,null,null,null,null,null,null,null,null,"score individuel","score cumulé","Score final",null,"DOUBLE",null,null,"Score final",null,"score cumulé","score individuel",null,null,null,null,null,null,null,null,null,null,null,null,null,null,null,null,null,null,null,null,null,null,null,"score individuel","score cumulé","Score final",null,"DOUBLE",null,null,"Score final",null,"score cumulé","score individuel",null,null,null,null,null,null,null,null,null,null,null,null,null,null,null,null,null,null,null,null,null,null,null,"score individuel","score cumulé","Score final",null,"DOUBLE",null,null,"Score final",null,"score cumulé","score individuel",null,null,null,null,null,null,null,null,null,null,null,null,null,null,null,null,null,null,null,null,null,null,null,"score individuel","score cumulé","Score final",null,"DOUBLE",null,null,"Score final",null,"score cumulé","score individuel",null,null,null,null,null,null,null,null,null,null,null,null,null,null,null,null,null,null,null,null,null,null,null,"score individuel","score cumulé","Score final",null,"DOUBLE",null,null,"Score final",null,"score cumulé","score individuel",null,null,null,null,null,null,null,null,null,null,null,null,null,null,null,null,null,null,null,null,null,null,null,"score individuel","score cumulé","Score final",null,"DOUBLE",null,null,"Score final",null,"score cumulé","score individuel",null,null,null,null,null,null,null,null,null,null,null,null,null,null,null,null,null,null,null,null,null,null,null,"score individuel","score cumulé","Score final",null,"DOUBLE",null,null,"Score final",null,"score cumulé","score individuel"]
[null,null,null,null,null,null,null,null,null,null,null,null,{"$f":"F2","v":" "},{"$f":"F28","v":0},{"$f":"N31+N33","v":0},null,null,null,null,null,null,null,{"$f":"X31+X33","v":0},{"$f":"M28","v":0},{"$f":"M2","v":"Alaeddine"},null,null,null,null,null,null,null,null,null,null,null,null,null,null,null,null,null,null,null,null,null,{"$f":"AN2","v":0},{"$f":"AN28","v":0},{"$f":"AV31+AV33","v":0},null,null,null,null,null,null,null,{"$f":"BF31+BF33","v":0},{"$f":"AU28","v":0},{"$f":"AU2","v":0},null,null,null,null,null,null,null,null,null,null,null,null,null,null,null,null,null,null,null,null,null,{"$f":"BV2","v":0},{"$f":"BV28","v":0},{"$f":"CD31+CD33","v":0},null,null,null,null,null,null,null,{"$f":"CN31+CN33","v":0},{"$f":"CC28","v":0},{"$f":"CC2","v":0},null,null,null,null,null,null,null,null,null,null,null,null,null,null,null,null,null,null,null,null,null,{"$f":"DD2","v":0},{"$f":"DD28","v":0},{"$f":"DL31+DL33","v":0},null,null,null,null,null,null,null,{"$f":"DV31+DV33","v":0},{"$f":"DK28","v":0},{"$f":"DK2","v":0},null,null,null,null,null,null,null,null,null,null,null,null,null,null,null,null,null,null,null,null,null,{"$f":"EL2","v":0},{"$f":"EL28","v":0},{"$f":"ET31+ET33","v":0},null,null,null,null,null,null,null,{"$f":"FD31+FD33","v":0},{"$f":"ES28","v":0},{"$f":"ES2","v":0},null,null,null,null,null,null,null,null,null,null,null,null,null,null,null,null,null,null,null,null,null,{"$f":"FT2","v":0},{"$f":"FT28","v":0},{"$f":"GB31+GB33","v":0},null,null,null,null,null,null,null,{"$f":"GL31+GL33","v":0},{"$f":"GA28","v":0},{"$f":"GA2","v":0},null,null,null,null,null,null,null,null,null,null,null,null,null,null,null,null,null,null,null,null,null,{"$f":"HB2","v":0},{"$f":"HB28","v":0},{"$f":"HJ31+HJ33","v":0},null,null,null,null,null,null,null,{"$f":"HT31+HT33","v":0},{"$f":"HI28","v":0},{"$f":"HI2","v":0},null,null,null,null,null,null,null,null,null,null,null,null,null,null,null,null,null,null,null,null,null,{"$f":"IJ2","v":0},{"$f":"IJ28","v":0},{"$f":"IR31+IR33","v":0},null,null,null,null,null,null,null,{"$f":"JB31+JB33","v":0},{"$f":"IQ28","v":0},{"$f":"IQ2","v":0},null,null,null,null,null,null,null,null,null,null,null,null,null,null,null,null,null,null,null,null,null,{"$f":"JR2","v":0},{"$f":"JR28","v":0},{"$f":"JZ31+JZ33","v":0},null,null,null,null,null,null,null,{"$f":"KJ31+KJ33","v":0},{"$f":"JY28","v":0},{"$f":"JY2","v":0},null,null,null,null,null,null,null,null,null,null,null,null,null,null,null,null,null,null,null,null,null,{"$f":"KZ2","v":0},{"$f":"KZ28","v":0},{"$f":"LH31+LH33","v":0},null,null,null,null,null,null,null,{"$f":"LR31+LR33","v":0},{"$f":"LG28","v":0},{"$f":"LG2","v":0},null,null,null,null,null,null,null,null,null,null,null,null,null,null,null,null,null,null,null,null,null,{"$f":"MH2","v":0},{"$f":"MH28","v":0},{"$f":"MP31+MP33","v":0},null,null,null,null,null,null,null,{"$f":"MZ31+MZ33","v":0},{"$f":"MO28","v":0},{"$f":"MO2","v":0},null,null,null,null,null,null,null,null,null,null,null,null,null,null,null,null,null,null,null,null,null,{"$f":"NP2","v":0},{"$f":"NP28","v":0},{"$f":"NX31+NX33","v":0},null,null,null,null,null,null,null,{"$f":"OH31+OH33","v":0},{"$f":"NW28","v":0},{"$f":"NW2","v":0},null,null,null,null,null,null,null,null,null,null,null,null,null,null,null,null,null,null,null,null,null,{"$f":"OX2","v":0},{"$f":"OX28","v":0},{"$f":"PF31+PF33","v":0},null,null,null,null,null,null,null,{"$f":"PP31+PP33","v":0},{"$f":"PE28","v":0},{"$f":"PE2","v":0},null,null,null,null,null,null,null,null,null,null,null,null,null,null,null,null,null,null,null,null,null,{"$f":"QF2","v":0},{"$f":"QF28","v":0},{"$f":"QN31+QN33","v":0},null,null,null,null,null,null,null,{"$f":"QX31+QX33","v":0},{"$f":"QM28","v":0},{"$f":"QM2","v":0},null,null,null,null,null,null,null,null,null,null,null,null,null,null,null,null,null,null,null,null,null,{"$f":"RN2","v":0},{"$f":"RN28","v":0},{"$f":"RV31+RV33","v":0},null,null,null,null,null,null,null,{"$f":"SF31+SF33","v":0},{"$f":"RU28","v":0},{"$f":"RU2","v":0},null,null,null,null,null,null,null,null,null,null,null,null,null,null,null,null,null,null,null,null,null,{"$f":"SV2","v":0},{"$f":"SV28","v":0},{"$f":"TD31+TD33","v":0},null,null,null,null,null,null,null,{"$f":"TN31+TN33","v":0},{"$f":"TC28","v":0},{"$f":"TC2","v":0},null,null,null,null,null,null,null,null,null,null,null,null,null,null,null,null,null,null,null,null,null,{"$f":"UD2","v":"Ensar"},{"$f":"UD28","v":0},{"$f":"UL31+UL33","v":0},null,null,null,null,null,null,null,{"$f":"UV31+UV33","v":0},{"$f":"UK28","v":0},{"$f":"UK2","v":"Alaeddine"},null,null,null,null,null,null,null,null,null,null,null,null,null,null,null,null,null,null,null,null,null,{"$f":"VL2","v":0},{"$f":"VL28","v":0},{"$f":"VT31+VT33","v":0},null,null,null,null,null,null,null,{"$f":"WD31+WD33","v":0},{"$f":"VS28","v":0},{"$f":"VS2","v":0},null,null,null,null,null,null,null,null,null,null,null,null,null,null,null,null,null,null,null,null,null,{"$f":"WT2","v":0},{"$f":"WT28","v":0},{"$f":"XB31+XB33","v":0},null,null,null,null,null,null,null,{"$f":"XL31+XL33","v":0},{"$f":"XA28","v":0},{"$f":"XA2","v":0},null,null,null,null,null,null,null,null,null,null,null,null,null,null,null,null,null,null,null,null,null,{"$f":"YB2","v":0},{"$f":"YB28","v":0},{"$f":"YJ31+YJ33","v":0},null,null,null,null,null,null,null,{"$f":"YT31+YT33","v":0},{"$f":"YI28","v":0},{"$f":"YI2","v":0},null,null,null,null,null,null,null,null,null,null,null,null,null,null,null,null,null,null,null,null,null,{"$f":"ZJ2","v":0},{"$f":"ZJ28","v":0},{"$f":"ZR31+ZR33","v":0},null,null,null,null,null,null,null,{"$f":"AAB31+AAB33","v":0},{"$f":"ZQ28","v":0},{"$f":"ZQ2","v":0},null,null,null,null,null,null,null,null,null,null,null,null,null,null,null,null,null,null,null,null,null,{"$f":"AAR2","v":0},{"$f":"AAR28","v":0},{"$f":"AAZ31+AAZ33","v":0},null,null,null,null,null,null,null,{"$f":"ABJ31+ABJ33","v":0},{"$f":"AAY28","v":0},{"$f":"AAY2","v":0},null,null,null,null,null,null,null,null,null,null,null,null,null,null,null,null,null,null,null,null,null,{"$f":"ABZ2","v":0},{"$f":"ABZ28","v":0},{"$f":"ACH31+ACH33","v":0},null,null,null,null,null,null,null,{"$f":"ACR31+ACR33","v":0},{"$f":"ACG28","v":0},{"$f":"ACG2","v":0},null,null,null,null,null,null,null,null,null,null,null,null,null,null,null,null,null,null,null,null,null,{"$f":"ADH2","v":0},{"$f":"ADH28","v":0},{"$f":"ADP31+ADP33","v":0},null,null,null,null,null,null,null,{"$f":"ADZ31+ADZ33","v":0},{"$f":"ADO28","v":0},{"$f":"ADO2","v":0}]
[null,null,null,null,null,null,null,null,null,null,null,null,null,"+",null,null,null,null,"-",null,null,null,null,"+",null,null,null,null,null,null,null,null,null,null,null,null,null,null,null,null,null,null,null,null,null,null,null,"+",null,null,null,null,null,null,null,null,null,"+",null,null,null,null,null,null,null,null,null,null,null,null,null,null,null,null,null,null,null,null,null,null,null,"+",null,null,null,null,null,null,null,null,null,"+",null,null,null,null,null,null,null,null,null,null,null,null,null,null,null,null,null,null,null,null,null,null,null,"+",null,null,null,null,null,null,null,null,null,"+",null,null,null,null,null,null,null,null,null,null,null,null,null,null,null,null,null,null,null,null,null,null,null,"+",null,null,null,null,null,null,null,null,null,"+",null,null,null,null,null,null,null,null,null,null,null,null,null,null,null,null,null,null,null,null,null,null,null,"+",null,null,null,null,null,null,null,null,null,"+",null,null,null,null,null,null,null,null,null,null,null,null,null,null,null,null,null,null,null,null,null,null,null,"+",null,null,null,null,null,null,null,null,null,"+",null,null,null,null,null,null,null,null,null,null,null,null,null,null,null,null,null,null,null,null,null,null,null,"+",null,null,null,null,null,null,null,null,null,"+",null,null,null,null,null,null,null,null,null,null,null,null,null,null,null,null,null,null,null,null,null,null,null,"+",null,null,null,null,"-",null,null,null,null,"+",null,null,null,null,null,null,null,null,null,null,null,null,null,null,null,null,null,null,null,null,null,null,null,"+",null,null,null,null,null,null,null,null,null,"+",null,null,null,null,null,null,null,null,null,null,null,null,null,null,null,null,null,null,null,null,null,null,null,"+",null,null,null,null,null,null,null,null,null,"+",null,null,null,null,null,null,null,null,null,null,null,null,null,null,null,null,null,null,null,null,null,null,null,"+",null,null,null,null,null,null,null,null,null,"+",null,null,null,null,null,null,null,null,null,null,null,null,null,null,null,null,null,null,null,null,null,null,null,"+",null,null,null,null,null,null,null,null,null,"+",null,null,null,null,null,null,null,null,null,null,null,null,null,null,null,null,null,null,null,null,null,null,null,"+",null,null,null,null,null,null,null,null,null,"+",null,null,null,null,null,null,null,null,null,null,null,null,null,null,null,null,null,null,null,null,null,null,null,"+",null,null,null,null,null,null,null,null,null,"+",null,null,null,null,null,null,null,null,null,null,null,null,null,null,null,null,null,null,null,null,null,null,null,"+",null,null,null,null,null,null,null,null,null,"+",null,null,null,null,null,null,null,null,null,null,null,null,null,null,null,null,null,null,null,null,null,null,null,"+",null,null,null,null,"-",null,null,null,null,"+",null,null,null,null,null,null,null,null,null,null,null,null,null,null,null,null,null,null,null,null,null,null,null,"+",null,null,null,null,null,null,null,null,null,"+",null,null,null,null,null,null,null,null,null,null,null,null,null,null,null,null,null,null,null,null,null,null,null,"+",null,null,null,null,null,null,null,null,null,"+",null,null,null,null,null,null,null,null,null,null,null,null,null,null,null,null,null,null,null,null,null,null,null,"+",null,null,null,null,null,null,null,null,null,"+",null,null,null,null,null,null,null,null,null,null,null,null,null,null,null,null,null,null,null,null,null,null,null,"+",null,null,null,null,null,null,null,null,null,"+",null,null,null,null,null,null,null,null,null,null,null,null,null,null,null,null,null,null,null,null,null,null,null,"+",null,null,null,null,null,null,null,null,null,"+",null,null,null,null,null,null,null,null,null,null,null,null,null,null,null,null,null,null,null,null,null,null,null,"+",null,null,null,null,null,null,null,null,null,"+",null,null,null,null,null,null,null,null,null,null,null,null,null,null,null,null,null,null,null,null,null,null,null,"+",null,null,null,null,null,null,null,null,null,"+"]
[null,null,null,null,null,null,null,null,null,null,null,null,{"$f":"V2","v":"Amadou"},{"$f":"V28","v":0},null,null,null,null,null,null,null,null,null,{"$f":"AC28","v":0},{"$f":"AC2","v":"Alpha Oumar"},null,null,null,null,null,null,null,null,null,null,null,null,null,null,null,null,null,null,null,null,null,{"$f":"BD2","v":0},{"$f":"BD28","v":0},null,null,null,null,null,null,null,null,null,{"$f":"BK28","v":0},{"$f":"BK2","v":0},null,null,null,null,null,null,null,null,null,null,null,null,null,null,null,null,null,null,null,null,null,{"$f":"CL2","v":0},{"$f":"CL28","v":0},null,null,null,null,null,null,null,null,null,{"$f":"CS28","v":0},{"$f":"CS2","v":0},null,null,null,null,null,null,null,null,null,null,null,null,null,null,null,null,null,null,null,null,null,{"$f":"DT2","v":0},{"$f":"DT28","v":0},null,null,null,null,null,null,null,null,null,{"$f":"EA28","v":0},{"$f":"EA2","v":0},null,null,null,null,null,null,null,null,null,null,null,null,null,null,null,null,null,null,null,null,null,{"$f":"FB2","v":0},{"$f":"FB28","v":0},null,null,null,null,null,null,null,null,null,{"$f":"FI28","v":0},{"$f":"FI2","v":0},null,null,null,null,null,null,null,null,null,null,null,null,null,null,null,null,null,null,null,null,null,{"$f":"GJ2","v":0},{"$f":"GJ28","v":0},null,null,null,null,null,null,null,null,null,{"$f":"GQ28","v":0},{"$f":"GQ2","v":0},null,null,null,null,null,null,null,null,null,null,null,null,null,null,null,null,null,null,null,null,null,{"$f":"HR2","v":0},{"$f":"HR28","v":0},null,null,null,null,null,null,null,null,null,{"$f":"HY28","v":0},{"$f":"HY2","v":0},null,null,null,null,null,null,null,null,null,null,null,null,null,null,null,null,null,null,null,null,null,{"$f":"IZ2","v":0},{"$f":"IZ28","v":0},null,null,null,null,null,null,null,null,null,{"$f":"JG28","v":0},{"$f":"JG2","v":0},null,null,null,null,null,null,null,null,null,null,null,null,null,null,null,null,null,null,null,null,null,{"$f":"KH2","v":0},{"$f":"KH28","v":0},null,null,null,null,null,null,null,null,null,{"$f":"KO28","v":0},{"$f":"KO2","v":0},null,null,null,null,null,null,null,null,null,null,null,null,null,null,null,null,null,null,null,null,null,{"$f":"LP2","v":0},{"$f":"LP28","v":0},null,null,null,null,null,null,null,null,null,{"$f":"LW28","v":0},{"$f":"LW2","v":0},null,null,null,null,null,null,null,null,null,null,null,null,null,null,null,null,null,null,null,null,null,{"$f":"MX2","v":0},{"$f":"MX28","v":0},null,null,null,null,null,null,null,null,null,{"$f":"NE28","v":0},{"$f":"NE2","v":0},null,null,null,null,null,null,null,null,null,null,null,null,null,null,null,null,null,null,null,null,null,{"$f":"OF2","v":0},{"$f":"OF28","v":0},null,null,null,null,null,null,null,null,null,{"$f":"OM28","v":0},{"$f":"OM2","v":0},null,null,null,null,null,null,null,null,null,null,null,null,null,null,null,null,null,null,null,null,null,{"$f":"PN2","v":0},{"$f":"PN28","v":0},null,null,null,null,null,null,null,null,null,{"$f":"PU28","v":0},{"$f":"PU2","v":0},null,null,null,null,null,null,null,null,null,null,null,null,null,null,null,null,null,null,null,null,null,{"$f":"QV2","v":0},{"$f":"QV28","v":0},null,null,null,null,null,null,null,null,null,{"$f":"RC28","v":0},{"$f":"RC2","v":0},null,null,null,null,null,null,null,null,null,null,null,null,null,null,null,null,null,null,null,null,null,{"$f":"SD2","v":0},{"$f":"SD28","v":0},null,null,null,null,null,null,null,null,null,{"$f":"SK28","v":0},{"$f":"SK2","v":0},null,null,null,null,null,null,null,null,null,null,null,null,null,null,null,null,null,null,null,null,null,{"$f":"TL2","v":0},{"$f":"TL28","v":0},null,null,null,null,null,null,null,null,null,{"$f":"TS28","v":0},{"$f":"TS2","v":0},null,null,null,null,null,null,null,null,null,null,null,null,null,null,null,null,null,null,null,null,null,{"$f":"UT2","v":"Amadou"},{"$f":"UT28","v":0},null,null,null,null,null,null,null,null,null,{"$f":"VA28","v":0},{"$f":"VA2","v":"Alpha Oumar"},null,null,null,null,null,null,null,null,null,null,null,null,null,null,null,null,null,null,null,null,null,{"$f":"WB2","v":0},{"$f":"WB28","v":0},null,null,null,null,null,null,null,null,null,{"$f":"WI28","v":0},{"$f":"WI2","v":0},null,null,null,null,null,null,null,null,null,null,null,null,null,null,null,null,null,null,null,null,null,{"$f":"XJ2","v":0},{"$f":"XJ28","v":0},null,null,null,null,null,null,null,null,null,{"$f":"XQ28","v":0},{"$f":"XQ2","v":0},null,null,null,null,null,null,null,null,null,null,null,null,null,null,null,null,null,null,null,null,null,{"$f":"YR2","v":0},{"$f":"YR28","v":0},null,null,null,null,null,null,null,null,null,{"$f":"YY28","v":0},{"$f":"YY2","v":0},null,null,null,null,null,null,null,null,null,null,null,null,null,null,null,null,null,null,null,null,null,{"$f":"ZZ2","v":0},{"$f":"ZZ28","v":0},null,null,null,null,null,null,null,null,null,{"$f":"AAG28","v":0},{"$f":"AAG2","v":0},null,null,null,null,null,null,null,null,null,null,null,null,null,null,null,null,null,null,null,null,null,{"$f":"ABH2","v":0},{"$f":"ABH28","v":0},null,null,null,null,null,null,null,null,null,{"$f":"ABO28","v":0},{"$f":"ABO2","v":0},null,null,null,null,null,null,null,null,null,null,null,null,null,null,null,null,null,null,null,null,null,{"$f":"ACP2","v":0},{"$f":"ACP28","v":0},null,null,null,null,null,null,null,null,null,{"$f":"ACW28","v":0},{"$f":"ACW2","v":0},null,null,null,null,null,null,null,null,null,null,null,null,null,null,null,null,null,null,null,null,null,{"$f":"ADX2","v":0},{"$f":"ADX28","v":0},null,null,null,null,null,null,null,null,null,{"$f":"AEE28","v":0},{"$f":"AEE2","v":0}]

{"sheet":"MATCHS STRATEGIQUES","index":8,"n_rows":63,"n_cols":818,"rows_kept":63,"cut":false,"hidden":false,"merged":[[58,39,58,42],[58,46,58,49],[43,22,45,22],[43,20,45,21],[42,20,42,21],[50,5,50,8],[51,5,51,8],[50,21,50,24],[51,21,51,24],[50,12,50,15],[51,12,51,15],[50,28,50,31],[51,28,51,31],[43,14,45,14],[43,15,45,16],[42,17,42,19],[42,15,42,16],[49,12,49,15],[57,46,57,49],[18,28,18,31],[26,21,26,24],[26,28,26,31],[19,21,19,24],[19,28,19,31],[55,21,55,24],[55,28,55,31],[56,21,56,24],[56,28,56,31],[48,21,48,24],[48,28,48,31],[49,21,49,24],[49,28,49,31],[53,21,53,24],[53,28,53,31],[60,21,60,24],[60,28,60,31],[57,21,57,24],[57,28,57,31],[58,21,58,24],[58,28,58,31],[59,21,59,24],[59,28,59,31],[54,21,54,24],[54,28,54,31],[10,21,10,24],[10,28,10,31],[15,21,15,24],[15,28,15,31],[16,21,16,24],[16,28,16,31],[53,1,63,1],[1,21,1,24],[1,28,1,31],[4,21,4,24],[4,28,4,31],[5,21,5,24],[5,28,5,31],[6,21,6,24],[6,28,6,31],[7,21,7,24],[7,28,7,31],[8,21,8,24],[8,28,8,31],[9,21,9,24],[9,28,9,31],[16,5,16,8],[17,5,17,8],[27,21,27,22],[27,23,27,24],[27,28,27,29],[27,30,27,31],[40,21,40,23],[40,28,40,30],[17,21,17,24],[17,28,17,31],[18,21,18,24],[60,5,60,8],[53,5,53,8],[54,5,54,8],[56,5,56,8],[57,5,57,8],[58,5,58,8],[59,5,59,8],[10,5,10,8],[15,5,15,8],[19,5,19,8],[4,5,4,8],[5,5,5,8],[6,5,6,8],[7,5,7,8],[8,5,8,8],[9,5,9,8],[4,1,14,1],[9,12,9,15],[10,12,10,15],[15,12,15,15],[16,12,16,15],[17,12,17,15],[18,12,18,15],[26,12,26,15],[27,12,27,13],[27,14,27,15],[40,12,40,14],[48,12,48,15],[17,1,24,1],[27,5,27,6],[27,7,27,8],[40,5,40,7],[48,5,48,8],[18,5,18,8],[26,5,26,8],[19,12,19,15],[0,17,1,19],[4,35,15,35],[16,35,27,35],[28,35,39,35],[40,35,51,35],[52,35,65,35],[48,1,51,1],[61,5,61,8],[62,5,62,8],[61,12,61,15],[62,12,62,15],[61,21,61,24],[61,28,61,31],[62,21,62,24],[62,28,62,31],[59,12,59,15],[60,12,60,15],[53,12,53,15],[54,12,54,15],[55,12,55,15],[56,12,56,15],[57,12,57,15],[58,12,58,15],[1,5,1,8],[1,12,1,15],[4,12,4,15],[5,12,5,15],[6,12,6,15],[7,12,7,15],[8,12,8,15],[49,5,49,8],[55,5,55,8],[16,73,16,76],[16,80,16,83],[16,89,16,92],[16,96,16,99],[0,85,1,87],[1,73,1,76],[1,80,1,83],[1,89,1,92],[1,96,1,99],[51,55,51,58],[51,62,51,65],[53,55,53,58],[53,62,53,65],[54,55,54,58],[54,62,54,65],[16,39,16,42],[16,46,16,49],[16,55,16,58],[16,62,16,65],[17,39,17,42],[17,46,17,49],[17,55,17,58],[0,51,1,53],[26,39,26,42],[26,46,26,49],[40,39,40,41],[40,46,40,48],[48,39,48,42],[48,46,48,49],[51,39,51,42],[51,46,51,49],[53,39,53,42],[1,141,1,144],[1,157,1,160],[4,141,4,144],[4,157,4,160],[0,153,1,155],[59,107,59,110],[59,114,59,117],[59,123,59,126],[49,107,49,110],[49,114,49,117],[49,123,49,126],[51,107,51,110],[51,114,51,117],[51,123,51,126],[42,117,42,118],[43,117,45,118],[27,109,27,110],[27,125,27,126],[10,107,10,110],[10,114,10,117],[10,123,10,126],[16,107,16,110],[16,114,16,117],[16,123,16,126],[19,123,19,126],[27,114,27,115],[27,116,27,117],[27,123,27,124],[0,119,1,121],[1,107,1,110],[1,114,1,117],[1,123,1,126],[15,141,15,144],[15,157,15,160],[16,141,16,144],[16,157,16,160],[4,137,15,137],[7,148,7,151],[9,148,9,151],[15,148,15,151],[5,141,5,144],[5,157,5,160],[6,141,6,144],[6,157,6,160],[7,141,7,144],[7,157,7,160],[8,141,8,144],[8,157,8,160],[9,141,9,144],[9,157,9,160],[10,141,10,144],[16,148,16,151],[50,141,50,144],[50,157,50,160],[51,141,51,144],[51,157,51,160],[50,148,50,151],[27,159,27,160],[40,141,40,143],[40,157,40,159],[42,151,42,152],[43,137,43,140],[45,137,45,140],[48,141,48,144],[48,157,48,160],[17,141,17,144],[17,157,17,160],[18,141,18,144],[18,157,18,160],[19,141,19,144],[19,157,19,160],[26,141,26,144],[26,157,26,160],[27,141,27,142],[27,143,27,144],[27,150,27,151],[27,157,27,158],[26,148,26,151],[19,148,19,151],[43,158,45,158],[1,39,1,42],[1,46,1,49],[1,55,1,58],[1,62,1,65],[4,39,4,42],[4,46,4,49],[4,55,4,58],[4,62,4,65],[5,39,5,42],[5,46,5,49],[5,55,5,58],[5,62,5,65],[58,157,58,160],[59,141,59,144],[59,157,59,160],[60,141,60,144],[60,157,60,160],[58,148,58,151],[60,148,60,151],[53,141,53,144],[53,157,53,160],[54,141,54,144],[54,157,54,160],[55,141,55,144],[55,157,55,160],[56,141,56,144],[56,157,56,160],[57,141,57,144],[57,157,57,160],[58,141,58,144],[49,141,49,144],[49,157,49,160],[9,39,9,42],[9,46,9,49],[9,55,9,58],[9,62,9,65],[10,39,10,42],[10,46,10,49],[10,55,10,58],[10,62,10,65],[15,39,15,42],[15,46,15,49],[15,55,15,58],[15,62,15,65],[6,39,6,42],[6,46,6,49],[6,55,6,58],[6,62,6,65],[7,39,7,42],[7,46,7,49],[7,55,7,58],[7,62,7,65],[8,39,8,42],[8,46,8,49],[8,55,8,58],[8,62,8,65],[26,55,26,58],[26,62,26,65],[27,39,27,40],[27,41,27,42],[27,46,27,47],[27,48,27,49],[27,55,27,56],[27,57,27,58],[27,62,27,63],[27,64,27,65],[17,62,17,65],[18,39,18,42],[18,46,18,49],[18,55,18,58],[18,62,18,65],[19,39,19,42],[19,46,19,49],[19,55,19,58],[19,62,19,65],[57,55,57,58],[57,62,57,65],[48,55,48,58],[48,62,48,65],[49,39,49,42],[49,46,49,49],[49,55,49,58],[49,62,49,65],[50,39,50,42],[50,46,50,49],[50,55,50,58],[50,62,50,65],[40,55,40,57],[40,62,40,64],[42,49,42,50],[42,51,42,53],[42,54,42,55],[43,48,45,48],[43,49,45,50],[43,54,45,55],[43,56,45,56],[53,46,53,49],[54,39,54,42],[54,46,54,49],[55,39,55,42],[55,46,55,49],[6,107,6,110],[6,114,6,117],[61,39,61,42],[61,46,61,49],[61,55,61,58],[61,62,61,65],[62,39,62,42],[62,46,62,49],[62,55,62,58],[62,62,62,65],[4,69,15,69],[16,69,27,69],[28,69,39,69],[40,69,51,69],[52,69,65,69],[58,55,58,58],[58,62,58,65],[59,39,59,42],[59,46,59,49],[59,55,59,58],[59,62,59,65],[60,39,60,42],[60,46,60,49],[60,55,60,58],[60,62,60,65],[55,55,55,58],[55,62,55,65],[56,39,56,42],[56,46,56,49],[56,55,56,58],[56,62,56,65],[57,39,57,42],[6,123,6,126],[6,130,6,133],[7,73,7,76],[7,80,7,83],[7,89,7,92],[7,96,7,99],[7,107,7,110],[7,114,7,117],[7,123,7,126],[7,130,7,133],[1,130,1,133],[4,73,4,76],[4,80,4,83],[4,89,4,92],[4,96,4,99],[4,103,15,103],[4,107,4,110],[4,114,4,117],[4,123,4,126],[4,130,4,133],[5,73,5,76],[5,80,5,83],[5,89,5,92],[5,96,5,99],[5,107,5,110],[5,114,5,117],[5,123,5,126],[5,130,5,133],[6,73,6,76],[6,80,6,83],[6,89,6,92],[6,96,6,99],[19,107,19,110],[19,114,19,117],[10,130,10,133],[15,73,15,76],[15,80,15,83],[15,89,15,92],[15,96,15,99],[15,107,15,110],[15,114,15,117],[15,123,15,126],[15,130,15,133],[8,73,8,76],[8,80,8,83],[8,89,8,92],[8,96,8,99],[8,107,8,110],[8,114,8,117],[8,123,8,126],[8,130,8,133],[9,73,9,76],[9,80,9,83],[9,89,9,92],[9,96,9,99],[9,107,9,110],[9,114,9,117],[9,123,9,126],[9,130,9,133],[16,103,27,103],[10,73,10,76],[10,80,10,83],[10,89,10,92],[10,96,10,99],[27,107,27,108],[19,130,19,133],[26,73,26,76],[26,80,26,83],[26,89,26,92],[26,96,26,99],[26,107,26,110],[26,114,26,117],[26,123,26,126],[26,130,26,133],[16,130,16,133],[16,137,27,137],[17,73,17,76],[17,80,17,83],[17,89,17,92],[17,96,17,99],[17,107,17,110],[17,114,17,117],[17,123,17,126],[17,130,17,133],[18,73,18,76],[18,80,18,83],[18,89,18,92],[18,96,18,99],[18,107,18,110],[18,114,18,117],[18,123,18,126],[18,130,18,133],[19,73,19,76],[19,80,19,83],[19,89,19,92],[19,96,19,99],[27,130,27,131],[27,132,27,133],[28,103,39,103],[28,137,39,137],[40,73,40,75],[40,80,40,82],[40,89,40,91],[40,96,40,98],[40,103,51,103],[40,107,40,109],[40,114,40,116],[40,123,40,125],[40,130,40,132],[42,83,42,84],[42,85,42,87],[42,88,42,89],[42,119,42,121],[42,122,42,123],[43,82,45,82],[43,83,45,84],[43,88,45,89],[43,90,45,90],[43,116,45,116],[43,122,45,123],[27,73,27,74],[27,75,27,76],[27,80,27,81],[27,82,27,83],[27,89,27,90],[27,91,27,92],[27,96,27,97],[27,98,27,99],[49,130,49,133],[50,73,50,76],[50,80,50,83],[50,89,50,92],[50,96,50,99],[50,107,50,110],[50,114,50,117],[50,123,50,126],[50,130,50,133],[43,124,45,124],[48,73,48,76],[48,80,48,83],[48,89,48,92],[48,96,48,99],[48,107,48,110],[48,114,48,117],[48,123,48,126],[48,130,48,133],[49,73,49,76],[49,80,49,83],[49,89,49,92],[49,96,49,99],[51,130,51,133],[52,103,65,103],[52,137,65,137],[53,73,53,76],[53,80,53,83],[53,89,53,92],[53,96,53,99],[53,107,53,110],[53,114,53,117],[53,123,53,126],[53,130,53,133],[54,73,54,76],[54,80,54,83],[54,89,54,92],[54,96,54,99],[54,107,54,110],[54,114,54,117],[54,123,54,126],[54,130,54,133],[55,73,55,76],[55,80,55,83],[55,89,55,92],[55,96,55,99],[55,107,55,110],[59,73,59,76],[59,80,59,83],[59,89,59,92],[59,96,59,99],[51,73,51,76],[51,80,51,83],[51,89,51,92],[51,96,51,99],[57,73,57,76],[57,80,57,83],[57,89,57,92],[57,96,57,99],[57,107,57,110],[57,114,57,117],[57,123,57,126],[57,130,57,133],[58,73,58,76],[58,80,58,83],[58,89,58,92],[58,96,58,99],[58,107,58,110],[58,114,58,117],[58,123,58,126],[58,130,58,133],[55,114,55,117],[55,123,55,126],[55,130,55,133],[56,73,56,76],[56,80,56,83],[56,89,56,92],[56,96,56,99],[56,107,56,110],[56,114,56,117],[56,123,56,126],[56,130,56,133],[1,198,1,201],[1,209,1,212],[1,216,1,219],[1,225,1,228],[1,232,1,235],[1,243,1,246],[1,250,1,253],[61,73,61,76],[61,80,61,83],[61,89,61,92],[61,96,61,99],[61,107,61,110],[61,114,61,117],[61,123,61,126],[61,130,61,133],[62,73,62,76],[62,80,62,83],[62,89,62,92],[62,96,62,99],[62,107,62,110],[62,114,62,117],[62,123,62,126],[62,130,62,133],[59,130,59,133],[60,73,60,76],[60,80,60,83],[60,89,60,92],[60,96,60,99],[60,107,60,110],[60,114,60,117],[60,123,60,126],[60,130,60,133],[1,259,1,262],[1,266,1,269],[4,148,4,151],[4,164,4,167],[4,171,15,171],[4,175,4,178],[4,182,4,185],[4,191,4,194],[4,198,4,201],[4,205,15,205],[4,209,4,212],[4,216,4,219],[4,225,4,228],[4,232,4,235],[4,239,15,239],[4,243,4,246],[4,250,4,253],[4,259,4,262],[4,266,4,269],[6,232,6,235],[6,243,6,246],[6,250,6,253],[6,259,6,262],[6,266,6,269],[0,187,1,189],[0,221,1,223],[0,255,1,257],[1,148,1,151],[1,164,1,167],[1,175,1,178],[1,182,1,185],[1,191,1,194],[4,273,15,273],[5,148,5,151],[5,164,5,167],[5,175,5,178],[5,182,5,185],[5,191,5,194],[5,198,5,201],[5,209,5,212],[5,216,5,219],[5,225,5,228],[5,232,5,235],[5,243,5,246],[5,250,5,253],[5,259,5,262],[5,266,5,269],[6,148,6,151],[6,164,6,167],[6,175,6,178],[6,182,6,185],[6,191,6,194],[6,198,6,201],[6,209,6,212],[6,216,6,219],[6,225,6,228],[10,157,10,160],[7,243,7,246],[7,250,7,253],[7,259,7,262],[7,266,7,269],[8,148,8,151],[8,164,8,167],[8,175,8,178],[8,182,8,185],[8,191,8,194],[8,198,8,201],[8,209,8,212],[8,216,8,219],[8,225,8,228],[8,232,8,235],[8,243,8,246],[8,250,8,253],[8,259,8,262],[8,266,8,269],[7,164,7,167],[7,175,7,178],[7,182,7,185],[7,191,7,194],[7,198,7,201],[7,209,7,212],[7,216,7,219],[7,225,7,228],[7,232,7,235],[15,232,15,235],[9,243,9,246],[9,250,9,253],[9,259,9,262],[9,266,9,269],[10,148,10,151],[10,164,10,167],[10,175,10,178],[10,182,10,185],[10,191,10,194],[10,198,10,201],[10,209,10,212],[10,216,10,219],[10,225,10,228],[10,232,10,235],[10,243,10,246],[10,250,10,253],[10,259,10,262],[10,266,10,269],[9,164,9,167],[9,175,9,178],[9,182,9,185],[9,191,9,194],[9,198,9,201],[9,209,9,212],[9,216,9,219],[9,225,9,228],[9,232,9,235],[15,243,15,246],[15,250,15,253],[15,259,15,262],[15,266,15,269],[16,164,16,167],[16,171,27,171],[16,175,16,178],[16,182,16,185],[16,191,16,194],[16,198,16,201],[16,205,27,205],[16,209,16,212],[16,216,16,219],[16,225,16,228],[16,232,16,235],[16,239,27,239],[16,243,16,246],[16,250,16,253],[16,259,16,262],[16,266,16,269],[18,232,18,235],[18,243,18,246],[18,250,18,253],[27,227,27,228],[27,232,27,233],[27,234,27,235],[26,164,26,167],[26,175,26,178],[26,182,26,185],[26,191,26,194],[26,198,26,201],[26,209,26,212],[26,216,26,219],[26,225,26,228],[18,259,18,262],[18,266,18,269],[15,164,15,167],[15,175,15,178],[15,182,15,185],[15,191,15,194],[15,198,15,201],[15,209,15,212],[15,216,15,219],[15,225,15,228],[16,273,27,273],[17,148,17,151],[17,164,17,167],[17,175,17,178],[17,182,17,185],[17,191,17,194],[17,198,17,201],[17,209,17,212],[17,216,17,219],[17,225,17,228],[17,232,17,235],[17,243,17,246],[17,250,17,253],[17,259,17,262],[17,266,17,269],[18,148,18,151],[18,164,18,167],[18,175,18,178],[18,182,18,185],[18,191,18,194],[18,198,18,201],[18,209,18,212],[18,216,18,219],[18,225,18,228],[19,164,19,167],[19,175,19,178],[19,182,19,185],[19,191,19,194],[19,198,19,201],[19,209,19,212],[19,216,19,219],[19,225,19,228],[19,232,19,235],[19,243,19,246],[19,250,19,253],[19,259,19,262],[19,266,19,269],[27,243,27,244],[27,245,27,246],[27,250,27,251],[27,252,27,253],[27,259,27,260],[27,261,27,262],[27,266,27,267],[27,268,27,269],[28,171,39,171],[28,205,39,205],[28,239,39,239],[26,232,26,235],[26,243,26,246],[26,250,26,253],[26,259,26,262],[26,266,26,269],[27,148,27,149],[27,164,27,165],[27,166,27,167],[27,175,27,176],[27,177,27,178],[27,182,27,183],[27,184,27,185],[27,191,27,192],[27,193,27,194],[27,198,27,199],[27,200,27,201],[27,209,27,210],[27,211,27,212],[27,216,27,217],[27,218,27,219],[27,225,27,226],[28,273,39,273],[40,148,40,150],[40,164,40,166],[40,171,51,171],[40,175,40,177],[40,182,40,184],[40,191,40,193],[40,198,40,200],[40,205,51,205],[40,209,40,211],[40,216,40,218],[40,225,40,227],[40,232,40,234],[40,239,51,239],[40,243,40,245],[40,250,40,252],[40,259,40,261],[40,266,40,268],[42,153,42,155],[42,156,42,157],[42,185,42,186],[42,187,42,189],[42,190,42,191],[42,219,42,220],[42,221,42,223],[42,224,42,225],[42,253,42,254],[42,255,42,257],[42,258,42,259],[43,150,45,150],[43,151,45,152],[43,156,45,157],[43,184,45,184],[43,185,45,186],[43,190,45,191],[43,192,45,192],[43,218,45,218],[43,219,45,220],[43,224,45,225],[43,226,45,226],[43,252,45,252],[43,253,45,254],[43,258,45,259],[48,266,48,269],[49,148,49,151],[49,164,49,167],[49,175,49,178],[49,182,49,185],[49,191,49,194],[49,198,49,201],[49,209,49,212],[49,216,49,219],[49,225,49,228],[49,232,49,235],[49,243,49,246],[49,250,49,253],[49,259,49,262],[49,266,49,269],[43,260,45,260],[48,148,48,151],[48,164,48,167],[48,175,48,178],[48,182,48,185],[48,191,48,194],[48,198,48,201],[48,209,48,212],[48,216,48,219],[48,225,48,228],[48,232,48,235],[48,243,48,246],[48,250,48,253],[48,259,48,262],[50,243,50,246],[50,250,50,253],[50,259,50,262],[50,266,50,269],[51,148,51,151],[51,164,51,167],[51,175,51,178],[51,182,51,185],[51,191,51,194],[51,198,51,201],[51,209,51,212],[51,216,51,219],[51,225,51,228],[51,232,51,235],[51,243,51,246],[51,250,51,253],[51,259,51,262],[51,266,51,269],[50,164,50,167],[50,175,50,178],[50,182,50,185],[50,191,50,194],[50,198,50,201],[50,209,50,212],[50,216,50,219],[50,225,50,228],[50,232,50,235],[52,273,65,273],[53,148,53,151],[53,164,53,167],[53,175,53,178],[53,182,53,185],[53,191,53,194],[53,198,53,201],[53,209,53,212],[53,216,53,219],[53,225,53,228],[53,232,53,235],[53,243,53,246],[53,250,53,253],[53,259,53,262],[53,266,53,269],[54,148,54,151],[54,164,54,167],[54,175,54,178],[54,182,54,185],[54,191,54,194],[54,198,54,201],[54,209,54,212],[54,216,54,219],[54,225,54,228],[54,232,54,235],[54,243,54,246],[54,250,54,253],[54,259,54,262],[54,266,54,269],[55,148,55,151],[55,164,55,167],[55,175,55,178],[55,182,55,185],[55,191,55,194],[55,198,55,201],[55,209,55,212],[55,216,55,219],[55,225,55,228],[55,232,55,235],[55,243,55,246],[55,250,55,253],[55,259,55,262],[55,266,55,269],[52,171,65,171],[52,205,65,205],[52,239,65,239]],"merged_total":3290,"flags":["merged_cut"]}
[null,null,null,null,null,null,null,null,null,null,null,null,null,null,null,null,null,"MATCH 1",null,null,null,null,null,null,null,null,null,null,null,null,null,null,null,null,null,null,null,null,null,null,null,null,null,null,null,null,null,null,null,null,null,"MATCH 2",null,null,null,null,null,null,null,null,null,null,null,null,null,null,null,null,null,null,null,null,null,null,null,null,null,null,null,null,null,null,null,null,null,"MATCH 3",null,null,null,null,null,null,null,null,null,null,null,null,null,null,null,null,null,null,null,null,null,null,null,null,null,null,null,null,null,null,null,null,null,"MATCH 4",null,null,null,null,null,null,null,null,null,null,null,null,null,null,null,null,null,null,null,null,null,null,null,null,null,null,null,null,null,null,null,null,null,"MATCH 5",null,null,null,null,null,null,null,null,null,null,null,null,null,null,null,null,null,null,null,null,null,null,null,null,null,null,null,null,null,null,null,null,null,"MATCH 6",null,null,null,null,null,null,null,null,null,null,null,null,null,null,null,null,null,null,null,null,null,null,null,null,null,null,null,null,null,null,null,null,null,"MATCH 7",null,null,null,null,null,null,null,null,null,null,null,null,null,null,null,null,null,null,null,null,null,null,null,null,null,null,null,null,null,null,null,null,null,"MATCH 8",null,null,null,null,null,null,null,null,null,null,null,null,null,null,null,null,null,null,null,null,null,null,null,null,null,null,null,null,null,null,null,null,null,"MATCH 9",null,null,null,null,null,null,null,null,null,null,null,null,null,null,null,null,null,null,null,null,null,null,null,null,null,null,null,null,null,null,null,null,null,"MATCH 10",null,null,null,null,null,null,null,null,null,null,null,null,null,null,null,null,null,null,null,null,null,null,null,null,null,null,null,null,null,null,null,null,null,"MATCH 11",null,null,null,null,null,null,null,null,null,null,null,null,null,null,null,null,null,null,null,null,null,null,null,null,null,null,null,null,null,null,null,null,null,"MATCH 12",null,null,null,null,null,null,null,null,null,null,null,null,null,null,null,null,null,null,null,null,null,null,null,null,null,null,null,null,null,null,null,null,null,"MATCH 13",null,null,null,null,null,null,null,null,null,null,null,null,null,null,null,null,null,null,null,null,null,null,null,null,null,null,null,null,null,null,null,null,null,"MATCH 14",null,null,null,null,null,null,null,null,null,null,null,null,null,null,null,null,null,null,null,null,null,null,null,null,null,null,null,null,null,null,null,null,null,"MATCH 15",null,null,null,null,null,null,null,null,null,null,null,null,null,null,null,null,null,null,null,null,null,null,null,null,null,null,null,null,null,null,null,null,null,"MATCH 16",null,null,null,null,null,null,null,null,null,null,null,null,null,null,null,null,null,null,null,null,null,null,null,null,null,null,null,null,null,null,null,null,null,"MATCH 17",null,null,null,null,null,null,null,null,null,null,null,null,null,null,null,null,null,null,null,null,null,null,null,null,null,null,null,null,null,null,null,null,null,"MATCH 18",null,null,null,null,null,null,null,null,null,null,null,null,null,null,null,null,null,null,null,null,null,null,null,null,null,null,null,null,null,null,null,null,null,"MATCH 19",null,null,null,null,null,null,null,null,null,null,null,null,null,null,null,null,null,null,null,null,null,null,null,null,null,null,null,null,null,null,null,null,null,"MATCH 20",null,null,null,null,null,null,null,null,null,null,null,null,null,null,null,null,null,null,null,null,null,null,null,null,null,null,null,null,null,null,null,null,null,"MATCH 21",null,null,null,null,null,null,null,null,null,null,null,null,null,null,null,null,null,null,null,null,null,null,null,null,null,null,null,null,null,null,null,null,null,"MATCH 22",null,null,null,null,null,null,null,null,null,null,null,null,null,null,null,null,null,null,null,null,null,null,null,null,null,null,null,null,null,null,null,null,null,"MATCH 23",null,null,null,null,null,null,null,null,null,null,null,null,null,null,null,null,null,null,null,null,null,null,null,null,null,null,null,null,null,null,null,null,null,"MATCH 24"]
[null,{"$f":"ECHFMTELEVE!B2","v":"TELEC"},null,null,"n°1",null,null,null,null,null,"SIMPLE 1",null,null,null,null,null,"n°1",null,null,null,"n°2",null,null,null,null,null,"SIMPLE 2",null,null,null,null,null,"n°2",null,null,null,null,null,"n°1",null,null,null,null,null,"SIMPLE 1",null,null,null,null,null,"n°1",null,null,null,"n°2",null,null,null,null,null,"SIMPLE 2",null,null,null,null,null,"n°2",null,null,null,null,null,"n°1",null,null,null,null,null,"SIMPLE 1",null,null,null,null,null,"n°1",null,null,null,"n°2",null,null,null,null,null,"SIMPLE 2",null,null,null,null,null,"n°2",null,null,null,null,null,"n°1",null,null,null,null,null,"SIMPLE 1",null,null,null,null,null,"n°1",null,null,null,"n°2",null,null,null,null,null,"SIMPLE 2",null,null,null,null,null,"n°2",null,null,null,null,null,"n°1",null,null,null,null,null,"SIMPLE 1",null,null,null,null,null,"n°1",null,null,null,"n°2",null,null,null,null,null,"SIMPLE 2",null,null,null,null,null,"n°2",null,null,null,null,null,"n°1",null,null,null,null,null,"SIMPLE 1",null,null,null,null,null,"n°1",null,null,null,"n°2",null,null,null,null,null,"SIMPLE 2",null,null,null,null,null,"n°2",null,null,null,null,null,"n°1",null,null,null,null,null,"SIMPLE 1",null,null,null,null,null,"n°1",null,null,null,"n°2",null,null,null,null,null,"SIMPLE 2",null,null,null,null,null,"n°2",null,null,null,null,null,"n°1",null,null,null,null,null,"SIMPLE 1",null,null,null,null,null,"n°1",null,null,null,"n°2",null,null,null,null,null,"SIMPLE 2",null,null,null,null,null,"n°2",null,null,null,null,null,"n°1",null,null,null,null,null,"SIMPLE 1",null,null,null,null,null,"n°1",null,null,null,"n°2",null,null,null,null,null,"SIMPLE 2",null,null,null,null,null,"n°2",null,null,null,null,null,"n°1",null,null,null,null,null,"SIMPLE 1",null,null,null,null,null,"n°1",null,null,null,"n°2",null,null,null,null,null,"SIMPLE 2",null,null,null,null,null,"n°2",null,null,null,null,null,"n°1",null,null,null,null,null,"SIMPLE 1",null,null,null,null,null,"n°1",null,null,null,"n°2",null,null,null,null,null,"SIMPLE 2",null,null,null,null,null,"n°2",null,null,null,null,null,"n°1",null,null,null,null,null,"SIMPLE 1",null,null,null,null,null,"n°1",null,null,null,"n°2",null,null,null,null,null,"SIMPLE 2",null,null,null,null,null,"n°2",null,null,null,null,null,"n°1",null,null,null,null,null,"SIMPLE 1",null,null,null,null,null,"n°1",null,null,null,"n°2",null,null,null,null,null,"SIMPLE 2",null,null,null,null,null,"n°2",null,null,null,null,null,"n°1",null,null,null,null,null,"SIMPLE 1",null,null,null,null,null,"n°1",null,null,null,"n°2",null,null,null,null,null,"SIMPLE 2",null,null,null,null,null,"n°2",null,null,null,null,null,"n°1",null,null,null,null,null,"SIMPLE 1",null,null,null,null,null,"n°1",null,null,null,"n°2",null,null,null,null,null,"SIMPLE 2",null,null,null,null,null,"n°2",null,null,null,null,null,"n°1",null,null,null,null,null,"SIMPLE 1",null,null,null,null,null,"n°1",null,null,null,"n°2",null,null,null,null,null,"SIMPLE 2",null,null,null,null,null,"n°2",null,null,null,null,null,"n°1",null,null,null,null,null,"SIMPLE 1",null,null,null,null,null,"n°1",null,null,null,"n°2",null,null,null,null,null,"SIMPLE 2",null,null,null,null,null,"n°2",null,null,null,null,null,"n°1",null,null,null,null,null,"SIMPLE 1",null,null,null,null,null,"n°1",null,null,null,"n°2",null,null,null,null,null,"SIMPLE 2",null,null,null,null,null,"n°2",null,null,null,null,null,"n°1",null,null,null,null,null,"SIMPLE 1",null,null,null,null,null,"n°1",null,null,null,"n°2",null,null,null,null,null,"SIMPLE 2",null,null,null,null,null,"n°2",null,null,null,null,null,"n°1",null,null,null,null,null,"SIMPLE 1",null,null,null,null,null,"n°1",null,null,null,"n°2",null,null,null,null,null,"SIMPLE 2",null,null,null,null,null,"n°2",null,null,null,null,null,"n°1",null,null,null,null,null,"SIMPLE 1",null,null,null,null,null,"n°1",null,null,null,"n°2",null,null,null,null,null,"SIMPLE 2",null,null,null,null,null,"n°2",null,null,null,null,null,"n°1",null,null,null,null,null,"SIMPLE 1",null,null,null,null,null,"n°1",null,null,null,"n°2",null,null,null,null,null,"SIMPLE 2",null,null,null,null,null,"n°2",null,null,null,null,null,"n°1",null,null,null,null,null,"SIMPLE 1",null,null,null,null,null,"n°1",null,null,null,"n°2",null,null,null,null,null,"SIMPLE 2",null,null,null,null,null,"n°2",null,null,null,null,null,"n°1",null,null,null,null,null,"SIMPLE 1",null,null,null,null,null,"n°1",null,null,null,"n°2",null,null,null,null,null,"SIMPLE 2",null,null,null,null,null,"n°2"]
[]
[]
[null,"CHOIX\n STRATEGIES ET TACTIQUES",null,null,null,"Choix stratégique",null,null,null,null,null,null,"Choix stratégique",null,null,null,null,null,null,null,null,"Choix stratégique",null,null,null,null,null,null,"Choix stratégique",null,null,null,null,null,null,"NOUVEAU MATCH",null,null,null,"Choix stratégique",null,null,null,null,null,null,"Choix stratégique",null,null,null,null,null,null,null,null,"Choix stratégique",null,null,null,null,null,null,"Choix stratégique",null,null,null,null,null,null,"NOUVEAU MATCH",null,null,null,"Choix stratégique",null,null,null,null,null,null,"Choix stratégique",null,null,null,null,null,null,null,null,"Choix stratégique",null,null,null,null,null,null,"Choix stratégique",null,null,null,null,null,null,"NOUVEAU MATCH",null,null,null,"Choix stratégique",null,null,null,null,null,null,"Choix stratégique",null,null,null,null,null,null,null,null,"Choix stratégique",null,null,null,null,null,null,"Choix stratégique",null,null,null,null,null,null,"NOUVEAU MATCH",null,null,null,"Choix stratégique",null,null,null,null,null,null,"Choix stratégique",null,null,null,null,null,null,null,null,"Choix stratégique",null,null,null,null,null,null,"Choix stratégique",null,null,null,null,null,null,"NOUVEAU MATCH",null,null,null,"Choix stratégique",null,null,null,null,null,null,"Choix stratégique",null,null,null,null,null,null,null,null,"Choix stratégique",null,null,null,null,null,null,"Choix stratégique",null,null,null,null,null,null,"NOUVEAU MATCH",null,null,null,"Choix stratégique",null,null,null,null,null,null,"Choix stratégique",null,null,null,null,null,null,null,null,"Choix stratégique",null,null,null,null,null,null,"Choix stratégique",null,null,null,null,null,null,"NOUVEAU MATCH",null,null,null,"Choix stratégique",null,null,null,null,null,null,"Choix stratégique",null,null,null,null,null,null,null,null,"Choix stratégique",null,null,null,null,null,null,"Choix stratégique",null,null,null,null,null,null,"NOUVEAU MATCH",null,null,null,"Choix stratégique",null,null,null,null,null,null,"Choix stratégique",null,null,null,null,null,null,null,null,"Choix stratégique",null,null,null,null,null,null,"Choix stratégique",null,null,null,null,null,null,"NOUVEAU MATCH",null,null,null,"Choix stratégique",null,null,null,null,null,null,"Choix stratégique",null,null,null,null,null,null,null,null,"Choix stratégique",null,null,null,null,null,null,"Choix stratégique",null,null,null,null,null,null,"NOUVEAU MATCH",null,null,null,"Choix stratégique",null,null,null,null,null,null,"Choix stratégique",null,null,null,null,null,null,null,null,"Choix stratégique",null,null,null,null,null,null,"Choix stratégique",null,null,null,null,null,null,"NOUVEAU MATCH",null,null,null,"Choix stratégique",null,null,null,null,null,null,"Choix stratégique",null,null,null,null,null,null,null,null,"Choix stratégique",null,null,null,null,null,null,"Choix stratégique",null,null,null,null,null,null,"NOUVEAU MATCH",null,null,null,"Choix stratégique",null,null,null,null,null,null,"Choix stratégique",null,null,null,null,null,null,null,null,"Choix stratégique",null,null,null,null,null,null,"Choix stratégique",null,null,null,null,null,null,"NOUVEAU MATCH",null,null,null,"Choix stratégique",null,null,null,null,null,null,"Choix stratégique",null,null,null,null,null,null,null,null,"Choix stratégique",null,null,null,null,null,null,"Choix stratégique",null,null,null,null,null,null,"NOUVEAU MATCH",null,null,null,"Choix stratégique",null,null,null,null,null,null,"Choix stratégique",null,null,null,null,null,null,null,null,"Choix stratégique",null,null,null,null,null,null,"Choix stratégique",null,null,null,null,null,null,"NOUVEAU MATCH",null,null,null,"Choix stratégique",null,null,null,null,null,null,"Choix stratégique",null,null,null,null,null,null,null,null,"Choix stratégique",null,null,null,null,null,null,"Choix stratégique",null,null,null,null,null,null,"NOUVEAU MATCH",null,null,null,"Choix stratégique",null,null,null,null,null,null,"Choix stratégique",null,null,null,null,null,null,null,null,"Choix stratégique",null,null,null,null,null,null,"Choix stratégique",null,null,null,null,null,null,"NOUVEAU MATCH",null,null,null,"Choix stratégique",null,null,null,null,null,null,"Choix stratégique",null,null,null,null,null,null,null,null,"Choix stratégique",null,null,null,null,null,null,"Choix stratégique",null,null,null,null,null,null,"NOUVEAU MATCH",null,null,null,"Choix stratégique",null,null,null,null,null,null,"Choix stratégique",null,null,null,null,null,null,null,null,"Choix stratégique",null,null,null,null,null,null,"Choix stratégique",null,null,null,null,null,null,"NOUVEAU MATCH",null,null,null,"Choix stratégique",null,null,null,null,null,null,"Choix stratégique",null,null,null,null,null,null,null,null,"Choix stratégique",null,null,null,null,null,null,"Choix stratégique",null,null,null,null,null,null,"NOUVEAU MATCH",null,null,null,"Choix stratégique",null,null,null,null,null,null,"Choix stratégique",null,null,null,null,null,null,null,null,"Choix stratégique",null,null,null,null,null,null,"Choix stratégique",null,null,null,null,null,null,"NOUVEAU MATCH",null,null,null,"Choix stratégique",null,null,null,null,null,null,"Choix stratégique",null,null,null,null,null,null,null,null,"Choix stratégique",null,null,null,null,null,null,"Choix stratégique",null,null,null,null,null,null,"NOUVEAU MATCH",null,null,null,"Choix stratégique",null,null,null,null,null,null,"Choix stratégique",null,null,null,null,null,null,null,null,"Choix stratégique",null,null,null,null,null,null,"Choix stratégique",null,null,null,null,null,null,"NOUVEAU MATCH",null,null,null,"Choix stratégique",null,null,null,null,null,null,"Choix stratégique",null,null,null,null,null,null,null,null,"Choix stratégique",null,null,null,null,null,null,"Choix stratégique",null,null,null,null,null,null,"NOUVEAU MATCH"]
[]
[null,null,null,null,null,"Tactique privilégiée",null,null,null,null,null,null,"Tactique privilégiée",null,null,null,null,null,null,null,null,"Tactique privilégiée",null,null,null,null,null,null,"Tactique privilégiée",null,null,null,null,null,null,null,null,null,null,"Tactique privilégiée",null,null,null,null,null,null,"Tactique privilégiée",null,null,null,null,null,null,null,null,"Tactique privilégiée",null,null,null,null,null,null,"Tactique privilégiée",null,null,null,null,null,null,null,null,null,null,"Tactique privilégiée",null,null,null,null,null,null,"Tactique privilégiée",null,null,null,null,null,null,null,null,"Tactique privilégiée",null,null,null,null,null,null,"Tactique privilégiée",null,null,null,null,null,null,null,null,null,null,"Tactique privilégiée",null,null,null,null,null,null,"Tactique privilégiée",null,null,null,null,null,null,null,null,"Tactique privilégiée",null,null,null,null,null,null,"Tactique privilégiée",null,null,null,null,null,null,null,null,null,null,"Tactique privilégiée",null,null,null,null,null,null,"Tactique privilégiée",null,null,null,null,null,null,null,null,"Tactique privilégiée",null,null,null,null,null,null,"Tactique privilégiée",null,null,null,null,null,null,null,null,null,null,"Tactique privilégiée",null,null,null,null,null,null,"Tactique privilégiée",null,null,null,null,null,null,null,null,"Tactique privilégiée",null,null,null,null,null,null,"Tactique privilégiée",null,null,null,null,null,null,null,null,null,null,"Tactique privilégiée",null,null,null,null,null,null,"Tactique privilégiée",null,null,null,null,null,null,null,null,"Tactique privilégiée",null,null,null,null,null,null,"Tactique privilégiée",null,null,null,null,null,null,null,null,null,null,"Tactique privilégiée",null,null,null,null,null,null,"Tactique privilégiée",null,null,null,null,null,null,null,null,"Tactique privilégiée",null,null,null,null,null,null,"Tactique privilégiée",null,null,null,null,null,null,null,null,null,null,"Tactique privilégiée",null,null,null,null,null,null,"Tactique privilégiée",null,null,null,null,null,null,null,null,"Tactique privilégiée",null,null,null,null,null,null,"Tactique privilégiée",null,null,null,null,null,null,null,null,null,null,"Tactique privilégiée",null,null,null,null,null,null,"Tactique privilégiée",null,null,null,null,null,null,null,null,"Tactique privilégiée",null,null,null,null,null,null,"Tactique privilégiée",null,null,null,null,null,null,null,null,null,null,"Tactique privilégiée",null,null,null,null,null,null,"Tactique privilégiée",null,null,null,null,null,null,null,null,"Tactique privilégiée",null,null,null,null,null,null,"Tactique privilégiée",null,null,null,null,null,null,null,null,null,null,"Tactique privilégiée",null,null,null,null,null,null,"Tactique privilégiée",null,null,null,null,null,null,null,null,"Tactique privilégiée",null,null,null,null,null,null,"Tactique privilégiée",null,null,null,null,null,null,null,null,null,null,"Tactique privilégiée",null,null,null,null,null,null,"Tactique privilégiée",null,null,null,null,null,null,null,null,"Tactique privilégiée",null,null,null,null,null,null,"Tactique privilégiée",null,null,null,null,null,null,null,null,null,null,"Tactique privilégiée",null,null,null,null,null,null,"Tactique privilégiée",null,null,null,null,null,null,null,null,"Tactique privilégiée",null,null,null,null,null,null,"Tactique privilégiée",null,null,null,null,null,null,null,null,null,null,"Tactique privilégiée",null,null,null,null,null,null,"Tactique privilégiée",null,null,null,null,null,null,null,null,"Tactique privilégiée",null,null,null,null,null,null,"Tactique privilégiée",null,null,null,null,null,null,null,null,null,null,"Tactique privilégiée",null,null,null,null,null,null,"Tactique privilégiée",null,null,null,null,null,null,null,null,"Tactique privilégiée",null,null,null,null,null,null,"Tactique privilégiée",null,null,null,null,null,null,null,null,null,null,"Tactique privilégiée",null,null,null,null,null,null,"Tactique privilégiée",null,null,null,null,null,null,null,null,"Tactique privilégiée",null,null,null,null,null,null,"Tactique privilégiée",null,null,null,null,null,null,null,null,null,null,"Tactique privilégiée",null,null,null,null,null,null,"Tactique privilégiée",null,null,null,null,null,null,null,null,"Tactique privilégiée",null,null,null,null,null,null,"Tactique privilégiée",null,null,null,null,null,null,null,null,null,null,"Tactique privilégiée",null,null,null,null,null,null,"Tactique privilégiée",null,null,null,null,null,null,null,null,"Tactique privilégiée",null,null,null,null,null,null,"Tactique privilégiée",null,null,null,null,null,null,null,null,null,null,"Tactique privilégiée",null,null,null,null,null,null,"Tactique privilégiée",null,null,null,null,null,null,null,null,"Tactique privilégiée",null,null,null,null,null,null,"Tactique privilégiée",null,null,null,null,null,null,null,null,null,null,"Tactique privilégiée",null,null,null,null,null,null,"Tactique privilégiée",null,null,null,null,null,null,null,null,"Tactique privilégiée",null,null,null,null,null,null,"Tactique privilégiée",null,null,null,null,null,null,null,null,null,null,"Tactique privilégiée",null,null,null,null,null,null,"Tactique privilégiée",null,null,null,null,null,null,null,null,"Tactique privilégiée",null,null,null,null,null,null,"Tactique privilégiée",null,null,null,null,null,null,null,null,null,null,"Tactique privilégiée",null,null,null,null,null,null,"Tactique privilégiée",null,null,null,null,null,null,null,null,"Tactique privilégiée",null,null,null,null,null,null,"Tactique privilégiée",null,null,null,null,null,null,null,null,null,null,"Tactique privilégiée",null,null,null,null,null,null,"Tactique privilégiée",null,null,null,null,null,null,null,null,"Tactique privilégiée",null,null,null,null,null,null,"Tactique privilégiée"]
[]
[null,null,null,null,null,"Indicateur de réussite",null,null,null,null,null,null,"Indicateur de réussite",null,null,null,null,null,null,null,null,"Indicateur de réussite",null,null,null,null,null,null,"Indicateur de réussite",null,null,null,null,null,null,null,null,null,null,"Indicateur de réussite",null,null,null,null,null,null,"Indicateur de réussite",null,null,null,null,null,null,null,null,"Indicateur de réussite",null,null,null,null,null,null,"Indicateur de réussite",null,null,null,null,null,null,null,null,null,null,"Indicateur de réussite",null,null,null,null,null,null,"Indicateur de réussite",null,null,null,null,null,null,null,null,"Indicateur de réussite",null,null,null,null,null,null,"Indicateur de réussite",null,null,null,null,null,null,null,null,null,null,"Indicateur de réussite",null,null,null,null,null,null,"Indicateur de réussite",null,null,null,null,null,null,null,null,"Indicateur de réussite",null,null,null,null,null,null,"Indicateur de réussite",null,null,null,null,null,null,null,null,null,null,"Indicateur de réussite",null,null,null,null,null,null,"Indicateur de réussite",null,null,null,null,null,null,null,null,"Indicateur de réussite",null,null,null,null,null,null,"Indicateur de réussite",null,null,null,null,null,null,null,null,null,null,"Indicateur de réussite",null,null,null,null,null,null,"Indicateur de réussite",null,null,null,null,null,null,null,null,"Indicateur de réussite",null,null,null,null,null,null,"Indicateur de réussite",null,null,null,null,null,null,null,null,null,null,"Indicateur de réussite",null,null,null,null,null,null,"Indicateur de réussite",null,null,null,null,null,null,null,null,"Indicateur de réussite",null,null,null,null,null,null,"Indicateur de réussite",null,null,null,null,null,null,null,null,null,null,"Indicateur de réussite",null,null,null,null,null,null,"Indicateur de réussite",null,null,null,null,null,null,null,null,"Indicateur de réussite",null,null,null,null,null,null,"Indicateur de réussite",null,null,null,null,null,null,null,null,null,null,"Indicateur de réussite",null,null,null,null,null,null,"Indicateur de réussite",null,null,null,null,null,null,null,null,"Indicateur de réussite",null,null,null,null,null,null,"Indicateur de réussite",null,null,null,null,null,null,null,null,null,null,"Indicateur de réussite",null,null,null,null,null,null,"Indicateur de réussite",null,null,null,null,null,null,null,null,"Indicateur de réussite",null,null,null,null,null,null,"Indicateur de réussite",null,null,null,null,null,null,null,null,null,null,"Indicateur de réussite",null,null,null,null,null,null,"Indicateur de réussite",null,null,null,null,null,null,null,null,"Indicateur de réussite",null,null,null,null,null,null,"Indicateur de réussite",null,null,null,null,null,null,null,null,null,null,"Indicateur de réussite",null,null,null,null,null,null,"Indicateur de réussite",null,null,null,null,null,null,null,null,"Indicateur de réussite",null,null,null,null,null,null,"Indicateur de réussite",null,null,null,null,null,null,null,null,null,null,"Indicateur de réussite",null,null,null,null,null,null,"Indicateur de réussite",null,null,null,null,null,null,null,null,"Indicateur de réussite",null,null,null,null,null,null,"Indicateur de réussite",null,null,null,null,null,null,null,null,null,null,"Indicateur de réussite",null,null,null,null,null,null,"Indicateur de réussite",null,null,null,null,null,null,null,null,"Indicateur de réussite",null,null,null,null,null,null,"Indicateur de réussite",null,null,null,null,null,null,null,null,null,null,"Indicateur de réussite",null,null,null,null,null,null,"Indicateur de réussite",null,null,null,null,null,null,null,null,"Indicateur de réussite",null,null,null,null,null,null,"Indicateur de réussite",null,null,null,null,null,null,null,null,null,null,"Indicateur de réussite",null,null,null,null,null,null,"Indicateur de réussite",null,null,null,null,null,null,null,null,"Indicateur de réussite",null,null,null,null,null,null,"Indicateur de réussite",null,null,null,null,null,null,null,null,null,null,"Indicateur de réussite",null,null,null,null,null,null,"Indicateur de réussite",null,null,null,null,null,null,null,null,"Indicateur de réussite",null,null,null,null,null,null,"Indicateur de réussite",null,null,null,null,null,null,null,null,null,null,"Indicateur de réussite",null,null,null,null,null,null,"Indicateur de réussite",null,null,null,null,null,null,null,null,"Indicateur de réussite",null,null,null,null,null,null,"Indicateur de réussite",null,null,null,null,null,null,null,null,null,null,"Indicateur de réussite",null,null,null,null,null,null,"Indicateur de réussite",null,null,null,null,null,null,null,null,"Indicateur de réussite",null,null,null,null,null,null,"Indicateur de réussite",null,null,null,null,null,null,null,null,null,null,"Indicateur de réussite",null,null,null,null,null,null,"Indicateur de réussite",null,null,null,null,null,null,null,null,"Indicateur de réussite",null,null,null,null,null,null,"Indicateur de réussite",null,null,null,null,null,null,null,null,null,null,"Indicateur de réussite",null,null,null,null,null,null,"Indicateur de réussite",null,null,null,null,null,null,null,null,"Indicateur de réussite",null,null,null,null,null,null,"Indicateur de réussite",null,null,null,null,null,null,null,null,null,null,"Indicateur de réussite",null,null,null,null,null,null,"Indicateur de réussite",null,null,null,null,null,null,null,null,"Indicateur de réussite",null,null,null,null,null,null,"Indicateur de réussite",null,null,null,null,null,null,null,null,null,null,"Indicateur de réussite",null,null,null,null,null,null,"Indicateur de réussite",null,null,null,null,null,null,null,null,"Indicateur de réussite",null,null,null,null,null,null,"Indicateur de réussite",null,null,null,null,null,null,null,null,null,null,"Indicateur de réussite",null,null,null,null,null,null,"Indicateur de réussite",null,null,null,null,null,null,null,null,"Indicateur de réussite",null,null,null,null,null,null,"Indicateur de réussite"]
[null,null,null,null,null,{"$f":"HLOOKUP(F8,DEBUT!$AB$4:$BP$78,2,FALSE)","v":{"$error":"#N/A"}},null,null,null,null,null,null,{"$f":"HLOOKUP(M8,DEBUT!$AB$4:$BP$78,2,FALSE)","v":{"$error":"#N/A"}},null,null,null,null,null,null,null,null,{"$f":"HLOOKUP(V8,DEBUT!$AB$4:$BP$78,2,FALSE)","v":{"$error":"#N/A"}},null,null,null,null,null,null,{"$f":"HLOOKUP(AC8,DEBUT!$AB$4:$BP$78,2,FALSE)","v":{"$error":"#N/A"}},null,null,null,null,null,null,null,null,null,null,{"$f":"HLOOKUP(AN8,DEBUT!$AB$4:$BP$78,2,FALSE)","v":{"$error":"#N/A"}},null,null,null,null,null,null,{"$f":"HLOOKUP(AU8,DEBUT!$AB$4:$BP$78,2,FALSE)","v":{"$error":"#N/A"}},null,null,null,null,null,null,null,null,{"$f":"HLOOKUP(BD8,DEBUT!$AB$4:$BP$78,2,FALSE)","v":{"$error":"#N/A"}},null,null,null,null,null,null,{"$f":"HLOOKUP(BK8,DEBUT!$AB$4:$BP$78,2,FALSE)","v":{"$error":"#N/A"}},null,null,null,null,null,null,null,null,null,null,{"$f":"HLOOKUP(BV8,DEBUT!$AB$4:$BP$78,2,FALSE)","v":{"$error":"#N/A"}},null,null,null,null,null,null,{"$f":"HLOOKUP(CC8,DEBUT!$AB$4:$BP$78,2,FALSE)","v":{"$error":"#N/A"}},null,null,null,null,null,null,null,null,{"$f":"HLOOKUP(CL8,DEBUT!$AB$4:$BP$78,2,FALSE)","v":{"$error":"#N/A"}},null,null,null,null,null,null,{"$f":"HLOOKUP(CS8,DEBUT!$AB$4:$BP$78,2,FALSE)","v":{"$error":"#N/A"}},null,null,null,null,null,null,null,null,null,null,{"$f":"HLOOKUP(DD8,DEBUT!$AB$4:$BP$78,2,FALSE)","v":{"$error":"#N/A"}},null,null,null,null,null,null,{"$f":"HLOOKUP(DK8,DEBUT!$AB$4:$BP$78,2,FALSE)","v":{"$error":"#N/A"}},null,null,null,null,null,null,null,null,{"$f":"HLOOKUP(DT8,DEBUT!$AB$4:$BP$78,2,FALSE)","v":{"$error":"#N/A"}},null,null,null,null,null,null,{"$f":"HLOOKUP(EA8,DEBUT!$AB$4:$BP$78,2,FALSE)","v":{"$error":"#N/A"}},null,null,null,null,null,null,null,null,null,null,{"$f":"HLOOKUP(EL8,DEBUT!$AB$4:$BP$78,2,FALSE)","v":{"$error":"#N/A"}},null,null,null,null,null,null,{"$f":"HLOOKUP(ES8,DEBUT!$AB$4:$BP$78,2,FALSE)","v":{"$error":"#N/A"}},null,null,null,null,null,null,null,null,{"$f":"HLOOKUP(FB8,DEBUT!$AB$4:$BP$78,2,FALSE)","v":{"$error":"#N/A"}},null,null,null,null,null,null,{"$f":"HLOOKUP(FI8,DEBUT!$AB$4:$BP$78,2,FALSE)","v":{"$error":"#N/A"}},null,null,null,null,null,null,null,null,null,null,{"$f":"HLOOKUP(FT8,DEBUT!$AB$4:$BP$78,2,FALSE)","v":{"$error":"#N/A"}},null,null,null,null,null,null,{"$f":"HLOOKUP(GA8,DEBUT!$AB$4:$BP$78,2,FALSE)","v":{"$error":"#N/A"}},null,null,null,null,null,null,null,null,{"$f":"HLOOKUP(GJ8,DEBUT!$AB$4:$BP$78,2,FALSE)","v":{"$error":"#N/A"}},null,null,null,null,null,null,{"$f":"HLOOKUP(GQ8,DEBUT!$AB$4:$BP$78,2,FALSE)","v":{"$error":"#N/A"}},null,null,null,null,null,null,null,null,null,null,{"$f":"HLOOKUP(HB8,DEBUT!$AB$4:$BP$78,2,FALSE)","v":{"$error":"#N/A"}},null,null,null,null,null,null,{"$f":"HLOOKUP(HI8,DEBUT!$AB$4:$BP$78,2,FALSE)","v":{"$error":"#N/A"}},null,null,null,null,null,null,null,null,{"$f":"HLOOKUP(HR8,DEBUT!$AB$4:$BP$78,2,FALSE)","v":{"$error":"#N/A"}},null,null,null,null,null,null,{"$f":"HLOOKUP(HY8,DEBUT!$AB$4:$BP$78,2,FALSE)","v":{"$error":"#N/A"}},null,null,null,null,null,null,null,null,null,null,{"$f":"HLOOKUP(IJ8,DEBUT!$AB$4:$BP$78,2,FALSE)","v":{"$error":"#N/A"}},null,null,null,null,null,null,{"$f":"HLOOKUP(IQ8,DEBUT!$AB$4:$BP$78,2,FALSE)","v":{"$error":"#N/A"}},null,null,null,null,null,null,null,null,{"$f":"HLOOKUP(IZ8,DEBUT!$AB$4:$BP$78,2,FALSE)","v":{"$error":"#N/A"}},null,null,null,null,null,null,{"$f":"HLOOKUP(JG8,DEBUT!$AB$4:$BP$78,2,FALSE)","v":{"$error":"#N/A"}},null,null,null,null,null,null,null,null,null,null,{"$f":"HLOOKUP(JR8,DEBUT!$AB$4:$BP$78,2,FALSE)","v":{"$error":"#N/A"}},null,null,null,null,null,null,{"$f":"HLOOKUP(JY8,DEBUT!$AB$4:$BP$78,2,FALSE)","v":{"$error":"#N/A"}},null,null,null,null,null,null,null,null,{"$f":"HLOOKUP(KH8,DEBUT!$AB$4:$BP$78,2,FALSE)","v":{"$error":"#N/A"}},null,null,null,null,null,null,{"$f":"HLOOKUP(KO8,DEBUT!$AB$4:$BP$78,2,FALSE)","v":{"$error":"#N/A"}},null,null,null,null,null,null,null,null,null,null,{"$f":"HLOOKUP(KZ8,DEBUT!$AB$4:$BP$78,2,FALSE)","v":{"$error":"#N/A"}},null,null,null,null,null,null,{"$f":"HLOOKUP(LG8,DEBUT!$AB$4:$BP$78,2,FALSE)","v":{"$error":"#N/A"}},null,null,null,null,null,null,null,null,{"$f":"HLOOKUP(LP8,DEBUT!$AB$4:$BP$78,2,FALSE)","v":{"$error":"#N/A"}},null,null,null,null,null,null,{"$f":"HLOOKUP(LW8,DEBUT!$AB$4:$BP$78,2,FALSE)","v":{"$error":"#N/A"}},null,null,null,null,null,null,null,null,null,null,{"$f":"HLOOKUP(MH8,DEBUT!$AB$4:$BP$78,2,FALSE)","v":{"$error":"#N/A"}},null,null,null,null,null,null,{"$f":"HLOOKUP(MO8,DEBUT!$AB$4:$BP$78,2,FALSE)","v":{"$error":"#N/A"}},null,null,null,null,null,null,null,null,{"$f":"HLOOKUP(MX8,DEBUT!$AB$4:$BP$78,2,FALSE)","v":{"$error":"#N/A"}},null,null,null,null,null,null,{"$f":"HLOOKUP(NE8,DEBUT!$AB$4:$BP$78,2,FALSE)","v":{"$error":"#N/A"}},null,null,null,null,null,null,null,null,null,null,{"$f":"HLOOKUP(NP8,DEBUT!$AB$4:$BP$78,2,FALSE)","v":{"$error":"#N/A"}},null,null,null,null,null,null,{"$f":"HLOOKUP(NW8,DEBUT!$AB$4:$BP$78,2,FALSE)","v":{"$error":"#N/A"}},null,null,null,null,null,null,null,null,{"$f":"HLOOKUP(OF8,DEBUT!$AB$4:$BP$78,2,FALSE)","v":{"$error":"#N/A"}},null,null,null,null,null,null,{"$f":"HLOOKUP(OM8,DEBUT!$AB$4:$BP$78,2,FALSE)","v":{"$error":"#N/A"}},null,null,null,null,null,null,null,null,null,null,{"$f":"HLOOKUP(OX8,DEBUT!$AB$4:$BP$78,2,FALSE)","v":{"$error":"#N/A"}},null,null,null,null,null,null,{"$f":"HLOOKUP(PE8,DEBUT!$AB$4:$BP$78,2,FALSE)","v":{"$error":"#N/A"}},null,null,null,null,null,null,null,null,{"$f":"HLOOKUP(PN8,DEBUT!$AB$4:$BP$78,2,FALSE)","v":{"$error":"#N/A"}},null,null,null,null,null,null,{"$f":"HLOOKUP(PU8,DEBUT!$AB$4:$BP$78,2,FALSE)","v":{"$error":"#N/A"}},null,null,null,null,null,null,null,null,null,null,{"$f":"HLOOKUP(QF8,DEBUT!$AB$4:$BP$78,2,FALSE)","v":{"$error":"#N/A"}},null,null,null,null,null,null,{"$f":"HLOOKUP(QM8,DEBUT!$AB$4:$BP$78,2,FALSE)","v":{"$error":"#N/A"}},null,null,null,null,null,null,null,null,{"$f":"HLOOKUP(QV8,DEBUT!$AB$4:$BP$78,2,FALSE)","v":{"$error":"#N/A"}},null,null,null,null,null,null,{"$f":"HLOOKUP(RC8,DEBUT!$AB$4:$BP$78,2,FALSE)","v":{"$error":"#N/A"}},null,null,null,null,null,null,null,null,null,null,{"$f":"HLOOKUP(RN8,DEBUT!$AB$4:$BP$78,2,FALSE)","v":{"$error":"#N/A"}},null,null,null,null,null,null,{"$f":"HLOOKUP(RU8,DEBUT!$AB$4:$BP$78,2,FALSE)","v":{"$error":"#N/A"}},null,null,null,null,null,null,null,null,{"$f":"HLOOKUP(SD8,DEBUT!$AB$4:$BP$78,2,FALSE)","v":{"$error":"#N/A"}},null,null,null,null,null,null,{"$f":"HLOOKUP(SK8,DEBUT!$AB$4:$BP$78,2,FALSE)","v":{"$error":"#N/A"}},null,null,null,null,null,null,null,null,null,null,{"$f":"HLOOKUP(SV8,DEBUT!$AB$4:$BP$78,2,FALSE)","v":{"$error":"#N/A"}},null,null,null,null,null,null,{"$f":"HLOOKUP(TC8,DEBUT!$AB$4:$BP$78,2,FALSE)","v":{"$error":"#N/A"}},null,null,null,null,null,null,null,null,{"$f":"HLOOKUP(TL8,DEBUT!$AB$4:$BP$78,2,FALSE)","v":{"$error":"#N/A"}},null,null,null,null,null,null,{"$f":"HLOOKUP(TS8,DEBUT!$AB$4:$BP$78,2,FALSE)","v":{"$error":"#N/A"}},null,null,null,null,null,null,null,null,null,null,{"$f":"HLOOKUP(UD8,DEBUT!$AB$4:$BP$78,2,FALSE)","v":{"$error":"#N/A"}},null,null,null,null,null,null,{"$f":"HLOOKUP(UK8,DEBUT!$AB$4:$BP$78,2,FALSE)","v":{"$error":"#N/A"}},null,null,null,null,null,null,null,null,{"$f":"HLOOKUP(UT8,DEBUT!$AB$4:$BP$78,2,FALSE)","v":{"$error":"#N/A"}},null,null,null,null,null,null,{"$f":"HLOOKUP(VA8,DEBUT!$AB$4:$BP$78,2,FALSE)","v":{"$error":"#N/A"}},null,null,null,null,null,null,null,null,null,null,{"$f":"HLOOKUP(VL8,DEBUT!$AB$4:$BP$78,2,FALSE)","v":{"$error":"#N/A"}},null,null,null,null,null,null,{"$f":"HLOOKUP(VS8,DEBUT!$AB$4:$BP$78,2,FALSE)","v":{"$error":"#N/A"}},null,null,null,null,null,null,null,null,{"$f":"HLOOKUP(WB8,DEBUT!$AB$4:$BP$78,2,FALSE)","v":{"$error":"#N/A"}},null,null,null,null,null,null,{"$f":"HLOOKUP(WI8,DEBUT!$AB$4:$BP$78,2,FALSE)","v":{"$error":"#N/A"}},null,null,null,null,null,null,null,null,null,null,{"$f":"HLOOKUP(WT8,DEBUT!$AB$4:$BP$78,2,FALSE)","v":{"$error":"#N/A"}},null,null,null,null,null,null,{"$f":"HLOOKUP(XA8,DEBUT!$AB$4:$BP$78,2,FALSE)","v":{"$error":"#N/A"}},null,null,null,null,null,null,null,null,{"$f":"HLOOKUP(XJ8,DEBUT!$AB$4:$BP$78,2,FALSE)","v":{"$error":"#N/A"}},null,null,null,null,null,null,{"$f":"HLOOKUP(XQ8,DEBUT!$AB$4:$BP$78,2,FALSE)","v":{"$error":"#N/A"}},null,null,null,null,null,null,null,null,null,null,{"$f":"HLOOKUP(YB8,DEBUT!$AB$4:$BP$78,2,FALSE)","v":{"$error":"#N/A"}},null,null,null,null,null,null,{"$f":"HLOOKUP(YI8,DEBUT!$AB$4:$BP$78,2,FALSE)","v":{"$error":"#N/A"}},null,null,null,null,null,null,null,null,{"$f":"HLOOKUP(YR8,DEBUT!$AB$4:$BP$78,2,FALSE)","v":{"$error":"#N/A"}},null,null,null,null,null,null,{"$f":"HLOOKUP(YY8,DEBUT!$AB$4:$BP$78,2,FALSE)","v":{"$error":"#N/A"}},null,null,null,null,null,null,null,null,null,null,{"$f":"HLOOKUP(ZJ8,DEBUT!$AB$4:$BP$78,2,FALSE)","v":{"$error":"#N/A"}},null,null,null,null,null,null,{"$f":"HLOOKUP(ZQ8,DEBUT!$AB$4:$BP$78,2,FALSE)","v":{"$error":"#N/A"}},null,null,null,null,null,null,null,null,{"$f":"HLOOKUP(ZZ8,DEBUT!$AB$4:$BP$78,2,FALSE)","v":{"$error":"#N/A"}},null,null,null,null,null,null,{"$f":"HLOOKUP(AAG8,DEBUT!$AB$4:$BP$78,2,FALSE)","v":{"$error":"#N/A"}},null,null,null,null,null,null,null,null,null,null,{"$f":"HLOOKUP(AAR8,DEBUT!$AB$4:$BP$78,2,FALSE)","v":{"$error":"#N/A"}},null,null,null,null,null,null,{"$f":"HLOOKUP(AAY8,DEBUT!$AB$4:$BP$78,2,FALSE)","v":{"$error":"#N/A"}},null,null,null,null,null,null,null,null,{"$f":"HLOOKUP(ABH8,DEBUT!$AB$4:$BP$78,2,FALSE)","v":{"$error":"#N/A"}},null,null,null,null,null,null,{"$f":"HLOOKUP(ABO8,DEBUT!$AB$4:$BP$78,2,FALSE)","v":{"$error":"#N/A"}},null,null,null,null,null,null,null,null,null,null,{"$f":"HLOOKUP(ABZ8,DEBUT!$AB$4:$BP$78,2,FALSE)","v":{"$error":"#N/A"}},null,null,null,null,null,null,{"$f":"HLOOKUP(ACG8,DEBUT!$AB$4:$BP$78,2,FALSE)","v":{"$error":"#N/A"}},null,null,null,null,null,null,null,null,{"$f":"HLOOKUP(ACP8,DEBUT!$AB$4:$BP$78,2,FALSE)","v":{"$error":"#N/A"}},null,null,null,null,null,null,{"$f":"HLOOKUP(ACW8,DEBUT!$AB$4:$BP$78,2,FALSE)","v":{"$error":"#N/A"}},null,null,null,null,null,null,null,null,null,null,{"$f":"HLOOKUP(ADH8,DEBUT!$AB$4:$BP$78,2,FALSE)","v":{"$error":"#N/A"}},null,null,null,null,null,null,{"$f":"HLOOKUP(ADO8,DEBUT!$AB$4:$BP$78,2,FALSE)","v":{"$error":"#N/A"}},null,null,null,null,null,null,null,null,{"$f":"HLOOKUP(ADX8,DEBUT!$AB$4:$BP$78,2,FALSE)","v":{"$error":"#N/A"}},null,null,null,null,null,null,{"$f":"HLOOKUP(AEE8,DEBUT!$AB$4:$BP$78,2,FALSE)","v":{"$error":"#N/A"}}]
[null,null,null,null,null,"Zones dangereuses",null,null,null,null,null,null,"Zones dangereuses",null,null,null,null,null,null,null,null,"Zones dangereuses",null,null,null,null,null,null,"Zones dangereuses",null,null,null,null,null,null,null,null,null,null,"Zones dangereuses",null,null,null,null,null,null,"Zones dangereuses",null,null,null,null,null,null,null,null,"Zones dangereuses",null,null,null,null,null,null,"Zones dangereuses",null,null,null,null,null,null,null,null,null,null,"Zones dangereuses",null,null,null,null,null,null,"Zones dangereuses",null,null,null,null,null,null,null,null,"Zones dangereuses",null,null,null,null,null,null,"Zones dangereuses",null,null,null,null,null,null,null,null,null,null,"Zones dangereuses",null,null,null,null,null,null,"Zones dangereuses",null,null,null,null,null,null,null,null,"Zones dangereuses",null,null,null,null,null,null,"Zones dangereuses",null,null,null,null,null,null,null,null,null,null,"Zones dangereuses",null,null,null,null,null,null,"Zones dangereuses",null,null,null,null,null,null,null,null,"Zones dangereuses",null,null,null,null,null,null,"Zones dangereuses",null,null,null,null,null,null,null,null,null,null,"Zones dangereuses",null,null,null,null,null,null,"Zones dangereuses",null,null,null,null,null,null,null,null,"Zones dangereuses",null,null,null,null,null,null,"Zones dangereuses",null,null,null,null,null,null,null,null,null,null,"Zones dangereuses",null,null,null,null,null,null,"Zones dangereuses",null,null,null,null,null,null,null,null,"Zones dangereuses",null,null,null,null,null,null,"Zones dangereuses",null,null,null,null,null,null,null,null,null,null,"Zones dangereuses",null,null,null,null,null,null,"Zones dangereuses",null,null,null,null,null,null,null,null,"Zones dangereuses",null,null,null,null,null,null,"Zones dangereuses",null,null,null,null,null,null,null,null,null,null,"Zones dangereuses",null,null,null,null,null,null,"Zones dangereuses",null,null,null,null,null,null,null,null,"Zones dangereuses",null,null,null,null,null,null,"Zones dangereuses",null,null,null,null,null,null,null,null,null,null,"Zones dangereuses",null,null,null,null,null,null,"Zones dangereuses",null,null,null,null,null,null,null,null,"Zones dangereuses",null,null,null,null,null,null,"Zones dangereuses",null,null,null,null,null,null,null,null,null,null,"Zones dangereuses",null,null,null,null,null,null,"Zones dangereuses",null,null,null,null,null,null,null,null,"Zones dangereuses",null,null,null,null,null,null,"Zones dangereuses",null,null,null,null,null,null,null,null,null,null,"Zones dangereuses",null,null,null,null,null,null,"Zones dangereuses",null,null,null,null,null,null,null,null,"Zones dangereuses",null,null,null,null,null,null,"Zones dangereuses",null,null,null,null,null,null,null,null,null,null,"Zones dangereuses",null,null,null,null,null,null,"Zones dangereuses",null,null,null,null,null,null,null,null,"Zones dangereuses",null,null,null,null,null,null,"Zones dangereuses",null,null,null,null,null,null,null,null,null,null,"Zones dangereuses",null,null,null,null,null,null,"Zones dangereuses",null,null,null,null,null,null,null,null,"Zones dangereuses",null,null,null,null,null,null,"Zones dangereuses",null,null,null,null,null,null,null,null,null,null,"Zones dangereuses",null,null,null,null,null,null,"Zones dangereuses",null,null,null,null,null,null,null,null,"Zones dangereuses",null,null,null,null,null,null,"Zones dangereuses",null,null,null,null,null,null,null,null,null,null,"Zones dangereuses",null,null,null,null,null,null,"Zones dangereuses",null,null,null,null,null,null,null,null,"Zones dangereuses",null,null,null,null,null,null,"Zones dangereuses",null,null,null,null,null,null,null,null,null,null,"Zones dangereuses",null,null,null,null,null,null,"Zones dangereuses",null,null,null,null,null,null,null,null,"Zones dangereuses",null,null,null,null,null,null,"Zones dangereuses",null,null,null,null,null,null,null,null,null,null,"Zones dangereuses",null,null,null,null,null,null,"Zones dangereuses",null,null,null,null,null,null,null,null,"Zones dangereuses",null,null,null,null,null,null,"Zones dangereuses",null,null,null,null,null,null,null,null,null,null,"Zones dangereuses",null,null,null,null,null,null,"Zones dangereuses",null,null,null,null,null,null,null,null,"Zones dangereuses",null,null,null,null,null,null,"Zones dangereuses",null,null,null,null,null,null,null,null,null,null,"Zones dangereuses",null,null,null,null,null,null,"Zones dangereuses",null,null,null,null,null,null,null,null,"Zones dangereuses",null,null,null,null,null,null,"Zones dangereuses",null,null,null,null,null,null,null,null,null,null,"Zones dangereuses",null,null,null,null,null,null,"Zones dangereuses",null,null,null,null,null,null,null,null,"Zones dangereuses",null,null,null,null,null,null,"Zones dangereuses",null,null,null,null,null,null,null,null,null,null,"Zones dangereuses",null,null,null,null,null,null,"Zones dangereuses",null,null,null,null,null,null,null,null,"Zones dangereuses",null,null,null,null,null,null,"Zones dangereuses",null,null,null,null,null,null,null,null,null,null,"Zones dangereuses",null,null,null,null,null,null,"Zones dangereuses",null,null,null,null,null,null,null,null,"Zones dangereuses",null,null,null,null,null,null,"Zones dangereuses",null,null,null,null,null,null,null,null,null,null,"Zones dangereuses",null,null,null,null,null,null,"Zones dangereuses",null,null,null,null,null,null,null,null,"Zones dangereuses",null,null,null,null,null,null,"Zones dangereuses"]
[null,null,null,null,null,{"$f":"IFERROR(HLOOKUP(HLOOKUP(F$8,DEBUT!$AB$4:$BP$78,3,FALSE),DEBUT!$CP$2:$DI$18,2,FALSE),\"\")","v":""},{"$f":"IFERROR(HLOOKUP(HLOOKUP(F$8,DEBUT!$AB$4:$BP$78,3,FALSE),DEBUT!$CP$2:$DI$18,6,FALSE),\"\")","v":""},{"$f":"IFERROR(HLOOKUP(HLOOKUP(F$8,DEBUT!$AB$4:$BP$78,3,FALSE),DEBUT!$CP$2:$DI$18,10,FALSE),\"\")","v":""},{"$f":"IFERROR(HLOOKUP(HLOOKUP(F$8,DEBUT!$AB$4:$BP$78,3,FALSE),DEBUT!$CP$2:$DI$18,14,FALSE),\"\")","v":""},null,null,null,{"$f":"IFERROR(HLOOKUP(HLOOKUP(M$8,DEBUT!$AB$4:$BP$78,3,FALSE),DEBUT!$CP$2:$DI$18,2,FALSE),\"\")","v":""},{"$f":"IFERROR(HLOOKUP(HLOOKUP(M$8,DEBUT!$AB$4:$BP$78,3,FALSE),DEBUT!$CP$2:$DI$18,6,FALSE),\"\")","v":""},{"$f":"IFERROR(HLOOKUP(HLOOKUP(M$8,DEBUT!$AB$4:$BP$78,3,FALSE),DEBUT!$CP$2:$DI$18,10,FALSE),\"\")","v":""},{"$f":"IFERROR(HLOOKUP(HLOOKUP(M$8,DEBUT!$AB$4:$BP$78,3,FALSE),DEBUT!$CP$2:$DI$18,14,FALSE),\"\")","v":""},null,null,null,null,null,{"$f":"IFERROR(HLOOKUP(HLOOKUP(V$8,DEBUT!$AB$4:$BP$78,3,FALSE),DEBUT!$CP$2:$DI$18,2,FALSE),\"\")","v":""},{"$f":"IFERROR(HLOOKUP(HLOOKUP(V$8,DEBUT!$AB$4:$BP$78,3,FALSE),DEBUT!$CP$2:$DI$18,6,FALSE),\"\")","v":""},{"$f":"IFERROR(HLOOKUP(HLOOKUP(V$8,DEBUT!$AB$4:$BP$78,3,FALSE),DEBUT!$CP$2:$DI$18,10,FALSE),\"\")","v":""},{"$f":"IFERROR(HLOOKUP(HLOOKUP(V$8,DEBUT!$AB$4:$BP$78,3,FALSE),DEBUT!$CP$2:$DI$18,14,FALSE),\"\")","v":""},null,null,null,{"$f":"IFERROR(HLOOKUP(HLOOKUP(AC$8,DEBUT!$AB$4:$BP$78,3,FALSE),DEBUT!$CP$2:$DI$18,2,FALSE),\"\")","v":""},{"$f":"IFERROR(HLOOKUP(HLOOKUP(AC$8,DEBUT!$AB$4:$BP$78,3,FALSE),DEBUT!$CP$2:$DI$18,6,FALSE),\"\")","v":""},{"$f":"IFERROR(HLOOKUP(HLOOKUP(AC$8,DEBUT!$AB$4:$BP$78,3,FALSE),DEBUT!$CP$2:$DI$18,10,FALSE),\"\")","v":""},{"$f":"IFERROR(HLOOKUP(HLOOKUP(AC$8,DEBUT!$AB$4:$BP$78,3,FALSE),DEBUT!$CP$2:$DI$18,14,FALSE),\"\")","v":""},null,null,null,null,null,null,null,{"$f":"IFERROR(HLOOKUP(HLOOKUP(AN$8,DEBUT!$AB$4:$BP$78,3,FALSE),DEBUT!$CP$2:$DI$18,2,FALSE),\"\")","v":""},{"$f":"IFERROR(HLOOKUP(HLOOKUP(AN$8,DEBUT!$AB$4:$BP$78,3,FALSE),DEBUT!$CP$2:$DI$18,6,FALSE),\"\")","v":""},{"$f":"IFERROR(HLOOKUP(HLOOKUP(AN$8,DEBUT!$AB$4:$BP$78,3,FALSE),DEBUT!$CP$2:$DI$18,10,FALSE),\"\")","v":""},{"$f":"IFERROR(HLOOKUP(HLOOKUP(AN$8,DEBUT!$AB$4:$BP$78,3,FALSE),DEBUT!$CP$2:$DI$18,14,FALSE),\"\")","v":""},null,null,null,{"$f":"IFERROR(HLOOKUP(HLOOKUP(AU$8,DEBUT!$AB$4:$BP$78,3,FALSE),DEBUT!$CP$2:$DI$18,2,FALSE),\"\")","v":""},{"$f":"IFERROR(HLOOKUP(HLOOKUP(AU$8,DEBUT!$AB$4:$BP$78,3,FALSE),DEBUT!$CP$2:$DI$18,6,FALSE),\"\")","v":""},{"$f":"IFERROR(HLOOKUP(HLOOKUP(AU$8,DEBUT!$AB$4:$BP$78,3,FALSE),DEBUT!$CP$2:$DI$18,10,FALSE),\"\")","v":""},{"$f":"IFERROR(HLOOKUP(HLOOKUP(AU$8,DEBUT!$AB$4:$BP$78,3,FALSE),DEBUT!$CP$2:$DI$18,14,FALSE),\"\")","v":""},null,null,null,null,null,{"$f":"IFERROR(HLOOKUP(HLOOKUP(BD$8,DEBUT!$AB$4:$BP$78,3,FALSE),DEBUT!$CP$2:$DI$18,2,FALSE),\"\")","v":""},{"$f":"IFERROR(HLOOKUP(HLOOKUP(BD$8,DEBUT!$AB$4:$BP$78,3,FALSE),DEBUT!$CP$2:$DI$18,6,FALSE),\"\")","v":""},{"$f":"IFERROR(HLOOKUP(HLOOKUP(BD$8,DEBUT!$AB$4:$BP$78,3,FALSE),DEBUT!$CP$2:$DI$18,10,FALSE),\"\")","v":""},{"$f":"IFERROR(HLOOKUP(HLOOKUP(BD$8,DEBUT!$AB$4:$BP$78,3,FALSE),DEBUT!$CP$2:$DI$18,14,FALSE),\"\")","v":""},null,null,null,{"$f":"IFERROR(HLOOKUP(HLOOKUP(BK$8,DEBUT!$AB$4:$BP$78,3,FALSE),DEBUT!$CP$2:$DI$18,2,FALSE),\"\")","v":""},{"$f":"IFERROR(HLOOKUP(HLOOKUP(BK$8,DEBUT!$AB$4:$BP$78,3,FALSE),DEBUT!$CP$2:$DI$18,6,FALSE),\"\")","v":""},{"$f":"IFERROR(HLOOKUP(HLOOKUP(BK$8,DEBUT!$AB$4:$BP$78,3,FALSE),DEBUT!$CP$2:$DI$18,10,FALSE),\"\")","v":""},{"$f":"IFERROR(HLOOKUP(HLOOKUP(BK$8,DEBUT!$AB$4:$BP$78,3,FALSE),DEBUT!$CP$2:$DI$18,14,FALSE),\"\")","v":""},null,null,null,null,null,null,null,{"$f":"IFERROR(HLOOKUP(HLOOKUP(BV$8,DEBUT!$AB$4:$BP$78,3,FALSE),DEBUT!$CP$2:$DI$18,2,FALSE),\"\")","v":""},{"$f":"IFERROR(HLOOKUP(HLOOKUP(BV$8,DEBUT!$AB$4:$BP$78,3,FALSE),DEBUT!$CP$2:$DI$18,6,FALSE),\"\")","v":""},{"$f":"IFERROR(HLOOKUP(HLOOKUP(BV$8,DEBUT!$AB$4:$BP$78,3,FALSE),DEBUT!$CP$2:$DI$18,10,FALSE),\"\")","v":""},{"$f":"IFERROR(HLOOKUP(HLOOKUP(BV$8,DEBUT!$AB$4:$BP$78,3,FALSE),DEBUT!$CP$2:$DI$18,14,FALSE),\"\")","v":""},null,null,null,{"$f":"IFERROR(HLOOKUP(HLOOKUP(CC$8,DEBUT!$AB$4:$BP$78,3,FALSE),DEBUT!$CP$2:$DI$18,2,FALSE),\"\")","v":""},{"$f":"IFERROR(HLOOKUP(HLOOKUP(CC$8,DEBUT!$AB$4:$BP$78,3,FALSE),DEBUT!$CP$2:$DI$18,6,FALSE),\"\")","v":""},{"$f":"IFERROR(HLOOKUP(HLOOKUP(CC$8,DEBUT!$AB$4:$BP$78,3,FALSE),DEBUT!$CP$2:$DI$18,10,FALSE),\"\")","v":""},{"$f":"IFERROR(HLOOKUP(HLOOKUP(CC$8,DEBUT!$AB$4:$BP$78,3,FALSE),DEBUT!$CP$2:$DI$18,14,FALSE),\"\")","v":""},null,null,null,null,null,{"$f":"IFERROR(HLOOKUP(HLOOKUP(CL$8,DEBUT!$AB$4:$BP$78,3,FALSE),DEBUT!$CP$2:$DI$18,2,FALSE),\"\")","v":""},{"$f":"IFERROR(HLOOKUP(HLOOKUP(CL$8,DEBUT!$AB$4:$BP$78,3,FALSE),DEBUT!$CP$2:$DI$18,6,FALSE),\"\")","v":""},{"$f":"IFERROR(HLOOKUP(HLOOKUP(CL$8,DEBUT!$AB$4:$BP$78,3,FALSE),DEBUT!$CP$2:$DI$18,10,FALSE),\"\")","v":""},{"$f":"IFERROR(HLOOKUP(HLOOKUP(CL$8,DEBUT!$AB$4:$BP$78,3,FALSE),DEBUT!$CP$2:$DI$18,14,FALSE),\"\")","v":""},null,null,null,{"$f":"IFERROR(HLOOKUP(HLOOKUP(CS$8,DEBUT!$AB$4:$BP$78,3,FALSE),DEBUT!$CP$2:$DI$18,2,FALSE),\"\")","v":""},{"$f":"IFERROR(HLOOKUP(HLOOKUP(CS$8,DEBUT!$AB$4:$BP$78,3,FALSE),DEBUT!$CP$2:$DI$18,6,FALSE),\"\")","v":""},{"$f":"IFERROR(HLOOKUP(HLOOKUP(CS$8,DEBUT!$AB$4:$BP$78,3,FALSE),DEBUT!$CP$2:$DI$18,10,FALSE),\"\")","v":""},{"$f":"IFERROR(HLOOKUP(HLOOKUP(CS$8,DEBUT!$AB$4:$BP$78,3,FALSE),DEBUT!$CP$2:$DI$18,14,FALSE),\"\")","v":""},null,null,null,null,null,null,null,{"$f":"IFERROR(HLOOKUP(HLOOKUP(DD$8,DEBUT!$AB$4:$BP$78,3,FALSE),DEBUT!$CP$2:$DI$18,2,FALSE),\"\")","v":""},{"$f":"IFERROR(HLOOKUP(HLOOKUP(DD$8,DEBUT!$AB$4:$BP$78,3,FALSE),DEBUT!$CP$2:$DI$18,6,FALSE),\"\")","v":""},{"$f":"IFERROR(HLOOKUP(HLOOKUP(DD$8,DEBUT!$AB$4:$BP$78,3,FALSE),DEBUT!$CP$2:$DI$18,10,FALSE),\"\")","v":""},{"$f":"IFERROR(HLOOKUP(HLOOKUP(DD$8,DEBUT!$AB$4:$BP$78,3,FALSE),DEBUT!$CP$2:$DI$18,14,FALSE),\"\")","v":""},null,null,null,{"$f":"IFERROR(HLOOKUP(HLOOKUP(DK$8,DEBUT!$AB$4:$BP$78,3,FALSE),DEBUT!$CP$2:$DI$18,2,FALSE),\"\")","v":""},{"$f":"IFERROR(HLOOKUP(HLOOKUP(DK$8,DEBUT!$AB$4:$BP$78,3,FALSE),DEBUT!$CP$2:$DI$18,6,FALSE),\"\")","v":""},{"$f":"IFERROR(HLOOKUP(HLOOKUP(DK$8,DEBUT!$AB$4:$BP$78,3,FALSE),DEBUT!$CP$2:$DI$18,10,FALSE),\"\")","v":""},{"$f":"IFERROR(HLOOKUP(HLOOKUP(DK$8,DEBUT!$AB$4:$BP$78,3,FALSE),DEBUT!$CP$2:$DI$18,14,FALSE),\"\")","v":""},null,null,null,null,null,{"$f":"IFERROR(HLOOKUP(HLOOKUP(DT$8,DEBUT!$AB$4:$BP$78,3,FALSE),DEBUT!$CP$2:$DI$18,2,FALSE),\"\")","v":""},{"$f":"IFERROR(HLOOKUP(HLOOKUP(DT$8,DEBUT!$AB$4:$BP$78,3,FALSE),DEBUT!$CP$2:$DI$18,6,FALSE),\"\")","v":""},{"$f":"IFERROR(HLOOKUP(HLOOKUP(DT$8,DEBUT!$AB$4:$BP$78,3,FALSE),DEBUT!$CP$2:$DI$18,10,FALSE),\"\")","v":""},{"$f":"IFERROR(HLOOKUP(HLOOKUP(DT$8,DEBUT!$AB$4:$BP$78,3,FALSE),DEBUT!$CP$2:$DI$18,14,FALSE),\"\")","v":""},null,null,null,{"$f":"IFERROR(HLOOKUP(HLOOKUP(EA$8,DEBUT!$AB$4:$BP$78,3,FALSE),DEBUT!$CP$2:$DI$18,2,FALSE),\"\")","v":""},{"$f":"IFERROR(HLOOKUP(HLOOKUP(EA$8,DEBUT!$AB$4:$BP$78,3,FALSE),DEBUT!$CP$2:$DI$18,6,FALSE),\"\")","v":""},{"$f":"IFERROR(HLOOKUP(HLOOKUP(EA$8,DEBUT!$AB$4:$BP$78,3,FALSE),DEBUT!$CP$2:$DI$18,10,FALSE),\"\")","v":""},{"$f":"IFERROR(HLOOKUP(HLOOKUP(EA$8,DEBUT!$AB$4:$BP$78,3,FALSE),DEBUT!$CP$2:$DI$18,14,FALSE),\"\")","v":""},null,null,null,null,null,null,null,{"$f":"IFERROR(HLOOKUP(HLOOKUP(EL$8,DEBUT!$AB$4:$BP$78,3,FALSE),DEBUT!$CP$2:$DI$18,2,FALSE),\"\")","v":""},{"$f":"IFERROR(HLOOKUP(HLOOKUP(EL$8,DEBUT!$AB$4:$BP$78,3,FALSE),DEBUT!$CP$2:$DI$18,6,FALSE),\"\")","v":""},{"$f":"IFERROR(HLOOKUP(HLOOKUP(EL$8,DEBUT!$AB$4:$BP$78,3,FALSE),DEBUT!$CP$2:$DI$18,10,FALSE),\"\")","v":""},{"$f":"IFERROR(HLOOKUP(HLOOKUP(EL$8,DEBUT!$AB$4:$BP$78,3,FALSE),DEBUT!$CP$2:$DI$18,14,FALSE),\"\")","v":""},null,null,null,{"$f":"IFERROR(HLOOKUP(HLOOKUP(ES$8,DEBUT!$AB$4:$BP$78,3,FALSE),DEBUT!$CP$2:$DI$18,2,FALSE),\"\")","v":""},{"$f":"IFERROR(HLOOKUP(HLOOKUP(ES$8,DEBUT!$AB$4:$BP$78,3,FALSE),DEBUT!$CP$2:$DI$18,6,FALSE),\"\")","v":""},{"$f":"IFERROR(HLOOKUP(HLOOKUP(ES$8,DEBUT!$AB$4:$BP$78,3,FALSE),DEBUT!$CP$2:$DI$18,10,FALSE),\"\")","v":""},{"$f":"IFERROR(HLOOKUP(HLOOKUP(ES$8,DEBUT!$AB$4:$BP$78,3,FALSE),DEBUT!$CP$2:$DI$18,14,FALSE),\"\")","v":""},null,null,null,null,null,{"$f":"IFERROR(HLOOKUP(HLOOKUP(FB$8,DEBUT!$AB$4:$BP$78,3,FALSE),DEBUT!$CP$2:$DI$18,2,FALSE),\"\")","v":""},{"$f":"IFERROR(HLOOKUP(HLOOKUP(FB$8,DEBUT!$AB$4:$BP$78,3,FALSE),DEBUT!$CP$2:$DI$18,6,FALSE),\"\")","v":""},{"$f":"IFERROR(HLOOKUP(HLOOKUP(FB$8,DEBUT!$AB$4:$BP$78,3,FALSE),DEBUT!$CP$2:$DI$18,10,FALSE),\"\")","v":""},{"$f":"IFERROR(HLOOKUP(HLOOKUP(FB$8,DEBUT!$AB$4:$BP$78,3,FALSE),DEBUT!$CP$2:$DI$18,14,FALSE),\"\")","v":""},null,null,null,{"$f":"IFERROR(HLOOKUP(HLOOKUP(FI$8,DEBUT!$AB$4:$BP$78,3,FALSE),DEBUT!$CP$2:$DI$18,2,FALSE),\"\")","v":""},{"$f":"IFERROR(HLOOKUP(HLOOKUP(FI$8,DEBUT!$AB$4:$BP$78,3,FALSE),DEBUT!$CP$2:$DI$18,6,FALSE),\"\")","v":""},{"$f":"IFERROR(HLOOKUP(HLOOKUP(FI$8,DEBUT!$AB$4:$BP$78,3,FALSE),DEBUT!$CP$2:$DI$18,10,FALSE),\"\")","v":""},{"$f":"IFERROR(HLOOKUP(HLOOKUP(FI$8,DEBUT!$AB$4:$BP$78,3,FALSE),DEBUT!$CP$2:$DI$18,14,FALSE),\"\")","v":""},null,null,null,null,null,null,null,{"$f":"IFERROR(HLOOKUP(HLOOKUP(FT$8,DEBUT!$AB$4:$BP$78,3,FALSE),DEBUT!$CP$2:$DI$18,2,FALSE),\"\")","v":""},{"$f":"IFERROR(HLOOKUP(HLOOKUP(FT$8,DEBUT!$AB$4:$BP$78,3,FALSE),DEBUT!$CP$2:$DI$18,6,FALSE),\"\")","v":""},{"$f":"IFERROR(HLOOKUP(HLOOKUP(FT$8,DEBUT!$AB$4:$BP$78,3,FALSE),DEBUT!$CP$2:$DI$18,10,FALSE),\"\")","v":""},{"$f":"IFERROR(HLOOKUP(HLOOKUP(FT$8,DEBUT!$AB$4:$BP$78,3,FALSE),DEBUT!$CP$2:$DI$18,14,FALSE),\"\")","v":""},null,null,null,{"$f":"IFERROR(HLOOKUP(HLOOKUP(GA$8,DEBUT!$AB$4:$BP$78,3,FALSE),DEBUT!$CP$2:$DI$18,2,FALSE),\"\")","v":""},{"$f":"IFERROR(HLOOKUP(HLOOKUP(GA$8,DEBUT!$AB$4:$BP$78,3,FALSE),DEBUT!$CP$2:$DI$18,6,FALSE),\"\")","v":""},{"$f":"IFERROR(HLOOKUP(HLOOKUP(GA$8,DEBUT!$AB$4:$BP$78,3,FALSE),DEBUT!$CP$2:$DI$18,10,FALSE),\"\")","v":""},{"$f":"IFERROR(HLOOKUP(HLOOKUP(GA$8,DEBUT!$AB$4:$BP$78,3,FALSE),DEBUT!$CP$2:$DI$18,14,FALSE),\"\")","v":""},null,null,null,null,null,{"$f":"IFERROR(HLOOKUP(HLOOKUP(GJ$8,DEBUT!$AB$4:$BP$78,3,FALSE),DEBUT!$CP$2:$DI$18,2,FALSE),\"\")","v":""},{"$f":"IFERROR(HLOOKUP(HLOOKUP(GJ$8,DEBUT!$AB$4:$BP$78,3,FALSE),DEBUT!$CP$2:$DI$18,6,FALSE),\"\")","v":""},{"$f":"IFERROR(HLOOKUP(HLOOKUP(GJ$8,DEBUT!$AB$4:$BP$78,3,FALSE),DEBUT!$CP$2:$DI$18,10,FALSE),\"\")","v":""},{"$f":"IFERROR(HLOOKUP(HLOOKUP(GJ$8,DEBUT!$AB$4:$BP$78,3,FALSE),DEBUT!$CP$2:$DI$18,14,FALSE),\"\")","v":""},null,null,null,{"$f":"IFERROR(HLOOKUP(HLOOKUP(GQ$8,DEBUT!$AB$4:$BP$78,3,FALSE),DEBUT!$CP$2:$DI$18,2,FALSE),\"\")","v":""},{"$f":"IFERROR(HLOOKUP(HLOOKUP(GQ$8,DEBUT!$AB$4:$BP$78,3,FALSE),DEBUT!$CP$2:$DI$18,6,FALSE),\"\")","v":""},{"$f":"IFERROR(HLOOKUP(HLOOKUP(GQ$8,DEBUT!$AB$4:$BP$78,3,FALSE),DEBUT!$CP$2:$DI$18,10,FALSE),\"\")","v":""},{"$f":"IFERROR(HLOOKUP(HLOOKUP(GQ$8,DEBUT!$AB$4:$BP$78,3,FALSE),DEBUT!$CP$2:$DI$18,14,FALSE),\"\")","v":""},null,null,null,null,null,null,null,{"$f":"IFERROR(HLOOKUP(HLOOKUP(HB$8,DEBUT!$AB$4:$BP$78,3,FALSE),DEBUT!$CP$2:$DI$18,2,FALSE),\"\")","v":""},{"$f":"IFERROR(HLOOKUP(HLOOKUP(HB$8,DEBUT!$AB$4:$BP$78,3,FALSE),DEBUT!$CP$2:$DI$18,6,FALSE),\"\")","v":""},{"$f":"IFERROR(HLOOKUP(HLOOKUP(HB$8,DEBUT!$AB$4:$BP$78,3,FALSE),DEBUT!$CP$2:$DI$18,10,FALSE),\"\")","v":""},{"$f":"IFERROR(HLOOKUP(HLOOKUP(HB$8,DEBUT!$AB$4:$BP$78,3,FALSE),DEBUT!$CP$2:$DI$18,14,FALSE),\"\")","v":""},null,null,null,{"$f":"IFERROR(HLOOKUP(HLOOKUP(HI$8,DEBUT!$AB$4:$BP$78,3,FALSE),DEBUT!$CP$2:$DI$18,2,FALSE),\"\")","v":""},{"$f":"IFERROR(HLOOKUP(HLOOKUP(HI$8,DEBUT!$AB$4:$BP$78,3,FALSE),DEBUT!$CP$2:$DI$18,6,FALSE),\"\")","v":""},{"$f":"IFERROR(HLOOKUP(HLOOKUP(HI$8,DEBUT!$AB$4:$BP$78,3,FALSE),DEBUT!$CP$2:$DI$18,10,FALSE),\"\")","v":""},{"$f":"IFERROR(HLOOKUP(HLOOKUP(HI$8,DEBUT!$AB$4:$BP$78,3,FALSE),DEBUT!$CP$2:$DI$18,14,FALSE),\"\")","v":""},null,null,null,null,null,{"$f":"IFERROR(HLOOKUP(HLOOKUP(HR$8,DEBUT!$AB$4:$BP$78,3,FALSE),DEBUT!$CP$2:$DI$18,2,FALSE),\"\")","v":""},{"$f":"IFERROR(HLOOKUP(HLOOKUP(HR$8,DEBUT!$AB$4:$BP$78,3,FALSE),DEBUT!$CP$2:$DI$18,6,FALSE),\"\")","v":""},{"$f":"IFERROR(HLOOKUP(HLOOKUP(HR$8,DEBUT!$AB$4:$BP$78,3,FALSE),DEBUT!$CP$2:$DI$18,10,FALSE),\"\")","v":""},{"$f":"IFERROR(HLOOKUP(HLOOKUP(HR$8,DEBUT!$AB$4:$BP$78,3,FALSE),DEBUT!$CP$2:$DI$18,14,FALSE),\"\")","v":""},null,null,null,{"$f":"IFERROR(HLOOKUP(HLOOKUP(HY$8,DEBUT!$AB$4:$BP$78,3,FALSE),DEBUT!$CP$2:$DI$18,2,FALSE),\"\")","v":""},{"$f":"IFERROR(HLOOKUP(HLOOKUP(HY$8,DEBUT!$AB$4:$BP$78,3,FALSE),DEBUT!$CP$2:$DI$18,6,FALSE),\"\")","v":""},{"$f":"IFERROR(HLOOKUP(HLOOKUP(HY$8,DEBUT!$AB$4:$BP$78,3,FALSE),DEBUT!$CP$2:$DI$18,10,FALSE),\"\")","v":""},{"$f":"IFERROR(HLOOKUP(HLOOKUP(HY$8,DEBUT!$AB$4:$BP$78,3,FALSE),DEBUT!$CP$2:$DI$18,14,FALSE),\"\")","v":""},null,null,null,null,null,null,null,{"$f":"IFERROR(HLOOKUP(HLOOKUP(IJ$8,DEBUT!$AB$4:$BP$78,3,FALSE),DEBUT!$CP$2:$DI$18,2,FALSE),\"\")","v":""},{"$f":"IFERROR(HLOOKUP(HLOOKUP(IJ$8,DEBUT!$AB$4:$BP$78,3,FALSE),DEBUT!$CP$2:$DI$18,6,FALSE),\"\")","v":""},{"$f":"IFERROR(HLOOKUP(HLOOKUP(IJ$8,DEBUT!$AB$4:$BP$78,3,FALSE),DEBUT!$CP$2:$DI$18,10,FALSE),\"\")","v":""},{"$f":"IFERROR(HLOOKUP(HLOOKUP(IJ$8,DEBUT!$AB$4:$BP$78,3,FALSE),DEBUT!$CP$2:$DI$18,14,FALSE),\"\")","v":""},null,null,null,{"$f":"IFERROR(HLOOKUP(HLOOKUP(IQ$8,DEBUT!$AB$4:$BP$78,3,FALSE),DEBUT!$CP$2:$DI$18,2,FALSE),\"\")","v":""},{"$f":"IFERROR(HLOOKUP(HLOOKUP(IQ$8,DEBUT!$AB$4:$BP$78,3,FALSE),DEBUT!$CP$2:$DI$18,6,FALSE),\"\")","v":""},{"$f":"IFERROR(HLOOKUP(HLOOKUP(IQ$8,DEBUT!$AB$4:$BP$78,3,FALSE),DEBUT!$CP$2:$DI$18,10,FALSE),\"\")","v":""},{"$f":"IFERROR(HLOOKUP(HLOOKUP(IQ$8,DEBUT!$AB$4:$BP$78,3,FALSE),DEBUT!$CP$2:$DI$18,14,FALSE),\"\")","v":""},null,null,null,null,null,{"$f":"IFERROR(HLOOKUP(HLOOKUP(IZ$8,DEBUT!$AB$4:$BP$78,3,FALSE),DEBUT!$CP$2:$DI$18,2,FALSE),\"\")","v":""},{"$f":"IFERROR(HLOOKUP(HLOOKUP(IZ$8,DEBUT!$AB$4:$BP$78,3,FALSE),DEBUT!$CP$2:$DI$18,6,FALSE),\"\")","v":""},{"$f":"IFERROR(HLOOKUP(HLOOKUP(IZ$8,DEBUT!$AB$4:$BP$78,3,FALSE),DEBUT!$CP$2:$DI$18,10,FALSE),\"\")","v":""},{"$f":"IFERROR(HLOOKUP(HLOOKUP(IZ$8,DEBUT!$AB$4:$BP$78,3,FALSE),DEBUT!$CP$2:$DI$18,14,FALSE),\"\")","v":""},null,null,null,{"$f":"IFERROR(HLOOKUP(HLOOKUP(JG$8,DEBUT!$AB$4:$BP$78,3,FALSE),DEBUT!$CP$2:$DI$18,2,FALSE),\"\")","v":""},{"$f":"IFERROR(HLOOKUP(HLOOKUP(JG$8,DEBUT!$AB$4:$BP$78,3,FALSE),DEBUT!$CP$2:$DI$18,6,FALSE),\"\")","v":""},{"$f":"IFERROR(HLOOKUP(HLOOKUP(JG$8,DEBUT!$AB$4:$BP$78,3,FALSE),DEBUT!$CP$2:$DI$18,10,FALSE),\"\")","v":""},{"$f":"IFERROR(HLOOKUP(HLOOKUP(JG$8,DEBUT!$AB$4:$BP$78,3,FALSE),DEBUT!$CP$2:$DI$18,14,FALSE),\"\")","v":""},null,null,null,null,null,null,null,{"$f":"IFERROR(HLOOKUP(HLOOKUP(JR$8,DEBUT!$AB$4:$BP$78,3,FALSE),DEBUT!$CP$2:$DI$18,2,FALSE),\"\")","v":""},{"$f":"IFERROR(HLOOKUP(HLOOKUP(JR$8,DEBUT!$AB$4:$BP$78,3,FALSE),DEBUT!$CP$2:$DI$18,6,FALSE),\"\")","v":""},{"$f":"IFERROR(HLOOKUP(HLOOKUP(JR$8,DEBUT!$AB$4:$BP$78,3,FALSE),DEBUT!$CP$2:$DI$18,10,FALSE),\"\")","v":""},{"$f":"IFERROR(HLOOKUP(HLOOKUP(JR$8,DEBUT!$AB$4:$BP$78,3,FALSE),DEBUT!$CP$2:$DI$18,14,FALSE),\"\")","v":""},null,null,null,{"$f":"IFERROR(HLOOKUP(HLOOKUP(JY$8,DEBUT!$AB$4:$BP$78,3,FALSE),DEBUT!$CP$2:$DI$18,2,FALSE),\"\")","v":""},{"$f":"IFERROR(HLOOKUP(HLOOKUP(JY$8,DEBUT!$AB$4:$BP$78,3,FALSE),DEBUT!$CP$2:$DI$18,6,FALSE),\"\")","v":""},{"$f":"IFERROR(HLOOKUP(HLOOKUP(JY$8,DEBUT!$AB$4:$BP$78,3,FALSE),DEBUT!$CP$2:$DI$18,10,FALSE),\"\")","v":""},{"$f":"IFERROR(HLOOKUP(HLOOKUP(JY$8,DEBUT!$AB$4:$BP$78,3,FALSE),DEBUT!$CP$2:$DI$18,14,FALSE),\"\")","v":""},null,null,null,null,null,{"$f":"IFERROR(HLOOKUP(HLOOKUP(KH$8,DEBUT!$AB$4:$BP$78,3,FALSE),DEBUT!$CP$2:$DI$18,2,FALSE),\"\")","v":""},{"$f":"IFERROR(HLOOKUP(HLOOKUP(KH$8,DEBUT!$AB$4:$BP$78,3,FALSE),DEBUT!$CP$2:$DI$18,6,FALSE),\"\")","v":""},{"$f":"IFERROR(HLOOKUP(HLOOKUP(KH$8,DEBUT!$AB$4:$BP$78,3,FALSE),DEBUT!$CP$2:$DI$18,10,FALSE),\"\")","v":""},{"$f":"IFERROR(HLOOKUP(HLOOKUP(KH$8,DEBUT!$AB$4:$BP$78,3,FALSE),DEBUT!$CP$2:$DI$18,14,FALSE),\"\")","v":""},null,null,null,{"$f":"IFERROR(HLOOKUP(HLOOKUP(KO$8,DEBUT!$AB$4:$BP$78,3,FALSE),DEBUT!$CP$2:$DI$18,2,FALSE),\"\")","v":""},{"$f":"IFERROR(HLOOKUP(HLOOKUP(KO$8,DEBUT!$AB$4:$BP$78,3,FALSE),DEBUT!$CP$2:$DI$18,6,FALSE),\"\")","v":""},{"$f":"IFERROR(HLOOKUP(HLOOKUP(KO$8,DEBUT!$AB$4:$BP$78,3,FALSE),DEBUT!$CP$2:$DI$18,10,FALSE),\"\")","v":""},{"$f":"IFERROR(HLOOKUP(HLOOKUP(KO$8,DEBUT!$AB$4:$BP$78,3,FALSE),DEBUT!$CP$2:$DI$18,14,FALSE),\"\")","v":""},null,null,null,null,null,null,null,{"$f":"IFERROR(HLOOKUP(HLOOKUP(KZ$8,DEBUT!$AB$4:$BP$78,3,FALSE),DEBUT!$CP$2:$DI$18,2,FALSE),\"\")","v":""},{"$f":"IFERROR(HLOOKUP(HLOOKUP(KZ$8,DEBUT!$AB$4:$BP$78,3,FALSE),DEBUT!$CP$2:$DI$18,6,FALSE),\"\")","v":""},{"$f":"IFERROR(HLOOKUP(HLOOKUP(KZ$8,DEBUT!$AB$4:$BP$78,3,FALSE),DEBUT!$CP$2:$DI$18,10,FALSE),\"\")","v":""},{"$f":"IFERROR(HLOOKUP(HLOOKUP(KZ$8,DEBUT!$AB$4:$BP$78,3,FALSE),DEBUT!$CP$2:$DI$18,14,FALSE),\"\")","v":""},null,null,null,{"$f":"IFERROR(HLOOKUP(HLOOKUP(LG$8,DEBUT!$AB$4:$BP$78,3,FALSE),DEBUT!$CP$2:$DI$18,2,FALSE),\"\")","v":""},{"$f":"IFERROR(HLOOKUP(HLOOKUP(LG$8,DEBUT!$AB$4:$BP$78,3,FALSE),DEBUT!$CP$2:$DI$18,6,FALSE),\"\")","v":""},{"$f":"IFERROR(HLOOKUP(HLOOKUP(LG$8,DEBUT!$AB$4:$BP$78,3,FALSE),DEBUT!$CP$2:$DI$18,10,FALSE),\"\")","v":""},{"$f":"IFERROR(HLOOKUP(HLOOKUP(LG$8,DEBUT!$AB$4:$BP$78,3,FALSE),DEBUT!$CP$2:$DI$18,14,FALSE),\"\")","v":""},null,null,null,null,null,{"$f":"IFERROR(HLOOKUP(HLOOKUP(LP$8,DEBUT!$AB$4:$BP$78,3,FALSE),DEBUT!$CP$2:$DI$18,2,FALSE),\"\")","v":""},{"$f":"IFERROR(HLOOKUP(HLOOKUP(LP$8,DEBUT!$AB$4:$BP$78,3,FALSE),DEBUT!$CP$2:$DI$18,6,FALSE),\"\")","v":""},{"$f":"IFERROR(HLOOKUP(HLOOKUP(LP$8,DEBUT!$AB$4:$BP$78,3,FALSE),DEBUT!$CP$2:$DI$18,10,FALSE),\"\")","v":""},{"$f":"IFERROR(HLOOKUP(HLOOKUP(LP$8,DEBUT!$AB$4:$BP$78,3,FALSE),DEBUT!$CP$2:$DI$18,14,FALSE),\"\")","v":""},null,null,null,{"$f":"IFERROR(HLOOKUP(HLOOKUP(LW$8,DEBUT!$AB$4:$BP$78,3,FALSE),DEBUT!$CP$2:$DI$18,2,FALSE),\"\")","v":""},{"$f":"IFERROR(HLOOKUP(HLOOKUP(LW$8,DEBUT!$AB$4:$BP$78,3,FALSE),DEBUT!$CP$2:$DI$18,6,FALSE),\"\")","v":""},{"$f":"IFERROR(HLOOKUP(HLOOKUP(LW$8,DEBUT!$AB$4:$BP$78,3,FALSE),DEBUT!$CP$2:$DI$18,10,FALSE),\"\")","v":""},{"$f":"IFERROR(HLOOKUP(HLOOKUP(LW$8,DEBUT!$AB$4:$BP$78,3,FALSE),DEBUT!$CP$2:$DI$18,14,FALSE),\"\")","v":""},null,null,null,null,null,null,null,{"$f":"IFERROR(HLOOKUP(HLOOKUP(MH$8,DEBUT!$AB$4:$BP$78,3,FALSE),DEBUT!$CP$2:$DI$18,2,FALSE),\"\")","v":""},{"$f":"IFERROR(HLOOKUP(HLOOKUP(MH$8,DEBUT!$AB$4:$BP$78,3,FALSE),DEBUT!$CP$2:$DI$18,6,FALSE),\"\")","v":""},{"$f":"IFERROR(HLOOKUP(HLOOKUP(MH$8,DEBUT!$AB$4:$BP$78,3,FALSE),DEBUT!$CP$2:$DI$18,10,FALSE),\"\")","v":""},{"$f":"IFERROR(HLOOKUP(HLOOKUP(MH$8,DEBUT!$AB$4:$BP$78,3,FALSE),DEBUT!$CP$2:$DI$18,14,FALSE),\"\")","v":""},null,null,null,{"$f":"IFERROR(HLOOKUP(HLOOKUP(MO$8,DEBUT!$AB$4:$BP$78,3,FALSE),DEBUT!$CP$2:$DI$18,2,FALSE),\"\")","v":""},{"$f":"IFERROR(HLOOKUP(HLOOKUP(MO$8,DEBUT!$AB$4:$BP$78,3,FALSE),DEBUT!$CP$2:$DI$18,6,FALSE),\"\")","v":""},{"$f":"IFERROR(HLOOKUP(HLOOKUP(MO$8,DEBUT!$AB$4:$BP$78,3,FALSE),DEBUT!$CP$2:$DI$18,10,FALSE),\"\")","v":""},{"$f":"IFERROR(HLOOKUP(HLOOKUP(MO$8,DEBUT!$AB$4:$BP$78,3,FALSE),DEBUT!$CP$2:$DI$18,14,FALSE),\"\")","v":""},null,null,null,null,null,{"$f":"IFERROR(HLOOKUP(HLOOKUP(MX$8,DEBUT!$AB$4:$BP$78,3,FALSE),DEBUT!$CP$2:$DI$18,2,FALSE),\"\")","v":""},{"$f":"IFERROR(HLOOKUP(HLOOKUP(MX$8,DEBUT!$AB$4:$BP$78,3,FALSE),DEBUT!$CP$2:$DI$18,6,FALSE),\"\")","v":""},{"$f":"IFERROR(HLOOKUP(HLOOKUP(MX$8,DEBUT!$AB$4:$BP$78,3,FALSE),DEBUT!$CP$2:$DI$18,10,FALSE),\"\")","v":""},{"$f":"IFERROR(HLOOKUP(HLOOKUP(MX$8,DEBUT!$AB$4:$BP$78,3,FALSE),DEBUT!$CP$2:$DI$18,14,FALSE),\"\")","v":""},null,null,null,{"$f":"IFERROR(HLOOKUP(HLOOKUP(NE$8,DEBUT!$AB$4:$BP$78,3,FALSE),DEBUT!$CP$2:$DI$18,2,FALSE),\"\")","v":""},{"$f":"IFERROR(HLOOKUP(HLOOKUP(NE$8,DEBUT!$AB$4:$BP$78,3,FALSE),DEBUT!$CP$2:$DI$18,6,FALSE),\"\")","v":""},{"$f":"IFERROR(HLOOKUP(HLOOKUP(NE$8,DEBUT!$AB$4:$BP$78,3,FALSE),DEBUT!$CP$2:$DI$18,10,FALSE),\"\")","v":""},{"$f":"IFERROR(HLOOKUP(HLOOKUP(NE$8,DEBUT!$AB$4:$BP$78,3,FALSE),DEBUT!$CP$2:$DI$18,14,FALSE),\"\")","v":""},null,null,null,null,null,null,null,{"$f":"IFERROR(HLOOKUP(HLOOKUP(NP$8,DEBUT!$AB$4:$BP$78,3,FALSE),DEBUT!$CP$2:$DI$18,2,FALSE),\"\")","v":""},{"$f":"IFERROR(HLOOKUP(HLOOKUP(NP$8,DEBUT!$AB$4:$BP$78,3,FALSE),DEBUT!$CP$2:$DI$18,6,FALSE),\"\")","v":""},{"$f":"IFERROR(HLOOKUP(HLOOKUP(NP$8,DEBUT!$AB$4:$BP$78,3,FALSE),DEBUT!$CP$2:$DI$18,10,FALSE),\"\")","v":""},{"$f":"IFERROR(HLOOKUP(HLOOKUP(NP$8,DEBUT!$AB$4:$BP$78,3,FALSE),DEBUT!$CP$2:$DI$18,14,FALSE),\"\")","v":""},null,null,null,{"$f":"IFERROR(HLOOKUP(HLOOKUP(NW$8,DEBUT!$AB$4:$BP$78,3,FALSE),DEBUT!$CP$2:$DI$18,2,FALSE),\"\")","v":""},{"$f":"IFERROR(HLOOKUP(HLOOKUP(NW$8,DEBUT!$AB$4:$BP$78,3,FALSE),DEBUT!$CP$2:$DI$18,6,FALSE),\"\")","v":""},{"$f":"IFERROR(HLOOKUP(HLOOKUP(NW$8,DEBUT!$AB$4:$BP$78,3,FALSE),DEBUT!$CP$2:$DI$18,10,FALSE),\"\")","v":""},{"$f":"IFERROR(HLOOKUP(HLOOKUP(NW$8,DEBUT!$AB$4:$BP$78,3,FALSE),DEBUT!$CP$2:$DI$18,14,FALSE),\"\")","v":""},null,null,null,null,null,{"$f":"IFERROR(HLOOKUP(HLOOKUP(OF$8,DEBUT!$AB$4:$BP$78,3,FALSE),DEBUT!$CP$2:$DI$18,2,FALSE),\"\")","v":""},{"$f":"IFERROR(HLOOKUP(HLOOKUP(OF$8,DEBUT!$AB$4:$BP$78,3,FALSE),DEBUT!$CP$2:$DI$18,6,FALSE),\"\")","v":""},{"$f":"IFERROR(HLOOKUP(HLOOKUP(OF$8,DEBUT!$AB$4:$BP$78,3,FALSE),DEBUT!$CP$2:$DI$18,10,FALSE),\"\")","v":""},{"$f":"IFERROR(HLOOKUP(HLOOKUP(OF$8,DEBUT!$AB$4:$BP$78,3,FALSE),DEBUT!$CP$2:$DI$18,14,FALSE),\"\")","v":""},null,null,null,{"$f":"IFERROR(HLOOKUP(HLOOKUP(OM$8,DEBUT!$AB$4:$BP$78,3,FALSE),DEBUT!$CP$2:$DI$18,2,FALSE),\"\")","v":""},{"$f":"IFERROR(HLOOKUP(HLOOKUP(OM$8,DEBUT!$AB$4:$BP$78,3,FALSE),DEBUT!$CP$2:$DI$18,6,FALSE),\"\")","v":""},{"$f":"IFERROR(HLOOKUP(HLOOKUP(OM$8,DEBUT!$AB$4:$BP$78,3,FALSE),DEBUT!$CP$2:$DI$18,10,FALSE),\"\")","v":""},{"$f":"IFERROR(HLOOKUP(HLOOKUP(OM$8,DEBUT!$AB$4:$BP$78,3,FALSE),DEBUT!$CP$2:$DI$18,14,FALSE),\"\")","v":""},null,null,null,null,null,null,null,{"$f":"IFERROR(HLOOKUP(HLOOKUP(OX$8,DEBUT!$AB$4:$BP$78,3,FALSE),DEBUT!$CP$2:$DI$18,2,FALSE),\"\")","v":""},{"$f":"IFERROR(HLOOKUP(HLOOKUP(OX$8,DEBUT!$AB$4:$BP$78,3,FALSE),DEBUT!$CP$2:$DI$18,6,FALSE),\"\")","v":""},{"$f":"IFERROR(HLOOKUP(HLOOKUP(OX$8,DEBUT!$AB$4:$BP$78,3,FALSE),DEBUT!$CP$2:$DI$18,10,FALSE),\"\")","v":""},{"$f":"IFERROR(HLOOKUP(HLOOKUP(OX$8,DEBUT!$AB$4:$BP$78,3,FALSE),DEBUT!$CP$2:$DI$18,14,FALSE),\"\")","v":""},null,null,null,{"$f":"IFERROR(HLOOKUP(HLOOKUP(PE$8,DEBUT!$AB$4:$BP$78,3,FALSE),DEBUT!$CP$2:$DI$18,2,FALSE),\"\")","v":""},{"$f":"IFERROR(HLOOKUP(HLOOKUP(PE$8,DEBUT!$AB$4:$BP$78,3,FALSE),DEBUT!$CP$2:$DI$18,6,FALSE),\"\")","v":""},{"$f":"IFERROR(HLOOKUP(HLOOKUP(PE$8,DEBUT!$AB$4:$BP$78,3,FALSE),DEBUT!$CP$2:$DI$18,10,FALSE),\"\")","v":""},{"$f":"IFERROR(HLOOKUP(HLOOKUP(PE$8,DEBUT!$AB$4:$BP$78,3,FALSE),DEBUT!$CP$2:$DI$18,14,FALSE),\"\")","v":""},null,null,null,null,null,{"$f":"IFERROR(HLOOKUP(HLOOKUP(PN$8,DEBUT!$AB$4:$BP$78,3,FALSE),DEBUT!$CP$2:$DI$18,2,FALSE),\"\")","v":""},{"$f":"IFERROR(HLOOKUP(HLOOKUP(PN$8,DEBUT!$AB$4:$BP$78,3,FALSE),DEBUT!$CP$2:$DI$18,6,FALSE),\"\")","v":""},{"$f":"IFERROR(HLOOKUP(HLOOKUP(PN$8,DEBUT!$AB$4:$BP$78,3,FALSE),DEBUT!$CP$2:$DI$18,10,FALSE),\"\")","v":""},{"$f":"IFERROR(HLOOKUP(HLOOKUP(PN$8,DEBUT!$AB$4:$BP$78,3,FALSE),DEBUT!$CP$2:$DI$18,14,FALSE),\"\")","v":""},null,null,null,{"$f":"IFERROR(HLOOKUP(HLOOKUP(PU$8,DEBUT!$AB$4:$BP$78,3,FALSE),DEBUT!$CP$2:$DI$18,2,FALSE),\"\")","v":""},{"$f":"IFERROR(HLOOKUP(HLOOKUP(PU$8,DEBUT!$AB$4:$BP$78,3,FALSE),DEBUT!$CP$2:$DI$18,6,FALSE),\"\")","v":""},{"$f":"IFERROR(HLOOKUP(HLOOKUP(PU$8,DEBUT!$AB$4:$BP$78,3,FALSE),DEBUT!$CP$2:$DI$18,10,FALSE),\"\")","v":""},{"$f":"IFERROR(HLOOKUP(HLOOKUP(PU$8,DEBUT!$AB$4:$BP$78,3,FALSE),DEBUT!$CP$2:$DI$18,14,FALSE),\"\")","v":""},null,null,null,null,null,null,null,{"$f":"IFERROR(HLOOKUP(HLOOKUP(QF$8,DEBUT!$AB$4:$BP$78,3,FALSE),DEBUT!$CP$2:$DI$18,2,FALSE),\"\")","v":""},{"$f":"IFERROR(HLOOKUP(HLOOKUP(QF$8,DEBUT!$AB$4:$BP$78,3,FALSE),DEBUT!$CP$2:$DI$18,6,FALSE),\"\")","v":""},{"$f":"IFERROR(HLOOKUP(HLOOKUP(QF$8,DEBUT!$AB$4:$BP$78,3,FALSE),DEBUT!$CP$2:$DI$18,10,FALSE),\"\")","v":""},{"$f":"IFERROR(HLOOKUP(HLOOKUP(QF$8,DEBUT!$AB$4:$BP$78,3,FALSE),DEBUT!$CP$2:$DI$18,14,FALSE),\"\")","v":""},null,null,null,{"$f":"IFERROR(HLOOKUP(HLOOKUP(QM$8,DEBUT!$AB$4:$BP$78,3,FALSE),DEBUT!$CP$2:$DI$18,2,FALSE),\"\")","v":""},{"$f":"IFERROR(HLOOKUP(HLOOKUP(QM$8,DEBUT!$AB$4:$BP$78,3,FALSE),DEBUT!$CP$2:$DI$18,6,FALSE),\"\")","v":""},{"$f":"IFERROR(HLOOKUP(HLOOKUP(QM$8,DEBUT!$AB$4:$BP$78,3,FALSE),DEBUT!$CP$2:$DI$18,10,FALSE),\"\")","v":""},{"$f":"IFERROR(HLOOKUP(HLOOKUP(QM$8,DEBUT!$AB$4:$BP$78,3,FALSE),DEBUT!$CP$2:$DI$18,14,FALSE),\"\")","v":""},null,null,null,null,null,{"$f":"IFERROR(HLOOKUP(HLOOKUP(QV$8,DEBUT!$AB$4:$BP$78,3,FALSE),DEBUT!$CP$2:$DI$18,2,FALSE),\"\")","v":""},{"$f":"IFERROR(HLOOKUP(HLOOKUP(QV$8,DEBUT!$AB$4:$BP$78,3,FALSE),DEBUT!$CP$2:$DI$18,6,FALSE),\"\")","v":""},{"$f":"IFERROR(HLOOKUP(HLOOKUP(QV$8,DEBUT!$AB$4:$BP$78,3,FALSE),DEBUT!$CP$2:$DI$18,10,FALSE),\"\")","v":""},{"$f":"IFERROR(HLOOKUP(HLOOKUP(QV$8,DEBUT!$AB$4:$BP$78,3,FALSE),DEBUT!$CP$2:$DI$18,14,FALSE),\"\")","v":""},null,null,null,{"$f":"IFERROR(HLOOKUP(HLOOKUP(RC$8,DEBUT!$AB$4:$BP$78,3,FALSE),DEBUT!$CP$2:$DI$18,2,FALSE),\"\")","v":""},{"$f":"IFERROR(HLOOKUP(HLOOKUP(RC$8,DEBUT!$AB$4:$BP$78,3,FALSE),DEBUT!$CP$2:$DI$18,6,FALSE),\"\")","v":""},{"$f":"IFERROR(HLOOKUP(HLOOKUP(RC$8,DEBUT!$AB$4:$BP$78,3,FALSE),DEBUT!$CP$2:$DI$18,10,FALSE),\"\")","v":""},{"$f":"IFERROR(HLOOKUP(HLOOKUP(RC$8,DEBUT!$AB$4:$BP$78,3,FALSE),DEBUT!$CP$2:$DI$18,14,FALSE),\"\")","v":""},null,null,null,null,null,null,null,{"$f":"IFERROR(HLOOKUP(HLOOKUP(RN$8,DEBUT!$AB$4:$BP$78,3,FALSE),DEBUT!$CP$2:$DI$18,2,FALSE),\"\")","v":""},{"$f":"IFERROR(HLOOKUP(HLOOKUP(RN$8,DEBUT!$AB$4:$BP$78,3,FALSE),DEBUT!$CP$2:$DI$18,6,FALSE),\"\")","v":""},{"$f":"IFERROR(HLOOKUP(HLOOKUP(RN$8,DEBUT!$AB$4:$BP$78,3,FALSE),DEBUT!$CP$2:$DI$18,10,FALSE),\"\")","v":""},{"$f":"IFERROR(HLOOKUP(HLOOKUP(RN$8,DEBUT!$AB$4:$BP$78,3,FALSE),DEBUT!$CP$2:$DI$18,14,FALSE),\"\")","v":""},null,null,null,{"$f":"IFERROR(HLOOKUP(HLOOKUP(RU$8,DEBUT!$AB$4:$BP$78,3,FALSE),DEBUT!$CP$2:$DI$18,2,FALSE),\"\")","v":""},{"$f":"IFERROR(HLOOKUP(HLOOKUP(RU$8,DEBUT!$AB$4:$BP$78,3,FALSE),DEBUT!$CP$2:$DI$18,6,FALSE),\"\")","v":""},{"$f":"IFERROR(HLOOKUP(HLOOKUP(RU$8,DEBUT!$AB$4:$BP$78,3,FALSE),DEBUT!$CP$2:$DI$18,10,FALSE),\"\")","v":""},{"$f":"IFERROR(HLOOKUP(HLOOKUP(RU$8,DEBUT!$AB$4:$BP$78,3,FALSE),DEBUT!$CP$2:$DI$18,14,FALSE),\"\")","v":""},null,null,null,null,null,{"$f":"IFERROR(HLOOKUP(HLOOKUP(SD$8,DEBUT!$AB$4:$BP$78,3,FALSE),DEBUT!$CP$2:$DI$18,2,FALSE),\"\")","v":""},{"$f":"IFERROR(HLOOKUP(HLOOKUP(SD$8,DEBUT!$AB$4:$BP$78,3,FALSE),DEBUT!$CP$2:$DI$18,6,FALSE),\"\")","v":""},{"$f":"IFERROR(HLOOKUP(HLOOKUP(SD$8,DEBUT!$AB$4:$BP$78,3,FALSE),DEBUT!$CP$2:$DI$18,10,FALSE),\"\")","v":""},{"$f":"IFERROR(HLOOKUP(HLOOKUP(SD$8,DEBUT!$AB$4:$BP$78,3,FALSE),DEBUT!$CP$2:$DI$18,14,FALSE),\"\")","v":""},null,null,null,{"$f":"IFERROR(HLOOKUP(HLOOKUP(SK$8,DEBUT!$AB$4:$BP$78,3,FALSE),DEBUT!$CP$2:$DI$18,2,FALSE),\"\")","v":""},{"$f":"IFERROR(HLOOKUP(HLOOKUP(SK$8,DEBUT!$AB$4:$BP$78,3,FALSE),DEBUT!$CP$2:$DI$18,6,FALSE),\"\")","v":""},{"$f":"IFERROR(HLOOKUP(HLOOKUP(SK$8,DEBUT!$AB$4:$BP$78,3,FALSE),DEBUT!$CP$2:$DI$18,10,FALSE),\"\")","v":""},{"$f":"IFERROR(HLOOKUP(HLOOKUP(SK$8,DEBUT!$AB$4:$BP$78,3,FALSE),DEBUT!$CP$2:$DI$18,14,FALSE),\"\")","v":""},null,null,null,null,null,null,null,{"$f":"IFERROR(HLOOKUP(HLOOKUP(SV$8,DEBUT!$AB$4:$BP$78,3,FALSE),DEBUT!$CP$2:$DI$18,2,FALSE),\"\")","v":""},{"$f":"IFERROR(HLOOKUP(HLOOKUP(SV$8,DEBUT!$AB$4:$BP$78,3,FALSE),DEBUT!$CP$2:$DI$18,6,FALSE),\"\")","v":""},{"$f":"IFERROR(HLOOKUP(HLOOKUP(SV$8,DEBUT!$AB$4:$BP$78,3,FALSE),DEBUT!$CP$2:$DI$18,10,FALSE),\"\")","v":""},{"$f":"IFERROR(HLOOKUP(HLOOKUP(SV$8,DEBUT!$AB$4:$BP$78,3,FALSE),DEBUT!$CP$2:$DI$18,14,FALSE),\"\")","v":""},null,null,null,{"$f":"IFERROR(HLOOKUP(HLOOKUP(TC$8,DEBUT!$AB$4:$BP$78,3,FALSE),DEBUT!$CP$2:$DI$18,2,FALSE),\"\")","v":""},{"$f":"IFERROR(HLOOKUP(HLOOKUP(TC$8,DEBUT!$AB$4:$BP$78,3,FALSE),DEBUT!$CP$2:$DI$18,6,FALSE),\"\")","v":""},{"$f":"IFERROR(HLOOKUP(HLOOKUP(TC$8,DEBUT!$AB$4:$BP$78,3,FALSE),DEBUT!$CP$2:$DI$18,10,FALSE),\"\")","v":""},{"$f":"IFERROR(HLOOKUP(HLOOKUP(TC$8,DEBUT!$AB$4:$BP$78,3,FALSE),DEBUT!$CP$2:$DI$18,14,FALSE),\"\")","v":""},null,null,null,null,null,{"$f":"IFERROR(HLOOKUP(HLOOKUP(TL$8,DEBUT!$AB$4:$BP$78,3,FALSE),DEBUT!$CP$2:$DI$18,2,FALSE),\"\")","v":""},{"$f":"IFERROR(HLOOKUP(HLOOKUP(TL$8,DEBUT!$AB$4:$BP$78,3,FALSE),DEBUT!$CP$2:$DI$18,6,FALSE),\"\")","v":""},{"$f":"IFERROR(HLOOKUP(HLOOKUP(TL$8,DEBUT!$AB$4:$BP$78,3,FALSE),DEBUT!$CP$2:$DI$18,10,FALSE),\"\")","v":""},{"$f":"IFERROR(HLOOKUP(HLOOKUP(TL$8,DEBUT!$AB$4:$BP$78,3,FALSE),DEBUT!$CP$2:$DI$18,14,FALSE),\"\")","v":""},null,null,null,{"$f":"IFERROR(HLOOKUP(HLOOKUP(TS$8,DEBUT!$AB$4:$BP$78,3,FALSE),DEBUT!$CP$2:$DI$18,2,FALSE),\"\")","v":""},{"$f":"IFERROR(HLOOKUP(HLOOKUP(TS$8,DEBUT!$AB$4:$BP$78,3,FALSE),DEBUT!$CP$2:$DI$18,6,FALSE),\"\")","v":""},{"$f":"IFERROR(HLOOKUP(HLOOKUP(TS$8,DEBUT!$AB$4:$BP$78,3,FALSE),DEBUT!$CP$2:$DI$18,10,FALSE),\"\")","v":""},{"$f":"IFERROR(HLOOKUP(HLOOKUP(TS$8,DEBUT!$AB$4:$BP$78,3,FALSE),DEBUT!$CP$2:$DI$18,14,FALSE),\"\")","v":""},null,null,null,null,null,null,null,{"$f":"IFERROR(HLOOKUP(HLOOKUP(UD$8,DEBUT!$AB$4:$BP$78,3,FALSE),DEBUT!$CP$2:$DI$18,2,FALSE),\"\")","v":""},{"$f":"IFERROR(HLOOKUP(HLOOKUP(UD$8,DEBUT!$AB$4:$BP$78,3,FALSE),DEBUT!$CP$2:$DI$18,6,FALSE),\"\")","v":""},{"$f":"IFERROR(HLOOKUP(HLOOKUP(UD$8,DEBUT!$AB$4:$BP$78,3,FALSE),DEBUT!$CP$2:$DI$18,10,FALSE),\"\")","v":""},{"$f":"IFERROR(HLOOKUP(HLOOKUP(UD$8,DEBUT!$AB$4:$BP$78,3,FALSE),DEBUT!$CP$2:$DI$18,14,FALSE),\"\")","v":""},null,null,null,{"$f":"IFERROR(HLOOKUP(HLOOKUP(UK$8,DEBUT!$AB$4:$BP$78,3,FALSE),DEBUT!$CP$2:$DI$18,2,FALSE),\"\")","v":""},{"$f":"IFERROR(HLOOKUP(HLOOKUP(UK$8,DEBUT!$AB$4:$BP$78,3,FALSE),DEBUT!$CP$2:$DI$18,6,FALSE),\"\")","v":""},{"$f":"IFERROR(HLOOKUP(HLOOKUP(UK$8,DEBUT!$AB$4:$BP$78,3,FALSE),DEBUT!$CP$2:$DI$18,10,FALSE),\"\")","v":""},{"$f":"IFERROR(HLOOKUP(HLOOKUP(UK$8,DEBUT!$AB$4:$BP$78,3,FALSE),DEBUT!$CP$2:$DI$18,14,FALSE),\"\")","v":""},null,null,null,null,null,{"$f":"IFERROR(HLOOKUP(HLOOKUP(UT$8,DEBUT!$AB$4:$BP$78,3,FALSE),DEBUT!$CP$2:$DI$18,2,FALSE),\"\")","v":""},{"$f":"IFERROR(HLOOKUP(HLOOKUP(UT$8,DEBUT!$AB$4:$BP$78,3,FALSE),DEBUT!$CP$2:$DI$18,6,FALSE),\"\")","v":""},{"$f":"IFERROR(HLOOKUP(HLOOKUP(UT$8,DEBUT!$AB$4:$BP$78,3,FALSE),DEBUT!$CP$2:$DI$18,10,FALSE),\"\")","v":""},{"$f":"IFERROR(HLOOKUP(HLOOKUP(UT$8,DEBUT!$AB$4:$BP$78,3,FALSE),DEBUT!$CP$2:$DI$18,14,FALSE),\"\")","v":""},null,null,null,{"$f":"IFERROR(HLOOKUP(HLOOKUP(VA$8,DEBUT!$AB$4:$BP$78,3,FALSE),DEBUT!$CP$2:$DI$18,2,FALSE),\"\")","v":""},{"$f":"IFERROR(HLOOKUP(HLOOKUP(VA$8,DEBUT!$AB$4:$BP$78,3,FALSE),DEBUT!$CP$2:$DI$18,6,FALSE),\"\")","v":""},{"$f":"IFERROR(HLOOKUP(HLOOKUP(VA$8,DEBUT!$AB$4:$BP$78,3,FALSE),DEBUT!$CP$2:$DI$18,10,FALSE),\"\")","v":""},{"$f":"IFERROR(HLOOKUP(HLOOKUP(VA$8,DEBUT!$AB$4:$BP$78,3,FALSE),DEBUT!$CP$2:$DI$18,14,FALSE),\"\")","v":""},null,null,null,null,null,null,null,{"$f":"IFERROR(HLOOKUP(HLOOKUP(VL$8,DEBUT!$AB$4:$BP$78,3,FALSE),DEBUT!$CP$2:$DI$18,2,FALSE),\"\")","v":""},{"$f":"IFERROR(HLOOKUP(HLOOKUP(VL$8,DEBUT!$AB$4:$BP$78,3,FALSE),DEBUT!$CP$2:$DI$18,6,FALSE),\"\")","v":""},{"$f":"IFERROR(HLOOKUP(HLOOKUP(VL$8,DEBUT!$AB$4:$BP$78,3,FALSE),DEBUT!$CP$2:$DI$18,10,FALSE),\"\")","v":""},{"$f":"IFERROR(HLOOKUP(HLOOKUP(VL$8,DEBUT!$AB$4:$BP$78,3,FALSE),DEBUT!$CP$2:$DI$18,14,FALSE),\"\")","v":""},null,null,null,{"$f":"IFERROR(HLOOKUP(HLOOKUP(VS$8,DEBUT!$AB$4:$BP$78,3,FALSE),DEBUT!$CP$2:$DI$18,2,FALSE),\"\")","v":""},{"$f":"IFERROR(HLOOKUP(HLOOKUP(VS$8,DEBUT!$AB$4:$BP$78,3,FALSE),DEBUT!$CP$2:$DI$18,6,FALSE),\"\")","v":""},{"$f":"IFERROR(HLOOKUP(HLOOKUP(VS$8,DEBUT!$AB$4:$BP$78,3,FALSE),DEBUT!$CP$2:$DI$18,10,FALSE),\"\")","v":""},{"$f":"IFERROR(HLOOKUP(HLOOKUP(VS$8,DEBUT!$AB$4:$BP$78,3,FALSE),DEBUT!$CP$2:$DI$18,14,FALSE),\"\")","v":""},null,null,null,null,null,{"$f":"IFERROR(HLOOKUP(HLOOKUP(WB$8,DEBUT!$AB$4:$BP$78,3,FALSE),DEBUT!$CP$2:$DI$18,2,FALSE),\"\")","v":""},{"$f":"IFERROR(HLOOKUP(HLOOKUP(WB$8,DEBUT!$AB$4:$BP$78,3,FALSE),DEBUT!$CP$2:$DI$18,6,FALSE),\"\")","v":""},{"$f":"IFERROR(HLOOKUP(HLOOKUP(WB$8,DEBUT!$AB$4:$BP$78,3,FALSE),DEBUT!$CP$2:$DI$18,10,FALSE),\"\")","v":""},{"$f":"IFERROR(HLOOKUP(HLOOKUP(WB$8,DEBUT!$AB$4:$BP$78,3,FALSE),DEBUT!$CP$2:$DI$18,14,FALSE),\"\")","v":""},null,null,null,{"$f":"IFERROR(HLOOKUP(HLOOKUP(WI$8,DEBUT!$AB$4:$BP$78,3,FALSE),DEBUT!$CP$2:$DI$18,2,FALSE),\"\")","v":""},{"$f":"IFERROR(HLOOKUP(HLOOKUP(WI$8,DEBUT!$AB$4:$BP$78,3,FALSE),DEBUT!$CP$2:$DI$18,6,FALSE),\"\")","v":""},{"$f":"IFERROR(HLOOKUP(HLOOKUP(WI$8,DEBUT!$AB$4:$BP$78,3,FALSE),DEBUT!$CP$2:$DI$18,10,FALSE),\"\")","v":""},{"$f":"IFERROR(HLOOKUP(HLOOKUP(WI$8,DEBUT!$AB$4:$BP$78,3,FALSE),DEBUT!$CP$2:$DI$18,14,FALSE),\"\")","v":""},null,null,null,null,null,null,null,{"$f":"IFERROR(HLOOKUP(HLOOKUP(WT$8,DEBUT!$AB$4:$BP$78,3,FALSE),DEBUT!$CP$2:$DI$18,2,FALSE),\"\")","v":""},{"$f":"IFERROR(HLOOKUP(HLOOKUP(WT$8,DEBUT!$AB$4:$BP$78,3,FALSE),DEBUT!$CP$2:$DI$18,6,FALSE),\"\")","v":""},{"$f":"IFERROR(HLOOKUP(HLOOKUP(WT$8,DEBUT!$AB$4:$BP$78,3,FALSE),DEBUT!$CP$2:$DI$18,10,FALSE),\"\")","v":""},{"$f":"IFERROR(HLOOKUP(HLOOKUP(WT$8,DEBUT!$AB$4:$BP$78,3,FALSE),DEBUT!$CP$2:$DI$18,14,FALSE),\"\")","v":""},null,null,null,{"$f":"IFERROR(HLOOKUP(HLOOKUP(XA$8,DEBUT!$AB$4:$BP$78,3,FALSE),DEBUT!$CP$2:$DI$18,2,FALSE),\"\")","v":""},{"$f":"IFERROR(HLOOKUP(HLOOKUP(XA$8,DEBUT!$AB$4:$BP$78,3,FALSE),DEBUT!$CP$2:$DI$18,6,FALSE),\"\")","v":""},{"$f":"IFERROR(HLOOKUP(HLOOKUP(XA$8,DEBUT!$AB$4:$BP$78,3,FALSE),DEBUT!$CP$2:$DI$18,10,FALSE),\"\")","v":""},{"$f":"IFERROR(HLOOKUP(HLOOKUP(XA$8,DEBUT!$AB$4:$BP$78,3,FALSE),DEBUT!$CP$2:$DI$18,14,FALSE),\"\")","v":""},null,null,null,null,null,{"$f":"IFERROR(HLOOKUP(HLOOKUP(XJ$8,DEBUT!$AB$4:$BP$78,3,FALSE),DEBUT!$CP$2:$DI$18,2,FALSE),\"\")","v":""},{"$f":"IFERROR(HLOOKUP(HLOOKUP(XJ$8,DEBUT!$AB$4:$BP$78,3,FALSE),DEBUT!$CP$2:$DI$18,6,FALSE),\"\")","v":""},{"$f":"IFERROR(HLOOKUP(HLOOKUP(XJ$8,DEBUT!$AB$4:$BP$78,3,FALSE),DEBUT!$CP$2:$DI$18,10,FALSE),\"\")","v":""},{"$f":"IFERROR(HLOOKUP(HLOOKUP(XJ$8,DEBUT!$AB$4:$BP$78,3,FALSE),DEBUT!$CP$2:$DI$18,14,FALSE),\"\")","v":""},null,null,null,{"$f":"IFERROR(HLOOKUP(HLOOKUP(XQ$8,DEBUT!$AB$4:$BP$78,3,FALSE),DEBUT!$CP$2:$DI$18,2,FALSE),\"\")","v":""},{"$f":"IFERROR(HLOOKUP(HLOOKUP(XQ$8,DEBUT!$AB$4:$BP$78,3,FALSE),DEBUT!$CP$2:$DI$18,6,FALSE),\"\")","v":""},{"$f":"IFERROR(HLOOKUP(HLOOKUP(XQ$8,DEBUT!$AB$4:$BP$78,3,FALSE),DEBUT!$CP$2:$DI$18,10,FALSE),\"\")","v":""},{"$f":"IFERROR(HLOOKUP(HLOOKUP(XQ$8,DEBUT!$AB$4:$BP$78,3,FALSE),DEBUT!$CP$2:$DI$18,14,FALSE),\"\")","v":""},null,null,null,null,null,null,null,{"$f":"IFERROR(HLOOKUP(HLOOKUP(YB$8,DEBUT!$AB$4:$BP$78,3,FALSE),DEBUT!$CP$2:$DI$18,2,FALSE),\"\")","v":""},{"$f":"IFERROR(HLOOKUP(HLOOKUP(YB$8,DEBUT!$AB$4:$BP$78,3,FALSE),DEBUT!$CP$2:$DI$18,6,FALSE),\"\")","v":""},{"$f":"IFERROR(HLOOKUP(HLOOKUP(YB$8,DEBUT!$AB$4:$BP$78,3,FALSE),DEBUT!$CP$2:$DI$18,10,FALSE),\"\")","v":""},{"$f":"IFERROR(HLOOKUP(HLOOKUP(YB$8,DEBUT!$AB$4:$BP$78,3,FALSE),DEBUT!$CP$2:$DI$18,14,FALSE),\"\")","v":""},null,null,null,{"$f":"IFERROR(HLOOKUP(HLOOKUP(YI$8,DEBUT!$AB$4:$BP$78,3,FALSE),DEBUT!$CP$2:$DI$18,2,FALSE),\"\")","v":""},{"$f":"IFERROR(HLOOKUP(HLOOKUP(YI$8,DEBUT!$AB$4:$BP$78,3,FALSE),DEBUT!$CP$2:$DI$18,6,FALSE),\"\")","v":""},{"$f":"IFERROR(HLOOKUP(HLOOKUP(YI$8,DEBUT!$AB$4:$BP$78,3,FALSE),DEBUT!$CP$2:$DI$18,10,FALSE),\"\")","v":""},{"$f":"IFERROR(HLOOKUP(HLOOKUP(YI$8,DEBUT!$AB$4:$BP$78,3,FALSE),DEBUT!$CP$2:$DI$18,14,FALSE),\"\")","v":""},null,null,null,null,null,{"$f":"IFERROR(HLOOKUP(HLOOKUP(YR$8,DEBUT!$AB$4:$BP$78,3,FALSE),DEBUT!$CP$2:$DI$18,2,FALSE),\"\")","v":""},{"$f":"IFERROR(HLOOKUP(HLOOKUP(YR$8,DEBUT!$AB$4:$BP$78,3,FALSE),DEBUT!$CP$2:$DI$18,6,FALSE),\"\")","v":""},{"$f":"IFERROR(HLOOKUP(HLOOKUP(YR$8,DEBUT!$AB$4:$BP$78,3,FALSE),DEBUT!$CP$2:$DI$18,10,FALSE),\"\")","v":""},{"$f":"IFERROR(HLOOKUP(HLOOKUP(YR$8,DEBUT!$AB$4:$BP$78,3,FALSE),DEBUT!$CP$2:$DI$18,14,FALSE),\"\")","v":""},null,null,null,{"$f":"IFERROR(HLOOKUP(HLOOKUP(YY$8,DEBUT!$AB$4:$BP$78,3,FALSE),DEBUT!$CP$2:$DI$18,2,FALSE),\"\")","v":""},{"$f":"IFERROR(HLOOKUP(HLOOKUP(YY$8,DEBUT!$AB$4:$BP$78,3,FALSE),DEBUT!$CP$2:$DI$18,6,FALSE),\"\")","v":""},{"$f":"IFERROR(HLOOKUP(HLOOKUP(YY$8,DEBUT!$AB$4:$BP$78,3,FALSE),DEBUT!$CP$2:$DI$18,10,FALSE),\"\")","v":""},{"$f":"IFERROR(HLOOKUP(HLOOKUP(YY$8,DEBUT!$AB$4:$BP$78,3,FALSE),DEBUT!$CP$2:$DI$18,14,FALSE),\"\")","v":""},null,null,null,null,null,null,null,{"$f":"IFERROR(HLOOKUP(HLOOKUP(ZJ$8,DEBUT!$AB$4:$BP$78,3,FALSE),DEBUT!$CP$2:$DI$18,2,FALSE),\"\")","v":""},{"$f":"IFERROR(HLOOKUP(HLOOKUP(ZJ$8,DEBUT!$AB$4:$BP$78,3,FALSE),DEBUT!$CP$2:$DI$18,6,FALSE),\"\")","v":""},{"$f":"IFERROR(HLOOKUP(HLOOKUP(ZJ$8,DEBUT!$AB$4:$BP$78,3,FALSE),DEBUT!$CP$2:$DI$18,10,FALSE),\"\")","v":""},{"$f":"IFERROR(HLOOKUP(HLOOKUP(ZJ$8,DEBUT!$AB$4:$BP$78,3,FALSE),DEBUT!$CP$2:$DI$18,14,FALSE),\"\")","v":""},null,null,null,{"$f":"IFERROR(HLOOKUP(HLOOKUP(ZQ$8,DEBUT!$AB$4:$BP$78,3,FALSE),DEBUT!$CP$2:$DI$18,2,FALSE),\"\")","v":""},{"$f":"IFERROR(HLOOKUP(HLOOKUP(ZQ$8,DEBUT!$AB$4:$BP$78,3,FALSE),DEBUT!$CP$2:$DI$18,6,FALSE),\"\")","v":""},{"$f":"IFERROR(HLOOKUP(HLOOKUP(ZQ$8,DEBUT!$AB$4:$BP$78,3,FALSE),DEBUT!$CP$2:$DI$18,10,FALSE),\"\")","v":""},{"$f":"IFERROR(HLOOKUP(HLOOKUP(ZQ$8,DEBUT!$AB$4:$BP$78,3,FALSE),DEBUT!$CP$2:$DI$18,14,FALSE),\"\")","v":""},null,null,null,null,null,{"$f":"IFERROR(HLOOKUP(HLOOKUP(ZZ$8,DEBUT!$AB$4:$BP$78,3,FALSE),DEBUT!$CP$2:$DI$18,2,FALSE),\"\")","v":""},{"$f":"IFERROR(HLOOKUP(HLOOKUP(ZZ$8,DEBUT!$AB$4:$BP$78,3,FALSE),DEBUT!$CP$2:$DI$18,6,FALSE),\"\")","v":""},{"$f":"IFERROR(HLOOKUP(HLOOKUP(ZZ$8,DEBUT!$AB$4:$BP$78,3,FALSE),DEBUT!$CP$2:$DI$18,10,FALSE),\"\")","v":""},{"$f":"IFERROR(HLOOKUP(HLOOKUP(ZZ$8,DEBUT!$AB$4:$BP$78,3,FALSE),DEBUT!$CP$2:$DI$18,14,FALSE),\"\")","v":""},null,null,null,{"$f":"IFERROR(HLOOKUP(HLOOKUP(AAG$8,DEBUT!$AB$4:$BP$78,3,FALSE),DEBUT!$CP$2:$DI$18,2,FALSE),\"\")","v":""},{"$f":"IFERROR(HLOOKUP(HLOOKUP(AAG$8,DEBUT!$AB$4:$BP$78,3,FALSE),DEBUT!$CP$2:$DI$18,6,FALSE),\"\")","v":""},{"$f":"IFERROR(HLOOKUP(HLOOKUP(AAG$8,DEBUT!$AB$4:$BP$78,3,FALSE),DEBUT!$CP$2:$DI$18,10,FALSE),\"\")","v":""},{"$f":"IFERROR(HLOOKUP(HLOOKUP(AAG$8,DEBUT!$AB$4:$BP$78,3,FALSE),DEBUT!$CP$2:$DI$18,14,FALSE),\"\")","v":""},null,null,null,null,null,null,null,{"$f":"IFERROR(HLOOKUP(HLOOKUP(AAR$8,DEBUT!$AB$4:$BP$78,3,FALSE),DEBUT!$CP$2:$DI$18,2,FALSE),\"\")","v":""},{"$f":"IFERROR(HLOOKUP(HLOOKUP(AAR$8,DEBUT!$AB$4:$BP$78,3,FALSE),DEBUT!$CP$2:$DI$18,6,FALSE),\"\")","v":""},{"$f":"IFERROR(HLOOKUP(HLOOKUP(AAR$8,DEBUT!$AB$4:$BP$78,3,FALSE),DEBUT!$CP$2:$DI$18,10,FALSE),\"\")","v":""},{"$f":"IFERROR(HLOOKUP(HLOOKUP(AAR$8,DEBUT!$AB$4:$BP$78,3,FALSE),DEBUT!$CP$2:$DI$18,14,FALSE),\"\")","v":""},null,null,null,{"$f":"IFERROR(HLOOKUP(HLOOKUP(AAY$8,DEBUT!$AB$4:$BP$78,3,FALSE),DEBUT!$CP$2:$DI$18,2,FALSE),\"\")","v":""},{"$f":"IFERROR(HLOOKUP(HLOOKUP(AAY$8,DEBUT!$AB$4:$BP$78,3,FALSE),DEBUT!$CP$2:$DI$18,6,FALSE),\"\")","v":""},{"$f":"IFERROR(HLOOKUP(HLOOKUP(AAY$8,DEBUT!$AB$4:$BP$78,3,FALSE),DEBUT!$CP$2:$DI$18,10,FALSE),\"\")","v":""},{"$f":"IFERROR(HLOOKUP(HLOOKUP(AAY$8,DEBUT!$AB$4:$BP$78,3,FALSE),DEBUT!$CP$2:$DI$18,14,FALSE),\"\")","v":""},null,null,null,null,null,{"$f":"IFERROR(HLOOKUP(HLOOKUP(ABH$8,DEBUT!$AB$4:$BP$78,3,FALSE),DEBUT!$CP$2:$DI$18,2,FALSE),\"\")","v":""},{"$f":"IFERROR(HLOOKUP(HLOOKUP(ABH$8,DEBUT!$AB$4:$BP$78,3,FALSE),DEBUT!$CP$2:$DI$18,6,FALSE),\"\")","v":""},{"$f":"IFERROR(HLOOKUP(HLOOKUP(ABH$8,DEBUT!$AB$4:$BP$78,3,FALSE),DEBUT!$CP$2:$DI$18,10,FALSE),\"\")","v":""},{"$f":"IFERROR(HLOOKUP(HLOOKUP(ABH$8,DEBUT!$AB$4:$BP$78,3,FALSE),DEBUT!$CP$2:$DI$18,14,FALSE),\"\")","v":""},null,null,null,{"$f":"IFERROR(HLOOKUP(HLOOKUP(ABO$8,DEBUT!$AB$4:$BP$78,3,FALSE),DEBUT!$CP$2:$DI$18,2,FALSE),\"\")","v":""},{"$f":"IFERROR(HLOOKUP(HLOOKUP(ABO$8,DEBUT!$AB$4:$BP$78,3,FALSE),DEBUT!$CP$2:$DI$18,6,FALSE),\"\")","v":""},{"$f":"IFERROR(HLOOKUP(HLOOKUP(ABO$8,DEBUT!$AB$4:$BP$78,3,FALSE),DEBUT!$CP$2:$DI$18,10,FALSE),\"\")","v":""},{"$f":"IFERROR(HLOOKUP(HLOOKUP(ABO$8,DEBUT!$AB$4:$BP$78,3,FALSE),DEBUT!$CP$2:$DI$18,14,FALSE),\"\")","v":""},null,null,null,null,null,null,null,{"$f":"IFERROR(HLOOKUP(HLOOKUP(ABZ$8,DEBUT!$AB$4:$BP$78,3,FALSE),DEBUT!$CP$2:$DI$18,2,FALSE),\"\")","v":""},{"$f":"IFERROR(HLOOKUP(HLOOKUP(ABZ$8,DEBUT!$AB$4:$BP$78,3,FALSE),DEBUT!$CP$2:$DI$18,6,FALSE),\"\")","v":""},{"$f":"IFERROR(HLOOKUP(HLOOKUP(ABZ$8,DEBUT!$AB$4:$BP$78,3,FALSE),DEBUT!$CP$2:$DI$18,10,FALSE),\"\")","v":""},{"$f":"IFERROR(HLOOKUP(HLOOKUP(ABZ$8,DEBUT!$AB$4:$BP$78,3,FALSE),DEBUT!$CP$2:$DI$18,14,FALSE),\"\")","v":""},null,null,null,{"$f":"IFERROR(HLOOKUP(HLOOKUP(ACG$8,DEBUT!$AB$4:$BP$78,3,FALSE),DEBUT!$CP$2:$DI$18,2,FALSE),\"\")","v":""},{"$f":"IFERROR(HLOOKUP(HLOOKUP(ACG$8,DEBUT!$AB$4:$BP$78,3,FALSE),DEBUT!$CP$2:$DI$18,6,FALSE),\"\")","v":""},{"$f":"IFERROR(HLOOKUP(HLOOKUP(ACG$8,DEBUT!$AB$4:$BP$78,3,FALSE),DEBUT!$CP$2:$DI$18,10,FALSE),\"\")","v":""},{"$f":"IFERROR(HLOOKUP(HLOOKUP(ACG$8,DEBUT!$AB$4:$BP$78,3,FALSE),DEBUT!$CP$2:$DI$18,14,FALSE),\"\")","v":""},null,null,null,null,null,{"$f":"IFERROR(HLOOKUP(HLOOKUP(ACP$8,DEBUT!$AB$4:$BP$78,3,FALSE),DEBUT!$CP$2:$DI$18,2,FALSE),\"\")","v":""},{"$f":"IFERROR(HLOOKUP(HLOOKUP(ACP$8,DEBUT!$AB$4:$BP$78,3,FALSE),DEBUT!$CP$2:$DI$18,6,FALSE),\"\")","v":""},{"$f":"IFERROR(HLOOKUP(HLOOKUP(ACP$8,DEBUT!$AB$4:$BP$78,3,FALSE),DEBUT!$CP$2:$DI$18,10,FALSE),\"\")","v":""},{"$f":"IFERROR(HLOOKUP(HLOOKUP(ACP$8,DEBUT!$AB$4:$BP$78,3,FALSE),DEBUT!$CP$2:$DI$18,14,FALSE),\"\")","v":""},null,null,null,{"$f":"IFERROR(HLOOKUP(HLOOKUP(ACW$8,DEBUT!$AB$4:$BP$78,3,FALSE),DEBUT!$CP$2:$DI$18,2,FALSE),\"\")","v":""},{"$f":"IFERROR(HLOOKUP(HLOOKUP(ACW$8,DEBUT!$AB$4:$BP$78,3,FALSE),DEBUT!$CP$2:$DI$18,6,FALSE),\"\")","v":""},{"$f":"IFERROR(HLOOKUP(HLOOKUP(ACW$8,DEBUT!$AB$4:$BP$78,3,FALSE),DEBUT!$CP$2:$DI$18,10,FALSE),\"\")","v":""},{"$f":"IFERROR(HLOOKUP(HLOOKUP(ACW$8,DEBUT!$AB$4:$BP$78,3,FALSE),DEBUT!$CP$2:$DI$18,14,FALSE),\"\")","v":""},null,null,null,null,null,null,null,{"$f":"IFERROR(HLOOKUP(HLOOKUP(ADH$8,DEBUT!$AB$4:$BP$78,3,FALSE),DEBUT!$CP$2:$DI$18,2,FALSE),\"\")","v":""},{"$f":"IFERROR(HLOOKUP(HLOOKUP(ADH$8,DEBUT!$AB$4:$BP$78,3,FALSE),DEBUT!$CP$2:$DI$18,6,FALSE),\"\")","v":""},{"$f":"IFERROR(HLOOKUP(HLOOKUP(ADH$8,DEBUT!$AB$4:$BP$78,3,FALSE),DEBUT!$CP$2:$DI$18,10,FALSE),\"\")","v":""},{"$f":"IFERROR(HLOOKUP(HLOOKUP(ADH$8,DEBUT!$AB$4:$BP$78,3,FALSE),DEBUT!$CP$2:$DI$18,14,FALSE),\"\")","v":""},null,null,null,{"$f":"IFERROR(HLOOKUP(HLOOKUP(ADO$8,DEBUT!$AB$4:$BP$78,3,FALSE),DEBUT!$CP$2:$DI$18,2,FALSE),\"\")","v":""},{"$f":"IFERROR(HLOOKUP(HLOOKUP(ADO$8,DEBUT!$AB$4:$BP$78,3,FALSE),DEBUT!$CP$2:$DI$18,6,FALSE),\"\")","v":""},{"$f":"IFERROR(HLOOKUP(HLOOKUP(ADO$8,DEBUT!$AB$4:$BP$78,3,FALSE),DEBUT!$CP$2:$DI$18,10,FALSE),\"\")","v":""},{"$f":"IFERROR(HLOOKUP(HLOOKUP(ADO$8,DEBUT!$AB$4:$BP$78,3,FALSE),DEBUT!$CP$2:$DI$18,14,FALSE),\"\")","v":""},null,null,null,null,null,{"$f":"IFERROR(HLOOKUP(HLOOKUP(ADX$8,DEBUT!$AB$4:$BP$78,3,FALSE),DEBUT!$CP$2:$DI$18,2,FALSE),\"\")","v":""},{"$f":"IFERROR(HLOOKUP(HLOOKUP(ADX$8,DEBUT!$AB$4:$BP$78,3,FALSE),DEBUT!$CP$2:$DI$18,6,FALSE),\"\")","v":""},{"$f":"IFERROR(HLOOKUP(HLOOKUP(ADX$8,DEBUT!$AB$4:$BP$78,3,FALSE),DEBUT!$CP$2:$DI$18,10,FALSE),\"\")","v":""},{"$f":"IFERROR(HLOOKUP(HLOOKUP(ADX$8,DEBUT!$AB$4:$BP$78,3,FALSE),DEBUT!$CP$2:$DI$18,14,FALSE),\"\")","v":""},null,null,null,{"$f":"IFERROR(HLOOKUP(HLOOKUP(AEE$8,DEBUT!$AB$4:$BP$78,3,FALSE),DEBUT!$CP$2:$DI$18,2,FALSE),\"\")","v":""},{"$f":"IFERROR(HLOOKUP(HLOOKUP(AEE$8,DEBUT!$AB$4:$BP$78,3,FALSE),DEBUT!$CP$2:$DI$18,6,FALSE),\"\")","v":""},{"$f":"IFERROR(HLOOKUP(HLOOKUP(AEE$8,DEBUT!$AB$4:$BP$78,3,FALSE),DEBUT!$CP$2:$DI$18,10,FALSE),\"\")","v":""},{"$f":"IFERROR(HLOOKUP(HLOOKUP(AEE$8,DEBUT!$AB$4:$BP$78,3,FALSE),DEBUT!$CP$2:$DI$18,14,FALSE),\"\")","v":""}]
[null,null,null,null,null,{"$f":"IFERROR(HLOOKUP(HLOOKUP(F$8,DEBUT!$AB$4:$BP$78,3,FALSE),DEBUT!$CP$2:$DI$18,3,FALSE),\"\")","v":""},{"$f":"IFERROR(HLOOKUP(HLOOKUP(F$8,DEBUT!$AB$4:$BP$78,3,FALSE),DEBUT!$CP$2:$DI$18,7,FALSE),\"\")","v":""},{"$f":"IFERROR(HLOOKUP(HLOOKUP(F$8,DEBUT!$AB$4:$BP$78,3,FALSE),DEBUT!$CP$2:$DI$18,11,FALSE),\"\")","v":""},{"$f":"IFERROR(HLOOKUP(HLOOKUP(F$8,DEBUT!$AB$4:$BP$78,3,FALSE),DEBUT!$CP$2:$DI$18,15,FALSE),\"\")","v":""},null,null,null,{"$f":"IFERROR(HLOOKUP(HLOOKUP(M$8,DEBUT!$AB$4:$BP$78,3,FALSE),DEBUT!$CP$2:$DI$18,3,FALSE),\"\")","v":""},{"$f":"IFERROR(HLOOKUP(HLOOKUP(M$8,DEBUT!$AB$4:$BP$78,3,FALSE),DEBUT!$CP$2:$DI$18,7,FALSE),\"\")","v":""},{"$f":"IFERROR(HLOOKUP(HLOOKUP(M$8,DEBUT!$AB$4:$BP$78,3,FALSE),DEBUT!$CP$2:$DI$18,11,FALSE),\"\")","v":""},{"$f":"IFERROR(HLOOKUP(HLOOKUP(M$8,DEBUT!$AB$4:$BP$78,3,FALSE),DEBUT!$CP$2:$DI$18,15,FALSE),\"\")","v":""},null,null,null,null,null,{"$f":"IFERROR(HLOOKUP(HLOOKUP(V$8,DEBUT!$AB$4:$BP$78,3,FALSE),DEBUT!$CP$2:$DI$18,3,FALSE),\"\")","v":""},{"$f":"IFERROR(HLOOKUP(HLOOKUP(V$8,DEBUT!$AB$4:$BP$78,3,FALSE),DEBUT!$CP$2:$DI$18,7,FALSE),\"\")","v":""},{"$f":"IFERROR(HLOOKUP(HLOOKUP(V$8,DEBUT!$AB$4:$BP$78,3,FALSE),DEBUT!$CP$2:$DI$18,11,FALSE),\"\")","v":""},{"$f":"IFERROR(HLOOKUP(HLOOKUP(V$8,DEBUT!$AB$4:$BP$78,3,FALSE),DEBUT!$CP$2:$DI$18,15,FALSE),\"\")","v":""},null,null,null,{"$f":"IFERROR(HLOOKUP(HLOOKUP(AC$8,DEBUT!$AB$4:$BP$78,3,FALSE),DEBUT!$CP$2:$DI$18,3,FALSE),\"\")","v":""},{"$f":"IFERROR(HLOOKUP(HLOOKUP(AC$8,DEBUT!$AB$4:$BP$78,3,FALSE),DEBUT!$CP$2:$DI$18,7,FALSE),\"\")","v":""},{"$f":"IFERROR(HLOOKUP(HLOOKUP(AC$8,DEBUT!$AB$4:$BP$78,3,FALSE),DEBUT!$CP$2:$DI$18,11,FALSE),\"\")","v":""},{"$f":"IFERROR(HLOOKUP(HLOOKUP(AC$8,DEBUT!$AB$4:$BP$78,3,FALSE),DEBUT!$CP$2:$DI$18,15,FALSE),\"\")","v":""},null,null,null,null,null,null,null,{"$f":"IFERROR(HLOOKUP(HLOOKUP(AN$8,DEBUT!$AB$4:$BP$78,3,FALSE),DEBUT!$CP$2:$DI$18,3,FALSE),\"\")","v":""},{"$f":"IFERROR(HLOOKUP(HLOOKUP(AN$8,DEBUT!$AB$4:$BP$78,3,FALSE),DEBUT!$CP$2:$DI$18,7,FALSE),\"\")","v":""},{"$f":"IFERROR(HLOOKUP(HLOOKUP(AN$8,DEBUT!$AB$4:$BP$78,3,FALSE),DEBUT!$CP$2:$DI$18,11,FALSE),\"\")","v":""},{"$f":"IFERROR(HLOOKUP(HLOOKUP(AN$8,DEBUT!$AB$4:$BP$78,3,FALSE),DEBUT!$CP$2:$DI$18,15,FALSE),\"\")","v":""},null,null,null,{"$f":"IFERROR(HLOOKUP(HLOOKUP(AU$8,DEBUT!$AB$4:$BP$78,3,FALSE),DEBUT!$CP$2:$DI$18,3,FALSE),\"\")","v":""},{"$f":"IFERROR(HLOOKUP(HLOOKUP(AU$8,DEBUT!$AB$4:$BP$78,3,FALSE),DEBUT!$CP$2:$DI$18,7,FALSE),\"\")","v":""},{"$f":"IFERROR(HLOOKUP(HLOOKUP(AU$8,DEBUT!$AB$4:$BP$78,3,FALSE),DEBUT!$CP$2:$DI$18,11,FALSE),\"\")","v":""},{"$f":"IFERROR(HLOOKUP(HLOOKUP(AU$8,DEBUT!$AB$4:$BP$78,3,FALSE),DEBUT!$CP$2:$DI$18,15,FALSE),\"\")","v":""},null,null,null,null,null,{"$f":"IFERROR(HLOOKUP(HLOOKUP(BD$8,DEBUT!$AB$4:$BP$78,3,FALSE),DEBUT!$CP$2:$DI$18,3,FALSE),\"\")","v":""},{"$f":"IFERROR(HLOOKUP(HLOOKUP(BD$8,DEBUT!$AB$4:$BP$78,3,FALSE),DEBUT!$CP$2:$DI$18,7,FALSE),\"\")","v":""},{"$f":"IFERROR(HLOOKUP(HLOOKUP(BD$8,DEBUT!$AB$4:$BP$78,3,FALSE),DEBUT!$CP$2:$DI$18,11,FALSE),\"\")","v":""},{"$f":"IFERROR(HLOOKUP(HLOOKUP(BD$8,DEBUT!$AB$4:$BP$78,3,FALSE),DEBUT!$CP$2:$DI$18,15,FALSE),\"\")","v":""},null,null,null,{"$f":"IFERROR(HLOOKUP(HLOOKUP(BK$8,DEBUT!$AB$4:$BP$78,3,FALSE),DEBUT!$CP$2:$DI$18,3,FALSE),\"\")","v":""},{"$f":"IFERROR(HLOOKUP(HLOOKUP(BK$8,DEBUT!$AB$4:$BP$78,3,FALSE),DEBUT!$CP$2:$DI$18,7,FALSE),\"\")","v":""},{"$f":"IFERROR(HLOOKUP(HLOOKUP(BK$8,DEBUT!$AB$4:$BP$78,3,FALSE),DEBUT!$CP$2:$DI$18,11,FALSE),\"\")","v":""},{"$f":"IFERROR(HLOOKUP(HLOOKUP(BK$8,DEBUT!$AB$4:$BP$78,3,FALSE),DEBUT!$CP$2:$DI$18,15,FALSE),\"\")","v":""},null,null,null,null,null,null,null,{"$f":"IFERROR(HLOOKUP(HLOOKUP(BV$8,DEBUT!$AB$4:$BP$78,3,FALSE),DEBUT!$CP$2:$DI$18,3,FALSE),\"\")","v":""},{"$f":"IFERROR(HLOOKUP(HLOOKUP(BV$8,DEBUT!$AB$4:$BP$78,3,FALSE),DEBUT!$CP$2:$DI$18,7,FALSE),\"\")","v":""},{"$f":"IFERROR(HLOOKUP(HLOOKUP(BV$8,DEBUT!$AB$4:$BP$78,3,FALSE),DEBUT!$CP$2:$DI$18,11,FALSE),\"\")","v":""},{"$f":"IFERROR(HLOOKUP(HLOOKUP(BV$8,DEBUT!$AB$4:$BP$78,3,FALSE),DEBUT!$CP$2:$DI$18,15,FALSE),\"\")","v":""},null,null,null,{"$f":"IFERROR(HLOOKUP(HLOOKUP(CC$8,DEBUT!$AB$4:$BP$78,3,FALSE),DEBUT!$CP$2:$DI$18,3,FALSE),\"\")","v":""},{"$f":"IFERROR(HLOOKUP(HLOOKUP(CC$8,DEBUT!$AB$4:$BP$78,3,FALSE),DEBUT!$CP$2:$DI$18,7,FALSE),\"\")","v":""},{"$f":"IFERROR(HLOOKUP(HLOOKUP(CC$8,DEBUT!$AB$4:$BP$78,3,FALSE),DEBUT!$CP$2:$DI$18,11,FALSE),\"\")","v":""},{"$f":"IFERROR(HLOOKUP(HLOOKUP(CC$8,DEBUT!$AB$4:$BP$78,3,FALSE),DEBUT!$CP$2:$DI$18,15,FALSE),\"\")","v":""},null,null,null,null,null,{"$f":"IFERROR(HLOOKUP(HLOOKUP(CL$8,DEBUT!$AB$4:$BP$78,3,FALSE),DEBUT!$CP$2:$DI$18,3,FALSE),\"\")","v":""},{"$f":"IFERROR(HLOOKUP(HLOOKUP(CL$8,DEBUT!$AB$4:$BP$78,3,FALSE),DEBUT!$CP$2:$DI$18,7,FALSE),\"\")","v":""},{"$f":"IFERROR(HLOOKUP(HLOOKUP(CL$8,DEBUT!$AB$4:$BP$78,3,FALSE),DEBUT!$CP$2:$DI$18,11,FALSE),\"\")","v":""},{"$f":"IFERROR(HLOOKUP(HLOOKUP(CL$8,DEBUT!$AB$4:$BP$78,3,FALSE),DEBUT!$CP$2:$DI$18,15,FALSE),\"\")","v":""},null,null,null,{"$f":"IFERROR(HLOOKUP(HLOOKUP(CS$8,DEBUT!$AB$4:$BP$78,3,FALSE),DEBUT!$CP$2:$DI$18,3,FALSE),\"\")","v":""},{"$f":"IFERROR(HLOOKUP(HLOOKUP(CS$8,DEBUT!$AB$4:$BP$78,3,FALSE),DEBUT!$CP$2:$DI$18,7,FALSE),\"\")","v":""},{"$f":"IFERROR(HLOOKUP(HLOOKUP(CS$8,DEBUT!$AB$4:$BP$78,3,FALSE),DEBUT!$CP$2:$DI$18,11,FALSE),\"\")","v":""},{"$f":"IFERROR(HLOOKUP(HLOOKUP(CS$8,DEBUT!$AB$4:$BP$78,3,FALSE),DEBUT!$CP$2:$DI$18,15,FALSE),\"\")","v":""},null,null,null,null,null,null,null,{"$f":"IFERROR(HLOOKUP(HLOOKUP(DD$8,DEBUT!$AB$4:$BP$78,3,FALSE),DEBUT!$CP$2:$DI$18,3,FALSE),\"\")","v":""},{"$f":"IFERROR(HLOOKUP(HLOOKUP(DD$8,DEBUT!$AB$4:$BP$78,3,FALSE),DEBUT!$CP$2:$DI$18,7,FALSE),\"\")","v":""},{"$f":"IFERROR(HLOOKUP(HLOOKUP(DD$8,DEBUT!$AB$4:$BP$78,3,FALSE),DEBUT!$CP$2:$DI$18,11,FALSE),\"\")","v":""},{"$f":"IFERROR(HLOOKUP(HLOOKUP(DD$8,DEBUT!$AB$4:$BP$78,3,FALSE),DEBUT!$CP$2:$DI$18,15,FALSE),\"\")","v":""},null,null,null,{"$f":"IFERROR(HLOOKUP(HLOOKUP(DK$8,DEBUT!$AB$4:$BP$78,3,FALSE),DEBUT!$CP$2:$DI$18,3,FALSE),\"\")","v":""},{"$f":"IFERROR(HLOOKUP(HLOOKUP(DK$8,DEBUT!$AB$4:$BP$78,3,FALSE),DEBUT!$CP$2:$DI$18,7,FALSE),\"\")","v":""},{"$f":"IFERROR(HLOOKUP(HLOOKUP(DK$8,DEBUT!$AB$4:$BP$78,3,FALSE),DEBUT!$CP$2:$DI$18,11,FALSE),\"\")","v":""},{"$f":"IFERROR(HLOOKUP(HLOOKUP(DK$8,DEBUT!$AB$4:$BP$78,3,FALSE),DEBUT!$CP$2:$DI$18,15,FALSE),\"\")","v":""},null,null,null,null,null,{"$f":"IFERROR(HLOOKUP(HLOOKUP(DT$8,DEBUT!$AB$4:$BP$78,3,FALSE),DEBUT!$CP$2:$DI$18,3,FALSE),\"\")","v":""},{"$f":"IFERROR(HLOOKUP(HLOOKUP(DT$8,DEBUT!$AB$4:$BP$78,3,FALSE),DEBUT!$CP$2:$DI$18,7,FALSE),\"\")","v":""},{"$f":"IFERROR(HLOOKUP(HLOOKUP(DT$8,DEBUT!$AB$4:$BP$78,3,FALSE),DEBUT!$CP$2:$DI$18,11,FALSE),\"\")","v":""},{"$f":"IFERROR(HLOOKUP(HLOOKUP(DT$8,DEBUT!$AB$4:$BP$78,3,FALSE),DEBUT!$CP$2:$DI$18,15,FALSE),\"\")","v":""},null,null,null,{"$f":"IFERROR(HLOOKUP(HLOOKUP(EA$8,DEBUT!$AB$4:$BP$78,3,FALSE),DEBUT!$CP$2:$DI$18,3,FALSE),\"\")","v":""},{"$f":"IFERROR(HLOOKUP(HLOOKUP(EA$8,DEBUT!$AB$4:$BP$78,3,FALSE),DEBUT!$CP$2:$DI$18,7,FALSE),\"\")","v":""},{"$f":"IFERROR(HLOOKUP(HLOOKUP(EA$8,DEBUT!$AB$4:$BP$78,3,FALSE),DEBUT!$CP$2:$DI$18,11,FALSE),\"\")","v":""},{"$f":"IFERROR(HLOOKUP(HLOOKUP(EA$8,DEBUT!$AB$4:$BP$78,3,FALSE),DEBUT!$CP$2:$DI$18,15,FALSE),\"\")","v":""},null,null,null,null,null,null,null,{"$f":"IFERROR(HLOOKUP(HLOOKUP(EL$8,DEBUT!$AB$4:$BP$78,3,FALSE),DEBUT!$CP$2:$DI$18,3,FALSE),\"\")","v":""},{"$f":"IFERROR(HLOOKUP(HLOOKUP(EL$8,DEBUT!$AB$4:$BP$78,3,FALSE),DEBUT!$CP$2:$DI$18,7,FALSE),\"\")","v":""},{"$f":"IFERROR(HLOOKUP(HLOOKUP(EL$8,DEBUT!$AB$4:$BP$78,3,FALSE),DEBUT!$CP$2:$DI$18,11,FALSE),\"\")","v":""},{"$f":"IFERROR(HLOOKUP(HLOOKUP(EL$8,DEBUT!$AB$4:$BP$78,3,FALSE),DEBUT!$CP$2:$DI$18,15,FALSE),\"\")","v":""},null,null,null,{"$f":"IFERROR(HLOOKUP(HLOOKUP(ES$8,DEBUT!$AB$4:$BP$78,3,FALSE),DEBUT!$CP$2:$DI$18,3,FALSE),\"\")","v":""},{"$f":"IFERROR(HLOOKUP(HLOOKUP(ES$8,DEBUT!$AB$4:$BP$78,3,FALSE),DEBUT!$CP$2:$DI$18,7,FALSE),\"\")","v":""},{"$f":"IFERROR(HLOOKUP(HLOOKUP(ES$8,DEBUT!$AB$4:$BP$78,3,FALSE),DEBUT!$CP$2:$DI$18,11,FALSE),\"\")","v":""},{"$f":"IFERROR(HLOOKUP(HLOOKUP(ES$8,DEBUT!$AB$4:$BP$78,3,FALSE),DEBUT!$CP$2:$DI$18,15,FALSE),\"\")","v":""},null,null,null,null,null,{"$f":"IFERROR(HLOOKUP(HLOOKUP(FB$8,DEBUT!$AB$4:$BP$78,3,FALSE),DEBUT!$CP$2:$DI$18,3,FALSE),\"\")","v":""},{"$f":"IFERROR(HLOOKUP(HLOOKUP(FB$8,DEBUT!$AB$4:$BP$78,3,FALSE),DEBUT!$CP$2:$DI$18,7,FALSE),\"\")","v":""},{"$f":"IFERROR(HLOOKUP(HLOOKUP(FB$8,DEBUT!$AB$4:$BP$78,3,FALSE),DEBUT!$CP$2:$DI$18,11,FALSE),\"\")","v":""},{"$f":"IFERROR(HLOOKUP(HLOOKUP(FB$8,DEBUT!$AB$4:$BP$78,3,FALSE),DEBUT!$CP$2:$DI$18,15,FALSE),\"\")","v":""},null,null,null,{"$f":"IFERROR(HLOOKUP(HLOOKUP(FI$8,DEBUT!$AB$4:$BP$78,3,FALSE),DEBUT!$CP$2:$DI$18,3,FALSE),\"\")","v":""},{"$f":"IFERROR(HLOOKUP(HLOOKUP(FI$8,DEBUT!$AB$4:$BP$78,3,FALSE),DEBUT!$CP$2:$DI$18,7,FALSE),\"\")","v":""},{"$f":"IFERROR(HLOOKUP(HLOOKUP(FI$8,DEBUT!$AB$4:$BP$78,3,FALSE),DEBUT!$CP$2:$DI$18,11,FALSE),\"\")","v":""},{"$f":"IFERROR(HLOOKUP(HLOOKUP(FI$8,DEBUT!$AB$4:$BP$78,3,FALSE),DEBUT!$CP$2:$DI$18,15,FALSE),\"\")","v":""},null,null,null,null,null,null,null,{"$f":"IFERROR(HLOOKUP(HLOOKUP(FT$8,DEBUT!$AB$4:$BP$78,3,FALSE),DEBUT!$CP$2:$DI$18,3,FALSE),\"\")","v":""},{"$f":"IFERROR(HLOOKUP(HLOOKUP(FT$8,DEBUT!$AB$4:$BP$78,3,FALSE),DEBUT!$CP$2:$DI$18,7,FALSE),\"\")","v":""},{"$f":"IFERROR(HLOOKUP(HLOOKUP(FT$8,DEBUT!$AB$4:$BP$78,3,FALSE),DEBUT!$CP$2:$DI$18,11,FALSE),\"\")","v":""},{"$f":"IFERROR(HLOOKUP(HLOOKUP(FT$8,DEBUT!$AB$4:$BP$78,3,FALSE),DEBUT!$CP$2:$DI$18,15,FALSE),\"\")","v":""},null,null,null,{"$f":"IFERROR(HLOOKUP(HLOOKUP(GA$8,DEBUT!$AB$4:$BP$78,3,FALSE),DEBUT!$CP$2:$DI$18,3,FALSE),\"\")","v":""},{"$f":"IFERROR(HLOOKUP(HLOOKUP(GA$8,DEBUT!$AB$4:$BP$78,3,FALSE),DEBUT!$CP$2:$DI$18,7,FALSE),\"\")","v":""},{"$f":"IFERROR(HLOOKUP(HLOOKUP(GA$8,DEBUT!$AB$4:$BP$78,3,FALSE),DEBUT!$CP$2:$DI$18,11,FALSE),\"\")","v":""},{"$f":"IFERROR(HLOOKUP(HLOOKUP(GA$8,DEBUT!$AB$4:$BP$78,3,FALSE),DEBUT!$CP$2:$DI$18,15,FALSE),\"\")","v":""},null,null,null,null,null,{"$f":"IFERROR(HLOOKUP(HLOOKUP(GJ$8,DEBUT!$AB$4:$BP$78,3,FALSE),DEBUT!$CP$2:$DI$18,3,FALSE),\"\")","v":""},{"$f":"IFERROR(HLOOKUP(HLOOKUP(GJ$8,DEBUT!$AB$4:$BP$78,3,FALSE),DEBUT!$CP$2:$DI$18,7,FALSE),\"\")","v":""},{"$f":"IFERROR(HLOOKUP(HLOOKUP(GJ$8,DEBUT!$AB$4:$BP$78,3,FALSE),DEBUT!$CP$2:$DI$18,11,FALSE),\"\")","v":""},{"$f":"IFERROR(HLOOKUP(HLOOKUP(GJ$8,DEBUT!$AB$4:$BP$78,3,FALSE),DEBUT!$CP$2:$DI$18,15,FALSE),\"\")","v":""},null,null,null,{"$f":"IFERROR(HLOOKUP(HLOOKUP(GQ$8,DEBUT!$AB$4:$BP$78,3,FALSE),DEBUT!$CP$2:$DI$18,3,FALSE),\"\")","v":""},{"$f":"IFERROR(HLOOKUP(HLOOKUP(GQ$8,DEBUT!$AB$4:$BP$78,3,FALSE),DEBUT!$CP$2:$DI$18,7,FALSE),\"\")","v":""},{"$f":"IFERROR(HLOOKUP(HLOOKUP(GQ$8,DEBUT!$AB$4:$BP$78,3,FALSE),DEBUT!$CP$2:$DI$18,11,FALSE),\"\")","v":""},{"$f":"IFERROR(HLOOKUP(HLOOKUP(GQ$8,DEBUT!$AB$4:$BP$78,3,FALSE),DEBUT!$CP$2:$DI$18,15,FALSE),\"\")","v":""},null,null,null,null,null,null,null,{"$f":"IFERROR(HLOOKUP(HLOOKUP(HB$8,DEBUT!$AB$4:$BP$78,3,FALSE),DEBUT!$CP$2:$DI$18,3,FALSE),\"\")","v":""},{"$f":"IFERROR(HLOOKUP(HLOOKUP(HB$8,DEBUT!$AB$4:$BP$78,3,FALSE),DEBUT!$CP$2:$DI$18,7,FALSE),\"\")","v":""},{"$f":"IFERROR(HLOOKUP(HLOOKUP(HB$8,DEBUT!$AB$4:$BP$78,3,FALSE),DEBUT!$CP$2:$DI$18,11,FALSE),\"\")","v":""},{"$f":"IFERROR(HLOOKUP(HLOOKUP(HB$8,DEBUT!$AB$4:$BP$78,3,FALSE),DEBUT!$CP$2:$DI$18,15,FALSE),\"\")","v":""},null,null,null,{"$f":"IFERROR(HLOOKUP(HLOOKUP(HI$8,DEBUT!$AB$4:$BP$78,3,FALSE),DEBUT!$CP$2:$DI$18,3,FALSE),\"\")","v":""},{"$f":"IFERROR(HLOOKUP(HLOOKUP(HI$8,DEBUT!$AB$4:$BP$78,3,FALSE),DEBUT!$CP$2:$DI$18,7,FALSE),\"\")","v":""},{"$f":"IFERROR(HLOOKUP(HLOOKUP(HI$8,DEBUT!$AB$4:$BP$78,3,FALSE),DEBUT!$CP$2:$DI$18,11,FALSE),\"\")","v":""},{"$f":"IFERROR(HLOOKUP(HLOOKUP(HI$8,DEBUT!$AB$4:$BP$78,3,FALSE),DEBUT!$CP$2:$DI$18,15,FALSE),\"\")","v":""},null,null,null,null,null,{"$f":"IFERROR(HLOOKUP(HLOOKUP(HR$8,DEBUT!$AB$4:$BP$78,3,FALSE),DEBUT!$CP$2:$DI$18,3,FALSE),\"\")","v":""},{"$f":"IFERROR(HLOOKUP(HLOOKUP(HR$8,DEBUT!$AB$4:$BP$78,3,FALSE),DEBUT!$CP$2:$DI$18,7,FALSE),\"\")","v":""},{"$f":"IFERROR(HLOOKUP(HLOOKUP(HR$8,DEBUT!$AB$4:$BP$78,3,FALSE),DEBUT!$CP$2:$DI$18,11,FALSE),\"\")","v":""},{"$f":"IFERROR(HLOOKUP(HLOOKUP(HR$8,DEBUT!$AB$4:$BP$78,3,FALSE),DEBUT!$CP$2:$DI$18,15,FALSE),\"\")","v":""},null,null,null,{"$f":"IFERROR(HLOOKUP(HLOOKUP(HY$8,DEBUT!$AB$4:$BP$78,3,FALSE),DEBUT!$CP$2:$DI$18,3,FALSE),\"\")","v":""},{"$f":"IFERROR(HLOOKUP(HLOOKUP(HY$8,DEBUT!$AB$4:$BP$78,3,FALSE),DEBUT!$CP$2:$DI$18,7,FALSE),\"\")","v":""},{"$f":"IFERROR(HLOOKUP(HLOOKUP(HY$8,DEBUT!$AB$4:$BP$78,3,FALSE),DEBUT!$CP$2:$DI$18,11,FALSE),\"\")","v":""},{"$f":"IFERROR(HLOOKUP(HLOOKUP(HY$8,DEBUT!$AB$4:$BP$78,3,FALSE),DEBUT!$CP$2:$DI$18,15,FALSE),\"\")","v":""},null,null,null,null,null,null,null,{"$f":"IFERROR(HLOOKUP(HLOOKUP(IJ$8,DEBUT!$AB$4:$BP$78,3,FALSE),DEBUT!$CP$2:$DI$18,3,FALSE),\"\")","v":""},{"$f":"IFERROR(HLOOKUP(HLOOKUP(IJ$8,DEBUT!$AB$4:$BP$78,3,FALSE),DEBUT!$CP$2:$DI$18,7,FALSE),\"\")","v":""},{"$f":"IFERROR(HLOOKUP(HLOOKUP(IJ$8,DEBUT!$AB$4:$BP$78,3,FALSE),DEBUT!$CP$2:$DI$18,11,FALSE),\"\")","v":""},{"$f":"IFERROR(HLOOKUP(HLOOKUP(IJ$8,DEBUT!$AB$4:$BP$78,3,FALSE),DEBUT!$CP$2:$DI$18,15,FALSE),\"\")","v":""},null,null,null,{"$f":"IFERROR(HLOOKUP(HLOOKUP(IQ$8,DEBUT!$AB$4:$BP$78,3,FALSE),DEBUT!$CP$2:$DI$18,3,FALSE),\"\")","v":""},{"$f":"IFERROR(HLOOKUP(HLOOKUP(IQ$8,DEBUT!$AB$4:$BP$78,3,FALSE),DEBUT!$CP$2:$DI$18,7,FALSE),\"\")","v":""},{"$f":"IFERROR(HLOOKUP(HLOOKUP(IQ$8,DEBUT!$AB$4:$BP$78,3,FALSE),DEBUT!$CP$2:$DI$18,11,FALSE),\"\")","v":""},{"$f":"IFERROR(HLOOKUP(HLOOKUP(IQ$8,DEBUT!$AB$4:$BP$78,3,FALSE),DEBUT!$CP$2:$DI$18,15,FALSE),\"\")","v":""},null,null,null,null,null,{"$f":"IFERROR(HLOOKUP(HLOOKUP(IZ$8,DEBUT!$AB$4:$BP$78,3,FALSE),DEBUT!$CP$2:$DI$18,3,FALSE),\"\")","v":""},{"$f":"IFERROR(HLOOKUP(HLOOKUP(IZ$8,DEBUT!$AB$4:$BP$78,3,FALSE),DEBUT!$CP$2:$DI$18,7,FALSE),\"\")","v":""},{"$f":"IFERROR(HLOOKUP(HLOOKUP(IZ$8,DEBUT!$AB$4:$BP$78,3,FALSE),DEBUT!$CP$2:$DI$18,11,FALSE),\"\")","v":""},{"$f":"IFERROR(HLOOKUP(HLOOKUP(IZ$8,DEBUT!$AB$4:$BP$78,3,FALSE),DEBUT!$CP$2:$DI$18,15,FALSE),\"\")","v":""},null,null,null,{"$f":"IFERROR(HLOOKUP(HLOOKUP(JG$8,DEBUT!$AB$4:$BP$78,3,FALSE),DEBUT!$CP$2:$DI$18,3,FALSE),\"\")","v":""},{"$f":"IFERROR(HLOOKUP(HLOOKUP(JG$8,DEBUT!$AB$4:$BP$78,3,FALSE),DEBUT!$CP$2:$DI$18,7,FALSE),\"\")","v":""},{"$f":"IFERROR(HLOOKUP(HLOOKUP(JG$8,DEBUT!$AB$4:$BP$78,3,FALSE),DEBUT!$CP$2:$DI$18,11,FALSE),\"\")","v":""},{"$f":"IFERROR(HLOOKUP(HLOOKUP(JG$8,DEBUT!$AB$4:$BP$78,3,FALSE),DEBUT!$CP$2:$DI$18,15,FALSE),\"\")","v":""},null,null,null,null,null,null,null,{"$f":"IFERROR(HLOOKUP(HLOOKUP(JR$8,DEBUT!$AB$4:$BP$78,3,FALSE),DEBUT!$CP$2:$DI$18,3,FALSE),\"\")","v":""},{"$f":"IFERROR(HLOOKUP(HLOOKUP(JR$8,DEBUT!$AB$4:$BP$78,3,FALSE),DEBUT!$CP$2:$DI$18,7,FALSE),\"\")","v":""},{"$f":"IFERROR(HLOOKUP(HLOOKUP(JR$8,DEBUT!$AB$4:$BP$78,3,FALSE),DEBUT!$CP$2:$DI$18,11,FALSE),\"\")","v":""},{"$f":"IFERROR(HLOOKUP(HLOOKUP(JR$8,DEBUT!$AB$4:$BP$78,3,FALSE),DEBUT!$CP$2:$DI$18,15,FALSE),\"\")","v":""},null,null,null,{"$f":"IFERROR(HLOOKUP(HLOOKUP(JY$8,DEBUT!$AB$4:$BP$78,3,FALSE),DEBUT!$CP$2:$DI$18,3,FALSE),\"\")","v":""},{"$f":"IFERROR(HLOOKUP(HLOOKUP(JY$8,DEBUT!$AB$4:$BP$78,3,FALSE),DEBUT!$CP$2:$DI$18,7,FALSE),\"\")","v":""},{"$f":"IFERROR(HLOOKUP(HLOOKUP(JY$8,DEBUT!$AB$4:$BP$78,3,FALSE),DEBUT!$CP$2:$DI$18,11,FALSE),\"\")","v":""},{"$f":"IFERROR(HLOOKUP(HLOOKUP(JY$8,DEBUT!$AB$4:$BP$78,3,FALSE),DEBUT!$CP$2:$DI$18,15,FALSE),\"\")","v":""},null,null,null,null,null,{"$f":"IFERROR(HLOOKUP(HLOOKUP(KH$8,DEBUT!$AB$4:$BP$78,3,FALSE),DEBUT!$CP$2:$DI$18,3,FALSE),\"\")","v":""},{"$f":"IFERROR(HLOOKUP(HLOOKUP(KH$8,DEBUT!$AB$4:$BP$78,3,FALSE),DEBUT!$CP$2:$DI$18,7,FALSE),\"\")","v":""},{"$f":"IFERROR(HLOOKUP(HLOOKUP(KH$8,DEBUT!$AB$4:$BP$78,3,FALSE),DEBUT!$CP$2:$DI$18,11,FALSE),\"\")","v":""},{"$f":"IFERROR(HLOOKUP(HLOOKUP(KH$8,DEBUT!$AB$4:$BP$78,3,FALSE),DEBUT!$CP$2:$DI$18,15,FALSE),\"\")","v":""},null,null,null,{"$f":"IFERROR(HLOOKUP(HLOOKUP(KO$8,DEBUT!$AB$4:$BP$78,3,FALSE),DEBUT!$CP$2:$DI$18,3,FALSE),\"\")","v":""},{"$f":"IFERROR(HLOOKUP(HLOOKUP(KO$8,DEBUT!$AB$4:$BP$78,3,FALSE),DEBUT!$CP$2:$DI$18,7,FALSE),\"\")","v":""},{"$f":"IFERROR(HLOOKUP(HLOOKUP(KO$8,DEBUT!$AB$4:$BP$78,3,FALSE),DEBUT!$CP$2:$DI$18,11,FALSE),\"\")","v":""},{"$f":"IFERROR(HLOOKUP(HLOOKUP(KO$8,DEBUT!$AB$4:$BP$78,3,FALSE),DEBUT!$CP$2:$DI$18,15,FALSE),\"\")","v":""},null,null,null,null,null,null,null,{"$f":"IFERROR(HLOOKUP(HLOOKUP(KZ$8,DEBUT!$AB$4:$BP$78,3,FALSE),DEBUT!$CP$2:$DI$18,3,FALSE),\"\")","v":""},{"$f":"IFERROR(HLOOKUP(HLOOKUP(KZ$8,DEBUT!$AB$4:$BP$78,3,FALSE),DEBUT!$CP$2:$DI$18,7,FALSE),\"\")","v":""},{"$f":"IFERROR(HLOOKUP(HLOOKUP(KZ$8,DEBUT!$AB$4:$BP$78,3,FALSE),DEBUT!$CP$2:$DI$18,11,FALSE),\"\")","v":""},{"$f":"IFERROR(HLOOKUP(HLOOKUP(KZ$8,DEBUT!$AB$4:$BP$78,3,FALSE),DEBUT!$CP$2:$DI$18,15,FALSE),\"\")","v":""},null,null,null,{"$f":"IFERROR(HLOOKUP(HLOOKUP(LG$8,DEBUT!$AB$4:$BP$78,3,FALSE),DEBUT!$CP$2:$DI$18,3,FALSE),\"\")","v":""},{"$f":"IFERROR(HLOOKUP(HLOOKUP(LG$8,DEBUT!$AB$4:$BP$78,3,FALSE),DEBUT!$CP$2:$DI$18,7,FALSE),\"\")","v":""},{"$f":"IFERROR(HLOOKUP(HLOOKUP(LG$8,DEBUT!$AB$4:$BP$78,3,FALSE),DEBUT!$CP$2:$DI$18,11,FALSE),\"\")","v":""},{"$f":"IFERROR(HLOOKUP(HLOOKUP(LG$8,DEBUT!$AB$4:$BP$78,3,FALSE),DEBUT!$CP$2:$DI$18,15,FALSE),\"\")","v":""},null,null,null,null,null,{"$f":"IFERROR(HLOOKUP(HLOOKUP(LP$8,DEBUT!$AB$4:$BP$78,3,FALSE),DEBUT!$CP$2:$DI$18,3,FALSE),\"\")","v":""},{"$f":"IFERROR(HLOOKUP(HLOOKUP(LP$8,DEBUT!$AB$4:$BP$78,3,FALSE),DEBUT!$CP$2:$DI$18,7,FALSE),\"\")","v":""},{"$f":"IFERROR(HLOOKUP(HLOOKUP(LP$8,DEBUT!$AB$4:$BP$78,3,FALSE),DEBUT!$CP$2:$DI$18,11,FALSE),\"\")","v":""},{"$f":"IFERROR(HLOOKUP(HLOOKUP(LP$8,DEBUT!$AB$4:$BP$78,3,FALSE),DEBUT!$CP$2:$DI$18,15,FALSE),\"\")","v":""},null,null,null,{"$f":"IFERROR(HLOOKUP(HLOOKUP(LW$8,DEBUT!$AB$4:$BP$78,3,FALSE),DEBUT!$CP$2:$DI$18,3,FALSE),\"\")","v":""},{"$f":"IFERROR(HLOOKUP(HLOOKUP(LW$8,DEBUT!$AB$4:$BP$78,3,FALSE),DEBUT!$CP$2:$DI$18,7,FALSE),\"\")","v":""},{"$f":"IFERROR(HLOOKUP(HLOOKUP(LW$8,DEBUT!$AB$4:$BP$78,3,FALSE),DEBUT!$CP$2:$DI$18,11,FALSE),\"\")","v":""},{"$f":"IFERROR(HLOOKUP(HLOOKUP(LW$8,DEBUT!$AB$4:$BP$78,3,FALSE),DEBUT!$CP$2:$DI$18,15,FALSE),\"\")","v":""},null,null,null,null,null,null,null,{"$f":"IFERROR(HLOOKUP(HLOOKUP(MH$8,DEBUT!$AB$4:$BP$78,3,FALSE),DEBUT!$CP$2:$DI$18,3,FALSE),\"\")","v":""},{"$f":"IFERROR(HLOOKUP(HLOOKUP(MH$8,DEBUT!$AB$4:$BP$78,3,FALSE),DEBUT!$CP$2:$DI$18,7,FALSE),\"\")","v":""},{"$f":"IFERROR(HLOOKUP(HLOOKUP(MH$8,DEBUT!$AB$4:$BP$78,3,FALSE),DEBUT!$CP$2:$DI$18,11,FALSE),\"\")","v":""},{"$f":"IFERROR(HLOOKUP(HLOOKUP(MH$8,DEBUT!$AB$4:$BP$78,3,FALSE),DEBUT!$CP$2:$DI$18,15,FALSE),\"\")","v":""},null,null,null,{"$f":"IFERROR(HLOOKUP(HLOOKUP(MO$8,DEBUT!$AB$4:$BP$78,3,FALSE),DEBUT!$CP$2:$DI$18,3,FALSE),\"\")","v":""},{"$f":"IFERROR(HLOOKUP(HLOOKUP(MO$8,DEBUT!$AB$4:$BP$78,3,FALSE),DEBUT!$CP$2:$DI$18,7,FALSE),\"\")","v":""},{"$f":"IFERROR(HLOOKUP(HLOOKUP(MO$8,DEBUT!$AB$4:$BP$78,3,FALSE),DEBUT!$CP$2:$DI$18,11,FALSE),\"\")","v":""},{"$f":"IFERROR(HLOOKUP(HLOOKUP(MO$8,DEBUT!$AB$4:$BP$78,3,FALSE),DEBUT!$CP$2:$DI$18,15,FALSE),\"\")","v":""},null,null,null,null,null,{"$f":"IFERROR(HLOOKUP(HLOOKUP(MX$8,DEBUT!$AB$4:$BP$78,3,FALSE),DEBUT!$CP$2:$DI$18,3,FALSE),\"\")","v":""},{"$f":"IFERROR(HLOOKUP(HLOOKUP(MX$8,DEBUT!$AB$4:$BP$78,3,FALSE),DEBUT!$CP$2:$DI$18,7,FALSE),\"\")","v":""},{"$f":"IFERROR(HLOOKUP(HLOOKUP(MX$8,DEBUT!$AB$4:$BP$78,3,FALSE),DEBUT!$CP$2:$DI$18,11,FALSE),\"\")","v":""},{"$f":"IFERROR(HLOOKUP(HLOOKUP(MX$8,DEBUT!$AB$4:$BP$78,3,FALSE),DEBUT!$CP$2:$DI$18,15,FALSE),\"\")","v":""},null,null,null,{"$f":"IFERROR(HLOOKUP(HLOOKUP(NE$8,DEBUT!$AB$4:$BP$78,3,FALSE),DEBUT!$CP$2:$DI$18,3,FALSE),\"\")","v":""},{"$f":"IFERROR(HLOOKUP(HLOOKUP(NE$8,DEBUT!$AB$4:$BP$78,3,FALSE),DEBUT!$CP$2:$DI$18,7,FALSE),\"\")","v":""},{"$f":"IFERROR(HLOOKUP(HLOOKUP(NE$8,DEBUT!$AB$4:$BP$78,3,FALSE),DEBUT!$CP$2:$DI$18,11,FALSE),\"\")","v":""},{"$f":"IFERROR(HLOOKUP(HLOOKUP(NE$8,DEBUT!$AB$4:$BP$78,3,FALSE),DEBUT!$CP$2:$DI$18,15,FALSE),\"\")","v":""},null,null,null,null,null,null,null,{"$f":"IFERROR(HLOOKUP(HLOOKUP(NP$8,DEBUT!$AB$4:$BP$78,3,FALSE),DEBUT!$CP$2:$DI$18,3,FALSE),\"\")","v":""},{"$f":"IFERROR(HLOOKUP(HLOOKUP(NP$8,DEBUT!$AB$4:$BP$78,3,FALSE),DEBUT!$CP$2:$DI$18,7,FALSE),\"\")","v":""},{"$f":"IFERROR(HLOOKUP(HLOOKUP(NP$8,DEBUT!$AB$4:$BP$78,3,FALSE),DEBUT!$CP$2:$DI$18,11,FALSE),\"\")","v":""},{"$f":"IFERROR(HLOOKUP(HLOOKUP(NP$8,DEBUT!$AB$4:$BP$78,3,FALSE),DEBUT!$CP$2:$DI$18,15,FALSE),\"\")","v":""},null,null,null,{"$f":"IFERROR(HLOOKUP(HLOOKUP(NW$8,DEBUT!$AB$4:$BP$78,3,FALSE),DEBUT!$CP$2:$DI$18,3,FALSE),\"\")","v":""},{"$f":"IFERROR(HLOOKUP(HLOOKUP(NW$8,DEBUT!$AB$4:$BP$78,3,FALSE),DEBUT!$CP$2:$DI$18,7,FALSE),\"\")","v":""},{"$f":"IFERROR(HLOOKUP(HLOOKUP(NW$8,DEBUT!$AB$4:$BP$78,3,FALSE),DEBUT!$CP$2:$DI$18,11,FALSE),\"\")","v":""},{"$f":"IFERROR(HLOOKUP(HLOOKUP(NW$8,DEBUT!$AB$4:$BP$78,3,FALSE),DEBUT!$CP$2:$DI$18,15,FALSE),\"\")","v":""},null,null,null,null,null,{"$f":"IFERROR(HLOOKUP(HLOOKUP(OF$8,DEBUT!$AB$4:$BP$78,3,FALSE),DEBUT!$CP$2:$DI$18,3,FALSE),\"\")","v":""},{"$f":"IFERROR(HLOOKUP(HLOOKUP(OF$8,DEBUT!$AB$4:$BP$78,3,FALSE),DEBUT!$CP$2:$DI$18,7,FALSE),\"\")","v":""},{"$f":"IFERROR(HLOOKUP(HLOOKUP(OF$8,DEBUT!$AB$4:$BP$78,3,FALSE),DEBUT!$CP$2:$DI$18,11,FALSE),\"\")","v":""},{"$f":"IFERROR(HLOOKUP(HLOOKUP(OF$8,DEBUT!$AB$4:$BP$78,3,FALSE),DEBUT!$CP$2:$DI$18,15,FALSE),\"\")","v":""},null,null,null,{"$f":"IFERROR(HLOOKUP(HLOOKUP(OM$8,DEBUT!$AB$4:$BP$78,3,FALSE),DEBUT!$CP$2:$DI$18,3,FALSE),\"\")","v":""},{"$f":"IFERROR(HLOOKUP(HLOOKUP(OM$8,DEBUT!$AB$4:$BP$78,3,FALSE),DEBUT!$CP$2:$DI$18,7,FALSE),\"\")","v":""},{"$f":"IFERROR(HLOOKUP(HLOOKUP(OM$8,DEBUT!$AB$4:$BP$78,3,FALSE),DEBUT!$CP$2:$DI$18,11,FALSE),\"\")","v":""},{"$f":"IFERROR(HLOOKUP(HLOOKUP(OM$8,DEBUT!$AB$4:$BP$78,3,FALSE),DEBUT!$CP$2:$DI$18,15,FALSE),\"\")","v":""},null,null,null,null,null,null,null,{"$f":"IFERROR(HLOOKUP(HLOOKUP(OX$8,DEBUT!$AB$4:$BP$78,3,FALSE),DEBUT!$CP$2:$DI$18,3,FALSE),\"\")","v":""},{"$f":"IFERROR(HLOOKUP(HLOOKUP(OX$8,DEBUT!$AB$4:$BP$78,3,FALSE),DEBUT!$CP$2:$DI$18,7,FALSE),\"\")","v":""},{"$f":"IFERROR(HLOOKUP(HLOOKUP(OX$8,DEBUT!$AB$4:$BP$78,3,FALSE),DEBUT!$CP$2:$DI$18,11,FALSE),\"\")","v":""},{"$f":"IFERROR(HLOOKUP(HLOOKUP(OX$8,DEBUT!$AB$4:$BP$78,3,FALSE),DEBUT!$CP$2:$DI$18,15,FALSE),\"\")","v":""},null,null,null,{"$f":"IFERROR(HLOOKUP(HLOOKUP(PE$8,DEBUT!$AB$4:$BP$78,3,FALSE),DEBUT!$CP$2:$DI$18,3,FALSE),\"\")","v":""},{"$f":"IFERROR(HLOOKUP(HLOOKUP(PE$8,DEBUT!$AB$4:$BP$78,3,FALSE),DEBUT!$CP$2:$DI$18,7,FALSE),\"\")","v":""},{"$f":"IFERROR(HLOOKUP(HLOOKUP(PE$8,DEBUT!$AB$4:$BP$78,3,FALSE),DEBUT!$CP$2:$DI$18,11,FALSE),\"\")","v":""},{"$f":"IFERROR(HLOOKUP(HLOOKUP(PE$8,DEBUT!$AB$4:$BP$78,3,FALSE),DEBUT!$CP$2:$DI$18,15,FALSE),\"\")","v":""},null,null,null,null,null,{"$f":"IFERROR(HLOOKUP(HLOOKUP(PN$8,DEBUT!$AB$4:$BP$78,3,FALSE),DEBUT!$CP$2:$DI$18,3,FALSE),\"\")","v":""},{"$f":"IFERROR(HLOOKUP(HLOOKUP(PN$8,DEBUT!$AB$4:$BP$78,3,FALSE),DEBUT!$CP$2:$DI$18,7,FALSE),\"\")","v":""},{"$f":"IFERROR(HLOOKUP(HLOOKUP(PN$8,DEBUT!$AB$4:$BP$78,3,FALSE),DEBUT!$CP$2:$DI$18,11,FALSE),\"\")","v":""},{"$f":"IFERROR(HLOOKUP(HLOOKUP(PN$8,DEBUT!$AB$4:$BP$78,3,FALSE),DEBUT!$CP$2:$DI$18,15,FALSE),\"\")","v":""},null,null,null,{"$f":"IFERROR(HLOOKUP(HLOOKUP(PU$8,DEBUT!$AB$4:$BP$78,3,FALSE),DEBUT!$CP$2:$DI$18,3,FALSE),\"\")","v":""},{"$f":"IFERROR(HLOOKUP(HLOOKUP(PU$8,DEBUT!$AB$4:$BP$78,3,FALSE),DEBUT!$CP$2:$DI$18,7,FALSE),\"\")","v":""},{"$f":"IFERROR(HLOOKUP(HLOOKUP(PU$8,DEBUT!$AB$4:$BP$78,3,FALSE),DEBUT!$CP$2:$DI$18,11,FALSE),\"\")","v":""},{"$f":"IFERROR(HLOOKUP(HLOOKUP(PU$8,DEBUT!$AB$4:$BP$78,3,FALSE),DEBUT!$CP$2:$DI$18,15,FALSE),\"\")","v":""},null,null,null,null,null,null,null,{"$f":"IFERROR(HLOOKUP(HLOOKUP(QF$8,DEBUT!$AB$4:$BP$78,3,FALSE),DEBUT!$CP$2:$DI$18,3,FALSE),\"\")","v":""},{"$f":"IFERROR(HLOOKUP(HLOOKUP(QF$8,DEBUT!$AB$4:$BP$78,3,FALSE),DEBUT!$CP$2:$DI$18,7,FALSE),\"\")","v":""},{"$f":"IFERROR(HLOOKUP(HLOOKUP(QF$8,DEBUT!$AB$4:$BP$78,3,FALSE),DEBUT!$CP$2:$DI$18,11,FALSE),\"\")","v":""},{"$f":"IFERROR(HLOOKUP(HLOOKUP(QF$8,DEBUT!$AB$4:$BP$78,3,FALSE),DEBUT!$CP$2:$DI$18,15,FALSE),\"\")","v":""},null,null,null,{"$f":"IFERROR(HLOOKUP(HLOOKUP(QM$8,DEBUT!$AB$4:$BP$78,3,FALSE),DEBUT!$CP$2:$DI$18,3,FALSE),\"\")","v":""},{"$f":"IFERROR(HLOOKUP(HLOOKUP(QM$8,DEBUT!$AB$4:$BP$78,3,FALSE),DEBUT!$CP$2:$DI$18,7,FALSE),\"\")","v":""},{"$f":"IFERROR(HLOOKUP(HLOOKUP(QM$8,DEBUT!$AB$4:$BP$78,3,FALSE),DEBUT!$CP$2:$DI$18,11,FALSE),\"\")","v":""},{"$f":"IFERROR(HLOOKUP(HLOOKUP(QM$8,DEBUT!$AB$4:$BP$78,3,FALSE),DEBUT!$CP$2:$DI$18,15,FALSE),\"\")","v":""},null,null,null,null,null,{"$f":"IFERROR(HLOOKUP(HLOOKUP(QV$8,DEBUT!$AB$4:$BP$78,3,FALSE),DEBUT!$CP$2:$DI$18,3,FALSE),\"\")","v":""},{"$f":"IFERROR(HLOOKUP(HLOOKUP(QV$8,DEBUT!$AB$4:$BP$78,3,FALSE),DEBUT!$CP$2:$DI$18,7,FALSE),\"\")","v":""},{"$f":"IFERROR(HLOOKUP(HLOOKUP(QV$8,DEBUT!$AB$4:$BP$78,3,FALSE),DEBUT!$CP$2:$DI$18,11,FALSE),\"\")","v":""},{"$f":"IFERROR(HLOOKUP(HLOOKUP(QV$8,DEBUT!$AB$4:$BP$78,3,FALSE),DEBUT!$CP$2:$DI$18,15,FALSE),\"\")","v":""},null,null,null,{"$f":"IFERROR(HLOOKUP(HLOOKUP(RC$8,DEBUT!$AB$4:$BP$78,3,FALSE),DEBUT!$CP$2:$DI$18,3,FALSE),\"\")","v":""},{"$f":"IFERROR(HLOOKUP(HLOOKUP(RC$8,DEBUT!$AB$4:$BP$78,3,FALSE),DEBUT!$CP$2:$DI$18,7,FALSE),\"\")","v":""},{"$f":"IFERROR(HLOOKUP(HLOOKUP(RC$8,DEBUT!$AB$4:$BP$78,3,FALSE),DEBUT!$CP$2:$DI$18,11,FALSE),\"\")","v":""},{"$f":"IFERROR(HLOOKUP(HLOOKUP(RC$8,DEBUT!$AB$4:$BP$78,3,FALSE),DEBUT!$CP$2:$DI$18,15,FALSE),\"\")","v":""},null,null,null,null,null,null,null,{"$f":"IFERROR(HLOOKUP(HLOOKUP(RN$8,DEBUT!$AB$4:$BP$78,3,FALSE),DEBUT!$CP$2:$DI$18,3,FALSE),\"\")","v":""},{"$f":"IFERROR(HLOOKUP(HLOOKUP(RN$8,DEBUT!$AB$4:$BP$78,3,FALSE),DEBUT!$CP$2:$DI$18,7,FALSE),\"\")","v":""},{"$f":"IFERROR(HLOOKUP(HLOOKUP(RN$8,DEBUT!$AB$4:$BP$78,3,FALSE),DEBUT!$CP$2:$DI$18,11,FALSE),\"\")","v":""},{"$f":"IFERROR(HLOOKUP(HLOOKUP(RN$8,DEBUT!$AB$4:$BP$78,3,FALSE),DEBUT!$CP$2:$DI$18,15,FALSE),\"\")","v":""},null,null,null,{"$f":"IFERROR(HLOOKUP(HLOOKUP(RU$8,DEBUT!$AB$4:$BP$78,3,FALSE),DEBUT!$CP$2:$DI$18,3,FALSE),\"\")","v":""},{"$f":"IFERROR(HLOOKUP(HLOOKUP(RU$8,DEBUT!$AB$4:$BP$78,3,FALSE),DEBUT!$CP$2:$DI$18,7,FALSE),\"\")","v":""},{"$f":"IFERROR(HLOOKUP(HLOOKUP(RU$8,DEBUT!$AB$4:$BP$78,3,FALSE),DEBUT!$CP$2:$DI$18,11,FALSE),\"\")","v":""},{"$f":"IFERROR(HLOOKUP(HLOOKUP(RU$8,DEBUT!$AB$4:$BP$78,3,FALSE),DEBUT!$CP$2:$DI$18,15,FALSE),\"\")","v":""},null,null,null,null,null,{"$f":"IFERROR(HLOOKUP(HLOOKUP(SD$8,DEBUT!$AB$4:$BP$78,3,FALSE),DEBUT!$CP$2:$DI$18,3,FALSE),\"\")","v":""},{"$f":"IFERROR(HLOOKUP(HLOOKUP(SD$8,DEBUT!$AB$4:$BP$78,3,FALSE),DEBUT!$CP$2:$DI$18,7,FALSE),\"\")","v":""},{"$f":"IFERROR(HLOOKUP(HLOOKUP(SD$8,DEBUT!$AB$4:$BP$78,3,FALSE),DEBUT!$CP$2:$DI$18,11,FALSE),\"\")","v":""},{"$f":"IFERROR(HLOOKUP(HLOOKUP(SD$8,DEBUT!$AB$4:$BP$78,3,FALSE),DEBUT!$CP$2:$DI$18,15,FALSE),\"\")","v":""},null,null,null,{"$f":"IFERROR(HLOOKUP(HLOOKUP(SK$8,DEBUT!$AB$4:$BP$78,3,FALSE),DEBUT!$CP$2:$DI$18,3,FALSE),\"\")","v":""},{"$f":"IFERROR(HLOOKUP(HLOOKUP(SK$8,DEBUT!$AB$4:$BP$78,3,FALSE),DEBUT!$CP$2:$DI$18,7,FALSE),\"\")","v":""},{"$f":"IFERROR(HLOOKUP(HLOOKUP(SK$8,DEBUT!$AB$4:$BP$78,3,FALSE),DEBUT!$CP$2:$DI$18,11,FALSE),\"\")","v":""},{"$f":"IFERROR(HLOOKUP(HLOOKUP(SK$8,DEBUT!$AB$4:$BP$78,3,FALSE),DEBUT!$CP$2:$DI$18,15,FALSE),\"\")","v":""},null,null,null,null,null,null,null,{"$f":"IFERROR(HLOOKUP(HLOOKUP(SV$8,DEBUT!$AB$4:$BP$78,3,FALSE),DEBUT!$CP$2:$DI$18,3,FALSE),\"\")","v":""},{"$f":"IFERROR(HLOOKUP(HLOOKUP(SV$8,DEBUT!$AB$4:$BP$78,3,FALSE),DEBUT!$CP$2:$DI$18,7,FALSE),\"\")","v":""},{"$f":"IFERROR(HLOOKUP(HLOOKUP(SV$8,DEBUT!$AB$4:$BP$78,3,FALSE),DEBUT!$CP$2:$DI$18,11,FALSE),\"\")","v":""},{"$f":"IFERROR(HLOOKUP(HLOOKUP(SV$8,DEBUT!$AB$4:$BP$78,3,FALSE),DEBUT!$CP$2:$DI$18,15,FALSE),\"\")","v":""},null,null,null,{"$f":"IFERROR(HLOOKUP(HLOOKUP(TC$8,DEBUT!$AB$4:$BP$78,3,FALSE),DEBUT!$CP$2:$DI$18,3,FALSE),\"\")","v":""},{"$f":"IFERROR(HLOOKUP(HLOOKUP(TC$8,DEBUT!$AB$4:$BP$78,3,FALSE),DEBUT!$CP$2:$DI$18,7,FALSE),\"\")","v":""},{"$f":"IFERROR(HLOOKUP(HLOOKUP(TC$8,DEBUT!$AB$4:$BP$78,3,FALSE),DEBUT!$CP$2:$DI$18,11,FALSE),\"\")","v":""},{"$f":"IFERROR(HLOOKUP(HLOOKUP(TC$8,DEBUT!$AB$4:$BP$78,3,FALSE),DEBUT!$CP$2:$DI$18,15,FALSE),\"\")","v":""},null,null,null,null,null,{"$f":"IFERROR(HLOOKUP(HLOOKUP(TL$8,DEBUT!$AB$4:$BP$78,3,FALSE),DEBUT!$CP$2:$DI$18,3,FALSE),\"\")","v":""},{"$f":"IFERROR(HLOOKUP(HLOOKUP(TL$8,DEBUT!$AB$4:$BP$78,3,FALSE),DEBUT!$CP$2:$DI$18,7,FALSE),\"\")","v":""},{"$f":"IFERROR(HLOOKUP(HLOOKUP(TL$8,DEBUT!$AB$4:$BP$78,3,FALSE),DEBUT!$CP$2:$DI$18,11,FALSE),\"\")","v":""},{"$f":"IFERROR(HLOOKUP(HLOOKUP(TL$8,DEBUT!$AB$4:$BP$78,3,FALSE),DEBUT!$CP$2:$DI$18,15,FALSE),\"\")","v":""},null,null,null,{"$f":"IFERROR(HLOOKUP(HLOOKUP(TS$8,DEBUT!$AB$4:$BP$78,3,FALSE),DEBUT!$CP$2:$DI$18,3,FALSE),\"\")","v":""},{"$f":"IFERROR(HLOOKUP(HLOOKUP(TS$8,DEBUT!$AB$4:$BP$78,3,FALSE),DEBUT!$CP$2:$DI$18,7,FALSE),\"\")","v":""},{"$f":"IFERROR(HLOOKUP(HLOOKUP(TS$8,DEBUT!$AB$4:$BP$78,3,FALSE),DEBUT!$CP$2:$DI$18,11,FALSE),\"\")","v":""},{"$f":"IFERROR(HLOOKUP(HLOOKUP(TS$8,DEBUT!$AB$4:$BP$78,3,FALSE),DEBUT!$CP$2:$DI$18,15,FALSE),\"\")","v":""},null,null,null,null,null,null,null,{"$f":"IFERROR(HLOOKUP(HLOOKUP(UD$8,DEBUT!$AB$4:$BP$78,3,FALSE),DEBUT!$CP$2:$DI$18,3,FALSE),\"\")","v":""},{"$f":"IFERROR(HLOOKUP(HLOOKUP(UD$8,DEBUT!$AB$4:$BP$78,3,FALSE),DEBUT!$CP$2:$DI$18,7,FALSE),\"\")","v":""},{"$f":"IFERROR(HLOOKUP(HLOOKUP(UD$8,DEBUT!$AB$4:$BP$78,3,FALSE),DEBUT!$CP$2:$DI$18,11,FALSE),\"\")","v":""},{"$f":"IFERROR(HLOOKUP(HLOOKUP(UD$8,DEBUT!$AB$4:$BP$78,3,FALSE),DEBUT!$CP$2:$DI$18,15,FALSE),\"\")","v":""},null,null,null,{"$f":"IFERROR(HLOOKUP(HLOOKUP(UK$8,DEBUT!$AB$4:$BP$78,3,FALSE),DEBUT!$CP$2:$DI$18,3,FALSE),\"\")","v":""},{"$f":"IFERROR(HLOOKUP(HLOOKUP(UK$8,DEBUT!$AB$4:$BP$78,3,FALSE),DEBUT!$CP$2:$DI$18,7,FALSE),\"\")","v":""},{"$f":"IFERROR(HLOOKUP(HLOOKUP(UK$8,DEBUT!$AB$4:$BP$78,3,FALSE),DEBUT!$CP$2:$DI$18,11,FALSE),\"\")","v":""},{"$f":"IFERROR(HLOOKUP(HLOOKUP(UK$8,DEBUT!$AB$4:$BP$78,3,FALSE),DEBUT!$CP$2:$DI$18,15,FALSE),\"\")","v":""},null,null,null,null,null,{"$f":"IFERROR(HLOOKUP(HLOOKUP(UT$8,DEBUT!$AB$4:$BP$78,3,FALSE),DEBUT!$CP$2:$DI$18,3,FALSE),\"\")","v":""},{"$f":"IFERROR(HLOOKUP(HLOOKUP(UT$8,DEBUT!$AB$4:$BP$78,3,FALSE),DEBUT!$CP$2:$DI$18,7,FALSE),\"\")","v":""},{"$f":"IFERROR(HLOOKUP(HLOOKUP(UT$8,DEBUT!$AB$4:$BP$78,3,FALSE),DEBUT!$CP$2:$DI$18,11,FALSE),\"\")","v":""},{"$f":"IFERROR(HLOOKUP(HLOOKUP(UT$8,DEBUT!$AB$4:$BP$78,3,FALSE),DEBUT!$CP$2:$DI$18,15,FALSE),\"\")","v":""},null,null,null,{"$f":"IFERROR(HLOOKUP(HLOOKUP(VA$8,DEBUT!$AB$4:$BP$78,3,FALSE),DEBUT!$CP$2:$DI$18,3,FALSE),\"\")","v":""},{"$f":"IFERROR(HLOOKUP(HLOOKUP(VA$8,DEBUT!$AB$4:$BP$78,3,FALSE),DEBUT!$CP$2:$DI$18,7,FALSE),\"\")","v":""},{"$f":"IFERROR(HLOOKUP(HLOOKUP(VA$8,DEBUT!$AB$4:$BP$78,3,FALSE),DEBUT!$CP$2:$DI$18,11,FALSE),\"\")","v":""},{"$f":"IFERROR(HLOOKUP(HLOOKUP(VA$8,DEBUT!$AB$4:$BP$78,3,FALSE),DEBUT!$CP$2:$DI$18,15,FALSE),\"\")","v":""},null,null,null,null,null,null,null,{"$f":"IFERROR(HLOOKUP(HLOOKUP(VL$8,DEBUT!$AB$4:$BP$78,3,FALSE),DEBUT!$CP$2:$DI$18,3,FALSE),\"\")","v":""},{"$f":"IFERROR(HLOOKUP(HLOOKUP(VL$8,DEBUT!$AB$4:$BP$78,3,FALSE),DEBUT!$CP$2:$DI$18,7,FALSE),\"\")","v":""},{"$f":"IFERROR(HLOOKUP(HLOOKUP(VL$8,DEBUT!$AB$4:$BP$78,3,FALSE),DEBUT!$CP$2:$DI$18,11,FALSE),\"\")","v":""},{"$f":"IFERROR(HLOOKUP(HLOOKUP(VL$8,DEBUT!$AB$4:$BP$78,3,FALSE),DEBUT!$CP$2:$DI$18,15,FALSE),\"\")","v":""},null,null,null,{"$f":"IFERROR(HLOOKUP(HLOOKUP(VS$8,DEBUT!$AB$4:$BP$78,3,FALSE),DEBUT!$CP$2:$DI$18,3,FALSE),\"\")","v":""},{"$f":"IFERROR(HLOOKUP(HLOOKUP(VS$8,DEBUT!$AB$4:$BP$78,3,FALSE),DEBUT!$CP$2:$DI$18,7,FALSE),\"\")","v":""},{"$f":"IFERROR(HLOOKUP(HLOOKUP(VS$8,DEBUT!$AB$4:$BP$78,3,FALSE),DEBUT!$CP$2:$DI$18,11,FALSE),\"\")","v":""},{"$f":"IFERROR(HLOOKUP(HLOOKUP(VS$8,DEBUT!$AB$4:$BP$78,3,FALSE),DEBUT!$CP$2:$DI$18,15,FALSE),\"\")","v":""},null,null,null,null,null,{"$f":"IFERROR(HLOOKUP(HLOOKUP(WB$8,DEBUT!$AB$4:$BP$78,3,FALSE),DEBUT!$CP$2:$DI$18,3,FALSE),\"\")","v":""},{"$f":"IFERROR(HLOOKUP(HLOOKUP(WB$8,DEBUT!$AB$4:$BP$78,3,FALSE),DEBUT!$CP$2:$DI$18,7,FALSE),\"\")","v":""},{"$f":"IFERROR(HLOOKUP(HLOOKUP(WB$8,DEBUT!$AB$4:$BP$78,3,FALSE),DEBUT!$CP$2:$DI$18,11,FALSE),\"\")","v":""},{"$f":"IFERROR(HLOOKUP(HLOOKUP(WB$8,DEBUT!$AB$4:$BP$78,3,FALSE),DEBUT!$CP$2:$DI$18,15,FALSE),\"\")","v":""},null,null,null,{"$f":"IFERROR(HLOOKUP(HLOOKUP(WI$8,DEBUT!$AB$4:$BP$78,3,FALSE),DEBUT!$CP$2:$DI$18,3,FALSE),\"\")","v":""},{"$f":"IFERROR(HLOOKUP(HLOOKUP(WI$8,DEBUT!$AB$4:$BP$78,3,FALSE),DEBUT!$CP$2:$DI$18,7,FALSE),\"\")","v":""},{"$f":"IFERROR(HLOOKUP(HLOOKUP(WI$8,DEBUT!$AB$4:$BP$78,3,FALSE),DEBUT!$CP$2:$DI$18,11,FALSE),\"\")","v":""},{"$f":"IFERROR(HLOOKUP(HLOOKUP(WI$8,DEBUT!$AB$4:$BP$78,3,FALSE),DEBUT!$CP$2:$DI$18,15,FALSE),\"\")","v":""},null,null,null,null,null,null,null,{"$f":"IFERROR(HLOOKUP(HLOOKUP(WT$8,DEBUT!$AB$4:$BP$78,3,FALSE),DEBUT!$CP$2:$DI$18,3,FALSE),\"\")","v":""},{"$f":"IFERROR(HLOOKUP(HLOOKUP(WT$8,DEBUT!$AB$4:$BP$78,3,FALSE),DEBUT!$CP$2:$DI$18,7,FALSE),\"\")","v":""},{"$f":"IFERROR(HLOOKUP(HLOOKUP(WT$8,DEBUT!$AB$4:$BP$78,3,FALSE),DEBUT!$CP$2:$DI$18,11,FALSE),\"\")","v":""},{"$f":"IFERROR(HLOOKUP(HLOOKUP(WT$8,DEBUT!$AB$4:$BP$78,3,FALSE),DEBUT!$CP$2:$DI$18,15,FALSE),\"\")","v":""},null,null,null,{"$f":"IFERROR(HLOOKUP(HLOOKUP(XA$8,DEBUT!$AB$4:$BP$78,3,FALSE),DEBUT!$CP$2:$DI$18,3,FALSE),\"\")","v":""},{"$f":"IFERROR(HLOOKUP(HLOOKUP(XA$8,DEBUT!$AB$4:$BP$78,3,FALSE),DEBUT!$CP$2:$DI$18,7,FALSE),\"\")","v":""},{"$f":"IFERROR(HLOOKUP(HLOOKUP(XA$8,DEBUT!$AB$4:$BP$78,3,FALSE),DEBUT!$CP$2:$DI$18,11,FALSE),\"\")","v":""},{"$f":"IFERROR(HLOOKUP(HLOOKUP(XA$8,DEBUT!$AB$4:$BP$78,3,FALSE),DEBUT!$CP$2:$DI$18,15,FALSE),\"\")","v":""},null,null,null,null,null,{"$f":"IFERROR(HLOOKUP(HLOOKUP(XJ$8,DEBUT!$AB$4:$BP$78,3,FALSE),DEBUT!$CP$2:$DI$18,3,FALSE),\"\")","v":""},{"$f":"IFERROR(HLOOKUP(HLOOKUP(XJ$8,DEBUT!$AB$4:$BP$78,3,FALSE),DEBUT!$CP$2:$DI$18,7,FALSE),\"\")","v":""},{"$f":"IFERROR(HLOOKUP(HLOOKUP(XJ$8,DEBUT!$AB$4:$BP$78,3,FALSE),DEBUT!$CP$2:$DI$18,11,FALSE),\"\")","v":""},{"$f":"IFERROR(HLOOKUP(HLOOKUP(XJ$8,DEBUT!$AB$4:$BP$78,3,FALSE),DEBUT!$CP$2:$DI$18,15,FALSE),\"\")","v":""},null,null,null,{"$f":"IFERROR(HLOOKUP(HLOOKUP(XQ$8,DEBUT!$AB$4:$BP$78,3,FALSE),DEBUT!$CP$2:$DI$18,3,FALSE),\"\")","v":""},{"$f":"IFERROR(HLOOKUP(HLOOKUP(XQ$8,DEBUT!$AB$4:$BP$78,3,FALSE),DEBUT!$CP$2:$DI$18,7,FALSE),\"\")","v":""},{"$f":"IFERROR(HLOOKUP(HLOOKUP(XQ$8,DEBUT!$AB$4:$BP$78,3,FALSE),DEBUT!$CP$2:$DI$18,11,FALSE),\"\")","v":""},{"$f":"IFERROR(HLOOKUP(HLOOKUP(XQ$8,DEBUT!$AB$4:$BP$78,3,FALSE),DEBUT!$CP$2:$DI$18,15,FALSE),\"\")","v":""},null,null,null,null,null,null,null,{"$f":"IFERROR(HLOOKUP(HLOOKUP(YB$8,DEBUT!$AB$4:$BP$78,3,FALSE),DEBUT!$CP$2:$DI$18,3,FALSE),\"\")","v":""},{"$f":"IFERROR(HLOOKUP(HLOOKUP(YB$8,DEBUT!$AB$4:$BP$78,3,FALSE),DEBUT!$CP$2:$DI$18,7,FALSE),\"\")","v":""},{"$f":"IFERROR(HLOOKUP(HLOOKUP(YB$8,DEBUT!$AB$4:$BP$78,3,FALSE),DEBUT!$CP$2:$DI$18,11,FALSE),\"\")","v":""},{"$f":"IFERROR(HLOOKUP(HLOOKUP(YB$8,DEBUT!$AB$4:$BP$78,3,FALSE),DEBUT!$CP$2:$DI$18,15,FALSE),\"\")","v":""},null,null,null,{"$f":"IFERROR(HLOOKUP(HLOOKUP(YI$8,DEBUT!$AB$4:$BP$78,3,FALSE),DEBUT!$CP$2:$DI$18,3,FALSE),\"\")","v":""},{"$f":"IFERROR(HLOOKUP(HLOOKUP(YI$8,DEBUT!$AB$4:$BP$78,3,FALSE),DEBUT!$CP$2:$DI$18,7,FALSE),\"\")","v":""},{"$f":"IFERROR(HLOOKUP(HLOOKUP(YI$8,DEBUT!$AB$4:$BP$78,3,FALSE),DEBUT!$CP$2:$DI$18,11,FALSE),\"\")","v":""},{"$f":"IFERROR(HLOOKUP(HLOOKUP(YI$8,DEBUT!$AB$4:$BP$78,3,FALSE),DEBUT!$CP$2:$DI$18,15,FALSE),\"\")","v":""},null,null,null,null,null,{"$f":"IFERROR(HLOOKUP(HLOOKUP(YR$8,DEBUT!$AB$4:$BP$78,3,FALSE),DEBUT!$CP$2:$DI$18,3,FALSE),\"\")","v":""},{"$f":"IFERROR(HLOOKUP(HLOOKUP(YR$8,DEBUT!$AB$4:$BP$78,3,FALSE),DEBUT!$CP$2:$DI$18,7,FALSE),\"\")","v":""},{"$f":"IFERROR(HLOOKUP(HLOOKUP(YR$8,DEBUT!$AB$4:$BP$78,3,FALSE),DEBUT!$CP$2:$DI$18,11,FALSE),\"\")","v":""},{"$f":"IFERROR(HLOOKUP(HLOOKUP(YR$8,DEBUT!$AB$4:$BP$78,3,FALSE),DEBUT!$CP$2:$DI$18,15,FALSE),\"\")","v":""},null,null,null,{"$f":"IFERROR(HLOOKUP(HLOOKUP(YY$8,DEBUT!$AB$4:$BP$78,3,FALSE),DEBUT!$CP$2:$DI$18,3,FALSE),\"\")","v":""},{"$f":"IFERROR(HLOOKUP(HLOOKUP(YY$8,DEBUT!$AB$4:$BP$78,3,FALSE),DEBUT!$CP$2:$DI$18,7,FALSE),\"\")","v":""},{"$f":"IFERROR(HLOOKUP(HLOOKUP(YY$8,DEBUT!$AB$4:$BP$78,3,FALSE),DEBUT!$CP$2:$DI$18,11,FALSE),\"\")","v":""},{"$f":"IFERROR(HLOOKUP(HLOOKUP(YY$8,DEBUT!$AB$4:$BP$78,3,FALSE),DEBUT!$CP$2:$DI$18,15,FALSE),\"\")","v":""},null,null,null,null,null,null,null,{"$f":"IFERROR(HLOOKUP(HLOOKUP(ZJ$8,DEBUT!$AB$4:$BP$78,3,FALSE),DEBUT!$CP$2:$DI$18,3,FALSE),\"\")","v":""},{"$f":"IFERROR(HLOOKUP(HLOOKUP(ZJ$8,DEBUT!$AB$4:$BP$78,3,FALSE),DEBUT!$CP$2:$DI$18,7,FALSE),\"\")","v":""},{"$f":"IFERROR(HLOOKUP(HLOOKUP(ZJ$8,DEBUT!$AB$4:$BP$78,3,FALSE),DEBUT!$CP$2:$DI$18,11,FALSE),\"\")","v":""},{"$f":"IFERROR(HLOOKUP(HLOOKUP(ZJ$8,DEBUT!$AB$4:$BP$78,3,FALSE),DEBUT!$CP$2:$DI$18,15,FALSE),\"\")","v":""},null,null,null,{"$f":"IFERROR(HLOOKUP(HLOOKUP(ZQ$8,DEBUT!$AB$4:$BP$78,3,FALSE),DEBUT!$CP$2:$DI$18,3,FALSE),\"\")","v":""},{"$f":"IFERROR(HLOOKUP(HLOOKUP(ZQ$8,DEBUT!$AB$4:$BP$78,3,FALSE),DEBUT!$CP$2:$DI$18,7,FALSE),\"\")","v":""},{"$f":"IFERROR(HLOOKUP(HLOOKUP(ZQ$8,DEBUT!$AB$4:$BP$78,3,FALSE),DEBUT!$CP$2:$DI$18,11,FALSE),\"\")","v":""},{"$f":"IFERROR(HLOOKUP(HLOOKUP(ZQ$8,DEBUT!$AB$4:$BP$78,3,FALSE),DEBUT!$CP$2:$DI$18,15,FALSE),\"\")","v":""},null,null,null,null,null,{"$f":"IFERROR(HLOOKUP(HLOOKUP(ZZ$8,DEBUT!$AB$4:$BP$78,3,FALSE),DEBUT!$CP$2:$DI$18,3,FALSE),\"\")","v":""},{"$f":"IFERROR(HLOOKUP(HLOOKUP(ZZ$8,DEBUT!$AB$4:$BP$78,3,FALSE),DEBUT!$CP$2:$DI$18,7,FALSE),\"\")","v":""},{"$f":"IFERROR(HLOOKUP(HLOOKUP(ZZ$8,DEBUT!$AB$4:$BP$78,3,FALSE),DEBUT!$CP$2:$DI$18,11,FALSE),\"\")","v":""},{"$f":"IFERROR(HLOOKUP(HLOOKUP(ZZ$8,DEBUT!$AB$4:$BP$78,3,FALSE),DEBUT!$CP$2:$DI$18,15,FALSE),\"\")","v":""},null,null,null,{"$f":"IFERROR(HLOOKUP(HLOOKUP(AAG$8,DEBUT!$AB$4:$BP$78,3,FALSE),DEBUT!$CP$2:$DI$18,3,FALSE),\"\")","v":""},{"$f":"IFERROR(HLOOKUP(HLOOKUP(AAG$8,DEBUT!$AB$4:$BP$78,3,FALSE),DEBUT!$CP$2:$DI$18,7,FALSE),\"\")","v":""},{"$f":"IFERROR(HLOOKUP(HLOOKUP(AAG$8,DEBUT!$AB$4:$BP$78,3,FALSE),DEBUT!$CP$2:$DI$18,11,FALSE),\"\")","v":""},{"$f":"IFERROR(HLOOKUP(HLOOKUP(AAG$8,DEBUT!$AB$4:$BP$78,3,FALSE),DEBUT!$CP$2:$DI$18,15,FALSE),\"\")","v":""},null,null,null,null,null,null,null,{"$f":"IFERROR(HLOOKUP(HLOOKUP(AAR$8,DEBUT!$AB$4:$BP$78,3,FALSE),DEBUT!$CP$2:$DI$18,3,FALSE),\"\")","v":""},{"$f":"IFERROR(HLOOKUP(HLOOKUP(AAR$8,DEBUT!$AB$4:$BP$78,3,FALSE),DEBUT!$CP$2:$DI$18,7,FALSE),\"\")","v":""},{"$f":"IFERROR(HLOOKUP(HLOOKUP(AAR$8,DEBUT!$AB$4:$BP$78,3,FALSE),DEBUT!$CP$2:$DI$18,11,FALSE),\"\")","v":""},{"$f":"IFERROR(HLOOKUP(HLOOKUP(AAR$8,DEBUT!$AB$4:$BP$78,3,FALSE),DEBUT!$CP$2:$DI$18,15,FALSE),\"\")","v":""},null,null,null,{"$f":"IFERROR(HLOOKUP(HLOOKUP(AAY$8,DEBUT!$AB$4:$BP$78,3,FALSE),DEBUT!$CP$2:$DI$18,3,FALSE),\"\")","v":""},{"$f":"IFERROR(HLOOKUP(HLOOKUP(AAY$8,DEBUT!$AB$4:$BP$78,3,FALSE),DEBUT!$CP$2:$DI$18,7,FALSE),\"\")","v":""},{"$f":"IFERROR(HLOOKUP(HLOOKUP(AAY$8,DEBUT!$AB$4:$BP$78,3,FALSE),DEBUT!$CP$2:$DI$18,11,FALSE),\"\")","v":""},{"$f":"IFERROR(HLOOKUP(HLOOKUP(AAY$8,DEBUT!$AB$4:$BP$78,3,FALSE),DEBUT!$CP$2:$DI$18,15,FALSE),\"\")","v":""},null,null,null,null,null,{"$f":"IFERROR(HLOOKUP(HLOOKUP(ABH$8,DEBUT!$AB$4:$BP$78,3,FALSE),DEBUT!$CP$2:$DI$18,3,FALSE),\"\")","v":""},{"$f":"IFERROR(HLOOKUP(HLOOKUP(ABH$8,DEBUT!$AB$4:$BP$78,3,FALSE),DEBUT!$CP$2:$DI$18,7,FALSE),\"\")","v":""},{"$f":"IFERROR(HLOOKUP(HLOOKUP(ABH$8,DEBUT!$AB$4:$BP$78,3,FALSE),DEBUT!$CP$2:$DI$18,11,FALSE),\"\")","v":""},{"$f":"IFERROR(HLOOKUP(HLOOKUP(ABH$8,DEBUT!$AB$4:$BP$78,3,FALSE),DEBUT!$CP$2:$DI$18,15,FALSE),\"\")","v":""},null,null,null,{"$f":"IFERROR(HLOOKUP(HLOOKUP(ABO$8,DEBUT!$AB$4:$BP$78,3,FALSE),DEBUT!$CP$2:$DI$18,3,FALSE),\"\")","v":""},{"$f":"IFERROR(HLOOKUP(HLOOKUP(ABO$8,DEBUT!$AB$4:$BP$78,3,FALSE),DEBUT!$CP$2:$DI$18,7,FALSE),\"\")","v":""},{"$f":"IFERROR(HLOOKUP(HLOOKUP(ABO$8,DEBUT!$AB$4:$BP$78,3,FALSE),DEBUT!$CP$2:$DI$18,11,FALSE),\"\")","v":""},{"$f":"IFERROR(HLOOKUP(HLOOKUP(ABO$8,DEBUT!$AB$4:$BP$78,3,FALSE),DEBUT!$CP$2:$DI$18,15,FALSE),\"\")","v":""},null,null,null,null,null,null,null,{"$f":"IFERROR(HLOOKUP(HLOOKUP(ABZ$8,DEBUT!$AB$4:$BP$78,3,FALSE),DEBUT!$CP$2:$DI$18,3,FALSE),\"\")","v":""},{"$f":"IFERROR(HLOOKUP(HLOOKUP(ABZ$8,DEBUT!$AB$4:$BP$78,3,FALSE),DEBUT!$CP$2:$DI$18,7,FALSE),\"\")","v":""},{"$f":"IFERROR(HLOOKUP(HLOOKUP(ABZ$8,DEBUT!$AB$4:$BP$78,3,FALSE),DEBUT!$CP$2:$DI$18,11,FALSE),\"\")","v":""},{"$f":"IFERROR(HLOOKUP(HLOOKUP(ABZ$8,DEBUT!$AB$4:$BP$78,3,FALSE),DEBUT!$CP$2:$DI$18,15,FALSE),\"\")","v":""},null,null,null,{"$f":"IFERROR(HLOOKUP(HLOOKUP(ACG$8,DEBUT!$AB$4:$BP$78,3,FALSE),DEBUT!$CP$2:$DI$18,3,FALSE),\"\")","v":""},{"$f":"IFERROR(HLOOKUP(HLOOKUP(ACG$8,DEBUT!$AB$4:$BP$78,3,FALSE),DEBUT!$CP$2:$DI$18,7,FALSE),\"\")","v":""},{"$f":"IFERROR(HLOOKUP(HLOOKUP(ACG$8,DEBUT!$AB$4:$BP$78,3,FALSE),DEBUT!$CP$2:$DI$18,11,FALSE),\"\")","v":""},{"$f":"IFERROR(HLOOKUP(HLOOKUP(ACG$8,DEBUT!$AB$4:$BP$78,3,FALSE),DEBUT!$CP$2:$DI$18,15,FALSE),\"\")","v":""},null,null,null,null,null,{"$f":"IFERROR(HLOOKUP(HLOOKUP(ACP$8,DEBUT!$AB$4:$BP$78,3,FALSE),DEBUT!$CP$2:$DI$18,3,FALSE),\"\")","v":""},{"$f":"IFERROR(HLOOKUP(HLOOKUP(ACP$8,DEBUT!$AB$4:$BP$78,3,FALSE),DEBUT!$CP$2:$DI$18,7,FALSE),\"\")","v":""},{"$f":"IFERROR(HLOOKUP(HLOOKUP(ACP$8,DEBUT!$AB$4:$BP$78,3,FALSE),DEBUT!$CP$2:$DI$18,11,FALSE),\"\")","v":""},{"$f":"IFERROR(HLOOKUP(HLOOKUP(ACP$8,DEBUT!$AB$4:$BP$78,3,FALSE),DEBUT!$CP$2:$DI$18,15,FALSE),\"\")","v":""},null,null,null,{"$f":"IFERROR(HLOOKUP(HLOOKUP(ACW$8,DEBUT!$AB$4:$BP$78,3,FALSE),DEBUT!$CP$2:$DI$18,3,FALSE),\"\")","v":""},{"$f":"IFERROR(HLOOKUP(HLOOKUP(ACW$8,DEBUT!$AB$4:$BP$78,3,FALSE),DEBUT!$CP$2:$DI$18,7,FALSE),\"\")","v":""},{"$f":"IFERROR(HLOOKUP(HLOOKUP(ACW$8,DEBUT!$AB$4:$BP$78,3,FALSE),DEBUT!$CP$2:$DI$18,11,FALSE),\"\")","v":""},{"$f":"IFERROR(HLOOKUP(HLOOKUP(ACW$8,DEBUT!$AB$4:$BP$78,3,FALSE),DEBUT!$CP$2:$DI$18,15,FALSE),\"\")","v":""},null,null,null,null,null,null,null,{"$f":"IFERROR(HLOOKUP(HLOOKUP(ADH$8,DEBUT!$AB$4:$BP$78,3,FALSE),DEBUT!$CP$2:$DI$18,3,FALSE),\"\")","v":""},{"$f":"IFERROR(HLOOKUP(HLOOKUP(ADH$8,DEBUT!$AB$4:$BP$78,3,FALSE),DEBUT!$CP$2:$DI$18,7,FALSE),\"\")","v":""},{"$f":"IFERROR(HLOOKUP(HLOOKUP(ADH$8,DEBUT!$AB$4:$BP$78,3,FALSE),DEBUT!$CP$2:$DI$18,11,FALSE),\"\")","v":""},{"$f":"IFERROR(HLOOKUP(HLOOKUP(ADH$8,DEBUT!$AB$4:$BP$78,3,FALSE),DEBUT!$CP$2:$DI$18,15,FALSE),\"\")","v":""},null,null,null,{"$f":"IFERROR(HLOOKUP(HLOOKUP(ADO$8,DEBUT!$AB$4:$BP$78,3,FALSE),DEBUT!$CP$2:$DI$18,3,FALSE),\"\")","v":""},{"$f":"IFERROR(HLOOKUP(HLOOKUP(ADO$8,DEBUT!$AB$4:$BP$78,3,FALSE),DEBUT!$CP$2:$DI$18,7,FALSE),\"\")","v":""},{"$f":"IFERROR(HLOOKUP(HLOOKUP(ADO$8,DEBUT!$AB$4:$BP$78,3,FALSE),DEBUT!$CP$2:$DI$18,11,FALSE),\"\")","v":""},{"$f":"IFERROR(HLOOKUP(HLOOKUP(ADO$8,DEBUT!$AB$4:$BP$78,3,FALSE),DEBUT!$CP$2:$DI$18,15,FALSE),\"\")","v":""},null,null,null,null,null,{"$f":"IFERROR(HLOOKUP(HLOOKUP(ADX$8,DEBUT!$AB$4:$BP$78,3,FALSE),DEBUT!$CP$2:$DI$18,3,FALSE),\"\")","v":""},{"$f":"IFERROR(HLOOKUP(HLOOKUP(ADX$8,DEBUT!$AB$4:$BP$78,3,FALSE),DEBUT!$CP$2:$DI$18,7,FALSE),\"\")","v":""},{"$f":"IFERROR(HLOOKUP(HLOOKUP(ADX$8,DEBUT!$AB$4:$BP$78,3,FALSE),DEBUT!$CP$2:$DI$18,11,FALSE),\"\")","v":""},{"$f":"IFERROR(HLOOKUP(HLOOKUP(ADX$8,DEBUT!$AB$4:$BP$78,3,FALSE),DEBUT!$CP$2:$DI$18,15,FALSE),\"\")","v":""},null,null,null,{"$f":"IFERROR(HLOOKUP(HLOOKUP(AEE$8,DEBUT!$AB$4:$BP$78,3,FALSE),DEBUT!$CP$2:$DI$18,3,FALSE),\"\")","v":""},{"$f":"IFERROR(HLOOKUP(HLOOKUP(AEE$8,DEBUT!$AB$4:$BP$78,3,FALSE),DEBUT!$CP$2:$DI$18,7,FALSE),\"\")","v":""},{"$f":"IFERROR(HLOOKUP(HLOOKUP(AEE$8,DEBUT!$AB$4:$BP$78,3,FALSE),DEBUT!$CP$2:$DI$18,11,FALSE),\"\")","v":""},{"$f":"IFERROR(HLOOKUP(HLOOKUP(AEE$8,DEBUT!$AB$4:$BP$78,3,FALSE),DEBUT!$CP$2:$DI$18,15,FALSE),\"\")","v":""}]
[null,null,null,null,null,{"$f":"IFERROR(HLOOKUP(HLOOKUP(F$8,DEBUT!$AB$4:$BP$78,3,FALSE),DEBUT!$CP$2:$DI$18,4,FALSE),\"\")","v":""},{"$f":"IFERROR(HLOOKUP(HLOOKUP(F$8,DEBUT!$AB$4:$BP$78,3,FALSE),DEBUT!$CP$2:$DI$18,8,FALSE),\"\")","v":""},{"$f":"IFERROR(HLOOKUP(HLOOKUP(F$8,DEBUT!$AB$4:$BP$78,3,FALSE),DEBUT!$CP$2:$DI$18,12,FALSE),\"\")","v":""},{"$f":"IFERROR(HLOOKUP(HLOOKUP(F$8,DEBUT!$AB$4:$BP$78,3,FALSE),DEBUT!$CP$2:$DI$18,16,FALSE),\"\")","v":""},null,null,null,{"$f":"IFERROR(HLOOKUP(HLOOKUP(M$8,DEBUT!$AB$4:$BP$78,3,FALSE),DEBUT!$CP$2:$DI$18,4,FALSE),\"\")","v":""},{"$f":"IFERROR(HLOOKUP(HLOOKUP(M$8,DEBUT!$AB$4:$BP$78,3,FALSE),DEBUT!$CP$2:$DI$18,8,FALSE),\"\")","v":""},{"$f":"IFERROR(HLOOKUP(HLOOKUP(M$8,DEBUT!$AB$4:$BP$78,3,FALSE),DEBUT!$CP$2:$DI$18,12,FALSE),\"\")","v":""},{"$f":"IFERROR(HLOOKUP(HLOOKUP(M$8,DEBUT!$AB$4:$BP$78,3,FALSE),DEBUT!$CP$2:$DI$18,16,FALSE),\"\")","v":""},null,null,null,null,null,{"$f":"IFERROR(HLOOKUP(HLOOKUP(V$8,DEBUT!$AB$4:$BP$78,3,FALSE),DEBUT!$CP$2:$DI$18,4,FALSE),\"\")","v":""},{"$f":"IFERROR(HLOOKUP(HLOOKUP(V$8,DEBUT!$AB$4:$BP$78,3,FALSE),DEBUT!$CP$2:$DI$18,8,FALSE),\"\")","v":""},{"$f":"IFERROR(HLOOKUP(HLOOKUP(V$8,DEBUT!$AB$4:$BP$78,3,FALSE),DEBUT!$CP$2:$DI$18,12,FALSE),\"\")","v":""},{"$f":"IFERROR(HLOOKUP(HLOOKUP(V$8,DEBUT!$AB$4:$BP$78,3,FALSE),DEBUT!$CP$2:$DI$18,16,FALSE),\"\")","v":""},null,null,null,{"$f":"IFERROR(HLOOKUP(HLOOKUP(AC$8,DEBUT!$AB$4:$BP$78,3,FALSE),DEBUT!$CP$2:$DI$18,4,FALSE),\"\")","v":""},{"$f":"IFERROR(HLOOKUP(HLOOKUP(AC$8,DEBUT!$AB$4:$BP$78,3,FALSE),DEBUT!$CP$2:$DI$18,8,FALSE),\"\")","v":""},{"$f":"IFERROR(HLOOKUP(HLOOKUP(AC$8,DEBUT!$AB$4:$BP$78,3,FALSE),DEBUT!$CP$2:$DI$18,12,FALSE),\"\")","v":""},{"$f":"IFERROR(HLOOKUP(HLOOKUP(AC$8,DEBUT!$AB$4:$BP$78,3,FALSE),DEBUT!$CP$2:$DI$18,16,FALSE),\"\")","v":""},null,null,null,null,null,null,null,{"$f":"IFERROR(HLOOKUP(HLOOKUP(AN$8,DEBUT!$AB$4:$BP$78,3,FALSE),DEBUT!$CP$2:$DI$18,4,FALSE),\"\")","v":""},{"$f":"IFERROR(HLOOKUP(HLOOKUP(AN$8,DEBUT!$AB$4:$BP$78,3,FALSE),DEBUT!$CP$2:$DI$18,8,FALSE),\"\")","v":""},{"$f":"IFERROR(HLOOKUP(HLOOKUP(AN$8,DEBUT!$AB$4:$BP$78,3,FALSE),DEBUT!$CP$2:$DI$18,12,FALSE),\"\")","v":""},{"$f":"IFERROR(HLOOKUP(HLOOKUP(AN$8,DEBUT!$AB$4:$BP$78,3,FALSE),DEBUT!$CP$2:$DI$18,16,FALSE),\"\")","v":""},null,null,null,{"$f":"IFERROR(HLOOKUP(HLOOKUP(AU$8,DEBUT!$AB$4:$BP$78,3,FALSE),DEBUT!$CP$2:$DI$18,4,FALSE),\"\")","v":""},{"$f":"IFERROR(HLOOKUP(HLOOKUP(AU$8,DEBUT!$AB$4:$BP$78,3,FALSE),DEBUT!$CP$2:$DI$18,8,FALSE),\"\")","v":""},{"$f":"IFERROR(HLOOKUP(HLOOKUP(AU$8,DEBUT!$AB$4:$BP$78,3,FALSE),DEBUT!$CP$2:$DI$18,12,FALSE),\"\")","v":""},{"$f":"IFERROR(HLOOKUP(HLOOKUP(AU$8,DEBUT!$AB$4:$BP$78,3,FALSE),DEBUT!$CP$2:$DI$18,16,FALSE),\"\")","v":""},null,null,null,null,null,{"$f":"IFERROR(HLOOKUP(HLOOKUP(BD$8,DEBUT!$AB$4:$BP$78,3,FALSE),DEBUT!$CP$2:$DI$18,4,FALSE),\"\")","v":""},{"$f":"IFERROR(HLOOKUP(HLOOKUP(BD$8,DEBUT!$AB$4:$BP$78,3,FALSE),DEBUT!$CP$2:$DI$18,8,FALSE),\"\")","v":""},{"$f":"IFERROR(HLOOKUP(HLOOKUP(BD$8,DEBUT!$AB$4:$BP$78,3,FALSE),DEBUT!$CP$2:$DI$18,12,FALSE),\"\")","v":""},{"$f":"IFERROR(HLOOKUP(HLOOKUP(BD$8,DEBUT!$AB$4:$BP$78,3,FALSE),DEBUT!$CP$2:$DI$18,16,FALSE),\"\")","v":""},null,null,null,{"$f":"IFERROR(HLOOKUP(HLOOKUP(BK$8,DEBUT!$AB$4:$BP$78,3,FALSE),DEBUT!$CP$2:$DI$18,4,FALSE),\"\")","v":""},{"$f":"IFERROR(HLOOKUP(HLOOKUP(BK$8,DEBUT!$AB$4:$BP$78,3,FALSE),DEBUT!$CP$2:$DI$18,8,FALSE),\"\")","v":""},{"$f":"IFERROR(HLOOKUP(HLOOKUP(BK$8,DEBUT!$AB$4:$BP$78,3,FALSE),DEBUT!$CP$2:$DI$18,12,FALSE),\"\")","v":""},{"$f":"IFERROR(HLOOKUP(HLOOKUP(BK$8,DEBUT!$AB$4:$BP$78,3,FALSE),DEBUT!$CP$2:$DI$18,16,FALSE),\"\")","v":""},null,null,null,null,null,null,null,{"$f":"IFERROR(HLOOKUP(HLOOKUP(BV$8,DEBUT!$AB$4:$BP$78,3,FALSE),DEBUT!$CP$2:$DI$18,4,FALSE),\"\")","v":""},{"$f":"IFERROR(HLOOKUP(HLOOKUP(BV$8,DEBUT!$AB$4:$BP$78,3,FALSE),DEBUT!$CP$2:$DI$18,8,FALSE),\"\")","v":""},{"$f":"IFERROR(HLOOKUP(HLOOKUP(BV$8,DEBUT!$AB$4:$BP$78,3,FALSE),DEBUT!$CP$2:$DI$18,12,FALSE),\"\")","v":""},{"$f":"IFERROR(HLOOKUP(HLOOKUP(BV$8,DEBUT!$AB$4:$BP$78,3,FALSE),DEBUT!$CP$2:$DI$18,16,FALSE),\"\")","v":""},null,null,null,{"$f":"IFERROR(HLOOKUP(HLOOKUP(CC$8,DEBUT!$AB$4:$BP$78,3,FALSE),DEBUT!$CP$2:$DI$18,4,FALSE),\"\")","v":""},{"$f":"IFERROR(HLOOKUP(HLOOKUP(CC$8,DEBUT!$AB$4:$BP$78,3,FALSE),DEBUT!$CP$2:$DI$18,8,FALSE),\"\")","v":""},{"$f":"IFERROR(HLOOKUP(HLOOKUP(CC$8,DEBUT!$AB$4:$BP$78,3,FALSE),DEBUT!$CP$2:$DI$18,12,FALSE),\"\")","v":""},{"$f":"IFERROR(HLOOKUP(HLOOKUP(CC$8,DEBUT!$AB$4:$BP$78,3,FALSE),DEBUT!$CP$2:$DI$18,16,FALSE),\"\")","v":""},null,null,null,null,null,{"$f":"IFERROR(HLOOKUP(HLOOKUP(CL$8,DEBUT!$AB$4:$BP$78,3,FALSE),DEBUT!$CP$2:$DI$18,4,FALSE),\"\")","v":""},{"$f":"IFERROR(HLOOKUP(HLOOKUP(CL$8,DEBUT!$AB$4:$BP$78,3,FALSE),DEBUT!$CP$2:$DI$18,8,FALSE),\"\")","v":""},{"$f":"IFERROR(HLOOKUP(HLOOKUP(CL$8,DEBUT!$AB$4:$BP$78,3,FALSE),DEBUT!$CP$2:$DI$18,12,FALSE),\"\")","v":""},{"$f":"IFERROR(HLOOKUP(HLOOKUP(CL$8,DEBUT!$AB$4:$BP$78,3,FALSE),DEBUT!$CP$2:$DI$18,16,FALSE),\"\")","v":""},null,null,null,{"$f":"IFERROR(HLOOKUP(HLOOKUP(CS$8,DEBUT!$AB$4:$BP$78,3,FALSE),DEBUT!$CP$2:$DI$18,4,FALSE),\"\")","v":""},{"$f":"IFERROR(HLOOKUP(HLOOKUP(CS$8,DEBUT!$AB$4:$BP$78,3,FALSE),DEBUT!$CP$2:$DI$18,8,FALSE),\"\")","v":""},{"$f":"IFERROR(HLOOKUP(HLOOKUP(CS$8,DEBUT!$AB$4:$BP$78,3,FALSE),DEBUT!$CP$2:$DI$18,12,FALSE),\"\")","v":""},{"$f":"IFERROR(HLOOKUP(HLOOKUP(CS$8,DEBUT!$AB$4:$BP$78,3,FALSE),DEBUT!$CP$2:$DI$18,16,FALSE),\"\")","v":""},null,null,null,null,null,null,null,{"$f":"IFERROR(HLOOKUP(HLOOKUP(DD$8,DEBUT!$AB$4:$BP$78,3,FALSE),DEBUT!$CP$2:$DI$18,4,FALSE),\"\")","v":""},{"$f":"IFERROR(HLOOKUP(HLOOKUP(DD$8,DEBUT!$AB$4:$BP$78,3,FALSE),DEBUT!$CP$2:$DI$18,8,FALSE),\"\")","v":""},{"$f":"IFERROR(HLOOKUP(HLOOKUP(DD$8,DEBUT!$AB$4:$BP$78,3,FALSE),DEBUT!$CP$2:$DI$18,12,FALSE),\"\")","v":""},{"$f":"IFERROR(HLOOKUP(HLOOKUP(DD$8,DEBUT!$AB$4:$BP$78,3,FALSE),DEBUT!$CP$2:$DI$18,16,FALSE),\"\")","v":""},null,null,null,{"$f":"IFERROR(HLOOKUP(HLOOKUP(DK$8,DEBUT!$AB$4:$BP$78,3,FALSE),DEBUT!$CP$2:$DI$18,4,FALSE),\"\")","v":""},{"$f":"IFERROR(HLOOKUP(HLOOKUP(DK$8,DEBUT!$AB$4:$BP$78,3,FALSE),DEBUT!$CP$2:$DI$18,8,FALSE),\"\")","v":""},{"$f":"IFERROR(HLOOKUP(HLOOKUP(DK$8,DEBUT!$AB$4:$BP$78,3,FALSE),DEBUT!$CP$2:$DI$18,12,FALSE),\"\")","v":""},{"$f":"IFERROR(HLOOKUP(HLOOKUP(DK$8,DEBUT!$AB$4:$BP$78,3,FALSE),DEBUT!$CP$2:$DI$18,16,FALSE),\"\")","v":""},null,null,null,null,null,{"$f":"IFERROR(HLOOKUP(HLOOKUP(DT$8,DEBUT!$AB$4:$BP$78,3,FALSE),DEBUT!$CP$2:$DI$18,4,FALSE),\"\")","v":""},{"$f":"IFERROR(HLOOKUP(HLOOKUP(DT$8,DEBUT!$AB$4:$BP$78,3,FALSE),DEBUT!$CP$2:$DI$18,8,FALSE),\"\")","v":""},{"$f":"IFERROR(HLOOKUP(HLOOKUP(DT$8,DEBUT!$AB$4:$BP$78,3,FALSE),DEBUT!$CP$2:$DI$18,12,FALSE),\"\")","v":""},{"$f":"IFERROR(HLOOKUP(HLOOKUP(DT$8,DEBUT!$AB$4:$BP$78,3,FALSE),DEBUT!$CP$2:$DI$18,16,FALSE),\"\")","v":""},null,null,null,{"$f":"IFERROR(HLOOKUP(HLOOKUP(EA$8,DEBUT!$AB$4:$BP$78,3,FALSE),DEBUT!$CP$2:$DI$18,4,FALSE),\"\")","v":""},{"$f":"IFERROR(HLOOKUP(HLOOKUP(EA$8,DEBUT!$AB$4:$BP$78,3,FALSE),DEBUT!$CP$2:$DI$18,8,FALSE),\"\")","v":""},{"$f":"IFERROR(HLOOKUP(HLOOKUP(EA$8,DEBUT!$AB$4:$BP$78,3,FALSE),DEBUT!$CP$2:$DI$18,12,FALSE),\"\")","v":""},{"$f":"IFERROR(HLOOKUP(HLOOKUP(EA$8,DEBUT!$AB$4:$BP$78,3,FALSE),DEBUT!$CP$2:$DI$18,16,FALSE),\"\")","v":""},null,null,null,null,null,null,null,{"$f":"IFERROR(HLOOKUP(HLOOKUP(EL$8,DEBUT!$AB$4:$BP$78,3,FALSE),DEBUT!$CP$2:$DI$18,4,FALSE),\"\")","v":""},{"$f":"IFERROR(HLOOKUP(HLOOKUP(EL$8,DEBUT!$AB$4:$BP$78,3,FALSE),DEBUT!$CP$2:$DI$18,8,FALSE),\"\")","v":""},{"$f":"IFERROR(HLOOKUP(HLOOKUP(EL$8,DEBUT!$AB$4:$BP$78,3,FALSE),DEBUT!$CP$2:$DI$18,12,FALSE),\"\")","v":""},{"$f":"IFERROR(HLOOKUP(HLOOKUP(EL$8,DEBUT!$AB$4:$BP$78,3,FALSE),DEBUT!$CP$2:$DI$18,16,FALSE),\"\")","v":""},null,null,null,{"$f":"IFERROR(HLOOKUP(HLOOKUP(ES$8,DEBUT!$AB$4:$BP$78,3,FALSE),DEBUT!$CP$2:$DI$18,4,FALSE),\"\")","v":""},{"$f":"IFERROR(HLOOKUP(HLOOKUP(ES$8,DEBUT!$AB$4:$BP$78,3,FALSE),DEBUT!$CP$2:$DI$18,8,FALSE),\"\")","v":""},{"$f":"IFERROR(HLOOKUP(HLOOKUP(ES$8,DEBUT!$AB$4:$BP$78,3,FALSE),DEBUT!$CP$2:$DI$18,12,FALSE),\"\")","v":""},{"$f":"IFERROR(HLOOKUP(HLOOKUP(ES$8,DEBUT!$AB$4:$BP$78,3,FALSE),DEBUT!$CP$2:$DI$18,16,FALSE),\"\")","v":""},null,null,null,null,null,{"$f":"IFERROR(HLOOKUP(HLOOKUP(FB$8,DEBUT!$AB$4:$BP$78,3,FALSE),DEBUT!$CP$2:$DI$18,4,FALSE),\"\")","v":""},{"$f":"IFERROR(HLOOKUP(HLOOKUP(FB$8,DEBUT!$AB$4:$BP$78,3,FALSE),DEBUT!$CP$2:$DI$18,8,FALSE),\"\")","v":""},{"$f":"IFERROR(HLOOKUP(HLOOKUP(FB$8,DEBUT!$AB$4:$BP$78,3,FALSE),DEBUT!$CP$2:$DI$18,12,FALSE),\"\")","v":""},{"$f":"IFERROR(HLOOKUP(HLOOKUP(FB$8,DEBUT!$AB$4:$BP$78,3,FALSE),DEBUT!$CP$2:$DI$18,16,FALSE),\"\")","v":""},null,null,null,{"$f":"IFERROR(HLOOKUP(HLOOKUP(FI$8,DEBUT!$AB$4:$BP$78,3,FALSE),DEBUT!$CP$2:$DI$18,4,FALSE),\"\")","v":""},{"$f":"IFERROR(HLOOKUP(HLOOKUP(FI$8,DEBUT!$AB$4:$BP$78,3,FALSE),DEBUT!$CP$2:$DI$18,8,FALSE),\"\")","v":""},{"$f":"IFERROR(HLOOKUP(HLOOKUP(FI$8,DEBUT!$AB$4:$BP$78,3,FALSE),DEBUT!$CP$2:$DI$18,12,FALSE),\"\")","v":""},{"$f":"IFERROR(HLOOKUP(HLOOKUP(FI$8,DEBUT!$AB$4:$BP$78,3,FALSE),DEBUT!$CP$2:$DI$18,16,FALSE),\"\")","v":""},null,null,null,null,null,null,null,{"$f":"IFERROR(HLOOKUP(HLOOKUP(FT$8,DEBUT!$AB$4:$BP$78,3,FALSE),DEBUT!$CP$2:$DI$18,4,FALSE),\"\")","v":""},{"$f":"IFERROR(HLOOKUP(HLOOKUP(FT$8,DEBUT!$AB$4:$BP$78,3,FALSE),DEBUT!$CP$2:$DI$18,8,FALSE),\"\")","v":""},{"$f":"IFERROR(HLOOKUP(HLOOKUP(FT$8,DEBUT!$AB$4:$BP$78,3,FALSE),DEBUT!$CP$2:$DI$18,12,FALSE),\"\")","v":""},{"$f":"IFERROR(HLOOKUP(HLOOKUP(FT$8,DEBUT!$AB$4:$BP$78,3,FALSE),DEBUT!$CP$2:$DI$18,16,FALSE),\"\")","v":""},null,null,null,{"$f":"IFERROR(HLOOKUP(HLOOKUP(GA$8,DEBUT!$AB$4:$BP$78,3,FALSE),DEBUT!$CP$2:$DI$18,4,FALSE),\"\")","v":""},{"$f":"IFERROR(HLOOKUP(HLOOKUP(GA$8,DEBUT!$AB$4:$BP$78,3,FALSE),DEBUT!$CP$2:$DI$18,8,FALSE),\"\")","v":""},{"$f":"IFERROR(HLOOKUP(HLOOKUP(GA$8,DEBUT!$AB$4:$BP$78,3,FALSE),DEBUT!$CP$2:$DI$18,12,FALSE),\"\")","v":""},{"$f":"IFERROR(HLOOKUP(HLOOKUP(GA$8,DEBUT!$AB$4:$BP$78,3,FALSE),DEBUT!$CP$2:$DI$18,16,FALSE),\"\")","v":""},null,null,null,null,null,{"$f":"IFERROR(HLOOKUP(HLOOKUP(GJ$8,DEBUT!$AB$4:$BP$78,3,FALSE),DEBUT!$CP$2:$DI$18,4,FALSE),\"\")","v":""},{"$f":"IFERROR(HLOOKUP(HLOOKUP(GJ$8,DEBUT!$AB$4:$BP$78,3,FALSE),DEBUT!$CP$2:$DI$18,8,FALSE),\"\")","v":""},{"$f":"IFERROR(HLOOKUP(HLOOKUP(GJ$8,DEBUT!$AB$4:$BP$78,3,FALSE),DEBUT!$CP$2:$DI$18,12,FALSE),\"\")","v":""},{"$f":"IFERROR(HLOOKUP(HLOOKUP(GJ$8,DEBUT!$AB$4:$BP$78,3,FALSE),DEBUT!$CP$2:$DI$18,16,FALSE),\"\")","v":""},null,null,null,{"$f":"IFERROR(HLOOKUP(HLOOKUP(GQ$8,DEBUT!$AB$4:$BP$78,3,FALSE),DEBUT!$CP$2:$DI$18,4,FALSE),\"\")","v":""},{"$f":"IFERROR(HLOOKUP(HLOOKUP(GQ$8,DEBUT!$AB$4:$BP$78,3,FALSE),DEBUT!$CP$2:$DI$18,8,FALSE),\"\")","v":""},{"$f":"IFERROR(HLOOKUP(HLOOKUP(GQ$8,DEBUT!$AB$4:$BP$78,3,FALSE),DEBUT!$CP$2:$DI$18,12,FALSE),\"\")","v":""},{"$f":"IFERROR(HLOOKUP(HLOOKUP(GQ$8,DEBUT!$AB$4:$BP$78,3,FALSE),DEBUT!$CP$2:$DI$18,16,FALSE),\"\")","v":""},null,null,null,null,null,null,null,{"$f":"IFERROR(HLOOKUP(HLOOKUP(HB$8,DEBUT!$AB$4:$BP$78,3,FALSE),DEBUT!$CP$2:$DI$18,4,FALSE),\"\")","v":""},{"$f":"IFERROR(HLOOKUP(HLOOKUP(HB$8,DEBUT!$AB$4:$BP$78,3,FALSE),DEBUT!$CP$2:$DI$18,8,FALSE),\"\")","v":""},{"$f":"IFERROR(HLOOKUP(HLOOKUP(HB$8,DEBUT!$AB$4:$BP$78,3,FALSE),DEBUT!$CP$2:$DI$18,12,FALSE),\"\")","v":""},{"$f":"IFERROR(HLOOKUP(HLOOKUP(HB$8,DEBUT!$AB$4:$BP$78,3,FALSE),DEBUT!$CP$2:$DI$18,16,FALSE),\"\")","v":""},null,null,null,{"$f":"IFERROR(HLOOKUP(HLOOKUP(HI$8,DEBUT!$AB$4:$BP$78,3,FALSE),DEBUT!$CP$2:$DI$18,4,FALSE),\"\")","v":""},{"$f":"IFERROR(HLOOKUP(HLOOKUP(HI$8,DEBUT!$AB$4:$BP$78,3,FALSE),DEBUT!$CP$2:$DI$18,8,FALSE),\"\")","v":""},{"$f":"IFERROR(HLOOKUP(HLOOKUP(HI$8,DEBUT!$AB$4:$BP$78,3,FALSE),DEBUT!$CP$2:$DI$18,12,FALSE),\"\")","v":""},{"$f":"IFERROR(HLOOKUP(HLOOKUP(HI$8,DEBUT!$AB$4:$BP$78,3,FALSE),DEBUT!$CP$2:$DI$18,16,FALSE),\"\")","v":""},null,null,null,null,null,{"$f":"IFERROR(HLOOKUP(HLOOKUP(HR$8,DEBUT!$AB$4:$BP$78,3,FALSE),DEBUT!$CP$2:$DI$18,4,FALSE),\"\")","v":""},{"$f":"IFERROR(HLOOKUP(HLOOKUP(HR$8,DEBUT!$AB$4:$BP$78,3,FALSE),DEBUT!$CP$2:$DI$18,8,FALSE),\"\")","v":""},{"$f":"IFERROR(HLOOKUP(HLOOKUP(HR$8,DEBUT!$AB$4:$BP$78,3,FALSE),DEBUT!$CP$2:$DI$18,12,FALSE),\"\")","v":""},{"$f":"IFERROR(HLOOKUP(HLOOKUP(HR$8,DEBUT!$AB$4:$BP$78,3,FALSE),DEBUT!$CP$2:$DI$18,16,FALSE),\"\")","v":""},null,null,null,{"$f":"IFERROR(HLOOKUP(HLOOKUP(HY$8,DEBUT!$AB$4:$BP$78,3,FALSE),DEBUT!$CP$2:$DI$18,4,FALSE),\"\")","v":""},{"$f":"IFERROR(HLOOKUP(HLOOKUP(HY$8,DEBUT!$AB$4:$BP$78,3,FALSE),DEBUT!$CP$2:$DI$18,8,FALSE),\"\")","v":""},{"$f":"IFERROR(HLOOKUP(HLOOKUP(HY$8,DEBUT!$AB$4:$BP$78,3,FALSE),DEBUT!$CP$2:$DI$18,12,FALSE),\"\")","v":""},{"$f":"IFERROR(HLOOKUP(HLOOKUP(HY$8,DEBUT!$AB$4:$BP$78,3,FALSE),DEBUT!$CP$2:$DI$18,16,FALSE),\"\")","v":""},null,null,null,null,null,null,null,{"$f":"IFERROR(HLOOKUP(HLOOKUP(IJ$8,DEBUT!$AB$4:$BP$78,3,FALSE),DEBUT!$CP$2:$DI$18,4,FALSE),\"\")","v":""},{"$f":"IFERROR(HLOOKUP(HLOOKUP(IJ$8,DEBUT!$AB$4:$BP$78,3,FALSE),DEBUT!$CP$2:$DI$18,8,FALSE),\"\")","v":""},{"$f":"IFERROR(HLOOKUP(HLOOKUP(IJ$8,DEBUT!$AB$4:$BP$78,3,FALSE),DEBUT!$CP$2:$DI$18,12,FALSE),\"\")","v":""},{"$f":"IFERROR(HLOOKUP(HLOOKUP(IJ$8,DEBUT!$AB$4:$BP$78,3,FALSE),DEBUT!$CP$2:$DI$18,16,FALSE),\"\")","v":""},null,null,null,{"$f":"IFERROR(HLOOKUP(HLOOKUP(IQ$8,DEBUT!$AB$4:$BP$78,3,FALSE),DEBUT!$CP$2:$DI$18,4,FALSE),\"\")","v":""},{"$f":"IFERROR(HLOOKUP(HLOOKUP(IQ$8,DEBUT!$AB$4:$BP$78,3,FALSE),DEBUT!$CP$2:$DI$18,8,FALSE),\"\")","v":""},{"$f":"IFERROR(HLOOKUP(HLOOKUP(IQ$8,DEBUT!$AB$4:$BP$78,3,FALSE),DEBUT!$CP$2:$DI$18,12,FALSE),\"\")","v":""},{"$f":"IFERROR(HLOOKUP(HLOOKUP(IQ$8,DEBUT!$AB$4:$BP$78,3,FALSE),DEBUT!$CP$2:$DI$18,16,FALSE),\"\")","v":""},null,null,null,null,null,{"$f":"IFERROR(HLOOKUP(HLOOKUP(IZ$8,DEBUT!$AB$4:$BP$78,3,FALSE),DEBUT!$CP$2:$DI$18,4,FALSE),\"\")","v":""},{"$f":"IFERROR(HLOOKUP(HLOOKUP(IZ$8,DEBUT!$AB$4:$BP$78,3,FALSE),DEBUT!$CP$2:$DI$18,8,FALSE),\"\")","v":""},{"$f":"IFERROR(HLOOKUP(HLOOKUP(IZ$8,DEBUT!$AB$4:$BP$78,3,FALSE),DEBUT!$CP$2:$DI$18,12,FALSE),\"\")","v":""},{"$f":"IFERROR(HLOOKUP(HLOOKUP(IZ$8,DEBUT!$AB$4:$BP$78,3,FALSE),DEBUT!$CP$2:$DI$18,16,FALSE),\"\")","v":""},null,null,null,{"$f":"IFERROR(HLOOKUP(HLOOKUP(JG$8,DEBUT!$AB$4:$BP$78,3,FALSE),DEBUT!$CP$2:$DI$18,4,FALSE),\"\")","v":""},{"$f":"IFERROR(HLOOKUP(HLOOKUP(JG$8,DEBUT!$AB$4:$BP$78,3,FALSE),DEBUT!$CP$2:$DI$18,8,FALSE),\"\")","v":""},{"$f":"IFERROR(HLOOKUP(HLOOKUP(JG$8,DEBUT!$AB$4:$BP$78,3,FALSE),DEBUT!$CP$2:$DI$18,12,FALSE),\"\")","v":""},{"$f":"IFERROR(HLOOKUP(HLOOKUP(JG$8,DEBUT!$AB$4:$BP$78,3,FALSE),DEBUT!$CP$2:$DI$18,16,FALSE),\"\")","v":""},null,null,null,null,null,null,null,{"$f":"IFERROR(HLOOKUP(HLOOKUP(JR$8,DEBUT!$AB$4:$BP$78,3,FALSE),DEBUT!$CP$2:$DI$18,4,FALSE),\"\")","v":""},{"$f":"IFERROR(HLOOKUP(HLOOKUP(JR$8,DEBUT!$AB$4:$BP$78,3,FALSE),DEBUT!$CP$2:$DI$18,8,FALSE),\"\")","v":""},{"$f":"IFERROR(HLOOKUP(HLOOKUP(JR$8,DEBUT!$AB$4:$BP$78,3,FALSE),DEBUT!$CP$2:$DI$18,12,FALSE),\"\")","v":""},{"$f":"IFERROR(HLOOKUP(HLOOKUP(JR$8,DEBUT!$AB$4:$BP$78,3,FALSE),DEBUT!$CP$2:$DI$18,16,FALSE),\"\")","v":""},null,null,null,{"$f":"IFERROR(HLOOKUP(HLOOKUP(JY$8,DEBUT!$AB$4:$BP$78,3,FALSE),DEBUT!$CP$2:$DI$18,4,FALSE),\"\")","v":""},{"$f":"IFERROR(HLOOKUP(HLOOKUP(JY$8,DEBUT!$AB$4:$BP$78,3,FALSE),DEBUT!$CP$2:$DI$18,8,FALSE),\"\")","v":""},{"$f":"IFERROR(HLOOKUP(HLOOKUP(JY$8,DEBUT!$AB$4:$BP$78,3,FALSE),DEBUT!$CP$2:$DI$18,12,FALSE),\"\")","v":""},{"$f":"IFERROR(HLOOKUP(HLOOKUP(JY$8,DEBUT!$AB$4:$BP$78,3,FALSE),DEBUT!$CP$2:$DI$18,16,FALSE),\"\")","v":""},null,null,null,null,null,{"$f":"IFERROR(HLOOKUP(HLOOKUP(KH$8,DEBUT!$AB$4:$BP$78,3,FALSE),DEBUT!$CP$2:$DI$18,4,FALSE),\"\")","v":""},{"$f":"IFERROR(HLOOKUP(HLOOKUP(KH$8,DEBUT!$AB$4:$BP$78,3,FALSE),DEBUT!$CP$2:$DI$18,8,FALSE),\"\")","v":""},{"$f":"IFERROR(HLOOKUP(HLOOKUP(KH$8,DEBUT!$AB$4:$BP$78,3,FALSE),DEBUT!$CP$2:$DI$18,12,FALSE),\"\")","v":""},{"$f":"IFERROR(HLOOKUP(HLOOKUP(KH$8,DEBUT!$AB$4:$BP$78,3,FALSE),DEBUT!$CP$2:$DI$18,16,FALSE),\"\")","v":""},null,null,null,{"$f":"IFERROR(HLOOKUP(HLOOKUP(KO$8,DEBUT!$AB$4:$BP$78,3,FALSE),DEBUT!$CP$2:$DI$18,4,FALSE),\"\")","v":""},{"$f":"IFERROR(HLOOKUP(HLOOKUP(KO$8,DEBUT!$AB$4:$BP$78,3,FALSE),DEBUT!$CP$2:$DI$18,8,FALSE),\"\")","v":""},{"$f":"IFERROR(HLOOKUP(HLOOKUP(KO$8,DEBUT!$AB$4:$BP$78,3,FALSE),DEBUT!$CP$2:$DI$18,12,FALSE),\"\")","v":""},{"$f":"IFERROR(HLOOKUP(HLOOKUP(KO$8,DEBUT!$AB$4:$BP$78,3,FALSE),DEBUT!$CP$2:$DI$18,16,FALSE),\"\")","v":""},null,null,null,null,null,null,null,{"$f":"IFERROR(HLOOKUP(HLOOKUP(KZ$8,DEBUT!$AB$4:$BP$78,3,FALSE),DEBUT!$CP$2:$DI$18,4,FALSE),\"\")","v":""},{"$f":"IFERROR(HLOOKUP(HLOOKUP(KZ$8,DEBUT!$AB$4:$BP$78,3,FALSE),DEBUT!$CP$2:$DI$18,8,FALSE),\"\")","v":""},{"$f":"IFERROR(HLOOKUP(HLOOKUP(KZ$8,DEBUT!$AB$4:$BP$78,3,FALSE),DEBUT!$CP$2:$DI$18,12,FALSE),\"\")","v":""},{"$f":"IFERROR(HLOOKUP(HLOOKUP(KZ$8,DEBUT!$AB$4:$BP$78,3,FALSE),DEBUT!$CP$2:$DI$18,16,FALSE),\"\")","v":""},null,null,null,{"$f":"IFERROR(HLOOKUP(HLOOKUP(LG$8,DEBUT!$AB$4:$BP$78,3,FALSE),DEBUT!$CP$2:$DI$18,4,FALSE),\"\")","v":""},{"$f":"IFERROR(HLOOKUP(HLOOKUP(LG$8,DEBUT!$AB$4:$BP$78,3,FALSE),DEBUT!$CP$2:$DI$18,8,FALSE),\"\")","v":""},{"$f":"IFERROR(HLOOKUP(HLOOKUP(LG$8,DEBUT!$AB$4:$BP$78,3,FALSE),DEBUT!$CP$2:$DI$18,12,FALSE),\"\")","v":""},{"$f":"IFERROR(HLOOKUP(HLOOKUP(LG$8,DEBUT!$AB$4:$BP$78,3,FALSE),DEBUT!$CP$2:$DI$18,16,FALSE),\"\")","v":""},null,null,null,null,null,{"$f":"IFERROR(HLOOKUP(HLOOKUP(LP$8,DEBUT!$AB$4:$BP$78,3,FALSE),DEBUT!$CP$2:$DI$18,4,FALSE),\"\")","v":""},{"$f":"IFERROR(HLOOKUP(HLOOKUP(LP$8,DEBUT!$AB$4:$BP$78,3,FALSE),DEBUT!$CP$2:$DI$18,8,FALSE),\"\")","v":""},{"$f":"IFERROR(HLOOKUP(HLOOKUP(LP$8,DEBUT!$AB$4:$BP$78,3,FALSE),DEBUT!$CP$2:$DI$18,12,FALSE),\"\")","v":""},{"$f":"IFERROR(HLOOKUP(HLOOKUP(LP$8,DEBUT!$AB$4:$BP$78,3,FALSE),DEBUT!$CP$2:$DI$18,16,FALSE),\"\")","v":""},null,null,null,{"$f":"IFERROR(HLOOKUP(HLOOKUP(LW$8,DEBUT!$AB$4:$BP$78,3,FALSE),DEBUT!$CP$2:$DI$18,4,FALSE),\"\")","v":""},{"$f":"IFERROR(HLOOKUP(HLOOKUP(LW$8,DEBUT!$AB$4:$BP$78,3,FALSE),DEBUT!$CP$2:$DI$18,8,FALSE),\"\")","v":""},{"$f":"IFERROR(HLOOKUP(HLOOKUP(LW$8,DEBUT!$AB$4:$BP$78,3,FALSE),DEBUT!$CP$2:$DI$18,12,FALSE),\"\")","v":""},{"$f":"IFERROR(HLOOKUP(HLOOKUP(LW$8,DEBUT!$AB$4:$BP$78,3,FALSE),DEBUT!$CP$2:$DI$18,16,FALSE),\"\")","v":""},null,null,null,null,null,null,null,{"$f":"IFERROR(HLOOKUP(HLOOKUP(MH$8,DEBUT!$AB$4:$BP$78,3,FALSE),DEBUT!$CP$2:$DI$18,4,FALSE),\"\")","v":""},{"$f":"IFERROR(HLOOKUP(HLOOKUP(MH$8,DEBUT!$AB$4:$BP$78,3,FALSE),DEBUT!$CP$2:$DI$18,8,FALSE),\"\")","v":""},{"$f":"IFERROR(HLOOKUP(HLOOKUP(MH$8,DEBUT!$AB$4:$BP$78,3,FALSE),DEBUT!$CP$2:$DI$18,12,FALSE),\"\")","v":""},{"$f":"IFERROR(HLOOKUP(HLOOKUP(MH$8,DEBUT!$AB$4:$BP$78,3,FALSE),DEBUT!$CP$2:$DI$18,16,FALSE),\"\")","v":""},null,null,null,{"$f":"IFERROR(HLOOKUP(HLOOKUP(MO$8,DEBUT!$AB$4:$BP$78,3,FALSE),DEBUT!$CP$2:$DI$18,4,FALSE),\"\")","v":""},{"$f":"IFERROR(HLOOKUP(HLOOKUP(MO$8,DEBUT!$AB$4:$BP$78,3,FALSE),DEBUT!$CP$2:$DI$18,8,FALSE),\"\")","v":""},{"$f":"IFERROR(HLOOKUP(HLOOKUP(MO$8,DEBUT!$AB$4:$BP$78,3,FALSE),DEBUT!$CP$2:$DI$18,12,FALSE),\"\")","v":""},{"$f":"IFERROR(HLOOKUP(HLOOKUP(MO$8,DEBUT!$AB$4:$BP$78,3,FALSE),DEBUT!$CP$2:$DI$18,16,FALSE),\"\")","v":""},null,null,null,null,null,{"$f":"IFERROR(HLOOKUP(HLOOKUP(MX$8,DEBUT!$AB$4:$BP$78,3,FALSE),DEBUT!$CP$2:$DI$18,4,FALSE),\"\")","v":""},{"$f":"IFERROR(HLOOKUP(HLOOKUP(MX$8,DEBUT!$AB$4:$BP$78,3,FALSE),DEBUT!$CP$2:$DI$18,8,FALSE),\"\")","v":""},{"$f":"IFERROR(HLOOKUP(HLOOKUP(MX$8,DEBUT!$AB$4:$BP$78,3,FALSE),DEBUT!$CP$2:$DI$18,12,FALSE),\"\")","v":""},{"$f":"IFERROR(HLOOKUP(HLOOKUP(MX$8,DEBUT!$AB$4:$BP$78,3,FALSE),DEBUT!$CP$2:$DI$18,16,FALSE),\"\")","v":""},null,null,null,{"$f":"IFERROR(HLOOKUP(HLOOKUP(NE$8,DEBUT!$AB$4:$BP$78,3,FALSE),DEBUT!$CP$2:$DI$18,4,FALSE),\"\")","v":""},{"$f":"IFERROR(HLOOKUP(HLOOKUP(NE$8,DEBUT!$AB$4:$BP$78,3,FALSE),DEBUT!$CP$2:$DI$18,8,FALSE),\"\")","v":""},{"$f":"IFERROR(HLOOKUP(HLOOKUP(NE$8,DEBUT!$AB$4:$BP$78,3,FALSE),DEBUT!$CP$2:$DI$18,12,FALSE),\"\")","v":""},{"$f":"IFERROR(HLOOKUP(HLOOKUP(NE$8,DEBUT!$AB$4:$BP$78,3,FALSE),DEBUT!$CP$2:$DI$18,16,FALSE),\"\")","v":""},null,null,null,null,null,null,null,{"$f":"IFERROR(HLOOKUP(HLOOKUP(NP$8,DEBUT!$AB$4:$BP$78,3,FALSE),DEBUT!$CP$2:$DI$18,4,FALSE),\"\")","v":""},{"$f":"IFERROR(HLOOKUP(HLOOKUP(NP$8,DEBUT!$AB$4:$BP$78,3,FALSE),DEBUT!$CP$2:$DI$18,8,FALSE),\"\")","v":""},{"$f":"IFERROR(HLOOKUP(HLOOKUP(NP$8,DEBUT!$AB$4:$BP$78,3,FALSE),DEBUT!$CP$2:$DI$18,12,FALSE),\"\")","v":""},{"$f":"IFERROR(HLOOKUP(HLOOKUP(NP$8,DEBUT!$AB$4:$BP$78,3,FALSE),DEBUT!$CP$2:$DI$18,16,FALSE),\"\")","v":""},null,null,null,{"$f":"IFERROR(HLOOKUP(HLOOKUP(NW$8,DEBUT!$AB$4:$BP$78,3,FALSE),DEBUT!$CP$2:$DI$18,4,FALSE),\"\")","v":""},{"$f":"IFERROR(HLOOKUP(HLOOKUP(NW$8,DEBUT!$AB$4:$BP$78,3,FALSE),DEBUT!$CP$2:$DI$18,8,FALSE),\"\")","v":""},{"$f":"IFERROR(HLOOKUP(HLOOKUP(NW$8,DEBUT!$AB$4:$BP$78,3,FALSE),DEBUT!$CP$2:$DI$18,12,FALSE),\"\")","v":""},{"$f":"IFERROR(HLOOKUP(HLOOKUP(NW$8,DEBUT!$AB$4:$BP$78,3,FALSE),DEBUT!$CP$2:$DI$18,16,FALSE),\"\")","v":""},null,null,null,null,null,{"$f":"IFERROR(HLOOKUP(HLOOKUP(OF$8,DEBUT!$AB$4:$BP$78,3,FALSE),DEBUT!$CP$2:$DI$18,4,FALSE),\"\")","v":""},{"$f":"IFERROR(HLOOKUP(HLOOKUP(OF$8,DEBUT!$AB$4:$BP$78,3,FALSE),DEBUT!$CP$2:$DI$18,8,FALSE),\"\")","v":""},{"$f":"IFERROR(HLOOKUP(HLOOKUP(OF$8,DEBUT!$AB$4:$BP$78,3,FALSE),DEBUT!$CP$2:$DI$18,12,FALSE),\"\")","v":""},{"$f":"IFERROR(HLOOKUP(HLOOKUP(OF$8,DEBUT!$AB$4:$BP$78,3,FALSE),DEBUT!$CP$2:$DI$18,16,FALSE),\"\")","v":""},null,null,null,{"$f":"IFERROR(HLOOKUP(HLOOKUP(OM$8,DEBUT!$AB$4:$BP$78,3,FALSE),DEBUT!$CP$2:$DI$18,4,FALSE),\"\")","v":""},{"$f":"IFERROR(HLOOKUP(HLOOKUP(OM$8,DEBUT!$AB$4:$BP$78,3,FALSE),DEBUT!$CP$2:$DI$18,8,FALSE),\"\")","v":""},{"$f":"IFERROR(HLOOKUP(HLOOKUP(OM$8,DEBUT!$AB$4:$BP$78,3,FALSE),DEBUT!$CP$2:$DI$18,12,FALSE),\"\")","v":""},{"$f":"IFERROR(HLOOKUP(HLOOKUP(OM$8,DEBUT!$AB$4:$BP$78,3,FALSE),DEBUT!$CP$2:$DI$18,16,FALSE),\"\")","v":""},null,null,null,null,null,null,null,{"$f":"IFERROR(HLOOKUP(HLOOKUP(OX$8,DEBUT!$AB$4:$BP$78,3,FALSE),DEBUT!$CP$2:$DI$18,4,FALSE),\"\")","v":""},{"$f":"IFERROR(HLOOKUP(HLOOKUP(OX$8,DEBUT!$AB$4:$BP$78,3,FALSE),DEBUT!$CP$2:$DI$18,8,FALSE),\"\")","v":""},{"$f":"IFERROR(HLOOKUP(HLOOKUP(OX$8,DEBUT!$AB$4:$BP$78,3,FALSE),DEBUT!$CP$2:$DI$18,12,FALSE),\"\")","v":""},{"$f":"IFERROR(HLOOKUP(HLOOKUP(OX$8,DEBUT!$AB$4:$BP$78,3,FALSE),DEBUT!$CP$2:$DI$18,16,FALSE),\"\")","v":""},null,null,null,{"$f":"IFERROR(HLOOKUP(HLOOKUP(PE$8,DEBUT!$AB$4:$BP$78,3,FALSE),DEBUT!$CP$2:$DI$18,4,FALSE),\"\")","v":""},{"$f":"IFERROR(HLOOKUP(HLOOKUP(PE$8,DEBUT!$AB$4:$BP$78,3,FALSE),DEBUT!$CP$2:$DI$18,8,FALSE),\"\")","v":""},{"$f":"IFERROR(HLOOKUP(HLOOKUP(PE$8,DEBUT!$AB$4:$BP$78,3,FALSE),DEBUT!$CP$2:$DI$18,12,FALSE),\"\")","v":""},{"$f":"IFERROR(HLOOKUP(HLOOKUP(PE$8,DEBUT!$AB$4:$BP$78,3,FALSE),DEBUT!$CP$2:$DI$18,16,FALSE),\"\")","v":""},null,null,null,null,null,{"$f":"IFERROR(HLOOKUP(HLOOKUP(PN$8,DEBUT!$AB$4:$BP$78,3,FALSE),DEBUT!$CP$2:$DI$18,4,FALSE),\"\")","v":""},{"$f":"IFERROR(HLOOKUP(HLOOKUP(PN$8,DEBUT!$AB$4:$BP$78,3,FALSE),DEBUT!$CP$2:$DI$18,8,FALSE),\"\")","v":""},{"$f":"IFERROR(HLOOKUP(HLOOKUP(PN$8,DEBUT!$AB$4:$BP$78,3,FALSE),DEBUT!$CP$2:$DI$18,12,FALSE),\"\")","v":""},{"$f":"IFERROR(HLOOKUP(HLOOKUP(PN$8,DEBUT!$AB$4:$BP$78,3,FALSE),DEBUT!$CP$2:$DI$18,16,FALSE),\"\")","v":""},null,null,null,{"$f":"IFERROR(HLOOKUP(HLOOKUP(PU$8,DEBUT!$AB$4:$BP$78,3,FALSE),DEBUT!$CP$2:$DI$18,4,FALSE),\"\")","v":""},{"$f":"IFERROR(HLOOKUP(HLOOKUP(PU$8,DEBUT!$AB$4:$BP$78,3,FALSE),DEBUT!$CP$2:$DI$18,8,FALSE),\"\")","v":""},{"$f":"IFERROR(HLOOKUP(HLOOKUP(PU$8,DEBUT!$AB$4:$BP$78,3,FALSE),DEBUT!$CP$2:$DI$18,12,FALSE),\"\")","v":""},{"$f":"IFERROR(HLOOKUP(HLOOKUP(PU$8,DEBUT!$AB$4:$BP$78,3,FALSE),DEBUT!$CP$2:$DI$18,16,FALSE),\"\")","v":""},null,null,null,null,null,null,null,{"$f":"IFERROR(HLOOKUP(HLOOKUP(QF$8,DEBUT!$AB$4:$BP$78,3,FALSE),DEBUT!$CP$2:$DI$18,4,FALSE),\"\")","v":""},{"$f":"IFERROR(HLOOKUP(HLOOKUP(QF$8,DEBUT!$AB$4:$BP$78,3,FALSE),DEBUT!$CP$2:$DI$18,8,FALSE),\"\")","v":""},{"$f":"IFERROR(HLOOKUP(HLOOKUP(QF$8,DEBUT!$AB$4:$BP$78,3,FALSE),DEBUT!$CP$2:$DI$18,12,FALSE),\"\")","v":""},{"$f":"IFERROR(HLOOKUP(HLOOKUP(QF$8,DEBUT!$AB$4:$BP$78,3,FALSE),DEBUT!$CP$2:$DI$18,16,FALSE),\"\")","v":""},null,null,null,{"$f":"IFERROR(HLOOKUP(HLOOKUP(QM$8,DEBUT!$AB$4:$BP$78,3,FALSE),DEBUT!$CP$2:$DI$18,4,FALSE),\"\")","v":""},{"$f":"IFERROR(HLOOKUP(HLOOKUP(QM$8,DEBUT!$AB$4:$BP$78,3,FALSE),DEBUT!$CP$2:$DI$18,8,FALSE),\"\")","v":""},{"$f":"IFERROR(HLOOKUP(HLOOKUP(QM$8,DEBUT!$AB$4:$BP$78,3,FALSE),DEBUT!$CP$2:$DI$18,12,FALSE),\"\")","v":""},{"$f":"IFERROR(HLOOKUP(HLOOKUP(QM$8,DEBUT!$AB$4:$BP$78,3,FALSE),DEBUT!$CP$2:$DI$18,16,FALSE),\"\")","v":""},null,null,null,null,null,{"$f":"IFERROR(HLOOKUP(HLOOKUP(QV$8,DEBUT!$AB$4:$BP$78,3,FALSE),DEBUT!$CP$2:$DI$18,4,FALSE),\"\")","v":""},{"$f":"IFERROR(HLOOKUP(HLOOKUP(QV$8,DEBUT!$AB$4:$BP$78,3,FALSE),DEBUT!$CP$2:$DI$18,8,FALSE),\"\")","v":""},{"$f":"IFERROR(HLOOKUP(HLOOKUP(QV$8,DEBUT!$AB$4:$BP$78,3,FALSE),DEBUT!$CP$2:$DI$18,12,FALSE),\"\")","v":""},{"$f":"IFERROR(HLOOKUP(HLOOKUP(QV$8,DEBUT!$AB$4:$BP$78,3,FALSE),DEBUT!$CP$2:$DI$18,16,FALSE),\"\")","v":""},null,null,null,{"$f":"IFERROR(HLOOKUP(HLOOKUP(RC$8,DEBUT!$AB$4:$BP$78,3,FALSE),DEBUT!$CP$2:$DI$18,4,FALSE),\"\")","v":""},{"$f":"IFERROR(HLOOKUP(HLOOKUP(RC$8,DEBUT!$AB$4:$BP$78,3,FALSE),DEBUT!$CP$2:$DI$18,8,FALSE),\"\")","v":""},{"$f":"IFERROR(HLOOKUP(HLOOKUP(RC$8,DEBUT!$AB$4:$BP$78,3,FALSE),DEBUT!$CP$2:$DI$18,12,FALSE),\"\")","v":""},{"$f":"IFERROR(HLOOKUP(HLOOKUP(RC$8,DEBUT!$AB$4:$BP$78,3,FALSE),DEBUT!$CP$2:$DI$18,16,FALSE),\"\")","v":""},null,null,null,null,null,null,null,{"$f":"IFERROR(HLOOKUP(HLOOKUP(RN$8,DEBUT!$AB$4:$BP$78,3,FALSE),DEBUT!$CP$2:$DI$18,4,FALSE),\"\")","v":""},{"$f":"IFERROR(HLOOKUP(HLOOKUP(RN$8,DEBUT!$AB$4:$BP$78,3,FALSE),DEBUT!$CP$2:$DI$18,8,FALSE),\"\")","v":""},{"$f":"IFERROR(HLOOKUP(HLOOKUP(RN$8,DEBUT!$AB$4:$BP$78,3,FALSE),DEBUT!$CP$2:$DI$18,12,FALSE),\"\")","v":""},{"$f":"IFERROR(HLOOKUP(HLOOKUP(RN$8,DEBUT!$AB$4:$BP$78,3,FALSE),DEBUT!$CP$2:$DI$18,16,FALSE),\"\")","v":""},null,null,null,{"$f":"IFERROR(HLOOKUP(HLOOKUP(RU$8,DEBUT!$AB$4:$BP$78,3,FALSE),DEBUT!$CP$2:$DI$18,4,FALSE),\"\")","v":""},{"$f":"IFERROR(HLOOKUP(HLOOKUP(RU$8,DEBUT!$AB$4:$BP$78,3,FALSE),DEBUT!$CP$2:$DI$18,8,FALSE),\"\")","v":""},{"$f":"IFERROR(HLOOKUP(HLOOKUP(RU$8,DEBUT!$AB$4:$BP$78,3,FALSE),DEBUT!$CP$2:$DI$18,12,FALSE),\"\")","v":""},{"$f":"IFERROR(HLOOKUP(HLOOKUP(RU$8,DEBUT!$AB$4:$BP$78,3,FALSE),DEBUT!$CP$2:$DI$18,16,FALSE),\"\")","v":""},null,null,null,null,null,{"$f":"IFERROR(HLOOKUP(HLOOKUP(SD$8,DEBUT!$AB$4:$BP$78,3,FALSE),DEBUT!$CP$2:$DI$18,4,FALSE),\"\")","v":""},{"$f":"IFERROR(HLOOKUP(HLOOKUP(SD$8,DEBUT!$AB$4:$BP$78,3,FALSE),DEBUT!$CP$2:$DI$18,8,FALSE),\"\")","v":""},{"$f":"IFERROR(HLOOKUP(HLOOKUP(SD$8,DEBUT!$AB$4:$BP$78,3,FALSE),DEBUT!$CP$2:$DI$18,12,FALSE),\"\")","v":""},{"$f":"IFERROR(HLOOKUP(HLOOKUP(SD$8,DEBUT!$AB$4:$BP$78,3,FALSE),DEBUT!$CP$2:$DI$18,16,FALSE),\"\")","v":""},null,null,null,{"$f":"IFERROR(HLOOKUP(HLOOKUP(SK$8,DEBUT!$AB$4:$BP$78,3,FALSE),DEBUT!$CP$2:$DI$18,4,FALSE),\"\")","v":""},{"$f":"IFERROR(HLOOKUP(HLOOKUP(SK$8,DEBUT!$AB$4:$BP$78,3,FALSE),DEBUT!$CP$2:$DI$18,8,FALSE),\"\")","v":""},{"$f":"IFERROR(HLOOKUP(HLOOKUP(SK$8,DEBUT!$AB$4:$BP$78,3,FALSE),DEBUT!$CP$2:$DI$18,12,FALSE),\"\")","v":""},{"$f":"IFERROR(HLOOKUP(HLOOKUP(SK$8,DEBUT!$AB$4:$BP$78,3,FALSE),DEBUT!$CP$2:$DI$18,16,FALSE),\"\")","v":""},null,null,null,null,null,null,null,{"$f":"IFERROR(HLOOKUP(HLOOKUP(SV$8,DEBUT!$AB$4:$BP$78,3,FALSE),DEBUT!$CP$2:$DI$18,4,FALSE),\"\")","v":""},{"$f":"IFERROR(HLOOKUP(HLOOKUP(SV$8,DEBUT!$AB$4:$BP$78,3,FALSE),DEBUT!$CP$2:$DI$18,8,FALSE),\"\")","v":""},{"$f":"IFERROR(HLOOKUP(HLOOKUP(SV$8,DEBUT!$AB$4:$BP$78,3,FALSE),DEBUT!$CP$2:$DI$18,12,FALSE),\"\")","v":""},{"$f":"IFERROR(HLOOKUP(HLOOKUP(SV$8,DEBUT!$AB$4:$BP$78,3,FALSE),DEBUT!$CP$2:$DI$18,16,FALSE),\"\")","v":""},null,null,null,{"$f":"IFERROR(HLOOKUP(HLOOKUP(TC$8,DEBUT!$AB$4:$BP$78,3,FALSE),DEBUT!$CP$2:$DI$18,4,FALSE),\"\")","v":""},{"$f":"IFERROR(HLOOKUP(HLOOKUP(TC$8,DEBUT!$AB$4:$BP$78,3,FALSE),DEBUT!$CP$2:$DI$18,8,FALSE),\"\")","v":""},{"$f":"IFERROR(HLOOKUP(HLOOKUP(TC$8,DEBUT!$AB$4:$BP$78,3,FALSE),DEBUT!$CP$2:$DI$18,12,FALSE),\"\")","v":""},{"$f":"IFERROR(HLOOKUP(HLOOKUP(TC$8,DEBUT!$AB$4:$BP$78,3,FALSE),DEBUT!$CP$2:$DI$18,16,FALSE),\"\")","v":""},null,null,null,null,null,{"$f":"IFERROR(HLOOKUP(HLOOKUP(TL$8,DEBUT!$AB$4:$BP$78,3,FALSE),DEBUT!$CP$2:$DI$18,4,FALSE),\"\")","v":""},{"$f":"IFERROR(HLOOKUP(HLOOKUP(TL$8,DEBUT!$AB$4:$BP$78,3,FALSE),DEBUT!$CP$2:$DI$18,8,FALSE),\"\")","v":""},{"$f":"IFERROR(HLOOKUP(HLOOKUP(TL$8,DEBUT!$AB$4:$BP$78,3,FALSE),DEBUT!$CP$2:$DI$18,12,FALSE),\"\")","v":""},{"$f":"IFERROR(HLOOKUP(HLOOKUP(TL$8,DEBUT!$AB$4:$BP$78,3,FALSE),DEBUT!$CP$2:$DI$18,16,FALSE),\"\")","v":""},null,null,null,{"$f":"IFERROR(HLOOKUP(HLOOKUP(TS$8,DEBUT!$AB$4:$BP$78,3,FALSE),DEBUT!$CP$2:$DI$18,4,FALSE),\"\")","v":""},{"$f":"IFERROR(HLOOKUP(HLOOKUP(TS$8,DEBUT!$AB$4:$BP$78,3,FALSE),DEBUT!$CP$2:$DI$18,8,FALSE),\"\")","v":""},{"$f":"IFERROR(HLOOKUP(HLOOKUP(TS$8,DEBUT!$AB$4:$BP$78,3,FALSE),DEBUT!$CP$2:$DI$18,12,FALSE),\"\")","v":""},{"$f":"IFERROR(HLOOKUP(HLOOKUP(TS$8,DEBUT!$AB$4:$BP$78,3,FALSE),DEBUT!$CP$2:$DI$18,16,FALSE),\"\")","v":""},null,null,null,null,null,null,null,{"$f":"IFERROR(HLOOKUP(HLOOKUP(UD$8,DEBUT!$AB$4:$BP$78,3,FALSE),DEBUT!$CP$2:$DI$18,4,FALSE),\"\")","v":""},{"$f":"IFERROR(HLOOKUP(HLOOKUP(UD$8,DEBUT!$AB$4:$BP$78,3,FALSE),DEBUT!$CP$2:$DI$18,8,FALSE),\"\")","v":""},{"$f":"IFERROR(HLOOKUP(HLOOKUP(UD$8,DEBUT!$AB$4:$BP$78,3,FALSE),DEBUT!$CP$2:$DI$18,12,FALSE),\"\")","v":""},{"$f":"IFERROR(HLOOKUP(HLOOKUP(UD$8,DEBUT!$AB$4:$BP$78,3,FALSE),DEBUT!$CP$2:$DI$18,16,FALSE),\"\")","v":""},null,null,null,{"$f":"IFERROR(HLOOKUP(HLOOKUP(UK$8,DEBUT!$AB$4:$BP$78,3,FALSE),DEBUT!$CP$2:$DI$18,4,FALSE),\"\")","v":""},{"$f":"IFERROR(HLOOKUP(HLOOKUP(UK$8,DEBUT!$AB$4:$BP$78,3,FALSE),DEBUT!$CP$2:$DI$18,8,FALSE),\"\")","v":""},{"$f":"IFERROR(HLOOKUP(HLOOKUP(UK$8,DEBUT!$AB$4:$BP$78,3,FALSE),DEBUT!$CP$2:$DI$18,12,FALSE),\"\")","v":""},{"$f":"IFERROR(HLOOKUP(HLOOKUP(UK$8,DEBUT!$AB$4:$BP$78,3,FALSE),DEBUT!$CP$2:$DI$18,16,FALSE),\"\")","v":""},null,null,null,null,null,{"$f":"IFERROR(HLOOKUP(HLOOKUP(UT$8,DEBUT!$AB$4:$BP$78,3,FALSE),DEBUT!$CP$2:$DI$18,4,FALSE),\"\")","v":""},{"$f":"IFERROR(HLOOKUP(HLOOKUP(UT$8,DEBUT!$AB$4:$BP$78,3,FALSE),DEBUT!$CP$2:$DI$18,8,FALSE),\"\")","v":""},{"$f":"IFERROR(HLOOKUP(HLOOKUP(UT$8,DEBUT!$AB$4:$BP$78,3,FALSE),DEBUT!$CP$2:$DI$18,12,FALSE),\"\")","v":""},{"$f":"IFERROR(HLOOKUP(HLOOKUP(UT$8,DEBUT!$AB$4:$BP$78,3,FALSE),DEBUT!$CP$2:$DI$18,16,FALSE),\"\")","v":""},null,null,null,{"$f":"IFERROR(HLOOKUP(HLOOKUP(VA$8,DEBUT!$AB$4:$BP$78,3,FALSE),DEBUT!$CP$2:$DI$18,4,FALSE),\"\")","v":""},{"$f":"IFERROR(HLOOKUP(HLOOKUP(VA$8,DEBUT!$AB$4:$BP$78,3,FALSE),DEBUT!$CP$2:$DI$18,8,FALSE),\"\")","v":""},{"$f":"IFERROR(HLOOKUP(HLOOKUP(VA$8,DEBUT!$AB$4:$BP$78,3,FALSE),DEBUT!$CP$2:$DI$18,12,FALSE),\"\")","v":""},{"$f":"IFERROR(HLOOKUP(HLOOKUP(VA$8,DEBUT!$AB$4:$BP$78,3,FALSE),DEBUT!$CP$2:$DI$18,16,FALSE),\"\")","v":""},null,null,null,null,null,null,null,{"$f":"IFERROR(HLOOKUP(HLOOKUP(VL$8,DEBUT!$AB$4:$BP$78,3,FALSE),DEBUT!$CP$2:$DI$18,4,FALSE),\"\")","v":""},{"$f":"IFERROR(HLOOKUP(HLOOKUP(VL$8,DEBUT!$AB$4:$BP$78,3,FALSE),DEBUT!$CP$2:$DI$18,8,FALSE),\"\")","v":""},{"$f":"IFERROR(HLOOKUP(HLOOKUP(VL$8,DEBUT!$AB$4:$BP$78,3,FALSE),DEBUT!$CP$2:$DI$18,12,FALSE),\"\")","v":""},{"$f":"IFERROR(HLOOKUP(HLOOKUP(VL$8,DEBUT!$AB$4:$BP$78,3,FALSE),DEBUT!$CP$2:$DI$18,16,FALSE),\"\")","v":""},null,null,null,{"$f":"IFERROR(HLOOKUP(HLOOKUP(VS$8,DEBUT!$AB$4:$BP$78,3,FALSE),DEBUT!$CP$2:$DI$18,4,FALSE),\"\")","v":""},{"$f":"IFERROR(HLOOKUP(HLOOKUP(VS$8,DEBUT!$AB$4:$BP$78,3,FALSE),DEBUT!$CP$2:$DI$18,8,FALSE),\"\")","v":""},{"$f":"IFERROR(HLOOKUP(HLOOKUP(VS$8,DEBUT!$AB$4:$BP$78,3,FALSE),DEBUT!$CP$2:$DI$18,12,FALSE),\"\")","v":""},{"$f":"IFERROR(HLOOKUP(HLOOKUP(VS$8,DEBUT!$AB$4:$BP$78,3,FALSE),DEBUT!$CP$2:$DI$18,16,FALSE),\"\")","v":""},null,null,null,null,null,{"$f":"IFERROR(HLOOKUP(HLOOKUP(WB$8,DEBUT!$AB$4:$BP$78,3,FALSE),DEBUT!$CP$2:$DI$18,4,FALSE),\"\")","v":""},{"$f":"IFERROR(HLOOKUP(HLOOKUP(WB$8,DEBUT!$AB$4:$BP$78,3,FALSE),DEBUT!$CP$2:$DI$18,8,FALSE),\"\")","v":""},{"$f":"IFERROR(HLOOKUP(HLOOKUP(WB$8,DEBUT!$AB$4:$BP$78,3,FALSE),DEBUT!$CP$2:$DI$18,12,FALSE),\"\")","v":""},{"$f":"IFERROR(HLOOKUP(HLOOKUP(WB$8,DEBUT!$AB$4:$BP$78,3,FALSE),DEBUT!$CP$2:$DI$18,16,FALSE),\"\")","v":""},null,null,null,{"$f":"IFERROR(HLOOKUP(HLOOKUP(WI$8,DEBUT!$AB$4:$BP$78,3,FALSE),DEBUT!$CP$2:$DI$18,4,FALSE),\"\")","v":""},{"$f":"IFERROR(HLOOKUP(HLOOKUP(WI$8,DEBUT!$AB$4:$BP$78,3,FALSE),DEBUT!$CP$2:$DI$18,8,FALSE),\"\")","v":""},{"$f":"IFERROR(HLOOKUP(HLOOKUP(WI$8,DEBUT!$AB$4:$BP$78,3,FALSE),DEBUT!$CP$2:$DI$18,12,FALSE),\"\")","v":""},{"$f":"IFERROR(HLOOKUP(HLOOKUP(WI$8,DEBUT!$AB$4:$BP$78,3,FALSE),DEBUT!$CP$2:$DI$18,16,FALSE),\"\")","v":""},null,null,null,null,null,null,null,{"$f":"IFERROR(HLOOKUP(HLOOKUP(WT$8,DEBUT!$AB$4:$BP$78,3,FALSE),DEBUT!$CP$2:$DI$18,4,FALSE),\"\")","v":""},{"$f":"IFERROR(HLOOKUP(HLOOKUP(WT$8,DEBUT!$AB$4:$BP$78,3,FALSE),DEBUT!$CP$2:$DI$18,8,FALSE),\"\")","v":""},{"$f":"IFERROR(HLOOKUP(HLOOKUP(WT$8,DEBUT!$AB$4:$BP$78,3,FALSE),DEBUT!$CP$2:$DI$18,12,FALSE),\"\")","v":""},{"$f":"IFERROR(HLOOKUP(HLOOKUP(WT$8,DEBUT!$AB$4:$BP$78,3,FALSE),DEBUT!$CP$2:$DI$18,16,FALSE),\"\")","v":""},null,null,null,{"$f":"IFERROR(HLOOKUP(HLOOKUP(XA$8,DEBUT!$AB$4:$BP$78,3,FALSE),DEBUT!$CP$2:$DI$18,4,FALSE),\"\")","v":""},{"$f":"IFERROR(HLOOKUP(HLOOKUP(XA$8,DEBUT!$AB$4:$BP$78,3,FALSE),DEBUT!$CP$2:$DI$18,8,FALSE),\"\")","v":""},{"$f":"IFERROR(HLOOKUP(HLOOKUP(XA$8,DEBUT!$AB$4:$BP$78,3,FALSE),DEBUT!$CP$2:$DI$18,12,FALSE),\"\")","v":""},{"$f":"IFERROR(HLOOKUP(HLOOKUP(XA$8,DEBUT!$AB$4:$BP$78,3,FALSE),DEBUT!$CP$2:$DI$18,16,FALSE),\"\")","v":""},null,null,null,null,null,{"$f":"IFERROR(HLOOKUP(HLOOKUP(XJ$8,DEBUT!$AB$4:$BP$78,3,FALSE),DEBUT!$CP$2:$DI$18,4,FALSE),\"\")","v":""},{"$f":"IFERROR(HLOOKUP(HLOOKUP(XJ$8,DEBUT!$AB$4:$BP$78,3,FALSE),DEBUT!$CP$2:$DI$18,8,FALSE),\"\")","v":""},{"$f":"IFERROR(HLOOKUP(HLOOKUP(XJ$8,DEBUT!$AB$4:$BP$78,3,FALSE),DEBUT!$CP$2:$DI$18,12,FALSE),\"\")","v":""},{"$f":"IFERROR(HLOOKUP(HLOOKUP(XJ$8,DEBUT!$AB$4:$BP$78,3,FALSE),DEBUT!$CP$2:$DI$18,16,FALSE),\"\")","v":""},null,null,null,{"$f":"IFERROR(HLOOKUP(HLOOKUP(XQ$8,DEBUT!$AB$4:$BP$78,3,FALSE),DEBUT!$CP$2:$DI$18,4,FALSE),\"\")","v":""},{"$f":"IFERROR(HLOOKUP(HLOOKUP(XQ$8,DEBUT!$AB$4:$BP$78,3,FALSE),DEBUT!$CP$2:$DI$18,8,FALSE),\"\")","v":""},{"$f":"IFERROR(HLOOKUP(HLOOKUP(XQ$8,DEBUT!$AB$4:$BP$78,3,FALSE),DEBUT!$CP$2:$DI$18,12,FALSE),\"\")","v":""},{"$f":"IFERROR(HLOOKUP(HLOOKUP(XQ$8,DEBUT!$AB$4:$BP$78,3,FALSE),DEBUT!$CP$2:$DI$18,16,FALSE),\"\")","v":""},null,null,null,null,null,null,null,{"$f":"IFERROR(HLOOKUP(HLOOKUP(YB$8,DEBUT!$AB$4:$BP$78,3,FALSE),DEBUT!$CP$2:$DI$18,4,FALSE),\"\")","v":""},{"$f":"IFERROR(HLOOKUP(HLOOKUP(YB$8,DEBUT!$AB$4:$BP$78,3,FALSE),DEBUT!$CP$2:$DI$18,8,FALSE),\"\")","v":""},{"$f":"IFERROR(HLOOKUP(HLOOKUP(YB$8,DEBUT!$AB$4:$BP$78,3,FALSE),DEBUT!$CP$2:$DI$18,12,FALSE),\"\")","v":""},{"$f":"IFERROR(HLOOKUP(HLOOKUP(YB$8,DEBUT!$AB$4:$BP$78,3,FALSE),DEBUT!$CP$2:$DI$18,16,FALSE),\"\")","v":""},null,null,null,{"$f":"IFERROR(HLOOKUP(HLOOKUP(YI$8,DEBUT!$AB$4:$BP$78,3,FALSE),DEBUT!$CP$2:$DI$18,4,FALSE),\"\")","v":""},{"$f":"IFERROR(HLOOKUP(HLOOKUP(YI$8,DEBUT!$AB$4:$BP$78,3,FALSE),DEBUT!$CP$2:$DI$18,8,FALSE),\"\")","v":""},{"$f":"IFERROR(HLOOKUP(HLOOKUP(YI$8,DEBUT!$AB$4:$BP$78,3,FALSE),DEBUT!$CP$2:$DI$18,12,FALSE),\"\")","v":""},{"$f":"IFERROR(HLOOKUP(HLOOKUP(YI$8,DEBUT!$AB$4:$BP$78,3,FALSE),DEBUT!$CP$2:$DI$18,16,FALSE),\"\")","v":""},null,null,null,null,null,{"$f":"IFERROR(HLOOKUP(HLOOKUP(YR$8,DEBUT!$AB$4:$BP$78,3,FALSE),DEBUT!$CP$2:$DI$18,4,FALSE),\"\")","v":""},{"$f":"IFERROR(HLOOKUP(HLOOKUP(YR$8,DEBUT!$AB$4:$BP$78,3,FALSE),DEBUT!$CP$2:$DI$18,8,FALSE),\"\")","v":""},{"$f":"IFERROR(HLOOKUP(HLOOKUP(YR$8,DEBUT!$AB$4:$BP$78,3,FALSE),DEBUT!$CP$2:$DI$18,12,FALSE),\"\")","v":""},{"$f":"IFERROR(HLOOKUP(HLOOKUP(YR$8,DEBUT!$AB$4:$BP$78,3,FALSE),DEBUT!$CP$2:$DI$18,16,FALSE),\"\")","v":""},null,null,null,{"$f":"IFERROR(HLOOKUP(HLOOKUP(YY$8,DEBUT!$AB$4:$BP$78,3,FALSE),DEBUT!$CP$2:$DI$18,4,FALSE),\"\")","v":""},{"$f":"IFERROR(HLOOKUP(HLOOKUP(YY$8,DEBUT!$AB$4:$BP$78,3,FALSE),DEBUT!$CP$2:$DI$18,8,FALSE),\"\")","v":""},{"$f":"IFERROR(HLOOKUP(HLOOKUP(YY$8,DEBUT!$AB$4:$BP$78,3,FALSE),DEBUT!$CP$2:$DI$18,12,FALSE),\"\")","v":""},{"$f":"IFERROR(HLOOKUP(HLOOKUP(YY$8,DEBUT!$AB$4:$BP$78,3,FALSE),DEBUT!$CP$2:$DI$18,16,FALSE),\"\")","v":""},null,null,null,null,null,null,null,{"$f":"IFERROR(HLOOKUP(HLOOKUP(ZJ$8,DEBUT!$AB$4:$BP$78,3,FALSE),DEBUT!$CP$2:$DI$18,4,FALSE),\"\")","v":""},{"$f":"IFERROR(HLOOKUP(HLOOKUP(ZJ$8,DEBUT!$AB$4:$BP$78,3,FALSE),DEBUT!$CP$2:$DI$18,8,FALSE),\"\")","v":""},{"$f":"IFERROR(HLOOKUP(HLOOKUP(ZJ$8,DEBUT!$AB$4:$BP$78,3,FALSE),DEBUT!$CP$2:$DI$18,12,FALSE),\"\")","v":""},{"$f":"IFERROR(HLOOKUP(HLOOKUP(ZJ$8,DEBUT!$AB$4:$BP$78,3,FALSE),DEBUT!$CP$2:$DI$18,16,FALSE),\"\")","v":""},null,null,null,{"$f":"IFERROR(HLOOKUP(HLOOKUP(ZQ$8,DEBUT!$AB$4:$BP$78,3,FALSE),DEBUT!$CP$2:$DI$18,4,FALSE),\"\")","v":""},{"$f":"IFERROR(HLOOKUP(HLOOKUP(ZQ$8,DEBUT!$AB$4:$BP$78,3,FALSE),DEBUT!$CP$2:$DI$18,8,FALSE),\"\")","v":""},{"$f":"IFERROR(HLOOKUP(HLOOKUP(ZQ$8,DEBUT!$AB$4:$BP$78,3,FALSE),DEBUT!$CP$2:$DI$18,12,FALSE),\"\")","v":""},{"$f":"IFERROR(HLOOKUP(HLOOKUP(ZQ$8,DEBUT!$AB$4:$BP$78,3,FALSE),DEBUT!$CP$2:$DI$18,16,FALSE),\"\")","v":""},null,null,null,null,null,{"$f":"IFERROR(HLOOKUP(HLOOKUP(ZZ$8,DEBUT!$AB$4:$BP$78,3,FALSE),DEBUT!$CP$2:$DI$18,4,FALSE),\"\")","v":""},{"$f":"IFERROR(HLOOKUP(HLOOKUP(ZZ$8,DEBUT!$AB$4:$BP$78,3,FALSE),DEBUT!$CP$2:$DI$18,8,FALSE),\"\")","v":""},{"$f":"IFERROR(HLOOKUP(HLOOKUP(ZZ$8,DEBUT!$AB$4:$BP$78,3,FALSE),DEBUT!$CP$2:$DI$18,12,FALSE),\"\")","v":""},{"$f":"IFERROR(HLOOKUP(HLOOKUP(ZZ$8,DEBUT!$AB$4:$BP$78,3,FALSE),DEBUT!$CP$2:$DI$18,16,FALSE),\"\")","v":""},null,null,null,{"$f":"IFERROR(HLOOKUP(HLOOKUP(AAG$8,DEBUT!$AB$4:$BP$78,3,FALSE),DEBUT!$CP$2:$DI$18,4,FALSE),\"\")","v":""},{"$f":"IFERROR(HLOOKUP(HLOOKUP(AAG$8,DEBUT!$AB$4:$BP$78,3,FALSE),DEBUT!$CP$2:$DI$18,8,FALSE),\"\")","v":""},{"$f":"IFERROR(HLOOKUP(HLOOKUP(AAG$8,DEBUT!$AB$4:$BP$78,3,FALSE),DEBUT!$CP$2:$DI$18,12,FALSE),\"\")","v":""},{"$f":"IFERROR(HLOOKUP(HLOOKUP(AAG$8,DEBUT!$AB$4:$BP$78,3,FALSE),DEBUT!$CP$2:$DI$18,16,FALSE),\"\")","v":""},null,null,null,null,null,null,null,{"$f":"IFERROR(HLOOKUP(HLOOKUP(AAR$8,DEBUT!$AB$4:$BP$78,3,FALSE),DEBUT!$CP$2:$DI$18,4,FALSE),\"\")","v":""},{"$f":"IFERROR(HLOOKUP(HLOOKUP(AAR$8,DEBUT!$AB$4:$BP$78,3,FALSE),DEBUT!$CP$2:$DI$18,8,FALSE),\"\")","v":""},{"$f":"IFERROR(HLOOKUP(HLOOKUP(AAR$8,DEBUT!$AB$4:$BP$78,3,FALSE),DEBUT!$CP$2:$DI$18,12,FALSE),\"\")","v":""},{"$f":"IFERROR(HLOOKUP(HLOOKUP(AAR$8,DEBUT!$AB$4:$BP$78,3,FALSE),DEBUT!$CP$2:$DI$18,16,FALSE),\"\")","v":""},null,null,null,{"$f":"IFERROR(HLOOKUP(HLOOKUP(AAY$8,DEBUT!$AB$4:$BP$78,3,FALSE),DEBUT!$CP$2:$DI$18,4,FALSE),\"\")","v":""},{"$f":"IFERROR(HLOOKUP(HLOOKUP(AAY$8,DEBUT!$AB$4:$BP$78,3,FALSE),DEBUT!$CP$2:$DI$18,8,FALSE),\"\")","v":""},{"$f":"IFERROR(HLOOKUP(HLOOKUP(AAY$8,DEBUT!$AB$4:$BP$78,3,FALSE),DEBUT!$CP$2:$DI$18,12,FALSE),\"\")","v":""},{"$f":"IFERROR(HLOOKUP(HLOOKUP(AAY$8,DEBUT!$AB$4:$BP$78,3,FALSE),DEBUT!$CP$2:$DI$18,16,FALSE),\"\")","v":""},null,null,null,null,null,{"$f":"IFERROR(HLOOKUP(HLOOKUP(ABH$8,DEBUT!$AB$4:$BP$78,3,FALSE),DEBUT!$CP$2:$DI$18,4,FALSE),\"\")","v":""},{"$f":"IFERROR(HLOOKUP(HLOOKUP(ABH$8,DEBUT!$AB$4:$BP$78,3,FALSE),DEBUT!$CP$2:$DI$18,8,FALSE),\"\")","v":""},{"$f":"IFERROR(HLOOKUP(HLOOKUP(ABH$8,DEBUT!$AB$4:$BP$78,3,FALSE),DEBUT!$CP$2:$DI$18,12,FALSE),\"\")","v":""},{"$f":"IFERROR(HLOOKUP(HLOOKUP(ABH$8,DEBUT!$AB$4:$BP$78,3,FALSE),DEBUT!$CP$2:$DI$18,16,FALSE),\"\")","v":""},null,null,null,{"$f":"IFERROR(HLOOKUP(HLOOKUP(ABO$8,DEBUT!$AB$4:$BP$78,3,FALSE),DEBUT!$CP$2:$DI$18,4,FALSE),\"\")","v":""},{"$f":"IFERROR(HLOOKUP(HLOOKUP(ABO$8,DEBUT!$AB$4:$BP$78,3,FALSE),DEBUT!$CP$2:$DI$18,8,FALSE),\"\")","v":""},{"$f":"IFERROR(HLOOKUP(HLOOKUP(ABO$8,DEBUT!$AB$4:$BP$78,3,FALSE),DEBUT!$CP$2:$DI$18,12,FALSE),\"\")","v":""},{"$f":"IFERROR(HLOOKUP(HLOOKUP(ABO$8,DEBUT!$AB$4:$BP$78,3,FALSE),DEBUT!$CP$2:$DI$18,16,FALSE),\"\")","v":""},null,null,null,null,null,null,null,{"$f":"IFERROR(HLOOKUP(HLOOKUP(ABZ$8,DEBUT!$AB$4:$BP$78,3,FALSE),DEBUT!$CP$2:$DI$18,4,FALSE),\"\")","v":""},{"$f":"IFERROR(HLOOKUP(HLOOKUP(ABZ$8,DEBUT!$AB$4:$BP$78,3,FALSE),DEBUT!$CP$2:$DI$18,8,FALSE),\"\")","v":""},{"$f":"IFERROR(HLOOKUP(HLOOKUP(ABZ$8,DEBUT!$AB$4:$BP$78,3,FALSE),DEBUT!$CP$2:$DI$18,12,FALSE),\"\")","v":""},{"$f":"IFERROR(HLOOKUP(HLOOKUP(ABZ$8,DEBUT!$AB$4:$BP$78,3,FALSE),DEBUT!$CP$2:$DI$18,16,FALSE),\"\")","v":""},null,null,null,{"$f":"IFERROR(HLOOKUP(HLOOKUP(ACG$8,DEBUT!$AB$4:$BP$78,3,FALSE),DEBUT!$CP$2:$DI$18,4,FALSE),\"\")","v":""},{"$f":"IFERROR(HLOOKUP(HLOOKUP(ACG$8,DEBUT!$AB$4:$BP$78,3,FALSE),DEBUT!$CP$2:$DI$18,8,FALSE),\"\")","v":""},{"$f":"IFERROR(HLOOKUP(HLOOKUP(ACG$8,DEBUT!$AB$4:$BP$78,3,FALSE),DEBUT!$CP$2:$DI$18,12,FALSE),\"\")","v":""},{"$f":"IFERROR(HLOOKUP(HLOOKUP(ACG$8,DEBUT!$AB$4:$BP$78,3,FALSE),DEBUT!$CP$2:$DI$18,16,FALSE),\"\")","v":""},null,null,null,null,null,{"$f":"IFERROR(HLOOKUP(HLOOKUP(ACP$8,DEBUT!$AB$4:$BP$78,3,FALSE),DEBUT!$CP$2:$DI$18,4,FALSE),\"\")","v":""},{"$f":"IFERROR(HLOOKUP(HLOOKUP(ACP$8,DEBUT!$AB$4:$BP$78,3,FALSE),DEBUT!$CP$2:$DI$18,8,FALSE),\"\")","v":""},{"$f":"IFERROR(HLOOKUP(HLOOKUP(ACP$8,DEBUT!$AB$4:$BP$78,3,FALSE),DEBUT!$CP$2:$DI$18,12,FALSE),\"\")","v":""},{"$f":"IFERROR(HLOOKUP(HLOOKUP(ACP$8,DEBUT!$AB$4:$BP$78,3,FALSE),DEBUT!$CP$2:$DI$18,16,FALSE),\"\")","v":""},null,null,null,{"$f":"IFERROR(HLOOKUP(HLOOKUP(ACW$8,DEBUT!$AB$4:$BP$78,3,FALSE),DEBUT!$CP$2:$DI$18,4,FALSE),\"\")","v":""},{"$f":"IFERROR(HLOOKUP(HLOOKUP(ACW$8,DEBUT!$AB$4:$BP$78,3,FALSE),DEBUT!$CP$2:$DI$18,8,FALSE),\"\")","v":""},{"$f":"IFERROR(HLOOKUP(HLOOKUP(ACW$8,DEBUT!$AB$4:$BP$78,3,FALSE),DEBUT!$CP$2:$DI$18,12,FALSE),\"\")","v":""},{"$f":"IFERROR(HLOOKUP(HLOOKUP(ACW$8,DEBUT!$AB$4:$BP$78,3,FALSE),DEBUT!$CP$2:$DI$18,16,FALSE),\"\")","v":""},null,null,null,null,null,null,null,{"$f":"IFERROR(HLOOKUP(HLOOKUP(ADH$8,DEBUT!$AB$4:$BP$78,3,FALSE),DEBUT!$CP$2:$DI$18,4,FALSE),\"\")","v":""},{"$f":"IFERROR(HLOOKUP(HLOOKUP(ADH$8,DEBUT!$AB$4:$BP$78,3,FALSE),DEBUT!$CP$2:$DI$18,8,FALSE),\"\")","v":""},{"$f":"IFERROR(HLOOKUP(HLOOKUP(ADH$8,DEBUT!$AB$4:$BP$78,3,FALSE),DEBUT!$CP$2:$DI$18,12,FALSE),\"\")","v":""},{"$f":"IFERROR(HLOOKUP(HLOOKUP(ADH$8,DEBUT!$AB$4:$BP$78,3,FALSE),DEBUT!$CP$2:$DI$18,16,FALSE),\"\")","v":""},null,null,null,{"$f":"IFERROR(HLOOKUP(HLOOKUP(ADO$8,DEBUT!$AB$4:$BP$78,3,FALSE),DEBUT!$CP$2:$DI$18,4,FALSE),\"\")","v":""},{"$f":"IFERROR(HLOOKUP(HLOOKUP(ADO$8,DEBUT!$AB$4:$BP$78,3,FALSE),DEBUT!$CP$2:$DI$18,8,FALSE),\"\")","v":""},{"$f":"IFERROR(HLOOKUP(HLOOKUP(ADO$8,DEBUT!$AB$4:$BP$78,3,FALSE),DEBUT!$CP$2:$DI$18,12,FALSE),\"\")","v":""},{"$f":"IFERROR(HLOOKUP(HLOOKUP(ADO$8,DEBUT!$AB$4:$BP$78,3,FALSE),DEBUT!$CP$2:$DI$18,16,FALSE),\"\")","v":""},null,null,null,null,null,{"$f":"IFERROR(HLOOKUP(HLOOKUP(ADX$8,DEBUT!$AB$4:$BP$78,3,FALSE),DEBUT!$CP$2:$DI$18,4,FALSE),\"\")","v":""},{"$f":"IFERROR(HLOOKUP(HLOOKUP(ADX$8,DEBUT!$AB$4:$BP$78,3,FALSE),DEBUT!$CP$2:$DI$18,8,FALSE),\"\")","v":""},{"$f":"IFERROR(HLOOKUP(HLOOKUP(ADX$8,DEBUT!$AB$4:$BP$78,3,FALSE),DEBUT!$CP$2:$DI$18,12,FALSE),\"\")","v":""},{"$f":"IFERROR(HLOOKUP(HLOOKUP(ADX$8,DEBUT!$AB$4:$BP$78,3,FALSE),DEBUT!$CP$2:$DI$18,16,FALSE),\"\")","v":""},null,null,null,{"$f":"IFERROR(HLOOKUP(HLOOKUP(AEE$8,DEBUT!$AB$4:$BP$78,3,FALSE),DEBUT!$CP$2:$DI$18,4,FALSE),\"\")","v":""},{"$f":"IFERROR(HLOOKUP(HLOOKUP(AEE$8,DEBUT!$AB$4:$BP$78,3,FALSE),DEBUT!$CP$2:$DI$18,8,FALSE),\"\")","v":""},{"$f":"IFERROR(HLOOKUP(HLOOKUP(AEE$8,DEBUT!$AB$4:$BP$78,3,FALSE),DEBUT!$CP$2:$DI$18,12,FALSE),\"\")","v":""},{"$f":"IFERROR(HLOOKUP(HLOOKUP(AEE$8,DEBUT!$AB$4:$BP$78,3,FALSE),DEBUT!$CP$2:$DI$18,16,FALSE),\"\")","v":""}]
[null,null,null,null,null,{"$f":"IFERROR(HLOOKUP(HLOOKUP(F$8,DEBUT!$AB$4:$BP$78,3,FALSE),DEBUT!$CP$2:$DI$18,5,FALSE),\"\")","v":""},{"$f":"IFERROR(HLOOKUP(HLOOKUP(F$8,DEBUT!$AB$4:$BP$78,3,FALSE),DEBUT!$CP$2:$DI$18,9,FALSE),\"\")","v":""},{"$f":"IFERROR(HLOOKUP(HLOOKUP(F$8,DEBUT!$AB$4:$BP$78,3,FALSE),DEBUT!$CP$2:$DI$18,13,FALSE),\"\")","v":""},{"$f":"IFERROR(HLOOKUP(HLOOKUP(F$8,DEBUT!$AB$4:$BP$78,3,FALSE),DEBUT!$CP$2:$DI$18,17,FALSE),\"\")","v":""},null,null,null,{"$f":"IFERROR(HLOOKUP(HLOOKUP(M$8,DEBUT!$AB$4:$BP$78,3,FALSE),DEBUT!$CP$2:$DI$18,5,FALSE),\"\")","v":""},{"$f":"IFERROR(HLOOKUP(HLOOKUP(M$8,DEBUT!$AB$4:$BP$78,3,FALSE),DEBUT!$CP$2:$DI$18,9,FALSE),\"\")","v":""},{"$f":"IFERROR(HLOOKUP(HLOOKUP(M$8,DEBUT!$AB$4:$BP$78,3,FALSE),DEBUT!$CP$2:$DI$18,13,FALSE),\"\")","v":""},{"$f":"IFERROR(HLOOKUP(HLOOKUP(M$8,DEBUT!$AB$4:$BP$78,3,FALSE),DEBUT!$CP$2:$DI$18,17,FALSE),\"\")","v":""},null,null,null,null,null,{"$f":"IFERROR(HLOOKUP(HLOOKUP(V$8,DEBUT!$AB$4:$BP$78,3,FALSE),DEBUT!$CP$2:$DI$18,5,FALSE),\"\")","v":""},{"$f":"IFERROR(HLOOKUP(HLOOKUP(V$8,DEBUT!$AB$4:$BP$78,3,FALSE),DEBUT!$CP$2:$DI$18,9,FALSE),\"\")","v":""},{"$f":"IFERROR(HLOOKUP(HLOOKUP(V$8,DEBUT!$AB$4:$BP$78,3,FALSE),DEBUT!$CP$2:$DI$18,13,FALSE),\"\")","v":""},{"$f":"IFERROR(HLOOKUP(HLOOKUP(V$8,DEBUT!$AB$4:$BP$78,3,FALSE),DEBUT!$CP$2:$DI$18,17,FALSE),\"\")","v":""},null,null,null,{"$f":"IFERROR(HLOOKUP(HLOOKUP(AC$8,DEBUT!$AB$4:$BP$78,3,FALSE),DEBUT!$CP$2:$DI$18,5,FALSE),\"\")","v":""},{"$f":"IFERROR(HLOOKUP(HLOOKUP(AC$8,DEBUT!$AB$4:$BP$78,3,FALSE),DEBUT!$CP$2:$DI$18,9,FALSE),\"\")","v":""},{"$f":"IFERROR(HLOOKUP(HLOOKUP(AC$8,DEBUT!$AB$4:$BP$78,3,FALSE),DEBUT!$CP$2:$DI$18,13,FALSE),\"\")","v":""},{"$f":"IFERROR(HLOOKUP(HLOOKUP(AC$8,DEBUT!$AB$4:$BP$78,3,FALSE),DEBUT!$CP$2:$DI$18,17,FALSE),\"\")","v":""},null,null,null,null,null,null,null,{"$f":"IFERROR(HLOOKUP(HLOOKUP(AN$8,DEBUT!$AB$4:$BP$78,3,FALSE),DEBUT!$CP$2:$DI$18,5,FALSE),\"\")","v":""},{"$f":"IFERROR(HLOOKUP(HLOOKUP(AN$8,DEBUT!$AB$4:$BP$78,3,FALSE),DEBUT!$CP$2:$DI$18,9,FALSE),\"\")","v":""},{"$f":"IFERROR(HLOOKUP(HLOOKUP(AN$8,DEBUT!$AB$4:$BP$78,3,FALSE),DEBUT!$CP$2:$DI$18,13,FALSE),\"\")","v":""},{"$f":"IFERROR(HLOOKUP(HLOOKUP(AN$8,DEBUT!$AB$4:$BP$78,3,FALSE),DEBUT!$CP$2:$DI$18,17,FALSE),\"\")","v":""},null,null,null,{"$f":"IFERROR(HLOOKUP(HLOOKUP(AU$8,DEBUT!$AB$4:$BP$78,3,FALSE),DEBUT!$CP$2:$DI$18,5,FALSE),\"\")","v":""},{"$f":"IFERROR(HLOOKUP(HLOOKUP(AU$8,DEBUT!$AB$4:$BP$78,3,FALSE),DEBUT!$CP$2:$DI$18,9,FALSE),\"\")","v":""},{"$f":"IFERROR(HLOOKUP(HLOOKUP(AU$8,DEBUT!$AB$4:$BP$78,3,FALSE),DEBUT!$CP$2:$DI$18,13,FALSE),\"\")","v":""},{"$f":"IFERROR(HLOOKUP(HLOOKUP(AU$8,DEBUT!$AB$4:$BP$78,3,FALSE),DEBUT!$CP$2:$DI$18,17,FALSE),\"\")","v":""},null,null,null,null,null,{"$f":"IFERROR(HLOOKUP(HLOOKUP(BD$8,DEBUT!$AB$4:$BP$78,3,FALSE),DEBUT!$CP$2:$DI$18,5,FALSE),\"\")","v":""},{"$f":"IFERROR(HLOOKUP(HLOOKUP(BD$8,DEBUT!$AB$4:$BP$78,3,FALSE),DEBUT!$CP$2:$DI$18,9,FALSE),\"\")","v":""},{"$f":"IFERROR(HLOOKUP(HLOOKUP(BD$8,DEBUT!$AB$4:$BP$78,3,FALSE),DEBUT!$CP$2:$DI$18,13,FALSE),\"\")","v":""},{"$f":"IFERROR(HLOOKUP(HLOOKUP(BD$8,DEBUT!$AB$4:$BP$78,3,FALSE),DEBUT!$CP$2:$DI$18,17,FALSE),\"\")","v":""},null,null,null,{"$f":"IFERROR(HLOOKUP(HLOOKUP(BK$8,DEBUT!$AB$4:$BP$78,3,FALSE),DEBUT!$CP$2:$DI$18,5,FALSE),\"\")","v":""},{"$f":"IFERROR(HLOOKUP(HLOOKUP(BK$8,DEBUT!$AB$4:$BP$78,3,FALSE),DEBUT!$CP$2:$DI$18,9,FALSE),\"\")","v":""},{"$f":"IFERROR(HLOOKUP(HLOOKUP(BK$8,DEBUT!$AB$4:$BP$78,3,FALSE),DEBUT!$CP$2:$DI$18,13,FALSE),\"\")","v":""},{"$f":"IFERROR(HLOOKUP(HLOOKUP(BK$8,DEBUT!$AB$4:$BP$78,3,FALSE),DEBUT!$CP$2:$DI$18,17,FALSE),\"\")","v":""},null,null,null,null,null,null,null,{"$f":"IFERROR(HLOOKUP(HLOOKUP(BV$8,DEBUT!$AB$4:$BP$78,3,FALSE),DEBUT!$CP$2:$DI$18,5,FALSE),\"\")","v":""},{"$f":"IFERROR(HLOOKUP(HLOOKUP(BV$8,DEBUT!$AB$4:$BP$78,3,FALSE),DEBUT!$CP$2:$DI$18,9,FALSE),\"\")","v":""},{"$f":"IFERROR(HLOOKUP(HLOOKUP(BV$8,DEBUT!$AB$4:$BP$78,3,FALSE),DEBUT!$CP$2:$DI$18,13,FALSE),\"\")","v":""},{"$f":"IFERROR(HLOOKUP(HLOOKUP(BV$8,DEBUT!$AB$4:$BP$78,3,FALSE),DEBUT!$CP$2:$DI$18,17,FALSE),\"\")","v":""},null,null,null,{"$f":"IFERROR(HLOOKUP(HLOOKUP(CC$8,DEBUT!$AB$4:$BP$78,3,FALSE),DEBUT!$CP$2:$DI$18,5,FALSE),\"\")","v":""},{"$f":"IFERROR(HLOOKUP(HLOOKUP(CC$8,DEBUT!$AB$4:$BP$78,3,FALSE),DEBUT!$CP$2:$DI$18,9,FALSE),\"\")","v":""},{"$f":"IFERROR(HLOOKUP(HLOOKUP(CC$8,DEBUT!$AB$4:$BP$78,3,FALSE),DEBUT!$CP$2:$DI$18,13,FALSE),\"\")","v":""},{"$f":"IFERROR(HLOOKUP(HLOOKUP(CC$8,DEBUT!$AB$4:$BP$78,3,FALSE),DEBUT!$CP$2:$DI$18,17,FALSE),\"\")","v":""},null,null,null,null,null,{"$f":"IFERROR(HLOOKUP(HLOOKUP(CL$8,DEBUT!$AB$4:$BP$78,3,FALSE),DEBUT!$CP$2:$DI$18,5,FALSE),\"\")","v":""},{"$f":"IFERROR(HLOOKUP(HLOOKUP(CL$8,DEBUT!$AB$4:$BP$78,3,FALSE),DEBUT!$CP$2:$DI$18,9,FALSE),\"\")","v":""},{"$f":"IFERROR(HLOOKUP(HLOOKUP(CL$8,DEBUT!$AB$4:$BP$78,3,FALSE),DEBUT!$CP$2:$DI$18,13,FALSE),\"\")","v":""},{"$f":"IFERROR(HLOOKUP(HLOOKUP(CL$8,DEBUT!$AB$4:$BP$78,3,FALSE),DEBUT!$CP$2:$DI$18,17,FALSE),\"\")","v":""},null,null,null,{"$f":"IFERROR(HLOOKUP(HLOOKUP(CS$8,DEBUT!$AB$4:$BP$78,3,FALSE),DEBUT!$CP$2:$DI$18,5,FALSE),\"\")","v":""},{"$f":"IFERROR(HLOOKUP(HLOOKUP(CS$8,DEBUT!$AB$4:$BP$78,3,FALSE),DEBUT!$CP$2:$DI$18,9,FALSE),\"\")","v":""},{"$f":"IFERROR(HLOOKUP(HLOOKUP(CS$8,DEBUT!$AB$4:$BP$78,3,FALSE),DEBUT!$CP$2:$DI$18,13,FALSE),\"\")","v":""},{"$f":"IFERROR(HLOOKUP(HLOOKUP(CS$8,DEBUT!$AB$4:$BP$78,3,FALSE),DEBUT!$CP$2:$DI$18,17,FALSE),\"\")","v":""},null,null,null,null,null,null,null,{"$f":"IFERROR(HLOOKUP(HLOOKUP(DD$8,DEBUT!$AB$4:$BP$78,3,FALSE),DEBUT!$CP$2:$DI$18,5,FALSE),\"\")","v":""},{"$f":"IFERROR(HLOOKUP(HLOOKUP(DD$8,DEBUT!$AB$4:$BP$78,3,FALSE),DEBUT!$CP$2:$DI$18,9,FALSE),\"\")","v":""},{"$f":"IFERROR(HLOOKUP(HLOOKUP(DD$8,DEBUT!$AB$4:$BP$78,3,FALSE),DEBUT!$CP$2:$DI$18,13,FALSE),\"\")","v":""},{"$f":"IFERROR(HLOOKUP(HLOOKUP(DD$8,DEBUT!$AB$4:$BP$78,3,FALSE),DEBUT!$CP$2:$DI$18,17,FALSE),\"\")","v":""},null,null,null,{"$f":"IFERROR(HLOOKUP(HLOOKUP(DK$8,DEBUT!$AB$4:$BP$78,3,FALSE),DEBUT!$CP$2:$DI$18,5,FALSE),\"\")","v":""},{"$f":"IFERROR(HLOOKUP(HLOOKUP(DK$8,DEBUT!$AB$4:$BP$78,3,FALSE),DEBUT!$CP$2:$DI$18,9,FALSE),\"\")","v":""},{"$f":"IFERROR(HLOOKUP(HLOOKUP(DK$8,DEBUT!$AB$4:$BP$78,3,FALSE),DEBUT!$CP$2:$DI$18,13,FALSE),\"\")","v":""},{"$f":"IFERROR(HLOOKUP(HLOOKUP(DK$8,DEBUT!$AB$4:$BP$78,3,FALSE),DEBUT!$CP$2:$DI$18,17,FALSE),\"\")","v":""},null,null,null,null,null,{"$f":"IFERROR(HLOOKUP(HLOOKUP(DT$8,DEBUT!$AB$4:$BP$78,3,FALSE),DEBUT!$CP$2:$DI$18,5,FALSE),\"\")","v":""},{"$f":"IFERROR(HLOOKUP(HLOOKUP(DT$8,DEBUT!$AB$4:$BP$78,3,FALSE),DEBUT!$CP$2:$DI$18,9,FALSE),\"\")","v":""},{"$f":"IFERROR(HLOOKUP(HLOOKUP(DT$8,DEBUT!$AB$4:$BP$78,3,FALSE),DEBUT!$CP$2:$DI$18,13,FALSE),\"\")","v":""},{"$f":"IFERROR(HLOOKUP(HLOOKUP(DT$8,DEBUT!$AB$4:$BP$78,3,FALSE),DEBUT!$CP$2:$DI$18,17,FALSE),\"\")","v":""},null,null,null,{"$f":"IFERROR(HLOOKUP(HLOOKUP(EA$8,DEBUT!$AB$4:$BP$78,3,FALSE),DEBUT!$CP$2:$DI$18,5,FALSE),\"\")","v":""},{"$f":"IFERROR(HLOOKUP(HLOOKUP(EA$8,DEBUT!$AB$4:$BP$78,3,FALSE),DEBUT!$CP$2:$DI$18,9,FALSE),\"\")","v":""},{"$f":"IFERROR(HLOOKUP(HLOOKUP(EA$8,DEBUT!$AB$4:$BP$78,3,FALSE),DEBUT!$CP$2:$DI$18,13,FALSE),\"\")","v":""},{"$f":"IFERROR(HLOOKUP(HLOOKUP(EA$8,DEBUT!$AB$4:$BP$78,3,FALSE),DEBUT!$CP$2:$DI$18,17,FALSE),\"\")","v":""},null,null,null,null,null,null,null,{"$f":"IFERROR(HLOOKUP(HLOOKUP(EL$8,DEBUT!$AB$4:$BP$78,3,FALSE),DEBUT!$CP$2:$DI$18,5,FALSE),\"\")","v":""},{"$f":"IFERROR(HLOOKUP(HLOOKUP(EL$8,DEBUT!$AB$4:$BP$78,3,FALSE),DEBUT!$CP$2:$DI$18,9,FALSE),\"\")","v":""},{"$f":"IFERROR(HLOOKUP(HLOOKUP(EL$8,DEBUT!$AB$4:$BP$78,3,FALSE),DEBUT!$CP$2:$DI$18,13,FALSE),\"\")","v":""},{"$f":"IFERROR(HLOOKUP(HLOOKUP(EL$8,DEBUT!$AB$4:$BP$78,3,FALSE),DEBUT!$CP$2:$DI$18,17,FALSE),\"\")","v":""},null,null,null,{"$f":"IFERROR(HLOOKUP(HLOOKUP(ES$8,DEBUT!$AB$4:$BP$78,3,FALSE),DEBUT!$CP$2:$DI$18,5,FALSE),\"\")","v":""},{"$f":"IFERROR(HLOOKUP(HLOOKUP(ES$8,DEBUT!$AB$4:$BP$78,3,FALSE),DEBUT!$CP$2:$DI$18,9,FALSE),\"\")","v":""},{"$f":"IFERROR(HLOOKUP(HLOOKUP(ES$8,DEBUT!$AB$4:$BP$78,3,FALSE),DEBUT!$CP$2:$DI$18,13,FALSE),\"\")","v":""},{"$f":"IFERROR(HLOOKUP(HLOOKUP(ES$8,DEBUT!$AB$4:$BP$78,3,FALSE),DEBUT!$CP$2:$DI$18,17,FALSE),\"\")","v":""},null,null,null,null,null,{"$f":"IFERROR(HLOOKUP(HLOOKUP(FB$8,DEBUT!$AB$4:$BP$78,3,FALSE),DEBUT!$CP$2:$DI$18,5,FALSE),\"\")","v":""},{"$f":"IFERROR(HLOOKUP(HLOOKUP(FB$8,DEBUT!$AB$4:$BP$78,3,FALSE),DEBUT!$CP$2:$DI$18,9,FALSE),\"\")","v":""},{"$f":"IFERROR(HLOOKUP(HLOOKUP(FB$8,DEBUT!$AB$4:$BP$78,3,FALSE),DEBUT!$CP$2:$DI$18,13,FALSE),\"\")","v":""},{"$f":"IFERROR(HLOOKUP(HLOOKUP(FB$8,DEBUT!$AB$4:$BP$78,3,FALSE),DEBUT!$CP$2:$DI$18,17,FALSE),\"\")","v":""},null,null,null,{"$f":"IFERROR(HLOOKUP(HLOOKUP(FI$8,DEBUT!$AB$4:$BP$78,3,FALSE),DEBUT!$CP$2:$DI$18,5,FALSE),\"\")","v":""},{"$f":"IFERROR(HLOOKUP(HLOOKUP(FI$8,DEBUT!$AB$4:$BP$78,3,FALSE),DEBUT!$CP$2:$DI$18,9,FALSE),\"\")","v":""},{"$f":"IFERROR(HLOOKUP(HLOOKUP(FI$8,DEBUT!$AB$4:$BP$78,3,FALSE),DEBUT!$CP$2:$DI$18,13,FALSE),\"\")","v":""},{"$f":"IFERROR(HLOOKUP(HLOOKUP(FI$8,DEBUT!$AB$4:$BP$78,3,FALSE),DEBUT!$CP$2:$DI$18,17,FALSE),\"\")","v":""},null,null,null,null,null,null,null,{"$f":"IFERROR(HLOOKUP(HLOOKUP(FT$8,DEBUT!$AB$4:$BP$78,3,FALSE),DEBUT!$CP$2:$DI$18,5,FALSE),\"\")","v":""},{"$f":"IFERROR(HLOOKUP(HLOOKUP(FT$8,DEBUT!$AB$4:$BP$78,3,FALSE),DEBUT!$CP$2:$DI$18,9,FALSE),\"\")","v":""},{"$f":"IFERROR(HLOOKUP(HLOOKUP(FT$8,DEBUT!$AB$4:$BP$78,3,FALSE),DEBUT!$CP$2:$DI$18,13,FALSE),\"\")","v":""},{"$f":"IFERROR(HLOOKUP(HLOOKUP(FT$8,DEBUT!$AB$4:$BP$78,3,FALSE),DEBUT!$CP$2:$DI$18,17,FALSE),\"\")","v":""},null,null,null,{"$f":"IFERROR(HLOOKUP(HLOOKUP(GA$8,DEBUT!$AB$4:$BP$78,3,FALSE),DEBUT!$CP$2:$DI$18,5,FALSE),\"\")","v":""},{"$f":"IFERROR(HLOOKUP(HLOOKUP(GA$8,DEBUT!$AB$4:$BP$78,3,FALSE),DEBUT!$CP$2:$DI$18,9,FALSE),\"\")","v":""},{"$f":"IFERROR(HLOOKUP(HLOOKUP(GA$8,DEBUT!$AB$4:$BP$78,3,FALSE),DEBUT!$CP$2:$DI$18,13,FALSE),\"\")","v":""},{"$f":"IFERROR(HLOOKUP(HLOOKUP(GA$8,DEBUT!$AB$4:$BP$78,3,FALSE),DEBUT!$CP$2:$DI$18,17,FALSE),\"\")","v":""},null,null,null,null,null,{"$f":"IFERROR(HLOOKUP(HLOOKUP(GJ$8,DEBUT!$AB$4:$BP$78,3,FALSE),DEBUT!$CP$2:$DI$18,5,FALSE),\"\")","v":""},{"$f":"IFERROR(HLOOKUP(HLOOKUP(GJ$8,DEBUT!$AB$4:$BP$78,3,FALSE),DEBUT!$CP$2:$DI$18,9,FALSE),\"\")","v":""},{"$f":"IFERROR(HLOOKUP(HLOOKUP(GJ$8,DEBUT!$AB$4:$BP$78,3,FALSE),DEBUT!$CP$2:$DI$18,13,FALSE),\"\")","v":""},{"$f":"IFERROR(HLOOKUP(HLOOKUP(GJ$8,DEBUT!$AB$4:$BP$78,3,FALSE),DEBUT!$CP$2:$DI$18,17,FALSE),\"\")","v":""},null,null,null,{"$f":"IFERROR(HLOOKUP(HLOOKUP(GQ$8,DEBUT!$AB$4:$BP$78,3,FALSE),DEBUT!$CP$2:$DI$18,5,FALSE),\"\")","v":""},{"$f":"IFERROR(HLOOKUP(HLOOKUP(GQ$8,DEBUT!$AB$4:$BP$78,3,FALSE),DEBUT!$CP$2:$DI$18,9,FALSE),\"\")","v":""},{"$f":"IFERROR(HLOOKUP(HLOOKUP(GQ$8,DEBUT!$AB$4:$BP$78,3,FALSE),DEBUT!$CP$2:$DI$18,13,FALSE),\"\")","v":""},{"$f":"IFERROR(HLOOKUP(HLOOKUP(GQ$8,DEBUT!$AB$4:$BP$78,3,FALSE),DEBUT!$CP$2:$DI$18,17,FALSE),\"\")","v":""},null,null,null,null,null,null,null,{"$f":"IFERROR(HLOOKUP(HLOOKUP(HB$8,DEBUT!$AB$4:$BP$78,3,FALSE),DEBUT!$CP$2:$DI$18,5,FALSE),\"\")","v":""},{"$f":"IFERROR(HLOOKUP(HLOOKUP(HB$8,DEBUT!$AB$4:$BP$78,3,FALSE),DEBUT!$CP$2:$DI$18,9,FALSE),\"\")","v":""},{"$f":"IFERROR(HLOOKUP(HLOOKUP(HB$8,DEBUT!$AB$4:$BP$78,3,FALSE),DEBUT!$CP$2:$DI$18,13,FALSE),\"\")","v":""},{"$f":"IFERROR(HLOOKUP(HLOOKUP(HB$8,DEBUT!$AB$4:$BP$78,3,FALSE),DEBUT!$CP$2:$DI$18,17,FALSE),\"\")","v":""},null,null,null,{"$f":"IFERROR(HLOOKUP(HLOOKUP(HI$8,DEBUT!$AB$4:$BP$78,3,FALSE),DEBUT!$CP$2:$DI$18,5,FALSE),\"\")","v":""},{"$f":"IFERROR(HLOOKUP(HLOOKUP(HI$8,DEBUT!$AB$4:$BP$78,3,FALSE),DEBUT!$CP$2:$DI$18,9,FALSE),\"\")","v":""},{"$f":"IFERROR(HLOOKUP(HLOOKUP(HI$8,DEBUT!$AB$4:$BP$78,3,FALSE),DEBUT!$CP$2:$DI$18,13,FALSE),\"\")","v":""},{"$f":"IFERROR(HLOOKUP(HLOOKUP(HI$8,DEBUT!$AB$4:$BP$78,3,FALSE),DEBUT!$CP$2:$DI$18,17,FALSE),\"\")","v":""},null,null,null,null,null,{"$f":"IFERROR(HLOOKUP(HLOOKUP(HR$8,DEBUT!$AB$4:$BP$78,3,FALSE),DEBUT!$CP$2:$DI$18,5,FALSE),\"\")","v":""},{"$f":"IFERROR(HLOOKUP(HLOOKUP(HR$8,DEBUT!$AB$4:$BP$78,3,FALSE),DEBUT!$CP$2:$DI$18,9,FALSE),\"\")","v":""},{"$f":"IFERROR(HLOOKUP(HLOOKUP(HR$8,DEBUT!$AB$4:$BP$78,3,FALSE),DEBUT!$CP$2:$DI$18,13,FALSE),\"\")","v":""},{"$f":"IFERROR(HLOOKUP(HLOOKUP(HR$8,DEBUT!$AB$4:$BP$78,3,FALSE),DEBUT!$CP$2:$DI$18,17,FALSE),\"\")","v":""},null,null,null,{"$f":"IFERROR(HLOOKUP(HLOOKUP(HY$8,DEBUT!$AB$4:$BP$78,3,FALSE),DEBUT!$CP$2:$DI$18,5,FALSE),\"\")","v":""},{"$f":"IFERROR(HLOOKUP(HLOOKUP(HY$8,DEBUT!$AB$4:$BP$78,3,FALSE),DEBUT!$CP$2:$DI$18,9,FALSE),\"\")","v":""},{"$f":"IFERROR(HLOOKUP(HLOOKUP(HY$8,DEBUT!$AB$4:$BP$78,3,FALSE),DEBUT!$CP$2:$DI$18,13,FALSE),\"\")","v":""},{"$f":"IFERROR(HLOOKUP(HLOOKUP(HY$8,DEBUT!$AB$4:$BP$78,3,FALSE),DEBUT!$CP$2:$DI$18,17,FALSE),\"\")","v":""},null,null,null,null,null,null,null,{"$f":"IFERROR(HLOOKUP(HLOOKUP(IJ$8,DEBUT!$AB$4:$BP$78,3,FALSE),DEBUT!$CP$2:$DI$18,5,FALSE),\"\")","v":""},{"$f":"IFERROR(HLOOKUP(HLOOKUP(IJ$8,DEBUT!$AB$4:$BP$78,3,FALSE),DEBUT!$CP$2:$DI$18,9,FALSE),\"\")","v":""},{"$f":"IFERROR(HLOOKUP(HLOOKUP(IJ$8,DEBUT!$AB$4:$BP$78,3,FALSE),DEBUT!$CP$2:$DI$18,13,FALSE),\"\")","v":""},{"$f":"IFERROR(HLOOKUP(HLOOKUP(IJ$8,DEBUT!$AB$4:$BP$78,3,FALSE),DEBUT!$CP$2:$DI$18,17,FALSE),\"\")","v":""},null,null,null,{"$f":"IFERROR(HLOOKUP(HLOOKUP(IQ$8,DEBUT!$AB$4:$BP$78,3,FALSE),DEBUT!$CP$2:$DI$18,5,FALSE),\"\")","v":""},{"$f":"IFERROR(HLOOKUP(HLOOKUP(IQ$8,DEBUT!$AB$4:$BP$78,3,FALSE),DEBUT!$CP$2:$DI$18,9,FALSE),\"\")","v":""},{"$f":"IFERROR(HLOOKUP(HLOOKUP(IQ$8,DEBUT!$AB$4:$BP$78,3,FALSE),DEBUT!$CP$2:$DI$18,13,FALSE),\"\")","v":""},{"$f":"IFERROR(HLOOKUP(HLOOKUP(IQ$8,DEBUT!$AB$4:$BP$78,3,FALSE),DEBUT!$CP$2:$DI$18,17,FALSE),\"\")","v":""},null,null,null,null,null,{"$f":"IFERROR(HLOOKUP(HLOOKUP(IZ$8,DEBUT!$AB$4:$BP$78,3,FALSE),DEBUT!$CP$2:$DI$18,5,FALSE),\"\")","v":""},{"$f":"IFERROR(HLOOKUP(HLOOKUP(IZ$8,DEBUT!$AB$4:$BP$78,3,FALSE),DEBUT!$CP$2:$DI$18,9,FALSE),\"\")","v":""},{"$f":"IFERROR(HLOOKUP(HLOOKUP(IZ$8,DEBUT!$AB$4:$BP$78,3,FALSE),DEBUT!$CP$2:$DI$18,13,FALSE),\"\")","v":""},{"$f":"IFERROR(HLOOKUP(HLOOKUP(IZ$8,DEBUT!$AB$4:$BP$78,3,FALSE),DEBUT!$CP$2:$DI$18,17,FALSE),\"\")","v":""},null,null,null,{"$f":"IFERROR(HLOOKUP(HLOOKUP(JG$8,DEBUT!$AB$4:$BP$78,3,FALSE),DEBUT!$CP$2:$DI$18,5,FALSE),\"\")","v":""},{"$f":"IFERROR(HLOOKUP(HLOOKUP(JG$8,DEBUT!$AB$4:$BP$78,3,FALSE),DEBUT!$CP$2:$DI$18,9,FALSE),\"\")","v":""},{"$f":"IFERROR(HLOOKUP(HLOOKUP(JG$8,DEBUT!$AB$4:$BP$78,3,FALSE),DEBUT!$CP$2:$DI$18,13,FALSE),\"\")","v":""},{"$f":"IFERROR(HLOOKUP(HLOOKUP(JG$8,DEBUT!$AB$4:$BP$78,3,FALSE),DEBUT!$CP$2:$DI$18,17,FALSE),\"\")","v":""},null,null,null,null,null,null,null,{"$f":"IFERROR(HLOOKUP(HLOOKUP(JR$8,DEBUT!$AB$4:$BP$78,3,FALSE),DEBUT!$CP$2:$DI$18,5,FALSE),\"\")","v":""},{"$f":"IFERROR(HLOOKUP(HLOOKUP(JR$8,DEBUT!$AB$4:$BP$78,3,FALSE),DEBUT!$CP$2:$DI$18,9,FALSE),\"\")","v":""},{"$f":"IFERROR(HLOOKUP(HLOOKUP(JR$8,DEBUT!$AB$4:$BP$78,3,FALSE),DEBUT!$CP$2:$DI$18,13,FALSE),\"\")","v":""},{"$f":"IFERROR(HLOOKUP(HLOOKUP(JR$8,DEBUT!$AB$4:$BP$78,3,FALSE),DEBUT!$CP$2:$DI$18,17,FALSE),\"\")","v":""},null,null,null,{"$f":"IFERROR(HLOOKUP(HLOOKUP(JY$8,DEBUT!$AB$4:$BP$78,3,FALSE),DEBUT!$CP$2:$DI$18,5,FALSE),\"\")","v":""},{"$f":"IFERROR(HLOOKUP(HLOOKUP(JY$8,DEBUT!$AB$4:$BP$78,3,FALSE),DEBUT!$CP$2:$DI$18,9,FALSE),\"\")","v":""},{"$f":"IFERROR(HLOOKUP(HLOOKUP(JY$8,DEBUT!$AB$4:$BP$78,3,FALSE),DEBUT!$CP$2:$DI$18,13,FALSE),\"\")","v":""},{"$f":"IFERROR(HLOOKUP(HLOOKUP(JY$8,DEBUT!$AB$4:$BP$78,3,FALSE),DEBUT!$CP$2:$DI$18,17,FALSE),\"\")","v":""},null,null,null,null,null,{"$f":"IFERROR(HLOOKUP(HLOOKUP(KH$8,DEBUT!$AB$4:$BP$78,3,FALSE),DEBUT!$CP$2:$DI$18,5,FALSE),\"\")","v":""},{"$f":"IFERROR(HLOOKUP(HLOOKUP(KH$8,DEBUT!$AB$4:$BP$78,3,FALSE),DEBUT!$CP$2:$DI$18,9,FALSE),\"\")","v":""},{"$f":"IFERROR(HLOOKUP(HLOOKUP(KH$8,DEBUT!$AB$4:$BP$78,3,FALSE),DEBUT!$CP$2:$DI$18,13,FALSE),\"\")","v":""},{"$f":"IFERROR(HLOOKUP(HLOOKUP(KH$8,DEBUT!$AB$4:$BP$78,3,FALSE),DEBUT!$CP$2:$DI$18,17,FALSE),\"\")","v":""},null,null,null,{"$f":"IFERROR(HLOOKUP(HLOOKUP(KO$8,DEBUT!$AB$4:$BP$78,3,FALSE),DEBUT!$CP$2:$DI$18,5,FALSE),\"\")","v":""},{"$f":"IFERROR(HLOOKUP(HLOOKUP(KO$8,DEBUT!$AB$4:$BP$78,3,FALSE),DEBUT!$CP$2:$DI$18,9,FALSE),\"\")","v":""},{"$f":"IFERROR(HLOOKUP(HLOOKUP(KO$8,DEBUT!$AB$4:$BP$78,3,FALSE),DEBUT!$CP$2:$DI$18,13,FALSE),\"\")","v":""},{"$f":"IFERROR(HLOOKUP(HLOOKUP(KO$8,DEBUT!$AB$4:$BP$78,3,FALSE),DEBUT!$CP$2:$DI$18,17,FALSE),\"\")","v":""},null,null,null,null,null,null,null,{"$f":"IFERROR(HLOOKUP(HLOOKUP(KZ$8,DEBUT!$AB$4:$BP$78,3,FALSE),DEBUT!$CP$2:$DI$18,5,FALSE),\"\")","v":""},{"$f":"IFERROR(HLOOKUP(HLOOKUP(KZ$8,DEBUT!$AB$4:$BP$78,3,FALSE),DEBUT!$CP$2:$DI$18,9,FALSE),\"\")","v":""},{"$f":"IFERROR(HLOOKUP(HLOOKUP(KZ$8,DEBUT!$AB$4:$BP$78,3,FALSE),DEBUT!$CP$2:$DI$18,13,FALSE),\"\")","v":""},{"$f":"IFERROR(HLOOKUP(HLOOKUP(KZ$8,DEBUT!$AB$4:$BP$78,3,FALSE),DEBUT!$CP$2:$DI$18,17,FALSE),\"\")","v":""},null,null,null,{"$f":"IFERROR(HLOOKUP(HLOOKUP(LG$8,DEBUT!$AB$4:$BP$78,3,FALSE),DEBUT!$CP$2:$DI$18,5,FALSE),\"\")","v":""},{"$f":"IFERROR(HLOOKUP(HLOOKUP(LG$8,DEBUT!$AB$4:$BP$78,3,FALSE),DEBUT!$CP$2:$DI$18,9,FALSE),\"\")","v":""},{"$f":"IFERROR(HLOOKUP(HLOOKUP(LG$8,DEBUT!$AB$4:$BP$78,3,FALSE),DEBUT!$CP$2:$DI$18,13,FALSE),\"\")","v":""},{"$f":"IFERROR(HLOOKUP(HLOOKUP(LG$8,DEBUT!$AB$4:$BP$78,3,FALSE),DEBUT!$CP$2:$DI$18,17,FALSE),\"\")","v":""},null,null,null,null,null,{"$f":"IFERROR(HLOOKUP(HLOOKUP(LP$8,DEBUT!$AB$4:$BP$78,3,FALSE),DEBUT!$CP$2:$DI$18,5,FALSE),\"\")","v":""},{"$f":"IFERROR(HLOOKUP(HLOOKUP(LP$8,DEBUT!$AB$4:$BP$78,3,FALSE),DEBUT!$CP$2:$DI$18,9,FALSE),\"\")","v":""},{"$f":"IFERROR(HLOOKUP(HLOOKUP(LP$8,DEBUT!$AB$4:$BP$78,3,FALSE),DEBUT!$CP$2:$DI$18,13,FALSE),\"\")","v":""},{"$f":"IFERROR(HLOOKUP(HLOOKUP(LP$8,DEBUT!$AB$4:$BP$78,3,FALSE),DEBUT!$CP$2:$DI$18,17,FALSE),\"\")","v":""},null,null,null,{"$f":"IFERROR(HLOOKUP(HLOOKUP(LW$8,DEBUT!$AB$4:$BP$78,3,FALSE),DEBUT!$CP$2:$DI$18,5,FALSE),\"\")","v":""},{"$f":"IFERROR(HLOOKUP(HLOOKUP(LW$8,DEBUT!$AB$4:$BP$78,3,FALSE),DEBUT!$CP$2:$DI$18,9,FALSE),\"\")","v":""},{"$f":"IFERROR(HLOOKUP(HLOOKUP(LW$8,DEBUT!$AB$4:$BP$78,3,FALSE),DEBUT!$CP$2:$DI$18,13,FALSE),\"\")","v":""},{"$f":"IFERROR(HLOOKUP(HLOOKUP(LW$8,DEBUT!$AB$4:$BP$78,3,FALSE),DEBUT!$CP$2:$DI$18,17,FALSE),\"\")","v":""},null,null,null,null,null,null,null,{"$f":"IFERROR(HLOOKUP(HLOOKUP(MH$8,DEBUT!$AB$4:$BP$78,3,FALSE),DEBUT!$CP$2:$DI$18,5,FALSE),\"\")","v":""},{"$f":"IFERROR(HLOOKUP(HLOOKUP(MH$8,DEBUT!$AB$4:$BP$78,3,FALSE),DEBUT!$CP$2:$DI$18,9,FALSE),\"\")","v":""},{"$f":"IFERROR(HLOOKUP(HLOOKUP(MH$8,DEBUT!$AB$4:$BP$78,3,FALSE),DEBUT!$CP$2:$DI$18,13,FALSE),\"\")","v":""},{"$f":"IFERROR(HLOOKUP(HLOOKUP(MH$8,DEBUT!$AB$4:$BP$78,3,FALSE),DEBUT!$CP$2:$DI$18,17,FALSE),\"\")","v":""},null,null,null,{"$f":"IFERROR(HLOOKUP(HLOOKUP(MO$8,DEBUT!$AB$4:$BP$78,3,FALSE),DEBUT!$CP$2:$DI$18,5,FALSE),\"\")","v":""},{"$f":"IFERROR(HLOOKUP(HLOOKUP(MO$8,DEBUT!$AB$4:$BP$78,3,FALSE),DEBUT!$CP$2:$DI$18,9,FALSE),\"\")","v":""},{"$f":"IFERROR(HLOOKUP(HLOOKUP(MO$8,DEBUT!$AB$4:$BP$78,3,FALSE),DEBUT!$CP$2:$DI$18,13,FALSE),\"\")","v":""},{"$f":"IFERROR(HLOOKUP(HLOOKUP(MO$8,DEBUT!$AB$4:$BP$78,3,FALSE),DEBUT!$CP$2:$DI$18,17,FALSE),\"\")","v":""},null,null,null,null,null,{"$f":"IFERROR(HLOOKUP(HLOOKUP(MX$8,DEBUT!$AB$4:$BP$78,3,FALSE),DEBUT!$CP$2:$DI$18,5,FALSE),\"\")","v":""},{"$f":"IFERROR(HLOOKUP(HLOOKUP(MX$8,DEBUT!$AB$4:$BP$78,3,FALSE),DEBUT!$CP$2:$DI$18,9,FALSE),\"\")","v":""},{"$f":"IFERROR(HLOOKUP(HLOOKUP(MX$8,DEBUT!$AB$4:$BP$78,3,FALSE),DEBUT!$CP$2:$DI$18,13,FALSE),\"\")","v":""},{"$f":"IFERROR(HLOOKUP(HLOOKUP(MX$8,DEBUT!$AB$4:$BP$78,3,FALSE),DEBUT!$CP$2:$DI$18,17,FALSE),\"\")","v":""},null,null,null,{"$f":"IFERROR(HLOOKUP(HLOOKUP(NE$8,DEBUT!$AB$4:$BP$78,3,FALSE),DEBUT!$CP$2:$DI$18,5,FALSE),\"\")","v":""},{"$f":"IFERROR(HLOOKUP(HLOOKUP(NE$8,DEBUT!$AB$4:$BP$78,3,FALSE),DEBUT!$CP$2:$DI$18,9,FALSE),\"\")","v":""},{"$f":"IFERROR(HLOOKUP(HLOOKUP(NE$8,DEBUT!$AB$4:$BP$78,3,FALSE),DEBUT!$CP$2:$DI$18,13,FALSE),\"\")","v":""},{"$f":"IFERROR(HLOOKUP(HLOOKUP(NE$8,DEBUT!$AB$4:$BP$78,3,FALSE),DEBUT!$CP$2:$DI$18,17,FALSE),\"\")","v":""},null,null,null,null,null,null,null,{"$f":"IFERROR(HLOOKUP(HLOOKUP(NP$8,DEBUT!$AB$4:$BP$78,3,FALSE),DEBUT!$CP$2:$DI$18,5,FALSE),\"\")","v":""},{"$f":"IFERROR(HLOOKUP(HLOOKUP(NP$8,DEBUT!$AB$4:$BP$78,3,FALSE),DEBUT!$CP$2:$DI$18,9,FALSE),\"\")","v":""},{"$f":"IFERROR(HLOOKUP(HLOOKUP(NP$8,DEBUT!$AB$4:$BP$78,3,FALSE),DEBUT!$CP$2:$DI$18,13,FALSE),\"\")","v":""},{"$f":"IFERROR(HLOOKUP(HLOOKUP(NP$8,DEBUT!$AB$4:$BP$78,3,FALSE),DEBUT!$CP$2:$DI$18,17,FALSE),\"\")","v":""},null,null,null,{"$f":"IFERROR(HLOOKUP(HLOOKUP(NW$8,DEBUT!$AB$4:$BP$78,3,FALSE),DEBUT!$CP$2:$DI$18,5,FALSE),\"\")","v":""},{"$f":"IFERROR(HLOOKUP(HLOOKUP(NW$8,DEBUT!$AB$4:$BP$78,3,FALSE),DEBUT!$CP$2:$DI$18,9,FALSE),\"\")","v":""},{"$f":"IFERROR(HLOOKUP(HLOOKUP(NW$8,DEBUT!$AB$4:$BP$78,3,FALSE),DEBUT!$CP$2:$DI$18,13,FALSE),\"\")","v":""},{"$f":"IFERROR(HLOOKUP(HLOOKUP(NW$8,DEBUT!$AB$4:$BP$78,3,FALSE),DEBUT!$CP$2:$DI$18,17,FALSE),\"\")","v":""},null,null,null,null,null,{"$f":"IFERROR(HLOOKUP(HLOOKUP(OF$8,DEBUT!$AB$4:$BP$78,3,FALSE),DEBUT!$CP$2:$DI$18,5,FALSE),\"\")","v":""},{"$f":"IFERROR(HLOOKUP(HLOOKUP(OF$8,DEBUT!$AB$4:$BP$78,3,FALSE),DEBUT!$CP$2:$DI$18,9,FALSE),\"\")","v":""},{"$f":"IFERROR(HLOOKUP(HLOOKUP(OF$8,DEBUT!$AB$4:$BP$78,3,FALSE),DEBUT!$CP$2:$DI$18,13,FALSE),\"\")","v":""},{"$f":"IFERROR(HLOOKUP(HLOOKUP(OF$8,DEBUT!$AB$4:$BP$78,3,FALSE),DEBUT!$CP$2:$DI$18,17,FALSE),\"\")","v":""},null,null,null,{"$f":"IFERROR(HLOOKUP(HLOOKUP(OM$8,DEBUT!$AB$4:$BP$78,3,FALSE),DEBUT!$CP$2:$DI$18,5,FALSE),\"\")","v":""},{"$f":"IFERROR(HLOOKUP(HLOOKUP(OM$8,DEBUT!$AB$4:$BP$78,3,FALSE),DEBUT!$CP$2:$DI$18,9,FALSE),\"\")","v":""},{"$f":"IFERROR(HLOOKUP(HLOOKUP(OM$8,DEBUT!$AB$4:$BP$78,3,FALSE),DEBUT!$CP$2:$DI$18,13,FALSE),\"\")","v":""},{"$f":"IFERROR(HLOOKUP(HLOOKUP(OM$8,DEBUT!$AB$4:$BP$78,3,FALSE),DEBUT!$CP$2:$DI$18,17,FALSE),\"\")","v":""},null,null,null,null,null,null,null,{"$f":"IFERROR(HLOOKUP(HLOOKUP(OX$8,DEBUT!$AB$4:$BP$78,3,FALSE),DEBUT!$CP$2:$DI$18,5,FALSE),\"\")","v":""},{"$f":"IFERROR(HLOOKUP(HLOOKUP(OX$8,DEBUT!$AB$4:$BP$78,3,FALSE),DEBUT!$CP$2:$DI$18,9,FALSE),\"\")","v":""},{"$f":"IFERROR(HLOOKUP(HLOOKUP(OX$8,DEBUT!$AB$4:$BP$78,3,FALSE),DEBUT!$CP$2:$DI$18,13,FALSE),\"\")","v":""},{"$f":"IFERROR(HLOOKUP(HLOOKUP(OX$8,DEBUT!$AB$4:$BP$78,3,FALSE),DEBUT!$CP$2:$DI$18,17,FALSE),\"\")","v":""},null,null,null,{"$f":"IFERROR(HLOOKUP(HLOOKUP(PE$8,DEBUT!$AB$4:$BP$78,3,FALSE),DEBUT!$CP$2:$DI$18,5,FALSE),\"\")","v":""},{"$f":"IFERROR(HLOOKUP(HLOOKUP(PE$8,DEBUT!$AB$4:$BP$78,3,FALSE),DEBUT!$CP$2:$DI$18,9,FALSE),\"\")","v":""},{"$f":"IFERROR(HLOOKUP(HLOOKUP(PE$8,DEBUT!$AB$4:$BP$78,3,FALSE),DEBUT!$CP$2:$DI$18,13,FALSE),\"\")","v":""},{"$f":"IFERROR(HLOOKUP(HLOOKUP(PE$8,DEBUT!$AB$4:$BP$78,3,FALSE),DEBUT!$CP$2:$DI$18,17,FALSE),\"\")","v":""},null,null,null,null,null,{"$f":"IFERROR(HLOOKUP(HLOOKUP(PN$8,DEBUT!$AB$4:$BP$78,3,FALSE),DEBUT!$CP$2:$DI$18,5,FALSE),\"\")","v":""},{"$f":"IFERROR(HLOOKUP(HLOOKUP(PN$8,DEBUT!$AB$4:$BP$78,3,FALSE),DEBUT!$CP$2:$DI$18,9,FALSE),\"\")","v":""},{"$f":"IFERROR(HLOOKUP(HLOOKUP(PN$8,DEBUT!$AB$4:$BP$78,3,FALSE),DEBUT!$CP$2:$DI$18,13,FALSE),\"\")","v":""},{"$f":"IFERROR(HLOOKUP(HLOOKUP(PN$8,DEBUT!$AB$4:$BP$78,3,FALSE),DEBUT!$CP$2:$DI$18,17,FALSE),\"\")","v":""},null,null,null,{"$f":"IFERROR(HLOOKUP(HLOOKUP(PU$8,DEBUT!$AB$4:$BP$78,3,FALSE),DEBUT!$CP$2:$DI$18,5,FALSE),\"\")","v":""},{"$f":"IFERROR(HLOOKUP(HLOOKUP(PU$8,DEBUT!$AB$4:$BP$78,3,FALSE),DEBUT!$CP$2:$DI$18,9,FALSE),\"\")","v":""},{"$f":"IFERROR(HLOOKUP(HLOOKUP(PU$8,DEBUT!$AB$4:$BP$78,3,FALSE),DEBUT!$CP$2:$DI$18,13,FALSE),\"\")","v":""},{"$f":"IFERROR(HLOOKUP(HLOOKUP(PU$8,DEBUT!$AB$4:$BP$78,3,FALSE),DEBUT!$CP$2:$DI$18,17,FALSE),\"\")","v":""},null,null,null,null,null,null,null,{"$f":"IFERROR(HLOOKUP(HLOOKUP(QF$8,DEBUT!$AB$4:$BP$78,3,FALSE),DEBUT!$CP$2:$DI$18,5,FALSE),\"\")","v":""},{"$f":"IFERROR(HLOOKUP(HLOOKUP(QF$8,DEBUT!$AB$4:$BP$78,3,FALSE),DEBUT!$CP$2:$DI$18,9,FALSE),\"\")","v":""},{"$f":"IFERROR(HLOOKUP(HLOOKUP(QF$8,DEBUT!$AB$4:$BP$78,3,FALSE),DEBUT!$CP$2:$DI$18,13,FALSE),\"\")","v":""},{"$f":"IFERROR(HLOOKUP(HLOOKUP(QF$8,DEBUT!$AB$4:$BP$78,3,FALSE),DEBUT!$CP$2:$DI$18,17,FALSE),\"\")","v":""},null,null,null,{"$f":"IFERROR(HLOOKUP(HLOOKUP(QM$8,DEBUT!$AB$4:$BP$78,3,FALSE),DEBUT!$CP$2:$DI$18,5,FALSE),\"\")","v":""},{"$f":"IFERROR(HLOOKUP(HLOOKUP(QM$8,DEBUT!$AB$4:$BP$78,3,FALSE),DEBUT!$CP$2:$DI$18,9,FALSE),\"\")","v":""},{"$f":"IFERROR(HLOOKUP(HLOOKUP(QM$8,DEBUT!$AB$4:$BP$78,3,FALSE),DEBUT!$CP$2:$DI$18,13,FALSE),\"\")","v":""},{"$f":"IFERROR(HLOOKUP(HLOOKUP(QM$8,DEBUT!$AB$4:$BP$78,3,FALSE),DEBUT!$CP$2:$DI$18,17,FALSE),\"\")","v":""},null,null,null,null,null,{"$f":"IFERROR(HLOOKUP(HLOOKUP(QV$8,DEBUT!$AB$4:$BP$78,3,FALSE),DEBUT!$CP$2:$DI$18,5,FALSE),\"\")","v":""},{"$f":"IFERROR(HLOOKUP(HLOOKUP(QV$8,DEBUT!$AB$4:$BP$78,3,FALSE),DEBUT!$CP$2:$DI$18,9,FALSE),\"\")","v":""},{"$f":"IFERROR(HLOOKUP(HLOOKUP(QV$8,DEBUT!$AB$4:$BP$78,3,FALSE),DEBUT!$CP$2:$DI$18,13,FALSE),\"\")","v":""},{"$f":"IFERROR(HLOOKUP(HLOOKUP(QV$8,DEBUT!$AB$4:$BP$78,3,FALSE),DEBUT!$CP$2:$DI$18,17,FALSE),\"\")","v":""},null,null,null,{"$f":"IFERROR(HLOOKUP(HLOOKUP(RC$8,DEBUT!$AB$4:$BP$78,3,FALSE),DEBUT!$CP$2:$DI$18,5,FALSE),\"\")","v":""},{"$f":"IFERROR(HLOOKUP(HLOOKUP(RC$8,DEBUT!$AB$4:$BP$78,3,FALSE),DEBUT!$CP$2:$DI$18,9,FALSE),\"\")","v":""},{"$f":"IFERROR(HLOOKUP(HLOOKUP(RC$8,DEBUT!$AB$4:$BP$78,3,FALSE),DEBUT!$CP$2:$DI$18,13,FALSE),\"\")","v":""},{"$f":"IFERROR(HLOOKUP(HLOOKUP(RC$8,DEBUT!$AB$4:$BP$78,3,FALSE),DEBUT!$CP$2:$DI$18,17,FALSE),\"\")","v":""},null,null,null,null,null,null,null,{"$f":"IFERROR(HLOOKUP(HLOOKUP(RN$8,DEBUT!$AB$4:$BP$78,3,FALSE),DEBUT!$CP$2:$DI$18,5,FALSE),\"\")","v":""},{"$f":"IFERROR(HLOOKUP(HLOOKUP(RN$8,DEBUT!$AB$4:$BP$78,3,FALSE),DEBUT!$CP$2:$DI$18,9,FALSE),\"\")","v":""},{"$f":"IFERROR(HLOOKUP(HLOOKUP(RN$8,DEBUT!$AB$4:$BP$78,3,FALSE),DEBUT!$CP$2:$DI$18,13,FALSE),\"\")","v":""},{"$f":"IFERROR(HLOOKUP(HLOOKUP(RN$8,DEBUT!$AB$4:$BP$78,3,FALSE),DEBUT!$CP$2:$DI$18,17,FALSE),\"\")","v":""},null,null,null,{"$f":"IFERROR(HLOOKUP(HLOOKUP(RU$8,DEBUT!$AB$4:$BP$78,3,FALSE),DEBUT!$CP$2:$DI$18,5,FALSE),\"\")","v":""},{"$f":"IFERROR(HLOOKUP(HLOOKUP(RU$8,DEBUT!$AB$4:$BP$78,3,FALSE),DEBUT!$CP$2:$DI$18,9,FALSE),\"\")","v":""},{"$f":"IFERROR(HLOOKUP(HLOOKUP(RU$8,DEBUT!$AB$4:$BP$78,3,FALSE),DEBUT!$CP$2:$DI$18,13,FALSE),\"\")","v":""},{"$f":"IFERROR(HLOOKUP(HLOOKUP(RU$8,DEBUT!$AB$4:$BP$78,3,FALSE),DEBUT!$CP$2:$DI$18,17,FALSE),\"\")","v":""},null,null,null,null,null,{"$f":"IFERROR(HLOOKUP(HLOOKUP(SD$8,DEBUT!$AB$4:$BP$78,3,FALSE),DEBUT!$CP$2:$DI$18,5,FALSE),\"\")","v":""},{"$f":"IFERROR(HLOOKUP(HLOOKUP(SD$8,DEBUT!$AB$4:$BP$78,3,FALSE),DEBUT!$CP$2:$DI$18,9,FALSE),\"\")","v":""},{"$f":"IFERROR(HLOOKUP(HLOOKUP(SD$8,DEBUT!$AB$4:$BP$78,3,FALSE),DEBUT!$CP$2:$DI$18,13,FALSE),\"\")","v":""},{"$f":"IFERROR(HLOOKUP(HLOOKUP(SD$8,DEBUT!$AB$4:$BP$78,3,FALSE),DEBUT!$CP$2:$DI$18,17,FALSE),\"\")","v":""},null,null,null,{"$f":"IFERROR(HLOOKUP(HLOOKUP(SK$8,DEBUT!$AB$4:$BP$78,3,FALSE),DEBUT!$CP$2:$DI$18,5,FALSE),\"\")","v":""},{"$f":"IFERROR(HLOOKUP(HLOOKUP(SK$8,DEBUT!$AB$4:$BP$78,3,FALSE),DEBUT!$CP$2:$DI$18,9,FALSE),\"\")","v":""},{"$f":"IFERROR(HLOOKUP(HLOOKUP(SK$8,DEBUT!$AB$4:$BP$78,3,FALSE),DEBUT!$CP$2:$DI$18,13,FALSE),\"\")","v":""},{"$f":"IFERROR(HLOOKUP(HLOOKUP(SK$8,DEBUT!$AB$4:$BP$78,3,FALSE),DEBUT!$CP$2:$DI$18,17,FALSE),\"\")","v":""},null,null,null,null,null,null,null,{"$f":"IFERROR(HLOOKUP(HLOOKUP(SV$8,DEBUT!$AB$4:$BP$78,3,FALSE),DEBUT!$CP$2:$DI$18,5,FALSE),\"\")","v":""},{"$f":"IFERROR(HLOOKUP(HLOOKUP(SV$8,DEBUT!$AB$4:$BP$78,3,FALSE),DEBUT!$CP$2:$DI$18,9,FALSE),\"\")","v":""},{"$f":"IFERROR(HLOOKUP(HLOOKUP(SV$8,DEBUT!$AB$4:$BP$78,3,FALSE),DEBUT!$CP$2:$DI$18,13,FALSE),\"\")","v":""},{"$f":"IFERROR(HLOOKUP(HLOOKUP(SV$8,DEBUT!$AB$4:$BP$78,3,FALSE),DEBUT!$CP$2:$DI$18,17,FALSE),\"\")","v":""},null,null,null,{"$f":"IFERROR(HLOOKUP(HLOOKUP(TC$8,DEBUT!$AB$4:$BP$78,3,FALSE),DEBUT!$CP$2:$DI$18,5,FALSE),\"\")","v":""},{"$f":"IFERROR(HLOOKUP(HLOOKUP(TC$8,DEBUT!$AB$4:$BP$78,3,FALSE),DEBUT!$CP$2:$DI$18,9,FALSE),\"\")","v":""},{"$f":"IFERROR(HLOOKUP(HLOOKUP(TC$8,DEBUT!$AB$4:$BP$78,3,FALSE),DEBUT!$CP$2:$DI$18,13,FALSE),\"\")","v":""},{"$f":"IFERROR(HLOOKUP(HLOOKUP(TC$8,DEBUT!$AB$4:$BP$78,3,FALSE),DEBUT!$CP$2:$DI$18,17,FALSE),\"\")","v":""},null,null,null,null,null,{"$f":"IFERROR(HLOOKUP(HLOOKUP(TL$8,DEBUT!$AB$4:$BP$78,3,FALSE),DEBUT!$CP$2:$DI$18,5,FALSE),\"\")","v":""},{"$f":"IFERROR(HLOOKUP(HLOOKUP(TL$8,DEBUT!$AB$4:$BP$78,3,FALSE),DEBUT!$CP$2:$DI$18,9,FALSE),\"\")","v":""},{"$f":"IFERROR(HLOOKUP(HLOOKUP(TL$8,DEBUT!$AB$4:$BP$78,3,FALSE),DEBUT!$CP$2:$DI$18,13,FALSE),\"\")","v":""},{"$f":"IFERROR(HLOOKUP(HLOOKUP(TL$8,DEBUT!$AB$4:$BP$78,3,FALSE),DEBUT!$CP$2:$DI$18,17,FALSE),\"\")","v":""},null,null,null,{"$f":"IFERROR(HLOOKUP(HLOOKUP(TS$8,DEBUT!$AB$4:$BP$78,3,FALSE),DEBUT!$CP$2:$DI$18,5,FALSE),\"\")","v":""},{"$f":"IFERROR(HLOOKUP(HLOOKUP(TS$8,DEBUT!$AB$4:$BP$78,3,FALSE),DEBUT!$CP$2:$DI$18,9,FALSE),\"\")","v":""},{"$f":"IFERROR(HLOOKUP(HLOOKUP(TS$8,DEBUT!$AB$4:$BP$78,3,FALSE),DEBUT!$CP$2:$DI$18,13,FALSE),\"\")","v":""},{"$f":"IFERROR(HLOOKUP(HLOOKUP(TS$8,DEBUT!$AB$4:$BP$78,3,FALSE),DEBUT!$CP$2:$DI$18,17,FALSE),\"\")","v":""},null,null,null,null,null,null,null,{"$f":"IFERROR(HLOOKUP(HLOOKUP(UD$8,DEBUT!$AB$4:$BP$78,3,FALSE),DEBUT!$CP$2:$DI$18,5,FALSE),\"\")","v":""},{"$f":"IFERROR(HLOOKUP(HLOOKUP(UD$8,DEBUT!$AB$4:$BP$78,3,FALSE),DEBUT!$CP$2:$DI$18,9,FALSE),\"\")","v":""},{"$f":"IFERROR(HLOOKUP(HLOOKUP(UD$8,DEBUT!$AB$4:$BP$78,3,FALSE),DEBUT!$CP$2:$DI$18,13,FALSE),\"\")","v":""},{"$f":"IFERROR(HLOOKUP(HLOOKUP(UD$8,DEBUT!$AB$4:$BP$78,3,FALSE),DEBUT!$CP$2:$DI$18,17,FALSE),\"\")","v":""},null,null,null,{"$f":"IFERROR(HLOOKUP(HLOOKUP(UK$8,DEBUT!$AB$4:$BP$78,3,FALSE),DEBUT!$CP$2:$DI$18,5,FALSE),\"\")","v":""},{"$f":"IFERROR(HLOOKUP(HLOOKUP(UK$8,DEBUT!$AB$4:$BP$78,3,FALSE),DEBUT!$CP$2:$DI$18,9,FALSE),\"\")","v":""},{"$f":"IFERROR(HLOOKUP(HLOOKUP(UK$8,DEBUT!$AB$4:$BP$78,3,FALSE),DEBUT!$CP$2:$DI$18,13,FALSE),\"\")","v":""},{"$f":"IFERROR(HLOOKUP(HLOOKUP(UK$8,DEBUT!$AB$4:$BP$78,3,FALSE),DEBUT!$CP$2:$DI$18,17,FALSE),\"\")","v":""},null,null,null,null,null,{"$f":"IFERROR(HLOOKUP(HLOOKUP(UT$8,DEBUT!$AB$4:$BP$78,3,FALSE),DEBUT!$CP$2:$DI$18,5,FALSE),\"\")","v":""},{"$f":"IFERROR(HLOOKUP(HLOOKUP(UT$8,DEBUT!$AB$4:$BP$78,3,FALSE),DEBUT!$CP$2:$DI$18,9,FALSE),\"\")","v":""},{"$f":"IFERROR(HLOOKUP(HLOOKUP(UT$8,DEBUT!$AB$4:$BP$78,3,FALSE),DEBUT!$CP$2:$DI$18,13,FALSE),\"\")","v":""},{"$f":"IFERROR(HLOOKUP(HLOOKUP(UT$8,DEBUT!$AB$4:$BP$78,3,FALSE),DEBUT!$CP$2:$DI$18,17,FALSE),\"\")","v":""},null,null,null,{"$f":"IFERROR(HLOOKUP(HLOOKUP(VA$8,DEBUT!$AB$4:$BP$78,3,FALSE),DEBUT!$CP$2:$DI$18,5,FALSE),\"\")","v":""},{"$f":"IFERROR(HLOOKUP(HLOOKUP(VA$8,DEBUT!$AB$4:$BP$78,3,FALSE),DEBUT!$CP$2:$DI$18,9,FALSE),\"\")","v":""},{"$f":"IFERROR(HLOOKUP(HLOOKUP(VA$8,DEBUT!$AB$4:$BP$78,3,FALSE),DEBUT!$CP$2:$DI$18,13,FALSE),\"\")","v":""},{"$f":"IFERROR(HLOOKUP(HLOOKUP(VA$8,DEBUT!$AB$4:$BP$78,3,FALSE),DEBUT!$CP$2:$DI$18,17,FALSE),\"\")","v":""},null,null,null,null,null,null,null,{"$f":"IFERROR(HLOOKUP(HLOOKUP(VL$8,DEBUT!$AB$4:$BP$78,3,FALSE),DEBUT!$CP$2:$DI$18,5,FALSE),\"\")","v":""},{"$f":"IFERROR(HLOOKUP(HLOOKUP(VL$8,DEBUT!$AB$4:$BP$78,3,FALSE),DEBUT!$CP$2:$DI$18,9,FALSE),\"\")","v":""},{"$f":"IFERROR(HLOOKUP(HLOOKUP(VL$8,DEBUT!$AB$4:$BP$78,3,FALSE),DEBUT!$CP$2:$DI$18,13,FALSE),\"\")","v":""},{"$f":"IFERROR(HLOOKUP(HLOOKUP(VL$8,DEBUT!$AB$4:$BP$78,3,FALSE),DEBUT!$CP$2:$DI$18,17,FALSE),\"\")","v":""},null,null,null,{"$f":"IFERROR(HLOOKUP(HLOOKUP(VS$8,DEBUT!$AB$4:$BP$78,3,FALSE),DEBUT!$CP$2:$DI$18,5,FALSE),\"\")","v":""},{"$f":"IFERROR(HLOOKUP(HLOOKUP(VS$8,DEBUT!$AB$4:$BP$78,3,FALSE),DEBUT!$CP$2:$DI$18,9,FALSE),\"\")","v":""},{"$f":"IFERROR(HLOOKUP(HLOOKUP(VS$8,DEBUT!$AB$4:$BP$78,3,FALSE),DEBUT!$CP$2:$DI$18,13,FALSE),\"\")","v":""},{"$f":"IFERROR(HLOOKUP(HLOOKUP(VS$8,DEBUT!$AB$4:$BP$78,3,FALSE),DEBUT!$CP$2:$DI$18,17,FALSE),\"\")","v":""},null,null,null,null,null,{"$f":"IFERROR(HLOOKUP(HLOOKUP(WB$8,DEBUT!$AB$4:$BP$78,3,FALSE),DEBUT!$CP$2:$DI$18,5,FALSE),\"\")","v":""},{"$f":"IFERROR(HLOOKUP(HLOOKUP(WB$8,DEBUT!$AB$4:$BP$78,3,FALSE),DEBUT!$CP$2:$DI$18,9,FALSE),\"\")","v":""},{"$f":"IFERROR(HLOOKUP(HLOOKUP(WB$8,DEBUT!$AB$4:$BP$78,3,FALSE),DEBUT!$CP$2:$DI$18,13,FALSE),\"\")","v":""},{"$f":"IFERROR(HLOOKUP(HLOOKUP(WB$8,DEBUT!$AB$4:$BP$78,3,FALSE),DEBUT!$CP$2:$DI$18,17,FALSE),\"\")","v":""},null,null,null,{"$f":"IFERROR(HLOOKUP(HLOOKUP(WI$8,DEBUT!$AB$4:$BP$78,3,FALSE),DEBUT!$CP$2:$DI$18,5,FALSE),\"\")","v":""},{"$f":"IFERROR(HLOOKUP(HLOOKUP(WI$8,DEBUT!$AB$4:$BP$78,3,FALSE),DEBUT!$CP$2:$DI$18,9,FALSE),\"\")","v":""},{"$f":"IFERROR(HLOOKUP(HLOOKUP(WI$8,DEBUT!$AB$4:$BP$78,3,FALSE),DEBUT!$CP$2:$DI$18,13,FALSE),\"\")","v":""},{"$f":"IFERROR(HLOOKUP(HLOOKUP(WI$8,DEBUT!$AB$4:$BP$78,3,FALSE),DEBUT!$CP$2:$DI$18,17,FALSE),\"\")","v":""},null,null,null,null,null,null,null,{"$f":"IFERROR(HLOOKUP(HLOOKUP(WT$8,DEBUT!$AB$4:$BP$78,3,FALSE),DEBUT!$CP$2:$DI$18,5,FALSE),\"\")","v":""},{"$f":"IFERROR(HLOOKUP(HLOOKUP(WT$8,DEBUT!$AB$4:$BP$78,3,FALSE),DEBUT!$CP$2:$DI$18,9,FALSE),\"\")","v":""},{"$f":"IFERROR(HLOOKUP(HLOOKUP(WT$8,DEBUT!$AB$4:$BP$78,3,FALSE),DEBUT!$CP$2:$DI$18,13,FALSE),\"\")","v":""},{"$f":"IFERROR(HLOOKUP(HLOOKUP(WT$8,DEBUT!$AB$4:$BP$78,3,FALSE),DEBUT!$CP$2:$DI$18,17,FALSE),\"\")","v":""},null,null,null,{"$f":"IFERROR(HLOOKUP(HLOOKUP(XA$8,DEBUT!$AB$4:$BP$78,3,FALSE),DEBUT!$CP$2:$DI$18,5,FALSE),\"\")","v":""},{"$f":"IFERROR(HLOOKUP(HLOOKUP(XA$8,DEBUT!$AB$4:$BP$78,3,FALSE),DEBUT!$CP$2:$DI$18,9,FALSE),\"\")","v":""},{"$f":"IFERROR(HLOOKUP(HLOOKUP(XA$8,DEBUT!$AB$4:$BP$78,3,FALSE),DEBUT!$CP$2:$DI$18,13,FALSE),\"\")","v":""},{"$f":"IFERROR(HLOOKUP(HLOOKUP(XA$8,DEBUT!$AB$4:$BP$78,3,FALSE),DEBUT!$CP$2:$DI$18,17,FALSE),\"\")","v":""},null,null,null,null,null,{"$f":"IFERROR(HLOOKUP(HLOOKUP(XJ$8,DEBUT!$AB$4:$BP$78,3,FALSE),DEBUT!$CP$2:$DI$18,5,FALSE),\"\")","v":""},{"$f":"IFERROR(HLOOKUP(HLOOKUP(XJ$8,DEBUT!$AB$4:$BP$78,3,FALSE),DEBUT!$CP$2:$DI$18,9,FALSE),\"\")","v":""},{"$f":"IFERROR(HLOOKUP(HLOOKUP(XJ$8,DEBUT!$AB$4:$BP$78,3,FALSE),DEBUT!$CP$2:$DI$18,13,FALSE),\"\")","v":""},{"$f":"IFERROR(HLOOKUP(HLOOKUP(XJ$8,DEBUT!$AB$4:$BP$78,3,FALSE),DEBUT!$CP$2:$DI$18,17,FALSE),\"\")","v":""},null,null,null,{"$f":"IFERROR(HLOOKUP(HLOOKUP(XQ$8,DEBUT!$AB$4:$BP$78,3,FALSE),DEBUT!$CP$2:$DI$18,5,FALSE),\"\")","v":""},{"$f":"IFERROR(HLOOKUP(HLOOKUP(XQ$8,DEBUT!$AB$4:$BP$78,3,FALSE),DEBUT!$CP$2:$DI$18,9,FALSE),\"\")","v":""},{"$f":"IFERROR(HLOOKUP(HLOOKUP(XQ$8,DEBUT!$AB$4:$BP$78,3,FALSE),DEBUT!$CP$2:$DI$18,13,FALSE),\"\")","v":""},{"$f":"IFERROR(HLOOKUP(HLOOKUP(XQ$8,DEBUT!$AB$4:$BP$78,3,FALSE),DEBUT!$CP$2:$DI$18,17,FALSE),\"\")","v":""},null,null,null,null,null,null,null,{"$f":"IFERROR(HLOOKUP(HLOOKUP(YB$8,DEBUT!$AB$4:$BP$78,3,FALSE),DEBUT!$CP$2:$DI$18,5,FALSE),\"\")","v":""},{"$f":"IFERROR(HLOOKUP(HLOOKUP(YB$8,DEBUT!$AB$4:$BP$78,3,FALSE),DEBUT!$CP$2:$DI$18,9,FALSE),\"\")","v":""},{"$f":"IFERROR(HLOOKUP(HLOOKUP(YB$8,DEBUT!$AB$4:$BP$78,3,FALSE),DEBUT!$CP$2:$DI$18,13,FALSE),\"\")","v":""},{"$f":"IFERROR(HLOOKUP(HLOOKUP(YB$8,DEBUT!$AB$4:$BP$78,3,FALSE),DEBUT!$CP$2:$DI$18,17,FALSE),\"\")","v":""},null,null,null,{"$f":"IFERROR(HLOOKUP(HLOOKUP(YI$8,DEBUT!$AB$4:$BP$78,3,FALSE),DEBUT!$CP$2:$DI$18,5,FALSE),\"\")","v":""},{"$f":"IFERROR(HLOOKUP(HLOOKUP(YI$8,DEBUT!$AB$4:$BP$78,3,FALSE),DEBUT!$CP$2:$DI$18,9,FALSE),\"\")","v":""},{"$f":"IFERROR(HLOOKUP(HLOOKUP(YI$8,DEBUT!$AB$4:$BP$78,3,FALSE),DEBUT!$CP$2:$DI$18,13,FALSE),\"\")","v":""},{"$f":"IFERROR(HLOOKUP(HLOOKUP(YI$8,DEBUT!$AB$4:$BP$78,3,FALSE),DEBUT!$CP$2:$DI$18,17,FALSE),\"\")","v":""},null,null,null,null,null,{"$f":"IFERROR(HLOOKUP(HLOOKUP(YR$8,DEBUT!$AB$4:$BP$78,3,FALSE),DEBUT!$CP$2:$DI$18,5,FALSE),\"\")","v":""},{"$f":"IFERROR(HLOOKUP(HLOOKUP(YR$8,DEBUT!$AB$4:$BP$78,3,FALSE),DEBUT!$CP$2:$DI$18,9,FALSE),\"\")","v":""},{"$f":"IFERROR(HLOOKUP(HLOOKUP(YR$8,DEBUT!$AB$4:$BP$78,3,FALSE),DEBUT!$CP$2:$DI$18,13,FALSE),\"\")","v":""},{"$f":"IFERROR(HLOOKUP(HLOOKUP(YR$8,DEBUT!$AB$4:$BP$78,3,FALSE),DEBUT!$CP$2:$DI$18,17,FALSE),\"\")","v":""},null,null,null,{"$f":"IFERROR(HLOOKUP(HLOOKUP(YY$8,DEBUT!$AB$4:$BP$78,3,FALSE),DEBUT!$CP$2:$DI$18,5,FALSE),\"\")","v":""},{"$f":"IFERROR(HLOOKUP(HLOOKUP(YY$8,DEBUT!$AB$4:$BP$78,3,FALSE),DEBUT!$CP$2:$DI$18,9,FALSE),\"\")","v":""},{"$f":"IFERROR(HLOOKUP(HLOOKUP(YY$8,DEBUT!$AB$4:$BP$78,3,FALSE),DEBUT!$CP$2:$DI$18,13,FALSE),\"\")","v":""},{"$f":"IFERROR(HLOOKUP(HLOOKUP(YY$8,DEBUT!$AB$4:$BP$78,3,FALSE),DEBUT!$CP$2:$DI$18,17,FALSE),\"\")","v":""},null,null,null,null,null,null,null,{"$f":"IFERROR(HLOOKUP(HLOOKUP(ZJ$8,DEBUT!$AB$4:$BP$78,3,FALSE),DEBUT!$CP$2:$DI$18,5,FALSE),\"\")","v":""},{"$f":"IFERROR(HLOOKUP(HLOOKUP(ZJ$8,DEBUT!$AB$4:$BP$78,3,FALSE),DEBUT!$CP$2:$DI$18,9,FALSE),\"\")","v":""},{"$f":"IFERROR(HLOOKUP(HLOOKUP(ZJ$8,DEBUT!$AB$4:$BP$78,3,FALSE),DEBUT!$CP$2:$DI$18,13,FALSE),\"\")","v":""},{"$f":"IFERROR(HLOOKUP(HLOOKUP(ZJ$8,DEBUT!$AB$4:$BP$78,3,FALSE),DEBUT!$CP$2:$DI$18,17,FALSE),\"\")","v":""},null,null,null,{"$f":"IFERROR(HLOOKUP(HLOOKUP(ZQ$8,DEBUT!$AB$4:$BP$78,3,FALSE),DEBUT!$CP$2:$DI$18,5,FALSE),\"\")","v":""},{"$f":"IFERROR(HLOOKUP(HLOOKUP(ZQ$8,DEBUT!$AB$4:$BP$78,3,FALSE),DEBUT!$CP$2:$DI$18,9,FALSE),\"\")","v":""},{"$f":"IFERROR(HLOOKUP(HLOOKUP(ZQ$8,DEBUT!$AB$4:$BP$78,3,FALSE),DEBUT!$CP$2:$DI$18,13,FALSE),\"\")","v":""},{"$f":"IFERROR(HLOOKUP(HLOOKUP(ZQ$8,DEBUT!$AB$4:$BP$78,3,FALSE),DEBUT!$CP$2:$DI$18,17,FALSE),\"\")","v":""},null,null,null,null,null,{"$f":"IFERROR(HLOOKUP(HLOOKUP(ZZ$8,DEBUT!$AB$4:$BP$78,3,FALSE),DEBUT!$CP$2:$DI$18,5,FALSE),\"\")","v":""},{"$f":"IFERROR(HLOOKUP(HLOOKUP(ZZ$8,DEBUT!$AB$4:$BP$78,3,FALSE),DEBUT!$CP$2:$DI$18,9,FALSE),\"\")","v":""},{"$f":"IFERROR(HLOOKUP(HLOOKUP(ZZ$8,DEBUT!$AB$4:$BP$78,3,FALSE),DEBUT!$CP$2:$DI$18,13,FALSE),\"\")","v":""},{"$f":"IFERROR(HLOOKUP(HLOOKUP(ZZ$8,DEBUT!$AB$4:$BP$78,3,FALSE),DEBUT!$CP$2:$DI$18,17,FALSE),\"\")","v":""},null,null,null,{"$f":"IFERROR(HLOOKUP(HLOOKUP(AAG$8,DEBUT!$AB$4:$BP$78,3,FALSE),DEBUT!$CP$2:$DI$18,5,FALSE),\"\")","v":""},{"$f":"IFERROR(HLOOKUP(HLOOKUP(AAG$8,DEBUT!$AB$4:$BP$78,3,FALSE),DEBUT!$CP$2:$DI$18,9,FALSE),\"\")","v":""},{"$f":"IFERROR(HLOOKUP(HLOOKUP(AAG$8,DEBUT!$AB$4:$BP$78,3,FALSE),DEBUT!$CP$2:$DI$18,13,FALSE),\"\")","v":""},{"$f":"IFERROR(HLOOKUP(HLOOKUP(AAG$8,DEBUT!$AB$4:$BP$78,3,FALSE),DEBUT!$CP$2:$DI$18,17,FALSE),\"\")","v":""},null,null,null,null,null,null,null,{"$f":"IFERROR(HLOOKUP(HLOOKUP(AAR$8,DEBUT!$AB$4:$BP$78,3,FALSE),DEBUT!$CP$2:$DI$18,5,FALSE),\"\")","v":""},{"$f":"IFERROR(HLOOKUP(HLOOKUP(AAR$8,DEBUT!$AB$4:$BP$78,3,FALSE),DEBUT!$CP$2:$DI$18,9,FALSE),\"\")","v":""},{"$f":"IFERROR(HLOOKUP(HLOOKUP(AAR$8,DEBUT!$AB$4:$BP$78,3,FALSE),DEBUT!$CP$2:$DI$18,13,FALSE),\"\")","v":""},{"$f":"IFERROR(HLOOKUP(HLOOKUP(AAR$8,DEBUT!$AB$4:$BP$78,3,FALSE),DEBUT!$CP$2:$DI$18,17,FALSE),\"\")","v":""},null,null,null,{"$f":"IFERROR(HLOOKUP(HLOOKUP(AAY$8,DEBUT!$AB$4:$BP$78,3,FALSE),DEBUT!$CP$2:$DI$18,5,FALSE),\"\")","v":""},{"$f":"IFERROR(HLOOKUP(HLOOKUP(AAY$8,DEBUT!$AB$4:$BP$78,3,FALSE),DEBUT!$CP$2:$DI$18,9,FALSE),\"\")","v":""},{"$f":"IFERROR(HLOOKUP(HLOOKUP(AAY$8,DEBUT!$AB$4:$BP$78,3,FALSE),DEBUT!$CP$2:$DI$18,13,FALSE),\"\")","v":""},{"$f":"IFERROR(HLOOKUP(HLOOKUP(AAY$8,DEBUT!$AB$4:$BP$78,3,FALSE),DEBUT!$CP$2:$DI$18,17,FALSE),\"\")","v":""},null,null,null,null,null,{"$f":"IFERROR(HLOOKUP(HLOOKUP(ABH$8,DEBUT!$AB$4:$BP$78,3,FALSE),DEBUT!$CP$2:$DI$18,5,FALSE),\"\")","v":""},{"$f":"IFERROR(HLOOKUP(HLOOKUP(ABH$8,DEBUT!$AB$4:$BP$78,3,FALSE),DEBUT!$CP$2:$DI$18,9,FALSE),\"\")","v":""},{"$f":"IFERROR(HLOOKUP(HLOOKUP(ABH$8,DEBUT!$AB$4:$BP$78,3,FALSE),DEBUT!$CP$2:$DI$18,13,FALSE),\"\")","v":""},{"$f":"IFERROR(HLOOKUP(HLOOKUP(ABH$8,DEBUT!$AB$4:$BP$78,3,FALSE),DEBUT!$CP$2:$DI$18,17,FALSE),\"\")","v":""},null,null,null,{"$f":"IFERROR(HLOOKUP(HLOOKUP(ABO$8,DEBUT!$AB$4:$BP$78,3,FALSE),DEBUT!$CP$2:$DI$18,5,FALSE),\"\")","v":""},{"$f":"IFERROR(HLOOKUP(HLOOKUP(ABO$8,DEBUT!$AB$4:$BP$78,3,FALSE),DEBUT!$CP$2:$DI$18,9,FALSE),\"\")","v":""},{"$f":"IFERROR(HLOOKUP(HLOOKUP(ABO$8,DEBUT!$AB$4:$BP$78,3,FALSE),DEBUT!$CP$2:$DI$18,13,FALSE),\"\")","v":""},{"$f":"IFERROR(HLOOKUP(HLOOKUP(ABO$8,DEBUT!$AB$4:$BP$78,3,FALSE),DEBUT!$CP$2:$DI$18,17,FALSE),\"\")","v":""},null,null,null,null,null,null,null,{"$f":"IFERROR(HLOOKUP(HLOOKUP(ABZ$8,DEBUT!$AB$4:$BP$78,3,FALSE),DEBUT!$CP$2:$DI$18,5,FALSE),\"\")","v":""},{"$f":"IFERROR(HLOOKUP(HLOOKUP(ABZ$8,DEBUT!$AB$4:$BP$78,3,FALSE),DEBUT!$CP$2:$DI$18,9,FALSE),\"\")","v":""},{"$f":"IFERROR(HLOOKUP(HLOOKUP(ABZ$8,DEBUT!$AB$4:$BP$78,3,FALSE),DEBUT!$CP$2:$DI$18,13,FALSE),\"\")","v":""},{"$f":"IFERROR(HLOOKUP(HLOOKUP(ABZ$8,DEBUT!$AB$4:$BP$78,3,FALSE),DEBUT!$CP$2:$DI$18,17,FALSE),\"\")","v":""},null,null,null,{"$f":"IFERROR(HLOOKUP(HLOOKUP(ACG$8,DEBUT!$AB$4:$BP$78,3,FALSE),DEBUT!$CP$2:$DI$18,5,FALSE),\"\")","v":""},{"$f":"IFERROR(HLOOKUP(HLOOKUP(ACG$8,DEBUT!$AB$4:$BP$78,3,FALSE),DEBUT!$CP$2:$DI$18,9,FALSE),\"\")","v":""},{"$f":"IFERROR(HLOOKUP(HLOOKUP(ACG$8,DEBUT!$AB$4:$BP$78,3,FALSE),DEBUT!$CP$2:$DI$18,13,FALSE),\"\")","v":""},{"$f":"IFERROR(HLOOKUP(HLOOKUP(ACG$8,DEBUT!$AB$4:$BP$78,3,FALSE),DEBUT!$CP$2:$DI$18,17,FALSE),\"\")","v":""},null,null,null,null,null,{"$f":"IFERROR(HLOOKUP(HLOOKUP(ACP$8,DEBUT!$AB$4:$BP$78,3,FALSE),DEBUT!$CP$2:$DI$18,5,FALSE),\"\")","v":""},{"$f":"IFERROR(HLOOKUP(HLOOKUP(ACP$8,DEBUT!$AB$4:$BP$78,3,FALSE),DEBUT!$CP$2:$DI$18,9,FALSE),\"\")","v":""},{"$f":"IFERROR(HLOOKUP(HLOOKUP(ACP$8,DEBUT!$AB$4:$BP$78,3,FALSE),DEBUT!$CP$2:$DI$18,13,FALSE),\"\")","v":""},{"$f":"IFERROR(HLOOKUP(HLOOKUP(ACP$8,DEBUT!$AB$4:$BP$78,3,FALSE),DEBUT!$CP$2:$DI$18,17,FALSE),\"\")","v":""},null,null,null,{"$f":"IFERROR(HLOOKUP(HLOOKUP(ACW$8,DEBUT!$AB$4:$BP$78,3,FALSE),DEBUT!$CP$2:$DI$18,5,FALSE),\"\")","v":""},{"$f":"IFERROR(HLOOKUP(HLOOKUP(ACW$8,DEBUT!$AB$4:$BP$78,3,FALSE),DEBUT!$CP$2:$DI$18,9,FALSE),\"\")","v":""},{"$f":"IFERROR(HLOOKUP(HLOOKUP(ACW$8,DEBUT!$AB$4:$BP$78,3,FALSE),DEBUT!$CP$2:$DI$18,13,FALSE),\"\")","v":""},{"$f":"IFERROR(HLOOKUP(HLOOKUP(ACW$8,DEBUT!$AB$4:$BP$78,3,FALSE),DEBUT!$CP$2:$DI$18,17,FALSE),\"\")","v":""},null,null,null,null,null,null,null,{"$f":"IFERROR(HLOOKUP(HLOOKUP(ADH$8,DEBUT!$AB$4:$BP$78,3,FALSE),DEBUT!$CP$2:$DI$18,5,FALSE),\"\")","v":""},{"$f":"IFERROR(HLOOKUP(HLOOKUP(ADH$8,DEBUT!$AB$4:$BP$78,3,FALSE),DEBUT!$CP$2:$DI$18,9,FALSE),\"\")","v":""},{"$f":"IFERROR(HLOOKUP(HLOOKUP(ADH$8,DEBUT!$AB$4:$BP$78,3,FALSE),DEBUT!$CP$2:$DI$18,13,FALSE),\"\")","v":""},{"$f":"IFERROR(HLOOKUP(HLOOKUP(ADH$8,DEBUT!$AB$4:$BP$78,3,FALSE),DEBUT!$CP$2:$DI$18,17,FALSE),\"\")","v":""},null,null,null,{"$f":"IFERROR(HLOOKUP(HLOOKUP(ADO$8,DEBUT!$AB$4:$BP$78,3,FALSE),DEBUT!$CP$2:$DI$18,5,FALSE),\"\")","v":""},{"$f":"IFERROR(HLOOKUP(HLOOKUP(ADO$8,DEBUT!$AB$4:$BP$78,3,FALSE),DEBUT!$CP$2:$DI$18,9,FALSE),\"\")","v":""},{"$f":"IFERROR(HLOOKUP(HLOOKUP(ADO$8,DEBUT!$AB$4:$BP$78,3,FALSE),DEBUT!$CP$2:$DI$18,13,FALSE),\"\")","v":""},{"$f":"IFERROR(HLOOKUP(HLOOKUP(ADO$8,DEBUT!$AB$4:$BP$78,3,FALSE),DEBUT!$CP$2:$DI$18,17,FALSE),\"\")","v":""},null,null,null,null,null,{"$f":"IFERROR(HLOOKUP(HLOOKUP(ADX$8,DEBUT!$AB$4:$BP$78,3,FALSE),DEBUT!$CP$2:$DI$18,5,FALSE),\"\")","v":""},{"$f":"IFERROR(HLOOKUP(HLOOKUP(ADX$8,DEBUT!$AB$4:$BP$78,3,FALSE),DEBUT!$CP$2:$DI$18,9,FALSE),\"\")","v":""},{"$f":"IFERROR(HLOOKUP(HLOOKUP(ADX$8,DEBUT!$AB$4:$BP$78,3,FALSE),DEBUT!$CP$2:$DI$18,13,FALSE),\"\")","v":""},{"$f":"IFERROR(HLOOKUP(HLOOKUP(ADX$8,DEBUT!$AB$4:$BP$78,3,FALSE),DEBUT!$CP$2:$DI$18,17,FALSE),\"\")","v":""},null,null,null,{"$f":"IFERROR(HLOOKUP(HLOOKUP(AEE$8,DEBUT!$AB$4:$BP$78,3,FALSE),DEBUT!$CP$2:$DI$18,5,FALSE),\"\")","v":""},{"$f":"IFERROR(HLOOKUP(HLOOKUP(AEE$8,DEBUT!$AB$4:$BP$78,3,FALSE),DEBUT!$CP$2:$DI$18,9,FALSE),\"\")","v":""},{"$f":"IFERROR(HLOOKUP(HLOOKUP(AEE$8,DEBUT!$AB$4:$BP$78,3,FALSE),DEBUT!$CP$2:$DI$18,13,FALSE),\"\")","v":""},{"$f":"IFERROR(HLOOKUP(HLOOKUP(AEE$8,DEBUT!$AB$4:$BP$78,3,FALSE),DEBUT!$CP$2:$DI$18,17,FALSE),\"\")","v":""}]
[]
[null,null,null,null,null,null,null,null,null,null,null,null,null,null,null,null,null,null,null,null,null,null,null,null,null,null,null,null,null,null,null,null,null,null,null,"NOUVEAU MATCH",null,null,null,null,null,null,null,null,null,null,null,null,null,null,null,null,null,null,null,null,null,null,null,null,null,null,null,null,null,null,null,null,null,"NOUVEAU MATCH",null,null,null,null,null,null,null,null,null,null,null,null,null,null,null,null,null,null,null,null,null,null,null,null,null,null,null,null,null,null,null,null,null,"NOUVEAU MATCH",null,null,null,null,null,null,null,null,null,null,null,null,null,null,null,null,null,null,null,null,null,null,null,null,null,null,null,null,null,null,null,null,null,"NOUVEAU MATCH",null,null,null,null,null,null,null,null,null,null,null,null,null,null,null,null,null,null,null,null,null,null,null,null,null,null,null,null,null,null,null,null,null,"NOUVEAU MATCH",null,null,null,null,null,null,null,null,null,null,null,null,null,null,null,null,null,null,null,null,null,null,null,null,null,null,null,null,null,null,null,null,null,"NOUVEAU MATCH",null,null,null,null,null,null,null,null,null,null,null,null,null,null,null,null,null,null,null,null,null,null,null,null,null,null,null,null,null,null,null,null,null,"NOUVEAU MATCH",null,null,null,null,null,null,null,null,null,null,null,null,null,null,null,null,null,null,null,null,null,null,null,null,null,null,null,null,null,null,null,null,null,"NOUVEAU MATCH",null,null,null,null,null,null,null,null,null,null,null,null,null,null,null,null,null,null,null,null,null,null,null,null,null,null,null,null,null,null,null,null,null,"NOUVEAU MATCH",null,null,null,null,null,null,null,null,null,null,null,null,null,null,null,null,null,null,null,null,null,null,null,null,null,null,null,null,null,null,null,null,null,"NOUVEAU MATCH",null,null,null,null,null,null,null,null,null,null,null,null,null,null,null,null,null,null,null,null,null,null,null,null,null,null,null,null,null,null,null,null,null,"NOUVEAU MATCH",null,null,null,null,null,null,null,null,null,null,null,null,null,null,null,null,null,null,null,null,null,null,null,null,null,null,null,null,null,null,null,null,null,"NOUVEAU MATCH",null,null,null,null,null,null,null,null,null,null,null,null,null,null,null,null,null,null,null,null,null,null,null,null,null,null,null,null,null,null,null,null,null,"NOUVEAU MATCH",null,null,null,null,null,null,null,null,null,null,null,null,null,null,null,null,null,null,null,null,null,null,null,null,null,null,null,null,null,null,null,null,null,"NOUVEAU MATCH",null,null,null,null,null,null,null,null,null,null,null,null,null,null,null,null,null,null,null,null,null,null,null,null,null,null,null,null,null,null,null,null,null,"NOUVEAU MATCH",null,null,null,null,null,null,null,null,null,null,null,null,null,null,null,null,null,null,null,null,null,null,null,null,null,null,null,null,null,null,null,null,null,"NOUVEAU MATCH",null,null,null,null,null,null,null,null,null,null,null,null,null,null,null,null,null,null,null,null,null,null,null,null,null,null,null,null,null,null,null,null,null,"NOUVEAU MATCH",null,null,null,null,null,null,null,null,null,null,null,null,null,null,null,null,null,null,null,null,null,null,null,null,null,null,null,null,null,null,null,null,null,"NOUVEAU MATCH",null,null,null,null,null,null,null,null,null,null,null,null,null,null,null,null,null,null,null,null,null,null,null,null,null,null,null,null,null,null,null,null,null,"NOUVEAU MATCH",null,null,null,null,null,null,null,null,null,null,null,null,null,null,null,null,null,null,null,null,null,null,null,null,null,null,null,null,null,null,null,null,null,"NOUVEAU MATCH",null,null,null,null,null,null,null,null,null,null,null,null,null,null,null,null,null,null,null,null,null,null,null,null,null,null,null,null,null,null,null,null,null,"NOUVEAU MATCH",null,null,null,null,null,null,null,null,null,null,null,null,null,null,null,null,null,null,null,null,null,null,null,null,null,null,null,null,null,null,null,null,null,"NOUVEAU MATCH",null,null,null,null,null,null,null,null,null,null,null,null,null,null,null,null,null,null,null,null,null,null,null,null,null,null,null,null,null,null,null,null,null,"NOUVEAU MATCH",null,null,null,null,null,null,null,null,null,null,null,null,null,null,null,null,null,null,null,null,null,null,null,null,null,null,null,null,null,null,null,null,null,"NOUVEAU MATCH"]
[null,"DESAVANTAGES POSSIBLES",null,null,null,"Désavantage",null,null,null,null,null,null,"Désavantage",null,null,null,null,null,null,null,null,"Désavantage",null,null,null,null,null,null,"Désavantage",null,null,null,null,null,null,null,null,null,null,"Désavantage",null,null,null,null,null,null,"Désavantage",null,null,null,null,null,null,null,null,"Désavantage",null,null,null,null,null,null,"Désavantage",null,null,null,null,null,null,null,null,null,null,"Désavantage",null,null,null,null,null,null,"Désavantage",null,null,null,null,null,null,null,null,"Désavantage",null,null,null,null,null,null,"Désavantage",null,null,null,null,null,null,null,null,null,null,"Désavantage",null,null,null,null,null,null,"Désavantage",null,null,null,null,null,null,null,null,"Désavantage",null,null,null,null,null,null,"Désavantage",null,null,null,null,null,null,null,null,null,null,"Désavantage",null,null,null,null,null,null,"Désavantage",null,null,null,null,null,null,null,null,"Désavantage",null,null,null,null,null,null,"Désavantage",null,null,null,null,null,null,null,null,null,null,"Désavantage",null,null,null,null,null,null,"Désavantage",null,null,null,null,null,null,null,null,"Désavantage",null,null,null,null,null,null,"Désavantage",null,null,null,null,null,null,null,null,null,null,"Désavantage",null,null,null,null,null,null,"Désavantage",null,null,null,null,null,null,null,null,"Désavantage",null,null,null,null,null,null,"Désavantage",null,null,null,null,null,null,null,null,null,null,"Désavantage",null,null,null,null,null,null,"Désavantage",null,null,null,null,null,null,null,null,"Désavantage",null,null,null,null,null,null,"Désavantage",null,null,null,null,null,null,null,null,null,null,"Désavantage",null,null,null,null,null,null,"Désavantage",null,null,null,null,null,null,null,null,"Désavantage",null,null,null,null,null,null,"Désavantage",null,null,null,null,null,null,null,null,null,null,"Désavantage",null,null,null,null,null,null,"Désavantage",null,null,null,null,null,null,null,null,"Désavantage",null,null,null,null,null,null,"Désavantage",null,null,null,null,null,null,null,null,null,null,"Désavantage",null,null,null,null,null,null,"Désavantage",null,null,null,null,null,null,null,null,"Désavantage",null,null,null,null,null,null,"Désavantage",null,null,null,null,null,null,null,null,null,null,"Désavantage",null,null,null,null,null,null,"Désavantage",null,null,null,null,null,null,null,null,"Désavantage",null,null,null,null,null,null,"Désavantage",null,null,null,null,null,null,null,null,null,null,"Désavantage",null,null,null,null,null,null,"Désavantage",null,null,null,null,null,null,null,null,"Désavantage",null,null,null,null,null,null,"Désavantage",null,null,null,null,null,null,null,null,null,null,"Désavantage",null,null,null,null,null,null,"Désavantage",null,null,null,null,null,null,null,null,"Désavantage",null,null,null,null,null,null,"Désavantage",null,null,null,null,null,null,null,null,null,null,"Désavantage",null,null,null,null,null,null,"Désavantage",null,null,null,null,null,null,null,null,"Désavantage",null,null,null,null,null,null,"Désavantage",null,null,null,null,null,null,null,null,null,null,"Désavantage",null,null,null,null,null,null,"Désavantage",null,null,null,null,null,null,null,null,"Désavantage",null,null,null,null,null,null,"Désavantage",null,null,null,null,null,null,null,null,null,null,"Désavantage",null,null,null,null,null,null,"Désavantage",null,null,null,null,null,null,null,null,"Désavantage",null,null,null,null,null,null,"Désavantage",null,null,null,null,null,null,null,null,null,null,"Désavantage",null,null,null,null,null,null,"Désavantage",null,null,null,null,null,null,null,null,"Désavantage",null,null,null,null,null,null,"Désavantage",null,null,null,null,null,null,null,null,null,null,"Désavantage",null,null,null,null,null,null,"Désavantage",null,null,null,null,null,null,null,null,"Désavantage",null,null,null,null,null,null,"Désavantage",null,null,null,null,null,null,null,null,null,null,"Désavantage",null,null,null,null,null,null,"Désavantage",null,null,null,null,null,null,null,null,"Désavantage",null,null,null,null,null,null,"Désavantage",null,null,null,null,null,null,null,null,null,null,"Désavantage",null,null,null,null,null,null,"Désavantage",null,null,null,null,null,null,null,null,"Désavantage",null,null,null,null,null,null,"Désavantage",null,null,null,null,null,null,null,null,null,null,"Désavantage",null,null,null,null,null,null,"Désavantage",null,null,null,null,null,null,null,null,"Désavantage",null,null,null,null,null,null,"Désavantage",null,null,null,null,null,null,null,null,null,null,"Désavantage",null,null,null,null,null,null,"Désavantage",null,null,null,null,null,null,null,null,"Désavantage",null,null,null,null,null,null,"Désavantage",null,null,null,null,null,null,null,null,null,null,"Désavantage",null,null,null,null,null,null,"Désavantage",null,null,null,null,null,null,null,null,"Désavantage",null,null,null,null,null,null,"Désavantage"]
[null,null,null,null,null,{"$f":"HLOOKUP(F$8,DEBUT!$AB$4:$BP$78,4,FALSE)","v":{"$error":"#N/A"}},null,null,null,null,null,null,{"$f":"HLOOKUP(M$8,DEBUT!$AB$4:$BP$78,4,FALSE)","v":{"$error":"#N/A"}},null,null,null,null,null,null,null,null,{"$f":"HLOOKUP(V$8,DEBUT!$AB$4:$BP$78,4,FALSE)","v":{"$error":"#N/A"}},null,null,null,null,null,null,{"$f":"HLOOKUP(AC$8,DEBUT!$AB$4:$BP$78,4,FALSE)","v":{"$error":"#N/A"}},null,null,null,null,null,null,null,null,null,null,{"$f":"HLOOKUP(AN$8,DEBUT!$AB$4:$BP$78,4,FALSE)","v":{"$error":"#N/A"}},null,null,null,null,null,null,{"$f":"HLOOKUP(AU$8,DEBUT!$AB$4:$BP$78,4,FALSE)","v":{"$error":"#N/A"}},null,null,null,null,null,null,null,null,{"$f":"HLOOKUP(BD$8,DEBUT!$AB$4:$BP$78,4,FALSE)","v":{"$error":"#N/A"}},null,null,null,null,null,null,{"$f":"HLOOKUP(BK$8,DEBUT!$AB$4:$BP$78,4,FALSE)","v":{"$error":"#N/A"}},null,null,null,null,null,null,null,null,null,null,{"$f":"HLOOKUP(BV$8,DEBUT!$AB$4:$BP$78,4,FALSE)","v":{"$error":"#N/A"}},null,null,null,null,null,null,{"$f":"HLOOKUP(CC$8,DEBUT!$AB$4:$BP$78,4,FALSE)","v":{"$error":"#N/A"}},null,null,null,null,null,null,null,null,{"$f":"HLOOKUP(CL$8,DEBUT!$AB$4:$BP$78,4,FALSE)","v":{"$error":"#N/A"}},null,null,null,null,null,null,{"$f":"HLOOKUP(CS$8,DEBUT!$AB$4:$BP$78,4,FALSE)","v":{"$error":"#N/A"}},null,null,null,null,null,null,null,null,null,null,{"$f":"HLOOKUP(DD$8,DEBUT!$AB$4:$BP$78,4,FALSE)","v":{"$error":"#N/A"}},null,null,null,null,null,null,{"$f":"HLOOKUP(DK$8,DEBUT!$AB$4:$BP$78,4,FALSE)","v":{"$error":"#N/A"}},null,null,null,null,null,null,null,null,{"$f":"HLOOKUP(DT$8,DEBUT!$AB$4:$BP$78,4,FALSE)","v":{"$error":"#N/A"}},null,null,null,null,null,null,{"$f":"HLOOKUP(EA$8,DEBUT!$AB$4:$BP$78,4,FALSE)","v":{"$error":"#N/A"}},null,null,null,null,null,null,null,null,null,null,{"$f":"HLOOKUP(EL$8,DEBUT!$AB$4:$BP$78,4,FALSE)","v":{"$error":"#N/A"}},null,null,null,null,null,null,{"$f":"HLOOKUP(ES$8,DEBUT!$AB$4:$BP$78,4,FALSE)","v":{"$error":"#N/A"}},null,null,null,null,null,null,null,null,{"$f":"HLOOKUP(FB$8,DEBUT!$AB$4:$BP$78,4,FALSE)","v":{"$error":"#N/A"}},null,null,null,null,null,null,{"$f":"HLOOKUP(FI$8,DEBUT!$AB$4:$BP$78,4,FALSE)","v":{"$error":"#N/A"}},null,null,null,null,null,null,null,null,null,null,{"$f":"HLOOKUP(FT$8,DEBUT!$AB$4:$BP$78,4,FALSE)","v":{"$error":"#N/A"}},null,null,null,null,null,null,{"$f":"HLOOKUP(GA$8,DEBUT!$AB$4:$BP$78,4,FALSE)","v":{"$error":"#N/A"}},null,null,null,null,null,null,null,null,{"$f":"HLOOKUP(GJ$8,DEBUT!$AB$4:$BP$78,4,FALSE)","v":{"$error":"#N/A"}},null,null,null,null,null,null,{"$f":"HLOOKUP(GQ$8,DEBUT!$AB$4:$BP$78,4,FALSE)","v":{"$error":"#N/A"}},null,null,null,null,null,null,null,null,null,null,{"$f":"HLOOKUP(HB$8,DEBUT!$AB$4:$BP$78,4,FALSE)","v":{"$error":"#N/A"}},null,null,null,null,null,null,{"$f":"HLOOKUP(HI$8,DEBUT!$AB$4:$BP$78,4,FALSE)","v":{"$error":"#N/A"}},null,null,null,null,null,null,null,null,{"$f":"HLOOKUP(HR$8,DEBUT!$AB$4:$BP$78,4,FALSE)","v":{"$error":"#N/A"}},null,null,null,null,null,null,{"$f":"HLOOKUP(HY$8,DEBUT!$AB$4:$BP$78,4,FALSE)","v":{"$error":"#N/A"}},null,null,null,null,null,null,null,null,null,null,{"$f":"HLOOKUP(IJ$8,DEBUT!$AB$4:$BP$78,4,FALSE)","v":{"$error":"#N/A"}},null,null,null,null,null,null,{"$f":"HLOOKUP(IQ$8,DEBUT!$AB$4:$BP$78,4,FALSE)","v":{"$error":"#N/A"}},null,null,null,null,null,null,null,null,{"$f":"HLOOKUP(IZ$8,DEBUT!$AB$4:$BP$78,4,FALSE)","v":{"$error":"#N/A"}},null,null,null,null,null,null,{"$f":"HLOOKUP(JG$8,DEBUT!$AB$4:$BP$78,4,FALSE)","v":{"$error":"#N/A"}},null,null,null,null,null,null,null,null,null,null,{"$f":"HLOOKUP(JR$8,DEBUT!$AB$4:$BP$78,4,FALSE)","v":{"$error":"#N/A"}},null,null,null,null,null,null,{"$f":"HLOOKUP(JY$8,DEBUT!$AB$4:$BP$78,4,FALSE)","v":{"$error":"#N/A"}},null,null,null,null,null,null,null,null,{"$f":"HLOOKUP(KH$8,DEBUT!$AB$4:$BP$78,4,FALSE)","v":{"$error":"#N/A"}},null,null,null,null,null,null,{"$f":"HLOOKUP(KO$8,DEBUT!$AB$4:$BP$78,4,FALSE)","v":{"$error":"#N/A"}},null,null,null,null,null,null,null,null,null,null,{"$f":"HLOOKUP(KZ$8,DEBUT!$AB$4:$BP$78,4,FALSE)","v":{"$error":"#N/A"}},null,null,null,null,null,null,{"$f":"HLOOKUP(LG$8,DEBUT!$AB$4:$BP$78,4,FALSE)","v":{"$error":"#N/A"}},null,null,null,null,null,null,null,null,{"$f":"HLOOKUP(LP$8,DEBUT!$AB$4:$BP$78,4,FALSE)","v":{"$error":"#N/A"}},null,null,null,null,null,null,{"$f":"HLOOKUP(LW$8,DEBUT!$AB$4:$BP$78,4,FALSE)","v":{"$error":"#N/A"}},null,null,null,null,null,null,null,null,null,null,{"$f":"HLOOKUP(MH$8,DEBUT!$AB$4:$BP$78,4,FALSE)","v":{"$error":"#N/A"}},null,null,null,null,null,null,{"$f":"HLOOKUP(MO$8,DEBUT!$AB$4:$BP$78,4,FALSE)","v":{"$error":"#N/A"}},null,null,null,null,null,null,null,null,{"$f":"HLOOKUP(MX$8,DEBUT!$AB$4:$BP$78,4,FALSE)","v":{"$error":"#N/A"}},null,null,null,null,null,null,{"$f":"HLOOKUP(NE$8,DEBUT!$AB$4:$BP$78,4,FALSE)","v":{"$error":"#N/A"}},null,null,null,null,null,null,null,null,null,null,{"$f":"HLOOKUP(NP$8,DEBUT!$AB$4:$BP$78,4,FALSE)","v":{"$error":"#N/A"}},null,null,null,null,null,null,{"$f":"HLOOKUP(NW$8,DEBUT!$AB$4:$BP$78,4,FALSE)","v":{"$error":"#N/A"}},null,null,null,null,null,null,null,null,{"$f":"HLOOKUP(OF$8,DEBUT!$AB$4:$BP$78,4,FALSE)","v":{"$error":"#N/A"}},null,null,null,null,null,null,{"$f":"HLOOKUP(OM$8,DEBUT!$AB$4:$BP$78,4,FALSE)","v":{"$error":"#N/A"}},null,null,null,null,null,null,null,null,null,null,{"$f":"HLOOKUP(OX$8,DEBUT!$AB$4:$BP$78,4,FALSE)","v":{"$error":"#N/A"}},null,null,null,null,null,null,{"$f":"HLOOKUP(PE$8,DEBUT!$AB$4:$BP$78,4,FALSE)","v":{"$error":"#N/A"}},null,null,null,null,null,null,null,null,{"$f":"HLOOKUP(PN$8,DEBUT!$AB$4:$BP$78,4,FALSE)","v":{"$error":"#N/A"}},null,null,null,null,null,null,{"$f":"HLOOKUP(PU$8,DEBUT!$AB$4:$BP$78,4,FALSE)","v":{"$error":"#N/A"}},null,null,null,null,null,null,null,null,null,null,{"$f":"HLOOKUP(QF$8,DEBUT!$AB$4:$BP$78,4,FALSE)","v":{"$error":"#N/A"}},null,null,null,null,null,null,{"$f":"HLOOKUP(QM$8,DEBUT!$AB$4:$BP$78,4,FALSE)","v":{"$error":"#N/A"}},null,null,null,null,null,null,null,null,{"$f":"HLOOKUP(QV$8,DEBUT!$AB$4:$BP$78,4,FALSE)","v":{"$error":"#N/A"}},null,null,null,null,null,null,{"$f":"HLOOKUP(RC$8,DEBUT!$AB$4:$BP$78,4,FALSE)","v":{"$error":"#N/A"}},null,null,null,null,null,null,null,null,null,null,{"$f":"HLOOKUP(RN$8,DEBUT!$AB$4:$BP$78,4,FALSE)","v":{"$error":"#N/A"}},null,null,null,null,null,null,{"$f":"HLOOKUP(RU$8,DEBUT!$AB$4:$BP$78,4,FALSE)","v":{"$error":"#N/A"}},null,null,null,null,null,null,null,null,{"$f":"HLOOKUP(SD$8,DEBUT!$AB$4:$BP$78,4,FALSE)","v":{"$error":"#N/A"}},null,null,null,null,null,null,{"$f":"HLOOKUP(SK$8,DEBUT!$AB$4:$BP$78,4,FALSE)","v":{"$error":"#N/A"}},null,null,null,null,null,null,null,null,null,null,{"$f":"HLOOKUP(SV$8,DEBUT!$AB$4:$BP$78,4,FALSE)","v":{"$error":"#N/A"}},null,null,null,null,null,null,{"$f":"HLOOKUP(TC$8,DEBUT!$AB$4:$BP$78,4,FALSE)","v":{"$error":"#N/A"}},null,null,null,null,null,null,null,null,{"$f":"HLOOKUP(TL$8,DEBUT!$AB$4:$BP$78,4,FALSE)","v":{"$error":"#N/A"}},null,null,null,null,null,null,{"$f":"HLOOKUP(TS$8,DEBUT!$AB$4:$BP$78,4,FALSE)","v":{"$error":"#N/A"}},null,null,null,null,null,null,null,null,null,null,{"$f":"HLOOKUP(UD$8,DEBUT!$AB$4:$BP$78,4,FALSE)","v":{"$error":"#N/A"}},null,null,null,null,null,null,{"$f":"HLOOKUP(UK$8,DEBUT!$AB$4:$BP$78,4,FALSE)","v":{"$error":"#N/A"}},null,null,null,null,null,null,null,null,{"$f":"HLOOKUP(UT$8,DEBUT!$AB$4:$BP$78,4,FALSE)","v":{"$error":"#N/A"}},null,null,null,null,null,null,{"$f":"HLOOKUP(VA$8,DEBUT!$AB$4:$BP$78,4,FALSE)","v":{"$error":"#N/A"}},null,null,null,null,null,null,null,null,null,null,{"$f":"HLOOKUP(VL$8,DEBUT!$AB$4:$BP$78,4,FALSE)","v":{"$error":"#N/A"}},null,null,null,null,null,null,{"$f":"HLOOKUP(VS$8,DEBUT!$AB$4:$BP$78,4,FALSE)","v":{"$error":"#N/A"}},null,null,null,null,null,null,null,null,{"$f":"HLOOKUP(WB$8,DEBUT!$AB$4:$BP$78,4,FALSE)","v":{"$error":"#N/A"}},null,null,null,null,null,null,{"$f":"HLOOKUP(WI$8,DEBUT!$AB$4:$BP$78,4,FALSE)","v":{"$error":"#N/A"}},null,null,null,null,null,null,null,null,null,null,{"$f":"HLOOKUP(WT$8,DEBUT!$AB$4:$BP$78,4,FALSE)","v":{"$error":"#N/A"}},null,null,null,null,null,null,{"$f":"HLOOKUP(XA$8,DEBUT!$AB$4:$BP$78,4,FALSE)","v":{"$error":"#N/A"}},null,null,null,null,null,null,null,null,{"$f":"HLOOKUP(XJ$8,DEBUT!$AB$4:$BP$78,4,FALSE)","v":{"$error":"#N/A"}},null,null,null,null,null,null,{"$f":"HLOOKUP(XQ$8,DEBUT!$AB$4:$BP$78,4,FALSE)","v":{"$error":"#N/A"}},null,null,null,null,null,null,null,null,null,null,{"$f":"HLOOKUP(YB$8,DEBUT!$AB$4:$BP$78,4,FALSE)","v":{"$error":"#N/A"}},null,null,null,null,null,null,{"$f":"HLOOKUP(YI$8,DEBUT!$AB$4:$BP$78,4,FALSE)","v":{"$error":"#N/A"}},null,null,null,null,null,null,null,null,{"$f":"HLOOKUP(YR$8,DEBUT!$AB$4:$BP$78,4,FALSE)","v":{"$error":"#N/A"}},null,null,null,null,null,null,{"$f":"HLOOKUP(YY$8,DEBUT!$AB$4:$BP$78,4,FALSE)","v":{"$error":"#N/A"}},null,null,null,null,null,null,null,null,null,null,{"$f":"HLOOKUP(ZJ$8,DEBUT!$AB$4:$BP$78,4,FALSE)","v":{"$error":"#N/A"}},null,null,null,null,null,null,{"$f":"HLOOKUP(ZQ$8,DEBUT!$AB$4:$BP$78,4,FALSE)","v":{"$error":"#N/A"}},null,null,null,null,null,null,null,null,{"$f":"HLOOKUP(ZZ$8,DEBUT!$AB$4:$BP$78,4,FALSE)","v":{"$error":"#N/A"}},null,null,null,null,null,null,{"$f":"HLOOKUP(AAG$8,DEBUT!$AB$4:$BP$78,4,FALSE)","v":{"$error":"#N/A"}},null,null,null,null,null,null,null,null,null,null,{"$f":"HLOOKUP(AAR$8,DEBUT!$AB$4:$BP$78,4,FALSE)","v":{"$error":"#N/A"}},null,null,null,null,null,null,{"$f":"HLOOKUP(AAY$8,DEBUT!$AB$4:$BP$78,4,FALSE)","v":{"$error":"#N/A"}},null,null,null,null,null,null,null,null,{"$f":"HLOOKUP(ABH$8,DEBUT!$AB$4:$BP$78,4,FALSE)","v":{"$error":"#N/A"}},null,null,null,null,null,null,{"$f":"HLOOKUP(ABO$8,DEBUT!$AB$4:$BP$78,4,FALSE)","v":{"$error":"#N/A"}},null,null,null,null,null,null,null,null,null,null,{"$f":"HLOOKUP(ABZ$8,DEBUT!$AB$4:$BP$78,4,FALSE)","v":{"$error":"#N/A"}},null,null,null,null,null,null,{"$f":"HLOOKUP(ACG$8,DEBUT!$AB$4:$BP$78,4,FALSE)","v":{"$error":"#N/A"}},null,null,null,null,null,null,null,null,{"$f":"HLOOKUP(ACP$8,DEBUT!$AB$4:$BP$78,4,FALSE)","v":{"$error":"#N/A"}},null,null,null,null,null,null,{"$f":"HLOOKUP(ACW$8,DEBUT!$AB$4:$BP$78,4,FALSE)","v":{"$error":"#N/A"}},null,null,null,null,null,null,null,null,null,null,{"$f":"HLOOKUP(ADH$8,DEBUT!$AB$4:$BP$78,4,FALSE)","v":{"$error":"#N/A"}},null,null,null,null,null,null,{"$f":"HLOOKUP(ADO$8,DEBUT!$AB$4:$BP$78,4,FALSE)","v":{"$error":"#N/A"}},null,null,null,null,null,null,null,null,{"$f":"HLOOKUP(ADX$8,DEBUT!$AB$4:$BP$78,4,FALSE)","v":{"$error":"#N/A"}},null,null,null,null,null,null,{"$f":"HLOOKUP(AEE$8,DEBUT!$AB$4:$BP$78,4,FALSE)","v":{"$error":"#N/A"}}]
[]
[null,null,null,null,null,{"$f":"IFERROR(HLOOKUP(F$19,DEBUT!$BS$2:$CM$18,2,FALSE),\"\")","v":""},{"$f":"IFERROR(HLOOKUP(F$19,DEBUT!$BS$2:$CM$18,6,FALSE),\"\")","v":""},{"$f":"IFERROR(HLOOKUP(F$19,DEBUT!$BS$2:$CM$18,10,FALSE),\"\")","v":""},{"$f":"IFERROR(HLOOKUP(F$19,DEBUT!$BS$2:$CM$18,14,FALSE),\"\")","v":""},null,null,null,{"$f":"IFERROR(HLOOKUP(M$19,DEBUT!$BS$2:$CM$18,2,FALSE),\"\")","v":""},{"$f":"IFERROR(HLOOKUP(M$19,DEBUT!$BS$2:$CM$18,6,FALSE),\"\")","v":""},{"$f":"IFERROR(HLOOKUP(M$19,DEBUT!$BS$2:$CM$18,10,FALSE),\"\")","v":""},{"$f":"IFERROR(HLOOKUP(M$19,DEBUT!$BS$2:$CM$18,14,FALSE),\"\")","v":""},null,null,null,null,null,{"$f":"IFERROR(HLOOKUP(V$19,DEBUT!$BS$2:$CM$18,2,FALSE),\"\")","v":""},{"$f":"IFERROR(HLOOKUP(V$19,DEBUT!$BS$2:$CM$18,6,FALSE),\"\")","v":""},{"$f":"IFERROR(HLOOKUP(V$19,DEBUT!$BS$2:$CM$18,10,FALSE),\"\")","v":""},{"$f":"IFERROR(HLOOKUP(V$19,DEBUT!$BS$2:$CM$18,14,FALSE),\"\")","v":""},null,null,null,{"$f":"IFERROR(HLOOKUP(AC$19,DEBUT!$BS$2:$CM$18,2,FALSE),\"\")","v":""},{"$f":"IFERROR(HLOOKUP(AC$19,DEBUT!$BS$2:$CM$18,6,FALSE),\"\")","v":""},{"$f":"IFERROR(HLOOKUP(AC$19,DEBUT!$BS$2:$CM$18,10,FALSE),\"\")","v":""},{"$f":"IFERROR(HLOOKUP(AC$19,DEBUT!$BS$2:$CM$18,14,FALSE),\"\")","v":""},null,null,null,null,null,null,null,{"$f":"IFERROR(HLOOKUP(AN$19,DEBUT!$BS$2:$CM$18,2,FALSE),\"\")","v":""},{"$f":"IFERROR(HLOOKUP(AN$19,DEBUT!$BS$2:$CM$18,6,FALSE),\"\")","v":""},{"$f":"IFERROR(HLOOKUP(AN$19,DEBUT!$BS$2:$CM$18,10,FALSE),\"\")","v":""},{"$f":"IFERROR(HLOOKUP(AN$19,DEBUT!$BS$2:$CM$18,14,FALSE),\"\")","v":""},null,null,null,{"$f":"IFERROR(HLOOKUP(AU$19,DEBUT!$BS$2:$CM$18,2,FALSE),\"\")","v":""},{"$f":"IFERROR(HLOOKUP(AU$19,DEBUT!$BS$2:$CM$18,6,FALSE),\"\")","v":""},{"$f":"IFERROR(HLOOKUP(AU$19,DEBUT!$BS$2:$CM$18,10,FALSE),\"\")","v":""},{"$f":"IFERROR(HLOOKUP(AU$19,DEBUT!$BS$2:$CM$18,14,FALSE),\"\")","v":""},null,null,null,null,null,{"$f":"IFERROR(HLOOKUP(BD$19,DEBUT!$BS$2:$CM$18,2,FALSE),\"\")","v":""},{"$f":"IFERROR(HLOOKUP(BD$19,DEBUT!$BS$2:$CM$18,6,FALSE),\"\")","v":""},{"$f":"IFERROR(HLOOKUP(BD$19,DEBUT!$BS$2:$CM$18,10,FALSE),\"\")","v":""},{"$f":"IFERROR(HLOOKUP(BD$19,DEBUT!$BS$2:$CM$18,14,FALSE),\"\")","v":""},null,null,null,{"$f":"IFERROR(HLOOKUP(BK$19,DEBUT!$BS$2:$CM$18,2,FALSE),\"\")","v":""},{"$f":"IFERROR(HLOOKUP(BK$19,DEBUT!$BS$2:$CM$18,6,FALSE),\"\")","v":""},{"$f":"IFERROR(HLOOKUP(BK$19,DEBUT!$BS$2:$CM$18,10,FALSE),\"\")","v":""},{"$f":"IFERROR(HLOOKUP(BK$19,DEBUT!$BS$2:$CM$18,14,FALSE),\"\")","v":""},null,null,null,null,null,null,null,{"$f":"IFERROR(HLOOKUP(BV$19,DEBUT!$BS$2:$CM$18,2,FALSE),\"\")","v":""},{"$f":"IFERROR(HLOOKUP(BV$19,DEBUT!$BS$2:$CM$18,6,FALSE),\"\")","v":""},{"$f":"IFERROR(HLOOKUP(BV$19,DEBUT!$BS$2:$CM$18,10,FALSE),\"\")","v":""},{"$f":"IFERROR(HLOOKUP(BV$19,DEBUT!$BS$2:$CM$18,14,FALSE),\"\")","v":""},null,null,null,{"$f":"IFERROR(HLOOKUP(CC$19,DEBUT!$BS$2:$CM$18,2,FALSE),\"\")","v":""},{"$f":"IFERROR(HLOOKUP(CC$19,DEBUT!$BS$2:$CM$18,6,FALSE),\"\")","v":""},{"$f":"IFERROR(HLOOKUP(CC$19,DEBUT!$BS$2:$CM$18,10,FALSE),\"\")","v":""},{"$f":"IFERROR(HLOOKUP(CC$19,DEBUT!$BS$2:$CM$18,14,FALSE),\"\")","v":""},null,null,null,null,null,{"$f":"IFERROR(HLOOKUP(CL$19,DEBUT!$BS$2:$CM$18,2,FALSE),\"\")","v":""},{"$f":"IFERROR(HLOOKUP(CL$19,DEBUT!$BS$2:$CM$18,6,FALSE),\"\")","v":""},{"$f":"IFERROR(HLOOKUP(CL$19,DEBUT!$BS$2:$CM$18,10,FALSE),\"\")","v":""},{"$f":"IFERROR(HLOOKUP(CL$19,DEBUT!$BS$2:$CM$18,14,FALSE),\"\")","v":""},null,null,null,{"$f":"IFERROR(HLOOKUP(CS$19,DEBUT!$BS$2:$CM$18,2,FALSE),\"\")","v":""},{"$f":"IFERROR(HLOOKUP(CS$19,DEBUT!$BS$2:$CM$18,6,FALSE),\"\")","v":""},{"$f":"IFERROR(HLOOKUP(CS$19,DEBUT!$BS$2:$CM$18,10,FALSE),\"\")","v":""},{"$f":"IFERROR(HLOOKUP(CS$19,DEBUT!$BS$2:$CM$18,14,FALSE),\"\")","v":""},null,null,null,null,null,null,null,{"$f":"IFERROR(HLOOKUP(DD$19,DEBUT!$BS$2:$CM$18,2,FALSE),\"\")","v":""},{"$f":"IFERROR(HLOOKUP(DD$19,DEBUT!$BS$2:$CM$18,6,FALSE),\"\")","v":""},{"$f":"IFERROR(HLOOKUP(DD$19,DEBUT!$BS$2:$CM$18,10,FALSE),\"\")","v":""},{"$f":"IFERROR(HLOOKUP(DD$19,DEBUT!$BS$2:$CM$18,14,FALSE),\"\")","v":""},null,null,null,{"$f":"IFERROR(HLOOKUP(DK$19,DEBUT!$BS$2:$CM$18,2,FALSE),\"\")","v":""},{"$f":"IFERROR(HLOOKUP(DK$19,DEBUT!$BS$2:$CM$18,6,FALSE),\"\")","v":""},{"$f":"IFERROR(HLOOKUP(DK$19,DEBUT!$BS$2:$CM$18,10,FALSE),\"\")","v":""},{"$f":"IFERROR(HLOOKUP(DK$19,DEBUT!$BS$2:$CM$18,14,FALSE),\"\")","v":""},null,null,null,null,null,{"$f":"IFERROR(HLOOKUP(DT$19,DEBUT!$BS$2:$CM$18,2,FALSE),\"\")","v":""},{"$f":"IFERROR(HLOOKUP(DT$19,DEBUT!$BS$2:$CM$18,6,FALSE),\"\")","v":""},{"$f":"IFERROR(HLOOKUP(DT$19,DEBUT!$BS$2:$CM$18,10,FALSE),\"\")","v":""},{"$f":"IFERROR(HLOOKUP(DT$19,DEBUT!$BS$2:$CM$18,14,FALSE),\"\")","v":""},null,null,null,{"$f":"IFERROR(HLOOKUP(EA$19,DEBUT!$BS$2:$CM$18,2,FALSE),\"\")","v":""},{"$f":"IFERROR(HLOOKUP(EA$19,DEBUT!$BS$2:$CM$18,6,FALSE),\"\")","v":""},{"$f":"IFERROR(HLOOKUP(EA$19,DEBUT!$BS$2:$CM$18,10,FALSE),\"\")","v":""},{"$f":"IFERROR(HLOOKUP(EA$19,DEBUT!$BS$2:$CM$18,14,FALSE),\"\")","v":""},null,null,null,null,null,null,null,{"$f":"IFERROR(HLOOKUP(EL$19,DEBUT!$BS$2:$CM$18,2,FALSE),\"\")","v":""},{"$f":"IFERROR(HLOOKUP(EL$19,DEBUT!$BS$2:$CM$18,6,FALSE),\"\")","v":""},{"$f":"IFERROR(HLOOKUP(EL$19,DEBUT!$BS$2:$CM$18,10,FALSE),\"\")","v":""},{"$f":"IFERROR(HLOOKUP(EL$19,DEBUT!$BS$2:$CM$18,14,FALSE),\"\")","v":""},null,null,null,{"$f":"IFERROR(HLOOKUP(ES$19,DEBUT!$BS$2:$CM$18,2,FALSE),\"\")","v":""},{"$f":"IFERROR(HLOOKUP(ES$19,DEBUT!$BS$2:$CM$18,6,FALSE),\"\")","v":""},{"$f":"IFERROR(HLOOKUP(ES$19,DEBUT!$BS$2:$CM$18,10,FALSE),\"\")","v":""},{"$f":"IFERROR(HLOOKUP(ES$19,DEBUT!$BS$2:$CM$18,14,FALSE),\"\")","v":""},null,null,null,null,null,{"$f":"IFERROR(HLOOKUP(FB$19,DEBUT!$BS$2:$CM$18,2,FALSE),\"\")","v":""},{"$f":"IFERROR(HLOOKUP(FB$19,DEBUT!$BS$2:$CM$18,6,FALSE),\"\")","v":""},{"$f":"IFERROR(HLOOKUP(FB$19,DEBUT!$BS$2:$CM$18,10,FALSE),\"\")","v":""},{"$f":"IFERROR(HLOOKUP(FB$19,DEBUT!$BS$2:$CM$18,14,FALSE),\"\")","v":""},null,null,null,{"$f":"IFERROR(HLOOKUP(FI$19,DEBUT!$BS$2:$CM$18,2,FALSE),\"\")","v":""},{"$f":"IFERROR(HLOOKUP(FI$19,DEBUT!$BS$2:$CM$18,6,FALSE),\"\")","v":""},{"$f":"IFERROR(HLOOKUP(FI$19,DEBUT!$BS$2:$CM$18,10,FALSE),\"\")","v":""},{"$f":"IFERROR(HLOOKUP(FI$19,DEBUT!$BS$2:$CM$18,14,FALSE),\"\")","v":""},null,null,null,null,null,null,null,{"$f":"IFERROR(HLOOKUP(FT$19,DEBUT!$BS$2:$CM$18,2,FALSE),\"\")","v":""},{"$f":"IFERROR(HLOOKUP(FT$19,DEBUT!$BS$2:$CM$18,6,FALSE),\"\")","v":""},{"$f":"IFERROR(HLOOKUP(FT$19,DEBUT!$BS$2:$CM$18,10,FALSE),\"\")","v":""},{"$f":"IFERROR(HLOOKUP(FT$19,DEBUT!$BS$2:$CM$18,14,FALSE),\"\")","v":""},null,null,null,{"$f":"IFERROR(HLOOKUP(GA$19,DEBUT!$BS$2:$CM$18,2,FALSE),\"\")","v":""},{"$f":"IFERROR(HLOOKUP(GA$19,DEBUT!$BS$2:$CM$18,6,FALSE),\"\")","v":""},{"$f":"IFERROR(HLOOKUP(GA$19,DEBUT!$BS$2:$CM$18,10,FALSE),\"\")","v":""},{"$f":"IFERROR(HLOOKUP(GA$19,DEBUT!$BS$2:$CM$18,14,FALSE),\"\")","v":""},null,null,null,null,null,{"$f":"IFERROR(HLOOKUP(GJ$19,DEBUT!$BS$2:$CM$18,2,FALSE),\"\")","v":""},{"$f":"IFERROR(HLOOKUP(GJ$19,DEBUT!$BS$2:$CM$18,6,FALSE),\"\")","v":""},{"$f":"IFERROR(HLOOKUP(GJ$19,DEBUT!$BS$2:$CM$18,10,FALSE),\"\")","v":""},{"$f":"IFERROR(HLOOKUP(GJ$19,DEBUT!$BS$2:$CM$18,14,FALSE),\"\")","v":""},null,null,null,{"$f":"IFERROR(HLOOKUP(GQ$19,DEBUT!$BS$2:$CM$18,2,FALSE),\"\")","v":""},{"$f":"IFERROR(HLOOKUP(GQ$19,DEBUT!$BS$2:$CM$18,6,FALSE),\"\")","v":""},{"$f":"IFERROR(HLOOKUP(GQ$19,DEBUT!$BS$2:$CM$18,10,FALSE),\"\")","v":""},{"$f":"IFERROR(HLOOKUP(GQ$19,DEBUT!$BS$2:$CM$18,14,FALSE),\"\")","v":""},null,null,null,null,null,null,null,{"$f":"IFERROR(HLOOKUP(HB$19,DEBUT!$BS$2:$CM$18,2,FALSE),\"\")","v":""},{"$f":"IFERROR(HLOOKUP(HB$19,DEBUT!$BS$2:$CM$18,6,FALSE),\"\")","v":""},{"$f":"IFERROR(HLOOKUP(HB$19,DEBUT!$BS$2:$CM$18,10,FALSE),\"\")","v":""},{"$f":"IFERROR(HLOOKUP(HB$19,DEBUT!$BS$2:$CM$18,14,FALSE),\"\")","v":""},null,null,null,{"$f":"IFERROR(HLOOKUP(HI$19,DEBUT!$BS$2:$CM$18,2,FALSE),\"\")","v":""},{"$f":"IFERROR(HLOOKUP(HI$19,DEBUT!$BS$2:$CM$18,6,FALSE),\"\")","v":""},{"$f":"IFERROR(HLOOKUP(HI$19,DEBUT!$BS$2:$CM$18,10,FALSE),\"\")","v":""},{"$f":"IFERROR(HLOOKUP(HI$19,DEBUT!$BS$2:$CM$18,14,FALSE),\"\")","v":""},null,null,null,null,null,{"$f":"IFERROR(HLOOKUP(HR$19,DEBUT!$BS$2:$CM$18,2,FALSE),\"\")","v":""},{"$f":"IFERROR(HLOOKUP(HR$19,DEBUT!$BS$2:$CM$18,6,FALSE),\"\")","v":""},{"$f":"IFERROR(HLOOKUP(HR$19,DEBUT!$BS$2:$CM$18,10,FALSE),\"\")","v":""},{"$f":"IFERROR(HLOOKUP(HR$19,DEBUT!$BS$2:$CM$18,14,FALSE),\"\")","v":""},null,null,null,{"$f":"IFERROR(HLOOKUP(HY$19,DEBUT!$BS$2:$CM$18,2,FALSE),\"\")","v":""},{"$f":"IFERROR(HLOOKUP(HY$19,DEBUT!$BS$2:$CM$18,6,FALSE),\"\")","v":""},{"$f":"IFERROR(HLOOKUP(HY$19,DEBUT!$BS$2:$CM$18,10,FALSE),\"\")","v":""},{"$f":"IFERROR(HLOOKUP(HY$19,DEBUT!$BS$2:$CM$18,14,FALSE),\"\")","v":""},null,null,null,null,null,null,null,{"$f":"IFERROR(HLOOKUP(IJ$19,DEBUT!$BS$2:$CM$18,2,FALSE),\"\")","v":""},{"$f":"IFERROR(HLOOKUP(IJ$19,DEBUT!$BS$2:$CM$18,6,FALSE),\"\")","v":""},{"$f":"IFERROR(HLOOKUP(IJ$19,DEBUT!$BS$2:$CM$18,10,FALSE),\"\")","v":""},{"$f":"IFERROR(HLOOKUP(IJ$19,DEBUT!$BS$2:$CM$18,14,FALSE),\"\")","v":""},null,null,null,{"$f":"IFERROR(HLOOKUP(IQ$19,DEBUT!$BS$2:$CM$18,2,FALSE),\"\")","v":""},{"$f":"IFERROR(HLOOKUP(IQ$19,DEBUT!$BS$2:$CM$18,6,FALSE),\"\")","v":""},{"$f":"IFERROR(HLOOKUP(IQ$19,DEBUT!$BS$2:$CM$18,10,FALSE),\"\")","v":""},{"$f":"IFERROR(HLOOKUP(IQ$19,DEBUT!$BS$2:$CM$18,14,FALSE),\"\")","v":""},null,null,null,null,null,{"$f":"IFERROR(HLOOKUP(IZ$19,DEBUT!$BS$2:$CM$18,2,FALSE),\"\")","v":""},{"$f":"IFERROR(HLOOKUP(IZ$19,DEBUT!$BS$2:$CM$18,6,FALSE),\"\")","v":""},{"$f":"IFERROR(HLOOKUP(IZ$19,DEBUT!$BS$2:$CM$18,10,FALSE),\"\")","v":""},{"$f":"IFERROR(HLOOKUP(IZ$19,DEBUT!$BS$2:$CM$18,14,FALSE),\"\")","v":""},null,null,null,{"$f":"IFERROR(HLOOKUP(JG$19,DEBUT!$BS$2:$CM$18,2,FALSE),\"\")","v":""},{"$f":"IFERROR(HLOOKUP(JG$19,DEBUT!$BS$2:$CM$18,6,FALSE),\"\")","v":""},{"$f":"IFERROR(HLOOKUP(JG$19,DEBUT!$BS$2:$CM$18,10,FALSE),\"\")","v":""},{"$f":"IFERROR(HLOOKUP(JG$19,DEBUT!$BS$2:$CM$18,14,FALSE),\"\")","v":""},null,null,null,null,null,null,null,{"$f":"IFERROR(HLOOKUP(JR$19,DEBUT!$BS$2:$CM$18,2,FALSE),\"\")","v":""},{"$f":"IFERROR(HLOOKUP(JR$19,DEBUT!$BS$2:$CM$18,6,FALSE),\"\")","v":""},{"$f":"IFERROR(HLOOKUP(JR$19,DEBUT!$BS$2:$CM$18,10,FALSE),\"\")","v":""},{"$f":"IFERROR(HLOOKUP(JR$19,DEBUT!$BS$2:$CM$18,14,FALSE),\"\")","v":""},null,null,null,{"$f":"IFERROR(HLOOKUP(JY$19,DEBUT!$BS$2:$CM$18,2,FALSE),\"\")","v":""},{"$f":"IFERROR(HLOOKUP(JY$19,DEBUT!$BS$2:$CM$18,6,FALSE),\"\")","v":""},{"$f":"IFERROR(HLOOKUP(JY$19,DEBUT!$BS$2:$CM$18,10,FALSE),\"\")","v":""},{"$f":"IFERROR(HLOOKUP(JY$19,DEBUT!$BS$2:$CM$18,14,FALSE),\"\")","v":""},null,null,null,null,null,{"$f":"IFERROR(HLOOKUP(KH$19,DEBUT!$BS$2:$CM$18,2,FALSE),\"\")","v":""},{"$f":"IFERROR(HLOOKUP(KH$19,DEBUT!$BS$2:$CM$18,6,FALSE),\"\")","v":""},{"$f":"IFERROR(HLOOKUP(KH$19,DEBUT!$BS$2:$CM$18,10,FALSE),\"\")","v":""},{"$f":"IFERROR(HLOOKUP(KH$19,DEBUT!$BS$2:$CM$18,14,FALSE),\"\")","v":""},null,null,null,{"$f":"IFERROR(HLOOKUP(KO$19,DEBUT!$BS$2:$CM$18,2,FALSE),\"\")","v":""},{"$f":"IFERROR(HLOOKUP(KO$19,DEBUT!$BS$2:$CM$18,6,FALSE),\"\")","v":""},{"$f":"IFERROR(HLOOKUP(KO$19,DEBUT!$BS$2:$CM$18,10,FALSE),\"\")","v":""},{"$f":"IFERROR(HLOOKUP(KO$19,DEBUT!$BS$2:$CM$18,14,FALSE),\"\")","v":""},null,null,null,null,null,null,null,{"$f":"IFERROR(HLOOKUP(KZ$19,DEBUT!$BS$2:$CM$18,2,FALSE),\"\")","v":""},{"$f":"IFERROR(HLOOKUP(KZ$19,DEBUT!$BS$2:$CM$18,6,FALSE),\"\")","v":""},{"$f":"IFERROR(HLOOKUP(KZ$19,DEBUT!$BS$2:$CM$18,10,FALSE),\"\")","v":""},{"$f":"IFERROR(HLOOKUP(KZ$19,DEBUT!$BS$2:$CM$18,14,FALSE),\"\")","v":""},null,null,null,{"$f":"IFERROR(HLOOKUP(LG$19,DEBUT!$BS$2:$CM$18,2,FALSE),\"\")","v":""},{"$f":"IFERROR(HLOOKUP(LG$19,DEBUT!$BS$2:$CM$18,6,FALSE),\"\")","v":""},{"$f":"IFERROR(HLOOKUP(LG$19,DEBUT!$BS$2:$CM$18,10,FALSE),\"\")","v":""},{"$f":"IFERROR(HLOOKUP(LG$19,DEBUT!$BS$2:$CM$18,14,FALSE),\"\")","v":""},null,null,null,null,null,{"$f":"IFERROR(HLOOKUP(LP$19,DEBUT!$BS$2:$CM$18,2,FALSE),\"\")","v":""},{"$f":"IFERROR(HLOOKUP(LP$19,DEBUT!$BS$2:$CM$18,6,FALSE),\"\")","v":""},{"$f":"IFERROR(HLOOKUP(LP$19,DEBUT!$BS$2:$CM$18,10,FALSE),\"\")","v":""},{"$f":"IFERROR(HLOOKUP(LP$19,DEBUT!$BS$2:$CM$18,14,FALSE),\"\")","v":""},null,null,null,{"$f":"IFERROR(HLOOKUP(LW$19,DEBUT!$BS$2:$CM$18,2,FALSE),\"\")","v":""},{"$f":"IFERROR(HLOOKUP(LW$19,DEBUT!$BS$2:$CM$18,6,FALSE),\"\")","v":""},{"$f":"IFERROR(HLOOKUP(LW$19,DEBUT!$BS$2:$CM$18,10,FALSE),\"\")","v":""},{"$f":"IFERROR(HLOOKUP(LW$19,DEBUT!$BS$2:$CM$18,14,FALSE),\"\")","v":""},null,null,null,null,null,null,null,{"$f":"IFERROR(HLOOKUP(MH$19,DEBUT!$BS$2:$CM$18,2,FALSE),\"\")","v":""},{"$f":"IFERROR(HLOOKUP(MH$19,DEBUT!$BS$2:$CM$18,6,FALSE),\"\")","v":""},{"$f":"IFERROR(HLOOKUP(MH$19,DEBUT!$BS$2:$CM$18,10,FALSE),\"\")","v":""},{"$f":"IFERROR(HLOOKUP(MH$19,DEBUT!$BS$2:$CM$18,14,FALSE),\"\")","v":""},null,null,null,{"$f":"IFERROR(HLOOKUP(MO$19,DEBUT!$BS$2:$CM$18,2,FALSE),\"\")","v":""},{"$f":"IFERROR(HLOOKUP(MO$19,DEBUT!$BS$2:$CM$18,6,FALSE),\"\")","v":""},{"$f":"IFERROR(HLOOKUP(MO$19,DEBUT!$BS$2:$CM$18,10,FALSE),\"\")","v":""},{"$f":"IFERROR(HLOOKUP(MO$19,DEBUT!$BS$2:$CM$18,14,FALSE),\"\")","v":""},null,null,null,null,null,{"$f":"IFERROR(HLOOKUP(MX$19,DEBUT!$BS$2:$CM$18,2,FALSE),\"\")","v":""},{"$f":"IFERROR(HLOOKUP(MX$19,DEBUT!$BS$2:$CM$18,6,FALSE),\"\")","v":""},{"$f":"IFERROR(HLOOKUP(MX$19,DEBUT!$BS$2:$CM$18,10,FALSE),\"\")","v":""},{"$f":"IFERROR(HLOOKUP(MX$19,DEBUT!$BS$2:$CM$18,14,FALSE),\"\")","v":""},null,null,null,{"$f":"IFERROR(HLOOKUP(NE$19,DEBUT!$BS$2:$CM$18,2,FALSE),\"\")","v":""},{"$f":"IFERROR(HLOOKUP(NE$19,DEBUT!$BS$2:$CM$18,6,FALSE),\"\")","v":""},{"$f":"IFERROR(HLOOKUP(NE$19,DEBUT!$BS$2:$CM$18,10,FALSE),\"\")","v":""},{"$f":"IFERROR(HLOOKUP(NE$19,DEBUT!$BS$2:$CM$18,14,FALSE),\"\")","v":""},null,null,null,null,null,null,null,{"$f":"IFERROR(HLOOKUP(NP$19,DEBUT!$BS$2:$CM$18,2,FALSE),\"\")","v":""},{"$f":"IFERROR(HLOOKUP(NP$19,DEBUT!$BS$2:$CM$18,6,FALSE),\"\")","v":""},{"$f":"IFERROR(HLOOKUP(NP$19,DEBUT!$BS$2:$CM$18,10,FALSE),\"\")","v":""},{"$f":"IFERROR(HLOOKUP(NP$19,DEBUT!$BS$2:$CM$18,14,FALSE),\"\")","v":""},null,null,null,{"$f":"IFERROR(HLOOKUP(NW$19,DEBUT!$BS$2:$CM$18,2,FALSE),\"\")","v":""},{"$f":"IFERROR(HLOOKUP(NW$19,DEBUT!$BS$2:$CM$18,6,FALSE),\"\")","v":""},{"$f":"IFERROR(HLOOKUP(NW$19,DEBUT!$BS$2:$CM$18,10,FALSE),\"\")","v":""},{"$f":"IFERROR(HLOOKUP(NW$19,DEBUT!$BS$2:$CM$18,14,FALSE),\"\")","v":""},null,null,null,null,null,{"$f":"IFERROR(HLOOKUP(OF$19,DEBUT!$BS$2:$CM$18,2,FALSE),\"\")","v":""},{"$f":"IFERROR(HLOOKUP(OF$19,DEBUT!$BS$2:$CM$18,6,FALSE),\"\")","v":""},{"$f":"IFERROR(HLOOKUP(OF$19,DEBUT!$BS$2:$CM$18,10,FALSE),\"\")","v":""},{"$f":"IFERROR(HLOOKUP(OF$19,DEBUT!$BS$2:$CM$18,14,FALSE),\"\")","v":""},null,null,null,{"$f":"IFERROR(HLOOKUP(OM$19,DEBUT!$BS$2:$CM$18,2,FALSE),\"\")","v":""},{"$f":"IFERROR(HLOOKUP(OM$19,DEBUT!$BS$2:$CM$18,6,FALSE),\"\")","v":""},{"$f":"IFERROR(HLOOKUP(OM$19,DEBUT!$BS$2:$CM$18,10,FALSE),\"\")","v":""},{"$f":"IFERROR(HLOOKUP(OM$19,DEBUT!$BS$2:$CM$18,14,FALSE),\"\")","v":""},null,null,null,null,null,null,null,{"$f":"IFERROR(HLOOKUP(OX$19,DEBUT!$BS$2:$CM$18,2,FALSE),\"\")","v":""},{"$f":"IFERROR(HLOOKUP(OX$19,DEBUT!$BS$2:$CM$18,6,FALSE),\"\")","v":""},{"$f":"IFERROR(HLOOKUP(OX$19,DEBUT!$BS$2:$CM$18,10,FALSE),\"\")","v":""},{"$f":"IFERROR(HLOOKUP(OX$19,DEBUT!$BS$2:$CM$18,14,FALSE),\"\")","v":""},null,null,null,{"$f":"IFERROR(HLOOKUP(PE$19,DEBUT!$BS$2:$CM$18,2,FALSE),\"\")","v":""},{"$f":"IFERROR(HLOOKUP(PE$19,DEBUT!$BS$2:$CM$18,6,FALSE),\"\")","v":""},{"$f":"IFERROR(HLOOKUP(PE$19,DEBUT!$BS$2:$CM$18,10,FALSE),\"\")","v":""},{"$f":"IFERROR(HLOOKUP(PE$19,DEBUT!$BS$2:$CM$18,14,FALSE),\"\")","v":""},null,null,null,null,null,{"$f":"IFERROR(HLOOKUP(PN$19,DEBUT!$BS$2:$CM$18,2,FALSE),\"\")","v":""},{"$f":"IFERROR(HLOOKUP(PN$19,DEBUT!$BS$2:$CM$18,6,FALSE),\"\")","v":""},{"$f":"IFERROR(HLOOKUP(PN$19,DEBUT!$BS$2:$CM$18,10,FALSE),\"\")","v":""},{"$f":"IFERROR(HLOOKUP(PN$19,DEBUT!$BS$2:$CM$18,14,FALSE),\"\")","v":""},null,null,null,{"$f":"IFERROR(HLOOKUP(PU$19,DEBUT!$BS$2:$CM$18,2,FALSE),\"\")","v":""},{"$f":"IFERROR(HLOOKUP(PU$19,DEBUT!$BS$2:$CM$18,6,FALSE),\"\")","v":""},{"$f":"IFERROR(HLOOKUP(PU$19,DEBUT!$BS$2:$CM$18,10,FALSE),\"\")","v":""},{"$f":"IFERROR(HLOOKUP(PU$19,DEBUT!$BS$2:$CM$18,14,FALSE),\"\")","v":""},null,null,null,null,null,null,null,{"$f":"IFERROR(HLOOKUP(QF$19,DEBUT!$BS$2:$CM$18,2,FALSE),\"\")","v":""},{"$f":"IFERROR(HLOOKUP(QF$19,DEBUT!$BS$2:$CM$18,6,FALSE),\"\")","v":""},{"$f":"IFERROR(HLOOKUP(QF$19,DEBUT!$BS$2:$CM$18,10,FALSE),\"\")","v":""},{"$f":"IFERROR(HLOOKUP(QF$19,DEBUT!$BS$2:$CM$18,14,FALSE),\"\")","v":""},null,null,null,{"$f":"IFERROR(HLOOKUP(QM$19,DEBUT!$BS$2:$CM$18,2,FALSE),\"\")","v":""},{"$f":"IFERROR(HLOOKUP(QM$19,DEBUT!$BS$2:$CM$18,6,FALSE),\"\")","v":""},{"$f":"IFERROR(HLOOKUP(QM$19,DEBUT!$BS$2:$CM$18,10,FALSE),\"\")","v":""},{"$f":"IFERROR(HLOOKUP(QM$19,DEBUT!$BS$2:$CM$18,14,FALSE),\"\")","v":""},null,null,null,null,null,{"$f":"IFERROR(HLOOKUP(QV$19,DEBUT!$BS$2:$CM$18,2,FALSE),\"\")","v":""},{"$f":"IFERROR(HLOOKUP(QV$19,DEBUT!$BS$2:$CM$18,6,FALSE),\"\")","v":""},{"$f":"IFERROR(HLOOKUP(QV$19,DEBUT!$BS$2:$CM$18,10,FALSE),\"\")","v":""},{"$f":"IFERROR(HLOOKUP(QV$19,DEBUT!$BS$2:$CM$18,14,FALSE),\"\")","v":""},null,null,null,{"$f":"IFERROR(HLOOKUP(RC$19,DEBUT!$BS$2:$CM$18,2,FALSE),\"\")","v":""},{"$f":"IFERROR(HLOOKUP(RC$19,DEBUT!$BS$2:$CM$18,6,FALSE),\"\")","v":""},{"$f":"IFERROR(HLOOKUP(RC$19,DEBUT!$BS$2:$CM$18,10,FALSE),\"\")","v":""},{"$f":"IFERROR(HLOOKUP(RC$19,DEBUT!$BS$2:$CM$18,14,FALSE),\"\")","v":""},null,null,null,null,null,null,null,{"$f":"IFERROR(HLOOKUP(RN$19,DEBUT!$BS$2:$CM$18,2,FALSE),\"\")","v":""},{"$f":"IFERROR(HLOOKUP(RN$19,DEBUT!$BS$2:$CM$18,6,FALSE),\"\")","v":""},{"$f":"IFERROR(HLOOKUP(RN$19,DEBUT!$BS$2:$CM$18,10,FALSE),\"\")","v":""},{"$f":"IFERROR(HLOOKUP(RN$19,DEBUT!$BS$2:$CM$18,14,FALSE),\"\")","v":""},null,null,null,{"$f":"IFERROR(HLOOKUP(RU$19,DEBUT!$BS$2:$CM$18,2,FALSE),\"\")","v":""},{"$f":"IFERROR(HLOOKUP(RU$19,DEBUT!$BS$2:$CM$18,6,FALSE),\"\")","v":""},{"$f":"IFERROR(HLOOKUP(RU$19,DEBUT!$BS$2:$CM$18,10,FALSE),\"\")","v":""},{"$f":"IFERROR(HLOOKUP(RU$19,DEBUT!$BS$2:$CM$18,14,FALSE),\"\")","v":""},null,null,null,null,null,{"$f":"IFERROR(HLOOKUP(SD$19,DEBUT!$BS$2:$CM$18,2,FALSE),\"\")","v":""},{"$f":"IFERROR(HLOOKUP(SD$19,DEBUT!$BS$2:$CM$18,6,FALSE),\"\")","v":""},{"$f":"IFERROR(HLOOKUP(SD$19,DEBUT!$BS$2:$CM$18,10,FALSE),\"\")","v":""},{"$f":"IFERROR(HLOOKUP(SD$19,DEBUT!$BS$2:$CM$18,14,FALSE),\"\")","v":""},null,null,null,{"$f":"IFERROR(HLOOKUP(SK$19,DEBUT!$BS$2:$CM$18,2,FALSE),\"\")","v":""},{"$f":"IFERROR(HLOOKUP(SK$19,DEBUT!$BS$2:$CM$18,6,FALSE),\"\")","v":""},{"$f":"IFERROR(HLOOKUP(SK$19,DEBUT!$BS$2:$CM$18,10,FALSE),\"\")","v":""},{"$f":"IFERROR(HLOOKUP(SK$19,DEBUT!$BS$2:$CM$18,14,FALSE),\"\")","v":""},null,null,null,null,null,null,null,{"$f":"IFERROR(HLOOKUP(SV$19,DEBUT!$BS$2:$CM$18,2,FALSE),\"\")","v":""},{"$f":"IFERROR(HLOOKUP(SV$19,DEBUT!$BS$2:$CM$18,6,FALSE),\"\")","v":""},{"$f":"IFERROR(HLOOKUP(SV$19,DEBUT!$BS$2:$CM$18,10,FALSE),\"\")","v":""},{"$f":"IFERROR(HLOOKUP(SV$19,DEBUT!$BS$2:$CM$18,14,FALSE),\"\")","v":""},null,null,null,{"$f":"IFERROR(HLOOKUP(TC$19,DEBUT!$BS$2:$CM$18,2,FALSE),\"\")","v":""},{"$f":"IFERROR(HLOOKUP(TC$19,DEBUT!$BS$2:$CM$18,6,FALSE),\"\")","v":""},{"$f":"IFERROR(HLOOKUP(TC$19,DEBUT!$BS$2:$CM$18,10,FALSE),\"\")","v":""},{"$f":"IFERROR(HLOOKUP(TC$19,DEBUT!$BS$2:$CM$18,14,FALSE),\"\")","v":""},null,null,null,null,null,{"$f":"IFERROR(HLOOKUP(TL$19,DEBUT!$BS$2:$CM$18,2,FALSE),\"\")","v":""},{"$f":"IFERROR(HLOOKUP(TL$19,DEBUT!$BS$2:$CM$18,6,FALSE),\"\")","v":""},{"$f":"IFERROR(HLOOKUP(TL$19,DEBUT!$BS$2:$CM$18,10,FALSE),\"\")","v":""},{"$f":"IFERROR(HLOOKUP(TL$19,DEBUT!$BS$2:$CM$18,14,FALSE),\"\")","v":""},null,null,null,{"$f":"IFERROR(HLOOKUP(TS$19,DEBUT!$BS$2:$CM$18,2,FALSE),\"\")","v":""},{"$f":"IFERROR(HLOOKUP(TS$19,DEBUT!$BS$2:$CM$18,6,FALSE),\"\")","v":""},{"$f":"IFERROR(HLOOKUP(TS$19,DEBUT!$BS$2:$CM$18,10,FALSE),\"\")","v":""},{"$f":"IFERROR(HLOOKUP(TS$19,DEBUT!$BS$2:$CM$18,14,FALSE),\"\")","v":""},null,null,null,null,null,null,null,{"$f":"IFERROR(HLOOKUP(UD$19,DEBUT!$BS$2:$CM$18,2,FALSE),\"\")","v":""},{"$f":"IFERROR(HLOOKUP(UD$19,DEBUT!$BS$2:$CM$18,6,FALSE),\"\")","v":""},{"$f":"IFERROR(HLOOKUP(UD$19,DEBUT!$BS$2:$CM$18,10,FALSE),\"\")","v":""},{"$f":"IFERROR(HLOOKUP(UD$19,DEBUT!$BS$2:$CM$18,14,FALSE),\"\")","v":""},null,null,null,{"$f":"IFERROR(HLOOKUP(UK$19,DEBUT!$BS$2:$CM$18,2,FALSE),\"\")","v":""},{"$f":"IFERROR(HLOOKUP(UK$19,DEBUT!$BS$2:$CM$18,6,FALSE),\"\")","v":""},{"$f":"IFERROR(HLOOKUP(UK$19,DEBUT!$BS$2:$CM$18,10,FALSE),\"\")","v":""},{"$f":"IFERROR(HLOOKUP(UK$19,DEBUT!$BS$2:$CM$18,14,FALSE),\"\")","v":""},null,null,null,null,null,{"$f":"IFERROR(HLOOKUP(UT$19,DEBUT!$BS$2:$CM$18,2,FALSE),\"\")","v":""},{"$f":"IFERROR(HLOOKUP(UT$19,DEBUT!$BS$2:$CM$18,6,FALSE),\"\")","v":""},{"$f":"IFERROR(HLOOKUP(UT$19,DEBUT!$BS$2:$CM$18,10,FALSE),\"\")","v":""},{"$f":"IFERROR(HLOOKUP(UT$19,DEBUT!$BS$2:$CM$18,14,FALSE),\"\")","v":""},null,null,null,{"$f":"IFERROR(HLOOKUP(VA$19,DEBUT!$BS$2:$CM$18,2,FALSE),\"\")","v":""},{"$f":"IFERROR(HLOOKUP(VA$19,DEBUT!$BS$2:$CM$18,6,FALSE),\"\")","v":""},{"$f":"IFERROR(HLOOKUP(VA$19,DEBUT!$BS$2:$CM$18,10,FALSE),\"\")","v":""},{"$f":"IFERROR(HLOOKUP(VA$19,DEBUT!$BS$2:$CM$18,14,FALSE),\"\")","v":""},null,null,null,null,null,null,null,{"$f":"IFERROR(HLOOKUP(VL$19,DEBUT!$BS$2:$CM$18,2,FALSE),\"\")","v":""},{"$f":"IFERROR(HLOOKUP(VL$19,DEBUT!$BS$2:$CM$18,6,FALSE),\"\")","v":""},{"$f":"IFERROR(HLOOKUP(VL$19,DEBUT!$BS$2:$CM$18,10,FALSE),\"\")","v":""},{"$f":"IFERROR(HLOOKUP(VL$19,DEBUT!$BS$2:$CM$18,14,FALSE),\"\")","v":""},null,null,null,{"$f":"IFERROR(HLOOKUP(VS$19,DEBUT!$BS$2:$CM$18,2,FALSE),\"\")","v":""},{"$f":"IFERROR(HLOOKUP(VS$19,DEBUT!$BS$2:$CM$18,6,FALSE),\"\")","v":""},{"$f":"IFERROR(HLOOKUP(VS$19,DEBUT!$BS$2:$CM$18,10,FALSE),\"\")","v":""},{"$f":"IFERROR(HLOOKUP(VS$19,DEBUT!$BS$2:$CM$18,14,FALSE),\"\")","v":""},null,null,null,null,null,{"$f":"IFERROR(HLOOKUP(WB$19,DEBUT!$BS$2:$CM$18,2,FALSE),\"\")","v":""},{"$f":"IFERROR(HLOOKUP(WB$19,DEBUT!$BS$2:$CM$18,6,FALSE),\"\")","v":""},{"$f":"IFERROR(HLOOKUP(WB$19,DEBUT!$BS$2:$CM$18,10,FALSE),\"\")","v":""},{"$f":"IFERROR(HLOOKUP(WB$19,DEBUT!$BS$2:$CM$18,14,FALSE),\"\")","v":""},null,null,null,{"$f":"IFERROR(HLOOKUP(WI$19,DEBUT!$BS$2:$CM$18,2,FALSE),\"\")","v":""},{"$f":"IFERROR(HLOOKUP(WI$19,DEBUT!$BS$2:$CM$18,6,FALSE),\"\")","v":""},{"$f":"IFERROR(HLOOKUP(WI$19,DEBUT!$BS$2:$CM$18,10,FALSE),\"\")","v":""},{"$f":"IFERROR(HLOOKUP(WI$19,DEBUT!$BS$2:$CM$18,14,FALSE),\"\")","v":""},null,null,null,null,null,null,null,{"$f":"IFERROR(HLOOKUP(WT$19,DEBUT!$BS$2:$CM$18,2,FALSE),\"\")","v":""},{"$f":"IFERROR(HLOOKUP(WT$19,DEBUT!$BS$2:$CM$18,6,FALSE),\"\")","v":""},{"$f":"IFERROR(HLOOKUP(WT$19,DEBUT!$BS$2:$CM$18,10,FALSE),\"\")","v":""},{"$f":"IFERROR(HLOOKUP(WT$19,DEBUT!$BS$2:$CM$18,14,FALSE),\"\")","v":""},null,null,null,{"$f":"IFERROR(HLOOKUP(XA$19,DEBUT!$BS$2:$CM$18,2,FALSE),\"\")","v":""},{"$f":"IFERROR(HLOOKUP(XA$19,DEBUT!$BS$2:$CM$18,6,FALSE),\"\")","v":""},{"$f":"IFERROR(HLOOKUP(XA$19,DEBUT!$BS$2:$CM$18,10,FALSE),\"\")","v":""},{"$f":"IFERROR(HLOOKUP(XA$19,DEBUT!$BS$2:$CM$18,14,FALSE),\"\")","v":""},null,null,null,null,null,{"$f":"IFERROR(HLOOKUP(XJ$19,DEBUT!$BS$2:$CM$18,2,FALSE),\"\")","v":""},{"$f":"IFERROR(HLOOKUP(XJ$19,DEBUT!$BS$2:$CM$18,6,FALSE),\"\")","v":""},{"$f":"IFERROR(HLOOKUP(XJ$19,DEBUT!$BS$2:$CM$18,10,FALSE),\"\")","v":""},{"$f":"IFERROR(HLOOKUP(XJ$19,DEBUT!$BS$2:$CM$18,14,FALSE),\"\")","v":""},null,null,null,{"$f":"IFERROR(HLOOKUP(XQ$19,DEBUT!$BS$2:$CM$18,2,FALSE),\"\")","v":""},{"$f":"IFERROR(HLOOKUP(XQ$19,DEBUT!$BS$2:$CM$18,6,FALSE),\"\")","v":""},{"$f":"IFERROR(HLOOKUP(XQ$19,DEBUT!$BS$2:$CM$18,10,FALSE),\"\")","v":""},{"$f":"IFERROR(HLOOKUP(XQ$19,DEBUT!$BS$2:$CM$18,14,FALSE),\"\")","v":""},null,null,null,null,null,null,null,{"$f":"IFERROR(HLOOKUP(YB$19,DEBUT!$BS$2:$CM$18,2,FALSE),\"\")","v":""},{"$f":"IFERROR(HLOOKUP(YB$19,DEBUT!$BS$2:$CM$18,6,FALSE),\"\")","v":""},{"$f":"IFERROR(HLOOKUP(YB$19,DEBUT!$BS$2:$CM$18,10,FALSE),\"\")","v":""},{"$f":"IFERROR(HLOOKUP(YB$19,DEBUT!$BS$2:$CM$18,14,FALSE),\"\")","v":""},null,null,null,{"$f":"IFERROR(HLOOKUP(YI$19,DEBUT!$BS$2:$CM$18,2,FALSE),\"\")","v":""},{"$f":"IFERROR(HLOOKUP(YI$19,DEBUT!$BS$2:$CM$18,6,FALSE),\"\")","v":""},{"$f":"IFERROR(HLOOKUP(YI$19,DEBUT!$BS$2:$CM$18,10,FALSE),\"\")","v":""},{"$f":"IFERROR(HLOOKUP(YI$19,DEBUT!$BS$2:$CM$18,14,FALSE),\"\")","v":""},null,null,null,null,null,{"$f":"IFERROR(HLOOKUP(YR$19,DEBUT!$BS$2:$CM$18,2,FALSE),\"\")","v":""},{"$f":"IFERROR(HLOOKUP(YR$19,DEBUT!$BS$2:$CM$18,6,FALSE),\"\")","v":""},{"$f":"IFERROR(HLOOKUP(YR$19,DEBUT!$BS$2:$CM$18,10,FALSE),\"\")","v":""},{"$f":"IFERROR(HLOOKUP(YR$19,DEBUT!$BS$2:$CM$18,14,FALSE),\"\")","v":""},null,null,null,{"$f":"IFERROR(HLOOKUP(YY$19,DEBUT!$BS$2:$CM$18,2,FALSE),\"\")","v":""},{"$f":"IFERROR(HLOOKUP(YY$19,DEBUT!$BS$2:$CM$18,6,FALSE),\"\")","v":""},{"$f":"IFERROR(HLOOKUP(YY$19,DEBUT!$BS$2:$CM$18,10,FALSE),\"\")","v":""},{"$f":"IFERROR(HLOOKUP(YY$19,DEBUT!$BS$2:$CM$18,14,FALSE),\"\")","v":""},null,null,null,null,null,null,null,{"$f":"IFERROR(HLOOKUP(ZJ$19,DEBUT!$BS$2:$CM$18,2,FALSE),\"\")","v":""},{"$f":"IFERROR(HLOOKUP(ZJ$19,DEBUT!$BS$2:$CM$18,6,FALSE),\"\")","v":""},{"$f":"IFERROR(HLOOKUP(ZJ$19,DEBUT!$BS$2:$CM$18,10,FALSE),\"\")","v":""},{"$f":"IFERROR(HLOOKUP(ZJ$19,DEBUT!$BS$2:$CM$18,14,FALSE),\"\")","v":""},null,null,null,{"$f":"IFERROR(HLOOKUP(ZQ$19,DEBUT!$BS$2:$CM$18,2,FALSE),\"\")","v":""},{"$f":"IFERROR(HLOOKUP(ZQ$19,DEBUT!$BS$2:$CM$18,6,FALSE),\"\")","v":""},{"$f":"IFERROR(HLOOKUP(ZQ$19,DEBUT!$BS$2:$CM$18,10,FALSE),\"\")","v":""},{"$f":"IFERROR(HLOOKUP(ZQ$19,DEBUT!$BS$2:$CM$18,14,FALSE),\"\")","v":""},null,null,null,null,null,{"$f":"IFERROR(HLOOKUP(ZZ$19,DEBUT!$BS$2:$CM$18,2,FALSE),\"\")","v":""},{"$f":"IFERROR(HLOOKUP(ZZ$19,DEBUT!$BS$2:$CM$18,6,FALSE),\"\")","v":""},{"$f":"IFERROR(HLOOKUP(ZZ$19,DEBUT!$BS$2:$CM$18,10,FALSE),\"\")","v":""},{"$f":"IFERROR(HLOOKUP(ZZ$19,DEBUT!$BS$2:$CM$18,14,FALSE),\"\")","v":""},null,null,null,{"$f":"IFERROR(HLOOKUP(AAG$19,DEBUT!$BS$2:$CM$18,2,FALSE),\"\")","v":""},{"$f":"IFERROR(HLOOKUP(AAG$19,DEBUT!$BS$2:$CM$18,6,FALSE),\"\")","v":""},{"$f":"IFERROR(HLOOKUP(AAG$19,DEBUT!$BS$2:$CM$18,10,FALSE),\"\")","v":""},{"$f":"IFERROR(HLOOKUP(AAG$19,DEBUT!$BS$2:$CM$18,14,FALSE),\"\")","v":""},null,null,null,null,null,null,null,{"$f":"IFERROR(HLOOKUP(AAR$19,DEBUT!$BS$2:$CM$18,2,FALSE),\"\")","v":""},{"$f":"IFERROR(HLOOKUP(AAR$19,DEBUT!$BS$2:$CM$18,6,FALSE),\"\")","v":""},{"$f":"IFERROR(HLOOKUP(AAR$19,DEBUT!$BS$2:$CM$18,10,FALSE),\"\")","v":""},{"$f":"IFERROR(HLOOKUP(AAR$19,DEBUT!$BS$2:$CM$18,14,FALSE),\"\")","v":""},null,null,null,{"$f":"IFERROR(HLOOKUP(AAY$19,DEBUT!$BS$2:$CM$18,2,FALSE),\"\")","v":""},{"$f":"IFERROR(HLOOKUP(AAY$19,DEBUT!$BS$2:$CM$18,6,FALSE),\"\")","v":""},{"$f":"IFERROR(HLOOKUP(AAY$19,DEBUT!$BS$2:$CM$18,10,FALSE),\"\")","v":""},{"$f":"IFERROR(HLOOKUP(AAY$19,DEBUT!$BS$2:$CM$18,14,FALSE),\"\")","v":""},null,null,null,null,null,{"$f":"IFERROR(HLOOKUP(ABH$19,DEBUT!$BS$2:$CM$18,2,FALSE),\"\")","v":""},{"$f":"IFERROR(HLOOKUP(ABH$19,DEBUT!$BS$2:$CM$18,6,FALSE),\"\")","v":""},{"$f":"IFERROR(HLOOKUP(ABH$19,DEBUT!$BS$2:$CM$18,10,FALSE),\"\")","v":""},{"$f":"IFERROR(HLOOKUP(ABH$19,DEBUT!$BS$2:$CM$18,14,FALSE),\"\")","v":""},null,null,null,{"$f":"IFERROR(HLOOKUP(ABO$19,DEBUT!$BS$2:$CM$18,2,FALSE),\"\")","v":""},{"$f":"IFERROR(HLOOKUP(ABO$19,DEBUT!$BS$2:$CM$18,6,FALSE),\"\")","v":""},{"$f":"IFERROR(HLOOKUP(ABO$19,DEBUT!$BS$2:$CM$18,10,FALSE),\"\")","v":""},{"$f":"IFERROR(HLOOKUP(ABO$19,DEBUT!$BS$2:$CM$18,14,FALSE),\"\")","v":""},null,null,null,null,null,null,null,{"$f":"IFERROR(HLOOKUP(ABZ$19,DEBUT!$BS$2:$CM$18,2,FALSE),\"\")","v":""},{"$f":"IFERROR(HLOOKUP(ABZ$19,DEBUT!$BS$2:$CM$18,6,FALSE),\"\")","v":""},{"$f":"IFERROR(HLOOKUP(ABZ$19,DEBUT!$BS$2:$CM$18,10,FALSE),\"\")","v":""},{"$f":"IFERROR(HLOOKUP(ABZ$19,DEBUT!$BS$2:$CM$18,14,FALSE),\"\")","v":""},null,null,null,{"$f":"IFERROR(HLOOKUP(ACG$19,DEBUT!$BS$2:$CM$18,2,FALSE),\"\")","v":""},{"$f":"IFERROR(HLOOKUP(ACG$19,DEBUT!$BS$2:$CM$18,6,FALSE),\"\")","v":""},{"$f":"IFERROR(HLOOKUP(ACG$19,DEBUT!$BS$2:$CM$18,10,FALSE),\"\")","v":""},{"$f":"IFERROR(HLOOKUP(ACG$19,DEBUT!$BS$2:$CM$18,14,FALSE),\"\")","v":""},null,null,null,null,null,{"$f":"IFERROR(HLOOKUP(ACP$19,DEBUT!$BS$2:$CM$18,2,FALSE),\"\")","v":""},{"$f":"IFERROR(HLOOKUP(ACP$19,DEBUT!$BS$2:$CM$18,6,FALSE),\"\")","v":""},{"$f":"IFERROR(HLOOKUP(ACP$19,DEBUT!$BS$2:$CM$18,10,FALSE),\"\")","v":""},{"$f":"IFERROR(HLOOKUP(ACP$19,DEBUT!$BS$2:$CM$18,14,FALSE),\"\")","v":""},null,null,null,{"$f":"IFERROR(HLOOKUP(ACW$19,DEBUT!$BS$2:$CM$18,2,FALSE),\"\")","v":""},{"$f":"IFERROR(HLOOKUP(ACW$19,DEBUT!$BS$2:$CM$18,6,FALSE),\"\")","v":""},{"$f":"IFERROR(HLOOKUP(ACW$19,DEBUT!$BS$2:$CM$18,10,FALSE),\"\")","v":""},{"$f":"IFERROR(HLOOKUP(ACW$19,DEBUT!$BS$2:$CM$18,14,FALSE),\"\")","v":""},null,null,null,null,null,null,null,{"$f":"IFERROR(HLOOKUP(ADH$19,DEBUT!$BS$2:$CM$18,2,FALSE),\"\")","v":""},{"$f":"IFERROR(HLOOKUP(ADH$19,DEBUT!$BS$2:$CM$18,6,FALSE),\"\")","v":""},{"$f":"IFERROR(HLOOKUP(ADH$19,DEBUT!$BS$2:$CM$18,10,FALSE),\"\")","v":""},{"$f":"IFERROR(HLOOKUP(ADH$19,DEBUT!$BS$2:$CM$18,14,FALSE),\"\")","v":""},null,null,null,{"$f":"IFERROR(HLOOKUP(ADO$19,DEBUT!$BS$2:$CM$18,2,FALSE),\"\")","v":""},{"$f":"IFERROR(HLOOKUP(ADO$19,DEBUT!$BS$2:$CM$18,6,FALSE),\"\")","v":""},{"$f":"IFERROR(HLOOKUP(ADO$19,DEBUT!$BS$2:$CM$18,10,FALSE),\"\")","v":""},{"$f":"IFERROR(HLOOKUP(ADO$19,DEBUT!$BS$2:$CM$18,14,FALSE),\"\")","v":""},null,null,null,null,null,{"$f":"IFERROR(HLOOKUP(ADX$19,DEBUT!$BS$2:$CM$18,2,FALSE),\"\")","v":""},{"$f":"IFERROR(HLOOKUP(ADX$19,DEBUT!$BS$2:$CM$18,6,FALSE),\"\")","v":""},{"$f":"IFERROR(HLOOKUP(ADX$19,DEBUT!$BS$2:$CM$18,10,FALSE),\"\")","v":""},{"$f":"IFERROR(HLOOKUP(ADX$19,DEBUT!$BS$2:$CM$18,14,FALSE),\"\")","v":""},null,null,null,{"$f":"IFERROR(HLOOKUP(AEE$19,DEBUT!$BS$2:$CM$18,2,FALSE),\"\")","v":""},{"$f":"IFERROR(HLOOKUP(AEE$19,DEBUT!$BS$2:$CM$18,6,FALSE),\"\")","v":""},{"$f":"IFERROR(HLOOKUP(AEE$19,DEBUT!$BS$2:$CM$18,10,FALSE),\"\")","v":""},{"$f":"IFERROR(HLOOKUP(AEE$19,DEBUT!$BS$2:$CM$18,14,FALSE),\"\")","v":""}]
[null,null,null,null,null,{"$f":"IFERROR(HLOOKUP(F$19,DEBUT!$BS$2:$CM$18,3,FALSE),\"\")","v":""},{"$f":"IFERROR(HLOOKUP(F$19,DEBUT!$BS$2:$CM$18,7,FALSE),\"\")","v":""},{"$f":"IFERROR(HLOOKUP(F$19,DEBUT!$BS$2:$CM$18,11,FALSE),\"\")","v":""},{"$f":"IFERROR(HLOOKUP(F$19,DEBUT!$BS$2:$CM$18,15,FALSE),\"\")","v":""},null,null,null,{"$f":"IFERROR(HLOOKUP(M$19,DEBUT!$BS$2:$CM$18,3,FALSE),\"\")","v":""},{"$f":"IFERROR(HLOOKUP(M$19,DEBUT!$BS$2:$CM$18,7,FALSE),\"\")","v":""},{"$f":"IFERROR(HLOOKUP(M$19,DEBUT!$BS$2:$CM$18,11,FALSE),\"\")","v":""},{"$f":"IFERROR(HLOOKUP(M$19,DEBUT!$BS$2:$CM$18,15,FALSE),\"\")","v":""},null,null,null,null,null,{"$f":"IFERROR(HLOOKUP(V$19,DEBUT!$BS$2:$CM$18,3,FALSE),\"\")","v":""},{"$f":"IFERROR(HLOOKUP(V$19,DEBUT!$BS$2:$CM$18,7,FALSE),\"\")","v":""},{"$f":"IFERROR(HLOOKUP(V$19,DEBUT!$BS$2:$CM$18,11,FALSE),\"\")","v":""},{"$f":"IFERROR(HLOOKUP(V$19,DEBUT!$BS$2:$CM$18,15,FALSE),\"\")","v":""},null,null,null,{"$f":"IFERROR(HLOOKUP(AC$19,DEBUT!$BS$2:$CM$18,3,FALSE),\"\")","v":""},{"$f":"IFERROR(HLOOKUP(AC$19,DEBUT!$BS$2:$CM$18,7,FALSE),\"\")","v":""},{"$f":"IFERROR(HLOOKUP(AC$19,DEBUT!$BS$2:$CM$18,11,FALSE),\"\")","v":""},{"$f":"IFERROR(HLOOKUP(AC$19,DEBUT!$BS$2:$CM$18,15,FALSE),\"\")","v":""},null,null,null,null,null,null,null,{"$f":"IFERROR(HLOOKUP(AN$19,DEBUT!$BS$2:$CM$18,3,FALSE),\"\")","v":""},{"$f":"IFERROR(HLOOKUP(AN$19,DEBUT!$BS$2:$CM$18,7,FALSE),\"\")","v":""},{"$f":"IFERROR(HLOOKUP(AN$19,DEBUT!$BS$2:$CM$18,11,FALSE),\"\")","v":""},{"$f":"IFERROR(HLOOKUP(AN$19,DEBUT!$BS$2:$CM$18,15,FALSE),\"\")","v":""},null,null,null,{"$f":"IFERROR(HLOOKUP(AU$19,DEBUT!$BS$2:$CM$18,3,FALSE),\"\")","v":""},{"$f":"IFERROR(HLOOKUP(AU$19,DEBUT!$BS$2:$CM$18,7,FALSE),\"\")","v":""},{"$f":"IFERROR(HLOOKUP(AU$19,DEBUT!$BS$2:$CM$18,11,FALSE),\"\")","v":""},{"$f":"IFERROR(HLOOKUP(AU$19,DEBUT!$BS$2:$CM$18,15,FALSE),\"\")","v":""},null,null,null,null,null,{"$f":"IFERROR(HLOOKUP(BD$19,DEBUT!$BS$2:$CM$18,3,FALSE),\"\")","v":""},{"$f":"IFERROR(HLOOKUP(BD$19,DEBUT!$BS$2:$CM$18,7,FALSE),\"\")","v":""},{"$f":"IFERROR(HLOOKUP(BD$19,DEBUT!$BS$2:$CM$18,11,FALSE),\"\")","v":""},{"$f":"IFERROR(HLOOKUP(BD$19,DEBUT!$BS$2:$CM$18,15,FALSE),\"\")","v":""},null,null,null,{"$f":"IFERROR(HLOOKUP(BK$19,DEBUT!$BS$2:$CM$18,3,FALSE),\"\")","v":""},{"$f":"IFERROR(HLOOKUP(BK$19,DEBUT!$BS$2:$CM$18,7,FALSE),\"\")","v":""},{"$f":"IFERROR(HLOOKUP(BK$19,DEBUT!$BS$2:$CM$18,11,FALSE),\"\")","v":""},{"$f":"IFERROR(HLOOKUP(BK$19,DEBUT!$BS$2:$CM$18,15,FALSE),\"\")","v":""},null,null,null,null,null,null,null,{"$f":"IFERROR(HLOOKUP(BV$19,DEBUT!$BS$2:$CM$18,3,FALSE),\"\")","v":""},{"$f":"IFERROR(HLOOKUP(BV$19,DEBUT!$BS$2:$CM$18,7,FALSE),\"\")","v":""},{"$f":"IFERROR(HLOOKUP(BV$19,DEBUT!$BS$2:$CM$18,11,FALSE),\"\")","v":""},{"$f":"IFERROR(HLOOKUP(BV$19,DEBUT!$BS$2:$CM$18,15,FALSE),\"\")","v":""},null,null,null,{"$f":"IFERROR(HLOOKUP(CC$19,DEBUT!$BS$2:$CM$18,3,FALSE),\"\")","v":""},{"$f":"IFERROR(HLOOKUP(CC$19,DEBUT!$BS$2:$CM$18,7,FALSE),\"\")","v":""},{"$f":"IFERROR(HLOOKUP(CC$19,DEBUT!$BS$2:$CM$18,11,FALSE),\"\")","v":""},{"$f":"IFERROR(HLOOKUP(CC$19,DEBUT!$BS$2:$CM$18,15,FALSE),\"\")","v":""},null,null,null,null,null,{"$f":"IFERROR(HLOOKUP(CL$19,DEBUT!$BS$2:$CM$18,3,FALSE),\"\")","v":""},{"$f":"IFERROR(HLOOKUP(CL$19,DEBUT!$BS$2:$CM$18,7,FALSE),\"\")","v":""},{"$f":"IFERROR(HLOOKUP(CL$19,DEBUT!$BS$2:$CM$18,11,FALSE),\"\")","v":""},{"$f":"IFERROR(HLOOKUP(CL$19,DEBUT!$BS$2:$CM$18,15,FALSE),\"\")","v":""},null,null,null,{"$f":"IFERROR(HLOOKUP(CS$19,DEBUT!$BS$2:$CM$18,3,FALSE),\"\")","v":""},{"$f":"IFERROR(HLOOKUP(CS$19,DEBUT!$BS$2:$CM$18,7,FALSE),\"\")","v":""},{"$f":"IFERROR(HLOOKUP(CS$19,DEBUT!$BS$2:$CM$18,11,FALSE),\"\")","v":""},{"$f":"IFERROR(HLOOKUP(CS$19,DEBUT!$BS$2:$CM$18,15,FALSE),\"\")","v":""},null,null,null,null,null,null,null,{"$f":"IFERROR(HLOOKUP(DD$19,DEBUT!$BS$2:$CM$18,3,FALSE),\"\")","v":""},{"$f":"IFERROR(HLOOKUP(DD$19,DEBUT!$BS$2:$CM$18,7,FALSE),\"\")","v":""},{"$f":"IFERROR(HLOOKUP(DD$19,DEBUT!$BS$2:$CM$18,11,FALSE),\"\")","v":""},{"$f":"IFERROR(HLOOKUP(DD$19,DEBUT!$BS$2:$CM$18,15,FALSE),\"\")","v":""},null,null,null,{"$f":"IFERROR(HLOOKUP(DK$19,DEBUT!$BS$2:$CM$18,3,FALSE),\"\")","v":""},{"$f":"IFERROR(HLOOKUP(DK$19,DEBUT!$BS$2:$CM$18,7,FALSE),\"\")","v":""},{"$f":"IFERROR(HLOOKUP(DK$19,DEBUT!$BS$2:$CM$18,11,FALSE),\"\")","v":""},{"$f":"IFERROR(HLOOKUP(DK$19,DEBUT!$BS$2:$CM$18,15,FALSE),\"\")","v":""},null,null,null,null,null,{"$f":"IFERROR(HLOOKUP(DT$19,DEBUT!$BS$2:$CM$18,3,FALSE),\"\")","v":""},{"$f":"IFERROR(HLOOKUP(DT$19,DEBUT!$BS$2:$CM$18,7,FALSE),\"\")","v":""},{"$f":"IFERROR(HLOOKUP(DT$19,DEBUT!$BS$2:$CM$18,11,FALSE),\"\")","v":""},{"$f":"IFERROR(HLOOKUP(DT$19,DEBUT!$BS$2:$CM$18,15,FALSE),\"\")","v":""},null,null,null,{"$f":"IFERROR(HLOOKUP(EA$19,DEBUT!$BS$2:$CM$18,3,FALSE),\"\")","v":""},{"$f":"IFERROR(HLOOKUP(EA$19,DEBUT!$BS$2:$CM$18,7,FALSE),\"\")","v":""},{"$f":"IFERROR(HLOOKUP(EA$19,DEBUT!$BS$2:$CM$18,11,FALSE),\"\")","v":""},{"$f":"IFERROR(HLOOKUP(EA$19,DEBUT!$BS$2:$CM$18,15,FALSE),\"\")","v":""},null,null,null,null,null,null,null,{"$f":"IFERROR(HLOOKUP(EL$19,DEBUT!$BS$2:$CM$18,3,FALSE),\"\")","v":""},{"$f":"IFERROR(HLOOKUP(EL$19,DEBUT!$BS$2:$CM$18,7,FALSE),\"\")","v":""},{"$f":"IFERROR(HLOOKUP(EL$19,DEBUT!$BS$2:$CM$18,11,FALSE),\"\")","v":""},{"$f":"IFERROR(HLOOKUP(EL$19,DEBUT!$BS$2:$CM$18,15,FALSE),\"\")","v":""},null,null,null,{"$f":"IFERROR(HLOOKUP(ES$19,DEBUT!$BS$2:$CM$18,3,FALSE),\"\")","v":""},{"$f":"IFERROR(HLOOKUP(ES$19,DEBUT!$BS$2:$CM$18,7,FALSE),\"\")","v":""},{"$f":"IFERROR(HLOOKUP(ES$19,DEBUT!$BS$2:$CM$18,11,FALSE),\"\")","v":""},{"$f":"IFERROR(HLOOKUP(ES$19,DEBUT!$BS$2:$CM$18,15,FALSE),\"\")","v":""},null,null,null,null,null,{"$f":"IFERROR(HLOOKUP(FB$19,DEBUT!$BS$2:$CM$18,3,FALSE),\"\")","v":""},{"$f":"IFERROR(HLOOKUP(FB$19,DEBUT!$BS$2:$CM$18,7,FALSE),\"\")","v":""},{"$f":"IFERROR(HLOOKUP(FB$19,DEBUT!$BS$2:$CM$18,11,FALSE),\"\")","v":""},{"$f":"IFERROR(HLOOKUP(FB$19,DEBUT!$BS$2:$CM$18,15,FALSE),\"\")","v":""},null,null,null,{"$f":"IFERROR(HLOOKUP(FI$19,DEBUT!$BS$2:$CM$18,3,FALSE),\"\")","v":""},{"$f":"IFERROR(HLOOKUP(FI$19,DEBUT!$BS$2:$CM$18,7,FALSE),\"\")","v":""},{"$f":"IFERROR(HLOOKUP(FI$19,DEBUT!$BS$2:$CM$18,11,FALSE),\"\")","v":""},{"$f":"IFERROR(HLOOKUP(FI$19,DEBUT!$BS$2:$CM$18,15,FALSE),\"\")","v":""},null,null,null,null,null,null,null,{"$f":"IFERROR(HLOOKUP(FT$19,DEBUT!$BS$2:$CM$18,3,FALSE),\"\")","v":""},{"$f":"IFERROR(HLOOKUP(FT$19,DEBUT!$BS$2:$CM$18,7,FALSE),\"\")","v":""},{"$f":"IFERROR(HLOOKUP(FT$19,DEBUT!$BS$2:$CM$18,11,FALSE),\"\")","v":""},{"$f":"IFERROR(HLOOKUP(FT$19,DEBUT!$BS$2:$CM$18,15,FALSE),\"\")","v":""},null,null,null,{"$f":"IFERROR(HLOOKUP(GA$19,DEBUT!$BS$2:$CM$18,3,FALSE),\"\")","v":""},{"$f":"IFERROR(HLOOKUP(GA$19,DEBUT!$BS$2:$CM$18,7,FALSE),\"\")","v":""},{"$f":"IFERROR(HLOOKUP(GA$19,DEBUT!$BS$2:$CM$18,11,FALSE),\"\")","v":""},{"$f":"IFERROR(HLOOKUP(GA$19,DEBUT!$BS$2:$CM$18,15,FALSE),\"\")","v":""},null,null,null,null,null,{"$f":"IFERROR(HLOOKUP(GJ$19,DEBUT!$BS$2:$CM$18,3,FALSE),\"\")","v":""},{"$f":"IFERROR(HLOOKUP(GJ$19,DEBUT!$BS$2:$CM$18,7,FALSE),\"\")","v":""},{"$f":"IFERROR(HLOOKUP(GJ$19,DEBUT!$BS$2:$CM$18,11,FALSE),\"\")","v":""},{"$f":"IFERROR(HLOOKUP(GJ$19,DEBUT!$BS$2:$CM$18,15,FALSE),\"\")","v":""},null,null,null,{"$f":"IFERROR(HLOOKUP(GQ$19,DEBUT!$BS$2:$CM$18,3,FALSE),\"\")","v":""},{"$f":"IFERROR(HLOOKUP(GQ$19,DEBUT!$BS$2:$CM$18,7,FALSE),\"\")","v":""},{"$f":"IFERROR(HLOOKUP(GQ$19,DEBUT!$BS$2:$CM$18,11,FALSE),\"\")","v":""},{"$f":"IFERROR(HLOOKUP(GQ$19,DEBUT!$BS$2:$CM$18,15,FALSE),\"\")","v":""},null,null,null,null,null,null,null,{"$f":"IFERROR(HLOOKUP(HB$19,DEBUT!$BS$2:$CM$18,3,FALSE),\"\")","v":""},{"$f":"IFERROR(HLOOKUP(HB$19,DEBUT!$BS$2:$CM$18,7,FALSE),\"\")","v":""},{"$f":"IFERROR(HLOOKUP(HB$19,DEBUT!$BS$2:$CM$18,11,FALSE),\"\")","v":""},{"$f":"IFERROR(HLOOKUP(HB$19,DEBUT!$BS$2:$CM$18,15,FALSE),\"\")","v":""},null,null,null,{"$f":"IFERROR(HLOOKUP(HI$19,DEBUT!$BS$2:$CM$18,3,FALSE),\"\")","v":""},{"$f":"IFERROR(HLOOKUP(HI$19,DEBUT!$BS$2:$CM$18,7,FALSE),\"\")","v":""},{"$f":"IFERROR(HLOOKUP(HI$19,DEBUT!$BS$2:$CM$18,11,FALSE),\"\")","v":""},{"$f":"IFERROR(HLOOKUP(HI$19,DEBUT!$BS$2:$CM$18,15,FALSE),\"\")","v":""},null,null,null,null,null,{"$f":"IFERROR(HLOOKUP(HR$19,DEBUT!$BS$2:$CM$18,3,FALSE),\"\")","v":""},{"$f":"IFERROR(HLOOKUP(HR$19,DEBUT!$BS$2:$CM$18,7,FALSE),\"\")","v":""},{"$f":"IFERROR(HLOOKUP(HR$19,DEBUT!$BS$2:$CM$18,11,FALSE),\"\")","v":""},{"$f":"IFERROR(HLOOKUP(HR$19,DEBUT!$BS$2:$CM$18,15,FALSE),\"\")","v":""},null,null,null,{"$f":"IFERROR(HLOOKUP(HY$19,DEBUT!$BS$2:$CM$18,3,FALSE),\"\")","v":""},{"$f":"IFERROR(HLOOKUP(HY$19,DEBUT!$BS$2:$CM$18,7,FALSE),\"\")","v":""},{"$f":"IFERROR(HLOOKUP(HY$19,DEBUT!$BS$2:$CM$18,11,FALSE),\"\")","v":""},{"$f":"IFERROR(HLOOKUP(HY$19,DEBUT!$BS$2:$CM$18,15,FALSE),\"\")","v":""},null,null,null,null,null,null,null,{"$f":"IFERROR(HLOOKUP(IJ$19,DEBUT!$BS$2:$CM$18,3,FALSE),\"\")","v":""},{"$f":"IFERROR(HLOOKUP(IJ$19,DEBUT!$BS$2:$CM$18,7,FALSE),\"\")","v":""},{"$f":"IFERROR(HLOOKUP(IJ$19,DEBUT!$BS$2:$CM$18,11,FALSE),\"\")","v":""},{"$f":"IFERROR(HLOOKUP(IJ$19,DEBUT!$BS$2:$CM$18,15,FALSE),\"\")","v":""},null,null,null,{"$f":"IFERROR(HLOOKUP(IQ$19,DEBUT!$BS$2:$CM$18,3,FALSE),\"\")","v":""},{"$f":"IFERROR(HLOOKUP(IQ$19,DEBUT!$BS$2:$CM$18,7,FALSE),\"\")","v":""},{"$f":"IFERROR(HLOOKUP(IQ$19,DEBUT!$BS$2:$CM$18,11,FALSE),\"\")","v":""},{"$f":"IFERROR(HLOOKUP(IQ$19,DEBUT!$BS$2:$CM$18,15,FALSE),\"\")","v":""},null,null,null,null,null,{"$f":"IFERROR(HLOOKUP(IZ$19,DEBUT!$BS$2:$CM$18,3,FALSE),\"\")","v":""},{"$f":"IFERROR(HLOOKUP(IZ$19,DEBUT!$BS$2:$CM$18,7,FALSE),\"\")","v":""},{"$f":"IFERROR(HLOOKUP(IZ$19,DEBUT!$BS$2:$CM$18,11,FALSE),\"\")","v":""},{"$f":"IFERROR(HLOOKUP(IZ$19,DEBUT!$BS$2:$CM$18,15,FALSE),\"\")","v":""},null,null,null,{"$f":"IFERROR(HLOOKUP(JG$19,DEBUT!$BS$2:$CM$18,3,FALSE),\"\")","v":""},{"$f":"IFERROR(HLOOKUP(JG$19,DEBUT!$BS$2:$CM$18,7,FALSE),\"\")","v":""},{"$f":"IFERROR(HLOOKUP(JG$19,DEBUT!$BS$2:$CM$18,11,FALSE),\"\")","v":""},{"$f":"IFERROR(HLOOKUP(JG$19,DEBUT!$BS$2:$CM$18,15,FALSE),\"\")","v":""},null,null,null,null,null,null,null,{"$f":"IFERROR(HLOOKUP(JR$19,DEBUT!$BS$2:$CM$18,3,FALSE),\"\")","v":""},{"$f":"IFERROR(HLOOKUP(JR$19,DEBUT!$BS$2:$CM$18,7,FALSE),\"\")","v":""},{"$f":"IFERROR(HLOOKUP(JR$19,DEBUT!$BS$2:$CM$18,11,FALSE),\"\")","v":""},{"$f":"IFERROR(HLOOKUP(JR$19,DEBUT!$BS$2:$CM$18,15,FALSE),\"\")","v":""},null,null,null,{"$f":"IFERROR(HLOOKUP(JY$19,DEBUT!$BS$2:$CM$18,3,FALSE),\"\")","v":""},{"$f":"IFERROR(HLOOKUP(JY$19,DEBUT!$BS$2:$CM$18,7,FALSE),\"\")","v":""},{"$f":"IFERROR(HLOOKUP(JY$19,DEBUT!$BS$2:$CM$18,11,FALSE),\"\")","v":""},{"$f":"IFERROR(HLOOKUP(JY$19,DEBUT!$BS$2:$CM$18,15,FALSE),\"\")","v":""},null,null,null,null,null,{"$f":"IFERROR(HLOOKUP(KH$19,DEBUT!$BS$2:$CM$18,3,FALSE),\"\")","v":""},{"$f":"IFERROR(HLOOKUP(KH$19,DEBUT!$BS$2:$CM$18,7,FALSE),\"\")","v":""},{"$f":"IFERROR(HLOOKUP(KH$19,DEBUT!$BS$2:$CM$18,11,FALSE),\"\")","v":""},{"$f":"IFERROR(HLOOKUP(KH$19,DEBUT!$BS$2:$CM$18,15,FALSE),\"\")","v":""},null,null,null,{"$f":"IFERROR(HLOOKUP(KO$19,DEBUT!$BS$2:$CM$18,3,FALSE),\"\")","v":""},{"$f":"IFERROR(HLOOKUP(KO$19,DEBUT!$BS$2:$CM$18,7,FALSE),\"\")","v":""},{"$f":"IFERROR(HLOOKUP(KO$19,DEBUT!$BS$2:$CM$18,11,FALSE),\"\")","v":""},{"$f":"IFERROR(HLOOKUP(KO$19,DEBUT!$BS$2:$CM$18,15,FALSE),\"\")","v":""},null,null,null,null,null,null,null,{"$f":"IFERROR(HLOOKUP(KZ$19,DEBUT!$BS$2:$CM$18,3,FALSE),\"\")","v":""},{"$f":"IFERROR(HLOOKUP(KZ$19,DEBUT!$BS$2:$CM$18,7,FALSE),\"\")","v":""},{"$f":"IFERROR(HLOOKUP(KZ$19,DEBUT!$BS$2:$CM$18,11,FALSE),\"\")","v":""},{"$f":"IFERROR(HLOOKUP(KZ$19,DEBUT!$BS$2:$CM$18,15,FALSE),\"\")","v":""},null,null,null,{"$f":"IFERROR(HLOOKUP(LG$19,DEBUT!$BS$2:$CM$18,3,FALSE),\"\")","v":""},{"$f":"IFERROR(HLOOKUP(LG$19,DEBUT!$BS$2:$CM$18,7,FALSE),\"\")","v":""},{"$f":"IFERROR(HLOOKUP(LG$19,DEBUT!$BS$2:$CM$18,11,FALSE),\"\")","v":""},{"$f":"IFERROR(HLOOKUP(LG$19,DEBUT!$BS$2:$CM$18,15,FALSE),\"\")","v":""},null,null,null,null,null,{"$f":"IFERROR(HLOOKUP(LP$19,DEBUT!$BS$2:$CM$18,3,FALSE),\"\")","v":""},{"$f":"IFERROR(HLOOKUP(LP$19,DEBUT!$BS$2:$CM$18,7,FALSE),\"\")","v":""},{"$f":"IFERROR(HLOOKUP(LP$19,DEBUT!$BS$2:$CM$18,11,FALSE),\"\")","v":""},{"$f":"IFERROR(HLOOKUP(LP$19,DEBUT!$BS$2:$CM$18,15,FALSE),\"\")","v":""},null,null,null,{"$f":"IFERROR(HLOOKUP(LW$19,DEBUT!$BS$2:$CM$18,3,FALSE),\"\")","v":""},{"$f":"IFERROR(HLOOKUP(LW$19,DEBUT!$BS$2:$CM$18,7,FALSE),\"\")","v":""},{"$f":"IFERROR(HLOOKUP(LW$19,DEBUT!$BS$2:$CM$18,11,FALSE),\"\")","v":""},{"$f":"IFERROR(HLOOKUP(LW$19,DEBUT!$BS$2:$CM$18,15,FALSE),\"\")","v":""},null,null,null,null,null,null,null,{"$f":"IFERROR(HLOOKUP(MH$19,DEBUT!$BS$2:$CM$18,3,FALSE),\"\")","v":""},{"$f":"IFERROR(HLOOKUP(MH$19,DEBUT!$BS$2:$CM$18,7,FALSE),\"\")","v":""},{"$f":"IFERROR(HLOOKUP(MH$19,DEBUT!$BS$2:$CM$18,11,FALSE),\"\")","v":""},{"$f":"IFERROR(HLOOKUP(MH$19,DEBUT!$BS$2:$CM$18,15,FALSE),\"\")","v":""},null,null,null,{"$f":"IFERROR(HLOOKUP(MO$19,DEBUT!$BS$2:$CM$18,3,FALSE),\"\")","v":""},{"$f":"IFERROR(HLOOKUP(MO$19,DEBUT!$BS$2:$CM$18,7,FALSE),\"\")","v":""},{"$f":"IFERROR(HLOOKUP(MO$19,DEBUT!$BS$2:$CM$18,11,FALSE),\"\")","v":""},{"$f":"IFERROR(HLOOKUP(MO$19,DEBUT!$BS$2:$CM$18,15,FALSE),\"\")","v":""},null,null,null,null,null,{"$f":"IFERROR(HLOOKUP(MX$19,DEBUT!$BS$2:$CM$18,3,FALSE),\"\")","v":""},{"$f":"IFERROR(HLOOKUP(MX$19,DEBUT!$BS$2:$CM$18,7,FALSE),\"\")","v":""},{"$f":"IFERROR(HLOOKUP(MX$19,DEBUT!$BS$2:$CM$18,11,FALSE),\"\")","v":""},{"$f":"IFERROR(HLOOKUP(MX$19,DEBUT!$BS$2:$CM$18,15,FALSE),\"\")","v":""},null,null,null,{"$f":"IFERROR(HLOOKUP(NE$19,DEBUT!$BS$2:$CM$18,3,FALSE),\"\")","v":""},{"$f":"IFERROR(HLOOKUP(NE$19,DEBUT!$BS$2:$CM$18,7,FALSE),\"\")","v":""},{"$f":"IFERROR(HLOOKUP(NE$19,DEBUT!$BS$2:$CM$18,11,FALSE),\"\")","v":""},{"$f":"IFERROR(HLOOKUP(NE$19,DEBUT!$BS$2:$CM$18,15,FALSE),\"\")","v":""},null,null,null,null,null,null,null,{"$f":"IFERROR(HLOOKUP(NP$19,DEBUT!$BS$2:$CM$18,3,FALSE),\"\")","v":""},{"$f":"IFERROR(HLOOKUP(NP$19,DEBUT!$BS$2:$CM$18,7,FALSE),\"\")","v":""},{"$f":"IFERROR(HLOOKUP(NP$19,DEBUT!$BS$2:$CM$18,11,FALSE),\"\")","v":""},{"$f":"IFERROR(HLOOKUP(NP$19,DEBUT!$BS$2:$CM$18,15,FALSE),\"\")","v":""},null,null,null,{"$f":"IFERROR(HLOOKUP(NW$19,DEBUT!$BS$2:$CM$18,3,FALSE),\"\")","v":""},{"$f":"IFERROR(HLOOKUP(NW$19,DEBUT!$BS$2:$CM$18,7,FALSE),\"\")","v":""},{"$f":"IFERROR(HLOOKUP(NW$19,DEBUT!$BS$2:$CM$18,11,FALSE),\"\")","v":""},{"$f":"IFERROR(HLOOKUP(NW$19,DEBUT!$BS$2:$CM$18,15,FALSE),\"\")","v":""},null,null,null,null,null,{"$f":"IFERROR(HLOOKUP(OF$19,DEBUT!$BS$2:$CM$18,3,FALSE),\"\")","v":""},{"$f":"IFERROR(HLOOKUP(OF$19,DEBUT!$BS$2:$CM$18,7,FALSE),\"\")","v":""},{"$f":"IFERROR(HLOOKUP(OF$19,DEBUT!$BS$2:$CM$18,11,FALSE),\"\")","v":""},{"$f":"IFERROR(HLOOKUP(OF$19,DEBUT!$BS$2:$CM$18,15,FALSE),\"\")","v":""},null,null,null,{"$f":"IFERROR(HLOOKUP(OM$19,DEBUT!$BS$2:$CM$18,3,FALSE),\"\")","v":""},{"$f":"IFERROR(HLOOKUP(OM$19,DEBUT!$BS$2:$CM$18,7,FALSE),\"\")","v":""},{"$f":"IFERROR(HLOOKUP(OM$19,DEBUT!$BS$2:$CM$18,11,FALSE),\"\")","v":""},{"$f":"IFERROR(HLOOKUP(OM$19,DEBUT!$BS$2:$CM$18,15,FALSE),\"\")","v":""},null,null,null,null,null,null,null,{"$f":"IFERROR(HLOOKUP(OX$19,DEBUT!$BS$2:$CM$18,3,FALSE),\"\")","v":""},{"$f":"IFERROR(HLOOKUP(OX$19,DEBUT!$BS$2:$CM$18,7,FALSE),\"\")","v":""},{"$f":"IFERROR(HLOOKUP(OX$19,DEBUT!$BS$2:$CM$18,11,FALSE),\"\")","v":""},{"$f":"IFERROR(HLOOKUP(OX$19,DEBUT!$BS$2:$CM$18,15,FALSE),\"\")","v":""},null,null,null,{"$f":"IFERROR(HLOOKUP(PE$19,DEBUT!$BS$2:$CM$18,3,FALSE),\"\")","v":""},{"$f":"IFERROR(HLOOKUP(PE$19,DEBUT!$BS$2:$CM$18,7,FALSE),\"\")","v":""},{"$f":"IFERROR(HLOOKUP(PE$19,DEBUT!$BS$2:$CM$18,11,FALSE),\"\")","v":""},{"$f":"IFERROR(HLOOKUP(PE$19,DEBUT!$BS$2:$CM$18,15,FALSE),\"\")","v":""},null,null,null,null,null,{"$f":"IFERROR(HLOOKUP(PN$19,DEBUT!$BS$2:$CM$18,3,FALSE),\"\")","v":""},{"$f":"IFERROR(HLOOKUP(PN$19,DEBUT!$BS$2:$CM$18,7,FALSE),\"\")","v":""},{"$f":"IFERROR(HLOOKUP(PN$19,DEBUT!$BS$2:$CM$18,11,FALSE),\"\")","v":""},{"$f":"IFERROR(HLOOKUP(PN$19,DEBUT!$BS$2:$CM$18,15,FALSE),\"\")","v":""},null,null,null,{"$f":"IFERROR(HLOOKUP(PU$19,DEBUT!$BS$2:$CM$18,3,FALSE),\"\")","v":""},{"$f":"IFERROR(HLOOKUP(PU$19,DEBUT!$BS$2:$CM$18,7,FALSE),\"\")","v":""},{"$f":"IFERROR(HLOOKUP(PU$19,DEBUT!$BS$2:$CM$18,11,FALSE),\"\")","v":""},{"$f":"IFERROR(HLOOKUP(PU$19,DEBUT!$BS$2:$CM$18,15,FALSE),\"\")","v":""},null,null,null,null,null,null,null,{"$f":"IFERROR(HLOOKUP(QF$19,DEBUT!$BS$2:$CM$18,3,FALSE),\"\")","v":""},{"$f":"IFERROR(HLOOKUP(QF$19,DEBUT!$BS$2:$CM$18,7,FALSE),\"\")","v":""},{"$f":"IFERROR(HLOOKUP(QF$19,DEBUT!$BS$2:$CM$18,11,FALSE),\"\")","v":""},{"$f":"IFERROR(HLOOKUP(QF$19,DEBUT!$BS$2:$CM$18,15,FALSE),\"\")","v":""},null,null,null,{"$f":"IFERROR(HLOOKUP(QM$19,DEBUT!$BS$2:$CM$18,3,FALSE),\"\")","v":""},{"$f":"IFERROR(HLOOKUP(QM$19,DEBUT!$BS$2:$CM$18,7,FALSE),\"\")","v":""},{"$f":"IFERROR(HLOOKUP(QM$19,DEBUT!$BS$2:$CM$18,11,FALSE),\"\")","v":""},{"$f":"IFERROR(HLOOKUP(QM$19,DEBUT!$BS$2:$CM$18,15,FALSE),\"\")","v":""},null,null,null,null,null,{"$f":"IFERROR(HLOOKUP(QV$19,DEBUT!$BS$2:$CM$18,3,FALSE),\"\")","v":""},{"$f":"IFERROR(HLOOKUP(QV$19,DEBUT!$BS$2:$CM$18,7,FALSE),\"\")","v":""},{"$f":"IFERROR(HLOOKUP(QV$19,DEBUT!$BS$2:$CM$18,11,FALSE),\"\")","v":""},{"$f":"IFERROR(HLOOKUP(QV$19,DEBUT!$BS$2:$CM$18,15,FALSE),\"\")","v":""},null,null,null,{"$f":"IFERROR(HLOOKUP(RC$19,DEBUT!$BS$2:$CM$18,3,FALSE),\"\")","v":""},{"$f":"IFERROR(HLOOKUP(RC$19,DEBUT!$BS$2:$CM$18,7,FALSE),\"\")","v":""},{"$f":"IFERROR(HLOOKUP(RC$19,DEBUT!$BS$2:$CM$18,11,FALSE),\"\")","v":""},{"$f":"IFERROR(HLOOKUP(RC$19,DEBUT!$BS$2:$CM$18,15,FALSE),\"\")","v":""},null,null,null,null,null,null,null,{"$f":"IFERROR(HLOOKUP(RN$19,DEBUT!$BS$2:$CM$18,3,FALSE),\"\")","v":""},{"$f":"IFERROR(HLOOKUP(RN$19,DEBUT!$BS$2:$CM$18,7,FALSE),\"\")","v":""},{"$f":"IFERROR(HLOOKUP(RN$19,DEBUT!$BS$2:$CM$18,11,FALSE),\"\")","v":""},{"$f":"IFERROR(HLOOKUP(RN$19,DEBUT!$BS$2:$CM$18,15,FALSE),\"\")","v":""},null,null,null,{"$f":"IFERROR(HLOOKUP(RU$19,DEBUT!$BS$2:$CM$18,3,FALSE),\"\")","v":""},{"$f":"IFERROR(HLOOKUP(RU$19,DEBUT!$BS$2:$CM$18,7,FALSE),\"\")","v":""},{"$f":"IFERROR(HLOOKUP(RU$19,DEBUT!$BS$2:$CM$18,11,FALSE),\"\")","v":""},{"$f":"IFERROR(HLOOKUP(RU$19,DEBUT!$BS$2:$CM$18,15,FALSE),\"\")","v":""},null,null,null,null,null,{"$f":"IFERROR(HLOOKUP(SD$19,DEBUT!$BS$2:$CM$18,3,FALSE),\"\")","v":""},{"$f":"IFERROR(HLOOKUP(SD$19,DEBUT!$BS$2:$CM$18,7,FALSE),\"\")","v":""},{"$f":"IFERROR(HLOOKUP(SD$19,DEBUT!$BS$2:$CM$18,11,FALSE),\"\")","v":""},{"$f":"IFERROR(HLOOKUP(SD$19,DEBUT!$BS$2:$CM$18,15,FALSE),\"\")","v":""},null,null,null,{"$f":"IFERROR(HLOOKUP(SK$19,DEBUT!$BS$2:$CM$18,3,FALSE),\"\")","v":""},{"$f":"IFERROR(HLOOKUP(SK$19,DEBUT!$BS$2:$CM$18,7,FALSE),\"\")","v":""},{"$f":"IFERROR(HLOOKUP(SK$19,DEBUT!$BS$2:$CM$18,11,FALSE),\"\")","v":""},{"$f":"IFERROR(HLOOKUP(SK$19,DEBUT!$BS$2:$CM$18,15,FALSE),\"\")","v":""},null,null,null,null,null,null,null,{"$f":"IFERROR(HLOOKUP(SV$19,DEBUT!$BS$2:$CM$18,3,FALSE),\"\")","v":""},{"$f":"IFERROR(HLOOKUP(SV$19,DEBUT!$BS$2:$CM$18,7,FALSE),\"\")","v":""},{"$f":"IFERROR(HLOOKUP(SV$19,DEBUT!$BS$2:$CM$18,11,FALSE),\"\")","v":""},{"$f":"IFERROR(HLOOKUP(SV$19,DEBUT!$BS$2:$CM$18,15,FALSE),\"\")","v":""},null,null,null,{"$f":"IFERROR(HLOOKUP(TC$19,DEBUT!$BS$2:$CM$18,3,FALSE),\"\")","v":""},{"$f":"IFERROR(HLOOKUP(TC$19,DEBUT!$BS$2:$CM$18,7,FALSE),\"\")","v":""},{"$f":"IFERROR(HLOOKUP(TC$19,DEBUT!$BS$2:$CM$18,11,FALSE),\"\")","v":""},{"$f":"IFERROR(HLOOKUP(TC$19,DEBUT!$BS$2:$CM$18,15,FALSE),\"\")","v":""},null,null,null,null,null,{"$f":"IFERROR(HLOOKUP(TL$19,DEBUT!$BS$2:$CM$18,3,FALSE),\"\")","v":""},{"$f":"IFERROR(HLOOKUP(TL$19,DEBUT!$BS$2:$CM$18,7,FALSE),\"\")","v":""},{"$f":"IFERROR(HLOOKUP(TL$19,DEBUT!$BS$2:$CM$18,11,FALSE),\"\")","v":""},{"$f":"IFERROR(HLOOKUP(TL$19,DEBUT!$BS$2:$CM$18,15,FALSE),\"\")","v":""},null,null,null,{"$f":"IFERROR(HLOOKUP(TS$19,DEBUT!$BS$2:$CM$18,3,FALSE),\"\")","v":""},{"$f":"IFERROR(HLOOKUP(TS$19,DEBUT!$BS$2:$CM$18,7,FALSE),\"\")","v":""},{"$f":"IFERROR(HLOOKUP(TS$19,DEBUT!$BS$2:$CM$18,11,FALSE),\"\")","v":""},{"$f":"IFERROR(HLOOKUP(TS$19,DEBUT!$BS$2:$CM$18,15,FALSE),\"\")","v":""},null,null,null,null,null,null,null,{"$f":"IFERROR(HLOOKUP(UD$19,DEBUT!$BS$2:$CM$18,3,FALSE),\"\")","v":""},{"$f":"IFERROR(HLOOKUP(UD$19,DEBUT!$BS$2:$CM$18,7,FALSE),\"\")","v":""},{"$f":"IFERROR(HLOOKUP(UD$19,DEBUT!$BS$2:$CM$18,11,FALSE),\"\")","v":""},{"$f":"IFERROR(HLOOKUP(UD$19,DEBUT!$BS$2:$CM$18,15,FALSE),\"\")","v":""},null,null,null,{"$f":"IFERROR(HLOOKUP(UK$19,DEBUT!$BS$2:$CM$18,3,FALSE),\"\")","v":""},{"$f":"IFERROR(HLOOKUP(UK$19,DEBUT!$BS$2:$CM$18,7,FALSE),\"\")","v":""},{"$f":"IFERROR(HLOOKUP(UK$19,DEBUT!$BS$2:$CM$18,11,FALSE),\"\")","v":""},{"$f":"IFERROR(HLOOKUP(UK$19,DEBUT!$BS$2:$CM$18,15,FALSE),\"\")","v":""},null,null,null,null,null,{"$f":"IFERROR(HLOOKUP(UT$19,DEBUT!$BS$2:$CM$18,3,FALSE),\"\")","v":""},{"$f":"IFERROR(HLOOKUP(UT$19,DEBUT!$BS$2:$CM$18,7,FALSE),\"\")","v":""},{"$f":"IFERROR(HLOOKUP(UT$19,DEBUT!$BS$2:$CM$18,11,FALSE),\"\")","v":""},{"$f":"IFERROR(HLOOKUP(UT$19,DEBUT!$BS$2:$CM$18,15,FALSE),\"\")","v":""},null,null,null,{"$f":"IFERROR(HLOOKUP(VA$19,DEBUT!$BS$2:$CM$18,3,FALSE),\"\")","v":""},{"$f":"IFERROR(HLOOKUP(VA$19,DEBUT!$BS$2:$CM$18,7,FALSE),\"\")","v":""},{"$f":"IFERROR(HLOOKUP(VA$19,DEBUT!$BS$2:$CM$18,11,FALSE),\"\")","v":""},{"$f":"IFERROR(HLOOKUP(VA$19,DEBUT!$BS$2:$CM$18,15,FALSE),\"\")","v":""},null,null,null,null,null,null,null,{"$f":"IFERROR(HLOOKUP(VL$19,DEBUT!$BS$2:$CM$18,3,FALSE),\"\")","v":""},{"$f":"IFERROR(HLOOKUP(VL$19,DEBUT!$BS$2:$CM$18,7,FALSE),\"\")","v":""},{"$f":"IFERROR(HLOOKUP(VL$19,DEBUT!$BS$2:$CM$18,11,FALSE),\"\")","v":""},{"$f":"IFERROR(HLOOKUP(VL$19,DEBUT!$BS$2:$CM$18,15,FALSE),\"\")","v":""},null,null,null,{"$f":"IFERROR(HLOOKUP(VS$19,DEBUT!$BS$2:$CM$18,3,FALSE),\"\")","v":""},{"$f":"IFERROR(HLOOKUP(VS$19,DEBUT!$BS$2:$CM$18,7,FALSE),\"\")","v":""},{"$f":"IFERROR(HLOOKUP(VS$19,DEBUT!$BS$2:$CM$18,11,FALSE),\"\")","v":""},{"$f":"IFERROR(HLOOKUP(VS$19,DEBUT!$BS$2:$CM$18,15,FALSE),\"\")","v":""},null,null,null,null,null,{"$f":"IFERROR(HLOOKUP(WB$19,DEBUT!$BS$2:$CM$18,3,FALSE),\"\")","v":""},{"$f":"IFERROR(HLOOKUP(WB$19,DEBUT!$BS$2:$CM$18,7,FALSE),\"\")","v":""},{"$f":"IFERROR(HLOOKUP(WB$19,DEBUT!$BS$2:$CM$18,11,FALSE),\"\")","v":""},{"$f":"IFERROR(HLOOKUP(WB$19,DEBUT!$BS$2:$CM$18,15,FALSE),\"\")","v":""},null,null,null,{"$f":"IFERROR(HLOOKUP(WI$19,DEBUT!$BS$2:$CM$18,3,FALSE),\"\")","v":""},{"$f":"IFERROR(HLOOKUP(WI$19,DEBUT!$BS$2:$CM$18,7,FALSE),\"\")","v":""},{"$f":"IFERROR(HLOOKUP(WI$19,DEBUT!$BS$2:$CM$18,11,FALSE),\"\")","v":""},{"$f":"IFERROR(HLOOKUP(WI$19,DEBUT!$BS$2:$CM$18,15,FALSE),\"\")","v":""},null,null,null,null,null,null,null,{"$f":"IFERROR(HLOOKUP(WT$19,DEBUT!$BS$2:$CM$18,3,FALSE),\"\")","v":""},{"$f":"IFERROR(HLOOKUP(WT$19,DEBUT!$BS$2:$CM$18,7,FALSE),\"\")","v":""},{"$f":"IFERROR(HLOOKUP(WT$19,DEBUT!$BS$2:$CM$18,11,FALSE),\"\")","v":""},{"$f":"IFERROR(HLOOKUP(WT$19,DEBUT!$BS$2:$CM$18,15,FALSE),\"\")","v":""},null,null,null,{"$f":"IFERROR(HLOOKUP(XA$19,DEBUT!$BS$2:$CM$18,3,FALSE),\"\")","v":""},{"$f":"IFERROR(HLOOKUP(XA$19,DEBUT!$BS$2:$CM$18,7,FALSE),\"\")","v":""},{"$f":"IFERROR(HLOOKUP(XA$19,DEBUT!$BS$2:$CM$18,11,FALSE),\"\")","v":""},{"$f":"IFERROR(HLOOKUP(XA$19,DEBUT!$BS$2:$CM$18,15,FALSE),\"\")","v":""},null,null,null,null,null,{"$f":"IFERROR(HLOOKUP(XJ$19,DEBUT!$BS$2:$CM$18,3,FALSE),\"\")","v":""},{"$f":"IFERROR(HLOOKUP(XJ$19,DEBUT!$BS$2:$CM$18,7,FALSE),\"\")","v":""},{"$f":"IFERROR(HLOOKUP(XJ$19,DEBUT!$BS$2:$CM$18,11,FALSE),\"\")","v":""},{"$f":"IFERROR(HLOOKUP(XJ$19,DEBUT!$BS$2:$CM$18,15,FALSE),\"\")","v":""},null,null,null,{"$f":"IFERROR(HLOOKUP(XQ$19,DEBUT!$BS$2:$CM$18,3,FALSE),\"\")","v":""},{"$f":"IFERROR(HLOOKUP(XQ$19,DEBUT!$BS$2:$CM$18,7,FALSE),\"\")","v":""},{"$f":"IFERROR(HLOOKUP(XQ$19,DEBUT!$BS$2:$CM$18,11,FALSE),\"\")","v":""},{"$f":"IFERROR(HLOOKUP(XQ$19,DEBUT!$BS$2:$CM$18,15,FALSE),\"\")","v":""},null,null,null,null,null,null,null,{"$f":"IFERROR(HLOOKUP(YB$19,DEBUT!$BS$2:$CM$18,3,FALSE),\"\")","v":""},{"$f":"IFERROR(HLOOKUP(YB$19,DEBUT!$BS$2:$CM$18,7,FALSE),\"\")","v":""},{"$f":"IFERROR(HLOOKUP(YB$19,DEBUT!$BS$2:$CM$18,11,FALSE),\"\")","v":""},{"$f":"IFERROR(HLOOKUP(YB$19,DEBUT!$BS$2:$CM$18,15,FALSE),\"\")","v":""},null,null,null,{"$f":"IFERROR(HLOOKUP(YI$19,DEBUT!$BS$2:$CM$18,3,FALSE),\"\")","v":""},{"$f":"IFERROR(HLOOKUP(YI$19,DEBUT!$BS$2:$CM$18,7,FALSE),\"\")","v":""},{"$f":"IFERROR(HLOOKUP(YI$19,DEBUT!$BS$2:$CM$18,11,FALSE),\"\")","v":""},{"$f":"IFERROR(HLOOKUP(YI$19,DEBUT!$BS$2:$CM$18,15,FALSE),\"\")","v":""},null,null,null,null,null,{"$f":"IFERROR(HLOOKUP(YR$19,DEBUT!$BS$2:$CM$18,3,FALSE),\"\")","v":""},{"$f":"IFERROR(HLOOKUP(YR$19,DEBUT!$BS$2:$CM$18,7,FALSE),\"\")","v":""},{"$f":"IFERROR(HLOOKUP(YR$19,DEBUT!$BS$2:$CM$18,11,FALSE),\"\")","v":""},{"$f":"IFERROR(HLOOKUP(YR$19,DEBUT!$BS$2:$CM$18,15,FALSE),\"\")","v":""},null,null,null,{"$f":"IFERROR(HLOOKUP(YY$19,DEBUT!$BS$2:$CM$18,3,FALSE),\"\")","v":""},{"$f":"IFERROR(HLOOKUP(YY$19,DEBUT!$BS$2:$CM$18,7,FALSE),\"\")","v":""},{"$f":"IFERROR(HLOOKUP(YY$19,DEBUT!$BS$2:$CM$18,11,FALSE),\"\")","v":""},{"$f":"IFERROR(HLOOKUP(YY$19,DEBUT!$BS$2:$CM$18,15,FALSE),\"\")","v":""},null,null,null,null,null,null,null,{"$f":"IFERROR(HLOOKUP(ZJ$19,DEBUT!$BS$2:$CM$18,3,FALSE),\"\")","v":""},{"$f":"IFERROR(HLOOKUP(ZJ$19,DEBUT!$BS$2:$CM$18,7,FALSE),\"\")","v":""},{"$f":"IFERROR(HLOOKUP(ZJ$19,DEBUT!$BS$2:$CM$18,11,FALSE),\"\")","v":""},{"$f":"IFERROR(HLOOKUP(ZJ$19,DEBUT!$BS$2:$CM$18,15,FALSE),\"\")","v":""},null,null,null,{"$f":"IFERROR(HLOOKUP(ZQ$19,DEBUT!$BS$2:$CM$18,3,FALSE),\"\")","v":""},{"$f":"IFERROR(HLOOKUP(ZQ$19,DEBUT!$BS$2:$CM$18,7,FALSE),\"\")","v":""},{"$f":"IFERROR(HLOOKUP(ZQ$19,DEBUT!$BS$2:$CM$18,11,FALSE),\"\")","v":""},{"$f":"IFERROR(HLOOKUP(ZQ$19,DEBUT!$BS$2:$CM$18,15,FALSE),\"\")","v":""},null,null,null,null,null,{"$f":"IFERROR(HLOOKUP(ZZ$19,DEBUT!$BS$2:$CM$18,3,FALSE),\"\")","v":""},{"$f":"IFERROR(HLOOKUP(ZZ$19,DEBUT!$BS$2:$CM$18,7,FALSE),\"\")","v":""},{"$f":"IFERROR(HLOOKUP(ZZ$19,DEBUT!$BS$2:$CM$18,11,FALSE),\"\")","v":""},{"$f":"IFERROR(HLOOKUP(ZZ$19,DEBUT!$BS$2:$CM$18,15,FALSE),\"\")","v":""},null,null,null,{"$f":"IFERROR(HLOOKUP(AAG$19,DEBUT!$BS$2:$CM$18,3,FALSE),\"\")","v":""},{"$f":"IFERROR(HLOOKUP(AAG$19,DEBUT!$BS$2:$CM$18,7,FALSE),\"\")","v":""},{"$f":"IFERROR(HLOOKUP(AAG$19,DEBUT!$BS$2:$CM$18,11,FALSE),\"\")","v":""},{"$f":"IFERROR(HLOOKUP(AAG$19,DEBUT!$BS$2:$CM$18,15,FALSE),\"\")","v":""},null,null,null,null,null,null,null,{"$f":"IFERROR(HLOOKUP(AAR$19,DEBUT!$BS$2:$CM$18,3,FALSE),\"\")","v":""},{"$f":"IFERROR(HLOOKUP(AAR$19,DEBUT!$BS$2:$CM$18,7,FALSE),\"\")","v":""},{"$f":"IFERROR(HLOOKUP(AAR$19,DEBUT!$BS$2:$CM$18,11,FALSE),\"\")","v":""},{"$f":"IFERROR(HLOOKUP(AAR$19,DEBUT!$BS$2:$CM$18,15,FALSE),\"\")","v":""},null,null,null,{"$f":"IFERROR(HLOOKUP(AAY$19,DEBUT!$BS$2:$CM$18,3,FALSE),\"\")","v":""},{"$f":"IFERROR(HLOOKUP(AAY$19,DEBUT!$BS$2:$CM$18,7,FALSE),\"\")","v":""},{"$f":"IFERROR(HLOOKUP(AAY$19,DEBUT!$BS$2:$CM$18,11,FALSE),\"\")","v":""},{"$f":"IFERROR(HLOOKUP(AAY$19,DEBUT!$BS$2:$CM$18,15,FALSE),\"\")","v":""},null,null,null,null,null,{"$f":"IFERROR(HLOOKUP(ABH$19,DEBUT!$BS$2:$CM$18,3,FALSE),\"\")","v":""},{"$f":"IFERROR(HLOOKUP(ABH$19,DEBUT!$BS$2:$CM$18,7,FALSE),\"\")","v":""},{"$f":"IFERROR(HLOOKUP(ABH$19,DEBUT!$BS$2:$CM$18,11,FALSE),\"\")","v":""},{"$f":"IFERROR(HLOOKUP(ABH$19,DEBUT!$BS$2:$CM$18,15,FALSE),\"\")","v":""},null,null,null,{"$f":"IFERROR(HLOOKUP(ABO$19,DEBUT!$BS$2:$CM$18,3,FALSE),\"\")","v":""},{"$f":"IFERROR(HLOOKUP(ABO$19,DEBUT!$BS$2:$CM$18,7,FALSE),\"\")","v":""},{"$f":"IFERROR(HLOOKUP(ABO$19,DEBUT!$BS$2:$CM$18,11,FALSE),\"\")","v":""},{"$f":"IFERROR(HLOOKUP(ABO$19,DEBUT!$BS$2:$CM$18,15,FALSE),\"\")","v":""},null,null,null,null,null,null,null,{"$f":"IFERROR(HLOOKUP(ABZ$19,DEBUT!$BS$2:$CM$18,3,FALSE),\"\")","v":""},{"$f":"IFERROR(HLOOKUP(ABZ$19,DEBUT!$BS$2:$CM$18,7,FALSE),\"\")","v":""},{"$f":"IFERROR(HLOOKUP(ABZ$19,DEBUT!$BS$2:$CM$18,11,FALSE),\"\")","v":""},{"$f":"IFERROR(HLOOKUP(ABZ$19,DEBUT!$BS$2:$CM$18,15,FALSE),\"\")","v":""},null,null,null,{"$f":"IFERROR(HLOOKUP(ACG$19,DEBUT!$BS$2:$CM$18,3,FALSE),\"\")","v":""},{"$f":"IFERROR(HLOOKUP(ACG$19,DEBUT!$BS$2:$CM$18,7,FALSE),\"\")","v":""},{"$f":"IFERROR(HLOOKUP(ACG$19,DEBUT!$BS$2:$CM$18,11,FALSE),\"\")","v":""},{"$f":"IFERROR(HLOOKUP(ACG$19,DEBUT!$BS$2:$CM$18,15,FALSE),\"\")","v":""},null,null,null,null,null,{"$f":"IFERROR(HLOOKUP(ACP$19,DEBUT!$BS$2:$CM$18,3,FALSE),\"\")","v":""},{"$f":"IFERROR(HLOOKUP(ACP$19,DEBUT!$BS$2:$CM$18,7,FALSE),\"\")","v":""},{"$f":"IFERROR(HLOOKUP(ACP$19,DEBUT!$BS$2:$CM$18,11,FALSE),\"\")","v":""},{"$f":"IFERROR(HLOOKUP(ACP$19,DEBUT!$BS$2:$CM$18,15,FALSE),\"\")","v":""},null,null,null,{"$f":"IFERROR(HLOOKUP(ACW$19,DEBUT!$BS$2:$CM$18,3,FALSE),\"\")","v":""},{"$f":"IFERROR(HLOOKUP(ACW$19,DEBUT!$BS$2:$CM$18,7,FALSE),\"\")","v":""},{"$f":"IFERROR(HLOOKUP(ACW$19,DEBUT!$BS$2:$CM$18,11,FALSE),\"\")","v":""},{"$f":"IFERROR(HLOOKUP(ACW$19,DEBUT!$BS$2:$CM$18,15,FALSE),\"\")","v":""},null,null,null,null,null,null,null,{"$f":"IFERROR(HLOOKUP(ADH$19,DEBUT!$BS$2:$CM$18,3,FALSE),\"\")","v":""},{"$f":"IFERROR(HLOOKUP(ADH$19,DEBUT!$BS$2:$CM$18,7,FALSE),\"\")","v":""},{"$f":"IFERROR(HLOOKUP(ADH$19,DEBUT!$BS$2:$CM$18,11,FALSE),\"\")","v":""},{"$f":"IFERROR(HLOOKUP(ADH$19,DEBUT!$BS$2:$CM$18,15,FALSE),\"\")","v":""},null,null,null,{"$f":"IFERROR(HLOOKUP(ADO$19,DEBUT!$BS$2:$CM$18,3,FALSE),\"\")","v":""},{"$f":"IFERROR(HLOOKUP(ADO$19,DEBUT!$BS$2:$CM$18,7,FALSE),\"\")","v":""},{"$f":"IFERROR(HLOOKUP(ADO$19,DEBUT!$BS$2:$CM$18,11,FALSE),\"\")","v":""},{"$f":"IFERROR(HLOOKUP(ADO$19,DEBUT!$BS$2:$CM$18,15,FALSE),\"\")","v":""},null,null,null,null,null,{"$f":"IFERROR(HLOOKUP(ADX$19,DEBUT!$BS$2:$CM$18,3,FALSE),\"\")","v":""},{"$f":"IFERROR(HLOOKUP(ADX$19,DEBUT!$BS$2:$CM$18,7,FALSE),\"\")","v":""},{"$f":"IFERROR(HLOOKUP(ADX$19,DEBUT!$BS$2:$CM$18,11,FALSE),\"\")","v":""},{"$f":"IFERROR(HLOOKUP(ADX$19,DEBUT!$BS$2:$CM$18,15,FALSE),\"\")","v":""},null,null,null,{"$f":"IFERROR(HLOOKUP(AEE$19,DEBUT!$BS$2:$CM$18,3,FALSE),\"\")","v":""},{"$f":"IFERROR(HLOOKUP(AEE$19,DEBUT!$BS$2:$CM$18,7,FALSE),\"\")","v":""},{"$f":"IFERROR(HLOOKUP(AEE$19,DEBUT!$BS$2:$CM$18,11,FALSE),\"\")","v":""},{"$f":"IFERROR(HLOOKUP(AEE$19,DEBUT!$BS$2:$CM$18,15,FALSE),\"\")","v":""}]
[null,null,null,null,null,{"$f":"IFERROR(HLOOKUP(F$19,DEBUT!$BS$2:$CM$18,4,FALSE),\"\")","v":""},{"$f":"IFERROR(HLOOKUP(F$19,DEBUT!$BS$2:$CM$18,8,FALSE),\"\")","v":""},{"$f":"IFERROR(HLOOKUP(F$19,DEBUT!$BS$2:$CM$18,12,FALSE),\"\")","v":""},{"$f":"IFERROR(HLOOKUP(F$19,DEBUT!$BS$2:$CM$18,16,FALSE),\"\")","v":""},null,null,null,{"$f":"IFERROR(HLOOKUP(M$19,DEBUT!$BS$2:$CM$18,4,FALSE),\"\")","v":""},{"$f":"IFERROR(HLOOKUP(M$19,DEBUT!$BS$2:$CM$18,8,FALSE),\"\")","v":""},{"$f":"IFERROR(HLOOKUP(M$19,DEBUT!$BS$2:$CM$18,12,FALSE),\"\")","v":""},{"$f":"IFERROR(HLOOKUP(M$19,DEBUT!$BS$2:$CM$18,16,FALSE),\"\")","v":""},null,null,null,null,null,{"$f":"IFERROR(HLOOKUP(V$19,DEBUT!$BS$2:$CM$18,4,FALSE),\"\")","v":""},{"$f":"IFERROR(HLOOKUP(V$19,DEBUT!$BS$2:$CM$18,8,FALSE),\"\")","v":""},{"$f":"IFERROR(HLOOKUP(V$19,DEBUT!$BS$2:$CM$18,12,FALSE),\"\")","v":""},{"$f":"IFERROR(HLOOKUP(V$19,DEBUT!$BS$2:$CM$18,16,FALSE),\"\")","v":""},null,null,null,{"$f":"IFERROR(HLOOKUP(AC$19,DEBUT!$BS$2:$CM$18,4,FALSE),\"\")","v":""},{"$f":"IFERROR(HLOOKUP(AC$19,DEBUT!$BS$2:$CM$18,8,FALSE),\"\")","v":""},{"$f":"IFERROR(HLOOKUP(AC$19,DEBUT!$BS$2:$CM$18,12,FALSE),\"\")","v":""},{"$f":"IFERROR(HLOOKUP(AC$19,DEBUT!$BS$2:$CM$18,16,FALSE),\"\")","v":""},null,null,null,null,null,null,null,{"$f":"IFERROR(HLOOKUP(AN$19,DEBUT!$BS$2:$CM$18,4,FALSE),\"\")","v":""},{"$f":"IFERROR(HLOOKUP(AN$19,DEBUT!$BS$2:$CM$18,8,FALSE),\"\")","v":""},{"$f":"IFERROR(HLOOKUP(AN$19,DEBUT!$BS$2:$CM$18,12,FALSE),\"\")","v":""},{"$f":"IFERROR(HLOOKUP(AN$19,DEBUT!$BS$2:$CM$18,16,FALSE),\"\")","v":""},null,null,null,{"$f":"IFERROR(HLOOKUP(AU$19,DEBUT!$BS$2:$CM$18,4,FALSE),\"\")","v":""},{"$f":"IFERROR(HLOOKUP(AU$19,DEBUT!$BS$2:$CM$18,8,FALSE),\"\")","v":""},{"$f":"IFERROR(HLOOKUP(AU$19,DEBUT!$BS$2:$CM$18,12,FALSE),\"\")","v":""},{"$f":"IFERROR(HLOOKUP(AU$19,DEBUT!$BS$2:$CM$18,16,FALSE),\"\")","v":""},null,null,null,null,null,{"$f":"IFERROR(HLOOKUP(BD$19,DEBUT!$BS$2:$CM$18,4,FALSE),\"\")","v":""},{"$f":"IFERROR(HLOOKUP(BD$19,DEBUT!$BS$2:$CM$18,8,FALSE),\"\")","v":""},{"$f":"IFERROR(HLOOKUP(BD$19,DEBUT!$BS$2:$CM$18,12,FALSE),\"\")","v":""},{"$f":"IFERROR(HLOOKUP(BD$19,DEBUT!$BS$2:$CM$18,16,FALSE),\"\")","v":""},null,null,null,{"$f":"IFERROR(HLOOKUP(BK$19,DEBUT!$BS$2:$CM$18,4,FALSE),\"\")","v":""},{"$f":"IFERROR(HLOOKUP(BK$19,DEBUT!$BS$2:$CM$18,8,FALSE),\"\")","v":""},{"$f":"IFERROR(HLOOKUP(BK$19,DEBUT!$BS$2:$CM$18,12,FALSE),\"\")","v":""},{"$f":"IFERROR(HLOOKUP(BK$19,DEBUT!$BS$2:$CM$18,16,FALSE),\"\")","v":""},null,null,null,null,null,null,null,{"$f":"IFERROR(HLOOKUP(BV$19,DEBUT!$BS$2:$CM$18,4,FALSE),\"\")","v":""},{"$f":"IFERROR(HLOOKUP(BV$19,DEBUT!$BS$2:$CM$18,8,FALSE),\"\")","v":""},{"$f":"IFERROR(HLOOKUP(BV$19,DEBUT!$BS$2:$CM$18,12,FALSE),\"\")","v":""},{"$f":"IFERROR(HLOOKUP(BV$19,DEBUT!$BS$2:$CM$18,16,FALSE),\"\")","v":""},null,null,null,{"$f":"IFERROR(HLOOKUP(CC$19,DEBUT!$BS$2:$CM$18,4,FALSE),\"\")","v":""},{"$f":"IFERROR(HLOOKUP(CC$19,DEBUT!$BS$2:$CM$18,8,FALSE),\"\")","v":""},{"$f":"IFERROR(HLOOKUP(CC$19,DEBUT!$BS$2:$CM$18,12,FALSE),\"\")","v":""},{"$f":"IFERROR(HLOOKUP(CC$19,DEBUT!$BS$2:$CM$18,16,FALSE),\"\")","v":""},null,null,null,null,null,{"$f":"IFERROR(HLOOKUP(CL$19,DEBUT!$BS$2:$CM$18,4,FALSE),\"\")","v":""},{"$f":"IFERROR(HLOOKUP(CL$19,DEBUT!$BS$2:$CM$18,8,FALSE),\"\")","v":""},{"$f":"IFERROR(HLOOKUP(CL$19,DEBUT!$BS$2:$CM$18,12,FALSE),\"\")","v":""},{"$f":"IFERROR(HLOOKUP(CL$19,DEBUT!$BS$2:$CM$18,16,FALSE),\"\")","v":""},null,null,null,{"$f":"IFERROR(HLOOKUP(CS$19,DEBUT!$BS$2:$CM$18,4,FALSE),\"\")","v":""},{"$f":"IFERROR(HLOOKUP(CS$19,DEBUT!$BS$2:$CM$18,8,FALSE),\"\")","v":""},{"$f":"IFERROR(HLOOKUP(CS$19,DEBUT!$BS$2:$CM$18,12,FALSE),\"\")","v":""},{"$f":"IFERROR(HLOOKUP(CS$19,DEBUT!$BS$2:$CM$18,16,FALSE),\"\")","v":""},null,null,null,null,null,null,null,{"$f":"IFERROR(HLOOKUP(DD$19,DEBUT!$BS$2:$CM$18,4,FALSE),\"\")","v":""},{"$f":"IFERROR(HLOOKUP(DD$19,DEBUT!$BS$2:$CM$18,8,FALSE),\"\")","v":""},{"$f":"IFERROR(HLOOKUP(DD$19,DEBUT!$BS$2:$CM$18,12,FALSE),\"\")","v":""},{"$f":"IFERROR(HLOOKUP(DD$19,DEBUT!$BS$2:$CM$18,16,FALSE),\"\")","v":""},null,null,null,{"$f":"IFERROR(HLOOKUP(DK$19,DEBUT!$BS$2:$CM$18,4,FALSE),\"\")","v":""},{"$f":"IFERROR(HLOOKUP(DK$19,DEBUT!$BS$2:$CM$18,8,FALSE),\"\")","v":""},{"$f":"IFERROR(HLOOKUP(DK$19,DEBUT!$BS$2:$CM$18,12,FALSE),\"\")","v":""},{"$f":"IFERROR(HLOOKUP(DK$19,DEBUT!$BS$2:$CM$18,16,FALSE),\"\")","v":""},null,null,null,null,null,{"$f":"IFERROR(HLOOKUP(DT$19,DEBUT!$BS$2:$CM$18,4,FALSE),\"\")","v":""},{"$f":"IFERROR(HLOOKUP(DT$19,DEBUT!$BS$2:$CM$18,8,FALSE),\"\")","v":""},{"$f":"IFERROR(HLOOKUP(DT$19,DEBUT!$BS$2:$CM$18,12,FALSE),\"\")","v":""},{"$f":"IFERROR(HLOOKUP(DT$19,DEBUT!$BS$2:$CM$18,16,FALSE),\"\")","v":""},null,null,null,{"$f":"IFERROR(HLOOKUP(EA$19,DEBUT!$BS$2:$CM$18,4,FALSE),\"\")","v":""},{"$f":"IFERROR(HLOOKUP(EA$19,DEBUT!$BS$2:$CM$18,8,FALSE),\"\")","v":""},{"$f":"IFERROR(HLOOKUP(EA$19,DEBUT!$BS$2:$CM$18,12,FALSE),\"\")","v":""},{"$f":"IFERROR(HLOOKUP(EA$19,DEBUT!$BS$2:$CM$18,16,FALSE),\"\")","v":""},null,null,null,null,null,null,null,{"$f":"IFERROR(HLOOKUP(EL$19,DEBUT!$BS$2:$CM$18,4,FALSE),\"\")","v":""},{"$f":"IFERROR(HLOOKUP(EL$19,DEBUT!$BS$2:$CM$18,8,FALSE),\"\")","v":""},{"$f":"IFERROR(HLOOKUP(EL$19,DEBUT!$BS$2:$CM$18,12,FALSE),\"\")","v":""},{"$f":"IFERROR(HLOOKUP(EL$19,DEBUT!$BS$2:$CM$18,16,FALSE),\"\")","v":""},null,null,null,{"$f":"IFERROR(HLOOKUP(ES$19,DEBUT!$BS$2:$CM$18,4,FALSE),\"\")","v":""},{"$f":"IFERROR(HLOOKUP(ES$19,DEBUT!$BS$2:$CM$18,8,FALSE),\"\")","v":""},{"$f":"IFERROR(HLOOKUP(ES$19,DEBUT!$BS$2:$CM$18,12,FALSE),\"\")","v":""},{"$f":"IFERROR(HLOOKUP(ES$19,DEBUT!$BS$2:$CM$18,16,FALSE),\"\")","v":""},null,null,null,null,null,{"$f":"IFERROR(HLOOKUP(FB$19,DEBUT!$BS$2:$CM$18,4,FALSE),\"\")","v":""},{"$f":"IFERROR(HLOOKUP(FB$19,DEBUT!$BS$2:$CM$18,8,FALSE),\"\")","v":""},{"$f":"IFERROR(HLOOKUP(FB$19,DEBUT!$BS$2:$CM$18,12,FALSE),\"\")","v":""},{"$f":"IFERROR(HLOOKUP(FB$19,DEBUT!$BS$2:$CM$18,16,FALSE),\"\")","v":""},null,null,null,{"$f":"IFERROR(HLOOKUP(FI$19,DEBUT!$BS$2:$CM$18,4,FALSE),\"\")","v":""},{"$f":"IFERROR(HLOOKUP(FI$19,DEBUT!$BS$2:$CM$18,8,FALSE),\"\")","v":""},{"$f":"IFERROR(HLOOKUP(FI$19,DEBUT!$BS$2:$CM$18,12,FALSE),\"\")","v":""},{"$f":"IFERROR(HLOOKUP(FI$19,DEBUT!$BS$2:$CM$18,16,FALSE),\"\")","v":""},null,null,null,null,null,null,null,{"$f":"IFERROR(HLOOKUP(FT$19,DEBUT!$BS$2:$CM$18,4,FALSE),\"\")","v":""},{"$f":"IFERROR(HLOOKUP(FT$19,DEBUT!$BS$2:$CM$18,8,FALSE),\"\")","v":""},{"$f":"IFERROR(HLOOKUP(FT$19,DEBUT!$BS$2:$CM$18,12,FALSE),\"\")","v":""},{"$f":"IFERROR(HLOOKUP(FT$19,DEBUT!$BS$2:$CM$18,16,FALSE),\"\")","v":""},null,null,null,{"$f":"IFERROR(HLOOKUP(GA$19,DEBUT!$BS$2:$CM$18,4,FALSE),\"\")","v":""},{"$f":"IFERROR(HLOOKUP(GA$19,DEBUT!$BS$2:$CM$18,8,FALSE),\"\")","v":""},{"$f":"IFERROR(HLOOKUP(GA$19,DEBUT!$BS$2:$CM$18,12,FALSE),\"\")","v":""},{"$f":"IFERROR(HLOOKUP(GA$19,DEBUT!$BS$2:$CM$18,16,FALSE),\"\")","v":""},null,null,null,null,null,{"$f":"IFERROR(HLOOKUP(GJ$19,DEBUT!$BS$2:$CM$18,4,FALSE),\"\")","v":""},{"$f":"IFERROR(HLOOKUP(GJ$19,DEBUT!$BS$2:$CM$18,8,FALSE),\"\")","v":""},{"$f":"IFERROR(HLOOKUP(GJ$19,DEBUT!$BS$2:$CM$18,12,FALSE),\"\")","v":""},{"$f":"IFERROR(HLOOKUP(GJ$19,DEBUT!$BS$2:$CM$18,16,FALSE),\"\")","v":""},null,null,null,{"$f":"IFERROR(HLOOKUP(GQ$19,DEBUT!$BS$2:$CM$18,4,FALSE),\"\")","v":""},{"$f":"IFERROR(HLOOKUP(GQ$19,DEBUT!$BS$2:$CM$18,8,FALSE),\"\")","v":""},{"$f":"IFERROR(HLOOKUP(GQ$19,DEBUT!$BS$2:$CM$18,12,FALSE),\"\")","v":""},{"$f":"IFERROR(HLOOKUP(GQ$19,DEBUT!$BS$2:$CM$18,16,FALSE),\"\")","v":""},null,null,null,null,null,null,null,{"$f":"IFERROR(HLOOKUP(HB$19,DEBUT!$BS$2:$CM$18,4,FALSE),\"\")","v":""},{"$f":"IFERROR(HLOOKUP(HB$19,DEBUT!$BS$2:$CM$18,8,FALSE),\"\")","v":""},{"$f":"IFERROR(HLOOKUP(HB$19,DEBUT!$BS$2:$CM$18,12,FALSE),\"\")","v":""},{"$f":"IFERROR(HLOOKUP(HB$19,DEBUT!$BS$2:$CM$18,16,FALSE),\"\")","v":""},null,null,null,{"$f":"IFERROR(HLOOKUP(HI$19,DEBUT!$BS$2:$CM$18,4,FALSE),\"\")","v":""},{"$f":"IFERROR(HLOOKUP(HI$19,DEBUT!$BS$2:$CM$18,8,FALSE),\"\")","v":""},{"$f":"IFERROR(HLOOKUP(HI$19,DEBUT!$BS$2:$CM$18,12,FALSE),\"\")","v":""},{"$f":"IFERROR(HLOOKUP(HI$19,DEBUT!$BS$2:$CM$18,16,FALSE),\"\")","v":""},null,null,null,null,null,{"$f":"IFERROR(HLOOKUP(HR$19,DEBUT!$BS$2:$CM$18,4,FALSE),\"\")","v":""},{"$f":"IFERROR(HLOOKUP(HR$19,DEBUT!$BS$2:$CM$18,8,FALSE),\"\")","v":""},{"$f":"IFERROR(HLOOKUP(HR$19,DEBUT!$BS$2:$CM$18,12,FALSE),\"\")","v":""},{"$f":"IFERROR(HLOOKUP(HR$19,DEBUT!$BS$2:$CM$18,16,FALSE),\"\")","v":""},null,null,null,{"$f":"IFERROR(HLOOKUP(HY$19,DEBUT!$BS$2:$CM$18,4,FALSE),\"\")","v":""},{"$f":"IFERROR(HLOOKUP(HY$19,DEBUT!$BS$2:$CM$18,8,FALSE),\"\")","v":""},{"$f":"IFERROR(HLOOKUP(HY$19,DEBUT!$BS$2:$CM$18,12,FALSE),\"\")","v":""},{"$f":"IFERROR(HLOOKUP(HY$19,DEBUT!$BS$2:$CM$18,16,FALSE),\"\")","v":""},null,null,null,null,null,null,null,{"$f":"IFERROR(HLOOKUP(IJ$19,DEBUT!$BS$2:$CM$18,4,FALSE),\"\")","v":""},{"$f":"IFERROR(HLOOKUP(IJ$19,DEBUT!$BS$2:$CM$18,8,FALSE),\"\")","v":""},{"$f":"IFERROR(HLOOKUP(IJ$19,DEBUT!$BS$2:$CM$18,12,FALSE),\"\")","v":""},{"$f":"IFERROR(HLOOKUP(IJ$19,DEBUT!$BS$2:$CM$18,16,FALSE),\"\")","v":""},null,null,null,{"$f":"IFERROR(HLOOKUP(IQ$19,DEBUT!$BS$2:$CM$18,4,FALSE),\"\")","v":""},{"$f":"IFERROR(HLOOKUP(IQ$19,DEBUT!$BS$2:$CM$18,8,FALSE),\"\")","v":""},{"$f":"IFERROR(HLOOKUP(IQ$19,DEBUT!$BS$2:$CM$18,12,FALSE),\"\")","v":""},{"$f":"IFERROR(HLOOKUP(IQ$19,DEBUT!$BS$2:$CM$18,16,FALSE),\"\")","v":""},null,null,null,null,null,{"$f":"IFERROR(HLOOKUP(IZ$19,DEBUT!$BS$2:$CM$18,4,FALSE),\"\")","v":""},{"$f":"IFERROR(HLOOKUP(IZ$19,DEBUT!$BS$2:$CM$18,8,FALSE),\"\")","v":""},{"$f":"IFERROR(HLOOKUP(IZ$19,DEBUT!$BS$2:$CM$18,12,FALSE),\"\")","v":""},{"$f":"IFERROR(HLOOKUP(IZ$19,DEBUT!$BS$2:$CM$18,16,FALSE),\"\")","v":""},null,null,null,{"$f":"IFERROR(HLOOKUP(JG$19,DEBUT!$BS$2:$CM$18,4,FALSE),\"\")","v":""},{"$f":"IFERROR(HLOOKUP(JG$19,DEBUT!$BS$2:$CM$18,8,FALSE),\"\")","v":""},{"$f":"IFERROR(HLOOKUP(JG$19,DEBUT!$BS$2:$CM$18,12,FALSE),\"\")","v":""},{"$f":"IFERROR(HLOOKUP(JG$19,DEBUT!$BS$2:$CM$18,16,FALSE),\"\")","v":""},null,null,null,null,null,null,null,{"$f":"IFERROR(HLOOKUP(JR$19,DEBUT!$BS$2:$CM$18,4,FALSE),\"\")","v":""},{"$f":"IFERROR(HLOOKUP(JR$19,DEBUT!$BS$2:$CM$18,8,FALSE),\"\")","v":""},{"$f":"IFERROR(HLOOKUP(JR$19,DEBUT!$BS$2:$CM$18,12,FALSE),\"\")","v":""},{"$f":"IFERROR(HLOOKUP(JR$19,DEBUT!$BS$2:$CM$18,16,FALSE),\"\")","v":""},null,null,null,{"$f":"IFERROR(HLOOKUP(JY$19,DEBUT!$BS$2:$CM$18,4,FALSE),\"\")","v":""},{"$f":"IFERROR(HLOOKUP(JY$19,DEBUT!$BS$2:$CM$18,8,FALSE),\"\")","v":""},{"$f":"IFERROR(HLOOKUP(JY$19,DEBUT!$BS$2:$CM$18,12,FALSE),\"\")","v":""},{"$f":"IFERROR(HLOOKUP(JY$19,DEBUT!$BS$2:$CM$18,16,FALSE),\"\")","v":""},null,null,null,null,null,{"$f":"IFERROR(HLOOKUP(KH$19,DEBUT!$BS$2:$CM$18,4,FALSE),\"\")","v":""},{"$f":"IFERROR(HLOOKUP(KH$19,DEBUT!$BS$2:$CM$18,8,FALSE),\"\")","v":""},{"$f":"IFERROR(HLOOKUP(KH$19,DEBUT!$BS$2:$CM$18,12,FALSE),\"\")","v":""},{"$f":"IFERROR(HLOOKUP(KH$19,DEBUT!$BS$2:$CM$18,16,FALSE),\"\")","v":""},null,null,null,{"$f":"IFERROR(HLOOKUP(KO$19,DEBUT!$BS$2:$CM$18,4,FALSE),\"\")","v":""},{"$f":"IFERROR(HLOOKUP(KO$19,DEBUT!$BS$2:$CM$18,8,FALSE),\"\")","v":""},{"$f":"IFERROR(HLOOKUP(KO$19,DEBUT!$BS$2:$CM$18,12,FALSE),\"\")","v":""},{"$f":"IFERROR(HLOOKUP(KO$19,DEBUT!$BS$2:$CM$18,16,FALSE),\"\")","v":""},null,null,null,null,null,null,null,{"$f":"IFERROR(HLOOKUP(KZ$19,DEBUT!$BS$2:$CM$18,4,FALSE),\"\")","v":""},{"$f":"IFERROR(HLOOKUP(KZ$19,DEBUT!$BS$2:$CM$18,8,FALSE),\"\")","v":""},{"$f":"IFERROR(HLOOKUP(KZ$19,DEBUT!$BS$2:$CM$18,12,FALSE),\"\")","v":""},{"$f":"IFERROR(HLOOKUP(KZ$19,DEBUT!$BS$2:$CM$18,16,FALSE),\"\")","v":""},null,null,null,{"$f":"IFERROR(HLOOKUP(LG$19,DEBUT!$BS$2:$CM$18,4,FALSE),\"\")","v":""},{"$f":"IFERROR(HLOOKUP(LG$19,DEBUT!$BS$2:$CM$18,8,FALSE),\"\")","v":""},{"$f":"IFERROR(HLOOKUP(LG$19,DEBUT!$BS$2:$CM$18,12,FALSE),\"\")","v":""},{"$f":"IFERROR(HLOOKUP(LG$19,DEBUT!$BS$2:$CM$18,16,FALSE),\"\")","v":""},null,null,null,null,null,{"$f":"IFERROR(HLOOKUP(LP$19,DEBUT!$BS$2:$CM$18,4,FALSE),\"\")","v":""},{"$f":"IFERROR(HLOOKUP(LP$19,DEBUT!$BS$2:$CM$18,8,FALSE),\"\")","v":""},{"$f":"IFERROR(HLOOKUP(LP$19,DEBUT!$BS$2:$CM$18,12,FALSE),\"\")","v":""},{"$f":"IFERROR(HLOOKUP(LP$19,DEBUT!$BS$2:$CM$18,16,FALSE),\"\")","v":""},null,null,null,{"$f":"IFERROR(HLOOKUP(LW$19,DEBUT!$BS$2:$CM$18,4,FALSE),\"\")","v":""},{"$f":"IFERROR(HLOOKUP(LW$19,DEBUT!$BS$2:$CM$18,8,FALSE),\"\")","v":""},{"$f":"IFERROR(HLOOKUP(LW$19,DEBUT!$BS$2:$CM$18,12,FALSE),\"\")","v":""},{"$f":"IFERROR(HLOOKUP(LW$19,DEBUT!$BS$2:$CM$18,16,FALSE),\"\")","v":""},null,null,null,null,null,null,null,{"$f":"IFERROR(HLOOKUP(MH$19,DEBUT!$BS$2:$CM$18,4,FALSE),\"\")","v":""},{"$f":"IFERROR(HLOOKUP(MH$19,DEBUT!$BS$2:$CM$18,8,FALSE),\"\")","v":""},{"$f":"IFERROR(HLOOKUP(MH$19,DEBUT!$BS$2:$CM$18,12,FALSE),\"\")","v":""},{"$f":"IFERROR(HLOOKUP(MH$19,DEBUT!$BS$2:$CM$18,16,FALSE),\"\")","v":""},null,null,null,{"$f":"IFERROR(HLOOKUP(MO$19,DEBUT!$BS$2:$CM$18,4,FALSE),\"\")","v":""},{"$f":"IFERROR(HLOOKUP(MO$19,DEBUT!$BS$2:$CM$18,8,FALSE),\"\")","v":""},{"$f":"IFERROR(HLOOKUP(MO$19,DEBUT!$BS$2:$CM$18,12,FALSE),\"\")","v":""},{"$f":"IFERROR(HLOOKUP(MO$19,DEBUT!$BS$2:$CM$18,16,FALSE),\"\")","v":""},null,null,null,null,null,{"$f":"IFERROR(HLOOKUP(MX$19,DEBUT!$BS$2:$CM$18,4,FALSE),\"\")","v":""},{"$f":"IFERROR(HLOOKUP(MX$19,DEBUT!$BS$2:$CM$18,8,FALSE),\"\")","v":""},{"$f":"IFERROR(HLOOKUP(MX$19,DEBUT!$BS$2:$CM$18,12,FALSE),\"\")","v":""},{"$f":"IFERROR(HLOOKUP(MX$19,DEBUT!$BS$2:$CM$18,16,FALSE),\"\")","v":""},null,null,null,{"$f":"IFERROR(HLOOKUP(NE$19,DEBUT!$BS$2:$CM$18,4,FALSE),\"\")","v":""},{"$f":"IFERROR(HLOOKUP(NE$19,DEBUT!$BS$2:$CM$18,8,FALSE),\"\")","v":""},{"$f":"IFERROR(HLOOKUP(NE$19,DEBUT!$BS$2:$CM$18,12,FALSE),\"\")","v":""},{"$f":"IFERROR(HLOOKUP(NE$19,DEBUT!$BS$2:$CM$18,16,FALSE),\"\")","v":""},null,null,null,null,null,null,null,{"$f":"IFERROR(HLOOKUP(NP$19,DEBUT!$BS$2:$CM$18,4,FALSE),\"\")","v":""},{"$f":"IFERROR(HLOOKUP(NP$19,DEBUT!$BS$2:$CM$18,8,FALSE),\"\")","v":""},{"$f":"IFERROR(HLOOKUP(NP$19,DEBUT!$BS$2:$CM$18,12,FALSE),\"\")","v":""},{"$f":"IFERROR(HLOOKUP(NP$19,DEBUT!$BS$2:$CM$18,16,FALSE),\"\")","v":""},null,null,null,{"$f":"IFERROR(HLOOKUP(NW$19,DEBUT!$BS$2:$CM$18,4,FALSE),\"\")","v":""},{"$f":"IFERROR(HLOOKUP(NW$19,DEBUT!$BS$2:$CM$18,8,FALSE),\"\")","v":""},{"$f":"IFERROR(HLOOKUP(NW$19,DEBUT!$BS$2:$CM$18,12,FALSE),\"\")","v":""},{"$f":"IFERROR(HLOOKUP(NW$19,DEBUT!$BS$2:$CM$18,16,FALSE),\"\")","v":""},null,null,null,null,null,{"$f":"IFERROR(HLOOKUP(OF$19,DEBUT!$BS$2:$CM$18,4,FALSE),\"\")","v":""},{"$f":"IFERROR(HLOOKUP(OF$19,DEBUT!$BS$2:$CM$18,8,FALSE),\"\")","v":""},{"$f":"IFERROR(HLOOKUP(OF$19,DEBUT!$BS$2:$CM$18,12,FALSE),\"\")","v":""},{"$f":"IFERROR(HLOOKUP(OF$19,DEBUT!$BS$2:$CM$18,16,FALSE),\"\")","v":""},null,null,null,{"$f":"IFERROR(HLOOKUP(OM$19,DEBUT!$BS$2:$CM$18,4,FALSE),\"\")","v":""},{"$f":"IFERROR(HLOOKUP(OM$19,DEBUT!$BS$2:$CM$18,8,FALSE),\"\")","v":""},{"$f":"IFERROR(HLOOKUP(OM$19,DEBUT!$BS$2:$CM$18,12,FALSE),\"\")","v":""},{"$f":"IFERROR(HLOOKUP(OM$19,DEBUT!$BS$2:$CM$18,16,FALSE),\"\")","v":""},null,null,null,null,null,null,null,{"$f":"IFERROR(HLOOKUP(OX$19,DEBUT!$BS$2:$CM$18,4,FALSE),\"\")","v":""},{"$f":"IFERROR(HLOOKUP(OX$19,DEBUT!$BS$2:$CM$18,8,FALSE),\"\")","v":""},{"$f":"IFERROR(HLOOKUP(OX$19,DEBUT!$BS$2:$CM$18,12,FALSE),\"\")","v":""},{"$f":"IFERROR(HLOOKUP(OX$19,DEBUT!$BS$2:$CM$18,16,FALSE),\"\")","v":""},null,null,null,{"$f":"IFERROR(HLOOKUP(PE$19,DEBUT!$BS$2:$CM$18,4,FALSE),\"\")","v":""},{"$f":"IFERROR(HLOOKUP(PE$19,DEBUT!$BS$2:$CM$18,8,FALSE),\"\")","v":""},{"$f":"IFERROR(HLOOKUP(PE$19,DEBUT!$BS$2:$CM$18,12,FALSE),\"\")","v":""},{"$f":"IFERROR(HLOOKUP(PE$19,DEBUT!$BS$2:$CM$18,16,FALSE),\"\")","v":""},null,null,null,null,null,{"$f":"IFERROR(HLOOKUP(PN$19,DEBUT!$BS$2:$CM$18,4,FALSE),\"\")","v":""},{"$f":"IFERROR(HLOOKUP(PN$19,DEBUT!$BS$2:$CM$18,8,FALSE),\"\")","v":""},{"$f":"IFERROR(HLOOKUP(PN$19,DEBUT!$BS$2:$CM$18,12,FALSE),\"\")","v":""},{"$f":"IFERROR(HLOOKUP(PN$19,DEBUT!$BS$2:$CM$18,16,FALSE),\"\")","v":""},null,null,null,{"$f":"IFERROR(HLOOKUP(PU$19,DEBUT!$BS$2:$CM$18,4,FALSE),\"\")","v":""},{"$f":"IFERROR(HLOOKUP(PU$19,DEBUT!$BS$2:$CM$18,8,FALSE),\"\")","v":""},{"$f":"IFERROR(HLOOKUP(PU$19,DEBUT!$BS$2:$CM$18,12,FALSE),\"\")","v":""},{"$f":"IFERROR(HLOOKUP(PU$19,DEBUT!$BS$2:$CM$18,16,FALSE),\"\")","v":""},null,null,null,null,null,null,null,{"$f":"IFERROR(HLOOKUP(QF$19,DEBUT!$BS$2:$CM$18,4,FALSE),\"\")","v":""},{"$f":"IFERROR(HLOOKUP(QF$19,DEBUT!$BS$2:$CM$18,8,FALSE),\"\")","v":""},{"$f":"IFERROR(HLOOKUP(QF$19,DEBUT!$BS$2:$CM$18,12,FALSE),\"\")","v":""},{"$f":"IFERROR(HLOOKUP(QF$19,DEBUT!$BS$2:$CM$18,16,FALSE),\"\")","v":""},null,null,null,{"$f":"IFERROR(HLOOKUP(QM$19,DEBUT!$BS$2:$CM$18,4,FALSE),\"\")","v":""},{"$f":"IFERROR(HLOOKUP(QM$19,DEBUT!$BS$2:$CM$18,8,FALSE),\"\")","v":""},{"$f":"IFERROR(HLOOKUP(QM$19,DEBUT!$BS$2:$CM$18,12,FALSE),\"\")","v":""},{"$f":"IFERROR(HLOOKUP(QM$19,DEBUT!$BS$2:$CM$18,16,FALSE),\"\")","v":""},null,null,null,null,null,{"$f":"IFERROR(HLOOKUP(QV$19,DEBUT!$BS$2:$CM$18,4,FALSE),\"\")","v":""},{"$f":"IFERROR(HLOOKUP(QV$19,DEBUT!$BS$2:$CM$18,8,FALSE),\"\")","v":""},{"$f":"IFERROR(HLOOKUP(QV$19,DEBUT!$BS$2:$CM$18,12,FALSE),\"\")","v":""},{"$f":"IFERROR(HLOOKUP(QV$19,DEBUT!$BS$2:$CM$18,16,FALSE),\"\")","v":""},null,null,null,{"$f":"IFERROR(HLOOKUP(RC$19,DEBUT!$BS$2:$CM$18,4,FALSE),\"\")","v":""},{"$f":"IFERROR(HLOOKUP(RC$19,DEBUT!$BS$2:$CM$18,8,FALSE),\"\")","v":""},{"$f":"IFERROR(HLOOKUP(RC$19,DEBUT!$BS$2:$CM$18,12,FALSE),\"\")","v":""},{"$f":"IFERROR(HLOOKUP(RC$19,DEBUT!$BS$2:$CM$18,16,FALSE),\"\")","v":""},null,null,null,null,null,null,null,{"$f":"IFERROR(HLOOKUP(RN$19,DEBUT!$BS$2:$CM$18,4,FALSE),\"\")","v":""},{"$f":"IFERROR(HLOOKUP(RN$19,DEBUT!$BS$2:$CM$18,8,FALSE),\"\")","v":""},{"$f":"IFERROR(HLOOKUP(RN$19,DEBUT!$BS$2:$CM$18,12,FALSE),\"\")","v":""},{"$f":"IFERROR(HLOOKUP(RN$19,DEBUT!$BS$2:$CM$18,16,FALSE),\"\")","v":""},null,null,null,{"$f":"IFERROR(HLOOKUP(RU$19,DEBUT!$BS$2:$CM$18,4,FALSE),\"\")","v":""},{"$f":"IFERROR(HLOOKUP(RU$19,DEBUT!$BS$2:$CM$18,8,FALSE),\"\")","v":""},{"$f":"IFERROR(HLOOKUP(RU$19,DEBUT!$BS$2:$CM$18,12,FALSE),\"\")","v":""},{"$f":"IFERROR(HLOOKUP(RU$19,DEBUT!$BS$2:$CM$18,16,FALSE),\"\")","v":""},null,null,null,null,null,{"$f":"IFERROR(HLOOKUP(SD$19,DEBUT!$BS$2:$CM$18,4,FALSE),\"\")","v":""},{"$f":"IFERROR(HLOOKUP(SD$19,DEBUT!$BS$2:$CM$18,8,FALSE),\"\")","v":""},{"$f":"IFERROR(HLOOKUP(SD$19,DEBUT!$BS$2:$CM$18,12,FALSE),\"\")","v":""},{"$f":"IFERROR(HLOOKUP(SD$19,DEBUT!$BS$2:$CM$18,16,FALSE),\"\")","v":""},null,null,null,{"$f":"IFERROR(HLOOKUP(SK$19,DEBUT!$BS$2:$CM$18,4,FALSE),\"\")","v":""},{"$f":"IFERROR(HLOOKUP(SK$19,DEBUT!$BS$2:$CM$18,8,FALSE),\"\")","v":""},{"$f":"IFERROR(HLOOKUP(SK$19,DEBUT!$BS$2:$CM$18,12,FALSE),\"\")","v":""},{"$f":"IFERROR(HLOOKUP(SK$19,DEBUT!$BS$2:$CM$18,16,FALSE),\"\")","v":""},null,null,null,null,null,null,null,{"$f":"IFERROR(HLOOKUP(SV$19,DEBUT!$BS$2:$CM$18,4,FALSE),\"\")","v":""},{"$f":"IFERROR(HLOOKUP(SV$19,DEBUT!$BS$2:$CM$18,8,FALSE),\"\")","v":""},{"$f":"IFERROR(HLOOKUP(SV$19,DEBUT!$BS$2:$CM$18,12,FALSE),\"\")","v":""},{"$f":"IFERROR(HLOOKUP(SV$19,DEBUT!$BS$2:$CM$18,16,FALSE),\"\")","v":""},null,null,null,{"$f":"IFERROR(HLOOKUP(TC$19,DEBUT!$BS$2:$CM$18,4,FALSE),\"\")","v":""},{"$f":"IFERROR(HLOOKUP(TC$19,DEBUT!$BS$2:$CM$18,8,FALSE),\"\")","v":""},{"$f":"IFERROR(HLOOKUP(TC$19,DEBUT!$BS$2:$CM$18,12,FALSE),\"\")","v":""},{"$f":"IFERROR(HLOOKUP(TC$19,DEBUT!$BS$2:$CM$18,16,FALSE),\"\")","v":""},null,null,null,null,null,{"$f":"IFERROR(HLOOKUP(TL$19,DEBUT!$BS$2:$CM$18,4,FALSE),\"\")","v":""},{"$f":"IFERROR(HLOOKUP(TL$19,DEBUT!$BS$2:$CM$18,8,FALSE),\"\")","v":""},{"$f":"IFERROR(HLOOKUP(TL$19,DEBUT!$BS$2:$CM$18,12,FALSE),\"\")","v":""},{"$f":"IFERROR(HLOOKUP(TL$19,DEBUT!$BS$2:$CM$18,16,FALSE),\"\")","v":""},null,null,null,{"$f":"IFERROR(HLOOKUP(TS$19,DEBUT!$BS$2:$CM$18,4,FALSE),\"\")","v":""},{"$f":"IFERROR(HLOOKUP(TS$19,DEBUT!$BS$2:$CM$18,8,FALSE),\"\")","v":""},{"$f":"IFERROR(HLOOKUP(TS$19,DEBUT!$BS$2:$CM$18,12,FALSE),\"\")","v":""},{"$f":"IFERROR(HLOOKUP(TS$19,DEBUT!$BS$2:$CM$18,16,FALSE),\"\")","v":""},null,null,null,null,null,null,null,{"$f":"IFERROR(HLOOKUP(UD$19,DEBUT!$BS$2:$CM$18,4,FALSE),\"\")","v":""},{"$f":"IFERROR(HLOOKUP(UD$19,DEBUT!$BS$2:$CM$18,8,FALSE),\"\")","v":""},{"$f":"IFERROR(HLOOKUP(UD$19,DEBUT!$BS$2:$CM$18,12,FALSE),\"\")","v":""},{"$f":"IFERROR(HLOOKUP(UD$19,DEBUT!$BS$2:$CM$18,16,FALSE),\"\")","v":""},null,null,null,{"$f":"IFERROR(HLOOKUP(UK$19,DEBUT!$BS$2:$CM$18,4,FALSE),\"\")","v":""},{"$f":"IFERROR(HLOOKUP(UK$19,DEBUT!$BS$2:$CM$18,8,FALSE),\"\")","v":""},{"$f":"IFERROR(HLOOKUP(UK$19,DEBUT!$BS$2:$CM$18,12,FALSE),\"\")","v":""},{"$f":"IFERROR(HLOOKUP(UK$19,DEBUT!$BS$2:$CM$18,16,FALSE),\"\")","v":""},null,null,null,null,null,{"$f":"IFERROR(HLOOKUP(UT$19,DEBUT!$BS$2:$CM$18,4,FALSE),\"\")","v":""},{"$f":"IFERROR(HLOOKUP(UT$19,DEBUT!$BS$2:$CM$18,8,FALSE),\"\")","v":""},{"$f":"IFERROR(HLOOKUP(UT$19,DEBUT!$BS$2:$CM$18,12,FALSE),\"\")","v":""},{"$f":"IFERROR(HLOOKUP(UT$19,DEBUT!$BS$2:$CM$18,16,FALSE),\"\")","v":""},null,null,null,{"$f":"IFERROR(HLOOKUP(VA$19,DEBUT!$BS$2:$CM$18,4,FALSE),\"\")","v":""},{"$f":"IFERROR(HLOOKUP(VA$19,DEBUT!$BS$2:$CM$18,8,FALSE),\"\")","v":""},{"$f":"IFERROR(HLOOKUP(VA$19,DEBUT!$BS$2:$CM$18,12,FALSE),\"\")","v":""},{"$f":"IFERROR(HLOOKUP(VA$19,DEBUT!$BS$2:$CM$18,16,FALSE),\"\")","v":""},null,null,null,null,null,null,null,{"$f":"IFERROR(HLOOKUP(VL$19,DEBUT!$BS$2:$CM$18,4,FALSE),\"\")","v":""},{"$f":"IFERROR(HLOOKUP(VL$19,DEBUT!$BS$2:$CM$18,8,FALSE),\"\")","v":""},{"$f":"IFERROR(HLOOKUP(VL$19,DEBUT!$BS$2:$CM$18,12,FALSE),\"\")","v":""},{"$f":"IFERROR(HLOOKUP(VL$19,DEBUT!$BS$2:$CM$18,16,FALSE),\"\")","v":""},null,null,null,{"$f":"IFERROR(HLOOKUP(VS$19,DEBUT!$BS$2:$CM$18,4,FALSE),\"\")","v":""},{"$f":"IFERROR(HLOOKUP(VS$19,DEBUT!$BS$2:$CM$18,8,FALSE),\"\")","v":""},{"$f":"IFERROR(HLOOKUP(VS$19,DEBUT!$BS$2:$CM$18,12,FALSE),\"\")","v":""},{"$f":"IFERROR(HLOOKUP(VS$19,DEBUT!$BS$2:$CM$18,16,FALSE),\"\")","v":""},null,null,null,null,null,{"$f":"IFERROR(HLOOKUP(WB$19,DEBUT!$BS$2:$CM$18,4,FALSE),\"\")","v":""},{"$f":"IFERROR(HLOOKUP(WB$19,DEBUT!$BS$2:$CM$18,8,FALSE),\"\")","v":""},{"$f":"IFERROR(HLOOKUP(WB$19,DEBUT!$BS$2:$CM$18,12,FALSE),\"\")","v":""},{"$f":"IFERROR(HLOOKUP(WB$19,DEBUT!$BS$2:$CM$18,16,FALSE),\"\")","v":""},null,null,null,{"$f":"IFERROR(HLOOKUP(WI$19,DEBUT!$BS$2:$CM$18,4,FALSE),\"\")","v":""},{"$f":"IFERROR(HLOOKUP(WI$19,DEBUT!$BS$2:$CM$18,8,FALSE),\"\")","v":""},{"$f":"IFERROR(HLOOKUP(WI$19,DEBUT!$BS$2:$CM$18,12,FALSE),\"\")","v":""},{"$f":"IFERROR(HLOOKUP(WI$19,DEBUT!$BS$2:$CM$18,16,FALSE),\"\")","v":""},null,null,null,null,null,null,null,{"$f":"IFERROR(HLOOKUP(WT$19,DEBUT!$BS$2:$CM$18,4,FALSE),\"\")","v":""},{"$f":"IFERROR(HLOOKUP(WT$19,DEBUT!$BS$2:$CM$18,8,FALSE),\"\")","v":""},{"$f":"IFERROR(HLOOKUP(WT$19,DEBUT!$BS$2:$CM$18,12,FALSE),\"\")","v":""},{"$f":"IFERROR(HLOOKUP(WT$19,DEBUT!$BS$2:$CM$18,16,FALSE),\"\")","v":""},null,null,null,{"$f":"IFERROR(HLOOKUP(XA$19,DEBUT!$BS$2:$CM$18,4,FALSE),\"\")","v":""},{"$f":"IFERROR(HLOOKUP(XA$19,DEBUT!$BS$2:$CM$18,8,FALSE),\"\")","v":""},{"$f":"IFERROR(HLOOKUP(XA$19,DEBUT!$BS$2:$CM$18,12,FALSE),\"\")","v":""},{"$f":"IFERROR(HLOOKUP(XA$19,DEBUT!$BS$2:$CM$18,16,FALSE),\"\")","v":""},null,null,null,null,null,{"$f":"IFERROR(HLOOKUP(XJ$19,DEBUT!$BS$2:$CM$18,4,FALSE),\"\")","v":""},{"$f":"IFERROR(HLOOKUP(XJ$19,DEBUT!$BS$2:$CM$18,8,FALSE),\"\")","v":""},{"$f":"IFERROR(HLOOKUP(XJ$19,DEBUT!$BS$2:$CM$18,12,FALSE),\"\")","v":""},{"$f":"IFERROR(HLOOKUP(XJ$19,DEBUT!$BS$2:$CM$18,16,FALSE),\"\")","v":""},null,null,null,{"$f":"IFERROR(HLOOKUP(XQ$19,DEBUT!$BS$2:$CM$18,4,FALSE),\"\")","v":""},{"$f":"IFERROR(HLOOKUP(XQ$19,DEBUT!$BS$2:$CM$18,8,FALSE),\"\")","v":""},{"$f":"IFERROR(HLOOKUP(XQ$19,DEBUT!$BS$2:$CM$18,12,FALSE),\"\")","v":""},{"$f":"IFERROR(HLOOKUP(XQ$19,DEBUT!$BS$2:$CM$18,16,FALSE),\"\")","v":""},null,null,null,null,null,null,null,{"$f":"IFERROR(HLOOKUP(YB$19,DEBUT!$BS$2:$CM$18,4,FALSE),\"\")","v":""},{"$f":"IFERROR(HLOOKUP(YB$19,DEBUT!$BS$2:$CM$18,8,FALSE),\"\")","v":""},{"$f":"IFERROR(HLOOKUP(YB$19,DEBUT!$BS$2:$CM$18,12,FALSE),\"\")","v":""},{"$f":"IFERROR(HLOOKUP(YB$19,DEBUT!$BS$2:$CM$18,16,FALSE),\"\")","v":""},null,null,null,{"$f":"IFERROR(HLOOKUP(YI$19,DEBUT!$BS$2:$CM$18,4,FALSE),\"\")","v":""},{"$f":"IFERROR(HLOOKUP(YI$19,DEBUT!$BS$2:$CM$18,8,FALSE),\"\")","v":""},{"$f":"IFERROR(HLOOKUP(YI$19,DEBUT!$BS$2:$CM$18,12,FALSE),\"\")","v":""},{"$f":"IFERROR(HLOOKUP(YI$19,DEBUT!$BS$2:$CM$18,16,FALSE),\"\")","v":""},null,null,null,null,null,{"$f":"IFERROR(HLOOKUP(YR$19,DEBUT!$BS$2:$CM$18,4,FALSE),\"\")","v":""},{"$f":"IFERROR(HLOOKUP(YR$19,DEBUT!$BS$2:$CM$18,8,FALSE),\"\")","v":""},{"$f":"IFERROR(HLOOKUP(YR$19,DEBUT!$BS$2:$CM$18,12,FALSE),\"\")","v":""},{"$f":"IFERROR(HLOOKUP(YR$19,DEBUT!$BS$2:$CM$18,16,FALSE),\"\")","v":""},null,null,null,{"$f":"IFERROR(HLOOKUP(YY$19,DEBUT!$BS$2:$CM$18,4,FALSE),\"\")","v":""},{"$f":"IFERROR(HLOOKUP(YY$19,DEBUT!$BS$2:$CM$18,8,FALSE),\"\")","v":""},{"$f":"IFERROR(HLOOKUP(YY$19,DEBUT!$BS$2:$CM$18,12,FALSE),\"\")","v":""},{"$f":"IFERROR(HLOOKUP(YY$19,DEBUT!$BS$2:$CM$18,16,FALSE),\"\")","v":""},null,null,null,null,null,null,null,{"$f":"IFERROR(HLOOKUP(ZJ$19,DEBUT!$BS$2:$CM$18,4,FALSE),\"\")","v":""},{"$f":"IFERROR(HLOOKUP(ZJ$19,DEBUT!$BS$2:$CM$18,8,FALSE),\"\")","v":""},{"$f":"IFERROR(HLOOKUP(ZJ$19,DEBUT!$BS$2:$CM$18,12,FALSE),\"\")","v":""},{"$f":"IFERROR(HLOOKUP(ZJ$19,DEBUT!$BS$2:$CM$18,16,FALSE),\"\")","v":""},null,null,null,{"$f":"IFERROR(HLOOKUP(ZQ$19,DEBUT!$BS$2:$CM$18,4,FALSE),\"\")","v":""},{"$f":"IFERROR(HLOOKUP(ZQ$19,DEBUT!$BS$2:$CM$18,8,FALSE),\"\")","v":""},{"$f":"IFERROR(HLOOKUP(ZQ$19,DEBUT!$BS$2:$CM$18,12,FALSE),\"\")","v":""},{"$f":"IFERROR(HLOOKUP(ZQ$19,DEBUT!$BS$2:$CM$18,16,FALSE),\"\")","v":""},null,null,null,null,null,{"$f":"IFERROR(HLOOKUP(ZZ$19,DEBUT!$BS$2:$CM$18,4,FALSE),\"\")","v":""},{"$f":"IFERROR(HLOOKUP(ZZ$19,DEBUT!$BS$2:$CM$18,8,FALSE),\"\")","v":""},{"$f":"IFERROR(HLOOKUP(ZZ$19,DEBUT!$BS$2:$CM$18,12,FALSE),\"\")","v":""},{"$f":"IFERROR(HLOOKUP(ZZ$19,DEBUT!$BS$2:$CM$18,16,FALSE),\"\")","v":""},null,null,null,{"$f":"IFERROR(HLOOKUP(AAG$19,DEBUT!$BS$2:$CM$18,4,FALSE),\"\")","v":""},{"$f":"IFERROR(HLOOKUP(AAG$19,DEBUT!$BS$2:$CM$18,8,FALSE),\"\")","v":""},{"$f":"IFERROR(HLOOKUP(AAG$19,DEBUT!$BS$2:$CM$18,12,FALSE),\"\")","v":""},{"$f":"IFERROR(HLOOKUP(AAG$19,DEBUT!$BS$2:$CM$18,16,FALSE),\"\")","v":""},null,null,null,null,null,null,null,{"$f":"IFERROR(HLOOKUP(AAR$19,DEBUT!$BS$2:$CM$18,4,FALSE),\"\")","v":""},{"$f":"IFERROR(HLOOKUP(AAR$19,DEBUT!$BS$2:$CM$18,8,FALSE),\"\")","v":""},{"$f":"IFERROR(HLOOKUP(AAR$19,DEBUT!$BS$2:$CM$18,12,FALSE),\"\")","v":""},{"$f":"IFERROR(HLOOKUP(AAR$19,DEBUT!$BS$2:$CM$18,16,FALSE),\"\")","v":""},null,null,null,{"$f":"IFERROR(HLOOKUP(AAY$19,DEBUT!$BS$2:$CM$18,4,FALSE),\"\")","v":""},{"$f":"IFERROR(HLOOKUP(AAY$19,DEBUT!$BS$2:$CM$18,8,FALSE),\"\")","v":""},{"$f":"IFERROR(HLOOKUP(AAY$19,DEBUT!$BS$2:$CM$18,12,FALSE),\"\")","v":""},{"$f":"IFERROR(HLOOKUP(AAY$19,DEBUT!$BS$2:$CM$18,16,FALSE),\"\")","v":""},null,null,null,null,null,{"$f":"IFERROR(HLOOKUP(ABH$19,DEBUT!$BS$2:$CM$18,4,FALSE),\"\")","v":""},{"$f":"IFERROR(HLOOKUP(ABH$19,DEBUT!$BS$2:$CM$18,8,FALSE),\"\")","v":""},{"$f":"IFERROR(HLOOKUP(ABH$19,DEBUT!$BS$2:$CM$18,12,FALSE),\"\")","v":""},{"$f":"IFERROR(HLOOKUP(ABH$19,DEBUT!$BS$2:$CM$18,16,FALSE),\"\")","v":""},null,null,null,{"$f":"IFERROR(HLOOKUP(ABO$19,DEBUT!$BS$2:$CM$18,4,FALSE),\"\")","v":""},{"$f":"IFERROR(HLOOKUP(ABO$19,DEBUT!$BS$2:$CM$18,8,FALSE),\"\")","v":""},{"$f":"IFERROR(HLOOKUP(ABO$19,DEBUT!$BS$2:$CM$18,12,FALSE),\"\")","v":""},{"$f":"IFERROR(HLOOKUP(ABO$19,DEBUT!$BS$2:$CM$18,16,FALSE),\"\")","v":""},null,null,null,null,null,null,null,{"$f":"IFERROR(HLOOKUP(ABZ$19,DEBUT!$BS$2:$CM$18,4,FALSE),\"\")","v":""},{"$f":"IFERROR(HLOOKUP(ABZ$19,DEBUT!$BS$2:$CM$18,8,FALSE),\"\")","v":""},{"$f":"IFERROR(HLOOKUP(ABZ$19,DEBUT!$BS$2:$CM$18,12,FALSE),\"\")","v":""},{"$f":"IFERROR(HLOOKUP(ABZ$19,DEBUT!$BS$2:$CM$18,16,FALSE),\"\")","v":""},null,null,null,{"$f":"IFERROR(HLOOKUP(ACG$19,DEBUT!$BS$2:$CM$18,4,FALSE),\"\")","v":""},{"$f":"IFERROR(HLOOKUP(ACG$19,DEBUT!$BS$2:$CM$18,8,FALSE),\"\")","v":""},{"$f":"IFERROR(HLOOKUP(ACG$19,DEBUT!$BS$2:$CM$18,12,FALSE),\"\")","v":""},{"$f":"IFERROR(HLOOKUP(ACG$19,DEBUT!$BS$2:$CM$18,16,FALSE),\"\")","v":""},null,null,null,null,null,{"$f":"IFERROR(HLOOKUP(ACP$19,DEBUT!$BS$2:$CM$18,4,FALSE),\"\")","v":""},{"$f":"IFERROR(HLOOKUP(ACP$19,DEBUT!$BS$2:$CM$18,8,FALSE),\"\")","v":""},{"$f":"IFERROR(HLOOKUP(ACP$19,DEBUT!$BS$2:$CM$18,12,FALSE),\"\")","v":""},{"$f":"IFERROR(HLOOKUP(ACP$19,DEBUT!$BS$2:$CM$18,16,FALSE),\"\")","v":""},null,null,null,{"$f":"IFERROR(HLOOKUP(ACW$19,DEBUT!$BS$2:$CM$18,4,FALSE),\"\")","v":""},{"$f":"IFERROR(HLOOKUP(ACW$19,DEBUT!$BS$2:$CM$18,8,FALSE),\"\")","v":""},{"$f":"IFERROR(HLOOKUP(ACW$19,DEBUT!$BS$2:$CM$18,12,FALSE),\"\")","v":""},{"$f":"IFERROR(HLOOKUP(ACW$19,DEBUT!$BS$2:$CM$18,16,FALSE),\"\")","v":""},null,null,null,null,null,null,null,{"$f":"IFERROR(HLOOKUP(ADH$19,DEBUT!$BS$2:$CM$18,4,FALSE),\"\")","v":""},{"$f":"IFERROR(HLOOKUP(ADH$19,DEBUT!$BS$2:$CM$18,8,FALSE),\"\")","v":""},{"$f":"IFERROR(HLOOKUP(ADH$19,DEBUT!$BS$2:$CM$18,12,FALSE),\"\")","v":""},{"$f":"IFERROR(HLOOKUP(ADH$19,DEBUT!$BS$2:$CM$18,16,FALSE),\"\")","v":""},null,null,null,{"$f":"IFERROR(HLOOKUP(ADO$19,DEBUT!$BS$2:$CM$18,4,FALSE),\"\")","v":""},{"$f":"IFERROR(HLOOKUP(ADO$19,DEBUT!$BS$2:$CM$18,8,FALSE),\"\")","v":""},{"$f":"IFERROR(HLOOKUP(ADO$19,DEBUT!$BS$2:$CM$18,12,FALSE),\"\")","v":""},{"$f":"IFERROR(HLOOKUP(ADO$19,DEBUT!$BS$2:$CM$18,16,FALSE),\"\")","v":""},null,null,null,null,null,{"$f":"IFERROR(HLOOKUP(ADX$19,DEBUT!$BS$2:$CM$18,4,FALSE),\"\")","v":""},{"$f":"IFERROR(HLOOKUP(ADX$19,DEBUT!$BS$2:$CM$18,8,FALSE),\"\")","v":""},{"$f":"IFERROR(HLOOKUP(ADX$19,DEBUT!$BS$2:$CM$18,12,FALSE),\"\")","v":""},{"$f":"IFERROR(HLOOKUP(ADX$19,DEBUT!$BS$2:$CM$18,16,FALSE),\"\")","v":""},null,null,null,{"$f":"IFERROR(HLOOKUP(AEE$19,DEBUT!$BS$2:$CM$18,4,FALSE),\"\")","v":""},{"$f":"IFERROR(HLOOKUP(AEE$19,DEBUT!$BS$2:$CM$18,8,FALSE),\"\")","v":""},{"$f":"IFERROR(HLOOKUP(AEE$19,DEBUT!$BS$2:$CM$18,12,FALSE),\"\")","v":""},{"$f":"IFERROR(HLOOKUP(AEE$19,DEBUT!$BS$2:$CM$18,16,FALSE),\"\")","v":""}]
[null,null,null,null,null,{"$f":"IFERROR(HLOOKUP(F$19,DEBUT!$BS$2:$CM$18,5,FALSE),\"\")","v":""},{"$f":"IFERROR(HLOOKUP(F$19,DEBUT!$BS$2:$CM$18,9,FALSE),\"\")","v":""},{"$f":"IFERROR(HLOOKUP(F$19,DEBUT!$BS$2:$CM$18,13,FALSE),\"\")","v":""},{"$f":"IFERROR(HLOOKUP(F$19,DEBUT!$BS$2:$CM$18,17,FALSE),\"\")","v":""},null,null,null,{"$f":"IFERROR(HLOOKUP(M$19,DEBUT!$BS$2:$CM$18,5,FALSE),\"\")","v":""},{"$f":"IFERROR(HLOOKUP(M$19,DEBUT!$BS$2:$CM$18,9,FALSE),\"\")","v":""},{"$f":"IFERROR(HLOOKUP(M$19,DEBUT!$BS$2:$CM$18,13,FALSE),\"\")","v":""},{"$f":"IFERROR(HLOOKUP(M$19,DEBUT!$BS$2:$CM$18,17,FALSE),\"\")","v":""},null,null,null,null,null,{"$f":"IFERROR(HLOOKUP(V$19,DEBUT!$BS$2:$CM$18,5,FALSE),\"\")","v":""},{"$f":"IFERROR(HLOOKUP(V$19,DEBUT!$BS$2:$CM$18,9,FALSE),\"\")","v":""},{"$f":"IFERROR(HLOOKUP(V$19,DEBUT!$BS$2:$CM$18,13,FALSE),\"\")","v":""},{"$f":"IFERROR(HLOOKUP(V$19,DEBUT!$BS$2:$CM$18,17,FALSE),\"\")","v":""},null,null,null,{"$f":"IFERROR(HLOOKUP(AC$19,DEBUT!$BS$2:$CM$18,5,FALSE),\"\")","v":""},{"$f":"IFERROR(HLOOKUP(AC$19,DEBUT!$BS$2:$CM$18,9,FALSE),\"\")","v":""},{"$f":"IFERROR(HLOOKUP(AC$19,DEBUT!$BS$2:$CM$18,13,FALSE),\"\")","v":""},{"$f":"IFERROR(HLOOKUP(AC$19,DEBUT!$BS$2:$CM$18,17,FALSE),\"\")","v":""},null,null,null,null,null,null,null,{"$f":"IFERROR(HLOOKUP(AN$19,DEBUT!$BS$2:$CM$18,5,FALSE),\"\")","v":""},{"$f":"IFERROR(HLOOKUP(AN$19,DEBUT!$BS$2:$CM$18,9,FALSE),\"\")","v":""},{"$f":"IFERROR(HLOOKUP(AN$19,DEBUT!$BS$2:$CM$18,13,FALSE),\"\")","v":""},{"$f":"IFERROR(HLOOKUP(AN$19,DEBUT!$BS$2:$CM$18,17,FALSE),\"\")","v":""},null,null,null,{"$f":"IFERROR(HLOOKUP(AU$19,DEBUT!$BS$2:$CM$18,5,FALSE),\"\")","v":""},{"$f":"IFERROR(HLOOKUP(AU$19,DEBUT!$BS$2:$CM$18,9,FALSE),\"\")","v":""},{"$f":"IFERROR(HLOOKUP(AU$19,DEBUT!$BS$2:$CM$18,13,FALSE),\"\")","v":""},{"$f":"IFERROR(HLOOKUP(AU$19,DEBUT!$BS$2:$CM$18,17,FALSE),\"\")","v":""},null,null,null,null,null,{"$f":"IFERROR(HLOOKUP(BD$19,DEBUT!$BS$2:$CM$18,5,FALSE),\"\")","v":""},{"$f":"IFERROR(HLOOKUP(BD$19,DEBUT!$BS$2:$CM$18,9,FALSE),\"\")","v":""},{"$f":"IFERROR(HLOOKUP(BD$19,DEBUT!$BS$2:$CM$18,13,FALSE),\"\")","v":""},{"$f":"IFERROR(HLOOKUP(BD$19,DEBUT!$BS$2:$CM$18,17,FALSE),\"\")","v":""},null,null,null,{"$f":"IFERROR(HLOOKUP(BK$19,DEBUT!$BS$2:$CM$18,5,FALSE),\"\")","v":""},{"$f":"IFERROR(HLOOKUP(BK$19,DEBUT!$BS$2:$CM$18,9,FALSE),\"\")","v":""},{"$f":"IFERROR(HLOOKUP(BK$19,DEBUT!$BS$2:$CM$18,13,FALSE),\"\")","v":""},{"$f":"IFERROR(HLOOKUP(BK$19,DEBUT!$BS$2:$CM$18,17,FALSE),\"\")","v":""},null,null,null,null,null,null,null,{"$f":"IFERROR(HLOOKUP(BV$19,DEBUT!$BS$2:$CM$18,5,FALSE),\"\")","v":""},{"$f":"IFERROR(HLOOKUP(BV$19,DEBUT!$BS$2:$CM$18,9,FALSE),\"\")","v":""},{"$f":"IFERROR(HLOOKUP(BV$19,DEBUT!$BS$2:$CM$18,13,FALSE),\"\")","v":""},{"$f":"IFERROR(HLOOKUP(BV$19,DEBUT!$BS$2:$CM$18,17,FALSE),\"\")","v":""},null,null,null,{"$f":"IFERROR(HLOOKUP(CC$19,DEBUT!$BS$2:$CM$18,5,FALSE),\"\")","v":""},{"$f":"IFERROR(HLOOKUP(CC$19,DEBUT!$BS$2:$CM$18,9,FALSE),\"\")","v":""},{"$f":"IFERROR(HLOOKUP(CC$19,DEBUT!$BS$2:$CM$18,13,FALSE),\"\")","v":""},{"$f":"IFERROR(HLOOKUP(CC$19,DEBUT!$BS$2:$CM$18,17,FALSE),\"\")","v":""},null,null,null,null,null,{"$f":"IFERROR(HLOOKUP(CL$19,DEBUT!$BS$2:$CM$18,5,FALSE),\"\")","v":""},{"$f":"IFERROR(HLOOKUP(CL$19,DEBUT!$BS$2:$CM$18,9,FALSE),\"\")","v":""},{"$f":"IFERROR(HLOOKUP(CL$19,DEBUT!$BS$2:$CM$18,13,FALSE),\"\")","v":""},{"$f":"IFERROR(HLOOKUP(CL$19,DEBUT!$BS$2:$CM$18,17,FALSE),\"\")","v":""},null,null,null,{"$f":"IFERROR(HLOOKUP(CS$19,DEBUT!$BS$2:$CM$18,5,FALSE),\"\")","v":""},{"$f":"IFERROR(HLOOKUP(CS$19,DEBUT!$BS$2:$CM$18,9,FALSE),\"\")","v":""},{"$f":"IFERROR(HLOOKUP(CS$19,DEBUT!$BS$2:$CM$18,13,FALSE),\"\")","v":""},{"$f":"IFERROR(HLOOKUP(CS$19,DEBUT!$BS$2:$CM$18,17,FALSE),\"\")","v":""},null,null,null,null,null,null,null,{"$f":"IFERROR(HLOOKUP(DD$19,DEBUT!$BS$2:$CM$18,5,FALSE),\"\")","v":""},{"$f":"IFERROR(HLOOKUP(DD$19,DEBUT!$BS$2:$CM$18,9,FALSE),\"\")","v":""},{"$f":"IFERROR(HLOOKUP(DD$19,DEBUT!$BS$2:$CM$18,13,FALSE),\"\")","v":""},{"$f":"IFERROR(HLOOKUP(DD$19,DEBUT!$BS$2:$CM$18,17,FALSE),\"\")","v":""},null,null,null,{"$f":"IFERROR(HLOOKUP(DK$19,DEBUT!$BS$2:$CM$18,5,FALSE),\"\")","v":""},{"$f":"IFERROR(HLOOKUP(DK$19,DEBUT!$BS$2:$CM$18,9,FALSE),\"\")","v":""},{"$f":"IFERROR(HLOOKUP(DK$19,DEBUT!$BS$2:$CM$18,13,FALSE),\"\")","v":""},{"$f":"IFERROR(HLOOKUP(DK$19,DEBUT!$BS$2:$CM$18,17,FALSE),\"\")","v":""},null,null,null,null,null,{"$f":"IFERROR(HLOOKUP(DT$19,DEBUT!$BS$2:$CM$18,5,FALSE),\"\")","v":""},{"$f":"IFERROR(HLOOKUP(DT$19,DEBUT!$BS$2:$CM$18,9,FALSE),\"\")","v":""},{"$f":"IFERROR(HLOOKUP(DT$19,DEBUT!$BS$2:$CM$18,13,FALSE),\"\")","v":""},{"$f":"IFERROR(HLOOKUP(DT$19,DEBUT!$BS$2:$CM$18,17,FALSE),\"\")","v":""},null,null,null,{"$f":"IFERROR(HLOOKUP(EA$19,DEBUT!$BS$2:$CM$18,5,FALSE),\"\")","v":""},{"$f":"IFERROR(HLOOKUP(EA$19,DEBUT!$BS$2:$CM$18,9,FALSE),\"\")","v":""},{"$f":"IFERROR(HLOOKUP(EA$19,DEBUT!$BS$2:$CM$18,13,FALSE),\"\")","v":""},{"$f":"IFERROR(HLOOKUP(EA$19,DEBUT!$BS$2:$CM$18,17,FALSE),\"\")","v":""},null,null,null,null,null,null,null,{"$f":"IFERROR(HLOOKUP(EL$19,DEBUT!$BS$2:$CM$18,5,FALSE),\"\")","v":""},{"$f":"IFERROR(HLOOKUP(EL$19,DEBUT!$BS$2:$CM$18,9,FALSE),\"\")","v":""},{"$f":"IFERROR(HLOOKUP(EL$19,DEBUT!$BS$2:$CM$18,13,FALSE),\"\")","v":""},{"$f":"IFERROR(HLOOKUP(EL$19,DEBUT!$BS$2:$CM$18,17,FALSE),\"\")","v":""},null,null,null,{"$f":"IFERROR(HLOOKUP(ES$19,DEBUT!$BS$2:$CM$18,5,FALSE),\"\")","v":""},{"$f":"IFERROR(HLOOKUP(ES$19,DEBUT!$BS$2:$CM$18,9,FALSE),\"\")","v":""},{"$f":"IFERROR(HLOOKUP(ES$19,DEBUT!$BS$2:$CM$18,13,FALSE),\"\")","v":""},{"$f":"IFERROR(HLOOKUP(ES$19,DEBUT!$BS$2:$CM$18,17,FALSE),\"\")","v":""},null,null,null,null,null,{"$f":"IFERROR(HLOOKUP(FB$19,DEBUT!$BS$2:$CM$18,5,FALSE),\"\")","v":""},{"$f":"IFERROR(HLOOKUP(FB$19,DEBUT!$BS$2:$CM$18,9,FALSE),\"\")","v":""},{"$f":"IFERROR(HLOOKUP(FB$19,DEBUT!$BS$2:$CM$18,13,FALSE),\"\")","v":""},{"$f":"IFERROR(HLOOKUP(FB$19,DEBUT!$BS$2:$CM$18,17,FALSE),\"\")","v":""},null,null,null,{"$f":"IFERROR(HLOOKUP(FI$19,DEBUT!$BS$2:$CM$18,5,FALSE),\"\")","v":""},{"$f":"IFERROR(HLOOKUP(FI$19,DEBUT!$BS$2:$CM$18,9,FALSE),\"\")","v":""},{"$f":"IFERROR(HLOOKUP(FI$19,DEBUT!$BS$2:$CM$18,13,FALSE),\"\")","v":""},{"$f":"IFERROR(HLOOKUP(FI$19,DEBUT!$BS$2:$CM$18,17,FALSE),\"\")","v":""},null,null,null,null,null,null,null,{"$f":"IFERROR(HLOOKUP(FT$19,DEBUT!$BS$2:$CM$18,5,FALSE),\"\")","v":""},{"$f":"IFERROR(HLOOKUP(FT$19,DEBUT!$BS$2:$CM$18,9,FALSE),\"\")","v":""},{"$f":"IFERROR(HLOOKUP(FT$19,DEBUT!$BS$2:$CM$18,13,FALSE),\"\")","v":""},{"$f":"IFERROR(HLOOKUP(FT$19,DEBUT!$BS$2:$CM$18,17,FALSE),\"\")","v":""},null,null,null,{"$f":"IFERROR(HLOOKUP(GA$19,DEBUT!$BS$2:$CM$18,5,FALSE),\"\")","v":""},{"$f":"IFERROR(HLOOKUP(GA$19,DEBUT!$BS$2:$CM$18,9,FALSE),\"\")","v":""},{"$f":"IFERROR(HLOOKUP(GA$19,DEBUT!$BS$2:$CM$18,13,FALSE),\"\")","v":""},{"$f":"IFERROR(HLOOKUP(GA$19,DEBUT!$BS$2:$CM$18,17,FALSE),\"\")","v":""},null,null,null,null,null,{"$f":"IFERROR(HLOOKUP(GJ$19,DEBUT!$BS$2:$CM$18,5,FALSE),\"\")","v":""},{"$f":"IFERROR(HLOOKUP(GJ$19,DEBUT!$BS$2:$CM$18,9,FALSE),\"\")","v":""},{"$f":"IFERROR(HLOOKUP(GJ$19,DEBUT!$BS$2:$CM$18,13,FALSE),\"\")","v":""},{"$f":"IFERROR(HLOOKUP(GJ$19,DEBUT!$BS$2:$CM$18,17,FALSE),\"\")","v":""},null,null,null,{"$f":"IFERROR(HLOOKUP(GQ$19,DEBUT!$BS$2:$CM$18,5,FALSE),\"\")","v":""},{"$f":"IFERROR(HLOOKUP(GQ$19,DEBUT!$BS$2:$CM$18,9,FALSE),\"\")","v":""},{"$f":"IFERROR(HLOOKUP(GQ$19,DEBUT!$BS$2:$CM$18,13,FALSE),\"\")","v":""},{"$f":"IFERROR(HLOOKUP(GQ$19,DEBUT!$BS$2:$CM$18,17,FALSE),\"\")","v":""},null,null,null,null,null,null,null,{"$f":"IFERROR(HLOOKUP(HB$19,DEBUT!$BS$2:$CM$18,5,FALSE),\"\")","v":""},{"$f":"IFERROR(HLOOKUP(HB$19,DEBUT!$BS$2:$CM$18,9,FALSE),\"\")","v":""},{"$f":"IFERROR(HLOOKUP(HB$19,DEBUT!$BS$2:$CM$18,13,FALSE),\"\")","v":""},{"$f":"IFERROR(HLOOKUP(HB$19,DEBUT!$BS$2:$CM$18,17,FALSE),\"\")","v":""},null,null,null,{"$f":"IFERROR(HLOOKUP(HI$19,DEBUT!$BS$2:$CM$18,5,FALSE),\"\")","v":""},{"$f":"IFERROR(HLOOKUP(HI$19,DEBUT!$BS$2:$CM$18,9,FALSE),\"\")","v":""},{"$f":"IFERROR(HLOOKUP(HI$19,DEBUT!$BS$2:$CM$18,13,FALSE),\"\")","v":""},{"$f":"IFERROR(HLOOKUP(HI$19,DEBUT!$BS$2:$CM$18,17,FALSE),\"\")","v":""},null,null,null,null,null,{"$f":"IFERROR(HLOOKUP(HR$19,DEBUT!$BS$2:$CM$18,5,FALSE),\"\")","v":""},{"$f":"IFERROR(HLOOKUP(HR$19,DEBUT!$BS$2:$CM$18,9,FALSE),\"\")","v":""},{"$f":"IFERROR(HLOOKUP(HR$19,DEBUT!$BS$2:$CM$18,13,FALSE),\"\")","v":""},{"$f":"IFERROR(HLOOKUP(HR$19,DEBUT!$BS$2:$CM$18,17,FALSE),\"\")","v":""},null,null,null,{"$f":"IFERROR(HLOOKUP(HY$19,DEBUT!$BS$2:$CM$18,5,FALSE),\"\")","v":""},{"$f":"IFERROR(HLOOKUP(HY$19,DEBUT!$BS$2:$CM$18,9,FALSE),\"\")","v":""},{"$f":"IFERROR(HLOOKUP(HY$19,DEBUT!$BS$2:$CM$18,13,FALSE),\"\")","v":""},{"$f":"IFERROR(HLOOKUP(HY$19,DEBUT!$BS$2:$CM$18,17,FALSE),\"\")","v":""},null,null,null,null,null,null,null,{"$f":"IFERROR(HLOOKUP(IJ$19,DEBUT!$BS$2:$CM$18,5,FALSE),\"\")","v":""},{"$f":"IFERROR(HLOOKUP(IJ$19,DEBUT!$BS$2:$CM$18,9,FALSE),\"\")","v":""},{"$f":"IFERROR(HLOOKUP(IJ$19,DEBUT!$BS$2:$CM$18,13,FALSE),\"\")","v":""},{"$f":"IFERROR(HLOOKUP(IJ$19,DEBUT!$BS$2:$CM$18,17,FALSE),\"\")","v":""},null,null,null,{"$f":"IFERROR(HLOOKUP(IQ$19,DEBUT!$BS$2:$CM$18,5,FALSE),\"\")","v":""},{"$f":"IFERROR(HLOOKUP(IQ$19,DEBUT!$BS$2:$CM$18,9,FALSE),\"\")","v":""},{"$f":"IFERROR(HLOOKUP(IQ$19,DEBUT!$BS$2:$CM$18,13,FALSE),\"\")","v":""},{"$f":"IFERROR(HLOOKUP(IQ$19,DEBUT!$BS$2:$CM$18,17,FALSE),\"\")","v":""},null,null,null,null,null,{"$f":"IFERROR(HLOOKUP(IZ$19,DEBUT!$BS$2:$CM$18,5,FALSE),\"\")","v":""},{"$f":"IFERROR(HLOOKUP(IZ$19,DEBUT!$BS$2:$CM$18,9,FALSE),\"\")","v":""},{"$f":"IFERROR(HLOOKUP(IZ$19,DEBUT!$BS$2:$CM$18,13,FALSE),\"\")","v":""},{"$f":"IFERROR(HLOOKUP(IZ$19,DEBUT!$BS$2:$CM$18,17,FALSE),\"\")","v":""},null,null,null,{"$f":"IFERROR(HLOOKUP(JG$19,DEBUT!$BS$2:$CM$18,5,FALSE),\"\")","v":""},{"$f":"IFERROR(HLOOKUP(JG$19,DEBUT!$BS$2:$CM$18,9,FALSE),\"\")","v":""},{"$f":"IFERROR(HLOOKUP(JG$19,DEBUT!$BS$2:$CM$18,13,FALSE),\"\")","v":""},{"$f":"IFERROR(HLOOKUP(JG$19,DEBUT!$BS$2:$CM$18,17,FALSE),\"\")","v":""},null,null,null,null,null,null,null,{"$f":"IFERROR(HLOOKUP(JR$19,DEBUT!$BS$2:$CM$18,5,FALSE),\"\")","v":""},{"$f":"IFERROR(HLOOKUP(JR$19,DEBUT!$BS$2:$CM$18,9,FALSE),\"\")","v":""},{"$f":"IFERROR(HLOOKUP(JR$19,DEBUT!$BS$2:$CM$18,13,FALSE),\"\")","v":""},{"$f":"IFERROR(HLOOKUP(JR$19,DEBUT!$BS$2:$CM$18,17,FALSE),\"\")","v":""},null,null,null,{"$f":"IFERROR(HLOOKUP(JY$19,DEBUT!$BS$2:$CM$18,5,FALSE),\"\")","v":""},{"$f":"IFERROR(HLOOKUP(JY$19,DEBUT!$BS$2:$CM$18,9,FALSE),\"\")","v":""},{"$f":"IFERROR(HLOOKUP(JY$19,DEBUT!$BS$2:$CM$18,13,FALSE),\"\")","v":""},{"$f":"IFERROR(HLOOKUP(JY$19,DEBUT!$BS$2:$CM$18,17,FALSE),\"\")","v":""},null,null,null,null,null,{"$f":"IFERROR(HLOOKUP(KH$19,DEBUT!$BS$2:$CM$18,5,FALSE),\"\")","v":""},{"$f":"IFERROR(HLOOKUP(KH$19,DEBUT!$BS$2:$CM$18,9,FALSE),\"\")","v":""},{"$f":"IFERROR(HLOOKUP(KH$19,DEBUT!$BS$2:$CM$18,13,FALSE),\"\")","v":""},{"$f":"IFERROR(HLOOKUP(KH$19,DEBUT!$BS$2:$CM$18,17,FALSE),\"\")","v":""},null,null,null,{"$f":"IFERROR(HLOOKUP(KO$19,DEBUT!$BS$2:$CM$18,5,FALSE),\"\")","v":""},{"$f":"IFERROR(HLOOKUP(KO$19,DEBUT!$BS$2:$CM$18,9,FALSE),\"\")","v":""},{"$f":"IFERROR(HLOOKUP(KO$19,DEBUT!$BS$2:$CM$18,13,FALSE),\"\")","v":""},{"$f":"IFERROR(HLOOKUP(KO$19,DEBUT!$BS$2:$CM$18,17,FALSE),\"\")","v":""},null,null,null,null,null,null,null,{"$f":"IFERROR(HLOOKUP(KZ$19,DEBUT!$BS$2:$CM$18,5,FALSE),\"\")","v":""},{"$f":"IFERROR(HLOOKUP(KZ$19,DEBUT!$BS$2:$CM$18,9,FALSE),\"\")","v":""},{"$f":"IFERROR(HLOOKUP(KZ$19,DEBUT!$BS$2:$CM$18,13,FALSE),\"\")","v":""},{"$f":"IFERROR(HLOOKUP(KZ$19,DEBUT!$BS$2:$CM$18,17,FALSE),\"\")","v":""},null,null,null,{"$f":"IFERROR(HLOOKUP(LG$19,DEBUT!$BS$2:$CM$18,5,FALSE),\"\")","v":""},{"$f":"IFERROR(HLOOKUP(LG$19,DEBUT!$BS$2:$CM$18,9,FALSE),\"\")","v":""},{"$f":"IFERROR(HLOOKUP(LG$19,DEBUT!$BS$2:$CM$18,13,FALSE),\"\")","v":""},{"$f":"IFERROR(HLOOKUP(LG$19,DEBUT!$BS$2:$CM$18,17,FALSE),\"\")","v":""},null,null,null,null,null,{"$f":"IFERROR(HLOOKUP(LP$19,DEBUT!$BS$2:$CM$18,5,FALSE),\"\")","v":""},{"$f":"IFERROR(HLOOKUP(LP$19,DEBUT!$BS$2:$CM$18,9,FALSE),\"\")","v":""},{"$f":"IFERROR(HLOOKUP(LP$19,DEBUT!$BS$2:$CM$18,13,FALSE),\"\")","v":""},{"$f":"IFERROR(HLOOKUP(LP$19,DEBUT!$BS$2:$CM$18,17,FALSE),\"\")","v":""},null,null,null,{"$f":"IFERROR(HLOOKUP(LW$19,DEBUT!$BS$2:$CM$18,5,FALSE),\"\")","v":""},{"$f":"IFERROR(HLOOKUP(LW$19,DEBUT!$BS$2:$CM$18,9,FALSE),\"\")","v":""},{"$f":"IFERROR(HLOOKUP(LW$19,DEBUT!$BS$2:$CM$18,13,FALSE),\"\")","v":""},{"$f":"IFERROR(HLOOKUP(LW$19,DEBUT!$BS$2:$CM$18,17,FALSE),\"\")","v":""},null,null,null,null,null,null,null,{"$f":"IFERROR(HLOOKUP(MH$19,DEBUT!$BS$2:$CM$18,5,FALSE),\"\")","v":""},{"$f":"IFERROR(HLOOKUP(MH$19,DEBUT!$BS$2:$CM$18,9,FALSE),\"\")","v":""},{"$f":"IFERROR(HLOOKUP(MH$19,DEBUT!$BS$2:$CM$18,13,FALSE),\"\")","v":""},{"$f":"IFERROR(HLOOKUP(MH$19,DEBUT!$BS$2:$CM$18,17,FALSE),\"\")","v":""},null,null,null,{"$f":"IFERROR(HLOOKUP(MO$19,DEBUT!$BS$2:$CM$18,5,FALSE),\"\")","v":""},{"$f":"IFERROR(HLOOKUP(MO$19,DEBUT!$BS$2:$CM$18,9,FALSE),\"\")","v":""},{"$f":"IFERROR(HLOOKUP(MO$19,DEBUT!$BS$2:$CM$18,13,FALSE),\"\")","v":""},{"$f":"IFERROR(HLOOKUP(MO$19,DEBUT!$BS$2:$CM$18,17,FALSE),\"\")","v":""},null,null,null,null,null,{"$f":"IFERROR(HLOOKUP(MX$19,DEBUT!$BS$2:$CM$18,5,FALSE),\"\")","v":""},{"$f":"IFERROR(HLOOKUP(MX$19,DEBUT!$BS$2:$CM$18,9,FALSE),\"\")","v":""},{"$f":"IFERROR(HLOOKUP(MX$19,DEBUT!$BS$2:$CM$18,13,FALSE),\"\")","v":""},{"$f":"IFERROR(HLOOKUP(MX$19,DEBUT!$BS$2:$CM$18,17,FALSE),\"\")","v":""},null,null,null,{"$f":"IFERROR(HLOOKUP(NE$19,DEBUT!$BS$2:$CM$18,5,FALSE),\"\")","v":""},{"$f":"IFERROR(HLOOKUP(NE$19,DEBUT!$BS$2:$CM$18,9,FALSE),\"\")","v":""},{"$f":"IFERROR(HLOOKUP(NE$19,DEBUT!$BS$2:$CM$18,13,FALSE),\"\")","v":""},{"$f":"IFERROR(HLOOKUP(NE$19,DEBUT!$BS$2:$CM$18,17,FALSE),\"\")","v":""},null,null,null,null,null,null,null,{"$f":"IFERROR(HLOOKUP(NP$19,DEBUT!$BS$2:$CM$18,5,FALSE),\"\")","v":""},{"$f":"IFERROR(HLOOKUP(NP$19,DEBUT!$BS$2:$CM$18,9,FALSE),\"\")","v":""},{"$f":"IFERROR(HLOOKUP(NP$19,DEBUT!$BS$2:$CM$18,13,FALSE),\"\")","v":""},{"$f":"IFERROR(HLOOKUP(NP$19,DEBUT!$BS$2:$CM$18,17,FALSE),\"\")","v":""},null,null,null,{"$f":"IFERROR(HLOOKUP(NW$19,DEBUT!$BS$2:$CM$18,5,FALSE),\"\")","v":""},{"$f":"IFERROR(HLOOKUP(NW$19,DEBUT!$BS$2:$CM$18,9,FALSE),\"\")","v":""},{"$f":"IFERROR(HLOOKUP(NW$19,DEBUT!$BS$2:$CM$18,13,FALSE),\"\")","v":""},{"$f":"IFERROR(HLOOKUP(NW$19,DEBUT!$BS$2:$CM$18,17,FALSE),\"\")","v":""},null,null,null,null,null,{"$f":"IFERROR(HLOOKUP(OF$19,DEBUT!$BS$2:$CM$18,5,FALSE),\"\")","v":""},{"$f":"IFERROR(HLOOKUP(OF$19,DEBUT!$BS$2:$CM$18,9,FALSE),\"\")","v":""},{"$f":"IFERROR(HLOOKUP(OF$19,DEBUT!$BS$2:$CM$18,13,FALSE),\"\")","v":""},{"$f":"IFERROR(HLOOKUP(OF$19,DEBUT!$BS$2:$CM$18,17,FALSE),\"\")","v":""},null,null,null,{"$f":"IFERROR(HLOOKUP(OM$19,DEBUT!$BS$2:$CM$18,5,FALSE),\"\")","v":""},{"$f":"IFERROR(HLOOKUP(OM$19,DEBUT!$BS$2:$CM$18,9,FALSE),\"\")","v":""},{"$f":"IFERROR(HLOOKUP(OM$19,DEBUT!$BS$2:$CM$18,13,FALSE),\"\")","v":""},{"$f":"IFERROR(HLOOKUP(OM$19,DEBUT!$BS$2:$CM$18,17,FALSE),\"\")","v":""},null,null,null,null,null,null,null,{"$f":"IFERROR(HLOOKUP(OX$19,DEBUT!$BS$2:$CM$18,5,FALSE),\"\")","v":""},{"$f":"IFERROR(HLOOKUP(OX$19,DEBUT!$BS$2:$CM$18,9,FALSE),\"\")","v":""},{"$f":"IFERROR(HLOOKUP(OX$19,DEBUT!$BS$2:$CM$18,13,FALSE),\"\")","v":""},{"$f":"IFERROR(HLOOKUP(OX$19,DEBUT!$BS$2:$CM$18,17,FALSE),\"\")","v":""},null,null,null,{"$f":"IFERROR(HLOOKUP(PE$19,DEBUT!$BS$2:$CM$18,5,FALSE),\"\")","v":""},{"$f":"IFERROR(HLOOKUP(PE$19,DEBUT!$BS$2:$CM$18,9,FALSE),\"\")","v":""},{"$f":"IFERROR(HLOOKUP(PE$19,DEBUT!$BS$2:$CM$18,13,FALSE),\"\")","v":""},{"$f":"IFERROR(HLOOKUP(PE$19,DEBUT!$BS$2:$CM$18,17,FALSE),\"\")","v":""},null,null,null,null,null,{"$f":"IFERROR(HLOOKUP(PN$19,DEBUT!$BS$2:$CM$18,5,FALSE),\"\")","v":""},{"$f":"IFERROR(HLOOKUP(PN$19,DEBUT!$BS$2:$CM$18,9,FALSE),\"\")","v":""},{"$f":"IFERROR(HLOOKUP(PN$19,DEBUT!$BS$2:$CM$18,13,FALSE),\"\")","v":""},{"$f":"IFERROR(HLOOKUP(PN$19,DEBUT!$BS$2:$CM$18,17,FALSE),\"\")","v":""},null,null,null,{"$f":"IFERROR(HLOOKUP(PU$19,DEBUT!$BS$2:$CM$18,5,FALSE),\"\")","v":""},{"$f":"IFERROR(HLOOKUP(PU$19,DEBUT!$BS$2:$CM$18,9,FALSE),\"\")","v":""},{"$f":"IFERROR(HLOOKUP(PU$19,DEBUT!$BS$2:$CM$18,13,FALSE),\"\")","v":""},{"$f":"IFERROR(HLOOKUP(PU$19,DEBUT!$BS$2:$CM$18,17,FALSE),\"\")","v":""},null,null,null,null,null,null,null,{"$f":"IFERROR(HLOOKUP(QF$19,DEBUT!$BS$2:$CM$18,5,FALSE),\"\")","v":""},{"$f":"IFERROR(HLOOKUP(QF$19,DEBUT!$BS$2:$CM$18,9,FALSE),\"\")","v":""},{"$f":"IFERROR(HLOOKUP(QF$19,DEBUT!$BS$2:$CM$18,13,FALSE),\"\")","v":""},{"$f":"IFERROR(HLOOKUP(QF$19,DEBUT!$BS$2:$CM$18,17,FALSE),\"\")","v":""},null,null,null,{"$f":"IFERROR(HLOOKUP(QM$19,DEBUT!$BS$2:$CM$18,5,FALSE),\"\")","v":""},{"$f":"IFERROR(HLOOKUP(QM$19,DEBUT!$BS$2:$CM$18,9,FALSE),\"\")","v":""},{"$f":"IFERROR(HLOOKUP(QM$19,DEBUT!$BS$2:$CM$18,13,FALSE),\"\")","v":""},{"$f":"IFERROR(HLOOKUP(QM$19,DEBUT!$BS$2:$CM$18,17,FALSE),\"\")","v":""},null,null,null,null,null,{"$f":"IFERROR(HLOOKUP(QV$19,DEBUT!$BS$2:$CM$18,5,FALSE),\"\")","v":""},{"$f":"IFERROR(HLOOKUP(QV$19,DEBUT!$BS$2:$CM$18,9,FALSE),\"\")","v":""},{"$f":"IFERROR(HLOOKUP(QV$19,DEBUT!$BS$2:$CM$18,13,FALSE),\"\")","v":""},{"$f":"IFERROR(HLOOKUP(QV$19,DEBUT!$BS$2:$CM$18,17,FALSE),\"\")","v":""},null,null,null,{"$f":"IFERROR(HLOOKUP(RC$19,DEBUT!$BS$2:$CM$18,5,FALSE),\"\")","v":""},{"$f":"IFERROR(HLOOKUP(RC$19,DEBUT!$BS$2:$CM$18,9,FALSE),\"\")","v":""},{"$f":"IFERROR(HLOOKUP(RC$19,DEBUT!$BS$2:$CM$18,13,FALSE),\"\")","v":""},{"$f":"IFERROR(HLOOKUP(RC$19,DEBUT!$BS$2:$CM$18,17,FALSE),\"\")","v":""},null,null,null,null,null,null,null,{"$f":"IFERROR(HLOOKUP(RN$19,DEBUT!$BS$2:$CM$18,5,FALSE),\"\")","v":""},{"$f":"IFERROR(HLOOKUP(RN$19,DEBUT!$BS$2:$CM$18,9,FALSE),\"\")","v":""},{"$f":"IFERROR(HLOOKUP(RN$19,DEBUT!$BS$2:$CM$18,13,FALSE),\"\")","v":""},{"$f":"IFERROR(HLOOKUP(RN$19,DEBUT!$BS$2:$CM$18,17,FALSE),\"\")","v":""},null,null,null,{"$f":"IFERROR(HLOOKUP(RU$19,DEBUT!$BS$2:$CM$18,5,FALSE),\"\")","v":""},{"$f":"IFERROR(HLOOKUP(RU$19,DEBUT!$BS$2:$CM$18,9,FALSE),\"\")","v":""},{"$f":"IFERROR(HLOOKUP(RU$19,DEBUT!$BS$2:$CM$18,13,FALSE),\"\")","v":""},{"$f":"IFERROR(HLOOKUP(RU$19,DEBUT!$BS$2:$CM$18,17,FALSE),\"\")","v":""},null,null,null,null,null,{"$f":"IFERROR(HLOOKUP(SD$19,DEBUT!$BS$2:$CM$18,5,FALSE),\"\")","v":""},{"$f":"IFERROR(HLOOKUP(SD$19,DEBUT!$BS$2:$CM$18,9,FALSE),\"\")","v":""},{"$f":"IFERROR(HLOOKUP(SD$19,DEBUT!$BS$2:$CM$18,13,FALSE),\"\")","v":""},{"$f":"IFERROR(HLOOKUP(SD$19,DEBUT!$BS$2:$CM$18,17,FALSE),\"\")","v":""},null,null,null,{"$f":"IFERROR(HLOOKUP(SK$19,DEBUT!$BS$2:$CM$18,5,FALSE),\"\")","v":""},{"$f":"IFERROR(HLOOKUP(SK$19,DEBUT!$BS$2:$CM$18,9,FALSE),\"\")","v":""},{"$f":"IFERROR(HLOOKUP(SK$19,DEBUT!$BS$2:$CM$18,13,FALSE),\"\")","v":""},{"$f":"IFERROR(HLOOKUP(SK$19,DEBUT!$BS$2:$CM$18,17,FALSE),\"\")","v":""},null,null,null,null,null,null,null,{"$f":"IFERROR(HLOOKUP(SV$19,DEBUT!$BS$2:$CM$18,5,FALSE),\"\")","v":""},{"$f":"IFERROR(HLOOKUP(SV$19,DEBUT!$BS$2:$CM$18,9,FALSE),\"\")","v":""},{"$f":"IFERROR(HLOOKUP(SV$19,DEBUT!$BS$2:$CM$18,13,FALSE),\"\")","v":""},{"$f":"IFERROR(HLOOKUP(SV$19,DEBUT!$BS$2:$CM$18,17,FALSE),\"\")","v":""},null,null,null,{"$f":"IFERROR(HLOOKUP(TC$19,DEBUT!$BS$2:$CM$18,5,FALSE),\"\")","v":""},{"$f":"IFERROR(HLOOKUP(TC$19,DEBUT!$BS$2:$CM$18,9,FALSE),\"\")","v":""},{"$f":"IFERROR(HLOOKUP(TC$19,DEBUT!$BS$2:$CM$18,13,FALSE),\"\")","v":""},{"$f":"IFERROR(HLOOKUP(TC$19,DEBUT!$BS$2:$CM$18,17,FALSE),\"\")","v":""},null,null,null,null,null,{"$f":"IFERROR(HLOOKUP(TL$19,DEBUT!$BS$2:$CM$18,5,FALSE),\"\")","v":""},{"$f":"IFERROR(HLOOKUP(TL$19,DEBUT!$BS$2:$CM$18,9,FALSE),\"\")","v":""},{"$f":"IFERROR(HLOOKUP(TL$19,DEBUT!$BS$2:$CM$18,13,FALSE),\"\")","v":""},{"$f":"IFERROR(HLOOKUP(TL$19,DEBUT!$BS$2:$CM$18,17,FALSE),\"\")","v":""},null,null,null,{"$f":"IFERROR(HLOOKUP(TS$19,DEBUT!$BS$2:$CM$18,5,FALSE),\"\")","v":""},{"$f":"IFERROR(HLOOKUP(TS$19,DEBUT!$BS$2:$CM$18,9,FALSE),\"\")","v":""},{"$f":"IFERROR(HLOOKUP(TS$19,DEBUT!$BS$2:$CM$18,13,FALSE),\"\")","v":""},{"$f":"IFERROR(HLOOKUP(TS$19,DEBUT!$BS$2:$CM$18,17,FALSE),\"\")","v":""},null,null,null,null,null,null,null,{"$f":"IFERROR(HLOOKUP(UD$19,DEBUT!$BS$2:$CM$18,5,FALSE),\"\")","v":""},{"$f":"IFERROR(HLOOKUP(UD$19,DEBUT!$BS$2:$CM$18,9,FALSE),\"\")","v":""},{"$f":"IFERROR(HLOOKUP(UD$19,DEBUT!$BS$2:$CM$18,13,FALSE),\"\")","v":""},{"$f":"IFERROR(HLOOKUP(UD$19,DEBUT!$BS$2:$CM$18,17,FALSE),\"\")","v":""},null,null,null,{"$f":"IFERROR(HLOOKUP(UK$19,DEBUT!$BS$2:$CM$18,5,FALSE),\"\")","v":""},{"$f":"IFERROR(HLOOKUP(UK$19,DEBUT!$BS$2:$CM$18,9,FALSE),\"\")","v":""},{"$f":"IFERROR(HLOOKUP(UK$19,DEBUT!$BS$2:$CM$18,13,FALSE),\"\")","v":""},{"$f":"IFERROR(HLOOKUP(UK$19,DEBUT!$BS$2:$CM$18,17,FALSE),\"\")","v":""},null,null,null,null,null,{"$f":"IFERROR(HLOOKUP(UT$19,DEBUT!$BS$2:$CM$18,5,FALSE),\"\")","v":""},{"$f":"IFERROR(HLOOKUP(UT$19,DEBUT!$BS$2:$CM$18,9,FALSE),\"\")","v":""},{"$f":"IFERROR(HLOOKUP(UT$19,DEBUT!$BS$2:$CM$18,13,FALSE),\"\")","v":""},{"$f":"IFERROR(HLOOKUP(UT$19,DEBUT!$BS$2:$CM$18,17,FALSE),\"\")","v":""},null,null,null,{"$f":"IFERROR(HLOOKUP(VA$19,DEBUT!$BS$2:$CM$18,5,FALSE),\"\")","v":""},{"$f":"IFERROR(HLOOKUP(VA$19,DEBUT!$BS$2:$CM$18,9,FALSE),\"\")","v":""},{"$f":"IFERROR(HLOOKUP(VA$19,DEBUT!$BS$2:$CM$18,13,FALSE),\"\")","v":""},{"$f":"IFERROR(HLOOKUP(VA$19,DEBUT!$BS$2:$CM$18,17,FALSE),\"\")","v":""},null,null,null,null,null,null,null,{"$f":"IFERROR(HLOOKUP(VL$19,DEBUT!$BS$2:$CM$18,5,FALSE),\"\")","v":""},{"$f":"IFERROR(HLOOKUP(VL$19,DEBUT!$BS$2:$CM$18,9,FALSE),\"\")","v":""},{"$f":"IFERROR(HLOOKUP(VL$19,DEBUT!$BS$2:$CM$18,13,FALSE),\"\")","v":""},{"$f":"IFERROR(HLOOKUP(VL$19,DEBUT!$BS$2:$CM$18,17,FALSE),\"\")","v":""},null,null,null,{"$f":"IFERROR(HLOOKUP(VS$19,DEBUT!$BS$2:$CM$18,5,FALSE),\"\")","v":""},{"$f":"IFERROR(HLOOKUP(VS$19,DEBUT!$BS$2:$CM$18,9,FALSE),\"\")","v":""},{"$f":"IFERROR(HLOOKUP(VS$19,DEBUT!$BS$2:$CM$18,13,FALSE),\"\")","v":""},{"$f":"IFERROR(HLOOKUP(VS$19,DEBUT!$BS$2:$CM$18,17,FALSE),\"\")","v":""},null,null,null,null,null,{"$f":"IFERROR(HLOOKUP(WB$19,DEBUT!$BS$2:$CM$18,5,FALSE),\"\")","v":""},{"$f":"IFERROR(HLOOKUP(WB$19,DEBUT!$BS$2:$CM$18,9,FALSE),\"\")","v":""},{"$f":"IFERROR(HLOOKUP(WB$19,DEBUT!$BS$2:$CM$18,13,FALSE),\"\")","v":""},{"$f":"IFERROR(HLOOKUP(WB$19,DEBUT!$BS$2:$CM$18,17,FALSE),\"\")","v":""},null,null,null,{"$f":"IFERROR(HLOOKUP(WI$19,DEBUT!$BS$2:$CM$18,5,FALSE),\"\")","v":""},{"$f":"IFERROR(HLOOKUP(WI$19,DEBUT!$BS$2:$CM$18,9,FALSE),\"\")","v":""},{"$f":"IFERROR(HLOOKUP(WI$19,DEBUT!$BS$2:$CM$18,13,FALSE),\"\")","v":""},{"$f":"IFERROR(HLOOKUP(WI$19,DEBUT!$BS$2:$CM$18,17,FALSE),\"\")","v":""},null,null,null,null,null,null,null,{"$f":"IFERROR(HLOOKUP(WT$19,DEBUT!$BS$2:$CM$18,5,FALSE),\"\")","v":""},{"$f":"IFERROR(HLOOKUP(WT$19,DEBUT!$BS$2:$CM$18,9,FALSE),\"\")","v":""},{"$f":"IFERROR(HLOOKUP(WT$19,DEBUT!$BS$2:$CM$18,13,FALSE),\"\")","v":""},{"$f":"IFERROR(HLOOKUP(WT$19,DEBUT!$BS$2:$CM$18,17,FALSE),\"\")","v":""},null,null,null,{"$f":"IFERROR(HLOOKUP(XA$19,DEBUT!$BS$2:$CM$18,5,FALSE),\"\")","v":""},{"$f":"IFERROR(HLOOKUP(XA$19,DEBUT!$BS$2:$CM$18,9,FALSE),\"\")","v":""},{"$f":"IFERROR(HLOOKUP(XA$19,DEBUT!$BS$2:$CM$18,13,FALSE),\"\")","v":""},{"$f":"IFERROR(HLOOKUP(XA$19,DEBUT!$BS$2:$CM$18,17,FALSE),\"\")","v":""},null,null,null,null,null,{"$f":"IFERROR(HLOOKUP(XJ$19,DEBUT!$BS$2:$CM$18,5,FALSE),\"\")","v":""},{"$f":"IFERROR(HLOOKUP(XJ$19,DEBUT!$BS$2:$CM$18,9,FALSE),\"\")","v":""},{"$f":"IFERROR(HLOOKUP(XJ$19,DEBUT!$BS$2:$CM$18,13,FALSE),\"\")","v":""},{"$f":"IFERROR(HLOOKUP(XJ$19,DEBUT!$BS$2:$CM$18,17,FALSE),\"\")","v":""},null,null,null,{"$f":"IFERROR(HLOOKUP(XQ$19,DEBUT!$BS$2:$CM$18,5,FALSE),\"\")","v":""},{"$f":"IFERROR(HLOOKUP(XQ$19,DEBUT!$BS$2:$CM$18,9,FALSE),\"\")","v":""},{"$f":"IFERROR(HLOOKUP(XQ$19,DEBUT!$BS$2:$CM$18,13,FALSE),\"\")","v":""},{"$f":"IFERROR(HLOOKUP(XQ$19,DEBUT!$BS$2:$CM$18,17,FALSE),\"\")","v":""},null,null,null,null,null,null,null,{"$f":"IFERROR(HLOOKUP(YB$19,DEBUT!$BS$2:$CM$18,5,FALSE),\"\")","v":""},{"$f":"IFERROR(HLOOKUP(YB$19,DEBUT!$BS$2:$CM$18,9,FALSE),\"\")","v":""},{"$f":"IFERROR(HLOOKUP(YB$19,DEBUT!$BS$2:$CM$18,13,FALSE),\"\")","v":""},{"$f":"IFERROR(HLOOKUP(YB$19,DEBUT!$BS$2:$CM$18,17,FALSE),\"\")","v":""},null,null,null,{"$f":"IFERROR(HLOOKUP(YI$19,DEBUT!$BS$2:$CM$18,5,FALSE),\"\")","v":""},{"$f":"IFERROR(HLOOKUP(YI$19,DEBUT!$BS$2:$CM$18,9,FALSE),\"\")","v":""},{"$f":"IFERROR(HLOOKUP(YI$19,DEBUT!$BS$2:$CM$18,13,FALSE),\"\")","v":""},{"$f":"IFERROR(HLOOKUP(YI$19,DEBUT!$BS$2:$CM$18,17,FALSE),\"\")","v":""},null,null,null,null,null,{"$f":"IFERROR(HLOOKUP(YR$19,DEBUT!$BS$2:$CM$18,5,FALSE),\"\")","v":""},{"$f":"IFERROR(HLOOKUP(YR$19,DEBUT!$BS$2:$CM$18,9,FALSE),\"\")","v":""},{"$f":"IFERROR(HLOOKUP(YR$19,DEBUT!$BS$2:$CM$18,13,FALSE),\"\")","v":""},{"$f":"IFERROR(HLOOKUP(YR$19,DEBUT!$BS$2:$CM$18,17,FALSE),\"\")","v":""},null,null,null,{"$f":"IFERROR(HLOOKUP(YY$19,DEBUT!$BS$2:$CM$18,5,FALSE),\"\")","v":""},{"$f":"IFERROR(HLOOKUP(YY$19,DEBUT!$BS$2:$CM$18,9,FALSE),\"\")","v":""},{"$f":"IFERROR(HLOOKUP(YY$19,DEBUT!$BS$2:$CM$18,13,FALSE),\"\")","v":""},{"$f":"IFERROR(HLOOKUP(YY$19,DEBUT!$BS$2:$CM$18,17,FALSE),\"\")","v":""},null,null,null,null,null,null,null,{"$f":"IFERROR(HLOOKUP(ZJ$19,DEBUT!$BS$2:$CM$18,5,FALSE),\"\")","v":""},{"$f":"IFERROR(HLOOKUP(ZJ$19,DEBUT!$BS$2:$CM$18,9,FALSE),\"\")","v":""},{"$f":"IFERROR(HLOOKUP(ZJ$19,DEBUT!$BS$2:$CM$18,13,FALSE),\"\")","v":""},{"$f":"IFERROR(HLOOKUP(ZJ$19,DEBUT!$BS$2:$CM$18,17,FALSE),\"\")","v":""},null,null,null,{"$f":"IFERROR(HLOOKUP(ZQ$19,DEBUT!$BS$2:$CM$18,5,FALSE),\"\")","v":""},{"$f":"IFERROR(HLOOKUP(ZQ$19,DEBUT!$BS$2:$CM$18,9,FALSE),\"\")","v":""},{"$f":"IFERROR(HLOOKUP(ZQ$19,DEBUT!$BS$2:$CM$18,13,FALSE),\"\")","v":""},{"$f":"IFERROR(HLOOKUP(ZQ$19,DEBUT!$BS$2:$CM$18,17,FALSE),\"\")","v":""},null,null,null,null,null,{"$f":"IFERROR(HLOOKUP(ZZ$19,DEBUT!$BS$2:$CM$18,5,FALSE),\"\")","v":""},{"$f":"IFERROR(HLOOKUP(ZZ$19,DEBUT!$BS$2:$CM$18,9,FALSE),\"\")","v":""},{"$f":"IFERROR(HLOOKUP(ZZ$19,DEBUT!$BS$2:$CM$18,13,FALSE),\"\")","v":""},{"$f":"IFERROR(HLOOKUP(ZZ$19,DEBUT!$BS$2:$CM$18,17,FALSE),\"\")","v":""},null,null,null,{"$f":"IFERROR(HLOOKUP(AAG$19,DEBUT!$BS$2:$CM$18,5,FALSE),\"\")","v":""},{"$f":"IFERROR(HLOOKUP(AAG$19,DEBUT!$BS$2:$CM$18,9,FALSE),\"\")","v":""},{"$f":"IFERROR(HLOOKUP(AAG$19,DEBUT!$BS$2:$CM$18,13,FALSE),\"\")","v":""},{"$f":"IFERROR(HLOOKUP(AAG$19,DEBUT!$BS$2:$CM$18,17,FALSE),\"\")","v":""},null,null,null,null,null,null,null,{"$f":"IFERROR(HLOOKUP(AAR$19,DEBUT!$BS$2:$CM$18,5,FALSE),\"\")","v":""},{"$f":"IFERROR(HLOOKUP(AAR$19,DEBUT!$BS$2:$CM$18,9,FALSE),\"\")","v":""},{"$f":"IFERROR(HLOOKUP(AAR$19,DEBUT!$BS$2:$CM$18,13,FALSE),\"\")","v":""},{"$f":"IFERROR(HLOOKUP(AAR$19,DEBUT!$BS$2:$CM$18,17,FALSE),\"\")","v":""},null,null,null,{"$f":"IFERROR(HLOOKUP(AAY$19,DEBUT!$BS$2:$CM$18,5,FALSE),\"\")","v":""},{"$f":"IFERROR(HLOOKUP(AAY$19,DEBUT!$BS$2:$CM$18,9,FALSE),\"\")","v":""},{"$f":"IFERROR(HLOOKUP(AAY$19,DEBUT!$BS$2:$CM$18,13,FALSE),\"\")","v":""},{"$f":"IFERROR(HLOOKUP(AAY$19,DEBUT!$BS$2:$CM$18,17,FALSE),\"\")","v":""},null,null,null,null,null,{"$f":"IFERROR(HLOOKUP(ABH$19,DEBUT!$BS$2:$CM$18,5,FALSE),\"\")","v":""},{"$f":"IFERROR(HLOOKUP(ABH$19,DEBUT!$BS$2:$CM$18,9,FALSE),\"\")","v":""},{"$f":"IFERROR(HLOOKUP(ABH$19,DEBUT!$BS$2:$CM$18,13,FALSE),\"\")","v":""},{"$f":"IFERROR(HLOOKUP(ABH$19,DEBUT!$BS$2:$CM$18,17,FALSE),\"\")","v":""},null,null,null,{"$f":"IFERROR(HLOOKUP(ABO$19,DEBUT!$BS$2:$CM$18,5,FALSE),\"\")","v":""},{"$f":"IFERROR(HLOOKUP(ABO$19,DEBUT!$BS$2:$CM$18,9,FALSE),\"\")","v":""},{"$f":"IFERROR(HLOOKUP(ABO$19,DEBUT!$BS$2:$CM$18,13,FALSE),\"\")","v":""},{"$f":"IFERROR(HLOOKUP(ABO$19,DEBUT!$BS$2:$CM$18,17,FALSE),\"\")","v":""},null,null,null,null,null,null,null,{"$f":"IFERROR(HLOOKUP(ABZ$19,DEBUT!$BS$2:$CM$18,5,FALSE),\"\")","v":""},{"$f":"IFERROR(HLOOKUP(ABZ$19,DEBUT!$BS$2:$CM$18,9,FALSE),\"\")","v":""},{"$f":"IFERROR(HLOOKUP(ABZ$19,DEBUT!$BS$2:$CM$18,13,FALSE),\"\")","v":""},{"$f":"IFERROR(HLOOKUP(ABZ$19,DEBUT!$BS$2:$CM$18,17,FALSE),\"\")","v":""},null,null,null,{"$f":"IFERROR(HLOOKUP(ACG$19,DEBUT!$BS$2:$CM$18,5,FALSE),\"\")","v":""},{"$f":"IFERROR(HLOOKUP(ACG$19,DEBUT!$BS$2:$CM$18,9,FALSE),\"\")","v":""},{"$f":"IFERROR(HLOOKUP(ACG$19,DEBUT!$BS$2:$CM$18,13,FALSE),\"\")","v":""},{"$f":"IFERROR(HLOOKUP(ACG$19,DEBUT!$BS$2:$CM$18,17,FALSE),\"\")","v":""},null,null,null,null,null,{"$f":"IFERROR(HLOOKUP(ACP$19,DEBUT!$BS$2:$CM$18,5,FALSE),\"\")","v":""},{"$f":"IFERROR(HLOOKUP(ACP$19,DEBUT!$BS$2:$CM$18,9,FALSE),\"\")","v":""},{"$f":"IFERROR(HLOOKUP(ACP$19,DEBUT!$BS$2:$CM$18,13,FALSE),\"\")","v":""},{"$f":"IFERROR(HLOOKUP(ACP$19,DEBUT!$BS$2:$CM$18,17,FALSE),\"\")","v":""},null,null,null,{"$f":"IFERROR(HLOOKUP(ACW$19,DEBUT!$BS$2:$CM$18,5,FALSE),\"\")","v":""},{"$f":"IFERROR(HLOOKUP(ACW$19,DEBUT!$BS$2:$CM$18,9,FALSE),\"\")","v":""},{"$f":"IFERROR(HLOOKUP(ACW$19,DEBUT!$BS$2:$CM$18,13,FALSE),\"\")","v":""},{"$f":"IFERROR(HLOOKUP(ACW$19,DEBUT!$BS$2:$CM$18,17,FALSE),\"\")","v":""},null,null,null,null,null,null,null,{"$f":"IFERROR(HLOOKUP(ADH$19,DEBUT!$BS$2:$CM$18,5,FALSE),\"\")","v":""},{"$f":"IFERROR(HLOOKUP(ADH$19,DEBUT!$BS$2:$CM$18,9,FALSE),\"\")","v":""},{"$f":"IFERROR(HLOOKUP(ADH$19,DEBUT!$BS$2:$CM$18,13,FALSE),\"\")","v":""},{"$f":"IFERROR(HLOOKUP(ADH$19,DEBUT!$BS$2:$CM$18,17,FALSE),\"\")","v":""},null,null,null,{"$f":"IFERROR(HLOOKUP(ADO$19,DEBUT!$BS$2:$CM$18,5,FALSE),\"\")","v":""},{"$f":"IFERROR(HLOOKUP(ADO$19,DEBUT!$BS$2:$CM$18,9,FALSE),\"\")","v":""},{"$f":"IFERROR(HLOOKUP(ADO$19,DEBUT!$BS$2:$CM$18,13,FALSE),\"\")","v":""},{"$f":"IFERROR(HLOOKUP(ADO$19,DEBUT!$BS$2:$CM$18,17,FALSE),\"\")","v":""},null,null,null,null,null,{"$f":"IFERROR(HLOOKUP(ADX$19,DEBUT!$BS$2:$CM$18,5,FALSE),\"\")","v":""},{"$f":"IFERROR(HLOOKUP(ADX$19,DEBUT!$BS$2:$CM$18,9,FALSE),\"\")","v":""},{"$f":"IFERROR(HLOOKUP(ADX$19,DEBUT!$BS$2:$CM$18,13,FALSE),\"\")","v":""},{"$f":"IFERROR(HLOOKUP(ADX$19,DEBUT!$BS$2:$CM$18,17,FALSE),\"\")","v":""},null,null,null,{"$f":"IFERROR(HLOOKUP(AEE$19,DEBUT!$BS$2:$CM$18,5,FALSE),\"\")","v":""},{"$f":"IFERROR(HLOOKUP(AEE$19,DEBUT!$BS$2:$CM$18,9,FALSE),\"\")","v":""},{"$f":"IFERROR(HLOOKUP(AEE$19,DEBUT!$BS$2:$CM$18,13,FALSE),\"\")","v":""},{"$f":"IFERROR(HLOOKUP(AEE$19,DEBUT!$BS$2:$CM$18,17,FALSE),\"\")","v":""}]
[]
[]
[null,"MATCHS",null,null,null,"SCORE",null,null,null,null,null,null,"SCORE",null,null,null,null,null,null,null,null,"SCORE",null,null,null,null,null,null,"SCORE",null,null,null,null,null,null,null,null,null,null,"SCORE",null,null,null,null,null,null,"SCORE",null,null,null,null,null,null,null,null,"SCORE",null,null,null,null,null,null,"SCORE",null,null,null,null,null,null,null,null,null,null,"SCORE",null,null,null,null,null,null,"SCORE",null,null,null,null,null,null,null,null,"SCORE",null,null,null,null,null,null,"SCORE",null,null,null,null,null,null,null,null,null,null,"SCORE",null,null,null,null,null,null,"SCORE",null,null,null,null,null,null,null,null,"SCORE",null,null,null,null,null,null,"SCORE",null,null,null,null,null,null,null,null,null,null,"SCORE",null,null,null,null,null,null,"SCORE",null,null,null,null,null,null,null,null,"SCORE",null,null,null,null,null,null,"SCORE",null,null,null,null,null,null,null,null,null,null,"SCORE",null,null,null,null,null,null,"SCORE",null,null,null,null,null,null,null,null,"SCORE",null,null,null,null,null,null,"SCORE",null,null,null,null,null,null,null,null,null,null,"SCORE",null,null,null,null,null,null,"SCORE",null,null,null,null,null,null,null,null,"SCORE",null,null,null,null,null,null,"SCORE",null,null,null,null,null,null,null,null,null,null,"SCORE",null,null,null,null,null,null,"SCORE",null,null,null,null,null,null,null,null,"SCORE",null,null,null,null,null,null,"SCORE",null,null,null,null,null,null,null,null,null,null,"SCORE",null,null,null,null,null,null,"SCORE",null,null,null,null,null,null,null,null,"SCORE",null,null,null,null,null,null,"SCORE",null,null,null,null,null,null,null,null,null,null,"SCORE",null,null,null,null,null,null,"SCORE",null,null,null,null,null,null,null,null,"SCORE",null,null,null,null,null,null,"SCORE",null,null,null,null,null,null,null,null,null,null,"SCORE",null,null,null,null,null,null,"SCORE",null,null,null,null,null,null,null,null,"SCORE",null,null,null,null,null,null,"SCORE",null,null,null,null,null,null,null,null,null,null,"SCORE",null,null,null,null,null,null,"SCORE",null,null,null,null,null,null,null,null,"SCORE",null,null,null,null,null,null,"SCORE",null,null,null,null,null,null,null,null,null,null,"SCORE",null,null,null,null,null,null,"SCORE",null,null,null,null,null,null,null,null,"SCORE",null,null,null,null,null,null,"SCORE",null,null,null,null,null,null,null,null,null,null,"SCORE",null,null,null,null,null,null,"SCORE",null,null,null,null,null,null,null,null,"SCORE",null,null,null,null,null,null,"SCORE",null,null,null,null,null,null,null,null,null,null,"SCORE",null,null,null,null,null,null,"SCORE",null,null,null,null,null,null,null,null,"SCORE",null,null,null,null,null,null,"SCORE",null,null,null,null,null,null,null,null,null,null,"SCORE",null,null,null,null,null,null,"SCORE",null,null,null,null,null,null,null,null,"SCORE",null,null,null,null,null,null,"SCORE",null,null,null,null,null,null,null,null,null,null,"SCORE",null,null,null,null,null,null,"SCORE",null,null,null,null,null,null,null,null,"SCORE",null,null,null,null,null,null,"SCORE",null,null,null,null,null,null,null,null,null,null,"SCORE",null,null,null,null,null,null,"SCORE",null,null,null,null,null,null,null,null,"SCORE",null,null,null,null,null,null,"SCORE",null,null,null,null,null,null,null,null,null,null,"SCORE",null,null,null,null,null,null,"SCORE",null,null,null,null,null,null,null,null,"SCORE",null,null,null,null,null,null,"SCORE",null,null,null,null,null,null,null,null,null,null,"SCORE",null,null,null,null,null,null,"SCORE",null,null,null,null,null,null,null,null,"SCORE",null,null,null,null,null,null,"SCORE",null,null,null,null,null,null,null,null,null,null,"SCORE",null,null,null,null,null,null,"SCORE",null,null,null,null,null,null,null,null,"SCORE",null,null,null,null,null,null,"SCORE",null,null,null,null,null,null,null,null,null,null,"SCORE",null,null,null,null,null,null,"SCORE",null,null,null,null,null,null,null,null,"SCORE",null,null,null,null,null,null,"SCORE",null,null,null,null,null,null,null,null,null,null,"SCORE",null,null,null,null,null,null,"SCORE",null,null,null,null,null,null,null,null,"SCORE",null,null,null,null,null,null,"SCORE",null,null,null,null,null,null,null,null,null,null,"SCORE",null,null,null,null,null,null,"SCORE",null,null,null,null,null,null,null,null,"SCORE",null,null,null,null,null,null,"SCORE"]
[null,"POINTS MARQUES EN OU HORS ZONES DANGEREUSES",null,null,null,"POINTS MARQUES EN ZONES DANGEREUSES",null,"POINTS MARQUES HORS ZONES DANGEREUSES",null,null,null,null,"POINTS MARQUES EN ZONES DANGEREUSES",null,"POINTS MARQUES HORS ZONES DANGEREUSES",null,null,null,null,null,null,"POINTS MARQUES EN ZONES DANGEREUSES",null,"POINTS MARQUES HORS ZONES DANGEREUSES",null,null,null,null,"POINTS MARQUES EN ZONES DANGEREUSES",null,"POINTS MARQUES HORS ZONES DANGEREUSES",null,null,null,null,null,null,null,null,"POINTS MARQUES EN ZONES DANGEREUSES",null,"POINTS MARQUES HORS ZONES DANGEREUSES",null,null,null,null,"POINTS MARQUES EN ZONES DANGEREUSES",null,"POINTS MARQUES HORS ZONES DANGEREUSES",null,null,null,null,null,null,"POINTS MARQUES EN ZONES DANGEREUSES",null,"POINTS MARQUES HORS ZONES DANGEREUSES",null,null,null,null,"POINTS MARQUES EN ZONES DANGEREUSES",null,"POINTS MARQUES HORS ZONES DANGEREUSES",null,null,null,null,null,null,null,null,"POINTS MARQUES EN ZONES DANGEREUSES",null,"POINTS MARQUES HORS ZONES DANGEREUSES",null,null,null,null,"POINTS MARQUES EN ZONES DANGEREUSES",null,"POINTS MARQUES HORS ZONES DANGEREUSES",null,null,null,null,null,null,"POINTS MARQUES EN ZONES DANGEREUSES",null,"POINTS MARQUES HORS ZONES DANGEREUSES",null,null,null,null,"POINTS MARQUES EN ZONES DANGEREUSES",null,"POINTS MARQUES HORS ZONES DANGEREUSES",null,null,null,null,null,null,null,null,"POINTS MARQUES EN ZONES DANGEREUSES",null,"POINTS MARQUES HORS ZONES DANGEREUSES",null,null,null,null,"POINTS MARQUES EN ZONES DANGEREUSES",null,"POINTS MARQUES HORS ZONES DANGEREUSES",null,null,null,null,null,null,"POINTS MARQUES EN ZONES DANGEREUSES",null,"POINTS MARQUES HORS ZONES DANGEREUSES",null,null,null,null,"POINTS MARQUES EN ZONES DANGEREUSES",null,"POINTS MARQUES HORS ZONES DANGEREUSES",null,null,null,null,null,null,null,null,"POINTS MARQUES EN ZONES DANGEREUSES",null,"POINTS MARQUES HORS ZONES DANGEREUSES",null,null,null,null,"POINTS MARQUES EN ZONES DANGEREUSES",null,"POINTS MARQUES HORS ZONES DANGEREUSES",null,null,null,null,null,null,"POINTS MARQUES EN ZONES DANGEREUSES",null,"POINTS MARQUES HORS ZONES DANGEREUSES",null,null,null,null,"POINTS MARQUES EN ZONES DANGEREUSES",null,"POINTS MARQUES HORS ZONES DANGEREUSES",null,null,null,null,null,null,null,null,"POINTS MARQUES EN ZONES DANGEREUSES",null,"POINTS MARQUES HORS ZONES DANGEREUSES",null,null,null,null,"POINTS MARQUES EN ZONES DANGEREUSES",null,"POINTS MARQUES HORS ZONES DANGEREUSES",null,null,null,null,null,null,"POINTS MARQUES EN ZONES DANGEREUSES",null,"POINTS MARQUES HORS ZONES DANGEREUSES",null,null,null,null,"POINTS MARQUES EN ZONES DANGEREUSES",null,"POINTS MARQUES HORS ZONES DANGEREUSES",null,null,null,null,null,null,null,null,"POINTS MARQUES EN ZONES DANGEREUSES",null,"POINTS MARQUES HORS ZONES DANGEREUSES",null,null,null,null,"POINTS MARQUES EN ZONES DANGEREUSES",null,"POINTS MARQUES HORS ZONES DANGEREUSES",null,null,null,null,null,null,"POINTS MARQUES EN ZONES DANGEREUSES",null,"POINTS MARQUES HORS ZONES DANGEREUSES",null,null,null,null,"POINTS MARQUES EN ZONES DANGEREUSES",null,"POINTS MARQUES HORS ZONES DANGEREUSES",null,null,null,null,null,null,null,null,"POINTS MARQUES EN ZONES DANGEREUSES",null,"POINTS MARQUES HORS ZONES DANGEREUSES",null,null,null,null,"POINTS MARQUES EN ZONES DANGEREUSES",null,"POINTS MARQUES HORS ZONES DANGEREUSES",null,null,null,null,null,null,"POINTS MARQUES EN ZONES DANGEREUSES",null,"POINTS MARQUES HORS ZONES DANGEREUSES",null,null,null,null,"POINTS MARQUES EN ZONES DANGEREUSES",null,"POINTS MARQUES HORS ZONES DANGEREUSES",null,null,null,null,null,null,null,null,"POINTS MARQUES EN ZONES DANGEREUSES",null,"POINTS MARQUES HORS ZONES DANGEREUSES",null,null,null,null,"POINTS MARQUES EN ZONES DANGEREUSES",null,"POINTS MARQUES HORS ZONES DANGEREUSES",null,null,null,null,null,null,"POINTS MARQUES EN ZONES DANGEREUSES",null,"POINTS MARQUES HORS ZONES DANGEREUSES",null,null,null,null,"POINTS MARQUES EN ZONES DANGEREUSES",null,"POINTS MARQUES HORS ZONES DANGEREUSES",null,null,null,null,null,null,null,null,"POINTS MARQUES EN ZONES DANGEREUSES",null,"POINTS MARQUES HORS ZONES DANGEREUSES",null,null,null,null,"POINTS MARQUES EN ZONES DANGEREUSES",null,"POINTS MARQUES HORS ZONES DANGEREUSES",null,null,null,null,null,null,"POINTS MARQUES EN ZONES DANGEREUSES",null,"POINTS MARQUES HORS ZONES DANGEREUSES",null,null,null,null,"POINTS MARQUES EN ZONES DANGEREUSES",null,"POINTS MARQUES HORS ZONES DANGEREUSES",null,null,null,null,null,null,null,null,"POINTS MARQUES EN ZONES DANGEREUSES",null,"POINTS MARQUES HORS ZONES DANGEREUSES",null,null,null,null,"POINTS MARQUES EN ZONES DANGEREUSES",null,"POINTS MARQUES HORS ZONES DANGEREUSES",null,null,null,null,null,null,"POINTS MARQUES EN ZONES DANGEREUSES",null,"POINTS MARQUES HORS ZONES DANGEREUSES",null,null,null,null,"POINTS MARQUES EN ZONES DANGEREUSES",null,"POINTS MARQUES HORS ZONES DANGEREUSES",null,null,null,null,null,null,null,null,"POINTS MARQUES EN ZONES DANGEREUSES",null,"POINTS MARQUES HORS ZONES DANGEREUSES",null,null,null,null,"POINTS MARQUES EN ZONES DANGEREUSES",null,"POINTS MARQUES HORS ZONES DANGEREUSES",null,null,null,null,null,null,"POINTS MARQUES EN ZONES DANGEREUSES",null,"POINTS MARQUES HORS ZONES DANGEREUSES",null,null,null,null,"POINTS MARQUES EN ZONES DANGEREUSES",null,"POINTS MARQUES HORS ZONES DANGEREUSES",null,null,null,null,null,null,null,null,"POINTS MARQUES EN ZONES DANGEREUSES",null,"POINTS MARQUES HORS ZONES DANGEREUSES",null,null,null,null,"POINTS MARQUES EN ZONES DANGEREUSES",null,"POINTS MARQUES HORS ZONES DANGEREUSES",null,null,null,null,null,null,"POINTS MARQUES EN ZONES DANGEREUSES",null,"POINTS MARQUES HORS ZONES DANGEREUSES",null,null,null,null,"POINTS MARQUES EN ZONES DANGEREUSES",null,"POINTS MARQUES HORS ZONES DANGEREUSES",null,null,null,null,null,null,null,null,"POINTS MARQUES EN ZONES DANGEREUSES",null,"POINTS MARQUES HORS ZONES DANGEREUSES",null,null,null,null,"POINTS MARQUES EN ZONES DANGEREUSES",null,"POINTS MARQUES HORS ZONES DANGEREUSES",null,null,null,null,null,null,"POINTS MARQUES EN ZONES DANGEREUSES",null,"POINTS MARQUES HORS ZONES DANGEREUSES",null,null,null,null,"POINTS MARQUES EN ZONES DANGEREUSES",null,"POINTS MARQUES HORS ZONES DANGEREUSES",null,null,null,null,null,null,null,null,"POINTS MARQUES EN ZONES DANGEREUSES",null,"POINTS MARQUES HORS ZONES DANGEREUSES",null,null,null,null,"POINTS MARQUES EN ZONES DANGEREUSES",null,"POINTS MARQUES HORS ZONES DANGEREUSES",null,null,null,null,null,null,"POINTS MARQUES EN ZONES DANGEREUSES",null,"POINTS MARQUES HORS ZONES DANGEREUSES",null,null,null,null,"POINTS MARQUES EN ZONES DANGEREUSES",null,"POINTS MARQUES HORS ZONES DANGEREUSES",null,null,null,null,null,null,null,null,"POINTS MARQUES EN ZONES DANGEREUSES",null,"POINTS MARQUES HORS ZONES DANGEREUSES",null,null,null,null,"POINTS MARQUES EN ZONES DANGEREUSES",null,"POINTS MARQUES HORS ZONES DANGEREUSES",null,null,null,null,null,null,"POINTS MARQUES EN ZONES DANGEREUSES",null,"POINTS MARQUES HORS ZONES DANGEREUSES",null,null,null,null,"POINTS MARQUES EN ZONES DANGEREUSES",null,"POINTS MARQUES HORS ZONES DANGEREUSES",null,null,null,null,null,null,null,null,"POINTS MARQUES EN ZONES DANGEREUSES",null,"POINTS MARQUES HORS ZONES DANGEREUSES",null,null,null,null,"POINTS MARQUES EN ZONES DANGEREUSES",null,"POINTS MARQUES HORS ZONES DANGEREUSES",null,null,null,null,null,null,"POINTS MARQUES EN ZONES DANGEREUSES",null,"POINTS MARQUES HORS ZONES DANGEREUSES",null,null,null,null,"POINTS MARQUES EN ZONES DANGEREUSES",null,"POINTS MARQUES HORS ZONES DANGEREUSES",null,null,null,null,null,null,null,null,"POINTS MARQUES EN ZONES DANGEREUSES",null,"POINTS MARQUES HORS ZONES DANGEREUSES",null,null,null,null,"POINTS MARQUES EN ZONES DANGEREUSES",null,"POINTS MARQUES HORS ZONES DANGEREUSES",null,null,null,null,null,null,"POINTS MARQUES EN ZONES DANGEREUSES",null,"POINTS MARQUES HORS ZONES DANGEREUSES",null,null,null,null,"POINTS MARQUES EN ZONES DANGEREUSES",null,"POINTS MARQUES HORS ZONES DANGEREUSES",null,null,null,null,null,null,null,null,"POINTS MARQUES EN ZONES DANGEREUSES",null,"POINTS MARQUES HORS ZONES DANGEREUSES",null,null,null,null,"POINTS MARQUES EN ZONES DANGEREUSES",null,"POINTS MARQUES HORS ZONES DANGEREUSES",null,null,null,null,null,null,"POINTS MARQUES EN ZONES DANGEREUSES",null,"POINTS MARQUES HORS ZONES DANGEREUSES",null,null,null,null,"POINTS MARQUES EN ZONES DANGEREUSES",null,"POINTS MARQUES HORS ZONES DANGEREUSES",null,null,null,null,null,null,null,null,"POINTS MARQUES EN ZONES DANGEREUSES",null,"POINTS MARQUES HORS ZONES DANGEREUSES",null,null,null,null,"POINTS MARQUES EN ZONES DANGEREUSES",null,"POINTS MARQUES HORS ZONES DANGEREUSES",null,null,null,null,null,null,"POINTS MARQUES EN ZONES DANGEREUSES",null,"POINTS MARQUES HORS ZONES DANGEREUSES",null,null,null,null,"POINTS MARQUES EN ZONES DANGEREUSES",null,"POINTS MARQUES HORS ZONES DANGEREUSES",null,null,null,null,null,null,null,null,"POINTS MARQUES EN ZONES DANGEREUSES",null,"POINTS MARQUES HORS ZONES DANGEREUSES",null,null,null,null,"POINTS MARQUES EN ZONES DANGEREUSES",null,"POINTS MARQUES HORS ZONES DANGEREUSES",null,null,null,null,null,null,"POINTS MARQUES EN ZONES DANGEREUSES",null,"POINTS MARQUES HORS ZONES DANGEREUSES",null,null,null,null,"POINTS MARQUES EN ZONES DANGEREUSES",null,"POINTS MARQUES HORS ZONES DANGEREUSES",null,null,null,null,null,null,null,null,"POINTS MARQUES EN ZONES DANGEREUSES",null,"POINTS MARQUES HORS ZONES DANGEREUSES",null,null,null,null,"POINTS MARQUES EN ZONES DANGEREUSES",null,"POINTS MARQUES HORS ZONES DANGEREUSES",null,null,null,null,null,null,"POINTS MARQUES EN ZONES DANGEREUSES",null,"POINTS MARQUES HORS ZONES DANGEREUSES",null,null,null,null,"POINTS MARQUES EN ZONES DANGEREUSES",null,"POINTS MARQUES HORS ZONES DANGEREUSES",null,null,null,null,null,null,null,null,"POINTS MARQUES EN ZONES DANGEREUSES",null,"POINTS MARQUES HORS ZONES DANGEREUSES",null,null,null,null,"POINTS MARQUES EN ZONES DANGEREUSES",null,"POINTS MARQUES HORS ZONES DANGEREUSES",null,null,null,null,null,null,"POINTS MARQUES EN ZONES DANGEREUSES",null,"POINTS MARQUES HORS ZONES DANGEREUSES",null,null,null,null,"POINTS MARQUES EN ZONES DANGEREUSES",null,"POINTS MARQUES HORS ZONES DANGEREUSES",null,null,null,null,null,null,null,null,"POINTS MARQUES EN ZONES DANGEREUSES",null,"POINTS MARQUES HORS ZONES DANGEREUSES",null,null,null,null,"POINTS MARQUES EN ZONES DANGEREUSES",null,"POINTS MARQUES HORS ZONES DANGEREUSES",null,null,null,null,null,null,"POINTS MARQUES EN ZONES DANGEREUSES",null,"POINTS MARQUES HORS ZONES DANGEREUSES",null,null,null,null,"POINTS MARQUES EN ZONES DANGEREUSES",null,"POINTS MARQUES HORS ZONES DANGEREUSES"]
[null,1,null,null,null,null,null,null,null,null,null,null,null,null,null,null,null,null,null,null,null,null,null,null,null,null,null,null,null,null,null,null,null,null,null,"NOUVEAU MATCH",null,null,null,null,null,null,null,null,null,null,null,null,null,null,null,null,null,null,null,null,null,null,null,null,null,null,null,null,null,null,null,null,null,"NOUVEAU MATCH",null,null,null,null,null,null,null,null,null,null,null,null,null,null,null,null,null,null,null,null,null,null,null,null,null,null,null,null,null,null,null,null,null,"NOUVEAU MATCH",null,null,null,null,null,null,null,null,null,null,null,null,null,null,null,null,null,null,null,null,null,null,null,null,null,null,null,null,null,null,null,null,null,"NOUVEAU MATCH",null,null,null,null,null,null,null,null,null,null,null,null,null,null,null,null,null,null,null,null,null,null,null,null,null,null,null,null,null,null,null,null,null,"NOUVEAU MATCH",null,null,null,null,null,null,null,null,null,null,null,null,null,null,null,null,null,null,null,null,null,null,null,null,null,null,null,null,null,null,null,null,null,"NOUVEAU MATCH",null,null,null,null,null,null,null,null,null,null,null,null,null,null,null,null,null,null,null,null,null,null,null,null,null,null,null,null,null,null,null,null,null,"NOUVEAU MATCH",null,null,null,null,null,null,null,null,null,null,null,null,null,null,null,null,null,null,null,null,null,null,null,null,null,null,null,null,null,null,null,null,null,"NOUVEAU MATCH",null,null,null,null,null,null,null,null,null,null,null,null,null,null,null,null,null,null,null,null,null,null,null,null,null,null,null,null,null,null,null,null,null,"NOUVEAU MATCH",null,null,null,null,null,null,null,null,null,null,null,null,null,null,null,null,null,null,null,null,null,null,null,null,null,null,null,null,null,null,null,null,null,"NOUVEAU MATCH",null,null,null,null,null,null,null,null,null,null,null,null,null,null,null,null,null,null,null,null,null,null,null,null,null,null,null,null,null,null,null,null,null,"NOUVEAU MATCH",null,null,null,null,null,null,null,null,null,null,null,null,null,null,null,null,null,null,null,null,null,null,null,null,null,null,null,null,null,null,null,null,null,"NOUVEAU MATCH",null,null,null,null,null,null,null,null,null,null,null,null,null,null,null,null,null,null,null,null,null,null,null,null,null,null,null,null,null,null,null,null,null,"NOUVEAU MATCH",null,null,null,null,null,null,null,null,null,null,null,null,null,null,null,null,null,null,null,null,null,null,null,null,null,null,null,null,null,null,null,null,null,"NOUVEAU MATCH",null,null,null,null,null,null,null,null,null,null,null,null,null,null,null,null,null,null,null,null,null,null,null,null,null,null,null,null,null,null,null,null,null,"NOUVEAU MATCH",null,null,null,null,null,null,null,null,null,null,null,null,null,null,null,null,null,null,null,null,null,null,null,null,null,null,null,null,null,null,null,null,null,"NOUVEAU MATCH",null,null,null,null,null,null,null,null,null,null,null,null,null,null,null,null,null,null,null,null,null,null,null,null,null,null,null,null,null,null,null,null,null,"NOUVEAU MATCH",null,null,null,null,null,null,null,null,null,null,null,null,null,null,null,null,null,null,null,null,null,null,null,null,null,null,null,null,null,null,null,null,null,"NOUVEAU MATCH",null,null,null,null,null,null,null,null,null,null,null,null,null,null,null,null,null,null,null,null,null,null,null,null,null,null,null,null,null,null,null,null,null,"NOUVEAU MATCH",null,null,null,null,null,null,null,null,null,null,null,null,null,null,null,null,null,null,null,null,null,null,null,null,null,null,null,null,null,null,null,null,null,"NOUVEAU MATCH",null,null,null,null,null,null,null,null,null,null,null,null,null,null,null,null,null,null,null,null,null,null,null,null,null,null,null,null,null,null,null,null,null,"NOUVEAU MATCH",null,null,null,null,null,null,null,null,null,null,null,null,null,null,null,null,null,null,null,null,null,null,null,null,null,null,null,null,null,null,null,null,null,"NOUVEAU MATCH",null,null,null,null,null,null,null,null,null,null,null,null,null,null,null,null,null,null,null,null,null,null,null,null,null,null,null,null,null,null,null,null,null,"NOUVEAU MATCH",null,null,null,null,null,null,null,null,null,null,null,null,null,null,null,null,null,null,null,null,null,null,null,null,null,null,null,null,null,null,null,null,null,"NOUVEAU MATCH"]
[null,2]
[null,3]
[null,4]
[null,5]
[null,6]
[null,7]
[null,8]
[null,9]
[null,10]
[null,11]
[null,"TOTAL",null,null,null,{"$f":"(SUMPRODUCT(N(ISTEXT(F29:F39))))","v":0},"+",{"$f":"(SUMPRODUCT(N(ISTEXT(H29:H39))))","v":0},null,null,null,null,{"$f":"(SUMPRODUCT(N(ISTEXT(M29:M39))))","v":0},"+",{"$f":"(SUMPRODUCT(N(ISTEXT(O29:O39))))","v":0},null,null,null,null,null,null,{"$f":"(SUMPRODUCT(N(ISTEXT(V29:V39))))","v":0},"+",{"$f":"(SUMPRODUCT(N(ISTEXT(X29:X39))))","v":0},null,null,null,null,{"$f":"(SUMPRODUCT(N(ISTEXT(AC29:AC39))))","v":0},"+",{"$f":"(SUMPRODUCT(N(ISTEXT(AE29:AE39))))","v":0},null,null,null,null,null,null,null,null,{"$f":"(SUMPRODUCT(N(ISTEXT(AN29:AN39))))","v":0},"+",{"$f":"(SUMPRODUCT(N(ISTEXT(AP29:AP39))))","v":0},null,null,null,null,{"$f":"(SUMPRODUCT(N(ISTEXT(AU29:AU39))))","v":0},"+",{"$f":"(SUMPRODUCT(N(ISTEXT(AW29:AW39))))","v":0},null,null,null,null,null,null,{"$f":"(SUMPRODUCT(N(ISTEXT(BD29:BD39))))","v":0},"+",{"$f":"(SUMPRODUCT(N(ISTEXT(BF29:BF39))))","v":0},null,null,null,null,{"$f":"(SUMPRODUCT(N(ISTEXT(BK29:BK39))))","v":0},"+",{"$f":"(SUMPRODUCT(N(ISTEXT(BM29:BM39))))","v":0},null,null,null,null,null,null,null,null,{"$f":"(SUMPRODUCT(N(ISTEXT(BV29:BV39))))","v":0},"+",{"$f":"(SUMPRODUCT(N(ISTEXT(BX29:BX39))))","v":0},null,null,null,null,{"$f":"(SUMPRODUCT(N(ISTEXT(CC29:CC39))))","v":0},"+",{"$f":"(SUMPRODUCT(N(ISTEXT(CE29:CE39))))","v":0},null,null,null,null,null,null,{"$f":"(SUMPRODUCT(N(ISTEXT(CL29:CL39))))","v":0},"+",{"$f":"(SUMPRODUCT(N(ISTEXT(CN29:CN39))))","v":0},null,null,null,null,{"$f":"(SUMPRODUCT(N(ISTEXT(CS29:CS39))))","v":0},"+",{"$f":"(SUMPRODUCT(N(ISTEXT(CU29:CU39))))","v":0},null,null,null,null,null,null,null,null,{"$f":"(SUMPRODUCT(N(ISTEXT(DD29:DD39))))","v":0},"+",{"$f":"(SUMPRODUCT(N(ISTEXT(DF29:DF39))))","v":0},null,null,null,null,{"$f":"(SUMPRODUCT(N(ISTEXT(DK29:DK39))))","v":0},"+",{"$f":"(SUMPRODUCT(N(ISTEXT(DM29:DM39))))","v":0},null,null,null,null,null,null,{"$f":"(SUMPRODUCT(N(ISTEXT(DT29:DT39))))","v":0},"+",{"$f":"(SUMPRODUCT(N(ISTEXT(DV29:DV39))))","v":0},null,null,null,null,{"$f":"(SUMPRODUCT(N(ISTEXT(EA29:EA39))))","v":0},"+",{"$f":"(SUMPRODUCT(N(ISTEXT(EC29:EC39))))","v":0},null,null,null,null,null,null,null,null,{"$f":"(SUMPRODUCT(N(ISTEXT(EL29:EL39))))","v":0},"+",{"$f":"(SUMPRODUCT(N(ISTEXT(EN29:EN39))))","v":0},null,null,null,null,{"$f":"(SUMPRODUCT(N(ISTEXT(ES29:ES39))))","v":0},"+",{"$f":"(SUMPRODUCT(N(ISTEXT(EU29:EU39))))","v":0},null,null,null,null,null,null,{"$f":"(SUMPRODUCT(N(ISTEXT(FB29:FB39))))","v":0},"+",{"$f":"(SUMPRODUCT(N(ISTEXT(FD29:FD39))))","v":0},null,null,null,null,{"$f":"(SUMPRODUCT(N(ISTEXT(FI29:FI39))))","v":0},"+",{"$f":"(SUMPRODUCT(N(ISTEXT(FK29:FK39))))","v":0},null,null,null,null,null,null,null,null,{"$f":"(SUMPRODUCT(N(ISTEXT(FT29:FT39))))","v":0},"+",{"$f":"(SUMPRODUCT(N(ISTEXT(FV29:FV39))))","v":0},null,null,null,null,{"$f":"(SUMPRODUCT(N(ISTEXT(GA29:GA39))))","v":0},"+",{"$f":"(SUMPRODUCT(N(ISTEXT(GC29:GC39))))","v":0},null,null,null,null,null,null,{"$f":"(SUMPRODUCT(N(ISTEXT(GJ29:GJ39))))","v":0},"+",{"$f":"(SUMPRODUCT(N(ISTEXT(GL29:GL39))))","v":0},null,null,null,null,{"$f":"(SUMPRODUCT(N(ISTEXT(GQ29:GQ39))))","v":0},"+",{"$f":"(SUMPRODUCT(N(ISTEXT(GS29:GS39))))","v":0},null,null,null,null,null,null,null,null,{"$f":"(SUMPRODUCT(N(ISTEXT(HB29:HB39))))","v":0},"+",{"$f":"(SUMPRODUCT(N(ISTEXT(HD29:HD39))))","v":0},null,null,null,null,{"$f":"(SUMPRODUCT(N(ISTEXT(HI29:HI39))))","v":0},"+",{"$f":"(SUMPRODUCT(N(ISTEXT(HK29:HK39))))","v":0},null,null,null,null,null,null,{"$f":"(SUMPRODUCT(N(ISTEXT(HR29:HR39))))","v":0},"+",{"$f":"(SUMPRODUCT(N(ISTEXT(HT29:HT39))))","v":0},null,null,null,null,{"$f":"(SUMPRODUCT(N(ISTEXT(HY29:HY39))))","v":0},"+",{"$f":"(SUMPRODUCT(N(ISTEXT(IA29:IA39))))","v":0},null,null,null,null,null,null,null,null,{"$f":"(SUMPRODUCT(N(ISTEXT(IJ29:IJ39))))","v":0},"+",{"$f":"(SUMPRODUCT(N(ISTEXT(IL29:IL39))))","v":0},null,null,null,null,{"$f":"(SUMPRODUCT(N(ISTEXT(IQ29:IQ39))))","v":0},"+",{"$f":"(SUMPRODUCT(N(ISTEXT(IS29:IS39))))","v":0},null,null,null,null,null,null,{"$f":"(SUMPRODUCT(N(ISTEXT(IZ29:IZ39))))","v":0},"+",{"$f":"(SUMPRODUCT(N(ISTEXT(JB29:JB39))))","v":0},null,null,null,null,{"$f":"(SUMPRODUCT(N(ISTEXT(JG29:JG39))))","v":0},"+",{"$f":"(SUMPRODUCT(N(ISTEXT(JI29:JI39))))","v":0},null,null,null,null,null,null,null,null,{"$f":"(SUMPRODUCT(N(ISTEXT(JR29:JR39))))","v":0},"+",{"$f":"(SUMPRODUCT(N(ISTEXT(JT29:JT39))))","v":0},null,null,null,null,{"$f":"(SUMPRODUCT(N(ISTEXT(JY29:JY39))))","v":0},"+",{"$f":"(SUMPRODUCT(N(ISTEXT(KA29:KA39))))","v":0},null,null,null,null,null,null,{"$f":"(SUMPRODUCT(N(ISTEXT(KH29:KH39))))","v":0},"+",{"$f":"(SUMPRODUCT(N(ISTEXT(KJ29:KJ39))))","v":0},null,null,null,null,{"$f":"(SUMPRODUCT(N(ISTEXT(KO29:KO39))))","v":0},"+",{"$f":"(SUMPRODUCT(N(ISTEXT(KQ29:KQ39))))","v":0},null,null,null,null,null,null,null,null,{"$f":"(SUMPRODUCT(N(ISTEXT(KZ29:KZ39))))","v":0},"+",{"$f":"(SUMPRODUCT(N(ISTEXT(LB29:LB39))))","v":0},null,null,null,null,{"$f":"(SUMPRODUCT(N(ISTEXT(LG29:LG39))))","v":0},"+",{"$f":"(SUMPRODUCT(N(ISTEXT(LI29:LI39))))","v":0},null,null,null,null,null,null,{"$f":"(SUMPRODUCT(N(ISTEXT(LP29:LP39))))","v":0},"+",{"$f":"(SUMPRODUCT(N(ISTEXT(LR29:LR39))))","v":0},null,null,null,null,{"$f":"(SUMPRODUCT(N(ISTEXT(LW29:LW39))))","v":0},"+",{"$f":"(SUMPRODUCT(N(ISTEXT(LY29:LY39))))","v":0},null,null,null,null,null,null,null,null,{"$f":"(SUMPRODUCT(N(ISTEXT(MH29:MH39))))","v":0},"+",{"$f":"(SUMPRODUCT(N(ISTEXT(MJ29:MJ39))))","v":0},null,null,null,null,{"$f":"(SUMPRODUCT(N(ISTEXT(MO29:MO39))))","v":0},"+",{"$f":"(SUMPRODUCT(N(ISTEXT(MQ29:MQ39))))","v":0},null,null,null,null,null,null,{"$f":"(SUMPRODUCT(N(ISTEXT(MX29:MX39))))","v":0},"+",{"$f":"(SUMPRODUCT(N(ISTEXT(MZ29:MZ39))))","v":0},null,null,null,null,{"$f":"(SUMPRODUCT(N(ISTEXT(NE29:NE39))))","v":0},"+",{"$f":"(SUMPRODUCT(N(ISTEXT(NG29:NG39))))","v":0},null,null,null,null,null,null,null,null,{"$f":"(SUMPRODUCT(N(ISTEXT(NP29:NP39))))","v":0},"+",{"$f":"(SUMPRODUCT(N(ISTEXT(NR29:NR39))))","v":0},null,null,null,null,{"$f":"(SUMPRODUCT(N(ISTEXT(NW29:NW39))))","v":0},"+",{"$f":"(SUMPRODUCT(N(ISTEXT(NY29:NY39))))","v":0},null,null,null,null,null,null,{"$f":"(SUMPRODUCT(N(ISTEXT(OF29:OF39))))","v":0},"+",{"$f":"(SUMPRODUCT(N(ISTEXT(OH29:OH39))))","v":0},null,null,null,null,{"$f":"(SUMPRODUCT(N(ISTEXT(OM29:OM39))))","v":0},"+",{"$f":"(SUMPRODUCT(N(ISTEXT(OO29:OO39))))","v":0},null,null,null,null,null,null,null,null,{"$f":"(SUMPRODUCT(N(ISTEXT(OX29:OX39))))","v":0},"+",{"$f":"(SUMPRODUCT(N(ISTEXT(OZ29:OZ39))))","v":0},null,null,null,null,{"$f":"(SUMPRODUCT(N(ISTEXT(PE29:PE39))))","v":0},"+",{"$f":"(SUMPRODUCT(N(ISTEXT(PG29:PG39))))","v":0},null,null,null,null,null,null,{"$f":"(SUMPRODUCT(N(ISTEXT(PN29:PN39))))","v":0},"+",{"$f":"(SUMPRODUCT(N(ISTEXT(PP29:PP39))))","v":0},null,null,null,null,{"$f":"(SUMPRODUCT(N(ISTEXT(PU29:PU39))))","v":0},"+",{"$f":"(SUMPRODUCT(N(ISTEXT(PW29:PW39))))","v":0},null,null,null,null,null,null,null,null,{"$f":"(SUMPRODUCT(N(ISTEXT(QF29:QF39))))","v":0},"+",{"$f":"(SUMPRODUCT(N(ISTEXT(QH29:QH39))))","v":0},null,null,null,null,{"$f":"(SUMPRODUCT(N(ISTEXT(QM29:QM39))))","v":0},"+",{"$f":"(SUMPRODUCT(N(ISTEXT(QO29:QO39))))","v":0},null,null,null,null,null,null,{"$f":"(SUMPRODUCT(N(ISTEXT(QV29:QV39))))","v":0},"+",{"$f":"(SUMPRODUCT(N(ISTEXT(QX29:QX39))))","v":0},null,null,null,null,{"$f":"(SUMPRODUCT(N(ISTEXT(RC29:RC39))))","v":0},"+",{"$f":"(SUMPRODUCT(N(ISTEXT(RE29:RE39))))","v":0},null,null,null,null,null,null,null,null,{"$f":"(SUMPRODUCT(N(ISTEXT(RN29:RN39))))","v":0},"+",{"$f":"(SUMPRODUCT(N(ISTEXT(RP29:RP39))))","v":0},null,null,null,null,{"$f":"(SUMPRODUCT(N(ISTEXT(RU29:RU39))))","v":0},"+",{"$f":"(SUMPRODUCT(N(ISTEXT(RW29:RW39))))","v":0},null,null,null,null,null,null,{"$f":"(SUMPRODUCT(N(ISTEXT(SD29:SD39))))","v":0},"+",{"$f":"(SUMPRODUCT(N(ISTEXT(SF29:SF39))))","v":0},null,null,null,null,{"$f":"(SUMPRODUCT(N(ISTEXT(SK29:SK39))))","v":0},"+",{"$f":"(SUMPRODUCT(N(ISTEXT(SM29:SM39))))","v":0},null,null,null,null,null,null,null,null,{"$f":"(SUMPRODUCT(N(ISTEXT(SV29:SV39))))","v":0},"+",{"$f":"(SUMPRODUCT(N(ISTEXT(SX29:SX39))))","v":0},null,null,null,null,{"$f":"(SUMPRODUCT(N(ISTEXT(TC29:TC39))))","v":0},"+",{"$f":"(SUMPRODUCT(N(ISTEXT(TE29:TE39))))","v":0},null,null,null,null,null,null,{"$f":"(SUMPRODUCT(N(ISTEXT(TL29:TL39))))","v":0},"+",{"$f":"(SUMPRODUCT(N(ISTEXT(TN29:TN39))))","v":0},null,null,null,null,{"$f":"(SUMPRODUCT(N(ISTEXT(TS29:TS39))))","v":0},"+",{"$f":"(SUMPRODUCT(N(ISTEXT(TU29:TU39))))","v":0},null,null,null,null,null,null,null,null,{"$f":"(SUMPRODUCT(N(ISTEXT(UD29:UD39))))","v":0},"+",{"$f":"(SUMPRODUCT(N(ISTEXT(UF29:UF39))))","v":0},null,null,null,null,{"$f":"(SUMPRODUCT(N(ISTEXT(UK29:UK39))))","v":0},"+",{"$f":"(SUMPRODUCT(N(ISTEXT(UM29:UM39))))","v":0},null,null,null,null,null,null,{"$f":"(SUMPRODUCT(N(ISTEXT(UT29:UT39))))","v":0},"+",{"$f":"(SUMPRODUCT(N(ISTEXT(UV29:UV39))))","v":0},null,null,null,null,{"$f":"(SUMPRODUCT(N(ISTEXT(VA29:VA39))))","v":0},"+",{"$f":"(SUMPRODUCT(N(ISTEXT(VC29:VC39))))","v":0},null,null,null,null,null,null,null,null,{"$f":"(SUMPRODUCT(N(ISTEXT(VL29:VL39))))","v":0},"+",{"$f":"(SUMPRODUCT(N(ISTEXT(VN29:VN39))))","v":0},null,null,null,null,{"$f":"(SUMPRODUCT(N(ISTEXT(VS29:VS39))))","v":0},"+",{"$f":"(SUMPRODUCT(N(ISTEXT(VU29:VU39))))","v":0},null,null,null,null,null,null,{"$f":"(SUMPRODUCT(N(ISTEXT(WB29:WB39))))","v":0},"+",{"$f":"(SUMPRODUCT(N(ISTEXT(WD29:WD39))))","v":0},null,null,null,null,{"$f":"(SUMPRODUCT(N(ISTEXT(WI29:WI39))))","v":0},"+",{"$f":"(SUMPRODUCT(N(ISTEXT(WK29:WK39))))","v":0},null,null,null,null,null,null,null,null,{"$f":"(SUMPRODUCT(N(ISTEXT(WT29:WT39))))","v":0},"+",{"$f":"(SUMPRODUCT(N(ISTEXT(WV29:WV39))))","v":0},null,null,null,null,{"$f":"(SUMPRODUCT(N(ISTEXT(XA29:XA39))))","v":0},"+",{"$f":"(SUMPRODUCT(N(ISTEXT(XC29:XC39))))","v":0},null,null,null,null,null,null,{"$f":"(SUMPRODUCT(N(ISTEXT(XJ29:XJ39))))","v":0},"+",{"$f":"(SUMPRODUCT(N(ISTEXT(XL29:XL39))))","v":0},null,null,null,null,{"$f":"(SUMPRODUCT(N(ISTEXT(XQ29:XQ39))))","v":0},"+",{"$f":"(SUMPRODUCT(N(ISTEXT(XS29:XS39))))","v":0},null,null,null,null,null,null,null,null,{"$f":"(SUMPRODUCT(N(ISTEXT(YB29:YB39))))","v":0},"+",{"$f":"(SUMPRODUCT(N(ISTEXT(YD29:YD39))))","v":0},null,null,null,null,{"$f":"(SUMPRODUCT(N(ISTEXT(YI29:YI39))))","v":0},"+",{"$f":"(SUMPRODUCT(N(ISTEXT(YK29:YK39))))","v":0},null,null,null,null,null,null,{"$f":"(SUMPRODUCT(N(ISTEXT(YR29:YR39))))","v":0},"+",{"$f":"(SUMPRODUCT(N(ISTEXT(YT29:YT39))))","v":0},null,null,null,null,{"$f":"(SUMPRODUCT(N(ISTEXT(YY29:YY39))))","v":0},"+",{"$f":"(SUMPRODUCT(N(ISTEXT(ZA29:ZA39))))","v":0},null,null,null,null,null,null,null,null,{"$f":"(SUMPRODUCT(N(ISTEXT(ZJ29:ZJ39))))","v":0},"+",{"$f":"(SUMPRODUCT(N(ISTEXT(ZL29:ZL39))))","v":0},null,null,null,null,{"$f":"(SUMPRODUCT(N(ISTEXT(ZQ29:ZQ39))))","v":0},"+",{"$f":"(SUMPRODUCT(N(ISTEXT(ZS29:ZS39))))","v":0},null,null,null,null,null,null,{"$f":"(SUMPRODUCT(N(ISTEXT(ZZ29:ZZ39))))","v":0},"+",{"$f":"(SUMPRODUCT(N(ISTEXT(AAB29:AAB39))))","v":0},null,null,null,null,{"$f":"(SUMPRODUCT(N(ISTEXT(AAG29:AAG39))))","v":0},"+",{"$f":"(SUMPRODUCT(N(ISTEXT(AAI29:AAI39))))","v":0},null,null,null,null,null,null,null,null,{"$f":"(SUMPRODUCT(N(ISTEXT(AAR29:AAR39))))","v":0},"+",{"$f":"(SUMPRODUCT(N(ISTEXT(AAT29:AAT39))))","v":0},null,null,null,null,{"$f":"(SUMPRODUCT(N(ISTEXT(AAY29:AAY39))))","v":0},"+",{"$f":"(SUMPRODUCT(N(ISTEXT(ABA29:ABA39))))","v":0},null,null,null,null,null,null,{"$f":"(SUMPRODUCT(N(ISTEXT(ABH29:ABH39))))","v":0},"+",{"$f":"(SUMPRODUCT(N(ISTEXT(ABJ29:ABJ39))))","v":0},null,null,null,null,{"$f":"(SUMPRODUCT(N(ISTEXT(ABO29:ABO39))))","v":0},"+",{"$f":"(SUMPRODUCT(N(ISTEXT(ABQ29:ABQ39))))","v":0},null,null,null,null,null,null,null,null,{"$f":"(SUMPRODUCT(N(ISTEXT(ABZ29:ABZ39))))","v":0},"+",{"$f":"(SUMPRODUCT(N(ISTEXT(ACB29:ACB39))))","v":0},null,null,null,null,{"$f":"(SUMPRODUCT(N(ISTEXT(ACG29:ACG39))))","v":0},"+",{"$f":"(SUMPRODUCT(N(ISTEXT(ACI29:ACI39))))","v":0},null,null,null,null,null,null,{"$f":"(SUMPRODUCT(N(ISTEXT(ACP29:ACP39))))","v":0},"+",{"$f":"(SUMPRODUCT(N(ISTEXT(ACR29:ACR39))))","v":0},null,null,null,null,{"$f":"(SUMPRODUCT(N(ISTEXT(ACW29:ACW39))))","v":0},"+",{"$f":"(SUMPRODUCT(N(ISTEXT(ACY29:ACY39))))","v":0},null,null,null,null,null,null,null,null,{"$f":"(SUMPRODUCT(N(ISTEXT(ADH29:ADH39))))","v":0},"+",{"$f":"(SUMPRODUCT(N(ISTEXT(ADJ29:ADJ39))))","v":0},null,null,null,null,{"$f":"(SUMPRODUCT(N(ISTEXT(ADO29:ADO39))))","v":0},"+",{"$f":"(SUMPRODUCT(N(ISTEXT(ADQ29:ADQ39))))","v":0},null,null,null,null,null,null,{"$f":"(SUMPRODUCT(N(ISTEXT(ADX29:ADX39))))","v":0},"+",{"$f":"(SUMPRODUCT(N(ISTEXT(ADZ29:ADZ39))))","v":0},null,null,null,null,{"$f":"(SUMPRODUCT(N(ISTEXT(AEE29:AEE39))))","v":0},"+",{"$f":"(SUMPRODUCT(N(ISTEXT(AEG29:AEG39))))","v":0}]
[null,"SCORE ",null,null,null,{"$f":"F40+H40","v":0},null,null,null,null,null,null,{"$f":"M40+O40","v":0},null,null,null,null,null,null,null,null,{"$f":"V40+X40","v":0},null,null,null,null,null,null,{"$f":"AC40+AE40","v":0},null,null,null,null,null,null,"NOUVEAU MATCH",null,null,null,{"$f":"AN40+AP40","v":0},null,null,null,null,null,null,{"$f":"AU40+AW40","v":0},null,null,null,null,null,null,null,null,{"$f":"BD40+BF40","v":0},null,null,null,null,null,null,{"$f":"BK40+BM40","v":0},null,null,null,null,null,null,"NOUVEAU MATCH",null,null,null,{"$f":"BV40+BX40","v":0},null,null,null,null,null,null,{"$f":"CC40+CE40","v":0},null,null,null,null,null,null,null,null,{"$f":"CL40+CN40","v":0},null,null,null,null,null,null,{"$f":"CS40+CU40","v":0},null,null,null,null,null,null,"NOUVEAU MATCH",null,null,null,{"$f":"DD40+DF40","v":0},null,null,null,null,null,null,{"$f":"DK40+DM40","v":0},null,null,null,null,null,null,null,null,{"$f":"DT40+DV40","v":0},null,null,null,null,null,null,{"$f":"EA40+EC40","v":0},null,null,null,null,null,null,null,null,null,null,{"$f":"EL40+EN40","v":0},null,null,null,null,null,null,{"$f":"ES40+EU40","v":0},null,null,null,null,null,null,null,null,{"$f":"FB40+FD40","v":0},null,null,null,null,null,null,{"$f":"FI40+FK40","v":0},null,null,null,null,null,null,"NOUVEAU MATCH",null,null,null,{"$f":"FT40+FV40","v":0},null,null,null,null,null,null,{"$f":"GA40+GC40","v":0},null,null,null,null,null,null,null,null,{"$f":"GJ40+GL40","v":0},null,null,null,null,null,null,{"$f":"GQ40+GS40","v":0},null,null,null,null,null,null,"NOUVEAU MATCH",null,null,null,{"$f":"HB40+HD40","v":0},null,null,null,null,null,null,{"$f":"HI40+HK40","v":0},null,null,null,null,null,null,null,null,{"$f":"HR40+HT40","v":0},null,null,null,null,null,null,{"$f":"HY40+IA40","v":0},null,null,null,null,null,null,"NOUVEAU MATCH",null,null,null,{"$f":"IJ40+IL40","v":0},null,null,null,null,null,null,{"$f":"IQ40+IS40","v":0},null,null,null,null,null,null,null,null,{"$f":"IZ40+JB40","v":0},null,null,null,null,null,null,{"$f":"JG40+JI40","v":0},null,null,null,null,null,null,null,null,null,null,{"$f":"JR40+JT40","v":0},null,null,null,null,null,null,{"$f":"JY40+KA40","v":0},null,null,null,null,null,null,null,null,{"$f":"KH40+KJ40","v":0},null,null,null,null,null,null,{"$f":"KO40+KQ40","v":0},null,null,null,null,null,null,"NOUVEAU MATCH",null,null,null,{"$f":"KZ40+LB40","v":0},null,null,null,null,null,null,{"$f":"LG40+LI40","v":0},null,null,null,null,null,null,null,null,{"$f":"LP40+LR40","v":0},null,null,null,null,null,null,{"$f":"LW40+LY40","v":0},null,null,null,null,null,null,"NOUVEAU MATCH",null,null,null,{"$f":"MH40+MJ40","v":0},null,null,null,null,null,null,{"$f":"MO40+MQ40","v":0},null,null,null,null,null,null,null,null,{"$f":"MX40+MZ40","v":0},null,null,null,null,null,null,{"$f":"NE40+NG40","v":0},null,null,null,null,null,null,"NOUVEAU MATCH",null,null,null,{"$f":"NP40+NR40","v":0},null,null,null,null,null,null,{"$f":"NW40+NY40","v":0},null,null,null,null,null,null,null,null,{"$f":"OF40+OH40","v":0},null,null,null,null,null,null,{"$f":"OM40+OO40","v":0},null,null,null,null,null,null,null,null,null,null,{"$f":"OX40+OZ40","v":0},null,null,null,null,null,null,{"$f":"PE40+PG40","v":0},null,null,null,null,null,null,null,null,{"$f":"PN40+PP40","v":0},null,null,null,null,null,null,{"$f":"PU40+PW40","v":0},null,null,null,null,null,null,"NOUVEAU MATCH",null,null,null,{"$f":"QF40+QH40","v":0},null,null,null,null,null,null,{"$f":"QM40+QO40","v":0},null,null,null,null,null,null,null,null,{"$f":"QV40+QX40","v":0},null,null,null,null,null,null,{"$f":"RC40+RE40","v":0},null,null,null,null,null,null,"NOUVEAU MATCH",null,null,null,{"$f":"RN40+RP40","v":0},null,null,null,null,null,null,{"$f":"RU40+RW40","v":0},null,null,null,null,null,null,null,null,{"$f":"SD40+SF40","v":0},null,null,null,null,null,null,{"$f":"SK40+SM40","v":0},null,null,null,null,null,null,"NOUVEAU MATCH",null,null,null,{"$f":"SV40+SX40","v":0},null,null,null,null,null,null,{"$f":"TC40+TE40","v":0},null,null,null,null,null,null,null,null,{"$f":"TL40+TN40","v":0},null,null,null,null,null,null,{"$f":"TS40+TU40","v":0},null,null,null,null,null,null,null,null,null,null,{"$f":"UD40+UF40","v":0},null,null,null,null,null,null,{"$f":"UK40+UM40","v":0},null,null,null,null,null,null,null,null,{"$f":"UT40+UV40","v":0},null,null,null,null,null,null,{"$f":"VA40+VC40","v":0},null,null,null,null,null,null,"NOUVEAU MATCH",null,null,null,{"$f":"VL40+VN40","v":0},null,null,null,null,null,null,{"$f":"VS40+VU40","v":0},null,null,null,null,null,null,null,null,{"$f":"WB40+WD40","v":0},null,null,null,null,null,null,{"$f":"WI40+WK40","v":0},null,null,null,null,null,null,"NOUVEAU MATCH",null,null,null,{"$f":"WT40+WV40","v":0},null,null,null,null,null,null,{"$f":"XA40+XC40","v":0},null,null,null,null,null,null,null,null,{"$f":"XJ40+XL40","v":0},null,null,null,null,null,null,{"$f":"XQ40+XS40","v":0},null,null,null,null,null,null,"NOUVEAU MATCH",null,null,null,{"$f":"YB40+YD40","v":0},null,null,null,null,null,null,{"$f":"YI40+YK40","v":0},null,null,null,null,null,null,null,null,{"$f":"YR40+YT40","v":0},null,null,null,null,null,null,{"$f":"YY40+ZA40","v":0},null,null,null,null,null,null,null,null,null,null,{"$f":"ZJ40+ZL40","v":0},null,null,null,null,null,null,{"$f":"ZQ40+ZS40","v":0},null,null,null,null,null,null,null,null,{"$f":"ZZ40+AAB40","v":0},null,null,null,null,null,null,{"$f":"AAG40+AAI40","v":0},null,null,null,null,null,null,"NOUVEAU MATCH",null,null,null,{"$f":"AAR40+AAT40","v":0},null,null,null,null,null,null,{"$f":"AAY40+ABA40","v":0},null,null,null,null,null,null,null,null,{"$f":"ABH40+ABJ40","v":0},null,null,null,null,null,null,{"$f":"ABO40+ABQ40","v":0},null,null,null,null,null,null,"NOUVEAU MATCH",null,null,null,{"$f":"ABZ40+ACB40","v":0},null,null,null,null,null,null,{"$f":"ACG40+ACI40","v":0},null,null,null,null,null,null,null,null,{"$f":"ACP40+ACR40","v":0},null,null,null,null,null,null,{"$f":"ACW40+ACY40","v":0},null,null,null,null,null,null,"NOUVEAU MATCH",null,null,null,{"$f":"ADH40+ADJ40","v":0},null,null,null,null,null,null,{"$f":"ADO40+ADQ40","v":0},null,null,null,null,null,null,null,null,{"$f":"ADX40+ADZ40","v":0},null,null,null,null,null,null,{"$f":"AEE40+AEG40","v":0}]
[]
[null,null,null,null,null,null,null,null,null,null,null,null,null,"score individuel","score cumulé","Score final",null,"DOUBLE",null,null,"Score final",null,"score cumulé","score individuel",null,null,null,null,null,null,null,null,null,null,null,null,null,null,null,null,null,null,null,null,null,null,null,"score individuel","score cumulé","Score final",null,"DOUBLE",null,null,"Score final",null,"score cumulé","score individuel",null,null,null,null,null,null,null,null,null,null,null,null,null,null,null,null,null,null,null,null,null,null,null,"score individuel","score cumulé","Score final",null,"DOUBLE",null,null,"Score final",null,"score cumulé","score individuel",null,null,null,null,null,null,null,null,null,null,null,null,null,null,null,null,null,null,null,null,null,null,null,"score individuel","score cumulé","Score final",null,"DOUBLE",null,null,"Score final",null,"score cumulé","score individuel",null,null,null,null,null,null,null,null,null,null,null,null,null,null,null,null,null,null,null,null,null,null,null,"score individuel","score cumulé","Score final",null,"DOUBLE",null,null,"Score final",null,"score cumulé","score individuel",null,null,null,null,null,null,null,null,null,null,null,null,null,null,null,null,null,null,null,null,null,null,null,"score individuel","score cumulé","Score final",null,"DOUBLE",null,null,"Score final",null,"score cumulé","score individuel",null,null,null,null,null,null,null,null,null,null,null,null,null,null,null,null,null,null,null,null,null,null,null,"score individuel","score cumulé","Score final",null,"DOUBLE",null,null,"Score final",null,"score cumulé","score individuel",null,null,null,null,null,null,null,null,null,null,null,null,null,null,null,null,null,null,null,null,null,null,null,"score individuel","score cumulé","Score final",null,"DOUBLE",null,null,"Score final",null,"score cumulé","score individuel",null,null,null,null,null,null,null,null,null,null,null,null,null,null,null,null,null,null,null,null,null,null,null,"score individuel","score cumulé","Score final",null,"DOUBLE",null,null,"Score final",null,"score cumulé","score individuel",null,null,null,null,null,null,null,null,null,null,null,null,null,null,null,null,null,null,null,null,null,null,null,"score individuel","score cumulé","Score final",null,"DOUBLE",null,null,"Score final",null,"score cumulé","score individuel",null,null,null,null,null,null,null,null,null,null,null,null,null,null,null,null,null,null,null,null,null,null,null,"score individuel","score cumulé","Score final",null,"DOUBLE",null,null,"Score final",null,"score cumulé","score individuel",null,null,null,null,null,null,null,null,null,null,null,null,null,null,null,null,null,null,null,null,null,null,null,"score individuel","score cumulé","Score final",null,"DOUBLE",null,null,"Score final",null,"score cumulé","score individuel",null,null,null,null,null,null,null,null,null,null,null,null,null,null,null,null,null,null,null,null,null,null,null,"score individuel","score cumulé","Score final",null,"DOUBLE",null,null,"Score final",null,"score cumulé","score individuel",null,null,null,null,null,null,null,null,null,null,null,null,null,null,null,null,null,null,null,null,null,null,null,"score individuel","score cumulé","Score final",null,"DOUBLE",null,null,"Score final",null,"score cumulé","score individuel",null,null,null,null,null,null,null,null,null,null,null,null,null,null,null,null,null,null,null,null,null,null,null,"score individuel","score cumulé","Score final",null,"DOUBLE",null,null,"Score final",null,"score cumulé","score individuel",null,null,null,null,null,null,null,null,null,null,null,null,null,null,null,null,null,null,null,null,null,null,null,"score individuel","score cumulé","Score final",null,"DOUBLE",null,null,"Score final",null,"score cumulé","score individuel",null,null,null,null,null,null,null,null,null,null,null,null,null,null,null,null,null,null,null,null,null,null,null,"score individuel","score cumulé","Score final",null,"DOUBLE",null,null,"Score final",null,"score cumulé","score individuel",null,null,null,null,null,null,null,null,null,null,null,null,null,null,null,null,null,null,null,null,null,null,null,"score individuel","score cumulé","Score final",null,"DOUBLE",null,null,"Score final",null,"score cumulé","score individuel",null,null,null,null,null,null,null,null,null,null,null,null,null,null,null,null,null,null,null,null,null,null,null,"score individuel","score cumulé","Score final",null,"DOUBLE",null,null,"Score final",null,"score cumulé","score individuel",null,null,null,null,null,null,null,null,null,null,null,null,null,null,null,null,null,null,null,null,null,null,null,"score individuel","score cumulé","Score final",null,"DOUBLE",null,null,"Score final",null,"score cumulé","score individuel",null,null,null,null,null,null,null,null,null,null,null,null,null,null,null,null,null,null,null,null,null,null,null,"score individuel","score cumulé","Score final",null,"DOUBLE",null,null,"Score final",null,"score cumulé","score individuel",null,null,null,null,null,null,null,null,null,null,null,null,null,null,null,null,null,null,null,null,null,null,null,"score individuel","score cumulé","Score final",null,"DOUBLE",null,null,"Score final",null,"score cumulé","score individuel",null,null,null,null,null,null,null,null,null,null,null,null,null,null,null,null,null,null,null,null,null,null,null,"score individuel","score cumulé","Score final",null,"DOUBLE",null,null,"Score final",null,"score cumulé","score individuel",null,null,null,null,null,null,null,null,null,null,null,null,null,null,null,null,null,null,null,null,null,null,null,"score individuel","score cumulé","Score final",null,"DOUBLE",null,null,"Score final",null,"score cumulé","score individuel"]
[null,null,null,null,null,null,null,null,null,null,null,null,{"$f":"F2","v":0},{"$f":"F41","v":0},{"$f":"N44+N46","v":0},null,null,null,null,null,null,null,{"$f":"X44+X46","v":0},{"$f":"M41","v":0},{"$f":"M2","v":0},null,null,null,null,null,null,null,null,null,null,null,null,null,null,null,null,null,null,null,null,null,{"$f":"AN2","v":0},{"$f":"AN41","v":0},{"$f":"AV44+AV46","v":0},null,null,null,null,null,null,null,{"$f":"BF44+BF46","v":0},{"$f":"AU41","v":0},{"$f":"AU2","v":0},null,null,null,null,null,null,null,null,null,null,null,null,null,null,null,null,null,null,null,null,null,{"$f":"BV2","v":0},{"$f":"BV41","v":0},{"$f":"CD44+CD46","v":0},null,null,null,null,null,null,null,{"$f":"CN44+CN46","v":0},{"$f":"CC41","v":0},{"$f":"CC2","v":0},null,null,null,null,null,null,null,null,null,null,null,null,null,null,null,null,null,null,null,null,null,{"$f":"DD2","v":0},{"$f":"DD41","v":0},{"$f":"DL44+DL46","v":0},null,null,null,null,null,null,null,{"$f":"DV44+DV46","v":0},{"$f":"DK41","v":0},{"$f":"DK2","v":0},null,null,null,null,null,null,null,null,null,null,{"$f":"EE2","v":"n°2"},null,null,null,null,null,null,null,null,null,null,{"$f":"EL2","v":0},{"$f":"EL41","v":0},{"$f":"ET44+ET46","v":0},null,null,null,null,null,null,null,{"$f":"FD44+FD46","v":0},{"$f":"ES41","v":0},{"$f":"ES2","v":0},null,null,null,null,null,null,null,null,null,null,null,null,null,null,null,null,null,null,null,null,null,{"$f":"FT2","v":0},{"$f":"FT41","v":0},{"$f":"GB44+GB46","v":0},null,null,null,null,null,null,null,{"$f":"GL44+GL46","v":0},{"$f":"GA41","v":0},{"$f":"GA2","v":0},null,null,null,null,null,null,null,null,null,null,null,null,null,null,null,null,null,null,null,null,null,{"$f":"HB2","v":0},{"$f":"HB41","v":0},{"$f":"HJ44+HJ46","v":0},null,null,null,null,null,null,null,{"$f":"HT44+HT46","v":0},{"$f":"HI41","v":0},{"$f":"HI2","v":0},null,null,null,null,null,null,null,null,null,null,null,null,null,null,null,null,null,null,null,null,null,{"$f":"IJ2","v":0},{"$f":"IJ41","v":0},{"$f":"IR44+IR46","v":0},null,null,null,null,null,null,null,{"$f":"JB44+JB46","v":0},{"$f":"IQ41","v":0},{"$f":"IQ2","v":0},null,null,null,null,null,null,null,null,null,null,null,null,null,null,null,null,null,null,null,null,null,{"$f":"JR2","v":0},{"$f":"JR41","v":0},{"$f":"JZ44+JZ46","v":0},null,null,null,null,null,null,null,{"$f":"KJ44+KJ46","v":0},{"$f":"JY41","v":0},{"$f":"JY2","v":0},null,null,null,null,null,null,null,null,null,null,null,null,null,null,null,null,null,null,null,null,null,{"$f":"KZ2","v":0},{"$f":"KZ41","v":0},{"$f":"LH44+LH46","v":0},null,null,null,null,null,null,null,{"$f":"LR44+LR46","v":0},{"$f":"LG41","v":0},{"$f":"LG2","v":0},null,null,null,null,null,null,null,null,null,null,null,null,null,null,null,null,null,null,null,null,null,{"$f":"MH2","v":0},{"$f":"MH41","v":0},{"$f":"MP44+MP46","v":0},null,null,null,null,null,null,null,{"$f":"MZ44+MZ46","v":0},{"$f":"MO41","v":0},{"$f":"MO2","v":0},null,null,null,null,null,null,null,null,null,null,null,null,null,null,null,null,null,null,null,null,null,{"$f":"NP2","v":0},{"$f":"NP41","v":0},{"$f":"NX44+NX46","v":0},null,null,null,null,null,null,null,{"$f":"OH44+OH46","v":0},{"$f":"NW41","v":0},{"$f":"NW2","v":0},null,null,null,null,null,null,null,null,null,null,null,null,null,null,null,null,null,null,null,null,null,{"$f":"OX2","v":0},{"$f":"OX41","v":0},{"$f":"PF44+PF46","v":0},null,null,null,null,null,null,null,{"$f":"PP44+PP46","v":0},{"$f":"PE41","v":0},{"$f":"PE2","v":0},null,null,null,null,null,null,null,null,null,null,null,null,null,null,null,null,null,null,null,null,null,{"$f":"QF2","v":0},{"$f":"QF41","v":0},{"$f":"QN44+QN46","v":0},null,null,null,null,null,null,null,{"$f":"QX44+QX46","v":0},{"$f":"QM41","v":0},{"$f":"QM2","v":0},null,null,null,null,null,null,null,null,null,null,null,null,null,null,null,null,null,null,null,null,null,{"$f":"RN2","v":0},{"$f":"RN41","v":0},{"$f":"RV44+RV46","v":0},null,null,null,null,null,null,null,{"$f":"SF44+SF46","v":0},{"$f":"RU41","v":0},{"$f":"RU2","v":0},null,null,null,null,null,null,null,null,null,null,null,null,null,null,null,null,null,null,null,null,null,{"$f":"SV2","v":0},{"$f":"SV41","v":0},{"$f":"TD44+TD46","v":0},null,null,null,null,null,null,null,{"$f":"TN44+TN46","v":0},{"$f":"TC41","v":0},{"$f":"TC2","v":0},null,null,null,null,null,null,null,null,null,null,{"$f":"TW2","v":"n°2"},null,null,null,null,null,null,null,null,null,null,{"$f":"UD2","v":0},{"$f":"UD41","v":0},{"$f":"UL44+UL46","v":0},null,null,null,null,null,null,null,{"$f":"UV44+UV46","v":0},{"$f":"UK41","v":0},{"$f":"UK2","v":0},null,null,null,null,null,null,null,null,null,null,null,null,null,null,null,null,null,null,null,null,null,{"$f":"VL2","v":0},{"$f":"VL41","v":0},{"$f":"VT44+VT46","v":0},null,null,null,null,null,null,null,{"$f":"WD44+WD46","v":0},{"$f":"VS41","v":0},{"$f":"VS2","v":0},null,null,null,null,null,null,null,null,null,null,null,null,null,null,null,null,null,null,null,null,null,{"$f":"WT2","v":0},{"$f":"WT41","v":0},{"$f":"XB44+XB46","v":0},null,null,null,null,null,null,null,{"$f":"XL44+XL46","v":0},{"$f":"XA41","v":0},{"$f":"XA2","v":0},null,null,null,null,null,null,null,null,null,null,null,null,null,null,null,null,null,null,null,null,null,{"$f":"YB2","v":0},{"$f":"YB41","v":0},{"$f":"YJ44+YJ46","v":0},null,null,null,null,null,null,null,{"$f":"YT44+YT46","v":0},{"$f":"YI41","v":0},{"$f":"YI2","v":0},null,null,null,null,null,null,null,null,null,null,null,null,null,null,null,null,null,null,null,null,null,{"$f":"ZJ2","v":0},{"$f":"ZJ41","v":0},{"$f":"ZR44+ZR46","v":0},null,null,null,null,null,null,null,{"$f":"AAB44+AAB46","v":0},{"$f":"ZQ41","v":0},{"$f":"ZQ2","v":0},null,null,null,null,null,null,null,null,null,null,null,null,null,null,null,null,null,null,null,null,null,{"$f":"AAR2","v":0},{"$f":"AAR41","v":0},{"$f":"AAZ44+AAZ46","v":0},null,null,null,null,null,null,null,{"$f":"ABJ44+ABJ46","v":0},{"$f":"AAY41","v":0},{"$f":"AAY2","v":0},null,null,null,null,null,null,null,null,null,null,null,null,null,null,null,null,null,null,null,null,null,{"$f":"ABZ2","v":0},{"$f":"ABZ41","v":0},{"$f":"ACH44+ACH46","v":0},null,null,null,null,null,null,null,{"$f":"ACR44+ACR46","v":0},{"$f":"ACG41","v":0},{"$f":"ACG2","v":0},null,null,null,null,null,null,null,null,null,null,null,null,null,null,null,null,null,null,null,null,null,{"$f":"ADH2","v":0},{"$f":"ADH41","v":0},{"$f":"ADP44+ADP46","v":0},null,null,null,null,null,null,null,{"$f":"ADZ44+ADZ46","v":0},{"$f":"ADO41","v":0},{"$f":"ADO2","v":0}]
[null,null,null,null,null,null,null,null,null,null,null,null,null,"+",null,null,null,null,"-",null,null,null,null,"+",null,null,null,null,null,null,null,null,null,null,null,null,null,null,null,null,null,null,null,null,null,null,null,"+",null,null,null,null,"-",null,null,null,null,"+",null,null,null,null,null,null,null,null,null,null,null,null,null,null,null,null,null,null,null,null,null,null,null,"+",null,null,null,null,"-",null,null,null,null,"+",null,null,null,null,null,null,null,null,null,null,null,null,null,null,null,null,null,null,null,null,null,null,null,"+",null,null,null,null,"-",null,null,null,null,"+",null,null,null,null,null,null,null,null,null,null,null,null,null,null,null,null,null,null,null,null,null,null,null,"+",null,null,null,null,"-",null,null,null,null,"+",null,null,null,null,null,null,null,null,null,null,null,null,null,null,null,null,null,null,null,null,null,null,null,"+",null,null,null,null,"-",null,null,null,null,"+",null,null,null,null,null,null,null,null,null,null,null,null,null,null,null,null,null,null,null,null,null,null,null,"+",null,null,null,null,"-",null,null,null,null,"+",null,null,null,null,null,null,null,null,null,null,null,null,null,null,null,null,null,null,null,null,null,null,null,"+",null,null,null,null,"-",null,null,null,null,"+",null,null,null,null,null,null,null,null,null,null,null,null,null,null,null,null,null,null,null,null,null,null,null,"+",null,null,null,null,"-",null,null,null,null,"+",null,null,null,null,null,null,null,null,null,null,null,null,null,null,null,null,null,null,null,null,null,null,null,"+",null,null,null,null,"-",null,null,null,null,"+",null,null,null,null,null,null,null,null,null,null,null,null,null,null,null,null,null,null,null,null,null,null,null,"+",null,null,null,null,"-",null,null,null,null,"+",null,null,null,null,null,null,null,null,null,null,null,null,null,null,null,null,null,null,null,null,null,null,null,"+",null,null,null,null,"-",null,null,null,null,"+",null,null,null,null,null,null,null,null,null,null,null,null,null,null,null,null,null,null,null,null,null,null,null,"+",null,null,null,null,"-",null,null,null,null,"+",null,null,null,null,null,null,null,null,null,null,null,null,null,null,null,null,null,null,null,null,null,null,null,"+",null,null,null,null,"-",null,null,null,null,"+",null,null,null,null,null,null,null,null,null,null,null,null,null,null,null,null,null,null,null,null,null,null,null,"+",null,null,null,null,"-",null,null,null,null,"+",null,null,null,null,null,null,null,null,null,null,null,null,null,null,null,null,null,null,null,null,null,null,null,"+",null,null,null,null,"-",null,null,null,null,"+",null,null,null,null,null,null,null,null,null,null,null,null,null,null,null,null,null,null,null,null,null,null,null,"+",null,null,null,null,"-",null,null,null,null,"+",null,null,null,null,null,null,null,null,null,null,null,null,null,null,null,null,null,null,null,null,null,null,null,"+",null,null,null,null,"-",null,null,null,null,"+",null,null,null,null,null,null,null,null,null,null,null,null,null,null,null,null,null,null,null,null,null,null,null,"+",null,null,null,null,"-",null,null,null,null,"+",null,null,null,null,null,null,null,null,null,null,null,null,null,null,null,null,null,null,null,null,null,null,null,"+",null,null,null,null,"-",null,null,null,null,"+",null,null,null,null,null,null,null,null,null,null,null,null,null,null,null,null,null,null,null,null,null,null,null,"+",null,null,null,null,"-",null,null,null,null,"+",null,null,null,null,null,null,null,null,null,null,null,null,null,null,null,null,null,null,null,null,null,null,null,"+",null,null,null,null,"-",null,null,null,null,"+",null,null,null,null,null,null,null,null,null,null,null,null,null,null,null,null,null,null,null,null,null,null,null,"+",null,null,null,null,"-",null,null,null,null,"+",null,null,null,null,null,null,null,null,null,null,null,null,null,null,null,null,null,null,null,null,null,null,null,"+",null,null,null,null,"-",null,null,null,null,"+"]
[null,null,null,null,null,null,null,null,null,null,null,null,{"$f":"V2","v":0},{"$f":"V41","v":0},null,null,null,null,null,null,null,null,null,{"$f":"AC41","v":0},{"$f":"AC2","v":0},null,null,null,null,null,null,null,null,null,null,null,null,null,null,null,null,null,null,null,null,null,{"$f":"BD2","v":0},{"$f":"BD41","v":0},null,null,null,null,null,null,null,null,null,{"$f":"BK41","v":0},{"$f":"BK2","v":0},null,null,null,null,null,null,null,null,null,null,null,null,null,null,null,null,null,null,null,null,null,{"$f":"CL2","v":0},{"$f":"CL41","v":0},null,null,null,null,null,null,null,null,null,{"$f":"CS41","v":0},{"$f":"CS2","v":0},null,null,null,null,null,null,null,null,null,null,null,null,null,null,null,null,null,null,null,null,null,{"$f":"DT2","v":0},{"$f":"DT41","v":0},null,null,null,null,null,null,null,null,null,{"$f":"EA41","v":0},{"$f":"EA2","v":0},null,null,null,null,null,null,null,null,null,null,{"$f":"EU2","v":0},null,null,null,null,null,null,null,null,null,null,{"$f":"FB2","v":0},{"$f":"FB41","v":0},null,null,null,null,null,null,null,null,null,{"$f":"FI41","v":0},{"$f":"FI2","v":0},null,null,null,null,null,null,null,null,null,null,null,null,null,null,null,null,null,null,null,null,null,{"$f":"GJ2","v":0},{"$f":"GJ41","v":0},null,null,null,null,null,null,null,null,null,{"$f":"GQ41","v":0},{"$f":"GQ2","v":0},null,null,null,null,null,null,null,null,null,null,null,null,null,null,null,null,null,null,null,null,null,{"$f":"HR2","v":0},{"$f":"HR41","v":0},null,null,null,null,null,null,null,null,null,{"$f":"HY41","v":0},{"$f":"HY2","v":0},null,null,null,null,null,null,null,null,null,null,null,null,null,null,null,null,null,null,null,null,null,{"$f":"IZ2","v":0},{"$f":"IZ41","v":0},null,null,null,null,null,null,null,null,null,{"$f":"JG41","v":0},{"$f":"JG2","v":0},null,null,null,null,null,null,null,null,null,null,null,null,null,null,null,null,null,null,null,null,null,{"$f":"KH2","v":0},{"$f":"KH41","v":0},null,null,null,null,null,null,null,null,null,{"$f":"KO41","v":0},{"$f":"KO2","v":0},null,null,null,null,null,null,null,null,null,null,null,null,null,null,null,null,null,null,null,null,null,{"$f":"LP2","v":0},{"$f":"LP41","v":0},null,null,null,null,null,null,null,null,null,{"$f":"LW41","v":0},{"$f":"LW2","v":0},null,null,null,null,null,null,null,null,null,null,null,null,null,null,null,null,null,null,null,null,null,{"$f":"MX2","v":0},{"$f":"MX41","v":0},null,null,null,null,null,null,null,null,null,{"$f":"NE41","v":0},{"$f":"NE2","v":0},null,null,null,null,null,null,null,null,null,null,null,null,null,null,null,null,null,null,null,null,null,{"$f":"OF2","v":0},{"$f":"OF41","v":0},null,null,null,null,null,null,null,null,null,{"$f":"OM41","v":0},{"$f":"OM2","v":0},null,null,null,null,null,null,null,null,null,null,null,null,null,null,null,null,null,null,null,null,null,{"$f":"PN2","v":0},{"$f":"PN41","v":0},null,null,null,null,null,null,null,null,null,{"$f":"PU41","v":0},{"$f":"PU2","v":0},null,null,null,null,null,null,null,null,null,null,null,null,null,null,null,null,null,null,null,null,null,{"$f":"QV2","v":0},{"$f":"QV41","v":0},null,null,null,null,null,null,null,null,null,{"$f":"RC41","v":0},{"$f":"RC2","v":0},null,null,null,null,null,null,null,null,null,null,null,null,null,null,null,null,null,null,null,null,null,{"$f":"SD2","v":0},{"$f":"SD41","v":0},null,null,null,null,null,null,null,null,null,{"$f":"SK41","v":0},{"$f":"SK2","v":0},null,null,null,null,null,null,null,null,null,null,null,null,null,null,null,null,null,null,null,null,null,{"$f":"TL2","v":0},{"$f":"TL41","v":0},null,null,null,null,null,null,null,null,null,{"$f":"TS41","v":0},{"$f":"TS2","v":0},null,null,null,null,null,null,null,null,null,null,{"$f":"UM2","v":0},null,null,null,null,null,null,null,null,null,null,{"$f":"UT2","v":0},{"$f":"UT41","v":0},null,null,null,null,null,null,null,null,null,{"$f":"VA41","v":0},{"$f":"VA2","v":0},null,null,null,null,null,null,null,null,null,null,null,null,null,null,null,null,null,null,null,null,null,{"$f":"WB2","v":0},{"$f":"WB41","v":0},null,null,null,null,null,null,null,null,null,{"$f":"WI41","v":0},{"$f":"WI2","v":0},null,null,null,null,null,null,null,null,null,null,null,null,null,null,null,null,null,null,null,null,null,{"$f":"XJ2","v":0},{"$f":"XJ41","v":0},null,null,null,null,null,null,null,null,null,{"$f":"XQ41","v":0},{"$f":"XQ2","v":0},null,null,null,null,null,null,null,null,null,null,null,null,null,null,null,null,null,null,null,null,null,{"$f":"YR2","v":0},{"$f":"YR41","v":0},null,null,null,null,null,null,null,null,null,{"$f":"YY41","v":0},{"$f":"YY2","v":0},null,null,null,null,null,null,null,null,null,null,null,null,null,null,null,null,null,null,null,null,null,{"$f":"ZZ2","v":0},{"$f":"ZZ41","v":0},null,null,null,null,null,null,null,null,null,{"$f":"AAG41","v":0},{"$f":"AAG2","v":0},null,null,null,null,null,null,null,null,null,null,null,null,null,null,null,null,null,null,null,null,null,{"$f":"ABH2","v":0},{"$f":"ABH41","v":0},null,null,null,null,null,null,null,null,null,{"$f":"ABO41","v":0},{"$f":"ABO2","v":0},null,null,null,null,null,null,null,null,null,null,null,null,null,null,null,null,null,null,null,null,null,{"$f":"ACP2","v":0},{"$f":"ACP41","v":0},null,null,null,null,null,null,null,null,null,{"$f":"ACW41","v":0},{"$f":"ACW2","v":0},null,null,null,null,null,null,null,null,null,null,null,null,null,null,null,null,null,null,null,null,null,{"$f":"ADX2","v":0},{"$f":"ADX41","v":0},null,null,null,null,null,null,null,null,null,{"$f":"AEE41","v":0},{"$f":"AEE2","v":0}]
[]
[]
[null,"UTILITE DE LA TACTIQUE",null,null,null,"La tactique utilisée était elle la bonne face à cet adversaire ?",null,null,null,null,null,null,"La tactique utilisée était elle la bonne face à cet adversaire ?",null,null,null,null,null,null,null,null,"La tactique utilisée était elle la bonne face à cet adversaire ?",null,null,null,null,null,null,"La tactique utilisée était elle la bonne face à cet adversaire ?",null,null,null,null,null,null,null,null,null,null,"La tactique utilisée était elle la bonne face à cet adversaire ?",null,null,null,null,null,null,"La tactique utilisée était elle la bonne face à cet adversaire ?",null,null,null,null,null,null,null,null,"La tactique utilisée était elle la bonne face à cet adversaire ?",null,null,null,null,null,null,"La tactique utilisée était elle la bonne face à cet adversaire ?",null,null,null,null,null,null,null,null,null,null,"La tactique utilisée était elle la bonne face à cet adversaire ?",null,null,null,null,null,null,"La tactique utilisée était elle la bonne face à cet adversaire ?",null,null,null,null,null,null,null,null,"La tactique utilisée était elle la bonne face à cet adversaire ?",null,null,null,null,null,null,"La tactique utilisée était elle la bonne face à cet adversaire ?",null,null,null,null,null,null,null,null,null,null,"La tactique utilisée était elle la bonne face à cet adversaire ?",null,null,null,null,null,null,"La tactique utilisée était elle la bonne face à cet adversaire ?",null,null,null,null,null,null,null,null,"La tactique utilisée était elle la bonne face à cet adversaire ?",null,null,null,null,null,null,"La tactique utilisée était elle la bonne face à cet adversaire ?",null,null,null,null,null,null,null,null,null,null,"La tactique utilisée était elle la bonne face à cet adversaire ?",null,null,null,null,null,null,"La tactique utilisée était elle la bonne face à cet adversaire ?",null,null,null,null,null,null,null,null,"La tactique utilisée était elle la bonne face à cet adversaire ?",null,null,null,null,null,null,"La tactique utilisée était elle la bonne face à cet adversaire ?",null,null,null,null,null,null,null,null,null,null,"La tactique utilisée était elle la bonne face à cet adversaire ?",null,null,null,null,null,null,"La tactique utilisée était elle la bonne face à cet adversaire ?",null,null,null,null,null,null,null,null,"La tactique utilisée était elle la bonne face à cet adversaire ?",null,null,null,null,null,null,"La tactique utilisée était elle la bonne face à cet adversaire ?",null,null,null,null,null,null,null,null,null,null,"La tactique utilisée était elle la bonne face à cet adversaire ?",null,null,null,null,null,null,"La tactique utilisée était elle la bonne face à cet adversaire ?",null,null,null,null,null,null,null,null,"La tactique utilisée était elle la bonne face à cet adversaire ?",null,null,null,null,null,null,"La tactique utilisée était elle la bonne face à cet adversaire ?",null,null,null,null,null,null,null,null,null,null,"La tactique utilisée était elle la bonne face à cet adversaire ?",null,null,null,null,null,null,"La tactique utilisée était elle la bonne face à cet adversaire ?",null,null,null,null,null,null,null,null,"La tactique utilisée était elle la bonne face à cet adversaire ?",null,null,null,null,null,null,"La tactique utilisée était elle la bonne face à cet adversaire ?",null,null,null,null,null,null,null,null,null,null,"La tactique utilisée était elle la bonne face à cet adversaire ?",null,null,null,null,null,null,"La tactique utilisée était elle la bonne face à cet adversaire ?",null,null,null,null,null,null,null,null,"La tactique utilisée était elle la bonne face à cet adversaire ?",null,null,null,null,null,null,"La tactique utilisée était elle la bonne face à cet adversaire ?",null,null,null,null,null,null,null,null,null,null,"La tactique utilisée était elle la bonne face à cet adversaire ?",null,null,null,null,null,null,"La tactique utilisée était elle la bonne face à cet adversaire ?",null,null,null,null,null,null,null,null,"La tactique utilisée était elle la bonne face à cet adversaire ?",null,null,null,null,null,null,"La tactique utilisée était elle la bonne face à cet adversaire ?",null,null,null,null,null,null,null,null,null,null,"La tactique utilisée était elle la bonne face à cet adversaire ?",null,null,null,null,null,null,"La tactique utilisée était elle la bonne face à cet adversaire ?",null,null,null,null,null,null,null,null,"La tactique utilisée était elle la bonne face à cet adversaire ?",null,null,null,null,null,null,"La tactique utilisée était elle la bonne face à cet adversaire ?",null,null,null,null,null,null,null,null,null,null,"La tactique utilisée était elle la bonne face à cet adversaire ?",null,null,null,null,null,null,"La tactique utilisée était elle la bonne face à cet adversaire ?",null,null,null,null,null,null,null,null,"La tactique utilisée était elle la bonne face à cet adversaire ?",null,null,null,null,null,null,"La tactique utilisée était elle la bonne face à cet adversaire ?",null,null,null,null,null,null,null,null,null,null,"La tactique utilisée était elle la bonne face à cet adversaire ?",null,null,null,null,null,null,"La tactique utilisée était elle la bonne face à cet adversaire ?",null,null,null,null,null,null,null,null,"La tactique utilisée était elle la bonne face à cet adversaire ?",null,null,null,null,null,null,"La tactique utilisée était elle la bonne face à cet adversaire ?",null,null,null,null,null,null,null,null,null,null,"La tactique utilisée était elle la bonne face à cet adversaire ?",null,null,null,null,null,null,"La tactique utilisée était elle la bonne face à cet adversaire ?",null,null,null,null,null,null,null,null,"La tactique utilisée était elle la bonne face à cet adversaire ?",null,null,null,null,null,null,"La tactique utilisée était elle la bonne face à cet adversaire ?",null,null,null,null,null,null,null,null,null,null,"La tactique utilisée était elle la bonne face à cet adversaire ?",null,null,null,null,null,null,"La tactique utilisée était elle la bonne face à cet adversaire ?",null,null,null,null,null,null,null,null,"La tactique utilisée était elle la bonne face à cet adversaire ?",null,null,null,null,null,null,"La tactique utilisée était elle la bonne face à cet adversaire ?",null,null,null,null,null,null,null,null,null,null,"La tactique utilisée était elle la bonne face à cet adversaire ?",null,null,null,null,null,null,"La tactique utilisée était elle la bonne face à cet adversaire ?",null,null,null,null,null,null,null,null,"La tactique utilisée était elle la bonne face à cet adversaire ?",null,null,null,null,null,null,"La tactique utilisée était elle la bonne face à cet adversaire ?",null,null,null,null,null,null,null,null,null,null,"La tactique utilisée était elle la bonne face à cet adversaire ?",null,null,null,null,null,null,"La tactique utilisée était elle la bonne face à cet adversaire ?",null,null,null,null,null,null,null,null,"La tactique utilisée était elle la bonne face à cet adversaire ?",null,null,null,null,null,null,"La tactique utilisée était elle la bonne face à cet adversaire ?",null,null,null,null,null,null,null,null,null,null,"La tactique utilisée était elle la bonne face à cet adversaire ?",null,null,null,null,null,null,"La tactique utilisée était elle la bonne face à cet adversaire ?",null,null,null,null,null,null,null,null,"La tactique utilisée était elle la bonne face à cet adversaire ?",null,null,null,null,null,null,"La tactique utilisée était elle la bonne face à cet adversaire ?",null,null,null,null,null,null,null,null,null,null,"La tactique utilisée était elle la bonne face à cet adversaire ?",null,null,null,null,null,null,"La tactique utilisée était elle la bonne face à cet adversaire ?",null,null,null,null,null,null,null,null,"La tactique utilisée était elle la bonne face à cet adversaire ?",null,null,null,null,null,null,"La tactique utilisée était elle la bonne face à cet adversaire ?",null,null,null,null,null,null,null,null,null,null,"La tactique utilisée était elle la bonne face à cet adversaire ?",null,null,null,null,null,null,"La tactique utilisée était elle la bonne face à cet adversaire ?",null,null,null,null,null,null,null,null,"La tactique utilisée était elle la bonne face à cet adversaire ?",null,null,null,null,null,null,"La tactique utilisée était elle la bonne face à cet adversaire ?",null,null,null,null,null,null,null,null,null,null,"La tactique utilisée était elle la bonne face à cet adversaire ?",null,null,null,null,null,null,"La tactique utilisée était elle la bonne face à cet adversaire ?",null,null,null,null,null,null,null,null,"La tactique utilisée était elle la bonne face à cet adversaire ?",null,null,null,null,null,null,"La tactique utilisée était elle la bonne face à cet adversaire ?",null,null,null,null,null,null,null,null,null,null,"La tactique utilisée était elle la bonne face à cet adversaire ?",null,null,null,null,null,null,"La tactique utilisée était elle la bonne face à cet adversaire ?",null,null,null,null,null,null,null,null,"La tactique utilisée était elle la bonne face à cet adversaire ?",null,null,null,null,null,null,"La tactique utilisée était elle la bonne face à cet adversaire ?",null,null,null,null,null,null,null,null,null,null,"La tactique utilisée était elle la bonne face à cet adversaire ?",null,null,null,null,null,null,"La tactique utilisée était elle la bonne face à cet adversaire ?",null,null,null,null,null,null,null,null,"La tactique utilisée était elle la bonne face à cet adversaire ?",null,null,null,null,null,null,"La tactique utilisée était elle la bonne face à cet adversaire ?",null,null,null,null,null,null,null,null,null,null,"La tactique utilisée était elle la bonne face à cet adversaire ?",null,null,null,null,null,null,"La tactique utilisée était elle la bonne face à cet adversaire ?",null,null,null,null,null,null,null,null,"La tactique utilisée était elle la bonne face à cet adversaire ?",null,null,null,null,null,null,"La tactique utilisée était elle la bonne face à cet adversaire ?"]
[null,null,null,null,null,null,null,null,null,null,null,null,null,null,null,null,null,null,null,null,null,null,null,null,null,null,null,null,null,null,null,null,null,null,null,null,null,null,null,null,null,null,null,null,null,null,null,null,null,null,null,null,null,null,null,null,null,null,null,null,null,null,null,null,null,null,null,null,null,null,null,null,null,null,null,null,null,null,null,null,"oui",null,null,null,null,null,null,null,null,null,null,null,null,null,null,null,null,null,null,null,null,null,null,null,null,null,null,null,null,null,null,null,null,null,null,null,null,null,null,null,null,null,null,null,null,null,null,null,null,null,null,null,null,null,null,null,null,null,null,null,null,null,null,null,null,null,null,null,null,null,null,null,null,null,null,null,null,null,null,null,null,null,null,null,null,null,null,null,null,null,null,null,null,null,null,null,null,null,null,null,null,null,null,null,null,null,null,null,null,null,null,null,null,null,null,null,null,null,null,null,null,null,null,null,null,null,null,null,null,null,null,null,null,null,null,null,"oui",null,null,null,null,null,null,null,null,null,null,null,null,null,null,null,null,null,null,null,null,null,null,null,null,null,null,null,null,null,null,null,null,null,null,null,null,null,null,null,null,null,null,null,null,null,null,null,null,null,null,null,null,null,null,null,null,null,null,null,null,null,null,null,null,null,null,null,null,null,null,null,null,null,null,null,null,null,null,null,null,null,null,null,null,null,null,null,null,null,null,null,null,null,null,null,null,null,null,null,null,null,null,null,null,null,null,null,null,null,null,null,null,null,null,null,null,null,null,null,null,null,null,null,null,null,null,null,null,null,null,null,null,null,null,null,"oui",null,null,null,null,null,null,null,null,null,null,null,null,null,null,null,null,null,null,null,null,null,null,null,null,null,null,null,null,null,null,null,null,null,null,null,null,null,null,null,null,null,null,null,null,null,null,null,null,null,null,null,null,null,null,null,null,null,null,null,null,null,null,null,null,null,null,null,null,null,null,null,null,null,null,null,null,null,null,null,null,null,null,null,null,null,null,null,null,null,null,null,null,null,null,null,null,null,null,null,null,null,null,null,null,null,null,null,null,null,null,null,null,null,null,null,null,null,null,null,null,null,null,null,null,null,null,null,null,null,null,null,null,null,null,null,"oui",null,null,null,null,null,null,null,null,null,null,null,null,null,null,null,null,null,null,null,null,null,null,null,null,null,null,null,null,null,null,null,null,null,null,null,null,null,null,null,null,null,null,null,null,null,null,null,null,null,null,null,null,null,null,null,null,null,null,null,null,null,null,null,null,null,null,null,null,null,null,null,null,null,null,null,null,null,null,null,null,null,null,null,null,null,null,null,null,null,null,null,null,null,null,null,null,null,null,null,null,null,null,null,null,null,null,null,null,null,null,null,null,null,null,null,null,null,null,null,null,null,null,null,null,null,null,null,null,null,null,null,null,null,null,null,"oui",null,null,null,null,null,null,null,null,null,null,null,null,null,null,null,null,null,null,null,null,null,null,null,null,null,null,null,null,null,null,null,null,null,null,null,null,null,null,null,null,null,null,null,null,null,null,null,null,null,null,null,null,null,null,null,null,null,null,null,null,null,null,null,null,null,null,null,null,null,null,null,null,null,null,null,null,null,null,null,null,null,null,null,null,null,null,null,null,null,null,null,null,null,null,null,null,null,null,null,null,null,null,null,null,null,null,null,null,null,null,null,null,null,null,null,null,null,null,null,null,null,null,null,null,null,null,null,null,null,null,null,null,null,null,null,"oui"]
[null,null,null,null,null,"Pourquoi ?",null,null,null,null,null,null,"Pourquoi ?",null,null,null,null,null,null,null,null,"Pourquoi ?",null,null,null,null,null,null,"Pourquoi ?",null,null,null,null,null,null,null,null,null,null,"Pourquoi ?",null,null,null,null,null,null,"Pourquoi ?",null,null,null,null,null,null,null,null,"Pourquoi ?",null,null,null,null,null,null,"Pourquoi ?",null,null,null,null,null,null,null,null,null,null,"Pourquoi ?",null,null,null,null,null,null,"Pourquoi ?",null,null,null,null,null,null,null,null,"Pourquoi ?",null,null,null,null,null,null,"Pourquoi ?",null,null,null,null,null,null,null,null,null,null,"Pourquoi ?",null,null,null,null,null,null,"Pourquoi ?",null,null,null,null,null,null,null,null,"Pourquoi ?",null,null,null,null,null,null,"Pourquoi ?",null,null,null,null,null,null,null,null,null,null,"Pourquoi ?",null,null,null,null,null,null,"Pourquoi ?",null,null,null,null,null,null,null,null,"Pourquoi ?",null,null,null,null,null,null,"Pourquoi ?",null,null,null,null,null,null,null,null,null,null,"Pourquoi ?",null,null,null,null,null,null,"Pourquoi ?",null,null,null,null,null,null,null,null,"Pourquoi ?",null,null,null,null,null,null,"Pourquoi ?",null,null,null,null,null,null,null,null,null,null,"Pourquoi ?",null,null,null,null,null,null,"Pourquoi ?",null,null,null,null,null,null,null,null,"Pourquoi ?",null,null,null,null,null,null,"Pourquoi ?",null,null,null,null,null,null,null,null,null,null,"Pourquoi ?",null,null,null,null,null,null,"Pourquoi ?",null,null,null,null,null,null,null,null,"Pourquoi ?",null,null,null,null,null,null,"Pourquoi ?",null,null,null,null,null,null,null,null,null,null,"Pourquoi ?",null,null,null,null,null,null,"Pourquoi ?",null,null,null,null,null,null,null,null,"Pourquoi ?",null,null,null,null,null,null,"Pourquoi ?",null,null,null,null,null,null,null,null,null,null,"Pourquoi ?",null,null,null,null,null,null,"Pourquoi ?",null,null,null,null,null,null,null,null,"Pourquoi ?",null,null,null,null,null,null,"Pourquoi ?",null,null,null,null,null,null,null,null,null,null,"Pourquoi ?",null,null,null,null,null,null,"Pourquoi ?",null,null,null,null,null,null,null,null,"Pourquoi ?",null,null,null,null,null,null,"Pourquoi ?",null,null,null,null,null,null,null,null,null,null,"Pourquoi ?",null,null,null,null,null,null,"Pourquoi ?",null,null,null,null,null,null,null,null,"Pourquoi ?",null,null,null,null,null,null,"Pourquoi ?",null,null,null,null,null,null,null,null,null,null,"Pourquoi ?",null,null,null,null,null,null,"Pourquoi ?",null,null,null,null,null,null,null,null,"Pourquoi ?",null,null,null,null,null,null,"Pourquoi ?",null,null,null,null,null,null,null,null,null,null,"Pourquoi ?",null,null,null,null,null,null,"Pourquoi ?",null,null,null,null,null,null,null,null,"Pourquoi ?",null,null,null,null,null,null,"Pourquoi ?",null,null,null,null,null,null,null,null,null,null,"Pourquoi ?",null,null,null,null,null,null,"Pourquoi ?",null,null,null,null,null,null,null,null,"Pourquoi ?",null,null,null,null,null,null,"Pourquoi ?",null,null,null,null,null,null,null,null,null,null,"Pourquoi ?",null,null,null,null,null,null,"Pourquoi ?",null,null,null,null,null,null,null,null,"Pourquoi ?",null,null,null,null,null,null,"Pourquoi ?",null,null,null,null,null,null,null,null,null,null,"Pourquoi ?",null,null,null,null,null,null,"Pourquoi ?",null,null,null,null,null,null,null,null,"Pourquoi ?",null,null,null,null,null,null,"Pourquoi ?",null,null,null,null,null,null,null,null,null,null,"Pourquoi ?",null,null,null,null,null,null,"Pourquoi ?",null,null,null,null,null,null,null,null,"Pourquoi ?",null,null,null,null,null,null,"Pourquoi ?",null,null,null,null,null,null,null,null,null,null,"Pourquoi ?",null,null,null,null,null,null,"Pourquoi ?",null,null,null,null,null,null,null,null,"Pourquoi ?",null,null,null,null,null,null,"Pourquoi ?",null,null,null,null,null,null,null,null,null,null,"Pourquoi ?",null,null,null,null,null,null,"Pourquoi ?",null,null,null,null,null,null,null,null,"Pourquoi ?",null,null,null,null,null,null,"Pourquoi ?",null,null,null,null,null,null,null,null,null,null,"Pourquoi ?",null,null,null,null,null,null,"Pourquoi ?",null,null,null,null,null,null,null,null,"Pourquoi ?",null,null,null,null,null,null,"Pourquoi ?",null,null,null,null,null,null,null,null,null,null,"Pourquoi ?",null,null,null,null,null,null,"Pourquoi ?",null,null,null,null,null,null,null,null,"Pourquoi ?",null,null,null,null,null,null,"Pourquoi ?",null,null,null,null,null,null,null,null,null,null,"Pourquoi ?",null,null,null,null,null,null,"Pourquoi ?",null,null,null,null,null,null,null,null,"Pourquoi ?",null,null,null,null,null,null,"Pourquoi ?",null,null,null,null,null,null,null,null,null,null,"Pourquoi ?",null,null,null,null,null,null,"Pourquoi ?",null,null,null,null,null,null,null,null,"Pourquoi ?",null,null,null,null,null,null,"Pourquoi ?"]
[null,null,null,null,null,null,null,null,null,null,null,null,null,null,null,null,null,null,null,null,null,null,null,null,null,null,null,null,null,null,null,null,null,null,null,null,null,null,null,null,null,null,null,null,null,null,null,null,null,null,null,null,null,null,null,null,null,null,null,null,null,null,null,null,null,null,null,null,null,null,null,null,null,null,null,null,null,null,null,null,"parce que ",null,null,null,null,null,null,null,null,null,null,null,null,null,null,null,null,null,null,null,null,null,null,null,null,null,null,null,null,null,null,null,null,null,null,null,null,null,null,null,null,null,null,null,null,null,null,null,null,null,null,null,null,null,null,null,null,null,null,null,null,null,null,null,null,null,null,null,null,null,null,null,null,null,null,null,null,null,null,null,null,null,null,null,null,null,null,null,null,null,null,null,null,null,null,null,null,null,null,null,null,null,null,null,null,null,null,null,null,null,null,null,null,null,null,null,null,null,null,null,null,null,null,null,null,null,null,null,null,null,null,null,null,null,null,null,"parce que ",null,null,null,null,null,null,null,null,null,null,null,null,null,null,null,null,null,null,null,null,null,null,null,null,null,null,null,null,null,null,null,null,null,null,null,null,null,null,null,null,null,null,null,null,null,null,null,null,null,null,null,null,null,null,null,null,null,null,null,null,null,null,null,null,null,null,null,null,null,null,null,null,null,null,null,null,null,null,null,null,null,null,null,null,null,null,null,null,null,null,null,null,null,null,null,null,null,null,null,null,null,null,null,null,null,null,null,null,null,null,null,null,null,null,null,null,null,null,null,null,null,null,null,null,null,null,null,null,null,null,null,null,null,null,null,"parce que ",null,null,null,null,null,null,null,null,null,null,null,null,null,null,null,null,null,null,null,null,null,null,null,null,null,null,null,null,null,null,null,null,null,null,null,null,null,null,null,null,null,null,null,null,null,null,null,null,null,null,null,null,null,null,null,null,null,null,null,null,null,null,null,null,null,null,null,null,null,null,null,null,null,null,null,null,null,null,null,null,null,null,null,null,null,null,null,null,null,null,null,null,null,null,null,null,null,null,null,null,null,null,null,null,null,null,null,null,null,null,null,null,null,null,null,null,null,null,null,null,null,null,null,null,null,null,null,null,null,null,null,null,null,null,null,"parce que ",null,null,null,null,null,null,null,null,null,null,null,null,null,null,null,null,null,null,null,null,null,null,null,null,null,null,null,null,null,null,null,null,null,null,null,null,null,null,null,null,null,null,null,null,null,null,null,null,null,null,null,null,null,null,null,null,null,null,null,null,null,null,null,null,null,null,null,null,null,null,null,null,null,null,null,null,null,null,null,null,null,null,null,null,null,null,null,null,null,null,null,null,null,null,null,null,null,null,null,null,null,null,null,null,null,null,null,null,null,null,null,null,null,null,null,null,null,null,null,null,null,null,null,null,null,null,null,null,null,null,null,null,null,null,null,"parce que ",null,null,null,null,null,null,null,null,null,null,null,null,null,null,null,null,null,null,null,null,null,null,null,null,null,null,null,null,null,null,null,null,null,null,null,null,null,null,null,null,null,null,null,null,null,null,null,null,null,null,null,null,null,null,null,null,null,null,null,null,null,null,null,null,null,null,null,null,null,null,null,null,null,null,null,null,null,null,null,null,null,null,null,null,null,null,null,null,null,null,null,null,null,null,null,null,null,null,null,null,null,null,null,null,null,null,null,null,null,null,null,null,null,null,null,null,null,null,null,null,null,null,null,null,null,null,null,null,null,null,null,null,null,null,null,"parce que "]
[null,null,null,null,null,null,null,null,null,null,null,null,null,null,null,null,null,null,null,null,null,null,null,null,null,null,null,null,null,null,null,null,null,null,null,"NOUVEAU MATCH",null,null,null,null,null,null,null,null,null,null,null,null,null,null,null,null,null,null,null,null,null,null,null,null,null,null,null,null,null,null,null,null,null,"NOUVEAU MATCH",null,null,null,null,null,null,null,null,null,null,null,null,null,null,null,null,null,null,null,null,null,null,null,null,null,null,null,null,null,null,null,null,null,"NOUVEAU MATCH",null,null,null,null,null,null,null,null,null,null,null,null,null,null,null,null,null,null,null,null,null,null,null,null,null,null,null,null,null,null,null,null,null,"NOUVEAU MATCH",null,null,null,null,null,null,null,null,null,null,null,null,null,null,null,null,null,null,null,null,null,null,null,null,null,null,null,null,null,null,null,null,null,"NOUVEAU MATCH",null,null,null,null,null,null,null,null,null,null,null,null,null,null,null,null,null,null,null,null,null,null,null,null,null,null,null,null,null,null,null,null,null,"NOUVEAU MATCH",null,null,null,null,null,null,null,null,null,null,null,null,null,null,null,null,null,null,null,null,null,null,null,null,null,null,null,null,null,null,null,null,null,"NOUVEAU MATCH",null,null,null,null,null,null,null,null,null,null,null,null,null,null,null,null,null,null,null,null,null,null,null,null,null,null,null,null,null,null,null,null,null,"NOUVEAU MATCH",null,null,null,null,null,null,null,null,null,null,null,null,null,null,null,null,null,null,null,null,null,null,null,null,null,null,null,null,null,null,null,null,null,"NOUVEAU MATCH",null,null,null,null,null,null,null,null,null,null,null,null,null,null,null,null,null,null,null,null,null,null,null,null,null,null,null,null,null,null,null,null,null,"NOUVEAU MATCH",null,null,null,null,null,null,null,null,null,null,null,null,null,null,null,null,null,null,null,null,null,null,null,null,null,null,null,null,null,null,null,null,null,"NOUVEAU MATCH",null,null,null,null,null,null,null,null,null,null,null,null,null,null,null,null,null,null,null,null,null,null,null,null,null,null,null,null,null,null,null,null,null,"NOUVEAU MATCH",null,null,null,null,null,null,null,null,null,null,null,null,null,null,null,null,null,null,null,null,null,null,null,null,null,null,null,null,null,null,null,null,null,"NOUVEAU MATCH",null,null,null,null,null,null,null,null,null,null,null,null,null,null,null,null,null,null,null,null,null,null,null,null,null,null,null,null,null,null,null,null,null,"NOUVEAU MATCH",null,null,null,null,null,null,null,null,null,null,null,null,null,null,null,null,null,null,null,null,null,null,null,null,null,null,null,null,null,null,null,null,null,"NOUVEAU MATCH",null,null,null,null,null,null,null,null,null,null,null,null,null,null,null,null,null,null,null,null,null,null,null,null,null,null,null,null,null,null,null,null,null,"NOUVEAU MATCH",null,null,null,null,null,null,null,null,null,null,null,null,null,null,null,null,null,null,null,null,null,null,null,null,null,null,null,null,null,null,null,null,null,"NOUVEAU MATCH",null,null,null,null,null,null,null,null,null,null,null,null,null,null,null,null,null,null,null,null,null,null,null,null,null,null,null,null,null,null,null,null,null,"NOUVEAU MATCH",null,null,null,null,null,null,null,null,null,null,null,null,null,null,null,null,null,null,null,null,null,null,null,null,null,null,null,null,null,null,null,null,null,"NOUVEAU MATCH",null,null,null,null,null,null,null,null,null,null,null,null,null,null,null,null,null,null,null,null,null,null,null,null,null,null,null,null,null,null,null,null,null,"NOUVEAU MATCH",null,null,null,null,null,null,null,null,null,null,null,null,null,null,null,null,null,null,null,null,null,null,null,null,null,null,null,null,null,null,null,null,null,"NOUVEAU MATCH",null,null,null,null,null,null,null,null,null,null,null,null,null,null,null,null,null,null,null,null,null,null,null,null,null,null,null,null,null,null,null,null,null,"NOUVEAU MATCH",null,null,null,null,null,null,null,null,null,null,null,null,null,null,null,null,null,null,null,null,null,null,null,null,null,null,null,null,null,null,null,null,null,"NOUVEAU MATCH",null,null,null,null,null,null,null,null,null,null,null,null,null,null,null,null,null,null,null,null,null,null,null,null,null,null,null,null,null,null,null,null,null,"NOUVEAU MATCH"]
[null,"CHOIX D'APPRENTISSAGE",null,null,null,"Quelle STRATEGIE aimerais-je travailler ?",null,null,null,null,null,null,"Quelle STRATEGIE aimerais-je travailler ?",null,null,null,null,null,null,null,null,"Quelle STRATEGIE aimerais-je travailler ?",null,null,null,null,null,null,"Quelle STRATEGIE aimerais-je travailler ?",null,null,null,null,null,null,null,null,null,null,"Quelle STRATEGIE aimerais-je travailler ?",null,null,null,null,null,null,"Quelle STRATEGIE aimerais-je travailler ?",null,null,null,null,null,null,null,null,"Quelle STRATEGIE aimerais-je travailler ?",null,null,null,null,null,null,"Quelle STRATEGIE aimerais-je travailler ?",null,null,null,null,null,null,null,null,null,null,"Quelle STRATEGIE aimerais-je travailler ?",null,null,null,null,null,null,"Quelle STRATEGIE aimerais-je travailler ?",null,null,null,null,null,null,null,null,"Quelle STRATEGIE aimerais-je travailler ?",null,null,null,null,null,null,"Quelle STRATEGIE aimerais-je travailler ?",null,null,null,null,null,null,null,null,null,null,"Quelle STRATEGIE aimerais-je travailler ?",null,null,null,null,null,null,"Quelle STRATEGIE aimerais-je travailler ?",null,null,null,null,null,null,null,null,"Quelle STRATEGIE aimerais-je travailler ?",null,null,null,null,null,null,"Quelle STRATEGIE aimerais-je travailler ?",null,null,null,null,null,null,null,null,null,null,"Quelle STRATEGIE aimerais-je travailler ?",null,null,null,null,null,null,"Quelle STRATEGIE aimerais-je travailler ?",null,null,null,null,null,null,null,null,"Quelle STRATEGIE aimerais-je travailler ?",null,null,null,null,null,null,"Quelle STRATEGIE aimerais-je travailler ?",null,null,null,null,null,null,null,null,null,null,"Quelle STRATEGIE aimerais-je travailler ?",null,null,null,null,null,null,"Quelle STRATEGIE aimerais-je travailler ?",null,null,null,null,null,null,null,null,"Quelle STRATEGIE aimerais-je travailler ?",null,null,null,null,null,null,"Quelle STRATEGIE aimerais-je travailler ?",null,null,null,null,null,null,null,null,null,null,"Quelle STRATEGIE aimerais-je travailler ?",null,null,null,null,null,null,"Quelle STRATEGIE aimerais-je travailler ?",null,null,null,null,null,null,null,null,"Quelle STRATEGIE aimerais-je travailler ?",null,null,null,null,null,null,"Quelle STRATEGIE aimerais-je travailler ?",null,null,null,null,null,null,null,null,null,null,"Quelle STRATEGIE aimerais-je travailler ?",null,null,null,null,null,null,"Quelle STRATEGIE aimerais-je travailler ?",null,null,null,null,null,null,null,null,"Quelle STRATEGIE aimerais-je travailler ?",null,null,null,null,null,null,"Quelle STRATEGIE aimerais-je travailler ?",null,null,null,null,null,null,null,null,null,null,"Quelle STRATEGIE aimerais-je travailler ?",null,null,null,null,null,null,"Quelle STRATEGIE aimerais-je travailler ?",null,null,null,null,null,null,null,null,"Quelle STRATEGIE aimerais-je travailler ?",null,null,null,null,null,null,"Quelle STRATEGIE aimerais-je travailler ?",null,null,null,null,null,null,null,null,null,null,"Quelle STRATEGIE aimerais-je travailler ?",null,null,null,null,null,null,"Quelle STRATEGIE aimerais-je travailler ?",null,null,null,null,null,null,null,null,"Quelle STRATEGIE aimerais-je travailler ?",null,null,null,null,null,null,"Quelle STRATEGIE aimerais-je travailler ?",null,null,null,null,null,null,null,null,null,null,"Quelle STRATEGIE aimerais-je travailler ?",null,null,null,null,null,null,"Quelle STRATEGIE aimerais-je travailler ?",null,null,null,null,null,null,null,null,"Quelle STRATEGIE aimerais-je travailler ?",null,null,null,null,null,null,"Quelle STRATEGIE aimerais-je travailler ?",null,null,null,null,null,null,null,null,null,null,"Quelle STRATEGIE aimerais-je travailler ?",null,null,null,null,null,null,"Quelle STRATEGIE aimerais-je travailler ?",null,null,null,null,null,null,null,null,"Quelle STRATEGIE aimerais-je travailler ?",null,null,null,null,null,null,"Quelle STRATEGIE aimerais-je travailler ?",null,null,null,null,null,null,null,null,null,null,"Quelle STRATEGIE aimerais-je travailler ?",null,null,null,null,null,null,"Quelle STRATEGIE aimerais-je travailler ?",null,null,null,null,null,null,null,null,"Quelle STRATEGIE aimerais-je travailler ?",null,null,null,null,null,null,"Quelle STRATEGIE aimerais-je travailler ?",null,null,null,null,null,null,null,null,null,null,"Quelle STRATEGIE aimerais-je travailler ?",null,null,null,null,null,null,"Quelle STRATEGIE aimerais-je travailler ?",null,null,null,null,null,null,null,null,"Quelle STRATEGIE aimerais-je travailler ?",null,null,null,null,null,null,"Quelle STRATEGIE aimerais-je travailler ?",null,null,null,null,null,null,null,null,null,null,"Quelle STRATEGIE aimerais-je travailler ?",null,null,null,null,null,null,"Quelle STRATEGIE aimerais-je travailler ?",null,null,null,null,null,null,null,null,"Quelle STRATEGIE aimerais-je travailler ?",null,null,null,null,null,null,"Quelle STRATEGIE aimerais-je travailler ?",null,null,null,null,null,null,null,null,null,null,"Quelle STRATEGIE aimerais-je travailler ?",null,null,null,null,null,null,"Quelle STRATEGIE aimerais-je travailler ?",null,null,null,null,null,null,null,null,"Quelle STRATEGIE aimerais-je travailler ?",null,null,null,null,null,null,"Quelle STRATEGIE aimerais-je travailler ?",null,null,null,null,null,null,null,null,null,null,"Quelle STRATEGIE aimerais-je travailler ?",null,null,null,null,null,null,"Quelle STRATEGIE aimerais-je travailler ?",null,null,null,null,null,null,null,null,"Quelle STRATEGIE aimerais-je travailler ?",null,null,null,null,null,null,"Quelle STRATEGIE aimerais-je travailler ?",null,null,null,null,null,null,null,null,null,null,"Quelle STRATEGIE aimerais-je travailler ?",null,null,null,null,null,null,"Quelle STRATEGIE aimerais-je travailler ?",null,null,null,null,null,null,null,null,"Quelle STRATEGIE aimerais-je travailler ?",null,null,null,null,null,null,"Quelle STRATEGIE aimerais-je travailler ?",null,null,null,null,null,null,null,null,null,null,"Quelle STRATEGIE aimerais-je travailler ?",null,null,null,null,null,null,"Quelle STRATEGIE aimerais-je travailler ?",null,null,null,null,null,null,null,null,"Quelle STRATEGIE aimerais-je travailler ?",null,null,null,null,null,null,"Quelle STRATEGIE aimerais-je travailler ?",null,null,null,null,null,null,null,null,null,null,"Quelle STRATEGIE aimerais-je travailler ?",null,null,null,null,null,null,"Quelle STRATEGIE aimerais-je travailler ?",null,null,null,null,null,null,null,null,"Quelle STRATEGIE aimerais-je travailler ?",null,null,null,null,null,null,"Quelle STRATEGIE aimerais-je travailler ?",null,null,null,null,null,null,null,null,null,null,"Quelle STRATEGIE aimerais-je travailler ?",null,null,null,null,null,null,"Quelle STRATEGIE aimerais-je travailler ?",null,null,null,null,null,null,null,null,"Quelle STRATEGIE aimerais-je travailler ?",null,null,null,null,null,null,"Quelle STRATEGIE aimerais-je travailler ?",null,null,null,null,null,null,null,null,null,null,"Quelle STRATEGIE aimerais-je travailler ?",null,null,null,null,null,null,"Quelle STRATEGIE aimerais-je travailler ?",null,null,null,null,null,null,null,null,"Quelle STRATEGIE aimerais-je travailler ?",null,null,null,null,null,null,"Quelle STRATEGIE aimerais-je travailler ?",null,null,null,null,null,null,null,null,null,null,"Quelle STRATEGIE aimerais-je travailler ?",null,null,null,null,null,null,"Quelle STRATEGIE aimerais-je travailler ?",null,null,null,null,null,null,null,null,"Quelle STRATEGIE aimerais-je travailler ?",null,null,null,null,null,null,"Quelle STRATEGIE aimerais-je travailler ?",null,null,null,null,null,null,null,null,null,null,"Quelle STRATEGIE aimerais-je travailler ?",null,null,null,null,null,null,"Quelle STRATEGIE aimerais-je travailler ?",null,null,null,null,null,null,null,null,"Quelle STRATEGIE aimerais-je travailler ?",null,null,null,null,null,null,"Quelle STRATEGIE aimerais-je travailler ?"]
[null,null,null,null,null,"Renvoyer"]
[null,null,null,null,null,"Quelle tactique aimerais-je travailler ?",null,null,null,null,null,null,"Quelle tactique aimerais-je travailler ?",null,null,null,null,null,null,null,null,"Quelle tactique aimerais-je travailler ?",null,null,null,null,null,null,"Quelle tactique aimerais-je travailler ?",null,null,null,null,null,null,null,null,null,null,"Quelle tactique aimerais-je travailler ?",null,null,null,null,null,null,"Quelle tactique aimerais-je travailler ?",null,null,null,null,null,null,null,null,"Quelle tactique aimerais-je travailler ?",null,null,null,null,null,null,"Quelle tactique aimerais-je travailler ?",null,null,null,null,null,null,null,null,null,null,"Quelle tactique aimerais-je travailler ?",null,null,null,null,null,null,"Quelle tactique aimerais-je travailler ?",null,null,null,null,null,null,null,null,"Quelle tactique aimerais-je travailler ?",null,null,null,null,null,null,"Quelle tactique aimerais-je travailler ?",null,null,null,null,null,null,null,null,null,null,"Quelle tactique aimerais-je travailler ?",null,null,null,null,null,null,"Quelle tactique aimerais-je travailler ?",null,null,null,null,null,null,null,null,"Quelle tactique aimerais-je travailler ?",null,null,null,null,null,null,"Quelle tactique aimerais-je travailler ?",null,null,null,null,null,null,null,null,null,null,"Quelle tactique aimerais-je travailler ?",null,null,null,null,null,null,"Quelle tactique aimerais-je travailler ?",null,null,null,null,null,null,null,null,"Quelle tactique aimerais-je travailler ?",null,null,null,null,null,null,"Quelle tactique aimerais-je travailler ?",null,null,null,null,null,null,null,null,null,null,"Quelle tactique aimerais-je travailler ?",null,null,null,null,null,null,"Quelle tactique aimerais-je travailler ?",null,null,null,null,null,null,null,null,"Quelle tactique aimerais-je travailler ?",null,null,null,null,null,null,"Quelle tactique aimerais-je travailler ?",null,null,null,null,null,null,null,null,null,null,"Quelle tactique aimerais-je travailler ?",null,null,null,null,null,null,"Quelle tactique aimerais-je travailler ?",null,null,null,null,null,null,null,null,"Quelle tactique aimerais-je travailler ?",null,null,null,null,null,null,"Quelle tactique aimerais-je travailler ?",null,null,null,null,null,null,null,null,null,null,"Quelle tactique aimerais-je travailler ?",null,null,null,null,null,null,"Quelle tactique aimerais-je travailler ?",null,null,null,null,null,null,null,null,"Quelle tactique aimerais-je travailler ?",null,null,null,null,null,null,"Quelle tactique aimerais-je travailler ?",null,null,null,null,null,null,null,null,null,null,"Quelle tactique aimerais-je travailler ?",null,null,null,null,null,null,"Quelle tactique aimerais-je travailler ?",null,null,null,null,null,null,null,null,"Quelle tactique aimerais-je travailler ?",null,null,null,null,null,null,"Quelle tactique aimerais-je travailler ?",null,null,null,null,null,null,null,null,null,null,"Quelle tactique aimerais-je travailler ?",null,null,null,null,null,null,"Quelle tactique aimerais-je travailler ?",null,null,null,null,null,null,null,null,"Quelle tactique aimerais-je travailler ?",null,null,null,null,null,null,"Quelle tactique aimerais-je travailler ?",null,null,null,null,null,null,null,null,null,null,"Quelle tactique aimerais-je travailler ?",null,null,null,null,null,null,"Quelle tactique aimerais-je travailler ?",null,null,null,null,null,null,null,null,"Quelle tactique aimerais-je travailler ?",null,null,null,null,null,null,"Quelle tactique aimerais-je travailler ?",null,null,null,null,null,null,null,null,null,null,"Quelle tactique aimerais-je travailler ?",null,null,null,null,null,null,"Quelle tactique aimerais-je travailler ?",null,null,null,null,null,null,null,null,"Quelle tactique aimerais-je travailler ?",null,null,null,null,null,null,"Quelle tactique aimerais-je travailler ?",null,null,null,null,null,null,null,null,null,null,"Quelle tactique aimerais-je travailler ?",null,null,null,null,null,null,"Quelle tactique aimerais-je travailler ?",null,null,null,null,null,null,null,null,"Quelle tactique aimerais-je travailler ?",null,null,null,null,null,null,"Quelle tactique aimerais-je travailler ?",null,null,null,null,null,null,null,null,null,null,"Quelle tactique aimerais-je travailler ?",null,null,null,null,null,null,"Quelle tactique aimerais-je travailler ?",null,null,null,null,null,null,null,null,"Quelle tactique aimerais-je travailler ?",null,null,null,null,null,null,"Quelle tactique aimerais-je travailler ?",null,null,null,null,null,null,null,null,null,null,"Quelle tactique aimerais-je travailler ?",null,null,null,null,null,null,"Quelle tactique aimerais-je travailler ?",null,null,null,null,null,null,null,null,"Quelle tactique aimerais-je travailler ?",null,null,null,null,null,null,"Quelle tactique aimerais-je travailler ?",null,null,null,null,null,null,null,null,null,null,"Quelle tactique aimerais-je travailler ?",null,null,null,null,null,null,"Quelle tactique aimerais-je travailler ?",null,null,null,null,null,null,null,null,"Quelle tactique aimerais-je travailler ?",null,null,null,null,null,null,"Quelle tactique aimerais-je travailler ?",null,null,null,null,null,null,null,null,null,null,"Quelle tactique aimerais-je travailler ?",null,null,null,null,null,null,"Quelle tactique aimerais-je travailler ?",null,null,null,null,null,null,null,null,"Quelle tactique aimerais-je travailler ?",null,null,null,null,null,null,"Quelle tactique aimerais-je travailler ?",null,null,null,null,null,null,null,null,null,null,"Quelle tactique aimerais-je travailler ?",null,null,null,null,null,null,"Quelle tactique aimerais-je travailler ?",null,null,null,null,null,null,null,null,"Quelle tactique aimerais-je travailler ?",null,null,null,null,null,null,"Quelle tactique aimerais-je travailler ?",null,null,null,null,null,null,null,null,null,null,"Quelle tactique aimerais-je travailler ?",null,null,null,null,null,null,"Quelle tactique aimerais-je travailler ?",null,null,null,null,null,null,null,null,"Quelle tactique aimerais-je travailler ?",null,null,null,null,null,null,"Quelle tactique aimerais-je travailler ?",null,null,null,null,null,null,null,null,null,null,"Quelle tactique aimerais-je travailler ?",null,null,null,null,null,null,"Quelle tactique aimerais-je travailler ?",null,null,null,null,null,null,null,null,"Quelle tactique aimerais-je travailler ?",null,null,null,null,null,null,"Quelle tactique aimerais-je travailler ?",null,null,null,null,null,null,null,null,null,null,"Quelle tactique aimerais-je travailler ?",null,null,null,null,null,null,"Quelle tactique aimerais-je travailler ?",null,null,null,null,null,null,null,null,"Quelle tactique aimerais-je travailler ?",null,null,null,null,null,null,"Quelle tactique aimerais-je travailler ?",null,null,null,null,null,null,null,null,null,null,"Quelle tactique aimerais-je travailler ?",null,null,null,null,null,null,"Quelle tactique aimerais-je travailler ?",null,null,null,null,null,null,null,null,"Quelle tactique aimerais-je travailler ?",null,null,null,null,null,null,"Quelle tactique aimerais-je travailler ?",null,null,null,null,null,null,null,null,null,null,"Quelle tactique aimerais-je travailler ?",null,null,null,null,null,null,"Quelle tactique aimerais-je travailler ?",null,null,null,null,null,null,null,null,"Quelle tactique aimerais-je travailler ?",null,null,null,null,null,null,"Quelle tactique aimerais-je travailler ?",null,null,null,null,null,null,null,null,null,null,"Quelle tactique aimerais-je travailler ?",null,null,null,null,null,null,"Quelle tactique aimerais-je travailler ?",null,null,null,null,null,null,null,null,"Quelle tactique aimerais-je travailler ?",null,null,null,null,null,null,"Quelle tactique aimerais-je travailler ?"]
[]
[null,null,null,null,null,"Quel type de situation ?",null,null,null,null,null,null,"Quel type de situation ?",null,null,null,null,null,null,null,null,"Quel type de situation ?",null,null,null,null,null,null,"Quel type de situation ?",null,null,null,null,null,null,null,null,null,null,"Quel type de situation ?",null,null,null,null,null,null,"Quel type de situation ?",null,null,null,null,null,null,null,null,"Quel type de situation ?",null,null,null,null,null,null,"Quel type de situation ?",null,null,null,null,null,null,null,null,null,null,"Quel type de situation ?",null,null,null,null,null,null,"Quel type de situation ?",null,null,null,null,null,null,null,null,"Quel type de situation ?",null,null,null,null,null,null,"Quel type de situation ?",null,null,null,null,null,null,null,null,null,null,"Quel type de situation ?",null,null,null,null,null,null,"Quel type de situation ?",null,null,null,null,null,null,null,null,"Quel type de situation ?",null,null,null,null,null,null,"Quel type de situation ?",null,null,null,null,null,null,null,null,null,null,"Quel type de situation ?",null,null,null,null,null,null,"Quel type de situation ?",null,null,null,null,null,null,null,null,"Quel type de situation ?",null,null,null,null,null,null,"Quel type de situation ?",null,null,null,null,null,null,null,null,null,null,"Quel type de situation ?",null,null,null,null,null,null,"Quel type de situation ?",null,null,null,null,null,null,null,null,"Quel type de situation ?",null,null,null,null,null,null,"Quel type de situation ?",null,null,null,null,null,null,null,null,null,null,"Quel type de situation ?",null,null,null,null,null,null,"Quel type de situation ?",null,null,null,null,null,null,null,null,"Quel type de situation ?",null,null,null,null,null,null,"Quel type de situation ?",null,null,null,null,null,null,null,null,null,null,"Quel type de situation ?",null,null,null,null,null,null,"Quel type de situation ?",null,null,null,null,null,null,null,null,"Quel type de situation ?",null,null,null,null,null,null,"Quel type de situation ?",null,null,null,null,null,null,null,null,null,null,"Quel type de situation ?",null,null,null,null,null,null,"Quel type de situation ?",null,null,null,null,null,null,null,null,"Quel type de situation ?",null,null,null,null,null,null,"Quel type de situation ?",null,null,null,null,null,null,null,null,null,null,"Quel type de situation ?",null,null,null,null,null,null,"Quel type de situation ?",null,null,null,null,null,null,null,null,"Quel type de situation ?",null,null,null,null,null,null,"Quel type de situation ?",null,null,null,null,null,null,null,null,null,null,"Quel type de situation ?",null,null,null,null,null,null,"Quel type de situation ?",null,null,null,null,null,null,null,null,"Quel type de situation ?",null,null,null,null,null,null,"Quel type de situation ?",null,null,null,null,null,null,null,null,null,null,"Quel type de situation ?",null,null,null,null,null,null,"Quel type de situation ?",null,null,null,null,null,null,null,null,"Quel type de situation ?",null,null,null,null,null,null,"Quel type de situation ?",null,null,null,null,null,null,null,null,null,null,"Quel type de situation ?",null,null,null,null,null,null,"Quel type de situation ?",null,null,null,null,null,null,null,null,"Quel type de situation ?",null,null,null,null,null,null,"Quel type de situation ?",null,null,null,null,null,null,null,null,null,null,"Quel type de situation ?",null,null,null,null,null,null,"Quel type de situation ?",null,null,null,null,null,null,null,null,"Quel type de situation ?",null,null,null,null,null,null,"Quel type de situation ?",null,null,null,null,null,null,null,null,null,null,"Quel type de situation ?",null,null,null,null,null,null,"Quel type de situation ?",null,null,null,null,null,null,null,null,"Quel type de situation ?",null,null,null,null,null,null,"Quel type de situation ?",null,null,null,null,null,null,null,null,null,null,"Quel type de situation ?",null,null,null,null,null,null,"Quel type de situation ?",null,null,null,null,null,null,null,null,"Quel type de situation ?",null,null,null,null,null,null,"Quel type de situation ?",null,null,null,null,null,null,null,null,null,null,"Quel type de situation ?",null,null,null,null,null,null,"Quel type de situation ?",null,null,null,null,null,null,null,null,"Quel type de situation ?",null,null,null,null,null,null,"Quel type de situation ?",null,null,null,null,null,null,null,null,null,null,"Quel type de situation ?",null,null,null,null,null,null,"Quel type de situation ?",null,null,null,null,null,null,null,null,"Quel type de situation ?",null,null,null,null,null,null,"Quel type de situation ?",null,null,null,null,null,null,null,null,null,null,"Quel type de situation ?",null,null,null,null,null,null,"Quel type de situation ?",null,null,null,null,null,null,null,null,"Quel type de situation ?",null,null,null,null,null,null,"Quel type de situation ?",null,null,null,null,null,null,null,null,null,null,"Quel type de situation ?",null,null,null,null,null,null,"Quel type de situation ?",null,null,null,null,null,null,null,null,"Quel type de situation ?",null,null,null,null,null,null,"Quel type de situation ?",null,null,null,null,null,null,null,null,null,null,"Quel type de situation ?",null,null,null,null,null,null,"Quel type de situation ?",null,null,null,null,null,null,null,null,"Quel type de situation ?",null,null,null,null,null,null,"Quel type de situation ?",null,null,null,null,null,null,null,null,null,null,"Quel type de situation ?",null,null,null,null,null,null,"Quel type de situation ?",null,null,null,null,null,null,null,null,"Quel type de situation ?",null,null,null,null,null,null,"Quel type de situation ?",null,null,null,null,null,null,null,null,null,null,"Quel type de situation ?",null,null,null,null,null,null,"Quel type de situation ?",null,null,null,null,null,null,null,null,"Quel type de situation ?",null,null,null,null,null,null,"Quel type de situation ?",null,null,null,null,null,null,null,null,null,null,"Quel type de situation ?",null,null,null,null,null,null,"Quel type de situation ?",null,null,null,null,null,null,null,null,"Quel type de situation ?",null,null,null,null,null,null,"Quel type de situation ?"]
[]
[null,null,null,null,null,"Nom de la situation à travailler",null,null,null,null,null,null,"Nom de la situation à travailler",null,null,null,null,null,null,null,null,"Nom de la situation à travailler",null,null,null,null,null,null,"Nom de la situation à travailler",null,null,null,null,null,null,null,null,null,null,"Nom de la situation à travailler",null,null,null,null,null,null,"Nom de la situation à travailler",null,null,null,null,null,null,null,null,"Nom de la situation à travailler",null,null,null,null,null,null,"Nom de la situation à travailler",null,null,null,null,null,null,null,null,null,null,"Nom de la situation à travailler",null,null,null,null,null,null,"Nom de la situation à travailler",null,null,null,null,null,null,null,null,"Nom de la situation à travailler",null,null,null,null,null,null,"Nom de la situation à travailler",null,null,null,null,null,null,null,null,null,null,"Nom de la situation à travailler",null,null,null,null,null,null,"Nom de la situation à travailler",null,null,null,null,null,null,null,null,"Nom de la situation à travailler",null,null,null,null,null,null,"Nom de la situation à travailler",null,null,null,null,null,null,null,null,null,null,"Nom de la situation à travailler",null,null,null,null,null,null,"Nom de la situation à travailler",null,null,null,null,null,null,null,null,"Nom de la situation à travailler",null,null,null,null,null,null,"Nom de la situation à travailler",null,null,null,null,null,null,null,null,null,null,"Nom de la situation à travailler",null,null,null,null,null,null,"Nom de la situation à travailler",null,null,null,null,null,null,null,null,"Nom de la situation à travailler",null,null,null,null,null,null,"Nom de la situation à travailler",null,null,null,null,null,null,null,null,null,null,"Nom de la situation à travailler",null,null,null,null,null,null,"Nom de la situation à travailler",null,null,null,null,null,null,null,null,"Nom de la situation à travailler",null,null,null,null,null,null,"Nom de la situation à travailler",null,null,null,null,null,null,null,null,null,null,"Nom de la situation à travailler",null,null,null,null,null,null,"Nom de la situation à travailler",null,null,null,null,null,null,null,null,"Nom de la situation à travailler",null,null,null,null,null,null,"Nom de la situation à travailler",null,null,null,null,null,null,null,null,null,null,"Nom de la situation à travailler",null,null,null,null,null,null,"Nom de la situation à travailler",null,null,null,null,null,null,null,null,"Nom de la situation à travailler",null,null,null,null,null,null,"Nom de la situation à travailler",null,null,null,null,null,null,null,null,null,null,"Nom de la situation à travailler",null,null,null,null,null,null,"Nom de la situation à travailler",null,null,null,null,null,null,null,null,"Nom de la situation à travailler",null,null,null,null,null,null,"Nom de la situation à travailler",null,null,null,null,null,null,null,null,null,null,"Nom de la situation à travailler",null,null,null,null,null,null,"Nom de la situation à travailler",null,null,null,null,null,null,null,null,"Nom de la situation à travailler",null,null,null,null,null,null,"Nom de la situation à travailler",null,null,null,null,null,null,null,null,null,null,"Nom de la situation à travailler",null,null,null,null,null,null,"Nom de la situation à travailler",null,null,null,null,null,null,null,null,"Nom de la situation à travailler",null,null,null,null,null,null,"Nom de la situation à travailler",null,null,null,null,null,null,null,null,null,null,"Nom de la situation à travailler",null,null,null,null,null,null,"Nom de la situation à travailler",null,null,null,null,null,null,null,null,"Nom de la situation à travailler",null,null,null,null,null,null,"Nom de la situation à travailler",null,null,null,null,null,null,null,null,null,null,"Nom de la situation à travailler",null,null,null,null,null,null,"Nom de la situation à travailler",null,null,null,null,null,null,null,null,"Nom de la situation à travailler",null,null,null,null,null,null,"Nom de la situation à travailler",null,null,null,null,null,null,null,null,null,null,"Nom de la situation à travailler",null,null,null,null,null,null,"Nom de la situation à travailler",null,null,null,null,null,null,null,null,"Nom de la situation à travailler",null,null,null,null,null,null,"Nom de la situation à travailler",null,null,null,null,null,null,null,null,null,null,"Nom de la situation à travailler",null,null,null,null,null,null,"Nom de la situation à travailler",null,null,null,null,null,null,null,null,"Nom de la situation à travailler",null,null,null,null,null,null,"Nom de la situation à travailler",null,null,null,null,null,null,null,null,null,null,"Nom de la situation à travailler",null,null,null,null,null,null,"Nom de la situation à travailler",null,null,null,null,null,null,null,null,"Nom de la situation à travailler",null,null,null,null,null,null,"Nom de la situation à travailler",null,null,null,null,null,null,null,null,null,null,"Nom de la situation à travailler",null,null,null,null,null,null,"Nom de la situation à travailler",null,null,null,null,null,null,null,null,"Nom de la situation à travailler",null,null,null,null,null,null,"Nom de la situation à travailler",null,null,null,null,null,null,null,null,null,null,"Nom de la situation à travailler",null,null,null,null,null,null,"Nom de la situation à travailler",null,null,null,null,null,null,null,null,"Nom de la situation à travailler",null,null,null,null,null,null,"Nom de la situation à travailler",null,null,null,null,null,null,null,null,null,null,"Nom de la situation à travailler",null,null,null,null,null,null,"Nom de la situation à travailler",null,null,null,null,null,null,null,null,"Nom de la situation à travailler",null,null,null,null,null,null,"Nom de la situation à travailler",null,null,null,null,null,null,null,null,null,null,"Nom de la situation à travailler",null,null,null,null,null,null,"Nom de la situation à travailler",null,null,null,null,null,null,null,null,"Nom de la situation à travailler",null,null,null,null,null,null,"Nom de la situation à travailler",null,null,null,null,null,null,null,null,null,null,"Nom de la situation à travailler",null,null,null,null,null,null,"Nom de la situation à travailler",null,null,null,null,null,null,null,null,"Nom de la situation à travailler",null,null,null,null,null,null,"Nom de la situation à travailler",null,null,null,null,null,null,null,null,null,null,"Nom de la situation à travailler",null,null,null,null,null,null,"Nom de la situation à travailler",null,null,null,null,null,null,null,null,"Nom de la situation à travailler",null,null,null,null,null,null,"Nom de la situation à travailler",null,null,null,null,null,null,null,null,null,null,"Nom de la situation à travailler",null,null,null,null,null,null,"Nom de la situation à travailler",null,null,null,null,null,null,null,null,"Nom de la situation à travailler",null,null,null,null,null,null,"Nom de la situation à travailler"]
[null,null,null,null,null,{"$f":"INDEX(choixsa,MATCH(F59,situations,0),MATCH(F57,tactiques,0))","v":{"$error":"#N/A"}},null,null,null,null,null,null,{"$f":"INDEX(choixsa,MATCH(M59,situations,0),MATCH(M57,tactiques,0))","v":{"$error":"#N/A"}},null,null,null,null,null,null,null,null,{"$f":"INDEX(choixsa,MATCH(V59,situations,0),MATCH(V57,tactiques,0))","v":{"$error":"#N/A"}},null,null,null,null,null,null,{"$f":"INDEX(choixsa,MATCH(AC59,situations,0),MATCH(AC57,tactiques,0))","v":{"$error":"#N/A"}},null,null,null,null,null,null,null,null,null,null,{"$f":"INDEX(choixsa,MATCH(AN59,situations,0),MATCH(AN57,tactiques,0))","v":{"$error":"#N/A"}},null,null,null,null,null,null,{"$f":"INDEX(choixsa,MATCH(AU59,situations,0),MATCH(AU57,tactiques,0))","v":{"$error":"#N/A"}},null,null,null,null,null,null,null,null,{"$f":"INDEX(choixsa,MATCH(BD59,situations,0),MATCH(BD57,tactiques,0))","v":{"$error":"#N/A"}},null,null,null,null,null,null,{"$f":"INDEX(choixsa,MATCH(BK59,situations,0),MATCH(BK57,tactiques,0))","v":{"$error":"#N/A"}},null,null,null,null,null,null,null,null,null,null,{"$f":"INDEX(choixsa,MATCH(BV59,situations,0),MATCH(BV57,tactiques,0))","v":{"$error":"#N/A"}},null,null,null,null,null,null,{"$f":"INDEX(choixsa,MATCH(CC59,situations,0),MATCH(CC57,tactiques,0))","v":{"$error":"#N/A"}},null,null,null,null,null,null,null,null,{"$f":"INDEX(choixsa,MATCH(CL59,situations,0),MATCH(CL57,tactiques,0))","v":{"$error":"#N/A"}},null,null,null,null,null,null,{"$f":"INDEX(choixsa,MATCH(CS59,situations,0),MATCH(CS57,tactiques,0))","v":{"$error":"#N/A"}},null,null,null,null,null,null,null,null,null,null,{"$f":"INDEX(choixsa,MATCH(DD59,situations,0),MATCH(DD57,tactiques,0))","v":{"$error":"#N/A"}},null,null,null,null,null,null,{"$f":"INDEX(choixsa,MATCH(DK59,situations,0),MATCH(DK57,tactiques,0))","v":{"$error":"#N/A"}},null,null,null,null,null,null,null,null,{"$f":"INDEX(choixsa,MATCH(DT59,situations,0),MATCH(DT57,tactiques,0))","v":{"$error":"#N/A"}},null,null,null,null,null,null,{"$f":"INDEX(choixsa,MATCH(EA59,situations,0),MATCH(EA57,tactiques,0))","v":{"$error":"#N/A"}},null,null,null,null,null,null,null,null,null,null,{"$f":"INDEX(choixsa,MATCH(EL59,situations,0),MATCH(EL57,tactiques,0))","v":{"$error":"#N/A"}},null,null,null,null,null,null,{"$f":"INDEX(choixsa,MATCH(ES59,situations,0),MATCH(ES57,tactiques,0))","v":{"$error":"#N/A"}},null,null,null,null,null,null,null,null,{"$f":"INDEX(choixsa,MATCH(FB59,situations,0),MATCH(FB57,tactiques,0))","v":{"$error":"#N/A"}},null,null,null,null,null,null,{"$f":"INDEX(choixsa,MATCH(FI59,situations,0),MATCH(FI57,tactiques,0))","v":{"$error":"#N/A"}},null,null,null,null,null,null,null,null,null,null,{"$f":"INDEX(choixsa,MATCH(FT59,situations,0),MATCH(FT57,tactiques,0))","v":{"$error":"#N/A"}},null,null,null,null,null,null,{"$f":"INDEX(choixsa,MATCH(GA59,situations,0),MATCH(GA57,tactiques,0))","v":{"$error":"#N/A"}},null,null,null,null,null,null,null,null,{"$f":"INDEX(choixsa,MATCH(GJ59,situations,0),MATCH(GJ57,tactiques,0))","v":{"$error":"#N/A"}},null,null,null,null,null,null,{"$f":"INDEX(choixsa,MATCH(GQ59,situations,0),MATCH(GQ57,tactiques,0))","v":{"$error":"#N/A"}},null,null,null,null,null,null,null,null,null,null,{"$f":"INDEX(choixsa,MATCH(HB59,situations,0),MATCH(HB57,tactiques,0))","v":{"$error":"#N/A"}},null,null,null,null,null,null,{"$f":"INDEX(choixsa,MATCH(HI59,situations,0),MATCH(HI57,tactiques,0))","v":{"$error":"#N/A"}},null,null,null,null,null,null,null,null,{"$f":"INDEX(choixsa,MATCH(HR59,situations,0),MATCH(HR57,tactiques,0))","v":{"$error":"#N/A"}},null,null,null,null,null,null,{"$f":"INDEX(choixsa,MATCH(HY59,situations,0),MATCH(HY57,tactiques,0))","v":{"$error":"#N/A"}},null,null,null,null,null,null,null,null,null,null,{"$f":"INDEX(choixsa,MATCH(IJ59,situations,0),MATCH(IJ57,tactiques,0))","v":{"$error":"#N/A"}},null,null,null,null,null,null,{"$f":"INDEX(choixsa,MATCH(IQ59,situations,0),MATCH(IQ57,tactiques,0))","v":{"$error":"#N/A"}},null,null,null,null,null,null,null,null,{"$f":"INDEX(choixsa,MATCH(IZ59,situations,0),MATCH(IZ57,tactiques,0))","v":{"$error":"#N/A"}},null,null,null,null,null,null,{"$f":"INDEX(choixsa,MATCH(JG59,situations,0),MATCH(JG57,tactiques,0))","v":{"$error":"#N/A"}},null,null,null,null,null,null,null,null,null,null,{"$f":"INDEX(choixsa,MATCH(JR59,situations,0),MATCH(JR57,tactiques,0))","v":{"$error":"#N/A"}},null,null,null,null,null,null,{"$f":"INDEX(choixsa,MATCH(JY59,situations,0),MATCH(JY57,tactiques,0))","v":{"$error":"#N/A"}},null,null,null,null,null,null,null,null,{"$f":"INDEX(choixsa,MATCH(KH59,situations,0),MATCH(KH57,tactiques,0))","v":{"$error":"#N/A"}},null,null,null,null,null,null,{"$f":"INDEX(choixsa,MATCH(KO59,situations,0),MATCH(KO57,tactiques,0))","v":{"$error":"#N/A"}},null,null,null,null,null,null,null,null,null,null,{"$f":"INDEX(choixsa,MATCH(KZ59,situations,0),MATCH(KZ57,tactiques,0))","v":{"$error":"#N/A"}},null,null,null,null,null,null,{"$f":"INDEX(choixsa,MATCH(LG59,situations,0),MATCH(LG57,tactiques,0))","v":{"$error":"#N/A"}},null,null,null,null,null,null,null,null,{"$f":"INDEX(choixsa,MATCH(LP59,situations,0),MATCH(LP57,tactiques,0))","v":{"$error":"#N/A"}},null,null,null,null,null,null,{"$f":"INDEX(choixsa,MATCH(LW59,situations,0),MATCH(LW57,tactiques,0))","v":{"$error":"#N/A"}},null,null,null,null,null,null,null,null,null,null,{"$f":"INDEX(choixsa,MATCH(MH59,situations,0),MATCH(MH57,tactiques,0))","v":{"$error":"#N/A"}},null,null,null,null,null,null,{"$f":"INDEX(choixsa,MATCH(MO59,situations,0),MATCH(MO57,tactiques,0))","v":{"$error":"#N/A"}},null,null,null,null,null,null,null,null,{"$f":"INDEX(choixsa,MATCH(MX59,situations,0),MATCH(MX57,tactiques,0))","v":{"$error":"#N/A"}},null,null,null,null,null,null,{"$f":"INDEX(choixsa,MATCH(NE59,situations,0),MATCH(NE57,tactiques,0))","v":{"$error":"#N/A"}},null,null,null,null,null,null,null,null,null,null,{"$f":"INDEX(choixsa,MATCH(NP59,situations,0),MATCH(NP57,tactiques,0))","v":{"$error":"#N/A"}},null,null,null,null,null,null,{"$f":"INDEX(choixsa,MATCH(NW59,situations,0),MATCH(NW57,tactiques,0))","v":{"$error":"#N/A"}},null,null,null,null,null,null,null,null,{"$f":"INDEX(choixsa,MATCH(OF59,situations,0),MATCH(OF57,tactiques,0))","v":{"$error":"#N/A"}},null,null,null,null,null,null,{"$f":"INDEX(choixsa,MATCH(OM59,situations,0),MATCH(OM57,tactiques,0))","v":{"$error":"#N/A"}},null,null,null,null,null,null,null,null,null,null,{"$f":"INDEX(choixsa,MATCH(OX59,situations,0),MATCH(OX57,tactiques,0))","v":{"$error":"#N/A"}},null,null,null,null,null,null,{"$f":"INDEX(choixsa,MATCH(PE59,situations,0),MATCH(PE57,tactiques,0))","v":{"$error":"#N/A"}},null,null,null,null,null,null,null,null,{"$f":"INDEX(choixsa,MATCH(PN59,situations,0),MATCH(PN57,tactiques,0))","v":{"$error":"#N/A"}},null,null,null,null,null,null,{"$f":"INDEX(choixsa,MATCH(PU59,situations,0),MATCH(PU57,tactiques,0))","v":{"$error":"#N/A"}},null,null,null,null,null,null,null,null,null,null,{"$f":"INDEX(choixsa,MATCH(QF59,situations,0),MATCH(QF57,tactiques,0))","v":{"$error":"#N/A"}},null,null,null,null,null,null,{"$f":"INDEX(choixsa,MATCH(QM59,situations,0),MATCH(QM57,tactiques,0))","v":{"$error":"#N/A"}},null,null,null,null,null,null,null,null,{"$f":"INDEX(choixsa,MATCH(QV59,situations,0),MATCH(QV57,tactiques,0))","v":{"$error":"#N/A"}},null,null,null,null,null,null,{"$f":"INDEX(choixsa,MATCH(RC59,situations,0),MATCH(RC57,tactiques,0))","v":{"$error":"#N/A"}},null,null,null,null,null,null,null,null,null,null,{"$f":"INDEX(choixsa,MATCH(RN59,situations,0),MATCH(RN57,tactiques,0))","v":{"$error":"#N/A"}},null,null,null,null,null,null,{"$f":"INDEX(choixsa,MATCH(RU59,situations,0),MATCH(RU57,tactiques,0))","v":{"$error":"#N/A"}},null,null,null,null,null,null,null,null,{"$f":"INDEX(choixsa,MATCH(SD59,situations,0),MATCH(SD57,tactiques,0))","v":{"$error":"#N/A"}},null,null,null,null,null,null,{"$f":"INDEX(choixsa,MATCH(SK59,situations,0),MATCH(SK57,tactiques,0))","v":{"$error":"#N/A"}},null,null,null,null,null,null,null,null,null,null,{"$f":"INDEX(choixsa,MATCH(SV59,situations,0),MATCH(SV57,tactiques,0))","v":{"$error":"#N/A"}},null,null,null,null,null,null,{"$f":"INDEX(choixsa,MATCH(TC59,situations,0),MATCH(TC57,tactiques,0))","v":{"$error":"#N/A"}},null,null,null,null,null,null,null,null,{"$f":"INDEX(choixsa,MATCH(TL59,situations,0),MATCH(TL57,tactiques,0))","v":{"$error":"#N/A"}},null,null,null,null,null,null,{"$f":"INDEX(choixsa,MATCH(TS59,situations,0),MATCH(TS57,tactiques,0))","v":{"$error":"#N/A"}},null,null,null,null,null,null,null,null,null,null,{"$f":"INDEX(choixsa,MATCH(UD59,situations,0),MATCH(UD57,tactiques,0))","v":{"$error":"#N/A"}},null,null,null,null,null,null,{"$f":"INDEX(choixsa,MATCH(UK59,situations,0),MATCH(UK57,tactiques,0))","v":{"$error":"#N/A"}},null,null,null,null,null,null,null,null,{"$f":"INDEX(choixsa,MATCH(UT59,situations,0),MATCH(UT57,tactiques,0))","v":{"$error":"#N/A"}},null,null,null,null,null,null,{"$f":"INDEX(choixsa,MATCH(VA59,situations,0),MATCH(VA57,tactiques,0))","v":{"$error":"#N/A"}},null,null,null,null,null,null,null,null,null,null,{"$f":"INDEX(choixsa,MATCH(VL59,situations,0),MATCH(VL57,tactiques,0))","v":{"$error":"#N/A"}},null,null,null,null,null,null,{"$f":"INDEX(choixsa,MATCH(VS59,situations,0),MATCH(VS57,tactiques,0))","v":{"$error":"#N/A"}},null,null,null,null,null,null,null,null,{"$f":"INDEX(choixsa,MATCH(WB59,situations,0),MATCH(WB57,tactiques,0))","v":{"$error":"#N/A"}},null,null,null,null,null,null,{"$f":"INDEX(choixsa,MATCH(WI59,situations,0),MATCH(WI57,tactiques,0))","v":{"$error":"#N/A"}},null,null,null,null,null,null,null,null,null,null,{"$f":"INDEX(choixsa,MATCH(WT59,situations,0),MATCH(WT57,tactiques,0))","v":{"$error":"#N/A"}},null,null,null,null,null,null,{"$f":"INDEX(choixsa,MATCH(XA59,situations,0),MATCH(XA57,tactiques,0))","v":{"$error":"#N/A"}},null,null,null,null,null,null,null,null,{"$f":"INDEX(choixsa,MATCH(XJ59,situations,0),MATCH(XJ57,tactiques,0))","v":{"$error":"#N/A"}},null,null,null,null,null,null,{"$f":"INDEX(choixsa,MATCH(XQ59,situations,0),MATCH(XQ57,tactiques,0))","v":{"$error":"#N/A"}},null,null,null,null,null,null,null,null,null,null,{"$f":"INDEX(choixsa,MATCH(YB59,situations,0),MATCH(YB57,tactiques,0))","v":{"$error":"#N/A"}},null,null,null,null,null,null,{"$f":"INDEX(choixsa,MATCH(YI59,situations,0),MATCH(YI57,tactiques,0))","v":{"$error":"#N/A"}},null,null,null,null,null,null,null,null,{"$f":"INDEX(choixsa,MATCH(YR59,situations,0),MATCH(YR57,tactiques,0))","v":{"$error":"#N/A"}},null,null,null,null,null,null,{"$f":"INDEX(choixsa,MATCH(YY59,situations,0),MATCH(YY57,tactiques,0))","v":{"$error":"#N/A"}},null,null,null,null,null,null,null,null,null,null,{"$f":"INDEX(choixsa,MATCH(ZJ59,situations,0),MATCH(ZJ57,tactiques,0))","v":{"$error":"#N/A"}},null,null,null,null,null,null,{"$f":"INDEX(choixsa,MATCH(ZQ59,situations,0),MATCH(ZQ57,tactiques,0))","v":{"$error":"#N/A"}},null,null,null,null,null,null,null,null,{"$f":"INDEX(choixsa,MATCH(ZZ59,situations,0),MATCH(ZZ57,tactiques,0))","v":{"$error":"#N/A"}},null,null,null,null,null,null,{"$f":"INDEX(choixsa,MATCH(AAG59,situations,0),MATCH(AAG57,tactiques,0))","v":{"$error":"#N/A"}},null,null,null,null,null,null,null,null,null,null,{"$f":"INDEX(choixsa,MATCH(AAR59,situations,0),MATCH(AAR57,tactiques,0))","v":{"$error":"#N/A"}},null,null,null,null,null,null,{"$f":"INDEX(choixsa,MATCH(AAY59,situations,0),MATCH(AAY57,tactiques,0))","v":{"$error":"#N/A"}},null,null,null,null,null,null,null,null,{"$f":"INDEX(choixsa,MATCH(ABH59,situations,0),MATCH(ABH57,tactiques,0))","v":{"$error":"#N/A"}},null,null,null,null,null,null,{"$f":"INDEX(choixsa,MATCH(ABO59,situations,0),MATCH(ABO57,tactiques,0))","v":{"$error":"#N/A"}},null,null,null,null,null,null,null,null,null,null,{"$f":"INDEX(choixsa,MATCH(ABZ59,situations,0),MATCH(ABZ57,tactiques,0))","v":{"$error":"#N/A"}},null,null,null,null,null,null,{"$f":"INDEX(choixsa,MATCH(ACG59,situations,0),MATCH(ACG57,tactiques,0))","v":{"$error":"#N/A"}},null,null,null,null,null,null,null,null,{"$f":"INDEX(choixsa,MATCH(ACP59,situations,0),MATCH(ACP57,tactiques,0))","v":{"$error":"#N/A"}},null,null,null,null,null,null,{"$f":"INDEX(choixsa,MATCH(ACW59,situations,0),MATCH(ACW57,tactiques,0))","v":{"$error":"#N/A"}},null,null,null,null,null,null,null,null,null,null,{"$f":"INDEX(choixsa,MATCH(ADH59,situations,0),MATCH(ADH57,tactiques,0))","v":{"$error":"#N/A"}},null,null,null,null,null,null,{"$f":"INDEX(choixsa,MATCH(ADO59,situations,0),MATCH(ADO57,tactiques,0))","v":{"$error":"#N/A"}},null,null,null,null,null,null,null,null,{"$f":"INDEX(choixsa,MATCH(ADX59,situations,0),MATCH(ADX57,tactiques,0))","v":{"$error":"#N/A"}},null,null,null,null,null,null,{"$f":"INDEX(choixsa,MATCH(AEE59,situations,0),MATCH(AEE57,tactiques,0))","v":{"$error":"#N/A"}}]
[null,null,null,null,null,"Objectif",null,null,null,null,null,null,"Objectif",null,null,null,null,null,null,null,null,"Objectif",null,null,null,null,null,null,"Objectif",null,null,null,null,null,null,null,null,null,null,"Objectif",null,null,null,null,null,null,"Objectif",null,null,null,null,null,null,null,null,"Objectif",null,null,null,null,null,null,"Objectif",null,null,null,null,null,null,null,null,null,null,"Objectif",null,null,null,null,null,null,"Objectif",null,null,null,null,null,null,null,null,"Objectif",null,null,null,null,null,null,"Objectif",null,null,null,null,null,null,null,null,null,null,"Objectif",null,null,null,null,null,null,"Objectif",null,null,null,null,null,null,null,null,"Objectif",null,null,null,null,null,null,"Objectif",null,null,null,null,null,null,null,null,null,null,"Objectif",null,null,null,null,null,null,"Objectif",null,null,null,null,null,null,null,null,"Objectif",null,null,null,null,null,null,"Objectif",null,null,null,null,null,null,null,null,null,null,"Objectif",null,null,null,null,null,null,"Objectif",null,null,null,null,null,null,null,null,"Objectif",null,null,null,null,null,null,"Objectif",null,null,null,null,null,null,null,null,null,null,"Objectif",null,null,null,null,null,null,"Objectif",null,null,null,null,null,null,null,null,"Objectif",null,null,null,null,null,null,"Objectif",null,null,null,null,null,null,null,null,null,null,"Objectif",null,null,null,null,null,null,"Objectif",null,null,null,null,null,null,null,null,"Objectif",null,null,null,null,null,null,"Objectif",null,null,null,null,null,null,null,null,null,null,"Objectif",null,null,null,null,null,null,"Objectif",null,null,null,null,null,null,null,null,"Objectif",null,null,null,null,null,null,"Objectif",null,null,null,null,null,null,null,null,null,null,"Objectif",null,null,null,null,null,null,"Objectif",null,null,null,null,null,null,null,null,"Objectif",null,null,null,null,null,null,"Objectif",null,null,null,null,null,null,null,null,null,null,"Objectif",null,null,null,null,null,null,"Objectif",null,null,null,null,null,null,null,null,"Objectif",null,null,null,null,null,null,"Objectif",null,null,null,null,null,null,null,null,null,null,"Objectif",null,null,null,null,null,null,"Objectif",null,null,null,null,null,null,null,null,"Objectif",null,null,null,null,null,null,"Objectif",null,null,null,null,null,null,null,null,null,null,"Objectif",null,null,null,null,null,null,"Objectif",null,null,null,null,null,null,null,null,"Objectif",null,null,null,null,null,null,"Objectif",null,null,null,null,null,null,null,null,null,null,"Objectif",null,null,null,null,null,null,"Objectif",null,null,null,null,null,null,null,null,"Objectif",null,null,null,null,null,null,"Objectif",null,null,null,null,null,null,null,null,null,null,"Objectif",null,null,null,null,null,null,"Objectif",null,null,null,null,null,null,null,null,"Objectif",null,null,null,null,null,null,"Objectif",null,null,null,null,null,null,null,null,null,null,"Objectif",null,null,null,null,null,null,"Objectif",null,null,null,null,null,null,null,null,"Objectif",null,null,null,null,null,null,"Objectif",null,null,null,null,null,null,null,null,null,null,"Objectif",null,null,null,null,null,null,"Objectif",null,null,null,null,null,null,null,null,"Objectif",null,null,null,null,null,null,"Objectif",null,null,null,null,null,null,null,null,null,null,"Objectif",null,null,null,null,null,null,"Objectif",null,null,null,null,null,null,null,null,"Objectif",null,null,null,null,null,null,"Objectif",null,null,null,null,null,null,null,null,null,null,"Objectif",null,null,null,null,null,null,"Objectif",null,null,null,null,null,null,null,null,"Objectif",null,null,null,null,null,null,"Objectif",null,null,null,null,null,null,null,null,null,null,"Objectif",null,null,null,null,null,null,"Objectif",null,null,null,null,null,null,null,null,"Objectif",null,null,null,null,null,null,"Objectif",null,null,null,null,null,null,null,null,null,null,"Objectif",null,null,null,null,null,null,"Objectif",null,null,null,null,null,null,null,null,"Objectif",null,null,null,null,null,null,"Objectif",null,null,null,null,null,null,null,null,null,null,"Objectif",null,null,null,null,null,null,"Objectif",null,null,null,null,null,null,null,null,"Objectif",null,null,null,null,null,null,"Objectif",null,null,null,null,null,null,null,null,null,null,"Objectif",null,null,null,null,null,null,"Objectif",null,null,null,null,null,null,null,null,"Objectif",null,null,null,null,null,null,"Objectif",null,null,null,null,null,null,null,null,null,null,"Objectif",null,null,null,null,null,null,"Objectif",null,null,null,null,null,null,null,null,"Objectif",null,null,null,null,null,null,"Objectif"]
[null,null,null,null,null,{"$f":"VLOOKUP(F61,SAMICBIS!$A$3:$E$232,5,FALSE)","v":{"$error":"#N/A"}},null,null,null,null,null,null,{"$f":"VLOOKUP(M61,SAMICBIS!$A$3:$E$232,5,FALSE)","v":{"$error":"#N/A"}},null,null,null,null,null,null,null,null,{"$f":"VLOOKUP(V61,SAMICBIS!$A$3:$E$232,5,FALSE)","v":{"$error":"#N/A"}},null,null,null,null,null,null,{"$f":"VLOOKUP(AC61,SAMICBIS!$A$3:$E$232,5,FALSE)","v":{"$error":"#N/A"}},null,null,null,null,null,null,null,null,null,null,{"$f":"VLOOKUP(AN61,SAMICBIS!$A$3:$E$500,5,FALSE)","v":{"$error":"#N/A"}},null,null,null,null,null,null,{"$f":"VLOOKUP(AU61,SAMICBIS!$A$3:$E$500,5,FALSE)","v":{"$error":"#N/A"}},null,null,null,null,null,null,null,null,{"$f":"VLOOKUP(BD61,SAMICBIS!$A$3:$E$500,5,FALSE)","v":{"$error":"#N/A"}},null,null,null,null,null,null,{"$f":"VLOOKUP(BK61,SAMICBIS!$A$3:$E$500,5,FALSE)","v":{"$error":"#N/A"}},null,null,null,null,null,null,null,null,null,null,{"$f":"VLOOKUP(BV61,SAMICBIS!$A$3:$E$500,5,FALSE)","v":{"$error":"#N/A"}},null,null,null,null,null,null,{"$f":"VLOOKUP(CC61,SAMICBIS!$A$3:$E$500,5,FALSE)","v":{"$error":"#N/A"}},null,null,null,null,null,null,null,null,{"$f":"VLOOKUP(CL61,SAMICBIS!$A$3:$E$500,5,FALSE)","v":{"$error":"#N/A"}},null,null,null,null,null,null,{"$f":"VLOOKUP(CS61,SAMICBIS!$A$3:$E$500,5,FALSE)","v":{"$error":"#N/A"}},null,null,null,null,null,null,null,null,null,null,{"$f":"VLOOKUP(DD61,SAMICBIS!$A$3:$E$500,5,FALSE)","v":{"$error":"#N/A"}},null,null,null,null,null,null,{"$f":"VLOOKUP(DK61,SAMICBIS!$A$3:$E$500,5,FALSE)","v":{"$error":"#N/A"}},null,null,null,null,null,null,null,null,{"$f":"VLOOKUP(DT61,SAMICBIS!$A$3:$E$500,5,FALSE)","v":{"$error":"#N/A"}},null,null,null,null,null,null,{"$f":"VLOOKUP(EA61,SAMICBIS!$A$3:$E$500,5,FALSE)","v":{"$error":"#N/A"}},null,null,null,null,null,null,null,null,null,null,{"$f":"VLOOKUP(EL61,SAMICBIS!$A$3:$E$500,5,FALSE)","v":{"$error":"#N/A"}},null,null,null,null,null,null,{"$f":"VLOOKUP(ES61,SAMICBIS!$A$3:$E$500,5,FALSE)","v":{"$error":"#N/A"}},null,null,null,null,null,null,null,null,{"$f":"VLOOKUP(FB61,SAMICBIS!$A$3:$E$500,5,FALSE)","v":{"$error":"#N/A"}},null,null,null,null,null,null,{"$f":"VLOOKUP(FI61,SAMICBIS!$A$3:$E$500,5,FALSE)","v":{"$error":"#N/A"}},null,null,null,null,null,null,null,null,null,null,{"$f":"VLOOKUP(FT61,SAMICBIS!$A$3:$E$500,5,FALSE)","v":{"$error":"#N/A"}},null,null,null,null,null,null,{"$f":"VLOOKUP(GA61,SAMICBIS!$A$3:$E$500,5,FALSE)","v":{"$error":"#N/A"}},null,null,null,null,null,null,null,null,{"$f":"VLOOKUP(GJ61,SAMICBIS!$A$3:$E$500,5,FALSE)","v":{"$error":"#N/A"}},null,null,null,null,null,null,{"$f":"VLOOKUP(GQ61,SAMICBIS!$A$3:$E$500,5,FALSE)","v":{"$error":"#N/A"}},null,null,null,null,null,null,null,null,null,null,{"$f":"VLOOKUP(HB61,SAMICBIS!$A$3:$E$500,5,FALSE)","v":{"$error":"#N/A"}},null,null,null,null,null,null,{"$f":"VLOOKUP(HI61,SAMICBIS!$A$3:$E$500,5,FALSE)","v":{"$error":"#N/A"}},null,null,null,null,null,null,null,null,{"$f":"VLOOKUP(HR61,SAMICBIS!$A$3:$E$500,5,FALSE)","v":{"$error":"#N/A"}},null,null,null,null,null,null,{"$f":"VLOOKUP(HY61,SAMICBIS!$A$3:$E$500,5,FALSE)","v":{"$error":"#N/A"}},null,null,null,null,null,null,null,null,null,null,{"$f":"VLOOKUP(IJ61,SAMICBIS!$A$3:$E$500,5,FALSE)","v":{"$error":"#N/A"}},null,null,null,null,null,null,{"$f":"VLOOKUP(IQ61,SAMICBIS!$A$3:$E$500,5,FALSE)","v":{"$error":"#N/A"}},null,null,null,null,null,null,null,null,{"$f":"VLOOKUP(IZ61,SAMICBIS!$A$3:$E$500,5,FALSE)","v":{"$error":"#N/A"}},null,null,null,null,null,null,{"$f":"VLOOKUP(JG61,SAMICBIS!$A$3:$E$500,5,FALSE)","v":{"$error":"#N/A"}},null,null,null,null,null,null,null,null,null,null,{"$f":"VLOOKUP(JR61,SAMICBIS!$A$3:$E$500,5,FALSE)","v":{"$error":"#N/A"}},null,null,null,null,null,null,{"$f":"VLOOKUP(JY61,SAMICBIS!$A$3:$E$500,5,FALSE)","v":{"$error":"#N/A"}},null,null,null,null,null,null,null,null,{"$f":"VLOOKUP(KH61,SAMICBIS!$A$3:$E$500,5,FALSE)","v":{"$error":"#N/A"}},null,null,null,null,null,null,{"$f":"VLOOKUP(KO61,SAMICBIS!$A$3:$E$500,5,FALSE)","v":{"$error":"#N/A"}},null,null,null,null,null,null,null,null,null,null,{"$f":"VLOOKUP(KZ61,SAMICBIS!$A$3:$E$500,5,FALSE)","v":{"$error":"#N/A"}},null,null,null,null,null,null,{"$f":"VLOOKUP(LG61,SAMICBIS!$A$3:$E$500,5,FALSE)","v":{"$error":"#N/A"}},null,null,null,null,null,null,null,null,{"$f":"VLOOKUP(LP61,SAMICBIS!$A$3:$E$500,5,FALSE)","v":{"$error":"#N/A"}},null,null,null,null,null,null,{"$f":"VLOOKUP(LW61,SAMICBIS!$A$3:$E$500,5,FALSE)","v":{"$error":"#N/A"}},null,null,null,null,null,null,null,null,null,null,{"$f":"VLOOKUP(MH61,SAMICBIS!$A$3:$E$500,5,FALSE)","v":{"$error":"#N/A"}},null,null,null,null,null,null,{"$f":"VLOOKUP(MO61,SAMICBIS!$A$3:$E$500,5,FALSE)","v":{"$error":"#N/A"}},null,null,null,null,null,null,null,null,{"$f":"VLOOKUP(MX61,SAMICBIS!$A$3:$E$500,5,FALSE)","v":{"$error":"#N/A"}},null,null,null,null,null,null,{"$f":"VLOOKUP(NE61,SAMICBIS!$A$3:$E$500,5,FALSE)","v":{"$error":"#N/A"}},null,null,null,null,null,null,null,null,null,null,{"$f":"VLOOKUP(NP61,SAMICBIS!$A$3:$E$500,5,FALSE)","v":{"$error":"#N/A"}},null,null,null,null,null,null,{"$f":"VLOOKUP(NW61,SAMICBIS!$A$3:$E$500,5,FALSE)","v":{"$error":"#N/A"}},null,null,null,null,null,null,null,null,{"$f":"VLOOKUP(OF61,SAMICBIS!$A$3:$E$500,5,FALSE)","v":{"$error":"#N/A"}},null,null,null,null,null,null,{"$f":"VLOOKUP(OM61,SAMICBIS!$A$3:$E$500,5,FALSE)","v":{"$error":"#N/A"}},null,null,null,null,null,null,null,null,null,null,{"$f":"VLOOKUP(OX61,SAMICBIS!$A$3:$E$500,5,FALSE)","v":{"$error":"#N/A"}},null,null,null,null,null,null,{"$f":"VLOOKUP(PE61,SAMICBIS!$A$3:$E$500,5,FALSE)","v":{"$error":"#N/A"}},null,null,null,null,null,null,null,null,{"$f":"VLOOKUP(PN61,SAMICBIS!$A$3:$E$500,5,FALSE)","v":{"$error":"#N/A"}},null,null,null,null,null,null,{"$f":"VLOOKUP(PU61,SAMICBIS!$A$3:$E$500,5,FALSE)","v":{"$error":"#N/A"}},null,null,null,null,null,null,null,null,null,null,{"$f":"VLOOKUP(QF61,SAMICBIS!$A$3:$E$500,5,FALSE)","v":{"$error":"#N/A"}},null,null,null,null,null,null,{"$f":"VLOOKUP(QM61,SAMICBIS!$A$3:$E$500,5,FALSE)","v":{"$error":"#N/A"}},null,null,null,null,null,null,null,null,{"$f":"VLOOKUP(QV61,SAMICBIS!$A$3:$E$500,5,FALSE)","v":{"$error":"#N/A"}},null,null,null,null,null,null,{"$f":"VLOOKUP(RC61,SAMICBIS!$A$3:$E$500,5,FALSE)","v":{"$error":"#N/A"}},null,null,null,null,null,null,null,null,null,null,{"$f":"VLOOKUP(RN61,SAMICBIS!$A$3:$E$500,5,FALSE)","v":{"$error":"#N/A"}},null,null,null,null,null,null,{"$f":"VLOOKUP(RU61,SAMICBIS!$A$3:$E$500,5,FALSE)","v":{"$error":"#N/A"}},null,null,null,null,null,null,null,null,{"$f":"VLOOKUP(SD61,SAMICBIS!$A$3:$E$500,5,FALSE)","v":{"$error":"#N/A"}},null,null,null,null,null,null,{"$f":"VLOOKUP(SK61,SAMICBIS!$A$3:$E$500,5,FALSE)","v":{"$error":"#N/A"}},null,null,null,null,null,null,null,null,null,null,{"$f":"VLOOKUP(SV61,SAMICBIS!$A$3:$E$500,5,FALSE)","v":{"$error":"#N/A"}},null,null,null,null,null,null,{"$f":"VLOOKUP(TC61,SAMICBIS!$A$3:$E$500,5,FALSE)","v":{"$error":"#N/A"}},null,null,null,null,null,null,null,null,{"$f":"VLOOKUP(TL61,SAMICBIS!$A$3:$E$500,5,FALSE)","v":{"$error":"#N/A"}},null,null,null,null,null,null,{"$f":"VLOOKUP(TS61,SAMICBIS!$A$3:$E$500,5,FALSE)","v":{"$error":"#N/A"}},null,null,null,null,null,null,null,null,null,null,{"$f":"VLOOKUP(UD61,SAMICBIS!$A$3:$E$500,5,FALSE)","v":{"$error":"#N/A"}},null,null,null,null,null,null,{"$f":"VLOOKUP(UK61,SAMICBIS!$A$3:$E$500,5,FALSE)","v":{"$error":"#N/A"}},null,null,null,null,null,null,null,null,{"$f":"VLOOKUP(UT61,SAMICBIS!$A$3:$E$500,5,FALSE)","v":{"$error":"#N/A"}},null,null,null,null,null,null,{"$f":"VLOOKUP(VA61,SAMICBIS!$A$3:$E$500,5,FALSE)","v":{"$error":"#N/A"}},null,null,null,null,null,null,null,null,null,null,{"$f":"VLOOKUP(VL61,SAMICBIS!$A$3:$E$500,5,FALSE)","v":{"$error":"#N/A"}},null,null,null,null,null,null,{"$f":"VLOOKUP(VS61,SAMICBIS!$A$3:$E$500,5,FALSE)","v":{"$error":"#N/A"}},null,null,null,null,null,null,null,null,{"$f":"VLOOKUP(WB61,SAMICBIS!$A$3:$E$500,5,FALSE)","v":{"$error":"#N/A"}},null,null,null,null,null,null,{"$f":"VLOOKUP(WI61,SAMICBIS!$A$3:$E$500,5,FALSE)","v":{"$error":"#N/A"}},null,null,null,null,null,null,null,null,null,null,{"$f":"VLOOKUP(WT61,SAMICBIS!$A$3:$E$500,5,FALSE)","v":{"$error":"#N/A"}},null,null,null,null,null,null,{"$f":"VLOOKUP(XA61,SAMICBIS!$A$3:$E$500,5,FALSE)","v":{"$error":"#N/A"}},null,null,null,null,null,null,null,null,{"$f":"VLOOKUP(XJ61,SAMICBIS!$A$3:$E$500,5,FALSE)","v":{"$error":"#N/A"}},null,null,null,null,null,null,{"$f":"VLOOKUP(XQ61,SAMICBIS!$A$3:$E$500,5,FALSE)","v":{"$error":"#N/A"}},null,null,null,null,null,null,null,null,null,null,{"$f":"VLOOKUP(YB61,SAMICBIS!$A$3:$E$500,5,FALSE)","v":{"$error":"#N/A"}},null,null,null,null,null,null,{"$f":"VLOOKUP(YI61,SAMICBIS!$A$3:$E$500,5,FALSE)","v":{"$error":"#N/A"}},null,null,null,null,null,null,null,null,{"$f":"VLOOKUP(YR61,SAMICBIS!$A$3:$E$500,5,FALSE)","v":{"$error":"#N/A"}},null,null,null,null,null,null,{"$f":"VLOOKUP(YY61,SAMICBIS!$A$3:$E$500,5,FALSE)","v":{"$error":"#N/A"}},null,null,null,null,null,null,null,null,null,null,{"$f":"VLOOKUP(ZJ61,SAMICBIS!$A$3:$E$500,5,FALSE)","v":{"$error":"#N/A"}},null,null,null,null,null,null,{"$f":"VLOOKUP(ZQ61,SAMICBIS!$A$3:$E$500,5,FALSE)","v":{"$error":"#N/A"}},null,null,null,null,null,null,null,null,{"$f":"VLOOKUP(ZZ61,SAMICBIS!$A$3:$E$500,5,FALSE)","v":{"$error":"#N/A"}},null,null,null,null,null,null,{"$f":"VLOOKUP(AAG61,SAMICBIS!$A$3:$E$500,5,FALSE)","v":{"$error":"#N/A"}},null,null,null,null,null,null,null,null,null,null,{"$f":"VLOOKUP(AAR61,SAMICBIS!$A$3:$E$500,5,FALSE)","v":{"$error":"#N/A"}},null,null,null,null,null,null,{"$f":"VLOOKUP(AAY61,SAMICBIS!$A$3:$E$500,5,FALSE)","v":{"$error":"#N/A"}},null,null,null,null,null,null,null,null,{"$f":"VLOOKUP(ABH61,SAMICBIS!$A$3:$E$500,5,FALSE)","v":{"$error":"#N/A"}},null,null,null,null,null,null,{"$f":"VLOOKUP(ABO61,SAMICBIS!$A$3:$E$500,5,FALSE)","v":{"$error":"#N/A"}},null,null,null,null,null,null,null,null,null,null,{"$f":"VLOOKUP(ABZ61,SAMICBIS!$A$3:$E$500,5,FALSE)","v":{"$error":"#N/A"}},null,null,null,null,null,null,{"$f":"VLOOKUP(ACG61,SAMICBIS!$A$3:$E$500,5,FALSE)","v":{"$error":"#N/A"}},null,null,null,null,null,null,null,null,{"$f":"VLOOKUP(ACP61,SAMICBIS!$A$3:$E$500,5,FALSE)","v":{"$error":"#N/A"}},null,null,null,null,null,null,{"$f":"VLOOKUP(ACW61,SAMICBIS!$A$3:$E$500,5,FALSE)","v":{"$error":"#N/A"}},null,null,null,null,null,null,null,null,null,null,{"$f":"VLOOKUP(ADH61,SAMICBIS!$A$3:$E$500,5,FALSE)","v":{"$error":"#N/A"}},null,null,null,null,null,null,{"$f":"VLOOKUP(ADO61,SAMICBIS!$A$3:$E$500,5,FALSE)","v":{"$error":"#N/A"}},null,null,null,null,null,null,null,null,{"$f":"VLOOKUP(ADX61,SAMICBIS!$A$3:$E$500,5,FALSE)","v":{"$error":"#N/A"}},null,null,null,null,null,null,{"$f":"VLOOKUP(AEE61,SAMICBIS!$A$3:$E$500,5,FALSE)","v":{"$error":"#N/A"}}]

{"sheet":"MATCHSSCORE","index":9,"n_rows":23,"n_cols":27,"rows_kept":23,"cut":false,"hidden":false,"merged":[[1,3,1,5],[8,8,8,11],[12,0,13,0],[12,11,13,11],[15,0,16,0],[15,11,16,11],[9,0,10,0],[9,11,10,11],[1,8,1,9],[2,8,2,9],[3,8,3,9],[5,8,5,9],[4,8,4,9],[6,8,6,9],[2,3,2,4],[3,3,3,4],[36,0,37,0],[21,0,22,0],[21,11,22,11],[24,0,25,0],[27,0,28,0],[30,0,31,0],[33,0,34,0],[4,3,4,4],[5,3,5,4],[6,3,6,4],[18,0,19,0],[18,11,19,11]]}
[]
[null,{"$f":"ECHFMTELEVE!B2","v":"TELEC"},null,"Classement",null,null,null,"V","PTS GAGNES",null,"D","PTS PERDUS"]
[null,"Christophe",null,null,null,{"$f":"IF(D3=1,\"er\",\"ème\")","v":"ème"},null,null,{"$f":"IFERROR(VLOOKUP(B3,$B$10:$I$11,8,FALSE),0)+IFERROR(VLOOKUP(B3,$B$13:$I$14,8,FALSE),0)+IFERROR(VLOOKUP(B3,$B$16:$I$17,8,FALSE),0)+IFERROR(VLOOKUP(B3,$B$19:$I$20,8,FALSE),0)+IFERROR(VLOOKUP(B3,$B$22:$I$23,8,FALSE),0)+IFERROR(VLOOKUP(B3,$M$10:$T$11,8,FALSE),0)+IFERROR(VLOOKUP(B3,$M$13:$T$14,8,FALSE),0)+IFERROR(VLOOKUP(B3,$M$16:$T$17,8,FALSE),0)+IFERROR(VLOOKUP(B3,$M$19:$T$20,8,FALSE),0)+IFERROR(VLOOKUP(B3,$M$22:$T$23,8,FALSE),0)","v":0},null,null,{"$f":"IFERROR(VLOOKUP(B3,$B$10:$J$11,9,FALSE),0)+IFERROR(VLOOKUP(B3,$B$13:$J$14,9,FALSE),0)+IFERROR(VLOOKUP(B3,$B$16:$J$17,9,FALSE),0)+IFERROR(VLOOKUP(B3,$B$19:$J$20,9,FALSE),0)+IFERROR(VLOOKUP(B3,$B$22:$J$23,9,FALSE),0)+IFERROR(VLOOKUP(B3,$M$10:$U$11,9,FALSE),0)+IFERROR(VLOOKUP(B3,$M$13:$U$14,9,FALSE),0)+IFERROR(VLOOKUP(B3,$M$16:$U$17,9,FALSE),0)+IFERROR(VLOOKUP(B3,$M$19:$U$20,9,FALSE),0)+IFERROR(VLOOKUP(B3,$M$22:$U$23,9,FALSE),0)","v":0}]
[null,null,null,null,null,{"$f":"IF(D4=1,\"er\",\"ème\")","v":"ème"},null,null,{"$f":"IFERROR(VLOOKUP(B4,$B$10:$I$11,8,FALSE),0)+IFERROR(VLOOKUP(B4,$B$13:$I$14,8,FALSE),0)+IFERROR(VLOOKUP(B4,$B$16:$I$17,8,FALSE),0)+IFERROR(VLOOKUP(B4,$B$19:$I$20,8,FALSE),0)+IFERROR(VLOOKUP(B4,$B$22:$I$23,8,FALSE),0)+IFERROR(VLOOKUP(B4,$M$10:$T$11,8,FALSE),0)+IFERROR(VLOOKUP(B4,$M$13:$T$14,8,FALSE),0)+IFERROR(VLOOKUP(B4,$M$16:$T$17,8,FALSE),0)+IFERROR(VLOOKUP(B4,$M$19:$T$20,8,FALSE),0)+IFERROR(VLOOKUP(B4,$M$22:$T$23,8,FALSE),0)","v":0},null,null,{"$f":"IFERROR(VLOOKUP(B4,$B$10:$J$11,9,FALSE),0)+IFERROR(VLOOKUP(B4,$B$13:$J$14,9,FALSE),0)+IFERROR(VLOOKUP(B4,$B$16:$J$17,9,FALSE),0)+IFERROR(VLOOKUP(B4,$B$19:$J$20,9,FALSE),0)+IFERROR(VLOOKUP(B4,$B$22:$J$23,9,FALSE),0)+IFERROR(VLOOKUP(B4,$M$10:$U$11,9,FALSE),0)+IFERROR(VLOOKUP(B4,$M$13:$U$14,9,FALSE),0)+IFERROR(VLOOKUP(B4,$M$16:$U$17,9,FALSE),0)+IFERROR(VLOOKUP(B4,$M$19:$U$20,9,FALSE),0)+IFERROR(VLOOKUP(B4,$M$22:$U$23,9,FALSE),0)","v":0}]
[null,null,null,null,null,"ème",null,null,0,null,null,0]
[null,null,null,null,null,"ème",null,null,0,null,null,0]
[null,null,null,null,null,"ème",null,null,0,null,null,0]
[]
[null,null,null,"1er SET",null,"2ème SET",null,"3ème SET",null,null,null,null,null,null,"1er SET",null,"2ème SET",null,"3ème SET",null,null,null,0]
["MATCH 1",{"$f":"B3","v":"Christophe"},null,null,null,null,null,null,{"$f":"SUM(D10:H10)","v":0},{"$f":"I11","v":0},null,"MATCH 2",{"$f":"B5","v":0},null,null,null,null,null,null,{"$f":"SUM(O10:S10)","v":0},{"$f":"T11","v":0},null,1,null,null,null,"1er"]
[null,{"$f":"B4","v":0},null,null,null,null,null,null,{"$f":"SUM(D11:H11)","v":0},{"$f":"I10","v":0},null,null,{"$f":"B6","v":0},null,null,null,null,null,null,{"$f":"SUM(O11:S11)","v":0},{"$f":"T10","v":0},null,2,null,null,null,"2ème"]
[null,null,null,"1er SET",null,"2ème SET",null,"3ème SET",null,null,null,null,null,null,"1er SET",null,"2ème SET",null,"3ème SET",null,null,null,3,null,null,null,"3ème"]
["MATCH 3",{"$f":"B3","v":"Christophe"},null,null,null,null,null,null,{"$f":"SUM(D13:H13)","v":0},{"$f":"I14","v":0},null,"MATCH 4",{"$f":"B4","v":0},null,null,null,null,null,null,{"$f":"SUM(O13:S13)","v":0},{"$f":"T14","v":0},null,4,null,null,null,"4ème"]
[null,{"$f":"B7","v":0},null,null,null,null,null,null,{"$f":"SUM(D14:H14)","v":0},{"$f":"I13","v":0},null,null,{"$f":"B5","v":0},null,null,null,null,null,null,{"$f":"SUM(O14:S14)","v":0},{"$f":"T13","v":0},null,5,null,null,null,"5ème"]
[null,null,null,"1er SET",null,"2ème SET",null,"3ème SET",null,null,null,null,null,null,"1er SET",null,"2ème SET",null,"3ème SET",null,null,null,6]
["MATCH 5",{"$f":"B6","v":0},null,null,null,null,null,null,{"$f":"SUM(D16:H16)","v":0},{"$f":"I17","v":0},null,"MATCH 6",null,null,null,null,null,null,null,{"$f":"SUM(O16:S16)","v":0},{"$f":"T17","v":0},null,7]
[null,{"$f":"B7","v":0},null,null,null,null,null,null,{"$f":"SUM(D17:H17)","v":0},{"$f":"I16","v":0},null,null,null,null,null,null,null,null,null,{"$f":"SUM(O17:S17)","v":0},{"$f":"T16","v":0},null,8]
[null,null,null,"1er SET",null,"2ème SET",null,"3ème SET",null,null,null,null,null,null,"1er SET",null,"2ème SET",null,"3ème SET",null,null,null,9]
["MATCH 7",null,null,null,null,null,null,null,{"$f":"SUM(D19:H19)","v":0},{"$f":"I20","v":0},null,"MATCH 8",null,null,null,null,null,null,null,{"$f":"SUM(O19:S19)","v":0},{"$f":"T20","v":0},null,10]
[null,null,null,null,null,null,null,null,{"$f":"SUM(D20:H20)","v":0},{"$f":"I19","v":0},null,null,null,null,null,null,null,null,null,{"$f":"SUM(O20:S20)","v":0},{"$f":"T19","v":0},null,11]
[null,null,null,"1er SET",null,"2ème SET",null,"3ème SET",null,null,null,null,null,null,"1er SET",null,"2ème SET",null,"3ème SET",null,null,null,0]
["MATCH 9",null,null,null,null,null,null,null,{"$f":"SUM(D22:H22)","v":0},{"$f":"I23","v":0},null,"MATCH 10",null,null,null,null,null,null,null,{"$f":"SUM(O22:S22)","v":0},{"$f":"T23","v":0}]
[null,null,null,null,null,null,null,null,{"$f":"SUM(D23:H23)","v":0},{"$f":"I22","v":0},null,null,null,null,null,null,null,null,null,{"$f":"SUM(O23:S23)","v":0},{"$f":"T22","v":0}]

{"sheet":"SUIVI TACTIQUE","index":10,"n_rows":23,"n_cols":64,"rows_kept":23,"cut":false,"hidden":false,"merged":[[8,1,9,1],[11,1,12,1],[14,1,15,1],[17,1,18,1],[5,1,6,1],[3,33,3,37],[3,38,3,42],[3,3,3,7],[3,8,3,12],[3,13,3,17],[3,18,3,22],[3,23,3,27],[3,28,3,32]]}
[]
[null,{"$f":"ECHFMTELEVE!B2","v":"TELEC"},null,null,null,null,null,null,null,null,null,null,null,null,null,null,null,null,null,null,null,null,null,null,null,null,null,null,null,null,null,null,null,null,null,null,null,null,null,null,null,null,null,null,null,null,null,null,null,null,null,null,null,"Prénom incrémenté","Prénom","Tactique avant match","Tactique travaillée","N°incrémentation"]
[null,null,null,null,null,null,null,null,null,null,null,null,null,null,null,null,null,null,null,null,null,null,null,null,null,null,null,null,null,null,null,null,null,null,null,null,null,null,null,null,null,null,null,null,null,null,null,null,null,null,null,null,null,{"$f":"BC3&\"_\"&BF3","v":"0_"},{"$f":"'MATCHS STRATEGIQUES'!F$2","v":0},{"$f":"'MATCHS STRATEGIQUES'!F$8","v":0},{"$f":"'MATCHS STRATEGIQUES'!F$57","v":0},{"$f":"IF(BC3<>0,COUNTIF($BC$3:BC3,BC3),\"\")","v":""}]
[null,null,"STRATEGIE",{"$f":"DEBUT!AC3","v":"Renvoyer"},null,null,null,null,{"$f":"DEBUT!AH3","v":"Jouer sur la largeur"},null,null,null,null,{"$f":"DEBUT!AM3","v":"Jouer sur la profondeur"},null,null,null,null,{"$f":"DEBUT!AR3","v":"Jouer aux 4 coins"},null,null,null,null,{"$f":"DEBUT!AW3","v":"Jouer fort-tendu"},null,null,null,null,{"$f":"DEBUT!BB3","v":"Smasher dès que possible"},null,null,null,null,{"$f":"DEBUT!BG3","v":"Jouer sur le point faible de l'adversaire"},null,null,null,null,{"$f":"DEBUT!BL3","v":"Défendre, attendre, contrer"},null,null,null,null,null,null,null,null,null,null,null,null,null,null,{"$f":"BC4&\"_\"&BF4","v":"0_"},{"$f":"'MATCHS STRATEGIQUES'!M$2","v":0},{"$f":"'MATCHS STRATEGIQUES'!M$8","v":0},{"$f":"'MATCHS STRATEGIQUES'!M$57","v":0},{"$f":"IF(BC4<>0,COUNTIF($BC$3:BC4,BC4),\"\")","v":""},null,null,1,"chiffre","choix tactique/match","choix tactique/à travailler"]
[null,null,"TACTIQUE",{"$f":"IF(DEBUT!AC4=0,\"\",DEBUT!AC4)","v":"Je renvoie les volants au centre comme je peux"},{"$f":"IF(DEBUT!AD4=0,\"\",DEBUT!AD4)","v":"Je renvoie en cloche le plus haut possible"},{"$f":"IF(DEBUT!AE4=0,\"\",DEBUT!AE4)","v":""},{"$f":"IF(DEBUT!AF4=0,\"\",DEBUT!AF4)","v":""},{"$f":"IF(DEBUT!AG4=0,\"\",DEBUT!AG4)","v":""},{"$f":"IF(DEBUT!AH4=0,\"\",DEBUT!AH4)","v":"Je fixe d'un côté pour jouer de l'autre"},{"$f":"IF(DEBUT!AI4=0,\"\",DEBUT!AI4)","v":""},{"$f":"IF(DEBUT!AJ4=0,\"\",DEBUT!AJ4)","v":""},{"$f":"IF(DEBUT!AK4=0,\"\",DEBUT!AK4)","v":""},{"$f":"IF(DEBUT!AL4=0,\"\",DEBUT!AL4)","v":""},{"$f":"IF(DEBUT!AM4=0,\"\",DEBUT!AM4)","v":"Fixer long pour empêcher le replacement et amortir"},{"$f":"IF(DEBUT!AN4=0,\"\",DEBUT!AN4)","v":"Fixer court pour empêcher le replacement et lober "},{"$f":"IF(DEBUT!AO4=0,\"\",DEBUT!AO4)","v":"Alterner jouer long et court , fatiguer / contre pied"},{"$f":"IF(DEBUT!AP4=0,\"\",DEBUT!AP4)","v":""},{"$f":"IF(DEBUT!AQ4=0,\"\",DEBUT!AQ4)","v":""},{"$f":"IF(DEBUT!AR4=0,\"\",DEBUT!AR4)","v":"Rechercher des lignes de déplacement brisées "},{"$f":"IF(DEBUT!AS4=0,\"\",DEBUT!AS4)","v":"Rechercher des lignes de déplacement brisées en insistant soit long soit court"},{"$f":"IF(DEBUT!AT4=0,\"\",DEBUT!AT4)","v":"Induire le doute en jouant proche des lignes"},{"$f":"IF(DEBUT!AU4=0,\"\",DEBUT!AU4)","v":""},{"$f":"IF(DEBUT!AV4=0,\"\",DEBUT!AV4)","v":""},{"$f":"IF(DEBUT!AW4=0,\"\",DEBUT!AW4)","v":"prendre de vitesse dès le service"},{"$f":"IF(DEBUT!AX4=0,\"\",DEBUT!AX4)","v":"jouer à plat "},{"$f":"IF(DEBUT!AY4=0,\"\",DEBUT!AY4)","v":"jouer sur l’adversaire plutôt au niveau de la main"},{"$f":"IF(DEBUT!AZ4=0,\"\",DEBUT!AZ4)","v":""},{"$f":"IF(DEBUT!BA4=0,\"\",DEBUT!BA4)","v":""},{"$f":"IF(DEBUT!BB4=0,\"\",DEBUT!BB4)","v":"descendre tous les volants (smash et amorti) pour rechercher un défense mi- court favorable au smash gagnant "},{"$f":"IF(DEBUT!BC4=0,\"\",DEBUT!BC4)","v":"Jouer en dégagé défensif (sur revers adverse) pour empêcher l’attaque adverse et avancer pour smasher dès que possible."},{"$f":"IF(DEBUT!BD4=0,\"\",DEBUT!BD4)","v":"Jouer au centre long/court pour ne pas ouvrir d’angle et pouvoir smasher rapidement."},{"$f":"IF(DEBUT!BE4=0,\"\",DEBUT!BE4)","v":""},{"$f":"IF(DEBUT!BF4=0,\"\",DEBUT!BF4)","v":""},{"$f":"IF(DEBUT!BG4=0,\"\",DEBUT!BG4)","v":""},{"$f":"IF(DEBUT!BH4=0,\"\",DEBUT!BH4)","v":""},{"$f":"IF(DEBUT!BI4=0,\"\",DEBUT!BI4)","v":""},{"$f":"IF(DEBUT!BJ4=0,\"\",DEBUT!BJ4)","v":""},{"$f":"IF(DEBUT!BK4=0,\"\",DEBUT!BK4)","v":""},{"$f":"IF(DEBUT!BL4=0,\"\",DEBUT!BL4)","v":"Jouer en dégagé pour\nrechercher des volants adverse descendant afin de contrer en blocks ou contre- amortis."},{"$f":"IF(DEBUT!BM4=0,\"\",DEBUT!BM4)","v":"Jouer sans prise de risque, souventlongetsurrevers afin d’attendre la faute de l’adversaire"},{"$f":"IF(DEBUT!BN4=0,\"\",DEBUT!BN4)","v":"Alterner dégagé défensif et offensif sans prendre de risque»"},{"$f":"IF(DEBUT!BO4=0,\"\",DEBUT!BO4)","v":""},{"$f":"IF(DEBUT!BP4=0,\"\",DEBUT!BP4)","v":""},null,null,null,null,null,null,null,null,null,null,"0_",{"$f":"'MATCHS STRATEGIQUES'!V$2","v":0},{"$f":"'MATCHS STRATEGIQUES'!V$8","v":0},{"$f":"'MATCHS STRATEGIQUES'!V$57","v":0},{"$f":"IF(BC5<>0,COUNTIF($BC$3:BC5,BC5),\"\")","v":""}]
[null,"Alpha Oumar","Niveau de maitrise",null,null,null,null,null,null,null,null,null,null,null,null,null,null,null,null,null,null,null,null,null,null,null,null,null,null,null,null,null,null,null,null,null,null,null,null,null,null,null,null,null,null,null,null,null,null,null,null,null,null,"0_",{"$f":"'MATCHS STRATEGIQUES'!AC$2","v":0},{"$f":"'MATCHS STRATEGIQUES'!AC$8","v":0},{"$f":"'MATCHS STRATEGIQUES'!AC$57","v":0},{"$f":"IF(BC6<>0,COUNTIF($BC$3:BC6,BC6),\"\")","v":""}]
[null,null,"Entrainement",null,null,null,null,null,null,null,null,null,null,null,null,null,null,null,null,null,null,null,null,null,null,null,null,null,null,null,null,null,null,null,null,null,null,null,null,null,null,null,null,null,null,null,null,null,null,null,null,null,null,"n°1_1",{"$f":"'MATCHS STRATEGIQUES'!AM$2","v":"n°1"},{"$f":"'MATCHS STRATEGIQUES'!AM$8","v":0},{"$f":"'MATCHS STRATEGIQUES'!AM$57","v":0},{"$f":"IF(BC7<>0,COUNTIF($BC$3:BC7,BC7),\"\")","v":1}]
[null,null,null,null,null,null,null,null,null,null,null,null,null,null,null,null,null,null,null,null,null,null,null,null,null,null,null,null,null,null,null,null,null,null,null,null,null,null,null,null,null,null,null,null,null,null,null,null,null,null,null,null,null,"_",null,null,null,{"$f":"IF(BC8<>0,COUNTIF($BC$3:BC8,BC8),\"\")","v":""}]
[null,null,"Niveau de maitrise",null,null,null,null,null,null,null,null,null,null,null,null,null,null,null,null,null,null,null,null,null,null,null,null,null,null,null,null,null,null,null,null,null,null,null,null,null,null,null,null,null,null,null,null,null,null,null,null,null,null,{"$f":"BC9&\"_\"&BF9","v":"0_"},{"$f":"'MATCHS STRATEGIQUES'!AC$2","v":0},{"$f":"'MATCHS STRATEGIQUES'!AC$8","v":0},{"$f":"'MATCHS STRATEGIQUES'!AC$57","v":0},{"$f":"IF(BC9<>0,COUNTIF($BC$3:BC9,BC9),\"\")","v":""}]
[null,null,"Entrainement",null,null,null,null,null,null,null,null,null,null,null,null,null,null,null,null,null,null,null,null,null,null,null,null,null,null,null,null,null,null,null,null,null,null,null,null,null,null,null,null,null,null,null,null,null,null,null,null,null,null,"n°1_2",{"$f":"'MATCHS STRATEGIQUES'!AM$2","v":"n°1"},{"$f":"'MATCHS STRATEGIQUES'!AM$8","v":0},{"$f":"'MATCHS STRATEGIQUES'!AM$57","v":0},{"$f":"IF(BC10<>0,COUNTIF($BC$3:BC10,BC10),\"\")","v":2}]
[null,null,null,null,null,null,null,null,null,null,null,null,null,null,null,null,null,null,null,null,null,null,null,null,null,null,null,null,null,null,null,null,null,null,null,null,null,null,null,null,null,null,null,null,null,null,null,null,null,null,null,null,null,"_",null,null,null,{"$f":"IF(BC11<>0,COUNTIF($BC$3:BC11,BC11),\"\")","v":""}]
[null,null,"Niveau de maitrise",null,null,null,null,null,null,null,null,null,null,null,null,null,null,null,null,null,null,null,null,null,null,null,null,null,null,null,null,null,null,null,null,null,null,null,null,null,null,null,null,null,null,null,null,null,null,null,null,null,null,{"$f":"BC12&\"_\"&BF12","v":"0_"},{"$f":"'MATCHS STRATEGIQUES'!AC$2","v":0},{"$f":"'MATCHS STRATEGIQUES'!AC$8","v":0},{"$f":"'MATCHS STRATEGIQUES'!AC$57","v":0},{"$f":"IF(BC12<>0,COUNTIF($BC$3:BC12,BC12),\"\")","v":""}]
[null,null,"Entrainement",null,null,null,null,null,null,null,null,null,null,null,null,null,null,null,null,null,null,null,null,null,null,null,null,null,null,null,null,null,null,null,null,null,null,null,null,null,null,null,null,null,null,null,null,null,null,null,null,null,null,"n°1_3",{"$f":"'MATCHS STRATEGIQUES'!AM$2","v":"n°1"},{"$f":"'MATCHS STRATEGIQUES'!AM$8","v":0},{"$f":"'MATCHS STRATEGIQUES'!AM$57","v":0},{"$f":"IF(BC13<>0,COUNTIF($BC$3:BC13,BC13),\"\")","v":3}]
[null,null,null,null,null,null,null,null,null,null,null,null,null,null,null,null,null,null,null,null,null,null,null,null,null,null,null,null,null,null,null,null,null,null,null,null,null,null,null,null,null,null,null,null,null,null,null,null,null,null,null,null,null,"_",null,null,null,{"$f":"IF(BC14<>0,COUNTIF($BC$3:BC14,BC14),\"\")","v":""}]
[null,null,"Niveau de maitrise",null,null,null,null,null,null,null,null,null,null,null,null,null,null,null,null,null,null,null,null,null,null,null,null,null,null,null,null,null,null,null,null,null,null,null,null,null,null,null,null,null,null,null,null,null,null,null,null,null,null,{"$f":"BC15&\"_\"&BF15","v":"0_"},{"$f":"'MATCHS STRATEGIQUES'!AC$2","v":0},{"$f":"'MATCHS STRATEGIQUES'!AC$8","v":0},{"$f":"'MATCHS STRATEGIQUES'!AC$57","v":0},{"$f":"IF(BC15<>0,COUNTIF($BC$3:BC15,BC15),\"\")","v":""}]
[null,null,"Entrainement",null,null,null,null,null,null,null,null,null,null,null,null,null,null,null,null,null,null,null,null,null,null,null,null,null,null,null,null,null,null,null,null,null,null,null,null,null,null,null,null,null,null,null,null,null,null,null,null,null,null,"n°1_4",{"$f":"'MATCHS STRATEGIQUES'!AM$2","v":"n°1"},{"$f":"'MATCHS STRATEGIQUES'!AM$8","v":0},{"$f":"'MATCHS STRATEGIQUES'!AM$57","v":0},{"$f":"IF(BC16<>0,COUNTIF($BC$3:BC16,BC16),\"\")","v":4}]
[null,null,null,null,null,null,null,null,null,null,null,null,null,null,null,null,null,null,null,null,null,null,null,null,null,null,null,null,null,null,null,null,null,null,null,null,null,null,null,null,null,null,null,null,null,null,null,null,null,null,null,null,null,"_",null,null,null,{"$f":"IF(BC17<>0,COUNTIF($BC$3:BC17,BC17),\"\")","v":""}]
[null,null,"Niveau de maitrise",null,null,null,null,null,null,null,null,null,null,null,null,null,null,null,null,null,null,null,null,null,null,null,null,null,null,null,null,null,null,null,null,null,null,null,null,null,null,null,null,null,null,null,null,null,null,null,null,null,null,{"$f":"BC18&\"_\"&BF18","v":"0_"},{"$f":"'MATCHS STRATEGIQUES'!AC$2","v":0},{"$f":"'MATCHS STRATEGIQUES'!AC$8","v":0},{"$f":"'MATCHS STRATEGIQUES'!AC$57","v":0},{"$f":"IF(BC18<>0,COUNTIF($BC$3:BC18,BC18),\"\")","v":""}]
[null,null,"Entrainement",null,null,null,null,null,null,null,null,null,null,null,null,null,null,null,null,null,null,null,null,null,null,null,null,null,null,null,null,null,null,null,null,null,null,null,null,null,null,null,null,null,null,null,null,null,null,null,null,null,null,"n°1_5",{"$f":"'MATCHS STRATEGIQUES'!AM$2","v":"n°1"},{"$f":"'MATCHS STRATEGIQUES'!AM$8","v":0},{"$f":"'MATCHS STRATEGIQUES'!AM$57","v":0},{"$f":"IF(BC19<>0,COUNTIF($BC$3:BC19,BC19),\"\")","v":5}]
[null,null,null,null,null,null,null,null,null,null,null,null,null,null,null,null,null,null,null,null,null,null,null,null,null,null,null,null,null,null,null,null,null,null,null,null,null,null,null,null,null,null,null,null,null,null,null,null,null,null,null,null,null,"_",null,null,null,{"$f":"IF(BC20<>0,COUNTIF($BC$3:BC20,BC20),\"\")","v":""}]
[null,null,null,null,null,null,null,null,null,null,null,null,null,null,null,null,null,null,null,null,null,null,null,null,null,null,null,null,null,null,null,null,null,null,null,null,null,null,null,null,null,null,null,null,null,null,null,null,null,null,null,null,null,"_",null,null,null,{"$f":"IF(BC21<>0,COUNTIF($BC$3:BC21,BC21),\"\")","v":""}]
[null,null,null,null,null,null,null,null,null,null,null,null,null,null,null,null,null,null,null,null,null,null,null,null,null,null,null,null,null,null,null,null,null,null,null,null,null,null,null,null,null,null,null,null,null,null,null,null,null,null,null,null,null,"_",null,null,null,{"$f":"IF(BC22<>0,COUNTIF($BC$3:BC22,BC22),\"\")","v":""}]
[null,null,null,null,null,null,null,null,null,null,null,null,null,null,null,null,null,null,null,null,null,null,null,null,null,null,null,null,null,null,null,null,null,null,null,null,null,null,null,null,null,null,null,null,null,null,null,null,null,null,null,null,null,"_",null,null,null,{"$f":"IF(BC23<>0,COUNTIF($BC$3:BC23,BC23),\"\")","v":""}]

{"sheet":"APPEL","index":11,"n_rows":38,"n_cols":28,"rows_kept":38,"cut":false,"hidden":false,"merged":[[0,22,0,23],[0,25,0,26],[0,1,0,2],[0,4,0,5],[0,7,0,8],[0,10,0,11],[0,13,0,14],[0,16,0,17],[0,19,0,20]]}
[null,"1MCV",null,null,"1META",null,null,"2MGATL",null,null,"3PM",null,null,"TELEC",null,null,"TEPC",null,null,"TMCV",null,null,"TMELEC"]
[null,"NOMS","PRENOMS","sexe","NOMS","PRENOMS","sexe","NOMS","PRENOMS","sexe","NOMS","PRENOMS","sexe","NOMS","PRENOMS","sexe","NOMS","PRENOMS","sexe","NOMS","PRENOMS","sexe","NOMS","PRENOMS","sexe","NOMS","PRENOMS","sexe"]
[1,null,"Agnesa",null,null,"Alhassane",null,null,"Abdelnour",null,null,"Abdifatah",null,null,"Al Hassane",null,null,"Adinani",null,null,"Agnès",null,null,"Allan"]
[2,null,"Aicha",null,null,"Alidou",null,null,"Açelya",null,null,"Ahmed",null,null,"Christophe",null,null,"Alexandra",null,null,"Alicia",null,null,"Durmus"]
[3,null,"Aida",null,null,"Chouayeb",null,null,"Adgy",null,null,"Alyssia",null,null,"Jama",null,null,"Amel",null,null,"Anjesa",null,null,"Ilias"]
[4,null,"Amelys",null,null,"Fares",null,null,"Ayoub",null,null,"Angelina",null,null,"Luciano Helio",null,null,"Anass",null,null,"Aya",null,null,"Ilyes"]
[5,null,"Aminata",null,null,"Idris",null,null,"Beqir",null,null,"Ardian",null,null,"Mohamed",null,null,"Aysel",null,null,"Aydn",null,null,"Lucas"]
[6,null,"Aziza",null,null,"Ilyes",null,null,"Caméllia",null,null,"Arthur",null,null,"Moussa",null,null,"Deborah",null,null,"Bilel H",null,null,"Mehdi"]
[7,null,"Chaima",null,null,"Mady",null,null,"Carole",null,null,"Bouchra",null,null,"Nadhir",null,null,"Dora Sarah",null,null,"Bilel S",null,null,"Mohamed"]
[8,null,"Elhamna",null,null,"Marwane",null,null,"Carole",null,null,"Djelali",null,null,"Sami",null,null,"Esma",null,null,"Djibril",null,null,"Mouhamed Anis"]
[9,null,"Enzo",null,null,"Mohamed",null,null,"Dicko",null,null,"Emmy",null,null,"Soumaïla",null,null,"Francis",null,null,"Emma",null,null,"Rayan"]
[10,null,"Fadia",null,null,"Yanis",null,null,"Dirvine",null,null,"Emré",null,null,null,null,null,"Ines",null,null,"Fatima",null,null,"Sabri"]
[11,null,"Fella",null,null,null,null,null,"Dora",null,null,"Farah",null,null,null,null,null,"Jessica",null,null,"Hafsa",null,null,"Sami"]
[12,null,"Filipa",null,null,null,null,null,"Elyna",null,null,"Hanan",null,null,null,null,null,"Kamila",null,null,"Hamza",null,null,"Selmedin"]
[13,null,"Halima",null,null,null,null,null,"Enzo",null,null,"Hanniya",null,null,null,null,null,"Marie",null,null,"Hichima",null,null,"Ulisses Joao"]
[14,null,"Hawa",null,null,null,null,null,"Faoulat",null,null,"Imran",null,null,null,null,null,"Medhi M",null,null,"Hosna"]
[15,null,"Lyna",null,null,null,null,null,"Hadidja",null,null,"Kays",null,null,null,null,null,"Mehdi D",null,null,"Ibrahim"]
[16,null,"Mano",null,null,null,null,null,"Houaïda",null,null,"Kendra",null,null,null,null,null,"Myriam",null,null,"Jessica"]
[17,null,"Meliana",null,null,null,null,null,"Jade",null,null,"Kenzi",null,null,null,null,null,"Nassim",null,null,"Lakhdar"]
[18,null,"Naïm",null,null,null,null,null,"Johvany",null,null,"Leo",null,null,null,null,null,"Rawaa",null,null,"Mirza"]
[19,null,"Nassim M",null,null,null,null,null,"Lina",null,null,"Lilya",null,null,null,null,null,"Riddy",null,null,"Mounir"]
[20,null,"Nassime B",null,null,null,null,null,"Lydia",null,null,"Melissa",null,null,null,null,null,"Sanoussy",null,null,"Yusuf"]
[21,null,"Océane",null,null,null,null,null,"Maëva",null,null,"Rahma",null,null,null,null,null,"Yusuf-Ayaz",null,null,"Naima"]
[22,null,"Ounaïssi",null,null,null,null,null,"Maïssa",null,null,"Steven",null,null,null,null,null,"Jama",null,null,"Noémie"]
[23,null,"Paloma",null,null,null,null,null,"Megi",null,null,"Theo",null,null,null,null,null,null,null,null,"Noha"]
[24,null,"Sabri",null,null,null,null,null,"Saliha",null,null,null,null,null,null,null,null,null,null,null,"Sirine"]
[25,null,"Safyia",null,null,null,null,null,"Saoussen",null,null,null,null,null,null,null,null,null,null,null,"Tasnim"]
[26,null,"Salah",null,null,null,null,null,"Sarah"]
[27,null,"Sarah",null,null,null,null,null,"Shayma"]
[28,null,"Sifora",null,null,null,null,null,"Sirdt"]
[29,null,"Tom",null,null,null,null,null,"Soumaya"]
[30,null,"Wafa",null,null,null,null,null,"Süeda"]
[31,null,"Younès",null,null,null,null,null,"Tchelsy"]
[32,null,"Zayd",null,null,null,null,null,"Tiago"]
[33,null,"Zine",null,null,null,null,null,"Yasna"]
[34,null,null,null,null,null,null,null,"Zineddine"]
[35]
[36]

{"sheet":"DEBUT","index":12,"n_rows":49,"n_cols":108,"rows_kept":49,"cut":false,"hidden":false,"merged":[[81,2,86,2],[87,2,91,2],[43,1,49,1],[50,1,57,1],[50,2,51,2],[52,2,53,2],[68,2,71,2],[72,2,75,2],[76,2,78,2],[62,4,62,6],[62,7,62,9],[62,10,62,12],[28,10,28,12],[28,7,28,9],[2,53,2,57],[2,58,2,62],[2,63,2,67],[32,26,47,26],[2,28,2,32],[2,33,2,37],[2,38,2,42],[2,43,2,47],[2,48,2,52],[1,25,2,26],[3,25,3,26]]}
["ECHAUFFEMENT","Parties ","Consignes","Durée","Logique","Parties ","Consignes","Durée","Logique","Parties ","Consignes","Durée","Logique",null,null,null,null,"COUPS - TACTIQUES - STRATEGIES ",null,null,null,null,null,null,null,null,null,null,null,null,null,null,null,null,null,null,null,null,1,2,3,null,null,4,5,6,null,null,7,8,9,null,null,10,11,12,null,null,null,null,null,null,null,13,14,15]
["ECHAUFFEMENT détaillé","Echauffement cardio-pulmonaire","3 A-R course / Montée genoux / Talons fesses / Pas chassés / Pas croisés / Flexions / Extensions / Course arrière / Appuis arrières / Accélération progressive (60% - 70% - 80% - 90%)","5 min","Progressivité / Complet / ","Mobilisation articulaire","Cou / Epaules / Coudes / Poignets / Bassin / Genoux / Chevilles","3 min","Du haut vers le bas","Etirements dynamiques","Triceps / Biceps / Epaules / Adducteurs / ischios / Quadriceps / Mollets","3 min","Du haut vers le bas / Tenir 7\"actif + \n4\" mouvement dynamique",null,null,null,null,"MON POINT FORT","N1","N2","N3","N4",null,null,null,"Indiquer sur cette ligne les thèmes de travail ->",null,null,"S1",null,null,null,null,"S2",null,null,null,null,"S3",null,null,null,null,"S4",null,null,null,null,"S5",null,null,null,null,"S6",null,null,null,null,"S7",null,null,null,null,"S8",null,null,null,null,null,null,"Zones ou coups interdits","Zone avant interdite","Zone arrière interdite","Zones avant et arrière interdites","Zone mi-court interdite","4 coins interdits","2 coins arrières interdits","2 coins avant interdits","1 coin avant - 1 coin arrière interdits","Carré central interdit","Zones centrales latérales interdites","Zones latérales interdites","smash interdit","Service flick interdit","dégagé interdit","amorti interdit",null,null,null,null,null,null,"Zones ou coups dangereux","Zone avant","Zone arrière","Zones avant et arrière","Zone mi-court","4 coins","2 coins arrières","2 coins avant","1 coin avant - 1 coin arrière","Carré central","Zones centrales latérales","Zones latérales","smash","Service flick","dégagé","amorti"]
["ECHAUFFEMENT simplifié","Echauffement cardio-pulmonaire","Ne pas oublier tous les exercices en finissant par des accélérations progressives","5 min",null,"Mobilisation articulaire","Commencer par le haut ou le bas pour ne rien oublier","3 min",null,"Etirements","Essayer d'associer un étirement actif avec un mouvement dynamique","3 min",null,null,null,null,0,"POINTS FORTS-FAIBLES-PREFERES",null,null,null,null,null,null,null,null,null,"STRATEGIE","Renvoyer",null,null,null,null,"Jouer sur la largeur",null,null,null,null,"Jouer sur la profondeur",null,null,null,null,"Jouer aux 4 coins",null,null,null,null,"Jouer fort-tendu",null,null,null,null,"Smasher dès que possible",null,null,null,null,"Jouer sur le point faible de l'adversaire",null,null,null,null,"Défendre, attendre, contrer",null,null,null,null,"Déplacement","Travail technique",1,null,"x","x",null,"x","x",null,"x",null,null,"x",null,null,null,null,null,null,null,null,null,null,1,null,"x","x",null,"x","x",null,"x",null,null,"x"]
["ECHAUFFEMENT-grandes parties","Echauffement cardio-pulmonaire",null,null,null,"Mobilisation articulaire",null,null,null,"Etirements",null,null,null,null,null,null,1,"SERVICE",null,null,null,null,null,null,null,"qui se reporteront en bas du tableau de gauche \n<-",null,"TACTIQUE","Je renvoie les volants au centre comme je peux","Je renvoie en cloche le plus haut possible",null,null,null,"Je fixe d'un côté pour jouer de l'autre",null,null,null,null,"Fixer long pour empêcher le replacement et amortir","Fixer court pour empêcher le replacement et lober ","Alterner jouer long et court , fatiguer / contre pied",null,null,"Rechercher des lignes de déplacement brisées ","Rechercher des lignes de déplacement brisées en insistant soit long soit court","Induire le doute en jouant proche des lignes",null,null,"prendre de vitesse dès le service","jouer à plat ","jouer sur l’adversaire plutôt au niveau de la main",null,null,"descendre tous les volants (smash et amorti) pour rechercher un défense mi- court favorable au smash gagnant ","Jouer en dégagé défensif (sur revers adverse) pour empêcher l’attaque adverse et avancer pour smasher dès que possible.","Jouer au centre long/court pour ne pas ouvrir d’angle et pouvoir smasher rapidement.",null,null,null,null,null,null,null,"Jouer en dégagé pour\nrechercher des volants adverse descendant afin de contrer en blocks ou contre- amortis.","Jouer sans prise de risque, souventlongetsurrevers afin d’attendre la faute de l’adversaire","Alterner dégagé défensif et offensif sans prendre de risque»",null,null,null,null,2,null,"x","x","x","x","x",null,"x",null,"x","x",null,null,null,null,null,null,null,null,null,null,2,null,"X","X","x","X","X",null,null,null,"x","x"]
["ECHAUFFEMENT ritualisé",null,null,null,null,null,null,null,null,null,null,null,null,null,null,null,2,"AMORTI",null,null,null,null,null,null,null,null,null,"INDICATEUR DE REUSSITE","Point direct en zone ou point gagné avec volant touché en zone dangereuse.","Point direct en zone ou point gagné avec volant touché en zone dangereuse.",null,null,null,"Point direct en zone ou point gagné avec volant touché en zone dangereuse.",null,null,null,null,"Point direct en zone ou point gagné avec volant touché en zone dangereuse.","Point direct en zone ou point gagné avec volant touché en zone dangereuse.","Point direct en zone ou point gagné avec volant touché en zone dangereuse.",null,null,"Point direct en zone ou point gagné avec volant touché en zone dangereuse.","Point direct en zone ou point gagné avec volant touché en zone dangereuse.","Point direct en zone ou point gagné avec volant touché en zone dangereuse.",null,null,"Je gagne en un ou deux coups.","Point direct en zone ou point gagné avec volant touché en zone dangereuse.","Point direct en zone ou point gagné avec volant touché en zone dangereuse.",null,null,"Smash gagnant","Smash gagnant","Smash gagnant",null,null,null,null,null,null,null,"Gain du point sur block, contre-amorti ou défense longue.","Je gagne sur faute de l’adversaire.","Je gagne sur faute adverse ou sur volant dans ma zone favorable d’attaque",null,null,null,null,3,null,null,null,"x",null,null,null,null,null,"x","x",null,null,null,null,null,null,null,null,null,null,3,null,null,null,"x",null,null,null,null,null,"x","x"]
["ECHAUFFEMENT-S5",null,null,null,null,null,null,null,null,null,null,null,null,null,null,null,3,"DEGAGE",null,null,null,null,null,null,null,null,null,"Zone dangereuse","Carré central","Carré central",null,null,null,"Zones latérales",null,null,null,null,"Zones avant et arrière","Zones avant et arrière","Zones avant et arrière",null,null,"4 coins","4 coins","4 coins",null,null,"Carré central","Zones centrales latérales","Carré central",null,null,"smash","smash","smash",null,null,null,null,null,null,null,null,null,null,null,null,null,null,4,"x",null,"x",null,"x",null,"x","x",null,null,"x",null,null,null,null,null,null,null,null,null,null,4,"x",null,"x",null,"x",null,"x","x",null,null,"x"]
["ECHAUFFEMENT-S6",null,null,null,null,null,null,null,null,null,null,null,null,null,null,null,4,"SMASH",null,null,null,null,null,null,null,null,null,"Désavantage","Carré central interdit","Carré central interdit",null,null,null,"Zones latérales interdites",null,null,null,null,"Zones avant et arrière interdites","Zone avant interdite","Zone arrière interdite",null,null,"2 coins avant interdits","1 coin avant - 1 coin arrière interdits","4 coins interdits",null,null,"smash interdit","Zone mi-court interdite","Service flick interdit",null,null,"smash interdit","smash interdit","smash interdit",null,null,null,null,null,null,null,"Zone ar interdite","Coin ar interdit","Zone ar interdite",null,null,null,null,5,null,"x","x",null,null,null,null,null,null,null,null,null,null,null,null,null,null,null,null,null,null,5,null,"x","x"]
["ECHAUFFEMENT-S7",null,null,null,null,null,null,null,null,null,null,null,null,null,null,null,5,"FORT",null,null,null,null,null,null,null,null,null,"Désavantage 2",null,null,null,null,null,null,null,null,null,null,null,null,null,null,null,null,null,null,null,null,"Zone centrale ar interdite",null,null,null,null,null,null,null,null,null,null,null,null,null,null,null,null,null,null,null,null,null,6,null,"x","x","x",null,null,null,null,"x",null,null,null,null,null,null,null,null,null,null,null,null,6,null,"X","X","x",null,null,null,null,"x"]
["ECHAUFFEMENT-S8",null,null,null,null,null,null,null,null,null,null,null,null,null,null,null,6,null,null,null,null,null,null,null,null,null,null,"Multi-volants 1","R:Gauche-Droite","R:Gauche-Droite",null,null,null,"R:Alterner droite gauche à 4",null,null,null,null,"R:15 échanges Alterner Zone avant Zone arrière ","R:15 échanges Alterner Zone avant Zone arrière ","R:15 échanges Alterner Zone avant Zone arrière ",null,null,"R:Alterner 4 zones","R:Alterner 4 zones","R:Alterner 4 zones",null,null,"PF-Envoi au centre-Smash","PF-Envoi au centre-Smash","PF-Envoi au centre-Smash",null,null,"PF-Envoi au centre-Smash","PF-Envoi au centre-Smash","PF-Envoi au centre-Smash",null,null,"MULTI VOLANTS",null,null,null,null,null,null,null,null,null,"R:15 échanges en alternant les 4 coins-Replacement obligatoire","MV:service",7,null,null,null,"x",null,null,null,null,"x",null,null,null,null,null,null,null,null,null,null,null,null,7,null,null,null,"x",null,null,null,null,"x"]
["ECHAUFFEMENT-S9",null,null,null,null,null,null,null,null,null,null,null,null,null,null,null,7,"TACTIQUE",null,null,null,null,null,null,null,null,null,"Multi-volants 2",null,null,null,null,null,"R:Gauche-Droite",null,null,null,null,"R:Alterner Zone avant et Zone arrière à 3","R:Alterner Zone avant et Zone arrière à 4","R:Alterner Zone avant et Zone arrière à 5",null,null,"R:Alterner 4 coins réduits","R:Alterner 4 coins réduits","R:Alterner 4 coins réduits",null,null,"PF-Envoi au centre-Smash","PF-Envoi au centre-Smash","PF-Envoi au centre-Smash",null,null,"PF-Envoi au centre-Smash","PF-Envoi au centre-Smash","PF-Envoi au centre-Smash",null,null,null,null,null,null,null,null,null,null,null,null,"R:Touche plots coins",null,8,"x",null,"x",null,null,null,null,null,null,null,null,null,null,null,null,null,null,null,null,null,null,8,"x",null,"x"]
["ECHAUFFEMENT-S10",null,null,null,null,null,null,null,null,null,null,null,null,null,null,null,8,"DEPLACEMENT",null,null,null,null,null,null,null,null,null,"Multi-volants 3",null,null,null,null,null,null,null,null,null,null,"R:15 échanges Alterner Zone avant Zone arrière ","R:15 échanges Alterner Zone avant Zone arrière ","R:15 échanges Alterner Zone avant Zone arrière ",null,null,null,null,null,null,null,null,null,null,null,null,"PF-Envoi au centre-Smash","PF-Envoi au centre-Smash","PF-Envoi au centre-Smash",null,null,null,null,null,null,null,null,null,null,null,null,"R:Cavalier",null,9,null,"x","x",null,null,null,null,null,null,null,null,null,null,null,null,null,null,null,null,null,null,9,null,"x","x"]
[null,null,null,null,null,null,null,null,null,null,null,null,null,null,null,null,9,null,null,null,null,null,null,null,null,null,null,"ROUTINE 1","R:Alterner droite gauche à 3","R:Alterner droite gauche à 4",null,null,null,"R:Gauche-Droite",null,null,null,null,"R:15 échanges Alterner Zone avant Zone arrière ","R:15 échanges Alterner Zone avant Zone arrière ","R:15 échanges Alterner Zone avant Zone arrière ",null,null,"R:fou","R:fou","R:fou",null,null,"PF-Envoi au centre-Smash","PF-Envoi au centre-Smash","PF-Envoi au centre-Smash",null,null,"PF-Envoi au centre-Smash","PF-Envoi au centre-Smash","PF-Envoi au centre-Smash",null,null,"VOLANT CONTINU",null,null,null,null,"VOLANT CONTINU",null,null,null,null,null,null,10,null,"x","x","x",null,null,null,null,"x",null,null,null,null,null,null,null,null,null,null,null,null,10,null,"X","X","x",null,null,null,null,"x"]
[null,null,null,null,null,null,null,null,null,null,null,null,null,null,null,null,10,null,null,null,null,null,null,null,null,null,null,"ROUTINE 2","R:Gauche-Droite","R:Gauche-Droite",null,null,null,"R:Alterner droite gauche à 4",null,null,null,null,"R:Alterner Zone avant et Zone arrière à 3","R-1am 1 dégagé","R:Alterner Zone avant et Zone arrière à 5",null,null,"R:dame","R:dame","R:dame",null,null,null,null,null,null,null,null,null,null,null,null,null,null,null,null,null,null,null,null,null,null,null,null,11,null,null,null,"x",null,null,null,null,"x",null,null,null,null,null,null,null,null,null,null,null,null,11,null,null,null,"x",null,null,null,null,"x"]
[null,null,null,null,null,null,null,null,null,null,null,null,null,null,null,null,11,null,null,null,null,null,null,null,null,null,null,"ROUTINE 3",null,null,null,null,null,"R:renvoyer alternativement à Droite et à Gauche en couloirs réduits",null,null,null,null,"R:15 frappes hors zone avant","R:15 frappes hors zone avant","R:15 frappes hors zone avant",null,null,"R:Roi","R:Roi","R:Roi",null,null,null,null,null,null,null,null,null,null,null,null,null,null,null,null,null,null,null,null,null,null,null,null,12,"x",null,"x",null,null,null,null,null,null,null,null,null,null,null,null,null,null,null,null,null,null,12,"x",null,"x"]
[null,null,null,null,null,null,null,null,null,null,null,null,null,null,null,null,12,"MA STRATEGIE",null,null,null,null,null,null,null,null,null,"ROUTINE 4","R:Gauche-Droite","R:Gauche-Droite",null,null,null,null,null,null,null,null,"R:2 long 1 court","R:2 long 1 court","R:2 long 1 court",null,null,"R:Alterner 4 zones","R:Alterner 4 zones","R:Alterner 4 zones",null,null,"PF-Envoi au centre-Smash","PF-Envoi au centre-Smash","PF-Envoi au centre-Smash",null,null,"PF-Envoi au centre-Smash","PF-Envoi au centre-Smash","PF-Envoi au centre-Smash",null,null,"ROUTINE",null,null,null,null,"ROUTINE",null,null,null,null,null,null,13,null,"x","x",null,"x","x",null,null,null,null,"x",null,null,null,null,null,null,null,null,null,null,13,null,"x","x",null,"x","x",null,null,null,null,"x"]
[null,null,null,null,null,null,null,null,null,null,null,null,null,null,null,null,"S1",{"$f":"AC3","v":"Renvoyer"},null,null,null,null,null,null,null,null,null,"ROUTINE 5","R:Alterner droite gauche à 3","R:Alterner droite gauche à 4",null,null,null,null,null,null,null,null,null,null,null,null,null,"R:Alterner 4 coins réduits","R:Alterner 4 coins réduits","R:Alterner 4 coins réduits",null,null,null,null,null,null,null,null,null,null,null,null,null,null,null,null,null,null,null,null,null,null,null,null,14,null,"x","x","x","x","x",null,null,null,"x","x",null,null,null,null,null,null,null,null,null,null,14,null,"X","X","x","X","X",null,null,null,"x","x"]
[null,null,null,null,null,null,null,null,null,null,null,null,null,null,null,null,"S2",{"$f":"AH3","v":"Jouer sur la largeur"},null,null,null,null,null,null,null,null,null,"ROUTINE 6","R:renvoyer alternativement à Droite et à Gauche en couloirs réduits","R:renvoyer alternativement à Droite et à Gauche en couloirs réduits",null,null,null,null,null,null,null,null,null,null,null,null,null,null,null,null,null,null,null,null,null,null,null,null,null,null,null,null,null,null,null,null,null,null,null,null,null,null,null,null,15,null,null,null,"x",null,null,null,null,null,"x","x",null,null,null,null,null,null,null,null,null,null,15,null,null,null,"x",null,null,null,null,null,"x","x"]
[null,"N° - COULEUR TERRAIN","NOTES ECHAUFFEMENT",null,"MARQUER LES POINTS DANS ET HORS ZONES","Tactique pertinente?",null,"Maitrise","Entrainement",null,null,null,null,null,null,null,"S3",{"$f":"AM3","v":"Jouer sur la profondeur"},null,null,null,null,null,null,null,null,null,"SEQUENCE DE JEU 1",null,null,null,null,null,"MT-pts marqués en zones latérales",null,null,null,null,"SJ:Service long- amorti-libre","SJ:Service court, renvoi au centre-dégagé",null,null,null,"SEQUENCE DE JEU",null,null,null,null,"MT-Service haut au centre-Smash-libre","MT-Service haut au centre-Smash-libre","MT-Service haut au centre-Smash-libre",null,null,"MT-Service au centre-smash-libre","MT-Service au centre-smash-libre","MT-Service au centre-smash-libre",null,null,"SEQUENCE DE JEU",null,null,null,null,"SEQUENCE DE JEU",null,null,null,null,null,null,16,"x",null,"x",null,"x",null,"x",null,null,null,"x",null,null,null,null,null,null,null,null,null,null,16,"x",null,"x",null,"x",null,"x",null,null,null,"x"]
[null,1,0,null,null,null,null,null,null,null,null,null,null,null,null,null,"S4",{"$f":"AR3","v":"Jouer aux 4 coins"},null,null,null,null,null,null,null,null,null,"SEQUENCE DE JEU 2",null,null,null,null,null,"MT-pts marqués en zones latérales",null,null,null,null,"SJ:Service long, renvoi  au centre-amorti","SJ:Service long, renvoi  au centre-amorti",null,null,null,null,null,null,null,null,null,null,null,null,null,"MT-Smash uniquement","MT-Smash uniquement","MT-Smash uniquement"]
[null,2,1,null,"x","oui",null,"Je maitrise efficacement","J'approfondis",null,null,null,null,null,null,null,"S5",{"$f":"AW3","v":"Jouer fort-tendu"},null,null,null,null,null,null,null,null,null,"SEQUENCE DE JEU 3",null,null,null,null,null,null,null,null,null,null,"SJ:Service long, renvoi  au centre-amorti","SJ:Service long, renvoi  au centre-amorti",null,null,null,null,null,null,null,null,"MT-Smash gagnant","MT-Smash gagnant","MT-Smash gagnant",null,null,"PF-Envoi au centre-Smash","PF-Envoi au centre-Smash","PF-Envoi au centre-Smash"]
[null,3,2,null,null,"non",null,"Je maitrise contre un adversaire de mon niveau","Je découvre",null,null,null,null,null,null,null,"S6",{"$f":"BB3","v":"Smasher dès que possible"},null,null,null,null,null,null,null,null,null,"JEU 1","MT-pts marqués en zones latérales","MT-pts marqués en zones latérales",null,null,null,"MT-Couloirs latéraux uniquement",null,null,null,null,"SJ:Service long- amorti","SJ:Service court, renvoi au centre-dégagé","Séquence de jeu : Service long, renvoi  au centre-amorti",null,null,"MT:SUMO","MT:SUMO","MT:SUMO",null,null,"MT-Bingo smash","MT-Bingo smash","MT-Bingo smash",null,null,"MT-Service au centre-smash-libre","MT-Service au centre-smash-libre","MT-Service au centre-smash-libre",null,null,"JEU"]
[null,4,3,null,"ATTEND FAUTE","pas vraiment",null,"Je maitrise parfois","Trop difficle",null,null,null,null,null,null,null,"S7",{"$f":"BG3","v":"Jouer sur le point faible de l'adversaire"},null,null,null,null,null,null,null,null,null,"JEU 2","MT-pts marqués en zones latérales","MT-pts marqués en zones latérales",null,null,null,null,null,null,null,null,"SJ:Service long, renvoi  au centre-amorti","SJ:Service long, renvoi  au centre-amorti","MT-pied bloqué sur tapis",null,null,"MT-Points direct","MT-Points direct","MT-Points direct",null,null,null,null,null,null,null,"MT-Smash uniquement","MT-Smash uniquement","MT-Smash uniquement"]
[null,5,4,null,"LARGEUR","presque",null,"Je ne maitrise pas","Pas envie",null,null,null,null,null,null,null,"S8",{"$f":"BL3","v":"Défendre, attendre, contrer"},null,null,null,null,null,null,null,null,null,"JEU 3",null,null,null,null,null,null,null,null,null,null,null,null,"Séquence de jeu : Service long, renvoi  au centre-amorti",null,null,"MT-Bingo pts direct","MT-Bingo pts direct","MT-Bingo pts direct",null,null,null,null,null,null,null,"MT-Service haut au centre-Smash-libre","MT-Service haut au centre-Smash-libre","MT-Service haut au centre-Smash-libre"]
[null,6,5,null,"PROFONDEUR",null,null,"Trop dur",null,null,null,null,null,null,null,null,"S9",{"$f":"BQ3","v":"Déplacement"},null,null,null,null,null,null,null,null,null,"MATCH A THEME 1","MT-Couloirs latéraux uniquement","MT-Couloirs latéraux uniquement",null,null,null,"MT-Couloirs latéraux uniquement",null,null,null,null,"MT-pts marqués en zones avant et arrière","MT : zone Av","MT : zone Av",null,null,"MT-Points direct","MT-Points direct","MT-Points direct",null,null,"MT-Smash gagnant","MT-Smash gagnant","MT-Smash gagnant",null,null,"MT-Smash uniquement","MT-Smash uniquement","MT-Smash uniquement",null,null,"MATCH A THEME"]
[null,7,6,null,"4 COINS",null,null,null,null,null,null,null,null,null,null,null,"S10",{"$f":"BR3","v":"Travail technique"},null,null,null,null,null,null,null,null,null,"MATCH A THEME 2",null,null,null,null,null,null,null,null,null,null,"MT-Bingo Zone avant","MT : zone AR","MT-Bingo pts direct",null,null,"MT:SUMO","MT:SUMO","MT:SUMO",null,null,"MT-Service haut au centre-Smash-libre","MT-Service haut au centre-Smash-libre","MT-Service haut au centre-Smash-libre",null,null,"MT-Service au centre-smash-libre","MT-Service au centre-smash-libre","MT-Service au centre-smash-libre"]
[null,8,7,null,"FORT",null,null,null,null,null,null,null,null,null,null,null,"S11",null,null,null,null,null,null,null,null,null,null,"MATCH A THEME 3",null,null,null,null,null,null,null,null,null,null,"MT : zone AR","MT: S long - dégagé-libre","MT: S long - dégagé-libre",null,null,"MT-Bingo pts direct","MT-Bingo pts direct","MT-Bingo pts direct",null,null,"MT-Bingo smash","MT-Bingo smash","MT-Bingo smash",null,null,"MT-Bingo smash","MT-Bingo smash","MT-Bingo smash"]
[null,9,8,null,"SMASH"]
[null,"BLANC",9,null,"PT FAIBLE ADV"]
[null,"BLEU",10,null,"DEFENDRE"]
[null,"JAUNE",11]
[null,"VERT",12]
[null,"ORANGE",13,null,null,null,null,null,null,null,null,null,null,null,null,null,null,null,null,null,null,null,null,null,null,null,null,null,null,null,null,null,null,null,null,null,null,null,null,null,null,null,null,"4 coins"]
[null,"NOIR",14]
[null,"VIOLET",15]
[null,"ROUGE",16]
[null,null,17]
[null,null,18]
[null,null,19]
[null,null,20]
[null,null,21]
[null,null,22]
[null,null,23]
[null,null,24]
[null,null,25]
[null,null,26]
[null,null,27]
[null,null,28]
[null,null,29]
[null,null,30]

{"sheet":"SAMICBIS","index":13,"n_rows":739,"n_cols":22,"rows_kept":739,"cut":false,"hidden":false,"merged":[[0,2,0,7]]}
[null,null,null,null,null,null,null,null,"3,2x5,82 schéma pour un pc",null,"4,7x8,64 schéma pour la tablette","(du à une sorte de bug)",null,null,"traits-repères pour aligner les images pour la tablette ipad",null,null,null,null,"Conseil pour "]
["nom SA","n° SA","OBJECTIF GENERAL","Niveau ","Obj SA","But","Type SA2","Consignes","Schéma","Consignes 2","Schéma 2","Réussir","Matériel ","CR","Intérêt SA","Connaissances","Capacités","Attitudes","Complexification","Simplification",null,"type SA"]
["Défendre 1",null,"Défendre-contrer",null,null,null,null,null,null,null,null,null,null,null,null,null,null,null,null,null,null,"Mutli-volant"]
[null,null,"Défendre-contrer",null,null,null,null,null,null,null,null,null,null,null,null,null,3,null,null,null,null,"Routine"]
[null,null,"Défendre-contrer",null,null,null,null,null,null,null,null,null,null,null,null,null,4,null,null,null,null,"Séquence de jeu"]
[null,null,"Défendre-contrer",null,null,null,null,null,null,null,null,null,null,null,null,null,5,null,null,null,null,"Match à thème"]
[null,null,"Défendre-contrer"]
[null,null,"Défendre-contrer",null,null,null,null,null,null,null,null,null,null,null,null,null,6]
[null,null,"Défendre-contrer"]
[null,null,"Défendre-contrer",null,null,null,null,null,null,null,null,null,null,null,null,null,7]
[null,null,"Défendre-contrer",null,null,null,null,null,null,null,null,null,null,null,null,null,8]
[null,null,"Défendre-contrer",null,null,null,null,null,null,null,null,null,null,null,null,null,9]
[null,null,"Défendre-contrer",null,null,null,null,null,null,null,null,null,null,null,null,null,10]
[null,null,"Défendre-contrer",null,null,null,null,null,null,null,null,null,null,null,null,null,11]
[null,null,"Défendre-contrer"]
[null,null,"Défendre-contrer",null,null,null,null,null,null,null,null,null,null,null,null,null,12]
[null,null,"Défendre-contrer",null,null,null,null,null,null,null,null,null,null,null,null,null,13]
[null,null,"Défendre-contrer",null,null,null,null,null,null,null,null,null,null,null,null,null,14]
[null,null,"Défendre-contrer"]
[null,null,"Défendre-contrer",null,null,null,null,null,null,null,null,null,null,null,null,null,15]
[null,null,"Défendre-contrer"]
[null,null,"Défendre-contrer",null,null,null,null,null,null,null,null,null,null,null,null,null,16]
[null,null,"Défendre-contrer",null,null,null,null,null,null,null,null,null,null,null,null,null,17]
[null,null,"Défendre-contrer"]
[null,null,"Défendre-contrer",null,null,null,null,null,null,null,null,null,null,null,null,null,18]
[null,null,"Défendre-contrer",null,null,null,null,null,null,null,null,null,null,null,null,null,19]
[null,null,"Défendre-contrer"]
[null,null,"Défendre-contrer",null,null,null,null,null,null,null,null,null,null,null,null,null,20]
[null,null,"Défendre-contrer",null,null,null,null,null,null,null,null,null,null,null,null,null,21]
[null,null,"Défendre-contrer"]
[null,null,"Défendre-contrer",null,null,null,null,null,null,null,null,null,null,null,null,null,22]
[null,null,"Défendre-contrer",null,null,null,null,null,null,null,null,null,null,null,null,null,23]
[null,null,"Défendre-contrer"]
[null,null,"Défendre-contrer",null,null,null,null,null,null,null,null,null,null,null,null,null,24]
[null,null,"Défendre-contrer",null,null,null,null,null,null,null,null,null,null,null,null,null,25]
[null,null,"Défendre-contrer",null,null,null,null,null,null,null,null,null,null,null,null,null,26]
[null,null,"Défendre-contrer"]
[null,null,"Défendre-contrer",null,null,null,null,null,null,null,null,null,null,null,null,null,27]
[null,null,"Défendre-contrer",null,null,null,null,null,null,null,null,null,null,null,null,null,28]
[null,null,"Défendre-contrer"]
["R:15 échanges en alternant les 4 coins-Replacement obligatoire","R-4coins+C","Déplacement",null,"Se replacer au centre","Se replacer au centre après chaque frappe.","volant continu","Tenir l'échange pendant 1 minute en renvoyant dans les 4 zones et en repassant dans le centre entre chaque frappe.",null,null,null,null,null,null,null,null,29]
["R:Touche plots coins","R-TouchePlot","Déplacement",null,"Se replacer au centre","Se replacer au centre parès chaque frappe","Volant continu","Tenir l'échange pendant 1 min en touchant un plot entre chaque frappe",null,null,null,null,null,null,null,null,30]
["R:Cavalier","PF-cavalier","Déplacement",null,"Améliorer le déplacement","Renvoyer le volant après avoir réaliser un déplacement vers l'avant et le côté (ou l'arrière et le côté)",null,"Le joueur blanc envoie en continu le volant une fois au centre une fois devant à droite (ou devant à gauche ou au fond à droite ou au fond à gauche). Le joueur rouge  renvoie toujours au centre."]
[null,null,"déplacement",null,null,null,null,null,null,null,null,null,null,null,null,null,31]
[null,null,"déplacement",null,null,null,null,null,null,null,null,null,null,null,null,null,32]
[null,null,"déplacement"]
[null,null,"déplacement",null,null,null,null,null,null,null,null,null,null,null,null,null,33]
[null,null,"déplacement",null,null,null,null,null,null,null,null,null,null,null,null,null,34]
[null,null,"déplacement"]
[null,null,"déplacement",null,null,null,null,null,null,null,null,null,null,null,null,null,35]
[null,null,"déplacement",null,null,null,null,null,null,null,null,null,null,null,null,null,36]
[null,null,"déplacement"]
[null,null,"déplacement",null,null,null,null,null,null,null,null,null,null,null,null,null,37]
[null,null,"déplacement",null,null,null,null,null,null,null,null,null,null,null,null,null,38]
[null,null,"déplacement"]
[null,null,"déplacement",null,null,null,null,null,null,null,null,null,null,null,null,null,39]
[null,null,"déplacement",null,null,null,null,null,null,null,null,null,null,null,null,null,40]
[null,null,"déplacement"]
[null,null,"déplacement",null,null,null,null,null,null,null,null,null,null,null,null,null,41]
[null,null,"déplacement",null,null,null,null,null,null,null,null,null,null,null,null,null,42]
[null,null,"déplacement"]
[null,null,"déplacement",null,null,null,null,null,null,null,null,null,null,null,null,null,43]
[null,null,"déplacement",null,null,null,null,null,null,null,null,null,null,null,null,null,44]
[null,null,"déplacement"]
[null,null,"déplacement",null,null,null,null,null,null,null,null,null,null,null,null,null,45]
[null,null,"déplacement",null,null,null,null,null,null,null,null,null,null,null,null,null,46]
["MT-Points direct","MT-ptsD","Jouer aux 4 coins",null,"Marquer en utilisant les espaces libres","Viser là où l'autre n'est pas","match à thème","Seuls les points marqués en touchant directement le sol comptent"]
["R:Alterner 4 zones","R-T4zones","Jouer aux 4 coins",null,"Renvoyer sur l'ensemble du terrain","Renvoyer en suivant l'ordre des zones : 1-2-3-4","volant continu","Tenir 1 minute en renvoyant le volant dans les 4 zones successivement.",null,null,null,null,null,null,null,null,47]
["R:Alterner 4 coins réduits","R-15-4coins -","Jouer aux 4 coins",null,"Renvoyer sur l'ensemble du terrain","Renvoyer en suivant l'ordre des zones : 1-2-3-5","Volant continu","Tenir 1 minute en renvoyant le volant dans les 4 zones successivement.",null,null,null,null,null,null,null,null,48]
["R:fou","PF-fou","Jouer aux 4 coins",null,"Améliorer le déplacement","Renvoyer le volant après avoir réaliser un déplacement en diagonale",null,"Le joueur blanc envoie en continu le volant une fois devant à gauche une fois au fond à droite (et inversement). Le joueur rouge  renvoie toujours au centre."]
["R:dame","PF-dame","Jouer aux 4 coins",null,"Améliorer le déplacement","Renvoyer le volant après avoir réaliser un pas en ligne droite puis en diagonale",null,"Le joueur blanc envoie en continu le volant en suivant l'ordre des chiffre (1-devant à gauche. 2- Au fond à droite. 3- Devant à droite. 4- Au fond à gauche). Le joueur rouge  renvoie toujours au centre.",null,null,null,null,null,null,null,null,49]
["R:Roi","PF-Roi","Jouer aux 4 coins",null,"Améliorer le déplacement",null,null,null,null,null,null,null,null,null,null,null,50]
["MT-Bingo pts direct","MT-BingoptsD","Jouer aux 4 coins",null,"Travail du smash et de la prise d'information","Gagner le smash en annonçant le point à l'avance",null,"Si le joueur annonce BINGO avant de marquer le point il marque 5pts. S'il rate son coup c'est l'autre qui marque 5 pts"]
["MT:SUMO",null,"Jouer aux 4 coins",null,"Déplacer l'adversaire en dehors de la zone centrale","Faire sortir les 2 pieds de l'adv du rond central",null,"2 cercles (ou rectangles) sont matérailisés sur chaque demi-terrain.\nLes élèves sont placés à l'intérieur et doivent essayer de faire sortir l'adversaire de cette zone. Il marque 1 point à chaque fois d'un élève sort les 2 pieds.",null,null,null,null,null,null,null,null,51]
[null,null,"Jouer aux 4 coins",null,null,null,null,null,null,null,null,null,null,null,null,null,52]
[null,null,"Jouer aux 4 coins"]
[null,null,"Jouer aux 4 coins",null,null,null,null,null,null,null,null,null,null,null,null,null,53]
[null,null,"Jouer aux 4 coins",null,null,null,null,null,null,null,null,null,null,null,null,null,54]
[null,null,"Jouer aux 4 coins"]
[null,null,"Jouer aux 4 coins",null,null,null,null,null,null,null,null,null,null,null,null,null,55]
[null,null,"Jouer aux 4 coins",null,null,null,null,null,null,null,null,null,null,null,null,null,56]
[null,null,"Jouer aux 4 coins"]
[null,null,"Jouer aux 4 coins",null,null,null,null,null,null,null,null,null,null,null,null,null,57]
[null,null,"Jouer aux 4 coins",null,null,null,null,null,null,null,null,null,null,null,null,null,58]
[null,null,"Jouer aux 4 coins"]
[null,null,"Jouer aux 4 coins",null,null,null,null,null,null,null,null,null,null,null,null,null,59]
[null,null,"Jouer aux 4 coins",null,null,null,null,null,null,null,null,null,null,null,null,null,60]
[null,null,"Jouer aux 4 coins"]
[null,null,"Jouer aux 4 coins",null,null,null,null,null,null,null,null,null,null,null,null,null,61]
[null,null,"Jouer aux 4 coins",null,null,null,null,null,null,null,null,null,null,null,null,null,62]
[null,null,"Jouer aux 4 coins"]
[null,null,"Jouer aux 4 coins",null,null,null,null,null,null,null,null,null,null,null,null,null,63]
[null,null,"Jouer aux 4 coins",null,null,null,null,null,null,null,null,null,null,null,null,null,64]
[null,null,"Jouer aux 4 coins"]
[null,null,"Jouer aux 4 coins",null,null,null,null,null,null,null,null,null,null,null,null,null,65]
[null,null,"Jouer aux 4 coins",null,null,null,null,null,null,null,null,null,null,null,null,null,66]
[null,null,"Jouer aux 4 coins"]
[null,null,"Jouer aux 4 coins",null,null,null,null,null,null,null,null,null,null,null,null,null,67]
[null,null,"Jouer aux 4 coins",null,null,null,null,null,null,null,null,null,null,null,null,null,68]
[null,null,"Jouer aux 4 coins"]
[null,null,"Jouer aux 4 coins",null,null,null,null,null,null,null,null,null,null,null,null,null,69]
[null,null,"Jouer aux 4 coins",null,null,null,null,null,null,null,null,null,null,null,null,null,70]
[null,null,"Jouer aux 4 coins"]
[null,null,"Jouer aux 4 coins",null,null,null,null,null,null,null,null,null,null,null,null,null,71]
[null,null,"Jouer aux 4 coins",null,null,null,null,null,null,null,null,null,null,null,null,null,72]
[null,null,"Jouer aux 4 coins"]
[null,null,"Jouer aux 4 coins",null,null,null,null,null,null,null,null,null,null,null,null,null,73]
["MT-Smash gagnant","MT-Sm","Jouer fort-tendu",null,"Utiliser le smash pour gagner le point","Marquer des points en utilisant le smash","match à thème","Seuls les points marqués sur un smash comptent",null,null,null,null,null,null,null,null,74]
["MV:Service tendu",null,"Jouer fort-tendu",null,"Travaille le service tendu-flick",null,null,"Le joueur Rouge enchaine un maximum de services dans la zone bleue. Le service se fait main basse, croisé et proche du filet.",null,null,null,"Chercher à frapper fort le volant avec une trajectoire la plus tendue possible. Viser juste à côté de la tête du joueur adverse.","Entre 2 et 4 joueurs par terrain. Plusieurs volants par joueur",null,null,null,null,null,null,null,null,"Routine"]
[null,null,"Jouer fort-tendu",null,null,null,null,null,null,null,null,null,null,null,null,null,75,null,null,null,null,"Multi-volants"]
[null,null,"Jouer fort-tendu",null,null,null,null,null,null,null,null,null,null,null,null,null,76,null,null,null,null,"Volant continu"]
[null,null,"Jouer fort-tendu"]
[null,null,"Jouer fort-tendu",null,null,null,null,null,null,null,null,null,null,null,null,null,77]
[null,null,"Jouer fort-tendu",null,null,null,null,null,null,null,null,null,null,null,null,null,78]
[null,null,"Jouer fort-tendu"]
[null,null,"Jouer fort-tendu",null,null,null,null,null,null,null,null,null,null,null,null,null,79]
[null,null,"Jouer fort-tendu",null,null,null,null,null,null,null,null,null,null,null,null,null,80]
[null,null,"Jouer fort-tendu"]
[null,null,"Jouer fort-tendu",null,null,null,null,null,null,null,null,null,null,null,null,null,81]
[null,null,"Jouer fort-tendu",null,null,null,null,null,null,null,null,null,null,null,null,null,82]
[null,null,"Jouer fort-tendu"]
[null,null,"Jouer fort-tendu",null,null,null,null,null,null,null,null,null,null,null,null,null,83]
[null,null,"Jouer fort-tendu",null,null,null,null,null,null,null,null,null,null,null,null,null,84]
[null,null,"Jouer fort-tendu"]
[null,null,"Jouer fort-tendu",null,null,null,null,null,null,null,null,null,null,null,null,null,85]
[null,null,"Jouer fort-tendu",null,null,null,null,null,null,null,null,null,null,null,null,null,86]
[null,null,"Jouer fort-tendu"]
[null,null,"Jouer fort-tendu",null,null,null,null,null,null,null,null,null,null,null,null,null,87]
[null,null,"Jouer fort-tendu",null,null,null,null,null,null,null,null,null,null,null,null,null,88]
[null,null,"Jouer fort-tendu"]
[null,null,"Jouer fort-tendu",null,null,null,null,null,null,null,null,null,null,null,null,null,89]
[null,null,"Jouer fort-tendu",null,null,null,null,null,null,null,null,null,null,null,null,null,90]
[null,null,"Jouer fort-tendu"]
[null,null,"Jouer fort-tendu",null,null,null,null,null,null,null,null,null,null,null,null,null,91]
[null,null,"Jouer fort-tendu",null,null,null,null,null,null,null,null,null,null,null,null,null,92]
[null,null,"Jouer fort-tendu"]
[null,null,"Jouer fort-tendu",null,null,null,null,null,null,null,null,null,null,null,null,null,93]
[null,null,"Jouer fort-tendu",null,null,null,null,null,null,null,null,null,null,null,null,null,94]
[null,null,"Jouer fort-tendu"]
[null,null,"Jouer fort-tendu",null,null,null,null,null,null,null,null,null,null,null,null,null,95]
[null,null,"Jouer fort-tendu",null,null,null,null,null,null,null,null,null,null,null,null,null,96]
[null,null,"Jouer fort-tendu"]
[null,null,"Jouer fort-tendu",null,null,null,null,null,null,null,null,null,null,null,null,null,97]
[null,null,"Jouer fort-tendu"]
["R:Gauche-Droite","R-GD","Jouer sur la largeur",null,"Continuité de l'échange","Réaliser 15 passes en en alternant droite-gauche","volant continu","Le joueur qui valide doit renvoyer alternativement à droite et à gauche pendant 15 échanges. L'autre joueur doit renvoyer au centre en coup droit.",null,null,null,"essai",null,null,null,null,98]
["MT-pts marqués en zones latérales","MT-Zlat","Jouer sur la largeur",null,"Utiliser la largeur du terrain","Marquer des points dans les zones latérales","match à thème","2 zones latérales. Seuls les points marqués dans ces zones comptent (faute adverse ou point direct)",null,"Un seul des 2 joueurs doit jouer dans les zones latérales.",null,null,null,null,null,null,99]
["R:Alterner droite gauche à 3","R-DGà3","Jouer sur la largeur",null,"Donner une direction au volant en CD haut : le renvoyer croisé","Renvoyer ","Volant continu","Le joueur jaune renvoit alternativement sur la joueuse bleue et le joueur blanc. La joueuse bleue et le joueur blanc renvoient le volant une fois à droite, une fois à gauche.",null,null,null,null,null,null,null,null,100]
["R:15 échanges Alterner gauche droite","R-15DG","Jouer sur la largeur",null,"Jouer sur la largeur","Réaliser 15 échanges en alternant droite-gauche","volant continu","Alterner des renvois à gauche et à droite."]
["R:renvoyer alternativement à Droite et à Gauche en couloirs réduits","R-DGréduit","Jouer sur la largeur",null,"Jouer sur la largeur","Réaliser 15 échanges en alternant droite-gauche","volant continu","Alterner des renvois à gauche et à droite.",null,null,null,"Orienter le tamis de sa rauqette ers la zone visée",null,null,null,null,101]
["MT-Couloirs latéraux uniquement","MT-Zlat","Jouer sur la largeur",null,"Jouer sur la largeur","Marquer des points dans les zones latérales",null,"Seuls les points marqués en zones latérales comptent",null,null,null,null,null,null,null,null,102]
["MT-Zones latérales","MT-Zlat","Jouer sur la largeur",null,"Jouer sur la largeur","Gagner le match en jouant dans les couloirs latéraux du terrain.",null,"Seuls les points marqués dans les couloirs latéraux comptent"]
["MV:D-G",null,"Jouer sur la largeur",null,"Travailler l'orientation du tamis de la raquette",null,null,"Le joueur rouge sert en cloche au centre. La joueuse bleue renvoit une fois à droite, une fois à gauche",null,null,null,"Orienter le tamis de sa raquette vers la zone visée. Garder le coude haut","Entre 2 et 4 joueurs par terrain. Plusieurs volants par joueur",null,null,null,103]
[null,null,"Jouer sur la largeur",null,null,null,null,null,null,null,null,null,null,null,null,null,104]
[null,null,"Jouer sur la largeur"]
[null,null,"Jouer sur la largeur",null,null,null,null,null,null,null,null,null,null,null,null,null,105]
[null,null,"Jouer sur la largeur",null,null,null,null,null,null,null,null,null,null,null,null,null,106]
[null,null,"Jouer sur la largeur"]
[null,null,"Jouer sur la largeur",null,null,null,null,null,null,null,null,null,null,null,null,null,107]
[null,null,"Jouer sur la largeur",null,null,null,null,null,null,null,null,null,null,null,null,null,108]
[null,null,"Jouer sur la largeur"]
[null,null,"Jouer sur la largeur",null,null,null,null,null,null,null,null,null,null,null,null,null,109]
[null,null,"Jouer sur la largeur",null,null,null,null,null,null,null,null,null,null,null,null,null,110]
[null,null,"Jouer sur la largeur"]
[null,null,"Jouer sur la largeur",null,null,null,null,null,null,null,null,null,null,null,null,null,12]
[null,null,"Jouer sur la largeur",null,null,null,null,null,null,null,null,null,null,null,null,null,13]
[null,null,"Jouer sur la largeur"]
[null,null,"Jouer sur la largeur",null,null,null,null,null,null,null,null,null,null,null,null,null,14]
[null,null,"Jouer sur la largeur",null,null,null,null,null,null,null,null,null,null,null,null,null,15]
[null,null,"Jouer sur la largeur"]
[null,null,"Jouer sur la largeur",null,null,null,null,null,null,null,null,null,null,null,null,null,16]
[null,null,"Jouer sur la largeur",null,null,null,null,null,null,null,null,null,null,null,null,null,17]
[null,null,"Jouer sur la largeur"]
[null,null,"Jouer sur la largeur",null,null,null,null,null,null,null,null,null,null,null,null,null,18]
[null,null,"Jouer sur la largeur",null,null,null,null,null,null,null,null,null,null,null,null,null,19]
[null,null,"Jouer sur la largeur"]
[null,null,"Jouer sur la largeur",null,null,null,null,null,null,null,null,null,null,null,null,null,20]
[null,null,"Jouer sur la largeur",null,null,null,null,null,null,null,null,null,null,null,null,null,21]
[null,null,"Jouer sur la largeur"]
[null,null,"Jouer sur la largeur",null,null,null,null,null,null,null,null,null,null,null,null,null,22]
[null,null,"Jouer sur la largeur",null,null,null,null,null,null,null,null,null,null,null,null,null,23]
[null,null,"Jouer sur la largeur"]
[null,null,"Jouer sur la largeur",null,null,null,null,null,null,null,null,null,null,null,null,null,24]
[null,null,"Jouer sur la largeur",null,null,null,null,null,null,null,null,null,null,null,null,null,25]
[null,null,"Jouer sur la largeur"]
[null,null,"Jouer sur la largeur",null,null,null,null,null,null,null,null,null,null,null,null,null,26]
[null,null,"Jouer sur la largeur",null,null,null,null,null,null,null,null,null,null,null,null,null,27]
[null,null,"Jouer sur la largeur"]
[null,null,"Jouer sur la largeur",null,null,null,null,null,null,null,null,null,null,null,null,null,28]
[null,null,"Jouer sur la largeur",null,null,null,null,null,null,null,null,null,null,null,null,null,29]
[null,null,"Jouer sur la largeur"]
[null,null,"Jouer sur la largeur",null,null,null,null,null,null,null,null,null,null,null,null,null,30]
[null,null,"Jouer sur la largeur",null,null,null,null,null,null,null,null,null,null,null,null,null,31]
[null,null,"Jouer sur la largeur"]
[null,null,"Jouer sur la largeur",null,null,null,null,null,null,null,null,null,null,null,null,null,32]
[null,null,"Jouer sur la largeur",null,null,null,null,null,null,null,null,null,null,null,null,null,33]
[null,null,"Jouer sur la largeur"]
[null,null,"Jouer sur la largeur",null,null,null,null,null,null,null,null,null,null,null,null,null,34]
[null,null,"Jouer sur la largeur",null,null,null,null,null,null,null,null,null,null,null,null,null,35]
[null,null,"Jouer sur la largeur"]
[null,null,"Jouer sur la largeur",null,null,null,null,null,null,null,null,null,null,null,null,null,36]
["R:15 frappes hors zone avant","R-15Hors Zavt","Jouer sur la profondeur",null,"Différenciation frappe main haute et frappe main basse : la frappe main haute","Jouer en dehors de la zone avant","Routine","Réaliser 15 frappes de suite sans faire tomber le volant",null,"Agrandir la zone interdite en cas de réussite facile",null,"Conseil pour réussir","Matériel","CR","Intérêt","Cns",37,"Att","COMplex","Simplf"]
["MT-pied bloqué sur tapis","MT-PiedBloqué","Jouer sur la profondeur",null,"Jouer en dehors de la zone centrale","Faire sortir l'adversaire du tapis et viser hors de la zone centrale","match à thème","Un des 2 joueurs commence en étant bloqué sur le tapis (il ne peut sortir qu'un seul pied de ce tapis sinon il fait faute). Ils réalisent un match en 11 pts. Puis ils font la revanche en échangeant les rôles.",null,"On peut interdire de sortir du tapis",null,"Jouer court, long, à droite et à gauche pour marquer un point","1 tapis ou 1 zone matéralisée par 4 pastilles sur le terrain. A environ 1m de la zone morte","Mon adversaire en régulièrement en difficulté pour renvoyer mes volants.","c"]
["MT-pts marqués en zones avant et arrière","MT-Zav-Ar","Jouer sur la profondeur",null,"Utliser la profondeur du terrain","Marquer des points dans les zones avant et arrière","match à thème","2 zones avant et arrières. Seuls le spoints marqués dans ces zones comptent (faute adv ou points direct)",null,"Un seul des 2 joueurs doit jouer dans les zones latérales.",null,null,null,null,null,null,38]
["R:Zones arrières","R-Zar","Jouer sur la profondeur",null,"Apprendre le coup de dégagé","Réaliser 15 échanges en renvoyant le volant dans la zone arrière","volant continu","2 zones arrières. Renvoyer le volant uniquement dans ces zones.",null,"Un pied peut être autorisé à sortir (ou agrandir la zone)",null,null,null,null,null,null,39]
["SJ:Service long- amorti","SJ-Slg-am","Jouer sur la profondeur",null,"L'amorti de fond de court","Respecter les 3 premiers coups imposés","Volant continu","1- S long          2- amorti droit",null,"3-lift droit     4-Amorti droit"]
["SJ:Service long- amorti-libre","SJ-Slg-am-libr","Jouer sur la profondeur","N2","L’amorti de fond de court : côté RV et côté CD","Respecter les 3 premiers coups imposés","Multi-volants","1- S long ou lift\n2-Amorti devant\n3-jeu libre",null,"idem côté RV",null,null,null,null,null,null,40]
["MT:faire sortir l'autre du terrain","MT-sortir autre","Jouer sur la profondeur","N2","Dégagement de fond de court","Faire sortir un maximum de fois l'adversaire au fond de son demi-terrain","Jeu","Faire sortir l’autre du terrain en tirant loin et fort. 1 pt à chaque fois qu'il sort 1 pied. 2 points lorsqu'il sort les 2 pieds.",null,"Soit il faut lui faire sortir un pied soit les 2.",null,null,null,null,null,null,41]
["MT: S long - dégagé-libre","MT-Slg-D-Libr","Jouer sur la profondeur","N2","Dégagement de fond de court","Respecter les 3 premiers coups imposés","Match à thème","1- S long\n2- Dégagement\n3- jeu libre\n"]
["SJ:Service long-amorti-contre amorti","SJ-Slg-am","Jouer sur la profondeur","N3","Joueur sur la profondeur","Respecter les 2 premiers coups imposés et gagner le point","Séquence de jeu","1 – S long   2- amorti puis libre",null,"Ou S court Contre amorti",null,null,"2 joueurs - 2 raquettes - 1 volant - des plots repeères",null,null,null,42]
["SJ:Service long-amorti-contre amorti","Sj:Slg-am-CA","Jouer sur la profondeur",null,"Jouer sur la profondeur","Respecter les 3 premiers coups imposés","Séquence de jeu","1 – S long   2- amorti",null,"3- CA           4- libre",null,null,null,null,null,null,43]
["SJ:long-Am- Lift-libre","SJ-Slg-am-lift","Jouer sur la profondeur","N3","Jouer sur la profondeur","Respecter les 3 premiers coups imposés","Match à thème","1- S long    2- Amorti",null,"3-Lift          4 – jeu libre"]
["MT-zone centrale et latérales interdites","MT-ZcetLinterdites","Jouer sur la profondeur","N3","Jouer sur la profondeur",null,"Match à thème","La zone centrale est considérée comme faute.",null,null,null,null,null,null,null,null,44]
["R:15 échanges Alterner Zone avant Zone arrière ","R-15Zav-Zar","Jouer sur la profondeur",null,"Jouer sur la profondeur","Réaliser 15 échanges en alternant avant arrière.","volant continu","Réaliser 15 échanges en alternant des renvois en zone avant (amorti) et en zone arrière (dégagé).",null,null,null,null,null,null,null,null,45]
["SJ:Service court, renvoi au centre-dégagé","SJ-Sc-Rc-D","Jouer sur la profondeur",null,"Jouer sur la profondeur","Travailler un schéma tactique: service court renvoi long","séquence de jeu","1-Réaliser un service court. 2- renoyer au centre. 3- réaliser un dégagé"]
["SJ:Service long, renvoi  au centre-amorti","SJ-Slg-Rc-Am","Jouer sur la profondeur",null,"Jouer sur la profondeur","Travailler un schéma tactique: service court renvoi long","séquence de jeu","1-Réaliser un service long. 2- renvoyer au centre. 3-Réaliser un amorti ",null,null,null,null,null,null,null,null,46]
["R:Réaliser 20 échanges en dégagé","R-20D","Jouer sur la profondeur",null,"Apprendre le coup de dégagé","Réaliser 15 échanges en renvoyant le volant dans la zone arrière","volant continu","2 zones arrières. Renvoyer le volant uniquement dans ces zones.",null,"Un pied peut être autorisé à sortir.",null,"Lever la raquette au dessus de la tête en donnant de l'élan à la tête de raquette.",null,null,null,null,47]
["R:Alterner Zone avant et Zone arrière à 3","R-Zav-Zar à 3","Jouer sur la profondeur",null,"Jouer sur la profondeur","Réaliser 15 échanges en alternant avant arrière.","volant continu","Réaliser 15 échanges en alternant des renvois en zone avant (amorti) et en zone arrière (dégagé).",null,null,null,"Accélérer ou ralentir son geste pour doser la force de renvoi."]
["R:tour","PF-tour","Jouer sur la profondeur",null,"Améliorer le déplacement","Renvoyer le volant après avoir réaliser un déplacement en ligne droite.",null,"Le joueur blanc envoie en continu le volant une fois au fond une fois devant. Le joueur rouge  renvoie toujours au centre.",null,null,null,null,null,null,null,null,48]
["MT : zone AR","MT-Zar","Jouer sur la profondeur",null,"Travailler le dégagé","Gagner le match en respectant les zones définies",null,"Le matchs e joue uniquement dans la zone arrière du terrain",null,null,null,null,null,null,null,null,49]
["MT : zone Av","MT-Zav ","Jouer sur la profondeur",null,"Travail des Contre amorti","Gagner le match en respectant les zones définies",null,"Le matchse joue uniquement dans la zone avant du terrain"]
["PF:Renvoyer volant en Zone Arrière","R-Zar","Jouer sur la profondeur",null,"Jouer sur la profondeur : travail technique du dégagé","Renvoyer le maximum de volant en zone arrière",null,"1-Un Joueur bleu en poste fixe qui envoie des volants haut sur tout le terrain. 2-Le joueur rouge réalise un dégagé main haute en zone arrière (zone bleue)",null,null,null,"Lever le coude au dessus de l'épaule. Chercher à frapper fort en visant le plafond du gymnase. ","2 raquettes - Multi volants","1 pt par volant dans la zone arrière. Réussir un dégagé / 2 minimum",null,null,50]
["R:2 long 1 court","R-2L1c","Jouer sur la profondeur",null,"Jouer sur la profondeur : fixer au fond pour amortir","Renvoyer le volant 2 fois de suite long puis une fois court le plus longtemps possible",null,"0-Le poste fixe envoie toujours au centre. 1- le joueur rouge renvoit 2 fois de suite au fond puis une fois court et ainsi de suite jusqu'à ce que le volant tombe au sol",null,null,null,"Mémoriser la routine et s'appliquer sur les gestes : je mets e la vitesse pour dégager au fond, je ralentit mon geste pour amortir","2 raquettes - 1 volant",null,null,null,51]
["MV:Service court",null,"Jouer sur la profondeur",null,"Travailler le service court","Viser la zone proche de la zone morte",null,"Le joueur Rouge enchaine un maximum de services dans la zone bleue. Le service se fait main basse, croisé et proche du filet.",null,null,null,"Se placer proche de la ligne du centre et à 1m de la zone morte. Tenir le volant bras tendu et le lacher pour essayer dele toucher en dessous du genou en controlant la force. ","Entre 2 et 4 joueurs par terrain. Plusieurs volants par joueur"]
["MV: Service long",null,"Jouer sur la profondeur",null,"Travailler le service court",null,null,"Le joueur Rouge enchaine un maximum de services dans la zone bleue. Le service se fait main basse, croisé et proche du filet.",null,null,null,"Se placer proche de la zone morte et du centre. Tenir le volant, le lacher et accélérer le geste de sa raquette pour l'envoyer haut et loin.","Entre 2 et 4 joueurs par terrain. Plusieurs volants par joueur",null,null,null,52]
["MV-Av-Ar",null,"Jouer sur la profondeur",null,"Travailler le dégagé et l'amorti",null,null,"Le joueur rouge sert en cloche au centre. La joueuse bleue renvoit une fois long, une fois court",null,null,null,"Garder le coude haut. Varier la force mise dans le geste. Viser le volant avec son bras libre.","Multi volants",null,null,null,53]
["R-2longs-1court",null,"Jouer sur la profondeur",null,"Travailler le dégagé et l'amorti",null,null,"1-Le joueur 1 sert long, 2-le joueur 2 renvoit long 3-renvoit court 4- long et ainsi de suite"]
["MT-dégagé amorti tenté","MT-DégAm","Jouer sur la profondeur",null,"Jouer sur la profondeur : fixer au fond pour amortir","Gagner le point en choisissant le bon moment pour amortir",null,"Les joueurs échangent le volant en dégagé. Dès que l'un des 2 joueurs tente un amorti le match  commence.",null,null,null,"S'appliquer sur chaque dégagé. Choisir le bon moment pour amortir : lorsque l'adversaire est au fond et qu'il renvoit un peu court",null,null,null,null,54]
["MT-Bingo Zone avant","MT-BingZAv","Jouer sur la profondeur",null,"Jouer sur la profondeur : fixer au fond pour amortir","Gagner le point en choisissant le bon moment pour amortir",null,"Les joueurs réalisent un match classique. Lorsqu'un des joueurs annoncent bingo à voix haute et réussit un amorti en zone avant le points compte triple",null,null,null,"Identifier le bon moment pour annoncer le bingo : le joueur est au fond du terrain et vient de renvoyer un peu court",null,null,null,null,55]
["R-1am 1 dégagé","R-1xav1xar","Jouer sur la profondeur",null,"Jouer sur la profondeur : travail de l'amorti et du dégagé","Réaliser un max d'amorti et de dégagé en zones définies",null,"1-Le joueur Rouge sert au centre 2- la joueuse bleue renvoit une fois en zone avant une fois en zone arrière"]
["MT:Rémi1",null,"Jouer sur la profondeur",null,"être capable de fixer l’adversaire sur un endroit du terrain pour jouer de l’autre. ","trouver un schéma tactique permettant de marquer le plus de 3 points possible. ",null,"Chaque joueur choisie une zone dans le terrain de l’adversaire qu’il gardera tout le match. \nSi le volant tombe dans cette zone sans que l’adversaire ne puisse le renvoyer  3 points. S’il marque un point autrement  1 point\n\nService croisé. ",null,null,null,"Réaliser un dégagé haut et puissant. Réaliser un amorti qui retombe proche du filet. Jouer à l'opposé du placement de l'adversaire","Un terrain de badminton \n-\t2 raquettes \n-\t1 volant \n-\tDes plots pour identifier les 4 zones\nMatch en 18 point. ","Par match :\nAu moins 3 3 point par joueurs dans le match",null,null,"Savoir réaliser un dégagé puissant, haut et en cloche qui puisse faire reculer son adversaire dans le fond du terrain.\n\nSavoir réaliser un amorti très court, qui passe très proche du filet et retombe le  plus près possible de celui-ci  pour faire avancer l’adversaire au filet.\n\nEtre capable de faire un schéma tactique permettant de fixer l’adversaire pour jouer à l’opposé et marquer plus facilement dans la zone à 3 points. "]
["SJ:Rémi2",null,"Jouer sur la profondeur",null,"fixer l’adversaire pour jouer à l’opposer. ","créer des automatises et des repères pour créer des schémas tactiques. ",null,"1er temps Un joueur engage vers le centre du terrain\nLe joueur qui renvoie cherche a faire reculer le serveur au fond du terrain. \nLorsqu’il voit que le serveur a les pieds dans la zone arrière, il doit enchainer un amorti dans la zone avant. Si le volant atterri bien dans cette zone alors l’objectif est réussi, et le serveur peut faire un 2ème service. \n\n2ème temps : même règles mais inversement on cherche à amener le joueur dans la zone  avant pour ensuite jouer dans la zone arrière. ",null,null,null,"pour réaliser le dégagé : se mettre de profil, lever le bras libre comme si on voulait attraper le volant, puis pivoter avec la jambe d’appuis pour frapper le volant au dessus de sa tête en visant le plus haut possible. ","2 joueurs\n2 zones aux extrémités de la longueur du terrain\nChaque joueur fait 8 essais puis inversement des rôles. \nUn joueur travail l’autre cherche juste à remettre le volant dans le terrain.  ","Au moins 4 volants sur 8 qui arrivent dans la zone demandée en passant préalablement dans la zone opposée ",null,null,"Etre capable de réaliser un dégagé haut et puissant, avec une trajectoire en cloche pour que celui-ci tombe  au fond du terrain.\n \npour réaliser le dégagé : se mettre de profil, lever le bras libre comme si on voulait attraper le volant, puis pivoter avec la jambe d’appuis pour frapper le volant au dessus de sa tête en visant le plus haut possible. \n\nEtre capable de réaliser un amorti, qui passe le plus prêt possible du filet pour retomber juste derrière celui-ci .\n\nPour réaliser un amorti : \nFaire la même procédure que pour le  dégagé mais juste freiner son geste  avant de frapper le volant. On bloque toutes les articulations du bras pour taper très légèrement le volant avec le poignet.  \n\nEtre capable de pouvoir observer le positionnement de  l’adversaire tout en se replaçant et se déplaçant part de brefs regards en se servant d’indicateurs précis . "]
[null,null,"Jouer sur la profondeur"]
[null,null,"Jouer sur la profondeur",null,null,null,null,null,null,null,null,null,null,null,null,null,58]
[null,null,"Jouer sur la profondeur",null,null,null,null,null,null,null,null,null,null,null,null,null,59]
[null,null,"Jouer sur la profondeur"]
[null,null,"Jouer sur la profondeur",null,null,null,null,null,null,null,null,null,null,null,null,null,60]
[null,null,"Jouer sur la profondeur",null,null,null,null,null,null,null,null,null,null,null,null,null,61]
[null,null,"Jouer sur la profondeur"]
[null,null,"Jouer sur la profondeur",null,null,null,null,null,null,null,null,null,null,null,null,null,62]
[null,null,"Jouer sur la profondeur",null,null,null,null,null,null,null,null,null,null,null,null,null,63]
[null,null,"Jouer sur la profondeur"]
[null,null,"Jouer sur la profondeur",null,null,null,null,null,null,null,null,null,null,null,null,null,64]
[null,null,"Jouer sur la profondeur",null,null,null,null,null,null,null,null,null,null,null,null,null,65]
[null,null,"Jouer sur la profondeur"]
[null,null,"Jouer sur la profondeur",null,null,null,null,null,null,null,null,null,null,null,null,null,66]
[null,null,"Jouer sur la profondeur",null,null,null,null,null,null,null,null,null,null,null,null,null,67]
[null,null,"Jouer sur la profondeur"]
[null,null,"Jouer sur la profondeur",null,null,null,null,null,null,null,null,null,null,null,null,null,68]
[null,null,"Jouer sur la profondeur",null,null,null,null,null,null,null,null,null,null,null,null,null,69]
[null,null,"Jouer sur la profondeur"]
[null,null,"Jouer sur la profondeur",null,null,null,null,null,null,null,null,null,null,null,null,null,70]
[null,null,"Jouer sur la profondeur",null,null,null,null,null,null,null,null,null,null,null,null,null,71]
[null,null,"Jouer sur la profondeur"]
[null,null,"Jouer sur la profondeur",null,null,null,null,null,null,null,null,null,null,null,null,null,72]
[null,null,"Jouer sur la profondeur",null,null,null,null,null,null,null,null,null,null,null,null,null,73]
[null,null,"Jouer sur la profondeur"]
[null,null,"Jouer sur le point faible de l'adversaire",null,null,null,null,null,null,null,null,null,null,null,null,null,74]
[null,null,"Jouer sur le point faible de l'adversaire",null,null,null,null,null,null,null,null,null,null,null,null,null,75]
[null,null,"Jouer sur le point faible de l'adversaire"]
[null,null,"Jouer sur le point faible de l'adversaire",null,null,null,null,null,null,null,null,null,null,null,null,null,76]
[null,null,"Jouer sur le point faible de l'adversaire",null,null,null,null,null,null,null,null,null,null,null,null,null,77]
[null,null,"Jouer sur le point faible de l'adversaire"]
[null,null,"Jouer sur le point faible de l'adversaire",null,null,null,null,null,null,null,null,null,null,null,null,null,78]
[null,null,"Jouer sur le point faible de l'adversaire",null,null,null,null,null,null,null,null,null,null,null,null,null,79]
[null,null,"Jouer sur le point faible de l'adversaire"]
[null,null,"Jouer sur le point faible de l'adversaire",null,null,null,null,null,null,null,null,null,null,null,null,null,80]
[null,null,"Jouer sur le point faible de l'adversaire",null,null,null,null,null,null,null,null,null,null,null,null,null,81]
[null,null,"Jouer sur le point faible de l'adversaire"]
[null,null,"Jouer sur le point faible de l'adversaire",null,null,null,null,null,null,null,null,null,null,null,null,null,82]
[null,null,"Jouer sur le point faible de l'adversaire",null,null,null,null,null,null,null,null,null,null,null,null,null,83]
[null,null,"Jouer sur le point faible de l'adversaire"]
[null,null,"Jouer sur le point faible de l'adversaire",null,null,null,null,null,null,null,null,null,null,null,null,null,84]
[null,null,"Jouer sur le point faible de l'adversaire",null,null,null,null,null,null,null,null,null,null,null,null,null,85]
[null,null,"Jouer sur le point faible de l'adversaire"]
[null,null,"Jouer sur le point faible de l'adversaire",null,null,null,null,null,null,null,null,null,null,null,null,null,86]
[null,null,"Jouer sur le point faible de l'adversaire",null,null,null,null,null,null,null,null,null,null,null,null,null,87]
[null,null,"Jouer sur le point faible de l'adversaire"]
[null,null,"Jouer sur le point faible de l'adversaire",null,null,null,null,null,null,null,null,null,null,null,null,null,88]
[null,null,"Jouer sur le point faible de l'adversaire",null,null,null,null,null,null,null,null,null,null,null,null,null,89]
[null,null,"Jouer sur le point faible de l'adversaire"]
[null,null,"Jouer sur le point faible de l'adversaire",null,null,null,null,null,null,null,null,null,null,null,null,null,90]
[null,null,"Jouer sur le point faible de l'adversaire",null,null,null,null,null,null,null,null,null,null,null,null,null,91]
[null,null,"Jouer sur le point faible de l'adversaire"]
[null,null,"Jouer sur le point faible de l'adversaire",null,null,null,null,null,null,null,null,null,null,null,null,null,92]
[null,null,"Jouer sur le point faible de l'adversaire",null,null,null,null,null,null,null,null,null,null,null,null,null,93]
[null,null,"Jouer sur le point faible de l'adversaire"]
[null,null,"Jouer sur le point faible de l'adversaire",null,null,null,null,null,null,null,null,null,null,null,null,null,94]
[null,null,"Jouer sur le point faible de l'adversaire",null,null,null,null,null,null,null,null,null,null,null,null,null,95]
[null,null,"Jouer sur le point faible de l'adversaire"]
[null,null,"Jouer sur le point faible de l'adversaire",null,null,null,null,null,null,null,null,null,null,null,null,null,96]
[null,null,"Jouer sur le point faible de l'adversaire",null,null,null,null,null,null,null,null,null,null,null,null,null,97]
[null,null,"Jouer sur le point faible de l'adversaire",null,null,null,null,null,null,null,null,null,"2 raquettes - 1 volant"]
[null,null,"Jouer sur le point faible de l'adversaire",null,null,null,null,null,null,null,null,null,"2 raquettes - 1 volant",null,null,null,98]
["MV:haut ou bas","MV-HouB","Renvoyer",null,"Différenciation frappe main haute et frappe main basse : la frappe main haute","Reconnaître lorsque je dois frapper main haute ou main basse","Routine","Annoncer haut ou bas en fonction du volant envoyé par l'adversaire",null,null,null,"leve la tête ",null,null,null,null,99,null,null,"leve la tête "]
["R:Réaliser 20 échanges sur 1/2 terrain","R-20R1/2t","Renvoyer","N1","Continuité de l'échange","Tenir le volant en vie pendant 20 passes","Volant continu","Se grouper par 4 sur un 1/2 terrain. Tenter de maintenir le volant en vie durant 20 passes.","3,44 x 1,84",null,null,"Renvoyer le volant haut et en cloche","4 raquettes - 1 volant","On réussi au bout de 3'"]
["R:Réaliser 20 échanges","R-20é","Renvoyer","N1","Continuité de l'échange","Tenir le volant en vie pendant 20 passes","Volant continu","Se grouper par 4 sur 1 terrain entier. Tenter de maintenir le volant en vie pendant 20 passes en lui faisant franchir le filet à chaque passe.",null,null,null,"Renvoyer le volant haut et en cloche","4 raquettes - 1 volant","CR","Intérêt","Cns",200]
["R:réaliser 20 échanges en tournante sur 1/2 terrain","R-20étournante1/2t","Renvoyer","N1","Continuité de l'échange","Tenir le volant en vie pendant 20 passes","Volant continu","A renvoi le volant sur B qui renvoi sur C qui renvoi sur D. Entre chaque frappe, le joueur se replace derrière son partenaire.",null,"Ajouter des portes latérales si besoin",null,"Renvoyer le volant haut et en cloche","4 raquettes - 1 volant"," ",null,null,201]
["R:échanger pendant 1'","R-1'","Renvoyer","N1","Continuité de l'échange","Tenir le volant en vie pendant 1 minute","volant continu","Les 2 joueurs se font des passes en étant en face",null,"Lorsque le volant tombe au sol la minute recommence",null,"Envoyer le volant haut et en cloche au centre","2 raquettes - 1 volant",null,"c",null,202]
["R:pion","PF-pion","Renvoyer",null,"Améliorer le déplacement","Renvoyer le volant après avoir réaliser un léger déplacement en ligne droite ou en diagonale",null,"Le joueur blanc envoie en continu le volant une fois au centre une fois devant lui. Le joueur rouge  renvoie toujours au centre.",null,null,null,"Varier l'orientation de sa raquette et la force dosée pur viser la zone attendue. Anticiper son prochain coup.",null,null,null,null,203]
["R:Gauche-Droite","R-GD","Jouer sur la largeur",null,"Continuité de l'échange","Réaliser 15 passes en en alternant droite-gauche","volant continu","Le joueur qui valide doit renvoyer alternativement à droite et à gauche pendant 15 échanges. L'autre joueur doit renvoyer au centre en coup droit.",null,null,null,"essai",null,null,null,null,4]
["MT-pts marqués en zones latérales","MT-Zlat","Jouer sur la largeur",null,"Utiliser la largeur du terrain","Marquer des points dans les zones latérales","match à thème","2 zones latérales. Seuls les points marqués dans ces zones comptent (faute adverse ou point direct)",null,"Un seul des 2 joueurs doit jouer dans les zones latérales."]
["R:Alterner droite gauche à 3","R-DGà3","Jouer sur la largeur",null,"Donner une direction au volant en CD haut : le renvoyer croisé","Renvoyer ","Volant continu","Le joueur jaune renvoit alternativement sur la joueuse bleue et le joueur blanc. La joueuse bleue et le joueur blanc renvoient le volant une fois à droite, une fois à gauche.",null,null,null,null,null,null,null,null,5]
["R:15 échanges Alterner gauche droite","R-15DG","Jouer sur la largeur",null,"Jouer sur la largeur","Réaliser 15 échanges en alternant droite-gauche","volant continu","Alterner des renvois à gauche et à droite.",null,null,null,null,null,null,null,null,6]
["R:renvoyer alternativement à Droite et à Gauche en couloirs réduits","R-DGréduit","Jouer sur la largeur",null,"Jouer sur la largeur","Réaliser 15 échanges en alternant droite-gauche","volant continu","Alterner des renvois à gauche et à droite.",null,null,null,"Orienter le tamis de sa rauqette ers la zone visée","?",null,null,null,null,null,null,"leve la tête "]
["MT-Couloirs latéraux uniquement","MT-Zlat","Jouer sur la largeur",null,"Jouer sur la largeur","Marquer des points dans les zones latérales",null,"Seuls les points marqués en zones latérales comptent",null,null,null,null,null,null,null,null,7,"Att","COMplex","Simplf"]
["MT-Zones latérales","MT-Zlat","Jouer sur la largeur",null,"Jouer sur la largeur","Gagner le match en jouant dans les couloirs latéraux du terrain.",null,"Seuls les points marqués dans les couloirs latéraux comptent",null,null,null,null,null,null,null,null,8]
["MV:D-G",null,"Jouer sur la largeur",null,"Travailler l'orientation du tamis de la raquette",null,null,"Le joueur rouge sert en cloche au centre. La joueuse bleue renvoit une fois à droite, une fois à gauche",null,null,null,"Orienter le tamis de sa raquette vers la zone visée. Garder le coude haut"]
[null,null,"Renvoyer",null,null,null,null,null,null,null,null,null,null,null,null,null,9]
[null,null,"Renvoyer",null,null,null,null,null,null,null,null,null,null,null,null,null,10]
[null,null,"Renvoyer"]
[null,null,"Renvoyer",null,null,null,null,null,null,null,null,null,null,null,null,null,11]
[null,null,"Renvoyer",null,null,null,null,null,null,null,null,null,null,null,null,null,12]
[null,null,"Renvoyer"]
[null,null,"Renvoyer",null,null,null,null,null,null,null,null,null,null,null,null,null,13]
[null,null,"Renvoyer",null,null,null,null,null,null,null,null,null,null,null,null,null,14]
[null,null,"Renvoyer"]
[null,null,"Renvoyer",null,null,null,null,null,null,null,null,null,null,null,null,null,15]
[null,null,"Renvoyer",null,null,null,null,null,null,null,null,null,null,null,null,null,16]
[null,null,"Renvoyer"]
[null,null,"Renvoyer",null,null,null,null,null,null,null,null,null,null,null,null,null,17]
[null,null,"Renvoyer",null,null,null,null,null,null,null,null,null,null,null,null,null,18]
[null,null,"Renvoyer"]
[null,null,"Renvoyer",null,null,null,null,null,null,null,null,null,null,null,null,null,19]
[null,null,"Renvoyer",null,null,null,null,null,null,null,null,null,null,null,null,null,20]
[null,null,"Renvoyer"]
[null,null,"Renvoyer",null,null,null,null,null,null,null,null,null,null,null,null,null,21]
["MT-Service au centre-smash-libre","MT-Sc-Sm-libr","Smasher dès que possible",null,"Travailler le smash","Réaliser les 2 coups imposés et gagner le match",null,"Le serveur sert au centre. LE receveur réalise un smash. Puis le match est libre",null,null,null,null,null,null,null,null,22]
["MT-Smash uniquement","MT-Smuniq","Smasher dès que possible",null,"Travail du smash","Gagner le match en utilisant le smash",null,"Seuls les points marqués en utilisant le smash comptent.",null,"Ou alors bonifier le smash de 5 pts"]
["MT-Bingo smash","MT-BingSm","Smasher dès que possible",null,"Travail du smash et de la prise d'information","Gagner le smash en annonçant le point à l'avance",null,"Si le joueur annonce BINGO avant de marquer le point en smash il marque 5pts. S'il rate son coup c'est l'autre qui marque 5 pts",null,null,null,null,null,null,null,null,23]
["PF-Envoi au centre-Smash","PF-RcSm","Smasher dès que possible",null,"Smasher dès que possible","Réussir un maximum de smash",null,"1-Le joueur jaune au poste fixe envoie des volants haut au centre 2-Le joueur rouge réalise des smashs",null,null,null,"Lever le coude, frapper le volant en avant de la tête, tamis orienté vers les pieds de l'adversaire. Frapper en avançant. Accepter de rater le volant au début","2 raquettes - multi-volants",null,null,null,24]
["MT-Service haut au centre-Smash-libre","MT-ShtcSm","Smasher dès que possible",null,"Smasher dès que possible","Réussir à marquer le point sur un smash",null,"1-Le joueur jaune au poste fixe envoie des volants haut au centre 2-Le joueur rouge réalise des smashs 3-libre"]
[null,null,"Smasher dès que possible",null,null,null,null,null,null,null,null,null,null,null,null,null,25]
[null,null,"Smasher dès que possible",null,null,null,null,null,null,null,null,null,null,null,null,null,26]
[null,null,"Smasher dès que possible"]
[null,null,"Smasher dès que possible",null,null,null,null,null,null,null,null,null,null,null,null,null,27]
[null,null,"Smasher dès que possible",null,null,null,null,null,null,null,null,null,null,null,null,null,28]
[null,null,"Smasher dès que possible"]
[null,null,"Smasher dès que possible",null,null,null,null,null,null,null,null,null,null,null,null,null,29]
[null,null,"Smasher dès que possible",null,null,null,null,null,null,null,null,null,null,null,null,null,30]
[null,null,"Smasher dès que possible"]
[null,null,"Smasher dès que possible",null,null,null,null,null,null,null,null,null,null,null,null,null,31]
[null,null,"Smasher dès que possible",null,null,null,null,null,null,null,null,null,null,null,null,null,32]
[null,null,"Smasher dès que possible"]
[null,null,"Smasher dès que possible",null,null,null,null,null,null,null,null,null,null,null,null,null,33]
[null,null,"Smasher dès que possible",null,null,null,null,null,null,null,null,null,null,null,null,null,34]
[null,null,"Smasher dès que possible"]
[null,null,"Smasher dès que possible",null,null,null,null,null,null,null,null,null,null,null,null,null,35]
[null,null,"Smasher dès que possible",null,null,null,null,null,null,null,null,null,null,null,null,null,36]
[null,null,"Smasher dès que possible"]
[null,null,"Smasher dès que possible",null,null,null,null,null,null,null,null,null,null,null,null,null,37]
[null,null,"Smasher dès que possible",null,null,null,null,null,null,null,null,null,null,null,null,null,38]
[null,null,"Smasher dès que possible"]
[null,null,"Smasher dès que possible",null,null,null,null,null,null,null,null,null,null,null,null,null,39]
[null,null,"Smasher dès que possible"]
[null,null,"Smasher dès que possible",null,null,null,null,null,null,null,null,null,null,null,null,null,40]
[null,null,"Smasher dès que possible",null,null,null,null,null,null,null,null,null,null,null,null,null,41]
[null,null,"Smasher dès que possible",null,null,null,null,null,null,null,null,null,null,null,null,null,42]
[null,null,"Smasher dès que possible"]
[null,null,"Smasher dès que possible",null,null,null,null,null,null,null,null,null,null,null,null,null,43]
[null,null,"Smasher dès que possible"]
[null,null,"Smasher dès que possible",null,null,null,null,null,null,null,null,null,null,null,null,null,44]
[null,null,"Smasher dès que possible",null,null,null,null,null,null,null,null,null,null,null,null,null,45]
[null,null,"Smasher dès que possible"]
[null,null,"Smasher dès que possible",null,null,null,null,null,null,null,null,null,null,null,null,null,46]
[null,null,"Smasher dès que possible",null,null,null,null,null,null,null,null,null,null,null,null,null,47]
[null,null,"Smasher dès que possible"]
[null,null,"Smasher dès que possible",null,null,null,null,null,null,null,null,null,null,null,null,null,48]
[null,null,"Smasher dès que possible",null,null,null,null,null,null,null,null,null,null,null,null,null,49]
[null,null,"Smasher dès que possible"]
[null,null,"Smasher dès que possible",null,null,null,null,null,null,null,null,null,null,null,null,null,50]
[null,null,"Smasher dès que possible",null,null,null,null,null,null,null,null,null,null,null,null,null,51]
["MT-Service/postion adv","MT-S/adv","Travail technique Service",null,"utiliser le service pour prendre l'avantage","Servir long et court","match à thème","LE receveur se place pied collé sur la ligne de la zone morte ou sur la ligne de fond. Le serveur sert court ou long en fonction de la position de son adversaire. Match en 11 pts libre après le service.",null,null,null,null,null,null,null,null,52]
["MV:service",null,"Travail technique Service",null,"Travailler les paramètres de trajectoires du service","Réussir un max de service",null,"N1 : Renvoyer le volant de l'autre côté de différentes manières : \n-service court en RV \nN2 : + -service long et court en CD\nN3 : +service tendu\nN4 : même préparation de service + feinte"]
["MV:Spauline1",null,"Travail technique Service",null,"Passer d’un élève incapable de réussir un service réussi de manière régulière à un élève capable de servir sans faire de faute","Réussir 5 services d'affilé",null,"Les deux élèves doivent enchaîner 5 services réussi chacun. Un service est considéré réussi quand il n’y a pas faute. Quand le but est atteint l’on peut passer à la situation suivante.",null,"servir avec le tamis en dessous du nombril\n● servir derrière la ligne de service\n● Le volant atterrit derrière la ligne de service adverse et dans les limites du terrain\n● (Le service est en diagonale)\n● Les deux élèves réussissent à enchaîner 5 services réussi chacun",null,"bien orienter le tamis de la raquette (perpendiculaire à la chute du volant)\n● aider son partenaire afin de réussir l’exercice ensemble\n● répéter le geste pour l’intégrer (service cuillère attendu)\n● Connaître les règles du service et donc les lignes du terrain de badminton","Par groupe de 2. 5 volants par groupe. L’un sert et l’autre vérifie si le service est bon et ramasse les volants, au bout de 5 services on inverse.","Enchainer 5 services chacun en visant la bonne zone et en respectant les règles du service",null,null,"bien orienter le tamis de la raquette (perpendiculaire à la chute du volant)\n● aider son partenaire afin de réussir l’exercice ensemble\n● répéter le geste pour l’intégrer (service cuillère attendu)\n● Connaître les règles du service et donc les lignes du terrain de badminton"]
["SJ:SPauline2",null,"Travail technique Service",null,"Passer d’un élève qui sert pour engager le jeux à un élève capable de servir loin afin de prendre l’avantage en repoussant son adversaire.","gagner son adversaire et marquer au moins 20 points",null,"Par deux, sur un terrain entier. Le joueur qui sert cherche à faire reculer son adversaire, il dispose de 6 services d'affilé pour marquer le plus de points possible. Si le receveur recule mais reste dans la première zone il gagne 1pt, si le receveur recule dans la deuxième zone il gagne 3pts, si le receveur recule dans la troisième zone il gagne 5pts. Le receveur aura pour rôle de renvoyer le volant dans le camp adverse s'il échoue cela donne un pt à son adversaire, io devra à chaques service avoir un pied sur la ligne de service. Au bout de 6 services les rôles s'inversent. Un service raté vaut 0 pts.",null,null,null,"servir avec le tamis en dessous du nombril\n● servir derrière la ligne de service\n● Le volant atterrit derrière la ligne de service adverse et dans les limites du terrain\n● (Le service est en diagonale)\n● Les deux élèves réussissent à gagner 20 pts chacun\n● Respectent les règles de l'exercice (le receveur a à chaque service un pied sur la ligne de\nservice)","Terrain entier. Volants. Plots","Marquer au moins 20 points en respectant les règles du service",null,null,"bien orienter le tamis de la raquette (perpendiculaire à la chute du volant)\n● répéter le geste pour l’intégrer\n● Connaître les règles du service et donc les lignes du terrain de badminton\n● Augmenter le trajet de la raquette, pour accélérer la tête de raquette et gagner en puissance.\n● Montrer la direction que l'on veut donner au volant avec le pied non raquette pour maîtriser la\ntrajectoire\n● Si service revers faire du relâché serré pour gagner en puissance, ne pas serrer le manche de\nla raquette"]
["MT:SPauline3",null,"Travail technique Service",null,"passer d'un élève qui sert pour engager le jeu à un élève qui attaque au service.","gagner le match en utilisant le service. Marquer au moins 2 points grâce au service",null,"Match en 11 point sur terrain de simple, 3pts marqués si service gagnant ou sur le coup suivant du serveur.\nIls servent chacun leur tour, le service ne revient pas à celui qui a marqué le point mais à celui qui n'a pas servi lors de l’échange précédent.",null,null,null,"Choisir de servir court ou long en fonction de l’emplacement de l’adversaire sur le\nterrain\n● Faire de vrai service long (pas mis court) pour faire reculer son adversaire qui en\nmanque de puissance ne pourra pas renvoyer en fond de terrain (limite les possibilité\nde l’adversaire et donc l’incertitude).\n● Varier les trajectoires et le type de service, afin de créer de l’incertitude.","Terrain entier. Volant. 2 raquettes","Gagner le match\n● Marquer au moins deux fois grâce au service\n● Peu de fautes de service <4\n● Respecte les règles du service,sur cet exercice service croisé obligatoire\n● Respecter les règles de l'exercice, alterner le service",null,null,"Choisir de servir court ou long en fonction de l’emplacement de l’adversaire sur le\nterrain\n● Faire de vrai service long (pas mis court) pour faire reculer son adversaire qui en\nmanque de puissance ne pourra pas renvoyer en fond de terrain (limite les possibilité\nde l’adversaire et donc l’incertitude).\n● Idem exercice 2\n● Varier les trajectoires et le type de service, afin de créer de l’incertitude."]
[null,null,"Travail technique Service",null,null,null,null,null,null,null,null,null,null,null,null,null,55]
[null,null,"Travail technique Service",null,null,null,null,null,null,null,null,null,null,null,null,null,56]
[null,null,"Travail technique Service"]
[null,null,"Travail technique Service",null,null,null,null,null,null,null,null,null,null,null,null,null,57]
[null,null,"Travail technique Service",null,null,null,null,null,null,null,null,null,null,null,null,null,58]
[null,null,"Travail technique Service"]
[null,null,"Travail technique Service",null,null,null,null,null,null,null,null,null,null,null,null,null,59]
[null,null,"Travail technique Service",null,null,null,null,null,null,null,null,null,null,null,null,null,60]
[null,null,"Travail technique Service"]
[null,null,"Travail technique Service",null,null,null,null,null,null,null,null,null,null,null,null,null,61]
[null,null,"Travail technique Service",null,null,null,null,null,null,null,null,null,null,null,null,null,62]
[null,null,"Travail technique Service"]
[null,null,"Travail technique Service",null,null,null,null,null,null,null,null,null,null,null,null,null,63]
[null,null,null,null,null,null,null,null,null,null,null,null,null,null,null,null,64]
[]
[null,null,null,null,null,null,null,null,null,null,null,null,null,null,null,null,65]
[null,null,null,null,null,null,null,null,null,null,null,null,null,null,null,null,66]
[]
[null,null,null,null,null,null,null,null,null,null,null,null,null,null,null,null,67]
[]
[null,null,null,null,null,null,null,null,null,null,null,null,null,null,null,null,68]
[null,null,null,null,null,null,null,null,null,null,null,null,null,null,null,null,69]
[]
[null,null,null,null,null,null,null,null,null,null,null,null,null,null,null,null,70]
[null,null,null,null,null,null,null,null,null,null,null,null,null,null,null,null,71]
[null,null,null,null,null,null,null,null,null,null,null,null,null,null,null,null,72]
[]
[null,null,null,null,null,null,null,null,null,null,null,null,null,null,null,null,73]
[]
[null,null,null,null,null,null,null,null,null,null,null,null,null,null,null,null,74]
[null,null,null,null,null,null,null,null,null,null,null,null,null,null,null,null,75]
[]
[null,null,null,null,null,null,null,null,null,null,null,null,null,null,null,null,76]
[null,null,null,null,null,null,null,null,null,null,null,null,null,null,null,null,77]
[]
[null,null,null,null,null,null,null,null,null,null,null,null,null,null,null,null,78]
[null,null,null,null,null,null,null,null,null,null,null,null,null,null,null,null,79]
[]
[null,null,null,null,null,null,null,null,null,null,null,null,null,null,null,null,80]
[null,null,null,null,null,null,null,null,null,null,null,null,null,null,null,null,81]
[]
[null,null,null,null,null,null,null,null,null,null,null,null,null,null,null,null,82]
[null,null,null,null,null,null,null,null,null,null,null,null,null,null,null,null,83]
[]
[null,null,null,null,null,null,null,null,null,null,null,null,null,null,null,null,84]
[null,null,null,null,null,null,null,null,null,null,null,null,null,null,null,null,85]
[]
[null,null,null,null,null,null,null,null,null,null,null,null,null,null,null,null,86]
[null,null,null,null,null,null,null,null,null,null,null,null,null,null,null,null,87]
[]
[null,null,null,null,null,null,null,null,null,null,null,null,null,null,null,null,88]
[null,null,null,null,null,null,null,null,null,null,null,null,null,null,null,null,89]
[]
[null,null,null,null,null,null,null,null,null,null,null,null,null,null,null,null,90]
[null,null,null,null,null,null,null,null,null,null,null,null,null,null,null,null,91]
[]
[null,null,null,null,null,null,null,null,null,null,null,null,null,null,null,null,92]
[null,null,null,null,null,null,null,null,null,null,null,null,null,null,null,null,93]
[]
[null,null,null,null,null,null,null,null,null,null,null,null,null,null,null,null,94]
[null,null,null,null,null,null,null,null,null,null,null,null,null,null,null,null,95]
[]
[null,null,null,null,null,null,null,null,null,null,null,null,null,null,null,null,96]
[null,null,null,null,null,null,null,null,null,null,null,null,null,null,null,null,97]
[]
[null,null,null,null,null,null,null,null,null,null,null,null,null,null,null,null,98]
[null,null,null,null,null,null,null,null,null,null,null,null,null,null,null,null,99]
[]
[null,null,null,null,null,null,null,null,null,null,null,null,null,null,null,null,300]
[null,null,null,null,null,null,null,null,null,null,null,null,null,null,null,null,301]
[null,null,null,null,null,null,null,null,null,null,null,null,null,null,null,null,302]
[]
[null,null,null,null,null,null,null,null,null,null,null,null,null,null,null,null,3]
[]
[null,null,null,null,null,null,null,null,null,null,null,null,null,null,null,null,4]
[null,null,null,null,null,null,null,null,null,null,null,null,null,null,null,null,5]
[]
[null,null,null,null,null,null,null,null,null,null,null,null,null,null,null,null,6]
[null,null,null,null,null,null,null,null,null,null,null,null,null,null,null,null,7]
[]
[null,null,null,null,null,null,null,null,null,null,null,null,null,null,null,null,8]
[null,null,null,null,null,null,null,null,null,null,null,null,null,null,null,null,9]
[]
[null,null,null,null,null,null,null,null,null,null,null,null,null,null,null,null,10]
[null,null,null,null,null,null,null,null,null,null,null,null,null,null,null,null,11]
[]
[null,null,null,null,null,null,null,null,null,null,null,null,null,null,null,null,12]
[null,null,null,null,null,null,null,null,null,null,null,null,null,null,null,null,13]
[]
[null,null,null,null,null,null,null,null,null,null,null,null,null,null,null,null,14]
[null,null,null,null,null,null,null,null,null,null,null,null,null,null,null,null,15]
[]
[null,null,null,null,null,null,null,null,null,null,null,null,null,null,null,null,16]
[null,null,null,null,null,null,null,null,null,null,null,null,null,null,null,null,17]
[]
[null,null,null,null,null,null,null,null,null,null,null,null,null,null,null,null,18]
[null,null,null,null,null,null,null,null,null,null,null,null,null,null,null,null,19]
[]
[null,null,null,null,null,null,null,null,null,null,null,null,null,null,null,null,20]
[null,null,null,null,null,null,null,null,null,null,null,null,null,null,null,null,21]
[]
[null,null,null,null,null,null,null,null,null,null,null,null,null,null,null,null,22]
[null,null,null,null,null,null,null,null,null,null,null,null,null,null,null,null,23]
[]
[null,null,null,null,null,null,null,null,null,null,null,null,null,null,null,null,24]
[null,null,null,null,null,null,null,null,null,null,null,null,null,null,null,null,25]
[]
[null,null,null,null,null,null,null,null,null,null,null,null,null,null,null,null,26]
[null,null,null,null,null,null,null,null,null,null,null,null,null,null,null,null,27]
[]
[null,null,null,null,null,null,null,null,null,null,null,null,null,null,null,null,28]
[null,null,null,null,null,null,null,null,null,null,null,null,null,null,null,null,29]
[]
[null,null,null,null,null,null,null,null,null,null,null,null,null,null,null,null,30]
[null,null,null,null,null,null,null,null,null,null,null,null,null,null,null,null,31]
[]
[null,null,null,null,null,null,null,null,null,null,null,null,null,null,null,null,32]
[null,null,null,null,null,null,null,null,null,null,null,null,null,null,null,null,33]
[]
[null,null,null,null,null,null,null,null,null,null,null,null,null,null,null,null,34]
[null,null,null,null,null,null,null,null,null,null,null,null,null,null,null,null,35]
[]
[null,null,null,null,null,null,null,null,null,null,null,null,null,null,null,null,36]
[null,null,null,null,null,null,null,null,null,null,null,null,null,null,null,null,37]
[]
[null,null,null,null,null,null,null,null,null,null,null,null,null,null,null,null,38]
[null,null,null,null,null,null,null,null,null,null,null,null,null,null,null,null,39]
[]
[null,null,null,null,null,null,null,null,null,null,null,null,null,null,null,null,40]
[null,null,null,null,null,null,null,null,null,null,null,null,null,null,null,null,41]
[]
[null,null,null,null,null,null,null,null,null,null,null,null,null,null,null,null,42]
[]
[null,null,null,null,null,null,null,null,null,null,null,null,null,null,null,null,43]
[null,null,null,null,null,null,null,null,null,null,null,null,null,null,null,null,44]
[null,null,null,null,null,null,null,null,null,null,null,null,null,null,null,null,45]
[]
[null,null,null,null,null,null,null,null,null,null,null,null,null,null,null,null,46]
[]
[null,null,null,null,null,null,null,null,null,null,null,null,null,null,null,null,47]
[null,null,null,null,null,null,null,null,null,null,null,null,null,null,null,null,48]
[]
[null,null,null,null,null,null,null,null,null,null,null,null,null,null,null,null,49]
[null,null,null,null,null,null,null,null,null,null,null,null,null,null,null,null,50]
[]
[null,null,null,null,null,null,null,null,null,null,null,null,null,null,null,null,51]
[null,null,null,null,null,null,null,null,null,null,null,null,null,null,null,null,52]
[]
[null,null,null,null,null,null,null,null,null,null,null,null,null,null,null,null,53]
[null,null,null,null,null,null,null,null,null,null,null,null,null,null,null,null,54]
[]
[null,null,null,null,null,null,null,null,null,null,null,null,null,null,null,null,55]
[null,null,null,null,null,null,null,null,null,null,null,null,null,null,null,null,56]
[]
[null,null,null,null,null,null,null,null,null,null,null,null,null,null,null,null,57]
[null,null,null,null,null,null,null,null,null,null,null,null,null,null,null,null,58]
[]
[null,null,null,null,null,null,null,null,null,null,null,null,null,null,null,null,59]
[null,null,null,null,null,null,null,null,null,null,null,null,null,null,null,null,60]
[]
[null,null,null,null,null,null,null,null,null,null,null,null,null,null,null,null,61]
[null,null,null,null,null,null,null,null,null,null,null,null,null,null,null,null,62]
[]
[null,null,null,null,null,null,null,null,null,null,null,null,null,null,null,null,63]
[null,null,null,null,null,null,null,null,null,null,null,null,null,null,null,null,64]
[]
[null,null,null,null,null,null,null,null,null,null,null,null,null,null,null,null,65]
[null,null,null,null,null,null,null,null,null,null,null,null,null,null,null,null,66]
[]
[null,null,null,null,null,null,null,null,null,null,null,null,null,null,null,null,67]
[null,null,null,null,null,null,null,null,null,null,null,null,null,null,null,null,68]
[]
[null,null,null,null,null,null,null,null,null,null,null,null,null,null,null,null,69]
[null,null,null,null,null,null,null,null,null,null,null,null,null,null,null,null,70]
[]
[null,null,null,null,null,null,null,null,null,null,null,null,null,null,null,null,71]
[null,null,null,null,null,null,null,null,null,null,null,null,null,null,null,null,72]
[]
[null,null,null,null,null,null,null,null,null,null,null,null,null,null,null,null,73]
[null,null,null,null,null,null,null,null,null,null,null,null,null,null,null,null,74]
[]
[null,null,null,null,null,null,null,null,null,null,null,null,null,null,null,null,75]
[null,null,null,null,null,null,null,null,null,null,null,null,null,null,null,null,76]
[]
[null,null,null,null,null,null,null,null,null,null,null,null,null,null,null,null,77]
[null,null,null,null,null,null,null,null,null,null,null,null,null,null,null,null,78]
[]
[null,null,null,null,null,null,null,null,null,null,null,null,null,null,null,null,79]
[]
[null,null,null,null,null,null,null,null,null,null,null,null,null,null,null,null,80]
[null,null,null,null,null,null,null,null,null,null,null,null,null,null,null,null,81]
[null,null,null,null,null,null,null,null,null,null,null,null,null,null,null,null,82]
[]
[null,null,null,null,null,null,null,null,null,null,null,null,null,null,null,null,83]
[null,null,null,null,null,null,null,null,null,null,null,null,null,null,null,null,84]
[]
[null,null,null,null,null,null,null,null,null,null,null,null,null,null,null,null,85]
[]
[null,null,null,null,null,null,null,null,null,null,null,null,null,null,null,null,86]
[null,null,null,null,null,null,null,null,null,null,null,null,null,null,null,null,87]
[null,null,null,null,null,null,null,null,null,null,null,null,null,null,null,null,88]
[]
[null,null,null,null,null,null,null,null,null,null,null,null,null,null,null,null,89]
[null,null,null,null,null,null,null,null,null,null,null,null,null,null,null,null,90]
[]
[null,null,null,null,null,null,null,null,null,null,null,null,null,null,null,null,91]
[null,null,null,null,null,null,null,null,null,null,null,null,null,null,null,null,92]
[]
[null,null,null,null,null,null,null,null,null,null,null,null,null,null,null,null,93]
[null,null,null,null,null,null,null,null,null,null,null,null,null,null,null,null,94]
[]
[null,null,null,null,null,null,null,null,null,null,null,null,null,null,null,null,95]
[null,null,null,null,null,null,null,null,null,null,null,null,null,null,null,null,96]
[]
[null,null,null,null,null,null,null,null,null,null,null,null,null,null,null,null,97]
[]
[null,null,null,null,null,null,null,null,null,null,null,null,null,null,null,null,98]
[null,null,null,null,null,null,null,null,null,null,null,null,null,null,null,null,99]
[]
[null,null,null,null,null,null,null,null,null,null,null,null,null,null,null,null,400]
[null,null,null,null,null,null,null,null,null,null,null,null,null,null,null,null,401]
[]
[null,null,null,null,null,null,null,null,null,null,null,null,null,null,null,null,402]
[null,null,null,null,null,null,null,null,null,null,null,null,null,null,null,null,403]
[]
[null,null,null,null,null,null,null,null,null,null,null,null,null,null,null,null,404]
[null,null,null,null,null,null,null,null,null,null,null,null,null,null,null,null,5]
[]
[null,null,null,null,null,null,null,null,null,null,null,null,null,null,null,null,6]
[null,null,null,null,null,null,null,null,null,null,null,null,null,null,null,null,7]
[]
[null,null,null,null,null,null,null,null,null,null,null,null,null,null,null,null,8]
[null,null,null,null,null,null,null,null,null,null,null,null,null,null,null,null,9]
[]
[null,null,null,null,null,null,null,null,null,null,null,null,null,null,null,null,10]
[null,null,null,null,null,null,null,null,null,null,null,null,null,null,null,null,11]
[]
[null,null,null,null,null,null,null,null,null,null,null,null,null,null,null,null,12]
[null,null,null,null,null,null,null,null,null,null,null,null,null,null,null,null,13]
[]
[null,null,null,null,null,null,null,null,null,null,null,null,null,null,null,null,14]
[null,null,null,null,null,null,null,null,null,null,null,null,null,null,null,null,15]
[]
[null,null,null,null,null,null,null,null,null,null,null,null,null,null,null,null,16]
[null,null,null,null,null,null,null,null,null,null,null,null,null,null,null,null,17]
[]
[null,null,null,null,null,null,null,null,null,null,null,null,null,null,null,null,18]
[null,null,null,null,null,null,null,null,null,null,null,null,null,null,null,null,19]
[]
[null,null,null,null,null,null,null,null,null,null,null,null,null,null,null,null,20]
[null,null,null,null,null,null,null,null,null,null,null,null,null,null,null,null,21]
[]
[null,null,null,null,null,null,null,null,null,null,null,null,null,null,null,null,22]
[null,null,null,null,null,null,null,null,null,null,null,null,null,null,null,null,23]
[]
[null,null,null,null,null,null,null,null,null,null,null,null,null,null,null,null,24]
[null,null,null,null,null,null,null,null,null,null,null,null,null,null,null,null,25]
[]
[null,null,null,null,null,null,null,null,null,null,null,null,null,null,null,null,26]
[null,null,null,null,null,null,null,null,null,null,null,null,null,null,null,null,27]
[]
[null,null,null,null,null,null,null,null,null,null,null,null,null,null,null,null,28]
[null,null,null,null,null,null,null,null,null,null,null,null,null,null,null,null,29]
[]
[null,null,null,null,null,null,null,null,null,null,null,null,null,null,null,null,30]
[null,null,null,null,null,null,null,null,null,null,null,null,null,null,null,null,31]
[]
[null,null,null,null,null,null,null,null,null,null,null,null,null,null,null,null,32]
[null,null,null,null,null,null,null,null,null,null,null,null,null,null,null,null,33]
[]
[null,null,null,null,null,null,null,null,null,null,null,null,null,null,null,null,34]
[null,null,null,null,null,null,null,null,null,null,null,null,null,null,null,null,35]
[]
[null,null,null,null,null,null,null,null,null,null,null,null,null,null,null,null,36]
[null,null,null,null,null,null,null,null,null,null,null,null,null,null,null,null,37]
[]
[null,null,null,null,null,null,null,null,null,null,null,null,null,null,null,null,38]
[]
[null,null,null,null,null,null,null,null,null,null,null,null,null,null,null,null,39]
[null,null,null,null,null,null,null,null,null,null,null,null,null,null,null,null,40]
[null,null,null,null,null,null,null,null,null,null,null,null,null,null,null,null,41]
[]
[null,null,null,null,null,null,null,null,null,null,null,null,null,null,null,null,42]
[null,null,null,null,null,null,null,null,null,null,null,null,null,null,null,null,43]
[]
[null,null,null,null,null,null,null,null,null,null,null,null,null,null,null,null,44]
[null,null,null,null,null,null,null,null,null,null,null,null,null,null,null,null,45]
[]
[null,null,null,null,null,null,null,null,null,null,null,null,null,null,null,null,46]
[]
[null,null,null,null,null,null,null,null,null,null,null,null,null,null,null,null,47]
[null,null,null,null,null,null,null,null,null,null,null,null,null,null,null,null,48]
[]
[null,null,null,null,null,null,null,null,null,null,null,null,null,null,null,null,49]
[null,null,null,null,null,null,null,null,null,null,null,null,null,null,null,null,50]
[null,null,null,null,null,null,null,null,null,null,null,null,null,null,null,null,51]
[]
[null,null,null,null,null,null,null,null,null,null,null,null,null,null,null,null,52]
[]
[null,null,null,null,null,null,null,null,null,null,null,null,null,null,null,null,53]
[null,null,null,null,null,null,null,null,null,null,null,null,null,null,null,null,54]
[]
[null,null,null,null,null,null,null,null,null,null,null,null,null,null,null,null,55]
[null,null,null,null,null,null,null,null,null,null,null,null,null,null,null,null,56]
[]
[null,null,null,null,null,null,null,null,null,null,null,null,null,null,null,null,57]
[null,null,null,null,null,null,null,null,null,null,null,null,null,null,null,null,58]
[]
[null,null,null,null,null,null,null,null,null,null,null,null,null,null,null,null,59]
[null,null,null,null,null,null,null,null,null,null,null,null,null,null,null,null,60]
[]
[null,null,null,null,null,null,null,null,null,null,null,null,null,null,null,null,61]
[null,null,null,null,null,null,null,null,null,null,null,null,null,null,null,null,62]
[]
[null,null,null,null,null,null,null,null,null,null,null,null,null,null,null,null,63]
[null,null,null,null,null,null,null,null,null,null,null,null,null,null,null,null,64]
[]
[null,null,null,null,null,null,null,null,null,null,null,null,null,null,null,null,65]
[null,null,null,null,null,null,null,null,null,null,null,null,null,null,null,null,66]
[]
[null,null,null,null,null,null,null,null,null,null,null,null,null,null,null,null,67]
[null,null,null,null,null,null,null,null,null,null,null,null,null,null,null,null,68]
[]
[null,null,null,null,null,null,null,null,null,null,null,null,null,null,null,null,69]
[null,null,null,null,null,null,null,null,null,null,null,null,null,null,null,null,70]
[]
[null,null,null,null,null,null,null,null,null,null,null,null,null,null,null,null,71]
[null,null,null,null,null,null,null,null,null,null,null,null,null,null,null,null,72]
[]
[null,null,null,null,null,null,null,null,null,null,null,null,null,null,null,null,73]
[null,null,null,null,null,null,null,null,null,null,null,null,null,null,null,null,74]
[]
[null,null,null,null,null,null,null,null,null,null,null,null,null,null,null,null,75]
[null,null,null,null,null,null,null,null,null,null,null,null,null,null,null,null,76]
[]
[null,null,null,null,null,null,null,null,null,null,null,null,null,null,null,null,77]
[null,null,null,null,null,null,null,null,null,null,null,null,null,null,null,null,78]
[]
[null,null,null,null,null,null,null,null,null,null,null,null,null,null,null,null,79]
[null,null,null,null,null,null,null,null,null,null,null,null,null,null,null,null,80]
[]
[null,null,null,null,null,null,null,null,null,null,null,null,null,null,null,null,81]
[null,null,null,null,null,null,null,null,null,null,null,null,null,null,null,null,82]
[]
[null,null,null,null,null,null,null,null,null,null,null,null,null,null,null,null,83]
[null,null,null,null,null,null,null,null,null,null,null,null,null,null,null,null,84]
[]
[null,null,null,null,null,null,null,null,null,null,null,null,null,null,null,null,85]
[null,null,null,null,null,null,null,null,null,null,null,null,null,null,null,null,86]
[]
[null,null,null,null,null,null,null,null,null,null,null,null,null,null,null,null,87]
[null,null,null,null,null,null,null,null,null,null,null,null,null,null,null,null,88]
[]
[null,null,null,null,null,null,null,null,null,null,null,null,null,null,null,null,89]
[null,null,null,null,null,null,null,null,null,null,null,null,null,null,null,null,90]
[]
[null,null,null,null,null,null,null,null,null,null,null,null,null,null,null,null,91]
[null,null,null,null,null,null,null,null,null,null,null,null,null,null,null,null,92]
[]
[null,null,null,null,null,null,null,null,null,null,null,null,null,null,null,null,93]
[]
[null,null,null,null,null,null,null,null,null,null,null,null,null,null,null,null,94]
[null,null,null,null,null,null,null,null,null,null,null,null,null,null,null,null,95]