{"text_format":"1","workbook":"xlsx","n_sheets":8,"sheets":["ACCUEIL","EQUIPES","BASKETSTATS","ENREGSTATS","SUIVISTATS","PHOTOS","APPEL","DEBUT"],"not_rendered":{"charts":0,"images":39,"macros":1,"external_links":0,"defined_names":48,"comments":1,"pivot_tables":0},"unopened":[],"bounds":{"document_bytes":16777216,"sheet_cells":100000,"rows_first":2000,"rows_last":500,"rows_between":2000,"halvings":0,"cell_chars":16384,"cell_head_chars":4096},"cells_cut":0,"cells_raw":0,"read":"whole","date_system":"1900"}

{"sheet":"ACCUEIL","index":0,"n_rows":31,"n_cols":5,"rows_kept":31,"cut":false,"hidden":false,"merged":[[29,4,29,7],[30,4,30,7]]}
[]
[]
[]
[null,null,null,null,"BASKET"]
[null,null,null,null,"Les matchs d'ALEX"]
[]
[]
[]
[]
[]
[]
[]
[]
[]
[]
[]
[]
[]
[]
[]
[]
[]
[]
[]
[]
[]
[]
[]
[]
[null,null,null,null,"mickael.da-costa@ac-lyon.fr"]
[null,null,null,null,"https://acmickeps.wordpress.com"]

{"sheet":"EQUIPES","index":1,"n_rows":23,"n_cols":16,"rows_kept":23,"cut":false,"hidden":false,"merged":[]}
[]
[null,"NBA"]
[]
[null,"EQUIPE A",null,"EQUIPE B",null,"EQUIPE C",null,"EQUIPE D",null,null,null,1,{"$f":"INDEX(eleves,MATCH(L4,numero,0),MATCH($B$2,classes,0))","v":"Pipen"},null,17,{"$f":"INDEX(eleves,MATCH(O4,numero,0),MATCH($B$2,classes,0))","v":"mike"}]
[1,"Curry",null,"mick",null,null,null,null,null,null,null,2,{"$f":"INDEX(eleves,MATCH(L5,numero,0),MATCH($B$2,classes,0))","v":"Curry"},null,18,"mickael"]
[2,"Jordan",null,"mike",null,null,null,null,null,null,null,3,"Jordan",null,19,0]
[3,"Parker",null,"mika",null,null,null,null,null,null,null,4,"Diaw",null,20,0]
[4,"Lebron",null,"mickael",null,null,null,null,null,null,null,5,"Lebron",null,21,0]
[5,null,null,null,null,null,null,null,null,null,null,6,"Parker",null,22,0]
[6,null,null,null,null,null,null,null,null,null,null,7,"Olajuwon",null,23,0]
[null,null,null,null,null,null,null,null,null,null,null,8,"Shaquille",null,24,0]
[null,null,null,null,null,null,null,null,null,null,null,9,"Duncan",null,25,0]
[null,null,null,null,null,null,null,null,null,null,null,10,"Chamberlain",null,26,0]
[null,null,null,null,null,null,null,null,null,null,null,11,"Kobe",null,27,0]
[null,null,null,null,null,null,null,null,null,null,null,12,"ABDUL JABAR",null,28,0]
[null,null,null,null,null,null,null,null,null,null,null,13,"BIRD",null,29,0]
[null,null,null,null,null,null,null,null,null,null,null,14,"MAGIC",null,30,0]
[null,null,null,null,null,null,null,null,null,null,null,15,"mick",null,31,0]
[null,null,null,null,null,null,null,null,null,null,null,16,"mika",null,32,0]
[null,null,null,null,null,null,null,null,null,null,null,null,null,null,33,0]
[null,null,null,null,null,null,null,null,null,null,null,null,null,null,34,0]
[null,null,null,null,null,null,null,null,null,null,null,null,null,null,35,0]
[null,null,null,null,null,null,null,null,null,null,null,null,null,null,36,"x"]

{"sheet":"BASKETSTATS","index":2,"n_rows":50,"n_cols":24,"rows_kept":50,"cut":false,"hidden":false,"merged":[]}
[]
[null,{"$f":"EQUIPES!B2","v":"NBA"}]
[null,null,null,null,null,null,null,null,null,null,{"$f":"CONCATENATE(J31,\" - \",T31)","v":"0 - 0"}]
[]
[null,null,null,null,null,null,null,null,null,null,null,null,null,null,null,null,null,null,null,null,null,"Arbitre 1","Diaw"]
[]
[null,null,null,null,null,null,null,null,null,null,null,null,null,null,null,null,null,null,null,null,null,null,null,"Voici quelques lignes de commandes utiles que vous pouvez inscrire dans des macros (attachÈes ‡ des boutons ou ‡ l'ouverture d'un fichier excel)\n    \n'cacher la barre de formule\nApplication.DisplayFormulaBar = False\n\n'cacher l'aspect grillagÈ de la feuille\nActiveWindow.DisplayGridlines = False\n\n'cacher la barre d'outil du haut\nActiveWindow.DisplayHeadings = False\n\n'plein Ècran\nApplication.DisplayFullScreen = True\n\n'sÈlection d'une feuille au dÈmarrage\nSheets(\"ACCUEIL\").Select\n\n'dÈterminer le zoom par dÈfaut\nActiveWindow.Zoom = 90\n\n'cacher les onglets\nActiveWindow.DisplayWorkbookTabs = False"]
[]
[]
[]
[]
[null,null,null,null,null,null,null,null,null,null,null,null,null,null,null,null,null,null,null,null,null," FAUTES sifflées"," FAUTES oubliées"]
[]
[]
[]
[null,null,null,null,null,null,null,null,null,null,null,null,null,null,null,null,null,null,null,null,null,"Arbitre 2","Shaquille"]
[]
[]
[]
[]
[]
[]
[null,null,null,null,null,null,null,null,null,null,null,null,null,null,null,null,null,null,null,null,null," FAUTES sifflées"," FAUTES oubliées"]
[]
[]
[]
[]
[null,null,{"$f":"COUNTIF(D28:J28,\"V\")","v":0},null,{"$f":"IF(E31<O31,\"V\",IF(E31=O31,\"N\",\"D\"))","v":"N"},null,null,null,{"$f":"IF(I31>S31,\"V\",IF(I31=S31,\"N\",\"D\"))","v":"N"},"N",null,null,{"$f":"COUNTIF(N28:T28,\"V\")","v":0},null,{"$f":"IF(O31<E31,\"V\",IF(O31=E31,\"N\",\"D\"))","v":"N"},null,null,null,{"$f":"IF(S31>I31,\"V\",IF(S31=I31,\"N\",\"D\"))","v":"N"},"N"]
[null,null,1,-3,-1,3,1,1,3,5,null,null,null,{"$f":"D29","v":-3},{"$f":"E29","v":-1},3,1,1,3,5]
[null,null,null,"F","BP","I","BR","T","BT","PTS",null,null,null,{"$f":"D30","v":"F"},{"$f":"E30","v":"BP"},"I","BR","T","BT","PTS"]
[null,"EQUIPE A",{"$f":"IF(C28>M28,\"V\",IF(C28=M28,\"N\",\"D\"))","v":"N"},{"$f":"SUM(D32:D37)","v":0},{"$f":"SUM(E32:E37)","v":0},0,0,0,0,0,{"$f":"CONCATENATE(D31*$D$29+E31*$E$29+F31*$F$29+G31*$G$29+H31*$H$29+I31*$I$29+J31*$J$29,\" pts\")","v":"0 pts"},"EQUIPE B",{"$f":"IF(C31=\"D\",\"V\",IF(C31=\"V\",\"D\",\"N\"))","v":"N"},{"$f":"SUM(N32:N37)","v":0},{"$f":"SUM(O32:O37)","v":0},0,0,0,0,0,{"$f":"CONCATENATE(N31*$N$29+O31*O$29+P31*$P$29+Q31*$Q$29+R31*$R$29+S31*$S$29+T31*$T$29,\" pts\")","v":"0 pts"}]
[null,"Curry",{"$f":"$C$31","v":"N"},null,null,null,null,null,null,null,"0 pts","mick",{"$f":"$M$31","v":"N"},null,null,null,null,null,null,null,"0 pts"]
[null,"Jordan",{"$f":"$C$31","v":"N"},null,null,null,null,null,null,null,"0 pts","mike",{"$f":"$M$31","v":"N"},null,null,null,null,null,null,null,"0 pts"]
[null,"Parker","N",null,null,null,null,null,null,null,"0 pts","mika","N",null,null,null,null,null,null,null,"0 pts"]
[null,"Lebron","N",null,null,null,null,null,null,null,"0 pts","mickael","N",null,null,null,null,null,null,null,"0 pts"]
[null,null,"N",null,null,null,null,null,null,null,"0 pts",null,"N",null,null,null,null,null,null,null,"0 pts"]
[null,null,"N",null,null,null,null,null,null,null,"0 pts",null,"N",null,null,null,null,null,null,null,"0 pts"]
[]
[]
[]
[]
[]
[null,"CONTRATS",null,{"$f":"D30","v":"F"},{"$f":"E30","v":"BP"},"I","BR","T","BT","PTS",null,"CONTRATS",null,{"$f":"N30","v":"F"},{"$f":"O30","v":"BP"},"I","BR","T","BT","PTS"]
[null,{"$f":"B31","v":"EQUIPE A"},null,null,null,null,null,null,null,null,null,{"$f":"L31","v":"EQUIPE B"}]
[null,{"$f":"B32","v":"Curry"},{"$f":"$C$31","v":"N"},null,null,null,null,null,null,null,null,{"$f":"L32","v":"mick"},{"$f":"$C$31","v":"N"}]
[null,"Jordan",{"$f":"$C$31","v":"N"},null,null,null,null,null,null,null,null,"mike",{"$f":"$C$31","v":"N"}]
[null,"Parker","N",null,null,null,null,null,null,null,null,"mika","N"]
[null,"Lebron","N",null,null,null,null,null,null,null,null,"mickael","N"]
[null,0,"N",null,null,null,null,null,null,null,null,0,"N"]
[null,0,"N",null,null,null,null,null,null,null,null,0,"N"]

{"sheet":"ENREGSTATS","index":3,"n_rows":996,"n_cols":19,"rows_kept":996,"cut":false,"hidden":false,"merged":[]}
[]
[]
["CRITERES",null,{"$f":"BASKETSTATS!D30","v":"F"},{"$f":"BASKETSTATS!E30","v":"BP"},{"$f":"BASKETSTATS!F30","v":"I"},{"$f":"BASKETSTATS!G30","v":"BR"},{"$f":"BASKETSTATS!H30","v":"T"},{"$f":"BASKETSTATS!I30","v":"BT"},{"$f":"BASKETSTATS!J30","v":"PTS"},null,null,null,{"$f":"BASKETSTATS!N30","v":"F"},{"$f":"BASKETSTATS!O30","v":"BP"},{"$f":"BASKETSTATS!P30","v":"I"},{"$f":"BASKETSTATS!Q30","v":"BR"},{"$f":"BASKETSTATS!R30","v":"T"},{"$f":"BASKETSTATS!S30","v":"BT"},{"$f":"BASKETSTATS!T30","v":"PTS"}]
[]
[]
[]
[]
[]
[]
[]
[]
[]
[]
[]
[]
[]
[]
[]
[]
[]
[]
[]
[]
[]
[]
[]
[]
[]
[]
[]
[]
[]
[]
[]
[]
[]
[]
[]
[]
[]
[]
[]
[]
[]
[]
[]
[]
[]
[]
[]
[]
[]
[]
[]
[]
[]
[]
[]
[]
[]
[]
[]
[]
[]
[]
[]
[]
[]
[]
[]
[]
[]
[]
[]
[]
[]
[]
[]
[]
[]
[]
[]
[]
[]
[]
[]
[]
[]
[]
[]
[]
[]
[]
[]
[]
[]
[]
[]
[]
[]
[]
[]
[]
[]
[]
[]
[]
[]
[]
[]
[]
[]
[]
[]
[]
[]
[]
[]
[]
[]
[]
[]
[]
[]
[]
[]
[]
[]
[]
[]
[]
[]
[]
[]
[]
[]
[]
[]
[]
[]
[]
[]
[]
[]
[]
[]
[]
[]
[]
[]
[]
[]
[]
[]
[]
[]
[]
[]
[]
[]
[]
[]
[]
[]
[]
[]
[]
[]
[]
[]
[]
[]
[]
[]
[]
[]
[]
[]
[]
[]
[]
[]
[]
[]
[]
[]
[]
[]
[]
[]
[]
[]
[]
[]
[]
[]
[]
[]
[]
[]
[]
[]
[]
[]
[]
[]
[]
[]
[]
[]
[]
[]
[]
[]
[]
[]
[]
[]
[]
[]
[]
[]
[]
[]
[]
[]
[]
[]
[]
[]
[]
[]
[]
[]
[]
[]
[]
[]
[]
[]
[]
[]
[]
[]
[]
[]
[]
[]
[]
[]
[]
[]
[]
[]
[]
[]
[]
[]
[]
[]
[]
[]
[]
[]
[]
[]
[]
[]
[]
[]
[]
[]
[]
[]
[]
[]
[]
[]
[]
[]
[]
[]
[]
[]
[]
[]
[]
[]
[]
[]
[]
[]
[]
[]
[]
[]
[]
[]
[]
[]
[]
[]
[]
[]
[]
[]
[]
[]
[]
[]
[]
[]
[]
[]
[]
[]
[]
[]
[]
[]
[]
[]
[]
[]
[]
[]
[]
[]
[]
[]
[]
[]
[]
[]
[]
[]
[]
[]
[]
[]
[]
[]
[]
[]
[]
[]
[]
[]
[]
[]
[]
[]
[]
[]
[]
[]
[]
[]
[]
[]
[]
[]
[]
[]
[]
[]
[]
[]
[]
[]
[]
[]
[]
[]
[]
[]
[]
[]
[]
[]
[]
[]
[]
[]
[]
[]
[]
[]
[]
[]
[]
[]
[]
[]
[]
[]
[]
[]
[]
[]
[]
[]
[]
[]
[]
[]
[]
[]
[]
[]
[]
[]
[]
[]
[]
[]
[]
[]
[]
[]
[]
[]
[]
[]
[]
[]
[]
[]
[]
[]
[]
[]
[]
[]
[]
[]
[]
[]
[]
[]
[]
[]
[]
[]
[]
[]
[]
[]
[]
[]
[]
[]
[]
[]
[]
[]
[]
[]
[]
[]
[]
[]
[]
[]
[]
[]
[]
[]
[]
[]
[]
[]
[]
[]
[]
[]
[]
[]
[]
[]
[]
[]
[]
[]
[]
[]
[]
[]
[]
[]
[]
[]
[]
[]
[]
[]
[]
[]
[]
[{"$f":"IFERROR(K4,\"\")","v":0},{"$f":"IFERROR(L4,\"\")","v":0},0,0,0,0,0,0,0,0]
[{"$f":"IFERROR(K5,\"\")","v":0},{"$f":"IFERROR(L5,\"\")","v":0},{"$f":"IFERROR(M5,\"\")","v":0},{"$f":"IFERROR(N5,\"\")","v":0},{"$f":"IFERROR(O5,\"\")","v":0},{"$f":"IFERROR(P5,\"\")","v":0},{"$f":"IFERROR(Q5,\"\")","v":0},{"$f":"IFERROR(R5,\"\")","v":0},{"$f":"IFERROR(S5,\"\")","v":0},{"$f":"IFERROR(T5,\"\")","v":0}]
[0,0,0,0,0,0,0,0,0,0]
[0,0,0,0,0,0,0,0,0,0]
[0,0,0,0,0,0,0,0,0,0]
[0,0,0,0,0,0,0,0,0,0]
[0,0,0,0,0,0,0,0,0,0]
[0,0,0,0,0,0,0,0,0,0]
[0,0,0,0,0,0,0,0,0,0]
[0,0,0,0,0,0,0,0,0,0]
[0,0,0,0,0,0,0,0,0,0]
[0,0,0,0,0,0,0,0,0,0]
[0,0,0,0,0,0,0,0,0,0]
[0,0,0,0,0,0,0,0,0,0]
[0,0,0,0,0,0,0,0,0,0]
[0,0,0,0,0,0,0,0,0,0]
[0,0,0,0,0,0,0,0,0,0]
[0,0,0,0,0,0,0,0,0,0]
[0,0,0,0,0,0,0,0,0,0]
[0,0,0,0,0,0,0,0,0,0]
[0,0,0,0,0,0,0,0,0,0]
[0,0,0,0,0,0,0,0,0,0]
[0,0,0,0,0,0,0,0,0,0]
[0,0,0,0,0,0,0,0,0,0]
[0,0,0,0,0,0,0,0,0,0]
[0,0,0,0,0,0,0,0,0,0]
[0,0,0,0,0,0,0,0,0,0]
[0,0,0,0,0,0,0,0,0,0]
[0,0,0,0,0,0,0,0,0,0]
[0,0,0,0,0,0,0,0,0,0]
[0,0,0,0,0,0,0,0,0,0]
[0,0,0,0,0,0,0,0,0,0]
[0,0,0,0,0,0,0,0,0,0]
[0,0,0,0,0,0,0,0,0,0]
[0,0,0,0,0,0,0,0,0,0]
[0,0,0,0,0,0,0,0,0,0]
[0,0,0,0,0,0,0,0,0,0]
[0,0,0,0,0,0,0,0,0,0]
[0,0,0,0,0,0,0,0,0,0]
[0,0,0,0,0,0,0,0,0,0]
[0,0,0,0,0,0,0,0,0,0]
[0,0,0,0,0,0,0,0,0,0]
[0,0,0,0,0,0,0,0,0,0]
[0,0,0,0,0,0,0,0,0,0]
[0,0,0,0,0,0,0,0,0,0]
[0,0,0,0,0,0,0,0,0,0]
[0,0,0,0,0,0,0,0,0,0]
[0,0,0,0,0,0,0,0,0,0]
[0,0,0,0,0,0,0,0,0,0]
[0,0,0,0,0,0,0,0,0,0]
[0,0,0,0,0,0,0,0,0,0]
[0,0,0,0,0,0,0,0,0,0]
[0,0,0,0,0,0,0,0,0,0]
[0,0,0,0,0,0,0,0,0,0]
[0,0,0,0,0,0,0,0,0,0]
[0,0,0,0,0,0,0,0,0,0]
[0,0,0,0,0,0,0,0,0,0]
[0,0,0,0,0,0,0,0,0,0]
[0,0,0,0,0,0,0,0,0,0]
[0,0,0,0,0,0,0,0,0,0]
[0,0,0,0,0,0,0,0,0,0]
[0,0,0,0,0,0,0,0,0,0]
[0,0,0,0,0,0,0,0,0,0]
[0,0,0,0,0,0,0,0,0,0]
[0,0,0,0,0,0,0,0,0,0]
[{"$f":"IFERROR(K69,\"\")","v":0},{"$f":"IFERROR(L69,\"\")","v":0},{"$f":"IFERROR(M69,\"\")","v":0},{"$f":"IFERROR(N69,\"\")","v":0},{"$f":"IFERROR(O69,\"\")","v":0},{"$f":"IFERROR(P69,\"\")","v":0},{"$f":"IFERROR(Q69,\"\")","v":0},{"$f":"IFERROR(R69,\"\")","v":0},{"$f":"IFERROR(S69,\"\")","v":0},{"$f":"IFERROR(T69,\"\")","v":0}]
[0,0,0,0,0,0,0,0,0,0]
[0,0,0,0,0,0,0,0,0,0]
[0,0,0,0,0,0,0,0,0,0]
[0,0,0,0,0,0,0,0,0,0]
[0,0,0,0,0,0,0,0,0,0]
[0,0,0,0,0,0,0,0,0,0]
[0,0,0,0,0,0,0,0,0,0]
[0,0,0,0,0,0,0,0,0,0]
[0,0,0,0,0,0,0,0,0,0]
[0,0,0,0,0,0,0,0,0,0]
[0,0,0,0,0,0,0,0,0,0]
[0,0,0,0,0,0,0,0,0,0]
[0,0,0,0,0,0,0,0,0,0]
[0,0,0,0,0,0,0,0,0,0]
[0,0,0,0,0,0,0,0,0,0]
[0,0,0,0,0,0,0,0,0,0]
[0,0,0,0,0,0,0,0,0,0]
[0,0,0,0,0,0,0,0,0,0]
[0,0,0,0,0,0,0,0,0,0]
[0,0,0,0,0,0,0,0,0,0]
[0,0,0,0,0,0,0,0,0,0]
[0,0,0,0,0,0,0,0,0,0]
[0,0,0,0,0,0,0,0,0,0]
[0,0,0,0,0,0,0,0,0,0]
[0,0,0,0,0,0,0,0,0,0]
[0,0,0,0,0,0,0,0,0,0]
[0,0,0,0,0,0,0,0,0,0]
[0,0,0,0,0,0,0,0,0,0]
[0,0,0,0,0,0,0,0,0,0]
[0,0,0,0,0,0,0,0,0,0]
[0,0,0,0,0,0,0,0,0,0]
[0,0,0,0,0,0,0,0,0,0]
[0,0,0,0,0,0,0,0,0,0]
[0,0,0,0,0,0,0,0,0,0]
[0,0,0,0,0,0,0,0,0,0]
[0,0,0,0,0,0,0,0,0,0]
[0,0,0,0,0,0,0,0,0,0]
[0,0,0,0,0,0,0,0,0,0]
[0,0,0,0,0,0,0,0,0,0]
[0,0,0,0,0,0,0,0,0,0]
[0,0,0,0,0,0,0,0,0,0]
[0,0,0,0,0,0,0,0,0,0]
[0,0,0,0,0,0,0,0,0,0]
[0,0,0,0,0,0,0,0,0,0]
[0,0,0,0,0,0,0,0,0,0]
[0,0,0,0,0,0,0,0,0,0]
[0,0,0,0,0,0,0,0,0,0]
[0,0,0,0,0,0,0,0,0,0]
[0,0,0,0,0,0,0,0,0,0]
[0,0,0,0,0,0,0,0,0,0]
[0,0,0,0,0,0,0,0,0,0]
[0,0,0,0,0,0,0,0,0,0]
[0,0,0,0,0,0,0,0,0,0]
[0,0,0,0,0,0,0,0,0,0]
[0,0,0,0,0,0,0,0,0,0]
[0,0,0,0,0,0,0,0,0,0]
[0,0,0,0,0,0,0,0,0,0]
[0,0,0,0,0,0,0,0,0,0]
[0,0,0,0,0,0,0,0,0,0]
[0,0,0,0,0,0,0,0,0,0]
[0,0,0,0,0,0,0,0,0,0]
[0,0,0,0,0,0,0,0,0,0]
[0,0,0,0,0,0,0,0,0,0]
[{"$f":"IFERROR(K133,\"\")","v":0},{"$f":"IFERROR(L133,\"\")","v":0},{"$f":"IFERROR(M133,\"\")","v":0},{"$f":"IFERROR(N133,\"\")","v":0},{"$f":"IFERROR(O133,\"\")","v":0},{"$f":"IFERROR(P133,\"\")","v":0},{"$f":"IFERROR(Q133,\"\")","v":0},{"$f":"IFERROR(R133,\"\")","v":0},{"$f":"IFERROR(S133,\"\")","v":0},{"$f":"IFERROR(T133,\"\")","v":0}]
[0,0,0,0,0,0,0,0,0,0]
[0,0,0,0,0,0,0,0,0,0]
[0,0,0,0,0,0,0,0,0,0]
[0,0,0,0,0,0,0,0,0,0]
[0,0,0,0,0,0,0,0,0,0]
[0,0,0,0,0,0,0,0,0,0]
[0,0,0,0,0,0,0,0,0,0]
[0,0,0,0,0,0,0,0,0,0]
[0,0,0,0,0,0,0,0,0,0]
[0,0,0,0,0,0,0,0,0,0]
[0,0,0,0,0,0,0,0,0,0]
[0,0,0,0,0,0,0,0,0,0]
[0,0,0,0,0,0,0,0,0,0]
[0,0,0,0,0,0,0,0,0,0]
[0,0,0,0,0,0,0,0,0,0]
[0,0,0,0,0,0,0,0,0,0]
[0,0,0,0,0,0,0,0,0,0]
[0,0,0,0,0,0,0,0,0,0]
[0,0,0,0,0,0,0,0,0,0]
[0,0,0,0,0,0,0,0,0,0]
[0,0,0,0,0,0,0,0,0,0]
[0,0,0,0,0,0,0,0,0,0]
[0,0,0,0,0,0,0,0,0,0]
[0,0,0,0,0,0,0,0,0,0]
[0,0,0,0,0,0,0,0,0,0]
[0,0,0,0,0,0,0,0,0,0]
[0,0,0,0,0,0,0,0,0,0]
[0,0,0,0,0,0,0,0,0,0]
[0,0,0,0,0,0,0,0,0,0]
[0,0,0,0,0,0,0,0,0,0]
[0,0,0,0,0,0,0,0,0,0]
[0,0,0,0,0,0,0,0,0,0]
[0,0,0,0,0,0,0,0,0,0]
[0,0,0,0,0,0,0,0,0,0]
[0,0,0,0,0,0,0,0,0,0]
[0,0,0,0,0,0,0,0,0,0]
[0,0,0,0,0,0,0,0,0,0]
[0,0,0,0,0,0,0,0,0,0]
[0,0,0,0,0,0,0,0,0,0]
[0,0,0,0,0,0,0,0,0,0]
[0,0,0,0,0,0,0,0,0,0]
[0,0,0,0,0,0,0,0,0,0]
[0,0,0,0,0,0,0,0,0,0]
[0,0,0,0,0,0,0,0,0,0]
[0,0,0,0,0,0,0,0,0,0]
[0,0,0,0,0,0,0,0,0,0]
[0,0,0,0,0,0,0,0,0,0]
[0,0,0,0,0,0,0,0,0,0]
[0,0,0,0,0,0,0,0,0,0]
[0,0,0,0,0,0,0,0,0,0]
[0,0,0,0,0,0,0,0,0,0]
[0,0,0,0,0,0,0,0,0,0]
[0,0,0,0,0,0,0,0,0,0]
[0,0,0,0,0,0,0,0,0,0]
[0,0,0,0,0,0,0,0,0,0]
[0,0,0,0,0,0,0,0,0,0]
[0,0,0,0,0,0,0,0,0,0]
[0,0,0,0,0,0,0,0,0,0]
[0,0,0,0,0,0,0,0,0,0]
[0,0,0,0,0,0,0,0,0,0]
[0,0,0,0,0,0,0,0,0,0]
[0,0,0,0,0,0,0,0,0,0]
[0,0,0,0,0,0,0,0,0,0]
[{"$f":"IFERROR(K197,\"\")","v":0},{"$f":"IFERROR(L197,\"\")","v":0},{"$f":"IFERROR(M197,\"\")","v":0},{"$f":"IFERROR(N197,\"\")","v":0},{"$f":"IFERROR(O197,\"\")","v":0},{"$f":"IFERROR(P197,\"\")","v":0},{"$f":"IFERROR(Q197,\"\")","v":0},{"$f":"IFERROR(R197,\"\")","v":0},{"$f":"IFERROR(S197,\"\")","v":0},{"$f":"IFERROR(T197,\"\")","v":0}]
[0,0,0,0,0,0,0,0,0,0]
[0,0,0,0,0,0,0,0,0,0]
[0,0,0,0,0,0,0,0,0,0]
[0,0,0,0,0,0,0,0,0,0]
[0,0,0,0,0,0,0,0,0,0]
[0,0,0,0,0,0,0,0,0,0]
[0,0,0,0,0,0,0,0,0,0]
[0,0,0,0,0,0,0,0,0,0]
[0,0,0,0,0,0,0,0,0,0]
[0,0,0,0,0,0,0,0,0,0]
[0,0,0,0,0,0,0,0,0,0]
[0,0,0,0,0,0,0,0,0,0]
[0,0,0,0,0,0,0,0,0,0]
[0,0,0,0,0,0,0,0,0,0]
[0,0,0,0,0,0,0,0,0,0]
[0,0,0,0,0,0,0,0,0,0]
[0,0,0,0,0,0,0,0,0,0]
[0,0,0,0,0,0,0,0,0,0]
[0,0,0,0,0,0,0,0,0,0]
[0,0,0,0,0,0,0,0,0,0]
[0,0,0,0,0,0,0,0,0,0]
[0,0,0,0,0,0,0,0,0,0]
[0,0,0,0,0,0,0,0,0,0]
[0,0,0,0,0,0,0,0,0,0]
[0,0,0,0,0,0,0,0,0,0]
[0,0,0,0,0,0,0,0,0,0]
[0,0,0,0,0,0,0,0,0,0]
[0,0,0,0,0,0,0,0,0,0]
[0,0,0,0,0,0,0,0,0,0]
[0,0,0,0,0,0,0,0,0,0]
[0,0,0,0,0,0,0,0,0,0]
[0,0,0,0,0,0,0,0,0,0]
[0,0,0,0,0,0,0,0,0,0]
[0,0,0,0,0,0,0,0,0,0]
[0,0,0,0,0,0,0,0,0,0]
[0,0,0,0,0,0,0,0,0,0]
[0,0,0,0,0,0,0,0,0,0]
[0,0,0,0,0,0,0,0,0,0]
[0,0,0,0,0,0,0,0,0,0]
[0,0,0,0,0,0,0,0,0,0]
[0,0,0,0,0,0,0,0,0,0]
[0,0,0,0,0,0,0,0,0,0]
[0,0,0,0,0,0,0,0,0,0]
[0,0,0,0,0,0,0,0,0,0]
[0,0,0,0,0,0,0,0,0,0]
[0,0,0,0,0,0,0,0,0,0]
[0,0,0,0,0,0,0,0,0,0]
[0,0,0,0,0,0,0,0,0,0]
[0,0,0,0,0,0,0,0,0,0]
[0,0,0,0,0,0,0,0,0,0]
[0,0,0,0,0,0,0,0,0,0]
[0,0,0,0,0,0,0,0,0,0]
[0,0,0,0,0,0,0,0,0,0]
[0,0,0,0,0,0,0,0,0,0]
[0,0,0,0,0,0,0,0,0,0]
[0,0,0,0,0,0,0,0,0,0]
[0,0,0,0,0,0,0,0,0,0]
[0,0,0,0,0,0,0,0,0,0]
[0,0,0,0,0,0,0,0,0,0]
[0,0,0,0,0,0,0,0,0,0]
[0,0,0,0,0,0,0,0,0,0]
[0,0,0,0,0,0,0,0,0,0]
[0,0,0,0,0,0,0,0,0,0]
[{"$f":"IFERROR(K261,\"\")","v":0},{"$f":"IFERROR(L261,\"\")","v":0},{"$f":"IFERROR(M261,\"\")","v":0},{"$f":"IFERROR(N261,\"\")","v":0},{"$f":"IFERROR(O261,\"\")","v":0},{"$f":"IFERROR(P261,\"\")","v":0},{"$f":"IFERROR(Q261,\"\")","v":0},{"$f":"IFERROR(R261,\"\")","v":0},{"$f":"IFERROR(S261,\"\")","v":0},{"$f":"IFERROR(T261,\"\")","v":0}]
[0,0,0,0,0,0,0,0,0,0]
[0,0,0,0,0,0,0,0,0,0]
[0,0,0,0,0,0,0,0,0,0]
[0,0,0,0,0,0,0,0,0,0]
[0,0,0,0,0,0,0,0,0,0]
[0,0,0,0,0,0,0,0,0,0]
[0,0,0,0,0,0,0,0,0,0]
[0,0,0,0,0,0,0,0,0,0]
[0,0,0,0,0,0,0,0,0,0]
[0,0,0,0,0,0,0,0,0,0]
[0,0,0,0,0,0,0,0,0,0]
[0,0,0,0,0,0,0,0,0,0]
[0,0,0,0,0,0,0,0,0,0]
[0,0,0,0,0,0,0,0,0,0]
[0,0,0,0,0,0,0,0,0,0]
[0,0,0,0,0,0,0,0,0,0]
[0,0,0,0,0,0,0,0,0,0]
[0,0,0,0,0,0,0,0,0,0]
[0,0,0,0,0,0,0,0,0,0]
[0,0,0,0,0,0,0,0,0,0]
[0,0,0,0,0,0,0,0,0,0]
[0,0,0,0,0,0,0,0,0,0]
[0,0,0,0,0,0,0,0,0,0]
[0,0,0,0,0,0,0,0,0,0]
[0,0,0,0,0,0,0,0,0,0]
[0,0,0,0,0,0,0,0,0,0]
[0,0,0,0,0,0,0,0,0,0]
[0,0,0,0,0,0,0,0,0,0]
[0,0,0,0,0,0,0,0,0,0]
[0,0,0,0,0,0,0,0,0,0]
[0,0,0,0,0,0,0,0,0,0]
[0,0,0,0,0,0,0,0,0,0]
[0,0,0,0,0,0,0,0,0,0]
[0,0,0,0,0,0,0,0,0,0]
[0,0,0,0,0,0,0,0,0,0]
[0,0,0,0,0,0,0,0,0,0]
[0,0,0,0,0,0,0,0,0,0]
[0,0,0,0,0,0,0,0,0,0]
[0,0,0,0,0,0,0,0,0,0]
[0,0,0,0,0,0,0,0,0,0]
[0,0,0,0,0,0,0,0,0,0]
[0,0,0,0,0,0,0,0,0,0]
[0,0,0,0,0,0,0,0,0,0]
[0,0,0,0,0,0,0,0,0,0]
[0,0,0,0,0,0,0,0,0,0]
[0,0,0,0,0,0,0,0,0,0]
[0,0,0,0,0,0,0,0,0,0]
[0,0,0,0,0,0,0,0,0,0]
[0,0,0,0,0,0,0,0,0,0]
[0,0,0,0,0,0,0,0,0,0]
[0,0,0,0,0,0,0,0,0,0]
[0,0,0,0,0,0,0,0,0,0]
[0,0,0,0,0,0,0,0,0,0]
[0,0,0,0,0,0,0,0,0,0]
[0,0,0,0,0,0,0,0,0,0]
[0,0,0,0,0,0,0,0,0,0]
[0,0,0,0,0,0,0,0,0,0]
[0,0,0,0,0,0,0,0,0,0]
[0,0,0,0,0,0,0,0,0,0]
[0,0,0,0,0,0,0,0,0,0]
[0,0,0,0,0,0,0,0,0,0]
[0,0,0,0,0,0,0,0,0,0]
[0,0,0,0,0,0,0,0,0,0]
[{"$f":"IFERROR(K325,\"\")","v":0},{"$f":"IFERROR(L325,\"\")","v":0},{"$f":"IFERROR(M325,\"\")","v":0},{"$f":"IFERROR(N325,\"\")","v":0},{"$f":"IFERROR(O325,\"\")","v":0},{"$f":"IFERROR(P325,\"\")","v":0},{"$f":"IFERROR(Q325,\"\")","v":0},{"$f":"IFERROR(R325,\"\")","v":0},{"$f":"IFERROR(S325,\"\")","v":0},{"$f":"IFERROR(T325,\"\")","v":0}]
[0,0,0,0,0,0,0,0,0,0]
[0,0,0,0,0,0,0,0,0,0]
[0,0,0,0,0,0,0,0,0,0]
[0,0,0,0,0,0,0,0,0,0]
[0,0,0,0,0,0,0,0,0,0]
[0,0,0,0,0,0,0,0,0,0]
[0,0,0,0,0,0,0,0,0,0]
[0,0,0,0,0,0,0,0,0,0]
[0,0,0,0,0,0,0,0,0,0]
[0,0,0,0,0,0,0,0,0,0]
[0,0,0,0,0,0,0,0,0,0]
[0,0,0,0,0,0,0,0,0,0]
[0,0,0,0,0,0,0,0,0,0]
[0,0,0,0,0,0,0,0,0,0]
[0,0,0,0,0,0,0,0,0,0]
[0,0,0,0,0,0,0,0,0,0]
[0,0,0,0,0,0,0,0,0,0]
[0,0,0,0,0,0,0,0,0,0]
[0,0,0,0,0,0,0,0,0,0]
[0,0,0,0,0,0,0,0,0,0]
[0,0,0,0,0,0,0,0,0,0]
[0,0,0,0,0,0,0,0,0,0]
[0,0,0,0,0,0,0,0,0,0]
[0,0,0,0,0,0,0,0,0,0]
[0,0,0,0,0,0,0,0,0,0]
[0,0,0,0,0,0,0,0,0,0]
[0,0,0,0,0,0,0,0,0,0]
[0,0,0,0,0,0,0,0,0,0]
[0,0,0,0,0,0,0,0,0,0]
[0,0,0,0,0,0,0,0,0,0]
[0,0,0,0,0,0,0,0,0,0]
[0,0,0,0,0,0,0,0,0,0]
[0,0,0,0,0,0,0,0,0,0]
[0,0,0,0,0,0,0,0,0,0]
[0,0,0,0,0,0,0,0,0,0]
[0,0,0,0,0,0,0,0,0,0]
[0,0,0,0,0,0,0,0,0,0]
[0,0,0,0,0,0,0,0,0,0]
[0,0,0,0,0,0,0,0,0,0]
[0,0,0,0,0,0,0,0,0,0]
[0,0,0,0,0,0,0,0,0,0]
[0,0,0,0,0,0,0,0,0,0]
[0,0,0,0,0,0,0,0,0,0]
[0,0,0,0,0,0,0,0,0,0]
[0,0,0,0,0,0,0,0,0,0]
[0,0,0,0,0,0,0,0,0,0]
[0,0,0,0,0,0,0,0,0,0]
[0,0,0,0,0,0,0,0,0,0]
[0,0,0,0,0,0,0,0,0,0]
[0,0,0,0,0,0,0,0,0,0]
[0,0,0,0,0,0,0,0,0,0]
[0,0,0,0,0,0,0,0,0,0]
[0,0,0,0,0,0,0,0,0,0]
[0,0,0,0,0,0,0,0,0,0]
[0,0,0,0,0,0,0,0,0,0]
[0,0,0,0,0,0,0,0,0,0]
[0,0,0,0,0,0,0,0,0,0]
[0,0,0,0,0,0,0,0,0,0]
[0,0,0,0,0,0,0,0,0,0]
[0,0,0,0,0,0,0,0,0,0]
[0,0,0,0,0,0,0,0,0,0]
[0,0,0,0,0,0,0,0,0,0]
[0,0,0,0,0,0,0,0,0,0]
[{"$f":"IFERROR(K389,\"\")","v":0},{"$f":"IFERROR(L389,\"\")","v":0},{"$f":"IFERROR(M389,\"\")","v":0},{"$f":"IFERROR(N389,\"\")","v":0},{"$f":"IFERROR(O389,\"\")","v":0},{"$f":"IFERROR(P389,\"\")","v":0},{"$f":"IFERROR(Q389,\"\")","v":0},{"$f":"IFERROR(R389,\"\")","v":0},{"$f":"IFERROR(S389,\"\")","v":0},{"$f":"IFERROR(T389,\"\")","v":0}]
[0,0,0,0,0,0,0,0,0,0]
[0,0,0,0,0,0,0,0,0,0]
[0,0,0,0,0,0,0,0,0,0]
[0,0,0,0,0,0,0,0,0,0]
[0,0,0,0,0,0,0,0,0,0]
[0,0,0,0,0,0,0,0,0,0]
[0,0,0,0,0,0,0,0,0,0]
[0,0,0,0,0,0,0,0,0,0]
[0,0,0,0,0,0,0,0,0,0]
[0,0,0,0,0,0,0,0,0,0]
[0,0,0,0,0,0,0,0,0,0]
[0,0,0,0,0,0,0,0,0,0]
[0,0,0,0,0,0,0,0,0,0]
[0,0,0,0,0,0,0,0,0,0]
[0,0,0,0,0,0,0,0,0,0]
[0,0,0,0,0,0,0,0,0,0]
[0,0,0,0,0,0,0,0,0,0]
[0,0,0,0,0,0,0,0,0,0]
[0,0,0,0,0,0,0,0,0,0]
[0,0,0,0,0,0,0,0,0,0]
[0,0,0,0,0,0,0,0,0,0]
[0,0,0,0,0,0,0,0,0,0]
[0,0,0,0,0,0,0,0,0,0]
[0,0,0,0,0,0,0,0,0,0]
[0,0,0,0,0,0,0,0,0,0]
[0,0,0,0,0,0,0,0,0,0]
[0,0,0,0,0,0,0,0,0,0]
[0,0,0,0,0,0,0,0,0,0]
[0,0,0,0,0,0,0,0,0,0]
[0,0,0,0,0,0,0,0,0,0]
[0,0,0,0,0,0,0,0,0,0]
[0,0,0,0,0,0,0,0,0,0]
[0,0,0,0,0,0,0,0,0,0]
[0,0,0,0,0,0,0,0,0,0]
[0,0,0,0,0,0,0,0,0,0]
[0,0,0,0,0,0,0,0,0,0]
[0,0,0,0,0,0,0,0,0,0]
[0,0,0,0,0,0,0,0,0,0]
[0,0,0,0,0,0,0,0,0,0]
[0,0,0,0,0,0,0,0,0,0]
[0,0,0,0,0,0,0,0,0,0]
[0,0,0,0,0,0,0,0,0,0]
[0,0,0,0,0,0,0,0,0,0]
[0,0,0,0,0,0,0,0,0,0]
[0,0,0,0,0,0,0,0,0,0]
[0,0,0,0,0,0,0,0,0,0]
[0,0,0,0,0,0,0,0,0,0]
[0,0,0,0,0,0,0,0,0,0]
[0,0,0,0,0,0,0,0,0,0]
[0,0,0,0,0,0,0,0,0,0]
[0,0,0,0,0,0,0,0,0,0]
[0,0,0,0,0,0,0,0,0,0]
[0,0,0,0,0,0,0,0,0,0]
[0,0,0,0,0,0,0,0,0,0]
[0,0,0,0,0,0,0,0,0,0]
[0,0,0,0,0,0,0,0,0,0]
[0,0,0,0,0,0,0,0,0,0]
[0,0,0,0,0,0,0,0,0,0]
[0,0,0,0,0,0,0,0,0,0]
[0,0,0,0,0,0,0,0,0,0]
[0,0,0,0,0,0,0,0,0,0]
[0,0,0,0,0,0,0,0,0,0]
[0,0,0,0,0,0,0,0,0,0]
[{"$f":"IFERROR(K453,\"\")","v":0},{"$f":"IFERROR(L453,\"\")","v":0},{"$f":"IFERROR(M453,\"\")","v":0},{"$f":"IFERROR(N453,\"\")","v":0},{"$f":"IFERROR(O453,\"\")","v":0},{"$f":"IFERROR(P453,\"\")","v":0},{"$f":"IFERROR(Q453,\"\")","v":0},{"$f":"IFERROR(R453,\"\")","v":0},{"$f":"IFERROR(S453,\"\")","v":0},{"$f":"IFERROR(T453,\"\")","v":0}]
[0,0,0,0,0,0,0,0,0,0]
[0,0,0,0,0,0,0,0,0,0]
[0,0,0,0,0,0,0,0,0,0]
[0,0,0,0,0,0,0,0,0,0]
[0,0,0,0,0,0,0,0,0,0]
[0,0,0,0,0,0,0,0,0,0]
[0,0,0,0,0,0,0,0,0,0]
[0,0,0,0,0,0,0,0,0,0]
[0,0,0,0,0,0,0,0,0,0]
[0,0,0,0,0,0,0,0,0,0]
[0,0,0,0,0,0,0,0,0,0]
[0,0,0,0,0,0,0,0,0,0]
[0,0,0,0,0,0,0,0,0,0]
[0,0,0,0,0,0,0,0,0,0]
[0,0,0,0,0,0,0,0,0,0]
[0,0,0,0,0,0,0,0,0,0]
[0,0,0,0,0,0,0,0,0,0]
[0,0,0,0,0,0,0,0,0,0]
[0,0,0,0,0,0,0,0,0,0]
[0,0,0,0,0,0,0,0,0,0]
[0,0,0,0,0,0,0,0,0,0]
[0,0,0,0,0,0,0,0,0,0]
[0,0,0,0,0,0,0,0,0,0]
[0,0,0,0,0,0,0,0,0,0]
[0,0,0,0,0,0,0,0,0,0]
[0,0,0,0,0,0,0,0,0,0]
[0,0,0,0,0,0,0,0,0,0]
[0,0,0,0,0,0,0,0,0,0]
[0,0,0,0,0,0,0,0,0,0]
[0,0,0,0,0,0,0,0,0,0]
[0,0,0,0,0,0,0,0,0,0]
[0,0,0,0,0,0,0,0,0,0]
[0,0,0,0,0,0,0,0,0,0]
[0,0,0,0,0,0,0,0,0,0]
[0,0,0,0,0,0,0,0,0,0]
[0,0,0,0,0,0,0,0,0,0]
[0,0,0,0,0,0,0,0,0,0]
[0,0,0,0,0,0,0,0,0,0]
[0,0,0,0,0,0,0,0,0,0]
[0,0,0,0,0,0,0,0,0,0]
[0,0,0,0,0,0,0,0,0,0]
[0,0,0,0,0,0,0,0,0,0]
[0,0,0,0,0,0,0,0,0,0]
[0,0,0,0,0,0,0,0,0,0]
[0,0,0,0,0,0,0,0,0,0]
[0,0,0,0,0,0,0,0,0,0]
[0,0,0,0,0,0,0,0,0,0]

{"sheet":"SUIVISTATS","index":4,"n_rows":144,"n_cols":83,"rows_kept":144,"cut":false,"hidden":false,"merged":[[116,0,119,0],[116,1,119,1],[120,0,123,0],[120,1,123,1],[104,0,107,0],[104,1,107,1],[108,0,111,0],[108,1,111,1],[112,0,115,0],[112,1,115,1],[92,0,95,0],[92,1,95,1],[96,0,99,0],[96,1,99,1],[100,0,103,0],[100,1,103,1],[80,0,83,0],[80,1,83,1],[84,0,87,0],[84,1,87,1],[88,0,91,0],[88,1,91,1],[68,0,71,0],[68,1,71,1],[72,0,75,0],[72,1,75,1],[76,0,79,0],[76,1,79,1],[56,0,59,0],[56,1,59,1],[60,0,63,0],[60,1,63,1],[64,0,67,0],[64,1,67,1],[44,0,47,0],[44,1,47,1],[48,0,51,0],[48,1,51,1],[52,0,55,0],[52,1,55,1],[32,0,35,0],[32,1,35,1],[36,0,39,0],[36,1,39,1],[40,0,43,0],[40,1,43,1],[20,0,23,0],[20,1,23,1],[24,0,27,0],[24,1,27,1],[28,0,31,0],[28,1,31,1],[2,3,2,12],[12,0,15,0],[12,1,15,1],[16,0,19,0],[16,1,19,1],[4,1,7,1],[4,0,7,0],[8,0,11,0],[8,1,11,1],[3,3,3,12],[2,13,2,22],[3,13,3,22],[2,23,2,32],[3,23,3,32],[2,33,2,42],[3,33,3,42],[2,73,2,82],[3,73,3,82],[2,43,2,52],[3,43,3,52],[2,53,2,62],[3,53,3,62],[2,63,2,72],[3,63,3,72],[124,1,127,1],[128,1,131,1],[132,1,135,1],[136,1,139,1],[140,1,143,1],[124,0,127,0],[128,0,131,0],[132,0,135,0],[136,0,139,0],[140,0,143,0]]}
[]
[null,{"$f":"EQUIPES!B2","v":"NBA"}]
[null,null,null,{"$f":"VLOOKUP(D4,DEBUT!$D$5:$E$45,2,FALSE)","v":"Faute"},null,null,null,null,null,null,null,null,null,{"$f":"VLOOKUP(N4,DEBUT!$D$5:$E$45,2,FALSE)","v":"Ballon perdu"},null,null,null,null,null,null,null,null,null,{"$f":"VLOOKUP(X4,DEBUT!$D$5:$E$45,2,FALSE)","v":"Interception"},null,null,null,null,null,null,null,null,null,{"$f":"VLOOKUP(AH4,DEBUT!$D$5:$E$45,2,FALSE)","v":"Ballon récupéré"},null,null,null,null,null,null,null,null,null,{"$f":"VLOOKUP(AR4,DEBUT!$D$5:$E$45,2,FALSE)","v":"Tir"},null,null,null,null,null,null,null,null,null,{"$f":"VLOOKUP(BB4,DEBUT!$D$5:$E$45,2,FALSE)","v":"Bon Tir"},null,null,null,null,null,null,null,null,null,{"$f":"VLOOKUP(BL4,DEBUT!$D$5:$E$45,2,FALSE)","v":"Points"},null,null,null,null,null,null,null,null,null,"MATCHS GAGNES"]
[null,null,null,{"$f":"BASKETSTATS!D30","v":"F"},null,null,null,null,null,null,null,null,null,{"$f":"BASKETSTATS!E30","v":"BP"},null,null,null,null,null,null,null,null,null,{"$f":"BASKETSTATS!F30","v":"I"},null,null,null,null,null,null,null,null,null,{"$f":"BASKETSTATS!G30","v":"BR"},null,null,null,null,null,null,null,null,null,{"$f":"BASKETSTATS!H30","v":"T"},null,null,null,null,null,null,null,null,null,{"$f":"BASKETSTATS!I30","v":"BT"},null,null,null,null,null,null,null,null,null,{"$f":"BASKETSTATS!J30","v":"PTS"},null,null,null,null,null,null,null,null,null,"MG"]
[1,{"$f":"INDEX(eleves,MATCH(A5,numero,0),MATCH($B$2,classes,0))","v":"Pipen"},null,{"$f":"IF(ROWS($1:$1)<=COUNTIF(joueurs,$B5),INDEX(fautes,SMALL(IF(joueurs=$B5,ROW(INDIRECT(\"1:\"&ROWS(fautes)))),ROWS($1:$1))),\"\")","v":""},{"$f":"IF(ROWS($1:$2)<=COUNTIF(joueurs,$B5),INDEX(fautes,SMALL(IF(joueurs=$B5,ROW(INDIRECT(\"1:\"&ROWS(fautes)))),ROWS($1:$2))),\"\")","v":""},{"$f":"IF(ROWS($1:$3)<=COUNTIF(joueurs,$B5),INDEX(fautes,SMALL(IF(joueurs=$B5,ROW(INDIRECT(\"1:\"&ROWS(fautes)))),ROWS($1:$3))),\"\")","v":""},{"$f":"IF(ROWS($1:$4)<=COUNTIF(joueurs,$B5),INDEX(fautes,SMALL(IF(joueurs=$B5,ROW(INDIRECT(\"1:\"&ROWS(fautes)))),ROWS($1:$4))),\"\")","v":""},{"$f":"IF(ROWS($1:$5)<=COUNTIF(joueurs,$B5),INDEX(fautes,SMALL(IF(joueurs=$B5,ROW(INDIRECT(\"1:\"&ROWS(fautes)))),ROWS($1:$5))),\"\")","v":""},{"$f":"IF(ROWS($1:$6)<=COUNTIF(joueurs,$B5),INDEX(fautes,SMALL(IF(joueurs=$B5,ROW(INDIRECT(\"1:\"&ROWS(fautes)))),ROWS($1:$6))),\"\")","v":""},{"$f":"IF(ROWS($1:$7)<=COUNTIF(joueurs,$B5),INDEX(fautes,SMALL(IF(joueurs=$B5,ROW(INDIRECT(\"1:\"&ROWS(fautes)))),ROWS($1:$7))),\"\")","v":""},{"$f":"IF(ROWS($1:$8)<=COUNTIF(joueurs,$B5),INDEX(fautes,SMALL(IF(joueurs=$B5,ROW(INDIRECT(\"1:\"&ROWS(fautes)))),ROWS($1:$8))),\"\")","v":""},{"$f":"IF(ROWS($1:$9)<=COUNTIF(joueurs,$B5),INDEX(fautes,SMALL(IF(joueurs=$B5,ROW(INDIRECT(\"1:\"&ROWS(fautes)))),ROWS($1:$9))),\"\")","v":""},{"$f":"IF(ROWS($1:$10)<=COUNTIF(joueurs,$B5),INDEX(fautes,SMALL(IF(joueurs=$B5,ROW(INDIRECT(\"1:\"&ROWS(fautes)))),ROWS($1:$10))),\"\")","v":""},{"$f":"IF(ROWS($1:$1)<=COUNTIF(joueurs,$B5),INDEX(ballonperdus,SMALL(IF(joueurs=$B5,ROW(INDIRECT(\"1:\"&ROWS(ballonperdus)))),ROWS($1:$1))),\"\")","v":""},{"$f":"IF(ROWS($1:$2)<=COUNTIF(joueurs,$B5),INDEX(ballonperdus,SMALL(IF(joueurs=$B5,ROW(INDIRECT(\"1:\"&ROWS(ballonperdus)))),ROWS($1:$2))),\"\")","v":""},{"$f":"IF(ROWS($1:$3)<=COUNTIF(joueurs,$B5),INDEX(ballonperdus,SMALL(IF(joueurs=$B5,ROW(INDIRECT(\"1:\"&ROWS(ballonperdus)))),ROWS($1:$3))),\"\")","v":""},{"$f":"IF(ROWS($1:$4)<=COUNTIF(joueurs,$B5),INDEX(ballonperdus,SMALL(IF(joueurs=$B5,ROW(INDIRECT(\"1:\"&ROWS(ballonperdus)))),ROWS($1:$4))),\"\")","v":""},{"$f":"IF(ROWS($1:$5)<=COUNTIF(joueurs,$B5),INDEX(ballonperdus,SMALL(IF(joueurs=$B5,ROW(INDIRECT(\"1:\"&ROWS(ballonperdus)))),ROWS($1:$5))),\"\")","v":""},{"$f":"IF(ROWS($1:$6)<=COUNTIF(joueurs,$B5),INDEX(ballonperdus,SMALL(IF(joueurs=$B5,ROW(INDIRECT(\"1:\"&ROWS(ballonperdus)))),ROWS($1:$6))),\"\")","v":""},{"$f":"IF(ROWS($1:$7)<=COUNTIF(joueurs,$B5),INDEX(ballonperdus,SMALL(IF(joueurs=$B5,ROW(INDIRECT(\"1:\"&ROWS(ballonperdus)))),ROWS($1:$7))),\"\")","v":""},{"$f":"IF(ROWS($1:$8)<=COUNTIF(joueurs,$B5),INDEX(ballonperdus,SMALL(IF(joueurs=$B5,ROW(INDIRECT(\"1:\"&ROWS(ballonperdus)))),ROWS($1:$8))),\"\")","v":""},{"$f":"IF(ROWS($1:$9)<=COUNTIF(joueurs,$B5),INDEX(ballonperdus,SMALL(IF(joueurs=$B5,ROW(INDIRECT(\"1:\"&ROWS(ballonperdus)))),ROWS($1:$9))),\"\")","v":""},{"$f":"IF(ROWS($1:$10)<=COUNTIF(joueurs,$B5),INDEX(ballonperdus,SMALL(IF(joueurs=$B5,ROW(INDIRECT(\"1:\"&ROWS(ballonperdus)))),ROWS($1:$10))),\"\")","v":""},{"$f":"IF(ROWS($1:$1)<=COUNTIF(joueurs,$B5),INDEX(interceptions,SMALL(IF(joueurs=$B5,ROW(INDIRECT(\"1:\"&ROWS(interceptions)))),ROWS($1:$1))),\"\")","v":""},{"$f":"IF(ROWS($1:$2)<=COUNTIF(joueurs,$B5),INDEX(interceptions,SMALL(IF(joueurs=$B5,ROW(INDIRECT(\"1:\"&ROWS(interceptions)))),ROWS($1:$2))),\"\")","v":""},{"$f":"IF(ROWS($1:$3)<=COUNTIF(joueurs,$B5),INDEX(interceptions,SMALL(IF(joueurs=$B5,ROW(INDIRECT(\"1:\"&ROWS(interceptions)))),ROWS($1:$3))),\"\")","v":""},{"$f":"IF(ROWS($1:$4)<=COUNTIF(joueurs,$B5),INDEX(interceptions,SMALL(IF(joueurs=$B5,ROW(INDIRECT(\"1:\"&ROWS(interceptions)))),ROWS($1:$4))),\"\")","v":""},{"$f":"IF(ROWS($1:$5)<=COUNTIF(joueurs,$B5),INDEX(interceptions,SMALL(IF(joueurs=$B5,ROW(INDIRECT(\"1:\"&ROWS(interceptions)))),ROWS($1:$5))),\"\")","v":""},{"$f":"IF(ROWS($1:$6)<=COUNTIF(joueurs,$B5),INDEX(interceptions,SMALL(IF(joueurs=$B5,ROW(INDIRECT(\"1:\"&ROWS(interceptions)))),ROWS($1:$6))),\"\")","v":""},{"$f":"IF(ROWS($1:$7)<=COUNTIF(joueurs,$B5),INDEX(interceptions,SMALL(IF(joueurs=$B5,ROW(INDIRECT(\"1:\"&ROWS(interceptions)))),ROWS($1:$7))),\"\")","v":""},{"$f":"IF(ROWS($1:$8)<=COUNTIF(joueurs,$B5),INDEX(interceptions,SMALL(IF(joueurs=$B5,ROW(INDIRECT(\"1:\"&ROWS(interceptions)))),ROWS($1:$8))),\"\")","v":""},{"$f":"IF(ROWS($1:$9)<=COUNTIF(joueurs,$B5),INDEX(interceptions,SMALL(IF(joueurs=$B5,ROW(INDIRECT(\"1:\"&ROWS(interceptions)))),ROWS($1:$9))),\"\")","v":""},{"$f":"IF(ROWS($1:$10)<=COUNTIF(joueurs,$B5),INDEX(interceptions,SMALL(IF(joueurs=$B5,ROW(INDIRECT(\"1:\"&ROWS(interceptions)))),ROWS($1:$10))),\"\")","v":""},{"$f":"IF(ROWS($1:$1)<=COUNTIF(joueurs,$B5),INDEX(ballonrecuperes,SMALL(IF(joueurs=$B5,ROW(INDIRECT(\"1:\"&ROWS(ballonrecuperes)))),ROWS($1:$1))),\"\")","v":""},{"$f":"IF(ROWS($1:$2)<=COUNTIF(joueurs,$B5),INDEX(ballonrecuperes,SMALL(IF(joueurs=$B5,ROW(INDIRECT(\"1:\"&ROWS(ballonrecuperes)))),ROWS($1:$2))),\"\")","v":""},{"$f":"IF(ROWS($1:$3)<=COUNTIF(joueurs,$B5),INDEX(ballonrecuperes,SMALL(IF(joueurs=$B5,ROW(INDIRECT(\"1:\"&ROWS(ballonrecuperes)))),ROWS($1:$3))),\"\")","v":""},{"$f":"IF(ROWS($1:$4)<=COUNTIF(joueurs,$B5),INDEX(ballonrecuperes,SMALL(IF(joueurs=$B5,ROW(INDIRECT(\"1:\"&ROWS(ballonrecuperes)))),ROWS($1:$4))),\"\")","v":""},{"$f":"IF(ROWS($1:$5)<=COUNTIF(joueurs,$B5),INDEX(ballonrecuperes,SMALL(IF(joueurs=$B5,ROW(INDIRECT(\"1:\"&ROWS(ballonrecuperes)))),ROWS($1:$5))),\"\")","v":""},{"$f":"IF(ROWS($1:$6)<=COUNTIF(joueurs,$B5),INDEX(ballonrecuperes,SMALL(IF(joueurs=$B5,ROW(INDIRECT(\"1:\"&ROWS(ballonrecuperes)))),ROWS($1:$6))),\"\")","v":""},{"$f":"IF(ROWS($1:$7)<=COUNTIF(joueurs,$B5),INDEX(ballonrecuperes,SMALL(IF(joueurs=$B5,ROW(INDIRECT(\"1:\"&ROWS(ballonrecuperes)))),ROWS($1:$7))),\"\")","v":""},{"$f":"IF(ROWS($1:$8)<=COUNTIF(joueurs,$B5),INDEX(ballonrecuperes,SMALL(IF(joueurs=$B5,ROW(INDIRECT(\"1:\"&ROWS(ballonrecuperes)))),ROWS($1:$8))),\"\")","v":""},{"$f":"IF(ROWS($1:$9)<=COUNTIF(joueurs,$B5),INDEX(ballonrecuperes,SMALL(IF(joueurs=$B5,ROW(INDIRECT(\"1:\"&ROWS(ballonrecuperes)))),ROWS($1:$9))),\"\")","v":""},{"$f":"IF(ROWS($1:$10)<=COUNTIF(joueurs,$B5),INDEX(ballonrecuperes,SMALL(IF(joueurs=$B5,ROW(INDIRECT(\"1:\"&ROWS(ballonrecuperes)))),ROWS($1:$10))),\"\")","v":""},{"$f":"IF(ROWS($1:$1)<=COUNTIF(joueurs,$B5),INDEX(tirs,SMALL(IF(joueurs=$B5,ROW(INDIRECT(\"1:\"&ROWS(tirs)))),ROWS($1:$1))),\"\")","v":""},{"$f":"IF(ROWS($1:$2)<=COUNTIF(joueurs,$B5),INDEX(tirs,SMALL(IF(joueurs=$B5,ROW(INDIRECT(\"1:\"&ROWS(tirs)))),ROWS($1:$2))),\"\")","v":""},{"$f":"IF(ROWS($1:$3)<=COUNTIF(joueurs,$B5),INDEX(tirs,SMALL(IF(joueurs=$B5,ROW(INDIRECT(\"1:\"&ROWS(tirs)))),ROWS($1:$3))),\"\")","v":""},{"$f":"IF(ROWS($1:$4)<=COUNTIF(joueurs,$B5),INDEX(tirs,SMALL(IF(joueurs=$B5,ROW(INDIRECT(\"1:\"&ROWS(tirs)))),ROWS($1:$4))),\"\")","v":""},{"$f":"IF(ROWS($1:$5)<=COUNTIF(joueurs,$B5),INDEX(tirs,SMALL(IF(joueurs=$B5,ROW(INDIRECT(\"1:\"&ROWS(tirs)))),ROWS($1:$5))),\"\")","v":""},{"$f":"IF(ROWS($1:$6)<=COUNTIF(joueurs,$B5),INDEX(tirs,SMALL(IF(joueurs=$B5,ROW(INDIRECT(\"1:\"&ROWS(tirs)))),ROWS($1:$6))),\"\")","v":""},{"$f":"IF(ROWS($1:$7)<=COUNTIF(joueurs,$B5),INDEX(tirs,SMALL(IF(joueurs=$B5,ROW(INDIRECT(\"1:\"&ROWS(tirs)))),ROWS($1:$7))),\"\")","v":""},{"$f":"IF(ROWS($1:$8)<=COUNTIF(joueurs,$B5),INDEX(tirs,SMALL(IF(joueurs=$B5,ROW(INDIRECT(\"1:\"&ROWS(tirs)))),ROWS($1:$8))),\"\")","v":""},{"$f":"IF(ROWS($1:$9)<=COUNTIF(joueurs,$B5),INDEX(tirs,SMALL(IF(joueurs=$B5,ROW(INDIRECT(\"1:\"&ROWS(tirs)))),ROWS($1:$9))),\"\")","v":""},{"$f":"IF(ROWS($1:$10)<=COUNTIF(joueurs,$B5),INDEX(tirs,SMALL(IF(joueurs=$B5,ROW(INDIRECT(\"1:\"&ROWS(tirs)))),ROWS($1:$10))),\"\")","v":""},{"$f":"IF(ROWS($1:$1)<=COUNTIF(joueurs,$B5),INDEX(bontirs,SMALL(IF(joueurs=$B5,ROW(INDIRECT(\"1:\"&ROWS(bontirs)))),ROWS($1:$1))),\"\")","v":""},{"$f":"IF(ROWS($1:$2)<=COUNTIF(joueurs,$B5),INDEX(bontirs,SMALL(IF(joueurs=$B5,ROW(INDIRECT(\"1:\"&ROWS(bontirs)))),ROWS($1:$2))),\"\")","v":""},{"$f":"IF(ROWS($1:$3)<=COUNTIF(joueurs,$B5),INDEX(bontirs,SMALL(IF(joueurs=$B5,ROW(INDIRECT(\"1:\"&ROWS(bontirs)))),ROWS($1:$3))),\"\")","v":""},{"$f":"IF(ROWS($1:$4)<=COUNTIF(joueurs,$B5),INDEX(bontirs,SMALL(IF(joueurs=$B5,ROW(INDIRECT(\"1:\"&ROWS(bontirs)))),ROWS($1:$4))),\"\")","v":""},{"$f":"IF(ROWS($1:$5)<=COUNTIF(joueurs,$B5),INDEX(bontirs,SMALL(IF(joueurs=$B5,ROW(INDIRECT(\"1:\"&ROWS(bontirs)))),ROWS($1:$5))),\"\")","v":""},{"$f":"IF(ROWS($1:$6)<=COUNTIF(joueurs,$B5),INDEX(bontirs,SMALL(IF(joueurs=$B5,ROW(INDIRECT(\"1:\"&ROWS(bontirs)))),ROWS($1:$6))),\"\")","v":""},{"$f":"IF(ROWS($1:$7)<=COUNTIF(joueurs,$B5),INDEX(bontirs,SMALL(IF(joueurs=$B5,ROW(INDIRECT(\"1:\"&ROWS(bontirs)))),ROWS($1:$7))),\"\")","v":""},{"$f":"IF(ROWS($1:$8)<=COUNTIF(joueurs,$B5),INDEX(bontirs,SMALL(IF(joueurs=$B5,ROW(INDIRECT(\"1:\"&ROWS(bontirs)))),ROWS($1:$8))),\"\")","v":""},{"$f":"IF(ROWS($1:$9)<=COUNTIF(joueurs,$B5),INDEX(bontirs,SMALL(IF(joueurs=$B5,ROW(INDIRECT(\"1:\"&ROWS(bontirs)))),ROWS($1:$9))),\"\")","v":""},{"$f":"IF(ROWS($1:$10)<=COUNTIF(joueurs,$B5),INDEX(bontirs,SMALL(IF(joueurs=$B5,ROW(INDIRECT(\"1:\"&ROWS(bontirs)))),ROWS($1:$10))),\"\")","v":""},{"$f":"IF(ROWS($1:$1)<=COUNTIF(joueurs,$B5),INDEX(points,SMALL(IF(joueurs=$B5,ROW(INDIRECT(\"1:\"&ROWS(points)))),ROWS($1:$1))),\"\")","v":""},{"$f":"IF(ROWS($1:$2)<=COUNTIF(joueurs,$B5),INDEX(points,SMALL(IF(joueurs=$B5,ROW(INDIRECT(\"1:\"&ROWS(points)))),ROWS($1:$2))),\"\")","v":""},{"$f":"IF(ROWS($1:$3)<=COUNTIF(joueurs,$B5),INDEX(points,SMALL(IF(joueurs=$B5,ROW(INDIRECT(\"1:\"&ROWS(points)))),ROWS($1:$3))),\"\")","v":""},{"$f":"IF(ROWS($1:$4)<=COUNTIF(joueurs,$B5),INDEX(points,SMALL(IF(joueurs=$B5,ROW(INDIRECT(\"1:\"&ROWS(points)))),ROWS($1:$4))),\"\")","v":""},{"$f":"IF(ROWS($1:$5)<=COUNTIF(joueurs,$B5),INDEX(points,SMALL(IF(joueurs=$B5,ROW(INDIRECT(\"1:\"&ROWS(points)))),ROWS($1:$5))),\"\")","v":""},{"$f":"IF(ROWS($1:$6)<=COUNTIF(joueurs,$B5),INDEX(points,SMALL(IF(joueurs=$B5,ROW(INDIRECT(\"1:\"&ROWS(points)))),ROWS($1:$6))),\"\")","v":""},{"$f":"IF(ROWS($1:$7)<=COUNTIF(joueurs,$B5),INDEX(points,SMALL(IF(joueurs=$B5,ROW(INDIRECT(\"1:\"&ROWS(points)))),ROWS($1:$7))),\"\")","v":""},{"$f":"IF(ROWS($1:$8)<=COUNTIF(joueurs,$B5),INDEX(points,SMALL(IF(joueurs=$B5,ROW(INDIRECT(\"1:\"&ROWS(points)))),ROWS($1:$8))),\"\")","v":""},{"$f":"IF(ROWS($1:$9)<=COUNTIF(joueurs,$B5),INDEX(points,SMALL(IF(joueurs=$B5,ROW(INDIRECT(\"1:\"&ROWS(points)))),ROWS($1:$9))),\"\")","v":""},{"$f":"IF(ROWS($1:$10)<=COUNTIF(joueurs,$B5),INDEX(points,SMALL(IF(joueurs=$B5,ROW(INDIRECT(\"1:\"&ROWS(points)))),ROWS($1:$10))),\"\")","v":""},{"$f":"IF(ROWS($1:$1)<=COUNTIF(joueurs,$B5),INDEX(victoires,SMALL(IF(joueurs=$B5,ROW(INDIRECT(\"1:\"&ROWS(victoires)))),ROWS($1:$1))),\"\")","v":""},{"$f":"IF(ROWS($1:$2)<=COUNTIF(joueurs,$B5),INDEX(victoires,SMALL(IF(joueurs=$B5,ROW(INDIRECT(\"1:\"&ROWS(victoires)))),ROWS($1:$2))),\"\")","v":""},{"$f":"IF(ROWS($1:$3)<=COUNTIF(joueurs,$B5),INDEX(victoires,SMALL(IF(joueurs=$B5,ROW(INDIRECT(\"1:\"&ROWS(victoires)))),ROWS($1:$3))),\"\")","v":""},{"$f":"IF(ROWS($1:$4)<=COUNTIF(joueurs,$B5),INDEX(victoires,SMALL(IF(joueurs=$B5,ROW(INDIRECT(\"1:\"&ROWS(victoires)))),ROWS($1:$4))),\"\")","v":""},{"$f":"IF(ROWS($1:$5)<=COUNTIF(joueurs,$B5),INDEX(victoires,SMALL(IF(joueurs=$B5,ROW(INDIRECT(\"1:\"&ROWS(victoires)))),ROWS($1:$5))),\"\")","v":""},{"$f":"IF(ROWS($1:$6)<=COUNTIF(joueurs,$B5),INDEX(victoires,SMALL(IF(joueurs=$B5,ROW(INDIRECT(\"1:\"&ROWS(victoires)))),ROWS($1:$6))),\"\")","v":""},{"$f":"IF(ROWS($1:$7)<=COUNTIF(joueurs,$B5),INDEX(victoires,SMALL(IF(joueurs=$B5,ROW(INDIRECT(\"1:\"&ROWS(victoires)))),ROWS($1:$7))),\"\")","v":""},{"$f":"IF(ROWS($1:$8)<=COUNTIF(joueurs,$B5),INDEX(victoires,SMALL(IF(joueurs=$B5,ROW(INDIRECT(\"1:\"&ROWS(victoires)))),ROWS($1:$8))),\"\")","v":""},{"$f":"IF(ROWS($1:$9)<=COUNTIF(joueurs,$B5),INDEX(victoires,SMALL(IF(joueurs=$B5,ROW(INDIRECT(\"1:\"&ROWS(victoires)))),ROWS($1:$9))),\"\")","v":""},{"$f":"IF(ROWS($1:$10)<=COUNTIF(joueurs,$B5),INDEX(victoires,SMALL(IF(joueurs=$B5,ROW(INDIRECT(\"1:\"&ROWS(victoires)))),ROWS($1:$10))),\"\")","v":""}]
[null,null,null,{"$f":"IF(ROWS($1:$11)<=COUNTIF(joueurs,$B5),INDEX(fautes,SMALL(IF(joueurs=$B5,ROW(INDIRECT(\"1:\"&ROWS(fautes)))),ROWS($1:$11))),\"\")","v":""},{"$f":"IF(ROWS($1:$12)<=COUNTIF(joueurs,$B5),INDEX(fautes,SMALL(IF(joueurs=$B5,ROW(INDIRECT(\"1:\"&ROWS(fautes)))),ROWS($1:$12))),\"\")","v":""},{"$f":"IF(ROWS($1:$13)<=COUNTIF(joueurs,$B5),INDEX(fautes,SMALL(IF(joueurs=$B5,ROW(INDIRECT(\"1:\"&ROWS(fautes)))),ROWS($1:$13))),\"\")","v":""},{"$f":"IF(ROWS($1:$14)<=COUNTIF(joueurs,$B5),INDEX(fautes,SMALL(IF(joueurs=$B5,ROW(INDIRECT(\"1:\"&ROWS(fautes)))),ROWS($1:$14))),\"\")","v":""},{"$f":"IF(ROWS($1:$15)<=COUNTIF(joueurs,$B5),INDEX(fautes,SMALL(IF(joueurs=$B5,ROW(INDIRECT(\"1:\"&ROWS(fautes)))),ROWS($1:$15))),\"\")","v":""},{"$f":"IF(ROWS($1:$16)<=COUNTIF(joueurs,$B5),INDEX(fautes,SMALL(IF(joueurs=$B5,ROW(INDIRECT(\"1:\"&ROWS(fautes)))),ROWS($1:$16))),\"\")","v":""},{"$f":"IF(ROWS($1:$17)<=COUNTIF(joueurs,$B5),INDEX(fautes,SMALL(IF(joueurs=$B5,ROW(INDIRECT(\"1:\"&ROWS(fautes)))),ROWS($1:$17))),\"\")","v":""},{"$f":"IF(ROWS($1:$18)<=COUNTIF(joueurs,$B5),INDEX(fautes,SMALL(IF(joueurs=$B5,ROW(INDIRECT(\"1:\"&ROWS(fautes)))),ROWS($1:$18))),\"\")","v":""},{"$f":"IF(ROWS($1:$19)<=COUNTIF(joueurs,$B5),INDEX(fautes,SMALL(IF(joueurs=$B5,ROW(INDIRECT(\"1:\"&ROWS(fautes)))),ROWS($1:$19))),\"\")","v":""},{"$f":"IF(ROWS($1:$20)<=COUNTIF(joueurs,$B5),INDEX(fautes,SMALL(IF(joueurs=$B5,ROW(INDIRECT(\"1:\"&ROWS(fautes)))),ROWS($1:$20))),\"\")","v":""},{"$f":"IF(ROWS($1:$11)<=COUNTIF(joueurs,$B5),INDEX(ballonperdus,SMALL(IF(joueurs=$B5,ROW(INDIRECT(\"1:\"&ROWS(ballonperdus)))),ROWS($1:$11))),\"\")","v":""},{"$f":"IF(ROWS($1:$12)<=COUNTIF(joueurs,$B5),INDEX(ballonperdus,SMALL(IF(joueurs=$B5,ROW(INDIRECT(\"1:\"&ROWS(ballonperdus)))),ROWS($1:$12))),\"\")","v":""},{"$f":"IF(ROWS($1:$13)<=COUNTIF(joueurs,$B5),INDEX(ballonperdus,SMALL(IF(joueurs=$B5,ROW(INDIRECT(\"1:\"&ROWS(ballonperdus)))),ROWS($1:$13))),\"\")","v":""},{"$f":"IF(ROWS($1:$14)<=COUNTIF(joueurs,$B5),INDEX(ballonperdus,SMALL(IF(joueurs=$B5,ROW(INDIRECT(\"1:\"&ROWS(ballonperdus)))),ROWS($1:$14))),\"\")","v":""},{"$f":"IF(ROWS($1:$15)<=COUNTIF(joueurs,$B5),INDEX(ballonperdus,SMALL(IF(joueurs=$B5,ROW(INDIRECT(\"1:\"&ROWS(ballonperdus)))),ROWS($1:$15))),\"\")","v":""},{"$f":"IF(ROWS($1:$16)<=COUNTIF(joueurs,$B5),INDEX(ballonperdus,SMALL(IF(joueurs=$B5,ROW(INDIRECT(\"1:\"&ROWS(ballonperdus)))),ROWS($1:$16))),\"\")","v":""},{"$f":"IF(ROWS($1:$17)<=COUNTIF(joueurs,$B5),INDEX(ballonperdus,SMALL(IF(joueurs=$B5,ROW(INDIRECT(\"1:\"&ROWS(ballonperdus)))),ROWS($1:$17))),\"\")","v":""},{"$f":"IF(ROWS($1:$18)<=COUNTIF(joueurs,$B5),INDEX(ballonperdus,SMALL(IF(joueurs=$B5,ROW(INDIRECT(\"1:\"&ROWS(ballonperdus)))),ROWS($1:$18))),\"\")","v":""},{"$f":"IF(ROWS($1:$19)<=COUNTIF(joueurs,$B5),INDEX(ballonperdus,SMALL(IF(joueurs=$B5,ROW(INDIRECT(\"1:\"&ROWS(ballonperdus)))),ROWS($1:$19))),\"\")","v":""},{"$f":"IF(ROWS($1:$20)<=COUNTIF(joueurs,$B5),INDEX(fautes,SMALL(IF(joueurs=$B5,ROW(INDIRECT(\"1:\"&ROWS(ballonperdus)))),ROWS($1:$20))),\"\")","v":""},{"$f":"IF(ROWS($1:$11)<=COUNTIF(joueurs,$B5),INDEX(interceptions,SMALL(IF(joueurs=$B5,ROW(INDIRECT(\"1:\"&ROWS(interceptions)))),ROWS($1:$11))),\"\")","v":""},{"$f":"IF(ROWS($1:$12)<=COUNTIF(joueurs,$B5),INDEX(interceptions,SMALL(IF(joueurs=$B5,ROW(INDIRECT(\"1:\"&ROWS(interceptions)))),ROWS($1:$12))),\"\")","v":""},{"$f":"IF(ROWS($1:$13)<=COUNTIF(joueurs,$B5),INDEX(interceptions,SMALL(IF(joueurs=$B5,ROW(INDIRECT(\"1:\"&ROWS(interceptions)))),ROWS($1:$13))),\"\")","v":""},{"$f":"IF(ROWS($1:$14)<=COUNTIF(joueurs,$B5),INDEX(interceptions,SMALL(IF(joueurs=$B5,ROW(INDIRECT(\"1:\"&ROWS(interceptions)))),ROWS($1:$14))),\"\")","v":""},{"$f":"IF(ROWS($1:$15)<=COUNTIF(joueurs,$B5),INDEX(interceptions,SMALL(IF(joueurs=$B5,ROW(INDIRECT(\"1:\"&ROWS(interceptions)))),ROWS($1:$15))),\"\")","v":""},{"$f":"IF(ROWS($1:$16)<=COUNTIF(joueurs,$B5),INDEX(interceptions,SMALL(IF(joueurs=$B5,ROW(INDIRECT(\"1:\"&ROWS(interceptions)))),ROWS($1:$16))),\"\")","v":""},{"$f":"IF(ROWS($1:$17)<=COUNTIF(joueurs,$B5),INDEX(interceptions,SMALL(IF(joueurs=$B5,ROW(INDIRECT(\"1:\"&ROWS(interceptions)))),ROWS($1:$17))),\"\")","v":""},{"$f":"IF(ROWS($1:$18)<=COUNTIF(joueurs,$B5),INDEX(interceptions,SMALL(IF(joueurs=$B5,ROW(INDIRECT(\"1:\"&ROWS(interceptions)))),ROWS($1:$18))),\"\")","v":""},{"$f":"IF(ROWS($1:$19)<=COUNTIF(joueurs,$B5),INDEX(interceptions,SMALL(IF(joueurs=$B5,ROW(INDIRECT(\"1:\"&ROWS(interceptions)))),ROWS($1:$19))),\"\")","v":""},{"$f":"IF(ROWS($1:$20)<=COUNTIF(joueurs,$B5),INDEX(interceptions,SMALL(IF(joueurs=$B5,ROW(INDIRECT(\"1:\"&ROWS(interceptions)))),ROWS($1:$20))),\"\")","v":""},{"$f":"IF(ROWS($1:$11)<=COUNTIF(joueurs,$B5),INDEX(ballonrecuperes,SMALL(IF(joueurs=$B5,ROW(INDIRECT(\"1:\"&ROWS(ballonrecuperes)))),ROWS($1:$11))),\"\")","v":""},{"$f":"IF(ROWS($1:$12)<=COUNTIF(joueurs,$B5),INDEX(ballonrecuperes,SMALL(IF(joueurs=$B5,ROW(INDIRECT(\"1:\"&ROWS(ballonrecuperes)))),ROWS($1:$12))),\"\")","v":""},{"$f":"IF(ROWS($1:$13)<=COUNTIF(joueurs,$B5),INDEX(ballonrecuperes,SMALL(IF(joueurs=$B5,ROW(INDIRECT(\"1:\"&ROWS(ballonrecuperes)))),ROWS($1:$13))),\"\")","v":""},{"$f":"IF(ROWS($1:$14)<=COUNTIF(joueurs,$B5),INDEX(ballonrecuperes,SMALL(IF(joueurs=$B5,ROW(INDIRECT(\"1:\"&ROWS(ballonrecuperes)))),ROWS($1:$14))),\"\")","v":""},{"$f":"IF(ROWS($1:$15)<=COUNTIF(joueurs,$B5),INDEX(ballonrecuperes,SMALL(IF(joueurs=$B5,ROW(INDIRECT(\"1:\"&ROWS(ballonrecuperes)))),ROWS($1:$15))),\"\")","v":""},{"$f":"IF(ROWS($1:$16)<=COUNTIF(joueurs,$B5),INDEX(ballonrecuperes,SMALL(IF(joueurs=$B5,ROW(INDIRECT(\"1:\"&ROWS(ballonrecuperes)))),ROWS($1:$16))),\"\")","v":""},{"$f":"IF(ROWS($1:$17)<=COUNTIF(joueurs,$B5),INDEX(ballonrecuperes,SMALL(IF(joueurs=$B5,ROW(INDIRECT(\"1:\"&ROWS(ballonrecuperes)))),ROWS($1:$17))),\"\")","v":""},{"$f":"IF(ROWS($1:$18)<=COUNTIF(joueurs,$B5),INDEX(ballonrecuperes,SMALL(IF(joueurs=$B5,ROW(INDIRECT(\"1:\"&ROWS(ballonrecuperes)))),ROWS($1:$18))),\"\")","v":""},{"$f":"IF(ROWS($1:$19)<=COUNTIF(joueurs,$B5),INDEX(ballonrecuperes,SMALL(IF(joueurs=$B5,ROW(INDIRECT(\"1:\"&ROWS(ballonrecuperes)))),ROWS($1:$19))),\"\")","v":""},{"$f":"IF(ROWS($1:$20)<=COUNTIF(joueurs,$B5),INDEX(ballonrecuperes,SMALL(IF(joueurs=$B5,ROW(INDIRECT(\"1:\"&ROWS(ballonrecuperes)))),ROWS($1:$20))),\"\")","v":""},{"$f":"IF(ROWS($1:$11)<=COUNTIF(joueurs,$B5),INDEX(tirs,SMALL(IF(joueurs=$B5,ROW(INDIRECT(\"1:\"&ROWS(tirs)))),ROWS($1:$11))),\"\")","v":""},{"$f":"IF(ROWS($1:$12)<=COUNTIF(joueurs,$B5),INDEX(tirs,SMALL(IF(joueurs=$B5,ROW(INDIRECT(\"1:\"&ROWS(tirs)))),ROWS($1:$12))),\"\")","v":""},{"$f":"IF(ROWS($1:$13)<=COUNTIF(joueurs,$B5),INDEX(tirs,SMALL(IF(joueurs=$B5,ROW(INDIRECT(\"1:\"&ROWS(tirs)))),ROWS($1:$13))),\"\")","v":""},{"$f":"IF(ROWS($1:$14)<=COUNTIF(joueurs,$B5),INDEX(tirs,SMALL(IF(joueurs=$B5,ROW(INDIRECT(\"1:\"&ROWS(tirs)))),ROWS($1:$14))),\"\")","v":""},{"$f":"IF(ROWS($1:$15)<=COUNTIF(joueurs,$B5),INDEX(tirs,SMALL(IF(joueurs=$B5,ROW(INDIRECT(\"1:\"&ROWS(tirs)))),ROWS($1:$15))),\"\")","v":""},{"$f":"IF(ROWS($1:$16)<=COUNTIF(joueurs,$B5),INDEX(tirs,SMALL(IF(joueurs=$B5,ROW(INDIRECT(\"1:\"&ROWS(tirs)))),ROWS($1:$16))),\"\")","v":""},{"$f":"IF(ROWS($1:$17)<=COUNTIF(joueurs,$B5),INDEX(tirs,SMALL(IF(joueurs=$B5,ROW(INDIRECT(\"1:\"&ROWS(tirs)))),ROWS($1:$17))),\"\")","v":""},{"$f":"IF(ROWS($1:$18)<=COUNTIF(joueurs,$B5),INDEX(tirs,SMALL(IF(joueurs=$B5,ROW(INDIRECT(\"1:\"&ROWS(tirs)))),ROWS($1:$18))),\"\")","v":""},{"$f":"IF(ROWS($1:$19)<=COUNTIF(joueurs,$B5),INDEX(tirs,SMALL(IF(joueurs=$B5,ROW(INDIRECT(\"1:\"&ROWS(tirs)))),ROWS($1:$19))),\"\")","v":""},{"$f":"IF(ROWS($1:$20)<=COUNTIF(joueurs,$B5),INDEX(tirs,SMALL(IF(joueurs=$B5,ROW(INDIRECT(\"1:\"&ROWS(tirs)))),ROWS($1:$20))),\"\")","v":""},{"$f":"IF(ROWS($1:$11)<=COUNTIF(joueurs,$B5),INDEX(bontirs,SMALL(IF(joueurs=$B5,ROW(INDIRECT(\"1:\"&ROWS(bontirs)))),ROWS($1:$11))),\"\")","v":""},{"$f":"IF(ROWS($1:$12)<=COUNTIF(joueurs,$B5),INDEX(bontirs,SMALL(IF(joueurs=$B5,ROW(INDIRECT(\"1:\"&ROWS(bontirs)))),ROWS($1:$12))),\"\")","v":""},{"$f":"IF(ROWS($1:$13)<=COUNTIF(joueurs,$B5),INDEX(bontirs,SMALL(IF(joueurs=$B5,ROW(INDIRECT(\"1:\"&ROWS(bontirs)))),ROWS($1:$13))),\"\")","v":""},{"$f":"IF(ROWS($1:$14)<=COUNTIF(joueurs,$B5),INDEX(bontirs,SMALL(IF(joueurs=$B5,ROW(INDIRECT(\"1:\"&ROWS(bontirs)))),ROWS($1:$14))),\"\")","v":""},{"$f":"IF(ROWS($1:$15)<=COUNTIF(joueurs,$B5),INDEX(bontirs,SMALL(IF(joueurs=$B5,ROW(INDIRECT(\"1:\"&ROWS(bontirs)))),ROWS($1:$15))),\"\")","v":""},{"$f":"IF(ROWS($1:$16)<=COUNTIF(joueurs,$B5),INDEX(bontirs,SMALL(IF(joueurs=$B5,ROW(INDIRECT(\"1:\"&ROWS(bontirs)))),ROWS($1:$16))),\"\")","v":""},{"$f":"IF(ROWS($1:$17)<=COUNTIF(joueurs,$B5),INDEX(bontirs,SMALL(IF(joueurs=$B5,ROW(INDIRECT(\"1:\"&ROWS(bontirs)))),ROWS($1:$17))),\"\")","v":""},{"$f":"IF(ROWS($1:$18)<=COUNTIF(joueurs,$B5),INDEX(bontirs,SMALL(IF(joueurs=$B5,ROW(INDIRECT(\"1:\"&ROWS(bontirs)))),ROWS($1:$18))),\"\")","v":""},{"$f":"IF(ROWS($1:$19)<=COUNTIF(joueurs,$B5),INDEX(bontirs,SMALL(IF(joueurs=$B5,ROW(INDIRECT(\"1:\"&ROWS(bontirs)))),ROWS($1:$19))),\"\")","v":""},{"$f":"IF(ROWS($1:$20)<=COUNTIF(joueurs,$B5),INDEX(bontirs,SMALL(IF(joueurs=$B5,ROW(INDIRECT(\"1:\"&ROWS(bontirs)))),ROWS($1:$20))),\"\")","v":""},{"$f":"IF(ROWS($1:$11)<=COUNTIF(joueurs,$B5),INDEX(points,SMALL(IF(joueurs=$B5,ROW(INDIRECT(\"1:\"&ROWS(points)))),ROWS($1:$11))),\"\")","v":""},{"$f":"IF(ROWS($1:$12)<=COUNTIF(joueurs,$B5),INDEX(points,SMALL(IF(joueurs=$B5,ROW(INDIRECT(\"1:\"&ROWS(points)))),ROWS($1:$12))),\"\")","v":""},{"$f":"IF(ROWS($1:$13)<=COUNTIF(joueurs,$B5),INDEX(points,SMALL(IF(joueurs=$B5,ROW(INDIRECT(\"1:\"&ROWS(points)))),ROWS($1:$13))),\"\")","v":""},{"$f":"IF(ROWS($1:$14)<=COUNTIF(joueurs,$B5),INDEX(points,SMALL(IF(joueurs=$B5,ROW(INDIRECT(\"1:\"&ROWS(points)))),ROWS($1:$14))),\"\")","v":""},{"$f":"IF(ROWS($1:$15)<=COUNTIF(joueurs,$B5),INDEX(points,SMALL(IF(joueurs=$B5,ROW(INDIRECT(\"1:\"&ROWS(points)))),ROWS($1:$15))),\"\")","v":""},{"$f":"IF(ROWS($1:$16)<=COUNTIF(joueurs,$B5),INDEX(points,SMALL(IF(joueurs=$B5,ROW(INDIRECT(\"1:\"&ROWS(points)))),ROWS($1:$16))),\"\")","v":""},{"$f":"IF(ROWS($1:$17)<=COUNTIF(joueurs,$B5),INDEX(points,SMALL(IF(joueurs=$B5,ROW(INDIRECT(\"1:\"&ROWS(points)))),ROWS($1:$17))),\"\")","v":""},{"$f":"IF(ROWS($1:$18)<=COUNTIF(joueurs,$B5),INDEX(points,SMALL(IF(joueurs=$B5,ROW(INDIRECT(\"1:\"&ROWS(points)))),ROWS($1:$18))),\"\")","v":""},{"$f":"IF(ROWS($1:$19)<=COUNTIF(joueurs,$B5),INDEX(points,SMALL(IF(joueurs=$B5,ROW(INDIRECT(\"1:\"&ROWS(points)))),ROWS($1:$19))),\"\")","v":""},{"$f":"IF(ROWS($1:$20)<=COUNTIF(points,$B5),INDEX(fautes,SMALL(IF(joueurs=$B5,ROW(INDIRECT(\"1:\"&ROWS(points)))),ROWS($1:$20))),\"\")","v":""},{"$f":"IF(ROWS($1:$11)<=COUNTIF(joueurs,$B5),INDEX(victoires,SMALL(IF(joueurs=$B5,ROW(INDIRECT(\"1:\"&ROWS(victoires)))),ROWS($1:$11))),\"\")","v":""},{"$f":"IF(ROWS($1:$12)<=COUNTIF(joueurs,$B5),INDEX(victoires,SMALL(IF(joueurs=$B5,ROW(INDIRECT(\"1:\"&ROWS(victoires)))),ROWS($1:$12))),\"\")","v":""},{"$f":"IF(ROWS($1:$13)<=COUNTIF(joueurs,$B5),INDEX(victoires,SMALL(IF(joueurs=$B5,ROW(INDIRECT(\"1:\"&ROWS(victoires)))),ROWS($1:$13))),\"\")","v":""},{"$f":"IF(ROWS($1:$14)<=COUNTIF(joueurs,$B5),INDEX(victoires,SMALL(IF(joueurs=$B5,ROW(INDIRECT(\"1:\"&ROWS(victoires)))),ROWS($1:$14))),\"\")","v":""},{"$f":"IF(ROWS($1:$15)<=COUNTIF(joueurs,$B5),INDEX(victoires,SMALL(IF(joueurs=$B5,ROW(INDIRECT(\"1:\"&ROWS(victoires)))),ROWS($1:$15))),\"\")","v":""},{"$f":"IF(ROWS($1:$16)<=COUNTIF(joueurs,$B5),INDEX(victoires,SMALL(IF(joueurs=$B5,ROW(INDIRECT(\"1:\"&ROWS(victoires)))),ROWS($1:$16))),\"\")","v":""},{"$f":"IF(ROWS($1:$17)<=COUNTIF(joueurs,$B5),INDEX(victoires,SMALL(IF(joueurs=$B5,ROW(INDIRECT(\"1:\"&ROWS(victoires)))),ROWS($1:$17))),\"\")","v":""},{"$f":"IF(ROWS($1:$18)<=COUNTIF(joueurs,$B5),INDEX(victoires,SMALL(IF(joueurs=$B5,ROW(INDIRECT(\"1:\"&ROWS(victoires)))),ROWS($1:$18))),\"\")","v":""},{"$f":"IF(ROWS($1:$19)<=COUNTIF(joueurs,$B5),INDEX(victoires,SMALL(IF(joueurs=$B5,ROW(INDIRECT(\"1:\"&ROWS(victoires)))),ROWS($1:$19))),\"\")","v":""},{"$f":"IF(ROWS($1:$20)<=COUNTIF(joueurs,$B5),INDEX(victoires,SMALL(IF(joueurs=$B5,ROW(INDIRECT(\"1:\"&ROWS(victoires)))),ROWS($1:$20))),\"\")","v":""}]
[null,null,null,{"$f":"IF(ROWS($1:$21)<=COUNTIF(joueurs,$B5),INDEX(fautes,SMALL(IF(joueurs=$B5,ROW(INDIRECT(\"1:\"&ROWS(fautes)))),ROWS($1:$21))),\"\")","v":""},{"$f":"IF(ROWS($1:$22)<=COUNTIF(joueurs,$B5),INDEX(fautes,SMALL(IF(joueurs=$B5,ROW(INDIRECT(\"1:\"&ROWS(fautes)))),ROWS($1:$22))),\"\")","v":""},{"$f":"IF(ROWS($1:$23)<=COUNTIF(joueurs,$B5),INDEX(fautes,SMALL(IF(joueurs=$B5,ROW(INDIRECT(\"1:\"&ROWS(fautes)))),ROWS($1:$23))),\"\")","v":""},{"$f":"IF(ROWS($1:$24)<=COUNTIF(joueurs,$B5),INDEX(fautes,SMALL(IF(joueurs=$B5,ROW(INDIRECT(\"1:\"&ROWS(fautes)))),ROWS($1:$24))),\"\")","v":""},{"$f":"IF(ROWS($1:$25)<=COUNTIF(joueurs,$B5),INDEX(fautes,SMALL(IF(joueurs=$B5,ROW(INDIRECT(\"1:\"&ROWS(fautes)))),ROWS($1:$25))),\"\")","v":""},{"$f":"IF(ROWS($1:$26)<=COUNTIF(joueurs,$B5),INDEX(fautes,SMALL(IF(joueurs=$B5,ROW(INDIRECT(\"1:\"&ROWS(fautes)))),ROWS($1:$26))),\"\")","v":""},{"$f":"IF(ROWS($1:$27)<=COUNTIF(joueurs,$B5),INDEX(fautes,SMALL(IF(joueurs=$B5,ROW(INDIRECT(\"1:\"&ROWS(fautes)))),ROWS($1:$27))),\"\")","v":""},{"$f":"IF(ROWS($1:$28)<=COUNTIF(joueurs,$B5),INDEX(fautes,SMALL(IF(joueurs=$B5,ROW(INDIRECT(\"1:\"&ROWS(fautes)))),ROWS($1:$28))),\"\")","v":""},{"$f":"IF(ROWS($1:$29)<=COUNTIF(joueurs,$B5),INDEX(fautes,SMALL(IF(joueurs=$B5,ROW(INDIRECT(\"1:\"&ROWS(fautes)))),ROWS($1:$29))),\"\")","v":""},{"$f":"IF(ROWS($1:$30)<=COUNTIF(joueurs,$B5),INDEX(fautes,SMALL(IF(joueurs=$B5,ROW(INDIRECT(\"1:\"&ROWS(fautes)))),ROWS($1:$30))),\"\")","v":""},{"$f":"IF(ROWS($1:$21)<=COUNTIF(joueurs,$B5),INDEX(ballonperdus,SMALL(IF(joueurs=$B5,ROW(INDIRECT(\"1:\"&ROWS(ballonperdus)))),ROWS($1:$21))),\"\")","v":""},{"$f":"IF(ROWS($1:$22)<=COUNTIF(joueurs,$B5),INDEX(ballonperdus,SMALL(IF(joueurs=$B5,ROW(INDIRECT(\"1:\"&ROWS(ballonperdus)))),ROWS($1:$22))),\"\")","v":""},{"$f":"IF(ROWS($1:$23)<=COUNTIF(joueurs,$B5),INDEX(ballonperdus,SMALL(IF(joueurs=$B5,ROW(INDIRECT(\"1:\"&ROWS(ballonperdus)))),ROWS($1:$23))),\"\")","v":""},{"$f":"IF(ROWS($1:$24)<=COUNTIF(joueurs,$B5),INDEX(ballonperdus,SMALL(IF(joueurs=$B5,ROW(INDIRECT(\"1:\"&ROWS(ballonperdus)))),ROWS($1:$24))),\"\")","v":""},{"$f":"IF(ROWS($1:$25)<=COUNTIF(joueurs,$B5),INDEX(ballonperdus,SMALL(IF(joueurs=$B5,ROW(INDIRECT(\"1:\"&ROWS(ballonperdus)))),ROWS($1:$25))),\"\")","v":""},{"$f":"IF(ROWS($1:$26)<=COUNTIF(joueurs,$B5),INDEX(ballonperdus,SMALL(IF(joueurs=$B5,ROW(INDIRECT(\"1:\"&ROWS(ballonperdus)))),ROWS($1:$26))),\"\")","v":""},{"$f":"IF(ROWS($1:$27)<=COUNTIF(joueurs,$B5),INDEX(ballonperdus,SMALL(IF(joueurs=$B5,ROW(INDIRECT(\"1:\"&ROWS(ballonperdus)))),ROWS($1:$27))),\"\")","v":""},{"$f":"IF(ROWS($1:$28)<=COUNTIF(joueurs,$B5),INDEX(ballonperdus,SMALL(IF(joueurs=$B5,ROW(INDIRECT(\"1:\"&ROWS(ballonperdus)))),ROWS($1:$28))),\"\")","v":""},{"$f":"IF(ROWS($1:$29)<=COUNTIF(joueurs,$B5),INDEX(ballonperdus,SMALL(IF(joueurs=$B5,ROW(INDIRECT(\"1:\"&ROWS(ballonperdus)))),ROWS($1:$29))),\"\")","v":""},{"$f":"IF(ROWS($1:$30)<=COUNTIF(joueurs,$B5),INDEX(ballonperdus,SMALL(IF(joueurs=$B5,ROW(INDIRECT(\"1:\"&ROWS(ballonperdus)))),ROWS($1:$30))),\"\")","v":""},{"$f":"IF(ROWS($1:$21)<=COUNTIF(joueurs,$B5),INDEX(interceptions,SMALL(IF(joueurs=$B5,ROW(INDIRECT(\"1:\"&ROWS(interceptions)))),ROWS($1:$21))),\"\")","v":""},{"$f":"IF(ROWS($1:$22)<=COUNTIF(joueurs,$B5),INDEX(interceptions,SMALL(IF(joueurs=$B5,ROW(INDIRECT(\"1:\"&ROWS(interceptions)))),ROWS($1:$22))),\"\")","v":""},{"$f":"IF(ROWS($1:$23)<=COUNTIF(joueurs,$B5),INDEX(interceptions,SMALL(IF(joueurs=$B5,ROW(INDIRECT(\"1:\"&ROWS(interceptions)))),ROWS($1:$23))),\"\")","v":""},{"$f":"IF(ROWS($1:$24)<=COUNTIF(joueurs,$B5),INDEX(interceptions,SMALL(IF(joueurs=$B5,ROW(INDIRECT(\"1:\"&ROWS(interceptions)))),ROWS($1:$24))),\"\")","v":""},{"$f":"IF(ROWS($1:$25)<=COUNTIF(joueurs,$B5),INDEX(interceptions,SMALL(IF(joueurs=$B5,ROW(INDIRECT(\"1:\"&ROWS(interceptions)))),ROWS($1:$25))),\"\")","v":""},{"$f":"IF(ROWS($1:$26)<=COUNTIF(joueurs,$B5),INDEX(interceptions,SMALL(IF(joueurs=$B5,ROW(INDIRECT(\"1:\"&ROWS(interceptions)))),ROWS($1:$26))),\"\")","v":""},{"$f":"IF(ROWS($1:$27)<=COUNTIF(joueurs,$B5),INDEX(interceptions,SMALL(IF(joueurs=$B5,ROW(INDIRECT(\"1:\"&ROWS(interceptions)))),ROWS($1:$27))),\"\")","v":""},{"$f":"IF(ROWS($1:$28)<=COUNTIF(joueurs,$B5),INDEX(interceptions,SMALL(IF(joueurs=$B5,ROW(INDIRECT(\"1:\"&ROWS(interceptions)))),ROWS($1:$28))),\"\")","v":""},{"$f":"IF(ROWS($1:$29)<=COUNTIF(joueurs,$B5),INDEX(interceptions,SMALL(IF(joueurs=$B5,ROW(INDIRECT(\"1:\"&ROWS(interceptions)))),ROWS($1:$29))),\"\")","v":""},{"$f":"IF(ROWS($1:$30)<=COUNTIF(joueurs,$B5),INDEX(interceptions,SMALL(IF(joueurs=$B5,ROW(INDIRECT(\"1:\"&ROWS(interceptions)))),ROWS($1:$30))),\"\")","v":""},{"$f":"IF(ROWS($1:$21)<=COUNTIF(joueurs,$B5),INDEX(ballonrecuperes,SMALL(IF(joueurs=$B5,ROW(INDIRECT(\"1:\"&ROWS(ballonrecuperes)))),ROWS($1:$21))),\"\")","v":""},{"$f":"IF(ROWS($1:$22)<=COUNTIF(joueurs,$B5),INDEX(ballonrecuperes,SMALL(IF(joueurs=$B5,ROW(INDIRECT(\"1:\"&ROWS(ballonrecuperes)))),ROWS($1:$22))),\"\")","v":""},{"$f":"IF(ROWS($1:$23)<=COUNTIF(joueurs,$B5),INDEX(ballonrecuperes,SMALL(IF(joueurs=$B5,ROW(INDIRECT(\"1:\"&ROWS(ballonrecuperes)))),ROWS($1:$23))),\"\")","v":""},{"$f":"IF(ROWS($1:$24)<=COUNTIF(joueurs,$B5),INDEX(ballonrecuperes,SMALL(IF(joueurs=$B5,ROW(INDIRECT(\"1:\"&ROWS(ballonrecuperes)))),ROWS($1:$24))),\"\")","v":""},{"$f":"IF(ROWS($1:$25)<=COUNTIF(joueurs,$B5),INDEX(ballonrecuperes,SMALL(IF(joueurs=$B5,ROW(INDIRECT(\"1:\"&ROWS(ballonrecuperes)))),ROWS($1:$25))),\"\")","v":""},{"$f":"IF(ROWS($1:$26)<=COUNTIF(joueurs,$B5),INDEX(ballonrecuperes,SMALL(IF(joueurs=$B5,ROW(INDIRECT(\"1:\"&ROWS(ballonrecuperes)))),ROWS($1:$26))),\"\")","v":""},{"$f":"IF(ROWS($1:$27)<=COUNTIF(joueurs,$B5),INDEX(ballonrecuperes,SMALL(IF(joueurs=$B5,ROW(INDIRECT(\"1:\"&ROWS(ballonrecuperes)))),ROWS($1:$27))),\"\")","v":""},{"$f":"IF(ROWS($1:$28)<=COUNTIF(joueurs,$B5),INDEX(ballonrecuperes,SMALL(IF(joueurs=$B5,ROW(INDIRECT(\"1:\"&ROWS(ballonrecuperes)))),ROWS($1:$28))),\"\")","v":""},{"$f":"IF(ROWS($1:$29)<=COUNTIF(joueurs,$B5),INDEX(ballonrecuperes,SMALL(IF(joueurs=$B5,ROW(INDIRECT(\"1:\"&ROWS(ballonrecuperes)))),ROWS($1:$29))),\"\")","v":""},{"$f":"IF(ROWS($1:$30)<=COUNTIF(joueurs,$B5),INDEX(ballonrecuperes,SMALL(IF(joueurs=$B5,ROW(INDIRECT(\"1:\"&ROWS(ballonrecuperes)))),ROWS($1:$30))),\"\")","v":""},{"$f":"IF(ROWS($1:$21)<=COUNTIF(joueurs,$B5),INDEX(tirs,SMALL(IF(joueurs=$B5,ROW(INDIRECT(\"1:\"&ROWS(tirs)))),ROWS($1:$21))),\"\")","v":""},{"$f":"IF(ROWS($1:$22)<=COUNTIF(joueurs,$B5),INDEX(tirs,SMALL(IF(joueurs=$B5,ROW(INDIRECT(\"1:\"&ROWS(tirs)))),ROWS($1:$22))),\"\")","v":""},{"$f":"IF(ROWS($1:$23)<=COUNTIF(joueurs,$B5),INDEX(tirs,SMALL(IF(joueurs=$B5,ROW(INDIRECT(\"1:\"&ROWS(tirs)))),ROWS($1:$23))),\"\")","v":""},{"$f":"IF(ROWS($1:$24)<=COUNTIF(joueurs,$B5),INDEX(tirs,SMALL(IF(joueurs=$B5,ROW(INDIRECT(\"1:\"&ROWS(tirs)))),ROWS($1:$24))),\"\")","v":""},{"$f":"IF(ROWS($1:$25)<=COUNTIF(joueurs,$B5),INDEX(tirs,SMALL(IF(joueurs=$B5,ROW(INDIRECT(\"1:\"&ROWS(tirs)))),ROWS($1:$25))),\"\")","v":""},{"$f":"IF(ROWS($1:$26)<=COUNTIF(joueurs,$B5),INDEX(tirs,SMALL(IF(joueurs=$B5,ROW(INDIRECT(\"1:\"&ROWS(tirs)))),ROWS($1:$26))),\"\")","v":""},{"$f":"IF(ROWS($1:$27)<=COUNTIF(joueurs,$B5),INDEX(tirs,SMALL(IF(joueurs=$B5,ROW(INDIRECT(\"1:\"&ROWS(tirs)))),ROWS($1:$27))),\"\")","v":""},{"$f":"IF(ROWS($1:$28)<=COUNTIF(joueurs,$B5),INDEX(tirs,SMALL(IF(joueurs=$B5,ROW(INDIRECT(\"1:\"&ROWS(tirs)))),ROWS($1:$28))),\"\")","v":""},{"$f":"IF(ROWS($1:$29)<=COUNTIF(joueurs,$B5),INDEX(tirs,SMALL(IF(joueurs=$B5,ROW(INDIRECT(\"1:\"&ROWS(tirs)))),ROWS($1:$29))),\"\")","v":""},{"$f":"IF(ROWS($1:$30)<=COUNTIF(joueurs,$B5),INDEX(tirs,SMALL(IF(joueurs=$B5,ROW(INDIRECT(\"1:\"&ROWS(tirs)))),ROWS($1:$30))),\"\")","v":""},{"$f":"IF(ROWS($1:$21)<=COUNTIF(joueurs,$B5),INDEX(bontirs,SMALL(IF(joueurs=$B5,ROW(INDIRECT(\"1:\"&ROWS(bontirs)))),ROWS($1:$21))),\"\")","v":""},{"$f":"IF(ROWS($1:$22)<=COUNTIF(joueurs,$B5),INDEX(bontirs,SMALL(IF(joueurs=$B5,ROW(INDIRECT(\"1:\"&ROWS(bontirs)))),ROWS($1:$22))),\"\")","v":""},{"$f":"IF(ROWS($1:$23)<=COUNTIF(joueurs,$B5),INDEX(bontirs,SMALL(IF(joueurs=$B5,ROW(INDIRECT(\"1:\"&ROWS(bontirs)))),ROWS($1:$23))),\"\")","v":""},{"$f":"IF(ROWS($1:$24)<=COUNTIF(joueurs,$B5),INDEX(bontirs,SMALL(IF(joueurs=$B5,ROW(INDIRECT(\"1:\"&ROWS(bontirs)))),ROWS($1:$24))),\"\")","v":""},{"$f":"IF(ROWS($1:$25)<=COUNTIF(joueurs,$B5),INDEX(bontirs,SMALL(IF(joueurs=$B5,ROW(INDIRECT(\"1:\"&ROWS(bontirs)))),ROWS($1:$25))),\"\")","v":""},{"$f":"IF(ROWS($1:$26)<=COUNTIF(joueurs,$B5),INDEX(bontirs,SMALL(IF(joueurs=$B5,ROW(INDIRECT(\"1:\"&ROWS(bontirs)))),ROWS($1:$26))),\"\")","v":""},{"$f":"IF(ROWS($1:$27)<=COUNTIF(joueurs,$B5),INDEX(bontirs,SMALL(IF(joueurs=$B5,ROW(INDIRECT(\"1:\"&ROWS(bontirs)))),ROWS($1:$27))),\"\")","v":""},{"$f":"IF(ROWS($1:$28)<=COUNTIF(joueurs,$B5),INDEX(bontirs,SMALL(IF(joueurs=$B5,ROW(INDIRECT(\"1:\"&ROWS(bontirs)))),ROWS($1:$28))),\"\")","v":""},{"$f":"IF(ROWS($1:$29)<=COUNTIF(joueurs,$B5),INDEX(bontirs,SMALL(IF(joueurs=$B5,ROW(INDIRECT(\"1:\"&ROWS(bontirs)))),ROWS($1:$29))),\"\")","v":""},{"$f":"IF(ROWS($1:$30)<=COUNTIF(joueurs,$B5),INDEX(bontirs,SMALL(IF(joueurs=$B5,ROW(INDIRECT(\"1:\"&ROWS(bontirs)))),ROWS($1:$30))),\"\")","v":""},{"$f":"IF(ROWS($1:$21)<=COUNTIF(joueurs,$B5),INDEX(points,SMALL(IF(joueurs=$B5,ROW(INDIRECT(\"1:\"&ROWS(points)))),ROWS($1:$21))),\"\")","v":""},{"$f":"IF(ROWS($1:$22)<=COUNTIF(joueurs,$B5),INDEX(points,SMALL(IF(joueurs=$B5,ROW(INDIRECT(\"1:\"&ROWS(points)))),ROWS($1:$22))),\"\")","v":""},{"$f":"IF(ROWS($1:$23)<=COUNTIF(joueurs,$B5),INDEX(points,SMALL(IF(joueurs=$B5,ROW(INDIRECT(\"1:\"&ROWS(points)))),ROWS($1:$23))),\"\")","v":""},{"$f":"IF(ROWS($1:$24)<=COUNTIF(joueurs,$B5),INDEX(points,SMALL(IF(joueurs=$B5,ROW(INDIRECT(\"1:\"&ROWS(points)))),ROWS($1:$24))),\"\")","v":""},{"$f":"IF(ROWS($1:$25)<=COUNTIF(joueurs,$B5),INDEX(points,SMALL(IF(joueurs=$B5,ROW(INDIRECT(\"1:\"&ROWS(points)))),ROWS($1:$25))),\"\")","v":""},{"$f":"IF(ROWS($1:$26)<=COUNTIF(joueurs,$B5),INDEX(points,SMALL(IF(joueurs=$B5,ROW(INDIRECT(\"1:\"&ROWS(points)))),ROWS($1:$26))),\"\")","v":""},{"$f":"IF(ROWS($1:$27)<=COUNTIF(joueurs,$B5),INDEX(points,SMALL(IF(joueurs=$B5,ROW(INDIRECT(\"1:\"&ROWS(points)))),ROWS($1:$27))),\"\")","v":""},{"$f":"IF(ROWS($1:$28)<=COUNTIF(joueurs,$B5),INDEX(points,SMALL(IF(joueurs=$B5,ROW(INDIRECT(\"1:\"&ROWS(points)))),ROWS($1:$28))),\"\")","v":""},{"$f":"IF(ROWS($1:$29)<=COUNTIF(joueurs,$B5),INDEX(points,SMALL(IF(joueurs=$B5,ROW(INDIRECT(\"1:\"&ROWS(points)))),ROWS($1:$29))),\"\")","v":""},{"$f":"IF(ROWS($1:$30)<=COUNTIF(joueurs,$B5),INDEX(points,SMALL(IF(joueurs=$B5,ROW(INDIRECT(\"1:\"&ROWS(points)))),ROWS($1:$30))),\"\")","v":""},{"$f":"IF(ROWS($1:$21)<=COUNTIF(joueurs,$B5),INDEX(victoires,SMALL(IF(joueurs=$B5,ROW(INDIRECT(\"1:\"&ROWS(victoires)))),ROWS($1:$21))),\"\")","v":""},{"$f":"IF(ROWS($1:$22)<=COUNTIF(joueurs,$B5),INDEX(victoires,SMALL(IF(joueurs=$B5,ROW(INDIRECT(\"1:\"&ROWS(victoires)))),ROWS($1:$22))),\"\")","v":""},{"$f":"IF(ROWS($1:$23)<=COUNTIF(joueurs,$B5),INDEX(victoires,SMALL(IF(joueurs=$B5,ROW(INDIRECT(\"1:\"&ROWS(victoires)))),ROWS($1:$23))),\"\")","v":""},{"$f":"IF(ROWS($1:$24)<=COUNTIF(joueurs,$B5),INDEX(victoires,SMALL(IF(joueurs=$B5,ROW(INDIRECT(\"1:\"&ROWS(victoires)))),ROWS($1:$24))),\"\")","v":""},{"$f":"IF(ROWS($1:$25)<=COUNTIF(joueurs,$B5),INDEX(victoires,SMALL(IF(joueurs=$B5,ROW(INDIRECT(\"1:\"&ROWS(victoires)))),ROWS($1:$25))),\"\")","v":""},{"$f":"IF(ROWS($1:$26)<=COUNTIF(joueurs,$B5),INDEX(victoires,SMALL(IF(joueurs=$B5,ROW(INDIRECT(\"1:\"&ROWS(victoires)))),ROWS($1:$26))),\"\")","v":""},{"$f":"IF(ROWS($1:$27)<=COUNTIF(joueurs,$B5),INDEX(victoires,SMALL(IF(joueurs=$B5,ROW(INDIRECT(\"1:\"&ROWS(victoires)))),ROWS($1:$27))),\"\")","v":""},{"$f":"IF(ROWS($1:$28)<=COUNTIF(joueurs,$B5),INDEX(victoires,SMALL(IF(joueurs=$B5,ROW(INDIRECT(\"1:\"&ROWS(victoires)))),ROWS($1:$28))),\"\")","v":""},{"$f":"IF(ROWS($1:$29)<=COUNTIF(joueurs,$B5),INDEX(victoires,SMALL(IF(joueurs=$B5,ROW(INDIRECT(\"1:\"&ROWS(victoires)))),ROWS($1:$29))),\"\")","v":""},{"$f":"IF(ROWS($1:$30)<=COUNTIF(joueurs,$B5),INDEX(victoires,SMALL(IF(joueurs=$B5,ROW(INDIRECT(\"1:\"&ROWS(victoires)))),ROWS($1:$30))),\"\")","v":""}]
[null,null,null,{"$f":"IF(ROWS($1:$31)<=COUNTIF(joueurs,$B5),INDEX(fautes,SMALL(IF(joueurs=$B5,ROW(INDIRECT(\"1:\"&ROWS(fautes)))),ROWS($1:$31))),\"\")","v":""},{"$f":"IF(ROWS($1:$32)<=COUNTIF(joueurs,$B5),INDEX(fautes,SMALL(IF(joueurs=$B5,ROW(INDIRECT(\"1:\"&ROWS(fautes)))),ROWS($1:$32))),\"\")","v":""},{"$f":"IF(ROWS($1:$33)<=COUNTIF(joueurs,$B5),INDEX(fautes,SMALL(IF(joueurs=$B5,ROW(INDIRECT(\"1:\"&ROWS(fautes)))),ROWS($1:$33))),\"\")","v":""},{"$f":"IF(ROWS($1:$34)<=COUNTIF(joueurs,$B5),INDEX(fautes,SMALL(IF(joueurs=$B5,ROW(INDIRECT(\"1:\"&ROWS(fautes)))),ROWS($1:$34))),\"\")","v":""},{"$f":"IF(ROWS($1:$35)<=COUNTIF(joueurs,$B5),INDEX(fautes,SMALL(IF(joueurs=$B5,ROW(INDIRECT(\"1:\"&ROWS(fautes)))),ROWS($1:$35))),\"\")","v":""},{"$f":"IF(ROWS($1:$36)<=COUNTIF(joueurs,$B5),INDEX(fautes,SMALL(IF(joueurs=$B5,ROW(INDIRECT(\"1:\"&ROWS(fautes)))),ROWS($1:$36))),\"\")","v":""},{"$f":"IF(ROWS($1:$37)<=COUNTIF(joueurs,$B5),INDEX(fautes,SMALL(IF(joueurs=$B5,ROW(INDIRECT(\"1:\"&ROWS(fautes)))),ROWS($1:$37))),\"\")","v":""},{"$f":"IF(ROWS($1:$38)<=COUNTIF(joueurs,$B5),INDEX(fautes,SMALL(IF(joueurs=$B5,ROW(INDIRECT(\"1:\"&ROWS(fautes)))),ROWS($1:$38))),\"\")","v":""},{"$f":"IF(ROWS($1:$39)<=COUNTIF(joueurs,$B5),INDEX(fautes,SMALL(IF(joueurs=$B5,ROW(INDIRECT(\"1:\"&ROWS(fautes)))),ROWS($1:$39))),\"\")","v":""},{"$f":"IF(ROWS($1:$40)<=COUNTIF(joueurs,$B5),INDEX(fautes,SMALL(IF(joueurs=$B5,ROW(INDIRECT(\"1:\"&ROWS(fautes)))),ROWS($1:$40))),\"\")","v":""},{"$f":"IF(ROWS($1:$31)<=COUNTIF(joueurs,$B5),INDEX(ballonperdus,SMALL(IF(joueurs=$B5,ROW(INDIRECT(\"1:\"&ROWS(ballonperdus)))),ROWS($1:$31))),\"\")","v":""},{"$f":"IF(ROWS($1:$32)<=COUNTIF(joueurs,$B5),INDEX(ballonperdus,SMALL(IF(joueurs=$B5,ROW(INDIRECT(\"1:\"&ROWS(ballonperdus)))),ROWS($1:$32))),\"\")","v":""},{"$f":"IF(ROWS($1:$33)<=COUNTIF(joueurs,$B5),INDEX(ballonperdus,SMALL(IF(joueurs=$B5,ROW(INDIRECT(\"1:\"&ROWS(ballonperdus)))),ROWS($1:$33))),\"\")","v":""},{"$f":"IF(ROWS($1:$34)<=COUNTIF(joueurs,$B5),INDEX(ballonperdus,SMALL(IF(joueurs=$B5,ROW(INDIRECT(\"1:\"&ROWS(ballonperdus)))),ROWS($1:$34))),\"\")","v":""},{"$f":"IF(ROWS($1:$35)<=COUNTIF(joueurs,$B5),INDEX(ballonperdus,SMALL(IF(joueurs=$B5,ROW(INDIRECT(\"1:\"&ROWS(ballonperdus)))),ROWS($1:$35))),\"\")","v":""},{"$f":"IF(ROWS($1:$36)<=COUNTIF(joueurs,$B5),INDEX(ballonperdus,SMALL(IF(joueurs=$B5,ROW(INDIRECT(\"1:\"&ROWS(ballonperdus)))),ROWS($1:$36))),\"\")","v":""},{"$f":"IF(ROWS($1:$37)<=COUNTIF(joueurs,$B5),INDEX(ballonperdus,SMALL(IF(joueurs=$B5,ROW(INDIRECT(\"1:\"&ROWS(ballonperdus)))),ROWS($1:$37))),\"\")","v":""},{"$f":"IF(ROWS($1:$38)<=COUNTIF(joueurs,$B5),INDEX(ballonperdus,SMALL(IF(joueurs=$B5,ROW(INDIRECT(\"1:\"&ROWS(ballonperdus)))),ROWS($1:$38))),\"\")","v":""},{"$f":"IF(ROWS($1:$39)<=COUNTIF(joueurs,$B5),INDEX(ballonperdus,SMALL(IF(joueurs=$B5,ROW(INDIRECT(\"1:\"&ROWS(ballonperdus)))),ROWS($1:$39))),\"\")","v":""},{"$f":"IF(ROWS($1:$40)<=COUNTIF(joueurs,$B5),INDEX(ballonperdus,SMALL(IF(joueurs=$B5,ROW(INDIRECT(\"1:\"&ROWS(ballonperdus)))),ROWS($1:$40))),\"\")","v":""},{"$f":"IF(ROWS($1:$31)<=COUNTIF(joueurs,$B5),INDEX(interceptions,SMALL(IF(joueurs=$B5,ROW(INDIRECT(\"1:\"&ROWS(interceptions)))),ROWS($1:$31))),\"\")","v":""},{"$f":"IF(ROWS($1:$32)<=COUNTIF(joueurs,$B5),INDEX(interceptions,SMALL(IF(joueurs=$B5,ROW(INDIRECT(\"1:\"&ROWS(interceptions)))),ROWS($1:$32))),\"\")","v":""},{"$f":"IF(ROWS($1:$33)<=COUNTIF(joueurs,$B5),INDEX(interceptions,SMALL(IF(joueurs=$B5,ROW(INDIRECT(\"1:\"&ROWS(interceptions)))),ROWS($1:$33))),\"\")","v":""},{"$f":"IF(ROWS($1:$34)<=COUNTIF(joueurs,$B5),INDEX(interceptions,SMALL(IF(joueurs=$B5,ROW(INDIRECT(\"1:\"&ROWS(interceptions)))),ROWS($1:$34))),\"\")","v":""},{"$f":"IF(ROWS($1:$35)<=COUNTIF(joueurs,$B5),INDEX(interceptions,SMALL(IF(joueurs=$B5,ROW(INDIRECT(\"1:\"&ROWS(interceptions)))),ROWS($1:$35))),\"\")","v":""},{"$f":"IF(ROWS($1:$36)<=COUNTIF(joueurs,$B5),INDEX(interceptions,SMALL(IF(joueurs=$B5,ROW(INDIRECT(\"1:\"&ROWS(interceptions)))),ROWS($1:$36))),\"\")","v":""},{"$f":"IF(ROWS($1:$37)<=COUNTIF(joueurs,$B5),INDEX(interceptions,SMALL(IF(joueurs=$B5,ROW(INDIRECT(\"1:\"&ROWS(interceptions)))),ROWS($1:$37))),\"\")","v":""},{"$f":"IF(ROWS($1:$38)<=COUNTIF(joueurs,$B5),INDEX(interceptions,SMALL(IF(joueurs=$B5,ROW(INDIRECT(\"1:\"&ROWS(interceptions)))),ROWS($1:$38))),\"\")","v":""},{"$f":"IF(ROWS($1:$39)<=COUNTIF(joueurs,$B5),INDEX(interceptions,SMALL(IF(joueurs=$B5,ROW(INDIRECT(\"1:\"&ROWS(interceptions)))),ROWS($1:$39))),\"\")","v":""},{"$f":"IF(ROWS($1:$40)<=COUNTIF(joueurs,$B5),INDEX(interceptions,SMALL(IF(joueurs=$B5,ROW(INDIRECT(\"1:\"&ROWS(interceptions)))),ROWS($1:$40))),\"\")","v":""},{"$f":"IF(ROWS($1:$31)<=COUNTIF(joueurs,$B5),INDEX(ballonrecuperes,SMALL(IF(joueurs=$B5,ROW(INDIRECT(\"1:\"&ROWS(ballonrecuperes)))),ROWS($1:$31))),\"\")","v":""},{"$f":"IF(ROWS($1:$32)<=COUNTIF(joueurs,$B5),INDEX(ballonrecuperes,SMALL(IF(joueurs=$B5,ROW(INDIRECT(\"1:\"&ROWS(ballonrecuperes)))),ROWS($1:$32))),\"\")","v":""},{"$f":"IF(ROWS($1:$33)<=COUNTIF(joueurs,$B5),INDEX(ballonrecuperes,SMALL(IF(joueurs=$B5,ROW(INDIRECT(\"1:\"&ROWS(ballonrecuperes)))),ROWS($1:$33))),\"\")","v":""},{"$f":"IF(ROWS($1:$34)<=COUNTIF(joueurs,$B5),INDEX(ballonrecuperes,SMALL(IF(joueurs=$B5,ROW(INDIRECT(\"1:\"&ROWS(ballonrecuperes)))),ROWS($1:$34))),\"\")","v":""},{"$f":"IF(ROWS($1:$35)<=COUNTIF(joueurs,$B5),INDEX(ballonrecuperes,SMALL(IF(joueurs=$B5,ROW(INDIRECT(\"1:\"&ROWS(ballonrecuperes)))),ROWS($1:$35))),\"\")","v":""},{"$f":"IF(ROWS($1:$36)<=COUNTIF(joueurs,$B5),INDEX(ballonrecuperes,SMALL(IF(joueurs=$B5,ROW(INDIRECT(\"1:\"&ROWS(ballonrecuperes)))),ROWS($1:$36))),\"\")","v":""},{"$f":"IF(ROWS($1:$37)<=COUNTIF(joueurs,$B5),INDEX(ballonrecuperes,SMALL(IF(joueurs=$B5,ROW(INDIRECT(\"1:\"&ROWS(ballonrecuperes)))),ROWS($1:$37))),\"\")","v":""},{"$f":"IF(ROWS($1:$38)<=COUNTIF(joueurs,$B5),INDEX(ballonrecuperes,SMALL(IF(joueurs=$B5,ROW(INDIRECT(\"1:\"&ROWS(ballonrecuperes)))),ROWS($1:$38))),\"\")","v":""},{"$f":"IF(ROWS($1:$39)<=COUNTIF(joueurs,$B5),INDEX(ballonrecuperes,SMALL(IF(joueurs=$B5,ROW(INDIRECT(\"1:\"&ROWS(ballonrecuperes)))),ROWS($1:$39))),\"\")","v":""},{"$f":"IF(ROWS($1:$40)<=COUNTIF(joueurs,$B5),INDEX(ballonrecuperes,SMALL(IF(joueurs=$B5,ROW(INDIRECT(\"1:\"&ROWS(ballonrecuperes)))),ROWS($1:$40))),\"\")","v":""},{"$f":"IF(ROWS($1:$31)<=COUNTIF(joueurs,$B5),INDEX(tirs,SMALL(IF(joueurs=$B5,ROW(INDIRECT(\"1:\"&ROWS(tirs)))),ROWS($1:$31))),\"\")","v":""},{"$f":"IF(ROWS($1:$32)<=COUNTIF(joueurs,$B5),INDEX(tirs,SMALL(IF(joueurs=$B5,ROW(INDIRECT(\"1:\"&ROWS(tirs)))),ROWS($1:$32))),\"\")","v":""},{"$f":"IF(ROWS($1:$33)<=COUNTIF(joueurs,$B5),INDEX(tirs,SMALL(IF(joueurs=$B5,ROW(INDIRECT(\"1:\"&ROWS(tirs)))),ROWS($1:$33))),\"\")","v":""},{"$f":"IF(ROWS($1:$34)<=COUNTIF(joueurs,$B5),INDEX(tirs,SMALL(IF(joueurs=$B5,ROW(INDIRECT(\"1:\"&ROWS(tirs)))),ROWS($1:$34))),\"\")","v":""},{"$f":"IF(ROWS($1:$35)<=COUNTIF(joueurs,$B5),INDEX(tirs,SMALL(IF(joueurs=$B5,ROW(INDIRECT(\"1:\"&ROWS(tirs)))),ROWS($1:$35))),\"\")","v":""},{"$f":"IF(ROWS($1:$36)<=COUNTIF(joueurs,$B5),INDEX(tirs,SMALL(IF(joueurs=$B5,ROW(INDIRECT(\"1:\"&ROWS(tirs)))),ROWS($1:$36))),\"\")","v":""},{"$f":"IF(ROWS($1:$37)<=COUNTIF(joueurs,$B5),INDEX(tirs,SMALL(IF(joueurs=$B5,ROW(INDIRECT(\"1:\"&ROWS(tirs)))),ROWS($1:$37))),\"\")","v":""},{"$f":"IF(ROWS($1:$38)<=COUNTIF(joueurs,$B5),INDEX(tirs,SMALL(IF(joueurs=$B5,ROW(INDIRECT(\"1:\"&ROWS(tirs)))),ROWS($1:$38))),\"\")","v":""},{"$f":"IF(ROWS($1:$39)<=COUNTIF(joueurs,$B5),INDEX(tirs,SMALL(IF(joueurs=$B5,ROW(INDIRECT(\"1:\"&ROWS(tirs)))),ROWS($1:$39))),\"\")","v":""},{"$f":"IF(ROWS($1:$40)<=COUNTIF(joueurs,$B5),INDEX(tirs,SMALL(IF(joueurs=$B5,ROW(INDIRECT(\"1:\"&ROWS(tirs)))),ROWS($1:$40))),\"\")","v":""},{"$f":"IF(ROWS($1:$31)<=COUNTIF(joueurs,$B5),INDEX(bontirs,SMALL(IF(joueurs=$B5,ROW(INDIRECT(\"1:\"&ROWS(bontirs)))),ROWS($1:$31))),\"\")","v":""},{"$f":"IF(ROWS($1:$32)<=COUNTIF(joueurs,$B5),INDEX(bontirs,SMALL(IF(joueurs=$B5,ROW(INDIRECT(\"1:\"&ROWS(bontirs)))),ROWS($1:$32))),\"\")","v":""},{"$f":"IF(ROWS($1:$33)<=COUNTIF(joueurs,$B5),INDEX(bontirs,SMALL(IF(joueurs=$B5,ROW(INDIRECT(\"1:\"&ROWS(bontirs)))),ROWS($1:$33))),\"\")","v":""},{"$f":"IF(ROWS($1:$34)<=COUNTIF(joueurs,$B5),INDEX(bontirs,SMALL(IF(joueurs=$B5,ROW(INDIRECT(\"1:\"&ROWS(bontirs)))),ROWS($1:$34))),\"\")","v":""},{"$f":"IF(ROWS($1:$35)<=COUNTIF(joueurs,$B5),INDEX(bontirs,SMALL(IF(joueurs=$B5,ROW(INDIRECT(\"1:\"&ROWS(bontirs)))),ROWS($1:$35))),\"\")","v":""},{"$f":"IF(ROWS($1:$36)<=COUNTIF(joueurs,$B5),INDEX(bontirs,SMALL(IF(joueurs=$B5,ROW(INDIRECT(\"1:\"&ROWS(bontirs)))),ROWS($1:$36))),\"\")","v":""},{"$f":"IF(ROWS($1:$37)<=COUNTIF(joueurs,$B5),INDEX(bontirs,SMALL(IF(joueurs=$B5,ROW(INDIRECT(\"1:\"&ROWS(bontirs)))),ROWS($1:$37))),\"\")","v":""},{"$f":"IF(ROWS($1:$38)<=COUNTIF(joueurs,$B5),INDEX(bontirs,SMALL(IF(joueurs=$B5,ROW(INDIRECT(\"1:\"&ROWS(bontirs)))),ROWS($1:$38))),\"\")","v":""},{"$f":"IF(ROWS($1:$39)<=COUNTIF(joueurs,$B5),INDEX(bontirs,SMALL(IF(joueurs=$B5,ROW(INDIRECT(\"1:\"&ROWS(bontirs)))),ROWS($1:$39))),\"\")","v":""},{"$f":"IF(ROWS($1:$40)<=COUNTIF(joueurs,$B5),INDEX(bontirs,SMALL(IF(joueurs=$B5,ROW(INDIRECT(\"1:\"&ROWS(bontirs)))),ROWS($1:$40))),\"\")","v":""},{"$f":"IF(ROWS($1:$31)<=COUNTIF(joueurs,$B5),INDEX(points,SMALL(IF(joueurs=$B5,ROW(INDIRECT(\"1:\"&ROWS(points)))),ROWS($1:$31))),\"\")","v":""},{"$f":"IF(ROWS($1:$32)<=COUNTIF(joueurs,$B5),INDEX(points,SMALL(IF(joueurs=$B5,ROW(INDIRECT(\"1:\"&ROWS(points)))),ROWS($1:$32))),\"\")","v":""},{"$f":"IF(ROWS($1:$33)<=COUNTIF(joueurs,$B5),INDEX(points,SMALL(IF(joueurs=$B5,ROW(INDIRECT(\"1:\"&ROWS(points)))),ROWS($1:$33))),\"\")","v":""},{"$f":"IF(ROWS($1:$34)<=COUNTIF(joueurs,$B5),INDEX(points,SMALL(IF(joueurs=$B5,ROW(INDIRECT(\"1:\"&ROWS(points)))),ROWS($1:$34))),\"\")","v":""},{"$f":"IF(ROWS($1:$35)<=COUNTIF(joueurs,$B5),INDEX(points,SMALL(IF(joueurs=$B5,ROW(INDIRECT(\"1:\"&ROWS(points)))),ROWS($1:$35))),\"\")","v":""},{"$f":"IF(ROWS($1:$36)<=COUNTIF(joueurs,$B5),INDEX(points,SMALL(IF(joueurs=$B5,ROW(INDIRECT(\"1:\"&ROWS(points)))),ROWS($1:$36))),\"\")","v":""},{"$f":"IF(ROWS($1:$37)<=COUNTIF(joueurs,$B5),INDEX(points,SMALL(IF(joueurs=$B5,ROW(INDIRECT(\"1:\"&ROWS(points)))),ROWS($1:$37))),\"\")","v":""},{"$f":"IF(ROWS($1:$38)<=COUNTIF(joueurs,$B5),INDEX(points,SMALL(IF(joueurs=$B5,ROW(INDIRECT(\"1:\"&ROWS(points)))),ROWS($1:$38))),\"\")","v":""},{"$f":"IF(ROWS($1:$39)<=COUNTIF(joueurs,$B5),INDEX(points,SMALL(IF(joueurs=$B5,ROW(INDIRECT(\"1:\"&ROWS(points)))),ROWS($1:$39))),\"\")","v":""},{"$f":"IF(ROWS($1:$40)<=COUNTIF(joueurs,$B5),INDEX(points,SMALL(IF(joueurs=$B5,ROW(INDIRECT(\"1:\"&ROWS(points)))),ROWS($1:$40))),\"\")","v":""},{"$f":"IF(ROWS($1:$31)<=COUNTIF(joueurs,$B5),INDEX(victoires,SMALL(IF(joueurs=$B5,ROW(INDIRECT(\"1:\"&ROWS(victoires)))),ROWS($1:$31))),\"\")","v":""},{"$f":"IF(ROWS($1:$32)<=COUNTIF(joueurs,$B5),INDEX(victoires,SMALL(IF(joueurs=$B5,ROW(INDIRECT(\"1:\"&ROWS(victoires)))),ROWS($1:$32))),\"\")","v":""},{"$f":"IF(ROWS($1:$33)<=COUNTIF(joueurs,$B5),INDEX(victoires,SMALL(IF(joueurs=$B5,ROW(INDIRECT(\"1:\"&ROWS(victoires)))),ROWS($1:$33))),\"\")","v":""},{"$f":"IF(ROWS($1:$34)<=COUNTIF(joueurs,$B5),INDEX(victoires,SMALL(IF(joueurs=$B5,ROW(INDIRECT(\"1:\"&ROWS(victoires)))),ROWS($1:$34))),\"\")","v":""},{"$f":"IF(ROWS($1:$35)<=COUNTIF(joueurs,$B5),INDEX(victoires,SMALL(IF(joueurs=$B5,ROW(INDIRECT(\"1:\"&ROWS(victoires)))),ROWS($1:$35))),\"\")","v":""},{"$f":"IF(ROWS($1:$36)<=COUNTIF(joueurs,$B5),INDEX(victoires,SMALL(IF(joueurs=$B5,ROW(INDIRECT(\"1:\"&ROWS(victoires)))),ROWS($1:$36))),\"\")","v":""},{"$f":"IF(ROWS($1:$37)<=COUNTIF(joueurs,$B5),INDEX(victoires,SMALL(IF(joueurs=$B5,ROW(INDIRECT(\"1:\"&ROWS(victoires)))),ROWS($1:$37))),\"\")","v":""},{"$f":"IF(ROWS($1:$38)<=COUNTIF(joueurs,$B5),INDEX(victoires,SMALL(IF(joueurs=$B5,ROW(INDIRECT(\"1:\"&ROWS(victoires)))),ROWS($1:$38))),\"\")","v":""},{"$f":"IF(ROWS($1:$39)<=COUNTIF(joueurs,$B5),INDEX(victoires,SMALL(IF(joueurs=$B5,ROW(INDIRECT(\"1:\"&ROWS(victoires)))),ROWS($1:$39))),\"\")","v":""},{"$f":"IF(ROWS($1:$40)<=COUNTIF(joueurs,$B5),INDEX(victoires,SMALL(IF(joueurs=$B5,ROW(INDIRECT(\"1:\"&ROWS(victoires)))),ROWS($1:$40))),\"\")","v":""}]
[2,{"$f":"INDEX(eleves,MATCH(A9,numero,0),MATCH($B$2,classes,0))","v":"Curry"},null,{"$f":"IF(ROWS($1:$1)<=COUNTIF(joueurs,$B9),INDEX(fautes,SMALL(IF(joueurs=$B9,ROW(INDIRECT(\"1:\"&ROWS(fautes)))),ROWS($1:$1))),\"\")","v":""},{"$f":"IF(ROWS($1:$2)<=COUNTIF(joueurs,$B9),INDEX(fautes,SMALL(IF(joueurs=$B9,ROW(INDIRECT(\"1:\"&ROWS(fautes)))),ROWS($1:$2))),\"\")","v":""},{"$f":"IF(ROWS($1:$3)<=COUNTIF(joueurs,$B9),INDEX(fautes,SMALL(IF(joueurs=$B9,ROW(INDIRECT(\"1:\"&ROWS(fautes)))),ROWS($1:$3))),\"\")","v":""},{"$f":"IF(ROWS($1:$4)<=COUNTIF(joueurs,$B9),INDEX(fautes,SMALL(IF(joueurs=$B9,ROW(INDIRECT(\"1:\"&ROWS(fautes)))),ROWS($1:$4))),\"\")","v":""},{"$f":"IF(ROWS($1:$5)<=COUNTIF(joueurs,$B9),INDEX(fautes,SMALL(IF(joueurs=$B9,ROW(INDIRECT(\"1:\"&ROWS(fautes)))),ROWS($1:$5))),\"\")","v":""},{"$f":"IF(ROWS($1:$6)<=COUNTIF(joueurs,$B9),INDEX(fautes,SMALL(IF(joueurs=$B9,ROW(INDIRECT(\"1:\"&ROWS(fautes)))),ROWS($1:$6))),\"\")","v":""},{"$f":"IF(ROWS($1:$7)<=COUNTIF(joueurs,$B9),INDEX(fautes,SMALL(IF(joueurs=$B9,ROW(INDIRECT(\"1:\"&ROWS(fautes)))),ROWS($1:$7))),\"\")","v":""},{"$f":"IF(ROWS($1:$8)<=COUNTIF(joueurs,$B9),INDEX(fautes,SMALL(IF(joueurs=$B9,ROW(INDIRECT(\"1:\"&ROWS(fautes)))),ROWS($1:$8))),\"\")","v":""},{"$f":"IF(ROWS($1:$9)<=COUNTIF(joueurs,$B9),INDEX(fautes,SMALL(IF(joueurs=$B9,ROW(INDIRECT(\"1:\"&ROWS(fautes)))),ROWS($1:$9))),\"\")","v":""},{"$f":"IF(ROWS($1:$10)<=COUNTIF(joueurs,$B9),INDEX(fautes,SMALL(IF(joueurs=$B9,ROW(INDIRECT(\"1:\"&ROWS(fautes)))),ROWS($1:$10))),\"\")","v":""},{"$f":"IF(ROWS($1:$1)<=COUNTIF(joueurs,$B9),INDEX(ballonperdus,SMALL(IF(joueurs=$B9,ROW(INDIRECT(\"1:\"&ROWS(ballonperdus)))),ROWS($1:$1))),\"\")","v":""},{"$f":"IF(ROWS($1:$2)<=COUNTIF(joueurs,$B9),INDEX(ballonperdus,SMALL(IF(joueurs=$B9,ROW(INDIRECT(\"1:\"&ROWS(ballonperdus)))),ROWS($1:$2))),\"\")","v":""},{"$f":"IF(ROWS($1:$3)<=COUNTIF(joueurs,$B9),INDEX(ballonperdus,SMALL(IF(joueurs=$B9,ROW(INDIRECT(\"1:\"&ROWS(ballonperdus)))),ROWS($1:$3))),\"\")","v":""},{"$f":"IF(ROWS($1:$4)<=COUNTIF(joueurs,$B9),INDEX(ballonperdus,SMALL(IF(joueurs=$B9,ROW(INDIRECT(\"1:\"&ROWS(ballonperdus)))),ROWS($1:$4))),\"\")","v":""},{"$f":"IF(ROWS($1:$5)<=COUNTIF(joueurs,$B9),INDEX(ballonperdus,SMALL(IF(joueurs=$B9,ROW(INDIRECT(\"1:\"&ROWS(ballonperdus)))),ROWS($1:$5))),\"\")","v":""},{"$f":"IF(ROWS($1:$6)<=COUNTIF(joueurs,$B9),INDEX(ballonperdus,SMALL(IF(joueurs=$B9,ROW(INDIRECT(\"1:\"&ROWS(ballonperdus)))),ROWS($1:$6))),\"\")","v":""},{"$f":"IF(ROWS($1:$7)<=COUNTIF(joueurs,$B9),INDEX(ballonperdus,SMALL(IF(joueurs=$B9,ROW(INDIRECT(\"1:\"&ROWS(ballonperdus)))),ROWS($1:$7))),\"\")","v":""},{"$f":"IF(ROWS($1:$8)<=COUNTIF(joueurs,$B9),INDEX(ballonperdus,SMALL(IF(joueurs=$B9,ROW(INDIRECT(\"1:\"&ROWS(ballonperdus)))),ROWS($1:$8))),\"\")","v":""},{"$f":"IF(ROWS($1:$9)<=COUNTIF(joueurs,$B9),INDEX(ballonperdus,SMALL(IF(joueurs=$B9,ROW(INDIRECT(\"1:\"&ROWS(ballonperdus)))),ROWS($1:$9))),\"\")","v":""},{"$f":"IF(ROWS($1:$10)<=COUNTIF(joueurs,$B9),INDEX(ballonperdus,SMALL(IF(joueurs=$B9,ROW(INDIRECT(\"1:\"&ROWS(ballonperdus)))),ROWS($1:$10))),\"\")","v":""},{"$f":"IF(ROWS($1:$1)<=COUNTIF(joueurs,$B9),INDEX(interceptions,SMALL(IF(joueurs=$B9,ROW(INDIRECT(\"1:\"&ROWS(interceptions)))),ROWS($1:$1))),\"\")","v":""},{"$f":"IF(ROWS($1:$2)<=COUNTIF(joueurs,$B9),INDEX(interceptions,SMALL(IF(joueurs=$B9,ROW(INDIRECT(\"1:\"&ROWS(interceptions)))),ROWS($1:$2))),\"\")","v":""},{"$f":"IF(ROWS($1:$3)<=COUNTIF(joueurs,$B9),INDEX(interceptions,SMALL(IF(joueurs=$B9,ROW(INDIRECT(\"1:\"&ROWS(interceptions)))),ROWS($1:$3))),\"\")","v":""},{"$f":"IF(ROWS($1:$4)<=COUNTIF(joueurs,$B9),INDEX(interceptions,SMALL(IF(joueurs=$B9,ROW(INDIRECT(\"1:\"&ROWS(interceptions)))),ROWS($1:$4))),\"\")","v":""},{"$f":"IF(ROWS($1:$5)<=COUNTIF(joueurs,$B9),INDEX(interceptions,SMALL(IF(joueurs=$B9,ROW(INDIRECT(\"1:\"&ROWS(interceptions)))),ROWS($1:$5))),\"\")","v":""},{"$f":"IF(ROWS($1:$6)<=COUNTIF(joueurs,$B9),INDEX(interceptions,SMALL(IF(joueurs=$B9,ROW(INDIRECT(\"1:\"&ROWS(interceptions)))),ROWS($1:$6))),\"\")","v":""},{"$f":"IF(ROWS($1:$7)<=COUNTIF(joueurs,$B9),INDEX(interceptions,SMALL(IF(joueurs=$B9,ROW(INDIRECT(\"1:\"&ROWS(interceptions)))),ROWS($1:$7))),\"\")","v":""},{"$f":"IF(ROWS($1:$8)<=COUNTIF(joueurs,$B9),INDEX(interceptions,SMALL(IF(joueurs=$B9,ROW(INDIRECT(\"1:\"&ROWS(interceptions)))),ROWS($1:$8))),\"\")","v":""},{"$f":"IF(ROWS($1:$9)<=COUNTIF(joueurs,$B9),INDEX(interceptions,SMALL(IF(joueurs=$B9,ROW(INDIRECT(\"1:\"&ROWS(interceptions)))),ROWS($1:$9))),\"\")","v":""},{"$f":"IF(ROWS($1:$10)<=COUNTIF(joueurs,$B9),INDEX(interceptions,SMALL(IF(joueurs=$B9,ROW(INDIRECT(\"1:\"&ROWS(interceptions)))),ROWS($1:$10))),\"\")","v":""},{"$f":"IF(ROWS($1:$1)<=COUNTIF(joueurs,$B9),INDEX(ballonrecuperes,SMALL(IF(joueurs=$B9,ROW(INDIRECT(\"1:\"&ROWS(ballonrecuperes)))),ROWS($1:$1))),\"\")","v":""},{"$f":"IF(ROWS($1:$2)<=COUNTIF(joueurs,$B9),INDEX(ballonrecuperes,SMALL(IF(joueurs=$B9,ROW(INDIRECT(\"1:\"&ROWS(ballonrecuperes)))),ROWS($1:$2))),\"\")","v":""},{"$f":"IF(ROWS($1:$3)<=COUNTIF(joueurs,$B9),INDEX(ballonrecuperes,SMALL(IF(joueurs=$B9,ROW(INDIRECT(\"1:\"&ROWS(ballonrecuperes)))),ROWS($1:$3))),\"\")","v":""},{"$f":"IF(ROWS($1:$4)<=COUNTIF(joueurs,$B9),INDEX(ballonrecuperes,SMALL(IF(joueurs=$B9,ROW(INDIRECT(\"1:\"&ROWS(ballonrecuperes)))),ROWS($1:$4))),\"\")","v":""},{"$f":"IF(ROWS($1:$5)<=COUNTIF(joueurs,$B9),INDEX(ballonrecuperes,SMALL(IF(joueurs=$B9,ROW(INDIRECT(\"1:\"&ROWS(ballonrecuperes)))),ROWS($1:$5))),\"\")","v":""},{"$f":"IF(ROWS($1:$6)<=COUNTIF(joueurs,$B9),INDEX(ballonrecuperes,SMALL(IF(joueurs=$B9,ROW(INDIRECT(\"1:\"&ROWS(ballonrecuperes)))),ROWS($1:$6))),\"\")","v":""},{"$f":"IF(ROWS($1:$7)<=COUNTIF(joueurs,$B9),INDEX(ballonrecuperes,SMALL(IF(joueurs=$B9,ROW(INDIRECT(\"1:\"&ROWS(ballonrecuperes)))),ROWS($1:$7))),\"\")","v":""},{"$f":"IF(ROWS($1:$8)<=COUNTIF(joueurs,$B9),INDEX(ballonrecuperes,SMALL(IF(joueurs=$B9,ROW(INDIRECT(\"1:\"&ROWS(ballonrecuperes)))),ROWS($1:$8))),\"\")","v":""},{"$f":"IF(ROWS($1:$9)<=COUNTIF(joueurs,$B9),INDEX(ballonrecuperes,SMALL(IF(joueurs=$B9,ROW(INDIRECT(\"1:\"&ROWS(ballonrecuperes)))),ROWS($1:$9))),\"\")","v":""},{"$f":"IF(ROWS($1:$10)<=COUNTIF(joueurs,$B9),INDEX(ballonrecuperes,SMALL(IF(joueurs=$B9,ROW(INDIRECT(\"1:\"&ROWS(ballonrecuperes)))),ROWS($1:$10))),\"\")","v":""},{"$f":"IF(ROWS($1:$1)<=COUNTIF(joueurs,$B9),INDEX(tirs,SMALL(IF(joueurs=$B9,ROW(INDIRECT(\"1:\"&ROWS(tirs)))),ROWS($1:$1))),\"\")","v":""},{"$f":"IF(ROWS($1:$2)<=COUNTIF(joueurs,$B9),INDEX(tirs,SMALL(IF(joueurs=$B9,ROW(INDIRECT(\"1:\"&ROWS(tirs)))),ROWS($1:$2))),\"\")","v":""},{"$f":"IF(ROWS($1:$3)<=COUNTIF(joueurs,$B9),INDEX(tirs,SMALL(IF(joueurs=$B9,ROW(INDIRECT(\"1:\"&ROWS(tirs)))),ROWS($1:$3))),\"\")","v":""},{"$f":"IF(ROWS($1:$4)<=COUNTIF(joueurs,$B9),INDEX(tirs,SMALL(IF(joueurs=$B9,ROW(INDIRECT(\"1:\"&ROWS(tirs)))),ROWS($1:$4))),\"\")","v":""},{"$f":"IF(ROWS($1:$5)<=COUNTIF(joueurs,$B9),INDEX(tirs,SMALL(IF(joueurs=$B9,ROW(INDIRECT(\"1:\"&ROWS(tirs)))),ROWS($1:$5))),\"\")","v":""},{"$f":"IF(ROWS($1:$6)<=COUNTIF(joueurs,$B9),INDEX(tirs,SMALL(IF(joueurs=$B9,ROW(INDIRECT(\"1:\"&ROWS(tirs)))),ROWS($1:$6))),\"\")","v":""},{"$f":"IF(ROWS($1:$7)<=COUNTIF(joueurs,$B9),INDEX(tirs,SMALL(IF(joueurs=$B9,ROW(INDIRECT(\"1:\"&ROWS(tirs)))),ROWS($1:$7))),\"\")","v":""},{"$f":"IF(ROWS($1:$8)<=COUNTIF(joueurs,$B9),INDEX(tirs,SMALL(IF(joueurs=$B9,ROW(INDIRECT(\"1:\"&ROWS(tirs)))),ROWS($1:$8))),\"\")","v":""},{"$f":"IF(ROWS($1:$9)<=COUNTIF(joueurs,$B9),INDEX(tirs,SMALL(IF(joueurs=$B9,ROW(INDIRECT(\"1:\"&ROWS(tirs)))),ROWS($1:$9))),\"\")","v":""},{"$f":"IF(ROWS($1:$10)<=COUNTIF(joueurs,$B9),INDEX(tirs,SMALL(IF(joueurs=$B9,ROW(INDIRECT(\"1:\"&ROWS(tirs)))),ROWS($1:$10))),\"\")","v":""},{"$f":"IF(ROWS($1:$1)<=COUNTIF(joueurs,$B9),INDEX(bontirs,SMALL(IF(joueurs=$B9,ROW(INDIRECT(\"1:\"&ROWS(bontirs)))),ROWS($1:$1))),\"\")","v":""},{"$f":"IF(ROWS($1:$2)<=COUNTIF(joueurs,$B9),INDEX(bontirs,SMALL(IF(joueurs=$B9,ROW(INDIRECT(\"1:\"&ROWS(bontirs)))),ROWS($1:$2))),\"\")","v":""},{"$f":"IF(ROWS($1:$3)<=COUNTIF(joueurs,$B9),INDEX(bontirs,SMALL(IF(joueurs=$B9,ROW(INDIRECT(\"1:\"&ROWS(bontirs)))),ROWS($1:$3))),\"\")","v":""},{"$f":"IF(ROWS($1:$4)<=COUNTIF(joueurs,$B9),INDEX(bontirs,SMALL(IF(joueurs=$B9,ROW(INDIRECT(\"1:\"&ROWS(bontirs)))),ROWS($1:$4))),\"\")","v":""},{"$f":"IF(ROWS($1:$5)<=COUNTIF(joueurs,$B9),INDEX(bontirs,SMALL(IF(joueurs=$B9,ROW(INDIRECT(\"1:\"&ROWS(bontirs)))),ROWS($1:$5))),\"\")","v":""},{"$f":"IF(ROWS($1:$6)<=COUNTIF(joueurs,$B9),INDEX(bontirs,SMALL(IF(joueurs=$B9,ROW(INDIRECT(\"1:\"&ROWS(bontirs)))),ROWS($1:$6))),\"\")","v":""},{"$f":"IF(ROWS($1:$7)<=COUNTIF(joueurs,$B9),INDEX(bontirs,SMALL(IF(joueurs=$B9,ROW(INDIRECT(\"1:\"&ROWS(bontirs)))),ROWS($1:$7))),\"\")","v":""},{"$f":"IF(ROWS($1:$8)<=COUNTIF(joueurs,$B9),INDEX(bontirs,SMALL(IF(joueurs=$B9,ROW(INDIRECT(\"1:\"&ROWS(bontirs)))),ROWS($1:$8))),\"\")","v":""},{"$f":"IF(ROWS($1:$9)<=COUNTIF(joueurs,$B9),INDEX(bontirs,SMALL(IF(joueurs=$B9,ROW(INDIRECT(\"1:\"&ROWS(bontirs)))),ROWS($1:$9))),\"\")","v":""},{"$f":"IF(ROWS($1:$10)<=COUNTIF(joueurs,$B9),INDEX(bontirs,SMALL(IF(joueurs=$B9,ROW(INDIRECT(\"1:\"&ROWS(bontirs)))),ROWS($1:$10))),\"\")","v":""},{"$f":"IF(ROWS($1:$1)<=COUNTIF(joueurs,$B9),INDEX(points,SMALL(IF(joueurs=$B9,ROW(INDIRECT(\"1:\"&ROWS(points)))),ROWS($1:$1))),\"\")","v":""},{"$f":"IF(ROWS($1:$2)<=COUNTIF(joueurs,$B9),INDEX(points,SMALL(IF(joueurs=$B9,ROW(INDIRECT(\"1:\"&ROWS(points)))),ROWS($1:$2))),\"\")","v":""},{"$f":"IF(ROWS($1:$3)<=COUNTIF(joueurs,$B9),INDEX(points,SMALL(IF(joueurs=$B9,ROW(INDIRECT(\"1:\"&ROWS(points)))),ROWS($1:$3))),\"\")","v":""},{"$f":"IF(ROWS($1:$4)<=COUNTIF(joueurs,$B9),INDEX(points,SMALL(IF(joueurs=$B9,ROW(INDIRECT(\"1:\"&ROWS(points)))),ROWS($1:$4))),\"\")","v":""},{"$f":"IF(ROWS($1:$5)<=COUNTIF(joueurs,$B9),INDEX(points,SMALL(IF(joueurs=$B9,ROW(INDIRECT(\"1:\"&ROWS(points)))),ROWS($1:$5))),\"\")","v":""},{"$f":"IF(ROWS($1:$6)<=COUNTIF(joueurs,$B9),INDEX(points,SMALL(IF(joueurs=$B9,ROW(INDIRECT(\"1:\"&ROWS(points)))),ROWS($1:$6))),\"\")","v":""},{"$f":"IF(ROWS($1:$7)<=COUNTIF(joueurs,$B9),INDEX(points,SMALL(IF(joueurs=$B9,ROW(INDIRECT(\"1:\"&ROWS(points)))),ROWS($1:$7))),\"\")","v":""},{"$f":"IF(ROWS($1:$8)<=COUNTIF(joueurs,$B9),INDEX(points,SMALL(IF(joueurs=$B9,ROW(INDIRECT(\"1:\"&ROWS(points)))),ROWS($1:$8))),\"\")","v":""},{"$f":"IF(ROWS($1:$9)<=COUNTIF(joueurs,$B9),INDEX(points,SMALL(IF(joueurs=$B9,ROW(INDIRECT(\"1:\"&ROWS(points)))),ROWS($1:$9))),\"\")","v":""},{"$f":"IF(ROWS($1:$10)<=COUNTIF(joueurs,$B9),INDEX(points,SMALL(IF(joueurs=$B9,ROW(INDIRECT(\"1:\"&ROWS(points)))),ROWS($1:$10))),\"\")","v":""},{"$f":"IF(ROWS($1:$1)<=COUNTIF(joueurs,$B9),INDEX(victoires,SMALL(IF(joueurs=$B9,ROW(INDIRECT(\"1:\"&ROWS(victoires)))),ROWS($1:$1))),\"\")","v":""},{"$f":"IF(ROWS($1:$2)<=COUNTIF(joueurs,$B9),INDEX(victoires,SMALL(IF(joueurs=$B9,ROW(INDIRECT(\"1:\"&ROWS(victoires)))),ROWS($1:$2))),\"\")","v":""},{"$f":"IF(ROWS($1:$3)<=COUNTIF(joueurs,$B9),INDEX(victoires,SMALL(IF(joueurs=$B9,ROW(INDIRECT(\"1:\"&ROWS(victoires)))),ROWS($1:$3))),\"\")","v":""},{"$f":"IF(ROWS($1:$4)<=COUNTIF(joueurs,$B9),INDEX(victoires,SMALL(IF(joueurs=$B9,ROW(INDIRECT(\"1:\"&ROWS(victoires)))),ROWS($1:$4))),\"\")","v":""},{"$f":"IF(ROWS($1:$5)<=COUNTIF(joueurs,$B9),INDEX(victoires,SMALL(IF(joueurs=$B9,ROW(INDIRECT(\"1:\"&ROWS(victoires)))),ROWS($1:$5))),\"\")","v":""},{"$f":"IF(ROWS($1:$6)<=COUNTIF(joueurs,$B9),INDEX(victoires,SMALL(IF(joueurs=$B9,ROW(INDIRECT(\"1:\"&ROWS(victoires)))),ROWS($1:$6))),\"\")","v":""},{"$f":"IF(ROWS($1:$7)<=COUNTIF(joueurs,$B9),INDEX(victoires,SMALL(IF(joueurs=$B9,ROW(INDIRECT(\"1:\"&ROWS(victoires)))),ROWS($1:$7))),\"\")","v":""},{"$f":"IF(ROWS($1:$8)<=COUNTIF(joueurs,$B9),INDEX(victoires,SMALL(IF(joueurs=$B9,ROW(INDIRECT(\"1:\"&ROWS(victoires)))),ROWS($1:$8))),\"\")","v":""},{"$f":"IF(ROWS($1:$9)<=COUNTIF(joueurs,$B9),INDEX(victoires,SMALL(IF(joueurs=$B9,ROW(INDIRECT(\"1:\"&ROWS(victoires)))),ROWS($1:$9))),\"\")","v":""},{"$f":"IF(ROWS($1:$10)<=COUNTIF(joueurs,$B9),INDEX(victoires,SMALL(IF(joueurs=$B9,ROW(INDIRECT(\"1:\"&ROWS(victoires)))),ROWS($1:$10))),\"\")","v":""}]
[null,null,null,{"$f":"IF(ROWS($1:$11)<=COUNTIF(joueurs,$B9),INDEX(fautes,SMALL(IF(joueurs=$B9,ROW(INDIRECT(\"1:\"&ROWS(fautes)))),ROWS($1:$11))),\"\")","v":""},{"$f":"IF(ROWS($1:$12)<=COUNTIF(joueurs,$B9),INDEX(fautes,SMALL(IF(joueurs=$B9,ROW(INDIRECT(\"1:\"&ROWS(fautes)))),ROWS($1:$12))),\"\")","v":""},{"$f":"IF(ROWS($1:$13)<=COUNTIF(joueurs,$B9),INDEX(fautes,SMALL(IF(joueurs=$B9,ROW(INDIRECT(\"1:\"&ROWS(fautes)))),ROWS($1:$13))),\"\")","v":""},{"$f":"IF(ROWS($1:$14)<=COUNTIF(joueurs,$B9),INDEX(fautes,SMALL(IF(joueurs=$B9,ROW(INDIRECT(\"1:\"&ROWS(fautes)))),ROWS($1:$14))),\"\")","v":""},{"$f":"IF(ROWS($1:$15)<=COUNTIF(joueurs,$B9),INDEX(fautes,SMALL(IF(joueurs=$B9,ROW(INDIRECT(\"1:\"&ROWS(fautes)))),ROWS($1:$15))),\"\")","v":""},{"$f":"IF(ROWS($1:$16)<=COUNTIF(joueurs,$B9),INDEX(fautes,SMALL(IF(joueurs=$B9,ROW(INDIRECT(\"1:\"&ROWS(fautes)))),ROWS($1:$16))),\"\")","v":""},{"$f":"IF(ROWS($1:$17)<=COUNTIF(joueurs,$B9),INDEX(fautes,SMALL(IF(joueurs=$B9,ROW(INDIRECT(\"1:\"&ROWS(fautes)))),ROWS($1:$17))),\"\")","v":""},{"$f":"IF(ROWS($1:$18)<=COUNTIF(joueurs,$B9),INDEX(fautes,SMALL(IF(joueurs=$B9,ROW(INDIRECT(\"1:\"&ROWS(fautes)))),ROWS($1:$18))),\"\")","v":""},{"$f":"IF(ROWS($1:$19)<=COUNTIF(joueurs,$B9),INDEX(fautes,SMALL(IF(joueurs=$B9,ROW(INDIRECT(\"1:\"&ROWS(fautes)))),ROWS($1:$19))),\"\")","v":""},{"$f":"IF(ROWS($1:$20)<=COUNTIF(joueurs,$B9),INDEX(fautes,SMALL(IF(joueurs=$B9,ROW(INDIRECT(\"1:\"&ROWS(fautes)))),ROWS($1:$20))),\"\")","v":""},{"$f":"IF(ROWS($1:$11)<=COUNTIF(joueurs,$B9),INDEX(ballonperdus,SMALL(IF(joueurs=$B9,ROW(INDIRECT(\"1:\"&ROWS(ballonperdus)))),ROWS($1:$11))),\"\")","v":""},{"$f":"IF(ROWS($1:$12)<=COUNTIF(joueurs,$B9),INDEX(ballonperdus,SMALL(IF(joueurs=$B9,ROW(INDIRECT(\"1:\"&ROWS(ballonperdus)))),ROWS($1:$12))),\"\")","v":""},{"$f":"IF(ROWS($1:$13)<=COUNTIF(joueurs,$B9),INDEX(ballonperdus,SMALL(IF(joueurs=$B9,ROW(INDIRECT(\"1:\"&ROWS(ballonperdus)))),ROWS($1:$13))),\"\")","v":""},{"$f":"IF(ROWS($1:$14)<=COUNTIF(joueurs,$B9),INDEX(ballonperdus,SMALL(IF(joueurs=$B9,ROW(INDIRECT(\"1:\"&ROWS(ballonperdus)))),ROWS($1:$14))),\"\")","v":""},{"$f":"IF(ROWS($1:$15)<=COUNTIF(joueurs,$B9),INDEX(ballonperdus,SMALL(IF(joueurs=$B9,ROW(INDIRECT(\"1:\"&ROWS(ballonperdus)))),ROWS($1:$15))),\"\")","v":""},{"$f":"IF(ROWS($1:$16)<=COUNTIF(joueurs,$B9),INDEX(ballonperdus,SMALL(IF(joueurs=$B9,ROW(INDIRECT(\"1:\"&ROWS(ballonperdus)))),ROWS($1:$16))),\"\")","v":""},{"$f":"IF(ROWS($1:$17)<=COUNTIF(joueurs,$B9),INDEX(ballonperdus,SMALL(IF(joueurs=$B9,ROW(INDIRECT(\"1:\"&ROWS(ballonperdus)))),ROWS($1:$17))),\"\")","v":""},{"$f":"IF(ROWS($1:$18)<=COUNTIF(joueurs,$B9),INDEX(ballonperdus,SMALL(IF(joueurs=$B9,ROW(INDIRECT(\"1:\"&ROWS(ballonperdus)))),ROWS($1:$18))),\"\")","v":""},{"$f":"IF(ROWS($1:$19)<=COUNTIF(joueurs,$B9),INDEX(ballonperdus,SMALL(IF(joueurs=$B9,ROW(INDIRECT(\"1:\"&ROWS(ballonperdus)))),ROWS($1:$19))),\"\")","v":""},{"$f":"IF(ROWS($1:$20)<=COUNTIF(joueurs,$B9),INDEX(fautes,SMALL(IF(joueurs=$B9,ROW(INDIRECT(\"1:\"&ROWS(ballonperdus)))),ROWS($1:$20))),\"\")","v":""},{"$f":"IF(ROWS($1:$11)<=COUNTIF(joueurs,$B9),INDEX(interceptions,SMALL(IF(joueurs=$B9,ROW(INDIRECT(\"1:\"&ROWS(interceptions)))),ROWS($1:$11))),\"\")","v":""},{"$f":"IF(ROWS($1:$12)<=COUNTIF(joueurs,$B9),INDEX(interceptions,SMALL(IF(joueurs=$B9,ROW(INDIRECT(\"1:\"&ROWS(interceptions)))),ROWS($1:$12))),\"\")","v":""},{"$f":"IF(ROWS($1:$13)<=COUNTIF(joueurs,$B9),INDEX(interceptions,SMALL(IF(joueurs=$B9,ROW(INDIRECT(\"1:\"&ROWS(interceptions)))),ROWS($1:$13))),\"\")","v":""},{"$f":"IF(ROWS($1:$14)<=COUNTIF(joueurs,$B9),INDEX(interceptions,SMALL(IF(joueurs=$B9,ROW(INDIRECT(\"1:\"&ROWS(interceptions)))),ROWS($1:$14))),\"\")","v":""},{"$f":"IF(ROWS($1:$15)<=COUNTIF(joueurs,$B9),INDEX(interceptions,SMALL(IF(joueurs=$B9,ROW(INDIRECT(\"1:\"&ROWS(interceptions)))),ROWS($1:$15))),\"\")","v":""},{"$f":"IF(ROWS($1:$16)<=COUNTIF(joueurs,$B9),INDEX(interceptions,SMALL(IF(joueurs=$B9,ROW(INDIRECT(\"1:\"&ROWS(interceptions)))),ROWS($1:$16))),\"\")","v":""},{"$f":"IF(ROWS($1:$17)<=COUNTIF(joueurs,$B9),INDEX(interceptions,SMALL(IF(joueurs=$B9,ROW(INDIRECT(\"1:\"&ROWS(interceptions)))),ROWS($1:$17))),\"\")","v":""},{"$f":"IF(ROWS($1:$18)<=COUNTIF(joueurs,$B9),INDEX(interceptions,SMALL(IF(joueurs=$B9,ROW(INDIRECT(\"1:\"&ROWS(interceptions)))),ROWS($1:$18))),\"\")","v":""},{"$f":"IF(ROWS($1:$19)<=COUNTIF(joueurs,$B9),INDEX(interceptions,SMALL(IF(joueurs=$B9,ROW(INDIRECT(\"1:\"&ROWS(interceptions)))),ROWS($1:$19))),\"\")","v":""},{"$f":"IF(ROWS($1:$20)<=COUNTIF(joueurs,$B9),INDEX(interceptions,SMALL(IF(joueurs=$B9,ROW(INDIRECT(\"1:\"&ROWS(interceptions)))),ROWS($1:$20))),\"\")","v":""},{"$f":"IF(ROWS($1:$11)<=COUNTIF(joueurs,$B9),INDEX(ballonrecuperes,SMALL(IF(joueurs=$B9,ROW(INDIRECT(\"1:\"&ROWS(ballonrecuperes)))),ROWS($1:$11))),\"\")","v":""},{"$f":"IF(ROWS($1:$12)<=COUNTIF(joueurs,$B9),INDEX(ballonrecuperes,SMALL(IF(joueurs=$B9,ROW(INDIRECT(\"1:\"&ROWS(ballonrecuperes)))),ROWS($1:$12))),\"\")","v":""},{"$f":"IF(ROWS($1:$13)<=COUNTIF(joueurs,$B9),INDEX(ballonrecuperes,SMALL(IF(joueurs=$B9,ROW(INDIRECT(\"1:\"&ROWS(ballonrecuperes)))),ROWS($1:$13))),\"\")","v":""},{"$f":"IF(ROWS($1:$14)<=COUNTIF(joueurs,$B9),INDEX(ballonrecuperes,SMALL(IF(joueurs=$B9,ROW(INDIRECT(\"1:\"&ROWS(ballonrecuperes)))),ROWS($1:$14))),\"\")","v":""},{"$f":"IF(ROWS($1:$15)<=COUNTIF(joueurs,$B9),INDEX(ballonrecuperes,SMALL(IF(joueurs=$B9,ROW(INDIRECT(\"1:\"&ROWS(ballonrecuperes)))),ROWS($1:$15))),\"\")","v":""},{"$f":"IF(ROWS($1:$16)<=COUNTIF(joueurs,$B9),INDEX(ballonrecuperes,SMALL(IF(joueurs=$B9,ROW(INDIRECT(\"1:\"&ROWS(ballonrecuperes)))),ROWS($1:$16))),\"\")","v":""},{"$f":"IF(ROWS($1:$17)<=COUNTIF(joueurs,$B9),INDEX(ballonrecuperes,SMALL(IF(joueurs=$B9,ROW(INDIRECT(\"1:\"&ROWS(ballonrecuperes)))),ROWS($1:$17))),\"\")","v":""},{"$f":"IF(ROWS($1:$18)<=COUNTIF(joueurs,$B9),INDEX(ballonrecuperes,SMALL(IF(joueurs=$B9,ROW(INDIRECT(\"1:\"&ROWS(ballonrecuperes)))),ROWS($1:$18))),\"\")","v":""},{"$f":"IF(ROWS($1:$19)<=COUNTIF(joueurs,$B9),INDEX(ballonrecuperes,SMALL(IF(joueurs=$B9,ROW(INDIRECT(\"1:\"&ROWS(ballonrecuperes)))),ROWS($1:$19))),\"\")","v":""},{"$f":"IF(ROWS($1:$20)<=COUNTIF(joueurs,$B9),INDEX(ballonrecuperes,SMALL(IF(joueurs=$B9,ROW(INDIRECT(\"1:\"&ROWS(ballonrecuperes)))),ROWS($1:$20))),\"\")","v":""},{"$f":"IF(ROWS($1:$11)<=COUNTIF(joueurs,$B9),INDEX(tirs,SMALL(IF(joueurs=$B9,ROW(INDIRECT(\"1:\"&ROWS(tirs)))),ROWS($1:$11))),\"\")","v":""},{"$f":"IF(ROWS($1:$12)<=COUNTIF(joueurs,$B9),INDEX(tirs,SMALL(IF(joueurs=$B9,ROW(INDIRECT(\"1:\"&ROWS(tirs)))),ROWS($1:$12))),\"\")","v":""},{"$f":"IF(ROWS($1:$13)<=COUNTIF(joueurs,$B9),INDEX(tirs,SMALL(IF(joueurs=$B9,ROW(INDIRECT(\"1:\"&ROWS(tirs)))),ROWS($1:$13))),\"\")","v":""},{"$f":"IF(ROWS($1:$14)<=COUNTIF(joueurs,$B9),INDEX(tirs,SMALL(IF(joueurs=$B9,ROW(INDIRECT(\"1:\"&ROWS(tirs)))),ROWS($1:$14))),\"\")","v":""},{"$f":"IF(ROWS($1:$15)<=COUNTIF(joueurs,$B9),INDEX(tirs,SMALL(IF(joueurs=$B9,ROW(INDIRECT(\"1:\"&ROWS(tirs)))),ROWS($1:$15))),\"\")","v":""},{"$f":"IF(ROWS($1:$16)<=COUNTIF(joueurs,$B9),INDEX(tirs,SMALL(IF(joueurs=$B9,ROW(INDIRECT(\"1:\"&ROWS(tirs)))),ROWS($1:$16))),\"\")","v":""},{"$f":"IF(ROWS($1:$17)<=COUNTIF(joueurs,$B9),INDEX(tirs,SMALL(IF(joueurs=$B9,ROW(INDIRECT(\"1:\"&ROWS(tirs)))),ROWS($1:$17))),\"\")","v":""},{"$f":"IF(ROWS($1:$18)<=COUNTIF(joueurs,$B9),INDEX(tirs,SMALL(IF(joueurs=$B9,ROW(INDIRECT(\"1:\"&ROWS(tirs)))),ROWS($1:$18))),\"\")","v":""},{"$f":"IF(ROWS($1:$19)<=COUNTIF(joueurs,$B9),INDEX(tirs,SMALL(IF(joueurs=$B9,ROW(INDIRECT(\"1:\"&ROWS(tirs)))),ROWS($1:$19))),\"\")","v":""},{"$f":"IF(ROWS($1:$20)<=COUNTIF(joueurs,$B9),INDEX(tirs,SMALL(IF(joueurs=$B9,ROW(INDIRECT(\"1:\"&ROWS(tirs)))),ROWS($1:$20))),\"\")","v":""},{"$f":"IF(ROWS($1:$11)<=COUNTIF(joueurs,$B9),INDEX(bontirs,SMALL(IF(joueurs=$B9,ROW(INDIRECT(\"1:\"&ROWS(bontirs)))),ROWS($1:$11))),\"\")","v":""},{"$f":"IF(ROWS($1:$12)<=COUNTIF(joueurs,$B9),INDEX(bontirs,SMALL(IF(joueurs=$B9,ROW(INDIRECT(\"1:\"&ROWS(bontirs)))),ROWS($1:$12))),\"\")","v":""},{"$f":"IF(ROWS($1:$13)<=COUNTIF(joueurs,$B9),INDEX(bontirs,SMALL(IF(joueurs=$B9,ROW(INDIRECT(\"1:\"&ROWS(bontirs)))),ROWS($1:$13))),\"\")","v":""},{"$f":"IF(ROWS($1:$14)<=COUNTIF(joueurs,$B9),INDEX(bontirs,SMALL(IF(joueurs=$B9,ROW(INDIRECT(\"1:\"&ROWS(bontirs)))),ROWS($1:$14))),\"\")","v":""},{"$f":"IF(ROWS($1:$15)<=COUNTIF(joueurs,$B9),INDEX(bontirs,SMALL(IF(joueurs=$B9,ROW(INDIRECT(\"1:\"&ROWS(bontirs)))),ROWS($1:$15))),\"\")","v":""},{"$f":"IF(ROWS($1:$16)<=COUNTIF(joueurs,$B9),INDEX(bontirs,SMALL(IF(joueurs=$B9,ROW(INDIRECT(\"1:\"&ROWS(bontirs)))),ROWS($1:$16))),\"\")","v":""},{"$f":"IF(ROWS($1:$17)<=COUNTIF(joueurs,$B9),INDEX(bontirs,SMALL(IF(joueurs=$B9,ROW(INDIRECT(\"1:\"&ROWS(bontirs)))),ROWS($1:$17))),\"\")","v":""},{"$f":"IF(ROWS($1:$18)<=COUNTIF(joueurs,$B9),INDEX(bontirs,SMALL(IF(joueurs=$B9,ROW(INDIRECT(\"1:\"&ROWS(bontirs)))),ROWS($1:$18))),\"\")","v":""},{"$f":"IF(ROWS($1:$19)<=COUNTIF(joueurs,$B9),INDEX(bontirs,SMALL(IF(joueurs=$B9,ROW(INDIRECT(\"1:\"&ROWS(bontirs)))),ROWS($1:$19))),\"\")","v":""},{"$f":"IF(ROWS($1:$20)<=COUNTIF(joueurs,$B9),INDEX(bontirs,SMALL(IF(joueurs=$B9,ROW(INDIRECT(\"1:\"&ROWS(bontirs)))),ROWS($1:$20))),\"\")","v":""},{"$f":"IF(ROWS($1:$11)<=COUNTIF(joueurs,$B9),INDEX(points,SMALL(IF(joueurs=$B9,ROW(INDIRECT(\"1:\"&ROWS(points)))),ROWS($1:$11))),\"\")","v":""},{"$f":"IF(ROWS($1:$12)<=COUNTIF(joueurs,$B9),INDEX(points,SMALL(IF(joueurs=$B9,ROW(INDIRECT(\"1:\"&ROWS(points)))),ROWS($1:$12))),\"\")","v":""},{"$f":"IF(ROWS($1:$13)<=COUNTIF(joueurs,$B9),INDEX(points,SMALL(IF(joueurs=$B9,ROW(INDIRECT(\"1:\"&ROWS(points)))),ROWS($1:$13))),\"\")","v":""},{"$f":"IF(ROWS($1:$14)<=COUNTIF(joueurs,$B9),INDEX(points,SMALL(IF(joueurs=$B9,ROW(INDIRECT(\"1:\"&ROWS(points)))),ROWS($1:$14))),\"\")","v":""},{"$f":"IF(ROWS($1:$15)<=COUNTIF(joueurs,$B9),INDEX(points,SMALL(IF(joueurs=$B9,ROW(INDIRECT(\"1:\"&ROWS(points)))),ROWS($1:$15))),\"\")","v":""},{"$f":"IF(ROWS($1:$16)<=COUNTIF(joueurs,$B9),INDEX(points,SMALL(IF(joueurs=$B9,ROW(INDIRECT(\"1:\"&ROWS(points)))),ROWS($1:$16))),\"\")","v":""},{"$f":"IF(ROWS($1:$17)<=COUNTIF(joueurs,$B9),INDEX(points,SMALL(IF(joueurs=$B9,ROW(INDIRECT(\"1:\"&ROWS(points)))),ROWS($1:$17))),\"\")","v":""},{"$f":"IF(ROWS($1:$18)<=COUNTIF(joueurs,$B9),INDEX(points,SMALL(IF(joueurs=$B9,ROW(INDIRECT(\"1:\"&ROWS(points)))),ROWS($1:$18))),\"\")","v":""},{"$f":"IF(ROWS($1:$19)<=COUNTIF(joueurs,$B9),INDEX(points,SMALL(IF(joueurs=$B9,ROW(INDIRECT(\"1:\"&ROWS(points)))),ROWS($1:$19))),\"\")","v":""},{"$f":"IF(ROWS($1:$20)<=COUNTIF(points,$B9),INDEX(fautes,SMALL(IF(joueurs=$B9,ROW(INDIRECT(\"1:\"&ROWS(points)))),ROWS($1:$20))),\"\")","v":""},{"$f":"IF(ROWS($1:$11)<=COUNTIF(joueurs,$B9),INDEX(victoires,SMALL(IF(joueurs=$B9,ROW(INDIRECT(\"1:\"&ROWS(victoires)))),ROWS($1:$11))),\"\")","v":""},{"$f":"IF(ROWS($1:$12)<=COUNTIF(joueurs,$B9),INDEX(victoires,SMALL(IF(joueurs=$B9,ROW(INDIRECT(\"1:\"&ROWS(victoires)))),ROWS($1:$12))),\"\")","v":""},{"$f":"IF(ROWS($1:$13)<=COUNTIF(joueurs,$B9),INDEX(victoires,SMALL(IF(joueurs=$B9,ROW(INDIRECT(\"1:\"&ROWS(victoires)))),ROWS($1:$13))),\"\")","v":""},{"$f":"IF(ROWS($1:$14)<=COUNTIF(joueurs,$B9),INDEX(victoires,SMALL(IF(joueurs=$B9,ROW(INDIRECT(\"1:\"&ROWS(victoires)))),ROWS($1:$14))),\"\")","v":""},{"$f":"IF(ROWS($1:$15)<=COUNTIF(joueurs,$B9),INDEX(victoires,SMALL(IF(joueurs=$B9,ROW(INDIRECT(\"1:\"&ROWS(victoires)))),ROWS($1:$15))),\"\")","v":""},{"$f":"IF(ROWS($1:$16)<=COUNTIF(joueurs,$B9),INDEX(victoires,SMALL(IF(joueurs=$B9,ROW(INDIRECT(\"1:\"&ROWS(victoires)))),ROWS($1:$16))),\"\")","v":""},{"$f":"IF(ROWS($1:$17)<=COUNTIF(joueurs,$B9),INDEX(victoires,SMALL(IF(joueurs=$B9,ROW(INDIRECT(\"1:\"&ROWS(victoires)))),ROWS($1:$17))),\"\")","v":""},{"$f":"IF(ROWS($1:$18)<=COUNTIF(joueurs,$B9),INDEX(victoires,SMALL(IF(joueurs=$B9,ROW(INDIRECT(\"1:\"&ROWS(victoires)))),ROWS($1:$18))),\"\")","v":""},{"$f":"IF(ROWS($1:$19)<=COUNTIF(joueurs,$B9),INDEX(victoires,SMALL(IF(joueurs=$B9,ROW(INDIRECT(\"1:\"&ROWS(victoires)))),ROWS($1:$19))),\"\")","v":""},{"$f":"IF(ROWS($1:$20)<=COUNTIF(joueurs,$B9),INDEX(victoires,SMALL(IF(joueurs=$B9,ROW(INDIRECT(\"1:\"&ROWS(victoires)))),ROWS($1:$20))),\"\")","v":""}]
[null,null,null,{"$f":"IF(ROWS($1:$21)<=COUNTIF(joueurs,$B9),INDEX(fautes,SMALL(IF(joueurs=$B9,ROW(INDIRECT(\"1:\"&ROWS(fautes)))),ROWS($1:$21))),\"\")","v":""},{"$f":"IF(ROWS($1:$22)<=COUNTIF(joueurs,$B9),INDEX(fautes,SMALL(IF(joueurs=$B9,ROW(INDIRECT(\"1:\"&ROWS(fautes)))),ROWS($1:$22))),\"\")","v":""},{"$f":"IF(ROWS($1:$23)<=COUNTIF(joueurs,$B9),INDEX(fautes,SMALL(IF(joueurs=$B9,ROW(INDIRECT(\"1:\"&ROWS(fautes)))),ROWS($1:$23))),\"\")","v":""},{"$f":"IF(ROWS($1:$24)<=COUNTIF(joueurs,$B9),INDEX(fautes,SMALL(IF(joueurs=$B9,ROW(INDIRECT(\"1:\"&ROWS(fautes)))),ROWS($1:$24))),\"\")","v":""},{"$f":"IF(ROWS($1:$25)<=COUNTIF(joueurs,$B9),INDEX(fautes,SMALL(IF(joueurs=$B9,ROW(INDIRECT(\"1:\"&ROWS(fautes)))),ROWS($1:$25))),\"\")","v":""},{"$f":"IF(ROWS($1:$26)<=COUNTIF(joueurs,$B9),INDEX(fautes,SMALL(IF(joueurs=$B9,ROW(INDIRECT(\"1:\"&ROWS(fautes)))),ROWS($1:$26))),\"\")","v":""},{"$f":"IF(ROWS($1:$27)<=COUNTIF(joueurs,$B9),INDEX(fautes,SMALL(IF(joueurs=$B9,ROW(INDIRECT(\"1:\"&ROWS(fautes)))),ROWS($1:$27))),\"\")","v":""},{"$f":"IF(ROWS($1:$28)<=COUNTIF(joueurs,$B9),INDEX(fautes,SMALL(IF(joueurs=$B9,ROW(INDIRECT(\"1:\"&ROWS(fautes)))),ROWS($1:$28))),\"\")","v":""},{"$f":"IF(ROWS($1:$29)<=COUNTIF(joueurs,$B9),INDEX(fautes,SMALL(IF(joueurs=$B9,ROW(INDIRECT(\"1:\"&ROWS(fautes)))),ROWS($1:$29))),\"\")","v":""},{"$f":"IF(ROWS($1:$30)<=COUNTIF(joueurs,$B9),INDEX(fautes,SMALL(IF(joueurs=$B9,ROW(INDIRECT(\"1:\"&ROWS(fautes)))),ROWS($1:$30))),\"\")","v":""},{"$f":"IF(ROWS($1:$21)<=COUNTIF(joueurs,$B9),INDEX(ballonperdus,SMALL(IF(joueurs=$B9,ROW(INDIRECT(\"1:\"&ROWS(ballonperdus)))),ROWS($1:$21))),\"\")","v":""},{"$f":"IF(ROWS($1:$22)<=COUNTIF(joueurs,$B9),INDEX(ballonperdus,SMALL(IF(joueurs=$B9,ROW(INDIRECT(\"1:\"&ROWS(ballonperdus)))),ROWS($1:$22))),\"\")","v":""},{"$f":"IF(ROWS($1:$23)<=COUNTIF(joueurs,$B9),INDEX(ballonperdus,SMALL(IF(joueurs=$B9,ROW(INDIRECT(\"1:\"&ROWS(ballonperdus)))),ROWS($1:$23))),\"\")","v":""},{"$f":"IF(ROWS($1:$24)<=COUNTIF(joueurs,$B9),INDEX(ballonperdus,SMALL(IF(joueurs=$B9,ROW(INDIRECT(\"1:\"&ROWS(ballonperdus)))),ROWS($1:$24))),\"\")","v":""},{"$f":"IF(ROWS($1:$25)<=COUNTIF(joueurs,$B9),INDEX(ballonperdus,SMALL(IF(joueurs=$B9,ROW(INDIRECT(\"1:\"&ROWS(ballonperdus)))),ROWS($1:$25))),\"\")","v":""},{"$f":"IF(ROWS($1:$26)<=COUNTIF(joueurs,$B9),INDEX(ballonperdus,SMALL(IF(joueurs=$B9,ROW(INDIRECT(\"1:\"&ROWS(ballonperdus)))),ROWS($1:$26))),\"\")","v":""},{"$f":"IF(ROWS($1:$27)<=COUNTIF(joueurs,$B9),INDEX(ballonperdus,SMALL(IF(joueurs=$B9,ROW(INDIRECT(\"1:\"&ROWS(ballonperdus)))),ROWS($1:$27))),\"\")","v":""},{"$f":"IF(ROWS($1:$28)<=COUNTIF(joueurs,$B9),INDEX(ballonperdus,SMALL(IF(joueurs=$B9,ROW(INDIRECT(\"1:\"&ROWS(ballonperdus)))),ROWS($1:$28))),\"\")","v":""},{"$f":"IF(ROWS($1:$29)<=COUNTIF(joueurs,$B9),INDEX(ballonperdus,SMALL(IF(joueurs=$B9,ROW(INDIRECT(\"1:\"&ROWS(ballonperdus)))),ROWS($1:$29))),\"\")","v":""},{"$f":"IF(ROWS($1:$30)<=COUNTIF(joueurs,$B9),INDEX(ballonperdus,SMALL(IF(joueurs=$B9,ROW(INDIRECT(\"1:\"&ROWS(ballonperdus)))),ROWS($1:$30))),\"\")","v":""},{"$f":"IF(ROWS($1:$21)<=COUNTIF(joueurs,$B9),INDEX(interceptions,SMALL(IF(joueurs=$B9,ROW(INDIRECT(\"1:\"&ROWS(interceptions)))),ROWS($1:$21))),\"\")","v":""},{"$f":"IF(ROWS($1:$22)<=COUNTIF(joueurs,$B9),INDEX(interceptions,SMALL(IF(joueurs=$B9,ROW(INDIRECT(\"1:\"&ROWS(interceptions)))),ROWS($1:$22))),\"\")","v":""},{"$f":"IF(ROWS($1:$23)<=COUNTIF(joueurs,$B9),INDEX(interceptions,SMALL(IF(joueurs=$B9,ROW(INDIRECT(\"1:\"&ROWS(interceptions)))),ROWS($1:$23))),\"\")","v":""},{"$f":"IF(ROWS($1:$24)<=COUNTIF(joueurs,$B9),INDEX(interceptions,SMALL(IF(joueurs=$B9,ROW(INDIRECT(\"1:\"&ROWS(interceptions)))),ROWS($1:$24))),\"\")","v":""},{"$f":"IF(ROWS($1:$25)<=COUNTIF(joueurs,$B9),INDEX(interceptions,SMALL(IF(joueurs=$B9,ROW(INDIRECT(\"1:\"&ROWS(interceptions)))),ROWS($1:$25))),\"\")","v":""},{"$f":"IF(ROWS($1:$26)<=COUNTIF(joueurs,$B9),INDEX(interceptions,SMALL(IF(joueurs=$B9,ROW(INDIRECT(\"1:\"&ROWS(interceptions)))),ROWS($1:$26))),\"\")","v":""},{"$f":"IF(ROWS($1:$27)<=COUNTIF(joueurs,$B9),INDEX(interceptions,SMALL(IF(joueurs=$B9,ROW(INDIRECT(\"1:\"&ROWS(interceptions)))),ROWS($1:$27))),\"\")","v":""},{"$f":"IF(ROWS($1:$28)<=COUNTIF(joueurs,$B9),INDEX(interceptions,SMALL(IF(joueurs=$B9,ROW(INDIRECT(\"1:\"&ROWS(interceptions)))),ROWS($1:$28))),\"\")","v":""},{"$f":"IF(ROWS($1:$29)<=COUNTIF(joueurs,$B9),INDEX(interceptions,SMALL(IF(joueurs=$B9,ROW(INDIRECT(\"1:\"&ROWS(interceptions)))),ROWS($1:$29))),\"\")","v":""},{"$f":"IF(ROWS($1:$30)<=COUNTIF(joueurs,$B9),INDEX(interceptions,SMALL(IF(joueurs=$B9,ROW(INDIRECT(\"1:\"&ROWS(interceptions)))),ROWS($1:$30))),\"\")","v":""},{"$f":"IF(ROWS($1:$21)<=COUNTIF(joueurs,$B9),INDEX(ballonrecuperes,SMALL(IF(joueurs=$B9,ROW(INDIRECT(\"1:\"&ROWS(ballonrecuperes)))),ROWS($1:$21))),\"\")","v":""},{"$f":"IF(ROWS($1:$22)<=COUNTIF(joueurs,$B9),INDEX(ballonrecuperes,SMALL(IF(joueurs=$B9,ROW(INDIRECT(\"1:\"&ROWS(ballonrecuperes)))),ROWS($1:$22))),\"\")","v":""},{"$f":"IF(ROWS($1:$23)<=COUNTIF(joueurs,$B9),INDEX(ballonrecuperes,SMALL(IF(joueurs=$B9,ROW(INDIRECT(\"1:\"&ROWS(ballonrecuperes)))),ROWS($1:$23))),\"\")","v":""},{"$f":"IF(ROWS($1:$24)<=COUNTIF(joueurs,$B9),INDEX(ballonrecuperes,SMALL(IF(joueurs=$B9,ROW(INDIRECT(\"1:\"&ROWS(ballonrecuperes)))),ROWS($1:$24))),\"\")","v":""},{"$f":"IF(ROWS($1:$25)<=COUNTIF(joueurs,$B9),INDEX(ballonrecuperes,SMALL(IF(joueurs=$B9,ROW(INDIRECT(\"1:\"&ROWS(ballonrecuperes)))),ROWS($1:$25))),\"\")","v":""},{"$f":"IF(ROWS($1:$26)<=COUNTIF(joueurs,$B9),INDEX(ballonrecuperes,SMALL(IF(joueurs=$B9,ROW(INDIRECT(\"1:\"&ROWS(ballonrecuperes)))),ROWS($1:$26))),\"\")","v":""},{"$f":"IF(ROWS($1:$27)<=COUNTIF(joueurs,$B9),INDEX(ballonrecuperes,SMALL(IF(joueurs=$B9,ROW(INDIRECT(\"1:\"&ROWS(ballonrecuperes)))),ROWS($1:$27))),\"\")","v":""},{"$f":"IF(ROWS($1:$28)<=COUNTIF(joueurs,$B9),INDEX(ballonrecuperes,SMALL(IF(joueurs=$B9,ROW(INDIRECT(\"1:\"&ROWS(ballonrecuperes)))),ROWS($1:$28))),\"\")","v":""},{"$f":"IF(ROWS($1:$29)<=COUNTIF(joueurs,$B9),INDEX(ballonrecuperes,SMALL(IF(joueurs=$B9,ROW(INDIRECT(\"1:\"&ROWS(ballonrecuperes)))),ROWS($1:$29))),\"\")","v":""},{"$f":"IF(ROWS($1:$30)<=COUNTIF(joueurs,$B9),INDEX(ballonrecuperes,SMALL(IF(joueurs=$B9,ROW(INDIRECT(\"1:\"&ROWS(ballonrecuperes)))),ROWS($1:$30))),\"\")","v":""},{"$f":"IF(ROWS($1:$21)<=COUNTIF(joueurs,$B9),INDEX(tirs,SMALL(IF(joueurs=$B9,ROW(INDIRECT(\"1:\"&ROWS(tirs)))),ROWS($1:$21))),\"\")","v":""},{"$f":"IF(ROWS($1:$22)<=COUNTIF(joueurs,$B9),INDEX(tirs,SMALL(IF(joueurs=$B9,ROW(INDIRECT(\"1:\"&ROWS(tirs)))),ROWS($1:$22))),\"\")","v":""},{"$f":"IF(ROWS($1:$23)<=COUNTIF(joueurs,$B9),INDEX(tirs,SMALL(IF(joueurs=$B9,ROW(INDIRECT(\"1:\"&ROWS(tirs)))),ROWS($1:$23))),\"\")","v":""},{"$f":"IF(ROWS($1:$24)<=COUNTIF(joueurs,$B9),INDEX(tirs,SMALL(IF(joueurs=$B9,ROW(INDIRECT(\"1:\"&ROWS(tirs)))),ROWS($1:$24))),\"\")","v":""},{"$f":"IF(ROWS($1:$25)<=COUNTIF(joueurs,$B9),INDEX(tirs,SMALL(IF(joueurs=$B9,ROW(INDIRECT(\"1:\"&ROWS(tirs)))),ROWS($1:$25))),\"\")","v":""},{"$f":"IF(ROWS($1:$26)<=COUNTIF(joueurs,$B9),INDEX(tirs,SMALL(IF(joueurs=$B9,ROW(INDIRECT(\"1:\"&ROWS(tirs)))),ROWS($1:$26))),\"\")","v":""},{"$f":"IF(ROWS($1:$27)<=COUNTIF(joueurs,$B9),INDEX(tirs,SMALL(IF(joueurs=$B9,ROW(INDIRECT(\"1:\"&ROWS(tirs)))),ROWS($1:$27))),\"\")","v":""},{"$f":"IF(ROWS($1:$28)<=COUNTIF(joueurs,$B9),INDEX(tirs,SMALL(IF(joueurs=$B9,ROW(INDIRECT(\"1:\"&ROWS(tirs)))),ROWS($1:$28))),\"\")","v":""},{"$f":"IF(ROWS($1:$29)<=COUNTIF(joueurs,$B9),INDEX(tirs,SMALL(IF(joueurs=$B9,ROW(INDIRECT(\"1:\"&ROWS(tirs)))),ROWS($1:$29))),\"\")","v":""},{"$f":"IF(ROWS($1:$30)<=COUNTIF(joueurs,$B9),INDEX(tirs,SMALL(IF(joueurs=$B9,ROW(INDIRECT(\"1:\"&ROWS(tirs)))),ROWS($1:$30))),\"\")","v":""},{"$f":"IF(ROWS($1:$21)<=COUNTIF(joueurs,$B9),INDEX(bontirs,SMALL(IF(joueurs=$B9,ROW(INDIRECT(\"1:\"&ROWS(bontirs)))),ROWS($1:$21))),\"\")","v":""},{"$f":"IF(ROWS($1:$22)<=COUNTIF(joueurs,$B9),INDEX(bontirs,SMALL(IF(joueurs=$B9,ROW(INDIRECT(\"1:\"&ROWS(bontirs)))),ROWS($1:$22))),\"\")","v":""},{"$f":"IF(ROWS($1:$23)<=COUNTIF(joueurs,$B9),INDEX(bontirs,SMALL(IF(joueurs=$B9,ROW(INDIRECT(\"1:\"&ROWS(bontirs)))),ROWS($1:$23))),\"\")","v":""},{"$f":"IF(ROWS($1:$24)<=COUNTIF(joueurs,$B9),INDEX(bontirs,SMALL(IF(joueurs=$B9,ROW(INDIRECT(\"1:\"&ROWS(bontirs)))),ROWS($1:$24))),\"\")","v":""},{"$f":"IF(ROWS($1:$25)<=COUNTIF(joueurs,$B9),INDEX(bontirs,SMALL(IF(joueurs=$B9,ROW(INDIRECT(\"1:\"&ROWS(bontirs)))),ROWS($1:$25))),\"\")","v":""},{"$f":"IF(ROWS($1:$26)<=COUNTIF(joueurs,$B9),INDEX(bontirs,SMALL(IF(joueurs=$B9,ROW(INDIRECT(\"1:\"&ROWS(bontirs)))),ROWS($1:$26))),\"\")","v":""},{"$f":"IF(ROWS($1:$27)<=COUNTIF(joueurs,$B9),INDEX(bontirs,SMALL(IF(joueurs=$B9,ROW(INDIRECT(\"1:\"&ROWS(bontirs)))),ROWS($1:$27))),\"\")","v":""},{"$f":"IF(ROWS($1:$28)<=COUNTIF(joueurs,$B9),INDEX(bontirs,SMALL(IF(joueurs=$B9,ROW(INDIRECT(\"1:\"&ROWS(bontirs)))),ROWS($1:$28))),\"\")","v":""},{"$f":"IF(ROWS($1:$29)<=COUNTIF(joueurs,$B9),INDEX(bontirs,SMALL(IF(joueurs=$B9,ROW(INDIRECT(\"1:\"&ROWS(bontirs)))),ROWS($1:$29))),\"\")","v":""},{"$f":"IF(ROWS($1:$30)<=COUNTIF(joueurs,$B9),INDEX(bontirs,SMALL(IF(joueurs=$B9,ROW(INDIRECT(\"1:\"&ROWS(bontirs)))),ROWS($1:$30))),\"\")","v":""},{"$f":"IF(ROWS($1:$21)<=COUNTIF(joueurs,$B9),INDEX(points,SMALL(IF(joueurs=$B9,ROW(INDIRECT(\"1:\"&ROWS(points)))),ROWS($1:$21))),\"\")","v":""},{"$f":"IF(ROWS($1:$22)<=COUNTIF(joueurs,$B9),INDEX(points,SMALL(IF(joueurs=$B9,ROW(INDIRECT(\"1:\"&ROWS(points)))),ROWS($1:$22))),\"\")","v":""},{"$f":"IF(ROWS($1:$23)<=COUNTIF(joueurs,$B9),INDEX(points,SMALL(IF(joueurs=$B9,ROW(INDIRECT(\"1:\"&ROWS(points)))),ROWS($1:$23))),\"\")","v":""},{"$f":"IF(ROWS($1:$24)<=COUNTIF(joueurs,$B9),INDEX(points,SMALL(IF(joueurs=$B9,ROW(INDIRECT(\"1:\"&ROWS(points)))),ROWS($1:$24))),\"\")","v":""},{"$f":"IF(ROWS($1:$25)<=COUNTIF(joueurs,$B9),INDEX(points,SMALL(IF(joueurs=$B9,ROW(INDIRECT(\"1:\"&ROWS(points)))),ROWS($1:$25))),\"\")","v":""},{"$f":"IF(ROWS($1:$26)<=COUNTIF(joueurs,$B9),INDEX(points,SMALL(IF(joueurs=$B9,ROW(INDIRECT(\"1:\"&ROWS(points)))),ROWS($1:$26))),\"\")","v":""},{"$f":"IF(ROWS($1:$27)<=COUNTIF(joueurs,$B9),INDEX(points,SMALL(IF(joueurs=$B9,ROW(INDIRECT(\"1:\"&ROWS(points)))),ROWS($1:$27))),\"\")","v":""},{"$f":"IF(ROWS($1:$28)<=COUNTIF(joueurs,$B9),INDEX(points,SMALL(IF(joueurs=$B9,ROW(INDIRECT(\"1:\"&ROWS(points)))),ROWS($1:$28))),\"\")","v":""},{"$f":"IF(ROWS($1:$29)<=COUNTIF(joueurs,$B9),INDEX(points,SMALL(IF(joueurs=$B9,ROW(INDIRECT(\"1:\"&ROWS(points)))),ROWS($1:$29))),\"\")","v":""},{"$f":"IF(ROWS($1:$30)<=COUNTIF(joueurs,$B9),INDEX(points,SMALL(IF(joueurs=$B9,ROW(INDIRECT(\"1:\"&ROWS(points)))),ROWS($1:$30))),\"\")","v":""},{"$f":"IF(ROWS($1:$21)<=COUNTIF(joueurs,$B9),INDEX(victoires,SMALL(IF(joueurs=$B9,ROW(INDIRECT(\"1:\"&ROWS(victoires)))),ROWS($1:$21))),\"\")","v":""},{"$f":"IF(ROWS($1:$22)<=COUNTIF(joueurs,$B9),INDEX(victoires,SMALL(IF(joueurs=$B9,ROW(INDIRECT(\"1:\"&ROWS(victoires)))),ROWS($1:$22))),\"\")","v":""},{"$f":"IF(ROWS($1:$23)<=COUNTIF(joueurs,$B9),INDEX(victoires,SMALL(IF(joueurs=$B9,ROW(INDIRECT(\"1:\"&ROWS(victoires)))),ROWS($1:$23))),\"\")","v":""},{"$f":"IF(ROWS($1:$24)<=COUNTIF(joueurs,$B9),INDEX(victoires,SMALL(IF(joueurs=$B9,ROW(INDIRECT(\"1:\"&ROWS(victoires)))),ROWS($1:$24))),\"\")","v":""},{"$f":"IF(ROWS($1:$25)<=COUNTIF(joueurs,$B9),INDEX(victoires,SMALL(IF(joueurs=$B9,ROW(INDIRECT(\"1:\"&ROWS(victoires)))),ROWS($1:$25))),\"\")","v":""},{"$f":"IF(ROWS($1:$26)<=COUNTIF(joueurs,$B9),INDEX(victoires,SMALL(IF(joueurs=$B9,ROW(INDIRECT(\"1:\"&ROWS(victoires)))),ROWS($1:$26))),\"\")","v":""},{"$f":"IF(ROWS($1:$27)<=COUNTIF(joueurs,$B9),INDEX(victoires,SMALL(IF(joueurs=$B9,ROW(INDIRECT(\"1:\"&ROWS(victoires)))),ROWS($1:$27))),\"\")","v":""},{"$f":"IF(ROWS($1:$28)<=COUNTIF(joueurs,$B9),INDEX(victoires,SMALL(IF(joueurs=$B9,ROW(INDIRECT(\"1:\"&ROWS(victoires)))),ROWS($1:$28))),\"\")","v":""},{"$f":"IF(ROWS($1:$29)<=COUNTIF(joueurs,$B9),INDEX(victoires,SMALL(IF(joueurs=$B9,ROW(INDIRECT(\"1:\"&ROWS(victoires)))),ROWS($1:$29))),\"\")","v":""},{"$f":"IF(ROWS($1:$30)<=COUNTIF(joueurs,$B9),INDEX(victoires,SMALL(IF(joueurs=$B9,ROW(INDIRECT(\"1:\"&ROWS(victoires)))),ROWS($1:$30))),\"\")","v":""}]
[null,null,null,{"$f":"IF(ROWS($1:$31)<=COUNTIF(joueurs,$B9),INDEX(fautes,SMALL(IF(joueurs=$B9,ROW(INDIRECT(\"1:\"&ROWS(fautes)))),ROWS($1:$31))),\"\")","v":""},{"$f":"IF(ROWS($1:$32)<=COUNTIF(joueurs,$B9),INDEX(fautes,SMALL(IF(joueurs=$B9,ROW(INDIRECT(\"1:\"&ROWS(fautes)))),ROWS($1:$32))),\"\")","v":""},{"$f":"IF(ROWS($1:$33)<=COUNTIF(joueurs,$B9),INDEX(fautes,SMALL(IF(joueurs=$B9,ROW(INDIRECT(\"1:\"&ROWS(fautes)))),ROWS($1:$33))),\"\")","v":""},{"$f":"IF(ROWS($1:$34)<=COUNTIF(joueurs,$B9),INDEX(fautes,SMALL(IF(joueurs=$B9,ROW(INDIRECT(\"1:\"&ROWS(fautes)))),ROWS($1:$34))),\"\")","v":""},{"$f":"IF(ROWS($1:$35)<=COUNTIF(joueurs,$B9),INDEX(fautes,SMALL(IF(joueurs=$B9,ROW(INDIRECT(\"1:\"&ROWS(fautes)))),ROWS($1:$35))),\"\")","v":""},{"$f":"IF(ROWS($1:$36)<=COUNTIF(joueurs,$B9),INDEX(fautes,SMALL(IF(joueurs=$B9,ROW(INDIRECT(\"1:\"&ROWS(fautes)))),ROWS($1:$36))),\"\")","v":""},{"$f":"IF(ROWS($1:$37)<=COUNTIF(joueurs,$B9),INDEX(fautes,SMALL(IF(joueurs=$B9,ROW(INDIRECT(\"1:\"&ROWS(fautes)))),ROWS($1:$37))),\"\")","v":""},{"$f":"IF(ROWS($1:$38)<=COUNTIF(joueurs,$B9),INDEX(fautes,SMALL(IF(joueurs=$B9,ROW(INDIRECT(\"1:\"&ROWS(fautes)))),ROWS($1:$38))),\"\")","v":""},{"$f":"IF(ROWS($1:$39)<=COUNTIF(joueurs,$B9),INDEX(fautes,SMALL(IF(joueurs=$B9,ROW(INDIRECT(\"1:\"&ROWS(fautes)))),ROWS($1:$39))),\"\")","v":""},{"$f":"IF(ROWS($1:$40)<=COUNTIF(joueurs,$B9),INDEX(fautes,SMALL(IF(joueurs=$B9,ROW(INDIRECT(\"1:\"&ROWS(fautes)))),ROWS($1:$40))),\"\")","v":""},{"$f":"IF(ROWS($1:$31)<=COUNTIF(joueurs,$B9),INDEX(ballonperdus,SMALL(IF(joueurs=$B9,ROW(INDIRECT(\"1:\"&ROWS(ballonperdus)))),ROWS($1:$31))),\"\")","v":""},{"$f":"IF(ROWS($1:$32)<=COUNTIF(joueurs,$B9),INDEX(ballonperdus,SMALL(IF(joueurs=$B9,ROW(INDIRECT(\"1:\"&ROWS(ballonperdus)))),ROWS($1:$32))),\"\")","v":""},{"$f":"IF(ROWS($1:$33)<=COUNTIF(joueurs,$B9),INDEX(ballonperdus,SMALL(IF(joueurs=$B9,ROW(INDIRECT(\"1:\"&ROWS(ballonperdus)))),ROWS($1:$33))),\"\")","v":""},{"$f":"IF(ROWS($1:$34)<=COUNTIF(joueurs,$B9),INDEX(ballonperdus,SMALL(IF(joueurs=$B9,ROW(INDIRECT(\"1:\"&ROWS(ballonperdus)))),ROWS($1:$34))),\"\")","v":""},{"$f":"IF(ROWS($1:$35)<=COUNTIF(joueurs,$B9),INDEX(ballonperdus,SMALL(IF(joueurs=$B9,ROW(INDIRECT(\"1:\"&ROWS(ballonperdus)))),ROWS($1:$35))),\"\")","v":""},{"$f":"IF(ROWS($1:$36)<=COUNTIF(joueurs,$B9),INDEX(ballonperdus,SMALL(IF(joueurs=$B9,ROW(INDIRECT(\"1:\"&ROWS(ballonperdus)))),ROWS($1:$36))),\"\")","v":""},{"$f":"IF(ROWS($1:$37)<=COUNTIF(joueurs,$B9),INDEX(ballonperdus,SMALL(IF(joueurs=$B9,ROW(INDIRECT(\"1:\"&ROWS(ballonperdus)))),ROWS($1:$37))),\"\")","v":""},{"$f":"IF(ROWS($1:$38)<=COUNTIF(joueurs,$B9),INDEX(ballonperdus,SMALL(IF(joueurs=$B9,ROW(INDIRECT(\"1:\"&ROWS(ballonperdus)))),ROWS($1:$38))),\"\")","v":""},{"$f":"IF(ROWS($1:$39)<=COUNTIF(joueurs,$B9),INDEX(ballonperdus,SMALL(IF(joueurs=$B9,ROW(INDIRECT(\"1:\"&ROWS(ballonperdus)))),ROWS($1:$39))),\"\")","v":""},{"$f":"IF(ROWS($1:$40)<=COUNTIF(joueurs,$B9),INDEX(ballonperdus,SMALL(IF(joueurs=$B9,ROW(INDIRECT(\"1:\"&ROWS(ballonperdus)))),ROWS($1:$40))),\"\")","v":""},{"$f":"IF(ROWS($1:$31)<=COUNTIF(joueurs,$B9),INDEX(interceptions,SMALL(IF(joueurs=$B9,ROW(INDIRECT(\"1:\"&ROWS(interceptions)))),ROWS($1:$31))),\"\")","v":""},{"$f":"IF(ROWS($1:$32)<=COUNTIF(joueurs,$B9),INDEX(interceptions,SMALL(IF(joueurs=$B9,ROW(INDIRECT(\"1:\"&ROWS(interceptions)))),ROWS($1:$32))),\"\")","v":""},{"$f":"IF(ROWS($1:$33)<=COUNTIF(joueurs,$B9),INDEX(interceptions,SMALL(IF(joueurs=$B9,ROW(INDIRECT(\"1:\"&ROWS(interceptions)))),ROWS($1:$33))),\"\")","v":""},{"$f":"IF(ROWS($1:$34)<=COUNTIF(joueurs,$B9),INDEX(interceptions,SMALL(IF(joueurs=$B9,ROW(INDIRECT(\"1:\"&ROWS(interceptions)))),ROWS($1:$34))),\"\")","v":""},{"$f":"IF(ROWS($1:$35)<=COUNTIF(joueurs,$B9),INDEX(interceptions,SMALL(IF(joueurs=$B9,ROW(INDIRECT(\"1:\"&ROWS(interceptions)))),ROWS($1:$35))),\"\")","v":""},{"$f":"IF(ROWS($1:$36)<=COUNTIF(joueurs,$B9),INDEX(interceptions,SMALL(IF(joueurs=$B9,ROW(INDIRECT(\"1:\"&ROWS(interceptions)))),ROWS($1:$36))),\"\")","v":""},{"$f":"IF(ROWS($1:$37)<=COUNTIF(joueurs,$B9),INDEX(interceptions,SMALL(IF(joueurs=$B9,ROW(INDIRECT(\"1:\"&ROWS(interceptions)))),ROWS($1:$37))),\"\")","v":""},{"$f":"IF(ROWS($1:$38)<=COUNTIF(joueurs,$B9),INDEX(interceptions,SMALL(IF(joueurs=$B9,ROW(INDIRECT(\"1:\"&ROWS(interceptions)))),ROWS($1:$38))),\"\")","v":""},{"$f":"IF(ROWS($1:$39)<=COUNTIF(joueurs,$B9),INDEX(interceptions,SMALL(IF(joueurs=$B9,ROW(INDIRECT(\"1:\"&ROWS(interceptions)))),ROWS($1:$39))),\"\")","v":""},{"$f":"IF(ROWS($1:$40)<=COUNTIF(joueurs,$B9),INDEX(interceptions,SMALL(IF(joueurs=$B9,ROW(INDIRECT(\"1:\"&ROWS(interceptions)))),ROWS($1:$40))),\"\")","v":""},{"$f":"IF(ROWS($1:$31)<=COUNTIF(joueurs,$B9),INDEX(ballonrecuperes,SMALL(IF(joueurs=$B9,ROW(INDIRECT(\"1:\"&ROWS(ballonrecuperes)))),ROWS($1:$31))),\"\")","v":""},{"$f":"IF(ROWS($1:$32)<=COUNTIF(joueurs,$B9),INDEX(ballonrecuperes,SMALL(IF(joueurs=$B9,ROW(INDIRECT(\"1:\"&ROWS(ballonrecuperes)))),ROWS($1:$32))),\"\")","v":""},{"$f":"IF(ROWS($1:$33)<=COUNTIF(joueurs,$B9),INDEX(ballonrecuperes,SMALL(IF(joueurs=$B9,ROW(INDIRECT(\"1:\"&ROWS(ballonrecuperes)))),ROWS($1:$33))),\"\")","v":""},{"$f":"IF(ROWS($1:$34)<=COUNTIF(joueurs,$B9),INDEX(ballonrecuperes,SMALL(IF(joueurs=$B9,ROW(INDIRECT(\"1:\"&ROWS(ballonrecuperes)))),ROWS($1:$34))),\"\")","v":""},{"$f":"IF(ROWS($1:$35)<=COUNTIF(joueurs,$B9),INDEX(ballonrecuperes,SMALL(IF(joueurs=$B9,ROW(INDIRECT(\"1:\"&ROWS(ballonrecuperes)))),ROWS($1:$35))),\"\")","v":""},{"$f":"IF(ROWS($1:$36)<=COUNTIF(joueurs,$B9),INDEX(ballonrecuperes,SMALL(IF(joueurs=$B9,ROW(INDIRECT(\"1:\"&ROWS(ballonrecuperes)))),ROWS($1:$36))),\"\")","v":""},{"$f":"IF(ROWS($1:$37)<=COUNTIF(joueurs,$B9),INDEX(ballonrecuperes,SMALL(IF(joueurs=$B9,ROW(INDIRECT(\"1:\"&ROWS(ballonrecuperes)))),ROWS($1:$37))),\"\")","v":""},{"$f":"IF(ROWS($1:$38)<=COUNTIF(joueurs,$B9),INDEX(ballonrecuperes,SMALL(IF(joueurs=$B9,ROW(INDIRECT(\"1:\"&ROWS(ballonrecuperes)))),ROWS($1:$38))),\"\")","v":""},{"$f":"IF(ROWS($1:$39)<=COUNTIF(joueurs,$B9),INDEX(ballonrecuperes,SMALL(IF(joueurs=$B9,ROW(INDIRECT(\"1:\"&ROWS(ballonrecuperes)))),ROWS($1:$39))),\"\")","v":""},{"$f":"IF(ROWS($1:$40)<=COUNTIF(joueurs,$B9),INDEX(ballonrecuperes,SMALL(IF(joueurs=$B9,ROW(INDIRECT(\"1:\"&ROWS(ballonrecuperes)))),ROWS($1:$40))),\"\")","v":""},{"$f":"IF(ROWS($1:$31)<=COUNTIF(joueurs,$B9),INDEX(tirs,SMALL(IF(joueurs=$B9,ROW(INDIRECT(\"1:\"&ROWS(tirs)))),ROWS($1:$31))),\"\")","v":""},{"$f":"IF(ROWS($1:$32)<=COUNTIF(joueurs,$B9),INDEX(tirs,SMALL(IF(joueurs=$B9,ROW(INDIRECT(\"1:\"&ROWS(tirs)))),ROWS($1:$32))),\"\")","v":""},{"$f":"IF(ROWS($1:$33)<=COUNTIF(joueurs,$B9),INDEX(tirs,SMALL(IF(joueurs=$B9,ROW(INDIRECT(\"1:\"&ROWS(tirs)))),ROWS($1:$33))),\"\")","v":""},{"$f":"IF(ROWS($1:$34)<=COUNTIF(joueurs,$B9),INDEX(tirs,SMALL(IF(joueurs=$B9,ROW(INDIRECT(\"1:\"&ROWS(tirs)))),ROWS($1:$34))),\"\")","v":""},{"$f":"IF(ROWS($1:$35)<=COUNTIF(joueurs,$B9),INDEX(tirs,SMALL(IF(joueurs=$B9,ROW(INDIRECT(\"1:\"&ROWS(tirs)))),ROWS($1:$35))),\"\")","v":""},{"$f":"IF(ROWS($1:$36)<=COUNTIF(joueurs,$B9),INDEX(tirs,SMALL(IF(joueurs=$B9,ROW(INDIRECT(\"1:\"&ROWS(tirs)))),ROWS($1:$36))),\"\")","v":""},{"$f":"IF(ROWS($1:$37)<=COUNTIF(joueurs,$B9),INDEX(tirs,SMALL(IF(joueurs=$B9,ROW(INDIRECT(\"1:\"&ROWS(tirs)))),ROWS($1:$37))),\"\")","v":""},{"$f":"IF(ROWS($1:$38)<=COUNTIF(joueurs,$B9),INDEX(tirs,SMALL(IF(joueurs=$B9,ROW(INDIRECT(\"1:\"&ROWS(tirs)))),ROWS($1:$38))),\"\")","v":""},{"$f":"IF(ROWS($1:$39)<=COUNTIF(joueurs,$B9),INDEX(tirs,SMALL(IF(joueurs=$B9,ROW(INDIRECT(\"1:\"&ROWS(tirs)))),ROWS($1:$39))),\"\")","v":""},{"$f":"IF(ROWS($1:$40)<=COUNTIF(joueurs,$B9),INDEX(tirs,SMALL(IF(joueurs=$B9,ROW(INDIRECT(\"1:\"&ROWS(tirs)))),ROWS($1:$40))),\"\")","v":""},{"$f":"IF(ROWS($1:$31)<=COUNTIF(joueurs,$B9),INDEX(bontirs,SMALL(IF(joueurs=$B9,ROW(INDIRECT(\"1:\"&ROWS(bontirs)))),ROWS($1:$31))),\"\")","v":""},{"$f":"IF(ROWS($1:$32)<=COUNTIF(joueurs,$B9),INDEX(bontirs,SMALL(IF(joueurs=$B9,ROW(INDIRECT(\"1:\"&ROWS(bontirs)))),ROWS($1:$32))),\"\")","v":""},{"$f":"IF(ROWS($1:$33)<=COUNTIF(joueurs,$B9),INDEX(bontirs,SMALL(IF(joueurs=$B9,ROW(INDIRECT(\"1:\"&ROWS(bontirs)))),ROWS($1:$33))),\"\")","v":""},{"$f":"IF(ROWS($1:$34)<=COUNTIF(joueurs,$B9),INDEX(bontirs,SMALL(IF(joueurs=$B9,ROW(INDIRECT(\"1:\"&ROWS(bontirs)))),ROWS($1:$34))),\"\")","v":""},{"$f":"IF(ROWS($1:$35)<=COUNTIF(joueurs,$B9),INDEX(bontirs,SMALL(IF(joueurs=$B9,ROW(INDIRECT(\"1:\"&ROWS(bontirs)))),ROWS($1:$35))),\"\")","v":""},{"$f":"IF(ROWS($1:$36)<=COUNTIF(joueurs,$B9),INDEX(bontirs,SMALL(IF(joueurs=$B9,ROW(INDIRECT(\"1:\"&ROWS(bontirs)))),ROWS($1:$36))),\"\")","v":""},{"$f":"IF(ROWS($1:$37)<=COUNTIF(joueurs,$B9),INDEX(bontirs,SMALL(IF(joueurs=$B9,ROW(INDIRECT(\"1:\"&ROWS(bontirs)))),ROWS($1:$37))),\"\")","v":""},{"$f":"IF(ROWS($1:$38)<=COUNTIF(joueurs,$B9),INDEX(bontirs,SMALL(IF(joueurs=$B9,ROW(INDIRECT(\"1:\"&ROWS(bontirs)))),ROWS($1:$38))),\"\")","v":""},{"$f":"IF(ROWS($1:$39)<=COUNTIF(joueurs,$B9),INDEX(bontirs,SMALL(IF(joueurs=$B9,ROW(INDIRECT(\"1:\"&ROWS(bontirs)))),ROWS($1:$39))),\"\")","v":""},{"$f":"IF(ROWS($1:$40)<=COUNTIF(joueurs,$B9),INDEX(bontirs,SMALL(IF(joueurs=$B9,ROW(INDIRECT(\"1:\"&ROWS(bontirs)))),ROWS($1:$40))),\"\")","v":""},{"$f":"IF(ROWS($1:$31)<=COUNTIF(joueurs,$B9),INDEX(points,SMALL(IF(joueurs=$B9,ROW(INDIRECT(\"1:\"&ROWS(points)))),ROWS($1:$31))),\"\")","v":""},{"$f":"IF(ROWS($1:$32)<=COUNTIF(joueurs,$B9),INDEX(points,SMALL(IF(joueurs=$B9,ROW(INDIRECT(\"1:\"&ROWS(points)))),ROWS($1:$32))),\"\")","v":""},{"$f":"IF(ROWS($1:$33)<=COUNTIF(joueurs,$B9),INDEX(points,SMALL(IF(joueurs=$B9,ROW(INDIRECT(\"1:\"&ROWS(points)))),ROWS($1:$33))),\"\")","v":""},{"$f":"IF(ROWS($1:$34)<=COUNTIF(joueurs,$B9),INDEX(points,SMALL(IF(joueurs=$B9,ROW(INDIRECT(\"1:\"&ROWS(points)))),ROWS($1:$34))),\"\")","v":""},{"$f":"IF(ROWS($1:$35)<=COUNTIF(joueurs,$B9),INDEX(points,SMALL(IF(joueurs=$B9,ROW(INDIRECT(\"1:\"&ROWS(points)))),ROWS($1:$35))),\"\")","v":""},{"$f":"IF(ROWS($1:$36)<=COUNTIF(joueurs,$B9),INDEX(points,SMALL(IF(joueurs=$B9,ROW(INDIRECT(\"1:\"&ROWS(points)))),ROWS($1:$36))),\"\")","v":""},{"$f":"IF(ROWS($1:$37)<=COUNTIF(joueurs,$B9),INDEX(points,SMALL(IF(joueurs=$B9,ROW(INDIRECT(\"1:\"&ROWS(points)))),ROWS($1:$37))),\"\")","v":""},{"$f":"IF(ROWS($1:$38)<=COUNTIF(joueurs,$B9),INDEX(points,SMALL(IF(joueurs=$B9,ROW(INDIRECT(\"1:\"&ROWS(points)))),ROWS($1:$38))),\"\")","v":""},{"$f":"IF(ROWS($1:$39)<=COUNTIF(joueurs,$B9),INDEX(points,SMALL(IF(joueurs=$B9,ROW(INDIRECT(\"1:\"&ROWS(points)))),ROWS($1:$39))),\"\")","v":""},{"$f":"IF(ROWS($1:$40)<=COUNTIF(joueurs,$B9),INDEX(points,SMALL(IF(joueurs=$B9,ROW(INDIRECT(\"1:\"&ROWS(points)))),ROWS($1:$40))),\"\")","v":""},{"$f":"IF(ROWS($1:$31)<=COUNTIF(joueurs,$B9),INDEX(victoires,SMALL(IF(joueurs=$B9,ROW(INDIRECT(\"1:\"&ROWS(victoires)))),ROWS($1:$31))),\"\")","v":""},{"$f":"IF(ROWS($1:$32)<=COUNTIF(joueurs,$B9),INDEX(victoires,SMALL(IF(joueurs=$B9,ROW(INDIRECT(\"1:\"&ROWS(victoires)))),ROWS($1:$32))),\"\")","v":""},{"$f":"IF(ROWS($1:$33)<=COUNTIF(joueurs,$B9),INDEX(victoires,SMALL(IF(joueurs=$B9,ROW(INDIRECT(\"1:\"&ROWS(victoires)))),ROWS($1:$33))),\"\")","v":""},{"$f":"IF(ROWS($1:$34)<=COUNTIF(joueurs,$B9),INDEX(victoires,SMALL(IF(joueurs=$B9,ROW(INDIRECT(\"1:\"&ROWS(victoires)))),ROWS($1:$34))),\"\")","v":""},{"$f":"IF(ROWS($1:$35)<=COUNTIF(joueurs,$B9),INDEX(victoires,SMALL(IF(joueurs=$B9,ROW(INDIRECT(\"1:\"&ROWS(victoires)))),ROWS($1:$35))),\"\")","v":""},{"$f":"IF(ROWS($1:$36)<=COUNTIF(joueurs,$B9),INDEX(victoires,SMALL(IF(joueurs=$B9,ROW(INDIRECT(\"1:\"&ROWS(victoires)))),ROWS($1:$36))),\"\")","v":""},{"$f":"IF(ROWS($1:$37)<=COUNTIF(joueurs,$B9),INDEX(victoires,SMALL(IF(joueurs=$B9,ROW(INDIRECT(\"1:\"&ROWS(victoires)))),ROWS($1:$37))),\"\")","v":""},{"$f":"IF(ROWS($1:$38)<=COUNTIF(joueurs,$B9),INDEX(victoires,SMALL(IF(joueurs=$B9,ROW(INDIRECT(\"1:\"&ROWS(victoires)))),ROWS($1:$38))),\"\")","v":""},{"$f":"IF(ROWS($1:$39)<=COUNTIF(joueurs,$B9),INDEX(victoires,SMALL(IF(joueurs=$B9,ROW(INDIRECT(\"1:\"&ROWS(victoires)))),ROWS($1:$39))),\"\")","v":""},{"$f":"IF(ROWS($1:$40)<=COUNTIF(joueurs,$B9),INDEX(victoires,SMALL(IF(joueurs=$B9,ROW(INDIRECT(\"1:\"&ROWS(victoires)))),ROWS($1:$40))),\"\")","v":""}]
[3,{"$f":"INDEX(eleves,MATCH(A13,numero,0),MATCH($B$2,classes,0))","v":"Jordan"},null,{"$f":"IF(ROWS($1:$1)<=COUNTIF(joueurs,$B13),INDEX(fautes,SMALL(IF(joueurs=$B13,ROW(INDIRECT(\"1:\"&ROWS(fautes)))),ROWS($1:$1))),\"\")","v":""},{"$f":"IF(ROWS($1:$2)<=COUNTIF(joueurs,$B13),INDEX(fautes,SMALL(IF(joueurs=$B13,ROW(INDIRECT(\"1:\"&ROWS(fautes)))),ROWS($1:$2))),\"\")","v":""},{"$f":"IF(ROWS($1:$3)<=COUNTIF(joueurs,$B13),INDEX(fautes,SMALL(IF(joueurs=$B13,ROW(INDIRECT(\"1:\"&ROWS(fautes)))),ROWS($1:$3))),\"\")","v":""},{"$f":"IF(ROWS($1:$4)<=COUNTIF(joueurs,$B13),INDEX(fautes,SMALL(IF(joueurs=$B13,ROW(INDIRECT(\"1:\"&ROWS(fautes)))),ROWS($1:$4))),\"\")","v":""},{"$f":"IF(ROWS($1:$5)<=COUNTIF(joueurs,$B13),INDEX(fautes,SMALL(IF(joueurs=$B13,ROW(INDIRECT(\"1:\"&ROWS(fautes)))),ROWS($1:$5))),\"\")","v":""},{"$f":"IF(ROWS($1:$6)<=COUNTIF(joueurs,$B13),INDEX(fautes,SMALL(IF(joueurs=$B13,ROW(INDIRECT(\"1:\"&ROWS(fautes)))),ROWS($1:$6))),\"\")","v":""},{"$f":"IF(ROWS($1:$7)<=COUNTIF(joueurs,$B13),INDEX(fautes,SMALL(IF(joueurs=$B13,ROW(INDIRECT(\"1:\"&ROWS(fautes)))),ROWS($1:$7))),\"\")","v":""},{"$f":"IF(ROWS($1:$8)<=COUNTIF(joueurs,$B13),INDEX(fautes,SMALL(IF(joueurs=$B13,ROW(INDIRECT(\"1:\"&ROWS(fautes)))),ROWS($1:$8))),\"\")","v":""},{"$f":"IF(ROWS($1:$9)<=COUNTIF(joueurs,$B13),INDEX(fautes,SMALL(IF(joueurs=$B13,ROW(INDIRECT(\"1:\"&ROWS(fautes)))),ROWS($1:$9))),\"\")","v":""},{"$f":"IF(ROWS($1:$10)<=COUNTIF(joueurs,$B13),INDEX(fautes,SMALL(IF(joueurs=$B13,ROW(INDIRECT(\"1:\"&ROWS(fautes)))),ROWS($1:$10))),\"\")","v":""},{"$f":"IF(ROWS($1:$1)<=COUNTIF(joueurs,$B13),INDEX(ballonperdus,SMALL(IF(joueurs=$B13,ROW(INDIRECT(\"1:\"&ROWS(ballonperdus)))),ROWS($1:$1))),\"\")","v":""},{"$f":"IF(ROWS($1:$2)<=COUNTIF(joueurs,$B13),INDEX(ballonperdus,SMALL(IF(joueurs=$B13,ROW(INDIRECT(\"1:\"&ROWS(ballonperdus)))),ROWS($1:$2))),\"\")","v":""},{"$f":"IF(ROWS($1:$3)<=COUNTIF(joueurs,$B13),INDEX(ballonperdus,SMALL(IF(joueurs=$B13,ROW(INDIRECT(\"1:\"&ROWS(ballonperdus)))),ROWS($1:$3))),\"\")","v":""},{"$f":"IF(ROWS($1:$4)<=COUNTIF(joueurs,$B13),INDEX(ballonperdus,SMALL(IF(joueurs=$B13,ROW(INDIRECT(\"1:\"&ROWS(ballonperdus)))),ROWS($1:$4))),\"\")","v":""},{"$f":"IF(ROWS($1:$5)<=COUNTIF(joueurs,$B13),INDEX(ballonperdus,SMALL(IF(joueurs=$B13,ROW(INDIRECT(\"1:\"&ROWS(ballonperdus)))),ROWS($1:$5))),\"\")","v":""},{"$f":"IF(ROWS($1:$6)<=COUNTIF(joueurs,$B13),INDEX(ballonperdus,SMALL(IF(joueurs=$B13,ROW(INDIRECT(\"1:\"&ROWS(ballonperdus)))),ROWS($1:$6))),\"\")","v":""},{"$f":"IF(ROWS($1:$7)<=COUNTIF(joueurs,$B13),INDEX(ballonperdus,SMALL(IF(joueurs=$B13,ROW(INDIRECT(\"1:\"&ROWS(ballonperdus)))),ROWS($1:$7))),\"\")","v":""},{"$f":"IF(ROWS($1:$8)<=COUNTIF(joueurs,$B13),INDEX(ballonperdus,SMALL(IF(joueurs=$B13,ROW(INDIRECT(\"1:\"&ROWS(ballonperdus)))),ROWS($1:$8))),\"\")","v":""},{"$f":"IF(ROWS($1:$9)<=COUNTIF(joueurs,$B13),INDEX(ballonperdus,SMALL(IF(joueurs=$B13,ROW(INDIRECT(\"1:\"&ROWS(ballonperdus)))),ROWS($1:$9))),\"\")","v":""},{"$f":"IF(ROWS($1:$10)<=COUNTIF(joueurs,$B13),INDEX(ballonperdus,SMALL(IF(joueurs=$B13,ROW(INDIRECT(\"1:\"&ROWS(ballonperdus)))),ROWS($1:$10))),\"\")","v":""},{"$f":"IF(ROWS($1:$1)<=COUNTIF(joueurs,$B13),INDEX(interceptions,SMALL(IF(joueurs=$B13,ROW(INDIRECT(\"1:\"&ROWS(interceptions)))),ROWS($1:$1))),\"\")","v":""},{"$f":"IF(ROWS($1:$2)<=COUNTIF(joueurs,$B13),INDEX(interceptions,SMALL(IF(joueurs=$B13,ROW(INDIRECT(\"1:\"&ROWS(interceptions)))),ROWS($1:$2))),\"\")","v":""},{"$f":"IF(ROWS($1:$3)<=COUNTIF(joueurs,$B13),INDEX(interceptions,SMALL(IF(joueurs=$B13,ROW(INDIRECT(\"1:\"&ROWS(interceptions)))),ROWS($1:$3))),\"\")","v":""},{"$f":"IF(ROWS($1:$4)<=COUNTIF(joueurs,$B13),INDEX(interceptions,SMALL(IF(joueurs=$B13,ROW(INDIRECT(\"1:\"&ROWS(interceptions)))),ROWS($1:$4))),\"\")","v":""},{"$f":"IF(ROWS($1:$5)<=COUNTIF(joueurs,$B13),INDEX(interceptions,SMALL(IF(joueurs=$B13,ROW(INDIRECT(\"1:\"&ROWS(interceptions)))),ROWS($1:$5))),\"\")","v":""},{"$f":"IF(ROWS($1:$6)<=COUNTIF(joueurs,$B13),INDEX(interceptions,SMALL(IF(joueurs=$B13,ROW(INDIRECT(\"1:\"&ROWS(interceptions)))),ROWS($1:$6))),\"\")","v":""},{"$f":"IF(ROWS($1:$7)<=COUNTIF(joueurs,$B13),INDEX(interceptions,SMALL(IF(joueurs=$B13,ROW(INDIRECT(\"1:\"&ROWS(interceptions)))),ROWS($1:$7))),\"\")","v":""},{"$f":"IF(ROWS($1:$8)<=COUNTIF(joueurs,$B13),INDEX(interceptions,SMALL(IF(joueurs=$B13,ROW(INDIRECT(\"1:\"&ROWS(interceptions)))),ROWS($1:$8))),\"\")","v":""},{"$f":"IF(ROWS($1:$9)<=COUNTIF(joueurs,$B13),INDEX(interceptions,SMALL(IF(joueurs=$B13,ROW(INDIRECT(\"1:\"&ROWS(interceptions)))),ROWS($1:$9))),\"\")","v":""},{"$f":"IF(ROWS($1:$10)<=COUNTIF(joueurs,$B13),INDEX(interceptions,SMALL(IF(joueurs=$B13,ROW(INDIRECT(\"1:\"&ROWS(interceptions)))),ROWS($1:$10))),\"\")","v":""},{"$f":"IF(ROWS($1:$1)<=COUNTIF(joueurs,$B13),INDEX(ballonrecuperes,SMALL(IF(joueurs=$B13,ROW(INDIRECT(\"1:\"&ROWS(ballonrecuperes)))),ROWS($1:$1))),\"\")","v":""},{"$f":"IF(ROWS($1:$2)<=COUNTIF(joueurs,$B13),INDEX(ballonrecuperes,SMALL(IF(joueurs=$B13,ROW(INDIRECT(\"1:\"&ROWS(ballonrecuperes)))),ROWS($1:$2))),\"\")","v":""},{"$f":"IF(ROWS($1:$3)<=COUNTIF(joueurs,$B13),INDEX(ballonrecuperes,SMALL(IF(joueurs=$B13,ROW(INDIRECT(\"1:\"&ROWS(ballonrecuperes)))),ROWS($1:$3))),\"\")","v":""},{"$f":"IF(ROWS($1:$4)<=COUNTIF(joueurs,$B13),INDEX(ballonrecuperes,SMALL(IF(joueurs=$B13,ROW(INDIRECT(\"1:\"&ROWS(ballonrecuperes)))),ROWS($1:$4))),\"\")","v":""},{"$f":"IF(ROWS($1:$5)<=COUNTIF(joueurs,$B13),INDEX(ballonrecuperes,SMALL(IF(joueurs=$B13,ROW(INDIRECT(\"1:\"&ROWS(ballonrecuperes)))),ROWS($1:$5))),\"\")","v":""},{"$f":"IF(ROWS($1:$6)<=COUNTIF(joueurs,$B13),INDEX(ballonrecuperes,SMALL(IF(joueurs=$B13,ROW(INDIRECT(\"1:\"&ROWS(ballonrecuperes)))),ROWS($1:$6))),\"\")","v":""},{"$f":"IF(ROWS($1:$7)<=COUNTIF(joueurs,$B13),INDEX(ballonrecuperes,SMALL(IF(joueurs=$B13,ROW(INDIRECT(\"1:\"&ROWS(ballonrecuperes)))),ROWS($1:$7))),\"\")","v":""},{"$f":"IF(ROWS($1:$8)<=COUNTIF(joueurs,$B13),INDEX(ballonrecuperes,SMALL(IF(joueurs=$B13,ROW(INDIRECT(\"1:\"&ROWS(ballonrecuperes)))),ROWS($1:$8))),\"\")","v":""},{"$f":"IF(ROWS($1:$9)<=COUNTIF(joueurs,$B13),INDEX(ballonrecuperes,SMALL(IF(joueurs=$B13,ROW(INDIRECT(\"1:\"&ROWS(ballonrecuperes)))),ROWS($1:$9))),\"\")","v":""},{"$f":"IF(ROWS($1:$10)<=COUNTIF(joueurs,$B13),INDEX(ballonrecuperes,SMALL(IF(joueurs=$B13,ROW(INDIRECT(\"1:\"&ROWS(ballonrecuperes)))),ROWS($1:$10))),\"\")","v":""},{"$f":"IF(ROWS($1:$1)<=COUNTIF(joueurs,$B13),INDEX(tirs,SMALL(IF(joueurs=$B13,ROW(INDIRECT(\"1:\"&ROWS(tirs)))),ROWS($1:$1))),\"\")","v":""},{"$f":"IF(ROWS($1:$2)<=COUNTIF(joueurs,$B13),INDEX(tirs,SMALL(IF(joueurs=$B13,ROW(INDIRECT(\"1:\"&ROWS(tirs)))),ROWS($1:$2))),\"\")","v":""},{"$f":"IF(ROWS($1:$3)<=COUNTIF(joueurs,$B13),INDEX(tirs,SMALL(IF(joueurs=$B13,ROW(INDIRECT(\"1:\"&ROWS(tirs)))),ROWS($1:$3))),\"\")","v":""},{"$f":"IF(ROWS($1:$4)<=COUNTIF(joueurs,$B13),INDEX(tirs,SMALL(IF(joueurs=$B13,ROW(INDIRECT(\"1:\"&ROWS(tirs)))),ROWS($1:$4))),\"\")","v":""},{"$f":"IF(ROWS($1:$5)<=COUNTIF(joueurs,$B13),INDEX(tirs,SMALL(IF(joueurs=$B13,ROW(INDIRECT(\"1:\"&ROWS(tirs)))),ROWS($1:$5))),\"\")","v":""},{"$f":"IF(ROWS($1:$6)<=COUNTIF(joueurs,$B13),INDEX(tirs,SMALL(IF(joueurs=$B13,ROW(INDIRECT(\"1:\"&ROWS(tirs)))),ROWS($1:$6))),\"\")","v":""},{"$f":"IF(ROWS($1:$7)<=COUNTIF(joueurs,$B13),INDEX(tirs,SMALL(IF(joueurs=$B13,ROW(INDIRECT(\"1:\"&ROWS(tirs)))),ROWS($1:$7))),\"\")","v":""},{"$f":"IF(ROWS($1:$8)<=COUNTIF(joueurs,$B13),INDEX(tirs,SMALL(IF(joueurs=$B13,ROW(INDIRECT(\"1:\"&ROWS(tirs)))),ROWS($1:$8))),\"\")","v":""},{"$f":"IF(ROWS($1:$9)<=COUNTIF(joueurs,$B13),INDEX(tirs,SMALL(IF(joueurs=$B13,ROW(INDIRECT(\"1:\"&ROWS(tirs)))),ROWS($1:$9))),\"\")","v":""},{"$f":"IF(ROWS($1:$10)<=COUNTIF(joueurs,$B13),INDEX(tirs,SMALL(IF(joueurs=$B13,ROW(INDIRECT(\"1:\"&ROWS(tirs)))),ROWS($1:$10))),\"\")","v":""},{"$f":"IF(ROWS($1:$1)<=COUNTIF(joueurs,$B13),INDEX(bontirs,SMALL(IF(joueurs=$B13,ROW(INDIRECT(\"1:\"&ROWS(bontirs)))),ROWS($1:$1))),\"\")","v":""},{"$f":"IF(ROWS($1:$2)<=COUNTIF(joueurs,$B13),INDEX(bontirs,SMALL(IF(joueurs=$B13,ROW(INDIRECT(\"1:\"&ROWS(bontirs)))),ROWS($1:$2))),\"\")","v":""},{"$f":"IF(ROWS($1:$3)<=COUNTIF(joueurs,$B13),INDEX(bontirs,SMALL(IF(joueurs=$B13,ROW(INDIRECT(\"1:\"&ROWS(bontirs)))),ROWS($1:$3))),\"\")","v":""},{"$f":"IF(ROWS($1:$4)<=COUNTIF(joueurs,$B13),INDEX(bontirs,SMALL(IF(joueurs=$B13,ROW(INDIRECT(\"1:\"&ROWS(bontirs)))),ROWS($1:$4))),\"\")","v":""},{"$f":"IF(ROWS($1:$5)<=COUNTIF(joueurs,$B13),INDEX(bontirs,SMALL(IF(joueurs=$B13,ROW(INDIRECT(\"1:\"&ROWS(bontirs)))),ROWS($1:$5))),\"\")","v":""},{"$f":"IF(ROWS($1:$6)<=COUNTIF(joueurs,$B13),INDEX(bontirs,SMALL(IF(joueurs=$B13,ROW(INDIRECT(\"1:\"&ROWS(bontirs)))),ROWS($1:$6))),\"\")","v":""},{"$f":"IF(ROWS($1:$7)<=COUNTIF(joueurs,$B13),INDEX(bontirs,SMALL(IF(joueurs=$B13,ROW(INDIRECT(\"1:\"&ROWS(bontirs)))),ROWS($1:$7))),\"\")","v":""},{"$f":"IF(ROWS($1:$8)<=COUNTIF(joueurs,$B13),INDEX(bontirs,SMALL(IF(joueurs=$B13,ROW(INDIRECT(\"1:\"&ROWS(bontirs)))),ROWS($1:$8))),\"\")","v":""},{"$f":"IF(ROWS($1:$9)<=COUNTIF(joueurs,$B13),INDEX(bontirs,SMALL(IF(joueurs=$B13,ROW(INDIRECT(\"1:\"&ROWS(bontirs)))),ROWS($1:$9))),\"\")","v":""},{"$f":"IF(ROWS($1:$10)<=COUNTIF(joueurs,$B13),INDEX(bontirs,SMALL(IF(joueurs=$B13,ROW(INDIRECT(\"1:\"&ROWS(bontirs)))),ROWS($1:$10))),\"\")","v":""},{"$f":"IF(ROWS($1:$1)<=COUNTIF(joueurs,$B13),INDEX(points,SMALL(IF(joueurs=$B13,ROW(INDIRECT(\"1:\"&ROWS(points)))),ROWS($1:$1))),\"\")","v":""},{"$f":"IF(ROWS($1:$2)<=COUNTIF(joueurs,$B13),INDEX(points,SMALL(IF(joueurs=$B13,ROW(INDIRECT(\"1:\"&ROWS(points)))),ROWS($1:$2))),\"\")","v":""},{"$f":"IF(ROWS($1:$3)<=COUNTIF(joueurs,$B13),INDEX(points,SMALL(IF(joueurs=$B13,ROW(INDIRECT(\"1:\"&ROWS(points)))),ROWS($1:$3))),\"\")","v":""},{"$f":"IF(ROWS($1:$4)<=COUNTIF(joueurs,$B13),INDEX(points,SMALL(IF(joueurs=$B13,ROW(INDIRECT(\"1:\"&ROWS(points)))),ROWS($1:$4))),\"\")","v":""},{"$f":"IF(ROWS($1:$5)<=COUNTIF(joueurs,$B13),INDEX(points,SMALL(IF(joueurs=$B13,ROW(INDIRECT(\"1:\"&ROWS(points)))),ROWS($1:$5))),\"\")","v":""},{"$f":"IF(ROWS($1:$6)<=COUNTIF(joueurs,$B13),INDEX(points,SMALL(IF(joueurs=$B13,ROW(INDIRECT(\"1:\"&ROWS(points)))),ROWS($1:$6))),\"\")","v":""},{"$f":"IF(ROWS($1:$7)<=COUNTIF(joueurs,$B13),INDEX(points,SMALL(IF(joueurs=$B13,ROW(INDIRECT(\"1:\"&ROWS(points)))),ROWS($1:$7))),\"\")","v":""},{"$f":"IF(ROWS($1:$8)<=COUNTIF(joueurs,$B13),INDEX(points,SMALL(IF(joueurs=$B13,ROW(INDIRECT(\"1:\"&ROWS(points)))),ROWS($1:$8))),\"\")","v":""},{"$f":"IF(ROWS($1:$9)<=COUNTIF(joueurs,$B13),INDEX(points,SMALL(IF(joueurs=$B13,ROW(INDIRECT(\"1:\"&ROWS(points)))),ROWS($1:$9))),\"\")","v":""},{"$f":"IF(ROWS($1:$10)<=COUNTIF(joueurs,$B13),INDEX(points,SMALL(IF(joueurs=$B13,ROW(INDIRECT(\"1:\"&ROWS(points)))),ROWS($1:$10))),\"\")","v":""},{"$f":"IF(ROWS($1:$1)<=COUNTIF(joueurs,$B13),INDEX(victoires,SMALL(IF(joueurs=$B13,ROW(INDIRECT(\"1:\"&ROWS(victoires)))),ROWS($1:$1))),\"\")","v":""},{"$f":"IF(ROWS($1:$2)<=COUNTIF(joueurs,$B13),INDEX(victoires,SMALL(IF(joueurs=$B13,ROW(INDIRECT(\"1:\"&ROWS(victoires)))),ROWS($1:$2))),\"\")","v":""},{"$f":"IF(ROWS($1:$3)<=COUNTIF(joueurs,$B13),INDEX(victoires,SMALL(IF(joueurs=$B13,ROW(INDIRECT(\"1:\"&ROWS(victoires)))),ROWS($1:$3))),\"\")","v":""},{"$f":"IF(ROWS($1:$4)<=COUNTIF(joueurs,$B13),INDEX(victoires,SMALL(IF(joueurs=$B13,ROW(INDIRECT(\"1:\"&ROWS(victoires)))),ROWS($1:$4))),\"\")","v":""},{"$f":"IF(ROWS($1:$5)<=COUNTIF(joueurs,$B13),INDEX(victoires,SMALL(IF(joueurs=$B13,ROW(INDIRECT(\"1:\"&ROWS(victoires)))),ROWS($1:$5))),\"\")","v":""},{"$f":"IF(ROWS($1:$6)<=COUNTIF(joueurs,$B13),INDEX(victoires,SMALL(IF(joueurs=$B13,ROW(INDIRECT(\"1:\"&ROWS(victoires)))),ROWS($1:$6))),\"\")","v":""},{"$f":"IF(ROWS($1:$7)<=COUNTIF(joueurs,$B13),INDEX(victoires,SMALL(IF(joueurs=$B13,ROW(INDIRECT(\"1:\"&ROWS(victoires)))),ROWS($1:$7))),\"\")","v":""},{"$f":"IF(ROWS($1:$8)<=COUNTIF(joueurs,$B13),INDEX(victoires,SMALL(IF(joueurs=$B13,ROW(INDIRECT(\"1:\"&ROWS(victoires)))),ROWS($1:$8))),\"\")","v":""},{"$f":"IF(ROWS($1:$9)<=COUNTIF(joueurs,$B13),INDEX(victoires,SMALL(IF(joueurs=$B13,ROW(INDIRECT(\"1:\"&ROWS(victoires)))),ROWS($1:$9))),\"\")","v":""},{"$f":"IF(ROWS($1:$10)<=COUNTIF(joueurs,$B13),INDEX(victoires,SMALL(IF(joueurs=$B13,ROW(INDIRECT(\"1:\"&ROWS(victoires)))),ROWS($1:$10))),\"\")","v":""}]
[null,null,null,{"$f":"IF(ROWS($1:$11)<=COUNTIF(joueurs,$B13),INDEX(fautes,SMALL(IF(joueurs=$B13,ROW(INDIRECT(\"1:\"&ROWS(fautes)))),ROWS($1:$11))),\"\")","v":""},{"$f":"IF(ROWS($1:$12)<=COUNTIF(joueurs,$B13),INDEX(fautes,SMALL(IF(joueurs=$B13,ROW(INDIRECT(\"1:\"&ROWS(fautes)))),ROWS($1:$12))),\"\")","v":""},{"$f":"IF(ROWS($1:$13)<=COUNTIF(joueurs,$B13),INDEX(fautes,SMALL(IF(joueurs=$B13,ROW(INDIRECT(\"1:\"&ROWS(fautes)))),ROWS($1:$13))),\"\")","v":""},{"$f":"IF(ROWS($1:$14)<=COUNTIF(joueurs,$B13),INDEX(fautes,SMALL(IF(joueurs=$B13,ROW(INDIRECT(\"1:\"&ROWS(fautes)))),ROWS($1:$14))),\"\")","v":""},{"$f":"IF(ROWS($1:$15)<=COUNTIF(joueurs,$B13),INDEX(fautes,SMALL(IF(joueurs=$B13,ROW(INDIRECT(\"1:\"&ROWS(fautes)))),ROWS($1:$15))),\"\")","v":""},{"$f":"IF(ROWS($1:$16)<=COUNTIF(joueurs,$B13),INDEX(fautes,SMALL(IF(joueurs=$B13,ROW(INDIRECT(\"1:\"&ROWS(fautes)))),ROWS($1:$16))),\"\")","v":""},{"$f":"IF(ROWS($1:$17)<=COUNTIF(joueurs,$B13),INDEX(fautes,SMALL(IF(joueurs=$B13,ROW(INDIRECT(\"1:\"&ROWS(fautes)))),ROWS($1:$17))),\"\")","v":""},{"$f":"IF(ROWS($1:$18)<=COUNTIF(joueurs,$B13),INDEX(fautes,SMALL(IF(joueurs=$B13,ROW(INDIRECT(\"1:\"&ROWS(fautes)))),ROWS($1:$18))),\"\")","v":""},{"$f":"IF(ROWS($1:$19)<=COUNTIF(joueurs,$B13),INDEX(fautes,SMALL(IF(joueurs=$B13,ROW(INDIRECT(\"1:\"&ROWS(fautes)))),ROWS($1:$19))),\"\")","v":""},{"$f":"IF(ROWS($1:$20)<=COUNTIF(joueurs,$B13),INDEX(fautes,SMALL(IF(joueurs=$B13,ROW(INDIRECT(\"1:\"&ROWS(fautes)))),ROWS($1:$20))),\"\")","v":""},{"$f":"IF(ROWS($1:$11)<=COUNTIF(joueurs,$B13),INDEX(ballonperdus,SMALL(IF(joueurs=$B13,ROW(INDIRECT(\"1:\"&ROWS(ballonperdus)))),ROWS($1:$11))),\"\")","v":""},{"$f":"IF(ROWS($1:$12)<=COUNTIF(joueurs,$B13),INDEX(ballonperdus,SMALL(IF(joueurs=$B13,ROW(INDIRECT(\"1:\"&ROWS(ballonperdus)))),ROWS($1:$12))),\"\")","v":""},{"$f":"IF(ROWS($1:$13)<=COUNTIF(joueurs,$B13),INDEX(ballonperdus,SMALL(IF(joueurs=$B13,ROW(INDIRECT(\"1:\"&ROWS(ballonperdus)))),ROWS($1:$13))),\"\")","v":""},{"$f":"IF(ROWS($1:$14)<=COUNTIF(joueurs,$B13),INDEX(ballonperdus,SMALL(IF(joueurs=$B13,ROW(INDIRECT(\"1:\"&ROWS(ballonperdus)))),ROWS($1:$14))),\"\")","v":""},{"$f":"IF(ROWS($1:$15)<=COUNTIF(joueurs,$B13),INDEX(ballonperdus,SMALL(IF(joueurs=$B13,ROW(INDIRECT(\"1:\"&ROWS(ballonperdus)))),ROWS($1:$15))),\"\")","v":""},{"$f":"IF(ROWS($1:$16)<=COUNTIF(joueurs,$B13),INDEX(ballonperdus,SMALL(IF(joueurs=$B13,ROW(INDIRECT(\"1:\"&ROWS(ballonperdus)))),ROWS($1:$16))),\"\")","v":""},{"$f":"IF(ROWS($1:$17)<=COUNTIF(joueurs,$B13),INDEX(ballonperdus,SMALL(IF(joueurs=$B13,ROW(INDIRECT(\"1:\"&ROWS(ballonperdus)))),ROWS($1:$17))),\"\")","v":""},{"$f":"IF(ROWS($1:$18)<=COUNTIF(joueurs,$B13),INDEX(ballonperdus,SMALL(IF(joueurs=$B13,ROW(INDIRECT(\"1:\"&ROWS(ballonperdus)))),ROWS($1:$18))),\"\")","v":""},{"$f":"IF(ROWS($1:$19)<=COUNTIF(joueurs,$B13),INDEX(ballonperdus,SMALL(IF(joueurs=$B13,ROW(INDIRECT(\"1:\"&ROWS(ballonperdus)))),ROWS($1:$19))),\"\")","v":""},{"$f":"IF(ROWS($1:$20)<=COUNTIF(joueurs,$B13),INDEX(fautes,SMALL(IF(joueurs=$B13,ROW(INDIRECT(\"1:\"&ROWS(ballonperdus)))),ROWS($1:$20))),\"\")","v":""},{"$f":"IF(ROWS($1:$11)<=COUNTIF(joueurs,$B13),INDEX(interceptions,SMALL(IF(joueurs=$B13,ROW(INDIRECT(\"1:\"&ROWS(interceptions)))),ROWS($1:$11))),\"\")","v":""},{"$f":"IF(ROWS($1:$12)<=COUNTIF(joueurs,$B13),INDEX(interceptions,SMALL(IF(joueurs=$B13,ROW(INDIRECT(\"1:\"&ROWS(interceptions)))),ROWS($1:$12))),\"\")","v":""},{"$f":"IF(ROWS($1:$13)<=COUNTIF(joueurs,$B13),INDEX(interceptions,SMALL(IF(joueurs=$B13,ROW(INDIRECT(\"1:\"&ROWS(interceptions)))),ROWS($1:$13))),\"\")","v":""},{"$f":"IF(ROWS($1:$14)<=COUNTIF(joueurs,$B13),INDEX(interceptions,SMALL(IF(joueurs=$B13,ROW(INDIRECT(\"1:\"&ROWS(interceptions)))),ROWS($1:$14))),\"\")","v":""},{"$f":"IF(ROWS($1:$15)<=COUNTIF(joueurs,$B13),INDEX(interceptions,SMALL(IF(joueurs=$B13,ROW(INDIRECT(\"1:\"&ROWS(interceptions)))),ROWS($1:$15))),\"\")","v":""},{"$f":"IF(ROWS($1:$16)<=COUNTIF(joueurs,$B13),INDEX(interceptions,SMALL(IF(joueurs=$B13,ROW(INDIRECT(\"1:\"&ROWS(interceptions)))),ROWS($1:$16))),\"\")","v":""},{"$f":"IF(ROWS($1:$17)<=COUNTIF(joueurs,$B13),INDEX(interceptions,SMALL(IF(joueurs=$B13,ROW(INDIRECT(\"1:\"&ROWS(interceptions)))),ROWS($1:$17))),\"\")","v":""},{"$f":"IF(ROWS($1:$18)<=COUNTIF(joueurs,$B13),INDEX(interceptions,SMALL(IF(joueurs=$B13,ROW(INDIRECT(\"1:\"&ROWS(interceptions)))),ROWS($1:$18))),\"\")","v":""},{"$f":"IF(ROWS($1:$19)<=COUNTIF(joueurs,$B13),INDEX(interceptions,SMALL(IF(joueurs=$B13,ROW(INDIRECT(\"1:\"&ROWS(interceptions)))),ROWS($1:$19))),\"\")","v":""},{"$f":"IF(ROWS($1:$20)<=COUNTIF(joueurs,$B13),INDEX(interceptions,SMALL(IF(joueurs=$B13,ROW(INDIRECT(\"1:\"&ROWS(interceptions)))),ROWS($1:$20))),\"\")","v":""},{"$f":"IF(ROWS($1:$11)<=COUNTIF(joueurs,$B13),INDEX(ballonrecuperes,SMALL(IF(joueurs=$B13,ROW(INDIRECT(\"1:\"&ROWS(ballonrecuperes)))),ROWS($1:$11))),\"\")","v":""},{"$f":"IF(ROWS($1:$12)<=COUNTIF(joueurs,$B13),INDEX(ballonrecuperes,SMALL(IF(joueurs=$B13,ROW(INDIRECT(\"1:\"&ROWS(ballonrecuperes)))),ROWS($1:$12))),\"\")","v":""},{"$f":"IF(ROWS($1:$13)<=COUNTIF(joueurs,$B13),INDEX(ballonrecuperes,SMALL(IF(joueurs=$B13,ROW(INDIRECT(\"1:\"&ROWS(ballonrecuperes)))),ROWS($1:$13))),\"\")","v":""},{"$f":"IF(ROWS($1:$14)<=COUNTIF(joueurs,$B13),INDEX(ballonrecuperes,SMALL(IF(joueurs=$B13,ROW(INDIRECT(\"1:\"&ROWS(ballonrecuperes)))),ROWS($1:$14))),\"\")","v":""},{"$f":"IF(ROWS($1:$15)<=COUNTIF(joueurs,$B13),INDEX(ballonrecuperes,SMALL(IF(joueurs=$B13,ROW(INDIRECT(\"1:\"&ROWS(ballonrecuperes)))),ROWS($1:$15))),\"\")","v":""},{"$f":"IF(ROWS($1:$16)<=COUNTIF(joueurs,$B13),INDEX(ballonrecuperes,SMALL(IF(joueurs=$B13,ROW(INDIRECT(\"1:\"&ROWS(ballonrecuperes)))),ROWS($1:$16))),\"\")","v":""},{"$f":"IF(ROWS($1:$17)<=COUNTIF(joueurs,$B13),INDEX(ballonrecuperes,SMALL(IF(joueurs=$B13,ROW(INDIRECT(\"1:\"&ROWS(ballonrecuperes)))),ROWS($1:$17))),\"\")","v":""},{"$f":"IF(ROWS($1:$18)<=COUNTIF(joueurs,$B13),INDEX(ballonrecuperes,SMALL(IF(joueurs=$B13,ROW(INDIRECT(\"1:\"&ROWS(ballonrecuperes)))),ROWS($1:$18))),\"\")","v":""},{"$f":"IF(ROWS($1:$19)<=COUNTIF(joueurs,$B13),INDEX(ballonrecuperes,SMALL(IF(joueurs=$B13,ROW(INDIRECT(\"1:\"&ROWS(ballonrecuperes)))),ROWS($1:$19))),\"\")","v":""},{"$f":"IF(ROWS($1:$20)<=COUNTIF(joueurs,$B13),INDEX(ballonrecuperes,SMALL(IF(joueurs=$B13,ROW(INDIRECT(\"1:\"&ROWS(ballonrecuperes)))),ROWS($1:$20))),\"\")","v":""},{"$f":"IF(ROWS($1:$11)<=COUNTIF(joueurs,$B13),INDEX(tirs,SMALL(IF(joueurs=$B13,ROW(INDIRECT(\"1:\"&ROWS(tirs)))),ROWS($1:$11))),\"\")","v":""},{"$f":"IF(ROWS($1:$12)<=COUNTIF(joueurs,$B13),INDEX(tirs,SMALL(IF(joueurs=$B13,ROW(INDIRECT(\"1:\"&ROWS(tirs)))),ROWS($1:$12))),\"\")","v":""},{"$f":"IF(ROWS($1:$13)<=COUNTIF(joueurs,$B13),INDEX(tirs,SMALL(IF(joueurs=$B13,ROW(INDIRECT(\"1:\"&ROWS(tirs)))),ROWS($1:$13))),\"\")","v":""},{"$f":"IF(ROWS($1:$14)<=COUNTIF(joueurs,$B13),INDEX(tirs,SMALL(IF(joueurs=$B13,ROW(INDIRECT(\"1:\"&ROWS(tirs)))),ROWS($1:$14))),\"\")","v":""},{"$f":"IF(ROWS($1:$15)<=COUNTIF(joueurs,$B13),INDEX(tirs,SMALL(IF(joueurs=$B13,ROW(INDIRECT(\"1:\"&ROWS(tirs)))),ROWS($1:$15))),\"\")","v":""},{"$f":"IF(ROWS($1:$16)<=COUNTIF(joueurs,$B13),INDEX(tirs,SMALL(IF(joueurs=$B13,ROW(INDIRECT(\"1:\"&ROWS(tirs)))),ROWS($1:$16))),\"\")","v":""},{"$f":"IF(ROWS($1:$17)<=COUNTIF(joueurs,$B13),INDEX(tirs,SMALL(IF(joueurs=$B13,ROW(INDIRECT(\"1:\"&ROWS(tirs)))),ROWS($1:$17))),\"\")","v":""},{"$f":"IF(ROWS($1:$18)<=COUNTIF(joueurs,$B13),INDEX(tirs,SMALL(IF(joueurs=$B13,ROW(INDIRECT(\"1:\"&ROWS(tirs)))),ROWS($1:$18))),\"\")","v":""},{"$f":"IF(ROWS($1:$19)<=COUNTIF(joueurs,$B13),INDEX(tirs,SMALL(IF(joueurs=$B13,ROW(INDIRECT(\"1:\"&ROWS(tirs)))),ROWS($1:$19))),\"\")","v":""},{"$f":"IF(ROWS($1:$20)<=COUNTIF(joueurs,$B13),INDEX(tirs,SMALL(IF(joueurs=$B13,ROW(INDIRECT(\"1:\"&ROWS(tirs)))),ROWS($1:$20))),\"\")","v":""},{"$f":"IF(ROWS($1:$11)<=COUNTIF(joueurs,$B13),INDEX(bontirs,SMALL(IF(joueurs=$B13,ROW(INDIRECT(\"1:\"&ROWS(bontirs)))),ROWS($1:$11))),\"\")","v":""},{"$f":"IF(ROWS($1:$12)<=COUNTIF(joueurs,$B13),INDEX(bontirs,SMALL(IF(joueurs=$B13,ROW(INDIRECT(\"1:\"&ROWS(bontirs)))),ROWS($1:$12))),\"\")","v":""},{"$f":"IF(ROWS($1:$13)<=COUNTIF(joueurs,$B13),INDEX(bontirs,SMALL(IF(joueurs=$B13,ROW(INDIRECT(\"1:\"&ROWS(bontirs)))),ROWS($1:$13))),\"\")","v":""},{"$f":"IF(ROWS($1:$14)<=COUNTIF(joueurs,$B13),INDEX(bontirs,SMALL(IF(joueurs=$B13,ROW(INDIRECT(\"1:\"&ROWS(bontirs)))),ROWS($1:$14))),\"\")","v":""},{"$f":"IF(ROWS($1:$15)<=COUNTIF(joueurs,$B13),INDEX(bontirs,SMALL(IF(joueurs=$B13,ROW(INDIRECT(\"1:\"&ROWS(bontirs)))),ROWS($1:$15))),\"\")","v":""},{"$f":"IF(ROWS($1:$16)<=COUNTIF(joueurs,$B13),INDEX(bontirs,SMALL(IF(joueurs=$B13,ROW(INDIRECT(\"1:\"&ROWS(bontirs)))),ROWS($1:$16))),\"\")","v":""},{"$f":"IF(ROWS($1:$17)<=COUNTIF(joueurs,$B13),INDEX(bontirs,SMALL(IF(joueurs=$B13,ROW(INDIRECT(\"1:\"&ROWS(bontirs)))),ROWS($1:$17))),\"\")","v":""},{"$f":"IF(ROWS($1:$18)<=COUNTIF(joueurs,$B13),INDEX(bontirs,SMALL(IF(joueurs=$B13,ROW(INDIRECT(\"1:\"&ROWS(bontirs)))),ROWS($1:$18))),\"\")","v":""},{"$f":"IF(ROWS($1:$19)<=COUNTIF(joueurs,$B13),INDEX(bontirs,SMALL(IF(joueurs=$B13,ROW(INDIRECT(\"1:\"&ROWS(bontirs)))),ROWS($1:$19))),\"\")","v":""},{"$f":"IF(ROWS($1:$20)<=COUNTIF(joueurs,$B13),INDEX(bontirs,SMALL(IF(joueurs=$B13,ROW(INDIRECT(\"1:\"&ROWS(bontirs)))),ROWS($1:$20))),\"\")","v":""},{"$f":"IF(ROWS($1:$11)<=COUNTIF(joueurs,$B13),INDEX(points,SMALL(IF(joueurs=$B13,ROW(INDIRECT(\"1:\"&ROWS(points)))),ROWS($1:$11))),\"\")","v":""},{"$f":"IF(ROWS($1:$12)<=COUNTIF(joueurs,$B13),INDEX(points,SMALL(IF(joueurs=$B13,ROW(INDIRECT(\"1:\"&ROWS(points)))),ROWS($1:$12))),\"\")","v":""},{"$f":"IF(ROWS($1:$13)<=COUNTIF(joueurs,$B13),INDEX(points,SMALL(IF(joueurs=$B13,ROW(INDIRECT(\"1:\"&ROWS(points)))),ROWS($1:$13))),\"\")","v":""},{"$f":"IF(ROWS($1:$14)<=COUNTIF(joueurs,$B13),INDEX(points,SMALL(IF(joueurs=$B13,ROW(INDIRECT(\"1:\"&ROWS(points)))),ROWS($1:$14))),\"\")","v":""},{"$f":"IF(ROWS($1:$15)<=COUNTIF(joueurs,$B13),INDEX(points,SMALL(IF(joueurs=$B13,ROW(INDIRECT(\"1:\"&ROWS(points)))),ROWS($1:$15))),\"\")","v":""},{"$f":"IF(ROWS($1:$16)<=COUNTIF(joueurs,$B13),INDEX(points,SMALL(IF(joueurs=$B13,ROW(INDIRECT(\"1:\"&ROWS(points)))),ROWS($1:$16))),\"\")","v":""},{"$f":"IF(ROWS($1:$17)<=COUNTIF(joueurs,$B13),INDEX(points,SMALL(IF(joueurs=$B13,ROW(INDIRECT(\"1:\"&ROWS(points)))),ROWS($1:$17))),\"\")","v":""},{"$f":"IF(ROWS($1:$18)<=COUNTIF(joueurs,$B13),INDEX(points,SMALL(IF(joueurs=$B13,ROW(INDIRECT(\"1:\"&ROWS(points)))),ROWS($1:$18))),\"\")","v":""},{"$f":"IF(ROWS($1:$19)<=COUNTIF(joueurs,$B13),INDEX(points,SMALL(IF(joueurs=$B13,ROW(INDIRECT(\"1:\"&ROWS(points)))),ROWS($1:$19))),\"\")","v":""},{"$f":"IF(ROWS($1:$20)<=COUNTIF(points,$B13),INDEX(fautes,SMALL(IF(joueurs=$B13,ROW(INDIRECT(\"1:\"&ROWS(points)))),ROWS($1:$20))),\"\")","v":""},{"$f":"IF(ROWS($1:$11)<=COUNTIF(joueurs,$B13),INDEX(victoires,SMALL(IF(joueurs=$B13,ROW(INDIRECT(\"1:\"&ROWS(victoires)))),ROWS($1:$11))),\"\")","v":""},{"$f":"IF(ROWS($1:$12)<=COUNTIF(joueurs,$B13),INDEX(victoires,SMALL(IF(joueurs=$B13,ROW(INDIRECT(\"1:\"&ROWS(victoires)))),ROWS($1:$12))),\"\")","v":""},{"$f":"IF(ROWS($1:$13)<=COUNTIF(joueurs,$B13),INDEX(victoires,SMALL(IF(joueurs=$B13,ROW(INDIRECT(\"1:\"&ROWS(victoires)))),ROWS($1:$13))),\"\")","v":""},{"$f":"IF(ROWS($1:$14)<=COUNTIF(joueurs,$B13),INDEX(victoires,SMALL(IF(joueurs=$B13,ROW(INDIRECT(\"1:\"&ROWS(victoires)))),ROWS($1:$14))),\"\")","v":""},{"$f":"IF(ROWS($1:$15)<=COUNTIF(joueurs,$B13),INDEX(victoires,SMALL(IF(joueurs=$B13,ROW(INDIRECT(\"1:\"&ROWS(victoires)))),ROWS($1:$15))),\"\")","v":""},{"$f":"IF(ROWS($1:$16)<=COUNTIF(joueurs,$B13),INDEX(victoires,SMALL(IF(joueurs=$B13,ROW(INDIRECT(\"1:\"&ROWS(victoires)))),ROWS($1:$16))),\"\")","v":""},{"$f":"IF(ROWS($1:$17)<=COUNTIF(joueurs,$B13),INDEX(victoires,SMALL(IF(joueurs=$B13,ROW(INDIRECT(\"1:\"&ROWS(victoires)))),ROWS($1:$17))),\"\")","v":""},{"$f":"IF(ROWS($1:$18)<=COUNTIF(joueurs,$B13),INDEX(victoires,SMALL(IF(joueurs=$B13,ROW(INDIRECT(\"1:\"&ROWS(victoires)))),ROWS($1:$18))),\"\")","v":""},{"$f":"IF(ROWS($1:$19)<=COUNTIF(joueurs,$B13),INDEX(victoires,SMALL(IF(joueurs=$B13,ROW(INDIRECT(\"1:\"&ROWS(victoires)))),ROWS($1:$19))),\"\")","v":""},{"$f":"IF(ROWS($1:$20)<=COUNTIF(joueurs,$B13),INDEX(victoires,SMALL(IF(joueurs=$B13,ROW(INDIRECT(\"1:\"&ROWS(victoires)))),ROWS($1:$20))),\"\")","v":""}]
[null,null,null,{"$f":"IF(ROWS($1:$21)<=COUNTIF(joueurs,$B13),INDEX(fautes,SMALL(IF(joueurs=$B13,ROW(INDIRECT(\"1:\"&ROWS(fautes)))),ROWS($1:$21))),\"\")","v":""},{"$f":"IF(ROWS($1:$22)<=COUNTIF(joueurs,$B13),INDEX(fautes,SMALL(IF(joueurs=$B13,ROW(INDIRECT(\"1:\"&ROWS(fautes)))),ROWS($1:$22))),\"\")","v":""},{"$f":"IF(ROWS($1:$23)<=COUNTIF(joueurs,$B13),INDEX(fautes,SMALL(IF(joueurs=$B13,ROW(INDIRECT(\"1:\"&ROWS(fautes)))),ROWS($1:$23))),\"\")","v":""},{"$f":"IF(ROWS($1:$24)<=COUNTIF(joueurs,$B13),INDEX(fautes,SMALL(IF(joueurs=$B13,ROW(INDIRECT(\"1:\"&ROWS(fautes)))),ROWS($1:$24))),\"\")","v":""},{"$f":"IF(ROWS($1:$25)<=COUNTIF(joueurs,$B13),INDEX(fautes,SMALL(IF(joueurs=$B13,ROW(INDIRECT(\"1:\"&ROWS(fautes)))),ROWS($1:$25))),\"\")","v":""},{"$f":"IF(ROWS($1:$26)<=COUNTIF(joueurs,$B13),INDEX(fautes,SMALL(IF(joueurs=$B13,ROW(INDIRECT(\"1:\"&ROWS(fautes)))),ROWS($1:$26))),\"\")","v":""},{"$f":"IF(ROWS($1:$27)<=COUNTIF(joueurs,$B13),INDEX(fautes,SMALL(IF(joueurs=$B13,ROW(INDIRECT(\"1:\"&ROWS(fautes)))),ROWS($1:$27))),\"\")","v":""},{"$f":"IF(ROWS($1:$28)<=COUNTIF(joueurs,$B13),INDEX(fautes,SMALL(IF(joueurs=$B13,ROW(INDIRECT(\"1:\"&ROWS(fautes)))),ROWS($1:$28))),\"\")","v":""},{"$f":"IF(ROWS($1:$29)<=COUNTIF(joueurs,$B13),INDEX(fautes,SMALL(IF(joueurs=$B13,ROW(INDIRECT(\"1:\"&ROWS(fautes)))),ROWS($1:$29))),\"\")","v":""},{"$f":"IF(ROWS($1:$30)<=COUNTIF(joueurs,$B13),INDEX(fautes,SMALL(IF(joueurs=$B13,ROW(INDIRECT(\"1:\"&ROWS(fautes)))),ROWS($1:$30))),\"\")","v":""},{"$f":"IF(ROWS($1:$21)<=COUNTIF(joueurs,$B13),INDEX(ballonperdus,SMALL(IF(joueurs=$B13,ROW(INDIRECT(\"1:\"&ROWS(ballonperdus)))),ROWS($1:$21))),\"\")","v":""},{"$f":"IF(ROWS($1:$22)<=COUNTIF(joueurs,$B13),INDEX(ballonperdus,SMALL(IF(joueurs=$B13,ROW(INDIRECT(\"1:\"&ROWS(ballonperdus)))),ROWS($1:$22))),\"\")","v":""},{"$f":"IF(ROWS($1:$23)<=COUNTIF(joueurs,$B13),INDEX(ballonperdus,SMALL(IF(joueurs=$B13,ROW(INDIRECT(\"1:\"&ROWS(ballonperdus)))),ROWS($1:$23))),\"\")","v":""},{"$f":"IF(ROWS($1:$24)<=COUNTIF(joueurs,$B13),INDEX(ballonperdus,SMALL(IF(joueurs=$B13,ROW(INDIRECT(\"1:\"&ROWS(ballonperdus)))),ROWS($1:$24))),\"\")","v":""},{"$f":"IF(ROWS($1:$25)<=COUNTIF(joueurs,$B13),INDEX(ballonperdus,SMALL(IF(joueurs=$B13,ROW(INDIRECT(\"1:\"&ROWS(ballonperdus)))),ROWS($1:$25))),\"\")","v":""},{"$f":"IF(ROWS($1:$26)<=COUNTIF(joueurs,$B13),INDEX(ballonperdus,SMALL(IF(joueurs=$B13,ROW(INDIRECT(\"1:\"&ROWS(ballonperdus)))),ROWS($1:$26))),\"\")","v":""},{"$f":"IF(ROWS($1:$27)<=COUNTIF(joueurs,$B13),INDEX(ballonperdus,SMALL(IF(joueurs=$B13,ROW(INDIRECT(\"1:\"&ROWS(ballonperdus)))),ROWS($1:$27))),\"\")","v":""},{"$f":"IF(ROWS($1:$28)<=COUNTIF(joueurs,$B13),INDEX(ballonperdus,SMALL(IF(joueurs=$B13,ROW(INDIRECT(\"1:\"&ROWS(ballonperdus)))),ROWS($1:$28))),\"\")","v":""},{"$f":"IF(ROWS($1:$29)<=COUNTIF(joueurs,$B13),INDEX(ballonperdus,SMALL(IF(joueurs=$B13,ROW(INDIRECT(\"1:\"&ROWS(ballonperdus)))),ROWS($1:$29))),\"\")","v":""},{"$f":"IF(ROWS($1:$30)<=COUNTIF(joueurs,$B13),INDEX(ballonperdus,SMALL(IF(joueurs=$B13,ROW(INDIRECT(\"1:\"&ROWS(ballonperdus)))),ROWS($1:$30))),\"\")","v":""},{"$f":"IF(ROWS($1:$21)<=COUNTIF(joueurs,$B13),INDEX(interceptions,SMALL(IF(joueurs=$B13,ROW(INDIRECT(\"1:\"&ROWS(interceptions)))),ROWS($1:$21))),\"\")","v":""},{"$f":"IF(ROWS($1:$22)<=COUNTIF(joueurs,$B13),INDEX(interceptions,SMALL(IF(joueurs=$B13,ROW(INDIRECT(\"1:\"&ROWS(interceptions)))),ROWS($1:$22))),\"\")","v":""},{"$f":"IF(ROWS($1:$23)<=COUNTIF(joueurs,$B13),INDEX(interceptions,SMALL(IF(joueurs=$B13,ROW(INDIRECT(\"1:\"&ROWS(interceptions)))),ROWS($1:$23))),\"\")","v":""},{"$f":"IF(ROWS($1:$24)<=COUNTIF(joueurs,$B13),INDEX(interceptions,SMALL(IF(joueurs=$B13,ROW(INDIRECT(\"1:\"&ROWS(interceptions)))),ROWS($1:$24))),\"\")","v":""},{"$f":"IF(ROWS($1:$25)<=COUNTIF(joueurs,$B13),INDEX(interceptions,SMALL(IF(joueurs=$B13,ROW(INDIRECT(\"1:\"&ROWS(interceptions)))),ROWS($1:$25))),\"\")","v":""},{"$f":"IF(ROWS($1:$26)<=COUNTIF(joueurs,$B13),INDEX(interceptions,SMALL(IF(joueurs=$B13,ROW(INDIRECT(\"1:\"&ROWS(interceptions)))),ROWS($1:$26))),\"\")","v":""},{"$f":"IF(ROWS($1:$27)<=COUNTIF(joueurs,$B13),INDEX(interceptions,SMALL(IF(joueurs=$B13,ROW(INDIRECT(\"1:\"&ROWS(interceptions)))),ROWS($1:$27))),\"\")","v":""},{"$f":"IF(ROWS($1:$28)<=COUNTIF(joueurs,$B13),INDEX(interceptions,SMALL(IF(joueurs=$B13,ROW(INDIRECT(\"1:\"&ROWS(interceptions)))),ROWS($1:$28))),\"\")","v":""},{"$f":"IF(ROWS($1:$29)<=COUNTIF(joueurs,$B13),INDEX(interceptions,SMALL(IF(joueurs=$B13,ROW(INDIRECT(\"1:\"&ROWS(interceptions)))),ROWS($1:$29))),\"\")","v":""},{"$f":"IF(ROWS($1:$30)<=COUNTIF(joueurs,$B13),INDEX(interceptions,SMALL(IF(joueurs=$B13,ROW(INDIRECT(\"1:\"&ROWS(interceptions)))),ROWS($1:$30))),\"\")","v":""},{"$f":"IF(ROWS($1:$21)<=COUNTIF(joueurs,$B13),INDEX(ballonrecuperes,SMALL(IF(joueurs=$B13,ROW(INDIRECT(\"1:\"&ROWS(ballonrecuperes)))),ROWS($1:$21))),\"\")","v":""},{"$f":"IF(ROWS($1:$22)<=COUNTIF(joueurs,$B13),INDEX(ballonrecuperes,SMALL(IF(joueurs=$B13,ROW(INDIRECT(\"1:\"&ROWS(ballonrecuperes)))),ROWS($1:$22))),\"\")","v":""},{"$f":"IF(ROWS($1:$23)<=COUNTIF(joueurs,$B13),INDEX(ballonrecuperes,SMALL(IF(joueurs=$B13,ROW(INDIRECT(\"1:\"&ROWS(ballonrecuperes)))),ROWS($1:$23))),\"\")","v":""},{"$f":"IF(ROWS($1:$24)<=COUNTIF(joueurs,$B13),INDEX(ballonrecuperes,SMALL(IF(joueurs=$B13,ROW(INDIRECT(\"1:\"&ROWS(ballonrecuperes)))),ROWS($1:$24))),\"\")","v":""},{"$f":"IF(ROWS($1:$25)<=COUNTIF(joueurs,$B13),INDEX(ballonrecuperes,SMALL(IF(joueurs=$B13,ROW(INDIRECT(\"1:\"&ROWS(ballonrecuperes)))),ROWS($1:$25))),\"\")","v":""},{"$f":"IF(ROWS($1:$26)<=COUNTIF(joueurs,$B13),INDEX(ballonrecuperes,SMALL(IF(joueurs=$B13,ROW(INDIRECT(\"1:\"&ROWS(ballonrecuperes)))),ROWS($1:$26))),\"\")","v":""},{"$f":"IF(ROWS($1:$27)<=COUNTIF(joueurs,$B13),INDEX(ballonrecuperes,SMALL(IF(joueurs=$B13,ROW(INDIRECT(\"1:\"&ROWS(ballonrecuperes)))),ROWS($1:$27))),\"\")","v":""},{"$f":"IF(ROWS($1:$28)<=COUNTIF(joueurs,$B13),INDEX(ballonrecuperes,SMALL(IF(joueurs=$B13,ROW(INDIRECT(\"1:\"&ROWS(ballonrecuperes)))),ROWS($1:$28))),\"\")","v":""},{"$f":"IF(ROWS($1:$29)<=COUNTIF(joueurs,$B13),INDEX(ballonrecuperes,SMALL(IF(joueurs=$B13,ROW(INDIRECT(\"1:\"&ROWS(ballonrecuperes)))),ROWS($1:$29))),\"\")","v":""},{"$f":"IF(ROWS($1:$30)<=COUNTIF(joueurs,$B13),INDEX(ballonrecuperes,SMALL(IF(joueurs=$B13,ROW(INDIRECT(\"1:\"&ROWS(ballonrecuperes)))),ROWS($1:$30))),\"\")","v":""},{"$f":"IF(ROWS($1:$21)<=COUNTIF(joueurs,$B13),INDEX(tirs,SMALL(IF(joueurs=$B13,ROW(INDIRECT(\"1:\"&ROWS(tirs)))),ROWS($1:$21))),\"\")","v":""},{"$f":"IF(ROWS($1:$22)<=COUNTIF(joueurs,$B13),INDEX(tirs,SMALL(IF(joueurs=$B13,ROW(INDIRECT(\"1:\"&ROWS(tirs)))),ROWS($1:$22))),\"\")","v":""},{"$f":"IF(ROWS($1:$23)<=COUNTIF(joueurs,$B13),INDEX(tirs,SMALL(IF(joueurs=$B13,ROW(INDIRECT(\"1:\"&ROWS(tirs)))),ROWS($1:$23))),\"\")","v":""},{"$f":"IF(ROWS($1:$24)<=COUNTIF(joueurs,$B13),INDEX(tirs,SMALL(IF(joueurs=$B13,ROW(INDIRECT(\"1:\"&ROWS(tirs)))),ROWS($1:$24))),\"\")","v":""},{"$f":"IF(ROWS($1:$25)<=COUNTIF(joueurs,$B13),INDEX(tirs,SMALL(IF(joueurs=$B13,ROW(INDIRECT(\"1:\"&ROWS(tirs)))),ROWS($1:$25))),\"\")","v":""},{"$f":"IF(ROWS($1:$26)<=COUNTIF(joueurs,$B13),INDEX(tirs,SMALL(IF(joueurs=$B13,ROW(INDIRECT(\"1:\"&ROWS(tirs)))),ROWS($1:$26))),\"\")","v":""},{"$f":"IF(ROWS($1:$27)<=COUNTIF(joueurs,$B13),INDEX(tirs,SMALL(IF(joueurs=$B13,ROW(INDIRECT(\"1:\"&ROWS(tirs)))),ROWS($1:$27))),\"\")","v":""},{"$f":"IF(ROWS($1:$28)<=COUNTIF(joueurs,$B13),INDEX(tirs,SMALL(IF(joueurs=$B13,ROW(INDIRECT(\"1:\"&ROWS(tirs)))),ROWS($1:$28))),\"\")","v":""},{"$f":"IF(ROWS($1:$29)<=COUNTIF(joueurs,$B13),INDEX(tirs,SMALL(IF(joueurs=$B13,ROW(INDIRECT(\"1:\"&ROWS(tirs)))),ROWS($1:$29))),\"\")","v":""},{"$f":"IF(ROWS($1:$30)<=COUNTIF(joueurs,$B13),INDEX(tirs,SMALL(IF(joueurs=$B13,ROW(INDIRECT(\"1:\"&ROWS(tirs)))),ROWS($1:$30))),\"\")","v":""},{"$f":"IF(ROWS($1:$21)<=COUNTIF(joueurs,$B13),INDEX(bontirs,SMALL(IF(joueurs=$B13,ROW(INDIRECT(\"1:\"&ROWS(bontirs)))),ROWS($1:$21))),\"\")","v":""},{"$f":"IF(ROWS($1:$22)<=COUNTIF(joueurs,$B13),INDEX(bontirs,SMALL(IF(joueurs=$B13,ROW(INDIRECT(\"1:\"&ROWS(bontirs)))),ROWS($1:$22))),\"\")","v":""},{"$f":"IF(ROWS($1:$23)<=COUNTIF(joueurs,$B13),INDEX(bontirs,SMALL(IF(joueurs=$B13,ROW(INDIRECT(\"1:\"&ROWS(bontirs)))),ROWS($1:$23))),\"\")","v":""},{"$f":"IF(ROWS($1:$24)<=COUNTIF(joueurs,$B13),INDEX(bontirs,SMALL(IF(joueurs=$B13,ROW(INDIRECT(\"1:\"&ROWS(bontirs)))),ROWS($1:$24))),\"\")","v":""},{"$f":"IF(ROWS($1:$25)<=COUNTIF(joueurs,$B13),INDEX(bontirs,SMALL(IF(joueurs=$B13,ROW(INDIRECT(\"1:\"&ROWS(bontirs)))),ROWS($1:$25))),\"\")","v":""},{"$f":"IF(ROWS($1:$26)<=COUNTIF(joueurs,$B13),INDEX(bontirs,SMALL(IF(joueurs=$B13,ROW(INDIRECT(\"1:\"&ROWS(bontirs)))),ROWS($1:$26))),\"\")","v":""},{"$f":"IF(ROWS($1:$27)<=COUNTIF(joueurs,$B13),INDEX(bontirs,SMALL(IF(joueurs=$B13,ROW(INDIRECT(\"1:\"&ROWS(bontirs)))),ROWS($1:$27))),\"\")","v":""},{"$f":"IF(ROWS($1:$28)<=COUNTIF(joueurs,$B13),INDEX(bontirs,SMALL(IF(joueurs=$B13,ROW(INDIRECT(\"1:\"&ROWS(bontirs)))),ROWS($1:$28))),\"\")","v":""},{"$f":"IF(ROWS($1:$29)<=COUNTIF(joueurs,$B13),INDEX(bontirs,SMALL(IF(joueurs=$B13,ROW(INDIRECT(\"1:\"&ROWS(bontirs)))),ROWS($1:$29))),\"\")","v":""},{"$f":"IF(ROWS($1:$30)<=COUNTIF(joueurs,$B13),INDEX(bontirs,SMALL(IF(joueurs=$B13,ROW(INDIRECT(\"1:\"&ROWS(bontirs)))),ROWS($1:$30))),\"\")","v":""},{"$f":"IF(ROWS($1:$21)<=COUNTIF(joueurs,$B13),INDEX(points,SMALL(IF(joueurs=$B13,ROW(INDIRECT(\"1:\"&ROWS(points)))),ROWS($1:$21))),\"\")","v":""},{"$f":"IF(ROWS($1:$22)<=COUNTIF(joueurs,$B13),INDEX(points,SMALL(IF(joueurs=$B13,ROW(INDIRECT(\"1:\"&ROWS(points)))),ROWS($1:$22))),\"\")","v":""},{"$f":"IF(ROWS($1:$23)<=COUNTIF(joueurs,$B13),INDEX(points,SMALL(IF(joueurs=$B13,ROW(INDIRECT(\"1:\"&ROWS(points)))),ROWS($1:$23))),\"\")","v":""},{"$f":"IF(ROWS($1:$24)<=COUNTIF(joueurs,$B13),INDEX(points,SMALL(IF(joueurs=$B13,ROW(INDIRECT(\"1:\"&ROWS(points)))),ROWS($1:$24))),\"\")","v":""},{"$f":"IF(ROWS($1:$25)<=COUNTIF(joueurs,$B13),INDEX(points,SMALL(IF(joueurs=$B13,ROW(INDIRECT(\"1:\"&ROWS(points)))),ROWS($1:$25))),\"\")","v":""},{"$f":"IF(ROWS($1:$26)<=COUNTIF(joueurs,$B13),INDEX(points,SMALL(IF(joueurs=$B13,ROW(INDIRECT(\"1:\"&ROWS(points)))),ROWS($1:$26))),\"\")","v":""},{"$f":"IF(ROWS($1:$27)<=COUNTIF(joueurs,$B13),INDEX(points,SMALL(IF(joueurs=$B13,ROW(INDIRECT(\"1:\"&ROWS(points)))),ROWS($1:$27))),\"\")","v":""},{"$f":"IF(ROWS($1:$28)<=COUNTIF(joueurs,$B13),INDEX(points,SMALL(IF(joueurs=$B13,ROW(INDIRECT(\"1:\"&ROWS(points)))),ROWS($1:$28))),\"\")","v":""},{"$f":"IF(ROWS($1:$29)<=COUNTIF(joueurs,$B13),INDEX(points,SMALL(IF(joueurs=$B13,ROW(INDIRECT(\"1:\"&ROWS(points)))),ROWS($1:$29))),\"\")","v":""},{"$f":"IF(ROWS($1:$30)<=COUNTIF(joueurs,$B13),INDEX(points,SMALL(IF(joueurs=$B13,ROW(INDIRECT(\"1:\"&ROWS(points)))),ROWS($1:$30))),\"\")","v":""},{"$f":"IF(ROWS($1:$21)<=COUNTIF(joueurs,$B13),INDEX(victoires,SMALL(IF(joueurs=$B13,ROW(INDIRECT(\"1:\"&ROWS(victoires)))),ROWS($1:$21))),\"\")","v":""},{"$f":"IF(ROWS($1:$22)<=COUNTIF(joueurs,$B13),INDEX(victoires,SMALL(IF(joueurs=$B13,ROW(INDIRECT(\"1:\"&ROWS(victoires)))),ROWS($1:$22))),\"\")","v":""},{"$f":"IF(ROWS($1:$23)<=COUNTIF(joueurs,$B13),INDEX(victoires,SMALL(IF(joueurs=$B13,ROW(INDIRECT(\"1:\"&ROWS(victoires)))),ROWS($1:$23))),\"\")","v":""},{"$f":"IF(ROWS($1:$24)<=COUNTIF(joueurs,$B13),INDEX(victoires,SMALL(IF(joueurs=$B13,ROW(INDIRECT(\"1:\"&ROWS(victoires)))),ROWS($1:$24))),\"\")","v":""},{"$f":"IF(ROWS($1:$25)<=COUNTIF(joueurs,$B13),INDEX(victoires,SMALL(IF(joueurs=$B13,ROW(INDIRECT(\"1:\"&ROWS(victoires)))),ROWS($1:$25))),\"\")","v":""},{"$f":"IF(ROWS($1:$26)<=COUNTIF(joueurs,$B13),INDEX(victoires,SMALL(IF(joueurs=$B13,ROW(INDIRECT(\"1:\"&ROWS(victoires)))),ROWS($1:$26))),\"\")","v":""},{"$f":"IF(ROWS($1:$27)<=COUNTIF(joueurs,$B13),INDEX(victoires,SMALL(IF(joueurs=$B13,ROW(INDIRECT(\"1:\"&ROWS(victoires)))),ROWS($1:$27))),\"\")","v":""},{"$f":"IF(ROWS($1:$28)<=COUNTIF(joueurs,$B13),INDEX(victoires,SMALL(IF(joueurs=$B13,ROW(INDIRECT(\"1:\"&ROWS(victoires)))),ROWS($1:$28))),\"\")","v":""},{"$f":"IF(ROWS($1:$29)<=COUNTIF(joueurs,$B13),INDEX(victoires,SMALL(IF(joueurs=$B13,ROW(INDIRECT(\"1:\"&ROWS(victoires)))),ROWS($1:$29))),\"\")","v":""},{"$f":"IF(ROWS($1:$30)<=COUNTIF(joueurs,$B13),INDEX(victoires,SMALL(IF(joueurs=$B13,ROW(INDIRECT(\"1:\"&ROWS(victoires)))),ROWS($1:$30))),\"\")","v":""}]
[null,null,null,{"$f":"IF(ROWS($1:$31)<=COUNTIF(joueurs,$B13),INDEX(fautes,SMALL(IF(joueurs=$B13,ROW(INDIRECT(\"1:\"&ROWS(fautes)))),ROWS($1:$31))),\"\")","v":""},{"$f":"IF(ROWS($1:$32)<=COUNTIF(joueurs,$B13),INDEX(fautes,SMALL(IF(joueurs=$B13,ROW(INDIRECT(\"1:\"&ROWS(fautes)))),ROWS($1:$32))),\"\")","v":""},{"$f":"IF(ROWS($1:$33)<=COUNTIF(joueurs,$B13),INDEX(fautes,SMALL(IF(joueurs=$B13,ROW(INDIRECT(\"1:\"&ROWS(fautes)))),ROWS($1:$33))),\"\")","v":""},{"$f":"IF(ROWS($1:$34)<=COUNTIF(joueurs,$B13),INDEX(fautes,SMALL(IF(joueurs=$B13,ROW(INDIRECT(\"1:\"&ROWS(fautes)))),ROWS($1:$34))),\"\")","v":""},{"$f":"IF(ROWS($1:$35)<=COUNTIF(joueurs,$B13),INDEX(fautes,SMALL(IF(joueurs=$B13,ROW(INDIRECT(\"1:\"&ROWS(fautes)))),ROWS($1:$35))),\"\")","v":""},{"$f":"IF(ROWS($1:$36)<=COUNTIF(joueurs,$B13),INDEX(fautes,SMALL(IF(joueurs=$B13,ROW(INDIRECT(\"1:\"&ROWS(fautes)))),ROWS($1:$36))),\"\")","v":""},{"$f":"IF(ROWS($1:$37)<=COUNTIF(joueurs,$B13),INDEX(fautes,SMALL(IF(joueurs=$B13,ROW(INDIRECT(\"1:\"&ROWS(fautes)))),ROWS($1:$37))),\"\")","v":""},{"$f":"IF(ROWS($1:$38)<=COUNTIF(joueurs,$B13),INDEX(fautes,SMALL(IF(joueurs=$B13,ROW(INDIRECT(\"1:\"&ROWS(fautes)))),ROWS($1:$38))),\"\")","v":""},{"$f":"IF(ROWS($1:$39)<=COUNTIF(joueurs,$B13),INDEX(fautes,SMALL(IF(joueurs=$B13,ROW(INDIRECT(\"1:\"&ROWS(fautes)))),ROWS($1:$39))),\"\")","v":""},{"$f":"IF(ROWS($1:$40)<=COUNTIF(joueurs,$B13),INDEX(fautes,SMALL(IF(joueurs=$B13,ROW(INDIRECT(\"1:\"&ROWS(fautes)))),ROWS($1:$40))),\"\")","v":""},{"$f":"IF(ROWS($1:$31)<=COUNTIF(joueurs,$B13),INDEX(ballonperdus,SMALL(IF(joueurs=$B13,ROW(INDIRECT(\"1:\"&ROWS(ballonperdus)))),ROWS($1:$31))),\"\")","v":""},{"$f":"IF(ROWS($1:$32)<=COUNTIF(joueurs,$B13),INDEX(ballonperdus,SMALL(IF(joueurs=$B13,ROW(INDIRECT(\"1:\"&ROWS(ballonperdus)))),ROWS($1:$32))),\"\")","v":""},{"$f":"IF(ROWS($1:$33)<=COUNTIF(joueurs,$B13),INDEX(ballonperdus,SMALL(IF(joueurs=$B13,ROW(INDIRECT(\"1:\"&ROWS(ballonperdus)))),ROWS($1:$33))),\"\")","v":""},{"$f":"IF(ROWS($1:$34)<=COUNTIF(joueurs,$B13),INDEX(ballonperdus,SMALL(IF(joueurs=$B13,ROW(INDIRECT(\"1:\"&ROWS(ballonperdus)))),ROWS($1:$34))),\"\")","v":""},{"$f":"IF(ROWS($1:$35)<=COUNTIF(joueurs,$B13),INDEX(ballonperdus,SMALL(IF(joueurs=$B13,ROW(INDIRECT(\"1:\"&ROWS(ballonperdus)))),ROWS($1:$35))),\"\")","v":""},{"$f":"IF(ROWS($1:$36)<=COUNTIF(joueurs,$B13),INDEX(ballonperdus,SMALL(IF(joueurs=$B13,ROW(INDIRECT(\"1:\"&ROWS(ballonperdus)))),ROWS($1:$36))),\"\")","v":""},{"$f":"IF(ROWS($1:$37)<=COUNTIF(joueurs,$B13),INDEX(ballonperdus,SMALL(IF(joueurs=$B13,ROW(INDIRECT(\"1:\"&ROWS(ballonperdus)))),ROWS($1:$37))),\"\")","v":""},{"$f":"IF(ROWS($1:$38)<=COUNTIF(joueurs,$B13),INDEX(ballonperdus,SMALL(IF(joueurs=$B13,ROW(INDIRECT(\"1:\"&ROWS(ballonperdus)))),ROWS($1:$38))),\"\")","v":""},{"$f":"IF(ROWS($1:$39)<=COUNTIF(joueurs,$B13),INDEX(ballonperdus,SMALL(IF(joueurs=$B13,ROW(INDIRECT(\"1:\"&ROWS(ballonperdus)))),ROWS($1:$39))),\"\")","v":""},{"$f":"IF(ROWS($1:$40)<=COUNTIF(joueurs,$B13),INDEX(ballonperdus,SMALL(IF(joueurs=$B13,ROW(INDIRECT(\"1:\"&ROWS(ballonperdus)))),ROWS($1:$40))),\"\")","v":""},{"$f":"IF(ROWS($1:$31)<=COUNTIF(joueurs,$B13),INDEX(interceptions,SMALL(IF(joueurs=$B13,ROW(INDIRECT(\"1:\"&ROWS(interceptions)))),ROWS($1:$31))),\"\")","v":""},{"$f":"IF(ROWS($1:$32)<=COUNTIF(joueurs,$B13),INDEX(interceptions,SMALL(IF(joueurs=$B13,ROW(INDIRECT(\"1:\"&ROWS(interceptions)))),ROWS($1:$32))),\"\")","v":""},{"$f":"IF(ROWS($1:$33)<=COUNTIF(joueurs,$B13),INDEX(interceptions,SMALL(IF(joueurs=$B13,ROW(INDIRECT(\"1:\"&ROWS(interceptions)))),ROWS($1:$33))),\"\")","v":""},{"$f":"IF(ROWS($1:$34)<=COUNTIF(joueurs,$B13),INDEX(interceptions,SMALL(IF(joueurs=$B13,ROW(INDIRECT(\"1:\"&ROWS(interceptions)))),ROWS($1:$34))),\"\")","v":""},{"$f":"IF(ROWS($1:$35)<=COUNTIF(joueurs,$B13),INDEX(interceptions,SMALL(IF(joueurs=$B13,ROW(INDIRECT(\"1:\"&ROWS(interceptions)))),ROWS($1:$35))),\"\")","v":""},{"$f":"IF(ROWS($1:$36)<=COUNTIF(joueurs,$B13),INDEX(interceptions,SMALL(IF(joueurs=$B13,ROW(INDIRECT(\"1:\"&ROWS(interceptions)))),ROWS($1:$36))),\"\")","v":""},{"$f":"IF(ROWS($1:$37)<=COUNTIF(joueurs,$B13),INDEX(interceptions,SMALL(IF(joueurs=$B13,ROW(INDIRECT(\"1:\"&ROWS(interceptions)))),ROWS($1:$37))),\"\")","v":""},{"$f":"IF(ROWS($1:$38)<=COUNTIF(joueurs,$B13),INDEX(interceptions,SMALL(IF(joueurs=$B13,ROW(INDIRECT(\"1:\"&ROWS(interceptions)))),ROWS($1:$38))),\"\")","v":""},{"$f":"IF(ROWS($1:$39)<=COUNTIF(joueurs,$B13),INDEX(interceptions,SMALL(IF(joueurs=$B13,ROW(INDIRECT(\"1:\"&ROWS(interceptions)))),ROWS($1:$39))),\"\")","v":""},{"$f":"IF(ROWS($1:$40)<=COUNTIF(joueurs,$B13),INDEX(interceptions,SMALL(IF(joueurs=$B13,ROW(INDIRECT(\"1:\"&ROWS(interceptions)))),ROWS($1:$40))),\"\")","v":""},{"$f":"IF(ROWS($1:$31)<=COUNTIF(joueurs,$B13),INDEX(ballonrecuperes,SMALL(IF(joueurs=$B13,ROW(INDIRECT(\"1:\"&ROWS(ballonrecuperes)))),ROWS($1:$31))),\"\")","v":""},{"$f":"IF(ROWS($1:$32)<=COUNTIF(joueurs,$B13),INDEX(ballonrecuperes,SMALL(IF(joueurs=$B13,ROW(INDIRECT(\"1:\"&ROWS(ballonrecuperes)))),ROWS($1:$32))),\"\")","v":""},{"$f":"IF(ROWS($1:$33)<=COUNTIF(joueurs,$B13),INDEX(ballonrecuperes,SMALL(IF(joueurs=$B13,ROW(INDIRECT(\"1:\"&ROWS(ballonrecuperes)))),ROWS($1:$33))),\"\")","v":""},{"$f":"IF(ROWS($1:$34)<=COUNTIF(joueurs,$B13),INDEX(ballonrecuperes,SMALL(IF(joueurs=$B13,ROW(INDIRECT(\"1:\"&ROWS(ballonrecuperes)))),ROWS($1:$34))),\"\")","v":""},{"$f":"IF(ROWS($1:$35)<=COUNTIF(joueurs,$B13),INDEX(ballonrecuperes,SMALL(IF(joueurs=$B13,ROW(INDIRECT(\"1:\"&ROWS(ballonrecuperes)))),ROWS($1:$35))),\"\")","v":""},{"$f":"IF(ROWS($1:$36)<=COUNTIF(joueurs,$B13),INDEX(ballonrecuperes,SMALL(IF(joueurs=$B13,ROW(INDIRECT(\"1:\"&ROWS(ballonrecuperes)))),ROWS($1:$36))),\"\")","v":""},{"$f":"IF(ROWS($1:$37)<=COUNTIF(joueurs,$B13),INDEX(ballonrecuperes,SMALL(IF(joueurs=$B13,ROW(INDIRECT(\"1:\"&ROWS(ballonrecuperes)))),ROWS($1:$37))),\"\")","v":""},{"$f":"IF(ROWS($1:$38)<=COUNTIF(joueurs,$B13),INDEX(ballonrecuperes,SMALL(IF(joueurs=$B13,ROW(INDIRECT(\"1:\"&ROWS(ballonrecuperes)))),ROWS($1:$38))),\"\")","v":""},{"$f":"IF(ROWS($1:$39)<=COUNTIF(joueurs,$B13),INDEX(ballonrecuperes,SMALL(IF(joueurs=$B13,ROW(INDIRECT(\"1:\"&ROWS(ballonrecuperes)))),ROWS($1:$39))),\"\")","v":""},{"$f":"IF(ROWS($1:$40)<=COUNTIF(joueurs,$B13),INDEX(ballonrecuperes,SMALL(IF(joueurs=$B13,ROW(INDIRECT(\"1:\"&ROWS(ballonrecuperes)))),ROWS($1:$40))),\"\")","v":""},{"$f":"IF(ROWS($1:$31)<=COUNTIF(joueurs,$B13),INDEX(tirs,SMALL(IF(joueurs=$B13,ROW(INDIRECT(\"1:\"&ROWS(tirs)))),ROWS($1:$31))),\"\")","v":""},{"$f":"IF(ROWS($1:$32)<=COUNTIF(joueurs,$B13),INDEX(tirs,SMALL(IF(joueurs=$B13,ROW(INDIRECT(\"1:\"&ROWS(tirs)))),ROWS($1:$32))),\"\")","v":""},{"$f":"IF(ROWS($1:$33)<=COUNTIF(joueurs,$B13),INDEX(tirs,SMALL(IF(joueurs=$B13,ROW(INDIRECT(\"1:\"&ROWS(tirs)))),ROWS($1:$33))),\"\")","v":""},{"$f":"IF(ROWS($1:$34)<=COUNTIF(joueurs,$B13),INDEX(tirs,SMALL(IF(joueurs=$B13,ROW(INDIRECT(\"1:\"&ROWS(tirs)))),ROWS($1:$34))),\"\")","v":""},{"$f":"IF(ROWS($1:$35)<=COUNTIF(joueurs,$B13),INDEX(tirs,SMALL(IF(joueurs=$B13,ROW(INDIRECT(\"1:\"&ROWS(tirs)))),ROWS($1:$35))),\"\")","v":""},{"$f":"IF(ROWS($1:$36)<=COUNTIF(joueurs,$B13),INDEX(tirs,SMALL(IF(joueurs=$B13,ROW(INDIRECT(\"1:\"&ROWS(tirs)))),ROWS($1:$36))),\"\")","v":""},{"$f":"IF(ROWS($1:$37)<=COUNTIF(joueurs,$B13),INDEX(tirs,SMALL(IF(joueurs=$B13,ROW(INDIRECT(\"1:\"&ROWS(tirs)))),ROWS($1:$37))),\"\")","v":""},{"$f":"IF(ROWS($1:$38)<=COUNTIF(joueurs,$B13),INDEX(tirs,SMALL(IF(joueurs=$B13,ROW(INDIRECT(\"1:\"&ROWS(tirs)))),ROWS($1:$38))),\"\")","v":""},{"$f":"IF(ROWS($1:$39)<=COUNTIF(joueurs,$B13),INDEX(tirs,SMALL(IF(joueurs=$B13,ROW(INDIRECT(\"1:\"&ROWS(tirs)))),ROWS($1:$39))),\"\")","v":""},{"$f":"IF(ROWS($1:$40)<=COUNTIF(joueurs,$B13),INDEX(tirs,SMALL(IF(joueurs=$B13,ROW(INDIRECT(\"1:\"&ROWS(tirs)))),ROWS($1:$40))),\"\")","v":""},{"$f":"IF(ROWS($1:$31)<=COUNTIF(joueurs,$B13),INDEX(bontirs,SMALL(IF(joueurs=$B13,ROW(INDIRECT(\"1:\"&ROWS(bontirs)))),ROWS($1:$31))),\"\")","v":""},{"$f":"IF(ROWS($1:$32)<=COUNTIF(joueurs,$B13),INDEX(bontirs,SMALL(IF(joueurs=$B13,ROW(INDIRECT(\"1:\"&ROWS(bontirs)))),ROWS($1:$32))),\"\")","v":""},{"$f":"IF(ROWS($1:$33)<=COUNTIF(joueurs,$B13),INDEX(bontirs,SMALL(IF(joueurs=$B13,ROW(INDIRECT(\"1:\"&ROWS(bontirs)))),ROWS($1:$33))),\"\")","v":""},{"$f":"IF(ROWS($1:$34)<=COUNTIF(joueurs,$B13),INDEX(bontirs,SMALL(IF(joueurs=$B13,ROW(INDIRECT(\"1:\"&ROWS(bontirs)))),ROWS($1:$34))),\"\")","v":""},{"$f":"IF(ROWS($1:$35)<=COUNTIF(joueurs,$B13),INDEX(bontirs,SMALL(IF(joueurs=$B13,ROW(INDIRECT(\"1:\"&ROWS(bontirs)))),ROWS($1:$35))),\"\")","v":""},{"$f":"IF(ROWS($1:$36)<=COUNTIF(joueurs,$B13),INDEX(bontirs,SMALL(IF(joueurs=$B13,ROW(INDIRECT(\"1:\"&ROWS(bontirs)))),ROWS($1:$36))),\"\")","v":""},{"$f":"IF(ROWS($1:$37)<=COUNTIF(joueurs,$B13),INDEX(bontirs,SMALL(IF(joueurs=$B13,ROW(INDIRECT(\"1:\"&ROWS(bontirs)))),ROWS($1:$37))),\"\")","v":""},{"$f":"IF(ROWS($1:$38)<=COUNTIF(joueurs,$B13),INDEX(bontirs,SMALL(IF(joueurs=$B13,ROW(INDIRECT(\"1:\"&ROWS(bontirs)))),ROWS($1:$38))),\"\")","v":""},{"$f":"IF(ROWS($1:$39)<=COUNTIF(joueurs,$B13),INDEX(bontirs,SMALL(IF(joueurs=$B13,ROW(INDIRECT(\"1:\"&ROWS(bontirs)))),ROWS($1:$39))),\"\")","v":""},{"$f":"IF(ROWS($1:$40)<=COUNTIF(joueurs,$B13),INDEX(bontirs,SMALL(IF(joueurs=$B13,ROW(INDIRECT(\"1:\"&ROWS(bontirs)))),ROWS($1:$40))),\"\")","v":""},{"$f":"IF(ROWS($1:$31)<=COUNTIF(joueurs,$B13),INDEX(points,SMALL(IF(joueurs=$B13,ROW(INDIRECT(\"1:\"&ROWS(points)))),ROWS($1:$31))),\"\")","v":""},{"$f":"IF(ROWS($1:$32)<=COUNTIF(joueurs,$B13),INDEX(points,SMALL(IF(joueurs=$B13,ROW(INDIRECT(\"1:\"&ROWS(points)))),ROWS($1:$32))),\"\")","v":""},{"$f":"IF(ROWS($1:$33)<=COUNTIF(joueurs,$B13),INDEX(points,SMALL(IF(joueurs=$B13,ROW(INDIRECT(\"1:\"&ROWS(points)))),ROWS($1:$33))),\"\")","v":""},{"$f":"IF(ROWS($1:$34)<=COUNTIF(joueurs,$B13),INDEX(points,SMALL(IF(joueurs=$B13,ROW(INDIRECT(\"1:\"&ROWS(points)))),ROWS($1:$34))),\"\")","v":""},{"$f":"IF(ROWS($1:$35)<=COUNTIF(joueurs,$B13),INDEX(points,SMALL(IF(joueurs=$B13,ROW(INDIRECT(\"1:\"&ROWS(points)))),ROWS($1:$35))),\"\")","v":""},{"$f":"IF(ROWS($1:$36)<=COUNTIF(joueurs,$B13),INDEX(points,SMALL(IF(joueurs=$B13,ROW(INDIRECT(\"1:\"&ROWS(points)))),ROWS($1:$36))),\"\")","v":""},{"$f":"IF(ROWS($1:$37)<=COUNTIF(joueurs,$B13),INDEX(points,SMALL(IF(joueurs=$B13,ROW(INDIRECT(\"1:\"&ROWS(points)))),ROWS($1:$37))),\"\")","v":""},{"$f":"IF(ROWS($1:$38)<=COUNTIF(joueurs,$B13),INDEX(points,SMALL(IF(joueurs=$B13,ROW(INDIRECT(\"1:\"&ROWS(points)))),ROWS($1:$38))),\"\")","v":""},{"$f":"IF(ROWS($1:$39)<=COUNTIF(joueurs,$B13),INDEX(points,SMALL(IF(joueurs=$B13,ROW(INDIRECT(\"1:\"&ROWS(points)))),ROWS($1:$39))),\"\")","v":""},{"$f":"IF(ROWS($1:$40)<=COUNTIF(joueurs,$B13),INDEX(points,SMALL(IF(joueurs=$B13,ROW(INDIRECT(\"1:\"&ROWS(points)))),ROWS($1:$40))),\"\")","v":""},{"$f":"IF(ROWS($1:$31)<=COUNTIF(joueurs,$B13),INDEX(victoires,SMALL(IF(joueurs=$B13,ROW(INDIRECT(\"1:\"&ROWS(victoires)))),ROWS($1:$31))),\"\")","v":""},{"$f":"IF(ROWS($1:$32)<=COUNTIF(joueurs,$B13),INDEX(victoires,SMALL(IF(joueurs=$B13,ROW(INDIRECT(\"1:\"&ROWS(victoires)))),ROWS($1:$32))),\"\")","v":""},{"$f":"IF(ROWS($1:$33)<=COUNTIF(joueurs,$B13),INDEX(victoires,SMALL(IF(joueurs=$B13,ROW(INDIRECT(\"1:\"&ROWS(victoires)))),ROWS($1:$33))),\"\")","v":""},{"$f":"IF(ROWS($1:$34)<=COUNTIF(joueurs,$B13),INDEX(victoires,SMALL(IF(joueurs=$B13,ROW(INDIRECT(\"1:\"&ROWS(victoires)))),ROWS($1:$34))),\"\")","v":""},{"$f":"IF(ROWS($1:$35)<=COUNTIF(joueurs,$B13),INDEX(victoires,SMALL(IF(joueurs=$B13,ROW(INDIRECT(\"1:\"&ROWS(victoires)))),ROWS($1:$35))),\"\")","v":""},{"$f":"IF(ROWS($1:$36)<=COUNTIF(joueurs,$B13),INDEX(victoires,SMALL(IF(joueurs=$B13,ROW(INDIRECT(\"1:\"&ROWS(victoires)))),ROWS($1:$36))),\"\")","v":""},{"$f":"IF(ROWS($1:$37)<=COUNTIF(joueurs,$B13),INDEX(victoires,SMALL(IF(joueurs=$B13,ROW(INDIRECT(\"1:\"&ROWS(victoires)))),ROWS($1:$37))),\"\")","v":""},{"$f":"IF(ROWS($1:$38)<=COUNTIF(joueurs,$B13),INDEX(victoires,SMALL(IF(joueurs=$B13,ROW(INDIRECT(\"1:\"&ROWS(victoires)))),ROWS($1:$38))),\"\")","v":""},{"$f":"IF(ROWS($1:$39)<=COUNTIF(joueurs,$B13),INDEX(victoires,SMALL(IF(joueurs=$B13,ROW(INDIRECT(\"1:\"&ROWS(victoires)))),ROWS($1:$39))),\"\")","v":""},{"$f":"IF(ROWS($1:$40)<=COUNTIF(joueurs,$B13),INDEX(victoires,SMALL(IF(joueurs=$B13,ROW(INDIRECT(\"1:\"&ROWS(victoires)))),ROWS($1:$40))),\"\")","v":""}]
[4,{"$f":"INDEX(eleves,MATCH(A17,numero,0),MATCH($B$2,classes,0))","v":"Diaw"},null,{"$f":"IF(ROWS($1:$1)<=COUNTIF(joueurs,$B17),INDEX(fautes,SMALL(IF(joueurs=$B17,ROW(INDIRECT(\"1:\"&ROWS(fautes)))),ROWS($1:$1))),\"\")","v":""},{"$f":"IF(ROWS($1:$2)<=COUNTIF(joueurs,$B17),INDEX(fautes,SMALL(IF(joueurs=$B17,ROW(INDIRECT(\"1:\"&ROWS(fautes)))),ROWS($1:$2))),\"\")","v":""},{"$f":"IF(ROWS($1:$3)<=COUNTIF(joueurs,$B17),INDEX(fautes,SMALL(IF(joueurs=$B17,ROW(INDIRECT(\"1:\"&ROWS(fautes)))),ROWS($1:$3))),\"\")","v":""},{"$f":"IF(ROWS($1:$4)<=COUNTIF(joueurs,$B17),INDEX(fautes,SMALL(IF(joueurs=$B17,ROW(INDIRECT(\"1:\"&ROWS(fautes)))),ROWS($1:$4))),\"\")","v":""},{"$f":"IF(ROWS($1:$5)<=COUNTIF(joueurs,$B17),INDEX(fautes,SMALL(IF(joueurs=$B17,ROW(INDIRECT(\"1:\"&ROWS(fautes)))),ROWS($1:$5))),\"\")","v":""},{"$f":"IF(ROWS($1:$6)<=COUNTIF(joueurs,$B17),INDEX(fautes,SMALL(IF(joueurs=$B17,ROW(INDIRECT(\"1:\"&ROWS(fautes)))),ROWS($1:$6))),\"\")","v":""},{"$f":"IF(ROWS($1:$7)<=COUNTIF(joueurs,$B17),INDEX(fautes,SMALL(IF(joueurs=$B17,ROW(INDIRECT(\"1:\"&ROWS(fautes)))),ROWS($1:$7))),\"\")","v":""},{"$f":"IF(ROWS($1:$8)<=COUNTIF(joueurs,$B17),INDEX(fautes,SMALL(IF(joueurs=$B17,ROW(INDIRECT(\"1:\"&ROWS(fautes)))),ROWS($1:$8))),\"\")","v":""},{"$f":"IF(ROWS($1:$9)<=COUNTIF(joueurs,$B17),INDEX(fautes,SMALL(IF(joueurs=$B17,ROW(INDIRECT(\"1:\"&ROWS(fautes)))),ROWS($1:$9))),\"\")","v":""},{"$f":"IF(ROWS($1:$10)<=COUNTIF(joueurs,$B17),INDEX(fautes,SMALL(IF(joueurs=$B17,ROW(INDIRECT(\"1:\"&ROWS(fautes)))),ROWS($1:$10))),\"\")","v":""},{"$f":"IF(ROWS($1:$1)<=COUNTIF(joueurs,$B17),INDEX(ballonperdus,SMALL(IF(joueurs=$B17,ROW(INDIRECT(\"1:\"&ROWS(ballonperdus)))),ROWS($1:$1))),\"\")","v":""},{"$f":"IF(ROWS($1:$2)<=COUNTIF(joueurs,$B17),INDEX(ballonperdus,SMALL(IF(joueurs=$B17,ROW(INDIRECT(\"1:\"&ROWS(ballonperdus)))),ROWS($1:$2))),\"\")","v":""},{"$f":"IF(ROWS($1:$3)<=COUNTIF(joueurs,$B17),INDEX(ballonperdus,SMALL(IF(joueurs=$B17,ROW(INDIRECT(\"1:\"&ROWS(ballonperdus)))),ROWS($1:$3))),\"\")","v":""},{"$f":"IF(ROWS($1:$4)<=COUNTIF(joueurs,$B17),INDEX(ballonperdus,SMALL(IF(joueurs=$B17,ROW(INDIRECT(\"1:\"&ROWS(ballonperdus)))),ROWS($1:$4))),\"\")","v":""},{"$f":"IF(ROWS($1:$5)<=COUNTIF(joueurs,$B17),INDEX(ballonperdus,SMALL(IF(joueurs=$B17,ROW(INDIRECT(\"1:\"&ROWS(ballonperdus)))),ROWS($1:$5))),\"\")","v":""},{"$f":"IF(ROWS($1:$6)<=COUNTIF(joueurs,$B17),INDEX(ballonperdus,SMALL(IF(joueurs=$B17,ROW(INDIRECT(\"1:\"&ROWS(ballonperdus)))),ROWS($1:$6))),\"\")","v":""},{"$f":"IF(ROWS($1:$7)<=COUNTIF(joueurs,$B17),INDEX(ballonperdus,SMALL(IF(joueurs=$B17,ROW(INDIRECT(\"1:\"&ROWS(ballonperdus)))),ROWS($1:$7))),\"\")","v":""},{"$f":"IF(ROWS($1:$8)<=COUNTIF(joueurs,$B17),INDEX(ballonperdus,SMALL(IF(joueurs=$B17,ROW(INDIRECT(\"1:\"&ROWS(ballonperdus)))),ROWS($1:$8))),\"\")","v":""},{"$f":"IF(ROWS($1:$9)<=COUNTIF(joueurs,$B17),INDEX(ballonperdus,SMALL(IF(joueurs=$B17,ROW(INDIRECT(\"1:\"&ROWS(ballonperdus)))),ROWS($1:$9))),\"\")","v":""},{"$f":"IF(ROWS($1:$10)<=COUNTIF(joueurs,$B17),INDEX(ballonperdus,SMALL(IF(joueurs=$B17,ROW(INDIRECT(\"1:\"&ROWS(ballonperdus)))),ROWS($1:$10))),\"\")","v":""},{"$f":"IF(ROWS($1:$1)<=COUNTIF(joueurs,$B17),INDEX(interceptions,SMALL(IF(joueurs=$B17,ROW(INDIRECT(\"1:\"&ROWS(interceptions)))),ROWS($1:$1))),\"\")","v":""},{"$f":"IF(ROWS($1:$2)<=COUNTIF(joueurs,$B17),INDEX(interceptions,SMALL(IF(joueurs=$B17,ROW(INDIRECT(\"1:\"&ROWS(interceptions)))),ROWS($1:$2))),\"\")","v":""},{"$f":"IF(ROWS($1:$3)<=COUNTIF(joueurs,$B17),INDEX(interceptions,SMALL(IF(joueurs=$B17,ROW(INDIRECT(\"1:\"&ROWS(interceptions)))),ROWS($1:$3))),\"\")","v":""},{"$f":"IF(ROWS($1:$4)<=COUNTIF(joueurs,$B17),INDEX(interceptions,SMALL(IF(joueurs=$B17,ROW(INDIRECT(\"1:\"&ROWS(interceptions)))),ROWS($1:$4))),\"\")","v":""},{"$f":"IF(ROWS($1:$5)<=COUNTIF(joueurs,$B17),INDEX(interceptions,SMALL(IF(joueurs=$B17,ROW(INDIRECT(\"1:\"&ROWS(interceptions)))),ROWS($1:$5))),\"\")","v":""},{"$f":"IF(ROWS($1:$6)<=COUNTIF(joueurs,$B17),INDEX(interceptions,SMALL(IF(joueurs=$B17,ROW(INDIRECT(\"1:\"&ROWS(interceptions)))),ROWS($1:$6))),\"\")","v":""},{"$f":"IF(ROWS($1:$7)<=COUNTIF(joueurs,$B17),INDEX(interceptions,SMALL(IF(joueurs=$B17,ROW(INDIRECT(\"1:\"&ROWS(interceptions)))),ROWS($1:$7))),\"\")","v":""},{"$f":"IF(ROWS($1:$8)<=COUNTIF(joueurs,$B17),INDEX(interceptions,SMALL(IF(joueurs=$B17,ROW(INDIRECT(\"1:\"&ROWS(interceptions)))),ROWS($1:$8))),\"\")","v":""},{"$f":"IF(ROWS($1:$9)<=COUNTIF(joueurs,$B17),INDEX(interceptions,SMALL(IF(joueurs=$B17,ROW(INDIRECT(\"1:\"&ROWS(interceptions)))),ROWS($1:$9))),\"\")","v":""},{"$f":"IF(ROWS($1:$10)<=COUNTIF(joueurs,$B17),INDEX(interceptions,SMALL(IF(joueurs=$B17,ROW(INDIRECT(\"1:\"&ROWS(interceptions)))),ROWS($1:$10))),\"\")","v":""},{"$f":"IF(ROWS($1:$1)<=COUNTIF(joueurs,$B17),INDEX(ballonrecuperes,SMALL(IF(joueurs=$B17,ROW(INDIRECT(\"1:\"&ROWS(ballonrecuperes)))),ROWS($1:$1))),\"\")","v":""},{"$f":"IF(ROWS($1:$2)<=COUNTIF(joueurs,$B17),INDEX(ballonrecuperes,SMALL(IF(joueurs=$B17,ROW(INDIRECT(\"1:\"&ROWS(ballonrecuperes)))),ROWS($1:$2))),\"\")","v":""},{"$f":"IF(ROWS($1:$3)<=COUNTIF(joueurs,$B17),INDEX(ballonrecuperes,SMALL(IF(joueurs=$B17,ROW(INDIRECT(\"1:\"&ROWS(ballonrecuperes)))),ROWS($1:$3))),\"\")","v":""},{"$f":"IF(ROWS($1:$4)<=COUNTIF(joueurs,$B17),INDEX(ballonrecuperes,SMALL(IF(joueurs=$B17,ROW(INDIRECT(\"1:\"&ROWS(ballonrecuperes)))),ROWS($1:$4))),\"\")","v":""},{"$f":"IF(ROWS($1:$5)<=COUNTIF(joueurs,$B17),INDEX(ballonrecuperes,SMALL(IF(joueurs=$B17,ROW(INDIRECT(\"1:\"&ROWS(ballonrecuperes)))),ROWS($1:$5))),\"\")","v":""},{"$f":"IF(ROWS($1:$6)<=COUNTIF(joueurs,$B17),INDEX(ballonrecuperes,SMALL(IF(joueurs=$B17,ROW(INDIRECT(\"1:\"&ROWS(ballonrecuperes)))),ROWS($1:$6))),\"\")","v":""},{"$f":"IF(ROWS($1:$7)<=COUNTIF(joueurs,$B17),INDEX(ballonrecuperes,SMALL(IF(joueurs=$B17,ROW(INDIRECT(\"1:\"&ROWS(ballonrecuperes)))),ROWS($1:$7))),\"\")","v":""},{"$f":"IF(ROWS($1:$8)<=COUNTIF(joueurs,$B17),INDEX(ballonrecuperes,SMALL(IF(joueurs=$B17,ROW(INDIRECT(\"1:\"&ROWS(ballonrecuperes)))),ROWS($1:$8))),\"\")","v":""},{"$f":"IF(ROWS($1:$9)<=COUNTIF(joueurs,$B17),INDEX(ballonrecuperes,SMALL(IF(joueurs=$B17,ROW(INDIRECT(\"1:\"&ROWS(ballonrecuperes)))),ROWS($1:$9))),\"\")","v":""},{"$f":"IF(ROWS($1:$10)<=COUNTIF(joueurs,$B17),INDEX(ballonrecuperes,SMALL(IF(joueurs=$B17,ROW(INDIRECT(\"1:\"&ROWS(ballonrecuperes)))),ROWS($1:$10))),\"\")","v":""},{"$f":"IF(ROWS($1:$1)<=COUNTIF(joueurs,$B17),INDEX(tirs,SMALL(IF(joueurs=$B17,ROW(INDIRECT(\"1:\"&ROWS(tirs)))),ROWS($1:$1))),\"\")","v":""},{"$f":"IF(ROWS($1:$2)<=COUNTIF(joueurs,$B17),INDEX(tirs,SMALL(IF(joueurs=$B17,ROW(INDIRECT(\"1:\"&ROWS(tirs)))),ROWS($1:$2))),\"\")","v":""},{"$f":"IF(ROWS($1:$3)<=COUNTIF(joueurs,$B17),INDEX(tirs,SMALL(IF(joueurs=$B17,ROW(INDIRECT(\"1:\"&ROWS(tirs)))),ROWS($1:$3))),\"\")","v":""},{"$f":"IF(ROWS($1:$4)<=COUNTIF(joueurs,$B17),INDEX(tirs,SMALL(IF(joueurs=$B17,ROW(INDIRECT(\"1:\"&ROWS(tirs)))),ROWS($1:$4))),\"\")","v":""},{"$f":"IF(ROWS($1:$5)<=COUNTIF(joueurs,$B17),INDEX(tirs,SMALL(IF(joueurs=$B17,ROW(INDIRECT(\"1:\"&ROWS(tirs)))),ROWS($1:$5))),\"\")","v":""},{"$f":"IF(ROWS($1:$6)<=COUNTIF(joueurs,$B17),INDEX(tirs,SMALL(IF(joueurs=$B17,ROW(INDIRECT(\"1:\"&ROWS(tirs)))),ROWS($1:$6))),\"\")","v":""},{"$f":"IF(ROWS($1:$7)<=COUNTIF(joueurs,$B17),INDEX(tirs,SMALL(IF(joueurs=$B17,ROW(INDIRECT(\"1:\"&ROWS(tirs)))),ROWS($1:$7))),\"\")","v":""},{"$f":"IF(ROWS($1:$8)<=COUNTIF(joueurs,$B17),INDEX(tirs,SMALL(IF(joueurs=$B17,ROW(INDIRECT(\"1:\"&ROWS(tirs)))),ROWS($1:$8))),\"\")","v":""},{"$f":"IF(ROWS($1:$9)<=COUNTIF(joueurs,$B17),INDEX(tirs,SMALL(IF(joueurs=$B17,ROW(INDIRECT(\"1:\"&ROWS(tirs)))),ROWS($1:$9))),\"\")","v":""},{"$f":"IF(ROWS($1:$10)<=COUNTIF(joueurs,$B17),INDEX(tirs,SMALL(IF(joueurs=$B17,ROW(INDIRECT(\"1:\"&ROWS(tirs)))),ROWS($1:$10))),\"\")","v":""},{"$f":"IF(ROWS($1:$1)<=COUNTIF(joueurs,$B17),INDEX(bontirs,SMALL(IF(joueurs=$B17,ROW(INDIRECT(\"1:\"&ROWS(bontirs)))),ROWS($1:$1))),\"\")","v":""},{"$f":"IF(ROWS($1:$2)<=COUNTIF(joueurs,$B17),INDEX(bontirs,SMALL(IF(joueurs=$B17,ROW(INDIRECT(\"1:\"&ROWS(bontirs)))),ROWS($1:$2))),\"\")","v":""},{"$f":"IF(ROWS($1:$3)<=COUNTIF(joueurs,$B17),INDEX(bontirs,SMALL(IF(joueurs=$B17,ROW(INDIRECT(\"1:\"&ROWS(bontirs)))),ROWS($1:$3))),\"\")","v":""},{"$f":"IF(ROWS($1:$4)<=COUNTIF(joueurs,$B17),INDEX(bontirs,SMALL(IF(joueurs=$B17,ROW(INDIRECT(\"1:\"&ROWS(bontirs)))),ROWS($1:$4))),\"\")","v":""},{"$f":"IF(ROWS($1:$5)<=COUNTIF(joueurs,$B17),INDEX(bontirs,SMALL(IF(joueurs=$B17,ROW(INDIRECT(\"1:\"&ROWS(bontirs)))),ROWS($1:$5))),\"\")","v":""},{"$f":"IF(ROWS($1:$6)<=COUNTIF(joueurs,$B17),INDEX(bontirs,SMALL(IF(joueurs=$B17,ROW(INDIRECT(\"1:\"&ROWS(bontirs)))),ROWS($1:$6))),\"\")","v":""},{"$f":"IF(ROWS($1:$7)<=COUNTIF(joueurs,$B17),INDEX(bontirs,SMALL(IF(joueurs=$B17,ROW(INDIRECT(\"1:\"&ROWS(bontirs)))),ROWS($1:$7))),\"\")","v":""},{"$f":"IF(ROWS($1:$8)<=COUNTIF(joueurs,$B17),INDEX(bontirs,SMALL(IF(joueurs=$B17,ROW(INDIRECT(\"1:\"&ROWS(bontirs)))),ROWS($1:$8))),\"\")","v":""},{"$f":"IF(ROWS($1:$9)<=COUNTIF(joueurs,$B17),INDEX(bontirs,SMALL(IF(joueurs=$B17,ROW(INDIRECT(\"1:\"&ROWS(bontirs)))),ROWS($1:$9))),\"\")","v":""},{"$f":"IF(ROWS($1:$10)<=COUNTIF(joueurs,$B17),INDEX(bontirs,SMALL(IF(joueurs=$B17,ROW(INDIRECT(\"1:\"&ROWS(bontirs)))),ROWS($1:$10))),\"\")","v":""},{"$f":"IF(ROWS($1:$1)<=COUNTIF(joueurs,$B17),INDEX(points,SMALL(IF(joueurs=$B17,ROW(INDIRECT(\"1:\"&ROWS(points)))),ROWS($1:$1))),\"\")","v":""},{"$f":"IF(ROWS($1:$2)<=COUNTIF(joueurs,$B17),INDEX(points,SMALL(IF(joueurs=$B17,ROW(INDIRECT(\"1:\"&ROWS(points)))),ROWS($1:$2))),\"\")","v":""},{"$f":"IF(ROWS($1:$3)<=COUNTIF(joueurs,$B17),INDEX(points,SMALL(IF(joueurs=$B17,ROW(INDIRECT(\"1:\"&ROWS(points)))),ROWS($1:$3))),\"\")","v":""},{"$f":"IF(ROWS($1:$4)<=COUNTIF(joueurs,$B17),INDEX(points,SMALL(IF(joueurs=$B17,ROW(INDIRECT(\"1:\"&ROWS(points)))),ROWS($1:$4))),\"\")","v":""},{"$f":"IF(ROWS($1:$5)<=COUNTIF(joueurs,$B17),INDEX(points,SMALL(IF(joueurs=$B17,ROW(INDIRECT(\"1:\"&ROWS(points)))),ROWS($1:$5))),\"\")","v":""},{"$f":"IF(ROWS($1:$6)<=COUNTIF(joueurs,$B17),INDEX(points,SMALL(IF(joueurs=$B17,ROW(INDIRECT(\"1:\"&ROWS(points)))),ROWS($1:$6))),\"\")","v":""},{"$f":"IF(ROWS($1:$7)<=COUNTIF(joueurs,$B17),INDEX(points,SMALL(IF(joueurs=$B17,ROW(INDIRECT(\"1:\"&ROWS(points)))),ROWS($1:$7))),\"\")","v":""},{"$f":"IF(ROWS($1:$8)<=COUNTIF(joueurs,$B17),INDEX(points,SMALL(IF(joueurs=$B17,ROW(INDIRECT(\"1:\"&ROWS(points)))),ROWS($1:$8))),\"\")","v":""},{"$f":"IF(ROWS($1:$9)<=COUNTIF(joueurs,$B17),INDEX(points,SMALL(IF(joueurs=$B17,ROW(INDIRECT(\"1:\"&ROWS(points)))),ROWS($1:$9))),\"\")","v":""},{"$f":"IF(ROWS($1:$10)<=COUNTIF(joueurs,$B17),INDEX(points,SMALL(IF(joueurs=$B17,ROW(INDIRECT(\"1:\"&ROWS(points)))),ROWS($1:$10))),\"\")","v":""},{"$f":"IF(ROWS($1:$1)<=COUNTIF(joueurs,$B17),INDEX(victoires,SMALL(IF(joueurs=$B17,ROW(INDIRECT(\"1:\"&ROWS(victoires)))),ROWS($1:$1))),\"\")","v":""},{"$f":"IF(ROWS($1:$2)<=COUNTIF(joueurs,$B17),INDEX(victoires,SMALL(IF(joueurs=$B17,ROW(INDIRECT(\"1:\"&ROWS(victoires)))),ROWS($1:$2))),\"\")","v":""},{"$f":"IF(ROWS($1:$3)<=COUNTIF(joueurs,$B17),INDEX(victoires,SMALL(IF(joueurs=$B17,ROW(INDIRECT(\"1:\"&ROWS(victoires)))),ROWS($1:$3))),\"\")","v":""},{"$f":"IF(ROWS($1:$4)<=COUNTIF(joueurs,$B17),INDEX(victoires,SMALL(IF(joueurs=$B17,ROW(INDIRECT(\"1:\"&ROWS(victoires)))),ROWS($1:$4))),\"\")","v":""},{"$f":"IF(ROWS($1:$5)<=COUNTIF(joueurs,$B17),INDEX(victoires,SMALL(IF(joueurs=$B17,ROW(INDIRECT(\"1:\"&ROWS(victoires)))),ROWS($1:$5))),\"\")","v":""},{"$f":"IF(ROWS($1:$6)<=COUNTIF(joueurs,$B17),INDEX(victoires,SMALL(IF(joueurs=$B17,ROW(INDIRECT(\"1:\"&ROWS(victoires)))),ROWS($1:$6))),\"\")","v":""},{"$f":"IF(ROWS($1:$7)<=COUNTIF(joueurs,$B17),INDEX(victoires,SMALL(IF(joueurs=$B17,ROW(INDIRECT(\"1:\"&ROWS(victoires)))),ROWS($1:$7))),\"\")","v":""},{"$f":"IF(ROWS($1:$8)<=COUNTIF(joueurs,$B17),INDEX(victoires,SMALL(IF(joueurs=$B17,ROW(INDIRECT(\"1:\"&ROWS(victoires)))),ROWS($1:$8))),\"\")","v":""},{"$f":"IF(ROWS($1:$9)<=COUNTIF(joueurs,$B17),INDEX(victoires,SMALL(IF(joueurs=$B17,ROW(INDIRECT(\"1:\"&ROWS(victoires)))),ROWS($1:$9))),\"\")","v":""},{"$f":"IF(ROWS($1:$10)<=COUNTIF(joueurs,$B17),INDEX(victoires,SMALL(IF(joueurs=$B17,ROW(INDIRECT(\"1:\"&ROWS(victoires)))),ROWS($1:$10))),\"\")","v":""}]
[null,null,null,{"$f":"IF(ROWS($1:$11)<=COUNTIF(joueurs,$B17),INDEX(fautes,SMALL(IF(joueurs=$B17,ROW(INDIRECT(\"1:\"&ROWS(fautes)))),ROWS($1:$11))),\"\")","v":""},{"$f":"IF(ROWS($1:$12)<=COUNTIF(joueurs,$B17),INDEX(fautes,SMALL(IF(joueurs=$B17,ROW(INDIRECT(\"1:\"&ROWS(fautes)))),ROWS($1:$12))),\"\")","v":""},{"$f":"IF(ROWS($1:$13)<=COUNTIF(joueurs,$B17),INDEX(fautes,SMALL(IF(joueurs=$B17,ROW(INDIRECT(\"1:\"&ROWS(fautes)))),ROWS($1:$13))),\"\")","v":""},{"$f":"IF(ROWS($1:$14)<=COUNTIF(joueurs,$B17),INDEX(fautes,SMALL(IF(joueurs=$B17,ROW(INDIRECT(\"1:\"&ROWS(fautes)))),ROWS($1:$14))),\"\")","v":""},{"$f":"IF(ROWS($1:$15)<=COUNTIF(joueurs,$B17),INDEX(fautes,SMALL(IF(joueurs=$B17,ROW(INDIRECT(\"1:\"&ROWS(fautes)))),ROWS($1:$15))),\"\")","v":""},{"$f":"IF(ROWS($1:$16)<=COUNTIF(joueurs,$B17),INDEX(fautes,SMALL(IF(joueurs=$B17,ROW(INDIRECT(\"1:\"&ROWS(fautes)))),ROWS($1:$16))),\"\")","v":""},{"$f":"IF(ROWS($1:$17)<=COUNTIF(joueurs,$B17),INDEX(fautes,SMALL(IF(joueurs=$B17,ROW(INDIRECT(\"1:\"&ROWS(fautes)))),ROWS($1:$17))),\"\")","v":""},{"$f":"IF(ROWS($1:$18)<=COUNTIF(joueurs,$B17),INDEX(fautes,SMALL(IF(joueurs=$B17,ROW(INDIRECT(\"1:\"&ROWS(fautes)))),ROWS($1:$18))),\"\")","v":""},{"$f":"IF(ROWS($1:$19)<=COUNTIF(joueurs,$B17),INDEX(fautes,SMALL(IF(joueurs=$B17,ROW(INDIRECT(\"1:\"&ROWS(fautes)))),ROWS($1:$19))),\"\")","v":""},{"$f":"IF(ROWS($1:$20)<=COUNTIF(joueurs,$B17),INDEX(fautes,SMALL(IF(joueurs=$B17,ROW(INDIRECT(\"1:\"&ROWS(fautes)))),ROWS($1:$20))),\"\")","v":""},{"$f":"IF(ROWS($1:$11)<=COUNTIF(joueurs,$B17),INDEX(ballonperdus,SMALL(IF(joueurs=$B17,ROW(INDIRECT(\"1:\"&ROWS(ballonperdus)))),ROWS($1:$11))),\"\")","v":""},{"$f":"IF(ROWS($1:$12)<=COUNTIF(joueurs,$B17),INDEX(ballonperdus,SMALL(IF(joueurs=$B17,ROW(INDIRECT(\"1:\"&ROWS(ballonperdus)))),ROWS($1:$12))),\"\")","v":""},{"$f":"IF(ROWS($1:$13)<=COUNTIF(joueurs,$B17),INDEX(ballonperdus,SMALL(IF(joueurs=$B17,ROW(INDIRECT(\"1:\"&ROWS(ballonperdus)))),ROWS($1:$13))),\"\")","v":""},{"$f":"IF(ROWS($1:$14)<=COUNTIF(joueurs,$B17),INDEX(ballonperdus,SMALL(IF(joueurs=$B17,ROW(INDIRECT(\"1:\"&ROWS(ballonperdus)))),ROWS($1:$14))),\"\")","v":""},{"$f":"IF(ROWS($1:$15)<=COUNTIF(joueurs,$B17),INDEX(ballonperdus,SMALL(IF(joueurs=$B17,ROW(INDIRECT(\"1:\"&ROWS(ballonperdus)))),ROWS($1:$15))),\"\")","v":""},{"$f":"IF(ROWS($1:$16)<=COUNTIF(joueurs,$B17),INDEX(ballonperdus,SMALL(IF(joueurs=$B17,ROW(INDIRECT(\"1:\"&ROWS(ballonperdus)))),ROWS($1:$16))),\"\")","v":""},{"$f":"IF(ROWS($1:$17)<=COUNTIF(joueurs,$B17),INDEX(ballonperdus,SMALL(IF(joueurs=$B17,ROW(INDIRECT(\"1:\"&ROWS(ballonperdus)))),ROWS($1:$17))),\"\")","v":""},{"$f":"IF(ROWS($1:$18)<=COUNTIF(joueurs,$B17),INDEX(ballonperdus,SMALL(IF(joueurs=$B17,ROW(INDIRECT(\"1:\"&ROWS(ballonperdus)))),ROWS($1:$18))),\"\")","v":""},{"$f":"IF(ROWS($1:$19)<=COUNTIF(joueurs,$B17),INDEX(ballonperdus,SMALL(IF(joueurs=$B17,ROW(INDIRECT(\"1:\"&ROWS(ballonperdus)))),ROWS($1:$19))),\"\")","v":""},{"$f":"IF(ROWS($1:$20)<=COUNTIF(joueurs,$B17),INDEX(fautes,SMALL(IF(joueurs=$B17,ROW(INDIRECT(\"1:\"&ROWS(ballonperdus)))),ROWS($1:$20))),\"\")","v":""},{"$f":"IF(ROWS($1:$11)<=COUNTIF(joueurs,$B17),INDEX(interceptions,SMALL(IF(joueurs=$B17,ROW(INDIRECT(\"1:\"&ROWS(interceptions)))),ROWS($1:$11))),\"\")","v":""},{"$f":"IF(ROWS($1:$12)<=COUNTIF(joueurs,$B17),INDEX(interceptions,SMALL(IF(joueurs=$B17,ROW(INDIRECT(\"1:\"&ROWS(interceptions)))),ROWS($1:$12))),\"\")","v":""},{"$f":"IF(ROWS($1:$13)<=COUNTIF(joueurs,$B17),INDEX(interceptions,SMALL(IF(joueurs=$B17,ROW(INDIRECT(\"1:\"&ROWS(interceptions)))),ROWS($1:$13))),\"\")","v":""},{"$f":"IF(ROWS($1:$14)<=COUNTIF(joueurs,$B17),INDEX(interceptions,SMALL(IF(joueurs=$B17,ROW(INDIRECT(\"1:\"&ROWS(interceptions)))),ROWS($1:$14))),\"\")","v":""},{"$f":"IF(ROWS($1:$15)<=COUNTIF(joueurs,$B17),INDEX(interceptions,SMALL(IF(joueurs=$B17,ROW(INDIRECT(\"1:\"&ROWS(interceptions)))),ROWS($1:$15))),\"\")","v":""},{"$f":"IF(ROWS($1:$16)<=COUNTIF(joueurs,$B17),INDEX(interceptions,SMALL(IF(joueurs=$B17,ROW(INDIRECT(\"1:\"&ROWS(interceptions)))),ROWS($1:$16))),\"\")","v":""},{"$f":"IF(ROWS($1:$17)<=COUNTIF(joueurs,$B17),INDEX(interceptions,SMALL(IF(joueurs=$B17,ROW(INDIRECT(\"1:\"&ROWS(interceptions)))),ROWS($1:$17))),\"\")","v":""},{"$f":"IF(ROWS($1:$18)<=COUNTIF(joueurs,$B17),INDEX(interceptions,SMALL(IF(joueurs=$B17,ROW(INDIRECT(\"1:\"&ROWS(interceptions)))),ROWS($1:$18))),\"\")","v":""},{"$f":"IF(ROWS($1:$19)<=COUNTIF(joueurs,$B17),INDEX(interceptions,SMALL(IF(joueurs=$B17,ROW(INDIRECT(\"1:\"&ROWS(interceptions)))),ROWS($1:$19))),\"\")","v":""},{"$f":"IF(ROWS($1:$20)<=COUNTIF(joueurs,$B17),INDEX(interceptions,SMALL(IF(joueurs=$B17,ROW(INDIRECT(\"1:\"&ROWS(interceptions)))),ROWS($1:$20))),\"\")","v":""},{"$f":"IF(ROWS($1:$11)<=COUNTIF(joueurs,$B17),INDEX(ballonrecuperes,SMALL(IF(joueurs=$B17,ROW(INDIRECT(\"1:\"&ROWS(ballonrecuperes)))),ROWS($1:$11))),\"\")","v":""},{"$f":"IF(ROWS($1:$12)<=COUNTIF(joueurs,$B17),INDEX(ballonrecuperes,SMALL(IF(joueurs=$B17,ROW(INDIRECT(\"1:\"&ROWS(ballonrecuperes)))),ROWS($1:$12))),\"\")","v":""},{"$f":"IF(ROWS($1:$13)<=COUNTIF(joueurs,$B17),INDEX(ballonrecuperes,SMALL(IF(joueurs=$B17,ROW(INDIRECT(\"1:\"&ROWS(ballonrecuperes)))),ROWS($1:$13))),\"\")","v":""},{"$f":"IF(ROWS($1:$14)<=COUNTIF(joueurs,$B17),INDEX(ballonrecuperes,SMALL(IF(joueurs=$B17,ROW(INDIRECT(\"1:\"&ROWS(ballonrecuperes)))),ROWS($1:$14))),\"\")","v":""},{"$f":"IF(ROWS($1:$15)<=COUNTIF(joueurs,$B17),INDEX(ballonrecuperes,SMALL(IF(joueurs=$B17,ROW(INDIRECT(\"1:\"&ROWS(ballonrecuperes)))),ROWS($1:$15))),\"\")","v":""},{"$f":"IF(ROWS($1:$16)<=COUNTIF(joueurs,$B17),INDEX(ballonrecuperes,SMALL(IF(joueurs=$B17,ROW(INDIRECT(\"1:\"&ROWS(ballonrecuperes)))),ROWS($1:$16))),\"\")","v":""},{"$f":"IF(ROWS($1:$17)<=COUNTIF(joueurs,$B17),INDEX(ballonrecuperes,SMALL(IF(joueurs=$B17,ROW(INDIRECT(\"1:\"&ROWS(ballonrecuperes)))),ROWS($1:$17))),\"\")","v":""},{"$f":"IF(ROWS($1:$18)<=COUNTIF(joueurs,$B17),INDEX(ballonrecuperes,SMALL(IF(joueurs=$B17,ROW(INDIRECT(\"1:\"&ROWS(ballonrecuperes)))),ROWS($1:$18))),\"\")","v":""},{"$f":"IF(ROWS($1:$19)<=COUNTIF(joueurs,$B17),INDEX(ballonrecuperes,SMALL(IF(joueurs=$B17,ROW(INDIRECT(\"1:\"&ROWS(ballonrecuperes)))),ROWS($1:$19))),\"\")","v":""},{"$f":"IF(ROWS($1:$20)<=COUNTIF(joueurs,$B17),INDEX(ballonrecuperes,SMALL(IF(joueurs=$B17,ROW(INDIRECT(\"1:\"&ROWS(ballonrecuperes)))),ROWS($1:$20))),\"\")","v":""},{"$f":"IF(ROWS($1:$11)<=COUNTIF(joueurs,$B17),INDEX(tirs,SMALL(IF(joueurs=$B17,ROW(INDIRECT(\"1:\"&ROWS(tirs)))),ROWS($1:$11))),\"\")","v":""},{"$f":"IF(ROWS($1:$12)<=COUNTIF(joueurs,$B17),INDEX(tirs,SMALL(IF(joueurs=$B17,ROW(INDIRECT(\"1:\"&ROWS(tirs)))),ROWS($1:$12))),\"\")","v":""},{"$f":"IF(ROWS($1:$13)<=COUNTIF(joueurs,$B17),INDEX(tirs,SMALL(IF(joueurs=$B17,ROW(INDIRECT(\"1:\"&ROWS(tirs)))),ROWS($1:$13))),\"\")","v":""},{"$f":"IF(ROWS($1:$14)<=COUNTIF(joueurs,$B17),INDEX(tirs,SMALL(IF(joueurs=$B17,ROW(INDIRECT(\"1:\"&ROWS(tirs)))),ROWS($1:$14))),\"\")","v":""},{"$f":"IF(ROWS($1:$15)<=COUNTIF(joueurs,$B17),INDEX(tirs,SMALL(IF(joueurs=$B17,ROW(INDIRECT(\"1:\"&ROWS(tirs)))),ROWS($1:$15))),\"\")","v":""},{"$f":"IF(ROWS($1:$16)<=COUNTIF(joueurs,$B17),INDEX(tirs,SMALL(IF(joueurs=$B17,ROW(INDIRECT(\"1:\"&ROWS(tirs)))),ROWS($1:$16))),\"\")","v":""},{"$f":"IF(ROWS($1:$17)<=COUNTIF(joueurs,$B17),INDEX(tirs,SMALL(IF(joueurs=$B17,ROW(INDIRECT(\"1:\"&ROWS(tirs)))),ROWS($1:$17))),\"\")","v":""},{"$f":"IF(ROWS($1:$18)<=COUNTIF(joueurs,$B17),INDEX(tirs,SMALL(IF(joueurs=$B17,ROW(INDIRECT(\"1:\"&ROWS(tirs)))),ROWS($1:$18))),\"\")","v":""},{"$f":"IF(ROWS($1:$19)<=COUNTIF(joueurs,$B17),INDEX(tirs,SMALL(IF(joueurs=$B17,ROW(INDIRECT(\"1:\"&ROWS(tirs)))),ROWS($1:$19))),\"\")","v":""},{"$f":"IF(ROWS($1:$20)<=COUNTIF(joueurs,$B17),INDEX(tirs,SMALL(IF(joueurs=$B17,ROW(INDIRECT(\"1:\"&ROWS(tirs)))),ROWS($1:$20))),\"\")","v":""},{"$f":"IF(ROWS($1:$11)<=COUNTIF(joueurs,$B17),INDEX(bontirs,SMALL(IF(joueurs=$B17,ROW(INDIRECT(\"1:\"&ROWS(bontirs)))),ROWS($1:$11))),\"\")","v":""},{"$f":"IF(ROWS($1:$12)<=COUNTIF(joueurs,$B17),INDEX(bontirs,SMALL(IF(joueurs=$B17,ROW(INDIRECT(\"1:\"&ROWS(bontirs)))),ROWS($1:$12))),\"\")","v":""},{"$f":"IF(ROWS($1:$13)<=COUNTIF(joueurs,$B17),INDEX(bontirs,SMALL(IF(joueurs=$B17,ROW(INDIRECT(\"1:\"&ROWS(bontirs)))),ROWS($1:$13))),\"\")","v":""},{"$f":"IF(ROWS($1:$14)<=COUNTIF(joueurs,$B17),INDEX(bontirs,SMALL(IF(joueurs=$B17,ROW(INDIRECT(\"1:\"&ROWS(bontirs)))),ROWS($1:$14))),\"\")","v":""},{"$f":"IF(ROWS($1:$15)<=COUNTIF(joueurs,$B17),INDEX(bontirs,SMALL(IF(joueurs=$B17,ROW(INDIRECT(\"1:\"&ROWS(bontirs)))),ROWS($1:$15))),\"\")","v":""},{"$f":"IF(ROWS($1:$16)<=COUNTIF(joueurs,$B17),INDEX(bontirs,SMALL(IF(joueurs=$B17,ROW(INDIRECT(\"1:\"&ROWS(bontirs)))),ROWS($1:$16))),\"\")","v":""},{"$f":"IF(ROWS($1:$17)<=COUNTIF(joueurs,$B17),INDEX(bontirs,SMALL(IF(joueurs=$B17,ROW(INDIRECT(\"1:\"&ROWS(bontirs)))),ROWS($1:$17))),\"\")","v":""},{"$f":"IF(ROWS($1:$18)<=COUNTIF(joueurs,$B17),INDEX(bontirs,SMALL(IF(joueurs=$B17,ROW(INDIRECT(\"1:\"&ROWS(bontirs)))),ROWS($1:$18))),\"\")","v":""},{"$f":"IF(ROWS($1:$19)<=COUNTIF(joueurs,$B17),INDEX(bontirs,SMALL(IF(joueurs=$B17,ROW(INDIRECT(\"1:\"&ROWS(bontirs)))),ROWS($1:$19))),\"\")","v":""},{"$f":"IF(ROWS($1:$20)<=COUNTIF(joueurs,$B17),INDEX(bontirs,SMALL(IF(joueurs=$B17,ROW(INDIRECT(\"1:\"&ROWS(bontirs)))),ROWS($1:$20))),\"\")","v":""},{"$f":"IF(ROWS($1:$11)<=COUNTIF(joueurs,$B17),INDEX(points,SMALL(IF(joueurs=$B17,ROW(INDIRECT(\"1:\"&ROWS(points)))),ROWS($1:$11))),\"\")","v":""},{"$f":"IF(ROWS($1:$12)<=COUNTIF(joueurs,$B17),INDEX(points,SMALL(IF(joueurs=$B17,ROW(INDIRECT(\"1:\"&ROWS(points)))),ROWS($1:$12))),\"\")","v":""},{"$f":"IF(ROWS($1:$13)<=COUNTIF(joueurs,$B17),INDEX(points,SMALL(IF(joueurs=$B17,ROW(INDIRECT(\"1:\"&ROWS(points)))),ROWS($1:$13))),\"\")","v":""},{"$f":"IF(ROWS($1:$14)<=COUNTIF(joueurs,$B17),INDEX(points,SMALL(IF(joueurs=$B17,ROW(INDIRECT(\"1:\"&ROWS(points)))),ROWS($1:$14))),\"\")","v":""},{"$f":"IF(ROWS($1:$15)<=COUNTIF(joueurs,$B17),INDEX(points,SMALL(IF(joueurs=$B17,ROW(INDIRECT(\"1:\"&ROWS(points)))),ROWS($1:$15))),\"\")","v":""},{"$f":"IF(ROWS($1:$16)<=COUNTIF(joueurs,$B17),INDEX(points,SMALL(IF(joueurs=$B17,ROW(INDIRECT(\"1:\"&ROWS(points)))),ROWS($1:$16))),\"\")","v":""},{"$f":"IF(ROWS($1:$17)<=COUNTIF(joueurs,$B17),INDEX(points,SMALL(IF(joueurs=$B17,ROW(INDIRECT(\"1:\"&ROWS(points)))),ROWS($1:$17))),\"\")","v":""},{"$f":"IF(ROWS($1:$18)<=COUNTIF(joueurs,$B17),INDEX(points,SMALL(IF(joueurs=$B17,ROW(INDIRECT(\"1:\"&ROWS(points)))),ROWS($1:$18))),\"\")","v":""},{"$f":"IF(ROWS($1:$19)<=COUNTIF(joueurs,$B17),INDEX(points,SMALL(IF(joueurs=$B17,ROW(INDIRECT(\"1:\"&ROWS(points)))),ROWS($1:$19))),\"\")","v":""},{"$f":"IF(ROWS($1:$20)<=COUNTIF(points,$B17),INDEX(fautes,SMALL(IF(joueurs=$B17,ROW(INDIRECT(\"1:\"&ROWS(points)))),ROWS($1:$20))),\"\")","v":""},{"$f":"IF(ROWS($1:$11)<=COUNTIF(joueurs,$B17),INDEX(victoires,SMALL(IF(joueurs=$B17,ROW(INDIRECT(\"1:\"&ROWS(victoires)))),ROWS($1:$11))),\"\")","v":""},{"$f":"IF(ROWS($1:$12)<=COUNTIF(joueurs,$B17),INDEX(victoires,SMALL(IF(joueurs=$B17,ROW(INDIRECT(\"1:\"&ROWS(victoires)))),ROWS($1:$12))),\"\")","v":""},{"$f":"IF(ROWS($1:$13)<=COUNTIF(joueurs,$B17),INDEX(victoires,SMALL(IF(joueurs=$B17,ROW(INDIRECT(\"1:\"&ROWS(victoires)))),ROWS($1:$13))),\"\")","v":""},{"$f":"IF(ROWS($1:$14)<=COUNTIF(joueurs,$B17),INDEX(victoires,SMALL(IF(joueurs=$B17,ROW(INDIRECT(\"1:\"&ROWS(victoires)))),ROWS($1:$14))),\"\")","v":""},{"$f":"IF(ROWS($1:$15)<=COUNTIF(joueurs,$B17),INDEX(victoires,SMALL(IF(joueurs=$B17,ROW(INDIRECT(\"1:\"&ROWS(victoires)))),ROWS($1:$15))),\"\")","v":""},{"$f":"IF(ROWS($1:$16)<=COUNTIF(joueurs,$B17),INDEX(victoires,SMALL(IF(joueurs=$B17,ROW(INDIRECT(\"1:\"&ROWS(victoires)))),ROWS($1:$16))),\"\")","v":""},{"$f":"IF(ROWS($1:$17)<=COUNTIF(joueurs,$B17),INDEX(victoires,SMALL(IF(joueurs=$B17,ROW(INDIRECT(\"1:\"&ROWS(victoires)))),ROWS($1:$17))),\"\")","v":""},{"$f":"IF(ROWS($1:$18)<=COUNTIF(joueurs,$B17),INDEX(victoires,SMALL(IF(joueurs=$B17,ROW(INDIRECT(\"1:\"&ROWS(victoires)))),ROWS($1:$18))),\"\")","v":""},{"$f":"IF(ROWS($1:$19)<=COUNTIF(joueurs,$B17),INDEX(victoires,SMALL(IF(joueurs=$B17,ROW(INDIRECT(\"1:\"&ROWS(victoires)))),ROWS($1:$19))),\"\")","v":""},{"$f":"IF(ROWS($1:$20)<=COUNTIF(joueurs,$B17),INDEX(victoires,SMALL(IF(joueurs=$B17,ROW(INDIRECT(\"1:\"&ROWS(victoires)))),ROWS($1:$20))),\"\")","v":""}]
[null,null,null,{"$f":"IF(ROWS($1:$21)<=COUNTIF(joueurs,$B17),INDEX(fautes,SMALL(IF(joueurs=$B17,ROW(INDIRECT(\"1:\"&ROWS(fautes)))),ROWS($1:$21))),\"\")","v":""},{"$f":"IF(ROWS($1:$22)<=COUNTIF(joueurs,$B17),INDEX(fautes,SMALL(IF(joueurs=$B17,ROW(INDIRECT(\"1:\"&ROWS(fautes)))),ROWS($1:$22))),\"\")","v":""},{"$f":"IF(ROWS($1:$23)<=COUNTIF(joueurs,$B17),INDEX(fautes,SMALL(IF(joueurs=$B17,ROW(INDIRECT(\"1:\"&ROWS(fautes)))),ROWS($1:$23))),\"\")","v":""},{"$f":"IF(ROWS($1:$24)<=COUNTIF(joueurs,$B17),INDEX(fautes,SMALL(IF(joueurs=$B17,ROW(INDIRECT(\"1:\"&ROWS(fautes)))),ROWS($1:$24))),\"\")","v":""},{"$f":"IF(ROWS($1:$25)<=COUNTIF(joueurs,$B17),INDEX(fautes,SMALL(IF(joueurs=$B17,ROW(INDIRECT(\"1:\"&ROWS(fautes)))),ROWS($1:$25))),\"\")","v":""},{"$f":"IF(ROWS($1:$26)<=COUNTIF(joueurs,$B17),INDEX(fautes,SMALL(IF(joueurs=$B17,ROW(INDIRECT(\"1:\"&ROWS(fautes)))),ROWS($1:$26))),\"\")","v":""},{"$f":"IF(ROWS($1:$27)<=COUNTIF(joueurs,$B17),INDEX(fautes,SMALL(IF(joueurs=$B17,ROW(INDIRECT(\"1:\"&ROWS(fautes)))),ROWS($1:$27))),\"\")","v":""},{"$f":"IF(ROWS($1:$28)<=COUNTIF(joueurs,$B17),INDEX(fautes,SMALL(IF(joueurs=$B17,ROW(INDIRECT(\"1:\"&ROWS(fautes)))),ROWS($1:$28))),\"\")","v":""},{"$f":"IF(ROWS($1:$29)<=COUNTIF(joueurs,$B17),INDEX(fautes,SMALL(IF(joueurs=$B17,ROW(INDIRECT(\"1:\"&ROWS(fautes)))),ROWS($1:$29))),\"\")","v":""},{"$f":"IF(ROWS($1:$30)<=COUNTIF(joueurs,$B17),INDEX(fautes,SMALL(IF(joueurs=$B17,ROW(INDIRECT(\"1:\"&ROWS(fautes)))),ROWS($1:$30))),\"\")","v":""},{"$f":"IF(ROWS($1:$21)<=COUNTIF(joueurs,$B17),INDEX(ballonperdus,SMALL(IF(joueurs=$B17,ROW(INDIRECT(\"1:\"&ROWS(ballonperdus)))),ROWS($1:$21))),\"\")","v":""},{"$f":"IF(ROWS($1:$22)<=COUNTIF(joueurs,$B17),INDEX(ballonperdus,SMALL(IF(joueurs=$B17,ROW(INDIRECT(\"1:\"&ROWS(ballonperdus)))),ROWS($1:$22))),\"\")","v":""},{"$f":"IF(ROWS($1:$23)<=COUNTIF(joueurs,$B17),INDEX(ballonperdus,SMALL(IF(joueurs=$B17,ROW(INDIRECT(\"1:\"&ROWS(ballonperdus)))),ROWS($1:$23))),\"\")","v":""},{"$f":"IF(ROWS($1:$24)<=COUNTIF(joueurs,$B17),INDEX(ballonperdus,SMALL(IF(joueurs=$B17,ROW(INDIRECT(\"1:\"&ROWS(ballonperdus)))),ROWS($1:$24))),\"\")","v":""},{"$f":"IF(ROWS($1:$25)<=COUNTIF(joueurs,$B17),INDEX(ballonperdus,SMALL(IF(joueurs=$B17,ROW(INDIRECT(\"1:\"&ROWS(ballonperdus)))),ROWS($1:$25))),\"\")","v":""},{"$f":"IF(ROWS($1:$26)<=COUNTIF(joueurs,$B17),INDEX(ballonperdus,SMALL(IF(joueurs=$B17,ROW(INDIRECT(\"1:\"&ROWS(ballonperdus)))),ROWS($1:$26))),\"\")","v":""},{"$f":"IF(ROWS($1:$27)<=COUNTIF(joueurs,$B17),INDEX(ballonperdus,SMALL(IF(joueurs=$B17,ROW(INDIRECT(\"1:\"&ROWS(ballonperdus)))),ROWS($1:$27))),\"\")","v":""},{"$f":"IF(ROWS($1:$28)<=COUNTIF(joueurs,$B17),INDEX(ballonperdus,SMALL(IF(joueurs=$B17,ROW(INDIRECT(\"1:\"&ROWS(ballonperdus)))),ROWS($1:$28))),\"\")","v":""},{"$f":"IF(ROWS($1:$29)<=COUNTIF(joueurs,$B17),INDEX(ballonperdus,SMALL(IF(joueurs=$B17,ROW(INDIRECT(\"1:\"&ROWS(ballonperdus)))),ROWS($1:$29))),\"\")","v":""},{"$f":"IF(ROWS($1:$30)<=COUNTIF(joueurs,$B17),INDEX(ballonperdus,SMALL(IF(joueurs=$B17,ROW(INDIRECT(\"1:\"&ROWS(ballonperdus)))),ROWS($1:$30))),\"\")","v":""},{"$f":"IF(ROWS($1:$21)<=COUNTIF(joueurs,$B17),INDEX(interceptions,SMALL(IF(joueurs=$B17,ROW(INDIRECT(\"1:\"&ROWS(interceptions)))),ROWS($1:$21))),\"\")","v":""},{"$f":"IF(ROWS($1:$22)<=COUNTIF(joueurs,$B17),INDEX(interceptions,SMALL(IF(joueurs=$B17,ROW(INDIRECT(\"1:\"&ROWS(interceptions)))),ROWS($1:$22))),\"\")","v":""},{"$f":"IF(ROWS($1:$23)<=COUNTIF(joueurs,$B17),INDEX(interceptions,SMALL(IF(joueurs=$B17,ROW(INDIRECT(\"1:\"&ROWS(interceptions)))),ROWS($1:$23))),\"\")","v":""},{"$f":"IF(ROWS($1:$24)<=COUNTIF(joueurs,$B17),INDEX(interceptions,SMALL(IF(joueurs=$B17,ROW(INDIRECT(\"1:\"&ROWS(interceptions)))),ROWS($1:$24))),\"\")","v":""},{"$f":"IF(ROWS($1:$25)<=COUNTIF(joueurs,$B17),INDEX(interceptions,SMALL(IF(joueurs=$B17,ROW(INDIRECT(\"1:\"&ROWS(interceptions)))),ROWS($1:$25))),\"\")","v":""},{"$f":"IF(ROWS($1:$26)<=COUNTIF(joueurs,$B17),INDEX(interceptions,SMALL(IF(joueurs=$B17,ROW(INDIRECT(\"1:\"&ROWS(interceptions)))),ROWS($1:$26))),\"\")","v":""},{"$f":"IF(ROWS($1:$27)<=COUNTIF(joueurs,$B17),INDEX(interceptions,SMALL(IF(joueurs=$B17,ROW(INDIRECT(\"1:\"&ROWS(interceptions)))),ROWS($1:$27))),\"\")","v":""},{"$f":"IF(ROWS($1:$28)<=COUNTIF(joueurs,$B17),INDEX(interceptions,SMALL(IF(joueurs=$B17,ROW(INDIRECT(\"1:\"&ROWS(interceptions)))),ROWS($1:$28))),\"\")","v":""},{"$f":"IF(ROWS($1:$29)<=COUNTIF(joueurs,$B17),INDEX(interceptions,SMALL(IF(joueurs=$B17,ROW(INDIRECT(\"1:\"&ROWS(interceptions)))),ROWS($1:$29))),\"\")","v":""},{"$f":"IF(ROWS($1:$30)<=COUNTIF(joueurs,$B17),INDEX(interceptions,SMALL(IF(joueurs=$B17,ROW(INDIRECT(\"1:\"&ROWS(interceptions)))),ROWS($1:$30))),\"\")","v":""},{"$f":"IF(ROWS($1:$21)<=COUNTIF(joueurs,$B17),INDEX(ballonrecuperes,SMALL(IF(joueurs=$B17,ROW(INDIRECT(\"1:\"&ROWS(ballonrecuperes)))),ROWS($1:$21))),\"\")","v":""},{"$f":"IF(ROWS($1:$22)<=COUNTIF(joueurs,$B17),INDEX(ballonrecuperes,SMALL(IF(joueurs=$B17,ROW(INDIRECT(\"1:\"&ROWS(ballonrecuperes)))),ROWS($1:$22))),\"\")","v":""},{"$f":"IF(ROWS($1:$23)<=COUNTIF(joueurs,$B17),INDEX(ballonrecuperes,SMALL(IF(joueurs=$B17,ROW(INDIRECT(\"1:\"&ROWS(ballonrecuperes)))),ROWS($1:$23))),\"\")","v":""},{"$f":"IF(ROWS($1:$24)<=COUNTIF(joueurs,$B17),INDEX(ballonrecuperes,SMALL(IF(joueurs=$B17,ROW(INDIRECT(\"1:\"&ROWS(ballonrecuperes)))),ROWS($1:$24))),\"\")","v":""},{"$f":"IF(ROWS($1:$25)<=COUNTIF(joueurs,$B17),INDEX(ballonrecuperes,SMALL(IF(joueurs=$B17,ROW(INDIRECT(\"1:\"&ROWS(ballonrecuperes)))),ROWS($1:$25))),\"\")","v":""},{"$f":"IF(ROWS($1:$26)<=COUNTIF(joueurs,$B17),INDEX(ballonrecuperes,SMALL(IF(joueurs=$B17,ROW(INDIRECT(\"1:\"&ROWS(ballonrecuperes)))),ROWS($1:$26))),\"\")","v":""},{"$f":"IF(ROWS($1:$27)<=COUNTIF(joueurs,$B17),INDEX(ballonrecuperes,SMALL(IF(joueurs=$B17,ROW(INDIRECT(\"1:\"&ROWS(ballonrecuperes)))),ROWS($1:$27))),\"\")","v":""},{"$f":"IF(ROWS($1:$28)<=COUNTIF(joueurs,$B17),INDEX(ballonrecuperes,SMALL(IF(joueurs=$B17,ROW(INDIRECT(\"1:\"&ROWS(ballonrecuperes)))),ROWS($1:$28))),\"\")","v":""},{"$f":"IF(ROWS($1:$29)<=COUNTIF(joueurs,$B17),INDEX(ballonrecuperes,SMALL(IF(joueurs=$B17,ROW(INDIRECT(\"1:\"&ROWS(ballonrecuperes)))),ROWS($1:$29))),\"\")","v":""},{"$f":"IF(ROWS($1:$30)<=COUNTIF(joueurs,$B17),INDEX(ballonrecuperes,SMALL(IF(joueurs=$B17,ROW(INDIRECT(\"1:\"&ROWS(ballonrecuperes)))),ROWS($1:$30))),\"\")","v":""},{"$f":"IF(ROWS($1:$21)<=COUNTIF(joueurs,$B17),INDEX(tirs,SMALL(IF(joueurs=$B17,ROW(INDIRECT(\"1:\"&ROWS(tirs)))),ROWS($1:$21))),\"\")","v":""},{"$f":"IF(ROWS($1:$22)<=COUNTIF(joueurs,$B17),INDEX(tirs,SMALL(IF(joueurs=$B17,ROW(INDIRECT(\"1:\"&ROWS(tirs)))),ROWS($1:$22))),\"\")","v":""},{"$f":"IF(ROWS($1:$23)<=COUNTIF(joueurs,$B17),INDEX(tirs,SMALL(IF(joueurs=$B17,ROW(INDIRECT(\"1:\"&ROWS(tirs)))),ROWS($1:$23))),\"\")","v":""},{"$f":"IF(ROWS($1:$24)<=COUNTIF(joueurs,$B17),INDEX(tirs,SMALL(IF(joueurs=$B17,ROW(INDIRECT(\"1:\"&ROWS(tirs)))),ROWS($1:$24))),\"\")","v":""},{"$f":"IF(ROWS($1:$25)<=COUNTIF(joueurs,$B17),INDEX(tirs,SMALL(IF(joueurs=$B17,ROW(INDIRECT(\"1:\"&ROWS(tirs)))),ROWS($1:$25))),\"\")","v":""},{"$f":"IF(ROWS($1:$26)<=COUNTIF(joueurs,$B17),INDEX(tirs,SMALL(IF(joueurs=$B17,ROW(INDIRECT(\"1:\"&ROWS(tirs)))),ROWS($1:$26))),\"\")","v":""},{"$f":"IF(ROWS($1:$27)<=COUNTIF(joueurs,$B17),INDEX(tirs,SMALL(IF(joueurs=$B17,ROW(INDIRECT(\"1:\"&ROWS(tirs)))),ROWS($1:$27))),\"\")","v":""},{"$f":"IF(ROWS($1:$28)<=COUNTIF(joueurs,$B17),INDEX(tirs,SMALL(IF(joueurs=$B17,ROW(INDIRECT(\"1:\"&ROWS(tirs)))),ROWS($1:$28))),\"\")","v":""},{"$f":"IF(ROWS($1:$29)<=COUNTIF(joueurs,$B17),INDEX(tirs,SMALL(IF(joueurs=$B17,ROW(INDIRECT(\"1:\"&ROWS(tirs)))),ROWS($1:$29))),\"\")","v":""},{"$f":"IF(ROWS($1:$30)<=COUNTIF(joueurs,$B17),INDEX(tirs,SMALL(IF(joueurs=$B17,ROW(INDIRECT(\"1:\"&ROWS(tirs)))),ROWS($1:$30))),\"\")","v":""},{"$f":"IF(ROWS($1:$21)<=COUNTIF(joueurs,$B17),INDEX(bontirs,SMALL(IF(joueurs=$B17,ROW(INDIRECT(\"1:\"&ROWS(bontirs)))),ROWS($1:$21))),\"\")","v":""},{"$f":"IF(ROWS($1:$22)<=COUNTIF(joueurs,$B17),INDEX(bontirs,SMALL(IF(joueurs=$B17,ROW(INDIRECT(\"1:\"&ROWS(bontirs)))),ROWS($1:$22))),\"\")","v":""},{"$f":"IF(ROWS($1:$23)<=COUNTIF(joueurs,$B17),INDEX(bontirs,SMALL(IF(joueurs=$B17,ROW(INDIRECT(\"1:\"&ROWS(bontirs)))),ROWS($1:$23))),\"\")","v":""},{"$f":"IF(ROWS($1:$24)<=COUNTIF(joueurs,$B17),INDEX(bontirs,SMALL(IF(joueurs=$B17,ROW(INDIRECT(\"1:\"&ROWS(bontirs)))),ROWS($1:$24))),\"\")","v":""},{"$f":"IF(ROWS($1:$25)<=COUNTIF(joueurs,$B17),INDEX(bontirs,SMALL(IF(joueurs=$B17,ROW(INDIRECT(\"1:\"&ROWS(bontirs)))),ROWS($1:$25))),\"\")","v":""},{"$f":"IF(ROWS($1:$26)<=COUNTIF(joueurs,$B17),INDEX(bontirs,SMALL(IF(joueurs=$B17,ROW(INDIRECT(\"1:\"&ROWS(bontirs)))),ROWS($1:$26))),\"\")","v":""},{"$f":"IF(ROWS($1:$27)<=COUNTIF(joueurs,$B17),INDEX(bontirs,SMALL(IF(joueurs=$B17,ROW(INDIRECT(\"1:\"&ROWS(bontirs)))),ROWS($1:$27))),\"\")","v":""},{"$f":"IF(ROWS($1:$28)<=COUNTIF(joueurs,$B17),INDEX(bontirs,SMALL(IF(joueurs=$B17,ROW(INDIRECT(\"1:\"&ROWS(bontirs)))),ROWS($1:$28))),\"\")","v":""},{"$f":"IF(ROWS($1:$29)<=COUNTIF(joueurs,$B17),INDEX(bontirs,SMALL(IF(joueurs=$B17,ROW(INDIRECT(\"1:\"&ROWS(bontirs)))),ROWS($1:$29))),\"\")","v":""},{"$f":"IF(ROWS($1:$30)<=COUNTIF(joueurs,$B17),INDEX(bontirs,SMALL(IF(joueurs=$B17,ROW(INDIRECT(\"1:\"&ROWS(bontirs)))),ROWS($1:$30))),\"\")","v":""},{"$f":"IF(ROWS($1:$21)<=COUNTIF(joueurs,$B17),INDEX(points,SMALL(IF(joueurs=$B17,ROW(INDIRECT(\"1:\"&ROWS(points)))),ROWS($1:$21))),\"\")","v":""},{"$f":"IF(ROWS($1:$22)<=COUNTIF(joueurs,$B17),INDEX(points,SMALL(IF(joueurs=$B17,ROW(INDIRECT(\"1:\"&ROWS(points)))),ROWS($1:$22))),\"\")","v":""},{"$f":"IF(ROWS($1:$23)<=COUNTIF(joueurs,$B17),INDEX(points,SMALL(IF(joueurs=$B17,ROW(INDIRECT(\"1:\"&ROWS(points)))),ROWS($1:$23))),\"\")","v":""},{"$f":"IF(ROWS($1:$24)<=COUNTIF(joueurs,$B17),INDEX(points,SMALL(IF(joueurs=$B17,ROW(INDIRECT(\"1:\"&ROWS(points)))),ROWS($1:$24))),\"\")","v":""},{"$f":"IF(ROWS($1:$25)<=COUNTIF(joueurs,$B17),INDEX(points,SMALL(IF(joueurs=$B17,ROW(INDIRECT(\"1:\"&ROWS(points)))),ROWS($1:$25))),\"\")","v":""},{"$f":"IF(ROWS($1:$26)<=COUNTIF(joueurs,$B17),INDEX(points,SMALL(IF(joueurs=$B17,ROW(INDIRECT(\"1:\"&ROWS(points)))),ROWS($1:$26))),\"\")","v":""},{"$f":"IF(ROWS($1:$27)<=COUNTIF(joueurs,$B17),INDEX(points,SMALL(IF(joueurs=$B17,ROW(INDIRECT(\"1:\"&ROWS(points)))),ROWS($1:$27))),\"\")","v":""},{"$f":"IF(ROWS($1:$28)<=COUNTIF(joueurs,$B17),INDEX(points,SMALL(IF(joueurs=$B17,ROW(INDIRECT(\"1:\"&ROWS(points)))),ROWS($1:$28))),\"\")","v":""},{"$f":"IF(ROWS($1:$29)<=COUNTIF(joueurs,$B17),INDEX(points,SMALL(IF(joueurs=$B17,ROW(INDIRECT(\"1:\"&ROWS(points)))),ROWS($1:$29))),\"\")","v":""},{"$f":"IF(ROWS($1:$30)<=COUNTIF(joueurs,$B17),INDEX(points,SMALL(IF(joueurs=$B17,ROW(INDIRECT(\"1:\"&ROWS(points)))),ROWS($1:$30))),\"\")","v":""},{"$f":"IF(ROWS($1:$21)<=COUNTIF(joueurs,$B17),INDEX(victoires,SMALL(IF(joueurs=$B17,ROW(INDIRECT(\"1:\"&ROWS(victoires)))),ROWS($1:$21))),\"\")","v":""},{"$f":"IF(ROWS($1:$22)<=COUNTIF(joueurs,$B17),INDEX(victoires,SMALL(IF(joueurs=$B17,ROW(INDIRECT(\"1:\"&ROWS(victoires)))),ROWS($1:$22))),\"\")","v":""},{"$f":"IF(ROWS($1:$23)<=COUNTIF(joueurs,$B17),INDEX(victoires,SMALL(IF(joueurs=$B17,ROW(INDIRECT(\"1:\"&ROWS(victoires)))),ROWS($1:$23))),\"\")","v":""},{"$f":"IF(ROWS($1:$24)<=COUNTIF(joueurs,$B17),INDEX(victoires,SMALL(IF(joueurs=$B17,ROW(INDIRECT(\"1:\"&ROWS(victoires)))),ROWS($1:$24))),\"\")","v":""},{"$f":"IF(ROWS($1:$25)<=COUNTIF(joueurs,$B17),INDEX(victoires,SMALL(IF(joueurs=$B17,ROW(INDIRECT(\"1:\"&ROWS(victoires)))),ROWS($1:$25))),\"\")","v":""},{"$f":"IF(ROWS($1:$26)<=COUNTIF(joueurs,$B17),INDEX(victoires,SMALL(IF(joueurs=$B17,ROW(INDIRECT(\"1:\"&ROWS(victoires)))),ROWS($1:$26))),\"\")","v":""},{"$f":"IF(ROWS($1:$27)<=COUNTIF(joueurs,$B17),INDEX(victoires,SMALL(IF(joueurs=$B17,ROW(INDIRECT(\"1:\"&ROWS(victoires)))),ROWS($1:$27))),\"\")","v":""},{"$f":"IF(ROWS($1:$28)<=COUNTIF(joueurs,$B17),INDEX(victoires,SMALL(IF(joueurs=$B17,ROW(INDIRECT(\"1:\"&ROWS(victoires)))),ROWS($1:$28))),\"\")","v":""},{"$f":"IF(ROWS($1:$29)<=COUNTIF(joueurs,$B17),INDEX(victoires,SMALL(IF(joueurs=$B17,ROW(INDIRECT(\"1:\"&ROWS(victoires)))),ROWS($1:$29))),\"\")","v":""},{"$f":"IF(ROWS($1:$30)<=COUNTIF(joueurs,$B17),INDEX(victoires,SMALL(IF(joueurs=$B17,ROW(INDIRECT(\"1:\"&ROWS(victoires)))),ROWS($1:$30))),\"\")","v":""}]
[null,null,null,{"$f":"IF(ROWS($1:$31)<=COUNTIF(joueurs,$B17),INDEX(fautes,SMALL(IF(joueurs=$B17,ROW(INDIRECT(\"1:\"&ROWS(fautes)))),ROWS($1:$31))),\"\")","v":""},{"$f":"IF(ROWS($1:$32)<=COUNTIF(joueurs,$B17),INDEX(fautes,SMALL(IF(joueurs=$B17,ROW(INDIRECT(\"1:\"&ROWS(fautes)))),ROWS($1:$32))),\"\")","v":""},{"$f":"IF(ROWS($1:$33)<=COUNTIF(joueurs,$B17),INDEX(fautes,SMALL(IF(joueurs=$B17,ROW(INDIRECT(\"1:\"&ROWS(fautes)))),ROWS($1:$33))),\"\")","v":""},{"$f":"IF(ROWS($1:$34)<=COUNTIF(joueurs,$B17),INDEX(fautes,SMALL(IF(joueurs=$B17,ROW(INDIRECT(\"1:\"&ROWS(fautes)))),ROWS($1:$34))),\"\")","v":""},{"$f":"IF(ROWS($1:$35)<=COUNTIF(joueurs,$B17),INDEX(fautes,SMALL(IF(joueurs=$B17,ROW(INDIRECT(\"1:\"&ROWS(fautes)))),ROWS($1:$35))),\"\")","v":""},{"$f":"IF(ROWS($1:$36)<=COUNTIF(joueurs,$B17),INDEX(fautes,SMALL(IF(joueurs=$B17,ROW(INDIRECT(\"1:\"&ROWS(fautes)))),ROWS($1:$36))),\"\")","v":""},{"$f":"IF(ROWS($1:$37)<=COUNTIF(joueurs,$B17),INDEX(fautes,SMALL(IF(joueurs=$B17,ROW(INDIRECT(\"1:\"&ROWS(fautes)))),ROWS($1:$37))),\"\")","v":""},{"$f":"IF(ROWS($1:$38)<=COUNTIF(joueurs,$B17),INDEX(fautes,SMALL(IF(joueurs=$B17,ROW(INDIRECT(\"1:\"&ROWS(fautes)))),ROWS($1:$38))),\"\")","v":""},{"$f":"IF(ROWS($1:$39)<=COUNTIF(joueurs,$B17),INDEX(fautes,SMALL(IF(joueurs=$B17,ROW(INDIRECT(\"1:\"&ROWS(fautes)))),ROWS($1:$39))),\"\")","v":""},{"$f":"IF(ROWS($1:$40)<=COUNTIF(joueurs,$B17),INDEX(fautes,SMALL(IF(joueurs=$B17,ROW(INDIRECT(\"1:\"&ROWS(fautes)))),ROWS($1:$40))),\"\")","v":""},{"$f":"IF(ROWS($1:$31)<=COUNTIF(joueurs,$B17),INDEX(ballonperdus,SMALL(IF(joueurs=$B17,ROW(INDIRECT(\"1:\"&ROWS(ballonperdus)))),ROWS($1:$31))),\"\")","v":""},{"$f":"IF(ROWS($1:$32)<=COUNTIF(joueurs,$B17),INDEX(ballonperdus,SMALL(IF(joueurs=$B17,ROW(INDIRECT(\"1:\"&ROWS(ballonperdus)))),ROWS($1:$32))),\"\")","v":""},{"$f":"IF(ROWS($1:$33)<=COUNTIF(joueurs,$B17),INDEX(ballonperdus,SMALL(IF(joueurs=$B17,ROW(INDIRECT(\"1:\"&ROWS(ballonperdus)))),ROWS($1:$33))),\"\")","v":""},{"$f":"IF(ROWS($1:$34)<=COUNTIF(joueurs,$B17),INDEX(ballonperdus,SMALL(IF(joueurs=$B17,ROW(INDIRECT(\"1:\"&ROWS(ballonperdus)))),ROWS($1:$34))),\"\")","v":""},{"$f":"IF(ROWS($1:$35)<=COUNTIF(joueurs,$B17),INDEX(ballonperdus,SMALL(IF(joueurs=$B17,ROW(INDIRECT(\"1:\"&ROWS(ballonperdus)))),ROWS($1:$35))),\"\")","v":""},{"$f":"IF(ROWS($1:$36)<=COUNTIF(joueurs,$B17),INDEX(ballonperdus,SMALL(IF(joueurs=$B17,ROW(INDIRECT(\"1:\"&ROWS(ballonperdus)))),ROWS($1:$36))),\"\")","v":""},{"$f":"IF(ROWS($1:$37)<=COUNTIF(joueurs,$B17),INDEX(ballonperdus,SMALL(IF(joueurs=$B17,ROW(INDIRECT(\"1:\"&ROWS(ballonperdus)))),ROWS($1:$37))),\"\")","v":""},{"$f":"IF(ROWS($1:$38)<=COUNTIF(joueurs,$B17),INDEX(ballonperdus,SMALL(IF(joueurs=$B17,ROW(INDIRECT(\"1:\"&ROWS(ballonperdus)))),ROWS($1:$38))),\"\")","v":""},{"$f":"IF(ROWS($1:$39)<=COUNTIF(joueurs,$B17),INDEX(ballonperdus,SMALL(IF(joueurs=$B17,ROW(INDIRECT(\"1:\"&ROWS(ballonperdus)))),ROWS($1:$39))),\"\")","v":""},{"$f":"IF(ROWS($1:$40)<=COUNTIF(joueurs,$B17),INDEX(ballonperdus,SMALL(IF(joueurs=$B17,ROW(INDIRECT(\"1:\"&ROWS(ballonperdus)))),ROWS($1:$40))),\"\")","v":""},{"$f":"IF(ROWS($1:$31)<=COUNTIF(joueurs,$B17),INDEX(interceptions,SMALL(IF(joueurs=$B17,ROW(INDIRECT(\"1:\"&ROWS(interceptions)))),ROWS($1:$31))),\"\")","v":""},{"$f":"IF(ROWS($1:$32)<=COUNTIF(joueurs,$B17),INDEX(interceptions,SMALL(IF(joueurs=$B17,ROW(INDIRECT(\"1:\"&ROWS(interceptions)))),ROWS($1:$32))),\"\")","v":""},{"$f":"IF(ROWS($1:$33)<=COUNTIF(joueurs,$B17),INDEX(interceptions,SMALL(IF(joueurs=$B17,ROW(INDIRECT(\"1:\"&ROWS(interceptions)))),ROWS($1:$33))),\"\")","v":""},{"$f":"IF(ROWS($1:$34)<=COUNTIF(joueurs,$B17),INDEX(interceptions,SMALL(IF(joueurs=$B17,ROW(INDIRECT(\"1:\"&ROWS(interceptions)))),ROWS($1:$34))),\"\")","v":""},{"$f":"IF(ROWS($1:$35)<=COUNTIF(joueurs,$B17),INDEX(interceptions,SMALL(IF(joueurs=$B17,ROW(INDIRECT(\"1:\"&ROWS(interceptions)))),ROWS($1:$35))),\"\")","v":""},{"$f":"IF(ROWS($1:$36)<=COUNTIF(joueurs,$B17),INDEX(interceptions,SMALL(IF(joueurs=$B17,ROW(INDIRECT(\"1:\"&ROWS(interceptions)))),ROWS($1:$36))),\"\")","v":""},{"$f":"IF(ROWS($1:$37)<=COUNTIF(joueurs,$B17),INDEX(interceptions,SMALL(IF(joueurs=$B17,ROW(INDIRECT(\"1:\"&ROWS(interceptions)))),ROWS($1:$37))),\"\")","v":""},{"$f":"IF(ROWS($1:$38)<=COUNTIF(joueurs,$B17),INDEX(interceptions,SMALL(IF(joueurs=$B17,ROW(INDIRECT(\"1:\"&ROWS(interceptions)))),ROWS($1:$38))),\"\")","v":""},{"$f":"IF(ROWS($1:$39)<=COUNTIF(joueurs,$B17),INDEX(interceptions,SMALL(IF(joueurs=$B17,ROW(INDIRECT(\"1:\"&ROWS(interceptions)))),ROWS($1:$39))),\"\")","v":""},{"$f":"IF(ROWS($1:$40)<=COUNTIF(joueurs,$B17),INDEX(interceptions,SMALL(IF(joueurs=$B17,ROW(INDIRECT(\"1:\"&ROWS(interceptions)))),ROWS($1:$40))),\"\")","v":""},{"$f":"IF(ROWS($1:$31)<=COUNTIF(joueurs,$B17),INDEX(ballonrecuperes,SMALL(IF(joueurs=$B17,ROW(INDIRECT(\"1:\"&ROWS(ballonrecuperes)))),ROWS($1:$31))),\"\")","v":""},{"$f":"IF(ROWS($1:$32)<=COUNTIF(joueurs,$B17),INDEX(ballonrecuperes,SMALL(IF(joueurs=$B17,ROW(INDIRECT(\"1:\"&ROWS(ballonrecuperes)))),ROWS($1:$32))),\"\")","v":""},{"$f":"IF(ROWS($1:$33)<=COUNTIF(joueurs,$B17),INDEX(ballonrecuperes,SMALL(IF(joueurs=$B17,ROW(INDIRECT(\"1:\"&ROWS(ballonrecuperes)))),ROWS($1:$33))),\"\")","v":""},{"$f":"IF(ROWS($1:$34)<=COUNTIF(joueurs,$B17),INDEX(ballonrecuperes,SMALL(IF(joueurs=$B17,ROW(INDIRECT(\"1:\"&ROWS(ballonrecuperes)))),ROWS($1:$34))),\"\")","v":""},{"$f":"IF(ROWS($1:$35)<=COUNTIF(joueurs,$B17),INDEX(ballonrecuperes,SMALL(IF(joueurs=$B17,ROW(INDIRECT(\"1:\"&ROWS(ballonrecuperes)))),ROWS($1:$35))),\"\")","v":""},{"$f":"IF(ROWS($1:$36)<=COUNTIF(joueurs,$B17),INDEX(ballonrecuperes,SMALL(IF(joueurs=$B17,ROW(INDIRECT(\"1:\"&ROWS(ballonrecuperes)))),ROWS($1:$36))),\"\")","v":""},{"$f":"IF(ROWS($1:$37)<=COUNTIF(joueurs,$B17),INDEX(ballonrecuperes,SMALL(IF(joueurs=$B17,ROW(INDIRECT(\"1:\"&ROWS(ballonrecuperes)))),ROWS($1:$37))),\"\")","v":""},{"$f":"IF(ROWS($1:$38)<=COUNTIF(joueurs,$B17),INDEX(ballonrecuperes,SMALL(IF(joueurs=$B17,ROW(INDIRECT(\"1:\"&ROWS(ballonrecuperes)))),ROWS($1:$38))),\"\")","v":""},{"$f":"IF(ROWS($1:$39)<=COUNTIF(joueurs,$B17),INDEX(ballonrecuperes,SMALL(IF(joueurs=$B17,ROW(INDIRECT(\"1:\"&ROWS(ballonrecuperes)))),ROWS($1:$39))),\"\")","v":""},{"$f":"IF(ROWS($1:$40)<=COUNTIF(joueurs,$B17),INDEX(ballonrecuperes,SMALL(IF(joueurs=$B17,ROW(INDIRECT(\"1:\"&ROWS(ballonrecuperes)))),ROWS($1:$40))),\"\")","v":""},{"$f":"IF(ROWS($1:$31)<=COUNTIF(joueurs,$B17),INDEX(tirs,SMALL(IF(joueurs=$B17,ROW(INDIRECT(\"1:\"&ROWS(tirs)))),ROWS($1:$31))),\"\")","v":""},{"$f":"IF(ROWS($1:$32)<=COUNTIF(joueurs,$B17),INDEX(tirs,SMALL(IF(joueurs=$B17,ROW(INDIRECT(\"1:\"&ROWS(tirs)))),ROWS($1:$32))),\"\")","v":""},{"$f":"IF(ROWS($1:$33)<=COUNTIF(joueurs,$B17),INDEX(tirs,SMALL(IF(joueurs=$B17,ROW(INDIRECT(\"1:\"&ROWS(tirs)))),ROWS($1:$33))),\"\")","v":""},{"$f":"IF(ROWS($1:$34)<=COUNTIF(joueurs,$B17),INDEX(tirs,SMALL(IF(joueurs=$B17,ROW(INDIRECT(\"1:\"&ROWS(tirs)))),ROWS($1:$34))),\"\")","v":""},{"$f":"IF(ROWS($1:$35)<=COUNTIF(joueurs,$B17),INDEX(tirs,SMALL(IF(joueurs=$B17,ROW(INDIRECT(\"1:\"&ROWS(tirs)))),ROWS($1:$35))),\"\")","v":""},{"$f":"IF(ROWS($1:$36)<=COUNTIF(joueurs,$B17),INDEX(tirs,SMALL(IF(joueurs=$B17,ROW(INDIRECT(\"1:\"&ROWS(tirs)))),ROWS($1:$36))),\"\")","v":""},{"$f":"IF(ROWS($1:$37)<=COUNTIF(joueurs,$B17),INDEX(tirs,SMALL(IF(joueurs=$B17,ROW(INDIRECT(\"1:\"&ROWS(tirs)))),ROWS($1:$37))),\"\")","v":""},{"$f":"IF(ROWS($1:$38)<=COUNTIF(joueurs,$B17),INDEX(tirs,SMALL(IF(joueurs=$B17,ROW(INDIRECT(\"1:\"&ROWS(tirs)))),ROWS($1:$38))),\"\")","v":""},{"$f":"IF(ROWS($1:$39)<=COUNTIF(joueurs,$B17),INDEX(tirs,SMALL(IF(joueurs=$B17,ROW(INDIRECT(\"1:\"&ROWS(tirs)))),ROWS($1:$39))),\"\")","v":""},{"$f":"IF(ROWS($1:$40)<=COUNTIF(joueurs,$B17),INDEX(tirs,SMALL(IF(joueurs=$B17,ROW(INDIRECT(\"1:\"&ROWS(tirs)))),ROWS($1:$40))),\"\")","v":""},{"$f":"IF(ROWS($1:$31)<=COUNTIF(joueurs,$B17),INDEX(bontirs,SMALL(IF(joueurs=$B17,ROW(INDIRECT(\"1:\"&ROWS(bontirs)))),ROWS($1:$31))),\"\")","v":""},{"$f":"IF(ROWS($1:$32)<=COUNTIF(joueurs,$B17),INDEX(bontirs,SMALL(IF(joueurs=$B17,ROW(INDIRECT(\"1:\"&ROWS(bontirs)))),ROWS($1:$32))),\"\")","v":""},{"$f":"IF(ROWS($1:$33)<=COUNTIF(joueurs,$B17),INDEX(bontirs,SMALL(IF(joueurs=$B17,ROW(INDIRECT(\"1:\"&ROWS(bontirs)))),ROWS($1:$33))),\"\")","v":""},{"$f":"IF(ROWS($1:$34)<=COUNTIF(joueurs,$B17),INDEX(bontirs,SMALL(IF(joueurs=$B17,ROW(INDIRECT(\"1:\"&ROWS(bontirs)))),ROWS($1:$34))),\"\")","v":""},{"$f":"IF(ROWS($1:$35)<=COUNTIF(joueurs,$B17),INDEX(bontirs,SMALL(IF(joueurs=$B17,ROW(INDIRECT(\"1:\"&ROWS(bontirs)))),ROWS($1:$35))),\"\")","v":""},{"$f":"IF(ROWS($1:$36)<=COUNTIF(joueurs,$B17),INDEX(bontirs,SMALL(IF(joueurs=$B17,ROW(INDIRECT(\"1:\"&ROWS(bontirs)))),ROWS($1:$36))),\"\")","v":""},{"$f":"IF(ROWS($1:$37)<=COUNTIF(joueurs,$B17),INDEX(bontirs,SMALL(IF(joueurs=$B17,ROW(INDIRECT(\"1:\"&ROWS(bontirs)))),ROWS($1:$37))),\"\")","v":""},{"$f":"IF(ROWS($1:$38)<=COUNTIF(joueurs,$B17),INDEX(bontirs,SMALL(IF(joueurs=$B17,ROW(INDIRECT(\"1:\"&ROWS(bontirs)))),ROWS($1:$38))),\"\")","v":""},{"$f":"IF(ROWS($1:$39)<=COUNTIF(joueurs,$B17),INDEX(bontirs,SMALL(IF(joueurs=$B17,ROW(INDIRECT(\"1:\"&ROWS(bontirs)))),ROWS($1:$39))),\"\")","v":""},{"$f":"IF(ROWS($1:$40)<=COUNTIF(joueurs,$B17),INDEX(bontirs,SMALL(IF(joueurs=$B17,ROW(INDIRECT(\"1:\"&ROWS(bontirs)))),ROWS($1:$40))),\"\")","v":""},{"$f":"IF(ROWS($1:$31)<=COUNTIF(joueurs,$B17),INDEX(points,SMALL(IF(joueurs=$B17,ROW(INDIRECT(\"1:\"&ROWS(points)))),ROWS($1:$31))),\"\")","v":""},{"$f":"IF(ROWS($1:$32)<=COUNTIF(joueurs,$B17),INDEX(points,SMALL(IF(joueurs=$B17,ROW(INDIRECT(\"1:\"&ROWS(points)))),ROWS($1:$32))),\"\")","v":""},{"$f":"IF(ROWS($1:$33)<=COUNTIF(joueurs,$B17),INDEX(points,SMALL(IF(joueurs=$B17,ROW(INDIRECT(\"1:\"&ROWS(points)))),ROWS($1:$33))),\"\")","v":""},{"$f":"IF(ROWS($1:$34)<=COUNTIF(joueurs,$B17),INDEX(points,SMALL(IF(joueurs=$B17,ROW(INDIRECT(\"1:\"&ROWS(points)))),ROWS($1:$34))),\"\")","v":""},{"$f":"IF(ROWS($1:$35)<=COUNTIF(joueurs,$B17),INDEX(points,SMALL(IF(joueurs=$B17,ROW(INDIRECT(\"1:\"&ROWS(points)))),ROWS($1:$35))),\"\")","v":""},{"$f":"IF(ROWS($1:$36)<=COUNTIF(joueurs,$B17),INDEX(points,SMALL(IF(joueurs=$B17,ROW(INDIRECT(\"1:\"&ROWS(points)))),ROWS($1:$36))),\"\")","v":""},{"$f":"IF(ROWS($1:$37)<=COUNTIF(joueurs,$B17),INDEX(points,SMALL(IF(joueurs=$B17,ROW(INDIRECT(\"1:\"&ROWS(points)))),ROWS($1:$37))),\"\")","v":""},{"$f":"IF(ROWS($1:$38)<=COUNTIF(joueurs,$B17),INDEX(points,SMALL(IF(joueurs=$B17,ROW(INDIRECT(\"1:\"&ROWS(points)))),ROWS($1:$38))),\"\")","v":""},{"$f":"IF(ROWS($1:$39)<=COUNTIF(joueurs,$B17),INDEX(points,SMALL(IF(joueurs=$B17,ROW(INDIRECT(\"1:\"&ROWS(points)))),ROWS($1:$39))),\"\")","v":""},{"$f":"IF(ROWS($1:$40)<=COUNTIF(joueurs,$B17),INDEX(points,SMALL(IF(joueurs=$B17,ROW(INDIRECT(\"1:\"&ROWS(points)))),ROWS($1:$40))),\"\")","v":""},{"$f":"IF(ROWS($1:$31)<=COUNTIF(joueurs,$B17),INDEX(victoires,SMALL(IF(joueurs=$B17,ROW(INDIRECT(\"1:\"&ROWS(victoires)))),ROWS($1:$31))),\"\")","v":""},{"$f":"IF(ROWS($1:$32)<=COUNTIF(joueurs,$B17),INDEX(victoires,SMALL(IF(joueurs=$B17,ROW(INDIRECT(\"1:\"&ROWS(victoires)))),ROWS($1:$32))),\"\")","v":""},{"$f":"IF(ROWS($1:$33)<=COUNTIF(joueurs,$B17),INDEX(victoires,SMALL(IF(joueurs=$B17,ROW(INDIRECT(\"1:\"&ROWS(victoires)))),ROWS($1:$33))),\"\")","v":""},{"$f":"IF(ROWS($1:$34)<=COUNTIF(joueurs,$B17),INDEX(victoires,SMALL(IF(joueurs=$B17,ROW(INDIRECT(\"1:\"&ROWS(victoires)))),ROWS($1:$34))),\"\")","v":""},{"$f":"IF(ROWS($1:$35)<=COUNTIF(joueurs,$B17),INDEX(victoires,SMALL(IF(joueurs=$B17,ROW(INDIRECT(\"1:\"&ROWS(victoires)))),ROWS($1:$35))),\"\")","v":""},{"$f":"IF(ROWS($1:$36)<=COUNTIF(joueurs,$B17),INDEX(victoires,SMALL(IF(joueurs=$B17,ROW(INDIRECT(\"1:\"&ROWS(victoires)))),ROWS($1:$36))),\"\")","v":""},{"$f":"IF(ROWS($1:$37)<=COUNTIF(joueurs,$B17),INDEX(victoires,SMALL(IF(joueurs=$B17,ROW(INDIRECT(\"1:\"&ROWS(victoires)))),ROWS($1:$37))),\"\")","v":""},{"$f":"IF(ROWS($1:$38)<=COUNTIF(joueurs,$B17),INDEX(victoires,SMALL(IF(joueurs=$B17,ROW(INDIRECT(\"1:\"&ROWS(victoires)))),ROWS($1:$38))),\"\")","v":""},{"$f":"IF(ROWS($1:$39)<=COUNTIF(joueurs,$B17),INDEX(victoires,SMALL(IF(joueurs=$B17,ROW(INDIRECT(\"1:\"&ROWS(victoires)))),ROWS($1:$39))),\"\")","v":""},{"$f":"IF(ROWS($1:$40)<=COUNTIF(joueurs,$B17),INDEX(victoires,SMALL(IF(joueurs=$B17,ROW(INDIRECT(\"1:\"&ROWS(victoires)))),ROWS($1:$40))),\"\")","v":""}]
[5,{"$f":"INDEX(eleves,MATCH(A21,numero,0),MATCH($B$2,classes,0))","v":"Lebron"},null,{"$f":"IF(ROWS($1:$1)<=COUNTIF(joueurs,$B21),INDEX(fautes,SMALL(IF(joueurs=$B21,ROW(INDIRECT(\"1:\"&ROWS(fautes)))),ROWS($1:$1))),\"\")","v":""},{"$f":"IF(ROWS($1:$2)<=COUNTIF(joueurs,$B21),INDEX(fautes,SMALL(IF(joueurs=$B21,ROW(INDIRECT(\"1:\"&ROWS(fautes)))),ROWS($1:$2))),\"\")","v":""},{"$f":"IF(ROWS($1:$3)<=COUNTIF(joueurs,$B21),INDEX(fautes,SMALL(IF(joueurs=$B21,ROW(INDIRECT(\"1:\"&ROWS(fautes)))),ROWS($1:$3))),\"\")","v":""},{"$f":"IF(ROWS($1:$4)<=COUNTIF(joueurs,$B21),INDEX(fautes,SMALL(IF(joueurs=$B21,ROW(INDIRECT(\"1:\"&ROWS(fautes)))),ROWS($1:$4))),\"\")","v":""},{"$f":"IF(ROWS($1:$5)<=COUNTIF(joueurs,$B21),INDEX(fautes,SMALL(IF(joueurs=$B21,ROW(INDIRECT(\"1:\"&ROWS(fautes)))),ROWS($1:$5))),\"\")","v":""},{"$f":"IF(ROWS($1:$6)<=COUNTIF(joueurs,$B21),INDEX(fautes,SMALL(IF(joueurs=$B21,ROW(INDIRECT(\"1:\"&ROWS(fautes)))),ROWS($1:$6))),\"\")","v":""},{"$f":"IF(ROWS($1:$7)<=COUNTIF(joueurs,$B21),INDEX(fautes,SMALL(IF(joueurs=$B21,ROW(INDIRECT(\"1:\"&ROWS(fautes)))),ROWS($1:$7))),\"\")","v":""},{"$f":"IF(ROWS($1:$8)<=COUNTIF(joueurs,$B21),INDEX(fautes,SMALL(IF(joueurs=$B21,ROW(INDIRECT(\"1:\"&ROWS(fautes)))),ROWS($1:$8))),\"\")","v":""},{"$f":"IF(ROWS($1:$9)<=COUNTIF(joueurs,$B21),INDEX(fautes,SMALL(IF(joueurs=$B21,ROW(INDIRECT(\"1:\"&ROWS(fautes)))),ROWS($1:$9))),\"\")","v":""},{"$f":"IF(ROWS($1:$10)<=COUNTIF(joueurs,$B21),INDEX(fautes,SMALL(IF(joueurs=$B21,ROW(INDIRECT(\"1:\"&ROWS(fautes)))),ROWS($1:$10))),\"\")","v":""},{"$f":"IF(ROWS($1:$1)<=COUNTIF(joueurs,$B21),INDEX(ballonperdus,SMALL(IF(joueurs=$B21,ROW(INDIRECT(\"1:\"&ROWS(ballonperdus)))),ROWS($1:$1))),\"\")","v":""},{"$f":"IF(ROWS($1:$2)<=COUNTIF(joueurs,$B21),INDEX(ballonperdus,SMALL(IF(joueurs=$B21,ROW(INDIRECT(\"1:\"&ROWS(ballonperdus)))),ROWS($1:$2))),\"\")","v":""},{"$f":"IF(ROWS($1:$3)<=COUNTIF(joueurs,$B21),INDEX(ballonperdus,SMALL(IF(joueurs=$B21,ROW(INDIRECT(\"1:\"&ROWS(ballonperdus)))),ROWS($1:$3))),\"\")","v":""},{"$f":"IF(ROWS($1:$4)<=COUNTIF(joueurs,$B21),INDEX(ballonperdus,SMALL(IF(joueurs=$B21,ROW(INDIRECT(\"1:\"&ROWS(ballonperdus)))),ROWS($1:$4))),\"\")","v":""},{"$f":"IF(ROWS($1:$5)<=COUNTIF(joueurs,$B21),INDEX(ballonperdus,SMALL(IF(joueurs=$B21,ROW(INDIRECT(\"1:\"&ROWS(ballonperdus)))),ROWS($1:$5))),\"\")","v":""},{"$f":"IF(ROWS($1:$6)<=COUNTIF(joueurs,$B21),INDEX(ballonperdus,SMALL(IF(joueurs=$B21,ROW(INDIRECT(\"1:\"&ROWS(ballonperdus)))),ROWS($1:$6))),\"\")","v":""},{"$f":"IF(ROWS($1:$7)<=COUNTIF(joueurs,$B21),INDEX(ballonperdus,SMALL(IF(joueurs=$B21,ROW(INDIRECT(\"1:\"&ROWS(ballonperdus)))),ROWS($1:$7))),\"\")","v":""},{"$f":"IF(ROWS($1:$8)<=COUNTIF(joueurs,$B21),INDEX(ballonperdus,SMALL(IF(joueurs=$B21,ROW(INDIRECT(\"1:\"&ROWS(ballonperdus)))),ROWS($1:$8))),\"\")","v":""},{"$f":"IF(ROWS($1:$9)<=COUNTIF(joueurs,$B21),INDEX(ballonperdus,SMALL(IF(joueurs=$B21,ROW(INDIRECT(\"1:\"&ROWS(ballonperdus)))),ROWS($1:$9))),\"\")","v":""},{"$f":"IF(ROWS($1:$10)<=COUNTIF(joueurs,$B21),INDEX(ballonperdus,SMALL(IF(joueurs=$B21,ROW(INDIRECT(\"1:\"&ROWS(ballonperdus)))),ROWS($1:$10))),\"\")","v":""},{"$f":"IF(ROWS($1:$1)<=COUNTIF(joueurs,$B21),INDEX(interceptions,SMALL(IF(joueurs=$B21,ROW(INDIRECT(\"1:\"&ROWS(interceptions)))),ROWS($1:$1))),\"\")","v":""},{"$f":"IF(ROWS($1:$2)<=COUNTIF(joueurs,$B21),INDEX(interceptions,SMALL(IF(joueurs=$B21,ROW(INDIRECT(\"1:\"&ROWS(interceptions)))),ROWS($1:$2))),\"\")","v":""},{"$f":"IF(ROWS($1:$3)<=COUNTIF(joueurs,$B21),INDEX(interceptions,SMALL(IF(joueurs=$B21,ROW(INDIRECT(\"1:\"&ROWS(interceptions)))),ROWS($1:$3))),\"\")","v":""},{"$f":"IF(ROWS($1:$4)<=COUNTIF(joueurs,$B21),INDEX(interceptions,SMALL(IF(joueurs=$B21,ROW(INDIRECT(\"1:\"&ROWS(interceptions)))),ROWS($1:$4))),\"\")","v":""},{"$f":"IF(ROWS($1:$5)<=COUNTIF(joueurs,$B21),INDEX(interceptions,SMALL(IF(joueurs=$B21,ROW(INDIRECT(\"1:\"&ROWS(interceptions)))),ROWS($1:$5))),\"\")","v":""},{"$f":"IF(ROWS($1:$6)<=COUNTIF(joueurs,$B21),INDEX(interceptions,SMALL(IF(joueurs=$B21,ROW(INDIRECT(\"1:\"&ROWS(interceptions)))),ROWS($1:$6))),\"\")","v":""},{"$f":"IF(ROWS($1:$7)<=COUNTIF(joueurs,$B21),INDEX(interceptions,SMALL(IF(joueurs=$B21,ROW(INDIRECT(\"1:\"&ROWS(interceptions)))),ROWS($1:$7))),\"\")","v":""},{"$f":"IF(ROWS($1:$8)<=COUNTIF(joueurs,$B21),INDEX(interceptions,SMALL(IF(joueurs=$B21,ROW(INDIRECT(\"1:\"&ROWS(interceptions)))),ROWS($1:$8))),\"\")","v":""},{"$f":"IF(ROWS($1:$9)<=COUNTIF(joueurs,$B21),INDEX(interceptions,SMALL(IF(joueurs=$B21,ROW(INDIRECT(\"1:\"&ROWS(interceptions)))),ROWS($1:$9))),\"\")","v":""},{"$f":"IF(ROWS($1:$10)<=COUNTIF(joueurs,$B21),INDEX(interceptions,SMALL(IF(joueurs=$B21,ROW(INDIRECT(\"1:\"&ROWS(interceptions)))),ROWS($1:$10))),\"\")","v":""},{"$f":"IF(ROWS($1:$1)<=COUNTIF(joueurs,$B21),INDEX(ballonrecuperes,SMALL(IF(joueurs=$B21,ROW(INDIRECT(\"1:\"&ROWS(ballonrecuperes)))),ROWS($1:$1))),\"\")","v":""},{"$f":"IF(ROWS($1:$2)<=COUNTIF(joueurs,$B21),INDEX(ballonrecuperes,SMALL(IF(joueurs=$B21,ROW(INDIRECT(\"1:\"&ROWS(ballonrecuperes)))),ROWS($1:$2))),\"\")","v":""},{"$f":"IF(ROWS($1:$3)<=COUNTIF(joueurs,$B21),INDEX(ballonrecuperes,SMALL(IF(joueurs=$B21,ROW(INDIRECT(\"1:\"&ROWS(ballonrecuperes)))),ROWS($1:$3))),\"\")","v":""},{"$f":"IF(ROWS($1:$4)<=COUNTIF(joueurs,$B21),INDEX(ballonrecuperes,SMALL(IF(joueurs=$B21,ROW(INDIRECT(\"1:\"&ROWS(ballonrecuperes)))),ROWS($1:$4))),\"\")","v":""},{"$f":"IF(ROWS($1:$5)<=COUNTIF(joueurs,$B21),INDEX(ballonrecuperes,SMALL(IF(joueurs=$B21,ROW(INDIRECT(\"1:\"&ROWS(ballonrecuperes)))),ROWS($1:$5))),\"\")","v":""},{"$f":"IF(ROWS($1:$6)<=COUNTIF(joueurs,$B21),INDEX(ballonrecuperes,SMALL(IF(joueurs=$B21,ROW(INDIRECT(\"1:\"&ROWS(ballonrecuperes)))),ROWS($1:$6))),\"\")","v":""},{"$f":"IF(ROWS($1:$7)<=COUNTIF(joueurs,$B21),INDEX(ballonrecuperes,SMALL(IF(joueurs=$B21,ROW(INDIRECT(\"1:\"&ROWS(ballonrecuperes)))),ROWS($1:$7))),\"\")","v":""},{"$f":"IF(ROWS($1:$8)<=COUNTIF(joueurs,$B21),INDEX(ballonrecuperes,SMALL(IF(joueurs=$B21,ROW(INDIRECT(\"1:\"&ROWS(ballonrecuperes)))),ROWS($1:$8))),\"\")","v":""},{"$f":"IF(ROWS($1:$9)<=COUNTIF(joueurs,$B21),INDEX(ballonrecuperes,SMALL(IF(joueurs=$B21,ROW(INDIRECT(\"1:\"&ROWS(ballonrecuperes)))),ROWS($1:$9))),\"\")","v":""},{"$f":"IF(ROWS($1:$10)<=COUNTIF(joueurs,$B21),INDEX(ballonrecuperes,SMALL(IF(joueurs=$B21,ROW(INDIRECT(\"1:\"&ROWS(ballonrecuperes)))),ROWS($1:$10))),\"\")","v":""},{"$f":"IF(ROWS($1:$1)<=COUNTIF(joueurs,$B21),INDEX(tirs,SMALL(IF(joueurs=$B21,ROW(INDIRECT(\"1:\"&ROWS(tirs)))),ROWS($1:$1))),\"\")","v":""},{"$f":"IF(ROWS($1:$2)<=COUNTIF(joueurs,$B21),INDEX(tirs,SMALL(IF(joueurs=$B21,ROW(INDIRECT(\"1:\"&ROWS(tirs)))),ROWS($1:$2))),\"\")","v":""},{"$f":"IF(ROWS($1:$3)<=COUNTIF(joueurs,$B21),INDEX(tirs,SMALL(IF(joueurs=$B21,ROW(INDIRECT(\"1:\"&ROWS(tirs)))),ROWS($1:$3))),\"\")","v":""},{"$f":"IF(ROWS($1:$4)<=COUNTIF(joueurs,$B21),INDEX(tirs,SMALL(IF(joueurs=$B21,ROW(INDIRECT(\"1:\"&ROWS(tirs)))),ROWS($1:$4))),\"\")","v":""},{"$f":"IF(ROWS($1:$5)<=COUNTIF(joueurs,$B21),INDEX(tirs,SMALL(IF(joueurs=$B21,ROW(INDIRECT(\"1:\"&ROWS(tirs)))),ROWS($1:$5))),\"\")","v":""},{"$f":"IF(ROWS($1:$6)<=COUNTIF(joueurs,$B21),INDEX(tirs,SMALL(IF(joueurs=$B21,ROW(INDIRECT(\"1:\"&ROWS(tirs)))),ROWS($1:$6))),\"\")","v":""},{"$f":"IF(ROWS($1:$7)<=COUNTIF(joueurs,$B21),INDEX(tirs,SMALL(IF(joueurs=$B21,ROW(INDIRECT(\"1:\"&ROWS(tirs)))),ROWS($1:$7))),\"\")","v":""},{"$f":"IF(ROWS($1:$8)<=COUNTIF(joueurs,$B21),INDEX(tirs,SMALL(IF(joueurs=$B21,ROW(INDIRECT(\"1:\"&ROWS(tirs)))),ROWS($1:$8))),\"\")","v":""},{"$f":"IF(ROWS($1:$9)<=COUNTIF(joueurs,$B21),INDEX(tirs,SMALL(IF(joueurs=$B21,ROW(INDIRECT(\"1:\"&ROWS(tirs)))),ROWS($1:$9))),\"\")","v":""},{"$f":"IF(ROWS($1:$10)<=COUNTIF(joueurs,$B21),INDEX(tirs,SMALL(IF(joueurs=$B21,ROW(INDIRECT(\"1:\"&ROWS(tirs)))),ROWS($1:$10))),\"\")","v":""},{"$f":"IF(ROWS($1:$1)<=COUNTIF(joueurs,$B21),INDEX(bontirs,SMALL(IF(joueurs=$B21,ROW(INDIRECT(\"1:\"&ROWS(bontirs)))),ROWS($1:$1))),\"\")","v":""},{"$f":"IF(ROWS($1:$2)<=COUNTIF(joueurs,$B21),INDEX(bontirs,SMALL(IF(joueurs=$B21,ROW(INDIRECT(\"1:\"&ROWS(bontirs)))),ROWS($1:$2))),\"\")","v":""},{"$f":"IF(ROWS($1:$3)<=COUNTIF(joueurs,$B21),INDEX(bontirs,SMALL(IF(joueurs=$B21,ROW(INDIRECT(\"1:\"&ROWS(bontirs)))),ROWS($1:$3))),\"\")","v":""},{"$f":"IF(ROWS($1:$4)<=COUNTIF(joueurs,$B21),INDEX(bontirs,SMALL(IF(joueurs=$B21,ROW(INDIRECT(\"1:\"&ROWS(bontirs)))),ROWS($1:$4))),\"\")","v":""},{"$f":"IF(ROWS($1:$5)<=COUNTIF(joueurs,$B21),INDEX(bontirs,SMALL(IF(joueurs=$B21,ROW(INDIRECT(\"1:\"&ROWS(bontirs)))),ROWS($1:$5))),\"\")","v":""},{"$f":"IF(ROWS($1:$6)<=COUNTIF(joueurs,$B21),INDEX(bontirs,SMALL(IF(joueurs=$B21,ROW(INDIRECT(\"1:\"&ROWS(bontirs)))),ROWS($1:$6))),\"\")","v":""},{"$f":"IF(ROWS($1:$7)<=COUNTIF(joueurs,$B21),INDEX(bontirs,SMALL(IF(joueurs=$B21,ROW(INDIRECT(\"1:\"&ROWS(bontirs)))),ROWS($1:$7))),\"\")","v":""},{"$f":"IF(ROWS($1:$8)<=COUNTIF(joueurs,$B21),INDEX(bontirs,SMALL(IF(joueurs=$B21,ROW(INDIRECT(\"1:\"&ROWS(bontirs)))),ROWS($1:$8))),\"\")","v":""},{"$f":"IF(ROWS($1:$9)<=COUNTIF(joueurs,$B21),INDEX(bontirs,SMALL(IF(joueurs=$B21,ROW(INDIRECT(\"1:\"&ROWS(bontirs)))),ROWS($1:$9))),\"\")","v":""},{"$f":"IF(ROWS($1:$10)<=COUNTIF(joueurs,$B21),INDEX(bontirs,SMALL(IF(joueurs=$B21,ROW(INDIRECT(\"1:\"&ROWS(bontirs)))),ROWS($1:$10))),\"\")","v":""},{"$f":"IF(ROWS($1:$1)<=COUNTIF(joueurs,$B21),INDEX(points,SMALL(IF(joueurs=$B21,ROW(INDIRECT(\"1:\"&ROWS(points)))),ROWS($1:$1))),\"\")","v":""},{"$f":"IF(ROWS($1:$2)<=COUNTIF(joueurs,$B21),INDEX(points,SMALL(IF(joueurs=$B21,ROW(INDIRECT(\"1:\"&ROWS(points)))),ROWS($1:$2))),\"\")","v":""},{"$f":"IF(ROWS($1:$3)<=COUNTIF(joueurs,$B21),INDEX(points,SMALL(IF(joueurs=$B21,ROW(INDIRECT(\"1:\"&ROWS(points)))),ROWS($1:$3))),\"\")","v":""},{"$f":"IF(ROWS($1:$4)<=COUNTIF(joueurs,$B21),INDEX(points,SMALL(IF(joueurs=$B21,ROW(INDIRECT(\"1:\"&ROWS(points)))),ROWS($1:$4))),\"\")","v":""},{"$f":"IF(ROWS($1:$5)<=COUNTIF(joueurs,$B21),INDEX(points,SMALL(IF(joueurs=$B21,ROW(INDIRECT(\"1:\"&ROWS(points)))),ROWS($1:$5))),\"\")","v":""},{"$f":"IF(ROWS($1:$6)<=COUNTIF(joueurs,$B21),INDEX(points,SMALL(IF(joueurs=$B21,ROW(INDIRECT(\"1:\"&ROWS(points)))),ROWS($1:$6))),\"\")","v":""},{"$f":"IF(ROWS($1:$7)<=COUNTIF(joueurs,$B21),INDEX(points,SMALL(IF(joueurs=$B21,ROW(INDIRECT(\"1:\"&ROWS(points)))),ROWS($1:$7))),\"\")","v":""},{"$f":"IF(ROWS($1:$8)<=COUNTIF(joueurs,$B21),INDEX(points,SMALL(IF(joueurs=$B21,ROW(INDIRECT(\"1:\"&ROWS(points)))),ROWS($1:$8))),\"\")","v":""},{"$f":"IF(ROWS($1:$9)<=COUNTIF(joueurs,$B21),INDEX(points,SMALL(IF(joueurs=$B21,ROW(INDIRECT(\"1:\"&ROWS(points)))),ROWS($1:$9))),\"\")","v":""},{"$f":"IF(ROWS($1:$10)<=COUNTIF(joueurs,$B21),INDEX(points,SMALL(IF(joueurs=$B21,ROW(INDIRECT(\"1:\"&ROWS(points)))),ROWS($1:$10))),\"\")","v":""},{"$f":"IF(ROWS($1:$1)<=COUNTIF(joueurs,$B21),INDEX(victoires,SMALL(IF(joueurs=$B21,ROW(INDIRECT(\"1:\"&ROWS(victoires)))),ROWS($1:$1))),\"\")","v":""},{"$f":"IF(ROWS($1:$2)<=COUNTIF(joueurs,$B21),INDEX(victoires,SMALL(IF(joueurs=$B21,ROW(INDIRECT(\"1:\"&ROWS(victoires)))),ROWS($1:$2))),\"\")","v":""},{"$f":"IF(ROWS($1:$3)<=COUNTIF(joueurs,$B21),INDEX(victoires,SMALL(IF(joueurs=$B21,ROW(INDIRECT(\"1:\"&ROWS(victoires)))),ROWS($1:$3))),\"\")","v":""},{"$f":"IF(ROWS($1:$4)<=COUNTIF(joueurs,$B21),INDEX(victoires,SMALL(IF(joueurs=$B21,ROW(INDIRECT(\"1:\"&ROWS(victoires)))),ROWS($1:$4))),\"\")","v":""},{"$f":"IF(ROWS($1:$5)<=COUNTIF(joueurs,$B21),INDEX(victoires,SMALL(IF(joueurs=$B21,ROW(INDIRECT(\"1:\"&ROWS(victoires)))),ROWS($1:$5))),\"\")","v":""},{"$f":"IF(ROWS($1:$6)<=COUNTIF(joueurs,$B21),INDEX(victoires,SMALL(IF(joueurs=$B21,ROW(INDIRECT(\"1:\"&ROWS(victoires)))),ROWS($1:$6))),\"\")","v":""},{"$f":"IF(ROWS($1:$7)<=COUNTIF(joueurs,$B21),INDEX(victoires,SMALL(IF(joueurs=$B21,ROW(INDIRECT(\"1:\"&ROWS(victoires)))),ROWS($1:$7))),\"\")","v":""},{"$f":"IF(ROWS($1:$8)<=COUNTIF(joueurs,$B21),INDEX(victoires,SMALL(IF(joueurs=$B21,ROW(INDIRECT(\"1:\"&ROWS(victoires)))),ROWS($1:$8))),\"\")","v":""},{"$f":"IF(ROWS($1:$9)<=COUNTIF(joueurs,$B21),INDEX(victoires,SMALL(IF(joueurs=$B21,ROW(INDIRECT(\"1:\"&ROWS(victoires)))),ROWS($1:$9))),\"\")","v":""},{"$f":"IF(ROWS($1:$10)<=COUNTIF(joueurs,$B21),INDEX(victoires,SMALL(IF(joueurs=$B21,ROW(INDIRECT(\"1:\"&ROWS(victoires)))),ROWS($1:$10))),\"\")","v":""}]
[null,null,null,{"$f":"IF(ROWS($1:$11)<=COUNTIF(joueurs,$B21),INDEX(fautes,SMALL(IF(joueurs=$B21,ROW(INDIRECT(\"1:\"&ROWS(fautes)))),ROWS($1:$11))),\"\")","v":""},{"$f":"IF(ROWS($1:$12)<=COUNTIF(joueurs,$B21),INDEX(fautes,SMALL(IF(joueurs=$B21,ROW(INDIRECT(\"1:\"&ROWS(fautes)))),ROWS($1:$12))),\"\")","v":""},{"$f":"IF(ROWS($1:$13)<=COUNTIF(joueurs,$B21),INDEX(fautes,SMALL(IF(joueurs=$B21,ROW(INDIRECT(\"1:\"&ROWS(fautes)))),ROWS($1:$13))),\"\")","v":""},{"$f":"IF(ROWS($1:$14)<=COUNTIF(joueurs,$B21),INDEX(fautes,SMALL(IF(joueurs=$B21,ROW(INDIRECT(\"1:\"&ROWS(fautes)))),ROWS($1:$14))),\"\")","v":""},{"$f":"IF(ROWS($1:$15)<=COUNTIF(joueurs,$B21),INDEX(fautes,SMALL(IF(joueurs=$B21,ROW(INDIRECT(\"1:\"&ROWS(fautes)))),ROWS($1:$15))),\"\")","v":""},{"$f":"IF(ROWS($1:$16)<=COUNTIF(joueurs,$B21),INDEX(fautes,SMALL(IF(joueurs=$B21,ROW(INDIRECT(\"1:\"&ROWS(fautes)))),ROWS($1:$16))),\"\")","v":""},{"$f":"IF(ROWS($1:$17)<=COUNTIF(joueurs,$B21),INDEX(fautes,SMALL(IF(joueurs=$B21,ROW(INDIRECT(\"1:\"&ROWS(fautes)))),ROWS($1:$17))),\"\")","v":""},{"$f":"IF(ROWS($1:$18)<=COUNTIF(joueurs,$B21),INDEX(fautes,SMALL(IF(joueurs=$B21,ROW(INDIRECT(\"1:\"&ROWS(fautes)))),ROWS($1:$18))),\"\")","v":""},{"$f":"IF(ROWS($1:$19)<=COUNTIF(joueurs,$B21),INDEX(fautes,SMALL(IF(joueurs=$B21,ROW(INDIRECT(\"1:\"&ROWS(fautes)))),ROWS($1:$19))),\"\")","v":""},{"$f":"IF(ROWS($1:$20)<=COUNTIF(joueurs,$B21),INDEX(fautes,SMALL(IF(joueurs=$B21,ROW(INDIRECT(\"1:\"&ROWS(fautes)))),ROWS($1:$20))),\"\")","v":""},{"$f":"IF(ROWS($1:$11)<=COUNTIF(joueurs,$B21),INDEX(ballonperdus,SMALL(IF(joueurs=$B21,ROW(INDIRECT(\"1:\"&ROWS(ballonperdus)))),ROWS($1:$11))),\"\")","v":""},{"$f":"IF(ROWS($1:$12)<=COUNTIF(joueurs,$B21),INDEX(ballonperdus,SMALL(IF(joueurs=$B21,ROW(INDIRECT(\"1:\"&ROWS(ballonperdus)))),ROWS($1:$12))),\"\")","v":""},{"$f":"IF(ROWS($1:$13)<=COUNTIF(joueurs,$B21),INDEX(ballonperdus,SMALL(IF(joueurs=$B21,ROW(INDIRECT(\"1:\"&ROWS(ballonperdus)))),ROWS($1:$13))),\"\")","v":""},{"$f":"IF(ROWS($1:$14)<=COUNTIF(joueurs,$B21),INDEX(ballonperdus,SMALL(IF(joueurs=$B21,ROW(INDIRECT(\"1:\"&ROWS(ballonperdus)))),ROWS($1:$14))),\"\")","v":""},{"$f":"IF(ROWS($1:$15)<=COUNTIF(joueurs,$B21),INDEX(ballonperdus,SMALL(IF(joueurs=$B21,ROW(INDIRECT(\"1:\"&ROWS(ballonperdus)))),ROWS($1:$15))),\"\")","v":""},{"$f":"IF(ROWS($1:$16)<=COUNTIF(joueurs,$B21),INDEX(ballonperdus,SMALL(IF(joueurs=$B21,ROW(INDIRECT(\"1:\"&ROWS(ballonperdus)))),ROWS($1:$16))),\"\")","v":""},{"$f":"IF(ROWS($1:$17)<=COUNTIF(joueurs,$B21),INDEX(ballonperdus,SMALL(IF(joueurs=$B21,ROW(INDIRECT(\"1:\"&ROWS(ballonperdus)))),ROWS($1:$17))),\"\")","v":""},{"$f":"IF(ROWS($1:$18)<=COUNTIF(joueurs,$B21),INDEX(ballonperdus,SMALL(IF(joueurs=$B21,ROW(INDIRECT(\"1:\"&ROWS(ballonperdus)))),ROWS($1:$18))),\"\")","v":""},{"$f":"IF(ROWS($1:$19)<=COUNTIF(joueurs,$B21),INDEX(ballonperdus,SMALL(IF(joueurs=$B21,ROW(INDIRECT(\"1:\"&ROWS(ballonperdus)))),ROWS($1:$19))),\"\")","v":""},{"$f":"IF(ROWS($1:$20)<=COUNTIF(joueurs,$B21),INDEX(fautes,SMALL(IF(joueurs=$B21,ROW(INDIRECT(\"1:\"&ROWS(ballonperdus)))),ROWS($1:$20))),\"\")","v":""},{"$f":"IF(ROWS($1:$11)<=COUNTIF(joueurs,$B21),INDEX(interceptions,SMALL(IF(joueurs=$B21,ROW(INDIRECT(\"1:\"&ROWS(interceptions)))),ROWS($1:$11))),\"\")","v":""},{"$f":"IF(ROWS($1:$12)<=COUNTIF(joueurs,$B21),INDEX(interceptions,SMALL(IF(joueurs=$B21,ROW(INDIRECT(\"1:\"&ROWS(interceptions)))),ROWS($1:$12))),\"\")","v":""},{"$f":"IF(ROWS($1:$13)<=COUNTIF(joueurs,$B21),INDEX(interceptions,SMALL(IF(joueurs=$B21,ROW(INDIRECT(\"1:\"&ROWS(interceptions)))),ROWS($1:$13))),\"\")","v":""},{"$f":"IF(ROWS($1:$14)<=COUNTIF(joueurs,$B21),INDEX(interceptions,SMALL(IF(joueurs=$B21,ROW(INDIRECT(\"1:\"&ROWS(interceptions)))),ROWS($1:$14))),\"\")","v":""},{"$f":"IF(ROWS($1:$15)<=COUNTIF(joueurs,$B21),INDEX(interceptions,SMALL(IF(joueurs=$B21,ROW(INDIRECT(\"1:\"&ROWS(interceptions)))),ROWS($1:$15))),\"\")","v":""},{"$f":"IF(ROWS($1:$16)<=COUNTIF(joueurs,$B21),INDEX(interceptions,SMALL(IF(joueurs=$B21,ROW(INDIRECT(\"1:\"&ROWS(interceptions)))),ROWS($1:$16))),\"\")","v":""},{"$f":"IF(ROWS($1:$17)<=COUNTIF(joueurs,$B21),INDEX(interceptions,SMALL(IF(joueurs=$B21,ROW(INDIRECT(\"1:\"&ROWS(interceptions)))),ROWS($1:$17))),\"\")","v":""},{"$f":"IF(ROWS($1:$18)<=COUNTIF(joueurs,$B21),INDEX(interceptions,SMALL(IF(joueurs=$B21,ROW(INDIRECT(\"1:\"&ROWS(interceptions)))),ROWS($1:$18))),\"\")","v":""},{"$f":"IF(ROWS($1:$19)<=COUNTIF(joueurs,$B21),INDEX(interceptions,SMALL(IF(joueurs=$B21,ROW(INDIRECT(\"1:\"&ROWS(interceptions)))),ROWS($1:$19))),\"\")","v":""},{"$f":"IF(ROWS($1:$20)<=COUNTIF(joueurs,$B21),INDEX(interceptions,SMALL(IF(joueurs=$B21,ROW(INDIRECT(\"1:\"&ROWS(interceptions)))),ROWS($1:$20))),\"\")","v":""},{"$f":"IF(ROWS($1:$11)<=COUNTIF(joueurs,$B21),INDEX(ballonrecuperes,SMALL(IF(joueurs=$B21,ROW(INDIRECT(\"1:\"&ROWS(ballonrecuperes)))),ROWS($1:$11))),\"\")","v":""},{"$f":"IF(ROWS($1:$12)<=COUNTIF(joueurs,$B21),INDEX(ballonrecuperes,SMALL(IF(joueurs=$B21,ROW(INDIRECT(\"1:\"&ROWS(ballonrecuperes)))),ROWS($1:$12))),\"\")","v":""},{"$f":"IF(ROWS($1:$13)<=COUNTIF(joueurs,$B21),INDEX(ballonrecuperes,SMALL(IF(joueurs=$B21,ROW(INDIRECT(\"1:\"&ROWS(ballonrecuperes)))),ROWS($1:$13))),\"\")","v":""},{"$f":"IF(ROWS($1:$14)<=COUNTIF(joueurs,$B21),INDEX(ballonrecuperes,SMALL(IF(joueurs=$B21,ROW(INDIRECT(\"1:\"&ROWS(ballonrecuperes)))),ROWS($1:$14))),\"\")","v":""},{"$f":"IF(ROWS($1:$15)<=COUNTIF(joueurs,$B21),INDEX(ballonrecuperes,SMALL(IF(joueurs=$B21,ROW(INDIRECT(\"1:\"&ROWS(ballonrecuperes)))),ROWS($1:$15))),\"\")","v":""},{"$f":"IF(ROWS($1:$16)<=COUNTIF(joueurs,$B21),INDEX(ballonrecuperes,SMALL(IF(joueurs=$B21,ROW(INDIRECT(\"1:\"&ROWS(ballonrecuperes)))),ROWS($1:$16))),\"\")","v":""},{"$f":"IF(ROWS($1:$17)<=COUNTIF(joueurs,$B21),INDEX(ballonrecuperes,SMALL(IF(joueurs=$B21,ROW(INDIRECT(\"1:\"&ROWS(ballonrecuperes)))),ROWS($1:$17))),\"\")","v":""},{"$f":"IF(ROWS($1:$18)<=COUNTIF(joueurs,$B21),INDEX(ballonrecuperes,SMALL(IF(joueurs=$B21,ROW(INDIRECT(\"1:\"&ROWS(ballonrecuperes)))),ROWS($1:$18))),\"\")","v":""},{"$f":"IF(ROWS($1:$19)<=COUNTIF(joueurs,$B21),INDEX(ballonrecuperes,SMALL(IF(joueurs=$B21,ROW(INDIRECT(\"1:\"&ROWS(ballonrecuperes)))),ROWS($1:$19))),\"\")","v":""},{"$f":"IF(ROWS($1:$20)<=COUNTIF(joueurs,$B21),INDEX(ballonrecuperes,SMALL(IF(joueurs=$B21,ROW(INDIRECT(\"1:\"&ROWS(ballonrecuperes)))),ROWS($1:$20))),\"\")","v":""},{"$f":"IF(ROWS($1:$11)<=COUNTIF(joueurs,$B21),INDEX(tirs,SMALL(IF(joueurs=$B21,ROW(INDIRECT(\"1:\"&ROWS(tirs)))),ROWS($1:$11))),\"\")","v":""},{"$f":"IF(ROWS($1:$12)<=COUNTIF(joueurs,$B21),INDEX(tirs,SMALL(IF(joueurs=$B21,ROW(INDIRECT(\"1:\"&ROWS(tirs)))),ROWS($1:$12))),\"\")","v":""},{"$f":"IF(ROWS($1:$13)<=COUNTIF(joueurs,$B21),INDEX(tirs,SMALL(IF(joueurs=$B21,ROW(INDIRECT(\"1:\"&ROWS(tirs)))),ROWS($1:$13))),\"\")","v":""},{"$f":"IF(ROWS($1:$14)<=COUNTIF(joueurs,$B21),INDEX(tirs,SMALL(IF(joueurs=$B21,ROW(INDIRECT(\"1:\"&ROWS(tirs)))),ROWS($1:$14))),\"\")","v":""},{"$f":"IF(ROWS($1:$15)<=COUNTIF(joueurs,$B21),INDEX(tirs,SMALL(IF(joueurs=$B21,ROW(INDIRECT(\"1:\"&ROWS(tirs)))),ROWS($1:$15))),\"\")","v":""},{"$f":"IF(ROWS($1:$16)<=COUNTIF(joueurs,$B21),INDEX(tirs,SMALL(IF(joueurs=$B21,ROW(INDIRECT(\"1:\"&ROWS(tirs)))),ROWS($1:$16))),\"\")","v":""},{"$f":"IF(ROWS($1:$17)<=COUNTIF(joueurs,$B21),INDEX(tirs,SMALL(IF(joueurs=$B21,ROW(INDIRECT(\"1:\"&ROWS(tirs)))),ROWS($1:$17))),\"\")","v":""},{"$f":"IF(ROWS($1:$18)<=COUNTIF(joueurs,$B21),INDEX(tirs,SMALL(IF(joueurs=$B21,ROW(INDIRECT(\"1:\"&ROWS(tirs)))),ROWS($1:$18))),\"\")","v":""},{"$f":"IF(ROWS($1:$19)<=COUNTIF(joueurs,$B21),INDEX(tirs,SMALL(IF(joueurs=$B21,ROW(INDIRECT(\"1:\"&ROWS(tirs)))),ROWS($1:$19))),\"\")","v":""},{"$f":"IF(ROWS($1:$20)<=COUNTIF(joueurs,$B21),INDEX(tirs,SMALL(IF(joueurs=$B21,ROW(INDIRECT(\"1:\"&ROWS(tirs)))),ROWS($1:$20))),\"\")","v":""},{"$f":"IF(ROWS($1:$11)<=COUNTIF(joueurs,$B21),INDEX(bontirs,SMALL(IF(joueurs=$B21,ROW(INDIRECT(\"1:\"&ROWS(bontirs)))),ROWS($1:$11))),\"\")","v":""},{"$f":"IF(ROWS($1:$12)<=COUNTIF(joueurs,$B21),INDEX(bontirs,SMALL(IF(joueurs=$B21,ROW(INDIRECT(\"1:\"&ROWS(bontirs)))),ROWS($1:$12))),\"\")","v":""},{"$f":"IF(ROWS($1:$13)<=COUNTIF(joueurs,$B21),INDEX(bontirs,SMALL(IF(joueurs=$B21,ROW(INDIRECT(\"1:\"&ROWS(bontirs)))),ROWS($1:$13))),\"\")","v":""},{"$f":"IF(ROWS($1:$14)<=COUNTIF(joueurs,$B21),INDEX(bontirs,SMALL(IF(joueurs=$B21,ROW(INDIRECT(\"1:\"&ROWS(bontirs)))),ROWS($1:$14))),\"\")","v":""},{"$f":"IF(ROWS($1:$15)<=COUNTIF(joueurs,$B21),INDEX(bontirs,SMALL(IF(joueurs=$B21,ROW(INDIRECT(\"1:\"&ROWS(bontirs)))),ROWS($1:$15))),\"\")","v":""},{"$f":"IF(ROWS($1:$16)<=COUNTIF(joueurs,$B21),INDEX(bontirs,SMALL(IF(joueurs=$B21,ROW(INDIRECT(\"1:\"&ROWS(bontirs)))),ROWS($1:$16))),\"\")","v":""},{"$f":"IF(ROWS($1:$17)<=COUNTIF(joueurs,$B21),INDEX(bontirs,SMALL(IF(joueurs=$B21,ROW(INDIRECT(\"1:\"&ROWS(bontirs)))),ROWS($1:$17))),\"\")","v":""},{"$f":"IF(ROWS($1:$18)<=COUNTIF(joueurs,$B21),INDEX(bontirs,SMALL(IF(joueurs=$B21,ROW(INDIRECT(\"1:\"&ROWS(bontirs)))),ROWS($1:$18))),\"\")","v":""},{"$f":"IF(ROWS($1:$19)<=COUNTIF(joueurs,$B21),INDEX(bontirs,SMALL(IF(joueurs=$B21,ROW(INDIRECT(\"1:\"&ROWS(bontirs)))),ROWS($1:$19))),\"\")","v":""},{"$f":"IF(ROWS($1:$20)<=COUNTIF(joueurs,$B21),INDEX(bontirs,SMALL(IF(joueurs=$B21,ROW(INDIRECT(\"1:\"&ROWS(bontirs)))),ROWS($1:$20))),\"\")","v":""},{"$f":"IF(ROWS($1:$11)<=COUNTIF(joueurs,$B21),INDEX(points,SMALL(IF(joueurs=$B21,ROW(INDIRECT(\"1:\"&ROWS(points)))),ROWS($1:$11))),\"\")","v":""},{"$f":"IF(ROWS($1:$12)<=COUNTIF(joueurs,$B21),INDEX(points,SMALL(IF(joueurs=$B21,ROW(INDIRECT(\"1:\"&ROWS(points)))),ROWS($1:$12))),\"\")","v":""},{"$f":"IF(ROWS($1:$13)<=COUNTIF(joueurs,$B21),INDEX(points,SMALL(IF(joueurs=$B21,ROW(INDIRECT(\"1:\"&ROWS(points)))),ROWS($1:$13))),\"\")","v":""},{"$f":"IF(ROWS($1:$14)<=COUNTIF(joueurs,$B21),INDEX(points,SMALL(IF(joueurs=$B21,ROW(INDIRECT(\"1:\"&ROWS(points)))),ROWS($1:$14))),\"\")","v":""},{"$f":"IF(ROWS($1:$15)<=COUNTIF(joueurs,$B21),INDEX(points,SMALL(IF(joueurs=$B21,ROW(INDIRECT(\"1:\"&ROWS(points)))),ROWS($1:$15))),\"\")","v":""},{"$f":"IF(ROWS($1:$16)<=COUNTIF(joueurs,$B21),INDEX(points,SMALL(IF(joueurs=$B21,ROW(INDIRECT(\"1:\"&ROWS(points)))),ROWS($1:$16))),\"\")","v":""},{"$f":"IF(ROWS($1:$17)<=COUNTIF(joueurs,$B21),INDEX(points,SMALL(IF(joueurs=$B21,ROW(INDIRECT(\"1:\"&ROWS(points)))),ROWS($1:$17))),\"\")","v":""},{"$f":"IF(ROWS($1:$18)<=COUNTIF(joueurs,$B21),INDEX(points,SMALL(IF(joueurs=$B21,ROW(INDIRECT(\"1:\"&ROWS(points)))),ROWS($1:$18))),\"\")","v":""},{"$f":"IF(ROWS($1:$19)<=COUNTIF(joueurs,$B21),INDEX(points,SMALL(IF(joueurs=$B21,ROW(INDIRECT(\"1:\"&ROWS(points)))),ROWS($1:$19))),\"\")","v":""},{"$f":"IF(ROWS($1:$20)<=COUNTIF(points,$B21),INDEX(fautes,SMALL(IF(joueurs=$B21,ROW(INDIRECT(\"1:\"&ROWS(points)))),ROWS($1:$20))),\"\")","v":""},{"$f":"IF(ROWS($1:$11)<=COUNTIF(joueurs,$B21),INDEX(victoires,SMALL(IF(joueurs=$B21,ROW(INDIRECT(\"1:\"&ROWS(victoires)))),ROWS($1:$11))),\"\")","v":""},{"$f":"IF(ROWS($1:$12)<=COUNTIF(joueurs,$B21),INDEX(victoires,SMALL(IF(joueurs=$B21,ROW(INDIRECT(\"1:\"&ROWS(victoires)))),ROWS($1:$12))),\"\")","v":""},{"$f":"IF(ROWS($1:$13)<=COUNTIF(joueurs,$B21),INDEX(victoires,SMALL(IF(joueurs=$B21,ROW(INDIRECT(\"1:\"&ROWS(victoires)))),ROWS($1:$13))),\"\")","v":""},{"$f":"IF(ROWS($1:$14)<=COUNTIF(joueurs,$B21),INDEX(victoires,SMALL(IF(joueurs=$B21,ROW(INDIRECT(\"1:\"&ROWS(victoires)))),ROWS($1:$14))),\"\")","v":""},{"$f":"IF(ROWS($1:$15)<=COUNTIF(joueurs,$B21),INDEX(victoires,SMALL(IF(joueurs=$B21,ROW(INDIRECT(\"1:\"&ROWS(victoires)))),ROWS($1:$15))),\"\")","v":""},{"$f":"IF(ROWS($1:$16)<=COUNTIF(joueurs,$B21),INDEX(victoires,SMALL(IF(joueurs=$B21,ROW(INDIRECT(\"1:\"&ROWS(victoires)))),ROWS($1:$16))),\"\")","v":""},{"$f":"IF(ROWS($1:$17)<=COUNTIF(joueurs,$B21),INDEX(victoires,SMALL(IF(joueurs=$B21,ROW(INDIRECT(\"1:\"&ROWS(victoires)))),ROWS($1:$17))),\"\")","v":""},{"$f":"IF(ROWS($1:$18)<=COUNTIF(joueurs,$B21),INDEX(victoires,SMALL(IF(joueurs=$B21,ROW(INDIRECT(\"1:\"&ROWS(victoires)))),ROWS($1:$18))),\"\")","v":""},{"$f":"IF(ROWS($1:$19)<=COUNTIF(joueurs,$B21),INDEX(victoires,SMALL(IF(joueurs=$B21,ROW(INDIRECT(\"1:\"&ROWS(victoires)))),ROWS($1:$19))),\"\")","v":""},{"$f":"IF(ROWS($1:$20)<=COUNTIF(joueurs,$B21),INDEX(victoires,SMALL(IF(joueurs=$B21,ROW(INDIRECT(\"1:\"&ROWS(victoires)))),ROWS($1:$20))),\"\")","v":""}]
[null,null,null,{"$f":"IF(ROWS($1:$21)<=COUNTIF(joueurs,$B21),INDEX(fautes,SMALL(IF(joueurs=$B21,ROW(INDIRECT(\"1:\"&ROWS(fautes)))),ROWS($1:$21))),\"\")","v":""},{"$f":"IF(ROWS($1:$22)<=COUNTIF(joueurs,$B21),INDEX(fautes,SMALL(IF(joueurs=$B21,ROW(INDIRECT(\"1:\"&ROWS(fautes)))),ROWS($1:$22))),\"\")","v":""},{"$f":"IF(ROWS($1:$23)<=COUNTIF(joueurs,$B21),INDEX(fautes,SMALL(IF(joueurs=$B21,ROW(INDIRECT(\"1:\"&ROWS(fautes)))),ROWS($1:$23))),\"\")","v":""},{"$f":"IF(ROWS($1:$24)<=COUNTIF(joueurs,$B21),INDEX(fautes,SMALL(IF(joueurs=$B21,ROW(INDIRECT(\"1:\"&ROWS(fautes)))),ROWS($1:$24))),\"\")","v":""},{"$f":"IF(ROWS($1:$25)<=COUNTIF(joueurs,$B21),INDEX(fautes,SMALL(IF(joueurs=$B21,ROW(INDIRECT(\"1:\"&ROWS(fautes)))),ROWS($1:$25))),\"\")","v":""},{"$f":"IF(ROWS($1:$26)<=COUNTIF(joueurs,$B21),INDEX(fautes,SMALL(IF(joueurs=$B21,ROW(INDIRECT(\"1:\"&ROWS(fautes)))),ROWS($1:$26))),\"\")","v":""},{"$f":"IF(ROWS($1:$27)<=COUNTIF(joueurs,$B21),INDEX(fautes,SMALL(IF(joueurs=$B21,ROW(INDIRECT(\"1:\"&ROWS(fautes)))),ROWS($1:$27))),\"\")","v":""},{"$f":"IF(ROWS($1:$28)<=COUNTIF(joueurs,$B21),INDEX(fautes,SMALL(IF(joueurs=$B21,ROW(INDIRECT(\"1:\"&ROWS(fautes)))),ROWS($1:$28))),\"\")","v":""},{"$f":"IF(ROWS($1:$29)<=COUNTIF(joueurs,$B21),INDEX(fautes,SMALL(IF(joueurs=$B21,ROW(INDIRECT(\"1:\"&ROWS(fautes)))),ROWS($1:$29))),\"\")","v":""},{"$f":"IF(ROWS($1:$30)<=COUNTIF(joueurs,$B21),INDEX(fautes,SMALL(IF(joueurs=$B21,ROW(INDIRECT(\"1:\"&ROWS(fautes)))),ROWS($1:$30))),\"\")","v":""},{"$f":"IF(ROWS($1:$21)<=COUNTIF(joueurs,$B21),INDEX(ballonperdus,SMALL(IF(joueurs=$B21,ROW(INDIRECT(\"1:\"&ROWS(ballonperdus)))),ROWS($1:$21))),\"\")","v":""},{"$f":"IF(ROWS($1:$22)<=COUNTIF(joueurs,$B21),INDEX(ballonperdus,SMALL(IF(joueurs=$B21,ROW(INDIRECT(\"1:\"&ROWS(ballonperdus)))),ROWS($1:$22))),\"\")","v":""},{"$f":"IF(ROWS($1:$23)<=COUNTIF(joueurs,$B21),INDEX(ballonperdus,SMALL(IF(joueurs=$B21,ROW(INDIRECT(\"1:\"&ROWS(ballonperdus)))),ROWS($1:$23))),\"\")","v":""},{"$f":"IF(ROWS($1:$24)<=COUNTIF(joueurs,$B21),INDEX(ballonperdus,SMALL(IF(joueurs=$B21,ROW(INDIRECT(\"1:\"&ROWS(ballonperdus)))),ROWS($1:$24))),\"\")","v":""},{"$f":"IF(ROWS($1:$25)<=COUNTIF(joueurs,$B21),INDEX(ballonperdus,SMALL(IF(joueurs=$B21,ROW(INDIRECT(\"1:\"&ROWS(ballonperdus)))),ROWS($1:$25))),\"\")","v":""},{"$f":"IF(ROWS($1:$26)<=COUNTIF(joueurs,$B21),INDEX(ballonperdus,SMALL(IF(joueurs=$B21,ROW(INDIRECT(\"1:\"&ROWS(ballonperdus)))),ROWS($1:$26))),\"\")","v":""},{"$f":"IF(ROWS($1:$27)<=COUNTIF(joueurs,$B21),INDEX(ballonperdus,SMALL(IF(joueurs=$B21,ROW(INDIRECT(\"1:\"&ROWS(ballonperdus)))),ROWS($1:$27))),\"\")","v":""},{"$f":"IF(ROWS($1:$28)<=COUNTIF(joueurs,$B21),INDEX(ballonperdus,SMALL(IF(joueurs=$B21,ROW(INDIRECT(\"1:\"&ROWS(ballonperdus)))),ROWS($1:$28))),\"\")","v":""},{"$f":"IF(ROWS($1:$29)<=COUNTIF(joueurs,$B21),INDEX(ballonperdus,SMALL(IF(joueurs=$B21,ROW(INDIRECT(\"1:\"&ROWS(ballonperdus)))),ROWS($1:$29))),\"\")","v":""},{"$f":"IF(ROWS($1:$30)<=COUNTIF(joueurs,$B21),INDEX(ballonperdus,SMALL(IF(joueurs=$B21,ROW(INDIRECT(\"1:\"&ROWS(ballonperdus)))),ROWS($1:$30))),\"\")","v":""},{"$f":"IF(ROWS($1:$21)<=COUNTIF(joueurs,$B21),INDEX(interceptions,SMALL(IF(joueurs=$B21,ROW(INDIRECT(\"1:\"&ROWS(interceptions)))),ROWS($1:$21))),\"\")","v":""},{"$f":"IF(ROWS($1:$22)<=COUNTIF(joueurs,$B21),INDEX(interceptions,SMALL(IF(joueurs=$B21,ROW(INDIRECT(\"1:\"&ROWS(interceptions)))),ROWS($1:$22))),\"\")","v":""},{"$f":"IF(ROWS($1:$23)<=COUNTIF(joueurs,$B21),INDEX(interceptions,SMALL(IF(joueurs=$B21,ROW(INDIRECT(\"1:\"&ROWS(interceptions)))),ROWS($1:$23))),\"\")","v":""},{"$f":"IF(ROWS($1:$24)<=COUNTIF(joueurs,$B21),INDEX(interceptions,SMALL(IF(joueurs=$B21,ROW(INDIRECT(\"1:\"&ROWS(interceptions)))),ROWS($1:$24))),\"\")","v":""},{"$f":"IF(ROWS($1:$25)<=COUNTIF(joueurs,$B21),INDEX(interceptions,SMALL(IF(joueurs=$B21,ROW(INDIRECT(\"1:\"&ROWS(interceptions)))),ROWS($1:$25))),\"\")","v":""},{"$f":"IF(ROWS($1:$26)<=COUNTIF(joueurs,$B21),INDEX(interceptions,SMALL(IF(joueurs=$B21,ROW(INDIRECT(\"1:\"&ROWS(interceptions)))),ROWS($1:$26))),\"\")","v":""},{"$f":"IF(ROWS($1:$27)<=COUNTIF(joueurs,$B21),INDEX(interceptions,SMALL(IF(joueurs=$B21,ROW(INDIRECT(\"1:\"&ROWS(interceptions)))),ROWS($1:$27))),\"\")","v":""},{"$f":"IF(ROWS($1:$28)<=COUNTIF(joueurs,$B21),INDEX(interceptions,SMALL(IF(joueurs=$B21,ROW(INDIRECT(\"1:\"&ROWS(interceptions)))),ROWS($1:$28))),\"\")","v":""},{"$f":"IF(ROWS($1:$29)<=COUNTIF(joueurs,$B21),INDEX(interceptions,SMALL(IF(joueurs=$B21,ROW(INDIRECT(\"1:\"&ROWS(interceptions)))),ROWS($1:$29))),\"\")","v":""},{"$f":"IF(ROWS($1:$30)<=COUNTIF(joueurs,$B21),INDEX(interceptions,SMALL(IF(joueurs=$B21,ROW(INDIRECT(\"1:\"&ROWS(interceptions)))),ROWS($1:$30))),\"\")","v":""},{"$f":"IF(ROWS($1:$21)<=COUNTIF(joueurs,$B21),INDEX(ballonrecuperes,SMALL(IF(joueurs=$B21,ROW(INDIRECT(\"1:\"&ROWS(ballonrecuperes)))),ROWS($1:$21))),\"\")","v":""},{"$f":"IF(ROWS($1:$22)<=COUNTIF(joueurs,$B21),INDEX(ballonrecuperes,SMALL(IF(joueurs=$B21,ROW(INDIRECT(\"1:\"&ROWS(ballonrecuperes)))),ROWS($1:$22))),\"\")","v":""},{"$f":"IF(ROWS($1:$23)<=COUNTIF(joueurs,$B21),INDEX(ballonrecuperes,SMALL(IF(joueurs=$B21,ROW(INDIRECT(\"1:\"&ROWS(ballonrecuperes)))),ROWS($1:$23))),\"\")","v":""},{"$f":"IF(ROWS($1:$24)<=COUNTIF(joueurs,$B21),INDEX(ballonrecuperes,SMALL(IF(joueurs=$B21,ROW(INDIRECT(\"1:\"&ROWS(ballonrecuperes)))),ROWS($1:$24))),\"\")","v":""},{"$f":"IF(ROWS($1:$25)<=COUNTIF(joueurs,$B21),INDEX(ballonrecuperes,SMALL(IF(joueurs=$B21,ROW(INDIRECT(\"1:\"&ROWS(ballonrecuperes)))),ROWS($1:$25))),\"\")","v":""},{"$f":"IF(ROWS($1:$26)<=COUNTIF(joueurs,$B21),INDEX(ballonrecuperes,SMALL(IF(joueurs=$B21,ROW(INDIRECT(\"1:\"&ROWS(ballonrecuperes)))),ROWS($1:$26))),\"\")","v":""},{"$f":"IF(ROWS($1:$27)<=COUNTIF(joueurs,$B21),INDEX(ballonrecuperes,SMALL(IF(joueurs=$B21,ROW(INDIRECT(\"1:\"&ROWS(ballonrecuperes)))),ROWS($1:$27))),\"\")","v":""},{"$f":"IF(ROWS($1:$28)<=COUNTIF(joueurs,$B21),INDEX(ballonrecuperes,SMALL(IF(joueurs=$B21,ROW(INDIRECT(\"1:\"&ROWS(ballonrecuperes)))),ROWS($1:$28))),\"\")","v":""},{"$f":"IF(ROWS($1:$29)<=COUNTIF(joueurs,$B21),INDEX(ballonrecuperes,SMALL(IF(joueurs=$B21,ROW(INDIRECT(\"1:\"&ROWS(ballonrecuperes)))),ROWS($1:$29))),\"\")","v":""},{"$f":"IF(ROWS($1:$30)<=COUNTIF(joueurs,$B21),INDEX(ballonrecuperes,SMALL(IF(joueurs=$B21,ROW(INDIRECT(\"1:\"&ROWS(ballonrecuperes)))),ROWS($1:$30))),\"\")","v":""},{"$f":"IF(ROWS($1:$21)<=COUNTIF(joueurs,$B21),INDEX(tirs,SMALL(IF(joueurs=$B21,ROW(INDIRECT(\"1:\"&ROWS(tirs)))),ROWS($1:$21))),\"\")","v":""},{"$f":"IF(ROWS($1:$22)<=COUNTIF(joueurs,$B21),INDEX(tirs,SMALL(IF(joueurs=$B21,ROW(INDIRECT(\"1:\"&ROWS(tirs)))),ROWS($1:$22))),\"\")","v":""},{"$f":"IF(ROWS($1:$23)<=COUNTIF(joueurs,$B21),INDEX(tirs,SMALL(IF(joueurs=$B21,ROW(INDIRECT(\"1:\"&ROWS(tirs)))),ROWS($1:$23))),\"\")","v":""},{"$f":"IF(ROWS($1:$24)<=COUNTIF(joueurs,$B21),INDEX(tirs,SMALL(IF(joueurs=$B21,ROW(INDIRECT(\"1:\"&ROWS(tirs)))),ROWS($1:$24))),\"\")","v":""},{"$f":"IF(ROWS($1:$25)<=COUNTIF(joueurs,$B21),INDEX(tirs,SMALL(IF(joueurs=$B21,ROW(INDIRECT(\"1:\"&ROWS(tirs)))),ROWS($1:$25))),\"\")","v":""},{"$f":"IF(ROWS($1:$26)<=COUNTIF(joueurs,$B21),INDEX(tirs,SMALL(IF(joueurs=$B21,ROW(INDIRECT(\"1:\"&ROWS(tirs)))),ROWS($1:$26))),\"\")","v":""},{"$f":"IF(ROWS($1:$27)<=COUNTIF(joueurs,$B21),INDEX(tirs,SMALL(IF(joueurs=$B21,ROW(INDIRECT(\"1:\"&ROWS(tirs)))),ROWS($1:$27))),\"\")","v":""},{"$f":"IF(ROWS($1:$28)<=COUNTIF(joueurs,$B21),INDEX(tirs,SMALL(IF(joueurs=$B21,ROW(INDIRECT(\"1:\"&ROWS(tirs)))),ROWS($1:$28))),\"\")","v":""},{"$f":"IF(ROWS($1:$29)<=COUNTIF(joueurs,$B21),INDEX(tirs,SMALL(IF(joueurs=$B21,ROW(INDIRECT(\"1:\"&ROWS(tirs)))),ROWS($1:$29))),\"\")","v":""},{"$f":"IF(ROWS($1:$30)<=COUNTIF(joueurs,$B21),INDEX(tirs,SMALL(IF(joueurs=$B21,ROW(INDIRECT(\"1:\"&ROWS(tirs)))),ROWS($1:$30))),\"\")","v":""},{"$f":"IF(ROWS($1:$21)<=COUNTIF(joueurs,$B21),INDEX(bontirs,SMALL(IF(joueurs=$B21,ROW(INDIRECT(\"1:\"&ROWS(bontirs)))),ROWS($1:$21))),\"\")","v":""},{"$f":"IF(ROWS($1:$22)<=COUNTIF(joueurs,$B21),INDEX(bontirs,SMALL(IF(joueurs=$B21,ROW(INDIRECT(\"1:\"&ROWS(bontirs)))),ROWS($1:$22))),\"\")","v":""},{"$f":"IF(ROWS($1:$23)<=COUNTIF(joueurs,$B21),INDEX(bontirs,SMALL(IF(joueurs=$B21,ROW(INDIRECT(\"1:\"&ROWS(bontirs)))),ROWS($1:$23))),\"\")","v":""},{"$f":"IF(ROWS($1:$24)<=COUNTIF(joueurs,$B21),INDEX(bontirs,SMALL(IF(joueurs=$B21,ROW(INDIRECT(\"1:\"&ROWS(bontirs)))),ROWS($1:$24))),\"\")","v":""},{"$f":"IF(ROWS($1:$25)<=COUNTIF(joueurs,$B21),INDEX(bontirs,SMALL(IF(joueurs=$B21,ROW(INDIRECT(\"1:\"&ROWS(bontirs)))),ROWS($1:$25))),\"\")","v":""},{"$f":"IF(ROWS($1:$26)<=COUNTIF(joueurs,$B21),INDEX(bontirs,SMALL(IF(joueurs=$B21,ROW(INDIRECT(\"1:\"&ROWS(bontirs)))),ROWS($1:$26))),\"\")","v":""},{"$f":"IF(ROWS($1:$27)<=COUNTIF(joueurs,$B21),INDEX(bontirs,SMALL(IF(joueurs=$B21,ROW(INDIRECT(\"1:\"&ROWS(bontirs)))),ROWS($1:$27))),\"\")","v":""},{"$f":"IF(ROWS($1:$28)<=COUNTIF(joueurs,$B21),INDEX(bontirs,SMALL(IF(joueurs=$B21,ROW(INDIRECT(\"1:\"&ROWS(bontirs)))),ROWS($1:$28))),\"\")","v":""},{"$f":"IF(ROWS($1:$29)<=COUNTIF(joueurs,$B21),INDEX(bontirs,SMALL(IF(joueurs=$B21,ROW(INDIRECT(\"1:\"&ROWS(bontirs)))),ROWS($1:$29))),\"\")","v":""},{"$f":"IF(ROWS($1:$30)<=COUNTIF(joueurs,$B21),INDEX(bontirs,SMALL(IF(joueurs=$B21,ROW(INDIRECT(\"1:\"&ROWS(bontirs)))),ROWS($1:$30))),\"\")","v":""},{"$f":"IF(ROWS($1:$21)<=COUNTIF(joueurs,$B21),INDEX(points,SMALL(IF(joueurs=$B21,ROW(INDIRECT(\"1:\"&ROWS(points)))),ROWS($1:$21))),\"\")","v":""},{"$f":"IF(ROWS($1:$22)<=COUNTIF(joueurs,$B21),INDEX(points,SMALL(IF(joueurs=$B21,ROW(INDIRECT(\"1:\"&ROWS(points)))),ROWS($1:$22))),\"\")","v":""},{"$f":"IF(ROWS($1:$23)<=COUNTIF(joueurs,$B21),INDEX(points,SMALL(IF(joueurs=$B21,ROW(INDIRECT(\"1:\"&ROWS(points)))),ROWS($1:$23))),\"\")","v":""},{"$f":"IF(ROWS($1:$24)<=COUNTIF(joueurs,$B21),INDEX(points,SMALL(IF(joueurs=$B21,ROW(INDIRECT(\"1:\"&ROWS(points)))),ROWS($1:$24))),\"\")","v":""},{"$f":"IF(ROWS($1:$25)<=COUNTIF(joueurs,$B21),INDEX(points,SMALL(IF(joueurs=$B21,ROW(INDIRECT(\"1:\"&ROWS(points)))),ROWS($1:$25))),\"\")","v":""},{"$f":"IF(ROWS($1:$26)<=COUNTIF(joueurs,$B21),INDEX(points,SMALL(IF(joueurs=$B21,ROW(INDIRECT(\"1:\"&ROWS(points)))),ROWS($1:$26))),\"\")","v":""},{"$f":"IF(ROWS($1:$27)<=COUNTIF(joueurs,$B21),INDEX(points,SMALL(IF(joueurs=$B21,ROW(INDIRECT(\"1:\"&ROWS(points)))),ROWS($1:$27))),\"\")","v":""},{"$f":"IF(ROWS($1:$28)<=COUNTIF(joueurs,$B21),INDEX(points,SMALL(IF(joueurs=$B21,ROW(INDIRECT(\"1:\"&ROWS(points)))),ROWS($1:$28))),\"\")","v":""},{"$f":"IF(ROWS($1:$29)<=COUNTIF(joueurs,$B21),INDEX(points,SMALL(IF(joueurs=$B21,ROW(INDIRECT(\"1:\"&ROWS(points)))),ROWS($1:$29))),\"\")","v":""},{"$f":"IF(ROWS($1:$30)<=COUNTIF(joueurs,$B21),INDEX(points,SMALL(IF(joueurs=$B21,ROW(INDIRECT(\"1:\"&ROWS(points)))),ROWS($1:$30))),\"\")","v":""},{"$f":"IF(ROWS($1:$21)<=COUNTIF(joueurs,$B21),INDEX(victoires,SMALL(IF(joueurs=$B21,ROW(INDIRECT(\"1:\"&ROWS(victoires)))),ROWS($1:$21))),\"\")","v":""},{"$f":"IF(ROWS($1:$22)<=COUNTIF(joueurs,$B21),INDEX(victoires,SMALL(IF(joueurs=$B21,ROW(INDIRECT(\"1:\"&ROWS(victoires)))),ROWS($1:$22))),\"\")","v":""},{"$f":"IF(ROWS($1:$23)<=COUNTIF(joueurs,$B21),INDEX(victoires,SMALL(IF(joueurs=$B21,ROW(INDIRECT(\"1:\"&ROWS(victoires)))),ROWS($1:$23))),\"\")","v":""},{"$f":"IF(ROWS($1:$24)<=COUNTIF(joueurs,$B21),INDEX(victoires,SMALL(IF(joueurs=$B21,ROW(INDIRECT(\"1:\"&ROWS(victoires)))),ROWS($1:$24))),\"\")","v":""},{"$f":"IF(ROWS($1:$25)<=COUNTIF(joueurs,$B21),INDEX(victoires,SMALL(IF(joueurs=$B21,ROW(INDIRECT(\"1:\"&ROWS(victoires)))),ROWS($1:$25))),\"\")","v":""},{"$f":"IF(ROWS($1:$26)<=COUNTIF(joueurs,$B21),INDEX(victoires,SMALL(IF(joueurs=$B21,ROW(INDIRECT(\"1:\"&ROWS(victoires)))),ROWS($1:$26))),\"\")","v":""},{"$f":"IF(ROWS($1:$27)<=COUNTIF(joueurs,$B21),INDEX(victoires,SMALL(IF(joueurs=$B21,ROW(INDIRECT(\"1:\"&ROWS(victoires)))),ROWS($1:$27))),\"\")","v":""},{"$f":"IF(ROWS($1:$28)<=COUNTIF(joueurs,$B21),INDEX(victoires,SMALL(IF(joueurs=$B21,ROW(INDIRECT(\"1:\"&ROWS(victoires)))),ROWS($1:$28))),\"\")","v":""},{"$f":"IF(ROWS($1:$29)<=COUNTIF(joueurs,$B21),INDEX(victoires,SMALL(IF(joueurs=$B21,ROW(INDIRECT(\"1:\"&ROWS(victoires)))),ROWS($1:$29))),\"\")","v":""},{"$f":"IF(ROWS($1:$30)<=COUNTIF(joueurs,$B21),INDEX(victoires,SMALL(IF(joueurs=$B21,ROW(INDIRECT(\"1:\"&ROWS(victoires)))),ROWS($1:$30))),\"\")","v":""}]
[null,null,null,{"$f":"IF(ROWS($1:$31)<=COUNTIF(joueurs,$B21),INDEX(fautes,SMALL(IF(joueurs=$B21,ROW(INDIRECT(\"1:\"&ROWS(fautes)))),ROWS($1:$31))),\"\")","v":""},{"$f":"IF(ROWS($1:$32)<=COUNTIF(joueurs,$B21),INDEX(fautes,SMALL(IF(joueurs=$B21,ROW(INDIRECT(\"1:\"&ROWS(fautes)))),ROWS($1:$32))),\"\")","v":""},{"$f":"IF(ROWS($1:$33)<=COUNTIF(joueurs,$B21),INDEX(fautes,SMALL(IF(joueurs=$B21,ROW(INDIRECT(\"1:\"&ROWS(fautes)))),ROWS($1:$33))),\"\")","v":""},{"$f":"IF(ROWS($1:$34)<=COUNTIF(joueurs,$B21),INDEX(fautes,SMALL(IF(joueurs=$B21,ROW(INDIRECT(\"1:\"&ROWS(fautes)))),ROWS($1:$34))),\"\")","v":""},{"$f":"IF(ROWS($1:$35)<=COUNTIF(joueurs,$B21),INDEX(fautes,SMALL(IF(joueurs=$B21,ROW(INDIRECT(\"1:\"&ROWS(fautes)))),ROWS($1:$35))),\"\")","v":""},{"$f":"IF(ROWS($1:$36)<=COUNTIF(joueurs,$B21),INDEX(fautes,SMALL(IF(joueurs=$B21,ROW(INDIRECT(\"1:\"&ROWS(fautes)))),ROWS($1:$36))),\"\")","v":""},{"$f":"IF(ROWS($1:$37)<=COUNTIF(joueurs,$B21),INDEX(fautes,SMALL(IF(joueurs=$B21,ROW(INDIRECT(\"1:\"&ROWS(fautes)))),ROWS($1:$37))),\"\")","v":""},{"$f":"IF(ROWS($1:$38)<=COUNTIF(joueurs,$B21),INDEX(fautes,SMALL(IF(joueurs=$B21,ROW(INDIRECT(\"1:\"&ROWS(fautes)))),ROWS($1:$38))),\"\")","v":""},{"$f":"IF(ROWS($1:$39)<=COUNTIF(joueurs,$B21),INDEX(fautes,SMALL(IF(joueurs=$B21,ROW(INDIRECT(\"1:\"&ROWS(fautes)))),ROWS($1:$39))),\"\")","v":""},{"$f":"IF(ROWS($1:$40)<=COUNTIF(joueurs,$B21),INDEX(fautes,SMALL(IF(joueurs=$B21,ROW(INDIRECT(\"1:\"&ROWS(fautes)))),ROWS($1:$40))),\"\")","v":""},{"$f":"IF(ROWS($1:$31)<=COUNTIF(joueurs,$B21),INDEX(ballonperdus,SMALL(IF(joueurs=$B21,ROW(INDIRECT(\"1:\"&ROWS(ballonperdus)))),ROWS($1:$31))),\"\")","v":""},{"$f":"IF(ROWS($1:$32)<=COUNTIF(joueurs,$B21),INDEX(ballonperdus,SMALL(IF(joueurs=$B21,ROW(INDIRECT(\"1:\"&ROWS(ballonperdus)))),ROWS($1:$32))),\"\")","v":""},{"$f":"IF(ROWS($1:$33)<=COUNTIF(joueurs,$B21),INDEX(ballonperdus,SMALL(IF(joueurs=$B21,ROW(INDIRECT(\"1:\"&ROWS(ballonperdus)))),ROWS($1:$33))),\"\")","v":""},{"$f":"IF(ROWS($1:$34)<=COUNTIF(joueurs,$B21),INDEX(ballonperdus,SMALL(IF(joueurs=$B21,ROW(INDIRECT(\"1:\"&ROWS(ballonperdus)))),ROWS($1:$34))),\"\")","v":""},{"$f":"IF(ROWS($1:$35)<=COUNTIF(joueurs,$B21),INDEX(ballonperdus,SMALL(IF(joueurs=$B21,ROW(INDIRECT(\"1:\"&ROWS(ballonperdus)))),ROWS($1:$35))),\"\")","v":""},{"$f":"IF(ROWS($1:$36)<=COUNTIF(joueurs,$B21),INDEX(ballonperdus,SMALL(IF(joueurs=$B21,ROW(INDIRECT(\"1:\"&ROWS(ballonperdus)))),ROWS($1:$36))),\"\")","v":""},{"$f":"IF(ROWS($1:$37)<=COUNTIF(joueurs,$B21),INDEX(ballonperdus,SMALL(IF(joueurs=$B21,ROW(INDIRECT(\"1:\"&ROWS(ballonperdus)))),ROWS($1:$37))),\"\")","v":""},{"$f":"IF(ROWS($1:$38)<=COUNTIF(joueurs,$B21),INDEX(ballonperdus,SMALL(IF(joueurs=$B21,ROW(INDIRECT(\"1:\"&ROWS(ballonperdus)))),ROWS($1:$38))),\"\")","v":""},{"$f":"IF(ROWS($1:$39)<=COUNTIF(joueurs,$B21),INDEX(ballonperdus,SMALL(IF(joueurs=$B21,ROW(INDIRECT(\"1:\"&ROWS(ballonperdus)))),ROWS($1:$39))),\"\")","v":""},{"$f":"IF(ROWS($1:$40)<=COUNTIF(joueurs,$B21),INDEX(ballonperdus,SMALL(IF(joueurs=$B21,ROW(INDIRECT(\"1:\"&ROWS(ballonperdus)))),ROWS($1:$40))),\"\")","v":""},{"$f":"IF(ROWS($1:$31)<=COUNTIF(joueurs,$B21),INDEX(interceptions,SMALL(IF(joueurs=$B21,ROW(INDIRECT(\"1:\"&ROWS(interceptions)))),ROWS($1:$31))),\"\")","v":""},{"$f":"IF(ROWS($1:$32)<=COUNTIF(joueurs,$B21),INDEX(interceptions,SMALL(IF(joueurs=$B21,ROW(INDIRECT(\"1:\"&ROWS(interceptions)))),ROWS($1:$32))),\"\")","v":""},{"$f":"IF(ROWS($1:$33)<=COUNTIF(joueurs,$B21),INDEX(interceptions,SMALL(IF(joueurs=$B21,ROW(INDIRECT(\"1:\"&ROWS(interceptions)))),ROWS($1:$33))),\"\")","v":""},{"$f":"IF(ROWS($1:$34)<=COUNTIF(joueurs,$B21),INDEX(interceptions,SMALL(IF(joueurs=$B21,ROW(INDIRECT(\"1:\"&ROWS(interceptions)))),ROWS($1:$34))),\"\")","v":""},{"$f":"IF(ROWS($1:$35)<=COUNTIF(joueurs,$B21),INDEX(interceptions,SMALL(IF(joueurs=$B21,ROW(INDIRECT(\"1:\"&ROWS(interceptions)))),ROWS($1:$35))),\"\")","v":""},{"$f":"IF(ROWS($1:$36)<=COUNTIF(joueurs,$B21),INDEX(interceptions,SMALL(IF(joueurs=$B21,ROW(INDIRECT(\"1:\"&ROWS(interceptions)))),ROWS($1:$36))),\"\")","v":""},{"$f":"IF(ROWS($1:$37)<=COUNTIF(joueurs,$B21),INDEX(interceptions,SMALL(IF(joueurs=$B21,ROW(INDIRECT(\"1:\"&ROWS(interceptions)))),ROWS($1:$37))),\"\")","v":""},{"$f":"IF(ROWS($1:$38)<=COUNTIF(joueurs,$B21),INDEX(interceptions,SMALL(IF(joueurs=$B21,ROW(INDIRECT(\"1:\"&ROWS(interceptions)))),ROWS($1:$38))),\"\")","v":""},{"$f":"IF(ROWS($1:$39)<=COUNTIF(joueurs,$B21),INDEX(interceptions,SMALL(IF(joueurs=$B21,ROW(INDIRECT(\"1:\"&ROWS(interceptions)))),ROWS($1:$39))),\"\")","v":""},{"$f":"IF(ROWS($1:$40)<=COUNTIF(joueurs,$B21),INDEX(interceptions,SMALL(IF(joueurs=$B21,ROW(INDIRECT(\"1:\"&ROWS(interceptions)))),ROWS($1:$40))),\"\")","v":""},{"$f":"IF(ROWS($1:$31)<=COUNTIF(joueurs,$B21),INDEX(ballonrecuperes,SMALL(IF(joueurs=$B21,ROW(INDIRECT(\"1:\"&ROWS(ballonrecuperes)))),ROWS($1:$31))),\"\")","v":""},{"$f":"IF(ROWS($1:$32)<=COUNTIF(joueurs,$B21),INDEX(ballonrecuperes,SMALL(IF(joueurs=$B21,ROW(INDIRECT(\"1:\"&ROWS(ballonrecuperes)))),ROWS($1:$32))),\"\")","v":""},{"$f":"IF(ROWS($1:$33)<=COUNTIF(joueurs,$B21),INDEX(ballonrecuperes,SMALL(IF(joueurs=$B21,ROW(INDIRECT(\"1:\"&ROWS(ballonrecuperes)))),ROWS($1:$33))),\"\")","v":""},{"$f":"IF(ROWS($1:$34)<=COUNTIF(joueurs,$B21),INDEX(ballonrecuperes,SMALL(IF(joueurs=$B21,ROW(INDIRECT(\"1:\"&ROWS(ballonrecuperes)))),ROWS($1:$34))),\"\")","v":""},{"$f":"IF(ROWS($1:$35)<=COUNTIF(joueurs,$B21),INDEX(ballonrecuperes,SMALL(IF(joueurs=$B21,ROW(INDIRECT(\"1:\"&ROWS(ballonrecuperes)))),ROWS($1:$35))),\"\")","v":""},{"$f":"IF(ROWS($1:$36)<=COUNTIF(joueurs,$B21),INDEX(ballonrecuperes,SMALL(IF(joueurs=$B21,ROW(INDIRECT(\"1:\"&ROWS(ballonrecuperes)))),ROWS($1:$36))),\"\")","v":""},{"$f":"IF(ROWS($1:$37)<=COUNTIF(joueurs,$B21),INDEX(ballonrecuperes,SMALL(IF(joueurs=$B21,ROW(INDIRECT(\"1:\"&ROWS(ballonrecuperes)))),ROWS($1:$37))),\"\")","v":""},{"$f":"IF(ROWS($1:$38)<=COUNTIF(joueurs,$B21),INDEX(ballonrecuperes,SMALL(IF(joueurs=$B21,ROW(INDIRECT(\"1:\"&ROWS(ballonrecuperes)))),ROWS($1:$38))),\"\")","v":""},{"$f":"IF(ROWS($1:$39)<=COUNTIF(joueurs,$B21),INDEX(ballonrecuperes,SMALL(IF(joueurs=$B21,ROW(INDIRECT(\"1:\"&ROWS(ballonrecuperes)))),ROWS($1:$39))),\"\")","v":""},{"$f":"IF(ROWS($1:$40)<=COUNTIF(joueurs,$B21),INDEX(ballonrecuperes,SMALL(IF(joueurs=$B21,ROW(INDIRECT(\"1:\"&ROWS(ballonrecuperes)))),ROWS($1:$40))),\"\")","v":""},{"$f":"IF(ROWS($1:$31)<=COUNTIF(joueurs,$B21),INDEX(tirs,SMALL(IF(joueurs=$B21,ROW(INDIRECT(\"1:\"&ROWS(tirs)))),ROWS($1:$31))),\"\")","v":""},{"$f":"IF(ROWS($1:$32)<=COUNTIF(joueurs,$B21),INDEX(tirs,SMALL(IF(joueurs=$B21,ROW(INDIRECT(\"1:\"&ROWS(tirs)))),ROWS($1:$32))),\"\")","v":""},{"$f":"IF(ROWS($1:$33)<=COUNTIF(joueurs,$B21),INDEX(tirs,SMALL(IF(joueurs=$B21,ROW(INDIRECT(\"1:\"&ROWS(tirs)))),ROWS($1:$33))),\"\")","v":""},{"$f":"IF(ROWS($1:$34)<=COUNTIF(joueurs,$B21),INDEX(tirs,SMALL(IF(joueurs=$B21,ROW(INDIRECT(\"1:\"&ROWS(tirs)))),ROWS($1:$34))),\"\")","v":""},{"$f":"IF(ROWS($1:$35)<=COUNTIF(joueurs,$B21),INDEX(tirs,SMALL(IF(joueurs=$B21,ROW(INDIRECT(\"1:\"&ROWS(tirs)))),ROWS($1:$35))),\"\")","v":""},{"$f":"IF(ROWS($1:$36)<=COUNTIF(joueurs,$B21),INDEX(tirs,SMALL(IF(joueurs=$B21,ROW(INDIRECT(\"1:\"&ROWS(tirs)))),ROWS($1:$36))),\"\")","v":""},{"$f":"IF(ROWS($1:$37)<=COUNTIF(joueurs,$B21),INDEX(tirs,SMALL(IF(joueurs=$B21,ROW(INDIRECT(\"1:\"&ROWS(tirs)))),ROWS($1:$37))),\"\")","v":""},{"$f":"IF(ROWS($1:$38)<=COUNTIF(joueurs,$B21),INDEX(tirs,SMALL(IF(joueurs=$B21,ROW(INDIRECT(\"1:\"&ROWS(tirs)))),ROWS($1:$38))),\"\")","v":""},{"$f":"IF(ROWS($1:$39)<=COUNTIF(joueurs,$B21),INDEX(tirs,SMALL(IF(joueurs=$B21,ROW(INDIRECT(\"1:\"&ROWS(tirs)))),ROWS($1:$39))),\"\")","v":""},{"$f":"IF(ROWS($1:$40)<=COUNTIF(joueurs,$B21),INDEX(tirs,SMALL(IF(joueurs=$B21,ROW(INDIRECT(\"1:\"&ROWS(tirs)))),ROWS($1:$40))),\"\")","v":""},{"$f":"IF(ROWS($1:$31)<=COUNTIF(joueurs,$B21),INDEX(bontirs,SMALL(IF(joueurs=$B21,ROW(INDIRECT(\"1:\"&ROWS(bontirs)))),ROWS($1:$31))),\"\")","v":""},{"$f":"IF(ROWS($1:$32)<=COUNTIF(joueurs,$B21),INDEX(bontirs,SMALL(IF(joueurs=$B21,ROW(INDIRECT(\"1:\"&ROWS(bontirs)))),ROWS($1:$32))),\"\")","v":""},{"$f":"IF(ROWS($1:$33)<=COUNTIF(joueurs,$B21),INDEX(bontirs,SMALL(IF(joueurs=$B21,ROW(INDIRECT(\"1:\"&ROWS(bontirs)))),ROWS($1:$33))),\"\")","v":""},{"$f":"IF(ROWS($1:$34)<=COUNTIF(joueurs,$B21),INDEX(bontirs,SMALL(IF(joueurs=$B21,ROW(INDIRECT(\"1:\"&ROWS(bontirs)))),ROWS($1:$34))),\"\")","v":""},{"$f":"IF(ROWS($1:$35)<=COUNTIF(joueurs,$B21),INDEX(bontirs,SMALL(IF(joueurs=$B21,ROW(INDIRECT(\"1:\"&ROWS(bontirs)))),ROWS($1:$35))),\"\")","v":""},{"$f":"IF(ROWS($1:$36)<=COUNTIF(joueurs,$B21),INDEX(bontirs,SMALL(IF(joueurs=$B21,ROW(INDIRECT(\"1:\"&ROWS(bontirs)))),ROWS($1:$36))),\"\")","v":""},{"$f":"IF(ROWS($1:$37)<=COUNTIF(joueurs,$B21),INDEX(bontirs,SMALL(IF(joueurs=$B21,ROW(INDIRECT(\"1:\"&ROWS(bontirs)))),ROWS($1:$37))),\"\")","v":""},{"$f":"IF(ROWS($1:$38)<=COUNTIF(joueurs,$B21),INDEX(bontirs,SMALL(IF(joueurs=$B21,ROW(INDIRECT(\"1:\"&ROWS(bontirs)))),ROWS($1:$38))),\"\")","v":""},{"$f":"IF(ROWS($1:$39)<=COUNTIF(joueurs,$B21),INDEX(bontirs,SMALL(IF(joueurs=$B21,ROW(INDIRECT(\"1:\"&ROWS(bontirs)))),ROWS($1:$39))),\"\")","v":""},{"$f":"IF(ROWS($1:$40)<=COUNTIF(joueurs,$B21),INDEX(bontirs,SMALL(IF(joueurs=$B21,ROW(INDIRECT(\"1:\"&ROWS(bontirs)))),ROWS($1:$40))),\"\")","v":""},{"$f":"IF(ROWS($1:$31)<=COUNTIF(joueurs,$B21),INDEX(points,SMALL(IF(joueurs=$B21,ROW(INDIRECT(\"1:\"&ROWS(points)))),ROWS($1:$31))),\"\")","v":""},{"$f":"IF(ROWS($1:$32)<=COUNTIF(joueurs,$B21),INDEX(points,SMALL(IF(joueurs=$B21,ROW(INDIRECT(\"1:\"&ROWS(points)))),ROWS($1:$32))),\"\")","v":""},{"$f":"IF(ROWS($1:$33)<=COUNTIF(joueurs,$B21),INDEX(points,SMALL(IF(joueurs=$B21,ROW(INDIRECT(\"1:\"&ROWS(points)))),ROWS($1:$33))),\"\")","v":""},{"$f":"IF(ROWS($1:$34)<=COUNTIF(joueurs,$B21),INDEX(points,SMALL(IF(joueurs=$B21,ROW(INDIRECT(\"1:\"&ROWS(points)))),ROWS($1:$34))),\"\")","v":""},{"$f":"IF(ROWS($1:$35)<=COUNTIF(joueurs,$B21),INDEX(points,SMALL(IF(joueurs=$B21,ROW(INDIRECT(\"1:\"&ROWS(points)))),ROWS($1:$35))),\"\")","v":""},{"$f":"IF(ROWS($1:$36)<=COUNTIF(joueurs,$B21),INDEX(points,SMALL(IF(joueurs=$B21,ROW(INDIRECT(\"1:\"&ROWS(points)))),ROWS($1:$36))),\"\")","v":""},{"$f":"IF(ROWS($1:$37)<=COUNTIF(joueurs,$B21),INDEX(points,SMALL(IF(joueurs=$B21,ROW(INDIRECT(\"1:\"&ROWS(points)))),ROWS($1:$37))),\"\")","v":""},{"$f":"IF(ROWS($1:$38)<=COUNTIF(joueurs,$B21),INDEX(points,SMALL(IF(joueurs=$B21,ROW(INDIRECT(\"1:\"&ROWS(points)))),ROWS($1:$38))),\"\")","v":""},{"$f":"IF(ROWS($1:$39)<=COUNTIF(joueurs,$B21),INDEX(points,SMALL(IF(joueurs=$B21,ROW(INDIRECT(\"1:\"&ROWS(points)))),ROWS($1:$39))),\"\")","v":""},{"$f":"IF(ROWS($1:$40)<=COUNTIF(joueurs,$B21),INDEX(points,SMALL(IF(joueurs=$B21,ROW(INDIRECT(\"1:\"&ROWS(points)))),ROWS($1:$40))),\"\")","v":""},{"$f":"IF(ROWS($1:$31)<=COUNTIF(joueurs,$B21),INDEX(victoires,SMALL(IF(joueurs=$B21,ROW(INDIRECT(\"1:\"&ROWS(victoires)))),ROWS($1:$31))),\"\")","v":""},{"$f":"IF(ROWS($1:$32)<=COUNTIF(joueurs,$B21),INDEX(victoires,SMALL(IF(joueurs=$B21,ROW(INDIRECT(\"1:\"&ROWS(victoires)))),ROWS($1:$32))),\"\")","v":""},{"$f":"IF(ROWS($1:$33)<=COUNTIF(joueurs,$B21),INDEX(victoires,SMALL(IF(joueurs=$B21,ROW(INDIRECT(\"1:\"&ROWS(victoires)))),ROWS($1:$33))),\"\")","v":""},{"$f":"IF(ROWS($1:$34)<=COUNTIF(joueurs,$B21),INDEX(victoires,SMALL(IF(joueurs=$B21,ROW(INDIRECT(\"1:\"&ROWS(victoires)))),ROWS($1:$34))),\"\")","v":""},{"$f":"IF(ROWS($1:$35)<=COUNTIF(joueurs,$B21),INDEX(victoires,SMALL(IF(joueurs=$B21,ROW(INDIRECT(\"1:\"&ROWS(victoires)))),ROWS($1:$35))),\"\")","v":""},{"$f":"IF(ROWS($1:$36)<=COUNTIF(joueurs,$B21),INDEX(victoires,SMALL(IF(joueurs=$B21,ROW(INDIRECT(\"1:\"&ROWS(victoires)))),ROWS($1:$36))),\"\")","v":""},{"$f":"IF(ROWS($1:$37)<=COUNTIF(joueurs,$B21),INDEX(victoires,SMALL(IF(joueurs=$B21,ROW(INDIRECT(\"1:\"&ROWS(victoires)))),ROWS($1:$37))),\"\")","v":""},{"$f":"IF(ROWS($1:$38)<=COUNTIF(joueurs,$B21),INDEX(victoires,SMALL(IF(joueurs=$B21,ROW(INDIRECT(\"1:\"&ROWS(victoires)))),ROWS($1:$38))),\"\")","v":""},{"$f":"IF(ROWS($1:$39)<=COUNTIF(joueurs,$B21),INDEX(victoires,SMALL(IF(joueurs=$B21,ROW(INDIRECT(\"1:\"&ROWS(victoires)))),ROWS($1:$39))),\"\")","v":""},{"$f":"IF(ROWS($1:$40)<=COUNTIF(joueurs,$B21),INDEX(victoires,SMALL(IF(joueurs=$B21,ROW(INDIRECT(\"1:\"&ROWS(victoires)))),ROWS($1:$40))),\"\")","v":""}]
[6,{"$f":"INDEX(eleves,MATCH(A25,numero,0),MATCH($B$2,classes,0))","v":"Parker"},null,{"$f":"IF(ROWS($1:$1)<=COUNTIF(joueurs,$B25),INDEX(fautes,SMALL(IF(joueurs=$B25,ROW(INDIRECT(\"1:\"&ROWS(fautes)))),ROWS($1:$1))),\"\")","v":""},{"$f":"IF(ROWS($1:$2)<=COUNTIF(joueurs,$B25),INDEX(fautes,SMALL(IF(joueurs=$B25,ROW(INDIRECT(\"1:\"&ROWS(fautes)))),ROWS($1:$2))),\"\")","v":""},{"$f":"IF(ROWS($1:$3)<=COUNTIF(joueurs,$B25),INDEX(fautes,SMALL(IF(joueurs=$B25,ROW(INDIRECT(\"1:\"&ROWS(fautes)))),ROWS($1:$3))),\"\")","v":""},{"$f":"IF(ROWS($1:$4)<=COUNTIF(joueurs,$B25),INDEX(fautes,SMALL(IF(joueurs=$B25,ROW(INDIRECT(\"1:\"&ROWS(fautes)))),ROWS($1:$4))),\"\")","v":""},{"$f":"IF(ROWS($1:$5)<=COUNTIF(joueurs,$B25),INDEX(fautes,SMALL(IF(joueurs=$B25,ROW(INDIRECT(\"1:\"&ROWS(fautes)))),ROWS($1:$5))),\"\")","v":""},{"$f":"IF(ROWS($1:$6)<=COUNTIF(joueurs,$B25),INDEX(fautes,SMALL(IF(joueurs=$B25,ROW(INDIRECT(\"1:\"&ROWS(fautes)))),ROWS($1:$6))),\"\")","v":""},{"$f":"IF(ROWS($1:$7)<=COUNTIF(joueurs,$B25),INDEX(fautes,SMALL(IF(joueurs=$B25,ROW(INDIRECT(\"1:\"&ROWS(fautes)))),ROWS($1:$7))),\"\")","v":""},{"$f":"IF(ROWS($1:$8)<=COUNTIF(joueurs,$B25),INDEX(fautes,SMALL(IF(joueurs=$B25,ROW(INDIRECT(\"1:\"&ROWS(fautes)))),ROWS($1:$8))),\"\")","v":""},{"$f":"IF(ROWS($1:$9)<=COUNTIF(joueurs,$B25),INDEX(fautes,SMALL(IF(joueurs=$B25,ROW(INDIRECT(\"1:\"&ROWS(fautes)))),ROWS($1:$9))),\"\")","v":""},{"$f":"IF(ROWS($1:$10)<=COUNTIF(joueurs,$B25),INDEX(fautes,SMALL(IF(joueurs=$B25,ROW(INDIRECT(\"1:\"&ROWS(fautes)))),ROWS($1:$10))),\"\")","v":""},{"$f":"IF(ROWS($1:$1)<=COUNTIF(joueurs,$B25),INDEX(ballonperdus,SMALL(IF(joueurs=$B25,ROW(INDIRECT(\"1:\"&ROWS(ballonperdus)))),ROWS($1:$1))),\"\")","v":""},{"$f":"IF(ROWS($1:$2)<=COUNTIF(joueurs,$B25),INDEX(ballonperdus,SMALL(IF(joueurs=$B25,ROW(INDIRECT(\"1:\"&ROWS(ballonperdus)))),ROWS($1:$2))),\"\")","v":""},{"$f":"IF(ROWS($1:$3)<=COUNTIF(joueurs,$B25),INDEX(ballonperdus,SMALL(IF(joueurs=$B25,ROW(INDIRECT(\"1:\"&ROWS(ballonperdus)))),ROWS($1:$3))),\"\")","v":""},{"$f":"IF(ROWS($1:$4)<=COUNTIF(joueurs,$B25),INDEX(ballonperdus,SMALL(IF(joueurs=$B25,ROW(INDIRECT(\"1:\"&ROWS(ballonperdus)))),ROWS($1:$4))),\"\")","v":""},{"$f":"IF(ROWS($1:$5)<=COUNTIF(joueurs,$B25),INDEX(ballonperdus,SMALL(IF(joueurs=$B25,ROW(INDIRECT(\"1:\"&ROWS(ballonperdus)))),ROWS($1:$5))),\"\")","v":""},{"$f":"IF(ROWS($1:$6)<=COUNTIF(joueurs,$B25),INDEX(ballonperdus,SMALL(IF(joueurs=$B25,ROW(INDIRECT(\"1:\"&ROWS(ballonperdus)))),ROWS($1:$6))),\"\")","v":""},{"$f":"IF(ROWS($1:$7)<=COUNTIF(joueurs,$B25),INDEX(ballonperdus,SMALL(IF(joueurs=$B25,ROW(INDIRECT(\"1:\"&ROWS(ballonperdus)))),ROWS($1:$7))),\"\")","v":""},{"$f":"IF(ROWS($1:$8)<=COUNTIF(joueurs,$B25),INDEX(ballonperdus,SMALL(IF(joueurs=$B25,ROW(INDIRECT(\"1:\"&ROWS(ballonperdus)))),ROWS($1:$8))),\"\")","v":""},{"$f":"IF(ROWS($1:$9)<=COUNTIF(joueurs,$B25),INDEX(ballonperdus,SMALL(IF(joueurs=$B25,ROW(INDIRECT(\"1:\"&ROWS(ballonperdus)))),ROWS($1:$9))),\"\")","v":""},{"$f":"IF(ROWS($1:$10)<=COUNTIF(joueurs,$B25),INDEX(ballonperdus,SMALL(IF(joueurs=$B25,ROW(INDIRECT(\"1:\"&ROWS(ballonperdus)))),ROWS($1:$10))),\"\")","v":""},{"$f":"IF(ROWS($1:$1)<=COUNTIF(joueurs,$B25),INDEX(interceptions,SMALL(IF(joueurs=$B25,ROW(INDIRECT(\"1:\"&ROWS(interceptions)))),ROWS($1:$1))),\"\")","v":""},{"$f":"IF(ROWS($1:$2)<=COUNTIF(joueurs,$B25),INDEX(interceptions,SMALL(IF(joueurs=$B25,ROW(INDIRECT(\"1:\"&ROWS(interceptions)))),ROWS($1:$2))),\"\")","v":""},{"$f":"IF(ROWS($1:$3)<=COUNTIF(joueurs,$B25),INDEX(interceptions,SMALL(IF(joueurs=$B25,ROW(INDIRECT(\"1:\"&ROWS(interceptions)))),ROWS($1:$3))),\"\")","v":""},{"$f":"IF(ROWS($1:$4)<=COUNTIF(joueurs,$B25),INDEX(interceptions,SMALL(IF(joueurs=$B25,ROW(INDIRECT(\"1:\"&ROWS(interceptions)))),ROWS($1:$4))),\"\")","v":""},{"$f":"IF(ROWS($1:$5)<=COUNTIF(joueurs,$B25),INDEX(interceptions,SMALL(IF(joueurs=$B25,ROW(INDIRECT(\"1:\"&ROWS(interceptions)))),ROWS($1:$5))),\"\")","v":""},{"$f":"IF(ROWS($1:$6)<=COUNTIF(joueurs,$B25),INDEX(interceptions,SMALL(IF(joueurs=$B25,ROW(INDIRECT(\"1:\"&ROWS(interceptions)))),ROWS($1:$6))),\"\")","v":""},{"$f":"IF(ROWS($1:$7)<=COUNTIF(joueurs,$B25),INDEX(interceptions,SMALL(IF(joueurs=$B25,ROW(INDIRECT(\"1:\"&ROWS(interceptions)))),ROWS($1:$7))),\"\")","v":""},{"$f":"IF(ROWS($1:$8)<=COUNTIF(joueurs,$B25),INDEX(interceptions,SMALL(IF(joueurs=$B25,ROW(INDIRECT(\"1:\"&ROWS(interceptions)))),ROWS($1:$8))),\"\")","v":""},{"$f":"IF(ROWS($1:$9)<=COUNTIF(joueurs,$B25),INDEX(interceptions,SMALL(IF(joueurs=$B25,ROW(INDIRECT(\"1:\"&ROWS(interceptions)))),ROWS($1:$9))),\"\")","v":""},{"$f":"IF(ROWS($1:$10)<=COUNTIF(joueurs,$B25),INDEX(interceptions,SMALL(IF(joueurs=$B25,ROW(INDIRECT(\"1:\"&ROWS(interceptions)))),ROWS($1:$10))),\"\")","v":""},{"$f":"IF(ROWS($1:$1)<=COUNTIF(joueurs,$B25),INDEX(ballonrecuperes,SMALL(IF(joueurs=$B25,ROW(INDIRECT(\"1:\"&ROWS(ballonrecuperes)))),ROWS($1:$1))),\"\")","v":""},{"$f":"IF(ROWS($1:$2)<=COUNTIF(joueurs,$B25),INDEX(ballonrecuperes,SMALL(IF(joueurs=$B25,ROW(INDIRECT(\"1:\"&ROWS(ballonrecuperes)))),ROWS($1:$2))),\"\")","v":""},{"$f":"IF(ROWS($1:$3)<=COUNTIF(joueurs,$B25),INDEX(ballonrecuperes,SMALL(IF(joueurs=$B25,ROW(INDIRECT(\"1:\"&ROWS(ballonrecuperes)))),ROWS($1:$3))),\"\")","v":""},{"$f":"IF(ROWS($1:$4)<=COUNTIF(joueurs,$B25),INDEX(ballonrecuperes,SMALL(IF(joueurs=$B25,ROW(INDIRECT(\"1:\"&ROWS(ballonrecuperes)))),ROWS($1:$4))),\"\")","v":""},{"$f":"IF(ROWS($1:$5)<=COUNTIF(joueurs,$B25),INDEX(ballonrecuperes,SMALL(IF(joueurs=$B25,ROW(INDIRECT(\"1:\"&ROWS(ballonrecuperes)))),ROWS($1:$5))),\"\")","v":""},{"$f":"IF(ROWS($1:$6)<=COUNTIF(joueurs,$B25),INDEX(ballonrecuperes,SMALL(IF(joueurs=$B25,ROW(INDIRECT(\"1:\"&ROWS(ballonrecuperes)))),ROWS($1:$6))),\"\")","v":""},{"$f":"IF(ROWS($1:$7)<=COUNTIF(joueurs,$B25),INDEX(ballonrecuperes,SMALL(IF(joueurs=$B25,ROW(INDIRECT(\"1:\"&ROWS(ballonrecuperes)))),ROWS($1:$7))),\"\")","v":""},{"$f":"IF(ROWS($1:$8)<=COUNTIF(joueurs,$B25),INDEX(ballonrecuperes,SMALL(IF(joueurs=$B25,ROW(INDIRECT(\"1:\"&ROWS(ballonrecuperes)))),ROWS($1:$8))),\"\")","v":""},{"$f":"IF(ROWS($1:$9)<=COUNTIF(joueurs,$B25),INDEX(ballonrecuperes,SMALL(IF(joueurs=$B25,ROW(INDIRECT(\"1:\"&ROWS(ballonrecuperes)))),ROWS($1:$9))),\"\")","v":""},{"$f":"IF(ROWS($1:$10)<=COUNTIF(joueurs,$B25),INDEX(ballonrecuperes,SMALL(IF(joueurs=$B25,ROW(INDIRECT(\"1:\"&ROWS(ballonrecuperes)))),ROWS($1:$10))),\"\")","v":""},{"$f":"IF(ROWS($1:$1)<=COUNTIF(joueurs,$B25),INDEX(tirs,SMALL(IF(joueurs=$B25,ROW(INDIRECT(\"1:\"&ROWS(tirs)))),ROWS($1:$1))),\"\")","v":""},{"$f":"IF(ROWS($1:$2)<=COUNTIF(joueurs,$B25),INDEX(tirs,SMALL(IF(joueurs=$B25,ROW(INDIRECT(\"1:\"&ROWS(tirs)))),ROWS($1:$2))),\"\")","v":""},{"$f":"IF(ROWS($1:$3)<=COUNTIF(joueurs,$B25),INDEX(tirs,SMALL(IF(joueurs=$B25,ROW(INDIRECT(\"1:\"&ROWS(tirs)))),ROWS($1:$3))),\"\")","v":""},{"$f":"IF(ROWS($1:$4)<=COUNTIF(joueurs,$B25),INDEX(tirs,SMALL(IF(joueurs=$B25,ROW(INDIRECT(\"1:\"&ROWS(tirs)))),ROWS($1:$4))),\"\")","v":""},{"$f":"IF(ROWS($1:$5)<=COUNTIF(joueurs,$B25),INDEX(tirs,SMALL(IF(joueurs=$B25,ROW(INDIRECT(\"1:\"&ROWS(tirs)))),ROWS($1:$5))),\"\")","v":""},{"$f":"IF(ROWS($1:$6)<=COUNTIF(joueurs,$B25),INDEX(tirs,SMALL(IF(joueurs=$B25,ROW(INDIRECT(\"1:\"&ROWS(tirs)))),ROWS($1:$6))),\"\")","v":""},{"$f":"IF(ROWS($1:$7)<=COUNTIF(joueurs,$B25),INDEX(tirs,SMALL(IF(joueurs=$B25,ROW(INDIRECT(\"1:\"&ROWS(tirs)))),ROWS($1:$7))),\"\")","v":""},{"$f":"IF(ROWS($1:$8)<=COUNTIF(joueurs,$B25),INDEX(tirs,SMALL(IF(joueurs=$B25,ROW(INDIRECT(\"1:\"&ROWS(tirs)))),ROWS($1:$8))),\"\")","v":""},{"$f":"IF(ROWS($1:$9)<=COUNTIF(joueurs,$B25),INDEX(tirs,SMALL(IF(joueurs=$B25,ROW(INDIRECT(\"1:\"&ROWS(tirs)))),ROWS($1:$9))),\"\")","v":""},{"$f":"IF(ROWS($1:$10)<=COUNTIF(joueurs,$B25),INDEX(tirs,SMALL(IF(joueurs=$B25,ROW(INDIRECT(\"1:\"&ROWS(tirs)))),ROWS($1:$10))),\"\")","v":""},{"$f":"IF(ROWS($1:$1)<=COUNTIF(joueurs,$B25),INDEX(bontirs,SMALL(IF(joueurs=$B25,ROW(INDIRECT(\"1:\"&ROWS(bontirs)))),ROWS($1:$1))),\"\")","v":""},{"$f":"IF(ROWS($1:$2)<=COUNTIF(joueurs,$B25),INDEX(bontirs,SMALL(IF(joueurs=$B25,ROW(INDIRECT(\"1:\"&ROWS(bontirs)))),ROWS($1:$2))),\"\")","v":""},{"$f":"IF(ROWS($1:$3)<=COUNTIF(joueurs,$B25),INDEX(bontirs,SMALL(IF(joueurs=$B25,ROW(INDIRECT(\"1:\"&ROWS(bontirs)))),ROWS($1:$3))),\"\")","v":""},{"$f":"IF(ROWS($1:$4)<=COUNTIF(joueurs,$B25),INDEX(bontirs,SMALL(IF(joueurs=$B25,ROW(INDIRECT(\"1:\"&ROWS(bontirs)))),ROWS($1:$4))),\"\")","v":""},{"$f":"IF(ROWS($1:$5)<=COUNTIF(joueurs,$B25),INDEX(bontirs,SMALL(IF(joueurs=$B25,ROW(INDIRECT(\"1:\"&ROWS(bontirs)))),ROWS($1:$5))),\"\")","v":""},{"$f":"IF(ROWS($1:$6)<=COUNTIF(joueurs,$B25),INDEX(bontirs,SMALL(IF(joueurs=$B25,ROW(INDIRECT(\"1:\"&ROWS(bontirs)))),ROWS($1:$6))),\"\")","v":""},{"$f":"IF(ROWS($1:$7)<=COUNTIF(joueurs,$B25),INDEX(bontirs,SMALL(IF(joueurs=$B25,ROW(INDIRECT(\"1:\"&ROWS(bontirs)))),ROWS($1:$7))),\"\")","v":""},{"$f":"IF(ROWS($1:$8)<=COUNTIF(joueurs,$B25),INDEX(bontirs,SMALL(IF(joueurs=$B25,ROW(INDIRECT(\"1:\"&ROWS(bontirs)))),ROWS($1:$8))),\"\")","v":""},{"$f":"IF(ROWS($1:$9)<=COUNTIF(joueurs,$B25),INDEX(bontirs,SMALL(IF(joueurs=$B25,ROW(INDIRECT(\"1:\"&ROWS(bontirs)))),ROWS($1:$9))),\"\")","v":""},{"$f":"IF(ROWS($1:$10)<=COUNTIF(joueurs,$B25),INDEX(bontirs,SMALL(IF(joueurs=$B25,ROW(INDIRECT(\"1:\"&ROWS(bontirs)))),ROWS($1:$10))),\"\")","v":""},{"$f":"IF(ROWS($1:$1)<=COUNTIF(joueurs,$B25),INDEX(points,SMALL(IF(joueurs=$B25,ROW(INDIRECT(\"1:\"&ROWS(points)))),ROWS($1:$1))),\"\")","v":""},{"$f":"IF(ROWS($1:$2)<=COUNTIF(joueurs,$B25),INDEX(points,SMALL(IF(joueurs=$B25,ROW(INDIRECT(\"1:\"&ROWS(points)))),ROWS($1:$2))),\"\")","v":""},{"$f":"IF(ROWS($1:$3)<=COUNTIF(joueurs,$B25),INDEX(points,SMALL(IF(joueurs=$B25,ROW(INDIRECT(\"1:\"&ROWS(points)))),ROWS($1:$3))),\"\")","v":""},{"$f":"IF(ROWS($1:$4)<=COUNTIF(joueurs,$B25),INDEX(points,SMALL(IF(joueurs=$B25,ROW(INDIRECT(\"1:\"&ROWS(points)))),ROWS($1:$4))),\"\")","v":""},{"$f":"IF(ROWS($1:$5)<=COUNTIF(joueurs,$B25),INDEX(points,SMALL(IF(joueurs=$B25,ROW(INDIRECT(\"1:\"&ROWS(points)))),ROWS($1:$5))),\"\")","v":""},{"$f":"IF(ROWS($1:$6)<=COUNTIF(joueurs,$B25),INDEX(points,SMALL(IF(joueurs=$B25,ROW(INDIRECT(\"1:\"&ROWS(points)))),ROWS($1:$6))),\"\")","v":""},{"$f":"IF(ROWS($1:$7)<=COUNTIF(joueurs,$B25),INDEX(points,SMALL(IF(joueurs=$B25,ROW(INDIRECT(\"1:\"&ROWS(points)))),ROWS($1:$7))),\"\")","v":""},{"$f":"IF(ROWS($1:$8)<=COUNTIF(joueurs,$B25),INDEX(points,SMALL(IF(joueurs=$B25,ROW(INDIRECT(\"1:\"&ROWS(points)))),ROWS($1:$8))),\"\")","v":""},{"$f":"IF(ROWS($1:$9)<=COUNTIF(joueurs,$B25),INDEX(points,SMALL(IF(joueurs=$B25,ROW(INDIRECT(\"1:\"&ROWS(points)))),ROWS($1:$9))),\"\")","v":""},{"$f":"IF(ROWS($1:$10)<=COUNTIF(joueurs,$B25),INDEX(points,SMALL(IF(joueurs=$B25,ROW(INDIRECT(\"1:\"&ROWS(points)))),ROWS($1:$10))),\"\")","v":""},{"$f":"IF(ROWS($1:$1)<=COUNTIF(joueurs,$B25),INDEX(victoires,SMALL(IF(joueurs=$B25,ROW(INDIRECT(\"1:\"&ROWS(victoires)))),ROWS($1:$1))),\"\")","v":""},{"$f":"IF(ROWS($1:$2)<=COUNTIF(joueurs,$B25),INDEX(victoires,SMALL(IF(joueurs=$B25,ROW(INDIRECT(\"1:\"&ROWS(victoires)))),ROWS($1:$2))),\"\")","v":""},{"$f":"IF(ROWS($1:$3)<=COUNTIF(joueurs,$B25),INDEX(victoires,SMALL(IF(joueurs=$B25,ROW(INDIRECT(\"1:\"&ROWS(victoires)))),ROWS($1:$3))),\"\")","v":""},{"$f":"IF(ROWS($1:$4)<=COUNTIF(joueurs,$B25),INDEX(victoires,SMALL(IF(joueurs=$B25,ROW(INDIRECT(\"1:\"&ROWS(victoires)))),ROWS($1:$4))),\"\")","v":""},{"$f":"IF(ROWS($1:$5)<=COUNTIF(joueurs,$B25),INDEX(victoires,SMALL(IF(joueurs=$B25,ROW(INDIRECT(\"1:\"&ROWS(victoires)))),ROWS($1:$5))),\"\")","v":""},{"$f":"IF(ROWS($1:$6)<=COUNTIF(joueurs,$B25),INDEX(victoires,SMALL(IF(joueurs=$B25,ROW(INDIRECT(\"1:\"&ROWS(victoires)))),ROWS($1:$6))),\"\")","v":""},{"$f":"IF(ROWS($1:$7)<=COUNTIF(joueurs,$B25),INDEX(victoires,SMALL(IF(joueurs=$B25,ROW(INDIRECT(\"1:\"&ROWS(victoires)))),ROWS($1:$7))),\"\")","v":""},{"$f":"IF(ROWS($1:$8)<=COUNTIF(joueurs,$B25),INDEX(victoires,SMALL(IF(joueurs=$B25,ROW(INDIRECT(\"1:\"&ROWS(victoires)))),ROWS($1:$8))),\"\")","v":""},{"$f":"IF(ROWS($1:$9)<=COUNTIF(joueurs,$B25),INDEX(victoires,SMALL(IF(joueurs=$B25,ROW(INDIRECT(\"1:\"&ROWS(victoires)))),ROWS($1:$9))),\"\")","v":""},{"$f":"IF(ROWS($1:$10)<=COUNTIF(joueurs,$B25),INDEX(victoires,SMALL(IF(joueurs=$B25,ROW(INDIRECT(\"1:\"&ROWS(victoires)))),ROWS($1:$10))),\"\")","v":""}]
[null,null,null,{"$f":"IF(ROWS($1:$11)<=COUNTIF(joueurs,$B25),INDEX(fautes,SMALL(IF(joueurs=$B25,ROW(INDIRECT(\"1:\"&ROWS(fautes)))),ROWS($1:$11))),\"\")","v":""},{"$f":"IF(ROWS($1:$12)<=COUNTIF(joueurs,$B25),INDEX(fautes,SMALL(IF(joueurs=$B25,ROW(INDIRECT(\"1:\"&ROWS(fautes)))),ROWS($1:$12))),\"\")","v":""},{"$f":"IF(ROWS($1:$13)<=COUNTIF(joueurs,$B25),INDEX(fautes,SMALL(IF(joueurs=$B25,ROW(INDIRECT(\"1:\"&ROWS(fautes)))),ROWS($1:$13))),\"\")","v":""},{"$f":"IF(ROWS($1:$14)<=COUNTIF(joueurs,$B25),INDEX(fautes,SMALL(IF(joueurs=$B25,ROW(INDIRECT(\"1:\"&ROWS(fautes)))),ROWS($1:$14))),\"\")","v":""},{"$f":"IF(ROWS($1:$15)<=COUNTIF(joueurs,$B25),INDEX(fautes,SMALL(IF(joueurs=$B25,ROW(INDIRECT(\"1:\"&ROWS(fautes)))),ROWS($1:$15))),\"\")","v":""},{"$f":"IF(ROWS($1:$16)<=COUNTIF(joueurs,$B25),INDEX(fautes,SMALL(IF(joueurs=$B25,ROW(INDIRECT(\"1:\"&ROWS(fautes)))),ROWS($1:$16))),\"\")","v":""},{"$f":"IF(ROWS($1:$17)<=COUNTIF(joueurs,$B25),INDEX(fautes,SMALL(IF(joueurs=$B25,ROW(INDIRECT(\"1:\"&ROWS(fautes)))),ROWS($1:$17))),\"\")","v":""},{"$f":"IF(ROWS($1:$18)<=COUNTIF(joueurs,$B25),INDEX(fautes,SMALL(IF(joueurs=$B25,ROW(INDIRECT(\"1:\"&ROWS(fautes)))),ROWS($1:$18))),\"\")","v":""},{"$f":"IF(ROWS($1:$19)<=COUNTIF(joueurs,$B25),INDEX(fautes,SMALL(IF(joueurs=$B25,ROW(INDIRECT(\"1:\"&ROWS(fautes)))),ROWS($1:$19))),\"\")","v":""},{"$f":"IF(ROWS($1:$20)<=COUNTIF(joueurs,$B25),INDEX(fautes,SMALL(IF(joueurs=$B25,ROW(INDIRECT(\"1:\"&ROWS(fautes)))),ROWS($1:$20))),\"\")","v":""},{"$f":"IF(ROWS($1:$11)<=COUNTIF(joueurs,$B25),INDEX(ballonperdus,SMALL(IF(joueurs=$B25,ROW(INDIRECT(\"1:\"&ROWS(ballonperdus)))),ROWS($1:$11))),\"\")","v":""},{"$f":"IF(ROWS($1:$12)<=COUNTIF(joueurs,$B25),INDEX(ballonperdus,SMALL(IF(joueurs=$B25,ROW(INDIRECT(\"1:\"&ROWS(ballonperdus)))),ROWS($1:$12))),\"\")","v":""},{"$f":"IF(ROWS($1:$13)<=COUNTIF(joueurs,$B25),INDEX(ballonperdus,SMALL(IF(joueurs=$B25,ROW(INDIRECT(\"1:\"&ROWS(ballonperdus)))),ROWS($1:$13))),\"\")","v":""},{"$f":"IF(ROWS($1:$14)<=COUNTIF(joueurs,$B25),INDEX(ballonperdus,SMALL(IF(joueurs=$B25,ROW(INDIRECT(\"1:\"&ROWS(ballonperdus)))),ROWS($1:$14))),\"\")","v":""},{"$f":"IF(ROWS($1:$15)<=COUNTIF(joueurs,$B25),INDEX(ballonperdus,SMALL(IF(joueurs=$B25,ROW(INDIRECT(\"1:\"&ROWS(ballonperdus)))),ROWS($1:$15))),\"\")","v":""},{"$f":"IF(ROWS($1:$16)<=COUNTIF(joueurs,$B25),INDEX(ballonperdus,SMALL(IF(joueurs=$B25,ROW(INDIRECT(\"1:\"&ROWS(ballonperdus)))),ROWS($1:$16))),\"\")","v":""},{"$f":"IF(ROWS($1:$17)<=COUNTIF(joueurs,$B25),INDEX(ballonperdus,SMALL(IF(joueurs=$B25,ROW(INDIRECT(\"1:\"&ROWS(ballonperdus)))),ROWS($1:$17))),\"\")","v":""},{"$f":"IF(ROWS($1:$18)<=COUNTIF(joueurs,$B25),INDEX(ballonperdus,SMALL(IF(joueurs=$B25,ROW(INDIRECT(\"1:\"&ROWS(ballonperdus)))),ROWS($1:$18))),\"\")","v":""},{"$f":"IF(ROWS($1:$19)<=COUNTIF(joueurs,$B25),INDEX(ballonperdus,SMALL(IF(joueurs=$B25,ROW(INDIRECT(\"1:\"&ROWS(ballonperdus)))),ROWS($1:$19))),\"\")","v":""},{"$f":"IF(ROWS($1:$20)<=COUNTIF(joueurs,$B25),INDEX(fautes,SMALL(IF(joueurs=$B25,ROW(INDIRECT(\"1:\"&ROWS(ballonperdus)))),ROWS($1:$20))),\"\")","v":""},{"$f":"IF(ROWS($1:$11)<=COUNTIF(joueurs,$B25),INDEX(interceptions,SMALL(IF(joueurs=$B25,ROW(INDIRECT(\"1:\"&ROWS(interceptions)))),ROWS($1:$11))),\"\")","v":""},{"$f":"IF(ROWS($1:$12)<=COUNTIF(joueurs,$B25),INDEX(interceptions,SMALL(IF(joueurs=$B25,ROW(INDIRECT(\"1:\"&ROWS(interceptions)))),ROWS($1:$12))),\"\")","v":""},{"$f":"IF(ROWS($1:$13)<=COUNTIF(joueurs,$B25),INDEX(interceptions,SMALL(IF(joueurs=$B25,ROW(INDIRECT(\"1:\"&ROWS(interceptions)))),ROWS($1:$13))),\"\")","v":""},{"$f":"IF(ROWS($1:$14)<=COUNTIF(joueurs,$B25),INDEX(interceptions,SMALL(IF(joueurs=$B25,ROW(INDIRECT(\"1:\"&ROWS(interceptions)))),ROWS($1:$14))),\"\")","v":""},{"$f":"IF(ROWS($1:$15)<=COUNTIF(joueurs,$B25),INDEX(interceptions,SMALL(IF(joueurs=$B25,ROW(INDIRECT(\"1:\"&ROWS(interceptions)))),ROWS($1:$15))),\"\")","v":""},{"$f":"IF(ROWS($1:$16)<=COUNTIF(joueurs,$B25),INDEX(interceptions,SMALL(IF(joueurs=$B25,ROW(INDIRECT(\"1:\"&ROWS(interceptions)))),ROWS($1:$16))),\"\")","v":""},{"$f":"IF(ROWS($1:$17)<=COUNTIF(joueurs,$B25),INDEX(interceptions,SMALL(IF(joueurs=$B25,ROW(INDIRECT(\"1:\"&ROWS(interceptions)))),ROWS($1:$17))),\"\")","v":""},{"$f":"IF(ROWS($1:$18)<=COUNTIF(joueurs,$B25),INDEX(interceptions,SMALL(IF(joueurs=$B25,ROW(INDIRECT(\"1:\"&ROWS(interceptions)))),ROWS($1:$18))),\"\")","v":""},{"$f":"IF(ROWS($1:$19)<=COUNTIF(joueurs,$B25),INDEX(interceptions,SMALL(IF(joueurs=$B25,ROW(INDIRECT(\"1:\"&ROWS(interceptions)))),ROWS($1:$19))),\"\")","v":""},{"$f":"IF(ROWS($1:$20)<=COUNTIF(joueurs,$B25),INDEX(interceptions,SMALL(IF(joueurs=$B25,ROW(INDIRECT(\"1:\"&ROWS(interceptions)))),ROWS($1:$20))),\"\")","v":""},{"$f":"IF(ROWS($1:$11)<=COUNTIF(joueurs,$B25),INDEX(ballonrecuperes,SMALL(IF(joueurs=$B25,ROW(INDIRECT(\"1:\"&ROWS(ballonrecuperes)))),ROWS($1:$11))),\"\")","v":""},{"$f":"IF(ROWS($1:$12)<=COUNTIF(joueurs,$B25),INDEX(ballonrecuperes,SMALL(IF(joueurs=$B25,ROW(INDIRECT(\"1:\"&ROWS(ballonrecuperes)))),ROWS($1:$12))),\"\")","v":""},{"$f":"IF(ROWS($1:$13)<=COUNTIF(joueurs,$B25),INDEX(ballonrecuperes,SMALL(IF(joueurs=$B25,ROW(INDIRECT(\"1:\"&ROWS(ballonrecuperes)))),ROWS($1:$13))),\"\")","v":""},{"$f":"IF(ROWS($1:$14)<=COUNTIF(joueurs,$B25),INDEX(ballonrecuperes,SMALL(IF(joueurs=$B25,ROW(INDIRECT(\"1:\"&ROWS(ballonrecuperes)))),ROWS($1:$14))),\"\")","v":""},{"$f":"IF(ROWS($1:$15)<=COUNTIF(joueurs,$B25),INDEX(ballonrecuperes,SMALL(IF(joueurs=$B25,ROW(INDIRECT(\"1:\"&ROWS(ballonrecuperes)))),ROWS($1:$15))),\"\")","v":""},{"$f":"IF(ROWS($1:$16)<=COUNTIF(joueurs,$B25),INDEX(ballonrecuperes,SMALL(IF(joueurs=$B25,ROW(INDIRECT(\"1:\"&ROWS(ballonrecuperes)))),ROWS($1:$16))),\"\")","v":""},{"$f":"IF(ROWS($1:$17)<=COUNTIF(joueurs,$B25),INDEX(ballonrecuperes,SMALL(IF(joueurs=$B25,ROW(INDIRECT(\"1:\"&ROWS(ballonrecuperes)))),ROWS($1:$17))),\"\")","v":""},{"$f":"IF(ROWS($1:$18)<=COUNTIF(joueurs,$B25),INDEX(ballonrecuperes,SMALL(IF(joueurs=$B25,ROW(INDIRECT(\"1:\"&ROWS(ballonrecuperes)))),ROWS($1:$18))),\"\")","v":""},{"$f":"IF(ROWS($1:$19)<=COUNTIF(joueurs,$B25),INDEX(ballonrecuperes,SMALL(IF(joueurs=$B25,ROW(INDIRECT(\"1:\"&ROWS(ballonrecuperes)))),ROWS($1:$19))),\"\")","v":""},{"$f":"IF(ROWS($1:$20)<=COUNTIF(joueurs,$B25),INDEX(ballonrecuperes,SMALL(IF(joueurs=$B25,ROW(INDIRECT(\"1:\"&ROWS(ballonrecuperes)))),ROWS($1:$20))),\"\")","v":""},{"$f":"IF(ROWS($1:$11)<=COUNTIF(joueurs,$B25),INDEX(tirs,SMALL(IF(joueurs=$B25,ROW(INDIRECT(\"1:\"&ROWS(tirs)))),ROWS($1:$11))),\"\")","v":""},{"$f":"IF(ROWS($1:$12)<=COUNTIF(joueurs,$B25),INDEX(tirs,SMALL(IF(joueurs=$B25,ROW(INDIRECT(\"1:\"&ROWS(tirs)))),ROWS($1:$12))),\"\")","v":""},{"$f":"IF(ROWS($1:$13)<=COUNTIF(joueurs,$B25),INDEX(tirs,SMALL(IF(joueurs=$B25,ROW(INDIRECT(\"1:\"&ROWS(tirs)))),ROWS($1:$13))),\"\")","v":""},{"$f":"IF(ROWS($1:$14)<=COUNTIF(joueurs,$B25),INDEX(tirs,SMALL(IF(joueurs=$B25,ROW(INDIRECT(\"1:\"&ROWS(tirs)))),ROWS($1:$14))),\"\")","v":""},{"$f":"IF(ROWS($1:$15)<=COUNTIF(joueurs,$B25),INDEX(tirs,SMALL(IF(joueurs=$B25,ROW(INDIRECT(\"1:\"&ROWS(tirs)))),ROWS($1:$15))),\"\")","v":""},{"$f":"IF(ROWS($1:$16)<=COUNTIF(joueurs,$B25),INDEX(tirs,SMALL(IF(joueurs=$B25,ROW(INDIRECT(\"1:\"&ROWS(tirs)))),ROWS($1:$16))),\"\")","v":""},{"$f":"IF(ROWS($1:$17)<=COUNTIF(joueurs,$B25),INDEX(tirs,SMALL(IF(joueurs=$B25,ROW(INDIRECT(\"1:\"&ROWS(tirs)))),ROWS($1:$17))),\"\")","v":""},{"$f":"IF(ROWS($1:$18)<=COUNTIF(joueurs,$B25),INDEX(tirs,SMALL(IF(joueurs=$B25,ROW(INDIRECT(\"1:\"&ROWS(tirs)))),ROWS($1:$18))),\"\")","v":""},{"$f":"IF(ROWS($1:$19)<=COUNTIF(joueurs,$B25),INDEX(tirs,SMALL(IF(joueurs=$B25,ROW(INDIRECT(\"1:\"&ROWS(tirs)))),ROWS($1:$19))),\"\")","v":""},{"$f":"IF(ROWS($1:$20)<=COUNTIF(joueurs,$B25),INDEX(tirs,SMALL(IF(joueurs=$B25,ROW(INDIRECT(\"1:\"&ROWS(tirs)))),ROWS($1:$20))),\"\")","v":""},{"$f":"IF(ROWS($1:$11)<=COUNTIF(joueurs,$B25),INDEX(bontirs,SMALL(IF(joueurs=$B25,ROW(INDIRECT(\"1:\"&ROWS(bontirs)))),ROWS($1:$11))),\"\")","v":""},{"$f":"IF(ROWS($1:$12)<=COUNTIF(joueurs,$B25),INDEX(bontirs,SMALL(IF(joueurs=$B25,ROW(INDIRECT(\"1:\"&ROWS(bontirs)))),ROWS($1:$12))),\"\")","v":""},{"$f":"IF(ROWS($1:$13)<=COUNTIF(joueurs,$B25),INDEX(bontirs,SMALL(IF(joueurs=$B25,ROW(INDIRECT(\"1:\"&ROWS(bontirs)))),ROWS($1:$13))),\"\")","v":""},{"$f":"IF(ROWS($1:$14)<=COUNTIF(joueurs,$B25),INDEX(bontirs,SMALL(IF(joueurs=$B25,ROW(INDIRECT(\"1:\"&ROWS(bontirs)))),ROWS($1:$14))),\"\")","v":""},{"$f":"IF(ROWS($1:$15)<=COUNTIF(joueurs,$B25),INDEX(bontirs,SMALL(IF(joueurs=$B25,ROW(INDIRECT(\"1:\"&ROWS(bontirs)))),ROWS($1:$15))),\"\")","v":""},{"$f":"IF(ROWS($1:$16)<=COUNTIF(joueurs,$B25),INDEX(bontirs,SMALL(IF(joueurs=$B25,ROW(INDIRECT(\"1:\"&ROWS(bontirs)))),ROWS($1:$16))),\"\")","v":""},{"$f":"IF(ROWS($1:$17)<=COUNTIF(joueurs,$B25),INDEX(bontirs,SMALL(IF(joueurs=$B25,ROW(INDIRECT(\"1:\"&ROWS(bontirs)))),ROWS($1:$17))),\"\")","v":""},{"$f":"IF(ROWS($1:$18)<=COUNTIF(joueurs,$B25),INDEX(bontirs,SMALL(IF(joueurs=$B25,ROW(INDIRECT(\"1:\"&ROWS(bontirs)))),ROWS($1:$18))),\"\")","v":""},{"$f":"IF(ROWS($1:$19)<=COUNTIF(joueurs,$B25),INDEX(bontirs,SMALL(IF(joueurs=$B25,ROW(INDIRECT(\"1:\"&ROWS(bontirs)))),ROWS($1:$19))),\"\")","v":""},{"$f":"IF(ROWS($1:$20)<=COUNTIF(joueurs,$B25),INDEX(bontirs,SMALL(IF(joueurs=$B25,ROW(INDIRECT(\"1:\"&ROWS(bontirs)))),ROWS($1:$20))),\"\")","v":""},{"$f":"IF(ROWS($1:$11)<=COUNTIF(joueurs,$B25),INDEX(points,SMALL(IF(joueurs=$B25,ROW(INDIRECT(\"1:\"&ROWS(points)))),ROWS($1:$11))),\"\")","v":""},{"$f":"IF(ROWS($1:$12)<=COUNTIF(joueurs,$B25),INDEX(points,SMALL(IF(joueurs=$B25,ROW(INDIRECT(\"1:\"&ROWS(points)))),ROWS($1:$12))),\"\")","v":""},{"$f":"IF(ROWS($1:$13)<=COUNTIF(joueurs,$B25),INDEX(points,SMALL(IF(joueurs=$B25,ROW(INDIRECT(\"1:\"&ROWS(points)))),ROWS($1:$13))),\"\")","v":""},{"$f":"IF(ROWS($1:$14)<=COUNTIF(joueurs,$B25),INDEX(points,SMALL(IF(joueurs=$B25,ROW(INDIRECT(\"1:\"&ROWS(points)))),ROWS($1:$14))),\"\")","v":""},{"$f":"IF(ROWS($1:$15)<=COUNTIF(joueurs,$B25),INDEX(points,SMALL(IF(joueurs=$B25,ROW(INDIRECT(\"1:\"&ROWS(points)))),ROWS($1:$15))),\"\")","v":""},{"$f":"IF(ROWS($1:$16)<=COUNTIF(joueurs,$B25),INDEX(points,SMALL(IF(joueurs=$B25,ROW(INDIRECT(\"1:\"&ROWS(points)))),ROWS($1:$16))),\"\")","v":""},{"$f":"IF(ROWS($1:$17)<=COUNTIF(joueurs,$B25),INDEX(points,SMALL(IF(joueurs=$B25,ROW(INDIRECT(\"1:\"&ROWS(points)))),ROWS($1:$17))),\"\")","v":""},{"$f":"IF(ROWS($1:$18)<=COUNTIF(joueurs,$B25),INDEX(points,SMALL(IF(joueurs=$B25,ROW(INDIRECT(\"1:\"&ROWS(points)))),ROWS($1:$18))),\"\")","v":""},{"$f":"IF(ROWS($1:$19)<=COUNTIF(joueurs,$B25),INDEX(points,SMALL(IF(joueurs=$B25,ROW(INDIRECT(\"1:\"&ROWS(points)))),ROWS($1:$19))),\"\")","v":""},{"$f":"IF(ROWS($1:$20)<=COUNTIF(points,$B25),INDEX(fautes,SMALL(IF(joueurs=$B25,ROW(INDIRECT(\"1:\"&ROWS(points)))),ROWS($1:$20))),\"\")","v":""},{"$f":"IF(ROWS($1:$11)<=COUNTIF(joueurs,$B25),INDEX(victoires,SMALL(IF(joueurs=$B25,ROW(INDIRECT(\"1:\"&ROWS(victoires)))),ROWS($1:$11))),\"\")","v":""},{"$f":"IF(ROWS($1:$12)<=COUNTIF(joueurs,$B25),INDEX(victoires,SMALL(IF(joueurs=$B25,ROW(INDIRECT(\"1:\"&ROWS(victoires)))),ROWS($1:$12))),\"\")","v":""},{"$f":"IF(ROWS($1:$13)<=COUNTIF(joueurs,$B25),INDEX(victoires,SMALL(IF(joueurs=$B25,ROW(INDIRECT(\"1:\"&ROWS(victoires)))),ROWS($1:$13))),\"\")","v":""},{"$f":"IF(ROWS($1:$14)<=COUNTIF(joueurs,$B25),INDEX(victoires,SMALL(IF(joueurs=$B25,ROW(INDIRECT(\"1:\"&ROWS(victoires)))),ROWS($1:$14))),\"\")","v":""},{"$f":"IF(ROWS($1:$15)<=COUNTIF(joueurs,$B25),INDEX(victoires,SMALL(IF(joueurs=$B25,ROW(INDIRECT(\"1:\"&ROWS(victoires)))),ROWS($1:$15))),\"\")","v":""},{"$f":"IF(ROWS($1:$16)<=COUNTIF(joueurs,$B25),INDEX(victoires,SMALL(IF(joueurs=$B25,ROW(INDIRECT(\"1:\"&ROWS(victoires)))),ROWS($1:$16))),\"\")","v":""},{"$f":"IF(ROWS($1:$17)<=COUNTIF(joueurs,$B25),INDEX(victoires,SMALL(IF(joueurs=$B25,ROW(INDIRECT(\"1:\"&ROWS(victoires)))),ROWS($1:$17))),\"\")","v":""},{"$f":"IF(ROWS($1:$18)<=COUNTIF(joueurs,$B25),INDEX(victoires,SMALL(IF(joueurs=$B25,ROW(INDIRECT(\"1:\"&ROWS(victoires)))),ROWS($1:$18))),\"\")","v":""},{"$f":"IF(ROWS($1:$19)<=COUNTIF(joueurs,$B25),INDEX(victoires,SMALL(IF(joueurs=$B25,ROW(INDIRECT(\"1:\"&ROWS(victoires)))),ROWS($1:$19))),\"\")","v":""},{"$f":"IF(ROWS($1:$20)<=COUNTIF(joueurs,$B25),INDEX(victoires,SMALL(IF(joueurs=$B25,ROW(INDIRECT(\"1:\"&ROWS(victoires)))),ROWS($1:$20))),\"\")","v":""}]
[null,null,null,{"$f":"IF(ROWS($1:$21)<=COUNTIF(joueurs,$B25),INDEX(fautes,SMALL(IF(joueurs=$B25,ROW(INDIRECT(\"1:\"&ROWS(fautes)))),ROWS($1:$21))),\"\")","v":""},{"$f":"IF(ROWS($1:$22)<=COUNTIF(joueurs,$B25),INDEX(fautes,SMALL(IF(joueurs=$B25,ROW(INDIRECT(\"1:\"&ROWS(fautes)))),ROWS($1:$22))),\"\")","v":""},{"$f":"IF(ROWS($1:$23)<=COUNTIF(joueurs,$B25),INDEX(fautes,SMALL(IF(joueurs=$B25,ROW(INDIRECT(\"1:\"&ROWS(fautes)))),ROWS($1:$23))),\"\")","v":""},{"$f":"IF(ROWS($1:$24)<=COUNTIF(joueurs,$B25),INDEX(fautes,SMALL(IF(joueurs=$B25,ROW(INDIRECT(\"1:\"&ROWS(fautes)))),ROWS($1:$24))),\"\")","v":""},{"$f":"IF(ROWS($1:$25)<=COUNTIF(joueurs,$B25),INDEX(fautes,SMALL(IF(joueurs=$B25,ROW(INDIRECT(\"1:\"&ROWS(fautes)))),ROWS($1:$25))),\"\")","v":""},{"$f":"IF(ROWS($1:$26)<=COUNTIF(joueurs,$B25),INDEX(fautes,SMALL(IF(joueurs=$B25,ROW(INDIRECT(\"1:\"&ROWS(fautes)))),ROWS($1:$26))),\"\")","v":""},{"$f":"IF(ROWS($1:$27)<=COUNTIF(joueurs,$B25),INDEX(fautes,SMALL(IF(joueurs=$B25,ROW(INDIRECT(\"1:\"&ROWS(fautes)))),ROWS($1:$27))),\"\")","v":""},{"$f":"IF(ROWS($1:$28)<=COUNTIF(joueurs,$B25),INDEX(fautes,SMALL(IF(joueurs=$B25,ROW(INDIRECT(\"1:\"&ROWS(fautes)))),ROWS($1:$28))),\"\")","v":""},{"$f":"IF(ROWS($1:$29)<=COUNTIF(joueurs,$B25),INDEX(fautes,SMALL(IF(joueurs=$B25,ROW(INDIRECT(\"1:\"&ROWS(fautes)))),ROWS($1:$29))),\"\")","v":""},{"$f":"IF(ROWS($1:$30)<=COUNTIF(joueurs,$B25),INDEX(fautes,SMALL(IF(joueurs=$B25,ROW(INDIRECT(\"1:\"&ROWS(fautes)))),ROWS($1:$30))),\"\")","v":""},{"$f":"IF(ROWS($1:$21)<=COUNTIF(joueurs,$B25),INDEX(ballonperdus,SMALL(IF(joueurs=$B25,ROW(INDIRECT(\"1:\"&ROWS(ballonperdus)))),ROWS($1:$21))),\"\")","v":""},{"$f":"IF(ROWS($1:$22)<=COUNTIF(joueurs,$B25),INDEX(ballonperdus,SMALL(IF(joueurs=$B25,ROW(INDIRECT(\"1:\"&ROWS(ballonperdus)))),ROWS($1:$22))),\"\")","v":""},{"$f":"IF(ROWS($1:$23)<=COUNTIF(joueurs,$B25),INDEX(ballonperdus,SMALL(IF(joueurs=$B25,ROW(INDIRECT(\"1:\"&ROWS(ballonperdus)))),ROWS($1:$23))),\"\")","v":""},{"$f":"IF(ROWS($1:$24)<=COUNTIF(joueurs,$B25),INDEX(ballonperdus,SMALL(IF(joueurs=$B25,ROW(INDIRECT(\"1:\"&ROWS(ballonperdus)))),ROWS($1:$24))),\"\")","v":""},{"$f":"IF(ROWS($1:$25)<=COUNTIF(joueurs,$B25),INDEX(ballonperdus,SMALL(IF(joueurs=$B25,ROW(INDIRECT(\"1:\"&ROWS(ballonperdus)))),ROWS($1:$25))),\"\")","v":""},{"$f":"IF(ROWS($1:$26)<=COUNTIF(joueurs,$B25),INDEX(ballonperdus,SMALL(IF(joueurs=$B25,ROW(INDIRECT(\"1:\"&ROWS(ballonperdus)))),ROWS($1:$26))),\"\")","v":""},{"$f":"IF(ROWS($1:$27)<=COUNTIF(joueurs,$B25),INDEX(ballonperdus,SMALL(IF(joueurs=$B25,ROW(INDIRECT(\"1:\"&ROWS(ballonperdus)))),ROWS($1:$27))),\"\")","v":""},{"$f":"IF(ROWS($1:$28)<=COUNTIF(joueurs,$B25),INDEX(ballonperdus,SMALL(IF(joueurs=$B25,ROW(INDIRECT(\"1:\"&ROWS(ballonperdus)))),ROWS($1:$28))),\"\")","v":""},{"$f":"IF(ROWS($1:$29)<=COUNTIF(joueurs,$B25),INDEX(ballonperdus,SMALL(IF(joueurs=$B25,ROW(INDIRECT(\"1:\"&ROWS(ballonperdus)))),ROWS($1:$29))),\"\")","v":""},{"$f":"IF(ROWS($1:$30)<=COUNTIF(joueurs,$B25),INDEX(ballonperdus,SMALL(IF(joueurs=$B25,ROW(INDIRECT(\"1:\"&ROWS(ballonperdus)))),ROWS($1:$30))),\"\")","v":""},{"$f":"IF(ROWS($1:$21)<=COUNTIF(joueurs,$B25),INDEX(interceptions,SMALL(IF(joueurs=$B25,ROW(INDIRECT(\"1:\"&ROWS(interceptions)))),ROWS($1:$21))),\"\")","v":""},{"$f":"IF(ROWS($1:$22)<=COUNTIF(joueurs,$B25),INDEX(interceptions,SMALL(IF(joueurs=$B25,ROW(INDIRECT(\"1:\"&ROWS(interceptions)))),ROWS($1:$22))),\"\")","v":""},{"$f":"IF(ROWS($1:$23)<=COUNTIF(joueurs,$B25),INDEX(interceptions,SMALL(IF(joueurs=$B25,ROW(INDIRECT(\"1:\"&ROWS(interceptions)))),ROWS($1:$23))),\"\")","v":""},{"$f":"IF(ROWS($1:$24)<=COUNTIF(joueurs,$B25),INDEX(interceptions,SMALL(IF(joueurs=$B25,ROW(INDIRECT(\"1:\"&ROWS(interceptions)))),ROWS($1:$24))),\"\")","v":""},{"$f":"IF(ROWS($1:$25)<=COUNTIF(joueurs,$B25),INDEX(interceptions,SMALL(IF(joueurs=$B25,ROW(INDIRECT(\"1:\"&ROWS(interceptions)))),ROWS($1:$25))),\"\")","v":""},{"$f":"IF(ROWS($1:$26)<=COUNTIF(joueurs,$B25),INDEX(interceptions,SMALL(IF(joueurs=$B25,ROW(INDIRECT(\"1:\"&ROWS(interceptions)))),ROWS($1:$26))),\"\")","v":""},{"$f":"IF(ROWS($1:$27)<=COUNTIF(joueurs,$B25),INDEX(interceptions,SMALL(IF(joueurs=$B25,ROW(INDIRECT(\"1:\"&ROWS(interceptions)))),ROWS($1:$27))),\"\")","v":""},{"$f":"IF(ROWS($1:$28)<=COUNTIF(joueurs,$B25),INDEX(interceptions,SMALL(IF(joueurs=$B25,ROW(INDIRECT(\"1:\"&ROWS(interceptions)))),ROWS($1:$28))),\"\")","v":""},{"$f":"IF(ROWS($1:$29)<=COUNTIF(joueurs,$B25),INDEX(interceptions,SMALL(IF(joueurs=$B25,ROW(INDIRECT(\"1:\"&ROWS(interceptions)))),ROWS($1:$29))),\"\")","v":""},{"$f":"IF(ROWS($1:$30)<=COUNTIF(joueurs,$B25),INDEX(interceptions,SMALL(IF(joueurs=$B25,ROW(INDIRECT(\"1:\"&ROWS(interceptions)))),ROWS($1:$30))),\"\")","v":""},{"$f":"IF(ROWS($1:$21)<=COUNTIF(joueurs,$B25),INDEX(ballonrecuperes,SMALL(IF(joueurs=$B25,ROW(INDIRECT(\"1:\"&ROWS(ballonrecuperes)))),ROWS($1:$21))),\"\")","v":""},{"$f":"IF(ROWS($1:$22)<=COUNTIF(joueurs,$B25),INDEX(ballonrecuperes,SMALL(IF(joueurs=$B25,ROW(INDIRECT(\"1:\"&ROWS(ballonrecuperes)))),ROWS($1:$22))),\"\")","v":""},{"$f":"IF(ROWS($1:$23)<=COUNTIF(joueurs,$B25),INDEX(ballonrecuperes,SMALL(IF(joueurs=$B25,ROW(INDIRECT(\"1:\"&ROWS(ballonrecuperes)))),ROWS($1:$23))),\"\")","v":""},{"$f":"IF(ROWS($1:$24)<=COUNTIF(joueurs,$B25),INDEX(ballonrecuperes,SMALL(IF(joueurs=$B25,ROW(INDIRECT(\"1:\"&ROWS(ballonrecuperes)))),ROWS($1:$24))),\"\")","v":""},{"$f":"IF(ROWS($1:$25)<=COUNTIF(joueurs,$B25),INDEX(ballonrecuperes,SMALL(IF(joueurs=$B25,ROW(INDIRECT(\"1:\"&ROWS(ballonrecuperes)))),ROWS($1:$25))),\"\")","v":""},{"$f":"IF(ROWS($1:$26)<=COUNTIF(joueurs,$B25),INDEX(ballonrecuperes,SMALL(IF(joueurs=$B25,ROW(INDIRECT(\"1:\"&ROWS(ballonrecuperes)))),ROWS($1:$26))),\"\")","v":""},{"$f":"IF(ROWS($1:$27)<=COUNTIF(joueurs,$B25),INDEX(ballonrecuperes,SMALL(IF(joueurs=$B25,ROW(INDIRECT(\"1:\"&ROWS(ballonrecuperes)))),ROWS($1:$27))),\"\")","v":""},{"$f":"IF(ROWS($1:$28)<=COUNTIF(joueurs,$B25),INDEX(ballonrecuperes,SMALL(IF(joueurs=$B25,ROW(INDIRECT(\"1:\"&ROWS(ballonrecuperes)))),ROWS($1:$28))),\"\")","v":""},{"$f":"IF(ROWS($1:$29)<=COUNTIF(joueurs,$B25),INDEX(ballonrecuperes,SMALL(IF(joueurs=$B25,ROW(INDIRECT(\"1:\"&ROWS(ballonrecuperes)))),ROWS($1:$29))),\"\")","v":""},{"$f":"IF(ROWS($1:$30)<=COUNTIF(joueurs,$B25),INDEX(ballonrecuperes,SMALL(IF(joueurs=$B25,ROW(INDIRECT(\"1:\"&ROWS(ballonrecuperes)))),ROWS($1:$30))),\"\")","v":""},{"$f":"IF(ROWS($1:$21)<=COUNTIF(joueurs,$B25),INDEX(tirs,SMALL(IF(joueurs=$B25,ROW(INDIRECT(\"1:\"&ROWS(tirs)))),ROWS($1:$21))),\"\")","v":""},{"$f":"IF(ROWS($1:$22)<=COUNTIF(joueurs,$B25),INDEX(tirs,SMALL(IF(joueurs=$B25,ROW(INDIRECT(\"1:\"&ROWS(tirs)))),ROWS($1:$22))),\"\")","v":""},{"$f":"IF(ROWS($1:$23)<=COUNTIF(joueurs,$B25),INDEX(tirs,SMALL(IF(joueurs=$B25,ROW(INDIRECT(\"1:\"&ROWS(tirs)))),ROWS($1:$23))),\"\")","v":""},{"$f":"IF(ROWS($1:$24)<=COUNTIF(joueurs,$B25),INDEX(tirs,SMALL(IF(joueurs=$B25,ROW(INDIRECT(\"1:\"&ROWS(tirs)))),ROWS($1:$24))),\"\")","v":""},{"$f":"IF(ROWS($1:$25)<=COUNTIF(joueurs,$B25),INDEX(tirs,SMALL(IF(joueurs=$B25,ROW(INDIRECT(\"1:\"&ROWS(tirs)))),ROWS($1:$25))),\"\")","v":""},{"$f":"IF(ROWS($1:$26)<=COUNTIF(joueurs,$B25),INDEX(tirs,SMALL(IF(joueurs=$B25,ROW(INDIRECT(\"1:\"&ROWS(tirs)))),ROWS($1:$26))),\"\")","v":""},{"$f":"IF(ROWS($1:$27)<=COUNTIF(joueurs,$B25),INDEX(tirs,SMALL(IF(joueurs=$B25,ROW(INDIRECT(\"1:\"&ROWS(tirs)))),ROWS($1:$27))),\"\")","v":""},{"$f":"IF(ROWS($1:$28)<=COUNTIF(joueurs,$B25),INDEX(tirs,SMALL(IF(joueurs=$B25,ROW(INDIRECT(\"1:\"&ROWS(tirs)))),ROWS($1:$28))),\"\")","v":""},{"$f":"IF(ROWS($1:$29)<=COUNTIF(joueurs,$B25),INDEX(tirs,SMALL(IF(joueurs=$B25,ROW(INDIRECT(\"1:\"&ROWS(tirs)))),ROWS($1:$29))),\"\")","v":""},{"$f":"IF(ROWS($1:$30)<=COUNTIF(joueurs,$B25),INDEX(tirs,SMALL(IF(joueurs=$B25,ROW(INDIRECT(\"1:\"&ROWS(tirs)))),ROWS($1:$30))),\"\")","v":""},{"$f":"IF(ROWS($1:$21)<=COUNTIF(joueurs,$B25),INDEX(bontirs,SMALL(IF(joueurs=$B25,ROW(INDIRECT(\"1:\"&ROWS(bontirs)))),ROWS($1:$21))),\"\")","v":""},{"$f":"IF(ROWS($1:$22)<=COUNTIF(joueurs,$B25),INDEX(bontirs,SMALL(IF(joueurs=$B25,ROW(INDIRECT(\"1:\"&ROWS(bontirs)))),ROWS($1:$22))),\"\")","v":""},{"$f":"IF(ROWS($1:$23)<=COUNTIF(joueurs,$B25),INDEX(bontirs,SMALL(IF(joueurs=$B25,ROW(INDIRECT(\"1:\"&ROWS(bontirs)))),ROWS($1:$23))),\"\")","v":""},{"$f":"IF(ROWS($1:$24)<=COUNTIF(joueurs,$B25),INDEX(bontirs,SMALL(IF(joueurs=$B25,ROW(INDIRECT(\"1:\"&ROWS(bontirs)))),ROWS($1:$24))),\"\")","v":""},{"$f":"IF(ROWS($1:$25)<=COUNTIF(joueurs,$B25),INDEX(bontirs,SMALL(IF(joueurs=$B25,ROW(INDIRECT(\"1:\"&ROWS(bontirs)))),ROWS($1:$25))),\"\")","v":""},{"$f":"IF(ROWS($1:$26)<=COUNTIF(joueurs,$B25),INDEX(bontirs,SMALL(IF(joueurs=$B25,ROW(INDIRECT(\"1:\"&ROWS(bontirs)))),ROWS($1:$26))),\"\")","v":""},{"$f":"IF(ROWS($1:$27)<=COUNTIF(joueurs,$B25),INDEX(bontirs,SMALL(IF(joueurs=$B25,ROW(INDIRECT(\"1:\"&ROWS(bontirs)))),ROWS($1:$27))),\"\")","v":""},{"$f":"IF(ROWS($1:$28)<=COUNTIF(joueurs,$B25),INDEX(bontirs,SMALL(IF(joueurs=$B25,ROW(INDIRECT(\"1:\"&ROWS(bontirs)))),ROWS($1:$28))),\"\")","v":""},{"$f":"IF(ROWS($1:$29)<=COUNTIF(joueurs,$B25),INDEX(bontirs,SMALL(IF(joueurs=$B25,ROW(INDIRECT(\"1:\"&ROWS(bontirs)))),ROWS($1:$29))),\"\")","v":""},{"$f":"IF(ROWS($1:$30)<=COUNTIF(joueurs,$B25),INDEX(bontirs,SMALL(IF(joueurs=$B25,ROW(INDIRECT(\"1:\"&ROWS(bontirs)))),ROWS($1:$30))),\"\")","v":""},{"$f":"IF(ROWS($1:$21)<=COUNTIF(joueurs,$B25),INDEX(points,SMALL(IF(joueurs=$B25,ROW(INDIRECT(\"1:\"&ROWS(points)))),ROWS($1:$21))),\"\")","v":""},{"$f":"IF(ROWS($1:$22)<=COUNTIF(joueurs,$B25),INDEX(points,SMALL(IF(joueurs=$B25,ROW(INDIRECT(\"1:\"&ROWS(points)))),ROWS($1:$22))),\"\")","v":""},{"$f":"IF(ROWS($1:$23)<=COUNTIF(joueurs,$B25),INDEX(points,SMALL(IF(joueurs=$B25,ROW(INDIRECT(\"1:\"&ROWS(points)))),ROWS($1:$23))),\"\")","v":""},{"$f":"IF(ROWS($1:$24)<=COUNTIF(joueurs,$B25),INDEX(points,SMALL(IF(joueurs=$B25,ROW(INDIRECT(\"1:\"&ROWS(points)))),ROWS($1:$24))),\"\")","v":""},{"$f":"IF(ROWS($1:$25)<=COUNTIF(joueurs,$B25),INDEX(points,SMALL(IF(joueurs=$B25,ROW(INDIRECT(\"1:\"&ROWS(points)))),ROWS($1:$25))),\"\")","v":""},{"$f":"IF(ROWS($1:$26)<=COUNTIF(joueurs,$B25),INDEX(points,SMALL(IF(joueurs=$B25,ROW(INDIRECT(\"1:\"&ROWS(points)))),ROWS($1:$26))),\"\")","v":""},{"$f":"IF(ROWS($1:$27)<=COUNTIF(joueurs,$B25),INDEX(points,SMALL(IF(joueurs=$B25,ROW(INDIRECT(\"1:\"&ROWS(points)))),ROWS($1:$27))),\"\")","v":""},{"$f":"IF(ROWS($1:$28)<=COUNTIF(joueurs,$B25),INDEX(points,SMALL(IF(joueurs=$B25,ROW(INDIRECT(\"1:\"&ROWS(points)))),ROWS($1:$28))),\"\")","v":""},{"$f":"IF(ROWS($1:$29)<=COUNTIF(joueurs,$B25),INDEX(points,SMALL(IF(joueurs=$B25,ROW(INDIRECT(\"1:\"&ROWS(points)))),ROWS($1:$29))),\"\")","v":""},{"$f":"IF(ROWS($1:$30)<=COUNTIF(joueurs,$B25),INDEX(points,SMALL(IF(joueurs=$B25,ROW(INDIRECT(\"1:\"&ROWS(points)))),ROWS($1:$30))),\"\")","v":""},{"$f":"IF(ROWS($1:$21)<=COUNTIF(joueurs,$B25),INDEX(victoires,SMALL(IF(joueurs=$B25,ROW(INDIRECT(\"1:\"&ROWS(victoires)))),ROWS($1:$21))),\"\")","v":""},{"$f":"IF(ROWS($1:$22)<=COUNTIF(joueurs,$B25),INDEX(victoires,SMALL(IF(joueurs=$B25,ROW(INDIRECT(\"1:\"&ROWS(victoires)))),ROWS($1:$22))),\"\")","v":""},{"$f":"IF(ROWS($1:$23)<=COUNTIF(joueurs,$B25),INDEX(victoires,SMALL(IF(joueurs=$B25,ROW(INDIRECT(\"1:\"&ROWS(victoires)))),ROWS($1:$23))),\"\")","v":""},{"$f":"IF(ROWS($1:$24)<=COUNTIF(joueurs,$B25),INDEX(victoires,SMALL(IF(joueurs=$B25,ROW(INDIRECT(\"1:\"&ROWS(victoires)))),ROWS($1:$24))),\"\")","v":""},{"$f":"IF(ROWS($1:$25)<=COUNTIF(joueurs,$B25),INDEX(victoires,SMALL(IF(joueurs=$B25,ROW(INDIRECT(\"1:\"&ROWS(victoires)))),ROWS($1:$25))),\"\")","v":""},{"$f":"IF(ROWS($1:$26)<=COUNTIF(joueurs,$B25),INDEX(victoires,SMALL(IF(joueurs=$B25,ROW(INDIRECT(\"1:\"&ROWS(victoires)))),ROWS($1:$26))),\"\")","v":""},{"$f":"IF(ROWS($1:$27)<=COUNTIF(joueurs,$B25),INDEX(victoires,SMALL(IF(joueurs=$B25,ROW(INDIRECT(\"1:\"&ROWS(victoires)))),ROWS($1:$27))),\"\")","v":""},{"$f":"IF(ROWS($1:$28)<=COUNTIF(joueurs,$B25),INDEX(victoires,SMALL(IF(joueurs=$B25,ROW(INDIRECT(\"1:\"&ROWS(victoires)))),ROWS($1:$28))),\"\")","v":""},{"$f":"IF(ROWS($1:$29)<=COUNTIF(joueurs,$B25),INDEX(victoires,SMALL(IF(joueurs=$B25,ROW(INDIRECT(\"1:\"&ROWS(victoires)))),ROWS($1:$29))),\"\")","v":""},{"$f":"IF(ROWS($1:$30)<=COUNTIF(joueurs,$B25),INDEX(victoires,SMALL(IF(joueurs=$B25,ROW(INDIRECT(\"1:\"&ROWS(victoires)))),ROWS($1:$30))),\"\")","v":""}]
[null,null,null,{"$f":"IF(ROWS($1:$31)<=COUNTIF(joueurs,$B25),INDEX(fautes,SMALL(IF(joueurs=$B25,ROW(INDIRECT(\"1:\"&ROWS(fautes)))),ROWS($1:$31))),\"\")","v":""},{"$f":"IF(ROWS($1:$32)<=COUNTIF(joueurs,$B25),INDEX(fautes,SMALL(IF(joueurs=$B25,ROW(INDIRECT(\"1:\"&ROWS(fautes)))),ROWS($1:$32))),\"\")","v":""},{"$f":"IF(ROWS($1:$33)<=COUNTIF(joueurs,$B25),INDEX(fautes,SMALL(IF(joueurs=$B25,ROW(INDIRECT(\"1:\"&ROWS(fautes)))),ROWS($1:$33))),\"\")","v":""},{"$f":"IF(ROWS($1:$34)<=COUNTIF(joueurs,$B25),INDEX(fautes,SMALL(IF(joueurs=$B25,ROW(INDIRECT(\"1:\"&ROWS(fautes)))),ROWS($1:$34))),\"\")","v":""},{"$f":"IF(ROWS($1:$35)<=COUNTIF(joueurs,$B25),INDEX(fautes,SMALL(IF(joueurs=$B25,ROW(INDIRECT(\"1:\"&ROWS(fautes)))),ROWS($1:$35))),\"\")","v":""},{"$f":"IF(ROWS($1:$36)<=COUNTIF(joueurs,$B25),INDEX(fautes,SMALL(IF(joueurs=$B25,ROW(INDIRECT(\"1:\"&ROWS(fautes)))),ROWS($1:$36))),\"\")","v":""},{"$f":"IF(ROWS($1:$37)<=COUNTIF(joueurs,$B25),INDEX(fautes,SMALL(IF(joueurs=$B25,ROW(INDIRECT(\"1:\"&ROWS(fautes)))),ROWS($1:$37))),\"\")","v":""},{"$f":"IF(ROWS($1:$38)<=COUNTIF(joueurs,$B25),INDEX(fautes,SMALL(IF(joueurs=$B25,ROW(INDIRECT(\"1:\"&ROWS(fautes)))),ROWS($1:$38))),\"\")","v":""},{"$f":"IF(ROWS($1:$39)<=COUNTIF(joueurs,$B25),INDEX(fautes,SMALL(IF(joueurs=$B25,ROW(INDIRECT(\"1:\"&ROWS(fautes)))),ROWS($1:$39))),\"\")","v":""},{"$f":"IF(ROWS($1:$40)<=COUNTIF(joueurs,$B25),INDEX(fautes,SMALL(IF(joueurs=$B25,ROW(INDIRECT(\"1:\"&ROWS(fautes)))),ROWS($1:$40))),\"\")","v":""},{"$f":"IF(ROWS($1:$31)<=COUNTIF(joueurs,$B25),INDEX(ballonperdus,SMALL(IF(joueurs=$B25,ROW(INDIRECT(\"1:\"&ROWS(ballonperdus)))),ROWS($1:$31))),\"\")","v":""},{"$f":"IF(ROWS($1:$32)<=COUNTIF(joueurs,$B25),INDEX(ballonperdus,SMALL(IF(joueurs=$B25,ROW(INDIRECT(\"1:\"&ROWS(ballonperdus)))),ROWS($1:$32))),\"\")","v":""},{"$f":"IF(ROWS($1:$33)<=COUNTIF(joueurs,$B25),INDEX(ballonperdus,SMALL(IF(joueurs=$B25,ROW(INDIRECT(\"1:\"&ROWS(ballonperdus)))),ROWS($1:$33))),\"\")","v":""},{"$f":"IF(ROWS($1:$34)<=COUNTIF(joueurs,$B25),INDEX(ballonperdus,SMALL(IF(joueurs=$B25,ROW(INDIRECT(\"1:\"&ROWS(ballonperdus)))),ROWS($1:$34))),\"\")","v":""},{"$f":"IF(ROWS($1:$35)<=COUNTIF(joueurs,$B25),INDEX(ballonperdus,SMALL(IF(joueurs=$B25,ROW(INDIRECT(\"1:\"&ROWS(ballonperdus)))),ROWS($1:$35))),\"\")","v":""},{"$f":"IF(ROWS($1:$36)<=COUNTIF(joueurs,$B25),INDEX(ballonperdus,SMALL(IF(joueurs=$B25,ROW(INDIRECT(\"1:\"&ROWS(ballonperdus)))),ROWS($1:$36))),\"\")","v":""},{"$f":"IF(ROWS($1:$37)<=COUNTIF(joueurs,$B25),INDEX(ballonperdus,SMALL(IF(joueurs=$B25,ROW(INDIRECT(\"1:\"&ROWS(ballonperdus)))),ROWS($1:$37))),\"\")","v":""},{"$f":"IF(ROWS($1:$38)<=COUNTIF(joueurs,$B25),INDEX(ballonperdus,SMALL(IF(joueurs=$B25,ROW(INDIRECT(\"1:\"&ROWS(ballonperdus)))),ROWS($1:$38))),\"\")","v":""},{"$f":"IF(ROWS($1:$39)<=COUNTIF(joueurs,$B25),INDEX(ballonperdus,SMALL(IF(joueurs=$B25,ROW(INDIRECT(\"1:\"&ROWS(ballonperdus)))),ROWS($1:$39))),\"\")","v":""},{"$f":"IF(ROWS($1:$40)<=COUNTIF(joueurs,$B25),INDEX(ballonperdus,SMALL(IF(joueurs=$B25,ROW(INDIRECT(\"1:\"&ROWS(ballonperdus)))),ROWS($1:$40))),\"\")","v":""},{"$f":"IF(ROWS($1:$31)<=COUNTIF(joueurs,$B25),INDEX(interceptions,SMALL(IF(joueurs=$B25,ROW(INDIRECT(\"1:\"&ROWS(interceptions)))),ROWS($1:$31))),\"\")","v":""},{"$f":"IF(ROWS($1:$32)<=COUNTIF(joueurs,$B25),INDEX(interceptions,SMALL(IF(joueurs=$B25,ROW(INDIRECT(\"1:\"&ROWS(interceptions)))),ROWS($1:$32))),\"\")","v":""},{"$f":"IF(ROWS($1:$33)<=COUNTIF(joueurs,$B25),INDEX(interceptions,SMALL(IF(joueurs=$B25,ROW(INDIRECT(\"1:\"&ROWS(interceptions)))),ROWS($1:$33))),\"\")","v":""},{"$f":"IF(ROWS($1:$34)<=COUNTIF(joueurs,$B25),INDEX(interceptions,SMALL(IF(joueurs=$B25,ROW(INDIRECT(\"1:\"&ROWS(interceptions)))),ROWS($1:$34))),\"\")","v":""},{"$f":"IF(ROWS($1:$35)<=COUNTIF(joueurs,$B25),INDEX(interceptions,SMALL(IF(joueurs=$B25,ROW(INDIRECT(\"1:\"&ROWS(interceptions)))),ROWS($1:$35))),\"\")","v":""},{"$f":"IF(ROWS($1:$36)<=COUNTIF(joueurs,$B25),INDEX(interceptions,SMALL(IF(joueurs=$B25,ROW(INDIRECT(\"1:\"&ROWS(interceptions)))),ROWS($1:$36))),\"\")","v":""},{"$f":"IF(ROWS($1:$37)<=COUNTIF(joueurs,$B25),INDEX(interceptions,SMALL(IF(joueurs=$B25,ROW(INDIRECT(\"1:\"&ROWS(interceptions)))),ROWS($1:$37))),\"\")","v":""},{"$f":"IF(ROWS($1:$38)<=COUNTIF(joueurs,$B25),INDEX(interceptions,SMALL(IF(joueurs=$B25,ROW(INDIRECT(\"1:\"&ROWS(interceptions)))),ROWS($1:$38))),\"\")","v":""},{"$f":"IF(ROWS($1:$39)<=COUNTIF(joueurs,$B25),INDEX(interceptions,SMALL(IF(joueurs=$B25,ROW(INDIRECT(\"1:\"&ROWS(interceptions)))),ROWS($1:$39))),\"\")","v":""},{"$f":"IF(ROWS($1:$40)<=COUNTIF(joueurs,$B25),INDEX(interceptions,SMALL(IF(joueurs=$B25,ROW(INDIRECT(\"1:\"&ROWS(interceptions)))),ROWS($1:$40))),\"\")","v":""},{"$f":"IF(ROWS($1:$31)<=COUNTIF(joueurs,$B25),INDEX(ballonrecuperes,SMALL(IF(joueurs=$B25,ROW(INDIRECT(\"1:\"&ROWS(ballonrecuperes)))),ROWS($1:$31))),\"\")","v":""},{"$f":"IF(ROWS($1:$32)<=COUNTIF(joueurs,$B25),INDEX(ballonrecuperes,SMALL(IF(joueurs=$B25,ROW(INDIRECT(\"1:\"&ROWS(ballonrecuperes)))),ROWS($1:$32))),\"\")","v":""},{"$f":"IF(ROWS($1:$33)<=COUNTIF(joueurs,$B25),INDEX(ballonrecuperes,SMALL(IF(joueurs=$B25,ROW(INDIRECT(\"1:\"&ROWS(ballonrecuperes)))),ROWS($1:$33))),\"\")","v":""},{"$f":"IF(ROWS($1:$34)<=COUNTIF(joueurs,$B25),INDEX(ballonrecuperes,SMALL(IF(joueurs=$B25,ROW(INDIRECT(\"1:\"&ROWS(ballonrecuperes)))),ROWS($1:$34))),\"\")","v":""},{"$f":"IF(ROWS($1:$35)<=COUNTIF(joueurs,$B25),INDEX(ballonrecuperes,SMALL(IF(joueurs=$B25,ROW(INDIRECT(\"1:\"&ROWS(ballonrecuperes)))),ROWS($1:$35))),\"\")","v":""},{"$f":"IF(ROWS($1:$36)<=COUNTIF(joueurs,$B25),INDEX(ballonrecuperes,SMALL(IF(joueurs=$B25,ROW(INDIRECT(\"1:\"&ROWS(ballonrecuperes)))),ROWS($1:$36))),\"\")","v":""},{"$f":"IF(ROWS($1:$37)<=COUNTIF(joueurs,$B25),INDEX(ballonrecuperes,SMALL(IF(joueurs=$B25,ROW(INDIRECT(\"1:\"&ROWS(ballonrecuperes)))),ROWS($1:$37))),\"\")","v":""},{"$f":"IF(ROWS($1:$38)<=COUNTIF(joueurs,$B25),INDEX(ballonrecuperes,SMALL(IF(joueurs=$B25,ROW(INDIRECT(\"1:\"&ROWS(ballonrecuperes)))),ROWS($1:$38))),\"\")","v":""},{"$f":"IF(ROWS($1:$39)<=COUNTIF(joueurs,$B25),INDEX(ballonrecuperes,SMALL(IF(joueurs=$B25,ROW(INDIRECT(\"1:\"&ROWS(ballonrecuperes)))),ROWS($1:$39))),\"\")","v":""},{"$f":"IF(ROWS($1:$40)<=COUNTIF(joueurs,$B25),INDEX(ballonrecuperes,SMALL(IF(joueurs=$B25,ROW(INDIRECT(\"1:\"&ROWS(ballonrecuperes)))),ROWS($1:$40))),\"\")","v":""},{"$f":"IF(ROWS($1:$31)<=COUNTIF(joueurs,$B25),INDEX(tirs,SMALL(IF(joueurs=$B25,ROW(INDIRECT(\"1:\"&ROWS(tirs)))),ROWS($1:$31))),\"\")","v":""},{"$f":"IF(ROWS($1:$32)<=COUNTIF(joueurs,$B25),INDEX(tirs,SMALL(IF(joueurs=$B25,ROW(INDIRECT(\"1:\"&ROWS(tirs)))),ROWS($1:$32))),\"\")","v":""},{"$f":"IF(ROWS($1:$33)<=COUNTIF(joueurs,$B25),INDEX(tirs,SMALL(IF(joueurs=$B25,ROW(INDIRECT(\"1:\"&ROWS(tirs)))),ROWS($1:$33))),\"\")","v":""},{"$f":"IF(ROWS($1:$34)<=COUNTIF(joueurs,$B25),INDEX(tirs,SMALL(IF(joueurs=$B25,ROW(INDIRECT(\"1:\"&ROWS(tirs)))),ROWS($1:$34))),\"\")","v":""},{"$f":"IF(ROWS($1:$35)<=COUNTIF(joueurs,$B25),INDEX(tirs,SMALL(IF(joueurs=$B25,ROW(INDIRECT(\"1:\"&ROWS(tirs)))),ROWS($1:$35))),\"\")","v":""},{"$f":"IF(ROWS($1:$36)<=COUNTIF(joueurs,$B25),INDEX(tirs,SMALL(IF(joueurs=$B25,ROW(INDIRECT(\"1:\"&ROWS(tirs)))),ROWS($1:$36))),\"\")","v":""},{"$f":"IF(ROWS($1:$37)<=COUNTIF(joueurs,$B25),INDEX(tirs,SMALL(IF(joueurs=$B25,ROW(INDIRECT(\"1:\"&ROWS(tirs)))),ROWS($1:$37))),\"\")","v":""},{"$f":"IF(ROWS($1:$38)<=COUNTIF(joueurs,$B25),INDEX(tirs,SMALL(IF(joueurs=$B25,ROW(INDIRECT(\"1:\"&ROWS(tirs)))),ROWS($1:$38))),\"\")","v":""},{"$f":"IF(ROWS($1:$39)<=COUNTIF(joueurs,$B25),INDEX(tirs,SMALL(IF(joueurs=$B25,ROW(INDIRECT(\"1:\"&ROWS(tirs)))),ROWS($1:$39))),\"\")","v":""},{"$f":"IF(ROWS($1:$40)<=COUNTIF(joueurs,$B25),INDEX(tirs,SMALL(IF(joueurs=$B25,ROW(INDIRECT(\"1:\"&ROWS(tirs)))),ROWS($1:$40))),\"\")","v":""},{"$f":"IF(ROWS($1:$31)<=COUNTIF(joueurs,$B25),INDEX(bontirs,SMALL(IF(joueurs=$B25,ROW(INDIRECT(\"1:\"&ROWS(bontirs)))),ROWS($1:$31))),\"\")","v":""},{"$f":"IF(ROWS($1:$32)<=COUNTIF(joueurs,$B25),INDEX(bontirs,SMALL(IF(joueurs=$B25,ROW(INDIRECT(\"1:\"&ROWS(bontirs)))),ROWS($1:$32))),\"\")","v":""},{"$f":"IF(ROWS($1:$33)<=COUNTIF(joueurs,$B25),INDEX(bontirs,SMALL(IF(joueurs=$B25,ROW(INDIRECT(\"1:\"&ROWS(bontirs)))),ROWS($1:$33))),\"\")","v":""},{"$f":"IF(ROWS($1:$34)<=COUNTIF(joueurs,$B25),INDEX(bontirs,SMALL(IF(joueurs=$B25,ROW(INDIRECT(\"1:\"&ROWS(bontirs)))),ROWS($1:$34))),\"\")","v":""},{"$f":"IF(ROWS($1:$35)<=COUNTIF(joueurs,$B25),INDEX(bontirs,SMALL(IF(joueurs=$B25,ROW(INDIRECT(\"1:\"&ROWS(bontirs)))),ROWS($1:$35))),\"\")","v":""},{"$f":"IF(ROWS($1:$36)<=COUNTIF(joueurs,$B25),INDEX(bontirs,SMALL(IF(joueurs=$B25,ROW(INDIRECT(\"1:\"&ROWS(bontirs)))),ROWS($1:$36))),\"\")","v":""},{"$f":"IF(ROWS($1:$37)<=COUNTIF(joueurs,$B25),INDEX(bontirs,SMALL(IF(joueurs=$B25,ROW(INDIRECT(\"1:\"&ROWS(bontirs)))),ROWS($1:$37))),\"\")","v":""},{"$f":"IF(ROWS($1:$38)<=COUNTIF(joueurs,$B25),INDEX(bontirs,SMALL(IF(joueurs=$B25,ROW(INDIRECT(\"1:\"&ROWS(bontirs)))),ROWS($1:$38))),\"\")","v":""},{"$f":"IF(ROWS($1:$39)<=COUNTIF(joueurs,$B25),INDEX(bontirs,SMALL(IF(joueurs=$B25,ROW(INDIRECT(\"1:\"&ROWS(bontirs)))),ROWS($1:$39))),\"\")","v":""},{"$f":"IF(ROWS($1:$40)<=COUNTIF(joueurs,$B25),INDEX(bontirs,SMALL(IF(joueurs=$B25,ROW(INDIRECT(\"1:\"&ROWS(bontirs)))),ROWS($1:$40))),\"\")","v":""},{"$f":"IF(ROWS($1:$31)<=COUNTIF(joueurs,$B25),INDEX(points,SMALL(IF(joueurs=$B25,ROW(INDIRECT(\"1:\"&ROWS(points)))),ROWS($1:$31))),\"\")","v":""},{"$f":"IF(ROWS($1:$32)<=COUNTIF(joueurs,$B25),INDEX(points,SMALL(IF(joueurs=$B25,ROW(INDIRECT(\"1:\"&ROWS(points)))),ROWS($1:$32))),\"\")","v":""},{"$f":"IF(ROWS($1:$33)<=COUNTIF(joueurs,$B25),INDEX(points,SMALL(IF(joueurs=$B25,ROW(INDIRECT(\"1:\"&ROWS(points)))),ROWS($1:$33))),\"\")","v":""},{"$f":"IF(ROWS($1:$34)<=COUNTIF(joueurs,$B25),INDEX(points,SMALL(IF(joueurs=$B25,ROW(INDIRECT(\"1:\"&ROWS(points)))),ROWS($1:$34))),\"\")","v":""},{"$f":"IF(ROWS($1:$35)<=COUNTIF(joueurs,$B25),INDEX(points,SMALL(IF(joueurs=$B25,ROW(INDIRECT(\"1:\"&ROWS(points)))),ROWS($1:$35))),\"\")","v":""},{"$f":"IF(ROWS($1:$36)<=COUNTIF(joueurs,$B25),INDEX(points,SMALL(IF(joueurs=$B25,ROW(INDIRECT(\"1:\"&ROWS(points)))),ROWS($1:$36))),\"\")","v":""},{"$f":"IF(ROWS($1:$37)<=COUNTIF(joueurs,$B25),INDEX(points,SMALL(IF(joueurs=$B25,ROW(INDIRECT(\"1:\"&ROWS(points)))),ROWS($1:$37))),\"\")","v":""},{"$f":"IF(ROWS($1:$38)<=COUNTIF(joueurs,$B25),INDEX(points,SMALL(IF(joueurs=$B25,ROW(INDIRECT(\"1:\"&ROWS(points)))),ROWS($1:$38))),\"\")","v":""},{"$f":"IF(ROWS($1:$39)<=COUNTIF(joueurs,$B25),INDEX(points,SMALL(IF(joueurs=$B25,ROW(INDIRECT(\"1:\"&ROWS(points)))),ROWS($1:$39))),\"\")","v":""},{"$f":"IF(ROWS($1:$40)<=COUNTIF(joueurs,$B25),INDEX(points,SMALL(IF(joueurs=$B25,ROW(INDIRECT(\"1:\"&ROWS(points)))),ROWS($1:$40))),\"\")","v":""},{"$f":"IF(ROWS($1:$31)<=COUNTIF(joueurs,$B25),INDEX(victoires,SMALL(IF(joueurs=$B25,ROW(INDIRECT(\"1:\"&ROWS(victoires)))),ROWS($1:$31))),\"\")","v":""},{"$f":"IF(ROWS($1:$32)<=COUNTIF(joueurs,$B25),INDEX(victoires,SMALL(IF(joueurs=$B25,ROW(INDIRECT(\"1:\"&ROWS(victoires)))),ROWS($1:$32))),\"\")","v":""},{"$f":"IF(ROWS($1:$33)<=COUNTIF(joueurs,$B25),INDEX(victoires,SMALL(IF(joueurs=$B25,ROW(INDIRECT(\"1:\"&ROWS(victoires)))),ROWS($1:$33))),\"\")","v":""},{"$f":"IF(ROWS($1:$34)<=COUNTIF(joueurs,$B25),INDEX(victoires,SMALL(IF(joueurs=$B25,ROW(INDIRECT(\"1:\"&ROWS(victoires)))),ROWS($1:$34))),\"\")","v":""},{"$f":"IF(ROWS($1:$35)<=COUNTIF(joueurs,$B25),INDEX(victoires,SMALL(IF(joueurs=$B25,ROW(INDIRECT(\"1:\"&ROWS(victoires)))),ROWS($1:$35))),\"\")","v":""},{"$f":"IF(ROWS($1:$36)<=COUNTIF(joueurs,$B25),INDEX(victoires,SMALL(IF(joueurs=$B25,ROW(INDIRECT(\"1:\"&ROWS(victoires)))),ROWS($1:$36))),\"\")","v":""},{"$f":"IF(ROWS($1:$37)<=COUNTIF(joueurs,$B25),INDEX(victoires,SMALL(IF(joueurs=$B25,ROW(INDIRECT(\"1:\"&ROWS(victoires)))),ROWS($1:$37))),\"\")","v":""},{"$f":"IF(ROWS($1:$38)<=COUNTIF(joueurs,$B25),INDEX(victoires,SMALL(IF(joueurs=$B25,ROW(INDIRECT(\"1:\"&ROWS(victoires)))),ROWS($1:$38))),\"\")","v":""},{"$f":"IF(ROWS($1:$39)<=COUNTIF(joueurs,$B25),INDEX(victoires,SMALL(IF(joueurs=$B25,ROW(INDIRECT(\"1:\"&ROWS(victoires)))),ROWS($1:$39))),\"\")","v":""},{"$f":"IF(ROWS($1:$40)<=COUNTIF(joueurs,$B25),INDEX(victoires,SMALL(IF(joueurs=$B25,ROW(INDIRECT(\"1:\"&ROWS(victoires)))),ROWS($1:$40))),\"\")","v":""}]
[7,{"$f":"INDEX(eleves,MATCH(A29,numero,0),MATCH($B$2,classes,0))","v":"Olajuwon"},null,{"$f":"IF(ROWS($1:$1)<=COUNTIF(joueurs,$B29),INDEX(fautes,SMALL(IF(joueurs=$B29,ROW(INDIRECT(\"1:\"&ROWS(fautes)))),ROWS($1:$1))),\"\")","v":""},{"$f":"IF(ROWS($1:$2)<=COUNTIF(joueurs,$B29),INDEX(fautes,SMALL(IF(joueurs=$B29,ROW(INDIRECT(\"1:\"&ROWS(fautes)))),ROWS($1:$2))),\"\")","v":""},{"$f":"IF(ROWS($1:$3)<=COUNTIF(joueurs,$B29),INDEX(fautes,SMALL(IF(joueurs=$B29,ROW(INDIRECT(\"1:\"&ROWS(fautes)))),ROWS($1:$3))),\"\")","v":""},{"$f":"IF(ROWS($1:$4)<=COUNTIF(joueurs,$B29),INDEX(fautes,SMALL(IF(joueurs=$B29,ROW(INDIRECT(\"1:\"&ROWS(fautes)))),ROWS($1:$4))),\"\")","v":""},{"$f":"IF(ROWS($1:$5)<=COUNTIF(joueurs,$B29),INDEX(fautes,SMALL(IF(joueurs=$B29,ROW(INDIRECT(\"1:\"&ROWS(fautes)))),ROWS($1:$5))),\"\")","v":""},{"$f":"IF(ROWS($1:$6)<=COUNTIF(joueurs,$B29),INDEX(fautes,SMALL(IF(joueurs=$B29,ROW(INDIRECT(\"1:\"&ROWS(fautes)))),ROWS($1:$6))),\"\")","v":""},{"$f":"IF(ROWS($1:$7)<=COUNTIF(joueurs,$B29),INDEX(fautes,SMALL(IF(joueurs=$B29,ROW(INDIRECT(\"1:\"&ROWS(fautes)))),ROWS($1:$7))),\"\")","v":""},{"$f":"IF(ROWS($1:$8)<=COUNTIF(joueurs,$B29),INDEX(fautes,SMALL(IF(joueurs=$B29,ROW(INDIRECT(\"1:\"&ROWS(fautes)))),ROWS($1:$8))),\"\")","v":""},{"$f":"IF(ROWS($1:$9)<=COUNTIF(joueurs,$B29),INDEX(fautes,SMALL(IF(joueurs=$B29,ROW(INDIRECT(\"1:\"&ROWS(fautes)))),ROWS($1:$9))),\"\")","v":""},{"$f":"IF(ROWS($1:$10)<=COUNTIF(joueurs,$B29),INDEX(fautes,SMALL(IF(joueurs=$B29,ROW(INDIRECT(\"1:\"&ROWS(fautes)))),ROWS($1:$10))),\"\")","v":""},{"$f":"IF(ROWS($1:$1)<=COUNTIF(joueurs,$B29),INDEX(ballonperdus,SMALL(IF(joueurs=$B29,ROW(INDIRECT(\"1:\"&ROWS(ballonperdus)))),ROWS($1:$1))),\"\")","v":""},{"$f":"IF(ROWS($1:$2)<=COUNTIF(joueurs,$B29),INDEX(ballonperdus,SMALL(IF(joueurs=$B29,ROW(INDIRECT(\"1:\"&ROWS(ballonperdus)))),ROWS($1:$2))),\"\")","v":""},{"$f":"IF(ROWS($1:$3)<=COUNTIF(joueurs,$B29),INDEX(ballonperdus,SMALL(IF(joueurs=$B29,ROW(INDIRECT(\"1:\"&ROWS(ballonperdus)))),ROWS($1:$3))),\"\")","v":""},{"$f":"IF(ROWS($1:$4)<=COUNTIF(joueurs,$B29),INDEX(ballonperdus,SMALL(IF(joueurs=$B29,ROW(INDIRECT(\"1:\"&ROWS(ballonperdus)))),ROWS($1:$4))),\"\")","v":""},{"$f":"IF(ROWS($1:$5)<=COUNTIF(joueurs,$B29),INDEX(ballonperdus,SMALL(IF(joueurs=$B29,ROW(INDIRECT(\"1:\"&ROWS(ballonperdus)))),ROWS($1:$5))),\"\")","v":""},{"$f":"IF(ROWS($1:$6)<=COUNTIF(joueurs,$B29),INDEX(ballonperdus,SMALL(IF(joueurs=$B29,ROW(INDIRECT(\"1:\"&ROWS(ballonperdus)))),ROWS($1:$6))),\"\")","v":""},{"$f":"IF(ROWS($1:$7)<=COUNTIF(joueurs,$B29),INDEX(ballonperdus,SMALL(IF(joueurs=$B29,ROW(INDIRECT(\"1:\"&ROWS(ballonperdus)))),ROWS($1:$7))),\"\")","v":""},{"$f":"IF(ROWS($1:$8)<=COUNTIF(joueurs,$B29),INDEX(ballonperdus,SMALL(IF(joueurs=$B29,ROW(INDIRECT(\"1:\"&ROWS(ballonperdus)))),ROWS($1:$8))),\"\")","v":""},{"$f":"IF(ROWS($1:$9)<=COUNTIF(joueurs,$B29),INDEX(ballonperdus,SMALL(IF(joueurs=$B29,ROW(INDIRECT(\"1:\"&ROWS(ballonperdus)))),ROWS($1:$9))),\"\")","v":""},{"$f":"IF(ROWS($1:$10)<=COUNTIF(joueurs,$B29),INDEX(ballonperdus,SMALL(IF(joueurs=$B29,ROW(INDIRECT(\"1:\"&ROWS(ballonperdus)))),ROWS($1:$10))),\"\")","v":""},{"$f":"IF(ROWS($1:$1)<=COUNTIF(joueurs,$B29),INDEX(interceptions,SMALL(IF(joueurs=$B29,ROW(INDIRECT(\"1:\"&ROWS(interceptions)))),ROWS($1:$1))),\"\")","v":""},{"$f":"IF(ROWS($1:$2)<=COUNTIF(joueurs,$B29),INDEX(interceptions,SMALL(IF(joueurs=$B29,ROW(INDIRECT(\"1:\"&ROWS(interceptions)))),ROWS($1:$2))),\"\")","v":""},{"$f":"IF(ROWS($1:$3)<=COUNTIF(joueurs,$B29),INDEX(interceptions,SMALL(IF(joueurs=$B29,ROW(INDIRECT(\"1:\"&ROWS(interceptions)))),ROWS($1:$3))),\"\")","v":""},{"$f":"IF(ROWS($1:$4)<=COUNTIF(joueurs,$B29),INDEX(interceptions,SMALL(IF(joueurs=$B29,ROW(INDIRECT(\"1:\"&ROWS(interceptions)))),ROWS($1:$4))),\"\")","v":""},{"$f":"IF(ROWS($1:$5)<=COUNTIF(joueurs,$B29),INDEX(interceptions,SMALL(IF(joueurs=$B29,ROW(INDIRECT(\"1:\"&ROWS(interceptions)))),ROWS($1:$5))),\"\")","v":""},{"$f":"IF(ROWS($1:$6)<=COUNTIF(joueurs,$B29),INDEX(interceptions,SMALL(IF(joueurs=$B29,ROW(INDIRECT(\"1:\"&ROWS(interceptions)))),ROWS($1:$6))),\"\")","v":""},{"$f":"IF(ROWS($1:$7)<=COUNTIF(joueurs,$B29),INDEX(interceptions,SMALL(IF(joueurs=$B29,ROW(INDIRECT(\"1:\"&ROWS(interceptions)))),ROWS($1:$7))),\"\")","v":""},{"$f":"IF(ROWS($1:$8)<=COUNTIF(joueurs,$B29),INDEX(interceptions,SMALL(IF(joueurs=$B29,ROW(INDIRECT(\"1:\"&ROWS(interceptions)))),ROWS($1:$8))),\"\")","v":""},{"$f":"IF(ROWS($1:$9)<=COUNTIF(joueurs,$B29),INDEX(interceptions,SMALL(IF(joueurs=$B29,ROW(INDIRECT(\"1:\"&ROWS(interceptions)))),ROWS($1:$9))),\"\")","v":""},{"$f":"IF(ROWS($1:$10)<=COUNTIF(joueurs,$B29),INDEX(interceptions,SMALL(IF(joueurs=$B29,ROW(INDIRECT(\"1:\"&ROWS(interceptions)))),ROWS($1:$10))),\"\")","v":""},{"$f":"IF(ROWS($1:$1)<=COUNTIF(joueurs,$B29),INDEX(ballonrecuperes,SMALL(IF(joueurs=$B29,ROW(INDIRECT(\"1:\"&ROWS(ballonrecuperes)))),ROWS($1:$1))),\"\")","v":""},{"$f":"IF(ROWS($1:$2)<=COUNTIF(joueurs,$B29),INDEX(ballonrecuperes,SMALL(IF(joueurs=$B29,ROW(INDIRECT(\"1:\"&ROWS(ballonrecuperes)))),ROWS($1:$2))),\"\")","v":""},{"$f":"IF(ROWS($1:$3)<=COUNTIF(joueurs,$B29),INDEX(ballonrecuperes,SMALL(IF(joueurs=$B29,ROW(INDIRECT(\"1:\"&ROWS(ballonrecuperes)))),ROWS($1:$3))),\"\")","v":""},{"$f":"IF(ROWS($1:$4)<=COUNTIF(joueurs,$B29),INDEX(ballonrecuperes,SMALL(IF(joueurs=$B29,ROW(INDIRECT(\"1:\"&ROWS(ballonrecuperes)))),ROWS($1:$4))),\"\")","v":""},{"$f":"IF(ROWS($1:$5)<=COUNTIF(joueurs,$B29),INDEX(ballonrecuperes,SMALL(IF(joueurs=$B29,ROW(INDIRECT(\"1:\"&ROWS(ballonrecuperes)))),ROWS($1:$5))),\"\")","v":""},{"$f":"IF(ROWS($1:$6)<=COUNTIF(joueurs,$B29),INDEX(ballonrecuperes,SMALL(IF(joueurs=$B29,ROW(INDIRECT(\"1:\"&ROWS(ballonrecuperes)))),ROWS($1:$6))),\"\")","v":""},{"$f":"IF(ROWS($1:$7)<=COUNTIF(joueurs,$B29),INDEX(ballonrecuperes,SMALL(IF(joueurs=$B29,ROW(INDIRECT(\"1:\"&ROWS(ballonrecuperes)))),ROWS($1:$7))),\"\")","v":""},{"$f":"IF(ROWS($1:$8)<=COUNTIF(joueurs,$B29),INDEX(ballonrecuperes,SMALL(IF(joueurs=$B29,ROW(INDIRECT(\"1:\"&ROWS(ballonrecuperes)))),ROWS($1:$8))),\"\")","v":""},{"$f":"IF(ROWS($1:$9)<=COUNTIF(joueurs,$B29),INDEX(ballonrecuperes,SMALL(IF(joueurs=$B29,ROW(INDIRECT(\"1:\"&ROWS(ballonrecuperes)))),ROWS($1:$9))),\"\")","v":""},{"$f":"IF(ROWS($1:$10)<=COUNTIF(joueurs,$B29),INDEX(ballonrecuperes,SMALL(IF(joueurs=$B29,ROW(INDIRECT(\"1:\"&ROWS(ballonrecuperes)))),ROWS($1:$10))),\"\")","v":""},{"$f":"IF(ROWS($1:$1)<=COUNTIF(joueurs,$B29),INDEX(tirs,SMALL(IF(joueurs=$B29,ROW(INDIRECT(\"1:\"&ROWS(tirs)))),ROWS($1:$1))),\"\")","v":""},{"$f":"IF(ROWS($1:$2)<=COUNTIF(joueurs,$B29),INDEX(tirs,SMALL(IF(joueurs=$B29,ROW(INDIRECT(\"1:\"&ROWS(tirs)))),ROWS($1:$2))),\"\")","v":""},{"$f":"IF(ROWS($1:$3)<=COUNTIF(joueurs,$B29),INDEX(tirs,SMALL(IF(joueurs=$B29,ROW(INDIRECT(\"1:\"&ROWS(tirs)))),ROWS($1:$3))),\"\")","v":""},{"$f":"IF(ROWS($1:$4)<=COUNTIF(joueurs,$B29),INDEX(tirs,SMALL(IF(joueurs=$B29,ROW(INDIRECT(\"1:\"&ROWS(tirs)))),ROWS($1:$4))),\"\")","v":""},{"$f":"IF(ROWS($1:$5)<=COUNTIF(joueurs,$B29),INDEX(tirs,SMALL(IF(joueurs=$B29,ROW(INDIRECT(\"1:\"&ROWS(tirs)))),ROWS($1:$5))),\"\")","v":""},{"$f":"IF(ROWS($1:$6)<=COUNTIF(joueurs,$B29),INDEX(tirs,SMALL(IF(joueurs=$B29,ROW(INDIRECT(\"1:\"&ROWS(tirs)))),ROWS($1:$6))),\"\")","v":""},{"$f":"IF(ROWS($1:$7)<=COUNTIF(joueurs,$B29),INDEX(tirs,SMALL(IF(joueurs=$B29,ROW(INDIRECT(\"1:\"&ROWS(tirs)))),ROWS($1:$7))),\"\")","v":""},{"$f":"IF(ROWS($1:$8)<=COUNTIF(joueurs,$B29),INDEX(tirs,SMALL(IF(joueurs=$B29,ROW(INDIRECT(\"1:\"&ROWS(tirs)))),ROWS($1:$8))),\"\")","v":""},{"$f":"IF(ROWS($1:$9)<=COUNTIF(joueurs,$B29),INDEX(tirs,SMALL(IF(joueurs=$B29,ROW(INDIRECT(\"1:\"&ROWS(tirs)))),ROWS($1:$9))),\"\")","v":""},{"$f":"IF(ROWS($1:$10)<=COUNTIF(joueurs,$B29),INDEX(tirs,SMALL(IF(joueurs=$B29,ROW(INDIRECT(\"1:\"&ROWS(tirs)))),ROWS($1:$10))),\"\")","v":""},{"$f":"IF(ROWS($1:$1)<=COUNTIF(joueurs,$B29),INDEX(bontirs,SMALL(IF(joueurs=$B29,ROW(INDIRECT(\"1:\"&ROWS(bontirs)))),ROWS($1:$1))),\"\")","v":""},{"$f":"IF(ROWS($1:$2)<=COUNTIF(joueurs,$B29),INDEX(bontirs,SMALL(IF(joueurs=$B29,ROW(INDIRECT(\"1:\"&ROWS(bontirs)))),ROWS($1:$2))),\"\")","v":""},{"$f":"IF(ROWS($1:$3)<=COUNTIF(joueurs,$B29),INDEX(bontirs,SMALL(IF(joueurs=$B29,ROW(INDIRECT(\"1:\"&ROWS(bontirs)))),ROWS($1:$3))),\"\")","v":""},{"$f":"IF(ROWS($1:$4)<=COUNTIF(joueurs,$B29),INDEX(bontirs,SMALL(IF(joueurs=$B29,ROW(INDIRECT(\"1:\"&ROWS(bontirs)))),ROWS($1:$4))),\"\")","v":""},{"$f":"IF(ROWS($1:$5)<=COUNTIF(joueurs,$B29),INDEX(bontirs,SMALL(IF(joueurs=$B29,ROW(INDIRECT(\"1:\"&ROWS(bontirs)))),ROWS($1:$5))),\"\")","v":""},{"$f":"IF(ROWS($1:$6)<=COUNTIF(joueurs,$B29),INDEX(bontirs,SMALL(IF(joueurs=$B29,ROW(INDIRECT(\"1:\"&ROWS(bontirs)))),ROWS($1:$6))),\"\")","v":""},{"$f":"IF(ROWS($1:$7)<=COUNTIF(joueurs,$B29),INDEX(bontirs,SMALL(IF(joueurs=$B29,ROW(INDIRECT(\"1:\"&ROWS(bontirs)))),ROWS($1:$7))),\"\")","v":""},{"$f":"IF(ROWS($1:$8)<=COUNTIF(joueurs,$B29),INDEX(bontirs,SMALL(IF(joueurs=$B29,ROW(INDIRECT(\"1:\"&ROWS(bontirs)))),ROWS($1:$8))),\"\")","v":""},{"$f":"IF(ROWS($1:$9)<=COUNTIF(joueurs,$B29),INDEX(bontirs,SMALL(IF(joueurs=$B29,ROW(INDIRECT(\"1:\"&ROWS(bontirs)))),ROWS($1:$9))),\"\")","v":""},{"$f":"IF(ROWS($1:$10)<=COUNTIF(joueurs,$B29),INDEX(bontirs,SMALL(IF(joueurs=$B29,ROW(INDIRECT(\"1:\"&ROWS(bontirs)))),ROWS($1:$10))),\"\")","v":""},{"$f":"IF(ROWS($1:$1)<=COUNTIF(joueurs,$B29),INDEX(points,SMALL(IF(joueurs=$B29,ROW(INDIRECT(\"1:\"&ROWS(points)))),ROWS($1:$1))),\"\")","v":""},{"$f":"IF(ROWS($1:$2)<=COUNTIF(joueurs,$B29),INDEX(points,SMALL(IF(joueurs=$B29,ROW(INDIRECT(\"1:\"&ROWS(points)))),ROWS($1:$2))),\"\")","v":""},{"$f":"IF(ROWS($1:$3)<=COUNTIF(joueurs,$B29),INDEX(points,SMALL(IF(joueurs=$B29,ROW(INDIRECT(\"1:\"&ROWS(points)))),ROWS($1:$3))),\"\")","v":""},{"$f":"IF(ROWS($1:$4)<=COUNTIF(joueurs,$B29),INDEX(points,SMALL(IF(joueurs=$B29,ROW(INDIRECT(\"1:\"&ROWS(points)))),ROWS($1:$4))),\"\")","v":""},{"$f":"IF(ROWS($1:$5)<=COUNTIF(joueurs,$B29),INDEX(points,SMALL(IF(joueurs=$B29,ROW(INDIRECT(\"1:\"&ROWS(points)))),ROWS($1:$5))),\"\")","v":""},{"$f":"IF(ROWS($1:$6)<=COUNTIF(joueurs,$B29),INDEX(points,SMALL(IF(joueurs=$B29,ROW(INDIRECT(\"1:\"&ROWS(points)))),ROWS($1:$6))),\"\")","v":""},{"$f":"IF(ROWS($1:$7)<=COUNTIF(joueurs,$B29),INDEX(points,SMALL(IF(joueurs=$B29,ROW(INDIRECT(\"1:\"&ROWS(points)))),ROWS($1:$7))),\"\")","v":""},{"$f":"IF(ROWS($1:$8)<=COUNTIF(joueurs,$B29),INDEX(points,SMALL(IF(joueurs=$B29,ROW(INDIRECT(\"1:\"&ROWS(points)))),ROWS($1:$8))),\"\")","v":""},{"$f":"IF(ROWS($1:$9)<=COUNTIF(joueurs,$B29),INDEX(points,SMALL(IF(joueurs=$B29,ROW(INDIRECT(\"1:\"&ROWS(points)))),ROWS($1:$9))),\"\")","v":""},{"$f":"IF(ROWS($1:$10)<=COUNTIF(joueurs,$B29),INDEX(points,SMALL(IF(joueurs=$B29,ROW(INDIRECT(\"1:\"&ROWS(points)))),ROWS($1:$10))),\"\")","v":""},{"$f":"IF(ROWS($1:$1)<=COUNTIF(joueurs,$B29),INDEX(victoires,SMALL(IF(joueurs=$B29,ROW(INDIRECT(\"1:\"&ROWS(victoires)))),ROWS($1:$1))),\"\")","v":""},{"$f":"IF(ROWS($1:$2)<=COUNTIF(joueurs,$B29),INDEX(victoires,SMALL(IF(joueurs=$B29,ROW(INDIRECT(\"1:\"&ROWS(victoires)))),ROWS($1:$2))),\"\")","v":""},{"$f":"IF(ROWS($1:$3)<=COUNTIF(joueurs,$B29),INDEX(victoires,SMALL(IF(joueurs=$B29,ROW(INDIRECT(\"1:\"&ROWS(victoires)))),ROWS($1:$3))),\"\")","v":""},{"$f":"IF(ROWS($1:$4)<=COUNTIF(joueurs,$B29),INDEX(victoires,SMALL(IF(joueurs=$B29,ROW(INDIRECT(\"1:\"&ROWS(victoires)))),ROWS($1:$4))),\"\")","v":""},{"$f":"IF(ROWS($1:$5)<=COUNTIF(joueurs,$B29),INDEX(victoires,SMALL(IF(joueurs=$B29,ROW(INDIRECT(\"1:\"&ROWS(victoires)))),ROWS($1:$5))),\"\")","v":""},{"$f":"IF(ROWS($1:$6)<=COUNTIF(joueurs,$B29),INDEX(victoires,SMALL(IF(joueurs=$B29,ROW(INDIRECT(\"1:\"&ROWS(victoires)))),ROWS($1:$6))),\"\")","v":""},{"$f":"IF(ROWS($1:$7)<=COUNTIF(joueurs,$B29),INDEX(victoires,SMALL(IF(joueurs=$B29,ROW(INDIRECT(\"1:\"&ROWS(victoires)))),ROWS($1:$7))),\"\")","v":""},{"$f":"IF(ROWS($1:$8)<=COUNTIF(joueurs,$B29),INDEX(victoires,SMALL(IF(joueurs=$B29,ROW(INDIRECT(\"1:\"&ROWS(victoires)))),ROWS($1:$8))),\"\")","v":""},{"$f":"IF(ROWS($1:$9)<=COUNTIF(joueurs,$B29),INDEX(victoires,SMALL(IF(joueurs=$B29,ROW(INDIRECT(\"1:\"&ROWS(victoires)))),ROWS($1:$9))),\"\")","v":""},{"$f":"IF(ROWS($1:$10)<=COUNTIF(joueurs,$B29),INDEX(victoires,SMALL(IF(joueurs=$B29,ROW(INDIRECT(\"1:\"&ROWS(victoires)))),ROWS($1:$10))),\"\")","v":""}]
[null,null,null,{"$f":"IF(ROWS($1:$11)<=COUNTIF(joueurs,$B29),INDEX(fautes,SMALL(IF(joueurs=$B29,ROW(INDIRECT(\"1:\"&ROWS(fautes)))),ROWS($1:$11))),\"\")","v":""},{"$f":"IF(ROWS($1:$12)<=COUNTIF(joueurs,$B29),INDEX(fautes,SMALL(IF(joueurs=$B29,ROW(INDIRECT(\"1:\"&ROWS(fautes)))),ROWS($1:$12))),\"\")","v":""},{"$f":"IF(ROWS($1:$13)<=COUNTIF(joueurs,$B29),INDEX(fautes,SMALL(IF(joueurs=$B29,ROW(INDIRECT(\"1:\"&ROWS(fautes)))),ROWS($1:$13))),\"\")","v":""},{"$f":"IF(ROWS($1:$14)<=COUNTIF(joueurs,$B29),INDEX(fautes,SMALL(IF(joueurs=$B29,ROW(INDIRECT(\"1:\"&ROWS(fautes)))),ROWS($1:$14))),\"\")","v":""},{"$f":"IF(ROWS($1:$15)<=COUNTIF(joueurs,$B29),INDEX(fautes,SMALL(IF(joueurs=$B29,ROW(INDIRECT(\"1:\"&ROWS(fautes)))),ROWS($1:$15))),\"\")","v":""},{"$f":"IF(ROWS($1:$16)<=COUNTIF(joueurs,$B29),INDEX(fautes,SMALL(IF(joueurs=$B29,ROW(INDIRECT(\"1:\"&ROWS(fautes)))),ROWS($1:$16))),\"\")","v":""},{"$f":"IF(ROWS($1:$17)<=COUNTIF(joueurs,$B29),INDEX(fautes,SMALL(IF(joueurs=$B29,ROW(INDIRECT(\"1:\"&ROWS(fautes)))),ROWS($1:$17))),\"\")","v":""},{"$f":"IF(ROWS($1:$18)<=COUNTIF(joueurs,$B29),INDEX(fautes,SMALL(IF(joueurs=$B29,ROW(INDIRECT(\"1:\"&ROWS(fautes)))),ROWS($1:$18))),\"\")","v":""},{"$f":"IF(ROWS($1:$19)<=COUNTIF(joueurs,$B29),INDEX(fautes,SMALL(IF(joueurs=$B29,ROW(INDIRECT(\"1:\"&ROWS(fautes)))),ROWS($1:$19))),\"\")","v":""},{"$f":"IF(ROWS($1:$20)<=COUNTIF(joueurs,$B29),INDEX(fautes,SMALL(IF(joueurs=$B29,ROW(INDIRECT(\"1:\"&ROWS(fautes)))),ROWS($1:$20))),\"\")","v":""},{"$f":"IF(ROWS($1:$11)<=COUNTIF(joueurs,$B29),INDEX(ballonperdus,SMALL(IF(joueurs=$B29,ROW(INDIRECT(\"1:\"&ROWS(ballonperdus)))),ROWS($1:$11))),\"\")","v":""},{"$f":"IF(ROWS($1:$12)<=COUNTIF(joueurs,$B29),INDEX(ballonperdus,SMALL(IF(joueurs=$B29,ROW(INDIRECT(\"1:\"&ROWS(ballonperdus)))),ROWS($1:$12))),\"\")","v":""},{"$f":"IF(ROWS($1:$13)<=COUNTIF(joueurs,$B29),INDEX(ballonperdus,SMALL(IF(joueurs=$B29,ROW(INDIRECT(\"1:\"&ROWS(ballonperdus)))),ROWS($1:$13))),\"\")","v":""},{"$f":"IF(ROWS($1:$14)<=COUNTIF(joueurs,$B29),INDEX(ballonperdus,SMALL(IF(joueurs=$B29,ROW(INDIRECT(\"1:\"&ROWS(ballonperdus)))),ROWS($1:$14))),\"\")","v":""},{"$f":"IF(ROWS($1:$15)<=COUNTIF(joueurs,$B29),INDEX(ballonperdus,SMALL(IF(joueurs=$B29,ROW(INDIRECT(\"1:\"&ROWS(ballonperdus)))),ROWS($1:$15))),\"\")","v":""},{"$f":"IF(ROWS($1:$16)<=COUNTIF(joueurs,$B29),INDEX(ballonperdus,SMALL(IF(joueurs=$B29,ROW(INDIRECT(\"1:\"&ROWS(ballonperdus)))),ROWS($1:$16))),\"\")","v":""},{"$f":"IF(ROWS($1:$17)<=COUNTIF(joueurs,$B29),INDEX(ballonperdus,SMALL(IF(joueurs=$B29,ROW(INDIRECT(\"1:\"&ROWS(ballonperdus)))),ROWS($1:$17))),\"\")","v":""},{"$f":"IF(ROWS($1:$18)<=COUNTIF(joueurs,$B29),INDEX(ballonperdus,SMALL(IF(joueurs=$B29,ROW(INDIRECT(\"1:\"&ROWS(ballonperdus)))),ROWS($1:$18))),\"\")","v":""},{"$f":"IF(ROWS($1:$19)<=COUNTIF(joueurs,$B29),INDEX(ballonperdus,SMALL(IF(joueurs=$B29,ROW(INDIRECT(\"1:\"&ROWS(ballonperdus)))),ROWS($1:$19))),\"\")","v":""},{"$f":"IF(ROWS($1:$20)<=COUNTIF(joueurs,$B29),INDEX(fautes,SMALL(IF(joueurs=$B29,ROW(INDIRECT(\"1:\"&ROWS(ballonperdus)))),ROWS($1:$20))),\"\")","v":""},{"$f":"IF(ROWS($1:$11)<=COUNTIF(joueurs,$B29),INDEX(interceptions,SMALL(IF(joueurs=$B29,ROW(INDIRECT(\"1:\"&ROWS(interceptions)))),ROWS($1:$11))),\"\")","v":""},{"$f":"IF(ROWS($1:$12)<=COUNTIF(joueurs,$B29),INDEX(interceptions,SMALL(IF(joueurs=$B29,ROW(INDIRECT(\"1:\"&ROWS(interceptions)))),ROWS($1:$12))),\"\")","v":""},{"$f":"IF(ROWS($1:$13)<=COUNTIF(joueurs,$B29),INDEX(interceptions,SMALL(IF(joueurs=$B29,ROW(INDIRECT(\"1:\"&ROWS(interceptions)))),ROWS($1:$13))),\"\")","v":""},{"$f":"IF(ROWS($1:$14)<=COUNTIF(joueurs,$B29),INDEX(interceptions,SMALL(IF(joueurs=$B29,ROW(INDIRECT(\"1:\"&ROWS(interceptions)))),ROWS($1:$14))),\"\")","v":""},{"$f":"IF(ROWS($1:$15)<=COUNTIF(joueurs,$B29),INDEX(interceptions,SMALL(IF(joueurs=$B29,ROW(INDIRECT(\"1:\"&ROWS(interceptions)))),ROWS($1:$15))),\"\")","v":""},{"$f":"IF(ROWS($1:$16)<=COUNTIF(joueurs,$B29),INDEX(interceptions,SMALL(IF(joueurs=$B29,ROW(INDIRECT(\"1:\"&ROWS(interceptions)))),ROWS($1:$16))),\"\")","v":""},{"$f":"IF(ROWS($1:$17)<=COUNTIF(joueurs,$B29),INDEX(interceptions,SMALL(IF(joueurs=$B29,ROW(INDIRECT(\"1:\"&ROWS(interceptions)))),ROWS($1:$17))),\"\")","v":""},{"$f":"IF(ROWS($1:$18)<=COUNTIF(joueurs,$B29),INDEX(interceptions,SMALL(IF(joueurs=$B29,ROW(INDIRECT(\"1:\"&ROWS(interceptions)))),ROWS($1:$18))),\"\")","v":""},{"$f":"IF(ROWS($1:$19)<=COUNTIF(joueurs,$B29),INDEX(interceptions,SMALL(IF(joueurs=$B29,ROW(INDIRECT(\"1:\"&ROWS(interceptions)))),ROWS($1:$19))),\"\")","v":""},{"$f":"IF(ROWS($1:$20)<=COUNTIF(joueurs,$B29),INDEX(interceptions,SMALL(IF(joueurs=$B29,ROW(INDIRECT(\"1:\"&ROWS(interceptions)))),ROWS($1:$20))),\"\")","v":""},{"$f":"IF(ROWS($1:$11)<=COUNTIF(joueurs,$B29),INDEX(ballonrecuperes,SMALL(IF(joueurs=$B29,ROW(INDIRECT(\"1:\"&ROWS(ballonrecuperes)))),ROWS($1:$11))),\"\")","v":""},{"$f":"IF(ROWS($1:$12)<=COUNTIF(joueurs,$B29),INDEX(ballonrecuperes,SMALL(IF(joueurs=$B29,ROW(INDIRECT(\"1:\"&ROWS(ballonrecuperes)))),ROWS($1:$12))),\"\")","v":""},{"$f":"IF(ROWS($1:$13)<=COUNTIF(joueurs,$B29),INDEX(ballonrecuperes,SMALL(IF(joueurs=$B29,ROW(INDIRECT(\"1:\"&ROWS(ballonrecuperes)))),ROWS($1:$13))),\"\")","v":""},{"$f":"IF(ROWS($1:$14)<=COUNTIF(joueurs,$B29),INDEX(ballonrecuperes,SMALL(IF(joueurs=$B29,ROW(INDIRECT(\"1:\"&ROWS(ballonrecuperes)))),ROWS($1:$14))),\"\")","v":""},{"$f":"IF(ROWS($1:$15)<=COUNTIF(joueurs,$B29),INDEX(ballonrecuperes,SMALL(IF(joueurs=$B29,ROW(INDIRECT(\"1:\"&ROWS(ballonrecuperes)))),ROWS($1:$15))),\"\")","v":""},{"$f":"IF(ROWS($1:$16)<=COUNTIF(joueurs,$B29),INDEX(ballonrecuperes,SMALL(IF(joueurs=$B29,ROW(INDIRECT(\"1:\"&ROWS(ballonrecuperes)))),ROWS($1:$16))),\"\")","v":""},{"$f":"IF(ROWS($1:$17)<=COUNTIF(joueurs,$B29),INDEX(ballonrecuperes,SMALL(IF(joueurs=$B29,ROW(INDIRECT(\"1:\"&ROWS(ballonrecuperes)))),ROWS($1:$17))),\"\")","v":""},{"$f":"IF(ROWS($1:$18)<=COUNTIF(joueurs,$B29),INDEX(ballonrecuperes,SMALL(IF(joueurs=$B29,ROW(INDIRECT(\"1:\"&ROWS(ballonrecuperes)))),ROWS($1:$18))),\"\")","v":""},{"$f":"IF(ROWS($1:$19)<=COUNTIF(joueurs,$B29),INDEX(ballonrecuperes,SMALL(IF(joueurs=$B29,ROW(INDIRECT(\"1:\"&ROWS(ballonrecuperes)))),ROWS($1:$19))),\"\")","v":""},{"$f":"IF(ROWS($1:$20)<=COUNTIF(joueurs,$B29),INDEX(ballonrecuperes,SMALL(IF(joueurs=$B29,ROW(INDIRECT(\"1:\"&ROWS(ballonrecuperes)))),ROWS($1:$20))),\"\")","v":""},{"$f":"IF(ROWS($1:$11)<=COUNTIF(joueurs,$B29),INDEX(tirs,SMALL(IF(joueurs=$B29,ROW(INDIRECT(\"1:\"&ROWS(tirs)))),ROWS($1:$11))),\"\")","v":""},{"$f":"IF(ROWS($1:$12)<=COUNTIF(joueurs,$B29),INDEX(tirs,SMALL(IF(joueurs=$B29,ROW(INDIRECT(\"1:\"&ROWS(tirs)))),ROWS($1:$12))),\"\")","v":""},{"$f":"IF(ROWS($1:$13)<=COUNTIF(joueurs,$B29),INDEX(tirs,SMALL(IF(joueurs=$B29,ROW(INDIRECT(\"1:\"&ROWS(tirs)))),ROWS($1:$13))),\"\")","v":""},{"$f":"IF(ROWS($1:$14)<=COUNTIF(joueurs,$B29),INDEX(tirs,SMALL(IF(joueurs=$B29,ROW(INDIRECT(\"1:\"&ROWS(tirs)))),ROWS($1:$14))),\"\")","v":""},{"$f":"IF(ROWS($1:$15)<=COUNTIF(joueurs,$B29),INDEX(tirs,SMALL(IF(joueurs=$B29,ROW(INDIRECT(\"1:\"&ROWS(tirs)))),ROWS($1:$15))),\"\")","v":""},{"$f":"IF(ROWS($1:$16)<=COUNTIF(joueurs,$B29),INDEX(tirs,SMALL(IF(joueurs=$B29,ROW(INDIRECT(\"1:\"&ROWS(tirs)))),ROWS($1:$16))),\"\")","v":""},{"$f":"IF(ROWS($1:$17)<=COUNTIF(joueurs,$B29),INDEX(tirs,SMALL(IF(joueurs=$B29,ROW(INDIRECT(\"1:\"&ROWS(tirs)))),ROWS($1:$17))),\"\")","v":""},{"$f":"IF(ROWS($1:$18)<=COUNTIF(joueurs,$B29),INDEX(tirs,SMALL(IF(joueurs=$B29,ROW(INDIRECT(\"1:\"&ROWS(tirs)))),ROWS($1:$18))),\"\")","v":""},{"$f":"IF(ROWS($1:$19)<=COUNTIF(joueurs,$B29),INDEX(tirs,SMALL(IF(joueurs=$B29,ROW(INDIRECT(\"1:\"&ROWS(tirs)))),ROWS($1:$19))),\"\")","v":""},{"$f":"IF(ROWS($1:$20)<=COUNTIF(joueurs,$B29),INDEX(tirs,SMALL(IF(joueurs=$B29,ROW(INDIRECT(\"1:\"&ROWS(tirs)))),ROWS($1:$20))),\"\")","v":""},{"$f":"IF(ROWS($1:$11)<=COUNTIF(joueurs,$B29),INDEX(bontirs,SMALL(IF(joueurs=$B29,ROW(INDIRECT(\"1:\"&ROWS(bontirs)))),ROWS($1:$11))),\"\")","v":""},{"$f":"IF(ROWS($1:$12)<=COUNTIF(joueurs,$B29),INDEX(bontirs,SMALL(IF(joueurs=$B29,ROW(INDIRECT(\"1:\"&ROWS(bontirs)))),ROWS($1:$12))),\"\")","v":""},{"$f":"IF(ROWS($1:$13)<=COUNTIF(joueurs,$B29),INDEX(bontirs,SMALL(IF(joueurs=$B29,ROW(INDIRECT(\"1:\"&ROWS(bontirs)))),ROWS($1:$13))),\"\")","v":""},{"$f":"IF(ROWS($1:$14)<=COUNTIF(joueurs,$B29),INDEX(bontirs,SMALL(IF(joueurs=$B29,ROW(INDIRECT(\"1:\"&ROWS(bontirs)))),ROWS($1:$14))),\"\")","v":""},{"$f":"IF(ROWS($1:$15)<=COUNTIF(joueurs,$B29),INDEX(bontirs,SMALL(IF(joueurs=$B29,ROW(INDIRECT(\"1:\"&ROWS(bontirs)))),ROWS($1:$15))),\"\")","v":""},{"$f":"IF(ROWS($1:$16)<=COUNTIF(joueurs,$B29),INDEX(bontirs,SMALL(IF(joueurs=$B29,ROW(INDIRECT(\"1:\"&ROWS(bontirs)))),ROWS($1:$16))),\"\")","v":""},{"$f":"IF(ROWS($1:$17)<=COUNTIF(joueurs,$B29),INDEX(bontirs,SMALL(IF(joueurs=$B29,ROW(INDIRECT(\"1:\"&ROWS(bontirs)))),ROWS($1:$17))),\"\")","v":""},{"$f":"IF(ROWS($1:$18)<=COUNTIF(joueurs,$B29),INDEX(bontirs,SMALL(IF(joueurs=$B29,ROW(INDIRECT(\"1:\"&ROWS(bontirs)))),ROWS($1:$18))),\"\")","v":""},{"$f":"IF(ROWS($1:$19)<=COUNTIF(joueurs,$B29),INDEX(bontirs,SMALL(IF(joueurs=$B29,ROW(INDIRECT(\"1:\"&ROWS(bontirs)))),ROWS($1:$19))),\"\")","v":""},{"$f":"IF(ROWS($1:$20)<=COUNTIF(joueurs,$B29),INDEX(bontirs,SMALL(IF(joueurs=$B29,ROW(INDIRECT(\"1:\"&ROWS(bontirs)))),ROWS($1:$20))),\"\")","v":""},{"$f":"IF(ROWS($1:$11)<=COUNTIF(joueurs,$B29),INDEX(points,SMALL(IF(joueurs=$B29,ROW(INDIRECT(\"1:\"&ROWS(points)))),ROWS($1:$11))),\"\")","v":""},{"$f":"IF(ROWS($1:$12)<=COUNTIF(joueurs,$B29),INDEX(points,SMALL(IF(joueurs=$B29,ROW(INDIRECT(\"1:\"&ROWS(points)))),ROWS($1:$12))),\"\")","v":""},{"$f":"IF(ROWS($1:$13)<=COUNTIF(joueurs,$B29),INDEX(points,SMALL(IF(joueurs=$B29,ROW(INDIRECT(\"1:\"&ROWS(points)))),ROWS($1:$13))),\"\")","v":""},{"$f":"IF(ROWS($1:$14)<=COUNTIF(joueurs,$B29),INDEX(points,SMALL(IF(joueurs=$B29,ROW(INDIRECT(\"1:\"&ROWS(points)))),ROWS($1:$14))),\"\")","v":""},{"$f":"IF(ROWS($1:$15)<=COUNTIF(joueurs,$B29),INDEX(points,SMALL(IF(joueurs=$B29,ROW(INDIRECT(\"1:\"&ROWS(points)))),ROWS($1:$15))),\"\")","v":""},{"$f":"IF(ROWS($1:$16)<=COUNTIF(joueurs,$B29),INDEX(points,SMALL(IF(joueurs=$B29,ROW(INDIRECT(\"1:\"&ROWS(points)))),ROWS($1:$16))),\"\")","v":""},{"$f":"IF(ROWS($1:$17)<=COUNTIF(joueurs,$B29),INDEX(points,SMALL(IF(joueurs=$B29,ROW(INDIRECT(\"1:\"&ROWS(points)))),ROWS($1:$17))),\"\")","v":""},{"$f":"IF(ROWS($1:$18)<=COUNTIF(joueurs,$B29),INDEX(points,SMALL(IF(joueurs=$B29,ROW(INDIRECT(\"1:\"&ROWS(points)))),ROWS($1:$18))),\"\")","v":""},{"$f":"IF(ROWS($1:$19)<=COUNTIF(joueurs,$B29),INDEX(points,SMALL(IF(joueurs=$B29,ROW(INDIRECT(\"1:\"&ROWS(points)))),ROWS($1:$19))),\"\")","v":""},{"$f":"IF(ROWS($1:$20)<=COUNTIF(points,$B29),INDEX(fautes,SMALL(IF(joueurs=$B29,ROW(INDIRECT(\"1:\"&ROWS(points)))),ROWS($1:$20))),\"\")","v":""},{"$f":"IF(ROWS($1:$11)<=COUNTIF(joueurs,$B29),INDEX(victoires,SMALL(IF(joueurs=$B29,ROW(INDIRECT(\"1:\"&ROWS(victoires)))),ROWS($1:$11))),\"\")","v":""},{"$f":"IF(ROWS($1:$12)<=COUNTIF(joueurs,$B29),INDEX(victoires,SMALL(IF(joueurs=$B29,ROW(INDIRECT(\"1:\"&ROWS(victoires)))),ROWS($1:$12))),\"\")","v":""},{"$f":"IF(ROWS($1:$13)<=COUNTIF(joueurs,$B29),INDEX(victoires,SMALL(IF(joueurs=$B29,ROW(INDIRECT(\"1:\"&ROWS(victoires)))),ROWS($1:$13))),\"\")","v":""},{"$f":"IF(ROWS($1:$14)<=COUNTIF(joueurs,$B29),INDEX(victoires,SMALL(IF(joueurs=$B29,ROW(INDIRECT(\"1:\"&ROWS(victoires)))),ROWS($1:$14))),\"\")","v":""},{"$f":"IF(ROWS($1:$15)<=COUNTIF(joueurs,$B29),INDEX(victoires,SMALL(IF(joueurs=$B29,ROW(INDIRECT(\"1:\"&ROWS(victoires)))),ROWS($1:$15))),\"\")","v":""},{"$f":"IF(ROWS($1:$16)<=COUNTIF(joueurs,$B29),INDEX(victoires,SMALL(IF(joueurs=$B29,ROW(INDIRECT(\"1:\"&ROWS(victoires)))),ROWS($1:$16))),\"\")","v":""},{"$f":"IF(ROWS($1:$17)<=COUNTIF(joueurs,$B29),INDEX(victoires,SMALL(IF(joueurs=$B29,ROW(INDIRECT(\"1:\"&ROWS(victoires)))),ROWS($1:$17))),\"\")","v":""},{"$f":"IF(ROWS($1:$18)<=COUNTIF(joueurs,$B29),INDEX(victoires,SMALL(IF(joueurs=$B29,ROW(INDIRECT(\"1:\"&ROWS(victoires)))),ROWS($1:$18))),\"\")","v":""},{"$f":"IF(ROWS($1:$19)<=COUNTIF(joueurs,$B29),INDEX(victoires,SMALL(IF(joueurs=$B29,ROW(INDIRECT(\"1:\"&ROWS(victoires)))),ROWS($1:$19))),\"\")","v":""},{"$f":"IF(ROWS($1:$20)<=COUNTIF(joueurs,$B29),INDEX(victoires,SMALL(IF(joueurs=$B29,ROW(INDIRECT(\"1:\"&ROWS(victoires)))),ROWS($1:$20))),\"\")","v":""}]
[null,null,null,{"$f":"IF(ROWS($1:$21)<=COUNTIF(joueurs,$B29),INDEX(fautes,SMALL(IF(joueurs=$B29,ROW(INDIRECT(\"1:\"&ROWS(fautes)))),ROWS($1:$21))),\"\")","v":""},{"$f":"IF(ROWS($1:$22)<=COUNTIF(joueurs,$B29),INDEX(fautes,SMALL(IF(joueurs=$B29,ROW(INDIRECT(\"1:\"&ROWS(fautes)))),ROWS($1:$22))),\"\")","v":""},{"$f":"IF(ROWS($1:$23)<=COUNTIF(joueurs,$B29),INDEX(fautes,SMALL(IF(joueurs=$B29,ROW(INDIRECT(\"1:\"&ROWS(fautes)))),ROWS($1:$23))),\"\")","v":""},{"$f":"IF(ROWS($1:$24)<=COUNTIF(joueurs,$B29),INDEX(fautes,SMALL(IF(joueurs=$B29,ROW(INDIRECT(\"1:\"&ROWS(fautes)))),ROWS($1:$24))),\"\")","v":""},{"$f":"IF(ROWS($1:$25)<=COUNTIF(joueurs,$B29),INDEX(fautes,SMALL(IF(joueurs=$B29,ROW(INDIRECT(\"1:\"&ROWS(fautes)))),ROWS($1:$25))),\"\")","v":""},{"$f":"IF(ROWS($1:$26)<=COUNTIF(joueurs,$B29),INDEX(fautes,SMALL(IF(joueurs=$B29,ROW(INDIRECT(\"1:\"&ROWS(fautes)))),ROWS($1:$26))),\"\")","v":""},{"$f":"IF(ROWS($1:$27)<=COUNTIF(joueurs,$B29),INDEX(fautes,SMALL(IF(joueurs=$B29,ROW(INDIRECT(\"1:\"&ROWS(fautes)))),ROWS($1:$27))),\"\")","v":""},{"$f":"IF(ROWS($1:$28)<=COUNTIF(joueurs,$B29),INDEX(fautes,SMALL(IF(joueurs=$B29,ROW(INDIRECT(\"1:\"&ROWS(fautes)))),ROWS($1:$28))),\"\")","v":""},{"$f":"IF(ROWS($1:$29)<=COUNTIF(joueurs,$B29),INDEX(fautes,SMALL(IF(joueurs=$B29,ROW(INDIRECT(\"1:\"&ROWS(fautes)))),ROWS($1:$29))),\"\")","v":""},{"$f":"IF(ROWS($1:$30)<=COUNTIF(joueurs,$B29),INDEX(fautes,SMALL(IF(joueurs=$B29,ROW(INDIRECT(\"1:\"&ROWS(fautes)))),ROWS($1:$30))),\"\")","v":""},{"$f":"IF(ROWS($1:$21)<=COUNTIF(joueurs,$B29),INDEX(ballonperdus,SMALL(IF(joueurs=$B29,ROW(INDIRECT(\"1:\"&ROWS(ballonperdus)))),ROWS($1:$21))),\"\")","v":""},{"$f":"IF(ROWS($1:$22)<=COUNTIF(joueurs,$B29),INDEX(ballonperdus,SMALL(IF(joueurs=$B29,ROW(INDIRECT(\"1:\"&ROWS(ballonperdus)))),ROWS($1:$22))),\"\")","v":""},{"$f":"IF(ROWS($1:$23)<=COUNTIF(joueurs,$B29),INDEX(ballonperdus,SMALL(IF(joueurs=$B29,ROW(INDIRECT(\"1:\"&ROWS(ballonperdus)))),ROWS($1:$23))),\"\")","v":""},{"$f":"IF(ROWS($1:$24)<=COUNTIF(joueurs,$B29),INDEX(ballonperdus,SMALL(IF(joueurs=$B29,ROW(INDIRECT(\"1:\"&ROWS(ballonperdus)))),ROWS($1:$24))),\"\")","v":""},{"$f":"IF(ROWS($1:$25)<=COUNTIF(joueurs,$B29),INDEX(ballonperdus,SMALL(IF(joueurs=$B29,ROW(INDIRECT(\"1:\"&ROWS(ballonperdus)))),ROWS($1:$25))),\"\")","v":""},{"$f":"IF(ROWS($1:$26)<=COUNTIF(joueurs,$B29),INDEX(ballonperdus,SMALL(IF(joueurs=$B29,ROW(INDIRECT(\"1:\"&ROWS(ballonperdus)))),ROWS($1:$26))),\"\")","v":""},{"$f":"IF(ROWS($1:$27)<=COUNTIF(joueurs,$B29),INDEX(ballonperdus,SMALL(IF(joueurs=$B29,ROW(INDIRECT(\"1:\"&ROWS(ballonperdus)))),ROWS($1:$27))),\"\")","v":""},{"$f":"IF(ROWS($1:$28)<=COUNTIF(joueurs,$B29),INDEX(ballonperdus,SMALL(IF(joueurs=$B29,ROW(INDIRECT(\"1:\"&ROWS(ballonperdus)))),ROWS($1:$28))),\"\")","v":""},{"$f":"IF(ROWS($1:$29)<=COUNTIF(joueurs,$B29),INDEX(ballonperdus,SMALL(IF(joueurs=$B29,ROW(INDIRECT(\"1:\"&ROWS(ballonperdus)))),ROWS($1:$29))),\"\")","v":""},{"$f":"IF(ROWS($1:$30)<=COUNTIF(joueurs,$B29),INDEX(ballonperdus,SMALL(IF(joueurs=$B29,ROW(INDIRECT(\"1:\"&ROWS(ballonperdus)))),ROWS($1:$30))),\"\")","v":""},{"$f":"IF(ROWS($1:$21)<=COUNTIF(joueurs,$B29),INDEX(interceptions,SMALL(IF(joueurs=$B29,ROW(INDIRECT(\"1:\"&ROWS(interceptions)))),ROWS($1:$21))),\"\")","v":""},{"$f":"IF(ROWS($1:$22)<=COUNTIF(joueurs,$B29),INDEX(interceptions,SMALL(IF(joueurs=$B29,ROW(INDIRECT(\"1:\"&ROWS(interceptions)))),ROWS($1:$22))),\"\")","v":""},{"$f":"IF(ROWS($1:$23)<=COUNTIF(joueurs,$B29),INDEX(interceptions,SMALL(IF(joueurs=$B29,ROW(INDIRECT(\"1:\"&ROWS(interceptions)))),ROWS($1:$23))),\"\")","v":""},{"$f":"IF(ROWS($1:$24)<=COUNTIF(joueurs,$B29),INDEX(interceptions,SMALL(IF(joueurs=$B29,ROW(INDIRECT(\"1:\"&ROWS(interceptions)))),ROWS($1:$24))),\"\")","v":""},{"$f":"IF(ROWS($1:$25)<=COUNTIF(joueurs,$B29),INDEX(interceptions,SMALL(IF(joueurs=$B29,ROW(INDIRECT(\"1:\"&ROWS(interceptions)))),ROWS($1:$25))),\"\")","v":""},{"$f":"IF(ROWS($1:$26)<=COUNTIF(joueurs,$B29),INDEX(interceptions,SMALL(IF(joueurs=$B29,ROW(INDIRECT(\"1:\"&ROWS(interceptions)))),ROWS($1:$26))),\"\")","v":""},{"$f":"IF(ROWS($1:$27)<=COUNTIF(joueurs,$B29),INDEX(interceptions,SMALL(IF(joueurs=$B29,ROW(INDIRECT(\"1:\"&ROWS(interceptions)))),ROWS($1:$27))),\"\")","v":""},{"$f":"IF(ROWS($1:$28)<=COUNTIF(joueurs,$B29),INDEX(interceptions,SMALL(IF(joueurs=$B29,ROW(INDIRECT(\"1:\"&ROWS(interceptions)))),ROWS($1:$28))),\"\")","v":""},{"$f":"IF(ROWS($1:$29)<=COUNTIF(joueurs,$B29),INDEX(interceptions,SMALL(IF(joueurs=$B29,ROW(INDIRECT(\"1:\"&ROWS(interceptions)))),ROWS($1:$29))),\"\")","v":""},{"$f":"IF(ROWS($1:$30)<=COUNTIF(joueurs,$B29),INDEX(interceptions,SMALL(IF(joueurs=$B29,ROW(INDIRECT(\"1:\"&ROWS(interceptions)))),ROWS($1:$30))),\"\")","v":""},{"$f":"IF(ROWS($1:$21)<=COUNTIF(joueurs,$B29),INDEX(ballonrecuperes,SMALL(IF(joueurs=$B29,ROW(INDIRECT(\"1:\"&ROWS(ballonrecuperes)))),ROWS($1:$21))),\"\")","v":""},{"$f":"IF(ROWS($1:$22)<=COUNTIF(joueurs,$B29),INDEX(ballonrecuperes,SMALL(IF(joueurs=$B29,ROW(INDIRECT(\"1:\"&ROWS(ballonrecuperes)))),ROWS($1:$22))),\"\")","v":""},{"$f":"IF(ROWS($1:$23)<=COUNTIF(joueurs,$B29),INDEX(ballonrecuperes,SMALL(IF(joueurs=$B29,ROW(INDIRECT(\"1:\"&ROWS(ballonrecuperes)))),ROWS($1:$23))),\"\")","v":""},{"$f":"IF(ROWS($1:$24)<=COUNTIF(joueurs,$B29),INDEX(ballonrecuperes,SMALL(IF(joueurs=$B29,ROW(INDIRECT(\"1:\"&ROWS(ballonrecuperes)))),ROWS($1:$24))),\"\")","v":""},{"$f":"IF(ROWS($1:$25)<=COUNTIF(joueurs,$B29),INDEX(ballonrecuperes,SMALL(IF(joueurs=$B29,ROW(INDIRECT(\"1:\"&ROWS(ballonrecuperes)))),ROWS($1:$25))),\"\")","v":""},{"$f":"IF(ROWS($1:$26)<=COUNTIF(joueurs,$B29),INDEX(ballonrecuperes,SMALL(IF(joueurs=$B29,ROW(INDIRECT(\"1:\"&ROWS(ballonrecuperes)))),ROWS($1:$26))),\"\")","v":""},{"$f":"IF(ROWS($1:$27)<=COUNTIF(joueurs,$B29),INDEX(ballonrecuperes,SMALL(IF(joueurs=$B29,ROW(INDIRECT(\"1:\"&ROWS(ballonrecuperes)))),ROWS($1:$27))),\"\")","v":""},{"$f":"IF(ROWS($1:$28)<=COUNTIF(joueurs,$B29),INDEX(ballonrecuperes,SMALL(IF(joueurs=$B29,ROW(INDIRECT(\"1:\"&ROWS(ballonrecuperes)))),ROWS($1:$28))),\"\")","v":""},{"$f":"IF(ROWS($1:$29)<=COUNTIF(joueurs,$B29),INDEX(ballonrecuperes,SMALL(IF(joueurs=$B29,ROW(INDIRECT(\"1:\"&ROWS(ballonrecuperes)))),ROWS($1:$29))),\"\")","v":""},{"$f":"IF(ROWS($1:$30)<=COUNTIF(joueurs,$B29),INDEX(ballonrecuperes,SMALL(IF(joueurs=$B29,ROW(INDIRECT(\"1:\"&ROWS(ballonrecuperes)))),ROWS($1:$30))),\"\")","v":""},{"$f":"IF(ROWS($1:$21)<=COUNTIF(joueurs,$B29),INDEX(tirs,SMALL(IF(joueurs=$B29,ROW(INDIRECT(\"1:\"&ROWS(tirs)))),ROWS($1:$21))),\"\")","v":""},{"$f":"IF(ROWS($1:$22)<=COUNTIF(joueurs,$B29),INDEX(tirs,SMALL(IF(joueurs=$B29,ROW(INDIRECT(\"1:\"&ROWS(tirs)))),ROWS($1:$22))),\"\")","v":""},{"$f":"IF(ROWS($1:$23)<=COUNTIF(joueurs,$B29),INDEX(tirs,SMALL(IF(joueurs=$B29,ROW(INDIRECT(\"1:\"&ROWS(tirs)))),ROWS($1:$23))),\"\")","v":""},{"$f":"IF(ROWS($1:$24)<=COUNTIF(joueurs,$B29),INDEX(tirs,SMALL(IF(joueurs=$B29,ROW(INDIRECT(\"1:\"&ROWS(tirs)))),ROWS($1:$24))),\"\")","v":""},{"$f":"IF(ROWS($1:$25)<=COUNTIF(joueurs,$B29),INDEX(tirs,SMALL(IF(joueurs=$B29,ROW(INDIRECT(\"1:\"&ROWS(tirs)))),ROWS($1:$25))),\"\")","v":""},{"$f":"IF(ROWS($1:$26)<=COUNTIF(joueurs,$B29),INDEX(tirs,SMALL(IF(joueurs=$B29,ROW(INDIRECT(\"1:\"&ROWS(tirs)))),ROWS($1:$26))),\"\")","v":""},{"$f":"IF(ROWS($1:$27)<=COUNTIF(joueurs,$B29),INDEX(tirs,SMALL(IF(joueurs=$B29,ROW(INDIRECT(\"1:\"&ROWS(tirs)))),ROWS($1:$27))),\"\")","v":""},{"$f":"IF(ROWS($1:$28)<=COUNTIF(joueurs,$B29),INDEX(tirs,SMALL(IF(joueurs=$B29,ROW(INDIRECT(\"1:\"&ROWS(tirs)))),ROWS($1:$28))),\"\")","v":""},{"$f":"IF(ROWS($1:$29)<=COUNTIF(joueurs,$B29),INDEX(tirs,SMALL(IF(joueurs=$B29,ROW(INDIRECT(\"1:\"&ROWS(tirs)))),ROWS($1:$29))),\"\")","v":""},{"$f":"IF(ROWS($1:$30)<=COUNTIF(joueurs,$B29),INDEX(tirs,SMALL(IF(joueurs=$B29,ROW(INDIRECT(\"1:\"&ROWS(tirs)))),ROWS($1:$30))),\"\")","v":""},{"$f":"IF(ROWS($1:$21)<=COUNTIF(joueurs,$B29),INDEX(bontirs,SMALL(IF(joueurs=$B29,ROW(INDIRECT(\"1:\"&ROWS(bontirs)))),ROWS($1:$21))),\"\")","v":""},{"$f":"IF(ROWS($1:$22)<=COUNTIF(joueurs,$B29),INDEX(bontirs,SMALL(IF(joueurs=$B29,ROW(INDIRECT(\"1:\"&ROWS(bontirs)))),ROWS($1:$22))),\"\")","v":""},{"$f":"IF(ROWS($1:$23)<=COUNTIF(joueurs,$B29),INDEX(bontirs,SMALL(IF(joueurs=$B29,ROW(INDIRECT(\"1:\"&ROWS(bontirs)))),ROWS($1:$23))),\"\")","v":""},{"$f":"IF(ROWS($1:$24)<=COUNTIF(joueurs,$B29),INDEX(bontirs,SMALL(IF(joueurs=$B29,ROW(INDIRECT(\"1:\"&ROWS(bontirs)))),ROWS($1:$24))),\"\")","v":""},{"$f":"IF(ROWS($1:$25)<=COUNTIF(joueurs,$B29),INDEX(bontirs,SMALL(IF(joueurs=$B29,ROW(INDIRECT(\"1:\"&ROWS(bontirs)))),ROWS($1:$25))),\"\")","v":""},{"$f":"IF(ROWS($1:$26)<=COUNTIF(joueurs,$B29),INDEX(bontirs,SMALL(IF(joueurs=$B29,ROW(INDIRECT(\"1:\"&ROWS(bontirs)))),ROWS($1:$26))),\"\")","v":""},{"$f":"IF(ROWS($1:$27)<=COUNTIF(joueurs,$B29),INDEX(bontirs,SMALL(IF(joueurs=$B29,ROW(INDIRECT(\"1:\"&ROWS(bontirs)))),ROWS($1:$27))),\"\")","v":""},{"$f":"IF(ROWS($1:$28)<=COUNTIF(joueurs,$B29),INDEX(bontirs,SMALL(IF(joueurs=$B29,ROW(INDIRECT(\"1:\"&ROWS(bontirs)))),ROWS($1:$28))),\"\")","v":""},{"$f":"IF(ROWS($1:$29)<=COUNTIF(joueurs,$B29),INDEX(bontirs,SMALL(IF(joueurs=$B29,ROW(INDIRECT(\"1:\"&ROWS(bontirs)))),ROWS($1:$29))),\"\")","v":""},{"$f":"IF(ROWS($1:$30)<=COUNTIF(joueurs,$B29),INDEX(bontirs,SMALL(IF(joueurs=$B29,ROW(INDIRECT(\"1:\"&ROWS(bontirs)))),ROWS($1:$30))),\"\")","v":""},{"$f":"IF(ROWS($1:$21)<=COUNTIF(joueurs,$B29),INDEX(points,SMALL(IF(joueurs=$B29,ROW(INDIRECT(\"1:\"&ROWS(points)))),ROWS($1:$21))),\"\")","v":""},{"$f":"IF(ROWS($1:$22)<=COUNTIF(joueurs,$B29),INDEX(points,SMALL(IF(joueurs=$B29,ROW(INDIRECT(\"1:\"&ROWS(points)))),ROWS($1:$22))),\"\")","v":""},{"$f":"IF(ROWS($1:$23)<=COUNTIF(joueurs,$B29),INDEX(points,SMALL(IF(joueurs=$B29,ROW(INDIRECT(\"1:\"&ROWS(points)))),ROWS($1:$23))),\"\")","v":""},{"$f":"IF(ROWS($1:$24)<=COUNTIF(joueurs,$B29),INDEX(points,SMALL(IF(joueurs=$B29,ROW(INDIRECT(\"1:\"&ROWS(points)))),ROWS($1:$24))),\"\")","v":""},{"$f":"IF(ROWS($1:$25)<=COUNTIF(joueurs,$B29),INDEX(points,SMALL(IF(joueurs=$B29,ROW(INDIRECT(\"1:\"&ROWS(points)))),ROWS($1:$25))),\"\")","v":""},{"$f":"IF(ROWS($1:$26)<=COUNTIF(joueurs,$B29),INDEX(points,SMALL(IF(joueurs=$B29,ROW(INDIRECT(\"1:\"&ROWS(points)))),ROWS($1:$26))),\"\")","v":""},{"$f":"IF(ROWS($1:$27)<=COUNTIF(joueurs,$B29),INDEX(points,SMALL(IF(joueurs=$B29,ROW(INDIRECT(\"1:\"&ROWS(points)))),ROWS($1:$27))),\"\")","v":""},{"$f":"IF(ROWS($1:$28)<=COUNTIF(joueurs,$B29),INDEX(points,SMALL(IF(joueurs=$B29,ROW(INDIRECT(\"1:\"&ROWS(points)))),ROWS($1:$28))),\"\")","v":""},{"$f":"IF(ROWS($1:$29)<=COUNTIF(joueurs,$B29),INDEX(points,SMALL(IF(joueurs=$B29,ROW(INDIRECT(\"1:\"&ROWS(points)))),ROWS($1:$29))),\"\")","v":""},{"$f":"IF(ROWS($1:$30)<=COUNTIF(joueurs,$B29),INDEX(points,SMALL(IF(joueurs=$B29,ROW(INDIRECT(\"1:\"&ROWS(points)))),ROWS($1:$30))),\"\")","v":""},{"$f":"IF(ROWS($1:$21)<=COUNTIF(joueurs,$B29),INDEX(victoires,SMALL(IF(joueurs=$B29,ROW(INDIRECT(\"1:\"&ROWS(victoires)))),ROWS($1:$21))),\"\")","v":""},{"$f":"IF(ROWS($1:$22)<=COUNTIF(joueurs,$B29),INDEX(victoires,SMALL(IF(joueurs=$B29,ROW(INDIRECT(\"1:\"&ROWS(victoires)))),ROWS($1:$22))),\"\")","v":""},{"$f":"IF(ROWS($1:$23)<=COUNTIF(joueurs,$B29),INDEX(victoires,SMALL(IF(joueurs=$B29,ROW(INDIRECT(\"1:\"&ROWS(victoires)))),ROWS($1:$23))),\"\")","v":""},{"$f":"IF(ROWS($1:$24)<=COUNTIF(joueurs,$B29),INDEX(victoires,SMALL(IF(joueurs=$B29,ROW(INDIRECT(\"1:\"&ROWS(victoires)))),ROWS($1:$24))),\"\")","v":""},{"$f":"IF(ROWS($1:$25)<=COUNTIF(joueurs,$B29),INDEX(victoires,SMALL(IF(joueurs=$B29,ROW(INDIRECT(\"1:\"&ROWS(victoires)))),ROWS($1:$25))),\"\")","v":""},{"$f":"IF(ROWS($1:$26)<=COUNTIF(joueurs,$B29),INDEX(victoires,SMALL(IF(joueurs=$B29,ROW(INDIRECT(\"1:\"&ROWS(victoires)))),ROWS($1:$26))),\"\")","v":""},{"$f":"IF(ROWS($1:$27)<=COUNTIF(joueurs,$B29),INDEX(victoires,SMALL(IF(joueurs=$B29,ROW(INDIRECT(\"1:\"&ROWS(victoires)))),ROWS($1:$27))),\"\")","v":""},{"$f":"IF(ROWS($1:$28)<=COUNTIF(joueurs,$B29),INDEX(victoires,SMALL(IF(joueurs=$B29,ROW(INDIRECT(\"1:\"&ROWS(victoires)))),ROWS($1:$28))),\"\")","v":""},{"$f":"IF(ROWS($1:$29)<=COUNTIF(joueurs,$B29),INDEX(victoires,SMALL(IF(joueurs=$B29,ROW(INDIRECT(\"1:\"&ROWS(victoires)))),ROWS($1:$29))),\"\")","v":""},{"$f":"IF(ROWS($1:$30)<=COUNTIF(joueurs,$B29),INDEX(victoires,SMALL(IF(joueurs=$B29,ROW(INDIRECT(\"1:\"&ROWS(victoires)))),ROWS($1:$30))),\"\")","v":""}]
[null,null,null,{"$f":"IF(ROWS($1:$31)<=COUNTIF(joueurs,$B29),INDEX(fautes,SMALL(IF(joueurs=$B29,ROW(INDIRECT(\"1:\"&ROWS(fautes)))),ROWS($1:$31))),\"\")","v":""},{"$f":"IF(ROWS($1:$32)<=COUNTIF(joueurs,$B29),INDEX(fautes,SMALL(IF(joueurs=$B29,ROW(INDIRECT(\"1:\"&ROWS(fautes)))),ROWS($1:$32))),\"\")","v":""},{"$f":"IF(ROWS($1:$33)<=COUNTIF(joueurs,$B29),INDEX(fautes,SMALL(IF(joueurs=$B29,ROW(INDIRECT(\"1:\"&ROWS(fautes)))),ROWS($1:$33))),\"\")","v":""},{"$f":"IF(ROWS($1:$34)<=COUNTIF(joueurs,$B29),INDEX(fautes,SMALL(IF(joueurs=$B29,ROW(INDIRECT(\"1:\"&ROWS(fautes)))),ROWS($1:$34))),\"\")","v":""},{"$f":"IF(ROWS($1:$35)<=COUNTIF(joueurs,$B29),INDEX(fautes,SMALL(IF(joueurs=$B29,ROW(INDIRECT(\"1:\"&ROWS(fautes)))),ROWS($1:$35))),\"\")","v":""},{"$f":"IF(ROWS($1:$36)<=COUNTIF(joueurs,$B29),INDEX(fautes,SMALL(IF(joueurs=$B29,ROW(INDIRECT(\"1:\"&ROWS(fautes)))),ROWS($1:$36))),\"\")","v":""},{"$f":"IF(ROWS($1:$37)<=COUNTIF(joueurs,$B29),INDEX(fautes,SMALL(IF(joueurs=$B29,ROW(INDIRECT(\"1:\"&ROWS(fautes)))),ROWS($1:$37))),\"\")","v":""},{"$f":"IF(ROWS($1:$38)<=COUNTIF(joueurs,$B29),INDEX(fautes,SMALL(IF(joueurs=$B29,ROW(INDIRECT(\"1:\"&ROWS(fautes)))),ROWS($1:$38))),\"\")","v":""},{"$f":"IF(ROWS($1:$39)<=COUNTIF(joueurs,$B29),INDEX(fautes,SMALL(IF(joueurs=$B29,ROW(INDIRECT(\"1:\"&ROWS(fautes)))),ROWS($1:$39))),\"\")","v":""},{"$f":"IF(ROWS($1:$40)<=COUNTIF(joueurs,$B29),INDEX(fautes,SMALL(IF(joueurs=$B29,ROW(INDIRECT(\"1:\"&ROWS(fautes)))),ROWS($1:$40))),\"\")","v":""},{"$f":"IF(ROWS($1:$31)<=COUNTIF(joueurs,$B29),INDEX(ballonperdus,SMALL(IF(joueurs=$B29,ROW(INDIRECT(\"1:\"&ROWS(ballonperdus)))),ROWS($1:$31))),\"\")","v":""},{"$f":"IF(ROWS($1:$32)<=COUNTIF(joueurs,$B29),INDEX(ballonperdus,SMALL(IF(joueurs=$B29,ROW(INDIRECT(\"1:\"&ROWS(ballonperdus)))),ROWS($1:$32))),\"\")","v":""},{"$f":"IF(ROWS($1:$33)<=COUNTIF(joueurs,$B29),INDEX(ballonperdus,SMALL(IF(joueurs=$B29,ROW(INDIRECT(\"1:\"&ROWS(ballonperdus)))),ROWS($1:$33))),\"\")","v":""},{"$f":"IF(ROWS($1:$34)<=COUNTIF(joueurs,$B29),INDEX(ballonperdus,SMALL(IF(joueurs=$B29,ROW(INDIRECT(\"1:\"&ROWS(ballonperdus)))),ROWS($1:$34))),\"\")","v":""},{"$f":"IF(ROWS($1:$35)<=COUNTIF(joueurs,$B29),INDEX(ballonperdus,SMALL(IF(joueurs=$B29,ROW(INDIRECT(\"1:\"&ROWS(ballonperdus)))),ROWS($1:$35))),\"\")","v":""},{"$f":"IF(ROWS($1:$36)<=COUNTIF(joueurs,$B29),INDEX(ballonperdus,SMALL(IF(joueurs=$B29,ROW(INDIRECT(\"1:\"&ROWS(ballonperdus)))),ROWS($1:$36))),\"\")","v":""},{"$f":"IF(ROWS($1:$37)<=COUNTIF(joueurs,$B29),INDEX(ballonperdus,SMALL(IF(joueurs=$B29,ROW(INDIRECT(\"1:\"&ROWS(ballonperdus)))),ROWS($1:$37))),\"\")","v":""},{"$f":"IF(ROWS($1:$38)<=COUNTIF(joueurs,$B29),INDEX(ballonperdus,SMALL(IF(joueurs=$B29,ROW(INDIRECT(\"1:\"&ROWS(ballonperdus)))),ROWS($1:$38))),\"\")","v":""},{"$f":"IF(ROWS($1:$39)<=COUNTIF(joueurs,$B29),INDEX(ballonperdus,SMALL(IF(joueurs=$B29,ROW(INDIRECT(\"1:\"&ROWS(ballonperdus)))),ROWS($1:$39))),\"\")","v":""},{"$f":"IF(ROWS($1:$40)<=COUNTIF(joueurs,$B29),INDEX(ballonperdus,SMALL(IF(joueurs=$B29,ROW(INDIRECT(\"1:\"&ROWS(ballonperdus)))),ROWS($1:$40))),\"\")","v":""},{"$f":"IF(ROWS($1:$31)<=COUNTIF(joueurs,$B29),INDEX(interceptions,SMALL(IF(joueurs=$B29,ROW(INDIRECT(\"1:\"&ROWS(interceptions)))),ROWS($1:$31))),\"\")","v":""},{"$f":"IF(ROWS($1:$32)<=COUNTIF(joueurs,$B29),INDEX(interceptions,SMALL(IF(joueurs=$B29,ROW(INDIRECT(\"1:\"&ROWS(interceptions)))),ROWS($1:$32))),\"\")","v":""},{"$f":"IF(ROWS($1:$33)<=COUNTIF(joueurs,$B29),INDEX(interceptions,SMALL(IF(joueurs=$B29,ROW(INDIRECT(\"1:\"&ROWS(interceptions)))),ROWS($1:$33))),\"\")","v":""},{"$f":"IF(ROWS($1:$34)<=COUNTIF(joueurs,$B29),INDEX(interceptions,SMALL(IF(joueurs=$B29,ROW(INDIRECT(\"1:\"&ROWS(interceptions)))),ROWS($1:$34))),\"\")","v":""},{"$f":"IF(ROWS($1:$35)<=COUNTIF(joueurs,$B29),INDEX(interceptions,SMALL(IF(joueurs=$B29,ROW(INDIRECT(\"1:\"&ROWS(interceptions)))),ROWS($1:$35))),\"\")","v":""},{"$f":"IF(ROWS($1:$36)<=COUNTIF(joueurs,$B29),INDEX(interceptions,SMALL(IF(joueurs=$B29,ROW(INDIRECT(\"1:\"&ROWS(interceptions)))),ROWS($1:$36))),\"\")","v":""},{"$f":"IF(ROWS($1:$37)<=COUNTIF(joueurs,$B29),INDEX(interceptions,SMALL(IF(joueurs=$B29,ROW(INDIRECT(\"1:\"&ROWS(interceptions)))),ROWS($1:$37))),\"\")","v":""},{"$f":"IF(ROWS($1:$38)<=COUNTIF(joueurs,$B29),INDEX(interceptions,SMALL(IF(joueurs=$B29,ROW(INDIRECT(\"1:\"&ROWS(interceptions)))),ROWS($1:$38))),\"\")","v":""},{"$f":"IF(ROWS($1:$39)<=COUNTIF(joueurs,$B29),INDEX(interceptions,SMALL(IF(joueurs=$B29,ROW(INDIRECT(\"1:\"&ROWS(interceptions)))),ROWS($1:$39))),\"\")","v":""},{"$f":"IF(ROWS($1:$40)<=COUNTIF(joueurs,$B29),INDEX(interceptions,SMALL(IF(joueurs=$B29,ROW(INDIRECT(\"1:\"&ROWS(interceptions)))),ROWS($1:$40))),\"\")","v":""},{"$f":"IF(ROWS($1:$31)<=COUNTIF(joueurs,$B29),INDEX(ballonrecuperes,SMALL(IF(joueurs=$B29,ROW(INDIRECT(\"1:\"&ROWS(ballonrecuperes)))),ROWS($1:$31))),\"\")","v":""},{"$f":"IF(ROWS($1:$32)<=COUNTIF(joueurs,$B29),INDEX(ballonrecuperes,SMALL(IF(joueurs=$B29,ROW(INDIRECT(\"1:\"&ROWS(ballonrecuperes)))),ROWS($1:$32))),\"\")","v":""},{"$f":"IF(ROWS($1:$33)<=COUNTIF(joueurs,$B29),INDEX(ballonrecuperes,SMALL(IF(joueurs=$B29,ROW(INDIRECT(\"1:\"&ROWS(ballonrecuperes)))),ROWS($1:$33))),\"\")","v":""},{"$f":"IF(ROWS($1:$34)<=COUNTIF(joueurs,$B29),INDEX(ballonrecuperes,SMALL(IF(joueurs=$B29,ROW(INDIRECT(\"1:\"&ROWS(ballonrecuperes)))),ROWS($1:$34))),\"\")","v":""},{"$f":"IF(ROWS($1:$35)<=COUNTIF(joueurs,$B29),INDEX(ballonrecuperes,SMALL(IF(joueurs=$B29,ROW(INDIRECT(\"1:\"&ROWS(ballonrecuperes)))),ROWS($1:$35))),\"\")","v":""},{"$f":"IF(ROWS($1:$36)<=COUNTIF(joueurs,$B29),INDEX(ballonrecuperes,SMALL(IF(joueurs=$B29,ROW(INDIRECT(\"1:\"&ROWS(ballonrecuperes)))),ROWS($1:$36))),\"\")","v":""},{"$f":"IF(ROWS($1:$37)<=COUNTIF(joueurs,$B29),INDEX(ballonrecuperes,SMALL(IF(joueurs=$B29,ROW(INDIRECT(\"1:\"&ROWS(ballonrecuperes)))),ROWS($1:$37))),\"\")","v":""},{"$f":"IF(ROWS($1:$38)<=COUNTIF(joueurs,$B29),INDEX(ballonrecuperes,SMALL(IF(joueurs=$B29,ROW(INDIRECT(\"1:\"&ROWS(ballonrecuperes)))),ROWS($1:$38))),\"\")","v":""},{"$f":"IF(ROWS($1:$39)<=COUNTIF(joueurs,$B29),INDEX(ballonrecuperes,SMALL(IF(joueurs=$B29,ROW(INDIRECT(\"1:\"&ROWS(ballonrecuperes)))),ROWS($1:$39))),\"\")","v":""},{"$f":"IF(ROWS($1:$40)<=COUNTIF(joueurs,$B29),INDEX(ballonrecuperes,SMALL(IF(joueurs=$B29,ROW(INDIRECT(\"1:\"&ROWS(ballonrecuperes)))),ROWS($1:$40))),\"\")","v":""},{"$f":"IF(ROWS($1:$31)<=COUNTIF(joueurs,$B29),INDEX(tirs,SMALL(IF(joueurs=$B29,ROW(INDIRECT(\"1:\"&ROWS(tirs)))),ROWS($1:$31))),\"\")","v":""},{"$f":"IF(ROWS($1:$32)<=COUNTIF(joueurs,$B29),INDEX(tirs,SMALL(IF(joueurs=$B29,ROW(INDIRECT(\"1:\"&ROWS(tirs)))),ROWS($1:$32))),\"\")","v":""},{"$f":"IF(ROWS($1:$33)<=COUNTIF(joueurs,$B29),INDEX(tirs,SMALL(IF(joueurs=$B29,ROW(INDIRECT(\"1:\"&ROWS(tirs)))),ROWS($1:$33))),\"\")","v":""},{"$f":"IF(ROWS($1:$34)<=COUNTIF(joueurs,$B29),INDEX(tirs,SMALL(IF(joueurs=$B29,ROW(INDIRECT(\"1:\"&ROWS(tirs)))),ROWS($1:$34))),\"\")","v":""},{"$f":"IF(ROWS($1:$35)<=COUNTIF(joueurs,$B29),INDEX(tirs,SMALL(IF(joueurs=$B29,ROW(INDIRECT(\"1:\"&ROWS(tirs)))),ROWS($1:$35))),\"\")","v":""},{"$f":"IF(ROWS($1:$36)<=COUNTIF(joueurs,$B29),INDEX(tirs,SMALL(IF(joueurs=$B29,ROW(INDIRECT(\"1:\"&ROWS(tirs)))),ROWS($1:$36))),\"\")","v":""},{"$f":"IF(ROWS($1:$37)<=COUNTIF(joueurs,$B29),INDEX(tirs,SMALL(IF(joueurs=$B29,ROW(INDIRECT(\"1:\"&ROWS(tirs)))),ROWS($1:$37))),\"\")","v":""},{"$f":"IF(ROWS($1:$38)<=COUNTIF(joueurs,$B29),INDEX(tirs,SMALL(IF(joueurs=$B29,ROW(INDIRECT(\"1:\"&ROWS(tirs)))),ROWS($1:$38))),\"\")","v":""},{"$f":"IF(ROWS($1:$39)<=COUNTIF(joueurs,$B29),INDEX(tirs,SMALL(IF(joueurs=$B29,ROW(INDIRECT(\"1:\"&ROWS(tirs)))),ROWS($1:$39))),\"\")","v":""},{"$f":"IF(ROWS($1:$40)<=COUNTIF(joueurs,$B29),INDEX(tirs,SMALL(IF(joueurs=$B29,ROW(INDIRECT(\"1:\"&ROWS(tirs)))),ROWS($1:$40))),\"\")","v":""},{"$f":"IF(ROWS($1:$31)<=COUNTIF(joueurs,$B29),INDEX(bontirs,SMALL(IF(joueurs=$B29,ROW(INDIRECT(\"1:\"&ROWS(bontirs)))),ROWS($1:$31))),\"\")","v":""},{"$f":"IF(ROWS($1:$32)<=COUNTIF(joueurs,$B29),INDEX(bontirs,SMALL(IF(joueurs=$B29,ROW(INDIRECT(\"1:\"&ROWS(bontirs)))),ROWS($1:$32))),\"\")","v":""},{"$f":"IF(ROWS($1:$33)<=COUNTIF(joueurs,$B29),INDEX(bontirs,SMALL(IF(joueurs=$B29,ROW(INDIRECT(\"1:\"&ROWS(bontirs)))),ROWS($1:$33))),\"\")","v":""},{"$f":"IF(ROWS($1:$34)<=COUNTIF(joueurs,$B29),INDEX(bontirs,SMALL(IF(joueurs=$B29,ROW(INDIRECT(\"1:\"&ROWS(bontirs)))),ROWS($1:$34))),\"\")","v":""},{"$f":"IF(ROWS($1:$35)<=COUNTIF(joueurs,$B29),INDEX(bontirs,SMALL(IF(joueurs=$B29,ROW(INDIRECT(\"1:\"&ROWS(bontirs)))),ROWS($1:$35))),\"\")","v":""},{"$f":"IF(ROWS($1:$36)<=COUNTIF(joueurs,$B29),INDEX(bontirs,SMALL(IF(joueurs=$B29,ROW(INDIRECT(\"1:\"&ROWS(bontirs)))),ROWS($1:$36))),\"\")","v":""},{"$f":"IF(ROWS($1:$37)<=COUNTIF(joueurs,$B29),INDEX(bontirs,SMALL(IF(joueurs=$B29,ROW(INDIRECT(\"1:\"&ROWS(bontirs)))),ROWS($1:$37))),\"\")","v":""},{"$f":"IF(ROWS($1:$38)<=COUNTIF(joueurs,$B29),INDEX(bontirs,SMALL(IF(joueurs=$B29,ROW(INDIRECT(\"1:\"&ROWS(bontirs)))),ROWS($1:$38))),\"\")","v":""},{"$f":"IF(ROWS($1:$39)<=COUNTIF(joueurs,$B29),INDEX(bontirs,SMALL(IF(joueurs=$B29,ROW(INDIRECT(\"1:\"&ROWS(bontirs)))),ROWS($1:$39))),\"\")","v":""},{"$f":"IF(ROWS($1:$40)<=COUNTIF(joueurs,$B29),INDEX(bontirs,SMALL(IF(joueurs=$B29,ROW(INDIRECT(\"1:\"&ROWS(bontirs)))),ROWS($1:$40))),\"\")","v":""},{"$f":"IF(ROWS($1:$31)<=COUNTIF(joueurs,$B29),INDEX(points,SMALL(IF(joueurs=$B29,ROW(INDIRECT(\"1:\"&ROWS(points)))),ROWS($1:$31))),\"\")","v":""},{"$f":"IF(ROWS($1:$32)<=COUNTIF(joueurs,$B29),INDEX(points,SMALL(IF(joueurs=$B29,ROW(INDIRECT(\"1:\"&ROWS(points)))),ROWS($1:$32))),\"\")","v":""},{"$f":"IF(ROWS($1:$33)<=COUNTIF(joueurs,$B29),INDEX(points,SMALL(IF(joueurs=$B29,ROW(INDIRECT(\"1:\"&ROWS(points)))),ROWS($1:$33))),\"\")","v":""},{"$f":"IF(ROWS($1:$34)<=COUNTIF(joueurs,$B29),INDEX(points,SMALL(IF(joueurs=$B29,ROW(INDIRECT(\"1:\"&ROWS(points)))),ROWS($1:$34))),\"\")","v":""},{"$f":"IF(ROWS($1:$35)<=COUNTIF(joueurs,$B29),INDEX(points,SMALL(IF(joueurs=$B29,ROW(INDIRECT(\"1:\"&ROWS(points)))),ROWS($1:$35))),\"\")","v":""},{"$f":"IF(ROWS($1:$36)<=COUNTIF(joueurs,$B29),INDEX(points,SMALL(IF(joueurs=$B29,ROW(INDIRECT(\"1:\"&ROWS(points)))),ROWS($1:$36))),\"\")","v":""},{"$f":"IF(ROWS($1:$37)<=COUNTIF(joueurs,$B29),INDEX(points,SMALL(IF(joueurs=$B29,ROW(INDIRECT(\"1:\"&ROWS(points)))),ROWS($1:$37))),\"\")","v":""},{"$f":"IF(ROWS($1:$38)<=COUNTIF(joueurs,$B29),INDEX(points,SMALL(IF(joueurs=$B29,ROW(INDIRECT(\"1:\"&ROWS(points)))),ROWS($1:$38))),\"\")","v":""},{"$f":"IF(ROWS($1:$39)<=COUNTIF(joueurs,$B29),INDEX(points,SMALL(IF(joueurs=$B29,ROW(INDIRECT(\"1:\"&ROWS(points)))),ROWS($1:$39))),\"\")","v":""},{"$f":"IF(ROWS($1:$40)<=COUNTIF(joueurs,$B29),INDEX(points,SMALL(IF(joueurs=$B29,ROW(INDIRECT(\"1:\"&ROWS(points)))),ROWS($1:$40))),\"\")","v":""},{"$f":"IF(ROWS($1:$31)<=COUNTIF(joueurs,$B29),INDEX(victoires,SMALL(IF(joueurs=$B29,ROW(INDIRECT(\"1:\"&ROWS(victoires)))),ROWS($1:$31))),\"\")","v":""},{"$f":"IF(ROWS($1:$32)<=COUNTIF(joueurs,$B29),INDEX(victoires,SMALL(IF(joueurs=$B29,ROW(INDIRECT(\"1:\"&ROWS(victoires)))),ROWS($1:$32))),\"\")","v":""},{"$f":"IF(ROWS($1:$33)<=COUNTIF(joueurs,$B29),INDEX(victoires,SMALL(IF(joueurs=$B29,ROW(INDIRECT(\"1:\"&ROWS(victoires)))),ROWS($1:$33))),\"\")","v":""},{"$f":"IF(ROWS($1:$34)<=COUNTIF(joueurs,$B29),INDEX(victoires,SMALL(IF(joueurs=$B29,ROW(INDIRECT(\"1:\"&ROWS(victoires)))),ROWS($1:$34))),\"\")","v":""},{"$f":"IF(ROWS($1:$35)<=COUNTIF(joueurs,$B29),INDEX(victoires,SMALL(IF(joueurs=$B29,ROW(INDIRECT(\"1:\"&ROWS(victoires)))),ROWS($1:$35))),\"\")","v":""},{"$f":"IF(ROWS($1:$36)<=COUNTIF(joueurs,$B29),INDEX(victoires,SMALL(IF(joueurs=$B29,ROW(INDIRECT(\"1:\"&ROWS(victoires)))),ROWS($1:$36))),\"\")","v":""},{"$f":"IF(ROWS($1:$37)<=COUNTIF(joueurs,$B29),INDEX(victoires,SMALL(IF(joueurs=$B29,ROW(INDIRECT(\"1:\"&ROWS(victoires)))),ROWS($1:$37))),\"\")","v":""},{"$f":"IF(ROWS($1:$38)<=COUNTIF(joueurs,$B29),INDEX(victoires,SMALL(IF(joueurs=$B29,ROW(INDIRECT(\"1:\"&ROWS(victoires)))),ROWS($1:$38))),\"\")","v":""},{"$f":"IF(ROWS($1:$39)<=COUNTIF(joueurs,$B29),INDEX(victoires,SMALL(IF(joueurs=$B29,ROW(INDIRECT(\"1:\"&ROWS(victoires)))),ROWS($1:$39))),\"\")","v":""},{"$f":"IF(ROWS($1:$40)<=COUNTIF(joueurs,$B29),INDEX(victoires,SMALL(IF(joueurs=$B29,ROW(INDIRECT(\"1:\"&ROWS(victoires)))),ROWS($1:$40))),\"\")","v":""}]
[8,{"$f":"INDEX(eleves,MATCH(A33,numero,0),MATCH($B$2,classes,0))","v":"Shaquille"},null,{"$f":"IF(ROWS($1:$1)<=COUNTIF(joueurs,$B33),INDEX(fautes,SMALL(IF(joueurs=$B33,ROW(INDIRECT(\"1:\"&ROWS(fautes)))),ROWS($1:$1))),\"\")","v":""},{"$f":"IF(ROWS($1:$2)<=COUNTIF(joueurs,$B33),INDEX(fautes,SMALL(IF(joueurs=$B33,ROW(INDIRECT(\"1:\"&ROWS(fautes)))),ROWS($1:$2))),\"\")","v":""},{"$f":"IF(ROWS($1:$3)<=COUNTIF(joueurs,$B33),INDEX(fautes,SMALL(IF(joueurs=$B33,ROW(INDIRECT(\"1:\"&ROWS(fautes)))),ROWS($1:$3))),\"\")","v":""},{"$f":"IF(ROWS($1:$4)<=COUNTIF(joueurs,$B33),INDEX(fautes,SMALL(IF(joueurs=$B33,ROW(INDIRECT(\"1:\"&ROWS(fautes)))),ROWS($1:$4))),\"\")","v":""},{"$f":"IF(ROWS($1:$5)<=COUNTIF(joueurs,$B33),INDEX(fautes,SMALL(IF(joueurs=$B33,ROW(INDIRECT(\"1:\"&ROWS(fautes)))),ROWS($1:$5))),\"\")","v":""},{"$f":"IF(ROWS($1:$6)<=COUNTIF(joueurs,$B33),INDEX(fautes,SMALL(IF(joueurs=$B33,ROW(INDIRECT(\"1:\"&ROWS(fautes)))),ROWS($1:$6))),\"\")","v":""},{"$f":"IF(ROWS($1:$7)<=COUNTIF(joueurs,$B33),INDEX(fautes,SMALL(IF(joueurs=$B33,ROW(INDIRECT(\"1:\"&ROWS(fautes)))),ROWS($1:$7))),\"\")","v":""},{"$f":"IF(ROWS($1:$8)<=COUNTIF(joueurs,$B33),INDEX(fautes,SMALL(IF(joueurs=$B33,ROW(INDIRECT(\"1:\"&ROWS(fautes)))),ROWS($1:$8))),\"\")","v":""},{"$f":"IF(ROWS($1:$9)<=COUNTIF(joueurs,$B33),INDEX(fautes,SMALL(IF(joueurs=$B33,ROW(INDIRECT(\"1:\"&ROWS(fautes)))),ROWS($1:$9))),\"\")","v":""},{"$f":"IF(ROWS($1:$10)<=COUNTIF(joueurs,$B33),INDEX(fautes,SMALL(IF(joueurs=$B33,ROW(INDIRECT(\"1:\"&ROWS(fautes)))),ROWS($1:$10))),\"\")","v":""},{"$f":"IF(ROWS($1:$1)<=COUNTIF(joueurs,$B33),INDEX(ballonperdus,SMALL(IF(joueurs=$B33,ROW(INDIRECT(\"1:\"&ROWS(ballonperdus)))),ROWS($1:$1))),\"\")","v":""},{"$f":"IF(ROWS($1:$2)<=COUNTIF(joueurs,$B33),INDEX(ballonperdus,SMALL(IF(joueurs=$B33,ROW(INDIRECT(\"1:\"&ROWS(ballonperdus)))),ROWS($1:$2))),\"\")","v":""},{"$f":"IF(ROWS($1:$3)<=COUNTIF(joueurs,$B33),INDEX(ballonperdus,SMALL(IF(joueurs=$B33,ROW(INDIRECT(\"1:\"&ROWS(ballonperdus)))),ROWS($1:$3))),\"\")","v":""},{"$f":"IF(ROWS($1:$4)<=COUNTIF(joueurs,$B33),INDEX(ballonperdus,SMALL(IF(joueurs=$B33,ROW(INDIRECT(\"1:\"&ROWS(ballonperdus)))),ROWS($1:$4))),\"\")","v":""},{"$f":"IF(ROWS($1:$5)<=COUNTIF(joueurs,$B33),INDEX(ballonperdus,SMALL(IF(joueurs=$B33,ROW(INDIRECT(\"1:\"&ROWS(ballonperdus)))),ROWS($1:$5))),\"\")","v":""},{"$f":"IF(ROWS($1:$6)<=COUNTIF(joueurs,$B33),INDEX(ballonperdus,SMALL(IF(joueurs=$B33,ROW(INDIRECT(\"1:\"&ROWS(ballonperdus)))),ROWS($1:$6))),\"\")","v":""},{"$f":"IF(ROWS($1:$7)<=COUNTIF(joueurs,$B33),INDEX(ballonperdus,SMALL(IF(joueurs=$B33,ROW(INDIRECT(\"1:\"&ROWS(ballonperdus)))),ROWS($1:$7))),\"\")","v":""},{"$f":"IF(ROWS($1:$8)<=COUNTIF(joueurs,$B33),INDEX(ballonperdus,SMALL(IF(joueurs=$B33,ROW(INDIRECT(\"1:\"&ROWS(ballonperdus)))),ROWS($1:$8))),\"\")","v":""},{"$f":"IF(ROWS($1:$9)<=COUNTIF(joueurs,$B33),INDEX(ballonperdus,SMALL(IF(joueurs=$B33,ROW(INDIRECT(\"1:\"&ROWS(ballonperdus)))),ROWS($1:$9))),\"\")","v":""},{"$f":"IF(ROWS($1:$10)<=COUNTIF(joueurs,$B33),INDEX(ballonperdus,SMALL(IF(joueurs=$B33,ROW(INDIRECT(\"1:\"&ROWS(ballonperdus)))),ROWS($1:$10))),\"\")","v":""},{"$f":"IF(ROWS($1:$1)<=COUNTIF(joueurs,$B33),INDEX(interceptions,SMALL(IF(joueurs=$B33,ROW(INDIRECT(\"1:\"&ROWS(interceptions)))),ROWS($1:$1))),\"\")","v":""},{"$f":"IF(ROWS($1:$2)<=COUNTIF(joueurs,$B33),INDEX(interceptions,SMALL(IF(joueurs=$B33,ROW(INDIRECT(\"1:\"&ROWS(interceptions)))),ROWS($1:$2))),\"\")","v":""},{"$f":"IF(ROWS($1:$3)<=COUNTIF(joueurs,$B33),INDEX(interceptions,SMALL(IF(joueurs=$B33,ROW(INDIRECT(\"1:\"&ROWS(interceptions)))),ROWS($1:$3))),\"\")","v":""},{"$f":"IF(ROWS($1:$4)<=COUNTIF(joueurs,$B33),INDEX(interceptions,SMALL(IF(joueurs=$B33,ROW(INDIRECT(\"1:\"&ROWS(interceptions)))),ROWS($1:$4))),\"\")","v":""},{"$f":"IF(ROWS($1:$5)<=COUNTIF(joueurs,$B33),INDEX(interceptions,SMALL(IF(joueurs=$B33,ROW(INDIRECT(\"1:\"&ROWS(interceptions)))),ROWS($1:$5))),\"\")","v":""},{"$f":"IF(ROWS($1:$6)<=COUNTIF(joueurs,$B33),INDEX(interceptions,SMALL(IF(joueurs=$B33,ROW(INDIRECT(\"1:\"&ROWS(interceptions)))),ROWS($1:$6))),\"\")","v":""},{"$f":"IF(ROWS($1:$7)<=COUNTIF(joueurs,$B33),INDEX(interceptions,SMALL(IF(joueurs=$B33,ROW(INDIRECT(\"1:\"&ROWS(interceptions)))),ROWS($1:$7))),\"\")","v":""},{"$f":"IF(ROWS($1:$8)<=COUNTIF(joueurs,$B33),INDEX(interceptions,SMALL(IF(joueurs=$B33,ROW(INDIRECT(\"1:\"&ROWS(interceptions)))),ROWS($1:$8))),\"\")","v":""},{"$f":"IF(ROWS($1:$9)<=COUNTIF(joueurs,$B33),INDEX(interceptions,SMALL(IF(joueurs=$B33,ROW(INDIRECT(\"1:\"&ROWS(interceptions)))),ROWS($1:$9))),\"\")","v":""},{"$f":"IF(ROWS($1:$10)<=COUNTIF(joueurs,$B33),INDEX(interceptions,SMALL(IF(joueurs=$B33,ROW(INDIRECT(\"1:\"&ROWS(interceptions)))),ROWS($1:$10))),\"\")","v":""},{"$f":"IF(ROWS($1:$1)<=COUNTIF(joueurs,$B33),INDEX(ballonrecuperes,SMALL(IF(joueurs=$B33,ROW(INDIRECT(\"1:\"&ROWS(ballonrecuperes)))),ROWS($1:$1))),\"\")","v":""},{"$f":"IF(ROWS($1:$2)<=COUNTIF(joueurs,$B33),INDEX(ballonrecuperes,SMALL(IF(joueurs=$B33,ROW(INDIRECT(\"1:\"&ROWS(ballonrecuperes)))),ROWS($1:$2))),\"\")","v":""},{"$f":"IF(ROWS($1:$3)<=COUNTIF(joueurs,$B33),INDEX(ballonrecuperes,SMALL(IF(joueurs=$B33,ROW(INDIRECT(\"1:\"&ROWS(ballonrecuperes)))),ROWS($1:$3))),\"\")","v":""},{"$f":"IF(ROWS($1:$4)<=COUNTIF(joueurs,$B33),INDEX(ballonrecuperes,SMALL(IF(joueurs=$B33,ROW(INDIRECT(\"1:\"&ROWS(ballonrecuperes)))),ROWS($1:$4))),\"\")","v":""},{"$f":"IF(ROWS($1:$5)<=COUNTIF(joueurs,$B33),INDEX(ballonrecuperes,SMALL(IF(joueurs=$B33,ROW(INDIRECT(\"1:\"&ROWS(ballonrecuperes)))),ROWS($1:$5))),\"\")","v":""},{"$f":"IF(ROWS($1:$6)<=COUNTIF(joueurs,$B33),INDEX(ballonrecuperes,SMALL(IF(joueurs=$B33,ROW(INDIRECT(\"1:\"&ROWS(ballonrecuperes)))),ROWS($1:$6))),\"\")","v":""},{"$f":"IF(ROWS($1:$7)<=COUNTIF(joueurs,$B33),INDEX(ballonrecuperes,SMALL(IF(joueurs=$B33,ROW(INDIRECT(\"1:\"&ROWS(ballonrecuperes)))),ROWS($1:$7))),\"\")","v":""},{"$f":"IF(ROWS($1:$8)<=COUNTIF(joueurs,$B33),INDEX(ballonrecuperes,SMALL(IF(joueurs=$B33,ROW(INDIRECT(\"1:\"&ROWS(ballonrecuperes)))),ROWS($1:$8))),\"\")","v":""},{"$f":"IF(ROWS($1:$9)<=COUNTIF(joueurs,$B33),INDEX(ballonrecuperes,SMALL(IF(joueurs=$B33,ROW(INDIRECT(\"1:\"&ROWS(ballonrecuperes)))),ROWS($1:$9))),\"\")","v":""},{"$f":"IF(ROWS($1:$10)<=COUNTIF(joueurs,$B33),INDEX(ballonrecuperes,SMALL(IF(joueurs=$B33,ROW(INDIRECT(\"1:\"&ROWS(ballonrecuperes)))),ROWS($1:$10))),\"\")","v":""},{"$f":"IF(ROWS($1:$1)<=COUNTIF(joueurs,$B33),INDEX(tirs,SMALL(IF(joueurs=$B33,ROW(INDIRECT(\"1:\"&ROWS(tirs)))),ROWS($1:$1))),\"\")","v":""},{"$f":"IF(ROWS($1:$2)<=COUNTIF(joueurs,$B33),INDEX(tirs,SMALL(IF(joueurs=$B33,ROW(INDIRECT(\"1:\"&ROWS(tirs)))),ROWS($1:$2))),\"\")","v":""},{"$f":"IF(ROWS($1:$3)<=COUNTIF(joueurs,$B33),INDEX(tirs,SMALL(IF(joueurs=$B33,ROW(INDIRECT(\"1:\"&ROWS(tirs)))),ROWS($1:$3))),\"\")","v":""},{"$f":"IF(ROWS($1:$4)<=COUNTIF(joueurs,$B33),INDEX(tirs,SMALL(IF(joueurs=$B33,ROW(INDIRECT(\"1:\"&ROWS(tirs)))),ROWS($1:$4))),\"\")","v":""},{"$f":"IF(ROWS($1:$5)<=COUNTIF(joueurs,$B33),INDEX(tirs,SMALL(IF(joueurs=$B33,ROW(INDIRECT(\"1:\"&ROWS(tirs)))),ROWS($1:$5))),\"\")","v":""},{"$f":"IF(ROWS($1:$6)<=COUNTIF(joueurs,$B33),INDEX(tirs,SMALL(IF(joueurs=$B33,ROW(INDIRECT(\"1:\"&ROWS(tirs)))),ROWS($1:$6))),\"\")","v":""},{"$f":"IF(ROWS($1:$7)<=COUNTIF(joueurs,$B33),INDEX(tirs,SMALL(IF(joueurs=$B33,ROW(INDIRECT(\"1:\"&ROWS(tirs)))),ROWS($1:$7))),\"\")","v":""},{"$f":"IF(ROWS($1:$8)<=COUNTIF(joueurs,$B33),INDEX(tirs,SMALL(IF(joueurs=$B33,ROW(INDIRECT(\"1:\"&ROWS(tirs)))),ROWS($1:$8))),\"\")","v":""},{"$f":"IF(ROWS($1:$9)<=COUNTIF(joueurs,$B33),INDEX(tirs,SMALL(IF(joueurs=$B33,ROW(INDIRECT(\"1:\"&ROWS(tirs)))),ROWS($1:$9))),\"\")","v":""},{"$f":"IF(ROWS($1:$10)<=COUNTIF(joueurs,$B33),INDEX(tirs,SMALL(IF(joueurs=$B33,ROW(INDIRECT(\"1:\"&ROWS(tirs)))),ROWS($1:$10))),\"\")","v":""},{"$f":"IF(ROWS($1:$1)<=COUNTIF(joueurs,$B33),INDEX(bontirs,SMALL(IF(joueurs=$B33,ROW(INDIRECT(\"1:\"&ROWS(bontirs)))),ROWS($1:$1))),\"\")","v":""},{"$f":"IF(ROWS($1:$2)<=COUNTIF(joueurs,$B33),INDEX(bontirs,SMALL(IF(joueurs=$B33,ROW(INDIRECT(\"1:\"&ROWS(bontirs)))),ROWS($1:$2))),\"\")","v":""},{"$f":"IF(ROWS($1:$3)<=COUNTIF(joueurs,$B33),INDEX(bontirs,SMALL(IF(joueurs=$B33,ROW(INDIRECT(\"1:\"&ROWS(bontirs)))),ROWS($1:$3))),\"\")","v":""},{"$f":"IF(ROWS($1:$4)<=COUNTIF(joueurs,$B33),INDEX(bontirs,SMALL(IF(joueurs=$B33,ROW(INDIRECT(\"1:\"&ROWS(bontirs)))),ROWS($1:$4))),\"\")","v":""},{"$f":"IF(ROWS($1:$5)<=COUNTIF(joueurs,$B33),INDEX(bontirs,SMALL(IF(joueurs=$B33,ROW(INDIRECT(\"1:\"&ROWS(bontirs)))),ROWS($1:$5))),\"\")","v":""},{"$f":"IF(ROWS($1:$6)<=COUNTIF(joueurs,$B33),INDEX(bontirs,SMALL(IF(joueurs=$B33,ROW(INDIRECT(\"1:\"&ROWS(bontirs)))),ROWS($1:$6))),\"\")","v":""},{"$f":"IF(ROWS($1:$7)<=COUNTIF(joueurs,$B33),INDEX(bontirs,SMALL(IF(joueurs=$B33,ROW(INDIRECT(\"1:\"&ROWS(bontirs)))),ROWS($1:$7))),\"\")","v":""},{"$f":"IF(ROWS($1:$8)<=COUNTIF(joueurs,$B33),INDEX(bontirs,SMALL(IF(joueurs=$B33,ROW(INDIRECT(\"1:\"&ROWS(bontirs)))),ROWS($1:$8))),\"\")","v":""},{"$f":"IF(ROWS($1:$9)<=COUNTIF(joueurs,$B33),INDEX(bontirs,SMALL(IF(joueurs=$B33,ROW(INDIRECT(\"1:\"&ROWS(bontirs)))),ROWS($1:$9))),\"\")","v":""},{"$f":"IF(ROWS($1:$10)<=COUNTIF(joueurs,$B33),INDEX(bontirs,SMALL(IF(joueurs=$B33,ROW(INDIRECT(\"1:\"&ROWS(bontirs)))),ROWS($1:$10))),\"\")","v":""},{"$f":"IF(ROWS($1:$1)<=COUNTIF(joueurs,$B33),INDEX(points,SMALL(IF(joueurs=$B33,ROW(INDIRECT(\"1:\"&ROWS(points)))),ROWS($1:$1))),\"\")","v":""},{"$f":"IF(ROWS($1:$2)<=COUNTIF(joueurs,$B33),INDEX(points,SMALL(IF(joueurs=$B33,ROW(INDIRECT(\"1:\"&ROWS(points)))),ROWS($1:$2))),\"\")","v":""},{"$f":"IF(ROWS($1:$3)<=COUNTIF(joueurs,$B33),INDEX(points,SMALL(IF(joueurs=$B33,ROW(INDIRECT(\"1:\"&ROWS(points)))),ROWS($1:$3))),\"\")","v":""},{"$f":"IF(ROWS($1:$4)<=COUNTIF(joueurs,$B33),INDEX(points,SMALL(IF(joueurs=$B33,ROW(INDIRECT(\"1:\"&ROWS(points)))),ROWS($1:$4))),\"\")","v":""},{"$f":"IF(ROWS($1:$5)<=COUNTIF(joueurs,$B33),INDEX(points,SMALL(IF(joueurs=$B33,ROW(INDIRECT(\"1:\"&ROWS(points)))),ROWS($1:$5))),\"\")","v":""},{"$f":"IF(ROWS($1:$6)<=COUNTIF(joueurs,$B33),INDEX(points,SMALL(IF(joueurs=$B33,ROW(INDIRECT(\"1:\"&ROWS(points)))),ROWS($1:$6))),\"\")","v":""},{"$f":"IF(ROWS($1:$7)<=COUNTIF(joueurs,$B33),INDEX(points,SMALL(IF(joueurs=$B33,ROW(INDIRECT(\"1:\"&ROWS(points)))),ROWS($1:$7))),\"\")","v":""},{"$f":"IF(ROWS($1:$8)<=COUNTIF(joueurs,$B33),INDEX(points,SMALL(IF(joueurs=$B33,ROW(INDIRECT(\"1:\"&ROWS(points)))),ROWS($1:$8))),\"\")","v":""},{"$f":"IF(ROWS($1:$9)<=COUNTIF(joueurs,$B33),INDEX(points,SMALL(IF(joueurs=$B33,ROW(INDIRECT(\"1:\"&ROWS(points)))),ROWS($1:$9))),\"\")","v":""},{"$f":"IF(ROWS($1:$10)<=COUNTIF(joueurs,$B33),INDEX(points,SMALL(IF(joueurs=$B33,ROW(INDIRECT(\"1:\"&ROWS(points)))),ROWS($1:$10))),\"\")","v":""},{"$f":"IF(ROWS($1:$1)<=COUNTIF(joueurs,$B33),INDEX(victoires,SMALL(IF(joueurs=$B33,ROW(INDIRECT(\"1:\"&ROWS(victoires)))),ROWS($1:$1))),\"\")","v":""},{"$f":"IF(ROWS($1:$2)<=COUNTIF(joueurs,$B33),INDEX(victoires,SMALL(IF(joueurs=$B33,ROW(INDIRECT(\"1:\"&ROWS(victoires)))),ROWS($1:$2))),\"\")","v":""},{"$f":"IF(ROWS($1:$3)<=COUNTIF(joueurs,$B33),INDEX(victoires,SMALL(IF(joueurs=$B33,ROW(INDIRECT(\"1:\"&ROWS(victoires)))),ROWS($1:$3))),\"\")","v":""},{"$f":"IF(ROWS($1:$4)<=COUNTIF(joueurs,$B33),INDEX(victoires,SMALL(IF(joueurs=$B33,ROW(INDIRECT(\"1:\"&ROWS(victoires)))),ROWS($1:$4))),\"\")","v":""},{"$f":"IF(ROWS($1:$5)<=COUNTIF(joueurs,$B33),INDEX(victoires,SMALL(IF(joueurs=$B33,ROW(INDIRECT(\"1:\"&ROWS(victoires)))),ROWS($1:$5))),\"\")","v":""},{"$f":"IF(ROWS($1:$6)<=COUNTIF(joueurs,$B33),INDEX(victoires,SMALL(IF(joueurs=$B33,ROW(INDIRECT(\"1:\"&ROWS(victoires)))),ROWS($1:$6))),\"\")","v":""},{"$f":"IF(ROWS($1:$7)<=COUNTIF(joueurs,$B33),INDEX(victoires,SMALL(IF(joueurs=$B33,ROW(INDIRECT(\"1:\"&ROWS(victoires)))),ROWS($1:$7))),\"\")","v":""},{"$f":"IF(ROWS($1:$8)<=COUNTIF(joueurs,$B33),INDEX(victoires,SMALL(IF(joueurs=$B33,ROW(INDIRECT(\"1:\"&ROWS(victoires)))),ROWS($1:$8))),\"\")","v":""},{"$f":"IF(ROWS($1:$9)<=COUNTIF(joueurs,$B33),INDEX(victoires,SMALL(IF(joueurs=$B33,ROW(INDIRECT(\"1:\"&ROWS(victoires)))),ROWS($1:$9))),\"\")","v":""},{"$f":"IF(ROWS($1:$10)<=COUNTIF(joueurs,$B33),INDEX(victoires,SMALL(IF(joueurs=$B33,ROW(INDIRECT(\"1:\"&ROWS(victoires)))),ROWS($1:$10))),\"\")","v":""}]
[null,null,null,{"$f":"IF(ROWS($1:$11)<=COUNTIF(joueurs,$B33),INDEX(fautes,SMALL(IF(joueurs=$B33,ROW(INDIRECT(\"1:\"&ROWS(fautes)))),ROWS($1:$11))),\"\")","v":""},{"$f":"IF(ROWS($1:$12)<=COUNTIF(joueurs,$B33),INDEX(fautes,SMALL(IF(joueurs=$B33,ROW(INDIRECT(\"1:\"&ROWS(fautes)))),ROWS($1:$12))),\"\")","v":""},{"$f":"IF(ROWS($1:$13)<=COUNTIF(joueurs,$B33),INDEX(fautes,SMALL(IF(joueurs=$B33,ROW(INDIRECT(\"1:\"&ROWS(fautes)))),ROWS($1:$13))),\"\")","v":""},{"$f":"IF(ROWS($1:$14)<=COUNTIF(joueurs,$B33),INDEX(fautes,SMALL(IF(joueurs=$B33,ROW(INDIRECT(\"1:\"&ROWS(fautes)))),ROWS($1:$14))),\"\")","v":""},{"$f":"IF(ROWS($1:$15)<=COUNTIF(joueurs,$B33),INDEX(fautes,SMALL(IF(joueurs=$B33,ROW(INDIRECT(\"1:\"&ROWS(fautes)))),ROWS($1:$15))),\"\")","v":""},{"$f":"IF(ROWS($1:$16)<=COUNTIF(joueurs,$B33),INDEX(fautes,SMALL(IF(joueurs=$B33,ROW(INDIRECT(\"1:\"&ROWS(fautes)))),ROWS($1:$16))),\"\")","v":""},{"$f":"IF(ROWS($1:$17)<=COUNTIF(joueurs,$B33),INDEX(fautes,SMALL(IF(joueurs=$B33,ROW(INDIRECT(\"1:\"&ROWS(fautes)))),ROWS($1:$17))),\"\")","v":""},{"$f":"IF(ROWS($1:$18)<=COUNTIF(joueurs,$B33),INDEX(fautes,SMALL(IF(joueurs=$B33,ROW(INDIRECT(\"1:\"&ROWS(fautes)))),ROWS($1:$18))),\"\")","v":""},{"$f":"IF(ROWS($1:$19)<=COUNTIF(joueurs,$B33),INDEX(fautes,SMALL(IF(joueurs=$B33,ROW(INDIRECT(\"1:\"&ROWS(fautes)))),ROWS($1:$19))),\"\")","v":""},{"$f":"IF(ROWS($1:$20)<=COUNTIF(joueurs,$B33),INDEX(fautes,SMALL(IF(joueurs=$B33,ROW(INDIRECT(\"1:\"&ROWS(fautes)))),ROWS($1:$20))),\"\")","v":""},{"$f":"IF(ROWS($1:$11)<=COUNTIF(joueurs,$B33),INDEX(ballonperdus,SMALL(IF(joueurs=$B33,ROW(INDIRECT(\"1:\"&ROWS(ballonperdus)))),ROWS($1:$11))),\"\")","v":""},{"$f":"IF(ROWS($1:$12)<=COUNTIF(joueurs,$B33),INDEX(ballonperdus,SMALL(IF(joueurs=$B33,ROW(INDIRECT(\"1:\"&ROWS(ballonperdus)))),ROWS($1:$12))),\"\")","v":""},{"$f":"IF(ROWS($1:$13)<=COUNTIF(joueurs,$B33),INDEX(ballonperdus,SMALL(IF(joueurs=$B33,ROW(INDIRECT(\"1:\"&ROWS(ballonperdus)))),ROWS($1:$13))),\"\")","v":""},{"$f":"IF(ROWS($1:$14)<=COUNTIF(joueurs,$B33),INDEX(ballonperdus,SMALL(IF(joueurs=$B33,ROW(INDIRECT(\"1:\"&ROWS(ballonperdus)))),ROWS($1:$14))),\"\")","v":""},{"$f":"IF(ROWS($1:$15)<=COUNTIF(joueurs,$B33),INDEX(ballonperdus,SMALL(IF(joueurs=$B33,ROW(INDIRECT(\"1:\"&ROWS(ballonperdus)))),ROWS($1:$15))),\"\")","v":""},{"$f":"IF(ROWS($1:$16)<=COUNTIF(joueurs,$B33),INDEX(ballonperdus,SMALL(IF(joueurs=$B33,ROW(INDIRECT(\"1:\"&ROWS(ballonperdus)))),ROWS($1:$16))),\"\")","v":""},{"$f":"IF(ROWS($1:$17)<=COUNTIF(joueurs,$B33),INDEX(ballonperdus,SMALL(IF(joueurs=$B33,ROW(INDIRECT(\"1:\"&ROWS(ballonperdus)))),ROWS($1:$17))),\"\")","v":""},{"$f":"IF(ROWS($1:$18)<=COUNTIF(joueurs,$B33),INDEX(ballonperdus,SMALL(IF(joueurs=$B33,ROW(INDIRECT(\"1:\"&ROWS(ballonperdus)))),ROWS($1:$18))),\"\")","v":""},{"$f":"IF(ROWS($1:$19)<=COUNTIF(joueurs,$B33),INDEX(ballonperdus,SMALL(IF(joueurs=$B33,ROW(INDIRECT(\"1:\"&ROWS(ballonperdus)))),ROWS($1:$19))),\"\")","v":""},{"$f":"IF(ROWS($1:$20)<=COUNTIF(joueurs,$B33),INDEX(fautes,SMALL(IF(joueurs=$B33,ROW(INDIRECT(\"1:\"&ROWS(ballonperdus)))),ROWS($1:$20))),\"\")","v":""},{"$f":"IF(ROWS($1:$11)<=COUNTIF(joueurs,$B33),INDEX(interceptions,SMALL(IF(joueurs=$B33,ROW(INDIRECT(\"1:\"&ROWS(interceptions)))),ROWS($1:$11))),\"\")","v":""},{"$f":"IF(ROWS($1:$12)<=COUNTIF(joueurs,$B33),INDEX(interceptions,SMALL(IF(joueurs=$B33,ROW(INDIRECT(\"1:\"&ROWS(interceptions)))),ROWS($1:$12))),\"\")","v":""},{"$f":"IF(ROWS($1:$13)<=COUNTIF(joueurs,$B33),INDEX(interceptions,SMALL(IF(joueurs=$B33,ROW(INDIRECT(\"1:\"&ROWS(interceptions)))),ROWS($1:$13))),\"\")","v":""},{"$f":"IF(ROWS($1:$14)<=COUNTIF(joueurs,$B33),INDEX(interceptions,SMALL(IF(joueurs=$B33,ROW(INDIRECT(\"1:\"&ROWS(interceptions)))),ROWS($1:$14))),\"\")","v":""},{"$f":"IF(ROWS($1:$15)<=COUNTIF(joueurs,$B33),INDEX(interceptions,SMALL(IF(joueurs=$B33,ROW(INDIRECT(\"1:\"&ROWS(interceptions)))),ROWS($1:$15))),\"\")","v":""},{"$f":"IF(ROWS($1:$16)<=COUNTIF(joueurs,$B33),INDEX(interceptions,SMALL(IF(joueurs=$B33,ROW(INDIRECT(\"1:\"&ROWS(interceptions)))),ROWS($1:$16))),\"\")","v":""},{"$f":"IF(ROWS($1:$17)<=COUNTIF(joueurs,$B33),INDEX(interceptions,SMALL(IF(joueurs=$B33,ROW(INDIRECT(\"1:\"&ROWS(interceptions)))),ROWS($1:$17))),\"\")","v":""},{"$f":"IF(ROWS($1:$18)<=COUNTIF(joueurs,$B33),INDEX(interceptions,SMALL(IF(joueurs=$B33,ROW(INDIRECT(\"1:\"&ROWS(interceptions)))),ROWS($1:$18))),\"\")","v":""},{"$f":"IF(ROWS($1:$19)<=COUNTIF(joueurs,$B33),INDEX(interceptions,SMALL(IF(joueurs=$B33,ROW(INDIRECT(\"1:\"&ROWS(interceptions)))),ROWS($1:$19))),\"\")","v":""},{"$f":"IF(ROWS($1:$20)<=COUNTIF(joueurs,$B33),INDEX(interceptions,SMALL(IF(joueurs=$B33,ROW(INDIRECT(\"1:\"&ROWS(interceptions)))),ROWS($1:$20))),\"\")","v":""},{"$f":"IF(ROWS($1:$11)<=COUNTIF(joueurs,$B33),INDEX(ballonrecuperes,SMALL(IF(joueurs=$B33,ROW(INDIRECT(\"1:\"&ROWS(ballonrecuperes)))),ROWS($1:$11))),\"\")","v":""},{"$f":"IF(ROWS($1:$12)<=COUNTIF(joueurs,$B33),INDEX(ballonrecuperes,SMALL(IF(joueurs=$B33,ROW(INDIRECT(\"1:\"&ROWS(ballonrecuperes)))),ROWS($1:$12))),\"\")","v":""},{"$f":"IF(ROWS($1:$13)<=COUNTIF(joueurs,$B33),INDEX(ballonrecuperes,SMALL(IF(joueurs=$B33,ROW(INDIRECT(\"1:\"&ROWS(ballonrecuperes)))),ROWS($1:$13))),\"\")","v":""},{"$f":"IF(ROWS($1:$14)<=COUNTIF(joueurs,$B33),INDEX(ballonrecuperes,SMALL(IF(joueurs=$B33,ROW(INDIRECT(\"1:\"&ROWS(ballonrecuperes)))),ROWS($1:$14))),\"\")","v":""},{"$f":"IF(ROWS($1:$15)<=COUNTIF(joueurs,$B33),INDEX(ballonrecuperes,SMALL(IF(joueurs=$B33,ROW(INDIRECT(\"1:\"&ROWS(ballonrecuperes)))),ROWS($1:$15))),\"\")","v":""},{"$f":"IF(ROWS($1:$16)<=COUNTIF(joueurs,$B33),INDEX(ballonrecuperes,SMALL(IF(joueurs=$B33,ROW(INDIRECT(\"1:\"&ROWS(ballonrecuperes)))),ROWS($1:$16))),\"\")","v":""},{"$f":"IF(ROWS($1:$17)<=COUNTIF(joueurs,$B33),INDEX(ballonrecuperes,SMALL(IF(joueurs=$B33,ROW(INDIRECT(\"1:\"&ROWS(ballonrecuperes)))),ROWS($1:$17))),\"\")","v":""},{"$f":"IF(ROWS($1:$18)<=COUNTIF(joueurs,$B33),INDEX(ballonrecuperes,SMALL(IF(joueurs=$B33,ROW(INDIRECT(\"1:\"&ROWS(ballonrecuperes)))),ROWS($1:$18))),\"\")","v":""},{"$f":"IF(ROWS($1:$19)<=COUNTIF(joueurs,$B33),INDEX(ballonrecuperes,SMALL(IF(joueurs=$B33,ROW(INDIRECT(\"1:\"&ROWS(ballonrecuperes)))),ROWS($1:$19))),\"\")","v":""},{"$f":"IF(ROWS($1:$20)<=COUNTIF(joueurs,$B33),INDEX(ballonrecuperes,SMALL(IF(joueurs=$B33,ROW(INDIRECT(\"1:\"&ROWS(ballonrecuperes)))),ROWS($1:$20))),\"\")","v":""},{"$f":"IF(ROWS($1:$11)<=COUNTIF(joueurs,$B33),INDEX(tirs,SMALL(IF(joueurs=$B33,ROW(INDIRECT(\"1:\"&ROWS(tirs)))),ROWS($1:$11))),\"\")","v":""},{"$f":"IF(ROWS($1:$12)<=COUNTIF(joueurs,$B33),INDEX(tirs,SMALL(IF(joueurs=$B33,ROW(INDIRECT(\"1:\"&ROWS(tirs)))),ROWS($1:$12))),\"\")","v":""},{"$f":"IF(ROWS($1:$13)<=COUNTIF(joueurs,$B33),INDEX(tirs,SMALL(IF(joueurs=$B33,ROW(INDIRECT(\"1:\"&ROWS(tirs)))),ROWS($1:$13))),\"\")","v":""},{"$f":"IF(ROWS($1:$14)<=COUNTIF(joueurs,$B33),INDEX(tirs,SMALL(IF(joueurs=$B33,ROW(INDIRECT(\"1:\"&ROWS(tirs)))),ROWS($1:$14))),\"\")","v":""},{"$f":"IF(ROWS($1:$15)<=COUNTIF(joueurs,$B33),INDEX(tirs,SMALL(IF(joueurs=$B33,ROW(INDIRECT(\"1:\"&ROWS(tirs)))),ROWS($1:$15))),\"\")","v":""},{"$f":"IF(ROWS($1:$16)<=COUNTIF(joueurs,$B33),INDEX(tirs,SMALL(IF(joueurs=$B33,ROW(INDIRECT(\"1:\"&ROWS(tirs)))),ROWS($1:$16))),\"\")","v":""},{"$f":"IF(ROWS($1:$17)<=COUNTIF(joueurs,$B33),INDEX(tirs,SMALL(IF(joueurs=$B33,ROW(INDIRECT(\"1:\"&ROWS(tirs)))),ROWS($1:$17))),\"\")","v":""},{"$f":"IF(ROWS($1:$18)<=COUNTIF(joueurs,$B33),INDEX(tirs,SMALL(IF(joueurs=$B33,ROW(INDIRECT(\"1:\"&ROWS(tirs)))),ROWS($1:$18))),\"\")","v":""},{"$f":"IF(ROWS($1:$19)<=COUNTIF(joueurs,$B33),INDEX(tirs,SMALL(IF(joueurs=$B33,ROW(INDIRECT(\"1:\"&ROWS(tirs)))),ROWS($1:$19))),\"\")","v":""},{"$f":"IF(ROWS($1:$20)<=COUNTIF(joueurs,$B33),INDEX(tirs,SMALL(IF(joueurs=$B33,ROW(INDIRECT(\"1:\"&ROWS(tirs)))),ROWS($1:$20))),\"\")","v":""},{"$f":"IF(ROWS($1:$11)<=COUNTIF(joueurs,$B33),INDEX(bontirs,SMALL(IF(joueurs=$B33,ROW(INDIRECT(\"1:\"&ROWS(bontirs)))),ROWS($1:$11))),\"\")","v":""},{"$f":"IF(ROWS($1:$12)<=COUNTIF(joueurs,$B33),INDEX(bontirs,SMALL(IF(joueurs=$B33,ROW(INDIRECT(\"1:\"&ROWS(bontirs)))),ROWS($1:$12))),\"\")","v":""},{"$f":"IF(ROWS($1:$13)<=COUNTIF(joueurs,$B33),INDEX(bontirs,SMALL(IF(joueurs=$B33,ROW(INDIRECT(\"1:\"&ROWS(bontirs)))),ROWS($1:$13))),\"\")","v":""},{"$f":"IF(ROWS($1:$14)<=COUNTIF(joueurs,$B33),INDEX(bontirs,SMALL(IF(joueurs=$B33,ROW(INDIRECT(\"1:\"&ROWS(bontirs)))),ROWS($1:$14))),\"\")","v":""},{"$f":"IF(ROWS($1:$15)<=COUNTIF(joueurs,$B33),INDEX(bontirs,SMALL(IF(joueurs=$B33,ROW(INDIRECT(\"1:\"&ROWS(bontirs)))),ROWS($1:$15))),\"\")","v":""},{"$f":"IF(ROWS($1:$16)<=COUNTIF(joueurs,$B33),INDEX(bontirs,SMALL(IF(joueurs=$B33,ROW(INDIRECT(\"1:\"&ROWS(bontirs)))),ROWS($1:$16))),\"\")","v":""},{"$f":"IF(ROWS($1:$17)<=COUNTIF(joueurs,$B33),INDEX(bontirs,SMALL(IF(joueurs=$B33,ROW(INDIRECT(\"1:\"&ROWS(bontirs)))),ROWS($1:$17))),\"\")","v":""},{"$f":"IF(ROWS($1:$18)<=COUNTIF(joueurs,$B33),INDEX(bontirs,SMALL(IF(joueurs=$B33,ROW(INDIRECT(\"1:\"&ROWS(bontirs)))),ROWS($1:$18))),\"\")","v":""},{"$f":"IF(ROWS($1:$19)<=COUNTIF(joueurs,$B33),INDEX(bontirs,SMALL(IF(joueurs=$B33,ROW(INDIRECT(\"1:\"&ROWS(bontirs)))),ROWS($1:$19))),\"\")","v":""},{"$f":"IF(ROWS($1:$20)<=COUNTIF(joueurs,$B33),INDEX(bontirs,SMALL(IF(joueurs=$B33,ROW(INDIRECT(\"1:\"&ROWS(bontirs)))),ROWS($1:$20))),\"\")","v":""},{"$f":"IF(ROWS($1:$11)<=COUNTIF(joueurs,$B33),INDEX(points,SMALL(IF(joueurs=$B33,ROW(INDIRECT(\"1:\"&ROWS(points)))),ROWS($1:$11))),\"\")","v":""},{"$f":"IF(ROWS($1:$12)<=COUNTIF(joueurs,$B33),INDEX(points,SMALL(IF(joueurs=$B33,ROW(INDIRECT(\"1:\"&ROWS(points)))),ROWS($1:$12))),\"\")","v":""},{"$f":"IF(ROWS($1:$13)<=COUNTIF(joueurs,$B33),INDEX(points,SMALL(IF(joueurs=$B33,ROW(INDIRECT(\"1:\"&ROWS(points)))),ROWS($1:$13))),\"\")","v":""},{"$f":"IF(ROWS($1:$14)<=COUNTIF(joueurs,$B33),INDEX(points,SMALL(IF(joueurs=$B33,ROW(INDIRECT(\"1:\"&ROWS(points)))),ROWS($1:$14))),\"\")","v":""},{"$f":"IF(ROWS($1:$15)<=COUNTIF(joueurs,$B33),INDEX(points,SMALL(IF(joueurs=$B33,ROW(INDIRECT(\"1:\"&ROWS(points)))),ROWS($1:$15))),\"\")","v":""},{"$f":"IF(ROWS($1:$16)<=COUNTIF(joueurs,$B33),INDEX(points,SMALL(IF(joueurs=$B33,ROW(INDIRECT(\"1:\"&ROWS(points)))),ROWS($1:$16))),\"\")","v":""},{"$f":"IF(ROWS($1:$17)<=COUNTIF(joueurs,$B33),INDEX(points,SMALL(IF(joueurs=$B33,ROW(INDIRECT(\"1:\"&ROWS(points)))),ROWS($1:$17))),\"\")","v":""},{"$f":"IF(ROWS($1:$18)<=COUNTIF(joueurs,$B33),INDEX(points,SMALL(IF(joueurs=$B33,ROW(INDIRECT(\"1:\"&ROWS(points)))),ROWS($1:$18))),\"\")","v":""},{"$f":"IF(ROWS($1:$19)<=COUNTIF(joueurs,$B33),INDEX(points,SMALL(IF(joueurs=$B33,ROW(INDIRECT(\"1:\"&ROWS(points)))),ROWS($1:$19))),\"\")","v":""},{"$f":"IF(ROWS($1:$20)<=COUNTIF(points,$B33),INDEX(fautes,SMALL(IF(joueurs=$B33,ROW(INDIRECT(\"1:\"&ROWS(points)))),ROWS($1:$20))),\"\")","v":""},{"$f":"IF(ROWS($1:$11)<=COUNTIF(joueurs,$B33),INDEX(victoires,SMALL(IF(joueurs=$B33,ROW(INDIRECT(\"1:\"&ROWS(victoires)))),ROWS($1:$11))),\"\")","v":""},{"$f":"IF(ROWS($1:$12)<=COUNTIF(joueurs,$B33),INDEX(victoires,SMALL(IF(joueurs=$B33,ROW(INDIRECT(\"1:\"&ROWS(victoires)))),ROWS($1:$12))),\"\")","v":""},{"$f":"IF(ROWS($1:$13)<=COUNTIF(joueurs,$B33),INDEX(victoires,SMALL(IF(joueurs=$B33,ROW(INDIRECT(\"1:\"&ROWS(victoires)))),ROWS($1:$13))),\"\")","v":""},{"$f":"IF(ROWS($1:$14)<=COUNTIF(joueurs,$B33),INDEX(victoires,SMALL(IF(joueurs=$B33,ROW(INDIRECT(\"1:\"&ROWS(victoires)))),ROWS($1:$14))),\"\")","v":""},{"$f":"IF(ROWS($1:$15)<=COUNTIF(joueurs,$B33),INDEX(victoires,SMALL(IF(joueurs=$B33,ROW(INDIRECT(\"1:\"&ROWS(victoires)))),ROWS($1:$15))),\"\")","v":""},{"$f":"IF(ROWS($1:$16)<=COUNTIF(joueurs,$B33),INDEX(victoires,SMALL(IF(joueurs=$B33,ROW(INDIRECT(\"1:\"&ROWS(victoires)))),ROWS($1:$16))),\"\")","v":""},{"$f":"IF(ROWS($1:$17)<=COUNTIF(joueurs,$B33),INDEX(victoires,SMALL(IF(joueurs=$B33,ROW(INDIRECT(\"1:\"&ROWS(victoires)))),ROWS($1:$17))),\"\")","v":""},{"$f":"IF(ROWS($1:$18)<=COUNTIF(joueurs,$B33),INDEX(victoires,SMALL(IF(joueurs=$B33,ROW(INDIRECT(\"1:\"&ROWS(victoires)))),ROWS($1:$18))),\"\")","v":""},{"$f":"IF(ROWS($1:$19)<=COUNTIF(joueurs,$B33),INDEX(victoires,SMALL(IF(joueurs=$B33,ROW(INDIRECT(\"1:\"&ROWS(victoires)))),ROWS($1:$19))),\"\")","v":""},{"$f":"IF(ROWS($1:$20)<=COUNTIF(joueurs,$B33),INDEX(victoires,SMALL(IF(joueurs=$B33,ROW(INDIRECT(\"1:\"&ROWS(victoires)))),ROWS($1:$20))),\"\")","v":""}]
[null,null,null,{"$f":"IF(ROWS($1:$21)<=COUNTIF(joueurs,$B33),INDEX(fautes,SMALL(IF(joueurs=$B33,ROW(INDIRECT(\"1:\"&ROWS(fautes)))),ROWS($1:$21))),\"\")","v":""},{"$f":"IF(ROWS($1:$22)<=COUNTIF(joueurs,$B33),INDEX(fautes,SMALL(IF(joueurs=$B33,ROW(INDIRECT(\"1:\"&ROWS(fautes)))),ROWS($1:$22))),\"\")","v":""},{"$f":"IF(ROWS($1:$23)<=COUNTIF(joueurs,$B33),INDEX(fautes,SMALL(IF(joueurs=$B33,ROW(INDIRECT(\"1:\"&ROWS(fautes)))),ROWS($1:$23))),\"\")","v":""},{"$f":"IF(ROWS($1:$24)<=COUNTIF(joueurs,$B33),INDEX(fautes,SMALL(IF(joueurs=$B33,ROW(INDIRECT(\"1:\"&ROWS(fautes)))),ROWS($1:$24))),\"\")","v":""},{"$f":"IF(ROWS($1:$25)<=COUNTIF(joueurs,$B33),INDEX(fautes,SMALL(IF(joueurs=$B33,ROW(INDIRECT(\"1:\"&ROWS(fautes)))),ROWS($1:$25))),\"\")","v":""},{"$f":"IF(ROWS($1:$26)<=COUNTIF(joueurs,$B33),INDEX(fautes,SMALL(IF(joueurs=$B33,ROW(INDIRECT(\"1:\"&ROWS(fautes)))),ROWS($1:$26))),\"\")","v":""},{"$f":"IF(ROWS($1:$27)<=COUNTIF(joueurs,$B33),INDEX(fautes,SMALL(IF(joueurs=$B33,ROW(INDIRECT(\"1:\"&ROWS(fautes)))),ROWS($1:$27))),\"\")","v":""},{"$f":"IF(ROWS($1:$28)<=COUNTIF(joueurs,$B33),INDEX(fautes,SMALL(IF(joueurs=$B33,ROW(INDIRECT(\"1:\"&ROWS(fautes)))),ROWS($1:$28))),\"\")","v":""},{"$f":"IF(ROWS($1:$29)<=COUNTIF(joueurs,$B33),INDEX(fautes,SMALL(IF(joueurs=$B33,ROW(INDIRECT(\"1:\"&ROWS(fautes)))),ROWS($1:$29))),\"\")","v":""},{"$f":"IF(ROWS($1:$30)<=COUNTIF(joueurs,$B33),INDEX(fautes,SMALL(IF(joueurs=$B33,ROW(INDIRECT(\"1:\"&ROWS(fautes)))),ROWS($1:$30))),\"\")","v":""},{"$f":"IF(ROWS($1:$21)<=COUNTIF(joueurs,$B33),INDEX(ballonperdus,SMALL(IF(joueurs=$B33,ROW(INDIRECT(\"1:\"&ROWS(ballonperdus)))),ROWS($1:$21))),\"\")","v":""},{"$f":"IF(ROWS($1:$22)<=COUNTIF(joueurs,$B33),INDEX(ballonperdus,SMALL(IF(joueurs=$B33,ROW(INDIRECT(\"1:\"&ROWS(ballonperdus)))),ROWS($1:$22))),\"\")","v":""},{"$f":"IF(ROWS($1:$23)<=COUNTIF(joueurs,$B33),INDEX(ballonperdus,SMALL(IF(joueurs=$B33,ROW(INDIRECT(\"1:\"&ROWS(ballonperdus)))),ROWS($1:$23))),\"\")","v":""},{"$f":"IF(ROWS($1:$24)<=COUNTIF(joueurs,$B33),INDEX(ballonperdus,SMALL(IF(joueurs=$B33,ROW(INDIRECT(\"1:\"&ROWS(ballonperdus)))),ROWS($1:$24))),\"\")","v":""},{"$f":"IF(ROWS($1:$25)<=COUNTIF(joueurs,$B33),INDEX(ballonperdus,SMALL(IF(joueurs=$B33,ROW(INDIRECT(\"1:\"&ROWS(ballonperdus)))),ROWS($1:$25))),\"\")","v":""},{"$f":"IF(ROWS($1:$26)<=COUNTIF(joueurs,$B33),INDEX(ballonperdus,SMALL(IF(joueurs=$B33,ROW(INDIRECT(\"1:\"&ROWS(ballonperdus)))),ROWS($1:$26))),\"\")","v":""},{"$f":"IF(ROWS($1:$27)<=COUNTIF(joueurs,$B33),INDEX(ballonperdus,SMALL(IF(joueurs=$B33,ROW(INDIRECT(\"1:\"&ROWS(ballonperdus)))),ROWS($1:$27))),\"\")","v":""},{"$f":"IF(ROWS($1:$28)<=COUNTIF(joueurs,$B33),INDEX(ballonperdus,SMALL(IF(joueurs=$B33,ROW(INDIRECT(\"1:\"&ROWS(ballonperdus)))),ROWS($1:$28))),\"\")","v":""},{"$f":"IF(ROWS($1:$29)<=COUNTIF(joueurs,$B33),INDEX(ballonperdus,SMALL(IF(joueurs=$B33,ROW(INDIRECT(\"1:\"&ROWS(ballonperdus)))),ROWS($1:$29))),\"\")","v":""},{"$f":"IF(ROWS($1:$30)<=COUNTIF(joueurs,$B33),INDEX(ballonperdus,SMALL(IF(joueurs=$B33,ROW(INDIRECT(\"1:\"&ROWS(ballonperdus)))),ROWS($1:$30))),\"\")","v":""},{"$f":"IF(ROWS($1:$21)<=COUNTIF(joueurs,$B33),INDEX(interceptions,SMALL(IF(joueurs=$B33,ROW(INDIRECT(\"1:\"&ROWS(interceptions)))),ROWS($1:$21))),\"\")","v":""},{"$f":"IF(ROWS($1:$22)<=COUNTIF(joueurs,$B33),INDEX(interceptions,SMALL(IF(joueurs=$B33,ROW(INDIRECT(\"1:\"&ROWS(interceptions)))),ROWS($1:$22))),\"\")","v":""},{"$f":"IF(ROWS($1:$23)<=COUNTIF(joueurs,$B33),INDEX(interceptions,SMALL(IF(joueurs=$B33,ROW(INDIRECT(\"1:\"&ROWS(interceptions)))),ROWS($1:$23))),\"\")","v":""},{"$f":"IF(ROWS($1:$24)<=COUNTIF(joueurs,$B33),INDEX(interceptions,SMALL(IF(joueurs=$B33,ROW(INDIRECT(\"1:\"&ROWS(interceptions)))),ROWS($1:$24))),\"\")","v":""},{"$f":"IF(ROWS($1:$25)<=COUNTIF(joueurs,$B33),INDEX(interceptions,SMALL(IF(joueurs=$B33,ROW(INDIRECT(\"1:\"&ROWS(interceptions)))),ROWS($1:$25))),\"\")","v":""},{"$f":"IF(ROWS($1:$26)<=COUNTIF(joueurs,$B33),INDEX(interceptions,SMALL(IF(joueurs=$B33,ROW(INDIRECT(\"1:\"&ROWS(interceptions)))),ROWS($1:$26))),\"\")","v":""},{"$f":"IF(ROWS($1:$27)<=COUNTIF(joueurs,$B33),INDEX(interceptions,SMALL(IF(joueurs=$B33,ROW(INDIRECT(\"1:\"&ROWS(interceptions)))),ROWS($1:$27))),\"\")","v":""},{"$f":"IF(ROWS($1:$28)<=COUNTIF(joueurs,$B33),INDEX(interceptions,SMALL(IF(joueurs=$B33,ROW(INDIRECT(\"1:\"&ROWS(interceptions)))),ROWS($1:$28))),\"\")","v":""},{"$f":"IF(ROWS($1:$29)<=COUNTIF(joueurs,$B33),INDEX(interceptions,SMALL(IF(joueurs=$B33,ROW(INDIRECT(\"1:\"&ROWS(interceptions)))),ROWS($1:$29))),\"\")","v":""},{"$f":"IF(ROWS($1:$30)<=COUNTIF(joueurs,$B33),INDEX(interceptions,SMALL(IF(joueurs=$B33,ROW(INDIRECT(\"1:\"&ROWS(interceptions)))),ROWS($1:$30))),\"\")","v":""},{"$f":"IF(ROWS($1:$21)<=COUNTIF(joueurs,$B33),INDEX(ballonrecuperes,SMALL(IF(joueurs=$B33,ROW(INDIRECT(\"1:\"&ROWS(ballonrecuperes)))),ROWS($1:$21))),\"\")","v":""},{"$f":"IF(ROWS($1:$22)<=COUNTIF(joueurs,$B33),INDEX(ballonrecuperes,SMALL(IF(joueurs=$B33,ROW(INDIRECT(\"1:\"&ROWS(ballonrecuperes)))),ROWS($1:$22))),\"\")","v":""},{"$f":"IF(ROWS($1:$23)<=COUNTIF(joueurs,$B33),INDEX(ballonrecuperes,SMALL(IF(joueurs=$B33,ROW(INDIRECT(\"1:\"&ROWS(ballonrecuperes)))),ROWS($1:$23))),\"\")","v":""},{"$f":"IF(ROWS($1:$24)<=COUNTIF(joueurs,$B33),INDEX(ballonrecuperes,SMALL(IF(joueurs=$B33,ROW(INDIRECT(\"1:\"&ROWS(ballonrecuperes)))),ROWS($1:$24))),\"\")","v":""},{"$f":"IF(ROWS($1:$25)<=COUNTIF(joueurs,$B33),INDEX(ballonrecuperes,SMALL(IF(joueurs=$B33,ROW(INDIRECT(\"1:\"&ROWS(ballonrecuperes)))),ROWS($1:$25))),\"\")","v":""},{"$f":"IF(ROWS($1:$26)<=COUNTIF(joueurs,$B33),INDEX(ballonrecuperes,SMALL(IF(joueurs=$B33,ROW(INDIRECT(\"1:\"&ROWS(ballonrecuperes)))),ROWS($1:$26))),\"\")","v":""},{"$f":"IF(ROWS($1:$27)<=COUNTIF(joueurs,$B33),INDEX(ballonrecuperes,SMALL(IF(joueurs=$B33,ROW(INDIRECT(\"1:\"&ROWS(ballonrecuperes)))),ROWS($1:$27))),\"\")","v":""},{"$f":"IF(ROWS($1:$28)<=COUNTIF(joueurs,$B33),INDEX(ballonrecuperes,SMALL(IF(joueurs=$B33,ROW(INDIRECT(\"1:\"&ROWS(ballonrecuperes)))),ROWS($1:$28))),\"\")","v":""},{"$f":"IF(ROWS($1:$29)<=COUNTIF(joueurs,$B33),INDEX(ballonrecuperes,SMALL(IF(joueurs=$B33,ROW(INDIRECT(\"1:\"&ROWS(ballonrecuperes)))),ROWS($1:$29))),\"\")","v":""},{"$f":"IF(ROWS($1:$30)<=COUNTIF(joueurs,$B33),INDEX(ballonrecuperes,SMALL(IF(joueurs=$B33,ROW(INDIRECT(\"1:\"&ROWS(ballonrecuperes)))),ROWS($1:$30))),\"\")","v":""},{"$f":"IF(ROWS($1:$21)<=COUNTIF(joueurs,$B33),INDEX(tirs,SMALL(IF(joueurs=$B33,ROW(INDIRECT(\"1:\"&ROWS(tirs)))),ROWS($1:$21))),\"\")","v":""},{"$f":"IF(ROWS($1:$22)<=COUNTIF(joueurs,$B33),INDEX(tirs,SMALL(IF(joueurs=$B33,ROW(INDIRECT(\"1:\"&ROWS(tirs)))),ROWS($1:$22))),\"\")","v":""},{"$f":"IF(ROWS($1:$23)<=COUNTIF(joueurs,$B33),INDEX(tirs,SMALL(IF(joueurs=$B33,ROW(INDIRECT(\"1:\"&ROWS(tirs)))),ROWS($1:$23))),\"\")","v":""},{"$f":"IF(ROWS($1:$24)<=COUNTIF(joueurs,$B33),INDEX(tirs,SMALL(IF(joueurs=$B33,ROW(INDIRECT(\"1:\"&ROWS(tirs)))),ROWS($1:$24))),\"\")","v":""},{"$f":"IF(ROWS($1:$25)<=COUNTIF(joueurs,$B33),INDEX(tirs,SMALL(IF(joueurs=$B33,ROW(INDIRECT(\"1:\"&ROWS(tirs)))),ROWS($1:$25))),\"\")","v":""},{"$f":"IF(ROWS($1:$26)<=COUNTIF(joueurs,$B33),INDEX(tirs,SMALL(IF(joueurs=$B33,ROW(INDIRECT(\"1:\"&ROWS(tirs)))),ROWS($1:$26))),\"\")","v":""},{"$f":"IF(ROWS($1:$27)<=COUNTIF(joueurs,$B33),INDEX(tirs,SMALL(IF(joueurs=$B33,ROW(INDIRECT(\"1:\"&ROWS(tirs)))),ROWS($1:$27))),\"\")","v":""},{"$f":"IF(ROWS($1:$28)<=COUNTIF(joueurs,$B33),INDEX(tirs,SMALL(IF(joueurs=$B33,ROW(INDIRECT(\"1:\"&ROWS(tirs)))),ROWS($1:$28))),\"\")","v":""},{"$f":"IF(ROWS($1:$29)<=COUNTIF(joueurs,$B33),INDEX(tirs,SMALL(IF(joueurs=$B33,ROW(INDIRECT(\"1:\"&ROWS(tirs)))),ROWS($1:$29))),\"\")","v":""},{"$f":"IF(ROWS($1:$30)<=COUNTIF(joueurs,$B33),INDEX(tirs,SMALL(IF(joueurs=$B33,ROW(INDIRECT(\"1:\"&ROWS(tirs)))),ROWS($1:$30))),\"\")","v":""},{"$f":"IF(ROWS($1:$21)<=COUNTIF(joueurs,$B33),INDEX(bontirs,SMALL(IF(joueurs=$B33,ROW(INDIRECT(\"1:\"&ROWS(bontirs)))),ROWS($1:$21))),\"\")","v":""},{"$f":"IF(ROWS($1:$22)<=COUNTIF(joueurs,$B33),INDEX(bontirs,SMALL(IF(joueurs=$B33,ROW(INDIRECT(\"1:\"&ROWS(bontirs)))),ROWS($1:$22))),\"\")","v":""},{"$f":"IF(ROWS($1:$23)<=COUNTIF(joueurs,$B33),INDEX(bontirs,SMALL(IF(joueurs=$B33,ROW(INDIRECT(\"1:\"&ROWS(bontirs)))),ROWS($1:$23))),\"\")","v":""},{"$f":"IF(ROWS($1:$24)<=COUNTIF(joueurs,$B33),INDEX(bontirs,SMALL(IF(joueurs=$B33,ROW(INDIRECT(\"1:\"&ROWS(bontirs)))),ROWS($1:$24))),\"\")","v":""},{"$f":"IF(ROWS($1:$25)<=COUNTIF(joueurs,$B33),INDEX(bontirs,SMALL(IF(joueurs=$B33,ROW(INDIRECT(\"1:\"&ROWS(bontirs)))),ROWS($1:$25))),\"\")","v":""},{"$f":"IF(ROWS($1:$26)<=COUNTIF(joueurs,$B33),INDEX(bontirs,SMALL(IF(joueurs=$B33,ROW(INDIRECT(\"1:\"&ROWS(bontirs)))),ROWS($1:$26))),\"\")","v":""},{"$f":"IF(ROWS($1:$27)<=COUNTIF(joueurs,$B33),INDEX(bontirs,SMALL(IF(joueurs=$B33,ROW(INDIRECT(\"1:\"&ROWS(bontirs)))),ROWS($1:$27))),\"\")","v":""},{"$f":"IF(ROWS($1:$28)<=COUNTIF(joueurs,$B33),INDEX(bontirs,SMALL(IF(joueurs=$B33,ROW(INDIRECT(\"1:\"&ROWS(bontirs)))),ROWS($1:$28))),\"\")","v":""},{"$f":"IF(ROWS($1:$29)<=COUNTIF(joueurs,$B33),INDEX(bontirs,SMALL(IF(joueurs=$B33,ROW(INDIRECT(\"1:\"&ROWS(bontirs)))),ROWS($1:$29))),\"\")","v":""},{"$f":"IF(ROWS($1:$30)<=COUNTIF(joueurs,$B33),INDEX(bontirs,SMALL(IF(joueurs=$B33,ROW(INDIRECT(\"1:\"&ROWS(bontirs)))),ROWS($1:$30))),\"\")","v":""},{"$f":"IF(ROWS($1:$21)<=COUNTIF(joueurs,$B33),INDEX(points,SMALL(IF(joueurs=$B33,ROW(INDIRECT(\"1:\"&ROWS(points)))),ROWS($1:$21))),\"\")","v":""},{"$f":"IF(ROWS($1:$22)<=COUNTIF(joueurs,$B33),INDEX(points,SMALL(IF(joueurs=$B33,ROW(INDIRECT(\"1:\"&ROWS(points)))),ROWS($1:$22))),\"\")","v":""},{"$f":"IF(ROWS($1:$23)<=COUNTIF(joueurs,$B33),INDEX(points,SMALL(IF(joueurs=$B33,ROW(INDIRECT(\"1:\"&ROWS(points)))),ROWS($1:$23))),\"\")","v":""},{"$f":"IF(ROWS($1:$24)<=COUNTIF(joueurs,$B33),INDEX(points,SMALL(IF(joueurs=$B33,ROW(INDIRECT(\"1:\"&ROWS(points)))),ROWS($1:$24))),\"\")","v":""},{"$f":"IF(ROWS($1:$25)<=COUNTIF(joueurs,$B33),INDEX(points,SMALL(IF(joueurs=$B33,ROW(INDIRECT(\"1:\"&ROWS(points)))),ROWS($1:$25))),\"\")","v":""},{"$f":"IF(ROWS($1:$26)<=COUNTIF(joueurs,$B33),INDEX(points,SMALL(IF(joueurs=$B33,ROW(INDIRECT(\"1:\"&ROWS(points)))),ROWS($1:$26))),\"\")","v":""},{"$f":"IF(ROWS($1:$27)<=COUNTIF(joueurs,$B33),INDEX(points,SMALL(IF(joueurs=$B33,ROW(INDIRECT(\"1:\"&ROWS(points)))),ROWS($1:$27))),\"\")","v":""},{"$f":"IF(ROWS($1:$28)<=COUNTIF(joueurs,$B33),INDEX(points,SMALL(IF(joueurs=$B33,ROW(INDIRECT(\"1:\"&ROWS(points)))),ROWS($1:$28))),\"\")","v":""},{"$f":"IF(ROWS($1:$29)<=COUNTIF(joueurs,$B33),INDEX(points,SMALL(IF(joueurs=$B33,ROW(INDIRECT(\"1:\"&ROWS(points)))),ROWS($1:$29))),\"\")","v":""},{"$f":"IF(ROWS($1:$30)<=COUNTIF(joueurs,$B33),INDEX(points,SMALL(IF(joueurs=$B33,ROW(INDIRECT(\"1:\"&ROWS(points)))),ROWS($1:$30))),\"\")","v":""},{"$f":"IF(ROWS($1:$21)<=COUNTIF(joueurs,$B33),INDEX(victoires,SMALL(IF(joueurs=$B33,ROW(INDIRECT(\"1:\"&ROWS(victoires)))),ROWS($1:$21))),\"\")","v":""},{"$f":"IF(ROWS($1:$22)<=COUNTIF(joueurs,$B33),INDEX(victoires,SMALL(IF(joueurs=$B33,ROW(INDIRECT(\"1:\"&ROWS(victoires)))),ROWS($1:$22))),\"\")","v":""},{"$f":"IF(ROWS($1:$23)<=COUNTIF(joueurs,$B33),INDEX(victoires,SMALL(IF(joueurs=$B33,ROW(INDIRECT(\"1:\"&ROWS(victoires)))),ROWS($1:$23))),\"\")","v":""},{"$f":"IF(ROWS($1:$24)<=COUNTIF(joueurs,$B33),INDEX(victoires,SMALL(IF(joueurs=$B33,ROW(INDIRECT(\"1:\"&ROWS(victoires)))),ROWS($1:$24))),\"\")","v":""},{"$f":"IF(ROWS($1:$25)<=COUNTIF(joueurs,$B33),INDEX(victoires,SMALL(IF(joueurs=$B33,ROW(INDIRECT(\"1:\"&ROWS(victoires)))),ROWS($1:$25))),\"\")","v":""},{"$f":"IF(ROWS($1:$26)<=COUNTIF(joueurs,$B33),INDEX(victoires,SMALL(IF(joueurs=$B33,ROW(INDIRECT(\"1:\"&ROWS(victoires)))),ROWS($1:$26))),\"\")","v":""},{"$f":"IF(ROWS($1:$27)<=COUNTIF(joueurs,$B33),INDEX(victoires,SMALL(IF(joueurs=$B33,ROW(INDIRECT(\"1:\"&ROWS(victoires)))),ROWS($1:$27))),\"\")","v":""},{"$f":"IF(ROWS($1:$28)<=COUNTIF(joueurs,$B33),INDEX(victoires,SMALL(IF(joueurs=$B33,ROW(INDIRECT(\"1:\"&ROWS(victoires)))),ROWS($1:$28))),\"\")","v":""},{"$f":"IF(ROWS($1:$29)<=COUNTIF(joueurs,$B33),INDEX(victoires,SMALL(IF(joueurs=$B33,ROW(INDIRECT(\"1:\"&ROWS(victoires)))),ROWS($1:$29))),\"\")","v":""},{"$f":"IF(ROWS($1:$30)<=COUNTIF(joueurs,$B33),INDEX(victoires,SMALL(IF(joueurs=$B33,ROW(INDIRECT(\"1:\"&ROWS(victoires)))),ROWS($1:$30))),\"\")","v":""}]
[null,null,null,{"$f":"IF(ROWS($1:$31)<=COUNTIF(joueurs,$B33),INDEX(fautes,SMALL(IF(joueurs=$B33,ROW(INDIRECT(\"1:\"&ROWS(fautes)))),ROWS($1:$31))),\"\")","v":""},{"$f":"IF(ROWS($1:$32)<=COUNTIF(joueurs,$B33),INDEX(fautes,SMALL(IF(joueurs=$B33,ROW(INDIRECT(\"1:\"&ROWS(fautes)))),ROWS($1:$32))),\"\")","v":""},{"$f":"IF(ROWS($1:$33)<=COUNTIF(joueurs,$B33),INDEX(fautes,SMALL(IF(joueurs=$B33,ROW(INDIRECT(\"1:\"&ROWS(fautes)))),ROWS($1:$33))),\"\")","v":""},{"$f":"IF(ROWS($1:$34)<=COUNTIF(joueurs,$B33),INDEX(fautes,SMALL(IF(joueurs=$B33,ROW(INDIRECT(\"1:\"&ROWS(fautes)))),ROWS($1:$34))),\"\")","v":""},{"$f":"IF(ROWS($1:$35)<=COUNTIF(joueurs,$B33),INDEX(fautes,SMALL(IF(joueurs=$B33,ROW(INDIRECT(\"1:\"&ROWS(fautes)))),ROWS($1:$35))),\"\")","v":""},{"$f":"IF(ROWS($1:$36)<=COUNTIF(joueurs,$B33),INDEX(fautes,SMALL(IF(joueurs=$B33,ROW(INDIRECT(\"1:\"&ROWS(fautes)))),ROWS($1:$36))),\"\")","v":""},{"$f":"IF(ROWS($1:$37)<=COUNTIF(joueurs,$B33),INDEX(fautes,SMALL(IF(joueurs=$B33,ROW(INDIRECT(\"1:\"&ROWS(fautes)))),ROWS($1:$37))),\"\")","v":""},{"$f":"IF(ROWS($1:$38)<=COUNTIF(joueurs,$B33),INDEX(fautes,SMALL(IF(joueurs=$B33,ROW(INDIRECT(\"1:\"&ROWS(fautes)))),ROWS($1:$38))),\"\")","v":""},{"$f":"IF(ROWS($1:$39)<=COUNTIF(joueurs,$B33),INDEX(fautes,SMALL(IF(joueurs=$B33,ROW(INDIRECT(\"1:\"&ROWS(fautes)))),ROWS($1:$39))),\"\")","v":""},{"$f":"IF(ROWS($1:$40)<=COUNTIF(joueurs,$B33),INDEX(fautes,SMALL(IF(joueurs=$B33,ROW(INDIRECT(\"1:\"&ROWS(fautes)))),ROWS($1:$40))),\"\")","v":""},{"$f":"IF(ROWS($1:$31)<=COUNTIF(joueurs,$B33),INDEX(ballonperdus,SMALL(IF(joueurs=$B33,ROW(INDIRECT(\"1:\"&ROWS(ballonperdus)))),ROWS($1:$31))),\"\")","v":""},{"$f":"IF(ROWS($1:$32)<=COUNTIF(joueurs,$B33),INDEX(ballonperdus,SMALL(IF(joueurs=$B33,ROW(INDIRECT(\"1:\"&ROWS(ballonperdus)))),ROWS($1:$32))),\"\")","v":""},{"$f":"IF(ROWS($1:$33)<=COUNTIF(joueurs,$B33),INDEX(ballonperdus,SMALL(IF(joueurs=$B33,ROW(INDIRECT(\"1:\"&ROWS(ballonperdus)))),ROWS($1:$33))),\"\")","v":""},{"$f":"IF(ROWS($1:$34)<=COUNTIF(joueurs,$B33),INDEX(ballonperdus,SMALL(IF(joueurs=$B33,ROW(INDIRECT(\"1:\"&ROWS(ballonperdus)))),ROWS($1:$34))),\"\")","v":""},{"$f":"IF(ROWS($1:$35)<=COUNTIF(joueurs,$B33),INDEX(ballonperdus,SMALL(IF(joueurs=$B33,ROW(INDIRECT(\"1:\"&ROWS(ballonperdus)))),ROWS($1:$35))),\"\")","v":""},{"$f":"IF(ROWS($1:$36)<=COUNTIF(joueurs,$B33),INDEX(ballonperdus,SMALL(IF(joueurs=$B33,ROW(INDIRECT(\"1:\"&ROWS(ballonperdus)))),ROWS($1:$36))),\"\")","v":""},{"$f":"IF(ROWS($1:$37)<=COUNTIF(joueurs,$B33),INDEX(ballonperdus,SMALL(IF(joueurs=$B33,ROW(INDIRECT(\"1:\"&ROWS(ballonperdus)))),ROWS($1:$37))),\"\")","v":""},{"$f":"IF(ROWS($1:$38)<=COUNTIF(joueurs,$B33),INDEX(ballonperdus,SMALL(IF(joueurs=$B33,ROW(INDIRECT(\"1:\"&ROWS(ballonperdus)))),ROWS($1:$38))),\"\")","v":""},{"$f":"IF(ROWS($1:$39)<=COUNTIF(joueurs,$B33),INDEX(ballonperdus,SMALL(IF(joueurs=$B33,ROW(INDIRECT(\"1:\"&ROWS(ballonperdus)))),ROWS($1:$39))),\"\")","v":""},{"$f":"IF(ROWS($1:$40)<=COUNTIF(joueurs,$B33),INDEX(ballonperdus,SMALL(IF(joueurs=$B33,ROW(INDIRECT(\"1:\"&ROWS(ballonperdus)))),ROWS($1:$40))),\"\")","v":""},{"$f":"IF(ROWS($1:$31)<=COUNTIF(joueurs,$B33),INDEX(interceptions,SMALL(IF(joueurs=$B33,ROW(INDIRECT(\"1:\"&ROWS(interceptions)))),ROWS($1:$31))),\"\")","v":""},{"$f":"IF(ROWS($1:$32)<=COUNTIF(joueurs,$B33),INDEX(interceptions,SMALL(IF(joueurs=$B33,ROW(INDIRECT(\"1:\"&ROWS(interceptions)))),ROWS($1:$32))),\"\")","v":""},{"$f":"IF(ROWS($1:$33)<=COUNTIF(joueurs,$B33),INDEX(interceptions,SMALL(IF(joueurs=$B33,ROW(INDIRECT(\"1:\"&ROWS(interceptions)))),ROWS($1:$33))),\"\")","v":""},{"$f":"IF(ROWS($1:$34)<=COUNTIF(joueurs,$B33),INDEX(interceptions,SMALL(IF(joueurs=$B33,ROW(INDIRECT(\"1:\"&ROWS(interceptions)))),ROWS($1:$34))),\"\")","v":""},{"$f":"IF(ROWS($1:$35)<=COUNTIF(joueurs,$B33),INDEX(interceptions,SMALL(IF(joueurs=$B33,ROW(INDIRECT(\"1:\"&ROWS(interceptions)))),ROWS($1:$35))),\"\")","v":""},{"$f":"IF(ROWS($1:$36)<=COUNTIF(joueurs,$B33),INDEX(interceptions,SMALL(IF(joueurs=$B33,ROW(INDIRECT(\"1:\"&ROWS(interceptions)))),ROWS($1:$36))),\"\")","v":""},{"$f":"IF(ROWS($1:$37)<=COUNTIF(joueurs,$B33),INDEX(interceptions,SMALL(IF(joueurs=$B33,ROW(INDIRECT(\"1:\"&ROWS(interceptions)))),ROWS($1:$37))),\"\")","v":""},{"$f":"IF(ROWS($1:$38)<=COUNTIF(joueurs,$B33),INDEX(interceptions,SMALL(IF(joueurs=$B33,ROW(INDIRECT(\"1:\"&ROWS(interceptions)))),ROWS($1:$38))),\"\")","v":""},{"$f":"IF(ROWS($1:$39)<=COUNTIF(joueurs,$B33),INDEX(interceptions,SMALL(IF(joueurs=$B33,ROW(INDIRECT(\"1:\"&ROWS(interceptions)))),ROWS($1:$39))),\"\")","v":""},{"$f":"IF(ROWS($1:$40)<=COUNTIF(joueurs,$B33),INDEX(interceptions,SMALL(IF(joueurs=$B33,ROW(INDIRECT(\"1:\"&ROWS(interceptions)))),ROWS($1:$40))),\"\")","v":""},{"$f":"IF(ROWS($1:$31)<=COUNTIF(joueurs,$B33),INDEX(ballonrecuperes,SMALL(IF(joueurs=$B33,ROW(INDIRECT(\"1:\"&ROWS(ballonrecuperes)))),ROWS($1:$31))),\"\")","v":""},{"$f":"IF(ROWS($1:$32)<=COUNTIF(joueurs,$B33),INDEX(ballonrecuperes,SMALL(IF(joueurs=$B33,ROW(INDIRECT(\"1:\"&ROWS(ballonrecuperes)))),ROWS($1:$32))),\"\")","v":""},{"$f":"IF(ROWS($1:$33)<=COUNTIF(joueurs,$B33),INDEX(ballonrecuperes,SMALL(IF(joueurs=$B33,ROW(INDIRECT(\"1:\"&ROWS(ballonrecuperes)))),ROWS($1:$33))),\"\")","v":""},{"$f":"IF(ROWS($1:$34)<=COUNTIF(joueurs,$B33),INDEX(ballonrecuperes,SMALL(IF(joueurs=$B33,ROW(INDIRECT(\"1:\"&ROWS(ballonrecuperes)))),ROWS($1:$34))),\"\")","v":""},{"$f":"IF(ROWS($1:$35)<=COUNTIF(joueurs,$B33),INDEX(ballonrecuperes,SMALL(IF(joueurs=$B33,ROW(INDIRECT(\"1:\"&ROWS(ballonrecuperes)))),ROWS($1:$35))),\"\")","v":""},{"$f":"IF(ROWS($1:$36)<=COUNTIF(joueurs,$B33),INDEX(ballonrecuperes,SMALL(IF(joueurs=$B33,ROW(INDIRECT(\"1:\"&ROWS(ballonrecuperes)))),ROWS($1:$36))),\"\")","v":""},{"$f":"IF(ROWS($1:$37)<=COUNTIF(joueurs,$B33),INDEX(ballonrecuperes,SMALL(IF(joueurs=$B33,ROW(INDIRECT(\"1:\"&ROWS(ballonrecuperes)))),ROWS($1:$37))),\"\")","v":""},{"$f":"IF(ROWS($1:$38)<=COUNTIF(joueurs,$B33),INDEX(ballonrecuperes,SMALL(IF(joueurs=$B33,ROW(INDIRECT(\"1:\"&ROWS(ballonrecuperes)))),ROWS($1:$38))),\"\")","v":""},{"$f":"IF(ROWS($1:$39)<=COUNTIF(joueurs,$B33),INDEX(ballonrecuperes,SMALL(IF(joueurs=$B33,ROW(INDIRECT(\"1:\"&ROWS(ballonrecuperes)))),ROWS($1:$39))),\"\")","v":""},{"$f":"IF(ROWS($1:$40)<=COUNTIF(joueurs,$B33),INDEX(ballonrecuperes,SMALL(IF(joueurs=$B33,ROW(INDIRECT(\"1:\"&ROWS(ballonrecuperes)))),ROWS($1:$40))),\"\")","v":""},{"$f":"IF(ROWS($1:$31)<=COUNTIF(joueurs,$B33),INDEX(tirs,SMALL(IF(joueurs=$B33,ROW(INDIRECT(\"1:\"&ROWS(tirs)))),ROWS($1:$31))),\"\")","v":""},{"$f":"IF(ROWS($1:$32)<=COUNTIF(joueurs,$B33),INDEX(tirs,SMALL(IF(joueurs=$B33,ROW(INDIRECT(\"1:\"&ROWS(tirs)))),ROWS($1:$32))),\"\")","v":""},{"$f":"IF(ROWS($1:$33)<=COUNTIF(joueurs,$B33),INDEX(tirs,SMALL(IF(joueurs=$B33,ROW(INDIRECT(\"1:\"&ROWS(tirs)))),ROWS($1:$33))),\"\")","v":""},{"$f":"IF(ROWS($1:$34)<=COUNTIF(joueurs,$B33),INDEX(tirs,SMALL(IF(joueurs=$B33,ROW(INDIRECT(\"1:\"&ROWS(tirs)))),ROWS($1:$34))),\"\")","v":""},{"$f":"IF(ROWS($1:$35)<=COUNTIF(joueurs,$B33),INDEX(tirs,SMALL(IF(joueurs=$B33,ROW(INDIRECT(\"1:\"&ROWS(tirs)))),ROWS($1:$35))),\"\")","v":""},{"$f":"IF(ROWS($1:$36)<=COUNTIF(joueurs,$B33),INDEX(tirs,SMALL(IF(joueurs=$B33,ROW(INDIRECT(\"1:\"&ROWS(tirs)))),ROWS($1:$36))),\"\")","v":""},{"$f":"IF(ROWS($1:$37)<=COUNTIF(joueurs,$B33),INDEX(tirs,SMALL(IF(joueurs=$B33,ROW(INDIRECT(\"1:\"&ROWS(tirs)))),ROWS($1:$37))),\"\")","v":""},{"$f":"IF(ROWS($1:$38)<=COUNTIF(joueurs,$B33),INDEX(tirs,SMALL(IF(joueurs=$B33,ROW(INDIRECT(\"1:\"&ROWS(tirs)))),ROWS($1:$38))),\"\")","v":""},{"$f":"IF(ROWS($1:$39)<=COUNTIF(joueurs,$B33),INDEX(tirs,SMALL(IF(joueurs=$B33,ROW(INDIRECT(\"1:\"&ROWS(tirs)))),ROWS($1:$39))),\"\")","v":""},{"$f":"IF(ROWS($1:$40)<=COUNTIF(joueurs,$B33),INDEX(tirs,SMALL(IF(joueurs=$B33,ROW(INDIRECT(\"1:\"&ROWS(tirs)))),ROWS($1:$40))),\"\")","v":""},{"$f":"IF(ROWS($1:$31)<=COUNTIF(joueurs,$B33),INDEX(bontirs,SMALL(IF(joueurs=$B33,ROW(INDIRECT(\"1:\"&ROWS(bontirs)))),ROWS($1:$31))),\"\")","v":""},{"$f":"IF(ROWS($1:$32)<=COUNTIF(joueurs,$B33),INDEX(bontirs,SMALL(IF(joueurs=$B33,ROW(INDIRECT(\"1:\"&ROWS(bontirs)))),ROWS($1:$32))),\"\")","v":""},{"$f":"IF(ROWS($1:$33)<=COUNTIF(joueurs,$B33),INDEX(bontirs,SMALL(IF(joueurs=$B33,ROW(INDIRECT(\"1:\"&ROWS(bontirs)))),ROWS($1:$33))),\"\")","v":""},{"$f":"IF(ROWS($1:$34)<=COUNTIF(joueurs,$B33),INDEX(bontirs,SMALL(IF(joueurs=$B33,ROW(INDIRECT(\"1:\"&ROWS(bontirs)))),ROWS($1:$34))),\"\")","v":""},{"$f":"IF(ROWS($1:$35)<=COUNTIF(joueurs,$B33),INDEX(bontirs,SMALL(IF(joueurs=$B33,ROW(INDIRECT(\"1:\"&ROWS(bontirs)))),ROWS($1:$35))),\"\")","v":""},{"$f":"IF(ROWS($1:$36)<=COUNTIF(joueurs,$B33),INDEX(bontirs,SMALL(IF(joueurs=$B33,ROW(INDIRECT(\"1:\"&ROWS(bontirs)))),ROWS($1:$36))),\"\")","v":""},{"$f":"IF(ROWS($1:$37)<=COUNTIF(joueurs,$B33),INDEX(bontirs,SMALL(IF(joueurs=$B33,ROW(INDIRECT(\"1:\"&ROWS(bontirs)))),ROWS($1:$37))),\"\")","v":""},{"$f":"IF(ROWS($1:$38)<=COUNTIF(joueurs,$B33),INDEX(bontirs,SMALL(IF(joueurs=$B33,ROW(INDIRECT(\"1:\"&ROWS(bontirs)))),ROWS($1:$38))),\"\")","v":""},{"$f":"IF(ROWS($1:$39)<=COUNTIF(joueurs,$B33),INDEX(bontirs,SMALL(IF(joueurs=$B33,ROW(INDIRECT(\"1:\"&ROWS(bontirs)))),ROWS($1:$39))),\"\")","v":""},{"$f":"IF(ROWS($1:$40)<=COUNTIF(joueurs,$B33),INDEX(bontirs,SMALL(IF(joueurs=$B33,ROW(INDIRECT(\"1:\"&ROWS(bontirs)))),ROWS($1:$40))),\"\")","v":""},{"$f":"IF(ROWS($1:$31)<=COUNTIF(joueurs,$B33),INDEX(points,SMALL(IF(joueurs=$B33,ROW(INDIRECT(\"1:\"&ROWS(points)))),ROWS($1:$31))),\"\")","v":""},{"$f":"IF(ROWS($1:$32)<=COUNTIF(joueurs,$B33),INDEX(points,SMALL(IF(joueurs=$B33,ROW(INDIRECT(\"1:\"&ROWS(points)))),ROWS($1:$32))),\"\")","v":""},{"$f":"IF(ROWS($1:$33)<=COUNTIF(joueurs,$B33),INDEX(points,SMALL(IF(joueurs=$B33,ROW(INDIRECT(\"1:\"&ROWS(points)))),ROWS($1:$33))),\"\")","v":""},{"$f":"IF(ROWS($1:$34)<=COUNTIF(joueurs,$B33),INDEX(points,SMALL(IF(joueurs=$B33,ROW(INDIRECT(\"1:\"&ROWS(points)))),ROWS($1:$34))),\"\")","v":""},{"$f":"IF(ROWS($1:$35)<=COUNTIF(joueurs,$B33),INDEX(points,SMALL(IF(joueurs=$B33,ROW(INDIRECT(\"1:\"&ROWS(points)))),ROWS($1:$35))),\"\")","v":""},{"$f":"IF(ROWS($1:$36)<=COUNTIF(joueurs,$B33),INDEX(points,SMALL(IF(joueurs=$B33,ROW(INDIRECT(\"1:\"&ROWS(points)))),ROWS($1:$36))),\"\")","v":""},{"$f":"IF(ROWS($1:$37)<=COUNTIF(joueurs,$B33),INDEX(points,SMALL(IF(joueurs=$B33,ROW(INDIRECT(\"1:\"&ROWS(points)))),ROWS($1:$37))),\"\")","v":""},{"$f":"IF(ROWS($1:$38)<=COUNTIF(joueurs,$B33),INDEX(points,SMALL(IF(joueurs=$B33,ROW(INDIRECT(\"1:\"&ROWS(points)))),ROWS($1:$38))),\"\")","v":""},{"$f":"IF(ROWS($1:$39)<=COUNTIF(joueurs,$B33),INDEX(points,SMALL(IF(joueurs=$B33,ROW(INDIRECT(\"1:\"&ROWS(points)))),ROWS($1:$39))),\"\")","v":""},{"$f":"IF(ROWS($1:$40)<=COUNTIF(joueurs,$B33),INDEX(points,SMALL(IF(joueurs=$B33,ROW(INDIRECT(\"1:\"&ROWS(points)))),ROWS($1:$40))),\"\")","v":""},{"$f":"IF(ROWS($1:$31)<=COUNTIF(joueurs,$B33),INDEX(victoires,SMALL(IF(joueurs=$B33,ROW(INDIRECT(\"1:\"&ROWS(victoires)))),ROWS($1:$31))),\"\")","v":""},{"$f":"IF(ROWS($1:$32)<=COUNTIF(joueurs,$B33),INDEX(victoires,SMALL(IF(joueurs=$B33,ROW(INDIRECT(\"1:\"&ROWS(victoires)))),ROWS($1:$32))),\"\")","v":""},{"$f":"IF(ROWS($1:$33)<=COUNTIF(joueurs,$B33),INDEX(victoires,SMALL(IF(joueurs=$B33,ROW(INDIRECT(\"1:\"&ROWS(victoires)))),ROWS($1:$33))),\"\")","v":""},{"$f":"IF(ROWS($1:$34)<=COUNTIF(joueurs,$B33),INDEX(victoires,SMALL(IF(joueurs=$B33,ROW(INDIRECT(\"1:\"&ROWS(victoires)))),ROWS($1:$34))),\"\")","v":""},{"$f":"IF(ROWS($1:$35)<=COUNTIF(joueurs,$B33),INDEX(victoires,SMALL(IF(joueurs=$B33,ROW(INDIRECT(\"1:\"&ROWS(victoires)))),ROWS($1:$35))),\"\")","v":""},{"$f":"IF(ROWS($1:$36)<=COUNTIF(joueurs,$B33),INDEX(victoires,SMALL(IF(joueurs=$B33,ROW(INDIRECT(\"1:\"&ROWS(victoires)))),ROWS($1:$36))),\"\")","v":""},{"$f":"IF(ROWS($1:$37)<=COUNTIF(joueurs,$B33),INDEX(victoires,SMALL(IF(joueurs=$B33,ROW(INDIRECT(\"1:\"&ROWS(victoires)))),ROWS($1:$37))),\"\")","v":""},{"$f":"IF(ROWS($1:$38)<=COUNTIF(joueurs,$B33),INDEX(victoires,SMALL(IF(joueurs=$B33,ROW(INDIRECT(\"1:\"&ROWS(victoires)))),ROWS($1:$38))),\"\")","v":""},{"$f":"IF(ROWS($1:$39)<=COUNTIF(joueurs,$B33),INDEX(victoires,SMALL(IF(joueurs=$B33,ROW(INDIRECT(\"1:\"&ROWS(victoires)))),ROWS($1:$39))),\"\")","v":""},{"$f":"IF(ROWS($1:$40)<=COUNTIF(joueurs,$B33),INDEX(victoires,SMALL(IF(joueurs=$B33,ROW(INDIRECT(\"1:\"&ROWS(victoires)))),ROWS($1:$40))),\"\")","v":""}]
[9,{"$f":"INDEX(eleves,MATCH(A37,numero,0),MATCH($B$2,classes,0))","v":"Duncan"},null,{"$f":"IF(ROWS($1:$1)<=COUNTIF(joueurs,$B37),INDEX(fautes,SMALL(IF(joueurs=$B37,ROW(INDIRECT(\"1:\"&ROWS(fautes)))),ROWS($1:$1))),\"\")","v":""},{"$f":"IF(ROWS($1:$2)<=COUNTIF(joueurs,$B37),INDEX(fautes,SMALL(IF(joueurs=$B37,ROW(INDIRECT(\"1:\"&ROWS(fautes)))),ROWS($1:$2))),\"\")","v":""},{"$f":"IF(ROWS($1:$3)<=COUNTIF(joueurs,$B37),INDEX(fautes,SMALL(IF(joueurs=$B37,ROW(INDIRECT(\"1:\"&ROWS(fautes)))),ROWS($1:$3))),\"\")","v":""},{"$f":"IF(ROWS($1:$4)<=COUNTIF(joueurs,$B37),INDEX(fautes,SMALL(IF(joueurs=$B37,ROW(INDIRECT(\"1:\"&ROWS(fautes)))),ROWS($1:$4))),\"\")","v":""},{"$f":"IF(ROWS($1:$5)<=COUNTIF(joueurs,$B37),INDEX(fautes,SMALL(IF(joueurs=$B37,ROW(INDIRECT(\"1:\"&ROWS(fautes)))),ROWS($1:$5))),\"\")","v":""},{"$f":"IF(ROWS($1:$6)<=COUNTIF(joueurs,$B37),INDEX(fautes,SMALL(IF(joueurs=$B37,ROW(INDIRECT(\"1:\"&ROWS(fautes)))),ROWS($1:$6))),\"\")","v":""},{"$f":"IF(ROWS($1:$7)<=COUNTIF(joueurs,$B37),INDEX(fautes,SMALL(IF(joueurs=$B37,ROW(INDIRECT(\"1:\"&ROWS(fautes)))),ROWS($1:$7))),\"\")","v":""},{"$f":"IF(ROWS($1:$8)<=COUNTIF(joueurs,$B37),INDEX(fautes,SMALL(IF(joueurs=$B37,ROW(INDIRECT(\"1:\"&ROWS(fautes)))),ROWS($1:$8))),\"\")","v":""},{"$f":"IF(ROWS($1:$9)<=COUNTIF(joueurs,$B37),INDEX(fautes,SMALL(IF(joueurs=$B37,ROW(INDIRECT(\"1:\"&ROWS(fautes)))),ROWS($1:$9))),\"\")","v":""},{"$f":"IF(ROWS($1:$10)<=COUNTIF(joueurs,$B37),INDEX(fautes,SMALL(IF(joueurs=$B37,ROW(INDIRECT(\"1:\"&ROWS(fautes)))),ROWS($1:$10))),\"\")","v":""},{"$f":"IF(ROWS($1:$1)<=COUNTIF(joueurs,$B37),INDEX(ballonperdus,SMALL(IF(joueurs=$B37,ROW(INDIRECT(\"1:\"&ROWS(ballonperdus)))),ROWS($1:$1))),\"\")","v":""},{"$f":"IF(ROWS($1:$2)<=COUNTIF(joueurs,$B37),INDEX(ballonperdus,SMALL(IF(joueurs=$B37,ROW(INDIRECT(\"1:\"&ROWS(ballonperdus)))),ROWS($1:$2))),\"\")","v":""},{"$f":"IF(ROWS($1:$3)<=COUNTIF(joueurs,$B37),INDEX(ballonperdus,SMALL(IF(joueurs=$B37,ROW(INDIRECT(\"1:\"&ROWS(ballonperdus)))),ROWS($1:$3))),\"\")","v":""},{"$f":"IF(ROWS($1:$4)<=COUNTIF(joueurs,$B37),INDEX(ballonperdus,SMALL(IF(joueurs=$B37,ROW(INDIRECT(\"1:\"&ROWS(ballonperdus)))),ROWS($1:$4))),\"\")","v":""},{"$f":"IF(ROWS($1:$5)<=COUNTIF(joueurs,$B37),INDEX(ballonperdus,SMALL(IF(joueurs=$B37,ROW(INDIRECT(\"1:\"&ROWS(ballonperdus)))),ROWS($1:$5))),\"\")","v":""},{"$f":"IF(ROWS($1:$6)<=COUNTIF(joueurs,$B37),INDEX(ballonperdus,SMALL(IF(joueurs=$B37,ROW(INDIRECT(\"1:\"&ROWS(ballonperdus)))),ROWS($1:$6))),\"\")","v":""},{"$f":"IF(ROWS($1:$7)<=COUNTIF(joueurs,$B37),INDEX(ballonperdus,SMALL(IF(joueurs=$B37,ROW(INDIRECT(\"1:\"&ROWS(ballonperdus)))),ROWS($1:$7))),\"\")","v":""},{"$f":"IF(ROWS($1:$8)<=COUNTIF(joueurs,$B37),INDEX(ballonperdus,SMALL(IF(joueurs=$B37,ROW(INDIRECT(\"1:\"&ROWS(ballonperdus)))),ROWS($1:$8))),\"\")","v":""},{"$f":"IF(ROWS($1:$9)<=COUNTIF(joueurs,$B37),INDEX(ballonperdus,SMALL(IF(joueurs=$B37,ROW(INDIRECT(\"1:\"&ROWS(ballonperdus)))),ROWS($1:$9))),\"\")","v":""},{"$f":"IF(ROWS($1:$10)<=COUNTIF(joueurs,$B37),INDEX(ballonperdus,SMALL(IF(joueurs=$B37,ROW(INDIRECT(\"1:\"&ROWS(ballonperdus)))),ROWS($1:$10))),\"\")","v":""},{"$f":"IF(ROWS($1:$1)<=COUNTIF(joueurs,$B37),INDEX(interceptions,SMALL(IF(joueurs=$B37,ROW(INDIRECT(\"1:\"&ROWS(interceptions)))),ROWS($1:$1))),\"\")","v":""},{"$f":"IF(ROWS($1:$2)<=COUNTIF(joueurs,$B37),INDEX(interceptions,SMALL(IF(joueurs=$B37,ROW(INDIRECT(\"1:\"&ROWS(interceptions)))),ROWS($1:$2))),\"\")","v":""},{"$f":"IF(ROWS($1:$3)<=COUNTIF(joueurs,$B37),INDEX(interceptions,SMALL(IF(joueurs=$B37,ROW(INDIRECT(\"1:\"&ROWS(interceptions)))),ROWS($1:$3))),\"\")","v":""},{"$f":"IF(ROWS($1:$4)<=COUNTIF(joueurs,$B37),INDEX(interceptions,SMALL(IF(joueurs=$B37,ROW(INDIRECT(\"1:\"&ROWS(interceptions)))),ROWS($1:$4))),\"\")","v":""},{"$f":"IF(ROWS($1:$5)<=COUNTIF(joueurs,$B37),INDEX(interceptions,SMALL(IF(joueurs=$B37,ROW(INDIRECT(\"1:\"&ROWS(interceptions)))),ROWS($1:$5))),\"\")","v":""},{"$f":"IF(ROWS($1:$6)<=COUNTIF(joueurs,$B37),INDEX(interceptions,SMALL(IF(joueurs=$B37,ROW(INDIRECT(\"1:\"&ROWS(interceptions)))),ROWS($1:$6))),\"\")","v":""},{"$f":"IF(ROWS($1:$7)<=COUNTIF(joueurs,$B37),INDEX(interceptions,SMALL(IF(joueurs=$B37,ROW(INDIRECT(\"1:\"&ROWS(interceptions)))),ROWS($1:$7))),\"\")","v":""},{"$f":"IF(ROWS($1:$8)<=COUNTIF(joueurs,$B37),INDEX(interceptions,SMALL(IF(joueurs=$B37,ROW(INDIRECT(\"1:\"&ROWS(interceptions)))),ROWS($1:$8))),\"\")","v":""},{"$f":"IF(ROWS($1:$9)<=COUNTIF(joueurs,$B37),INDEX(interceptions,SMALL(IF(joueurs=$B37,ROW(INDIRECT(\"1:\"&ROWS(interceptions)))),ROWS($1:$9))),\"\")","v":""},{"$f":"IF(ROWS($1:$10)<=COUNTIF(joueurs,$B37),INDEX(interceptions,SMALL(IF(joueurs=$B37,ROW(INDIRECT(\"1:\"&ROWS(interceptions)))),ROWS($1:$10))),\"\")","v":""},{"$f":"IF(ROWS($1:$1)<=COUNTIF(joueurs,$B37),INDEX(ballonrecuperes,SMALL(IF(joueurs=$B37,ROW(INDIRECT(\"1:\"&ROWS(ballonrecuperes)))),ROWS($1:$1))),\"\")","v":""},{"$f":"IF(ROWS($1:$2)<=COUNTIF(joueurs,$B37),INDEX(ballonrecuperes,SMALL(IF(joueurs=$B37,ROW(INDIRECT(\"1:\"&ROWS(ballonrecuperes)))),ROWS($1:$2))),\"\")","v":""},{"$f":"IF(ROWS($1:$3)<=COUNTIF(joueurs,$B37),INDEX(ballonrecuperes,SMALL(IF(joueurs=$B37,ROW(INDIRECT(\"1:\"&ROWS(ballonrecuperes)))),ROWS($1:$3))),\"\")","v":""},{"$f":"IF(ROWS($1:$4)<=COUNTIF(joueurs,$B37),INDEX(ballonrecuperes,SMALL(IF(joueurs=$B37,ROW(INDIRECT(\"1:\"&ROWS(ballonrecuperes)))),ROWS($1:$4))),\"\")","v":""},{"$f":"IF(ROWS($1:$5)<=COUNTIF(joueurs,$B37),INDEX(ballonrecuperes,SMALL(IF(joueurs=$B37,ROW(INDIRECT(\"1:\"&ROWS(ballonrecuperes)))),ROWS($1:$5))),\"\")","v":""},{"$f":"IF(ROWS($1:$6)<=COUNTIF(joueurs,$B37),INDEX(ballonrecuperes,SMALL(IF(joueurs=$B37,ROW(INDIRECT(\"1:\"&ROWS(ballonrecuperes)))),ROWS($1:$6))),\"\")","v":""},{"$f":"IF(ROWS($1:$7)<=COUNTIF(joueurs,$B37),INDEX(ballonrecuperes,SMALL(IF(joueurs=$B37,ROW(INDIRECT(\"1:\"&ROWS(ballonrecuperes)))),ROWS($1:$7))),\"\")","v":""},{"$f":"IF(ROWS($1:$8)<=COUNTIF(joueurs,$B37),INDEX(ballonrecuperes,SMALL(IF(joueurs=$B37,ROW(INDIRECT(\"1:\"&ROWS(ballonrecuperes)))),ROWS($1:$8))),\"\")","v":""},{"$f":"IF(ROWS($1:$9)<=COUNTIF(joueurs,$B37),INDEX(ballonrecuperes,SMALL(IF(joueurs=$B37,ROW(INDIRECT(\"1:\"&ROWS(ballonrecuperes)))),ROWS($1:$9))),\"\")","v":""},{"$f":"IF(ROWS($1:$10)<=COUNTIF(joueurs,$B37),INDEX(ballonrecuperes,SMALL(IF(joueurs=$B37,ROW(INDIRECT(\"1:\"&ROWS(ballonrecuperes)))),ROWS($1:$10))),\"\")","v":""},{"$f":"IF(ROWS($1:$1)<=COUNTIF(joueurs,$B37),INDEX(tirs,SMALL(IF(joueurs=$B37,ROW(INDIRECT(\"1:\"&ROWS(tirs)))),ROWS($1:$1))),\"\")","v":""},{"$f":"IF(ROWS($1:$2)<=COUNTIF(joueurs,$B37),INDEX(tirs,SMALL(IF(joueurs=$B37,ROW(INDIRECT(\"1:\"&ROWS(tirs)))),ROWS($1:$2))),\"\")","v":""},{"$f":"IF(ROWS($1:$3)<=COUNTIF(joueurs,$B37),INDEX(tirs,SMALL(IF(joueurs=$B37,ROW(INDIRECT(\"1:\"&ROWS(tirs)))),ROWS($1:$3))),\"\")","v":""},{"$f":"IF(ROWS($1:$4)<=COUNTIF(joueurs,$B37),INDEX(tirs,SMALL(IF(joueurs=$B37,ROW(INDIRECT(\"1:\"&ROWS(tirs)))),ROWS($1:$4))),\"\")","v":""},{"$f":"IF(ROWS($1:$5)<=COUNTIF(joueurs,$B37),INDEX(tirs,SMALL(IF(joueurs=$B37,ROW(INDIRECT(\"1:\"&ROWS(tirs)))),ROWS($1:$5))),\"\")","v":""},{"$f":"IF(ROWS($1:$6)<=COUNTIF(joueurs,$B37),INDEX(tirs,SMALL(IF(joueurs=$B37,ROW(INDIRECT(\"1:\"&ROWS(tirs)))),ROWS($1:$6))),\"\")","v":""},{"$f":"IF(ROWS($1:$7)<=COUNTIF(joueurs,$B37),INDEX(tirs,SMALL(IF(joueurs=$B37,ROW(INDIRECT(\"1:\"&ROWS(tirs)))),ROWS($1:$7))),\"\")","v":""},{"$f":"IF(ROWS($1:$8)<=COUNTIF(joueurs,$B37),INDEX(tirs,SMALL(IF(joueurs=$B37,ROW(INDIRECT(\"1:\"&ROWS(tirs)))),ROWS($1:$8))),\"\")","v":""},{"$f":"IF(ROWS($1:$9)<=COUNTIF(joueurs,$B37),INDEX(tirs,SMALL(IF(joueurs=$B37,ROW(INDIRECT(\"1:\"&ROWS(tirs)))),ROWS($1:$9))),\"\")","v":""},{"$f":"IF(ROWS($1:$10)<=COUNTIF(joueurs,$B37),INDEX(tirs,SMALL(IF(joueurs=$B37,ROW(INDIRECT(\"1:\"&ROWS(tirs)))),ROWS($1:$10))),\"\")","v":""},{"$f":"IF(ROWS($1:$1)<=COUNTIF(joueurs,$B37),INDEX(bontirs,SMALL(IF(joueurs=$B37,ROW(INDIRECT(\"1:\"&ROWS(bontirs)))),ROWS($1:$1))),\"\")","v":""},{"$f":"IF(ROWS($1:$2)<=COUNTIF(joueurs,$B37),INDEX(bontirs,SMALL(IF(joueurs=$B37,ROW(INDIRECT(\"1:\"&ROWS(bontirs)))),ROWS($1:$2))),\"\")","v":""},{"$f":"IF(ROWS($1:$3)<=COUNTIF(joueurs,$B37),INDEX(bontirs,SMALL(IF(joueurs=$B37,ROW(INDIRECT(\"1:\"&ROWS(bontirs)))),ROWS($1:$3))),\"\")","v":""},{"$f":"IF(ROWS($1:$4)<=COUNTIF(joueurs,$B37),INDEX(bontirs,SMALL(IF(joueurs=$B37,ROW(INDIRECT(\"1:\"&ROWS(bontirs)))),ROWS($1:$4))),\"\")","v":""},{"$f":"IF(ROWS($1:$5)<=COUNTIF(joueurs,$B37),INDEX(bontirs,SMALL(IF(joueurs=$B37,ROW(INDIRECT(\"1:\"&ROWS(bontirs)))),ROWS($1:$5))),\"\")","v":""},{"$f":"IF(ROWS($1:$6)<=COUNTIF(joueurs,$B37),INDEX(bontirs,SMALL(IF(joueurs=$B37,ROW(INDIRECT(\"1:\"&ROWS(bontirs)))),ROWS($1:$6))),\"\")","v":""},{"$f":"IF(ROWS($1:$7)<=COUNTIF(joueurs,$B37),INDEX(bontirs,SMALL(IF(joueurs=$B37,ROW(INDIRECT(\"1:\"&ROWS(bontirs)))),ROWS($1:$7))),\"\")","v":""},{"$f":"IF(ROWS($1:$8)<=COUNTIF(joueurs,$B37),INDEX(bontirs,SMALL(IF(joueurs=$B37,ROW(INDIRECT(\"1:\"&ROWS(bontirs)))),ROWS($1:$8))),\"\")","v":""},{"$f":"IF(ROWS($1:$9)<=COUNTIF(joueurs,$B37),INDEX(bontirs,SMALL(IF(joueurs=$B37,ROW(INDIRECT(\"1:\"&ROWS(bontirs)))),ROWS($1:$9))),\"\")","v":""},{"$f":"IF(ROWS($1:$10)<=COUNTIF(joueurs,$B37),INDEX(bontirs,SMALL(IF(joueurs=$B37,ROW(INDIRECT(\"1:\"&ROWS(bontirs)))),ROWS($1:$10))),\"\")","v":""},{"$f":"IF(ROWS($1:$1)<=COUNTIF(joueurs,$B37),INDEX(points,SMALL(IF(joueurs=$B37,ROW(INDIRECT(\"1:\"&ROWS(points)))),ROWS($1:$1))),\"\")","v":""},{"$f":"IF(ROWS($1:$2)<=COUNTIF(joueurs,$B37),INDEX(points,SMALL(IF(joueurs=$B37,ROW(INDIRECT(\"1:\"&ROWS(points)))),ROWS($1:$2))),\"\")","v":""},{"$f":"IF(ROWS($1:$3)<=COUNTIF(joueurs,$B37),INDEX(points,SMALL(IF(joueurs=$B37,ROW(INDIRECT(\"1:\"&ROWS(points)))),ROWS($1:$3))),\"\")","v":""},{"$f":"IF(ROWS($1:$4)<=COUNTIF(joueurs,$B37),INDEX(points,SMALL(IF(joueurs=$B37,ROW(INDIRECT(\"1:\"&ROWS(points)))),ROWS($1:$4))),\"\")","v":""},{"$f":"IF(ROWS($1:$5)<=COUNTIF(joueurs,$B37),INDEX(points,SMALL(IF(joueurs=$B37,ROW(INDIRECT(\"1:\"&ROWS(points)))),ROWS($1:$5))),\"\")","v":""},{"$f":"IF(ROWS($1:$6)<=COUNTIF(joueurs,$B37),INDEX(points,SMALL(IF(joueurs=$B37,ROW(INDIRECT(\"1:\"&ROWS(points)))),ROWS($1:$6))),\"\")","v":""},{"$f":"IF(ROWS($1:$7)<=COUNTIF(joueurs,$B37),INDEX(points,SMALL(IF(joueurs=$B37,ROW(INDIRECT(\"1:\"&ROWS(points)))),ROWS($1:$7))),\"\")","v":""},{"$f":"IF(ROWS($1:$8)<=COUNTIF(joueurs,$B37),INDEX(points,SMALL(IF(joueurs=$B37,ROW(INDIRECT(\"1:\"&ROWS(points)))),ROWS($1:$8))),\"\")","v":""},{"$f":"IF(ROWS($1:$9)<=COUNTIF(joueurs,$B37),INDEX(points,SMALL(IF(joueurs=$B37,ROW(INDIRECT(\"1:\"&ROWS(points)))),ROWS($1:$9))),\"\")","v":""},{"$f":"IF(ROWS($1:$10)<=COUNTIF(joueurs,$B37),INDEX(points,SMALL(IF(joueurs=$B37,ROW(INDIRECT(\"1:\"&ROWS(points)))),ROWS($1:$10))),\"\")","v":""},{"$f":"IF(ROWS($1:$1)<=COUNTIF(joueurs,$B37),INDEX(victoires,SMALL(IF(joueurs=$B37,ROW(INDIRECT(\"1:\"&ROWS(victoires)))),ROWS($1:$1))),\"\")","v":""},{"$f":"IF(ROWS($1:$2)<=COUNTIF(joueurs,$B37),INDEX(victoires,SMALL(IF(joueurs=$B37,ROW(INDIRECT(\"1:\"&ROWS(victoires)))),ROWS($1:$2))),\"\")","v":""},{"$f":"IF(ROWS($1:$3)<=COUNTIF(joueurs,$B37),INDEX(victoires,SMALL(IF(joueurs=$B37,ROW(INDIRECT(\"1:\"&ROWS(victoires)))),ROWS($1:$3))),\"\")","v":""},{"$f":"IF(ROWS($1:$4)<=COUNTIF(joueurs,$B37),INDEX(victoires,SMALL(IF(joueurs=$B37,ROW(INDIRECT(\"1:\"&ROWS(victoires)))),ROWS($1:$4))),\"\")","v":""},{"$f":"IF(ROWS($1:$5)<=COUNTIF(joueurs,$B37),INDEX(victoires,SMALL(IF(joueurs=$B37,ROW(INDIRECT(\"1:\"&ROWS(victoires)))),ROWS($1:$5))),\"\")","v":""},{"$f":"IF(ROWS($1:$6)<=COUNTIF(joueurs,$B37),INDEX(victoires,SMALL(IF(joueurs=$B37,ROW(INDIRECT(\"1:\"&ROWS(victoires)))),ROWS($1:$6))),\"\")","v":""},{"$f":"IF(ROWS($1:$7)<=COUNTIF(joueurs,$B37),INDEX(victoires,SMALL(IF(joueurs=$B37,ROW(INDIRECT(\"1:\"&ROWS(victoires)))),ROWS($1:$7))),\"\")","v":""},{"$f":"IF(ROWS($1:$8)<=COUNTIF(joueurs,$B37),INDEX(victoires,SMALL(IF(joueurs=$B37,ROW(INDIRECT(\"1:\"&ROWS(victoires)))),ROWS($1:$8))),\"\")","v":""},{"$f":"IF(ROWS($1:$9)<=COUNTIF(joueurs,$B37),INDEX(victoires,SMALL(IF(joueurs=$B37,ROW(INDIRECT(\"1:\"&ROWS(victoires)))),ROWS($1:$9))),\"\")","v":""},{"$f":"IF(ROWS($1:$10)<=COUNTIF(joueurs,$B37),INDEX(victoires,SMALL(IF(joueurs=$B37,ROW(INDIRECT(\"1:\"&ROWS(victoires)))),ROWS($1:$10))),\"\")","v":""}]
[null,null,null,{"$f":"IF(ROWS($1:$11)<=COUNTIF(joueurs,$B37),INDEX(fautes,SMALL(IF(joueurs=$B37,ROW(INDIRECT(\"1:\"&ROWS(fautes)))),ROWS($1:$11))),\"\")","v":""},{"$f":"IF(ROWS($1:$12)<=COUNTIF(joueurs,$B37),INDEX(fautes,SMALL(IF(joueurs=$B37,ROW(INDIRECT(\"1:\"&ROWS(fautes)))),ROWS($1:$12))),\"\")","v":""},{"$f":"IF(ROWS($1:$13)<=COUNTIF(joueurs,$B37),INDEX(fautes,SMALL(IF(joueurs=$B37,ROW(INDIRECT(\"1:\"&ROWS(fautes)))),ROWS($1:$13))),\"\")","v":""},{"$f":"IF(ROWS($1:$14)<=COUNTIF(joueurs,$B37),INDEX(fautes,SMALL(IF(joueurs=$B37,ROW(INDIRECT(\"1:\"&ROWS(fautes)))),ROWS($1:$14))),\"\")","v":""},{"$f":"IF(ROWS($1:$15)<=COUNTIF(joueurs,$B37),INDEX(fautes,SMALL(IF(joueurs=$B37,ROW(INDIRECT(\"1:\"&ROWS(fautes)))),ROWS($1:$15))),\"\")","v":""},{"$f":"IF(ROWS($1:$16)<=COUNTIF(joueurs,$B37),INDEX(fautes,SMALL(IF(joueurs=$B37,ROW(INDIRECT(\"1:\"&ROWS(fautes)))),ROWS($1:$16))),\"\")","v":""},{"$f":"IF(ROWS($1:$17)<=COUNTIF(joueurs,$B37),INDEX(fautes,SMALL(IF(joueurs=$B37,ROW(INDIRECT(\"1:\"&ROWS(fautes)))),ROWS($1:$17))),\"\")","v":""},{"$f":"IF(ROWS($1:$18)<=COUNTIF(joueurs,$B37),INDEX(fautes,SMALL(IF(joueurs=$B37,ROW(INDIRECT(\"1:\"&ROWS(fautes)))),ROWS($1:$18))),\"\")","v":""},{"$f":"IF(ROWS($1:$19)<=COUNTIF(joueurs,$B37),INDEX(fautes,SMALL(IF(joueurs=$B37,ROW(INDIRECT(\"1:\"&ROWS(fautes)))),ROWS($1:$19))),\"\")","v":""},{"$f":"IF(ROWS($1:$20)<=COUNTIF(joueurs,$B37),INDEX(fautes,SMALL(IF(joueurs=$B37,ROW(INDIRECT(\"1:\"&ROWS(fautes)))),ROWS($1:$20))),\"\")","v":""},{"$f":"IF(ROWS($1:$11)<=COUNTIF(joueurs,$B37),INDEX(ballonperdus,SMALL(IF(joueurs=$B37,ROW(INDIRECT(\"1:\"&ROWS(ballonperdus)))),ROWS($1:$11))),\"\")","v":""},{"$f":"IF(ROWS($1:$12)<=COUNTIF(joueurs,$B37),INDEX(ballonperdus,SMALL(IF(joueurs=$B37,ROW(INDIRECT(\"1:\"&ROWS(ballonperdus)))),ROWS($1:$12))),\"\")","v":""},{"$f":"IF(ROWS($1:$13)<=COUNTIF(joueurs,$B37),INDEX(ballonperdus,SMALL(IF(joueurs=$B37,ROW(INDIRECT(\"1:\"&ROWS(ballonperdus)))),ROWS($1:$13))),\"\")","v":""},{"$f":"IF(ROWS($1:$14)<=COUNTIF(joueurs,$B37),INDEX(ballonperdus,SMALL(IF(joueurs=$B37,ROW(INDIRECT(\"1:\"&ROWS(ballonperdus)))),ROWS($1:$14))),\"\")","v":""},{"$f":"IF(ROWS($1:$15)<=COUNTIF(joueurs,$B37),INDEX(ballonperdus,SMALL(IF(joueurs=$B37,ROW(INDIRECT(\"1:\"&ROWS(ballonperdus)))),ROWS($1:$15))),\"\")","v":""},{"$f":"IF(ROWS($1:$16)<=COUNTIF(joueurs,$B37),INDEX(ballonperdus,SMALL(IF(joueurs=$B37,ROW(INDIRECT(\"1:\"&ROWS(ballonperdus)))),ROWS($1:$16))),\"\")","v":""},{"$f":"IF(ROWS($1:$17)<=COUNTIF(joueurs,$B37),INDEX(ballonperdus,SMALL(IF(joueurs=$B37,ROW(INDIRECT(\"1:\"&ROWS(ballonperdus)))),ROWS($1:$17))),\"\")","v":""},{"$f":"IF(ROWS($1:$18)<=COUNTIF(joueurs,$B37),INDEX(ballonperdus,SMALL(IF(joueurs=$B37,ROW(INDIRECT(\"1:\"&ROWS(ballonperdus)))),ROWS($1:$18))),\"\")","v":""},{"$f":"IF(ROWS($1:$19)<=COUNTIF(joueurs,$B37),INDEX(ballonperdus,SMALL(IF(joueurs=$B37,ROW(INDIRECT(\"1:\"&ROWS(ballonperdus)))),ROWS($1:$19))),\"\")","v":""},{"$f":"IF(ROWS($1:$20)<=COUNTIF(joueurs,$B37),INDEX(fautes,SMALL(IF(joueurs=$B37,ROW(INDIRECT(\"1:\"&ROWS(ballonperdus)))),ROWS($1:$20))),\"\")","v":""},{"$f":"IF(ROWS($1:$11)<=COUNTIF(joueurs,$B37),INDEX(interceptions,SMALL(IF(joueurs=$B37,ROW(INDIRECT(\"1:\"&ROWS(interceptions)))),ROWS($1:$11))),\"\")","v":""},{"$f":"IF(ROWS($1:$12)<=COUNTIF(joueurs,$B37),INDEX(interceptions,SMALL(IF(joueurs=$B37,ROW(INDIRECT(\"1:\"&ROWS(interceptions)))),ROWS($1:$12))),\"\")","v":""},{"$f":"IF(ROWS($1:$13)<=COUNTIF(joueurs,$B37),INDEX(interceptions,SMALL(IF(joueurs=$B37,ROW(INDIRECT(\"1:\"&ROWS(interceptions)))),ROWS($1:$13))),\"\")","v":""},{"$f":"IF(ROWS($1:$14)<=COUNTIF(joueurs,$B37),INDEX(interceptions,SMALL(IF(joueurs=$B37,ROW(INDIRECT(\"1:\"&ROWS(interceptions)))),ROWS($1:$14))),\"\")","v":""},{"$f":"IF(ROWS($1:$15)<=COUNTIF(joueurs,$B37),INDEX(interceptions,SMALL(IF(joueurs=$B37,ROW(INDIRECT(\"1:\"&ROWS(interceptions)))),ROWS($1:$15))),\"\")","v":""},{"$f":"IF(ROWS($1:$16)<=COUNTIF(joueurs,$B37),INDEX(interceptions,SMALL(IF(joueurs=$B37,ROW(INDIRECT(\"1:\"&ROWS(interceptions)))),ROWS($1:$16))),\"\")","v":""},{"$f":"IF(ROWS($1:$17)<=COUNTIF(joueurs,$B37),INDEX(interceptions,SMALL(IF(joueurs=$B37,ROW(INDIRECT(\"1:\"&ROWS(interceptions)))),ROWS($1:$17))),\"\")","v":""},{"$f":"IF(ROWS($1:$18)<=COUNTIF(joueurs,$B37),INDEX(interceptions,SMALL(IF(joueurs=$B37,ROW(INDIRECT(\"1:\"&ROWS(interceptions)))),ROWS($1:$18))),\"\")","v":""},{"$f":"IF(ROWS($1:$19)<=COUNTIF(joueurs,$B37),INDEX(interceptions,SMALL(IF(joueurs=$B37,ROW(INDIRECT(\"1:\"&ROWS(interceptions)))),ROWS($1:$19))),\"\")","v":""},{"$f":"IF(ROWS($1:$20)<=COUNTIF(joueurs,$B37),INDEX(interceptions,SMALL(IF(joueurs=$B37,ROW(INDIRECT(\"1:\"&ROWS(interceptions)))),ROWS($1:$20))),\"\")","v":""},{"$f":"IF(ROWS($1:$11)<=COUNTIF(joueurs,$B37),INDEX(ballonrecuperes,SMALL(IF(joueurs=$B37,ROW(INDIRECT(\"1:\"&ROWS(ballonrecuperes)))),ROWS($1:$11))),\"\")","v":""},{"$f":"IF(ROWS($1:$12)<=COUNTIF(joueurs,$B37),INDEX(ballonrecuperes,SMALL(IF(joueurs=$B37,ROW(INDIRECT(\"1:\"&ROWS(ballonrecuperes)))),ROWS($1:$12))),\"\")","v":""},{"$f":"IF(ROWS($1:$13)<=COUNTIF(joueurs,$B37),INDEX(ballonrecuperes,SMALL(IF(joueurs=$B37,ROW(INDIRECT(\"1:\"&ROWS(ballonrecuperes)))),ROWS($1:$13))),\"\")","v":""},{"$f":"IF(ROWS($1:$14)<=COUNTIF(joueurs,$B37),INDEX(ballonrecuperes,SMALL(IF(joueurs=$B37,ROW(INDIRECT(\"1:\"&ROWS(ballonrecuperes)))),ROWS($1:$14))),\"\")","v":""},{"$f":"IF(ROWS($1:$15)<=COUNTIF(joueurs,$B37),INDEX(ballonrecuperes,SMALL(IF(joueurs=$B37,ROW(INDIRECT(\"1:\"&ROWS(ballonrecuperes)))),ROWS($1:$15))),\"\")","v":""},{"$f":"IF(ROWS($1:$16)<=COUNTIF(joueurs,$B37),INDEX(ballonrecuperes,SMALL(IF(joueurs=$B37,ROW(INDIRECT(\"1:\"&ROWS(ballonrecuperes)))),ROWS($1:$16))),\"\")","v":""},{"$f":"IF(ROWS($1:$17)<=COUNTIF(joueurs,$B37),INDEX(ballonrecuperes,SMALL(IF(joueurs=$B37,ROW(INDIRECT(\"1:\"&ROWS(ballonrecuperes)))),ROWS($1:$17))),\"\")","v":""},{"$f":"IF(ROWS($1:$18)<=COUNTIF(joueurs,$B37),INDEX(ballonrecuperes,SMALL(IF(joueurs=$B37,ROW(INDIRECT(\"1:\"&ROWS(ballonrecuperes)))),ROWS($1:$18))),\"\")","v":""},{"$f":"IF(ROWS($1:$19)<=COUNTIF(joueurs,$B37),INDEX(ballonrecuperes,SMALL(IF(joueurs=$B37,ROW(INDIRECT(\"1:\"&ROWS(ballonrecuperes)))),ROWS($1:$19))),\"\")","v":""},{"$f":"IF(ROWS($1:$20)<=COUNTIF(joueurs,$B37),INDEX(ballonrecuperes,SMALL(IF(joueurs=$B37,ROW(INDIRECT(\"1:\"&ROWS(ballonrecuperes)))),ROWS($1:$20))),\"\")","v":""},{"$f":"IF(ROWS($1:$11)<=COUNTIF(joueurs,$B37),INDEX(tirs,SMALL(IF(joueurs=$B37,ROW(INDIRECT(\"1:\"&ROWS(tirs)))),ROWS($1:$11))),\"\")","v":""},{"$f":"IF(ROWS($1:$12)<=COUNTIF(joueurs,$B37),INDEX(tirs,SMALL(IF(joueurs=$B37,ROW(INDIRECT(\"1:\"&ROWS(tirs)))),ROWS($1:$12))),\"\")","v":""},{"$f":"IF(ROWS($1:$13)<=COUNTIF(joueurs,$B37),INDEX(tirs,SMALL(IF(joueurs=$B37,ROW(INDIRECT(\"1:\"&ROWS(tirs)))),ROWS($1:$13))),\"\")","v":""},{"$f":"IF(ROWS($1:$14)<=COUNTIF(joueurs,$B37),INDEX(tirs,SMALL(IF(joueurs=$B37,ROW(INDIRECT(\"1:\"&ROWS(tirs)))),ROWS($1:$14))),\"\")","v":""},{"$f":"IF(ROWS($1:$15)<=COUNTIF(joueurs,$B37),INDEX(tirs,SMALL(IF(joueurs=$B37,ROW(INDIRECT(\"1:\"&ROWS(tirs)))),ROWS($1:$15))),\"\")","v":""},{"$f":"IF(ROWS($1:$16)<=COUNTIF(joueurs,$B37),INDEX(tirs,SMALL(IF(joueurs=$B37,ROW(INDIRECT(\"1:\"&ROWS(tirs)))),ROWS($1:$16))),\"\")","v":""},{"$f":"IF(ROWS($1:$17)<=COUNTIF(joueurs,$B37),INDEX(tirs,SMALL(IF(joueurs=$B37,ROW(INDIRECT(\"1:\"&ROWS(tirs)))),ROWS($1:$17))),\"\")","v":""},{"$f":"IF(ROWS($1:$18)<=COUNTIF(joueurs,$B37),INDEX(tirs,SMALL(IF(joueurs=$B37,ROW(INDIRECT(\"1:\"&ROWS(tirs)))),ROWS($1:$18))),\"\")","v":""},{"$f":"IF(ROWS($1:$19)<=COUNTIF(joueurs,$B37),INDEX(tirs,SMALL(IF(joueurs=$B37,ROW(INDIRECT(\"1:\"&ROWS(tirs)))),ROWS($1:$19))),\"\")","v":""},{"$f":"IF(ROWS($1:$20)<=COUNTIF(joueurs,$B37),INDEX(tirs,SMALL(IF(joueurs=$B37,ROW(INDIRECT(\"1:\"&ROWS(tirs)))),ROWS($1:$20))),\"\")","v":""},{"$f":"IF(ROWS($1:$11)<=COUNTIF(joueurs,$B37),INDEX(bontirs,SMALL(IF(joueurs=$B37,ROW(INDIRECT(\"1:\"&ROWS(bontirs)))),ROWS($1:$11))),\"\")","v":""},{"$f":"IF(ROWS($1:$12)<=COUNTIF(joueurs,$B37),INDEX(bontirs,SMALL(IF(joueurs=$B37,ROW(INDIRECT(\"1:\"&ROWS(bontirs)))),ROWS($1:$12))),\"\")","v":""},{"$f":"IF(ROWS($1:$13)<=COUNTIF(joueurs,$B37),INDEX(bontirs,SMALL(IF(joueurs=$B37,ROW(INDIRECT(\"1:\"&ROWS(bontirs)))),ROWS($1:$13))),\"\")","v":""},{"$f":"IF(ROWS($1:$14)<=COUNTIF(joueurs,$B37),INDEX(bontirs,SMALL(IF(joueurs=$B37,ROW(INDIRECT(\"1:\"&ROWS(bontirs)))),ROWS($1:$14))),\"\")","v":""},{"$f":"IF(ROWS($1:$15)<=COUNTIF(joueurs,$B37),INDEX(bontirs,SMALL(IF(joueurs=$B37,ROW(INDIRECT(\"1:\"&ROWS(bontirs)))),ROWS($1:$15))),\"\")","v":""},{"$f":"IF(ROWS($1:$16)<=COUNTIF(joueurs,$B37),INDEX(bontirs,SMALL(IF(joueurs=$B37,ROW(INDIRECT(\"1:\"&ROWS(bontirs)))),ROWS($1:$16))),\"\")","v":""},{"$f":"IF(ROWS($1:$17)<=COUNTIF(joueurs,$B37),INDEX(bontirs,SMALL(IF(joueurs=$B37,ROW(INDIRECT(\"1:\"&ROWS(bontirs)))),ROWS($1:$17))),\"\")","v":""},{"$f":"IF(ROWS($1:$18)<=COUNTIF(joueurs,$B37),INDEX(bontirs,SMALL(IF(joueurs=$B37,ROW(INDIRECT(\"1:\"&ROWS(bontirs)))),ROWS($1:$18))),\"\")","v":""},{"$f":"IF(ROWS($1:$19)<=COUNTIF(joueurs,$B37),INDEX(bontirs,SMALL(IF(joueurs=$B37,ROW(INDIRECT(\"1:\"&ROWS(bontirs)))),ROWS($1:$19))),\"\")","v":""},{"$f":"IF(ROWS($1:$20)<=COUNTIF(joueurs,$B37),INDEX(bontirs,SMALL(IF(joueurs=$B37,ROW(INDIRECT(\"1:\"&ROWS(bontirs)))),ROWS($1:$20))),\"\")","v":""},{"$f":"IF(ROWS($1:$11)<=COUNTIF(joueurs,$B37),INDEX(points,SMALL(IF(joueurs=$B37,ROW(INDIRECT(\"1:\"&ROWS(points)))),ROWS($1:$11))),\"\")","v":""},{"$f":"IF(ROWS($1:$12)<=COUNTIF(joueurs,$B37),INDEX(points,SMALL(IF(joueurs=$B37,ROW(INDIRECT(\"1:\"&ROWS(points)))),ROWS($1:$12))),\"\")","v":""},{"$f":"IF(ROWS($1:$13)<=COUNTIF(joueurs,$B37),INDEX(points,SMALL(IF(joueurs=$B37,ROW(INDIRECT(\"1:\"&ROWS(points)))),ROWS($1:$13))),\"\")","v":""},{"$f":"IF(ROWS($1:$14)<=COUNTIF(joueurs,$B37),INDEX(points,SMALL(IF(joueurs=$B37,ROW(INDIRECT(\"1:\"&ROWS(points)))),ROWS($1:$14))),\"\")","v":""},{"$f":"IF(ROWS($1:$15)<=COUNTIF(joueurs,$B37),INDEX(points,SMALL(IF(joueurs=$B37,ROW(INDIRECT(\"1:\"&ROWS(points)))),ROWS($1:$15))),\"\")","v":""},{"$f":"IF(ROWS($1:$16)<=COUNTIF(joueurs,$B37),INDEX(points,SMALL(IF(joueurs=$B37,ROW(INDIRECT(\"1:\"&ROWS(points)))),ROWS($1:$16))),\"\")","v":""},{"$f":"IF(ROWS($1:$17)<=COUNTIF(joueurs,$B37),INDEX(points,SMALL(IF(joueurs=$B37,ROW(INDIRECT(\"1:\"&ROWS(points)))),ROWS($1:$17))),\"\")","v":""},{"$f":"IF(ROWS($1:$18)<=COUNTIF(joueurs,$B37),INDEX(points,SMALL(IF(joueurs=$B37,ROW(INDIRECT(\"1:\"&ROWS(points)))),ROWS($1:$18))),\"\")","v":""},{"$f":"IF(ROWS($1:$19)<=COUNTIF(joueurs,$B37),INDEX(points,SMALL(IF(joueurs=$B37,ROW(INDIRECT(\"1:\"&ROWS(points)))),ROWS($1:$19))),\"\")","v":""},{"$f":"IF(ROWS($1:$20)<=COUNTIF(points,$B37),INDEX(fautes,SMALL(IF(joueurs=$B37,ROW(INDIRECT(\"1:\"&ROWS(points)))),ROWS($1:$20))),\"\")","v":""},{"$f":"IF(ROWS($1:$11)<=COUNTIF(joueurs,$B37),INDEX(victoires,SMALL(IF(joueurs=$B37,ROW(INDIRECT(\"1:\"&ROWS(victoires)))),ROWS($1:$11))),\"\")","v":""},{"$f":"IF(ROWS($1:$12)<=COUNTIF(joueurs,$B37),INDEX(victoires,SMALL(IF(joueurs=$B37,ROW(INDIRECT(\"1:\"&ROWS(victoires)))),ROWS($1:$12))),\"\")","v":""},{"$f":"IF(ROWS($1:$13)<=COUNTIF(joueurs,$B37),INDEX(victoires,SMALL(IF(joueurs=$B37,ROW(INDIRECT(\"1:\"&ROWS(victoires)))),ROWS($1:$13))),\"\")","v":""},{"$f":"IF(ROWS($1:$14)<=COUNTIF(joueurs,$B37),INDEX(victoires,SMALL(IF(joueurs=$B37,ROW(INDIRECT(\"1:\"&ROWS(victoires)))),ROWS($1:$14))),\"\")","v":""},{"$f":"IF(ROWS($1:$15)<=COUNTIF(joueurs,$B37),INDEX(victoires,SMALL(IF(joueurs=$B37,ROW(INDIRECT(\"1:\"&ROWS(victoires)))),ROWS($1:$15))),\"\")","v":""},{"$f":"IF(ROWS($1:$16)<=COUNTIF(joueurs,$B37),INDEX(victoires,SMALL(IF(joueurs=$B37,ROW(INDIRECT(\"1:\"&ROWS(victoires)))),ROWS($1:$16))),\"\")","v":""},{"$f":"IF(ROWS($1:$17)<=COUNTIF(joueurs,$B37),INDEX(victoires,SMALL(IF(joueurs=$B37,ROW(INDIRECT(\"1:\"&ROWS(victoires)))),ROWS($1:$17))),\"\")","v":""},{"$f":"IF(ROWS($1:$18)<=COUNTIF(joueurs,$B37),INDEX(victoires,SMALL(IF(joueurs=$B37,ROW(INDIRECT(\"1:\"&ROWS(victoires)))),ROWS($1:$18))),\"\")","v":""},{"$f":"IF(ROWS($1:$19)<=COUNTIF(joueurs,$B37),INDEX(victoires,SMALL(IF(joueurs=$B37,ROW(INDIRECT(\"1:\"&ROWS(victoires)))),ROWS($1:$19))),\"\")","v":""},{"$f":"IF(ROWS($1:$20)<=COUNTIF(joueurs,$B37),INDEX(victoires,SMALL(IF(joueurs=$B37,ROW(INDIRECT(\"1:\"&ROWS(victoires)))),ROWS($1:$20))),\"\")","v":""}]
[null,null,null,{"$f":"IF(ROWS($1:$21)<=COUNTIF(joueurs,$B37),INDEX(fautes,SMALL(IF(joueurs=$B37,ROW(INDIRECT(\"1:\"&ROWS(fautes)))),ROWS($1:$21))),\"\")","v":""},{"$f":"IF(ROWS($1:$22)<=COUNTIF(joueurs,$B37),INDEX(fautes,SMALL(IF(joueurs=$B37,ROW(INDIRECT(\"1:\"&ROWS(fautes)))),ROWS($1:$22))),\"\")","v":""},{"$f":"IF(ROWS($1:$23)<=COUNTIF(joueurs,$B37),INDEX(fautes,SMALL(IF(joueurs=$B37,ROW(INDIRECT(\"1:\"&ROWS(fautes)))),ROWS($1:$23))),\"\")","v":""},{"$f":"IF(ROWS($1:$24)<=COUNTIF(joueurs,$B37),INDEX(fautes,SMALL(IF(joueurs=$B37,ROW(INDIRECT(\"1:\"&ROWS(fautes)))),ROWS($1:$24))),\"\")","v":""},{"$f":"IF(ROWS($1:$25)<=COUNTIF(joueurs,$B37),INDEX(fautes,SMALL(IF(joueurs=$B37,ROW(INDIRECT(\"1:\"&ROWS(fautes)))),ROWS($1:$25))),\"\")","v":""},{"$f":"IF(ROWS($1:$26)<=COUNTIF(joueurs,$B37),INDEX(fautes,SMALL(IF(joueurs=$B37,ROW(INDIRECT(\"1:\"&ROWS(fautes)))),ROWS($1:$26))),\"\")","v":""},{"$f":"IF(ROWS($1:$27)<=COUNTIF(joueurs,$B37),INDEX(fautes,SMALL(IF(joueurs=$B37,ROW(INDIRECT(\"1:\"&ROWS(fautes)))),ROWS($1:$27))),\"\")","v":""},{"$f":"IF(ROWS($1:$28)<=COUNTIF(joueurs,$B37),INDEX(fautes,SMALL(IF(joueurs=$B37,ROW(INDIRECT(\"1:\"&ROWS(fautes)))),ROWS($1:$28))),\"\")","v":""},{"$f":"IF(ROWS($1:$29)<=COUNTIF(joueurs,$B37),INDEX(fautes,SMALL(IF(joueurs=$B37,ROW(INDIRECT(\"1:\"&ROWS(fautes)))),ROWS($1:$29))),\"\")","v":""},{"$f":"IF(ROWS($1:$30)<=COUNTIF(joueurs,$B37),INDEX(fautes,SMALL(IF(joueurs=$B37,ROW(INDIRECT(\"1:\"&ROWS(fautes)))),ROWS($1:$30))),\"\")","v":""},{"$f":"IF(ROWS($1:$21)<=COUNTIF(joueurs,$B37),INDEX(ballonperdus,SMALL(IF(joueurs=$B37,ROW(INDIRECT(\"1:\"&ROWS(ballonperdus)))),ROWS($1:$21))),\"\")","v":""},{"$f":"IF(ROWS($1:$22)<=COUNTIF(joueurs,$B37),INDEX(ballonperdus,SMALL(IF(joueurs=$B37,ROW(INDIRECT(\"1:\"&ROWS(ballonperdus)))),ROWS($1:$22))),\"\")","v":""},{"$f":"IF(ROWS($1:$23)<=COUNTIF(joueurs,$B37),INDEX(ballonperdus,SMALL(IF(joueurs=$B37,ROW(INDIRECT(\"1:\"&ROWS(ballonperdus)))),ROWS($1:$23))),\"\")","v":""},{"$f":"IF(ROWS($1:$24)<=COUNTIF(joueurs,$B37),INDEX(ballonperdus,SMALL(IF(joueurs=$B37,ROW(INDIRECT(\"1:\"&ROWS(ballonperdus)))),ROWS($1:$24))),\"\")","v":""},{"$f":"IF(ROWS($1:$25)<=COUNTIF(joueurs,$B37),INDEX(ballonperdus,SMALL(IF(joueurs=$B37,ROW(INDIRECT(\"1:\"&ROWS(ballonperdus)))),ROWS($1:$25))),\"\")","v":""},{"$f":"IF(ROWS($1:$26)<=COUNTIF(joueurs,$B37),INDEX(ballonperdus,SMALL(IF(joueurs=$B37,ROW(INDIRECT(\"1:\"&ROWS(ballonperdus)))),ROWS($1:$26))),\"\")","v":""},{"$f":"IF(ROWS($1:$27)<=COUNTIF(joueurs,$B37),INDEX(ballonperdus,SMALL(IF(joueurs=$B37,ROW(INDIRECT(\"1:\"&ROWS(ballonperdus)))),ROWS($1:$27))),\"\")","v":""},{"$f":"IF(ROWS($1:$28)<=COUNTIF(joueurs,$B37),INDEX(ballonperdus,SMALL(IF(joueurs=$B37,ROW(INDIRECT(\"1:\"&ROWS(ballonperdus)))),ROWS($1:$28))),\"\")","v":""},{"$f":"IF(ROWS($1:$29)<=COUNTIF(joueurs,$B37),INDEX(ballonperdus,SMALL(IF(joueurs=$B37,ROW(INDIRECT(\"1:\"&ROWS(ballonperdus)))),ROWS($1:$29))),\"\")","v":""},{"$f":"IF(ROWS($1:$30)<=COUNTIF(joueurs,$B37),INDEX(ballonperdus,SMALL(IF(joueurs=$B37,ROW(INDIRECT(\"1:\"&ROWS(ballonperdus)))),ROWS($1:$30))),\"\")","v":""},{"$f":"IF(ROWS($1:$21)<=COUNTIF(joueurs,$B37),INDEX(interceptions,SMALL(IF(joueurs=$B37,ROW(INDIRECT(\"1:\"&ROWS(interceptions)))),ROWS($1:$21))),\"\")","v":""},{"$f":"IF(ROWS($1:$22)<=COUNTIF(joueurs,$B37),INDEX(interceptions,SMALL(IF(joueurs=$B37,ROW(INDIRECT(\"1:\"&ROWS(interceptions)))),ROWS($1:$22))),\"\")","v":""},{"$f":"IF(ROWS($1:$23)<=COUNTIF(joueurs,$B37),INDEX(interceptions,SMALL(IF(joueurs=$B37,ROW(INDIRECT(\"1:\"&ROWS(interceptions)))),ROWS($1:$23))),\"\")","v":""},{"$f":"IF(ROWS($1:$24)<=COUNTIF(joueurs,$B37),INDEX(interceptions,SMALL(IF(joueurs=$B37,ROW(INDIRECT(\"1:\"&ROWS(interceptions)))),ROWS($1:$24))),\"\")","v":""},{"$f":"IF(ROWS($1:$25)<=COUNTIF(joueurs,$B37),INDEX(interceptions,SMALL(IF(joueurs=$B37,ROW(INDIRECT(\"1:\"&ROWS(interceptions)))),ROWS($1:$25))),\"\")","v":""},{"$f":"IF(ROWS($1:$26)<=COUNTIF(joueurs,$B37),INDEX(interceptions,SMALL(IF(joueurs=$B37,ROW(INDIRECT(\"1:\"&ROWS(interceptions)))),ROWS($1:$26))),\"\")","v":""},{"$f":"IF(ROWS($1:$27)<=COUNTIF(joueurs,$B37),INDEX(interceptions,SMALL(IF(joueurs=$B37,ROW(INDIRECT(\"1:\"&ROWS(interceptions)))),ROWS($1:$27))),\"\")","v":""},{"$f":"IF(ROWS($1:$28)<=COUNTIF(joueurs,$B37),INDEX(interceptions,SMALL(IF(joueurs=$B37,ROW(INDIRECT(\"1:\"&ROWS(interceptions)))),ROWS($1:$28))),\"\")","v":""},{"$f":"IF(ROWS($1:$29)<=COUNTIF(joueurs,$B37),INDEX(interceptions,SMALL(IF(joueurs=$B37,ROW(INDIRECT(\"1:\"&ROWS(interceptions)))),ROWS($1:$29))),\"\")","v":""},{"$f":"IF(ROWS($1:$30)<=COUNTIF(joueurs,$B37),INDEX(interceptions,SMALL(IF(joueurs=$B37,ROW(INDIRECT(\"1:\"&ROWS(interceptions)))),ROWS($1:$30))),\"\")","v":""},{"$f":"IF(ROWS($1:$21)<=COUNTIF(joueurs,$B37),INDEX(ballonrecuperes,SMALL(IF(joueurs=$B37,ROW(INDIRECT(\"1:\"&ROWS(ballonrecuperes)))),ROWS($1:$21))),\"\")","v":""},{"$f":"IF(ROWS($1:$22)<=COUNTIF(joueurs,$B37),INDEX(ballonrecuperes,SMALL(IF(joueurs=$B37,ROW(INDIRECT(\"1:\"&ROWS(ballonrecuperes)))),ROWS($1:$22))),\"\")","v":""},{"$f":"IF(ROWS($1:$23)<=COUNTIF(joueurs,$B37),INDEX(ballonrecuperes,SMALL(IF(joueurs=$B37,ROW(INDIRECT(\"1:\"&ROWS(ballonrecuperes)))),ROWS($1:$23))),\"\")","v":""},{"$f":"IF(ROWS($1:$24)<=COUNTIF(joueurs,$B37),INDEX(ballonrecuperes,SMALL(IF(joueurs=$B37,ROW(INDIRECT(\"1:\"&ROWS(ballonrecuperes)))),ROWS($1:$24))),\"\")","v":""},{"$f":"IF(ROWS($1:$25)<=COUNTIF(joueurs,$B37),INDEX(ballonrecuperes,SMALL(IF(joueurs=$B37,ROW(INDIRECT(\"1:\"&ROWS(ballonrecuperes)))),ROWS($1:$25))),\"\")","v":""},{"$f":"IF(ROWS($1:$26)<=COUNTIF(joueurs,$B37),INDEX(ballonrecuperes,SMALL(IF(joueurs=$B37,ROW(INDIRECT(\"1:\"&ROWS(ballonrecuperes)))),ROWS($1:$26))),\"\")","v":""},{"$f":"IF(ROWS($1:$27)<=COUNTIF(joueurs,$B37),INDEX(ballonrecuperes,SMALL(IF(joueurs=$B37,ROW(INDIRECT(\"1:\"&ROWS(ballonrecuperes)))),ROWS($1:$27))),\"\")","v":""},{"$f":"IF(ROWS($1:$28)<=COUNTIF(joueurs,$B37),INDEX(ballonrecuperes,SMALL(IF(joueurs=$B37,ROW(INDIRECT(\"1:\"&ROWS(ballonrecuperes)))),ROWS($1:$28))),\"\")","v":""},{"$f":"IF(ROWS($1:$29)<=COUNTIF(joueurs,$B37),INDEX(ballonrecuperes,SMALL(IF(joueurs=$B37,ROW(INDIRECT(\"1:\"&ROWS(ballonrecuperes)))),ROWS($1:$29))),\"\")","v":""},{"$f":"IF(ROWS($1:$30)<=COUNTIF(joueurs,$B37),INDEX(ballonrecuperes,SMALL(IF(joueurs=$B37,ROW(INDIRECT(\"1:\"&ROWS(ballonrecuperes)))),ROWS($1:$30))),\"\")","v":""},{"$f":"IF(ROWS($1:$21)<=COUNTIF(joueurs,$B37),INDEX(tirs,SMALL(IF(joueurs=$B37,ROW(INDIRECT(\"1:\"&ROWS(tirs)))),ROWS($1:$21))),\"\")","v":""},{"$f":"IF(ROWS($1:$22)<=COUNTIF(joueurs,$B37),INDEX(tirs,SMALL(IF(joueurs=$B37,ROW(INDIRECT(\"1:\"&ROWS(tirs)))),ROWS($1:$22))),\"\")","v":""},{"$f":"IF(ROWS($1:$23)<=COUNTIF(joueurs,$B37),INDEX(tirs,SMALL(IF(joueurs=$B37,ROW(INDIRECT(\"1:\"&ROWS(tirs)))),ROWS($1:$23))),\"\")","v":""},{"$f":"IF(ROWS($1:$24)<=COUNTIF(joueurs,$B37),INDEX(tirs,SMALL(IF(joueurs=$B37,ROW(INDIRECT(\"1:\"&ROWS(tirs)))),ROWS($1:$24))),\"\")","v":""},{"$f":"IF(ROWS($1:$25)<=COUNTIF(joueurs,$B37),INDEX(tirs,SMALL(IF(joueurs=$B37,ROW(INDIRECT(\"1:\"&ROWS(tirs)))),ROWS($1:$25))),\"\")","v":""},{"$f":"IF(ROWS($1:$26)<=COUNTIF(joueurs,$B37),INDEX(tirs,SMALL(IF(joueurs=$B37,ROW(INDIRECT(\"1:\"&ROWS(tirs)))),ROWS($1:$26))),\"\")","v":""},{"$f":"IF(ROWS($1:$27)<=COUNTIF(joueurs,$B37),INDEX(tirs,SMALL(IF(joueurs=$B37,ROW(INDIRECT(\"1:\"&ROWS(tirs)))),ROWS($1:$27))),\"\")","v":""},{"$f":"IF(ROWS($1:$28)<=COUNTIF(joueurs,$B37),INDEX(tirs,SMALL(IF(joueurs=$B37,ROW(INDIRECT(\"1:\"&ROWS(tirs)))),ROWS($1:$28))),\"\")","v":""},{"$f":"IF(ROWS($1:$29)<=COUNTIF(joueurs,$B37),INDEX(tirs,SMALL(IF(joueurs=$B37,ROW(INDIRECT(\"1:\"&ROWS(tirs)))),ROWS($1:$29))),\"\")","v":""},{"$f":"IF(ROWS($1:$30)<=COUNTIF(joueurs,$B37),INDEX(tirs,SMALL(IF(joueurs=$B37,ROW(INDIRECT(\"1:\"&ROWS(tirs)))),ROWS($1:$30))),\"\")","v":""},{"$f":"IF(ROWS($1:$21)<=COUNTIF(joueurs,$B37),INDEX(bontirs,SMALL(IF(joueurs=$B37,ROW(INDIRECT(\"1:\"&ROWS(bontirs)))),ROWS($1:$21))),\"\")","v":""},{"$f":"IF(ROWS($1:$22)<=COUNTIF(joueurs,$B37),INDEX(bontirs,SMALL(IF(joueurs=$B37,ROW(INDIRECT(\"1:\"&ROWS(bontirs)))),ROWS($1:$22))),\"\")","v":""},{"$f":"IF(ROWS($1:$23)<=COUNTIF(joueurs,$B37),INDEX(bontirs,SMALL(IF(joueurs=$B37,ROW(INDIRECT(\"1:\"&ROWS(bontirs)))),ROWS($1:$23))),\"\")","v":""},{"$f":"IF(ROWS($1:$24)<=COUNTIF(joueurs,$B37),INDEX(bontirs,SMALL(IF(joueurs=$B37,ROW(INDIRECT(\"1:\"&ROWS(bontirs)))),ROWS($1:$24))),\"\")","v":""},{"$f":"IF(ROWS($1:$25)<=COUNTIF(joueurs,$B37),INDEX(bontirs,SMALL(IF(joueurs=$B37,ROW(INDIRECT(\"1:\"&ROWS(bontirs)))),ROWS($1:$25))),\"\")","v":""},{"$f":"IF(ROWS($1:$26)<=COUNTIF(joueurs,$B37),INDEX(bontirs,SMALL(IF(joueurs=$B37,ROW(INDIRECT(\"1:\"&ROWS(bontirs)))),ROWS($1:$26))),\"\")","v":""},{"$f":"IF(ROWS($1:$27)<=COUNTIF(joueurs,$B37),INDEX(bontirs,SMALL(IF(joueurs=$B37,ROW(INDIRECT(\"1:\"&ROWS(bontirs)))),ROWS($1:$27))),\"\")","v":""},{"$f":"IF(ROWS($1:$28)<=COUNTIF(joueurs,$B37),INDEX(bontirs,SMALL(IF(joueurs=$B37,ROW(INDIRECT(\"1:\"&ROWS(bontirs)))),ROWS($1:$28))),\"\")","v":""},{"$f":"IF(ROWS($1:$29)<=COUNTIF(joueurs,$B37),INDEX(bontirs,SMALL(IF(joueurs=$B37,ROW(INDIRECT(\"1:\"&ROWS(bontirs)))),ROWS($1:$29))),\"\")","v":""},{"$f":"IF(ROWS($1:$30)<=COUNTIF(joueurs,$B37),INDEX(bontirs,SMALL(IF(joueurs=$B37,ROW(INDIRECT(\"1:\"&ROWS(bontirs)))),ROWS($1:$30))),\"\")","v":""},{"$f":"IF(ROWS($1:$21)<=COUNTIF(joueurs,$B37),INDEX(points,SMALL(IF(joueurs=$B37,ROW(INDIRECT(\"1:\"&ROWS(points)))),ROWS($1:$21))),\"\")","v":""},{"$f":"IF(ROWS($1:$22)<=COUNTIF(joueurs,$B37),INDEX(points,SMALL(IF(joueurs=$B37,ROW(INDIRECT(\"1:\"&ROWS(points)))),ROWS($1:$22))),\"\")","v":""},{"$f":"IF(ROWS($1:$23)<=COUNTIF(joueurs,$B37),INDEX(points,SMALL(IF(joueurs=$B37,ROW(INDIRECT(\"1:\"&ROWS(points)))),ROWS($1:$23))),\"\")","v":""},{"$f":"IF(ROWS($1:$24)<=COUNTIF(joueurs,$B37),INDEX(points,SMALL(IF(joueurs=$B37,ROW(INDIRECT(\"1:\"&ROWS(points)))),ROWS($1:$24))),\"\")","v":""},{"$f":"IF(ROWS($1:$25)<=COUNTIF(joueurs,$B37),INDEX(points,SMALL(IF(joueurs=$B37,ROW(INDIRECT(\"1:\"&ROWS(points)))),ROWS($1:$25))),\"\")","v":""},{"$f":"IF(ROWS($1:$26)<=COUNTIF(joueurs,$B37),INDEX(points,SMALL(IF(joueurs=$B37,ROW(INDIRECT(\"1:\"&ROWS(points)))),ROWS($1:$26))),\"\")","v":""},{"$f":"IF(ROWS($1:$27)<=COUNTIF(joueurs,$B37),INDEX(points,SMALL(IF(joueurs=$B37,ROW(INDIRECT(\"1:\"&ROWS(points)))),ROWS($1:$27))),\"\")","v":""},{"$f":"IF(ROWS($1:$28)<=COUNTIF(joueurs,$B37),INDEX(points,SMALL(IF(joueurs=$B37,ROW(INDIRECT(\"1:\"&ROWS(points)))),ROWS($1:$28))),\"\")","v":""},{"$f":"IF(ROWS($1:$29)<=COUNTIF(joueurs,$B37),INDEX(points,SMALL(IF(joueurs=$B37,ROW(INDIRECT(\"1:\"&ROWS(points)))),ROWS($1:$29))),\"\")","v":""},{"$f":"IF(ROWS($1:$30)<=COUNTIF(joueurs,$B37),INDEX(points,SMALL(IF(joueurs=$B37,ROW(INDIRECT(\"1:\"&ROWS(points)))),ROWS($1:$30))),\"\")","v":""},{"$f":"IF(ROWS($1:$21)<=COUNTIF(joueurs,$B37),INDEX(victoires,SMALL(IF(joueurs=$B37,ROW(INDIRECT(\"1:\"&ROWS(victoires)))),ROWS($1:$21))),\"\")","v":""},{"$f":"IF(ROWS($1:$22)<=COUNTIF(joueurs,$B37),INDEX(victoires,SMALL(IF(joueurs=$B37,ROW(INDIRECT(\"1:\"&ROWS(victoires)))),ROWS($1:$22))),\"\")","v":""},{"$f":"IF(ROWS($1:$23)<=COUNTIF(joueurs,$B37),INDEX(victoires,SMALL(IF(joueurs=$B37,ROW(INDIRECT(\"1:\"&ROWS(victoires)))),ROWS($1:$23))),\"\")","v":""},{"$f":"IF(ROWS($1:$24)<=COUNTIF(joueurs,$B37),INDEX(victoires,SMALL(IF(joueurs=$B37,ROW(INDIRECT(\"1:\"&ROWS(victoires)))),ROWS($1:$24))),\"\")","v":""},{"$f":"IF(ROWS($1:$25)<=COUNTIF(joueurs,$B37),INDEX(victoires,SMALL(IF(joueurs=$B37,ROW(INDIRECT(\"1:\"&ROWS(victoires)))),ROWS($1:$25))),\"\")","v":""},{"$f":"IF(ROWS($1:$26)<=COUNTIF(joueurs,$B37),INDEX(victoires,SMALL(IF(joueurs=$B37,ROW(INDIRECT(\"1:\"&ROWS(victoires)))),ROWS($1:$26))),\"\")","v":""},{"$f":"IF(ROWS($1:$27)<=COUNTIF(joueurs,$B37),INDEX(victoires,SMALL(IF(joueurs=$B37,ROW(INDIRECT(\"1:\"&ROWS(victoires)))),ROWS($1:$27))),\"\")","v":""},{"$f":"IF(ROWS($1:$28)<=COUNTIF(joueurs,$B37),INDEX(victoires,SMALL(IF(joueurs=$B37,ROW(INDIRECT(\"1:\"&ROWS(victoires)))),ROWS($1:$28))),\"\")","v":""},{"$f":"IF(ROWS($1:$29)<=COUNTIF(joueurs,$B37),INDEX(victoires,SMALL(IF(joueurs=$B37,ROW(INDIRECT(\"1:\"&ROWS(victoires)))),ROWS($1:$29))),\"\")","v":""},{"$f":"IF(ROWS($1:$30)<=COUNTIF(joueurs,$B37),INDEX(victoires,SMALL(IF(joueurs=$B37,ROW(INDIRECT(\"1:\"&ROWS(victoires)))),ROWS($1:$30))),\"\")","v":""}]
[null,null,null,{"$f":"IF(ROWS($1:$31)<=COUNTIF(joueurs,$B37),INDEX(fautes,SMALL(IF(joueurs=$B37,ROW(INDIRECT(\"1:\"&ROWS(fautes)))),ROWS($1:$31))),\"\")","v":""},{"$f":"IF(ROWS($1:$32)<=COUNTIF(joueurs,$B37),INDEX(fautes,SMALL(IF(joueurs=$B37,ROW(INDIRECT(\"1:\"&ROWS(fautes)))),ROWS($1:$32))),\"\")","v":""},{"$f":"IF(ROWS($1:$33)<=COUNTIF(joueurs,$B37),INDEX(fautes,SMALL(IF(joueurs=$B37,ROW(INDIRECT(\"1:\"&ROWS(fautes)))),ROWS($1:$33))),\"\")","v":""},{"$f":"IF(ROWS($1:$34)<=COUNTIF(joueurs,$B37),INDEX(fautes,SMALL(IF(joueurs=$B37,ROW(INDIRECT(\"1:\"&ROWS(fautes)))),ROWS($1:$34))),\"\")","v":""},{"$f":"IF(ROWS($1:$35)<=COUNTIF(joueurs,$B37),INDEX(fautes,SMALL(IF(joueurs=$B37,ROW(INDIRECT(\"1:\"&ROWS(fautes)))),ROWS($1:$35))),\"\")","v":""},{"$f":"IF(ROWS($1:$36)<=COUNTIF(joueurs,$B37),INDEX(fautes,SMALL(IF(joueurs=$B37,ROW(INDIRECT(\"1:\"&ROWS(fautes)))),ROWS($1:$36))),\"\")","v":""},{"$f":"IF(ROWS($1:$37)<=COUNTIF(joueurs,$B37),INDEX(fautes,SMALL(IF(joueurs=$B37,ROW(INDIRECT(\"1:\"&ROWS(fautes)))),ROWS($1:$37))),\"\")","v":""},{"$f":"IF(ROWS($1:$38)<=COUNTIF(joueurs,$B37),INDEX(fautes,SMALL(IF(joueurs=$B37,ROW(INDIRECT(\"1:\"&ROWS(fautes)))),ROWS($1:$38))),\"\")","v":""},{"$f":"IF(ROWS($1:$39)<=COUNTIF(joueurs,$B37),INDEX(fautes,SMALL(IF(joueurs=$B37,ROW(INDIRECT(\"1:\"&ROWS(fautes)))),ROWS($1:$39))),\"\")","v":""},{"$f":"IF(ROWS($1:$40)<=COUNTIF(joueurs,$B37),INDEX(fautes,SMALL(IF(joueurs=$B37,ROW(INDIRECT(\"1:\"&ROWS(fautes)))),ROWS($1:$40))),\"\")","v":""},{"$f":"IF(ROWS($1:$31)<=COUNTIF(joueurs,$B37),INDEX(ballonperdus,SMALL(IF(joueurs=$B37,ROW(INDIRECT(\"1:\"&ROWS(ballonperdus)))),ROWS($1:$31))),\"\")","v":""},{"$f":"IF(ROWS($1:$32)<=COUNTIF(joueurs,$B37),INDEX(ballonperdus,SMALL(IF(joueurs=$B37,ROW(INDIRECT(\"1:\"&ROWS(ballonperdus)))),ROWS($1:$32))),\"\")","v":""},{"$f":"IF(ROWS($1:$33)<=COUNTIF(joueurs,$B37),INDEX(ballonperdus,SMALL(IF(joueurs=$B37,ROW(INDIRECT(\"1:\"&ROWS(ballonperdus)))),ROWS($1:$33))),\"\")","v":""},{"$f":"IF(ROWS($1:$34)<=COUNTIF(joueurs,$B37),INDEX(ballonperdus,SMALL(IF(joueurs=$B37,ROW(INDIRECT(\"1:\"&ROWS(ballonperdus)))),ROWS($1:$34))),\"\")","v":""},{"$f":"IF(ROWS($1:$35)<=COUNTIF(joueurs,$B37),INDEX(ballonperdus,SMALL(IF(joueurs=$B37,ROW(INDIRECT(\"1:\"&ROWS(ballonperdus)))),ROWS($1:$35))),\"\")","v":""},{"$f":"IF(ROWS($1:$36)<=COUNTIF(joueurs,$B37),INDEX(ballonperdus,SMALL(IF(joueurs=$B37,ROW(INDIRECT(\"1:\"&ROWS(ballonperdus)))),ROWS($1:$36))),\"\")","v":""},{"$f":"IF(ROWS($1:$37)<=COUNTIF(joueurs,$B37),INDEX(ballonperdus,SMALL(IF(joueurs=$B37,ROW(INDIRECT(\"1:\"&ROWS(ballonperdus)))),ROWS($1:$37))),\"\")","v":""},{"$f":"IF(ROWS($1:$38)<=COUNTIF(joueurs,$B37),INDEX(ballonperdus,SMALL(IF(joueurs=$B37,ROW(INDIRECT(\"1:\"&ROWS(ballonperdus)))),ROWS($1:$38))),\"\")","v":""},{"$f":"IF(ROWS($1:$39)<=COUNTIF(joueurs,$B37),INDEX(ballonperdus,SMALL(IF(joueurs=$B37,ROW(INDIRECT(\"1:\"&ROWS(ballonperdus)))),ROWS($1:$39))),\"\")","v":""},{"$f":"IF(ROWS($1:$40)<=COUNTIF(joueurs,$B37),INDEX(ballonperdus,SMALL(IF(joueurs=$B37,ROW(INDIRECT(\"1:\"&ROWS(ballonperdus)))),ROWS($1:$40))),\"\")","v":""},{"$f":"IF(ROWS($1:$31)<=COUNTIF(joueurs,$B37),INDEX(interceptions,SMALL(IF(joueurs=$B37,ROW(INDIRECT(\"1:\"&ROWS(interceptions)))),ROWS($1:$31))),\"\")","v":""},{"$f":"IF(ROWS($1:$32)<=COUNTIF(joueurs,$B37),INDEX(interceptions,SMALL(IF(joueurs=$B37,ROW(INDIRECT(\"1:\"&ROWS(interceptions)))),ROWS($1:$32))),\"\")","v":""},{"$f":"IF(ROWS($1:$33)<=COUNTIF(joueurs,$B37),INDEX(interceptions,SMALL(IF(joueurs=$B37,ROW(INDIRECT(\"1:\"&ROWS(interceptions)))),ROWS($1:$33))),\"\")","v":""},{"$f":"IF(ROWS($1:$34)<=COUNTIF(joueurs,$B37),INDEX(interceptions,SMALL(IF(joueurs=$B37,ROW(INDIRECT(\"1:\"&ROWS(interceptions)))),ROWS($1:$34))),\"\")","v":""},{"$f":"IF(ROWS($1:$35)<=COUNTIF(joueurs,$B37),INDEX(interceptions,SMALL(IF(joueurs=$B37,ROW(INDIRECT(\"1:\"&ROWS(interceptions)))),ROWS($1:$35))),\"\")","v":""},{"$f":"IF(ROWS($1:$36)<=COUNTIF(joueurs,$B37),INDEX(interceptions,SMALL(IF(joueurs=$B37,ROW(INDIRECT(\"1:\"&ROWS(interceptions)))),ROWS($1:$36))),\"\")","v":""},{"$f":"IF(ROWS($1:$37)<=COUNTIF(joueurs,$B37),INDEX(interceptions,SMALL(IF(joueurs=$B37,ROW(INDIRECT(\"1:\"&ROWS(interceptions)))),ROWS($1:$37))),\"\")","v":""},{"$f":"IF(ROWS($1:$38)<=COUNTIF(joueurs,$B37),INDEX(interceptions,SMALL(IF(joueurs=$B37,ROW(INDIRECT(\"1:\"&ROWS(interceptions)))),ROWS($1:$38))),\"\")","v":""},{"$f":"IF(ROWS($1:$39)<=COUNTIF(joueurs,$B37),INDEX(interceptions,SMALL(IF(joueurs=$B37,ROW(INDIRECT(\"1:\"&ROWS(interceptions)))),ROWS($1:$39))),\"\")","v":""},{"$f":"IF(ROWS($1:$40)<=COUNTIF(joueurs,$B37),INDEX(interceptions,SMALL(IF(joueurs=$B37,ROW(INDIRECT(\"1:\"&ROWS(interceptions)))),ROWS($1:$40))),\"\")","v":""},{"$f":"IF(ROWS($1:$31)<=COUNTIF(joueurs,$B37),INDEX(ballonrecuperes,SMALL(IF(joueurs=$B37,ROW(INDIRECT(\"1:\"&ROWS(ballonrecuperes)))),ROWS($1:$31))),\"\")","v":""},{"$f":"IF(ROWS($1:$32)<=COUNTIF(joueurs,$B37),INDEX(ballonrecuperes,SMALL(IF(joueurs=$B37,ROW(INDIRECT(\"1:\"&ROWS(ballonrecuperes)))),ROWS($1:$32))),\"\")","v":""},{"$f":"IF(ROWS($1:$33)<=COUNTIF(joueurs,$B37),INDEX(ballonrecuperes,SMALL(IF(joueurs=$B37,ROW(INDIRECT(\"1:\"&ROWS(ballonrecuperes)))),ROWS($1:$33))),\"\")","v":""},{"$f":"IF(ROWS($1:$34)<=COUNTIF(joueurs,$B37),INDEX(ballonrecuperes,SMALL(IF(joueurs=$B37,ROW(INDIRECT(\"1:\"&ROWS(ballonrecuperes)))),ROWS($1:$34))),\"\")","v":""},{"$f":"IF(ROWS($1:$35)<=COUNTIF(joueurs,$B37),INDEX(ballonrecuperes,SMALL(IF(joueurs=$B37,ROW(INDIRECT(\"1:\"&ROWS(ballonrecuperes)))),ROWS($1:$35))),\"\")","v":""},{"$f":"IF(ROWS($1:$36)<=COUNTIF(joueurs,$B37),INDEX(ballonrecuperes,SMALL(IF(joueurs=$B37,ROW(INDIRECT(\"1:\"&ROWS(ballonrecuperes)))),ROWS($1:$36))),\"\")","v":""},{"$f":"IF(ROWS($1:$37)<=COUNTIF(joueurs,$B37),INDEX(ballonrecuperes,SMALL(IF(joueurs=$B37,ROW(INDIRECT(\"1:\"&ROWS(ballonrecuperes)))),ROWS($1:$37))),\"\")","v":""},{"$f":"IF(ROWS($1:$38)<=COUNTIF(joueurs,$B37),INDEX(ballonrecuperes,SMALL(IF(joueurs=$B37,ROW(INDIRECT(\"1:\"&ROWS(ballonrecuperes)))),ROWS($1:$38))),\"\")","v":""},{"$f":"IF(ROWS($1:$39)<=COUNTIF(joueurs,$B37),INDEX(ballonrecuperes,SMALL(IF(joueurs=$B37,ROW(INDIRECT(\"1:\"&ROWS(ballonrecuperes)))),ROWS($1:$39))),\"\")","v":""},{"$f":"IF(ROWS($1:$40)<=COUNTIF(joueurs,$B37),INDEX(ballonrecuperes,SMALL(IF(joueurs=$B37,ROW(INDIRECT(\"1:\"&ROWS(ballonrecuperes)))),ROWS($1:$40))),\"\")","v":""},{"$f":"IF(ROWS($1:$31)<=COUNTIF(joueurs,$B37),INDEX(tirs,SMALL(IF(joueurs=$B37,ROW(INDIRECT(\"1:\"&ROWS(tirs)))),ROWS($1:$31))),\"\")","v":""},{"$f":"IF(ROWS($1:$32)<=COUNTIF(joueurs,$B37),INDEX(tirs,SMALL(IF(joueurs=$B37,ROW(INDIRECT(\"1:\"&ROWS(tirs)))),ROWS($1:$32))),\"\")","v":""},{"$f":"IF(ROWS($1:$33)<=COUNTIF(joueurs,$B37),INDEX(tirs,SMALL(IF(joueurs=$B37,ROW(INDIRECT(\"1:\"&ROWS(tirs)))),ROWS($1:$33))),\"\")","v":""},{"$f":"IF(ROWS($1:$34)<=COUNTIF(joueurs,$B37),INDEX(tirs,SMALL(IF(joueurs=$B37,ROW(INDIRECT(\"1:\"&ROWS(tirs)))),ROWS($1:$34))),\"\")","v":""},{"$f":"IF(ROWS($1:$35)<=COUNTIF(joueurs,$B37),INDEX(tirs,SMALL(IF(joueurs=$B37,ROW(INDIRECT(\"1:\"&ROWS(tirs)))),ROWS($1:$35))),\"\")","v":""},{"$f":"IF(ROWS($1:$36)<=COUNTIF(joueurs,$B37),INDEX(tirs,SMALL(IF(joueurs=$B37,ROW(INDIRECT(\"1:\"&ROWS(tirs)))),ROWS($1:$36))),\"\")","v":""},{"$f":"IF(ROWS($1:$37)<=COUNTIF(joueurs,$B37),INDEX(tirs,SMALL(IF(joueurs=$B37,ROW(INDIRECT(\"1:\"&ROWS(tirs)))),ROWS($1:$37))),\"\")","v":""},{"$f":"IF(ROWS($1:$38)<=COUNTIF(joueurs,$B37),INDEX(tirs,SMALL(IF(joueurs=$B37,ROW(INDIRECT(\"1:\"&ROWS(tirs)))),ROWS($1:$38))),\"\")","v":""},{"$f":"IF(ROWS($1:$39)<=COUNTIF(joueurs,$B37),INDEX(tirs,SMALL(IF(joueurs=$B37,ROW(INDIRECT(\"1:\"&ROWS(tirs)))),ROWS($1:$39))),\"\")","v":""},{"$f":"IF(ROWS($1:$40)<=COUNTIF(joueurs,$B37),INDEX(tirs,SMALL(IF(joueurs=$B37,ROW(INDIRECT(\"1:\"&ROWS(tirs)))),ROWS($1:$40))),\"\")","v":""},{"$f":"IF(ROWS($1:$31)<=COUNTIF(joueurs,$B37),INDEX(bontirs,SMALL(IF(joueurs=$B37,ROW(INDIRECT(\"1:\"&ROWS(bontirs)))),ROWS($1:$31))),\"\")","v":""},{"$f":"IF(ROWS($1:$32)<=COUNTIF(joueurs,$B37),INDEX(bontirs,SMALL(IF(joueurs=$B37,ROW(INDIRECT(\"1:\"&ROWS(bontirs)))),ROWS($1:$32))),\"\")","v":""},{"$f":"IF(ROWS($1:$33)<=COUNTIF(joueurs,$B37),INDEX(bontirs,SMALL(IF(joueurs=$B37,ROW(INDIRECT(\"1:\"&ROWS(bontirs)))),ROWS($1:$33))),\"\")","v":""},{"$f":"IF(ROWS($1:$34)<=COUNTIF(joueurs,$B37),INDEX(bontirs,SMALL(IF(joueurs=$B37,ROW(INDIRECT(\"1:\"&ROWS(bontirs)))),ROWS($1:$34))),\"\")","v":""},{"$f":"IF(ROWS($1:$35)<=COUNTIF(joueurs,$B37),INDEX(bontirs,SMALL(IF(joueurs=$B37,ROW(INDIRECT(\"1:\"&ROWS(bontirs)))),ROWS($1:$35))),\"\")","v":""},{"$f":"IF(ROWS($1:$36)<=COUNTIF(joueurs,$B37),INDEX(bontirs,SMALL(IF(joueurs=$B37,ROW(INDIRECT(\"1:\"&ROWS(bontirs)))),ROWS($1:$36))),\"\")","v":""},{"$f":"IF(ROWS($1:$37)<=COUNTIF(joueurs,$B37),INDEX(bontirs,SMALL(IF(joueurs=$B37,ROW(INDIRECT(\"1:\"&ROWS(bontirs)))),ROWS($1:$37))),\"\")","v":""},{"$f":"IF(ROWS($1:$38)<=COUNTIF(joueurs,$B37),INDEX(bontirs,SMALL(IF(joueurs=$B37,ROW(INDIRECT(\"1:\"&ROWS(bontirs)))),ROWS($1:$38))),\"\")","v":""},{"$f":"IF(ROWS($1:$39)<=COUNTIF(joueurs,$B37),INDEX(bontirs,SMALL(IF(joueurs=$B37,ROW(INDIRECT(\"1:\"&ROWS(bontirs)))),ROWS($1:$39))),\"\")","v":""},{"$f":"IF(ROWS($1:$40)<=COUNTIF(joueurs,$B37),INDEX(bontirs,SMALL(IF(joueurs=$B37,ROW(INDIRECT(\"1:\"&ROWS(bontirs)))),ROWS($1:$40))),\"\")","v":""},{"$f":"IF(ROWS($1:$31)<=COUNTIF(joueurs,$B37),INDEX(points,SMALL(IF(joueurs=$B37,ROW(INDIRECT(\"1:\"&ROWS(points)))),ROWS($1:$31))),\"\")","v":""},{"$f":"IF(ROWS($1:$32)<=COUNTIF(joueurs,$B37),INDEX(points,SMALL(IF(joueurs=$B37,ROW(INDIRECT(\"1:\"&ROWS(points)))),ROWS($1:$32))),\"\")","v":""},{"$f":"IF(ROWS($1:$33)<=COUNTIF(joueurs,$B37),INDEX(points,SMALL(IF(joueurs=$B37,ROW(INDIRECT(\"1:\"&ROWS(points)))),ROWS($1:$33))),\"\")","v":""},{"$f":"IF(ROWS($1:$34)<=COUNTIF(joueurs,$B37),INDEX(points,SMALL(IF(joueurs=$B37,ROW(INDIRECT(\"1:\"&ROWS(points)))),ROWS($1:$34))),\"\")","v":""},{"$f":"IF(ROWS($1:$35)<=COUNTIF(joueurs,$B37),INDEX(points,SMALL(IF(joueurs=$B37,ROW(INDIRECT(\"1:\"&ROWS(points)))),ROWS($1:$35))),\"\")","v":""},{"$f":"IF(ROWS($1:$36)<=COUNTIF(joueurs,$B37),INDEX(points,SMALL(IF(joueurs=$B37,ROW(INDIRECT(\"1:\"&ROWS(points)))),ROWS($1:$36))),\"\")","v":""},{"$f":"IF(ROWS($1:$37)<=COUNTIF(joueurs,$B37),INDEX(points,SMALL(IF(joueurs=$B37,ROW(INDIRECT(\"1:\"&ROWS(points)))),ROWS($1:$37))),\"\")","v":""},{"$f":"IF(ROWS($1:$38)<=COUNTIF(joueurs,$B37),INDEX(points,SMALL(IF(joueurs=$B37,ROW(INDIRECT(\"1:\"&ROWS(points)))),ROWS($1:$38))),\"\")","v":""},{"$f":"IF(ROWS($1:$39)<=COUNTIF(joueurs,$B37),INDEX(points,SMALL(IF(joueurs=$B37,ROW(INDIRECT(\"1:\"&ROWS(points)))),ROWS($1:$39))),\"\")","v":""},{"$f":"IF(ROWS($1:$40)<=COUNTIF(joueurs,$B37),INDEX(points,SMALL(IF(joueurs=$B37,ROW(INDIRECT(\"1:\"&ROWS(points)))),ROWS($1:$40))),\"\")","v":""},{"$f":"IF(ROWS($1:$31)<=COUNTIF(joueurs,$B37),INDEX(victoires,SMALL(IF(joueurs=$B37,ROW(INDIRECT(\"1:\"&ROWS(victoires)))),ROWS($1:$31))),\"\")","v":""},{"$f":"IF(ROWS($1:$32)<=COUNTIF(joueurs,$B37),INDEX(victoires,SMALL(IF(joueurs=$B37,ROW(INDIRECT(\"1:\"&ROWS(victoires)))),ROWS($1:$32))),\"\")","v":""},{"$f":"IF(ROWS($1:$33)<=COUNTIF(joueurs,$B37),INDEX(victoires,SMALL(IF(joueurs=$B37,ROW(INDIRECT(\"1:\"&ROWS(victoires)))),ROWS($1:$33))),\"\")","v":""},{"$f":"IF(ROWS($1:$34)<=COUNTIF(joueurs,$B37),INDEX(victoires,SMALL(IF(joueurs=$B37,ROW(INDIRECT(\"1:\"&ROWS(victoires)))),ROWS($1:$34))),\"\")","v":""},{"$f":"IF(ROWS($1:$35)<=COUNTIF(joueurs,$B37),INDEX(victoires,SMALL(IF(joueurs=$B37,ROW(INDIRECT(\"1:\"&ROWS(victoires)))),ROWS($1:$35))),\"\")","v":""},{"$f":"IF(ROWS($1:$36)<=COUNTIF(joueurs,$B37),INDEX(victoires,SMALL(IF(joueurs=$B37,ROW(INDIRECT(\"1:\"&ROWS(victoires)))),ROWS($1:$36))),\"\")","v":""},{"$f":"IF(ROWS($1:$37)<=COUNTIF(joueurs,$B37),INDEX(victoires,SMALL(IF(joueurs=$B37,ROW(INDIRECT(\"1:\"&ROWS(victoires)))),ROWS($1:$37))),\"\")","v":""},{"$f":"IF(ROWS($1:$38)<=COUNTIF(joueurs,$B37),INDEX(victoires,SMALL(IF(joueurs=$B37,ROW(INDIRECT(\"1:\"&ROWS(victoires)))),ROWS($1:$38))),\"\")","v":""},{"$f":"IF(ROWS($1:$39)<=COUNTIF(joueurs,$B37),INDEX(victoires,SMALL(IF(joueurs=$B37,ROW(INDIRECT(\"1:\"&ROWS(victoires)))),ROWS($1:$39))),\"\")","v":""},{"$f":"IF(ROWS($1:$40)<=COUNTIF(joueurs,$B37),INDEX(victoires,SMALL(IF(joueurs=$B37,ROW(INDIRECT(\"1:\"&ROWS(victoires)))),ROWS($1:$40))),\"\")","v":""}]
[10,{"$f":"INDEX(eleves,MATCH(A41,numero,0),MATCH($B$2,classes,0))","v":"Chamberlain"},null,{"$f":"IF(ROWS($1:$1)<=COUNTIF(joueurs,$B41),INDEX(fautes,SMALL(IF(joueurs=$B41,ROW(INDIRECT(\"1:\"&ROWS(fautes)))),ROWS($1:$1))),\"\")","v":""},{"$f":"IF(ROWS($1:$2)<=COUNTIF(joueurs,$B41),INDEX(fautes,SMALL(IF(joueurs=$B41,ROW(INDIRECT(\"1:\"&ROWS(fautes)))),ROWS($1:$2))),\"\")","v":""},{"$f":"IF(ROWS($1:$3)<=COUNTIF(joueurs,$B41),INDEX(fautes,SMALL(IF(joueurs=$B41,ROW(INDIRECT(\"1:\"&ROWS(fautes)))),ROWS($1:$3))),\"\")","v":""},{"$f":"IF(ROWS($1:$4)<=COUNTIF(joueurs,$B41),INDEX(fautes,SMALL(IF(joueurs=$B41,ROW(INDIRECT(\"1:\"&ROWS(fautes)))),ROWS($1:$4))),\"\")","v":""},{"$f":"IF(ROWS($1:$5)<=COUNTIF(joueurs,$B41),INDEX(fautes,SMALL(IF(joueurs=$B41,ROW(INDIRECT(\"1:\"&ROWS(fautes)))),ROWS($1:$5))),\"\")","v":""},{"$f":"IF(ROWS($1:$6)<=COUNTIF(joueurs,$B41),INDEX(fautes,SMALL(IF(joueurs=$B41,ROW(INDIRECT(\"1:\"&ROWS(fautes)))),ROWS($1:$6))),\"\")","v":""},{"$f":"IF(ROWS($1:$7)<=COUNTIF(joueurs,$B41),INDEX(fautes,SMALL(IF(joueurs=$B41,ROW(INDIRECT(\"1:\"&ROWS(fautes)))),ROWS($1:$7))),\"\")","v":""},{"$f":"IF(ROWS($1:$8)<=COUNTIF(joueurs,$B41),INDEX(fautes,SMALL(IF(joueurs=$B41,ROW(INDIRECT(\"1:\"&ROWS(fautes)))),ROWS($1:$8))),\"\")","v":""},{"$f":"IF(ROWS($1:$9)<=COUNTIF(joueurs,$B41),INDEX(fautes,SMALL(IF(joueurs=$B41,ROW(INDIRECT(\"1:\"&ROWS(fautes)))),ROWS($1:$9))),\"\")","v":""},{"$f":"IF(ROWS($1:$10)<=COUNTIF(joueurs,$B41),INDEX(fautes,SMALL(IF(joueurs=$B41,ROW(INDIRECT(\"1:\"&ROWS(fautes)))),ROWS($1:$10))),\"\")","v":""},{"$f":"IF(ROWS($1:$1)<=COUNTIF(joueurs,$B41),INDEX(ballonperdus,SMALL(IF(joueurs=$B41,ROW(INDIRECT(\"1:\"&ROWS(ballonperdus)))),ROWS($1:$1))),\"\")","v":""},{"$f":"IF(ROWS($1:$2)<=COUNTIF(joueurs,$B41),INDEX(ballonperdus,SMALL(IF(joueurs=$B41,ROW(INDIRECT(\"1:\"&ROWS(ballonperdus)))),ROWS($1:$2))),\"\")","v":""},{"$f":"IF(ROWS($1:$3)<=COUNTIF(joueurs,$B41),INDEX(ballonperdus,SMALL(IF(joueurs=$B41,ROW(INDIRECT(\"1:\"&ROWS(ballonperdus)))),ROWS($1:$3))),\"\")","v":""},{"$f":"IF(ROWS($1:$4)<=COUNTIF(joueurs,$B41),INDEX(ballonperdus,SMALL(IF(joueurs=$B41,ROW(INDIRECT(\"1:\"&ROWS(ballonperdus)))),ROWS($1:$4))),\"\")","v":""},{"$f":"IF(ROWS($1:$5)<=COUNTIF(joueurs,$B41),INDEX(ballonperdus,SMALL(IF(joueurs=$B41,ROW(INDIRECT(\"1:\"&ROWS(ballonperdus)))),ROWS($1:$5))),\"\")","v":""},{"$f":"IF(ROWS($1:$6)<=COUNTIF(joueurs,$B41),INDEX(ballonperdus,SMALL(IF(joueurs=$B41,ROW(INDIRECT(\"1:\"&ROWS(ballonperdus)))),ROWS($1:$6))),\"\")","v":""},{"$f":"IF(ROWS($1:$7)<=COUNTIF(joueurs,$B41),INDEX(ballonperdus,SMALL(IF(joueurs=$B41,ROW(INDIRECT(\"1:\"&ROWS(ballonperdus)))),ROWS($1:$7))),\"\")","v":""},{"$f":"IF(ROWS($1:$8)<=COUNTIF(joueurs,$B41),INDEX(ballonperdus,SMALL(IF(joueurs=$B41,ROW(INDIRECT(\"1:\"&ROWS(ballonperdus)))),ROWS($1:$8))),\"\")","v":""},{"$f":"IF(ROWS($1:$9)<=COUNTIF(joueurs,$B41),INDEX(ballonperdus,SMALL(IF(joueurs=$B41,ROW(INDIRECT(\"1:\"&ROWS(ballonperdus)))),ROWS($1:$9))),\"\")","v":""},{"$f":"IF(ROWS($1:$10)<=COUNTIF(joueurs,$B41),INDEX(ballonperdus,SMALL(IF(joueurs=$B41,ROW(INDIRECT(\"1:\"&ROWS(ballonperdus)))),ROWS($1:$10))),\"\")","v":""},{"$f":"IF(ROWS($1:$1)<=COUNTIF(joueurs,$B41),INDEX(interceptions,SMALL(IF(joueurs=$B41,ROW(INDIRECT(\"1:\"&ROWS(interceptions)))),ROWS($1:$1))),\"\")","v":""},{"$f":"IF(ROWS($1:$2)<=COUNTIF(joueurs,$B41),INDEX(interceptions,SMALL(IF(joueurs=$B41,ROW(INDIRECT(\"1:\"&ROWS(interceptions)))),ROWS($1:$2))),\"\")","v":""},{"$f":"IF(ROWS($1:$3)<=COUNTIF(joueurs,$B41),INDEX(interceptions,SMALL(IF(joueurs=$B41,ROW(INDIRECT(\"1:\"&ROWS(interceptions)))),ROWS($1:$3))),\"\")","v":""},{"$f":"IF(ROWS($1:$4)<=COUNTIF(joueurs,$B41),INDEX(interceptions,SMALL(IF(joueurs=$B41,ROW(INDIRECT(\"1:\"&ROWS(interceptions)))),ROWS($1:$4))),\"\")","v":""},{"$f":"IF(ROWS($1:$5)<=COUNTIF(joueurs,$B41),INDEX(interceptions,SMALL(IF(joueurs=$B41,ROW(INDIRECT(\"1:\"&ROWS(interceptions)))),ROWS($1:$5))),\"\")","v":""},{"$f":"IF(ROWS($1:$6)<=COUNTIF(joueurs,$B41),INDEX(interceptions,SMALL(IF(joueurs=$B41,ROW(INDIRECT(\"1:\"&ROWS(interceptions)))),ROWS($1:$6))),\"\")","v":""},{"$f":"IF(ROWS($1:$7)<=COUNTIF(joueurs,$B41),INDEX(interceptions,SMALL(IF(joueurs=$B41,ROW(INDIRECT(\"1:\"&ROWS(interceptions)))),ROWS($1:$7))),\"\")","v":""},{"$f":"IF(ROWS($1:$8)<=COUNTIF(joueurs,$B41),INDEX(interceptions,SMALL(IF(joueurs=$B41,ROW(INDIRECT(\"1:\"&ROWS(interceptions)))),ROWS($1:$8))),\"\")","v":""},{"$f":"IF(ROWS($1:$9)<=COUNTIF(joueurs,$B41),INDEX(interceptions,SMALL(IF(joueurs=$B41,ROW(INDIRECT(\"1:\"&ROWS(interceptions)))),ROWS($1:$9))),\"\")","v":""},{"$f":"IF(ROWS($1:$10)<=COUNTIF(joueurs,$B41),INDEX(interceptions,SMALL(IF(joueurs=$B41,ROW(INDIRECT(\"1:\"&ROWS(interceptions)))),ROWS($1:$10))),\"\")","v":""},{"$f":"IF(ROWS($1:$1)<=COUNTIF(joueurs,$B41),INDEX(ballonrecuperes,SMALL(IF(joueurs=$B41,ROW(INDIRECT(\"1:\"&ROWS(ballonrecuperes)))),ROWS($1:$1))),\"\")","v":""},{"$f":"IF(ROWS($1:$2)<=COUNTIF(joueurs,$B41),INDEX(ballonrecuperes,SMALL(IF(joueurs=$B41,ROW(INDIRECT(\"1:\"&ROWS(ballonrecuperes)))),ROWS($1:$2))),\"\")","v":""},{"$f":"IF(ROWS($1:$3)<=COUNTIF(joueurs,$B41),INDEX(ballonrecuperes,SMALL(IF(joueurs=$B41,ROW(INDIRECT(\"1:\"&ROWS(ballonrecuperes)))),ROWS($1:$3))),\"\")","v":""},{"$f":"IF(ROWS($1:$4)<=COUNTIF(joueurs,$B41),INDEX(ballonrecuperes,SMALL(IF(joueurs=$B41,ROW(INDIRECT(\"1:\"&ROWS(ballonrecuperes)))),ROWS($1:$4))),\"\")","v":""},{"$f":"IF(ROWS($1:$5)<=COUNTIF(joueurs,$B41),INDEX(ballonrecuperes,SMALL(IF(joueurs=$B41,ROW(INDIRECT(\"1:\"&ROWS(ballonrecuperes)))),ROWS($1:$5))),\"\")","v":""},{"$f":"IF(ROWS($1:$6)<=COUNTIF(joueurs,$B41),INDEX(ballonrecuperes,SMALL(IF(joueurs=$B41,ROW(INDIRECT(\"1:\"&ROWS(ballonrecuperes)))),ROWS($1:$6))),\"\")","v":""},{"$f":"IF(ROWS($1:$7)<=COUNTIF(joueurs,$B41),INDEX(ballonrecuperes,SMALL(IF(joueurs=$B41,ROW(INDIRECT(\"1:\"&ROWS(ballonrecuperes)))),ROWS($1:$7))),\"\")","v":""},{"$f":"IF(ROWS($1:$8)<=COUNTIF(joueurs,$B41),INDEX(ballonrecuperes,SMALL(IF(joueurs=$B41,ROW(INDIRECT(\"1:\"&ROWS(ballonrecuperes)))),ROWS($1:$8))),\"\")","v":""},{"$f":"IF(ROWS($1:$9)<=COUNTIF(joueurs,$B41),INDEX(ballonrecuperes,SMALL(IF(joueurs=$B41,ROW(INDIRECT(\"1:\"&ROWS(ballonrecuperes)))),ROWS($1:$9))),\"\")","v":""},{"$f":"IF(ROWS($1:$10)<=COUNTIF(joueurs,$B41),INDEX(ballonrecuperes,SMALL(IF(joueurs=$B41,ROW(INDIRECT(\"1:\"&ROWS(ballonrecuperes)))),ROWS($1:$10))),\"\")","v":""},{"$f":"IF(ROWS($1:$1)<=COUNTIF(joueurs,$B41),INDEX(tirs,SMALL(IF(joueurs=$B41,ROW(INDIRECT(\"1:\"&ROWS(tirs)))),ROWS($1:$1))),\"\")","v":""},{"$f":"IF(ROWS($1:$2)<=COUNTIF(joueurs,$B41),INDEX(tirs,SMALL(IF(joueurs=$B41,ROW(INDIRECT(\"1:\"&ROWS(tirs)))),ROWS($1:$2))),\"\")","v":""},{"$f":"IF(ROWS($1:$3)<=COUNTIF(joueurs,$B41),INDEX(tirs,SMALL(IF(joueurs=$B41,ROW(INDIRECT(\"1:\"&ROWS(tirs)))),ROWS($1:$3))),\"\")","v":""},{"$f":"IF(ROWS($1:$4)<=COUNTIF(joueurs,$B41),INDEX(tirs,SMALL(IF(joueurs=$B41,ROW(INDIRECT(\"1:\"&ROWS(tirs)))),ROWS($1:$4))),\"\")","v":""},{"$f":"IF(ROWS($1:$5)<=COUNTIF(joueurs,$B41),INDEX(tirs,SMALL(IF(joueurs=$B41,ROW(INDIRECT(\"1:\"&ROWS(tirs)))),ROWS($1:$5))),\"\")","v":""},{"$f":"IF(ROWS($1:$6)<=COUNTIF(joueurs,$B41),INDEX(tirs,SMALL(IF(joueurs=$B41,ROW(INDIRECT(\"1:\"&ROWS(tirs)))),ROWS($1:$6))),\"\")","v":""},{"$f":"IF(ROWS($1:$7)<=COUNTIF(joueurs,$B41),INDEX(tirs,SMALL(IF(joueurs=$B41,ROW(INDIRECT(\"1:\"&ROWS(tirs)))),ROWS($1:$7))),\"\")","v":""},{"$f":"IF(ROWS($1:$8)<=COUNTIF(joueurs,$B41),INDEX(tirs,SMALL(IF(joueurs=$B41,ROW(INDIRECT(\"1:\"&ROWS(tirs)))),ROWS($1:$8))),\"\")","v":""},{"$f":"IF(ROWS($1:$9)<=COUNTIF(joueurs,$B41),INDEX(tirs,SMALL(IF(joueurs=$B41,ROW(INDIRECT(\"1:\"&ROWS(tirs)))),ROWS($1:$9))),\"\")","v":""},{"$f":"IF(ROWS($1:$10)<=COUNTIF(joueurs,$B41),INDEX(tirs,SMALL(IF(joueurs=$B41,ROW(INDIRECT(\"1:\"&ROWS(tirs)))),ROWS($1:$10))),\"\")","v":""},{"$f":"IF(ROWS($1:$1)<=COUNTIF(joueurs,$B41),INDEX(bontirs,SMALL(IF(joueurs=$B41,ROW(INDIRECT(\"1:\"&ROWS(bontirs)))),ROWS($1:$1))),\"\")","v":""},{"$f":"IF(ROWS($1:$2)<=COUNTIF(joueurs,$B41),INDEX(bontirs,SMALL(IF(joueurs=$B41,ROW(INDIRECT(\"1:\"&ROWS(bontirs)))),ROWS($1:$2))),\"\")","v":""},{"$f":"IF(ROWS($1:$3)<=COUNTIF(joueurs,$B41),INDEX(bontirs,SMALL(IF(joueurs=$B41,ROW(INDIRECT(\"1:\"&ROWS(bontirs)))),ROWS($1:$3))),\"\")","v":""},{"$f":"IF(ROWS($1:$4)<=COUNTIF(joueurs,$B41),INDEX(bontirs,SMALL(IF(joueurs=$B41,ROW(INDIRECT(\"1:\"&ROWS(bontirs)))),ROWS($1:$4))),\"\")","v":""},{"$f":"IF(ROWS($1:$5)<=COUNTIF(joueurs,$B41),INDEX(bontirs,SMALL(IF(joueurs=$B41,ROW(INDIRECT(\"1:\"&ROWS(bontirs)))),ROWS($1:$5))),\"\")","v":""},{"$f":"IF(ROWS($1:$6)<=COUNTIF(joueurs,$B41),INDEX(bontirs,SMALL(IF(joueurs=$B41,ROW(INDIRECT(\"1:\"&ROWS(bontirs)))),ROWS($1:$6))),\"\")","v":""},{"$f":"IF(ROWS($1:$7)<=COUNTIF(joueurs,$B41),INDEX(bontirs,SMALL(IF(joueurs=$B41,ROW(INDIRECT(\"1:\"&ROWS(bontirs)))),ROWS($1:$7))),\"\")","v":""},{"$f":"IF(ROWS($1:$8)<=COUNTIF(joueurs,$B41),INDEX(bontirs,SMALL(IF(joueurs=$B41,ROW(INDIRECT(\"1:\"&ROWS(bontirs)))),ROWS($1:$8))),\"\")","v":""},{"$f":"IF(ROWS($1:$9)<=COUNTIF(joueurs,$B41),INDEX(bontirs,SMALL(IF(joueurs=$B41,ROW(INDIRECT(\"1:\"&ROWS(bontirs)))),ROWS($1:$9))),\"\")","v":""},{"$f":"IF(ROWS($1:$10)<=COUNTIF(joueurs,$B41),INDEX(bontirs,SMALL(IF(joueurs=$B41,ROW(INDIRECT(\"1:\"&ROWS(bontirs)))),ROWS($1:$10))),\"\")","v":""},{"$f":"IF(ROWS($1:$1)<=COUNTIF(joueurs,$B41),INDEX(points,SMALL(IF(joueurs=$B41,ROW(INDIRECT(\"1:\"&ROWS(points)))),ROWS($1:$1))),\"\")","v":""},{"$f":"IF(ROWS($1:$2)<=COUNTIF(joueurs,$B41),INDEX(points,SMALL(IF(joueurs=$B41,ROW(INDIRECT(\"1:\"&ROWS(points)))),ROWS($1:$2))),\"\")","v":""},{"$f":"IF(ROWS($1:$3)<=COUNTIF(joueurs,$B41),INDEX(points,SMALL(IF(joueurs=$B41,ROW(INDIRECT(\"1:\"&ROWS(points)))),ROWS($1:$3))),\"\")","v":""},{"$f":"IF(ROWS($1:$4)<=COUNTIF(joueurs,$B41),INDEX(points,SMALL(IF(joueurs=$B41,ROW(INDIRECT(\"1:\"&ROWS(points)))),ROWS($1:$4))),\"\")","v":""},{"$f":"IF(ROWS($1:$5)<=COUNTIF(joueurs,$B41),INDEX(points,SMALL(IF(joueurs=$B41,ROW(INDIRECT(\"1:\"&ROWS(points)))),ROWS($1:$5))),\"\")","v":""},{"$f":"IF(ROWS($1:$6)<=COUNTIF(joueurs,$B41),INDEX(points,SMALL(IF(joueurs=$B41,ROW(INDIRECT(\"1:\"&ROWS(points)))),ROWS($1:$6))),\"\")","v":""},{"$f":"IF(ROWS($1:$7)<=COUNTIF(joueurs,$B41),INDEX(points,SMALL(IF(joueurs=$B41,ROW(INDIRECT(\"1:\"&ROWS(points)))),ROWS($1:$7))),\"\")","v":""},{"$f":"IF(ROWS($1:$8)<=COUNTIF(joueurs,$B41),INDEX(points,SMALL(IF(joueurs=$B41,ROW(INDIRECT(\"1:\"&ROWS(points)))),ROWS($1:$8))),\"\")","v":""},{"$f":"IF(ROWS($1:$9)<=COUNTIF(joueurs,$B41),INDEX(points,SMALL(IF(joueurs=$B41,ROW(INDIRECT(\"1:\"&ROWS(points)))),ROWS($1:$9))),\"\")","v":""},{"$f":"IF(ROWS($1:$10)<=COUNTIF(joueurs,$B41),INDEX(points,SMALL(IF(joueurs=$B41,ROW(INDIRECT(\"1:\"&ROWS(points)))),ROWS($1:$10))),\"\")","v":""},{"$f":"IF(ROWS($1:$1)<=COUNTIF(joueurs,$B41),INDEX(victoires,SMALL(IF(joueurs=$B41,ROW(INDIRECT(\"1:\"&ROWS(victoires)))),ROWS($1:$1))),\"\")","v":""},{"$f":"IF(ROWS($1:$2)<=COUNTIF(joueurs,$B41),INDEX(victoires,SMALL(IF(joueurs=$B41,ROW(INDIRECT(\"1:\"&ROWS(victoires)))),ROWS($1:$2))),\"\")","v":""},{"$f":"IF(ROWS($1:$3)<=COUNTIF(joueurs,$B41),INDEX(victoires,SMALL(IF(joueurs=$B41,ROW(INDIRECT(\"1:\"&ROWS(victoires)))),ROWS($1:$3))),\"\")","v":""},{"$f":"IF(ROWS($1:$4)<=COUNTIF(joueurs,$B41),INDEX(victoires,SMALL(IF(joueurs=$B41,ROW(INDIRECT(\"1:\"&ROWS(victoires)))),ROWS($1:$4))),\"\")","v":""},{"$f":"IF(ROWS($1:$5)<=COUNTIF(joueurs,$B41),INDEX(victoires,SMALL(IF(joueurs=$B41,ROW(INDIRECT(\"1:\"&ROWS(victoires)))),ROWS($1:$5))),\"\")","v":""},{"$f":"IF(ROWS($1:$6)<=COUNTIF(joueurs,$B41),INDEX(victoires,SMALL(IF(joueurs=$B41,ROW(INDIRECT(\"1:\"&ROWS(victoires)))),ROWS($1:$6))),\"\")","v":""},{"$f":"IF(ROWS($1:$7)<=COUNTIF(joueurs,$B41),INDEX(victoires,SMALL(IF(joueurs=$B41,ROW(INDIRECT(\"1:\"&ROWS(victoires)))),ROWS($1:$7))),\"\")","v":""},{"$f":"IF(ROWS($1:$8)<=COUNTIF(joueurs,$B41),INDEX(victoires,SMALL(IF(joueurs=$B41,ROW(INDIRECT(\"1:\"&ROWS(victoires)))),ROWS($1:$8))),\"\")","v":""},{"$f":"IF(ROWS($1:$9)<=COUNTIF(joueurs,$B41),INDEX(victoires,SMALL(IF(joueurs=$B41,ROW(INDIRECT(\"1:\"&ROWS(victoires)))),ROWS($1:$9))),\"\")","v":""},{"$f":"IF(ROWS($1:$10)<=COUNTIF(joueurs,$B41),INDEX(victoires,SMALL(IF(joueurs=$B41,ROW(INDIRECT(\"1:\"&ROWS(victoires)))),ROWS($1:$10))),\"\")","v":""}]
[null,null,null,{"$f":"IF(ROWS($1:$11)<=COUNTIF(joueurs,$B41),INDEX(fautes,SMALL(IF(joueurs=$B41,ROW(INDIRECT(\"1:\"&ROWS(fautes)))),ROWS($1:$11))),\"\")","v":""},{"$f":"IF(ROWS($1:$12)<=COUNTIF(joueurs,$B41),INDEX(fautes,SMALL(IF(joueurs=$B41,ROW(INDIRECT(\"1:\"&ROWS(fautes)))),ROWS($1:$12))),\"\")","v":""},{"$f":"IF(ROWS($1:$13)<=COUNTIF(joueurs,$B41),INDEX(fautes,SMALL(IF(joueurs=$B41,ROW(INDIRECT(\"1:\"&ROWS(fautes)))),ROWS($1:$13))),\"\")","v":""},{"$f":"IF(ROWS($1:$14)<=COUNTIF(joueurs,$B41),INDEX(fautes,SMALL(IF(joueurs=$B41,ROW(INDIRECT(\"1:\"&ROWS(fautes)))),ROWS($1:$14))),\"\")","v":""},{"$f":"IF(ROWS($1:$15)<=COUNTIF(joueurs,$B41),INDEX(fautes,SMALL(IF(joueurs=$B41,ROW(INDIRECT(\"1:\"&ROWS(fautes)))),ROWS($1:$15))),\"\")","v":""},{"$f":"IF(ROWS($1:$16)<=COUNTIF(joueurs,$B41),INDEX(fautes,SMALL(IF(joueurs=$B41,ROW(INDIRECT(\"1:\"&ROWS(fautes)))),ROWS($1:$16))),\"\")","v":""},{"$f":"IF(ROWS($1:$17)<=COUNTIF(joueurs,$B41),INDEX(fautes,SMALL(IF(joueurs=$B41,ROW(INDIRECT(\"1:\"&ROWS(fautes)))),ROWS($1:$17))),\"\")","v":""},{"$f":"IF(ROWS($1:$18)<=COUNTIF(joueurs,$B41),INDEX(fautes,SMALL(IF(joueurs=$B41,ROW(INDIRECT(\"1:\"&ROWS(fautes)))),ROWS($1:$18))),\"\")","v":""},{"$f":"IF(ROWS($1:$19)<=COUNTIF(joueurs,$B41),INDEX(fautes,SMALL(IF(joueurs=$B41,ROW(INDIRECT(\"1:\"&ROWS(fautes)))),ROWS($1:$19))),\"\")","v":""},{"$f":"IF(ROWS($1:$20)<=COUNTIF(joueurs,$B41),INDEX(fautes,SMALL(IF(joueurs=$B41,ROW(INDIRECT(\"1:\"&ROWS(fautes)))),ROWS($1:$20))),\"\")","v":""},{"$f":"IF(ROWS($1:$11)<=COUNTIF(joueurs,$B41),INDEX(ballonperdus,SMALL(IF(joueurs=$B41,ROW(INDIRECT(\"1:\"&ROWS(ballonperdus)))),ROWS($1:$11))),\"\")","v":""},{"$f":"IF(ROWS($1:$12)<=COUNTIF(joueurs,$B41),INDEX(ballonperdus,SMALL(IF(joueurs=$B41,ROW(INDIRECT(\"1:\"&ROWS(ballonperdus)))),ROWS($1:$12))),\"\")","v":""},{"$f":"IF(ROWS($1:$13)<=COUNTIF(joueurs,$B41),INDEX(ballonperdus,SMALL(IF(joueurs=$B41,ROW(INDIRECT(\"1:\"&ROWS(ballonperdus)))),ROWS($1:$13))),\"\")","v":""},{"$f":"IF(ROWS($1:$14)<=COUNTIF(joueurs,$B41),INDEX(ballonperdus,SMALL(IF(joueurs=$B41,ROW(INDIRECT(\"1:\"&ROWS(ballonperdus)))),ROWS($1:$14))),\"\")","v":""},{"$f":"IF(ROWS($1:$15)<=COUNTIF(joueurs,$B41),INDEX(ballonperdus,SMALL(IF(joueurs=$B41,ROW(INDIRECT(\"1:\"&ROWS(ballonperdus)))),ROWS($1:$15))),\"\")","v":""},{"$f":"IF(ROWS($1:$16)<=COUNTIF(joueurs,$B41),INDEX(ballonperdus,SMALL(IF(joueurs=$B41,ROW(INDIRECT(\"1:\"&ROWS(ballonperdus)))),ROWS($1:$16))),\"\")","v":""},{"$f":"IF(ROWS($1:$17)<=COUNTIF(joueurs,$B41),INDEX(ballonperdus,SMALL(IF(joueurs=$B41,ROW(INDIRECT(\"1:\"&ROWS(ballonperdus)))),ROWS($1:$17))),\"\")","v":""},{"$f":"IF(ROWS($1:$18)<=COUNTIF(joueurs,$B41),INDEX(ballonperdus,SMALL(IF(joueurs=$B41,ROW(INDIRECT(\"1:\"&ROWS(ballonperdus)))),ROWS($1:$18))),\"\")","v":""},{"$f":"IF(ROWS($1:$19)<=COUNTIF(joueurs,$B41),INDEX(ballonperdus,SMALL(IF(joueurs=$B41,ROW(INDIRECT(\"1:\"&ROWS(ballonperdus)))),ROWS($1:$19))),\"\")","v":""},{"$f":"IF(ROWS($1:$20)<=COUNTIF(joueurs,$B41),INDEX(fautes,SMALL(IF(joueurs=$B41,ROW(INDIRECT(\"1:\"&ROWS(ballonperdus)))),ROWS($1:$20))),\"\")","v":""},{"$f":"IF(ROWS($1:$11)<=COUNTIF(joueurs,$B41),INDEX(interceptions,SMALL(IF(joueurs=$B41,ROW(INDIRECT(\"1:\"&ROWS(interceptions)))),ROWS($1:$11))),\"\")","v":""},{"$f":"IF(ROWS($1:$12)<=COUNTIF(joueurs,$B41),INDEX(interceptions,SMALL(IF(joueurs=$B41,ROW(INDIRECT(\"1:\"&ROWS(interceptions)))),ROWS($1:$12))),\"\")","v":""},{"$f":"IF(ROWS($1:$13)<=COUNTIF(joueurs,$B41),INDEX(interceptions,SMALL(IF(joueurs=$B41,ROW(INDIRECT(\"1:\"&ROWS(interceptions)))),ROWS($1:$13))),\"\")","v":""},{"$f":"IF(ROWS($1:$14)<=COUNTIF(joueurs,$B41),INDEX(interceptions,SMALL(IF(joueurs=$B41,ROW(INDIRECT(\"1:\"&ROWS(interceptions)))),ROWS($1:$14))),\"\")","v":""},{"$f":"IF(ROWS($1:$15)<=COUNTIF(joueurs,$B41),INDEX(interceptions,SMALL(IF(joueurs=$B41,ROW(INDIRECT(\"1:\"&ROWS(interceptions)))),ROWS($1:$15))),\"\")","v":""},{"$f":"IF(ROWS($1:$16)<=COUNTIF(joueurs,$B41),INDEX(interceptions,SMALL(IF(joueurs=$B41,ROW(INDIRECT(\"1:\"&ROWS(interceptions)))),ROWS($1:$16))),\"\")","v":""},{"$f":"IF(ROWS($1:$17)<=COUNTIF(joueurs,$B41),INDEX(interceptions,SMALL(IF(joueurs=$B41,ROW(INDIRECT(\"1:\"&ROWS(interceptions)))),ROWS($1:$17))),\"\")","v":""},{"$f":"IF(ROWS($1:$18)<=COUNTIF(joueurs,$B41),INDEX(interceptions,SMALL(IF(joueurs=$B41,ROW(INDIRECT(\"1:\"&ROWS(interceptions)))),ROWS($1:$18))),\"\")","v":""},{"$f":"IF(ROWS($1:$19)<=COUNTIF(joueurs,$B41),INDEX(interceptions,SMALL(IF(joueurs=$B41,ROW(INDIRECT(\"1:\"&ROWS(interceptions)))),ROWS($1:$19))),\"\")","v":""},{"$f":"IF(ROWS($1:$20)<=COUNTIF(joueurs,$B41),INDEX(interceptions,SMALL(IF(joueurs=$B41,ROW(INDIRECT(\"1:\"&ROWS(interceptions)))),ROWS($1:$20))),\"\")","v":""},{"$f":"IF(ROWS($1:$11)<=COUNTIF(joueurs,$B41),INDEX(ballonrecuperes,SMALL(IF(joueurs=$B41,ROW(INDIRECT(\"1:\"&ROWS(ballonrecuperes)))),ROWS($1:$11))),\"\")","v":""},{"$f":"IF(ROWS($1:$12)<=COUNTIF(joueurs,$B41),INDEX(ballonrecuperes,SMALL(IF(joueurs=$B41,ROW(INDIRECT(\"1:\"&ROWS(ballonrecuperes)))),ROWS($1:$12))),\"\")","v":""},{"$f":"IF(ROWS($1:$13)<=COUNTIF(joueurs,$B41),INDEX(ballonrecuperes,SMALL(IF(joueurs=$B41,ROW(INDIRECT(\"1:\"&ROWS(ballonrecuperes)))),ROWS($1:$13))),\"\")","v":""},{"$f":"IF(ROWS($1:$14)<=COUNTIF(joueurs,$B41),INDEX(ballonrecuperes,SMALL(IF(joueurs=$B41,ROW(INDIRECT(\"1:\"&ROWS(ballonrecuperes)))),ROWS($1:$14))),\"\")","v":""},{"$f":"IF(ROWS($1:$15)<=COUNTIF(joueurs,$B41),INDEX(ballonrecuperes,SMALL(IF(joueurs=$B41,ROW(INDIRECT(\"1:\"&ROWS(ballonrecuperes)))),ROWS($1:$15))),\"\")","v":""},{"$f":"IF(ROWS($1:$16)<=COUNTIF(joueurs,$B41),INDEX(ballonrecuperes,SMALL(IF(joueurs=$B41,ROW(INDIRECT(\"1:\"&ROWS(ballonrecuperes)))),ROWS($1:$16))),\"\")","v":""},{"$f":"IF(ROWS($1:$17)<=COUNTIF(joueurs,$B41),INDEX(ballonrecuperes,SMALL(IF(joueurs=$B41,ROW(INDIRECT(\"1:\"&ROWS(ballonrecuperes)))),ROWS($1:$17))),\"\")","v":""},{"$f":"IF(ROWS($1:$18)<=COUNTIF(joueurs,$B41),INDEX(ballonrecuperes,SMALL(IF(joueurs=$B41,ROW(INDIRECT(\"1:\"&ROWS(ballonrecuperes)))),ROWS($1:$18))),\"\")","v":""},{"$f":"IF(ROWS($1:$19)<=COUNTIF(joueurs,$B41),INDEX(ballonrecuperes,SMALL(IF(joueurs=$B41,ROW(INDIRECT(\"1:\"&ROWS(ballonrecuperes)))),ROWS($1:$19))),\"\")","v":""},{"$f":"IF(ROWS($1:$20)<=COUNTIF(joueurs,$B41),INDEX(ballonrecuperes,SMALL(IF(joueurs=$B41,ROW(INDIRECT(\"1:\"&ROWS(ballonrecuperes)))),ROWS($1:$20))),\"\")","v":""},{"$f":"IF(ROWS($1:$11)<=COUNTIF(joueurs,$B41),INDEX(tirs,SMALL(IF(joueurs=$B41,ROW(INDIRECT(\"1:\"&ROWS(tirs)))),ROWS($1:$11))),\"\")","v":""},{"$f":"IF(ROWS($1:$12)<=COUNTIF(joueurs,$B41),INDEX(tirs,SMALL(IF(joueurs=$B41,ROW(INDIRECT(\"1:\"&ROWS(tirs)))),ROWS($1:$12))),\"\")","v":""},{"$f":"IF(ROWS($1:$13)<=COUNTIF(joueurs,$B41),INDEX(tirs,SMALL(IF(joueurs=$B41,ROW(INDIRECT(\"1:\"&ROWS(tirs)))),ROWS($1:$13))),\"\")","v":""},{"$f":"IF(ROWS($1:$14)<=COUNTIF(joueurs,$B41),INDEX(tirs,SMALL(IF(joueurs=$B41,ROW(INDIRECT(\"1:\"&ROWS(tirs)))),ROWS($1:$14))),\"\")","v":""},{"$f":"IF(ROWS($1:$15)<=COUNTIF(joueurs,$B41),INDEX(tirs,SMALL(IF(joueurs=$B41,ROW(INDIRECT(\"1:\"&ROWS(tirs)))),ROWS($1:$15))),\"\")","v":""},{"$f":"IF(ROWS($1:$16)<=COUNTIF(joueurs,$B41),INDEX(tirs,SMALL(IF(joueurs=$B41,ROW(INDIRECT(\"1:\"&ROWS(tirs)))),ROWS($1:$16))),\"\")","v":""},{"$f":"IF(ROWS($1:$17)<=COUNTIF(joueurs,$B41),INDEX(tirs,SMALL(IF(joueurs=$B41,ROW(INDIRECT(\"1:\"&ROWS(tirs)))),ROWS($1:$17))),\"\")","v":""},{"$f":"IF(ROWS($1:$18)<=COUNTIF(joueurs,$B41),INDEX(tirs,SMALL(IF(joueurs=$B41,ROW(INDIRECT(\"1:\"&ROWS(tirs)))),ROWS($1:$18))),\"\")","v":""},{"$f":"IF(ROWS($1:$19)<=COUNTIF(joueurs,$B41),INDEX(tirs,SMALL(IF(joueurs=$B41,ROW(INDIRECT(\"1:\"&ROWS(tirs)))),ROWS($1:$19))),\"\")","v":""},{"$f":"IF(ROWS($1:$20)<=COUNTIF(joueurs,$B41),INDEX(tirs,SMALL(IF(joueurs=$B41,ROW(INDIRECT(\"1:\"&ROWS(tirs)))),ROWS($1:$20))),\"\")","v":""},{"$f":"IF(ROWS($1:$11)<=COUNTIF(joueurs,$B41),INDEX(bontirs,SMALL(IF(joueurs=$B41,ROW(INDIRECT(\"1:\"&ROWS(bontirs)))),ROWS($1:$11))),\"\")","v":""},{"$f":"IF(ROWS($1:$12)<=COUNTIF(joueurs,$B41),INDEX(bontirs,SMALL(IF(joueurs=$B41,ROW(INDIRECT(\"1:\"&ROWS(bontirs)))),ROWS($1:$12))),\"\")","v":""},{"$f":"IF(ROWS($1:$13)<=COUNTIF(joueurs,$B41),INDEX(bontirs,SMALL(IF(joueurs=$B41,ROW(INDIRECT(\"1:\"&ROWS(bontirs)))),ROWS($1:$13))),\"\")","v":""},{"$f":"IF(ROWS($1:$14)<=COUNTIF(joueurs,$B41),INDEX(bontirs,SMALL(IF(joueurs=$B41,ROW(INDIRECT(\"1:\"&ROWS(bontirs)))),ROWS($1:$14))),\"\")","v":""},{"$f":"IF(ROWS($1:$15)<=COUNTIF(joueurs,$B41),INDEX(bontirs,SMALL(IF(joueurs=$B41,ROW(INDIRECT(\"1:\"&ROWS(bontirs)))),ROWS($1:$15))),\"\")","v":""},{"$f":"IF(ROWS($1:$16)<=COUNTIF(joueurs,$B41),INDEX(bontirs,SMALL(IF(joueurs=$B41,ROW(INDIRECT(\"1:\"&ROWS(bontirs)))),ROWS($1:$16))),\"\")","v":""},{"$f":"IF(ROWS($1:$17)<=COUNTIF(joueurs,$B41),INDEX(bontirs,SMALL(IF(joueurs=$B41,ROW(INDIRECT(\"1:\"&ROWS(bontirs)))),ROWS($1:$17))),\"\")","v":""},{"$f":"IF(ROWS($1:$18)<=COUNTIF(joueurs,$B41),INDEX(bontirs,SMALL(IF(joueurs=$B41,ROW(INDIRECT(\"1:\"&ROWS(bontirs)))),ROWS($1:$18))),\"\")","v":""},{"$f":"IF(ROWS($1:$19)<=COUNTIF(joueurs,$B41),INDEX(bontirs,SMALL(IF(joueurs=$B41,ROW(INDIRECT(\"1:\"&ROWS(bontirs)))),ROWS($1:$19))),\"\")","v":""},{"$f":"IF(ROWS($1:$20)<=COUNTIF(joueurs,$B41),INDEX(bontirs,SMALL(IF(joueurs=$B41,ROW(INDIRECT(\"1:\"&ROWS(bontirs)))),ROWS($1:$20))),\"\")","v":""},{"$f":"IF(ROWS($1:$11)<=COUNTIF(joueurs,$B41),INDEX(points,SMALL(IF(joueurs=$B41,ROW(INDIRECT(\"1:\"&ROWS(points)))),ROWS($1:$11))),\"\")","v":""},{"$f":"IF(ROWS($1:$12)<=COUNTIF(joueurs,$B41),INDEX(points,SMALL(IF(joueurs=$B41,ROW(INDIRECT(\"1:\"&ROWS(points)))),ROWS($1:$12))),\"\")","v":""},{"$f":"IF(ROWS($1:$13)<=COUNTIF(joueurs,$B41),INDEX(points,SMALL(IF(joueurs=$B41,ROW(INDIRECT(\"1:\"&ROWS(points)))),ROWS($1:$13))),\"\")","v":""},{"$f":"IF(ROWS($1:$14)<=COUNTIF(joueurs,$B41),INDEX(points,SMALL(IF(joueurs=$B41,ROW(INDIRECT(\"1:\"&ROWS(points)))),ROWS($1:$14))),\"\")","v":""},{"$f":"IF(ROWS($1:$15)<=COUNTIF(joueurs,$B41),INDEX(points,SMALL(IF(joueurs=$B41,ROW(INDIRECT(\"1:\"&ROWS(points)))),ROWS($1:$15))),\"\")","v":""},{"$f":"IF(ROWS($1:$16)<=COUNTIF(joueurs,$B41),INDEX(points,SMALL(IF(joueurs=$B41,ROW(INDIRECT(\"1:\"&ROWS(points)))),ROWS($1:$16))),\"\")","v":""},{"$f":"IF(ROWS($1:$17)<=COUNTIF(joueurs,$B41),INDEX(points,SMALL(IF(joueurs=$B41,ROW(INDIRECT(\"1:\"&ROWS(points)))),ROWS($1:$17))),\"\")","v":""},{"$f":"IF(ROWS($1:$18)<=COUNTIF(joueurs,$B41),INDEX(points,SMALL(IF(joueurs=$B41,ROW(INDIRECT(\"1:\"&ROWS(points)))),ROWS($1:$18))),\"\")","v":""},{"$f":"IF(ROWS($1:$19)<=COUNTIF(joueurs,$B41),INDEX(points,SMALL(IF(joueurs=$B41,ROW(INDIRECT(\"1:\"&ROWS(points)))),ROWS($1:$19))),\"\")","v":""},{"$f":"IF(ROWS($1:$20)<=COUNTIF(points,$B41),INDEX(fautes,SMALL(IF(joueurs=$B41,ROW(INDIRECT(\"1:\"&ROWS(points)))),ROWS($1:$20))),\"\")","v":""},{"$f":"IF(ROWS($1:$11)<=COUNTIF(joueurs,$B41),INDEX(victoires,SMALL(IF(joueurs=$B41,ROW(INDIRECT(\"1:\"&ROWS(victoires)))),ROWS($1:$11))),\"\")","v":""},{"$f":"IF(ROWS($1:$12)<=COUNTIF(joueurs,$B41),INDEX(victoires,SMALL(IF(joueurs=$B41,ROW(INDIRECT(\"1:\"&ROWS(victoires)))),ROWS($1:$12))),\"\")","v":""},{"$f":"IF(ROWS($1:$13)<=COUNTIF(joueurs,$B41),INDEX(victoires,SMALL(IF(joueurs=$B41,ROW(INDIRECT(\"1:\"&ROWS(victoires)))),ROWS($1:$13))),\"\")","v":""},{"$f":"IF(ROWS($1:$14)<=COUNTIF(joueurs,$B41),INDEX(victoires,SMALL(IF(joueurs=$B41,ROW(INDIRECT(\"1:\"&ROWS(victoires)))),ROWS($1:$14))),\"\")","v":""},{"$f":"IF(ROWS($1:$15)<=COUNTIF(joueurs,$B41),INDEX(victoires,SMALL(IF(joueurs=$B41,ROW(INDIRECT(\"1:\"&ROWS(victoires)))),ROWS($1:$15))),\"\")","v":""},{"$f":"IF(ROWS($1:$16)<=COUNTIF(joueurs,$B41),INDEX(victoires,SMALL(IF(joueurs=$B41,ROW(INDIRECT(\"1:\"&ROWS(victoires)))),ROWS($1:$16))),\"\")","v":""},{"$f":"IF(ROWS($1:$17)<=COUNTIF(joueurs,$B41),INDEX(victoires,SMALL(IF(joueurs=$B41,ROW(INDIRECT(\"1:\"&ROWS(victoires)))),ROWS($1:$17))),\"\")","v":""},{"$f":"IF(ROWS($1:$18)<=COUNTIF(joueurs,$B41),INDEX(victoires,SMALL(IF(joueurs=$B41,ROW(INDIRECT(\"1:\"&ROWS(victoires)))),ROWS($1:$18))),\"\")","v":""},{"$f":"IF(ROWS($1:$19)<=COUNTIF(joueurs,$B41),INDEX(victoires,SMALL(IF(joueurs=$B41,ROW(INDIRECT(\"1:\"&ROWS(victoires)))),ROWS($1:$19))),\"\")","v":""},{"$f":"IF(ROWS($1:$20)<=COUNTIF(joueurs,$B41),INDEX(victoires,SMALL(IF(joueurs=$B41,ROW(INDIRECT(\"1:\"&ROWS(victoires)))),ROWS($1:$20))),\"\")","v":""}]
[null,null,null,{"$f":"IF(ROWS($1:$21)<=COUNTIF(joueurs,$B41),INDEX(fautes,SMALL(IF(joueurs=$B41,ROW(INDIRECT(\"1:\"&ROWS(fautes)))),ROWS($1:$21))),\"\")","v":""},{"$f":"IF(ROWS($1:$22)<=COUNTIF(joueurs,$B41),INDEX(fautes,SMALL(IF(joueurs=$B41,ROW(INDIRECT(\"1:\"&ROWS(fautes)))),ROWS($1:$22))),\"\")","v":""},{"$f":"IF(ROWS($1:$23)<=COUNTIF(joueurs,$B41),INDEX(fautes,SMALL(IF(joueurs=$B41,ROW(INDIRECT(\"1:\"&ROWS(fautes)))),ROWS($1:$23))),\"\")","v":""},{"$f":"IF(ROWS($1:$24)<=COUNTIF(joueurs,$B41),INDEX(fautes,SMALL(IF(joueurs=$B41,ROW(INDIRECT(\"1:\"&ROWS(fautes)))),ROWS($1:$24))),\"\")","v":""},{"$f":"IF(ROWS($1:$25)<=COUNTIF(joueurs,$B41),INDEX(fautes,SMALL(IF(joueurs=$B41,ROW(INDIRECT(\"1:\"&ROWS(fautes)))),ROWS($1:$25))),\"\")","v":""},{"$f":"IF(ROWS($1:$26)<=COUNTIF(joueurs,$B41),INDEX(fautes,SMALL(IF(joueurs=$B41,ROW(INDIRECT(\"1:\"&ROWS(fautes)))),ROWS($1:$26))),\"\")","v":""},{"$f":"IF(ROWS($1:$27)<=COUNTIF(joueurs,$B41),INDEX(fautes,SMALL(IF(joueurs=$B41,ROW(INDIRECT(\"1:\"&ROWS(fautes)))),ROWS($1:$27))),\"\")","v":""},{"$f":"IF(ROWS($1:$28)<=COUNTIF(joueurs,$B41),INDEX(fautes,SMALL(IF(joueurs=$B41,ROW(INDIRECT(\"1:\"&ROWS(fautes)))),ROWS($1:$28))),\"\")","v":""},{"$f":"IF(ROWS($1:$29)<=COUNTIF(joueurs,$B41),INDEX(fautes,SMALL(IF(joueurs=$B41,ROW(INDIRECT(\"1:\"&ROWS(fautes)))),ROWS($1:$29))),\"\")","v":""},{"$f":"IF(ROWS($1:$30)<=COUNTIF(joueurs,$B41),INDEX(fautes,SMALL(IF(joueurs=$B41,ROW(INDIRECT(\"1:\"&ROWS(fautes)))),ROWS($1:$30))),\"\")","v":""},{"$f":"IF(ROWS($1:$21)<=COUNTIF(joueurs,$B41),INDEX(ballonperdus,SMALL(IF(joueurs=$B41,ROW(INDIRECT(\"1:\"&ROWS(ballonperdus)))),ROWS($1:$21))),\"\")","v":""},{"$f":"IF(ROWS($1:$22)<=COUNTIF(joueurs,$B41),INDEX(ballonperdus,SMALL(IF(joueurs=$B41,ROW(INDIRECT(\"1:\"&ROWS(ballonperdus)))),ROWS($1:$22))),\"\")","v":""},{"$f":"IF(ROWS($1:$23)<=COUNTIF(joueurs,$B41),INDEX(ballonperdus,SMALL(IF(joueurs=$B41,ROW(INDIRECT(\"1:\"&ROWS(ballonperdus)))),ROWS($1:$23))),\"\")","v":""},{"$f":"IF(ROWS($1:$24)<=COUNTIF(joueurs,$B41),INDEX(ballonperdus,SMALL(IF(joueurs=$B41,ROW(INDIRECT(\"1:\"&ROWS(ballonperdus)))),ROWS($1:$24))),\"\")","v":""},{"$f":"IF(ROWS($1:$25)<=COUNTIF(joueurs,$B41),INDEX(ballonperdus,SMALL(IF(joueurs=$B41,ROW(INDIRECT(\"1:\"&ROWS(ballonperdus)))),ROWS($1:$25))),\"\")","v":""},{"$f":"IF(ROWS($1:$26)<=COUNTIF(joueurs,$B41),INDEX(ballonperdus,SMALL(IF(joueurs=$B41,ROW(INDIRECT(\"1:\"&ROWS(ballonperdus)))),ROWS($1:$26))),\"\")","v":""},{"$f":"IF(ROWS($1:$27)<=COUNTIF(joueurs,$B41),INDEX(ballonperdus,SMALL(IF(joueurs=$B41,ROW(INDIRECT(\"1:\"&ROWS(ballonperdus)))),ROWS($1:$27))),\"\")","v":""},{"$f":"IF(ROWS($1:$28)<=COUNTIF(joueurs,$B41),INDEX(ballonperdus,SMALL(IF(joueurs=$B41,ROW(INDIRECT(\"1:\"&ROWS(ballonperdus)))),ROWS($1:$28))),\"\")","v":""},{"$f":"IF(ROWS($1:$29)<=COUNTIF(joueurs,$B41),INDEX(ballonperdus,SMALL(IF(joueurs=$B41,ROW(INDIRECT(\"1:\"&ROWS(ballonperdus)))),ROWS($1:$29))),\"\")","v":""},{"$f":"IF(ROWS($1:$30)<=COUNTIF(joueurs,$B41),INDEX(ballonperdus,SMALL(IF(joueurs=$B41,ROW(INDIRECT(\"1:\"&ROWS(ballonperdus)))),ROWS($1:$30))),\"\")","v":""},{"$f":"IF(ROWS($1:$21)<=COUNTIF(joueurs,$B41),INDEX(interceptions,SMALL(IF(joueurs=$B41,ROW(INDIRECT(\"1:\"&ROWS(interceptions)))),ROWS($1:$21))),\"\")","v":""},{"$f":"IF(ROWS($1:$22)<=COUNTIF(joueurs,$B41),INDEX(interceptions,SMALL(IF(joueurs=$B41,ROW(INDIRECT(\"1:\"&ROWS(interceptions)))),ROWS($1:$22))),\"\")","v":""},{"$f":"IF(ROWS($1:$23)<=COUNTIF(joueurs,$B41),INDEX(interceptions,SMALL(IF(joueurs=$B41,ROW(INDIRECT(\"1:\"&ROWS(interceptions)))),ROWS($1:$23))),\"\")","v":""},{"$f":"IF(ROWS($1:$24)<=COUNTIF(joueurs,$B41),INDEX(interceptions,SMALL(IF(joueurs=$B41,ROW(INDIRECT(\"1:\"&ROWS(interceptions)))),ROWS($1:$24))),\"\")","v":""},{"$f":"IF(ROWS($1:$25)<=COUNTIF(joueurs,$B41),INDEX(interceptions,SMALL(IF(joueurs=$B41,ROW(INDIRECT(\"1:\"&ROWS(interceptions)))),ROWS($1:$25))),\"\")","v":""},{"$f":"IF(ROWS($1:$26)<=COUNTIF(joueurs,$B41),INDEX(interceptions,SMALL(IF(joueurs=$B41,ROW(INDIRECT(\"1:\"&ROWS(interceptions)))),ROWS($1:$26))),\"\")","v":""},{"$f":"IF(ROWS($1:$27)<=COUNTIF(joueurs,$B41),INDEX(interceptions,SMALL(IF(joueurs=$B41,ROW(INDIRECT(\"1:\"&ROWS(interceptions)))),ROWS($1:$27))),\"\")","v":""},{"$f":"IF(ROWS($1:$28)<=COUNTIF(joueurs,$B41),INDEX(interceptions,SMALL(IF(joueurs=$B41,ROW(INDIRECT(\"1:\"&ROWS(interceptions)))),ROWS($1:$28))),\"\")","v":""},{"$f":"IF(ROWS($1:$29)<=COUNTIF(joueurs,$B41),INDEX(interceptions,SMALL(IF(joueurs=$B41,ROW(INDIRECT(\"1:\"&ROWS(interceptions)))),ROWS($1:$29))),\"\")","v":""},{"$f":"IF(ROWS($1:$30)<=COUNTIF(joueurs,$B41),INDEX(interceptions,SMALL(IF(joueurs=$B41,ROW(INDIRECT(\"1:\"&ROWS(interceptions)))),ROWS($1:$30))),\"\")","v":""},{"$f":"IF(ROWS($1:$21)<=COUNTIF(joueurs,$B41),INDEX(ballonrecuperes,SMALL(IF(joueurs=$B41,ROW(INDIRECT(\"1:\"&ROWS(ballonrecuperes)))),ROWS($1:$21))),\"\")","v":""},{"$f":"IF(ROWS($1:$22)<=COUNTIF(joueurs,$B41),INDEX(ballonrecuperes,SMALL(IF(joueurs=$B41,ROW(INDIRECT(\"1:\"&ROWS(ballonrecuperes)))),ROWS($1:$22))),\"\")","v":""},{"$f":"IF(ROWS($1:$23)<=COUNTIF(joueurs,$B41),INDEX(ballonrecuperes,SMALL(IF(joueurs=$B41,ROW(INDIRECT(\"1:\"&ROWS(ballonrecuperes)))),ROWS($1:$23))),\"\")","v":""},{"$f":"IF(ROWS($1:$24)<=COUNTIF(joueurs,$B41),INDEX(ballonrecuperes,SMALL(IF(joueurs=$B41,ROW(INDIRECT(\"1:\"&ROWS(ballonrecuperes)))),ROWS($1:$24))),\"\")","v":""},{"$f":"IF(ROWS($1:$25)<=COUNTIF(joueurs,$B41),INDEX(ballonrecuperes,SMALL(IF(joueurs=$B41,ROW(INDIRECT(\"1:\"&ROWS(ballonrecuperes)))),ROWS($1:$25))),\"\")","v":""},{"$f":"IF(ROWS($1:$26)<=COUNTIF(joueurs,$B41),INDEX(ballonrecuperes,SMALL(IF(joueurs=$B41,ROW(INDIRECT(\"1:\"&ROWS(ballonrecuperes)))),ROWS($1:$26))),\"\")","v":""},{"$f":"IF(ROWS($1:$27)<=COUNTIF(joueurs,$B41),INDEX(ballonrecuperes,SMALL(IF(joueurs=$B41,ROW(INDIRECT(\"1:\"&ROWS(ballonrecuperes)))),ROWS($1:$27))),\"\")","v":""},{"$f":"IF(ROWS($1:$28)<=COUNTIF(joueurs,$B41),INDEX(ballonrecuperes,SMALL(IF(joueurs=$B41,ROW(INDIRECT(\"1:\"&ROWS(ballonrecuperes)))),ROWS($1:$28))),\"\")","v":""},{"$f":"IF(ROWS($1:$29)<=COUNTIF(joueurs,$B41),INDEX(ballonrecuperes,SMALL(IF(joueurs=$B41,ROW(INDIRECT(\"1:\"&ROWS(ballonrecuperes)))),ROWS($1:$29))),\"\")","v":""},{"$f":"IF(ROWS($1:$30)<=COUNTIF(joueurs,$B41),INDEX(ballonrecuperes,SMALL(IF(joueurs=$B41,ROW(INDIRECT(\"1:\"&ROWS(ballonrecuperes)))),ROWS($1:$30))),\"\")","v":""},{"$f":"IF(ROWS($1:$21)<=COUNTIF(joueurs,$B41),INDEX(tirs,SMALL(IF(joueurs=$B41,ROW(INDIRECT(\"1:\"&ROWS(tirs)))),ROWS($1:$21))),\"\")","v":""},{"$f":"IF(ROWS($1:$22)<=COUNTIF(joueurs,$B41),INDEX(tirs,SMALL(IF(joueurs=$B41,ROW(INDIRECT(\"1:\"&ROWS(tirs)))),ROWS($1:$22))),\"\")","v":""},{"$f":"IF(ROWS($1:$23)<=COUNTIF(joueurs,$B41),INDEX(tirs,SMALL(IF(joueurs=$B41,ROW(INDIRECT(\"1:\"&ROWS(tirs)))),ROWS($1:$23))),\"\")","v":""},{"$f":"IF(ROWS($1:$24)<=COUNTIF(joueurs,$B41),INDEX(tirs,SMALL(IF(joueurs=$B41,ROW(INDIRECT(\"1:\"&ROWS(tirs)))),ROWS($1:$24))),\"\")","v":""},{"$f":"IF(ROWS($1:$25)<=COUNTIF(joueurs,$B41),INDEX(tirs,SMALL(IF(joueurs=$B41,ROW(INDIRECT(\"1:\"&ROWS(tirs)))),ROWS($1:$25))),\"\")","v":""},{"$f":"IF(ROWS($1:$26)<=COUNTIF(joueurs,$B41),INDEX(tirs,SMALL(IF(joueurs=$B41,ROW(INDIRECT(\"1:\"&ROWS(tirs)))),ROWS($1:$26))),\"\")","v":""},{"$f":"IF(ROWS($1:$27)<=COUNTIF(joueurs,$B41),INDEX(tirs,SMALL(IF(joueurs=$B41,ROW(INDIRECT(\"1:\"&ROWS(tirs)))),ROWS($1:$27))),\"\")","v":""},{"$f":"IF(ROWS($1:$28)<=COUNTIF(joueurs,$B41),INDEX(tirs,SMALL(IF(joueurs=$B41,ROW(INDIRECT(\"1:\"&ROWS(tirs)))),ROWS($1:$28))),\"\")","v":""},{"$f":"IF(ROWS($1:$29)<=COUNTIF(joueurs,$B41),INDEX(tirs,SMALL(IF(joueurs=$B41,ROW(INDIRECT(\"1:\"&ROWS(tirs)))),ROWS($1:$29))),\"\")","v":""},{"$f":"IF(ROWS($1:$30)<=COUNTIF(joueurs,$B41),INDEX(tirs,SMALL(IF(joueurs=$B41,ROW(INDIRECT(\"1:\"&ROWS(tirs)))),ROWS($1:$30))),\"\")","v":""},{"$f":"IF(ROWS($1:$21)<=COUNTIF(joueurs,$B41),INDEX(bontirs,SMALL(IF(joueurs=$B41,ROW(INDIRECT(\"1:\"&ROWS(bontirs)))),ROWS($1:$21))),\"\")","v":""},{"$f":"IF(ROWS($1:$22)<=COUNTIF(joueurs,$B41),INDEX(bontirs,SMALL(IF(joueurs=$B41,ROW(INDIRECT(\"1:\"&ROWS(bontirs)))),ROWS($1:$22))),\"\")","v":""},{"$f":"IF(ROWS($1:$23)<=COUNTIF(joueurs,$B41),INDEX(bontirs,SMALL(IF(joueurs=$B41,ROW(INDIRECT(\"1:\"&ROWS(bontirs)))),ROWS($1:$23))),\"\")","v":""},{"$f":"IF(ROWS($1:$24)<=COUNTIF(joueurs,$B41),INDEX(bontirs,SMALL(IF(joueurs=$B41,ROW(INDIRECT(\"1:\"&ROWS(bontirs)))),ROWS($1:$24))),\"\")","v":""},{"$f":"IF(ROWS($1:$25)<=COUNTIF(joueurs,$B41),INDEX(bontirs,SMALL(IF(joueurs=$B41,ROW(INDIRECT(\"1:\"&ROWS(bontirs)))),ROWS($1:$25))),\"\")","v":""},{"$f":"IF(ROWS($1:$26)<=COUNTIF(joueurs,$B41),INDEX(bontirs,SMALL(IF(joueurs=$B41,ROW(INDIRECT(\"1:\"&ROWS(bontirs)))),ROWS($1:$26))),\"\")","v":""},{"$f":"IF(ROWS($1:$27)<=COUNTIF(joueurs,$B41),INDEX(bontirs,SMALL(IF(joueurs=$B41,ROW(INDIRECT(\"1:\"&ROWS(bontirs)))),ROWS($1:$27))),\"\")","v":""},{"$f":"IF(ROWS($1:$28)<=COUNTIF(joueurs,$B41),INDEX(bontirs,SMALL(IF(joueurs=$B41,ROW(INDIRECT(\"1:\"&ROWS(bontirs)))),ROWS($1:$28))),\"\")","v":""},{"$f":"IF(ROWS($1:$29)<=COUNTIF(joueurs,$B41),INDEX(bontirs,SMALL(IF(joueurs=$B41,ROW(INDIRECT(\"1:\"&ROWS(bontirs)))),ROWS($1:$29))),\"\")","v":""},{"$f":"IF(ROWS($1:$30)<=COUNTIF(joueurs,$B41),INDEX(bontirs,SMALL(IF(joueurs=$B41,ROW(INDIRECT(\"1:\"&ROWS(bontirs)))),ROWS($1:$30))),\"\")","v":""},{"$f":"IF(ROWS($1:$21)<=COUNTIF(joueurs,$B41),INDEX(points,SMALL(IF(joueurs=$B41,ROW(INDIRECT(\"1:\"&ROWS(points)))),ROWS($1:$21))),\"\")","v":""},{"$f":"IF(ROWS($1:$22)<=COUNTIF(joueurs,$B41),INDEX(points,SMALL(IF(joueurs=$B41,ROW(INDIRECT(\"1:\"&ROWS(points)))),ROWS($1:$22))),\"\")","v":""},{"$f":"IF(ROWS($1:$23)<=COUNTIF(joueurs,$B41),INDEX(points,SMALL(IF(joueurs=$B41,ROW(INDIRECT(\"1:\"&ROWS(points)))),ROWS($1:$23))),\"\")","v":""},{"$f":"IF(ROWS($1:$24)<=COUNTIF(joueurs,$B41),INDEX(points,SMALL(IF(joueurs=$B41,ROW(INDIRECT(\"1:\"&ROWS(points)))),ROWS($1:$24))),\"\")","v":""},{"$f":"IF(ROWS($1:$25)<=COUNTIF(joueurs,$B41),INDEX(points,SMALL(IF(joueurs=$B41,ROW(INDIRECT(\"1:\"&ROWS(points)))),ROWS($1:$25))),\"\")","v":""},{"$f":"IF(ROWS($1:$26)<=COUNTIF(joueurs,$B41),INDEX(points,SMALL(IF(joueurs=$B41,ROW(INDIRECT(\"1:\"&ROWS(points)))),ROWS($1:$26))),\"\")","v":""},{"$f":"IF(ROWS($1:$27)<=COUNTIF(joueurs,$B41),INDEX(points,SMALL(IF(joueurs=$B41,ROW(INDIRECT(\"1:\"&ROWS(points)))),ROWS($1:$27))),\"\")","v":""},{"$f":"IF(ROWS($1:$28)<=COUNTIF(joueurs,$B41),INDEX(points,SMALL(IF(joueurs=$B41,ROW(INDIRECT(\"1:\"&ROWS(points)))),ROWS($1:$28))),\"\")","v":""},{"$f":"IF(ROWS($1:$29)<=COUNTIF(joueurs,$B41),INDEX(points,SMALL(IF(joueurs=$B41,ROW(INDIRECT(\"1:\"&ROWS(points)))),ROWS($1:$29))),\"\")","v":""},{"$f":"IF(ROWS($1:$30)<=COUNTIF(joueurs,$B41),INDEX(points,SMALL(IF(joueurs=$B41,ROW(INDIRECT(\"1:\"&ROWS(points)))),ROWS($1:$30))),\"\")","v":""},{"$f":"IF(ROWS($1:$21)<=COUNTIF(joueurs,$B41),INDEX(victoires,SMALL(IF(joueurs=$B41,ROW(INDIRECT(\"1:\"&ROWS(victoires)))),ROWS($1:$21))),\"\")","v":""},{"$f":"IF(ROWS($1:$22)<=COUNTIF(joueurs,$B41),INDEX(victoires,SMALL(IF(joueurs=$B41,ROW(INDIRECT(\"1:\"&ROWS(victoires)))),ROWS($1:$22))),\"\")","v":""},{"$f":"IF(ROWS($1:$23)<=COUNTIF(joueurs,$B41),INDEX(victoires,SMALL(IF(joueurs=$B41,ROW(INDIRECT(\"1:\"&ROWS(victoires)))),ROWS($1:$23))),\"\")","v":""},{"$f":"IF(ROWS($1:$24)<=COUNTIF(joueurs,$B41),INDEX(victoires,SMALL(IF(joueurs=$B41,ROW(INDIRECT(\"1:\"&ROWS(victoires)))),ROWS($1:$24))),\"\")","v":""},{"$f":"IF(ROWS($1:$25)<=COUNTIF(joueurs,$B41),INDEX(victoires,SMALL(IF(joueurs=$B41,ROW(INDIRECT(\"1:\"&ROWS(victoires)))),ROWS($1:$25))),\"\")","v":""},{"$f":"IF(ROWS($1:$26)<=COUNTIF(joueurs,$B41),INDEX(victoires,SMALL(IF(joueurs=$B41,ROW(INDIRECT(\"1:\"&ROWS(victoires)))),ROWS($1:$26))),\"\")","v":""},{"$f":"IF(ROWS($1:$27)<=COUNTIF(joueurs,$B41),INDEX(victoires,SMALL(IF(joueurs=$B41,ROW(INDIRECT(\"1:\"&ROWS(victoires)))),ROWS($1:$27))),\"\")","v":""},{"$f":"IF(ROWS($1:$28)<=COUNTIF(joueurs,$B41),INDEX(victoires,SMALL(IF(joueurs=$B41,ROW(INDIRECT(\"1:\"&ROWS(victoires)))),ROWS($1:$28))),\"\")","v":""},{"$f":"IF(ROWS($1:$29)<=COUNTIF(joueurs,$B41),INDEX(victoires,SMALL(IF(joueurs=$B41,ROW(INDIRECT(\"1:\"&ROWS(victoires)))),ROWS($1:$29))),\"\")","v":""},{"$f":"IF(ROWS($1:$30)<=COUNTIF(joueurs,$B41),INDEX(victoires,SMALL(IF(joueurs=$B41,ROW(INDIRECT(\"1:\"&ROWS(victoires)))),ROWS($1:$30))),\"\")","v":""}]
[null,null,null,{"$f":"IF(ROWS($1:$31)<=COUNTIF(joueurs,$B41),INDEX(fautes,SMALL(IF(joueurs=$B41,ROW(INDIRECT(\"1:\"&ROWS(fautes)))),ROWS($1:$31))),\"\")","v":""},{"$f":"IF(ROWS($1:$32)<=COUNTIF(joueurs,$B41),INDEX(fautes,SMALL(IF(joueurs=$B41,ROW(INDIRECT(\"1:\"&ROWS(fautes)))),ROWS($1:$32))),\"\")","v":""},{"$f":"IF(ROWS($1:$33)<=COUNTIF(joueurs,$B41),INDEX(fautes,SMALL(IF(joueurs=$B41,ROW(INDIRECT(\"1:\"&ROWS(fautes)))),ROWS($1:$33))),\"\")","v":""},{"$f":"IF(ROWS($1:$34)<=COUNTIF(joueurs,$B41),INDEX(fautes,SMALL(IF(joueurs=$B41,ROW(INDIRECT(\"1:\"&ROWS(fautes)))),ROWS($1:$34))),\"\")","v":""},{"$f":"IF(ROWS($1:$35)<=COUNTIF(joueurs,$B41),INDEX(fautes,SMALL(IF(joueurs=$B41,ROW(INDIRECT(\"1:\"&ROWS(fautes)))),ROWS($1:$35))),\"\")","v":""},{"$f":"IF(ROWS($1:$36)<=COUNTIF(joueurs,$B41),INDEX(fautes,SMALL(IF(joueurs=$B41,ROW(INDIRECT(\"1:\"&ROWS(fautes)))),ROWS($1:$36))),\"\")","v":""},{"$f":"IF(ROWS($1:$37)<=COUNTIF(joueurs,$B41),INDEX(fautes,SMALL(IF(joueurs=$B41,ROW(INDIRECT(\"1:\"&ROWS(fautes)))),ROWS($1:$37))),\"\")","v":""},{"$f":"IF(ROWS($1:$38)<=COUNTIF(joueurs,$B41),INDEX(fautes,SMALL(IF(joueurs=$B41,ROW(INDIRECT(\"1:\"&ROWS(fautes)))),ROWS($1:$38))),\"\")","v":""},{"$f":"IF(ROWS($1:$39)<=COUNTIF(joueurs,$B41),INDEX(fautes,SMALL(IF(joueurs=$B41,ROW(INDIRECT(\"1:\"&ROWS(fautes)))),ROWS($1:$39))),\"\")","v":""},{"$f":"IF(ROWS($1:$40)<=COUNTIF(joueurs,$B41),INDEX(fautes,SMALL(IF(joueurs=$B41,ROW(INDIRECT(\"1:\"&ROWS(fautes)))),ROWS($1:$40))),\"\")","v":""},{"$f":"IF(ROWS($1:$31)<=COUNTIF(joueurs,$B41),INDEX(ballonperdus,SMALL(IF(joueurs=$B41,ROW(INDIRECT(\"1:\"&ROWS(ballonperdus)))),ROWS($1:$31))),\"\")","v":""},{"$f":"IF(ROWS($1:$32)<=COUNTIF(joueurs,$B41),INDEX(ballonperdus,SMALL(IF(joueurs=$B41,ROW(INDIRECT(\"1:\"&ROWS(ballonperdus)))),ROWS($1:$32))),\"\")","v":""},{"$f":"IF(ROWS($1:$33)<=COUNTIF(joueurs,$B41),INDEX(ballonperdus,SMALL(IF(joueurs=$B41,ROW(INDIRECT(\"1:\"&ROWS(ballonperdus)))),ROWS($1:$33))),\"\")","v":""},{"$f":"IF(ROWS($1:$34)<=COUNTIF(joueurs,$B41),INDEX(ballonperdus,SMALL(IF(joueurs=$B41,ROW(INDIRECT(\"1:\"&ROWS(ballonperdus)))),ROWS($1:$34))),\"\")","v":""},{"$f":"IF(ROWS($1:$35)<=COUNTIF(joueurs,$B41),INDEX(ballonperdus,SMALL(IF(joueurs=$B41,ROW(INDIRECT(\"1:\"&ROWS(ballonperdus)))),ROWS($1:$35))),\"\")","v":""},{"$f":"IF(ROWS($1:$36)<=COUNTIF(joueurs,$B41),INDEX(ballonperdus,SMALL(IF(joueurs=$B41,ROW(INDIRECT(\"1:\"&ROWS(ballonperdus)))),ROWS($1:$36))),\"\")","v":""},{"$f":"IF(ROWS($1:$37)<=COUNTIF(joueurs,$B41),INDEX(ballonperdus,SMALL(IF(joueurs=$B41,ROW(INDIRECT(\"1:\"&ROWS(ballonperdus)))),ROWS($1:$37))),\"\")","v":""},{"$f":"IF(ROWS($1:$38)<=COUNTIF(joueurs,$B41),INDEX(ballonperdus,SMALL(IF(joueurs=$B41,ROW(INDIRECT(\"1:\"&ROWS(ballonperdus)))),ROWS($1:$38))),\"\")","v":""},{"$f":"IF(ROWS($1:$39)<=COUNTIF(joueurs,$B41),INDEX(ballonperdus,SMALL(IF(joueurs=$B41,ROW(INDIRECT(\"1:\"&ROWS(ballonperdus)))),ROWS($1:$39))),\"\")","v":""},{"$f":"IF(ROWS($1:$40)<=COUNTIF(joueurs,$B41),INDEX(ballonperdus,SMALL(IF(joueurs=$B41,ROW(INDIRECT(\"1:\"&ROWS(ballonperdus)))),ROWS($1:$40))),\"\")","v":""},{"$f":"IF(ROWS($1:$31)<=COUNTIF(joueurs,$B41),INDEX(interceptions,SMALL(IF(joueurs=$B41,ROW(INDIRECT(\"1:\"&ROWS(interceptions)))),ROWS($1:$31))),\"\")","v":""},{"$f":"IF(ROWS($1:$32)<=COUNTIF(joueurs,$B41),INDEX(interceptions,SMALL(IF(joueurs=$B41,ROW(INDIRECT(\"1:\"&ROWS(interceptions)))),ROWS($1:$32))),\"\")","v":""},{"$f":"IF(ROWS($1:$33)<=COUNTIF(joueurs,$B41),INDEX(interceptions,SMALL(IF(joueurs=$B41,ROW(INDIRECT(\"1:\"&ROWS(interceptions)))),ROWS($1:$33))),\"\")","v":""},{"$f":"IF(ROWS($1:$34)<=COUNTIF(joueurs,$B41),INDEX(interceptions,SMALL(IF(joueurs=$B41,ROW(INDIRECT(\"1:\"&ROWS(interceptions)))),ROWS($1:$34))),\"\")","v":""},{"$f":"IF(ROWS($1:$35)<=COUNTIF(joueurs,$B41),INDEX(interceptions,SMALL(IF(joueurs=$B41,ROW(INDIRECT(\"1:\"&ROWS(interceptions)))),ROWS($1:$35))),\"\")","v":""},{"$f":"IF(ROWS($1:$36)<=COUNTIF(joueurs,$B41),INDEX(interceptions,SMALL(IF(joueurs=$B41,ROW(INDIRECT(\"1:\"&ROWS(interceptions)))),ROWS($1:$36))),\"\")","v":""},{"$f":"IF(ROWS($1:$37)<=COUNTIF(joueurs,$B41),INDEX(interceptions,SMALL(IF(joueurs=$B41,ROW(INDIRECT(\"1:\"&ROWS(interceptions)))),ROWS($1:$37))),\"\")","v":""},{"$f":"IF(ROWS($1:$38)<=COUNTIF(joueurs,$B41),INDEX(interceptions,SMALL(IF(joueurs=$B41,ROW(INDIRECT(\"1:\"&ROWS(interceptions)))),ROWS($1:$38))),\"\")","v":""},{"$f":"IF(ROWS($1:$39)<=COUNTIF(joueurs,$B41),INDEX(interceptions,SMALL(IF(joueurs=$B41,ROW(INDIRECT(\"1:\"&ROWS(interceptions)))),ROWS($1:$39))),\"\")","v":""},{"$f":"IF(ROWS($1:$40)<=COUNTIF(joueurs,$B41),INDEX(interceptions,SMALL(IF(joueurs=$B41,ROW(INDIRECT(\"1:\"&ROWS(interceptions)))),ROWS($1:$40))),\"\")","v":""},{"$f":"IF(ROWS($1:$31)<=COUNTIF(joueurs,$B41),INDEX(ballonrecuperes,SMALL(IF(joueurs=$B41,ROW(INDIRECT(\"1:\"&ROWS(ballonrecuperes)))),ROWS($1:$31))),\"\")","v":""},{"$f":"IF(ROWS($1:$32)<=COUNTIF(joueurs,$B41),INDEX(ballonrecuperes,SMALL(IF(joueurs=$B41,ROW(INDIRECT(\"1:\"&ROWS(ballonrecuperes)))),ROWS($1:$32))),\"\")","v":""},{"$f":"IF(ROWS($1:$33)<=COUNTIF(joueurs,$B41),INDEX(ballonrecuperes,SMALL(IF(joueurs=$B41,ROW(INDIRECT(\"1:\"&ROWS(ballonrecuperes)))),ROWS($1:$33))),\"\")","v":""},{"$f":"IF(ROWS($1:$34)<=COUNTIF(joueurs,$B41),INDEX(ballonrecuperes,SMALL(IF(joueurs=$B41,ROW(INDIRECT(\"1:\"&ROWS(ballonrecuperes)))),ROWS($1:$34))),\"\")","v":""},{"$f":"IF(ROWS($1:$35)<=COUNTIF(joueurs,$B41),INDEX(ballonrecuperes,SMALL(IF(joueurs=$B41,ROW(INDIRECT(\"1:\"&ROWS(ballonrecuperes)))),ROWS($1:$35))),\"\")","v":""},{"$f":"IF(ROWS($1:$36)<=COUNTIF(joueurs,$B41),INDEX(ballonrecuperes,SMALL(IF(joueurs=$B41,ROW(INDIRECT(\"1:\"&ROWS(ballonrecuperes)))),ROWS($1:$36))),\"\")","v":""},{"$f":"IF(ROWS($1:$37)<=COUNTIF(joueurs,$B41),INDEX(ballonrecuperes,SMALL(IF(joueurs=$B41,ROW(INDIRECT(\"1:\"&ROWS(ballonrecuperes)))),ROWS($1:$37))),\"\")","v":""},{"$f":"IF(ROWS($1:$38)<=COUNTIF(joueurs,$B41),INDEX(ballonrecuperes,SMALL(IF(joueurs=$B41,ROW(INDIRECT(\"1:\"&ROWS(ballonrecuperes)))),ROWS($1:$38))),\"\")","v":""},{"$f":"IF(ROWS($1:$39)<=COUNTIF(joueurs,$B41),INDEX(ballonrecuperes,SMALL(IF(joueurs=$B41,ROW(INDIRECT(\"1:\"&ROWS(ballonrecuperes)))),ROWS($1:$39))),\"\")","v":""},{"$f":"IF(ROWS($1:$40)<=COUNTIF(joueurs,$B41),INDEX(ballonrecuperes,SMALL(IF(joueurs=$B41,ROW(INDIRECT(\"1:\"&ROWS(ballonrecuperes)))),ROWS($1:$40))),\"\")","v":""},{"$f":"IF(ROWS($1:$31)<=COUNTIF(joueurs,$B41),INDEX(tirs,SMALL(IF(joueurs=$B41,ROW(INDIRECT(\"1:\"&ROWS(tirs)))),ROWS($1:$31))),\"\")","v":""},{"$f":"IF(ROWS($1:$32)<=COUNTIF(joueurs,$B41),INDEX(tirs,SMALL(IF(joueurs=$B41,ROW(INDIRECT(\"1:\"&ROWS(tirs)))),ROWS($1:$32))),\"\")","v":""},{"$f":"IF(ROWS($1:$33)<=COUNTIF(joueurs,$B41),INDEX(tirs,SMALL(IF(joueurs=$B41,ROW(INDIRECT(\"1:\"&ROWS(tirs)))),ROWS($1:$33))),\"\")","v":""},{"$f":"IF(ROWS($1:$34)<=COUNTIF(joueurs,$B41),INDEX(tirs,SMALL(IF(joueurs=$B41,ROW(INDIRECT(\"1:\"&ROWS(tirs)))),ROWS($1:$34))),\"\")","v":""},{"$f":"IF(ROWS($1:$35)<=COUNTIF(joueurs,$B41),INDEX(tirs,SMALL(IF(joueurs=$B41,ROW(INDIRECT(\"1:\"&ROWS(tirs)))),ROWS($1:$35))),\"\")","v":""},{"$f":"IF(ROWS($1:$36)<=COUNTIF(joueurs,$B41),INDEX(tirs,SMALL(IF(joueurs=$B41,ROW(INDIRECT(\"1:\"&ROWS(tirs)))),ROWS($1:$36))),\"\")","v":""},{"$f":"IF(ROWS($1:$37)<=COUNTIF(joueurs,$B41),INDEX(tirs,SMALL(IF(joueurs=$B41,ROW(INDIRECT(\"1:\"&ROWS(tirs)))),ROWS($1:$37))),\"\")","v":""},{"$f":"IF(ROWS($1:$38)<=COUNTIF(joueurs,$B41),INDEX(tirs,SMALL(IF(joueurs=$B41,ROW(INDIRECT(\"1:\"&ROWS(tirs)))),ROWS($1:$38))),\"\")","v":""},{"$f":"IF(ROWS($1:$39)<=COUNTIF(joueurs,$B41),INDEX(tirs,SMALL(IF(joueurs=$B41,ROW(INDIRECT(\"1:\"&ROWS(tirs)))),ROWS($1:$39))),\"\")","v":""},{"$f":"IF(ROWS($1:$40)<=COUNTIF(joueurs,$B41),INDEX(tirs,SMALL(IF(joueurs=$B41,ROW(INDIRECT(\"1:\"&ROWS(tirs)))),ROWS($1:$40))),\"\")","v":""},{"$f":"IF(ROWS($1:$31)<=COUNTIF(joueurs,$B41),INDEX(bontirs,SMALL(IF(joueurs=$B41,ROW(INDIRECT(\"1:\"&ROWS(bontirs)))),ROWS($1:$31))),\"\")","v":""},{"$f":"IF(ROWS($1:$32)<=COUNTIF(joueurs,$B41),INDEX(bontirs,SMALL(IF(joueurs=$B41,ROW(INDIRECT(\"1:\"&ROWS(bontirs)))),ROWS($1:$32))),\"\")","v":""},{"$f":"IF(ROWS($1:$33)<=COUNTIF(joueurs,$B41),INDEX(bontirs,SMALL(IF(joueurs=$B41,ROW(INDIRECT(\"1:\"&ROWS(bontirs)))),ROWS($1:$33))),\"\")","v":""},{"$f":"IF(ROWS($1:$34)<=COUNTIF(joueurs,$B41),INDEX(bontirs,SMALL(IF(joueurs=$B41,ROW(INDIRECT(\"1:\"&ROWS(bontirs)))),ROWS($1:$34))),\"\")","v":""},{"$f":"IF(ROWS($1:$35)<=COUNTIF(joueurs,$B41),INDEX(bontirs,SMALL(IF(joueurs=$B41,ROW(INDIRECT(\"1:\"&ROWS(bontirs)))),ROWS($1:$35))),\"\")","v":""},{"$f":"IF(ROWS($1:$36)<=COUNTIF(joueurs,$B41),INDEX(bontirs,SMALL(IF(joueurs=$B41,ROW(INDIRECT(\"1:\"&ROWS(bontirs)))),ROWS($1:$36))),\"\")","v":""},{"$f":"IF(ROWS($1:$37)<=COUNTIF(joueurs,$B41),INDEX(bontirs,SMALL(IF(joueurs=$B41,ROW(INDIRECT(\"1:\"&ROWS(bontirs)))),ROWS($1:$37))),\"\")","v":""},{"$f":"IF(ROWS($1:$38)<=COUNTIF(joueurs,$B41),INDEX(bontirs,SMALL(IF(joueurs=$B41,ROW(INDIRECT(\"1:\"&ROWS(bontirs)))),ROWS($1:$38))),\"\")","v":""},{"$f":"IF(ROWS($1:$39)<=COUNTIF(joueurs,$B41),INDEX(bontirs,SMALL(IF(joueurs=$B41,ROW(INDIRECT(\"1:\"&ROWS(bontirs)))),ROWS($1:$39))),\"\")","v":""},{"$f":"IF(ROWS($1:$40)<=COUNTIF(joueurs,$B41),INDEX(bontirs,SMALL(IF(joueurs=$B41,ROW(INDIRECT(\"1:\"&ROWS(bontirs)))),ROWS($1:$40))),\"\")","v":""},{"$f":"IF(ROWS($1:$31)<=COUNTIF(joueurs,$B41),INDEX(points,SMALL(IF(joueurs=$B41,ROW(INDIRECT(\"1:\"&ROWS(points)))),ROWS($1:$31))),\"\")","v":""},{"$f":"IF(ROWS($1:$32)<=COUNTIF(joueurs,$B41),INDEX(points,SMALL(IF(joueurs=$B41,ROW(INDIRECT(\"1:\"&ROWS(points)))),ROWS($1:$32))),\"\")","v":""},{"$f":"IF(ROWS($1:$33)<=COUNTIF(joueurs,$B41),INDEX(points,SMALL(IF(joueurs=$B41,ROW(INDIRECT(\"1:\"&ROWS(points)))),ROWS($1:$33))),\"\")","v":""},{"$f":"IF(ROWS($1:$34)<=COUNTIF(joueurs,$B41),INDEX(points,SMALL(IF(joueurs=$B41,ROW(INDIRECT(\"1:\"&ROWS(points)))),ROWS($1:$34))),\"\")","v":""},{"$f":"IF(ROWS($1:$35)<=COUNTIF(joueurs,$B41),INDEX(points,SMALL(IF(joueurs=$B41,ROW(INDIRECT(\"1:\"&ROWS(points)))),ROWS($1:$35))),\"\")","v":""},{"$f":"IF(ROWS($1:$36)<=COUNTIF(joueurs,$B41),INDEX(points,SMALL(IF(joueurs=$B41,ROW(INDIRECT(\"1:\"&ROWS(points)))),ROWS($1:$36))),\"\")","v":""},{"$f":"IF(ROWS($1:$37)<=COUNTIF(joueurs,$B41),INDEX(points,SMALL(IF(joueurs=$B41,ROW(INDIRECT(\"1:\"&ROWS(points)))),ROWS($1:$37))),\"\")","v":""},{"$f":"IF(ROWS($1:$38)<=COUNTIF(joueurs,$B41),INDEX(points,SMALL(IF(joueurs=$B41,ROW(INDIRECT(\"1:\"&ROWS(points)))),ROWS($1:$38))),\"\")","v":""},{"$f":"IF(ROWS($1:$39)<=COUNTIF(joueurs,$B41),INDEX(points,SMALL(IF(joueurs=$B41,ROW(INDIRECT(\"1:\"&ROWS(points)))),ROWS($1:$39))),\"\")","v":""},{"$f":"IF(ROWS($1:$40)<=COUNTIF(joueurs,$B41),INDEX(points,SMALL(IF(joueurs=$B41,ROW(INDIRECT(\"1:\"&ROWS(points)))),ROWS($1:$40))),\"\")","v":""},{"$f":"IF(ROWS($1:$31)<=COUNTIF(joueurs,$B41),INDEX(victoires,SMALL(IF(joueurs=$B41,ROW(INDIRECT(\"1:\"&ROWS(victoires)))),ROWS($1:$31))),\"\")","v":""},{"$f":"IF(ROWS($1:$32)<=COUNTIF(joueurs,$B41),INDEX(victoires,SMALL(IF(joueurs=$B41,ROW(INDIRECT(\"1:\"&ROWS(victoires)))),ROWS($1:$32))),\"\")","v":""},{"$f":"IF(ROWS($1:$33)<=COUNTIF(joueurs,$B41),INDEX(victoires,SMALL(IF(joueurs=$B41,ROW(INDIRECT(\"1:\"&ROWS(victoires)))),ROWS($1:$33))),\"\")","v":""},{"$f":"IF(ROWS($1:$34)<=COUNTIF(joueurs,$B41),INDEX(victoires,SMALL(IF(joueurs=$B41,ROW(INDIRECT(\"1:\"&ROWS(victoires)))),ROWS($1:$34))),\"\")","v":""},{"$f":"IF(ROWS($1:$35)<=COUNTIF(joueurs,$B41),INDEX(victoires,SMALL(IF(joueurs=$B41,ROW(INDIRECT(\"1:\"&ROWS(victoires)))),ROWS($1:$35))),\"\")","v":""},{"$f":"IF(ROWS($1:$36)<=COUNTIF(joueurs,$B41),INDEX(victoires,SMALL(IF(joueurs=$B41,ROW(INDIRECT(\"1:\"&ROWS(victoires)))),ROWS($1:$36))),\"\")","v":""},{"$f":"IF(ROWS($1:$37)<=COUNTIF(joueurs,$B41),INDEX(victoires,SMALL(IF(joueurs=$B41,ROW(INDIRECT(\"1:\"&ROWS(victoires)))),ROWS($1:$37))),\"\")","v":""},{"$f":"IF(ROWS($1:$38)<=COUNTIF(joueurs,$B41),INDEX(victoires,SMALL(IF(joueurs=$B41,ROW(INDIRECT(\"1:\"&ROWS(victoires)))),ROWS($1:$38))),\"\")","v":""},{"$f":"IF(ROWS($1:$39)<=COUNTIF(joueurs,$B41),INDEX(victoires,SMALL(IF(joueurs=$B41,ROW(INDIRECT(\"1:\"&ROWS(victoires)))),ROWS($1:$39))),\"\")","v":""},{"$f":"IF(ROWS($1:$40)<=COUNTIF(joueurs,$B41),INDEX(victoires,SMALL(IF(joueurs=$B41,ROW(INDIRECT(\"1:\"&ROWS(victoires)))),ROWS($1:$40))),\"\")","v":""}]
[11,{"$f":"INDEX(eleves,MATCH(A45,numero,0),MATCH($B$2,classes,0))","v":"Kobe"},null,{"$f":"IF(ROWS($1:$1)<=COUNTIF(joueurs,$B45),INDEX(fautes,SMALL(IF(joueurs=$B45,ROW(INDIRECT(\"1:\"&ROWS(fautes)))),ROWS($1:$1))),\"\")","v":""},{"$f":"IF(ROWS($1:$2)<=COUNTIF(joueurs,$B45),INDEX(fautes,SMALL(IF(joueurs=$B45,ROW(INDIRECT(\"1:\"&ROWS(fautes)))),ROWS($1:$2))),\"\")","v":""},{"$f":"IF(ROWS($1:$3)<=COUNTIF(joueurs,$B45),INDEX(fautes,SMALL(IF(joueurs=$B45,ROW(INDIRECT(\"1:\"&ROWS(fautes)))),ROWS($1:$3))),\"\")","v":""},{"$f":"IF(ROWS($1:$4)<=COUNTIF(joueurs,$B45),INDEX(fautes,SMALL(IF(joueurs=$B45,ROW(INDIRECT(\"1:\"&ROWS(fautes)))),ROWS($1:$4))),\"\")","v":""},{"$f":"IF(ROWS($1:$5)<=COUNTIF(joueurs,$B45),INDEX(fautes,SMALL(IF(joueurs=$B45,ROW(INDIRECT(\"1:\"&ROWS(fautes)))),ROWS($1:$5))),\"\")","v":""},{"$f":"IF(ROWS($1:$6)<=COUNTIF(joueurs,$B45),INDEX(fautes,SMALL(IF(joueurs=$B45,ROW(INDIRECT(\"1:\"&ROWS(fautes)))),ROWS($1:$6))),\"\")","v":""},{"$f":"IF(ROWS($1:$7)<=COUNTIF(joueurs,$B45),INDEX(fautes,SMALL(IF(joueurs=$B45,ROW(INDIRECT(\"1:\"&ROWS(fautes)))),ROWS($1:$7))),\"\")","v":""},{"$f":"IF(ROWS($1:$8)<=COUNTIF(joueurs,$B45),INDEX(fautes,SMALL(IF(joueurs=$B45,ROW(INDIRECT(\"1:\"&ROWS(fautes)))),ROWS($1:$8))),\"\")","v":""},{"$f":"IF(ROWS($1:$9)<=COUNTIF(joueurs,$B45),INDEX(fautes,SMALL(IF(joueurs=$B45,ROW(INDIRECT(\"1:\"&ROWS(fautes)))),ROWS($1:$9))),\"\")","v":""},{"$f":"IF(ROWS($1:$10)<=COUNTIF(joueurs,$B45),INDEX(fautes,SMALL(IF(joueurs=$B45,ROW(INDIRECT(\"1:\"&ROWS(fautes)))),ROWS($1:$10))),\"\")","v":""},{"$f":"IF(ROWS($1:$1)<=COUNTIF(joueurs,$B45),INDEX(ballonperdus,SMALL(IF(joueurs=$B45,ROW(INDIRECT(\"1:\"&ROWS(ballonperdus)))),ROWS($1:$1))),\"\")","v":""},{"$f":"IF(ROWS($1:$2)<=COUNTIF(joueurs,$B45),INDEX(ballonperdus,SMALL(IF(joueurs=$B45,ROW(INDIRECT(\"1:\"&ROWS(ballonperdus)))),ROWS($1:$2))),\"\")","v":""},{"$f":"IF(ROWS($1:$3)<=COUNTIF(joueurs,$B45),INDEX(ballonperdus,SMALL(IF(joueurs=$B45,ROW(INDIRECT(\"1:\"&ROWS(ballonperdus)))),ROWS($1:$3))),\"\")","v":""},{"$f":"IF(ROWS($1:$4)<=COUNTIF(joueurs,$B45),INDEX(ballonperdus,SMALL(IF(joueurs=$B45,ROW(INDIRECT(\"1:\"&ROWS(ballonperdus)))),ROWS($1:$4))),\"\")","v":""},{"$f":"IF(ROWS($1:$5)<=COUNTIF(joueurs,$B45),INDEX(ballonperdus,SMALL(IF(joueurs=$B45,ROW(INDIRECT(\"1:\"&ROWS(ballonperdus)))),ROWS($1:$5))),\"\")","v":""},{"$f":"IF(ROWS($1:$6)<=COUNTIF(joueurs,$B45),INDEX(ballonperdus,SMALL(IF(joueurs=$B45,ROW(INDIRECT(\"1:\"&ROWS(ballonperdus)))),ROWS($1:$6))),\"\")","v":""},{"$f":"IF(ROWS($1:$7)<=COUNTIF(joueurs,$B45),INDEX(ballonperdus,SMALL(IF(joueurs=$B45,ROW(INDIRECT(\"1:\"&ROWS(ballonperdus)))),ROWS($1:$7))),\"\")","v":""},{"$f":"IF(ROWS($1:$8)<=COUNTIF(joueurs,$B45),INDEX(ballonperdus,SMALL(IF(joueurs=$B45,ROW(INDIRECT(\"1:\"&ROWS(ballonperdus)))),ROWS($1:$8))),\"\")","v":""},{"$f":"IF(ROWS($1:$9)<=COUNTIF(joueurs,$B45),INDEX(ballonperdus,SMALL(IF(joueurs=$B45,ROW(INDIRECT(\"1:\"&ROWS(ballonperdus)))),ROWS($1:$9))),\"\")","v":""},{"$f":"IF(ROWS($1:$10)<=COUNTIF(joueurs,$B45),INDEX(ballonperdus,SMALL(IF(joueurs=$B45,ROW(INDIRECT(\"1:\"&ROWS(ballonperdus)))),ROWS($1:$10))),\"\")","v":""},{"$f":"IF(ROWS($1:$1)<=COUNTIF(joueurs,$B45),INDEX(interceptions,SMALL(IF(joueurs=$B45,ROW(INDIRECT(\"1:\"&ROWS(interceptions)))),ROWS($1:$1))),\"\")","v":""},{"$f":"IF(ROWS($1:$2)<=COUNTIF(joueurs,$B45),INDEX(interceptions,SMALL(IF(joueurs=$B45,ROW(INDIRECT(\"1:\"&ROWS(interceptions)))),ROWS($1:$2))),\"\")","v":""},{"$f":"IF(ROWS($1:$3)<=COUNTIF(joueurs,$B45),INDEX(interceptions,SMALL(IF(joueurs=$B45,ROW(INDIRECT(\"1:\"&ROWS(interceptions)))),ROWS($1:$3))),\"\")","v":""},{"$f":"IF(ROWS($1:$4)<=COUNTIF(joueurs,$B45),INDEX(interceptions,SMALL(IF(joueurs=$B45,ROW(INDIRECT(\"1:\"&ROWS(interceptions)))),ROWS($1:$4))),\"\")","v":""},{"$f":"IF(ROWS($1:$5)<=COUNTIF(joueurs,$B45),INDEX(interceptions,SMALL(IF(joueurs=$B45,ROW(INDIRECT(\"1:\"&ROWS(interceptions)))),ROWS($1:$5))),\"\")","v":""},{"$f":"IF(ROWS($1:$6)<=COUNTIF(joueurs,$B45),INDEX(interceptions,SMALL(IF(joueurs=$B45,ROW(INDIRECT(\"1:\"&ROWS(interceptions)))),ROWS($1:$6))),\"\")","v":""},{"$f":"IF(ROWS($1:$7)<=COUNTIF(joueurs,$B45),INDEX(interceptions,SMALL(IF(joueurs=$B45,ROW(INDIRECT(\"1:\"&ROWS(interceptions)))),ROWS($1:$7))),\"\")","v":""},{"$f":"IF(ROWS($1:$8)<=COUNTIF(joueurs,$B45),INDEX(interceptions,SMALL(IF(joueurs=$B45,ROW(INDIRECT(\"1:\"&ROWS(interceptions)))),ROWS($1:$8))),\"\")","v":""},{"$f":"IF(ROWS($1:$9)<=COUNTIF(joueurs,$B45),INDEX(interceptions,SMALL(IF(joueurs=$B45,ROW(INDIRECT(\"1:\"&ROWS(interceptions)))),ROWS($1:$9))),\"\")","v":""},{"$f":"IF(ROWS($1:$10)<=COUNTIF(joueurs,$B45),INDEX(interceptions,SMALL(IF(joueurs=$B45,ROW(INDIRECT(\"1:\"&ROWS(interceptions)))),ROWS($1:$10))),\"\")","v":""},{"$f":"IF(ROWS($1:$1)<=COUNTIF(joueurs,$B45),INDEX(ballonrecuperes,SMALL(IF(joueurs=$B45,ROW(INDIRECT(\"1:\"&ROWS(ballonrecuperes)))),ROWS($1:$1))),\"\")","v":""},{"$f":"IF(ROWS($1:$2)<=COUNTIF(joueurs,$B45),INDEX(ballonrecuperes,SMALL(IF(joueurs=$B45,ROW(INDIRECT(\"1:\"&ROWS(ballonrecuperes)))),ROWS($1:$2))),\"\")","v":""},{"$f":"IF(ROWS($1:$3)<=COUNTIF(joueurs,$B45),INDEX(ballonrecuperes,SMALL(IF(joueurs=$B45,ROW(INDIRECT(\"1:\"&ROWS(ballonrecuperes)))),ROWS($1:$3))),\"\")","v":""},{"$f":"IF(ROWS($1:$4)<=COUNTIF(joueurs,$B45),INDEX(ballonrecuperes,SMALL(IF(joueurs=$B45,ROW(INDIRECT(\"1:\"&ROWS(ballonrecuperes)))),ROWS($1:$4))),\"\")","v":""},{"$f":"IF(ROWS($1:$5)<=COUNTIF(joueurs,$B45),INDEX(ballonrecuperes,SMALL(IF(joueurs=$B45,ROW(INDIRECT(\"1:\"&ROWS(ballonrecuperes)))),ROWS($1:$5))),\"\")","v":""},{"$f":"IF(ROWS($1:$6)<=COUNTIF(joueurs,$B45),INDEX(ballonrecuperes,SMALL(IF(joueurs=$B45,ROW(INDIRECT(\"1:\"&ROWS(ballonrecuperes)))),ROWS($1:$6))),\"\")","v":""},{"$f":"IF(ROWS($1:$7)<=COUNTIF(joueurs,$B45),INDEX(ballonrecuperes,SMALL(IF(joueurs=$B45,ROW(INDIRECT(\"1:\"&ROWS(ballonrecuperes)))),ROWS($1:$7))),\"\")","v":""},{"$f":"IF(ROWS($1:$8)<=COUNTIF(joueurs,$B45),INDEX(ballonrecuperes,SMALL(IF(joueurs=$B45,ROW(INDIRECT(\"1:\"&ROWS(ballonrecuperes)))),ROWS($1:$8))),\"\")","v":""},{"$f":"IF(ROWS($1:$9)<=COUNTIF(joueurs,$B45),INDEX(ballonrecuperes,SMALL(IF(joueurs=$B45,ROW(INDIRECT(\"1:\"&ROWS(ballonrecuperes)))),ROWS($1:$9))),\"\")","v":""},{"$f":"IF(ROWS($1:$10)<=COUNTIF(joueurs,$B45),INDEX(ballonrecuperes,SMALL(IF(joueurs=$B45,ROW(INDIRECT(\"1:\"&ROWS(ballonrecuperes)))),ROWS($1:$10))),\"\")","v":""},{"$f":"IF(ROWS($1:$1)<=COUNTIF(joueurs,$B45),INDEX(tirs,SMALL(IF(joueurs=$B45,ROW(INDIRECT(\"1:\"&ROWS(tirs)))),ROWS($1:$1))),\"\")","v":""},{"$f":"IF(ROWS($1:$2)<=COUNTIF(joueurs,$B45),INDEX(tirs,SMALL(IF(joueurs=$B45,ROW(INDIRECT(\"1:\"&ROWS(tirs)))),ROWS($1:$2))),\"\")","v":""},{"$f":"IF(ROWS($1:$3)<=COUNTIF(joueurs,$B45),INDEX(tirs,SMALL(IF(joueurs=$B45,ROW(INDIRECT(\"1:\"&ROWS(tirs)))),ROWS($1:$3))),\"\")","v":""},{"$f":"IF(ROWS($1:$4)<=COUNTIF(joueurs,$B45),INDEX(tirs,SMALL(IF(joueurs=$B45,ROW(INDIRECT(\"1:\"&ROWS(tirs)))),ROWS($1:$4))),\"\")","v":""},{"$f":"IF(ROWS($1:$5)<=COUNTIF(joueurs,$B45),INDEX(tirs,SMALL(IF(joueurs=$B45,ROW(INDIRECT(\"1:\"&ROWS(tirs)))),ROWS($1:$5))),\"\")","v":""},{"$f":"IF(ROWS($1:$6)<=COUNTIF(joueurs,$B45),INDEX(tirs,SMALL(IF(joueurs=$B45,ROW(INDIRECT(\"1:\"&ROWS(tirs)))),ROWS($1:$6))),\"\")","v":""},{"$f":"IF(ROWS($1:$7)<=COUNTIF(joueurs,$B45),INDEX(tirs,SMALL(IF(joueurs=$B45,ROW(INDIRECT(\"1:\"&ROWS(tirs)))),ROWS($1:$7))),\"\")","v":""},{"$f":"IF(ROWS($1:$8)<=COUNTIF(joueurs,$B45),INDEX(tirs,SMALL(IF(joueurs=$B45,ROW(INDIRECT(\"1:\"&ROWS(tirs)))),ROWS($1:$8))),\"\")","v":""},{"$f":"IF(ROWS($1:$9)<=COUNTIF(joueurs,$B45),INDEX(tirs,SMALL(IF(joueurs=$B45,ROW(INDIRECT(\"1:\"&ROWS(tirs)))),ROWS($1:$9))),\"\")","v":""},{"$f":"IF(ROWS($1:$10)<=COUNTIF(joueurs,$B45),INDEX(tirs,SMALL(IF(joueurs=$B45,ROW(INDIRECT(\"1:\"&ROWS(tirs)))),ROWS($1:$10))),\"\")","v":""},{"$f":"IF(ROWS($1:$1)<=COUNTIF(joueurs,$B45),INDEX(bontirs,SMALL(IF(joueurs=$B45,ROW(INDIRECT(\"1:\"&ROWS(bontirs)))),ROWS($1:$1))),\"\")","v":""},{"$f":"IF(ROWS($1:$2)<=COUNTIF(joueurs,$B45),INDEX(bontirs,SMALL(IF(joueurs=$B45,ROW(INDIRECT(\"1:\"&ROWS(bontirs)))),ROWS($1:$2))),\"\")","v":""},{"$f":"IF(ROWS($1:$3)<=COUNTIF(joueurs,$B45),INDEX(bontirs,SMALL(IF(joueurs=$B45,ROW(INDIRECT(\"1:\"&ROWS(bontirs)))),ROWS($1:$3))),\"\")","v":""},{"$f":"IF(ROWS($1:$4)<=COUNTIF(joueurs,$B45),INDEX(bontirs,SMALL(IF(joueurs=$B45,ROW(INDIRECT(\"1:\"&ROWS(bontirs)))),ROWS($1:$4))),\"\")","v":""},{"$f":"IF(ROWS($1:$5)<=COUNTIF(joueurs,$B45),INDEX(bontirs,SMALL(IF(joueurs=$B45,ROW(INDIRECT(\"1:\"&ROWS(bontirs)))),ROWS($1:$5))),\"\")","v":""},{"$f":"IF(ROWS($1:$6)<=COUNTIF(joueurs,$B45),INDEX(bontirs,SMALL(IF(joueurs=$B45,ROW(INDIRECT(\"1:\"&ROWS(bontirs)))),ROWS($1:$6))),\"\")","v":""},{"$f":"IF(ROWS($1:$7)<=COUNTIF(joueurs,$B45),INDEX(bontirs,SMALL(IF(joueurs=$B45,ROW(INDIRECT(\"1:\"&ROWS(bontirs)))),ROWS($1:$7))),\"\")","v":""},{"$f":"IF(ROWS($1:$8)<=COUNTIF(joueurs,$B45),INDEX(bontirs,SMALL(IF(joueurs=$B45,ROW(INDIRECT(\"1:\"&ROWS(bontirs)))),ROWS($1:$8))),\"\")","v":""},{"$f":"IF(ROWS($1:$9)<=COUNTIF(joueurs,$B45),INDEX(bontirs,SMALL(IF(joueurs=$B45,ROW(INDIRECT(\"1:\"&ROWS(bontirs)))),ROWS($1:$9))),\"\")","v":""},{"$f":"IF(ROWS($1:$10)<=COUNTIF(joueurs,$B45),INDEX(bontirs,SMALL(IF(joueurs=$B45,ROW(INDIRECT(\"1:\"&ROWS(bontirs)))),ROWS($1:$10))),\"\")","v":""},{"$f":"IF(ROWS($1:$1)<=COUNTIF(joueurs,$B45),INDEX(points,SMALL(IF(joueurs=$B45,ROW(INDIRECT(\"1:\"&ROWS(points)))),ROWS($1:$1))),\"\")","v":""},{"$f":"IF(ROWS($1:$2)<=COUNTIF(joueurs,$B45),INDEX(points,SMALL(IF(joueurs=$B45,ROW(INDIRECT(\"1:\"&ROWS(points)))),ROWS($1:$2))),\"\")","v":""},{"$f":"IF(ROWS($1:$3)<=COUNTIF(joueurs,$B45),INDEX(points,SMALL(IF(joueurs=$B45,ROW(INDIRECT(\"1:\"&ROWS(points)))),ROWS($1:$3))),\"\")","v":""},{"$f":"IF(ROWS($1:$4)<=COUNTIF(joueurs,$B45),INDEX(points,SMALL(IF(joueurs=$B45,ROW(INDIRECT(\"1:\"&ROWS(points)))),ROWS($1:$4))),\"\")","v":""},{"$f":"IF(ROWS($1:$5)<=COUNTIF(joueurs,$B45),INDEX(points,SMALL(IF(joueurs=$B45,ROW(INDIRECT(\"1:\"&ROWS(points)))),ROWS($1:$5))),\"\")","v":""},{"$f":"IF(ROWS($1:$6)<=COUNTIF(joueurs,$B45),INDEX(points,SMALL(IF(joueurs=$B45,ROW(INDIRECT(\"1:\"&ROWS(points)))),ROWS($1:$6))),\"\")","v":""},{"$f":"IF(ROWS($1:$7)<=COUNTIF(joueurs,$B45),INDEX(points,SMALL(IF(joueurs=$B45,ROW(INDIRECT(\"1:\"&ROWS(points)))),ROWS($1:$7))),\"\")","v":""},{"$f":"IF(ROWS($1:$8)<=COUNTIF(joueurs,$B45),INDEX(points,SMALL(IF(joueurs=$B45,ROW(INDIRECT(\"1:\"&ROWS(points)))),ROWS($1:$8))),\"\")","v":""},{"$f":"IF(ROWS($1:$9)<=COUNTIF(joueurs,$B45),INDEX(points,SMALL(IF(joueurs=$B45,ROW(INDIRECT(\"1:\"&ROWS(points)))),ROWS($1:$9))),\"\")","v":""},{"$f":"IF(ROWS($1:$10)<=COUNTIF(joueurs,$B45),INDEX(points,SMALL(IF(joueurs=$B45,ROW(INDIRECT(\"1:\"&ROWS(points)))),ROWS($1:$10))),\"\")","v":""},{"$f":"IF(ROWS($1:$1)<=COUNTIF(joueurs,$B45),INDEX(victoires,SMALL(IF(joueurs=$B45,ROW(INDIRECT(\"1:\"&ROWS(victoires)))),ROWS($1:$1))),\"\")","v":""},{"$f":"IF(ROWS($1:$2)<=COUNTIF(joueurs,$B45),INDEX(victoires,SMALL(IF(joueurs=$B45,ROW(INDIRECT(\"1:\"&ROWS(victoires)))),ROWS($1:$2))),\"\")","v":""},{"$f":"IF(ROWS($1:$3)<=COUNTIF(joueurs,$B45),INDEX(victoires,SMALL(IF(joueurs=$B45,ROW(INDIRECT(\"1:\"&ROWS(victoires)))),ROWS($1:$3))),\"\")","v":""},{"$f":"IF(ROWS($1:$4)<=COUNTIF(joueurs,$B45),INDEX(victoires,SMALL(IF(joueurs=$B45,ROW(INDIRECT(\"1:\"&ROWS(victoires)))),ROWS($1:$4))),\"\")","v":""},{"$f":"IF(ROWS($1:$5)<=COUNTIF(joueurs,$B45),INDEX(victoires,SMALL(IF(joueurs=$B45,ROW(INDIRECT(\"1:\"&ROWS(victoires)))),ROWS($1:$5))),\"\")","v":""},{"$f":"IF(ROWS($1:$6)<=COUNTIF(joueurs,$B45),INDEX(victoires,SMALL(IF(joueurs=$B45,ROW(INDIRECT(\"1:\"&ROWS(victoires)))),ROWS($1:$6))),\"\")","v":""},{"$f":"IF(ROWS($1:$7)<=COUNTIF(joueurs,$B45),INDEX(victoires,SMALL(IF(joueurs=$B45,ROW(INDIRECT(\"1:\"&ROWS(victoires)))),ROWS($1:$7))),\"\")","v":""},{"$f":"IF(ROWS($1:$8)<=COUNTIF(joueurs,$B45),INDEX(victoires,SMALL(IF(joueurs=$B45,ROW(INDIRECT(\"1:\"&ROWS(victoires)))),ROWS($1:$8))),\"\")","v":""},{"$f":"IF(ROWS($1:$9)<=COUNTIF(joueurs,$B45),INDEX(victoires,SMALL(IF(joueurs=$B45,ROW(INDIRECT(\"1:\"&ROWS(victoires)))),ROWS($1:$9))),\"\")","v":""},{"$f":"IF(ROWS($1:$10)<=COUNTIF(joueurs,$B45),INDEX(victoires,SMALL(IF(joueurs=$B45,ROW(INDIRECT(\"1:\"&ROWS(victoires)))),ROWS($1:$10))),\"\")","v":""}]
[null,null,null,{"$f":"IF(ROWS($1:$11)<=COUNTIF(joueurs,$B45),INDEX(fautes,SMALL(IF(joueurs=$B45,ROW(INDIRECT(\"1:\"&ROWS(fautes)))),ROWS($1:$11))),\"\")","v":""},{"$f":"IF(ROWS($1:$12)<=COUNTIF(joueurs,$B45),INDEX(fautes,SMALL(IF(joueurs=$B45,ROW(INDIRECT(\"1:\"&ROWS(fautes)))),ROWS($1:$12))),\"\")","v":""},{"$f":"IF(ROWS($1:$13)<=COUNTIF(joueurs,$B45),INDEX(fautes,SMALL(IF(joueurs=$B45,ROW(INDIRECT(\"1:\"&ROWS(fautes)))),ROWS($1:$13))),\"\")","v":""},{"$f":"IF(ROWS($1:$14)<=COUNTIF(joueurs,$B45),INDEX(fautes,SMALL(IF(joueurs=$B45,ROW(INDIRECT(\"1:\"&ROWS(fautes)))),ROWS($1:$14))),\"\")","v":""},{"$f":"IF(ROWS($1:$15)<=COUNTIF(joueurs,$B45),INDEX(fautes,SMALL(IF(joueurs=$B45,ROW(INDIRECT(\"1:\"&ROWS(fautes)))),ROWS($1:$15))),\"\")","v":""},{"$f":"IF(ROWS($1:$16)<=COUNTIF(joueurs,$B45),INDEX(fautes,SMALL(IF(joueurs=$B45,ROW(INDIRECT(\"1:\"&ROWS(fautes)))),ROWS($1:$16))),\"\")","v":""},{"$f":"IF(ROWS($1:$17)<=COUNTIF(joueurs,$B45),INDEX(fautes,SMALL(IF(joueurs=$B45,ROW(INDIRECT(\"1:\"&ROWS(fautes)))),ROWS($1:$17))),\"\")","v":""},{"$f":"IF(ROWS($1:$18)<=COUNTIF(joueurs,$B45),INDEX(fautes,SMALL(IF(joueurs=$B45,ROW(INDIRECT(\"1:\"&ROWS(fautes)))),ROWS($1:$18))),\"\")","v":""},{"$f":"IF(ROWS($1:$19)<=COUNTIF(joueurs,$B45),INDEX(fautes,SMALL(IF(joueurs=$B45,ROW(INDIRECT(\"1:\"&ROWS(fautes)))),ROWS($1:$19))),\"\")","v":""},{"$f":"IF(ROWS($1:$20)<=COUNTIF(joueurs,$B45),INDEX(fautes,SMALL(IF(joueurs=$B45,ROW(INDIRECT(\"1:\"&ROWS(fautes)))),ROWS($1:$20))),\"\")","v":""},{"$f":"IF(ROWS($1:$11)<=COUNTIF(joueurs,$B45),INDEX(ballonperdus,SMALL(IF(joueurs=$B45,ROW(INDIRECT(\"1:\"&ROWS(ballonperdus)))),ROWS($1:$11))),\"\")","v":""},{"$f":"IF(ROWS($1:$12)<=COUNTIF(joueurs,$B45),INDEX(ballonperdus,SMALL(IF(joueurs=$B45,ROW(INDIRECT(\"1:\"&ROWS(ballonperdus)))),ROWS($1:$12))),\"\")","v":""},{"$f":"IF(ROWS($1:$13)<=COUNTIF(joueurs,$B45),INDEX(ballonperdus,SMALL(IF(joueurs=$B45,ROW(INDIRECT(\"1:\"&ROWS(ballonperdus)))),ROWS($1:$13))),\"\")","v":""},{"$f":"IF(ROWS($1:$14)<=COUNTIF(joueurs,$B45),INDEX(ballonperdus,SMALL(IF(joueurs=$B45,ROW(INDIRECT(\"1:\"&ROWS(ballonperdus)))),ROWS($1:$14))),\"\")","v":""},{"$f":"IF(ROWS($1:$15)<=COUNTIF(joueurs,$B45),INDEX(ballonperdus,SMALL(IF(joueurs=$B45,ROW(INDIRECT(\"1:\"&ROWS(ballonperdus)))),ROWS($1:$15))),\"\")","v":""},{"$f":"IF(ROWS($1:$16)<=COUNTIF(joueurs,$B45),INDEX(ballonperdus,SMALL(IF(joueurs=$B45,ROW(INDIRECT(\"1:\"&ROWS(ballonperdus)))),ROWS($1:$16))),\"\")","v":""},{"$f":"IF(ROWS($1:$17)<=COUNTIF(joueurs,$B45),INDEX(ballonperdus,SMALL(IF(joueurs=$B45,ROW(INDIRECT(\"1:\"&ROWS(ballonperdus)))),ROWS($1:$17))),\"\")","v":""},{"$f":"IF(ROWS($1:$18)<=COUNTIF(joueurs,$B45),INDEX(ballonperdus,SMALL(IF(joueurs=$B45,ROW(INDIRECT(\"1:\"&ROWS(ballonperdus)))),ROWS($1:$18))),\"\")","v":""},{"$f":"IF(ROWS($1:$19)<=COUNTIF(joueurs,$B45),INDEX(ballonperdus,SMALL(IF(joueurs=$B45,ROW(INDIRECT(\"1:\"&ROWS(ballonperdus)))),ROWS($1:$19))),\"\")","v":""},{"$f":"IF(ROWS($1:$20)<=COUNTIF(joueurs,$B45),INDEX(fautes,SMALL(IF(joueurs=$B45,ROW(INDIRECT(\"1:\"&ROWS(ballonperdus)))),ROWS($1:$20))),\"\")","v":""},{"$f":"IF(ROWS($1:$11)<=COUNTIF(joueurs,$B45),INDEX(interceptions,SMALL(IF(joueurs=$B45,ROW(INDIRECT(\"1:\"&ROWS(interceptions)))),ROWS($1:$11))),\"\")","v":""},{"$f":"IF(ROWS($1:$12)<=COUNTIF(joueurs,$B45),INDEX(interceptions,SMALL(IF(joueurs=$B45,ROW(INDIRECT(\"1:\"&ROWS(interceptions)))),ROWS($1:$12))),\"\")","v":""},{"$f":"IF(ROWS($1:$13)<=COUNTIF(joueurs,$B45),INDEX(interceptions,SMALL(IF(joueurs=$B45,ROW(INDIRECT(\"1:\"&ROWS(interceptions)))),ROWS($1:$13))),\"\")","v":""},{"$f":"IF(ROWS($1:$14)<=COUNTIF(joueurs,$B45),INDEX(interceptions,SMALL(IF(joueurs=$B45,ROW(INDIRECT(\"1:\"&ROWS(interceptions)))),ROWS($1:$14))),\"\")","v":""},{"$f":"IF(ROWS($1:$15)<=COUNTIF(joueurs,$B45),INDEX(interceptions,SMALL(IF(joueurs=$B45,ROW(INDIRECT(\"1:\"&ROWS(interceptions)))),ROWS($1:$15))),\"\")","v":""},{"$f":"IF(ROWS($1:$16)<=COUNTIF(joueurs,$B45),INDEX(interceptions,SMALL(IF(joueurs=$B45,ROW(INDIRECT(\"1:\"&ROWS(interceptions)))),ROWS($1:$16))),\"\")","v":""},{"$f":"IF(ROWS($1:$17)<=COUNTIF(joueurs,$B45),INDEX(interceptions,SMALL(IF(joueurs=$B45,ROW(INDIRECT(\"1:\"&ROWS(interceptions)))),ROWS($1:$17))),\"\")","v":""},{"$f":"IF(ROWS($1:$18)<=COUNTIF(joueurs,$B45),INDEX(interceptions,SMALL(IF(joueurs=$B45,ROW(INDIRECT(\"1:\"&ROWS(interceptions)))),ROWS($1:$18))),\"\")","v":""},{"$f":"IF(ROWS($1:$19)<=COUNTIF(joueurs,$B45),INDEX(interceptions,SMALL(IF(joueurs=$B45,ROW(INDIRECT(\"1:\"&ROWS(interceptions)))),ROWS($1:$19))),\"\")","v":""},{"$f":"IF(ROWS($1:$20)<=COUNTIF(joueurs,$B45),INDEX(interceptions,SMALL(IF(joueurs=$B45,ROW(INDIRECT(\"1:\"&ROWS(interceptions)))),ROWS($1:$20))),\"\")","v":""},{"$f":"IF(ROWS($1:$11)<=COUNTIF(joueurs,$B45),INDEX(ballonrecuperes,SMALL(IF(joueurs=$B45,ROW(INDIRECT(\"1:\"&ROWS(ballonrecuperes)))),ROWS($1:$11))),\"\")","v":""},{"$f":"IF(ROWS($1:$12)<=COUNTIF(joueurs,$B45),INDEX(ballonrecuperes,SMALL(IF(joueurs=$B45,ROW(INDIRECT(\"1:\"&ROWS(ballonrecuperes)))),ROWS($1:$12))),\"\")","v":""},{"$f":"IF(ROWS($1:$13)<=COUNTIF(joueurs,$B45),INDEX(ballonrecuperes,SMALL(IF(joueurs=$B45,ROW(INDIRECT(\"1:\"&ROWS(ballonrecuperes)))),ROWS($1:$13))),\"\")","v":""},{"$f":"IF(ROWS($1:$14)<=COUNTIF(joueurs,$B45),INDEX(ballonrecuperes,SMALL(IF(joueurs=$B45,ROW(INDIRECT(\"1:\"&ROWS(ballonrecuperes)))),ROWS($1:$14))),\"\")","v":""},{"$f":"IF(ROWS($1:$15)<=COUNTIF(joueurs,$B45),INDEX(ballonrecuperes,SMALL(IF(joueurs=$B45,ROW(INDIRECT(\"1:\"&ROWS(ballonrecuperes)))),ROWS($1:$15))),\"\")","v":""},{"$f":"IF(ROWS($1:$16)<=COUNTIF(joueurs,$B45),INDEX(ballonrecuperes,SMALL(IF(joueurs=$B45,ROW(INDIRECT(\"1:\"&ROWS(ballonrecuperes)))),ROWS($1:$16))),\"\")","v":""},{"$f":"IF(ROWS($1:$17)<=COUNTIF(joueurs,$B45),INDEX(ballonrecuperes,SMALL(IF(joueurs=$B45,ROW(INDIRECT(\"1:\"&ROWS(ballonrecuperes)))),ROWS($1:$17))),\"\")","v":""},{"$f":"IF(ROWS($1:$18)<=COUNTIF(joueurs,$B45),INDEX(ballonrecuperes,SMALL(IF(joueurs=$B45,ROW(INDIRECT(\"1:\"&ROWS(ballonrecuperes)))),ROWS($1:$18))),\"\")","v":""},{"$f":"IF(ROWS($1:$19)<=COUNTIF(joueurs,$B45),INDEX(ballonrecuperes,SMALL(IF(joueurs=$B45,ROW(INDIRECT(\"1:\"&ROWS(ballonrecuperes)))),ROWS($1:$19))),\"\")","v":""},{"$f":"IF(ROWS($1:$20)<=COUNTIF(joueurs,$B45),INDEX(ballonrecuperes,SMALL(IF(joueurs=$B45,ROW(INDIRECT(\"1:\"&ROWS(ballonrecuperes)))),ROWS($1:$20))),\"\")","v":""},{"$f":"IF(ROWS($1:$11)<=COUNTIF(joueurs,$B45),INDEX(tirs,SMALL(IF(joueurs=$B45,ROW(INDIRECT(\"1:\"&ROWS(tirs)))),ROWS($1:$11))),\"\")","v":""},{"$f":"IF(ROWS($1:$12)<=COUNTIF(joueurs,$B45),INDEX(tirs,SMALL(IF(joueurs=$B45,ROW(INDIRECT(\"1:\"&ROWS(tirs)))),ROWS($1:$12))),\"\")","v":""},{"$f":"IF(ROWS($1:$13)<=COUNTIF(joueurs,$B45),INDEX(tirs,SMALL(IF(joueurs=$B45,ROW(INDIRECT(\"1:\"&ROWS(tirs)))),ROWS($1:$13))),\"\")","v":""},{"$f":"IF(ROWS($1:$14)<=COUNTIF(joueurs,$B45),INDEX(tirs,SMALL(IF(joueurs=$B45,ROW(INDIRECT(\"1:\"&ROWS(tirs)))),ROWS($1:$14))),\"\")","v":""},{"$f":"IF(ROWS($1:$15)<=COUNTIF(joueurs,$B45),INDEX(tirs,SMALL(IF(joueurs=$B45,ROW(INDIRECT(\"1:\"&ROWS(tirs)))),ROWS($1:$15))),\"\")","v":""},{"$f":"IF(ROWS($1:$16)<=COUNTIF(joueurs,$B45),INDEX(tirs,SMALL(IF(joueurs=$B45,ROW(INDIRECT(\"1:\"&ROWS(tirs)))),ROWS($1:$16))),\"\")","v":""},{"$f":"IF(ROWS($1:$17)<=COUNTIF(joueurs,$B45),INDEX(tirs,SMALL(IF(joueurs=$B45,ROW(INDIRECT(\"1:\"&ROWS(tirs)))),ROWS($1:$17))),\"\")","v":""},{"$f":"IF(ROWS($1:$18)<=COUNTIF(joueurs,$B45),INDEX(tirs,SMALL(IF(joueurs=$B45,ROW(INDIRECT(\"1:\"&ROWS(tirs)))),ROWS($1:$18))),\"\")","v":""},{"$f":"IF(ROWS($1:$19)<=COUNTIF(joueurs,$B45),INDEX(tirs,SMALL(IF(joueurs=$B45,ROW(INDIRECT(\"1:\"&ROWS(tirs)))),ROWS($1:$19))),\"\")","v":""},{"$f":"IF(ROWS($1:$20)<=COUNTIF(joueurs,$B45),INDEX(tirs,SMALL(IF(joueurs=$B45,ROW(INDIRECT(\"1:\"&ROWS(tirs)))),ROWS($1:$20))),\"\")","v":""},{"$f":"IF(ROWS($1:$11)<=COUNTIF(joueurs,$B45),INDEX(bontirs,SMALL(IF(joueurs=$B45,ROW(INDIRECT(\"1:\"&ROWS(bontirs)))),ROWS($1:$11))),\"\")","v":""},{"$f":"IF(ROWS($1:$12)<=COUNTIF(joueurs,$B45),INDEX(bontirs,SMALL(IF(joueurs=$B45,ROW(INDIRECT(\"1:\"&ROWS(bontirs)))),ROWS($1:$12))),\"\")","v":""},{"$f":"IF(ROWS($1:$13)<=COUNTIF(joueurs,$B45),INDEX(bontirs,SMALL(IF(joueurs=$B45,ROW(INDIRECT(\"1:\"&ROWS(bontirs)))),ROWS($1:$13))),\"\")","v":""},{"$f":"IF(ROWS($1:$14)<=COUNTIF(joueurs,$B45),INDEX(bontirs,SMALL(IF(joueurs=$B45,ROW(INDIRECT(\"1:\"&ROWS(bontirs)))),ROWS($1:$14))),\"\")","v":""},{"$f":"IF(ROWS($1:$15)<=COUNTIF(joueurs,$B45),INDEX(bontirs,SMALL(IF(joueurs=$B45,ROW(INDIRECT(\"1:\"&ROWS(bontirs)))),ROWS($1:$15))),\"\")","v":""},{"$f":"IF(ROWS($1:$16)<=COUNTIF(joueurs,$B45),INDEX(bontirs,SMALL(IF(joueurs=$B45,ROW(INDIRECT(\"1:\"&ROWS(bontirs)))),ROWS($1:$16))),\"\")","v":""},{"$f":"IF(ROWS($1:$17)<=COUNTIF(joueurs,$B45),INDEX(bontirs,SMALL(IF(joueurs=$B45,ROW(INDIRECT(\"1:\"&ROWS(bontirs)))),ROWS($1:$17))),\"\")","v":""},{"$f":"IF(ROWS($1:$18)<=COUNTIF(joueurs,$B45),INDEX(bontirs,SMALL(IF(joueurs=$B45,ROW(INDIRECT(\"1:\"&ROWS(bontirs)))),ROWS($1:$18))),\"\")","v":""},{"$f":"IF(ROWS($1:$19)<=COUNTIF(joueurs,$B45),INDEX(bontirs,SMALL(IF(joueurs=$B45,ROW(INDIRECT(\"1:\"&ROWS(bontirs)))),ROWS($1:$19))),\"\")","v":""},{"$f":"IF(ROWS($1:$20)<=COUNTIF(joueurs,$B45),INDEX(bontirs,SMALL(IF(joueurs=$B45,ROW(INDIRECT(\"1:\"&ROWS(bontirs)))),ROWS($1:$20))),\"\")","v":""},{"$f":"IF(ROWS($1:$11)<=COUNTIF(joueurs,$B45),INDEX(points,SMALL(IF(joueurs=$B45,ROW(INDIRECT(\"1:\"&ROWS(points)))),ROWS($1:$11))),\"\")","v":""},{"$f":"IF(ROWS($1:$12)<=COUNTIF(joueurs,$B45),INDEX(points,SMALL(IF(joueurs=$B45,ROW(INDIRECT(\"1:\"&ROWS(points)))),ROWS($1:$12))),\"\")","v":""},{"$f":"IF(ROWS($1:$13)<=COUNTIF(joueurs,$B45),INDEX(points,SMALL(IF(joueurs=$B45,ROW(INDIRECT(\"1:\"&ROWS(points)))),ROWS($1:$13))),\"\")","v":""},{"$f":"IF(ROWS($1:$14)<=COUNTIF(joueurs,$B45),INDEX(points,SMALL(IF(joueurs=$B45,ROW(INDIRECT(\"1:\"&ROWS(points)))),ROWS($1:$14))),\"\")","v":""},{"$f":"IF(ROWS($1:$15)<=COUNTIF(joueurs,$B45),INDEX(points,SMALL(IF(joueurs=$B45,ROW(INDIRECT(\"1:\"&ROWS(points)))),ROWS($1:$15))),\"\")","v":""},{"$f":"IF(ROWS($1:$16)<=COUNTIF(joueurs,$B45),INDEX(points,SMALL(IF(joueurs=$B45,ROW(INDIRECT(\"1:\"&ROWS(points)))),ROWS($1:$16))),\"\")","v":""},{"$f":"IF(ROWS($1:$17)<=COUNTIF(joueurs,$B45),INDEX(points,SMALL(IF(joueurs=$B45,ROW(INDIRECT(\"1:\"&ROWS(points)))),ROWS($1:$17))),\"\")","v":""},{"$f":"IF(ROWS($1:$18)<=COUNTIF(joueurs,$B45),INDEX(points,SMALL(IF(joueurs=$B45,ROW(INDIRECT(\"1:\"&ROWS(points)))),ROWS($1:$18))),\"\")","v":""},{"$f":"IF(ROWS($1:$19)<=COUNTIF(joueurs,$B45),INDEX(points,SMALL(IF(joueurs=$B45,ROW(INDIRECT(\"1:\"&ROWS(points)))),ROWS($1:$19))),\"\")","v":""},{"$f":"IF(ROWS($1:$20)<=COUNTIF(points,$B45),INDEX(fautes,SMALL(IF(joueurs=$B45,ROW(INDIRECT(\"1:\"&ROWS(points)))),ROWS($1:$20))),\"\")","v":""},{"$f":"IF(ROWS($1:$11)<=COUNTIF(joueurs,$B45),INDEX(victoires,SMALL(IF(joueurs=$B45,ROW(INDIRECT(\"1:\"&ROWS(victoires)))),ROWS($1:$11))),\"\")","v":""},{"$f":"IF(ROWS($1:$12)<=COUNTIF(joueurs,$B45),INDEX(victoires,SMALL(IF(joueurs=$B45,ROW(INDIRECT(\"1:\"&ROWS(victoires)))),ROWS($1:$12))),\"\")","v":""},{"$f":"IF(ROWS($1:$13)<=COUNTIF(joueurs,$B45),INDEX(victoires,SMALL(IF(joueurs=$B45,ROW(INDIRECT(\"1:\"&ROWS(victoires)))),ROWS($1:$13))),\"\")","v":""},{"$f":"IF(ROWS($1:$14)<=COUNTIF(joueurs,$B45),INDEX(victoires,SMALL(IF(joueurs=$B45,ROW(INDIRECT(\"1:\"&ROWS(victoires)))),ROWS($1:$14))),\"\")","v":""},{"$f":"IF(ROWS($1:$15)<=COUNTIF(joueurs,$B45),INDEX(victoires,SMALL(IF(joueurs=$B45,ROW(INDIRECT(\"1:\"&ROWS(victoires)))),ROWS($1:$15))),\"\")","v":""},{"$f":"IF(ROWS($1:$16)<=COUNTIF(joueurs,$B45),INDEX(victoires,SMALL(IF(joueurs=$B45,ROW(INDIRECT(\"1:\"&ROWS(victoires)))),ROWS($1:$16))),\"\")","v":""},{"$f":"IF(ROWS($1:$17)<=COUNTIF(joueurs,$B45),INDEX(victoires,SMALL(IF(joueurs=$B45,ROW(INDIRECT(\"1:\"&ROWS(victoires)))),ROWS($1:$17))),\"\")","v":""},{"$f":"IF(ROWS($1:$18)<=COUNTIF(joueurs,$B45),INDEX(victoires,SMALL(IF(joueurs=$B45,ROW(INDIRECT(\"1:\"&ROWS(victoires)))),ROWS($1:$18))),\"\")","v":""},{"$f":"IF(ROWS($1:$19)<=COUNTIF(joueurs,$B45),INDEX(victoires,SMALL(IF(joueurs=$B45,ROW(INDIRECT(\"1:\"&ROWS(victoires)))),ROWS($1:$19))),\"\")","v":""},{"$f":"IF(ROWS($1:$20)<=COUNTIF(joueurs,$B45),INDEX(victoires,SMALL(IF(joueurs=$B45,ROW(INDIRECT(\"1:\"&ROWS(victoires)))),ROWS($1:$20))),\"\")","v":""}]
[null,null,null,{"$f":"IF(ROWS($1:$21)<=COUNTIF(joueurs,$B45),INDEX(fautes,SMALL(IF(joueurs=$B45,ROW(INDIRECT(\"1:\"&ROWS(fautes)))),ROWS($1:$21))),\"\")","v":""},{"$f":"IF(ROWS($1:$22)<=COUNTIF(joueurs,$B45),INDEX(fautes,SMALL(IF(joueurs=$B45,ROW(INDIRECT(\"1:\"&ROWS(fautes)))),ROWS($1:$22))),\"\")","v":""},{"$f":"IF(ROWS($1:$23)<=COUNTIF(joueurs,$B45),INDEX(fautes,SMALL(IF(joueurs=$B45,ROW(INDIRECT(\"1:\"&ROWS(fautes)))),ROWS($1:$23))),\"\")","v":""},{"$f":"IF(ROWS($1:$24)<=COUNTIF(joueurs,$B45),INDEX(fautes,SMALL(IF(joueurs=$B45,ROW(INDIRECT(\"1:\"&ROWS(fautes)))),ROWS($1:$24))),\"\")","v":""},{"$f":"IF(ROWS($1:$25)<=COUNTIF(joueurs,$B45),INDEX(fautes,SMALL(IF(joueurs=$B45,ROW(INDIRECT(\"1:\"&ROWS(fautes)))),ROWS($1:$25))),\"\")","v":""},{"$f":"IF(ROWS($1:$26)<=COUNTIF(joueurs,$B45),INDEX(fautes,SMALL(IF(joueurs=$B45,ROW(INDIRECT(\"1:\"&ROWS(fautes)))),ROWS($1:$26))),\"\")","v":""},{"$f":"IF(ROWS($1:$27)<=COUNTIF(joueurs,$B45),INDEX(fautes,SMALL(IF(joueurs=$B45,ROW(INDIRECT(\"1:\"&ROWS(fautes)))),ROWS($1:$27))),\"\")","v":""},{"$f":"IF(ROWS($1:$28)<=COUNTIF(joueurs,$B45),INDEX(fautes,SMALL(IF(joueurs=$B45,ROW(INDIRECT(\"1:\"&ROWS(fautes)))),ROWS($1:$28))),\"\")","v":""},{"$f":"IF(ROWS($1:$29)<=COUNTIF(joueurs,$B45),INDEX(fautes,SMALL(IF(joueurs=$B45,ROW(INDIRECT(\"1:\"&ROWS(fautes)))),ROWS($1:$29))),\"\")","v":""},{"$f":"IF(ROWS($1:$30)<=COUNTIF(joueurs,$B45),INDEX(fautes,SMALL(IF(joueurs=$B45,ROW(INDIRECT(\"1:\"&ROWS(fautes)))),ROWS($1:$30))),\"\")","v":""},{"$f":"IF(ROWS($1:$21)<=COUNTIF(joueurs,$B45),INDEX(ballonperdus,SMALL(IF(joueurs=$B45,ROW(INDIRECT(\"1:\"&ROWS(ballonperdus)))),ROWS($1:$21))),\"\")","v":""},{"$f":"IF(ROWS($1:$22)<=COUNTIF(joueurs,$B45),INDEX(ballonperdus,SMALL(IF(joueurs=$B45,ROW(INDIRECT(\"1:\"&ROWS(ballonperdus)))),ROWS($1:$22))),\"\")","v":""},{"$f":"IF(ROWS($1:$23)<=COUNTIF(joueurs,$B45),INDEX(ballonperdus,SMALL(IF(joueurs=$B45,ROW(INDIRECT(\"1:\"&ROWS(ballonperdus)))),ROWS($1:$23))),\"\")","v":""},{"$f":"IF(ROWS($1:$24)<=COUNTIF(joueurs,$B45),INDEX(ballonperdus,SMALL(IF(joueurs=$B45,ROW(INDIRECT(\"1:\"&ROWS(ballonperdus)))),ROWS($1:$24))),\"\")","v":""},{"$f":"IF(ROWS($1:$25)<=COUNTIF(joueurs,$B45),INDEX(ballonperdus,SMALL(IF(joueurs=$B45,ROW(INDIRECT(\"1:\"&ROWS(ballonperdus)))),ROWS($1:$25))),\"\")","v":""},{"$f":"IF(ROWS($1:$26)<=COUNTIF(joueurs,$B45),INDEX(ballonperdus,SMALL(IF(joueurs=$B45,ROW(INDIRECT(\"1:\"&ROWS(ballonperdus)))),ROWS($1:$26))),\"\")","v":""},{"$f":"IF(ROWS($1:$27)<=COUNTIF(joueurs,$B45),INDEX(ballonperdus,SMALL(IF(joueurs=$B45,ROW(INDIRECT(\"1:\"&ROWS(ballonperdus)))),ROWS($1:$27))),\"\")","v":""},{"$f":"IF(ROWS($1:$28)<=COUNTIF(joueurs,$B45),INDEX(ballonperdus,SMALL(IF(joueurs=$B45,ROW(INDIRECT(\"1:\"&ROWS(ballonperdus)))),ROWS($1:$28))),\"\")","v":""},{"$f":"IF(ROWS($1:$29)<=COUNTIF(joueurs,$B45),INDEX(ballonperdus,SMALL(IF(joueurs=$B45,ROW(INDIRECT(\"1:\"&ROWS(ballonperdus)))),ROWS($1:$29))),\"\")","v":""},{"$f":"IF(ROWS($1:$30)<=COUNTIF(joueurs,$B45),INDEX(ballonperdus,SMALL(IF(joueurs=$B45,ROW(INDIRECT(\"1:\"&ROWS(ballonperdus)))),ROWS($1:$30))),\"\")","v":""},{"$f":"IF(ROWS($1:$21)<=COUNTIF(joueurs,$B45),INDEX(interceptions,SMALL(IF(joueurs=$B45,ROW(INDIRECT(\"1:\"&ROWS(interceptions)))),ROWS($1:$21))),\"\")","v":""},{"$f":"IF(ROWS($1:$22)<=COUNTIF(joueurs,$B45),INDEX(interceptions,SMALL(IF(joueurs=$B45,ROW(INDIRECT(\"1:\"&ROWS(interceptions)))),ROWS($1:$22))),\"\")","v":""},{"$f":"IF(ROWS($1:$23)<=COUNTIF(joueurs,$B45),INDEX(interceptions,SMALL(IF(joueurs=$B45,ROW(INDIRECT(\"1:\"&ROWS(interceptions)))),ROWS($1:$23))),\"\")","v":""},{"$f":"IF(ROWS($1:$24)<=COUNTIF(joueurs,$B45),INDEX(interceptions,SMALL(IF(joueurs=$B45,ROW(INDIRECT(\"1:\"&ROWS(interceptions)))),ROWS($1:$24))),\"\")","v":""},{"$f":"IF(ROWS($1:$25)<=COUNTIF(joueurs,$B45),INDEX(interceptions,SMALL(IF(joueurs=$B45,ROW(INDIRECT(\"1:\"&ROWS(interceptions)))),ROWS($1:$25))),\"\")","v":""},{"$f":"IF(ROWS($1:$26)<=COUNTIF(joueurs,$B45),INDEX(interceptions,SMALL(IF(joueurs=$B45,ROW(INDIRECT(\"1:\"&ROWS(interceptions)))),ROWS($1:$26))),\"\")","v":""},{"$f":"IF(ROWS($1:$27)<=COUNTIF(joueurs,$B45),INDEX(interceptions,SMALL(IF(joueurs=$B45,ROW(INDIRECT(\"1:\"&ROWS(interceptions)))),ROWS($1:$27))),\"\")","v":""},{"$f":"IF(ROWS($1:$28)<=COUNTIF(joueurs,$B45),INDEX(interceptions,SMALL(IF(joueurs=$B45,ROW(INDIRECT(\"1:\"&ROWS(interceptions)))),ROWS($1:$28))),\"\")","v":""},{"$f":"IF(ROWS($1:$29)<=COUNTIF(joueurs,$B45),INDEX(interceptions,SMALL(IF(joueurs=$B45,ROW(INDIRECT(\"1:\"&ROWS(interceptions)))),ROWS($1:$29))),\"\")","v":""},{"$f":"IF(ROWS($1:$30)<=COUNTIF(joueurs,$B45),INDEX(interceptions,SMALL(IF(joueurs=$B45,ROW(INDIRECT(\"1:\"&ROWS(interceptions)))),ROWS($1:$30))),\"\")","v":""},{"$f":"IF(ROWS($1:$21)<=COUNTIF(joueurs,$B45),INDEX(ballonrecuperes,SMALL(IF(joueurs=$B45,ROW(INDIRECT(\"1:\"&ROWS(ballonrecuperes)))),ROWS($1:$21))),\"\")","v":""},{"$f":"IF(ROWS($1:$22)<=COUNTIF(joueurs,$B45),INDEX(ballonrecuperes,SMALL(IF(joueurs=$B45,ROW(INDIRECT(\"1:\"&ROWS(ballonrecuperes)))),ROWS($1:$22))),\"\")","v":""},{"$f":"IF(ROWS($1:$23)<=COUNTIF(joueurs,$B45),INDEX(ballonrecuperes,SMALL(IF(joueurs=$B45,ROW(INDIRECT(\"1:\"&ROWS(ballonrecuperes)))),ROWS($1:$23))),\"\")","v":""},{"$f":"IF(ROWS($1:$24)<=COUNTIF(joueurs,$B45),INDEX(ballonrecuperes,SMALL(IF(joueurs=$B45,ROW(INDIRECT(\"1:\"&ROWS(ballonrecuperes)))),ROWS($1:$24))),\"\")","v":""},{"$f":"IF(ROWS($1:$25)<=COUNTIF(joueurs,$B45),INDEX(ballonrecuperes,SMALL(IF(joueurs=$B45,ROW(INDIRECT(\"1:\"&ROWS(ballonrecuperes)))),ROWS($1:$25))),\"\")","v":""},{"$f":"IF(ROWS($1:$26)<=COUNTIF(joueurs,$B45),INDEX(ballonrecuperes,SMALL(IF(joueurs=$B45,ROW(INDIRECT(\"1:\"&ROWS(ballonrecuperes)))),ROWS($1:$26))),\"\")","v":""},{"$f":"IF(ROWS($1:$27)<=COUNTIF(joueurs,$B45),INDEX(ballonrecuperes,SMALL(IF(joueurs=$B45,ROW(INDIRECT(\"1:\"&ROWS(ballonrecuperes)))),ROWS($1:$27))),\"\")","v":""},{"$f":"IF(ROWS($1:$28)<=COUNTIF(joueurs,$B45),INDEX(ballonrecuperes,SMALL(IF(joueurs=$B45,ROW(INDIRECT(\"1:\"&ROWS(ballonrecuperes)))),ROWS($1:$28))),\"\")","v":""},{"$f":"IF(ROWS($1:$29)<=COUNTIF(joueurs,$B45),INDEX(ballonrecuperes,SMALL(IF(joueurs=$B45,ROW(INDIRECT(\"1:\"&ROWS(ballonrecuperes)))),ROWS($1:$29))),\"\")","v":""},{"$f":"IF(ROWS($1:$30)<=COUNTIF(joueurs,$B45),INDEX(ballonrecuperes,SMALL(IF(joueurs=$B45,ROW(INDIRECT(\"1:\"&ROWS(ballonrecuperes)))),ROWS($1:$30))),\"\")","v":""},{"$f":"IF(ROWS($1:$21)<=COUNTIF(joueurs,$B45),INDEX(tirs,SMALL(IF(joueurs=$B45,ROW(INDIRECT(\"1:\"&ROWS(tirs)))),ROWS($1:$21))),\"\")","v":""},{"$f":"IF(ROWS($1:$22)<=COUNTIF(joueurs,$B45),INDEX(tirs,SMALL(IF(joueurs=$B45,ROW(INDIRECT(\"1:\"&ROWS(tirs)))),ROWS($1:$22))),\"\")","v":""},{"$f":"IF(ROWS($1:$23)<=COUNTIF(joueurs,$B45),INDEX(tirs,SMALL(IF(joueurs=$B45,ROW(INDIRECT(\"1:\"&ROWS(tirs)))),ROWS($1:$23))),\"\")","v":""},{"$f":"IF(ROWS($1:$24)<=COUNTIF(joueurs,$B45),INDEX(tirs,SMALL(IF(joueurs=$B45,ROW(INDIRECT(\"1:\"&ROWS(tirs)))),ROWS($1:$24))),\"\")","v":""},{"$f":"IF(ROWS($1:$25)<=COUNTIF(joueurs,$B45),INDEX(tirs,SMALL(IF(joueurs=$B45,ROW(INDIRECT(\"1:\"&ROWS(tirs)))),ROWS($1:$25))),\"\")","v":""},{"$f":"IF(ROWS($1:$26)<=COUNTIF(joueurs,$B45),INDEX(tirs,SMALL(IF(joueurs=$B45,ROW(INDIRECT(\"1:\"&ROWS(tirs)))),ROWS($1:$26))),\"\")","v":""},{"$f":"IF(ROWS($1:$27)<=COUNTIF(joueurs,$B45),INDEX(tirs,SMALL(IF(joueurs=$B45,ROW(INDIRECT(\"1:\"&ROWS(tirs)))),ROWS($1:$27))),\"\")","v":""},{"$f":"IF(ROWS($1:$28)<=COUNTIF(joueurs,$B45),INDEX(tirs,SMALL(IF(joueurs=$B45,ROW(INDIRECT(\"1:\"&ROWS(tirs)))),ROWS($1:$28))),\"\")","v":""},{"$f":"IF(ROWS($1:$29)<=COUNTIF(joueurs,$B45),INDEX(tirs,SMALL(IF(joueurs=$B45,ROW(INDIRECT(\"1:\"&ROWS(tirs)))),ROWS($1:$29))),\"\")","v":""},{"$f":"IF(ROWS($1:$30)<=COUNTIF(joueurs,$B45),INDEX(tirs,SMALL(IF(joueurs=$B45,ROW(INDIRECT(\"1:\"&ROWS(tirs)))),ROWS($1:$30))),\"\")","v":""},{"$f":"IF(ROWS($1:$21)<=COUNTIF(joueurs,$B45),INDEX(bontirs,SMALL(IF(joueurs=$B45,ROW(INDIRECT(\"1:\"&ROWS(bontirs)))),ROWS($1:$21))),\"\")","v":""},{"$f":"IF(ROWS($1:$22)<=COUNTIF(joueurs,$B45),INDEX(bontirs,SMALL(IF(joueurs=$B45,ROW(INDIRECT(\"1:\"&ROWS(bontirs)))),ROWS($1:$22))),\"\")","v":""},{"$f":"IF(ROWS($1:$23)<=COUNTIF(joueurs,$B45),INDEX(bontirs,SMALL(IF(joueurs=$B45,ROW(INDIRECT(\"1:\"&ROWS(bontirs)))),ROWS($1:$23))),\"\")","v":""},{"$f":"IF(ROWS($1:$24)<=COUNTIF(joueurs,$B45),INDEX(bontirs,SMALL(IF(joueurs=$B45,ROW(INDIRECT(\"1:\"&ROWS(bontirs)))),ROWS($1:$24))),\"\")","v":""},{"$f":"IF(ROWS($1:$25)<=COUNTIF(joueurs,$B45),INDEX(bontirs,SMALL(IF(joueurs=$B45,ROW(INDIRECT(\"1:\"&ROWS(bontirs)))),ROWS($1:$25))),\"\")","v":""},{"$f":"IF(ROWS($1:$26)<=COUNTIF(joueurs,$B45),INDEX(bontirs,SMALL(IF(joueurs=$B45,ROW(INDIRECT(\"1:\"&ROWS(bontirs)))),ROWS($1:$26))),\"\")","v":""},{"$f":"IF(ROWS($1:$27)<=COUNTIF(joueurs,$B45),INDEX(bontirs,SMALL(IF(joueurs=$B45,ROW(INDIRECT(\"1:\"&ROWS(bontirs)))),ROWS($1:$27))),\"\")","v":""},{"$f":"IF(ROWS($1:$28)<=COUNTIF(joueurs,$B45),INDEX(bontirs,SMALL(IF(joueurs=$B45,ROW(INDIRECT(\"1:\"&ROWS(bontirs)))),ROWS($1:$28))),\"\")","v":""},{"$f":"IF(ROWS($1:$29)<=COUNTIF(joueurs,$B45),INDEX(bontirs,SMALL(IF(joueurs=$B45,ROW(INDIRECT(\"1:\"&ROWS(bontirs)))),ROWS($1:$29))),\"\")","v":""},{"$f":"IF(ROWS($1:$30)<=COUNTIF(joueurs,$B45),INDEX(bontirs,SMALL(IF(joueurs=$B45,ROW(INDIRECT(\"1:\"&ROWS(bontirs)))),ROWS($1:$30))),\"\")","v":""},{"$f":"IF(ROWS($1:$21)<=COUNTIF(joueurs,$B45),INDEX(points,SMALL(IF(joueurs=$B45,ROW(INDIRECT(\"1:\"&ROWS(points)))),ROWS($1:$21))),\"\")","v":""},{"$f":"IF(ROWS($1:$22)<=COUNTIF(joueurs,$B45),INDEX(points,SMALL(IF(joueurs=$B45,ROW(INDIRECT(\"1:\"&ROWS(points)))),ROWS($1:$22))),\"\")","v":""},{"$f":"IF(ROWS($1:$23)<=COUNTIF(joueurs,$B45),INDEX(points,SMALL(IF(joueurs=$B45,ROW(INDIRECT(\"1:\"&ROWS(points)))),ROWS($1:$23))),\"\")","v":""},{"$f":"IF(ROWS($1:$24)<=COUNTIF(joueurs,$B45),INDEX(points,SMALL(IF(joueurs=$B45,ROW(INDIRECT(\"1:\"&ROWS(points)))),ROWS($1:$24))),\"\")","v":""},{"$f":"IF(ROWS($1:$25)<=COUNTIF(joueurs,$B45),INDEX(points,SMALL(IF(joueurs=$B45,ROW(INDIRECT(\"1:\"&ROWS(points)))),ROWS($1:$25))),\"\")","v":""},{"$f":"IF(ROWS($1:$26)<=COUNTIF(joueurs,$B45),INDEX(points,SMALL(IF(joueurs=$B45,ROW(INDIRECT(\"1:\"&ROWS(points)))),ROWS($1:$26))),\"\")","v":""},{"$f":"IF(ROWS($1:$27)<=COUNTIF(joueurs,$B45),INDEX(points,SMALL(IF(joueurs=$B45,ROW(INDIRECT(\"1:\"&ROWS(points)))),ROWS($1:$27))),\"\")","v":""},{"$f":"IF(ROWS($1:$28)<=COUNTIF(joueurs,$B45),INDEX(points,SMALL(IF(joueurs=$B45,ROW(INDIRECT(\"1:\"&ROWS(points)))),ROWS($1:$28))),\"\")","v":""},{"$f":"IF(ROWS($1:$29)<=COUNTIF(joueurs,$B45),INDEX(points,SMALL(IF(joueurs=$B45,ROW(INDIRECT(\"1:\"&ROWS(points)))),ROWS($1:$29))),\"\")","v":""},{"$f":"IF(ROWS($1:$30)<=COUNTIF(joueurs,$B45),INDEX(points,SMALL(IF(joueurs=$B45,ROW(INDIRECT(\"1:\"&ROWS(points)))),ROWS($1:$30))),\"\")","v":""},{"$f":"IF(ROWS($1:$21)<=COUNTIF(joueurs,$B45),INDEX(victoires,SMALL(IF(joueurs=$B45,ROW(INDIRECT(\"1:\"&ROWS(victoires)))),ROWS($1:$21))),\"\")","v":""},{"$f":"IF(ROWS($1:$22)<=COUNTIF(joueurs,$B45),INDEX(victoires,SMALL(IF(joueurs=$B45,ROW(INDIRECT(\"1:\"&ROWS(victoires)))),ROWS($1:$22))),\"\")","v":""},{"$f":"IF(ROWS($1:$23)<=COUNTIF(joueurs,$B45),INDEX(victoires,SMALL(IF(joueurs=$B45,ROW(INDIRECT(\"1:\"&ROWS(victoires)))),ROWS($1:$23))),\"\")","v":""},{"$f":"IF(ROWS($1:$24)<=COUNTIF(joueurs,$B45),INDEX(victoires,SMALL(IF(joueurs=$B45,ROW(INDIRECT(\"1:\"&ROWS(victoires)))),ROWS($1:$24))),\"\")","v":""},{"$f":"IF(ROWS($1:$25)<=COUNTIF(joueurs,$B45),INDEX(victoires,SMALL(IF(joueurs=$B45,ROW(INDIRECT(\"1:\"&ROWS(victoires)))),ROWS($1:$25))),\"\")","v":""},{"$f":"IF(ROWS($1:$26)<=COUNTIF(joueurs,$B45),INDEX(victoires,SMALL(IF(joueurs=$B45,ROW(INDIRECT(\"1:\"&ROWS(victoires)))),ROWS($1:$26))),\"\")","v":""},{"$f":"IF(ROWS($1:$27)<=COUNTIF(joueurs,$B45),INDEX(victoires,SMALL(IF(joueurs=$B45,ROW(INDIRECT(\"1:\"&ROWS(victoires)))),ROWS($1:$27))),\"\")","v":""},{"$f":"IF(ROWS($1:$28)<=COUNTIF(joueurs,$B45),INDEX(victoires,SMALL(IF(joueurs=$B45,ROW(INDIRECT(\"1:\"&ROWS(victoires)))),ROWS($1:$28))),\"\")","v":""},{"$f":"IF(ROWS($1:$29)<=COUNTIF(joueurs,$B45),INDEX(victoires,SMALL(IF(joueurs=$B45,ROW(INDIRECT(\"1:\"&ROWS(victoires)))),ROWS($1:$29))),\"\")","v":""},{"$f":"IF(ROWS($1:$30)<=COUNTIF(joueurs,$B45),INDEX(victoires,SMALL(IF(joueurs=$B45,ROW(INDIRECT(\"1:\"&ROWS(victoires)))),ROWS($1:$30))),\"\")","v":""}]
[null,null,null,{"$f":"IF(ROWS($1:$31)<=COUNTIF(joueurs,$B45),INDEX(fautes,SMALL(IF(joueurs=$B45,ROW(INDIRECT(\"1:\"&ROWS(fautes)))),ROWS($1:$31))),\"\")","v":""},{"$f":"IF(ROWS($1:$32)<=COUNTIF(joueurs,$B45),INDEX(fautes,SMALL(IF(joueurs=$B45,ROW(INDIRECT(\"1:\"&ROWS(fautes)))),ROWS($1:$32))),\"\")","v":""},{"$f":"IF(ROWS($1:$33)<=COUNTIF(joueurs,$B45),INDEX(fautes,SMALL(IF(joueurs=$B45,ROW(INDIRECT(\"1:\"&ROWS(fautes)))),ROWS($1:$33))),\"\")","v":""},{"$f":"IF(ROWS($1:$34)<=COUNTIF(joueurs,$B45),INDEX(fautes,SMALL(IF(joueurs=$B45,ROW(INDIRECT(\"1:\"&ROWS(fautes)))),ROWS($1:$34))),\"\")","v":""},{"$f":"IF(ROWS($1:$35)<=COUNTIF(joueurs,$B45),INDEX(fautes,SMALL(IF(joueurs=$B45,ROW(INDIRECT(\"1:\"&ROWS(fautes)))),ROWS($1:$35))),\"\")","v":""},{"$f":"IF(ROWS($1:$36)<=COUNTIF(joueurs,$B45),INDEX(fautes,SMALL(IF(joueurs=$B45,ROW(INDIRECT(\"1:\"&ROWS(fautes)))),ROWS($1:$36))),\"\")","v":""},{"$f":"IF(ROWS($1:$37)<=COUNTIF(joueurs,$B45),INDEX(fautes,SMALL(IF(joueurs=$B45,ROW(INDIRECT(\"1:\"&ROWS(fautes)))),ROWS($1:$37))),\"\")","v":""},{"$f":"IF(ROWS($1:$38)<=COUNTIF(joueurs,$B45),INDEX(fautes,SMALL(IF(joueurs=$B45,ROW(INDIRECT(\"1:\"&ROWS(fautes)))),ROWS($1:$38))),\"\")","v":""},{"$f":"IF(ROWS($1:$39)<=COUNTIF(joueurs,$B45),INDEX(fautes,SMALL(IF(joueurs=$B45,ROW(INDIRECT(\"1:\"&ROWS(fautes)))),ROWS($1:$39))),\"\")","v":""},{"$f":"IF(ROWS($1:$40)<=COUNTIF(joueurs,$B45),INDEX(fautes,SMALL(IF(joueurs=$B45,ROW(INDIRECT(\"1:\"&ROWS(fautes)))),ROWS($1:$40))),\"\")","v":""},{"$f":"IF(ROWS($1:$31)<=COUNTIF(joueurs,$B45),INDEX(ballonperdus,SMALL(IF(joueurs=$B45,ROW(INDIRECT(\"1:\"&ROWS(ballonperdus)))),ROWS($1:$31))),\"\")","v":""},{"$f":"IF(ROWS($1:$32)<=COUNTIF(joueurs,$B45),INDEX(ballonperdus,SMALL(IF(joueurs=$B45,ROW(INDIRECT(\"1:\"&ROWS(ballonperdus)))),ROWS($1:$32))),\"\")","v":""},{"$f":"IF(ROWS($1:$33)<=COUNTIF(joueurs,$B45),INDEX(ballonperdus,SMALL(IF(joueurs=$B45,ROW(INDIRECT(\"1:\"&ROWS(ballonperdus)))),ROWS($1:$33))),\"\")","v":""},{"$f":"IF(ROWS($1:$34)<=COUNTIF(joueurs,$B45),INDEX(ballonperdus,SMALL(IF(joueurs=$B45,ROW(INDIRECT(\"1:\"&ROWS(ballonperdus)))),ROWS($1:$34))),\"\")","v":""},{"$f":"IF(ROWS($1:$35)<=COUNTIF(joueurs,$B45),INDEX(ballonperdus,SMALL(IF(joueurs=$B45,ROW(INDIRECT(\"1:\"&ROWS(ballonperdus)))),ROWS($1:$35))),\"\")","v":""},{"$f":"IF(ROWS($1:$36)<=COUNTIF(joueurs,$B45),INDEX(ballonperdus,SMALL(IF(joueurs=$B45,ROW(INDIRECT(\"1:\"&ROWS(ballonperdus)))),ROWS($1:$36))),\"\")","v":""},{"$f":"IF(ROWS($1:$37)<=COUNTIF(joueurs,$B45),INDEX(ballonperdus,SMALL(IF(joueurs=$B45,ROW(INDIRECT(\"1:\"&ROWS(ballonperdus)))),ROWS($1:$37))),\"\")","v":""},{"$f":"IF(ROWS($1:$38)<=COUNTIF(joueurs,$B45),INDEX(ballonperdus,SMALL(IF(joueurs=$B45,ROW(INDIRECT(\"1:\"&ROWS(ballonperdus)))),ROWS($1:$38))),\"\")","v":""},{"$f":"IF(ROWS($1:$39)<=COUNTIF(joueurs,$B45),INDEX(ballonperdus,SMALL(IF(joueurs=$B45,ROW(INDIRECT(\"1:\"&ROWS(ballonperdus)))),ROWS($1:$39))),\"\")","v":""},{"$f":"IF(ROWS($1:$40)<=COUNTIF(joueurs,$B45),INDEX(ballonperdus,SMALL(IF(joueurs=$B45,ROW(INDIRECT(\"1:\"&ROWS(ballonperdus)))),ROWS($1:$40))),\"\")","v":""},{"$f":"IF(ROWS($1:$31)<=COUNTIF(joueurs,$B45),INDEX(interceptions,SMALL(IF(joueurs=$B45,ROW(INDIRECT(\"1:\"&ROWS(interceptions)))),ROWS($1:$31))),\"\")","v":""},{"$f":"IF(ROWS($1:$32)<=COUNTIF(joueurs,$B45),INDEX(interceptions,SMALL(IF(joueurs=$B45,ROW(INDIRECT(\"1:\"&ROWS(interceptions)))),ROWS($1:$32))),\"\")","v":""},{"$f":"IF(ROWS($1:$33)<=COUNTIF(joueurs,$B45),INDEX(interceptions,SMALL(IF(joueurs=$B45,ROW(INDIRECT(\"1:\"&ROWS(interceptions)))),ROWS($1:$33))),\"\")","v":""},{"$f":"IF(ROWS($1:$34)<=COUNTIF(joueurs,$B45),INDEX(interceptions,SMALL(IF(joueurs=$B45,ROW(INDIRECT(\"1:\"&ROWS(interceptions)))),ROWS($1:$34))),\"\")","v":""},{"$f":"IF(ROWS($1:$35)<=COUNTIF(joueurs,$B45),INDEX(interceptions,SMALL(IF(joueurs=$B45,ROW(INDIRECT(\"1:\"&ROWS(interceptions)))),ROWS($1:$35))),\"\")","v":""},{"$f":"IF(ROWS($1:$36)<=COUNTIF(joueurs,$B45),INDEX(interceptions,SMALL(IF(joueurs=$B45,ROW(INDIRECT(\"1:\"&ROWS(interceptions)))),ROWS($1:$36))),\"\")","v":""},{"$f":"IF(ROWS($1:$37)<=COUNTIF(joueurs,$B45),INDEX(interceptions,SMALL(IF(joueurs=$B45,ROW(INDIRECT(\"1:\"&ROWS(interceptions)))),ROWS($1:$37))),\"\")","v":""},{"$f":"IF(ROWS($1:$38)<=COUNTIF(joueurs,$B45),INDEX(interceptions,SMALL(IF(joueurs=$B45,ROW(INDIRECT(\"1:\"&ROWS(interceptions)))),ROWS($1:$38))),\"\")","v":""},{"$f":"IF(ROWS($1:$39)<=COUNTIF(joueurs,$B45),INDEX(interceptions,SMALL(IF(joueurs=$B45,ROW(INDIRECT(\"1:\"&ROWS(interceptions)))),ROWS($1:$39))),\"\")","v":""},{"$f":"IF(ROWS($1:$40)<=COUNTIF(joueurs,$B45),INDEX(interceptions,SMALL(IF(joueurs=$B45,ROW(INDIRECT(\"1:\"&ROWS(interceptions)))),ROWS($1:$40))),\"\")","v":""},{"$f":"IF(ROWS($1:$31)<=COUNTIF(joueurs,$B45),INDEX(ballonrecuperes,SMALL(IF(joueurs=$B45,ROW(INDIRECT(\"1:\"&ROWS(ballonrecuperes)))),ROWS($1:$31))),\"\")","v":""},{"$f":"IF(ROWS($1:$32)<=COUNTIF(joueurs,$B45),INDEX(ballonrecuperes,SMALL(IF(joueurs=$B45,ROW(INDIRECT(\"1:\"&ROWS(ballonrecuperes)))),ROWS($1:$32))),\"\")","v":""},{"$f":"IF(ROWS($1:$33)<=COUNTIF(joueurs,$B45),INDEX(ballonrecuperes,SMALL(IF(joueurs=$B45,ROW(INDIRECT(\"1:\"&ROWS(ballonrecuperes)))),ROWS($1:$33))),\"\")","v":""},{"$f":"IF(ROWS($1:$34)<=COUNTIF(joueurs,$B45),INDEX(ballonrecuperes,SMALL(IF(joueurs=$B45,ROW(INDIRECT(\"1:\"&ROWS(ballonrecuperes)))),ROWS($1:$34))),\"\")","v":""},{"$f":"IF(ROWS($1:$35)<=COUNTIF(joueurs,$B45),INDEX(ballonrecuperes,SMALL(IF(joueurs=$B45,ROW(INDIRECT(\"1:\"&ROWS(ballonrecuperes)))),ROWS($1:$35))),\"\")","v":""},{"$f":"IF(ROWS($1:$36)<=COUNTIF(joueurs,$B45),INDEX(ballonrecuperes,SMALL(IF(joueurs=$B45,ROW(INDIRECT(\"1:\"&ROWS(ballonrecuperes)))),ROWS($1:$36))),\"\")","v":""},{"$f":"IF(ROWS($1:$37)<=COUNTIF(joueurs,$B45),INDEX(ballonrecuperes,SMALL(IF(joueurs=$B45,ROW(INDIRECT(\"1:\"&ROWS(ballonrecuperes)))),ROWS($1:$37))),\"\")","v":""},{"$f":"IF(ROWS($1:$38)<=COUNTIF(joueurs,$B45),INDEX(ballonrecuperes,SMALL(IF(joueurs=$B45,ROW(INDIRECT(\"1:\"&ROWS(ballonrecuperes)))),ROWS($1:$38))),\"\")","v":""},{"$f":"IF(ROWS($1:$39)<=COUNTIF(joueurs,$B45),INDEX(ballonrecuperes,SMALL(IF(joueurs=$B45,ROW(INDIRECT(\"1:\"&ROWS(ballonrecuperes)))),ROWS($1:$39))),\"\")","v":""},{"$f":"IF(ROWS($1:$40)<=COUNTIF(joueurs,$B45),INDEX(ballonrecuperes,SMALL(IF(joueurs=$B45,ROW(INDIRECT(\"1:\"&ROWS(ballonrecuperes)))),ROWS($1:$40))),\"\")","v":""},{"$f":"IF(ROWS($1:$31)<=COUNTIF(joueurs,$B45),INDEX(tirs,SMALL(IF(joueurs=$B45,ROW(INDIRECT(\"1:\"&ROWS(tirs)))),ROWS($1:$31))),\"\")","v":""},{"$f":"IF(ROWS($1:$32)<=COUNTIF(joueurs,$B45),INDEX(tirs,SMALL(IF(joueurs=$B45,ROW(INDIRECT(\"1:\"&ROWS(tirs)))),ROWS($1:$32))),\"\")","v":""},{"$f":"IF(ROWS($1:$33)<=COUNTIF(joueurs,$B45),INDEX(tirs,SMALL(IF(joueurs=$B45,ROW(INDIRECT(\"1:\"&ROWS(tirs)))),ROWS($1:$33))),\"\")","v":""},{"$f":"IF(ROWS($1:$34)<=COUNTIF(joueurs,$B45),INDEX(tirs,SMALL(IF(joueurs=$B45,ROW(INDIRECT(\"1:\"&ROWS(tirs)))),ROWS($1:$34))),\"\")","v":""},{"$f":"IF(ROWS($1:$35)<=COUNTIF(joueurs,$B45),INDEX(tirs,SMALL(IF(joueurs=$B45,ROW(INDIRECT(\"1:\"&ROWS(tirs)))),ROWS($1:$35))),\"\")","v":""},{"$f":"IF(ROWS($1:$36)<=COUNTIF(joueurs,$B45),INDEX(tirs,SMALL(IF(joueurs=$B45,ROW(INDIRECT(\"1:\"&ROWS(tirs)))),ROWS($1:$36))),\"\")","v":""},{"$f":"IF(ROWS($1:$37)<=COUNTIF(joueurs,$B45),INDEX(tirs,SMALL(IF(joueurs=$B45,ROW(INDIRECT(\"1:\"&ROWS(tirs)))),ROWS($1:$37))),\"\")","v":""},{"$f":"IF(ROWS($1:$38)<=COUNTIF(joueurs,$B45),INDEX(tirs,SMALL(IF(joueurs=$B45,ROW(INDIRECT(\"1:\"&ROWS(tirs)))),ROWS($1:$38))),\"\")","v":""},{"$f":"IF(ROWS($1:$39)<=COUNTIF(joueurs,$B45),INDEX(tirs,SMALL(IF(joueurs=$B45,ROW(INDIRECT(\"1:\"&ROWS(tirs)))),ROWS($1:$39))),\"\")","v":""},{"$f":"IF(ROWS($1:$40)<=COUNTIF(joueurs,$B45),INDEX(tirs,SMALL(IF(joueurs=$B45,ROW(INDIRECT(\"1:\"&ROWS(tirs)))),ROWS($1:$40))),\"\")","v":""},{"$f":"IF(ROWS($1:$31)<=COUNTIF(joueurs,$B45),INDEX(bontirs,SMALL(IF(joueurs=$B45,ROW(INDIRECT(\"1:\"&ROWS(bontirs)))),ROWS($1:$31))),\"\")","v":""},{"$f":"IF(ROWS($1:$32)<=COUNTIF(joueurs,$B45),INDEX(bontirs,SMALL(IF(joueurs=$B45,ROW(INDIRECT(\"1:\"&ROWS(bontirs)))),ROWS($1:$32))),\"\")","v":""},{"$f":"IF(ROWS($1:$33)<=COUNTIF(joueurs,$B45),INDEX(bontirs,SMALL(IF(joueurs=$B45,ROW(INDIRECT(\"1:\"&ROWS(bontirs)))),ROWS($1:$33))),\"\")","v":""},{"$f":"IF(ROWS($1:$34)<=COUNTIF(joueurs,$B45),INDEX(bontirs,SMALL(IF(joueurs=$B45,ROW(INDIRECT(\"1:\"&ROWS(bontirs)))),ROWS($1:$34))),\"\")","v":""},{"$f":"IF(ROWS($1:$35)<=COUNTIF(joueurs,$B45),INDEX(bontirs,SMALL(IF(joueurs=$B45,ROW(INDIRECT(\"1:\"&ROWS(bontirs)))),ROWS($1:$35))),\"\")","v":""},{"$f":"IF(ROWS($1:$36)<=COUNTIF(joueurs,$B45),INDEX(bontirs,SMALL(IF(joueurs=$B45,ROW(INDIRECT(\"1:\"&ROWS(bontirs)))),ROWS($1:$36))),\"\")","v":""},{"$f":"IF(ROWS($1:$37)<=COUNTIF(joueurs,$B45),INDEX(bontirs,SMALL(IF(joueurs=$B45,ROW(INDIRECT(\"1:\"&ROWS(bontirs)))),ROWS($1:$37))),\"\")","v":""},{"$f":"IF(ROWS($1:$38)<=COUNTIF(joueurs,$B45),INDEX(bontirs,SMALL(IF(joueurs=$B45,ROW(INDIRECT(\"1:\"&ROWS(bontirs)))),ROWS($1:$38))),\"\")","v":""},{"$f":"IF(ROWS($1:$39)<=COUNTIF(joueurs,$B45),INDEX(bontirs,SMALL(IF(joueurs=$B45,ROW(INDIRECT(\"1:\"&ROWS(bontirs)))),ROWS($1:$39))),\"\")","v":""},{"$f":"IF(ROWS($1:$40)<=COUNTIF(joueurs,$B45),INDEX(bontirs,SMALL(IF(joueurs=$B45,ROW(INDIRECT(\"1:\"&ROWS(bontirs)))),ROWS($1:$40))),\"\")","v":""},{"$f":"IF(ROWS($1:$31)<=COUNTIF(joueurs,$B45),INDEX(points,SMALL(IF(joueurs=$B45,ROW(INDIRECT(\"1:\"&ROWS(points)))),ROWS($1:$31))),\"\")","v":""},{"$f":"IF(ROWS($1:$32)<=COUNTIF(joueurs,$B45),INDEX(points,SMALL(IF(joueurs=$B45,ROW(INDIRECT(\"1:\"&ROWS(points)))),ROWS($1:$32))),\"\")","v":""},{"$f":"IF(ROWS($1:$33)<=COUNTIF(joueurs,$B45),INDEX(points,SMALL(IF(joueurs=$B45,ROW(INDIRECT(\"1:\"&ROWS(points)))),ROWS($1:$33))),\"\")","v":""},{"$f":"IF(ROWS($1:$34)<=COUNTIF(joueurs,$B45),INDEX(points,SMALL(IF(joueurs=$B45,ROW(INDIRECT(\"1:\"&ROWS(points)))),ROWS($1:$34))),\"\")","v":""},{"$f":"IF(ROWS($1:$35)<=COUNTIF(joueurs,$B45),INDEX(points,SMALL(IF(joueurs=$B45,ROW(INDIRECT(\"1:\"&ROWS(points)))),ROWS($1:$35))),\"\")","v":""},{"$f":"IF(ROWS($1:$36)<=COUNTIF(joueurs,$B45),INDEX(points,SMALL(IF(joueurs=$B45,ROW(INDIRECT(\"1:\"&ROWS(points)))),ROWS($1:$36))),\"\")","v":""},{"$f":"IF(ROWS($1:$37)<=COUNTIF(joueurs,$B45),INDEX(points,SMALL(IF(joueurs=$B45,ROW(INDIRECT(\"1:\"&ROWS(points)))),ROWS($1:$37))),\"\")","v":""},{"$f":"IF(ROWS($1:$38)<=COUNTIF(joueurs,$B45),INDEX(points,SMALL(IF(joueurs=$B45,ROW(INDIRECT(\"1:\"&ROWS(points)))),ROWS($1:$38))),\"\")","v":""},{"$f":"IF(ROWS($1:$39)<=COUNTIF(joueurs,$B45),INDEX(points,SMALL(IF(joueurs=$B45,ROW(INDIRECT(\"1:\"&ROWS(points)))),ROWS($1:$39))),\"\")","v":""},{"$f":"IF(ROWS($1:$40)<=COUNTIF(joueurs,$B45),INDEX(points,SMALL(IF(joueurs=$B45,ROW(INDIRECT(\"1:\"&ROWS(points)))),ROWS($1:$40))),\"\")","v":""},{"$f":"IF(ROWS($1:$31)<=COUNTIF(joueurs,$B45),INDEX(victoires,SMALL(IF(joueurs=$B45,ROW(INDIRECT(\"1:\"&ROWS(victoires)))),ROWS($1:$31))),\"\")","v":""},{"$f":"IF(ROWS($1:$32)<=COUNTIF(joueurs,$B45),INDEX(victoires,SMALL(IF(joueurs=$B45,ROW(INDIRECT(\"1:\"&ROWS(victoires)))),ROWS($1:$32))),\"\")","v":""},{"$f":"IF(ROWS($1:$33)<=COUNTIF(joueurs,$B45),INDEX(victoires,SMALL(IF(joueurs=$B45,ROW(INDIRECT(\"1:\"&ROWS(victoires)))),ROWS($1:$33))),\"\")","v":""},{"$f":"IF(ROWS($1:$34)<=COUNTIF(joueurs,$B45),INDEX(victoires,SMALL(IF(joueurs=$B45,ROW(INDIRECT(\"1:\"&ROWS(victoires)))),ROWS($1:$34))),\"\")","v":""},{"$f":"IF(ROWS($1:$35)<=COUNTIF(joueurs,$B45),INDEX(victoires,SMALL(IF(joueurs=$B45,ROW(INDIRECT(\"1:\"&ROWS(victoires)))),ROWS($1:$35))),\"\")","v":""},{"$f":"IF(ROWS($1:$36)<=COUNTIF(joueurs,$B45),INDEX(victoires,SMALL(IF(joueurs=$B45,ROW(INDIRECT(\"1:\"&ROWS(victoires)))),ROWS($1:$36))),\"\")","v":""},{"$f":"IF(ROWS($1:$37)<=COUNTIF(joueurs,$B45),INDEX(victoires,SMALL(IF(joueurs=$B45,ROW(INDIRECT(\"1:\"&ROWS(victoires)))),ROWS($1:$37))),\"\")","v":""},{"$f":"IF(ROWS($1:$38)<=COUNTIF(joueurs,$B45),INDEX(victoires,SMALL(IF(joueurs=$B45,ROW(INDIRECT(\"1:\"&ROWS(victoires)))),ROWS($1:$38))),\"\")","v":""},{"$f":"IF(ROWS($1:$39)<=COUNTIF(joueurs,$B45),INDEX(victoires,SMALL(IF(joueurs=$B45,ROW(INDIRECT(\"1:\"&ROWS(victoires)))),ROWS($1:$39))),\"\")","v":""},{"$f":"IF(ROWS($1:$40)<=COUNTIF(joueurs,$B45),INDEX(victoires,SMALL(IF(joueurs=$B45,ROW(INDIRECT(\"1:\"&ROWS(victoires)))),ROWS($1:$40))),\"\")","v":""}]
[12,{"$f":"INDEX(eleves,MATCH(A49,numero,0),MATCH($B$2,classes,0))","v":"ABDUL JABAR"},null,{"$f":"IF(ROWS($1:$1)<=COUNTIF(joueurs,$B49),INDEX(fautes,SMALL(IF(joueurs=$B49,ROW(INDIRECT(\"1:\"&ROWS(fautes)))),ROWS($1:$1))),\"\")","v":""},{"$f":"IF(ROWS($1:$2)<=COUNTIF(joueurs,$B49),INDEX(fautes,SMALL(IF(joueurs=$B49,ROW(INDIRECT(\"1:\"&ROWS(fautes)))),ROWS($1:$2))),\"\")","v":""},{"$f":"IF(ROWS($1:$3)<=COUNTIF(joueurs,$B49),INDEX(fautes,SMALL(IF(joueurs=$B49,ROW(INDIRECT(\"1:\"&ROWS(fautes)))),ROWS($1:$3))),\"\")","v":""},{"$f":"IF(ROWS($1:$4)<=COUNTIF(joueurs,$B49),INDEX(fautes,SMALL(IF(joueurs=$B49,ROW(INDIRECT(\"1:\"&ROWS(fautes)))),ROWS($1:$4))),\"\")","v":""},{"$f":"IF(ROWS($1:$5)<=COUNTIF(joueurs,$B49),INDEX(fautes,SMALL(IF(joueurs=$B49,ROW(INDIRECT(\"1:\"&ROWS(fautes)))),ROWS($1:$5))),\"\")","v":""},{"$f":"IF(ROWS($1:$6)<=COUNTIF(joueurs,$B49),INDEX(fautes,SMALL(IF(joueurs=$B49,ROW(INDIRECT(\"1:\"&ROWS(fautes)))),ROWS($1:$6))),\"\")","v":""},{"$f":"IF(ROWS($1:$7)<=COUNTIF(joueurs,$B49),INDEX(fautes,SMALL(IF(joueurs=$B49,ROW(INDIRECT(\"1:\"&ROWS(fautes)))),ROWS($1:$7))),\"\")","v":""},{"$f":"IF(ROWS($1:$8)<=COUNTIF(joueurs,$B49),INDEX(fautes,SMALL(IF(joueurs=$B49,ROW(INDIRECT(\"1:\"&ROWS(fautes)))),ROWS($1:$8))),\"\")","v":""},{"$f":"IF(ROWS($1:$9)<=COUNTIF(joueurs,$B49),INDEX(fautes,SMALL(IF(joueurs=$B49,ROW(INDIRECT(\"1:\"&ROWS(fautes)))),ROWS($1:$9))),\"\")","v":""},{"$f":"IF(ROWS($1:$10)<=COUNTIF(joueurs,$B49),INDEX(fautes,SMALL(IF(joueurs=$B49,ROW(INDIRECT(\"1:\"&ROWS(fautes)))),ROWS($1:$10))),\"\")","v":""},{"$f":"IF(ROWS($1:$1)<=COUNTIF(joueurs,$B49),INDEX(ballonperdus,SMALL(IF(joueurs=$B49,ROW(INDIRECT(\"1:\"&ROWS(ballonperdus)))),ROWS($1:$1))),\"\")","v":""},{"$f":"IF(ROWS($1:$2)<=COUNTIF(joueurs,$B49),INDEX(ballonperdus,SMALL(IF(joueurs=$B49,ROW(INDIRECT(\"1:\"&ROWS(ballonperdus)))),ROWS($1:$2))),\"\")","v":""},{"$f":"IF(ROWS($1:$3)<=COUNTIF(joueurs,$B49),INDEX(ballonperdus,SMALL(IF(joueurs=$B49,ROW(INDIRECT(\"1:\"&ROWS(ballonperdus)))),ROWS($1:$3))),\"\")","v":""},{"$f":"IF(ROWS($1:$4)<=COUNTIF(joueurs,$B49),INDEX(ballonperdus,SMALL(IF(joueurs=$B49,ROW(INDIRECT(\"1:\"&ROWS(ballonperdus)))),ROWS($1:$4))),\"\")","v":""},{"$f":"IF(ROWS($1:$5)<=COUNTIF(joueurs,$B49),INDEX(ballonperdus,SMALL(IF(joueurs=$B49,ROW(INDIRECT(\"1:\"&ROWS(ballonperdus)))),ROWS($1:$5))),\"\")","v":""},{"$f":"IF(ROWS($1:$6)<=COUNTIF(joueurs,$B49),INDEX(ballonperdus,SMALL(IF(joueurs=$B49,ROW(INDIRECT(\"1:\"&ROWS(ballonperdus)))),ROWS($1:$6))),\"\")","v":""},{"$f":"IF(ROWS($1:$7)<=COUNTIF(joueurs,$B49),INDEX(ballonperdus,SMALL(IF(joueurs=$B49,ROW(INDIRECT(\"1:\"&ROWS(ballonperdus)))),ROWS($1:$7))),\"\")","v":""},{"$f":"IF(ROWS($1:$8)<=COUNTIF(joueurs,$B49),INDEX(ballonperdus,SMALL(IF(joueurs=$B49,ROW(INDIRECT(\"1:\"&ROWS(ballonperdus)))),ROWS($1:$8))),\"\")","v":""},{"$f":"IF(ROWS($1:$9)<=COUNTIF(joueurs,$B49),INDEX(ballonperdus,SMALL(IF(joueurs=$B49,ROW(INDIRECT(\"1:\"&ROWS(ballonperdus)))),ROWS($1:$9))),\"\")","v":""},{"$f":"IF(ROWS($1:$10)<=COUNTIF(joueurs,$B49),INDEX(ballonperdus,SMALL(IF(joueurs=$B49,ROW(INDIRECT(\"1:\"&ROWS(ballonperdus)))),ROWS($1:$10))),\"\")","v":""},{"$f":"IF(ROWS($1:$1)<=COUNTIF(joueurs,$B49),INDEX(interceptions,SMALL(IF(joueurs=$B49,ROW(INDIRECT(\"1:\"&ROWS(interceptions)))),ROWS($1:$1))),\"\")","v":""},{"$f":"IF(ROWS($1:$2)<=COUNTIF(joueurs,$B49),INDEX(interceptions,SMALL(IF(joueurs=$B49,ROW(INDIRECT(\"1:\"&ROWS(interceptions)))),ROWS($1:$2))),\"\")","v":""},{"$f":"IF(ROWS($1:$3)<=COUNTIF(joueurs,$B49),INDEX(interceptions,SMALL(IF(joueurs=$B49,ROW(INDIRECT(\"1:\"&ROWS(interceptions)))),ROWS($1:$3))),\"\")","v":""},{"$f":"IF(ROWS($1:$4)<=COUNTIF(joueurs,$B49),INDEX(interceptions,SMALL(IF(joueurs=$B49,ROW(INDIRECT(\"1:\"&ROWS(interceptions)))),ROWS($1:$4))),\"\")","v":""},{"$f":"IF(ROWS($1:$5)<=COUNTIF(joueurs,$B49),INDEX(interceptions,SMALL(IF(joueurs=$B49,ROW(INDIRECT(\"1:\"&ROWS(interceptions)))),ROWS($1:$5))),\"\")","v":""},{"$f":"IF(ROWS($1:$6)<=COUNTIF(joueurs,$B49),INDEX(interceptions,SMALL(IF(joueurs=$B49,ROW(INDIRECT(\"1:\"&ROWS(interceptions)))),ROWS($1:$6))),\"\")","v":""},{"$f":"IF(ROWS($1:$7)<=COUNTIF(joueurs,$B49),INDEX(interceptions,SMALL(IF(joueurs=$B49,ROW(INDIRECT(\"1:\"&ROWS(interceptions)))),ROWS($1:$7))),\"\")","v":""},{"$f":"IF(ROWS($1:$8)<=COUNTIF(joueurs,$B49),INDEX(interceptions,SMALL(IF(joueurs=$B49,ROW(INDIRECT(\"1:\"&ROWS(interceptions)))),ROWS($1:$8))),\"\")","v":""},{"$f":"IF(ROWS($1:$9)<=COUNTIF(joueurs,$B49),INDEX(interceptions,SMALL(IF(joueurs=$B49,ROW(INDIRECT(\"1:\"&ROWS(interceptions)))),ROWS($1:$9))),\"\")","v":""},{"$f":"IF(ROWS($1:$10)<=COUNTIF(joueurs,$B49),INDEX(interceptions,SMALL(IF(joueurs=$B49,ROW(INDIRECT(\"1:\"&ROWS(interceptions)))),ROWS($1:$10))),\"\")","v":""},{"$f":"IF(ROWS($1:$1)<=COUNTIF(joueurs,$B49),INDEX(ballonrecuperes,SMALL(IF(joueurs=$B49,ROW(INDIRECT(\"1:\"&ROWS(ballonrecuperes)))),ROWS($1:$1))),\"\")","v":""},{"$f":"IF(ROWS($1:$2)<=COUNTIF(joueurs,$B49),INDEX(ballonrecuperes,SMALL(IF(joueurs=$B49,ROW(INDIRECT(\"1:\"&ROWS(ballonrecuperes)))),ROWS($1:$2))),\"\")","v":""},{"$f":"IF(ROWS($1:$3)<=COUNTIF(joueurs,$B49),INDEX(ballonrecuperes,SMALL(IF(joueurs=$B49,ROW(INDIRECT(\"1:\"&ROWS(ballonrecuperes)))),ROWS($1:$3))),\"\")","v":""},{"$f":"IF(ROWS($1:$4)<=COUNTIF(joueurs,$B49),INDEX(ballonrecuperes,SMALL(IF(joueurs=$B49,ROW(INDIRECT(\"1:\"&ROWS(ballonrecuperes)))),ROWS($1:$4))),\"\")","v":""},{"$f":"IF(ROWS($1:$5)<=COUNTIF(joueurs,$B49),INDEX(ballonrecuperes,SMALL(IF(joueurs=$B49,ROW(INDIRECT(\"1:\"&ROWS(ballonrecuperes)))),ROWS($1:$5))),\"\")","v":""},{"$f":"IF(ROWS($1:$6)<=COUNTIF(joueurs,$B49),INDEX(ballonrecuperes,SMALL(IF(joueurs=$B49,ROW(INDIRECT(\"1:\"&ROWS(ballonrecuperes)))),ROWS($1:$6))),\"\")","v":""},{"$f":"IF(ROWS($1:$7)<=COUNTIF(joueurs,$B49),INDEX(ballonrecuperes,SMALL(IF(joueurs=$B49,ROW(INDIRECT(\"1:\"&ROWS(ballonrecuperes)))),ROWS($1:$7))),\"\")","v":""},{"$f":"IF(ROWS($1:$8)<=COUNTIF(joueurs,$B49),INDEX(ballonrecuperes,SMALL(IF(joueurs=$B49,ROW(INDIRECT(\"1:\"&ROWS(ballonrecuperes)))),ROWS($1:$8))),\"\")","v":""},{"$f":"IF(ROWS($1:$9)<=COUNTIF(joueurs,$B49),INDEX(ballonrecuperes,SMALL(IF(joueurs=$B49,ROW(INDIRECT(\"1:\"&ROWS(ballonrecuperes)))),ROWS($1:$9))),\"\")","v":""},{"$f":"IF(ROWS($1:$10)<=COUNTIF(joueurs,$B49),INDEX(ballonrecuperes,SMALL(IF(joueurs=$B49,ROW(INDIRECT(\"1:\"&ROWS(ballonrecuperes)))),ROWS($1:$10))),\"\")","v":""},{"$f":"IF(ROWS($1:$1)<=COUNTIF(joueurs,$B49),INDEX(tirs,SMALL(IF(joueurs=$B49,ROW(INDIRECT(\"1:\"&ROWS(tirs)))),ROWS($1:$1))),\"\")","v":""},{"$f":"IF(ROWS($1:$2)<=COUNTIF(joueurs,$B49),INDEX(tirs,SMALL(IF(joueurs=$B49,ROW(INDIRECT(\"1:\"&ROWS(tirs)))),ROWS($1:$2))),\"\")","v":""},{"$f":"IF(ROWS($1:$3)<=COUNTIF(joueurs,$B49),INDEX(tirs,SMALL(IF(joueurs=$B49,ROW(INDIRECT(\"1:\"&ROWS(tirs)))),ROWS($1:$3))),\"\")","v":""},{"$f":"IF(ROWS($1:$4)<=COUNTIF(joueurs,$B49),INDEX(tirs,SMALL(IF(joueurs=$B49,ROW(INDIRECT(\"1:\"&ROWS(tirs)))),ROWS($1:$4))),\"\")","v":""},{"$f":"IF(ROWS($1:$5)<=COUNTIF(joueurs,$B49),INDEX(tirs,SMALL(IF(joueurs=$B49,ROW(INDIRECT(\"1:\"&ROWS(tirs)))),ROWS($1:$5))),\"\")","v":""},{"$f":"IF(ROWS($1:$6)<=COUNTIF(joueurs,$B49),INDEX(tirs,SMALL(IF(joueurs=$B49,ROW(INDIRECT(\"1:\"&ROWS(tirs)))),ROWS($1:$6))),\"\")","v":""},{"$f":"IF(ROWS($1:$7)<=COUNTIF(joueurs,$B49),INDEX(tirs,SMALL(IF(joueurs=$B49,ROW(INDIRECT(\"1:\"&ROWS(tirs)))),ROWS($1:$7))),\"\")","v":""},{"$f":"IF(ROWS($1:$8)<=COUNTIF(joueurs,$B49),INDEX(tirs,SMALL(IF(joueurs=$B49,ROW(INDIRECT(\"1:\"&ROWS(tirs)))),ROWS($1:$8))),\"\")","v":""},{"$f":"IF(ROWS($1:$9)<=COUNTIF(joueurs,$B49),INDEX(tirs,SMALL(IF(joueurs=$B49,ROW(INDIRECT(\"1:\"&ROWS(tirs)))),ROWS($1:$9))),\"\")","v":""},{"$f":"IF(ROWS($1:$10)<=COUNTIF(joueurs,$B49),INDEX(tirs,SMALL(IF(joueurs=$B49,ROW(INDIRECT(\"1:\"&ROWS(tirs)))),ROWS($1:$10))),\"\")","v":""},{"$f":"IF(ROWS($1:$1)<=COUNTIF(joueurs,$B49),INDEX(bontirs,SMALL(IF(joueurs=$B49,ROW(INDIRECT(\"1:\"&ROWS(bontirs)))),ROWS($1:$1))),\"\")","v":""},{"$f":"IF(ROWS($1:$2)<=COUNTIF(joueurs,$B49),INDEX(bontirs,SMALL(IF(joueurs=$B49,ROW(INDIRECT(\"1:\"&ROWS(bontirs)))),ROWS($1:$2))),\"\")","v":""},{"$f":"IF(ROWS($1:$3)<=COUNTIF(joueurs,$B49),INDEX(bontirs,SMALL(IF(joueurs=$B49,ROW(INDIRECT(\"1:\"&ROWS(bontirs)))),ROWS($1:$3))),\"\")","v":""},{"$f":"IF(ROWS($1:$4)<=COUNTIF(joueurs,$B49),INDEX(bontirs,SMALL(IF(joueurs=$B49,ROW(INDIRECT(\"1:\"&ROWS(bontirs)))),ROWS($1:$4))),\"\")","v":""},{"$f":"IF(ROWS($1:$5)<=COUNTIF(joueurs,$B49),INDEX(bontirs,SMALL(IF(joueurs=$B49,ROW(INDIRECT(\"1:\"&ROWS(bontirs)))),ROWS($1:$5))),\"\")","v":""},{"$f":"IF(ROWS($1:$6)<=COUNTIF(joueurs,$B49),INDEX(bontirs,SMALL(IF(joueurs=$B49,ROW(INDIRECT(\"1:\"&ROWS(bontirs)))),ROWS($1:$6))),\"\")","v":""},{"$f":"IF(ROWS($1:$7)<=COUNTIF(joueurs,$B49),INDEX(bontirs,SMALL(IF(joueurs=$B49,ROW(INDIRECT(\"1:\"&ROWS(bontirs)))),ROWS($1:$7))),\"\")","v":""},{"$f":"IF(ROWS($1:$8)<=COUNTIF(joueurs,$B49),INDEX(bontirs,SMALL(IF(joueurs=$B49,ROW(INDIRECT(\"1:\"&ROWS(bontirs)))),ROWS($1:$8))),\"\")","v":""},{"$f":"IF(ROWS($1:$9)<=COUNTIF(joueurs,$B49),INDEX(bontirs,SMALL(IF(joueurs=$B49,ROW(INDIRECT(\"1:\"&ROWS(bontirs)))),ROWS($1:$9))),\"\")","v":""},{"$f":"IF(ROWS($1:$10)<=COUNTIF(joueurs,$B49),INDEX(bontirs,SMALL(IF(joueurs=$B49,ROW(INDIRECT(\"1:\"&ROWS(bontirs)))),ROWS($1:$10))),\"\")","v":""},{"$f":"IF(ROWS($1:$1)<=COUNTIF(joueurs,$B49),INDEX(points,SMALL(IF(joueurs=$B49,ROW(INDIRECT(\"1:\"&ROWS(points)))),ROWS($1:$1))),\"\")","v":""},{"$f":"IF(ROWS($1:$2)<=COUNTIF(joueurs,$B49),INDEX(points,SMALL(IF(joueurs=$B49,ROW(INDIRECT(\"1:\"&ROWS(points)))),ROWS($1:$2))),\"\")","v":""},{"$f":"IF(ROWS($1:$3)<=COUNTIF(joueurs,$B49),INDEX(points,SMALL(IF(joueurs=$B49,ROW(INDIRECT(\"1:\"&ROWS(points)))),ROWS($1:$3))),\"\")","v":""},{"$f":"IF(ROWS($1:$4)<=COUNTIF(joueurs,$B49),INDEX(points,SMALL(IF(joueurs=$B49,ROW(INDIRECT(\"1:\"&ROWS(points)))),ROWS($1:$4))),\"\")","v":""},{"$f":"IF(ROWS($1:$5)<=COUNTIF(joueurs,$B49),INDEX(points,SMALL(IF(joueurs=$B49,ROW(INDIRECT(\"1:\"&ROWS(points)))),ROWS($1:$5))),\"\")","v":""},{"$f":"IF(ROWS($1:$6)<=COUNTIF(joueurs,$B49),INDEX(points,SMALL(IF(joueurs=$B49,ROW(INDIRECT(\"1:\"&ROWS(points)))),ROWS($1:$6))),\"\")","v":""},{"$f":"IF(ROWS($1:$7)<=COUNTIF(joueurs,$B49),INDEX(points,SMALL(IF(joueurs=$B49,ROW(INDIRECT(\"1:\"&ROWS(points)))),ROWS($1:$7))),\"\")","v":""},{"$f":"IF(ROWS($1:$8)<=COUNTIF(joueurs,$B49),INDEX(points,SMALL(IF(joueurs=$B49,ROW(INDIRECT(\"1:\"&ROWS(points)))),ROWS($1:$8))),\"\")","v":""},{"$f":"IF(ROWS($1:$9)<=COUNTIF(joueurs,$B49),INDEX(points,SMALL(IF(joueurs=$B49,ROW(INDIRECT(\"1:\"&ROWS(points)))),ROWS($1:$9))),\"\")","v":""},{"$f":"IF(ROWS($1:$10)<=COUNTIF(joueurs,$B49),INDEX(points,SMALL(IF(joueurs=$B49,ROW(INDIRECT(\"1:\"&ROWS(points)))),ROWS($1:$10))),\"\")","v":""},{"$f":"IF(ROWS($1:$1)<=COUNTIF(joueurs,$B49),INDEX(victoires,SMALL(IF(joueurs=$B49,ROW(INDIRECT(\"1:\"&ROWS(victoires)))),ROWS($1:$1))),\"\")","v":""},{"$f":"IF(ROWS($1:$2)<=COUNTIF(joueurs,$B49),INDEX(victoires,SMALL(IF(joueurs=$B49,ROW(INDIRECT(\"1:\"&ROWS(victoires)))),ROWS($1:$2))),\"\")","v":""},{"$f":"IF(ROWS($1:$3)<=COUNTIF(joueurs,$B49),INDEX(victoires,SMALL(IF(joueurs=$B49,ROW(INDIRECT(\"1:\"&ROWS(victoires)))),ROWS($1:$3))),\"\")","v":""},{"$f":"IF(ROWS($1:$4)<=COUNTIF(joueurs,$B49),INDEX(victoires,SMALL(IF(joueurs=$B49,ROW(INDIRECT(\"1:\"&ROWS(victoires)))),ROWS($1:$4))),\"\")","v":""},{"$f":"IF(ROWS($1:$5)<=COUNTIF(joueurs,$B49),INDEX(victoires,SMALL(IF(joueurs=$B49,ROW(INDIRECT(\"1:\"&ROWS(victoires)))),ROWS($1:$5))),\"\")","v":""},{"$f":"IF(ROWS($1:$6)<=COUNTIF(joueurs,$B49),INDEX(victoires,SMALL(IF(joueurs=$B49,ROW(INDIRECT(\"1:\"&ROWS(victoires)))),ROWS($1:$6))),\"\")","v":""},{"$f":"IF(ROWS($1:$7)<=COUNTIF(joueurs,$B49),INDEX(victoires,SMALL(IF(joueurs=$B49,ROW(INDIRECT(\"1:\"&ROWS(victoires)))),ROWS($1:$7))),\"\")","v":""},{"$f":"IF(ROWS($1:$8)<=COUNTIF(joueurs,$B49),INDEX(victoires,SMALL(IF(joueurs=$B49,ROW(INDIRECT(\"1:\"&ROWS(victoires)))),ROWS($1:$8))),\"\")","v":""},{"$f":"IF(ROWS($1:$9)<=COUNTIF(joueurs,$B49),INDEX(victoires,SMALL(IF(joueurs=$B49,ROW(INDIRECT(\"1:\"&ROWS(victoires)))),ROWS($1:$9))),\"\")","v":""},{"$f":"IF(ROWS($1:$10)<=COUNTIF(joueurs,$B49),INDEX(victoires,SMALL(IF(joueurs=$B49,ROW(INDIRECT(\"1:\"&ROWS(victoires)))),ROWS($1:$10))),\"\")","v":""}]
[null,null,null,{"$f":"IF(ROWS($1:$11)<=COUNTIF(joueurs,$B49),INDEX(fautes,SMALL(IF(joueurs=$B49,ROW(INDIRECT(\"1:\"&ROWS(fautes)))),ROWS($1:$11))),\"\")","v":""},{"$f":"IF(ROWS($1:$12)<=COUNTIF(joueurs,$B49),INDEX(fautes,SMALL(IF(joueurs=$B49,ROW(INDIRECT(\"1:\"&ROWS(fautes)))),ROWS($1:$12))),\"\")","v":""},{"$f":"IF(ROWS($1:$13)<=COUNTIF(joueurs,$B49),INDEX(fautes,SMALL(IF(joueurs=$B49,ROW(INDIRECT(\"1:\"&ROWS(fautes)))),ROWS($1:$13))),\"\")","v":""},{"$f":"IF(ROWS($1:$14)<=COUNTIF(joueurs,$B49),INDEX(fautes,SMALL(IF(joueurs=$B49,ROW(INDIRECT(\"1:\"&ROWS(fautes)))),ROWS($1:$14))),\"\")","v":""},{"$f":"IF(ROWS($1:$15)<=COUNTIF(joueurs,$B49),INDEX(fautes,SMALL(IF(joueurs=$B49,ROW(INDIRECT(\"1:\"&ROWS(fautes)))),ROWS($1:$15))),\"\")","v":""},{"$f":"IF(ROWS($1:$16)<=COUNTIF(joueurs,$B49),INDEX(fautes,SMALL(IF(joueurs=$B49,ROW(INDIRECT(\"1:\"&ROWS(fautes)))),ROWS($1:$16))),\"\")","v":""},{"$f":"IF(ROWS($1:$17)<=COUNTIF(joueurs,$B49),INDEX(fautes,SMALL(IF(joueurs=$B49,ROW(INDIRECT(\"1:\"&ROWS(fautes)))),ROWS($1:$17))),\"\")","v":""},{"$f":"IF(ROWS($1:$18)<=COUNTIF(joueurs,$B49),INDEX(fautes,SMALL(IF(joueurs=$B49,ROW(INDIRECT(\"1:\"&ROWS(fautes)))),ROWS($1:$18))),\"\")","v":""},{"$f":"IF(ROWS($1:$19)<=COUNTIF(joueurs,$B49),INDEX(fautes,SMALL(IF(joueurs=$B49,ROW(INDIRECT(\"1:\"&ROWS(fautes)))),ROWS($1:$19))),\"\")","v":""},{"$f":"IF(ROWS($1:$20)<=COUNTIF(joueurs,$B49),INDEX(fautes,SMALL(IF(joueurs=$B49,ROW(INDIRECT(\"1:\"&ROWS(fautes)))),ROWS($1:$20))),\"\")","v":""},{"$f":"IF(ROWS($1:$11)<=COUNTIF(joueurs,$B49),INDEX(ballonperdus,SMALL(IF(joueurs=$B49,ROW(INDIRECT(\"1:\"&ROWS(ballonperdus)))),ROWS($1:$11))),\"\")","v":""},{"$f":"IF(ROWS($1:$12)<=COUNTIF(joueurs,$B49),INDEX(ballonperdus,SMALL(IF(joueurs=$B49,ROW(INDIRECT(\"1:\"&ROWS(ballonperdus)))),ROWS($1:$12))),\"\")","v":""},{"$f":"IF(ROWS($1:$13)<=COUNTIF(joueurs,$B49),INDEX(ballonperdus,SMALL(IF(joueurs=$B49,ROW(INDIRECT(\"1:\"&ROWS(ballonperdus)))),ROWS($1:$13))),\"\")","v":""},{"$f":"IF(ROWS($1:$14)<=COUNTIF(joueurs,$B49),INDEX(ballonperdus,SMALL(IF(joueurs=$B49,ROW(INDIRECT(\"1:\"&ROWS(ballonperdus)))),ROWS($1:$14))),\"\")","v":""},{"$f":"IF(ROWS($1:$15)<=COUNTIF(joueurs,$B49),INDEX(ballonperdus,SMALL(IF(joueurs=$B49,ROW(INDIRECT(\"1:\"&ROWS(ballonperdus)))),ROWS($1:$15))),\"\")","v":""},{"$f":"IF(ROWS($1:$16)<=COUNTIF(joueurs,$B49),INDEX(ballonperdus,SMALL(IF(joueurs=$B49,ROW(INDIRECT(\"1:\"&ROWS(ballonperdus)))),ROWS($1:$16))),\"\")","v":""},{"$f":"IF(ROWS($1:$17)<=COUNTIF(joueurs,$B49),INDEX(ballonperdus,SMALL(IF(joueurs=$B49,ROW(INDIRECT(\"1:\"&ROWS(ballonperdus)))),ROWS($1:$17))),\"\")","v":""},{"$f":"IF(ROWS($1:$18)<=COUNTIF(joueurs,$B49),INDEX(ballonperdus,SMALL(IF(joueurs=$B49,ROW(INDIRECT(\"1:\"&ROWS(ballonperdus)))),ROWS($1:$18))),\"\")","v":""},{"$f":"IF(ROWS($1:$19)<=COUNTIF(joueurs,$B49),INDEX(ballonperdus,SMALL(IF(joueurs=$B49,ROW(INDIRECT(\"1:\"&ROWS(ballonperdus)))),ROWS($1:$19))),\"\")","v":""},{"$f":"IF(ROWS($1:$20)<=COUNTIF(joueurs,$B49),INDEX(fautes,SMALL(IF(joueurs=$B49,ROW(INDIRECT(\"1:\"&ROWS(ballonperdus)))),ROWS($1:$20))),\"\")","v":""},{"$f":"IF(ROWS($1:$11)<=COUNTIF(joueurs,$B49),INDEX(interceptions,SMALL(IF(joueurs=$B49,ROW(INDIRECT(\"1:\"&ROWS(interceptions)))),ROWS($1:$11))),\"\")","v":""},{"$f":"IF(ROWS($1:$12)<=COUNTIF(joueurs,$B49),INDEX(interceptions,SMALL(IF(joueurs=$B49,ROW(INDIRECT(\"1:\"&ROWS(interceptions)))),ROWS($1:$12))),\"\")","v":""},{"$f":"IF(ROWS($1:$13)<=COUNTIF(joueurs,$B49),INDEX(interceptions,SMALL(IF(joueurs=$B49,ROW(INDIRECT(\"1:\"&ROWS(interceptions)))),ROWS($1:$13))),\"\")","v":""},{"$f":"IF(ROWS($1:$14)<=COUNTIF(joueurs,$B49),INDEX(interceptions,SMALL(IF(joueurs=$B49,ROW(INDIRECT(\"1:\"&ROWS(interceptions)))),ROWS($1:$14))),\"\")","v":""},{"$f":"IF(ROWS($1:$15)<=COUNTIF(joueurs,$B49),INDEX(interceptions,SMALL(IF(joueurs=$B49,ROW(INDIRECT(\"1:\"&ROWS(interceptions)))),ROWS($1:$15))),\"\")","v":""},{"$f":"IF(ROWS($1:$16)<=COUNTIF(joueurs,$B49),INDEX(interceptions,SMALL(IF(joueurs=$B49,ROW(INDIRECT(\"1:\"&ROWS(interceptions)))),ROWS($1:$16))),\"\")","v":""},{"$f":"IF(ROWS($1:$17)<=COUNTIF(joueurs,$B49),INDEX(interceptions,SMALL(IF(joueurs=$B49,ROW(INDIRECT(\"1:\"&ROWS(interceptions)))),ROWS($1:$17))),\"\")","v":""},{"$f":"IF(ROWS($1:$18)<=COUNTIF(joueurs,$B49),INDEX(interceptions,SMALL(IF(joueurs=$B49,ROW(INDIRECT(\"1:\"&ROWS(interceptions)))),ROWS($1:$18))),\"\")","v":""},{"$f":"IF(ROWS($1:$19)<=COUNTIF(joueurs,$B49),INDEX(interceptions,SMALL(IF(joueurs=$B49,ROW(INDIRECT(\"1:\"&ROWS(interceptions)))),ROWS($1:$19))),\"\")","v":""},{"$f":"IF(ROWS($1:$20)<=COUNTIF(joueurs,$B49),INDEX(interceptions,SMALL(IF(joueurs=$B49,ROW(INDIRECT(\"1:\"&ROWS(interceptions)))),ROWS($1:$20))),\"\")","v":""},{"$f":"IF(ROWS($1:$11)<=COUNTIF(joueurs,$B49),INDEX(ballonrecuperes,SMALL(IF(joueurs=$B49,ROW(INDIRECT(\"1:\"&ROWS(ballonrecuperes)))),ROWS($1:$11))),\"\")","v":""},{"$f":"IF(ROWS($1:$12)<=COUNTIF(joueurs,$B49),INDEX(ballonrecuperes,SMALL(IF(joueurs=$B49,ROW(INDIRECT(\"1:\"&ROWS(ballonrecuperes)))),ROWS($1:$12))),\"\")","v":""},{"$f":"IF(ROWS($1:$13)<=COUNTIF(joueurs,$B49),INDEX(ballonrecuperes,SMALL(IF(joueurs=$B49,ROW(INDIRECT(\"1:\"&ROWS(ballonrecuperes)))),ROWS($1:$13))),\"\")","v":""},{"$f":"IF(ROWS($1:$14)<=COUNTIF(joueurs,$B49),INDEX(ballonrecuperes,SMALL(IF(joueurs=$B49,ROW(INDIRECT(\"1:\"&ROWS(ballonrecuperes)))),ROWS($1:$14))),\"\")","v":""},{"$f":"IF(ROWS($1:$15)<=COUNTIF(joueurs,$B49),INDEX(ballonrecuperes,SMALL(IF(joueurs=$B49,ROW(INDIRECT(\"1:\"&ROWS(ballonrecuperes)))),ROWS($1:$15))),\"\")","v":""},{"$f":"IF(ROWS($1:$16)<=COUNTIF(joueurs,$B49),INDEX(ballonrecuperes,SMALL(IF(joueurs=$B49,ROW(INDIRECT(\"1:\"&ROWS(ballonrecuperes)))),ROWS($1:$16))),\"\")","v":""},{"$f":"IF(ROWS($1:$17)<=COUNTIF(joueurs,$B49),INDEX(ballonrecuperes,SMALL(IF(joueurs=$B49,ROW(INDIRECT(\"1:\"&ROWS(ballonrecuperes)))),ROWS($1:$17))),\"\")","v":""},{"$f":"IF(ROWS($1:$18)<=COUNTIF(joueurs,$B49),INDEX(ballonrecuperes,SMALL(IF(joueurs=$B49,ROW(INDIRECT(\"1:\"&ROWS(ballonrecuperes)))),ROWS($1:$18))),\"\")","v":""},{"$f":"IF(ROWS($1:$19)<=COUNTIF(joueurs,$B49),INDEX(ballonrecuperes,SMALL(IF(joueurs=$B49,ROW(INDIRECT(\"1:\"&ROWS(ballonrecuperes)))),ROWS($1:$19))),\"\")","v":""},{"$f":"IF(ROWS($1:$20)<=COUNTIF(joueurs,$B49),INDEX(ballonrecuperes,SMALL(IF(joueurs=$B49,ROW(INDIRECT(\"1:\"&ROWS(ballonrecuperes)))),ROWS($1:$20))),\"\")","v":""},{"$f":"IF(ROWS($1:$11)<=COUNTIF(joueurs,$B49),INDEX(tirs,SMALL(IF(joueurs=$B49,ROW(INDIRECT(\"1:\"&ROWS(tirs)))),ROWS($1:$11))),\"\")","v":""},{"$f":"IF(ROWS($1:$12)<=COUNTIF(joueurs,$B49),INDEX(tirs,SMALL(IF(joueurs=$B49,ROW(INDIRECT(\"1:\"&ROWS(tirs)))),ROWS($1:$12))),\"\")","v":""},{"$f":"IF(ROWS($1:$13)<=COUNTIF(joueurs,$B49),INDEX(tirs,SMALL(IF(joueurs=$B49,ROW(INDIRECT(\"1:\"&ROWS(tirs)))),ROWS($1:$13))),\"\")","v":""},{"$f":"IF(ROWS($1:$14)<=COUNTIF(joueurs,$B49),INDEX(tirs,SMALL(IF(joueurs=$B49,ROW(INDIRECT(\"1:\"&ROWS(tirs)))),ROWS($1:$14))),\"\")","v":""},{"$f":"IF(ROWS($1:$15)<=COUNTIF(joueurs,$B49),INDEX(tirs,SMALL(IF(joueurs=$B49,ROW(INDIRECT(\"1:\"&ROWS(tirs)))),ROWS($1:$15))),\"\")","v":""},{"$f":"IF(ROWS($1:$16)<=COUNTIF(joueurs,$B49),INDEX(tirs,SMALL(IF(joueurs=$B49,ROW(INDIRECT(\"1:\"&ROWS(tirs)))),ROWS($1:$16))),\"\")","v":""},{"$f":"IF(ROWS($1:$17)<=COUNTIF(joueurs,$B49),INDEX(tirs,SMALL(IF(joueurs=$B49,ROW(INDIRECT(\"1:\"&ROWS(tirs)))),ROWS($1:$17))),\"\")","v":""},{"$f":"IF(ROWS($1:$18)<=COUNTIF(joueurs,$B49),INDEX(tirs,SMALL(IF(joueurs=$B49,ROW(INDIRECT(\"1:\"&ROWS(tirs)))),ROWS($1:$18))),\"\")","v":""},{"$f":"IF(ROWS($1:$19)<=COUNTIF(joueurs,$B49),INDEX(tirs,SMALL(IF(joueurs=$B49,ROW(INDIRECT(\"1:\"&ROWS(tirs)))),ROWS($1:$19))),\"\")","v":""},{"$f":"IF(ROWS($1:$20)<=COUNTIF(joueurs,$B49),INDEX(tirs,SMALL(IF(joueurs=$B49,ROW(INDIRECT(\"1:\"&ROWS(tirs)))),ROWS($1:$20))),\"\")","v":""},{"$f":"IF(ROWS($1:$11)<=COUNTIF(joueurs,$B49),INDEX(bontirs,SMALL(IF(joueurs=$B49,ROW(INDIRECT(\"1:\"&ROWS(bontirs)))),ROWS($1:$11))),\"\")","v":""},{"$f":"IF(ROWS($1:$12)<=COUNTIF(joueurs,$B49),INDEX(bontirs,SMALL(IF(joueurs=$B49,ROW(INDIRECT(\"1:\"&ROWS(bontirs)))),ROWS($1:$12))),\"\")","v":""},{"$f":"IF(ROWS($1:$13)<=COUNTIF(joueurs,$B49),INDEX(bontirs,SMALL(IF(joueurs=$B49,ROW(INDIRECT(\"1:\"&ROWS(bontirs)))),ROWS($1:$13))),\"\")","v":""},{"$f":"IF(ROWS($1:$14)<=COUNTIF(joueurs,$B49),INDEX(bontirs,SMALL(IF(joueurs=$B49,ROW(INDIRECT(\"1:\"&ROWS(bontirs)))),ROWS($1:$14))),\"\")","v":""},{"$f":"IF(ROWS($1:$15)<=COUNTIF(joueurs,$B49),INDEX(bontirs,SMALL(IF(joueurs=$B49,ROW(INDIRECT(\"1:\"&ROWS(bontirs)))),ROWS($1:$15))),\"\")","v":""},{"$f":"IF(ROWS($1:$16)<=COUNTIF(joueurs,$B49),INDEX(bontirs,SMALL(IF(joueurs=$B49,ROW(INDIRECT(\"1:\"&ROWS(bontirs)))),ROWS($1:$16))),\"\")","v":""},{"$f":"IF(ROWS($1:$17)<=COUNTIF(joueurs,$B49),INDEX(bontirs,SMALL(IF(joueurs=$B49,ROW(INDIRECT(\"1:\"&ROWS(bontirs)))),ROWS($1:$17))),\"\")","v":""},{"$f":"IF(ROWS($1:$18)<=COUNTIF(joueurs,$B49),INDEX(bontirs,SMALL(IF(joueurs=$B49,ROW(INDIRECT(\"1:\"&ROWS(bontirs)))),ROWS($1:$18))),\"\")","v":""},{"$f":"IF(ROWS($1:$19)<=COUNTIF(joueurs,$B49),INDEX(bontirs,SMALL(IF(joueurs=$B49,ROW(INDIRECT(\"1:\"&ROWS(bontirs)))),ROWS($1:$19))),\"\")","v":""},{"$f":"IF(ROWS($1:$20)<=COUNTIF(joueurs,$B49),INDEX(bontirs,SMALL(IF(joueurs=$B49,ROW(INDIRECT(\"1:\"&ROWS(bontirs)))),ROWS($1:$20))),\"\")","v":""},{"$f":"IF(ROWS($1:$11)<=COUNTIF(joueurs,$B49),INDEX(points,SMALL(IF(joueurs=$B49,ROW(INDIRECT(\"1:\"&ROWS(points)))),ROWS($1:$11))),\"\")","v":""},{"$f":"IF(ROWS($1:$12)<=COUNTIF(joueurs,$B49),INDEX(points,SMALL(IF(joueurs=$B49,ROW(INDIRECT(\"1:\"&ROWS(points)))),ROWS($1:$12))),\"\")","v":""},{"$f":"IF(ROWS($1:$13)<=COUNTIF(joueurs,$B49),INDEX(points,SMALL(IF(joueurs=$B49,ROW(INDIRECT(\"1:\"&ROWS(points)))),ROWS($1:$13))),\"\")","v":""},{"$f":"IF(ROWS($1:$14)<=COUNTIF(joueurs,$B49),INDEX(points,SMALL(IF(joueurs=$B49,ROW(INDIRECT(\"1:\"&ROWS(points)))),ROWS($1:$14))),\"\")","v":""},{"$f":"IF(ROWS($1:$15)<=COUNTIF(joueurs,$B49),INDEX(points,SMALL(IF(joueurs=$B49,ROW(INDIRECT(\"1:\"&ROWS(points)))),ROWS($1:$15))),\"\")","v":""},{"$f":"IF(ROWS($1:$16)<=COUNTIF(joueurs,$B49),INDEX(points,SMALL(IF(joueurs=$B49,ROW(INDIRECT(\"1:\"&ROWS(points)))),ROWS($1:$16))),\"\")","v":""},{"$f":"IF(ROWS($1:$17)<=COUNTIF(joueurs,$B49),INDEX(points,SMALL(IF(joueurs=$B49,ROW(INDIRECT(\"1:\"&ROWS(points)))),ROWS($1:$17))),\"\")","v":""},{"$f":"IF(ROWS($1:$18)<=COUNTIF(joueurs,$B49),INDEX(points,SMALL(IF(joueurs=$B49,ROW(INDIRECT(\"1:\"&ROWS(points)))),ROWS($1:$18))),\"\")","v":""},{"$f":"IF(ROWS($1:$19)<=COUNTIF(joueurs,$B49),INDEX(points,SMALL(IF(joueurs=$B49,ROW(INDIRECT(\"1:\"&ROWS(points)))),ROWS($1:$19))),\"\")","v":""},{"$f":"IF(ROWS($1:$20)<=COUNTIF(points,$B49),INDEX(fautes,SMALL(IF(joueurs=$B49,ROW(INDIRECT(\"1:\"&ROWS(points)))),ROWS($1:$20))),\"\")","v":""},{"$f":"IF(ROWS($1:$11)<=COUNTIF(joueurs,$B49),INDEX(victoires,SMALL(IF(joueurs=$B49,ROW(INDIRECT(\"1:\"&ROWS(victoires)))),ROWS($1:$11))),\"\")","v":""},{"$f":"IF(ROWS($1:$12)<=COUNTIF(joueurs,$B49),INDEX(victoires,SMALL(IF(joueurs=$B49,ROW(INDIRECT(\"1:\"&ROWS(victoires)))),ROWS($1:$12))),\"\")","v":""},{"$f":"IF(ROWS($1:$13)<=COUNTIF(joueurs,$B49),INDEX(victoires,SMALL(IF(joueurs=$B49,ROW(INDIRECT(\"1:\"&ROWS(victoires)))),ROWS($1:$13))),\"\")","v":""},{"$f":"IF(ROWS($1:$14)<=COUNTIF(joueurs,$B49),INDEX(victoires,SMALL(IF(joueurs=$B49,ROW(INDIRECT(\"1:\"&ROWS(victoires)))),ROWS($1:$14))),\"\")","v":""},{"$f":"IF(ROWS($1:$15)<=COUNTIF(joueurs,$B49),INDEX(victoires,SMALL(IF(joueurs=$B49,ROW(INDIRECT(\"1:\"&ROWS(victoires)))),ROWS($1:$15))),\"\")","v":""},{"$f":"IF(ROWS($1:$16)<=COUNTIF(joueurs,$B49),INDEX(victoires,SMALL(IF(joueurs=$B49,ROW(INDIRECT(\"1:\"&ROWS(victoires)))),ROWS($1:$16))),\"\")","v":""},{"$f":"IF(ROWS($1:$17)<=COUNTIF(joueurs,$B49),INDEX(victoires,SMALL(IF(joueurs=$B49,ROW(INDIRECT(\"1:\"&ROWS(victoires)))),ROWS($1:$17))),\"\")","v":""},{"$f":"IF(ROWS($1:$18)<=COUNTIF(joueurs,$B49),INDEX(victoires,SMALL(IF(joueurs=$B49,ROW(INDIRECT(\"1:\"&ROWS(victoires)))),ROWS($1:$18))),\"\")","v":""},{"$f":"IF(ROWS($1:$19)<=COUNTIF(joueurs,$B49),INDEX(victoires,SMALL(IF(joueurs=$B49,ROW(INDIRECT(\"1:\"&ROWS(victoires)))),ROWS($1:$19))),\"\")","v":""},{"$f":"IF(ROWS($1:$20)<=COUNTIF(joueurs,$B49),INDEX(victoires,SMALL(IF(joueurs=$B49,ROW(INDIRECT(\"1:\"&ROWS(victoires)))),ROWS($1:$20))),\"\")","v":""}]
[null,null,null,{"$f":"IF(ROWS($1:$21)<=COUNTIF(joueurs,$B49),INDEX(fautes,SMALL(IF(joueurs=$B49,ROW(INDIRECT(\"1:\"&ROWS(fautes)))),ROWS($1:$21))),\"\")","v":""},{"$f":"IF(ROWS($1:$22)<=COUNTIF(joueurs,$B49),INDEX(fautes,SMALL(IF(joueurs=$B49,ROW(INDIRECT(\"1:\"&ROWS(fautes)))),ROWS($1:$22))),\"\")","v":""},{"$f":"IF(ROWS($1:$23)<=COUNTIF(joueurs,$B49),INDEX(fautes,SMALL(IF(joueurs=$B49,ROW(INDIRECT(\"1:\"&ROWS(fautes)))),ROWS($1:$23))),\"\")","v":""},{"$f":"IF(ROWS($1:$24)<=COUNTIF(joueurs,$B49),INDEX(fautes,SMALL(IF(joueurs=$B49,ROW(INDIRECT(\"1:\"&ROWS(fautes)))),ROWS($1:$24))),\"\")","v":""},{"$f":"IF(ROWS($1:$25)<=COUNTIF(joueurs,$B49),INDEX(fautes,SMALL(IF(joueurs=$B49,ROW(INDIRECT(\"1:\"&ROWS(fautes)))),ROWS($1:$25))),\"\")","v":""},{"$f":"IF(ROWS($1:$26)<=COUNTIF(joueurs,$B49),INDEX(fautes,SMALL(IF(joueurs=$B49,ROW(INDIRECT(\"1:\"&ROWS(fautes)))),ROWS($1:$26))),\"\")","v":""},{"$f":"IF(ROWS($1:$27)<=COUNTIF(joueurs,$B49),INDEX(fautes,SMALL(IF(joueurs=$B49,ROW(INDIRECT(\"1:\"&ROWS(fautes)))),ROWS($1:$27))),\"\")","v":""},{"$f":"IF(ROWS($1:$28)<=COUNTIF(joueurs,$B49),INDEX(fautes,SMALL(IF(joueurs=$B49,ROW(INDIRECT(\"1:\"&ROWS(fautes)))),ROWS($1:$28))),\"\")","v":""},{"$f":"IF(ROWS($1:$29)<=COUNTIF(joueurs,$B49),INDEX(fautes,SMALL(IF(joueurs=$B49,ROW(INDIRECT(\"1:\"&ROWS(fautes)))),ROWS($1:$29))),\"\")","v":""},{"$f":"IF(ROWS($1:$30)<=COUNTIF(joueurs,$B49),INDEX(fautes,SMALL(IF(joueurs=$B49,ROW(INDIRECT(\"1:\"&ROWS(fautes)))),ROWS($1:$30))),\"\")","v":""},{"$f":"IF(ROWS($1:$21)<=COUNTIF(joueurs,$B49),INDEX(ballonperdus,SMALL(IF(joueurs=$B49,ROW(INDIRECT(\"1:\"&ROWS(ballonperdus)))),ROWS($1:$21))),\"\")","v":""},{"$f":"IF(ROWS($1:$22)<=COUNTIF(joueurs,$B49),INDEX(ballonperdus,SMALL(IF(joueurs=$B49,ROW(INDIRECT(\"1:\"&ROWS(ballonperdus)))),ROWS($1:$22))),\"\")","v":""},{"$f":"IF(ROWS($1:$23)<=COUNTIF(joueurs,$B49),INDEX(ballonperdus,SMALL(IF(joueurs=$B49,ROW(INDIRECT(\"1:\"&ROWS(ballonperdus)))),ROWS($1:$23))),\"\")","v":""},{"$f":"IF(ROWS($1:$24)<=COUNTIF(joueurs,$B49),INDEX(ballonperdus,SMALL(IF(joueurs=$B49,ROW(INDIRECT(\"1:\"&ROWS(ballonperdus)))),ROWS($1:$24))),\"\")","v":""},{"$f":"IF(ROWS($1:$25)<=COUNTIF(joueurs,$B49),INDEX(ballonperdus,SMALL(IF(joueurs=$B49,ROW(INDIRECT(\"1:\"&ROWS(ballonperdus)))),ROWS($1:$25))),\"\")","v":""},{"$f":"IF(ROWS($1:$26)<=COUNTIF(joueurs,$B49),INDEX(ballonperdus,SMALL(IF(joueurs=$B49,ROW(INDIRECT(\"1:\"&ROWS(ballonperdus)))),ROWS($1:$26))),\"\")","v":""},{"$f":"IF(ROWS($1:$27)<=COUNTIF(joueurs,$B49),INDEX(ballonperdus,SMALL(IF(joueurs=$B49,ROW(INDIRECT(\"1:\"&ROWS(ballonperdus)))),ROWS($1:$27))),\"\")","v":""},{"$f":"IF(ROWS($1:$28)<=COUNTIF(joueurs,$B49),INDEX(ballonperdus,SMALL(IF(joueurs=$B49,ROW(INDIRECT(\"1:\"&ROWS(ballonperdus)))),ROWS($1:$28))),\"\")","v":""},{"$f":"IF(ROWS($1:$29)<=COUNTIF(joueurs,$B49),INDEX(ballonperdus,SMALL(IF(joueurs=$B49,ROW(INDIRECT(\"1:\"&ROWS(ballonperdus)))),ROWS($1:$29))),\"\")","v":""},{"$f":"IF(ROWS($1:$30)<=COUNTIF(joueurs,$B49),INDEX(ballonperdus,SMALL(IF(joueurs=$B49,ROW(INDIRECT(\"1:\"&ROWS(ballonperdus)))),ROWS($1:$30))),\"\")","v":""},{"$f":"IF(ROWS($1:$21)<=COUNTIF(joueurs,$B49),INDEX(interceptions,SMALL(IF(joueurs=$B49,ROW(INDIRECT(\"1:\"&ROWS(interceptions)))),ROWS($1:$21))),\"\")","v":""},{"$f":"IF(ROWS($1:$22)<=COUNTIF(joueurs,$B49),INDEX(interceptions,SMALL(IF(joueurs=$B49,ROW(INDIRECT(\"1:\"&ROWS(interceptions)))),ROWS($1:$22))),\"\")","v":""},{"$f":"IF(ROWS($1:$23)<=COUNTIF(joueurs,$B49),INDEX(interceptions,SMALL(IF(joueurs=$B49,ROW(INDIRECT(\"1:\"&ROWS(interceptions)))),ROWS($1:$23))),\"\")","v":""},{"$f":"IF(ROWS($1:$24)<=COUNTIF(joueurs,$B49),INDEX(interceptions,SMALL(IF(joueurs=$B49,ROW(INDIRECT(\"1:\"&ROWS(interceptions)))),ROWS($1:$24))),\"\")","v":""},{"$f":"IF(ROWS($1:$25)<=COUNTIF(joueurs,$B49),INDEX(interceptions,SMALL(IF(joueurs=$B49,ROW(INDIRECT(\"1:\"&ROWS(interceptions)))),ROWS($1:$25))),\"\")","v":""},{"$f":"IF(ROWS($1:$26)<=COUNTIF(joueurs,$B49),INDEX(interceptions,SMALL(IF(joueurs=$B49,ROW(INDIRECT(\"1:\"&ROWS(interceptions)))),ROWS($1:$26))),\"\")","v":""},{"$f":"IF(ROWS($1:$27)<=COUNTIF(joueurs,$B49),INDEX(interceptions,SMALL(IF(joueurs=$B49,ROW(INDIRECT(\"1:\"&ROWS(interceptions)))),ROWS($1:$27))),\"\")","v":""},{"$f":"IF(ROWS($1:$28)<=COUNTIF(joueurs,$B49),INDEX(interceptions,SMALL(IF(joueurs=$B49,ROW(INDIRECT(\"1:\"&ROWS(interceptions)))),ROWS($1:$28))),\"\")","v":""},{"$f":"IF(ROWS($1:$29)<=COUNTIF(joueurs,$B49),INDEX(interceptions,SMALL(IF(joueurs=$B49,ROW(INDIRECT(\"1:\"&ROWS(interceptions)))),ROWS($1:$29))),\"\")","v":""},{"$f":"IF(ROWS($1:$30)<=COUNTIF(joueurs,$B49),INDEX(interceptions,SMALL(IF(joueurs=$B49,ROW(INDIRECT(\"1:\"&ROWS(interceptions)))),ROWS($1:$30))),\"\")","v":""},{"$f":"IF(ROWS($1:$21)<=COUNTIF(joueurs,$B49),INDEX(ballonrecuperes,SMALL(IF(joueurs=$B49,ROW(INDIRECT(\"1:\"&ROWS(ballonrecuperes)))),ROWS($1:$21))),\"\")","v":""},{"$f":"IF(ROWS($1:$22)<=COUNTIF(joueurs,$B49),INDEX(ballonrecuperes,SMALL(IF(joueurs=$B49,ROW(INDIRECT(\"1:\"&ROWS(ballonrecuperes)))),ROWS($1:$22))),\"\")","v":""},{"$f":"IF(ROWS($1:$23)<=COUNTIF(joueurs,$B49),INDEX(ballonrecuperes,SMALL(IF(joueurs=$B49,ROW(INDIRECT(\"1:\"&ROWS(ballonrecuperes)))),ROWS($1:$23))),\"\")","v":""},{"$f":"IF(ROWS($1:$24)<=COUNTIF(joueurs,$B49),INDEX(ballonrecuperes,SMALL(IF(joueurs=$B49,ROW(INDIRECT(\"1:\"&ROWS(ballonrecuperes)))),ROWS($1:$24))),\"\")","v":""},{"$f":"IF(ROWS($1:$25)<=COUNTIF(joueurs,$B49),INDEX(ballonrecuperes,SMALL(IF(joueurs=$B49,ROW(INDIRECT(\"1:\"&ROWS(ballonrecuperes)))),ROWS($1:$25))),\"\")","v":""},{"$f":"IF(ROWS($1:$26)<=COUNTIF(joueurs,$B49),INDEX(ballonrecuperes,SMALL(IF(joueurs=$B49,ROW(INDIRECT(\"1:\"&ROWS(ballonrecuperes)))),ROWS($1:$26))),\"\")","v":""},{"$f":"IF(ROWS($1:$27)<=COUNTIF(joueurs,$B49),INDEX(ballonrecuperes,SMALL(IF(joueurs=$B49,ROW(INDIRECT(\"1:\"&ROWS(ballonrecuperes)))),ROWS($1:$27))),\"\")","v":""},{"$f":"IF(ROWS($1:$28)<=COUNTIF(joueurs,$B49),INDEX(ballonrecuperes,SMALL(IF(joueurs=$B49,ROW(INDIRECT(\"1:\"&ROWS(ballonrecuperes)))),ROWS($1:$28))),\"\")","v":""},{"$f":"IF(ROWS($1:$29)<=COUNTIF(joueurs,$B49),INDEX(ballonrecuperes,SMALL(IF(joueurs=$B49,ROW(INDIRECT(\"1:\"&ROWS(ballonrecuperes)))),ROWS($1:$29))),\"\")","v":""},{"$f":"IF(ROWS($1:$30)<=COUNTIF(joueurs,$B49),INDEX(ballonrecuperes,SMALL(IF(joueurs=$B49,ROW(INDIRECT(\"1:\"&ROWS(ballonrecuperes)))),ROWS($1:$30))),\"\")","v":""},{"$f":"IF(ROWS($1:$21)<=COUNTIF(joueurs,$B49),INDEX(tirs,SMALL(IF(joueurs=$B49,ROW(INDIRECT(\"1:\"&ROWS(tirs)))),ROWS($1:$21))),\"\")","v":""},{"$f":"IF(ROWS($1:$22)<=COUNTIF(joueurs,$B49),INDEX(tirs,SMALL(IF(joueurs=$B49,ROW(INDIRECT(\"1:\"&ROWS(tirs)))),ROWS($1:$22))),\"\")","v":""},{"$f":"IF(ROWS($1:$23)<=COUNTIF(joueurs,$B49),INDEX(tirs,SMALL(IF(joueurs=$B49,ROW(INDIRECT(\"1:\"&ROWS(tirs)))),ROWS($1:$23))),\"\")","v":""},{"$f":"IF(ROWS($1:$24)<=COUNTIF(joueurs,$B49),INDEX(tirs,SMALL(IF(joueurs=$B49,ROW(INDIRECT(\"1:\"&ROWS(tirs)))),ROWS($1:$24))),\"\")","v":""},{"$f":"IF(ROWS($1:$25)<=COUNTIF(joueurs,$B49),INDEX(tirs,SMALL(IF(joueurs=$B49,ROW(INDIRECT(\"1:\"&ROWS(tirs)))),ROWS($1:$25))),\"\")","v":""},{"$f":"IF(ROWS($1:$26)<=COUNTIF(joueurs,$B49),INDEX(tirs,SMALL(IF(joueurs=$B49,ROW(INDIRECT(\"1:\"&ROWS(tirs)))),ROWS($1:$26))),\"\")","v":""},{"$f":"IF(ROWS($1:$27)<=COUNTIF(joueurs,$B49),INDEX(tirs,SMALL(IF(joueurs=$B49,ROW(INDIRECT(\"1:\"&ROWS(tirs)))),ROWS($1:$27))),\"\")","v":""},{"$f":"IF(ROWS($1:$28)<=COUNTIF(joueurs,$B49),INDEX(tirs,SMALL(IF(joueurs=$B49,ROW(INDIRECT(\"1:\"&ROWS(tirs)))),ROWS($1:$28))),\"\")","v":""},{"$f":"IF(ROWS($1:$29)<=COUNTIF(joueurs,$B49),INDEX(tirs,SMALL(IF(joueurs=$B49,ROW(INDIRECT(\"1:\"&ROWS(tirs)))),ROWS($1:$29))),\"\")","v":""},{"$f":"IF(ROWS($1:$30)<=COUNTIF(joueurs,$B49),INDEX(tirs,SMALL(IF(joueurs=$B49,ROW(INDIRECT(\"1:\"&ROWS(tirs)))),ROWS($1:$30))),\"\")","v":""},{"$f":"IF(ROWS($1:$21)<=COUNTIF(joueurs,$B49),INDEX(bontirs,SMALL(IF(joueurs=$B49,ROW(INDIRECT(\"1:\"&ROWS(bontirs)))),ROWS($1:$21))),\"\")","v":""},{"$f":"IF(ROWS($1:$22)<=COUNTIF(joueurs,$B49),INDEX(bontirs,SMALL(IF(joueurs=$B49,ROW(INDIRECT(\"1:\"&ROWS(bontirs)))),ROWS($1:$22))),\"\")","v":""},{"$f":"IF(ROWS($1:$23)<=COUNTIF(joueurs,$B49),INDEX(bontirs,SMALL(IF(joueurs=$B49,ROW(INDIRECT(\"1:\"&ROWS(bontirs)))),ROWS($1:$23))),\"\")","v":""},{"$f":"IF(ROWS($1:$24)<=COUNTIF(joueurs,$B49),INDEX(bontirs,SMALL(IF(joueurs=$B49,ROW(INDIRECT(\"1:\"&ROWS(bontirs)))),ROWS($1:$24))),\"\")","v":""},{"$f":"IF(ROWS($1:$25)<=COUNTIF(joueurs,$B49),INDEX(bontirs,SMALL(IF(joueurs=$B49,ROW(INDIRECT(\"1:\"&ROWS(bontirs)))),ROWS($1:$25))),\"\")","v":""},{"$f":"IF(ROWS($1:$26)<=COUNTIF(joueurs,$B49),INDEX(bontirs,SMALL(IF(joueurs=$B49,ROW(INDIRECT(\"1:\"&ROWS(bontirs)))),ROWS($1:$26))),\"\")","v":""},{"$f":"IF(ROWS($1:$27)<=COUNTIF(joueurs,$B49),INDEX(bontirs,SMALL(IF(joueurs=$B49,ROW(INDIRECT(\"1:\"&ROWS(bontirs)))),ROWS($1:$27))),\"\")","v":""},{"$f":"IF(ROWS($1:$28)<=COUNTIF(joueurs,$B49),INDEX(bontirs,SMALL(IF(joueurs=$B49,ROW(INDIRECT(\"1:\"&ROWS(bontirs)))),ROWS($1:$28))),\"\")","v":""},{"$f":"IF(ROWS($1:$29)<=COUNTIF(joueurs,$B49),INDEX(bontirs,SMALL(IF(joueurs=$B49,ROW(INDIRECT(\"1:\"&ROWS(bontirs)))),ROWS($1:$29))),\"\")","v":""},{"$f":"IF(ROWS($1:$30)<=COUNTIF(joueurs,$B49),INDEX(bontirs,SMALL(IF(joueurs=$B49,ROW(INDIRECT(\"1:\"&ROWS(bontirs)))),ROWS($1:$30))),\"\")","v":""},{"$f":"IF(ROWS($1:$21)<=COUNTIF(joueurs,$B49),INDEX(points,SMALL(IF(joueurs=$B49,ROW(INDIRECT(\"1:\"&ROWS(points)))),ROWS($1:$21))),\"\")","v":""},{"$f":"IF(ROWS($1:$22)<=COUNTIF(joueurs,$B49),INDEX(points,SMALL(IF(joueurs=$B49,ROW(INDIRECT(\"1:\"&ROWS(points)))),ROWS($1:$22))),\"\")","v":""},{"$f":"IF(ROWS($1:$23)<=COUNTIF(joueurs,$B49),INDEX(points,SMALL(IF(joueurs=$B49,ROW(INDIRECT(\"1:\"&ROWS(points)))),ROWS($1:$23))),\"\")","v":""},{"$f":"IF(ROWS($1:$24)<=COUNTIF(joueurs,$B49),INDEX(points,SMALL(IF(joueurs=$B49,ROW(INDIRECT(\"1:\"&ROWS(points)))),ROWS($1:$24))),\"\")","v":""},{"$f":"IF(ROWS($1:$25)<=COUNTIF(joueurs,$B49),INDEX(points,SMALL(IF(joueurs=$B49,ROW(INDIRECT(\"1:\"&ROWS(points)))),ROWS($1:$25))),\"\")","v":""},{"$f":"IF(ROWS($1:$26)<=COUNTIF(joueurs,$B49),INDEX(points,SMALL(IF(joueurs=$B49,ROW(INDIRECT(\"1:\"&ROWS(points)))),ROWS($1:$26))),\"\")","v":""},{"$f":"IF(ROWS($1:$27)<=COUNTIF(joueurs,$B49),INDEX(points,SMALL(IF(joueurs=$B49,ROW(INDIRECT(\"1:\"&ROWS(points)))),ROWS($1:$27))),\"\")","v":""},{"$f":"IF(ROWS($1:$28)<=COUNTIF(joueurs,$B49),INDEX(points,SMALL(IF(joueurs=$B49,ROW(INDIRECT(\"1:\"&ROWS(points)))),ROWS($1:$28))),\"\")","v":""},{"$f":"IF(ROWS($1:$29)<=COUNTIF(joueurs,$B49),INDEX(points,SMALL(IF(joueurs=$B49,ROW(INDIRECT(\"1:\"&ROWS(points)))),ROWS($1:$29))),\"\")","v":""},{"$f":"IF(ROWS($1:$30)<=COUNTIF(joueurs,$B49),INDEX(points,SMALL(IF(joueurs=$B49,ROW(INDIRECT(\"1:\"&ROWS(points)))),ROWS($1:$30))),\"\")","v":""},{"$f":"IF(ROWS($1:$21)<=COUNTIF(joueurs,$B49),INDEX(victoires,SMALL(IF(joueurs=$B49,ROW(INDIRECT(\"1:\"&ROWS(victoires)))),ROWS($1:$21))),\"\")","v":""},{"$f":"IF(ROWS($1:$22)<=COUNTIF(joueurs,$B49),INDEX(victoires,SMALL(IF(joueurs=$B49,ROW(INDIRECT(\"1:\"&ROWS(victoires)))),ROWS($1:$22))),\"\")","v":""},{"$f":"IF(ROWS($1:$23)<=COUNTIF(joueurs,$B49),INDEX(victoires,SMALL(IF(joueurs=$B49,ROW(INDIRECT(\"1:\"&ROWS(victoires)))),ROWS($1:$23))),\"\")","v":""},{"$f":"IF(ROWS($1:$24)<=COUNTIF(joueurs,$B49),INDEX(victoires,SMALL(IF(joueurs=$B49,ROW(INDIRECT(\"1:\"&ROWS(victoires)))),ROWS($1:$24))),\"\")","v":""},{"$f":"IF(ROWS($1:$25)<=COUNTIF(joueurs,$B49),INDEX(victoires,SMALL(IF(joueurs=$B49,ROW(INDIRECT(\"1:\"&ROWS(victoires)))),ROWS($1:$25))),\"\")","v":""},{"$f":"IF(ROWS($1:$26)<=COUNTIF(joueurs,$B49),INDEX(victoires,SMALL(IF(joueurs=$B49,ROW(INDIRECT(\"1:\"&ROWS(victoires)))),ROWS($1:$26))),\"\")","v":""},{"$f":"IF(ROWS($1:$27)<=COUNTIF(joueurs,$B49),INDEX(victoires,SMALL(IF(joueurs=$B49,ROW(INDIRECT(\"1:\"&ROWS(victoires)))),ROWS($1:$27))),\"\")","v":""},{"$f":"IF(ROWS($1:$28)<=COUNTIF(joueurs,$B49),INDEX(victoires,SMALL(IF(joueurs=$B49,ROW(INDIRECT(\"1:\"&ROWS(victoires)))),ROWS($1:$28))),\"\")","v":""},{"$f":"IF(ROWS($1:$29)<=COUNTIF(joueurs,$B49),INDEX(victoires,SMALL(IF(joueurs=$B49,ROW(INDIRECT(\"1:\"&ROWS(victoires)))),ROWS($1:$29))),\"\")","v":""},{"$f":"IF(ROWS($1:$30)<=COUNTIF(joueurs,$B49),INDEX(victoires,SMALL(IF(joueurs=$B49,ROW(INDIRECT(\"1:\"&ROWS(victoires)))),ROWS($1:$30))),\"\")","v":""}]
[null,null,null,{"$f":"IF(ROWS($1:$31)<=COUNTIF(joueurs,$B49),INDEX(fautes,SMALL(IF(joueurs=$B49,ROW(INDIRECT(\"1:\"&ROWS(fautes)))),ROWS($1:$31))),\"\")","v":""},{"$f":"IF(ROWS($1:$32)<=COUNTIF(joueurs,$B49),INDEX(fautes,SMALL(IF(joueurs=$B49,ROW(INDIRECT(\"1:\"&ROWS(fautes)))),ROWS($1:$32))),\"\")","v":""},{"$f":"IF(ROWS($1:$33)<=COUNTIF(joueurs,$B49),INDEX(fautes,SMALL(IF(joueurs=$B49,ROW(INDIRECT(\"1:\"&ROWS(fautes)))),ROWS($1:$33))),\"\")","v":""},{"$f":"IF(ROWS($1:$34)<=COUNTIF(joueurs,$B49),INDEX(fautes,SMALL(IF(joueurs=$B49,ROW(INDIRECT(\"1:\"&ROWS(fautes)))),ROWS($1:$34))),\"\")","v":""},{"$f":"IF(ROWS($1:$35)<=COUNTIF(joueurs,$B49),INDEX(fautes,SMALL(IF(joueurs=$B49,ROW(INDIRECT(\"1:\"&ROWS(fautes)))),ROWS($1:$35))),\"\")","v":""},{"$f":"IF(ROWS($1:$36)<=COUNTIF(joueurs,$B49),INDEX(fautes,SMALL(IF(joueurs=$B49,ROW(INDIRECT(\"1:\"&ROWS(fautes)))),ROWS($1:$36))),\"\")","v":""},{"$f":"IF(ROWS($1:$37)<=COUNTIF(joueurs,$B49),INDEX(fautes,SMALL(IF(joueurs=$B49,ROW(INDIRECT(\"1:\"&ROWS(fautes)))),ROWS($1:$37))),\"\")","v":""},{"$f":"IF(ROWS($1:$38)<=COUNTIF(joueurs,$B49),INDEX(fautes,SMALL(IF(joueurs=$B49,ROW(INDIRECT(\"1:\"&ROWS(fautes)))),ROWS($1:$38))),\"\")","v":""},{"$f":"IF(ROWS($1:$39)<=COUNTIF(joueurs,$B49),INDEX(fautes,SMALL(IF(joueurs=$B49,ROW(INDIRECT(\"1:\"&ROWS(fautes)))),ROWS($1:$39))),\"\")","v":""},{"$f":"IF(ROWS($1:$40)<=COUNTIF(joueurs,$B49),INDEX(fautes,SMALL(IF(joueurs=$B49,ROW(INDIRECT(\"1:\"&ROWS(fautes)))),ROWS($1:$40))),\"\")","v":""},{"$f":"IF(ROWS($1:$31)<=COUNTIF(joueurs,$B49),INDEX(ballonperdus,SMALL(IF(joueurs=$B49,ROW(INDIRECT(\"1:\"&ROWS(ballonperdus)))),ROWS($1:$31))),\"\")","v":""},{"$f":"IF(ROWS($1:$32)<=COUNTIF(joueurs,$B49),INDEX(ballonperdus,SMALL(IF(joueurs=$B49,ROW(INDIRECT(\"1:\"&ROWS(ballonperdus)))),ROWS($1:$32))),\"\")","v":""},{"$f":"IF(ROWS($1:$33)<=COUNTIF(joueurs,$B49),INDEX(ballonperdus,SMALL(IF(joueurs=$B49,ROW(INDIRECT(\"1:\"&ROWS(ballonperdus)))),ROWS($1:$33))),\"\")","v":""},{"$f":"IF(ROWS($1:$34)<=COUNTIF(joueurs,$B49),INDEX(ballonperdus,SMALL(IF(joueurs=$B49,ROW(INDIRECT(\"1:\"&ROWS(ballonperdus)))),ROWS($1:$34))),\"\")","v":""},{"$f":"IF(ROWS($1:$35)<=COUNTIF(joueurs,$B49),INDEX(ballonperdus,SMALL(IF(joueurs=$B49,ROW(INDIRECT(\"1:\"&ROWS(ballonperdus)))),ROWS($1:$35))),\"\")","v":""},{"$f":"IF(ROWS($1:$36)<=COUNTIF(joueurs,$B49),INDEX(ballonperdus,SMALL(IF(joueurs=$B49,ROW(INDIRECT(\"1:\"&ROWS(ballonperdus)))),ROWS($1:$36))),\"\")","v":""},{"$f":"IF(ROWS($1:$37)<=COUNTIF(joueurs,$B49),INDEX(ballonperdus,SMALL(IF(joueurs=$B49,ROW(INDIRECT(\"1:\"&ROWS(ballonperdus)))),ROWS($1:$37))),\"\")","v":""},{"$f":"IF(ROWS($1:$38)<=COUNTIF(joueurs,$B49),INDEX(ballonperdus,SMALL(IF(joueurs=$B49,ROW(INDIRECT(\"1:\"&ROWS(ballonperdus)))),ROWS($1:$38))),\"\")","v":""},{"$f":"IF(ROWS($1:$39)<=COUNTIF(joueurs,$B49),INDEX(ballonperdus,SMALL(IF(joueurs=$B49,ROW(INDIRECT(\"1:\"&ROWS(ballonperdus)))),ROWS($1:$39))),\"\")","v":""},{"$f":"IF(ROWS($1:$40)<=COUNTIF(joueurs,$B49),INDEX(ballonperdus,SMALL(IF(joueurs=$B49,ROW(INDIRECT(\"1:\"&ROWS(ballonperdus)))),ROWS($1:$40))),\"\")","v":""},{"$f":"IF(ROWS($1:$31)<=COUNTIF(joueurs,$B49),INDEX(interceptions,SMALL(IF(joueurs=$B49,ROW(INDIRECT(\"1:\"&ROWS(interceptions)))),ROWS($1:$31))),\"\")","v":""},{"$f":"IF(ROWS($1:$32)<=COUNTIF(joueurs,$B49),INDEX(interceptions,SMALL(IF(joueurs=$B49,ROW(INDIRECT(\"1:\"&ROWS(interceptions)))),ROWS($1:$32))),\"\")","v":""},{"$f":"IF(ROWS($1:$33)<=COUNTIF(joueurs,$B49),INDEX(interceptions,SMALL(IF(joueurs=$B49,ROW(INDIRECT(\"1:\"&ROWS(interceptions)))),ROWS($1:$33))),\"\")","v":""},{"$f":"IF(ROWS($1:$34)<=COUNTIF(joueurs,$B49),INDEX(interceptions,SMALL(IF(joueurs=$B49,ROW(INDIRECT(\"1:\"&ROWS(interceptions)))),ROWS($1:$34))),\"\")","v":""},{"$f":"IF(ROWS($1:$35)<=COUNTIF(joueurs,$B49),INDEX(interceptions,SMALL(IF(joueurs=$B49,ROW(INDIRECT(\"1:\"&ROWS(interceptions)))),ROWS($1:$35))),\"\")","v":""},{"$f":"IF(ROWS($1:$36)<=COUNTIF(joueurs,$B49),INDEX(interceptions,SMALL(IF(joueurs=$B49,ROW(INDIRECT(\"1:\"&ROWS(interceptions)))),ROWS($1:$36))),\"\")","v":""},{"$f":"IF(ROWS($1:$37)<=COUNTIF(joueurs,$B49),INDEX(interceptions,SMALL(IF(joueurs=$B49,ROW(INDIRECT(\"1:\"&ROWS(interceptions)))),ROWS($1:$37))),\"\")","v":""},{"$f":"IF(ROWS($1:$38)<=COUNTIF(joueurs,$B49),INDEX(interceptions,SMALL(IF(joueurs=$B49,ROW(INDIRECT(\"1:\"&ROWS(interceptions)))),ROWS($1:$38))),\"\")","v":""},{"$f":"IF(ROWS($1:$39)<=COUNTIF(joueurs,$B49),INDEX(interceptions,SMALL(IF(joueurs=$B49,ROW(INDIRECT(\"1:\"&ROWS(interceptions)))),ROWS($1:$39))),\"\")","v":""},{"$f":"IF(ROWS($1:$40)<=COUNTIF(joueurs,$B49),INDEX(interceptions,SMALL(IF(joueurs=$B49,ROW(INDIRECT(\"1:\"&ROWS(interceptions)))),ROWS($1:$40))),\"\")","v":""},{"$f":"IF(ROWS($1:$31)<=COUNTIF(joueurs,$B49),INDEX(ballonrecuperes,SMALL(IF(joueurs=$B49,ROW(INDIRECT(\"1:\"&ROWS(ballonrecuperes)))),ROWS($1:$31))),\"\")","v":""},{"$f":"IF(ROWS($1:$32)<=COUNTIF(joueurs,$B49),INDEX(ballonrecuperes,SMALL(IF(joueurs=$B49,ROW(INDIRECT(\"1:\"&ROWS(ballonrecuperes)))),ROWS($1:$32))),\"\")","v":""},{"$f":"IF(ROWS($1:$33)<=COUNTIF(joueurs,$B49),INDEX(ballonrecuperes,SMALL(IF(joueurs=$B49,ROW(INDIRECT(\"1:\"&ROWS(ballonrecuperes)))),ROWS($1:$33))),\"\")","v":""},{"$f":"IF(ROWS($1:$34)<=COUNTIF(joueurs,$B49),INDEX(ballonrecuperes,SMALL(IF(joueurs=$B49,ROW(INDIRECT(\"1:\"&ROWS(ballonrecuperes)))),ROWS($1:$34))),\"\")","v":""},{"$f":"IF(ROWS($1:$35)<=COUNTIF(joueurs,$B49),INDEX(ballonrecuperes,SMALL(IF(joueurs=$B49,ROW(INDIRECT(\"1:\"&ROWS(ballonrecuperes)))),ROWS($1:$35))),\"\")","v":""},{"$f":"IF(ROWS($1:$36)<=COUNTIF(joueurs,$B49),INDEX(ballonrecuperes,SMALL(IF(joueurs=$B49,ROW(INDIRECT(\"1:\"&ROWS(ballonrecuperes)))),ROWS($1:$36))),\"\")","v":""},{"$f":"IF(ROWS($1:$37)<=COUNTIF(joueurs,$B49),INDEX(ballonrecuperes,SMALL(IF(joueurs=$B49,ROW(INDIRECT(\"1:\"&ROWS(ballonrecuperes)))),ROWS($1:$37))),\"\")","v":""},{"$f":"IF(ROWS($1:$38)<=COUNTIF(joueurs,$B49),INDEX(ballonrecuperes,SMALL(IF(joueurs=$B49,ROW(INDIRECT(\"1:\"&ROWS(ballonrecuperes)))),ROWS($1:$38))),\"\")","v":""},{"$f":"IF(ROWS($1:$39)<=COUNTIF(joueurs,$B49),INDEX(ballonrecuperes,SMALL(IF(joueurs=$B49,ROW(INDIRECT(\"1:\"&ROWS(ballonrecuperes)))),ROWS($1:$39))),\"\")","v":""},{"$f":"IF(ROWS($1:$40)<=COUNTIF(joueurs,$B49),INDEX(ballonrecuperes,SMALL(IF(joueurs=$B49,ROW(INDIRECT(\"1:\"&ROWS(ballonrecuperes)))),ROWS($1:$40))),\"\")","v":""},{"$f":"IF(ROWS($1:$31)<=COUNTIF(joueurs,$B49),INDEX(tirs,SMALL(IF(joueurs=$B49,ROW(INDIRECT(\"1:\"&ROWS(tirs)))),ROWS($1:$31))),\"\")","v":""},{"$f":"IF(ROWS($1:$32)<=COUNTIF(joueurs,$B49),INDEX(tirs,SMALL(IF(joueurs=$B49,ROW(INDIRECT(\"1:\"&ROWS(tirs)))),ROWS($1:$32))),\"\")","v":""},{"$f":"IF(ROWS($1:$33)<=COUNTIF(joueurs,$B49),INDEX(tirs,SMALL(IF(joueurs=$B49,ROW(INDIRECT(\"1:\"&ROWS(tirs)))),ROWS($1:$33))),\"\")","v":""},{"$f":"IF(ROWS($1:$34)<=COUNTIF(joueurs,$B49),INDEX(tirs,SMALL(IF(joueurs=$B49,ROW(INDIRECT(\"1:\"&ROWS(tirs)))),ROWS($1:$34))),\"\")","v":""},{"$f":"IF(ROWS($1:$35)<=COUNTIF(joueurs,$B49),INDEX(tirs,SMALL(IF(joueurs=$B49,ROW(INDIRECT(\"1:\"&ROWS(tirs)))),ROWS($1:$35))),\"\")","v":""},{"$f":"IF(ROWS($1:$36)<=COUNTIF(joueurs,$B49),INDEX(tirs,SMALL(IF(joueurs=$B49,ROW(INDIRECT(\"1:\"&ROWS(tirs)))),ROWS($1:$36))),\"\")","v":""},{"$f":"IF(ROWS($1:$37)<=COUNTIF(joueurs,$B49),INDEX(tirs,SMALL(IF(joueurs=$B49,ROW(INDIRECT(\"1:\"&ROWS(tirs)))),ROWS($1:$37))),\"\")","v":""},{"$f":"IF(ROWS($1:$38)<=COUNTIF(joueurs,$B49),INDEX(tirs,SMALL(IF(joueurs=$B49,ROW(INDIRECT(\"1:\"&ROWS(tirs)))),ROWS($1:$38))),\"\")","v":""},{"$f":"IF(ROWS($1:$39)<=COUNTIF(joueurs,$B49),INDEX(tirs,SMALL(IF(joueurs=$B49,ROW(INDIRECT(\"1:\"&ROWS(tirs)))),ROWS($1:$39))),\"\")","v":""},{"$f":"IF(ROWS($1:$40)<=COUNTIF(joueurs,$B49),INDEX(tirs,SMALL(IF(joueurs=$B49,ROW(INDIRECT(\"1:\"&ROWS(tirs)))),ROWS($1:$40))),\"\")","v":""},{"$f":"IF(ROWS($1:$31)<=COUNTIF(joueurs,$B49),INDEX(bontirs,SMALL(IF(joueurs=$B49,ROW(INDIRECT(\"1:\"&ROWS(bontirs)))),ROWS($1:$31))),\"\")","v":""},{"$f":"IF(ROWS($1:$32)<=COUNTIF(joueurs,$B49),INDEX(bontirs,SMALL(IF(joueurs=$B49,ROW(INDIRECT(\"1:\"&ROWS(bontirs)))),ROWS($1:$32))),\"\")","v":""},{"$f":"IF(ROWS($1:$33)<=COUNTIF(joueurs,$B49),INDEX(bontirs,SMALL(IF(joueurs=$B49,ROW(INDIRECT(\"1:\"&ROWS(bontirs)))),ROWS($1:$33))),\"\")","v":""},{"$f":"IF(ROWS($1:$34)<=COUNTIF(joueurs,$B49),INDEX(bontirs,SMALL(IF(joueurs=$B49,ROW(INDIRECT(\"1:\"&ROWS(bontirs)))),ROWS($1:$34))),\"\")","v":""},{"$f":"IF(ROWS($1:$35)<=COUNTIF(joueurs,$B49),INDEX(bontirs,SMALL(IF(joueurs=$B49,ROW(INDIRECT(\"1:\"&ROWS(bontirs)))),ROWS($1:$35))),\"\")","v":""},{"$f":"IF(ROWS($1:$36)<=COUNTIF(joueurs,$B49),INDEX(bontirs,SMALL(IF(joueurs=$B49,ROW(INDIRECT(\"1:\"&ROWS(bontirs)))),ROWS($1:$36))),\"\")","v":""},{"$f":"IF(ROWS($1:$37)<=COUNTIF(joueurs,$B49),INDEX(bontirs,SMALL(IF(joueurs=$B49,ROW(INDIRECT(\"1:\"&ROWS(bontirs)))),ROWS($1:$37))),\"\")","v":""},{"$f":"IF(ROWS($1:$38)<=COUNTIF(joueurs,$B49),INDEX(bontirs,SMALL(IF(joueurs=$B49,ROW(INDIRECT(\"1:\"&ROWS(bontirs)))),ROWS($1:$38))),\"\")","v":""},{"$f":"IF(ROWS($1:$39)<=COUNTIF(joueurs,$B49),INDEX(bontirs,SMALL(IF(joueurs=$B49,ROW(INDIRECT(\"1:\"&ROWS(bontirs)))),ROWS($1:$39))),\"\")","v":""},{"$f":"IF(ROWS($1:$40)<=COUNTIF(joueurs,$B49),INDEX(bontirs,SMALL(IF(joueurs=$B49,ROW(INDIRECT(\"1:\"&ROWS(bontirs)))),ROWS($1:$40))),\"\")","v":""},{"$f":"IF(ROWS($1:$31)<=COUNTIF(joueurs,$B49),INDEX(points,SMALL(IF(joueurs=$B49,ROW(INDIRECT(\"1:\"&ROWS(points)))),ROWS($1:$31))),\"\")","v":""},{"$f":"IF(ROWS($1:$32)<=COUNTIF(joueurs,$B49),INDEX(points,SMALL(IF(joueurs=$B49,ROW(INDIRECT(\"1:\"&ROWS(points)))),ROWS($1:$32))),\"\")","v":""},{"$f":"IF(ROWS($1:$33)<=COUNTIF(joueurs,$B49),INDEX(points,SMALL(IF(joueurs=$B49,ROW(INDIRECT(\"1:\"&ROWS(points)))),ROWS($1:$33))),\"\")","v":""},{"$f":"IF(ROWS($1:$34)<=COUNTIF(joueurs,$B49),INDEX(points,SMALL(IF(joueurs=$B49,ROW(INDIRECT(\"1:\"&ROWS(points)))),ROWS($1:$34))),\"\")","v":""},{"$f":"IF(ROWS($1:$35)<=COUNTIF(joueurs,$B49),INDEX(points,SMALL(IF(joueurs=$B49,ROW(INDIRECT(\"1:\"&ROWS(points)))),ROWS($1:$35))),\"\")","v":""},{"$f":"IF(ROWS($1:$36)<=COUNTIF(joueurs,$B49),INDEX(points,SMALL(IF(joueurs=$B49,ROW(INDIRECT(\"1:\"&ROWS(points)))),ROWS($1:$36))),\"\")","v":""},{"$f":"IF(ROWS($1:$37)<=COUNTIF(joueurs,$B49),INDEX(points,SMALL(IF(joueurs=$B49,ROW(INDIRECT(\"1:\"&ROWS(points)))),ROWS($1:$37))),\"\")","v":""},{"$f":"IF(ROWS($1:$38)<=COUNTIF(joueurs,$B49),INDEX(points,SMALL(IF(joueurs=$B49,ROW(INDIRECT(\"1:\"&ROWS(points)))),ROWS($1:$38))),\"\")","v":""},{"$f":"IF(ROWS($1:$39)<=COUNTIF(joueurs,$B49),INDEX(points,SMALL(IF(joueurs=$B49,ROW(INDIRECT(\"1:\"&ROWS(points)))),ROWS($1:$39))),\"\")","v":""},{"$f":"IF(ROWS($1:$40)<=COUNTIF(joueurs,$B49),INDEX(points,SMALL(IF(joueurs=$B49,ROW(INDIRECT(\"1:\"&ROWS(points)))),ROWS($1:$40))),\"\")","v":""},{"$f":"IF(ROWS($1:$31)<=COUNTIF(joueurs,$B49),INDEX(victoires,SMALL(IF(joueurs=$B49,ROW(INDIRECT(\"1:\"&ROWS(victoires)))),ROWS($1:$31))),\"\")","v":""},{"$f":"IF(ROWS($1:$32)<=COUNTIF(joueurs,$B49),INDEX(victoires,SMALL(IF(joueurs=$B49,ROW(INDIRECT(\"1:\"&ROWS(victoires)))),ROWS($1:$32))),\"\")","v":""},{"$f":"IF(ROWS($1:$33)<=COUNTIF(joueurs,$B49),INDEX(victoires,SMALL(IF(joueurs=$B49,ROW(INDIRECT(\"1:\"&ROWS(victoires)))),ROWS($1:$33))),\"\")","v":""},{"$f":"IF(ROWS($1:$34)<=COUNTIF(joueurs,$B49),INDEX(victoires,SMALL(IF(joueurs=$B49,ROW(INDIRECT(\"1:\"&ROWS(victoires)))),ROWS($1:$34))),\"\")","v":""},{"$f":"IF(ROWS($1:$35)<=COUNTIF(joueurs,$B49),INDEX(victoires,SMALL(IF(joueurs=$B49,ROW(INDIRECT(\"1:\"&ROWS(victoires)))),ROWS($1:$35))),\"\")","v":""},{"$f":"IF(ROWS($1:$36)<=COUNTIF(joueurs,$B49),INDEX(victoires,SMALL(IF(joueurs=$B49,ROW(INDIRECT(\"1:\"&ROWS(victoires)))),ROWS($1:$36))),\"\")","v":""},{"$f":"IF(ROWS($1:$37)<=COUNTIF(joueurs,$B49),INDEX(victoires,SMALL(IF(joueurs=$B49,ROW(INDIRECT(\"1:\"&ROWS(victoires)))),ROWS($1:$37))),\"\")","v":""},{"$f":"IF(ROWS($1:$38)<=COUNTIF(joueurs,$B49),INDEX(victoires,SMALL(IF(joueurs=$B49,ROW(INDIRECT(\"1:\"&ROWS(victoires)))),ROWS($1:$38))),\"\")","v":""},{"$f":"IF(ROWS($1:$39)<=COUNTIF(joueurs,$B49),INDEX(victoires,SMALL(IF(joueurs=$B49,ROW(INDIRECT(\"1:\"&ROWS(victoires)))),ROWS($1:$39))),\"\")","v":""},{"$f":"IF(ROWS($1:$40)<=COUNTIF(joueurs,$B49),INDEX(victoires,SMALL(IF(joueurs=$B49,ROW(INDIRECT(\"1:\"&ROWS(victoires)))),ROWS($1:$40))),\"\")","v":""}]
[13,{"$f":"INDEX(eleves,MATCH(A53,numero,0),MATCH($B$2,classes,0))","v":"BIRD"},null,{"$f":"IF(ROWS($1:$1)<=COUNTIF(joueurs,$B53),INDEX(fautes,SMALL(IF(joueurs=$B53,ROW(INDIRECT(\"1:\"&ROWS(fautes)))),ROWS($1:$1))),\"\")","v":""},{"$f":"IF(ROWS($1:$2)<=COUNTIF(joueurs,$B53),INDEX(fautes,SMALL(IF(joueurs=$B53,ROW(INDIRECT(\"1:\"&ROWS(fautes)))),ROWS($1:$2))),\"\")","v":""},{"$f":"IF(ROWS($1:$3)<=COUNTIF(joueurs,$B53),INDEX(fautes,SMALL(IF(joueurs=$B53,ROW(INDIRECT(\"1:\"&ROWS(fautes)))),ROWS($1:$3))),\"\")","v":""},{"$f":"IF(ROWS($1:$4)<=COUNTIF(joueurs,$B53),INDEX(fautes,SMALL(IF(joueurs=$B53,ROW(INDIRECT(\"1:\"&ROWS(fautes)))),ROWS($1:$4))),\"\")","v":""},{"$f":"IF(ROWS($1:$5)<=COUNTIF(joueurs,$B53),INDEX(fautes,SMALL(IF(joueurs=$B53,ROW(INDIRECT(\"1:\"&ROWS(fautes)))),ROWS($1:$5))),\"\")","v":""},{"$f":"IF(ROWS($1:$6)<=COUNTIF(joueurs,$B53),INDEX(fautes,SMALL(IF(joueurs=$B53,ROW(INDIRECT(\"1:\"&ROWS(fautes)))),ROWS($1:$6))),\"\")","v":""},{"$f":"IF(ROWS($1:$7)<=COUNTIF(joueurs,$B53),INDEX(fautes,SMALL(IF(joueurs=$B53,ROW(INDIRECT(\"1:\"&ROWS(fautes)))),ROWS($1:$7))),\"\")","v":""},{"$f":"IF(ROWS($1:$8)<=COUNTIF(joueurs,$B53),INDEX(fautes,SMALL(IF(joueurs=$B53,ROW(INDIRECT(\"1:\"&ROWS(fautes)))),ROWS($1:$8))),\"\")","v":""},{"$f":"IF(ROWS($1:$9)<=COUNTIF(joueurs,$B53),INDEX(fautes,SMALL(IF(joueurs=$B53,ROW(INDIRECT(\"1:\"&ROWS(fautes)))),ROWS($1:$9))),\"\")","v":""},{"$f":"IF(ROWS($1:$10)<=COUNTIF(joueurs,$B53),INDEX(fautes,SMALL(IF(joueurs=$B53,ROW(INDIRECT(\"1:\"&ROWS(fautes)))),ROWS($1:$10))),\"\")","v":""},{"$f":"IF(ROWS($1:$1)<=COUNTIF(joueurs,$B53),INDEX(ballonperdus,SMALL(IF(joueurs=$B53,ROW(INDIRECT(\"1:\"&ROWS(ballonperdus)))),ROWS($1:$1))),\"\")","v":""},{"$f":"IF(ROWS($1:$2)<=COUNTIF(joueurs,$B53),INDEX(ballonperdus,SMALL(IF(joueurs=$B53,ROW(INDIRECT(\"1:\"&ROWS(ballonperdus)))),ROWS($1:$2))),\"\")","v":""},{"$f":"IF(ROWS($1:$3)<=COUNTIF(joueurs,$B53),INDEX(ballonperdus,SMALL(IF(joueurs=$B53,ROW(INDIRECT(\"1:\"&ROWS(ballonperdus)))),ROWS($1:$3))),\"\")","v":""},{"$f":"IF(ROWS($1:$4)<=COUNTIF(joueurs,$B53),INDEX(ballonperdus,SMALL(IF(joueurs=$B53,ROW(INDIRECT(\"1:\"&ROWS(ballonperdus)))),ROWS($1:$4))),\"\")","v":""},{"$f":"IF(ROWS($1:$5)<=COUNTIF(joueurs,$B53),INDEX(ballonperdus,SMALL(IF(joueurs=$B53,ROW(INDIRECT(\"1:\"&ROWS(ballonperdus)))),ROWS($1:$5))),\"\")","v":""},{"$f":"IF(ROWS($1:$6)<=COUNTIF(joueurs,$B53),INDEX(ballonperdus,SMALL(IF(joueurs=$B53,ROW(INDIRECT(\"1:\"&ROWS(ballonperdus)))),ROWS($1:$6))),\"\")","v":""},{"$f":"IF(ROWS($1:$7)<=COUNTIF(joueurs,$B53),INDEX(ballonperdus,SMALL(IF(joueurs=$B53,ROW(INDIRECT(\"1:\"&ROWS(ballonperdus)))),ROWS($1:$7))),\"\")","v":""},{"$f":"IF(ROWS($1:$8)<=COUNTIF(joueurs,$B53),INDEX(ballonperdus,SMALL(IF(joueurs=$B53,ROW(INDIRECT(\"1:\"&ROWS(ballonperdus)))),ROWS($1:$8))),\"\")","v":""},{"$f":"IF(ROWS($1:$9)<=COUNTIF(joueurs,$B53),INDEX(ballonperdus,SMALL(IF(joueurs=$B53,ROW(INDIRECT(\"1:\"&ROWS(ballonperdus)))),ROWS($1:$9))),\"\")","v":""},{"$f":"IF(ROWS($1:$10)<=COUNTIF(joueurs,$B53),INDEX(ballonperdus,SMALL(IF(joueurs=$B53,ROW(INDIRECT(\"1:\"&ROWS(ballonperdus)))),ROWS($1:$10))),\"\")","v":""},{"$f":"IF(ROWS($1:$1)<=COUNTIF(joueurs,$B53),INDEX(interceptions,SMALL(IF(joueurs=$B53,ROW(INDIRECT(\"1:\"&ROWS(interceptions)))),ROWS($1:$1))),\"\")","v":""},{"$f":"IF(ROWS($1:$2)<=COUNTIF(joueurs,$B53),INDEX(interceptions,SMALL(IF(joueurs=$B53,ROW(INDIRECT(\"1:\"&ROWS(interceptions)))),ROWS($1:$2))),\"\")","v":""},{"$f":"IF(ROWS($1:$3)<=COUNTIF(joueurs,$B53),INDEX(interceptions,SMALL(IF(joueurs=$B53,ROW(INDIRECT(\"1:\"&ROWS(interceptions)))),ROWS($1:$3))),\"\")","v":""},{"$f":"IF(ROWS($1:$4)<=COUNTIF(joueurs,$B53),INDEX(interceptions,SMALL(IF(joueurs=$B53,ROW(INDIRECT(\"1:\"&ROWS(interceptions)))),ROWS($1:$4))),\"\")","v":""},{"$f":"IF(ROWS($1:$5)<=COUNTIF(joueurs,$B53),INDEX(interceptions,SMALL(IF(joueurs=$B53,ROW(INDIRECT(\"1:\"&ROWS(interceptions)))),ROWS($1:$5))),\"\")","v":""},{"$f":"IF(ROWS($1:$6)<=COUNTIF(joueurs,$B53),INDEX(interceptions,SMALL(IF(joueurs=$B53,ROW(INDIRECT(\"1:\"&ROWS(interceptions)))),ROWS($1:$6))),\"\")","v":""},{"$f":"IF(ROWS($1:$7)<=COUNTIF(joueurs,$B53),INDEX(interceptions,SMALL(IF(joueurs=$B53,ROW(INDIRECT(\"1:\"&ROWS(interceptions)))),ROWS($1:$7))),\"\")","v":""},{"$f":"IF(ROWS($1:$8)<=COUNTIF(joueurs,$B53),INDEX(interceptions,SMALL(IF(joueurs=$B53,ROW(INDIRECT(\"1:\"&ROWS(interceptions)))),ROWS($1:$8))),\"\")","v":""},{"$f":"IF(ROWS($1:$9)<=COUNTIF(joueurs,$B53),INDEX(interceptions,SMALL(IF(joueurs=$B53,ROW(INDIRECT(\"1:\"&ROWS(interceptions)))),ROWS($1:$9))),\"\")","v":""},{"$f":"IF(ROWS($1:$10)<=COUNTIF(joueurs,$B53),INDEX(interceptions,SMALL(IF(joueurs=$B53,ROW(INDIRECT(\"1:\"&ROWS(interceptions)))),ROWS($1:$10))),\"\")","v":""},{"$f":"IF(ROWS($1:$1)<=COUNTIF(joueurs,$B53),INDEX(ballonrecuperes,SMALL(IF(joueurs=$B53,ROW(INDIRECT(\"1:\"&ROWS(ballonrecuperes)))),ROWS($1:$1))),\"\")","v":""},{"$f":"IF(ROWS($1:$2)<=COUNTIF(joueurs,$B53),INDEX(ballonrecuperes,SMALL(IF(joueurs=$B53,ROW(INDIRECT(\"1:\"&ROWS(ballonrecuperes)))),ROWS($1:$2))),\"\")","v":""},{"$f":"IF(ROWS($1:$3)<=COUNTIF(joueurs,$B53),INDEX(ballonrecuperes,SMALL(IF(joueurs=$B53,ROW(INDIRECT(\"1:\"&ROWS(ballonrecuperes)))),ROWS($1:$3))),\"\")","v":""},{"$f":"IF(ROWS($1:$4)<=COUNTIF(joueurs,$B53),INDEX(ballonrecuperes,SMALL(IF(joueurs=$B53,ROW(INDIRECT(\"1:\"&ROWS(ballonrecuperes)))),ROWS($1:$4))),\"\")","v":""},{"$f":"IF(ROWS($1:$5)<=COUNTIF(joueurs,$B53),INDEX(ballonrecuperes,SMALL(IF(joueurs=$B53,ROW(INDIRECT(\"1:\"&ROWS(ballonrecuperes)))),ROWS($1:$5))),\"\")","v":""},{"$f":"IF(ROWS($1:$6)<=COUNTIF(joueurs,$B53),INDEX(ballonrecuperes,SMALL(IF(joueurs=$B53,ROW(INDIRECT(\"1:\"&ROWS(ballonrecuperes)))),ROWS($1:$6))),\"\")","v":""},{"$f":"IF(ROWS($1:$7)<=COUNTIF(joueurs,$B53),INDEX(ballonrecuperes,SMALL(IF(joueurs=$B53,ROW(INDIRECT(\"1:\"&ROWS(ballonrecuperes)))),ROWS($1:$7))),\"\")","v":""},{"$f":"IF(ROWS($1:$8)<=COUNTIF(joueurs,$B53),INDEX(ballonrecuperes,SMALL(IF(joueurs=$B53,ROW(INDIRECT(\"1:\"&ROWS(ballonrecuperes)))),ROWS($1:$8))),\"\")","v":""},{"$f":"IF(ROWS($1:$9)<=COUNTIF(joueurs,$B53),INDEX(ballonrecuperes,SMALL(IF(joueurs=$B53,ROW(INDIRECT(\"1:\"&ROWS(ballonrecuperes)))),ROWS($1:$9))),\"\")","v":""},{"$f":"IF(ROWS($1:$10)<=COUNTIF(joueurs,$B53),INDEX(ballonrecuperes,SMALL(IF(joueurs=$B53,ROW(INDIRECT(\"1:\"&ROWS(ballonrecuperes)))),ROWS($1:$10))),\"\")","v":""},{"$f":"IF(ROWS($1:$1)<=COUNTIF(joueurs,$B53),INDEX(tirs,SMALL(IF(joueurs=$B53,ROW(INDIRECT(\"1:\"&ROWS(tirs)))),ROWS($1:$1))),\"\")","v":""},{"$f":"IF(ROWS($1:$2)<=COUNTIF(joueurs,$B53),INDEX(tirs,SMALL(IF(joueurs=$B53,ROW(INDIRECT(\"1:\"&ROWS(tirs)))),ROWS($1:$2))),\"\")","v":""},{"$f":"IF(ROWS($1:$3)<=COUNTIF(joueurs,$B53),INDEX(tirs,SMALL(IF(joueurs=$B53,ROW(INDIRECT(\"1:\"&ROWS(tirs)))),ROWS($1:$3))),\"\")","v":""},{"$f":"IF(ROWS($1:$4)<=COUNTIF(joueurs,$B53),INDEX(tirs,SMALL(IF(joueurs=$B53,ROW(INDIRECT(\"1:\"&ROWS(tirs)))),ROWS($1:$4))),\"\")","v":""},{"$f":"IF(ROWS($1:$5)<=COUNTIF(joueurs,$B53),INDEX(tirs,SMALL(IF(joueurs=$B53,ROW(INDIRECT(\"1:\"&ROWS(tirs)))),ROWS($1:$5))),\"\")","v":""},{"$f":"IF(ROWS($1:$6)<=COUNTIF(joueurs,$B53),INDEX(tirs,SMALL(IF(joueurs=$B53,ROW(INDIRECT(\"1:\"&ROWS(tirs)))),ROWS($1:$6))),\"\")","v":""},{"$f":"IF(ROWS($1:$7)<=COUNTIF(joueurs,$B53),INDEX(tirs,SMALL(IF(joueurs=$B53,ROW(INDIRECT(\"1:\"&ROWS(tirs)))),ROWS($1:$7))),\"\")","v":""},{"$f":"IF(ROWS($1:$8)<=COUNTIF(joueurs,$B53),INDEX(tirs,SMALL(IF(joueurs=$B53,ROW(INDIRECT(\"1:\"&ROWS(tirs)))),ROWS($1:$8))),\"\")","v":""},{"$f":"IF(ROWS($1:$9)<=COUNTIF(joueurs,$B53),INDEX(tirs,SMALL(IF(joueurs=$B53,ROW(INDIRECT(\"1:\"&ROWS(tirs)))),ROWS($1:$9))),\"\")","v":""},{"$f":"IF(ROWS($1:$10)<=COUNTIF(joueurs,$B53),INDEX(tirs,SMALL(IF(joueurs=$B53,ROW(INDIRECT(\"1:\"&ROWS(tirs)))),ROWS($1:$10))),\"\")","v":""},{"$f":"IF(ROWS($1:$1)<=COUNTIF(joueurs,$B53),INDEX(bontirs,SMALL(IF(joueurs=$B53,ROW(INDIRECT(\"1:\"&ROWS(bontirs)))),ROWS($1:$1))),\"\")","v":""},{"$f":"IF(ROWS($1:$2)<=COUNTIF(joueurs,$B53),INDEX(bontirs,SMALL(IF(joueurs=$B53,ROW(INDIRECT(\"1:\"&ROWS(bontirs)))),ROWS($1:$2))),\"\")","v":""},{"$f":"IF(ROWS($1:$3)<=COUNTIF(joueurs,$B53),INDEX(bontirs,SMALL(IF(joueurs=$B53,ROW(INDIRECT(\"1:\"&ROWS(bontirs)))),ROWS($1:$3))),\"\")","v":""},{"$f":"IF(ROWS($1:$4)<=COUNTIF(joueurs,$B53),INDEX(bontirs,SMALL(IF(joueurs=$B53,ROW(INDIRECT(\"1:\"&ROWS(bontirs)))),ROWS($1:$4))),\"\")","v":""},{"$f":"IF(ROWS($1:$5)<=COUNTIF(joueurs,$B53),INDEX(bontirs,SMALL(IF(joueurs=$B53,ROW(INDIRECT(\"1:\"&ROWS(bontirs)))),ROWS($1:$5))),\"\")","v":""},{"$f":"IF(ROWS($1:$6)<=COUNTIF(joueurs,$B53),INDEX(bontirs,SMALL(IF(joueurs=$B53,ROW(INDIRECT(\"1:\"&ROWS(bontirs)))),ROWS($1:$6))),\"\")","v":""},{"$f":"IF(ROWS($1:$7)<=COUNTIF(joueurs,$B53),INDEX(bontirs,SMALL(IF(joueurs=$B53,ROW(INDIRECT(\"1:\"&ROWS(bontirs)))),ROWS($1:$7))),\"\")","v":""},{"$f":"IF(ROWS($1:$8)<=COUNTIF(joueurs,$B53),INDEX(bontirs,SMALL(IF(joueurs=$B53,ROW(INDIRECT(\"1:\"&ROWS(bontirs)))),ROWS($1:$8))),\"\")","v":""},{"$f":"IF(ROWS($1:$9)<=COUNTIF(joueurs,$B53),INDEX(bontirs,SMALL(IF(joueurs=$B53,ROW(INDIRECT(\"1:\"&ROWS(bontirs)))),ROWS($1:$9))),\"\")","v":""},{"$f":"IF(ROWS($1:$10)<=COUNTIF(joueurs,$B53),INDEX(bontirs,SMALL(IF(joueurs=$B53,ROW(INDIRECT(\"1:\"&ROWS(bontirs)))),ROWS($1:$10))),\"\")","v":""},{"$f":"IF(ROWS($1:$1)<=COUNTIF(joueurs,$B53),INDEX(points,SMALL(IF(joueurs=$B53,ROW(INDIRECT(\"1:\"&ROWS(points)))),ROWS($1:$1))),\"\")","v":""},{"$f":"IF(ROWS($1:$2)<=COUNTIF(joueurs,$B53),INDEX(points,SMALL(IF(joueurs=$B53,ROW(INDIRECT(\"1:\"&ROWS(points)))),ROWS($1:$2))),\"\")","v":""},{"$f":"IF(ROWS($1:$3)<=COUNTIF(joueurs,$B53),INDEX(points,SMALL(IF(joueurs=$B53,ROW(INDIRECT(\"1:\"&ROWS(points)))),ROWS($1:$3))),\"\")","v":""},{"$f":"IF(ROWS($1:$4)<=COUNTIF(joueurs,$B53),INDEX(points,SMALL(IF(joueurs=$B53,ROW(INDIRECT(\"1:\"&ROWS(points)))),ROWS($1:$4))),\"\")","v":""},{"$f":"IF(ROWS($1:$5)<=COUNTIF(joueurs,$B53),INDEX(points,SMALL(IF(joueurs=$B53,ROW(INDIRECT(\"1:\"&ROWS(points)))),ROWS($1:$5))),\"\")","v":""},{"$f":"IF(ROWS($1:$6)<=COUNTIF(joueurs,$B53),INDEX(points,SMALL(IF(joueurs=$B53,ROW(INDIRECT(\"1:\"&ROWS(points)))),ROWS($1:$6))),\"\")","v":""},{"$f":"IF(ROWS($1:$7)<=COUNTIF(joueurs,$B53),INDEX(points,SMALL(IF(joueurs=$B53,ROW(INDIRECT(\"1:\"&ROWS(points)))),ROWS($1:$7))),\"\")","v":""},{"$f":"IF(ROWS($1:$8)<=COUNTIF(joueurs,$B53),INDEX(points,SMALL(IF(joueurs=$B53,ROW(INDIRECT(\"1:\"&ROWS(points)))),ROWS($1:$8))),\"\")","v":""},{"$f":"IF(ROWS($1:$9)<=COUNTIF(joueurs,$B53),INDEX(points,SMALL(IF(joueurs=$B53,ROW(INDIRECT(\"1:\"&ROWS(points)))),ROWS($1:$9))),\"\")","v":""},{"$f":"IF(ROWS($1:$10)<=COUNTIF(joueurs,$B53),INDEX(points,SMALL(IF(joueurs=$B53,ROW(INDIRECT(\"1:\"&ROWS(points)))),ROWS($1:$10))),\"\")","v":""},{"$f":"IF(ROWS($1:$1)<=COUNTIF(joueurs,$B53),INDEX(victoires,SMALL(IF(joueurs=$B53,ROW(INDIRECT(\"1:\"&ROWS(victoires)))),ROWS($1:$1))),\"\")","v":""},{"$f":"IF(ROWS($1:$2)<=COUNTIF(joueurs,$B53),INDEX(victoires,SMALL(IF(joueurs=$B53,ROW(INDIRECT(\"1:\"&ROWS(victoires)))),ROWS($1:$2))),\"\")","v":""},{"$f":"IF(ROWS($1:$3)<=COUNTIF(joueurs,$B53),INDEX(victoires,SMALL(IF(joueurs=$B53,ROW(INDIRECT(\"1:\"&ROWS(victoires)))),ROWS($1:$3))),\"\")","v":""},{"$f":"IF(ROWS($1:$4)<=COUNTIF(joueurs,$B53),INDEX(victoires,SMALL(IF(joueurs=$B53,ROW(INDIRECT(\"1:\"&ROWS(victoires)))),ROWS($1:$4))),\"\")","v":""},{"$f":"IF(ROWS($1:$5)<=COUNTIF(joueurs,$B53),INDEX(victoires,SMALL(IF(joueurs=$B53,ROW(INDIRECT(\"1:\"&ROWS(victoires)))),ROWS($1:$5))),\"\")","v":""},{"$f":"IF(ROWS($1:$6)<=COUNTIF(joueurs,$B53),INDEX(victoires,SMALL(IF(joueurs=$B53,ROW(INDIRECT(\"1:\"&ROWS(victoires)))),ROWS($1:$6))),\"\")","v":""},{"$f":"IF(ROWS($1:$7)<=COUNTIF(joueurs,$B53),INDEX(victoires,SMALL(IF(joueurs=$B53,ROW(INDIRECT(\"1:\"&ROWS(victoires)))),ROWS($1:$7))),\"\")","v":""},{"$f":"IF(ROWS($1:$8)<=COUNTIF(joueurs,$B53),INDEX(victoires,SMALL(IF(joueurs=$B53,ROW(INDIRECT(\"1:\"&ROWS(victoires)))),ROWS($1:$8))),\"\")","v":""},{"$f":"IF(ROWS($1:$9)<=COUNTIF(joueurs,$B53),INDEX(victoires,SMALL(IF(joueurs=$B53,ROW(INDIRECT(\"1:\"&ROWS(victoires)))),ROWS($1:$9))),\"\")","v":""},{"$f":"IF(ROWS($1:$10)<=COUNTIF(joueurs,$B53),INDEX(victoires,SMALL(IF(joueurs=$B53,ROW(INDIRECT(\"1:\"&ROWS(victoires)))),ROWS($1:$10))),\"\")","v":""}]
[null,null,null,{"$f":"IF(ROWS($1:$11)<=COUNTIF(joueurs,$B53),INDEX(fautes,SMALL(IF(joueurs=$B53,ROW(INDIRECT(\"1:\"&ROWS(fautes)))),ROWS($1:$11))),\"\")","v":""},{"$f":"IF(ROWS($1:$12)<=COUNTIF(joueurs,$B53),INDEX(fautes,SMALL(IF(joueurs=$B53,ROW(INDIRECT(\"1:\"&ROWS(fautes)))),ROWS($1:$12))),\"\")","v":""},{"$f":"IF(ROWS($1:$13)<=COUNTIF(joueurs,$B53),INDEX(fautes,SMALL(IF(joueurs=$B53,ROW(INDIRECT(\"1:\"&ROWS(fautes)))),ROWS($1:$13))),\"\")","v":""},{"$f":"IF(ROWS($1:$14)<=COUNTIF(joueurs,$B53),INDEX(fautes,SMALL(IF(joueurs=$B53,ROW(INDIRECT(\"1:\"&ROWS(fautes)))),ROWS($1:$14))),\"\")","v":""},{"$f":"IF(ROWS($1:$15)<=COUNTIF(joueurs,$B53),INDEX(fautes,SMALL(IF(joueurs=$B53,ROW(INDIRECT(\"1:\"&ROWS(fautes)))),ROWS($1:$15))),\"\")","v":""},{"$f":"IF(ROWS($1:$16)<=COUNTIF(joueurs,$B53),INDEX(fautes,SMALL(IF(joueurs=$B53,ROW(INDIRECT(\"1:\"&ROWS(fautes)))),ROWS($1:$16))),\"\")","v":""},{"$f":"IF(ROWS($1:$17)<=COUNTIF(joueurs,$B53),INDEX(fautes,SMALL(IF(joueurs=$B53,ROW(INDIRECT(\"1:\"&ROWS(fautes)))),ROWS($1:$17))),\"\")","v":""},{"$f":"IF(ROWS($1:$18)<=COUNTIF(joueurs,$B53),INDEX(fautes,SMALL(IF(joueurs=$B53,ROW(INDIRECT(\"1:\"&ROWS(fautes)))),ROWS($1:$18))),\"\")","v":""},{"$f":"IF(ROWS($1:$19)<=COUNTIF(joueurs,$B53),INDEX(fautes,SMALL(IF(joueurs=$B53,ROW(INDIRECT(\"1:\"&ROWS(fautes)))),ROWS($1:$19))),\"\")","v":""},{"$f":"IF(ROWS($1:$20)<=COUNTIF(joueurs,$B53),INDEX(fautes,SMALL(IF(joueurs=$B53,ROW(INDIRECT(\"1:\"&ROWS(fautes)))),ROWS($1:$20))),\"\")","v":""},{"$f":"IF(ROWS($1:$11)<=COUNTIF(joueurs,$B53),INDEX(ballonperdus,SMALL(IF(joueurs=$B53,ROW(INDIRECT(\"1:\"&ROWS(ballonperdus)))),ROWS($1:$11))),\"\")","v":""},{"$f":"IF(ROWS($1:$12)<=COUNTIF(joueurs,$B53),INDEX(ballonperdus,SMALL(IF(joueurs=$B53,ROW(INDIRECT(\"1:\"&ROWS(ballonperdus)))),ROWS($1:$12))),\"\")","v":""},{"$f":"IF(ROWS($1:$13)<=COUNTIF(joueurs,$B53),INDEX(ballonperdus,SMALL(IF(joueurs=$B53,ROW(INDIRECT(\"1:\"&ROWS(ballonperdus)))),ROWS($1:$13))),\"\")","v":""},{"$f":"IF(ROWS($1:$14)<=COUNTIF(joueurs,$B53),INDEX(ballonperdus,SMALL(IF(joueurs=$B53,ROW(INDIRECT(\"1:\"&ROWS(ballonperdus)))),ROWS($1:$14))),\"\")","v":""},{"$f":"IF(ROWS($1:$15)<=COUNTIF(joueurs,$B53),INDEX(ballonperdus,SMALL(IF(joueurs=$B53,ROW(INDIRECT(\"1:\"&ROWS(ballonperdus)))),ROWS($1:$15))),\"\")","v":""},{"$f":"IF(ROWS($1:$16)<=COUNTIF(joueurs,$B53),INDEX(ballonperdus,SMALL(IF(joueurs=$B53,ROW(INDIRECT(\"1:\"&ROWS(ballonperdus)))),ROWS($1:$16))),\"\")","v":""},{"$f":"IF(ROWS($1:$17)<=COUNTIF(joueurs,$B53),INDEX(ballonperdus,SMALL(IF(joueurs=$B53,ROW(INDIRECT(\"1:\"&ROWS(ballonperdus)))),ROWS($1:$17))),\"\")","v":""},{"$f":"IF(ROWS($1:$18)<=COUNTIF(joueurs,$B53),INDEX(ballonperdus,SMALL(IF(joueurs=$B53,ROW(INDIRECT(\"1:\"&ROWS(ballonperdus)))),ROWS($1:$18))),\"\")","v":""},{"$f":"IF(ROWS($1:$19)<=COUNTIF(joueurs,$B53),INDEX(ballonperdus,SMALL(IF(joueurs=$B53,ROW(INDIRECT(\"1:\"&ROWS(ballonperdus)))),ROWS($1:$19))),\"\")","v":""},{"$f":"IF(ROWS($1:$20)<=COUNTIF(joueurs,$B53),INDEX(fautes,SMALL(IF(joueurs=$B53,ROW(INDIRECT(\"1:\"&ROWS(ballonperdus)))),ROWS($1:$20))),\"\")","v":""},{"$f":"IF(ROWS($1:$11)<=COUNTIF(joueurs,$B53),INDEX(interceptions,SMALL(IF(joueurs=$B53,ROW(INDIRECT(\"1:\"&ROWS(interceptions)))),ROWS($1:$11))),\"\")","v":""},{"$f":"IF(ROWS($1:$12)<=COUNTIF(joueurs,$B53),INDEX(interceptions,SMALL(IF(joueurs=$B53,ROW(INDIRECT(\"1:\"&ROWS(interceptions)))),ROWS($1:$12))),\"\")","v":""},{"$f":"IF(ROWS($1:$13)<=COUNTIF(joueurs,$B53),INDEX(interceptions,SMALL(IF(joueurs=$B53,ROW(INDIRECT(\"1:\"&ROWS(interceptions)))),ROWS($1:$13))),\"\")","v":""},{"$f":"IF(ROWS($1:$14)<=COUNTIF(joueurs,$B53),INDEX(interceptions,SMALL(IF(joueurs=$B53,ROW(INDIRECT(\"1:\"&ROWS(interceptions)))),ROWS($1:$14))),\"\")","v":""},{"$f":"IF(ROWS($1:$15)<=COUNTIF(joueurs,$B53),INDEX(interceptions,SMALL(IF(joueurs=$B53,ROW(INDIRECT(\"1:\"&ROWS(interceptions)))),ROWS($1:$15))),\"\")","v":""},{"$f":"IF(ROWS($1:$16)<=COUNTIF(joueurs,$B53),INDEX(interceptions,SMALL(IF(joueurs=$B53,ROW(INDIRECT(\"1:\"&ROWS(interceptions)))),ROWS($1:$16))),\"\")","v":""},{"$f":"IF(ROWS($1:$17)<=COUNTIF(joueurs,$B53),INDEX(interceptions,SMALL(IF(joueurs=$B53,ROW(INDIRECT(\"1:\"&ROWS(interceptions)))),ROWS($1:$17))),\"\")","v":""},{"$f":"IF(ROWS($1:$18)<=COUNTIF(joueurs,$B53),INDEX(interceptions,SMALL(IF(joueurs=$B53,ROW(INDIRECT(\"1:\"&ROWS(interceptions)))),ROWS($1:$18))),\"\")","v":""},{"$f":"IF(ROWS($1:$19)<=COUNTIF(joueurs,$B53),INDEX(interceptions,SMALL(IF(joueurs=$B53,ROW(INDIRECT(\"1:\"&ROWS(interceptions)))),ROWS($1:$19))),\"\")","v":""},{"$f":"IF(ROWS($1:$20)<=COUNTIF(joueurs,$B53),INDEX(interceptions,SMALL(IF(joueurs=$B53,ROW(INDIRECT(\"1:\"&ROWS(interceptions)))),ROWS($1:$20))),\"\")","v":""},{"$f":"IF(ROWS($1:$11)<=COUNTIF(joueurs,$B53),INDEX(ballonrecuperes,SMALL(IF(joueurs=$B53,ROW(INDIRECT(\"1:\"&ROWS(ballonrecuperes)))),ROWS($1:$11))),\"\")","v":""},{"$f":"IF(ROWS($1:$12)<=COUNTIF(joueurs,$B53),INDEX(ballonrecuperes,SMALL(IF(joueurs=$B53,ROW(INDIRECT(\"1:\"&ROWS(ballonrecuperes)))),ROWS($1:$12))),\"\")","v":""},{"$f":"IF(ROWS($1:$13)<=COUNTIF(joueurs,$B53),INDEX(ballonrecuperes,SMALL(IF(joueurs=$B53,ROW(INDIRECT(\"1:\"&ROWS(ballonrecuperes)))),ROWS($1:$13))),\"\")","v":""},{"$f":"IF(ROWS($1:$14)<=COUNTIF(joueurs,$B53),INDEX(ballonrecuperes,SMALL(IF(joueurs=$B53,ROW(INDIRECT(\"1:\"&ROWS(ballonrecuperes)))),ROWS($1:$14))),\"\")","v":""},{"$f":"IF(ROWS($1:$15)<=COUNTIF(joueurs,$B53),INDEX(ballonrecuperes,SMALL(IF(joueurs=$B53,ROW(INDIRECT(\"1:\"&ROWS(ballonrecuperes)))),ROWS($1:$15))),\"\")","v":""},{"$f":"IF(ROWS($1:$16)<=COUNTIF(joueurs,$B53),INDEX(ballonrecuperes,SMALL(IF(joueurs=$B53,ROW(INDIRECT(\"1:\"&ROWS(ballonrecuperes)))),ROWS($1:$16))),\"\")","v":""},{"$f":"IF(ROWS($1:$17)<=COUNTIF(joueurs,$B53),INDEX(ballonrecuperes,SMALL(IF(joueurs=$B53,ROW(INDIRECT(\"1:\"&ROWS(ballonrecuperes)))),ROWS($1:$17))),\"\")","v":""},{"$f":"IF(ROWS($1:$18)<=COUNTIF(joueurs,$B53),INDEX(ballonrecuperes,SMALL(IF(joueurs=$B53,ROW(INDIRECT(\"1:\"&ROWS(ballonrecuperes)))),ROWS($1:$18))),\"\")","v":""},{"$f":"IF(ROWS($1:$19)<=COUNTIF(joueurs,$B53),INDEX(ballonrecuperes,SMALL(IF(joueurs=$B53,ROW(INDIRECT(\"1:\"&ROWS(ballonrecuperes)))),ROWS($1:$19))),\"\")","v":""},{"$f":"IF(ROWS($1:$20)<=COUNTIF(joueurs,$B53),INDEX(ballonrecuperes,SMALL(IF(joueurs=$B53,ROW(INDIRECT(\"1:\"&ROWS(ballonrecuperes)))),ROWS($1:$20))),\"\")","v":""},{"$f":"IF(ROWS($1:$11)<=COUNTIF(joueurs,$B53),INDEX(tirs,SMALL(IF(joueurs=$B53,ROW(INDIRECT(\"1:\"&ROWS(tirs)))),ROWS($1:$11))),\"\")","v":""},{"$f":"IF(ROWS($1:$12)<=COUNTIF(joueurs,$B53),INDEX(tirs,SMALL(IF(joueurs=$B53,ROW(INDIRECT(\"1:\"&ROWS(tirs)))),ROWS($1:$12))),\"\")","v":""},{"$f":"IF(ROWS($1:$13)<=COUNTIF(joueurs,$B53),INDEX(tirs,SMALL(IF(joueurs=$B53,ROW(INDIRECT(\"1:\"&ROWS(tirs)))),ROWS($1:$13))),\"\")","v":""},{"$f":"IF(ROWS($1:$14)<=COUNTIF(joueurs,$B53),INDEX(tirs,SMALL(IF(joueurs=$B53,ROW(INDIRECT(\"1:\"&ROWS(tirs)))),ROWS($1:$14))),\"\")","v":""},{"$f":"IF(ROWS($1:$15)<=COUNTIF(joueurs,$B53),INDEX(tirs,SMALL(IF(joueurs=$B53,ROW(INDIRECT(\"1:\"&ROWS(tirs)))),ROWS($1:$15))),\"\")","v":""},{"$f":"IF(ROWS($1:$16)<=COUNTIF(joueurs,$B53),INDEX(tirs,SMALL(IF(joueurs=$B53,ROW(INDIRECT(\"1:\"&ROWS(tirs)))),ROWS($1:$16))),\"\")","v":""},{"$f":"IF(ROWS($1:$17)<=COUNTIF(joueurs,$B53),INDEX(tirs,SMALL(IF(joueurs=$B53,ROW(INDIRECT(\"1:\"&ROWS(tirs)))),ROWS($1:$17))),\"\")","v":""},{"$f":"IF(ROWS($1:$18)<=COUNTIF(joueurs,$B53),INDEX(tirs,SMALL(IF(joueurs=$B53,ROW(INDIRECT(\"1:\"&ROWS(tirs)))),ROWS($1:$18))),\"\")","v":""},{"$f":"IF(ROWS($1:$19)<=COUNTIF(joueurs,$B53),INDEX(tirs,SMALL(IF(joueurs=$B53,ROW(INDIRECT(\"1:\"&ROWS(tirs)))),ROWS($1:$19))),\"\")","v":""},{"$f":"IF(ROWS($1:$20)<=COUNTIF(joueurs,$B53),INDEX(tirs,SMALL(IF(joueurs=$B53,ROW(INDIRECT(\"1:\"&ROWS(tirs)))),ROWS($1:$20))),\"\")","v":""},{"$f":"IF(ROWS($1:$11)<=COUNTIF(joueurs,$B53),INDEX(bontirs,SMALL(IF(joueurs=$B53,ROW(INDIRECT(\"1:\"&ROWS(bontirs)))),ROWS($1:$11))),\"\")","v":""},{"$f":"IF(ROWS($1:$12)<=COUNTIF(joueurs,$B53),INDEX(bontirs,SMALL(IF(joueurs=$B53,ROW(INDIRECT(\"1:\"&ROWS(bontirs)))),ROWS($1:$12))),\"\")","v":""},{"$f":"IF(ROWS($1:$13)<=COUNTIF(joueurs,$B53),INDEX(bontirs,SMALL(IF(joueurs=$B53,ROW(INDIRECT(\"1:\"&ROWS(bontirs)))),ROWS($1:$13))),\"\")","v":""},{"$f":"IF(ROWS($1:$14)<=COUNTIF(joueurs,$B53),INDEX(bontirs,SMALL(IF(joueurs=$B53,ROW(INDIRECT(\"1:\"&ROWS(bontirs)))),ROWS($1:$14))),\"\")","v":""},{"$f":"IF(ROWS($1:$15)<=COUNTIF(joueurs,$B53),INDEX(bontirs,SMALL(IF(joueurs=$B53,ROW(INDIRECT(\"1:\"&ROWS(bontirs)))),ROWS($1:$15))),\"\")","v":""},{"$f":"IF(ROWS($1:$16)<=COUNTIF(joueurs,$B53),INDEX(bontirs,SMALL(IF(joueurs=$B53,ROW(INDIRECT(\"1:\"&ROWS(bontirs)))),ROWS($1:$16))),\"\")","v":""},{"$f":"IF(ROWS($1:$17)<=COUNTIF(joueurs,$B53),INDEX(bontirs,SMALL(IF(joueurs=$B53,ROW(INDIRECT(\"1:\"&ROWS(bontirs)))),ROWS($1:$17))),\"\")","v":""},{"$f":"IF(ROWS($1:$18)<=COUNTIF(joueurs,$B53),INDEX(bontirs,SMALL(IF(joueurs=$B53,ROW(INDIRECT(\"1:\"&ROWS(bontirs)))),ROWS($1:$18))),\"\")","v":""},{"$f":"IF(ROWS($1:$19)<=COUNTIF(joueurs,$B53),INDEX(bontirs,SMALL(IF(joueurs=$B53,ROW(INDIRECT(\"1:\"&ROWS(bontirs)))),ROWS($1:$19))),\"\")","v":""},{"$f":"IF(ROWS($1:$20)<=COUNTIF(joueurs,$B53),INDEX(bontirs,SMALL(IF(joueurs=$B53,ROW(INDIRECT(\"1:\"&ROWS(bontirs)))),ROWS($1:$20))),\"\")","v":""},{"$f":"IF(ROWS($1:$11)<=COUNTIF(joueurs,$B53),INDEX(points,SMALL(IF(joueurs=$B53,ROW(INDIRECT(\"1:\"&ROWS(points)))),ROWS($1:$11))),\"\")","v":""},{"$f":"IF(ROWS($1:$12)<=COUNTIF(joueurs,$B53),INDEX(points,SMALL(IF(joueurs=$B53,ROW(INDIRECT(\"1:\"&ROWS(points)))),ROWS($1:$12))),\"\")","v":""},{"$f":"IF(ROWS($1:$13)<=COUNTIF(joueurs,$B53),INDEX(points,SMALL(IF(joueurs=$B53,ROW(INDIRECT(\"1:\"&ROWS(points)))),ROWS($1:$13))),\"\")","v":""},{"$f":"IF(ROWS($1:$14)<=COUNTIF(joueurs,$B53),INDEX(points,SMALL(IF(joueurs=$B53,ROW(INDIRECT(\"1:\"&ROWS(points)))),ROWS($1:$14))),\"\")","v":""},{"$f":"IF(ROWS($1:$15)<=COUNTIF(joueurs,$B53),INDEX(points,SMALL(IF(joueurs=$B53,ROW(INDIRECT(\"1:\"&ROWS(points)))),ROWS($1:$15))),\"\")","v":""},{"$f":"IF(ROWS($1:$16)<=COUNTIF(joueurs,$B53),INDEX(points,SMALL(IF(joueurs=$B53,ROW(INDIRECT(\"1:\"&ROWS(points)))),ROWS($1:$16))),\"\")","v":""},{"$f":"IF(ROWS($1:$17)<=COUNTIF(joueurs,$B53),INDEX(points,SMALL(IF(joueurs=$B53,ROW(INDIRECT(\"1:\"&ROWS(points)))),ROWS($1:$17))),\"\")","v":""},{"$f":"IF(ROWS($1:$18)<=COUNTIF(joueurs,$B53),INDEX(points,SMALL(IF(joueurs=$B53,ROW(INDIRECT(\"1:\"&ROWS(points)))),ROWS($1:$18))),\"\")","v":""},{"$f":"IF(ROWS($1:$19)<=COUNTIF(joueurs,$B53),INDEX(points,SMALL(IF(joueurs=$B53,ROW(INDIRECT(\"1:\"&ROWS(points)))),ROWS($1:$19))),\"\")","v":""},{"$f":"IF(ROWS($1:$20)<=COUNTIF(points,$B53),INDEX(fautes,SMALL(IF(joueurs=$B53,ROW(INDIRECT(\"1:\"&ROWS(points)))),ROWS($1:$20))),\"\")","v":""},{"$f":"IF(ROWS($1:$11)<=COUNTIF(joueurs,$B53),INDEX(victoires,SMALL(IF(joueurs=$B53,ROW(INDIRECT(\"1:\"&ROWS(victoires)))),ROWS($1:$11))),\"\")","v":""},{"$f":"IF(ROWS($1:$12)<=COUNTIF(joueurs,$B53),INDEX(victoires,SMALL(IF(joueurs=$B53,ROW(INDIRECT(\"1:\"&ROWS(victoires)))),ROWS($1:$12))),\"\")","v":""},{"$f":"IF(ROWS($1:$13)<=COUNTIF(joueurs,$B53),INDEX(victoires,SMALL(IF(joueurs=$B53,ROW(INDIRECT(\"1:\"&ROWS(victoires)))),ROWS($1:$13))),\"\")","v":""},{"$f":"IF(ROWS($1:$14)<=COUNTIF(joueurs,$B53),INDEX(victoires,SMALL(IF(joueurs=$B53,ROW(INDIRECT(\"1:\"&ROWS(victoires)))),ROWS($1:$14))),\"\")","v":""},{"$f":"IF(ROWS($1:$15)<=COUNTIF(joueurs,$B53),INDEX(victoires,SMALL(IF(joueurs=$B53,ROW(INDIRECT(\"1:\"&ROWS(victoires)))),ROWS($1:$15))),\"\")","v":""},{"$f":"IF(ROWS($1:$16)<=COUNTIF(joueurs,$B53),INDEX(victoires,SMALL(IF(joueurs=$B53,ROW(INDIRECT(\"1:\"&ROWS(victoires)))),ROWS($1:$16))),\"\")","v":""},{"$f":"IF(ROWS($1:$17)<=COUNTIF(joueurs,$B53),INDEX(victoires,SMALL(IF(joueurs=$B53,ROW(INDIRECT(\"1:\"&ROWS(victoires)))),ROWS($1:$17))),\"\")","v":""},{"$f":"IF(ROWS($1:$18)<=COUNTIF(joueurs,$B53),INDEX(victoires,SMALL(IF(joueurs=$B53,ROW(INDIRECT(\"1:\"&ROWS(victoires)))),ROWS($1:$18))),\"\")","v":""},{"$f":"IF(ROWS($1:$19)<=COUNTIF(joueurs,$B53),INDEX(victoires,SMALL(IF(joueurs=$B53,ROW(INDIRECT(\"1:\"&ROWS(victoires)))),ROWS($1:$19))),\"\")","v":""},{"$f":"IF(ROWS($1:$20)<=COUNTIF(joueurs,$B53),INDEX(victoires,SMALL(IF(joueurs=$B53,ROW(INDIRECT(\"1:\"&ROWS(victoires)))),ROWS($1:$20))),\"\")","v":""}]
[null,null,null,{"$f":"IF(ROWS($1:$21)<=COUNTIF(joueurs,$B53),INDEX(fautes,SMALL(IF(joueurs=$B53,ROW(INDIRECT(\"1:\"&ROWS(fautes)))),ROWS($1:$21))),\"\")","v":""},{"$f":"IF(ROWS($1:$22)<=COUNTIF(joueurs,$B53),INDEX(fautes,SMALL(IF(joueurs=$B53,ROW(INDIRECT(\"1:\"&ROWS(fautes)))),ROWS($1:$22))),\"\")","v":""},{"$f":"IF(ROWS($1:$23)<=COUNTIF(joueurs,$B53),INDEX(fautes,SMALL(IF(joueurs=$B53,ROW(INDIRECT(\"1:\"&ROWS(fautes)))),ROWS($1:$23))),\"\")","v":""},{"$f":"IF(ROWS($1:$24)<=COUNTIF(joueurs,$B53),INDEX(fautes,SMALL(IF(joueurs=$B53,ROW(INDIRECT(\"1:\"&ROWS(fautes)))),ROWS($1:$24))),\"\")","v":""},{"$f":"IF(ROWS($1:$25)<=COUNTIF(joueurs,$B53),INDEX(fautes,SMALL(IF(joueurs=$B53,ROW(INDIRECT(\"1:\"&ROWS(fautes)))),ROWS($1:$25))),\"\")","v":""},{"$f":"IF(ROWS($1:$26)<=COUNTIF(joueurs,$B53),INDEX(fautes,SMALL(IF(joueurs=$B53,ROW(INDIRECT(\"1:\"&ROWS(fautes)))),ROWS($1:$26))),\"\")","v":""},{"$f":"IF(ROWS($1:$27)<=COUNTIF(joueurs,$B53),INDEX(fautes,SMALL(IF(joueurs=$B53,ROW(INDIRECT(\"1:\"&ROWS(fautes)))),ROWS($1:$27))),\"\")","v":""},{"$f":"IF(ROWS($1:$28)<=COUNTIF(joueurs,$B53),INDEX(fautes,SMALL(IF(joueurs=$B53,ROW(INDIRECT(\"1:\"&ROWS(fautes)))),ROWS($1:$28))),\"\")","v":""},{"$f":"IF(ROWS($1:$29)<=COUNTIF(joueurs,$B53),INDEX(fautes,SMALL(IF(joueurs=$B53,ROW(INDIRECT(\"1:\"&ROWS(fautes)))),ROWS($1:$29))),\"\")","v":""},{"$f":"IF(ROWS($1:$30)<=COUNTIF(joueurs,$B53),INDEX(fautes,SMALL(IF(joueurs=$B53,ROW(INDIRECT(\"1:\"&ROWS(fautes)))),ROWS($1:$30))),\"\")","v":""},{"$f":"IF(ROWS($1:$21)<=COUNTIF(joueurs,$B53),INDEX(ballonperdus,SMALL(IF(joueurs=$B53,ROW(INDIRECT(\"1:\"&ROWS(ballonperdus)))),ROWS($1:$21))),\"\")","v":""},{"$f":"IF(ROWS($1:$22)<=COUNTIF(joueurs,$B53),INDEX(ballonperdus,SMALL(IF(joueurs=$B53,ROW(INDIRECT(\"1:\"&ROWS(ballonperdus)))),ROWS($1:$22))),\"\")","v":""},{"$f":"IF(ROWS($1:$23)<=COUNTIF(joueurs,$B53),INDEX(ballonperdus,SMALL(IF(joueurs=$B53,ROW(INDIRECT(\"1:\"&ROWS(ballonperdus)))),ROWS($1:$23))),\"\")","v":""},{"$f":"IF(ROWS($1:$24)<=COUNTIF(joueurs,$B53),INDEX(ballonperdus,SMALL(IF(joueurs=$B53,ROW(INDIRECT(\"1:\"&ROWS(ballonperdus)))),ROWS($1:$24))),\"\")","v":""},{"$f":"IF(ROWS($1:$25)<=COUNTIF(joueurs,$B53),INDEX(ballonperdus,SMALL(IF(joueurs=$B53,ROW(INDIRECT(\"1:\"&ROWS(ballonperdus)))),ROWS($1:$25))),\"\")","v":""},{"$f":"IF(ROWS($1:$26)<=COUNTIF(joueurs,$B53),INDEX(ballonperdus,SMALL(IF(joueurs=$B53,ROW(INDIRECT(\"1:\"&ROWS(ballonperdus)))),ROWS($1:$26))),\"\")","v":""},{"$f":"IF(ROWS($1:$27)<=COUNTIF(joueurs,$B53),INDEX(ballonperdus,SMALL(IF(joueurs=$B53,ROW(INDIRECT(\"1:\"&ROWS(ballonperdus)))),ROWS($1:$27))),\"\")","v":""},{"$f":"IF(ROWS($1:$28)<=COUNTIF(joueurs,$B53),INDEX(ballonperdus,SMALL(IF(joueurs=$B53,ROW(INDIRECT(\"1:\"&ROWS(ballonperdus)))),ROWS($1:$28))),\"\")","v":""},{"$f":"IF(ROWS($1:$29)<=COUNTIF(joueurs,$B53),INDEX(ballonperdus,SMALL(IF(joueurs=$B53,ROW(INDIRECT(\"1:\"&ROWS(ballonperdus)))),ROWS($1:$29))),\"\")","v":""},{"$f":"IF(ROWS($1:$30)<=COUNTIF(joueurs,$B53),INDEX(ballonperdus,SMALL(IF(joueurs=$B53,ROW(INDIRECT(\"1:\"&ROWS(ballonperdus)))),ROWS($1:$30))),\"\")","v":""},{"$f":"IF(ROWS($1:$21)<=COUNTIF(joueurs,$B53),INDEX(interceptions,SMALL(IF(joueurs=$B53,ROW(INDIRECT(\"1:\"&ROWS(interceptions)))),ROWS($1:$21))),\"\")","v":""},{"$f":"IF(ROWS($1:$22)<=COUNTIF(joueurs,$B53),INDEX(interceptions,SMALL(IF(joueurs=$B53,ROW(INDIRECT(\"1:\"&ROWS(interceptions)))),ROWS($1:$22))),\"\")","v":""},{"$f":"IF(ROWS($1:$23)<=COUNTIF(joueurs,$B53),INDEX(interceptions,SMALL(IF(joueurs=$B53,ROW(INDIRECT(\"1:\"&ROWS(interceptions)))),ROWS($1:$23))),\"\")","v":""},{"$f":"IF(ROWS($1:$24)<=COUNTIF(joueurs,$B53),INDEX(interceptions,SMALL(IF(joueurs=$B53,ROW(INDIRECT(\"1:\"&ROWS(interceptions)))),ROWS($1:$24))),\"\")","v":""},{"$f":"IF(ROWS($1:$25)<=COUNTIF(joueurs,$B53),INDEX(interceptions,SMALL(IF(joueurs=$B53,ROW(INDIRECT(\"1:\"&ROWS(interceptions)))),ROWS($1:$25))),\"\")","v":""},{"$f":"IF(ROWS($1:$26)<=COUNTIF(joueurs,$B53),INDEX(interceptions,SMALL(IF(joueurs=$B53,ROW(INDIRECT(\"1:\"&ROWS(interceptions)))),ROWS($1:$26))),\"\")","v":""},{"$f":"IF(ROWS($1:$27)<=COUNTIF(joueurs,$B53),INDEX(interceptions,SMALL(IF(joueurs=$B53,ROW(INDIRECT(\"1:\"&ROWS(interceptions)))),ROWS($1:$27))),\"\")","v":""},{"$f":"IF(ROWS($1:$28)<=COUNTIF(joueurs,$B53),INDEX(interceptions,SMALL(IF(joueurs=$B53,ROW(INDIRECT(\"1:\"&ROWS(interceptions)))),ROWS($1:$28))),\"\")","v":""},{"$f":"IF(ROWS($1:$29)<=COUNTIF(joueurs,$B53),INDEX(interceptions,SMALL(IF(joueurs=$B53,ROW(INDIRECT(\"1:\"&ROWS(interceptions)))),ROWS($1:$29))),\"\")","v":""},{"$f":"IF(ROWS($1:$30)<=COUNTIF(joueurs,$B53),INDEX(interceptions,SMALL(IF(joueurs=$B53,ROW(INDIRECT(\"1:\"&ROWS(interceptions)))),ROWS($1:$30))),\"\")","v":""},{"$f":"IF(ROWS($1:$21)<=COUNTIF(joueurs,$B53),INDEX(ballonrecuperes,SMALL(IF(joueurs=$B53,ROW(INDIRECT(\"1:\"&ROWS(ballonrecuperes)))),ROWS($1:$21))),\"\")","v":""},{"$f":"IF(ROWS($1:$22)<=COUNTIF(joueurs,$B53),INDEX(ballonrecuperes,SMALL(IF(joueurs=$B53,ROW(INDIRECT(\"1:\"&ROWS(ballonrecuperes)))),ROWS($1:$22))),\"\")","v":""},{"$f":"IF(ROWS($1:$23)<=COUNTIF(joueurs,$B53),INDEX(ballonrecuperes,SMALL(IF(joueurs=$B53,ROW(INDIRECT(\"1:\"&ROWS(ballonrecuperes)))),ROWS($1:$23))),\"\")","v":""},{"$f":"IF(ROWS($1:$24)<=COUNTIF(joueurs,$B53),INDEX(ballonrecuperes,SMALL(IF(joueurs=$B53,ROW(INDIRECT(\"1:\"&ROWS(ballonrecuperes)))),ROWS($1:$24))),\"\")","v":""},{"$f":"IF(ROWS($1:$25)<=COUNTIF(joueurs,$B53),INDEX(ballonrecuperes,SMALL(IF(joueurs=$B53,ROW(INDIRECT(\"1:\"&ROWS(ballonrecuperes)))),ROWS($1:$25))),\"\")","v":""},{"$f":"IF(ROWS($1:$26)<=COUNTIF(joueurs,$B53),INDEX(ballonrecuperes,SMALL(IF(joueurs=$B53,ROW(INDIRECT(\"1:\"&ROWS(ballonrecuperes)))),ROWS($1:$26))),\"\")","v":""},{"$f":"IF(ROWS($1:$27)<=COUNTIF(joueurs,$B53),INDEX(ballonrecuperes,SMALL(IF(joueurs=$B53,ROW(INDIRECT(\"1:\"&ROWS(ballonrecuperes)))),ROWS($1:$27))),\"\")","v":""},{"$f":"IF(ROWS($1:$28)<=COUNTIF(joueurs,$B53),INDEX(ballonrecuperes,SMALL(IF(joueurs=$B53,ROW(INDIRECT(\"1:\"&ROWS(ballonrecuperes)))),ROWS($1:$28))),\"\")","v":""},{"$f":"IF(ROWS($1:$29)<=COUNTIF(joueurs,$B53),INDEX(ballonrecuperes,SMALL(IF(joueurs=$B53,ROW(INDIRECT(\"1:\"&ROWS(ballonrecuperes)))),ROWS($1:$29))),\"\")","v":""},{"$f":"IF(ROWS($1:$30)<=COUNTIF(joueurs,$B53),INDEX(ballonrecuperes,SMALL(IF(joueurs=$B53,ROW(INDIRECT(\"1:\"&ROWS(ballonrecuperes)))),ROWS($1:$30))),\"\")","v":""},{"$f":"IF(ROWS($1:$21)<=COUNTIF(joueurs,$B53),INDEX(tirs,SMALL(IF(joueurs=$B53,ROW(INDIRECT(\"1:\"&ROWS(tirs)))),ROWS($1:$21))),\"\")","v":""},{"$f":"IF(ROWS($1:$22)<=COUNTIF(joueurs,$B53),INDEX(tirs,SMALL(IF(joueurs=$B53,ROW(INDIRECT(\"1:\"&ROWS(tirs)))),ROWS($1:$22))),\"\")","v":""},{"$f":"IF(ROWS($1:$23)<=COUNTIF(joueurs,$B53),INDEX(tirs,SMALL(IF(joueurs=$B53,ROW(INDIRECT(\"1:\"&ROWS(tirs)))),ROWS($1:$23))),\"\")","v":""},{"$f":"IF(ROWS($1:$24)<=COUNTIF(joueurs,$B53),INDEX(tirs,SMALL(IF(joueurs=$B53,ROW(INDIRECT(\"1:\"&ROWS(tirs)))),ROWS($1:$24))),\"\")","v":""},{"$f":"IF(ROWS($1:$25)<=COUNTIF(joueurs,$B53),INDEX(tirs,SMALL(IF(joueurs=$B53,ROW(INDIRECT(\"1:\"&ROWS(tirs)))),ROWS($1:$25))),\"\")","v":""},{"$f":"IF(ROWS($1:$26)<=COUNTIF(joueurs,$B53),INDEX(tirs,SMALL(IF(joueurs=$B53,ROW(INDIRECT(\"1:\"&ROWS(tirs)))),ROWS($1:$26))),\"\")","v":""},{"$f":"IF(ROWS($1:$27)<=COUNTIF(joueurs,$B53),INDEX(tirs,SMALL(IF(joueurs=$B53,ROW(INDIRECT(\"1:\"&ROWS(tirs)))),ROWS($1:$27))),\"\")","v":""},{"$f":"IF(ROWS($1:$28)<=COUNTIF(joueurs,$B53),INDEX(tirs,SMALL(IF(joueurs=$B53,ROW(INDIRECT(\"1:\"&ROWS(tirs)))),ROWS($1:$28))),\"\")","v":""},{"$f":"IF(ROWS($1:$29)<=COUNTIF(joueurs,$B53),INDEX(tirs,SMALL(IF(joueurs=$B53,ROW(INDIRECT(\"1:\"&ROWS(tirs)))),ROWS($1:$29))),\"\")","v":""},{"$f":"IF(ROWS($1:$30)<=COUNTIF(joueurs,$B53),INDEX(tirs,SMALL(IF(joueurs=$B53,ROW(INDIRECT(\"1:\"&ROWS(tirs)))),ROWS($1:$30))),\"\")","v":""},{"$f":"IF(ROWS($1:$21)<=COUNTIF(joueurs,$B53),INDEX(bontirs,SMALL(IF(joueurs=$B53,ROW(INDIRECT(\"1:\"&ROWS(bontirs)))),ROWS($1:$21))),\"\")","v":""},{"$f":"IF(ROWS($1:$22)<=COUNTIF(joueurs,$B53),INDEX(bontirs,SMALL(IF(joueurs=$B53,ROW(INDIRECT(\"1:\"&ROWS(bontirs)))),ROWS($1:$22))),\"\")","v":""},{"$f":"IF(ROWS($1:$23)<=COUNTIF(joueurs,$B53),INDEX(bontirs,SMALL(IF(joueurs=$B53,ROW(INDIRECT(\"1:\"&ROWS(bontirs)))),ROWS($1:$23))),\"\")","v":""},{"$f":"IF(ROWS($1:$24)<=COUNTIF(joueurs,$B53),INDEX(bontirs,SMALL(IF(joueurs=$B53,ROW(INDIRECT(\"1:\"&ROWS(bontirs)))),ROWS($1:$24))),\"\")","v":""},{"$f":"IF(ROWS($1:$25)<=COUNTIF(joueurs,$B53),INDEX(bontirs,SMALL(IF(joueurs=$B53,ROW(INDIRECT(\"1:\"&ROWS(bontirs)))),ROWS($1:$25))),\"\")","v":""},{"$f":"IF(ROWS($1:$26)<=COUNTIF(joueurs,$B53),INDEX(bontirs,SMALL(IF(joueurs=$B53,ROW(INDIRECT(\"1:\"&ROWS(bontirs)))),ROWS($1:$26))),\"\")","v":""},{"$f":"IF(ROWS($1:$27)<=COUNTIF(joueurs,$B53),INDEX(bontirs,SMALL(IF(joueurs=$B53,ROW(INDIRECT(\"1:\"&ROWS(bontirs)))),ROWS($1:$27))),\"\")","v":""},{"$f":"IF(ROWS($1:$28)<=COUNTIF(joueurs,$B53),INDEX(bontirs,SMALL(IF(joueurs=$B53,ROW(INDIRECT(\"1:\"&ROWS(bontirs)))),ROWS($1:$28))),\"\")","v":""},{"$f":"IF(ROWS($1:$29)<=COUNTIF(joueurs,$B53),INDEX(bontirs,SMALL(IF(joueurs=$B53,ROW(INDIRECT(\"1:\"&ROWS(bontirs)))),ROWS($1:$29))),\"\")","v":""},{"$f":"IF(ROWS($1:$30)<=COUNTIF(joueurs,$B53),INDEX(bontirs,SMALL(IF(joueurs=$B53,ROW(INDIRECT(\"1:\"&ROWS(bontirs)))),ROWS($1:$30))),\"\")","v":""},{"$f":"IF(ROWS($1:$21)<=COUNTIF(joueurs,$B53),INDEX(points,SMALL(IF(joueurs=$B53,ROW(INDIRECT(\"1:\"&ROWS(points)))),ROWS($1:$21))),\"\")","v":""},{"$f":"IF(ROWS($1:$22)<=COUNTIF(joueurs,$B53),INDEX(points,SMALL(IF(joueurs=$B53,ROW(INDIRECT(\"1:\"&ROWS(points)))),ROWS($1:$22))),\"\")","v":""},{"$f":"IF(ROWS($1:$23)<=COUNTIF(joueurs,$B53),INDEX(points,SMALL(IF(joueurs=$B53,ROW(INDIRECT(\"1:\"&ROWS(points)))),ROWS($1:$23))),\"\")","v":""},{"$f":"IF(ROWS($1:$24)<=COUNTIF(joueurs,$B53),INDEX(points,SMALL(IF(joueurs=$B53,ROW(INDIRECT(\"1:\"&ROWS(points)))),ROWS($1:$24))),\"\")","v":""},{"$f":"IF(ROWS($1:$25)<=COUNTIF(joueurs,$B53),INDEX(points,SMALL(IF(joueurs=$B53,ROW(INDIRECT(\"1:\"&ROWS(points)))),ROWS($1:$25))),\"\")","v":""},{"$f":"IF(ROWS($1:$26)<=COUNTIF(joueurs,$B53),INDEX(points,SMALL(IF(joueurs=$B53,ROW(INDIRECT(\"1:\"&ROWS(points)))),ROWS($1:$26))),\"\")","v":""},{"$f":"IF(ROWS($1:$27)<=COUNTIF(joueurs,$B53),INDEX(points,SMALL(IF(joueurs=$B53,ROW(INDIRECT(\"1:\"&ROWS(points)))),ROWS($1:$27))),\"\")","v":""},{"$f":"IF(ROWS($1:$28)<=COUNTIF(joueurs,$B53),INDEX(points,SMALL(IF(joueurs=$B53,ROW(INDIRECT(\"1:\"&ROWS(points)))),ROWS($1:$28))),\"\")","v":""},{"$f":"IF(ROWS($1:$29)<=COUNTIF(joueurs,$B53),INDEX(points,SMALL(IF(joueurs=$B53,ROW(INDIRECT(\"1:\"&ROWS(points)))),ROWS($1:$29))),\"\")","v":""},{"$f":"IF(ROWS($1:$30)<=COUNTIF(joueurs,$B53),INDEX(points,SMALL(IF(joueurs=$B53,ROW(INDIRECT(\"1:\"&ROWS(points)))),ROWS($1:$30))),\"\")","v":""},{"$f":"IF(ROWS($1:$21)<=COUNTIF(joueurs,$B53),INDEX(victoires,SMALL(IF(joueurs=$B53,ROW(INDIRECT(\"1:\"&ROWS(victoires)))),ROWS($1:$21))),\"\")","v":""},{"$f":"IF(ROWS($1:$22)<=COUNTIF(joueurs,$B53),INDEX(victoires,SMALL(IF(joueurs=$B53,ROW(INDIRECT(\"1:\"&ROWS(victoires)))),ROWS($1:$22))),\"\")","v":""},{"$f":"IF(ROWS($1:$23)<=COUNTIF(joueurs,$B53),INDEX(victoires,SMALL(IF(joueurs=$B53,ROW(INDIRECT(\"1:\"&ROWS(victoires)))),ROWS($1:$23))),\"\")","v":""},{"$f":"IF(ROWS($1:$24)<=COUNTIF(joueurs,$B53),INDEX(victoires,SMALL(IF(joueurs=$B53,ROW(INDIRECT(\"1:\"&ROWS(victoires)))),ROWS($1:$24))),\"\")","v":""},{"$f":"IF(ROWS($1:$25)<=COUNTIF(joueurs,$B53),INDEX(victoires,SMALL(IF(joueurs=$B53,ROW(INDIRECT(\"1:\"&ROWS(victoires)))),ROWS($1:$25))),\"\")","v":""},{"$f":"IF(ROWS($1:$26)<=COUNTIF(joueurs,$B53),INDEX(victoires,SMALL(IF(joueurs=$B53,ROW(INDIRECT(\"1:\"&ROWS(victoires)))),ROWS($1:$26))),\"\")","v":""},{"$f":"IF(ROWS($1:$27)<=COUNTIF(joueurs,$B53),INDEX(victoires,SMALL(IF(joueurs=$B53,ROW(INDIRECT(\"1:\"&ROWS(victoires)))),ROWS($1:$27))),\"\")","v":""},{"$f":"IF(ROWS($1:$28)<=COUNTIF(joueurs,$B53),INDEX(victoires,SMALL(IF(joueurs=$B53,ROW(INDIRECT(\"1:\"&ROWS(victoires)))),ROWS($1:$28))),\"\")","v":""},{"$f":"IF(ROWS($1:$29)<=COUNTIF(joueurs,$B53),INDEX(victoires,SMALL(IF(joueurs=$B53,ROW(INDIRECT(\"1:\"&ROWS(victoires)))),ROWS($1:$29))),\"\")","v":""},{"$f":"IF(ROWS($1:$30)<=COUNTIF(joueurs,$B53),INDEX(victoires,SMALL(IF(joueurs=$B53,ROW(INDIRECT(\"1:\"&ROWS(victoires)))),ROWS($1:$30))),\"\")","v":""}]
[null,null,null,{"$f":"IF(ROWS($1:$31)<=COUNTIF(joueurs,$B53),INDEX(fautes,SMALL(IF(joueurs=$B53,ROW(INDIRECT(\"1:\"&ROWS(fautes)))),ROWS($1:$31))),\"\")","v":""},{"$f":"IF(ROWS($1:$32)<=COUNTIF(joueurs,$B53),INDEX(fautes,SMALL(IF(joueurs=$B53,ROW(INDIRECT(\"1:\"&ROWS(fautes)))),ROWS($1:$32))),\"\")","v":""},{"$f":"IF(ROWS($1:$33)<=COUNTIF(joueurs,$B53),INDEX(fautes,SMALL(IF(joueurs=$B53,ROW(INDIRECT(\"1:\"&ROWS(fautes)))),ROWS($1:$33))),\"\")","v":""},{"$f":"IF(ROWS($1:$34)<=COUNTIF(joueurs,$B53),INDEX(fautes,SMALL(IF(joueurs=$B53,ROW(INDIRECT(\"1:\"&ROWS(fautes)))),ROWS($1:$34))),\"\")","v":""},{"$f":"IF(ROWS($1:$35)<=COUNTIF(joueurs,$B53),INDEX(fautes,SMALL(IF(joueurs=$B53,ROW(INDIRECT(\"1:\"&ROWS(fautes)))),ROWS($1:$35))),\"\")","v":""},{"$f":"IF(ROWS($1:$36)<=COUNTIF(joueurs,$B53),INDEX(fautes,SMALL(IF(joueurs=$B53,ROW(INDIRECT(\"1:\"&ROWS(fautes)))),ROWS($1:$36))),\"\")","v":""},{"$f":"IF(ROWS($1:$37)<=COUNTIF(joueurs,$B53),INDEX(fautes,SMALL(IF(joueurs=$B53,ROW(INDIRECT(\"1:\"&ROWS(fautes)))),ROWS($1:$37))),\"\")","v":""},{"$f":"IF(ROWS($1:$38)<=COUNTIF(joueurs,$B53),INDEX(fautes,SMALL(IF(joueurs=$B53,ROW(INDIRECT(\"1:\"&ROWS(fautes)))),ROWS($1:$38))),\"\")","v":""},{"$f":"IF(ROWS($1:$39)<=COUNTIF(joueurs,$B53),INDEX(fautes,SMALL(IF(joueurs=$B53,ROW(INDIRECT(\"1:\"&ROWS(fautes)))),ROWS($1:$39))),\"\")","v":""},{"$f":"IF(ROWS($1:$40)<=COUNTIF(joueurs,$B53),INDEX(fautes,SMALL(IF(joueurs=$B53,ROW(INDIRECT(\"1:\"&ROWS(fautes)))),ROWS($1:$40))),\"\")","v":""},{"$f":"IF(ROWS($1:$31)<=COUNTIF(joueurs,$B53),INDEX(ballonperdus,SMALL(IF(joueurs=$B53,ROW(INDIRECT(\"1:\"&ROWS(ballonperdus)))),ROWS($1:$31))),\"\")","v":""},{"$f":"IF(ROWS($1:$32)<=COUNTIF(joueurs,$B53),INDEX(ballonperdus,SMALL(IF(joueurs=$B53,ROW(INDIRECT(\"1:\"&ROWS(ballonperdus)))),ROWS($1:$32))),\"\")","v":""},{"$f":"IF(ROWS($1:$33)<=COUNTIF(joueurs,$B53),INDEX(ballonperdus,SMALL(IF(joueurs=$B53,ROW(INDIRECT(\"1:\"&ROWS(ballonperdus)))),ROWS($1:$33))),\"\")","v":""},{"$f":"IF(ROWS($1:$34)<=COUNTIF(joueurs,$B53),INDEX(ballonperdus,SMALL(IF(joueurs=$B53,ROW(INDIRECT(\"1:\"&ROWS(ballonperdus)))),ROWS($1:$34))),\"\")","v":""},{"$f":"IF(ROWS($1:$35)<=COUNTIF(joueurs,$B53),INDEX(ballonperdus,SMALL(IF(joueurs=$B53,ROW(INDIRECT(\"1:\"&ROWS(ballonperdus)))),ROWS($1:$35))),\"\")","v":""},{"$f":"IF(ROWS($1:$36)<=COUNTIF(joueurs,$B53),INDEX(ballonperdus,SMALL(IF(joueurs=$B53,ROW(INDIRECT(\"1:\"&ROWS(ballonperdus)))),ROWS($1:$36))),\"\")","v":""},{"$f":"IF(ROWS($1:$37)<=COUNTIF(joueurs,$B53),INDEX(ballonperdus,SMALL(IF(joueurs=$B53,ROW(INDIRECT(\"1:\"&ROWS(ballonperdus)))),ROWS($1:$37))),\"\")","v":""},{"$f":"IF(ROWS($1:$38)<=COUNTIF(joueurs,$B53),INDEX(ballonperdus,SMALL(IF(joueurs=$B53,ROW(INDIRECT(\"1:\"&ROWS(ballonperdus)))),ROWS($1:$38))),\"\")","v":""},{"$f":"IF(ROWS($1:$39)<=COUNTIF(joueurs,$B53),INDEX(ballonperdus,SMALL(IF(joueurs=$B53,ROW(INDIRECT(\"1:\"&ROWS(ballonperdus)))),ROWS($1:$39))),\"\")","v":""},{"$f":"IF(ROWS($1:$40)<=COUNTIF(joueurs,$B53),INDEX(ballonperdus,SMALL(IF(joueurs=$B53,ROW(INDIRECT(\"1:\"&ROWS(ballonperdus)))),ROWS($1:$40))),\"\")","v":""},{"$f":"IF(ROWS($1:$31)<=COUNTIF(joueurs,$B53),INDEX(interceptions,SMALL(IF(joueurs=$B53,ROW(INDIRECT(\"1:\"&ROWS(interceptions)))),ROWS($1:$31))),\"\")","v":""},{"$f":"IF(ROWS($1:$32)<=COUNTIF(joueurs,$B53),INDEX(interceptions,SMALL(IF(joueurs=$B53,ROW(INDIRECT(\"1:\"&ROWS(interceptions)))),ROWS($1:$32))),\"\")","v":""},{"$f":"IF(ROWS($1:$33)<=COUNTIF(joueurs,$B53),INDEX(interceptions,SMALL(IF(joueurs=$B53,ROW(INDIRECT(\"1:\"&ROWS(interceptions)))),ROWS($1:$33))),\"\")","v":""},{"$f":"IF(ROWS($1:$34)<=COUNTIF(joueurs,$B53),INDEX(interceptions,SMALL(IF(joueurs=$B53,ROW(INDIRECT(\"1:\"&ROWS(interceptions)))),ROWS($1:$34))),\"\")","v":""},{"$f":"IF(ROWS($1:$35)<=COUNTIF(joueurs,$B53),INDEX(interceptions,SMALL(IF(joueurs=$B53,ROW(INDIRECT(\"1:\"&ROWS(interceptions)))),ROWS($1:$35))),\"\")","v":""},{"$f":"IF(ROWS($1:$36)<=COUNTIF(joueurs,$B53),INDEX(interceptions,SMALL(IF(joueurs=$B53,ROW(INDIRECT(\"1:\"&ROWS(interceptions)))),ROWS($1:$36))),\"\")","v":""},{"$f":"IF(ROWS($1:$37)<=COUNTIF(joueurs,$B53),INDEX(interceptions,SMALL(IF(joueurs=$B53,ROW(INDIRECT(\"1:\"&ROWS(interceptions)))),ROWS($1:$37))),\"\")","v":""},{"$f":"IF(ROWS($1:$38)<=COUNTIF(joueurs,$B53),INDEX(interceptions,SMALL(IF(joueurs=$B53,ROW(INDIRECT(\"1:\"&ROWS(interceptions)))),ROWS($1:$38))),\"\")","v":""},{"$f":"IF(ROWS($1:$39)<=COUNTIF(joueurs,$B53),INDEX(interceptions,SMALL(IF(joueurs=$B53,ROW(INDIRECT(\"1:\"&ROWS(interceptions)))),ROWS($1:$39))),\"\")","v":""},{"$f":"IF(ROWS($1:$40)<=COUNTIF(joueurs,$B53),INDEX(interceptions,SMALL(IF(joueurs=$B53,ROW(INDIRECT(\"1:\"&ROWS(interceptions)))),ROWS($1:$40))),\"\")","v":""},{"$f":"IF(ROWS($1:$31)<=COUNTIF(joueurs,$B53),INDEX(ballonrecuperes,SMALL(IF(joueurs=$B53,ROW(INDIRECT(\"1:\"&ROWS(ballonrecuperes)))),ROWS($1:$31))),\"\")","v":""},{"$f":"IF(ROWS($1:$32)<=COUNTIF(joueurs,$B53),INDEX(ballonrecuperes,SMALL(IF(joueurs=$B53,ROW(INDIRECT(\"1:\"&ROWS(ballonrecuperes)))),ROWS($1:$32))),\"\")","v":""},{"$f":"IF(ROWS($1:$33)<=COUNTIF(joueurs,$B53),INDEX(ballonrecuperes,SMALL(IF(joueurs=$B53,ROW(INDIRECT(\"1:\"&ROWS(ballonrecuperes)))),ROWS($1:$33))),\"\")","v":""},{"$f":"IF(ROWS($1:$34)<=COUNTIF(joueurs,$B53),INDEX(ballonrecuperes,SMALL(IF(joueurs=$B53,ROW(INDIRECT(\"1:\"&ROWS(ballonrecuperes)))),ROWS($1:$34))),\"\")","v":""},{"$f":"IF(ROWS($1:$35)<=COUNTIF(joueurs,$B53),INDEX(ballonrecuperes,SMALL(IF(joueurs=$B53,ROW(INDIRECT(\"1:\"&ROWS(ballonrecuperes)))),ROWS($1:$35))),\"\")","v":""},{"$f":"IF(ROWS($1:$36)<=COUNTIF(joueurs,$B53),INDEX(ballonrecuperes,SMALL(IF(joueurs=$B53,ROW(INDIRECT(\"1:\"&ROWS(ballonrecuperes)))),ROWS($1:$36))),\"\")","v":""},{"$f":"IF(ROWS($1:$37)<=COUNTIF(joueurs,$B53),INDEX(ballonrecuperes,SMALL(IF(joueurs=$B53,ROW(INDIRECT(\"1:\"&ROWS(ballonrecuperes)))),ROWS($1:$37))),\"\")","v":""},{"$f":"IF(ROWS($1:$38)<=COUNTIF(joueurs,$B53),INDEX(ballonrecuperes,SMALL(IF(joueurs=$B53,ROW(INDIRECT(\"1:\"&ROWS(ballonrecuperes)))),ROWS($1:$38))),\"\")","v":""},{"$f":"IF(ROWS($1:$39)<=COUNTIF(joueurs,$B53),INDEX(ballonrecuperes,SMALL(IF(joueurs=$B53,ROW(INDIRECT(\"1:\"&ROWS(ballonrecuperes)))),ROWS($1:$39))),\"\")","v":""},{"$f":"IF(ROWS($1:$40)<=COUNTIF(joueurs,$B53),INDEX(ballonrecuperes,SMALL(IF(joueurs=$B53,ROW(INDIRECT(\"1:\"&ROWS(ballonrecuperes)))),ROWS($1:$40))),\"\")","v":""},{"$f":"IF(ROWS($1:$31)<=COUNTIF(joueurs,$B53),INDEX(tirs,SMALL(IF(joueurs=$B53,ROW(INDIRECT(\"1:\"&ROWS(tirs)))),ROWS($1:$31))),\"\")","v":""},{"$f":"IF(ROWS($1:$32)<=COUNTIF(joueurs,$B53),INDEX(tirs,SMALL(IF(joueurs=$B53,ROW(INDIRECT(\"1:\"&ROWS(tirs)))),ROWS($1:$32))),\"\")","v":""},{"$f":"IF(ROWS($1:$33)<=COUNTIF(joueurs,$B53),INDEX(tirs,SMALL(IF(joueurs=$B53,ROW(INDIRECT(\"1:\"&ROWS(tirs)))),ROWS($1:$33))),\"\")","v":""},{"$f":"IF(ROWS($1:$34)<=COUNTIF(joueurs,$B53),INDEX(tirs,SMALL(IF(joueurs=$B53,ROW(INDIRECT(\"1:\"&ROWS(tirs)))),ROWS($1:$34))),\"\")","v":""},{"$f":"IF(ROWS($1:$35)<=COUNTIF(joueurs,$B53),INDEX(tirs,SMALL(IF(joueurs=$B53,ROW(INDIRECT(\"1:\"&ROWS(tirs)))),ROWS($1:$35))),\"\")","v":""},{"$f":"IF(ROWS($1:$36)<=COUNTIF(joueurs,$B53),INDEX(tirs,SMALL(IF(joueurs=$B53,ROW(INDIRECT(\"1:\"&ROWS(tirs)))),ROWS($1:$36))),\"\")","v":""},{"$f":"IF(ROWS($1:$37)<=COUNTIF(joueurs,$B53),INDEX(tirs,SMALL(IF(joueurs=$B53,ROW(INDIRECT(\"1:\"&ROWS(tirs)))),ROWS($1:$37))),\"\")","v":""},{"$f":"IF(ROWS($1:$38)<=COUNTIF(joueurs,$B53),INDEX(tirs,SMALL(IF(joueurs=$B53,ROW(INDIRECT(\"1:\"&ROWS(tirs)))),ROWS($1:$38))),\"\")","v":""},{"$f":"IF(ROWS($1:$39)<=COUNTIF(joueurs,$B53),INDEX(tirs,SMALL(IF(joueurs=$B53,ROW(INDIRECT(\"1:\"&ROWS(tirs)))),ROWS($1:$39))),\"\")","v":""},{"$f":"IF(ROWS($1:$40)<=COUNTIF(joueurs,$B53),INDEX(tirs,SMALL(IF(joueurs=$B53,ROW(INDIRECT(\"1:\"&ROWS(tirs)))),ROWS($1:$40))),\"\")","v":""},{"$f":"IF(ROWS($1:$31)<=COUNTIF(joueurs,$B53),INDEX(bontirs,SMALL(IF(joueurs=$B53,ROW(INDIRECT(\"1:\"&ROWS(bontirs)))),ROWS($1:$31))),\"\")","v":""},{"$f":"IF(ROWS($1:$32)<=COUNTIF(joueurs,$B53),INDEX(bontirs,SMALL(IF(joueurs=$B53,ROW(INDIRECT(\"1:\"&ROWS(bontirs)))),ROWS($1:$32))),\"\")","v":""},{"$f":"IF(ROWS($1:$33)<=COUNTIF(joueurs,$B53),INDEX(bontirs,SMALL(IF(joueurs=$B53,ROW(INDIRECT(\"1:\"&ROWS(bontirs)))),ROWS($1:$33))),\"\")","v":""},{"$f":"IF(ROWS($1:$34)<=COUNTIF(joueurs,$B53),INDEX(bontirs,SMALL(IF(joueurs=$B53,ROW(INDIRECT(\"1:\"&ROWS(bontirs)))),ROWS($1:$34))),\"\")","v":""},{"$f":"IF(ROWS($1:$35)<=COUNTIF(joueurs,$B53),INDEX(bontirs,SMALL(IF(joueurs=$B53,ROW(INDIRECT(\"1:\"&ROWS(bontirs)))),ROWS($1:$35))),\"\")","v":""},{"$f":"IF(ROWS($1:$36)<=COUNTIF(joueurs,$B53),INDEX(bontirs,SMALL(IF(joueurs=$B53,ROW(INDIRECT(\"1:\"&ROWS(bontirs)))),ROWS($1:$36))),\"\")","v":""},{"$f":"IF(ROWS($1:$37)<=COUNTIF(joueurs,$B53),INDEX(bontirs,SMALL(IF(joueurs=$B53,ROW(INDIRECT(\"1:\"&ROWS(bontirs)))),ROWS($1:$37))),\"\")","v":""},{"$f":"IF(ROWS($1:$38)<=COUNTIF(joueurs,$B53),INDEX(bontirs,SMALL(IF(joueurs=$B53,ROW(INDIRECT(\"1:\"&ROWS(bontirs)))),ROWS($1:$38))),\"\")","v":""},{"$f":"IF(ROWS($1:$39)<=COUNTIF(joueurs,$B53),INDEX(bontirs,SMALL(IF(joueurs=$B53,ROW(INDIRECT(\"1:\"&ROWS(bontirs)))),ROWS($1:$39))),\"\")","v":""},{"$f":"IF(ROWS($1:$40)<=COUNTIF(joueurs,$B53),INDEX(bontirs,SMALL(IF(joueurs=$B53,ROW(INDIRECT(\"1:\"&ROWS(bontirs)))),ROWS($1:$40))),\"\")","v":""},{"$f":"IF(ROWS($1:$31)<=COUNTIF(joueurs,$B53),INDEX(points,SMALL(IF(joueurs=$B53,ROW(INDIRECT(\"1:\"&ROWS(points)))),ROWS($1:$31))),\"\")","v":""},{"$f":"IF(ROWS($1:$32)<=COUNTIF(joueurs,$B53),INDEX(points,SMALL(IF(joueurs=$B53,ROW(INDIRECT(\"1:\"&ROWS(points)))),ROWS($1:$32))),\"\")","v":""},{"$f":"IF(ROWS($1:$33)<=COUNTIF(joueurs,$B53),INDEX(points,SMALL(IF(joueurs=$B53,ROW(INDIRECT(\"1:\"&ROWS(points)))),ROWS($1:$33))),\"\")","v":""},{"$f":"IF(ROWS($1:$34)<=COUNTIF(joueurs,$B53),INDEX(points,SMALL(IF(joueurs=$B53,ROW(INDIRECT(\"1:\"&ROWS(points)))),ROWS($1:$34))),\"\")","v":""},{"$f":"IF(ROWS($1:$35)<=COUNTIF(joueurs,$B53),INDEX(points,SMALL(IF(joueurs=$B53,ROW(INDIRECT(\"1:\"&ROWS(points)))),ROWS($1:$35))),\"\")","v":""},{"$f":"IF(ROWS($1:$36)<=COUNTIF(joueurs,$B53),INDEX(points,SMALL(IF(joueurs=$B53,ROW(INDIRECT(\"1:\"&ROWS(points)))),ROWS($1:$36))),\"\")","v":""},{"$f":"IF(ROWS($1:$37)<=COUNTIF(joueurs,$B53),INDEX(points,SMALL(IF(joueurs=$B53,ROW(INDIRECT(\"1:\"&ROWS(points)))),ROWS($1:$37))),\"\")","v":""},{"$f":"IF(ROWS($1:$38)<=COUNTIF(joueurs,$B53),INDEX(points,SMALL(IF(joueurs=$B53,ROW(INDIRECT(\"1:\"&ROWS(points)))),ROWS($1:$38))),\"\")","v":""},{"$f":"IF(ROWS($1:$39)<=COUNTIF(joueurs,$B53),INDEX(points,SMALL(IF(joueurs=$B53,ROW(INDIRECT(\"1:\"&ROWS(points)))),ROWS($1:$39))),\"\")","v":""},{"$f":"IF(ROWS($1:$40)<=COUNTIF(joueurs,$B53),INDEX(points,SMALL(IF(joueurs=$B53,ROW(INDIRECT(\"1:\"&ROWS(points)))),ROWS($1:$40))),\"\")","v":""},{"$f":"IF(ROWS($1:$31)<=COUNTIF(joueurs,$B53),INDEX(victoires,SMALL(IF(joueurs=$B53,ROW(INDIRECT(\"1:\"&ROWS(victoires)))),ROWS($1:$31))),\"\")","v":""},{"$f":"IF(ROWS($1:$32)<=COUNTIF(joueurs,$B53),INDEX(victoires,SMALL(IF(joueurs=$B53,ROW(INDIRECT(\"1:\"&ROWS(victoires)))),ROWS($1:$32))),\"\")","v":""},{"$f":"IF(ROWS($1:$33)<=COUNTIF(joueurs,$B53),INDEX(victoires,SMALL(IF(joueurs=$B53,ROW(INDIRECT(\"1:\"&ROWS(victoires)))),ROWS($1:$33))),\"\")","v":""},{"$f":"IF(ROWS($1:$34)<=COUNTIF(joueurs,$B53),INDEX(victoires,SMALL(IF(joueurs=$B53,ROW(INDIRECT(\"1:\"&ROWS(victoires)))),ROWS($1:$34))),\"\")","v":""},{"$f":"IF(ROWS($1:$35)<=COUNTIF(joueurs,$B53),INDEX(victoires,SMALL(IF(joueurs=$B53,ROW(INDIRECT(\"1:\"&ROWS(victoires)))),ROWS($1:$35))),\"\")","v":""},{"$f":"IF(ROWS($1:$36)<=COUNTIF(joueurs,$B53),INDEX(victoires,SMALL(IF(joueurs=$B53,ROW(INDIRECT(\"1:\"&ROWS(victoires)))),ROWS($1:$36))),\"\")","v":""},{"$f":"IF(ROWS($1:$37)<=COUNTIF(joueurs,$B53),INDEX(victoires,SMALL(IF(joueurs=$B53,ROW(INDIRECT(\"1:\"&ROWS(victoires)))),ROWS($1:$37))),\"\")","v":""},{"$f":"IF(ROWS($1:$38)<=COUNTIF(joueurs,$B53),INDEX(victoires,SMALL(IF(joueurs=$B53,ROW(INDIRECT(\"1:\"&ROWS(victoires)))),ROWS($1:$38))),\"\")","v":""},{"$f":"IF(ROWS($1:$39)<=COUNTIF(joueurs,$B53),INDEX(victoires,SMALL(IF(joueurs=$B53,ROW(INDIRECT(\"1:\"&ROWS(victoires)))),ROWS($1:$39))),\"\")","v":""},{"$f":"IF(ROWS($1:$40)<=COUNTIF(joueurs,$B53),INDEX(victoires,SMALL(IF(joueurs=$B53,ROW(INDIRECT(\"1:\"&ROWS(victoires)))),ROWS($1:$40))),\"\")","v":""}]
[14,{"$f":"INDEX(eleves,MATCH(A57,numero,0),MATCH($B$2,classes,0))","v":"MAGIC"},null,{"$f":"IF(ROWS($1:$1)<=COUNTIF(joueurs,$B57),INDEX(fautes,SMALL(IF(joueurs=$B57,ROW(INDIRECT(\"1:\"&ROWS(fautes)))),ROWS($1:$1))),\"\")","v":""},{"$f":"IF(ROWS($1:$2)<=COUNTIF(joueurs,$B57),INDEX(fautes,SMALL(IF(joueurs=$B57,ROW(INDIRECT(\"1:\"&ROWS(fautes)))),ROWS($1:$2))),\"\")","v":""},{"$f":"IF(ROWS($1:$3)<=COUNTIF(joueurs,$B57),INDEX(fautes,SMALL(IF(joueurs=$B57,ROW(INDIRECT(\"1:\"&ROWS(fautes)))),ROWS($1:$3))),\"\")","v":""},{"$f":"IF(ROWS($1:$4)<=COUNTIF(joueurs,$B57),INDEX(fautes,SMALL(IF(joueurs=$B57,ROW(INDIRECT(\"1:\"&ROWS(fautes)))),ROWS($1:$4))),\"\")","v":""},{"$f":"IF(ROWS($1:$5)<=COUNTIF(joueurs,$B57),INDEX(fautes,SMALL(IF(joueurs=$B57,ROW(INDIRECT(\"1:\"&ROWS(fautes)))),ROWS($1:$5))),\"\")","v":""},{"$f":"IF(ROWS($1:$6)<=COUNTIF(joueurs,$B57),INDEX(fautes,SMALL(IF(joueurs=$B57,ROW(INDIRECT(\"1:\"&ROWS(fautes)))),ROWS($1:$6))),\"\")","v":""},{"$f":"IF(ROWS($1:$7)<=COUNTIF(joueurs,$B57),INDEX(fautes,SMALL(IF(joueurs=$B57,ROW(INDIRECT(\"1:\"&ROWS(fautes)))),ROWS($1:$7))),\"\")","v":""},{"$f":"IF(ROWS($1:$8)<=COUNTIF(joueurs,$B57),INDEX(fautes,SMALL(IF(joueurs=$B57,ROW(INDIRECT(\"1:\"&ROWS(fautes)))),ROWS($1:$8))),\"\")","v":""},{"$f":"IF(ROWS($1:$9)<=COUNTIF(joueurs,$B57),INDEX(fautes,SMALL(IF(joueurs=$B57,ROW(INDIRECT(\"1:\"&ROWS(fautes)))),ROWS($1:$9))),\"\")","v":""},{"$f":"IF(ROWS($1:$10)<=COUNTIF(joueurs,$B57),INDEX(fautes,SMALL(IF(joueurs=$B57,ROW(INDIRECT(\"1:\"&ROWS(fautes)))),ROWS($1:$10))),\"\")","v":""},{"$f":"IF(ROWS($1:$1)<=COUNTIF(joueurs,$B57),INDEX(ballonperdus,SMALL(IF(joueurs=$B57,ROW(INDIRECT(\"1:\"&ROWS(ballonperdus)))),ROWS($1:$1))),\"\")","v":""},{"$f":"IF(ROWS($1:$2)<=COUNTIF(joueurs,$B57),INDEX(ballonperdus,SMALL(IF(joueurs=$B57,ROW(INDIRECT(\"1:\"&ROWS(ballonperdus)))),ROWS($1:$2))),\"\")","v":""},{"$f":"IF(ROWS($1:$3)<=COUNTIF(joueurs,$B57),INDEX(ballonperdus,SMALL(IF(joueurs=$B57,ROW(INDIRECT(\"1:\"&ROWS(ballonperdus)))),ROWS($1:$3))),\"\")","v":""},{"$f":"IF(ROWS($1:$4)<=COUNTIF(joueurs,$B57),INDEX(ballonperdus,SMALL(IF(joueurs=$B57,ROW(INDIRECT(\"1:\"&ROWS(ballonperdus)))),ROWS($1:$4))),\"\")","v":""},{"$f":"IF(ROWS($1:$5)<=COUNTIF(joueurs,$B57),INDEX(ballonperdus,SMALL(IF(joueurs=$B57,ROW(INDIRECT(\"1:\"&ROWS(ballonperdus)))),ROWS($1:$5))),\"\")","v":""},{"$f":"IF(ROWS($1:$6)<=COUNTIF(joueurs,$B57),INDEX(ballonperdus,SMALL(IF(joueurs=$B57,ROW(INDIRECT(\"1:\"&ROWS(ballonperdus)))),ROWS($1:$6))),\"\")","v":""},{"$f":"IF(ROWS($1:$7)<=COUNTIF(joueurs,$B57),INDEX(ballonperdus,SMALL(IF(joueurs=$B57,ROW(INDIRECT(\"1:\"&ROWS(ballonperdus)))),ROWS($1:$7))),\"\")","v":""},{"$f":"IF(ROWS($1:$8)<=COUNTIF(joueurs,$B57),INDEX(ballonperdus,SMALL(IF(joueurs=$B57,ROW(INDIRECT(\"1:\"&ROWS(ballonperdus)))),ROWS($1:$8))),\"\")","v":""},{"$f":"IF(ROWS($1:$9)<=COUNTIF(joueurs,$B57),INDEX(ballonperdus,SMALL(IF(joueurs=$B57,ROW(INDIRECT(\"1:\"&ROWS(ballonperdus)))),ROWS($1:$9))),\"\")","v":""},{"$f":"IF(ROWS($1:$10)<=COUNTIF(joueurs,$B57),INDEX(ballonperdus,SMALL(IF(joueurs=$B57,ROW(INDIRECT(\"1:\"&ROWS(ballonperdus)))),ROWS($1:$10))),\"\")","v":""},{"$f":"IF(ROWS($1:$1)<=COUNTIF(joueurs,$B57),INDEX(interceptions,SMALL(IF(joueurs=$B57,ROW(INDIRECT(\"1:\"&ROWS(interceptions)))),ROWS($1:$1))),\"\")","v":""},{"$f":"IF(ROWS($1:$2)<=COUNTIF(joueurs,$B57),INDEX(interceptions,SMALL(IF(joueurs=$B57,ROW(INDIRECT(\"1:\"&ROWS(interceptions)))),ROWS($1:$2))),\"\")","v":""},{"$f":"IF(ROWS($1:$3)<=COUNTIF(joueurs,$B57),INDEX(interceptions,SMALL(IF(joueurs=$B57,ROW(INDIRECT(\"1:\"&ROWS(interceptions)))),ROWS($1:$3))),\"\")","v":""},{"$f":"IF(ROWS($1:$4)<=COUNTIF(joueurs,$B57),INDEX(interceptions,SMALL(IF(joueurs=$B57,ROW(INDIRECT(\"1:\"&ROWS(interceptions)))),ROWS($1:$4))),\"\")","v":""},{"$f":"IF(ROWS($1:$5)<=COUNTIF(joueurs,$B57),INDEX(interceptions,SMALL(IF(joueurs=$B57,ROW(INDIRECT(\"1:\"&ROWS(interceptions)))),ROWS($1:$5))),\"\")","v":""},{"$f":"IF(ROWS($1:$6)<=COUNTIF(joueurs,$B57),INDEX(interceptions,SMALL(IF(joueurs=$B57,ROW(INDIRECT(\"1:\"&ROWS(interceptions)))),ROWS($1:$6))),\"\")","v":""},{"$f":"IF(ROWS($1:$7)<=COUNTIF(joueurs,$B57),INDEX(interceptions,SMALL(IF(joueurs=$B57,ROW(INDIRECT(\"1:\"&ROWS(interceptions)))),ROWS($1:$7))),\"\")","v":""},{"$f":"IF(ROWS($1:$8)<=COUNTIF(joueurs,$B57),INDEX(interceptions,SMALL(IF(joueurs=$B57,ROW(INDIRECT(\"1:\"&ROWS(interceptions)))),ROWS($1:$8))),\"\")","v":""},{"$f":"IF(ROWS($1:$9)<=COUNTIF(joueurs,$B57),INDEX(interceptions,SMALL(IF(joueurs=$B57,ROW(INDIRECT(\"1:\"&ROWS(interceptions)))),ROWS($1:$9))),\"\")","v":""},{"$f":"IF(ROWS($1:$10)<=COUNTIF(joueurs,$B57),INDEX(interceptions,SMALL(IF(joueurs=$B57,ROW(INDIRECT(\"1:\"&ROWS(interceptions)))),ROWS($1:$10))),\"\")","v":""},{"$f":"IF(ROWS($1:$1)<=COUNTIF(joueurs,$B57),INDEX(ballonrecuperes,SMALL(IF(joueurs=$B57,ROW(INDIRECT(\"1:\"&ROWS(ballonrecuperes)))),ROWS($1:$1))),\"\")","v":""},{"$f":"IF(ROWS($1:$2)<=COUNTIF(joueurs,$B57),INDEX(ballonrecuperes,SMALL(IF(joueurs=$B57,ROW(INDIRECT(\"1:\"&ROWS(ballonrecuperes)))),ROWS($1:$2))),\"\")","v":""},{"$f":"IF(ROWS($1:$3)<=COUNTIF(joueurs,$B57),INDEX(ballonrecuperes,SMALL(IF(joueurs=$B57,ROW(INDIRECT(\"1:\"&ROWS(ballonrecuperes)))),ROWS($1:$3))),\"\")","v":""},{"$f":"IF(ROWS($1:$4)<=COUNTIF(joueurs,$B57),INDEX(ballonrecuperes,SMALL(IF(joueurs=$B57,ROW(INDIRECT(\"1:\"&ROWS(ballonrecuperes)))),ROWS($1:$4))),\"\")","v":""},{"$f":"IF(ROWS($1:$5)<=COUNTIF(joueurs,$B57),INDEX(ballonrecuperes,SMALL(IF(joueurs=$B57,ROW(INDIRECT(\"1:\"&ROWS(ballonrecuperes)))),ROWS($1:$5))),\"\")","v":""},{"$f":"IF(ROWS($1:$6)<=COUNTIF(joueurs,$B57),INDEX(ballonrecuperes,SMALL(IF(joueurs=$B57,ROW(INDIRECT(\"1:\"&ROWS(ballonrecuperes)))),ROWS($1:$6))),\"\")","v":""},{"$f":"IF(ROWS($1:$7)<=COUNTIF(joueurs,$B57),INDEX(ballonrecuperes,SMALL(IF(joueurs=$B57,ROW(INDIRECT(\"1:\"&ROWS(ballonrecuperes)))),ROWS($1:$7))),\"\")","v":""},{"$f":"IF(ROWS($1:$8)<=COUNTIF(joueurs,$B57),INDEX(ballonrecuperes,SMALL(IF(joueurs=$B57,ROW(INDIRECT(\"1:\"&ROWS(ballonrecuperes)))),ROWS($1:$8))),\"\")","v":""},{"$f":"IF(ROWS($1:$9)<=COUNTIF(joueurs,$B57),INDEX(ballonrecuperes,SMALL(IF(joueurs=$B57,ROW(INDIRECT(\"1:\"&ROWS(ballonrecuperes)))),ROWS($1:$9))),\"\")","v":""},{"$f":"IF(ROWS($1:$10)<=COUNTIF(joueurs,$B57),INDEX(ballonrecuperes,SMALL(IF(joueurs=$B57,ROW(INDIRECT(\"1:\"&ROWS(ballonrecuperes)))),ROWS($1:$10))),\"\")","v":""},{"$f":"IF(ROWS($1:$1)<=COUNTIF(joueurs,$B57),INDEX(tirs,SMALL(IF(joueurs=$B57,ROW(INDIRECT(\"1:\"&ROWS(tirs)))),ROWS($1:$1))),\"\")","v":""},{"$f":"IF(ROWS($1:$2)<=COUNTIF(joueurs,$B57),INDEX(tirs,SMALL(IF(joueurs=$B57,ROW(INDIRECT(\"1:\"&ROWS(tirs)))),ROWS($1:$2))),\"\")","v":""},{"$f":"IF(ROWS($1:$3)<=COUNTIF(joueurs,$B57),INDEX(tirs,SMALL(IF(joueurs=$B57,ROW(INDIRECT(\"1:\"&ROWS(tirs)))),ROWS($1:$3))),\"\")","v":""},{"$f":"IF(ROWS($1:$4)<=COUNTIF(joueurs,$B57),INDEX(tirs,SMALL(IF(joueurs=$B57,ROW(INDIRECT(\"1:\"&ROWS(tirs)))),ROWS($1:$4))),\"\")","v":""},{"$f":"IF(ROWS($1:$5)<=COUNTIF(joueurs,$B57),INDEX(tirs,SMALL(IF(joueurs=$B57,ROW(INDIRECT(\"1:\"&ROWS(tirs)))),ROWS($1:$5))),\"\")","v":""},{"$f":"IF(ROWS($1:$6)<=COUNTIF(joueurs,$B57),INDEX(tirs,SMALL(IF(joueurs=$B57,ROW(INDIRECT(\"1:\"&ROWS(tirs)))),ROWS($1:$6))),\"\")","v":""},{"$f":"IF(ROWS($1:$7)<=COUNTIF(joueurs,$B57),INDEX(tirs,SMALL(IF(joueurs=$B57,ROW(INDIRECT(\"1:\"&ROWS(tirs)))),ROWS($1:$7))),\"\")","v":""},{"$f":"IF(ROWS($1:$8)<=COUNTIF(joueurs,$B57),INDEX(tirs,SMALL(IF(joueurs=$B57,ROW(INDIRECT(\"1:\"&ROWS(tirs)))),ROWS($1:$8))),\"\")","v":""},{"$f":"IF(ROWS($1:$9)<=COUNTIF(joueurs,$B57),INDEX(tirs,SMALL(IF(joueurs=$B57,ROW(INDIRECT(\"1:\"&ROWS(tirs)))),ROWS($1:$9))),\"\")","v":""},{"$f":"IF(ROWS($1:$10)<=COUNTIF(joueurs,$B57),INDEX(tirs,SMALL(IF(joueurs=$B57,ROW(INDIRECT(\"1:\"&ROWS(tirs)))),ROWS($1:$10))),\"\")","v":""},{"$f":"IF(ROWS($1:$1)<=COUNTIF(joueurs,$B57),INDEX(bontirs,SMALL(IF(joueurs=$B57,ROW(INDIRECT(\"1:\"&ROWS(bontirs)))),ROWS($1:$1))),\"\")","v":""},{"$f":"IF(ROWS($1:$2)<=COUNTIF(joueurs,$B57),INDEX(bontirs,SMALL(IF(joueurs=$B57,ROW(INDIRECT(\"1:\"&ROWS(bontirs)))),ROWS($1:$2))),\"\")","v":""},{"$f":"IF(ROWS($1:$3)<=COUNTIF(joueurs,$B57),INDEX(bontirs,SMALL(IF(joueurs=$B57,ROW(INDIRECT(\"1:\"&ROWS(bontirs)))),ROWS($1:$3))),\"\")","v":""},{"$f":"IF(ROWS($1:$4)<=COUNTIF(joueurs,$B57),INDEX(bontirs,SMALL(IF(joueurs=$B57,ROW(INDIRECT(\"1:\"&ROWS(bontirs)))),ROWS($1:$4))),\"\")","v":""},{"$f":"IF(ROWS($1:$5)<=COUNTIF(joueurs,$B57),INDEX(bontirs,SMALL(IF(joueurs=$B57,ROW(INDIRECT(\"1:\"&ROWS(bontirs)))),ROWS($1:$5))),\"\")","v":""},{"$f":"IF(ROWS($1:$6)<=COUNTIF(joueurs,$B57),INDEX(bontirs,SMALL(IF(joueurs=$B57,ROW(INDIRECT(\"1:\"&ROWS(bontirs)))),ROWS($1:$6))),\"\")","v":""},{"$f":"IF(ROWS($1:$7)<=COUNTIF(joueurs,$B57),INDEX(bontirs,SMALL(IF(joueurs=$B57,ROW(INDIRECT(\"1:\"&ROWS(bontirs)))),ROWS($1:$7))),\"\")","v":""},{"$f":"IF(ROWS($1:$8)<=COUNTIF(joueurs,$B57),INDEX(bontirs,SMALL(IF(joueurs=$B57,ROW(INDIRECT(\"1:\"&ROWS(bontirs)))),ROWS($1:$8))),\"\")","v":""},{"$f":"IF(ROWS($1:$9)<=COUNTIF(joueurs,$B57),INDEX(bontirs,SMALL(IF(joueurs=$B57,ROW(INDIRECT(\"1:\"&ROWS(bontirs)))),ROWS($1:$9))),\"\")","v":""},{"$f":"IF(ROWS($1:$10)<=COUNTIF(joueurs,$B57),INDEX(bontirs,SMALL(IF(joueurs=$B57,ROW(INDIRECT(\"1:\"&ROWS(bontirs)))),ROWS($1:$10))),\"\")","v":""},{"$f":"IF(ROWS($1:$1)<=COUNTIF(joueurs,$B57),INDEX(points,SMALL(IF(joueurs=$B57,ROW(INDIRECT(\"1:\"&ROWS(points)))),ROWS($1:$1))),\"\")","v":""},{"$f":"IF(ROWS($1:$2)<=COUNTIF(joueurs,$B57),INDEX(points,SMALL(IF(joueurs=$B57,ROW(INDIRECT(\"1:\"&ROWS(points)))),ROWS($1:$2))),\"\")","v":""},{"$f":"IF(ROWS($1:$3)<=COUNTIF(joueurs,$B57),INDEX(points,SMALL(IF(joueurs=$B57,ROW(INDIRECT(\"1:\"&ROWS(points)))),ROWS($1:$3))),\"\")","v":""},{"$f":"IF(ROWS($1:$4)<=COUNTIF(joueurs,$B57),INDEX(points,SMALL(IF(joueurs=$B57,ROW(INDIRECT(\"1:\"&ROWS(points)))),ROWS($1:$4))),\"\")","v":""},{"$f":"IF(ROWS($1:$5)<=COUNTIF(joueurs,$B57),INDEX(points,SMALL(IF(joueurs=$B57,ROW(INDIRECT(\"1:\"&ROWS(points)))),ROWS($1:$5))),\"\")","v":""},{"$f":"IF(ROWS($1:$6)<=COUNTIF(joueurs,$B57),INDEX(points,SMALL(IF(joueurs=$B57,ROW(INDIRECT(\"1:\"&ROWS(points)))),ROWS($1:$6))),\"\")","v":""},{"$f":"IF(ROWS($1:$7)<=COUNTIF(joueurs,$B57),INDEX(points,SMALL(IF(joueurs=$B57,ROW(INDIRECT(\"1:\"&ROWS(points)))),ROWS($1:$7))),\"\")","v":""},{"$f":"IF(ROWS($1:$8)<=COUNTIF(joueurs,$B57),INDEX(points,SMALL(IF(joueurs=$B57,ROW(INDIRECT(\"1:\"&ROWS(points)))),ROWS($1:$8))),\"\")","v":""},{"$f":"IF(ROWS($1:$9)<=COUNTIF(joueurs,$B57),INDEX(points,SMALL(IF(joueurs=$B57,ROW(INDIRECT(\"1:\"&ROWS(points)))),ROWS($1:$9))),\"\")","v":""},{"$f":"IF(ROWS($1:$10)<=COUNTIF(joueurs,$B57),INDEX(points,SMALL(IF(joueurs=$B57,ROW(INDIRECT(\"1:\"&ROWS(points)))),ROWS($1:$10))),\"\")","v":""},{"$f":"IF(ROWS($1:$1)<=COUNTIF(joueurs,$B57),INDEX(victoires,SMALL(IF(joueurs=$B57,ROW(INDIRECT(\"1:\"&ROWS(victoires)))),ROWS($1:$1))),\"\")","v":""},{"$f":"IF(ROWS($1:$2)<=COUNTIF(joueurs,$B57),INDEX(victoires,SMALL(IF(joueurs=$B57,ROW(INDIRECT(\"1:\"&ROWS(victoires)))),ROWS($1:$2))),\"\")","v":""},{"$f":"IF(ROWS($1:$3)<=COUNTIF(joueurs,$B57),INDEX(victoires,SMALL(IF(joueurs=$B57,ROW(INDIRECT(\"1:\"&ROWS(victoires)))),ROWS($1:$3))),\"\")","v":""},{"$f":"IF(ROWS($1:$4)<=COUNTIF(joueurs,$B57),INDEX(victoires,SMALL(IF(joueurs=$B57,ROW(INDIRECT(\"1:\"&ROWS(victoires)))),ROWS($1:$4))),\"\")","v":""},{"$f":"IF(ROWS($1:$5)<=COUNTIF(joueurs,$B57),INDEX(victoires,SMALL(IF(joueurs=$B57,ROW(INDIRECT(\"1:\"&ROWS(victoires)))),ROWS($1:$5))),\"\")","v":""},{"$f":"IF(ROWS($1:$6)<=COUNTIF(joueurs,$B57),INDEX(victoires,SMALL(IF(joueurs=$B57,ROW(INDIRECT(\"1:\"&ROWS(victoires)))),ROWS($1:$6))),\"\")","v":""},{"$f":"IF(ROWS($1:$7)<=COUNTIF(joueurs,$B57),INDEX(victoires,SMALL(IF(joueurs=$B57,ROW(INDIRECT(\"1:\"&ROWS(victoires)))),ROWS($1:$7))),\"\")","v":""},{"$f":"IF(ROWS($1:$8)<=COUNTIF(joueurs,$B57),INDEX(victoires,SMALL(IF(joueurs=$B57,ROW(INDIRECT(\"1:\"&ROWS(victoires)))),ROWS($1:$8))),\"\")","v":""},{"$f":"IF(ROWS($1:$9)<=COUNTIF(joueurs,$B57),INDEX(victoires,SMALL(IF(joueurs=$B57,ROW(INDIRECT(\"1:\"&ROWS(victoires)))),ROWS($1:$9))),\"\")","v":""},{"$f":"IF(ROWS($1:$10)<=COUNTIF(joueurs,$B57),INDEX(victoires,SMALL(IF(joueurs=$B57,ROW(INDIRECT(\"1:\"&ROWS(victoires)))),ROWS($1:$10))),\"\")","v":""}]
[null,null,null,{"$f":"IF(ROWS($1:$11)<=COUNTIF(joueurs,$B57),INDEX(fautes,SMALL(IF(joueurs=$B57,ROW(INDIRECT(\"1:\"&ROWS(fautes)))),ROWS($1:$11))),\"\")","v":""},{"$f":"IF(ROWS($1:$12)<=COUNTIF(joueurs,$B57),INDEX(fautes,SMALL(IF(joueurs=$B57,ROW(INDIRECT(\"1:\"&ROWS(fautes)))),ROWS($1:$12))),\"\")","v":""},{"$f":"IF(ROWS($1:$13)<=COUNTIF(joueurs,$B57),INDEX(fautes,SMALL(IF(joueurs=$B57,ROW(INDIRECT(\"1:\"&ROWS(fautes)))),ROWS($1:$13))),\"\")","v":""},{"$f":"IF(ROWS($1:$14)<=COUNTIF(joueurs,$B57),INDEX(fautes,SMALL(IF(joueurs=$B57,ROW(INDIRECT(\"1:\"&ROWS(fautes)))),ROWS($1:$14))),\"\")","v":""},{"$f":"IF(ROWS($1:$15)<=COUNTIF(joueurs,$B57),INDEX(fautes,SMALL(IF(joueurs=$B57,ROW(INDIRECT(\"1:\"&ROWS(fautes)))),ROWS($1:$15))),\"\")","v":""},{"$f":"IF(ROWS($1:$16)<=COUNTIF(joueurs,$B57),INDEX(fautes,SMALL(IF(joueurs=$B57,ROW(INDIRECT(\"1:\"&ROWS(fautes)))),ROWS($1:$16))),\"\")","v":""},{"$f":"IF(ROWS($1:$17)<=COUNTIF(joueurs,$B57),INDEX(fautes,SMALL(IF(joueurs=$B57,ROW(INDIRECT(\"1:\"&ROWS(fautes)))),ROWS($1:$17))),\"\")","v":""},{"$f":"IF(ROWS($1:$18)<=COUNTIF(joueurs,$B57),INDEX(fautes,SMALL(IF(joueurs=$B57,ROW(INDIRECT(\"1:\"&ROWS(fautes)))),ROWS($1:$18))),\"\")","v":""},{"$f":"IF(ROWS($1:$19)<=COUNTIF(joueurs,$B57),INDEX(fautes,SMALL(IF(joueurs=$B57,ROW(INDIRECT(\"1:\"&ROWS(fautes)))),ROWS($1:$19))),\"\")","v":""},{"$f":"IF(ROWS($1:$20)<=COUNTIF(joueurs,$B57),INDEX(fautes,SMALL(IF(joueurs=$B57,ROW(INDIRECT(\"1:\"&ROWS(fautes)))),ROWS($1:$20))),\"\")","v":""},{"$f":"IF(ROWS($1:$11)<=COUNTIF(joueurs,$B57),INDEX(ballonperdus,SMALL(IF(joueurs=$B57,ROW(INDIRECT(\"1:\"&ROWS(ballonperdus)))),ROWS($1:$11))),\"\")","v":""},{"$f":"IF(ROWS($1:$12)<=COUNTIF(joueurs,$B57),INDEX(ballonperdus,SMALL(IF(joueurs=$B57,ROW(INDIRECT(\"1:\"&ROWS(ballonperdus)))),ROWS($1:$12))),\"\")","v":""},{"$f":"IF(ROWS($1:$13)<=COUNTIF(joueurs,$B57),INDEX(ballonperdus,SMALL(IF(joueurs=$B57,ROW(INDIRECT(\"1:\"&ROWS(ballonperdus)))),ROWS($1:$13))),\"\")","v":""},{"$f":"IF(ROWS($1:$14)<=COUNTIF(joueurs,$B57),INDEX(ballonperdus,SMALL(IF(joueurs=$B57,ROW(INDIRECT(\"1:\"&ROWS(ballonperdus)))),ROWS($1:$14))),\"\")","v":""},{"$f":"IF(ROWS($1:$15)<=COUNTIF(joueurs,$B57),INDEX(ballonperdus,SMALL(IF(joueurs=$B57,ROW(INDIRECT(\"1:\"&ROWS(ballonperdus)))),ROWS($1:$15))),\"\")","v":""},{"$f":"IF(ROWS($1:$16)<=COUNTIF(joueurs,$B57),INDEX(ballonperdus,SMALL(IF(joueurs=$B57,ROW(INDIRECT(\"1:\"&ROWS(ballonperdus)))),ROWS($1:$16))),\"\")","v":""},{"$f":"IF(ROWS($1:$17)<=COUNTIF(joueurs,$B57),INDEX(ballonperdus,SMALL(IF(joueurs=$B57,ROW(INDIRECT(\"1:\"&ROWS(ballonperdus)))),ROWS($1:$17))),\"\")","v":""},{"$f":"IF(ROWS($1:$18)<=COUNTIF(joueurs,$B57),INDEX(ballonperdus,SMALL(IF(joueurs=$B57,ROW(INDIRECT(\"1:\"&ROWS(ballonperdus)))),ROWS($1:$18))),\"\")","v":""},{"$f":"IF(ROWS($1:$19)<=COUNTIF(joueurs,$B57),INDEX(ballonperdus,SMALL(IF(joueurs=$B57,ROW(INDIRECT(\"1:\"&ROWS(ballonperdus)))),ROWS($1:$19))),\"\")","v":""},{"$f":"IF(ROWS($1:$20)<=COUNTIF(joueurs,$B57),INDEX(fautes,SMALL(IF(joueurs=$B57,ROW(INDIRECT(\"1:\"&ROWS(ballonperdus)))),ROWS($1:$20))),\"\")","v":""},{"$f":"IF(ROWS($1:$11)<=COUNTIF(joueurs,$B57),INDEX(interceptions,SMALL(IF(joueurs=$B57,ROW(INDIRECT(\"1:\"&ROWS(interceptions)))),ROWS($1:$11))),\"\")","v":""},{"$f":"IF(ROWS($1:$12)<=COUNTIF(joueurs,$B57),INDEX(interceptions,SMALL(IF(joueurs=$B57,ROW(INDIRECT(\"1:\"&ROWS(interceptions)))),ROWS($1:$12))),\"\")","v":""},{"$f":"IF(ROWS($1:$13)<=COUNTIF(joueurs,$B57),INDEX(interceptions,SMALL(IF(joueurs=$B57,ROW(INDIRECT(\"1:\"&ROWS(interceptions)))),ROWS($1:$13))),\"\")","v":""},{"$f":"IF(ROWS($1:$14)<=COUNTIF(joueurs,$B57),INDEX(interceptions,SMALL(IF(joueurs=$B57,ROW(INDIRECT(\"1:\"&ROWS(interceptions)))),ROWS($1:$14))),\"\")","v":""},{"$f":"IF(ROWS($1:$15)<=COUNTIF(joueurs,$B57),INDEX(interceptions,SMALL(IF(joueurs=$B57,ROW(INDIRECT(\"1:\"&ROWS(interceptions)))),ROWS($1:$15))),\"\")","v":""},{"$f":"IF(ROWS($1:$16)<=COUNTIF(joueurs,$B57),INDEX(interceptions,SMALL(IF(joueurs=$B57,ROW(INDIRECT(\"1:\"&ROWS(interceptions)))),ROWS($1:$16))),\"\")","v":""},{"$f":"IF(ROWS($1:$17)<=COUNTIF(joueurs,$B57),INDEX(interceptions,SMALL(IF(joueurs=$B57,ROW(INDIRECT(\"1:\"&ROWS(interceptions)))),ROWS($1:$17))),\"\")","v":""},{"$f":"IF(ROWS($1:$18)<=COUNTIF(joueurs,$B57),INDEX(interceptions,SMALL(IF(joueurs=$B57,ROW(INDIRECT(\"1:\"&ROWS(interceptions)))),ROWS($1:$18))),\"\")","v":""},{"$f":"IF(ROWS($1:$19)<=COUNTIF(joueurs,$B57),INDEX(interceptions,SMALL(IF(joueurs=$B57,ROW(INDIRECT(\"1:\"&ROWS(interceptions)))),ROWS($1:$19))),\"\")","v":""},{"$f":"IF(ROWS($1:$20)<=COUNTIF(joueurs,$B57),INDEX(interceptions,SMALL(IF(joueurs=$B57,ROW(INDIRECT(\"1:\"&ROWS(interceptions)))),ROWS($1:$20))),\"\")","v":""},{"$f":"IF(ROWS($1:$11)<=COUNTIF(joueurs,$B57),INDEX(ballonrecuperes,SMALL(IF(joueurs=$B57,ROW(INDIRECT(\"1:\"&ROWS(ballonrecuperes)))),ROWS($1:$11))),\"\")","v":""},{"$f":"IF(ROWS($1:$12)<=COUNTIF(joueurs,$B57),INDEX(ballonrecuperes,SMALL(IF(joueurs=$B57,ROW(INDIRECT(\"1:\"&ROWS(ballonrecuperes)))),ROWS($1:$12))),\"\")","v":""},{"$f":"IF(ROWS($1:$13)<=COUNTIF(joueurs,$B57),INDEX(ballonrecuperes,SMALL(IF(joueurs=$B57,ROW(INDIRECT(\"1:\"&ROWS(ballonrecuperes)))),ROWS($1:$13))),\"\")","v":""},{"$f":"IF(ROWS($1:$14)<=COUNTIF(joueurs,$B57),INDEX(ballonrecuperes,SMALL(IF(joueurs=$B57,ROW(INDIRECT(\"1:\"&ROWS(ballonrecuperes)))),ROWS($1:$14))),\"\")","v":""},{"$f":"IF(ROWS($1:$15)<=COUNTIF(joueurs,$B57),INDEX(ballonrecuperes,SMALL(IF(joueurs=$B57,ROW(INDIRECT(\"1:\"&ROWS(ballonrecuperes)))),ROWS($1:$15))),\"\")","v":""},{"$f":"IF(ROWS($1:$16)<=COUNTIF(joueurs,$B57),INDEX(ballonrecuperes,SMALL(IF(joueurs=$B57,ROW(INDIRECT(\"1:\"&ROWS(ballonrecuperes)))),ROWS($1:$16))),\"\")","v":""},{"$f":"IF(ROWS($1:$17)<=COUNTIF(joueurs,$B57),INDEX(ballonrecuperes,SMALL(IF(joueurs=$B57,ROW(INDIRECT(\"1:\"&ROWS(ballonrecuperes)))),ROWS($1:$17))),\"\")","v":""},{"$f":"IF(ROWS($1:$18)<=COUNTIF(joueurs,$B57),INDEX(ballonrecuperes,SMALL(IF(joueurs=$B57,ROW(INDIRECT(\"1:\"&ROWS(ballonrecuperes)))),ROWS($1:$18))),\"\")","v":""},{"$f":"IF(ROWS($1:$19)<=COUNTIF(joueurs,$B57),INDEX(ballonrecuperes,SMALL(IF(joueurs=$B57,ROW(INDIRECT(\"1:\"&ROWS(ballonrecuperes)))),ROWS($1:$19))),\"\")","v":""},{"$f":"IF(ROWS($1:$20)<=COUNTIF(joueurs,$B57),INDEX(ballonrecuperes,SMALL(IF(joueurs=$B57,ROW(INDIRECT(\"1:\"&ROWS(ballonrecuperes)))),ROWS($1:$20))),\"\")","v":""},{"$f":"IF(ROWS($1:$11)<=COUNTIF(joueurs,$B57),INDEX(tirs,SMALL(IF(joueurs=$B57,ROW(INDIRECT(\"1:\"&ROWS(tirs)))),ROWS($1:$11))),\"\")","v":""},{"$f":"IF(ROWS($1:$12)<=COUNTIF(joueurs,$B57),INDEX(tirs,SMALL(IF(joueurs=$B57,ROW(INDIRECT(\"1:\"&ROWS(tirs)))),ROWS($1:$12))),\"\")","v":""},{"$f":"IF(ROWS($1:$13)<=COUNTIF(joueurs,$B57),INDEX(tirs,SMALL(IF(joueurs=$B57,ROW(INDIRECT(\"1:\"&ROWS(tirs)))),ROWS($1:$13))),\"\")","v":""},{"$f":"IF(ROWS($1:$14)<=COUNTIF(joueurs,$B57),INDEX(tirs,SMALL(IF(joueurs=$B57,ROW(INDIRECT(\"1:\"&ROWS(tirs)))),ROWS($1:$14))),\"\")","v":""},{"$f":"IF(ROWS($1:$15)<=COUNTIF(joueurs,$B57),INDEX(tirs,SMALL(IF(joueurs=$B57,ROW(INDIRECT(\"1:\"&ROWS(tirs)))),ROWS($1:$15))),\"\")","v":""},{"$f":"IF(ROWS($1:$16)<=COUNTIF(joueurs,$B57),INDEX(tirs,SMALL(IF(joueurs=$B57,ROW(INDIRECT(\"1:\"&ROWS(tirs)))),ROWS($1:$16))),\"\")","v":""},{"$f":"IF(ROWS($1:$17)<=COUNTIF(joueurs,$B57),INDEX(tirs,SMALL(IF(joueurs=$B57,ROW(INDIRECT(\"1:\"&ROWS(tirs)))),ROWS($1:$17))),\"\")","v":""},{"$f":"IF(ROWS($1:$18)<=COUNTIF(joueurs,$B57),INDEX(tirs,SMALL(IF(joueurs=$B57,ROW(INDIRECT(\"1:\"&ROWS(tirs)))),ROWS($1:$18))),\"\")","v":""},{"$f":"IF(ROWS($1:$19)<=COUNTIF(joueurs,$B57),INDEX(tirs,SMALL(IF(joueurs=$B57,ROW(INDIRECT(\"1:\"&ROWS(tirs)))),ROWS($1:$19))),\"\")","v":""},{"$f":"IF(ROWS($1:$20)<=COUNTIF(joueurs,$B57),INDEX(tirs,SMALL(IF(joueurs=$B57,ROW(INDIRECT(\"1:\"&ROWS(tirs)))),ROWS($1:$20))),\"\")","v":""},{"$f":"IF(ROWS($1:$11)<=COUNTIF(joueurs,$B57),INDEX(bontirs,SMALL(IF(joueurs=$B57,ROW(INDIRECT(\"1:\"&ROWS(bontirs)))),ROWS($1:$11))),\"\")","v":""},{"$f":"IF(ROWS($1:$12)<=COUNTIF(joueurs,$B57),INDEX(bontirs,SMALL(IF(joueurs=$B57,ROW(INDIRECT(\"1:\"&ROWS(bontirs)))),ROWS($1:$12))),\"\")","v":""},{"$f":"IF(ROWS($1:$13)<=COUNTIF(joueurs,$B57),INDEX(bontirs,SMALL(IF(joueurs=$B57,ROW(INDIRECT(\"1:\"&ROWS(bontirs)))),ROWS($1:$13))),\"\")","v":""},{"$f":"IF(ROWS($1:$14)<=COUNTIF(joueurs,$B57),INDEX(bontirs,SMALL(IF(joueurs=$B57,ROW(INDIRECT(\"1:\"&ROWS(bontirs)))),ROWS($1:$14))),\"\")","v":""},{"$f":"IF(ROWS($1:$15)<=COUNTIF(joueurs,$B57),INDEX(bontirs,SMALL(IF(joueurs=$B57,ROW(INDIRECT(\"1:\"&ROWS(bontirs)))),ROWS($1:$15))),\"\")","v":""},{"$f":"IF(ROWS($1:$16)<=COUNTIF(joueurs,$B57),INDEX(bontirs,SMALL(IF(joueurs=$B57,ROW(INDIRECT(\"1:\"&ROWS(bontirs)))),ROWS($1:$16))),\"\")","v":""},{"$f":"IF(ROWS($1:$17)<=COUNTIF(joueurs,$B57),INDEX(bontirs,SMALL(IF(joueurs=$B57,ROW(INDIRECT(\"1:\"&ROWS(bontirs)))),ROWS($1:$17))),\"\")","v":""},{"$f":"IF(ROWS($1:$18)<=COUNTIF(joueurs,$B57),INDEX(bontirs,SMALL(IF(joueurs=$B57,ROW(INDIRECT(\"1:\"&ROWS(bontirs)))),ROWS($1:$18))),\"\")","v":""},{"$f":"IF(ROWS($1:$19)<=COUNTIF(joueurs,$B57),INDEX(bontirs,SMALL(IF(joueurs=$B57,ROW(INDIRECT(\"1:\"&ROWS(bontirs)))),ROWS($1:$19))),\"\")","v":""},{"$f":"IF(ROWS($1:$20)<=COUNTIF(joueurs,$B57),INDEX(bontirs,SMALL(IF(joueurs=$B57,ROW(INDIRECT(\"1:\"&ROWS(bontirs)))),ROWS($1:$20))),\"\")","v":""},{"$f":"IF(ROWS($1:$11)<=COUNTIF(joueurs,$B57),INDEX(points,SMALL(IF(joueurs=$B57,ROW(INDIRECT(\"1:\"&ROWS(points)))),ROWS($1:$11))),\"\")","v":""},{"$f":"IF(ROWS($1:$12)<=COUNTIF(joueurs,$B57),INDEX(points,SMALL(IF(joueurs=$B57,ROW(INDIRECT(\"1:\"&ROWS(points)))),ROWS($1:$12))),\"\")","v":""},{"$f":"IF(ROWS($1:$13)<=COUNTIF(joueurs,$B57),INDEX(points,SMALL(IF(joueurs=$B57,ROW(INDIRECT(\"1:\"&ROWS(points)))),ROWS($1:$13))),\"\")","v":""},{"$f":"IF(ROWS($1:$14)<=COUNTIF(joueurs,$B57),INDEX(points,SMALL(IF(joueurs=$B57,ROW(INDIRECT(\"1:\"&ROWS(points)))),ROWS($1:$14))),\"\")","v":""},{"$f":"IF(ROWS($1:$15)<=COUNTIF(joueurs,$B57),INDEX(points,SMALL(IF(joueurs=$B57,ROW(INDIRECT(\"1:\"&ROWS(points)))),ROWS($1:$15))),\"\")","v":""},{"$f":"IF(ROWS($1:$16)<=COUNTIF(joueurs,$B57),INDEX(points,SMALL(IF(joueurs=$B57,ROW(INDIRECT(\"1:\"&ROWS(points)))),ROWS($1:$16))),\"\")","v":""},{"$f":"IF(ROWS($1:$17)<=COUNTIF(joueurs,$B57),INDEX(points,SMALL(IF(joueurs=$B57,ROW(INDIRECT(\"1:\"&ROWS(points)))),ROWS($1:$17))),\"\")","v":""},{"$f":"IF(ROWS($1:$18)<=COUNTIF(joueurs,$B57),INDEX(points,SMALL(IF(joueurs=$B57,ROW(INDIRECT(\"1:\"&ROWS(points)))),ROWS($1:$18))),\"\")","v":""},{"$f":"IF(ROWS($1:$19)<=COUNTIF(joueurs,$B57),INDEX(points,SMALL(IF(joueurs=$B57,ROW(INDIRECT(\"1:\"&ROWS(points)))),ROWS($1:$19))),\"\")","v":""},{"$f":"IF(ROWS($1:$20)<=COUNTIF(points,$B57),INDEX(fautes,SMALL(IF(joueurs=$B57,ROW(INDIRECT(\"1:\"&ROWS(points)))),ROWS($1:$20))),\"\")","v":""},{"$f":"IF(ROWS($1:$11)<=COUNTIF(joueurs,$B57),INDEX(victoires,SMALL(IF(joueurs=$B57,ROW(INDIRECT(\"1:\"&ROWS(victoires)))),ROWS($1:$11))),\"\")","v":""},{"$f":"IF(ROWS($1:$12)<=COUNTIF(joueurs,$B57),INDEX(victoires,SMALL(IF(joueurs=$B57,ROW(INDIRECT(\"1:\"&ROWS(victoires)))),ROWS($1:$12))),\"\")","v":""},{"$f":"IF(ROWS($1:$13)<=COUNTIF(joueurs,$B57),INDEX(victoires,SMALL(IF(joueurs=$B57,ROW(INDIRECT(\"1:\"&ROWS(victoires)))),ROWS($1:$13))),\"\")","v":""},{"$f":"IF(ROWS($1:$14)<=COUNTIF(joueurs,$B57),INDEX(victoires,SMALL(IF(joueurs=$B57,ROW(INDIRECT(\"1:\"&ROWS(victoires)))),ROWS($1:$14))),\"\")","v":""},{"$f":"IF(ROWS($1:$15)<=COUNTIF(joueurs,$B57),INDEX(victoires,SMALL(IF(joueurs=$B57,ROW(INDIRECT(\"1:\"&ROWS(victoires)))),ROWS($1:$15))),\"\")","v":""},{"$f":"IF(ROWS($1:$16)<=COUNTIF(joueurs,$B57),INDEX(victoires,SMALL(IF(joueurs=$B57,ROW(INDIRECT(\"1:\"&ROWS(victoires)))),ROWS($1:$16))),\"\")","v":""},{"$f":"IF(ROWS($1:$17)<=COUNTIF(joueurs,$B57),INDEX(victoires,SMALL(IF(joueurs=$B57,ROW(INDIRECT(\"1:\"&ROWS(victoires)))),ROWS($1:$17))),\"\")","v":""},{"$f":"IF(ROWS($1:$18)<=COUNTIF(joueurs,$B57),INDEX(victoires,SMALL(IF(joueurs=$B57,ROW(INDIRECT(\"1:\"&ROWS(victoires)))),ROWS($1:$18))),\"\")","v":""},{"$f":"IF(ROWS($1:$19)<=COUNTIF(joueurs,$B57),INDEX(victoires,SMALL(IF(joueurs=$B57,ROW(INDIRECT(\"1:\"&ROWS(victoires)))),ROWS($1:$19))),\"\")","v":""},{"$f":"IF(ROWS($1:$20)<=COUNTIF(joueurs,$B57),INDEX(victoires,SMALL(IF(joueurs=$B57,ROW(INDIRECT(\"1:\"&ROWS(victoires)))),ROWS($1:$20))),\"\")","v":""}]
[null,null,null,{"$f":"IF(ROWS($1:$21)<=COUNTIF(joueurs,$B57),INDEX(fautes,SMALL(IF(joueurs=$B57,ROW(INDIRECT(\"1:\"&ROWS(fautes)))),ROWS($1:$21))),\"\")","v":""},{"$f":"IF(ROWS($1:$22)<=COUNTIF(joueurs,$B57),INDEX(fautes,SMALL(IF(joueurs=$B57,ROW(INDIRECT(\"1:\"&ROWS(fautes)))),ROWS($1:$22))),\"\")","v":""},{"$f":"IF(ROWS($1:$23)<=COUNTIF(joueurs,$B57),INDEX(fautes,SMALL(IF(joueurs=$B57,ROW(INDIRECT(\"1:\"&ROWS(fautes)))),ROWS($1:$23))),\"\")","v":""},{"$f":"IF(ROWS($1:$24)<=COUNTIF(joueurs,$B57),INDEX(fautes,SMALL(IF(joueurs=$B57,ROW(INDIRECT(\"1:\"&ROWS(fautes)))),ROWS($1:$24))),\"\")","v":""},{"$f":"IF(ROWS($1:$25)<=COUNTIF(joueurs,$B57),INDEX(fautes,SMALL(IF(joueurs=$B57,ROW(INDIRECT(\"1:\"&ROWS(fautes)))),ROWS($1:$25))),\"\")","v":""},{"$f":"IF(ROWS($1:$26)<=COUNTIF(joueurs,$B57),INDEX(fautes,SMALL(IF(joueurs=$B57,ROW(INDIRECT(\"1:\"&ROWS(fautes)))),ROWS($1:$26))),\"\")","v":""},{"$f":"IF(ROWS($1:$27)<=COUNTIF(joueurs,$B57),INDEX(fautes,SMALL(IF(joueurs=$B57,ROW(INDIRECT(\"1:\"&ROWS(fautes)))),ROWS($1:$27))),\"\")","v":""},{"$f":"IF(ROWS($1:$28)<=COUNTIF(joueurs,$B57),INDEX(fautes,SMALL(IF(joueurs=$B57,ROW(INDIRECT(\"1:\"&ROWS(fautes)))),ROWS($1:$28))),\"\")","v":""},{"$f":"IF(ROWS($1:$29)<=COUNTIF(joueurs,$B57),INDEX(fautes,SMALL(IF(joueurs=$B57,ROW(INDIRECT(\"1:\"&ROWS(fautes)))),ROWS($1:$29))),\"\")","v":""},{"$f":"IF(ROWS($1:$30)<=COUNTIF(joueurs,$B57),INDEX(fautes,SMALL(IF(joueurs=$B57,ROW(INDIRECT(\"1:\"&ROWS(fautes)))),ROWS($1:$30))),\"\")","v":""},{"$f":"IF(ROWS($1:$21)<=COUNTIF(joueurs,$B57),INDEX(ballonperdus,SMALL(IF(joueurs=$B57,ROW(INDIRECT(\"1:\"&ROWS(ballonperdus)))),ROWS($1:$21))),\"\")","v":""},{"$f":"IF(ROWS($1:$22)<=COUNTIF(joueurs,$B57),INDEX(ballonperdus,SMALL(IF(joueurs=$B57,ROW(INDIRECT(\"1:\"&ROWS(ballonperdus)))),ROWS($1:$22))),\"\")","v":""},{"$f":"IF(ROWS($1:$23)<=COUNTIF(joueurs,$B57),INDEX(ballonperdus,SMALL(IF(joueurs=$B57,ROW(INDIRECT(\"1:\"&ROWS(ballonperdus)))),ROWS($1:$23))),\"\")","v":""},{"$f":"IF(ROWS($1:$24)<=COUNTIF(joueurs,$B57),INDEX(ballonperdus,SMALL(IF(joueurs=$B57,ROW(INDIRECT(\"1:\"&ROWS(ballonperdus)))),ROWS($1:$24))),\"\")","v":""},{"$f":"IF(ROWS($1:$25)<=COUNTIF(joueurs,$B57),INDEX(ballonperdus,SMALL(IF(joueurs=$B57,ROW(INDIRECT(\"1:\"&ROWS(ballonperdus)))),ROWS($1:$25))),\"\")","v":""},{"$f":"IF(ROWS($1:$26)<=COUNTIF(joueurs,$B57),INDEX(ballonperdus,SMALL(IF(joueurs=$B57,ROW(INDIRECT(\"1:\"&ROWS(ballonperdus)))),ROWS($1:$26))),\"\")","v":""},{"$f":"IF(ROWS($1:$27)<=COUNTIF(joueurs,$B57),INDEX(ballonperdus,SMALL(IF(joueurs=$B57,ROW(INDIRECT(\"1:\"&ROWS(ballonperdus)))),ROWS($1:$27))),\"\")","v":""},{"$f":"IF(ROWS($1:$28)<=COUNTIF(joueurs,$B57),INDEX(ballonperdus,SMALL(IF(joueurs=$B57,ROW(INDIRECT(\"1:\"&ROWS(ballonperdus)))),ROWS($1:$28))),\"\")","v":""},{"$f":"IF(ROWS($1:$29)<=COUNTIF(joueurs,$B57),INDEX(ballonperdus,SMALL(IF(joueurs=$B57,ROW(INDIRECT(\"1:\"&ROWS(ballonperdus)))),ROWS($1:$29))),\"\")","v":""},{"$f":"IF(ROWS($1:$30)<=COUNTIF(joueurs,$B57),INDEX(ballonperdus,SMALL(IF(joueurs=$B57,ROW(INDIRECT(\"1:\"&ROWS(ballonperdus)))),ROWS($1:$30))),\"\")","v":""},{"$f":"IF(ROWS($1:$21)<=COUNTIF(joueurs,$B57),INDEX(interceptions,SMALL(IF(joueurs=$B57,ROW(INDIRECT(\"1:\"&ROWS(interceptions)))),ROWS($1:$21))),\"\")","v":""},{"$f":"IF(ROWS($1:$22)<=COUNTIF(joueurs,$B57),INDEX(interceptions,SMALL(IF(joueurs=$B57,ROW(INDIRECT(\"1:\"&ROWS(interceptions)))),ROWS($1:$22))),\"\")","v":""},{"$f":"IF(ROWS($1:$23)<=COUNTIF(joueurs,$B57),INDEX(interceptions,SMALL(IF(joueurs=$B57,ROW(INDIRECT(\"1:\"&ROWS(interceptions)))),ROWS($1:$23))),\"\")","v":""},{"$f":"IF(ROWS($1:$24)<=COUNTIF(joueurs,$B57),INDEX(interceptions,SMALL(IF(joueurs=$B57,ROW(INDIRECT(\"1:\"&ROWS(interceptions)))),ROWS($1:$24))),\"\")","v":""},{"$f":"IF(ROWS($1:$25)<=COUNTIF(joueurs,$B57),INDEX(interceptions,SMALL(IF(joueurs=$B57,ROW(INDIRECT(\"1:\"&ROWS(interceptions)))),ROWS($1:$25))),\"\")","v":""},{"$f":"IF(ROWS($1:$26)<=COUNTIF(joueurs,$B57),INDEX(interceptions,SMALL(IF(joueurs=$B57,ROW(INDIRECT(\"1:\"&ROWS(interceptions)))),ROWS($1:$26))),\"\")","v":""},{"$f":"IF(ROWS($1:$27)<=COUNTIF(joueurs,$B57),INDEX(interceptions,SMALL(IF(joueurs=$B57,ROW(INDIRECT(\"1:\"&ROWS(interceptions)))),ROWS($1:$27))),\"\")","v":""},{"$f":"IF(ROWS($1:$28)<=COUNTIF(joueurs,$B57),INDEX(interceptions,SMALL(IF(joueurs=$B57,ROW(INDIRECT(\"1:\"&ROWS(interceptions)))),ROWS($1:$28))),\"\")","v":""},{"$f":"IF(ROWS($1:$29)<=COUNTIF(joueurs,$B57),INDEX(interceptions,SMALL(IF(joueurs=$B57,ROW(INDIRECT(\"1:\"&ROWS(interceptions)))),ROWS($1:$29))),\"\")","v":""},{"$f":"IF(ROWS($1:$30)<=COUNTIF(joueurs,$B57),INDEX(interceptions,SMALL(IF(joueurs=$B57,ROW(INDIRECT(\"1:\"&ROWS(interceptions)))),ROWS($1:$30))),\"\")","v":""},{"$f":"IF(ROWS($1:$21)<=COUNTIF(joueurs,$B57),INDEX(ballonrecuperes,SMALL(IF(joueurs=$B57,ROW(INDIRECT(\"1:\"&ROWS(ballonrecuperes)))),ROWS($1:$21))),\"\")","v":""},{"$f":"IF(ROWS($1:$22)<=COUNTIF(joueurs,$B57),INDEX(ballonrecuperes,SMALL(IF(joueurs=$B57,ROW(INDIRECT(\"1:\"&ROWS(ballonrecuperes)))),ROWS($1:$22))),\"\")","v":""},{"$f":"IF(ROWS($1:$23)<=COUNTIF(joueurs,$B57),INDEX(ballonrecuperes,SMALL(IF(joueurs=$B57,ROW(INDIRECT(\"1:\"&ROWS(ballonrecuperes)))),ROWS($1:$23))),\"\")","v":""},{"$f":"IF(ROWS($1:$24)<=COUNTIF(joueurs,$B57),INDEX(ballonrecuperes,SMALL(IF(joueurs=$B57,ROW(INDIRECT(\"1:\"&ROWS(ballonrecuperes)))),ROWS($1:$24))),\"\")","v":""},{"$f":"IF(ROWS($1:$25)<=COUNTIF(joueurs,$B57),INDEX(ballonrecuperes,SMALL(IF(joueurs=$B57,ROW(INDIRECT(\"1:\"&ROWS(ballonrecuperes)))),ROWS($1:$25))),\"\")","v":""},{"$f":"IF(ROWS($1:$26)<=COUNTIF(joueurs,$B57),INDEX(ballonrecuperes,SMALL(IF(joueurs=$B57,ROW(INDIRECT(\"1:\"&ROWS(ballonrecuperes)))),ROWS($1:$26))),\"\")","v":""},{"$f":"IF(ROWS($1:$27)<=COUNTIF(joueurs,$B57),INDEX(ballonrecuperes,SMALL(IF(joueurs=$B57,ROW(INDIRECT(\"1:\"&ROWS(ballonrecuperes)))),ROWS($1:$27))),\"\")","v":""},{"$f":"IF(ROWS($1:$28)<=COUNTIF(joueurs,$B57),INDEX(ballonrecuperes,SMALL(IF(joueurs=$B57,ROW(INDIRECT(\"1:\"&ROWS(ballonrecuperes)))),ROWS($1:$28))),\"\")","v":""},{"$f":"IF(ROWS($1:$29)<=COUNTIF(joueurs,$B57),INDEX(ballonrecuperes,SMALL(IF(joueurs=$B57,ROW(INDIRECT(\"1:\"&ROWS(ballonrecuperes)))),ROWS($1:$29))),\"\")","v":""},{"$f":"IF(ROWS($1:$30)<=COUNTIF(joueurs,$B57),INDEX(ballonrecuperes,SMALL(IF(joueurs=$B57,ROW(INDIRECT(\"1:\"&ROWS(ballonrecuperes)))),ROWS($1:$30))),\"\")","v":""},{"$f":"IF(ROWS($1:$21)<=COUNTIF(joueurs,$B57),INDEX(tirs,SMALL(IF(joueurs=$B57,ROW(INDIRECT(\"1:\"&ROWS(tirs)))),ROWS($1:$21))),\"\")","v":""},{"$f":"IF(ROWS($1:$22)<=COUNTIF(joueurs,$B57),INDEX(tirs,SMALL(IF(joueurs=$B57,ROW(INDIRECT(\"1:\"&ROWS(tirs)))),ROWS($1:$22))),\"\")","v":""},{"$f":"IF(ROWS($1:$23)<=COUNTIF(joueurs,$B57),INDEX(tirs,SMALL(IF(joueurs=$B57,ROW(INDIRECT(\"1:\"&ROWS(tirs)))),ROWS($1:$23))),\"\")","v":""},{"$f":"IF(ROWS($1:$24)<=COUNTIF(joueurs,$B57),INDEX(tirs,SMALL(IF(joueurs=$B57,ROW(INDIRECT(\"1:\"&ROWS(tirs)))),ROWS($1:$24))),\"\")","v":""},{"$f":"IF(ROWS($1:$25)<=COUNTIF(joueurs,$B57),INDEX(tirs,SMALL(IF(joueurs=$B57,ROW(INDIRECT(\"1:\"&ROWS(tirs)))),ROWS($1:$25))),\"\")","v":""},{"$f":"IF(ROWS($1:$26)<=COUNTIF(joueurs,$B57),INDEX(tirs,SMALL(IF(joueurs=$B57,ROW(INDIRECT(\"1:\"&ROWS(tirs)))),ROWS($1:$26))),\"\")","v":""},{"$f":"IF(ROWS($1:$27)<=COUNTIF(joueurs,$B57),INDEX(tirs,SMALL(IF(joueurs=$B57,ROW(INDIRECT(\"1:\"&ROWS(tirs)))),ROWS($1:$27))),\"\")","v":""},{"$f":"IF(ROWS($1:$28)<=COUNTIF(joueurs,$B57),INDEX(tirs,SMALL(IF(joueurs=$B57,ROW(INDIRECT(\"1:\"&ROWS(tirs)))),ROWS($1:$28))),\"\")","v":""},{"$f":"IF(ROWS($1:$29)<=COUNTIF(joueurs,$B57),INDEX(tirs,SMALL(IF(joueurs=$B57,ROW(INDIRECT(\"1:\"&ROWS(tirs)))),ROWS($1:$29))),\"\")","v":""},{"$f":"IF(ROWS($1:$30)<=COUNTIF(joueurs,$B57),INDEX(tirs,SMALL(IF(joueurs=$B57,ROW(INDIRECT(\"1:\"&ROWS(tirs)))),ROWS($1:$30))),\"\")","v":""},{"$f":"IF(ROWS($1:$21)<=COUNTIF(joueurs,$B57),INDEX(bontirs,SMALL(IF(joueurs=$B57,ROW(INDIRECT(\"1:\"&ROWS(bontirs)))),ROWS($1:$21))),\"\")","v":""},{"$f":"IF(ROWS($1:$22)<=COUNTIF(joueurs,$B57),INDEX(bontirs,SMALL(IF(joueurs=$B57,ROW(INDIRECT(\"1:\"&ROWS(bontirs)))),ROWS($1:$22))),\"\")","v":""},{"$f":"IF(ROWS($1:$23)<=COUNTIF(joueurs,$B57),INDEX(bontirs,SMALL(IF(joueurs=$B57,ROW(INDIRECT(\"1:\"&ROWS(bontirs)))),ROWS($1:$23))),\"\")","v":""},{"$f":"IF(ROWS($1:$24)<=COUNTIF(joueurs,$B57),INDEX(bontirs,SMALL(IF(joueurs=$B57,ROW(INDIRECT(\"1:\"&ROWS(bontirs)))),ROWS($1:$24))),\"\")","v":""},{"$f":"IF(ROWS($1:$25)<=COUNTIF(joueurs,$B57),INDEX(bontirs,SMALL(IF(joueurs=$B57,ROW(INDIRECT(\"1:\"&ROWS(bontirs)))),ROWS($1:$25))),\"\")","v":""},{"$f":"IF(ROWS($1:$26)<=COUNTIF(joueurs,$B57),INDEX(bontirs,SMALL(IF(joueurs=$B57,ROW(INDIRECT(\"1:\"&ROWS(bontirs)))),ROWS($1:$26))),\"\")","v":""},{"$f":"IF(ROWS($1:$27)<=COUNTIF(joueurs,$B57),INDEX(bontirs,SMALL(IF(joueurs=$B57,ROW(INDIRECT(\"1:\"&ROWS(bontirs)))),ROWS($1:$27))),\"\")","v":""},{"$f":"IF(ROWS($1:$28)<=COUNTIF(joueurs,$B57),INDEX(bontirs,SMALL(IF(joueurs=$B57,ROW(INDIRECT(\"1:\"&ROWS(bontirs)))),ROWS($1:$28))),\"\")","v":""},{"$f":"IF(ROWS($1:$29)<=COUNTIF(joueurs,$B57),INDEX(bontirs,SMALL(IF(joueurs=$B57,ROW(INDIRECT(\"1:\"&ROWS(bontirs)))),ROWS($1:$29))),\"\")","v":""},{"$f":"IF(ROWS($1:$30)<=COUNTIF(joueurs,$B57),INDEX(bontirs,SMALL(IF(joueurs=$B57,ROW(INDIRECT(\"1:\"&ROWS(bontirs)))),ROWS($1:$30))),\"\")","v":""},{"$f":"IF(ROWS($1:$21)<=COUNTIF(joueurs,$B57),INDEX(points,SMALL(IF(joueurs=$B57,ROW(INDIRECT(\"1:\"&ROWS(points)))),ROWS($1:$21))),\"\")","v":""},{"$f":"IF(ROWS($1:$22)<=COUNTIF(joueurs,$B57),INDEX(points,SMALL(IF(joueurs=$B57,ROW(INDIRECT(\"1:\"&ROWS(points)))),ROWS($1:$22))),\"\")","v":""},{"$f":"IF(ROWS($1:$23)<=COUNTIF(joueurs,$B57),INDEX(points,SMALL(IF(joueurs=$B57,ROW(INDIRECT(\"1:\"&ROWS(points)))),ROWS($1:$23))),\"\")","v":""},{"$f":"IF(ROWS($1:$24)<=COUNTIF(joueurs,$B57),INDEX(points,SMALL(IF(joueurs=$B57,ROW(INDIRECT(\"1:\"&ROWS(points)))),ROWS($1:$24))),\"\")","v":""},{"$f":"IF(ROWS($1:$25)<=COUNTIF(joueurs,$B57),INDEX(points,SMALL(IF(joueurs=$B57,ROW(INDIRECT(\"1:\"&ROWS(points)))),ROWS($1:$25))),\"\")","v":""},{"$f":"IF(ROWS($1:$26)<=COUNTIF(joueurs,$B57),INDEX(points,SMALL(IF(joueurs=$B57,ROW(INDIRECT(\"1:\"&ROWS(points)))),ROWS($1:$26))),\"\")","v":""},{"$f":"IF(ROWS($1:$27)<=COUNTIF(joueurs,$B57),INDEX(points,SMALL(IF(joueurs=$B57,ROW(INDIRECT(\"1:\"&ROWS(points)))),ROWS($1:$27))),\"\")","v":""},{"$f":"IF(ROWS($1:$28)<=COUNTIF(joueurs,$B57),INDEX(points,SMALL(IF(joueurs=$B57,ROW(INDIRECT(\"1:\"&ROWS(points)))),ROWS($1:$28))),\"\")","v":""},{"$f":"IF(ROWS($1:$29)<=COUNTIF(joueurs,$B57),INDEX(points,SMALL(IF(joueurs=$B57,ROW(INDIRECT(\"1:\"&ROWS(points)))),ROWS($1:$29))),\"\")","v":""},{"$f":"IF(ROWS($1:$30)<=COUNTIF(joueurs,$B57),INDEX(points,SMALL(IF(joueurs=$B57,ROW(INDIRECT(\"1:\"&ROWS(points)))),ROWS($1:$30))),\"\")","v":""},{"$f":"IF(ROWS($1:$21)<=COUNTIF(joueurs,$B57),INDEX(victoires,SMALL(IF(joueurs=$B57,ROW(INDIRECT(\"1:\"&ROWS(victoires)))),ROWS($1:$21))),\"\")","v":""},{"$f":"IF(ROWS($1:$22)<=COUNTIF(joueurs,$B57),INDEX(victoires,SMALL(IF(joueurs=$B57,ROW(INDIRECT(\"1:\"&ROWS(victoires)))),ROWS($1:$22))),\"\")","v":""},{"$f":"IF(ROWS($1:$23)<=COUNTIF(joueurs,$B57),INDEX(victoires,SMALL(IF(joueurs=$B57,ROW(INDIRECT(\"1:\"&ROWS(victoires)))),ROWS($1:$23))),\"\")","v":""},{"$f":"IF(ROWS($1:$24)<=COUNTIF(joueurs,$B57),INDEX(victoires,SMALL(IF(joueurs=$B57,ROW(INDIRECT(\"1:\"&ROWS(victoires)))),ROWS($1:$24))),\"\")","v":""},{"$f":"IF(ROWS($1:$25)<=COUNTIF(joueurs,$B57),INDEX(victoires,SMALL(IF(joueurs=$B57,ROW(INDIRECT(\"1:\"&ROWS(victoires)))),ROWS($1:$25))),\"\")","v":""},{"$f":"IF(ROWS($1:$26)<=COUNTIF(joueurs,$B57),INDEX(victoires,SMALL(IF(joueurs=$B57,ROW(INDIRECT(\"1:\"&ROWS(victoires)))),ROWS($1:$26))),\"\")","v":""},{"$f":"IF(ROWS($1:$27)<=COUNTIF(joueurs,$B57),INDEX(victoires,SMALL(IF(joueurs=$B57,ROW(INDIRECT(\"1:\"&ROWS(victoires)))),ROWS($1:$27))),\"\")","v":""},{"$f":"IF(ROWS($1:$28)<=COUNTIF(joueurs,$B57),INDEX(victoires,SMALL(IF(joueurs=$B57,ROW(INDIRECT(\"1:\"&ROWS(victoires)))),ROWS($1:$28))),\"\")","v":""},{"$f":"IF(ROWS($1:$29)<=COUNTIF(joueurs,$B57),INDEX(victoires,SMALL(IF(joueurs=$B57,ROW(INDIRECT(\"1:\"&ROWS(victoires)))),ROWS($1:$29))),\"\")","v":""},{"$f":"IF(ROWS($1:$30)<=COUNTIF(joueurs,$B57),INDEX(victoires,SMALL(IF(joueurs=$B57,ROW(INDIRECT(\"1:\"&ROWS(victoires)))),ROWS($1:$30))),\"\")","v":""}]
[null,null,null,{"$f":"IF(ROWS($1:$31)<=COUNTIF(joueurs,$B57),INDEX(fautes,SMALL(IF(joueurs=$B57,ROW(INDIRECT(\"1:\"&ROWS(fautes)))),ROWS($1:$31))),\"\")","v":""},{"$f":"IF(ROWS($1:$32)<=COUNTIF(joueurs,$B57),INDEX(fautes,SMALL(IF(joueurs=$B57,ROW(INDIRECT(\"1:\"&ROWS(fautes)))),ROWS($1:$32))),\"\")","v":""},{"$f":"IF(ROWS($1:$33)<=COUNTIF(joueurs,$B57),INDEX(fautes,SMALL(IF(joueurs=$B57,ROW(INDIRECT(\"1:\"&ROWS(fautes)))),ROWS($1:$33))),\"\")","v":""},{"$f":"IF(ROWS($1:$34)<=COUNTIF(joueurs,$B57),INDEX(fautes,SMALL(IF(joueurs=$B57,ROW(INDIRECT(\"1:\"&ROWS(fautes)))),ROWS($1:$34))),\"\")","v":""},{"$f":"IF(ROWS($1:$35)<=COUNTIF(joueurs,$B57),INDEX(fautes,SMALL(IF(joueurs=$B57,ROW(INDIRECT(\"1:\"&ROWS(fautes)))),ROWS($1:$35))),\"\")","v":""},{"$f":"IF(ROWS($1:$36)<=COUNTIF(joueurs,$B57),INDEX(fautes,SMALL(IF(joueurs=$B57,ROW(INDIRECT(\"1:\"&ROWS(fautes)))),ROWS($1:$36))),\"\")","v":""},{"$f":"IF(ROWS($1:$37)<=COUNTIF(joueurs,$B57),INDEX(fautes,SMALL(IF(joueurs=$B57,ROW(INDIRECT(\"1:\"&ROWS(fautes)))),ROWS($1:$37))),\"\")","v":""},{"$f":"IF(ROWS($1:$38)<=COUNTIF(joueurs,$B57),INDEX(fautes,SMALL(IF(joueurs=$B57,ROW(INDIRECT(\"1:\"&ROWS(fautes)))),ROWS($1:$38))),\"\")","v":""},{"$f":"IF(ROWS($1:$39)<=COUNTIF(joueurs,$B57),INDEX(fautes,SMALL(IF(joueurs=$B57,ROW(INDIRECT(\"1:\"&ROWS(fautes)))),ROWS($1:$39))),\"\")","v":""},{"$f":"IF(ROWS($1:$40)<=COUNTIF(joueurs,$B57),INDEX(fautes,SMALL(IF(joueurs=$B57,ROW(INDIRECT(\"1:\"&ROWS(fautes)))),ROWS($1:$40))),\"\")","v":""},{"$f":"IF(ROWS($1:$31)<=COUNTIF(joueurs,$B57),INDEX(ballonperdus,SMALL(IF(joueurs=$B57,ROW(INDIRECT(\"1:\"&ROWS(ballonperdus)))),ROWS($1:$31))),\"\")","v":""},{"$f":"IF(ROWS($1:$32)<=COUNTIF(joueurs,$B57),INDEX(ballonperdus,SMALL(IF(joueurs=$B57,ROW(INDIRECT(\"1:\"&ROWS(ballonperdus)))),ROWS($1:$32))),\"\")","v":""},{"$f":"IF(ROWS($1:$33)<=COUNTIF(joueurs,$B57),INDEX(ballonperdus,SMALL(IF(joueurs=$B57,ROW(INDIRECT(\"1:\"&ROWS(ballonperdus)))),ROWS($1:$33))),\"\")","v":""},{"$f":"IF(ROWS($1:$34)<=COUNTIF(joueurs,$B57),INDEX(ballonperdus,SMALL(IF(joueurs=$B57,ROW(INDIRECT(\"1:\"&ROWS(ballonperdus)))),ROWS($1:$34))),\"\")","v":""},{"$f":"IF(ROWS($1:$35)<=COUNTIF(joueurs,$B57),INDEX(ballonperdus,SMALL(IF(joueurs=$B57,ROW(INDIRECT(\"1:\"&ROWS(ballonperdus)))),ROWS($1:$35))),\"\")","v":""},{"$f":"IF(ROWS($1:$36)<=COUNTIF(joueurs,$B57),INDEX(ballonperdus,SMALL(IF(joueurs=$B57,ROW(INDIRECT(\"1:\"&ROWS(ballonperdus)))),ROWS($1:$36))),\"\")","v":""},{"$f":"IF(ROWS($1:$37)<=COUNTIF(joueurs,$B57),INDEX(ballonperdus,SMALL(IF(joueurs=$B57,ROW(INDIRECT(\"1:\"&ROWS(ballonperdus)))),ROWS($1:$37))),\"\")","v":""},{"$f":"IF(ROWS($1:$38)<=COUNTIF(joueurs,$B57),INDEX(ballonperdus,SMALL(IF(joueurs=$B57,ROW(INDIRECT(\"1:\"&ROWS(ballonperdus)))),ROWS($1:$38))),\"\")","v":""},{"$f":"IF(ROWS($1:$39)<=COUNTIF(joueurs,$B57),INDEX(ballonperdus,SMALL(IF(joueurs=$B57,ROW(INDIRECT(\"1:\"&ROWS(ballonperdus)))),ROWS($1:$39))),\"\")","v":""},{"$f":"IF(ROWS($1:$40)<=COUNTIF(joueurs,$B57),INDEX(ballonperdus,SMALL(IF(joueurs=$B57,ROW(INDIRECT(\"1:\"&ROWS(ballonperdus)))),ROWS($1:$40))),\"\")","v":""},{"$f":"IF(ROWS($1:$31)<=COUNTIF(joueurs,$B57),INDEX(interceptions,SMALL(IF(joueurs=$B57,ROW(INDIRECT(\"1:\"&ROWS(interceptions)))),ROWS($1:$31))),\"\")","v":""},{"$f":"IF(ROWS($1:$32)<=COUNTIF(joueurs,$B57),INDEX(interceptions,SMALL(IF(joueurs=$B57,ROW(INDIRECT(\"1:\"&ROWS(interceptions)))),ROWS($1:$32))),\"\")","v":""},{"$f":"IF(ROWS($1:$33)<=COUNTIF(joueurs,$B57),INDEX(interceptions,SMALL(IF(joueurs=$B57,ROW(INDIRECT(\"1:\"&ROWS(interceptions)))),ROWS($1:$33))),\"\")","v":""},{"$f":"IF(ROWS($1:$34)<=COUNTIF(joueurs,$B57),INDEX(interceptions,SMALL(IF(joueurs=$B57,ROW(INDIRECT(\"1:\"&ROWS(interceptions)))),ROWS($1:$34))),\"\")","v":""},{"$f":"IF(ROWS($1:$35)<=COUNTIF(joueurs,$B57),INDEX(interceptions,SMALL(IF(joueurs=$B57,ROW(INDIRECT(\"1:\"&ROWS(interceptions)))),ROWS($1:$35))),\"\")","v":""},{"$f":"IF(ROWS($1:$36)<=COUNTIF(joueurs,$B57),INDEX(interceptions,SMALL(IF(joueurs=$B57,ROW(INDIRECT(\"1:\"&ROWS(interceptions)))),ROWS($1:$36))),\"\")","v":""},{"$f":"IF(ROWS($1:$37)<=COUNTIF(joueurs,$B57),INDEX(interceptions,SMALL(IF(joueurs=$B57,ROW(INDIRECT(\"1:\"&ROWS(interceptions)))),ROWS($1:$37))),\"\")","v":""},{"$f":"IF(ROWS($1:$38)<=COUNTIF(joueurs,$B57),INDEX(interceptions,SMALL(IF(joueurs=$B57,ROW(INDIRECT(\"1:\"&ROWS(interceptions)))),ROWS($1:$38))),\"\")","v":""},{"$f":"IF(ROWS($1:$39)<=COUNTIF(joueurs,$B57),INDEX(interceptions,SMALL(IF(joueurs=$B57,ROW(INDIRECT(\"1:\"&ROWS(interceptions)))),ROWS($1:$39))),\"\")","v":""},{"$f":"IF(ROWS($1:$40)<=COUNTIF(joueurs,$B57),INDEX(interceptions,SMALL(IF(joueurs=$B57,ROW(INDIRECT(\"1:\"&ROWS(interceptions)))),ROWS($1:$40))),\"\")","v":""},{"$f":"IF(ROWS($1:$31)<=COUNTIF(joueurs,$B57),INDEX(ballonrecuperes,SMALL(IF(joueurs=$B57,ROW(INDIRECT(\"1:\"&ROWS(ballonrecuperes)))),ROWS($1:$31))),\"\")","v":""},{"$f":"IF(ROWS($1:$32)<=COUNTIF(joueurs,$B57),INDEX(ballonrecuperes,SMALL(IF(joueurs=$B57,ROW(INDIRECT(\"1:\"&ROWS(ballonrecuperes)))),ROWS($1:$32))),\"\")","v":""},{"$f":"IF(ROWS($1:$33)<=COUNTIF(joueurs,$B57),INDEX(ballonrecuperes,SMALL(IF(joueurs=$B57,ROW(INDIRECT(\"1:\"&ROWS(ballonrecuperes)))),ROWS($1:$33))),\"\")","v":""},{"$f":"IF(ROWS($1:$34)<=COUNTIF(joueurs,$B57),INDEX(ballonrecuperes,SMALL(IF(joueurs=$B57,ROW(INDIRECT(\"1:\"&ROWS(ballonrecuperes)))),ROWS($1:$34))),\"\")","v":""},{"$f":"IF(ROWS($1:$35)<=COUNTIF(joueurs,$B57),INDEX(ballonrecuperes,SMALL(IF(joueurs=$B57,ROW(INDIRECT(\"1:\"&ROWS(ballonrecuperes)))),ROWS($1:$35))),\"\")","v":""},{"$f":"IF(ROWS($1:$36)<=COUNTIF(joueurs,$B57),INDEX(ballonrecuperes,SMALL(IF(joueurs=$B57,ROW(INDIRECT(\"1:\"&ROWS(ballonrecuperes)))),ROWS($1:$36))),\"\")","v":""},{"$f":"IF(ROWS($1:$37)<=COUNTIF(joueurs,$B57),INDEX(ballonrecuperes,SMALL(IF(joueurs=$B57,ROW(INDIRECT(\"1:\"&ROWS(ballonrecuperes)))),ROWS($1:$37))),\"\")","v":""},{"$f":"IF(ROWS($1:$38)<=COUNTIF(joueurs,$B57),INDEX(ballonrecuperes,SMALL(IF(joueurs=$B57,ROW(INDIRECT(\"1:\"&ROWS(ballonrecuperes)))),ROWS($1:$38))),\"\")","v":""},{"$f":"IF(ROWS($1:$39)<=COUNTIF(joueurs,$B57),INDEX(ballonrecuperes,SMALL(IF(joueurs=$B57,ROW(INDIRECT(\"1:\"&ROWS(ballonrecuperes)))),ROWS($1:$39))),\"\")","v":""},{"$f":"IF(ROWS($1:$40)<=COUNTIF(joueurs,$B57),INDEX(ballonrecuperes,SMALL(IF(joueurs=$B57,ROW(INDIRECT(\"1:\"&ROWS(ballonrecuperes)))),ROWS($1:$40))),\"\")","v":""},{"$f":"IF(ROWS($1:$31)<=COUNTIF(joueurs,$B57),INDEX(tirs,SMALL(IF(joueurs=$B57,ROW(INDIRECT(\"1:\"&ROWS(tirs)))),ROWS($1:$31))),\"\")","v":""},{"$f":"IF(ROWS($1:$32)<=COUNTIF(joueurs,$B57),INDEX(tirs,SMALL(IF(joueurs=$B57,ROW(INDIRECT(\"1:\"&ROWS(tirs)))),ROWS($1:$32))),\"\")","v":""},{"$f":"IF(ROWS($1:$33)<=COUNTIF(joueurs,$B57),INDEX(tirs,SMALL(IF(joueurs=$B57,ROW(INDIRECT(\"1:\"&ROWS(tirs)))),ROWS($1:$33))),\"\")","v":""},{"$f":"IF(ROWS($1:$34)<=COUNTIF(joueurs,$B57),INDEX(tirs,SMALL(IF(joueurs=$B57,ROW(INDIRECT(\"1:\"&ROWS(tirs)))),ROWS($1:$34))),\"\")","v":""},{"$f":"IF(ROWS($1:$35)<=COUNTIF(joueurs,$B57),INDEX(tirs,SMALL(IF(joueurs=$B57,ROW(INDIRECT(\"1:\"&ROWS(tirs)))),ROWS($1:$35))),\"\")","v":""},{"$f":"IF(ROWS($1:$36)<=COUNTIF(joueurs,$B57),INDEX(tirs,SMALL(IF(joueurs=$B57,ROW(INDIRECT(\"1:\"&ROWS(tirs)))),ROWS($1:$36))),\"\")","v":""},{"$f":"IF(ROWS($1:$37)<=COUNTIF(joueurs,$B57),INDEX(tirs,SMALL(IF(joueurs=$B57,ROW(INDIRECT(\"1:\"&ROWS(tirs)))),ROWS($1:$37))),\"\")","v":""},{"$f":"IF(ROWS($1:$38)<=COUNTIF(joueurs,$B57),INDEX(tirs,SMALL(IF(joueurs=$B57,ROW(INDIRECT(\"1:\"&ROWS(tirs)))),ROWS($1:$38))),\"\")","v":""},{"$f":"IF(ROWS($1:$39)<=COUNTIF(joueurs,$B57),INDEX(tirs,SMALL(IF(joueurs=$B57,ROW(INDIRECT(\"1:\"&ROWS(tirs)))),ROWS($1:$39))),\"\")","v":""},{"$f":"IF(ROWS($1:$40)<=COUNTIF(joueurs,$B57),INDEX(tirs,SMALL(IF(joueurs=$B57,ROW(INDIRECT(\"1:\"&ROWS(tirs)))),ROWS($1:$40))),\"\")","v":""},{"$f":"IF(ROWS($1:$31)<=COUNTIF(joueurs,$B57),INDEX(bontirs,SMALL(IF(joueurs=$B57,ROW(INDIRECT(\"1:\"&ROWS(bontirs)))),ROWS($1:$31))),\"\")","v":""},{"$f":"IF(ROWS($1:$32)<=COUNTIF(joueurs,$B57),INDEX(bontirs,SMALL(IF(joueurs=$B57,ROW(INDIRECT(\"1:\"&ROWS(bontirs)))),ROWS($1:$32))),\"\")","v":""},{"$f":"IF(ROWS($1:$33)<=COUNTIF(joueurs,$B57),INDEX(bontirs,SMALL(IF(joueurs=$B57,ROW(INDIRECT(\"1:\"&ROWS(bontirs)))),ROWS($1:$33))),\"\")","v":""},{"$f":"IF(ROWS($1:$34)<=COUNTIF(joueurs,$B57),INDEX(bontirs,SMALL(IF(joueurs=$B57,ROW(INDIRECT(\"1:\"&ROWS(bontirs)))),ROWS($1:$34))),\"\")","v":""},{"$f":"IF(ROWS($1:$35)<=COUNTIF(joueurs,$B57),INDEX(bontirs,SMALL(IF(joueurs=$B57,ROW(INDIRECT(\"1:\"&ROWS(bontirs)))),ROWS($1:$35))),\"\")","v":""},{"$f":"IF(ROWS($1:$36)<=COUNTIF(joueurs,$B57),INDEX(bontirs,SMALL(IF(joueurs=$B57,ROW(INDIRECT(\"1:\"&ROWS(bontirs)))),ROWS($1:$36))),\"\")","v":""},{"$f":"IF(ROWS($1:$37)<=COUNTIF(joueurs,$B57),INDEX(bontirs,SMALL(IF(joueurs=$B57,ROW(INDIRECT(\"1:\"&ROWS(bontirs)))),ROWS($1:$37))),\"\")","v":""},{"$f":"IF(ROWS($1:$38)<=COUNTIF(joueurs,$B57),INDEX(bontirs,SMALL(IF(joueurs=$B57,ROW(INDIRECT(\"1:\"&ROWS(bontirs)))),ROWS($1:$38))),\"\")","v":""},{"$f":"IF(ROWS($1:$39)<=COUNTIF(joueurs,$B57),INDEX(bontirs,SMALL(IF(joueurs=$B57,ROW(INDIRECT(\"1:\"&ROWS(bontirs)))),ROWS($1:$39))),\"\")","v":""},{"$f":"IF(ROWS($1:$40)<=COUNTIF(joueurs,$B57),INDEX(bontirs,SMALL(IF(joueurs=$B57,ROW(INDIRECT(\"1:\"&ROWS(bontirs)))),ROWS($1:$40))),\"\")","v":""},{"$f":"IF(ROWS($1:$31)<=COUNTIF(joueurs,$B57),INDEX(points,SMALL(IF(joueurs=$B57,ROW(INDIRECT(\"1:\"&ROWS(points)))),ROWS($1:$31))),\"\")","v":""},{"$f":"IF(ROWS($1:$32)<=COUNTIF(joueurs,$B57),INDEX(points,SMALL(IF(joueurs=$B57,ROW(INDIRECT(\"1:\"&ROWS(points)))),ROWS($1:$32))),\"\")","v":""},{"$f":"IF(ROWS($1:$33)<=COUNTIF(joueurs,$B57),INDEX(points,SMALL(IF(joueurs=$B57,ROW(INDIRECT(\"1:\"&ROWS(points)))),ROWS($1:$33))),\"\")","v":""},{"$f":"IF(ROWS($1:$34)<=COUNTIF(joueurs,$B57),INDEX(points,SMALL(IF(joueurs=$B57,ROW(INDIRECT(\"1:\"&ROWS(points)))),ROWS($1:$34))),\"\")","v":""},{"$f":"IF(ROWS($1:$35)<=COUNTIF(joueurs,$B57),INDEX(points,SMALL(IF(joueurs=$B57,ROW(INDIRECT(\"1:\"&ROWS(points)))),ROWS($1:$35))),\"\")","v":""},{"$f":"IF(ROWS($1:$36)<=COUNTIF(joueurs,$B57),INDEX(points,SMALL(IF(joueurs=$B57,ROW(INDIRECT(\"1:\"&ROWS(points)))),ROWS($1:$36))),\"\")","v":""},{"$f":"IF(ROWS($1:$37)<=COUNTIF(joueurs,$B57),INDEX(points,SMALL(IF(joueurs=$B57,ROW(INDIRECT(\"1:\"&ROWS(points)))),ROWS($1:$37))),\"\")","v":""},{"$f":"IF(ROWS($1:$38)<=COUNTIF(joueurs,$B57),INDEX(points,SMALL(IF(joueurs=$B57,ROW(INDIRECT(\"1:\"&ROWS(points)))),ROWS($1:$38))),\"\")","v":""},{"$f":"IF(ROWS($1:$39)<=COUNTIF(joueurs,$B57),INDEX(points,SMALL(IF(joueurs=$B57,ROW(INDIRECT(\"1:\"&ROWS(points)))),ROWS($1:$39))),\"\")","v":""},{"$f":"IF(ROWS($1:$40)<=COUNTIF(joueurs,$B57),INDEX(points,SMALL(IF(joueurs=$B57,ROW(INDIRECT(\"1:\"&ROWS(points)))),ROWS($1:$40))),\"\")","v":""},{"$f":"IF(ROWS($1:$31)<=COUNTIF(joueurs,$B57),INDEX(victoires,SMALL(IF(joueurs=$B57,ROW(INDIRECT(\"1:\"&ROWS(victoires)))),ROWS($1:$31))),\"\")","v":""},{"$f":"IF(ROWS($1:$32)<=COUNTIF(joueurs,$B57),INDEX(victoires,SMALL(IF(joueurs=$B57,ROW(INDIRECT(\"1:\"&ROWS(victoires)))),ROWS($1:$32))),\"\")","v":""},{"$f":"IF(ROWS($1:$33)<=COUNTIF(joueurs,$B57),INDEX(victoires,SMALL(IF(joueurs=$B57,ROW(INDIRECT(\"1:\"&ROWS(victoires)))),ROWS($1:$33))),\"\")","v":""},{"$f":"IF(ROWS($1:$34)<=COUNTIF(joueurs,$B57),INDEX(victoires,SMALL(IF(joueurs=$B57,ROW(INDIRECT(\"1:\"&ROWS(victoires)))),ROWS($1:$34))),\"\")","v":""},{"$f":"IF(ROWS($1:$35)<=COUNTIF(joueurs,$B57),INDEX(victoires,SMALL(IF(joueurs=$B57,ROW(INDIRECT(\"1:\"&ROWS(victoires)))),ROWS($1:$35))),\"\")","v":""},{"$f":"IF(ROWS($1:$36)<=COUNTIF(joueurs,$B57),INDEX(victoires,SMALL(IF(joueurs=$B57,ROW(INDIRECT(\"1:\"&ROWS(victoires)))),ROWS($1:$36))),\"\")","v":""},{"$f":"IF(ROWS($1:$37)<=COUNTIF(joueurs,$B57),INDEX(victoires,SMALL(IF(joueurs=$B57,ROW(INDIRECT(\"1:\"&ROWS(victoires)))),ROWS($1:$37))),\"\")","v":""},{"$f":"IF(ROWS($1:$38)<=COUNTIF(joueurs,$B57),INDEX(victoires,SMALL(IF(joueurs=$B57,ROW(INDIRECT(\"1:\"&ROWS(victoires)))),ROWS($1:$38))),\"\")","v":""},{"$f":"IF(ROWS($1:$39)<=COUNTIF(joueurs,$B57),INDEX(victoires,SMALL(IF(joueurs=$B57,ROW(INDIRECT(\"1:\"&ROWS(victoires)))),ROWS($1:$39))),\"\")","v":""},{"$f":"IF(ROWS($1:$40)<=COUNTIF(joueurs,$B57),INDEX(victoires,SMALL(IF(joueurs=$B57,ROW(INDIRECT(\"1:\"&ROWS(victoires)))),ROWS($1:$40))),\"\")","v":""}]
[15,{"$f":"INDEX(eleves,MATCH(A61,numero,0),MATCH($B$2,classes,0))","v":"mick"},null,{"$f":"IF(ROWS($1:$1)<=COUNTIF(joueurs,$B61),INDEX(fautes,SMALL(IF(joueurs=$B61,ROW(INDIRECT(\"1:\"&ROWS(fautes)))),ROWS($1:$1))),\"\")","v":""},{"$f":"IF(ROWS($1:$2)<=COUNTIF(joueurs,$B61),INDEX(fautes,SMALL(IF(joueurs=$B61,ROW(INDIRECT(\"1:\"&ROWS(fautes)))),ROWS($1:$2))),\"\")","v":""},{"$f":"IF(ROWS($1:$3)<=COUNTIF(joueurs,$B61),INDEX(fautes,SMALL(IF(joueurs=$B61,ROW(INDIRECT(\"1:\"&ROWS(fautes)))),ROWS($1:$3))),\"\")","v":""},{"$f":"IF(ROWS($1:$4)<=COUNTIF(joueurs,$B61),INDEX(fautes,SMALL(IF(joueurs=$B61,ROW(INDIRECT(\"1:\"&ROWS(fautes)))),ROWS($1:$4))),\"\")","v":""},{"$f":"IF(ROWS($1:$5)<=COUNTIF(joueurs,$B61),INDEX(fautes,SMALL(IF(joueurs=$B61,ROW(INDIRECT(\"1:\"&ROWS(fautes)))),ROWS($1:$5))),\"\")","v":""},{"$f":"IF(ROWS($1:$6)<=COUNTIF(joueurs,$B61),INDEX(fautes,SMALL(IF(joueurs=$B61,ROW(INDIRECT(\"1:\"&ROWS(fautes)))),ROWS($1:$6))),\"\")","v":""},{"$f":"IF(ROWS($1:$7)<=COUNTIF(joueurs,$B61),INDEX(fautes,SMALL(IF(joueurs=$B61,ROW(INDIRECT(\"1:\"&ROWS(fautes)))),ROWS($1:$7))),\"\")","v":""},{"$f":"IF(ROWS($1:$8)<=COUNTIF(joueurs,$B61),INDEX(fautes,SMALL(IF(joueurs=$B61,ROW(INDIRECT(\"1:\"&ROWS(fautes)))),ROWS($1:$8))),\"\")","v":""},{"$f":"IF(ROWS($1:$9)<=COUNTIF(joueurs,$B61),INDEX(fautes,SMALL(IF(joueurs=$B61,ROW(INDIRECT(\"1:\"&ROWS(fautes)))),ROWS($1:$9))),\"\")","v":""},{"$f":"IF(ROWS($1:$10)<=COUNTIF(joueurs,$B61),INDEX(fautes,SMALL(IF(joueurs=$B61,ROW(INDIRECT(\"1:\"&ROWS(fautes)))),ROWS($1:$10))),\"\")","v":""},{"$f":"IF(ROWS($1:$1)<=COUNTIF(joueurs,$B61),INDEX(ballonperdus,SMALL(IF(joueurs=$B61,ROW(INDIRECT(\"1:\"&ROWS(ballonperdus)))),ROWS($1:$1))),\"\")","v":""},{"$f":"IF(ROWS($1:$2)<=COUNTIF(joueurs,$B61),INDEX(ballonperdus,SMALL(IF(joueurs=$B61,ROW(INDIRECT(\"1:\"&ROWS(ballonperdus)))),ROWS($1:$2))),\"\")","v":""},{"$f":"IF(ROWS($1:$3)<=COUNTIF(joueurs,$B61),INDEX(ballonperdus,SMALL(IF(joueurs=$B61,ROW(INDIRECT(\"1:\"&ROWS(ballonperdus)))),ROWS($1:$3))),\"\")","v":""},{"$f":"IF(ROWS($1:$4)<=COUNTIF(joueurs,$B61),INDEX(ballonperdus,SMALL(IF(joueurs=$B61,ROW(INDIRECT(\"1:\"&ROWS(ballonperdus)))),ROWS($1:$4))),\"\")","v":""},{"$f":"IF(ROWS($1:$5)<=COUNTIF(joueurs,$B61),INDEX(ballonperdus,SMALL(IF(joueurs=$B61,ROW(INDIRECT(\"1:\"&ROWS(ballonperdus)))),ROWS($1:$5))),\"\")","v":""},{"$f":"IF(ROWS($1:$6)<=COUNTIF(joueurs,$B61),INDEX(ballonperdus,SMALL(IF(joueurs=$B61,ROW(INDIRECT(\"1:\"&ROWS(ballonperdus)))),ROWS($1:$6))),\"\")","v":""},{"$f":"IF(ROWS($1:$7)<=COUNTIF(joueurs,$B61),INDEX(ballonperdus,SMALL(IF(joueurs=$B61,ROW(INDIRECT(\"1:\"&ROWS(ballonperdus)))),ROWS($1:$7))),\"\")","v":""},{"$f":"IF(ROWS($1:$8)<=COUNTIF(joueurs,$B61),INDEX(ballonperdus,SMALL(IF(joueurs=$B61,ROW(INDIRECT(\"1:\"&ROWS(ballonperdus)))),ROWS($1:$8))),\"\")","v":""},{"$f":"IF(ROWS($1:$9)<=COUNTIF(joueurs,$B61),INDEX(ballonperdus,SMALL(IF(joueurs=$B61,ROW(INDIRECT(\"1:\"&ROWS(ballonperdus)))),ROWS($1:$9))),\"\")","v":""},{"$f":"IF(ROWS($1:$10)<=COUNTIF(joueurs,$B61),INDEX(ballonperdus,SMALL(IF(joueurs=$B61,ROW(INDIRECT(\"1:\"&ROWS(ballonperdus)))),ROWS($1:$10))),\"\")","v":""},{"$f":"IF(ROWS($1:$1)<=COUNTIF(joueurs,$B61),INDEX(interceptions,SMALL(IF(joueurs=$B61,ROW(INDIRECT(\"1:\"&ROWS(interceptions)))),ROWS($1:$1))),\"\")","v":""},{"$f":"IF(ROWS($1:$2)<=COUNTIF(joueurs,$B61),INDEX(interceptions,SMALL(IF(joueurs=$B61,ROW(INDIRECT(\"1:\"&ROWS(interceptions)))),ROWS($1:$2))),\"\")","v":""},{"$f":"IF(ROWS($1:$3)<=COUNTIF(joueurs,$B61),INDEX(interceptions,SMALL(IF(joueurs=$B61,ROW(INDIRECT(\"1:\"&ROWS(interceptions)))),ROWS($1:$3))),\"\")","v":""},{"$f":"IF(ROWS($1:$4)<=COUNTIF(joueurs,$B61),INDEX(interceptions,SMALL(IF(joueurs=$B61,ROW(INDIRECT(\"1:\"&ROWS(interceptions)))),ROWS($1:$4))),\"\")","v":""},{"$f":"IF(ROWS($1:$5)<=COUNTIF(joueurs,$B61),INDEX(interceptions,SMALL(IF(joueurs=$B61,ROW(INDIRECT(\"1:\"&ROWS(interceptions)))),ROWS($1:$5))),\"\")","v":""},{"$f":"IF(ROWS($1:$6)<=COUNTIF(joueurs,$B61),INDEX(interceptions,SMALL(IF(joueurs=$B61,ROW(INDIRECT(\"1:\"&ROWS(interceptions)))),ROWS($1:$6))),\"\")","v":""},{"$f":"IF(ROWS($1:$7)<=COUNTIF(joueurs,$B61),INDEX(interceptions,SMALL(IF(joueurs=$B61,ROW(INDIRECT(\"1:\"&ROWS(interceptions)))),ROWS($1:$7))),\"\")","v":""},{"$f":"IF(ROWS($1:$8)<=COUNTIF(joueurs,$B61),INDEX(interceptions,SMALL(IF(joueurs=$B61,ROW(INDIRECT(\"1:\"&ROWS(interceptions)))),ROWS($1:$8))),\"\")","v":""},{"$f":"IF(ROWS($1:$9)<=COUNTIF(joueurs,$B61),INDEX(interceptions,SMALL(IF(joueurs=$B61,ROW(INDIRECT(\"1:\"&ROWS(interceptions)))),ROWS($1:$9))),\"\")","v":""},{"$f":"IF(ROWS($1:$10)<=COUNTIF(joueurs,$B61),INDEX(interceptions,SMALL(IF(joueurs=$B61,ROW(INDIRECT(\"1:\"&ROWS(interceptions)))),ROWS($1:$10))),\"\")","v":""},{"$f":"IF(ROWS($1:$1)<=COUNTIF(joueurs,$B61),INDEX(ballonrecuperes,SMALL(IF(joueurs=$B61,ROW(INDIRECT(\"1:\"&ROWS(ballonrecuperes)))),ROWS($1:$1))),\"\")","v":""},{"$f":"IF(ROWS($1:$2)<=COUNTIF(joueurs,$B61),INDEX(ballonrecuperes,SMALL(IF(joueurs=$B61,ROW(INDIRECT(\"1:\"&ROWS(ballonrecuperes)))),ROWS($1:$2))),\"\")","v":""},{"$f":"IF(ROWS($1:$3)<=COUNTIF(joueurs,$B61),INDEX(ballonrecuperes,SMALL(IF(joueurs=$B61,ROW(INDIRECT(\"1:\"&ROWS(ballonrecuperes)))),ROWS($1:$3))),\"\")","v":""},{"$f":"IF(ROWS($1:$4)<=COUNTIF(joueurs,$B61),INDEX(ballonrecuperes,SMALL(IF(joueurs=$B61,ROW(INDIRECT(\"1:\"&ROWS(ballonrecuperes)))),ROWS($1:$4))),\"\")","v":""},{"$f":"IF(ROWS($1:$5)<=COUNTIF(joueurs,$B61),INDEX(ballonrecuperes,SMALL(IF(joueurs=$B61,ROW(INDIRECT(\"1:\"&ROWS(ballonrecuperes)))),ROWS($1:$5))),\"\")","v":""},{"$f":"IF(ROWS($1:$6)<=COUNTIF(joueurs,$B61),INDEX(ballonrecuperes,SMALL(IF(joueurs=$B61,ROW(INDIRECT(\"1:\"&ROWS(ballonrecuperes)))),ROWS($1:$6))),\"\")","v":""},{"$f":"IF(ROWS($1:$7)<=COUNTIF(joueurs,$B61),INDEX(ballonrecuperes,SMALL(IF(joueurs=$B61,ROW(INDIRECT(\"1:\"&ROWS(ballonrecuperes)))),ROWS($1:$7))),\"\")","v":""},{"$f":"IF(ROWS($1:$8)<=COUNTIF(joueurs,$B61),INDEX(ballonrecuperes,SMALL(IF(joueurs=$B61,ROW(INDIRECT(\"1:\"&ROWS(ballonrecuperes)))),ROWS($1:$8))),\"\")","v":""},{"$f":"IF(ROWS($1:$9)<=COUNTIF(joueurs,$B61),INDEX(ballonrecuperes,SMALL(IF(joueurs=$B61,ROW(INDIRECT(\"1:\"&ROWS(ballonrecuperes)))),ROWS($1:$9))),\"\")","v":""},{"$f":"IF(ROWS($1:$10)<=COUNTIF(joueurs,$B61),INDEX(ballonrecuperes,SMALL(IF(joueurs=$B61,ROW(INDIRECT(\"1:\"&ROWS(ballonrecuperes)))),ROWS($1:$10))),\"\")","v":""},{"$f":"IF(ROWS($1:$1)<=COUNTIF(joueurs,$B61),INDEX(tirs,SMALL(IF(joueurs=$B61,ROW(INDIRECT(\"1:\"&ROWS(tirs)))),ROWS($1:$1))),\"\")","v":""},{"$f":"IF(ROWS($1:$2)<=COUNTIF(joueurs,$B61),INDEX(tirs,SMALL(IF(joueurs=$B61,ROW(INDIRECT(\"1:\"&ROWS(tirs)))),ROWS($1:$2))),\"\")","v":""},{"$f":"IF(ROWS($1:$3)<=COUNTIF(joueurs,$B61),INDEX(tirs,SMALL(IF(joueurs=$B61,ROW(INDIRECT(\"1:\"&ROWS(tirs)))),ROWS($1:$3))),\"\")","v":""},{"$f":"IF(ROWS($1:$4)<=COUNTIF(joueurs,$B61),INDEX(tirs,SMALL(IF(joueurs=$B61,ROW(INDIRECT(\"1:\"&ROWS(tirs)))),ROWS($1:$4))),\"\")","v":""},{"$f":"IF(ROWS($1:$5)<=COUNTIF(joueurs,$B61),INDEX(tirs,SMALL(IF(joueurs=$B61,ROW(INDIRECT(\"1:\"&ROWS(tirs)))),ROWS($1:$5))),\"\")","v":""},{"$f":"IF(ROWS($1:$6)<=COUNTIF(joueurs,$B61),INDEX(tirs,SMALL(IF(joueurs=$B61,ROW(INDIRECT(\"1:\"&ROWS(tirs)))),ROWS($1:$6))),\"\")","v":""},{"$f":"IF(ROWS($1:$7)<=COUNTIF(joueurs,$B61),INDEX(tirs,SMALL(IF(joueurs=$B61,ROW(INDIRECT(\"1:\"&ROWS(tirs)))),ROWS($1:$7))),\"\")","v":""},{"$f":"IF(ROWS($1:$8)<=COUNTIF(joueurs,$B61),INDEX(tirs,SMALL(IF(joueurs=$B61,ROW(INDIRECT(\"1:\"&ROWS(tirs)))),ROWS($1:$8))),\"\")","v":""},{"$f":"IF(ROWS($1:$9)<=COUNTIF(joueurs,$B61),INDEX(tirs,SMALL(IF(joueurs=$B61,ROW(INDIRECT(\"1:\"&ROWS(tirs)))),ROWS($1:$9))),\"\")","v":""},{"$f":"IF(ROWS($1:$10)<=COUNTIF(joueurs,$B61),INDEX(tirs,SMALL(IF(joueurs=$B61,ROW(INDIRECT(\"1:\"&ROWS(tirs)))),ROWS($1:$10))),\"\")","v":""},{"$f":"IF(ROWS($1:$1)<=COUNTIF(joueurs,$B61),INDEX(bontirs,SMALL(IF(joueurs=$B61,ROW(INDIRECT(\"1:\"&ROWS(bontirs)))),ROWS($1:$1))),\"\")","v":""},{"$f":"IF(ROWS($1:$2)<=COUNTIF(joueurs,$B61),INDEX(bontirs,SMALL(IF(joueurs=$B61,ROW(INDIRECT(\"1:\"&ROWS(bontirs)))),ROWS($1:$2))),\"\")","v":""},{"$f":"IF(ROWS($1:$3)<=COUNTIF(joueurs,$B61),INDEX(bontirs,SMALL(IF(joueurs=$B61,ROW(INDIRECT(\"1:\"&ROWS(bontirs)))),ROWS($1:$3))),\"\")","v":""},{"$f":"IF(ROWS($1:$4)<=COUNTIF(joueurs,$B61),INDEX(bontirs,SMALL(IF(joueurs=$B61,ROW(INDIRECT(\"1:\"&ROWS(bontirs)))),ROWS($1:$4))),\"\")","v":""},{"$f":"IF(ROWS($1:$5)<=COUNTIF(joueurs,$B61),INDEX(bontirs,SMALL(IF(joueurs=$B61,ROW(INDIRECT(\"1:\"&ROWS(bontirs)))),ROWS($1:$5))),\"\")","v":""},{"$f":"IF(ROWS($1:$6)<=COUNTIF(joueurs,$B61),INDEX(bontirs,SMALL(IF(joueurs=$B61,ROW(INDIRECT(\"1:\"&ROWS(bontirs)))),ROWS($1:$6))),\"\")","v":""},{"$f":"IF(ROWS($1:$7)<=COUNTIF(joueurs,$B61),INDEX(bontirs,SMALL(IF(joueurs=$B61,ROW(INDIRECT(\"1:\"&ROWS(bontirs)))),ROWS($1:$7))),\"\")","v":""},{"$f":"IF(ROWS($1:$8)<=COUNTIF(joueurs,$B61),INDEX(bontirs,SMALL(IF(joueurs=$B61,ROW(INDIRECT(\"1:\"&ROWS(bontirs)))),ROWS($1:$8))),\"\")","v":""},{"$f":"IF(ROWS($1:$9)<=COUNTIF(joueurs,$B61),INDEX(bontirs,SMALL(IF(joueurs=$B61,ROW(INDIRECT(\"1:\"&ROWS(bontirs)))),ROWS($1:$9))),\"\")","v":""},{"$f":"IF(ROWS($1:$10)<=COUNTIF(joueurs,$B61),INDEX(bontirs,SMALL(IF(joueurs=$B61,ROW(INDIRECT(\"1:\"&ROWS(bontirs)))),ROWS($1:$10))),\"\")","v":""},{"$f":"IF(ROWS($1:$1)<=COUNTIF(joueurs,$B61),INDEX(points,SMALL(IF(joueurs=$B61,ROW(INDIRECT(\"1:\"&ROWS(points)))),ROWS($1:$1))),\"\")","v":""},{"$f":"IF(ROWS($1:$2)<=COUNTIF(joueurs,$B61),INDEX(points,SMALL(IF(joueurs=$B61,ROW(INDIRECT(\"1:\"&ROWS(points)))),ROWS($1:$2))),\"\")","v":""},{"$f":"IF(ROWS($1:$3)<=COUNTIF(joueurs,$B61),INDEX(points,SMALL(IF(joueurs=$B61,ROW(INDIRECT(\"1:\"&ROWS(points)))),ROWS($1:$3))),\"\")","v":""},{"$f":"IF(ROWS($1:$4)<=COUNTIF(joueurs,$B61),INDEX(points,SMALL(IF(joueurs=$B61,ROW(INDIRECT(\"1:\"&ROWS(points)))),ROWS($1:$4))),\"\")","v":""},{"$f":"IF(ROWS($1:$5)<=COUNTIF(joueurs,$B61),INDEX(points,SMALL(IF(joueurs=$B61,ROW(INDIRECT(\"1:\"&ROWS(points)))),ROWS($1:$5))),\"\")","v":""},{"$f":"IF(ROWS($1:$6)<=COUNTIF(joueurs,$B61),INDEX(points,SMALL(IF(joueurs=$B61,ROW(INDIRECT(\"1:\"&ROWS(points)))),ROWS($1:$6))),\"\")","v":""},{"$f":"IF(ROWS($1:$7)<=COUNTIF(joueurs,$B61),INDEX(points,SMALL(IF(joueurs=$B61,ROW(INDIRECT(\"1:\"&ROWS(points)))),ROWS($1:$7))),\"\")","v":""},{"$f":"IF(ROWS($1:$8)<=COUNTIF(joueurs,$B61),INDEX(points,SMALL(IF(joueurs=$B61,ROW(INDIRECT(\"1:\"&ROWS(points)))),ROWS($1:$8))),\"\")","v":""},{"$f":"IF(ROWS($1:$9)<=COUNTIF(joueurs,$B61),INDEX(points,SMALL(IF(joueurs=$B61,ROW(INDIRECT(\"1:\"&ROWS(points)))),ROWS($1:$9))),\"\")","v":""},{"$f":"IF(ROWS($1:$10)<=COUNTIF(joueurs,$B61),INDEX(points,SMALL(IF(joueurs=$B61,ROW(INDIRECT(\"1:\"&ROWS(points)))),ROWS($1:$10))),\"\")","v":""},{"$f":"IF(ROWS($1:$1)<=COUNTIF(joueurs,$B61),INDEX(victoires,SMALL(IF(joueurs=$B61,ROW(INDIRECT(\"1:\"&ROWS(victoires)))),ROWS($1:$1))),\"\")","v":""},{"$f":"IF(ROWS($1:$2)<=COUNTIF(joueurs,$B61),INDEX(victoires,SMALL(IF(joueurs=$B61,ROW(INDIRECT(\"1:\"&ROWS(victoires)))),ROWS($1:$2))),\"\")","v":""},{"$f":"IF(ROWS($1:$3)<=COUNTIF(joueurs,$B61),INDEX(victoires,SMALL(IF(joueurs=$B61,ROW(INDIRECT(\"1:\"&ROWS(victoires)))),ROWS($1:$3))),\"\")","v":""},{"$f":"IF(ROWS($1:$4)<=COUNTIF(joueurs,$B61),INDEX(victoires,SMALL(IF(joueurs=$B61,ROW(INDIRECT(\"1:\"&ROWS(victoires)))),ROWS($1:$4))),\"\")","v":""},{"$f":"IF(ROWS($1:$5)<=COUNTIF(joueurs,$B61),INDEX(victoires,SMALL(IF(joueurs=$B61,ROW(INDIRECT(\"1:\"&ROWS(victoires)))),ROWS($1:$5))),\"\")","v":""},{"$f":"IF(ROWS($1:$6)<=COUNTIF(joueurs,$B61),INDEX(victoires,SMALL(IF(joueurs=$B61,ROW(INDIRECT(\"1:\"&ROWS(victoires)))),ROWS($1:$6))),\"\")","v":""},{"$f":"IF(ROWS($1:$7)<=COUNTIF(joueurs,$B61),INDEX(victoires,SMALL(IF(joueurs=$B61,ROW(INDIRECT(\"1:\"&ROWS(victoires)))),ROWS($1:$7))),\"\")","v":""},{"$f":"IF(ROWS($1:$8)<=COUNTIF(joueurs,$B61),INDEX(victoires,SMALL(IF(joueurs=$B61,ROW(INDIRECT(\"1:\"&ROWS(victoires)))),ROWS($1:$8))),\"\")","v":""},{"$f":"IF(ROWS($1:$9)<=COUNTIF(joueurs,$B61),INDEX(victoires,SMALL(IF(joueurs=$B61,ROW(INDIRECT(\"1:\"&ROWS(victoires)))),ROWS($1:$9))),\"\")","v":""},{"$f":"IF(ROWS($1:$10)<=COUNTIF(joueurs,$B61),INDEX(victoires,SMALL(IF(joueurs=$B61,ROW(INDIRECT(\"1:\"&ROWS(victoires)))),ROWS($1:$10))),\"\")","v":""}]
[null,null,null,{"$f":"IF(ROWS($1:$11)<=COUNTIF(joueurs,$B61),INDEX(fautes,SMALL(IF(joueurs=$B61,ROW(INDIRECT(\"1:\"&ROWS(fautes)))),ROWS($1:$11))),\"\")","v":""},{"$f":"IF(ROWS($1:$12)<=COUNTIF(joueurs,$B61),INDEX(fautes,SMALL(IF(joueurs=$B61,ROW(INDIRECT(\"1:\"&ROWS(fautes)))),ROWS($1:$12))),\"\")","v":""},{"$f":"IF(ROWS($1:$13)<=COUNTIF(joueurs,$B61),INDEX(fautes,SMALL(IF(joueurs=$B61,ROW(INDIRECT(\"1:\"&ROWS(fautes)))),ROWS($1:$13))),\"\")","v":""},{"$f":"IF(ROWS($1:$14)<=COUNTIF(joueurs,$B61),INDEX(fautes,SMALL(IF(joueurs=$B61,ROW(INDIRECT(\"1:\"&ROWS(fautes)))),ROWS($1:$14))),\"\")","v":""},{"$f":"IF(ROWS($1:$15)<=COUNTIF(joueurs,$B61),INDEX(fautes,SMALL(IF(joueurs=$B61,ROW(INDIRECT(\"1:\"&ROWS(fautes)))),ROWS($1:$15))),\"\")","v":""},{"$f":"IF(ROWS($1:$16)<=COUNTIF(joueurs,$B61),INDEX(fautes,SMALL(IF(joueurs=$B61,ROW(INDIRECT(\"1:\"&ROWS(fautes)))),ROWS($1:$16))),\"\")","v":""},{"$f":"IF(ROWS($1:$17)<=COUNTIF(joueurs,$B61),INDEX(fautes,SMALL(IF(joueurs=$B61,ROW(INDIRECT(\"1:\"&ROWS(fautes)))),ROWS($1:$17))),\"\")","v":""},{"$f":"IF(ROWS($1:$18)<=COUNTIF(joueurs,$B61),INDEX(fautes,SMALL(IF(joueurs=$B61,ROW(INDIRECT(\"1:\"&ROWS(fautes)))),ROWS($1:$18))),\"\")","v":""},{"$f":"IF(ROWS($1:$19)<=COUNTIF(joueurs,$B61),INDEX(fautes,SMALL(IF(joueurs=$B61,ROW(INDIRECT(\"1:\"&ROWS(fautes)))),ROWS($1:$19))),\"\")","v":""},{"$f":"IF(ROWS($1:$20)<=COUNTIF(joueurs,$B61),INDEX(fautes,SMALL(IF(joueurs=$B61,ROW(INDIRECT(\"1:\"&ROWS(fautes)))),ROWS($1:$20))),\"\")","v":""},{"$f":"IF(ROWS($1:$11)<=COUNTIF(joueurs,$B61),INDEX(ballonperdus,SMALL(IF(joueurs=$B61,ROW(INDIRECT(\"1:\"&ROWS(ballonperdus)))),ROWS($1:$11))),\"\")","v":""},{"$f":"IF(ROWS($1:$12)<=COUNTIF(joueurs,$B61),INDEX(ballonperdus,SMALL(IF(joueurs=$B61,ROW(INDIRECT(\"1:\"&ROWS(ballonperdus)))),ROWS($1:$12))),\"\")","v":""},{"$f":"IF(ROWS($1:$13)<=COUNTIF(joueurs,$B61),INDEX(ballonperdus,SMALL(IF(joueurs=$B61,ROW(INDIRECT(\"1:\"&ROWS(ballonperdus)))),ROWS($1:$13))),\"\")","v":""},{"$f":"IF(ROWS($1:$14)<=COUNTIF(joueurs,$B61),INDEX(ballonperdus,SMALL(IF(joueurs=$B61,ROW(INDIRECT(\"1:\"&ROWS(ballonperdus)))),ROWS($1:$14))),\"\")","v":""},{"$f":"IF(ROWS($1:$15)<=COUNTIF(joueurs,$B61),INDEX(ballonperdus,SMALL(IF(joueurs=$B61,ROW(INDIRECT(\"1:\"&ROWS(ballonperdus)))),ROWS($1:$15))),\"\")","v":""},{"$f":"IF(ROWS($1:$16)<=COUNTIF(joueurs,$B61),INDEX(ballonperdus,SMALL(IF(joueurs=$B61,ROW(INDIRECT(\"1:\"&ROWS(ballonperdus)))),ROWS($1:$16))),\"\")","v":""},{"$f":"IF(ROWS($1:$17)<=COUNTIF(joueurs,$B61),INDEX(ballonperdus,SMALL(IF(joueurs=$B61,ROW(INDIRECT(\"1:\"&ROWS(ballonperdus)))),ROWS($1:$17))),\"\")","v":""},{"$f":"IF(ROWS($1:$18)<=COUNTIF(joueurs,$B61),INDEX(ballonperdus,SMALL(IF(joueurs=$B61,ROW(INDIRECT(\"1:\"&ROWS(ballonperdus)))),ROWS($1:$18))),\"\")","v":""},{"$f":"IF(ROWS($1:$19)<=COUNTIF(joueurs,$B61),INDEX(ballonperdus,SMALL(IF(joueurs=$B61,ROW(INDIRECT(\"1:\"&ROWS(ballonperdus)))),ROWS($1:$19))),\"\")","v":""},{"$f":"IF(ROWS($1:$20)<=COUNTIF(joueurs,$B61),INDEX(fautes,SMALL(IF(joueurs=$B61,ROW(INDIRECT(\"1:\"&ROWS(ballonperdus)))),ROWS($1:$20))),\"\")","v":""},{"$f":"IF(ROWS($1:$11)<=COUNTIF(joueurs,$B61),INDEX(interceptions,SMALL(IF(joueurs=$B61,ROW(INDIRECT(\"1:\"&ROWS(interceptions)))),ROWS($1:$11))),\"\")","v":""},{"$f":"IF(ROWS($1:$12)<=COUNTIF(joueurs,$B61),INDEX(interceptions,SMALL(IF(joueurs=$B61,ROW(INDIRECT(\"1:\"&ROWS(interceptions)))),ROWS($1:$12))),\"\")","v":""},{"$f":"IF(ROWS($1:$13)<=COUNTIF(joueurs,$B61),INDEX(interceptions,SMALL(IF(joueurs=$B61,ROW(INDIRECT(\"1:\"&ROWS(interceptions)))),ROWS($1:$13))),\"\")","v":""},{"$f":"IF(ROWS($1:$14)<=COUNTIF(joueurs,$B61),INDEX(interceptions,SMALL(IF(joueurs=$B61,ROW(INDIRECT(\"1:\"&ROWS(interceptions)))),ROWS($1:$14))),\"\")","v":""},{"$f":"IF(ROWS($1:$15)<=COUNTIF(joueurs,$B61),INDEX(interceptions,SMALL(IF(joueurs=$B61,ROW(INDIRECT(\"1:\"&ROWS(interceptions)))),ROWS($1:$15))),\"\")","v":""},{"$f":"IF(ROWS($1:$16)<=COUNTIF(joueurs,$B61),INDEX(interceptions,SMALL(IF(joueurs=$B61,ROW(INDIRECT(\"1:\"&ROWS(interceptions)))),ROWS($1:$16))),\"\")","v":""},{"$f":"IF(ROWS($1:$17)<=COUNTIF(joueurs,$B61),INDEX(interceptions,SMALL(IF(joueurs=$B61,ROW(INDIRECT(\"1:\"&ROWS(interceptions)))),ROWS($1:$17))),\"\")","v":""},{"$f":"IF(ROWS($1:$18)<=COUNTIF(joueurs,$B61),INDEX(interceptions,SMALL(IF(joueurs=$B61,ROW(INDIRECT(\"1:\"&ROWS(interceptions)))),ROWS($1:$18))),\"\")","v":""},{"$f":"IF(ROWS($1:$19)<=COUNTIF(joueurs,$B61),INDEX(interceptions,SMALL(IF(joueurs=$B61,ROW(INDIRECT(\"1:\"&ROWS(interceptions)))),ROWS($1:$19))),\"\")","v":""},{"$f":"IF(ROWS($1:$20)<=COUNTIF(joueurs,$B61),INDEX(interceptions,SMALL(IF(joueurs=$B61,ROW(INDIRECT(\"1:\"&ROWS(interceptions)))),ROWS($1:$20))),\"\")","v":""},{"$f":"IF(ROWS($1:$11)<=COUNTIF(joueurs,$B61),INDEX(ballonrecuperes,SMALL(IF(joueurs=$B61,ROW(INDIRECT(\"1:\"&ROWS(ballonrecuperes)))),ROWS($1:$11))),\"\")","v":""},{"$f":"IF(ROWS($1:$12)<=COUNTIF(joueurs,$B61),INDEX(ballonrecuperes,SMALL(IF(joueurs=$B61,ROW(INDIRECT(\"1:\"&ROWS(ballonrecuperes)))),ROWS($1:$12))),\"\")","v":""},{"$f":"IF(ROWS($1:$13)<=COUNTIF(joueurs,$B61),INDEX(ballonrecuperes,SMALL(IF(joueurs=$B61,ROW(INDIRECT(\"1:\"&ROWS(ballonrecuperes)))),ROWS($1:$13))),\"\")","v":""},{"$f":"IF(ROWS($1:$14)<=COUNTIF(joueurs,$B61),INDEX(ballonrecuperes,SMALL(IF(joueurs=$B61,ROW(INDIRECT(\"1:\"&ROWS(ballonrecuperes)))),ROWS($1:$14))),\"\")","v":""},{"$f":"IF(ROWS($1:$15)<=COUNTIF(joueurs,$B61),INDEX(ballonrecuperes,SMALL(IF(joueurs=$B61,ROW(INDIRECT(\"1:\"&ROWS(ballonrecuperes)))),ROWS($1:$15))),\"\")","v":""},{"$f":"IF(ROWS($1:$16)<=COUNTIF(joueurs,$B61),INDEX(ballonrecuperes,SMALL(IF(joueurs=$B61,ROW(INDIRECT(\"1:\"&ROWS(ballonrecuperes)))),ROWS($1:$16))),\"\")","v":""},{"$f":"IF(ROWS($1:$17)<=COUNTIF(joueurs,$B61),INDEX(ballonrecuperes,SMALL(IF(joueurs=$B61,ROW(INDIRECT(\"1:\"&ROWS(ballonrecuperes)))),ROWS($1:$17))),\"\")","v":""},{"$f":"IF(ROWS($1:$18)<=COUNTIF(joueurs,$B61),INDEX(ballonrecuperes,SMALL(IF(joueurs=$B61,ROW(INDIRECT(\"1:\"&ROWS(ballonrecuperes)))),ROWS($1:$18))),\"\")","v":""},{"$f":"IF(ROWS($1:$19)<=COUNTIF(joueurs,$B61),INDEX(ballonrecuperes,SMALL(IF(joueurs=$B61,ROW(INDIRECT(\"1:\"&ROWS(ballonrecuperes)))),ROWS($1:$19))),\"\")","v":""},{"$f":"IF(ROWS($1:$20)<=COUNTIF(joueurs,$B61),INDEX(ballonrecuperes,SMALL(IF(joueurs=$B61,ROW(INDIRECT(\"1:\"&ROWS(ballonrecuperes)))),ROWS($1:$20))),\"\")","v":""},{"$f":"IF(ROWS($1:$11)<=COUNTIF(joueurs,$B61),INDEX(tirs,SMALL(IF(joueurs=$B61,ROW(INDIRECT(\"1:\"&ROWS(tirs)))),ROWS($1:$11))),\"\")","v":""},{"$f":"IF(ROWS($1:$12)<=COUNTIF(joueurs,$B61),INDEX(tirs,SMALL(IF(joueurs=$B61,ROW(INDIRECT(\"1:\"&ROWS(tirs)))),ROWS($1:$12))),\"\")","v":""},{"$f":"IF(ROWS($1:$13)<=COUNTIF(joueurs,$B61),INDEX(tirs,SMALL(IF(joueurs=$B61,ROW(INDIRECT(\"1:\"&ROWS(tirs)))),ROWS($1:$13))),\"\")","v":""},{"$f":"IF(ROWS($1:$14)<=COUNTIF(joueurs,$B61),INDEX(tirs,SMALL(IF(joueurs=$B61,ROW(INDIRECT(\"1:\"&ROWS(tirs)))),ROWS($1:$14))),\"\")","v":""},{"$f":"IF(ROWS($1:$15)<=COUNTIF(joueurs,$B61),INDEX(tirs,SMALL(IF(joueurs=$B61,ROW(INDIRECT(\"1:\"&ROWS(tirs)))),ROWS($1:$15))),\"\")","v":""},{"$f":"IF(ROWS($1:$16)<=COUNTIF(joueurs,$B61),INDEX(tirs,SMALL(IF(joueurs=$B61,ROW(INDIRECT(\"1:\"&ROWS(tirs)))),ROWS($1:$16))),\"\")","v":""},{"$f":"IF(ROWS($1:$17)<=COUNTIF(joueurs,$B61),INDEX(tirs,SMALL(IF(joueurs=$B61,ROW(INDIRECT(\"1:\"&ROWS(tirs)))),ROWS($1:$17))),\"\")","v":""},{"$f":"IF(ROWS($1:$18)<=COUNTIF(joueurs,$B61),INDEX(tirs,SMALL(IF(joueurs=$B61,ROW(INDIRECT(\"1:\"&ROWS(tirs)))),ROWS($1:$18))),\"\")","v":""},{"$f":"IF(ROWS($1:$19)<=COUNTIF(joueurs,$B61),INDEX(tirs,SMALL(IF(joueurs=$B61,ROW(INDIRECT(\"1:\"&ROWS(tirs)))),ROWS($1:$19))),\"\")","v":""},{"$f":"IF(ROWS($1:$20)<=COUNTIF(joueurs,$B61),INDEX(tirs,SMALL(IF(joueurs=$B61,ROW(INDIRECT(\"1:\"&ROWS(tirs)))),ROWS($1:$20))),\"\")","v":""},{"$f":"IF(ROWS($1:$11)<=COUNTIF(joueurs,$B61),INDEX(bontirs,SMALL(IF(joueurs=$B61,ROW(INDIRECT(\"1:\"&ROWS(bontirs)))),ROWS($1:$11))),\"\")","v":""},{"$f":"IF(ROWS($1:$12)<=COUNTIF(joueurs,$B61),INDEX(bontirs,SMALL(IF(joueurs=$B61,ROW(INDIRECT(\"1:\"&ROWS(bontirs)))),ROWS($1:$12))),\"\")","v":""},{"$f":"IF(ROWS($1:$13)<=COUNTIF(joueurs,$B61),INDEX(bontirs,SMALL(IF(joueurs=$B61,ROW(INDIRECT(\"1:\"&ROWS(bontirs)))),ROWS($1:$13))),\"\")","v":""},{"$f":"IF(ROWS($1:$14)<=COUNTIF(joueurs,$B61),INDEX(bontirs,SMALL(IF(joueurs=$B61,ROW(INDIRECT(\"1:\"&ROWS(bontirs)))),ROWS($1:$14))),\"\")","v":""},{"$f":"IF(ROWS($1:$15)<=COUNTIF(joueurs,$B61),INDEX(bontirs,SMALL(IF(joueurs=$B61,ROW(INDIRECT(\"1:\"&ROWS(bontirs)))),ROWS($1:$15))),\"\")","v":""},{"$f":"IF(ROWS($1:$16)<=COUNTIF(joueurs,$B61),INDEX(bontirs,SMALL(IF(joueurs=$B61,ROW(INDIRECT(\"1:\"&ROWS(bontirs)))),ROWS($1:$16))),\"\")","v":""},{"$f":"IF(ROWS($1:$17)<=COUNTIF(joueurs,$B61),INDEX(bontirs,SMALL(IF(joueurs=$B61,ROW(INDIRECT(\"1:\"&ROWS(bontirs)))),ROWS($1:$17))),\"\")","v":""},{"$f":"IF(ROWS($1:$18)<=COUNTIF(joueurs,$B61),INDEX(bontirs,SMALL(IF(joueurs=$B61,ROW(INDIRECT(\"1:\"&ROWS(bontirs)))),ROWS($1:$18))),\"\")","v":""},{"$f":"IF(ROWS($1:$19)<=COUNTIF(joueurs,$B61),INDEX(bontirs,SMALL(IF(joueurs=$B61,ROW(INDIRECT(\"1:\"&ROWS(bontirs)))),ROWS($1:$19))),\"\")","v":""},{"$f":"IF(ROWS($1:$20)<=COUNTIF(joueurs,$B61),INDEX(bontirs,SMALL(IF(joueurs=$B61,ROW(INDIRECT(\"1:\"&ROWS(bontirs)))),ROWS($1:$20))),\"\")","v":""},{"$f":"IF(ROWS($1:$11)<=COUNTIF(joueurs,$B61),INDEX(points,SMALL(IF(joueurs=$B61,ROW(INDIRECT(\"1:\"&ROWS(points)))),ROWS($1:$11))),\"\")","v":""},{"$f":"IF(ROWS($1:$12)<=COUNTIF(joueurs,$B61),INDEX(points,SMALL(IF(joueurs=$B61,ROW(INDIRECT(\"1:\"&ROWS(points)))),ROWS($1:$12))),\"\")","v":""},{"$f":"IF(ROWS($1:$13)<=COUNTIF(joueurs,$B61),INDEX(points,SMALL(IF(joueurs=$B61,ROW(INDIRECT(\"1:\"&ROWS(points)))),ROWS($1:$13))),\"\")","v":""},{"$f":"IF(ROWS($1:$14)<=COUNTIF(joueurs,$B61),INDEX(points,SMALL(IF(joueurs=$B61,ROW(INDIRECT(\"1:\"&ROWS(points)))),ROWS($1:$14))),\"\")","v":""},{"$f":"IF(ROWS($1:$15)<=COUNTIF(joueurs,$B61),INDEX(points,SMALL(IF(joueurs=$B61,ROW(INDIRECT(\"1:\"&ROWS(points)))),ROWS($1:$15))),\"\")","v":""},{"$f":"IF(ROWS($1:$16)<=COUNTIF(joueurs,$B61),INDEX(points,SMALL(IF(joueurs=$B61,ROW(INDIRECT(\"1:\"&ROWS(points)))),ROWS($1:$16))),\"\")","v":""},{"$f":"IF(ROWS($1:$17)<=COUNTIF(joueurs,$B61),INDEX(points,SMALL(IF(joueurs=$B61,ROW(INDIRECT(\"1:\"&ROWS(points)))),ROWS($1:$17))),\"\")","v":""},{"$f":"IF(ROWS($1:$18)<=COUNTIF(joueurs,$B61),INDEX(points,SMALL(IF(joueurs=$B61,ROW(INDIRECT(\"1:\"&ROWS(points)))),ROWS($1:$18))),\"\")","v":""},{"$f":"IF(ROWS($1:$19)<=COUNTIF(joueurs,$B61),INDEX(points,SMALL(IF(joueurs=$B61,ROW(INDIRECT(\"1:\"&ROWS(points)))),ROWS($1:$19))),\"\")","v":""},{"$f":"IF(ROWS($1:$20)<=COUNTIF(points,$B61),INDEX(fautes,SMALL(IF(joueurs=$B61,ROW(INDIRECT(\"1:\"&ROWS(points)))),ROWS($1:$20))),\"\")","v":""},{"$f":"IF(ROWS($1:$11)<=COUNTIF(joueurs,$B61),INDEX(victoires,SMALL(IF(joueurs=$B61,ROW(INDIRECT(\"1:\"&ROWS(victoires)))),ROWS($1:$11))),\"\")","v":""},{"$f":"IF(ROWS($1:$12)<=COUNTIF(joueurs,$B61),INDEX(victoires,SMALL(IF(joueurs=$B61,ROW(INDIRECT(\"1:\"&ROWS(victoires)))),ROWS($1:$12))),\"\")","v":""},{"$f":"IF(ROWS($1:$13)<=COUNTIF(joueurs,$B61),INDEX(victoires,SMALL(IF(joueurs=$B61,ROW(INDIRECT(\"1:\"&ROWS(victoires)))),ROWS($1:$13))),\"\")","v":""},{"$f":"IF(ROWS($1:$14)<=COUNTIF(joueurs,$B61),INDEX(victoires,SMALL(IF(joueurs=$B61,ROW(INDIRECT(\"1:\"&ROWS(victoires)))),ROWS($1:$14))),\"\")","v":""},{"$f":"IF(ROWS($1:$15)<=COUNTIF(joueurs,$B61),INDEX(victoires,SMALL(IF(joueurs=$B61,ROW(INDIRECT(\"1:\"&ROWS(victoires)))),ROWS($1:$15))),\"\")","v":""},{"$f":"IF(ROWS($1:$16)<=COUNTIF(joueurs,$B61),INDEX(victoires,SMALL(IF(joueurs=$B61,ROW(INDIRECT(\"1:\"&ROWS(victoires)))),ROWS($1:$16))),\"\")","v":""},{"$f":"IF(ROWS($1:$17)<=COUNTIF(joueurs,$B61),INDEX(victoires,SMALL(IF(joueurs=$B61,ROW(INDIRECT(\"1:\"&ROWS(victoires)))),ROWS($1:$17))),\"\")","v":""},{"$f":"IF(ROWS($1:$18)<=COUNTIF(joueurs,$B61),INDEX(victoires,SMALL(IF(joueurs=$B61,ROW(INDIRECT(\"1:\"&ROWS(victoires)))),ROWS($1:$18))),\"\")","v":""},{"$f":"IF(ROWS($1:$19)<=COUNTIF(joueurs,$B61),INDEX(victoires,SMALL(IF(joueurs=$B61,ROW(INDIRECT(\"1:\"&ROWS(victoires)))),ROWS($1:$19))),\"\")","v":""},{"$f":"IF(ROWS($1:$20)<=COUNTIF(joueurs,$B61),INDEX(victoires,SMALL(IF(joueurs=$B61,ROW(INDIRECT(\"1:\"&ROWS(victoires)))),ROWS($1:$20))),\"\")","v":""}]
[null,null,null,{"$f":"IF(ROWS($1:$21)<=COUNTIF(joueurs,$B61),INDEX(fautes,SMALL(IF(joueurs=$B61,ROW(INDIRECT(\"1:\"&ROWS(fautes)))),ROWS($1:$21))),\"\")","v":""},{"$f":"IF(ROWS($1:$22)<=COUNTIF(joueurs,$B61),INDEX(fautes,SMALL(IF(joueurs=$B61,ROW(INDIRECT(\"1:\"&ROWS(fautes)))),ROWS($1:$22))),\"\")","v":""},{"$f":"IF(ROWS($1:$23)<=COUNTIF(joueurs,$B61),INDEX(fautes,SMALL(IF(joueurs=$B61,ROW(INDIRECT(\"1:\"&ROWS(fautes)))),ROWS($1:$23))),\"\")","v":""},{"$f":"IF(ROWS($1:$24)<=COUNTIF(joueurs,$B61),INDEX(fautes,SMALL(IF(joueurs=$B61,ROW(INDIRECT(\"1:\"&ROWS(fautes)))),ROWS($1:$24))),\"\")","v":""},{"$f":"IF(ROWS($1:$25)<=COUNTIF(joueurs,$B61),INDEX(fautes,SMALL(IF(joueurs=$B61,ROW(INDIRECT(\"1:\"&ROWS(fautes)))),ROWS($1:$25))),\"\")","v":""},{"$f":"IF(ROWS($1:$26)<=COUNTIF(joueurs,$B61),INDEX(fautes,SMALL(IF(joueurs=$B61,ROW(INDIRECT(\"1:\"&ROWS(fautes)))),ROWS($1:$26))),\"\")","v":""},{"$f":"IF(ROWS($1:$27)<=COUNTIF(joueurs,$B61),INDEX(fautes,SMALL(IF(joueurs=$B61,ROW(INDIRECT(\"1:\"&ROWS(fautes)))),ROWS($1:$27))),\"\")","v":""},{"$f":"IF(ROWS($1:$28)<=COUNTIF(joueurs,$B61),INDEX(fautes,SMALL(IF(joueurs=$B61,ROW(INDIRECT(\"1:\"&ROWS(fautes)))),ROWS($1:$28))),\"\")","v":""},{"$f":"IF(ROWS($1:$29)<=COUNTIF(joueurs,$B61),INDEX(fautes,SMALL(IF(joueurs=$B61,ROW(INDIRECT(\"1:\"&ROWS(fautes)))),ROWS($1:$29))),\"\")","v":""},{"$f":"IF(ROWS($1:$30)<=COUNTIF(joueurs,$B61),INDEX(fautes,SMALL(IF(joueurs=$B61,ROW(INDIRECT(\"1:\"&ROWS(fautes)))),ROWS($1:$30))),\"\")","v":""},{"$f":"IF(ROWS($1:$21)<=COUNTIF(joueurs,$B61),INDEX(ballonperdus,SMALL(IF(joueurs=$B61,ROW(INDIRECT(\"1:\"&ROWS(ballonperdus)))),ROWS($1:$21))),\"\")","v":""},{"$f":"IF(ROWS($1:$22)<=COUNTIF(joueurs,$B61),INDEX(ballonperdus,SMALL(IF(joueurs=$B61,ROW(INDIRECT(\"1:\"&ROWS(ballonperdus)))),ROWS($1:$22))),\"\")","v":""},{"$f":"IF(ROWS($1:$23)<=COUNTIF(joueurs,$B61),INDEX(ballonperdus,SMALL(IF(joueurs=$B61,ROW(INDIRECT(\"1:\"&ROWS(ballonperdus)))),ROWS($1:$23))),\"\")","v":""},{"$f":"IF(ROWS($1:$24)<=COUNTIF(joueurs,$B61),INDEX(ballonperdus,SMALL(IF(joueurs=$B61,ROW(INDIRECT(\"1:\"&ROWS(ballonperdus)))),ROWS($1:$24))),\"\")","v":""},{"$f":"IF(ROWS($1:$25)<=COUNTIF(joueurs,$B61),INDEX(ballonperdus,SMALL(IF(joueurs=$B61,ROW(INDIRECT(\"1:\"&ROWS(ballonperdus)))),ROWS($1:$25))),\"\")","v":""},{"$f":"IF(ROWS($1:$26)<=COUNTIF(joueurs,$B61),INDEX(ballonperdus,SMALL(IF(joueurs=$B61,ROW(INDIRECT(\"1:\"&ROWS(ballonperdus)))),ROWS($1:$26))),\"\")","v":""},{"$f":"IF(ROWS($1:$27)<=COUNTIF(joueurs,$B61),INDEX(ballonperdus,SMALL(IF(joueurs=$B61,ROW(INDIRECT(\"1:\"&ROWS(ballonperdus)))),ROWS($1:$27))),\"\")","v":""},{"$f":"IF(ROWS($1:$28)<=COUNTIF(joueurs,$B61),INDEX(ballonperdus,SMALL(IF(joueurs=$B61,ROW(INDIRECT(\"1:\"&ROWS(ballonperdus)))),ROWS($1:$28))),\"\")","v":""},{"$f":"IF(ROWS($1:$29)<=COUNTIF(joueurs,$B61),INDEX(ballonperdus,SMALL(IF(joueurs=$B61,ROW(INDIRECT(\"1:\"&ROWS(ballonperdus)))),ROWS($1:$29))),\"\")","v":""},{"$f":"IF(ROWS($1:$30)<=COUNTIF(joueurs,$B61),INDEX(ballonperdus,SMALL(IF(joueurs=$B61,ROW(INDIRECT(\"1:\"&ROWS(ballonperdus)))),ROWS($1:$30))),\"\")","v":""},{"$f":"IF(ROWS($1:$21)<=COUNTIF(joueurs,$B61),INDEX(interceptions,SMALL(IF(joueurs=$B61,ROW(INDIRECT(\"1:\"&ROWS(interceptions)))),ROWS($1:$21))),\"\")","v":""},{"$f":"IF(ROWS($1:$22)<=COUNTIF(joueurs,$B61),INDEX(interceptions,SMALL(IF(joueurs=$B61,ROW(INDIRECT(\"1:\"&ROWS(interceptions)))),ROWS($1:$22))),\"\")","v":""},{"$f":"IF(ROWS($1:$23)<=COUNTIF(joueurs,$B61),INDEX(interceptions,SMALL(IF(joueurs=$B61,ROW(INDIRECT(\"1:\"&ROWS(interceptions)))),ROWS($1:$23))),\"\")","v":""},{"$f":"IF(ROWS($1:$24)<=COUNTIF(joueurs,$B61),INDEX(interceptions,SMALL(IF(joueurs=$B61,ROW(INDIRECT(\"1:\"&ROWS(interceptions)))),ROWS($1:$24))),\"\")","v":""},{"$f":"IF(ROWS($1:$25)<=COUNTIF(joueurs,$B61),INDEX(interceptions,SMALL(IF(joueurs=$B61,ROW(INDIRECT(\"1:\"&ROWS(interceptions)))),ROWS($1:$25))),\"\")","v":""},{"$f":"IF(ROWS($1:$26)<=COUNTIF(joueurs,$B61),INDEX(interceptions,SMALL(IF(joueurs=$B61,ROW(INDIRECT(\"1:\"&ROWS(interceptions)))),ROWS($1:$26))),\"\")","v":""},{"$f":"IF(ROWS($1:$27)<=COUNTIF(joueurs,$B61),INDEX(interceptions,SMALL(IF(joueurs=$B61,ROW(INDIRECT(\"1:\"&ROWS(interceptions)))),ROWS($1:$27))),\"\")","v":""},{"$f":"IF(ROWS($1:$28)<=COUNTIF(joueurs,$B61),INDEX(interceptions,SMALL(IF(joueurs=$B61,ROW(INDIRECT(\"1:\"&ROWS(interceptions)))),ROWS($1:$28))),\"\")","v":""},{"$f":"IF(ROWS($1:$29)<=COUNTIF(joueurs,$B61),INDEX(interceptions,SMALL(IF(joueurs=$B61,ROW(INDIRECT(\"1:\"&ROWS(interceptions)))),ROWS($1:$29))),\"\")","v":""},{"$f":"IF(ROWS($1:$30)<=COUNTIF(joueurs,$B61),INDEX(interceptions,SMALL(IF(joueurs=$B61,ROW(INDIRECT(\"1:\"&ROWS(interceptions)))),ROWS($1:$30))),\"\")","v":""},{"$f":"IF(ROWS($1:$21)<=COUNTIF(joueurs,$B61),INDEX(ballonrecuperes,SMALL(IF(joueurs=$B61,ROW(INDIRECT(\"1:\"&ROWS(ballonrecuperes)))),ROWS($1:$21))),\"\")","v":""},{"$f":"IF(ROWS($1:$22)<=COUNTIF(joueurs,$B61),INDEX(ballonrecuperes,SMALL(IF(joueurs=$B61,ROW(INDIRECT(\"1:\"&ROWS(ballonrecuperes)))),ROWS($1:$22))),\"\")","v":""},{"$f":"IF(ROWS($1:$23)<=COUNTIF(joueurs,$B61),INDEX(ballonrecuperes,SMALL(IF(joueurs=$B61,ROW(INDIRECT(\"1:\"&ROWS(ballonrecuperes)))),ROWS($1:$23))),\"\")","v":""},{"$f":"IF(ROWS($1:$24)<=COUNTIF(joueurs,$B61),INDEX(ballonrecuperes,SMALL(IF(joueurs=$B61,ROW(INDIRECT(\"1:\"&ROWS(ballonrecuperes)))),ROWS($1:$24))),\"\")","v":""},{"$f":"IF(ROWS($1:$25)<=COUNTIF(joueurs,$B61),INDEX(ballonrecuperes,SMALL(IF(joueurs=$B61,ROW(INDIRECT(\"1:\"&ROWS(ballonrecuperes)))),ROWS($1:$25))),\"\")","v":""},{"$f":"IF(ROWS($1:$26)<=COUNTIF(joueurs,$B61),INDEX(ballonrecuperes,SMALL(IF(joueurs=$B61,ROW(INDIRECT(\"1:\"&ROWS(ballonrecuperes)))),ROWS($1:$26))),\"\")","v":""},{"$f":"IF(ROWS($1:$27)<=COUNTIF(joueurs,$B61),INDEX(ballonrecuperes,SMALL(IF(joueurs=$B61,ROW(INDIRECT(\"1:\"&ROWS(ballonrecuperes)))),ROWS($1:$27))),\"\")","v":""},{"$f":"IF(ROWS($1:$28)<=COUNTIF(joueurs,$B61),INDEX(ballonrecuperes,SMALL(IF(joueurs=$B61,ROW(INDIRECT(\"1:\"&ROWS(ballonrecuperes)))),ROWS($1:$28))),\"\")","v":""},{"$f":"IF(ROWS($1:$29)<=COUNTIF(joueurs,$B61),INDEX(ballonrecuperes,SMALL(IF(joueurs=$B61,ROW(INDIRECT(\"1:\"&ROWS(ballonrecuperes)))),ROWS($1:$29))),\"\")","v":""},{"$f":"IF(ROWS($1:$30)<=COUNTIF(joueurs,$B61),INDEX(ballonrecuperes,SMALL(IF(joueurs=$B61,ROW(INDIRECT(\"1:\"&ROWS(ballonrecuperes)))),ROWS($1:$30))),\"\")","v":""},{"$f":"IF(ROWS($1:$21)<=COUNTIF(joueurs,$B61),INDEX(tirs,SMALL(IF(joueurs=$B61,ROW(INDIRECT(\"1:\"&ROWS(tirs)))),ROWS($1:$21))),\"\")","v":""},{"$f":"IF(ROWS($1:$22)<=COUNTIF(joueurs,$B61),INDEX(tirs,SMALL(IF(joueurs=$B61,ROW(INDIRECT(\"1:\"&ROWS(tirs)))),ROWS($1:$22))),\"\")","v":""},{"$f":"IF(ROWS($1:$23)<=COUNTIF(joueurs,$B61),INDEX(tirs,SMALL(IF(joueurs=$B61,ROW(INDIRECT(\"1:\"&ROWS(tirs)))),ROWS($1:$23))),\"\")","v":""},{"$f":"IF(ROWS($1:$24)<=COUNTIF(joueurs,$B61),INDEX(tirs,SMALL(IF(joueurs=$B61,ROW(INDIRECT(\"1:\"&ROWS(tirs)))),ROWS($1:$24))),\"\")","v":""},{"$f":"IF(ROWS($1:$25)<=COUNTIF(joueurs,$B61),INDEX(tirs,SMALL(IF(joueurs=$B61,ROW(INDIRECT(\"1:\"&ROWS(tirs)))),ROWS($1:$25))),\"\")","v":""},{"$f":"IF(ROWS($1:$26)<=COUNTIF(joueurs,$B61),INDEX(tirs,SMALL(IF(joueurs=$B61,ROW(INDIRECT(\"1:\"&ROWS(tirs)))),ROWS($1:$26))),\"\")","v":""},{"$f":"IF(ROWS($1:$27)<=COUNTIF(joueurs,$B61),INDEX(tirs,SMALL(IF(joueurs=$B61,ROW(INDIRECT(\"1:\"&ROWS(tirs)))),ROWS($1:$27))),\"\")","v":""},{"$f":"IF(ROWS($1:$28)<=COUNTIF(joueurs,$B61),INDEX(tirs,SMALL(IF(joueurs=$B61,ROW(INDIRECT(\"1:\"&ROWS(tirs)))),ROWS($1:$28))),\"\")","v":""},{"$f":"IF(ROWS($1:$29)<=COUNTIF(joueurs,$B61),INDEX(tirs,SMALL(IF(joueurs=$B61,ROW(INDIRECT(\"1:\"&ROWS(tirs)))),ROWS($1:$29))),\"\")","v":""},{"$f":"IF(ROWS($1:$30)<=COUNTIF(joueurs,$B61),INDEX(tirs,SMALL(IF(joueurs=$B61,ROW(INDIRECT(\"1:\"&ROWS(tirs)))),ROWS($1:$30))),\"\")","v":""},{"$f":"IF(ROWS($1:$21)<=COUNTIF(joueurs,$B61),INDEX(bontirs,SMALL(IF(joueurs=$B61,ROW(INDIRECT(\"1:\"&ROWS(bontirs)))),ROWS($1:$21))),\"\")","v":""},{"$f":"IF(ROWS($1:$22)<=COUNTIF(joueurs,$B61),INDEX(bontirs,SMALL(IF(joueurs=$B61,ROW(INDIRECT(\"1:\"&ROWS(bontirs)))),ROWS($1:$22))),\"\")","v":""},{"$f":"IF(ROWS($1:$23)<=COUNTIF(joueurs,$B61),INDEX(bontirs,SMALL(IF(joueurs=$B61,ROW(INDIRECT(\"1:\"&ROWS(bontirs)))),ROWS($1:$23))),\"\")","v":""},{"$f":"IF(ROWS($1:$24)<=COUNTIF(joueurs,$B61),INDEX(bontirs,SMALL(IF(joueurs=$B61,ROW(INDIRECT(\"1:\"&ROWS(bontirs)))),ROWS($1:$24))),\"\")","v":""},{"$f":"IF(ROWS($1:$25)<=COUNTIF(joueurs,$B61),INDEX(bontirs,SMALL(IF(joueurs=$B61,ROW(INDIRECT(\"1:\"&ROWS(bontirs)))),ROWS($1:$25))),\"\")","v":""},{"$f":"IF(ROWS($1:$26)<=COUNTIF(joueurs,$B61),INDEX(bontirs,SMALL(IF(joueurs=$B61,ROW(INDIRECT(\"1:\"&ROWS(bontirs)))),ROWS($1:$26))),\"\")","v":""},{"$f":"IF(ROWS($1:$27)<=COUNTIF(joueurs,$B61),INDEX(bontirs,SMALL(IF(joueurs=$B61,ROW(INDIRECT(\"1:\"&ROWS(bontirs)))),ROWS($1:$27))),\"\")","v":""},{"$f":"IF(ROWS($1:$28)<=COUNTIF(joueurs,$B61),INDEX(bontirs,SMALL(IF(joueurs=$B61,ROW(INDIRECT(\"1:\"&ROWS(bontirs)))),ROWS($1:$28))),\"\")","v":""},{"$f":"IF(ROWS($1:$29)<=COUNTIF(joueurs,$B61),INDEX(bontirs,SMALL(IF(joueurs=$B61,ROW(INDIRECT(\"1:\"&ROWS(bontirs)))),ROWS($1:$29))),\"\")","v":""},{"$f":"IF(ROWS($1:$30)<=COUNTIF(joueurs,$B61),INDEX(bontirs,SMALL(IF(joueurs=$B61,ROW(INDIRECT(\"1:\"&ROWS(bontirs)))),ROWS($1:$30))),\"\")","v":""},{"$f":"IF(ROWS($1:$21)<=COUNTIF(joueurs,$B61),INDEX(points,SMALL(IF(joueurs=$B61,ROW(INDIRECT(\"1:\"&ROWS(points)))),ROWS($1:$21))),\"\")","v":""},{"$f":"IF(ROWS($1:$22)<=COUNTIF(joueurs,$B61),INDEX(points,SMALL(IF(joueurs=$B61,ROW(INDIRECT(\"1:\"&ROWS(points)))),ROWS($1:$22))),\"\")","v":""},{"$f":"IF(ROWS($1:$23)<=COUNTIF(joueurs,$B61),INDEX(points,SMALL(IF(joueurs=$B61,ROW(INDIRECT(\"1:\"&ROWS(points)))),ROWS($1:$23))),\"\")","v":""},{"$f":"IF(ROWS($1:$24)<=COUNTIF(joueurs,$B61),INDEX(points,SMALL(IF(joueurs=$B61,ROW(INDIRECT(\"1:\"&ROWS(points)))),ROWS($1:$24))),\"\")","v":""},{"$f":"IF(ROWS($1:$25)<=COUNTIF(joueurs,$B61),INDEX(points,SMALL(IF(joueurs=$B61,ROW(INDIRECT(\"1:\"&ROWS(points)))),ROWS($1:$25))),\"\")","v":""},{"$f":"IF(ROWS($1:$26)<=COUNTIF(joueurs,$B61),INDEX(points,SMALL(IF(joueurs=$B61,ROW(INDIRECT(\"1:\"&ROWS(points)))),ROWS($1:$26))),\"\")","v":""},{"$f":"IF(ROWS($1:$27)<=COUNTIF(joueurs,$B61),INDEX(points,SMALL(IF(joueurs=$B61,ROW(INDIRECT(\"1:\"&ROWS(points)))),ROWS($1:$27))),\"\")","v":""},{"$f":"IF(ROWS($1:$28)<=COUNTIF(joueurs,$B61),INDEX(points,SMALL(IF(joueurs=$B61,ROW(INDIRECT(\"1:\"&ROWS(points)))),ROWS($1:$28))),\"\")","v":""},{"$f":"IF(ROWS($1:$29)<=COUNTIF(joueurs,$B61),INDEX(points,SMALL(IF(joueurs=$B61,ROW(INDIRECT(\"1:\"&ROWS(points)))),ROWS($1:$29))),\"\")","v":""},{"$f":"IF(ROWS($1:$30)<=COUNTIF(joueurs,$B61),INDEX(points,SMALL(IF(joueurs=$B61,ROW(INDIRECT(\"1:\"&ROWS(points)))),ROWS($1:$30))),\"\")","v":""},{"$f":"IF(ROWS($1:$21)<=COUNTIF(joueurs,$B61),INDEX(victoires,SMALL(IF(joueurs=$B61,ROW(INDIRECT(\"1:\"&ROWS(victoires)))),ROWS($1:$21))),\"\")","v":""},{"$f":"IF(ROWS($1:$22)<=COUNTIF(joueurs,$B61),INDEX(victoires,SMALL(IF(joueurs=$B61,ROW(INDIRECT(\"1:\"&ROWS(victoires)))),ROWS($1:$22))),\"\")","v":""},{"$f":"IF(ROWS($1:$23)<=COUNTIF(joueurs,$B61),INDEX(victoires,SMALL(IF(joueurs=$B61,ROW(INDIRECT(\"1:\"&ROWS(victoires)))),ROWS($1:$23))),\"\")","v":""},{"$f":"IF(ROWS($1:$24)<=COUNTIF(joueurs,$B61),INDEX(victoires,SMALL(IF(joueurs=$B61,ROW(INDIRECT(\"1:\"&ROWS(victoires)))),ROWS($1:$24))),\"\")","v":""},{"$f":"IF(ROWS($1:$25)<=COUNTIF(joueurs,$B61),INDEX(victoires,SMALL(IF(joueurs=$B61,ROW(INDIRECT(\"1:\"&ROWS(victoires)))),ROWS($1:$25))),\"\")","v":""},{"$f":"IF(ROWS($1:$26)<=COUNTIF(joueurs,$B61),INDEX(victoires,SMALL(IF(joueurs=$B61,ROW(INDIRECT(\"1:\"&ROWS(victoires)))),ROWS($1:$26))),\"\")","v":""},{"$f":"IF(ROWS($1:$27)<=COUNTIF(joueurs,$B61),INDEX(victoires,SMALL(IF(joueurs=$B61,ROW(INDIRECT(\"1:\"&ROWS(victoires)))),ROWS($1:$27))),\"\")","v":""},{"$f":"IF(ROWS($1:$28)<=COUNTIF(joueurs,$B61),INDEX(victoires,SMALL(IF(joueurs=$B61,ROW(INDIRECT(\"1:\"&ROWS(victoires)))),ROWS($1:$28))),\"\")","v":""},{"$f":"IF(ROWS($1:$29)<=COUNTIF(joueurs,$B61),INDEX(victoires,SMALL(IF(joueurs=$B61,ROW(INDIRECT(\"1:\"&ROWS(victoires)))),ROWS($1:$29))),\"\")","v":""},{"$f":"IF(ROWS($1:$30)<=COUNTIF(joueurs,$B61),INDEX(victoires,SMALL(IF(joueurs=$B61,ROW(INDIRECT(\"1:\"&ROWS(victoires)))),ROWS($1:$30))),\"\")","v":""}]
[null,null,null,{"$f":"IF(ROWS($1:$31)<=COUNTIF(joueurs,$B61),INDEX(fautes,SMALL(IF(joueurs=$B61,ROW(INDIRECT(\"1:\"&ROWS(fautes)))),ROWS($1:$31))),\"\")","v":""},{"$f":"IF(ROWS($1:$32)<=COUNTIF(joueurs,$B61),INDEX(fautes,SMALL(IF(joueurs=$B61,ROW(INDIRECT(\"1:\"&ROWS(fautes)))),ROWS($1:$32))),\"\")","v":""},{"$f":"IF(ROWS($1:$33)<=COUNTIF(joueurs,$B61),INDEX(fautes,SMALL(IF(joueurs=$B61,ROW(INDIRECT(\"1:\"&ROWS(fautes)))),ROWS($1:$33))),\"\")","v":""},{"$f":"IF(ROWS($1:$34)<=COUNTIF(joueurs,$B61),INDEX(fautes,SMALL(IF(joueurs=$B61,ROW(INDIRECT(\"1:\"&ROWS(fautes)))),ROWS($1:$34))),\"\")","v":""},{"$f":"IF(ROWS($1:$35)<=COUNTIF(joueurs,$B61),INDEX(fautes,SMALL(IF(joueurs=$B61,ROW(INDIRECT(\"1:\"&ROWS(fautes)))),ROWS($1:$35))),\"\")","v":""},{"$f":"IF(ROWS($1:$36)<=COUNTIF(joueurs,$B61),INDEX(fautes,SMALL(IF(joueurs=$B61,ROW(INDIRECT(\"1:\"&ROWS(fautes)))),ROWS($1:$36))),\"\")","v":""},{"$f":"IF(ROWS($1:$37)<=COUNTIF(joueurs,$B61),INDEX(fautes,SMALL(IF(joueurs=$B61,ROW(INDIRECT(\"1:\"&ROWS(fautes)))),ROWS($1:$37))),\"\")","v":""},{"$f":"IF(ROWS($1:$38)<=COUNTIF(joueurs,$B61),INDEX(fautes,SMALL(IF(joueurs=$B61,ROW(INDIRECT(\"1:\"&ROWS(fautes)))),ROWS($1:$38))),\"\")","v":""},{"$f":"IF(ROWS($1:$39)<=COUNTIF(joueurs,$B61),INDEX(fautes,SMALL(IF(joueurs=$B61,ROW(INDIRECT(\"1:\"&ROWS(fautes)))),ROWS($1:$39))),\"\")","v":""},{"$f":"IF(ROWS($1:$40)<=COUNTIF(joueurs,$B61),INDEX(fautes,SMALL(IF(joueurs=$B61,ROW(INDIRECT(\"1:\"&ROWS(fautes)))),ROWS($1:$40))),\"\")","v":""},{"$f":"IF(ROWS($1:$31)<=COUNTIF(joueurs,$B61),INDEX(ballonperdus,SMALL(IF(joueurs=$B61,ROW(INDIRECT(\"1:\"&ROWS(ballonperdus)))),ROWS($1:$31))),\"\")","v":""},{"$f":"IF(ROWS($1:$32)<=COUNTIF(joueurs,$B61),INDEX(ballonperdus,SMALL(IF(joueurs=$B61,ROW(INDIRECT(\"1:\"&ROWS(ballonperdus)))),ROWS($1:$32))),\"\")","v":""},{"$f":"IF(ROWS($1:$33)<=COUNTIF(joueurs,$B61),INDEX(ballonperdus,SMALL(IF(joueurs=$B61,ROW(INDIRECT(\"1:\"&ROWS(ballonperdus)))),ROWS($1:$33))),\"\")","v":""},{"$f":"IF(ROWS($1:$34)<=COUNTIF(joueurs,$B61),INDEX(ballonperdus,SMALL(IF(joueurs=$B61,ROW(INDIRECT(\"1:\"&ROWS(ballonperdus)))),ROWS($1:$34))),\"\")","v":""},{"$f":"IF(ROWS($1:$35)<=COUNTIF(joueurs,$B61),INDEX(ballonperdus,SMALL(IF(joueurs=$B61,ROW(INDIRECT(\"1:\"&ROWS(ballonperdus)))),ROWS($1:$35))),\"\")","v":""},{"$f":"IF(ROWS($1:$36)<=COUNTIF(joueurs,$B61),INDEX(ballonperdus,SMALL(IF(joueurs=$B61,ROW(INDIRECT(\"1:\"&ROWS(ballonperdus)))),ROWS($1:$36))),\"\")","v":""},{"$f":"IF(ROWS($1:$37)<=COUNTIF(joueurs,$B61),INDEX(ballonperdus,SMALL(IF(joueurs=$B61,ROW(INDIRECT(\"1:\"&ROWS(ballonperdus)))),ROWS($1:$37))),\"\")","v":""},{"$f":"IF(ROWS($1:$38)<=COUNTIF(joueurs,$B61),INDEX(ballonperdus,SMALL(IF(joueurs=$B61,ROW(INDIRECT(\"1:\"&ROWS(ballonperdus)))),ROWS($1:$38))),\"\")","v":""},{"$f":"IF(ROWS($1:$39)<=COUNTIF(joueurs,$B61),INDEX(ballonperdus,SMALL(IF(joueurs=$B61,ROW(INDIRECT(\"1:\"&ROWS(ballonperdus)))),ROWS($1:$39))),\"\")","v":""},{"$f":"IF(ROWS($1:$40)<=COUNTIF(joueurs,$B61),INDEX(ballonperdus,SMALL(IF(joueurs=$B61,ROW(INDIRECT(\"1:\"&ROWS(ballonperdus)))),ROWS($1:$40))),\"\")","v":""},{"$f":"IF(ROWS($1:$31)<=COUNTIF(joueurs,$B61),INDEX(interceptions,SMALL(IF(joueurs=$B61,ROW(INDIRECT(\"1:\"&ROWS(interceptions)))),ROWS($1:$31))),\"\")","v":""},{"$f":"IF(ROWS($1:$32)<=COUNTIF(joueurs,$B61),INDEX(interceptions,SMALL(IF(joueurs=$B61,ROW(INDIRECT(\"1:\"&ROWS(interceptions)))),ROWS($1:$32))),\"\")","v":""},{"$f":"IF(ROWS($1:$33)<=COUNTIF(joueurs,$B61),INDEX(interceptions,SMALL(IF(joueurs=$B61,ROW(INDIRECT(\"1:\"&ROWS(interceptions)))),ROWS($1:$33))),\"\")","v":""},{"$f":"IF(ROWS($1:$34)<=COUNTIF(joueurs,$B61),INDEX(interceptions,SMALL(IF(joueurs=$B61,ROW(INDIRECT(\"1:\"&ROWS(interceptions)))),ROWS($1:$34))),\"\")","v":""},{"$f":"IF(ROWS($1:$35)<=COUNTIF(joueurs,$B61),INDEX(interceptions,SMALL(IF(joueurs=$B61,ROW(INDIRECT(\"1:\"&ROWS(interceptions)))),ROWS($1:$35))),\"\")","v":""},{"$f":"IF(ROWS($1:$36)<=COUNTIF(joueurs,$B61),INDEX(interceptions,SMALL(IF(joueurs=$B61,ROW(INDIRECT(\"1:\"&ROWS(interceptions)))),ROWS($1:$36))),\"\")","v":""},{"$f":"IF(ROWS($1:$37)<=COUNTIF(joueurs,$B61),INDEX(interceptions,SMALL(IF(joueurs=$B61,ROW(INDIRECT(\"1:\"&ROWS(interceptions)))),ROWS($1:$37))),\"\")","v":""},{"$f":"IF(ROWS($1:$38)<=COUNTIF(joueurs,$B61),INDEX(interceptions,SMALL(IF(joueurs=$B61,ROW(INDIRECT(\"1:\"&ROWS(interceptions)))),ROWS($1:$38))),\"\")","v":""},{"$f":"IF(ROWS($1:$39)<=COUNTIF(joueurs,$B61),INDEX(interceptions,SMALL(IF(joueurs=$B61,ROW(INDIRECT(\"1:\"&ROWS(interceptions)))),ROWS($1:$39))),\"\")","v":""},{"$f":"IF(ROWS($1:$40)<=COUNTIF(joueurs,$B61),INDEX(interceptions,SMALL(IF(joueurs=$B61,ROW(INDIRECT(\"1:\"&ROWS(interceptions)))),ROWS($1:$40))),\"\")","v":""},{"$f":"IF(ROWS($1:$31)<=COUNTIF(joueurs,$B61),INDEX(ballonrecuperes,SMALL(IF(joueurs=$B61,ROW(INDIRECT(\"1:\"&ROWS(ballonrecuperes)))),ROWS($1:$31))),\"\")","v":""},{"$f":"IF(ROWS($1:$32)<=COUNTIF(joueurs,$B61),INDEX(ballonrecuperes,SMALL(IF(joueurs=$B61,ROW(INDIRECT(\"1:\"&ROWS(ballonrecuperes)))),ROWS($1:$32))),\"\")","v":""},{"$f":"IF(ROWS($1:$33)<=COUNTIF(joueurs,$B61),INDEX(ballonrecuperes,SMALL(IF(joueurs=$B61,ROW(INDIRECT(\"1:\"&ROWS(ballonrecuperes)))),ROWS($1:$33))),\"\")","v":""},{"$f":"IF(ROWS($1:$34)<=COUNTIF(joueurs,$B61),INDEX(ballonrecuperes,SMALL(IF(joueurs=$B61,ROW(INDIRECT(\"1:\"&ROWS(ballonrecuperes)))),ROWS($1:$34))),\"\")","v":""},{"$f":"IF(ROWS($1:$35)<=COUNTIF(joueurs,$B61),INDEX(ballonrecuperes,SMALL(IF(joueurs=$B61,ROW(INDIRECT(\"1:\"&ROWS(ballonrecuperes)))),ROWS($1:$35))),\"\")","v":""},{"$f":"IF(ROWS($1:$36)<=COUNTIF(joueurs,$B61),INDEX(ballonrecuperes,SMALL(IF(joueurs=$B61,ROW(INDIRECT(\"1:\"&ROWS(ballonrecuperes)))),ROWS($1:$36))),\"\")","v":""},{"$f":"IF(ROWS($1:$37)<=COUNTIF(joueurs,$B61),INDEX(ballonrecuperes,SMALL(IF(joueurs=$B61,ROW(INDIRECT(\"1:\"&ROWS(ballonrecuperes)))),ROWS($1:$37))),\"\")","v":""},{"$f":"IF(ROWS($1:$38)<=COUNTIF(joueurs,$B61),INDEX(ballonrecuperes,SMALL(IF(joueurs=$B61,ROW(INDIRECT(\"1:\"&ROWS(ballonrecuperes)))),ROWS($1:$38))),\"\")","v":""},{"$f":"IF(ROWS($1:$39)<=COUNTIF(joueurs,$B61),INDEX(ballonrecuperes,SMALL(IF(joueurs=$B61,ROW(INDIRECT(\"1:\"&ROWS(ballonrecuperes)))),ROWS($1:$39))),\"\")","v":""},{"$f":"IF(ROWS($1:$40)<=COUNTIF(joueurs,$B61),INDEX(ballonrecuperes,SMALL(IF(joueurs=$B61,ROW(INDIRECT(\"1:\"&ROWS(ballonrecuperes)))),ROWS($1:$40))),\"\")","v":""},{"$f":"IF(ROWS($1:$31)<=COUNTIF(joueurs,$B61),INDEX(tirs,SMALL(IF(joueurs=$B61,ROW(INDIRECT(\"1:\"&ROWS(tirs)))),ROWS($1:$31))),\"\")","v":""},{"$f":"IF(ROWS($1:$32)<=COUNTIF(joueurs,$B61),INDEX(tirs,SMALL(IF(joueurs=$B61,ROW(INDIRECT(\"1:\"&ROWS(tirs)))),ROWS($1:$32))),\"\")","v":""},{"$f":"IF(ROWS($1:$33)<=COUNTIF(joueurs,$B61),INDEX(tirs,SMALL(IF(joueurs=$B61,ROW(INDIRECT(\"1:\"&ROWS(tirs)))),ROWS($1:$33))),\"\")","v":""},{"$f":"IF(ROWS($1:$34)<=COUNTIF(joueurs,$B61),INDEX(tirs,SMALL(IF(joueurs=$B61,ROW(INDIRECT(\"1:\"&ROWS(tirs)))),ROWS($1:$34))),\"\")","v":""},{"$f":"IF(ROWS($1:$35)<=COUNTIF(joueurs,$B61),INDEX(tirs,SMALL(IF(joueurs=$B61,ROW(INDIRECT(\"1:\"&ROWS(tirs)))),ROWS($1:$35))),\"\")","v":""},{"$f":"IF(ROWS($1:$36)<=COUNTIF(joueurs,$B61),INDEX(tirs,SMALL(IF(joueurs=$B61,ROW(INDIRECT(\"1:\"&ROWS(tirs)))),ROWS($1:$36))),\"\")","v":""},{"$f":"IF(ROWS($1:$37)<=COUNTIF(joueurs,$B61),INDEX(tirs,SMALL(IF(joueurs=$B61,ROW(INDIRECT(\"1:\"&ROWS(tirs)))),ROWS($1:$37))),\"\")","v":""},{"$f":"IF(ROWS($1:$38)<=COUNTIF(joueurs,$B61),INDEX(tirs,SMALL(IF(joueurs=$B61,ROW(INDIRECT(\"1:\"&ROWS(tirs)))),ROWS($1:$38))),\"\")","v":""},{"$f":"IF(ROWS($1:$39)<=COUNTIF(joueurs,$B61),INDEX(tirs,SMALL(IF(joueurs=$B61,ROW(INDIRECT(\"1:\"&ROWS(tirs)))),ROWS($1:$39))),\"\")","v":""},{"$f":"IF(ROWS($1:$40)<=COUNTIF(joueurs,$B61),INDEX(tirs,SMALL(IF(joueurs=$B61,ROW(INDIRECT(\"1:\"&ROWS(tirs)))),ROWS($1:$40))),\"\")","v":""},{"$f":"IF(ROWS($1:$31)<=COUNTIF(joueurs,$B61),INDEX(bontirs,SMALL(IF(joueurs=$B61,ROW(INDIRECT(\"1:\"&ROWS(bontirs)))),ROWS($1:$31))),\"\")","v":""},{"$f":"IF(ROWS($1:$32)<=COUNTIF(joueurs,$B61),INDEX(bontirs,SMALL(IF(joueurs=$B61,ROW(INDIRECT(\"1:\"&ROWS(bontirs)))),ROWS($1:$32))),\"\")","v":""},{"$f":"IF(ROWS($1:$33)<=COUNTIF(joueurs,$B61),INDEX(bontirs,SMALL(IF(joueurs=$B61,ROW(INDIRECT(\"1:\"&ROWS(bontirs)))),ROWS($1:$33))),\"\")","v":""},{"$f":"IF(ROWS($1:$34)<=COUNTIF(joueurs,$B61),INDEX(bontirs,SMALL(IF(joueurs=$B61,ROW(INDIRECT(\"1:\"&ROWS(bontirs)))),ROWS($1:$34))),\"\")","v":""},{"$f":"IF(ROWS($1:$35)<=COUNTIF(joueurs,$B61),INDEX(bontirs,SMALL(IF(joueurs=$B61,ROW(INDIRECT(\"1:\"&ROWS(bontirs)))),ROWS($1:$35))),\"\")","v":""},{"$f":"IF(ROWS($1:$36)<=COUNTIF(joueurs,$B61),INDEX(bontirs,SMALL(IF(joueurs=$B61,ROW(INDIRECT(\"1:\"&ROWS(bontirs)))),ROWS($1:$36))),\"\")","v":""},{"$f":"IF(ROWS($1:$37)<=COUNTIF(joueurs,$B61),INDEX(bontirs,SMALL(IF(joueurs=$B61,ROW(INDIRECT(\"1:\"&ROWS(bontirs)))),ROWS($1:$37))),\"\")","v":""},{"$f":"IF(ROWS($1:$38)<=COUNTIF(joueurs,$B61),INDEX(bontirs,SMALL(IF(joueurs=$B61,ROW(INDIRECT(\"1:\"&ROWS(bontirs)))),ROWS($1:$38))),\"\")","v":""},{"$f":"IF(ROWS($1:$39)<=COUNTIF(joueurs,$B61),INDEX(bontirs,SMALL(IF(joueurs=$B61,ROW(INDIRECT(\"1:\"&ROWS(bontirs)))),ROWS($1:$39))),\"\")","v":""},{"$f":"IF(ROWS($1:$40)<=COUNTIF(joueurs,$B61),INDEX(bontirs,SMALL(IF(joueurs=$B61,ROW(INDIRECT(\"1:\"&ROWS(bontirs)))),ROWS($1:$40))),\"\")","v":""},{"$f":"IF(ROWS($1:$31)<=COUNTIF(joueurs,$B61),INDEX(points,SMALL(IF(joueurs=$B61,ROW(INDIRECT(\"1:\"&ROWS(points)))),ROWS($1:$31))),\"\")","v":""},{"$f":"IF(ROWS($1:$32)<=COUNTIF(joueurs,$B61),INDEX(points,SMALL(IF(joueurs=$B61,ROW(INDIRECT(\"1:\"&ROWS(points)))),ROWS($1:$32))),\"\")","v":""},{"$f":"IF(ROWS($1:$33)<=COUNTIF(joueurs,$B61),INDEX(points,SMALL(IF(joueurs=$B61,ROW(INDIRECT(\"1:\"&ROWS(points)))),ROWS($1:$33))),\"\")","v":""},{"$f":"IF(ROWS($1:$34)<=COUNTIF(joueurs,$B61),INDEX(points,SMALL(IF(joueurs=$B61,ROW(INDIRECT(\"1:\"&ROWS(points)))),ROWS($1:$34))),\"\")","v":""},{"$f":"IF(ROWS($1:$35)<=COUNTIF(joueurs,$B61),INDEX(points,SMALL(IF(joueurs=$B61,ROW(INDIRECT(\"1:\"&ROWS(points)))),ROWS($1:$35))),\"\")","v":""},{"$f":"IF(ROWS($1:$36)<=COUNTIF(joueurs,$B61),INDEX(points,SMALL(IF(joueurs=$B61,ROW(INDIRECT(\"1:\"&ROWS(points)))),ROWS($1:$36))),\"\")","v":""},{"$f":"IF(ROWS($1:$37)<=COUNTIF(joueurs,$B61),INDEX(points,SMALL(IF(joueurs=$B61,ROW(INDIRECT(\"1:\"&ROWS(points)))),ROWS($1:$37))),\"\")","v":""},{"$f":"IF(ROWS($1:$38)<=COUNTIF(joueurs,$B61),INDEX(points,SMALL(IF(joueurs=$B61,ROW(INDIRECT(\"1:\"&ROWS(points)))),ROWS($1:$38))),\"\")","v":""},{"$f":"IF(ROWS($1:$39)<=COUNTIF(joueurs,$B61),INDEX(points,SMALL(IF(joueurs=$B61,ROW(INDIRECT(\"1:\"&ROWS(points)))),ROWS($1:$39))),\"\")","v":""},{"$f":"IF(ROWS($1:$40)<=COUNTIF(joueurs,$B61),INDEX(points,SMALL(IF(joueurs=$B61,ROW(INDIRECT(\"1:\"&ROWS(points)))),ROWS($1:$40))),\"\")","v":""},{"$f":"IF(ROWS($1:$31)<=COUNTIF(joueurs,$B61),INDEX(victoires,SMALL(IF(joueurs=$B61,ROW(INDIRECT(\"1:\"&ROWS(victoires)))),ROWS($1:$31))),\"\")","v":""},{"$f":"IF(ROWS($1:$32)<=COUNTIF(joueurs,$B61),INDEX(victoires,SMALL(IF(joueurs=$B61,ROW(INDIRECT(\"1:\"&ROWS(victoires)))),ROWS($1:$32))),\"\")","v":""},{"$f":"IF(ROWS($1:$33)<=COUNTIF(joueurs,$B61),INDEX(victoires,SMALL(IF(joueurs=$B61,ROW(INDIRECT(\"1:\"&ROWS(victoires)))),ROWS($1:$33))),\"\")","v":""},{"$f":"IF(ROWS($1:$34)<=COUNTIF(joueurs,$B61),INDEX(victoires,SMALL(IF(joueurs=$B61,ROW(INDIRECT(\"1:\"&ROWS(victoires)))),ROWS($1:$34))),\"\")","v":""},{"$f":"IF(ROWS($1:$35)<=COUNTIF(joueurs,$B61),INDEX(victoires,SMALL(IF(joueurs=$B61,ROW(INDIRECT(\"1:\"&ROWS(victoires)))),ROWS($1:$35))),\"\")","v":""},{"$f":"IF(ROWS($1:$36)<=COUNTIF(joueurs,$B61),INDEX(victoires,SMALL(IF(joueurs=$B61,ROW(INDIRECT(\"1:\"&ROWS(victoires)))),ROWS($1:$36))),\"\")","v":""},{"$f":"IF(ROWS($1:$37)<=COUNTIF(joueurs,$B61),INDEX(victoires,SMALL(IF(joueurs=$B61,ROW(INDIRECT(\"1:\"&ROWS(victoires)))),ROWS($1:$37))),\"\")","v":""},{"$f":"IF(ROWS($1:$38)<=COUNTIF(joueurs,$B61),INDEX(victoires,SMALL(IF(joueurs=$B61,ROW(INDIRECT(\"1:\"&ROWS(victoires)))),ROWS($1:$38))),\"\")","v":""},{"$f":"IF(ROWS($1:$39)<=COUNTIF(joueurs,$B61),INDEX(victoires,SMALL(IF(joueurs=$B61,ROW(INDIRECT(\"1:\"&ROWS(victoires)))),ROWS($1:$39))),\"\")","v":""},{"$f":"IF(ROWS($1:$40)<=COUNTIF(joueurs,$B61),INDEX(victoires,SMALL(IF(joueurs=$B61,ROW(INDIRECT(\"1:\"&ROWS(victoires)))),ROWS($1:$40))),\"\")","v":""}]
[16,{"$f":"INDEX(eleves,MATCH(A65,numero,0),MATCH($B$2,classes,0))","v":"mika"},null,{"$f":"IF(ROWS($1:$1)<=COUNTIF(joueurs,$B65),INDEX(fautes,SMALL(IF(joueurs=$B65,ROW(INDIRECT(\"1:\"&ROWS(fautes)))),ROWS($1:$1))),\"\")","v":""},{"$f":"IF(ROWS($1:$2)<=COUNTIF(joueurs,$B65),INDEX(fautes,SMALL(IF(joueurs=$B65,ROW(INDIRECT(\"1:\"&ROWS(fautes)))),ROWS($1:$2))),\"\")","v":""},{"$f":"IF(ROWS($1:$3)<=COUNTIF(joueurs,$B65),INDEX(fautes,SMALL(IF(joueurs=$B65,ROW(INDIRECT(\"1:\"&ROWS(fautes)))),ROWS($1:$3))),\"\")","v":""},{"$f":"IF(ROWS($1:$4)<=COUNTIF(joueurs,$B65),INDEX(fautes,SMALL(IF(joueurs=$B65,ROW(INDIRECT(\"1:\"&ROWS(fautes)))),ROWS($1:$4))),\"\")","v":""},{"$f":"IF(ROWS($1:$5)<=COUNTIF(joueurs,$B65),INDEX(fautes,SMALL(IF(joueurs=$B65,ROW(INDIRECT(\"1:\"&ROWS(fautes)))),ROWS($1:$5))),\"\")","v":""},{"$f":"IF(ROWS($1:$6)<=COUNTIF(joueurs,$B65),INDEX(fautes,SMALL(IF(joueurs=$B65,ROW(INDIRECT(\"1:\"&ROWS(fautes)))),ROWS($1:$6))),\"\")","v":""},{"$f":"IF(ROWS($1:$7)<=COUNTIF(joueurs,$B65),INDEX(fautes,SMALL(IF(joueurs=$B65,ROW(INDIRECT(\"1:\"&ROWS(fautes)))),ROWS($1:$7))),\"\")","v":""},{"$f":"IF(ROWS($1:$8)<=COUNTIF(joueurs,$B65),INDEX(fautes,SMALL(IF(joueurs=$B65,ROW(INDIRECT(\"1:\"&ROWS(fautes)))),ROWS($1:$8))),\"\")","v":""},{"$f":"IF(ROWS($1:$9)<=COUNTIF(joueurs,$B65),INDEX(fautes,SMALL(IF(joueurs=$B65,ROW(INDIRECT(\"1:\"&ROWS(fautes)))),ROWS($1:$9))),\"\")","v":""},{"$f":"IF(ROWS($1:$10)<=COUNTIF(joueurs,$B65),INDEX(fautes,SMALL(IF(joueurs=$B65,ROW(INDIRECT(\"1:\"&ROWS(fautes)))),ROWS($1:$10))),\"\")","v":""},{"$f":"IF(ROWS($1:$1)<=COUNTIF(joueurs,$B65),INDEX(ballonperdus,SMALL(IF(joueurs=$B65,ROW(INDIRECT(\"1:\"&ROWS(ballonperdus)))),ROWS($1:$1))),\"\")","v":""},{"$f":"IF(ROWS($1:$2)<=COUNTIF(joueurs,$B65),INDEX(ballonperdus,SMALL(IF(joueurs=$B65,ROW(INDIRECT(\"1:\"&ROWS(ballonperdus)))),ROWS($1:$2))),\"\")","v":""},{"$f":"IF(ROWS($1:$3)<=COUNTIF(joueurs,$B65),INDEX(ballonperdus,SMALL(IF(joueurs=$B65,ROW(INDIRECT(\"1:\"&ROWS(ballonperdus)))),ROWS($1:$3))),\"\")","v":""},{"$f":"IF(ROWS($1:$4)<=COUNTIF(joueurs,$B65),INDEX(ballonperdus,SMALL(IF(joueurs=$B65,ROW(INDIRECT(\"1:\"&ROWS(ballonperdus)))),ROWS($1:$4))),\"\")","v":""},{"$f":"IF(ROWS($1:$5)<=COUNTIF(joueurs,$B65),INDEX(ballonperdus,SMALL(IF(joueurs=$B65,ROW(INDIRECT(\"1:\"&ROWS(ballonperdus)))),ROWS($1:$5))),\"\")","v":""},{"$f":"IF(ROWS($1:$6)<=COUNTIF(joueurs,$B65),INDEX(ballonperdus,SMALL(IF(joueurs=$B65,ROW(INDIRECT(\"1:\"&ROWS(ballonperdus)))),ROWS($1:$6))),\"\")","v":""},{"$f":"IF(ROWS($1:$7)<=COUNTIF(joueurs,$B65),INDEX(ballonperdus,SMALL(IF(joueurs=$B65,ROW(INDIRECT(\"1:\"&ROWS(ballonperdus)))),ROWS($1:$7))),\"\")","v":""},{"$f":"IF(ROWS($1:$8)<=COUNTIF(joueurs,$B65),INDEX(ballonperdus,SMALL(IF(joueurs=$B65,ROW(INDIRECT(\"1:\"&ROWS(ballonperdus)))),ROWS($1:$8))),\"\")","v":""},{"$f":"IF(ROWS($1:$9)<=COUNTIF(joueurs,$B65),INDEX(ballonperdus,SMALL(IF(joueurs=$B65,ROW(INDIRECT(\"1:\"&ROWS(ballonperdus)))),ROWS($1:$9))),\"\")","v":""},{"$f":"IF(ROWS($1:$10)<=COUNTIF(joueurs,$B65),INDEX(ballonperdus,SMALL(IF(joueurs=$B65,ROW(INDIRECT(\"1:\"&ROWS(ballonperdus)))),ROWS($1:$10))),\"\")","v":""},{"$f":"IF(ROWS($1:$1)<=COUNTIF(joueurs,$B65),INDEX(interceptions,SMALL(IF(joueurs=$B65,ROW(INDIRECT(\"1:\"&ROWS(interceptions)))),ROWS($1:$1))),\"\")","v":""},{"$f":"IF(ROWS($1:$2)<=COUNTIF(joueurs,$B65),INDEX(interceptions,SMALL(IF(joueurs=$B65,ROW(INDIRECT(\"1:\"&ROWS(interceptions)))),ROWS($1:$2))),\"\")","v":""},{"$f":"IF(ROWS($1:$3)<=COUNTIF(joueurs,$B65),INDEX(interceptions,SMALL(IF(joueurs=$B65,ROW(INDIRECT(\"1:\"&ROWS(interceptions)))),ROWS($1:$3))),\"\")","v":""},{"$f":"IF(ROWS($1:$4)<=COUNTIF(joueurs,$B65),INDEX(interceptions,SMALL(IF(joueurs=$B65,ROW(INDIRECT(\"1:\"&ROWS(interceptions)))),ROWS($1:$4))),\"\")","v":""},{"$f":"IF(ROWS($1:$5)<=COUNTIF(joueurs,$B65),INDEX(interceptions,SMALL(IF(joueurs=$B65,ROW(INDIRECT(\"1:\"&ROWS(interceptions)))),ROWS($1:$5))),\"\")","v":""},{"$f":"IF(ROWS($1:$6)<=COUNTIF(joueurs,$B65),INDEX(interceptions,SMALL(IF(joueurs=$B65,ROW(INDIRECT(\"1:\"&ROWS(interceptions)))),ROWS($1:$6))),\"\")","v":""},{"$f":"IF(ROWS($1:$7)<=COUNTIF(joueurs,$B65),INDEX(interceptions,SMALL(IF(joueurs=$B65,ROW(INDIRECT(\"1:\"&ROWS(interceptions)))),ROWS($1:$7))),\"\")","v":""},{"$f":"IF(ROWS($1:$8)<=COUNTIF(joueurs,$B65),INDEX(interceptions,SMALL(IF(joueurs=$B65,ROW(INDIRECT(\"1:\"&ROWS(interceptions)))),ROWS($1:$8))),\"\")","v":""},{"$f":"IF(ROWS($1:$9)<=COUNTIF(joueurs,$B65),INDEX(interceptions,SMALL(IF(joueurs=$B65,ROW(INDIRECT(\"1:\"&ROWS(interceptions)))),ROWS($1:$9))),\"\")","v":""},{"$f":"IF(ROWS($1:$10)<=COUNTIF(joueurs,$B65),INDEX(interceptions,SMALL(IF(joueurs=$B65,ROW(INDIRECT(\"1:\"&ROWS(interceptions)))),ROWS($1:$10))),\"\")","v":""},{"$f":"IF(ROWS($1:$1)<=COUNTIF(joueurs,$B65),INDEX(ballonrecuperes,SMALL(IF(joueurs=$B65,ROW(INDIRECT(\"1:\"&ROWS(ballonrecuperes)))),ROWS($1:$1))),\"\")","v":""},{"$f":"IF(ROWS($1:$2)<=COUNTIF(joueurs,$B65),INDEX(ballonrecuperes,SMALL(IF(joueurs=$B65,ROW(INDIRECT(\"1:\"&ROWS(ballonrecuperes)))),ROWS($1:$2))),\"\")","v":""},{"$f":"IF(ROWS($1:$3)<=COUNTIF(joueurs,$B65),INDEX(ballonrecuperes,SMALL(IF(joueurs=$B65,ROW(INDIRECT(\"1:\"&ROWS(ballonrecuperes)))),ROWS($1:$3))),\"\")","v":""},{"$f":"IF(ROWS($1:$4)<=COUNTIF(joueurs,$B65),INDEX(ballonrecuperes,SMALL(IF(joueurs=$B65,ROW(INDIRECT(\"1:\"&ROWS(ballonrecuperes)))),ROWS($1:$4))),\"\")","v":""},{"$f":"IF(ROWS($1:$5)<=COUNTIF(joueurs,$B65),INDEX(ballonrecuperes,SMALL(IF(joueurs=$B65,ROW(INDIRECT(\"1:\"&ROWS(ballonrecuperes)))),ROWS($1:$5))),\"\")","v":""},{"$f":"IF(ROWS($1:$6)<=COUNTIF(joueurs,$B65),INDEX(ballonrecuperes,SMALL(IF(joueurs=$B65,ROW(INDIRECT(\"1:\"&ROWS(ballonrecuperes)))),ROWS($1:$6))),\"\")","v":""},{"$f":"IF(ROWS($1:$7)<=COUNTIF(joueurs,$B65),INDEX(ballonrecuperes,SMALL(IF(joueurs=$B65,ROW(INDIRECT(\"1:\"&ROWS(ballonrecuperes)))),ROWS($1:$7))),\"\")","v":""},{"$f":"IF(ROWS($1:$8)<=COUNTIF(joueurs,$B65),INDEX(ballonrecuperes,SMALL(IF(joueurs=$B65,ROW(INDIRECT(\"1:\"&ROWS(ballonrecuperes)))),ROWS($1:$8))),\"\")","v":""},{"$f":"IF(ROWS($1:$9)<=COUNTIF(joueurs,$B65),INDEX(ballonrecuperes,SMALL(IF(joueurs=$B65,ROW(INDIRECT(\"1:\"&ROWS(ballonrecuperes)))),ROWS($1:$9))),\"\")","v":""},{"$f":"IF(ROWS($1:$10)<=COUNTIF(joueurs,$B65),INDEX(ballonrecuperes,SMALL(IF(joueurs=$B65,ROW(INDIRECT(\"1:\"&ROWS(ballonrecuperes)))),ROWS($1:$10))),\"\")","v":""},{"$f":"IF(ROWS($1:$1)<=COUNTIF(joueurs,$B65),INDEX(tirs,SMALL(IF(joueurs=$B65,ROW(INDIRECT(\"1:\"&ROWS(tirs)))),ROWS($1:$1))),\"\")","v":""},{"$f":"IF(ROWS($1:$2)<=COUNTIF(joueurs,$B65),INDEX(tirs,SMALL(IF(joueurs=$B65,ROW(INDIRECT(\"1:\"&ROWS(tirs)))),ROWS($1:$2))),\"\")","v":""},{"$f":"IF(ROWS($1:$3)<=COUNTIF(joueurs,$B65),INDEX(tirs,SMALL(IF(joueurs=$B65,ROW(INDIRECT(\"1:\"&ROWS(tirs)))),ROWS($1:$3))),\"\")","v":""},{"$f":"IF(ROWS($1:$4)<=COUNTIF(joueurs,$B65),INDEX(tirs,SMALL(IF(joueurs=$B65,ROW(INDIRECT(\"1:\"&ROWS(tirs)))),ROWS($1:$4))),\"\")","v":""},{"$f":"IF(ROWS($1:$5)<=COUNTIF(joueurs,$B65),INDEX(tirs,SMALL(IF(joueurs=$B65,ROW(INDIRECT(\"1:\"&ROWS(tirs)))),ROWS($1:$5))),\"\")","v":""},{"$f":"IF(ROWS($1:$6)<=COUNTIF(joueurs,$B65),INDEX(tirs,SMALL(IF(joueurs=$B65,ROW(INDIRECT(\"1:\"&ROWS(tirs)))),ROWS($1:$6))),\"\")","v":""},{"$f":"IF(ROWS($1:$7)<=COUNTIF(joueurs,$B65),INDEX(tirs,SMALL(IF(joueurs=$B65,ROW(INDIRECT(\"1:\"&ROWS(tirs)))),ROWS($1:$7))),\"\")","v":""},{"$f":"IF(ROWS($1:$8)<=COUNTIF(joueurs,$B65),INDEX(tirs,SMALL(IF(joueurs=$B65,ROW(INDIRECT(\"1:\"&ROWS(tirs)))),ROWS($1:$8))),\"\")","v":""},{"$f":"IF(ROWS($1:$9)<=COUNTIF(joueurs,$B65),INDEX(tirs,SMALL(IF(joueurs=$B65,ROW(INDIRECT(\"1:\"&ROWS(tirs)))),ROWS($1:$9))),\"\")","v":""},{"$f":"IF(ROWS($1:$10)<=COUNTIF(joueurs,$B65),INDEX(tirs,SMALL(IF(joueurs=$B65,ROW(INDIRECT(\"1:\"&ROWS(tirs)))),ROWS($1:$10))),\"\")","v":""},{"$f":"IF(ROWS($1:$1)<=COUNTIF(joueurs,$B65),INDEX(bontirs,SMALL(IF(joueurs=$B65,ROW(INDIRECT(\"1:\"&ROWS(bontirs)))),ROWS($1:$1))),\"\")","v":""},{"$f":"IF(ROWS($1:$2)<=COUNTIF(joueurs,$B65),INDEX(bontirs,SMALL(IF(joueurs=$B65,ROW(INDIRECT(\"1:\"&ROWS(bontirs)))),ROWS($1:$2))),\"\")","v":""},{"$f":"IF(ROWS($1:$3)<=COUNTIF(joueurs,$B65),INDEX(bontirs,SMALL(IF(joueurs=$B65,ROW(INDIRECT(\"1:\"&ROWS(bontirs)))),ROWS($1:$3))),\"\")","v":""},{"$f":"IF(ROWS($1:$4)<=COUNTIF(joueurs,$B65),INDEX(bontirs,SMALL(IF(joueurs=$B65,ROW(INDIRECT(\"1:\"&ROWS(bontirs)))),ROWS($1:$4))),\"\")","v":""},{"$f":"IF(ROWS($1:$5)<=COUNTIF(joueurs,$B65),INDEX(bontirs,SMALL(IF(joueurs=$B65,ROW(INDIRECT(\"1:\"&ROWS(bontirs)))),ROWS($1:$5))),\"\")","v":""},{"$f":"IF(ROWS($1:$6)<=COUNTIF(joueurs,$B65),INDEX(bontirs,SMALL(IF(joueurs=$B65,ROW(INDIRECT(\"1:\"&ROWS(bontirs)))),ROWS($1:$6))),\"\")","v":""},{"$f":"IF(ROWS($1:$7)<=COUNTIF(joueurs,$B65),INDEX(bontirs,SMALL(IF(joueurs=$B65,ROW(INDIRECT(\"1:\"&ROWS(bontirs)))),ROWS($1:$7))),\"\")","v":""},{"$f":"IF(ROWS($1:$8)<=COUNTIF(joueurs,$B65),INDEX(bontirs,SMALL(IF(joueurs=$B65,ROW(INDIRECT(\"1:\"&ROWS(bontirs)))),ROWS($1:$8))),\"\")","v":""},{"$f":"IF(ROWS($1:$9)<=COUNTIF(joueurs,$B65),INDEX(bontirs,SMALL(IF(joueurs=$B65,ROW(INDIRECT(\"1:\"&ROWS(bontirs)))),ROWS($1:$9))),\"\")","v":""},{"$f":"IF(ROWS($1:$10)<=COUNTIF(joueurs,$B65),INDEX(bontirs,SMALL(IF(joueurs=$B65,ROW(INDIRECT(\"1:\"&ROWS(bontirs)))),ROWS($1:$10))),\"\")","v":""},{"$f":"IF(ROWS($1:$1)<=COUNTIF(joueurs,$B65),INDEX(points,SMALL(IF(joueurs=$B65,ROW(INDIRECT(\"1:\"&ROWS(points)))),ROWS($1:$1))),\"\")","v":""},{"$f":"IF(ROWS($1:$2)<=COUNTIF(joueurs,$B65),INDEX(points,SMALL(IF(joueurs=$B65,ROW(INDIRECT(\"1:\"&ROWS(points)))),ROWS($1:$2))),\"\")","v":""},{"$f":"IF(ROWS($1:$3)<=COUNTIF(joueurs,$B65),INDEX(points,SMALL(IF(joueurs=$B65,ROW(INDIRECT(\"1:\"&ROWS(points)))),ROWS($1:$3))),\"\")","v":""},{"$f":"IF(ROWS($1:$4)<=COUNTIF(joueurs,$B65),INDEX(points,SMALL(IF(joueurs=$B65,ROW(INDIRECT(\"1:\"&ROWS(points)))),ROWS($1:$4))),\"\")","v":""},{"$f":"IF(ROWS($1:$5)<=COUNTIF(joueurs,$B65),INDEX(points,SMALL(IF(joueurs=$B65,ROW(INDIRECT(\"1:\"&ROWS(points)))),ROWS($1:$5))),\"\")","v":""},{"$f":"IF(ROWS($1:$6)<=COUNTIF(joueurs,$B65),INDEX(points,SMALL(IF(joueurs=$B65,ROW(INDIRECT(\"1:\"&ROWS(points)))),ROWS($1:$6))),\"\")","v":""},{"$f":"IF(ROWS($1:$7)<=COUNTIF(joueurs,$B65),INDEX(points,SMALL(IF(joueurs=$B65,ROW(INDIRECT(\"1:\"&ROWS(points)))),ROWS($1:$7))),\"\")","v":""},{"$f":"IF(ROWS($1:$8)<=COUNTIF(joueurs,$B65),INDEX(points,SMALL(IF(joueurs=$B65,ROW(INDIRECT(\"1:\"&ROWS(points)))),ROWS($1:$8))),\"\")","v":""},{"$f":"IF(ROWS($1:$9)<=COUNTIF(joueurs,$B65),INDEX(points,SMALL(IF(joueurs=$B65,ROW(INDIRECT(\"1:\"&ROWS(points)))),ROWS($1:$9))),\"\")","v":""},{"$f":"IF(ROWS($1:$10)<=COUNTIF(joueurs,$B65),INDEX(points,SMALL(IF(joueurs=$B65,ROW(INDIRECT(\"1:\"&ROWS(points)))),ROWS($1:$10))),\"\")","v":""},{"$f":"IF(ROWS($1:$1)<=COUNTIF(joueurs,$B65),INDEX(victoires,SMALL(IF(joueurs=$B65,ROW(INDIRECT(\"1:\"&ROWS(victoires)))),ROWS($1:$1))),\"\")","v":""},{"$f":"IF(ROWS($1:$2)<=COUNTIF(joueurs,$B65),INDEX(victoires,SMALL(IF(joueurs=$B65,ROW(INDIRECT(\"1:\"&ROWS(victoires)))),ROWS($1:$2))),\"\")","v":""},{"$f":"IF(ROWS($1:$3)<=COUNTIF(joueurs,$B65),INDEX(victoires,SMALL(IF(joueurs=$B65,ROW(INDIRECT(\"1:\"&ROWS(victoires)))),ROWS($1:$3))),\"\")","v":""},{"$f":"IF(ROWS($1:$4)<=COUNTIF(joueurs,$B65),INDEX(victoires,SMALL(IF(joueurs=$B65,ROW(INDIRECT(\"1:\"&ROWS(victoires)))),ROWS($1:$4))),\"\")","v":""},{"$f":"IF(ROWS($1:$5)<=COUNTIF(joueurs,$B65),INDEX(victoires,SMALL(IF(joueurs=$B65,ROW(INDIRECT(\"1:\"&ROWS(victoires)))),ROWS($1:$5))),\"\")","v":""},{"$f":"IF(ROWS($1:$6)<=COUNTIF(joueurs,$B65),INDEX(victoires,SMALL(IF(joueurs=$B65,ROW(INDIRECT(\"1:\"&ROWS(victoires)))),ROWS($1:$6))),\"\")","v":""},{"$f":"IF(ROWS($1:$7)<=COUNTIF(joueurs,$B65),INDEX(victoires,SMALL(IF(joueurs=$B65,ROW(INDIRECT(\"1:\"&ROWS(victoires)))),ROWS($1:$7))),\"\")","v":""},{"$f":"IF(ROWS($1:$8)<=COUNTIF(joueurs,$B65),INDEX(victoires,SMALL(IF(joueurs=$B65,ROW(INDIRECT(\"1:\"&ROWS(victoires)))),ROWS($1:$8))),\"\")","v":""},{"$f":"IF(ROWS($1:$9)<=COUNTIF(joueurs,$B65),INDEX(victoires,SMALL(IF(joueurs=$B65,ROW(INDIRECT(\"1:\"&ROWS(victoires)))),ROWS($1:$9))),\"\")","v":""},{"$f":"IF(ROWS($1:$10)<=COUNTIF(joueurs,$B65),INDEX(victoires,SMALL(IF(joueurs=$B65,ROW(INDIRECT(\"1:\"&ROWS(victoires)))),ROWS($1:$10))),\"\")","v":""}]
[null,null,null,{"$f":"IF(ROWS($1:$11)<=COUNTIF(joueurs,$B65),INDEX(fautes,SMALL(IF(joueurs=$B65,ROW(INDIRECT(\"1:\"&ROWS(fautes)))),ROWS($1:$11))),\"\")","v":""},{"$f":"IF(ROWS($1:$12)<=COUNTIF(joueurs,$B65),INDEX(fautes,SMALL(IF(joueurs=$B65,ROW(INDIRECT(\"1:\"&ROWS(fautes)))),ROWS($1:$12))),\"\")","v":""},{"$f":"IF(ROWS($1:$13)<=COUNTIF(joueurs,$B65),INDEX(fautes,SMALL(IF(joueurs=$B65,ROW(INDIRECT(\"1:\"&ROWS(fautes)))),ROWS($1:$13))),\"\")","v":""},{"$f":"IF(ROWS($1:$14)<=COUNTIF(joueurs,$B65),INDEX(fautes,SMALL(IF(joueurs=$B65,ROW(INDIRECT(\"1:\"&ROWS(fautes)))),ROWS($1:$14))),\"\")","v":""},{"$f":"IF(ROWS($1:$15)<=COUNTIF(joueurs,$B65),INDEX(fautes,SMALL(IF(joueurs=$B65,ROW(INDIRECT(\"1:\"&ROWS(fautes)))),ROWS($1:$15))),\"\")","v":""},{"$f":"IF(ROWS($1:$16)<=COUNTIF(joueurs,$B65),INDEX(fautes,SMALL(IF(joueurs=$B65,ROW(INDIRECT(\"1:\"&ROWS(fautes)))),ROWS($1:$16))),\"\")","v":""},{"$f":"IF(ROWS($1:$17)<=COUNTIF(joueurs,$B65),INDEX(fautes,SMALL(IF(joueurs=$B65,ROW(INDIRECT(\"1:\"&ROWS(fautes)))),ROWS($1:$17))),\"\")","v":""},{"$f":"IF(ROWS($1:$18)<=COUNTIF(joueurs,$B65),INDEX(fautes,SMALL(IF(joueurs=$B65,ROW(INDIRECT(\"1:\"&ROWS(fautes)))),ROWS($1:$18))),\"\")","v":""},{"$f":"IF(ROWS($1:$19)<=COUNTIF(joueurs,$B65),INDEX(fautes,SMALL(IF(joueurs=$B65,ROW(INDIRECT(\"1:\"&ROWS(fautes)))),ROWS($1:$19))),\"\")","v":""},{"$f":"IF(ROWS($1:$20)<=COUNTIF(joueurs,$B65),INDEX(fautes,SMALL(IF(joueurs=$B65,ROW(INDIRECT(\"1:\"&ROWS(fautes)))),ROWS($1:$20))),\"\")","v":""},{"$f":"IF(ROWS($1:$11)<=COUNTIF(joueurs,$B65),INDEX(ballonperdus,SMALL(IF(joueurs=$B65,ROW(INDIRECT(\"1:\"&ROWS(ballonperdus)))),ROWS($1:$11))),\"\")","v":""},{"$f":"IF(ROWS($1:$12)<=COUNTIF(joueurs,$B65),INDEX(ballonperdus,SMALL(IF(joueurs=$B65,ROW(INDIRECT(\"1:\"&ROWS(ballonperdus)))),ROWS($1:$12))),\"\")","v":""},{"$f":"IF(ROWS($1:$13)<=COUNTIF(joueurs,$B65),INDEX(ballonperdus,SMALL(IF(joueurs=$B65,ROW(INDIRECT(\"1:\"&ROWS(ballonperdus)))),ROWS($1:$13))),\"\")","v":""},{"$f":"IF(ROWS($1:$14)<=COUNTIF(joueurs,$B65),INDEX(ballonperdus,SMALL(IF(joueurs=$B65,ROW(INDIRECT(\"1:\"&ROWS(ballonperdus)))),ROWS($1:$14))),\"\")","v":""},{"$f":"IF(ROWS($1:$15)<=COUNTIF(joueurs,$B65),INDEX(ballonperdus,SMALL(IF(joueurs=$B65,ROW(INDIRECT(\"1:\"&ROWS(ballonperdus)))),ROWS($1:$15))),\"\")","v":""},{"$f":"IF(ROWS($1:$16)<=COUNTIF(joueurs,$B65),INDEX(ballonperdus,SMALL(IF(joueurs=$B65,ROW(INDIRECT(\"1:\"&ROWS(ballonperdus)))),ROWS($1:$16))),\"\")","v":""},{"$f":"IF(ROWS($1:$17)<=COUNTIF(joueurs,$B65),INDEX(ballonperdus,SMALL(IF(joueurs=$B65,ROW(INDIRECT(\"1:\"&ROWS(ballonperdus)))),ROWS($1:$17))),\"\")","v":""},{"$f":"IF(ROWS($1:$18)<=COUNTIF(joueurs,$B65),INDEX(ballonperdus,SMALL(IF(joueurs=$B65,ROW(INDIRECT(\"1:\"&ROWS(ballonperdus)))),ROWS($1:$18))),\"\")","v":""},{"$f":"IF(ROWS($1:$19)<=COUNTIF(joueurs,$B65),INDEX(ballonperdus,SMALL(IF(joueurs=$B65,ROW(INDIRECT(\"1:\"&ROWS(ballonperdus)))),ROWS($1:$19))),\"\")","v":""},{"$f":"IF(ROWS($1:$20)<=COUNTIF(joueurs,$B65),INDEX(fautes,SMALL(IF(joueurs=$B65,ROW(INDIRECT(\"1:\"&ROWS(ballonperdus)))),ROWS($1:$20))),\"\")","v":""},{"$f":"IF(ROWS($1:$11)<=COUNTIF(joueurs,$B65),INDEX(interceptions,SMALL(IF(joueurs=$B65,ROW(INDIRECT(\"1:\"&ROWS(interceptions)))),ROWS($1:$11))),\"\")","v":""},{"$f":"IF(ROWS($1:$12)<=COUNTIF(joueurs,$B65),INDEX(interceptions,SMALL(IF(joueurs=$B65,ROW(INDIRECT(\"1:\"&ROWS(interceptions)))),ROWS($1:$12))),\"\")","v":""},{"$f":"IF(ROWS($1:$13)<=COUNTIF(joueurs,$B65),INDEX(interceptions,SMALL(IF(joueurs=$B65,ROW(INDIRECT(\"1:\"&ROWS(interceptions)))),ROWS($1:$13))),\"\")","v":""},{"$f":"IF(ROWS($1:$14)<=COUNTIF(joueurs,$B65),INDEX(interceptions,SMALL(IF(joueurs=$B65,ROW(INDIRECT(\"1:\"&ROWS(interceptions)))),ROWS($1:$14))),\"\")","v":""},{"$f":"IF(ROWS($1:$15)<=COUNTIF(joueurs,$B65),INDEX(interceptions,SMALL(IF(joueurs=$B65,ROW(INDIRECT(\"1:\"&ROWS(interceptions)))),ROWS($1:$15))),\"\")","v":""},{"$f":"IF(ROWS($1:$16)<=COUNTIF(joueurs,$B65),INDEX(interceptions,SMALL(IF(joueurs=$B65,ROW(INDIRECT(\"1:\"&ROWS(interceptions)))),ROWS($1:$16))),\"\")","v":""},{"$f":"IF(ROWS($1:$17)<=COUNTIF(joueurs,$B65),INDEX(interceptions,SMALL(IF(joueurs=$B65,ROW(INDIRECT(\"1:\"&ROWS(interceptions)))),ROWS($1:$17))),\"\")","v":""},{"$f":"IF(ROWS($1:$18)<=COUNTIF(joueurs,$B65),INDEX(interceptions,SMALL(IF(joueurs=$B65,ROW(INDIRECT(\"1:\"&ROWS(interceptions)))),ROWS($1:$18))),\"\")","v":""},{"$f":"IF(ROWS($1:$19)<=COUNTIF(joueurs,$B65),INDEX(interceptions,SMALL(IF(joueurs=$B65,ROW(INDIRECT(\"1:\"&ROWS(interceptions)))),ROWS($1:$19))),\"\")","v":""},{"$f":"IF(ROWS($1:$20)<=COUNTIF(joueurs,$B65),INDEX(interceptions,SMALL(IF(joueurs=$B65,ROW(INDIRECT(\"1:\"&ROWS(interceptions)))),ROWS($1:$20))),\"\")","v":""},{"$f":"IF(ROWS($1:$11)<=COUNTIF(joueurs,$B65),INDEX(ballonrecuperes,SMALL(IF(joueurs=$B65,ROW(INDIRECT(\"1:\"&ROWS(ballonrecuperes)))),ROWS($1:$11))),\"\")","v":""},{"$f":"IF(ROWS($1:$12)<=COUNTIF(joueurs,$B65),INDEX(ballonrecuperes,SMALL(IF(joueurs=$B65,ROW(INDIRECT(\"1:\"&ROWS(ballonrecuperes)))),ROWS($1:$12))),\"\")","v":""},{"$f":"IF(ROWS($1:$13)<=COUNTIF(joueurs,$B65),INDEX(ballonrecuperes,SMALL(IF(joueurs=$B65,ROW(INDIRECT(\"1:\"&ROWS(ballonrecuperes)))),ROWS($1:$13))),\"\")","v":""},{"$f":"IF(ROWS($1:$14)<=COUNTIF(joueurs,$B65),INDEX(ballonrecuperes,SMALL(IF(joueurs=$B65,ROW(INDIRECT(\"1:\"&ROWS(ballonrecuperes)))),ROWS($1:$14))),\"\")","v":""},{"$f":"IF(ROWS($1:$15)<=COUNTIF(joueurs,$B65),INDEX(ballonrecuperes,SMALL(IF(joueurs=$B65,ROW(INDIRECT(\"1:\"&ROWS(ballonrecuperes)))),ROWS($1:$15))),\"\")","v":""},{"$f":"IF(ROWS($1:$16)<=COUNTIF(joueurs,$B65),INDEX(ballonrecuperes,SMALL(IF(joueurs=$B65,ROW(INDIRECT(\"1:\"&ROWS(ballonrecuperes)))),ROWS($1:$16))),\"\")","v":""},{"$f":"IF(ROWS($1:$17)<=COUNTIF(joueurs,$B65),INDEX(ballonrecuperes,SMALL(IF(joueurs=$B65,ROW(INDIRECT(\"1:\"&ROWS(ballonrecuperes)))),ROWS($1:$17))),\"\")","v":""},{"$f":"IF(ROWS($1:$18)<=COUNTIF(joueurs,$B65),INDEX(ballonrecuperes,SMALL(IF(joueurs=$B65,ROW(INDIRECT(\"1:\"&ROWS(ballonrecuperes)))),ROWS($1:$18))),\"\")","v":""},{"$f":"IF(ROWS($1:$19)<=COUNTIF(joueurs,$B65),INDEX(ballonrecuperes,SMALL(IF(joueurs=$B65,ROW(INDIRECT(\"1:\"&ROWS(ballonrecuperes)))),ROWS($1:$19))),\"\")","v":""},{"$f":"IF(ROWS($1:$20)<=COUNTIF(joueurs,$B65),INDEX(ballonrecuperes,SMALL(IF(joueurs=$B65,ROW(INDIRECT(\"1:\"&ROWS(ballonrecuperes)))),ROWS($1:$20))),\"\")","v":""},{"$f":"IF(ROWS($1:$11)<=COUNTIF(joueurs,$B65),INDEX(tirs,SMALL(IF(joueurs=$B65,ROW(INDIRECT(\"1:\"&ROWS(tirs)))),ROWS($1:$11))),\"\")","v":""},{"$f":"IF(ROWS($1:$12)<=COUNTIF(joueurs,$B65),INDEX(tirs,SMALL(IF(joueurs=$B65,ROW(INDIRECT(\"1:\"&ROWS(tirs)))),ROWS($1:$12))),\"\")","v":""},{"$f":"IF(ROWS($1:$13)<=COUNTIF(joueurs,$B65),INDEX(tirs,SMALL(IF(joueurs=$B65,ROW(INDIRECT(\"1:\"&ROWS(tirs)))),ROWS($1:$13))),\"\")","v":""},{"$f":"IF(ROWS($1:$14)<=COUNTIF(joueurs,$B65),INDEX(tirs,SMALL(IF(joueurs=$B65,ROW(INDIRECT(\"1:\"&ROWS(tirs)))),ROWS($1:$14))),\"\")","v":""},{"$f":"IF(ROWS($1:$15)<=COUNTIF(joueurs,$B65),INDEX(tirs,SMALL(IF(joueurs=$B65,ROW(INDIRECT(\"1:\"&ROWS(tirs)))),ROWS($1:$15))),\"\")","v":""},{"$f":"IF(ROWS($1:$16)<=COUNTIF(joueurs,$B65),INDEX(tirs,SMALL(IF(joueurs=$B65,ROW(INDIRECT(\"1:\"&ROWS(tirs)))),ROWS($1:$16))),\"\")","v":""},{"$f":"IF(ROWS($1:$17)<=COUNTIF(joueurs,$B65),INDEX(tirs,SMALL(IF(joueurs=$B65,ROW(INDIRECT(\"1:\"&ROWS(tirs)))),ROWS($1:$17))),\"\")","v":""},{"$f":"IF(ROWS($1:$18)<=COUNTIF(joueurs,$B65),INDEX(tirs,SMALL(IF(joueurs=$B65,ROW(INDIRECT(\"1:\"&ROWS(tirs)))),ROWS($1:$18))),\"\")","v":""},{"$f":"IF(ROWS($1:$19)<=COUNTIF(joueurs,$B65),INDEX(tirs,SMALL(IF(joueurs=$B65,ROW(INDIRECT(\"1:\"&ROWS(tirs)))),ROWS($1:$19))),\"\")","v":""},{"$f":"IF(ROWS($1:$20)<=COUNTIF(joueurs,$B65),INDEX(tirs,SMALL(IF(joueurs=$B65,ROW(INDIRECT(\"1:\"&ROWS(tirs)))),ROWS($1:$20))),\"\")","v":""},{"$f":"IF(ROWS($1:$11)<=COUNTIF(joueurs,$B65),INDEX(bontirs,SMALL(IF(joueurs=$B65,ROW(INDIRECT(\"1:\"&ROWS(bontirs)))),ROWS($1:$11))),\"\")","v":""},{"$f":"IF(ROWS($1:$12)<=COUNTIF(joueurs,$B65),INDEX(bontirs,SMALL(IF(joueurs=$B65,ROW(INDIRECT(\"1:\"&ROWS(bontirs)))),ROWS($1:$12))),\"\")","v":""},{"$f":"IF(ROWS($1:$13)<=COUNTIF(joueurs,$B65),INDEX(bontirs,SMALL(IF(joueurs=$B65,ROW(INDIRECT(\"1:\"&ROWS(bontirs)))),ROWS($1:$13))),\"\")","v":""},{"$f":"IF(ROWS($1:$14)<=COUNTIF(joueurs,$B65),INDEX(bontirs,SMALL(IF(joueurs=$B65,ROW(INDIRECT(\"1:\"&ROWS(bontirs)))),ROWS($1:$14))),\"\")","v":""},{"$f":"IF(ROWS($1:$15)<=COUNTIF(joueurs,$B65),INDEX(bontirs,SMALL(IF(joueurs=$B65,ROW(INDIRECT(\"1:\"&ROWS(bontirs)))),ROWS($1:$15))),\"\")","v":""},{"$f":"IF(ROWS($1:$16)<=COUNTIF(joueurs,$B65),INDEX(bontirs,SMALL(IF(joueurs=$B65,ROW(INDIRECT(\"1:\"&ROWS(bontirs)))),ROWS($1:$16))),\"\")","v":""},{"$f":"IF(ROWS($1:$17)<=COUNTIF(joueurs,$B65),INDEX(bontirs,SMALL(IF(joueurs=$B65,ROW(INDIRECT(\"1:\"&ROWS(bontirs)))),ROWS($1:$17))),\"\")","v":""},{"$f":"IF(ROWS($1:$18)<=COUNTIF(joueurs,$B65),INDEX(bontirs,SMALL(IF(joueurs=$B65,ROW(INDIRECT(\"1:\"&ROWS(bontirs)))),ROWS($1:$18))),\"\")","v":""},{"$f":"IF(ROWS($1:$19)<=COUNTIF(joueurs,$B65),INDEX(bontirs,SMALL(IF(joueurs=$B65,ROW(INDIRECT(\"1:\"&ROWS(bontirs)))),ROWS($1:$19))),\"\")","v":""},{"$f":"IF(ROWS($1:$20)<=COUNTIF(joueurs,$B65),INDEX(bontirs,SMALL(IF(joueurs=$B65,ROW(INDIRECT(\"1:\"&ROWS(bontirs)))),ROWS($1:$20))),\"\")","v":""},{"$f":"IF(ROWS($1:$11)<=COUNTIF(joueurs,$B65),INDEX(points,SMALL(IF(joueurs=$B65,ROW(INDIRECT(\"1:\"&ROWS(points)))),ROWS($1:$11))),\"\")","v":""},{"$f":"IF(ROWS($1:$12)<=COUNTIF(joueurs,$B65),INDEX(points,SMALL(IF(joueurs=$B65,ROW(INDIRECT(\"1:\"&ROWS(points)))),ROWS($1:$12))),\"\")","v":""},{"$f":"IF(ROWS($1:$13)<=COUNTIF(joueurs,$B65),INDEX(points,SMALL(IF(joueurs=$B65,ROW(INDIRECT(\"1:\"&ROWS(points)))),ROWS($1:$13))),\"\")","v":""},{"$f":"IF(ROWS($1:$14)<=COUNTIF(joueurs,$B65),INDEX(points,SMALL(IF(joueurs=$B65,ROW(INDIRECT(\"1:\"&ROWS(points)))),ROWS($1:$14))),\"\")","v":""},{"$f":"IF(ROWS($1:$15)<=COUNTIF(joueurs,$B65),INDEX(points,SMALL(IF(joueurs=$B65,ROW(INDIRECT(\"1:\"&ROWS(points)))),ROWS($1:$15))),\"\")","v":""},{"$f":"IF(ROWS($1:$16)<=COUNTIF(joueurs,$B65),INDEX(points,SMALL(IF(joueurs=$B65,ROW(INDIRECT(\"1:\"&ROWS(points)))),ROWS($1:$16))),\"\")","v":""},{"$f":"IF(ROWS($1:$17)<=COUNTIF(joueurs,$B65),INDEX(points,SMALL(IF(joueurs=$B65,ROW(INDIRECT(\"1:\"&ROWS(points)))),ROWS($1:$17))),\"\")","v":""},{"$f":"IF(ROWS($1:$18)<=COUNTIF(joueurs,$B65),INDEX(points,SMALL(IF(joueurs=$B65,ROW(INDIRECT(\"1:\"&ROWS(points)))),ROWS($1:$18))),\"\")","v":""},{"$f":"IF(ROWS($1:$19)<=COUNTIF(joueurs,$B65),INDEX(points,SMALL(IF(joueurs=$B65,ROW(INDIRECT(\"1:\"&ROWS(points)))),ROWS($1:$19))),\"\")","v":""},{"$f":"IF(ROWS($1:$20)<=COUNTIF(points,$B65),INDEX(fautes,SMALL(IF(joueurs=$B65,ROW(INDIRECT(\"1:\"&ROWS(points)))),ROWS($1:$20))),\"\")","v":""},{"$f":"IF(ROWS($1:$11)<=COUNTIF(joueurs,$B65),INDEX(victoires,SMALL(IF(joueurs=$B65,ROW(INDIRECT(\"1:\"&ROWS(victoires)))),ROWS($1:$11))),\"\")","v":""},{"$f":"IF(ROWS($1:$12)<=COUNTIF(joueurs,$B65),INDEX(victoires,SMALL(IF(joueurs=$B65,ROW(INDIRECT(\"1:\"&ROWS(victoires)))),ROWS($1:$12))),\"\")","v":""},{"$f":"IF(ROWS($1:$13)<=COUNTIF(joueurs,$B65),INDEX(victoires,SMALL(IF(joueurs=$B65,ROW(INDIRECT(\"1:\"&ROWS(victoires)))),ROWS($1:$13))),\"\")","v":""},{"$f":"IF(ROWS($1:$14)<=COUNTIF(joueurs,$B65),INDEX(victoires,SMALL(IF(joueurs=$B65,ROW(INDIRECT(\"1:\"&ROWS(victoires)))),ROWS($1:$14))),\"\")","v":""},{"$f":"IF(ROWS($1:$15)<=COUNTIF(joueurs,$B65),INDEX(victoires,SMALL(IF(joueurs=$B65,ROW(INDIRECT(\"1:\"&ROWS(victoires)))),ROWS($1:$15))),\"\")","v":""},{"$f":"IF(ROWS($1:$16)<=COUNTIF(joueurs,$B65),INDEX(victoires,SMALL(IF(joueurs=$B65,ROW(INDIRECT(\"1:\"&ROWS(victoires)))),ROWS($1:$16))),\"\")","v":""},{"$f":"IF(ROWS($1:$17)<=COUNTIF(joueurs,$B65),INDEX(victoires,SMALL(IF(joueurs=$B65,ROW(INDIRECT(\"1:\"&ROWS(victoires)))),ROWS($1:$17))),\"\")","v":""},{"$f":"IF(ROWS($1:$18)<=COUNTIF(joueurs,$B65),INDEX(victoires,SMALL(IF(joueurs=$B65,ROW(INDIRECT(\"1:\"&ROWS(victoires)))),ROWS($1:$18))),\"\")","v":""},{"$f":"IF(ROWS($1:$19)<=COUNTIF(joueurs,$B65),INDEX(victoires,SMALL(IF(joueurs=$B65,ROW(INDIRECT(\"1:\"&ROWS(victoires)))),ROWS($1:$19))),\"\")","v":""},{"$f":"IF(ROWS($1:$20)<=COUNTIF(joueurs,$B65),INDEX(victoires,SMALL(IF(joueurs=$B65,ROW(INDIRECT(\"1:\"&ROWS(victoires)))),ROWS($1:$20))),\"\")","v":""}]
[null,null,null,{"$f":"IF(ROWS($1:$21)<=COUNTIF(joueurs,$B65),INDEX(fautes,SMALL(IF(joueurs=$B65,ROW(INDIRECT(\"1:\"&ROWS(fautes)))),ROWS($1:$21))),\"\")","v":""},{"$f":"IF(ROWS($1:$22)<=COUNTIF(joueurs,$B65),INDEX(fautes,SMALL(IF(joueurs=$B65,ROW(INDIRECT(\"1:\"&ROWS(fautes)))),ROWS($1:$22))),\"\")","v":""},{"$f":"IF(ROWS($1:$23)<=COUNTIF(joueurs,$B65),INDEX(fautes,SMALL(IF(joueurs=$B65,ROW(INDIRECT(\"1:\"&ROWS(fautes)))),ROWS($1:$23))),\"\")","v":""},{"$f":"IF(ROWS($1:$24)<=COUNTIF(joueurs,$B65),INDEX(fautes,SMALL(IF(joueurs=$B65,ROW(INDIRECT(\"1:\"&ROWS(fautes)))),ROWS($1:$24))),\"\")","v":""},{"$f":"IF(ROWS($1:$25)<=COUNTIF(joueurs,$B65),INDEX(fautes,SMALL(IF(joueurs=$B65,ROW(INDIRECT(\"1:\"&ROWS(fautes)))),ROWS($1:$25))),\"\")","v":""},{"$f":"IF(ROWS($1:$26)<=COUNTIF(joueurs,$B65),INDEX(fautes,SMALL(IF(joueurs=$B65,ROW(INDIRECT(\"1:\"&ROWS(fautes)))),ROWS($1:$26))),\"\")","v":""},{"$f":"IF(ROWS($1:$27)<=COUNTIF(joueurs,$B65),INDEX(fautes,SMALL(IF(joueurs=$B65,ROW(INDIRECT(\"1:\"&ROWS(fautes)))),ROWS($1:$27))),\"\")","v":""},{"$f":"IF(ROWS($1:$28)<=COUNTIF(joueurs,$B65),INDEX(fautes,SMALL(IF(joueurs=$B65,ROW(INDIRECT(\"1:\"&ROWS(fautes)))),ROWS($1:$28))),\"\")","v":""},{"$f":"IF(ROWS($1:$29)<=COUNTIF(joueurs,$B65),INDEX(fautes,SMALL(IF(joueurs=$B65,ROW(INDIRECT(\"1:\"&ROWS(fautes)))),ROWS($1:$29))),\"\")","v":""},{"$f":"IF(ROWS($1:$30)<=COUNTIF(joueurs,$B65),INDEX(fautes,SMALL(IF(joueurs=$B65,ROW(INDIRECT(\"1:\"&ROWS(fautes)))),ROWS($1:$30))),\"\")","v":""},{"$f":"IF(ROWS($1:$21)<=COUNTIF(joueurs,$B65),INDEX(ballonperdus,SMALL(IF(joueurs=$B65,ROW(INDIRECT(\"1:\"&ROWS(ballonperdus)))),ROWS($1:$21))),\"\")","v":""},{"$f":"IF(ROWS($1:$22)<=COUNTIF(joueurs,$B65),INDEX(ballonperdus,SMALL(IF(joueurs=$B65,ROW(INDIRECT(\"1:\"&ROWS(ballonperdus)))),ROWS($1:$22))),\"\")","v":""},{"$f":"IF(ROWS($1:$23)<=COUNTIF(joueurs,$B65),INDEX(ballonperdus,SMALL(IF(joueurs=$B65,ROW(INDIRECT(\"1:\"&ROWS(ballonperdus)))),ROWS($1:$23))),\"\")","v":""},{"$f":"IF(ROWS($1:$24)<=COUNTIF(joueurs,$B65),INDEX(ballonperdus,SMALL(IF(joueurs=$B65,ROW(INDIRECT(\"1:\"&ROWS(ballonperdus)))),ROWS($1:$24))),\"\")","v":""},{"$f":"IF(ROWS($1:$25)<=COUNTIF(joueurs,$B65),INDEX(ballonperdus,SMALL(IF(joueurs=$B65,ROW(INDIRECT(\"1:\"&ROWS(ballonperdus)))),ROWS($1:$25))),\"\")","v":""},{"$f":"IF(ROWS($1:$26)<=COUNTIF(joueurs,$B65),INDEX(ballonperdus,SMALL(IF(joueurs=$B65,ROW(INDIRECT(\"1:\"&ROWS(ballonperdus)))),ROWS($1:$26))),\"\")","v":""},{"$f":"IF(ROWS($1:$27)<=COUNTIF(joueurs,$B65),INDEX(ballonperdus,SMALL(IF(joueurs=$B65,ROW(INDIRECT(\"1:\"&ROWS(ballonperdus)))),ROWS($1:$27))),\"\")","v":""},{"$f":"IF(ROWS($1:$28)<=COUNTIF(joueurs,$B65),INDEX(ballonperdus,SMALL(IF(joueurs=$B65,ROW(INDIRECT(\"1:\"&ROWS(ballonperdus)))),ROWS($1:$28))),\"\")","v":""},{"$f":"IF(ROWS($1:$29)<=COUNTIF(joueurs,$B65),INDEX(ballonperdus,SMALL(IF(joueurs=$B65,ROW(INDIRECT(\"1:\"&ROWS(ballonperdus)))),ROWS($1:$29))),\"\")","v":""},{"$f":"IF(ROWS($1:$30)<=COUNTIF(joueurs,$B65),INDEX(ballonperdus,SMALL(IF(joueurs=$B65,ROW(INDIRECT(\"1:\"&ROWS(ballonperdus)))),ROWS($1:$30))),\"\")","v":""},{"$f":"IF(ROWS($1:$21)<=COUNTIF(joueurs,$B65),INDEX(interceptions,SMALL(IF(joueurs=$B65,ROW(INDIRECT(\"1:\"&ROWS(interceptions)))),ROWS($1:$21))),\"\")","v":""},{"$f":"IF(ROWS($1:$22)<=COUNTIF(joueurs,$B65),INDEX(interceptions,SMALL(IF(joueurs=$B65,ROW(INDIRECT(\"1:\"&ROWS(interceptions)))),ROWS($1:$22))),\"\")","v":""},{"$f":"IF(ROWS($1:$23)<=COUNTIF(joueurs,$B65),INDEX(interceptions,SMALL(IF(joueurs=$B65,ROW(INDIRECT(\"1:\"&ROWS(interceptions)))),ROWS($1:$23))),\"\")","v":""},{"$f":"IF(ROWS($1:$24)<=COUNTIF(joueurs,$B65),INDEX(interceptions,SMALL(IF(joueurs=$B65,ROW(INDIRECT(\"1:\"&ROWS(interceptions)))),ROWS($1:$24))),\"\")","v":""},{"$f":"IF(ROWS($1:$25)<=COUNTIF(joueurs,$B65),INDEX(interceptions,SMALL(IF(joueurs=$B65,ROW(INDIRECT(\"1:\"&ROWS(interceptions)))),ROWS($1:$25))),\"\")","v":""},{"$f":"IF(ROWS($1:$26)<=COUNTIF(joueurs,$B65),INDEX(interceptions,SMALL(IF(joueurs=$B65,ROW(INDIRECT(\"1:\"&ROWS(interceptions)))),ROWS($1:$26))),\"\")","v":""},{"$f":"IF(ROWS($1:$27)<=COUNTIF(joueurs,$B65),INDEX(interceptions,SMALL(IF(joueurs=$B65,ROW(INDIRECT(\"1:\"&ROWS(interceptions)))),ROWS($1:$27))),\"\")","v":""},{"$f":"IF(ROWS($1:$28)<=COUNTIF(joueurs,$B65),INDEX(interceptions,SMALL(IF(joueurs=$B65,ROW(INDIRECT(\"1:\"&ROWS(interceptions)))),ROWS($1:$28))),\"\")","v":""},{"$f":"IF(ROWS($1:$29)<=COUNTIF(joueurs,$B65),INDEX(interceptions,SMALL(IF(joueurs=$B65,ROW(INDIRECT(\"1:\"&ROWS(interceptions)))),ROWS($1:$29))),\"\")","v":""},{"$f":"IF(ROWS($1:$30)<=COUNTIF(joueurs,$B65),INDEX(interceptions,SMALL(IF(joueurs=$B65,ROW(INDIRECT(\"1:\"&ROWS(interceptions)))),ROWS($1:$30))),\"\")","v":""},{"$f":"IF(ROWS($1:$21)<=COUNTIF(joueurs,$B65),INDEX(ballonrecuperes,SMALL(IF(joueurs=$B65,ROW(INDIRECT(\"1:\"&ROWS(ballonrecuperes)))),ROWS($1:$21))),\"\")","v":""},{"$f":"IF(ROWS($1:$22)<=COUNTIF(joueurs,$B65),INDEX(ballonrecuperes,SMALL(IF(joueurs=$B65,ROW(INDIRECT(\"1:\"&ROWS(ballonrecuperes)))),ROWS($1:$22))),\"\")","v":""},{"$f":"IF(ROWS($1:$23)<=COUNTIF(joueurs,$B65),INDEX(ballonrecuperes,SMALL(IF(joueurs=$B65,ROW(INDIRECT(\"1:\"&ROWS(ballonrecuperes)))),ROWS($1:$23))),\"\")","v":""},{"$f":"IF(ROWS($1:$24)<=COUNTIF(joueurs,$B65),INDEX(ballonrecuperes,SMALL(IF(joueurs=$B65,ROW(INDIRECT(\"1:\"&ROWS(ballonrecuperes)))),ROWS($1:$24))),\"\")","v":""},{"$f":"IF(ROWS($1:$25)<=COUNTIF(joueurs,$B65),INDEX(ballonrecuperes,SMALL(IF(joueurs=$B65,ROW(INDIRECT(\"1:\"&ROWS(ballonrecuperes)))),ROWS($1:$25))),\"\")","v":""},{"$f":"IF(ROWS($1:$26)<=COUNTIF(joueurs,$B65),INDEX(ballonrecuperes,SMALL(IF(joueurs=$B65,ROW(INDIRECT(\"1:\"&ROWS(ballonrecuperes)))),ROWS($1:$26))),\"\")","v":""},{"$f":"IF(ROWS($1:$27)<=COUNTIF(joueurs,$B65),INDEX(ballonrecuperes,SMALL(IF(joueurs=$B65,ROW(INDIRECT(\"1:\"&ROWS(ballonrecuperes)))),ROWS($1:$27))),\"\")","v":""},{"$f":"IF(ROWS($1:$28)<=COUNTIF(joueurs,$B65),INDEX(ballonrecuperes,SMALL(IF(joueurs=$B65,ROW(INDIRECT(\"1:\"&ROWS(ballonrecuperes)))),ROWS($1:$28))),\"\")","v":""},{"$f":"IF(ROWS($1:$29)<=COUNTIF(joueurs,$B65),INDEX(ballonrecuperes,SMALL(IF(joueurs=$B65,ROW(INDIRECT(\"1:\"&ROWS(ballonrecuperes)))),ROWS($1:$29))),\"\")","v":""},{"$f":"IF(ROWS($1:$30)<=COUNTIF(joueurs,$B65),INDEX(ballonrecuperes,SMALL(IF(joueurs=$B65,ROW(INDIRECT(\"1:\"&ROWS(ballonrecuperes)))),ROWS($1:$30))),\"\")","v":""},{"$f":"IF(ROWS($1:$21)<=COUNTIF(joueurs,$B65),INDEX(tirs,SMALL(IF(joueurs=$B65,ROW(INDIRECT(\"1:\"&ROWS(tirs)))),ROWS($1:$21))),\"\")","v":""},{"$f":"IF(ROWS($1:$22)<=COUNTIF(joueurs,$B65),INDEX(tirs,SMALL(IF(joueurs=$B65,ROW(INDIRECT(\"1:\"&ROWS(tirs)))),ROWS($1:$22))),\"\")","v":""},{"$f":"IF(ROWS($1:$23)<=COUNTIF(joueurs,$B65),INDEX(tirs,SMALL(IF(joueurs=$B65,ROW(INDIRECT(\"1:\"&ROWS(tirs)))),ROWS($1:$23))),\"\")","v":""},{"$f":"IF(ROWS($1:$24)<=COUNTIF(joueurs,$B65),INDEX(tirs,SMALL(IF(joueurs=$B65,ROW(INDIRECT(\"1:\"&ROWS(tirs)))),ROWS($1:$24))),\"\")","v":""},{"$f":"IF(ROWS($1:$25)<=COUNTIF(joueurs,$B65),INDEX(tirs,SMALL(IF(joueurs=$B65,ROW(INDIRECT(\"1:\"&ROWS(tirs)))),ROWS($1:$25))),\"\")","v":""},{"$f":"IF(ROWS($1:$26)<=COUNTIF(joueurs,$B65),INDEX(tirs,SMALL(IF(joueurs=$B65,ROW(INDIRECT(\"1:\"&ROWS(tirs)))),ROWS($1:$26))),\"\")","v":""},{"$f":"IF(ROWS($1:$27)<=COUNTIF(joueurs,$B65),INDEX(tirs,SMALL(IF(joueurs=$B65,ROW(INDIRECT(\"1:\"&ROWS(tirs)))),ROWS($1:$27))),\"\")","v":""},{"$f":"IF(ROWS($1:$28)<=COUNTIF(joueurs,$B65),INDEX(tirs,SMALL(IF(joueurs=$B65,ROW(INDIRECT(\"1:\"&ROWS(tirs)))),ROWS($1:$28))),\"\")","v":""},{"$f":"IF(ROWS($1:$29)<=COUNTIF(joueurs,$B65),INDEX(tirs,SMALL(IF(joueurs=$B65,ROW(INDIRECT(\"1:\"&ROWS(tirs)))),ROWS($1:$29))),\"\")","v":""},{"$f":"IF(ROWS($1:$30)<=COUNTIF(joueurs,$B65),INDEX(tirs,SMALL(IF(joueurs=$B65,ROW(INDIRECT(\"1:\"&ROWS(tirs)))),ROWS($1:$30))),\"\")","v":""},{"$f":"IF(ROWS($1:$21)<=COUNTIF(joueurs,$B65),INDEX(bontirs,SMALL(IF(joueurs=$B65,ROW(INDIRECT(\"1:\"&ROWS(bontirs)))),ROWS($1:$21))),\"\")","v":""},{"$f":"IF(ROWS($1:$22)<=COUNTIF(joueurs,$B65),INDEX(bontirs,SMALL(IF(joueurs=$B65,ROW(INDIRECT(\"1:\"&ROWS(bontirs)))),ROWS($1:$22))),\"\")","v":""},{"$f":"IF(ROWS($1:$23)<=COUNTIF(joueurs,$B65),INDEX(bontirs,SMALL(IF(joueurs=$B65,ROW(INDIRECT(\"1:\"&ROWS(bontirs)))),ROWS($1:$23))),\"\")","v":""},{"$f":"IF(ROWS($1:$24)<=COUNTIF(joueurs,$B65),INDEX(bontirs,SMALL(IF(joueurs=$B65,ROW(INDIRECT(\"1:\"&ROWS(bontirs)))),ROWS($1:$24))),\"\")","v":""},{"$f":"IF(ROWS($1:$25)<=COUNTIF(joueurs,$B65),INDEX(bontirs,SMALL(IF(joueurs=$B65,ROW(INDIRECT(\"1:\"&ROWS(bontirs)))),ROWS($1:$25))),\"\")","v":""},{"$f":"IF(ROWS($1:$26)<=COUNTIF(joueurs,$B65),INDEX(bontirs,SMALL(IF(joueurs=$B65,ROW(INDIRECT(\"1:\"&ROWS(bontirs)))),ROWS($1:$26))),\"\")","v":""},{"$f":"IF(ROWS($1:$27)<=COUNTIF(joueurs,$B65),INDEX(bontirs,SMALL(IF(joueurs=$B65,ROW(INDIRECT(\"1:\"&ROWS(bontirs)))),ROWS($1:$27))),\"\")","v":""},{"$f":"IF(ROWS($1:$28)<=COUNTIF(joueurs,$B65),INDEX(bontirs,SMALL(IF(joueurs=$B65,ROW(INDIRECT(\"1:\"&ROWS(bontirs)))),ROWS($1:$28))),\"\")","v":""},{"$f":"IF(ROWS($1:$29)<=COUNTIF(joueurs,$B65),INDEX(bontirs,SMALL(IF(joueurs=$B65,ROW(INDIRECT(\"1:\"&ROWS(bontirs)))),ROWS($1:$29))),\"\")","v":""},{"$f":"IF(ROWS($1:$30)<=COUNTIF(joueurs,$B65),INDEX(bontirs,SMALL(IF(joueurs=$B65,ROW(INDIRECT(\"1:\"&ROWS(bontirs)))),ROWS($1:$30))),\"\")","v":""},{"$f":"IF(ROWS($1:$21)<=COUNTIF(joueurs,$B65),INDEX(points,SMALL(IF(joueurs=$B65,ROW(INDIRECT(\"1:\"&ROWS(points)))),ROWS($1:$21))),\"\")","v":""},{"$f":"IF(ROWS($1:$22)<=COUNTIF(joueurs,$B65),INDEX(points,SMALL(IF(joueurs=$B65,ROW(INDIRECT(\"1:\"&ROWS(points)))),ROWS($1:$22))),\"\")","v":""},{"$f":"IF(ROWS($1:$23)<=COUNTIF(joueurs,$B65),INDEX(points,SMALL(IF(joueurs=$B65,ROW(INDIRECT(\"1:\"&ROWS(points)))),ROWS($1:$23))),\"\")","v":""},{"$f":"IF(ROWS($1:$24)<=COUNTIF(joueurs,$B65),INDEX(points,SMALL(IF(joueurs=$B65,ROW(INDIRECT(\"1:\"&ROWS(points)))),ROWS($1:$24))),\"\")","v":""},{"$f":"IF(ROWS($1:$25)<=COUNTIF(joueurs,$B65),INDEX(points,SMALL(IF(joueurs=$B65,ROW(INDIRECT(\"1:\"&ROWS(points)))),ROWS($1:$25))),\"\")","v":""},{"$f":"IF(ROWS($1:$26)<=COUNTIF(joueurs,$B65),INDEX(points,SMALL(IF(joueurs=$B65,ROW(INDIRECT(\"1:\"&ROWS(points)))),ROWS($1:$26))),\"\")","v":""},{"$f":"IF(ROWS($1:$27)<=COUNTIF(joueurs,$B65),INDEX(points,SMALL(IF(joueurs=$B65,ROW(INDIRECT(\"1:\"&ROWS(points)))),ROWS($1:$27))),\"\")","v":""},{"$f":"IF(ROWS($1:$28)<=COUNTIF(joueurs,$B65),INDEX(points,SMALL(IF(joueurs=$B65,ROW(INDIRECT(\"1:\"&ROWS(points)))),ROWS($1:$28))),\"\")","v":""},{"$f":"IF(ROWS($1:$29)<=COUNTIF(joueurs,$B65),INDEX(points,SMALL(IF(joueurs=$B65,ROW(INDIRECT(\"1:\"&ROWS(points)))),ROWS($1:$29))),\"\")","v":""},{"$f":"IF(ROWS($1:$30)<=COUNTIF(joueurs,$B65),INDEX(points,SMALL(IF(joueurs=$B65,ROW(INDIRECT(\"1:\"&ROWS(points)))),ROWS($1:$30))),\"\")","v":""},{"$f":"IF(ROWS($1:$21)<=COUNTIF(joueurs,$B65),INDEX(victoires,SMALL(IF(joueurs=$B65,ROW(INDIRECT(\"1:\"&ROWS(victoires)))),ROWS($1:$21))),\"\")","v":""},{"$f":"IF(ROWS($1:$22)<=COUNTIF(joueurs,$B65),INDEX(victoires,SMALL(IF(joueurs=$B65,ROW(INDIRECT(\"1:\"&ROWS(victoires)))),ROWS($1:$22))),\"\")","v":""},{"$f":"IF(ROWS($1:$23)<=COUNTIF(joueurs,$B65),INDEX(victoires,SMALL(IF(joueurs=$B65,ROW(INDIRECT(\"1:\"&ROWS(victoires)))),ROWS($1:$23))),\"\")","v":""},{"$f":"IF(ROWS($1:$24)<=COUNTIF(joueurs,$B65),INDEX(victoires,SMALL(IF(joueurs=$B65,ROW(INDIRECT(\"1:\"&ROWS(victoires)))),ROWS($1:$24))),\"\")","v":""},{"$f":"IF(ROWS($1:$25)<=COUNTIF(joueurs,$B65),INDEX(victoires,SMALL(IF(joueurs=$B65,ROW(INDIRECT(\"1:\"&ROWS(victoires)))),ROWS($1:$25))),\"\")","v":""},{"$f":"IF(ROWS($1:$26)<=COUNTIF(joueurs,$B65),INDEX(victoires,SMALL(IF(joueurs=$B65,ROW(INDIRECT(\"1:\"&ROWS(victoires)))),ROWS($1:$26))),\"\")","v":""},{"$f":"IF(ROWS($1:$27)<=COUNTIF(joueurs,$B65),INDEX(victoires,SMALL(IF(joueurs=$B65,ROW(INDIRECT(\"1:\"&ROWS(victoires)))),ROWS($1:$27))),\"\")","v":""},{"$f":"IF(ROWS($1:$28)<=COUNTIF(joueurs,$B65),INDEX(victoires,SMALL(IF(joueurs=$B65,ROW(INDIRECT(\"1:\"&ROWS(victoires)))),ROWS($1:$28))),\"\")","v":""},{"$f":"IF(ROWS($1:$29)<=COUNTIF(joueurs,$B65),INDEX(victoires,SMALL(IF(joueurs=$B65,ROW(INDIRECT(\"1:\"&ROWS(victoires)))),ROWS($1:$29))),\"\")","v":""},{"$f":"IF(ROWS($1:$30)<=COUNTIF(joueurs,$B65),INDEX(victoires,SMALL(IF(joueurs=$B65,ROW(INDIRECT(\"1:\"&ROWS(victoires)))),ROWS($1:$30))),\"\")","v":""}]
[null,null,null,{"$f":"IF(ROWS($1:$31)<=COUNTIF(joueurs,$B65),INDEX(fautes,SMALL(IF(joueurs=$B65,ROW(INDIRECT(\"1:\"&ROWS(fautes)))),ROWS($1:$31))),\"\")","v":""},{"$f":"IF(ROWS($1:$32)<=COUNTIF(joueurs,$B65),INDEX(fautes,SMALL(IF(joueurs=$B65,ROW(INDIRECT(\"1:\"&ROWS(fautes)))),ROWS($1:$32))),\"\")","v":""},{"$f":"IF(ROWS($1:$33)<=COUNTIF(joueurs,$B65),INDEX(fautes,SMALL(IF(joueurs=$B65,ROW(INDIRECT(\"1:\"&ROWS(fautes)))),ROWS($1:$33))),\"\")","v":""},{"$f":"IF(ROWS($1:$34)<=COUNTIF(joueurs,$B65),INDEX(fautes,SMALL(IF(joueurs=$B65,ROW(INDIRECT(\"1:\"&ROWS(fautes)))),ROWS($1:$34))),\"\")","v":""},{"$f":"IF(ROWS($1:$35)<=COUNTIF(joueurs,$B65),INDEX(fautes,SMALL(IF(joueurs=$B65,ROW(INDIRECT(\"1:\"&ROWS(fautes)))),ROWS($1:$35))),\"\")","v":""},{"$f":"IF(ROWS($1:$36)<=COUNTIF(joueurs,$B65),INDEX(fautes,SMALL(IF(joueurs=$B65,ROW(INDIRECT(\"1:\"&ROWS(fautes)))),ROWS($1:$36))),\"\")","v":""},{"$f":"IF(ROWS($1:$37)<=COUNTIF(joueurs,$B65),INDEX(fautes,SMALL(IF(joueurs=$B65,ROW(INDIRECT(\"1:\"&ROWS(fautes)))),ROWS($1:$37))),\"\")","v":""},{"$f":"IF(ROWS($1:$38)<=COUNTIF(joueurs,$B65),INDEX(fautes,SMALL(IF(joueurs=$B65,ROW(INDIRECT(\"1:\"&ROWS(fautes)))),ROWS($1:$38))),\"\")","v":""},{"$f":"IF(ROWS($1:$39)<=COUNTIF(joueurs,$B65),INDEX(fautes,SMALL(IF(joueurs=$B65,ROW(INDIRECT(\"1:\"&ROWS(fautes)))),ROWS($1:$39))),\"\")","v":""},{"$f":"IF(ROWS($1:$40)<=COUNTIF(joueurs,$B65),INDEX(fautes,SMALL(IF(joueurs=$B65,ROW(INDIRECT(\"1:\"&ROWS(fautes)))),ROWS($1:$40))),\"\")","v":""},{"$f":"IF(ROWS($1:$31)<=COUNTIF(joueurs,$B65),INDEX(ballonperdus,SMALL(IF(joueurs=$B65,ROW(INDIRECT(\"1:\"&ROWS(ballonperdus)))),ROWS($1:$31))),\"\")","v":""},{"$f":"IF(ROWS($1:$32)<=COUNTIF(joueurs,$B65),INDEX(ballonperdus,SMALL(IF(joueurs=$B65,ROW(INDIRECT(\"1:\"&ROWS(ballonperdus)))),ROWS($1:$32))),\"\")","v":""},{"$f":"IF(ROWS($1:$33)<=COUNTIF(joueurs,$B65),INDEX(ballonperdus,SMALL(IF(joueurs=$B65,ROW(INDIRECT(\"1:\"&ROWS(ballonperdus)))),ROWS($1:$33))),\"\")","v":""},{"$f":"IF(ROWS($1:$34)<=COUNTIF(joueurs,$B65),INDEX(ballonperdus,SMALL(IF(joueurs=$B65,ROW(INDIRECT(\"1:\"&ROWS(ballonperdus)))),ROWS($1:$34))),\"\")","v":""},{"$f":"IF(ROWS($1:$35)<=COUNTIF(joueurs,$B65),INDEX(ballonperdus,SMALL(IF(joueurs=$B65,ROW(INDIRECT(\"1:\"&ROWS(ballonperdus)))),ROWS($1:$35))),\"\")","v":""},{"$f":"IF(ROWS($1:$36)<=COUNTIF(joueurs,$B65),INDEX(ballonperdus,SMALL(IF(joueurs=$B65,ROW(INDIRECT(\"1:\"&ROWS(ballonperdus)))),ROWS($1:$36))),\"\")","v":""},{"$f":"IF(ROWS($1:$37)<=COUNTIF(joueurs,$B65),INDEX(ballonperdus,SMALL(IF(joueurs=$B65,ROW(INDIRECT(\"1:\"&ROWS(ballonperdus)))),ROWS($1:$37))),\"\")","v":""},{"$f":"IF(ROWS($1:$38)<=COUNTIF(joueurs,$B65),INDEX(ballonperdus,SMALL(IF(joueurs=$B65,ROW(INDIRECT(\"1:\"&ROWS(ballonperdus)))),ROWS($1:$38))),\"\")","v":""},{"$f":"IF(ROWS($1:$39)<=COUNTIF(joueurs,$B65),INDEX(ballonperdus,SMALL(IF(joueurs=$B65,ROW(INDIRECT(\"1:\"&ROWS(ballonperdus)))),ROWS($1:$39))),\"\")","v":""},{"$f":"IF(ROWS($1:$40)<=COUNTIF(joueurs,$B65),INDEX(ballonperdus,SMALL(IF(joueurs=$B65,ROW(INDIRECT(\"1:\"&ROWS(ballonperdus)))),ROWS($1:$40))),\"\")","v":""},{"$f":"IF(ROWS($1:$31)<=COUNTIF(joueurs,$B65),INDEX(interceptions,SMALL(IF(joueurs=$B65,ROW(INDIRECT(\"1:\"&ROWS(interceptions)))),ROWS($1:$31))),\"\")","v":""},{"$f":"IF(ROWS($1:$32)<=COUNTIF(joueurs,$B65),INDEX(interceptions,SMALL(IF(joueurs=$B65,ROW(INDIRECT(\"1:\"&ROWS(interceptions)))),ROWS($1:$32))),\"\")","v":""},{"$f":"IF(ROWS($1:$33)<=COUNTIF(joueurs,$B65),INDEX(interceptions,SMALL(IF(joueurs=$B65,ROW(INDIRECT(\"1:\"&ROWS(interceptions)))),ROWS($1:$33))),\"\")","v":""},{"$f":"IF(ROWS($1:$34)<=COUNTIF(joueurs,$B65),INDEX(interceptions,SMALL(IF(joueurs=$B65,ROW(INDIRECT(\"1:\"&ROWS(interceptions)))),ROWS($1:$34))),\"\")","v":""},{"$f":"IF(ROWS($1:$35)<=COUNTIF(joueurs,$B65),INDEX(interceptions,SMALL(IF(joueurs=$B65,ROW(INDIRECT(\"1:\"&ROWS(interceptions)))),ROWS($1:$35))),\"\")","v":""},{"$f":"IF(ROWS($1:$36)<=COUNTIF(joueurs,$B65),INDEX(interceptions,SMALL(IF(joueurs=$B65,ROW(INDIRECT(\"1:\"&ROWS(interceptions)))),ROWS($1:$36))),\"\")","v":""},{"$f":"IF(ROWS($1:$37)<=COUNTIF(joueurs,$B65),INDEX(interceptions,SMALL(IF(joueurs=$B65,ROW(INDIRECT(\"1:\"&ROWS(interceptions)))),ROWS($1:$37))),\"\")","v":""},{"$f":"IF(ROWS($1:$38)<=COUNTIF(joueurs,$B65),INDEX(interceptions,SMALL(IF(joueurs=$B65,ROW(INDIRECT(\"1:\"&ROWS(interceptions)))),ROWS($1:$38))),\"\")","v":""},{"$f":"IF(ROWS($1:$39)<=COUNTIF(joueurs,$B65),INDEX(interceptions,SMALL(IF(joueurs=$B65,ROW(INDIRECT(\"1:\"&ROWS(interceptions)))),ROWS($1:$39))),\"\")","v":""},{"$f":"IF(ROWS($1:$40)<=COUNTIF(joueurs,$B65),INDEX(interceptions,SMALL(IF(joueurs=$B65,ROW(INDIRECT(\"1:\"&ROWS(interceptions)))),ROWS($1:$40))),\"\")","v":""},{"$f":"IF(ROWS($1:$31)<=COUNTIF(joueurs,$B65),INDEX(ballonrecuperes,SMALL(IF(joueurs=$B65,ROW(INDIRECT(\"1:\"&ROWS(ballonrecuperes)))),ROWS($1:$31))),\"\")","v":""},{"$f":"IF(ROWS($1:$32)<=COUNTIF(joueurs,$B65),INDEX(ballonrecuperes,SMALL(IF(joueurs=$B65,ROW(INDIRECT(\"1:\"&ROWS(ballonrecuperes)))),ROWS($1:$32))),\"\")","v":""},{"$f":"IF(ROWS($1:$33)<=COUNTIF(joueurs,$B65),INDEX(ballonrecuperes,SMALL(IF(joueurs=$B65,ROW(INDIRECT(\"1:\"&ROWS(ballonrecuperes)))),ROWS($1:$33))),\"\")","v":""},{"$f":"IF(ROWS($1:$34)<=COUNTIF(joueurs,$B65),INDEX(ballonrecuperes,SMALL(IF(joueurs=$B65,ROW(INDIRECT(\"1:\"&ROWS(ballonrecuperes)))),ROWS($1:$34))),\"\")","v":""},{"$f":"IF(ROWS($1:$35)<=COUNTIF(joueurs,$B65),INDEX(ballonrecuperes,SMALL(IF(joueurs=$B65,ROW(INDIRECT(\"1:\"&ROWS(ballonrecuperes)))),ROWS($1:$35))),\"\")","v":""},{"$f":"IF(ROWS($1:$36)<=COUNTIF(joueurs,$B65),INDEX(ballonrecuperes,SMALL(IF(joueurs=$B65,ROW(INDIRECT(\"1:\"&ROWS(ballonrecuperes)))),ROWS($1:$36))),\"\")","v":""},{"$f":"IF(ROWS($1:$37)<=COUNTIF(joueurs,$B65),INDEX(ballonrecuperes,SMALL(IF(joueurs=$B65,ROW(INDIRECT(\"1:\"&ROWS(ballonrecuperes)))),ROWS($1:$37))),\"\")","v":""},{"$f":"IF(ROWS($1:$38)<=COUNTIF(joueurs,$B65),INDEX(ballonrecuperes,SMALL(IF(joueurs=$B65,ROW(INDIRECT(\"1:\"&ROWS(ballonrecuperes)))),ROWS($1:$38))),\"\")","v":""},{"$f":"IF(ROWS($1:$39)<=COUNTIF(joueurs,$B65),INDEX(ballonrecuperes,SMALL(IF(joueurs=$B65,ROW(INDIRECT(\"1:\"&ROWS(ballonrecuperes)))),ROWS($1:$39))),\"\")","v":""},{"$f":"IF(ROWS($1:$40)<=COUNTIF(joueurs,$B65),INDEX(ballonrecuperes,SMALL(IF(joueurs=$B65,ROW(INDIRECT(\"1:\"&ROWS(ballonrecuperes)))),ROWS($1:$40))),\"\")","v":""},{"$f":"IF(ROWS($1:$31)<=COUNTIF(joueurs,$B65),INDEX(tirs,SMALL(IF(joueurs=$B65,ROW(INDIRECT(\"1:\"&ROWS(tirs)))),ROWS($1:$31))),\"\")","v":""},{"$f":"IF(ROWS($1:$32)<=COUNTIF(joueurs,$B65),INDEX(tirs,SMALL(IF(joueurs=$B65,ROW(INDIRECT(\"1:\"&ROWS(tirs)))),ROWS($1:$32))),\"\")","v":""},{"$f":"IF(ROWS($1:$33)<=COUNTIF(joueurs,$B65),INDEX(tirs,SMALL(IF(joueurs=$B65,ROW(INDIRECT(\"1:\"&ROWS(tirs)))),ROWS($1:$33))),\"\")","v":""},{"$f":"IF(ROWS($1:$34)<=COUNTIF(joueurs,$B65),INDEX(tirs,SMALL(IF(joueurs=$B65,ROW(INDIRECT(\"1:\"&ROWS(tirs)))),ROWS($1:$34))),\"\")","v":""},{"$f":"IF(ROWS($1:$35)<=COUNTIF(joueurs,$B65),INDEX(tirs,SMALL(IF(joueurs=$B65,ROW(INDIRECT(\"1:\"&ROWS(tirs)))),ROWS($1:$35))),\"\")","v":""},{"$f":"IF(ROWS($1:$36)<=COUNTIF(joueurs,$B65),INDEX(tirs,SMALL(IF(joueurs=$B65,ROW(INDIRECT(\"1:\"&ROWS(tirs)))),ROWS($1:$36))),\"\")","v":""},{"$f":"IF(ROWS($1:$37)<=COUNTIF(joueurs,$B65),INDEX(tirs,SMALL(IF(joueurs=$B65,ROW(INDIRECT(\"1:\"&ROWS(tirs)))),ROWS($1:$37))),\"\")","v":""},{"$f":"IF(ROWS($1:$38)<=COUNTIF(joueurs,$B65),INDEX(tirs,SMALL(IF(joueurs=$B65,ROW(INDIRECT(\"1:\"&ROWS(tirs)))),ROWS($1:$38))),\"\")","v":""},{"$f":"IF(ROWS($1:$39)<=COUNTIF(joueurs,$B65),INDEX(tirs,SMALL(IF(joueurs=$B65,ROW(INDIRECT(\"1:\"&ROWS(tirs)))),ROWS($1:$39))),\"\")","v":""},{"$f":"IF(ROWS($1:$40)<=COUNTIF(joueurs,$B65),INDEX(tirs,SMALL(IF(joueurs=$B65,ROW(INDIRECT(\"1:\"&ROWS(tirs)))),ROWS($1:$40))),\"\")","v":""},{"$f":"IF(ROWS($1:$31)<=COUNTIF(joueurs,$B65),INDEX(bontirs,SMALL(IF(joueurs=$B65,ROW(INDIRECT(\"1:\"&ROWS(bontirs)))),ROWS($1:$31))),\"\")","v":""},{"$f":"IF(ROWS($1:$32)<=COUNTIF(joueurs,$B65),INDEX(bontirs,SMALL(IF(joueurs=$B65,ROW(INDIRECT(\"1:\"&ROWS(bontirs)))),ROWS($1:$32))),\"\")","v":""},{"$f":"IF(ROWS($1:$33)<=COUNTIF(joueurs,$B65),INDEX(bontirs,SMALL(IF(joueurs=$B65,ROW(INDIRECT(\"1:\"&ROWS(bontirs)))),ROWS($1:$33))),\"\")","v":""},{"$f":"IF(ROWS($1:$34)<=COUNTIF(joueurs,$B65),INDEX(bontirs,SMALL(IF(joueurs=$B65,ROW(INDIRECT(\"1:\"&ROWS(bontirs)))),ROWS($1:$34))),\"\")","v":""},{"$f":"IF(ROWS($1:$35)<=COUNTIF(joueurs,$B65),INDEX(bontirs,SMALL(IF(joueurs=$B65,ROW(INDIRECT(\"1:\"&ROWS(bontirs)))),ROWS($1:$35))),\"\")","v":""},{"$f":"IF(ROWS($1:$36)<=COUNTIF(joueurs,$B65),INDEX(bontirs,SMALL(IF(joueurs=$B65,ROW(INDIRECT(\"1:\"&ROWS(bontirs)))),ROWS($1:$36))),\"\")","v":""},{"$f":"IF(ROWS($1:$37)<=COUNTIF(joueurs,$B65),INDEX(bontirs,SMALL(IF(joueurs=$B65,ROW(INDIRECT(\"1:\"&ROWS(bontirs)))),ROWS($1:$37))),\"\")","v":""},{"$f":"IF(ROWS($1:$38)<=COUNTIF(joueurs,$B65),INDEX(bontirs,SMALL(IF(joueurs=$B65,ROW(INDIRECT(\"1:\"&ROWS(bontirs)))),ROWS($1:$38))),\"\")","v":""},{"$f":"IF(ROWS($1:$39)<=COUNTIF(joueurs,$B65),INDEX(bontirs,SMALL(IF(joueurs=$B65,ROW(INDIRECT(\"1:\"&ROWS(bontirs)))),ROWS($1:$39))),\"\")","v":""},{"$f":"IF(ROWS($1:$40)<=COUNTIF(joueurs,$B65),INDEX(bontirs,SMALL(IF(joueurs=$B65,ROW(INDIRECT(\"1:\"&ROWS(bontirs)))),ROWS($1:$40))),\"\")","v":""},{"$f":"IF(ROWS($1:$31)<=COUNTIF(joueurs,$B65),INDEX(points,SMALL(IF(joueurs=$B65,ROW(INDIRECT(\"1:\"&ROWS(points)))),ROWS($1:$31))),\"\")","v":""},{"$f":"IF(ROWS($1:$32)<=COUNTIF(joueurs,$B65),INDEX(points,SMALL(IF(joueurs=$B65,ROW(INDIRECT(\"1:\"&ROWS(points)))),ROWS($1:$32))),\"\")","v":""},{"$f":"IF(ROWS($1:$33)<=COUNTIF(joueurs,$B65),INDEX(points,SMALL(IF(joueurs=$B65,ROW(INDIRECT(\"1:\"&ROWS(points)))),ROWS($1:$33))),\"\")","v":""},{"$f":"IF(ROWS($1:$34)<=COUNTIF(joueurs,$B65),INDEX(points,SMALL(IF(joueurs=$B65,ROW(INDIRECT(\"1:\"&ROWS(points)))),ROWS($1:$34))),\"\")","v":""},{"$f":"IF(ROWS($1:$35)<=COUNTIF(joueurs,$B65),INDEX(points,SMALL(IF(joueurs=$B65,ROW(INDIRECT(\"1:\"&ROWS(points)))),ROWS($1:$35))),\"\")","v":""},{"$f":"IF(ROWS($1:$36)<=COUNTIF(joueurs,$B65),INDEX(points,SMALL(IF(joueurs=$B65,ROW(INDIRECT(\"1:\"&ROWS(points)))),ROWS($1:$36))),\"\")","v":""},{"$f":"IF(ROWS($1:$37)<=COUNTIF(joueurs,$B65),INDEX(points,SMALL(IF(joueurs=$B65,ROW(INDIRECT(\"1:\"&ROWS(points)))),ROWS($1:$37))),\"\")","v":""},{"$f":"IF(ROWS($1:$38)<=COUNTIF(joueurs,$B65),INDEX(points,SMALL(IF(joueurs=$B65,ROW(INDIRECT(\"1:\"&ROWS(points)))),ROWS($1:$38))),\"\")","v":""},{"$f":"IF(ROWS($1:$39)<=COUNTIF(joueurs,$B65),INDEX(points,SMALL(IF(joueurs=$B65,ROW(INDIRECT(\"1:\"&ROWS(points)))),ROWS($1:$39))),\"\")","v":""},{"$f":"IF(ROWS($1:$40)<=COUNTIF(joueurs,$B65),INDEX(points,SMALL(IF(joueurs=$B65,ROW(INDIRECT(\"1:\"&ROWS(points)))),ROWS($1:$40))),\"\")","v":""},{"$f":"IF(ROWS($1:$31)<=COUNTIF(joueurs,$B65),INDEX(victoires,SMALL(IF(joueurs=$B65,ROW(INDIRECT(\"1:\"&ROWS(victoires)))),ROWS($1:$31))),\"\")","v":""},{"$f":"IF(ROWS($1:$32)<=COUNTIF(joueurs,$B65),INDEX(victoires,SMALL(IF(joueurs=$B65,ROW(INDIRECT(\"1:\"&ROWS(victoires)))),ROWS($1:$32))),\"\")","v":""},{"$f":"IF(ROWS($1:$33)<=COUNTIF(joueurs,$B65),INDEX(victoires,SMALL(IF(joueurs=$B65,ROW(INDIRECT(\"1:\"&ROWS(victoires)))),ROWS($1:$33))),\"\")","v":""},{"$f":"IF(ROWS($1:$34)<=COUNTIF(joueurs,$B65),INDEX(victoires,SMALL(IF(joueurs=$B65,ROW(INDIRECT(\"1:\"&ROWS(victoires)))),ROWS($1:$34))),\"\")","v":""},{"$f":"IF(ROWS($1:$35)<=COUNTIF(joueurs,$B65),INDEX(victoires,SMALL(IF(joueurs=$B65,ROW(INDIRECT(\"1:\"&ROWS(victoires)))),ROWS($1:$35))),\"\")","v":""},{"$f":"IF(ROWS($1:$36)<=COUNTIF(joueurs,$B65),INDEX(victoires,SMALL(IF(joueurs=$B65,ROW(INDIRECT(\"1:\"&ROWS(victoires)))),ROWS($1:$36))),\"\")","v":""},{"$f":"IF(ROWS($1:$37)<=COUNTIF(joueurs,$B65),INDEX(victoires,SMALL(IF(joueurs=$B65,ROW(INDIRECT(\"1:\"&ROWS(victoires)))),ROWS($1:$37))),\"\")","v":""},{"$f":"IF(ROWS($1:$38)<=COUNTIF(joueurs,$B65),INDEX(victoires,SMALL(IF(joueurs=$B65,ROW(INDIRECT(\"1:\"&ROWS(victoires)))),ROWS($1:$38))),\"\")","v":""},{"$f":"IF(ROWS($1:$39)<=COUNTIF(joueurs,$B65),INDEX(victoires,SMALL(IF(joueurs=$B65,ROW(INDIRECT(\"1:\"&ROWS(victoires)))),ROWS($1:$39))),\"\")","v":""},{"$f":"IF(ROWS($1:$40)<=COUNTIF(joueurs,$B65),INDEX(victoires,SMALL(IF(joueurs=$B65,ROW(INDIRECT(\"1:\"&ROWS(victoires)))),ROWS($1:$40))),\"\")","v":""}]
[17,{"$f":"INDEX(eleves,MATCH(A69,numero,0),MATCH($B$2,classes,0))","v":"mike"},null,{"$f":"IF(ROWS($1:$1)<=COUNTIF(joueurs,$B69),INDEX(fautes,SMALL(IF(joueurs=$B69,ROW(INDIRECT(\"1:\"&ROWS(fautes)))),ROWS($1:$1))),\"\")","v":""},{"$f":"IF(ROWS($1:$2)<=COUNTIF(joueurs,$B69),INDEX(fautes,SMALL(IF(joueurs=$B69,ROW(INDIRECT(\"1:\"&ROWS(fautes)))),ROWS($1:$2))),\"\")","v":""},{"$f":"IF(ROWS($1:$3)<=COUNTIF(joueurs,$B69),INDEX(fautes,SMALL(IF(joueurs=$B69,ROW(INDIRECT(\"1:\"&ROWS(fautes)))),ROWS($1:$3))),\"\")","v":""},{"$f":"IF(ROWS($1:$4)<=COUNTIF(joueurs,$B69),INDEX(fautes,SMALL(IF(joueurs=$B69,ROW(INDIRECT(\"1:\"&ROWS(fautes)))),ROWS($1:$4))),\"\")","v":""},{"$f":"IF(ROWS($1:$5)<=COUNTIF(joueurs,$B69),INDEX(fautes,SMALL(IF(joueurs=$B69,ROW(INDIRECT(\"1:\"&ROWS(fautes)))),ROWS($1:$5))),\"\")","v":""},{"$f":"IF(ROWS($1:$6)<=COUNTIF(joueurs,$B69),INDEX(fautes,SMALL(IF(joueurs=$B69,ROW(INDIRECT(\"1:\"&ROWS(fautes)))),ROWS($1:$6))),\"\")","v":""},{"$f":"IF(ROWS($1:$7)<=COUNTIF(joueurs,$B69),INDEX(fautes,SMALL(IF(joueurs=$B69,ROW(INDIRECT(\"1:\"&ROWS(fautes)))),ROWS($1:$7))),\"\")","v":""},{"$f":"IF(ROWS($1:$8)<=COUNTIF(joueurs,$B69),INDEX(fautes,SMALL(IF(joueurs=$B69,ROW(INDIRECT(\"1:\"&ROWS(fautes)))),ROWS($1:$8))),\"\")","v":""},{"$f":"IF(ROWS($1:$9)<=COUNTIF(joueurs,$B69),INDEX(fautes,SMALL(IF(joueurs=$B69,ROW(INDIRECT(\"1:\"&ROWS(fautes)))),ROWS($1:$9))),\"\")","v":""},{"$f":"IF(ROWS($1:$10)<=COUNTIF(joueurs,$B69),INDEX(fautes,SMALL(IF(joueurs=$B69,ROW(INDIRECT(\"1:\"&ROWS(fautes)))),ROWS($1:$10))),\"\")","v":""},{"$f":"IF(ROWS($1:$1)<=COUNTIF(joueurs,$B69),INDEX(ballonperdus,SMALL(IF(joueurs=$B69,ROW(INDIRECT(\"1:\"&ROWS(ballonperdus)))),ROWS($1:$1))),\"\")","v":""},{"$f":"IF(ROWS($1:$2)<=COUNTIF(joueurs,$B69),INDEX(ballonperdus,SMALL(IF(joueurs=$B69,ROW(INDIRECT(\"1:\"&ROWS(ballonperdus)))),ROWS($1:$2))),\"\")","v":""},{"$f":"IF(ROWS($1:$3)<=COUNTIF(joueurs,$B69),INDEX(ballonperdus,SMALL(IF(joueurs=$B69,ROW(INDIRECT(\"1:\"&ROWS(ballonperdus)))),ROWS($1:$3))),\"\")","v":""},{"$f":"IF(ROWS($1:$4)<=COUNTIF(joueurs,$B69),INDEX(ballonperdus,SMALL(IF(joueurs=$B69,ROW(INDIRECT(\"1:\"&ROWS(ballonperdus)))),ROWS($1:$4))),\"\")","v":""},{"$f":"IF(ROWS($1:$5)<=COUNTIF(joueurs,$B69),INDEX(ballonperdus,SMALL(IF(joueurs=$B69,ROW(INDIRECT(\"1:\"&ROWS(ballonperdus)))),ROWS($1:$5))),\"\")","v":""},{"$f":"IF(ROWS($1:$6)<=COUNTIF(joueurs,$B69),INDEX(ballonperdus,SMALL(IF(joueurs=$B69,ROW(INDIRECT(\"1:\"&ROWS(ballonperdus)))),ROWS($1:$6))),\"\")","v":""},{"$f":"IF(ROWS($1:$7)<=COUNTIF(joueurs,$B69),INDEX(ballonperdus,SMALL(IF(joueurs=$B69,ROW(INDIRECT(\"1:\"&ROWS(ballonperdus)))),ROWS($1:$7))),\"\")","v":""},{"$f":"IF(ROWS($1:$8)<=COUNTIF(joueurs,$B69),INDEX(ballonperdus,SMALL(IF(joueurs=$B69,ROW(INDIRECT(\"1:\"&ROWS(ballonperdus)))),ROWS($1:$8))),\"\")","v":""},{"$f":"IF(ROWS($1:$9)<=COUNTIF(joueurs,$B69),INDEX(ballonperdus,SMALL(IF(joueurs=$B69,ROW(INDIRECT(\"1:\"&ROWS(ballonperdus)))),ROWS($1:$9))),\"\")","v":""},{"$f":"IF(ROWS($1:$10)<=COUNTIF(joueurs,$B69),INDEX(ballonperdus,SMALL(IF(joueurs=$B69,ROW(INDIRECT(\"1:\"&ROWS(ballonperdus)))),ROWS($1:$10))),\"\")","v":""},{"$f":"IF(ROWS($1:$1)<=COUNTIF(joueurs,$B69),INDEX(interceptions,SMALL(IF(joueurs=$B69,ROW(INDIRECT(\"1:\"&ROWS(interceptions)))),ROWS($1:$1))),\"\")","v":""},{"$f":"IF(ROWS($1:$2)<=COUNTIF(joueurs,$B69),INDEX(interceptions,SMALL(IF(joueurs=$B69,ROW(INDIRECT(\"1:\"&ROWS(interceptions)))),ROWS($1:$2))),\"\")","v":""},{"$f":"IF(ROWS($1:$3)<=COUNTIF(joueurs,$B69),INDEX(interceptions,SMALL(IF(joueurs=$B69,ROW(INDIRECT(\"1:\"&ROWS(interceptions)))),ROWS($1:$3))),\"\")","v":""},{"$f":"IF(ROWS($1:$4)<=COUNTIF(joueurs,$B69),INDEX(interceptions,SMALL(IF(joueurs=$B69,ROW(INDIRECT(\"1:\"&ROWS(interceptions)))),ROWS($1:$4))),\"\")","v":""},{"$f":"IF(ROWS($1:$5)<=COUNTIF(joueurs,$B69),INDEX(interceptions,SMALL(IF(joueurs=$B69,ROW(INDIRECT(\"1:\"&ROWS(interceptions)))),ROWS($1:$5))),\"\")","v":""},{"$f":"IF(ROWS($1:$6)<=COUNTIF(joueurs,$B69),INDEX(interceptions,SMALL(IF(joueurs=$B69,ROW(INDIRECT(\"1:\"&ROWS(interceptions)))),ROWS($1:$6))),\"\")","v":""},{"$f":"IF(ROWS($1:$7)<=COUNTIF(joueurs,$B69),INDEX(interceptions,SMALL(IF(joueurs=$B69,ROW(INDIRECT(\"1:\"&ROWS(interceptions)))),ROWS($1:$7))),\"\")","v":""},{"$f":"IF(ROWS($1:$8)<=COUNTIF(joueurs,$B69),INDEX(interceptions,SMALL(IF(joueurs=$B69,ROW(INDIRECT(\"1:\"&ROWS(interceptions)))),ROWS($1:$8))),\"\")","v":""},{"$f":"IF(ROWS($1:$9)<=COUNTIF(joueurs,$B69),INDEX(interceptions,SMALL(IF(joueurs=$B69,ROW(INDIRECT(\"1:\"&ROWS(interceptions)))),ROWS($1:$9))),\"\")","v":""},{"$f":"IF(ROWS($1:$10)<=COUNTIF(joueurs,$B69),INDEX(interceptions,SMALL(IF(joueurs=$B69,ROW(INDIRECT(\"1:\"&ROWS(interceptions)))),ROWS($1:$10))),\"\")","v":""},{"$f":"IF(ROWS($1:$1)<=COUNTIF(joueurs,$B69),INDEX(ballonrecuperes,SMALL(IF(joueurs=$B69,ROW(INDIRECT(\"1:\"&ROWS(ballonrecuperes)))),ROWS($1:$1))),\"\")","v":""},{"$f":"IF(ROWS($1:$2)<=COUNTIF(joueurs,$B69),INDEX(ballonrecuperes,SMALL(IF(joueurs=$B69,ROW(INDIRECT(\"1:\"&ROWS(ballonrecuperes)))),ROWS($1:$2))),\"\")","v":""},{"$f":"IF(ROWS($1:$3)<=COUNTIF(joueurs,$B69),INDEX(ballonrecuperes,SMALL(IF(joueurs=$B69,ROW(INDIRECT(\"1:\"&ROWS(ballonrecuperes)))),ROWS($1:$3))),\"\")","v":""},{"$f":"IF(ROWS($1:$4)<=COUNTIF(joueurs,$B69),INDEX(ballonrecuperes,SMALL(IF(joueurs=$B69,ROW(INDIRECT(\"1:\"&ROWS(ballonrecuperes)))),ROWS($1:$4))),\"\")","v":""},{"$f":"IF(ROWS($1:$5)<=COUNTIF(joueurs,$B69),INDEX(ballonrecuperes,SMALL(IF(joueurs=$B69,ROW(INDIRECT(\"1:\"&ROWS(ballonrecuperes)))),ROWS($1:$5))),\"\")","v":""},{"$f":"IF(ROWS($1:$6)<=COUNTIF(joueurs,$B69),INDEX(ballonrecuperes,SMALL(IF(joueurs=$B69,ROW(INDIRECT(\"1:\"&ROWS(ballonrecuperes)))),ROWS($1:$6))),\"\")","v":""},{"$f":"IF(ROWS($1:$7)<=COUNTIF(joueurs,$B69),INDEX(ballonrecuperes,SMALL(IF(joueurs=$B69,ROW(INDIRECT(\"1:\"&ROWS(ballonrecuperes)))),ROWS($1:$7))),\"\")","v":""},{"$f":"IF(ROWS($1:$8)<=COUNTIF(joueurs,$B69),INDEX(ballonrecuperes,SMALL(IF(joueurs=$B69,ROW(INDIRECT(\"1:\"&ROWS(ballonrecuperes)))),ROWS($1:$8))),\"\")","v":""},{"$f":"IF(ROWS($1:$9)<=COUNTIF(joueurs,$B69),INDEX(ballonrecuperes,SMALL(IF(joueurs=$B69,ROW(INDIRECT(\"1:\"&ROWS(ballonrecuperes)))),ROWS($1:$9))),\"\")","v":""},{"$f":"IF(ROWS($1:$10)<=COUNTIF(joueurs,$B69),INDEX(ballonrecuperes,SMALL(IF(joueurs=$B69,ROW(INDIRECT(\"1:\"&ROWS(ballonrecuperes)))),ROWS($1:$10))),\"\")","v":""},{"$f":"IF(ROWS($1:$1)<=COUNTIF(joueurs,$B69),INDEX(tirs,SMALL(IF(joueurs=$B69,ROW(INDIRECT(\"1:\"&ROWS(tirs)))),ROWS($1:$1))),\"\")","v":""},{"$f":"IF(ROWS($1:$2)<=COUNTIF(joueurs,$B69),INDEX(tirs,SMALL(IF(joueurs=$B69,ROW(INDIRECT(\"1:\"&ROWS(tirs)))),ROWS($1:$2))),\"\")","v":""},{"$f":"IF(ROWS($1:$3)<=COUNTIF(joueurs,$B69),INDEX(tirs,SMALL(IF(joueurs=$B69,ROW(INDIRECT(\"1:\"&ROWS(tirs)))),ROWS($1:$3))),\"\")","v":""},{"$f":"IF(ROWS($1:$4)<=COUNTIF(joueurs,$B69),INDEX(tirs,SMALL(IF(joueurs=$B69,ROW(INDIRECT(\"1:\"&ROWS(tirs)))),ROWS($1:$4))),\"\")","v":""},{"$f":"IF(ROWS($1:$5)<=COUNTIF(joueurs,$B69),INDEX(tirs,SMALL(IF(joueurs=$B69,ROW(INDIRECT(\"1:\"&ROWS(tirs)))),ROWS($1:$5))),\"\")","v":""},{"$f":"IF(ROWS($1:$6)<=COUNTIF(joueurs,$B69),INDEX(tirs,SMALL(IF(joueurs=$B69,ROW(INDIRECT(\"1:\"&ROWS(tirs)))),ROWS($1:$6))),\"\")","v":""},{"$f":"IF(ROWS($1:$7)<=COUNTIF(joueurs,$B69),INDEX(tirs,SMALL(IF(joueurs=$B69,ROW(INDIRECT(\"1:\"&ROWS(tirs)))),ROWS($1:$7))),\"\")","v":""},{"$f":"IF(ROWS($1:$8)<=COUNTIF(joueurs,$B69),INDEX(tirs,SMALL(IF(joueurs=$B69,ROW(INDIRECT(\"1:\"&ROWS(tirs)))),ROWS($1:$8))),\"\")","v":""},{"$f":"IF(ROWS($1:$9)<=COUNTIF(joueurs,$B69),INDEX(tirs,SMALL(IF(joueurs=$B69,ROW(INDIRECT(\"1:\"&ROWS(tirs)))),ROWS($1:$9))),\"\")","v":""},{"$f":"IF(ROWS($1:$10)<=COUNTIF(joueurs,$B69),INDEX(tirs,SMALL(IF(joueurs=$B69,ROW(INDIRECT(\"1:\"&ROWS(tirs)))),ROWS($1:$10))),\"\")","v":""},{"$f":"IF(ROWS($1:$1)<=COUNTIF(joueurs,$B69),INDEX(bontirs,SMALL(IF(joueurs=$B69,ROW(INDIRECT(\"1:\"&ROWS(bontirs)))),ROWS($1:$1))),\"\")","v":""},{"$f":"IF(ROWS($1:$2)<=COUNTIF(joueurs,$B69),INDEX(bontirs,SMALL(IF(joueurs=$B69,ROW(INDIRECT(\"1:\"&ROWS(bontirs)))),ROWS($1:$2))),\"\")","v":""},{"$f":"IF(ROWS($1:$3)<=COUNTIF(joueurs,$B69),INDEX(bontirs,SMALL(IF(joueurs=$B69,ROW(INDIRECT(\"1:\"&ROWS(bontirs)))),ROWS($1:$3))),\"\")","v":""},{"$f":"IF(ROWS($1:$4)<=COUNTIF(joueurs,$B69),INDEX(bontirs,SMALL(IF(joueurs=$B69,ROW(INDIRECT(\"1:\"&ROWS(bontirs)))),ROWS($1:$4))),\"\")","v":""},{"$f":"IF(ROWS($1:$5)<=COUNTIF(joueurs,$B69),INDEX(bontirs,SMALL(IF(joueurs=$B69,ROW(INDIRECT(\"1:\"&ROWS(bontirs)))),ROWS($1:$5))),\"\")","v":""},{"$f":"IF(ROWS($1:$6)<=COUNTIF(joueurs,$B69),INDEX(bontirs,SMALL(IF(joueurs=$B69,ROW(INDIRECT(\"1:\"&ROWS(bontirs)))),ROWS($1:$6))),\"\")","v":""},{"$f":"IF(ROWS($1:$7)<=COUNTIF(joueurs,$B69),INDEX(bontirs,SMALL(IF(joueurs=$B69,ROW(INDIRECT(\"1:\"&ROWS(bontirs)))),ROWS($1:$7))),\"\")","v":""},{"$f":"IF(ROWS($1:$8)<=COUNTIF(joueurs,$B69),INDEX(bontirs,SMALL(IF(joueurs=$B69,ROW(INDIRECT(\"1:\"&ROWS(bontirs)))),ROWS($1:$8))),\"\")","v":""},{"$f":"IF(ROWS($1:$9)<=COUNTIF(joueurs,$B69),INDEX(bontirs,SMALL(IF(joueurs=$B69,ROW(INDIRECT(\"1:\"&ROWS(bontirs)))),ROWS($1:$9))),\"\")","v":""},{"$f":"IF(ROWS($1:$10)<=COUNTIF(joueurs,$B69),INDEX(bontirs,SMALL(IF(joueurs=$B69,ROW(INDIRECT(\"1:\"&ROWS(bontirs)))),ROWS($1:$10))),\"\")","v":""},{"$f":"IF(ROWS($1:$1)<=COUNTIF(joueurs,$B69),INDEX(points,SMALL(IF(joueurs=$B69,ROW(INDIRECT(\"1:\"&ROWS(points)))),ROWS($1:$1))),\"\")","v":""},{"$f":"IF(ROWS($1:$2)<=COUNTIF(joueurs,$B69),INDEX(points,SMALL(IF(joueurs=$B69,ROW(INDIRECT(\"1:\"&ROWS(points)))),ROWS($1:$2))),\"\")","v":""},{"$f":"IF(ROWS($1:$3)<=COUNTIF(joueurs,$B69),INDEX(points,SMALL(IF(joueurs=$B69,ROW(INDIRECT(\"1:\"&ROWS(points)))),ROWS($1:$3))),\"\")","v":""},{"$f":"IF(ROWS($1:$4)<=COUNTIF(joueurs,$B69),INDEX(points,SMALL(IF(joueurs=$B69,ROW(INDIRECT(\"1:\"&ROWS(points)))),ROWS($1:$4))),\"\")","v":""},{"$f":"IF(ROWS($1:$5)<=COUNTIF(joueurs,$B69),INDEX(points,SMALL(IF(joueurs=$B69,ROW(INDIRECT(\"1:\"&ROWS(points)))),ROWS($1:$5))),\"\")","v":""},{"$f":"IF(ROWS($1:$6)<=COUNTIF(joueurs,$B69),INDEX(points,SMALL(IF(joueurs=$B69,ROW(INDIRECT(\"1:\"&ROWS(points)))),ROWS($1:$6))),\"\")","v":""},{"$f":"IF(ROWS($1:$7)<=COUNTIF(joueurs,$B69),INDEX(points,SMALL(IF(joueurs=$B69,ROW(INDIRECT(\"1:\"&ROWS(points)))),ROWS($1:$7))),\"\")","v":""},{"$f":"IF(ROWS($1:$8)<=COUNTIF(joueurs,$B69),INDEX(points,SMALL(IF(joueurs=$B69,ROW(INDIRECT(\"1:\"&ROWS(points)))),ROWS($1:$8))),\"\")","v":""},{"$f":"IF(ROWS($1:$9)<=COUNTIF(joueurs,$B69),INDEX(points,SMALL(IF(joueurs=$B69,ROW(INDIRECT(\"1:\"&ROWS(points)))),ROWS($1:$9))),\"\")","v":""},{"$f":"IF(ROWS($1:$10)<=COUNTIF(joueurs,$B69),INDEX(points,SMALL(IF(joueurs=$B69,ROW(INDIRECT(\"1:\"&ROWS(points)))),ROWS($1:$10))),\"\")","v":""},{"$f":"IF(ROWS($1:$1)<=COUNTIF(joueurs,$B69),INDEX(victoires,SMALL(IF(joueurs=$B69,ROW(INDIRECT(\"1:\"&ROWS(victoires)))),ROWS($1:$1))),\"\")","v":""},{"$f":"IF(ROWS($1:$2)<=COUNTIF(joueurs,$B69),INDEX(victoires,SMALL(IF(joueurs=$B69,ROW(INDIRECT(\"1:\"&ROWS(victoires)))),ROWS($1:$2))),\"\")","v":""},{"$f":"IF(ROWS($1:$3)<=COUNTIF(joueurs,$B69),INDEX(victoires,SMALL(IF(joueurs=$B69,ROW(INDIRECT(\"1:\"&ROWS(victoires)))),ROWS($1:$3))),\"\")","v":""},{"$f":"IF(ROWS($1:$4)<=COUNTIF(joueurs,$B69),INDEX(victoires,SMALL(IF(joueurs=$B69,ROW(INDIRECT(\"1:\"&ROWS(victoires)))),ROWS($1:$4))),\"\")","v":""},{"$f":"IF(ROWS($1:$5)<=COUNTIF(joueurs,$B69),INDEX(victoires,SMALL(IF(joueurs=$B69,ROW(INDIRECT(\"1:\"&ROWS(victoires)))),ROWS($1:$5))),\"\")","v":""},{"$f":"IF(ROWS($1:$6)<=COUNTIF(joueurs,$B69),INDEX(victoires,SMALL(IF(joueurs=$B69,ROW(INDIRECT(\"1:\"&ROWS(victoires)))),ROWS($1:$6))),\"\")","v":""},{"$f":"IF(ROWS($1:$7)<=COUNTIF(joueurs,$B69),INDEX(victoires,SMALL(IF(joueurs=$B69,ROW(INDIRECT(\"1:\"&ROWS(victoires)))),ROWS($1:$7))),\"\")","v":""},{"$f":"IF(ROWS($1:$8)<=COUNTIF(joueurs,$B69),INDEX(victoires,SMALL(IF(joueurs=$B69,ROW(INDIRECT(\"1:\"&ROWS(victoires)))),ROWS($1:$8))),\"\")","v":""},{"$f":"IF(ROWS($1:$9)<=COUNTIF(joueurs,$B69),INDEX(victoires,SMALL(IF(joueurs=$B69,ROW(INDIRECT(\"1:\"&ROWS(victoires)))),ROWS($1:$9))),\"\")","v":""},{"$f":"IF(ROWS($1:$10)<=COUNTIF(joueurs,$B69),INDEX(victoires,SMALL(IF(joueurs=$B69,ROW(INDIRECT(\"1:\"&ROWS(victoires)))),ROWS($1:$10))),\"\")","v":""}]
[null,null,null,{"$f":"IF(ROWS($1:$11)<=COUNTIF(joueurs,$B69),INDEX(fautes,SMALL(IF(joueurs=$B69,ROW(INDIRECT(\"1:\"&ROWS(fautes)))),ROWS($1:$11))),\"\")","v":""},{"$f":"IF(ROWS($1:$12)<=COUNTIF(joueurs,$B69),INDEX(fautes,SMALL(IF(joueurs=$B69,ROW(INDIRECT(\"1:\"&ROWS(fautes)))),ROWS($1:$12))),\"\")","v":""},{"$f":"IF(ROWS($1:$13)<=COUNTIF(joueurs,$B69),INDEX(fautes,SMALL(IF(joueurs=$B69,ROW(INDIRECT(\"1:\"&ROWS(fautes)))),ROWS($1:$13))),\"\")","v":""},{"$f":"IF(ROWS($1:$14)<=COUNTIF(joueurs,$B69),INDEX(fautes,SMALL(IF(joueurs=$B69,ROW(INDIRECT(\"1:\"&ROWS(fautes)))),ROWS($1:$14))),\"\")","v":""},{"$f":"IF(ROWS($1:$15)<=COUNTIF(joueurs,$B69),INDEX(fautes,SMALL(IF(joueurs=$B69,ROW(INDIRECT(\"1:\"&ROWS(fautes)))),ROWS($1:$15))),\"\")","v":""},{"$f":"IF(ROWS($1:$16)<=COUNTIF(joueurs,$B69),INDEX(fautes,SMALL(IF(joueurs=$B69,ROW(INDIRECT(\"1:\"&ROWS(fautes)))),ROWS($1:$16))),\"\")","v":""},{"$f":"IF(ROWS($1:$17)<=COUNTIF(joueurs,$B69),INDEX(fautes,SMALL(IF(joueurs=$B69,ROW(INDIRECT(\"1:\"&ROWS(fautes)))),ROWS($1:$17))),\"\")","v":""},{"$f":"IF(ROWS($1:$18)<=COUNTIF(joueurs,$B69),INDEX(fautes,SMALL(IF(joueurs=$B69,ROW(INDIRECT(\"1:\"&ROWS(fautes)))),ROWS($1:$18))),\"\")","v":""},{"$f":"IF(ROWS($1:$19)<=COUNTIF(joueurs,$B69),INDEX(fautes,SMALL(IF(joueurs=$B69,ROW(INDIRECT(\"1:\"&ROWS(fautes)))),ROWS($1:$19))),\"\")","v":""},{"$f":"IF(ROWS($1:$20)<=COUNTIF(joueurs,$B69),INDEX(fautes,SMALL(IF(joueurs=$B69,ROW(INDIRECT(\"1:\"&ROWS(fautes)))),ROWS($1:$20))),\"\")","v":""},{"$f":"IF(ROWS($1:$11)<=COUNTIF(joueurs,$B69),INDEX(ballonperdus,SMALL(IF(joueurs=$B69,ROW(INDIRECT(\"1:\"&ROWS(ballonperdus)))),ROWS($1:$11))),\"\")","v":""},{"$f":"IF(ROWS($1:$12)<=COUNTIF(joueurs,$B69),INDEX(ballonperdus,SMALL(IF(joueurs=$B69,ROW(INDIRECT(\"1:\"&ROWS(ballonperdus)))),ROWS($1:$12))),\"\")","v":""},{"$f":"IF(ROWS($1:$13)<=COUNTIF(joueurs,$B69),INDEX(ballonperdus,SMALL(IF(joueurs=$B69,ROW(INDIRECT(\"1:\"&ROWS(ballonperdus)))),ROWS($1:$13))),\"\")","v":""},{"$f":"IF(ROWS($1:$14)<=COUNTIF(joueurs,$B69),INDEX(ballonperdus,SMALL(IF(joueurs=$B69,ROW(INDIRECT(\"1:\"&ROWS(ballonperdus)))),ROWS($1:$14))),\"\")","v":""},{"$f":"IF(ROWS($1:$15)<=COUNTIF(joueurs,$B69),INDEX(ballonperdus,SMALL(IF(joueurs=$B69,ROW(INDIRECT(\"1:\"&ROWS(ballonperdus)))),ROWS($1:$15))),\"\")","v":""},{"$f":"IF(ROWS($1:$16)<=COUNTIF(joueurs,$B69),INDEX(ballonperdus,SMALL(IF(joueurs=$B69,ROW(INDIRECT(\"1:\"&ROWS(ballonperdus)))),ROWS($1:$16))),\"\")","v":""},{"$f":"IF(ROWS($1:$17)<=COUNTIF(joueurs,$B69),INDEX(ballonperdus,SMALL(IF(joueurs=$B69,ROW(INDIRECT(\"1:\"&ROWS(ballonperdus)))),ROWS($1:$17))),\"\")","v":""},{"$f":"IF(ROWS($1:$18)<=COUNTIF(joueurs,$B69),INDEX(ballonperdus,SMALL(IF(joueurs=$B69,ROW(INDIRECT(\"1:\"&ROWS(ballonperdus)))),ROWS($1:$18))),\"\")","v":""},{"$f":"IF(ROWS($1:$19)<=COUNTIF(joueurs,$B69),INDEX(ballonperdus,SMALL(IF(joueurs=$B69,ROW(INDIRECT(\"1:\"&ROWS(ballonperdus)))),ROWS($1:$19))),\"\")","v":""},{"$f":"IF(ROWS($1:$20)<=COUNTIF(joueurs,$B69),INDEX(fautes,SMALL(IF(joueurs=$B69,ROW(INDIRECT(\"1:\"&ROWS(ballonperdus)))),ROWS($1:$20))),\"\")","v":""},{"$f":"IF(ROWS($1:$11)<=COUNTIF(joueurs,$B69),INDEX(interceptions,SMALL(IF(joueurs=$B69,ROW(INDIRECT(\"1:\"&ROWS(interceptions)))),ROWS($1:$11))),\"\")","v":""},{"$f":"IF(ROWS($1:$12)<=COUNTIF(joueurs,$B69),INDEX(interceptions,SMALL(IF(joueurs=$B69,ROW(INDIRECT(\"1:\"&ROWS(interceptions)))),ROWS($1:$12))),\"\")","v":""},{"$f":"IF(ROWS($1:$13)<=COUNTIF(joueurs,$B69),INDEX(interceptions,SMALL(IF(joueurs=$B69,ROW(INDIRECT(\"1:\"&ROWS(interceptions)))),ROWS($1:$13))),\"\")","v":""},{"$f":"IF(ROWS($1:$14)<=COUNTIF(joueurs,$B69),INDEX(interceptions,SMALL(IF(joueurs=$B69,ROW(INDIRECT(\"1:\"&ROWS(interceptions)))),ROWS($1:$14))),\"\")","v":""},{"$f":"IF(ROWS($1:$15)<=COUNTIF(joueurs,$B69),INDEX(interceptions,SMALL(IF(joueurs=$B69,ROW(INDIRECT(\"1:\"&ROWS(interceptions)))),ROWS($1:$15))),\"\")","v":""},{"$f":"IF(ROWS($1:$16)<=COUNTIF(joueurs,$B69),INDEX(interceptions,SMALL(IF(joueurs=$B69,ROW(INDIRECT(\"1:\"&ROWS(interceptions)))),ROWS($1:$16))),\"\")","v":""},{"$f":"IF(ROWS($1:$17)<=COUNTIF(joueurs,$B69),INDEX(interceptions,SMALL(IF(joueurs=$B69,ROW(INDIRECT(\"1:\"&ROWS(interceptions)))),ROWS($1:$17))),\"\")","v":""},{"$f":"IF(ROWS($1:$18)<=COUNTIF(joueurs,$B69),INDEX(interceptions,SMALL(IF(joueurs=$B69,ROW(INDIRECT(\"1:\"&ROWS(interceptions)))),ROWS($1:$18))),\"\")","v":""},{"$f":"IF(ROWS($1:$19)<=COUNTIF(joueurs,$B69),INDEX(interceptions,SMALL(IF(joueurs=$B69,ROW(INDIRECT(\"1:\"&ROWS(interceptions)))),ROWS($1:$19))),\"\")","v":""},{"$f":"IF(ROWS($1:$20)<=COUNTIF(joueurs,$B69),INDEX(interceptions,SMALL(IF(joueurs=$B69,ROW(INDIRECT(\"1:\"&ROWS(interceptions)))),ROWS($1:$20))),\"\")","v":""},{"$f":"IF(ROWS($1:$11)<=COUNTIF(joueurs,$B69),INDEX(ballonrecuperes,SMALL(IF(joueurs=$B69,ROW(INDIRECT(\"1:\"&ROWS(ballonrecuperes)))),ROWS($1:$11))),\"\")","v":""},{"$f":"IF(ROWS($1:$12)<=COUNTIF(joueurs,$B69),INDEX(ballonrecuperes,SMALL(IF(joueurs=$B69,ROW(INDIRECT(\"1:\"&ROWS(ballonrecuperes)))),ROWS($1:$12))),\"\")","v":""},{"$f":"IF(ROWS($1:$13)<=COUNTIF(joueurs,$B69),INDEX(ballonrecuperes,SMALL(IF(joueurs=$B69,ROW(INDIRECT(\"1:\"&ROWS(ballonrecuperes)))),ROWS($1:$13))),\"\")","v":""},{"$f":"IF(ROWS($1:$14)<=COUNTIF(joueurs,$B69),INDEX(ballonrecuperes,SMALL(IF(joueurs=$B69,ROW(INDIRECT(\"1:\"&ROWS(ballonrecuperes)))),ROWS($1:$14))),\"\")","v":""},{"$f":"IF(ROWS($1:$15)<=COUNTIF(joueurs,$B69),INDEX(ballonrecuperes,SMALL(IF(joueurs=$B69,ROW(INDIRECT(\"1:\"&ROWS(ballonrecuperes)))),ROWS($1:$15))),\"\")","v":""},{"$f":"IF(ROWS($1:$16)<=COUNTIF(joueurs,$B69),INDEX(ballonrecuperes,SMALL(IF(joueurs=$B69,ROW(INDIRECT(\"1:\"&ROWS(ballonrecuperes)))),ROWS($1:$16))),\"\")","v":""},{"$f":"IF(ROWS($1:$17)<=COUNTIF(joueurs,$B69),INDEX(ballonrecuperes,SMALL(IF(joueurs=$B69,ROW(INDIRECT(\"1:\"&ROWS(ballonrecuperes)))),ROWS($1:$17))),\"\")","v":""},{"$f":"IF(ROWS($1:$18)<=COUNTIF(joueurs,$B69),INDEX(ballonrecuperes,SMALL(IF(joueurs=$B69,ROW(INDIRECT(\"1:\"&ROWS(ballonrecuperes)))),ROWS($1:$18))),\"\")","v":""},{"$f":"IF(ROWS($1:$19)<=COUNTIF(joueurs,$B69),INDEX(ballonrecuperes,SMALL(IF(joueurs=$B69,ROW(INDIRECT(\"1:\"&ROWS(ballonrecuperes)))),ROWS($1:$19))),\"\")","v":""},{"$f":"IF(ROWS($1:$20)<=COUNTIF(joueurs,$B69),INDEX(ballonrecuperes,SMALL(IF(joueurs=$B69,ROW(INDIRECT(\"1:\"&ROWS(ballonrecuperes)))),ROWS($1:$20))),\"\")","v":""},{"$f":"IF(ROWS($1:$11)<=COUNTIF(joueurs,$B69),INDEX(tirs,SMALL(IF(joueurs=$B69,ROW(INDIRECT(\"1:\"&ROWS(tirs)))),ROWS($1:$11))),\"\")","v":""},{"$f":"IF(ROWS($1:$12)<=COUNTIF(joueurs,$B69),INDEX(tirs,SMALL(IF(joueurs=$B69,ROW(INDIRECT(\"1:\"&ROWS(tirs)))),ROWS($1:$12))),\"\")","v":""},{"$f":"IF(ROWS($1:$13)<=COUNTIF(joueurs,$B69),INDEX(tirs,SMALL(IF(joueurs=$B69,ROW(INDIRECT(\"1:\"&ROWS(tirs)))),ROWS($1:$13))),\"\")","v":""},{"$f":"IF(ROWS($1:$14)<=COUNTIF(joueurs,$B69),INDEX(tirs,SMALL(IF(joueurs=$B69,ROW(INDIRECT(\"1:\"&ROWS(tirs)))),ROWS($1:$14))),\"\")","v":""},{"$f":"IF(ROWS($1:$15)<=COUNTIF(joueurs,$B69),INDEX(tirs,SMALL(IF(joueurs=$B69,ROW(INDIRECT(\"1:\"&ROWS(tirs)))),ROWS($1:$15))),\"\")","v":""},{"$f":"IF(ROWS($1:$16)<=COUNTIF(joueurs,$B69),INDEX(tirs,SMALL(IF(joueurs=$B69,ROW(INDIRECT(\"1:\"&ROWS(tirs)))),ROWS($1:$16))),\"\")","v":""},{"$f":"IF(ROWS($1:$17)<=COUNTIF(joueurs,$B69),INDEX(tirs,SMALL(IF(joueurs=$B69,ROW(INDIRECT(\"1:\"&ROWS(tirs)))),ROWS($1:$17))),\"\")","v":""},{"$f":"IF(ROWS($1:$18)<=COUNTIF(joueurs,$B69),INDEX(tirs,SMALL(IF(joueurs=$B69,ROW(INDIRECT(\"1:\"&ROWS(tirs)))),ROWS($1:$18))),\"\")","v":""},{"$f":"IF(ROWS($1:$19)<=COUNTIF(joueurs,$B69),INDEX(tirs,SMALL(IF(joueurs=$B69,ROW(INDIRECT(\"1:\"&ROWS(tirs)))),ROWS($1:$19))),\"\")","v":""},{"$f":"IF(ROWS($1:$20)<=COUNTIF(joueurs,$B69),INDEX(tirs,SMALL(IF(joueurs=$B69,ROW(INDIRECT(\"1:\"&ROWS(tirs)))),ROWS($1:$20))),\"\")","v":""},{"$f":"IF(ROWS($1:$11)<=COUNTIF(joueurs,$B69),INDEX(bontirs,SMALL(IF(joueurs=$B69,ROW(INDIRECT(\"1:\"&ROWS(bontirs)))),ROWS($1:$11))),\"\")","v":""},{"$f":"IF(ROWS($1:$12)<=COUNTIF(joueurs,$B69),INDEX(bontirs,SMALL(IF(joueurs=$B69,ROW(INDIRECT(\"1:\"&ROWS(bontirs)))),ROWS($1:$12))),\"\")","v":""},{"$f":"IF(ROWS($1:$13)<=COUNTIF(joueurs,$B69),INDEX(bontirs,SMALL(IF(joueurs=$B69,ROW(INDIRECT(\"1:\"&ROWS(bontirs)))),ROWS($1:$13))),\"\")","v":""},{"$f":"IF(ROWS($1:$14)<=COUNTIF(joueurs,$B69),INDEX(bontirs,SMALL(IF(joueurs=$B69,ROW(INDIRECT(\"1:\"&ROWS(bontirs)))),ROWS($1:$14))),\"\")","v":""},{"$f":"IF(ROWS($1:$15)<=COUNTIF(joueurs,$B69),INDEX(bontirs,SMALL(IF(joueurs=$B69,ROW(INDIRECT(\"1:\"&ROWS(bontirs)))),ROWS($1:$15))),\"\")","v":""},{"$f":"IF(ROWS($1:$16)<=COUNTIF(joueurs,$B69),INDEX(bontirs,SMALL(IF(joueurs=$B69,ROW(INDIRECT(\"1:\"&ROWS(bontirs)))),ROWS($1:$16))),\"\")","v":""},{"$f":"IF(ROWS($1:$17)<=COUNTIF(joueurs,$B69),INDEX(bontirs,SMALL(IF(joueurs=$B69,ROW(INDIRECT(\"1:\"&ROWS(bontirs)))),ROWS($1:$17))),\"\")","v":""},{"$f":"IF(ROWS($1:$18)<=COUNTIF(joueurs,$B69),INDEX(bontirs,SMALL(IF(joueurs=$B69,ROW(INDIRECT(\"1:\"&ROWS(bontirs)))),ROWS($1:$18))),\"\")","v":""},{"$f":"IF(ROWS($1:$19)<=COUNTIF(joueurs,$B69),INDEX(bontirs,SMALL(IF(joueurs=$B69,ROW(INDIRECT(\"1:\"&ROWS(bontirs)))),ROWS($1:$19))),\"\")","v":""},{"$f":"IF(ROWS($1:$20)<=COUNTIF(joueurs,$B69),INDEX(bontirs,SMALL(IF(joueurs=$B69,ROW(INDIRECT(\"1:\"&ROWS(bontirs)))),ROWS($1:$20))),\"\")","v":""},{"$f":"IF(ROWS($1:$11)<=COUNTIF(joueurs,$B69),INDEX(points,SMALL(IF(joueurs=$B69,ROW(INDIRECT(\"1:\"&ROWS(points)))),ROWS($1:$11))),\"\")","v":""},{"$f":"IF(ROWS($1:$12)<=COUNTIF(joueurs,$B69),INDEX(points,SMALL(IF(joueurs=$B69,ROW(INDIRECT(\"1:\"&ROWS(points)))),ROWS($1:$12))),\"\")","v":""},{"$f":"IF(ROWS($1:$13)<=COUNTIF(joueurs,$B69),INDEX(points,SMALL(IF(joueurs=$B69,ROW(INDIRECT(\"1:\"&ROWS(points)))),ROWS($1:$13))),\"\")","v":""},{"$f":"IF(ROWS($1:$14)<=COUNTIF(joueurs,$B69),INDEX(points,SMALL(IF(joueurs=$B69,ROW(INDIRECT(\"1:\"&ROWS(points)))),ROWS($1:$14))),\"\")","v":""},{"$f":"IF(ROWS($1:$15)<=COUNTIF(joueurs,$B69),INDEX(points,SMALL(IF(joueurs=$B69,ROW(INDIRECT(\"1:\"&ROWS(points)))),ROWS($1:$15))),\"\")","v":""},{"$f":"IF(ROWS($1:$16)<=COUNTIF(joueurs,$B69),INDEX(points,SMALL(IF(joueurs=$B69,ROW(INDIRECT(\"1:\"&ROWS(points)))),ROWS($1:$16))),\"\")","v":""},{"$f":"IF(ROWS($1:$17)<=COUNTIF(joueurs,$B69),INDEX(points,SMALL(IF(joueurs=$B69,ROW(INDIRECT(\"1:\"&ROWS(points)))),ROWS($1:$17))),\"\")","v":""},{"$f":"IF(ROWS($1:$18)<=COUNTIF(joueurs,$B69),INDEX(points,SMALL(IF(joueurs=$B69,ROW(INDIRECT(\"1:\"&ROWS(points)))),ROWS($1:$18))),\"\")","v":""},{"$f":"IF(ROWS($1:$19)<=COUNTIF(joueurs,$B69),INDEX(points,SMALL(IF(joueurs=$B69,ROW(INDIRECT(\"1:\"&ROWS(points)))),ROWS($1:$19))),\"\")","v":""},{"$f":"IF(ROWS($1:$20)<=COUNTIF(points,$B69),INDEX(fautes,SMALL(IF(joueurs=$B69,ROW(INDIRECT(\"1:\"&ROWS(points)))),ROWS($1:$20))),\"\")","v":""},{"$f":"IF(ROWS($1:$11)<=COUNTIF(joueurs,$B69),INDEX(victoires,SMALL(IF(joueurs=$B69,ROW(INDIRECT(\"1:\"&ROWS(victoires)))),ROWS($1:$11))),\"\")","v":""},{"$f":"IF(ROWS($1:$12)<=COUNTIF(joueurs,$B69),INDEX(victoires,SMALL(IF(joueurs=$B69,ROW(INDIRECT(\"1:\"&ROWS(victoires)))),ROWS($1:$12))),\"\")","v":""},{"$f":"IF(ROWS($1:$13)<=COUNTIF(joueurs,$B69),INDEX(victoires,SMALL(IF(joueurs=$B69,ROW(INDIRECT(\"1:\"&ROWS(victoires)))),ROWS($1:$13))),\"\")","v":""},{"$f":"IF(ROWS($1:$14)<=COUNTIF(joueurs,$B69),INDEX(victoires,SMALL(IF(joueurs=$B69,ROW(INDIRECT(\"1:\"&ROWS(victoires)))),ROWS($1:$14))),\"\")","v":""},{"$f":"IF(ROWS($1:$15)<=COUNTIF(joueurs,$B69),INDEX(victoires,SMALL(IF(joueurs=$B69,ROW(INDIRECT(\"1:\"&ROWS(victoires)))),ROWS($1:$15))),\"\")","v":""},{"$f":"IF(ROWS($1:$16)<=COUNTIF(joueurs,$B69),INDEX(victoires,SMALL(IF(joueurs=$B69,ROW(INDIRECT(\"1:\"&ROWS(victoires)))),ROWS($1:$16))),\"\")","v":""},{"$f":"IF(ROWS($1:$17)<=COUNTIF(joueurs,$B69),INDEX(victoires,SMALL(IF(joueurs=$B69,ROW(INDIRECT(\"1:\"&ROWS(victoires)))),ROWS($1:$17))),\"\")","v":""},{"$f":"IF(ROWS($1:$18)<=COUNTIF(joueurs,$B69),INDEX(victoires,SMALL(IF(joueurs=$B69,ROW(INDIRECT(\"1:\"&ROWS(victoires)))),ROWS($1:$18))),\"\")","v":""},{"$f":"IF(ROWS($1:$19)<=COUNTIF(joueurs,$B69),INDEX(victoires,SMALL(IF(joueurs=$B69,ROW(INDIRECT(\"1:\"&ROWS(victoires)))),ROWS($1:$19))),\"\")","v":""},{"$f":"IF(ROWS($1:$20)<=COUNTIF(joueurs,$B69),INDEX(victoires,SMALL(IF(joueurs=$B69,ROW(INDIRECT(\"1:\"&ROWS(victoires)))),ROWS($1:$20))),\"\")","v":""}]
[null,null,null,{"$f":"IF(ROWS($1:$21)<=COUNTIF(joueurs,$B69),INDEX(fautes,SMALL(IF(joueurs=$B69,ROW(INDIRECT(\"1:\"&ROWS(fautes)))),ROWS($1:$21))),\"\")","v":""},{"$f":"IF(ROWS($1:$22)<=COUNTIF(joueurs,$B69),INDEX(fautes,SMALL(IF(joueurs=$B69,ROW(INDIRECT(\"1:\"&ROWS(fautes)))),ROWS($1:$22))),\"\")","v":""},{"$f":"IF(ROWS($1:$23)<=COUNTIF(joueurs,$B69),INDEX(fautes,SMALL(IF(joueurs=$B69,ROW(INDIRECT(\"1:\"&ROWS(fautes)))),ROWS($1:$23))),\"\")","v":""},{"$f":"IF(ROWS($1:$24)<=COUNTIF(joueurs,$B69),INDEX(fautes,SMALL(IF(joueurs=$B69,ROW(INDIRECT(\"1:\"&ROWS(fautes)))),ROWS($1:$24))),\"\")","v":""},{"$f":"IF(ROWS($1:$25)<=COUNTIF(joueurs,$B69),INDEX(fautes,SMALL(IF(joueurs=$B69,ROW(INDIRECT(\"1:\"&ROWS(fautes)))),ROWS($1:$25))),\"\")","v":""},{"$f":"IF(ROWS($1:$26)<=COUNTIF(joueurs,$B69),INDEX(fautes,SMALL(IF(joueurs=$B69,ROW(INDIRECT(\"1:\"&ROWS(fautes)))),ROWS($1:$26))),\"\")","v":""},{"$f":"IF(ROWS($1:$27)<=COUNTIF(joueurs,$B69),INDEX(fautes,SMALL(IF(joueurs=$B69,ROW(INDIRECT(\"1:\"&ROWS(fautes)))),ROWS($1:$27))),\"\")","v":""},{"$f":"IF(ROWS($1:$28)<=COUNTIF(joueurs,$B69),INDEX(fautes,SMALL(IF(joueurs=$B69,ROW(INDIRECT(\"1:\"&ROWS(fautes)))),ROWS($1:$28))),\"\")","v":""},{"$f":"IF(ROWS($1:$29)<=COUNTIF(joueurs,$B69),INDEX(fautes,SMALL(IF(joueurs=$B69,ROW(INDIRECT(\"1:\"&ROWS(fautes)))),ROWS($1:$29))),\"\")","v":""},{"$f":"IF(ROWS($1:$30)<=COUNTIF(joueurs,$B69),INDEX(fautes,SMALL(IF(joueurs=$B69,ROW(INDIRECT(\"1:\"&ROWS(fautes)))),ROWS($1:$30))),\"\")","v":""},{"$f":"IF(ROWS($1:$21)<=COUNTIF(joueurs,$B69),INDEX(ballonperdus,SMALL(IF(joueurs=$B69,ROW(INDIRECT(\"1:\"&ROWS(ballonperdus)))),ROWS($1:$21))),\"\")","v":""},{"$f":"IF(ROWS($1:$22)<=COUNTIF(joueurs,$B69),INDEX(ballonperdus,SMALL(IF(joueurs=$B69,ROW(INDIRECT(\"1:\"&ROWS(ballonperdus)))),ROWS($1:$22))),\"\")","v":""},{"$f":"IF(ROWS($1:$23)<=COUNTIF(joueurs,$B69),INDEX(ballonperdus,SMALL(IF(joueurs=$B69,ROW(INDIRECT(\"1:\"&ROWS(ballonperdus)))),ROWS($1:$23))),\"\")","v":""},{"$f":"IF(ROWS($1:$24)<=COUNTIF(joueurs,$B69),INDEX(ballonperdus,SMALL(IF(joueurs=$B69,ROW(INDIRECT(\"1:\"&ROWS(ballonperdus)))),ROWS($1:$24))),\"\")","v":""},{"$f":"IF(ROWS($1:$25)<=COUNTIF(joueurs,$B69),INDEX(ballonperdus,SMALL(IF(joueurs=$B69,ROW(INDIRECT(\"1:\"&ROWS(ballonperdus)))),ROWS($1:$25))),\"\")","v":""},{"$f":"IF(ROWS($1:$26)<=COUNTIF(joueurs,$B69),INDEX(ballonperdus,SMALL(IF(joueurs=$B69,ROW(INDIRECT(\"1:\"&ROWS(ballonperdus)))),ROWS($1:$26))),\"\")","v":""},{"$f":"IF(ROWS($1:$27)<=COUNTIF(joueurs,$B69),INDEX(ballonperdus,SMALL(IF(joueurs=$B69,ROW(INDIRECT(\"1:\"&ROWS(ballonperdus)))),ROWS($1:$27))),\"\")","v":""},{"$f":"IF(ROWS($1:$28)<=COUNTIF(joueurs,$B69),INDEX(ballonperdus,SMALL(IF(joueurs=$B69,ROW(INDIRECT(\"1:\"&ROWS(ballonperdus)))),ROWS($1:$28))),\"\")","v":""},{"$f":"IF(ROWS($1:$29)<=COUNTIF(joueurs,$B69),INDEX(ballonperdus,SMALL(IF(joueurs=$B69,ROW(INDIRECT(\"1:\"&ROWS(ballonperdus)))),ROWS($1:$29))),\"\")","v":""},{"$f":"IF(ROWS($1:$30)<=COUNTIF(joueurs,$B69),INDEX(ballonperdus,SMALL(IF(joueurs=$B69,ROW(INDIRECT(\"1:\"&ROWS(ballonperdus)))),ROWS($1:$30))),\"\")","v":""},{"$f":"IF(ROWS($1:$21)<=COUNTIF(joueurs,$B69),INDEX(interceptions,SMALL(IF(joueurs=$B69,ROW(INDIRECT(\"1:\"&ROWS(interceptions)))),ROWS($1:$21))),\"\")","v":""},{"$f":"IF(ROWS($1:$22)<=COUNTIF(joueurs,$B69),INDEX(interceptions,SMALL(IF(joueurs=$B69,ROW(INDIRECT(\"1:\"&ROWS(interceptions)))),ROWS($1:$22))),\"\")","v":""},{"$f":"IF(ROWS($1:$23)<=COUNTIF(joueurs,$B69),INDEX(interceptions,SMALL(IF(joueurs=$B69,ROW(INDIRECT(\"1:\"&ROWS(interceptions)))),ROWS($1:$23))),\"\")","v":""},{"$f":"IF(ROWS($1:$24)<=COUNTIF(joueurs,$B69),INDEX(interceptions,SMALL(IF(joueurs=$B69,ROW(INDIRECT(\"1:\"&ROWS(interceptions)))),ROWS($1:$24))),\"\")","v":""},{"$f":"IF(ROWS($1:$25)<=COUNTIF(joueurs,$B69),INDEX(interceptions,SMALL(IF(joueurs=$B69,ROW(INDIRECT(\"1:\"&ROWS(interceptions)))),ROWS($1:$25))),\"\")","v":""},{"$f":"IF(ROWS($1:$26)<=COUNTIF(joueurs,$B69),INDEX(interceptions,SMALL(IF(joueurs=$B69,ROW(INDIRECT(\"1:\"&ROWS(interceptions)))),ROWS($1:$26))),\"\")","v":""},{"$f":"IF(ROWS($1:$27)<=COUNTIF(joueurs,$B69),INDEX(interceptions,SMALL(IF(joueurs=$B69,ROW(INDIRECT(\"1:\"&ROWS(interceptions)))),ROWS($1:$27))),\"\")","v":""},{"$f":"IF(ROWS($1:$28)<=COUNTIF(joueurs,$B69),INDEX(interceptions,SMALL(IF(joueurs=$B69,ROW(INDIRECT(\"1:\"&ROWS(interceptions)))),ROWS($1:$28))),\"\")","v":""},{"$f":"IF(ROWS($1:$29)<=COUNTIF(joueurs,$B69),INDEX(interceptions,SMALL(IF(joueurs=$B69,ROW(INDIRECT(\"1:\"&ROWS(interceptions)))),ROWS($1:$29))),\"\")","v":""},{"$f":"IF(ROWS($1:$30)<=COUNTIF(joueurs,$B69),INDEX(interceptions,SMALL(IF(joueurs=$B69,ROW(INDIRECT(\"1:\"&ROWS(interceptions)))),ROWS($1:$30))),\"\")","v":""},{"$f":"IF(ROWS($1:$21)<=COUNTIF(joueurs,$B69),INDEX(ballonrecuperes,SMALL(IF(joueurs=$B69,ROW(INDIRECT(\"1:\"&ROWS(ballonrecuperes)))),ROWS($1:$21))),\"\")","v":""},{"$f":"IF(ROWS($1:$22)<=COUNTIF(joueurs,$B69),INDEX(ballonrecuperes,SMALL(IF(joueurs=$B69,ROW(INDIRECT(\"1:\"&ROWS(ballonrecuperes)))),ROWS($1:$22))),\"\")","v":""},{"$f":"IF(ROWS($1:$23)<=COUNTIF(joueurs,$B69),INDEX(ballonrecuperes,SMALL(IF(joueurs=$B69,ROW(INDIRECT(\"1:\"&ROWS(ballonrecuperes)))),ROWS($1:$23))),\"\")","v":""},{"$f":"IF(ROWS($1:$24)<=COUNTIF(joueurs,$B69),INDEX(ballonrecuperes,SMALL(IF(joueurs=$B69,ROW(INDIRECT(\"1:\"&ROWS(ballonrecuperes)))),ROWS($1:$24))),\"\")","v":""},{"$f":"IF(ROWS($1:$25)<=COUNTIF(joueurs,$B69),INDEX(ballonrecuperes,SMALL(IF(joueurs=$B69,ROW(INDIRECT(\"1:\"&ROWS(ballonrecuperes)))),ROWS($1:$25))),\"\")","v":""},{"$f":"IF(ROWS($1:$26)<=COUNTIF(joueurs,$B69),INDEX(ballonrecuperes,SMALL(IF(joueurs=$B69,ROW(INDIRECT(\"1:\"&ROWS(ballonrecuperes)))),ROWS($1:$26))),\"\")","v":""},{"$f":"IF(ROWS($1:$27)<=COUNTIF(joueurs,$B69),INDEX(ballonrecuperes,SMALL(IF(joueurs=$B69,ROW(INDIRECT(\"1:\"&ROWS(ballonrecuperes)))),ROWS($1:$27))),\"\")","v":""},{"$f":"IF(ROWS($1:$28)<=COUNTIF(joueurs,$B69),INDEX(ballonrecuperes,SMALL(IF(joueurs=$B69,ROW(INDIRECT(\"1:\"&ROWS(ballonrecuperes)))),ROWS($1:$28))),\"\")","v":""},{"$f":"IF(ROWS($1:$29)<=COUNTIF(joueurs,$B69),INDEX(ballonrecuperes,SMALL(IF(joueurs=$B69,ROW(INDIRECT(\"1:\"&ROWS(ballonrecuperes)))),ROWS($1:$29))),\"\")","v":""},{"$f":"IF(ROWS($1:$30)<=COUNTIF(joueurs,$B69),INDEX(ballonrecuperes,SMALL(IF(joueurs=$B69,ROW(INDIRECT(\"1:\"&ROWS(ballonrecuperes)))),ROWS($1:$30))),\"\")","v":""},{"$f":"IF(ROWS($1:$21)<=COUNTIF(joueurs,$B69),INDEX(tirs,SMALL(IF(joueurs=$B69,ROW(INDIRECT(\"1:\"&ROWS(tirs)))),ROWS($1:$21))),\"\")","v":""},{"$f":"IF(ROWS($1:$22)<=COUNTIF(joueurs,$B69),INDEX(tirs,SMALL(IF(joueurs=$B69,ROW(INDIRECT(\"1:\"&ROWS(tirs)))),ROWS($1:$22))),\"\")","v":""},{"$f":"IF(ROWS($1:$23)<=COUNTIF(joueurs,$B69),INDEX(tirs,SMALL(IF(joueurs=$B69,ROW(INDIRECT(\"1:\"&ROWS(tirs)))),ROWS($1:$23))),\"\")","v":""},{"$f":"IF(ROWS($1:$24)<=COUNTIF(joueurs,$B69),INDEX(tirs,SMALL(IF(joueurs=$B69,ROW(INDIRECT(\"1:\"&ROWS(tirs)))),ROWS($1:$24))),\"\")","v":""},{"$f":"IF(ROWS($1:$25)<=COUNTIF(joueurs,$B69),INDEX(tirs,SMALL(IF(joueurs=$B69,ROW(INDIRECT(\"1:\"&ROWS(tirs)))),ROWS($1:$25))),\"\")","v":""},{"$f":"IF(ROWS($1:$26)<=COUNTIF(joueurs,$B69),INDEX(tirs,SMALL(IF(joueurs=$B69,ROW(INDIRECT(\"1:\"&ROWS(tirs)))),ROWS($1:$26))),\"\")","v":""},{"$f":"IF(ROWS($1:$27)<=COUNTIF(joueurs,$B69),INDEX(tirs,SMALL(IF(joueurs=$B69,ROW(INDIRECT(\"1:\"&ROWS(tirs)))),ROWS($1:$27))),\"\")","v":""},{"$f":"IF(ROWS($1:$28)<=COUNTIF(joueurs,$B69),INDEX(tirs,SMALL(IF(joueurs=$B69,ROW(INDIRECT(\"1:\"&ROWS(tirs)))),ROWS($1:$28))),\"\")","v":""},{"$f":"IF(ROWS($1:$29)<=COUNTIF(joueurs,$B69),INDEX(tirs,SMALL(IF(joueurs=$B69,ROW(INDIRECT(\"1:\"&ROWS(tirs)))),ROWS($1:$29))),\"\")","v":""},{"$f":"IF(ROWS($1:$30)<=COUNTIF(joueurs,$B69),INDEX(tirs,SMALL(IF(joueurs=$B69,ROW(INDIRECT(\"1:\"&ROWS(tirs)))),ROWS($1:$30))),\"\")","v":""},{"$f":"IF(ROWS($1:$21)<=COUNTIF(joueurs,$B69),INDEX(bontirs,SMALL(IF(joueurs=$B69,ROW(INDIRECT(\"1:\"&ROWS(bontirs)))),ROWS($1:$21))),\"\")","v":""},{"$f":"IF(ROWS($1:$22)<=COUNTIF(joueurs,$B69),INDEX(bontirs,SMALL(IF(joueurs=$B69,ROW(INDIRECT(\"1:\"&ROWS(bontirs)))),ROWS($1:$22))),\"\")","v":""},{"$f":"IF(ROWS($1:$23)<=COUNTIF(joueurs,$B69),INDEX(bontirs,SMALL(IF(joueurs=$B69,ROW(INDIRECT(\"1:\"&ROWS(bontirs)))),ROWS($1:$23))),\"\")","v":""},{"$f":"IF(ROWS($1:$24)<=COUNTIF(joueurs,$B69),INDEX(bontirs,SMALL(IF(joueurs=$B69,ROW(INDIRECT(\"1:\"&ROWS(bontirs)))),ROWS($1:$24))),\"\")","v":""},{"$f":"IF(ROWS($1:$25)<=COUNTIF(joueurs,$B69),INDEX(bontirs,SMALL(IF(joueurs=$B69,ROW(INDIRECT(\"1:\"&ROWS(bontirs)))),ROWS($1:$25))),\"\")","v":""},{"$f":"IF(ROWS($1:$26)<=COUNTIF(joueurs,$B69),INDEX(bontirs,SMALL(IF(joueurs=$B69,ROW(INDIRECT(\"1:\"&ROWS(bontirs)))),ROWS($1:$26))),\"\")","v":""},{"$f":"IF(ROWS($1:$27)<=COUNTIF(joueurs,$B69),INDEX(bontirs,SMALL(IF(joueurs=$B69,ROW(INDIRECT(\"1:\"&ROWS(bontirs)))),ROWS($1:$27))),\"\")","v":""},{"$f":"IF(ROWS($1:$28)<=COUNTIF(joueurs,$B69),INDEX(bontirs,SMALL(IF(joueurs=$B69,ROW(INDIRECT(\"1:\"&ROWS(bontirs)))),ROWS($1:$28))),\"\")","v":""},{"$f":"IF(ROWS($1:$29)<=COUNTIF(joueurs,$B69),INDEX(bontirs,SMALL(IF(joueurs=$B69,ROW(INDIRECT(\"1:\"&ROWS(bontirs)))),ROWS($1:$29))),\"\")","v":""},{"$f":"IF(ROWS($1:$30)<=COUNTIF(joueurs,$B69),INDEX(bontirs,SMALL(IF(joueurs=$B69,ROW(INDIRECT(\"1:\"&ROWS(bontirs)))),ROWS($1:$30))),\"\")","v":""},{"$f":"IF(ROWS($1:$21)<=COUNTIF(joueurs,$B69),INDEX(points,SMALL(IF(joueurs=$B69,ROW(INDIRECT(\"1:\"&ROWS(points)))),ROWS($1:$21))),\"\")","v":""},{"$f":"IF(ROWS($1:$22)<=COUNTIF(joueurs,$B69),INDEX(points,SMALL(IF(joueurs=$B69,ROW(INDIRECT(\"1:\"&ROWS(points)))),ROWS($1:$22))),\"\")","v":""},{"$f":"IF(ROWS($1:$23)<=COUNTIF(joueurs,$B69),INDEX(points,SMALL(IF(joueurs=$B69,ROW(INDIRECT(\"1:\"&ROWS(points)))),ROWS($1:$23))),\"\")","v":""},{"$f":"IF(ROWS($1:$24)<=COUNTIF(joueurs,$B69),INDEX(points,SMALL(IF(joueurs=$B69,ROW(INDIRECT(\"1:\"&ROWS(points)))),ROWS($1:$24))),\"\")","v":""},{"$f":"IF(ROWS($1:$25)<=COUNTIF(joueurs,$B69),INDEX(points,SMALL(IF(joueurs=$B69,ROW(INDIRECT(\"1:\"&ROWS(points)))),ROWS($1:$25))),\"\")","v":""},{"$f":"IF(ROWS($1:$26)<=COUNTIF(joueurs,$B69),INDEX(points,SMALL(IF(joueurs=$B69,ROW(INDIRECT(\"1:\"&ROWS(points)))),ROWS($1:$26))),\"\")","v":""},{"$f":"IF(ROWS($1:$27)<=COUNTIF(joueurs,$B69),INDEX(points,SMALL(IF(joueurs=$B69,ROW(INDIRECT(\"1:\"&ROWS(points)))),ROWS($1:$27))),\"\")","v":""},{"$f":"IF(ROWS($1:$28)<=COUNTIF(joueurs,$B69),INDEX(points,SMALL(IF(joueurs=$B69,ROW(INDIRECT(\"1:\"&ROWS(points)))),ROWS($1:$28))),\"\")","v":""},{"$f":"IF(ROWS($1:$29)<=COUNTIF(joueurs,$B69),INDEX(points,SMALL(IF(joueurs=$B69,ROW(INDIRECT(\"1:\"&ROWS(points)))),ROWS($1:$29))),\"\")","v":""},{"$f":"IF(ROWS($1:$30)<=COUNTIF(joueurs,$B69),INDEX(points,SMALL(IF(joueurs=$B69,ROW(INDIRECT(\"1:\"&ROWS(points)))),ROWS($1:$30))),\"\")","v":""},{"$f":"IF(ROWS($1:$21)<=COUNTIF(joueurs,$B69),INDEX(victoires,SMALL(IF(joueurs=$B69,ROW(INDIRECT(\"1:\"&ROWS(victoires)))),ROWS($1:$21))),\"\")","v":""},{"$f":"IF(ROWS($1:$22)<=COUNTIF(joueurs,$B69),INDEX(victoires,SMALL(IF(joueurs=$B69,ROW(INDIRECT(\"1:\"&ROWS(victoires)))),ROWS($1:$22))),\"\")","v":""},{"$f":"IF(ROWS($1:$23)<=COUNTIF(joueurs,$B69),INDEX(victoires,SMALL(IF(joueurs=$B69,ROW(INDIRECT(\"1:\"&ROWS(victoires)))),ROWS($1:$23))),\"\")","v":""},{"$f":"IF(ROWS($1:$24)<=COUNTIF(joueurs,$B69),INDEX(victoires,SMALL(IF(joueurs=$B69,ROW(INDIRECT(\"1:\"&ROWS(victoires)))),ROWS($1:$24))),\"\")","v":""},{"$f":"IF(ROWS($1:$25)<=COUNTIF(joueurs,$B69),INDEX(victoires,SMALL(IF(joueurs=$B69,ROW(INDIRECT(\"1:\"&ROWS(victoires)))),ROWS($1:$25))),\"\")","v":""},{"$f":"IF(ROWS($1:$26)<=COUNTIF(joueurs,$B69),INDEX(victoires,SMALL(IF(joueurs=$B69,ROW(INDIRECT(\"1:\"&ROWS(victoires)))),ROWS($1:$26))),\"\")","v":""},{"$f":"IF(ROWS($1:$27)<=COUNTIF(joueurs,$B69),INDEX(victoires,SMALL(IF(joueurs=$B69,ROW(INDIRECT(\"1:\"&ROWS(victoires)))),ROWS($1:$27))),\"\")","v":""},{"$f":"IF(ROWS($1:$28)<=COUNTIF(joueurs,$B69),INDEX(victoires,SMALL(IF(joueurs=$B69,ROW(INDIRECT(\"1:\"&ROWS(victoires)))),ROWS($1:$28))),\"\")","v":""},{"$f":"IF(ROWS($1:$29)<=COUNTIF(joueurs,$B69),INDEX(victoires,SMALL(IF(joueurs=$B69,ROW(INDIRECT(\"1:\"&ROWS(victoires)))),ROWS($1:$29))),\"\")","v":""},{"$f":"IF(ROWS($1:$30)<=COUNTIF(joueurs,$B69),INDEX(victoires,SMALL(IF(joueurs=$B69,ROW(INDIRECT(\"1:\"&ROWS(victoires)))),ROWS($1:$30))),\"\")","v":""}]
[null,null,null,{"$f":"IF(ROWS($1:$31)<=COUNTIF(joueurs,$B69),INDEX(fautes,SMALL(IF(joueurs=$B69,ROW(INDIRECT(\"1:\"&ROWS(fautes)))),ROWS($1:$31))),\"\")","v":""},{"$f":"IF(ROWS($1:$32)<=COUNTIF(joueurs,$B69),INDEX(fautes,SMALL(IF(joueurs=$B69,ROW(INDIRECT(\"1:\"&ROWS(fautes)))),ROWS($1:$32))),\"\")","v":""},{"$f":"IF(ROWS($1:$33)<=COUNTIF(joueurs,$B69),INDEX(fautes,SMALL(IF(joueurs=$B69,ROW(INDIRECT(\"1:\"&ROWS(fautes)))),ROWS($1:$33))),\"\")","v":""},{"$f":"IF(ROWS($1:$34)<=COUNTIF(joueurs,$B69),INDEX(fautes,SMALL(IF(joueurs=$B69,ROW(INDIRECT(\"1:\"&ROWS(fautes)))),ROWS($1:$34))),\"\")","v":""},{"$f":"IF(ROWS($1:$35)<=COUNTIF(joueurs,$B69),INDEX(fautes,SMALL(IF(joueurs=$B69,ROW(INDIRECT(\"1:\"&ROWS(fautes)))),ROWS($1:$35))),\"\")","v":""},{"$f":"IF(ROWS($1:$36)<=COUNTIF(joueurs,$B69),INDEX(fautes,SMALL(IF(joueurs=$B69,ROW(INDIRECT(\"1:\"&ROWS(fautes)))),ROWS($1:$36))),\"\")","v":""},{"$f":"IF(ROWS($1:$37)<=COUNTIF(joueurs,$B69),INDEX(fautes,SMALL(IF(joueurs=$B69,ROW(INDIRECT(\"1:\"&ROWS(fautes)))),ROWS($1:$37))),\"\")","v":""},{"$f":"IF(ROWS($1:$38)<=COUNTIF(joueurs,$B69),INDEX(fautes,SMALL(IF(joueurs=$B69,ROW(INDIRECT(\"1:\"&ROWS(fautes)))),ROWS($1:$38))),\"\")","v":""},{"$f":"IF(ROWS($1:$39)<=COUNTIF(joueurs,$B69),INDEX(fautes,SMALL(IF(joueurs=$B69,ROW(INDIRECT(\"1:\"&ROWS(fautes)))),ROWS($1:$39))),\"\")","v":""},{"$f":"IF(ROWS($1:$40)<=COUNTIF(joueurs,$B69),INDEX(fautes,SMALL(IF(joueurs=$B69,ROW(INDIRECT(\"1:\"&ROWS(fautes)))),ROWS($1:$40))),\"\")","v":""},{"$f":"IF(ROWS($1:$31)<=COUNTIF(joueurs,$B69),INDEX(ballonperdus,SMALL(IF(joueurs=$B69,ROW(INDIRECT(\"1:\"&ROWS(ballonperdus)))),ROWS($1:$31))),\"\")","v":""},{"$f":"IF(ROWS($1:$32)<=COUNTIF(joueurs,$B69),INDEX(ballonperdus,SMALL(IF(joueurs=$B69,ROW(INDIRECT(\"1:\"&ROWS(ballonperdus)))),ROWS($1:$32))),\"\")","v":""},{"$f":"IF(ROWS($1:$33)<=COUNTIF(joueurs,$B69),INDEX(ballonperdus,SMALL(IF(joueurs=$B69,ROW(INDIRECT(\"1:\"&ROWS(ballonperdus)))),ROWS($1:$33))),\"\")","v":""},{"$f":"IF(ROWS($1:$34)<=COUNTIF(joueurs,$B69),INDEX(ballonperdus,SMALL(IF(joueurs=$B69,ROW(INDIRECT(\"1:\"&ROWS(ballonperdus)))),ROWS($1:$34))),\"\")","v":""},{"$f":"IF(ROWS($1:$35)<=COUNTIF(joueurs,$B69),INDEX(ballonperdus,SMALL(IF(joueurs=$B69,ROW(INDIRECT(\"1:\"&ROWS(ballonperdus)))),ROWS($1:$35))),\"\")","v":""},{"$f":"IF(ROWS($1:$36)<=COUNTIF(joueurs,$B69),INDEX(ballonperdus,SMALL(IF(joueurs=$B69,ROW(INDIRECT(\"1:\"&ROWS(ballonperdus)))),ROWS($1:$36))),\"\")","v":""},{"$f":"IF(ROWS($1:$37)<=COUNTIF(joueurs,$B69),INDEX(ballonperdus,SMALL(IF(joueurs=$B69,ROW(INDIRECT(\"1:\"&ROWS(ballonperdus)))),ROWS($1:$37))),\"\")","v":""},{"$f":"IF(ROWS($1:$38)<=COUNTIF(joueurs,$B69),INDEX(ballonperdus,SMALL(IF(joueurs=$B69,ROW(INDIRECT(\"1:\"&ROWS(ballonperdus)))),ROWS($1:$38))),\"\")","v":""},{"$f":"IF(ROWS($1:$39)<=COUNTIF(joueurs,$B69),INDEX(ballonperdus,SMALL(IF(joueurs=$B69,ROW(INDIRECT(\"1:\"&ROWS(ballonperdus)))),ROWS($1:$39))),\"\")","v":""},{"$f":"IF(ROWS($1:$40)<=COUNTIF(joueurs,$B69),INDEX(ballonperdus,SMALL(IF(joueurs=$B69,ROW(INDIRECT(\"1:\"&ROWS(ballonperdus)))),ROWS($1:$40))),\"\")","v":""},{"$f":"IF(ROWS($1:$31)<=COUNTIF(joueurs,$B69),INDEX(interceptions,SMALL(IF(joueurs=$B69,ROW(INDIRECT(\"1:\"&ROWS(interceptions)))),ROWS($1:$31))),\"\")","v":""},{"$f":"IF(ROWS($1:$32)<=COUNTIF(joueurs,$B69),INDEX(interceptions,SMALL(IF(joueurs=$B69,ROW(INDIRECT(\"1:\"&ROWS(interceptions)))),ROWS($1:$32))),\"\")","v":""},{"$f":"IF(ROWS($1:$33)<=COUNTIF(joueurs,$B69),INDEX(interceptions,SMALL(IF(joueurs=$B69,ROW(INDIRECT(\"1:\"&ROWS(interceptions)))),ROWS($1:$33))),\"\")","v":""},{"$f":"IF(ROWS($1:$34)<=COUNTIF(joueurs,$B69),INDEX(interceptions,SMALL(IF(joueurs=$B69,ROW(INDIRECT(\"1:\"&ROWS(interceptions)))),ROWS($1:$34))),\"\")","v":""},{"$f":"IF(ROWS($1:$35)<=COUNTIF(joueurs,$B69),INDEX(interceptions,SMALL(IF(joueurs=$B69,ROW(INDIRECT(\"1:\"&ROWS(interceptions)))),ROWS($1:$35))),\"\")","v":""},{"$f":"IF(ROWS($1:$36)<=COUNTIF(joueurs,$B69),INDEX(interceptions,SMALL(IF(joueurs=$B69,ROW(INDIRECT(\"1:\"&ROWS(interceptions)))),ROWS($1:$36))),\"\")","v":""},{"$f":"IF(ROWS($1:$37)<=COUNTIF(joueurs,$B69),INDEX(interceptions,SMALL(IF(joueurs=$B69,ROW(INDIRECT(\"1:\"&ROWS(interceptions)))),ROWS($1:$37))),\"\")","v":""},{"$f":"IF(ROWS($1:$38)<=COUNTIF(joueurs,$B69),INDEX(interceptions,SMALL(IF(joueurs=$B69,ROW(INDIRECT(\"1:\"&ROWS(interceptions)))),ROWS($1:$38))),\"\")","v":""},{"$f":"IF(ROWS($1:$39)<=COUNTIF(joueurs,$B69),INDEX(interceptions,SMALL(IF(joueurs=$B69,ROW(INDIRECT(\"1:\"&ROWS(interceptions)))),ROWS($1:$39))),\"\")","v":""},{"$f":"IF(ROWS($1:$40)<=COUNTIF(joueurs,$B69),INDEX(interceptions,SMALL(IF(joueurs=$B69,ROW(INDIRECT(\"1:\"&ROWS(interceptions)))),ROWS($1:$40))),\"\")","v":""},{"$f":"IF(ROWS($1:$31)<=COUNTIF(joueurs,$B69),INDEX(ballonrecuperes,SMALL(IF(joueurs=$B69,ROW(INDIRECT(\"1:\"&ROWS(ballonrecuperes)))),ROWS($1:$31))),\"\")","v":""},{"$f":"IF(ROWS($1:$32)<=COUNTIF(joueurs,$B69),INDEX(ballonrecuperes,SMALL(IF(joueurs=$B69,ROW(INDIRECT(\"1:\"&ROWS(ballonrecuperes)))),ROWS($1:$32))),\"\")","v":""},{"$f":"IF(ROWS($1:$33)<=COUNTIF(joueurs,$B69),INDEX(ballonrecuperes,SMALL(IF(joueurs=$B69,ROW(INDIRECT(\"1:\"&ROWS(ballonrecuperes)))),ROWS($1:$33))),\"\")","v":""},{"$f":"IF(ROWS($1:$34)<=COUNTIF(joueurs,$B69),INDEX(ballonrecuperes,SMALL(IF(joueurs=$B69,ROW(INDIRECT(\"1:\"&ROWS(ballonrecuperes)))),ROWS($1:$34))),\"\")","v":""},{"$f":"IF(ROWS($1:$35)<=COUNTIF(joueurs,$B69),INDEX(ballonrecuperes,SMALL(IF(joueurs=$B69,ROW(INDIRECT(\"1:\"&ROWS(ballonrecuperes)))),ROWS($1:$35))),\"\")","v":""},{"$f":"IF(ROWS($1:$36)<=COUNTIF(joueurs,$B69),INDEX(ballonrecuperes,SMALL(IF(joueurs=$B69,ROW(INDIRECT(\"1:\"&ROWS(ballonrecuperes)))),ROWS($1:$36))),\"\")","v":""},{"$f":"IF(ROWS($1:$37)<=COUNTIF(joueurs,$B69),INDEX(ballonrecuperes,SMALL(IF(joueurs=$B69,ROW(INDIRECT(\"1:\"&ROWS(ballonrecuperes)))),ROWS($1:$37))),\"\")","v":""},{"$f":"IF(ROWS($1:$38)<=COUNTIF(joueurs,$B69),INDEX(ballonrecuperes,SMALL(IF(joueurs=$B69,ROW(INDIRECT(\"1:\"&ROWS(ballonrecuperes)))),ROWS($1:$38))),\"\")","v":""},{"$f":"IF(ROWS($1:$39)<=COUNTIF(joueurs,$B69),INDEX(ballonrecuperes,SMALL(IF(joueurs=$B69,ROW(INDIRECT(\"1:\"&ROWS(ballonrecuperes)))),ROWS($1:$39))),\"\")","v":""},{"$f":"IF(ROWS($1:$40)<=COUNTIF(joueurs,$B69),INDEX(ballonrecuperes,SMALL(IF(joueurs=$B69,ROW(INDIRECT(\"1:\"&ROWS(ballonrecuperes)))),ROWS($1:$40))),\"\")","v":""},{"$f":"IF(ROWS($1:$31)<=COUNTIF(joueurs,$B69),INDEX(tirs,SMALL(IF(joueurs=$B69,ROW(INDIRECT(\"1:\"&ROWS(tirs)))),ROWS($1:$31))),\"\")","v":""},{"$f":"IF(ROWS($1:$32)<=COUNTIF(joueurs,$B69),INDEX(tirs,SMALL(IF(joueurs=$B69,ROW(INDIRECT(\"1:\"&ROWS(tirs)))),ROWS($1:$32))),\"\")","v":""},{"$f":"IF(ROWS($1:$33)<=COUNTIF(joueurs,$B69),INDEX(tirs,SMALL(IF(joueurs=$B69,ROW(INDIRECT(\"1:\"&ROWS(tirs)))),ROWS($1:$33))),\"\")","v":""},{"$f":"IF(ROWS($1:$34)<=COUNTIF(joueurs,$B69),INDEX(tirs,SMALL(IF(joueurs=$B69,ROW(INDIRECT(\"1:\"&ROWS(tirs)))),ROWS($1:$34))),\"\")","v":""},{"$f":"IF(ROWS($1:$35)<=COUNTIF(joueurs,$B69),INDEX(tirs,SMALL(IF(joueurs=$B69,ROW(INDIRECT(\"1:\"&ROWS(tirs)))),ROWS($1:$35))),\"\")","v":""},{"$f":"IF(ROWS($1:$36)<=COUNTIF(joueurs,$B69),INDEX(tirs,SMALL(IF(joueurs=$B69,ROW(INDIRECT(\"1:\"&ROWS(tirs)))),ROWS($1:$36))),\"\")","v":""},{"$f":"IF(ROWS($1:$37)<=COUNTIF(joueurs,$B69),INDEX(tirs,SMALL(IF(joueurs=$B69,ROW(INDIRECT(\"1:\"&ROWS(tirs)))),ROWS($1:$37))),\"\")","v":""},{"$f":"IF(ROWS($1:$38)<=COUNTIF(joueurs,$B69),INDEX(tirs,SMALL(IF(joueurs=$B69,ROW(INDIRECT(\"1:\"&ROWS(tirs)))),ROWS($1:$38))),\"\")","v":""},{"$f":"IF(ROWS($1:$39)<=COUNTIF(joueurs,$B69),INDEX(tirs,SMALL(IF(joueurs=$B69,ROW(INDIRECT(\"1:\"&ROWS(tirs)))),ROWS($1:$39))),\"\")","v":""},{"$f":"IF(ROWS($1:$40)<=COUNTIF(joueurs,$B69),INDEX(tirs,SMALL(IF(joueurs=$B69,ROW(INDIRECT(\"1:\"&ROWS(tirs)))),ROWS($1:$40))),\"\")","v":""},{"$f":"IF(ROWS($1:$31)<=COUNTIF(joueurs,$B69),INDEX(bontirs,SMALL(IF(joueurs=$B69,ROW(INDIRECT(\"1:\"&ROWS(bontirs)))),ROWS($1:$31))),\"\")","v":""},{"$f":"IF(ROWS($1:$32)<=COUNTIF(joueurs,$B69),INDEX(bontirs,SMALL(IF(joueurs=$B69,ROW(INDIRECT(\"1:\"&ROWS(bontirs)))),ROWS($1:$32))),\"\")","v":""},{"$f":"IF(ROWS($1:$33)<=COUNTIF(joueurs,$B69),INDEX(bontirs,SMALL(IF(joueurs=$B69,ROW(INDIRECT(\"1:\"&ROWS(bontirs)))),ROWS($1:$33))),\"\")","v":""},{"$f":"IF(ROWS($1:$34)<=COUNTIF(joueurs,$B69),INDEX(bontirs,SMALL(IF(joueurs=$B69,ROW(INDIRECT(\"1:\"&ROWS(bontirs)))),ROWS($1:$34))),\"\")","v":""},{"$f":"IF(ROWS($1:$35)<=COUNTIF(joueurs,$B69),INDEX(bontirs,SMALL(IF(joueurs=$B69,ROW(INDIRECT(\"1:\"&ROWS(bontirs)))),ROWS($1:$35))),\"\")","v":""},{"$f":"IF(ROWS($1:$36)<=COUNTIF(joueurs,$B69),INDEX(bontirs,SMALL(IF(joueurs=$B69,ROW(INDIRECT(\"1:\"&ROWS(bontirs)))),ROWS($1:$36))),\"\")","v":""},{"$f":"IF(ROWS($1:$37)<=COUNTIF(joueurs,$B69),INDEX(bontirs,SMALL(IF(joueurs=$B69,ROW(INDIRECT(\"1:\"&ROWS(bontirs)))),ROWS($1:$37))),\"\")","v":""},{"$f":"IF(ROWS($1:$38)<=COUNTIF(joueurs,$B69),INDEX(bontirs,SMALL(IF(joueurs=$B69,ROW(INDIRECT(\"1:\"&ROWS(bontirs)))),ROWS($1:$38))),\"\")","v":""},{"$f":"IF(ROWS($1:$39)<=COUNTIF(joueurs,$B69),INDEX(bontirs,SMALL(IF(joueurs=$B69,ROW(INDIRECT(\"1:\"&ROWS(bontirs)))),ROWS($1:$39))),\"\")","v":""},{"$f":"IF(ROWS($1:$40)<=COUNTIF(joueurs,$B69),INDEX(bontirs,SMALL(IF(joueurs=$B69,ROW(INDIRECT(\"1:\"&ROWS(bontirs)))),ROWS($1:$40))),\"\")","v":""},{"$f":"IF(ROWS($1:$31)<=COUNTIF(joueurs,$B69),INDEX(points,SMALL(IF(joueurs=$B69,ROW(INDIRECT(\"1:\"&ROWS(points)))),ROWS($1:$31))),\"\")","v":""},{"$f":"IF(ROWS($1:$32)<=COUNTIF(joueurs,$B69),INDEX(points,SMALL(IF(joueurs=$B69,ROW(INDIRECT(\"1:\"&ROWS(points)))),ROWS($1:$32))),\"\")","v":""},{"$f":"IF(ROWS($1:$33)<=COUNTIF(joueurs,$B69),INDEX(points,SMALL(IF(joueurs=$B69,ROW(INDIRECT(\"1:\"&ROWS(points)))),ROWS($1:$33))),\"\")","v":""},{"$f":"IF(ROWS($1:$34)<=COUNTIF(joueurs,$B69),INDEX(points,SMALL(IF(joueurs=$B69,ROW(INDIRECT(\"1:\"&ROWS(points)))),ROWS($1:$34))),\"\")","v":""},{"$f":"IF(ROWS($1:$35)<=COUNTIF(joueurs,$B69),INDEX(points,SMALL(IF(joueurs=$B69,ROW(INDIRECT(\"1:\"&ROWS(points)))),ROWS($1:$35))),\"\")","v":""},{"$f":"IF(ROWS($1:$36)<=COUNTIF(joueurs,$B69),INDEX(points,SMALL(IF(joueurs=$B69,ROW(INDIRECT(\"1:\"&ROWS(points)))),ROWS($1:$36))),\"\")","v":""},{"$f":"IF(ROWS($1:$37)<=COUNTIF(joueurs,$B69),INDEX(points,SMALL(IF(joueurs=$B69,ROW(INDIRECT(\"1:\"&ROWS(points)))),ROWS($1:$37))),\"\")","v":""},{"$f":"IF(ROWS($1:$38)<=COUNTIF(joueurs,$B69),INDEX(points,SMALL(IF(joueurs=$B69,ROW(INDIRECT(\"1:\"&ROWS(points)))),ROWS($1:$38))),\"\")","v":""},{"$f":"IF(ROWS($1:$39)<=COUNTIF(joueurs,$B69),INDEX(points,SMALL(IF(joueurs=$B69,ROW(INDIRECT(\"1:\"&ROWS(points)))),ROWS($1:$39))),\"\")","v":""},{"$f":"IF(ROWS($1:$40)<=COUNTIF(joueurs,$B69),INDEX(points,SMALL(IF(joueurs=$B69,ROW(INDIRECT(\"1:\"&ROWS(points)))),ROWS($1:$40))),\"\")","v":""},{"$f":"IF(ROWS($1:$31)<=COUNTIF(joueurs,$B69),INDEX(victoires,SMALL(IF(joueurs=$B69,ROW(INDIRECT(\"1:\"&ROWS(victoires)))),ROWS($1:$31))),\"\")","v":""},{"$f":"IF(ROWS($1:$32)<=COUNTIF(joueurs,$B69),INDEX(victoires,SMALL(IF(joueurs=$B69,ROW(INDIRECT(\"1:\"&ROWS(victoires)))),ROWS($1:$32))),\"\")","v":""},{"$f":"IF(ROWS($1:$33)<=COUNTIF(joueurs,$B69),INDEX(victoires,SMALL(IF(joueurs=$B69,ROW(INDIRECT(\"1:\"&ROWS(victoires)))),ROWS($1:$33))),\"\")","v":""},{"$f":"IF(ROWS($1:$34)<=COUNTIF(joueurs,$B69),INDEX(victoires,SMALL(IF(joueurs=$B69,ROW(INDIRECT(\"1:\"&ROWS(victoires)))),ROWS($1:$34))),\"\")","v":""},{"$f":"IF(ROWS($1:$35)<=COUNTIF(joueurs,$B69),INDEX(victoires,SMALL(IF(joueurs=$B69,ROW(INDIRECT(\"1:\"&ROWS(victoires)))),ROWS($1:$35))),\"\")","v":""},{"$f":"IF(ROWS($1:$36)<=COUNTIF(joueurs,$B69),INDEX(victoires,SMALL(IF(joueurs=$B69,ROW(INDIRECT(\"1:\"&ROWS(victoires)))),ROWS($1:$36))),\"\")","v":""},{"$f":"IF(ROWS($1:$37)<=COUNTIF(joueurs,$B69),INDEX(victoires,SMALL(IF(joueurs=$B69,ROW(INDIRECT(\"1:\"&ROWS(victoires)))),ROWS($1:$37))),\"\")","v":""},{"$f":"IF(ROWS($1:$38)<=COUNTIF(joueurs,$B69),INDEX(victoires,SMALL(IF(joueurs=$B69,ROW(INDIRECT(\"1:\"&ROWS(victoires)))),ROWS($1:$38))),\"\")","v":""},{"$f":"IF(ROWS($1:$39)<=COUNTIF(joueurs,$B69),INDEX(victoires,SMALL(IF(joueurs=$B69,ROW(INDIRECT(\"1:\"&ROWS(victoires)))),ROWS($1:$39))),\"\")","v":""},{"$f":"IF(ROWS($1:$40)<=COUNTIF(joueurs,$B69),INDEX(victoires,SMALL(IF(joueurs=$B69,ROW(INDIRECT(\"1:\"&ROWS(victoires)))),ROWS($1:$40))),\"\")","v":""}]
[18,{"$f":"INDEX(eleves,MATCH(A73,numero,0),MATCH($B$2,classes,0))","v":"mickael"},null,{"$f":"IF(ROWS($1:$1)<=COUNTIF(joueurs,$B73),INDEX(fautes,SMALL(IF(joueurs=$B73,ROW(INDIRECT(\"1:\"&ROWS(fautes)))),ROWS($1:$1))),\"\")","v":""},{"$f":"IF(ROWS($1:$2)<=COUNTIF(joueurs,$B73),INDEX(fautes,SMALL(IF(joueurs=$B73,ROW(INDIRECT(\"1:\"&ROWS(fautes)))),ROWS($1:$2))),\"\")","v":""},{"$f":"IF(ROWS($1:$3)<=COUNTIF(joueurs,$B73),INDEX(fautes,SMALL(IF(joueurs=$B73,ROW(INDIRECT(\"1:\"&ROWS(fautes)))),ROWS($1:$3))),\"\")","v":""},{"$f":"IF(ROWS($1:$4)<=COUNTIF(joueurs,$B73),INDEX(fautes,SMALL(IF(joueurs=$B73,ROW(INDIRECT(\"1:\"&ROWS(fautes)))),ROWS($1:$4))),\"\")","v":""},{"$f":"IF(ROWS($1:$5)<=COUNTIF(joueurs,$B73),INDEX(fautes,SMALL(IF(joueurs=$B73,ROW(INDIRECT(\"1:\"&ROWS(fautes)))),ROWS($1:$5))),\"\")","v":""},{"$f":"IF(ROWS($1:$6)<=COUNTIF(joueurs,$B73),INDEX(fautes,SMALL(IF(joueurs=$B73,ROW(INDIRECT(\"1:\"&ROWS(fautes)))),ROWS($1:$6))),\"\")","v":""},{"$f":"IF(ROWS($1:$7)<=COUNTIF(joueurs,$B73),INDEX(fautes,SMALL(IF(joueurs=$B73,ROW(INDIRECT(\"1:\"&ROWS(fautes)))),ROWS($1:$7))),\"\")","v":""},{"$f":"IF(ROWS($1:$8)<=COUNTIF(joueurs,$B73),INDEX(fautes,SMALL(IF(joueurs=$B73,ROW(INDIRECT(\"1:\"&ROWS(fautes)))),ROWS($1:$8))),\"\")","v":""},{"$f":"IF(ROWS($1:$9)<=COUNTIF(joueurs,$B73),INDEX(fautes,SMALL(IF(joueurs=$B73,ROW(INDIRECT(\"1:\"&ROWS(fautes)))),ROWS($1:$9))),\"\")","v":""},{"$f":"IF(ROWS($1:$10)<=COUNTIF(joueurs,$B73),INDEX(fautes,SMALL(IF(joueurs=$B73,ROW(INDIRECT(\"1:\"&ROWS(fautes)))),ROWS($1:$10))),\"\")","v":""},{"$f":"IF(ROWS($1:$1)<=COUNTIF(joueurs,$B73),INDEX(ballonperdus,SMALL(IF(joueurs=$B73,ROW(INDIRECT(\"1:\"&ROWS(ballonperdus)))),ROWS($1:$1))),\"\")","v":""},{"$f":"IF(ROWS($1:$2)<=COUNTIF(joueurs,$B73),INDEX(ballonperdus,SMALL(IF(joueurs=$B73,ROW(INDIRECT(\"1:\"&ROWS(ballonperdus)))),ROWS($1:$2))),\"\")","v":""},{"$f":"IF(ROWS($1:$3)<=COUNTIF(joueurs,$B73),INDEX(ballonperdus,SMALL(IF(joueurs=$B73,ROW(INDIRECT(\"1:\"&ROWS(ballonperdus)))),ROWS($1:$3))),\"\")","v":""},{"$f":"IF(ROWS($1:$4)<=COUNTIF(joueurs,$B73),INDEX(ballonperdus,SMALL(IF(joueurs=$B73,ROW(INDIRECT(\"1:\"&ROWS(ballonperdus)))),ROWS($1:$4))),\"\")","v":""},{"$f":"IF(ROWS($1:$5)<=COUNTIF(joueurs,$B73),INDEX(ballonperdus,SMALL(IF(joueurs=$B73,ROW(INDIRECT(\"1:\"&ROWS(ballonperdus)))),ROWS($1:$5))),\"\")","v":""},{"$f":"IF(ROWS($1:$6)<=COUNTIF(joueurs,$B73),INDEX(ballonperdus,SMALL(IF(joueurs=$B73,ROW(INDIRECT(\"1:\"&ROWS(ballonperdus)))),ROWS($1:$6))),\"\")","v":""},{"$f":"IF(ROWS($1:$7)<=COUNTIF(joueurs,$B73),INDEX(ballonperdus,SMALL(IF(joueurs=$B73,ROW(INDIRECT(\"1:\"&ROWS(ballonperdus)))),ROWS($1:$7))),\"\")","v":""},{"$f":"IF(ROWS($1:$8)<=COUNTIF(joueurs,$B73),INDEX(ballonperdus,SMALL(IF(joueurs=$B73,ROW(INDIRECT(\"1:\"&ROWS(ballonperdus)))),ROWS($1:$8))),\"\")","v":""},{"$f":"IF(ROWS($1:$9)<=COUNTIF(joueurs,$B73),INDEX(ballonperdus,SMALL(IF(joueurs=$B73,ROW(INDIRECT(\"1:\"&ROWS(ballonperdus)))),ROWS($1:$9))),\"\")","v":""},{"$f":"IF(ROWS($1:$10)<=COUNTIF(joueurs,$B73),INDEX(ballonperdus,SMALL(IF(joueurs=$B73,ROW(INDIRECT(\"1:\"&ROWS(ballonperdus)))),ROWS($1:$10))),\"\")","v":""},{"$f":"IF(ROWS($1:$1)<=COUNTIF(joueurs,$B73),INDEX(interceptions,SMALL(IF(joueurs=$B73,ROW(INDIRECT(\"1:\"&ROWS(interceptions)))),ROWS($1:$1))),\"\")","v":""},{"$f":"IF(ROWS($1:$2)<=COUNTIF(joueurs,$B73),INDEX(interceptions,SMALL(IF(joueurs=$B73,ROW(INDIRECT(\"1:\"&ROWS(interceptions)))),ROWS($1:$2))),\"\")","v":""},{"$f":"IF(ROWS($1:$3)<=COUNTIF(joueurs,$B73),INDEX(interceptions,SMALL(IF(joueurs=$B73,ROW(INDIRECT(\"1:\"&ROWS(interceptions)))),ROWS($1:$3))),\"\")","v":""},{"$f":"IF(ROWS($1:$4)<=COUNTIF(joueurs,$B73),INDEX(interceptions,SMALL(IF(joueurs=$B73,ROW(INDIRECT(\"1:\"&ROWS(interceptions)))),ROWS($1:$4))),\"\")","v":""},{"$f":"IF(ROWS($1:$5)<=COUNTIF(joueurs,$B73),INDEX(interceptions,SMALL(IF(joueurs=$B73,ROW(INDIRECT(\"1:\"&ROWS(interceptions)))),ROWS($1:$5))),\"\")","v":""},{"$f":"IF(ROWS($1:$6)<=COUNTIF(joueurs,$B73),INDEX(interceptions,SMALL(IF(joueurs=$B73,ROW(INDIRECT(\"1:\"&ROWS(interceptions)))),ROWS($1:$6))),\"\")","v":""},{"$f":"IF(ROWS($1:$7)<=COUNTIF(joueurs,$B73),INDEX(interceptions,SMALL(IF(joueurs=$B73,ROW(INDIRECT(\"1:\"&ROWS(interceptions)))),ROWS($1:$7))),\"\")","v":""},{"$f":"IF(ROWS($1:$8)<=COUNTIF(joueurs,$B73),INDEX(interceptions,SMALL(IF(joueurs=$B73,ROW(INDIRECT(\"1:\"&ROWS(interceptions)))),ROWS($1:$8))),\"\")","v":""},{"$f":"IF(ROWS($1:$9)<=COUNTIF(joueurs,$B73),INDEX(interceptions,SMALL(IF(joueurs=$B73,ROW(INDIRECT(\"1:\"&ROWS(interceptions)))),ROWS($1:$9))),\"\")","v":""},{"$f":"IF(ROWS($1:$10)<=COUNTIF(joueurs,$B73),INDEX(interceptions,SMALL(IF(joueurs=$B73,ROW(INDIRECT(\"1:\"&ROWS(interceptions)))),ROWS($1:$10))),\"\")","v":""},{"$f":"IF(ROWS($1:$1)<=COUNTIF(joueurs,$B73),INDEX(ballonrecuperes,SMALL(IF(joueurs=$B73,ROW(INDIRECT(\"1:\"&ROWS(ballonrecuperes)))),ROWS($1:$1))),\"\")","v":""},{"$f":"IF(ROWS($1:$2)<=COUNTIF(joueurs,$B73),INDEX(ballonrecuperes,SMALL(IF(joueurs=$B73,ROW(INDIRECT(\"1:\"&ROWS(ballonrecuperes)))),ROWS($1:$2))),\"\")","v":""},{"$f":"IF(ROWS($1:$3)<=COUNTIF(joueurs,$B73),INDEX(ballonrecuperes,SMALL(IF(joueurs=$B73,ROW(INDIRECT(\"1:\"&ROWS(ballonrecuperes)))),ROWS($1:$3))),\"\")","v":""},{"$f":"IF(ROWS($1:$4)<=COUNTIF(joueurs,$B73),INDEX(ballonrecuperes,SMALL(IF(joueurs=$B73,ROW(INDIRECT(\"1:\"&ROWS(ballonrecuperes)))),ROWS($1:$4))),\"\")","v":""},{"$f":"IF(ROWS($1:$5)<=COUNTIF(joueurs,$B73),INDEX(ballonrecuperes,SMALL(IF(joueurs=$B73,ROW(INDIRECT(\"1:\"&ROWS(ballonrecuperes)))),ROWS($1:$5))),\"\")","v":""},{"$f":"IF(ROWS($1:$6)<=COUNTIF(joueurs,$B73),INDEX(ballonrecuperes,SMALL(IF(joueurs=$B73,ROW(INDIRECT(\"1:\"&ROWS(ballonrecuperes)))),ROWS($1:$6))),\"\")","v":""},{"$f":"IF(ROWS($1:$7)<=COUNTIF(joueurs,$B73),INDEX(ballonrecuperes,SMALL(IF(joueurs=$B73,ROW(INDIRECT(\"1:\"&ROWS(ballonrecuperes)))),ROWS($1:$7))),\"\")","v":""},{"$f":"IF(ROWS($1:$8)<=COUNTIF(joueurs,$B73),INDEX(ballonrecuperes,SMALL(IF(joueurs=$B73,ROW(INDIRECT(\"1:\"&ROWS(ballonrecuperes)))),ROWS($1:$8))),\"\")","v":""},{"$f":"IF(ROWS($1:$9)<=COUNTIF(joueurs,$B73),INDEX(ballonrecuperes,SMALL(IF(joueurs=$B73,ROW(INDIRECT(\"1:\"&ROWS(ballonrecuperes)))),ROWS($1:$9))),\"\")","v":""},{"$f":"IF(ROWS($1:$10)<=COUNTIF(joueurs,$B73),INDEX(ballonrecuperes,SMALL(IF(joueurs=$B73,ROW(INDIRECT(\"1:\"&ROWS(ballonrecuperes)))),ROWS($1:$10))),\"\")","v":""},{"$f":"IF(ROWS($1:$1)<=COUNTIF(joueurs,$B73),INDEX(tirs,SMALL(IF(joueurs=$B73,ROW(INDIRECT(\"1:\"&ROWS(tirs)))),ROWS($1:$1))),\"\")","v":""},{"$f":"IF(ROWS($1:$2)<=COUNTIF(joueurs,$B73),INDEX(tirs,SMALL(IF(joueurs=$B73,ROW(INDIRECT(\"1:\"&ROWS(tirs)))),ROWS($1:$2))),\"\")","v":""},{"$f":"IF(ROWS($1:$3)<=COUNTIF(joueurs,$B73),INDEX(tirs,SMALL(IF(joueurs=$B73,ROW(INDIRECT(\"1:\"&ROWS(tirs)))),ROWS($1:$3))),\"\")","v":""},{"$f":"IF(ROWS($1:$4)<=COUNTIF(joueurs,$B73),INDEX(tirs,SMALL(IF(joueurs=$B73,ROW(INDIRECT(\"1:\"&ROWS(tirs)))),ROWS($1:$4))),\"\")","v":""},{"$f":"IF(ROWS($1:$5)<=COUNTIF(joueurs,$B73),INDEX(tirs,SMALL(IF(joueurs=$B73,ROW(INDIRECT(\"1:\"&ROWS(tirs)))),ROWS($1:$5))),\"\")","v":""},{"$f":"IF(ROWS($1:$6)<=COUNTIF(joueurs,$B73),INDEX(tirs,SMALL(IF(joueurs=$B73,ROW(INDIRECT(\"1:\"&ROWS(tirs)))),ROWS($1:$6))),\"\")","v":""},{"$f":"IF(ROWS($1:$7)<=COUNTIF(joueurs,$B73),INDEX(tirs,SMALL(IF(joueurs=$B73,ROW(INDIRECT(\"1:\"&ROWS(tirs)))),ROWS($1:$7))),\"\")","v":""},{"$f":"IF(ROWS($1:$8)<=COUNTIF(joueurs,$B73),INDEX(tirs,SMALL(IF(joueurs=$B73,ROW(INDIRECT(\"1:\"&ROWS(tirs)))),ROWS($1:$8))),\"\")","v":""},{"$f":"IF(ROWS($1:$9)<=COUNTIF(joueurs,$B73),INDEX(tirs,SMALL(IF(joueurs=$B73,ROW(INDIRECT(\"1:\"&ROWS(tirs)))),ROWS($1:$9))),\"\")","v":""},{"$f":"IF(ROWS($1:$10)<=COUNTIF(joueurs,$B73),INDEX(tirs,SMALL(IF(joueurs=$B73,ROW(INDIRECT(\"1:\"&ROWS(tirs)))),ROWS($1:$10))),\"\")","v":""},{"$f":"IF(ROWS($1:$1)<=COUNTIF(joueurs,$B73),INDEX(bontirs,SMALL(IF(joueurs=$B73,ROW(INDIRECT(\"1:\"&ROWS(bontirs)))),ROWS($1:$1))),\"\")","v":""},{"$f":"IF(ROWS($1:$2)<=COUNTIF(joueurs,$B73),INDEX(bontirs,SMALL(IF(joueurs=$B73,ROW(INDIRECT(\"1:\"&ROWS(bontirs)))),ROWS($1:$2))),\"\")","v":""},{"$f":"IF(ROWS($1:$3)<=COUNTIF(joueurs,$B73),INDEX(bontirs,SMALL(IF(joueurs=$B73,ROW(INDIRECT(\"1:\"&ROWS(bontirs)))),ROWS($1:$3))),\"\")","v":""},{"$f":"IF(ROWS($1:$4)<=COUNTIF(joueurs,$B73),INDEX(bontirs,SMALL(IF(joueurs=$B73,ROW(INDIRECT(\"1:\"&ROWS(bontirs)))),ROWS($1:$4))),\"\")","v":""},{"$f":"IF(ROWS($1:$5)<=COUNTIF(joueurs,$B73),INDEX(bontirs,SMALL(IF(joueurs=$B73,ROW(INDIRECT(\"1:\"&ROWS(bontirs)))),ROWS($1:$5))),\"\")","v":""},{"$f":"IF(ROWS($1:$6)<=COUNTIF(joueurs,$B73),INDEX(bontirs,SMALL(IF(joueurs=$B73,ROW(INDIRECT(\"1:\"&ROWS(bontirs)))),ROWS($1:$6))),\"\")","v":""},{"$f":"IF(ROWS($1:$7)<=COUNTIF(joueurs,$B73),INDEX(bontirs,SMALL(IF(joueurs=$B73,ROW(INDIRECT(\"1:\"&ROWS(bontirs)))),ROWS($1:$7))),\"\")","v":""},{"$f":"IF(ROWS($1:$8)<=COUNTIF(joueurs,$B73),INDEX(bontirs,SMALL(IF(joueurs=$B73,ROW(INDIRECT(\"1:\"&ROWS(bontirs)))),ROWS($1:$8))),\"\")","v":""},{"$f":"IF(ROWS($1:$9)<=COUNTIF(joueurs,$B73),INDEX(bontirs,SMALL(IF(joueurs=$B73,ROW(INDIRECT(\"1:\"&ROWS(bontirs)))),ROWS($1:$9))),\"\")","v":""},{"$f":"IF(ROWS($1:$10)<=COUNTIF(joueurs,$B73),INDEX(bontirs,SMALL(IF(joueurs=$B73,ROW(INDIRECT(\"1:\"&ROWS(bontirs)))),ROWS($1:$10))),\"\")","v":""},{"$f":"IF(ROWS($1:$1)<=COUNTIF(joueurs,$B73),INDEX(points,SMALL(IF(joueurs=$B73,ROW(INDIRECT(\"1:\"&ROWS(points)))),ROWS($1:$1))),\"\")","v":""},{"$f":"IF(ROWS($1:$2)<=COUNTIF(joueurs,$B73),INDEX(points,SMALL(IF(joueurs=$B73,ROW(INDIRECT(\"1:\"&ROWS(points)))),ROWS($1:$2))),\"\")","v":""},{"$f":"IF(ROWS($1:$3)<=COUNTIF(joueurs,$B73),INDEX(points,SMALL(IF(joueurs=$B73,ROW(INDIRECT(\"1:\"&ROWS(points)))),ROWS($1:$3))),\"\")","v":""},{"$f":"IF(ROWS($1:$4)<=COUNTIF(joueurs,$B73),INDEX(points,SMALL(IF(joueurs=$B73,ROW(INDIRECT(\"1:\"&ROWS(points)))),ROWS($1:$4))),\"\")","v":""},{"$f":"IF(ROWS($1:$5)<=COUNTIF(joueurs,$B73),INDEX(points,SMALL(IF(joueurs=$B73,ROW(INDIRECT(\"1:\"&ROWS(points)))),ROWS($1:$5))),\"\")","v":""},{"$f":"IF(ROWS($1:$6)<=COUNTIF(joueurs,$B73),INDEX(points,SMALL(IF(joueurs=$B73,ROW(INDIRECT(\"1:\"&ROWS(points)))),ROWS($1:$6))),\"\")","v":""},{"$f":"IF(ROWS($1:$7)<=COUNTIF(joueurs,$B73),INDEX(points,SMALL(IF(joueurs=$B73,ROW(INDIRECT(\"1:\"&ROWS(points)))),ROWS($1:$7))),\"\")","v":""},{"$f":"IF(ROWS($1:$8)<=COUNTIF(joueurs,$B73),INDEX(points,SMALL(IF(joueurs=$B73,ROW(INDIRECT(\"1:\"&ROWS(points)))),ROWS($1:$8))),\"\")","v":""},{"$f":"IF(ROWS($1:$9)<=COUNTIF(joueurs,$B73),INDEX(points,SMALL(IF(joueurs=$B73,ROW(INDIRECT(\"1:\"&ROWS(points)))),ROWS($1:$9))),\"\")","v":""},{"$f":"IF(ROWS($1:$10)<=COUNTIF(joueurs,$B73),INDEX(points,SMALL(IF(joueurs=$B73,ROW(INDIRECT(\"1:\"&ROWS(points)))),ROWS($1:$10))),\"\")","v":""},{"$f":"IF(ROWS($1:$1)<=COUNTIF(joueurs,$B73),INDEX(victoires,SMALL(IF(joueurs=$B73,ROW(INDIRECT(\"1:\"&ROWS(victoires)))),ROWS($1:$1))),\"\")","v":""},{"$f":"IF(ROWS($1:$2)<=COUNTIF(joueurs,$B73),INDEX(victoires,SMALL(IF(joueurs=$B73,ROW(INDIRECT(\"1:\"&ROWS(victoires)))),ROWS($1:$2))),\"\")","v":""},{"$f":"IF(ROWS($1:$3)<=COUNTIF(joueurs,$B73),INDEX(victoires,SMALL(IF(joueurs=$B73,ROW(INDIRECT(\"1:\"&ROWS(victoires)))),ROWS($1:$3))),\"\")","v":""},{"$f":"IF(ROWS($1:$4)<=COUNTIF(joueurs,$B73),INDEX(victoires,SMALL(IF(joueurs=$B73,ROW(INDIRECT(\"1:\"&ROWS(victoires)))),ROWS($1:$4))),\"\")","v":""},{"$f":"IF(ROWS($1:$5)<=COUNTIF(joueurs,$B73),INDEX(victoires,SMALL(IF(joueurs=$B73,ROW(INDIRECT(\"1:\"&ROWS(victoires)))),ROWS($1:$5))),\"\")","v":""},{"$f":"IF(ROWS($1:$6)<=COUNTIF(joueurs,$B73),INDEX(victoires,SMALL(IF(joueurs=$B73,ROW(INDIRECT(\"1:\"&ROWS(victoires)))),ROWS($1:$6))),\"\")","v":""},{"$f":"IF(ROWS($1:$7)<=COUNTIF(joueurs,$B73),INDEX(victoires,SMALL(IF(joueurs=$B73,ROW(INDIRECT(\"1:\"&ROWS(victoires)))),ROWS($1:$7))),\"\")","v":""},{"$f":"IF(ROWS($1:$8)<=COUNTIF(joueurs,$B73),INDEX(victoires,SMALL(IF(joueurs=$B73,ROW(INDIRECT(\"1:\"&ROWS(victoires)))),ROWS($1:$8))),\"\")","v":""},{"$f":"IF(ROWS($1:$9)<=COUNTIF(joueurs,$B73),INDEX(victoires,SMALL(IF(joueurs=$B73,ROW(INDIRECT(\"1:\"&ROWS(victoires)))),ROWS($1:$9))),\"\")","v":""},{"$f":"IF(ROWS($1:$10)<=COUNTIF(joueurs,$B73),INDEX(victoires,SMALL(IF(joueurs=$B73,ROW(INDIRECT(\"1:\"&ROWS(victoires)))),ROWS($1:$10))),\"\")","v":""}]
[null,null,null,{"$f":"IF(ROWS($1:$11)<=COUNTIF(joueurs,$B73),INDEX(fautes,SMALL(IF(joueurs=$B73,ROW(INDIRECT(\"1:\"&ROWS(fautes)))),ROWS($1:$11))),\"\")","v":""},{"$f":"IF(ROWS($1:$12)<=COUNTIF(joueurs,$B73),INDEX(fautes,SMALL(IF(joueurs=$B73,ROW(INDIRECT(\"1:\"&ROWS(fautes)))),ROWS($1:$12))),\"\")","v":""},{"$f":"IF(ROWS($1:$13)<=COUNTIF(joueurs,$B73),INDEX(fautes,SMALL(IF(joueurs=$B73,ROW(INDIRECT(\"1:\"&ROWS(fautes)))),ROWS($1:$13))),\"\")","v":""},{"$f":"IF(ROWS($1:$14)<=COUNTIF(joueurs,$B73),INDEX(fautes,SMALL(IF(joueurs=$B73,ROW(INDIRECT(\"1:\"&ROWS(fautes)))),ROWS($1:$14))),\"\")","v":""},{"$f":"IF(ROWS($1:$15)<=COUNTIF(joueurs,$B73),INDEX(fautes,SMALL(IF(joueurs=$B73,ROW(INDIRECT(\"1:\"&ROWS(fautes)))),ROWS($1:$15))),\"\")","v":""},{"$f":"IF(ROWS($1:$16)<=COUNTIF(joueurs,$B73),INDEX(fautes,SMALL(IF(joueurs=$B73,ROW(INDIRECT(\"1:\"&ROWS(fautes)))),ROWS($1:$16))),\"\")","v":""},{"$f":"IF(ROWS($1:$17)<=COUNTIF(joueurs,$B73),INDEX(fautes,SMALL(IF(joueurs=$B73,ROW(INDIRECT(\"1:\"&ROWS(fautes)))),ROWS($1:$17))),\"\")","v":""},{"$f":"IF(ROWS($1:$18)<=COUNTIF(joueurs,$B73),INDEX(fautes,SMALL(IF(joueurs=$B73,ROW(INDIRECT(\"1:\"&ROWS(fautes)))),ROWS($1:$18))),\"\")","v":""},{"$f":"IF(ROWS($1:$19)<=COUNTIF(joueurs,$B73),INDEX(fautes,SMALL(IF(joueurs=$B73,ROW(INDIRECT(\"1:\"&ROWS(fautes)))),ROWS($1:$19))),\"\")","v":""},{"$f":"IF(ROWS($1:$20)<=COUNTIF(joueurs,$B73),INDEX(fautes,SMALL(IF(joueurs=$B73,ROW(INDIRECT(\"1:\"&ROWS(fautes)))),ROWS($1:$20))),\"\")","v":""},{"$f":"IF(ROWS($1:$11)<=COUNTIF(joueurs,$B73),INDEX(ballonperdus,SMALL(IF(joueurs=$B73,ROW(INDIRECT(\"1:\"&ROWS(ballonperdus)))),ROWS($1:$11))),\"\")","v":""},{"$f":"IF(ROWS($1:$12)<=COUNTIF(joueurs,$B73),INDEX(ballonperdus,SMALL(IF(joueurs=$B73,ROW(INDIRECT(\"1:\"&ROWS(ballonperdus)))),ROWS($1:$12))),\"\")","v":""},{"$f":"IF(ROWS($1:$13)<=COUNTIF(joueurs,$B73),INDEX(ballonperdus,SMALL(IF(joueurs=$B73,ROW(INDIRECT(\"1:\"&ROWS(ballonperdus)))),ROWS($1:$13))),\"\")","v":""},{"$f":"IF(ROWS($1:$14)<=COUNTIF(joueurs,$B73),INDEX(ballonperdus,SMALL(IF(joueurs=$B73,ROW(INDIRECT(\"1:\"&ROWS(ballonperdus)))),ROWS($1:$14))),\"\")","v":""},{"$f":"IF(ROWS($1:$15)<=COUNTIF(joueurs,$B73),INDEX(ballonperdus,SMALL(IF(joueurs=$B73,ROW(INDIRECT(\"1:\"&ROWS(ballonperdus)))),ROWS($1:$15))),\"\")","v":""},{"$f":"IF(ROWS($1:$16)<=COUNTIF(joueurs,$B73),INDEX(ballonperdus,SMALL(IF(joueurs=$B73,ROW(INDIRECT(\"1:\"&ROWS(ballonperdus)))),ROWS($1:$16))),\"\")","v":""},{"$f":"IF(ROWS($1:$17)<=COUNTIF(joueurs,$B73),INDEX(ballonperdus,SMALL(IF(joueurs=$B73,ROW(INDIRECT(\"1:\"&ROWS(ballonperdus)))),ROWS($1:$17))),\"\")","v":""},{"$f":"IF(ROWS($1:$18)<=COUNTIF(joueurs,$B73),INDEX(ballonperdus,SMALL(IF(joueurs=$B73,ROW(INDIRECT(\"1:\"&ROWS(ballonperdus)))),ROWS($1:$18))),\"\")","v":""},{"$f":"IF(ROWS($1:$19)<=COUNTIF(joueurs,$B73),INDEX(ballonperdus,SMALL(IF(joueurs=$B73,ROW(INDIRECT(\"1:\"&ROWS(ballonperdus)))),ROWS($1:$19))),\"\")","v":""},{"$f":"IF(ROWS($1:$20)<=COUNTIF(joueurs,$B73),INDEX(fautes,SMALL(IF(joueurs=$B73,ROW(INDIRECT(\"1:\"&ROWS(ballonperdus)))),ROWS($1:$20))),\"\")","v":""},{"$f":"IF(ROWS($1:$11)<=COUNTIF(joueurs,$B73),INDEX(interceptions,SMALL(IF(joueurs=$B73,ROW(INDIRECT(\"1:\"&ROWS(interceptions)))),ROWS($1:$11))),\"\")","v":""},{"$f":"IF(ROWS($1:$12)<=COUNTIF(joueurs,$B73),INDEX(interceptions,SMALL(IF(joueurs=$B73,ROW(INDIRECT(\"1:\"&ROWS(interceptions)))),ROWS($1:$12))),\"\")","v":""},{"$f":"IF(ROWS($1:$13)<=COUNTIF(joueurs,$B73),INDEX(interceptions,SMALL(IF(joueurs=$B73,ROW(INDIRECT(\"1:\"&ROWS(interceptions)))),ROWS($1:$13))),\"\")","v":""},{"$f":"IF(ROWS($1:$14)<=COUNTIF(joueurs,$B73),INDEX(interceptions,SMALL(IF(joueurs=$B73,ROW(INDIRECT(\"1:\"&ROWS(interceptions)))),ROWS($1:$14))),\"\")","v":""},{"$f":"IF(ROWS($1:$15)<=COUNTIF(joueurs,$B73),INDEX(interceptions,SMALL(IF(joueurs=$B73,ROW(INDIRECT(\"1:\"&ROWS(interceptions)))),ROWS($1:$15))),\"\")","v":""},{"$f":"IF(ROWS($1:$16)<=COUNTIF(joueurs,$B73),INDEX(interceptions,SMALL(IF(joueurs=$B73,ROW(INDIRECT(\"1:\"&ROWS(interceptions)))),ROWS($1:$16))),\"\")","v":""},{"$f":"IF(ROWS($1:$17)<=COUNTIF(joueurs,$B73),INDEX(interceptions,SMALL(IF(joueurs=$B73,ROW(INDIRECT(\"1:\"&ROWS(interceptions)))),ROWS($1:$17))),\"\")","v":""},{"$f":"IF(ROWS($1:$18)<=COUNTIF(joueurs,$B73),INDEX(interceptions,SMALL(IF(joueurs=$B73,ROW(INDIRECT(\"1:\"&ROWS(interceptions)))),ROWS($1:$18))),\"\")","v":""},{"$f":"IF(ROWS($1:$19)<=COUNTIF(joueurs,$B73),INDEX(interceptions,SMALL(IF(joueurs=$B73,ROW(INDIRECT(\"1:\"&ROWS(interceptions)))),ROWS($1:$19))),\"\")","v":""},{"$f":"IF(ROWS($1:$20)<=COUNTIF(joueurs,$B73),INDEX(interceptions,SMALL(IF(joueurs=$B73,ROW(INDIRECT(\"1:\"&ROWS(interceptions)))),ROWS($1:$20))),\"\")","v":""},{"$f":"IF(ROWS($1:$11)<=COUNTIF(joueurs,$B73),INDEX(ballonrecuperes,SMALL(IF(joueurs=$B73,ROW(INDIRECT(\"1:\"&ROWS(ballonrecuperes)))),ROWS($1:$11))),\"\")","v":""},{"$f":"IF(ROWS($1:$12)<=COUNTIF(joueurs,$B73),INDEX(ballonrecuperes,SMALL(IF(joueurs=$B73,ROW(INDIRECT(\"1:\"&ROWS(ballonrecuperes)))),ROWS($1:$12))),\"\")","v":""},{"$f":"IF(ROWS($1:$13)<=COUNTIF(joueurs,$B73),INDEX(ballonrecuperes,SMALL(IF(joueurs=$B73,ROW(INDIRECT(\"1:\"&ROWS(ballonrecuperes)))),ROWS($1:$13))),\"\")","v":""},{"$f":"IF(ROWS($1:$14)<=COUNTIF(joueurs,$B73),INDEX(ballonrecuperes,SMALL(IF(joueurs=$B73,ROW(INDIRECT(\"1:\"&ROWS(ballonrecuperes)))),ROWS($1:$14))),\"\")","v":""},{"$f":"IF(ROWS($1:$15)<=COUNTIF(joueurs,$B73),INDEX(ballonrecuperes,SMALL(IF(joueurs=$B73,ROW(INDIRECT(\"1:\"&ROWS(ballonrecuperes)))),ROWS($1:$15))),\"\")","v":""},{"$f":"IF(ROWS($1:$16)<=COUNTIF(joueurs,$B73),INDEX(ballonrecuperes,SMALL(IF(joueurs=$B73,ROW(INDIRECT(\"1:\"&ROWS(ballonrecuperes)))),ROWS($1:$16))),\"\")","v":""},{"$f":"IF(ROWS($1:$17)<=COUNTIF(joueurs,$B73),INDEX(ballonrecuperes,SMALL(IF(joueurs=$B73,ROW(INDIRECT(\"1:\"&ROWS(ballonrecuperes)))),ROWS($1:$17))),\"\")","v":""},{"$f":"IF(ROWS($1:$18)<=COUNTIF(joueurs,$B73),INDEX(ballonrecuperes,SMALL(IF(joueurs=$B73,ROW(INDIRECT(\"1:\"&ROWS(ballonrecuperes)))),ROWS($1:$18))),\"\")","v":""},{"$f":"IF(ROWS($1:$19)<=COUNTIF(joueurs,$B73),INDEX(ballonrecuperes,SMALL(IF(joueurs=$B73,ROW(INDIRECT(\"1:\"&ROWS(ballonrecuperes)))),ROWS($1:$19))),\"\")","v":""},{"$f":"IF(ROWS($1:$20)<=COUNTIF(joueurs,$B73),INDEX(ballonrecuperes,SMALL(IF(joueurs=$B73,ROW(INDIRECT(\"1:\"&ROWS(ballonrecuperes)))),ROWS($1:$20))),\"\")","v":""},{"$f":"IF(ROWS($1:$11)<=COUNTIF(joueurs,$B73),INDEX(tirs,SMALL(IF(joueurs=$B73,ROW(INDIRECT(\"1:\"&ROWS(tirs)))),ROWS($1:$11))),\"\")","v":""},{"$f":"IF(ROWS($1:$12)<=COUNTIF(joueurs,$B73),INDEX(tirs,SMALL(IF(joueurs=$B73,ROW(INDIRECT(\"1:\"&ROWS(tirs)))),ROWS($1:$12))),\"\")","v":""},{"$f":"IF(ROWS($1:$13)<=COUNTIF(joueurs,$B73),INDEX(tirs,SMALL(IF(joueurs=$B73,ROW(INDIRECT(\"1:\"&ROWS(tirs)))),ROWS($1:$13))),\"\")","v":""},{"$f":"IF(ROWS($1:$14)<=COUNTIF(joueurs,$B73),INDEX(tirs,SMALL(IF(joueurs=$B73,ROW(INDIRECT(\"1:\"&ROWS(tirs)))),ROWS($1:$14))),\"\")","v":""},{"$f":"IF(ROWS($1:$15)<=COUNTIF(joueurs,$B73),INDEX(tirs,SMALL(IF(joueurs=$B73,ROW(INDIRECT(\"1:\"&ROWS(tirs)))),ROWS($1:$15))),\"\")","v":""},{"$f":"IF(ROWS($1:$16)<=COUNTIF(joueurs,$B73),INDEX(tirs,SMALL(IF(joueurs=$B73,ROW(INDIRECT(\"1:\"&ROWS(tirs)))),ROWS($1:$16))),\"\")","v":""},{"$f":"IF(ROWS($1:$17)<=COUNTIF(joueurs,$B73),INDEX(tirs,SMALL(IF(joueurs=$B73,ROW(INDIRECT(\"1:\"&ROWS(tirs)))),ROWS($1:$17))),\"\")","v":""},{"$f":"IF(ROWS($1:$18)<=COUNTIF(joueurs,$B73),INDEX(tirs,SMALL(IF(joueurs=$B73,ROW(INDIRECT(\"1:\"&ROWS(tirs)))),ROWS($1:$18))),\"\")","v":""},{"$f":"IF(ROWS($1:$19)<=COUNTIF(joueurs,$B73),INDEX(tirs,SMALL(IF(joueurs=$B73,ROW(INDIRECT(\"1:\"&ROWS(tirs)))),ROWS($1:$19))),\"\")","v":""},{"$f":"IF(ROWS($1:$20)<=COUNTIF(joueurs,$B73),INDEX(tirs,SMALL(IF(joueurs=$B73,ROW(INDIRECT(\"1:\"&ROWS(tirs)))),ROWS($1:$20))),\"\")","v":""},{"$f":"IF(ROWS($1:$11)<=COUNTIF(joueurs,$B73),INDEX(bontirs,SMALL(IF(joueurs=$B73,ROW(INDIRECT(\"1:\"&ROWS(bontirs)))),ROWS($1:$11))),\"\")","v":""},{"$f":"IF(ROWS($1:$12)<=COUNTIF(joueurs,$B73),INDEX(bontirs,SMALL(IF(joueurs=$B73,ROW(INDIRECT(\"1:\"&ROWS(bontirs)))),ROWS($1:$12))),\"\")","v":""},{"$f":"IF(ROWS($1:$13)<=COUNTIF(joueurs,$B73),INDEX(bontirs,SMALL(IF(joueurs=$B73,ROW(INDIRECT(\"1:\"&ROWS(bontirs)))),ROWS($1:$13))),\"\")","v":""},{"$f":"IF(ROWS($1:$14)<=COUNTIF(joueurs,$B73),INDEX(bontirs,SMALL(IF(joueurs=$B73,ROW(INDIRECT(\"1:\"&ROWS(bontirs)))),ROWS($1:$14))),\"\")","v":""},{"$f":"IF(ROWS($1:$15)<=COUNTIF(joueurs,$B73),INDEX(bontirs,SMALL(IF(joueurs=$B73,ROW(INDIRECT(\"1:\"&ROWS(bontirs)))),ROWS($1:$15))),\"\")","v":""},{"$f":"IF(ROWS($1:$16)<=COUNTIF(joueurs,$B73),INDEX(bontirs,SMALL(IF(joueurs=$B73,ROW(INDIRECT(\"1:\"&ROWS(bontirs)))),ROWS($1:$16))),\"\")","v":""},{"$f":"IF(ROWS($1:$17)<=COUNTIF(joueurs,$B73),INDEX(bontirs,SMALL(IF(joueurs=$B73,ROW(INDIRECT(\"1:\"&ROWS(bontirs)))),ROWS($1:$17))),\"\")","v":""},{"$f":"IF(ROWS($1:$18)<=COUNTIF(joueurs,$B73),INDEX(bontirs,SMALL(IF(joueurs=$B73,ROW(INDIRECT(\"1:\"&ROWS(bontirs)))),ROWS($1:$18))),\"\")","v":""},{"$f":"IF(ROWS($1:$19)<=COUNTIF(joueurs,$B73),INDEX(bontirs,SMALL(IF(joueurs=$B73,ROW(INDIRECT(\"1:\"&ROWS(bontirs)))),ROWS($1:$19))),\"\")","v":""},{"$f":"IF(ROWS($1:$20)<=COUNTIF(joueurs,$B73),INDEX(bontirs,SMALL(IF(joueurs=$B73,ROW(INDIRECT(\"1:\"&ROWS(bontirs)))),ROWS($1:$20))),\"\")","v":""},{"$f":"IF(ROWS($1:$11)<=COUNTIF(joueurs,$B73),INDEX(points,SMALL(IF(joueurs=$B73,ROW(INDIRECT(\"1:\"&ROWS(points)))),ROWS($1:$11))),\"\")","v":""},{"$f":"IF(ROWS($1:$12)<=COUNTIF(joueurs,$B73),INDEX(points,SMALL(IF(joueurs=$B73,ROW(INDIRECT(\"1:\"&ROWS(points)))),ROWS($1:$12))),\"\")","v":""},{"$f":"IF(ROWS($1:$13)<=COUNTIF(joueurs,$B73),INDEX(points,SMALL(IF(joueurs=$B73,ROW(INDIRECT(\"1:\"&ROWS(points)))),ROWS($1:$13))),\"\")","v":""},{"$f":"IF(ROWS($1:$14)<=COUNTIF(joueurs,$B73),INDEX(points,SMALL(IF(joueurs=$B73,ROW(INDIRECT(\"1:\"&ROWS(points)))),ROWS($1:$14))),\"\")","v":""},{"$f":"IF(ROWS($1:$15)<=COUNTIF(joueurs,$B73),INDEX(points,SMALL(IF(joueurs=$B73,ROW(INDIRECT(\"1:\"&ROWS(points)))),ROWS($1:$15))),\"\")","v":""},{"$f":"IF(ROWS($1:$16)<=COUNTIF(joueurs,$B73),INDEX(points,SMALL(IF(joueurs=$B73,ROW(INDIRECT(\"1:\"&ROWS(points)))),ROWS($1:$16))),\"\")","v":""},{"$f":"IF(ROWS($1:$17)<=COUNTIF(joueurs,$B73),INDEX(points,SMALL(IF(joueurs=$B73,ROW(INDIRECT(\"1:\"&ROWS(points)))),ROWS($1:$17))),\"\")","v":""},{"$f":"IF(ROWS($1:$18)<=COUNTIF(joueurs,$B73),INDEX(points,SMALL(IF(joueurs=$B73,ROW(INDIRECT(\"1:\"&ROWS(points)))),ROWS($1:$18))),\"\")","v":""},{"$f":"IF(ROWS($1:$19)<=COUNTIF(joueurs,$B73),INDEX(points,SMALL(IF(joueurs=$B73,ROW(INDIRECT(\"1:\"&ROWS(points)))),ROWS($1:$19))),\"\")","v":""},{"$f":"IF(ROWS($1:$20)<=COUNTIF(points,$B73),INDEX(fautes,SMALL(IF(joueurs=$B73,ROW(INDIRECT(\"1:\"&ROWS(points)))),ROWS($1:$20))),\"\")","v":""},{"$f":"IF(ROWS($1:$11)<=COUNTIF(joueurs,$B73),INDEX(victoires,SMALL(IF(joueurs=$B73,ROW(INDIRECT(\"1:\"&ROWS(victoires)))),ROWS($1:$11))),\"\")","v":""},{"$f":"IF(ROWS($1:$12)<=COUNTIF(joueurs,$B73),INDEX(victoires,SMALL(IF(joueurs=$B73,ROW(INDIRECT(\"1:\"&ROWS(victoires)))),ROWS($1:$12))),\"\")","v":""},{"$f":"IF(ROWS($1:$13)<=COUNTIF(joueurs,$B73),INDEX(victoires,SMALL(IF(joueurs=$B73,ROW(INDIRECT(\"1:\"&ROWS(victoires)))),ROWS($1:$13))),\"\")","v":""},{"$f":"IF(ROWS($1:$14)<=COUNTIF(joueurs,$B73),INDEX(victoires,SMALL(IF(joueurs=$B73,ROW(INDIRECT(\"1:\"&ROWS(victoires)))),ROWS($1:$14))),\"\")","v":""},{"$f":"IF(ROWS($1:$15)<=COUNTIF(joueurs,$B73),INDEX(victoires,SMALL(IF(joueurs=$B73,ROW(INDIRECT(\"1:\"&ROWS(victoires)))),ROWS($1:$15))),\"\")","v":""},{"$f":"IF(ROWS($1:$16)<=COUNTIF(joueurs,$B73),INDEX(victoires,SMALL(IF(joueurs=$B73,ROW(INDIRECT(\"1:\"&ROWS(victoires)))),ROWS($1:$16))),\"\")","v":""},{"$f":"IF(ROWS($1:$17)<=COUNTIF(joueurs,$B73),INDEX(victoires,SMALL(IF(joueurs=$B73,ROW(INDIRECT(\"1:\"&ROWS(victoires)))),ROWS($1:$17))),\"\")","v":""},{"$f":"IF(ROWS($1:$18)<=COUNTIF(joueurs,$B73),INDEX(victoires,SMALL(IF(joueurs=$B73,ROW(INDIRECT(\"1:\"&ROWS(victoires)))),ROWS($1:$18))),\"\")","v":""},{"$f":"IF(ROWS($1:$19)<=COUNTIF(joueurs,$B73),INDEX(victoires,SMALL(IF(joueurs=$B73,ROW(INDIRECT(\"1:\"&ROWS(victoires)))),ROWS($1:$19))),\"\")","v":""},{"$f":"IF(ROWS($1:$20)<=COUNTIF(joueurs,$B73),INDEX(victoires,SMALL(IF(joueurs=$B73,ROW(INDIRECT(\"1:\"&ROWS(victoires)))),ROWS($1:$20))),\"\")","v":""}]
[null,null,null,{"$f":"IF(ROWS($1:$21)<=COUNTIF(joueurs,$B73),INDEX(fautes,SMALL(IF(joueurs=$B73,ROW(INDIRECT(\"1:\"&ROWS(fautes)))),ROWS($1:$21))),\"\")","v":""},{"$f":"IF(ROWS($1:$22)<=COUNTIF(joueurs,$B73),INDEX(fautes,SMALL(IF(joueurs=$B73,ROW(INDIRECT(\"1:\"&ROWS(fautes)))),ROWS($1:$22))),\"\")","v":""},{"$f":"IF(ROWS($1:$23)<=COUNTIF(joueurs,$B73),INDEX(fautes,SMALL(IF(joueurs=$B73,ROW(INDIRECT(\"1:\"&ROWS(fautes)))),ROWS($1:$23))),\"\")","v":""},{"$f":"IF(ROWS($1:$24)<=COUNTIF(joueurs,$B73),INDEX(fautes,SMALL(IF(joueurs=$B73,ROW(INDIRECT(\"1:\"&ROWS(fautes)))),ROWS($1:$24))),\"\")","v":""},{"$f":"IF(ROWS($1:$25)<=COUNTIF(joueurs,$B73),INDEX(fautes,SMALL(IF(joueurs=$B73,ROW(INDIRECT(\"1:\"&ROWS(fautes)))),ROWS($1:$25))),\"\")","v":""},{"$f":"IF(ROWS($1:$26)<=COUNTIF(joueurs,$B73),INDEX(fautes,SMALL(IF(joueurs=$B73,ROW(INDIRECT(\"1:\"&ROWS(fautes)))),ROWS($1:$26))),\"\")","v":""},{"$f":"IF(ROWS($1:$27)<=COUNTIF(joueurs,$B73),INDEX(fautes,SMALL(IF(joueurs=$B73,ROW(INDIRECT(\"1:\"&ROWS(fautes)))),ROWS($1:$27))),\"\")","v":""},{"$f":"IF(ROWS($1:$28)<=COUNTIF(joueurs,$B73),INDEX(fautes,SMALL(IF(joueurs=$B73,ROW(INDIRECT(\"1:\"&ROWS(fautes)))),ROWS($1:$28))),\"\")","v":""},{"$f":"IF(ROWS($1:$29)<=COUNTIF(joueurs,$B73),INDEX(fautes,SMALL(IF(joueurs=$B73,ROW(INDIRECT(\"1:\"&ROWS(fautes)))),ROWS($1:$29))),\"\")","v":""},{"$f":"IF(ROWS($1:$30)<=COUNTIF(joueurs,$B73),INDEX(fautes,SMALL(IF(joueurs=$B73,ROW(INDIRECT(\"1:\"&ROWS(fautes)))),ROWS($1:$30))),\"\")","v":""},{"$f":"IF(ROWS($1:$21)<=COUNTIF(joueurs,$B73),INDEX(ballonperdus,SMALL(IF(joueurs=$B73,ROW(INDIRECT(\"1:\"&ROWS(ballonperdus)))),ROWS($1:$21))),\"\")","v":""},{"$f":"IF(ROWS($1:$22)<=COUNTIF(joueurs,$B73),INDEX(ballonperdus,SMALL(IF(joueurs=$B73,ROW(INDIRECT(\"1:\"&ROWS(ballonperdus)))),ROWS($1:$22))),\"\")","v":""},{"$f":"IF(ROWS($1:$23)<=COUNTIF(joueurs,$B73),INDEX(ballonperdus,SMALL(IF(joueurs=$B73,ROW(INDIRECT(\"1:\"&ROWS(ballonperdus)))),ROWS($1:$23))),\"\")","v":""},{"$f":"IF(ROWS($1:$24)<=COUNTIF(joueurs,$B73),INDEX(ballonperdus,SMALL(IF(joueurs=$B73,ROW(INDIRECT(\"1:\"&ROWS(ballonperdus)))),ROWS($1:$24))),\"\")","v":""},{"$f":"IF(ROWS($1:$25)<=COUNTIF(joueurs,$B73),INDEX(ballonperdus,SMALL(IF(joueurs=$B73,ROW(INDIRECT(\"1:\"&ROWS(ballonperdus)))),ROWS($1:$25))),\"\")","v":""},{"$f":"IF(ROWS($1:$26)<=COUNTIF(joueurs,$B73),INDEX(ballonperdus,SMALL(IF(joueurs=$B73,ROW(INDIRECT(\"1:\"&ROWS(ballonperdus)))),ROWS($1:$26))),\"\")","v":""},{"$f":"IF(ROWS($1:$27)<=COUNTIF(joueurs,$B73),INDEX(ballonperdus,SMALL(IF(joueurs=$B73,ROW(INDIRECT(\"1:\"&ROWS(ballonperdus)))),ROWS($1:$27))),\"\")","v":""},{"$f":"IF(ROWS($1:$28)<=COUNTIF(joueurs,$B73),INDEX(ballonperdus,SMALL(IF(joueurs=$B73,ROW(INDIRECT(\"1:\"&ROWS(ballonperdus)))),ROWS($1:$28))),\"\")","v":""},{"$f":"IF(ROWS($1:$29)<=COUNTIF(joueurs,$B73),INDEX(ballonperdus,SMALL(IF(joueurs=$B73,ROW(INDIRECT(\"1:\"&ROWS(ballonperdus)))),ROWS($1:$29))),\"\")","v":""},{"$f":"IF(ROWS($1:$30)<=COUNTIF(joueurs,$B73),INDEX(ballonperdus,SMALL(IF(joueurs=$B73,ROW(INDIRECT(\"1:\"&ROWS(ballonperdus)))),ROWS($1:$30))),\"\")","v":""},{"$f":"IF(ROWS($1:$21)<=COUNTIF(joueurs,$B73),INDEX(interceptions,SMALL(IF(joueurs=$B73,ROW(INDIRECT(\"1:\"&ROWS(interceptions)))),ROWS($1:$21))),\"\")","v":""},{"$f":"IF(ROWS($1:$22)<=COUNTIF(joueurs,$B73),INDEX(interceptions,SMALL(IF(joueurs=$B73,ROW(INDIRECT(\"1:\"&ROWS(interceptions)))),ROWS($1:$22))),\"\")","v":""},{"$f":"IF(ROWS($1:$23)<=COUNTIF(joueurs,$B73),INDEX(interceptions,SMALL(IF(joueurs=$B73,ROW(INDIRECT(\"1:\"&ROWS(interceptions)))),ROWS($1:$23))),\"\")","v":""},{"$f":"IF(ROWS($1:$24)<=COUNTIF(joueurs,$B73),INDEX(interceptions,SMALL(IF(joueurs=$B73,ROW(INDIRECT(\"1:\"&ROWS(interceptions)))),ROWS($1:$24))),\"\")","v":""},{"$f":"IF(ROWS($1:$25)<=COUNTIF(joueurs,$B73),INDEX(interceptions,SMALL(IF(joueurs=$B73,ROW(INDIRECT(\"1:\"&ROWS(interceptions)))),ROWS($1:$25))),\"\")","v":""},{"$f":"IF(ROWS($1:$26)<=COUNTIF(joueurs,$B73),INDEX(interceptions,SMALL(IF(joueurs=$B73,ROW(INDIRECT(\"1:\"&ROWS(interceptions)))),ROWS($1:$26))),\"\")","v":""},{"$f":"IF(ROWS($1:$27)<=COUNTIF(joueurs,$B73),INDEX(interceptions,SMALL(IF(joueurs=$B73,ROW(INDIRECT(\"1:\"&ROWS(interceptions)))),ROWS($1:$27))),\"\")","v":""},{"$f":"IF(ROWS($1:$28)<=COUNTIF(joueurs,$B73),INDEX(interceptions,SMALL(IF(joueurs=$B73,ROW(INDIRECT(\"1:\"&ROWS(interceptions)))),ROWS($1:$28))),\"\")","v":""},{"$f":"IF(ROWS($1:$29)<=COUNTIF(joueurs,$B73),INDEX(interceptions,SMALL(IF(joueurs=$B73,ROW(INDIRECT(\"1:\"&ROWS(interceptions)))),ROWS($1:$29))),\"\")","v":""},{"$f":"IF(ROWS($1:$30)<=COUNTIF(joueurs,$B73),INDEX(interceptions,SMALL(IF(joueurs=$B73,ROW(INDIRECT(\"1:\"&ROWS(interceptions)))),ROWS($1:$30))),\"\")","v":""},{"$f":"IF(ROWS($1:$21)<=COUNTIF(joueurs,$B73),INDEX(ballonrecuperes,SMALL(IF(joueurs=$B73,ROW(INDIRECT(\"1:\"&ROWS(ballonrecuperes)))),ROWS($1:$21))),\"\")","v":""},{"$f":"IF(ROWS($1:$22)<=COUNTIF(joueurs,$B73),INDEX(ballonrecuperes,SMALL(IF(joueurs=$B73,ROW(INDIRECT(\"1:\"&ROWS(ballonrecuperes)))),ROWS($1:$22))),\"\")","v":""},{"$f":"IF(ROWS($1:$23)<=COUNTIF(joueurs,$B73),INDEX(ballonrecuperes,SMALL(IF(joueurs=$B73,ROW(INDIRECT(\"1:\"&ROWS(ballonrecuperes)))),ROWS($1:$23))),\"\")","v":""},{"$f":"IF(ROWS($1:$24)<=COUNTIF(joueurs,$B73),INDEX(ballonrecuperes,SMALL(IF(joueurs=$B73,ROW(INDIRECT(\"1:\"&ROWS(ballonrecuperes)))),ROWS($1:$24))),\"\")","v":""},{"$f":"IF(ROWS($1:$25)<=COUNTIF(joueurs,$B73),INDEX(ballonrecuperes,SMALL(IF(joueurs=$B73,ROW(INDIRECT(\"1:\"&ROWS(ballonrecuperes)))),ROWS($1:$25))),\"\")","v":""},{"$f":"IF(ROWS($1:$26)<=COUNTIF(joueurs,$B73),INDEX(ballonrecuperes,SMALL(IF(joueurs=$B73,ROW(INDIRECT(\"1:\"&ROWS(ballonrecuperes)))),ROWS($1:$26))),\"\")","v":""},{"$f":"IF(ROWS($1:$27)<=COUNTIF(joueurs,$B73),INDEX(ballonrecuperes,SMALL(IF(joueurs=$B73,ROW(INDIRECT(\"1:\"&ROWS(ballonrecuperes)))),ROWS($1:$27))),\"\")","v":""},{"$f":"IF(ROWS($1:$28)<=COUNTIF(joueurs,$B73),INDEX(ballonrecuperes,SMALL(IF(joueurs=$B73,ROW(INDIRECT(\"1:\"&ROWS(ballonrecuperes)))),ROWS($1:$28))),\"\")","v":""},{"$f":"IF(ROWS($1:$29)<=COUNTIF(joueurs,$B73),INDEX(ballonrecuperes,SMALL(IF(joueurs=$B73,ROW(INDIRECT(\"1:\"&ROWS(ballonrecuperes)))),ROWS($1:$29))),\"\")","v":""},{"$f":"IF(ROWS($1:$30)<=COUNTIF(joueurs,$B73),INDEX(ballonrecuperes,SMALL(IF(joueurs=$B73,ROW(INDIRECT(\"1:\"&ROWS(ballonrecuperes)))),ROWS($1:$30))),\"\")","v":""},{"$f":"IF(ROWS($1:$21)<=COUNTIF(joueurs,$B73),INDEX(tirs,SMALL(IF(joueurs=$B73,ROW(INDIRECT(\"1:\"&ROWS(tirs)))),ROWS($1:$21))),\"\")","v":""},{"$f":"IF(ROWS($1:$22)<=COUNTIF(joueurs,$B73),INDEX(tirs,SMALL(IF(joueurs=$B73,ROW(INDIRECT(\"1:\"&ROWS(tirs)))),ROWS($1:$22))),\"\")","v":""},{"$f":"IF(ROWS($1:$23)<=COUNTIF(joueurs,$B73),INDEX(tirs,SMALL(IF(joueurs=$B73,ROW(INDIRECT(\"1:\"&ROWS(tirs)))),ROWS($1:$23))),\"\")","v":""},{"$f":"IF(ROWS($1:$24)<=COUNTIF(joueurs,$B73),INDEX(tirs,SMALL(IF(joueurs=$B73,ROW(INDIRECT(\"1:\"&ROWS(tirs)))),ROWS($1:$24))),\"\")","v":""},{"$f":"IF(ROWS($1:$25)<=COUNTIF(joueurs,$B73),INDEX(tirs,SMALL(IF(joueurs=$B73,ROW(INDIRECT(\"1:\"&ROWS(tirs)))),ROWS($1:$25))),\"\")","v":""},{"$f":"IF(ROWS($1:$26)<=COUNTIF(joueurs,$B73),INDEX(tirs,SMALL(IF(joueurs=$B73,ROW(INDIRECT(\"1:\"&ROWS(tirs)))),ROWS($1:$26))),\"\")","v":""},{"$f":"IF(ROWS($1:$27)<=COUNTIF(joueurs,$B73),INDEX(tirs,SMALL(IF(joueurs=$B73,ROW(INDIRECT(\"1:\"&ROWS(tirs)))),ROWS($1:$27))),\"\")","v":""},{"$f":"IF(ROWS($1:$28)<=COUNTIF(joueurs,$B73),INDEX(tirs,SMALL(IF(joueurs=$B73,ROW(INDIRECT(\"1:\"&ROWS(tirs)))),ROWS($1:$28))),\"\")","v":""},{"$f":"IF(ROWS($1:$29)<=COUNTIF(joueurs,$B73),INDEX(tirs,SMALL(IF(joueurs=$B73,ROW(INDIRECT(\"1:\"&ROWS(tirs)))),ROWS($1:$29))),\"\")","v":""},{"$f":"IF(ROWS($1:$30)<=COUNTIF(joueurs,$B73),INDEX(tirs,SMALL(IF(joueurs=$B73,ROW(INDIRECT(\"1:\"&ROWS(tirs)))),ROWS($1:$30))),\"\")","v":""},{"$f":"IF(ROWS($1:$21)<=COUNTIF(joueurs,$B73),INDEX(bontirs,SMALL(IF(joueurs=$B73,ROW(INDIRECT(\"1:\"&ROWS(bontirs)))),ROWS($1:$21))),\"\")","v":""},{"$f":"IF(ROWS($1:$22)<=COUNTIF(joueurs,$B73),INDEX(bontirs,SMALL(IF(joueurs=$B73,ROW(INDIRECT(\"1:\"&ROWS(bontirs)))),ROWS($1:$22))),\"\")","v":""},{"$f":"IF(ROWS($1:$23)<=COUNTIF(joueurs,$B73),INDEX(bontirs,SMALL(IF(joueurs=$B73,ROW(INDIRECT(\"1:\"&ROWS(bontirs)))),ROWS($1:$23))),\"\")","v":""},{"$f":"IF(ROWS($1:$24)<=COUNTIF(joueurs,$B73),INDEX(bontirs,SMALL(IF(joueurs=$B73,ROW(INDIRECT(\"1:\"&ROWS(bontirs)))),ROWS($1:$24))),\"\")","v":""},{"$f":"IF(ROWS($1:$25)<=COUNTIF(joueurs,$B73),INDEX(bontirs,SMALL(IF(joueurs=$B73,ROW(INDIRECT(\"1:\"&ROWS(bontirs)))),ROWS($1:$25))),\"\")","v":""},{"$f":"IF(ROWS($1:$26)<=COUNTIF(joueurs,$B73),INDEX(bontirs,SMALL(IF(joueurs=$B73,ROW(INDIRECT(\"1:\"&ROWS(bontirs)))),ROWS($1:$26))),\"\")","v":""},{"$f":"IF(ROWS($1:$27)<=COUNTIF(joueurs,$B73),INDEX(bontirs,SMALL(IF(joueurs=$B73,ROW(INDIRECT(\"1:\"&ROWS(bontirs)))),ROWS($1:$27))),\"\")","v":""},{"$f":"IF(ROWS($1:$28)<=COUNTIF(joueurs,$B73),INDEX(bontirs,SMALL(IF(joueurs=$B73,ROW(INDIRECT(\"1:\"&ROWS(bontirs)))),ROWS($1:$28))),\"\")","v":""},{"$f":"IF(ROWS($1:$29)<=COUNTIF(joueurs,$B73),INDEX(bontirs,SMALL(IF(joueurs=$B73,ROW(INDIRECT(\"1:\"&ROWS(bontirs)))),ROWS($1:$29))),\"\")","v":""},{"$f":"IF(ROWS($1:$30)<=COUNTIF(joueurs,$B73),INDEX(bontirs,SMALL(IF(joueurs=$B73,ROW(INDIRECT(\"1:\"&ROWS(bontirs)))),ROWS($1:$30))),\"\")","v":""},{"$f":"IF(ROWS($1:$21)<=COUNTIF(joueurs,$B73),INDEX(points,SMALL(IF(joueurs=$B73,ROW(INDIRECT(\"1:\"&ROWS(points)))),ROWS($1:$21))),\"\")","v":""},{"$f":"IF(ROWS($1:$22)<=COUNTIF(joueurs,$B73),INDEX(points,SMALL(IF(joueurs=$B73,ROW(INDIRECT(\"1:\"&ROWS(points)))),ROWS($1:$22))),\"\")","v":""},{"$f":"IF(ROWS($1:$23)<=COUNTIF(joueurs,$B73),INDEX(points,SMALL(IF(joueurs=$B73,ROW(INDIRECT(\"1:\"&ROWS(points)))),ROWS($1:$23))),\"\")","v":""},{"$f":"IF(ROWS($1:$24)<=COUNTIF(joueurs,$B73),INDEX(points,SMALL(IF(joueurs=$B73,ROW(INDIRECT(\"1:\"&ROWS(points)))),ROWS($1:$24))),\"\")","v":""},{"$f":"IF(ROWS($1:$25)<=COUNTIF(joueurs,$B73),INDEX(points,SMALL(IF(joueurs=$B73,ROW(INDIRECT(\"1:\"&ROWS(points)))),ROWS($1:$25))),\"\")","v":""},{"$f":"IF(ROWS($1:$26)<=COUNTIF(joueurs,$B73),INDEX(points,SMALL(IF(joueurs=$B73,ROW(INDIRECT(\"1:\"&ROWS(points)))),ROWS($1:$26))),\"\")","v":""},{"$f":"IF(ROWS($1:$27)<=COUNTIF(joueurs,$B73),INDEX(points,SMALL(IF(joueurs=$B73,ROW(INDIRECT(\"1:\"&ROWS(points)))),ROWS($1:$27))),\"\")","v":""},{"$f":"IF(ROWS($1:$28)<=COUNTIF(joueurs,$B73),INDEX(points,SMALL(IF(joueurs=$B73,ROW(INDIRECT(\"1:\"&ROWS(points)))),ROWS($1:$28))),\"\")","v":""},{"$f":"IF(ROWS($1:$29)<=COUNTIF(joueurs,$B73),INDEX(points,SMALL(IF(joueurs=$B73,ROW(INDIRECT(\"1:\"&ROWS(points)))),ROWS($1:$29))),\"\")","v":""},{"$f":"IF(ROWS($1:$30)<=COUNTIF(joueurs,$B73),INDEX(points,SMALL(IF(joueurs=$B73,ROW(INDIRECT(\"1:\"&ROWS(points)))),ROWS($1:$30))),\"\")","v":""},{"$f":"IF(ROWS($1:$21)<=COUNTIF(joueurs,$B73),INDEX(victoires,SMALL(IF(joueurs=$B73,ROW(INDIRECT(\"1:\"&ROWS(victoires)))),ROWS($1:$21))),\"\")","v":""},{"$f":"IF(ROWS($1:$22)<=COUNTIF(joueurs,$B73),INDEX(victoires,SMALL(IF(joueurs=$B73,ROW(INDIRECT(\"1:\"&ROWS(victoires)))),ROWS($1:$22))),\"\")","v":""},{"$f":"IF(ROWS($1:$23)<=COUNTIF(joueurs,$B73),INDEX(victoires,SMALL(IF(joueurs=$B73,ROW(INDIRECT(\"1:\"&ROWS(victoires)))),ROWS($1:$23))),\"\")","v":""},{"$f":"IF(ROWS($1:$24)<=COUNTIF(joueurs,$B73),INDEX(victoires,SMALL(IF(joueurs=$B73,ROW(INDIRECT(\"1:\"&ROWS(victoires)))),ROWS($1:$24))),\"\")","v":""},{"$f":"IF(ROWS($1:$25)<=COUNTIF(joueurs,$B73),INDEX(victoires,SMALL(IF(joueurs=$B73,ROW(INDIRECT(\"1:\"&ROWS(victoires)))),ROWS($1:$25))),\"\")","v":""},{"$f":"IF(ROWS($1:$26)<=COUNTIF(joueurs,$B73),INDEX(victoires,SMALL(IF(joueurs=$B73,ROW(INDIRECT(\"1:\"&ROWS(victoires)))),ROWS($1:$26))),\"\")","v":""},{"$f":"IF(ROWS($1:$27)<=COUNTIF(joueurs,$B73),INDEX(victoires,SMALL(IF(joueurs=$B73,ROW(INDIRECT(\"1:\"&ROWS(victoires)))),ROWS($1:$27))),\"\")","v":""},{"$f":"IF(ROWS($1:$28)<=COUNTIF(joueurs,$B73),INDEX(victoires,SMALL(IF(joueurs=$B73,ROW(INDIRECT(\"1:\"&ROWS(victoires)))),ROWS($1:$28))),\"\")","v":""},{"$f":"IF(ROWS($1:$29)<=COUNTIF(joueurs,$B73),INDEX(victoires,SMALL(IF(joueurs=$B73,ROW(INDIRECT(\"1:\"&ROWS(victoires)))),ROWS($1:$29))),\"\")","v":""},{"$f":"IF(ROWS($1:$30)<=COUNTIF(joueurs,$B73),INDEX(victoires,SMALL(IF(joueurs=$B73,ROW(INDIRECT(\"1:\"&ROWS(victoires)))),ROWS($1:$30))),\"\")","v":""}]
[null,null,null,{"$f":"IF(ROWS($1:$31)<=COUNTIF(joueurs,$B73),INDEX(fautes,SMALL(IF(joueurs=$B73,ROW(INDIRECT(\"1:\"&ROWS(fautes)))),ROWS($1:$31))),\"\")","v":""},{"$f":"IF(ROWS($1:$32)<=COUNTIF(joueurs,$B73),INDEX(fautes,SMALL(IF(joueurs=$B73,ROW(INDIRECT(\"1:\"&ROWS(fautes)))),ROWS($1:$32))),\"\")","v":""},{"$f":"IF(ROWS($1:$33)<=COUNTIF(joueurs,$B73),INDEX(fautes,SMALL(IF(joueurs=$B73,ROW(INDIRECT(\"1:\"&ROWS(fautes)))),ROWS($1:$33))),\"\")","v":""},{"$f":"IF(ROWS($1:$34)<=COUNTIF(joueurs,$B73),INDEX(fautes,SMALL(IF(joueurs=$B73,ROW(INDIRECT(\"1:\"&ROWS(fautes)))),ROWS($1:$34))),\"\")","v":""},{"$f":"IF(ROWS($1:$35)<=COUNTIF(joueurs,$B73),INDEX(fautes,SMALL(IF(joueurs=$B73,ROW(INDIRECT(\"1:\"&ROWS(fautes)))),ROWS($1:$35))),\"\")","v":""},{"$f":"IF(ROWS($1:$36)<=COUNTIF(joueurs,$B73),INDEX(fautes,SMALL(IF(joueurs=$B73,ROW(INDIRECT(\"1:\"&ROWS(fautes)))),ROWS($1:$36))),\"\")","v":""},{"$f":"IF(ROWS($1:$37)<=COUNTIF(joueurs,$B73),INDEX(fautes,SMALL(IF(joueurs=$B73,ROW(INDIRECT(\"1:\"&ROWS(fautes)))),ROWS($1:$37))),\"\")","v":""},{"$f":"IF(ROWS($1:$38)<=COUNTIF(joueurs,$B73),INDEX(fautes,SMALL(IF(joueurs=$B73,ROW(INDIRECT(\"1:\"&ROWS(fautes)))),ROWS($1:$38))),\"\")","v":""},{"$f":"IF(ROWS($1:$39)<=COUNTIF(joueurs,$B73),INDEX(fautes,SMALL(IF(joueurs=$B73,ROW(INDIRECT(\"1:\"&ROWS(fautes)))),ROWS($1:$39))),\"\")","v":""},{"$f":"IF(ROWS($1:$40)<=COUNTIF(joueurs,$B73),INDEX(fautes,SMALL(IF(joueurs=$B73,ROW(INDIRECT(\"1:\"&ROWS(fautes)))),ROWS($1:$40))),\"\")","v":""},{"$f":"IF(ROWS($1:$31)<=COUNTIF(joueurs,$B73),INDEX(ballonperdus,SMALL(IF(joueurs=$B73,ROW(INDIRECT(\"1:\"&ROWS(ballonperdus)))),ROWS($1:$31))),\"\")","v":""},{"$f":"IF(ROWS($1:$32)<=COUNTIF(joueurs,$B73),INDEX(ballonperdus,SMALL(IF(joueurs=$B73,ROW(INDIRECT(\"1:\"&ROWS(ballonperdus)))),ROWS($1:$32))),\"\")","v":""},{"$f":"IF(ROWS($1:$33)<=COUNTIF(joueurs,$B73),INDEX(ballonperdus,SMALL(IF(joueurs=$B73,ROW(INDIRECT(\"1:\"&ROWS(ballonperdus)))),ROWS($1:$33))),\"\")","v":""},{"$f":"IF(ROWS($1:$34)<=COUNTIF(joueurs,$B73),INDEX(ballonperdus,SMALL(IF(joueurs=$B73,ROW(INDIRECT(\"1:\"&ROWS(ballonperdus)))),ROWS($1:$34))),\"\")","v":""},{"$f":"IF(ROWS($1:$35)<=COUNTIF(joueurs,$B73),INDEX(ballonperdus,SMALL(IF(joueurs=$B73,ROW(INDIRECT(\"1:\"&ROWS(ballonperdus)))),ROWS($1:$35))),\"\")","v":""},{"$f":"IF(ROWS($1:$36)<=COUNTIF(joueurs,$B73),INDEX(ballonperdus,SMALL(IF(joueurs=$B73,ROW(INDIRECT(\"1:\"&ROWS(ballonperdus)))),ROWS($1:$36))),\"\")","v":""},{"$f":"IF(ROWS($1:$37)<=COUNTIF(joueurs,$B73),INDEX(ballonperdus,SMALL(IF(joueurs=$B73,ROW(INDIRECT(\"1:\"&ROWS(ballonperdus)))),ROWS($1:$37))),\"\")","v":""},{"$f":"IF(ROWS($1:$38)<=COUNTIF(joueurs,$B73),INDEX(ballonperdus,SMALL(IF(joueurs=$B73,ROW(INDIRECT(\"1:\"&ROWS(ballonperdus)))),ROWS($1:$38))),\"\")","v":""},{"$f":"IF(ROWS($1:$39)<=COUNTIF(joueurs,$B73),INDEX(ballonperdus,SMALL(IF(joueurs=$B73,ROW(INDIRECT(\"1:\"&ROWS(ballonperdus)))),ROWS($1:$39))),\"\")","v":""},{"$f":"IF(ROWS($1:$40)<=COUNTIF(joueurs,$B73),INDEX(ballonperdus,SMALL(IF(joueurs=$B73,ROW(INDIRECT(\"1:\"&ROWS(ballonperdus)))),ROWS($1:$40))),\"\")","v":""},{"$f":"IF(ROWS($1:$31)<=COUNTIF(joueurs,$B73),INDEX(interceptions,SMALL(IF(joueurs=$B73,ROW(INDIRECT(\"1:\"&ROWS(interceptions)))),ROWS($1:$31))),\"\")","v":""},{"$f":"IF(ROWS($1:$32)<=COUNTIF(joueurs,$B73),INDEX(interceptions,SMALL(IF(joueurs=$B73,ROW(INDIRECT(\"1:\"&ROWS(interceptions)))),ROWS($1:$32))),\"\")","v":""},{"$f":"IF(ROWS($1:$33)<=COUNTIF(joueurs,$B73),INDEX(interceptions,SMALL(IF(joueurs=$B73,ROW(INDIRECT(\"1:\"&ROWS(interceptions)))),ROWS($1:$33))),\"\")","v":""},{"$f":"IF(ROWS($1:$34)<=COUNTIF(joueurs,$B73),INDEX(interceptions,SMALL(IF(joueurs=$B73,ROW(INDIRECT(\"1:\"&ROWS(interceptions)))),ROWS($1:$34))),\"\")","v":""},{"$f":"IF(ROWS($1:$35)<=COUNTIF(joueurs,$B73),INDEX(interceptions,SMALL(IF(joueurs=$B73,ROW(INDIRECT(\"1:\"&ROWS(interceptions)))),ROWS($1:$35))),\"\")","v":""},{"$f":"IF(ROWS($1:$36)<=COUNTIF(joueurs,$B73),INDEX(interceptions,SMALL(IF(joueurs=$B73,ROW(INDIRECT(\"1:\"&ROWS(interceptions)))),ROWS($1:$36))),\"\")","v":""},{"$f":"IF(ROWS($1:$37)<=COUNTIF(joueurs,$B73),INDEX(interceptions,SMALL(IF(joueurs=$B73,ROW(INDIRECT(\"1:\"&ROWS(interceptions)))),ROWS($1:$37))),\"\")","v":""},{"$f":"IF(ROWS($1:$38)<=COUNTIF(joueurs,$B73),INDEX(interceptions,SMALL(IF(joueurs=$B73,ROW(INDIRECT(\"1:\"&ROWS(interceptions)))),ROWS($1:$38))),\"\")","v":""},{"$f":"IF(ROWS($1:$39)<=COUNTIF(joueurs,$B73),INDEX(interceptions,SMALL(IF(joueurs=$B73,ROW(INDIRECT(\"1:\"&ROWS(interceptions)))),ROWS($1:$39))),\"\")","v":""},{"$f":"IF(ROWS($1:$40)<=COUNTIF(joueurs,$B73),INDEX(interceptions,SMALL(IF(joueurs=$B73,ROW(INDIRECT(\"1:\"&ROWS(interceptions)))),ROWS($1:$40))),\"\")","v":""},{"$f":"IF(ROWS($1:$31)<=COUNTIF(joueurs,$B73),INDEX(ballonrecuperes,SMALL(IF(joueurs=$B73,ROW(INDIRECT(\"1:\"&ROWS(ballonrecuperes)))),ROWS($1:$31))),\"\")","v":""},{"$f":"IF(ROWS($1:$32)<=COUNTIF(joueurs,$B73),INDEX(ballonrecuperes,SMALL(IF(joueurs=$B73,ROW(INDIRECT(\"1:\"&ROWS(ballonrecuperes)))),ROWS($1:$32))),\"\")","v":""},{"$f":"IF(ROWS($1:$33)<=COUNTIF(joueurs,$B73),INDEX(ballonrecuperes,SMALL(IF(joueurs=$B73,ROW(INDIRECT(\"1:\"&ROWS(ballonrecuperes)))),ROWS($1:$33))),\"\")","v":""},{"$f":"IF(ROWS($1:$34)<=COUNTIF(joueurs,$B73),INDEX(ballonrecuperes,SMALL(IF(joueurs=$B73,ROW(INDIRECT(\"1:\"&ROWS(ballonrecuperes)))),ROWS($1:$34))),\"\")","v":""},{"$f":"IF(ROWS($1:$35)<=COUNTIF(joueurs,$B73),INDEX(ballonrecuperes,SMALL(IF(joueurs=$B73,ROW(INDIRECT(\"1:\"&ROWS(ballonrecuperes)))),ROWS($1:$35))),\"\")","v":""},{"$f":"IF(ROWS($1:$36)<=COUNTIF(joueurs,$B73),INDEX(ballonrecuperes,SMALL(IF(joueurs=$B73,ROW(INDIRECT(\"1:\"&ROWS(ballonrecuperes)))),ROWS($1:$36))),\"\")","v":""},{"$f":"IF(ROWS($1:$37)<=COUNTIF(joueurs,$B73),INDEX(ballonrecuperes,SMALL(IF(joueurs=$B73,ROW(INDIRECT(\"1:\"&ROWS(ballonrecuperes)))),ROWS($1:$37))),\"\")","v":""},{"$f":"IF(ROWS($1:$38)<=COUNTIF(joueurs,$B73),INDEX(ballonrecuperes,SMALL(IF(joueurs=$B73,ROW(INDIRECT(\"1:\"&ROWS(ballonrecuperes)))),ROWS($1:$38))),\"\")","v":""},{"$f":"IF(ROWS($1:$39)<=COUNTIF(joueurs,$B73),INDEX(ballonrecuperes,SMALL(IF(joueurs=$B73,ROW(INDIRECT(\"1:\"&ROWS(ballonrecuperes)))),ROWS($1:$39))),\"\")","v":""},{"$f":"IF(ROWS($1:$40)<=COUNTIF(joueurs,$B73),INDEX(ballonrecuperes,SMALL(IF(joueurs=$B73,ROW(INDIRECT(\"1:\"&ROWS(ballonrecuperes)))),ROWS($1:$40))),\"\")","v":""},{"$f":"IF(ROWS($1:$31)<=COUNTIF(joueurs,$B73),INDEX(tirs,SMALL(IF(joueurs=$B73,ROW(INDIRECT(\"1:\"&ROWS(tirs)))),ROWS($1:$31))),\"\")","v":""},{"$f":"IF(ROWS($1:$32)<=COUNTIF(joueurs,$B73),INDEX(tirs,SMALL(IF(joueurs=$B73,ROW(INDIRECT(\"1:\"&ROWS(tirs)))),ROWS($1:$32))),\"\")","v":""},{"$f":"IF(ROWS($1:$33)<=COUNTIF(joueurs,$B73),INDEX(tirs,SMALL(IF(joueurs=$B73,ROW(INDIRECT(\"1:\"&ROWS(tirs)))),ROWS($1:$33))),\"\")","v":""},{"$f":"IF(ROWS($1:$34)<=COUNTIF(joueurs,$B73),INDEX(tirs,SMALL(IF(joueurs=$B73,ROW(INDIRECT(\"1:\"&ROWS(tirs)))),ROWS($1:$34))),\"\")","v":""},{"$f":"IF(ROWS($1:$35)<=COUNTIF(joueurs,$B73),INDEX(tirs,SMALL(IF(joueurs=$B73,ROW(INDIRECT(\"1:\"&ROWS(tirs)))),ROWS($1:$35))),\"\")","v":""},{"$f":"IF(ROWS($1:$36)<=COUNTIF(joueurs,$B73),INDEX(tirs,SMALL(IF(joueurs=$B73,ROW(INDIRECT(\"1:\"&ROWS(tirs)))),ROWS($1:$36))),\"\")","v":""},{"$f":"IF(ROWS($1:$37)<=COUNTIF(joueurs,$B73),INDEX(tirs,SMALL(IF(joueurs=$B73,ROW(INDIRECT(\"1:\"&ROWS(tirs)))),ROWS($1:$37))),\"\")","v":""},{"$f":"IF(ROWS($1:$38)<=COUNTIF(joueurs,$B73),INDEX(tirs,SMALL(IF(joueurs=$B73,ROW(INDIRECT(\"1:\"&ROWS(tirs)))),ROWS($1:$38))),\"\")","v":""},{"$f":"IF(ROWS($1:$39)<=COUNTIF(joueurs,$B73),INDEX(tirs,SMALL(IF(joueurs=$B73,ROW(INDIRECT(\"1:\"&ROWS(tirs)))),ROWS($1:$39))),\"\")","v":""},{"$f":"IF(ROWS($1:$40)<=COUNTIF(joueurs,$B73),INDEX(tirs,SMALL(IF(joueurs=$B73,ROW(INDIRECT(\"1:\"&ROWS(tirs)))),ROWS($1:$40))),\"\")","v":""},{"$f":"IF(ROWS($1:$31)<=COUNTIF(joueurs,$B73),INDEX(bontirs,SMALL(IF(joueurs=$B73,ROW(INDIRECT(\"1:\"&ROWS(bontirs)))),ROWS($1:$31))),\"\")","v":""},{"$f":"IF(ROWS($1:$32)<=COUNTIF(joueurs,$B73),INDEX(bontirs,SMALL(IF(joueurs=$B73,ROW(INDIRECT(\"1:\"&ROWS(bontirs)))),ROWS($1:$32))),\"\")","v":""},{"$f":"IF(ROWS($1:$33)<=COUNTIF(joueurs,$B73),INDEX(bontirs,SMALL(IF(joueurs=$B73,ROW(INDIRECT(\"1:\"&ROWS(bontirs)))),ROWS($1:$33))),\"\")","v":""},{"$f":"IF(ROWS($1:$34)<=COUNTIF(joueurs,$B73),INDEX(bontirs,SMALL(IF(joueurs=$B73,ROW(INDIRECT(\"1:\"&ROWS(bontirs)))),ROWS($1:$34))),\"\")","v":""},{"$f":"IF(ROWS($1:$35)<=COUNTIF(joueurs,$B73),INDEX(bontirs,SMALL(IF(joueurs=$B73,ROW(INDIRECT(\"1:\"&ROWS(bontirs)))),ROWS($1:$35))),\"\")","v":""},{"$f":"IF(ROWS($1:$36)<=COUNTIF(joueurs,$B73),INDEX(bontirs,SMALL(IF(joueurs=$B73,ROW(INDIRECT(\"1:\"&ROWS(bontirs)))),ROWS($1:$36))),\"\")","v":""},{"$f":"IF(ROWS($1:$37)<=COUNTIF(joueurs,$B73),INDEX(bontirs,SMALL(IF(joueurs=$B73,ROW(INDIRECT(\"1:\"&ROWS(bontirs)))),ROWS($1:$37))),\"\")","v":""},{"$f":"IF(ROWS($1:$38)<=COUNTIF(joueurs,$B73),INDEX(bontirs,SMALL(IF(joueurs=$B73,ROW(INDIRECT(\"1:\"&ROWS(bontirs)))),ROWS($1:$38))),\"\")","v":""},{"$f":"IF(ROWS($1:$39)<=COUNTIF(joueurs,$B73),INDEX(bontirs,SMALL(IF(joueurs=$B73,ROW(INDIRECT(\"1:\"&ROWS(bontirs)))),ROWS($1:$39))),\"\")","v":""},{"$f":"IF(ROWS($1:$40)<=COUNTIF(joueurs,$B73),INDEX(bontirs,SMALL(IF(joueurs=$B73,ROW(INDIRECT(\"1:\"&ROWS(bontirs)))),ROWS($1:$40))),\"\")","v":""},{"$f":"IF(ROWS($1:$31)<=COUNTIF(joueurs,$B73),INDEX(points,SMALL(IF(joueurs=$B73,ROW(INDIRECT(\"1:\"&ROWS(points)))),ROWS($1:$31))),\"\")","v":""},{"$f":"IF(ROWS($1:$32)<=COUNTIF(joueurs,$B73),INDEX(points,SMALL(IF(joueurs=$B73,ROW(INDIRECT(\"1:\"&ROWS(points)))),ROWS($1:$32))),\"\")","v":""},{"$f":"IF(ROWS($1:$33)<=COUNTIF(joueurs,$B73),INDEX(points,SMALL(IF(joueurs=$B73,ROW(INDIRECT(\"1:\"&ROWS(points)))),ROWS($1:$33))),\"\")","v":""},{"$f":"IF(ROWS($1:$34)<=COUNTIF(joueurs,$B73),INDEX(points,SMALL(IF(joueurs=$B73,ROW(INDIRECT(\"1:\"&ROWS(points)))),ROWS($1:$34))),\"\")","v":""},{"$f":"IF(ROWS($1:$35)<=COUNTIF(joueurs,$B73),INDEX(points,SMALL(IF(joueurs=$B73,ROW(INDIRECT(\"1:\"&ROWS(points)))),ROWS($1:$35))),\"\")","v":""},{"$f":"IF(ROWS($1:$36)<=COUNTIF(joueurs,$B73),INDEX(points,SMALL(IF(joueurs=$B73,ROW(INDIRECT(\"1:\"&ROWS(points)))),ROWS($1:$36))),\"\")","v":""},{"$f":"IF(ROWS($1:$37)<=COUNTIF(joueurs,$B73),INDEX(points,SMALL(IF(joueurs=$B73,ROW(INDIRECT(\"1:\"&ROWS(points)))),ROWS($1:$37))),\"\")","v":""},{"$f":"IF(ROWS($1:$38)<=COUNTIF(joueurs,$B73),INDEX(points,SMALL(IF(joueurs=$B73,ROW(INDIRECT(\"1:\"&ROWS(points)))),ROWS($1:$38))),\"\")","v":""},{"$f":"IF(ROWS($1:$39)<=COUNTIF(joueurs,$B73),INDEX(points,SMALL(IF(joueurs=$B73,ROW(INDIRECT(\"1:\"&ROWS(points)))),ROWS($1:$39))),\"\")","v":""},{"$f":"IF(ROWS($1:$40)<=COUNTIF(joueurs,$B73),INDEX(points,SMALL(IF(joueurs=$B73,ROW(INDIRECT(\"1:\"&ROWS(points)))),ROWS($1:$40))),\"\")","v":""},{"$f":"IF(ROWS($1:$31)<=COUNTIF(joueurs,$B73),INDEX(victoires,SMALL(IF(joueurs=$B73,ROW(INDIRECT(\"1:\"&ROWS(victoires)))),ROWS($1:$31))),\"\")","v":""},{"$f":"IF(ROWS($1:$32)<=COUNTIF(joueurs,$B73),INDEX(victoires,SMALL(IF(joueurs=$B73,ROW(INDIRECT(\"1:\"&ROWS(victoires)))),ROWS($1:$32))),\"\")","v":""},{"$f":"IF(ROWS($1:$33)<=COUNTIF(joueurs,$B73),INDEX(victoires,SMALL(IF(joueurs=$B73,ROW(INDIRECT(\"1:\"&ROWS(victoires)))),ROWS($1:$33))),\"\")","v":""},{"$f":"IF(ROWS($1:$34)<=COUNTIF(joueurs,$B73),INDEX(victoires,SMALL(IF(joueurs=$B73,ROW(INDIRECT(\"1:\"&ROWS(victoires)))),ROWS($1:$34))),\"\")","v":""},{"$f":"IF(ROWS($1:$35)<=COUNTIF(joueurs,$B73),INDEX(victoires,SMALL(IF(joueurs=$B73,ROW(INDIRECT(\"1:\"&ROWS(victoires)))),ROWS($1:$35))),\"\")","v":""},{"$f":"IF(ROWS($1:$36)<=COUNTIF(joueurs,$B73),INDEX(victoires,SMALL(IF(joueurs=$B73,ROW(INDIRECT(\"1:\"&ROWS(victoires)))),ROWS($1:$36))),\"\")","v":""},{"$f":"IF(ROWS($1:$37)<=COUNTIF(joueurs,$B73),INDEX(victoires,SMALL(IF(joueurs=$B73,ROW(INDIRECT(\"1:\"&ROWS(victoires)))),ROWS($1:$37))),\"\")","v":""},{"$f":"IF(ROWS($1:$38)<=COUNTIF(joueurs,$B73),INDEX(victoires,SMALL(IF(joueurs=$B73,ROW(INDIRECT(\"1:\"&ROWS(victoires)))),ROWS($1:$38))),\"\")","v":""},{"$f":"IF(ROWS($1:$39)<=COUNTIF(joueurs,$B73),INDEX(victoires,SMALL(IF(joueurs=$B73,ROW(INDIRECT(\"1:\"&ROWS(victoires)))),ROWS($1:$39))),\"\")","v":""},{"$f":"IF(ROWS($1:$40)<=COUNTIF(joueurs,$B73),INDEX(victoires,SMALL(IF(joueurs=$B73,ROW(INDIRECT(\"1:\"&ROWS(victoires)))),ROWS($1:$40))),\"\")","v":""}]
[19,{"$f":"INDEX(eleves,MATCH(A77,numero,0),MATCH($B$2,classes,0))","v":0},null,{"$f":"IF(ROWS($1:$1)<=COUNTIF(joueurs,$B77),INDEX(fautes,SMALL(IF(joueurs=$B77,ROW(INDIRECT(\"1:\"&ROWS(fautes)))),ROWS($1:$1))),\"\")","v":0},{"$f":"IF(ROWS($1:$2)<=COUNTIF(joueurs,$B77),INDEX(fautes,SMALL(IF(joueurs=$B77,ROW(INDIRECT(\"1:\"&ROWS(fautes)))),ROWS($1:$2))),\"\")","v":0},{"$f":"IF(ROWS($1:$3)<=COUNTIF(joueurs,$B77),INDEX(fautes,SMALL(IF(joueurs=$B77,ROW(INDIRECT(\"1:\"&ROWS(fautes)))),ROWS($1:$3))),\"\")","v":0},{"$f":"IF(ROWS($1:$4)<=COUNTIF(joueurs,$B77),INDEX(fautes,SMALL(IF(joueurs=$B77,ROW(INDIRECT(\"1:\"&ROWS(fautes)))),ROWS($1:$4))),\"\")","v":0},{"$f":"IF(ROWS($1:$5)<=COUNTIF(joueurs,$B77),INDEX(fautes,SMALL(IF(joueurs=$B77,ROW(INDIRECT(\"1:\"&ROWS(fautes)))),ROWS($1:$5))),\"\")","v":0},{"$f":"IF(ROWS($1:$6)<=COUNTIF(joueurs,$B77),INDEX(fautes,SMALL(IF(joueurs=$B77,ROW(INDIRECT(\"1:\"&ROWS(fautes)))),ROWS($1:$6))),\"\")","v":0},{"$f":"IF(ROWS($1:$7)<=COUNTIF(joueurs,$B77),INDEX(fautes,SMALL(IF(joueurs=$B77,ROW(INDIRECT(\"1:\"&ROWS(fautes)))),ROWS($1:$7))),\"\")","v":0},{"$f":"IF(ROWS($1:$8)<=COUNTIF(joueurs,$B77),INDEX(fautes,SMALL(IF(joueurs=$B77,ROW(INDIRECT(\"1:\"&ROWS(fautes)))),ROWS($1:$8))),\"\")","v":0},{"$f":"IF(ROWS($1:$9)<=COUNTIF(joueurs,$B77),INDEX(fautes,SMALL(IF(joueurs=$B77,ROW(INDIRECT(\"1:\"&ROWS(fautes)))),ROWS($1:$9))),\"\")","v":0},{"$f":"IF(ROWS($1:$10)<=COUNTIF(joueurs,$B77),INDEX(fautes,SMALL(IF(joueurs=$B77,ROW(INDIRECT(\"1:\"&ROWS(fautes)))),ROWS($1:$10))),\"\")","v":0},{"$f":"IF(ROWS($1:$1)<=COUNTIF(joueurs,$B77),INDEX(ballonperdus,SMALL(IF(joueurs=$B77,ROW(INDIRECT(\"1:\"&ROWS(ballonperdus)))),ROWS($1:$1))),\"\")","v":0},{"$f":"IF(ROWS($1:$2)<=COUNTIF(joueurs,$B77),INDEX(ballonperdus,SMALL(IF(joueurs=$B77,ROW(INDIRECT(\"1:\"&ROWS(ballonperdus)))),ROWS($1:$2))),\"\")","v":0},{"$f":"IF(ROWS($1:$3)<=COUNTIF(joueurs,$B77),INDEX(ballonperdus,SMALL(IF(joueurs=$B77,ROW(INDIRECT(\"1:\"&ROWS(ballonperdus)))),ROWS($1:$3))),\"\")","v":0},{"$f":"IF(ROWS($1:$4)<=COUNTIF(joueurs,$B77),INDEX(ballonperdus,SMALL(IF(joueurs=$B77,ROW(INDIRECT(\"1:\"&ROWS(ballonperdus)))),ROWS($1:$4))),\"\")","v":0},{"$f":"IF(ROWS($1:$5)<=COUNTIF(joueurs,$B77),INDEX(ballonperdus,SMALL(IF(joueurs=$B77,ROW(INDIRECT(\"1:\"&ROWS(ballonperdus)))),ROWS($1:$5))),\"\")","v":0},{"$f":"IF(ROWS($1:$6)<=COUNTIF(joueurs,$B77),INDEX(ballonperdus,SMALL(IF(joueurs=$B77,ROW(INDIRECT(\"1:\"&ROWS(ballonperdus)))),ROWS($1:$6))),\"\")","v":0},{"$f":"IF(ROWS($1:$7)<=COUNTIF(joueurs,$B77),INDEX(ballonperdus,SMALL(IF(joueurs=$B77,ROW(INDIRECT(\"1:\"&ROWS(ballonperdus)))),ROWS($1:$7))),\"\")","v":0},{"$f":"IF(ROWS($1:$8)<=COUNTIF(joueurs,$B77),INDEX(ballonperdus,SMALL(IF(joueurs=$B77,ROW(INDIRECT(\"1:\"&ROWS(ballonperdus)))),ROWS($1:$8))),\"\")","v":0},{"$f":"IF(ROWS($1:$9)<=COUNTIF(joueurs,$B77),INDEX(ballonperdus,SMALL(IF(joueurs=$B77,ROW(INDIRECT(\"1:\"&ROWS(ballonperdus)))),ROWS($1:$9))),\"\")","v":0},{"$f":"IF(ROWS($1:$10)<=COUNTIF(joueurs,$B77),INDEX(ballonperdus,SMALL(IF(joueurs=$B77,ROW(INDIRECT(\"1:\"&ROWS(ballonperdus)))),ROWS($1:$10))),\"\")","v":0},{"$f":"IF(ROWS($1:$1)<=COUNTIF(joueurs,$B77),INDEX(interceptions,SMALL(IF(joueurs=$B77,ROW(INDIRECT(\"1:\"&ROWS(interceptions)))),ROWS($1:$1))),\"\")","v":0},{"$f":"IF(ROWS($1:$2)<=COUNTIF(joueurs,$B77),INDEX(interceptions,SMALL(IF(joueurs=$B77,ROW(INDIRECT(\"1:\"&ROWS(interceptions)))),ROWS($1:$2))),\"\")","v":0},{"$f":"IF(ROWS($1:$3)<=COUNTIF(joueurs,$B77),INDEX(interceptions,SMALL(IF(joueurs=$B77,ROW(INDIRECT(\"1:\"&ROWS(interceptions)))),ROWS($1:$3))),\"\")","v":0},{"$f":"IF(ROWS($1:$4)<=COUNTIF(joueurs,$B77),INDEX(interceptions,SMALL(IF(joueurs=$B77,ROW(INDIRECT(\"1:\"&ROWS(interceptions)))),ROWS($1:$4))),\"\")","v":0},{"$f":"IF(ROWS($1:$5)<=COUNTIF(joueurs,$B77),INDEX(interceptions,SMALL(IF(joueurs=$B77,ROW(INDIRECT(\"1:\"&ROWS(interceptions)))),ROWS($1:$5))),\"\")","v":0},{"$f":"IF(ROWS($1:$6)<=COUNTIF(joueurs,$B77),INDEX(interceptions,SMALL(IF(joueurs=$B77,ROW(INDIRECT(\"1:\"&ROWS(interceptions)))),ROWS($1:$6))),\"\")","v":0},{"$f":"IF(ROWS($1:$7)<=COUNTIF(joueurs,$B77),INDEX(interceptions,SMALL(IF(joueurs=$B77,ROW(INDIRECT(\"1:\"&ROWS(interceptions)))),ROWS($1:$7))),\"\")","v":0},{"$f":"IF(ROWS($1:$8)<=COUNTIF(joueurs,$B77),INDEX(interceptions,SMALL(IF(joueurs=$B77,ROW(INDIRECT(\"1:\"&ROWS(interceptions)))),ROWS($1:$8))),\"\")","v":0},{"$f":"IF(ROWS($1:$9)<=COUNTIF(joueurs,$B77),INDEX(interceptions,SMALL(IF(joueurs=$B77,ROW(INDIRECT(\"1:\"&ROWS(interceptions)))),ROWS($1:$9))),\"\")","v":0},{"$f":"IF(ROWS($1:$10)<=COUNTIF(joueurs,$B77),INDEX(interceptions,SMALL(IF(joueurs=$B77,ROW(INDIRECT(\"1:\"&ROWS(interceptions)))),ROWS($1:$10))),\"\")","v":0},{"$f":"IF(ROWS($1:$1)<=COUNTIF(joueurs,$B77),INDEX(ballonrecuperes,SMALL(IF(joueurs=$B77,ROW(INDIRECT(\"1:\"&ROWS(ballonrecuperes)))),ROWS($1:$1))),\"\")","v":0},{"$f":"IF(ROWS($1:$2)<=COUNTIF(joueurs,$B77),INDEX(ballonrecuperes,SMALL(IF(joueurs=$B77,ROW(INDIRECT(\"1:\"&ROWS(ballonrecuperes)))),ROWS($1:$2))),\"\")","v":0},{"$f":"IF(ROWS($1:$3)<=COUNTIF(joueurs,$B77),INDEX(ballonrecuperes,SMALL(IF(joueurs=$B77,ROW(INDIRECT(\"1:\"&ROWS(ballonrecuperes)))),ROWS($1:$3))),\"\")","v":0},{"$f":"IF(ROWS($1:$4)<=COUNTIF(joueurs,$B77),INDEX(ballonrecuperes,SMALL(IF(joueurs=$B77,ROW(INDIRECT(\"1:\"&ROWS(ballonrecuperes)))),ROWS($1:$4))),\"\")","v":0},{"$f":"IF(ROWS($1:$5)<=COUNTIF(joueurs,$B77),INDEX(ballonrecuperes,SMALL(IF(joueurs=$B77,ROW(INDIRECT(\"1:\"&ROWS(ballonrecuperes)))),ROWS($1:$5))),\"\")","v":0},{"$f":"IF(ROWS($1:$6)<=COUNTIF(joueurs,$B77),INDEX(ballonrecuperes,SMALL(IF(joueurs=$B77,ROW(INDIRECT(\"1:\"&ROWS(ballonrecuperes)))),ROWS($1:$6))),\"\")","v":0},{"$f":"IF(ROWS($1:$7)<=COUNTIF(joueurs,$B77),INDEX(ballonrecuperes,SMALL(IF(joueurs=$B77,ROW(INDIRECT(\"1:\"&ROWS(ballonrecuperes)))),ROWS($1:$7))),\"\")","v":0},{"$f":"IF(ROWS($1:$8)<=COUNTIF(joueurs,$B77),INDEX(ballonrecuperes,SMALL(IF(joueurs=$B77,ROW(INDIRECT(\"1:\"&ROWS(ballonrecuperes)))),ROWS($1:$8))),\"\")","v":0},{"$f":"IF(ROWS($1:$9)<=COUNTIF(joueurs,$B77),INDEX(ballonrecuperes,SMALL(IF(joueurs=$B77,ROW(INDIRECT(\"1:\"&ROWS(ballonrecuperes)))),ROWS($1:$9))),\"\")","v":0},{"$f":"IF(ROWS($1:$10)<=COUNTIF(joueurs,$B77),INDEX(ballonrecuperes,SMALL(IF(joueurs=$B77,ROW(INDIRECT(\"1:\"&ROWS(ballonrecuperes)))),ROWS($1:$10))),\"\")","v":0},{"$f":"IF(ROWS($1:$1)<=COUNTIF(joueurs,$B77),INDEX(tirs,SMALL(IF(joueurs=$B77,ROW(INDIRECT(\"1:\"&ROWS(tirs)))),ROWS($1:$1))),\"\")","v":0},{"$f":"IF(ROWS($1:$2)<=COUNTIF(joueurs,$B77),INDEX(tirs,SMALL(IF(joueurs=$B77,ROW(INDIRECT(\"1:\"&ROWS(tirs)))),ROWS($1:$2))),\"\")","v":0},{"$f":"IF(ROWS($1:$3)<=COUNTIF(joueurs,$B77),INDEX(tirs,SMALL(IF(joueurs=$B77,ROW(INDIRECT(\"1:\"&ROWS(tirs)))),ROWS($1:$3))),\"\")","v":0},{"$f":"IF(ROWS($1:$4)<=COUNTIF(joueurs,$B77),INDEX(tirs,SMALL(IF(joueurs=$B77,ROW(INDIRECT(\"1:\"&ROWS(tirs)))),ROWS($1:$4))),\"\")","v":0},{"$f":"IF(ROWS($1:$5)<=COUNTIF(joueurs,$B77),INDEX(tirs,SMALL(IF(joueurs=$B77,ROW(INDIRECT(\"1:\"&ROWS(tirs)))),ROWS($1:$5))),\"\")","v":0},{"$f":"IF(ROWS($1:$6)<=COUNTIF(joueurs,$B77),INDEX(tirs,SMALL(IF(joueurs=$B77,ROW(INDIRECT(\"1:\"&ROWS(tirs)))),ROWS($1:$6))),\"\")","v":0},{"$f":"IF(ROWS($1:$7)<=COUNTIF(joueurs,$B77),INDEX(tirs,SMALL(IF(joueurs=$B77,ROW(INDIRECT(\"1:\"&ROWS(tirs)))),ROWS($1:$7))),\"\")","v":0},{"$f":"IF(ROWS($1:$8)<=COUNTIF(joueurs,$B77),INDEX(tirs,SMALL(IF(joueurs=$B77,ROW(INDIRECT(\"1:\"&ROWS(tirs)))),ROWS($1:$8))),\"\")","v":0},{"$f":"IF(ROWS($1:$9)<=COUNTIF(joueurs,$B77),INDEX(tirs,SMALL(IF(joueurs=$B77,ROW(INDIRECT(\"1:\"&ROWS(tirs)))),ROWS($1:$9))),\"\")","v":0},{"$f":"IF(ROWS($1:$10)<=COUNTIF(joueurs,$B77),INDEX(tirs,SMALL(IF(joueurs=$B77,ROW(INDIRECT(\"1:\"&ROWS(tirs)))),ROWS($1:$10))),\"\")","v":0},{"$f":"IF(ROWS($1:$1)<=COUNTIF(joueurs,$B77),INDEX(bontirs,SMALL(IF(joueurs=$B77,ROW(INDIRECT(\"1:\"&ROWS(bontirs)))),ROWS($1:$1))),\"\")","v":0},{"$f":"IF(ROWS($1:$2)<=COUNTIF(joueurs,$B77),INDEX(bontirs,SMALL(IF(joueurs=$B77,ROW(INDIRECT(\"1:\"&ROWS(bontirs)))),ROWS($1:$2))),\"\")","v":0},{"$f":"IF(ROWS($1:$3)<=COUNTIF(joueurs,$B77),INDEX(bontirs,SMALL(IF(joueurs=$B77,ROW(INDIRECT(\"1:\"&ROWS(bontirs)))),ROWS($1:$3))),\"\")","v":0},{"$f":"IF(ROWS($1:$4)<=COUNTIF(joueurs,$B77),INDEX(bontirs,SMALL(IF(joueurs=$B77,ROW(INDIRECT(\"1:\"&ROWS(bontirs)))),ROWS($1:$4))),\"\")","v":0},{"$f":"IF(ROWS($1:$5)<=COUNTIF(joueurs,$B77),INDEX(bontirs,SMALL(IF(joueurs=$B77,ROW(INDIRECT(\"1:\"&ROWS(bontirs)))),ROWS($1:$5))),\"\")","v":0},{"$f":"IF(ROWS($1:$6)<=COUNTIF(joueurs,$B77),INDEX(bontirs,SMALL(IF(joueurs=$B77,ROW(INDIRECT(\"1:\"&ROWS(bontirs)))),ROWS($1:$6))),\"\")","v":0},{"$f":"IF(ROWS($1:$7)<=COUNTIF(joueurs,$B77),INDEX(bontirs,SMALL(IF(joueurs=$B77,ROW(INDIRECT(\"1:\"&ROWS(bontirs)))),ROWS($1:$7))),\"\")","v":0},{"$f":"IF(ROWS($1:$8)<=COUNTIF(joueurs,$B77),INDEX(bontirs,SMALL(IF(joueurs=$B77,ROW(INDIRECT(\"1:\"&ROWS(bontirs)))),ROWS($1:$8))),\"\")","v":0},{"$f":"IF(ROWS($1:$9)<=COUNTIF(joueurs,$B77),INDEX(bontirs,SMALL(IF(joueurs=$B77,ROW(INDIRECT(\"1:\"&ROWS(bontirs)))),ROWS($1:$9))),\"\")","v":0},{"$f":"IF(ROWS($1:$10)<=COUNTIF(joueurs,$B77),INDEX(bontirs,SMALL(IF(joueurs=$B77,ROW(INDIRECT(\"1:\"&ROWS(bontirs)))),ROWS($1:$10))),\"\")","v":0},{"$f":"IF(ROWS($1:$1)<=COUNTIF(joueurs,$B77),INDEX(points,SMALL(IF(joueurs=$B77,ROW(INDIRECT(\"1:\"&ROWS(points)))),ROWS($1:$1))),\"\")","v":0},{"$f":"IF(ROWS($1:$2)<=COUNTIF(joueurs,$B77),INDEX(points,SMALL(IF(joueurs=$B77,ROW(INDIRECT(\"1:\"&ROWS(points)))),ROWS($1:$2))),\"\")","v":0},{"$f":"IF(ROWS($1:$3)<=COUNTIF(joueurs,$B77),INDEX(points,SMALL(IF(joueurs=$B77,ROW(INDIRECT(\"1:\"&ROWS(points)))),ROWS($1:$3))),\"\")","v":0},{"$f":"IF(ROWS($1:$4)<=COUNTIF(joueurs,$B77),INDEX(points,SMALL(IF(joueurs=$B77,ROW(INDIRECT(\"1:\"&ROWS(points)))),ROWS($1:$4))),\"\")","v":0},{"$f":"IF(ROWS($1:$5)<=COUNTIF(joueurs,$B77),INDEX(points,SMALL(IF(joueurs=$B77,ROW(INDIRECT(\"1:\"&ROWS(points)))),ROWS($1:$5))),\"\")","v":0},{"$f":"IF(ROWS($1:$6)<=COUNTIF(joueurs,$B77),INDEX(points,SMALL(IF(joueurs=$B77,ROW(INDIRECT(\"1:\"&ROWS(points)))),ROWS($1:$6))),\"\")","v":0},{"$f":"IF(ROWS($1:$7)<=COUNTIF(joueurs,$B77),INDEX(points,SMALL(IF(joueurs=$B77,ROW(INDIRECT(\"1:\"&ROWS(points)))),ROWS($1:$7))),\"\")","v":0},{"$f":"IF(ROWS($1:$8)<=COUNTIF(joueurs,$B77),INDEX(points,SMALL(IF(joueurs=$B77,ROW(INDIRECT(\"1:\"&ROWS(points)))),ROWS($1:$8))),\"\")","v":0},{"$f":"IF(ROWS($1:$9)<=COUNTIF(joueurs,$B77),INDEX(points,SMALL(IF(joueurs=$B77,ROW(INDIRECT(\"1:\"&ROWS(points)))),ROWS($1:$9))),\"\")","v":0},{"$f":"IF(ROWS($1:$10)<=COUNTIF(joueurs,$B77),INDEX(points,SMALL(IF(joueurs=$B77,ROW(INDIRECT(\"1:\"&ROWS(points)))),ROWS($1:$10))),\"\")","v":0},{"$f":"IF(ROWS($1:$1)<=COUNTIF(joueurs,$B77),INDEX(victoires,SMALL(IF(joueurs=$B77,ROW(INDIRECT(\"1:\"&ROWS(victoires)))),ROWS($1:$1))),\"\")","v":0},{"$f":"IF(ROWS($1:$2)<=COUNTIF(joueurs,$B77),INDEX(victoires,SMALL(IF(joueurs=$B77,ROW(INDIRECT(\"1:\"&ROWS(victoires)))),ROWS($1:$2))),\"\")","v":0},{"$f":"IF(ROWS($1:$3)<=COUNTIF(joueurs,$B77),INDEX(victoires,SMALL(IF(joueurs=$B77,ROW(INDIRECT(\"1:\"&ROWS(victoires)))),ROWS($1:$3))),\"\")","v":0},{"$f":"IF(ROWS($1:$4)<=COUNTIF(joueurs,$B77),INDEX(victoires,SMALL(IF(joueurs=$B77,ROW(INDIRECT(\"1:\"&ROWS(victoires)))),ROWS($1:$4))),\"\")","v":0},{"$f":"IF(ROWS($1:$5)<=COUNTIF(joueurs,$B77),INDEX(victoires,SMALL(IF(joueurs=$B77,ROW(INDIRECT(\"1:\"&ROWS(victoires)))),ROWS($1:$5))),\"\")","v":0},{"$f":"IF(ROWS($1:$6)<=COUNTIF(joueurs,$B77),INDEX(victoires,SMALL(IF(joueurs=$B77,ROW(INDIRECT(\"1:\"&ROWS(victoires)))),ROWS($1:$6))),\"\")","v":0},{"$f":"IF(ROWS($1:$7)<=COUNTIF(joueurs,$B77),INDEX(victoires,SMALL(IF(joueurs=$B77,ROW(INDIRECT(\"1:\"&ROWS(victoires)))),ROWS($1:$7))),\"\")","v":0},{"$f":"IF(ROWS($1:$8)<=COUNTIF(joueurs,$B77),INDEX(victoires,SMALL(IF(joueurs=$B77,ROW(INDIRECT(\"1:\"&ROWS(victoires)))),ROWS($1:$8))),\"\")","v":0},{"$f":"IF(ROWS($1:$9)<=COUNTIF(joueurs,$B77),INDEX(victoires,SMALL(IF(joueurs=$B77,ROW(INDIRECT(\"1:\"&ROWS(victoires)))),ROWS($1:$9))),\"\")","v":0},{"$f":"IF(ROWS($1:$10)<=COUNTIF(joueurs,$B77),INDEX(victoires,SMALL(IF(joueurs=$B77,ROW(INDIRECT(\"1:\"&ROWS(victoires)))),ROWS($1:$10))),\"\")","v":0}]
[null,null,null,{"$f":"IF(ROWS($1:$11)<=COUNTIF(joueurs,$B77),INDEX(fautes,SMALL(IF(joueurs=$B77,ROW(INDIRECT(\"1:\"&ROWS(fautes)))),ROWS($1:$11))),\"\")","v":0},{"$f":"IF(ROWS($1:$12)<=COUNTIF(joueurs,$B77),INDEX(fautes,SMALL(IF(joueurs=$B77,ROW(INDIRECT(\"1:\"&ROWS(fautes)))),ROWS($1:$12))),\"\")","v":0},{"$f":"IF(ROWS($1:$13)<=COUNTIF(joueurs,$B77),INDEX(fautes,SMALL(IF(joueurs=$B77,ROW(INDIRECT(\"1:\"&ROWS(fautes)))),ROWS($1:$13))),\"\")","v":0},{"$f":"IF(ROWS($1:$14)<=COUNTIF(joueurs,$B77),INDEX(fautes,SMALL(IF(joueurs=$B77,ROW(INDIRECT(\"1:\"&ROWS(fautes)))),ROWS($1:$14))),\"\")","v":0},{"$f":"IF(ROWS($1:$15)<=COUNTIF(joueurs,$B77),INDEX(fautes,SMALL(IF(joueurs=$B77,ROW(INDIRECT(\"1:\"&ROWS(fautes)))),ROWS($1:$15))),\"\")","v":0},{"$f":"IF(ROWS($1:$16)<=COUNTIF(joueurs,$B77),INDEX(fautes,SMALL(IF(joueurs=$B77,ROW(INDIRECT(\"1:\"&ROWS(fautes)))),ROWS($1:$16))),\"\")","v":0},{"$f":"IF(ROWS($1:$17)<=COUNTIF(joueurs,$B77),INDEX(fautes,SMALL(IF(joueurs=$B77,ROW(INDIRECT(\"1:\"&ROWS(fautes)))),ROWS($1:$17))),\"\")","v":0},{"$f":"IF(ROWS($1:$18)<=COUNTIF(joueurs,$B77),INDEX(fautes,SMALL(IF(joueurs=$B77,ROW(INDIRECT(\"1:\"&ROWS(fautes)))),ROWS($1:$18))),\"\")","v":0},{"$f":"IF(ROWS($1:$19)<=COUNTIF(joueurs,$B77),INDEX(fautes,SMALL(IF(joueurs=$B77,ROW(INDIRECT(\"1:\"&ROWS(fautes)))),ROWS($1:$19))),\"\")","v":0},{"$f":"IF(ROWS($1:$20)<=COUNTIF(joueurs,$B77),INDEX(fautes,SMALL(IF(joueurs=$B77,ROW(INDIRECT(\"1:\"&ROWS(fautes)))),ROWS($1:$20))),\"\")","v":0},{"$f":"IF(ROWS($1:$11)<=COUNTIF(joueurs,$B77),INDEX(ballonperdus,SMALL(IF(joueurs=$B77,ROW(INDIRECT(\"1:\"&ROWS(ballonperdus)))),ROWS($1:$11))),\"\")","v":0},{"$f":"IF(ROWS($1:$12)<=COUNTIF(joueurs,$B77),INDEX(ballonperdus,SMALL(IF(joueurs=$B77,ROW(INDIRECT(\"1:\"&ROWS(ballonperdus)))),ROWS($1:$12))),\"\")","v":0},{"$f":"IF(ROWS($1:$13)<=COUNTIF(joueurs,$B77),INDEX(ballonperdus,SMALL(IF(joueurs=$B77,ROW(INDIRECT(\"1:\"&ROWS(ballonperdus)))),ROWS($1:$13))),\"\")","v":0},{"$f":"IF(ROWS($1:$14)<=COUNTIF(joueurs,$B77),INDEX(ballonperdus,SMALL(IF(joueurs=$B77,ROW(INDIRECT(\"1:\"&ROWS(ballonperdus)))),ROWS($1:$14))),\"\")","v":0},{"$f":"IF(ROWS($1:$15)<=COUNTIF(joueurs,$B77),INDEX(ballonperdus,SMALL(IF(joueurs=$B77,ROW(INDIRECT(\"1:\"&ROWS(ballonperdus)))),ROWS($1:$15))),\"\")","v":0},{"$f":"IF(ROWS($1:$16)<=COUNTIF(joueurs,$B77),INDEX(ballonperdus,SMALL(IF(joueurs=$B77,ROW(INDIRECT(\"1:\"&ROWS(ballonperdus)))),ROWS($1:$16))),\"\")","v":0},{"$f":"IF(ROWS($1:$17)<=COUNTIF(joueurs,$B77),INDEX(ballonperdus,SMALL(IF(joueurs=$B77,ROW(INDIRECT(\"1:\"&ROWS(ballonperdus)))),ROWS($1:$17))),\"\")","v":0},{"$f":"IF(ROWS($1:$18)<=COUNTIF(joueurs,$B77),INDEX(ballonperdus,SMALL(IF(joueurs=$B77,ROW(INDIRECT(\"1:\"&ROWS(ballonperdus)))),ROWS($1:$18))),\"\")","v":0},{"$f":"IF(ROWS($1:$19)<=COUNTIF(joueurs,$B77),INDEX(ballonperdus,SMALL(IF(joueurs=$B77,ROW(INDIRECT(\"1:\"&ROWS(ballonperdus)))),ROWS($1:$19))),\"\")","v":0},{"$f":"IF(ROWS($1:$20)<=COUNTIF(joueurs,$B77),INDEX(fautes,SMALL(IF(joueurs=$B77,ROW(INDIRECT(\"1:\"&ROWS(ballonperdus)))),ROWS($1:$20))),\"\")","v":0},{"$f":"IF(ROWS($1:$11)<=COUNTIF(joueurs,$B77),INDEX(interceptions,SMALL(IF(joueurs=$B77,ROW(INDIRECT(\"1:\"&ROWS(interceptions)))),ROWS($1:$11))),\"\")","v":0},{"$f":"IF(ROWS($1:$12)<=COUNTIF(joueurs,$B77),INDEX(interceptions,SMALL(IF(joueurs=$B77,ROW(INDIRECT(\"1:\"&ROWS(interceptions)))),ROWS($1:$12))),\"\")","v":0},{"$f":"IF(ROWS($1:$13)<=COUNTIF(joueurs,$B77),INDEX(interceptions,SMALL(IF(joueurs=$B77,ROW(INDIRECT(\"1:\"&ROWS(interceptions)))),ROWS($1:$13))),\"\")","v":0},{"$f":"IF(ROWS($1:$14)<=COUNTIF(joueurs,$B77),INDEX(interceptions,SMALL(IF(joueurs=$B77,ROW(INDIRECT(\"1:\"&ROWS(interceptions)))),ROWS($1:$14))),\"\")","v":0},{"$f":"IF(ROWS($1:$15)<=COUNTIF(joueurs,$B77),INDEX(interceptions,SMALL(IF(joueurs=$B77,ROW(INDIRECT(\"1:\"&ROWS(interceptions)))),ROWS($1:$15))),\"\")","v":0},{"$f":"IF(ROWS($1:$16)<=COUNTIF(joueurs,$B77),INDEX(interceptions,SMALL(IF(joueurs=$B77,ROW(INDIRECT(\"1:\"&ROWS(interceptions)))),ROWS($1:$16))),\"\")","v":0},{"$f":"IF(ROWS($1:$17)<=COUNTIF(joueurs,$B77),INDEX(interceptions,SMALL(IF(joueurs=$B77,ROW(INDIRECT(\"1:\"&ROWS(interceptions)))),ROWS($1:$17))),\"\")","v":0},{"$f":"IF(ROWS($1:$18)<=COUNTIF(joueurs,$B77),INDEX(interceptions,SMALL(IF(joueurs=$B77,ROW(INDIRECT(\"1:\"&ROWS(interceptions)))),ROWS($1:$18))),\"\")","v":0},{"$f":"IF(ROWS($1:$19)<=COUNTIF(joueurs,$B77),INDEX(interceptions,SMALL(IF(joueurs=$B77,ROW(INDIRECT(\"1:\"&ROWS(interceptions)))),ROWS($1:$19))),\"\")","v":0},{"$f":"IF(ROWS($1:$20)<=COUNTIF(joueurs,$B77),INDEX(interceptions,SMALL(IF(joueurs=$B77,ROW(INDIRECT(\"1:\"&ROWS(interceptions)))),ROWS($1:$20))),\"\")","v":0},{"$f":"IF(ROWS($1:$11)<=COUNTIF(joueurs,$B77),INDEX(ballonrecuperes,SMALL(IF(joueurs=$B77,ROW(INDIRECT(\"1:\"&ROWS(ballonrecuperes)))),ROWS($1:$11))),\"\")","v":0},{"$f":"IF(ROWS($1:$12)<=COUNTIF(joueurs,$B77),INDEX(ballonrecuperes,SMALL(IF(joueurs=$B77,ROW(INDIRECT(\"1:\"&ROWS(ballonrecuperes)))),ROWS($1:$12))),\"\")","v":0},{"$f":"IF(ROWS($1:$13)<=COUNTIF(joueurs,$B77),INDEX(ballonrecuperes,SMALL(IF(joueurs=$B77,ROW(INDIRECT(\"1:\"&ROWS(ballonrecuperes)))),ROWS($1:$13))),\"\")","v":0},{"$f":"IF(ROWS($1:$14)<=COUNTIF(joueurs,$B77),INDEX(ballonrecuperes,SMALL(IF(joueurs=$B77,ROW(INDIRECT(\"1:\"&ROWS(ballonrecuperes)))),ROWS($1:$14))),\"\")","v":0},{"$f":"IF(ROWS($1:$15)<=COUNTIF(joueurs,$B77),INDEX(ballonrecuperes,SMALL(IF(joueurs=$B77,ROW(INDIRECT(\"1:\"&ROWS(ballonrecuperes)))),ROWS($1:$15))),\"\")","v":0},{"$f":"IF(ROWS($1:$16)<=COUNTIF(joueurs,$B77),INDEX(ballonrecuperes,SMALL(IF(joueurs=$B77,ROW(INDIRECT(\"1:\"&ROWS(ballonrecuperes)))),ROWS($1:$16))),\"\")","v":0},{"$f":"IF(ROWS($1:$17)<=COUNTIF(joueurs,$B77),INDEX(ballonrecuperes,SMALL(IF(joueurs=$B77,ROW(INDIRECT(\"1:\"&ROWS(ballonrecuperes)))),ROWS($1:$17))),\"\")","v":0},{"$f":"IF(ROWS($1:$18)<=COUNTIF(joueurs,$B77),INDEX(ballonrecuperes,SMALL(IF(joueurs=$B77,ROW(INDIRECT(\"1:\"&ROWS(ballonrecuperes)))),ROWS($1:$18))),\"\")","v":0},{"$f":"IF(ROWS($1:$19)<=COUNTIF(joueurs,$B77),INDEX(ballonrecuperes,SMALL(IF(joueurs=$B77,ROW(INDIRECT(\"1:\"&ROWS(ballonrecuperes)))),ROWS($1:$19))),\"\")","v":0},{"$f":"IF(ROWS($1:$20)<=COUNTIF(joueurs,$B77),INDEX(ballonrecuperes,SMALL(IF(joueurs=$B77,ROW(INDIRECT(\"1:\"&ROWS(ballonrecuperes)))),ROWS($1:$20))),\"\")","v":0},{"$f":"IF(ROWS($1:$11)<=COUNTIF(joueurs,$B77),INDEX(tirs,SMALL(IF(joueurs=$B77,ROW(INDIRECT(\"1:\"&ROWS(tirs)))),ROWS($1:$11))),\"\")","v":0},{"$f":"IF(ROWS($1:$12)<=COUNTIF(joueurs,$B77),INDEX(tirs,SMALL(IF(joueurs=$B77,ROW(INDIRECT(\"1:\"&ROWS(tirs)))),ROWS($1:$12))),\"\")","v":0},{"$f":"IF(ROWS($1:$13)<=COUNTIF(joueurs,$B77),INDEX(tirs,SMALL(IF(joueurs=$B77,ROW(INDIRECT(\"1:\"&ROWS(tirs)))),ROWS($1:$13))),\"\")","v":0},{"$f":"IF(ROWS($1:$14)<=COUNTIF(joueurs,$B77),INDEX(tirs,SMALL(IF(joueurs=$B77,ROW(INDIRECT(\"1:\"&ROWS(tirs)))),ROWS($1:$14))),\"\")","v":0},{"$f":"IF(ROWS($1:$15)<=COUNTIF(joueurs,$B77),INDEX(tirs,SMALL(IF(joueurs=$B77,ROW(INDIRECT(\"1:\"&ROWS(tirs)))),ROWS($1:$15))),\"\")","v":0},{"$f":"IF(ROWS($1:$16)<=COUNTIF(joueurs,$B77),INDEX(tirs,SMALL(IF(joueurs=$B77,ROW(INDIRECT(\"1:\"&ROWS(tirs)))),ROWS($1:$16))),\"\")","v":0},{"$f":"IF(ROWS($1:$17)<=COUNTIF(joueurs,$B77),INDEX(tirs,SMALL(IF(joueurs=$B77,ROW(INDIRECT(\"1:\"&ROWS(tirs)))),ROWS($1:$17))),\"\")","v":0},{"$f":"IF(ROWS($1:$18)<=COUNTIF(joueurs,$B77),INDEX(tirs,SMALL(IF(joueurs=$B77,ROW(INDIRECT(\"1:\"&ROWS(tirs)))),ROWS($1:$18))),\"\")","v":0},{"$f":"IF(ROWS($1:$19)<=COUNTIF(joueurs,$B77),INDEX(tirs,SMALL(IF(joueurs=$B77,ROW(INDIRECT(\"1:\"&ROWS(tirs)))),ROWS($1:$19))),\"\")","v":0},{"$f":"IF(ROWS($1:$20)<=COUNTIF(joueurs,$B77),INDEX(tirs,SMALL(IF(joueurs=$B77,ROW(INDIRECT(\"1:\"&ROWS(tirs)))),ROWS($1:$20))),\"\")","v":0},{"$f":"IF(ROWS($1:$11)<=COUNTIF(joueurs,$B77),INDEX(bontirs,SMALL(IF(joueurs=$B77,ROW(INDIRECT(\"1:\"&ROWS(bontirs)))),ROWS($1:$11))),\"\")","v":0},{"$f":"IF(ROWS($1:$12)<=COUNTIF(joueurs,$B77),INDEX(bontirs,SMALL(IF(joueurs=$B77,ROW(INDIRECT(\"1:\"&ROWS(bontirs)))),ROWS($1:$12))),\"\")","v":0},{"$f":"IF(ROWS($1:$13)<=COUNTIF(joueurs,$B77),INDEX(bontirs,SMALL(IF(joueurs=$B77,ROW(INDIRECT(\"1:\"&ROWS(bontirs)))),ROWS($1:$13))),\"\")","v":0},{"$f":"IF(ROWS($1:$14)<=COUNTIF(joueurs,$B77),INDEX(bontirs,SMALL(IF(joueurs=$B77,ROW(INDIRECT(\"1:\"&ROWS(bontirs)))),ROWS($1:$14))),\"\")","v":0},{"$f":"IF(ROWS($1:$15)<=COUNTIF(joueurs,$B77),INDEX(bontirs,SMALL(IF(joueurs=$B77,ROW(INDIRECT(\"1:\"&ROWS(bontirs)))),ROWS($1:$15))),\"\")","v":0},{"$f":"IF(ROWS($1:$16)<=COUNTIF(joueurs,$B77),INDEX(bontirs,SMALL(IF(joueurs=$B77,ROW(INDIRECT(\"1:\"&ROWS(bontirs)))),ROWS($1:$16))),\"\")","v":0},{"$f":"IF(ROWS($1:$17)<=COUNTIF(joueurs,$B77),INDEX(bontirs,SMALL(IF(joueurs=$B77,ROW(INDIRECT(\"1:\"&ROWS(bontirs)))),ROWS($1:$17))),\"\")","v":0},{"$f":"IF(ROWS($1:$18)<=COUNTIF(joueurs,$B77),INDEX(bontirs,SMALL(IF(joueurs=$B77,ROW(INDIRECT(\"1:\"&ROWS(bontirs)))),ROWS($1:$18))),\"\")","v":0},{"$f":"IF(ROWS($1:$19)<=COUNTIF(joueurs,$B77),INDEX(bontirs,SMALL(IF(joueurs=$B77,ROW(INDIRECT(\"1:\"&ROWS(bontirs)))),ROWS($1:$19))),\"\")","v":0},{"$f":"IF(ROWS($1:$20)<=COUNTIF(joueurs,$B77),INDEX(bontirs,SMALL(IF(joueurs=$B77,ROW(INDIRECT(\"1:\"&ROWS(bontirs)))),ROWS($1:$20))),\"\")","v":0},{"$f":"IF(ROWS($1:$11)<=COUNTIF(joueurs,$B77),INDEX(points,SMALL(IF(joueurs=$B77,ROW(INDIRECT(\"1:\"&ROWS(points)))),ROWS($1:$11))),\"\")","v":0},{"$f":"IF(ROWS($1:$12)<=COUNTIF(joueurs,$B77),INDEX(points,SMALL(IF(joueurs=$B77,ROW(INDIRECT(\"1:\"&ROWS(points)))),ROWS($1:$12))),\"\")","v":0},{"$f":"IF(ROWS($1:$13)<=COUNTIF(joueurs,$B77),INDEX(points,SMALL(IF(joueurs=$B77,ROW(INDIRECT(\"1:\"&ROWS(points)))),ROWS($1:$13))),\"\")","v":0},{"$f":"IF(ROWS($1:$14)<=COUNTIF(joueurs,$B77),INDEX(points,SMALL(IF(joueurs=$B77,ROW(INDIRECT(\"1:\"&ROWS(points)))),ROWS($1:$14))),\"\")","v":0},{"$f":"IF(ROWS($1:$15)<=COUNTIF(joueurs,$B77),INDEX(points,SMALL(IF(joueurs=$B77,ROW(INDIRECT(\"1:\"&ROWS(points)))),ROWS($1:$15))),\"\")","v":0},{"$f":"IF(ROWS($1:$16)<=COUNTIF(joueurs,$B77),INDEX(points,SMALL(IF(joueurs=$B77,ROW(INDIRECT(\"1:\"&ROWS(points)))),ROWS($1:$16))),\"\")","v":0},{"$f":"IF(ROWS($1:$17)<=COUNTIF(joueurs,$B77),INDEX(points,SMALL(IF(joueurs=$B77,ROW(INDIRECT(\"1:\"&ROWS(points)))),ROWS($1:$17))),\"\")","v":0},{"$f":"IF(ROWS($1:$18)<=COUNTIF(joueurs,$B77),INDEX(points,SMALL(IF(joueurs=$B77,ROW(INDIRECT(\"1:\"&ROWS(points)))),ROWS($1:$18))),\"\")","v":0},{"$f":"IF(ROWS($1:$19)<=COUNTIF(joueurs,$B77),INDEX(points,SMALL(IF(joueurs=$B77,ROW(INDIRECT(\"1:\"&ROWS(points)))),ROWS($1:$19))),\"\")","v":0},{"$f":"IF(ROWS($1:$20)<=COUNTIF(points,$B77),INDEX(fautes,SMALL(IF(joueurs=$B77,ROW(INDIRECT(\"1:\"&ROWS(points)))),ROWS($1:$20))),\"\")","v":0},{"$f":"IF(ROWS($1:$11)<=COUNTIF(joueurs,$B77),INDEX(victoires,SMALL(IF(joueurs=$B77,ROW(INDIRECT(\"1:\"&ROWS(victoires)))),ROWS($1:$11))),\"\")","v":0},{"$f":"IF(ROWS($1:$12)<=COUNTIF(joueurs,$B77),INDEX(victoires,SMALL(IF(joueurs=$B77,ROW(INDIRECT(\"1:\"&ROWS(victoires)))),ROWS($1:$12))),\"\")","v":0},{"$f":"IF(ROWS($1:$13)<=COUNTIF(joueurs,$B77),INDEX(victoires,SMALL(IF(joueurs=$B77,ROW(INDIRECT(\"1:\"&ROWS(victoires)))),ROWS($1:$13))),\"\")","v":0},{"$f":"IF(ROWS($1:$14)<=COUNTIF(joueurs,$B77),INDEX(victoires,SMALL(IF(joueurs=$B77,ROW(INDIRECT(\"1:\"&ROWS(victoires)))),ROWS($1:$14))),\"\")","v":0},{"$f":"IF(ROWS($1:$15)<=COUNTIF(joueurs,$B77),INDEX(victoires,SMALL(IF(joueurs=$B77,ROW(INDIRECT(\"1:\"&ROWS(victoires)))),ROWS($1:$15))),\"\")","v":0},{"$f":"IF(ROWS($1:$16)<=COUNTIF(joueurs,$B77),INDEX(victoires,SMALL(IF(joueurs=$B77,ROW(INDIRECT(\"1:\"&ROWS(victoires)))),ROWS($1:$16))),\"\")","v":0},{"$f":"IF(ROWS($1:$17)<=COUNTIF(joueurs,$B77),INDEX(victoires,SMALL(IF(joueurs=$B77,ROW(INDIRECT(\"1:\"&ROWS(victoires)))),ROWS($1:$17))),\"\")","v":0},{"$f":"IF(ROWS($1:$18)<=COUNTIF(joueurs,$B77),INDEX(victoires,SMALL(IF(joueurs=$B77,ROW(INDIRECT(\"1:\"&ROWS(victoires)))),ROWS($1:$18))),\"\")","v":0},{"$f":"IF(ROWS($1:$19)<=COUNTIF(joueurs,$B77),INDEX(victoires,SMALL(IF(joueurs=$B77,ROW(INDIRECT(\"1:\"&ROWS(victoires)))),ROWS($1:$19))),\"\")","v":0},{"$f":"IF(ROWS($1:$20)<=COUNTIF(joueurs,$B77),INDEX(victoires,SMALL(IF(joueurs=$B77,ROW(INDIRECT(\"1:\"&ROWS(victoires)))),ROWS($1:$20))),\"\")","v":0}]
[null,null,null,{"$f":"IF(ROWS($1:$21)<=COUNTIF(joueurs,$B77),INDEX(fautes,SMALL(IF(joueurs=$B77,ROW(INDIRECT(\"1:\"&ROWS(fautes)))),ROWS($1:$21))),\"\")","v":0},{"$f":"IF(ROWS($1:$22)<=COUNTIF(joueurs,$B77),INDEX(fautes,SMALL(IF(joueurs=$B77,ROW(INDIRECT(\"1:\"&ROWS(fautes)))),ROWS($1:$22))),\"\")","v":0},{"$f":"IF(ROWS($1:$23)<=COUNTIF(joueurs,$B77),INDEX(fautes,SMALL(IF(joueurs=$B77,ROW(INDIRECT(\"1:\"&ROWS(fautes)))),ROWS($1:$23))),\"\")","v":0},{"$f":"IF(ROWS($1:$24)<=COUNTIF(joueurs,$B77),INDEX(fautes,SMALL(IF(joueurs=$B77,ROW(INDIRECT(\"1:\"&ROWS(fautes)))),ROWS($1:$24))),\"\")","v":0},{"$f":"IF(ROWS($1:$25)<=COUNTIF(joueurs,$B77),INDEX(fautes,SMALL(IF(joueurs=$B77,ROW(INDIRECT(\"1:\"&ROWS(fautes)))),ROWS($1:$25))),\"\")","v":0},{"$f":"IF(ROWS($1:$26)<=COUNTIF(joueurs,$B77),INDEX(fautes,SMALL(IF(joueurs=$B77,ROW(INDIRECT(\"1:\"&ROWS(fautes)))),ROWS($1:$26))),\"\")","v":0},{"$f":"IF(ROWS($1:$27)<=COUNTIF(joueurs,$B77),INDEX(fautes,SMALL(IF(joueurs=$B77,ROW(INDIRECT(\"1:\"&ROWS(fautes)))),ROWS($1:$27))),\"\")","v":0},{"$f":"IF(ROWS($1:$28)<=COUNTIF(joueurs,$B77),INDEX(fautes,SMALL(IF(joueurs=$B77,ROW(INDIRECT(\"1:\"&ROWS(fautes)))),ROWS($1:$28))),\"\")","v":0},{"$f":"IF(ROWS($1:$29)<=COUNTIF(joueurs,$B77),INDEX(fautes,SMALL(IF(joueurs=$B77,ROW(INDIRECT(\"1:\"&ROWS(fautes)))),ROWS($1:$29))),\"\")","v":0},{"$f":"IF(ROWS($1:$30)<=COUNTIF(joueurs,$B77),INDEX(fautes,SMALL(IF(joueurs=$B77,ROW(INDIRECT(\"1:\"&ROWS(fautes)))),ROWS($1:$30))),\"\")","v":0},{"$f":"IF(ROWS($1:$21)<=COUNTIF(joueurs,$B77),INDEX(ballonperdus,SMALL(IF(joueurs=$B77,ROW(INDIRECT(\"1:\"&ROWS(ballonperdus)))),ROWS($1:$21))),\"\")","v":0},{"$f":"IF(ROWS($1:$22)<=COUNTIF(joueurs,$B77),INDEX(ballonperdus,SMALL(IF(joueurs=$B77,ROW(INDIRECT(\"1:\"&ROWS(ballonperdus)))),ROWS($1:$22))),\"\")","v":0},{"$f":"IF(ROWS($1:$23)<=COUNTIF(joueurs,$B77),INDEX(ballonperdus,SMALL(IF(joueurs=$B77,ROW(INDIRECT(\"1:\"&ROWS(ballonperdus)))),ROWS($1:$23))),\"\")","v":0},{"$f":"IF(ROWS($1:$24)<=COUNTIF(joueurs,$B77),INDEX(ballonperdus,SMALL(IF(joueurs=$B77,ROW(INDIRECT(\"1:\"&ROWS(ballonperdus)))),ROWS($1:$24))),\"\")","v":0},{"$f":"IF(ROWS($1:$25)<=COUNTIF(joueurs,$B77),INDEX(ballonperdus,SMALL(IF(joueurs=$B77,ROW(INDIRECT(\"1:\"&ROWS(ballonperdus)))),ROWS($1:$25))),\"\")","v":0},{"$f":"IF(ROWS($1:$26)<=COUNTIF(joueurs,$B77),INDEX(ballonperdus,SMALL(IF(joueurs=$B77,ROW(INDIRECT(\"1:\"&ROWS(ballonperdus)))),ROWS($1:$26))),\"\")","v":0},{"$f":"IF(ROWS($1:$27)<=COUNTIF(joueurs,$B77),INDEX(ballonperdus,SMALL(IF(joueurs=$B77,ROW(INDIRECT(\"1:\"&ROWS(ballonperdus)))),ROWS($1:$27))),\"\")","v":0},{"$f":"IF(ROWS($1:$28)<=COUNTIF(joueurs,$B77),INDEX(ballonperdus,SMALL(IF(joueurs=$B77,ROW(INDIRECT(\"1:\"&ROWS(ballonperdus)))),ROWS($1:$28))),\"\")","v":0},{"$f":"IF(ROWS($1:$29)<=COUNTIF(joueurs,$B77),INDEX(ballonperdus,SMALL(IF(joueurs=$B77,ROW(INDIRECT(\"1:\"&ROWS(ballonperdus)))),ROWS($1:$29))),\"\")","v":0},{"$f":"IF(ROWS($1:$30)<=COUNTIF(joueurs,$B77),INDEX(ballonperdus,SMALL(IF(joueurs=$B77,ROW(INDIRECT(\"1:\"&ROWS(ballonperdus)))),ROWS($1:$30))),\"\")","v":0},{"$f":"IF(ROWS($1:$21)<=COUNTIF(joueurs,$B77),INDEX(interceptions,SMALL(IF(joueurs=$B77,ROW(INDIRECT(\"1:\"&ROWS(interceptions)))),ROWS($1:$21))),\"\")","v":0},{"$f":"IF(ROWS($1:$22)<=COUNTIF(joueurs,$B77),INDEX(interceptions,SMALL(IF(joueurs=$B77,ROW(INDIRECT(\"1:\"&ROWS(interceptions)))),ROWS($1:$22))),\"\")","v":0},{"$f":"IF(ROWS($1:$23)<=COUNTIF(joueurs,$B77),INDEX(interceptions,SMALL(IF(joueurs=$B77,ROW(INDIRECT(\"1:\"&ROWS(interceptions)))),ROWS($1:$23))),\"\")","v":0},{"$f":"IF(ROWS($1:$24)<=COUNTIF(joueurs,$B77),INDEX(interceptions,SMALL(IF(joueurs=$B77,ROW(INDIRECT(\"1:\"&ROWS(interceptions)))),ROWS($1:$24))),\"\")","v":0},{"$f":"IF(ROWS($1:$25)<=COUNTIF(joueurs,$B77),INDEX(interceptions,SMALL(IF(joueurs=$B77,ROW(INDIRECT(\"1:\"&ROWS(interceptions)))),ROWS($1:$25))),\"\")","v":0},{"$f":"IF(ROWS($1:$26)<=COUNTIF(joueurs,$B77),INDEX(interceptions,SMALL(IF(joueurs=$B77,ROW(INDIRECT(\"1:\"&ROWS(interceptions)))),ROWS($1:$26))),\"\")","v":0},{"$f":"IF(ROWS($1:$27)<=COUNTIF(joueurs,$B77),INDEX(interceptions,SMALL(IF(joueurs=$B77,ROW(INDIRECT(\"1:\"&ROWS(interceptions)))),ROWS($1:$27))),\"\")","v":0},{"$f":"IF(ROWS($1:$28)<=COUNTIF(joueurs,$B77),INDEX(interceptions,SMALL(IF(joueurs=$B77,ROW(INDIRECT(\"1:\"&ROWS(interceptions)))),ROWS($1:$28))),\"\")","v":0},{"$f":"IF(ROWS($1:$29)<=COUNTIF(joueurs,$B77),INDEX(interceptions,SMALL(IF(joueurs=$B77,ROW(INDIRECT(\"1:\"&ROWS(interceptions)))),ROWS($1:$29))),\"\")","v":0},{"$f":"IF(ROWS($1:$30)<=COUNTIF(joueurs,$B77),INDEX(interceptions,SMALL(IF(joueurs=$B77,ROW(INDIRECT(\"1:\"&ROWS(interceptions)))),ROWS($1:$30))),\"\")","v":0},{"$f":"IF(ROWS($1:$21)<=COUNTIF(joueurs,$B77),INDEX(ballonrecuperes,SMALL(IF(joueurs=$B77,ROW(INDIRECT(\"1:\"&ROWS(ballonrecuperes)))),ROWS($1:$21))),\"\")","v":0},{"$f":"IF(ROWS($1:$22)<=COUNTIF(joueurs,$B77),INDEX(ballonrecuperes,SMALL(IF(joueurs=$B77,ROW(INDIRECT(\"1:\"&ROWS(ballonrecuperes)))),ROWS($1:$22))),\"\")","v":0},{"$f":"IF(ROWS($1:$23)<=COUNTIF(joueurs,$B77),INDEX(ballonrecuperes,SMALL(IF(joueurs=$B77,ROW(INDIRECT(\"1:\"&ROWS(ballonrecuperes)))),ROWS($1:$23))),\"\")","v":0},{"$f":"IF(ROWS($1:$24)<=COUNTIF(joueurs,$B77),INDEX(ballonrecuperes,SMALL(IF(joueurs=$B77,ROW(INDIRECT(\"1:\"&ROWS(ballonrecuperes)))),ROWS($1:$24))),\"\")","v":0},{"$f":"IF(ROWS($1:$25)<=COUNTIF(joueurs,$B77),INDEX(ballonrecuperes,SMALL(IF(joueurs=$B77,ROW(INDIRECT(\"1:\"&ROWS(ballonrecuperes)))),ROWS($1:$25))),\"\")","v":0},{"$f":"IF(ROWS($1:$26)<=COUNTIF(joueurs,$B77),INDEX(ballonrecuperes,SMALL(IF(joueurs=$B77,ROW(INDIRECT(\"1:\"&ROWS(ballonrecuperes)))),ROWS($1:$26))),\"\")","v":0},{"$f":"IF(ROWS($1:$27)<=COUNTIF(joueurs,$B77),INDEX(ballonrecuperes,SMALL(IF(joueurs=$B77,ROW(INDIRECT(\"1:\"&ROWS(ballonrecuperes)))),ROWS($1:$27))),\"\")","v":0},{"$f":"IF(ROWS($1:$28)<=COUNTIF(joueurs,$B77),INDEX(ballonrecuperes,SMALL(IF(joueurs=$B77,ROW(INDIRECT(\"1:\"&ROWS(ballonrecuperes)))),ROWS($1:$28))),\"\")","v":0},{"$f":"IF(ROWS($1:$29)<=COUNTIF(joueurs,$B77),INDEX(ballonrecuperes,SMALL(IF(joueurs=$B77,ROW(INDIRECT(\"1:\"&ROWS(ballonrecuperes)))),ROWS($1:$29))),\"\")","v":0},{"$f":"IF(ROWS($1:$30)<=COUNTIF(joueurs,$B77),INDEX(ballonrecuperes,SMALL(IF(joueurs=$B77,ROW(INDIRECT(\"1:\"&ROWS(ballonrecuperes)))),ROWS($1:$30))),\"\")","v":0},{"$f":"IF(ROWS($1:$21)<=COUNTIF(joueurs,$B77),INDEX(tirs,SMALL(IF(joueurs=$B77,ROW(INDIRECT(\"1:\"&ROWS(tirs)))),ROWS($1:$21))),\"\")","v":0},{"$f":"IF(ROWS($1:$22)<=COUNTIF(joueurs,$B77),INDEX(tirs,SMALL(IF(joueurs=$B77,ROW(INDIRECT(\"1:\"&ROWS(tirs)))),ROWS($1:$22))),\"\")","v":0},{"$f":"IF(ROWS($1:$23)<=COUNTIF(joueurs,$B77),INDEX(tirs,SMALL(IF(joueurs=$B77,ROW(INDIRECT(\"1:\"&ROWS(tirs)))),ROWS($1:$23))),\"\")","v":0},{"$f":"IF(ROWS($1:$24)<=COUNTIF(joueurs,$B77),INDEX(tirs,SMALL(IF(joueurs=$B77,ROW(INDIRECT(\"1:\"&ROWS(tirs)))),ROWS($1:$24))),\"\")","v":0},{"$f":"IF(ROWS($1:$25)<=COUNTIF(joueurs,$B77),INDEX(tirs,SMALL(IF(joueurs=$B77,ROW(INDIRECT(\"1:\"&ROWS(tirs)))),ROWS($1:$25))),\"\")","v":0},{"$f":"IF(ROWS($1:$26)<=COUNTIF(joueurs,$B77),INDEX(tirs,SMALL(IF(joueurs=$B77,ROW(INDIRECT(\"1:\"&ROWS(tirs)))),ROWS($1:$26))),\"\")","v":0},{"$f":"IF(ROWS($1:$27)<=COUNTIF(joueurs,$B77),INDEX(tirs,SMALL(IF(joueurs=$B77,ROW(INDIRECT(\"1:\"&ROWS(tirs)))),ROWS($1:$27))),\"\")","v":0},{"$f":"IF(ROWS($1:$28)<=COUNTIF(joueurs,$B77),INDEX(tirs,SMALL(IF(joueurs=$B77,ROW(INDIRECT(\"1:\"&ROWS(tirs)))),ROWS($1:$28))),\"\")","v":0},{"$f":"IF(ROWS($1:$29)<=COUNTIF(joueurs,$B77),INDEX(tirs,SMALL(IF(joueurs=$B77,ROW(INDIRECT(\"1:\"&ROWS(tirs)))),ROWS($1:$29))),\"\")","v":0},{"$f":"IF(ROWS($1:$30)<=COUNTIF(joueurs,$B77),INDEX(tirs,SMALL(IF(joueurs=$B77,ROW(INDIRECT(\"1:\"&ROWS(tirs)))),ROWS($1:$30))),\"\")","v":0},{"$f":"IF(ROWS($1:$21)<=COUNTIF(joueurs,$B77),INDEX(bontirs,SMALL(IF(joueurs=$B77,ROW(INDIRECT(\"1:\"&ROWS(bontirs)))),ROWS($1:$21))),\"\")","v":0},{"$f":"IF(ROWS($1:$22)<=COUNTIF(joueurs,$B77),INDEX(bontirs,SMALL(IF(joueurs=$B77,ROW(INDIRECT(\"1:\"&ROWS(bontirs)))),ROWS($1:$22))),\"\")","v":0},{"$f":"IF(ROWS($1:$23)<=COUNTIF(joueurs,$B77),INDEX(bontirs,SMALL(IF(joueurs=$B77,ROW(INDIRECT(\"1:\"&ROWS(bontirs)))),ROWS($1:$23))),\"\")","v":0},{"$f":"IF(ROWS($1:$24)<=COUNTIF(joueurs,$B77),INDEX(bontirs,SMALL(IF(joueurs=$B77,ROW(INDIRECT(\"1:\"&ROWS(bontirs)))),ROWS($1:$24))),\"\")","v":0},{"$f":"IF(ROWS($1:$25)<=COUNTIF(joueurs,$B77),INDEX(bontirs,SMALL(IF(joueurs=$B77,ROW(INDIRECT(\"1:\"&ROWS(bontirs)))),ROWS($1:$25))),\"\")","v":0},{"$f":"IF(ROWS($1:$26)<=COUNTIF(joueurs,$B77),INDEX(bontirs,SMALL(IF(joueurs=$B77,ROW(INDIRECT(\"1:\"&ROWS(bontirs)))),ROWS($1:$26))),\"\")","v":0},{"$f":"IF(ROWS($1:$27)<=COUNTIF(joueurs,$B77),INDEX(bontirs,SMALL(IF(joueurs=$B77,ROW(INDIRECT(\"1:\"&ROWS(bontirs)))),ROWS($1:$27))),\"\")","v":0},{"$f":"IF(ROWS($1:$28)<=COUNTIF(joueurs,$B77),INDEX(bontirs,SMALL(IF(joueurs=$B77,ROW(INDIRECT(\"1:\"&ROWS(bontirs)))),ROWS($1:$28))),\"\")","v":0},{"$f":"IF(ROWS($1:$29)<=COUNTIF(joueurs,$B77),INDEX(bontirs,SMALL(IF(joueurs=$B77,ROW(INDIRECT(\"1:\"&ROWS(bontirs)))),ROWS($1:$29))),\"\")","v":0},{"$f":"IF(ROWS($1:$30)<=COUNTIF(joueurs,$B77),INDEX(bontirs,SMALL(IF(joueurs=$B77,ROW(INDIRECT(\"1:\"&ROWS(bontirs)))),ROWS($1:$30))),\"\")","v":0},{"$f":"IF(ROWS($1:$21)<=COUNTIF(joueurs,$B77),INDEX(points,SMALL(IF(joueurs=$B77,ROW(INDIRECT(\"1:\"&ROWS(points)))),ROWS($1:$21))),\"\")","v":0},{"$f":"IF(ROWS($1:$22)<=COUNTIF(joueurs,$B77),INDEX(points,SMALL(IF(joueurs=$B77,ROW(INDIRECT(\"1:\"&ROWS(points)))),ROWS($1:$22))),\"\")","v":0},{"$f":"IF(ROWS($1:$23)<=COUNTIF(joueurs,$B77),INDEX(points,SMALL(IF(joueurs=$B77,ROW(INDIRECT(\"1:\"&ROWS(points)))),ROWS($1:$23))),\"\")","v":0},{"$f":"IF(ROWS($1:$24)<=COUNTIF(joueurs,$B77),INDEX(points,SMALL(IF(joueurs=$B77,ROW(INDIRECT(\"1:\"&ROWS(points)))),ROWS($1:$24))),\"\")","v":0},{"$f":"IF(ROWS($1:$25)<=COUNTIF(joueurs,$B77),INDEX(points,SMALL(IF(joueurs=$B77,ROW(INDIRECT(\"1:\"&ROWS(points)))),ROWS($1:$25))),\"\")","v":0},{"$f":"IF(ROWS($1:$26)<=COUNTIF(joueurs,$B77),INDEX(points,SMALL(IF(joueurs=$B77,ROW(INDIRECT(\"1:\"&ROWS(points)))),ROWS($1:$26))),\"\")","v":0},{"$f":"IF(ROWS($1:$27)<=COUNTIF(joueurs,$B77),INDEX(points,SMALL(IF(joueurs=$B77,ROW(INDIRECT(\"1:\"&ROWS(points)))),ROWS($1:$27))),\"\")","v":0},{"$f":"IF(ROWS($1:$28)<=COUNTIF(joueurs,$B77),INDEX(points,SMALL(IF(joueurs=$B77,ROW(INDIRECT(\"1:\"&ROWS(points)))),ROWS($1:$28))),\"\")","v":0},{"$f":"IF(ROWS($1:$29)<=COUNTIF(joueurs,$B77),INDEX(points,SMALL(IF(joueurs=$B77,ROW(INDIRECT(\"1:\"&ROWS(points)))),ROWS($1:$29))),\"\")","v":0},{"$f":"IF(ROWS($1:$30)<=COUNTIF(joueurs,$B77),INDEX(points,SMALL(IF(joueurs=$B77,ROW(INDIRECT(\"1:\"&ROWS(points)))),ROWS($1:$30))),\"\")","v":0},{"$f":"IF(ROWS($1:$21)<=COUNTIF(joueurs,$B77),INDEX(victoires,SMALL(IF(joueurs=$B77,ROW(INDIRECT(\"1:\"&ROWS(victoires)))),ROWS($1:$21))),\"\")","v":0},{"$f":"IF(ROWS($1:$22)<=COUNTIF(joueurs,$B77),INDEX(victoires,SMALL(IF(joueurs=$B77,ROW(INDIRECT(\"1:\"&ROWS(victoires)))),ROWS($1:$22))),\"\")","v":0},{"$f":"IF(ROWS($1:$23)<=COUNTIF(joueurs,$B77),INDEX(victoires,SMALL(IF(joueurs=$B77,ROW(INDIRECT(\"1:\"&ROWS(victoires)))),ROWS($1:$23))),\"\")","v":0},{"$f":"IF(ROWS($1:$24)<=COUNTIF(joueurs,$B77),INDEX(victoires,SMALL(IF(joueurs=$B77,ROW(INDIRECT(\"1:\"&ROWS(victoires)))),ROWS($1:$24))),\"\")","v":0},{"$f":"IF(ROWS($1:$25)<=COUNTIF(joueurs,$B77),INDEX(victoires,SMALL(IF(joueurs=$B77,ROW(INDIRECT(\"1:\"&ROWS(victoires)))),ROWS($1:$25))),\"\")","v":0},{"$f":"IF(ROWS($1:$26)<=COUNTIF(joueurs,$B77),INDEX(victoires,SMALL(IF(joueurs=$B77,ROW(INDIRECT(\"1:\"&ROWS(victoires)))),ROWS($1:$26))),\"\")","v":0},{"$f":"IF(ROWS($1:$27)<=COUNTIF(joueurs,$B77),INDEX(victoires,SMALL(IF(joueurs=$B77,ROW(INDIRECT(\"1:\"&ROWS(victoires)))),ROWS($1:$27))),\"\")","v":0},{"$f":"IF(ROWS($1:$28)<=COUNTIF(joueurs,$B77),INDEX(victoires,SMALL(IF(joueurs=$B77,ROW(INDIRECT(\"1:\"&ROWS(victoires)))),ROWS($1:$28))),\"\")","v":0},{"$f":"IF(ROWS($1:$29)<=COUNTIF(joueurs,$B77),INDEX(victoires,SMALL(IF(joueurs=$B77,ROW(INDIRECT(\"1:\"&ROWS(victoires)))),ROWS($1:$29))),\"\")","v":0},{"$f":"IF(ROWS($1:$30)<=COUNTIF(joueurs,$B77),INDEX(victoires,SMALL(IF(joueurs=$B77,ROW(INDIRECT(\"1:\"&ROWS(victoires)))),ROWS($1:$30))),\"\")","v":0}]
[null,null,null,{"$f":"IF(ROWS($1:$31)<=COUNTIF(joueurs,$B77),INDEX(fautes,SMALL(IF(joueurs=$B77,ROW(INDIRECT(\"1:\"&ROWS(fautes)))),ROWS($1:$31))),\"\")","v":0},{"$f":"IF(ROWS($1:$32)<=COUNTIF(joueurs,$B77),INDEX(fautes,SMALL(IF(joueurs=$B77,ROW(INDIRECT(\"1:\"&ROWS(fautes)))),ROWS($1:$32))),\"\")","v":0},{"$f":"IF(ROWS($1:$33)<=COUNTIF(joueurs,$B77),INDEX(fautes,SMALL(IF(joueurs=$B77,ROW(INDIRECT(\"1:\"&ROWS(fautes)))),ROWS($1:$33))),\"\")","v":0},{"$f":"IF(ROWS($1:$34)<=COUNTIF(joueurs,$B77),INDEX(fautes,SMALL(IF(joueurs=$B77,ROW(INDIRECT(\"1:\"&ROWS(fautes)))),ROWS($1:$34))),\"\")","v":0},{"$f":"IF(ROWS($1:$35)<=COUNTIF(joueurs,$B77),INDEX(fautes,SMALL(IF(joueurs=$B77,ROW(INDIRECT(\"1:\"&ROWS(fautes)))),ROWS($1:$35))),\"\")","v":0},{"$f":"IF(ROWS($1:$36)<=COUNTIF(joueurs,$B77),INDEX(fautes,SMALL(IF(joueurs=$B77,ROW(INDIRECT(\"1:\"&ROWS(fautes)))),ROWS($1:$36))),\"\")","v":0},{"$f":"IF(ROWS($1:$37)<=COUNTIF(joueurs,$B77),INDEX(fautes,SMALL(IF(joueurs=$B77,ROW(INDIRECT(\"1:\"&ROWS(fautes)))),ROWS($1:$37))),\"\")","v":0},{"$f":"IF(ROWS($1:$38)<=COUNTIF(joueurs,$B77),INDEX(fautes,SMALL(IF(joueurs=$B77,ROW(INDIRECT(\"1:\"&ROWS(fautes)))),ROWS($1:$38))),\"\")","v":0},{"$f":"IF(ROWS($1:$39)<=COUNTIF(joueurs,$B77),INDEX(fautes,SMALL(IF(joueurs=$B77,ROW(INDIRECT(\"1:\"&ROWS(fautes)))),ROWS($1:$39))),\"\")","v":0},{"$f":"IF(ROWS($1:$40)<=COUNTIF(joueurs,$B77),INDEX(fautes,SMALL(IF(joueurs=$B77,ROW(INDIRECT(\"1:\"&ROWS(fautes)))),ROWS($1:$40))),\"\")","v":0},{"$f":"IF(ROWS($1:$31)<=COUNTIF(joueurs,$B77),INDEX(ballonperdus,SMALL(IF(joueurs=$B77,ROW(INDIRECT(\"1:\"&ROWS(ballonperdus)))),ROWS($1:$31))),\"\")","v":0},{"$f":"IF(ROWS($1:$32)<=COUNTIF(joueurs,$B77),INDEX(ballonperdus,SMALL(IF(joueurs=$B77,ROW(INDIRECT(\"1:\"&ROWS(ballonperdus)))),ROWS($1:$32))),\"\")","v":0},{"$f":"IF(ROWS($1:$33)<=COUNTIF(joueurs,$B77),INDEX(ballonperdus,SMALL(IF(joueurs=$B77,ROW(INDIRECT(\"1:\"&ROWS(ballonperdus)))),ROWS($1:$33))),\"\")","v":0},{"$f":"IF(ROWS($1:$34)<=COUNTIF(joueurs,$B77),INDEX(ballonperdus,SMALL(IF(joueurs=$B77,ROW(INDIRECT(\"1:\"&ROWS(ballonperdus)))),ROWS($1:$34))),\"\")","v":0},{"$f":"IF(ROWS($1:$35)<=COUNTIF(joueurs,$B77),INDEX(ballonperdus,SMALL(IF(joueurs=$B77,ROW(INDIRECT(\"1:\"&ROWS(ballonperdus)))),ROWS($1:$35))),\"\")","v":0},{"$f":"IF(ROWS($1:$36)<=COUNTIF(joueurs,$B77),INDEX(ballonperdus,SMALL(IF(joueurs=$B77,ROW(INDIRECT(\"1:\"&ROWS(ballonperdus)))),ROWS($1:$36))),\"\")","v":0},{"$f":"IF(ROWS($1:$37)<=COUNTIF(joueurs,$B77),INDEX(ballonperdus,SMALL(IF(joueurs=$B77,ROW(INDIRECT(\"1:\"&ROWS(ballonperdus)))),ROWS($1:$37))),\"\")","v":0},{"$f":"IF(ROWS($1:$38)<=COUNTIF(joueurs,$B77),INDEX(ballonperdus,SMALL(IF(joueurs=$B77,ROW(INDIRECT(\"1:\"&ROWS(ballonperdus)))),ROWS($1:$38))),\"\")","v":0},{"$f":"IF(ROWS($1:$39)<=COUNTIF(joueurs,$B77),INDEX(ballonperdus,SMALL(IF(joueurs=$B77,ROW(INDIRECT(\"1:\"&ROWS(ballonperdus)))),ROWS($1:$39))),\"\")","v":0},{"$f":"IF(ROWS($1:$40)<=COUNTIF(joueurs,$B77),INDEX(ballonperdus,SMALL(IF(joueurs=$B77,ROW(INDIRECT(\"1:\"&ROWS(ballonperdus)))),ROWS($1:$40))),\"\")","v":0},{"$f":"IF(ROWS($1:$31)<=COUNTIF(joueurs,$B77),INDEX(interceptions,SMALL(IF(joueurs=$B77,ROW(INDIRECT(\"1:\"&ROWS(interceptions)))),ROWS($1:$31))),\"\")","v":0},{"$f":"IF(ROWS($1:$32)<=COUNTIF(joueurs,$B77),INDEX(interceptions,SMALL(IF(joueurs=$B77,ROW(INDIRECT(\"1:\"&ROWS(interceptions)))),ROWS($1:$32))),\"\")","v":0},{"$f":"IF(ROWS($1:$33)<=COUNTIF(joueurs,$B77),INDEX(interceptions,SMALL(IF(joueurs=$B77,ROW(INDIRECT(\"1:\"&ROWS(interceptions)))),ROWS($1:$33))),\"\")","v":0},{"$f":"IF(ROWS($1:$34)<=COUNTIF(joueurs,$B77),INDEX(interceptions,SMALL(IF(joueurs=$B77,ROW(INDIRECT(\"1:\"&ROWS(interceptions)))),ROWS($1:$34))),\"\")","v":0},{"$f":"IF(ROWS($1:$35)<=COUNTIF(joueurs,$B77),INDEX(interceptions,SMALL(IF(joueurs=$B77,ROW(INDIRECT(\"1:\"&ROWS(interceptions)))),ROWS($1:$35))),\"\")","v":0},{"$f":"IF(ROWS($1:$36)<=COUNTIF(joueurs,$B77),INDEX(interceptions,SMALL(IF(joueurs=$B77,ROW(INDIRECT(\"1:\"&ROWS(interceptions)))),ROWS($1:$36))),\"\")","v":0},{"$f":"IF(ROWS($1:$37)<=COUNTIF(joueurs,$B77),INDEX(interceptions,SMALL(IF(joueurs=$B77,ROW(INDIRECT(\"1:\"&ROWS(interceptions)))),ROWS($1:$37))),\"\")","v":0},{"$f":"IF(ROWS($1:$38)<=COUNTIF(joueurs,$B77),INDEX(interceptions,SMALL(IF(joueurs=$B77,ROW(INDIRECT(\"1:\"&ROWS(interceptions)))),ROWS($1:$38))),\"\")","v":0},{"$f":"IF(ROWS($1:$39)<=COUNTIF(joueurs,$B77),INDEX(interceptions,SMALL(IF(joueurs=$B77,ROW(INDIRECT(\"1:\"&ROWS(interceptions)))),ROWS($1:$39))),\"\")","v":0},{"$f":"IF(ROWS($1:$40)<=COUNTIF(joueurs,$B77),INDEX(interceptions,SMALL(IF(joueurs=$B77,ROW(INDIRECT(\"1:\"&ROWS(interceptions)))),ROWS($1:$40))),\"\")","v":0},{"$f":"IF(ROWS($1:$31)<=COUNTIF(joueurs,$B77),INDEX(ballonrecuperes,SMALL(IF(joueurs=$B77,ROW(INDIRECT(\"1:\"&ROWS(ballonrecuperes)))),ROWS($1:$31))),\"\")","v":0},{"$f":"IF(ROWS($1:$32)<=COUNTIF(joueurs,$B77),INDEX(ballonrecuperes,SMALL(IF(joueurs=$B77,ROW(INDIRECT(\"1:\"&ROWS(ballonrecuperes)))),ROWS($1:$32))),\"\")","v":0},{"$f":"IF(ROWS($1:$33)<=COUNTIF(joueurs,$B77),INDEX(ballonrecuperes,SMALL(IF(joueurs=$B77,ROW(INDIRECT(\"1:\"&ROWS(ballonrecuperes)))),ROWS($1:$33))),\"\")","v":0},{"$f":"IF(ROWS($1:$34)<=COUNTIF(joueurs,$B77),INDEX(ballonrecuperes,SMALL(IF(joueurs=$B77,ROW(INDIRECT(\"1:\"&ROWS(ballonrecuperes)))),ROWS($1:$34))),\"\")","v":0},{"$f":"IF(ROWS($1:$35)<=COUNTIF(joueurs,$B77),INDEX(ballonrecuperes,SMALL(IF(joueurs=$B77,ROW(INDIRECT(\"1:\"&ROWS(ballonrecuperes)))),ROWS($1:$35))),\"\")","v":0},{"$f":"IF(ROWS($1:$36)<=COUNTIF(joueurs,$B77),INDEX(ballonrecuperes,SMALL(IF(joueurs=$B77,ROW(INDIRECT(\"1:\"&ROWS(ballonrecuperes)))),ROWS($1:$36))),\"\")","v":0},{"$f":"IF(ROWS($1:$37)<=COUNTIF(joueurs,$B77),INDEX(ballonrecuperes,SMALL(IF(joueurs=$B77,ROW(INDIRECT(\"1:\"&ROWS(ballonrecuperes)))),ROWS($1:$37))),\"\")","v":0},{"$f":"IF(ROWS($1:$38)<=COUNTIF(joueurs,$B77),INDEX(ballonrecuperes,SMALL(IF(joueurs=$B77,ROW(INDIRECT(\"1:\"&ROWS(ballonrecuperes)))),ROWS($1:$38))),\"\")","v":0},{"$f":"IF(ROWS($1:$39)<=COUNTIF(joueurs,$B77),INDEX(ballonrecuperes,SMALL(IF(joueurs=$B77,ROW(INDIRECT(\"1:\"&ROWS(ballonrecuperes)))),ROWS($1:$39))),\"\")","v":0},{"$f":"IF(ROWS($1:$40)<=COUNTIF(joueurs,$B77),INDEX(ballonrecuperes,SMALL(IF(joueurs=$B77,ROW(INDIRECT(\"1:\"&ROWS(ballonrecuperes)))),ROWS($1:$40))),\"\")","v":0},{"$f":"IF(ROWS($1:$31)<=COUNTIF(joueurs,$B77),INDEX(tirs,SMALL(IF(joueurs=$B77,ROW(INDIRECT(\"1:\"&ROWS(tirs)))),ROWS($1:$31))),\"\")","v":0},{"$f":"IF(ROWS($1:$32)<=COUNTIF(joueurs,$B77),INDEX(tirs,SMALL(IF(joueurs=$B77,ROW(INDIRECT(\"1:\"&ROWS(tirs)))),ROWS($1:$32))),\"\")","v":0},{"$f":"IF(ROWS($1:$33)<=COUNTIF(joueurs,$B77),INDEX(tirs,SMALL(IF(joueurs=$B77,ROW(INDIRECT(\"1:\"&ROWS(tirs)))),ROWS($1:$33))),\"\")","v":0},{"$f":"IF(ROWS($1:$34)<=COUNTIF(joueurs,$B77),INDEX(tirs,SMALL(IF(joueurs=$B77,ROW(INDIRECT(\"1:\"&ROWS(tirs)))),ROWS($1:$34))),\"\")","v":0},{"$f":"IF(ROWS($1:$35)<=COUNTIF(joueurs,$B77),INDEX(tirs,SMALL(IF(joueurs=$B77,ROW(INDIRECT(\"1:\"&ROWS(tirs)))),ROWS($1:$35))),\"\")","v":0},{"$f":"IF(ROWS($1:$36)<=COUNTIF(joueurs,$B77),INDEX(tirs,SMALL(IF(joueurs=$B77,ROW(INDIRECT(\"1:\"&ROWS(tirs)))),ROWS($1:$36))),\"\")","v":0},{"$f":"IF(ROWS($1:$37)<=COUNTIF(joueurs,$B77),INDEX(tirs,SMALL(IF(joueurs=$B77,ROW(INDIRECT(\"1:\"&ROWS(tirs)))),ROWS($1:$37))),\"\")","v":0},{"$f":"IF(ROWS($1:$38)<=COUNTIF(joueurs,$B77),INDEX(tirs,SMALL(IF(joueurs=$B77,ROW(INDIRECT(\"1:\"&ROWS(tirs)))),ROWS($1:$38))),\"\")","v":0},{"$f":"IF(ROWS($1:$39)<=COUNTIF(joueurs,$B77),INDEX(tirs,SMALL(IF(joueurs=$B77,ROW(INDIRECT(\"1:\"&ROWS(tirs)))),ROWS($1:$39))),\"\")","v":0},{"$f":"IF(ROWS($1:$40)<=COUNTIF(joueurs,$B77),INDEX(tirs,SMALL(IF(joueurs=$B77,ROW(INDIRECT(\"1:\"&ROWS(tirs)))),ROWS($1:$40))),\"\")","v":0},{"$f":"IF(ROWS($1:$31)<=COUNTIF(joueurs,$B77),INDEX(bontirs,SMALL(IF(joueurs=$B77,ROW(INDIRECT(\"1:\"&ROWS(bontirs)))),ROWS($1:$31))),\"\")","v":0},{"$f":"IF(ROWS($1:$32)<=COUNTIF(joueurs,$B77),INDEX(bontirs,SMALL(IF(joueurs=$B77,ROW(INDIRECT(\"1:\"&ROWS(bontirs)))),ROWS($1:$32))),\"\")","v":0},{"$f":"IF(ROWS($1:$33)<=COUNTIF(joueurs,$B77),INDEX(bontirs,SMALL(IF(joueurs=$B77,ROW(INDIRECT(\"1:\"&ROWS(bontirs)))),ROWS($1:$33))),\"\")","v":0},{"$f":"IF(ROWS($1:$34)<=COUNTIF(joueurs,$B77),INDEX(bontirs,SMALL(IF(joueurs=$B77,ROW(INDIRECT(\"1:\"&ROWS(bontirs)))),ROWS($1:$34))),\"\")","v":0},{"$f":"IF(ROWS($1:$35)<=COUNTIF(joueurs,$B77),INDEX(bontirs,SMALL(IF(joueurs=$B77,ROW(INDIRECT(\"1:\"&ROWS(bontirs)))),ROWS($1:$35))),\"\")","v":0},{"$f":"IF(ROWS($1:$36)<=COUNTIF(joueurs,$B77),INDEX(bontirs,SMALL(IF(joueurs=$B77,ROW(INDIRECT(\"1:\"&ROWS(bontirs)))),ROWS($1:$36))),\"\")","v":0},{"$f":"IF(ROWS($1:$37)<=COUNTIF(joueurs,$B77),INDEX(bontirs,SMALL(IF(joueurs=$B77,ROW(INDIRECT(\"1:\"&ROWS(bontirs)))),ROWS($1:$37))),\"\")","v":0},{"$f":"IF(ROWS($1:$38)<=COUNTIF(joueurs,$B77),INDEX(bontirs,SMALL(IF(joueurs=$B77,ROW(INDIRECT(\"1:\"&ROWS(bontirs)))),ROWS($1:$38))),\"\")","v":0},{"$f":"IF(ROWS($1:$39)<=COUNTIF(joueurs,$B77),INDEX(bontirs,SMALL(IF(joueurs=$B77,ROW(INDIRECT(\"1:\"&ROWS(bontirs)))),ROWS($1:$39))),\"\")","v":0},{"$f":"IF(ROWS($1:$40)<=COUNTIF(joueurs,$B77),INDEX(bontirs,SMALL(IF(joueurs=$B77,ROW(INDIRECT(\"1:\"&ROWS(bontirs)))),ROWS($1:$40))),\"\")","v":0},{"$f":"IF(ROWS($1:$31)<=COUNTIF(joueurs,$B77),INDEX(points,SMALL(IF(joueurs=$B77,ROW(INDIRECT(\"1:\"&ROWS(points)))),ROWS($1:$31))),\"\")","v":0},{"$f":"IF(ROWS($1:$32)<=COUNTIF(joueurs,$B77),INDEX(points,SMALL(IF(joueurs=$B77,ROW(INDIRECT(\"1:\"&ROWS(points)))),ROWS($1:$32))),\"\")","v":0},{"$f":"IF(ROWS($1:$33)<=COUNTIF(joueurs,$B77),INDEX(points,SMALL(IF(joueurs=$B77,ROW(INDIRECT(\"1:\"&ROWS(points)))),ROWS($1:$33))),\"\")","v":0},{"$f":"IF(ROWS($1:$34)<=COUNTIF(joueurs,$B77),INDEX(points,SMALL(IF(joueurs=$B77,ROW(INDIRECT(\"1:\"&ROWS(points)))),ROWS($1:$34))),\"\")","v":0},{"$f":"IF(ROWS($1:$35)<=COUNTIF(joueurs,$B77),INDEX(points,SMALL(IF(joueurs=$B77,ROW(INDIRECT(\"1:\"&ROWS(points)))),ROWS($1:$35))),\"\")","v":0},{"$f":"IF(ROWS($1:$36)<=COUNTIF(joueurs,$B77),INDEX(points,SMALL(IF(joueurs=$B77,ROW(INDIRECT(\"1:\"&ROWS(points)))),ROWS($1:$36))),\"\")","v":0},{"$f":"IF(ROWS($1:$37)<=COUNTIF(joueurs,$B77),INDEX(points,SMALL(IF(joueurs=$B77,ROW(INDIRECT(\"1:\"&ROWS(points)))),ROWS($1:$37))),\"\")","v":0},{"$f":"IF(ROWS($1:$38)<=COUNTIF(joueurs,$B77),INDEX(points,SMALL(IF(joueurs=$B77,ROW(INDIRECT(\"1:\"&ROWS(points)))),ROWS($1:$38))),\"\")","v":0},{"$f":"IF(ROWS($1:$39)<=COUNTIF(joueurs,$B77),INDEX(points,SMALL(IF(joueurs=$B77,ROW(INDIRECT(\"1:\"&ROWS(points)))),ROWS($1:$39))),\"\")","v":0},{"$f":"IF(ROWS($1:$40)<=COUNTIF(joueurs,$B77),INDEX(points,SMALL(IF(joueurs=$B77,ROW(INDIRECT(\"1:\"&ROWS(points)))),ROWS($1:$40))),\"\")","v":0},{"$f":"IF(ROWS($1:$31)<=COUNTIF(joueurs,$B77),INDEX(victoires,SMALL(IF(joueurs=$B77,ROW(INDIRECT(\"1:\"&ROWS(victoires)))),ROWS($1:$31))),\"\")","v":0},{"$f":"IF(ROWS($1:$32)<=COUNTIF(joueurs,$B77),INDEX(victoires,SMALL(IF(joueurs=$B77,ROW(INDIRECT(\"1:\"&ROWS(victoires)))),ROWS($1:$32))),\"\")","v":0},{"$f":"IF(ROWS($1:$33)<=COUNTIF(joueurs,$B77),INDEX(victoires,SMALL(IF(joueurs=$B77,ROW(INDIRECT(\"1:\"&ROWS(victoires)))),ROWS($1:$33))),\"\")","v":0},{"$f":"IF(ROWS($1:$34)<=COUNTIF(joueurs,$B77),INDEX(victoires,SMALL(IF(joueurs=$B77,ROW(INDIRECT(\"1:\"&ROWS(victoires)))),ROWS($1:$34))),\"\")","v":0},{"$f":"IF(ROWS($1:$35)<=COUNTIF(joueurs,$B77),INDEX(victoires,SMALL(IF(joueurs=$B77,ROW(INDIRECT(\"1:\"&ROWS(victoires)))),ROWS($1:$35))),\"\")","v":0},{"$f":"IF(ROWS($1:$36)<=COUNTIF(joueurs,$B77),INDEX(victoires,SMALL(IF(joueurs=$B77,ROW(INDIRECT(\"1:\"&ROWS(victoires)))),ROWS($1:$36))),\"\")","v":0},{"$f":"IF(ROWS($1:$37)<=COUNTIF(joueurs,$B77),INDEX(victoires,SMALL(IF(joueurs=$B77,ROW(INDIRECT(\"1:\"&ROWS(victoires)))),ROWS($1:$37))),\"\")","v":0},{"$f":"IF(ROWS($1:$38)<=COUNTIF(joueurs,$B77),INDEX(victoires,SMALL(IF(joueurs=$B77,ROW(INDIRECT(\"1:\"&ROWS(victoires)))),ROWS($1:$38))),\"\")","v":0},{"$f":"IF(ROWS($1:$39)<=COUNTIF(joueurs,$B77),INDEX(victoires,SMALL(IF(joueurs=$B77,ROW(INDIRECT(\"1:\"&ROWS(victoires)))),ROWS($1:$39))),\"\")","v":0},{"$f":"IF(ROWS($1:$40)<=COUNTIF(joueurs,$B77),INDEX(victoires,SMALL(IF(joueurs=$B77,ROW(INDIRECT(\"1:\"&ROWS(victoires)))),ROWS($1:$40))),\"\")","v":0}]
[20,{"$f":"INDEX(eleves,MATCH(A81,numero,0),MATCH($B$2,classes,0))","v":0},null,{"$f":"IF(ROWS($1:$1)<=COUNTIF(joueurs,$B81),INDEX(fautes,SMALL(IF(joueurs=$B81,ROW(INDIRECT(\"1:\"&ROWS(fautes)))),ROWS($1:$1))),\"\")","v":0},{"$f":"IF(ROWS($1:$2)<=COUNTIF(joueurs,$B81),INDEX(fautes,SMALL(IF(joueurs=$B81,ROW(INDIRECT(\"1:\"&ROWS(fautes)))),ROWS($1:$2))),\"\")","v":0},{"$f":"IF(ROWS($1:$3)<=COUNTIF(joueurs,$B81),INDEX(fautes,SMALL(IF(joueurs=$B81,ROW(INDIRECT(\"1:\"&ROWS(fautes)))),ROWS($1:$3))),\"\")","v":0},{"$f":"IF(ROWS($1:$4)<=COUNTIF(joueurs,$B81),INDEX(fautes,SMALL(IF(joueurs=$B81,ROW(INDIRECT(\"1:\"&ROWS(fautes)))),ROWS($1:$4))),\"\")","v":0},{"$f":"IF(ROWS($1:$5)<=COUNTIF(joueurs,$B81),INDEX(fautes,SMALL(IF(joueurs=$B81,ROW(INDIRECT(\"1:\"&ROWS(fautes)))),ROWS($1:$5))),\"\")","v":0},{"$f":"IF(ROWS($1:$6)<=COUNTIF(joueurs,$B81),INDEX(fautes,SMALL(IF(joueurs=$B81,ROW(INDIRECT(\"1:\"&ROWS(fautes)))),ROWS($1:$6))),\"\")","v":0},{"$f":"IF(ROWS($1:$7)<=COUNTIF(joueurs,$B81),INDEX(fautes,SMALL(IF(joueurs=$B81,ROW(INDIRECT(\"1:\"&ROWS(fautes)))),ROWS($1:$7))),\"\")","v":0},{"$f":"IF(ROWS($1:$8)<=COUNTIF(joueurs,$B81),INDEX(fautes,SMALL(IF(joueurs=$B81,ROW(INDIRECT(\"1:\"&ROWS(fautes)))),ROWS($1:$8))),\"\")","v":0},{"$f":"IF(ROWS($1:$9)<=COUNTIF(joueurs,$B81),INDEX(fautes,SMALL(IF(joueurs=$B81,ROW(INDIRECT(\"1:\"&ROWS(fautes)))),ROWS($1:$9))),\"\")","v":0},{"$f":"IF(ROWS($1:$10)<=COUNTIF(joueurs,$B81),INDEX(fautes,SMALL(IF(joueurs=$B81,ROW(INDIRECT(\"1:\"&ROWS(fautes)))),ROWS($1:$10))),\"\")","v":0},{"$f":"IF(ROWS($1:$1)<=COUNTIF(joueurs,$B81),INDEX(ballonperdus,SMALL(IF(joueurs=$B81,ROW(INDIRECT(\"1:\"&ROWS(ballonperdus)))),ROWS($1:$1))),\"\")","v":0},{"$f":"IF(ROWS($1:$2)<=COUNTIF(joueurs,$B81),INDEX(ballonperdus,SMALL(IF(joueurs=$B81,ROW(INDIRECT(\"1:\"&ROWS(ballonperdus)))),ROWS($1:$2))),\"\")","v":0},{"$f":"IF(ROWS($1:$3)<=COUNTIF(joueurs,$B81),INDEX(ballonperdus,SMALL(IF(joueurs=$B81,ROW(INDIRECT(\"1:\"&ROWS(ballonperdus)))),ROWS($1:$3))),\"\")","v":0},{"$f":"IF(ROWS($1:$4)<=COUNTIF(joueurs,$B81),INDEX(ballonperdus,SMALL(IF(joueurs=$B81,ROW(INDIRECT(\"1:\"&ROWS(ballonperdus)))),ROWS($1:$4))),\"\")","v":0},{"$f":"IF(ROWS($1:$5)<=COUNTIF(joueurs,$B81),INDEX(ballonperdus,SMALL(IF(joueurs=$B81,ROW(INDIRECT(\"1:\"&ROWS(ballonperdus)))),ROWS($1:$5))),\"\")","v":0},{"$f":"IF(ROWS($1:$6)<=COUNTIF(joueurs,$B81),INDEX(ballonperdus,SMALL(IF(joueurs=$B81,ROW(INDIRECT(\"1:\"&ROWS(ballonperdus)))),ROWS($1:$6))),\"\")","v":0},{"$f":"IF(ROWS($1:$7)<=COUNTIF(joueurs,$B81),INDEX(ballonperdus,SMALL(IF(joueurs=$B81,ROW(INDIRECT(\"1:\"&ROWS(ballonperdus)))),ROWS($1:$7))),\"\")","v":0},{"$f":"IF(ROWS($1:$8)<=COUNTIF(joueurs,$B81),INDEX(ballonperdus,SMALL(IF(joueurs=$B81,ROW(INDIRECT(\"1:\"&ROWS(ballonperdus)))),ROWS($1:$8))),\"\")","v":0},{"$f":"IF(ROWS($1:$9)<=COUNTIF(joueurs,$B81),INDEX(ballonperdus,SMALL(IF(joueurs=$B81,ROW(INDIRECT(\"1:\"&ROWS(ballonperdus)))),ROWS($1:$9))),\"\")","v":0},{"$f":"IF(ROWS($1:$10)<=COUNTIF(joueurs,$B81),INDEX(ballonperdus,SMALL(IF(joueurs=$B81,ROW(INDIRECT(\"1:\"&ROWS(ballonperdus)))),ROWS($1:$10))),\"\")","v":0},{"$f":"IF(ROWS($1:$1)<=COUNTIF(joueurs,$B81),INDEX(interceptions,SMALL(IF(joueurs=$B81,ROW(INDIRECT(\"1:\"&ROWS(interceptions)))),ROWS($1:$1))),\"\")","v":0},{"$f":"IF(ROWS($1:$2)<=COUNTIF(joueurs,$B81),INDEX(interceptions,SMALL(IF(joueurs=$B81,ROW(INDIRECT(\"1:\"&ROWS(interceptions)))),ROWS($1:$2))),\"\")","v":0},{"$f":"IF(ROWS($1:$3)<=COUNTIF(joueurs,$B81),INDEX(interceptions,SMALL(IF(joueurs=$B81,ROW(INDIRECT(\"1:\"&ROWS(interceptions)))),ROWS($1:$3))),\"\")","v":0},{"$f":"IF(ROWS($1:$4)<=COUNTIF(joueurs,$B81),INDEX(interceptions,SMALL(IF(joueurs=$B81,ROW(INDIRECT(\"1:\"&ROWS(interceptions)))),ROWS($1:$4))),\"\")","v":0},{"$f":"IF(ROWS($1:$5)<=COUNTIF(joueurs,$B81),INDEX(interceptions,SMALL(IF(joueurs=$B81,ROW(INDIRECT(\"1:\"&ROWS(interceptions)))),ROWS($1:$5))),\"\")","v":0},{"$f":"IF(ROWS($1:$6)<=COUNTIF(joueurs,$B81),INDEX(interceptions,SMALL(IF(joueurs=$B81,ROW(INDIRECT(\"1:\"&ROWS(interceptions)))),ROWS($1:$6))),\"\")","v":0},{"$f":"IF(ROWS($1:$7)<=COUNTIF(joueurs,$B81),INDEX(interceptions,SMALL(IF(joueurs=$B81,ROW(INDIRECT(\"1:\"&ROWS(interceptions)))),ROWS($1:$7))),\"\")","v":0},{"$f":"IF(ROWS($1:$8)<=COUNTIF(joueurs,$B81),INDEX(interceptions,SMALL(IF(joueurs=$B81,ROW(INDIRECT(\"1:\"&ROWS(interceptions)))),ROWS($1:$8))),\"\")","v":0},{"$f":"IF(ROWS($1:$9)<=COUNTIF(joueurs,$B81),INDEX(interceptions,SMALL(IF(joueurs=$B81,ROW(INDIRECT(\"1:\"&ROWS(interceptions)))),ROWS($1:$9))),\"\")","v":0},{"$f":"IF(ROWS($1:$10)<=COUNTIF(joueurs,$B81),INDEX(interceptions,SMALL(IF(joueurs=$B81,ROW(INDIRECT(\"1:\"&ROWS(interceptions)))),ROWS($1:$10))),\"\")","v":0},{"$f":"IF(ROWS($1:$1)<=COUNTIF(joueurs,$B81),INDEX(ballonrecuperes,SMALL(IF(joueurs=$B81,ROW(INDIRECT(\"1:\"&ROWS(ballonrecuperes)))),ROWS($1:$1))),\"\")","v":0},{"$f":"IF(ROWS($1:$2)<=COUNTIF(joueurs,$B81),INDEX(ballonrecuperes,SMALL(IF(joueurs=$B81,ROW(INDIRECT(\"1:\"&ROWS(ballonrecuperes)))),ROWS($1:$2))),\"\")","v":0},{"$f":"IF(ROWS($1:$3)<=COUNTIF(joueurs,$B81),INDEX(ballonrecuperes,SMALL(IF(joueurs=$B81,ROW(INDIRECT(\"1:\"&ROWS(ballonrecuperes)))),ROWS($1:$3))),\"\")","v":0},{"$f":"IF(ROWS($1:$4)<=COUNTIF(joueurs,$B81),INDEX(ballonrecuperes,SMALL(IF(joueurs=$B81,ROW(INDIRECT(\"1:\"&ROWS(ballonrecuperes)))),ROWS($1:$4))),\"\")","v":0},{"$f":"IF(ROWS($1:$5)<=COUNTIF(joueurs,$B81),INDEX(ballonrecuperes,SMALL(IF(joueurs=$B81,ROW(INDIRECT(\"1:\"&ROWS(ballonrecuperes)))),ROWS($1:$5))),\"\")","v":0},{"$f":"IF(ROWS($1:$6)<=COUNTIF(joueurs,$B81),INDEX(ballonrecuperes,SMALL(IF(joueurs=$B81,ROW(INDIRECT(\"1:\"&ROWS(ballonrecuperes)))),ROWS($1:$6))),\"\")","v":0},{"$f":"IF(ROWS($1:$7)<=COUNTIF(joueurs,$B81),INDEX(ballonrecuperes,SMALL(IF(joueurs=$B81,ROW(INDIRECT(\"1:\"&ROWS(ballonrecuperes)))),ROWS($1:$7))),\"\")","v":0},{"$f":"IF(ROWS($1:$8)<=COUNTIF(joueurs,$B81),INDEX(ballonrecuperes,SMALL(IF(joueurs=$B81,ROW(INDIRECT(\"1:\"&ROWS(ballonrecuperes)))),ROWS($1:$8))),\"\")","v":0},{"$f":"IF(ROWS($1:$9)<=COUNTIF(joueurs,$B81),INDEX(ballonrecuperes,SMALL(IF(joueurs=$B81,ROW(INDIRECT(\"1:\"&ROWS(ballonrecuperes)))),ROWS($1:$9))),\"\")","v":0},{"$f":"IF(ROWS($1:$10)<=COUNTIF(joueurs,$B81),INDEX(ballonrecuperes,SMALL(IF(joueurs=$B81,ROW(INDIRECT(\"1:\"&ROWS(ballonrecuperes)))),ROWS($1:$10))),\"\")","v":0},{"$f":"IF(ROWS($1:$1)<=COUNTIF(joueurs,$B81),INDEX(tirs,SMALL(IF(joueurs=$B81,ROW(INDIRECT(\"1:\"&ROWS(tirs)))),ROWS($1:$1))),\"\")","v":0},{"$f":"IF(ROWS($1:$2)<=COUNTIF(joueurs,$B81),INDEX(tirs,SMALL(IF(joueurs=$B81,ROW(INDIRECT(\"1:\"&ROWS(tirs)))),ROWS($1:$2))),\"\")","v":0},{"$f":"IF(ROWS($1:$3)<=COUNTIF(joueurs,$B81),INDEX(tirs,SMALL(IF(joueurs=$B81,ROW(INDIRECT(\"1:\"&ROWS(tirs)))),ROWS($1:$3))),\"\")","v":0},{"$f":"IF(ROWS($1:$4)<=COUNTIF(joueurs,$B81),INDEX(tirs,SMALL(IF(joueurs=$B81,ROW(INDIRECT(\"1:\"&ROWS(tirs)))),ROWS($1:$4))),\"\")","v":0},{"$f":"IF(ROWS($1:$5)<=COUNTIF(joueurs,$B81),INDEX(tirs,SMALL(IF(joueurs=$B81,ROW(INDIRECT(\"1:\"&ROWS(tirs)))),ROWS($1:$5))),\"\")","v":0},{"$f":"IF(ROWS($1:$6)<=COUNTIF(joueurs,$B81),INDEX(tirs,SMALL(IF(joueurs=$B81,ROW(INDIRECT(\"1:\"&ROWS(tirs)))),ROWS($1:$6))),\"\")","v":0},{"$f":"IF(ROWS($1:$7)<=COUNTIF(joueurs,$B81),INDEX(tirs,SMALL(IF(joueurs=$B81,ROW(INDIRECT(\"1:\"&ROWS(tirs)))),ROWS($1:$7))),\"\")","v":0},{"$f":"IF(ROWS($1:$8)<=COUNTIF(joueurs,$B81),INDEX(tirs,SMALL(IF(joueurs=$B81,ROW(INDIRECT(\"1:\"&ROWS(tirs)))),ROWS($1:$8))),\"\")","v":0},{"$f":"IF(ROWS($1:$9)<=COUNTIF(joueurs,$B81),INDEX(tirs,SMALL(IF(joueurs=$B81,ROW(INDIRECT(\"1:\"&ROWS(tirs)))),ROWS($1:$9))),\"\")","v":0},{"$f":"IF(ROWS($1:$10)<=COUNTIF(joueurs,$B81),INDEX(tirs,SMALL(IF(joueurs=$B81,ROW(INDIRECT(\"1:\"&ROWS(tirs)))),ROWS($1:$10))),\"\")","v":0},{"$f":"IF(ROWS($1:$1)<=COUNTIF(joueurs,$B81),INDEX(bontirs,SMALL(IF(joueurs=$B81,ROW(INDIRECT(\"1:\"&ROWS(bontirs)))),ROWS($1:$1))),\"\")","v":0},{"$f":"IF(ROWS($1:$2)<=COUNTIF(joueurs,$B81),INDEX(bontirs,SMALL(IF(joueurs=$B81,ROW(INDIRECT(\"1:\"&ROWS(bontirs)))),ROWS($1:$2))),\"\")","v":0},{"$f":"IF(ROWS($1:$3)<=COUNTIF(joueurs,$B81),INDEX(bontirs,SMALL(IF(joueurs=$B81,ROW(INDIRECT(\"1:\"&ROWS(bontirs)))),ROWS($1:$3))),\"\")","v":0},{"$f":"IF(ROWS($1:$4)<=COUNTIF(joueurs,$B81),INDEX(bontirs,SMALL(IF(joueurs=$B81,ROW(INDIRECT(\"1:\"&ROWS(bontirs)))),ROWS($1:$4))),\"\")","v":0},{"$f":"IF(ROWS($1:$5)<=COUNTIF(joueurs,$B81),INDEX(bontirs,SMALL(IF(joueurs=$B81,ROW(INDIRECT(\"1:\"&ROWS(bontirs)))),ROWS($1:$5))),\"\")","v":0},{"$f":"IF(ROWS($1:$6)<=COUNTIF(joueurs,$B81),INDEX(bontirs,SMALL(IF(joueurs=$B81,ROW(INDIRECT(\"1:\"&ROWS(bontirs)))),ROWS($1:$6))),\"\")","v":0},{"$f":"IF(ROWS($1:$7)<=COUNTIF(joueurs,$B81),INDEX(bontirs,SMALL(IF(joueurs=$B81,ROW(INDIRECT(\"1:\"&ROWS(bontirs)))),ROWS($1:$7))),\"\")","v":0},{"$f":"IF(ROWS($1:$8)<=COUNTIF(joueurs,$B81),INDEX(bontirs,SMALL(IF(joueurs=$B81,ROW(INDIRECT(\"1:\"&ROWS(bontirs)))),ROWS($1:$8))),\"\")","v":0},{"$f":"IF(ROWS($1:$9)<=COUNTIF(joueurs,$B81),INDEX(bontirs,SMALL(IF(joueurs=$B81,ROW(INDIRECT(\"1:\"&ROWS(bontirs)))),ROWS($1:$9))),\"\")","v":0},{"$f":"IF(ROWS($1:$10)<=COUNTIF(joueurs,$B81),INDEX(bontirs,SMALL(IF(joueurs=$B81,ROW(INDIRECT(\"1:\"&ROWS(bontirs)))),ROWS($1:$10))),\"\")","v":0},{"$f":"IF(ROWS($1:$1)<=COUNTIF(joueurs,$B81),INDEX(points,SMALL(IF(joueurs=$B81,ROW(INDIRECT(\"1:\"&ROWS(points)))),ROWS($1:$1))),\"\")","v":0},{"$f":"IF(ROWS($1:$2)<=COUNTIF(joueurs,$B81),INDEX(points,SMALL(IF(joueurs=$B81,ROW(INDIRECT(\"1:\"&ROWS(points)))),ROWS($1:$2))),\"\")","v":0},{"$f":"IF(ROWS($1:$3)<=COUNTIF(joueurs,$B81),INDEX(points,SMALL(IF(joueurs=$B81,ROW(INDIRECT(\"1:\"&ROWS(points)))),ROWS($1:$3))),\"\")","v":0},{"$f":"IF(ROWS($1:$4)<=COUNTIF(joueurs,$B81),INDEX(points,SMALL(IF(joueurs=$B81,ROW(INDIRECT(\"1:\"&ROWS(points)))),ROWS($1:$4))),\"\")","v":0},{"$f":"IF(ROWS($1:$5)<=COUNTIF(joueurs,$B81),INDEX(points,SMALL(IF(joueurs=$B81,ROW(INDIRECT(\"1:\"&ROWS(points)))),ROWS($1:$5))),\"\")","v":0},{"$f":"IF(ROWS($1:$6)<=COUNTIF(joueurs,$B81),INDEX(points,SMALL(IF(joueurs=$B81,ROW(INDIRECT(\"1:\"&ROWS(points)))),ROWS($1:$6))),\"\")","v":0},{"$f":"IF(ROWS($1:$7)<=COUNTIF(joueurs,$B81),INDEX(points,SMALL(IF(joueurs=$B81,ROW(INDIRECT(\"1:\"&ROWS(points)))),ROWS($1:$7))),\"\")","v":0},{"$f":"IF(ROWS($1:$8)<=COUNTIF(joueurs,$B81),INDEX(points,SMALL(IF(joueurs=$B81,ROW(INDIRECT(\"1:\"&ROWS(points)))),ROWS($1:$8))),\"\")","v":0},{"$f":"IF(ROWS($1:$9)<=COUNTIF(joueurs,$B81),INDEX(points,SMALL(IF(joueurs=$B81,ROW(INDIRECT(\"1:\"&ROWS(points)))),ROWS($1:$9))),\"\")","v":0},{"$f":"IF(ROWS($1:$10)<=COUNTIF(joueurs,$B81),INDEX(points,SMALL(IF(joueurs=$B81,ROW(INDIRECT(\"1:\"&ROWS(points)))),ROWS($1:$10))),\"\")","v":0},{"$f":"IF(ROWS($1:$1)<=COUNTIF(joueurs,$B81),INDEX(victoires,SMALL(IF(joueurs=$B81,ROW(INDIRECT(\"1:\"&ROWS(victoires)))),ROWS($1:$1))),\"\")","v":0},{"$f":"IF(ROWS($1:$2)<=COUNTIF(joueurs,$B81),INDEX(victoires,SMALL(IF(joueurs=$B81,ROW(INDIRECT(\"1:\"&ROWS(victoires)))),ROWS($1:$2))),\"\")","v":0},{"$f":"IF(ROWS($1:$3)<=COUNTIF(joueurs,$B81),INDEX(victoires,SMALL(IF(joueurs=$B81,ROW(INDIRECT(\"1:\"&ROWS(victoires)))),ROWS($1:$3))),\"\")","v":0},{"$f":"IF(ROWS($1:$4)<=COUNTIF(joueurs,$B81),INDEX(victoires,SMALL(IF(joueurs=$B81,ROW(INDIRECT(\"1:\"&ROWS(victoires)))),ROWS($1:$4))),\"\")","v":0},{"$f":"IF(ROWS($1:$5)<=COUNTIF(joueurs,$B81),INDEX(victoires,SMALL(IF(joueurs=$B81,ROW(INDIRECT(\"1:\"&ROWS(victoires)))),ROWS($1:$5))),\"\")","v":0},{"$f":"IF(ROWS($1:$6)<=COUNTIF(joueurs,$B81),INDEX(victoires,SMALL(IF(joueurs=$B81,ROW(INDIRECT(\"1:\"&ROWS(victoires)))),ROWS($1:$6))),\"\")","v":0},{"$f":"IF(ROWS($1:$7)<=COUNTIF(joueurs,$B81),INDEX(victoires,SMALL(IF(joueurs=$B81,ROW(INDIRECT(\"1:\"&ROWS(victoires)))),ROWS($1:$7))),\"\")","v":0},{"$f":"IF(ROWS($1:$8)<=COUNTIF(joueurs,$B81),INDEX(victoires,SMALL(IF(joueurs=$B81,ROW(INDIRECT(\"1:\"&ROWS(victoires)))),ROWS($1:$8))),\"\")","v":0},{"$f":"IF(ROWS($1:$9)<=COUNTIF(joueurs,$B81),INDEX(victoires,SMALL(IF(joueurs=$B81,ROW(INDIRECT(\"1:\"&ROWS(victoires)))),ROWS($1:$9))),\"\")","v":0},{"$f":"IF(ROWS($1:$10)<=COUNTIF(joueurs,$B81),INDEX(victoires,SMALL(IF(joueurs=$B81,ROW(INDIRECT(\"1:\"&ROWS(victoires)))),ROWS($1:$10))),\"\")","v":0}]
[null,null,null,{"$f":"IF(ROWS($1:$11)<=COUNTIF(joueurs,$B81),INDEX(fautes,SMALL(IF(joueurs=$B81,ROW(INDIRECT(\"1:\"&ROWS(fautes)))),ROWS($1:$11))),\"\")","v":0},{"$f":"IF(ROWS($1:$12)<=COUNTIF(joueurs,$B81),INDEX(fautes,SMALL(IF(joueurs=$B81,ROW(INDIRECT(\"1:\"&ROWS(fautes)))),ROWS($1:$12))),\"\")","v":0},{"$f":"IF(ROWS($1:$13)<=COUNTIF(joueurs,$B81),INDEX(fautes,SMALL(IF(joueurs=$B81,ROW(INDIRECT(\"1:\"&ROWS(fautes)))),ROWS($1:$13))),\"\")","v":0},{"$f":"IF(ROWS($1:$14)<=COUNTIF(joueurs,$B81),INDEX(fautes,SMALL(IF(joueurs=$B81,ROW(INDIRECT(\"1:\"&ROWS(fautes)))),ROWS($1:$14))),\"\")","v":0},{"$f":"IF(ROWS($1:$15)<=COUNTIF(joueurs,$B81),INDEX(fautes,SMALL(IF(joueurs=$B81,ROW(INDIRECT(\"1:\"&ROWS(fautes)))),ROWS($1:$15))),\"\")","v":0},{"$f":"IF(ROWS($1:$16)<=COUNTIF(joueurs,$B81),INDEX(fautes,SMALL(IF(joueurs=$B81,ROW(INDIRECT(\"1:\"&ROWS(fautes)))),ROWS($1:$16))),\"\")","v":0},{"$f":"IF(ROWS($1:$17)<=COUNTIF(joueurs,$B81),INDEX(fautes,SMALL(IF(joueurs=$B81,ROW(INDIRECT(\"1:\"&ROWS(fautes)))),ROWS($1:$17))),\"\")","v":0},{"$f":"IF(ROWS($1:$18)<=COUNTIF(joueurs,$B81),INDEX(fautes,SMALL(IF(joueurs=$B81,ROW(INDIRECT(\"1:\"&ROWS(fautes)))),ROWS($1:$18))),\"\")","v":0},{"$f":"IF(ROWS($1:$19)<=COUNTIF(joueurs,$B81),INDEX(fautes,SMALL(IF(joueurs=$B81,ROW(INDIRECT(\"1:\"&ROWS(fautes)))),ROWS($1:$19))),\"\")","v":0},{"$f":"IF(ROWS($1:$20)<=COUNTIF(joueurs,$B81),INDEX(fautes,SMALL(IF(joueurs=$B81,ROW(INDIRECT(\"1:\"&ROWS(fautes)))),ROWS($1:$20))),\"\")","v":0},{"$f":"IF(ROWS($1:$11)<=COUNTIF(joueurs,$B81),INDEX(ballonperdus,SMALL(IF(joueurs=$B81,ROW(INDIRECT(\"1:\"&ROWS(ballonperdus)))),ROWS($1:$11))),\"\")","v":0},{"$f":"IF(ROWS($1:$12)<=COUNTIF(joueurs,$B81),INDEX(ballonperdus,SMALL(IF(joueurs=$B81,ROW(INDIRECT(\"1:\"&ROWS(ballonperdus)))),ROWS($1:$12))),\"\")","v":0},{"$f":"IF(ROWS($1:$13)<=COUNTIF(joueurs,$B81),INDEX(ballonperdus,SMALL(IF(joueurs=$B81,ROW(INDIRECT(\"1:\"&ROWS(ballonperdus)))),ROWS($1:$13))),\"\")","v":0},{"$f":"IF(ROWS($1:$14)<=COUNTIF(joueurs,$B81),INDEX(ballonperdus,SMALL(IF(joueurs=$B81,ROW(INDIRECT(\"1:\"&ROWS(ballonperdus)))),ROWS($1:$14))),\"\")","v":0},{"$f":"IF(ROWS($1:$15)<=COUNTIF(joueurs,$B81),INDEX(ballonperdus,SMALL(IF(joueurs=$B81,ROW(INDIRECT(\"1:\"&ROWS(ballonperdus)))),ROWS($1:$15))),\"\")","v":0},{"$f":"IF(ROWS($1:$16)<=COUNTIF(joueurs,$B81),INDEX(ballonperdus,SMALL(IF(joueurs=$B81,ROW(INDIRECT(\"1:\"&ROWS(ballonperdus)))),ROWS($1:$16))),\"\")","v":0},{"$f":"IF(ROWS($1:$17)<=COUNTIF(joueurs,$B81),INDEX(ballonperdus,SMALL(IF(joueurs=$B81,ROW(INDIRECT(\"1:\"&ROWS(ballonperdus)))),ROWS($1:$17))),\"\")","v":0},{"$f":"IF(ROWS($1:$18)<=COUNTIF(joueurs,$B81),INDEX(ballonperdus,SMALL(IF(joueurs=$B81,ROW(INDIRECT(\"1:\"&ROWS(ballonperdus)))),ROWS($1:$18))),\"\")","v":0},{"$f":"IF(ROWS($1:$19)<=COUNTIF(joueurs,$B81),INDEX(ballonperdus,SMALL(IF(joueurs=$B81,ROW(INDIRECT(\"1:\"&ROWS(ballonperdus)))),ROWS($1:$19))),\"\")","v":0},{"$f":"IF(ROWS($1:$20)<=COUNTIF(joueurs,$B81),INDEX(fautes,SMALL(IF(joueurs=$B81,ROW(INDIRECT(\"1:\"&ROWS(ballonperdus)))),ROWS($1:$20))),\"\")","v":0},{"$f":"IF(ROWS($1:$11)<=COUNTIF(joueurs,$B81),INDEX(interceptions,SMALL(IF(joueurs=$B81,ROW(INDIRECT(\"1:\"&ROWS(interceptions)))),ROWS($1:$11))),\"\")","v":0},{"$f":"IF(ROWS($1:$12)<=COUNTIF(joueurs,$B81),INDEX(interceptions,SMALL(IF(joueurs=$B81,ROW(INDIRECT(\"1:\"&ROWS(interceptions)))),ROWS($1:$12))),\"\")","v":0},{"$f":"IF(ROWS($1:$13)<=COUNTIF(joueurs,$B81),INDEX(interceptions,SMALL(IF(joueurs=$B81,ROW(INDIRECT(\"1:\"&ROWS(interceptions)))),ROWS($1:$13))),\"\")","v":0},{"$f":"IF(ROWS($1:$14)<=COUNTIF(joueurs,$B81),INDEX(interceptions,SMALL(IF(joueurs=$B81,ROW(INDIRECT(\"1:\"&ROWS(interceptions)))),ROWS($1:$14))),\"\")","v":0},{"$f":"IF(ROWS($1:$15)<=COUNTIF(joueurs,$B81),INDEX(interceptions,SMALL(IF(joueurs=$B81,ROW(INDIRECT(\"1:\"&ROWS(interceptions)))),ROWS($1:$15))),\"\")","v":0},{"$f":"IF(ROWS($1:$16)<=COUNTIF(joueurs,$B81),INDEX(interceptions,SMALL(IF(joueurs=$B81,ROW(INDIRECT(\"1:\"&ROWS(interceptions)))),ROWS($1:$16))),\"\")","v":0},{"$f":"IF(ROWS($1:$17)<=COUNTIF(joueurs,$B81),INDEX(interceptions,SMALL(IF(joueurs=$B81,ROW(INDIRECT(\"1:\"&ROWS(interceptions)))),ROWS($1:$17))),\"\")","v":0},{"$f":"IF(ROWS($1:$18)<=COUNTIF(joueurs,$B81),INDEX(interceptions,SMALL(IF(joueurs=$B81,ROW(INDIRECT(\"1:\"&ROWS(interceptions)))),ROWS($1:$18))),\"\")","v":0},{"$f":"IF(ROWS($1:$19)<=COUNTIF(joueurs,$B81),INDEX(interceptions,SMALL(IF(joueurs=$B81,ROW(INDIRECT(\"1:\"&ROWS(interceptions)))),ROWS($1:$19))),\"\")","v":0},{"$f":"IF(ROWS($1:$20)<=COUNTIF(joueurs,$B81),INDEX(interceptions,SMALL(IF(joueurs=$B81,ROW(INDIRECT(\"1:\"&ROWS(interceptions)))),ROWS($1:$20))),\"\")","v":0},{"$f":"IF(ROWS($1:$11)<=COUNTIF(joueurs,$B81),INDEX(ballonrecuperes,SMALL(IF(joueurs=$B81,ROW(INDIRECT(\"1:\"&ROWS(ballonrecuperes)))),ROWS($1:$11))),\"\")","v":0},{"$f":"IF(ROWS($1:$12)<=COUNTIF(joueurs,$B81),INDEX(ballonrecuperes,SMALL(IF(joueurs=$B81,ROW(INDIRECT(\"1:\"&ROWS(ballonrecuperes)))),ROWS($1:$12))),\"\")","v":0},{"$f":"IF(ROWS($1:$13)<=COUNTIF(joueurs,$B81),INDEX(ballonrecuperes,SMALL(IF(joueurs=$B81,ROW(INDIRECT(\"1:\"&ROWS(ballonrecuperes)))),ROWS($1:$13))),\"\")","v":0},{"$f":"IF(ROWS($1:$14)<=COUNTIF(joueurs,$B81),INDEX(ballonrecuperes,SMALL(IF(joueurs=$B81,ROW(INDIRECT(\"1:\"&ROWS(ballonrecuperes)))),ROWS($1:$14))),\"\")","v":0},{"$f":"IF(ROWS($1:$15)<=COUNTIF(joueurs,$B81),INDEX(ballonrecuperes,SMALL(IF(joueurs=$B81,ROW(INDIRECT(\"1:\"&ROWS(ballonrecuperes)))),ROWS($1:$15))),\"\")","v":0},{"$f":"IF(ROWS($1:$16)<=COUNTIF(joueurs,$B81),INDEX(ballonrecuperes,SMALL(IF(joueurs=$B81,ROW(INDIRECT(\"1:\"&ROWS(ballonrecuperes)))),ROWS($1:$16))),\"\")","v":0},{"$f":"IF(ROWS($1:$17)<=COUNTIF(joueurs,$B81),INDEX(ballonrecuperes,SMALL(IF(joueurs=$B81,ROW(INDIRECT(\"1:\"&ROWS(ballonrecuperes)))),ROWS($1:$17))),\"\")","v":0},{"$f":"IF(ROWS($1:$18)<=COUNTIF(joueurs,$B81),INDEX(ballonrecuperes,SMALL(IF(joueurs=$B81,ROW(INDIRECT(\"1:\"&ROWS(ballonrecuperes)))),ROWS($1:$18))),\"\")","v":0},{"$f":"IF(ROWS($1:$19)<=COUNTIF(joueurs,$B81),INDEX(ballonrecuperes,SMALL(IF(joueurs=$B81,ROW(INDIRECT(\"1:\"&ROWS(ballonrecuperes)))),ROWS($1:$19))),\"\")","v":0},{"$f":"IF(ROWS($1:$20)<=COUNTIF(joueurs,$B81),INDEX(ballonrecuperes,SMALL(IF(joueurs=$B81,ROW(INDIRECT(\"1:\"&ROWS(ballonrecuperes)))),ROWS($1:$20))),\"\")","v":0},{"$f":"IF(ROWS($1:$11)<=COUNTIF(joueurs,$B81),INDEX(tirs,SMALL(IF(joueurs=$B81,ROW(INDIRECT(\"1:\"&ROWS(tirs)))),ROWS($1:$11))),\"\")","v":0},{"$f":"IF(ROWS($1:$12)<=COUNTIF(joueurs,$B81),INDEX(tirs,SMALL(IF(joueurs=$B81,ROW(INDIRECT(\"1:\"&ROWS(tirs)))),ROWS($1:$12))),\"\")","v":0},{"$f":"IF(ROWS($1:$13)<=COUNTIF(joueurs,$B81),INDEX(tirs,SMALL(IF(joueurs=$B81,ROW(INDIRECT(\"1:\"&ROWS(tirs)))),ROWS($1:$13))),\"\")","v":0},{"$f":"IF(ROWS($1:$14)<=COUNTIF(joueurs,$B81),INDEX(tirs,SMALL(IF(joueurs=$B81,ROW(INDIRECT(\"1:\"&ROWS(tirs)))),ROWS($1:$14))),\"\")","v":0},{"$f":"IF(ROWS($1:$15)<=COUNTIF(joueurs,$B81),INDEX(tirs,SMALL(IF(joueurs=$B81,ROW(INDIRECT(\"1:\"&ROWS(tirs)))),ROWS($1:$15))),\"\")","v":0},{"$f":"IF(ROWS($1:$16)<=COUNTIF(joueurs,$B81),INDEX(tirs,SMALL(IF(joueurs=$B81,ROW(INDIRECT(\"1:\"&ROWS(tirs)))),ROWS($1:$16))),\"\")","v":0},{"$f":"IF(ROWS($1:$17)<=COUNTIF(joueurs,$B81),INDEX(tirs,SMALL(IF(joueurs=$B81,ROW(INDIRECT(\"1:\"&ROWS(tirs)))),ROWS($1:$17))),\"\")","v":0},{"$f":"IF(ROWS($1:$18)<=COUNTIF(joueurs,$B81),INDEX(tirs,SMALL(IF(joueurs=$B81,ROW(INDIRECT(\"1:\"&ROWS(tirs)))),ROWS($1:$18))),\"\")","v":0},{"$f":"IF(ROWS($1:$19)<=COUNTIF(joueurs,$B81),INDEX(tirs,SMALL(IF(joueurs=$B81,ROW(INDIRECT(\"1:\"&ROWS(tirs)))),ROWS($1:$19))),\"\")","v":0},{"$f":"IF(ROWS($1:$20)<=COUNTIF(joueurs,$B81),INDEX(tirs,SMALL(IF(joueurs=$B81,ROW(INDIRECT(\"1:\"&ROWS(tirs)))),ROWS($1:$20))),\"\")","v":0},{"$f":"IF(ROWS($1:$11)<=COUNTIF(joueurs,$B81),INDEX(bontirs,SMALL(IF(joueurs=$B81,ROW(INDIRECT(\"1:\"&ROWS(bontirs)))),ROWS($1:$11))),\"\")","v":0},{"$f":"IF(ROWS($1:$12)<=COUNTIF(joueurs,$B81),INDEX(bontirs,SMALL(IF(joueurs=$B81,ROW(INDIRECT(\"1:\"&ROWS(bontirs)))),ROWS($1:$12))),\"\")","v":0},{"$f":"IF(ROWS($1:$13)<=COUNTIF(joueurs,$B81),INDEX(bontirs,SMALL(IF(joueurs=$B81,ROW(INDIRECT(\"1:\"&ROWS(bontirs)))),ROWS($1:$13))),\"\")","v":0},{"$f":"IF(ROWS($1:$14)<=COUNTIF(joueurs,$B81),INDEX(bontirs,SMALL(IF(joueurs=$B81,ROW(INDIRECT(\"1:\"&ROWS(bontirs)))),ROWS($1:$14))),\"\")","v":0},{"$f":"IF(ROWS($1:$15)<=COUNTIF(joueurs,$B81),INDEX(bontirs,SMALL(IF(joueurs=$B81,ROW(INDIRECT(\"1:\"&ROWS(bontirs)))),ROWS($1:$15))),\"\")","v":0},{"$f":"IF(ROWS($1:$16)<=COUNTIF(joueurs,$B81),INDEX(bontirs,SMALL(IF(joueurs=$B81,ROW(INDIRECT(\"1:\"&ROWS(bontirs)))),ROWS($1:$16))),\"\")","v":0},{"$f":"IF(ROWS($1:$17)<=COUNTIF(joueurs,$B81),INDEX(bontirs,SMALL(IF(joueurs=$B81,ROW(INDIRECT(\"1:\"&ROWS(bontirs)))),ROWS($1:$17))),\"\")","v":0},{"$f":"IF(ROWS($1:$18)<=COUNTIF(joueurs,$B81),INDEX(bontirs,SMALL(IF(joueurs=$B81,ROW(INDIRECT(\"1:\"&ROWS(bontirs)))),ROWS($1:$18))),\"\")","v":0},{"$f":"IF(ROWS($1:$19)<=COUNTIF(joueurs,$B81),INDEX(bontirs,SMALL(IF(joueurs=$B81,ROW(INDIRECT(\"1:\"&ROWS(bontirs)))),ROWS($1:$19))),\"\")","v":0},{"$f":"IF(ROWS($1:$20)<=COUNTIF(joueurs,$B81),INDEX(bontirs,SMALL(IF(joueurs=$B81,ROW(INDIRECT(\"1:\"&ROWS(bontirs)))),ROWS($1:$20))),\"\")","v":0},{"$f":"IF(ROWS($1:$11)<=COUNTIF(joueurs,$B81),INDEX(points,SMALL(IF(joueurs=$B81,ROW(INDIRECT(\"1:\"&ROWS(points)))),ROWS($1:$11))),\"\")","v":0},{"$f":"IF(ROWS($1:$12)<=COUNTIF(joueurs,$B81),INDEX(points,SMALL(IF(joueurs=$B81,ROW(INDIRECT(\"1:\"&ROWS(points)))),ROWS($1:$12))),\"\")","v":0},{"$f":"IF(ROWS($1:$13)<=COUNTIF(joueurs,$B81),INDEX(points,SMALL(IF(joueurs=$B81,ROW(INDIRECT(\"1:\"&ROWS(points)))),ROWS($1:$13))),\"\")","v":0},{"$f":"IF(ROWS($1:$14)<=COUNTIF(joueurs,$B81),INDEX(points,SMALL(IF(joueurs=$B81,ROW(INDIRECT(\"1:\"&ROWS(points)))),ROWS($1:$14))),\"\")","v":0},{"$f":"IF(ROWS($1:$15)<=COUNTIF(joueurs,$B81),INDEX(points,SMALL(IF(joueurs=$B81,ROW(INDIRECT(\"1:\"&ROWS(points)))),ROWS($1:$15))),\"\")","v":0},{"$f":"IF(ROWS($1:$16)<=COUNTIF(joueurs,$B81),INDEX(points,SMALL(IF(joueurs=$B81,ROW(INDIRECT(\"1:\"&ROWS(points)))),ROWS($1:$16))),\"\")","v":0},{"$f":"IF(ROWS($1:$17)<=COUNTIF(joueurs,$B81),INDEX(points,SMALL(IF(joueurs=$B81,ROW(INDIRECT(\"1:\"&ROWS(points)))),ROWS($1:$17))),\"\")","v":0},{"$f":"IF(ROWS($1:$18)<=COUNTIF(joueurs,$B81),INDEX(points,SMALL(IF(joueurs=$B81,ROW(INDIRECT(\"1:\"&ROWS(points)))),ROWS($1:$18))),\"\")","v":0},{"$f":"IF(ROWS($1:$19)<=COUNTIF(joueurs,$B81),INDEX(points,SMALL(IF(joueurs=$B81,ROW(INDIRECT(\"1:\"&ROWS(points)))),ROWS($1:$19))),\"\")","v":0},{"$f":"IF(ROWS($1:$20)<=COUNTIF(points,$B81),INDEX(fautes,SMALL(IF(joueurs=$B81,ROW(INDIRECT(\"1:\"&ROWS(points)))),ROWS($1:$20))),\"\")","v":0},{"$f":"IF(ROWS($1:$11)<=COUNTIF(joueurs,$B81),INDEX(victoires,SMALL(IF(joueurs=$B81,ROW(INDIRECT(\"1:\"&ROWS(victoires)))),ROWS($1:$11))),\"\")","v":0},{"$f":"IF(ROWS($1:$12)<=COUNTIF(joueurs,$B81),INDEX(victoires,SMALL(IF(joueurs=$B81,ROW(INDIRECT(\"1:\"&ROWS(victoires)))),ROWS($1:$12))),\"\")","v":0},{"$f":"IF(ROWS($1:$13)<=COUNTIF(joueurs,$B81),INDEX(victoires,SMALL(IF(joueurs=$B81,ROW(INDIRECT(\"1:\"&ROWS(victoires)))),ROWS($1:$13))),\"\")","v":0},{"$f":"IF(ROWS($1:$14)<=COUNTIF(joueurs,$B81),INDEX(victoires,SMALL(IF(joueurs=$B81,ROW(INDIRECT(\"1:\"&ROWS(victoires)))),ROWS($1:$14))),\"\")","v":0},{"$f":"IF(ROWS($1:$15)<=COUNTIF(joueurs,$B81),INDEX(victoires,SMALL(IF(joueurs=$B81,ROW(INDIRECT(\"1:\"&ROWS(victoires)))),ROWS($1:$15))),\"\")","v":0},{"$f":"IF(ROWS($1:$16)<=COUNTIF(joueurs,$B81),INDEX(victoires,SMALL(IF(joueurs=$B81,ROW(INDIRECT(\"1:\"&ROWS(victoires)))),ROWS($1:$16))),\"\")","v":0},{"$f":"IF(ROWS($1:$17)<=COUNTIF(joueurs,$B81),INDEX(victoires,SMALL(IF(joueurs=$B81,ROW(INDIRECT(\"1:\"&ROWS(victoires)))),ROWS($1:$17))),\"\")","v":0},{"$f":"IF(ROWS($1:$18)<=COUNTIF(joueurs,$B81),INDEX(victoires,SMALL(IF(joueurs=$B81,ROW(INDIRECT(\"1:\"&ROWS(victoires)))),ROWS($1:$18))),\"\")","v":0},{"$f":"IF(ROWS($1:$19)<=COUNTIF(joueurs,$B81),INDEX(victoires,SMALL(IF(joueurs=$B81,ROW(INDIRECT(\"1:\"&ROWS(victoires)))),ROWS($1:$19))),\"\")","v":0},{"$f":"IF(ROWS($1:$20)<=COUNTIF(joueurs,$B81),INDEX(victoires,SMALL(IF(joueurs=$B81,ROW(INDIRECT(\"1:\"&ROWS(victoires)))),ROWS($1:$20))),\"\")","v":0}]
[null,null,null,{"$f":"IF(ROWS($1:$21)<=COUNTIF(joueurs,$B81),INDEX(fautes,SMALL(IF(joueurs=$B81,ROW(INDIRECT(\"1:\"&ROWS(fautes)))),ROWS($1:$21))),\"\")","v":0},{"$f":"IF(ROWS($1:$22)<=COUNTIF(joueurs,$B81),INDEX(fautes,SMALL(IF(joueurs=$B81,ROW(INDIRECT(\"1:\"&ROWS(fautes)))),ROWS($1:$22))),\"\")","v":0},{"$f":"IF(ROWS($1:$23)<=COUNTIF(joueurs,$B81),INDEX(fautes,SMALL(IF(joueurs=$B81,ROW(INDIRECT(\"1:\"&ROWS(fautes)))),ROWS($1:$23))),\"\")","v":0},{"$f":"IF(ROWS($1:$24)<=COUNTIF(joueurs,$B81),INDEX(fautes,SMALL(IF(joueurs=$B81,ROW(INDIRECT(\"1:\"&ROWS(fautes)))),ROWS($1:$24))),\"\")","v":0},{"$f":"IF(ROWS($1:$25)<=COUNTIF(joueurs,$B81),INDEX(fautes,SMALL(IF(joueurs=$B81,ROW(INDIRECT(\"1:\"&ROWS(fautes)))),ROWS($1:$25))),\"\")","v":0},{"$f":"IF(ROWS($1:$26)<=COUNTIF(joueurs,$B81),INDEX(fautes,SMALL(IF(joueurs=$B81,ROW(INDIRECT(\"1:\"&ROWS(fautes)))),ROWS($1:$26))),\"\")","v":0},{"$f":"IF(ROWS($1:$27)<=COUNTIF(joueurs,$B81),INDEX(fautes,SMALL(IF(joueurs=$B81,ROW(INDIRECT(\"1:\"&ROWS(fautes)))),ROWS($1:$27))),\"\")","v":0},{"$f":"IF(ROWS($1:$28)<=COUNTIF(joueurs,$B81),INDEX(fautes,SMALL(IF(joueurs=$B81,ROW(INDIRECT(\"1:\"&ROWS(fautes)))),ROWS($1:$28))),\"\")","v":0},{"$f":"IF(ROWS($1:$29)<=COUNTIF(joueurs,$B81),INDEX(fautes,SMALL(IF(joueurs=$B81,ROW(INDIRECT(\"1:\"&ROWS(fautes)))),ROWS($1:$29))),\"\")","v":0},{"$f":"IF(ROWS($1:$30)<=COUNTIF(joueurs,$B81),INDEX(fautes,SMALL(IF(joueurs=$B81,ROW(INDIRECT(\"1:\"&ROWS(fautes)))),ROWS($1:$30))),\"\")","v":0},{"$f":"IF(ROWS($1:$21)<=COUNTIF(joueurs,$B81),INDEX(ballonperdus,SMALL(IF(joueurs=$B81,ROW(INDIRECT(\"1:\"&ROWS(ballonperdus)))),ROWS($1:$21))),\"\")","v":0},{"$f":"IF(ROWS($1:$22)<=COUNTIF(joueurs,$B81),INDEX(ballonperdus,SMALL(IF(joueurs=$B81,ROW(INDIRECT(\"1:\"&ROWS(ballonperdus)))),ROWS($1:$22))),\"\")","v":0},{"$f":"IF(ROWS($1:$23)<=COUNTIF(joueurs,$B81),INDEX(ballonperdus,SMALL(IF(joueurs=$B81,ROW(INDIRECT(\"1:\"&ROWS(ballonperdus)))),ROWS($1:$23))),\"\")","v":0},{"$f":"IF(ROWS($1:$24)<=COUNTIF(joueurs,$B81),INDEX(ballonperdus,SMALL(IF(joueurs=$B81,ROW(INDIRECT(\"1:\"&ROWS(ballonperdus)))),ROWS($1:$24))),\"\")","v":0},{"$f":"IF(ROWS($1:$25)<=COUNTIF(joueurs,$B81),INDEX(ballonperdus,SMALL(IF(joueurs=$B81,ROW(INDIRECT(\"1:\"&ROWS(ballonperdus)))),ROWS($1:$25))),\"\")","v":0},{"$f":"IF(ROWS($1:$26)<=COUNTIF(joueurs,$B81),INDEX(ballonperdus,SMALL(IF(joueurs=$B81,ROW(INDIRECT(\"1:\"&ROWS(ballonperdus)))),ROWS($1:$26))),\"\")","v":0},{"$f":"IF(ROWS($1:$27)<=COUNTIF(joueurs,$B81),INDEX(ballonperdus,SMALL(IF(joueurs=$B81,ROW(INDIRECT(\"1:\"&ROWS(ballonperdus)))),ROWS($1:$27))),\"\")","v":0},{"$f":"IF(ROWS($1:$28)<=COUNTIF(joueurs,$B81),INDEX(ballonperdus,SMALL(IF(joueurs=$B81,ROW(INDIRECT(\"1:\"&ROWS(ballonperdus)))),ROWS($1:$28))),\"\")","v":0},{"$f":"IF(ROWS($1:$29)<=COUNTIF(joueurs,$B81),INDEX(ballonperdus,SMALL(IF(joueurs=$B81,ROW(INDIRECT(\"1:\"&ROWS(ballonperdus)))),ROWS($1:$29))),\"\")","v":0},{"$f":"IF(ROWS($1:$30)<=COUNTIF(joueurs,$B81),INDEX(ballonperdus,SMALL(IF(joueurs=$B81,ROW(INDIRECT(\"1:\"&ROWS(ballonperdus)))),ROWS($1:$30))),\"\")","v":0},{"$f":"IF(ROWS($1:$21)<=COUNTIF(joueurs,$B81),INDEX(interceptions,SMALL(IF(joueurs=$B81,ROW(INDIRECT(\"1:\"&ROWS(interceptions)))),ROWS($1:$21))),\"\")","v":0},{"$f":"IF(ROWS($1:$22)<=COUNTIF(joueurs,$B81),INDEX(interceptions,SMALL(IF(joueurs=$B81,ROW(INDIRECT(\"1:\"&ROWS(interceptions)))),ROWS($1:$22))),\"\")","v":0},{"$f":"IF(ROWS($1:$23)<=COUNTIF(joueurs,$B81),INDEX(interceptions,SMALL(IF(joueurs=$B81,ROW(INDIRECT(\"1:\"&ROWS(interceptions)))),ROWS($1:$23))),\"\")","v":0},{"$f":"IF(ROWS($1:$24)<=COUNTIF(joueurs,$B81),INDEX(interceptions,SMALL(IF(joueurs=$B81,ROW(INDIRECT(\"1:\"&ROWS(interceptions)))),ROWS($1:$24))),\"\")","v":0},{"$f":"IF(ROWS($1:$25)<=COUNTIF(joueurs,$B81),INDEX(interceptions,SMALL(IF(joueurs=$B81,ROW(INDIRECT(\"1:\"&ROWS(interceptions)))),ROWS($1:$25))),\"\")","v":0},{"$f":"IF(ROWS($1:$26)<=COUNTIF(joueurs,$B81),INDEX(interceptions,SMALL(IF(joueurs=$B81,ROW(INDIRECT(\"1:\"&ROWS(interceptions)))),ROWS($1:$26))),\"\")","v":0},{"$f":"IF(ROWS($1:$27)<=COUNTIF(joueurs,$B81),INDEX(interceptions,SMALL(IF(joueurs=$B81,ROW(INDIRECT(\"1:\"&ROWS(interceptions)))),ROWS($1:$27))),\"\")","v":0},{"$f":"IF(ROWS($1:$28)<=COUNTIF(joueurs,$B81),INDEX(interceptions,SMALL(IF(joueurs=$B81,ROW(INDIRECT(\"1:\"&ROWS(interceptions)))),ROWS($1:$28))),\"\")","v":0},{"$f":"IF(ROWS($1:$29)<=COUNTIF(joueurs,$B81),INDEX(interceptions,SMALL(IF(joueurs=$B81,ROW(INDIRECT(\"1:\"&ROWS(interceptions)))),ROWS($1:$29))),\"\")","v":0},{"$f":"IF(ROWS($1:$30)<=COUNTIF(joueurs,$B81),INDEX(interceptions,SMALL(IF(joueurs=$B81,ROW(INDIRECT(\"1:\"&ROWS(interceptions)))),ROWS($1:$30))),\"\")","v":0},{"$f":"IF(ROWS($1:$21)<=COUNTIF(joueurs,$B81),INDEX(ballonrecuperes,SMALL(IF(joueurs=$B81,ROW(INDIRECT(\"1:\"&ROWS(ballonrecuperes)))),ROWS($1:$21))),\"\")","v":0},{"$f":"IF(ROWS($1:$22)<=COUNTIF(joueurs,$B81),INDEX(ballonrecuperes,SMALL(IF(joueurs=$B81,ROW(INDIRECT(\"1:\"&ROWS(ballonrecuperes)))),ROWS($1:$22))),\"\")","v":0},{"$f":"IF(ROWS($1:$23)<=COUNTIF(joueurs,$B81),INDEX(ballonrecuperes,SMALL(IF(joueurs=$B81,ROW(INDIRECT(\"1:\"&ROWS(ballonrecuperes)))),ROWS($1:$23))),\"\")","v":0},{"$f":"IF(ROWS($1:$24)<=COUNTIF(joueurs,$B81),INDEX(ballonrecuperes,SMALL(IF(joueurs=$B81,ROW(INDIRECT(\"1:\"&ROWS(ballonrecuperes)))),ROWS($1:$24))),\"\")","v":0},{"$f":"IF(ROWS($1:$25)<=COUNTIF(joueurs,$B81),INDEX(ballonrecuperes,SMALL(IF(joueurs=$B81,ROW(INDIRECT(\"1:\"&ROWS(ballonrecuperes)))),ROWS($1:$25))),\"\")","v":0},{"$f":"IF(ROWS($1:$26)<=COUNTIF(joueurs,$B81),INDEX(ballonrecuperes,SMALL(IF(joueurs=$B81,ROW(INDIRECT(\"1:\"&ROWS(ballonrecuperes)))),ROWS($1:$26))),\"\")","v":0},{"$f":"IF(ROWS($1:$27)<=COUNTIF(joueurs,$B81),INDEX(ballonrecuperes,SMALL(IF(joueurs=$B81,ROW(INDIRECT(\"1:\"&ROWS(ballonrecuperes)))),ROWS($1:$27))),\"\")","v":0},{"$f":"IF(ROWS($1:$28)<=COUNTIF(joueurs,$B81),INDEX(ballonrecuperes,SMALL(IF(joueurs=$B81,ROW(INDIRECT(\"1:\"&ROWS(ballonrecuperes)))),ROWS($1:$28))),\"\")","v":0},{"$f":"IF(ROWS($1:$29)<=COUNTIF(joueurs,$B81),INDEX(ballonrecuperes,SMALL(IF(joueurs=$B81,ROW(INDIRECT(\"1:\"&ROWS(ballonrecuperes)))),ROWS($1:$29))),\"\")","v":0},{"$f":"IF(ROWS($1:$30)<=COUNTIF(joueurs,$B81),INDEX(ballonrecuperes,SMALL(IF(joueurs=$B81,ROW(INDIRECT(\"1:\"&ROWS(ballonrecuperes)))),ROWS($1:$30))),\"\")","v":0},{"$f":"IF(ROWS($1:$21)<=COUNTIF(joueurs,$B81),INDEX(tirs,SMALL(IF(joueurs=$B81,ROW(INDIRECT(\"1:\"&ROWS(tirs)))),ROWS($1:$21))),\"\")","v":0},{"$f":"IF(ROWS($1:$22)<=COUNTIF(joueurs,$B81),INDEX(tirs,SMALL(IF(joueurs=$B81,ROW(INDIRECT(\"1:\"&ROWS(tirs)))),ROWS($1:$22))),\"\")","v":0},{"$f":"IF(ROWS($1:$23)<=COUNTIF(joueurs,$B81),INDEX(tirs,SMALL(IF(joueurs=$B81,ROW(INDIRECT(\"1:\"&ROWS(tirs)))),ROWS($1:$23))),\"\")","v":0},{"$f":"IF(ROWS($1:$24)<=COUNTIF(joueurs,$B81),INDEX(tirs,SMALL(IF(joueurs=$B81,ROW(INDIRECT(\"1:\"&ROWS(tirs)))),ROWS($1:$24))),\"\")","v":0},{"$f":"IF(ROWS($1:$25)<=COUNTIF(joueurs,$B81),INDEX(tirs,SMALL(IF(joueurs=$B81,ROW(INDIRECT(\"1:\"&ROWS(tirs)))),ROWS($1:$25))),\"\")","v":0},{"$f":"IF(ROWS($1:$26)<=COUNTIF(joueurs,$B81),INDEX(tirs,SMALL(IF(joueurs=$B81,ROW(INDIRECT(\"1:\"&ROWS(tirs)))),ROWS($1:$26))),\"\")","v":0},{"$f":"IF(ROWS($1:$27)<=COUNTIF(joueurs,$B81),INDEX(tirs,SMALL(IF(joueurs=$B81,ROW(INDIRECT(\"1:\"&ROWS(tirs)))),ROWS($1:$27))),\"\")","v":0},{"$f":"IF(ROWS($1:$28)<=COUNTIF(joueurs,$B81),INDEX(tirs,SMALL(IF(joueurs=$B81,ROW(INDIRECT(\"1:\"&ROWS(tirs)))),ROWS($1:$28))),\"\")","v":0},{"$f":"IF(ROWS($1:$29)<=COUNTIF(joueurs,$B81),INDEX(tirs,SMALL(IF(joueurs=$B81,ROW(INDIRECT(\"1:\"&ROWS(tirs)))),ROWS($1:$29))),\"\")","v":0},{"$f":"IF(ROWS($1:$30)<=COUNTIF(joueurs,$B81),INDEX(tirs,SMALL(IF(joueurs=$B81,ROW(INDIRECT(\"1:\"&ROWS(tirs)))),ROWS($1:$30))),\"\")","v":0},{"$f":"IF(ROWS($1:$21)<=COUNTIF(joueurs,$B81),INDEX(bontirs,SMALL(IF(joueurs=$B81,ROW(INDIRECT(\"1:\"&ROWS(bontirs)))),ROWS($1:$21))),\"\")","v":0},{"$f":"IF(ROWS($1:$22)<=COUNTIF(joueurs,$B81),INDEX(bontirs,SMALL(IF(joueurs=$B81,ROW(INDIRECT(\"1:\"&ROWS(bontirs)))),ROWS($1:$22))),\"\")","v":0},{"$f":"IF(ROWS($1:$23)<=COUNTIF(joueurs,$B81),INDEX(bontirs,SMALL(IF(joueurs=$B81,ROW(INDIRECT(\"1:\"&ROWS(bontirs)))),ROWS($1:$23))),\"\")","v":0},{"$f":"IF(ROWS($1:$24)<=COUNTIF(joueurs,$B81),INDEX(bontirs,SMALL(IF(joueurs=$B81,ROW(INDIRECT(\"1:\"&ROWS(bontirs)))),ROWS($1:$24))),\"\")","v":0},{"$f":"IF(ROWS($1:$25)<=COUNTIF(joueurs,$B81),INDEX(bontirs,SMALL(IF(joueurs=$B81,ROW(INDIRECT(\"1:\"&ROWS(bontirs)))),ROWS($1:$25))),\"\")","v":0},{"$f":"IF(ROWS($1:$26)<=COUNTIF(joueurs,$B81),INDEX(bontirs,SMALL(IF(joueurs=$B81,ROW(INDIRECT(\"1:\"&ROWS(bontirs)))),ROWS($1:$26))),\"\")","v":0},{"$f":"IF(ROWS($1:$27)<=COUNTIF(joueurs,$B81),INDEX(bontirs,SMALL(IF(joueurs=$B81,ROW(INDIRECT(\"1:\"&ROWS(bontirs)))),ROWS($1:$27))),\"\")","v":0},{"$f":"IF(ROWS($1:$28)<=COUNTIF(joueurs,$B81),INDEX(bontirs,SMALL(IF(joueurs=$B81,ROW(INDIRECT(\"1:\"&ROWS(bontirs)))),ROWS($1:$28))),\"\")","v":0},{"$f":"IF(ROWS($1:$29)<=COUNTIF(joueurs,$B81),INDEX(bontirs,SMALL(IF(joueurs=$B81,ROW(INDIRECT(\"1:\"&ROWS(bontirs)))),ROWS($1:$29))),\"\")","v":0},{"$f":"IF(ROWS($1:$30)<=COUNTIF(joueurs,$B81),INDEX(bontirs,SMALL(IF(joueurs=$B81,ROW(INDIRECT(\"1:\"&ROWS(bontirs)))),ROWS($1:$30))),\"\")","v":0},{"$f":"IF(ROWS($1:$21)<=COUNTIF(joueurs,$B81),INDEX(points,SMALL(IF(joueurs=$B81,ROW(INDIRECT(\"1:\"&ROWS(points)))),ROWS($1:$21))),\"\")","v":0},{"$f":"IF(ROWS($1:$22)<=COUNTIF(joueurs,$B81),INDEX(points,SMALL(IF(joueurs=$B81,ROW(INDIRECT(\"1:\"&ROWS(points)))),ROWS($1:$22))),\"\")","v":0},{"$f":"IF(ROWS($1:$23)<=COUNTIF(joueurs,$B81),INDEX(points,SMALL(IF(joueurs=$B81,ROW(INDIRECT(\"1:\"&ROWS(points)))),ROWS($1:$23))),\"\")","v":0},{"$f":"IF(ROWS($1:$24)<=COUNTIF(joueurs,$B81),INDEX(points,SMALL(IF(joueurs=$B81,ROW(INDIRECT(\"1:\"&ROWS(points)))),ROWS($1:$24))),\"\")","v":0},{"$f":"IF(ROWS($1:$25)<=COUNTIF(joueurs,$B81),INDEX(points,SMALL(IF(joueurs=$B81,ROW(INDIRECT(\"1:\"&ROWS(points)))),ROWS($1:$25))),\"\")","v":0},{"$f":"IF(ROWS($1:$26)<=COUNTIF(joueurs,$B81),INDEX(points,SMALL(IF(joueurs=$B81,ROW(INDIRECT(\"1:\"&ROWS(points)))),ROWS($1:$26))),\"\")","v":0},{"$f":"IF(ROWS($1:$27)<=COUNTIF(joueurs,$B81),INDEX(points,SMALL(IF(joueurs=$B81,ROW(INDIRECT(\"1:\"&ROWS(points)))),ROWS($1:$27))),\"\")","v":0},{"$f":"IF(ROWS($1:$28)<=COUNTIF(joueurs,$B81),INDEX(points,SMALL(IF(joueurs=$B81,ROW(INDIRECT(\"1:\"&ROWS(points)))),ROWS($1:$28))),\"\")","v":0},{"$f":"IF(ROWS($1:$29)<=COUNTIF(joueurs,$B81),INDEX(points,SMALL(IF(joueurs=$B81,ROW(INDIRECT(\"1:\"&ROWS(points)))),ROWS($1:$29))),\"\")","v":0},{"$f":"IF(ROWS($1:$30)<=COUNTIF(joueurs,$B81),INDEX(points,SMALL(IF(joueurs=$B81,ROW(INDIRECT(\"1:\"&ROWS(points)))),ROWS($1:$30))),\"\")","v":0},{"$f":"IF(ROWS($1:$21)<=COUNTIF(joueurs,$B81),INDEX(victoires,SMALL(IF(joueurs=$B81,ROW(INDIRECT(\"1:\"&ROWS(victoires)))),ROWS($1:$21))),\"\")","v":0},{"$f":"IF(ROWS($1:$22)<=COUNTIF(joueurs,$B81),INDEX(victoires,SMALL(IF(joueurs=$B81,ROW(INDIRECT(\"1:\"&ROWS(victoires)))),ROWS($1:$22))),\"\")","v":0},{"$f":"IF(ROWS($1:$23)<=COUNTIF(joueurs,$B81),INDEX(victoires,SMALL(IF(joueurs=$B81,ROW(INDIRECT(\"1:\"&ROWS(victoires)))),ROWS($1:$23))),\"\")","v":0},{"$f":"IF(ROWS($1:$24)<=COUNTIF(joueurs,$B81),INDEX(victoires,SMALL(IF(joueurs=$B81,ROW(INDIRECT(\"1:\"&ROWS(victoires)))),ROWS($1:$24))),\"\")","v":0},{"$f":"IF(ROWS($1:$25)<=COUNTIF(joueurs,$B81),INDEX(victoires,SMALL(IF(joueurs=$B81,ROW(INDIRECT(\"1:\"&ROWS(victoires)))),ROWS($1:$25))),\"\")","v":0},{"$f":"IF(ROWS($1:$26)<=COUNTIF(joueurs,$B81),INDEX(victoires,SMALL(IF(joueurs=$B81,ROW(INDIRECT(\"1:\"&ROWS(victoires)))),ROWS($1:$26))),\"\")","v":0},{"$f":"IF(ROWS($1:$27)<=COUNTIF(joueurs,$B81),INDEX(victoires,SMALL(IF(joueurs=$B81,ROW(INDIRECT(\"1:\"&ROWS(victoires)))),ROWS($1:$27))),\"\")","v":0},{"$f":"IF(ROWS($1:$28)<=COUNTIF(joueurs,$B81),INDEX(victoires,SMALL(IF(joueurs=$B81,ROW(INDIRECT(\"1:\"&ROWS(victoires)))),ROWS($1:$28))),\"\")","v":0},{"$f":"IF(ROWS($1:$29)<=COUNTIF(joueurs,$B81),INDEX(victoires,SMALL(IF(joueurs=$B81,ROW(INDIRECT(\"1:\"&ROWS(victoires)))),ROWS($1:$29))),\"\")","v":0},{"$f":"IF(ROWS($1:$30)<=COUNTIF(joueurs,$B81),INDEX(victoires,SMALL(IF(joueurs=$B81,ROW(INDIRECT(\"1:\"&ROWS(victoires)))),ROWS($1:$30))),\"\")","v":0}]
[null,null,null,{"$f":"IF(ROWS($1:$31)<=COUNTIF(joueurs,$B81),INDEX(fautes,SMALL(IF(joueurs=$B81,ROW(INDIRECT(\"1:\"&ROWS(fautes)))),ROWS($1:$31))),\"\")","v":0},{"$f":"IF(ROWS($1:$32)<=COUNTIF(joueurs,$B81),INDEX(fautes,SMALL(IF(joueurs=$B81,ROW(INDIRECT(\"1:\"&ROWS(fautes)))),ROWS($1:$32))),\"\")","v":0},{"$f":"IF(ROWS($1:$33)<=COUNTIF(joueurs,$B81),INDEX(fautes,SMALL(IF(joueurs=$B81,ROW(INDIRECT(\"1:\"&ROWS(fautes)))),ROWS($1:$33))),\"\")","v":0},{"$f":"IF(ROWS($1:$34)<=COUNTIF(joueurs,$B81),INDEX(fautes,SMALL(IF(joueurs=$B81,ROW(INDIRECT(\"1:\"&ROWS(fautes)))),ROWS($1:$34))),\"\")","v":0},{"$f":"IF(ROWS($1:$35)<=COUNTIF(joueurs,$B81),INDEX(fautes,SMALL(IF(joueurs=$B81,ROW(INDIRECT(\"1:\"&ROWS(fautes)))),ROWS($1:$35))),\"\")","v":0},{"$f":"IF(ROWS($1:$36)<=COUNTIF(joueurs,$B81),INDEX(fautes,SMALL(IF(joueurs=$B81,ROW(INDIRECT(\"1:\"&ROWS(fautes)))),ROWS($1:$36))),\"\")","v":0},{"$f":"IF(ROWS($1:$37)<=COUNTIF(joueurs,$B81),INDEX(fautes,SMALL(IF(joueurs=$B81,ROW(INDIRECT(\"1:\"&ROWS(fautes)))),ROWS($1:$37))),\"\")","v":0},{"$f":"IF(ROWS($1:$38)<=COUNTIF(joueurs,$B81),INDEX(fautes,SMALL(IF(joueurs=$B81,ROW(INDIRECT(\"1:\"&ROWS(fautes)))),ROWS($1:$38))),\"\")","v":0},{"$f":"IF(ROWS($1:$39)<=COUNTIF(joueurs,$B81),INDEX(fautes,SMALL(IF(joueurs=$B81,ROW(INDIRECT(\"1:\"&ROWS(fautes)))),ROWS($1:$39))),\"\")","v":0},{"$f":"IF(ROWS($1:$40)<=COUNTIF(joueurs,$B81),INDEX(fautes,SMALL(IF(joueurs=$B81,ROW(INDIRECT(\"1:\"&ROWS(fautes)))),ROWS($1:$40))),\"\")","v":0},{"$f":"IF(ROWS($1:$31)<=COUNTIF(joueurs,$B81),INDEX(ballonperdus,SMALL(IF(joueurs=$B81,ROW(INDIRECT(\"1:\"&ROWS(ballonperdus)))),ROWS($1:$31))),\"\")","v":0},{"$f":"IF(ROWS($1:$32)<=COUNTIF(joueurs,$B81),INDEX(ballonperdus,SMALL(IF(joueurs=$B81,ROW(INDIRECT(\"1:\"&ROWS(ballonperdus)))),ROWS($1:$32))),\"\")","v":0},{"$f":"IF(ROWS($1:$33)<=COUNTIF(joueurs,$B81),INDEX(ballonperdus,SMALL(IF(joueurs=$B81,ROW(INDIRECT(\"1:\"&ROWS(ballonperdus)))),ROWS($1:$33))),\"\")","v":0},{"$f":"IF(ROWS($1:$34)<=COUNTIF(joueurs,$B81),INDEX(ballonperdus,SMALL(IF(joueurs=$B81,ROW(INDIRECT(\"1:\"&ROWS(ballonperdus)))),ROWS($1:$34))),\"\")","v":0},{"$f":"IF(ROWS($1:$35)<=COUNTIF(joueurs,$B81),INDEX(ballonperdus,SMALL(IF(joueurs=$B81,ROW(INDIRECT(\"1:\"&ROWS(ballonperdus)))),ROWS($1:$35))),\"\")","v":0},{"$f":"IF(ROWS($1:$36)<=COUNTIF(joueurs,$B81),INDEX(ballonperdus,SMALL(IF(joueurs=$B81,ROW(INDIRECT(\"1:\"&ROWS(ballonperdus)))),ROWS($1:$36))),\"\")","v":0},{"$f":"IF(ROWS($1:$37)<=COUNTIF(joueurs,$B81),INDEX(ballonperdus,SMALL(IF(joueurs=$B81,ROW(INDIRECT(\"1:\"&ROWS(ballonperdus)))),ROWS($1:$37))),\"\")","v":0},{"$f":"IF(ROWS($1:$38)<=COUNTIF(joueurs,$B81),INDEX(ballonperdus,SMALL(IF(joueurs=$B81,ROW(INDIRECT(\"1:\"&ROWS(ballonperdus)))),ROWS($1:$38))),\"\")","v":0},{"$f":"IF(ROWS($1:$39)<=COUNTIF(joueurs,$B81),INDEX(ballonperdus,SMALL(IF(joueurs=$B81,ROW(INDIRECT(\"1:\"&ROWS(ballonperdus)))),ROWS($1:$39))),\"\")","v":0},{"$f":"IF(ROWS($1:$40)<=COUNTIF(joueurs,$B81),INDEX(ballonperdus,SMALL(IF(joueurs=$B81,ROW(INDIRECT(\"1:\"&ROWS(ballonperdus)))),ROWS($1:$40))),\"\")","v":0},{"$f":"IF(ROWS($1:$31)<=COUNTIF(joueurs,$B81),INDEX(interceptions,SMALL(IF(joueurs=$B81,ROW(INDIRECT(\"1:\"&ROWS(interceptions)))),ROWS($1:$31))),\"\")","v":0},{"$f":"IF(ROWS($1:$32)<=COUNTIF(joueurs,$B81),INDEX(interceptions,SMALL(IF(joueurs=$B81,ROW(INDIRECT(\"1:\"&ROWS(interceptions)))),ROWS($1:$32))),\"\")","v":0},{"$f":"IF(ROWS($1:$33)<=COUNTIF(joueurs,$B81),INDEX(interceptions,SMALL(IF(joueurs=$B81,ROW(INDIRECT(\"1:\"&ROWS(interceptions)))),ROWS($1:$33))),\"\")","v":0},{"$f":"IF(ROWS($1:$34)<=COUNTIF(joueurs,$B81),INDEX(interceptions,SMALL(IF(joueurs=$B81,ROW(INDIRECT(\"1:\"&ROWS(interceptions)))),ROWS($1:$34))),\"\")","v":0},{"$f":"IF(ROWS($1:$35)<=COUNTIF(joueurs,$B81),INDEX(interceptions,SMALL(IF(joueurs=$B81,ROW(INDIRECT(\"1:\"&ROWS(interceptions)))),ROWS($1:$35))),\"\")","v":0},{"$f":"IF(ROWS($1:$36)<=COUNTIF(joueurs,$B81),INDEX(interceptions,SMALL(IF(joueurs=$B81,ROW(INDIRECT(\"1:\"&ROWS(interceptions)))),ROWS($1:$36))),\"\")","v":0},{"$f":"IF(ROWS($1:$37)<=COUNTIF(joueurs,$B81),INDEX(interceptions,SMALL(IF(joueurs=$B81,ROW(INDIRECT(\"1:\"&ROWS(interceptions)))),ROWS($1:$37))),\"\")","v":0},{"$f":"IF(ROWS($1:$38)<=COUNTIF(joueurs,$B81),INDEX(interceptions,SMALL(IF(joueurs=$B81,ROW(INDIRECT(\"1:\"&ROWS(interceptions)))),ROWS($1:$38))),\"\")","v":0},{"$f":"IF(ROWS($1:$39)<=COUNTIF(joueurs,$B81),INDEX(interceptions,SMALL(IF(joueurs=$B81,ROW(INDIRECT(\"1:\"&ROWS(interceptions)))),ROWS($1:$39))),\"\")","v":0},{"$f":"IF(ROWS($1:$40)<=COUNTIF(joueurs,$B81),INDEX(interceptions,SMALL(IF(joueurs=$B81,ROW(INDIRECT(\"1:\"&ROWS(interceptions)))),ROWS($1:$40))),\"\")","v":0},{"$f":"IF(ROWS($1:$31)<=COUNTIF(joueurs,$B81),INDEX(ballonrecuperes,SMALL(IF(joueurs=$B81,ROW(INDIRECT(\"1:\"&ROWS(ballonrecuperes)))),ROWS($1:$31))),\"\")","v":0},{"$f":"IF(ROWS($1:$32)<=COUNTIF(joueurs,$B81),INDEX(ballonrecuperes,SMALL(IF(joueurs=$B81,ROW(INDIRECT(\"1:\"&ROWS(ballonrecuperes)))),ROWS($1:$32))),\"\")","v":0},{"$f":"IF(ROWS($1:$33)<=COUNTIF(joueurs,$B81),INDEX(ballonrecuperes,SMALL(IF(joueurs=$B81,ROW(INDIRECT(\"1:\"&ROWS(ballonrecuperes)))),ROWS($1:$33))),\"\")","v":0},{"$f":"IF(ROWS($1:$34)<=COUNTIF(joueurs,$B81),INDEX(ballonrecuperes,SMALL(IF(joueurs=$B81,ROW(INDIRECT(\"1:\"&ROWS(ballonrecuperes)))),ROWS($1:$34))),\"\")","v":0},{"$f":"IF(ROWS($1:$35)<=COUNTIF(joueurs,$B81),INDEX(ballonrecuperes,SMALL(IF(joueurs=$B81,ROW(INDIRECT(\"1:\"&ROWS(ballonrecuperes)))),ROWS($1:$35))),\"\")","v":0},{"$f":"IF(ROWS($1:$36)<=COUNTIF(joueurs,$B81),INDEX(ballonrecuperes,SMALL(IF(joueurs=$B81,ROW(INDIRECT(\"1:\"&ROWS(ballonrecuperes)))),ROWS($1:$36))),\"\")","v":0},{"$f":"IF(ROWS($1:$37)<=COUNTIF(joueurs,$B81),INDEX(ballonrecuperes,SMALL(IF(joueurs=$B81,ROW(INDIRECT(\"1:\"&ROWS(ballonrecuperes)))),ROWS($1:$37))),\"\")","v":0},{"$f":"IF(ROWS($1:$38)<=COUNTIF(joueurs,$B81),INDEX(ballonrecuperes,SMALL(IF(joueurs=$B81,ROW(INDIRECT(\"1:\"&ROWS(ballonrecuperes)))),ROWS($1:$38))),\"\")","v":0},{"$f":"IF(ROWS($1:$39)<=COUNTIF(joueurs,$B81),INDEX(ballonrecuperes,SMALL(IF(joueurs=$B81,ROW(INDIRECT(\"1:\"&ROWS(ballonrecuperes)))),ROWS($1:$39))),\"\")","v":0},{"$f":"IF(ROWS($1:$40)<=COUNTIF(joueurs,$B81),INDEX(ballonrecuperes,SMALL(IF(joueurs=$B81,ROW(INDIRECT(\"1:\"&ROWS(ballonrecuperes)))),ROWS($1:$40))),\"\")","v":0},{"$f":"IF(ROWS($1:$31)<=COUNTIF(joueurs,$B81),INDEX(tirs,SMALL(IF(joueurs=$B81,ROW(INDIRECT(\"1:\"&ROWS(tirs)))),ROWS($1:$31))),\"\")","v":0},{"$f":"IF(ROWS($1:$32)<=COUNTIF(joueurs,$B81),INDEX(tirs,SMALL(IF(joueurs=$B81,ROW(INDIRECT(\"1:\"&ROWS(tirs)))),ROWS($1:$32))),\"\")","v":0},{"$f":"IF(ROWS($1:$33)<=COUNTIF(joueurs,$B81),INDEX(tirs,SMALL(IF(joueurs=$B81,ROW(INDIRECT(\"1:\"&ROWS(tirs)))),ROWS($1:$33))),\"\")","v":0},{"$f":"IF(ROWS($1:$34)<=COUNTIF(joueurs,$B81),INDEX(tirs,SMALL(IF(joueurs=$B81,ROW(INDIRECT(\"1:\"&ROWS(tirs)))),ROWS($1:$34))),\"\")","v":0},{"$f":"IF(ROWS($1:$35)<=COUNTIF(joueurs,$B81),INDEX(tirs,SMALL(IF(joueurs=$B81,ROW(INDIRECT(\"1:\"&ROWS(tirs)))),ROWS($1:$35))),\"\")","v":0},{"$f":"IF(ROWS($1:$36)<=COUNTIF(joueurs,$B81),INDEX(tirs,SMALL(IF(joueurs=$B81,ROW(INDIRECT(\"1:\"&ROWS(tirs)))),ROWS($1:$36))),\"\")","v":0},{"$f":"IF(ROWS($1:$37)<=COUNTIF(joueurs,$B81),INDEX(tirs,SMALL(IF(joueurs=$B81,ROW(INDIRECT(\"1:\"&ROWS(tirs)))),ROWS($1:$37))),\"\")","v":0},{"$f":"IF(ROWS($1:$38)<=COUNTIF(joueurs,$B81),INDEX(tirs,SMALL(IF(joueurs=$B81,ROW(INDIRECT(\"1:\"&ROWS(tirs)))),ROWS($1:$38))),\"\")","v":0},{"$f":"IF(ROWS($1:$39)<=COUNTIF(joueurs,$B81),INDEX(tirs,SMALL(IF(joueurs=$B81,ROW(INDIRECT(\"1:\"&ROWS(tirs)))),ROWS($1:$39))),\"\")","v":0},{"$f":"IF(ROWS($1:$40)<=COUNTIF(joueurs,$B81),INDEX(tirs,SMALL(IF(joueurs=$B81,ROW(INDIRECT(\"1:\"&ROWS(tirs)))),ROWS($1:$40))),\"\")","v":0},{"$f":"IF(ROWS($1:$31)<=COUNTIF(joueurs,$B81),INDEX(bontirs,SMALL(IF(joueurs=$B81,ROW(INDIRECT(\"1:\"&ROWS(bontirs)))),ROWS($1:$31))),\"\")","v":0},{"$f":"IF(ROWS($1:$32)<=COUNTIF(joueurs,$B81),INDEX(bontirs,SMALL(IF(joueurs=$B81,ROW(INDIRECT(\"1:\"&ROWS(bontirs)))),ROWS($1:$32))),\"\")","v":0},{"$f":"IF(ROWS($1:$33)<=COUNTIF(joueurs,$B81),INDEX(bontirs,SMALL(IF(joueurs=$B81,ROW(INDIRECT(\"1:\"&ROWS(bontirs)))),ROWS($1:$33))),\"\")","v":0},{"$f":"IF(ROWS($1:$34)<=COUNTIF(joueurs,$B81),INDEX(bontirs,SMALL(IF(joueurs=$B81,ROW(INDIRECT(\"1:\"&ROWS(bontirs)))),ROWS($1:$34))),\"\")","v":0},{"$f":"IF(ROWS($1:$35)<=COUNTIF(joueurs,$B81),INDEX(bontirs,SMALL(IF(joueurs=$B81,ROW(INDIRECT(\"1:\"&ROWS(bontirs)))),ROWS($1:$35))),\"\")","v":0},{"$f":"IF(ROWS($1:$36)<=COUNTIF(joueurs,$B81),INDEX(bontirs,SMALL(IF(joueurs=$B81,ROW(INDIRECT(\"1:\"&ROWS(bontirs)))),ROWS($1:$36))),\"\")","v":0},{"$f":"IF(ROWS($1:$37)<=COUNTIF(joueurs,$B81),INDEX(bontirs,SMALL(IF(joueurs=$B81,ROW(INDIRECT(\"1:\"&ROWS(bontirs)))),ROWS($1:$37))),\"\")","v":0},{"$f":"IF(ROWS($1:$38)<=COUNTIF(joueurs,$B81),INDEX(bontirs,SMALL(IF(joueurs=$B81,ROW(INDIRECT(\"1:\"&ROWS(bontirs)))),ROWS($1:$38))),\"\")","v":0},{"$f":"IF(ROWS($1:$39)<=COUNTIF(joueurs,$B81),INDEX(bontirs,SMALL(IF(joueurs=$B81,ROW(INDIRECT(\"1:\"&ROWS(bontirs)))),ROWS($1:$39))),\"\")","v":0},{"$f":"IF(ROWS($1:$40)<=COUNTIF(joueurs,$B81),INDEX(bontirs,SMALL(IF(joueurs=$B81,ROW(INDIRECT(\"1:\"&ROWS(bontirs)))),ROWS($1:$40))),\"\")","v":0},{"$f":"IF(ROWS($1:$31)<=COUNTIF(joueurs,$B81),INDEX(points,SMALL(IF(joueurs=$B81,ROW(INDIRECT(\"1:\"&ROWS(points)))),ROWS($1:$31))),\"\")","v":0},{"$f":"IF(ROWS($1:$32)<=COUNTIF(joueurs,$B81),INDEX(points,SMALL(IF(joueurs=$B81,ROW(INDIRECT(\"1:\"&ROWS(points)))),ROWS($1:$32))),\"\")","v":0},{"$f":"IF(ROWS($1:$33)<=COUNTIF(joueurs,$B81),INDEX(points,SMALL(IF(joueurs=$B81,ROW(INDIRECT(\"1:\"&ROWS(points)))),ROWS($1:$33))),\"\")","v":0},{"$f":"IF(ROWS($1:$34)<=COUNTIF(joueurs,$B81),INDEX(points,SMALL(IF(joueurs=$B81,ROW(INDIRECT(\"1:\"&ROWS(points)))),ROWS($1:$34))),\"\")","v":0},{"$f":"IF(ROWS($1:$35)<=COUNTIF(joueurs,$B81),INDEX(points,SMALL(IF(joueurs=$B81,ROW(INDIRECT(\"1:\"&ROWS(points)))),ROWS($1:$35))),\"\")","v":0},{"$f":"IF(ROWS($1:$36)<=COUNTIF(joueurs,$B81),INDEX(points,SMALL(IF(joueurs=$B81,ROW(INDIRECT(\"1:\"&ROWS(points)))),ROWS($1:$36))),\"\")","v":0},{"$f":"IF(ROWS($1:$37)<=COUNTIF(joueurs,$B81),INDEX(points,SMALL(IF(joueurs=$B81,ROW(INDIRECT(\"1:\"&ROWS(points)))),ROWS($1:$37))),\"\")","v":0},{"$f":"IF(ROWS($1:$38)<=COUNTIF(joueurs,$B81),INDEX(points,SMALL(IF(joueurs=$B81,ROW(INDIRECT(\"1:\"&ROWS(points)))),ROWS($1:$38))),\"\")","v":0},{"$f":"IF(ROWS($1:$39)<=COUNTIF(joueurs,$B81),INDEX(points,SMALL(IF(joueurs=$B81,ROW(INDIRECT(\"1:\"&ROWS(points)))),ROWS($1:$39))),\"\")","v":0},{"$f":"IF(ROWS($1:$40)<=COUNTIF(joueurs,$B81),INDEX(points,SMALL(IF(joueurs=$B81,ROW(INDIRECT(\"1:\"&ROWS(points)))),ROWS($1:$40))),\"\")","v":0},{"$f":"IF(ROWS($1:$31)<=COUNTIF(joueurs,$B81),INDEX(victoires,SMALL(IF(joueurs=$B81,ROW(INDIRECT(\"1:\"&ROWS(victoires)))),ROWS($1:$31))),\"\")","v":0},{"$f":"IF(ROWS($1:$32)<=COUNTIF(joueurs,$B81),INDEX(victoires,SMALL(IF(joueurs=$B81,ROW(INDIRECT(\"1:\"&ROWS(victoires)))),ROWS($1:$32))),\"\")","v":0},{"$f":"IF(ROWS($1:$33)<=COUNTIF(joueurs,$B81),INDEX(victoires,SMALL(IF(joueurs=$B81,ROW(INDIRECT(\"1:\"&ROWS(victoires)))),ROWS($1:$33))),\"\")","v":0},{"$f":"IF(ROWS($1:$34)<=COUNTIF(joueurs,$B81),INDEX(victoires,SMALL(IF(joueurs=$B81,ROW(INDIRECT(\"1:\"&ROWS(victoires)))),ROWS($1:$34))),\"\")","v":0},{"$f":"IF(ROWS($1:$35)<=COUNTIF(joueurs,$B81),INDEX(victoires,SMALL(IF(joueurs=$B81,ROW(INDIRECT(\"1:\"&ROWS(victoires)))),ROWS($1:$35))),\"\")","v":0},{"$f":"IF(ROWS($1:$36)<=COUNTIF(joueurs,$B81),INDEX(victoires,SMALL(IF(joueurs=$B81,ROW(INDIRECT(\"1:\"&ROWS(victoires)))),ROWS($1:$36))),\"\")","v":0},{"$f":"IF(ROWS($1:$37)<=COUNTIF(joueurs,$B81),INDEX(victoires,SMALL(IF(joueurs=$B81,ROW(INDIRECT(\"1:\"&ROWS(victoires)))),ROWS($1:$37))),\"\")","v":0},{"$f":"IF(ROWS($1:$38)<=COUNTIF(joueurs,$B81),INDEX(victoires,SMALL(IF(joueurs=$B81,ROW(INDIRECT(\"1:\"&ROWS(victoires)))),ROWS($1:$38))),\"\")","v":0},{"$f":"IF(ROWS($1:$39)<=COUNTIF(joueurs,$B81),INDEX(victoires,SMALL(IF(joueurs=$B81,ROW(INDIRECT(\"1:\"&ROWS(victoires)))),ROWS($1:$39))),\"\")","v":0},{"$f":"IF(ROWS($1:$40)<=COUNTIF(joueurs,$B81),INDEX(victoires,SMALL(IF(joueurs=$B81,ROW(INDIRECT(\"1:\"&ROWS(victoires)))),ROWS($1:$40))),\"\")","v":0}]
[21,{"$f":"INDEX(eleves,MATCH(A85,numero,0),MATCH($B$2,classes,0))","v":0},null,{"$f":"IF(ROWS($1:$1)<=COUNTIF(joueurs,$B85),INDEX(fautes,SMALL(IF(joueurs=$B85,ROW(INDIRECT(\"1:\"&ROWS(fautes)))),ROWS($1:$1))),\"\")","v":0},{"$f":"IF(ROWS($1:$2)<=COUNTIF(joueurs,$B85),INDEX(fautes,SMALL(IF(joueurs=$B85,ROW(INDIRECT(\"1:\"&ROWS(fautes)))),ROWS($1:$2))),\"\")","v":0},{"$f":"IF(ROWS($1:$3)<=COUNTIF(joueurs,$B85),INDEX(fautes,SMALL(IF(joueurs=$B85,ROW(INDIRECT(\"1:\"&ROWS(fautes)))),ROWS($1:$3))),\"\")","v":0},{"$f":"IF(ROWS($1:$4)<=COUNTIF(joueurs,$B85),INDEX(fautes,SMALL(IF(joueurs=$B85,ROW(INDIRECT(\"1:\"&ROWS(fautes)))),ROWS($1:$4))),\"\")","v":0},{"$f":"IF(ROWS($1:$5)<=COUNTIF(joueurs,$B85),INDEX(fautes,SMALL(IF(joueurs=$B85,ROW(INDIRECT(\"1:\"&ROWS(fautes)))),ROWS($1:$5))),\"\")","v":0},{"$f":"IF(ROWS($1:$6)<=COUNTIF(joueurs,$B85),INDEX(fautes,SMALL(IF(joueurs=$B85,ROW(INDIRECT(\"1:\"&ROWS(fautes)))),ROWS($1:$6))),\"\")","v":0},{"$f":"IF(ROWS($1:$7)<=COUNTIF(joueurs,$B85),INDEX(fautes,SMALL(IF(joueurs=$B85,ROW(INDIRECT(\"1:\"&ROWS(fautes)))),ROWS($1:$7))),\"\")","v":0},{"$f":"IF(ROWS($1:$8)<=COUNTIF(joueurs,$B85),INDEX(fautes,SMALL(IF(joueurs=$B85,ROW(INDIRECT(\"1:\"&ROWS(fautes)))),ROWS($1:$8))),\"\")","v":0},{"$f":"IF(ROWS($1:$9)<=COUNTIF(joueurs,$B85),INDEX(fautes,SMALL(IF(joueurs=$B85,ROW(INDIRECT(\"1:\"&ROWS(fautes)))),ROWS($1:$9))),\"\")","v":0},{"$f":"IF(ROWS($1:$10)<=COUNTIF(joueurs,$B85),INDEX(fautes,SMALL(IF(joueurs=$B85,ROW(INDIRECT(\"1:\"&ROWS(fautes)))),ROWS($1:$10))),\"\")","v":0},{"$f":"IF(ROWS($1:$1)<=COUNTIF(joueurs,$B85),INDEX(ballonperdus,SMALL(IF(joueurs=$B85,ROW(INDIRECT(\"1:\"&ROWS(ballonperdus)))),ROWS($1:$1))),\"\")","v":0},{"$f":"IF(ROWS($1:$2)<=COUNTIF(joueurs,$B85),INDEX(ballonperdus,SMALL(IF(joueurs=$B85,ROW(INDIRECT(\"1:\"&ROWS(ballonperdus)))),ROWS($1:$2))),\"\")","v":0},{"$f":"IF(ROWS($1:$3)<=COUNTIF(joueurs,$B85),INDEX(ballonperdus,SMALL(IF(joueurs=$B85,ROW(INDIRECT(\"1:\"&ROWS(ballonperdus)))),ROWS($1:$3))),\"\")","v":0},{"$f":"IF(ROWS($1:$4)<=COUNTIF(joueurs,$B85),INDEX(ballonperdus,SMALL(IF(joueurs=$B85,ROW(INDIRECT(\"1:\"&ROWS(ballonperdus)))),ROWS($1:$4))),\"\")","v":0},{"$f":"IF(ROWS($1:$5)<=COUNTIF(joueurs,$B85),INDEX(ballonperdus,SMALL(IF(joueurs=$B85,ROW(INDIRECT(\"1:\"&ROWS(ballonperdus)))),ROWS($1:$5))),\"\")","v":0},{"$f":"IF(ROWS($1:$6)<=COUNTIF(joueurs,$B85),INDEX(ballonperdus,SMALL(IF(joueurs=$B85,ROW(INDIRECT(\"1:\"&ROWS(ballonperdus)))),ROWS($1:$6))),\"\")","v":0},{"$f":"IF(ROWS($1:$7)<=COUNTIF(joueurs,$B85),INDEX(ballonperdus,SMALL(IF(joueurs=$B85,ROW(INDIRECT(\"1:\"&ROWS(ballonperdus)))),ROWS($1:$7))),\"\")","v":0},{"$f":"IF(ROWS($1:$8)<=COUNTIF(joueurs,$B85),INDEX(ballonperdus,SMALL(IF(joueurs=$B85,ROW(INDIRECT(\"1:\"&ROWS(ballonperdus)))),ROWS($1:$8))),\"\")","v":0},{"$f":"IF(ROWS($1:$9)<=COUNTIF(joueurs,$B85),INDEX(ballonperdus,SMALL(IF(joueurs=$B85,ROW(INDIRECT(\"1:\"&ROWS(ballonperdus)))),ROWS($1:$9))),\"\")","v":0},{"$f":"IF(ROWS($1:$10)<=COUNTIF(joueurs,$B85),INDEX(ballonperdus,SMALL(IF(joueurs=$B85,ROW(INDIRECT(\"1:\"&ROWS(ballonperdus)))),ROWS($1:$10))),\"\")","v":0},{"$f":"IF(ROWS($1:$1)<=COUNTIF(joueurs,$B85),INDEX(interceptions,SMALL(IF(joueurs=$B85,ROW(INDIRECT(\"1:\"&ROWS(interceptions)))),ROWS($1:$1))),\"\")","v":0},{"$f":"IF(ROWS($1:$2)<=COUNTIF(joueurs,$B85),INDEX(interceptions,SMALL(IF(joueurs=$B85,ROW(INDIRECT(\"1:\"&ROWS(interceptions)))),ROWS($1:$2))),\"\")","v":0},{"$f":"IF(ROWS($1:$3)<=COUNTIF(joueurs,$B85),INDEX(interceptions,SMALL(IF(joueurs=$B85,ROW(INDIRECT(\"1:\"&ROWS(interceptions)))),ROWS($1:$3))),\"\")","v":0},{"$f":"IF(ROWS($1:$4)<=COUNTIF(joueurs,$B85),INDEX(interceptions,SMALL(IF(joueurs=$B85,ROW(INDIRECT(\"1:\"&ROWS(interceptions)))),ROWS($1:$4))),\"\")","v":0},{"$f":"IF(ROWS($1:$5)<=COUNTIF(joueurs,$B85),INDEX(interceptions,SMALL(IF(joueurs=$B85,ROW(INDIRECT(\"1:\"&ROWS(interceptions)))),ROWS($1:$5))),\"\")","v":0},{"$f":"IF(ROWS($1:$6)<=COUNTIF(joueurs,$B85),INDEX(interceptions,SMALL(IF(joueurs=$B85,ROW(INDIRECT(\"1:\"&ROWS(interceptions)))),ROWS($1:$6))),\"\")","v":0},{"$f":"IF(ROWS($1:$7)<=COUNTIF(joueurs,$B85),INDEX(interceptions,SMALL(IF(joueurs=$B85,ROW(INDIRECT(\"1:\"&ROWS(interceptions)))),ROWS($1:$7))),\"\")","v":0},{"$f":"IF(ROWS($1:$8)<=COUNTIF(joueurs,$B85),INDEX(interceptions,SMALL(IF(joueurs=$B85,ROW(INDIRECT(\"1:\"&ROWS(interceptions)))),ROWS($1:$8))),\"\")","v":0},{"$f":"IF(ROWS($1:$9)<=COUNTIF(joueurs,$B85),INDEX(interceptions,SMALL(IF(joueurs=$B85,ROW(INDIRECT(\"1:\"&ROWS(interceptions)))),ROWS($1:$9))),\"\")","v":0},{"$f":"IF(ROWS($1:$10)<=COUNTIF(joueurs,$B85),INDEX(interceptions,SMALL(IF(joueurs=$B85,ROW(INDIRECT(\"1:\"&ROWS(interceptions)))),ROWS($1:$10))),\"\")","v":0},{"$f":"IF(ROWS($1:$1)<=COUNTIF(joueurs,$B85),INDEX(ballonrecuperes,SMALL(IF(joueurs=$B85,ROW(INDIRECT(\"1:\"&ROWS(ballonrecuperes)))),ROWS($1:$1))),\"\")","v":0},{"$f":"IF(ROWS($1:$2)<=COUNTIF(joueurs,$B85),INDEX(ballonrecuperes,SMALL(IF(joueurs=$B85,ROW(INDIRECT(\"1:\"&ROWS(ballonrecuperes)))),ROWS($1:$2))),\"\")","v":0},{"$f":"IF(ROWS($1:$3)<=COUNTIF(joueurs,$B85),INDEX(ballonrecuperes,SMALL(IF(joueurs=$B85,ROW(INDIRECT(\"1:\"&ROWS(ballonrecuperes)))),ROWS($1:$3))),\"\")","v":0},{"$f":"IF(ROWS($1:$4)<=COUNTIF(joueurs,$B85),INDEX(ballonrecuperes,SMALL(IF(joueurs=$B85,ROW(INDIRECT(\"1:\"&ROWS(ballonrecuperes)))),ROWS($1:$4))),\"\")","v":0},{"$f":"IF(ROWS($1:$5)<=COUNTIF(joueurs,$B85),INDEX(ballonrecuperes,SMALL(IF(joueurs=$B85,ROW(INDIRECT(\"1:\"&ROWS(ballonrecuperes)))),ROWS($1:$5))),\"\")","v":0},{"$f":"IF(ROWS($1:$6)<=COUNTIF(joueurs,$B85),INDEX(ballonrecuperes,SMALL(IF(joueurs=$B85,ROW(INDIRECT(\"1:\"&ROWS(ballonrecuperes)))),ROWS($1:$6))),\"\")","v":0},{"$f":"IF(ROWS($1:$7)<=COUNTIF(joueurs,$B85),INDEX(ballonrecuperes,SMALL(IF(joueurs=$B85,ROW(INDIRECT(\"1:\"&ROWS(ballonrecuperes)))),ROWS($1:$7))),\"\")","v":0},{"$f":"IF(ROWS($1:$8)<=COUNTIF(joueurs,$B85),INDEX(ballonrecuperes,SMALL(IF(joueurs=$B85,ROW(INDIRECT(\"1:\"&ROWS(ballonrecuperes)))),ROWS($1:$8))),\"\")","v":0},{"$f":"IF(ROWS($1:$9)<=COUNTIF(joueurs,$B85),INDEX(ballonrecuperes,SMALL(IF(joueurs=$B85,ROW(INDIRECT(\"1:\"&ROWS(ballonrecuperes)))),ROWS($1:$9))),\"\")","v":0},{"$f":"IF(ROWS($1:$10)<=COUNTIF(joueurs,$B85),INDEX(ballonrecuperes,SMALL(IF(joueurs=$B85,ROW(INDIRECT(\"1:\"&ROWS(ballonrecuperes)))),ROWS($1:$10))),\"\")","v":0},{"$f":"IF(ROWS($1:$1)<=COUNTIF(joueurs,$B85),INDEX(tirs,SMALL(IF(joueurs=$B85,ROW(INDIRECT(\"1:\"&ROWS(tirs)))),ROWS($1:$1))),\"\")","v":0},{"$f":"IF(ROWS($1:$2)<=COUNTIF(joueurs,$B85),INDEX(tirs,SMALL(IF(joueurs=$B85,ROW(INDIRECT(\"1:\"&ROWS(tirs)))),ROWS($1:$2))),\"\")","v":0},{"$f":"IF(ROWS($1:$3)<=COUNTIF(joueurs,$B85),INDEX(tirs,SMALL(IF(joueurs=$B85,ROW(INDIRECT(\"1:\"&ROWS(tirs)))),ROWS($1:$3))),\"\")","v":0},{"$f":"IF(ROWS($1:$4)<=COUNTIF(joueurs,$B85),INDEX(tirs,SMALL(IF(joueurs=$B85,ROW(INDIRECT(\"1:\"&ROWS(tirs)))),ROWS($1:$4))),\"\")","v":0},{"$f":"IF(ROWS($1:$5)<=COUNTIF(joueurs,$B85),INDEX(tirs,SMALL(IF(joueurs=$B85,ROW(INDIRECT(\"1:\"&ROWS(tirs)))),ROWS($1:$5))),\"\")","v":0},{"$f":"IF(ROWS($1:$6)<=COUNTIF(joueurs,$B85),INDEX(tirs,SMALL(IF(joueurs=$B85,ROW(INDIRECT(\"1:\"&ROWS(tirs)))),ROWS($1:$6))),\"\")","v":0},{"$f":"IF(ROWS($1:$7)<=COUNTIF(joueurs,$B85),INDEX(tirs,SMALL(IF(joueurs=$B85,ROW(INDIRECT(\"1:\"&ROWS(tirs)))),ROWS($1:$7))),\"\")","v":0},{"$f":"IF(ROWS($1:$8)<=COUNTIF(joueurs,$B85),INDEX(tirs,SMALL(IF(joueurs=$B85,ROW(INDIRECT(\"1:\"&ROWS(tirs)))),ROWS($1:$8))),\"\")","v":0},{"$f":"IF(ROWS($1:$9)<=COUNTIF(joueurs,$B85),INDEX(tirs,SMALL(IF(joueurs=$B85,ROW(INDIRECT(\"1:\"&ROWS(tirs)))),ROWS($1:$9))),\"\")","v":0},{"$f":"IF(ROWS($1:$10)<=COUNTIF(joueurs,$B85),INDEX(tirs,SMALL(IF(joueurs=$B85,ROW(INDIRECT(\"1:\"&ROWS(tirs)))),ROWS($1:$10))),\"\")","v":0},{"$f":"IF(ROWS($1:$1)<=COUNTIF(joueurs,$B85),INDEX(bontirs,SMALL(IF(joueurs=$B85,ROW(INDIRECT(\"1:\"&ROWS(bontirs)))),ROWS($1:$1))),\"\")","v":0},{"$f":"IF(ROWS($1:$2)<=COUNTIF(joueurs,$B85),INDEX(bontirs,SMALL(IF(joueurs=$B85,ROW(INDIRECT(\"1:\"&ROWS(bontirs)))),ROWS($1:$2))),\"\")","v":0},{"$f":"IF(ROWS($1:$3)<=COUNTIF(joueurs,$B85),INDEX(bontirs,SMALL(IF(joueurs=$B85,ROW(INDIRECT(\"1:\"&ROWS(bontirs)))),ROWS($1:$3))),\"\")","v":0},{"$f":"IF(ROWS($1:$4)<=COUNTIF(joueurs,$B85),INDEX(bontirs,SMALL(IF(joueurs=$B85,ROW(INDIRECT(\"1:\"&ROWS(bontirs)))),ROWS($1:$4))),\"\")","v":0},{"$f":"IF(ROWS($1:$5)<=COUNTIF(joueurs,$B85),INDEX(bontirs,SMALL(IF(joueurs=$B85,ROW(INDIRECT(\"1:\"&ROWS(bontirs)))),ROWS($1:$5))),\"\")","v":0},{"$f":"IF(ROWS($1:$6)<=COUNTIF(joueurs,$B85),INDEX(bontirs,SMALL(IF(joueurs=$B85,ROW(INDIRECT(\"1:\"&ROWS(bontirs)))),ROWS($1:$6))),\"\")","v":0},{"$f":"IF(ROWS($1:$7)<=COUNTIF(joueurs,$B85),INDEX(bontirs,SMALL(IF(joueurs=$B85,ROW(INDIRECT(\"1:\"&ROWS(bontirs)))),ROWS($1:$7))),\"\")","v":0},{"$f":"IF(ROWS($1:$8)<=COUNTIF(joueurs,$B85),INDEX(bontirs,SMALL(IF(joueurs=$B85,ROW(INDIRECT(\"1:\"&ROWS(bontirs)))),ROWS($1:$8))),\"\")","v":0},{"$f":"IF(ROWS($1:$9)<=COUNTIF(joueurs,$B85),INDEX(bontirs,SMALL(IF(joueurs=$B85,ROW(INDIRECT(\"1:\"&ROWS(bontirs)))),ROWS($1:$9))),\"\")","v":0},{"$f":"IF(ROWS($1:$10)<=COUNTIF(joueurs,$B85),INDEX(bontirs,SMALL(IF(joueurs=$B85,ROW(INDIRECT(\"1:\"&ROWS(bontirs)))),ROWS($1:$10))),\"\")","v":0},{"$f":"IF(ROWS($1:$1)<=COUNTIF(joueurs,$B85),INDEX(points,SMALL(IF(joueurs=$B85,ROW(INDIRECT(\"1:\"&ROWS(points)))),ROWS($1:$1))),\"\")","v":0},{"$f":"IF(ROWS($1:$2)<=COUNTIF(joueurs,$B85),INDEX(points,SMALL(IF(joueurs=$B85,ROW(INDIRECT(\"1:\"&ROWS(points)))),ROWS($1:$2))),\"\")","v":0},{"$f":"IF(ROWS($1:$3)<=COUNTIF(joueurs,$B85),INDEX(points,SMALL(IF(joueurs=$B85,ROW(INDIRECT(\"1:\"&ROWS(points)))),ROWS($1:$3))),\"\")","v":0},{"$f":"IF(ROWS($1:$4)<=COUNTIF(joueurs,$B85),INDEX(points,SMALL(IF(joueurs=$B85,ROW(INDIRECT(\"1:\"&ROWS(points)))),ROWS($1:$4))),\"\")","v":0},{"$f":"IF(ROWS($1:$5)<=COUNTIF(joueurs,$B85),INDEX(points,SMALL(IF(joueurs=$B85,ROW(INDIRECT(\"1:\"&ROWS(points)))),ROWS($1:$5))),\"\")","v":0},{"$f":"IF(ROWS($1:$6)<=COUNTIF(joueurs,$B85),INDEX(points,SMALL(IF(joueurs=$B85,ROW(INDIRECT(\"1:\"&ROWS(points)))),ROWS($1:$6))),\"\")","v":0},{"$f":"IF(ROWS($1:$7)<=COUNTIF(joueurs,$B85),INDEX(points,SMALL(IF(joueurs=$B85,ROW(INDIRECT(\"1:\"&ROWS(points)))),ROWS($1:$7))),\"\")","v":0},{"$f":"IF(ROWS($1:$8)<=COUNTIF(joueurs,$B85),INDEX(points,SMALL(IF(joueurs=$B85,ROW(INDIRECT(\"1:\"&ROWS(points)))),ROWS($1:$8))),\"\")","v":0},{"$f":"IF(ROWS($1:$9)<=COUNTIF(joueurs,$B85),INDEX(points,SMALL(IF(joueurs=$B85,ROW(INDIRECT(\"1:\"&ROWS(points)))),ROWS($1:$9))),\"\")","v":0},{"$f":"IF(ROWS($1:$10)<=COUNTIF(joueurs,$B85),INDEX(points,SMALL(IF(joueurs=$B85,ROW(INDIRECT(\"1:\"&ROWS(points)))),ROWS($1:$10))),\"\")","v":0},{"$f":"IF(ROWS($1:$1)<=COUNTIF(joueurs,$B85),INDEX(victoires,SMALL(IF(joueurs=$B85,ROW(INDIRECT(\"1:\"&ROWS(victoires)))),ROWS($1:$1))),\"\")","v":0},{"$f":"IF(ROWS($1:$2)<=COUNTIF(joueurs,$B85),INDEX(victoires,SMALL(IF(joueurs=$B85,ROW(INDIRECT(\"1:\"&ROWS(victoires)))),ROWS($1:$2))),\"\")","v":0},{"$f":"IF(ROWS($1:$3)<=COUNTIF(joueurs,$B85),INDEX(victoires,SMALL(IF(joueurs=$B85,ROW(INDIRECT(\"1:\"&ROWS(victoires)))),ROWS($1:$3))),\"\")","v":0},{"$f":"IF(ROWS($1:$4)<=COUNTIF(joueurs,$B85),INDEX(victoires,SMALL(IF(joueurs=$B85,ROW(INDIRECT(\"1:\"&ROWS(victoires)))),ROWS($1:$4))),\"\")","v":0},{"$f":"IF(ROWS($1:$5)<=COUNTIF(joueurs,$B85),INDEX(victoires,SMALL(IF(joueurs=$B85,ROW(INDIRECT(\"1:\"&ROWS(victoires)))),ROWS($1:$5))),\"\")","v":0},{"$f":"IF(ROWS($1:$6)<=COUNTIF(joueurs,$B85),INDEX(victoires,SMALL(IF(joueurs=$B85,ROW(INDIRECT(\"1:\"&ROWS(victoires)))),ROWS($1:$6))),\"\")","v":0},{"$f":"IF(ROWS($1:$7)<=COUNTIF(joueurs,$B85),INDEX(victoires,SMALL(IF(joueurs=$B85,ROW(INDIRECT(\"1:\"&ROWS(victoires)))),ROWS($1:$7))),\"\")","v":0},{"$f":"IF(ROWS($1:$8)<=COUNTIF(joueurs,$B85),INDEX(victoires,SMALL(IF(joueurs=$B85,ROW(INDIRECT(\"1:\"&ROWS(victoires)))),ROWS($1:$8))),\"\")","v":0},{"$f":"IF(ROWS($1:$9)<=COUNTIF(joueurs,$B85),INDEX(victoires,SMALL(IF(joueurs=$B85,ROW(INDIRECT(\"1:\"&ROWS(victoires)))),ROWS($1:$9))),\"\")","v":0},{"$f":"IF(ROWS($1:$10)<=COUNTIF(joueurs,$B85),INDEX(victoires,SMALL(IF(joueurs=$B85,ROW(INDIRECT(\"1:\"&ROWS(victoires)))),ROWS($1:$10))),\"\")","v":0}]
[null,null,null,{"$f":"IF(ROWS($1:$11)<=COUNTIF(joueurs,$B85),INDEX(fautes,SMALL(IF(joueurs=$B85,ROW(INDIRECT(\"1:\"&ROWS(fautes)))),ROWS($1:$11))),\"\")","v":0},{"$f":"IF(ROWS($1:$12)<=COUNTIF(joueurs,$B85),INDEX(fautes,SMALL(IF(joueurs=$B85,ROW(INDIRECT(\"1:\"&ROWS(fautes)))),ROWS($1:$12))),\"\")","v":0},{"$f":"IF(ROWS($1:$13)<=COUNTIF(joueurs,$B85),INDEX(fautes,SMALL(IF(joueurs=$B85,ROW(INDIRECT(\"1:\"&ROWS(fautes)))),ROWS($1:$13))),\"\")","v":0},{"$f":"IF(ROWS($1:$14)<=COUNTIF(joueurs,$B85),INDEX(fautes,SMALL(IF(joueurs=$B85,ROW(INDIRECT(\"1:\"&ROWS(fautes)))),ROWS($1:$14))),\"\")","v":0},{"$f":"IF(ROWS($1:$15)<=COUNTIF(joueurs,$B85),INDEX(fautes,SMALL(IF(joueurs=$B85,ROW(INDIRECT(\"1:\"&ROWS(fautes)))),ROWS($1:$15))),\"\")","v":0},{"$f":"IF(ROWS($1:$16)<=COUNTIF(joueurs,$B85),INDEX(fautes,SMALL(IF(joueurs=$B85,ROW(INDIRECT(\"1:\"&ROWS(fautes)))),ROWS($1:$16))),\"\")","v":0},{"$f":"IF(ROWS($1:$17)<=COUNTIF(joueurs,$B85),INDEX(fautes,SMALL(IF(joueurs=$B85,ROW(INDIRECT(\"1:\"&ROWS(fautes)))),ROWS($1:$17))),\"\")","v":0},{"$f":"IF(ROWS($1:$18)<=COUNTIF(joueurs,$B85),INDEX(fautes,SMALL(IF(joueurs=$B85,ROW(INDIRECT(\"1:\"&ROWS(fautes)))),ROWS($1:$18))),\"\")","v":0},{"$f":"IF(ROWS($1:$19)<=COUNTIF(joueurs,$B85),INDEX(fautes,SMALL(IF(joueurs=$B85,ROW(INDIRECT(\"1:\"&ROWS(fautes)))),ROWS($1:$19))),\"\")","v":0},{"$f":"IF(ROWS($1:$20)<=COUNTIF(joueurs,$B85),INDEX(fautes,SMALL(IF(joueurs=$B85,ROW(INDIRECT(\"1:\"&ROWS(fautes)))),ROWS($1:$20))),\"\")","v":0},{"$f":"IF(ROWS($1:$11)<=COUNTIF(joueurs,$B85),INDEX(ballonperdus,SMALL(IF(joueurs=$B85,ROW(INDIRECT(\"1:\"&ROWS(ballonperdus)))),ROWS($1:$11))),\"\")","v":0},{"$f":"IF(ROWS($1:$12)<=COUNTIF(joueurs,$B85),INDEX(ballonperdus,SMALL(IF(joueurs=$B85,ROW(INDIRECT(\"1:\"&ROWS(ballonperdus)))),ROWS($1:$12))),\"\")","v":0},{"$f":"IF(ROWS($1:$13)<=COUNTIF(joueurs,$B85),INDEX(ballonperdus,SMALL(IF(joueurs=$B85,ROW(INDIRECT(\"1:\"&ROWS(ballonperdus)))),ROWS($1:$13))),\"\")","v":0},{"$f":"IF(ROWS($1:$14)<=COUNTIF(joueurs,$B85),INDEX(ballonperdus,SMALL(IF(joueurs=$B85,ROW(INDIRECT(\"1:\"&ROWS(ballonperdus)))),ROWS($1:$14))),\"\")","v":0},{"$f":"IF(ROWS($1:$15)<=COUNTIF(joueurs,$B85),INDEX(ballonperdus,SMALL(IF(joueurs=$B85,ROW(INDIRECT(\"1:\"&ROWS(ballonperdus)))),ROWS($1:$15))),\"\")","v":0},{"$f":"IF(ROWS($1:$16)<=COUNTIF(joueurs,$B85),INDEX(ballonperdus,SMALL(IF(joueurs=$B85,ROW(INDIRECT(\"1:\"&ROWS(ballonperdus)))),ROWS($1:$16))),\"\")","v":0},{"$f":"IF(ROWS($1:$17)<=COUNTIF(joueurs,$B85),INDEX(ballonperdus,SMALL(IF(joueurs=$B85,ROW(INDIRECT(\"1:\"&ROWS(ballonperdus)))),ROWS($1:$17))),\"\")","v":0},{"$f":"IF(ROWS($1:$18)<=COUNTIF(joueurs,$B85),INDEX(ballonperdus,SMALL(IF(joueurs=$B85,ROW(INDIRECT(\"1:\"&ROWS(ballonperdus)))),ROWS($1:$18))),\"\")","v":0},{"$f":"IF(ROWS($1:$19)<=COUNTIF(joueurs,$B85),INDEX(ballonperdus,SMALL(IF(joueurs=$B85,ROW(INDIRECT(\"1:\"&ROWS(ballonperdus)))),ROWS($1:$19))),\"\")","v":0},{"$f":"IF(ROWS($1:$20)<=COUNTIF(joueurs,$B85),INDEX(fautes,SMALL(IF(joueurs=$B85,ROW(INDIRECT(\"1:\"&ROWS(ballonperdus)))),ROWS($1:$20))),\"\")","v":0},{"$f":"IF(ROWS($1:$11)<=COUNTIF(joueurs,$B85),INDEX(interceptions,SMALL(IF(joueurs=$B85,ROW(INDIRECT(\"1:\"&ROWS(interceptions)))),ROWS($1:$11))),\"\")","v":0},{"$f":"IF(ROWS($1:$12)<=COUNTIF(joueurs,$B85),INDEX(interceptions,SMALL(IF(joueurs=$B85,ROW(INDIRECT(\"1:\"&ROWS(interceptions)))),ROWS($1:$12))),\"\")","v":0},{"$f":"IF(ROWS($1:$13)<=COUNTIF(joueurs,$B85),INDEX(interceptions,SMALL(IF(joueurs=$B85,ROW(INDIRECT(\"1:\"&ROWS(interceptions)))),ROWS($1:$13))),\"\")","v":0},{"$f":"IF(ROWS($1:$14)<=COUNTIF(joueurs,$B85),INDEX(interceptions,SMALL(IF(joueurs=$B85,ROW(INDIRECT(\"1:\"&ROWS(interceptions)))),ROWS($1:$14))),\"\")","v":0},{"$f":"IF(ROWS($1:$15)<=COUNTIF(joueurs,$B85),INDEX(interceptions,SMALL(IF(joueurs=$B85,ROW(INDIRECT(\"1:\"&ROWS(interceptions)))),ROWS($1:$15))),\"\")","v":0},{"$f":"IF(ROWS($1:$16)<=COUNTIF(joueurs,$B85),INDEX(interceptions,SMALL(IF(joueurs=$B85,ROW(INDIRECT(\"1:\"&ROWS(interceptions)))),ROWS($1:$16))),\"\")","v":0},{"$f":"IF(ROWS($1:$17)<=COUNTIF(joueurs,$B85),INDEX(interceptions,SMALL(IF(joueurs=$B85,ROW(INDIRECT(\"1:\"&ROWS(interceptions)))),ROWS($1:$17))),\"\")","v":0},{"$f":"IF(ROWS($1:$18)<=COUNTIF(joueurs,$B85),INDEX(interceptions,SMALL(IF(joueurs=$B85,ROW(INDIRECT(\"1:\"&ROWS(interceptions)))),ROWS($1:$18))),\"\")","v":0},{"$f":"IF(ROWS($1:$19)<=COUNTIF(joueurs,$B85),INDEX(interceptions,SMALL(IF(joueurs=$B85,ROW(INDIRECT(\"1:\"&ROWS(interceptions)))),ROWS($1:$19))),\"\")","v":0},{"$f":"IF(ROWS($1:$20)<=COUNTIF(joueurs,$B85),INDEX(interceptions,SMALL(IF(joueurs=$B85,ROW(INDIRECT(\"1:\"&ROWS(interceptions)))),ROWS($1:$20))),\"\")","v":0},{"$f":"IF(ROWS($1:$11)<=COUNTIF(joueurs,$B85),INDEX(ballonrecuperes,SMALL(IF(joueurs=$B85,ROW(INDIRECT(\"1:\"&ROWS(ballonrecuperes)))),ROWS($1:$11))),\"\")","v":0},{"$f":"IF(ROWS($1:$12)<=COUNTIF(joueurs,$B85),INDEX(ballonrecuperes,SMALL(IF(joueurs=$B85,ROW(INDIRECT(\"1:\"&ROWS(ballonrecuperes)))),ROWS($1:$12))),\"\")","v":0},{"$f":"IF(ROWS($1:$13)<=COUNTIF(joueurs,$B85),INDEX(ballonrecuperes,SMALL(IF(joueurs=$B85,ROW(INDIRECT(\"1:\"&ROWS(ballonrecuperes)))),ROWS($1:$13))),\"\")","v":0},{"$f":"IF(ROWS($1:$14)<=COUNTIF(joueurs,$B85),INDEX(ballonrecuperes,SMALL(IF(joueurs=$B85,ROW(INDIRECT(\"1:\"&ROWS(ballonrecuperes)))),ROWS($1:$14))),\"\")","v":0},{"$f":"IF(ROWS($1:$15)<=COUNTIF(joueurs,$B85),INDEX(ballonrecuperes,SMALL(IF(joueurs=$B85,ROW(INDIRECT(\"1:\"&ROWS(ballonrecuperes)))),ROWS($1:$15))),\"\")","v":0},{"$f":"IF(ROWS($1:$16)<=COUNTIF(joueurs,$B85),INDEX(ballonrecuperes,SMALL(IF(joueurs=$B85,ROW(INDIRECT(\"1:\"&ROWS(ballonrecuperes)))),ROWS($1:$16))),\"\")","v":0},{"$f":"IF(ROWS($1:$17)<=COUNTIF(joueurs,$B85),INDEX(ballonrecuperes,SMALL(IF(joueurs=$B85,ROW(INDIRECT(\"1:\"&ROWS(ballonrecuperes)))),ROWS($1:$17))),\"\")","v":0},{"$f":"IF(ROWS($1:$18)<=COUNTIF(joueurs,$B85),INDEX(ballonrecuperes,SMALL(IF(joueurs=$B85,ROW(INDIRECT(\"1:\"&ROWS(ballonrecuperes)))),ROWS($1:$18))),\"\")","v":0},{"$f":"IF(ROWS($1:$19)<=COUNTIF(joueurs,$B85),INDEX(ballonrecuperes,SMALL(IF(joueurs=$B85,ROW(INDIRECT(\"1:\"&ROWS(ballonrecuperes)))),ROWS($1:$19))),\"\")","v":0},{"$f":"IF(ROWS($1:$20)<=COUNTIF(joueurs,$B85),INDEX(ballonrecuperes,SMALL(IF(joueurs=$B85,ROW(INDIRECT(\"1:\"&ROWS(ballonrecuperes)))),ROWS($1:$20))),\"\")","v":0},{"$f":"IF(ROWS($1:$11)<=COUNTIF(joueurs,$B85),INDEX(tirs,SMALL(IF(joueurs=$B85,ROW(INDIRECT(\"1:\"&ROWS(tirs)))),ROWS($1:$11))),\"\")","v":0},{"$f":"IF(ROWS($1:$12)<=COUNTIF(joueurs,$B85),INDEX(tirs,SMALL(IF(joueurs=$B85,ROW(INDIRECT(\"1:\"&ROWS(tirs)))),ROWS($1:$12))),\"\")","v":0},{"$f":"IF(ROWS($1:$13)<=COUNTIF(joueurs,$B85),INDEX(tirs,SMALL(IF(joueurs=$B85,ROW(INDIRECT(\"1:\"&ROWS(tirs)))),ROWS($1:$13))),\"\")","v":0},{"$f":"IF(ROWS($1:$14)<=COUNTIF(joueurs,$B85),INDEX(tirs,SMALL(IF(joueurs=$B85,ROW(INDIRECT(\"1:\"&ROWS(tirs)))),ROWS($1:$14))),\"\")","v":0},{"$f":"IF(ROWS($1:$15)<=COUNTIF(joueurs,$B85),INDEX(tirs,SMALL(IF(joueurs=$B85,ROW(INDIRECT(\"1:\"&ROWS(tirs)))),ROWS($1:$15))),\"\")","v":0},{"$f":"IF(ROWS($1:$16)<=COUNTIF(joueurs,$B85),INDEX(tirs,SMALL(IF(joueurs=$B85,ROW(INDIRECT(\"1:\"&ROWS(tirs)))),ROWS($1:$16))),\"\")","v":0},{"$f":"IF(ROWS($1:$17)<=COUNTIF(joueurs,$B85),INDEX(tirs,SMALL(IF(joueurs=$B85,ROW(INDIRECT(\"1:\"&ROWS(tirs)))),ROWS($1:$17))),\"\")","v":0},{"$f":"IF(ROWS($1:$18)<=COUNTIF(joueurs,$B85),INDEX(tirs,SMALL(IF(joueurs=$B85,ROW(INDIRECT(\"1:\"&ROWS(tirs)))),ROWS($1:$18))),\"\")","v":0},{"$f":"IF(ROWS($1:$19)<=COUNTIF(joueurs,$B85),INDEX(tirs,SMALL(IF(joueurs=$B85,ROW(INDIRECT(\"1:\"&ROWS(tirs)))),ROWS($1:$19))),\"\")","v":0},{"$f":"IF(ROWS($1:$20)<=COUNTIF(joueurs,$B85),INDEX(tirs,SMALL(IF(joueurs=$B85,ROW(INDIRECT(\"1:\"&ROWS(tirs)))),ROWS($1:$20))),\"\")","v":0},{"$f":"IF(ROWS($1:$11)<=COUNTIF(joueurs,$B85),INDEX(bontirs,SMALL(IF(joueurs=$B85,ROW(INDIRECT(\"1:\"&ROWS(bontirs)))),ROWS($1:$11))),\"\")","v":0},{"$f":"IF(ROWS($1:$12)<=COUNTIF(joueurs,$B85),INDEX(bontirs,SMALL(IF(joueurs=$B85,ROW(INDIRECT(\"1:\"&ROWS(bontirs)))),ROWS($1:$12))),\"\")","v":0},{"$f":"IF(ROWS($1:$13)<=COUNTIF(joueurs,$B85),INDEX(bontirs,SMALL(IF(joueurs=$B85,ROW(INDIRECT(\"1:\"&ROWS(bontirs)))),ROWS($1:$13))),\"\")","v":0},{"$f":"IF(ROWS($1:$14)<=COUNTIF(joueurs,$B85),INDEX(bontirs,SMALL(IF(joueurs=$B85,ROW(INDIRECT(\"1:\"&ROWS(bontirs)))),ROWS($1:$14))),\"\")","v":0},{"$f":"IF(ROWS($1:$15)<=COUNTIF(joueurs,$B85),INDEX(bontirs,SMALL(IF(joueurs=$B85,ROW(INDIRECT(\"1:\"&ROWS(bontirs)))),ROWS($1:$15))),\"\")","v":0},{"$f":"IF(ROWS($1:$16)<=COUNTIF(joueurs,$B85),INDEX(bontirs,SMALL(IF(joueurs=$B85,ROW(INDIRECT(\"1:\"&ROWS(bontirs)))),ROWS($1:$16))),\"\")","v":0},{"$f":"IF(ROWS($1:$17)<=COUNTIF(joueurs,$B85),INDEX(bontirs,SMALL(IF(joueurs=$B85,ROW(INDIRECT(\"1:\"&ROWS(bontirs)))),ROWS($1:$17))),\"\")","v":0},{"$f":"IF(ROWS($1:$18)<=COUNTIF(joueurs,$B85),INDEX(bontirs,SMALL(IF(joueurs=$B85,ROW(INDIRECT(\"1:\"&ROWS(bontirs)))),ROWS($1:$18))),\"\")","v":0},{"$f":"IF(ROWS($1:$19)<=COUNTIF(joueurs,$B85),INDEX(bontirs,SMALL(IF(joueurs=$B85,ROW(INDIRECT(\"1:\"&ROWS(bontirs)))),ROWS($1:$19))),\"\")","v":0},{"$f":"IF(ROWS($1:$20)<=COUNTIF(joueurs,$B85),INDEX(bontirs,SMALL(IF(joueurs=$B85,ROW(INDIRECT(\"1:\"&ROWS(bontirs)))),ROWS($1:$20))),\"\")","v":0},{"$f":"IF(ROWS($1:$11)<=COUNTIF(joueurs,$B85),INDEX(points,SMALL(IF(joueurs=$B85,ROW(INDIRECT(\"1:\"&ROWS(points)))),ROWS($1:$11))),\"\")","v":0},{"$f":"IF(ROWS($1:$12)<=COUNTIF(joueurs,$B85),INDEX(points,SMALL(IF(joueurs=$B85,ROW(INDIRECT(\"1:\"&ROWS(points)))),ROWS($1:$12))),\"\")","v":0},{"$f":"IF(ROWS($1:$13)<=COUNTIF(joueurs,$B85),INDEX(points,SMALL(IF(joueurs=$B85,ROW(INDIRECT(\"1:\"&ROWS(points)))),ROWS($1:$13))),\"\")","v":0},{"$f":"IF(ROWS($1:$14)<=COUNTIF(joueurs,$B85),INDEX(points,SMALL(IF(joueurs=$B85,ROW(INDIRECT(\"1:\"&ROWS(points)))),ROWS($1:$14))),\"\")","v":0},{"$f":"IF(ROWS($1:$15)<=COUNTIF(joueurs,$B85),INDEX(points,SMALL(IF(joueurs=$B85,ROW(INDIRECT(\"1:\"&ROWS(points)))),ROWS($1:$15))),\"\")","v":0},{"$f":"IF(ROWS($1:$16)<=COUNTIF(joueurs,$B85),INDEX(points,SMALL(IF(joueurs=$B85,ROW(INDIRECT(\"1:\"&ROWS(points)))),ROWS($1:$16))),\"\")","v":0},{"$f":"IF(ROWS($1:$17)<=COUNTIF(joueurs,$B85),INDEX(points,SMALL(IF(joueurs=$B85,ROW(INDIRECT(\"1:\"&ROWS(points)))),ROWS($1:$17))),\"\")","v":0},{"$f":"IF(ROWS($1:$18)<=COUNTIF(joueurs,$B85),INDEX(points,SMALL(IF(joueurs=$B85,ROW(INDIRECT(\"1:\"&ROWS(points)))),ROWS($1:$18))),\"\")","v":0},{"$f":"IF(ROWS($1:$19)<=COUNTIF(joueurs,$B85),INDEX(points,SMALL(IF(joueurs=$B85,ROW(INDIRECT(\"1:\"&ROWS(points)))),ROWS($1:$19))),\"\")","v":0},{"$f":"IF(ROWS($1:$20)<=COUNTIF(points,$B85),INDEX(fautes,SMALL(IF(joueurs=$B85,ROW(INDIRECT(\"1:\"&ROWS(points)))),ROWS($1:$20))),\"\")","v":0},{"$f":"IF(ROWS($1:$11)<=COUNTIF(joueurs,$B85),INDEX(victoires,SMALL(IF(joueurs=$B85,ROW(INDIRECT(\"1:\"&ROWS(victoires)))),ROWS($1:$11))),\"\")","v":0},{"$f":"IF(ROWS($1:$12)<=COUNTIF(joueurs,$B85),INDEX(victoires,SMALL(IF(joueurs=$B85,ROW(INDIRECT(\"1:\"&ROWS(victoires)))),ROWS($1:$12))),\"\")","v":0},{"$f":"IF(ROWS($1:$13)<=COUNTIF(joueurs,$B85),INDEX(victoires,SMALL(IF(joueurs=$B85,ROW(INDIRECT(\"1:\"&ROWS(victoires)))),ROWS($1:$13))),\"\")","v":0},{"$f":"IF(ROWS($1:$14)<=COUNTIF(joueurs,$B85),INDEX(victoires,SMALL(IF(joueurs=$B85,ROW(INDIRECT(\"1:\"&ROWS(victoires)))),ROWS($1:$14))),\"\")","v":0},{"$f":"IF(ROWS($1:$15)<=COUNTIF(joueurs,$B85),INDEX(victoires,SMALL(IF(joueurs=$B85,ROW(INDIRECT(\"1:\"&ROWS(victoires)))),ROWS($1:$15))),\"\")","v":0},{"$f":"IF(ROWS($1:$16)<=COUNTIF(joueurs,$B85),INDEX(victoires,SMALL(IF(joueurs=$B85,ROW(INDIRECT(\"1:\"&ROWS(victoires)))),ROWS($1:$16))),\"\")","v":0},{"$f":"IF(ROWS($1:$17)<=COUNTIF(joueurs,$B85),INDEX(victoires,SMALL(IF(joueurs=$B85,ROW(INDIRECT(\"1:\"&ROWS(victoires)))),ROWS($1:$17))),\"\")","v":0},{"$f":"IF(ROWS($1:$18)<=COUNTIF(joueurs,$B85),INDEX(victoires,SMALL(IF(joueurs=$B85,ROW(INDIRECT(\"1:\"&ROWS(victoires)))),ROWS($1:$18))),\"\")","v":0},{"$f":"IF(ROWS($1:$19)<=COUNTIF(joueurs,$B85),INDEX(victoires,SMALL(IF(joueurs=$B85,ROW(INDIRECT(\"1:\"&ROWS(victoires)))),ROWS($1:$19))),\"\")","v":0},{"$f":"IF(ROWS($1:$20)<=COUNTIF(joueurs,$B85),INDEX(victoires,SMALL(IF(joueurs=$B85,ROW(INDIRECT(\"1:\"&ROWS(victoires)))),ROWS($1:$20))),\"\")","v":0}]
[null,null,null,{"$f":"IF(ROWS($1:$21)<=COUNTIF(joueurs,$B85),INDEX(fautes,SMALL(IF(joueurs=$B85,ROW(INDIRECT(\"1:\"&ROWS(fautes)))),ROWS($1:$21))),\"\")","v":0},{"$f":"IF(ROWS($1:$22)<=COUNTIF(joueurs,$B85),INDEX(fautes,SMALL(IF(joueurs=$B85,ROW(INDIRECT(\"1:\"&ROWS(fautes)))),ROWS($1:$22))),\"\")","v":0},{"$f":"IF(ROWS($1:$23)<=COUNTIF(joueurs,$B85),INDEX(fautes,SMALL(IF(joueurs=$B85,ROW(INDIRECT(\"1:\"&ROWS(fautes)))),ROWS($1:$23))),\"\")","v":0},{"$f":"IF(ROWS($1:$24)<=COUNTIF(joueurs,$B85),INDEX(fautes,SMALL(IF(joueurs=$B85,ROW(INDIRECT(\"1:\"&ROWS(fautes)))),ROWS($1:$24))),\"\")","v":0},{"$f":"IF(ROWS($1:$25)<=COUNTIF(joueurs,$B85),INDEX(fautes,SMALL(IF(joueurs=$B85,ROW(INDIRECT(\"1:\"&ROWS(fautes)))),ROWS($1:$25))),\"\")","v":0},{"$f":"IF(ROWS($1:$26)<=COUNTIF(joueurs,$B85),INDEX(fautes,SMALL(IF(joueurs=$B85,ROW(INDIRECT(\"1:\"&ROWS(fautes)))),ROWS($1:$26))),\"\")","v":0},{"$f":"IF(ROWS($1:$27)<=COUNTIF(joueurs,$B85),INDEX(fautes,SMALL(IF(joueurs=$B85,ROW(INDIRECT(\"1:\"&ROWS(fautes)))),ROWS($1:$27))),\"\")","v":0},{"$f":"IF(ROWS($1:$28)<=COUNTIF(joueurs,$B85),INDEX(fautes,SMALL(IF(joueurs=$B85,ROW(INDIRECT(\"1:\"&ROWS(fautes)))),ROWS($1:$28))),\"\")","v":0},{"$f":"IF(ROWS($1:$29)<=COUNTIF(joueurs,$B85),INDEX(fautes,SMALL(IF(joueurs=$B85,ROW(INDIRECT(\"1:\"&ROWS(fautes)))),ROWS($1:$29))),\"\")","v":0},{"$f":"IF(ROWS($1:$30)<=COUNTIF(joueurs,$B85),INDEX(fautes,SMALL(IF(joueurs=$B85,ROW(INDIRECT(\"1:\"&ROWS(fautes)))),ROWS($1:$30))),\"\")","v":0},{"$f":"IF(ROWS($1:$21)<=COUNTIF(joueurs,$B85),INDEX(ballonperdus,SMALL(IF(joueurs=$B85,ROW(INDIRECT(\"1:\"&ROWS(ballonperdus)))),ROWS($1:$21))),\"\")","v":0},{"$f":"IF(ROWS($1:$22)<=COUNTIF(joueurs,$B85),INDEX(ballonperdus,SMALL(IF(joueurs=$B85,ROW(INDIRECT(\"1:\"&ROWS(ballonperdus)))),ROWS($1:$22))),\"\")","v":0},{"$f":"IF(ROWS($1:$23)<=COUNTIF(joueurs,$B85),INDEX(ballonperdus,SMALL(IF(joueurs=$B85,ROW(INDIRECT(\"1:\"&ROWS(ballonperdus)))),ROWS($1:$23))),\"\")","v":0},{"$f":"IF(ROWS($1:$24)<=COUNTIF(joueurs,$B85),INDEX(ballonperdus,SMALL(IF(joueurs=$B85,ROW(INDIRECT(\"1:\"&ROWS(ballonperdus)))),ROWS($1:$24))),\"\")","v":0},{"$f":"IF(ROWS($1:$25)<=COUNTIF(joueurs,$B85),INDEX(ballonperdus,SMALL(IF(joueurs=$B85,ROW(INDIRECT(\"1:\"&ROWS(ballonperdus)))),ROWS($1:$25))),\"\")","v":0},{"$f":"IF(ROWS($1:$26)<=COUNTIF(joueurs,$B85),INDEX(ballonperdus,SMALL(IF(joueurs=$B85,ROW(INDIRECT(\"1:\"&ROWS(ballonperdus)))),ROWS($1:$26))),\"\")","v":0},{"$f":"IF(ROWS($1:$27)<=COUNTIF(joueurs,$B85),INDEX(ballonperdus,SMALL(IF(joueurs=$B85,ROW(INDIRECT(\"1:\"&ROWS(ballonperdus)))),ROWS($1:$27))),\"\")","v":0},{"$f":"IF(ROWS($1:$28)<=COUNTIF(joueurs,$B85),INDEX(ballonperdus,SMALL(IF(joueurs=$B85,ROW(INDIRECT(\"1:\"&ROWS(ballonperdus)))),ROWS($1:$28))),\"\")","v":0},{"$f":"IF(ROWS($1:$29)<=COUNTIF(joueurs,$B85),INDEX(ballonperdus,SMALL(IF(joueurs=$B85,ROW(INDIRECT(\"1:\"&ROWS(ballonperdus)))),ROWS($1:$29))),\"\")","v":0},{"$f":"IF(ROWS($1:$30)<=COUNTIF(joueurs,$B85),INDEX(ballonperdus,SMALL(IF(joueurs=$B85,ROW(INDIRECT(\"1:\"&ROWS(ballonperdus)))),ROWS($1:$30))),\"\")","v":0},{"$f":"IF(ROWS($1:$21)<=COUNTIF(joueurs,$B85),INDEX(interceptions,SMALL(IF(joueurs=$B85,ROW(INDIRECT(\"1:\"&ROWS(interceptions)))),ROWS($1:$21))),\"\")","v":0},{"$f":"IF(ROWS($1:$22)<=COUNTIF(joueurs,$B85),INDEX(interceptions,SMALL(IF(joueurs=$B85,ROW(INDIRECT(\"1:\"&ROWS(interceptions)))),ROWS($1:$22))),\"\")","v":0},{"$f":"IF(ROWS($1:$23)<=COUNTIF(joueurs,$B85),INDEX(interceptions,SMALL(IF(joueurs=$B85,ROW(INDIRECT(\"1:\"&ROWS(interceptions)))),ROWS($1:$23))),\"\")","v":0},{"$f":"IF(ROWS($1:$24)<=COUNTIF(joueurs,$B85),INDEX(interceptions,SMALL(IF(joueurs=$B85,ROW(INDIRECT(\"1:\"&ROWS(interceptions)))),ROWS($1:$24))),\"\")","v":0},{"$f":"IF(ROWS($1:$25)<=COUNTIF(joueurs,$B85),INDEX(interceptions,SMALL(IF(joueurs=$B85,ROW(INDIRECT(\"1:\"&ROWS(interceptions)))),ROWS($1:$25))),\"\")","v":0},{"$f":"IF(ROWS($1:$26)<=COUNTIF(joueurs,$B85),INDEX(interceptions,SMALL(IF(joueurs=$B85,ROW(INDIRECT(\"1:\"&ROWS(interceptions)))),ROWS($1:$26))),\"\")","v":0},{"$f":"IF(ROWS($1:$27)<=COUNTIF(joueurs,$B85),INDEX(interceptions,SMALL(IF(joueurs=$B85,ROW(INDIRECT(\"1:\"&ROWS(interceptions)))),ROWS($1:$27))),\"\")","v":0},{"$f":"IF(ROWS($1:$28)<=COUNTIF(joueurs,$B85),INDEX(interceptions,SMALL(IF(joueurs=$B85,ROW(INDIRECT(\"1:\"&ROWS(interceptions)))),ROWS($1:$28))),\"\")","v":0},{"$f":"IF(ROWS($1:$29)<=COUNTIF(joueurs,$B85),INDEX(interceptions,SMALL(IF(joueurs=$B85,ROW(INDIRECT(\"1:\"&ROWS(interceptions)))),ROWS($1:$29))),\"\")","v":0},{"$f":"IF(ROWS($1:$30)<=COUNTIF(joueurs,$B85),INDEX(interceptions,SMALL(IF(joueurs=$B85,ROW(INDIRECT(\"1:\"&ROWS(interceptions)))),ROWS($1:$30))),\"\")","v":0},{"$f":"IF(ROWS($1:$21)<=COUNTIF(joueurs,$B85),INDEX(ballonrecuperes,SMALL(IF(joueurs=$B85,ROW(INDIRECT(\"1:\"&ROWS(ballonrecuperes)))),ROWS($1:$21))),\"\")","v":0},{"$f":"IF(ROWS($1:$22)<=COUNTIF(joueurs,$B85),INDEX(ballonrecuperes,SMALL(IF(joueurs=$B85,ROW(INDIRECT(\"1:\"&ROWS(ballonrecuperes)))),ROWS($1:$22))),\"\")","v":0},{"$f":"IF(ROWS($1:$23)<=COUNTIF(joueurs,$B85),INDEX(ballonrecuperes,SMALL(IF(joueurs=$B85,ROW(INDIRECT(\"1:\"&ROWS(ballonrecuperes)))),ROWS($1:$23))),\"\")","v":0},{"$f":"IF(ROWS($1:$24)<=COUNTIF(joueurs,$B85),INDEX(ballonrecuperes,SMALL(IF(joueurs=$B85,ROW(INDIRECT(\"1:\"&ROWS(ballonrecuperes)))),ROWS($1:$24))),\"\")","v":0},{"$f":"IF(ROWS($1:$25)<=COUNTIF(joueurs,$B85),INDEX(ballonrecuperes,SMALL(IF(joueurs=$B85,ROW(INDIRECT(\"1:\"&ROWS(ballonrecuperes)))),ROWS($1:$25))),\"\")","v":0},{"$f":"IF(ROWS($1:$26)<=COUNTIF(joueurs,$B85),INDEX(ballonrecuperes,SMALL(IF(joueurs=$B85,ROW(INDIRECT(\"1:\"&ROWS(ballonrecuperes)))),ROWS($1:$26))),\"\")","v":0},{"$f":"IF(ROWS($1:$27)<=COUNTIF(joueurs,$B85),INDEX(ballonrecuperes,SMALL(IF(joueurs=$B85,ROW(INDIRECT(\"1:\"&ROWS(ballonrecuperes)))),ROWS($1:$27))),\"\")","v":0},{"$f":"IF(ROWS($1:$28)<=COUNTIF(joueurs,$B85),INDEX(ballonrecuperes,SMALL(IF(joueurs=$B85,ROW(INDIRECT(\"1:\"&ROWS(ballonrecuperes)))),ROWS($1:$28))),\"\")","v":0},{"$f":"IF(ROWS($1:$29)<=COUNTIF(joueurs,$B85),INDEX(ballonrecuperes,SMALL(IF(joueurs=$B85,ROW(INDIRECT(\"1:\"&ROWS(ballonrecuperes)))),ROWS($1:$29))),\"\")","v":0},{"$f":"IF(ROWS($1:$30)<=COUNTIF(joueurs,$B85),INDEX(ballonrecuperes,SMALL(IF(joueurs=$B85,ROW(INDIRECT(\"1:\"&ROWS(ballonrecuperes)))),ROWS($1:$30))),\"\")","v":0},{"$f":"IF(ROWS($1:$21)<=COUNTIF(joueurs,$B85),INDEX(tirs,SMALL(IF(joueurs=$B85,ROW(INDIRECT(\"1:\"&ROWS(tirs)))),ROWS($1:$21))),\"\")","v":0},{"$f":"IF(ROWS($1:$22)<=COUNTIF(joueurs,$B85),INDEX(tirs,SMALL(IF(joueurs=$B85,ROW(INDIRECT(\"1:\"&ROWS(tirs)))),ROWS($1:$22))),\"\")","v":0},{"$f":"IF(ROWS($1:$23)<=COUNTIF(joueurs,$B85),INDEX(tirs,SMALL(IF(joueurs=$B85,ROW(INDIRECT(\"1:\"&ROWS(tirs)))),ROWS($1:$23))),\"\")","v":0},{"$f":"IF(ROWS($1:$24)<=COUNTIF(joueurs,$B85),INDEX(tirs,SMALL(IF(joueurs=$B85,ROW(INDIRECT(\"1:\"&ROWS(tirs)))),ROWS($1:$24))),\"\")","v":0},{"$f":"IF(ROWS($1:$25)<=COUNTIF(joueurs,$B85),INDEX(tirs,SMALL(IF(joueurs=$B85,ROW(INDIRECT(\"1:\"&ROWS(tirs)))),ROWS($1:$25))),\"\")","v":0},{"$f":"IF(ROWS($1:$26)<=COUNTIF(joueurs,$B85),INDEX(tirs,SMALL(IF(joueurs=$B85,ROW(INDIRECT(\"1:\"&ROWS(tirs)))),ROWS($1:$26))),\"\")","v":0},{"$f":"IF(ROWS($1:$27)<=COUNTIF(joueurs,$B85),INDEX(tirs,SMALL(IF(joueurs=$B85,ROW(INDIRECT(\"1:\"&ROWS(tirs)))),ROWS($1:$27))),\"\")","v":0},{"$f":"IF(ROWS($1:$28)<=COUNTIF(joueurs,$B85),INDEX(tirs,SMALL(IF(joueurs=$B85,ROW(INDIRECT(\"1:\"&ROWS(tirs)))),ROWS($1:$28))),\"\")","v":0},{"$f":"IF(ROWS($1:$29)<=COUNTIF(joueurs,$B85),INDEX(tirs,SMALL(IF(joueurs=$B85,ROW(INDIRECT(\"1:\"&ROWS(tirs)))),ROWS($1:$29))),\"\")","v":0},{"$f":"IF(ROWS($1:$30)<=COUNTIF(joueurs,$B85),INDEX(tirs,SMALL(IF(joueurs=$B85,ROW(INDIRECT(\"1:\"&ROWS(tirs)))),ROWS($1:$30))),\"\")","v":0},{"$f":"IF(ROWS($1:$21)<=COUNTIF(joueurs,$B85),INDEX(bontirs,SMALL(IF(joueurs=$B85,ROW(INDIRECT(\"1:\"&ROWS(bontirs)))),ROWS($1:$21))),\"\")","v":0},{"$f":"IF(ROWS($1:$22)<=COUNTIF(joueurs,$B85),INDEX(bontirs,SMALL(IF(joueurs=$B85,ROW(INDIRECT(\"1:\"&ROWS(bontirs)))),ROWS($1:$22))),\"\")","v":0},{"$f":"IF(ROWS($1:$23)<=COUNTIF(joueurs,$B85),INDEX(bontirs,SMALL(IF(joueurs=$B85,ROW(INDIRECT(\"1:\"&ROWS(bontirs)))),ROWS($1:$23))),\"\")","v":0},{"$f":"IF(ROWS($1:$24)<=COUNTIF(joueurs,$B85),INDEX(bontirs,SMALL(IF(joueurs=$B85,ROW(INDIRECT(\"1:\"&ROWS(bontirs)))),ROWS($1:$24))),\"\")","v":0},{"$f":"IF(ROWS($1:$25)<=COUNTIF(joueurs,$B85),INDEX(bontirs,SMALL(IF(joueurs=$B85,ROW(INDIRECT(\"1:\"&ROWS(bontirs)))),ROWS($1:$25))),\"\")","v":0},{"$f":"IF(ROWS($1:$26)<=COUNTIF(joueurs,$B85),INDEX(bontirs,SMALL(IF(joueurs=$B85,ROW(INDIRECT(\"1:\"&ROWS(bontirs)))),ROWS($1:$26))),\"\")","v":0},{"$f":"IF(ROWS($1:$27)<=COUNTIF(joueurs,$B85),INDEX(bontirs,SMALL(IF(joueurs=$B85,ROW(INDIRECT(\"1:\"&ROWS(bontirs)))),ROWS($1:$27))),\"\")","v":0},{"$f":"IF(ROWS($1:$28)<=COUNTIF(joueurs,$B85),INDEX(bontirs,SMALL(IF(joueurs=$B85,ROW(INDIRECT(\"1:\"&ROWS(bontirs)))),ROWS($1:$28))),\"\")","v":0},{"$f":"IF(ROWS($1:$29)<=COUNTIF(joueurs,$B85),INDEX(bontirs,SMALL(IF(joueurs=$B85,ROW(INDIRECT(\"1:\"&ROWS(bontirs)))),ROWS($1:$29))),\"\")","v":0},{"$f":"IF(ROWS($1:$30)<=COUNTIF(joueurs,$B85),INDEX(bontirs,SMALL(IF(joueurs=$B85,ROW(INDIRECT(\"1:\"&ROWS(bontirs)))),ROWS($1:$30))),\"\")","v":0},{"$f":"IF(ROWS($1:$21)<=COUNTIF(joueurs,$B85),INDEX(points,SMALL(IF(joueurs=$B85,ROW(INDIRECT(\"1:\"&ROWS(points)))),ROWS($1:$21))),\"\")","v":0},{"$f":"IF(ROWS($1:$22)<=COUNTIF(joueurs,$B85),INDEX(points,SMALL(IF(joueurs=$B85,ROW(INDIRECT(\"1:\"&ROWS(points)))),ROWS($1:$22))),\"\")","v":0},{"$f":"IF(ROWS($1:$23)<=COUNTIF(joueurs,$B85),INDEX(points,SMALL(IF(joueurs=$B85,ROW(INDIRECT(\"1:\"&ROWS(points)))),ROWS($1:$23))),\"\")","v":0},{"$f":"IF(ROWS($1:$24)<=COUNTIF(joueurs,$B85),INDEX(points,SMALL(IF(joueurs=$B85,ROW(INDIRECT(\"1:\"&ROWS(points)))),ROWS($1:$24))),\"\")","v":0},{"$f":"IF(ROWS($1:$25)<=COUNTIF(joueurs,$B85),INDEX(points,SMALL(IF(joueurs=$B85,ROW(INDIRECT(\"1:\"&ROWS(points)))),ROWS($1:$25))),\"\")","v":0},{"$f":"IF(ROWS($1:$26)<=COUNTIF(joueurs,$B85),INDEX(points,SMALL(IF(joueurs=$B85,ROW(INDIRECT(\"1:\"&ROWS(points)))),ROWS($1:$26))),\"\")","v":0},{"$f":"IF(ROWS($1:$27)<=COUNTIF(joueurs,$B85),INDEX(points,SMALL(IF(joueurs=$B85,ROW(INDIRECT(\"1:\"&ROWS(points)))),ROWS($1:$27))),\"\")","v":0},{"$f":"IF(ROWS($1:$28)<=COUNTIF(joueurs,$B85),INDEX(points,SMALL(IF(joueurs=$B85,ROW(INDIRECT(\"1:\"&ROWS(points)))),ROWS($1:$28))),\"\")","v":0},{"$f":"IF(ROWS($1:$29)<=COUNTIF(joueurs,$B85),INDEX(points,SMALL(IF(joueurs=$B85,ROW(INDIRECT(\"1:\"&ROWS(points)))),ROWS($1:$29))),\"\")","v":0},{"$f":"IF(ROWS($1:$30)<=COUNTIF(joueurs,$B85),INDEX(points,SMALL(IF(joueurs=$B85,ROW(INDIRECT(\"1:\"&ROWS(points)))),ROWS($1:$30))),\"\")","v":0},{"$f":"IF(ROWS($1:$21)<=COUNTIF(joueurs,$B85),INDEX(victoires,SMALL(IF(joueurs=$B85,ROW(INDIRECT(\"1:\"&ROWS(victoires)))),ROWS($1:$21))),\"\")","v":0},{"$f":"IF(ROWS($1:$22)<=COUNTIF(joueurs,$B85),INDEX(victoires,SMALL(IF(joueurs=$B85,ROW(INDIRECT(\"1:\"&ROWS(victoires)))),ROWS($1:$22))),\"\")","v":0},{"$f":"IF(ROWS($1:$23)<=COUNTIF(joueurs,$B85),INDEX(victoires,SMALL(IF(joueurs=$B85,ROW(INDIRECT(\"1:\"&ROWS(victoires)))),ROWS($1:$23))),\"\")","v":0},{"$f":"IF(ROWS($1:$24)<=COUNTIF(joueurs,$B85),INDEX(victoires,SMALL(IF(joueurs=$B85,ROW(INDIRECT(\"1:\"&ROWS(victoires)))),ROWS($1:$24))),\"\")","v":0},{"$f":"IF(ROWS($1:$25)<=COUNTIF(joueurs,$B85),INDEX(victoires,SMALL(IF(joueurs=$B85,ROW(INDIRECT(\"1:\"&ROWS(victoires)))),ROWS($1:$25))),\"\")","v":0},{"$f":"IF(ROWS($1:$26)<=COUNTIF(joueurs,$B85),INDEX(victoires,SMALL(IF(joueurs=$B85,ROW(INDIRECT(\"1:\"&ROWS(victoires)))),ROWS($1:$26))),\"\")","v":0},{"$f":"IF(ROWS($1:$27)<=COUNTIF(joueurs,$B85),INDEX(victoires,SMALL(IF(joueurs=$B85,ROW(INDIRECT(\"1:\"&ROWS(victoires)))),ROWS($1:$27))),\"\")","v":0},{"$f":"IF(ROWS($1:$28)<=COUNTIF(joueurs,$B85),INDEX(victoires,SMALL(IF(joueurs=$B85,ROW(INDIRECT(\"1:\"&ROWS(victoires)))),ROWS($1:$28))),\"\")","v":0},{"$f":"IF(ROWS($1:$29)<=COUNTIF(joueurs,$B85),INDEX(victoires,SMALL(IF(joueurs=$B85,ROW(INDIRECT(\"1:\"&ROWS(victoires)))),ROWS($1:$29))),\"\")","v":0},{"$f":"IF(ROWS($1:$30)<=COUNTIF(joueurs,$B85),INDEX(victoires,SMALL(IF(joueurs=$B85,ROW(INDIRECT(\"1:\"&ROWS(victoires)))),ROWS($1:$30))),\"\")","v":0}]
[null,null,null,{"$f":"IF(ROWS($1:$31)<=COUNTIF(joueurs,$B85),INDEX(fautes,SMALL(IF(joueurs=$B85,ROW(INDIRECT(\"1:\"&ROWS(fautes)))),ROWS($1:$31))),\"\")","v":0},{"$f":"IF(ROWS($1:$32)<=COUNTIF(joueurs,$B85),INDEX(fautes,SMALL(IF(joueurs=$B85,ROW(INDIRECT(\"1:\"&ROWS(fautes)))),ROWS($1:$32))),\"\")","v":0},{"$f":"IF(ROWS($1:$33)<=COUNTIF(joueurs,$B85),INDEX(fautes,SMALL(IF(joueurs=$B85,ROW(INDIRECT(\"1:\"&ROWS(fautes)))),ROWS($1:$33))),\"\")","v":0},{"$f":"IF(ROWS($1:$34)<=COUNTIF(joueurs,$B85),INDEX(fautes,SMALL(IF(joueurs=$B85,ROW(INDIRECT(\"1:\"&ROWS(fautes)))),ROWS($1:$34))),\"\")","v":0},{"$f":"IF(ROWS($1:$35)<=COUNTIF(joueurs,$B85),INDEX(fautes,SMALL(IF(joueurs=$B85,ROW(INDIRECT(\"1:\"&ROWS(fautes)))),ROWS($1:$35))),\"\")","v":0},{"$f":"IF(ROWS($1:$36)<=COUNTIF(joueurs,$B85),INDEX(fautes,SMALL(IF(joueurs=$B85,ROW(INDIRECT(\"1:\"&ROWS(fautes)))),ROWS($1:$36))),\"\")","v":0},{"$f":"IF(ROWS($1:$37)<=COUNTIF(joueurs,$B85),INDEX(fautes,SMALL(IF(joueurs=$B85,ROW(INDIRECT(\"1:\"&ROWS(fautes)))),ROWS($1:$37))),\"\")","v":0},{"$f":"IF(ROWS($1:$38)<=COUNTIF(joueurs,$B85),INDEX(fautes,SMALL(IF(joueurs=$B85,ROW(INDIRECT(\"1:\"&ROWS(fautes)))),ROWS($1:$38))),\"\")","v":0},{"$f":"IF(ROWS($1:$39)<=COUNTIF(joueurs,$B85),INDEX(fautes,SMALL(IF(joueurs=$B85,ROW(INDIRECT(\"1:\"&ROWS(fautes)))),ROWS($1:$39))),\"\")","v":0},{"$f":"IF(ROWS($1:$40)<=COUNTIF(joueurs,$B85),INDEX(fautes,SMALL(IF(joueurs=$B85,ROW(INDIRECT(\"1:\"&ROWS(fautes)))),ROWS($1:$40))),\"\")","v":0},{"$f":"IF(ROWS($1:$31)<=COUNTIF(joueurs,$B85),INDEX(ballonperdus,SMALL(IF(joueurs=$B85,ROW(INDIRECT(\"1:\"&ROWS(ballonperdus)))),ROWS($1:$31))),\"\")","v":0},{"$f":"IF(ROWS($1:$32)<=COUNTIF(joueurs,$B85),INDEX(ballonperdus,SMALL(IF(joueurs=$B85,ROW(INDIRECT(\"1:\"&ROWS(ballonperdus)))),ROWS($1:$32))),\"\")","v":0},{"$f":"IF(ROWS($1:$33)<=COUNTIF(joueurs,$B85),INDEX(ballonperdus,SMALL(IF(joueurs=$B85,ROW(INDIRECT(\"1:\"&ROWS(ballonperdus)))),ROWS($1:$33))),\"\")","v":0},{"$f":"IF(ROWS($1:$34)<=COUNTIF(joueurs,$B85),INDEX(ballonperdus,SMALL(IF(joueurs=$B85,ROW(INDIRECT(\"1:\"&ROWS(ballonperdus)))),ROWS($1:$34))),\"\")","v":0},{"$f":"IF(ROWS($1:$35)<=COUNTIF(joueurs,$B85),INDEX(ballonperdus,SMALL(IF(joueurs=$B85,ROW(INDIRECT(\"1:\"&ROWS(ballonperdus)))),ROWS($1:$35))),\"\")","v":0},{"$f":"IF(ROWS($1:$36)<=COUNTIF(joueurs,$B85),INDEX(ballonperdus,SMALL(IF(joueurs=$B85,ROW(INDIRECT(\"1:\"&ROWS(ballonperdus)))),ROWS($1:$36))),\"\")","v":0},{"$f":"IF(ROWS($1:$37)<=COUNTIF(joueurs,$B85),INDEX(ballonperdus,SMALL(IF(joueurs=$B85,ROW(INDIRECT(\"1:\"&ROWS(ballonperdus)))),ROWS($1:$37))),\"\")","v":0},{"$f":"IF(ROWS($1:$38)<=COUNTIF(joueurs,$B85),INDEX(ballonperdus,SMALL(IF(joueurs=$B85,ROW(INDIRECT(\"1:\"&ROWS(ballonperdus)))),ROWS($1:$38))),\"\")","v":0},{"$f":"IF(ROWS($1:$39)<=COUNTIF(joueurs,$B85),INDEX(ballonperdus,SMALL(IF(joueurs=$B85,ROW(INDIRECT(\"1:\"&ROWS(ballonperdus)))),ROWS($1:$39))),\"\")","v":0},{"$f":"IF(ROWS($1:$40)<=COUNTIF(joueurs,$B85),INDEX(ballonperdus,SMALL(IF(joueurs=$B85,ROW(INDIRECT(\"1:\"&ROWS(ballonperdus)))),ROWS($1:$40))),\"\")","v":0},{"$f":"IF(ROWS($1:$31)<=COUNTIF(joueurs,$B85),INDEX(interceptions,SMALL(IF(joueurs=$B85,ROW(INDIRECT(\"1:\"&ROWS(interceptions)))),ROWS($1:$31))),\"\")","v":0},{"$f":"IF(ROWS($1:$32)<=COUNTIF(joueurs,$B85),INDEX(interceptions,SMALL(IF(joueurs=$B85,ROW(INDIRECT(\"1:\"&ROWS(interceptions)))),ROWS($1:$32))),\"\")","v":0},{"$f":"IF(ROWS($1:$33)<=COUNTIF(joueurs,$B85),INDEX(interceptions,SMALL(IF(joueurs=$B85,ROW(INDIRECT(\"1:\"&ROWS(interceptions)))),ROWS($1:$33))),\"\")","v":0},{"$f":"IF(ROWS($1:$34)<=COUNTIF(joueurs,$B85),INDEX(interceptions,SMALL(IF(joueurs=$B85,ROW(INDIRECT(\"1:\"&ROWS(interceptions)))),ROWS($1:$34))),\"\")","v":0},{"$f":"IF(ROWS($1:$35)<=COUNTIF(joueurs,$B85),INDEX(interceptions,SMALL(IF(joueurs=$B85,ROW(INDIRECT(\"1:\"&ROWS(interceptions)))),ROWS($1:$35))),\"\")","v":0},{"$f":"IF(ROWS($1:$36)<=COUNTIF(joueurs,$B85),INDEX(interceptions,SMALL(IF(joueurs=$B85,ROW(INDIRECT(\"1:\"&ROWS(interceptions)))),ROWS($1:$36))),\"\")","v":0},{"$f":"IF(ROWS($1:$37)<=COUNTIF(joueurs,$B85),INDEX(interceptions,SMALL(IF(joueurs=$B85,ROW(INDIRECT(\"1:\"&ROWS(interceptions)))),ROWS($1:$37))),\"\")","v":0},{"$f":"IF(ROWS($1:$38)<=COUNTIF(joueurs,$B85),INDEX(interceptions,SMALL(IF(joueurs=$B85,ROW(INDIRECT(\"1:\"&ROWS(interceptions)))),ROWS($1:$38))),\"\")","v":0},{"$f":"IF(ROWS($1:$39)<=COUNTIF(joueurs,$B85),INDEX(interceptions,SMALL(IF(joueurs=$B85,ROW(INDIRECT(\"1:\"&ROWS(interceptions)))),ROWS($1:$39))),\"\")","v":0},{"$f":"IF(ROWS($1:$40)<=COUNTIF(joueurs,$B85),INDEX(interceptions,SMALL(IF(joueurs=$B85,ROW(INDIRECT(\"1:\"&ROWS(interceptions)))),ROWS($1:$40))),\"\")","v":0},{"$f":"IF(ROWS($1:$31)<=COUNTIF(joueurs,$B85),INDEX(ballonrecuperes,SMALL(IF(joueurs=$B85,ROW(INDIRECT(\"1:\"&ROWS(ballonrecuperes)))),ROWS($1:$31))),\"\")","v":0},{"$f":"IF(ROWS($1:$32)<=COUNTIF(joueurs,$B85),INDEX(ballonrecuperes,SMALL(IF(joueurs=$B85,ROW(INDIRECT(\"1:\"&ROWS(ballonrecuperes)))),ROWS($1:$32))),\"\")","v":0},{"$f":"IF(ROWS($1:$33)<=COUNTIF(joueurs,$B85),INDEX(ballonrecuperes,SMALL(IF(joueurs=$B85,ROW(INDIRECT(\"1:\"&ROWS(ballonrecuperes)))),ROWS($1:$33))),\"\")","v":0},{"$f":"IF(ROWS($1:$34)<=COUNTIF(joueurs,$B85),INDEX(ballonrecuperes,SMALL(IF(joueurs=$B85,ROW(INDIRECT(\"1:\"&ROWS(ballonrecuperes)))),ROWS($1:$34))),\"\")","v":0},{"$f":"IF(ROWS($1:$35)<=COUNTIF(joueurs,$B85),INDEX(ballonrecuperes,SMALL(IF(joueurs=$B85,ROW(INDIRECT(\"1:\"&ROWS(ballonrecuperes)))),ROWS($1:$35))),\"\")","v":0},{"$f":"IF(ROWS($1:$36)<=COUNTIF(joueurs,$B85),INDEX(ballonrecuperes,SMALL(IF(joueurs=$B85,ROW(INDIRECT(\"1:\"&ROWS(ballonrecuperes)))),ROWS($1:$36))),\"\")","v":0},{"$f":"IF(ROWS($1:$37)<=COUNTIF(joueurs,$B85),INDEX(ballonrecuperes,SMALL(IF(joueurs=$B85,ROW(INDIRECT(\"1:\"&ROWS(ballonrecuperes)))),ROWS($1:$37))),\"\")","v":0},{"$f":"IF(ROWS($1:$38)<=COUNTIF(joueurs,$B85),INDEX(ballonrecuperes,SMALL(IF(joueurs=$B85,ROW(INDIRECT(\"1:\"&ROWS(ballonrecuperes)))),ROWS($1:$38))),\"\")","v":0},{"$f":"IF(ROWS($1:$39)<=COUNTIF(joueurs,$B85),INDEX(ballonrecuperes,SMALL(IF(joueurs=$B85,ROW(INDIRECT(\"1:\"&ROWS(ballonrecuperes)))),ROWS($1:$39))),\"\")","v":0},{"$f":"IF(ROWS($1:$40)<=COUNTIF(joueurs,$B85),INDEX(ballonrecuperes,SMALL(IF(joueurs=$B85,ROW(INDIRECT(\"1:\"&ROWS(ballonrecuperes)))),ROWS($1:$40))),\"\")","v":0},{"$f":"IF(ROWS($1:$31)<=COUNTIF(joueurs,$B85),INDEX(tirs,SMALL(IF(joueurs=$B85,ROW(INDIRECT(\"1:\"&ROWS(tirs)))),ROWS($1:$31))),\"\")","v":0},{"$f":"IF(ROWS($1:$32)<=COUNTIF(joueurs,$B85),INDEX(tirs,SMALL(IF(joueurs=$B85,ROW(INDIRECT(\"1:\"&ROWS(tirs)))),ROWS($1:$32))),\"\")","v":0},{"$f":"IF(ROWS($1:$33)<=COUNTIF(joueurs,$B85),INDEX(tirs,SMALL(IF(joueurs=$B85,ROW(INDIRECT(\"1:\"&ROWS(tirs)))),ROWS($1:$33))),\"\")","v":0},{"$f":"IF(ROWS($1:$34)<=COUNTIF(joueurs,$B85),INDEX(tirs,SMALL(IF(joueurs=$B85,ROW(INDIRECT(\"1:\"&ROWS(tirs)))),ROWS($1:$34))),\"\")","v":0},{"$f":"IF(ROWS($1:$35)<=COUNTIF(joueurs,$B85),INDEX(tirs,SMALL(IF(joueurs=$B85,ROW(INDIRECT(\"1:\"&ROWS(tirs)))),ROWS($1:$35))),\"\")","v":0},{"$f":"IF(ROWS($1:$36)<=COUNTIF(joueurs,$B85),INDEX(tirs,SMALL(IF(joueurs=$B85,ROW(INDIRECT(\"1:\"&ROWS(tirs)))),ROWS($1:$36))),\"\")","v":0},{"$f":"IF(ROWS($1:$37)<=COUNTIF(joueurs,$B85),INDEX(tirs,SMALL(IF(joueurs=$B85,ROW(INDIRECT(\"1:\"&ROWS(tirs)))),ROWS($1:$37))),\"\")","v":0},{"$f":"IF(ROWS($1:$38)<=COUNTIF(joueurs,$B85),INDEX(tirs,SMALL(IF(joueurs=$B85,ROW(INDIRECT(\"1:\"&ROWS(tirs)))),ROWS($1:$38))),\"\")","v":0},{"$f":"IF(ROWS($1:$39)<=COUNTIF(joueurs,$B85),INDEX(tirs,SMALL(IF(joueurs=$B85,ROW(INDIRECT(\"1:\"&ROWS(tirs)))),ROWS($1:$39))),\"\")","v":0},{"$f":"IF(ROWS($1:$40)<=COUNTIF(joueurs,$B85),INDEX(tirs,SMALL(IF(joueurs=$B85,ROW(INDIRECT(\"1:\"&ROWS(tirs)))),ROWS($1:$40))),\"\")","v":0},{"$f":"IF(ROWS($1:$31)<=COUNTIF(joueurs,$B85),INDEX(bontirs,SMALL(IF(joueurs=$B85,ROW(INDIRECT(\"1:\"&ROWS(bontirs)))),ROWS($1:$31))),\"\")","v":0},{"$f":"IF(ROWS($1:$32)<=COUNTIF(joueurs,$B85),INDEX(bontirs,SMALL(IF(joueurs=$B85,ROW(INDIRECT(\"1:\"&ROWS(bontirs)))),ROWS($1:$32))),\"\")","v":0},{"$f":"IF(ROWS($1:$33)<=COUNTIF(joueurs,$B85),INDEX(bontirs,SMALL(IF(joueurs=$B85,ROW(INDIRECT(\"1:\"&ROWS(bontirs)))),ROWS($1:$33))),\"\")","v":0},{"$f":"IF(ROWS($1:$34)<=COUNTIF(joueurs,$B85),INDEX(bontirs,SMALL(IF(joueurs=$B85,ROW(INDIRECT(\"1:\"&ROWS(bontirs)))),ROWS($1:$34))),\"\")","v":0},{"$f":"IF(ROWS($1:$35)<=COUNTIF(joueurs,$B85),INDEX(bontirs,SMALL(IF(joueurs=$B85,ROW(INDIRECT(\"1:\"&ROWS(bontirs)))),ROWS($1:$35))),\"\")","v":0},{"$f":"IF(ROWS($1:$36)<=COUNTIF(joueurs,$B85),INDEX(bontirs,SMALL(IF(joueurs=$B85,ROW(INDIRECT(\"1:\"&ROWS(bontirs)))),ROWS($1:$36))),\"\")","v":0},{"$f":"IF(ROWS($1:$37)<=COUNTIF(joueurs,$B85),INDEX(bontirs,SMALL(IF(joueurs=$B85,ROW(INDIRECT(\"1:\"&ROWS(bontirs)))),ROWS($1:$37))),\"\")","v":0},{"$f":"IF(ROWS($1:$38)<=COUNTIF(joueurs,$B85),INDEX(bontirs,SMALL(IF(joueurs=$B85,ROW(INDIRECT(\"1:\"&ROWS(bontirs)))),ROWS($1:$38))),\"\")","v":0},{"$f":"IF(ROWS($1:$39)<=COUNTIF(joueurs,$B85),INDEX(bontirs,SMALL(IF(joueurs=$B85,ROW(INDIRECT(\"1:\"&ROWS(bontirs)))),ROWS($1:$39))),\"\")","v":0},{"$f":"IF(ROWS($1:$40)<=COUNTIF(joueurs,$B85),INDEX(bontirs,SMALL(IF(joueurs=$B85,ROW(INDIRECT(\"1:\"&ROWS(bontirs)))),ROWS($1:$40))),\"\")","v":0},{"$f":"IF(ROWS($1:$31)<=COUNTIF(joueurs,$B85),INDEX(points,SMALL(IF(joueurs=$B85,ROW(INDIRECT(\"1:\"&ROWS(points)))),ROWS($1:$31))),\"\")","v":0},{"$f":"IF(ROWS($1:$32)<=COUNTIF(joueurs,$B85),INDEX(points,SMALL(IF(joueurs=$B85,ROW(INDIRECT(\"1:\"&ROWS(points)))),ROWS($1:$32))),\"\")","v":0},{"$f":"IF(ROWS($1:$33)<=COUNTIF(joueurs,$B85),INDEX(points,SMALL(IF(joueurs=$B85,ROW(INDIRECT(\"1:\"&ROWS(points)))),ROWS($1:$33))),\"\")","v":0},{"$f":"IF(ROWS($1:$34)<=COUNTIF(joueurs,$B85),INDEX(points,SMALL(IF(joueurs=$B85,ROW(INDIRECT(\"1:\"&ROWS(points)))),ROWS($1:$34))),\"\")","v":0},{"$f":"IF(ROWS($1:$35)<=COUNTIF(joueurs,$B85),INDEX(points,SMALL(IF(joueurs=$B85,ROW(INDIRECT(\"1:\"&ROWS(points)))),ROWS($1:$35))),\"\")","v":0},{"$f":"IF(ROWS($1:$36)<=COUNTIF(joueurs,$B85),INDEX(points,SMALL(IF(joueurs=$B85,ROW(INDIRECT(\"1:\"&ROWS(points)))),ROWS($1:$36))),\"\")","v":0},{"$f":"IF(ROWS($1:$37)<=COUNTIF(joueurs,$B85),INDEX(points,SMALL(IF(joueurs=$B85,ROW(INDIRECT(\"1:\"&ROWS(points)))),ROWS($1:$37))),\"\")","v":0},{"$f":"IF(ROWS($1:$38)<=COUNTIF(joueurs,$B85),INDEX(points,SMALL(IF(joueurs=$B85,ROW(INDIRECT(\"1:\"&ROWS(points)))),ROWS($1:$38))),\"\")","v":0},{"$f":"IF(ROWS($1:$39)<=COUNTIF(joueurs,$B85),INDEX(points,SMALL(IF(joueurs=$B85,ROW(INDIRECT(\"1:\"&ROWS(points)))),ROWS($1:$39))),\"\")","v":0},{"$f":"IF(ROWS($1:$40)<=COUNTIF(joueurs,$B85),INDEX(points,SMALL(IF(joueurs=$B85,ROW(INDIRECT(\"1:\"&ROWS(points)))),ROWS($1:$40))),\"\")","v":0},{"$f":"IF(ROWS($1:$31)<=COUNTIF(joueurs,$B85),INDEX(victoires,SMALL(IF(joueurs=$B85,ROW(INDIRECT(\"1:\"&ROWS(victoires)))),ROWS($1:$31))),\"\")","v":0},{"$f":"IF(ROWS($1:$32)<=COUNTIF(joueurs,$B85),INDEX(victoires,SMALL(IF(joueurs=$B85,ROW(INDIRECT(\"1:\"&ROWS(victoires)))),ROWS($1:$32))),\"\")","v":0},{"$f":"IF(ROWS($1:$33)<=COUNTIF(joueurs,$B85),INDEX(victoires,SMALL(IF(joueurs=$B85,ROW(INDIRECT(\"1:\"&ROWS(victoires)))),ROWS($1:$33))),\"\")","v":0},{"$f":"IF(ROWS($1:$34)<=COUNTIF(joueurs,$B85),INDEX(victoires,SMALL(IF(joueurs=$B85,ROW(INDIRECT(\"1:\"&ROWS(victoires)))),ROWS($1:$34))),\"\")","v":0},{"$f":"IF(ROWS($1:$35)<=COUNTIF(joueurs,$B85),INDEX(victoires,SMALL(IF(joueurs=$B85,ROW(INDIRECT(\"1:\"&ROWS(victoires)))),ROWS($1:$35))),\"\")","v":0},{"$f":"IF(ROWS($1:$36)<=COUNTIF(joueurs,$B85),INDEX(victoires,SMALL(IF(joueurs=$B85,ROW(INDIRECT(\"1:\"&ROWS(victoires)))),ROWS($1:$36))),\"\")","v":0},{"$f":"IF(ROWS($1:$37)<=COUNTIF(joueurs,$B85),INDEX(victoires,SMALL(IF(joueurs=$B85,ROW(INDIRECT(\"1:\"&ROWS(victoires)))),ROWS($1:$37))),\"\")","v":0},{"$f":"IF(ROWS($1:$38)<=COUNTIF(joueurs,$B85),INDEX(victoires,SMALL(IF(joueurs=$B85,ROW(INDIRECT(\"1:\"&ROWS(victoires)))),ROWS($1:$38))),\"\")","v":0},{"$f":"IF(ROWS($1:$39)<=COUNTIF(joueurs,$B85),INDEX(victoires,SMALL(IF(joueurs=$B85,ROW(INDIRECT(\"1:\"&ROWS(victoires)))),ROWS($1:$39))),\"\")","v":0},{"$f":"IF(ROWS($1:$40)<=COUNTIF(joueurs,$B85),INDEX(victoires,SMALL(IF(joueurs=$B85,ROW(INDIRECT(\"1:\"&ROWS(victoires)))),ROWS($1:$40))),\"\")","v":0}]
[22,{"$f":"INDEX(eleves,MATCH(A89,numero,0),MATCH($B$2,classes,0))","v":0},null,{"$f":"IF(ROWS($1:$1)<=COUNTIF(joueurs,$B89),INDEX(fautes,SMALL(IF(joueurs=$B89,ROW(INDIRECT(\"1:\"&ROWS(fautes)))),ROWS($1:$1))),\"\")","v":0},{"$f":"IF(ROWS($1:$2)<=COUNTIF(joueurs,$B89),INDEX(fautes,SMALL(IF(joueurs=$B89,ROW(INDIRECT(\"1:\"&ROWS(fautes)))),ROWS($1:$2))),\"\")","v":0},{"$f":"IF(ROWS($1:$3)<=COUNTIF(joueurs,$B89),INDEX(fautes,SMALL(IF(joueurs=$B89,ROW(INDIRECT(\"1:\"&ROWS(fautes)))),ROWS($1:$3))),\"\")","v":0},{"$f":"IF(ROWS($1:$4)<=COUNTIF(joueurs,$B89),INDEX(fautes,SMALL(IF(joueurs=$B89,ROW(INDIRECT(\"1:\"&ROWS(fautes)))),ROWS($1:$4))),\"\")","v":0},{"$f":"IF(ROWS($1:$5)<=COUNTIF(joueurs,$B89),INDEX(fautes,SMALL(IF(joueurs=$B89,ROW(INDIRECT(\"1:\"&ROWS(fautes)))),ROWS($1:$5))),\"\")","v":0},{"$f":"IF(ROWS($1:$6)<=COUNTIF(joueurs,$B89),INDEX(fautes,SMALL(IF(joueurs=$B89,ROW(INDIRECT(\"1:\"&ROWS(fautes)))),ROWS($1:$6))),\"\")","v":0},{"$f":"IF(ROWS($1:$7)<=COUNTIF(joueurs,$B89),INDEX(fautes,SMALL(IF(joueurs=$B89,ROW(INDIRECT(\"1:\"&ROWS(fautes)))),ROWS($1:$7))),\"\")","v":0},{"$f":"IF(ROWS($1:$8)<=COUNTIF(joueurs,$B89),INDEX(fautes,SMALL(IF(joueurs=$B89,ROW(INDIRECT(\"1:\"&ROWS(fautes)))),ROWS($1:$8))),\"\")","v":0},{"$f":"IF(ROWS($1:$9)<=COUNTIF(joueurs,$B89),INDEX(fautes,SMALL(IF(joueurs=$B89,ROW(INDIRECT(\"1:\"&ROWS(fautes)))),ROWS($1:$9))),\"\")","v":0},{"$f":"IF(ROWS($1:$10)<=COUNTIF(joueurs,$B89),INDEX(fautes,SMALL(IF(joueurs=$B89,ROW(INDIRECT(\"1:\"&ROWS(fautes)))),ROWS($1:$10))),\"\")","v":0},{"$f":"IF(ROWS($1:$1)<=COUNTIF(joueurs,$B89),INDEX(ballonperdus,SMALL(IF(joueurs=$B89,ROW(INDIRECT(\"1:\"&ROWS(ballonperdus)))),ROWS($1:$1))),\"\")","v":0},{"$f":"IF(ROWS($1:$2)<=COUNTIF(joueurs,$B89),INDEX(ballonperdus,SMALL(IF(joueurs=$B89,ROW(INDIRECT(\"1:\"&ROWS(ballonperdus)))),ROWS($1:$2))),\"\")","v":0},{"$f":"IF(ROWS($1:$3)<=COUNTIF(joueurs,$B89),INDEX(ballonperdus,SMALL(IF(joueurs=$B89,ROW(INDIRECT(\"1:\"&ROWS(ballonperdus)))),ROWS($1:$3))),\"\")","v":0},{"$f":"IF(ROWS($1:$4)<=COUNTIF(joueurs,$B89),INDEX(ballonperdus,SMALL(IF(joueurs=$B89,ROW(INDIRECT(\"1:\"&ROWS(ballonperdus)))),ROWS($1:$4))),\"\")","v":0},{"$f":"IF(ROWS($1:$5)<=COUNTIF(joueurs,$B89),INDEX(ballonperdus,SMALL(IF(joueurs=$B89,ROW(INDIRECT(\"1:\"&ROWS(ballonperdus)))),ROWS($1:$5))),\"\")","v":0},{"$f":"IF(ROWS($1:$6)<=COUNTIF(joueurs,$B89),INDEX(ballonperdus,SMALL(IF(joueurs=$B89,ROW(INDIRECT(\"1:\"&ROWS(ballonperdus)))),ROWS($1:$6))),\"\")","v":0},{"$f":"IF(ROWS($1:$7)<=COUNTIF(joueurs,$B89),INDEX(ballonperdus,SMALL(IF(joueurs=$B89,ROW(INDIRECT(\"1:\"&ROWS(ballonperdus)))),ROWS($1:$7))),\"\")","v":0},{"$f":"IF(ROWS($1:$8)<=COUNTIF(joueurs,$B89),INDEX(ballonperdus,SMALL(IF(joueurs=$B89,ROW(INDIRECT(\"1:\"&ROWS(ballonperdus)))),ROWS($1:$8))),\"\")","v":0},{"$f":"IF(ROWS($1:$9)<=COUNTIF(joueurs,$B89),INDEX(ballonperdus,SMALL(IF(joueurs=$B89,ROW(INDIRECT(\"1:\"&ROWS(ballonperdus)))),ROWS($1:$9))),\"\")","v":0},{"$f":"IF(ROWS($1:$10)<=COUNTIF(joueurs,$B89),INDEX(ballonperdus,SMALL(IF(joueurs=$B89,ROW(INDIRECT(\"1:\"&ROWS(ballonperdus)))),ROWS($1:$10))),\"\")","v":0},{"$f":"IF(ROWS($1:$1)<=COUNTIF(joueurs,$B89),INDEX(interceptions,SMALL(IF(joueurs=$B89,ROW(INDIRECT(\"1:\"&ROWS(interceptions)))),ROWS($1:$1))),\"\")","v":0},{"$f":"IF(ROWS($1:$2)<=COUNTIF(joueurs,$B89),INDEX(interceptions,SMALL(IF(joueurs=$B89,ROW(INDIRECT(\"1:\"&ROWS(interceptions)))),ROWS($1:$2))),\"\")","v":0},{"$f":"IF(ROWS($1:$3)<=COUNTIF(joueurs,$B89),INDEX(interceptions,SMALL(IF(joueurs=$B89,ROW(INDIRECT(\"1:\"&ROWS(interceptions)))),ROWS($1:$3))),\"\")","v":0},{"$f":"IF(ROWS($1:$4)<=COUNTIF(joueurs,$B89),INDEX(interceptions,SMALL(IF(joueurs=$B89,ROW(INDIRECT(\"1:\"&ROWS(interceptions)))),ROWS($1:$4))),\"\")","v":0},{"$f":"IF(ROWS($1:$5)<=COUNTIF(joueurs,$B89),INDEX(interceptions,SMALL(IF(joueurs=$B89,ROW(INDIRECT(\"1:\"&ROWS(interceptions)))),ROWS($1:$5))),\"\")","v":0},{"$f":"IF(ROWS($1:$6)<=COUNTIF(joueurs,$B89),INDEX(interceptions,SMALL(IF(joueurs=$B89,ROW(INDIRECT(\"1:\"&ROWS(interceptions)))),ROWS($1:$6))),\"\")","v":0},{"$f":"IF(ROWS($1:$7)<=COUNTIF(joueurs,$B89),INDEX(interceptions,SMALL(IF(joueurs=$B89,ROW(INDIRECT(\"1:\"&ROWS(interceptions)))),ROWS($1:$7))),\"\")","v":0},{"$f":"IF(ROWS($1:$8)<=COUNTIF(joueurs,$B89),INDEX(interceptions,SMALL(IF(joueurs=$B89,ROW(INDIRECT(\"1:\"&ROWS(interceptions)))),ROWS($1:$8))),\"\")","v":0},{"$f":"IF(ROWS($1:$9)<=COUNTIF(joueurs,$B89),INDEX(interceptions,SMALL(IF(joueurs=$B89,ROW(INDIRECT(\"1:\"&ROWS(interceptions)))),ROWS($1:$9))),\"\")","v":0},{"$f":"IF(ROWS($1:$10)<=COUNTIF(joueurs,$B89),INDEX(interceptions,SMALL(IF(joueurs=$B89,ROW(INDIRECT(\"1:\"&ROWS(interceptions)))),ROWS($1:$10))),\"\")","v":0},{"$f":"IF(ROWS($1:$1)<=COUNTIF(joueurs,$B89),INDEX(ballonrecuperes,SMALL(IF(joueurs=$B89,ROW(INDIRECT(\"1:\"&ROWS(ballonrecuperes)))),ROWS($1:$1))),\"\")","v":0},{"$f":"IF(ROWS($1:$2)<=COUNTIF(joueurs,$B89),INDEX(ballonrecuperes,SMALL(IF(joueurs=$B89,ROW(INDIRECT(\"1:\"&ROWS(ballonrecuperes)))),ROWS($1:$2))),\"\")","v":0},{"$f":"IF(ROWS($1:$3)<=COUNTIF(joueurs,$B89),INDEX(ballonrecuperes,SMALL(IF(joueurs=$B89,ROW(INDIRECT(\"1:\"&ROWS(ballonrecuperes)))),ROWS($1:$3))),\"\")","v":0},{"$f":"IF(ROWS($1:$4)<=COUNTIF(joueurs,$B89),INDEX(ballonrecuperes,SMALL(IF(joueurs=$B89,ROW(INDIRECT(\"1:\"&ROWS(ballonrecuperes)))),ROWS($1:$4))),\"\")","v":0},{"$f":"IF(ROWS($1:$5)<=COUNTIF(joueurs,$B89),INDEX(ballonrecuperes,SMALL(IF(joueurs=$B89,ROW(INDIRECT(\"1:\"&ROWS(ballonrecuperes)))),ROWS($1:$5))),\"\")","v":0},{"$f":"IF(ROWS($1:$6)<=COUNTIF(joueurs,$B89),INDEX(ballonrecuperes,SMALL(IF(joueurs=$B89,ROW(INDIRECT(\"1:\"&ROWS(ballonrecuperes)))),ROWS($1:$6))),\"\")","v":0},{"$f":"IF(ROWS($1:$7)<=COUNTIF(joueurs,$B89),INDEX(ballonrecuperes,SMALL(IF(joueurs=$B89,ROW(INDIRECT(\"1:\"&ROWS(ballonrecuperes)))),ROWS($1:$7))),\"\")","v":0},{"$f":"IF(ROWS($1:$8)<=COUNTIF(joueurs,$B89),INDEX(ballonrecuperes,SMALL(IF(joueurs=$B89,ROW(INDIRECT(\"1:\"&ROWS(ballonrecuperes)))),ROWS($1:$8))),\"\")","v":0},{"$f":"IF(ROWS($1:$9)<=COUNTIF(joueurs,$B89),INDEX(ballonrecuperes,SMALL(IF(joueurs=$B89,ROW(INDIRECT(\"1:\"&ROWS(ballonrecuperes)))),ROWS($1:$9))),\"\")","v":0},{"$f":"IF(ROWS($1:$10)<=COUNTIF(joueurs,$B89),INDEX(ballonrecuperes,SMALL(IF(joueurs=$B89,ROW(INDIRECT(\"1:\"&ROWS(ballonrecuperes)))),ROWS($1:$10))),\"\")","v":0},{"$f":"IF(ROWS($1:$1)<=COUNTIF(joueurs,$B89),INDEX(tirs,SMALL(IF(joueurs=$B89,ROW(INDIRECT(\"1:\"&ROWS(tirs)))),ROWS($1:$1))),\"\")","v":0},{"$f":"IF(ROWS($1:$2)<=COUNTIF(joueurs,$B89),INDEX(tirs,SMALL(IF(joueurs=$B89,ROW(INDIRECT(\"1:\"&ROWS(tirs)))),ROWS($1:$2))),\"\")","v":0},{"$f":"IF(ROWS($1:$3)<=COUNTIF(joueurs,$B89),INDEX(tirs,SMALL(IF(joueurs=$B89,ROW(INDIRECT(\"1:\"&ROWS(tirs)))),ROWS($1:$3))),\"\")","v":0},{"$f":"IF(ROWS($1:$4)<=COUNTIF(joueurs,$B89),INDEX(tirs,SMALL(IF(joueurs=$B89,ROW(INDIRECT(\"1:\"&ROWS(tirs)))),ROWS($1:$4))),\"\")","v":0},{"$f":"IF(ROWS($1:$5)<=COUNTIF(joueurs,$B89),INDEX(tirs,SMALL(IF(joueurs=$B89,ROW(INDIRECT(\"1:\"&ROWS(tirs)))),ROWS($1:$5))),\"\")","v":0},{"$f":"IF(ROWS($1:$6)<=COUNTIF(joueurs,$B89),INDEX(tirs,SMALL(IF(joueurs=$B89,ROW(INDIRECT(\"1:\"&ROWS(tirs)))),ROWS($1:$6))),\"\")","v":0},{"$f":"IF(ROWS($1:$7)<=COUNTIF(joueurs,$B89),INDEX(tirs,SMALL(IF(joueurs=$B89,ROW(INDIRECT(\"1:\"&ROWS(tirs)))),ROWS($1:$7))),\"\")","v":0},{"$f":"IF(ROWS($1:$8)<=COUNTIF(joueurs,$B89),INDEX(tirs,SMALL(IF(joueurs=$B89,ROW(INDIRECT(\"1:\"&ROWS(tirs)))),ROWS($1:$8))),\"\")","v":0},{"$f":"IF(ROWS($1:$9)<=COUNTIF(joueurs,$B89),INDEX(tirs,SMALL(IF(joueurs=$B89,ROW(INDIRECT(\"1:\"&ROWS(tirs)))),ROWS($1:$9))),\"\")","v":0},{"$f":"IF(ROWS($1:$10)<=COUNTIF(joueurs,$B89),INDEX(tirs,SMALL(IF(joueurs=$B89,ROW(INDIRECT(\"1:\"&ROWS(tirs)))),ROWS($1:$10))),\"\")","v":0},{"$f":"IF(ROWS($1:$1)<=COUNTIF(joueurs,$B89),INDEX(bontirs,SMALL(IF(joueurs=$B89,ROW(INDIRECT(\"1:\"&ROWS(bontirs)))),ROWS($1:$1))),\"\")","v":0},{"$f":"IF(ROWS($1:$2)<=COUNTIF(joueurs,$B89),INDEX(bontirs,SMALL(IF(joueurs=$B89,ROW(INDIRECT(\"1:\"&ROWS(bontirs)))),ROWS($1:$2))),\"\")","v":0},{"$f":"IF(ROWS($1:$3)<=COUNTIF(joueurs,$B89),INDEX(bontirs,SMALL(IF(joueurs=$B89,ROW(INDIRECT(\"1:\"&ROWS(bontirs)))),ROWS($1:$3))),\"\")","v":0},{"$f":"IF(ROWS($1:$4)<=COUNTIF(joueurs,$B89),INDEX(bontirs,SMALL(IF(joueurs=$B89,ROW(INDIRECT(\"1:\"&ROWS(bontirs)))),ROWS($1:$4))),\"\")","v":0},{"$f":"IF(ROWS($1:$5)<=COUNTIF(joueurs,$B89),INDEX(bontirs,SMALL(IF(joueurs=$B89,ROW(INDIRECT(\"1:\"&ROWS(bontirs)))),ROWS($1:$5))),\"\")","v":0},{"$f":"IF(ROWS($1:$6)<=COUNTIF(joueurs,$B89),INDEX(bontirs,SMALL(IF(joueurs=$B89,ROW(INDIRECT(\"1:\"&ROWS(bontirs)))),ROWS($1:$6))),\"\")","v":0},{"$f":"IF(ROWS($1:$7)<=COUNTIF(joueurs,$B89),INDEX(bontirs,SMALL(IF(joueurs=$B89,ROW(INDIRECT(\"1:\"&ROWS(bontirs)))),ROWS($1:$7))),\"\")","v":0},{"$f":"IF(ROWS($1:$8)<=COUNTIF(joueurs,$B89),INDEX(bontirs,SMALL(IF(joueurs=$B89,ROW(INDIRECT(\"1:\"&ROWS(bontirs)))),ROWS($1:$8))),\"\")","v":0},{"$f":"IF(ROWS($1:$9)<=COUNTIF(joueurs,$B89),INDEX(bontirs,SMALL(IF(joueurs=$B89,ROW(INDIRECT(\"1:\"&ROWS(bontirs)))),ROWS($1:$9))),\"\")","v":0},{"$f":"IF(ROWS($1:$10)<=COUNTIF(joueurs,$B89),INDEX(bontirs,SMALL(IF(joueurs=$B89,ROW(INDIRECT(\"1:\"&ROWS(bontirs)))),ROWS($1:$10))),\"\")","v":0},{"$f":"IF(ROWS($1:$1)<=COUNTIF(joueurs,$B89),INDEX(points,SMALL(IF(joueurs=$B89,ROW(INDIRECT(\"1:\"&ROWS(points)))),ROWS($1:$1))),\"\")","v":0},{"$f":"IF(ROWS($1:$2)<=COUNTIF(joueurs,$B89),INDEX(points,SMALL(IF(joueurs=$B89,ROW(INDIRECT(\"1:\"&ROWS(points)))),ROWS($1:$2))),\"\")","v":0},{"$f":"IF(ROWS($1:$3)<=COUNTIF(joueurs,$B89),INDEX(points,SMALL(IF(joueurs=$B89,ROW(INDIRECT(\"1:\"&ROWS(points)))),ROWS($1:$3))),\"\")","v":0},{"$f":"IF(ROWS($1:$4)<=COUNTIF(joueurs,$B89),INDEX(points,SMALL(IF(joueurs=$B89,ROW(INDIRECT(\"1:\"&ROWS(points)))),ROWS($1:$4))),\"\")","v":0},{"$f":"IF(ROWS($1:$5)<=COUNTIF(joueurs,$B89),INDEX(points,SMALL(IF(joueurs=$B89,ROW(INDIRECT(\"1:\"&ROWS(points)))),ROWS($1:$5))),\"\")","v":0},{"$f":"IF(ROWS($1:$6)<=COUNTIF(joueurs,$B89),INDEX(points,SMALL(IF(joueurs=$B89,ROW(INDIRECT(\"1:\"&ROWS(points)))),ROWS($1:$6))),\"\")","v":0},{"$f":"IF(ROWS($1:$7)<=COUNTIF(joueurs,$B89),INDEX(points,SMALL(IF(joueurs=$B89,ROW(INDIRECT(\"1:\"&ROWS(points)))),ROWS($1:$7))),\"\")","v":0},{"$f":"IF(ROWS($1:$8)<=COUNTIF(joueurs,$B89),INDEX(points,SMALL(IF(joueurs=$B89,ROW(INDIRECT(\"1:\"&ROWS(points)))),ROWS($1:$8))),\"\")","v":0},{"$f":"IF(ROWS($1:$9)<=COUNTIF(joueurs,$B89),INDEX(points,SMALL(IF(joueurs=$B89,ROW(INDIRECT(\"1:\"&ROWS(points)))),ROWS($1:$9))),\"\")","v":0},{"$f":"IF(ROWS($1:$10)<=COUNTIF(joueurs,$B89),INDEX(points,SMALL(IF(joueurs=$B89,ROW(INDIRECT(\"1:\"&ROWS(points)))),ROWS($1:$10))),\"\")","v":0},{"$f":"IF(ROWS($1:$1)<=COUNTIF(joueurs,$B89),INDEX(victoires,SMALL(IF(joueurs=$B89,ROW(INDIRECT(\"1:\"&ROWS(victoires)))),ROWS($1:$1))),\"\")","v":0},{"$f":"IF(ROWS($1:$2)<=COUNTIF(joueurs,$B89),INDEX(victoires,SMALL(IF(joueurs=$B89,ROW(INDIRECT(\"1:\"&ROWS(victoires)))),ROWS($1:$2))),\"\")","v":0},{"$f":"IF(ROWS($1:$3)<=COUNTIF(joueurs,$B89),INDEX(victoires,SMALL(IF(joueurs=$B89,ROW(INDIRECT(\"1:\"&ROWS(victoires)))),ROWS($1:$3))),\"\")","v":0},{"$f":"IF(ROWS($1:$4)<=COUNTIF(joueurs,$B89),INDEX(victoires,SMALL(IF(joueurs=$B89,ROW(INDIRECT(\"1:\"&ROWS(victoires)))),ROWS($1:$4))),\"\")","v":0},{"$f":"IF(ROWS($1:$5)<=COUNTIF(joueurs,$B89),INDEX(victoires,SMALL(IF(joueurs=$B89,ROW(INDIRECT(\"1:\"&ROWS(victoires)))),ROWS($1:$5))),\"\")","v":0},{"$f":"IF(ROWS($1:$6)<=COUNTIF(joueurs,$B89),INDEX(victoires,SMALL(IF(joueurs=$B89,ROW(INDIRECT(\"1:\"&ROWS(victoires)))),ROWS($1:$6))),\"\")","v":0},{"$f":"IF(ROWS($1:$7)<=COUNTIF(joueurs,$B89),INDEX(victoires,SMALL(IF(joueurs=$B89,ROW(INDIRECT(\"1:\"&ROWS(victoires)))),ROWS($1:$7))),\"\")","v":0},{"$f":"IF(ROWS($1:$8)<=COUNTIF(joueurs,$B89),INDEX(victoires,SMALL(IF(joueurs=$B89,ROW(INDIRECT(\"1:\"&ROWS(victoires)))),ROWS($1:$8))),\"\")","v":0},{"$f":"IF(ROWS($1:$9)<=COUNTIF(joueurs,$B89),INDEX(victoires,SMALL(IF(joueurs=$B89,ROW(INDIRECT(\"1:\"&ROWS(victoires)))),ROWS($1:$9))),\"\")","v":0},{"$f":"IF(ROWS($1:$10)<=COUNTIF(joueurs,$B89),INDEX(victoires,SMALL(IF(joueurs=$B89,ROW(INDIRECT(\"1:\"&ROWS(victoires)))),ROWS($1:$10))),\"\")","v":0}]
[null,null,null,{"$f":"IF(ROWS($1:$11)<=COUNTIF(joueurs,$B89),INDEX(fautes,SMALL(IF(joueurs=$B89,ROW(INDIRECT(\"1:\"&ROWS(fautes)))),ROWS($1:$11))),\"\")","v":0},{"$f":"IF(ROWS($1:$12)<=COUNTIF(joueurs,$B89),INDEX(fautes,SMALL(IF(joueurs=$B89,ROW(INDIRECT(\"1:\"&ROWS(fautes)))),ROWS($1:$12))),\"\")","v":0},{"$f":"IF(ROWS($1:$13)<=COUNTIF(joueurs,$B89),INDEX(fautes,SMALL(IF(joueurs=$B89,ROW(INDIRECT(\"1:\"&ROWS(fautes)))),ROWS($1:$13))),\"\")","v":0},{"$f":"IF(ROWS($1:$14)<=COUNTIF(joueurs,$B89),INDEX(fautes,SMALL(IF(joueurs=$B89,ROW(INDIRECT(\"1:\"&ROWS(fautes)))),ROWS($1:$14))),\"\")","v":0},{"$f":"IF(ROWS($1:$15)<=COUNTIF(joueurs,$B89),INDEX(fautes,SMALL(IF(joueurs=$B89,ROW(INDIRECT(\"1:\"&ROWS(fautes)))),ROWS($1:$15))),\"\")","v":0},{"$f":"IF(ROWS($1:$16)<=COUNTIF(joueurs,$B89),INDEX(fautes,SMALL(IF(joueurs=$B89,ROW(INDIRECT(\"1:\"&ROWS(fautes)))),ROWS($1:$16))),\"\")","v":0},{"$f":"IF(ROWS($1:$17)<=COUNTIF(joueurs,$B89),INDEX(fautes,SMALL(IF(joueurs=$B89,ROW(INDIRECT(\"1:\"&ROWS(fautes)))),ROWS($1:$17))),\"\")","v":0},{"$f":"IF(ROWS($1:$18)<=COUNTIF(joueurs,$B89),INDEX(fautes,SMALL(IF(joueurs=$B89,ROW(INDIRECT(\"1:\"&ROWS(fautes)))),ROWS($1:$18))),\"\")","v":0},{"$f":"IF(ROWS($1:$19)<=COUNTIF(joueurs,$B89),INDEX(fautes,SMALL(IF(joueurs=$B89,ROW(INDIRECT(\"1:\"&ROWS(fautes)))),ROWS($1:$19))),\"\")","v":0},{"$f":"IF(ROWS($1:$20)<=COUNTIF(joueurs,$B89),INDEX(fautes,SMALL(IF(joueurs=$B89,ROW(INDIRECT(\"1:\"&ROWS(fautes)))),ROWS($1:$20))),\"\")","v":0},{"$f":"IF(ROWS($1:$11)<=COUNTIF(joueurs,$B89),INDEX(ballonperdus,SMALL(IF(joueurs=$B89,ROW(INDIRECT(\"1:\"&ROWS(ballonperdus)))),ROWS($1:$11))),\"\")","v":0},{"$f":"IF(ROWS($1:$12)<=COUNTIF(joueurs,$B89),INDEX(ballonperdus,SMALL(IF(joueurs=$B89,ROW(INDIRECT(\"1:\"&ROWS(ballonperdus)))),ROWS($1:$12))),\"\")","v":0},{"$f":"IF(ROWS($1:$13)<=COUNTIF(joueurs,$B89),INDEX(ballonperdus,SMALL(IF(joueurs=$B89,ROW(INDIRECT(\"1:\"&ROWS(ballonperdus)))),ROWS($1:$13))),\"\")","v":0},{"$f":"IF(ROWS($1:$14)<=COUNTIF(joueurs,$B89),INDEX(ballonperdus,SMALL(IF(joueurs=$B89,ROW(INDIRECT(\"1:\"&ROWS(ballonperdus)))),ROWS($1:$14))),\"\")","v":0},{"$f":"IF(ROWS($1:$15)<=COUNTIF(joueurs,$B89),INDEX(ballonperdus,SMALL(IF(joueurs=$B89,ROW(INDIRECT(\"1:\"&ROWS(ballonperdus)))),ROWS($1:$15))),\"\")","v":0},{"$f":"IF(ROWS($1:$16)<=COUNTIF(joueurs,$B89),INDEX(ballonperdus,SMALL(IF(joueurs=$B89,ROW(INDIRECT(\"1:\"&ROWS(ballonperdus)))),ROWS($1:$16))),\"\")","v":0},{"$f":"IF(ROWS($1:$17)<=COUNTIF(joueurs,$B89),INDEX(ballonperdus,SMALL(IF(joueurs=$B89,ROW(INDIRECT(\"1:\"&ROWS(ballonperdus)))),ROWS($1:$17))),\"\")","v":0},{"$f":"IF(ROWS($1:$18)<=COUNTIF(joueurs,$B89),INDEX(ballonperdus,SMALL(IF(joueurs=$B89,ROW(INDIRECT(\"1:\"&ROWS(ballonperdus)))),ROWS($1:$18))),\"\")","v":0},{"$f":"IF(ROWS($1:$19)<=COUNTIF(joueurs,$B89),INDEX(ballonperdus,SMALL(IF(joueurs=$B89,ROW(INDIRECT(\"1:\"&ROWS(ballonperdus)))),ROWS($1:$19))),\"\")","v":0},{"$f":"IF(ROWS($1:$20)<=COUNTIF(joueurs,$B89),INDEX(fautes,SMALL(IF(joueurs=$B89,ROW(INDIRECT(\"1:\"&ROWS(ballonperdus)))),ROWS($1:$20))),\"\")","v":0},{"$f":"IF(ROWS($1:$11)<=COUNTIF(joueurs,$B89),INDEX(interceptions,SMALL(IF(joueurs=$B89,ROW(INDIRECT(\"1:\"&ROWS(interceptions)))),ROWS($1:$11))),\"\")","v":0},{"$f":"IF(ROWS($1:$12)<=COUNTIF(joueurs,$B89),INDEX(interceptions,SMALL(IF(joueurs=$B89,ROW(INDIRECT(\"1:\"&ROWS(interceptions)))),ROWS($1:$12))),\"\")","v":0},{"$f":"IF(ROWS($1:$13)<=COUNTIF(joueurs,$B89),INDEX(interceptions,SMALL(IF(joueurs=$B89,ROW(INDIRECT(\"1:\"&ROWS(interceptions)))),ROWS($1:$13))),\"\")","v":0},{"$f":"IF(ROWS($1:$14)<=COUNTIF(joueurs,$B89),INDEX(interceptions,SMALL(IF(joueurs=$B89,ROW(INDIRECT(\"1:\"&ROWS(interceptions)))),ROWS($1:$14))),\"\")","v":0},{"$f":"IF(ROWS($1:$15)<=COUNTIF(joueurs,$B89),INDEX(interceptions,SMALL(IF(joueurs=$B89,ROW(INDIRECT(\"1:\"&ROWS(interceptions)))),ROWS($1:$15))),\"\")","v":0},{"$f":"IF(ROWS($1:$16)<=COUNTIF(joueurs,$B89),INDEX(interceptions,SMALL(IF(joueurs=$B89,ROW(INDIRECT(\"1:\"&ROWS(interceptions)))),ROWS($1:$16))),\"\")","v":0},{"$f":"IF(ROWS($1:$17)<=COUNTIF(joueurs,$B89),INDEX(interceptions,SMALL(IF(joueurs=$B89,ROW(INDIRECT(\"1:\"&ROWS(interceptions)))),ROWS($1:$17))),\"\")","v":0},{"$f":"IF(ROWS($1:$18)<=COUNTIF(joueurs,$B89),INDEX(interceptions,SMALL(IF(joueurs=$B89,ROW(INDIRECT(\"1:\"&ROWS(interceptions)))),ROWS($1:$18))),\"\")","v":0},{"$f":"IF(ROWS($1:$19)<=COUNTIF(joueurs,$B89),INDEX(interceptions,SMALL(IF(joueurs=$B89,ROW(INDIRECT(\"1:\"&ROWS(interceptions)))),ROWS($1:$19))),\"\")","v":0},{"$f":"IF(ROWS($1:$20)<=COUNTIF(joueurs,$B89),INDEX(interceptions,SMALL(IF(joueurs=$B89,ROW(INDIRECT(\"1:\"&ROWS(interceptions)))),ROWS($1:$20))),\"\")","v":0},{"$f":"IF(ROWS($1:$11)<=COUNTIF(joueurs,$B89),INDEX(ballonrecuperes,SMALL(IF(joueurs=$B89,ROW(INDIRECT(\"1:\"&ROWS(ballonrecuperes)))),ROWS($1:$11))),\"\")","v":0},{"$f":"IF(ROWS($1:$12)<=COUNTIF(joueurs,$B89),INDEX(ballonrecuperes,SMALL(IF(joueurs=$B89,ROW(INDIRECT(\"1:\"&ROWS(ballonrecuperes)))),ROWS($1:$12))),\"\")","v":0},{"$f":"IF(ROWS($1:$13)<=COUNTIF(joueurs,$B89),INDEX(ballonrecuperes,SMALL(IF(joueurs=$B89,ROW(INDIRECT(\"1:\"&ROWS(ballonrecuperes)))),ROWS($1:$13))),\"\")","v":0},{"$f":"IF(ROWS($1:$14)<=COUNTIF(joueurs,$B89),INDEX(ballonrecuperes,SMALL(IF(joueurs=$B89,ROW(INDIRECT(\"1:\"&ROWS(ballonrecuperes)))),ROWS($1:$14))),\"\")","v":0},{"$f":"IF(ROWS($1:$15)<=COUNTIF(joueurs,$B89),INDEX(ballonrecuperes,SMALL(IF(joueurs=$B89,ROW(INDIRECT(\"1:\"&ROWS(ballonrecuperes)))),ROWS($1:$15))),\"\")","v":0},{"$f":"IF(ROWS($1:$16)<=COUNTIF(joueurs,$B89),INDEX(ballonrecuperes,SMALL(IF(joueurs=$B89,ROW(INDIRECT(\"1:\"&ROWS(ballonrecuperes)))),ROWS($1:$16))),\"\")","v":0},{"$f":"IF(ROWS($1:$17)<=COUNTIF(joueurs,$B89),INDEX(ballonrecuperes,SMALL(IF(joueurs=$B89,ROW(INDIRECT(\"1:\"&ROWS(ballonrecuperes)))),ROWS($1:$17))),\"\")","v":0},{"$f":"IF(ROWS($1:$18)<=COUNTIF(joueurs,$B89),INDEX(ballonrecuperes,SMALL(IF(joueurs=$B89,ROW(INDIRECT(\"1:\"&ROWS(ballonrecuperes)))),ROWS($1:$18))),\"\")","v":0},{"$f":"IF(ROWS($1:$19)<=COUNTIF(joueurs,$B89),INDEX(ballonrecuperes,SMALL(IF(joueurs=$B89,ROW(INDIRECT(\"1:\"&ROWS(ballonrecuperes)))),ROWS($1:$19))),\"\")","v":0},{"$f":"IF(ROWS($1:$20)<=COUNTIF(joueurs,$B89),INDEX(ballonrecuperes,SMALL(IF(joueurs=$B89,ROW(INDIRECT(\"1:\"&ROWS(ballonrecuperes)))),ROWS($1:$20))),\"\")","v":0},{"$f":"IF(ROWS($1:$11)<=COUNTIF(joueurs,$B89),INDEX(tirs,SMALL(IF(joueurs=$B89,ROW(INDIRECT(\"1:\"&ROWS(tirs)))),ROWS($1:$11))),\"\")","v":0},{"$f":"IF(ROWS($1:$12)<=COUNTIF(joueurs,$B89),INDEX(tirs,SMALL(IF(joueurs=$B89,ROW(INDIRECT(\"1:\"&ROWS(tirs)))),ROWS($1:$12))),\"\")","v":0},{"$f":"IF(ROWS($1:$13)<=COUNTIF(joueurs,$B89),INDEX(tirs,SMALL(IF(joueurs=$B89,ROW(INDIRECT(\"1:\"&ROWS(tirs)))),ROWS($1:$13))),\"\")","v":0},{"$f":"IF(ROWS($1:$14)<=COUNTIF(joueurs,$B89),INDEX(tirs,SMALL(IF(joueurs=$B89,ROW(INDIRECT(\"1:\"&ROWS(tirs)))),ROWS($1:$14))),\"\")","v":0},{"$f":"IF(ROWS($1:$15)<=COUNTIF(joueurs,$B89),INDEX(tirs,SMALL(IF(joueurs=$B89,ROW(INDIRECT(\"1:\"&ROWS(tirs)))),ROWS($1:$15))),\"\")","v":0},{"$f":"IF(ROWS($1:$16)<=COUNTIF(joueurs,$B89),INDEX(tirs,SMALL(IF(joueurs=$B89,ROW(INDIRECT(\"1:\"&ROWS(tirs)))),ROWS($1:$16))),\"\")","v":0},{"$f":"IF(ROWS($1:$17)<=COUNTIF(joueurs,$B89),INDEX(tirs,SMALL(IF(joueurs=$B89,ROW(INDIRECT(\"1:\"&ROWS(tirs)))),ROWS($1:$17))),\"\")","v":0},{"$f":"IF(ROWS($1:$18)<=COUNTIF(joueurs,$B89),INDEX(tirs,SMALL(IF(joueurs=$B89,ROW(INDIRECT(\"1:\"&ROWS(tirs)))),ROWS($1:$18))),\"\")","v":0},{"$f":"IF(ROWS($1:$19)<=COUNTIF(joueurs,$B89),INDEX(tirs,SMALL(IF(joueurs=$B89,ROW(INDIRECT(\"1:\"&ROWS(tirs)))),ROWS($1:$19))),\"\")","v":0},{"$f":"IF(ROWS($1:$20)<=COUNTIF(joueurs,$B89),INDEX(tirs,SMALL(IF(joueurs=$B89,ROW(INDIRECT(\"1:\"&ROWS(tirs)))),ROWS($1:$20))),\"\")","v":0},{"$f":"IF(ROWS($1:$11)<=COUNTIF(joueurs,$B89),INDEX(bontirs,SMALL(IF(joueurs=$B89,ROW(INDIRECT(\"1:\"&ROWS(bontirs)))),ROWS($1:$11))),\"\")","v":0},{"$f":"IF(ROWS($1:$12)<=COUNTIF(joueurs,$B89),INDEX(bontirs,SMALL(IF(joueurs=$B89,ROW(INDIRECT(\"1:\"&ROWS(bontirs)))),ROWS($1:$12))),\"\")","v":0},{"$f":"IF(ROWS($1:$13)<=COUNTIF(joueurs,$B89),INDEX(bontirs,SMALL(IF(joueurs=$B89,ROW(INDIRECT(\"1:\"&ROWS(bontirs)))),ROWS($1:$13))),\"\")","v":0},{"$f":"IF(ROWS($1:$14)<=COUNTIF(joueurs,$B89),INDEX(bontirs,SMALL(IF(joueurs=$B89,ROW(INDIRECT(\"1:\"&ROWS(bontirs)))),ROWS($1:$14))),\"\")","v":0},{"$f":"IF(ROWS($1:$15)<=COUNTIF(joueurs,$B89),INDEX(bontirs,SMALL(IF(joueurs=$B89,ROW(INDIRECT(\"1:\"&ROWS(bontirs)))),ROWS($1:$15))),\"\")","v":0},{"$f":"IF(ROWS($1:$16)<=COUNTIF(joueurs,$B89),INDEX(bontirs,SMALL(IF(joueurs=$B89,ROW(INDIRECT(\"1:\"&ROWS(bontirs)))),ROWS($1:$16))),\"\")","v":0},{"$f":"IF(ROWS($1:$17)<=COUNTIF(joueurs,$B89),INDEX(bontirs,SMALL(IF(joueurs=$B89,ROW(INDIRECT(\"1:\"&ROWS(bontirs)))),ROWS($1:$17))),\"\")","v":0},{"$f":"IF(ROWS($1:$18)<=COUNTIF(joueurs,$B89),INDEX(bontirs,SMALL(IF(joueurs=$B89,ROW(INDIRECT(\"1:\"&ROWS(bontirs)))),ROWS($1:$18))),\"\")","v":0},{"$f":"IF(ROWS($1:$19)<=COUNTIF(joueurs,$B89),INDEX(bontirs,SMALL(IF(joueurs=$B89,ROW(INDIRECT(\"1:\"&ROWS(bontirs)))),ROWS($1:$19))),\"\")","v":0},{"$f":"IF(ROWS($1:$20)<=COUNTIF(joueurs,$B89),INDEX(bontirs,SMALL(IF(joueurs=$B89,ROW(INDIRECT(\"1:\"&ROWS(bontirs)))),ROWS($1:$20))),\"\")","v":0},{"$f":"IF(ROWS($1:$11)<=COUNTIF(joueurs,$B89),INDEX(points,SMALL(IF(joueurs=$B89,ROW(INDIRECT(\"1:\"&ROWS(points)))),ROWS($1:$11))),\"\")","v":0},{"$f":"IF(ROWS($1:$12)<=COUNTIF(joueurs,$B89),INDEX(points,SMALL(IF(joueurs=$B89,ROW(INDIRECT(\"1:\"&ROWS(points)))),ROWS($1:$12))),\"\")","v":0},{"$f":"IF(ROWS($1:$13)<=COUNTIF(joueurs,$B89),INDEX(points,SMALL(IF(joueurs=$B89,ROW(INDIRECT(\"1:\"&ROWS(points)))),ROWS($1:$13))),\"\")","v":0},{"$f":"IF(ROWS($1:$14)<=COUNTIF(joueurs,$B89),INDEX(points,SMALL(IF(joueurs=$B89,ROW(INDIRECT(\"1:\"&ROWS(points)))),ROWS($1:$14))),\"\")","v":0},{"$f":"IF(ROWS($1:$15)<=COUNTIF(joueurs,$B89),INDEX(points,SMALL(IF(joueurs=$B89,ROW(INDIRECT(\"1:\"&ROWS(points)))),ROWS($1:$15))),\"\")","v":0},{"$f":"IF(ROWS($1:$16)<=COUNTIF(joueurs,$B89),INDEX(points,SMALL(IF(joueurs=$B89,ROW(INDIRECT(\"1:\"&ROWS(points)))),ROWS($1:$16))),\"\")","v":0},{"$f":"IF(ROWS($1:$17)<=COUNTIF(joueurs,$B89),INDEX(points,SMALL(IF(joueurs=$B89,ROW(INDIRECT(\"1:\"&ROWS(points)))),ROWS($1:$17))),\"\")","v":0},{"$f":"IF(ROWS($1:$18)<=COUNTIF(joueurs,$B89),INDEX(points,SMALL(IF(joueurs=$B89,ROW(INDIRECT(\"1:\"&ROWS(points)))),ROWS($1:$18))),\"\")","v":0},{"$f":"IF(ROWS($1:$19)<=COUNTIF(joueurs,$B89),INDEX(points,SMALL(IF(joueurs=$B89,ROW(INDIRECT(\"1:\"&ROWS(points)))),ROWS($1:$19))),\"\")","v":0},{"$f":"IF(ROWS($1:$20)<=COUNTIF(points,$B89),INDEX(fautes,SMALL(IF(joueurs=$B89,ROW(INDIRECT(\"1:\"&ROWS(points)))),ROWS($1:$20))),\"\")","v":0},{"$f":"IF(ROWS($1:$11)<=COUNTIF(joueurs,$B89),INDEX(victoires,SMALL(IF(joueurs=$B89,ROW(INDIRECT(\"1:\"&ROWS(victoires)))),ROWS($1:$11))),\"\")","v":0},{"$f":"IF(ROWS($1:$12)<=COUNTIF(joueurs,$B89),INDEX(victoires,SMALL(IF(joueurs=$B89,ROW(INDIRECT(\"1:\"&ROWS(victoires)))),ROWS($1:$12))),\"\")","v":0},{"$f":"IF(ROWS($1:$13)<=COUNTIF(joueurs,$B89),INDEX(victoires,SMALL(IF(joueurs=$B89,ROW(INDIRECT(\"1:\"&ROWS(victoires)))),ROWS($1:$13))),\"\")","v":0},{"$f":"IF(ROWS($1:$14)<=COUNTIF(joueurs,$B89),INDEX(victoires,SMALL(IF(joueurs=$B89,ROW(INDIRECT(\"1:\"&ROWS(victoires)))),ROWS($1:$14))),\"\")","v":0},{"$f":"IF(ROWS($1:$15)<=COUNTIF(joueurs,$B89),INDEX(victoires,SMALL(IF(joueurs=$B89,ROW(INDIRECT(\"1:\"&ROWS(victoires)))),ROWS($1:$15))),\"\")","v":0},{"$f":"IF(ROWS($1:$16)<=COUNTIF(joueurs,$B89),INDEX(victoires,SMALL(IF(joueurs=$B89,ROW(INDIRECT(\"1:\"&ROWS(victoires)))),ROWS($1:$16))),\"\")","v":0},{"$f":"IF(ROWS($1:$17)<=COUNTIF(joueurs,$B89),INDEX(victoires,SMALL(IF(joueurs=$B89,ROW(INDIRECT(\"1:\"&ROWS(victoires)))),ROWS($1:$17))),\"\")","v":0},{"$f":"IF(ROWS($1:$18)<=COUNTIF(joueurs,$B89),INDEX(victoires,SMALL(IF(joueurs=$B89,ROW(INDIRECT(\"1:\"&ROWS(victoires)))),ROWS($1:$18))),\"\")","v":0},{"$f":"IF(ROWS($1:$19)<=COUNTIF(joueurs,$B89),INDEX(victoires,SMALL(IF(joueurs=$B89,ROW(INDIRECT(\"1:\"&ROWS(victoires)))),ROWS($1:$19))),\"\")","v":0},{"$f":"IF(ROWS($1:$20)<=COUNTIF(joueurs,$B89),INDEX(victoires,SMALL(IF(joueurs=$B89,ROW(INDIRECT(\"1:\"&ROWS(victoires)))),ROWS($1:$20))),\"\")","v":0}]
[null,null,null,{"$f":"IF(ROWS($1:$21)<=COUNTIF(joueurs,$B89),INDEX(fautes,SMALL(IF(joueurs=$B89,ROW(INDIRECT(\"1:\"&ROWS(fautes)))),ROWS($1:$21))),\"\")","v":0},{"$f":"IF(ROWS($1:$22)<=COUNTIF(joueurs,$B89),INDEX(fautes,SMALL(IF(joueurs=$B89,ROW(INDIRECT(\"1:\"&ROWS(fautes)))),ROWS($1:$22))),\"\")","v":0},{"$f":"IF(ROWS($1:$23)<=COUNTIF(joueurs,$B89),INDEX(fautes,SMALL(IF(joueurs=$B89,ROW(INDIRECT(\"1:\"&ROWS(fautes)))),ROWS($1:$23))),\"\")","v":0},{"$f":"IF(ROWS($1:$24)<=COUNTIF(joueurs,$B89),INDEX(fautes,SMALL(IF(joueurs=$B89,ROW(INDIRECT(\"1:\"&ROWS(fautes)))),ROWS($1:$24))),\"\")","v":0},{"$f":"IF(ROWS($1:$25)<=COUNTIF(joueurs,$B89),INDEX(fautes,SMALL(IF(joueurs=$B89,ROW(INDIRECT(\"1:\"&ROWS(fautes)))),ROWS($1:$25))),\"\")","v":0},{"$f":"IF(ROWS($1:$26)<=COUNTIF(joueurs,$B89),INDEX(fautes,SMALL(IF(joueurs=$B89,ROW(INDIRECT(\"1:\"&ROWS(fautes)))),ROWS($1:$26))),\"\")","v":0},{"$f":"IF(ROWS($1:$27)<=COUNTIF(joueurs,$B89),INDEX(fautes,SMALL(IF(joueurs=$B89,ROW(INDIRECT(\"1:\"&ROWS(fautes)))),ROWS($1:$27))),\"\")","v":0},{"$f":"IF(ROWS($1:$28)<=COUNTIF(joueurs,$B89),INDEX(fautes,SMALL(IF(joueurs=$B89,ROW(INDIRECT(\"1:\"&ROWS(fautes)))),ROWS($1:$28))),\"\")","v":0},{"$f":"IF(ROWS($1:$29)<=COUNTIF(joueurs,$B89),INDEX(fautes,SMALL(IF(joueurs=$B89,ROW(INDIRECT(\"1:\"&ROWS(fautes)))),ROWS($1:$29))),\"\")","v":0},{"$f":"IF(ROWS($1:$30)<=COUNTIF(joueurs,$B89),INDEX(fautes,SMALL(IF(joueurs=$B89,ROW(INDIRECT(\"1:\"&ROWS(fautes)))),ROWS($1:$30))),\"\")","v":0},{"$f":"IF(ROWS($1:$21)<=COUNTIF(joueurs,$B89),INDEX(ballonperdus,SMALL(IF(joueurs=$B89,ROW(INDIRECT(\"1:\"&ROWS(ballonperdus)))),ROWS($1:$21))),\"\")","v":0},{"$f":"IF(ROWS($1:$22)<=COUNTIF(joueurs,$B89),INDEX(ballonperdus,SMALL(IF(joueurs=$B89,ROW(INDIRECT(\"1:\"&ROWS(ballonperdus)))),ROWS($1:$22))),\"\")","v":0},{"$f":"IF(ROWS($1:$23)<=COUNTIF(joueurs,$B89),INDEX(ballonperdus,SMALL(IF(joueurs=$B89,ROW(INDIRECT(\"1:\"&ROWS(ballonperdus)))),ROWS($1:$23))),\"\")","v":0},{"$f":"IF(ROWS($1:$24)<=COUNTIF(joueurs,$B89),INDEX(ballonperdus,SMALL(IF(joueurs=$B89,ROW(INDIRECT(\"1:\"&ROWS(ballonperdus)))),ROWS($1:$24))),\"\")","v":0},{"$f":"IF(ROWS($1:$25)<=COUNTIF(joueurs,$B89),INDEX(ballonperdus,SMALL(IF(joueurs=$B89,ROW(INDIRECT(\"1:\"&ROWS(ballonperdus)))),ROWS($1:$25))),\"\")","v":0},{"$f":"IF(ROWS($1:$26)<=COUNTIF(joueurs,$B89),INDEX(ballonperdus,SMALL(IF(joueurs=$B89,ROW(INDIRECT(\"1:\"&ROWS(ballonperdus)))),ROWS($1:$26))),\"\")","v":0},{"$f":"IF(ROWS($1:$27)<=COUNTIF(joueurs,$B89),INDEX(ballonperdus,SMALL(IF(joueurs=$B89,ROW(INDIRECT(\"1:\"&ROWS(ballonperdus)))),ROWS($1:$27))),\"\")","v":0},{"$f":"IF(ROWS($1:$28)<=COUNTIF(joueurs,$B89),INDEX(ballonperdus,SMALL(IF(joueurs=$B89,ROW(INDIRECT(\"1:\"&ROWS(ballonperdus)))),ROWS($1:$28))),\"\")","v":0},{"$f":"IF(ROWS($1:$29)<=COUNTIF(joueurs,$B89),INDEX(ballonperdus,SMALL(IF(joueurs=$B89,ROW(INDIRECT(\"1:\"&ROWS(ballonperdus)))),ROWS($1:$29))),\"\")","v":0},{"$f":"IF(ROWS($1:$30)<=COUNTIF(joueurs,$B89),INDEX(ballonperdus,SMALL(IF(joueurs=$B89,ROW(INDIRECT(\"1:\"&ROWS(ballonperdus)))),ROWS($1:$30))),\"\")","v":0},{"$f":"IF(ROWS($1:$21)<=COUNTIF(joueurs,$B89),INDEX(interceptions,SMALL(IF(joueurs=$B89,ROW(INDIRECT(\"1:\"&ROWS(interceptions)))),ROWS($1:$21))),\"\")","v":0},{"$f":"IF(ROWS($1:$22)<=COUNTIF(joueurs,$B89),INDEX(interceptions,SMALL(IF(joueurs=$B89,ROW(INDIRECT(\"1:\"&ROWS(interceptions)))),ROWS($1:$22))),\"\")","v":0},{"$f":"IF(ROWS($1:$23)<=COUNTIF(joueurs,$B89),INDEX(interceptions,SMALL(IF(joueurs=$B89,ROW(INDIRECT(\"1:\"&ROWS(interceptions)))),ROWS($1:$23))),\"\")","v":0},{"$f":"IF(ROWS($1:$24)<=COUNTIF(joueurs,$B89),INDEX(interceptions,SMALL(IF(joueurs=$B89,ROW(INDIRECT(\"1:\"&ROWS(interceptions)))),ROWS($1:$24))),\"\")","v":0},{"$f":"IF(ROWS($1:$25)<=COUNTIF(joueurs,$B89),INDEX(interceptions,SMALL(IF(joueurs=$B89,ROW(INDIRECT(\"1:\"&ROWS(interceptions)))),ROWS($1:$25))),\"\")","v":0},{"$f":"IF(ROWS($1:$26)<=COUNTIF(joueurs,$B89),INDEX(interceptions,SMALL(IF(joueurs=$B89,ROW(INDIRECT(\"1:\"&ROWS(interceptions)))),ROWS($1:$26))),\"\")","v":0},{"$f":"IF(ROWS($1:$27)<=COUNTIF(joueurs,$B89),INDEX(interceptions,SMALL(IF(joueurs=$B89,ROW(INDIRECT(\"1:\"&ROWS(interceptions)))),ROWS($1:$27))),\"\")","v":0},{"$f":"IF(ROWS($1:$28)<=COUNTIF(joueurs,$B89),INDEX(interceptions,SMALL(IF(joueurs=$B89,ROW(INDIRECT(\"1:\"&ROWS(interceptions)))),ROWS($1:$28))),\"\")","v":0},{"$f":"IF(ROWS($1:$29)<=COUNTIF(joueurs,$B89),INDEX(interceptions,SMALL(IF(joueurs=$B89,ROW(INDIRECT(\"1:\"&ROWS(interceptions)))),ROWS($1:$29))),\"\")","v":0},{"$f":"IF(ROWS($1:$30)<=COUNTIF(joueurs,$B89),INDEX(interceptions,SMALL(IF(joueurs=$B89,ROW(INDIRECT(\"1:\"&ROWS(interceptions)))),ROWS($1:$30))),\"\")","v":0},{"$f":"IF(ROWS($1:$21)<=COUNTIF(joueurs,$B89),INDEX(ballonrecuperes,SMALL(IF(joueurs=$B89,ROW(INDIRECT(\"1:\"&ROWS(ballonrecuperes)))),ROWS($1:$21))),\"\")","v":0},{"$f":"IF(ROWS($1:$22)<=COUNTIF(joueurs,$B89),INDEX(ballonrecuperes,SMALL(IF(joueurs=$B89,ROW(INDIRECT(\"1:\"&ROWS(ballonrecuperes)))),ROWS($1:$22))),\"\")","v":0},{"$f":"IF(ROWS($1:$23)<=COUNTIF(joueurs,$B89),INDEX(ballonrecuperes,SMALL(IF(joueurs=$B89,ROW(INDIRECT(\"1:\"&ROWS(ballonrecuperes)))),ROWS($1:$23))),\"\")","v":0},{"$f":"IF(ROWS($1:$24)<=COUNTIF(joueurs,$B89),INDEX(ballonrecuperes,SMALL(IF(joueurs=$B89,ROW(INDIRECT(\"1:\"&ROWS(ballonrecuperes)))),ROWS($1:$24))),\"\")","v":0},{"$f":"IF(ROWS($1:$25)<=COUNTIF(joueurs,$B89),INDEX(ballonrecuperes,SMALL(IF(joueurs=$B89,ROW(INDIRECT(\"1:\"&ROWS(ballonrecuperes)))),ROWS($1:$25))),\"\")","v":0},{"$f":"IF(ROWS($1:$26)<=COUNTIF(joueurs,$B89),INDEX(ballonrecuperes,SMALL(IF(joueurs=$B89,ROW(INDIRECT(\"1:\"&ROWS(ballonrecuperes)))),ROWS($1:$26))),\"\")","v":0},{"$f":"IF(ROWS($1:$27)<=COUNTIF(joueurs,$B89),INDEX(ballonrecuperes,SMALL(IF(joueurs=$B89,ROW(INDIRECT(\"1:\"&ROWS(ballonrecuperes)))),ROWS($1:$27))),\"\")","v":0},{"$f":"IF(ROWS($1:$28)<=COUNTIF(joueurs,$B89),INDEX(ballonrecuperes,SMALL(IF(joueurs=$B89,ROW(INDIRECT(\"1:\"&ROWS(ballonrecuperes)))),ROWS($1:$28))),\"\")","v":0},{"$f":"IF(ROWS($1:$29)<=COUNTIF(joueurs,$B89),INDEX(ballonrecuperes,SMALL(IF(joueurs=$B89,ROW(INDIRECT(\"1:\"&ROWS(ballonrecuperes)))),ROWS($1:$29))),\"\")","v":0},{"$f":"IF(ROWS($1:$30)<=COUNTIF(joueurs,$B89),INDEX(ballonrecuperes,SMALL(IF(joueurs=$B89,ROW(INDIRECT(\"1:\"&ROWS(ballonrecuperes)))),ROWS($1:$30))),\"\")","v":0},{"$f":"IF(ROWS($1:$21)<=COUNTIF(joueurs,$B89),INDEX(tirs,SMALL(IF(joueurs=$B89,ROW(INDIRECT(\"1:\"&ROWS(tirs)))),ROWS($1:$21))),\"\")","v":0},{"$f":"IF(ROWS($1:$22)<=COUNTIF(joueurs,$B89),INDEX(tirs,SMALL(IF(joueurs=$B89,ROW(INDIRECT(\"1:\"&ROWS(tirs)))),ROWS($1:$22))),\"\")","v":0},{"$f":"IF(ROWS($1:$23)<=COUNTIF(joueurs,$B89),INDEX(tirs,SMALL(IF(joueurs=$B89,ROW(INDIRECT(\"1:\"&ROWS(tirs)))),ROWS($1:$23))),\"\")","v":0},{"$f":"IF(ROWS($1:$24)<=COUNTIF(joueurs,$B89),INDEX(tirs,SMALL(IF(joueurs=$B89,ROW(INDIRECT(\"1:\"&ROWS(tirs)))),ROWS($1:$24))),\"\")","v":0},{"$f":"IF(ROWS($1:$25)<=COUNTIF(joueurs,$B89),INDEX(tirs,SMALL(IF(joueurs=$B89,ROW(INDIRECT(\"1:\"&ROWS(tirs)))),ROWS($1:$25))),\"\")","v":0},{"$f":"IF(ROWS($1:$26)<=COUNTIF(joueurs,$B89),INDEX(tirs,SMALL(IF(joueurs=$B89,ROW(INDIRECT(\"1:\"&ROWS(tirs)))),ROWS($1:$26))),\"\")","v":0},{"$f":"IF(ROWS($1:$27)<=COUNTIF(joueurs,$B89),INDEX(tirs,SMALL(IF(joueurs=$B89,ROW(INDIRECT(\"1:\"&ROWS(tirs)))),ROWS($1:$27))),\"\")","v":0},{"$f":"IF(ROWS($1:$28)<=COUNTIF(joueurs,$B89),INDEX(tirs,SMALL(IF(joueurs=$B89,ROW(INDIRECT(\"1:\"&ROWS(tirs)))),ROWS($1:$28))),\"\")","v":0},{"$f":"IF(ROWS($1:$29)<=COUNTIF(joueurs,$B89),INDEX(tirs,SMALL(IF(joueurs=$B89,ROW(INDIRECT(\"1:\"&ROWS(tirs)))),ROWS($1:$29))),\"\")","v":0},{"$f":"IF(ROWS($1:$30)<=COUNTIF(joueurs,$B89),INDEX(tirs,SMALL(IF(joueurs=$B89,ROW(INDIRECT(\"1:\"&ROWS(tirs)))),ROWS($1:$30))),\"\")","v":0},{"$f":"IF(ROWS($1:$21)<=COUNTIF(joueurs,$B89),INDEX(bontirs,SMALL(IF(joueurs=$B89,ROW(INDIRECT(\"1:\"&ROWS(bontirs)))),ROWS($1:$21))),\"\")","v":0},{"$f":"IF(ROWS($1:$22)<=COUNTIF(joueurs,$B89),INDEX(bontirs,SMALL(IF(joueurs=$B89,ROW(INDIRECT(\"1:\"&ROWS(bontirs)))),ROWS($1:$22))),\"\")","v":0},{"$f":"IF(ROWS($1:$23)<=COUNTIF(joueurs,$B89),INDEX(bontirs,SMALL(IF(joueurs=$B89,ROW(INDIRECT(\"1:\"&ROWS(bontirs)))),ROWS($1:$23))),\"\")","v":0},{"$f":"IF(ROWS($1:$24)<=COUNTIF(joueurs,$B89),INDEX(bontirs,SMALL(IF(joueurs=$B89,ROW(INDIRECT(\"1:\"&ROWS(bontirs)))),ROWS($1:$24))),\"\")","v":0},{"$f":"IF(ROWS($1:$25)<=COUNTIF(joueurs,$B89),INDEX(bontirs,SMALL(IF(joueurs=$B89,ROW(INDIRECT(\"1:\"&ROWS(bontirs)))),ROWS($1:$25))),\"\")","v":0},{"$f":"IF(ROWS($1:$26)<=COUNTIF(joueurs,$B89),INDEX(bontirs,SMALL(IF(joueurs=$B89,ROW(INDIRECT(\"1:\"&ROWS(bontirs)))),ROWS($1:$26))),\"\")","v":0},{"$f":"IF(ROWS($1:$27)<=COUNTIF(joueurs,$B89),INDEX(bontirs,SMALL(IF(joueurs=$B89,ROW(INDIRECT(\"1:\"&ROWS(bontirs)))),ROWS($1:$27))),\"\")","v":0},{"$f":"IF(ROWS($1:$28)<=COUNTIF(joueurs,$B89),INDEX(bontirs,SMALL(IF(joueurs=$B89,ROW(INDIRECT(\"1:\"&ROWS(bontirs)))),ROWS($1:$28))),\"\")","v":0},{"$f":"IF(ROWS($1:$29)<=COUNTIF(joueurs,$B89),INDEX(bontirs,SMALL(IF(joueurs=$B89,ROW(INDIRECT(\"1:\"&ROWS(bontirs)))),ROWS($1:$29))),\"\")","v":0},{"$f":"IF(ROWS($1:$30)<=COUNTIF(joueurs,$B89),INDEX(bontirs,SMALL(IF(joueurs=$B89,ROW(INDIRECT(\"1:\"&ROWS(bontirs)))),ROWS($1:$30))),\"\")","v":0},{"$f":"IF(ROWS($1:$21)<=COUNTIF(joueurs,$B89),INDEX(points,SMALL(IF(joueurs=$B89,ROW(INDIRECT(\"1:\"&ROWS(points)))),ROWS($1:$21))),\"\")","v":0},{"$f":"IF(ROWS($1:$22)<=COUNTIF(joueurs,$B89),INDEX(points,SMALL(IF(joueurs=$B89,ROW(INDIRECT(\"1:\"&ROWS(points)))),ROWS($1:$22))),\"\")","v":0},{"$f":"IF(ROWS($1:$23)<=COUNTIF(joueurs,$B89),INDEX(points,SMALL(IF(joueurs=$B89,ROW(INDIRECT(\"1:\"&ROWS(points)))),ROWS($1:$23))),\"\")","v":0},{"$f":"IF(ROWS($1:$24)<=COUNTIF(joueurs,$B89),INDEX(points,SMALL(IF(joueurs=$B89,ROW(INDIRECT(\"1:\"&ROWS(points)))),ROWS($1:$24))),\"\")","v":0},{"$f":"IF(ROWS($1:$25)<=COUNTIF(joueurs,$B89),INDEX(points,SMALL(IF(joueurs=$B89,ROW(INDIRECT(\"1:\"&ROWS(points)))),ROWS($1:$25))),\"\")","v":0},{"$f":"IF(ROWS($1:$26)<=COUNTIF(joueurs,$B89),INDEX(points,SMALL(IF(joueurs=$B89,ROW(INDIRECT(\"1:\"&ROWS(points)))),ROWS($1:$26))),\"\")","v":0},{"$f":"IF(ROWS($1:$27)<=COUNTIF(joueurs,$B89),INDEX(points,SMALL(IF(joueurs=$B89,ROW(INDIRECT(\"1:\"&ROWS(points)))),ROWS($1:$27))),\"\")","v":0},{"$f":"IF(ROWS($1:$28)<=COUNTIF(joueurs,$B89),INDEX(points,SMALL(IF(joueurs=$B89,ROW(INDIRECT(\"1:\"&ROWS(points)))),ROWS($1:$28))),\"\")","v":0},{"$f":"IF(ROWS($1:$29)<=COUNTIF(joueurs,$B89),INDEX(points,SMALL(IF(joueurs=$B89,ROW(INDIRECT(\"1:\"&ROWS(points)))),ROWS($1:$29))),\"\")","v":0},{"$f":"IF(ROWS($1:$30)<=COUNTIF(joueurs,$B89),INDEX(points,SMALL(IF(joueurs=$B89,ROW(INDIRECT(\"1:\"&ROWS(points)))),ROWS($1:$30))),\"\")","v":0},{"$f":"IF(ROWS($1:$21)<=COUNTIF(joueurs,$B89),INDEX(victoires,SMALL(IF(joueurs=$B89,ROW(INDIRECT(\"1:\"&ROWS(victoires)))),ROWS($1:$21))),\"\")","v":0},{"$f":"IF(ROWS($1:$22)<=COUNTIF(joueurs,$B89),INDEX(victoires,SMALL(IF(joueurs=$B89,ROW(INDIRECT(\"1:\"&ROWS(victoires)))),ROWS($1:$22))),\"\")","v":0},{"$f":"IF(ROWS($1:$23)<=COUNTIF(joueurs,$B89),INDEX(victoires,SMALL(IF(joueurs=$B89,ROW(INDIRECT(\"1:\"&ROWS(victoires)))),ROWS($1:$23))),\"\")","v":0},{"$f":"IF(ROWS($1:$24)<=COUNTIF(joueurs,$B89),INDEX(victoires,SMALL(IF(joueurs=$B89,ROW(INDIRECT(\"1:\"&ROWS(victoires)))),ROWS($1:$24))),\"\")","v":0},{"$f":"IF(ROWS($1:$25)<=COUNTIF(joueurs,$B89),INDEX(victoires,SMALL(IF(joueurs=$B89,ROW(INDIRECT(\"1:\"&ROWS(victoires)))),ROWS($1:$25))),\"\")","v":0},{"$f":"IF(ROWS($1:$26)<=COUNTIF(joueurs,$B89),INDEX(victoires,SMALL(IF(joueurs=$B89,ROW(INDIRECT(\"1:\"&ROWS(victoires)))),ROWS($1:$26))),\"\")","v":0},{"$f":"IF(ROWS($1:$27)<=COUNTIF(joueurs,$B89),INDEX(victoires,SMALL(IF(joueurs=$B89,ROW(INDIRECT(\"1:\"&ROWS(victoires)))),ROWS($1:$27))),\"\")","v":0},{"$f":"IF(ROWS($1:$28)<=COUNTIF(joueurs,$B89),INDEX(victoires,SMALL(IF(joueurs=$B89,ROW(INDIRECT(\"1:\"&ROWS(victoires)))),ROWS($1:$28))),\"\")","v":0},{"$f":"IF(ROWS($1:$29)<=COUNTIF(joueurs,$B89),INDEX(victoires,SMALL(IF(joueurs=$B89,ROW(INDIRECT(\"1:\"&ROWS(victoires)))),ROWS($1:$29))),\"\")","v":0},{"$f":"IF(ROWS($1:$30)<=COUNTIF(joueurs,$B89),INDEX(victoires,SMALL(IF(joueurs=$B89,ROW(INDIRECT(\"1:\"&ROWS(victoires)))),ROWS($1:$30))),\"\")","v":0}]
[null,null,null,{"$f":"IF(ROWS($1:$31)<=COUNTIF(joueurs,$B89),INDEX(fautes,SMALL(IF(joueurs=$B89,ROW(INDIRECT(\"1:\"&ROWS(fautes)))),ROWS($1:$31))),\"\")","v":0},{"$f":"IF(ROWS($1:$32)<=COUNTIF(joueurs,$B89),INDEX(fautes,SMALL(IF(joueurs=$B89,ROW(INDIRECT(\"1:\"&ROWS(fautes)))),ROWS($1:$32))),\"\")","v":0},{"$f":"IF(ROWS($1:$33)<=COUNTIF(joueurs,$B89),INDEX(fautes,SMALL(IF(joueurs=$B89,ROW(INDIRECT(\"1:\"&ROWS(fautes)))),ROWS($1:$33))),\"\")","v":0},{"$f":"IF(ROWS($1:$34)<=COUNTIF(joueurs,$B89),INDEX(fautes,SMALL(IF(joueurs=$B89,ROW(INDIRECT(\"1:\"&ROWS(fautes)))),ROWS($1:$34))),\"\")","v":0},{"$f":"IF(ROWS($1:$35)<=COUNTIF(joueurs,$B89),INDEX(fautes,SMALL(IF(joueurs=$B89,ROW(INDIRECT(\"1:\"&ROWS(fautes)))),ROWS($1:$35))),\"\")","v":0},{"$f":"IF(ROWS($1:$36)<=COUNTIF(joueurs,$B89),INDEX(fautes,SMALL(IF(joueurs=$B89,ROW(INDIRECT(\"1:\"&ROWS(fautes)))),ROWS($1:$36))),\"\")","v":0},{"$f":"IF(ROWS($1:$37)<=COUNTIF(joueurs,$B89),INDEX(fautes,SMALL(IF(joueurs=$B89,ROW(INDIRECT(\"1:\"&ROWS(fautes)))),ROWS($1:$37))),\"\")","v":0},{"$f":"IF(ROWS($1:$38)<=COUNTIF(joueurs,$B89),INDEX(fautes,SMALL(IF(joueurs=$B89,ROW(INDIRECT(\"1:\"&ROWS(fautes)))),ROWS($1:$38))),\"\")","v":0},{"$f":"IF(ROWS($1:$39)<=COUNTIF(joueurs,$B89),INDEX(fautes,SMALL(IF(joueurs=$B89,ROW(INDIRECT(\"1:\"&ROWS(fautes)))),ROWS($1:$39))),\"\")","v":0},{"$f":"IF(ROWS($1:$40)<=COUNTIF(joueurs,$B89),INDEX(fautes,SMALL(IF(joueurs=$B89,ROW(INDIRECT(\"1:\"&ROWS(fautes)))),ROWS($1:$40))),\"\")","v":0},{"$f":"IF(ROWS($1:$31)<=COUNTIF(joueurs,$B89),INDEX(ballonperdus,SMALL(IF(joueurs=$B89,ROW(INDIRECT(\"1:\"&ROWS(ballonperdus)))),ROWS($1:$31))),\"\")","v":0},{"$f":"IF(ROWS($1:$32)<=COUNTIF(joueurs,$B89),INDEX(ballonperdus,SMALL(IF(joueurs=$B89,ROW(INDIRECT(\"1:\"&ROWS(ballonperdus)))),ROWS($1:$32))),\"\")","v":0},{"$f":"IF(ROWS($1:$33)<=COUNTIF(joueurs,$B89),INDEX(ballonperdus,SMALL(IF(joueurs=$B89,ROW(INDIRECT(\"1:\"&ROWS(ballonperdus)))),ROWS($1:$33))),\"\")","v":0},{"$f":"IF(ROWS($1:$34)<=COUNTIF(joueurs,$B89),INDEX(ballonperdus,SMALL(IF(joueurs=$B89,ROW(INDIRECT(\"1:\"&ROWS(ballonperdus)))),ROWS($1:$34))),\"\")","v":0},{"$f":"IF(ROWS($1:$35)<=COUNTIF(joueurs,$B89),INDEX(ballonperdus,SMALL(IF(joueurs=$B89,ROW(INDIRECT(\"1:\"&ROWS(ballonperdus)))),ROWS($1:$35))),\"\")","v":0},{"$f":"IF(ROWS($1:$36)<=COUNTIF(joueurs,$B89),INDEX(ballonperdus,SMALL(IF(joueurs=$B89,ROW(INDIRECT(\"1:\"&ROWS(ballonperdus)))),ROWS($1:$36))),\"\")","v":0},{"$f":"IF(ROWS($1:$37)<=COUNTIF(joueurs,$B89),INDEX(ballonperdus,SMALL(IF(joueurs=$B89,ROW(INDIRECT(\"1:\"&ROWS(ballonperdus)))),ROWS($1:$37))),\"\")","v":0},{"$f":"IF(ROWS($1:$38)<=COUNTIF(joueurs,$B89),INDEX(ballonperdus,SMALL(IF(joueurs=$B89,ROW(INDIRECT(\"1:\"&ROWS(ballonperdus)))),ROWS($1:$38))),\"\")","v":0},{"$f":"IF(ROWS($1:$39)<=COUNTIF(joueurs,$B89),INDEX(ballonperdus,SMALL(IF(joueurs=$B89,ROW(INDIRECT(\"1:\"&ROWS(ballonperdus)))),ROWS($1:$39))),\"\")","v":0},{"$f":"IF(ROWS($1:$40)<=COUNTIF(joueurs,$B89),INDEX(ballonperdus,SMALL(IF(joueurs=$B89,ROW(INDIRECT(\"1:\"&ROWS(ballonperdus)))),ROWS($1:$40))),\"\")","v":0},{"$f":"IF(ROWS($1:$31)<=COUNTIF(joueurs,$B89),INDEX(interceptions,SMALL(IF(joueurs=$B89,ROW(INDIRECT(\"1:\"&ROWS(interceptions)))),ROWS($1:$31))),\"\")","v":0},{"$f":"IF(ROWS($1:$32)<=COUNTIF(joueurs,$B89),INDEX(interceptions,SMALL(IF(joueurs=$B89,ROW(INDIRECT(\"1:\"&ROWS(interceptions)))),ROWS($1:$32))),\"\")","v":0},{"$f":"IF(ROWS($1:$33)<=COUNTIF(joueurs,$B89),INDEX(interceptions,SMALL(IF(joueurs=$B89,ROW(INDIRECT(\"1:\"&ROWS(interceptions)))),ROWS($1:$33))),\"\")","v":0},{"$f":"IF(ROWS($1:$34)<=COUNTIF(joueurs,$B89),INDEX(interceptions,SMALL(IF(joueurs=$B89,ROW(INDIRECT(\"1:\"&ROWS(interceptions)))),ROWS($1:$34))),\"\")","v":0},{"$f":"IF(ROWS($1:$35)<=COUNTIF(joueurs,$B89),INDEX(interceptions,SMALL(IF(joueurs=$B89,ROW(INDIRECT(\"1:\"&ROWS(interceptions)))),ROWS($1:$35))),\"\")","v":0},{"$f":"IF(ROWS($1:$36)<=COUNTIF(joueurs,$B89),INDEX(interceptions,SMALL(IF(joueurs=$B89,ROW(INDIRECT(\"1:\"&ROWS(interceptions)))),ROWS($1:$36))),\"\")","v":0},{"$f":"IF(ROWS($1:$37)<=COUNTIF(joueurs,$B89),INDEX(interceptions,SMALL(IF(joueurs=$B89,ROW(INDIRECT(\"1:\"&ROWS(interceptions)))),ROWS($1:$37))),\"\")","v":0},{"$f":"IF(ROWS($1:$38)<=COUNTIF(joueurs,$B89),INDEX(interceptions,SMALL(IF(joueurs=$B89,ROW(INDIRECT(\"1:\"&ROWS(interceptions)))),ROWS($1:$38))),\"\")","v":0},{"$f":"IF(ROWS($1:$39)<=COUNTIF(joueurs,$B89),INDEX(interceptions,SMALL(IF(joueurs=$B89,ROW(INDIRECT(\"1:\"&ROWS(interceptions)))),ROWS($1:$39))),\"\")","v":0},{"$f":"IF(ROWS($1:$40)<=COUNTIF(joueurs,$B89),INDEX(interceptions,SMALL(IF(joueurs=$B89,ROW(INDIRECT(\"1:\"&ROWS(interceptions)))),ROWS($1:$40))),\"\")","v":0},{"$f":"IF(ROWS($1:$31)<=COUNTIF(joueurs,$B89),INDEX(ballonrecuperes,SMALL(IF(joueurs=$B89,ROW(INDIRECT(\"1:\"&ROWS(ballonrecuperes)))),ROWS($1:$31))),\"\")","v":0},{"$f":"IF(ROWS($1:$32)<=COUNTIF(joueurs,$B89),INDEX(ballonrecuperes,SMALL(IF(joueurs=$B89,ROW(INDIRECT(\"1:\"&ROWS(ballonrecuperes)))),ROWS($1:$32))),\"\")","v":0},{"$f":"IF(ROWS($1:$33)<=COUNTIF(joueurs,$B89),INDEX(ballonrecuperes,SMALL(IF(joueurs=$B89,ROW(INDIRECT(\"1:\"&ROWS(ballonrecuperes)))),ROWS($1:$33))),\"\")","v":0},{"$f":"IF(ROWS($1:$34)<=COUNTIF(joueurs,$B89),INDEX(ballonrecuperes,SMALL(IF(joueurs=$B89,ROW(INDIRECT(\"1:\"&ROWS(ballonrecuperes)))),ROWS($1:$34))),\"\")","v":0},{"$f":"IF(ROWS($1:$35)<=COUNTIF(joueurs,$B89),INDEX(ballonrecuperes,SMALL(IF(joueurs=$B89,ROW(INDIRECT(\"1:\"&ROWS(ballonrecuperes)))),ROWS($1:$35))),\"\")","v":0},{"$f":"IF(ROWS($1:$36)<=COUNTIF(joueurs,$B89),INDEX(ballonrecuperes,SMALL(IF(joueurs=$B89,ROW(INDIRECT(\"1:\"&ROWS(ballonrecuperes)))),ROWS($1:$36))),\"\")","v":0},{"$f":"IF(ROWS($1:$37)<=COUNTIF(joueurs,$B89),INDEX(ballonrecuperes,SMALL(IF(joueurs=$B89,ROW(INDIRECT(\"1:\"&ROWS(ballonrecuperes)))),ROWS($1:$37))),\"\")","v":0},{"$f":"IF(ROWS($1:$38)<=COUNTIF(joueurs,$B89),INDEX(ballonrecuperes,SMALL(IF(joueurs=$B89,ROW(INDIRECT(\"1:\"&ROWS(ballonrecuperes)))),ROWS($1:$38))),\"\")","v":0},{"$f":"IF(ROWS($1:$39)<=COUNTIF(joueurs,$B89),INDEX(ballonrecuperes,SMALL(IF(joueurs=$B89,ROW(INDIRECT(\"1:\"&ROWS(ballonrecuperes)))),ROWS($1:$39))),\"\")","v":0},{"$f":"IF(ROWS($1:$40)<=COUNTIF(joueurs,$B89),INDEX(ballonrecuperes,SMALL(IF(joueurs=$B89,ROW(INDIRECT(\"1:\"&ROWS(ballonrecuperes)))),ROWS($1:$40))),\"\")","v":0},{"$f":"IF(ROWS($1:$31)<=COUNTIF(joueurs,$B89),INDEX(tirs,SMALL(IF(joueurs=$B89,ROW(INDIRECT(\"1:\"&ROWS(tirs)))),ROWS($1:$31))),\"\")","v":0},{"$f":"IF(ROWS($1:$32)<=COUNTIF(joueurs,$B89),INDEX(tirs,SMALL(IF(joueurs=$B89,ROW(INDIRECT(\"1:\"&ROWS(tirs)))),ROWS($1:$32))),\"\")","v":0},{"$f":"IF(ROWS($1:$33)<=COUNTIF(joueurs,$B89),INDEX(tirs,SMALL(IF(joueurs=$B89,ROW(INDIRECT(\"1:\"&ROWS(tirs)))),ROWS($1:$33))),\"\")","v":0},{"$f":"IF(ROWS($1:$34)<=COUNTIF(joueurs,$B89),INDEX(tirs,SMALL(IF(joueurs=$B89,ROW(INDIRECT(\"1:\"&ROWS(tirs)))),ROWS($1:$34))),\"\")","v":0},{"$f":"IF(ROWS($1:$35)<=COUNTIF(joueurs,$B89),INDEX(tirs,SMALL(IF(joueurs=$B89,ROW(INDIRECT(\"1:\"&ROWS(tirs)))),ROWS($1:$35))),\"\")","v":0},{"$f":"IF(ROWS($1:$36)<=COUNTIF(joueurs,$B89),INDEX(tirs,SMALL(IF(joueurs=$B89,ROW(INDIRECT(\"1:\"&ROWS(tirs)))),ROWS($1:$36))),\"\")","v":0},{"$f":"IF(ROWS($1:$37)<=COUNTIF(joueurs,$B89),INDEX(tirs,SMALL(IF(joueurs=$B89,ROW(INDIRECT(\"1:\"&ROWS(tirs)))),ROWS($1:$37))),\"\")","v":0},{"$f":"IF(ROWS($1:$38)<=COUNTIF(joueurs,$B89),INDEX(tirs,SMALL(IF(joueurs=$B89,ROW(INDIRECT(\"1:\"&ROWS(tirs)))),ROWS($1:$38))),\"\")","v":0},{"$f":"IF(ROWS($1:$39)<=COUNTIF(joueurs,$B89),INDEX(tirs,SMALL(IF(joueurs=$B89,ROW(INDIRECT(\"1:\"&ROWS(tirs)))),ROWS($1:$39))),\"\")","v":0},{"$f":"IF(ROWS($1:$40)<=COUNTIF(joueurs,$B89),INDEX(tirs,SMALL(IF(joueurs=$B89,ROW(INDIRECT(\"1:\"&ROWS(tirs)))),ROWS($1:$40))),\"\")","v":0},{"$f":"IF(ROWS($1:$31)<=COUNTIF(joueurs,$B89),INDEX(bontirs,SMALL(IF(joueurs=$B89,ROW(INDIRECT(\"1:\"&ROWS(bontirs)))),ROWS($1:$31))),\"\")","v":0},{"$f":"IF(ROWS($1:$32)<=COUNTIF(joueurs,$B89),INDEX(bontirs,SMALL(IF(joueurs=$B89,ROW(INDIRECT(\"1:\"&ROWS(bontirs)))),ROWS($1:$32))),\"\")","v":0},{"$f":"IF(ROWS($1:$33)<=COUNTIF(joueurs,$B89),INDEX(bontirs,SMALL(IF(joueurs=$B89,ROW(INDIRECT(\"1:\"&ROWS(bontirs)))),ROWS($1:$33))),\"\")","v":0},{"$f":"IF(ROWS($1:$34)<=COUNTIF(joueurs,$B89),INDEX(bontirs,SMALL(IF(joueurs=$B89,ROW(INDIRECT(\"1:\"&ROWS(bontirs)))),ROWS($1:$34))),\"\")","v":0},{"$f":"IF(ROWS($1:$35)<=COUNTIF(joueurs,$B89),INDEX(bontirs,SMALL(IF(joueurs=$B89,ROW(INDIRECT(\"1:\"&ROWS(bontirs)))),ROWS($1:$35))),\"\")","v":0},{"$f":"IF(ROWS($1:$36)<=COUNTIF(joueurs,$B89),INDEX(bontirs,SMALL(IF(joueurs=$B89,ROW(INDIRECT(\"1:\"&ROWS(bontirs)))),ROWS($1:$36))),\"\")","v":0},{"$f":"IF(ROWS($1:$37)<=COUNTIF(joueurs,$B89),INDEX(bontirs,SMALL(IF(joueurs=$B89,ROW(INDIRECT(\"1:\"&ROWS(bontirs)))),ROWS($1:$37))),\"\")","v":0},{"$f":"IF(ROWS($1:$38)<=COUNTIF(joueurs,$B89),INDEX(bontirs,SMALL(IF(joueurs=$B89,ROW(INDIRECT(\"1:\"&ROWS(bontirs)))),ROWS($1:$38))),\"\")","v":0},{"$f":"IF(ROWS($1:$39)<=COUNTIF(joueurs,$B89),INDEX(bontirs,SMALL(IF(joueurs=$B89,ROW(INDIRECT(\"1:\"&ROWS(bontirs)))),ROWS($1:$39))),\"\")","v":0},{"$f":"IF(ROWS($1:$40)<=COUNTIF(joueurs,$B89),INDEX(bontirs,SMALL(IF(joueurs=$B89,ROW(INDIRECT(\"1:\"&ROWS(bontirs)))),ROWS($1:$40))),\"\")","v":0},{"$f":"IF(ROWS($1:$31)<=COUNTIF(joueurs,$B89),INDEX(points,SMALL(IF(joueurs=$B89,ROW(INDIRECT(\"1:\"&ROWS(points)))),ROWS($1:$31))),\"\")","v":0},{"$f":"IF(ROWS($1:$32)<=COUNTIF(joueurs,$B89),INDEX(points,SMALL(IF(joueurs=$B89,ROW(INDIRECT(\"1:\"&ROWS(points)))),ROWS($1:$32))),\"\")","v":0},{"$f":"IF(ROWS($1:$33)<=COUNTIF(joueurs,$B89),INDEX(points,SMALL(IF(joueurs=$B89,ROW(INDIRECT(\"1:\"&ROWS(points)))),ROWS($1:$33))),\"\")","v":0},{"$f":"IF(ROWS($1:$34)<=COUNTIF(joueurs,$B89),INDEX(points,SMALL(IF(joueurs=$B89,ROW(INDIRECT(\"1:\"&ROWS(points)))),ROWS($1:$34))),\"\")","v":0},{"$f":"IF(ROWS($1:$35)<=COUNTIF(joueurs,$B89),INDEX(points,SMALL(IF(joueurs=$B89,ROW(INDIRECT(\"1:\"&ROWS(points)))),ROWS($1:$35))),\"\")","v":0},{"$f":"IF(ROWS($1:$36)<=COUNTIF(joueurs,$B89),INDEX(points,SMALL(IF(joueurs=$B89,ROW(INDIRECT(\"1:\"&ROWS(points)))),ROWS($1:$36))),\"\")","v":0},{"$f":"IF(ROWS($1:$37)<=COUNTIF(joueurs,$B89),INDEX(points,SMALL(IF(joueurs=$B89,ROW(INDIRECT(\"1:\"&ROWS(points)))),ROWS($1:$37))),\"\")","v":0},{"$f":"IF(ROWS($1:$38)<=COUNTIF(joueurs,$B89),INDEX(points,SMALL(IF(joueurs=$B89,ROW(INDIRECT(\"1:\"&ROWS(points)))),ROWS($1:$38))),\"\")","v":0},{"$f":"IF(ROWS($1:$39)<=COUNTIF(joueurs,$B89),INDEX(points,SMALL(IF(joueurs=$B89,ROW(INDIRECT(\"1:\"&ROWS(points)))),ROWS($1:$39))),\"\")","v":0},{"$f":"IF(ROWS($1:$40)<=COUNTIF(joueurs,$B89),INDEX(points,SMALL(IF(joueurs=$B89,ROW(INDIRECT(\"1:\"&ROWS(points)))),ROWS($1:$40))),\"\")","v":0},{"$f":"IF(ROWS($1:$31)<=COUNTIF(joueurs,$B89),INDEX(victoires,SMALL(IF(joueurs=$B89,ROW(INDIRECT(\"1:\"&ROWS(victoires)))),ROWS($1:$31))),\"\")","v":0},{"$f":"IF(ROWS($1:$32)<=COUNTIF(joueurs,$B89),INDEX(victoires,SMALL(IF(joueurs=$B89,ROW(INDIRECT(\"1:\"&ROWS(victoires)))),ROWS($1:$32))),\"\")","v":0},{"$f":"IF(ROWS($1:$33)<=COUNTIF(joueurs,$B89),INDEX(victoires,SMALL(IF(joueurs=$B89,ROW(INDIRECT(\"1:\"&ROWS(victoires)))),ROWS($1:$33))),\"\")","v":0},{"$f":"IF(ROWS($1:$34)<=COUNTIF(joueurs,$B89),INDEX(victoires,SMALL(IF(joueurs=$B89,ROW(INDIRECT(\"1:\"&ROWS(victoires)))),ROWS($1:$34))),\"\")","v":0},{"$f":"IF(ROWS($1:$35)<=COUNTIF(joueurs,$B89),INDEX(victoires,SMALL(IF(joueurs=$B89,ROW(INDIRECT(\"1:\"&ROWS(victoires)))),ROWS($1:$35))),\"\")","v":0},{"$f":"IF(ROWS($1:$36)<=COUNTIF(joueurs,$B89),INDEX(victoires,SMALL(IF(joueurs=$B89,ROW(INDIRECT(\"1:\"&ROWS(victoires)))),ROWS($1:$36))),\"\")","v":0},{"$f":"IF(ROWS($1:$37)<=COUNTIF(joueurs,$B89),INDEX(victoires,SMALL(IF(joueurs=$B89,ROW(INDIRECT(\"1:\"&ROWS(victoires)))),ROWS($1:$37))),\"\")","v":0},{"$f":"IF(ROWS($1:$38)<=COUNTIF(joueurs,$B89),INDEX(victoires,SMALL(IF(joueurs=$B89,ROW(INDIRECT(\"1:\"&ROWS(victoires)))),ROWS($1:$38))),\"\")","v":0},{"$f":"IF(ROWS($1:$39)<=COUNTIF(joueurs,$B89),INDEX(victoires,SMALL(IF(joueurs=$B89,ROW(INDIRECT(\"1:\"&ROWS(victoires)))),ROWS($1:$39))),\"\")","v":0},{"$f":"IF(ROWS($1:$40)<=COUNTIF(joueurs,$B89),INDEX(victoires,SMALL(IF(joueurs=$B89,ROW(INDIRECT(\"1:\"&ROWS(victoires)))),ROWS($1:$40))),\"\")","v":0}]
[23,{"$f":"INDEX(eleves,MATCH(A93,numero,0),MATCH($B$2,classes,0))","v":0},null,{"$f":"IF(ROWS($1:$1)<=COUNTIF(joueurs,$B93),INDEX(fautes,SMALL(IF(joueurs=$B93,ROW(INDIRECT(\"1:\"&ROWS(fautes)))),ROWS($1:$1))),\"\")","v":0},{"$f":"IF(ROWS($1:$2)<=COUNTIF(joueurs,$B93),INDEX(fautes,SMALL(IF(joueurs=$B93,ROW(INDIRECT(\"1:\"&ROWS(fautes)))),ROWS($1:$2))),\"\")","v":0},{"$f":"IF(ROWS($1:$3)<=COUNTIF(joueurs,$B93),INDEX(fautes,SMALL(IF(joueurs=$B93,ROW(INDIRECT(\"1:\"&ROWS(fautes)))),ROWS($1:$3))),\"\")","v":0},{"$f":"IF(ROWS($1:$4)<=COUNTIF(joueurs,$B93),INDEX(fautes,SMALL(IF(joueurs=$B93,ROW(INDIRECT(\"1:\"&ROWS(fautes)))),ROWS($1:$4))),\"\")","v":0},{"$f":"IF(ROWS($1:$5)<=COUNTIF(joueurs,$B93),INDEX(fautes,SMALL(IF(joueurs=$B93,ROW(INDIRECT(\"1:\"&ROWS(fautes)))),ROWS($1:$5))),\"\")","v":0},{"$f":"IF(ROWS($1:$6)<=COUNTIF(joueurs,$B93),INDEX(fautes,SMALL(IF(joueurs=$B93,ROW(INDIRECT(\"1:\"&ROWS(fautes)))),ROWS($1:$6))),\"\")","v":0},{"$f":"IF(ROWS($1:$7)<=COUNTIF(joueurs,$B93),INDEX(fautes,SMALL(IF(joueurs=$B93,ROW(INDIRECT(\"1:\"&ROWS(fautes)))),ROWS($1:$7))),\"\")","v":0},{"$f":"IF(ROWS($1:$8)<=COUNTIF(joueurs,$B93),INDEX(fautes,SMALL(IF(joueurs=$B93,ROW(INDIRECT(\"1:\"&ROWS(fautes)))),ROWS($1:$8))),\"\")","v":0},{"$f":"IF(ROWS($1:$9)<=COUNTIF(joueurs,$B93),INDEX(fautes,SMALL(IF(joueurs=$B93,ROW(INDIRECT(\"1:\"&ROWS(fautes)))),ROWS($1:$9))),\"\")","v":0},{"$f":"IF(ROWS($1:$10)<=COUNTIF(joueurs,$B93),INDEX(fautes,SMALL(IF(joueurs=$B93,ROW(INDIRECT(\"1:\"&ROWS(fautes)))),ROWS($1:$10))),\"\")","v":0},{"$f":"IF(ROWS($1:$1)<=COUNTIF(joueurs,$B93),INDEX(ballonperdus,SMALL(IF(joueurs=$B93,ROW(INDIRECT(\"1:\"&ROWS(ballonperdus)))),ROWS($1:$1))),\"\")","v":0},{"$f":"IF(ROWS($1:$2)<=COUNTIF(joueurs,$B93),INDEX(ballonperdus,SMALL(IF(joueurs=$B93,ROW(INDIRECT(\"1:\"&ROWS(ballonperdus)))),ROWS($1:$2))),\"\")","v":0},{"$f":"IF(ROWS($1:$3)<=COUNTIF(joueurs,$B93),INDEX(ballonperdus,SMALL(IF(joueurs=$B93,ROW(INDIRECT(\"1:\"&ROWS(ballonperdus)))),ROWS($1:$3))),\"\")","v":0},{"$f":"IF(ROWS($1:$4)<=COUNTIF(joueurs,$B93),INDEX(ballonperdus,SMALL(IF(joueurs=$B93,ROW(INDIRECT(\"1:\"&ROWS(ballonperdus)))),ROWS($1:$4))),\"\")","v":0},{"$f":"IF(ROWS($1:$5)<=COUNTIF(joueurs,$B93),INDEX(ballonperdus,SMALL(IF(joueurs=$B93,ROW(INDIRECT(\"1:\"&ROWS(ballonperdus)))),ROWS($1:$5))),\"\")","v":0},{"$f":"IF(ROWS($1:$6)<=COUNTIF(joueurs,$B93),INDEX(ballonperdus,SMALL(IF(joueurs=$B93,ROW(INDIRECT(\"1:\"&ROWS(ballonperdus)))),ROWS($1:$6))),\"\")","v":0},{"$f":"IF(ROWS($1:$7)<=COUNTIF(joueurs,$B93),INDEX(ballonperdus,SMALL(IF(joueurs=$B93,ROW(INDIRECT(\"1:\"&ROWS(ballonperdus)))),ROWS($1:$7))),\"\")","v":0},{"$f":"IF(ROWS($1:$8)<=COUNTIF(joueurs,$B93),INDEX(ballonperdus,SMALL(IF(joueurs=$B93,ROW(INDIRECT(\"1:\"&ROWS(ballonperdus)))),ROWS($1:$8))),\"\")","v":0},{"$f":"IF(ROWS($1:$9)<=COUNTIF(joueurs,$B93),INDEX(ballonperdus,SMALL(IF(joueurs=$B93,ROW(INDIRECT(\"1:\"&ROWS(ballonperdus)))),ROWS($1:$9))),\"\")","v":0},{"$f":"IF(ROWS($1:$10)<=COUNTIF(joueurs,$B93),INDEX(ballonperdus,SMALL(IF(joueurs=$B93,ROW(INDIRECT(\"1:\"&ROWS(ballonperdus)))),ROWS($1:$10))),\"\")","v":0},{"$f":"IF(ROWS($1:$1)<=COUNTIF(joueurs,$B93),INDEX(interceptions,SMALL(IF(joueurs=$B93,ROW(INDIRECT(\"1:\"&ROWS(interceptions)))),ROWS($1:$1))),\"\")","v":0},{"$f":"IF(ROWS($1:$2)<=COUNTIF(joueurs,$B93),INDEX(interceptions,SMALL(IF(joueurs=$B93,ROW(INDIRECT(\"1:\"&ROWS(interceptions)))),ROWS($1:$2))),\"\")","v":0},{"$f":"IF(ROWS($1:$3)<=COUNTIF(joueurs,$B93),INDEX(interceptions,SMALL(IF(joueurs=$B93,ROW(INDIRECT(\"1:\"&ROWS(interceptions)))),ROWS($1:$3))),\"\")","v":0},{"$f":"IF(ROWS($1:$4)<=COUNTIF(joueurs,$B93),INDEX(interceptions,SMALL(IF(joueurs=$B93,ROW(INDIRECT(\"1:\"&ROWS(interceptions)))),ROWS($1:$4))),\"\")","v":0},{"$f":"IF(ROWS($1:$5)<=COUNTIF(joueurs,$B93),INDEX(interceptions,SMALL(IF(joueurs=$B93,ROW(INDIRECT(\"1:\"&ROWS(interceptions)))),ROWS($1:$5))),\"\")","v":0},{"$f":"IF(ROWS($1:$6)<=COUNTIF(joueurs,$B93),INDEX(interceptions,SMALL(IF(joueurs=$B93,ROW(INDIRECT(\"1:\"&ROWS(interceptions)))),ROWS($1:$6))),\"\")","v":0},{"$f":"IF(ROWS($1:$7)<=COUNTIF(joueurs,$B93),INDEX(interceptions,SMALL(IF(joueurs=$B93,ROW(INDIRECT(\"1:\"&ROWS(interceptions)))),ROWS($1:$7))),\"\")","v":0},{"$f":"IF(ROWS($1:$8)<=COUNTIF(joueurs,$B93),INDEX(interceptions,SMALL(IF(joueurs=$B93,ROW(INDIRECT(\"1:\"&ROWS(interceptions)))),ROWS($1:$8))),\"\")","v":0},{"$f":"IF(ROWS($1:$9)<=COUNTIF(joueurs,$B93),INDEX(interceptions,SMALL(IF(joueurs=$B93,ROW(INDIRECT(\"1:\"&ROWS(interceptions)))),ROWS($1:$9))),\"\")","v":0},{"$f":"IF(ROWS($1:$10)<=COUNTIF(joueurs,$B93),INDEX(interceptions,SMALL(IF(joueurs=$B93,ROW(INDIRECT(\"1:\"&ROWS(interceptions)))),ROWS($1:$10))),\"\")","v":0},{"$f":"IF(ROWS($1:$1)<=COUNTIF(joueurs,$B93),INDEX(ballonrecuperes,SMALL(IF(joueurs=$B93,ROW(INDIRECT(\"1:\"&ROWS(ballonrecuperes)))),ROWS($1:$1))),\"\")","v":0},{"$f":"IF(ROWS($1:$2)<=COUNTIF(joueurs,$B93),INDEX(ballonrecuperes,SMALL(IF(joueurs=$B93,ROW(INDIRECT(\"1:\"&ROWS(ballonrecuperes)))),ROWS($1:$2))),\"\")","v":0},{"$f":"IF(ROWS($1:$3)<=COUNTIF(joueurs,$B93),INDEX(ballonrecuperes,SMALL(IF(joueurs=$B93,ROW(INDIRECT(\"1:\"&ROWS(ballonrecuperes)))),ROWS($1:$3))),\"\")","v":0},{"$f":"IF(ROWS($1:$4)<=COUNTIF(joueurs,$B93),INDEX(ballonrecuperes,SMALL(IF(joueurs=$B93,ROW(INDIRECT(\"1:\"&ROWS(ballonrecuperes)))),ROWS($1:$4))),\"\")","v":0},{"$f":"IF(ROWS($1:$5)<=COUNTIF(joueurs,$B93),INDEX(ballonrecuperes,SMALL(IF(joueurs=$B93,ROW(INDIRECT(\"1:\"&ROWS(ballonrecuperes)))),ROWS($1:$5))),\"\")","v":0},{"$f":"IF(ROWS($1:$6)<=COUNTIF(joueurs,$B93),INDEX(ballonrecuperes,SMALL(IF(joueurs=$B93,ROW(INDIRECT(\"1:\"&ROWS(ballonrecuperes)))),ROWS($1:$6))),\"\")","v":0},{"$f":"IF(ROWS($1:$7)<=COUNTIF(joueurs,$B93),INDEX(ballonrecuperes,SMALL(IF(joueurs=$B93,ROW(INDIRECT(\"1:\"&ROWS(ballonrecuperes)))),ROWS($1:$7))),\"\")","v":0},{"$f":"IF(ROWS($1:$8)<=COUNTIF(joueurs,$B93),INDEX(ballonrecuperes,SMALL(IF(joueurs=$B93,ROW(INDIRECT(\"1:\"&ROWS(ballonrecuperes)))),ROWS($1:$8))),\"\")","v":0},{"$f":"IF(ROWS($1:$9)<=COUNTIF(joueurs,$B93),INDEX(ballonrecuperes,SMALL(IF(joueurs=$B93,ROW(INDIRECT(\"1:\"&ROWS(ballonrecuperes)))),ROWS($1:$9))),\"\")","v":0},{"$f":"IF(ROWS($1:$10)<=COUNTIF(joueurs,$B93),INDEX(ballonrecuperes,SMALL(IF(joueurs=$B93,ROW(INDIRECT(\"1:\"&ROWS(ballonrecuperes)))),ROWS($1:$10))),\"\")","v":0},{"$f":"IF(ROWS($1:$1)<=COUNTIF(joueurs,$B93),INDEX(tirs,SMALL(IF(joueurs=$B93,ROW(INDIRECT(\"1:\"&ROWS(tirs)))),ROWS($1:$1))),\"\")","v":0},{"$f":"IF(ROWS($1:$2)<=COUNTIF(joueurs,$B93),INDEX(tirs,SMALL(IF(joueurs=$B93,ROW(INDIRECT(\"1:\"&ROWS(tirs)))),ROWS($1:$2))),\"\")","v":0},{"$f":"IF(ROWS($1:$3)<=COUNTIF(joueurs,$B93),INDEX(tirs,SMALL(IF(joueurs=$B93,ROW(INDIRECT(\"1:\"&ROWS(tirs)))),ROWS($1:$3))),\"\")","v":0},{"$f":"IF(ROWS($1:$4)<=COUNTIF(joueurs,$B93),INDEX(tirs,SMALL(IF(joueurs=$B93,ROW(INDIRECT(\"1:\"&ROWS(tirs)))),ROWS($1:$4))),\"\")","v":0},{"$f":"IF(ROWS($1:$5)<=COUNTIF(joueurs,$B93),INDEX(tirs,SMALL(IF(joueurs=$B93,ROW(INDIRECT(\"1:\"&ROWS(tirs)))),ROWS($1:$5))),\"\")","v":0},{"$f":"IF(ROWS($1:$6)<=COUNTIF(joueurs,$B93),INDEX(tirs,SMALL(IF(joueurs=$B93,ROW(INDIRECT(\"1:\"&ROWS(tirs)))),ROWS($1:$6))),\"\")","v":0},{"$f":"IF(ROWS($1:$7)<=COUNTIF(joueurs,$B93),INDEX(tirs,SMALL(IF(joueurs=$B93,ROW(INDIRECT(\"1:\"&ROWS(tirs)))),ROWS($1:$7))),\"\")","v":0},{"$f":"IF(ROWS($1:$8)<=COUNTIF(joueurs,$B93),INDEX(tirs,SMALL(IF(joueurs=$B93,ROW(INDIRECT(\"1:\"&ROWS(tirs)))),ROWS($1:$8))),\"\")","v":0},{"$f":"IF(ROWS($1:$9)<=COUNTIF(joueurs,$B93),INDEX(tirs,SMALL(IF(joueurs=$B93,ROW(INDIRECT(\"1:\"&ROWS(tirs)))),ROWS($1:$9))),\"\")","v":0},{"$f":"IF(ROWS($1:$10)<=COUNTIF(joueurs,$B93),INDEX(tirs,SMALL(IF(joueurs=$B93,ROW(INDIRECT(\"1:\"&ROWS(tirs)))),ROWS($1:$10))),\"\")","v":0},{"$f":"IF(ROWS($1:$1)<=COUNTIF(joueurs,$B93),INDEX(bontirs,SMALL(IF(joueurs=$B93,ROW(INDIRECT(\"1:\"&ROWS(bontirs)))),ROWS($1:$1))),\"\")","v":0},{"$f":"IF(ROWS($1:$2)<=COUNTIF(joueurs,$B93),INDEX(bontirs,SMALL(IF(joueurs=$B93,ROW(INDIRECT(\"1:\"&ROWS(bontirs)))),ROWS($1:$2))),\"\")","v":0},{"$f":"IF(ROWS($1:$3)<=COUNTIF(joueurs,$B93),INDEX(bontirs,SMALL(IF(joueurs=$B93,ROW(INDIRECT(\"1:\"&ROWS(bontirs)))),ROWS($1:$3))),\"\")","v":0},{"$f":"IF(ROWS($1:$4)<=COUNTIF(joueurs,$B93),INDEX(bontirs,SMALL(IF(joueurs=$B93,ROW(INDIRECT(\"1:\"&ROWS(bontirs)))),ROWS($1:$4))),\"\")","v":0},{"$f":"IF(ROWS($1:$5)<=COUNTIF(joueurs,$B93),INDEX(bontirs,SMALL(IF(joueurs=$B93,ROW(INDIRECT(\"1:\"&ROWS(bontirs)))),ROWS($1:$5))),\"\")","v":0},{"$f":"IF(ROWS($1:$6)<=COUNTIF(joueurs,$B93),INDEX(bontirs,SMALL(IF(joueurs=$B93,ROW(INDIRECT(\"1:\"&ROWS(bontirs)))),ROWS($1:$6))),\"\")","v":0},{"$f":"IF(ROWS($1:$7)<=COUNTIF(joueurs,$B93),INDEX(bontirs,SMALL(IF(joueurs=$B93,ROW(INDIRECT(\"1:\"&ROWS(bontirs)))),ROWS($1:$7))),\"\")","v":0},{"$f":"IF(ROWS($1:$8)<=COUNTIF(joueurs,$B93),INDEX(bontirs,SMALL(IF(joueurs=$B93,ROW(INDIRECT(\"1:\"&ROWS(bontirs)))),ROWS($1:$8))),\"\")","v":0},{"$f":"IF(ROWS($1:$9)<=COUNTIF(joueurs,$B93),INDEX(bontirs,SMALL(IF(joueurs=$B93,ROW(INDIRECT(\"1:\"&ROWS(bontirs)))),ROWS($1:$9))),\"\")","v":0},{"$f":"IF(ROWS($1:$10)<=COUNTIF(joueurs,$B93),INDEX(bontirs,SMALL(IF(joueurs=$B93,ROW(INDIRECT(\"1:\"&ROWS(bontirs)))),ROWS($1:$10))),\"\")","v":0},{"$f":"IF(ROWS($1:$1)<=COUNTIF(joueurs,$B93),INDEX(points,SMALL(IF(joueurs=$B93,ROW(INDIRECT(\"1:\"&ROWS(points)))),ROWS($1:$1))),\"\")","v":0},{"$f":"IF(ROWS($1:$2)<=COUNTIF(joueurs,$B93),INDEX(points,SMALL(IF(joueurs=$B93,ROW(INDIRECT(\"1:\"&ROWS(points)))),ROWS($1:$2))),\"\")","v":0},{"$f":"IF(ROWS($1:$3)<=COUNTIF(joueurs,$B93),INDEX(points,SMALL(IF(joueurs=$B93,ROW(INDIRECT(\"1:\"&ROWS(points)))),ROWS($1:$3))),\"\")","v":0},{"$f":"IF(ROWS($1:$4)<=COUNTIF(joueurs,$B93),INDEX(points,SMALL(IF(joueurs=$B93,ROW(INDIRECT(\"1:\"&ROWS(points)))),ROWS($1:$4))),\"\")","v":0},{"$f":"IF(ROWS($1:$5)<=COUNTIF(joueurs,$B93),INDEX(points,SMALL(IF(joueurs=$B93,ROW(INDIRECT(\"1:\"&ROWS(points)))),ROWS($1:$5))),\"\")","v":0},{"$f":"IF(ROWS($1:$6)<=COUNTIF(joueurs,$B93),INDEX(points,SMALL(IF(joueurs=$B93,ROW(INDIRECT(\"1:\"&ROWS(points)))),ROWS($1:$6))),\"\")","v":0},{"$f":"IF(ROWS($1:$7)<=COUNTIF(joueurs,$B93),INDEX(points,SMALL(IF(joueurs=$B93,ROW(INDIRECT(\"1:\"&ROWS(points)))),ROWS($1:$7))),\"\")","v":0},{"$f":"IF(ROWS($1:$8)<=COUNTIF(joueurs,$B93),INDEX(points,SMALL(IF(joueurs=$B93,ROW(INDIRECT(\"1:\"&ROWS(points)))),ROWS($1:$8))),\"\")","v":0},{"$f":"IF(ROWS($1:$9)<=COUNTIF(joueurs,$B93),INDEX(points,SMALL(IF(joueurs=$B93,ROW(INDIRECT(\"1:\"&ROWS(points)))),ROWS($1:$9))),\"\")","v":0},{"$f":"IF(ROWS($1:$10)<=COUNTIF(joueurs,$B93),INDEX(points,SMALL(IF(joueurs=$B93,ROW(INDIRECT(\"1:\"&ROWS(points)))),ROWS($1:$10))),\"\")","v":0},{"$f":"IF(ROWS($1:$1)<=COUNTIF(joueurs,$B93),INDEX(victoires,SMALL(IF(joueurs=$B93,ROW(INDIRECT(\"1:\"&ROWS(victoires)))),ROWS($1:$1))),\"\")","v":0},{"$f":"IF(ROWS($1:$2)<=COUNTIF(joueurs,$B93),INDEX(victoires,SMALL(IF(joueurs=$B93,ROW(INDIRECT(\"1:\"&ROWS(victoires)))),ROWS($1:$2))),\"\")","v":0},{"$f":"IF(ROWS($1:$3)<=COUNTIF(joueurs,$B93),INDEX(victoires,SMALL(IF(joueurs=$B93,ROW(INDIRECT(\"1:\"&ROWS(victoires)))),ROWS($1:$3))),\"\")","v":0},{"$f":"IF(ROWS($1:$4)<=COUNTIF(joueurs,$B93),INDEX(victoires,SMALL(IF(joueurs=$B93,ROW(INDIRECT(\"1:\"&ROWS(victoires)))),ROWS($1:$4))),\"\")","v":0},{"$f":"IF(ROWS($1:$5)<=COUNTIF(joueurs,$B93),INDEX(victoires,SMALL(IF(joueurs=$B93,ROW(INDIRECT(\"1:\"&ROWS(victoires)))),ROWS($1:$5))),\"\")","v":0},{"$f":"IF(ROWS($1:$6)<=COUNTIF(joueurs,$B93),INDEX(victoires,SMALL(IF(joueurs=$B93,ROW(INDIRECT(\"1:\"&ROWS(victoires)))),ROWS($1:$6))),\"\")","v":0},{"$f":"IF(ROWS($1:$7)<=COUNTIF(joueurs,$B93),INDEX(victoires,SMALL(IF(joueurs=$B93,ROW(INDIRECT(\"1:\"&ROWS(victoires)))),ROWS($1:$7))),\"\")","v":0},{"$f":"IF(ROWS($1:$8)<=COUNTIF(joueurs,$B93),INDEX(victoires,SMALL(IF(joueurs=$B93,ROW(INDIRECT(\"1:\"&ROWS(victoires)))),ROWS($1:$8))),\"\")","v":0},{"$f":"IF(ROWS($1:$9)<=COUNTIF(joueurs,$B93),INDEX(victoires,SMALL(IF(joueurs=$B93,ROW(INDIRECT(\"1:\"&ROWS(victoires)))),ROWS($1:$9))),\"\")","v":0},{"$f":"IF(ROWS($1:$10)<=COUNTIF(joueurs,$B93),INDEX(victoires,SMALL(IF(joueurs=$B93,ROW(INDIRECT(\"1:\"&ROWS(victoires)))),ROWS($1:$10))),\"\")","v":0}]
[null,null,null,{"$f":"IF(ROWS($1:$11)<=COUNTIF(joueurs,$B93),INDEX(fautes,SMALL(IF(joueurs=$B93,ROW(INDIRECT(\"1:\"&ROWS(fautes)))),ROWS($1:$11))),\"\")","v":0},{"$f":"IF(ROWS($1:$12)<=COUNTIF(joueurs,$B93),INDEX(fautes,SMALL(IF(joueurs=$B93,ROW(INDIRECT(\"1:\"&ROWS(fautes)))),ROWS($1:$12))),\"\")","v":0},{"$f":"IF(ROWS($1:$13)<=COUNTIF(joueurs,$B93),INDEX(fautes,SMALL(IF(joueurs=$B93,ROW(INDIRECT(\"1:\"&ROWS(fautes)))),ROWS($1:$13))),\"\")","v":0},{"$f":"IF(ROWS($1:$14)<=COUNTIF(joueurs,$B93),INDEX(fautes,SMALL(IF(joueurs=$B93,ROW(INDIRECT(\"1:\"&ROWS(fautes)))),ROWS($1:$14))),\"\")","v":0},{"$f":"IF(ROWS($1:$15)<=COUNTIF(joueurs,$B93),INDEX(fautes,SMALL(IF(joueurs=$B93,ROW(INDIRECT(\"1:\"&ROWS(fautes)))),ROWS($1:$15))),\"\")","v":0},{"$f":"IF(ROWS($1:$16)<=COUNTIF(joueurs,$B93),INDEX(fautes,SMALL(IF(joueurs=$B93,ROW(INDIRECT(\"1:\"&ROWS(fautes)))),ROWS($1:$16))),\"\")","v":0},{"$f":"IF(ROWS($1:$17)<=COUNTIF(joueurs,$B93),INDEX(fautes,SMALL(IF(joueurs=$B93,ROW(INDIRECT(\"1:\"&ROWS(fautes)))),ROWS($1:$17))),\"\")","v":0},{"$f":"IF(ROWS($1:$18)<=COUNTIF(joueurs,$B93),INDEX(fautes,SMALL(IF(joueurs=$B93,ROW(INDIRECT(\"1:\"&ROWS(fautes)))),ROWS($1:$18))),\"\")","v":0},{"$f":"IF(ROWS($1:$19)<=COUNTIF(joueurs,$B93),INDEX(fautes,SMALL(IF(joueurs=$B93,ROW(INDIRECT(\"1:\"&ROWS(fautes)))),ROWS($1:$19))),\"\")","v":0},{"$f":"IF(ROWS($1:$20)<=COUNTIF(joueurs,$B93),INDEX(fautes,SMALL(IF(joueurs=$B93,ROW(INDIRECT(\"1:\"&ROWS(fautes)))),ROWS($1:$20))),\"\")","v":0},{"$f":"IF(ROWS($1:$11)<=COUNTIF(joueurs,$B93),INDEX(ballonperdus,SMALL(IF(joueurs=$B93,ROW(INDIRECT(\"1:\"&ROWS(ballonperdus)))),ROWS($1:$11))),\"\")","v":0},{"$f":"IF(ROWS($1:$12)<=COUNTIF(joueurs,$B93),INDEX(ballonperdus,SMALL(IF(joueurs=$B93,ROW(INDIRECT(\"1:\"&ROWS(ballonperdus)))),ROWS($1:$12))),\"\")","v":0},{"$f":"IF(ROWS($1:$13)<=COUNTIF(joueurs,$B93),INDEX(ballonperdus,SMALL(IF(joueurs=$B93,ROW(INDIRECT(\"1:\"&ROWS(ballonperdus)))),ROWS($1:$13))),\"\")","v":0},{"$f":"IF(ROWS($1:$14)<=COUNTIF(joueurs,$B93),INDEX(ballonperdus,SMALL(IF(joueurs=$B93,ROW(INDIRECT(\"1:\"&ROWS(ballonperdus)))),ROWS($1:$14))),\"\")","v":0},{"$f":"IF(ROWS($1:$15)<=COUNTIF(joueurs,$B93),INDEX(ballonperdus,SMALL(IF(joueurs=$B93,ROW(INDIRECT(\"1:\"&ROWS(ballonperdus)))),ROWS($1:$15))),\"\")","v":0},{"$f":"IF(ROWS($1:$16)<=COUNTIF(joueurs,$B93),INDEX(ballonperdus,SMALL(IF(joueurs=$B93,ROW(INDIRECT(\"1:\"&ROWS(ballonperdus)))),ROWS($1:$16))),\"\")","v":0},{"$f":"IF(ROWS($1:$17)<=COUNTIF(joueurs,$B93),INDEX(ballonperdus,SMALL(IF(joueurs=$B93,ROW(INDIRECT(\"1:\"&ROWS(ballonperdus)))),ROWS($1:$17))),\"\")","v":0},{"$f":"IF(ROWS($1:$18)<=COUNTIF(joueurs,$B93),INDEX(ballonperdus,SMALL(IF(joueurs=$B93,ROW(INDIRECT(\"1:\"&ROWS(ballonperdus)))),ROWS($1:$18))),\"\")","v":0},{"$f":"IF(ROWS($1:$19)<=COUNTIF(joueurs,$B93),INDEX(ballonperdus,SMALL(IF(joueurs=$B93,ROW(INDIRECT(\"1:\"&ROWS(ballonperdus)))),ROWS($1:$19))),\"\")","v":0},{"$f":"IF(ROWS($1:$20)<=COUNTIF(joueurs,$B93),INDEX(fautes,SMALL(IF(joueurs=$B93,ROW(INDIRECT(\"1:\"&ROWS(ballonperdus)))),ROWS($1:$20))),\"\")","v":0},{"$f":"IF(ROWS($1:$11)<=COUNTIF(joueurs,$B93),INDEX(interceptions,SMALL(IF(joueurs=$B93,ROW(INDIRECT(\"1:\"&ROWS(interceptions)))),ROWS($1:$11))),\"\")","v":0},{"$f":"IF(ROWS($1:$12)<=COUNTIF(joueurs,$B93),INDEX(interceptions,SMALL(IF(joueurs=$B93,ROW(INDIRECT(\"1:\"&ROWS(interceptions)))),ROWS($1:$12))),\"\")","v":0},{"$f":"IF(ROWS($1:$13)<=COUNTIF(joueurs,$B93),INDEX(interceptions,SMALL(IF(joueurs=$B93,ROW(INDIRECT(\"1:\"&ROWS(interceptions)))),ROWS($1:$13))),\"\")","v":0},{"$f":"IF(ROWS($1:$14)<=COUNTIF(joueurs,$B93),INDEX(interceptions,SMALL(IF(joueurs=$B93,ROW(INDIRECT(\"1:\"&ROWS(interceptions)))),ROWS($1:$14))),\"\")","v":0},{"$f":"IF(ROWS($1:$15)<=COUNTIF(joueurs,$B93),INDEX(interceptions,SMALL(IF(joueurs=$B93,ROW(INDIRECT(\"1:\"&ROWS(interceptions)))),ROWS($1:$15))),\"\")","v":0},{"$f":"IF(ROWS($1:$16)<=COUNTIF(joueurs,$B93),INDEX(interceptions,SMALL(IF(joueurs=$B93,ROW(INDIRECT(\"1:\"&ROWS(interceptions)))),ROWS($1:$16))),\"\")","v":0},{"$f":"IF(ROWS($1:$17)<=COUNTIF(joueurs,$B93),INDEX(interceptions,SMALL(IF(joueurs=$B93,ROW(INDIRECT(\"1:\"&ROWS(interceptions)))),ROWS($1:$17))),\"\")","v":0},{"$f":"IF(ROWS($1:$18)<=COUNTIF(joueurs,$B93),INDEX(interceptions,SMALL(IF(joueurs=$B93,ROW(INDIRECT(\"1:\"&ROWS(interceptions)))),ROWS($1:$18))),\"\")","v":0},{"$f":"IF(ROWS($1:$19)<=COUNTIF(joueurs,$B93),INDEX(interceptions,SMALL(IF(joueurs=$B93,ROW(INDIRECT(\"1:\"&ROWS(interceptions)))),ROWS($1:$19))),\"\")","v":0},{"$f":"IF(ROWS($1:$20)<=COUNTIF(joueurs,$B93),INDEX(interceptions,SMALL(IF(joueurs=$B93,ROW(INDIRECT(\"1:\"&ROWS(interceptions)))),ROWS($1:$20))),\"\")","v":0},{"$f":"IF(ROWS($1:$11)<=COUNTIF(joueurs,$B93),INDEX(ballonrecuperes,SMALL(IF(joueurs=$B93,ROW(INDIRECT(\"1:\"&ROWS(ballonrecuperes)))),ROWS($1:$11))),\"\")","v":0},{"$f":"IF(ROWS($1:$12)<=COUNTIF(joueurs,$B93),INDEX(ballonrecuperes,SMALL(IF(joueurs=$B93,ROW(INDIRECT(\"1:\"&ROWS(ballonrecuperes)))),ROWS($1:$12))),\"\")","v":0},{"$f":"IF(ROWS($1:$13)<=COUNTIF(joueurs,$B93),INDEX(ballonrecuperes,SMALL(IF(joueurs=$B93,ROW(INDIRECT(\"1:\"&ROWS(ballonrecuperes)))),ROWS($1:$13))),\"\")","v":0},{"$f":"IF(ROWS($1:$14)<=COUNTIF(joueurs,$B93),INDEX(ballonrecuperes,SMALL(IF(joueurs=$B93,ROW(INDIRECT(\"1:\"&ROWS(ballonrecuperes)))),ROWS($1:$14))),\"\")","v":0},{"$f":"IF(ROWS($1:$15)<=COUNTIF(joueurs,$B93),INDEX(ballonrecuperes,SMALL(IF(joueurs=$B93,ROW(INDIRECT(\"1:\"&ROWS(ballonrecuperes)))),ROWS($1:$15))),\"\")","v":0},{"$f":"IF(ROWS($1:$16)<=COUNTIF(joueurs,$B93),INDEX(ballonrecuperes,SMALL(IF(joueurs=$B93,ROW(INDIRECT(\"1:\"&ROWS(ballonrecuperes)))),ROWS($1:$16))),\"\")","v":0},{"$f":"IF(ROWS($1:$17)<=COUNTIF(joueurs,$B93),INDEX(ballonrecuperes,SMALL(IF(joueurs=$B93,ROW(INDIRECT(\"1:\"&ROWS(ballonrecuperes)))),ROWS($1:$17))),\"\")","v":0},{"$f":"IF(ROWS($1:$18)<=COUNTIF(joueurs,$B93),INDEX(ballonrecuperes,SMALL(IF(joueurs=$B93,ROW(INDIRECT(\"1:\"&ROWS(ballonrecuperes)))),ROWS($1:$18))),\"\")","v":0},{"$f":"IF(ROWS($1:$19)<=COUNTIF(joueurs,$B93),INDEX(ballonrecuperes,SMALL(IF(joueurs=$B93,ROW(INDIRECT(\"1:\"&ROWS(ballonrecuperes)))),ROWS($1:$19))),\"\")","v":0},{"$f":"IF(ROWS($1:$20)<=COUNTIF(joueurs,$B93),INDEX(ballonrecuperes,SMALL(IF(joueurs=$B93,ROW(INDIRECT(\"1:\"&ROWS(ballonrecuperes)))),ROWS($1:$20))),\"\")","v":0},{"$f":"IF(ROWS($1:$11)<=COUNTIF(joueurs,$B93),INDEX(tirs,SMALL(IF(joueurs=$B93,ROW(INDIRECT(\"1:\"&ROWS(tirs)))),ROWS($1:$11))),\"\")","v":0},{"$f":"IF(ROWS($1:$12)<=COUNTIF(joueurs,$B93),INDEX(tirs,SMALL(IF(joueurs=$B93,ROW(INDIRECT(\"1:\"&ROWS(tirs)))),ROWS($1:$12))),\"\")","v":0},{"$f":"IF(ROWS($1:$13)<=COUNTIF(joueurs,$B93),INDEX(tirs,SMALL(IF(joueurs=$B93,ROW(INDIRECT(\"1:\"&ROWS(tirs)))),ROWS($1:$13))),\"\")","v":0},{"$f":"IF(ROWS($1:$14)<=COUNTIF(joueurs,$B93),INDEX(tirs,SMALL(IF(joueurs=$B93,ROW(INDIRECT(\"1:\"&ROWS(tirs)))),ROWS($1:$14))),\"\")","v":0},{"$f":"IF(ROWS($1:$15)<=COUNTIF(joueurs,$B93),INDEX(tirs,SMALL(IF(joueurs=$B93,ROW(INDIRECT(\"1:\"&ROWS(tirs)))),ROWS($1:$15))),\"\")","v":0},{"$f":"IF(ROWS($1:$16)<=COUNTIF(joueurs,$B93),INDEX(tirs,SMALL(IF(joueurs=$B93,ROW(INDIRECT(\"1:\"&ROWS(tirs)))),ROWS($1:$16))),\"\")","v":0},{"$f":"IF(ROWS($1:$17)<=COUNTIF(joueurs,$B93),INDEX(tirs,SMALL(IF(joueurs=$B93,ROW(INDIRECT(\"1:\"&ROWS(tirs)))),ROWS($1:$17))),\"\")","v":0},{"$f":"IF(ROWS($1:$18)<=COUNTIF(joueurs,$B93),INDEX(tirs,SMALL(IF(joueurs=$B93,ROW(INDIRECT(\"1:\"&ROWS(tirs)))),ROWS($1:$18))),\"\")","v":0},{"$f":"IF(ROWS($1:$19)<=COUNTIF(joueurs,$B93),INDEX(tirs,SMALL(IF(joueurs=$B93,ROW(INDIRECT(\"1:\"&ROWS(tirs)))),ROWS($1:$19))),\"\")","v":0},{"$f":"IF(ROWS($1:$20)<=COUNTIF(joueurs,$B93),INDEX(tirs,SMALL(IF(joueurs=$B93,ROW(INDIRECT(\"1:\"&ROWS(tirs)))),ROWS($1:$20))),\"\")","v":0},{"$f":"IF(ROWS($1:$11)<=COUNTIF(joueurs,$B93),INDEX(bontirs,SMALL(IF(joueurs=$B93,ROW(INDIRECT(\"1:\"&ROWS(bontirs)))),ROWS($1:$11))),\"\")","v":0},{"$f":"IF(ROWS($1:$12)<=COUNTIF(joueurs,$B93),INDEX(bontirs,SMALL(IF(joueurs=$B93,ROW(INDIRECT(\"1:\"&ROWS(bontirs)))),ROWS($1:$12))),\"\")","v":0},{"$f":"IF(ROWS($1:$13)<=COUNTIF(joueurs,$B93),INDEX(bontirs,SMALL(IF(joueurs=$B93,ROW(INDIRECT(\"1:\"&ROWS(bontirs)))),ROWS($1:$13))),\"\")","v":0},{"$f":"IF(ROWS($1:$14)<=COUNTIF(joueurs,$B93),INDEX(bontirs,SMALL(IF(joueurs=$B93,ROW(INDIRECT(\"1:\"&ROWS(bontirs)))),ROWS($1:$14))),\"\")","v":0},{"$f":"IF(ROWS($1:$15)<=COUNTIF(joueurs,$B93),INDEX(bontirs,SMALL(IF(joueurs=$B93,ROW(INDIRECT(\"1:\"&ROWS(bontirs)))),ROWS($1:$15))),\"\")","v":0},{"$f":"IF(ROWS($1:$16)<=COUNTIF(joueurs,$B93),INDEX(bontirs,SMALL(IF(joueurs=$B93,ROW(INDIRECT(\"1:\"&ROWS(bontirs)))),ROWS($1:$16))),\"\")","v":0},{"$f":"IF(ROWS($1:$17)<=COUNTIF(joueurs,$B93),INDEX(bontirs,SMALL(IF(joueurs=$B93,ROW(INDIRECT(\"1:\"&ROWS(bontirs)))),ROWS($1:$17))),\"\")","v":0},{"$f":"IF(ROWS($1:$18)<=COUNTIF(joueurs,$B93),INDEX(bontirs,SMALL(IF(joueurs=$B93,ROW(INDIRECT(\"1:\"&ROWS(bontirs)))),ROWS($1:$18))),\"\")","v":0},{"$f":"IF(ROWS($1:$19)<=COUNTIF(joueurs,$B93),INDEX(bontirs,SMALL(IF(joueurs=$B93,ROW(INDIRECT(\"1:\"&ROWS(bontirs)))),ROWS($1:$19))),\"\")","v":0},{"$f":"IF(ROWS($1:$20)<=COUNTIF(joueurs,$B93),INDEX(bontirs,SMALL(IF(joueurs=$B93,ROW(INDIRECT(\"1:\"&ROWS(bontirs)))),ROWS($1:$20))),\"\")","v":0},{"$f":"IF(ROWS($1:$11)<=COUNTIF(joueurs,$B93),INDEX(points,SMALL(IF(joueurs=$B93,ROW(INDIRECT(\"1:\"&ROWS(points)))),ROWS($1:$11))),\"\")","v":0},{"$f":"IF(ROWS($1:$12)<=COUNTIF(joueurs,$B93),INDEX(points,SMALL(IF(joueurs=$B93,ROW(INDIRECT(\"1:\"&ROWS(points)))),ROWS($1:$12))),\"\")","v":0},{"$f":"IF(ROWS($1:$13)<=COUNTIF(joueurs,$B93),INDEX(points,SMALL(IF(joueurs=$B93,ROW(INDIRECT(\"1:\"&ROWS(points)))),ROWS($1:$13))),\"\")","v":0},{"$f":"IF(ROWS($1:$14)<=COUNTIF(joueurs,$B93),INDEX(points,SMALL(IF(joueurs=$B93,ROW(INDIRECT(\"1:\"&ROWS(points)))),ROWS($1:$14))),\"\")","v":0},{"$f":"IF(ROWS($1:$15)<=COUNTIF(joueurs,$B93),INDEX(points,SMALL(IF(joueurs=$B93,ROW(INDIRECT(\"1:\"&ROWS(points)))),ROWS($1:$15))),\"\")","v":0},{"$f":"IF(ROWS($1:$16)<=COUNTIF(joueurs,$B93),INDEX(points,SMALL(IF(joueurs=$B93,ROW(INDIRECT(\"1:\"&ROWS(points)))),ROWS($1:$16))),\"\")","v":0},{"$f":"IF(ROWS($1:$17)<=COUNTIF(joueurs,$B93),INDEX(points,SMALL(IF(joueurs=$B93,ROW(INDIRECT(\"1:\"&ROWS(points)))),ROWS($1:$17))),\"\")","v":0},{"$f":"IF(ROWS($1:$18)<=COUNTIF(joueurs,$B93),INDEX(points,SMALL(IF(joueurs=$B93,ROW(INDIRECT(\"1:\"&ROWS(points)))),ROWS($1:$18))),\"\")","v":0},{"$f":"IF(ROWS($1:$19)<=COUNTIF(joueurs,$B93),INDEX(points,SMALL(IF(joueurs=$B93,ROW(INDIRECT(\"1:\"&ROWS(points)))),ROWS($1:$19))),\"\")","v":0},{"$f":"IF(ROWS($1:$20)<=COUNTIF(points,$B93),INDEX(fautes,SMALL(IF(joueurs=$B93,ROW(INDIRECT(\"1:\"&ROWS(points)))),ROWS($1:$20))),\"\")","v":0},{"$f":"IF(ROWS($1:$11)<=COUNTIF(joueurs,$B93),INDEX(victoires,SMALL(IF(joueurs=$B93,ROW(INDIRECT(\"1:\"&ROWS(victoires)))),ROWS($1:$11))),\"\")","v":0},{"$f":"IF(ROWS($1:$12)<=COUNTIF(joueurs,$B93),INDEX(victoires,SMALL(IF(joueurs=$B93,ROW(INDIRECT(\"1:\"&ROWS(victoires)))),ROWS($1:$12))),\"\")","v":0},{"$f":"IF(ROWS($1:$13)<=COUNTIF(joueurs,$B93),INDEX(victoires,SMALL(IF(joueurs=$B93,ROW(INDIRECT(\"1:\"&ROWS(victoires)))),ROWS($1:$13))),\"\")","v":0},{"$f":"IF(ROWS($1:$14)<=COUNTIF(joueurs,$B93),INDEX(victoires,SMALL(IF(joueurs=$B93,ROW(INDIRECT(\"1:\"&ROWS(victoires)))),ROWS($1:$14))),\"\")","v":0},{"$f":"IF(ROWS($1:$15)<=COUNTIF(joueurs,$B93),INDEX(victoires,SMALL(IF(joueurs=$B93,ROW(INDIRECT(\"1:\"&ROWS(victoires)))),ROWS($1:$15))),\"\")","v":0},{"$f":"IF(ROWS($1:$16)<=COUNTIF(joueurs,$B93),INDEX(victoires,SMALL(IF(joueurs=$B93,ROW(INDIRECT(\"1:\"&ROWS(victoires)))),ROWS($1:$16))),\"\")","v":0},{"$f":"IF(ROWS($1:$17)<=COUNTIF(joueurs,$B93),INDEX(victoires,SMALL(IF(joueurs=$B93,ROW(INDIRECT(\"1:\"&ROWS(victoires)))),ROWS($1:$17))),\"\")","v":0},{"$f":"IF(ROWS($1:$18)<=COUNTIF(joueurs,$B93),INDEX(victoires,SMALL(IF(joueurs=$B93,ROW(INDIRECT(\"1:\"&ROWS(victoires)))),ROWS($1:$18))),\"\")","v":0},{"$f":"IF(ROWS($1:$19)<=COUNTIF(joueurs,$B93),INDEX(victoires,SMALL(IF(joueurs=$B93,ROW(INDIRECT(\"1:\"&ROWS(victoires)))),ROWS($1:$19))),\"\")","v":0},{"$f":"IF(ROWS($1:$20)<=COUNTIF(joueurs,$B93),INDEX(victoires,SMALL(IF(joueurs=$B93,ROW(INDIRECT(\"1:\"&ROWS(victoires)))),ROWS($1:$20))),\"\")","v":0}]
[null,null,null,{"$f":"IF(ROWS($1:$21)<=COUNTIF(joueurs,$B93),INDEX(fautes,SMALL(IF(joueurs=$B93,ROW(INDIRECT(\"1:\"&ROWS(fautes)))),ROWS($1:$21))),\"\")","v":0},{"$f":"IF(ROWS($1:$22)<=COUNTIF(joueurs,$B93),INDEX(fautes,SMALL(IF(joueurs=$B93,ROW(INDIRECT(\"1:\"&ROWS(fautes)))),ROWS($1:$22))),\"\")","v":0},{"$f":"IF(ROWS($1:$23)<=COUNTIF(joueurs,$B93),INDEX(fautes,SMALL(IF(joueurs=$B93,ROW(INDIRECT(\"1:\"&ROWS(fautes)))),ROWS($1:$23))),\"\")","v":0},{"$f":"IF(ROWS($1:$24)<=COUNTIF(joueurs,$B93),INDEX(fautes,SMALL(IF(joueurs=$B93,ROW(INDIRECT(\"1:\"&ROWS(fautes)))),ROWS($1:$24))),\"\")","v":0},{"$f":"IF(ROWS($1:$25)<=COUNTIF(joueurs,$B93),INDEX(fautes,SMALL(IF(joueurs=$B93,ROW(INDIRECT(\"1:\"&ROWS(fautes)))),ROWS($1:$25))),\"\")","v":0},{"$f":"IF(ROWS($1:$26)<=COUNTIF(joueurs,$B93),INDEX(fautes,SMALL(IF(joueurs=$B93,ROW(INDIRECT(\"1:\"&ROWS(fautes)))),ROWS($1:$26))),\"\")","v":0},{"$f":"IF(ROWS($1:$27)<=COUNTIF(joueurs,$B93),INDEX(fautes,SMALL(IF(joueurs=$B93,ROW(INDIRECT(\"1:\"&ROWS(fautes)))),ROWS($1:$27))),\"\")","v":0},{"$f":"IF(ROWS($1:$28)<=COUNTIF(joueurs,$B93),INDEX(fautes,SMALL(IF(joueurs=$B93,ROW(INDIRECT(\"1:\"&ROWS(fautes)))),ROWS($1:$28))),\"\")","v":0},{"$f":"IF(ROWS($1:$29)<=COUNTIF(joueurs,$B93),INDEX(fautes,SMALL(IF(joueurs=$B93,ROW(INDIRECT(\"1:\"&ROWS(fautes)))),ROWS($1:$29))),\"\")","v":0},{"$f":"IF(ROWS($1:$30)<=COUNTIF(joueurs,$B93),INDEX(fautes,SMALL(IF(joueurs=$B93,ROW(INDIRECT(\"1:\"&ROWS(fautes)))),ROWS($1:$30))),\"\")","v":0},{"$f":"IF(ROWS($1:$21)<=COUNTIF(joueurs,$B93),INDEX(ballonperdus,SMALL(IF(joueurs=$B93,ROW(INDIRECT(\"1:\"&ROWS(ballonperdus)))),ROWS($1:$21))),\"\")","v":0},{"$f":"IF(ROWS($1:$22)<=COUNTIF(joueurs,$B93),INDEX(ballonperdus,SMALL(IF(joueurs=$B93,ROW(INDIRECT(\"1:\"&ROWS(ballonperdus)))),ROWS($1:$22))),\"\")","v":0},{"$f":"IF(ROWS($1:$23)<=COUNTIF(joueurs,$B93),INDEX(ballonperdus,SMALL(IF(joueurs=$B93,ROW(INDIRECT(\"1:\"&ROWS(ballonperdus)))),ROWS($1:$23))),\"\")","v":0},{"$f":"IF(ROWS($1:$24)<=COUNTIF(joueurs,$B93),INDEX(ballonperdus,SMALL(IF(joueurs=$B93,ROW(INDIRECT(\"1:\"&ROWS(ballonperdus)))),ROWS($1:$24))),\"\")","v":0},{"$f":"IF(ROWS($1:$25)<=COUNTIF(joueurs,$B93),INDEX(ballonperdus,SMALL(IF(joueurs=$B93,ROW(INDIRECT(\"1:\"&ROWS(ballonperdus)))),ROWS($1:$25))),\"\")","v":0},{"$f":"IF(ROWS($1:$26)<=COUNTIF(joueurs,$B93),INDEX(ballonperdus,SMALL(IF(joueurs=$B93,ROW(INDIRECT(\"1:\"&ROWS(ballonperdus)))),ROWS($1:$26))),\"\")","v":0},{"$f":"IF(ROWS($1:$27)<=COUNTIF(joueurs,$B93),INDEX(ballonperdus,SMALL(IF(joueurs=$B93,ROW(INDIRECT(\"1:\"&ROWS(ballonperdus)))),ROWS($1:$27))),\"\")","v":0},{"$f":"IF(ROWS($1:$28)<=COUNTIF(joueurs,$B93),INDEX(ballonperdus,SMALL(IF(joueurs=$B93,ROW(INDIRECT(\"1:\"&ROWS(ballonperdus)))),ROWS($1:$28))),\"\")","v":0},{"$f":"IF(ROWS($1:$29)<=COUNTIF(joueurs,$B93),INDEX(ballonperdus,SMALL(IF(joueurs=$B93,ROW(INDIRECT(\"1:\"&ROWS(ballonperdus)))),ROWS($1:$29))),\"\")","v":0},{"$f":"IF(ROWS($1:$30)<=COUNTIF(joueurs,$B93),INDEX(ballonperdus,SMALL(IF(joueurs=$B93,ROW(INDIRECT(\"1:\"&ROWS(ballonperdus)))),ROWS($1:$30))),\"\")","v":0},{"$f":"IF(ROWS($1:$21)<=COUNTIF(joueurs,$B93),INDEX(interceptions,SMALL(IF(joueurs=$B93,ROW(INDIRECT(\"1:\"&ROWS(interceptions)))),ROWS($1:$21))),\"\")","v":0},{"$f":"IF(ROWS($1:$22)<=COUNTIF(joueurs,$B93),INDEX(interceptions,SMALL(IF(joueurs=$B93,ROW(INDIRECT(\"1:\"&ROWS(interceptions)))),ROWS($1:$22))),\"\")","v":0},{"$f":"IF(ROWS($1:$23)<=COUNTIF(joueurs,$B93),INDEX(interceptions,SMALL(IF(joueurs=$B93,ROW(INDIRECT(\"1:\"&ROWS(interceptions)))),ROWS($1:$23))),\"\")","v":0},{"$f":"IF(ROWS($1:$24)<=COUNTIF(joueurs,$B93),INDEX(interceptions,SMALL(IF(joueurs=$B93,ROW(INDIRECT(\"1:\"&ROWS(interceptions)))),ROWS($1:$24))),\"\")","v":0},{"$f":"IF(ROWS($1:$25)<=COUNTIF(joueurs,$B93),INDEX(interceptions,SMALL(IF(joueurs=$B93,ROW(INDIRECT(\"1:\"&ROWS(interceptions)))),ROWS($1:$25))),\"\")","v":0},{"$f":"IF(ROWS($1:$26)<=COUNTIF(joueurs,$B93),INDEX(interceptions,SMALL(IF(joueurs=$B93,ROW(INDIRECT(\"1:\"&ROWS(interceptions)))),ROWS($1:$26))),\"\")","v":0},{"$f":"IF(ROWS($1:$27)<=COUNTIF(joueurs,$B93),INDEX(interceptions,SMALL(IF(joueurs=$B93,ROW(INDIRECT(\"1:\"&ROWS(interceptions)))),ROWS($1:$27))),\"\")","v":0},{"$f":"IF(ROWS($1:$28)<=COUNTIF(joueurs,$B93),INDEX(interceptions,SMALL(IF(joueurs=$B93,ROW(INDIRECT(\"1:\"&ROWS(interceptions)))),ROWS($1:$28))),\"\")","v":0},{"$f":"IF(ROWS($1:$29)<=COUNTIF(joueurs,$B93),INDEX(interceptions,SMALL(IF(joueurs=$B93,ROW(INDIRECT(\"1:\"&ROWS(interceptions)))),ROWS($1:$29))),\"\")","v":0},{"$f":"IF(ROWS($1:$30)<=COUNTIF(joueurs,$B93),INDEX(interceptions,SMALL(IF(joueurs=$B93,ROW(INDIRECT(\"1:\"&ROWS(interceptions)))),ROWS($1:$30))),\"\")","v":0},{"$f":"IF(ROWS($1:$21)<=COUNTIF(joueurs,$B93),INDEX(ballonrecuperes,SMALL(IF(joueurs=$B93,ROW(INDIRECT(\"1:\"&ROWS(ballonrecuperes)))),ROWS($1:$21))),\"\")","v":0},{"$f":"IF(ROWS($1:$22)<=COUNTIF(joueurs,$B93),INDEX(ballonrecuperes,SMALL(IF(joueurs=$B93,ROW(INDIRECT(\"1:\"&ROWS(ballonrecuperes)))),ROWS($1:$22))),\"\")","v":0},{"$f":"IF(ROWS($1:$23)<=COUNTIF(joueurs,$B93),INDEX(ballonrecuperes,SMALL(IF(joueurs=$B93,ROW(INDIRECT(\"1:\"&ROWS(ballonrecuperes)))),ROWS($1:$23))),\"\")","v":0},{"$f":"IF(ROWS($1:$24)<=COUNTIF(joueurs,$B93),INDEX(ballonrecuperes,SMALL(IF(joueurs=$B93,ROW(INDIRECT(\"1:\"&ROWS(ballonrecuperes)))),ROWS($1:$24))),\"\")","v":0},{"$f":"IF(ROWS($1:$25)<=COUNTIF(joueurs,$B93),INDEX(ballonrecuperes,SMALL(IF(joueurs=$B93,ROW(INDIRECT(\"1:\"&ROWS(ballonrecuperes)))),ROWS($1:$25))),\"\")","v":0},{"$f":"IF(ROWS($1:$26)<=COUNTIF(joueurs,$B93),INDEX(ballonrecuperes,SMALL(IF(joueurs=$B93,ROW(INDIRECT(\"1:\"&ROWS(ballonrecuperes)))),ROWS($1:$26))),\"\")","v":0},{"$f":"IF(ROWS($1:$27)<=COUNTIF(joueurs,$B93),INDEX(ballonrecuperes,SMALL(IF(joueurs=$B93,ROW(INDIRECT(\"1:\"&ROWS(ballonrecuperes)))),ROWS($1:$27))),\"\")","v":0},{"$f":"IF(ROWS($1:$28)<=COUNTIF(joueurs,$B93),INDEX(ballonrecuperes,SMALL(IF(joueurs=$B93,ROW(INDIRECT(\"1:\"&ROWS(ballonrecuperes)))),ROWS($1:$28))),\"\")","v":0},{"$f":"IF(ROWS($1:$29)<=COUNTIF(joueurs,$B93),INDEX(ballonrecuperes,SMALL(IF(joueurs=$B93,ROW(INDIRECT(\"1:\"&ROWS(ballonrecuperes)))),ROWS($1:$29))),\"\")","v":0},{"$f":"IF(ROWS($1:$30)<=COUNTIF(joueurs,$B93),INDEX(ballonrecuperes,SMALL(IF(joueurs=$B93,ROW(INDIRECT(\"1:\"&ROWS(ballonrecuperes)))),ROWS($1:$30))),\"\")","v":0},{"$f":"IF(ROWS($1:$21)<=COUNTIF(joueurs,$B93),INDEX(tirs,SMALL(IF(joueurs=$B93,ROW(INDIRECT(\"1:\"&ROWS(tirs)))),ROWS($1:$21))),\"\")","v":0},{"$f":"IF(ROWS($1:$22)<=COUNTIF(joueurs,$B93),INDEX(tirs,SMALL(IF(joueurs=$B93,ROW(INDIRECT(\"1:\"&ROWS(tirs)))),ROWS($1:$22))),\"\")","v":0},{"$f":"IF(ROWS($1:$23)<=COUNTIF(joueurs,$B93),INDEX(tirs,SMALL(IF(joueurs=$B93,ROW(INDIRECT(\"1:\"&ROWS(tirs)))),ROWS($1:$23))),\"\")","v":0},{"$f":"IF(ROWS($1:$24)<=COUNTIF(joueurs,$B93),INDEX(tirs,SMALL(IF(joueurs=$B93,ROW(INDIRECT(\"1:\"&ROWS(tirs)))),ROWS($1:$24))),\"\")","v":0},{"$f":"IF(ROWS($1:$25)<=COUNTIF(joueurs,$B93),INDEX(tirs,SMALL(IF(joueurs=$B93,ROW(INDIRECT(\"1:\"&ROWS(tirs)))),ROWS($1:$25))),\"\")","v":0},{"$f":"IF(ROWS($1:$26)<=COUNTIF(joueurs,$B93),INDEX(tirs,SMALL(IF(joueurs=$B93,ROW(INDIRECT(\"1:\"&ROWS(tirs)))),ROWS($1:$26))),\"\")","v":0},{"$f":"IF(ROWS($1:$27)<=COUNTIF(joueurs,$B93),INDEX(tirs,SMALL(IF(joueurs=$B93,ROW(INDIRECT(\"1:\"&ROWS(tirs)))),ROWS($1:$27))),\"\")","v":0},{"$f":"IF(ROWS($1:$28)<=COUNTIF(joueurs,$B93),INDEX(tirs,SMALL(IF(joueurs=$B93,ROW(INDIRECT(\"1:\"&ROWS(tirs)))),ROWS($1:$28))),\"\")","v":0},{"$f":"IF(ROWS($1:$29)<=COUNTIF(joueurs,$B93),INDEX(tirs,SMALL(IF(joueurs=$B93,ROW(INDIRECT(\"1:\"&ROWS(tirs)))),ROWS($1:$29))),\"\")","v":0},{"$f":"IF(ROWS($1:$30)<=COUNTIF(joueurs,$B93),INDEX(tirs,SMALL(IF(joueurs=$B93,ROW(INDIRECT(\"1:\"&ROWS(tirs)))),ROWS($1:$30))),\"\")","v":0},{"$f":"IF(ROWS($1:$21)<=COUNTIF(joueurs,$B93),INDEX(bontirs,SMALL(IF(joueurs=$B93,ROW(INDIRECT(\"1:\"&ROWS(bontirs)))),ROWS($1:$21))),\"\")","v":0},{"$f":"IF(ROWS($1:$22)<=COUNTIF(joueurs,$B93),INDEX(bontirs,SMALL(IF(joueurs=$B93,ROW(INDIRECT(\"1:\"&ROWS(bontirs)))),ROWS($1:$22))),\"\")","v":0},{"$f":"IF(ROWS($1:$23)<=COUNTIF(joueurs,$B93),INDEX(bontirs,SMALL(IF(joueurs=$B93,ROW(INDIRECT(\"1:\"&ROWS(bontirs)))),ROWS($1:$23))),\"\")","v":0},{"$f":"IF(ROWS($1:$24)<=COUNTIF(joueurs,$B93),INDEX(bontirs,SMALL(IF(joueurs=$B93,ROW(INDIRECT(\"1:\"&ROWS(bontirs)))),ROWS($1:$24))),\"\")","v":0},{"$f":"IF(ROWS($1:$25)<=COUNTIF(joueurs,$B93),INDEX(bontirs,SMALL(IF(joueurs=$B93,ROW(INDIRECT(\"1:\"&ROWS(bontirs)))),ROWS($1:$25))),\"\")","v":0},{"$f":"IF(ROWS($1:$26)<=COUNTIF(joueurs,$B93),INDEX(bontirs,SMALL(IF(joueurs=$B93,ROW(INDIRECT(\"1:\"&ROWS(bontirs)))),ROWS($1:$26))),\"\")","v":0},{"$f":"IF(ROWS($1:$27)<=COUNTIF(joueurs,$B93),INDEX(bontirs,SMALL(IF(joueurs=$B93,ROW(INDIRECT(\"1:\"&ROWS(bontirs)))),ROWS($1:$27))),\"\")","v":0},{"$f":"IF(ROWS($1:$28)<=COUNTIF(joueurs,$B93),INDEX(bontirs,SMALL(IF(joueurs=$B93,ROW(INDIRECT(\"1:\"&ROWS(bontirs)))),ROWS($1:$28))),\"\")","v":0},{"$f":"IF(ROWS($1:$29)<=COUNTIF(joueurs,$B93),INDEX(bontirs,SMALL(IF(joueurs=$B93,ROW(INDIRECT(\"1:\"&ROWS(bontirs)))),ROWS($1:$29))),\"\")","v":0},{"$f":"IF(ROWS($1:$30)<=COUNTIF(joueurs,$B93),INDEX(bontirs,SMALL(IF(joueurs=$B93,ROW(INDIRECT(\"1:\"&ROWS(bontirs)))),ROWS($1:$30))),\"\")","v":0},{"$f":"IF(ROWS($1:$21)<=COUNTIF(joueurs,$B93),INDEX(points,SMALL(IF(joueurs=$B93,ROW(INDIRECT(\"1:\"&ROWS(points)))),ROWS($1:$21))),\"\")","v":0},{"$f":"IF(ROWS($1:$22)<=COUNTIF(joueurs,$B93),INDEX(points,SMALL(IF(joueurs=$B93,ROW(INDIRECT(\"1:\"&ROWS(points)))),ROWS($1:$22))),\"\")","v":0},{"$f":"IF(ROWS($1:$23)<=COUNTIF(joueurs,$B93),INDEX(points,SMALL(IF(joueurs=$B93,ROW(INDIRECT(\"1:\"&ROWS(points)))),ROWS($1:$23))),\"\")","v":0},{"$f":"IF(ROWS($1:$24)<=COUNTIF(joueurs,$B93),INDEX(points,SMALL(IF(joueurs=$B93,ROW(INDIRECT(\"1:\"&ROWS(points)))),ROWS($1:$24))),\"\")","v":0},{"$f":"IF(ROWS($1:$25)<=COUNTIF(joueurs,$B93),INDEX(points,SMALL(IF(joueurs=$B93,ROW(INDIRECT(\"1:\"&ROWS(points)))),ROWS($1:$25))),\"\")","v":0},{"$f":"IF(ROWS($1:$26)<=COUNTIF(joueurs,$B93),INDEX(points,SMALL(IF(joueurs=$B93,ROW(INDIRECT(\"1:\"&ROWS(points)))),ROWS($1:$26))),\"\")","v":0},{"$f":"IF(ROWS($1:$27)<=COUNTIF(joueurs,$B93),INDEX(points,SMALL(IF(joueurs=$B93,ROW(INDIRECT(\"1:\"&ROWS(points)))),ROWS($1:$27))),\"\")","v":0},{"$f":"IF(ROWS($1:$28)<=COUNTIF(joueurs,$B93),INDEX(points,SMALL(IF(joueurs=$B93,ROW(INDIRECT(\"1:\"&ROWS(points)))),ROWS($1:$28))),\"\")","v":0},{"$f":"IF(ROWS($1:$29)<=COUNTIF(joueurs,$B93),INDEX(points,SMALL(IF(joueurs=$B93,ROW(INDIRECT(\"1:\"&ROWS(points)))),ROWS($1:$29))),\"\")","v":0},{"$f":"IF(ROWS($1:$30)<=COUNTIF(joueurs,$B93),INDEX(points,SMALL(IF(joueurs=$B93,ROW(INDIRECT(\"1:\"&ROWS(points)))),ROWS($1:$30))),\"\")","v":0},{"$f":"IF(ROWS($1:$21)<=COUNTIF(joueurs,$B93),INDEX(victoires,SMALL(IF(joueurs=$B93,ROW(INDIRECT(\"1:\"&ROWS(victoires)))),ROWS($1:$21))),\"\")","v":0},{"$f":"IF(ROWS($1:$22)<=COUNTIF(joueurs,$B93),INDEX(victoires,SMALL(IF(joueurs=$B93,ROW(INDIRECT(\"1:\"&ROWS(victoires)))),ROWS($1:$22))),\"\")","v":0},{"$f":"IF(ROWS($1:$23)<=COUNTIF(joueurs,$B93),INDEX(victoires,SMALL(IF(joueurs=$B93,ROW(INDIRECT(\"1:\"&ROWS(victoires)))),ROWS($1:$23))),\"\")","v":0},{"$f":"IF(ROWS($1:$24)<=COUNTIF(joueurs,$B93),INDEX(victoires,SMALL(IF(joueurs=$B93,ROW(INDIRECT(\"1:\"&ROWS(victoires)))),ROWS($1:$24))),\"\")","v":0},{"$f":"IF(ROWS($1:$25)<=COUNTIF(joueurs,$B93),INDEX(victoires,SMALL(IF(joueurs=$B93,ROW(INDIRECT(\"1:\"&ROWS(victoires)))),ROWS($1:$25))),\"\")","v":0},{"$f":"IF(ROWS($1:$26)<=COUNTIF(joueurs,$B93),INDEX(victoires,SMALL(IF(joueurs=$B93,ROW(INDIRECT(\"1:\"&ROWS(victoires)))),ROWS($1:$26))),\"\")","v":0},{"$f":"IF(ROWS($1:$27)<=COUNTIF(joueurs,$B93),INDEX(victoires,SMALL(IF(joueurs=$B93,ROW(INDIRECT(\"1:\"&ROWS(victoires)))),ROWS($1:$27))),\"\")","v":0},{"$f":"IF(ROWS($1:$28)<=COUNTIF(joueurs,$B93),INDEX(victoires,SMALL(IF(joueurs=$B93,ROW(INDIRECT(\"1:\"&ROWS(victoires)))),ROWS($1:$28))),\"\")","v":0},{"$f":"IF(ROWS($1:$29)<=COUNTIF(joueurs,$B93),INDEX(victoires,SMALL(IF(joueurs=$B93,ROW(INDIRECT(\"1:\"&ROWS(victoires)))),ROWS($1:$29))),\"\")","v":0},{"$f":"IF(ROWS($1:$30)<=COUNTIF(joueurs,$B93),INDEX(victoires,SMALL(IF(joueurs=$B93,ROW(INDIRECT(\"1:\"&ROWS(victoires)))),ROWS($1:$30))),\"\")","v":0}]
[null,null,null,{"$f":"IF(ROWS($1:$31)<=COUNTIF(joueurs,$B93),INDEX(fautes,SMALL(IF(joueurs=$B93,ROW(INDIRECT(\"1:\"&ROWS(fautes)))),ROWS($1:$31))),\"\")","v":0},{"$f":"IF(ROWS($1:$32)<=COUNTIF(joueurs,$B93),INDEX(fautes,SMALL(IF(joueurs=$B93,ROW(INDIRECT(\"1:\"&ROWS(fautes)))),ROWS($1:$32))),\"\")","v":0},{"$f":"IF(ROWS($1:$33)<=COUNTIF(joueurs,$B93),INDEX(fautes,SMALL(IF(joueurs=$B93,ROW(INDIRECT(\"1:\"&ROWS(fautes)))),ROWS($1:$33))),\"\")","v":0},{"$f":"IF(ROWS($1:$34)<=COUNTIF(joueurs,$B93),INDEX(fautes,SMALL(IF(joueurs=$B93,ROW(INDIRECT(\"1:\"&ROWS(fautes)))),ROWS($1:$34))),\"\")","v":0},{"$f":"IF(ROWS($1:$35)<=COUNTIF(joueurs,$B93),INDEX(fautes,SMALL(IF(joueurs=$B93,ROW(INDIRECT(\"1:\"&ROWS(fautes)))),ROWS($1:$35))),\"\")","v":0},{"$f":"IF(ROWS($1:$36)<=COUNTIF(joueurs,$B93),INDEX(fautes,SMALL(IF(joueurs=$B93,ROW(INDIRECT(\"1:\"&ROWS(fautes)))),ROWS($1:$36))),\"\")","v":0},{"$f":"IF(ROWS($1:$37)<=COUNTIF(joueurs,$B93),INDEX(fautes,SMALL(IF(joueurs=$B93,ROW(INDIRECT(\"1:\"&ROWS(fautes)))),ROWS($1:$37))),\"\")","v":0},{"$f":"IF(ROWS($1:$38)<=COUNTIF(joueurs,$B93),INDEX(fautes,SMALL(IF(joueurs=$B93,ROW(INDIRECT(\"1:\"&ROWS(fautes)))),ROWS($1:$38))),\"\")","v":0},{"$f":"IF(ROWS($1:$39)<=COUNTIF(joueurs,$B93),INDEX(fautes,SMALL(IF(joueurs=$B93,ROW(INDIRECT(\"1:\"&ROWS(fautes)))),ROWS($1:$39))),\"\")","v":0},{"$f":"IF(ROWS($1:$40)<=COUNTIF(joueurs,$B93),INDEX(fautes,SMALL(IF(joueurs=$B93,ROW(INDIRECT(\"1:\"&ROWS(fautes)))),ROWS($1:$40))),\"\")","v":0},{"$f":"IF(ROWS($1:$31)<=COUNTIF(joueurs,$B93),INDEX(ballonperdus,SMALL(IF(joueurs=$B93,ROW(INDIRECT(\"1:\"&ROWS(ballonperdus)))),ROWS($1:$31))),\"\")","v":0},{"$f":"IF(ROWS($1:$32)<=COUNTIF(joueurs,$B93),INDEX(ballonperdus,SMALL(IF(joueurs=$B93,ROW(INDIRECT(\"1:\"&ROWS(ballonperdus)))),ROWS($1:$32))),\"\")","v":0},{"$f":"IF(ROWS($1:$33)<=COUNTIF(joueurs,$B93),INDEX(ballonperdus,SMALL(IF(joueurs=$B93,ROW(INDIRECT(\"1:\"&ROWS(ballonperdus)))),ROWS($1:$33))),\"\")","v":0},{"$f":"IF(ROWS($1:$34)<=COUNTIF(joueurs,$B93),INDEX(ballonperdus,SMALL(IF(joueurs=$B93,ROW(INDIRECT(\"1:\"&ROWS(ballonperdus)))),ROWS($1:$34))),\"\")","v":0},{"$f":"IF(ROWS($1:$35)<=COUNTIF(joueurs,$B93),INDEX(ballonperdus,SMALL(IF(joueurs=$B93,ROW(INDIRECT(\"1:\"&ROWS(ballonperdus)))),ROWS($1:$35))),\"\")","v":0},{"$f":"IF(ROWS($1:$36)<=COUNTIF(joueurs,$B93),INDEX(ballonperdus,SMALL(IF(joueurs=$B93,ROW(INDIRECT(\"1:\"&ROWS(ballonperdus)))),ROWS($1:$36))),\"\")","v":0},{"$f":"IF(ROWS($1:$37)<=COUNTIF(joueurs,$B93),INDEX(ballonperdus,SMALL(IF(joueurs=$B93,ROW(INDIRECT(\"1:\"&ROWS(ballonperdus)))),ROWS($1:$37))),\"\")","v":0},{"$f":"IF(ROWS($1:$38)<=COUNTIF(joueurs,$B93),INDEX(ballonperdus,SMALL(IF(joueurs=$B93,ROW(INDIRECT(\"1:\"&ROWS(ballonperdus)))),ROWS($1:$38))),\"\")","v":0},{"$f":"IF(ROWS($1:$39)<=COUNTIF(joueurs,$B93),INDEX(ballonperdus,SMALL(IF(joueurs=$B93,ROW(INDIRECT(\"1:\"&ROWS(ballonperdus)))),ROWS($1:$39))),\"\")","v":0},{"$f":"IF(ROWS($1:$40)<=COUNTIF(joueurs,$B93),INDEX(ballonperdus,SMALL(IF(joueurs=$B93,ROW(INDIRECT(\"1:\"&ROWS(ballonperdus)))),ROWS($1:$40))),\"\")","v":0},{"$f":"IF(ROWS($1:$31)<=COUNTIF(joueurs,$B93),INDEX(interceptions,SMALL(IF(joueurs=$B93,ROW(INDIRECT(\"1:\"&ROWS(interceptions)))),ROWS($1:$31))),\"\")","v":0},{"$f":"IF(ROWS($1:$32)<=COUNTIF(joueurs,$B93),INDEX(interceptions,SMALL(IF(joueurs=$B93,ROW(INDIRECT(\"1:\"&ROWS(interceptions)))),ROWS($1:$32))),\"\")","v":0},{"$f":"IF(ROWS($1:$33)<=COUNTIF(joueurs,$B93),INDEX(interceptions,SMALL(IF(joueurs=$B93,ROW(INDIRECT(\"1:\"&ROWS(interceptions)))),ROWS($1:$33))),\"\")","v":0},{"$f":"IF(ROWS($1:$34)<=COUNTIF(joueurs,$B93),INDEX(interceptions,SMALL(IF(joueurs=$B93,ROW(INDIRECT(\"1:\"&ROWS(interceptions)))),ROWS($1:$34))),\"\")","v":0},{"$f":"IF(ROWS($1:$35)<=COUNTIF(joueurs,$B93),INDEX(interceptions,SMALL(IF(joueurs=$B93,ROW(INDIRECT(\"1:\"&ROWS(interceptions)))),ROWS($1:$35))),\"\")","v":0},{"$f":"IF(ROWS($1:$36)<=COUNTIF(joueurs,$B93),INDEX(interceptions,SMALL(IF(joueurs=$B93,ROW(INDIRECT(\"1:\"&ROWS(interceptions)))),ROWS($1:$36))),\"\")","v":0},{"$f":"IF(ROWS($1:$37)<=COUNTIF(joueurs,$B93),INDEX(interceptions,SMALL(IF(joueurs=$B93,ROW(INDIRECT(\"1:\"&ROWS(interceptions)))),ROWS($1:$37))),\"\")","v":0},{"$f":"IF(ROWS($1:$38)<=COUNTIF(joueurs,$B93),INDEX(interceptions,SMALL(IF(joueurs=$B93,ROW(INDIRECT(\"1:\"&ROWS(interceptions)))),ROWS($1:$38))),\"\")","v":0},{"$f":"IF(ROWS($1:$39)<=COUNTIF(joueurs,$B93),INDEX(interceptions,SMALL(IF(joueurs=$B93,ROW(INDIRECT(\"1:\"&ROWS(interceptions)))),ROWS($1:$39))),\"\")","v":0},{"$f":"IF(ROWS($1:$40)<=COUNTIF(joueurs,$B93),INDEX(interceptions,SMALL(IF(joueurs=$B93,ROW(INDIRECT(\"1:\"&ROWS(interceptions)))),ROWS($1:$40))),\"\")","v":0},{"$f":"IF(ROWS($1:$31)<=COUNTIF(joueurs,$B93),INDEX(ballonrecuperes,SMALL(IF(joueurs=$B93,ROW(INDIRECT(\"1:\"&ROWS(ballonrecuperes)))),ROWS($1:$31))),\"\")","v":0},{"$f":"IF(ROWS($1:$32)<=COUNTIF(joueurs,$B93),INDEX(ballonrecuperes,SMALL(IF(joueurs=$B93,ROW(INDIRECT(\"1:\"&ROWS(ballonrecuperes)))),ROWS($1:$32))),\"\")","v":0},{"$f":"IF(ROWS($1:$33)<=COUNTIF(joueurs,$B93),INDEX(ballonrecuperes,SMALL(IF(joueurs=$B93,ROW(INDIRECT(\"1:\"&ROWS(ballonrecuperes)))),ROWS($1:$33))),\"\")","v":0},{"$f":"IF(ROWS($1:$34)<=COUNTIF(joueurs,$B93),INDEX(ballonrecuperes,SMALL(IF(joueurs=$B93,ROW(INDIRECT(\"1:\"&ROWS(ballonrecuperes)))),ROWS($1:$34))),\"\")","v":0},{"$f":"IF(ROWS($1:$35)<=COUNTIF(joueurs,$B93),INDEX(ballonrecuperes,SMALL(IF(joueurs=$B93,ROW(INDIRECT(\"1:\"&ROWS(ballonrecuperes)))),ROWS($1:$35))),\"\")","v":0},{"$f":"IF(ROWS($1:$36)<=COUNTIF(joueurs,$B93),INDEX(ballonrecuperes,SMALL(IF(joueurs=$B93,ROW(INDIRECT(\"1:\"&ROWS(ballonrecuperes)))),ROWS($1:$36))),\"\")","v":0},{"$f":"IF(ROWS($1:$37)<=COUNTIF(joueurs,$B93),INDEX(ballonrecuperes,SMALL(IF(joueurs=$B93,ROW(INDIRECT(\"1:\"&ROWS(ballonrecuperes)))),ROWS($1:$37))),\"\")","v":0},{"$f":"IF(ROWS($1:$38)<=COUNTIF(joueurs,$B93),INDEX(ballonrecuperes,SMALL(IF(joueurs=$B93,ROW(INDIRECT(\"1:\"&ROWS(ballonrecuperes)))),ROWS($1:$38))),\"\")","v":0},{"$f":"IF(ROWS($1:$39)<=COUNTIF(joueurs,$B93),INDEX(ballonrecuperes,SMALL(IF(joueurs=$B93,ROW(INDIRECT(\"1:\"&ROWS(ballonrecuperes)))),ROWS($1:$39))),\"\")","v":0},{"$f":"IF(ROWS($1:$40)<=COUNTIF(joueurs,$B93),INDEX(ballonrecuperes,SMALL(IF(joueurs=$B93,ROW(INDIRECT(\"1:\"&ROWS(ballonrecuperes)))),ROWS($1:$40))),\"\")","v":0},{"$f":"IF(ROWS($1:$31)<=COUNTIF(joueurs,$B93),INDEX(tirs,SMALL(IF(joueurs=$B93,ROW(INDIRECT(\"1:\"&ROWS(tirs)))),ROWS($1:$31))),\"\")","v":0},{"$f":"IF(ROWS($1:$32)<=COUNTIF(joueurs,$B93),INDEX(tirs,SMALL(IF(joueurs=$B93,ROW(INDIRECT(\"1:\"&ROWS(tirs)))),ROWS($1:$32))),\"\")","v":0},{"$f":"IF(ROWS($1:$33)<=COUNTIF(joueurs,$B93),INDEX(tirs,SMALL(IF(joueurs=$B93,ROW(INDIRECT(\"1:\"&ROWS(tirs)))),ROWS($1:$33))),\"\")","v":0},{"$f":"IF(ROWS($1:$34)<=COUNTIF(joueurs,$B93),INDEX(tirs,SMALL(IF(joueurs=$B93,ROW(INDIRECT(\"1:\"&ROWS(tirs)))),ROWS($1:$34))),\"\")","v":0},{"$f":"IF(ROWS($1:$35)<=COUNTIF(joueurs,$B93),INDEX(tirs,SMALL(IF(joueurs=$B93,ROW(INDIRECT(\"1:\"&ROWS(tirs)))),ROWS($1:$35))),\"\")","v":0},{"$f":"IF(ROWS($1:$36)<=COUNTIF(joueurs,$B93),INDEX(tirs,SMALL(IF(joueurs=$B93,ROW(INDIRECT(\"1:\"&ROWS(tirs)))),ROWS($1:$36))),\"\")","v":0},{"$f":"IF(ROWS($1:$37)<=COUNTIF(joueurs,$B93),INDEX(tirs,SMALL(IF(joueurs=$B93,ROW(INDIRECT(\"1:\"&ROWS(tirs)))),ROWS($1:$37))),\"\")","v":0},{"$f":"IF(ROWS($1:$38)<=COUNTIF(joueurs,$B93),INDEX(tirs,SMALL(IF(joueurs=$B93,ROW(INDIRECT(\"1:\"&ROWS(tirs)))),ROWS($1:$38))),\"\")","v":0},{"$f":"IF(ROWS($1:$39)<=COUNTIF(joueurs,$B93),INDEX(tirs,SMALL(IF(joueurs=$B93,ROW(INDIRECT(\"1:\"&ROWS(tirs)))),ROWS($1:$39))),\"\")","v":0},{"$f":"IF(ROWS($1:$40)<=COUNTIF(joueurs,$B93),INDEX(tirs,SMALL(IF(joueurs=$B93,ROW(INDIRECT(\"1:\"&ROWS(tirs)))),ROWS($1:$40))),\"\")","v":0},{"$f":"IF(ROWS($1:$31)<=COUNTIF(joueurs,$B93),INDEX(bontirs,SMALL(IF(joueurs=$B93,ROW(INDIRECT(\"1:\"&ROWS(bontirs)))),ROWS($1:$31))),\"\")","v":0},{"$f":"IF(ROWS($1:$32)<=COUNTIF(joueurs,$B93),INDEX(bontirs,SMALL(IF(joueurs=$B93,ROW(INDIRECT(\"1:\"&ROWS(bontirs)))),ROWS($1:$32))),\"\")","v":0},{"$f":"IF(ROWS($1:$33)<=COUNTIF(joueurs,$B93),INDEX(bontirs,SMALL(IF(joueurs=$B93,ROW(INDIRECT(\"1:\"&ROWS(bontirs)))),ROWS($1:$33))),\"\")","v":0},{"$f":"IF(ROWS($1:$34)<=COUNTIF(joueurs,$B93),INDEX(bontirs,SMALL(IF(joueurs=$B93,ROW(INDIRECT(\"1:\"&ROWS(bontirs)))),ROWS($1:$34))),\"\")","v":0},{"$f":"IF(ROWS($1:$35)<=COUNTIF(joueurs,$B93),INDEX(bontirs,SMALL(IF(joueurs=$B93,ROW(INDIRECT(\"1:\"&ROWS(bontirs)))),ROWS($1:$35))),\"\")","v":0},{"$f":"IF(ROWS($1:$36)<=COUNTIF(joueurs,$B93),INDEX(bontirs,SMALL(IF(joueurs=$B93,ROW(INDIRECT(\"1:\"&ROWS(bontirs)))),ROWS($1:$36))),\"\")","v":0},{"$f":"IF(ROWS($1:$37)<=COUNTIF(joueurs,$B93),INDEX(bontirs,SMALL(IF(joueurs=$B93,ROW(INDIRECT(\"1:\"&ROWS(bontirs)))),ROWS($1:$37))),\"\")","v":0},{"$f":"IF(ROWS($1:$38)<=COUNTIF(joueurs,$B93),INDEX(bontirs,SMALL(IF(joueurs=$B93,ROW(INDIRECT(\"1:\"&ROWS(bontirs)))),ROWS($1:$38))),\"\")","v":0},{"$f":"IF(ROWS($1:$39)<=COUNTIF(joueurs,$B93),INDEX(bontirs,SMALL(IF(joueurs=$B93,ROW(INDIRECT(\"1:\"&ROWS(bontirs)))),ROWS($1:$39))),\"\")","v":0},{"$f":"IF(ROWS($1:$40)<=COUNTIF(joueurs,$B93),INDEX(bontirs,SMALL(IF(joueurs=$B93,ROW(INDIRECT(\"1:\"&ROWS(bontirs)))),ROWS($1:$40))),\"\")","v":0},{"$f":"IF(ROWS($1:$31)<=COUNTIF(joueurs,$B93),INDEX(points,SMALL(IF(joueurs=$B93,ROW(INDIRECT(\"1:\"&ROWS(points)))),ROWS($1:$31))),\"\")","v":0},{"$f":"IF(ROWS($1:$32)<=COUNTIF(joueurs,$B93),INDEX(points,SMALL(IF(joueurs=$B93,ROW(INDIRECT(\"1:\"&ROWS(points)))),ROWS($1:$32))),\"\")","v":0},{"$f":"IF(ROWS($1:$33)<=COUNTIF(joueurs,$B93),INDEX(points,SMALL(IF(joueurs=$B93,ROW(INDIRECT(\"1:\"&ROWS(points)))),ROWS($1:$33))),\"\")","v":0},{"$f":"IF(ROWS($1:$34)<=COUNTIF(joueurs,$B93),INDEX(points,SMALL(IF(joueurs=$B93,ROW(INDIRECT(\"1:\"&ROWS(points)))),ROWS($1:$34))),\"\")","v":0},{"$f":"IF(ROWS($1:$35)<=COUNTIF(joueurs,$B93),INDEX(points,SMALL(IF(joueurs=$B93,ROW(INDIRECT(\"1:\"&ROWS(points)))),ROWS($1:$35))),\"\")","v":0},{"$f":"IF(ROWS($1:$36)<=COUNTIF(joueurs,$B93),INDEX(points,SMALL(IF(joueurs=$B93,ROW(INDIRECT(\"1:\"&ROWS(points)))),ROWS($1:$36))),\"\")","v":0},{"$f":"IF(ROWS($1:$37)<=COUNTIF(joueurs,$B93),INDEX(points,SMALL(IF(joueurs=$B93,ROW(INDIRECT(\"1:\"&ROWS(points)))),ROWS($1:$37))),\"\")","v":0},{"$f":"IF(ROWS($1:$38)<=COUNTIF(joueurs,$B93),INDEX(points,SMALL(IF(joueurs=$B93,ROW(INDIRECT(\"1:\"&ROWS(points)))),ROWS($1:$38))),\"\")","v":0},{"$f":"IF(ROWS($1:$39)<=COUNTIF(joueurs,$B93),INDEX(points,SMALL(IF(joueurs=$B93,ROW(INDIRECT(\"1:\"&ROWS(points)))),ROWS($1:$39))),\"\")","v":0},{"$f":"IF(ROWS($1:$40)<=COUNTIF(joueurs,$B93),INDEX(points,SMALL(IF(joueurs=$B93,ROW(INDIRECT(\"1:\"&ROWS(points)))),ROWS($1:$40))),\"\")","v":0},{"$f":"IF(ROWS($1:$31)<=COUNTIF(joueurs,$B93),INDEX(victoires,SMALL(IF(joueurs=$B93,ROW(INDIRECT(\"1:\"&ROWS(victoires)))),ROWS($1:$31))),\"\")","v":0},{"$f":"IF(ROWS($1:$32)<=COUNTIF(joueurs,$B93),INDEX(victoires,SMALL(IF(joueurs=$B93,ROW(INDIRECT(\"1:\"&ROWS(victoires)))),ROWS($1:$32))),\"\")","v":0},{"$f":"IF(ROWS($1:$33)<=COUNTIF(joueurs,$B93),INDEX(victoires,SMALL(IF(joueurs=$B93,ROW(INDIRECT(\"1:\"&ROWS(victoires)))),ROWS($1:$33))),\"\")","v":0},{"$f":"IF(ROWS($1:$34)<=COUNTIF(joueurs,$B93),INDEX(victoires,SMALL(IF(joueurs=$B93,ROW(INDIRECT(\"1:\"&ROWS(victoires)))),ROWS($1:$34))),\"\")","v":0},{"$f":"IF(ROWS($1:$35)<=COUNTIF(joueurs,$B93),INDEX(victoires,SMALL(IF(joueurs=$B93,ROW(INDIRECT(\"1:\"&ROWS(victoires)))),ROWS($1:$35))),\"\")","v":0},{"$f":"IF(ROWS($1:$36)<=COUNTIF(joueurs,$B93),INDEX(victoires,SMALL(IF(joueurs=$B93,ROW(INDIRECT(\"1:\"&ROWS(victoires)))),ROWS($1:$36))),\"\")","v":0},{"$f":"IF(ROWS($1:$37)<=COUNTIF(joueurs,$B93),INDEX(victoires,SMALL(IF(joueurs=$B93,ROW(INDIRECT(\"1:\"&ROWS(victoires)))),ROWS($1:$37))),\"\")","v":0},{"$f":"IF(ROWS($1:$38)<=COUNTIF(joueurs,$B93),INDEX(victoires,SMALL(IF(joueurs=$B93,ROW(INDIRECT(\"1:\"&ROWS(victoires)))),ROWS($1:$38))),\"\")","v":0},{"$f":"IF(ROWS($1:$39)<=COUNTIF(joueurs,$B93),INDEX(victoires,SMALL(IF(joueurs=$B93,ROW(INDIRECT(\"1:\"&ROWS(victoires)))),ROWS($1:$39))),\"\")","v":0},{"$f":"IF(ROWS($1:$40)<=COUNTIF(joueurs,$B93),INDEX(victoires,SMALL(IF(joueurs=$B93,ROW(INDIRECT(\"1:\"&ROWS(victoires)))),ROWS($1:$40))),\"\")","v":0}]
[24,{"$f":"INDEX(eleves,MATCH(A97,numero,0),MATCH($B$2,classes,0))","v":0},null,{"$f":"IF(ROWS($1:$1)<=COUNTIF(joueurs,$B97),INDEX(fautes,SMALL(IF(joueurs=$B97,ROW(INDIRECT(\"1:\"&ROWS(fautes)))),ROWS($1:$1))),\"\")","v":0},{"$f":"IF(ROWS($1:$2)<=COUNTIF(joueurs,$B97),INDEX(fautes,SMALL(IF(joueurs=$B97,ROW(INDIRECT(\"1:\"&ROWS(fautes)))),ROWS($1:$2))),\"\")","v":0},{"$f":"IF(ROWS($1:$3)<=COUNTIF(joueurs,$B97),INDEX(fautes,SMALL(IF(joueurs=$B97,ROW(INDIRECT(\"1:\"&ROWS(fautes)))),ROWS($1:$3))),\"\")","v":0},{"$f":"IF(ROWS($1:$4)<=COUNTIF(joueurs,$B97),INDEX(fautes,SMALL(IF(joueurs=$B97,ROW(INDIRECT(\"1:\"&ROWS(fautes)))),ROWS($1:$4))),\"\")","v":0},{"$f":"IF(ROWS($1:$5)<=COUNTIF(joueurs,$B97),INDEX(fautes,SMALL(IF(joueurs=$B97,ROW(INDIRECT(\"1:\"&ROWS(fautes)))),ROWS($1:$5))),\"\")","v":0},{"$f":"IF(ROWS($1:$6)<=COUNTIF(joueurs,$B97),INDEX(fautes,SMALL(IF(joueurs=$B97,ROW(INDIRECT(\"1:\"&ROWS(fautes)))),ROWS($1:$6))),\"\")","v":0},{"$f":"IF(ROWS($1:$7)<=COUNTIF(joueurs,$B97),INDEX(fautes,SMALL(IF(joueurs=$B97,ROW(INDIRECT(\"1:\"&ROWS(fautes)))),ROWS($1:$7))),\"\")","v":0},{"$f":"IF(ROWS($1:$8)<=COUNTIF(joueurs,$B97),INDEX(fautes,SMALL(IF(joueurs=$B97,ROW(INDIRECT(\"1:\"&ROWS(fautes)))),ROWS($1:$8))),\"\")","v":0},{"$f":"IF(ROWS($1:$9)<=COUNTIF(joueurs,$B97),INDEX(fautes,SMALL(IF(joueurs=$B97,ROW(INDIRECT(\"1:\"&ROWS(fautes)))),ROWS($1:$9))),\"\")","v":0},{"$f":"IF(ROWS($1:$10)<=COUNTIF(joueurs,$B97),INDEX(fautes,SMALL(IF(joueurs=$B97,ROW(INDIRECT(\"1:\"&ROWS(fautes)))),ROWS($1:$10))),\"\")","v":0},{"$f":"IF(ROWS($1:$1)<=COUNTIF(joueurs,$B97),INDEX(ballonperdus,SMALL(IF(joueurs=$B97,ROW(INDIRECT(\"1:\"&ROWS(ballonperdus)))),ROWS($1:$1))),\"\")","v":0},{"$f":"IF(ROWS($1:$2)<=COUNTIF(joueurs,$B97),INDEX(ballonperdus,SMALL(IF(joueurs=$B97,ROW(INDIRECT(\"1:\"&ROWS(ballonperdus)))),ROWS($1:$2))),\"\")","v":0},{"$f":"IF(ROWS($1:$3)<=COUNTIF(joueurs,$B97),INDEX(ballonperdus,SMALL(IF(joueurs=$B97,ROW(INDIRECT(\"1:\"&ROWS(ballonperdus)))),ROWS($1:$3))),\"\")","v":0},{"$f":"IF(ROWS($1:$4)<=COUNTIF(joueurs,$B97),INDEX(ballonperdus,SMALL(IF(joueurs=$B97,ROW(INDIRECT(\"1:\"&ROWS(ballonperdus)))),ROWS($1:$4))),\"\")","v":0},{"$f":"IF(ROWS($1:$5)<=COUNTIF(joueurs,$B97),INDEX(ballonperdus,SMALL(IF(joueurs=$B97,ROW(INDIRECT(\"1:\"&ROWS(ballonperdus)))),ROWS($1:$5))),\"\")","v":0},{"$f":"IF(ROWS($1:$6)<=COUNTIF(joueurs,$B97),INDEX(ballonperdus,SMALL(IF(joueurs=$B97,ROW(INDIRECT(\"1:\"&ROWS(ballonperdus)))),ROWS($1:$6))),\"\")","v":0},{"$f":"IF(ROWS($1:$7)<=COUNTIF(joueurs,$B97),INDEX(ballonperdus,SMALL(IF(joueurs=$B97,ROW(INDIRECT(\"1:\"&ROWS(ballonperdus)))),ROWS($1:$7))),\"\")","v":0},{"$f":"IF(ROWS($1:$8)<=COUNTIF(joueurs,$B97),INDEX(ballonperdus,SMALL(IF(joueurs=$B97,ROW(INDIRECT(\"1:\"&ROWS(ballonperdus)))),ROWS($1:$8))),\"\")","v":0},{"$f":"IF(ROWS($1:$9)<=COUNTIF(joueurs,$B97),INDEX(ballonperdus,SMALL(IF(joueurs=$B97,ROW(INDIRECT(\"1:\"&ROWS(ballonperdus)))),ROWS($1:$9))),\"\")","v":0},{"$f":"IF(ROWS($1:$10)<=COUNTIF(joueurs,$B97),INDEX(ballonperdus,SMALL(IF(joueurs=$B97,ROW(INDIRECT(\"1:\"&ROWS(ballonperdus)))),ROWS($1:$10))),\"\")","v":0},{"$f":"IF(ROWS($1:$1)<=COUNTIF(joueurs,$B97),INDEX(interceptions,SMALL(IF(joueurs=$B97,ROW(INDIRECT(\"1:\"&ROWS(interceptions)))),ROWS($1:$1))),\"\")","v":0},{"$f":"IF(ROWS($1:$2)<=COUNTIF(joueurs,$B97),INDEX(interceptions,SMALL(IF(joueurs=$B97,ROW(INDIRECT(\"1:\"&ROWS(interceptions)))),ROWS($1:$2))),\"\")","v":0},{"$f":"IF(ROWS($1:$3)<=COUNTIF(joueurs,$B97),INDEX(interceptions,SMALL(IF(joueurs=$B97,ROW(INDIRECT(\"1:\"&ROWS(interceptions)))),ROWS($1:$3))),\"\")","v":0},{"$f":"IF(ROWS($1:$4)<=COUNTIF(joueurs,$B97),INDEX(interceptions,SMALL(IF(joueurs=$B97,ROW(INDIRECT(\"1:\"&ROWS(interceptions)))),ROWS($1:$4))),\"\")","v":0},{"$f":"IF(ROWS($1:$5)<=COUNTIF(joueurs,$B97),INDEX(interceptions,SMALL(IF(joueurs=$B97,ROW(INDIRECT(\"1:\"&ROWS(interceptions)))),ROWS($1:$5))),\"\")","v":0},{"$f":"IF(ROWS($1:$6)<=COUNTIF(joueurs,$B97),INDEX(interceptions,SMALL(IF(joueurs=$B97,ROW(INDIRECT(\"1:\"&ROWS(interceptions)))),ROWS($1:$6))),\"\")","v":0},{"$f":"IF(ROWS($1:$7)<=COUNTIF(joueurs,$B97),INDEX(interceptions,SMALL(IF(joueurs=$B97,ROW(INDIRECT(\"1:\"&ROWS(interceptions)))),ROWS($1:$7))),\"\")","v":0},{"$f":"IF(ROWS($1:$8)<=COUNTIF(joueurs,$B97),INDEX(interceptions,SMALL(IF(joueurs=$B97,ROW(INDIRECT(\"1:\"&ROWS(interceptions)))),ROWS($1:$8))),\"\")","v":0},{"$f":"IF(ROWS($1:$9)<=COUNTIF(joueurs,$B97),INDEX(interceptions,SMALL(IF(joueurs=$B97,ROW(INDIRECT(\"1:\"&ROWS(interceptions)))),ROWS($1:$9))),\"\")","v":0},{"$f":"IF(ROWS($1:$10)<=COUNTIF(joueurs,$B97),INDEX(interceptions,SMALL(IF(joueurs=$B97,ROW(INDIRECT(\"1:\"&ROWS(interceptions)))),ROWS($1:$10))),\"\")","v":0},{"$f":"IF(ROWS($1:$1)<=COUNTIF(joueurs,$B97),INDEX(ballonrecuperes,SMALL(IF(joueurs=$B97,ROW(INDIRECT(\"1:\"&ROWS(ballonrecuperes)))),ROWS($1:$1))),\"\")","v":0},{"$f":"IF(ROWS($1:$2)<=COUNTIF(joueurs,$B97),INDEX(ballonrecuperes,SMALL(IF(joueurs=$B97,ROW(INDIRECT(\"1:\"&ROWS(ballonrecuperes)))),ROWS($1:$2))),\"\")","v":0},{"$f":"IF(ROWS($1:$3)<=COUNTIF(joueurs,$B97),INDEX(ballonrecuperes,SMALL(IF(joueurs=$B97,ROW(INDIRECT(\"1:\"&ROWS(ballonrecuperes)))),ROWS($1:$3))),\"\")","v":0},{"$f":"IF(ROWS($1:$4)<=COUNTIF(joueurs,$B97),INDEX(ballonrecuperes,SMALL(IF(joueurs=$B97,ROW(INDIRECT(\"1:\"&ROWS(ballonrecuperes)))),ROWS($1:$4))),\"\")","v":0},{"$f":"IF(ROWS($1:$5)<=COUNTIF(joueurs,$B97),INDEX(ballonrecuperes,SMALL(IF(joueurs=$B97,ROW(INDIRECT(\"1:\"&ROWS(ballonrecuperes)))),ROWS($1:$5))),\"\")","v":0},{"$f":"IF(ROWS($1:$6)<=COUNTIF(joueurs,$B97),INDEX(ballonrecuperes,SMALL(IF(joueurs=$B97,ROW(INDIRECT(\"1:\"&ROWS(ballonrecuperes)))),ROWS($1:$6))),\"\")","v":0},{"$f":"IF(ROWS($1:$7)<=COUNTIF(joueurs,$B97),INDEX(ballonrecuperes,SMALL(IF(joueurs=$B97,ROW(INDIRECT(\"1:\"&ROWS(ballonrecuperes)))),ROWS($1:$7))),\"\")","v":0},{"$f":"IF(ROWS($1:$8)<=COUNTIF(joueurs,$B97),INDEX(ballonrecuperes,SMALL(IF(joueurs=$B97,ROW(INDIRECT(\"1:\"&ROWS(ballonrecuperes)))),ROWS($1:$8))),\"\")","v":0},{"$f":"IF(ROWS($1:$9)<=COUNTIF(joueurs,$B97),INDEX(ballonrecuperes,SMALL(IF(joueurs=$B97,ROW(INDIRECT(\"1:\"&ROWS(ballonrecuperes)))),ROWS($1:$9))),\"\")","v":0},{"$f":"IF(ROWS($1:$10)<=COUNTIF(joueurs,$B97),INDEX(ballonrecuperes,SMALL(IF(joueurs=$B97,ROW(INDIRECT(\"1:\"&ROWS(ballonrecuperes)))),ROWS($1:$10))),\"\")","v":0},{"$f":"IF(ROWS($1:$1)<=COUNTIF(joueurs,$B97),INDEX(tirs,SMALL(IF(joueurs=$B97,ROW(INDIRECT(\"1:\"&ROWS(tirs)))),ROWS($1:$1))),\"\")","v":0},{"$f":"IF(ROWS($1:$2)<=COUNTIF(joueurs,$B97),INDEX(tirs,SMALL(IF(joueurs=$B97,ROW(INDIRECT(\"1:\"&ROWS(tirs)))),ROWS($1:$2))),\"\")","v":0},{"$f":"IF(ROWS($1:$3)<=COUNTIF(joueurs,$B97),INDEX(tirs,SMALL(IF(joueurs=$B97,ROW(INDIRECT(\"1:\"&ROWS(tirs)))),ROWS($1:$3))),\"\")","v":0},{"$f":"IF(ROWS($1:$4)<=COUNTIF(joueurs,$B97),INDEX(tirs,SMALL(IF(joueurs=$B97,ROW(INDIRECT(\"1:\"&ROWS(tirs)))),ROWS($1:$4))),\"\")","v":0},{"$f":"IF(ROWS($1:$5)<=COUNTIF(joueurs,$B97),INDEX(tirs,SMALL(IF(joueurs=$B97,ROW(INDIRECT(\"1:\"&ROWS(tirs)))),ROWS($1:$5))),\"\")","v":0},{"$f":"IF(ROWS($1:$6)<=COUNTIF(joueurs,$B97),INDEX(tirs,SMALL(IF(joueurs=$B97,ROW(INDIRECT(\"1:\"&ROWS(tirs)))),ROWS($1:$6))),\"\")","v":0},{"$f":"IF(ROWS($1:$7)<=COUNTIF(joueurs,$B97),INDEX(tirs,SMALL(IF(joueurs=$B97,ROW(INDIRECT(\"1:\"&ROWS(tirs)))),ROWS($1:$7))),\"\")","v":0},{"$f":"IF(ROWS($1:$8)<=COUNTIF(joueurs,$B97),INDEX(tirs,SMALL(IF(joueurs=$B97,ROW(INDIRECT(\"1:\"&ROWS(tirs)))),ROWS($1:$8))),\"\")","v":0},{"$f":"IF(ROWS($1:$9)<=COUNTIF(joueurs,$B97),INDEX(tirs,SMALL(IF(joueurs=$B97,ROW(INDIRECT(\"1:\"&ROWS(tirs)))),ROWS($1:$9))),\"\")","v":0},{"$f":"IF(ROWS($1:$10)<=COUNTIF(joueurs,$B97),INDEX(tirs,SMALL(IF(joueurs=$B97,ROW(INDIRECT(\"1:\"&ROWS(tirs)))),ROWS($1:$10))),\"\")","v":0},{"$f":"IF(ROWS($1:$1)<=COUNTIF(joueurs,$B97),INDEX(bontirs,SMALL(IF(joueurs=$B97,ROW(INDIRECT(\"1:\"&ROWS(bontirs)))),ROWS($1:$1))),\"\")","v":0},{"$f":"IF(ROWS($1:$2)<=COUNTIF(joueurs,$B97),INDEX(bontirs,SMALL(IF(joueurs=$B97,ROW(INDIRECT(\"1:\"&ROWS(bontirs)))),ROWS($1:$2))),\"\")","v":0},{"$f":"IF(ROWS($1:$3)<=COUNTIF(joueurs,$B97),INDEX(bontirs,SMALL(IF(joueurs=$B97,ROW(INDIRECT(\"1:\"&ROWS(bontirs)))),ROWS($1:$3))),\"\")","v":0},{"$f":"IF(ROWS($1:$4)<=COUNTIF(joueurs,$B97),INDEX(bontirs,SMALL(IF(joueurs=$B97,ROW(INDIRECT(\"1:\"&ROWS(bontirs)))),ROWS($1:$4))),\"\")","v":0},{"$f":"IF(ROWS($1:$5)<=COUNTIF(joueurs,$B97),INDEX(bontirs,SMALL(IF(joueurs=$B97,ROW(INDIRECT(\"1:\"&ROWS(bontirs)))),ROWS($1:$5))),\"\")","v":0},{"$f":"IF(ROWS($1:$6)<=COUNTIF(joueurs,$B97),INDEX(bontirs,SMALL(IF(joueurs=$B97,ROW(INDIRECT(\"1:\"&ROWS(bontirs)))),ROWS($1:$6))),\"\")","v":0},{"$f":"IF(ROWS($1:$7)<=COUNTIF(joueurs,$B97),INDEX(bontirs,SMALL(IF(joueurs=$B97,ROW(INDIRECT(\"1:\"&ROWS(bontirs)))),ROWS($1:$7))),\"\")","v":0},{"$f":"IF(ROWS($1:$8)<=COUNTIF(joueurs,$B97),INDEX(bontirs,SMALL(IF(joueurs=$B97,ROW(INDIRECT(\"1:\"&ROWS(bontirs)))),ROWS($1:$8))),\"\")","v":0},{"$f":"IF(ROWS($1:$9)<=COUNTIF(joueurs,$B97),INDEX(bontirs,SMALL(IF(joueurs=$B97,ROW(INDIRECT(\"1:\"&ROWS(bontirs)))),ROWS($1:$9))),\"\")","v":0},{"$f":"IF(ROWS($1:$10)<=COUNTIF(joueurs,$B97),INDEX(bontirs,SMALL(IF(joueurs=$B97,ROW(INDIRECT(\"1:\"&ROWS(bontirs)))),ROWS($1:$10))),\"\")","v":0},{"$f":"IF(ROWS($1:$1)<=COUNTIF(joueurs,$B97),INDEX(points,SMALL(IF(joueurs=$B97,ROW(INDIRECT(\"1:\"&ROWS(points)))),ROWS($1:$1))),\"\")","v":0},{"$f":"IF(ROWS($1:$2)<=COUNTIF(joueurs,$B97),INDEX(points,SMALL(IF(joueurs=$B97,ROW(INDIRECT(\"1:\"&ROWS(points)))),ROWS($1:$2))),\"\")","v":0},{"$f":"IF(ROWS($1:$3)<=COUNTIF(joueurs,$B97),INDEX(points,SMALL(IF(joueurs=$B97,ROW(INDIRECT(\"1:\"&ROWS(points)))),ROWS($1:$3))),\"\")","v":0},{"$f":"IF(ROWS($1:$4)<=COUNTIF(joueurs,$B97),INDEX(points,SMALL(IF(joueurs=$B97,ROW(INDIRECT(\"1:\"&ROWS(points)))),ROWS($1:$4))),\"\")","v":0},{"$f":"IF(ROWS($1:$5)<=COUNTIF(joueurs,$B97),INDEX(points,SMALL(IF(joueurs=$B97,ROW(INDIRECT(\"1:\"&ROWS(points)))),ROWS($1:$5))),\"\")","v":0},{"$f":"IF(ROWS($1:$6)<=COUNTIF(joueurs,$B97),INDEX(points,SMALL(IF(joueurs=$B97,ROW(INDIRECT(\"1:\"&ROWS(points)))),ROWS($1:$6))),\"\")","v":0},{"$f":"IF(ROWS($1:$7)<=COUNTIF(joueurs,$B97),INDEX(points,SMALL(IF(joueurs=$B97,ROW(INDIRECT(\"1:\"&ROWS(points)))),ROWS($1:$7))),\"\")","v":0},{"$f":"IF(ROWS($1:$8)<=COUNTIF(joueurs,$B97),INDEX(points,SMALL(IF(joueurs=$B97,ROW(INDIRECT(\"1:\"&ROWS(points)))),ROWS($1:$8))),\"\")","v":0},{"$f":"IF(ROWS($1:$9)<=COUNTIF(joueurs,$B97),INDEX(points,SMALL(IF(joueurs=$B97,ROW(INDIRECT(\"1:\"&ROWS(points)))),ROWS($1:$9))),\"\")","v":0},{"$f":"IF(ROWS($1:$10)<=COUNTIF(joueurs,$B97),INDEX(points,SMALL(IF(joueurs=$B97,ROW(INDIRECT(\"1:\"&ROWS(points)))),ROWS($1:$10))),\"\")","v":0},{"$f":"IF(ROWS($1:$1)<=COUNTIF(joueurs,$B97),INDEX(victoires,SMALL(IF(joueurs=$B97,ROW(INDIRECT(\"1:\"&ROWS(victoires)))),ROWS($1:$1))),\"\")","v":0},{"$f":"IF(ROWS($1:$2)<=COUNTIF(joueurs,$B97),INDEX(victoires,SMALL(IF(joueurs=$B97,ROW(INDIRECT(\"1:\"&ROWS(victoires)))),ROWS($1:$2))),\"\")","v":0},{"$f":"IF(ROWS($1:$3)<=COUNTIF(joueurs,$B97),INDEX(victoires,SMALL(IF(joueurs=$B97,ROW(INDIRECT(\"1:\"&ROWS(victoires)))),ROWS($1:$3))),\"\")","v":0},{"$f":"IF(ROWS($1:$4)<=COUNTIF(joueurs,$B97),INDEX(victoires,SMALL(IF(joueurs=$B97,ROW(INDIRECT(\"1:\"&ROWS(victoires)))),ROWS($1:$4))),\"\")","v":0},{"$f":"IF(ROWS($1:$5)<=COUNTIF(joueurs,$B97),INDEX(victoires,SMALL(IF(joueurs=$B97,ROW(INDIRECT(\"1:\"&ROWS(victoires)))),ROWS($1:$5))),\"\")","v":0},{"$f":"IF(ROWS($1:$6)<=COUNTIF(joueurs,$B97),INDEX(victoires,SMALL(IF(joueurs=$B97,ROW(INDIRECT(\"1:\"&ROWS(victoires)))),ROWS($1:$6))),\"\")","v":0},{"$f":"IF(ROWS($1:$7)<=COUNTIF(joueurs,$B97),INDEX(victoires,SMALL(IF(joueurs=$B97,ROW(INDIRECT(\"1:\"&ROWS(victoires)))),ROWS($1:$7))),\"\")","v":0},{"$f":"IF(ROWS($1:$8)<=COUNTIF(joueurs,$B97),INDEX(victoires,SMALL(IF(joueurs=$B97,ROW(INDIRECT(\"1:\"&ROWS(victoires)))),ROWS($1:$8))),\"\")","v":0},{"$f":"IF(ROWS($1:$9)<=COUNTIF(joueurs,$B97),INDEX(victoires,SMALL(IF(joueurs=$B97,ROW(INDIRECT(\"1:\"&ROWS(victoires)))),ROWS($1:$9))),\"\")","v":0},{"$f":"IF(ROWS($1:$10)<=COUNTIF(joueurs,$B97),INDEX(victoires,SMALL(IF(joueurs=$B97,ROW(INDIRECT(\"1:\"&ROWS(victoires)))),ROWS($1:$10))),\"\")","v":0}]
[null,null,null,{"$f":"IF(ROWS($1:$11)<=COUNTIF(joueurs,$B97),INDEX(fautes,SMALL(IF(joueurs=$B97,ROW(INDIRECT(\"1:\"&ROWS(fautes)))),ROWS($1:$11))),\"\")","v":0},{"$f":"IF(ROWS($1:$12)<=COUNTIF(joueurs,$B97),INDEX(fautes,SMALL(IF(joueurs=$B97,ROW(INDIRECT(\"1:\"&ROWS(fautes)))),ROWS($1:$12))),\"\")","v":0},{"$f":"IF(ROWS($1:$13)<=COUNTIF(joueurs,$B97),INDEX(fautes,SMALL(IF(joueurs=$B97,ROW(INDIRECT(\"1:\"&ROWS(fautes)))),ROWS($1:$13))),\"\")","v":0},{"$f":"IF(ROWS($1:$14)<=COUNTIF(joueurs,$B97),INDEX(fautes,SMALL(IF(joueurs=$B97,ROW(INDIRECT(\"1:\"&ROWS(fautes)))),ROWS($1:$14))),\"\")","v":0},{"$f":"IF(ROWS($1:$15)<=COUNTIF(joueurs,$B97),INDEX(fautes,SMALL(IF(joueurs=$B97,ROW(INDIRECT(\"1:\"&ROWS(fautes)))),ROWS($1:$15))),\"\")","v":0},{"$f":"IF(ROWS($1:$16)<=COUNTIF(joueurs,$B97),INDEX(fautes,SMALL(IF(joueurs=$B97,ROW(INDIRECT(\"1:\"&ROWS(fautes)))),ROWS($1:$16))),\"\")","v":0},{"$f":"IF(ROWS($1:$17)<=COUNTIF(joueurs,$B97),INDEX(fautes,SMALL(IF(joueurs=$B97,ROW(INDIRECT(\"1:\"&ROWS(fautes)))),ROWS($1:$17))),\"\")","v":0},{"$f":"IF(ROWS($1:$18)<=COUNTIF(joueurs,$B97),INDEX(fautes,SMALL(IF(joueurs=$B97,ROW(INDIRECT(\"1:\"&ROWS(fautes)))),ROWS($1:$18))),\"\")","v":0},{"$f":"IF(ROWS($1:$19)<=COUNTIF(joueurs,$B97),INDEX(fautes,SMALL(IF(joueurs=$B97,ROW(INDIRECT(\"1:\"&ROWS(fautes)))),ROWS($1:$19))),\"\")","v":0},{"$f":"IF(ROWS($1:$20)<=COUNTIF(joueurs,$B97),INDEX(fautes,SMALL(IF(joueurs=$B97,ROW(INDIRECT(\"1:\"&ROWS(fautes)))),ROWS($1:$20))),\"\")","v":0},{"$f":"IF(ROWS($1:$11)<=COUNTIF(joueurs,$B97),INDEX(ballonperdus,SMALL(IF(joueurs=$B97,ROW(INDIRECT(\"1:\"&ROWS(ballonperdus)))),ROWS($1:$11))),\"\")","v":0},{"$f":"IF(ROWS($1:$12)<=COUNTIF(joueurs,$B97),INDEX(ballonperdus,SMALL(IF(joueurs=$B97,ROW(INDIRECT(\"1:\"&ROWS(ballonperdus)))),ROWS($1:$12))),\"\")","v":0},{"$f":"IF(ROWS($1:$13)<=COUNTIF(joueurs,$B97),INDEX(ballonperdus,SMALL(IF(joueurs=$B97,ROW(INDIRECT(\"1:\"&ROWS(ballonperdus)))),ROWS($1:$13))),\"\")","v":0},{"$f":"IF(ROWS($1:$14)<=COUNTIF(joueurs,$B97),INDEX(ballonperdus,SMALL(IF(joueurs=$B97,ROW(INDIRECT(\"1:\"&ROWS(ballonperdus)))),ROWS($1:$14))),\"\")","v":0},{"$f":"IF(ROWS($1:$15)<=COUNTIF(joueurs,$B97),INDEX(ballonperdus,SMALL(IF(joueurs=$B97,ROW(INDIRECT(\"1:\"&ROWS(ballonperdus)))),ROWS($1:$15))),\"\")","v":0},{"$f":"IF(ROWS($1:$16)<=COUNTIF(joueurs,$B97),INDEX(ballonperdus,SMALL(IF(joueurs=$B97,ROW(INDIRECT(\"1:\"&ROWS(ballonperdus)))),ROWS($1:$16))),\"\")","v":0},{"$f":"IF(ROWS($1:$17)<=COUNTIF(joueurs,$B97),INDEX(ballonperdus,SMALL(IF(joueurs=$B97,ROW(INDIRECT(\"1:\"&ROWS(ballonperdus)))),ROWS($1:$17))),\"\")","v":0},{"$f":"IF(ROWS($1:$18)<=COUNTIF(joueurs,$B97),INDEX(ballonperdus,SMALL(IF(joueurs=$B97,ROW(INDIRECT(\"1:\"&ROWS(ballonperdus)))),ROWS($1:$18))),\"\")","v":0},{"$f":"IF(ROWS($1:$19)<=COUNTIF(joueurs,$B97),INDEX(ballonperdus,SMALL(IF(joueurs=$B97,ROW(INDIRECT(\"1:\"&ROWS(ballonperdus)))),ROWS($1:$19))),\"\")","v":0},{"$f":"IF(ROWS($1:$20)<=COUNTIF(joueurs,$B97),INDEX(fautes,SMALL(IF(joueurs=$B97,ROW(INDIRECT(\"1:\"&ROWS(ballonperdus)))),ROWS($1:$20))),\"\")","v":0},{"$f":"IF(ROWS($1:$11)<=COUNTIF(joueurs,$B97),INDEX(interceptions,SMALL(IF(joueurs=$B97,ROW(INDIRECT(\"1:\"&ROWS(interceptions)))),ROWS($1:$11))),\"\")","v":0},{"$f":"IF(ROWS($1:$12)<=COUNTIF(joueurs,$B97),INDEX(interceptions,SMALL(IF(joueurs=$B97,ROW(INDIRECT(\"1:\"&ROWS(interceptions)))),ROWS($1:$12))),\"\")","v":0},{"$f":"IF(ROWS($1:$13)<=COUNTIF(joueurs,$B97),INDEX(interceptions,SMALL(IF(joueurs=$B97,ROW(INDIRECT(\"1:\"&ROWS(interceptions)))),ROWS($1:$13))),\"\")","v":0},{"$f":"IF(ROWS($1:$14)<=COUNTIF(joueurs,$B97),INDEX(interceptions,SMALL(IF(joueurs=$B97,ROW(INDIRECT(\"1:\"&ROWS(interceptions)))),ROWS($1:$14))),\"\")","v":0},{"$f":"IF(ROWS($1:$15)<=COUNTIF(joueurs,$B97),INDEX(interceptions,SMALL(IF(joueurs=$B97,ROW(INDIRECT(\"1:\"&ROWS(interceptions)))),ROWS($1:$15))),\"\")","v":0},{"$f":"IF(ROWS($1:$16)<=COUNTIF(joueurs,$B97),INDEX(interceptions,SMALL(IF(joueurs=$B97,ROW(INDIRECT(\"1:\"&ROWS(interceptions)))),ROWS($1:$16))),\"\")","v":0},{"$f":"IF(ROWS($1:$17)<=COUNTIF(joueurs,$B97),INDEX(interceptions,SMALL(IF(joueurs=$B97,ROW(INDIRECT(\"1:\"&ROWS(interceptions)))),ROWS($1:$17))),\"\")","v":0},{"$f":"IF(ROWS($1:$18)<=COUNTIF(joueurs,$B97),INDEX(interceptions,SMALL(IF(joueurs=$B97,ROW(INDIRECT(\"1:\"&ROWS(interceptions)))),ROWS($1:$18))),\"\")","v":0},{"$f":"IF(ROWS($1:$19)<=COUNTIF(joueurs,$B97),INDEX(interceptions,SMALL(IF(joueurs=$B97,ROW(INDIRECT(\"1:\"&ROWS(interceptions)))),ROWS($1:$19))),\"\")","v":0},{"$f":"IF(ROWS($1:$20)<=COUNTIF(joueurs,$B97),INDEX(interceptions,SMALL(IF(joueurs=$B97,ROW(INDIRECT(\"1:\"&ROWS(interceptions)))),ROWS($1:$20))),\"\")","v":0},{"$f":"IF(ROWS($1:$11)<=COUNTIF(joueurs,$B97),INDEX(ballonrecuperes,SMALL(IF(joueurs=$B97,ROW(INDIRECT(\"1:\"&ROWS(ballonrecuperes)))),ROWS($1:$11))),\"\")","v":0},{"$f":"IF(ROWS($1:$12)<=COUNTIF(joueurs,$B97),INDEX(ballonrecuperes,SMALL(IF(joueurs=$B97,ROW(INDIRECT(\"1:\"&ROWS(ballonrecuperes)))),ROWS($1:$12))),\"\")","v":0},{"$f":"IF(ROWS($1:$13)<=COUNTIF(joueurs,$B97),INDEX(ballonrecuperes,SMALL(IF(joueurs=$B97,ROW(INDIRECT(\"1:\"&ROWS(ballonrecuperes)))),ROWS($1:$13))),\"\")","v":0},{"$f":"IF(ROWS($1:$14)<=COUNTIF(joueurs,$B97),INDEX(ballonrecuperes,SMALL(IF(joueurs=$B97,ROW(INDIRECT(\"1:\"&ROWS(ballonrecuperes)))),ROWS($1:$14))),\"\")","v":0},{"$f":"IF(ROWS($1:$15)<=COUNTIF(joueurs,$B97),INDEX(ballonrecuperes,SMALL(IF(joueurs=$B97,ROW(INDIRECT(\"1:\"&ROWS(ballonrecuperes)))),ROWS($1:$15))),\"\")","v":0},{"$f":"IF(ROWS($1:$16)<=COUNTIF(joueurs,$B97),INDEX(ballonrecuperes,SMALL(IF(joueurs=$B97,ROW(INDIRECT(\"1:\"&ROWS(ballonrecuperes)))),ROWS($1:$16))),\"\")","v":0},{"$f":"IF(ROWS($1:$17)<=COUNTIF(joueurs,$B97),INDEX(ballonrecuperes,SMALL(IF(joueurs=$B97,ROW(INDIRECT(\"1:\"&ROWS(ballonrecuperes)))),ROWS($1:$17))),\"\")","v":0},{"$f":"IF(ROWS($1:$18)<=COUNTIF(joueurs,$B97),INDEX(ballonrecuperes,SMALL(IF(joueurs=$B97,ROW(INDIRECT(\"1:\"&ROWS(ballonrecuperes)))),ROWS($1:$18))),\"\")","v":0},{"$f":"IF(ROWS($1:$19)<=COUNTIF(joueurs,$B97),INDEX(ballonrecuperes,SMALL(IF(joueurs=$B97,ROW(INDIRECT(\"1:\"&ROWS(ballonrecuperes)))),ROWS($1:$19))),\"\")","v":0},{"$f":"IF(ROWS($1:$20)<=COUNTIF(joueurs,$B97),INDEX(ballonrecuperes,SMALL(IF(joueurs=$B97,ROW(INDIRECT(\"1:\"&ROWS(ballonrecuperes)))),ROWS($1:$20))),\"\")","v":0},{"$f":"IF(ROWS($1:$11)<=COUNTIF(joueurs,$B97),INDEX(tirs,SMALL(IF(joueurs=$B97,ROW(INDIRECT(\"1:\"&ROWS(tirs)))),ROWS($1:$11))),\"\")","v":0},{"$f":"IF(ROWS($1:$12)<=COUNTIF(joueurs,$B97),INDEX(tirs,SMALL(IF(joueurs=$B97,ROW(INDIRECT(\"1:\"&ROWS(tirs)))),ROWS($1:$12))),\"\")","v":0},{"$f":"IF(ROWS($1:$13)<=COUNTIF(joueurs,$B97),INDEX(tirs,SMALL(IF(joueurs=$B97,ROW(INDIRECT(\"1:\"&ROWS(tirs)))),ROWS($1:$13))),\"\")","v":0},{"$f":"IF(ROWS($1:$14)<=COUNTIF(joueurs,$B97),INDEX(tirs,SMALL(IF(joueurs=$B97,ROW(INDIRECT(\"1:\"&ROWS(tirs)))),ROWS($1:$14))),\"\")","v":0},{"$f":"IF(ROWS($1:$15)<=COUNTIF(joueurs,$B97),INDEX(tirs,SMALL(IF(joueurs=$B97,ROW(INDIRECT(\"1:\"&ROWS(tirs)))),ROWS($1:$15))),\"\")","v":0},{"$f":"IF(ROWS($1:$16)<=COUNTIF(joueurs,$B97),INDEX(tirs,SMALL(IF(joueurs=$B97,ROW(INDIRECT(\"1:\"&ROWS(tirs)))),ROWS($1:$16))),\"\")","v":0},{"$f":"IF(ROWS($1:$17)<=COUNTIF(joueurs,$B97),INDEX(tirs,SMALL(IF(joueurs=$B97,ROW(INDIRECT(\"1:\"&ROWS(tirs)))),ROWS($1:$17))),\"\")","v":0},{"$f":"IF(ROWS($1:$18)<=COUNTIF(joueurs,$B97),INDEX(tirs,SMALL(IF(joueurs=$B97,ROW(INDIRECT(\"1:\"&ROWS(tirs)))),ROWS($1:$18))),\"\")","v":0},{"$f":"IF(ROWS($1:$19)<=COUNTIF(joueurs,$B97),INDEX(tirs,SMALL(IF(joueurs=$B97,ROW(INDIRECT(\"1:\"&ROWS(tirs)))),ROWS($1:$19))),\"\")","v":0},{"$f":"IF(ROWS($1:$20)<=COUNTIF(joueurs,$B97),INDEX(tirs,SMALL(IF(joueurs=$B97,ROW(INDIRECT(\"1:\"&ROWS(tirs)))),ROWS($1:$20))),\"\")","v":0},{"$f":"IF(ROWS($1:$11)<=COUNTIF(joueurs,$B97),INDEX(bontirs,SMALL(IF(joueurs=$B97,ROW(INDIRECT(\"1:\"&ROWS(bontirs)))),ROWS($1:$11))),\"\")","v":0},{"$f":"IF(ROWS($1:$12)<=COUNTIF(joueurs,$B97),INDEX(bontirs,SMALL(IF(joueurs=$B97,ROW(INDIRECT(\"1:\"&ROWS(bontirs)))),ROWS($1:$12))),\"\")","v":0},{"$f":"IF(ROWS($1:$13)<=COUNTIF(joueurs,$B97),INDEX(bontirs,SMALL(IF(joueurs=$B97,ROW(INDIRECT(\"1:\"&ROWS(bontirs)))),ROWS($1:$13))),\"\")","v":0},{"$f":"IF(ROWS($1:$14)<=COUNTIF(joueurs,$B97),INDEX(bontirs,SMALL(IF(joueurs=$B97,ROW(INDIRECT(\"1:\"&ROWS(bontirs)))),ROWS($1:$14))),\"\")","v":0},{"$f":"IF(ROWS($1:$15)<=COUNTIF(joueurs,$B97),INDEX(bontirs,SMALL(IF(joueurs=$B97,ROW(INDIRECT(\"1:\"&ROWS(bontirs)))),ROWS($1:$15))),\"\")","v":0},{"$f":"IF(ROWS($1:$16)<=COUNTIF(joueurs,$B97),INDEX(bontirs,SMALL(IF(joueurs=$B97,ROW(INDIRECT(\"1:\"&ROWS(bontirs)))),ROWS($1:$16))),\"\")","v":0},{"$f":"IF(ROWS($1:$17)<=COUNTIF(joueurs,$B97),INDEX(bontirs,SMALL(IF(joueurs=$B97,ROW(INDIRECT(\"1:\"&ROWS(bontirs)))),ROWS($1:$17))),\"\")","v":0},{"$f":"IF(ROWS($1:$18)<=COUNTIF(joueurs,$B97),INDEX(bontirs,SMALL(IF(joueurs=$B97,ROW(INDIRECT(\"1:\"&ROWS(bontirs)))),ROWS($1:$18))),\"\")","v":0},{"$f":"IF(ROWS($1:$19)<=COUNTIF(joueurs,$B97),INDEX(bontirs,SMALL(IF(joueurs=$B97,ROW(INDIRECT(\"1:\"&ROWS(bontirs)))),ROWS($1:$19))),\"\")","v":0},{"$f":"IF(ROWS($1:$20)<=COUNTIF(joueurs,$B97),INDEX(bontirs,SMALL(IF(joueurs=$B97,ROW(INDIRECT(\"1:\"&ROWS(bontirs)))),ROWS($1:$20))),\"\")","v":0},{"$f":"IF(ROWS($1:$11)<=COUNTIF(joueurs,$B97),INDEX(points,SMALL(IF(joueurs=$B97,ROW(INDIRECT(\"1:\"&ROWS(points)))),ROWS($1:$11))),\"\")","v":0},{"$f":"IF(ROWS($1:$12)<=COUNTIF(joueurs,$B97),INDEX(points,SMALL(IF(joueurs=$B97,ROW(INDIRECT(\"1:\"&ROWS(points)))),ROWS($1:$12))),\"\")","v":0},{"$f":"IF(ROWS($1:$13)<=COUNTIF(joueurs,$B97),INDEX(points,SMALL(IF(joueurs=$B97,ROW(INDIRECT(\"1:\"&ROWS(points)))),ROWS($1:$13))),\"\")","v":0},{"$f":"IF(ROWS($1:$14)<=COUNTIF(joueurs,$B97),INDEX(points,SMALL(IF(joueurs=$B97,ROW(INDIRECT(\"1:\"&ROWS(points)))),ROWS($1:$14))),\"\")","v":0},{"$f":"IF(ROWS($1:$15)<=COUNTIF(joueurs,$B97),INDEX(points,SMALL(IF(joueurs=$B97,ROW(INDIRECT(\"1:\"&ROWS(points)))),ROWS($1:$15))),\"\")","v":0},{"$f":"IF(ROWS($1:$16)<=COUNTIF(joueurs,$B97),INDEX(points,SMALL(IF(joueurs=$B97,ROW(INDIRECT(\"1:\"&ROWS(points)))),ROWS($1:$16))),\"\")","v":0},{"$f":"IF(ROWS($1:$17)<=COUNTIF(joueurs,$B97),INDEX(points,SMALL(IF(joueurs=$B97,ROW(INDIRECT(\"1:\"&ROWS(points)))),ROWS($1:$17))),\"\")","v":0},{"$f":"IF(ROWS($1:$18)<=COUNTIF(joueurs,$B97),INDEX(points,SMALL(IF(joueurs=$B97,ROW(INDIRECT(\"1:\"&ROWS(points)))),ROWS($1:$18))),\"\")","v":0},{"$f":"IF(ROWS($1:$19)<=COUNTIF(joueurs,$B97),INDEX(points,SMALL(IF(joueurs=$B97,ROW(INDIRECT(\"1:\"&ROWS(points)))),ROWS($1:$19))),\"\")","v":0},{"$f":"IF(ROWS($1:$20)<=COUNTIF(points,$B97),INDEX(fautes,SMALL(IF(joueurs=$B97,ROW(INDIRECT(\"1:\"&ROWS(points)))),ROWS($1:$20))),\"\")","v":0},{"$f":"IF(ROWS($1:$11)<=COUNTIF(joueurs,$B97),INDEX(victoires,SMALL(IF(joueurs=$B97,ROW(INDIRECT(\"1:\"&ROWS(victoires)))),ROWS($1:$11))),\"\")","v":0},{"$f":"IF(ROWS($1:$12)<=COUNTIF(joueurs,$B97),INDEX(victoires,SMALL(IF(joueurs=$B97,ROW(INDIRECT(\"1:\"&ROWS(victoires)))),ROWS($1:$12))),\"\")","v":0},{"$f":"IF(ROWS($1:$13)<=COUNTIF(joueurs,$B97),INDEX(victoires,SMALL(IF(joueurs=$B97,ROW(INDIRECT(\"1:\"&ROWS(victoires)))),ROWS($1:$13))),\"\")","v":0},{"$f":"IF(ROWS($1:$14)<=COUNTIF(joueurs,$B97),INDEX(victoires,SMALL(IF(joueurs=$B97,ROW(INDIRECT(\"1:\"&ROWS(victoires)))),ROWS($1:$14))),\"\")","v":0},{"$f":"IF(ROWS($1:$15)<=COUNTIF(joueurs,$B97),INDEX(victoires,SMALL(IF(joueurs=$B97,ROW(INDIRECT(\"1:\"&ROWS(victoires)))),ROWS($1:$15))),\"\")","v":0},{"$f":"IF(ROWS($1:$16)<=COUNTIF(joueurs,$B97),INDEX(victoires,SMALL(IF(joueurs=$B97,ROW(INDIRECT(\"1:\"&ROWS(victoires)))),ROWS($1:$16))),\"\")","v":0},{"$f":"IF(ROWS($1:$17)<=COUNTIF(joueurs,$B97),INDEX(victoires,SMALL(IF(joueurs=$B97,ROW(INDIRECT(\"1:\"&ROWS(victoires)))),ROWS($1:$17))),\"\")","v":0},{"$f":"IF(ROWS($1:$18)<=COUNTIF(joueurs,$B97),INDEX(victoires,SMALL(IF(joueurs=$B97,ROW(INDIRECT(\"1:\"&ROWS(victoires)))),ROWS($1:$18))),\"\")","v":0},{"$f":"IF(ROWS($1:$19)<=COUNTIF(joueurs,$B97),INDEX(victoires,SMALL(IF(joueurs=$B97,ROW(INDIRECT(\"1:\"&ROWS(victoires)))),ROWS($1:$19))),\"\")","v":0},{"$f":"IF(ROWS($1:$20)<=COUNTIF(joueurs,$B97),INDEX(victoires,SMALL(IF(joueurs=$B97,ROW(INDIRECT(\"1:\"&ROWS(victoires)))),ROWS($1:$20))),\"\")","v":0}]
[null,null,null,{"$f":"IF(ROWS($1:$21)<=COUNTIF(joueurs,$B97),INDEX(fautes,SMALL(IF(joueurs=$B97,ROW(INDIRECT(\"1:\"&ROWS(fautes)))),ROWS($1:$21))),\"\")","v":0},{"$f":"IF(ROWS($1:$22)<=COUNTIF(joueurs,$B97),INDEX(fautes,SMALL(IF(joueurs=$B97,ROW(INDIRECT(\"1:\"&ROWS(fautes)))),ROWS($1:$22))),\"\")","v":0},{"$f":"IF(ROWS($1:$23)<=COUNTIF(joueurs,$B97),INDEX(fautes,SMALL(IF(joueurs=$B97,ROW(INDIRECT(\"1:\"&ROWS(fautes)))),ROWS($1:$23))),\"\")","v":0},{"$f":"IF(ROWS($1:$24)<=COUNTIF(joueurs,$B97),INDEX(fautes,SMALL(IF(joueurs=$B97,ROW(INDIRECT(\"1:\"&ROWS(fautes)))),ROWS($1:$24))),\"\")","v":0},{"$f":"IF(ROWS($1:$25)<=COUNTIF(joueurs,$B97),INDEX(fautes,SMALL(IF(joueurs=$B97,ROW(INDIRECT(\"1:\"&ROWS(fautes)))),ROWS($1:$25))),\"\")","v":0},{"$f":"IF(ROWS($1:$26)<=COUNTIF(joueurs,$B97),INDEX(fautes,SMALL(IF(joueurs=$B97,ROW(INDIRECT(\"1:\"&ROWS(fautes)))),ROWS($1:$26))),\"\")","v":0},{"$f":"IF(ROWS($1:$27)<=COUNTIF(joueurs,$B97),INDEX(fautes,SMALL(IF(joueurs=$B97,ROW(INDIRECT(\"1:\"&ROWS(fautes)))),ROWS($1:$27))),\"\")","v":0},{"$f":"IF(ROWS($1:$28)<=COUNTIF(joueurs,$B97),INDEX(fautes,SMALL(IF(joueurs=$B97,ROW(INDIRECT(\"1:\"&ROWS(fautes)))),ROWS($1:$28))),\"\")","v":0},{"$f":"IF(ROWS($1:$29)<=COUNTIF(joueurs,$B97),INDEX(fautes,SMALL(IF(joueurs=$B97,ROW(INDIRECT(\"1:\"&ROWS(fautes)))),ROWS($1:$29))),\"\")","v":0},{"$f":"IF(ROWS($1:$30)<=COUNTIF(joueurs,$B97),INDEX(fautes,SMALL(IF(joueurs=$B97,ROW(INDIRECT(\"1:\"&ROWS(fautes)))),ROWS($1:$30))),\"\")","v":0},{"$f":"IF(ROWS($1:$21)<=COUNTIF(joueurs,$B97),INDEX(ballonperdus,SMALL(IF(joueurs=$B97,ROW(INDIRECT(\"1:\"&ROWS(ballonperdus)))),ROWS($1:$21))),\"\")","v":0},{"$f":"IF(ROWS($1:$22)<=COUNTIF(joueurs,$B97),INDEX(ballonperdus,SMALL(IF(joueurs=$B97,ROW(INDIRECT(\"1:\"&ROWS(ballonperdus)))),ROWS($1:$22))),\"\")","v":0},{"$f":"IF(ROWS($1:$23)<=COUNTIF(joueurs,$B97),INDEX(ballonperdus,SMALL(IF(joueurs=$B97,ROW(INDIRECT(\"1:\"&ROWS(ballonperdus)))),ROWS($1:$23))),\"\")","v":0},{"$f":"IF(ROWS($1:$24)<=COUNTIF(joueurs,$B97),INDEX(ballonperdus,SMALL(IF(joueurs=$B97,ROW(INDIRECT(\"1:\"&ROWS(ballonperdus)))),ROWS($1:$24))),\"\")","v":0},{"$f":"IF(ROWS($1:$25)<=COUNTIF(joueurs,$B97),INDEX(ballonperdus,SMALL(IF(joueurs=$B97,ROW(INDIRECT(\"1:\"&ROWS(ballonperdus)))),ROWS($1:$25))),\"\")","v":0},{"$f":"IF(ROWS($1:$26)<=COUNTIF(joueurs,$B97),INDEX(ballonperdus,SMALL(IF(joueurs=$B97,ROW(INDIRECT(\"1:\"&ROWS(ballonperdus)))),ROWS($1:$26))),\"\")","v":0},{"$f":"IF(ROWS($1:$27)<=COUNTIF(joueurs,$B97),INDEX(ballonperdus,SMALL(IF(joueurs=$B97,ROW(INDIRECT(\"1:\"&ROWS(ballonperdus)))),ROWS($1:$27))),\"\")","v":0},{"$f":"IF(ROWS($1:$28)<=COUNTIF(joueurs,$B97),INDEX(ballonperdus,SMALL(IF(joueurs=$B97,ROW(INDIRECT(\"1:\"&ROWS(ballonperdus)))),ROWS($1:$28))),\"\")","v":0},{"$f":"IF(ROWS($1:$29)<=COUNTIF(joueurs,$B97),INDEX(ballonperdus,SMALL(IF(joueurs=$B97,ROW(INDIRECT(\"1:\"&ROWS(ballonperdus)))),ROWS($1:$29))),\"\")","v":0},{"$f":"IF(ROWS($1:$30)<=COUNTIF(joueurs,$B97),INDEX(ballonperdus,SMALL(IF(joueurs=$B97,ROW(INDIRECT(\"1:\"&ROWS(ballonperdus)))),ROWS($1:$30))),\"\")","v":0},{"$f":"IF(ROWS($1:$21)<=COUNTIF(joueurs,$B97),INDEX(interceptions,SMALL(IF(joueurs=$B97,ROW(INDIRECT(\"1:\"&ROWS(interceptions)))),ROWS($1:$21))),\"\")","v":0},{"$f":"IF(ROWS($1:$22)<=COUNTIF(joueurs,$B97),INDEX(interceptions,SMALL(IF(joueurs=$B97,ROW(INDIRECT(\"1:\"&ROWS(interceptions)))),ROWS($1:$22))),\"\")","v":0},{"$f":"IF(ROWS($1:$23)<=COUNTIF(joueurs,$B97),INDEX(interceptions,SMALL(IF(joueurs=$B97,ROW(INDIRECT(\"1:\"&ROWS(interceptions)))),ROWS($1:$23))),\"\")","v":0},{"$f":"IF(ROWS($1:$24)<=COUNTIF(joueurs,$B97),INDEX(interceptions,SMALL(IF(joueurs=$B97,ROW(INDIRECT(\"1:\"&ROWS(interceptions)))),ROWS($1:$24))),\"\")","v":0},{"$f":"IF(ROWS($1:$25)<=COUNTIF(joueurs,$B97),INDEX(interceptions,SMALL(IF(joueurs=$B97,ROW(INDIRECT(\"1:\"&ROWS(interceptions)))),ROWS($1:$25))),\"\")","v":0},{"$f":"IF(ROWS($1:$26)<=COUNTIF(joueurs,$B97),INDEX(interceptions,SMALL(IF(joueurs=$B97,ROW(INDIRECT(\"1:\"&ROWS(interceptions)))),ROWS($1:$26))),\"\")","v":0},{"$f":"IF(ROWS($1:$27)<=COUNTIF(joueurs,$B97),INDEX(interceptions,SMALL(IF(joueurs=$B97,ROW(INDIRECT(\"1:\"&ROWS(interceptions)))),ROWS($1:$27))),\"\")","v":0},{"$f":"IF(ROWS($1:$28)<=COUNTIF(joueurs,$B97),INDEX(interceptions,SMALL(IF(joueurs=$B97,ROW(INDIRECT(\"1:\"&ROWS(interceptions)))),ROWS($1:$28))),\"\")","v":0},{"$f":"IF(ROWS($1:$29)<=COUNTIF(joueurs,$B97),INDEX(interceptions,SMALL(IF(joueurs=$B97,ROW(INDIRECT(\"1:\"&ROWS(interceptions)))),ROWS($1:$29))),\"\")","v":0},{"$f":"IF(ROWS($1:$30)<=COUNTIF(joueurs,$B97),INDEX(interceptions,SMALL(IF(joueurs=$B97,ROW(INDIRECT(\"1:\"&ROWS(interceptions)))),ROWS($1:$30))),\"\")","v":0},{"$f":"IF(ROWS($1:$21)<=COUNTIF(joueurs,$B97),INDEX(ballonrecuperes,SMALL(IF(joueurs=$B97,ROW(INDIRECT(\"1:\"&ROWS(ballonrecuperes)))),ROWS($1:$21))),\"\")","v":0},{"$f":"IF(ROWS($1:$22)<=COUNTIF(joueurs,$B97),INDEX(ballonrecuperes,SMALL(IF(joueurs=$B97,ROW(INDIRECT(\"1:\"&ROWS(ballonrecuperes)))),ROWS($1:$22))),\"\")","v":0},{"$f":"IF(ROWS($1:$23)<=COUNTIF(joueurs,$B97),INDEX(ballonrecuperes,SMALL(IF(joueurs=$B97,ROW(INDIRECT(\"1:\"&ROWS(ballonrecuperes)))),ROWS($1:$23))),\"\")","v":0},{"$f":"IF(ROWS($1:$24)<=COUNTIF(joueurs,$B97),INDEX(ballonrecuperes,SMALL(IF(joueurs=$B97,ROW(INDIRECT(\"1:\"&ROWS(ballonrecuperes)))),ROWS($1:$24))),\"\")","v":0},{"$f":"IF(ROWS($1:$25)<=COUNTIF(joueurs,$B97),INDEX(ballonrecuperes,SMALL(IF(joueurs=$B97,ROW(INDIRECT(\"1:\"&ROWS(ballonrecuperes)))),ROWS($1:$25))),\"\")","v":0},{"$f":"IF(ROWS($1:$26)<=COUNTIF(joueurs,$B97),INDEX(ballonrecuperes,SMALL(IF(joueurs=$B97,ROW(INDIRECT(\"1:\"&ROWS(ballonrecuperes)))),ROWS($1:$26))),\"\")","v":0},{"$f":"IF(ROWS($1:$27)<=COUNTIF(joueurs,$B97),INDEX(ballonrecuperes,SMALL(IF(joueurs=$B97,ROW(INDIRECT(\"1:\"&ROWS(ballonrecuperes)))),ROWS($1:$27))),\"\")","v":0},{"$f":"IF(ROWS($1:$28)<=COUNTIF(joueurs,$B97),INDEX(ballonrecuperes,SMALL(IF(joueurs=$B97,ROW(INDIRECT(\"1:\"&ROWS(ballonrecuperes)))),ROWS($1:$28))),\"\")","v":0},{"$f":"IF(ROWS($1:$29)<=COUNTIF(joueurs,$B97),INDEX(ballonrecuperes,SMALL(IF(joueurs=$B97,ROW(INDIRECT(\"1:\"&ROWS(ballonrecuperes)))),ROWS($1:$29))),\"\")","v":0},{"$f":"IF(ROWS($1:$30)<=COUNTIF(joueurs,$B97),INDEX(ballonrecuperes,SMALL(IF(joueurs=$B97,ROW(INDIRECT(\"1:\"&ROWS(ballonrecuperes)))),ROWS($1:$30))),\"\")","v":0},{"$f":"IF(ROWS($1:$21)<=COUNTIF(joueurs,$B97),INDEX(tirs,SMALL(IF(joueurs=$B97,ROW(INDIRECT(\"1:\"&ROWS(tirs)))),ROWS($1:$21))),\"\")","v":0},{"$f":"IF(ROWS($1:$22)<=COUNTIF(joueurs,$B97),INDEX(tirs,SMALL(IF(joueurs=$B97,ROW(INDIRECT(\"1:\"&ROWS(tirs)))),ROWS($1:$22))),\"\")","v":0},{"$f":"IF(ROWS($1:$23)<=COUNTIF(joueurs,$B97),INDEX(tirs,SMALL(IF(joueurs=$B97,ROW(INDIRECT(\"1:\"&ROWS(tirs)))),ROWS($1:$23))),\"\")","v":0},{"$f":"IF(ROWS($1:$24)<=COUNTIF(joueurs,$B97),INDEX(tirs,SMALL(IF(joueurs=$B97,ROW(INDIRECT(\"1:\"&ROWS(tirs)))),ROWS($1:$24))),\"\")","v":0},{"$f":"IF(ROWS($1:$25)<=COUNTIF(joueurs,$B97),INDEX(tirs,SMALL(IF(joueurs=$B97,ROW(INDIRECT(\"1:\"&ROWS(tirs)))),ROWS($1:$25))),\"\")","v":0},{"$f":"IF(ROWS($1:$26)<=COUNTIF(joueurs,$B97),INDEX(tirs,SMALL(IF(joueurs=$B97,ROW(INDIRECT(\"1:\"&ROWS(tirs)))),ROWS($1:$26))),\"\")","v":0},{"$f":"IF(ROWS($1:$27)<=COUNTIF(joueurs,$B97),INDEX(tirs,SMALL(IF(joueurs=$B97,ROW(INDIRECT(\"1:\"&ROWS(tirs)))),ROWS($1:$27))),\"\")","v":0},{"$f":"IF(ROWS($1:$28)<=COUNTIF(joueurs,$B97),INDEX(tirs,SMALL(IF(joueurs=$B97,ROW(INDIRECT(\"1:\"&ROWS(tirs)))),ROWS($1:$28))),\"\")","v":0},{"$f":"IF(ROWS($1:$29)<=COUNTIF(joueurs,$B97),INDEX(tirs,SMALL(IF(joueurs=$B97,ROW(INDIRECT(\"1:\"&ROWS(tirs)))),ROWS($1:$29))),\"\")","v":0},{"$f":"IF(ROWS($1:$30)<=COUNTIF(joueurs,$B97),INDEX(tirs,SMALL(IF(joueurs=$B97,ROW(INDIRECT(\"1:\"&ROWS(tirs)))),ROWS($1:$30))),\"\")","v":0},{"$f":"IF(ROWS($1:$21)<=COUNTIF(joueurs,$B97),INDEX(bontirs,SMALL(IF(joueurs=$B97,ROW(INDIRECT(\"1:\"&ROWS(bontirs)))),ROWS($1:$21))),\"\")","v":0},{"$f":"IF(ROWS($1:$22)<=COUNTIF(joueurs,$B97),INDEX(bontirs,SMALL(IF(joueurs=$B97,ROW(INDIRECT(\"1:\"&ROWS(bontirs)))),ROWS($1:$22))),\"\")","v":0},{"$f":"IF(ROWS($1:$23)<=COUNTIF(joueurs,$B97),INDEX(bontirs,SMALL(IF(joueurs=$B97,ROW(INDIRECT(\"1:\"&ROWS(bontirs)))),ROWS($1:$23))),\"\")","v":0},{"$f":"IF(ROWS($1:$24)<=COUNTIF(joueurs,$B97),INDEX(bontirs,SMALL(IF(joueurs=$B97,ROW(INDIRECT(\"1:\"&ROWS(bontirs)))),ROWS($1:$24))),\"\")","v":0},{"$f":"IF(ROWS($1:$25)<=COUNTIF(joueurs,$B97),INDEX(bontirs,SMALL(IF(joueurs=$B97,ROW(INDIRECT(\"1:\"&ROWS(bontirs)))),ROWS($1:$25))),\"\")","v":0},{"$f":"IF(ROWS($1:$26)<=COUNTIF(joueurs,$B97),INDEX(bontirs,SMALL(IF(joueurs=$B97,ROW(INDIRECT(\"1:\"&ROWS(bontirs)))),ROWS($1:$26))),\"\")","v":0},{"$f":"IF(ROWS($1:$27)<=COUNTIF(joueurs,$B97),INDEX(bontirs,SMALL(IF(joueurs=$B97,ROW(INDIRECT(\"1:\"&ROWS(bontirs)))),ROWS($1:$27))),\"\")","v":0},{"$f":"IF(ROWS($1:$28)<=COUNTIF(joueurs,$B97),INDEX(bontirs,SMALL(IF(joueurs=$B97,ROW(INDIRECT(\"1:\"&ROWS(bontirs)))),ROWS($1:$28))),\"\")","v":0},{"$f":"IF(ROWS($1:$29)<=COUNTIF(joueurs,$B97),INDEX(bontirs,SMALL(IF(joueurs=$B97,ROW(INDIRECT(\"1:\"&ROWS(bontirs)))),ROWS($1:$29))),\"\")","v":0},{"$f":"IF(ROWS($1:$30)<=COUNTIF(joueurs,$B97),INDEX(bontirs,SMALL(IF(joueurs=$B97,ROW(INDIRECT(\"1:\"&ROWS(bontirs)))),ROWS($1:$30))),\"\")","v":0},{"$f":"IF(ROWS($1:$21)<=COUNTIF(joueurs,$B97),INDEX(points,SMALL(IF(joueurs=$B97,ROW(INDIRECT(\"1:\"&ROWS(points)))),ROWS($1:$21))),\"\")","v":0},{"$f":"IF(ROWS($1:$22)<=COUNTIF(joueurs,$B97),INDEX(points,SMALL(IF(joueurs=$B97,ROW(INDIRECT(\"1:\"&ROWS(points)))),ROWS($1:$22))),\"\")","v":0},{"$f":"IF(ROWS($1:$23)<=COUNTIF(joueurs,$B97),INDEX(points,SMALL(IF(joueurs=$B97,ROW(INDIRECT(\"1:\"&ROWS(points)))),ROWS($1:$23))),\"\")","v":0},{"$f":"IF(ROWS($1:$24)<=COUNTIF(joueurs,$B97),INDEX(points,SMALL(IF(joueurs=$B97,ROW(INDIRECT(\"1:\"&ROWS(points)))),ROWS($1:$24))),\"\")","v":0},{"$f":"IF(ROWS($1:$25)<=COUNTIF(joueurs,$B97),INDEX(points,SMALL(IF(joueurs=$B97,ROW(INDIRECT(\"1:\"&ROWS(points)))),ROWS($1:$25))),\"\")","v":0},{"$f":"IF(ROWS($1:$26)<=COUNTIF(joueurs,$B97),INDEX(points,SMALL(IF(joueurs=$B97,ROW(INDIRECT(\"1:\"&ROWS(points)))),ROWS($1:$26))),\"\")","v":0},{"$f":"IF(ROWS($1:$27)<=COUNTIF(joueurs,$B97),INDEX(points,SMALL(IF(joueurs=$B97,ROW(INDIRECT(\"1:\"&ROWS(points)))),ROWS($1:$27))),\"\")","v":0},{"$f":"IF(ROWS($1:$28)<=COUNTIF(joueurs,$B97),INDEX(points,SMALL(IF(joueurs=$B97,ROW(INDIRECT(\"1:\"&ROWS(points)))),ROWS($1:$28))),\"\")","v":0},{"$f":"IF(ROWS($1:$29)<=COUNTIF(joueurs,$B97),INDEX(points,SMALL(IF(joueurs=$B97,ROW(INDIRECT(\"1:\"&ROWS(points)))),ROWS($1:$29))),\"\")","v":0},{"$f":"IF(ROWS($1:$30)<=COUNTIF(joueurs,$B97),INDEX(points,SMALL(IF(joueurs=$B97,ROW(INDIRECT(\"1:\"&ROWS(points)))),ROWS($1:$30))),\"\")","v":0},{"$f":"IF(ROWS($1:$21)<=COUNTIF(joueurs,$B97),INDEX(victoires,SMALL(IF(joueurs=$B97,ROW(INDIRECT(\"1:\"&ROWS(victoires)))),ROWS($1:$21))),\"\")","v":0},{"$f":"IF(ROWS($1:$22)<=COUNTIF(joueurs,$B97),INDEX(victoires,SMALL(IF(joueurs=$B97,ROW(INDIRECT(\"1:\"&ROWS(victoires)))),ROWS($1:$22))),\"\")","v":0},{"$f":"IF(ROWS($1:$23)<=COUNTIF(joueurs,$B97),INDEX(victoires,SMALL(IF(joueurs=$B97,ROW(INDIRECT(\"1:\"&ROWS(victoires)))),ROWS($1:$23))),\"\")","v":0},{"$f":"IF(ROWS($1:$24)<=COUNTIF(joueurs,$B97),INDEX(victoires,SMALL(IF(joueurs=$B97,ROW(INDIRECT(\"1:\"&ROWS(victoires)))),ROWS($1:$24))),\"\")","v":0},{"$f":"IF(ROWS($1:$25)<=COUNTIF(joueurs,$B97),INDEX(victoires,SMALL(IF(joueurs=$B97,ROW(INDIRECT(\"1:\"&ROWS(victoires)))),ROWS($1:$25))),\"\")","v":0},{"$f":"IF(ROWS($1:$26)<=COUNTIF(joueurs,$B97),INDEX(victoires,SMALL(IF(joueurs=$B97,ROW(INDIRECT(\"1:\"&ROWS(victoires)))),ROWS($1:$26))),\"\")","v":0},{"$f":"IF(ROWS($1:$27)<=COUNTIF(joueurs,$B97),INDEX(victoires,SMALL(IF(joueurs=$B97,ROW(INDIRECT(\"1:\"&ROWS(victoires)))),ROWS($1:$27))),\"\")","v":0},{"$f":"IF(ROWS($1:$28)<=COUNTIF(joueurs,$B97),INDEX(victoires,SMALL(IF(joueurs=$B97,ROW(INDIRECT(\"1:\"&ROWS(victoires)))),ROWS($1:$28))),\"\")","v":0},{"$f":"IF(ROWS($1:$29)<=COUNTIF(joueurs,$B97),INDEX(victoires,SMALL(IF(joueurs=$B97,ROW(INDIRECT(\"1:\"&ROWS(victoires)))),ROWS($1:$29))),\"\")","v":0},{"$f":"IF(ROWS($1:$30)<=COUNTIF(joueurs,$B97),INDEX(victoires,SMALL(IF(joueurs=$B97,ROW(INDIRECT(\"1:\"&ROWS(victoires)))),ROWS($1:$30))),\"\")","v":0}]
[null,null,null,{"$f":"IF(ROWS($1:$31)<=COUNTIF(joueurs,$B97),INDEX(fautes,SMALL(IF(joueurs=$B97,ROW(INDIRECT(\"1:\"&ROWS(fautes)))),ROWS($1:$31))),\"\")","v":0},{"$f":"IF(ROWS($1:$32)<=COUNTIF(joueurs,$B97),INDEX(fautes,SMALL(IF(joueurs=$B97,ROW(INDIRECT(\"1:\"&ROWS(fautes)))),ROWS($1:$32))),\"\")","v":0},{"$f":"IF(ROWS($1:$33)<=COUNTIF(joueurs,$B97),INDEX(fautes,SMALL(IF(joueurs=$B97,ROW(INDIRECT(\"1:\"&ROWS(fautes)))),ROWS($1:$33))),\"\")","v":0},{"$f":"IF(ROWS($1:$34)<=COUNTIF(joueurs,$B97),INDEX(fautes,SMALL(IF(joueurs=$B97,ROW(INDIRECT(\"1:\"&ROWS(fautes)))),ROWS($1:$34))),\"\")","v":0},{"$f":"IF(ROWS($1:$35)<=COUNTIF(joueurs,$B97),INDEX(fautes,SMALL(IF(joueurs=$B97,ROW(INDIRECT(\"1:\"&ROWS(fautes)))),ROWS($1:$35))),\"\")","v":0},{"$f":"IF(ROWS($1:$36)<=COUNTIF(joueurs,$B97),INDEX(fautes,SMALL(IF(joueurs=$B97,ROW(INDIRECT(\"1:\"&ROWS(fautes)))),ROWS($1:$36))),\"\")","v":0},{"$f":"IF(ROWS($1:$37)<=COUNTIF(joueurs,$B97),INDEX(fautes,SMALL(IF(joueurs=$B97,ROW(INDIRECT(\"1:\"&ROWS(fautes)))),ROWS($1:$37))),\"\")","v":0},{"$f":"IF(ROWS($1:$38)<=COUNTIF(joueurs,$B97),INDEX(fautes,SMALL(IF(joueurs=$B97,ROW(INDIRECT(\"1:\"&ROWS(fautes)))),ROWS($1:$38))),\"\")","v":0},{"$f":"IF(ROWS($1:$39)<=COUNTIF(joueurs,$B97),INDEX(fautes,SMALL(IF(joueurs=$B97,ROW(INDIRECT(\"1:\"&ROWS(fautes)))),ROWS($1:$39))),\"\")","v":0},{"$f":"IF(ROWS($1:$40)<=COUNTIF(joueurs,$B97),INDEX(fautes,SMALL(IF(joueurs=$B97,ROW(INDIRECT(\"1:\"&ROWS(fautes)))),ROWS($1:$40))),\"\")","v":0},{"$f":"IF(ROWS($1:$31)<=COUNTIF(joueurs,$B97),INDEX(ballonperdus,SMALL(IF(joueurs=$B97,ROW(INDIRECT(\"1:\"&ROWS(ballonperdus)))),ROWS($1:$31))),\"\")","v":0},{"$f":"IF(ROWS($1:$32)<=COUNTIF(joueurs,$B97),INDEX(ballonperdus,SMALL(IF(joueurs=$B97,ROW(INDIRECT(\"1:\"&ROWS(ballonperdus)))),ROWS($1:$32))),\"\")","v":0},{"$f":"IF(ROWS($1:$33)<=COUNTIF(joueurs,$B97),INDEX(ballonperdus,SMALL(IF(joueurs=$B97,ROW(INDIRECT(\"1:\"&ROWS(ballonperdus)))),ROWS($1:$33))),\"\")","v":0},{"$f":"IF(ROWS($1:$34)<=COUNTIF(joueurs,$B97),INDEX(ballonperdus,SMALL(IF(joueurs=$B97,ROW(INDIRECT(\"1:\"&ROWS(ballonperdus)))),ROWS($1:$34))),\"\")","v":0},{"$f":"IF(ROWS($1:$35)<=COUNTIF(joueurs,$B97),INDEX(ballonperdus,SMALL(IF(joueurs=$B97,ROW(INDIRECT(\"1:\"&ROWS(ballonperdus)))),ROWS($1:$35))),\"\")","v":0},{"$f":"IF(ROWS($1:$36)<=COUNTIF(joueurs,$B97),INDEX(ballonperdus,SMALL(IF(joueurs=$B97,ROW(INDIRECT(\"1:\"&ROWS(ballonperdus)))),ROWS($1:$36))),\"\")","v":0},{"$f":"IF(ROWS($1:$37)<=COUNTIF(joueurs,$B97),INDEX(ballonperdus,SMALL(IF(joueurs=$B97,ROW(INDIRECT(\"1:\"&ROWS(ballonperdus)))),ROWS($1:$37))),\"\")","v":0},{"$f":"IF(ROWS($1:$38)<=COUNTIF(joueurs,$B97),INDEX(ballonperdus,SMALL(IF(joueurs=$B97,ROW(INDIRECT(\"1:\"&ROWS(ballonperdus)))),ROWS($1:$38))),\"\")","v":0},{"$f":"IF(ROWS($1:$39)<=COUNTIF(joueurs,$B97),INDEX(ballonperdus,SMALL(IF(joueurs=$B97,ROW(INDIRECT(\"1:\"&ROWS(ballonperdus)))),ROWS($1:$39))),\"\")","v":0},{"$f":"IF(ROWS($1:$40)<=COUNTIF(joueurs,$B97),INDEX(ballonperdus,SMALL(IF(joueurs=$B97,ROW(INDIRECT(\"1:\"&ROWS(ballonperdus)))),ROWS($1:$40))),\"\")","v":0},{"$f":"IF(ROWS($1:$31)<=COUNTIF(joueurs,$B97),INDEX(interceptions,SMALL(IF(joueurs=$B97,ROW(INDIRECT(\"1:\"&ROWS(interceptions)))),ROWS($1:$31))),\"\")","v":0},{"$f":"IF(ROWS($1:$32)<=COUNTIF(joueurs,$B97),INDEX(interceptions,SMALL(IF(joueurs=$B97,ROW(INDIRECT(\"1:\"&ROWS(interceptions)))),ROWS($1:$32))),\"\")","v":0},{"$f":"IF(ROWS($1:$33)<=COUNTIF(joueurs,$B97),INDEX(interceptions,SMALL(IF(joueurs=$B97,ROW(INDIRECT(\"1:\"&ROWS(interceptions)))),ROWS($1:$33))),\"\")","v":0},{"$f":"IF(ROWS($1:$34)<=COUNTIF(joueurs,$B97),INDEX(interceptions,SMALL(IF(joueurs=$B97,ROW(INDIRECT(\"1:\"&ROWS(interceptions)))),ROWS($1:$34))),\"\")","v":0},{"$f":"IF(ROWS($1:$35)<=COUNTIF(joueurs,$B97),INDEX(interceptions,SMALL(IF(joueurs=$B97,ROW(INDIRECT(\"1:\"&ROWS(interceptions)))),ROWS($1:$35))),\"\")","v":0},{"$f":"IF(ROWS($1:$36)<=COUNTIF(joueurs,$B97),INDEX(interceptions,SMALL(IF(joueurs=$B97,ROW(INDIRECT(\"1:\"&ROWS(interceptions)))),ROWS($1:$36))),\"\")","v":0},{"$f":"IF(ROWS($1:$37)<=COUNTIF(joueurs,$B97),INDEX(interceptions,SMALL(IF(joueurs=$B97,ROW(INDIRECT(\"1:\"&ROWS(interceptions)))),ROWS($1:$37))),\"\")","v":0},{"$f":"IF(ROWS($1:$38)<=COUNTIF(joueurs,$B97),INDEX(interceptions,SMALL(IF(joueurs=$B97,ROW(INDIRECT(\"1:\"&ROWS(interceptions)))),ROWS($1:$38))),\"\")","v":0},{"$f":"IF(ROWS($1:$39)<=COUNTIF(joueurs,$B97),INDEX(interceptions,SMALL(IF(joueurs=$B97,ROW(INDIRECT(\"1:\"&ROWS(interceptions)))),ROWS($1:$39))),\"\")","v":0},{"$f":"IF(ROWS($1:$40)<=COUNTIF(joueurs,$B97),INDEX(interceptions,SMALL(IF(joueurs=$B97,ROW(INDIRECT(\"1:\"&ROWS(interceptions)))),ROWS($1:$40))),\"\")","v":0},{"$f":"IF(ROWS($1:$31)<=COUNTIF(joueurs,$B97),INDEX(ballonrecuperes,SMALL(IF(joueurs=$B97,ROW(INDIRECT(\"1:\"&ROWS(ballonrecuperes)))),ROWS($1:$31))),\"\")","v":0},{"$f":"IF(ROWS($1:$32)<=COUNTIF(joueurs,$B97),INDEX(ballonrecuperes,SMALL(IF(joueurs=$B97,ROW(INDIRECT(\"1:\"&ROWS(ballonrecuperes)))),ROWS($1:$32))),\"\")","v":0},{"$f":"IF(ROWS($1:$33)<=COUNTIF(joueurs,$B97),INDEX(ballonrecuperes,SMALL(IF(joueurs=$B97,ROW(INDIRECT(\"1:\"&ROWS(ballonrecuperes)))),ROWS($1:$33))),\"\")","v":0},{"$f":"IF(ROWS($1:$34)<=COUNTIF(joueurs,$B97),INDEX(ballonrecuperes,SMALL(IF(joueurs=$B97,ROW(INDIRECT(\"1:\"&ROWS(ballonrecuperes)))),ROWS($1:$34))),\"\")","v":0},{"$f":"IF(ROWS($1:$35)<=COUNTIF(joueurs,$B97),INDEX(ballonrecuperes,SMALL(IF(joueurs=$B97,ROW(INDIRECT(\"1:\"&ROWS(ballonrecuperes)))),ROWS($1:$35))),\"\")","v":0},{"$f":"IF(ROWS($1:$36)<=COUNTIF(joueurs,$B97),INDEX(ballonrecuperes,SMALL(IF(joueurs=$B97,ROW(INDIRECT(\"1:\"&ROWS(ballonrecuperes)))),ROWS($1:$36))),\"\")","v":0},{"$f":"IF(ROWS($1:$37)<=COUNTIF(joueurs,$B97),INDEX(ballonrecuperes,SMALL(IF(joueurs=$B97,ROW(INDIRECT(\"1:\"&ROWS(ballonrecuperes)))),ROWS($1:$37))),\"\")","v":0},{"$f":"IF(ROWS($1:$38)<=COUNTIF(joueurs,$B97),INDEX(ballonrecuperes,SMALL(IF(joueurs=$B97,ROW(INDIRECT(\"1:\"&ROWS(ballonrecuperes)))),ROWS($1:$38))),\"\")","v":0},{"$f":"IF(ROWS($1:$39)<=COUNTIF(joueurs,$B97),INDEX(ballonrecuperes,SMALL(IF(joueurs=$B97,ROW(INDIRECT(\"1:\"&ROWS(ballonrecuperes)))),ROWS($1:$39))),\"\")","v":0},{"$f":"IF(ROWS($1:$40)<=COUNTIF(joueurs,$B97),INDEX(ballonrecuperes,SMALL(IF(joueurs=$B97,ROW(INDIRECT(\"1:\"&ROWS(ballonrecuperes)))),ROWS($1:$40))),\"\")","v":0},{"$f":"IF(ROWS($1:$31)<=COUNTIF(joueurs,$B97),INDEX(tirs,SMALL(IF(joueurs=$B97,ROW(INDIRECT(\"1:\"&ROWS(tirs)))),ROWS($1:$31))),\"\")","v":0},{"$f":"IF(ROWS($1:$32)<=COUNTIF(joueurs,$B97),INDEX(tirs,SMALL(IF(joueurs=$B97,ROW(INDIRECT(\"1:\"&ROWS(tirs)))),ROWS($1:$32))),\"\")","v":0},{"$f":"IF(ROWS($1:$33)<=COUNTIF(joueurs,$B97),INDEX(tirs,SMALL(IF(joueurs=$B97,ROW(INDIRECT(\"1:\"&ROWS(tirs)))),ROWS($1:$33))),\"\")","v":0},{"$f":"IF(ROWS($1:$34)<=COUNTIF(joueurs,$B97),INDEX(tirs,SMALL(IF(joueurs=$B97,ROW(INDIRECT(\"1:\"&ROWS(tirs)))),ROWS($1:$34))),\"\")","v":0},{"$f":"IF(ROWS($1:$35)<=COUNTIF(joueurs,$B97),INDEX(tirs,SMALL(IF(joueurs=$B97,ROW(INDIRECT(\"1:\"&ROWS(tirs)))),ROWS($1:$35))),\"\")","v":0},{"$f":"IF(ROWS($1:$36)<=COUNTIF(joueurs,$B97),INDEX(tirs,SMALL(IF(joueurs=$B97,ROW(INDIRECT(\"1:\"&ROWS(tirs)))),ROWS($1:$36))),\"\")","v":0},{"$f":"IF(ROWS($1:$37)<=COUNTIF(joueurs,$B97),INDEX(tirs,SMALL(IF(joueurs=$B97,ROW(INDIRECT(\"1:\"&ROWS(tirs)))),ROWS($1:$37))),\"\")","v":0},{"$f":"IF(ROWS($1:$38)<=COUNTIF(joueurs,$B97),INDEX(tirs,SMALL(IF(joueurs=$B97,ROW(INDIRECT(\"1:\"&ROWS(tirs)))),ROWS($1:$38))),\"\")","v":0},{"$f":"IF(ROWS($1:$39)<=COUNTIF(joueurs,$B97),INDEX(tirs,SMALL(IF(joueurs=$B97,ROW(INDIRECT(\"1:\"&ROWS(tirs)))),ROWS($1:$39))),\"\")","v":0},{"$f":"IF(ROWS($1:$40)<=COUNTIF(joueurs,$B97),INDEX(tirs,SMALL(IF(joueurs=$B97,ROW(INDIRECT(\"1:\"&ROWS(tirs)))),ROWS($1:$40))),\"\")","v":0},{"$f":"IF(ROWS($1:$31)<=COUNTIF(joueurs,$B97),INDEX(bontirs,SMALL(IF(joueurs=$B97,ROW(INDIRECT(\"1:\"&ROWS(bontirs)))),ROWS($1:$31))),\"\")","v":0},{"$f":"IF(ROWS($1:$32)<=COUNTIF(joueurs,$B97),INDEX(bontirs,SMALL(IF(joueurs=$B97,ROW(INDIRECT(\"1:\"&ROWS(bontirs)))),ROWS($1:$32))),\"\")","v":0},{"$f":"IF(ROWS($1:$33)<=COUNTIF(joueurs,$B97),INDEX(bontirs,SMALL(IF(joueurs=$B97,ROW(INDIRECT(\"1:\"&ROWS(bontirs)))),ROWS($1:$33))),\"\")","v":0},{"$f":"IF(ROWS($1:$34)<=COUNTIF(joueurs,$B97),INDEX(bontirs,SMALL(IF(joueurs=$B97,ROW(INDIRECT(\"1:\"&ROWS(bontirs)))),ROWS($1:$34))),\"\")","v":0},{"$f":"IF(ROWS($1:$35)<=COUNTIF(joueurs,$B97),INDEX(bontirs,SMALL(IF(joueurs=$B97,ROW(INDIRECT(\"1:\"&ROWS(bontirs)))),ROWS($1:$35))),\"\")","v":0},{"$f":"IF(ROWS($1:$36)<=COUNTIF(joueurs,$B97),INDEX(bontirs,SMALL(IF(joueurs=$B97,ROW(INDIRECT(\"1:\"&ROWS(bontirs)))),ROWS($1:$36))),\"\")","v":0},{"$f":"IF(ROWS($1:$37)<=COUNTIF(joueurs,$B97),INDEX(bontirs,SMALL(IF(joueurs=$B97,ROW(INDIRECT(\"1:\"&ROWS(bontirs)))),ROWS($1:$37))),\"\")","v":0},{"$f":"IF(ROWS($1:$38)<=COUNTIF(joueurs,$B97),INDEX(bontirs,SMALL(IF(joueurs=$B97,ROW(INDIRECT(\"1:\"&ROWS(bontirs)))),ROWS($1:$38))),\"\")","v":0},{"$f":"IF(ROWS($1:$39)<=COUNTIF(joueurs,$B97),INDEX(bontirs,SMALL(IF(joueurs=$B97,ROW(INDIRECT(\"1:\"&ROWS(bontirs)))),ROWS($1:$39))),\"\")","v":0},{"$f":"IF(ROWS($1:$40)<=COUNTIF(joueurs,$B97),INDEX(bontirs,SMALL(IF(joueurs=$B97,ROW(INDIRECT(\"1:\"&ROWS(bontirs)))),ROWS($1:$40))),\"\")","v":0},{"$f":"IF(ROWS($1:$31)<=COUNTIF(joueurs,$B97),INDEX(points,SMALL(IF(joueurs=$B97,ROW(INDIRECT(\"1:\"&ROWS(points)))),ROWS($1:$31))),\"\")","v":0},{"$f":"IF(ROWS($1:$32)<=COUNTIF(joueurs,$B97),INDEX(points,SMALL(IF(joueurs=$B97,ROW(INDIRECT(\"1:\"&ROWS(points)))),ROWS($1:$32))),\"\")","v":0},{"$f":"IF(ROWS($1:$33)<=COUNTIF(joueurs,$B97),INDEX(points,SMALL(IF(joueurs=$B97,ROW(INDIRECT(\"1:\"&ROWS(points)))),ROWS($1:$33))),\"\")","v":0},{"$f":"IF(ROWS($1:$34)<=COUNTIF(joueurs,$B97),INDEX(points,SMALL(IF(joueurs=$B97,ROW(INDIRECT(\"1:\"&ROWS(points)))),ROWS($1:$34))),\"\")","v":0},{"$f":"IF(ROWS($1:$35)<=COUNTIF(joueurs,$B97),INDEX(points,SMALL(IF(joueurs=$B97,ROW(INDIRECT(\"1:\"&ROWS(points)))),ROWS($1:$35))),\"\")","v":0},{"$f":"IF(ROWS($1:$36)<=COUNTIF(joueurs,$B97),INDEX(points,SMALL(IF(joueurs=$B97,ROW(INDIRECT(\"1:\"&ROWS(points)))),ROWS($1:$36))),\"\")","v":0},{"$f":"IF(ROWS($1:$37)<=COUNTIF(joueurs,$B97),INDEX(points,SMALL(IF(joueurs=$B97,ROW(INDIRECT(\"1:\"&ROWS(points)))),ROWS($1:$37))),\"\")","v":0},{"$f":"IF(ROWS($1:$38)<=COUNTIF(joueurs,$B97),INDEX(points,SMALL(IF(joueurs=$B97,ROW(INDIRECT(\"1:\"&ROWS(points)))),ROWS($1:$38))),\"\")","v":0},{"$f":"IF(ROWS($1:$39)<=COUNTIF(joueurs,$B97),INDEX(points,SMALL(IF(joueurs=$B97,ROW(INDIRECT(\"1:\"&ROWS(points)))),ROWS($1:$39))),\"\")","v":0},{"$f":"IF(ROWS($1:$40)<=COUNTIF(joueurs,$B97),INDEX(points,SMALL(IF(joueurs=$B97,ROW(INDIRECT(\"1:\"&ROWS(points)))),ROWS($1:$40))),\"\")","v":0},{"$f":"IF(ROWS($1:$31)<=COUNTIF(joueurs,$B97),INDEX(victoires,SMALL(IF(joueurs=$B97,ROW(INDIRECT(\"1:\"&ROWS(victoires)))),ROWS($1:$31))),\"\")","v":0},{"$f":"IF(ROWS($1:$32)<=COUNTIF(joueurs,$B97),INDEX(victoires,SMALL(IF(joueurs=$B97,ROW(INDIRECT(\"1:\"&ROWS(victoires)))),ROWS($1:$32))),\"\")","v":0},{"$f":"IF(ROWS($1:$33)<=COUNTIF(joueurs,$B97),INDEX(victoires,SMALL(IF(joueurs=$B97,ROW(INDIRECT(\"1:\"&ROWS(victoires)))),ROWS($1:$33))),\"\")","v":0},{"$f":"IF(ROWS($1:$34)<=COUNTIF(joueurs,$B97),INDEX(victoires,SMALL(IF(joueurs=$B97,ROW(INDIRECT(\"1:\"&ROWS(victoires)))),ROWS($1:$34))),\"\")","v":0},{"$f":"IF(ROWS($1:$35)<=COUNTIF(joueurs,$B97),INDEX(victoires,SMALL(IF(joueurs=$B97,ROW(INDIRECT(\"1:\"&ROWS(victoires)))),ROWS($1:$35))),\"\")","v":0},{"$f":"IF(ROWS($1:$36)<=COUNTIF(joueurs,$B97),INDEX(victoires,SMALL(IF(joueurs=$B97,ROW(INDIRECT(\"1:\"&ROWS(victoires)))),ROWS($1:$36))),\"\")","v":0},{"$f":"IF(ROWS($1:$37)<=COUNTIF(joueurs,$B97),INDEX(victoires,SMALL(IF(joueurs=$B97,ROW(INDIRECT(\"1:\"&ROWS(victoires)))),ROWS($1:$37))),\"\")","v":0},{"$f":"IF(ROWS($1:$38)<=COUNTIF(joueurs,$B97),INDEX(victoires,SMALL(IF(joueurs=$B97,ROW(INDIRECT(\"1:\"&ROWS(victoires)))),ROWS($1:$38))),\"\")","v":0},{"$f":"IF(ROWS($1:$39)<=COUNTIF(joueurs,$B97),INDEX(victoires,SMALL(IF(joueurs=$B97,ROW(INDIRECT(\"1:\"&ROWS(victoires)))),ROWS($1:$39))),\"\")","v":0},{"$f":"IF(ROWS($1:$40)<=COUNTIF(joueurs,$B97),INDEX(victoires,SMALL(IF(joueurs=$B97,ROW(INDIRECT(\"1:\"&ROWS(victoires)))),ROWS($1:$40))),\"\")","v":0}]
[25,{"$f":"INDEX(eleves,MATCH(A101,numero,0),MATCH($B$2,classes,0))","v":0},null,{"$f":"IF(ROWS($1:$1)<=COUNTIF(joueurs,$B101),INDEX(fautes,SMALL(IF(joueurs=$B101,ROW(INDIRECT(\"1:\"&ROWS(fautes)))),ROWS($1:$1))),\"\")","v":0},{"$f":"IF(ROWS($1:$2)<=COUNTIF(joueurs,$B101),INDEX(fautes,SMALL(IF(joueurs=$B101,ROW(INDIRECT(\"1:\"&ROWS(fautes)))),ROWS($1:$2))),\"\")","v":0},{"$f":"IF(ROWS($1:$3)<=COUNTIF(joueurs,$B101),INDEX(fautes,SMALL(IF(joueurs=$B101,ROW(INDIRECT(\"1:\"&ROWS(fautes)))),ROWS($1:$3))),\"\")","v":0},{"$f":"IF(ROWS($1:$4)<=COUNTIF(joueurs,$B101),INDEX(fautes,SMALL(IF(joueurs=$B101,ROW(INDIRECT(\"1:\"&ROWS(fautes)))),ROWS($1:$4))),\"\")","v":0},{"$f":"IF(ROWS($1:$5)<=COUNTIF(joueurs,$B101),INDEX(fautes,SMALL(IF(joueurs=$B101,ROW(INDIRECT(\"1:\"&ROWS(fautes)))),ROWS($1:$5))),\"\")","v":0},{"$f":"IF(ROWS($1:$6)<=COUNTIF(joueurs,$B101),INDEX(fautes,SMALL(IF(joueurs=$B101,ROW(INDIRECT(\"1:\"&ROWS(fautes)))),ROWS($1:$6))),\"\")","v":0},{"$f":"IF(ROWS($1:$7)<=COUNTIF(joueurs,$B101),INDEX(fautes,SMALL(IF(joueurs=$B101,ROW(INDIRECT(\"1:\"&ROWS(fautes)))),ROWS($1:$7))),\"\")","v":0},{"$f":"IF(ROWS($1:$8)<=COUNTIF(joueurs,$B101),INDEX(fautes,SMALL(IF(joueurs=$B101,ROW(INDIRECT(\"1:\"&ROWS(fautes)))),ROWS($1:$8))),\"\")","v":0},{"$f":"IF(ROWS($1:$9)<=COUNTIF(joueurs,$B101),INDEX(fautes,SMALL(IF(joueurs=$B101,ROW(INDIRECT(\"1:\"&ROWS(fautes)))),ROWS($1:$9))),\"\")","v":0},{"$f":"IF(ROWS($1:$10)<=COUNTIF(joueurs,$B101),INDEX(fautes,SMALL(IF(joueurs=$B101,ROW(INDIRECT(\"1:\"&ROWS(fautes)))),ROWS($1:$10))),\"\")","v":0},{"$f":"IF(ROWS($1:$1)<=COUNTIF(joueurs,$B101),INDEX(ballonperdus,SMALL(IF(joueurs=$B101,ROW(INDIRECT(\"1:\"&ROWS(ballonperdus)))),ROWS($1:$1))),\"\")","v":0},{"$f":"IF(ROWS($1:$2)<=COUNTIF(joueurs,$B101),INDEX(ballonperdus,SMALL(IF(joueurs=$B101,ROW(INDIRECT(\"1:\"&ROWS(ballonperdus)))),ROWS($1:$2))),\"\")","v":0},{"$f":"IF(ROWS($1:$3)<=COUNTIF(joueurs,$B101),INDEX(ballonperdus,SMALL(IF(joueurs=$B101,ROW(INDIRECT(\"1:\"&ROWS(ballonperdus)))),ROWS($1:$3))),\"\")","v":0},{"$f":"IF(ROWS($1:$4)<=COUNTIF(joueurs,$B101),INDEX(ballonperdus,SMALL(IF(joueurs=$B101,ROW(INDIRECT(\"1:\"&ROWS(ballonperdus)))),ROWS($1:$4))),\"\")","v":0},{"$f":"IF(ROWS($1:$5)<=COUNTIF(joueurs,$B101),INDEX(ballonperdus,SMALL(IF(joueurs=$B101,ROW(INDIRECT(\"1:\"&ROWS(ballonperdus)))),ROWS($1:$5))),\"\")","v":0},{"$f":"IF(ROWS($1:$6)<=COUNTIF(joueurs,$B101),INDEX(ballonperdus,SMALL(IF(joueurs=$B101,ROW(INDIRECT(\"1:\"&ROWS(ballonperdus)))),ROWS($1:$6))),\"\")","v":0},{"$f":"IF(ROWS($1:$7)<=COUNTIF(joueurs,$B101),INDEX(ballonperdus,SMALL(IF(joueurs=$B101,ROW(INDIRECT(\"1:\"&ROWS(ballonperdus)))),ROWS($1:$7))),\"\")","v":0},{"$f":"IF(ROWS($1:$8)<=COUNTIF(joueurs,$B101),INDEX(ballonperdus,SMALL(IF(joueurs=$B101,ROW(INDIRECT(\"1:\"&ROWS(ballonperdus)))),ROWS($1:$8))),\"\")","v":0},{"$f":"IF(ROWS($1:$9)<=COUNTIF(joueurs,$B101),INDEX(ballonperdus,SMALL(IF(joueurs=$B101,ROW(INDIRECT(\"1:\"&ROWS(ballonperdus)))),ROWS($1:$9))),\"\")","v":0},{"$f":"IF(ROWS($1:$10)<=COUNTIF(joueurs,$B101),INDEX(ballonperdus,SMALL(IF(joueurs=$B101,ROW(INDIRECT(\"1:\"&ROWS(ballonperdus)))),ROWS($1:$10))),\"\")","v":0},{"$f":"IF(ROWS($1:$1)<=COUNTIF(joueurs,$B101),INDEX(interceptions,SMALL(IF(joueurs=$B101,ROW(INDIRECT(\"1:\"&ROWS(interceptions)))),ROWS($1:$1))),\"\")","v":0},{"$f":"IF(ROWS($1:$2)<=COUNTIF(joueurs,$B101),INDEX(interceptions,SMALL(IF(joueurs=$B101,ROW(INDIRECT(\"1:\"&ROWS(interceptions)))),ROWS($1:$2))),\"\")","v":0},{"$f":"IF(ROWS($1:$3)<=COUNTIF(joueurs,$B101),INDEX(interceptions,SMALL(IF(joueurs=$B101,ROW(INDIRECT(\"1:\"&ROWS(interceptions)))),ROWS($1:$3))),\"\")","v":0},{"$f":"IF(ROWS($1:$4)<=COUNTIF(joueurs,$B101),INDEX(interceptions,SMALL(IF(joueurs=$B101,ROW(INDIRECT(\"1:\"&ROWS(interceptions)))),ROWS($1:$4))),\"\")","v":0},{"$f":"IF(ROWS($1:$5)<=COUNTIF(joueurs,$B101),INDEX(interceptions,SMALL(IF(joueurs=$B101,ROW(INDIRECT(\"1:\"&ROWS(interceptions)))),ROWS($1:$5))),\"\")","v":0},{"$f":"IF(ROWS($1:$6)<=COUNTIF(joueurs,$B101),INDEX(interceptions,SMALL(IF(joueurs=$B101,ROW(INDIRECT(\"1:\"&ROWS(interceptions)))),ROWS($1:$6))),\"\")","v":0},{"$f":"IF(ROWS($1:$7)<=COUNTIF(joueurs,$B101),INDEX(interceptions,SMALL(IF(joueurs=$B101,ROW(INDIRECT(\"1:\"&ROWS(interceptions)))),ROWS($1:$7))),\"\")","v":0},{"$f":"IF(ROWS($1:$8)<=COUNTIF(joueurs,$B101),INDEX(interceptions,SMALL(IF(joueurs=$B101,ROW(INDIRECT(\"1:\"&ROWS(interceptions)))),ROWS($1:$8))),\"\")","v":0},{"$f":"IF(ROWS($1:$9)<=COUNTIF(joueurs,$B101),INDEX(interceptions,SMALL(IF(joueurs=$B101,ROW(INDIRECT(\"1:\"&ROWS(interceptions)))),ROWS($1:$9))),\"\")","v":0},{"$f":"IF(ROWS($1:$10)<=COUNTIF(joueurs,$B101),INDEX(interceptions,SMALL(IF(joueurs=$B101,ROW(INDIRECT(\"1:\"&ROWS(interceptions)))),ROWS($1:$10))),\"\")","v":0},{"$f":"IF(ROWS($1:$1)<=COUNTIF(joueurs,$B101),INDEX(ballonrecuperes,SMALL(IF(joueurs=$B101,ROW(INDIRECT(\"1:\"&ROWS(ballonrecuperes)))),ROWS($1:$1))),\"\")","v":0},{"$f":"IF(ROWS($1:$2)<=COUNTIF(joueurs,$B101),INDEX(ballonrecuperes,SMALL(IF(joueurs=$B101,ROW(INDIRECT(\"1:\"&ROWS(ballonrecuperes)))),ROWS($1:$2))),\"\")","v":0},{"$f":"IF(ROWS($1:$3)<=COUNTIF(joueurs,$B101),INDEX(ballonrecuperes,SMALL(IF(joueurs=$B101,ROW(INDIRECT(\"1:\"&ROWS(ballonrecuperes)))),ROWS($1:$3))),\"\")","v":0},{"$f":"IF(ROWS($1:$4)<=COUNTIF(joueurs,$B101),INDEX(ballonrecuperes,SMALL(IF(joueurs=$B101,ROW(INDIRECT(\"1:\"&ROWS(ballonrecuperes)))),ROWS($1:$4))),\"\")","v":0},{"$f":"IF(ROWS($1:$5)<=COUNTIF(joueurs,$B101),INDEX(ballonrecuperes,SMALL(IF(joueurs=$B101,ROW(INDIRECT(\"1:\"&ROWS(ballonrecuperes)))),ROWS($1:$5))),\"\")","v":0},{"$f":"IF(ROWS($1:$6)<=COUNTIF(joueurs,$B101),INDEX(ballonrecuperes,SMALL(IF(joueurs=$B101,ROW(INDIRECT(\"1:\"&ROWS(ballonrecuperes)))),ROWS($1:$6))),\"\")","v":0},{"$f":"IF(ROWS($1:$7)<=COUNTIF(joueurs,$B101),INDEX(ballonrecuperes,SMALL(IF(joueurs=$B101,ROW(INDIRECT(\"1:\"&ROWS(ballonrecuperes)))),ROWS($1:$7))),\"\")","v":0},{"$f":"IF(ROWS($1:$8)<=COUNTIF(joueurs,$B101),INDEX(ballonrecuperes,SMALL(IF(joueurs=$B101,ROW(INDIRECT(\"1:\"&ROWS(ballonrecuperes)))),ROWS($1:$8))),\"\")","v":0},{"$f":"IF(ROWS($1:$9)<=COUNTIF(joueurs,$B101),INDEX(ballonrecuperes,SMALL(IF(joueurs=$B101,ROW(INDIRECT(\"1:\"&ROWS(ballonrecuperes)))),ROWS($1:$9))),\"\")","v":0},{"$f":"IF(ROWS($1:$10)<=COUNTIF(joueurs,$B101),INDEX(ballonrecuperes,SMALL(IF(joueurs=$B101,ROW(INDIRECT(\"1:\"&ROWS(ballonrecuperes)))),ROWS($1:$10))),\"\")","v":0},{"$f":"IF(ROWS($1:$1)<=COUNTIF(joueurs,$B101),INDEX(tirs,SMALL(IF(joueurs=$B101,ROW(INDIRECT(\"1:\"&ROWS(tirs)))),ROWS($1:$1))),\"\")","v":0},{"$f":"IF(ROWS($1:$2)<=COUNTIF(joueurs,$B101),INDEX(tirs,SMALL(IF(joueurs=$B101,ROW(INDIRECT(\"1:\"&ROWS(tirs)))),ROWS($1:$2))),\"\")","v":0},{"$f":"IF(ROWS($1:$3)<=COUNTIF(joueurs,$B101),INDEX(tirs,SMALL(IF(joueurs=$B101,ROW(INDIRECT(\"1:\"&ROWS(tirs)))),ROWS($1:$3))),\"\")","v":0},{"$f":"IF(ROWS($1:$4)<=COUNTIF(joueurs,$B101),INDEX(tirs,SMALL(IF(joueurs=$B101,ROW(INDIRECT(\"1:\"&ROWS(tirs)))),ROWS($1:$4))),\"\")","v":0},{"$f":"IF(ROWS($1:$5)<=COUNTIF(joueurs,$B101),INDEX(tirs,SMALL(IF(joueurs=$B101,ROW(INDIRECT(\"1:\"&ROWS(tirs)))),ROWS($1:$5))),\"\")","v":0},{"$f":"IF(ROWS($1:$6)<=COUNTIF(joueurs,$B101),INDEX(tirs,SMALL(IF(joueurs=$B101,ROW(INDIRECT(\"1:\"&ROWS(tirs)))),ROWS($1:$6))),\"\")","v":0},{"$f":"IF(ROWS($1:$7)<=COUNTIF(joueurs,$B101),INDEX(tirs,SMALL(IF(joueurs=$B101,ROW(INDIRECT(\"1:\"&ROWS(tirs)))),ROWS($1:$7))),\"\")","v":0},{"$f":"IF(ROWS($1:$8)<=COUNTIF(joueurs,$B101),INDEX(tirs,SMALL(IF(joueurs=$B101,ROW(INDIRECT(\"1:\"&ROWS(tirs)))),ROWS($1:$8))),\"\")","v":0},{"$f":"IF(ROWS($1:$9)<=COUNTIF(joueurs,$B101),INDEX(tirs,SMALL(IF(joueurs=$B101,ROW(INDIRECT(\"1:\"&ROWS(tirs)))),ROWS($1:$9))),\"\")","v":0},{"$f":"IF(ROWS($1:$10)<=COUNTIF(joueurs,$B101),INDEX(tirs,SMALL(IF(joueurs=$B101,ROW(INDIRECT(\"1:\"&ROWS(tirs)))),ROWS($1:$10))),\"\")","v":0},{"$f":"IF(ROWS($1:$1)<=COUNTIF(joueurs,$B101),INDEX(bontirs,SMALL(IF(joueurs=$B101,ROW(INDIRECT(\"1:\"&ROWS(bontirs)))),ROWS($1:$1))),\"\")","v":0},{"$f":"IF(ROWS($1:$2)<=COUNTIF(joueurs,$B101),INDEX(bontirs,SMALL(IF(joueurs=$B101,ROW(INDIRECT(\"1:\"&ROWS(bontirs)))),ROWS($1:$2))),\"\")","v":0},{"$f":"IF(ROWS($1:$3)<=COUNTIF(joueurs,$B101),INDEX(bontirs,SMALL(IF(joueurs=$B101,ROW(INDIRECT(\"1:\"&ROWS(bontirs)))),ROWS($1:$3))),\"\")","v":0},{"$f":"IF(ROWS($1:$4)<=COUNTIF(joueurs,$B101),INDEX(bontirs,SMALL(IF(joueurs=$B101,ROW(INDIRECT(\"1:\"&ROWS(bontirs)))),ROWS($1:$4))),\"\")","v":0},{"$f":"IF(ROWS($1:$5)<=COUNTIF(joueurs,$B101),INDEX(bontirs,SMALL(IF(joueurs=$B101,ROW(INDIRECT(\"1:\"&ROWS(bontirs)))),ROWS($1:$5))),\"\")","v":0},{"$f":"IF(ROWS($1:$6)<=COUNTIF(joueurs,$B101),INDEX(bontirs,SMALL(IF(joueurs=$B101,ROW(INDIRECT(\"1:\"&ROWS(bontirs)))),ROWS($1:$6))),\"\")","v":0},{"$f":"IF(ROWS($1:$7)<=COUNTIF(joueurs,$B101),INDEX(bontirs,SMALL(IF(joueurs=$B101,ROW(INDIRECT(\"1:\"&ROWS(bontirs)))),ROWS($1:$7))),\"\")","v":0},{"$f":"IF(ROWS($1:$8)<=COUNTIF(joueurs,$B101),INDEX(bontirs,SMALL(IF(joueurs=$B101,ROW(INDIRECT(\"1:\"&ROWS(bontirs)))),ROWS($1:$8))),\"\")","v":0},{"$f":"IF(ROWS($1:$9)<=COUNTIF(joueurs,$B101),INDEX(bontirs,SMALL(IF(joueurs=$B101,ROW(INDIRECT(\"1:\"&ROWS(bontirs)))),ROWS($1:$9))),\"\")","v":0},{"$f":"IF(ROWS($1:$10)<=COUNTIF(joueurs,$B101),INDEX(bontirs,SMALL(IF(joueurs=$B101,ROW(INDIRECT(\"1:\"&ROWS(bontirs)))),ROWS($1:$10))),\"\")","v":0},{"$f":"IF(ROWS($1:$1)<=COUNTIF(joueurs,$B101),INDEX(points,SMALL(IF(joueurs=$B101,ROW(INDIRECT(\"1:\"&ROWS(points)))),ROWS($1:$1))),\"\")","v":0},{"$f":"IF(ROWS($1:$2)<=COUNTIF(joueurs,$B101),INDEX(points,SMALL(IF(joueurs=$B101,ROW(INDIRECT(\"1:\"&ROWS(points)))),ROWS($1:$2))),\"\")","v":0},{"$f":"IF(ROWS($1:$3)<=COUNTIF(joueurs,$B101),INDEX(points,SMALL(IF(joueurs=$B101,ROW(INDIRECT(\"1:\"&ROWS(points)))),ROWS($1:$3))),\"\")","v":0},{"$f":"IF(ROWS($1:$4)<=COUNTIF(joueurs,$B101),INDEX(points,SMALL(IF(joueurs=$B101,ROW(INDIRECT(\"1:\"&ROWS(points)))),ROWS($1:$4))),\"\")","v":0},{"$f":"IF(ROWS($1:$5)<=COUNTIF(joueurs,$B101),INDEX(points,SMALL(IF(joueurs=$B101,ROW(INDIRECT(\"1:\"&ROWS(points)))),ROWS($1:$5))),\"\")","v":0},{"$f":"IF(ROWS($1:$6)<=COUNTIF(joueurs,$B101),INDEX(points,SMALL(IF(joueurs=$B101,ROW(INDIRECT(\"1:\"&ROWS(points)))),ROWS($1:$6))),\"\")","v":0},{"$f":"IF(ROWS($1:$7)<=COUNTIF(joueurs,$B101),INDEX(points,SMALL(IF(joueurs=$B101,ROW(INDIRECT(\"1:\"&ROWS(points)))),ROWS($1:$7))),\"\")","v":0},{"$f":"IF(ROWS($1:$8)<=COUNTIF(joueurs,$B101),INDEX(points,SMALL(IF(joueurs=$B101,ROW(INDIRECT(\"1:\"&ROWS(points)))),ROWS($1:$8))),\"\")","v":0},{"$f":"IF(ROWS($1:$9)<=COUNTIF(joueurs,$B101),INDEX(points,SMALL(IF(joueurs=$B101,ROW(INDIRECT(\"1:\"&ROWS(points)))),ROWS($1:$9))),\"\")","v":0},{"$f":"IF(ROWS($1:$10)<=COUNTIF(joueurs,$B101),INDEX(points,SMALL(IF(joueurs=$B101,ROW(INDIRECT(\"1:\"&ROWS(points)))),ROWS($1:$10))),\"\")","v":0},{"$f":"IF(ROWS($1:$1)<=COUNTIF(joueurs,$B101),INDEX(victoires,SMALL(IF(joueurs=$B101,ROW(INDIRECT(\"1:\"&ROWS(victoires)))),ROWS($1:$1))),\"\")","v":0},{"$f":"IF(ROWS($1:$2)<=COUNTIF(joueurs,$B101),INDEX(victoires,SMALL(IF(joueurs=$B101,ROW(INDIRECT(\"1:\"&ROWS(victoires)))),ROWS($1:$2))),\"\")","v":0},{"$f":"IF(ROWS($1:$3)<=COUNTIF(joueurs,$B101),INDEX(victoires,SMALL(IF(joueurs=$B101,ROW(INDIRECT(\"1:\"&ROWS(victoires)))),ROWS($1:$3))),\"\")","v":0},{"$f":"IF(ROWS($1:$4)<=COUNTIF(joueurs,$B101),INDEX(victoires,SMALL(IF(joueurs=$B101,ROW(INDIRECT(\"1:\"&ROWS(victoires)))),ROWS($1:$4))),\"\")","v":0},{"$f":"IF(ROWS($1:$5)<=COUNTIF(joueurs,$B101),INDEX(victoires,SMALL(IF(joueurs=$B101,ROW(INDIRECT(\"1:\"&ROWS(victoires)))),ROWS($1:$5))),\"\")","v":0},{"$f":"IF(ROWS($1:$6)<=COUNTIF(joueurs,$B101),INDEX(victoires,SMALL(IF(joueurs=$B101,ROW(INDIRECT(\"1:\"&ROWS(victoires)))),ROWS($1:$6))),\"\")","v":0},{"$f":"IF(ROWS($1:$7)<=COUNTIF(joueurs,$B101),INDEX(victoires,SMALL(IF(joueurs=$B101,ROW(INDIRECT(\"1:\"&ROWS(victoires)))),ROWS($1:$7))),\"\")","v":0},{"$f":"IF(ROWS($1:$8)<=COUNTIF(joueurs,$B101),INDEX(victoires,SMALL(IF(joueurs=$B101,ROW(INDIRECT(\"1:\"&ROWS(victoires)))),ROWS($1:$8))),\"\")","v":0},{"$f":"IF(ROWS($1:$9)<=COUNTIF(joueurs,$B101),INDEX(victoires,SMALL(IF(joueurs=$B101,ROW(INDIRECT(\"1:\"&ROWS(victoires)))),ROWS($1:$9))),\"\")","v":0},{"$f":"IF(ROWS($1:$10)<=COUNTIF(joueurs,$B101),INDEX(victoires,SMALL(IF(joueurs=$B101,ROW(INDIRECT(\"1:\"&ROWS(victoires)))),ROWS($1:$10))),\"\")","v":0}]
[null,null,null,{"$f":"IF(ROWS($1:$11)<=COUNTIF(joueurs,$B101),INDEX(fautes,SMALL(IF(joueurs=$B101,ROW(INDIRECT(\"1:\"&ROWS(fautes)))),ROWS($1:$11))),\"\")","v":0},{"$f":"IF(ROWS($1:$12)<=COUNTIF(joueurs,$B101),INDEX(fautes,SMALL(IF(joueurs=$B101,ROW(INDIRECT(\"1:\"&ROWS(fautes)))),ROWS($1:$12))),\"\")","v":0},{"$f":"IF(ROWS($1:$13)<=COUNTIF(joueurs,$B101),INDEX(fautes,SMALL(IF(joueurs=$B101,ROW(INDIRECT(\"1:\"&ROWS(fautes)))),ROWS($1:$13))),\"\")","v":0},{"$f":"IF(ROWS($1:$14)<=COUNTIF(joueurs,$B101),INDEX(fautes,SMALL(IF(joueurs=$B101,ROW(INDIRECT(\"1:\"&ROWS(fautes)))),ROWS($1:$14))),\"\")","v":0},{"$f":"IF(ROWS($1:$15)<=COUNTIF(joueurs,$B101),INDEX(fautes,SMALL(IF(joueurs=$B101,ROW(INDIRECT(\"1:\"&ROWS(fautes)))),ROWS($1:$15))),\"\")","v":0},{"$f":"IF(ROWS($1:$16)<=COUNTIF(joueurs,$B101),INDEX(fautes,SMALL(IF(joueurs=$B101,ROW(INDIRECT(\"1:\"&ROWS(fautes)))),ROWS($1:$16))),\"\")","v":0},{"$f":"IF(ROWS($1:$17)<=COUNTIF(joueurs,$B101),INDEX(fautes,SMALL(IF(joueurs=$B101,ROW(INDIRECT(\"1:\"&ROWS(fautes)))),ROWS($1:$17))),\"\")","v":0},{"$f":"IF(ROWS($1:$18)<=COUNTIF(joueurs,$B101),INDEX(fautes,SMALL(IF(joueurs=$B101,ROW(INDIRECT(\"1:\"&ROWS(fautes)))),ROWS($1:$18))),\"\")","v":0},{"$f":"IF(ROWS($1:$19)<=COUNTIF(joueurs,$B101),INDEX(fautes,SMALL(IF(joueurs=$B101,ROW(INDIRECT(\"1:\"&ROWS(fautes)))),ROWS($1:$19))),\"\")","v":0},{"$f":"IF(ROWS($1:$20)<=COUNTIF(joueurs,$B101),INDEX(fautes,SMALL(IF(joueurs=$B101,ROW(INDIRECT(\"1:\"&ROWS(fautes)))),ROWS($1:$20))),\"\")","v":0},{"$f":"IF(ROWS($1:$11)<=COUNTIF(joueurs,$B101),INDEX(ballonperdus,SMALL(IF(joueurs=$B101,ROW(INDIRECT(\"1:\"&ROWS(ballonperdus)))),ROWS($1:$11))),\"\")","v":0},{"$f":"IF(ROWS($1:$12)<=COUNTIF(joueurs,$B101),INDEX(ballonperdus,SMALL(IF(joueurs=$B101,ROW(INDIRECT(\"1:\"&ROWS(ballonperdus)))),ROWS($1:$12))),\"\")","v":0},{"$f":"IF(ROWS($1:$13)<=COUNTIF(joueurs,$B101),INDEX(ballonperdus,SMALL(IF(joueurs=$B101,ROW(INDIRECT(\"1:\"&ROWS(ballonperdus)))),ROWS($1:$13))),\"\")","v":0},{"$f":"IF(ROWS($1:$14)<=COUNTIF(joueurs,$B101),INDEX(ballonperdus,SMALL(IF(joueurs=$B101,ROW(INDIRECT(\"1:\"&ROWS(ballonperdus)))),ROWS($1:$14))),\"\")","v":0},{"$f":"IF(ROWS($1:$15)<=COUNTIF(joueurs,$B101),INDEX(ballonperdus,SMALL(IF(joueurs=$B101,ROW(INDIRECT(\"1:\"&ROWS(ballonperdus)))),ROWS($1:$15))),\"\")","v":0},{"$f":"IF(ROWS($1:$16)<=COUNTIF(joueurs,$B101),INDEX(ballonperdus,SMALL(IF(joueurs=$B101,ROW(INDIRECT(\"1:\"&ROWS(ballonperdus)))),ROWS($1:$16))),\"\")","v":0},{"$f":"IF(ROWS($1:$17)<=COUNTIF(joueurs,$B101),INDEX(ballonperdus,SMALL(IF(joueurs=$B101,ROW(INDIRECT(\"1:\"&ROWS(ballonperdus)))),ROWS($1:$17))),\"\")","v":0},{"$f":"IF(ROWS($1:$18)<=COUNTIF(joueurs,$B101),INDEX(ballonperdus,SMALL(IF(joueurs=$B101,ROW(INDIRECT(\"1:\"&ROWS(ballonperdus)))),ROWS($1:$18))),\"\")","v":0},{"$f":"IF(ROWS($1:$19)<=COUNTIF(joueurs,$B101),INDEX(ballonperdus,SMALL(IF(joueurs=$B101,ROW(INDIRECT(\"1:\"&ROWS(ballonperdus)))),ROWS($1:$19))),\"\")","v":0},{"$f":"IF(ROWS($1:$20)<=COUNTIF(joueurs,$B101),INDEX(fautes,SMALL(IF(joueurs=$B101,ROW(INDIRECT(\"1:\"&ROWS(ballonperdus)))),ROWS($1:$20))),\"\")","v":0},{"$f":"IF(ROWS($1:$11)<=COUNTIF(joueurs,$B101),INDEX(interceptions,SMALL(IF(joueurs=$B101,ROW(INDIRECT(\"1:\"&ROWS(interceptions)))),ROWS($1:$11))),\"\")","v":0},{"$f":"IF(ROWS($1:$12)<=COUNTIF(joueurs,$B101),INDEX(interceptions,SMALL(IF(joueurs=$B101,ROW(INDIRECT(\"1:\"&ROWS(interceptions)))),ROWS($1:$12))),\"\")","v":0},{"$f":"IF(ROWS($1:$13)<=COUNTIF(joueurs,$B101),INDEX(interceptions,SMALL(IF(joueurs=$B101,ROW(INDIRECT(\"1:\"&ROWS(interceptions)))),ROWS($1:$13))),\"\")","v":0},{"$f":"IF(ROWS($1:$14)<=COUNTIF(joueurs,$B101),INDEX(interceptions,SMALL(IF(joueurs=$B101,ROW(INDIRECT(\"1:\"&ROWS(interceptions)))),ROWS($1:$14))),\"\")","v":0},{"$f":"IF(ROWS($1:$15)<=COUNTIF(joueurs,$B101),INDEX(interceptions,SMALL(IF(joueurs=$B101,ROW(INDIRECT(\"1:\"&ROWS(interceptions)))),ROWS($1:$15))),\"\")","v":0},{"$f":"IF(ROWS($1:$16)<=COUNTIF(joueurs,$B101),INDEX(interceptions,SMALL(IF(joueurs=$B101,ROW(INDIRECT(\"1:\"&ROWS(interceptions)))),ROWS($1:$16))),\"\")","v":0},{"$f":"IF(ROWS($1:$17)<=COUNTIF(joueurs,$B101),INDEX(interceptions,SMALL(IF(joueurs=$B101,ROW(INDIRECT(\"1:\"&ROWS(interceptions)))),ROWS($1:$17))),\"\")","v":0},{"$f":"IF(ROWS($1:$18)<=COUNTIF(joueurs,$B101),INDEX(interceptions,SMALL(IF(joueurs=$B101,ROW(INDIRECT(\"1:\"&ROWS(interceptions)))),ROWS($1:$18))),\"\")","v":0},{"$f":"IF(ROWS($1:$19)<=COUNTIF(joueurs,$B101),INDEX(interceptions,SMALL(IF(joueurs=$B101,ROW(INDIRECT(\"1:\"&ROWS(interceptions)))),ROWS($1:$19))),\"\")","v":0},{"$f":"IF(ROWS($1:$20)<=COUNTIF(joueurs,$B101),INDEX(interceptions,SMALL(IF(joueurs=$B101,ROW(INDIRECT(\"1:\"&ROWS(interceptions)))),ROWS($1:$20))),\"\")","v":0},{"$f":"IF(ROWS($1:$11)<=COUNTIF(joueurs,$B101),INDEX(ballonrecuperes,SMALL(IF(joueurs=$B101,ROW(INDIRECT(\"1:\"&ROWS(ballonrecuperes)))),ROWS($1:$11))),\"\")","v":0},{"$f":"IF(ROWS($1:$12)<=COUNTIF(joueurs,$B101),INDEX(ballonrecuperes,SMALL(IF(joueurs=$B101,ROW(INDIRECT(\"1:\"&ROWS(ballonrecuperes)))),ROWS($1:$12))),\"\")","v":0},{"$f":"IF(ROWS($1:$13)<=COUNTIF(joueurs,$B101),INDEX(ballonrecuperes,SMALL(IF(joueurs=$B101,ROW(INDIRECT(\"1:\"&ROWS(ballonrecuperes)))),ROWS($1:$13))),\"\")","v":0},{"$f":"IF(ROWS($1:$14)<=COUNTIF(joueurs,$B101),INDEX(ballonrecuperes,SMALL(IF(joueurs=$B101,ROW(INDIRECT(\"1:\"&ROWS(ballonrecuperes)))),ROWS($1:$14))),\"\")","v":0},{"$f":"IF(ROWS($1:$15)<=COUNTIF(joueurs,$B101),INDEX(ballonrecuperes,SMALL(IF(joueurs=$B101,ROW(INDIRECT(\"1:\"&ROWS(ballonrecuperes)))),ROWS($1:$15))),\"\")","v":0},{"$f":"IF(ROWS($1:$16)<=COUNTIF(joueurs,$B101),INDEX(ballonrecuperes,SMALL(IF(joueurs=$B101,ROW(INDIRECT(\"1:\"&ROWS(ballonrecuperes)))),ROWS($1:$16))),\"\")","v":0},{"$f":"IF(ROWS($1:$17)<=COUNTIF(joueurs,$B101),INDEX(ballonrecuperes,SMALL(IF(joueurs=$B101,ROW(INDIRECT(\"1:\"&ROWS(ballonrecuperes)))),ROWS($1:$17))),\"\")","v":0},{"$f":"IF(ROWS($1:$18)<=COUNTIF(joueurs,$B101),INDEX(ballonrecuperes,SMALL(IF(joueurs=$B101,ROW(INDIRECT(\"1:\"&ROWS(ballonrecuperes)))),ROWS($1:$18))),\"\")","v":0},{"$f":"IF(ROWS($1:$19)<=COUNTIF(joueurs,$B101),INDEX(ballonrecuperes,SMALL(IF(joueurs=$B101,ROW(INDIRECT(\"1:\"&ROWS(ballonrecuperes)))),ROWS($1:$19))),\"\")","v":0},{"$f":"IF(ROWS($1:$20)<=COUNTIF(joueurs,$B101),INDEX(ballonrecuperes,SMALL(IF(joueurs=$B101,ROW(INDIRECT(\"1:\"&ROWS(ballonrecuperes)))),ROWS($1:$20))),\"\")","v":0},{"$f":"IF(ROWS($1:$11)<=COUNTIF(joueurs,$B101),INDEX(tirs,SMALL(IF(joueurs=$B101,ROW(INDIRECT(\"1:\"&ROWS(tirs)))),ROWS($1:$11))),\"\")","v":0},{"$f":"IF(ROWS($1:$12)<=COUNTIF(joueurs,$B101),INDEX(tirs,SMALL(IF(joueurs=$B101,ROW(INDIRECT(\"1:\"&ROWS(tirs)))),ROWS($1:$12))),\"\")","v":0},{"$f":"IF(ROWS($1:$13)<=COUNTIF(joueurs,$B101),INDEX(tirs,SMALL(IF(joueurs=$B101,ROW(INDIRECT(\"1:\"&ROWS(tirs)))),ROWS($1:$13))),\"\")","v":0},{"$f":"IF(ROWS($1:$14)<=COUNTIF(joueurs,$B101),INDEX(tirs,SMALL(IF(joueurs=$B101,ROW(INDIRECT(\"1:\"&ROWS(tirs)))),ROWS($1:$14))),\"\")","v":0},{"$f":"IF(ROWS($1:$15)<=COUNTIF(joueurs,$B101),INDEX(tirs,SMALL(IF(joueurs=$B101,ROW(INDIRECT(\"1:\"&ROWS(tirs)))),ROWS($1:$15))),\"\")","v":0},{"$f":"IF(ROWS($1:$16)<=COUNTIF(joueurs,$B101),INDEX(tirs,SMALL(IF(joueurs=$B101,ROW(INDIRECT(\"1:\"&ROWS(tirs)))),ROWS($1:$16))),\"\")","v":0},{"$f":"IF(ROWS($1:$17)<=COUNTIF(joueurs,$B101),INDEX(tirs,SMALL(IF(joueurs=$B101,ROW(INDIRECT(\"1:\"&ROWS(tirs)))),ROWS($1:$17))),\"\")","v":0},{"$f":"IF(ROWS($1:$18)<=COUNTIF(joueurs,$B101),INDEX(tirs,SMALL(IF(joueurs=$B101,ROW(INDIRECT(\"1:\"&ROWS(tirs)))),ROWS($1:$18))),\"\")","v":0},{"$f":"IF(ROWS($1:$19)<=COUNTIF(joueurs,$B101),INDEX(tirs,SMALL(IF(joueurs=$B101,ROW(INDIRECT(\"1:\"&ROWS(tirs)))),ROWS($1:$19))),\"\")","v":0},{"$f":"IF(ROWS($1:$20)<=COUNTIF(joueurs,$B101),INDEX(tirs,SMALL(IF(joueurs=$B101,ROW(INDIRECT(\"1:\"&ROWS(tirs)))),ROWS($1:$20))),\"\")","v":0},{"$f":"IF(ROWS($1:$11)<=COUNTIF(joueurs,$B101),INDEX(bontirs,SMALL(IF(joueurs=$B101,ROW(INDIRECT(\"1:\"&ROWS(bontirs)))),ROWS($1:$11))),\"\")","v":0},{"$f":"IF(ROWS($1:$12)<=COUNTIF(joueurs,$B101),INDEX(bontirs,SMALL(IF(joueurs=$B101,ROW(INDIRECT(\"1:\"&ROWS(bontirs)))),ROWS($1:$12))),\"\")","v":0},{"$f":"IF(ROWS($1:$13)<=COUNTIF(joueurs,$B101),INDEX(bontirs,SMALL(IF(joueurs=$B101,ROW(INDIRECT(\"1:\"&ROWS(bontirs)))),ROWS($1:$13))),\"\")","v":0},{"$f":"IF(ROWS($1:$14)<=COUNTIF(joueurs,$B101),INDEX(bontirs,SMALL(IF(joueurs=$B101,ROW(INDIRECT(\"1:\"&ROWS(bontirs)))),ROWS($1:$14))),\"\")","v":0},{"$f":"IF(ROWS($1:$15)<=COUNTIF(joueurs,$B101),INDEX(bontirs,SMALL(IF(joueurs=$B101,ROW(INDIRECT(\"1:\"&ROWS(bontirs)))),ROWS($1:$15))),\"\")","v":0},{"$f":"IF(ROWS($1:$16)<=COUNTIF(joueurs,$B101),INDEX(bontirs,SMALL(IF(joueurs=$B101,ROW(INDIRECT(\"1:\"&ROWS(bontirs)))),ROWS($1:$16))),\"\")","v":0},{"$f":"IF(ROWS($1:$17)<=COUNTIF(joueurs,$B101),INDEX(bontirs,SMALL(IF(joueurs=$B101,ROW(INDIRECT(\"1:\"&ROWS(bontirs)))),ROWS($1:$17))),\"\")","v":0},{"$f":"IF(ROWS($1:$18)<=COUNTIF(joueurs,$B101),INDEX(bontirs,SMALL(IF(joueurs=$B101,ROW(INDIRECT(\"1:\"&ROWS(bontirs)))),ROWS($1:$18))),\"\")","v":0},{"$f":"IF(ROWS($1:$19)<=COUNTIF(joueurs,$B101),INDEX(bontirs,SMALL(IF(joueurs=$B101,ROW(INDIRECT(\"1:\"&ROWS(bontirs)))),ROWS($1:$19))),\"\")","v":0},{"$f":"IF(ROWS($1:$20)<=COUNTIF(joueurs,$B101),INDEX(bontirs,SMALL(IF(joueurs=$B101,ROW(INDIRECT(\"1:\"&ROWS(bontirs)))),ROWS($1:$20))),\"\")","v":0},{"$f":"IF(ROWS($1:$11)<=COUNTIF(joueurs,$B101),INDEX(points,SMALL(IF(joueurs=$B101,ROW(INDIRECT(\"1:\"&ROWS(points)))),ROWS($1:$11))),\"\")","v":0},{"$f":"IF(ROWS($1:$12)<=COUNTIF(joueurs,$B101),INDEX(points,SMALL(IF(joueurs=$B101,ROW(INDIRECT(\"1:\"&ROWS(points)))),ROWS($1:$12))),\"\")","v":0},{"$f":"IF(ROWS($1:$13)<=COUNTIF(joueurs,$B101),INDEX(points,SMALL(IF(joueurs=$B101,ROW(INDIRECT(\"1:\"&ROWS(points)))),ROWS($1:$13))),\"\")","v":0},{"$f":"IF(ROWS($1:$14)<=COUNTIF(joueurs,$B101),INDEX(points,SMALL(IF(joueurs=$B101,ROW(INDIRECT(\"1:\"&ROWS(points)))),ROWS($1:$14))),\"\")","v":0},{"$f":"IF(ROWS($1:$15)<=COUNTIF(joueurs,$B101),INDEX(points,SMALL(IF(joueurs=$B101,ROW(INDIRECT(\"1:\"&ROWS(points)))),ROWS($1:$15))),\"\")","v":0},{"$f":"IF(ROWS($1:$16)<=COUNTIF(joueurs,$B101),INDEX(points,SMALL(IF(joueurs=$B101,ROW(INDIRECT(\"1:\"&ROWS(points)))),ROWS($1:$16))),\"\")","v":0},{"$f":"IF(ROWS($1:$17)<=COUNTIF(joueurs,$B101),INDEX(points,SMALL(IF(joueurs=$B101,ROW(INDIRECT(\"1:\"&ROWS(points)))),ROWS($1:$17))),\"\")","v":0},{"$f":"IF(ROWS($1:$18)<=COUNTIF(joueurs,$B101),INDEX(points,SMALL(IF(joueurs=$B101,ROW(INDIRECT(\"1:\"&ROWS(points)))),ROWS($1:$18))),\"\")","v":0},{"$f":"IF(ROWS($1:$19)<=COUNTIF(joueurs,$B101),INDEX(points,SMALL(IF(joueurs=$B101,ROW(INDIRECT(\"1:\"&ROWS(points)))),ROWS($1:$19))),\"\")","v":0},{"$f":"IF(ROWS($1:$20)<=COUNTIF(points,$B101),INDEX(fautes,SMALL(IF(joueurs=$B101,ROW(INDIRECT(\"1:\"&ROWS(points)))),ROWS($1:$20))),\"\")","v":0},{"$f":"IF(ROWS($1:$11)<=COUNTIF(joueurs,$B101),INDEX(victoires,SMALL(IF(joueurs=$B101,ROW(INDIRECT(\"1:\"&ROWS(victoires)))),ROWS($1:$11))),\"\")","v":0},{"$f":"IF(ROWS($1:$12)<=COUNTIF(joueurs,$B101),INDEX(victoires,SMALL(IF(joueurs=$B101,ROW(INDIRECT(\"1:\"&ROWS(victoires)))),ROWS($1:$12))),\"\")","v":0},{"$f":"IF(ROWS($1:$13)<=COUNTIF(joueurs,$B101),INDEX(victoires,SMALL(IF(joueurs=$B101,ROW(INDIRECT(\"1:\"&ROWS(victoires)))),ROWS($1:$13))),\"\")","v":0},{"$f":"IF(ROWS($1:$14)<=COUNTIF(joueurs,$B101),INDEX(victoires,SMALL(IF(joueurs=$B101,ROW(INDIRECT(\"1:\"&ROWS(victoires)))),ROWS($1:$14))),\"\")","v":0},{"$f":"IF(ROWS($1:$15)<=COUNTIF(joueurs,$B101),INDEX(victoires,SMALL(IF(joueurs=$B101,ROW(INDIRECT(\"1:\"&ROWS(victoires)))),ROWS($1:$15))),\"\")","v":0},{"$f":"IF(ROWS($1:$16)<=COUNTIF(joueurs,$B101),INDEX(victoires,SMALL(IF(joueurs=$B101,ROW(INDIRECT(\"1:\"&ROWS(victoires)))),ROWS($1:$16))),\"\")","v":0},{"$f":"IF(ROWS($1:$17)<=COUNTIF(joueurs,$B101),INDEX(victoires,SMALL(IF(joueurs=$B101,ROW(INDIRECT(\"1:\"&ROWS(victoires)))),ROWS($1:$17))),\"\")","v":0},{"$f":"IF(ROWS($1:$18)<=COUNTIF(joueurs,$B101),INDEX(victoires,SMALL(IF(joueurs=$B101,ROW(INDIRECT(\"1:\"&ROWS(victoires)))),ROWS($1:$18))),\"\")","v":0},{"$f":"IF(ROWS($1:$19)<=COUNTIF(joueurs,$B101),INDEX(victoires,SMALL(IF(joueurs=$B101,ROW(INDIRECT(\"1:\"&ROWS(victoires)))),ROWS($1:$19))),\"\")","v":0},{"$f":"IF(ROWS($1:$20)<=COUNTIF(joueurs,$B101),INDEX(victoires,SMALL(IF(joueurs=$B101,ROW(INDIRECT(\"1:\"&ROWS(victoires)))),ROWS($1:$20))),\"\")","v":0}]
[null,null,null,{"$f":"IF(ROWS($1:$21)<=COUNTIF(joueurs,$B101),INDEX(fautes,SMALL(IF(joueurs=$B101,ROW(INDIRECT(\"1:\"&ROWS(fautes)))),ROWS($1:$21))),\"\")","v":0},{"$f":"IF(ROWS($1:$22)<=COUNTIF(joueurs,$B101),INDEX(fautes,SMALL(IF(joueurs=$B101,ROW(INDIRECT(\"1:\"&ROWS(fautes)))),ROWS($1:$22))),\"\")","v":0},{"$f":"IF(ROWS($1:$23)<=COUNTIF(joueurs,$B101),INDEX(fautes,SMALL(IF(joueurs=$B101,ROW(INDIRECT(\"1:\"&ROWS(fautes)))),ROWS($1:$23))),\"\")","v":0},{"$f":"IF(ROWS($1:$24)<=COUNTIF(joueurs,$B101),INDEX(fautes,SMALL(IF(joueurs=$B101,ROW(INDIRECT(\"1:\"&ROWS(fautes)))),ROWS($1:$24))),\"\")","v":0},{"$f":"IF(ROWS($1:$25)<=COUNTIF(joueurs,$B101),INDEX(fautes,SMALL(IF(joueurs=$B101,ROW(INDIRECT(\"1:\"&ROWS(fautes)))),ROWS($1:$25))),\"\")","v":0},{"$f":"IF(ROWS($1:$26)<=COUNTIF(joueurs,$B101),INDEX(fautes,SMALL(IF(joueurs=$B101,ROW(INDIRECT(\"1:\"&ROWS(fautes)))),ROWS($1:$26))),\"\")","v":0},{"$f":"IF(ROWS($1:$27)<=COUNTIF(joueurs,$B101),INDEX(fautes,SMALL(IF(joueurs=$B101,ROW(INDIRECT(\"1:\"&ROWS(fautes)))),ROWS($1:$27))),\"\")","v":0},{"$f":"IF(ROWS($1:$28)<=COUNTIF(joueurs,$B101),INDEX(fautes,SMALL(IF(joueurs=$B101,ROW(INDIRECT(\"1:\"&ROWS(fautes)))),ROWS($1:$28))),\"\")","v":0},{"$f":"IF(ROWS($1:$29)<=COUNTIF(joueurs,$B101),INDEX(fautes,SMALL(IF(joueurs=$B101,ROW(INDIRECT(\"1:\"&ROWS(fautes)))),ROWS($1:$29))),\"\")","v":0},{"$f":"IF(ROWS($1:$30)<=COUNTIF(joueurs,$B101),INDEX(fautes,SMALL(IF(joueurs=$B101,ROW(INDIRECT(\"1:\"&ROWS(fautes)))),ROWS($1:$30))),\"\")","v":0},{"$f":"IF(ROWS($1:$21)<=COUNTIF(joueurs,$B101),INDEX(ballonperdus,SMALL(IF(joueurs=$B101,ROW(INDIRECT(\"1:\"&ROWS(ballonperdus)))),ROWS($1:$21))),\"\")","v":0},{"$f":"IF(ROWS($1:$22)<=COUNTIF(joueurs,$B101),INDEX(ballonperdus,SMALL(IF(joueurs=$B101,ROW(INDIRECT(\"1:\"&ROWS(ballonperdus)))),ROWS($1:$22))),\"\")","v":0},{"$f":"IF(ROWS($1:$23)<=COUNTIF(joueurs,$B101),INDEX(ballonperdus,SMALL(IF(joueurs=$B101,ROW(INDIRECT(\"1:\"&ROWS(ballonperdus)))),ROWS($1:$23))),\"\")","v":0},{"$f":"IF(ROWS($1:$24)<=COUNTIF(joueurs,$B101),INDEX(ballonperdus,SMALL(IF(joueurs=$B101,ROW(INDIRECT(\"1:\"&ROWS(ballonperdus)))),ROWS($1:$24))),\"\")","v":0},{"$f":"IF(ROWS($1:$25)<=COUNTIF(joueurs,$B101),INDEX(ballonperdus,SMALL(IF(joueurs=$B101,ROW(INDIRECT(\"1:\"&ROWS(ballonperdus)))),ROWS($1:$25))),\"\")","v":0},{"$f":"IF(ROWS($1:$26)<=COUNTIF(joueurs,$B101),INDEX(ballonperdus,SMALL(IF(joueurs=$B101,ROW(INDIRECT(\"1:\"&ROWS(ballonperdus)))),ROWS($1:$26))),\"\")","v":0},{"$f":"IF(ROWS($1:$27)<=COUNTIF(joueurs,$B101),INDEX(ballonperdus,SMALL(IF(joueurs=$B101,ROW(INDIRECT(\"1:\"&ROWS(ballonperdus)))),ROWS($1:$27))),\"\")","v":0},{"$f":"IF(ROWS($1:$28)<=COUNTIF(joueurs,$B101),INDEX(ballonperdus,SMALL(IF(joueurs=$B101,ROW(INDIRECT(\"1:\"&ROWS(ballonperdus)))),ROWS($1:$28))),\"\")","v":0},{"$f":"IF(ROWS($1:$29)<=COUNTIF(joueurs,$B101),INDEX(ballonperdus,SMALL(IF(joueurs=$B101,ROW(INDIRECT(\"1:\"&ROWS(ballonperdus)))),ROWS($1:$29))),\"\")","v":0},{"$f":"IF(ROWS($1:$30)<=COUNTIF(joueurs,$B101),INDEX(ballonperdus,SMALL(IF(joueurs=$B101,ROW(INDIRECT(\"1:\"&ROWS(ballonperdus)))),ROWS($1:$30))),\"\")","v":0},{"$f":"IF(ROWS($1:$21)<=COUNTIF(joueurs,$B101),INDEX(interceptions,SMALL(IF(joueurs=$B101,ROW(INDIRECT(\"1:\"&ROWS(interceptions)))),ROWS($1:$21))),\"\")","v":0},{"$f":"IF(ROWS($1:$22)<=COUNTIF(joueurs,$B101),INDEX(interceptions,SMALL(IF(joueurs=$B101,ROW(INDIRECT(\"1:\"&ROWS(interceptions)))),ROWS($1:$22))),\"\")","v":0},{"$f":"IF(ROWS($1:$23)<=COUNTIF(joueurs,$B101),INDEX(interceptions,SMALL(IF(joueurs=$B101,ROW(INDIRECT(\"1:\"&ROWS(interceptions)))),ROWS($1:$23))),\"\")","v":0},{"$f":"IF(ROWS($1:$24)<=COUNTIF(joueurs,$B101),INDEX(interceptions,SMALL(IF(joueurs=$B101,ROW(INDIRECT(\"1:\"&ROWS(interceptions)))),ROWS($1:$24))),\"\")","v":0},{"$f":"IF(ROWS($1:$25)<=COUNTIF(joueurs,$B101),INDEX(interceptions,SMALL(IF(joueurs=$B101,ROW(INDIRECT(\"1:\"&ROWS(interceptions)))),ROWS($1:$25))),\"\")","v":0},{"$f":"IF(ROWS($1:$26)<=COUNTIF(joueurs,$B101),INDEX(interceptions,SMALL(IF(joueurs=$B101,ROW(INDIRECT(\"1:\"&ROWS(interceptions)))),ROWS($1:$26))),\"\")","v":0},{"$f":"IF(ROWS($1:$27)<=COUNTIF(joueurs,$B101),INDEX(interceptions,SMALL(IF(joueurs=$B101,ROW(INDIRECT(\"1:\"&ROWS(interceptions)))),ROWS($1:$27))),\"\")","v":0},{"$f":"IF(ROWS($1:$28)<=COUNTIF(joueurs,$B101),INDEX(interceptions,SMALL(IF(joueurs=$B101,ROW(INDIRECT(\"1:\"&ROWS(interceptions)))),ROWS($1:$28))),\"\")","v":0},{"$f":"IF(ROWS($1:$29)<=COUNTIF(joueurs,$B101),INDEX(interceptions,SMALL(IF(joueurs=$B101,ROW(INDIRECT(\"1:\"&ROWS(interceptions)))),ROWS($1:$29))),\"\")","v":0},{"$f":"IF(ROWS($1:$30)<=COUNTIF(joueurs,$B101),INDEX(interceptions,SMALL(IF(joueurs=$B101,ROW(INDIRECT(\"1:\"&ROWS(interceptions)))),ROWS($1:$30))),\"\")","v":0},{"$f":"IF(ROWS($1:$21)<=COUNTIF(joueurs,$B101),INDEX(ballonrecuperes,SMALL(IF(joueurs=$B101,ROW(INDIRECT(\"1:\"&ROWS(ballonrecuperes)))),ROWS($1:$21))),\"\")","v":0},{"$f":"IF(ROWS($1:$22)<=COUNTIF(joueurs,$B101),INDEX(ballonrecuperes,SMALL(IF(joueurs=$B101,ROW(INDIRECT(\"1:\"&ROWS(ballonrecuperes)))),ROWS($1:$22))),\"\")","v":0},{"$f":"IF(ROWS($1:$23)<=COUNTIF(joueurs,$B101),INDEX(ballonrecuperes,SMALL(IF(joueurs=$B101,ROW(INDIRECT(\"1:\"&ROWS(ballonrecuperes)))),ROWS($1:$23))),\"\")","v":0},{"$f":"IF(ROWS($1:$24)<=COUNTIF(joueurs,$B101),INDEX(ballonrecuperes,SMALL(IF(joueurs=$B101,ROW(INDIRECT(\"1:\"&ROWS(ballonrecuperes)))),ROWS($1:$24))),\"\")","v":0},{"$f":"IF(ROWS($1:$25)<=COUNTIF(joueurs,$B101),INDEX(ballonrecuperes,SMALL(IF(joueurs=$B101,ROW(INDIRECT(\"1:\"&ROWS(ballonrecuperes)))),ROWS($1:$25))),\"\")","v":0},{"$f":"IF(ROWS($1:$26)<=COUNTIF(joueurs,$B101),INDEX(ballonrecuperes,SMALL(IF(joueurs=$B101,ROW(INDIRECT(\"1:\"&ROWS(ballonrecuperes)))),ROWS($1:$26))),\"\")","v":0},{"$f":"IF(ROWS($1:$27)<=COUNTIF(joueurs,$B101),INDEX(ballonrecuperes,SMALL(IF(joueurs=$B101,ROW(INDIRECT(\"1:\"&ROWS(ballonrecuperes)))),ROWS($1:$27))),\"\")","v":0},{"$f":"IF(ROWS($1:$28)<=COUNTIF(joueurs,$B101),INDEX(ballonrecuperes,SMALL(IF(joueurs=$B101,ROW(INDIRECT(\"1:\"&ROWS(ballonrecuperes)))),ROWS($1:$28))),\"\")","v":0},{"$f":"IF(ROWS($1:$29)<=COUNTIF(joueurs,$B101),INDEX(ballonrecuperes,SMALL(IF(joueurs=$B101,ROW(INDIRECT(\"1:\"&ROWS(ballonrecuperes)))),ROWS($1:$29))),\"\")","v":0},{"$f":"IF(ROWS($1:$30)<=COUNTIF(joueurs,$B101),INDEX(ballonrecuperes,SMALL(IF(joueurs=$B101,ROW(INDIRECT(\"1:\"&ROWS(ballonrecuperes)))),ROWS($1:$30))),\"\")","v":0},{"$f":"IF(ROWS($1:$21)<=COUNTIF(joueurs,$B101),INDEX(tirs,SMALL(IF(joueurs=$B101,ROW(INDIRECT(\"1:\"&ROWS(tirs)))),ROWS($1:$21))),\"\")","v":0},{"$f":"IF(ROWS($1:$22)<=COUNTIF(joueurs,$B101),INDEX(tirs,SMALL(IF(joueurs=$B101,ROW(INDIRECT(\"1:\"&ROWS(tirs)))),ROWS($1:$22))),\"\")","v":0},{"$f":"IF(ROWS($1:$23)<=COUNTIF(joueurs,$B101),INDEX(tirs,SMALL(IF(joueurs=$B101,ROW(INDIRECT(\"1:\"&ROWS(tirs)))),ROWS($1:$23))),\"\")","v":0},{"$f":"IF(ROWS($1:$24)<=COUNTIF(joueurs,$B101),INDEX(tirs,SMALL(IF(joueurs=$B101,ROW(INDIRECT(\"1:\"&ROWS(tirs)))),ROWS($1:$24))),\"\")","v":0},{"$f":"IF(ROWS($1:$25)<=COUNTIF(joueurs,$B101),INDEX(tirs,SMALL(IF(joueurs=$B101,ROW(INDIRECT(\"1:\"&ROWS(tirs)))),ROWS($1:$25))),\"\")","v":0},{"$f":"IF(ROWS($1:$26)<=COUNTIF(joueurs,$B101),INDEX(tirs,SMALL(IF(joueurs=$B101,ROW(INDIRECT(\"1:\"&ROWS(tirs)))),ROWS($1:$26))),\"\")","v":0},{"$f":"IF(ROWS($1:$27)<=COUNTIF(joueurs,$B101),INDEX(tirs,SMALL(IF(joueurs=$B101,ROW(INDIRECT(\"1:\"&ROWS(tirs)))),ROWS($1:$27))),\"\")","v":0},{"$f":"IF(ROWS($1:$28)<=COUNTIF(joueurs,$B101),INDEX(tirs,SMALL(IF(joueurs=$B101,ROW(INDIRECT(\"1:\"&ROWS(tirs)))),ROWS($1:$28))),\"\")","v":0},{"$f":"IF(ROWS($1:$29)<=COUNTIF(joueurs,$B101),INDEX(tirs,SMALL(IF(joueurs=$B101,ROW(INDIRECT(\"1:\"&ROWS(tirs)))),ROWS($1:$29))),\"\")","v":0},{"$f":"IF(ROWS($1:$30)<=COUNTIF(joueurs,$B101),INDEX(tirs,SMALL(IF(joueurs=$B101,ROW(INDIRECT(\"1:\"&ROWS(tirs)))),ROWS($1:$30))),\"\")","v":0},{"$f":"IF(ROWS($1:$21)<=COUNTIF(joueurs,$B101),INDEX(bontirs,SMALL(IF(joueurs=$B101,ROW(INDIRECT(\"1:\"&ROWS(bontirs)))),ROWS($1:$21))),\"\")","v":0},{"$f":"IF(ROWS($1:$22)<=COUNTIF(joueurs,$B101),INDEX(bontirs,SMALL(IF(joueurs=$B101,ROW(INDIRECT(\"1:\"&ROWS(bontirs)))),ROWS($1:$22))),\"\")","v":0},{"$f":"IF(ROWS($1:$23)<=COUNTIF(joueurs,$B101),INDEX(bontirs,SMALL(IF(joueurs=$B101,ROW(INDIRECT(\"1:\"&ROWS(bontirs)))),ROWS($1:$23))),\"\")","v":0},{"$f":"IF(ROWS($1:$24)<=COUNTIF(joueurs,$B101),INDEX(bontirs,SMALL(IF(joueurs=$B101,ROW(INDIRECT(\"1:\"&ROWS(bontirs)))),ROWS($1:$24))),\"\")","v":0},{"$f":"IF(ROWS($1:$25)<=COUNTIF(joueurs,$B101),INDEX(bontirs,SMALL(IF(joueurs=$B101,ROW(INDIRECT(\"1:\"&ROWS(bontirs)))),ROWS($1:$25))),\"\")","v":0},{"$f":"IF(ROWS($1:$26)<=COUNTIF(joueurs,$B101),INDEX(bontirs,SMALL(IF(joueurs=$B101,ROW(INDIRECT(\"1:\"&ROWS(bontirs)))),ROWS($1:$26))),\"\")","v":0},{"$f":"IF(ROWS($1:$27)<=COUNTIF(joueurs,$B101),INDEX(bontirs,SMALL(IF(joueurs=$B101,ROW(INDIRECT(\"1:\"&ROWS(bontirs)))),ROWS($1:$27))),\"\")","v":0},{"$f":"IF(ROWS($1:$28)<=COUNTIF(joueurs,$B101),INDEX(bontirs,SMALL(IF(joueurs=$B101,ROW(INDIRECT(\"1:\"&ROWS(bontirs)))),ROWS($1:$28))),\"\")","v":0},{"$f":"IF(ROWS($1:$29)<=COUNTIF(joueurs,$B101),INDEX(bontirs,SMALL(IF(joueurs=$B101,ROW(INDIRECT(\"1:\"&ROWS(bontirs)))),ROWS($1:$29))),\"\")","v":0},{"$f":"IF(ROWS($1:$30)<=COUNTIF(joueurs,$B101),INDEX(bontirs,SMALL(IF(joueurs=$B101,ROW(INDIRECT(\"1:\"&ROWS(bontirs)))),ROWS($1:$30))),\"\")","v":0},{"$f":"IF(ROWS($1:$21)<=COUNTIF(joueurs,$B101),INDEX(points,SMALL(IF(joueurs=$B101,ROW(INDIRECT(\"1:\"&ROWS(points)))),ROWS($1:$21))),\"\")","v":0},{"$f":"IF(ROWS($1:$22)<=COUNTIF(joueurs,$B101),INDEX(points,SMALL(IF(joueurs=$B101,ROW(INDIRECT(\"1:\"&ROWS(points)))),ROWS($1:$22))),\"\")","v":0},{"$f":"IF(ROWS($1:$23)<=COUNTIF(joueurs,$B101),INDEX(points,SMALL(IF(joueurs=$B101,ROW(INDIRECT(\"1:\"&ROWS(points)))),ROWS($1:$23))),\"\")","v":0},{"$f":"IF(ROWS($1:$24)<=COUNTIF(joueurs,$B101),INDEX(points,SMALL(IF(joueurs=$B101,ROW(INDIRECT(\"1:\"&ROWS(points)))),ROWS($1:$24))),\"\")","v":0},{"$f":"IF(ROWS($1:$25)<=COUNTIF(joueurs,$B101),INDEX(points,SMALL(IF(joueurs=$B101,ROW(INDIRECT(\"1:\"&ROWS(points)))),ROWS($1:$25))),\"\")","v":0},{"$f":"IF(ROWS($1:$26)<=COUNTIF(joueurs,$B101),INDEX(points,SMALL(IF(joueurs=$B101,ROW(INDIRECT(\"1:\"&ROWS(points)))),ROWS($1:$26))),\"\")","v":0},{"$f":"IF(ROWS($1:$27)<=COUNTIF(joueurs,$B101),INDEX(points,SMALL(IF(joueurs=$B101,ROW(INDIRECT(\"1:\"&ROWS(points)))),ROWS($1:$27))),\"\")","v":0},{"$f":"IF(ROWS($1:$28)<=COUNTIF(joueurs,$B101),INDEX(points,SMALL(IF(joueurs=$B101,ROW(INDIRECT(\"1:\"&ROWS(points)))),ROWS($1:$28))),\"\")","v":0},{"$f":"IF(ROWS($1:$29)<=COUNTIF(joueurs,$B101),INDEX(points,SMALL(IF(joueurs=$B101,ROW(INDIRECT(\"1:\"&ROWS(points)))),ROWS($1:$29))),\"\")","v":0},{"$f":"IF(ROWS($1:$30)<=COUNTIF(joueurs,$B101),INDEX(points,SMALL(IF(joueurs=$B101,ROW(INDIRECT(\"1:\"&ROWS(points)))),ROWS($1:$30))),\"\")","v":0},{"$f":"IF(ROWS($1:$21)<=COUNTIF(joueurs,$B101),INDEX(victoires,SMALL(IF(joueurs=$B101,ROW(INDIRECT(\"1:\"&ROWS(victoires)))),ROWS($1:$21))),\"\")","v":0},{"$f":"IF(ROWS($1:$22)<=COUNTIF(joueurs,$B101),INDEX(victoires,SMALL(IF(joueurs=$B101,ROW(INDIRECT(\"1:\"&ROWS(victoires)))),ROWS($1:$22))),\"\")","v":0},{"$f":"IF(ROWS($1:$23)<=COUNTIF(joueurs,$B101),INDEX(victoires,SMALL(IF(joueurs=$B101,ROW(INDIRECT(\"1:\"&ROWS(victoires)))),ROWS($1:$23))),\"\")","v":0},{"$f":"IF(ROWS($1:$24)<=COUNTIF(joueurs,$B101),INDEX(victoires,SMALL(IF(joueurs=$B101,ROW(INDIRECT(\"1:\"&ROWS(victoires)))),ROWS($1:$24))),\"\")","v":0},{"$f":"IF(ROWS($1:$25)<=COUNTIF(joueurs,$B101),INDEX(victoires,SMALL(IF(joueurs=$B101,ROW(INDIRECT(\"1:\"&ROWS(victoires)))),ROWS($1:$25))),\"\")","v":0},{"$f":"IF(ROWS($1:$26)<=COUNTIF(joueurs,$B101),INDEX(victoires,SMALL(IF(joueurs=$B101,ROW(INDIRECT(\"1:\"&ROWS(victoires)))),ROWS($1:$26))),\"\")","v":0},{"$f":"IF(ROWS($1:$27)<=COUNTIF(joueurs,$B101),INDEX(victoires,SMALL(IF(joueurs=$B101,ROW(INDIRECT(\"1:\"&ROWS(victoires)))),ROWS($1:$27))),\"\")","v":0},{"$f":"IF(ROWS($1:$28)<=COUNTIF(joueurs,$B101),INDEX(victoires,SMALL(IF(joueurs=$B101,ROW(INDIRECT(\"1:\"&ROWS(victoires)))),ROWS($1:$28))),\"\")","v":0},{"$f":"IF(ROWS($1:$29)<=COUNTIF(joueurs,$B101),INDEX(victoires,SMALL(IF(joueurs=$B101,ROW(INDIRECT(\"1:\"&ROWS(victoires)))),ROWS($1:$29))),\"\")","v":0},{"$f":"IF(ROWS($1:$30)<=COUNTIF(joueurs,$B101),INDEX(victoires,SMALL(IF(joueurs=$B101,ROW(INDIRECT(\"1:\"&ROWS(victoires)))),ROWS($1:$30))),\"\")","v":0}]
[null,null,null,{"$f":"IF(ROWS($1:$31)<=COUNTIF(joueurs,$B101),INDEX(fautes,SMALL(IF(joueurs=$B101,ROW(INDIRECT(\"1:\"&ROWS(fautes)))),ROWS($1:$31))),\"\")","v":0},{"$f":"IF(ROWS($1:$32)<=COUNTIF(joueurs,$B101),INDEX(fautes,SMALL(IF(joueurs=$B101,ROW(INDIRECT(\"1:\"&ROWS(fautes)))),ROWS($1:$32))),\"\")","v":0},{"$f":"IF(ROWS($1:$33)<=COUNTIF(joueurs,$B101),INDEX(fautes,SMALL(IF(joueurs=$B101,ROW(INDIRECT(\"1:\"&ROWS(fautes)))),ROWS($1:$33))),\"\")","v":0},{"$f":"IF(ROWS($1:$34)<=COUNTIF(joueurs,$B101),INDEX(fautes,SMALL(IF(joueurs=$B101,ROW(INDIRECT(\"1:\"&ROWS(fautes)))),ROWS($1:$34))),\"\")","v":0},{"$f":"IF(ROWS($1:$35)<=COUNTIF(joueurs,$B101),INDEX(fautes,SMALL(IF(joueurs=$B101,ROW(INDIRECT(\"1:\"&ROWS(fautes)))),ROWS($1:$35))),\"\")","v":0},{"$f":"IF(ROWS($1:$36)<=COUNTIF(joueurs,$B101),INDEX(fautes,SMALL(IF(joueurs=$B101,ROW(INDIRECT(\"1:\"&ROWS(fautes)))),ROWS($1:$36))),\"\")","v":0},{"$f":"IF(ROWS($1:$37)<=COUNTIF(joueurs,$B101),INDEX(fautes,SMALL(IF(joueurs=$B101,ROW(INDIRECT(\"1:\"&ROWS(fautes)))),ROWS($1:$37))),\"\")","v":0},{"$f":"IF(ROWS($1:$38)<=COUNTIF(joueurs,$B101),INDEX(fautes,SMALL(IF(joueurs=$B101,ROW(INDIRECT(\"1:\"&ROWS(fautes)))),ROWS($1:$38))),\"\")","v":0},{"$f":"IF(ROWS($1:$39)<=COUNTIF(joueurs,$B101),INDEX(fautes,SMALL(IF(joueurs=$B101,ROW(INDIRECT(\"1:\"&ROWS(fautes)))),ROWS($1:$39))),\"\")","v":0},{"$f":"IF(ROWS($1:$40)<=COUNTIF(joueurs,$B101),INDEX(fautes,SMALL(IF(joueurs=$B101,ROW(INDIRECT(\"1:\"&ROWS(fautes)))),ROWS($1:$40))),\"\")","v":0},{"$f":"IF(ROWS($1:$31)<=COUNTIF(joueurs,$B101),INDEX(ballonperdus,SMALL(IF(joueurs=$B101,ROW(INDIRECT(\"1:\"&ROWS(ballonperdus)))),ROWS($1:$31))),\"\")","v":0},{"$f":"IF(ROWS($1:$32)<=COUNTIF(joueurs,$B101),INDEX(ballonperdus,SMALL(IF(joueurs=$B101,ROW(INDIRECT(\"1:\"&ROWS(ballonperdus)))),ROWS($1:$32))),\"\")","v":0},{"$f":"IF(ROWS($1:$33)<=COUNTIF(joueurs,$B101),INDEX(ballonperdus,SMALL(IF(joueurs=$B101,ROW(INDIRECT(\"1:\"&ROWS(ballonperdus)))),ROWS($1:$33))),\"\")","v":0},{"$f":"IF(ROWS($1:$34)<=COUNTIF(joueurs,$B101),INDEX(ballonperdus,SMALL(IF(joueurs=$B101,ROW(INDIRECT(\"1:\"&ROWS(ballonperdus)))),ROWS($1:$34))),\"\")","v":0},{"$f":"IF(ROWS($1:$35)<=COUNTIF(joueurs,$B101),INDEX(ballonperdus,SMALL(IF(joueurs=$B101,ROW(INDIRECT(\"1:\"&ROWS(ballonperdus)))),ROWS($1:$35))),\"\")","v":0},{"$f":"IF(ROWS($1:$36)<=COUNTIF(joueurs,$B101),INDEX(ballonperdus,SMALL(IF(joueurs=$B101,ROW(INDIRECT(\"1:\"&ROWS(ballonperdus)))),ROWS($1:$36))),\"\")","v":0},{"$f":"IF(ROWS($1:$37)<=COUNTIF(joueurs,$B101),INDEX(ballonperdus,SMALL(IF(joueurs=$B101,ROW(INDIRECT(\"1:\"&ROWS(ballonperdus)))),ROWS($1:$37))),\"\")","v":0},{"$f":"IF(ROWS($1:$38)<=COUNTIF(joueurs,$B101),INDEX(ballonperdus,SMALL(IF(joueurs=$B101,ROW(INDIRECT(\"1:\"&ROWS(ballonperdus)))),ROWS($1:$38))),\"\")","v":0},{"$f":"IF(ROWS($1:$39)<=COUNTIF(joueurs,$B101),INDEX(ballonperdus,SMALL(IF(joueurs=$B101,ROW(INDIRECT(\"1:\"&ROWS(ballonperdus)))),ROWS($1:$39))),\"\")","v":0},{"$f":"IF(ROWS($1:$40)<=COUNTIF(joueurs,$B101),INDEX(ballonperdus,SMALL(IF(joueurs=$B101,ROW(INDIRECT(\"1:\"&ROWS(ballonperdus)))),ROWS($1:$40))),\"\")","v":0},{"$f":"IF(ROWS($1:$31)<=COUNTIF(joueurs,$B101),INDEX(interceptions,SMALL(IF(joueurs=$B101,ROW(INDIRECT(\"1:\"&ROWS(interceptions)))),ROWS($1:$31))),\"\")","v":0},{"$f":"IF(ROWS($1:$32)<=COUNTIF(joueurs,$B101),INDEX(interceptions,SMALL(IF(joueurs=$B101,ROW(INDIRECT(\"1:\"&ROWS(interceptions)))),ROWS($1:$32))),\"\")","v":0},{"$f":"IF(ROWS($1:$33)<=COUNTIF(joueurs,$B101),INDEX(interceptions,SMALL(IF(joueurs=$B101,ROW(INDIRECT(\"1:\"&ROWS(interceptions)))),ROWS($1:$33))),\"\")","v":0},{"$f":"IF(ROWS($1:$34)<=COUNTIF(joueurs,$B101),INDEX(interceptions,SMALL(IF(joueurs=$B101,ROW(INDIRECT(\"1:\"&ROWS(interceptions)))),ROWS($1:$34))),\"\")","v":0},{"$f":"IF(ROWS($1:$35)<=COUNTIF(joueurs,$B101),INDEX(interceptions,SMALL(IF(joueurs=$B101,ROW(INDIRECT(\"1:\"&ROWS(interceptions)))),ROWS($1:$35))),\"\")","v":0},{"$f":"IF(ROWS($1:$36)<=COUNTIF(joueurs,$B101),INDEX(interceptions,SMALL(IF(joueurs=$B101,ROW(INDIRECT(\"1:\"&ROWS(interceptions)))),ROWS($1:$36))),\"\")","v":0},{"$f":"IF(ROWS($1:$37)<=COUNTIF(joueurs,$B101),INDEX(interceptions,SMALL(IF(joueurs=$B101,ROW(INDIRECT(\"1:\"&ROWS(interceptions)))),ROWS($1:$37))),\"\")","v":0},{"$f":"IF(ROWS($1:$38)<=COUNTIF(joueurs,$B101),INDEX(interceptions,SMALL(IF(joueurs=$B101,ROW(INDIRECT(\"1:\"&ROWS(interceptions)))),ROWS($1:$38))),\"\")","v":0},{"$f":"IF(ROWS($1:$39)<=COUNTIF(joueurs,$B101),INDEX(interceptions,SMALL(IF(joueurs=$B101,ROW(INDIRECT(\"1:\"&ROWS(interceptions)))),ROWS($1:$39))),\"\")","v":0},{"$f":"IF(ROWS($1:$40)<=COUNTIF(joueurs,$B101),INDEX(interceptions,SMALL(IF(joueurs=$B101,ROW(INDIRECT(\"1:\"&ROWS(interceptions)))),ROWS($1:$40))),\"\")","v":0},{"$f":"IF(ROWS($1:$31)<=COUNTIF(joueurs,$B101),INDEX(ballonrecuperes,SMALL(IF(joueurs=$B101,ROW(INDIRECT(\"1:\"&ROWS(ballonrecuperes)))),ROWS($1:$31))),\"\")","v":0},{"$f":"IF(ROWS($1:$32)<=COUNTIF(joueurs,$B101),INDEX(ballonrecuperes,SMALL(IF(joueurs=$B101,ROW(INDIRECT(\"1:\"&ROWS(ballonrecuperes)))),ROWS($1:$32))),\"\")","v":0},{"$f":"IF(ROWS($1:$33)<=COUNTIF(joueurs,$B101),INDEX(ballonrecuperes,SMALL(IF(joueurs=$B101,ROW(INDIRECT(\"1:\"&ROWS(ballonrecuperes)))),ROWS($1:$33))),\"\")","v":0},{"$f":"IF(ROWS($1:$34)<=COUNTIF(joueurs,$B101),INDEX(ballonrecuperes,SMALL(IF(joueurs=$B101,ROW(INDIRECT(\"1:\"&ROWS(ballonrecuperes)))),ROWS($1:$34))),\"\")","v":0},{"$f":"IF(ROWS($1:$35)<=COUNTIF(joueurs,$B101),INDEX(ballonrecuperes,SMALL(IF(joueurs=$B101,ROW(INDIRECT(\"1:\"&ROWS(ballonrecuperes)))),ROWS($1:$35))),\"\")","v":0},{"$f":"IF(ROWS($1:$36)<=COUNTIF(joueurs,$B101),INDEX(ballonrecuperes,SMALL(IF(joueurs=$B101,ROW(INDIRECT(\"1:\"&ROWS(ballonrecuperes)))),ROWS($1:$36))),\"\")","v":0},{"$f":"IF(ROWS($1:$37)<=COUNTIF(joueurs,$B101),INDEX(ballonrecuperes,SMALL(IF(joueurs=$B101,ROW(INDIRECT(\"1:\"&ROWS(ballonrecuperes)))),ROWS($1:$37))),\"\")","v":0},{"$f":"IF(ROWS($1:$38)<=COUNTIF(joueurs,$B101),INDEX(ballonrecuperes,SMALL(IF(joueurs=$B101,ROW(INDIRECT(\"1:\"&ROWS(ballonrecuperes)))),ROWS($1:$38))),\"\")","v":0},{"$f":"IF(ROWS($1:$39)<=COUNTIF(joueurs,$B101),INDEX(ballonrecuperes,SMALL(IF(joueurs=$B101,ROW(INDIRECT(\"1:\"&ROWS(ballonrecuperes)))),ROWS($1:$39))),\"\")","v":0},{"$f":"IF(ROWS($1:$40)<=COUNTIF(joueurs,$B101),INDEX(ballonrecuperes,SMALL(IF(joueurs=$B101,ROW(INDIRECT(\"1:\"&ROWS(ballonrecuperes)))),ROWS($1:$40))),\"\")","v":0},{"$f":"IF(ROWS($1:$31)<=COUNTIF(joueurs,$B101),INDEX(tirs,SMALL(IF(joueurs=$B101,ROW(INDIRECT(\"1:\"&ROWS(tirs)))),ROWS($1:$31))),\"\")","v":0},{"$f":"IF(ROWS($1:$32)<=COUNTIF(joueurs,$B101),INDEX(tirs,SMALL(IF(joueurs=$B101,ROW(INDIRECT(\"1:\"&ROWS(tirs)))),ROWS($1:$32))),\"\")","v":0},{"$f":"IF(ROWS($1:$33)<=COUNTIF(joueurs,$B101),INDEX(tirs,SMALL(IF(joueurs=$B101,ROW(INDIRECT(\"1:\"&ROWS(tirs)))),ROWS($1:$33))),\"\")","v":0},{"$f":"IF(ROWS($1:$34)<=COUNTIF(joueurs,$B101),INDEX(tirs,SMALL(IF(joueurs=$B101,ROW(INDIRECT(\"1:\"&ROWS(tirs)))),ROWS($1:$34))),\"\")","v":0},{"$f":"IF(ROWS($1:$35)<=COUNTIF(joueurs,$B101),INDEX(tirs,SMALL(IF(joueurs=$B101,ROW(INDIRECT(\"1:\"&ROWS(tirs)))),ROWS($1:$35))),\"\")","v":0},{"$f":"IF(ROWS($1:$36)<=COUNTIF(joueurs,$B101),INDEX(tirs,SMALL(IF(joueurs=$B101,ROW(INDIRECT(\"1:\"&ROWS(tirs)))),ROWS($1:$36))),\"\")","v":0},{"$f":"IF(ROWS($1:$37)<=COUNTIF(joueurs,$B101),INDEX(tirs,SMALL(IF(joueurs=$B101,ROW(INDIRECT(\"1:\"&ROWS(tirs)))),ROWS($1:$37))),\"\")","v":0},{"$f":"IF(ROWS($1:$38)<=COUNTIF(joueurs,$B101),INDEX(tirs,SMALL(IF(joueurs=$B101,ROW(INDIRECT(\"1:\"&ROWS(tirs)))),ROWS($1:$38))),\"\")","v":0},{"$f":"IF(ROWS($1:$39)<=COUNTIF(joueurs,$B101),INDEX(tirs,SMALL(IF(joueurs=$B101,ROW(INDIRECT(\"1:\"&ROWS(tirs)))),ROWS($1:$39))),\"\")","v":0},{"$f":"IF(ROWS($1:$40)<=COUNTIF(joueurs,$B101),INDEX(tirs,SMALL(IF(joueurs=$B101,ROW(INDIRECT(\"1:\"&ROWS(tirs)))),ROWS($1:$40))),\"\")","v":0},{"$f":"IF(ROWS($1:$31)<=COUNTIF(joueurs,$B101),INDEX(bontirs,SMALL(IF(joueurs=$B101,ROW(INDIRECT(\"1:\"&ROWS(bontirs)))),ROWS($1:$31))),\"\")","v":0},{"$f":"IF(ROWS($1:$32)<=COUNTIF(joueurs,$B101),INDEX(bontirs,SMALL(IF(joueurs=$B101,ROW(INDIRECT(\"1:\"&ROWS(bontirs)))),ROWS($1:$32))),\"\")","v":0},{"$f":"IF(ROWS($1:$33)<=COUNTIF(joueurs,$B101),INDEX(bontirs,SMALL(IF(joueurs=$B101,ROW(INDIRECT(\"1:\"&ROWS(bontirs)))),ROWS($1:$33))),\"\")","v":0},{"$f":"IF(ROWS($1:$34)<=COUNTIF(joueurs,$B101),INDEX(bontirs,SMALL(IF(joueurs=$B101,ROW(INDIRECT(\"1:\"&ROWS(bontirs)))),ROWS($1:$34))),\"\")","v":0},{"$f":"IF(ROWS($1:$35)<=COUNTIF(joueurs,$B101),INDEX(bontirs,SMALL(IF(joueurs=$B101,ROW(INDIRECT(\"1:\"&ROWS(bontirs)))),ROWS($1:$35))),\"\")","v":0},{"$f":"IF(ROWS($1:$36)<=COUNTIF(joueurs,$B101),INDEX(bontirs,SMALL(IF(joueurs=$B101,ROW(INDIRECT(\"1:\"&ROWS(bontirs)))),ROWS($1:$36))),\"\")","v":0},{"$f":"IF(ROWS($1:$37)<=COUNTIF(joueurs,$B101),INDEX(bontirs,SMALL(IF(joueurs=$B101,ROW(INDIRECT(\"1:\"&ROWS(bontirs)))),ROWS($1:$37))),\"\")","v":0},{"$f":"IF(ROWS($1:$38)<=COUNTIF(joueurs,$B101),INDEX(bontirs,SMALL(IF(joueurs=$B101,ROW(INDIRECT(\"1:\"&ROWS(bontirs)))),ROWS($1:$38))),\"\")","v":0},{"$f":"IF(ROWS($1:$39)<=COUNTIF(joueurs,$B101),INDEX(bontirs,SMALL(IF(joueurs=$B101,ROW(INDIRECT(\"1:\"&ROWS(bontirs)))),ROWS($1:$39))),\"\")","v":0},{"$f":"IF(ROWS($1:$40)<=COUNTIF(joueurs,$B101),INDEX(bontirs,SMALL(IF(joueurs=$B101,ROW(INDIRECT(\"1:\"&ROWS(bontirs)))),ROWS($1:$40))),\"\")","v":0},{"$f":"IF(ROWS($1:$31)<=COUNTIF(joueurs,$B101),INDEX(points,SMALL(IF(joueurs=$B101,ROW(INDIRECT(\"1:\"&ROWS(points)))),ROWS($1:$31))),\"\")","v":0},{"$f":"IF(ROWS($1:$32)<=COUNTIF(joueurs,$B101),INDEX(points,SMALL(IF(joueurs=$B101,ROW(INDIRECT(\"1:\"&ROWS(points)))),ROWS($1:$32))),\"\")","v":0},{"$f":"IF(ROWS($1:$33)<=COUNTIF(joueurs,$B101),INDEX(points,SMALL(IF(joueurs=$B101,ROW(INDIRECT(\"1:\"&ROWS(points)))),ROWS($1:$33))),\"\")","v":0},{"$f":"IF(ROWS($1:$34)<=COUNTIF(joueurs,$B101),INDEX(points,SMALL(IF(joueurs=$B101,ROW(INDIRECT(\"1:\"&ROWS(points)))),ROWS($1:$34))),\"\")","v":0},{"$f":"IF(ROWS($1:$35)<=COUNTIF(joueurs,$B101),INDEX(points,SMALL(IF(joueurs=$B101,ROW(INDIRECT(\"1:\"&ROWS(points)))),ROWS($1:$35))),\"\")","v":0},{"$f":"IF(ROWS($1:$36)<=COUNTIF(joueurs,$B101),INDEX(points,SMALL(IF(joueurs=$B101,ROW(INDIRECT(\"1:\"&ROWS(points)))),ROWS($1:$36))),\"\")","v":0},{"$f":"IF(ROWS($1:$37)<=COUNTIF(joueurs,$B101),INDEX(points,SMALL(IF(joueurs=$B101,ROW(INDIRECT(\"1:\"&ROWS(points)))),ROWS($1:$37))),\"\")","v":0},{"$f":"IF(ROWS($1:$38)<=COUNTIF(joueurs,$B101),INDEX(points,SMALL(IF(joueurs=$B101,ROW(INDIRECT(\"1:\"&ROWS(points)))),ROWS($1:$38))),\"\")","v":0},{"$f":"IF(ROWS($1:$39)<=COUNTIF(joueurs,$B101),INDEX(points,SMALL(IF(joueurs=$B101,ROW(INDIRECT(\"1:\"&ROWS(points)))),ROWS($1:$39))),\"\")","v":0},{"$f":"IF(ROWS($1:$40)<=COUNTIF(joueurs,$B101),INDEX(points,SMALL(IF(joueurs=$B101,ROW(INDIRECT(\"1:\"&ROWS(points)))),ROWS($1:$40))),\"\")","v":0},{"$f":"IF(ROWS($1:$31)<=COUNTIF(joueurs,$B101),INDEX(victoires,SMALL(IF(joueurs=$B101,ROW(INDIRECT(\"1:\"&ROWS(victoires)))),ROWS($1:$31))),\"\")","v":0},{"$f":"IF(ROWS($1:$32)<=COUNTIF(joueurs,$B101),INDEX(victoires,SMALL(IF(joueurs=$B101,ROW(INDIRECT(\"1:\"&ROWS(victoires)))),ROWS($1:$32))),\"\")","v":0},{"$f":"IF(ROWS($1:$33)<=COUNTIF(joueurs,$B101),INDEX(victoires,SMALL(IF(joueurs=$B101,ROW(INDIRECT(\"1:\"&ROWS(victoires)))),ROWS($1:$33))),\"\")","v":0},{"$f":"IF(ROWS($1:$34)<=COUNTIF(joueurs,$B101),INDEX(victoires,SMALL(IF(joueurs=$B101,ROW(INDIRECT(\"1:\"&ROWS(victoires)))),ROWS($1:$34))),\"\")","v":0},{"$f":"IF(ROWS($1:$35)<=COUNTIF(joueurs,$B101),INDEX(victoires,SMALL(IF(joueurs=$B101,ROW(INDIRECT(\"1:\"&ROWS(victoires)))),ROWS($1:$35))),\"\")","v":0},{"$f":"IF(ROWS($1:$36)<=COUNTIF(joueurs,$B101),INDEX(victoires,SMALL(IF(joueurs=$B101,ROW(INDIRECT(\"1:\"&ROWS(victoires)))),ROWS($1:$36))),\"\")","v":0},{"$f":"IF(ROWS($1:$37)<=COUNTIF(joueurs,$B101),INDEX(victoires,SMALL(IF(joueurs=$B101,ROW(INDIRECT(\"1:\"&ROWS(victoires)))),ROWS($1:$37))),\"\")","v":0},{"$f":"IF(ROWS($1:$38)<=COUNTIF(joueurs,$B101),INDEX(victoires,SMALL(IF(joueurs=$B101,ROW(INDIRECT(\"1:\"&ROWS(victoires)))),ROWS($1:$38))),\"\")","v":0},{"$f":"IF(ROWS($1:$39)<=COUNTIF(joueurs,$B101),INDEX(victoires,SMALL(IF(joueurs=$B101,ROW(INDIRECT(\"1:\"&ROWS(victoires)))),ROWS($1:$39))),\"\")","v":0},{"$f":"IF(ROWS($1:$40)<=COUNTIF(joueurs,$B101),INDEX(victoires,SMALL(IF(joueurs=$B101,ROW(INDIRECT(\"1:\"&ROWS(victoires)))),ROWS($1:$40))),\"\")","v":0}]
[26,{"$f":"INDEX(eleves,MATCH(A105,numero,0),MATCH($B$2,classes,0))","v":0},null,{"$f":"IF(ROWS($1:$1)<=COUNTIF(joueurs,$B105),INDEX(fautes,SMALL(IF(joueurs=$B105,ROW(INDIRECT(\"1:\"&ROWS(fautes)))),ROWS($1:$1))),\"\")","v":0},{"$f":"IF(ROWS($1:$2)<=COUNTIF(joueurs,$B105),INDEX(fautes,SMALL(IF(joueurs=$B105,ROW(INDIRECT(\"1:\"&ROWS(fautes)))),ROWS($1:$2))),\"\")","v":0},{"$f":"IF(ROWS($1:$3)<=COUNTIF(joueurs,$B105),INDEX(fautes,SMALL(IF(joueurs=$B105,ROW(INDIRECT(\"1:\"&ROWS(fautes)))),ROWS($1:$3))),\"\")","v":0},{"$f":"IF(ROWS($1:$4)<=COUNTIF(joueurs,$B105),INDEX(fautes,SMALL(IF(joueurs=$B105,ROW(INDIRECT(\"1:\"&ROWS(fautes)))),ROWS($1:$4))),\"\")","v":0},{"$f":"IF(ROWS($1:$5)<=COUNTIF(joueurs,$B105),INDEX(fautes,SMALL(IF(joueurs=$B105,ROW(INDIRECT(\"1:\"&ROWS(fautes)))),ROWS($1:$5))),\"\")","v":0},{"$f":"IF(ROWS($1:$6)<=COUNTIF(joueurs,$B105),INDEX(fautes,SMALL(IF(joueurs=$B105,ROW(INDIRECT(\"1:\"&ROWS(fautes)))),ROWS($1:$6))),\"\")","v":0},{"$f":"IF(ROWS($1:$7)<=COUNTIF(joueurs,$B105),INDEX(fautes,SMALL(IF(joueurs=$B105,ROW(INDIRECT(\"1:\"&ROWS(fautes)))),ROWS($1:$7))),\"\")","v":0},{"$f":"IF(ROWS($1:$8)<=COUNTIF(joueurs,$B105),INDEX(fautes,SMALL(IF(joueurs=$B105,ROW(INDIRECT(\"1:\"&ROWS(fautes)))),ROWS($1:$8))),\"\")","v":0},{"$f":"IF(ROWS($1:$9)<=COUNTIF(joueurs,$B105),INDEX(fautes,SMALL(IF(joueurs=$B105,ROW(INDIRECT(\"1:\"&ROWS(fautes)))),ROWS($1:$9))),\"\")","v":0},{"$f":"IF(ROWS($1:$10)<=COUNTIF(joueurs,$B105),INDEX(fautes,SMALL(IF(joueurs=$B105,ROW(INDIRECT(\"1:\"&ROWS(fautes)))),ROWS($1:$10))),\"\")","v":0},{"$f":"IF(ROWS($1:$1)<=COUNTIF(joueurs,$B105),INDEX(ballonperdus,SMALL(IF(joueurs=$B105,ROW(INDIRECT(\"1:\"&ROWS(ballonperdus)))),ROWS($1:$1))),\"\")","v":0},{"$f":"IF(ROWS($1:$2)<=COUNTIF(joueurs,$B105),INDEX(ballonperdus,SMALL(IF(joueurs=$B105,ROW(INDIRECT(\"1:\"&ROWS(ballonperdus)))),ROWS($1:$2))),\"\")","v":0},{"$f":"IF(ROWS($1:$3)<=COUNTIF(joueurs,$B105),INDEX(ballonperdus,SMALL(IF(joueurs=$B105,ROW(INDIRECT(\"1:\"&ROWS(ballonperdus)))),ROWS($1:$3))),\"\")","v":0},{"$f":"IF(ROWS($1:$4)<=COUNTIF(joueurs,$B105),INDEX(ballonperdus,SMALL(IF(joueurs=$B105,ROW(INDIRECT(\"1:\"&ROWS(ballonperdus)))),ROWS($1:$4))),\"\")","v":0},{"$f":"IF(ROWS($1:$5)<=COUNTIF(joueurs,$B105),INDEX(ballonperdus,SMALL(IF(joueurs=$B105,ROW(INDIRECT(\"1:\"&ROWS(ballonperdus)))),ROWS($1:$5))),\"\")","v":0},{"$f":"IF(ROWS($1:$6)<=COUNTIF(joueurs,$B105),INDEX(ballonperdus,SMALL(IF(joueurs=$B105,ROW(INDIRECT(\"1:\"&ROWS(ballonperdus)))),ROWS($1:$6))),\"\")","v":0},{"$f":"IF(ROWS($1:$7)<=COUNTIF(joueurs,$B105),INDEX(ballonperdus,SMALL(IF(joueurs=$B105,ROW(INDIRECT(\"1:\"&ROWS(ballonperdus)))),ROWS($1:$7))),\"\")","v":0},{"$f":"IF(ROWS($1:$8)<=COUNTIF(joueurs,$B105),INDEX(ballonperdus,SMALL(IF(joueurs=$B105,ROW(INDIRECT(\"1:\"&ROWS(ballonperdus)))),ROWS($1:$8))),\"\")","v":0},{"$f":"IF(ROWS($1:$9)<=COUNTIF(joueurs,$B105),INDEX(ballonperdus,SMALL(IF(joueurs=$B105,ROW(INDIRECT(\"1:\"&ROWS(ballonperdus)))),ROWS($1:$9))),\"\")","v":0},{"$f":"IF(ROWS($1:$10)<=COUNTIF(joueurs,$B105),INDEX(ballonperdus,SMALL(IF(joueurs=$B105,ROW(INDIRECT(\"1:\"&ROWS(ballonperdus)))),ROWS($1:$10))),\"\")","v":0},{"$f":"IF(ROWS($1:$1)<=COUNTIF(joueurs,$B105),INDEX(interceptions,SMALL(IF(joueurs=$B105,ROW(INDIRECT(\"1:\"&ROWS(interceptions)))),ROWS($1:$1))),\"\")","v":0},{"$f":"IF(ROWS($1:$2)<=COUNTIF(joueurs,$B105),INDEX(interceptions,SMALL(IF(joueurs=$B105,ROW(INDIRECT(\"1:\"&ROWS(interceptions)))),ROWS($1:$2))),\"\")","v":0},{"$f":"IF(ROWS($1:$3)<=COUNTIF(joueurs,$B105),INDEX(interceptions,SMALL(IF(joueurs=$B105,ROW(INDIRECT(\"1:\"&ROWS(interceptions)))),ROWS($1:$3))),\"\")","v":0},{"$f":"IF(ROWS($1:$4)<=COUNTIF(joueurs,$B105),INDEX(interceptions,SMALL(IF(joueurs=$B105,ROW(INDIRECT(\"1:\"&ROWS(interceptions)))),ROWS($1:$4))),\"\")","v":0},{"$f":"IF(ROWS($1:$5)<=COUNTIF(joueurs,$B105),INDEX(interceptions,SMALL(IF(joueurs=$B105,ROW(INDIRECT(\"1:\"&ROWS(interceptions)))),ROWS($1:$5))),\"\")","v":0},{"$f":"IF(ROWS($1:$6)<=COUNTIF(joueurs,$B105),INDEX(interceptions,SMALL(IF(joueurs=$B105,ROW(INDIRECT(\"1:\"&ROWS(interceptions)))),ROWS($1:$6))),\"\")","v":0},{"$f":"IF(ROWS($1:$7)<=COUNTIF(joueurs,$B105),INDEX(interceptions,SMALL(IF(joueurs=$B105,ROW(INDIRECT(\"1:\"&ROWS(interceptions)))),ROWS($1:$7))),\"\")","v":0},{"$f":"IF(ROWS($1:$8)<=COUNTIF(joueurs,$B105),INDEX(interceptions,SMALL(IF(joueurs=$B105,ROW(INDIRECT(\"1:\"&ROWS(interceptions)))),ROWS($1:$8))),\"\")","v":0},{"$f":"IF(ROWS($1:$9)<=COUNTIF(joueurs,$B105),INDEX(interceptions,SMALL(IF(joueurs=$B105,ROW(INDIRECT(\"1:\"&ROWS(interceptions)))),ROWS($1:$9))),\"\")","v":0},{"$f":"IF(ROWS($1:$10)<=COUNTIF(joueurs,$B105),INDEX(interceptions,SMALL(IF(joueurs=$B105,ROW(INDIRECT(\"1:\"&ROWS(interceptions)))),ROWS($1:$10))),\"\")","v":0},{"$f":"IF(ROWS($1:$1)<=COUNTIF(joueurs,$B105),INDEX(ballonrecuperes,SMALL(IF(joueurs=$B105,ROW(INDIRECT(\"1:\"&ROWS(ballonrecuperes)))),ROWS($1:$1))),\"\")","v":0},{"$f":"IF(ROWS($1:$2)<=COUNTIF(joueurs,$B105),INDEX(ballonrecuperes,SMALL(IF(joueurs=$B105,ROW(INDIRECT(\"1:\"&ROWS(ballonrecuperes)))),ROWS($1:$2))),\"\")","v":0},{"$f":"IF(ROWS($1:$3)<=COUNTIF(joueurs,$B105),INDEX(ballonrecuperes,SMALL(IF(joueurs=$B105,ROW(INDIRECT(\"1:\"&ROWS(ballonrecuperes)))),ROWS($1:$3))),\"\")","v":0},{"$f":"IF(ROWS($1:$4)<=COUNTIF(joueurs,$B105),INDEX(ballonrecuperes,SMALL(IF(joueurs=$B105,ROW(INDIRECT(\"1:\"&ROWS(ballonrecuperes)))),ROWS($1:$4))),\"\")","v":0},{"$f":"IF(ROWS($1:$5)<=COUNTIF(joueurs,$B105),INDEX(ballonrecuperes,SMALL(IF(joueurs=$B105,ROW(INDIRECT(\"1:\"&ROWS(ballonrecuperes)))),ROWS($1:$5))),\"\")","v":0},{"$f":"IF(ROWS($1:$6)<=COUNTIF(joueurs,$B105),INDEX(ballonrecuperes,SMALL(IF(joueurs=$B105,ROW(INDIRECT(\"1:\"&ROWS(ballonrecuperes)))),ROWS($1:$6))),\"\")","v":0},{"$f":"IF(ROWS($1:$7)<=COUNTIF(joueurs,$B105),INDEX(ballonrecuperes,SMALL(IF(joueurs=$B105,ROW(INDIRECT(\"1:\"&ROWS(ballonrecuperes)))),ROWS($1:$7))),\"\")","v":0},{"$f":"IF(ROWS($1:$8)<=COUNTIF(joueurs,$B105),INDEX(ballonrecuperes,SMALL(IF(joueurs=$B105,ROW(INDIRECT(\"1:\"&ROWS(ballonrecuperes)))),ROWS($1:$8))),\"\")","v":0},{"$f":"IF(ROWS($1:$9)<=COUNTIF(joueurs,$B105),INDEX(ballonrecuperes,SMALL(IF(joueurs=$B105,ROW(INDIRECT(\"1:\"&ROWS(ballonrecuperes)))),ROWS($1:$9))),\"\")","v":0},{"$f":"IF(ROWS($1:$10)<=COUNTIF(joueurs,$B105),INDEX(ballonrecuperes,SMALL(IF(joueurs=$B105,ROW(INDIRECT(\"1:\"&ROWS(ballonrecuperes)))),ROWS($1:$10))),\"\")","v":0},{"$f":"IF(ROWS($1:$1)<=COUNTIF(joueurs,$B105),INDEX(tirs,SMALL(IF(joueurs=$B105,ROW(INDIRECT(\"1:\"&ROWS(tirs)))),ROWS($1:$1))),\"\")","v":0},{"$f":"IF(ROWS($1:$2)<=COUNTIF(joueurs,$B105),INDEX(tirs,SMALL(IF(joueurs=$B105,ROW(INDIRECT(\"1:\"&ROWS(tirs)))),ROWS($1:$2))),\"\")","v":0},{"$f":"IF(ROWS($1:$3)<=COUNTIF(joueurs,$B105),INDEX(tirs,SMALL(IF(joueurs=$B105,ROW(INDIRECT(\"1:\"&ROWS(tirs)))),ROWS($1:$3))),\"\")","v":0},{"$f":"IF(ROWS($1:$4)<=COUNTIF(joueurs,$B105),INDEX(tirs,SMALL(IF(joueurs=$B105,ROW(INDIRECT(\"1:\"&ROWS(tirs)))),ROWS($1:$4))),\"\")","v":0},{"$f":"IF(ROWS($1:$5)<=COUNTIF(joueurs,$B105),INDEX(tirs,SMALL(IF(joueurs=$B105,ROW(INDIRECT(\"1:\"&ROWS(tirs)))),ROWS($1:$5))),\"\")","v":0},{"$f":"IF(ROWS($1:$6)<=COUNTIF(joueurs,$B105),INDEX(tirs,SMALL(IF(joueurs=$B105,ROW(INDIRECT(\"1:\"&ROWS(tirs)))),ROWS($1:$6))),\"\")","v":0},{"$f":"IF(ROWS($1:$7)<=COUNTIF(joueurs,$B105),INDEX(tirs,SMALL(IF(joueurs=$B105,ROW(INDIRECT(\"1:\"&ROWS(tirs)))),ROWS($1:$7))),\"\")","v":0},{"$f":"IF(ROWS($1:$8)<=COUNTIF(joueurs,$B105),INDEX(tirs,SMALL(IF(joueurs=$B105,ROW(INDIRECT(\"1:\"&ROWS(tirs)))),ROWS($1:$8))),\"\")","v":0},{"$f":"IF(ROWS($1:$9)<=COUNTIF(joueurs,$B105),INDEX(tirs,SMALL(IF(joueurs=$B105,ROW(INDIRECT(\"1:\"&ROWS(tirs)))),ROWS($1:$9))),\"\")","v":0},{"$f":"IF(ROWS($1:$10)<=COUNTIF(joueurs,$B105),INDEX(tirs,SMALL(IF(joueurs=$B105,ROW(INDIRECT(\"1:\"&ROWS(tirs)))),ROWS($1:$10))),\"\")","v":0},{"$f":"IF(ROWS($1:$1)<=COUNTIF(joueurs,$B105),INDEX(bontirs,SMALL(IF(joueurs=$B105,ROW(INDIRECT(\"1:\"&ROWS(bontirs)))),ROWS($1:$1))),\"\")","v":0},{"$f":"IF(ROWS($1:$2)<=COUNTIF(joueurs,$B105),INDEX(bontirs,SMALL(IF(joueurs=$B105,ROW(INDIRECT(\"1:\"&ROWS(bontirs)))),ROWS($1:$2))),\"\")","v":0},{"$f":"IF(ROWS($1:$3)<=COUNTIF(joueurs,$B105),INDEX(bontirs,SMALL(IF(joueurs=$B105,ROW(INDIRECT(\"1:\"&ROWS(bontirs)))),ROWS($1:$3))),\"\")","v":0},{"$f":"IF(ROWS($1:$4)<=COUNTIF(joueurs,$B105),INDEX(bontirs,SMALL(IF(joueurs=$B105,ROW(INDIRECT(\"1:\"&ROWS(bontirs)))),ROWS($1:$4))),\"\")","v":0},{"$f":"IF(ROWS($1:$5)<=COUNTIF(joueurs,$B105),INDEX(bontirs,SMALL(IF(joueurs=$B105,ROW(INDIRECT(\"1:\"&ROWS(bontirs)))),ROWS($1:$5))),\"\")","v":0},{"$f":"IF(ROWS($1:$6)<=COUNTIF(joueurs,$B105),INDEX(bontirs,SMALL(IF(joueurs=$B105,ROW(INDIRECT(\"1:\"&ROWS(bontirs)))),ROWS($1:$6))),\"\")","v":0},{"$f":"IF(ROWS($1:$7)<=COUNTIF(joueurs,$B105),INDEX(bontirs,SMALL(IF(joueurs=$B105,ROW(INDIRECT(\"1:\"&ROWS(bontirs)))),ROWS($1:$7))),\"\")","v":0},{"$f":"IF(ROWS($1:$8)<=COUNTIF(joueurs,$B105),INDEX(bontirs,SMALL(IF(joueurs=$B105,ROW(INDIRECT(\"1:\"&ROWS(bontirs)))),ROWS($1:$8))),\"\")","v":0},{"$f":"IF(ROWS($1:$9)<=COUNTIF(joueurs,$B105),INDEX(bontirs,SMALL(IF(joueurs=$B105,ROW(INDIRECT(\"1:\"&ROWS(bontirs)))),ROWS($1:$9))),\"\")","v":0},{"$f":"IF(ROWS($1:$10)<=COUNTIF(joueurs,$B105),INDEX(bontirs,SMALL(IF(joueurs=$B105,ROW(INDIRECT(\"1:\"&ROWS(bontirs)))),ROWS($1:$10))),\"\")","v":0},{"$f":"IF(ROWS($1:$1)<=COUNTIF(joueurs,$B105),INDEX(points,SMALL(IF(joueurs=$B105,ROW(INDIRECT(\"1:\"&ROWS(points)))),ROWS($1:$1))),\"\")","v":0},{"$f":"IF(ROWS($1:$2)<=COUNTIF(joueurs,$B105),INDEX(points,SMALL(IF(joueurs=$B105,ROW(INDIRECT(\"1:\"&ROWS(points)))),ROWS($1:$2))),\"\")","v":0},{"$f":"IF(ROWS($1:$3)<=COUNTIF(joueurs,$B105),INDEX(points,SMALL(IF(joueurs=$B105,ROW(INDIRECT(\"1:\"&ROWS(points)))),ROWS($1:$3))),\"\")","v":0},{"$f":"IF(ROWS($1:$4)<=COUNTIF(joueurs,$B105),INDEX(points,SMALL(IF(joueurs=$B105,ROW(INDIRECT(\"1:\"&ROWS(points)))),ROWS($1:$4))),\"\")","v":0},{"$f":"IF(ROWS($1:$5)<=COUNTIF(joueurs,$B105),INDEX(points,SMALL(IF(joueurs=$B105,ROW(INDIRECT(\"1:\"&ROWS(points)))),ROWS($1:$5))),\"\")","v":0},{"$f":"IF(ROWS($1:$6)<=COUNTIF(joueurs,$B105),INDEX(points,SMALL(IF(joueurs=$B105,ROW(INDIRECT(\"1:\"&ROWS(points)))),ROWS($1:$6))),\"\")","v":0},{"$f":"IF(ROWS($1:$7)<=COUNTIF(joueurs,$B105),INDEX(points,SMALL(IF(joueurs=$B105,ROW(INDIRECT(\"1:\"&ROWS(points)))),ROWS($1:$7))),\"\")","v":0},{"$f":"IF(ROWS($1:$8)<=COUNTIF(joueurs,$B105),INDEX(points,SMALL(IF(joueurs=$B105,ROW(INDIRECT(\"1:\"&ROWS(points)))),ROWS($1:$8))),\"\")","v":0},{"$f":"IF(ROWS($1:$9)<=COUNTIF(joueurs,$B105),INDEX(points,SMALL(IF(joueurs=$B105,ROW(INDIRECT(\"1:\"&ROWS(points)))),ROWS($1:$9))),\"\")","v":0},{"$f":"IF(ROWS($1:$10)<=COUNTIF(joueurs,$B105),INDEX(points,SMALL(IF(joueurs=$B105,ROW(INDIRECT(\"1:\"&ROWS(points)))),ROWS($1:$10))),\"\")","v":0},{"$f":"IF(ROWS($1:$1)<=COUNTIF(joueurs,$B105),INDEX(victoires,SMALL(IF(joueurs=$B105,ROW(INDIRECT(\"1:\"&ROWS(victoires)))),ROWS($1:$1))),\"\")","v":0},{"$f":"IF(ROWS($1:$2)<=COUNTIF(joueurs,$B105),INDEX(victoires,SMALL(IF(joueurs=$B105,ROW(INDIRECT(\"1:\"&ROWS(victoires)))),ROWS($1:$2))),\"\")","v":0},{"$f":"IF(ROWS($1:$3)<=COUNTIF(joueurs,$B105),INDEX(victoires,SMALL(IF(joueurs=$B105,ROW(INDIRECT(\"1:\"&ROWS(victoires)))),ROWS($1:$3))),\"\")","v":0},{"$f":"IF(ROWS($1:$4)<=COUNTIF(joueurs,$B105),INDEX(victoires,SMALL(IF(joueurs=$B105,ROW(INDIRECT(\"1:\"&ROWS(victoires)))),ROWS($1:$4))),\"\")","v":0},{"$f":"IF(ROWS($1:$5)<=COUNTIF(joueurs,$B105),INDEX(victoires,SMALL(IF(joueurs=$B105,ROW(INDIRECT(\"1:\"&ROWS(victoires)))),ROWS($1:$5))),\"\")","v":0},{"$f":"IF(ROWS($1:$6)<=COUNTIF(joueurs,$B105),INDEX(victoires,SMALL(IF(joueurs=$B105,ROW(INDIRECT(\"1:\"&ROWS(victoires)))),ROWS($1:$6))),\"\")","v":0},{"$f":"IF(ROWS($1:$7)<=COUNTIF(joueurs,$B105),INDEX(victoires,SMALL(IF(joueurs=$B105,ROW(INDIRECT(\"1:\"&ROWS(victoires)))),ROWS($1:$7))),\"\")","v":0},{"$f":"IF(ROWS($1:$8)<=COUNTIF(joueurs,$B105),INDEX(victoires,SMALL(IF(joueurs=$B105,ROW(INDIRECT(\"1:\"&ROWS(victoires)))),ROWS($1:$8))),\"\")","v":0},{"$f":"IF(ROWS($1:$9)<=COUNTIF(joueurs,$B105),INDEX(victoires,SMALL(IF(joueurs=$B105,ROW(INDIRECT(\"1:\"&ROWS(victoires)))),ROWS($1:$9))),\"\")","v":0},{"$f":"IF(ROWS($1:$10)<=COUNTIF(joueurs,$B105),INDEX(victoires,SMALL(IF(joueurs=$B105,ROW(INDIRECT(\"1:\"&ROWS(victoires)))),ROWS($1:$10))),\"\")","v":0}]
[null,null,null,{"$f":"IF(ROWS($1:$11)<=COUNTIF(joueurs,$B105),INDEX(fautes,SMALL(IF(joueurs=$B105,ROW(INDIRECT(\"1:\"&ROWS(fautes)))),ROWS($1:$11))),\"\")","v":0},{"$f":"IF(ROWS($1:$12)<=COUNTIF(joueurs,$B105),INDEX(fautes,SMALL(IF(joueurs=$B105,ROW(INDIRECT(\"1:\"&ROWS(fautes)))),ROWS($1:$12))),\"\")","v":0},{"$f":"IF(ROWS($1:$13)<=COUNTIF(joueurs,$B105),INDEX(fautes,SMALL(IF(joueurs=$B105,ROW(INDIRECT(\"1:\"&ROWS(fautes)))),ROWS($1:$13))),\"\")","v":0},{"$f":"IF(ROWS($1:$14)<=COUNTIF(joueurs,$B105),INDEX(fautes,SMALL(IF(joueurs=$B105,ROW(INDIRECT(\"1:\"&ROWS(fautes)))),ROWS($1:$14))),\"\")","v":0},{"$f":"IF(ROWS($1:$15)<=COUNTIF(joueurs,$B105),INDEX(fautes,SMALL(IF(joueurs=$B105,ROW(INDIRECT(\"1:\"&ROWS(fautes)))),ROWS($1:$15))),\"\")","v":0},{"$f":"IF(ROWS($1:$16)<=COUNTIF(joueurs,$B105),INDEX(fautes,SMALL(IF(joueurs=$B105,ROW(INDIRECT(\"1:\"&ROWS(fautes)))),ROWS($1:$16))),\"\")","v":0},{"$f":"IF(ROWS($1:$17)<=COUNTIF(joueurs,$B105),INDEX(fautes,SMALL(IF(joueurs=$B105,ROW(INDIRECT(\"1:\"&ROWS(fautes)))),ROWS($1:$17))),\"\")","v":0},{"$f":"IF(ROWS($1:$18)<=COUNTIF(joueurs,$B105),INDEX(fautes,SMALL(IF(joueurs=$B105,ROW(INDIRECT(\"1:\"&ROWS(fautes)))),ROWS($1:$18))),\"\")","v":0},{"$f":"IF(ROWS($1:$19)<=COUNTIF(joueurs,$B105),INDEX(fautes,SMALL(IF(joueurs=$B105,ROW(INDIRECT(\"1:\"&ROWS(fautes)))),ROWS($1:$19))),\"\")","v":0},{"$f":"IF(ROWS($1:$20)<=COUNTIF(joueurs,$B105),INDEX(fautes,SMALL(IF(joueurs=$B105,ROW(INDIRECT(\"1:\"&ROWS(fautes)))),ROWS($1:$20))),\"\")","v":0},{"$f":"IF(ROWS($1:$11)<=COUNTIF(joueurs,$B105),INDEX(ballonperdus,SMALL(IF(joueurs=$B105,ROW(INDIRECT(\"1:\"&ROWS(ballonperdus)))),ROWS($1:$11))),\"\")","v":0},{"$f":"IF(ROWS($1:$12)<=COUNTIF(joueurs,$B105),INDEX(ballonperdus,SMALL(IF(joueurs=$B105,ROW(INDIRECT(\"1:\"&ROWS(ballonperdus)))),ROWS($1:$12))),\"\")","v":0},{"$f":"IF(ROWS($1:$13)<=COUNTIF(joueurs,$B105),INDEX(ballonperdus,SMALL(IF(joueurs=$B105,ROW(INDIRECT(\"1:\"&ROWS(ballonperdus)))),ROWS($1:$13))),\"\")","v":0},{"$f":"IF(ROWS($1:$14)<=COUNTIF(joueurs,$B105),INDEX(ballonperdus,SMALL(IF(joueurs=$B105,ROW(INDIRECT(\"1:\"&ROWS(ballonperdus)))),ROWS($1:$14))),\"\")","v":0},{"$f":"IF(ROWS($1:$15)<=COUNTIF(joueurs,$B105),INDEX(ballonperdus,SMALL(IF(joueurs=$B105,ROW(INDIRECT(\"1:\"&ROWS(ballonperdus)))),ROWS($1:$15))),\"\")","v":0},{"$f":"IF(ROWS($1:$16)<=COUNTIF(joueurs,$B105),INDEX(ballonperdus,SMALL(IF(joueurs=$B105,ROW(INDIRECT(\"1:\"&ROWS(ballonperdus)))),ROWS($1:$16))),\"\")","v":0},{"$f":"IF(ROWS($1:$17)<=COUNTIF(joueurs,$B105),INDEX(ballonperdus,SMALL(IF(joueurs=$B105,ROW(INDIRECT(\"1:\"&ROWS(ballonperdus)))),ROWS($1:$17))),\"\")","v":0},{"$f":"IF(ROWS($1:$18)<=COUNTIF(joueurs,$B105),INDEX(ballonperdus,SMALL(IF(joueurs=$B105,ROW(INDIRECT(\"1:\"&ROWS(ballonperdus)))),ROWS($1:$18))),\"\")","v":0},{"$f":"IF(ROWS($1:$19)<=COUNTIF(joueurs,$B105),INDEX(ballonperdus,SMALL(IF(joueurs=$B105,ROW(INDIRECT(\"1:\"&ROWS(ballonperdus)))),ROWS($1:$19))),\"\")","v":0},{"$f":"IF(ROWS($1:$20)<=COUNTIF(joueurs,$B105),INDEX(fautes,SMALL(IF(joueurs=$B105,ROW(INDIRECT(\"1:\"&ROWS(ballonperdus)))),ROWS($1:$20))),\"\")","v":0},{"$f":"IF(ROWS($1:$11)<=COUNTIF(joueurs,$B105),INDEX(interceptions,SMALL(IF(joueurs=$B105,ROW(INDIRECT(\"1:\"&ROWS(interceptions)))),ROWS($1:$11))),\"\")","v":0},{"$f":"IF(ROWS($1:$12)<=COUNTIF(joueurs,$B105),INDEX(interceptions,SMALL(IF(joueurs=$B105,ROW(INDIRECT(\"1:\"&ROWS(interceptions)))),ROWS($1:$12))),\"\")","v":0},{"$f":"IF(ROWS($1:$13)<=COUNTIF(joueurs,$B105),INDEX(interceptions,SMALL(IF(joueurs=$B105,ROW(INDIRECT(\"1:\"&ROWS(interceptions)))),ROWS($1:$13))),\"\")","v":0},{"$f":"IF(ROWS($1:$14)<=COUNTIF(joueurs,$B105),INDEX(interceptions,SMALL(IF(joueurs=$B105,ROW(INDIRECT(\"1:\"&ROWS(interceptions)))),ROWS($1:$14))),\"\")","v":0},{"$f":"IF(ROWS($1:$15)<=COUNTIF(joueurs,$B105),INDEX(interceptions,SMALL(IF(joueurs=$B105,ROW(INDIRECT(\"1:\"&ROWS(interceptions)))),ROWS($1:$15))),\"\")","v":0},{"$f":"IF(ROWS($1:$16)<=COUNTIF(joueurs,$B105),INDEX(interceptions,SMALL(IF(joueurs=$B105,ROW(INDIRECT(\"1:\"&ROWS(interceptions)))),ROWS($1:$16))),\"\")","v":0},{"$f":"IF(ROWS($1:$17)<=COUNTIF(joueurs,$B105),INDEX(interceptions,SMALL(IF(joueurs=$B105,ROW(INDIRECT(\"1:\"&ROWS(interceptions)))),ROWS($1:$17))),\"\")","v":0},{"$f":"IF(ROWS($1:$18)<=COUNTIF(joueurs,$B105),INDEX(interceptions,SMALL(IF(joueurs=$B105,ROW(INDIRECT(\"1:\"&ROWS(interceptions)))),ROWS($1:$18))),\"\")","v":0},{"$f":"IF(ROWS($1:$19)<=COUNTIF(joueurs,$B105),INDEX(interceptions,SMALL(IF(joueurs=$B105,ROW(INDIRECT(\"1:\"&ROWS(interceptions)))),ROWS($1:$19))),\"\")","v":0},{"$f":"IF(ROWS($1:$20)<=COUNTIF(joueurs,$B105),INDEX(interceptions,SMALL(IF(joueurs=$B105,ROW(INDIRECT(\"1:\"&ROWS(interceptions)))),ROWS($1:$20))),\"\")","v":0},{"$f":"IF(ROWS($1:$11)<=COUNTIF(joueurs,$B105),INDEX(ballonrecuperes,SMALL(IF(joueurs=$B105,ROW(INDIRECT(\"1:\"&ROWS(ballonrecuperes)))),ROWS($1:$11))),\"\")","v":0},{"$f":"IF(ROWS($1:$12)<=COUNTIF(joueurs,$B105),INDEX(ballonrecuperes,SMALL(IF(joueurs=$B105,ROW(INDIRECT(\"1:\"&ROWS(ballonrecuperes)))),ROWS($1:$12))),\"\")","v":0},{"$f":"IF(ROWS($1:$13)<=COUNTIF(joueurs,$B105),INDEX(ballonrecuperes,SMALL(IF(joueurs=$B105,ROW(INDIRECT(\"1:\"&ROWS(ballonrecuperes)))),ROWS($1:$13))),\"\")","v":0},{"$f":"IF(ROWS($1:$14)<=COUNTIF(joueurs,$B105),INDEX(ballonrecuperes,SMALL(IF(joueurs=$B105,ROW(INDIRECT(\"1:\"&ROWS(ballonrecuperes)))),ROWS($1:$14))),\"\")","v":0},{"$f":"IF(ROWS($1:$15)<=COUNTIF(joueurs,$B105),INDEX(ballonrecuperes,SMALL(IF(joueurs=$B105,ROW(INDIRECT(\"1:\"&ROWS(ballonrecuperes)))),ROWS($1:$15))),\"\")","v":0},{"$f":"IF(ROWS($1:$16)<=COUNTIF(joueurs,$B105),INDEX(ballonrecuperes,SMALL(IF(joueurs=$B105,ROW(INDIRECT(\"1:\"&ROWS(ballonrecuperes)))),ROWS($1:$16))),\"\")","v":0},{"$f":"IF(ROWS($1:$17)<=COUNTIF(joueurs,$B105),INDEX(ballonrecuperes,SMALL(IF(joueurs=$B105,ROW(INDIRECT(\"1:\"&ROWS(ballonrecuperes)))),ROWS($1:$17))),\"\")","v":0},{"$f":"IF(ROWS($1:$18)<=COUNTIF(joueurs,$B105),INDEX(ballonrecuperes,SMALL(IF(joueurs=$B105,ROW(INDIRECT(\"1:\"&ROWS(ballonrecuperes)))),ROWS($1:$18))),\"\")","v":0},{"$f":"IF(ROWS($1:$19)<=COUNTIF(joueurs,$B105),INDEX(ballonrecuperes,SMALL(IF(joueurs=$B105,ROW(INDIRECT(\"1:\"&ROWS(ballonrecuperes)))),ROWS($1:$19))),\"\")","v":0},{"$f":"IF(ROWS($1:$20)<=COUNTIF(joueurs,$B105),INDEX(ballonrecuperes,SMALL(IF(joueurs=$B105,ROW(INDIRECT(\"1:\"&ROWS(ballonrecuperes)))),ROWS($1:$20))),\"\")","v":0},{"$f":"IF(ROWS($1:$11)<=COUNTIF(joueurs,$B105),INDEX(tirs,SMALL(IF(joueurs=$B105,ROW(INDIRECT(\"1:\"&ROWS(tirs)))),ROWS($1:$11))),\"\")","v":0},{"$f":"IF(ROWS($1:$12)<=COUNTIF(joueurs,$B105),INDEX(tirs,SMALL(IF(joueurs=$B105,ROW(INDIRECT(\"1:\"&ROWS(tirs)))),ROWS($1:$12))),\"\")","v":0},{"$f":"IF(ROWS($1:$13)<=COUNTIF(joueurs,$B105),INDEX(tirs,SMALL(IF(joueurs=$B105,ROW(INDIRECT(\"1:\"&ROWS(tirs)))),ROWS($1:$13))),\"\")","v":0},{"$f":"IF(ROWS($1:$14)<=COUNTIF(joueurs,$B105),INDEX(tirs,SMALL(IF(joueurs=$B105,ROW(INDIRECT(\"1:\"&ROWS(tirs)))),ROWS($1:$14))),\"\")","v":0},{"$f":"IF(ROWS($1:$15)<=COUNTIF(joueurs,$B105),INDEX(tirs,SMALL(IF(joueurs=$B105,ROW(INDIRECT(\"1:\"&ROWS(tirs)))),ROWS($1:$15))),\"\")","v":0},{"$f":"IF(ROWS($1:$16)<=COUNTIF(joueurs,$B105),INDEX(tirs,SMALL(IF(joueurs=$B105,ROW(INDIRECT(\"1:\"&ROWS(tirs)))),ROWS($1:$16))),\"\")","v":0},{"$f":"IF(ROWS($1:$17)<=COUNTIF(joueurs,$B105),INDEX(tirs,SMALL(IF(joueurs=$B105,ROW(INDIRECT(\"1:\"&ROWS(tirs)))),ROWS($1:$17))),\"\")","v":0},{"$f":"IF(ROWS($1:$18)<=COUNTIF(joueurs,$B105),INDEX(tirs,SMALL(IF(joueurs=$B105,ROW(INDIRECT(\"1:\"&ROWS(tirs)))),ROWS($1:$18))),\"\")","v":0},{"$f":"IF(ROWS($1:$19)<=COUNTIF(joueurs,$B105),INDEX(tirs,SMALL(IF(joueurs=$B105,ROW(INDIRECT(\"1:\"&ROWS(tirs)))),ROWS($1:$19))),\"\")","v":0},{"$f":"IF(ROWS($1:$20)<=COUNTIF(joueurs,$B105),INDEX(tirs,SMALL(IF(joueurs=$B105,ROW(INDIRECT(\"1:\"&ROWS(tirs)))),ROWS($1:$20))),\"\")","v":0},{"$f":"IF(ROWS($1:$11)<=COUNTIF(joueurs,$B105),INDEX(bontirs,SMALL(IF(joueurs=$B105,ROW(INDIRECT(\"1:\"&ROWS(bontirs)))),ROWS($1:$11))),\"\")","v":0},{"$f":"IF(ROWS($1:$12)<=COUNTIF(joueurs,$B105),INDEX(bontirs,SMALL(IF(joueurs=$B105,ROW(INDIRECT(\"1:\"&ROWS(bontirs)))),ROWS($1:$12))),\"\")","v":0},{"$f":"IF(ROWS($1:$13)<=COUNTIF(joueurs,$B105),INDEX(bontirs,SMALL(IF(joueurs=$B105,ROW(INDIRECT(\"1:\"&ROWS(bontirs)))),ROWS($1:$13))),\"\")","v":0},{"$f":"IF(ROWS($1:$14)<=COUNTIF(joueurs,$B105),INDEX(bontirs,SMALL(IF(joueurs=$B105,ROW(INDIRECT(\"1:\"&ROWS(bontirs)))),ROWS($1:$14))),\"\")","v":0},{"$f":"IF(ROWS($1:$15)<=COUNTIF(joueurs,$B105),INDEX(bontirs,SMALL(IF(joueurs=$B105,ROW(INDIRECT(\"1:\"&ROWS(bontirs)))),ROWS($1:$15))),\"\")","v":0},{"$f":"IF(ROWS($1:$16)<=COUNTIF(joueurs,$B105),INDEX(bontirs,SMALL(IF(joueurs=$B105,ROW(INDIRECT(\"1:\"&ROWS(bontirs)))),ROWS($1:$16))),\"\")","v":0},{"$f":"IF(ROWS($1:$17)<=COUNTIF(joueurs,$B105),INDEX(bontirs,SMALL(IF(joueurs=$B105,ROW(INDIRECT(\"1:\"&ROWS(bontirs)))),ROWS($1:$17))),\"\")","v":0},{"$f":"IF(ROWS($1:$18)<=COUNTIF(joueurs,$B105),INDEX(bontirs,SMALL(IF(joueurs=$B105,ROW(INDIRECT(\"1:\"&ROWS(bontirs)))),ROWS($1:$18))),\"\")","v":0},{"$f":"IF(ROWS($1:$19)<=COUNTIF(joueurs,$B105),INDEX(bontirs,SMALL(IF(joueurs=$B105,ROW(INDIRECT(\"1:\"&ROWS(bontirs)))),ROWS($1:$19))),\"\")","v":0},{"$f":"IF(ROWS($1:$20)<=COUNTIF(joueurs,$B105),INDEX(bontirs,SMALL(IF(joueurs=$B105,ROW(INDIRECT(\"1:\"&ROWS(bontirs)))),ROWS($1:$20))),\"\")","v":0},{"$f":"IF(ROWS($1:$11)<=COUNTIF(joueurs,$B105),INDEX(points,SMALL(IF(joueurs=$B105,ROW(INDIRECT(\"1:\"&ROWS(points)))),ROWS($1:$11))),\"\")","v":0},{"$f":"IF(ROWS($1:$12)<=COUNTIF(joueurs,$B105),INDEX(points,SMALL(IF(joueurs=$B105,ROW(INDIRECT(\"1:\"&ROWS(points)))),ROWS($1:$12))),\"\")","v":0},{"$f":"IF(ROWS($1:$13)<=COUNTIF(joueurs,$B105),INDEX(points,SMALL(IF(joueurs=$B105,ROW(INDIRECT(\"1:\"&ROWS(points)))),ROWS($1:$13))),\"\")","v":0},{"$f":"IF(ROWS($1:$14)<=COUNTIF(joueurs,$B105),INDEX(points,SMALL(IF(joueurs=$B105,ROW(INDIRECT(\"1:\"&ROWS(points)))),ROWS($1:$14))),\"\")","v":0},{"$f":"IF(ROWS($1:$15)<=COUNTIF(joueurs,$B105),INDEX(points,SMALL(IF(joueurs=$B105,ROW(INDIRECT(\"1:\"&ROWS(points)))),ROWS($1:$15))),\"\")","v":0},{"$f":"IF(ROWS($1:$16)<=COUNTIF(joueurs,$B105),INDEX(points,SMALL(IF(joueurs=$B105,ROW(INDIRECT(\"1:\"&ROWS(points)))),ROWS($1:$16))),\"\")","v":0},{"$f":"IF(ROWS($1:$17)<=COUNTIF(joueurs,$B105),INDEX(points,SMALL(IF(joueurs=$B105,ROW(INDIRECT(\"1:\"&ROWS(points)))),ROWS($1:$17))),\"\")","v":0},{"$f":"IF(ROWS($1:$18)<=COUNTIF(joueurs,$B105),INDEX(points,SMALL(IF(joueurs=$B105,ROW(INDIRECT(\"1:\"&ROWS(points)))),ROWS($1:$18))),\"\")","v":0},{"$f":"IF(ROWS($1:$19)<=COUNTIF(joueurs,$B105),INDEX(points,SMALL(IF(joueurs=$B105,ROW(INDIRECT(\"1:\"&ROWS(points)))),ROWS($1:$19))),\"\")","v":0},{"$f":"IF(ROWS($1:$20)<=COUNTIF(points,$B105),INDEX(fautes,SMALL(IF(joueurs=$B105,ROW(INDIRECT(\"1:\"&ROWS(points)))),ROWS($1:$20))),\"\")","v":0},{"$f":"IF(ROWS($1:$11)<=COUNTIF(joueurs,$B105),INDEX(victoires,SMALL(IF(joueurs=$B105,ROW(INDIRECT(\"1:\"&ROWS(victoires)))),ROWS($1:$11))),\"\")","v":0},{"$f":"IF(ROWS($1:$12)<=COUNTIF(joueurs,$B105),INDEX(victoires,SMALL(IF(joueurs=$B105,ROW(INDIRECT(\"1:\"&ROWS(victoires)))),ROWS($1:$12))),\"\")","v":0},{"$f":"IF(ROWS($1:$13)<=COUNTIF(joueurs,$B105),INDEX(victoires,SMALL(IF(joueurs=$B105,ROW(INDIRECT(\"1:\"&ROWS(victoires)))),ROWS($1:$13))),\"\")","v":0},{"$f":"IF(ROWS($1:$14)<=COUNTIF(joueurs,$B105),INDEX(victoires,SMALL(IF(joueurs=$B105,ROW(INDIRECT(\"1:\"&ROWS(victoires)))),ROWS($1:$14))),\"\")","v":0},{"$f":"IF(ROWS($1:$15)<=COUNTIF(joueurs,$B105),INDEX(victoires,SMALL(IF(joueurs=$B105,ROW(INDIRECT(\"1:\"&ROWS(victoires)))),ROWS($1:$15))),\"\")","v":0},{"$f":"IF(ROWS($1:$16)<=COUNTIF(joueurs,$B105),INDEX(victoires,SMALL(IF(joueurs=$B105,ROW(INDIRECT(\"1:\"&ROWS(victoires)))),ROWS($1:$16))),\"\")","v":0},{"$f":"IF(ROWS($1:$17)<=COUNTIF(joueurs,$B105),INDEX(victoires,SMALL(IF(joueurs=$B105,ROW(INDIRECT(\"1:\"&ROWS(victoires)))),ROWS($1:$17))),\"\")","v":0},{"$f":"IF(ROWS($1:$18)<=COUNTIF(joueurs,$B105),INDEX(victoires,SMALL(IF(joueurs=$B105,ROW(INDIRECT(\"1:\"&ROWS(victoires)))),ROWS($1:$18))),\"\")","v":0},{"$f":"IF(ROWS($1:$19)<=COUNTIF(joueurs,$B105),INDEX(victoires,SMALL(IF(joueurs=$B105,ROW(INDIRECT(\"1:\"&ROWS(victoires)))),ROWS($1:$19))),\"\")","v":0},{"$f":"IF(ROWS($1:$20)<=COUNTIF(joueurs,$B105),INDEX(victoires,SMALL(IF(joueurs=$B105,ROW(INDIRECT(\"1:\"&ROWS(victoires)))),ROWS($1:$20))),\"\")","v":0}]
[null,null,null,{"$f":"IF(ROWS($1:$21)<=COUNTIF(joueurs,$B105),INDEX(fautes,SMALL(IF(joueurs=$B105,ROW(INDIRECT(\"1:\"&ROWS(fautes)))),ROWS($1:$21))),\"\")","v":0},{"$f":"IF(ROWS($1:$22)<=COUNTIF(joueurs,$B105),INDEX(fautes,SMALL(IF(joueurs=$B105,ROW(INDIRECT(\"1:\"&ROWS(fautes)))),ROWS($1:$22))),\"\")","v":0},{"$f":"IF(ROWS($1:$23)<=COUNTIF(joueurs,$B105),INDEX(fautes,SMALL(IF(joueurs=$B105,ROW(INDIRECT(\"1:\"&ROWS(fautes)))),ROWS($1:$23))),\"\")","v":0},{"$f":"IF(ROWS($1:$24)<=COUNTIF(joueurs,$B105),INDEX(fautes,SMALL(IF(joueurs=$B105,ROW(INDIRECT(\"1:\"&ROWS(fautes)))),ROWS($1:$24))),\"\")","v":0},{"$f":"IF(ROWS($1:$25)<=COUNTIF(joueurs,$B105),INDEX(fautes,SMALL(IF(joueurs=$B105,ROW(INDIRECT(\"1:\"&ROWS(fautes)))),ROWS($1:$25))),\"\")","v":0},{"$f":"IF(ROWS($1:$26)<=COUNTIF(joueurs,$B105),INDEX(fautes,SMALL(IF(joueurs=$B105,ROW(INDIRECT(\"1:\"&ROWS(fautes)))),ROWS($1:$26))),\"\")","v":0},{"$f":"IF(ROWS($1:$27)<=COUNTIF(joueurs,$B105),INDEX(fautes,SMALL(IF(joueurs=$B105,ROW(INDIRECT(\"1:\"&ROWS(fautes)))),ROWS($1:$27))),\"\")","v":0},{"$f":"IF(ROWS($1:$28)<=COUNTIF(joueurs,$B105),INDEX(fautes,SMALL(IF(joueurs=$B105,ROW(INDIRECT(\"1:\"&ROWS(fautes)))),ROWS($1:$28))),\"\")","v":0},{"$f":"IF(ROWS($1:$29)<=COUNTIF(joueurs,$B105),INDEX(fautes,SMALL(IF(joueurs=$B105,ROW(INDIRECT(\"1:\"&ROWS(fautes)))),ROWS($1:$29))),\"\")","v":0},{"$f":"IF(ROWS($1:$30)<=COUNTIF(joueurs,$B105),INDEX(fautes,SMALL(IF(joueurs=$B105,ROW(INDIRECT(\"1:\"&ROWS(fautes)))),ROWS($1:$30))),\"\")","v":0},{"$f":"IF(ROWS($1:$21)<=COUNTIF(joueurs,$B105),INDEX(ballonperdus,SMALL(IF(joueurs=$B105,ROW(INDIRECT(\"1:\"&ROWS(ballonperdus)))),ROWS($1:$21))),\"\")","v":0},{"$f":"IF(ROWS($1:$22)<=COUNTIF(joueurs,$B105),INDEX(ballonperdus,SMALL(IF(joueurs=$B105,ROW(INDIRECT(\"1:\"&ROWS(ballonperdus)))),ROWS($1:$22))),\"\")","v":0},{"$f":"IF(ROWS($1:$23)<=COUNTIF(joueurs,$B105),INDEX(ballonperdus,SMALL(IF(joueurs=$B105,ROW(INDIRECT(\"1:\"&ROWS(ballonperdus)))),ROWS($1:$23))),\"\")","v":0},{"$f":"IF(ROWS($1:$24)<=COUNTIF(joueurs,$B105),INDEX(ballonperdus,SMALL(IF(joueurs=$B105,ROW(INDIRECT(\"1:\"&ROWS(ballonperdus)))),ROWS($1:$24))),\"\")","v":0},{"$f":"IF(ROWS($1:$25)<=COUNTIF(joueurs,$B105),INDEX(ballonperdus,SMALL(IF(joueurs=$B105,ROW(INDIRECT(\"1:\"&ROWS(ballonperdus)))),ROWS($1:$25))),\"\")","v":0},{"$f":"IF(ROWS($1:$26)<=COUNTIF(joueurs,$B105),INDEX(ballonperdus,SMALL(IF(joueurs=$B105,ROW(INDIRECT(\"1:\"&ROWS(ballonperdus)))),ROWS($1:$26))),\"\")","v":0},{"$f":"IF(ROWS($1:$27)<=COUNTIF(joueurs,$B105),INDEX(ballonperdus,SMALL(IF(joueurs=$B105,ROW(INDIRECT(\"1:\"&ROWS(ballonperdus)))),ROWS($1:$27))),\"\")","v":0},{"$f":"IF(ROWS($1:$28)<=COUNTIF(joueurs,$B105),INDEX(ballonperdus,SMALL(IF(joueurs=$B105,ROW(INDIRECT(\"1:\"&ROWS(ballonperdus)))),ROWS($1:$28))),\"\")","v":0},{"$f":"IF(ROWS($1:$29)<=COUNTIF(joueurs,$B105),INDEX(ballonperdus,SMALL(IF(joueurs=$B105,ROW(INDIRECT(\"1:\"&ROWS(ballonperdus)))),ROWS($1:$29))),\"\")","v":0},{"$f":"IF(ROWS($1:$30)<=COUNTIF(joueurs,$B105),INDEX(ballonperdus,SMALL(IF(joueurs=$B105,ROW(INDIRECT(\"1:\"&ROWS(ballonperdus)))),ROWS($1:$30))),\"\")","v":0},{"$f":"IF(ROWS($1:$21)<=COUNTIF(joueurs,$B105),INDEX(interceptions,SMALL(IF(joueurs=$B105,ROW(INDIRECT(\"1:\"&ROWS(interceptions)))),ROWS($1:$21))),\"\")","v":0},{"$f":"IF(ROWS($1:$22)<=COUNTIF(joueurs,$B105),INDEX(interceptions,SMALL(IF(joueurs=$B105,ROW(INDIRECT(\"1:\"&ROWS(interceptions)))),ROWS($1:$22))),\"\")","v":0},{"$f":"IF(ROWS($1:$23)<=COUNTIF(joueurs,$B105),INDEX(interceptions,SMALL(IF(joueurs=$B105,ROW(INDIRECT(\"1:\"&ROWS(interceptions)))),ROWS($1:$23))),\"\")","v":0},{"$f":"IF(ROWS($1:$24)<=COUNTIF(joueurs,$B105),INDEX(interceptions,SMALL(IF(joueurs=$B105,ROW(INDIRECT(\"1:\"&ROWS(interceptions)))),ROWS($1:$24))),\"\")","v":0},{"$f":"IF(ROWS($1:$25)<=COUNTIF(joueurs,$B105),INDEX(interceptions,SMALL(IF(joueurs=$B105,ROW(INDIRECT(\"1:\"&ROWS(interceptions)))),ROWS($1:$25))),\"\")","v":0},{"$f":"IF(ROWS($1:$26)<=COUNTIF(joueurs,$B105),INDEX(interceptions,SMALL(IF(joueurs=$B105,ROW(INDIRECT(\"1:\"&ROWS(interceptions)))),ROWS($1:$26))),\"\")","v":0},{"$f":"IF(ROWS($1:$27)<=COUNTIF(joueurs,$B105),INDEX(interceptions,SMALL(IF(joueurs=$B105,ROW(INDIRECT(\"1:\"&ROWS(interceptions)))),ROWS($1:$27))),\"\")","v":0},{"$f":"IF(ROWS($1:$28)<=COUNTIF(joueurs,$B105),INDEX(interceptions,SMALL(IF(joueurs=$B105,ROW(INDIRECT(\"1:\"&ROWS(interceptions)))),ROWS($1:$28))),\"\")","v":0},{"$f":"IF(ROWS($1:$29)<=COUNTIF(joueurs,$B105),INDEX(interceptions,SMALL(IF(joueurs=$B105,ROW(INDIRECT(\"1:\"&ROWS(interceptions)))),ROWS($1:$29))),\"\")","v":0},{"$f":"IF(ROWS($1:$30)<=COUNTIF(joueurs,$B105),INDEX(interceptions,SMALL(IF(joueurs=$B105,ROW(INDIRECT(\"1:\"&ROWS(interceptions)))),ROWS($1:$30))),\"\")","v":0},{"$f":"IF(ROWS($1:$21)<=COUNTIF(joueurs,$B105),INDEX(ballonrecuperes,SMALL(IF(joueurs=$B105,ROW(INDIRECT(\"1:\"&ROWS(ballonrecuperes)))),ROWS($1:$21))),\"\")","v":0},{"$f":"IF(ROWS($1:$22)<=COUNTIF(joueurs,$B105),INDEX(ballonrecuperes,SMALL(IF(joueurs=$B105,ROW(INDIRECT(\"1:\"&ROWS(ballonrecuperes)))),ROWS($1:$22))),\"\")","v":0},{"$f":"IF(ROWS($1:$23)<=COUNTIF(joueurs,$B105),INDEX(ballonrecuperes,SMALL(IF(joueurs=$B105,ROW(INDIRECT(\"1:\"&ROWS(ballonrecuperes)))),ROWS($1:$23))),\"\")","v":0},{"$f":"IF(ROWS($1:$24)<=COUNTIF(joueurs,$B105),INDEX(ballonrecuperes,SMALL(IF(joueurs=$B105,ROW(INDIRECT(\"1:\"&ROWS(ballonrecuperes)))),ROWS($1:$24))),\"\")","v":0},{"$f":"IF(ROWS($1:$25)<=COUNTIF(joueurs,$B105),INDEX(ballonrecuperes,SMALL(IF(joueurs=$B105,ROW(INDIRECT(\"1:\"&ROWS(ballonrecuperes)))),ROWS($1:$25))),\"\")","v":0},{"$f":"IF(ROWS($1:$26)<=COUNTIF(joueurs,$B105),INDEX(ballonrecuperes,SMALL(IF(joueurs=$B105,ROW(INDIRECT(\"1:\"&ROWS(ballonrecuperes)))),ROWS($1:$26))),\"\")","v":0},{"$f":"IF(ROWS($1:$27)<=COUNTIF(joueurs,$B105),INDEX(ballonrecuperes,SMALL(IF(joueurs=$B105,ROW(INDIRECT(\"1:\"&ROWS(ballonrecuperes)))),ROWS($1:$27))),\"\")","v":0},{"$f":"IF(ROWS($1:$28)<=COUNTIF(joueurs,$B105),INDEX(ballonrecuperes,SMALL(IF(joueurs=$B105,ROW(INDIRECT(\"1:\"&ROWS(ballonrecuperes)))),ROWS($1:$28))),\"\")","v":0},{"$f":"IF(ROWS($1:$29)<=COUNTIF(joueurs,$B105),INDEX(ballonrecuperes,SMALL(IF(joueurs=$B105,ROW(INDIRECT(\"1:\"&ROWS(ballonrecuperes)))),ROWS($1:$29))),\"\")","v":0},{"$f":"IF(ROWS($1:$30)<=COUNTIF(joueurs,$B105),INDEX(ballonrecuperes,SMALL(IF(joueurs=$B105,ROW(INDIRECT(\"1:\"&ROWS(ballonrecuperes)))),ROWS($1:$30))),\"\")","v":0},{"$f":"IF(ROWS($1:$21)<=COUNTIF(joueurs,$B105),INDEX(tirs,SMALL(IF(joueurs=$B105,ROW(INDIRECT(\"1:\"&ROWS(tirs)))),ROWS($1:$21))),\"\")","v":0},{"$f":"IF(ROWS($1:$22)<=COUNTIF(joueurs,$B105),INDEX(tirs,SMALL(IF(joueurs=$B105,ROW(INDIRECT(\"1:\"&ROWS(tirs)))),ROWS($1:$22))),\"\")","v":0},{"$f":"IF(ROWS($1:$23)<=COUNTIF(joueurs,$B105),INDEX(tirs,SMALL(IF(joueurs=$B105,ROW(INDIRECT(\"1:\"&ROWS(tirs)))),ROWS($1:$23))),\"\")","v":0},{"$f":"IF(ROWS($1:$24)<=COUNTIF(joueurs,$B105),INDEX(tirs,SMALL(IF(joueurs=$B105,ROW(INDIRECT(\"1:\"&ROWS(tirs)))),ROWS($1:$24))),\"\")","v":0},{"$f":"IF(ROWS($1:$25)<=COUNTIF(joueurs,$B105),INDEX(tirs,SMALL(IF(joueurs=$B105,ROW(INDIRECT(\"1:\"&ROWS(tirs)))),ROWS($1:$25))),\"\")","v":0},{"$f":"IF(ROWS($1:$26)<=COUNTIF(joueurs,$B105),INDEX(tirs,SMALL(IF(joueurs=$B105,ROW(INDIRECT(\"1:\"&ROWS(tirs)))),ROWS($1:$26))),\"\")","v":0},{"$f":"IF(ROWS($1:$27)<=COUNTIF(joueurs,$B105),INDEX(tirs,SMALL(IF(joueurs=$B105,ROW(INDIRECT(\"1:\"&ROWS(tirs)))),ROWS($1:$27))),\"\")","v":0},{"$f":"IF(ROWS($1:$28)<=COUNTIF(joueurs,$B105),INDEX(tirs,SMALL(IF(joueurs=$B105,ROW(INDIRECT(\"1:\"&ROWS(tirs)))),ROWS($1:$28))),\"\")","v":0},{"$f":"IF(ROWS($1:$29)<=COUNTIF(joueurs,$B105),INDEX(tirs,SMALL(IF(joueurs=$B105,ROW(INDIRECT(\"1:\"&ROWS(tirs)))),ROWS($1:$29))),\"\")","v":0},{"$f":"IF(ROWS($1:$30)<=COUNTIF(joueurs,$B105),INDEX(tirs,SMALL(IF(joueurs=$B105,ROW(INDIRECT(\"1:\"&ROWS(tirs)))),ROWS($1:$30))),\"\")","v":0},{"$f":"IF(ROWS($1:$21)<=COUNTIF(joueurs,$B105),INDEX(bontirs,SMALL(IF(joueurs=$B105,ROW(INDIRECT(\"1:\"&ROWS(bontirs)))),ROWS($1:$21))),\"\")","v":0},{"$f":"IF(ROWS($1:$22)<=COUNTIF(joueurs,$B105),INDEX(bontirs,SMALL(IF(joueurs=$B105,ROW(INDIRECT(\"1:\"&ROWS(bontirs)))),ROWS($1:$22))),\"\")","v":0},{"$f":"IF(ROWS($1:$23)<=COUNTIF(joueurs,$B105),INDEX(bontirs,SMALL(IF(joueurs=$B105,ROW(INDIRECT(\"1:\"&ROWS(bontirs)))),ROWS($1:$23))),\"\")","v":0},{"$f":"IF(ROWS($1:$24)<=COUNTIF(joueurs,$B105),INDEX(bontirs,SMALL(IF(joueurs=$B105,ROW(INDIRECT(\"1:\"&ROWS(bontirs)))),ROWS($1:$24))),\"\")","v":0},{"$f":"IF(ROWS($1:$25)<=COUNTIF(joueurs,$B105),INDEX(bontirs,SMALL(IF(joueurs=$B105,ROW(INDIRECT(\"1:\"&ROWS(bontirs)))),ROWS($1:$25))),\"\")","v":0},{"$f":"IF(ROWS($1:$26)<=COUNTIF(joueurs,$B105),INDEX(bontirs,SMALL(IF(joueurs=$B105,ROW(INDIRECT(\"1:\"&ROWS(bontirs)))),ROWS($1:$26))),\"\")","v":0},{"$f":"IF(ROWS($1:$27)<=COUNTIF(joueurs,$B105),INDEX(bontirs,SMALL(IF(joueurs=$B105,ROW(INDIRECT(\"1:\"&ROWS(bontirs)))),ROWS($1:$27))),\"\")","v":0},{"$f":"IF(ROWS($1:$28)<=COUNTIF(joueurs,$B105),INDEX(bontirs,SMALL(IF(joueurs=$B105,ROW(INDIRECT(\"1:\"&ROWS(bontirs)))),ROWS($1:$28))),\"\")","v":0},{"$f":"IF(ROWS($1:$29)<=COUNTIF(joueurs,$B105),INDEX(bontirs,SMALL(IF(joueurs=$B105,ROW(INDIRECT(\"1:\"&ROWS(bontirs)))),ROWS($1:$29))),\"\")","v":0},{"$f":"IF(ROWS($1:$30)<=COUNTIF(joueurs,$B105),INDEX(bontirs,SMALL(IF(joueurs=$B105,ROW(INDIRECT(\"1:\"&ROWS(bontirs)))),ROWS($1:$30))),\"\")","v":0},{"$f":"IF(ROWS($1:$21)<=COUNTIF(joueurs,$B105),INDEX(points,SMALL(IF(joueurs=$B105,ROW(INDIRECT(\"1:\"&ROWS(points)))),ROWS($1:$21))),\"\")","v":0},{"$f":"IF(ROWS($1:$22)<=COUNTIF(joueurs,$B105),INDEX(points,SMALL(IF(joueurs=$B105,ROW(INDIRECT(\"1:\"&ROWS(points)))),ROWS($1:$22))),\"\")","v":0},{"$f":"IF(ROWS($1:$23)<=COUNTIF(joueurs,$B105),INDEX(points,SMALL(IF(joueurs=$B105,ROW(INDIRECT(\"1:\"&ROWS(points)))),ROWS($1:$23))),\"\")","v":0},{"$f":"IF(ROWS($1:$24)<=COUNTIF(joueurs,$B105),INDEX(points,SMALL(IF(joueurs=$B105,ROW(INDIRECT(\"1:\"&ROWS(points)))),ROWS($1:$24))),\"\")","v":0},{"$f":"IF(ROWS($1:$25)<=COUNTIF(joueurs,$B105),INDEX(points,SMALL(IF(joueurs=$B105,ROW(INDIRECT(\"1:\"&ROWS(points)))),ROWS($1:$25))),\"\")","v":0},{"$f":"IF(ROWS($1:$26)<=COUNTIF(joueurs,$B105),INDEX(points,SMALL(IF(joueurs=$B105,ROW(INDIRECT(\"1:\"&ROWS(points)))),ROWS($1:$26))),\"\")","v":0},{"$f":"IF(ROWS($1:$27)<=COUNTIF(joueurs,$B105),INDEX(points,SMALL(IF(joueurs=$B105,ROW(INDIRECT(\"1:\"&ROWS(points)))),ROWS($1:$27))),\"\")","v":0},{"$f":"IF(ROWS($1:$28)<=COUNTIF(joueurs,$B105),INDEX(points,SMALL(IF(joueurs=$B105,ROW(INDIRECT(\"1:\"&ROWS(points)))),ROWS($1:$28))),\"\")","v":0},{"$f":"IF(ROWS($1:$29)<=COUNTIF(joueurs,$B105),INDEX(points,SMALL(IF(joueurs=$B105,ROW(INDIRECT(\"1:\"&ROWS(points)))),ROWS($1:$29))),\"\")","v":0},{"$f":"IF(ROWS($1:$30)<=COUNTIF(joueurs,$B105),INDEX(points,SMALL(IF(joueurs=$B105,ROW(INDIRECT(\"1:\"&ROWS(points)))),ROWS($1:$30))),\"\")","v":0},{"$f":"IF(ROWS($1:$21)<=COUNTIF(joueurs,$B105),INDEX(victoires,SMALL(IF(joueurs=$B105,ROW(INDIRECT(\"1:\"&ROWS(victoires)))),ROWS($1:$21))),\"\")","v":0},{"$f":"IF(ROWS($1:$22)<=COUNTIF(joueurs,$B105),INDEX(victoires,SMALL(IF(joueurs=$B105,ROW(INDIRECT(\"1:\"&ROWS(victoires)))),ROWS($1:$22))),\"\")","v":0},{"$f":"IF(ROWS($1:$23)<=COUNTIF(joueurs,$B105),INDEX(victoires,SMALL(IF(joueurs=$B105,ROW(INDIRECT(\"1:\"&ROWS(victoires)))),ROWS($1:$23))),\"\")","v":0},{"$f":"IF(ROWS($1:$24)<=COUNTIF(joueurs,$B105),INDEX(victoires,SMALL(IF(joueurs=$B105,ROW(INDIRECT(\"1:\"&ROWS(victoires)))),ROWS($1:$24))),\"\")","v":0},{"$f":"IF(ROWS($1:$25)<=COUNTIF(joueurs,$B105),INDEX(victoires,SMALL(IF(joueurs=$B105,ROW(INDIRECT(\"1:\"&ROWS(victoires)))),ROWS($1:$25))),\"\")","v":0},{"$f":"IF(ROWS($1:$26)<=COUNTIF(joueurs,$B105),INDEX(victoires,SMALL(IF(joueurs=$B105,ROW(INDIRECT(\"1:\"&ROWS(victoires)))),ROWS($1:$26))),\"\")","v":0},{"$f":"IF(ROWS($1:$27)<=COUNTIF(joueurs,$B105),INDEX(victoires,SMALL(IF(joueurs=$B105,ROW(INDIRECT(\"1:\"&ROWS(victoires)))),ROWS($1:$27))),\"\")","v":0},{"$f":"IF(ROWS($1:$28)<=COUNTIF(joueurs,$B105),INDEX(victoires,SMALL(IF(joueurs=$B105,ROW(INDIRECT(\"1:\"&ROWS(victoires)))),ROWS($1:$28))),\"\")","v":0},{"$f":"IF(ROWS($1:$29)<=COUNTIF(joueurs,$B105),INDEX(victoires,SMALL(IF(joueurs=$B105,ROW(INDIRECT(\"1:\"&ROWS(victoires)))),ROWS($1:$29))),\"\")","v":0},{"$f":"IF(ROWS($1:$30)<=COUNTIF(joueurs,$B105),INDEX(victoires,SMALL(IF(joueurs=$B105,ROW(INDIRECT(\"1:\"&ROWS(victoires)))),ROWS($1:$30))),\"\")","v":0}]
[null,null,null,{"$f":"IF(ROWS($1:$31)<=COUNTIF(joueurs,$B105),INDEX(fautes,SMALL(IF(joueurs=$B105,ROW(INDIRECT(\"1:\"&ROWS(fautes)))),ROWS($1:$31))),\"\")","v":0},{"$f":"IF(ROWS($1:$32)<=COUNTIF(joueurs,$B105),INDEX(fautes,SMALL(IF(joueurs=$B105,ROW(INDIRECT(\"1:\"&ROWS(fautes)))),ROWS($1:$32))),\"\")","v":0},{"$f":"IF(ROWS($1:$33)<=COUNTIF(joueurs,$B105),INDEX(fautes,SMALL(IF(joueurs=$B105,ROW(INDIRECT(\"1:\"&ROWS(fautes)))),ROWS($1:$33))),\"\")","v":0},{"$f":"IF(ROWS($1:$34)<=COUNTIF(joueurs,$B105),INDEX(fautes,SMALL(IF(joueurs=$B105,ROW(INDIRECT(\"1:\"&ROWS(fautes)))),ROWS($1:$34))),\"\")","v":0},{"$f":"IF(ROWS($1:$35)<=COUNTIF(joueurs,$B105),INDEX(fautes,SMALL(IF(joueurs=$B105,ROW(INDIRECT(\"1:\"&ROWS(fautes)))),ROWS($1:$35))),\"\")","v":0},{"$f":"IF(ROWS($1:$36)<=COUNTIF(joueurs,$B105),INDEX(fautes,SMALL(IF(joueurs=$B105,ROW(INDIRECT(\"1:\"&ROWS(fautes)))),ROWS($1:$36))),\"\")","v":0},{"$f":"IF(ROWS($1:$37)<=COUNTIF(joueurs,$B105),INDEX(fautes,SMALL(IF(joueurs=$B105,ROW(INDIRECT(\"1:\"&ROWS(fautes)))),ROWS($1:$37))),\"\")","v":0},{"$f":"IF(ROWS($1:$38)<=COUNTIF(joueurs,$B105),INDEX(fautes,SMALL(IF(joueurs=$B105,ROW(INDIRECT(\"1:\"&ROWS(fautes)))),ROWS($1:$38))),\"\")","v":0},{"$f":"IF(ROWS($1:$39)<=COUNTIF(joueurs,$B105),INDEX(fautes,SMALL(IF(joueurs=$B105,ROW(INDIRECT(\"1:\"&ROWS(fautes)))),ROWS($1:$39))),\"\")","v":0},{"$f":"IF(ROWS($1:$40)<=COUNTIF(joueurs,$B105),INDEX(fautes,SMALL(IF(joueurs=$B105,ROW(INDIRECT(\"1:\"&ROWS(fautes)))),ROWS($1:$40))),\"\")","v":0},{"$f":"IF(ROWS($1:$31)<=COUNTIF(joueurs,$B105),INDEX(ballonperdus,SMALL(IF(joueurs=$B105,ROW(INDIRECT(\"1:\"&ROWS(ballonperdus)))),ROWS($1:$31))),\"\")","v":0},{"$f":"IF(ROWS($1:$32)<=COUNTIF(joueurs,$B105),INDEX(ballonperdus,SMALL(IF(joueurs=$B105,ROW(INDIRECT(\"1:\"&ROWS(ballonperdus)))),ROWS($1:$32))),\"\")","v":0},{"$f":"IF(ROWS($1:$33)<=COUNTIF(joueurs,$B105),INDEX(ballonperdus,SMALL(IF(joueurs=$B105,ROW(INDIRECT(\"1:\"&ROWS(ballonperdus)))),ROWS($1:$33))),\"\")","v":0},{"$f":"IF(ROWS($1:$34)<=COUNTIF(joueurs,$B105),INDEX(ballonperdus,SMALL(IF(joueurs=$B105,ROW(INDIRECT(\"1:\"&ROWS(ballonperdus)))),ROWS($1:$34))),\"\")","v":0},{"$f":"IF(ROWS($1:$35)<=COUNTIF(joueurs,$B105),INDEX(ballonperdus,SMALL(IF(joueurs=$B105,ROW(INDIRECT(\"1:\"&ROWS(ballonperdus)))),ROWS($1:$35))),\"\")","v":0},{"$f":"IF(ROWS($1:$36)<=COUNTIF(joueurs,$B105),INDEX(ballonperdus,SMALL(IF(joueurs=$B105,ROW(INDIRECT(\"1:\"&ROWS(ballonperdus)))),ROWS($1:$36))),\"\")","v":0},{"$f":"IF(ROWS($1:$37)<=COUNTIF(joueurs,$B105),INDEX(ballonperdus,SMALL(IF(joueurs=$B105,ROW(INDIRECT(\"1:\"&ROWS(ballonperdus)))),ROWS($1:$37))),\"\")","v":0},{"$f":"IF(ROWS($1:$38)<=COUNTIF(joueurs,$B105),INDEX(ballonperdus,SMALL(IF(joueurs=$B105,ROW(INDIRECT(\"1:\"&ROWS(ballonperdus)))),ROWS($1:$38))),\"\")","v":0},{"$f":"IF(ROWS($1:$39)<=COUNTIF(joueurs,$B105),INDEX(ballonperdus,SMALL(IF(joueurs=$B105,ROW(INDIRECT(\"1:\"&ROWS(ballonperdus)))),ROWS($1:$39))),\"\")","v":0},{"$f":"IF(ROWS($1:$40)<=COUNTIF(joueurs,$B105),INDEX(ballonperdus,SMALL(IF(joueurs=$B105,ROW(INDIRECT(\"1:\"&ROWS(ballonperdus)))),ROWS($1:$40))),\"\")","v":0},{"$f":"IF(ROWS($1:$31)<=COUNTIF(joueurs,$B105),INDEX(interceptions,SMALL(IF(joueurs=$B105,ROW(INDIRECT(\"1:\"&ROWS(interceptions)))),ROWS($1:$31))),\"\")","v":0},{"$f":"IF(ROWS($1:$32)<=COUNTIF(joueurs,$B105),INDEX(interceptions,SMALL(IF(joueurs=$B105,ROW(INDIRECT(\"1:\"&ROWS(interceptions)))),ROWS($1:$32))),\"\")","v":0},{"$f":"IF(ROWS($1:$33)<=COUNTIF(joueurs,$B105),INDEX(interceptions,SMALL(IF(joueurs=$B105,ROW(INDIRECT(\"1:\"&ROWS(interceptions)))),ROWS($1:$33))),\"\")","v":0},{"$f":"IF(ROWS($1:$34)<=COUNTIF(joueurs,$B105),INDEX(interceptions,SMALL(IF(joueurs=$B105,ROW(INDIRECT(\"1:\"&ROWS(interceptions)))),ROWS($1:$34))),\"\")","v":0},{"$f":"IF(ROWS($1:$35)<=COUNTIF(joueurs,$B105),INDEX(interceptions,SMALL(IF(joueurs=$B105,ROW(INDIRECT(\"1:\"&ROWS(interceptions)))),ROWS($1:$35))),\"\")","v":0},{"$f":"IF(ROWS($1:$36)<=COUNTIF(joueurs,$B105),INDEX(interceptions,SMALL(IF(joueurs=$B105,ROW(INDIRECT(\"1:\"&ROWS(interceptions)))),ROWS($1:$36))),\"\")","v":0},{"$f":"IF(ROWS($1:$37)<=COUNTIF(joueurs,$B105),INDEX(interceptions,SMALL(IF(joueurs=$B105,ROW(INDIRECT(\"1:\"&ROWS(interceptions)))),ROWS($1:$37))),\"\")","v":0},{"$f":"IF(ROWS($1:$38)<=COUNTIF(joueurs,$B105),INDEX(interceptions,SMALL(IF(joueurs=$B105,ROW(INDIRECT(\"1:\"&ROWS(interceptions)))),ROWS($1:$38))),\"\")","v":0},{"$f":"IF(ROWS($1:$39)<=COUNTIF(joueurs,$B105),INDEX(interceptions,SMALL(IF(joueurs=$B105,ROW(INDIRECT(\"1:\"&ROWS(interceptions)))),ROWS($1:$39))),\"\")","v":0},{"$f":"IF(ROWS($1:$40)<=COUNTIF(joueurs,$B105),INDEX(interceptions,SMALL(IF(joueurs=$B105,ROW(INDIRECT(\"1:\"&ROWS(interceptions)))),ROWS($1:$40))),\"\")","v":0},{"$f":"IF(ROWS($1:$31)<=COUNTIF(joueurs,$B105),INDEX(ballonrecuperes,SMALL(IF(joueurs=$B105,ROW(INDIRECT(\"1:\"&ROWS(ballonrecuperes)))),ROWS($1:$31))),\"\")","v":0},{"$f":"IF(ROWS($1:$32)<=COUNTIF(joueurs,$B105),INDEX(ballonrecuperes,SMALL(IF(joueurs=$B105,ROW(INDIRECT(\"1:\"&ROWS(ballonrecuperes)))),ROWS($1:$32))),\"\")","v":0},{"$f":"IF(ROWS($1:$33)<=COUNTIF(joueurs,$B105),INDEX(ballonrecuperes,SMALL(IF(joueurs=$B105,ROW(INDIRECT(\"1:\"&ROWS(ballonrecuperes)))),ROWS($1:$33))),\"\")","v":0},{"$f":"IF(ROWS($1:$34)<=COUNTIF(joueurs,$B105),INDEX(ballonrecuperes,SMALL(IF(joueurs=$B105,ROW(INDIRECT(\"1:\"&ROWS(ballonrecuperes)))),ROWS($1:$34))),\"\")","v":0},{"$f":"IF(ROWS($1:$35)<=COUNTIF(joueurs,$B105),INDEX(ballonrecuperes,SMALL(IF(joueurs=$B105,ROW(INDIRECT(\"1:\"&ROWS(ballonrecuperes)))),ROWS($1:$35))),\"\")","v":0},{"$f":"IF(ROWS($1:$36)<=COUNTIF(joueurs,$B105),INDEX(ballonrecuperes,SMALL(IF(joueurs=$B105,ROW(INDIRECT(\"1:\"&ROWS(ballonrecuperes)))),ROWS($1:$36))),\"\")","v":0},{"$f":"IF(ROWS($1:$37)<=COUNTIF(joueurs,$B105),INDEX(ballonrecuperes,SMALL(IF(joueurs=$B105,ROW(INDIRECT(\"1:\"&ROWS(ballonrecuperes)))),ROWS($1:$37))),\"\")","v":0},{"$f":"IF(ROWS($1:$38)<=COUNTIF(joueurs,$B105),INDEX(ballonrecuperes,SMALL(IF(joueurs=$B105,ROW(INDIRECT(\"1:\"&ROWS(ballonrecuperes)))),ROWS($1:$38))),\"\")","v":0},{"$f":"IF(ROWS($1:$39)<=COUNTIF(joueurs,$B105),INDEX(ballonrecuperes,SMALL(IF(joueurs=$B105,ROW(INDIRECT(\"1:\"&ROWS(ballonrecuperes)))),ROWS($1:$39))),\"\")","v":0},{"$f":"IF(ROWS($1:$40)<=COUNTIF(joueurs,$B105),INDEX(ballonrecuperes,SMALL(IF(joueurs=$B105,ROW(INDIRECT(\"1:\"&ROWS(ballonrecuperes)))),ROWS($1:$40))),\"\")","v":0},{"$f":"IF(ROWS($1:$31)<=COUNTIF(joueurs,$B105),INDEX(tirs,SMALL(IF(joueurs=$B105,ROW(INDIRECT(\"1:\"&ROWS(tirs)))),ROWS($1:$31))),\"\")","v":0},{"$f":"IF(ROWS($1:$32)<=COUNTIF(joueurs,$B105),INDEX(tirs,SMALL(IF(joueurs=$B105,ROW(INDIRECT(\"1:\"&ROWS(tirs)))),ROWS($1:$32))),\"\")","v":0},{"$f":"IF(ROWS($1:$33)<=COUNTIF(joueurs,$B105),INDEX(tirs,SMALL(IF(joueurs=$B105,ROW(INDIRECT(\"1:\"&ROWS(tirs)))),ROWS($1:$33))),\"\")","v":0},{"$f":"IF(ROWS($1:$34)<=COUNTIF(joueurs,$B105),INDEX(tirs,SMALL(IF(joueurs=$B105,ROW(INDIRECT(\"1:\"&ROWS(tirs)))),ROWS($1:$34))),\"\")","v":0},{"$f":"IF(ROWS($1:$35)<=COUNTIF(joueurs,$B105),INDEX(tirs,SMALL(IF(joueurs=$B105,ROW(INDIRECT(\"1:\"&ROWS(tirs)))),ROWS($1:$35))),\"\")","v":0},{"$f":"IF(ROWS($1:$36)<=COUNTIF(joueurs,$B105),INDEX(tirs,SMALL(IF(joueurs=$B105,ROW(INDIRECT(\"1:\"&ROWS(tirs)))),ROWS($1:$36))),\"\")","v":0},{"$f":"IF(ROWS($1:$37)<=COUNTIF(joueurs,$B105),INDEX(tirs,SMALL(IF(joueurs=$B105,ROW(INDIRECT(\"1:\"&ROWS(tirs)))),ROWS($1:$37))),\"\")","v":0},{"$f":"IF(ROWS($1:$38)<=COUNTIF(joueurs,$B105),INDEX(tirs,SMALL(IF(joueurs=$B105,ROW(INDIRECT(\"1:\"&ROWS(tirs)))),ROWS($1:$38))),\"\")","v":0},{"$f":"IF(ROWS($1:$39)<=COUNTIF(joueurs,$B105),INDEX(tirs,SMALL(IF(joueurs=$B105,ROW(INDIRECT(\"1:\"&ROWS(tirs)))),ROWS($1:$39))),\"\")","v":0},{"$f":"IF(ROWS($1:$40)<=COUNTIF(joueurs,$B105),INDEX(tirs,SMALL(IF(joueurs=$B105,ROW(INDIRECT(\"1:\"&ROWS(tirs)))),ROWS($1:$40))),\"\")","v":0},{"$f":"IF(ROWS($1:$31)<=COUNTIF(joueurs,$B105),INDEX(bontirs,SMALL(IF(joueurs=$B105,ROW(INDIRECT(\"1:\"&ROWS(bontirs)))),ROWS($1:$31))),\"\")","v":0},{"$f":"IF(ROWS($1:$32)<=COUNTIF(joueurs,$B105),INDEX(bontirs,SMALL(IF(joueurs=$B105,ROW(INDIRECT(\"1:\"&ROWS(bontirs)))),ROWS($1:$32))),\"\")","v":0},{"$f":"IF(ROWS($1:$33)<=COUNTIF(joueurs,$B105),INDEX(bontirs,SMALL(IF(joueurs=$B105,ROW(INDIRECT(\"1:\"&ROWS(bontirs)))),ROWS($1:$33))),\"\")","v":0},{"$f":"IF(ROWS($1:$34)<=COUNTIF(joueurs,$B105),INDEX(bontirs,SMALL(IF(joueurs=$B105,ROW(INDIRECT(\"1:\"&ROWS(bontirs)))),ROWS($1:$34))),\"\")","v":0},{"$f":"IF(ROWS($1:$35)<=COUNTIF(joueurs,$B105),INDEX(bontirs,SMALL(IF(joueurs=$B105,ROW(INDIRECT(\"1:\"&ROWS(bontirs)))),ROWS($1:$35))),\"\")","v":0},{"$f":"IF(ROWS($1:$36)<=COUNTIF(joueurs,$B105),INDEX(bontirs,SMALL(IF(joueurs=$B105,ROW(INDIRECT(\"1:\"&ROWS(bontirs)))),ROWS($1:$36))),\"\")","v":0},{"$f":"IF(ROWS($1:$37)<=COUNTIF(joueurs,$B105),INDEX(bontirs,SMALL(IF(joueurs=$B105,ROW(INDIRECT(\"1:\"&ROWS(bontirs)))),ROWS($1:$37))),\"\")","v":0},{"$f":"IF(ROWS($1:$38)<=COUNTIF(joueurs,$B105),INDEX(bontirs,SMALL(IF(joueurs=$B105,ROW(INDIRECT(\"1:\"&ROWS(bontirs)))),ROWS($1:$38))),\"\")","v":0},{"$f":"IF(ROWS($1:$39)<=COUNTIF(joueurs,$B105),INDEX(bontirs,SMALL(IF(joueurs=$B105,ROW(INDIRECT(\"1:\"&ROWS(bontirs)))),ROWS($1:$39))),\"\")","v":0},{"$f":"IF(ROWS($1:$40)<=COUNTIF(joueurs,$B105),INDEX(bontirs,SMALL(IF(joueurs=$B105,ROW(INDIRECT(\"1:\"&ROWS(bontirs)))),ROWS($1:$40))),\"\")","v":0},{"$f":"IF(ROWS($1:$31)<=COUNTIF(joueurs,$B105),INDEX(points,SMALL(IF(joueurs=$B105,ROW(INDIRECT(\"1:\"&ROWS(points)))),ROWS($1:$31))),\"\")","v":0},{"$f":"IF(ROWS($1:$32)<=COUNTIF(joueurs,$B105),INDEX(points,SMALL(IF(joueurs=$B105,ROW(INDIRECT(\"1:\"&ROWS(points)))),ROWS($1:$32))),\"\")","v":0},{"$f":"IF(ROWS($1:$33)<=COUNTIF(joueurs,$B105),INDEX(points,SMALL(IF(joueurs=$B105,ROW(INDIRECT(\"1:\"&ROWS(points)))),ROWS($1:$33))),\"\")","v":0},{"$f":"IF(ROWS($1:$34)<=COUNTIF(joueurs,$B105),INDEX(points,SMALL(IF(joueurs=$B105,ROW(INDIRECT(\"1:\"&ROWS(points)))),ROWS($1:$34))),\"\")","v":0},{"$f":"IF(ROWS($1:$35)<=COUNTIF(joueurs,$B105),INDEX(points,SMALL(IF(joueurs=$B105,ROW(INDIRECT(\"1:\"&ROWS(points)))),ROWS($1:$35))),\"\")","v":0},{"$f":"IF(ROWS($1:$36)<=COUNTIF(joueurs,$B105),INDEX(points,SMALL(IF(joueurs=$B105,ROW(INDIRECT(\"1:\"&ROWS(points)))),ROWS($1:$36))),\"\")","v":0},{"$f":"IF(ROWS($1:$37)<=COUNTIF(joueurs,$B105),INDEX(points,SMALL(IF(joueurs=$B105,ROW(INDIRECT(\"1:\"&ROWS(points)))),ROWS($1:$37))),\"\")","v":0},{"$f":"IF(ROWS($1:$38)<=COUNTIF(joueurs,$B105),INDEX(points,SMALL(IF(joueurs=$B105,ROW(INDIRECT(\"1:\"&ROWS(points)))),ROWS($1:$38))),\"\")","v":0},{"$f":"IF(ROWS($1:$39)<=COUNTIF(joueurs,$B105),INDEX(points,SMALL(IF(joueurs=$B105,ROW(INDIRECT(\"1:\"&ROWS(points)))),ROWS($1:$39))),\"\")","v":0},{"$f":"IF(ROWS($1:$40)<=COUNTIF(joueurs,$B105),INDEX(points,SMALL(IF(joueurs=$B105,ROW(INDIRECT(\"1:\"&ROWS(points)))),ROWS($1:$40))),\"\")","v":0},{"$f":"IF(ROWS($1:$31)<=COUNTIF(joueurs,$B105),INDEX(victoires,SMALL(IF(joueurs=$B105,ROW(INDIRECT(\"1:\"&ROWS(victoires)))),ROWS($1:$31))),\"\")","v":0},{"$f":"IF(ROWS($1:$32)<=COUNTIF(joueurs,$B105),INDEX(victoires,SMALL(IF(joueurs=$B105,ROW(INDIRECT(\"1:\"&ROWS(victoires)))),ROWS($1:$32))),\"\")","v":0},{"$f":"IF(ROWS($1:$33)<=COUNTIF(joueurs,$B105),INDEX(victoires,SMALL(IF(joueurs=$B105,ROW(INDIRECT(\"1:\"&ROWS(victoires)))),ROWS($1:$33))),\"\")","v":0},{"$f":"IF(ROWS($1:$34)<=COUNTIF(joueurs,$B105),INDEX(victoires,SMALL(IF(joueurs=$B105,ROW(INDIRECT(\"1:\"&ROWS(victoires)))),ROWS($1:$34))),\"\")","v":0},{"$f":"IF(ROWS($1:$35)<=COUNTIF(joueurs,$B105),INDEX(victoires,SMALL(IF(joueurs=$B105,ROW(INDIRECT(\"1:\"&ROWS(victoires)))),ROWS($1:$35))),\"\")","v":0},{"$f":"IF(ROWS($1:$36)<=COUNTIF(joueurs,$B105),INDEX(victoires,SMALL(IF(joueurs=$B105,ROW(INDIRECT(\"1:\"&ROWS(victoires)))),ROWS($1:$36))),\"\")","v":0},{"$f":"IF(ROWS($1:$37)<=COUNTIF(joueurs,$B105),INDEX(victoires,SMALL(IF(joueurs=$B105,ROW(INDIRECT(\"1:\"&ROWS(victoires)))),ROWS($1:$37))),\"\")","v":0},{"$f":"IF(ROWS($1:$38)<=COUNTIF(joueurs,$B105),INDEX(victoires,SMALL(IF(joueurs=$B105,ROW(INDIRECT(\"1:\"&ROWS(victoires)))),ROWS($1:$38))),\"\")","v":0},{"$f":"IF(ROWS($1:$39)<=COUNTIF(joueurs,$B105),INDEX(victoires,SMALL(IF(joueurs=$B105,ROW(INDIRECT(\"1:\"&ROWS(victoires)))),ROWS($1:$39))),\"\")","v":0},{"$f":"IF(ROWS($1:$40)<=COUNTIF(joueurs,$B105),INDEX(victoires,SMALL(IF(joueurs=$B105,ROW(INDIRECT(\"1:\"&ROWS(victoires)))),ROWS($1:$40))),\"\")","v":0}]
[27,{"$f":"INDEX(eleves,MATCH(A109,numero,0),MATCH($B$2,classes,0))","v":0},null,{"$f":"IF(ROWS($1:$1)<=COUNTIF(joueurs,$B109),INDEX(fautes,SMALL(IF(joueurs=$B109,ROW(INDIRECT(\"1:\"&ROWS(fautes)))),ROWS($1:$1))),\"\")","v":0},{"$f":"IF(ROWS($1:$2)<=COUNTIF(joueurs,$B109),INDEX(fautes,SMALL(IF(joueurs=$B109,ROW(INDIRECT(\"1:\"&ROWS(fautes)))),ROWS($1:$2))),\"\")","v":0},{"$f":"IF(ROWS($1:$3)<=COUNTIF(joueurs,$B109),INDEX(fautes,SMALL(IF(joueurs=$B109,ROW(INDIRECT(\"1:\"&ROWS(fautes)))),ROWS($1:$3))),\"\")","v":0},{"$f":"IF(ROWS($1:$4)<=COUNTIF(joueurs,$B109),INDEX(fautes,SMALL(IF(joueurs=$B109,ROW(INDIRECT(\"1:\"&ROWS(fautes)))),ROWS($1:$4))),\"\")","v":0},{"$f":"IF(ROWS($1:$5)<=COUNTIF(joueurs,$B109),INDEX(fautes,SMALL(IF(joueurs=$B109,ROW(INDIRECT(\"1:\"&ROWS(fautes)))),ROWS($1:$5))),\"\")","v":0},{"$f":"IF(ROWS($1:$6)<=COUNTIF(joueurs,$B109),INDEX(fautes,SMALL(IF(joueurs=$B109,ROW(INDIRECT(\"1:\"&ROWS(fautes)))),ROWS($1:$6))),\"\")","v":0},{"$f":"IF(ROWS($1:$7)<=COUNTIF(joueurs,$B109),INDEX(fautes,SMALL(IF(joueurs=$B109,ROW(INDIRECT(\"1:\"&ROWS(fautes)))),ROWS($1:$7))),\"\")","v":0},{"$f":"IF(ROWS($1:$8)<=COUNTIF(joueurs,$B109),INDEX(fautes,SMALL(IF(joueurs=$B109,ROW(INDIRECT(\"1:\"&ROWS(fautes)))),ROWS($1:$8))),\"\")","v":0},{"$f":"IF(ROWS($1:$9)<=COUNTIF(joueurs,$B109),INDEX(fautes,SMALL(IF(joueurs=$B109,ROW(INDIRECT(\"1:\"&ROWS(fautes)))),ROWS($1:$9))),\"\")","v":0},{"$f":"IF(ROWS($1:$10)<=COUNTIF(joueurs,$B109),INDEX(fautes,SMALL(IF(joueurs=$B109,ROW(INDIRECT(\"1:\"&ROWS(fautes)))),ROWS($1:$10))),\"\")","v":0},{"$f":"IF(ROWS($1:$1)<=COUNTIF(joueurs,$B109),INDEX(ballonperdus,SMALL(IF(joueurs=$B109,ROW(INDIRECT(\"1:\"&ROWS(ballonperdus)))),ROWS($1:$1))),\"\")","v":0},{"$f":"IF(ROWS($1:$2)<=COUNTIF(joueurs,$B109),INDEX(ballonperdus,SMALL(IF(joueurs=$B109,ROW(INDIRECT(\"1:\"&ROWS(ballonperdus)))),ROWS($1:$2))),\"\")","v":0},{"$f":"IF(ROWS($1:$3)<=COUNTIF(joueurs,$B109),INDEX(ballonperdus,SMALL(IF(joueurs=$B109,ROW(INDIRECT(\"1:\"&ROWS(ballonperdus)))),ROWS($1:$3))),\"\")","v":0},{"$f":"IF(ROWS($1:$4)<=COUNTIF(joueurs,$B109),INDEX(ballonperdus,SMALL(IF(joueurs=$B109,ROW(INDIRECT(\"1:\"&ROWS(ballonperdus)))),ROWS($1:$4))),\"\")","v":0},{"$f":"IF(ROWS($1:$5)<=COUNTIF(joueurs,$B109),INDEX(ballonperdus,SMALL(IF(joueurs=$B109,ROW(INDIRECT(\"1:\"&ROWS(ballonperdus)))),ROWS($1:$5))),\"\")","v":0},{"$f":"IF(ROWS($1:$6)<=COUNTIF(joueurs,$B109),INDEX(ballonperdus,SMALL(IF(joueurs=$B109,ROW(INDIRECT(\"1:\"&ROWS(ballonperdus)))),ROWS($1:$6))),\"\")","v":0},{"$f":"IF(ROWS($1:$7)<=COUNTIF(joueurs,$B109),INDEX(ballonperdus,SMALL(IF(joueurs=$B109,ROW(INDIRECT(\"1:\"&ROWS(ballonperdus)))),ROWS($1:$7))),\"\")","v":0},{"$f":"IF(ROWS($1:$8)<=COUNTIF(joueurs,$B109),INDEX(ballonperdus,SMALL(IF(joueurs=$B109,ROW(INDIRECT(\"1:\"&ROWS(ballonperdus)))),ROWS($1:$8))),\"\")","v":0},{"$f":"IF(ROWS($1:$9)<=COUNTIF(joueurs,$B109),INDEX(ballonperdus,SMALL(IF(joueurs=$B109,ROW(INDIRECT(\"1:\"&ROWS(ballonperdus)))),ROWS($1:$9))),\"\")","v":0},{"$f":"IF(ROWS($1:$10)<=COUNTIF(joueurs,$B109),INDEX(ballonperdus,SMALL(IF(joueurs=$B109,ROW(INDIRECT(\"1:\"&ROWS(ballonperdus)))),ROWS($1:$10))),\"\")","v":0},{"$f":"IF(ROWS($1:$1)<=COUNTIF(joueurs,$B109),INDEX(interceptions,SMALL(IF(joueurs=$B109,ROW(INDIRECT(\"1:\"&ROWS(interceptions)))),ROWS($1:$1))),\"\")","v":0},{"$f":"IF(ROWS($1:$2)<=COUNTIF(joueurs,$B109),INDEX(interceptions,SMALL(IF(joueurs=$B109,ROW(INDIRECT(\"1:\"&ROWS(interceptions)))),ROWS($1:$2))),\"\")","v":0},{"$f":"IF(ROWS($1:$3)<=COUNTIF(joueurs,$B109),INDEX(interceptions,SMALL(IF(joueurs=$B109,ROW(INDIRECT(\"1:\"&ROWS(interceptions)))),ROWS($1:$3))),\"\")","v":0},{"$f":"IF(ROWS($1:$4)<=COUNTIF(joueurs,$B109),INDEX(interceptions,SMALL(IF(joueurs=$B109,ROW(INDIRECT(\"1:\"&ROWS(interceptions)))),ROWS($1:$4))),\"\")","v":0},{"$f":"IF(ROWS($1:$5)<=COUNTIF(joueurs,$B109),INDEX(interceptions,SMALL(IF(joueurs=$B109,ROW(INDIRECT(\"1:\"&ROWS(interceptions)))),ROWS($1:$5))),\"\")","v":0},{"$f":"IF(ROWS($1:$6)<=COUNTIF(joueurs,$B109),INDEX(interceptions,SMALL(IF(joueurs=$B109,ROW(INDIRECT(\"1:\"&ROWS(interceptions)))),ROWS($1:$6))),\"\")","v":0},{"$f":"IF(ROWS($1:$7)<=COUNTIF(joueurs,$B109),INDEX(interceptions,SMALL(IF(joueurs=$B109,ROW(INDIRECT(\"1:\"&ROWS(interceptions)))),ROWS($1:$7))),\"\")","v":0},{"$f":"IF(ROWS($1:$8)<=COUNTIF(joueurs,$B109),INDEX(interceptions,SMALL(IF(joueurs=$B109,ROW(INDIRECT(\"1:\"&ROWS(interceptions)))),ROWS($1:$8))),\"\")","v":0},{"$f":"IF(ROWS($1:$9)<=COUNTIF(joueurs,$B109),INDEX(interceptions,SMALL(IF(joueurs=$B109,ROW(INDIRECT(\"1:\"&ROWS(interceptions)))),ROWS($1:$9))),\"\")","v":0},{"$f":"IF(ROWS($1:$10)<=COUNTIF(joueurs,$B109),INDEX(interceptions,SMALL(IF(joueurs=$B109,ROW(INDIRECT(\"1:\"&ROWS(interceptions)))),ROWS($1:$10))),\"\")","v":0},{"$f":"IF(ROWS($1:$1)<=COUNTIF(joueurs,$B109),INDEX(ballonrecuperes,SMALL(IF(joueurs=$B109,ROW(INDIRECT(\"1:\"&ROWS(ballonrecuperes)))),ROWS($1:$1))),\"\")","v":0},{"$f":"IF(ROWS($1:$2)<=COUNTIF(joueurs,$B109),INDEX(ballonrecuperes,SMALL(IF(joueurs=$B109,ROW(INDIRECT(\"1:\"&ROWS(ballonrecuperes)))),ROWS($1:$2))),\"\")","v":0},{"$f":"IF(ROWS($1:$3)<=COUNTIF(joueurs,$B109),INDEX(ballonrecuperes,SMALL(IF(joueurs=$B109,ROW(INDIRECT(\"1:\"&ROWS(ballonrecuperes)))),ROWS($1:$3))),\"\")","v":0},{"$f":"IF(ROWS($1:$4)<=COUNTIF(joueurs,$B109),INDEX(ballonrecuperes,SMALL(IF(joueurs=$B109,ROW(INDIRECT(\"1:\"&ROWS(ballonrecuperes)))),ROWS($1:$4))),\"\")","v":0},{"$f":"IF(ROWS($1:$5)<=COUNTIF(joueurs,$B109),INDEX(ballonrecuperes,SMALL(IF(joueurs=$B109,ROW(INDIRECT(\"1:\"&ROWS(ballonrecuperes)))),ROWS($1:$5))),\"\")","v":0},{"$f":"IF(ROWS($1:$6)<=COUNTIF(joueurs,$B109),INDEX(ballonrecuperes,SMALL(IF(joueurs=$B109,ROW(INDIRECT(\"1:\"&ROWS(ballonrecuperes)))),ROWS($1:$6))),\"\")","v":0},{"$f":"IF(ROWS($1:$7)<=COUNTIF(joueurs,$B109),INDEX(ballonrecuperes,SMALL(IF(joueurs=$B109,ROW(INDIRECT(\"1:\"&ROWS(ballonrecuperes)))),ROWS($1:$7))),\"\")","v":0},{"$f":"IF(ROWS($1:$8)<=COUNTIF(joueurs,$B109),INDEX(ballonrecuperes,SMALL(IF(joueurs=$B109,ROW(INDIRECT(\"1:\"&ROWS(ballonrecuperes)))),ROWS($1:$8))),\"\")","v":0},{"$f":"IF(ROWS($1:$9)<=COUNTIF(joueurs,$B109),INDEX(ballonrecuperes,SMALL(IF(joueurs=$B109,ROW(INDIRECT(\"1:\"&ROWS(ballonrecuperes)))),ROWS($1:$9))),\"\")","v":0},{"$f":"IF(ROWS($1:$10)<=COUNTIF(joueurs,$B109),INDEX(ballonrecuperes,SMALL(IF(joueurs=$B109,ROW(INDIRECT(\"1:\"&ROWS(ballonrecuperes)))),ROWS($1:$10))),\"\")","v":0},{"$f":"IF(ROWS($1:$1)<=COUNTIF(joueurs,$B109),INDEX(tirs,SMALL(IF(joueurs=$B109,ROW(INDIRECT(\"1:\"&ROWS(tirs)))),ROWS($1:$1))),\"\")","v":0},{"$f":"IF(ROWS($1:$2)<=COUNTIF(joueurs,$B109),INDEX(tirs,SMALL(IF(joueurs=$B109,ROW(INDIRECT(\"1:\"&ROWS(tirs)))),ROWS($1:$2))),\"\")","v":0},{"$f":"IF(ROWS($1:$3)<=COUNTIF(joueurs,$B109),INDEX(tirs,SMALL(IF(joueurs=$B109,ROW(INDIRECT(\"1:\"&ROWS(tirs)))),ROWS($1:$3))),\"\")","v":0},{"$f":"IF(ROWS($1:$4)<=COUNTIF(joueurs,$B109),INDEX(tirs,SMALL(IF(joueurs=$B109,ROW(INDIRECT(\"1:\"&ROWS(tirs)))),ROWS($1:$4))),\"\")","v":0},{"$f":"IF(ROWS($1:$5)<=COUNTIF(joueurs,$B109),INDEX(tirs,SMALL(IF(joueurs=$B109,ROW(INDIRECT(\"1:\"&ROWS(tirs)))),ROWS($1:$5))),\"\")","v":0},{"$f":"IF(ROWS($1:$6)<=COUNTIF(joueurs,$B109),INDEX(tirs,SMALL(IF(joueurs=$B109,ROW(INDIRECT(\"1:\"&ROWS(tirs)))),ROWS($1:$6))),\"\")","v":0},{"$f":"IF(ROWS($1:$7)<=COUNTIF(joueurs,$B109),INDEX(tirs,SMALL(IF(joueurs=$B109,ROW(INDIRECT(\"1:\"&ROWS(tirs)))),ROWS($1:$7))),\"\")","v":0},{"$f":"IF(ROWS($1:$8)<=COUNTIF(joueurs,$B109),INDEX(tirs,SMALL(IF(joueurs=$B109,ROW(INDIRECT(\"1:\"&ROWS(tirs)))),ROWS($1:$8))),\"\")","v":0},{"$f":"IF(ROWS($1:$9)<=COUNTIF(joueurs,$B109),INDEX(tirs,SMALL(IF(joueurs=$B109,ROW(INDIRECT(\"1:\"&ROWS(tirs)))),ROWS($1:$9))),\"\")","v":0},{"$f":"IF(ROWS($1:$10)<=COUNTIF(joueurs,$B109),INDEX(tirs,SMALL(IF(joueurs=$B109,ROW(INDIRECT(\"1:\"&ROWS(tirs)))),ROWS($1:$10))),\"\")","v":0},{"$f":"IF(ROWS($1:$1)<=COUNTIF(joueurs,$B109),INDEX(bontirs,SMALL(IF(joueurs=$B109,ROW(INDIRECT(\"1:\"&ROWS(bontirs)))),ROWS($1:$1))),\"\")","v":0},{"$f":"IF(ROWS($1:$2)<=COUNTIF(joueurs,$B109),INDEX(bontirs,SMALL(IF(joueurs=$B109,ROW(INDIRECT(\"1:\"&ROWS(bontirs)))),ROWS($1:$2))),\"\")","v":0},{"$f":"IF(ROWS($1:$3)<=COUNTIF(joueurs,$B109),INDEX(bontirs,SMALL(IF(joueurs=$B109,ROW(INDIRECT(\"1:\"&ROWS(bontirs)))),ROWS($1:$3))),\"\")","v":0},{"$f":"IF(ROWS($1:$4)<=COUNTIF(joueurs,$B109),INDEX(bontirs,SMALL(IF(joueurs=$B109,ROW(INDIRECT(\"1:\"&ROWS(bontirs)))),ROWS($1:$4))),\"\")","v":0},{"$f":"IF(ROWS($1:$5)<=COUNTIF(joueurs,$B109),INDEX(bontirs,SMALL(IF(joueurs=$B109,ROW(INDIRECT(\"1:\"&ROWS(bontirs)))),ROWS($1:$5))),\"\")","v":0},{"$f":"IF(ROWS($1:$6)<=COUNTIF(joueurs,$B109),INDEX(bontirs,SMALL(IF(joueurs=$B109,ROW(INDIRECT(\"1:\"&ROWS(bontirs)))),ROWS($1:$6))),\"\")","v":0},{"$f":"IF(ROWS($1:$7)<=COUNTIF(joueurs,$B109),INDEX(bontirs,SMALL(IF(joueurs=$B109,ROW(INDIRECT(\"1:\"&ROWS(bontirs)))),ROWS($1:$7))),\"\")","v":0},{"$f":"IF(ROWS($1:$8)<=COUNTIF(joueurs,$B109),INDEX(bontirs,SMALL(IF(joueurs=$B109,ROW(INDIRECT(\"1:\"&ROWS(bontirs)))),ROWS($1:$8))),\"\")","v":0},{"$f":"IF(ROWS($1:$9)<=COUNTIF(joueurs,$B109),INDEX(bontirs,SMALL(IF(joueurs=$B109,ROW(INDIRECT(\"1:\"&ROWS(bontirs)))),ROWS($1:$9))),\"\")","v":0},{"$f":"IF(ROWS($1:$10)<=COUNTIF(joueurs,$B109),INDEX(bontirs,SMALL(IF(joueurs=$B109,ROW(INDIRECT(\"1:\"&ROWS(bontirs)))),ROWS($1:$10))),\"\")","v":0},{"$f":"IF(ROWS($1:$1)<=COUNTIF(joueurs,$B109),INDEX(points,SMALL(IF(joueurs=$B109,ROW(INDIRECT(\"1:\"&ROWS(points)))),ROWS($1:$1))),\"\")","v":0},{"$f":"IF(ROWS($1:$2)<=COUNTIF(joueurs,$B109),INDEX(points,SMALL(IF(joueurs=$B109,ROW(INDIRECT(\"1:\"&ROWS(points)))),ROWS($1:$2))),\"\")","v":0},{"$f":"IF(ROWS($1:$3)<=COUNTIF(joueurs,$B109),INDEX(points,SMALL(IF(joueurs=$B109,ROW(INDIRECT(\"1:\"&ROWS(points)))),ROWS($1:$3))),\"\")","v":0},{"$f":"IF(ROWS($1:$4)<=COUNTIF(joueurs,$B109),INDEX(points,SMALL(IF(joueurs=$B109,ROW(INDIRECT(\"1:\"&ROWS(points)))),ROWS($1:$4))),\"\")","v":0},{"$f":"IF(ROWS($1:$5)<=COUNTIF(joueurs,$B109),INDEX(points,SMALL(IF(joueurs=$B109,ROW(INDIRECT(\"1:\"&ROWS(points)))),ROWS($1:$5))),\"\")","v":0},{"$f":"IF(ROWS($1:$6)<=COUNTIF(joueurs,$B109),INDEX(points,SMALL(IF(joueurs=$B109,ROW(INDIRECT(\"1:\"&ROWS(points)))),ROWS($1:$6))),\"\")","v":0},{"$f":"IF(ROWS($1:$7)<=COUNTIF(joueurs,$B109),INDEX(points,SMALL(IF(joueurs=$B109,ROW(INDIRECT(\"1:\"&ROWS(points)))),ROWS($1:$7))),\"\")","v":0},{"$f":"IF(ROWS($1:$8)<=COUNTIF(joueurs,$B109),INDEX(points,SMALL(IF(joueurs=$B109,ROW(INDIRECT(\"1:\"&ROWS(points)))),ROWS($1:$8))),\"\")","v":0},{"$f":"IF(ROWS($1:$9)<=COUNTIF(joueurs,$B109),INDEX(points,SMALL(IF(joueurs=$B109,ROW(INDIRECT(\"1:\"&ROWS(points)))),ROWS($1:$9))),\"\")","v":0},{"$f":"IF(ROWS($1:$10)<=COUNTIF(joueurs,$B109),INDEX(points,SMALL(IF(joueurs=$B109,ROW(INDIRECT(\"1:\"&ROWS(points)))),ROWS($1:$10))),\"\")","v":0},{"$f":"IF(ROWS($1:$1)<=COUNTIF(joueurs,$B109),INDEX(victoires,SMALL(IF(joueurs=$B109,ROW(INDIRECT(\"1:\"&ROWS(victoires)))),ROWS($1:$1))),\"\")","v":0},{"$f":"IF(ROWS($1:$2)<=COUNTIF(joueurs,$B109),INDEX(victoires,SMALL(IF(joueurs=$B109,ROW(INDIRECT(\"1:\"&ROWS(victoires)))),ROWS($1:$2))),\"\")","v":0},{"$f":"IF(ROWS($1:$3)<=COUNTIF(joueurs,$B109),INDEX(victoires,SMALL(IF(joueurs=$B109,ROW(INDIRECT(\"1:\"&ROWS(victoires)))),ROWS($1:$3))),\"\")","v":0},{"$f":"IF(ROWS($1:$4)<=COUNTIF(joueurs,$B109),INDEX(victoires,SMALL(IF(joueurs=$B109,ROW(INDIRECT(\"1:\"&ROWS(victoires)))),ROWS($1:$4))),\"\")","v":0},{"$f":"IF(ROWS($1:$5)<=COUNTIF(joueurs,$B109),INDEX(victoires,SMALL(IF(joueurs=$B109,ROW(INDIRECT(\"1:\"&ROWS(victoires)))),ROWS($1:$5))),\"\")","v":0},{"$f":"IF(ROWS($1:$6)<=COUNTIF(joueurs,$B109),INDEX(victoires,SMALL(IF(joueurs=$B109,ROW(INDIRECT(\"1:\"&ROWS(victoires)))),ROWS($1:$6))),\"\")","v":0},{"$f":"IF(ROWS($1:$7)<=COUNTIF(joueurs,$B109),INDEX(victoires,SMALL(IF(joueurs=$B109,ROW(INDIRECT(\"1:\"&ROWS(victoires)))),ROWS($1:$7))),\"\")","v":0},{"$f":"IF(ROWS($1:$8)<=COUNTIF(joueurs,$B109),INDEX(victoires,SMALL(IF(joueurs=$B109,ROW(INDIRECT(\"1:\"&ROWS(victoires)))),ROWS($1:$8))),\"\")","v":0},{"$f":"IF(ROWS($1:$9)<=COUNTIF(joueurs,$B109),INDEX(victoires,SMALL(IF(joueurs=$B109,ROW(INDIRECT(\"1:\"&ROWS(victoires)))),ROWS($1:$9))),\"\")","v":0},{"$f":"IF(ROWS($1:$10)<=COUNTIF(joueurs,$B109),INDEX(victoires,SMALL(IF(joueurs=$B109,ROW(INDIRECT(\"1:\"&ROWS(victoires)))),ROWS($1:$10))),\"\")","v":0}]
[null,null,null,{"$f":"IF(ROWS($1:$11)<=COUNTIF(joueurs,$B109),INDEX(fautes,SMALL(IF(joueurs=$B109,ROW(INDIRECT(\"1:\"&ROWS(fautes)))),ROWS($1:$11))),\"\")","v":0},{"$f":"IF(ROWS($1:$12)<=COUNTIF(joueurs,$B109),INDEX(fautes,SMALL(IF(joueurs=$B109,ROW(INDIRECT(\"1:\"&ROWS(fautes)))),ROWS($1:$12))),\"\")","v":0},{"$f":"IF(ROWS($1:$13)<=COUNTIF(joueurs,$B109),INDEX(fautes,SMALL(IF(joueurs=$B109,ROW(INDIRECT(\"1:\"&ROWS(fautes)))),ROWS($1:$13))),\"\")","v":0},{"$f":"IF(ROWS($1:$14)<=COUNTIF(joueurs,$B109),INDEX(fautes,SMALL(IF(joueurs=$B109,ROW(INDIRECT(\"1:\"&ROWS(fautes)))),ROWS($1:$14))),\"\")","v":0},{"$f":"IF(ROWS($1:$15)<=COUNTIF(joueurs,$B109),INDEX(fautes,SMALL(IF(joueurs=$B109,ROW(INDIRECT(\"1:\"&ROWS(fautes)))),ROWS($1:$15))),\"\")","v":0},{"$f":"IF(ROWS($1:$16)<=COUNTIF(joueurs,$B109),INDEX(fautes,SMALL(IF(joueurs=$B109,ROW(INDIRECT(\"1:\"&ROWS(fautes)))),ROWS($1:$16))),\"\")","v":0},{"$f":"IF(ROWS($1:$17)<=COUNTIF(joueurs,$B109),INDEX(fautes,SMALL(IF(joueurs=$B109,ROW(INDIRECT(\"1:\"&ROWS(fautes)))),ROWS($1:$17))),\"\")","v":0},{"$f":"IF(ROWS($1:$18)<=COUNTIF(joueurs,$B109),INDEX(fautes,SMALL(IF(joueurs=$B109,ROW(INDIRECT(\"1:\"&ROWS(fautes)))),ROWS($1:$18))),\"\")","v":0},{"$f":"IF(ROWS($1:$19)<=COUNTIF(joueurs,$B109),INDEX(fautes,SMALL(IF(joueurs=$B109,ROW(INDIRECT(\"1:\"&ROWS(fautes)))),ROWS($1:$19))),\"\")","v":0},{"$f":"IF(ROWS($1:$20)<=COUNTIF(joueurs,$B109),INDEX(fautes,SMALL(IF(joueurs=$B109,ROW(INDIRECT(\"1:\"&ROWS(fautes)))),ROWS($1:$20))),\"\")","v":0},{"$f":"IF(ROWS($1:$11)<=COUNTIF(joueurs,$B109),INDEX(ballonperdus,SMALL(IF(joueurs=$B109,ROW(INDIRECT(\"1:\"&ROWS(ballonperdus)))),ROWS($1:$11))),\"\")","v":0},{"$f":"IF(ROWS($1:$12)<=COUNTIF(joueurs,$B109),INDEX(ballonperdus,SMALL(IF(joueurs=$B109,ROW(INDIRECT(\"1:\"&ROWS(ballonperdus)))),ROWS($1:$12))),\"\")","v":0},{"$f":"IF(ROWS($1:$13)<=COUNTIF(joueurs,$B109),INDEX(ballonperdus,SMALL(IF(joueurs=$B109,ROW(INDIRECT(\"1:\"&ROWS(ballonperdus)))),ROWS($1:$13))),\"\")","v":0},{"$f":"IF(ROWS($1:$14)<=COUNTIF(joueurs,$B109),INDEX(ballonperdus,SMALL(IF(joueurs=$B109,ROW(INDIRECT(\"1:\"&ROWS(ballonperdus)))),ROWS($1:$14))),\"\")","v":0},{"$f":"IF(ROWS($1:$15)<=COUNTIF(joueurs,$B109),INDEX(ballonperdus,SMALL(IF(joueurs=$B109,ROW(INDIRECT(\"1:\"&ROWS(ballonperdus)))),ROWS($1:$15))),\"\")","v":0},{"$f":"IF(ROWS($1:$16)<=COUNTIF(joueurs,$B109),INDEX(ballonperdus,SMALL(IF(joueurs=$B109,ROW(INDIRECT(\"1:\"&ROWS(ballonperdus)))),ROWS($1:$16))),\"\")","v":0},{"$f":"IF(ROWS($1:$17)<=COUNTIF(joueurs,$B109),INDEX(ballonperdus,SMALL(IF(joueurs=$B109,ROW(INDIRECT(\"1:\"&ROWS(ballonperdus)))),ROWS($1:$17))),\"\")","v":0},{"$f":"IF(ROWS($1:$18)<=COUNTIF(joueurs,$B109),INDEX(ballonperdus,SMALL(IF(joueurs=$B109,ROW(INDIRECT(\"1:\"&ROWS(ballonperdus)))),ROWS($1:$18))),\"\")","v":0},{"$f":"IF(ROWS($1:$19)<=COUNTIF(joueurs,$B109),INDEX(ballonperdus,SMALL(IF(joueurs=$B109,ROW(INDIRECT(\"1:\"&ROWS(ballonperdus)))),ROWS($1:$19))),\"\")","v":0},{"$f":"IF(ROWS($1:$20)<=COUNTIF(joueurs,$B109),INDEX(fautes,SMALL(IF(joueurs=$B109,ROW(INDIRECT(\"1:\"&ROWS(ballonperdus)))),ROWS($1:$20))),\"\")","v":0},{"$f":"IF(ROWS($1:$11)<=COUNTIF(joueurs,$B109),INDEX(interceptions,SMALL(IF(joueurs=$B109,ROW(INDIRECT(\"1:\"&ROWS(interceptions)))),ROWS($1:$11))),\"\")","v":0},{"$f":"IF(ROWS($1:$12)<=COUNTIF(joueurs,$B109),INDEX(interceptions,SMALL(IF(joueurs=$B109,ROW(INDIRECT(\"1:\"&ROWS(interceptions)))),ROWS($1:$12))),\"\")","v":0},{"$f":"IF(ROWS($1:$13)<=COUNTIF(joueurs,$B109),INDEX(interceptions,SMALL(IF(joueurs=$B109,ROW(INDIRECT(\"1:\"&ROWS(interceptions)))),ROWS($1:$13))),\"\")","v":0},{"$f":"IF(ROWS($1:$14)<=COUNTIF(joueurs,$B109),INDEX(interceptions,SMALL(IF(joueurs=$B109,ROW(INDIRECT(\"1:\"&ROWS(interceptions)))),ROWS($1:$14))),\"\")","v":0},{"$f":"IF(ROWS($1:$15)<=COUNTIF(joueurs,$B109),INDEX(interceptions,SMALL(IF(joueurs=$B109,ROW(INDIRECT(\"1:\"&ROWS(interceptions)))),ROWS($1:$15))),\"\")","v":0},{"$f":"IF(ROWS($1:$16)<=COUNTIF(joueurs,$B109),INDEX(interceptions,SMALL(IF(joueurs=$B109,ROW(INDIRECT(\"1:\"&ROWS(interceptions)))),ROWS($1:$16))),\"\")","v":0},{"$f":"IF(ROWS($1:$17)<=COUNTIF(joueurs,$B109),INDEX(interceptions,SMALL(IF(joueurs=$B109,ROW(INDIRECT(\"1:\"&ROWS(interceptions)))),ROWS($1:$17))),\"\")","v":0},{"$f":"IF(ROWS($1:$18)<=COUNTIF(joueurs,$B109),INDEX(interceptions,SMALL(IF(joueurs=$B109,ROW(INDIRECT(\"1:\"&ROWS(interceptions)))),ROWS($1:$18))),\"\")","v":0},{"$f":"IF(ROWS($1:$19)<=COUNTIF(joueurs,$B109),INDEX(interceptions,SMALL(IF(joueurs=$B109,ROW(INDIRECT(\"1:\"&ROWS(interceptions)))),ROWS($1:$19))),\"\")","v":0},{"$f":"IF(ROWS($1:$20)<=COUNTIF(joueurs,$B109),INDEX(interceptions,SMALL(IF(joueurs=$B109,ROW(INDIRECT(\"1:\"&ROWS(interceptions)))),ROWS($1:$20))),\"\")","v":0},{"$f":"IF(ROWS($1:$11)<=COUNTIF(joueurs,$B109),INDEX(ballonrecuperes,SMALL(IF(joueurs=$B109,ROW(INDIRECT(\"1:\"&ROWS(ballonrecuperes)))),ROWS($1:$11))),\"\")","v":0},{"$f":"IF(ROWS($1:$12)<=COUNTIF(joueurs,$B109),INDEX(ballonrecuperes,SMALL(IF(joueurs=$B109,ROW(INDIRECT(\"1:\"&ROWS(ballonrecuperes)))),ROWS($1:$12))),\"\")","v":0},{"$f":"IF(ROWS($1:$13)<=COUNTIF(joueurs,$B109),INDEX(ballonrecuperes,SMALL(IF(joueurs=$B109,ROW(INDIRECT(\"1:\"&ROWS(ballonrecuperes)))),ROWS($1:$13))),\"\")","v":0},{"$f":"IF(ROWS($1:$14)<=COUNTIF(joueurs,$B109),INDEX(ballonrecuperes,SMALL(IF(joueurs=$B109,ROW(INDIRECT(\"1:\"&ROWS(ballonrecuperes)))),ROWS($1:$14))),\"\")","v":0},{"$f":"IF(ROWS($1:$15)<=COUNTIF(joueurs,$B109),INDEX(ballonrecuperes,SMALL(IF(joueurs=$B109,ROW(INDIRECT(\"1:\"&ROWS(ballonrecuperes)))),ROWS($1:$15))),\"\")","v":0},{"$f":"IF(ROWS($1:$16)<=COUNTIF(joueurs,$B109),INDEX(ballonrecuperes,SMALL(IF(joueurs=$B109,ROW(INDIRECT(\"1:\"&ROWS(ballonrecuperes)))),ROWS($1:$16))),\"\")","v":0},{"$f":"IF(ROWS($1:$17)<=COUNTIF(joueurs,$B109),INDEX(ballonrecuperes,SMALL(IF(joueurs=$B109,ROW(INDIRECT(\"1:\"&ROWS(ballonrecuperes)))),ROWS($1:$17))),\"\")","v":0},{"$f":"IF(ROWS($1:$18)<=COUNTIF(joueurs,$B109),INDEX(ballonrecuperes,SMALL(IF(joueurs=$B109,ROW(INDIRECT(\"1:\"&ROWS(ballonrecuperes)))),ROWS($1:$18))),\"\")","v":0},{"$f":"IF(ROWS($1:$19)<=COUNTIF(joueurs,$B109),INDEX(ballonrecuperes,SMALL(IF(joueurs=$B109,ROW(INDIRECT(\"1:\"&ROWS(ballonrecuperes)))),ROWS($1:$19))),\"\")","v":0},{"$f":"IF(ROWS($1:$20)<=COUNTIF(joueurs,$B109),INDEX(ballonrecuperes,SMALL(IF(joueurs=$B109,ROW(INDIRECT(\"1:\"&ROWS(ballonrecuperes)))),ROWS($1:$20))),\"\")","v":0},{"$f":"IF(ROWS($1:$11)<=COUNTIF(joueurs,$B109),INDEX(tirs,SMALL(IF(joueurs=$B109,ROW(INDIRECT(\"1:\"&ROWS(tirs)))),ROWS($1:$11))),\"\")","v":0},{"$f":"IF(ROWS($1:$12)<=COUNTIF(joueurs,$B109),INDEX(tirs,SMALL(IF(joueurs=$B109,ROW(INDIRECT(\"1:\"&ROWS(tirs)))),ROWS($1:$12))),\"\")","v":0},{"$f":"IF(ROWS($1:$13)<=COUNTIF(joueurs,$B109),INDEX(tirs,SMALL(IF(joueurs=$B109,ROW(INDIRECT(\"1:\"&ROWS(tirs)))),ROWS($1:$13))),\"\")","v":0},{"$f":"IF(ROWS($1:$14)<=COUNTIF(joueurs,$B109),INDEX(tirs,SMALL(IF(joueurs=$B109,ROW(INDIRECT(\"1:\"&ROWS(tirs)))),ROWS($1:$14))),\"\")","v":0},{"$f":"IF(ROWS($1:$15)<=COUNTIF(joueurs,$B109),INDEX(tirs,SMALL(IF(joueurs=$B109,ROW(INDIRECT(\"1:\"&ROWS(tirs)))),ROWS($1:$15))),\"\")","v":0},{"$f":"IF(ROWS($1:$16)<=COUNTIF(joueurs,$B109),INDEX(tirs,SMALL(IF(joueurs=$B109,ROW(INDIRECT(\"1:\"&ROWS(tirs)))),ROWS($1:$16))),\"\")","v":0},{"$f":"IF(ROWS($1:$17)<=COUNTIF(joueurs,$B109),INDEX(tirs,SMALL(IF(joueurs=$B109,ROW(INDIRECT(\"1:\"&ROWS(tirs)))),ROWS($1:$17))),\"\")","v":0},{"$f":"IF(ROWS($1:$18)<=COUNTIF(joueurs,$B109),INDEX(tirs,SMALL(IF(joueurs=$B109,ROW(INDIRECT(\"1:\"&ROWS(tirs)))),ROWS($1:$18))),\"\")","v":0},{"$f":"IF(ROWS($1:$19)<=COUNTIF(joueurs,$B109),INDEX(tirs,SMALL(IF(joueurs=$B109,ROW(INDIRECT(\"1:\"&ROWS(tirs)))),ROWS($1:$19))),\"\")","v":0},{"$f":"IF(ROWS($1:$20)<=COUNTIF(joueurs,$B109),INDEX(tirs,SMALL(IF(joueurs=$B109,ROW(INDIRECT(\"1:\"&ROWS(tirs)))),ROWS($1:$20))),\"\")","v":0},{"$f":"IF(ROWS($1:$11)<=COUNTIF(joueurs,$B109),INDEX(bontirs,SMALL(IF(joueurs=$B109,ROW(INDIRECT(\"1:\"&ROWS(bontirs)))),ROWS($1:$11))),\"\")","v":0},{"$f":"IF(ROWS($1:$12)<=COUNTIF(joueurs,$B109),INDEX(bontirs,SMALL(IF(joueurs=$B109,ROW(INDIRECT(\"1:\"&ROWS(bontirs)))),ROWS($1:$12))),\"\")","v":0},{"$f":"IF(ROWS($1:$13)<=COUNTIF(joueurs,$B109),INDEX(bontirs,SMALL(IF(joueurs=$B109,ROW(INDIRECT(\"1:\"&ROWS(bontirs)))),ROWS($1:$13))),\"\")","v":0},{"$f":"IF(ROWS($1:$14)<=COUNTIF(joueurs,$B109),INDEX(bontirs,SMALL(IF(joueurs=$B109,ROW(INDIRECT(\"1:\"&ROWS(bontirs)))),ROWS($1:$14))),\"\")","v":0},{"$f":"IF(ROWS($1:$15)<=COUNTIF(joueurs,$B109),INDEX(bontirs,SMALL(IF(joueurs=$B109,ROW(INDIRECT(\"1:\"&ROWS(bontirs)))),ROWS($1:$15))),\"\")","v":0},{"$f":"IF(ROWS($1:$16)<=COUNTIF(joueurs,$B109),INDEX(bontirs,SMALL(IF(joueurs=$B109,ROW(INDIRECT(\"1:\"&ROWS(bontirs)))),ROWS($1:$16))),\"\")","v":0},{"$f":"IF(ROWS($1:$17)<=COUNTIF(joueurs,$B109),INDEX(bontirs,SMALL(IF(joueurs=$B109,ROW(INDIRECT(\"1:\"&ROWS(bontirs)))),ROWS($1:$17))),\"\")","v":0},{"$f":"IF(ROWS($1:$18)<=COUNTIF(joueurs,$B109),INDEX(bontirs,SMALL(IF(joueurs=$B109,ROW(INDIRECT(\"1:\"&ROWS(bontirs)))),ROWS($1:$18))),\"\")","v":0},{"$f":"IF(ROWS($1:$19)<=COUNTIF(joueurs,$B109),INDEX(bontirs,SMALL(IF(joueurs=$B109,ROW(INDIRECT(\"1:\"&ROWS(bontirs)))),ROWS($1:$19))),\"\")","v":0},{"$f":"IF(ROWS($1:$20)<=COUNTIF(joueurs,$B109),INDEX(bontirs,SMALL(IF(joueurs=$B109,ROW(INDIRECT(\"1:\"&ROWS(bontirs)))),ROWS($1:$20))),\"\")","v":0},{"$f":"IF(ROWS($1:$11)<=COUNTIF(joueurs,$B109),INDEX(points,SMALL(IF(joueurs=$B109,ROW(INDIRECT(\"1:\"&ROWS(points)))),ROWS($1:$11))),\"\")","v":0},{"$f":"IF(ROWS($1:$12)<=COUNTIF(joueurs,$B109),INDEX(points,SMALL(IF(joueurs=$B109,ROW(INDIRECT(\"1:\"&ROWS(points)))),ROWS($1:$12))),\"\")","v":0},{"$f":"IF(ROWS($1:$13)<=COUNTIF(joueurs,$B109),INDEX(points,SMALL(IF(joueurs=$B109,ROW(INDIRECT(\"1:\"&ROWS(points)))),ROWS($1:$13))),\"\")","v":0},{"$f":"IF(ROWS($1:$14)<=COUNTIF(joueurs,$B109),INDEX(points,SMALL(IF(joueurs=$B109,ROW(INDIRECT(\"1:\"&ROWS(points)))),ROWS($1:$14))),\"\")","v":0},{"$f":"IF(ROWS($1:$15)<=COUNTIF(joueurs,$B109),INDEX(points,SMALL(IF(joueurs=$B109,ROW(INDIRECT(\"1:\"&ROWS(points)))),ROWS($1:$15))),\"\")","v":0},{"$f":"IF(ROWS($1:$16)<=COUNTIF(joueurs,$B109),INDEX(points,SMALL(IF(joueurs=$B109,ROW(INDIRECT(\"1:\"&ROWS(points)))),ROWS($1:$16))),\"\")","v":0},{"$f":"IF(ROWS($1:$17)<=COUNTIF(joueurs,$B109),INDEX(points,SMALL(IF(joueurs=$B109,ROW(INDIRECT(\"1:\"&ROWS(points)))),ROWS($1:$17))),\"\")","v":0},{"$f":"IF(ROWS($1:$18)<=COUNTIF(joueurs,$B109),INDEX(points,SMALL(IF(joueurs=$B109,ROW(INDIRECT(\"1:\"&ROWS(points)))),ROWS($1:$18))),\"\")","v":0},{"$f":"IF(ROWS($1:$19)<=COUNTIF(joueurs,$B109),INDEX(points,SMALL(IF(joueurs=$B109,ROW(INDIRECT(\"1:\"&ROWS(points)))),ROWS($1:$19))),\"\")","v":0},{"$f":"IF(ROWS($1:$20)<=COUNTIF(points,$B109),INDEX(fautes,SMALL(IF(joueurs=$B109,ROW(INDIRECT(\"1:\"&ROWS(points)))),ROWS($1:$20))),\"\")","v":0},{"$f":"IF(ROWS($1:$11)<=COUNTIF(joueurs,$B109),INDEX(victoires,SMALL(IF(joueurs=$B109,ROW(INDIRECT(\"1:\"&ROWS(victoires)))),ROWS($1:$11))),\"\")","v":0},{"$f":"IF(ROWS($1:$12)<=COUNTIF(joueurs,$B109),INDEX(victoires,SMALL(IF(joueurs=$B109,ROW(INDIRECT(\"1:\"&ROWS(victoires)))),ROWS($1:$12))),\"\")","v":0},{"$f":"IF(ROWS($1:$13)<=COUNTIF(joueurs,$B109),INDEX(victoires,SMALL(IF(joueurs=$B109,ROW(INDIRECT(\"1:\"&ROWS(victoires)))),ROWS($1:$13))),\"\")","v":0},{"$f":"IF(ROWS($1:$14)<=COUNTIF(joueurs,$B109),INDEX(victoires,SMALL(IF(joueurs=$B109,ROW(INDIRECT(\"1:\"&ROWS(victoires)))),ROWS($1:$14))),\"\")","v":0},{"$f":"IF(ROWS($1:$15)<=COUNTIF(joueurs,$B109),INDEX(victoires,SMALL(IF(joueurs=$B109,ROW(INDIRECT(\"1:\"&ROWS(victoires)))),ROWS($1:$15))),\"\")","v":0},{"$f":"IF(ROWS($1:$16)<=COUNTIF(joueurs,$B109),INDEX(victoires,SMALL(IF(joueurs=$B109,ROW(INDIRECT(\"1:\"&ROWS(victoires)))),ROWS($1:$16))),\"\")","v":0},{"$f":"IF(ROWS($1:$17)<=COUNTIF(joueurs,$B109),INDEX(victoires,SMALL(IF(joueurs=$B109,ROW(INDIRECT(\"1:\"&ROWS(victoires)))),ROWS($1:$17))),\"\")","v":0},{"$f":"IF(ROWS($1:$18)<=COUNTIF(joueurs,$B109),INDEX(victoires,SMALL(IF(joueurs=$B109,ROW(INDIRECT(\"1:\"&ROWS(victoires)))),ROWS($1:$18))),\"\")","v":0},{"$f":"IF(ROWS($1:$19)<=COUNTIF(joueurs,$B109),INDEX(victoires,SMALL(IF(joueurs=$B109,ROW(INDIRECT(\"1:\"&ROWS(victoires)))),ROWS($1:$19))),\"\")","v":0},{"$f":"IF(ROWS($1:$20)<=COUNTIF(joueurs,$B109),INDEX(victoires,SMALL(IF(joueurs=$B109,ROW(INDIRECT(\"1:\"&ROWS(victoires)))),ROWS($1:$20))),\"\")","v":0}]
[null,null,null,{"$f":"IF(ROWS($1:$21)<=COUNTIF(joueurs,$B109),INDEX(fautes,SMALL(IF(joueurs=$B109,ROW(INDIRECT(\"1:\"&ROWS(fautes)))),ROWS($1:$21))),\"\")","v":0},{"$f":"IF(ROWS($1:$22)<=COUNTIF(joueurs,$B109),INDEX(fautes,SMALL(IF(joueurs=$B109,ROW(INDIRECT(\"1:\"&ROWS(fautes)))),ROWS($1:$22))),\"\")","v":0},{"$f":"IF(ROWS($1:$23)<=COUNTIF(joueurs,$B109),INDEX(fautes,SMALL(IF(joueurs=$B109,ROW(INDIRECT(\"1:\"&ROWS(fautes)))),ROWS($1:$23))),\"\")","v":0},{"$f":"IF(ROWS($1:$24)<=COUNTIF(joueurs,$B109),INDEX(fautes,SMALL(IF(joueurs=$B109,ROW(INDIRECT(\"1:\"&ROWS(fautes)))),ROWS($1:$24))),\"\")","v":0},{"$f":"IF(ROWS($1:$25)<=COUNTIF(joueurs,$B109),INDEX(fautes,SMALL(IF(joueurs=$B109,ROW(INDIRECT(\"1:\"&ROWS(fautes)))),ROWS($1:$25))),\"\")","v":0},{"$f":"IF(ROWS($1:$26)<=COUNTIF(joueurs,$B109),INDEX(fautes,SMALL(IF(joueurs=$B109,ROW(INDIRECT(\"1:\"&ROWS(fautes)))),ROWS($1:$26))),\"\")","v":0},{"$f":"IF(ROWS($1:$27)<=COUNTIF(joueurs,$B109),INDEX(fautes,SMALL(IF(joueurs=$B109,ROW(INDIRECT(\"1:\"&ROWS(fautes)))),ROWS($1:$27))),\"\")","v":0},{"$f":"IF(ROWS($1:$28)<=COUNTIF(joueurs,$B109),INDEX(fautes,SMALL(IF(joueurs=$B109,ROW(INDIRECT(\"1:\"&ROWS(fautes)))),ROWS($1:$28))),\"\")","v":0},{"$f":"IF(ROWS($1:$29)<=COUNTIF(joueurs,$B109),INDEX(fautes,SMALL(IF(joueurs=$B109,ROW(INDIRECT(\"1:\"&ROWS(fautes)))),ROWS($1:$29))),\"\")","v":0},{"$f":"IF(ROWS($1:$30)<=COUNTIF(joueurs,$B109),INDEX(fautes,SMALL(IF(joueurs=$B109,ROW(INDIRECT(\"1:\"&ROWS(fautes)))),ROWS($1:$30))),\"\")","v":0},{"$f":"IF(ROWS($1:$21)<=COUNTIF(joueurs,$B109),INDEX(ballonperdus,SMALL(IF(joueurs=$B109,ROW(INDIRECT(\"1:\"&ROWS(ballonperdus)))),ROWS($1:$21))),\"\")","v":0},{"$f":"IF(ROWS($1:$22)<=COUNTIF(joueurs,$B109),INDEX(ballonperdus,SMALL(IF(joueurs=$B109,ROW(INDIRECT(\"1:\"&ROWS(ballonperdus)))),ROWS($1:$22))),\"\")","v":0},{"$f":"IF(ROWS($1:$23)<=COUNTIF(joueurs,$B109),INDEX(ballonperdus,SMALL(IF(joueurs=$B109,ROW(INDIRECT(\"1:\"&ROWS(ballonperdus)))),ROWS($1:$23))),\"\")","v":0},{"$f":"IF(ROWS($1:$24)<=COUNTIF(joueurs,$B109),INDEX(ballonperdus,SMALL(IF(joueurs=$B109,ROW(INDIRECT(\"1:\"&ROWS(ballonperdus)))),ROWS($1:$24))),\"\")","v":0},{"$f":"IF(ROWS($1:$25)<=COUNTIF(joueurs,$B109),INDEX(ballonperdus,SMALL(IF(joueurs=$B109,ROW(INDIRECT(\"1:\"&ROWS(ballonperdus)))),ROWS($1:$25))),\"\")","v":0},{"$f":"IF(ROWS($1:$26)<=COUNTIF(joueurs,$B109),INDEX(ballonperdus,SMALL(IF(joueurs=$B109,ROW(INDIRECT(\"1:\"&ROWS(ballonperdus)))),ROWS($1:$26))),\"\")","v":0},{"$f":"IF(ROWS($1:$27)<=COUNTIF(joueurs,$B109),INDEX(ballonperdus,SMALL(IF(joueurs=$B109,ROW(INDIRECT(\"1:\"&ROWS(ballonperdus)))),ROWS($1:$27))),\"\")","v":0},{"$f":"IF(ROWS($1:$28)<=COUNTIF(joueurs,$B109),INDEX(ballonperdus,SMALL(IF(joueurs=$B109,ROW(INDIRECT(\"1:\"&ROWS(ballonperdus)))),ROWS($1:$28))),\"\")","v":0},{"$f":"IF(ROWS($1:$29)<=COUNTIF(joueurs,$B109),INDEX(ballonperdus,SMALL(IF(joueurs=$B109,ROW(INDIRECT(\"1:\"&ROWS(ballonperdus)))),ROWS($1:$29))),\"\")","v":0},{"$f":"IF(ROWS($1:$30)<=COUNTIF(joueurs,$B109),INDEX(ballonperdus,SMALL(IF(joueurs=$B109,ROW(INDIRECT(\"1:\"&ROWS(ballonperdus)))),ROWS($1:$30))),\"\")","v":0},{"$f":"IF(ROWS($1:$21)<=COUNTIF(joueurs,$B109),INDEX(interceptions,SMALL(IF(joueurs=$B109,ROW(INDIRECT(\"1:\"&ROWS(interceptions)))),ROWS($1:$21))),\"\")","v":0},{"$f":"IF(ROWS($1:$22)<=COUNTIF(joueurs,$B109),INDEX(interceptions,SMALL(IF(joueurs=$B109,ROW(INDIRECT(\"1:\"&ROWS(interceptions)))),ROWS($1:$22))),\"\")","v":0},{"$f":"IF(ROWS($1:$23)<=COUNTIF(joueurs,$B109),INDEX(interceptions,SMALL(IF(joueurs=$B109,ROW(INDIRECT(\"1:\"&ROWS(interceptions)))),ROWS($1:$23))),\"\")","v":0},{"$f":"IF(ROWS($1:$24)<=COUNTIF(joueurs,$B109),INDEX(interceptions,SMALL(IF(joueurs=$B109,ROW(INDIRECT(\"1:\"&ROWS(interceptions)))),ROWS($1:$24))),\"\")","v":0},{"$f":"IF(ROWS($1:$25)<=COUNTIF(joueurs,$B109),INDEX(interceptions,SMALL(IF(joueurs=$B109,ROW(INDIRECT(\"1:\"&ROWS(interceptions)))),ROWS($1:$25))),\"\")","v":0},{"$f":"IF(ROWS($1:$26)<=COUNTIF(joueurs,$B109),INDEX(interceptions,SMALL(IF(joueurs=$B109,ROW(INDIRECT(\"1:\"&ROWS(interceptions)))),ROWS($1:$26))),\"\")","v":0},{"$f":"IF(ROWS($1:$27)<=COUNTIF(joueurs,$B109),INDEX(interceptions,SMALL(IF(joueurs=$B109,ROW(INDIRECT(\"1:\"&ROWS(interceptions)))),ROWS($1:$27))),\"\")","v":0},{"$f":"IF(ROWS($1:$28)<=COUNTIF(joueurs,$B109),INDEX(interceptions,SMALL(IF(joueurs=$B109,ROW(INDIRECT(\"1:\"&ROWS(interceptions)))),ROWS($1:$28))),\"\")","v":0},{"$f":"IF(ROWS($1:$29)<=COUNTIF(joueurs,$B109),INDEX(interceptions,SMALL(IF(joueurs=$B109,ROW(INDIRECT(\"1:\"&ROWS(interceptions)))),ROWS($1:$29))),\"\")","v":0},{"$f":"IF(ROWS($1:$30)<=COUNTIF(joueurs,$B109),INDEX(interceptions,SMALL(IF(joueurs=$B109,ROW(INDIRECT(\"1:\"&ROWS(interceptions)))),ROWS($1:$30))),\"\")","v":0},{"$f":"IF(ROWS($1:$21)<=COUNTIF(joueurs,$B109),INDEX(ballonrecuperes,SMALL(IF(joueurs=$B109,ROW(INDIRECT(\"1:\"&ROWS(ballonrecuperes)))),ROWS($1:$21))),\"\")","v":0},{"$f":"IF(ROWS($1:$22)<=COUNTIF(joueurs,$B109),INDEX(ballonrecuperes,SMALL(IF(joueurs=$B109,ROW(INDIRECT(\"1:\"&ROWS(ballonrecuperes)))),ROWS($1:$22))),\"\")","v":0},{"$f":"IF(ROWS($1:$23)<=COUNTIF(joueurs,$B109),INDEX(ballonrecuperes,SMALL(IF(joueurs=$B109,ROW(INDIRECT(\"1:\"&ROWS(ballonrecuperes)))),ROWS($1:$23))),\"\")","v":0},{"$f":"IF(ROWS($1:$24)<=COUNTIF(joueurs,$B109),INDEX(ballonrecuperes,SMALL(IF(joueurs=$B109,ROW(INDIRECT(\"1:\"&ROWS(ballonrecuperes)))),ROWS($1:$24))),\"\")","v":0},{"$f":"IF(ROWS($1:$25)<=COUNTIF(joueurs,$B109),INDEX(ballonrecuperes,SMALL(IF(joueurs=$B109,ROW(INDIRECT(\"1:\"&ROWS(ballonrecuperes)))),ROWS($1:$25))),\"\")","v":0},{"$f":"IF(ROWS($1:$26)<=COUNTIF(joueurs,$B109),INDEX(ballonrecuperes,SMALL(IF(joueurs=$B109,ROW(INDIRECT(\"1:\"&ROWS(ballonrecuperes)))),ROWS($1:$26))),\"\")","v":0},{"$f":"IF(ROWS($1:$27)<=COUNTIF(joueurs,$B109),INDEX(ballonrecuperes,SMALL(IF(joueurs=$B109,ROW(INDIRECT(\"1:\"&ROWS(ballonrecuperes)))),ROWS($1:$27))),\"\")","v":0},{"$f":"IF(ROWS($1:$28)<=COUNTIF(joueurs,$B109),INDEX(ballonrecuperes,SMALL(IF(joueurs=$B109,ROW(INDIRECT(\"1:\"&ROWS(ballonrecuperes)))),ROWS($1:$28))),\"\")","v":0},{"$f":"IF(ROWS($1:$29)<=COUNTIF(joueurs,$B109),INDEX(ballonrecuperes,SMALL(IF(joueurs=$B109,ROW(INDIRECT(\"1:\"&ROWS(ballonrecuperes)))),ROWS($1:$29))),\"\")","v":0},{"$f":"IF(ROWS($1:$30)<=COUNTIF(joueurs,$B109),INDEX(ballonrecuperes,SMALL(IF(joueurs=$B109,ROW(INDIRECT(\"1:\"&ROWS(ballonrecuperes)))),ROWS($1:$30))),\"\")","v":0},{"$f":"IF(ROWS($1:$21)<=COUNTIF(joueurs,$B109),INDEX(tirs,SMALL(IF(joueurs=$B109,ROW(INDIRECT(\"1:\"&ROWS(tirs)))),ROWS($1:$21))),\"\")","v":0},{"$f":"IF(ROWS($1:$22)<=COUNTIF(joueurs,$B109),INDEX(tirs,SMALL(IF(joueurs=$B109,ROW(INDIRECT(\"1:\"&ROWS(tirs)))),ROWS($1:$22))),\"\")","v":0},{"$f":"IF(ROWS($1:$23)<=COUNTIF(joueurs,$B109),INDEX(tirs,SMALL(IF(joueurs=$B109,ROW(INDIRECT(\"1:\"&ROWS(tirs)))),ROWS($1:$23))),\"\")","v":0},{"$f":"IF(ROWS($1:$24)<=COUNTIF(joueurs,$B109),INDEX(tirs,SMALL(IF(joueurs=$B109,ROW(INDIRECT(\"1:\"&ROWS(tirs)))),ROWS($1:$24))),\"\")","v":0},{"$f":"IF(ROWS($1:$25)<=COUNTIF(joueurs,$B109),INDEX(tirs,SMALL(IF(joueurs=$B109,ROW(INDIRECT(\"1:\"&ROWS(tirs)))),ROWS($1:$25))),\"\")","v":0},{"$f":"IF(ROWS($1:$26)<=COUNTIF(joueurs,$B109),INDEX(tirs,SMALL(IF(joueurs=$B109,ROW(INDIRECT(\"1:\"&ROWS(tirs)))),ROWS($1:$26))),\"\")","v":0},{"$f":"IF(ROWS($1:$27)<=COUNTIF(joueurs,$B109),INDEX(tirs,SMALL(IF(joueurs=$B109,ROW(INDIRECT(\"1:\"&ROWS(tirs)))),ROWS($1:$27))),\"\")","v":0},{"$f":"IF(ROWS($1:$28)<=COUNTIF(joueurs,$B109),INDEX(tirs,SMALL(IF(joueurs=$B109,ROW(INDIRECT(\"1:\"&ROWS(tirs)))),ROWS($1:$28))),\"\")","v":0},{"$f":"IF(ROWS($1:$29)<=COUNTIF(joueurs,$B109),INDEX(tirs,SMALL(IF(joueurs=$B109,ROW(INDIRECT(\"1:\"&ROWS(tirs)))),ROWS($1:$29))),\"\")","v":0},{"$f":"IF(ROWS($1:$30)<=COUNTIF(joueurs,$B109),INDEX(tirs,SMALL(IF(joueurs=$B109,ROW(INDIRECT(\"1:\"&ROWS(tirs)))),ROWS($1:$30))),\"\")","v":0},{"$f":"IF(ROWS($1:$21)<=COUNTIF(joueurs,$B109),INDEX(bontirs,SMALL(IF(joueurs=$B109,ROW(INDIRECT(\"1:\"&ROWS(bontirs)))),ROWS($1:$21))),\"\")","v":0},{"$f":"IF(ROWS($1:$22)<=COUNTIF(joueurs,$B109),INDEX(bontirs,SMALL(IF(joueurs=$B109,ROW(INDIRECT(\"1:\"&ROWS(bontirs)))),ROWS($1:$22))),\"\")","v":0},{"$f":"IF(ROWS($1:$23)<=COUNTIF(joueurs,$B109),INDEX(bontirs,SMALL(IF(joueurs=$B109,ROW(INDIRECT(\"1:\"&ROWS(bontirs)))),ROWS($1:$23))),\"\")","v":0},{"$f":"IF(ROWS($1:$24)<=COUNTIF(joueurs,$B109),INDEX(bontirs,SMALL(IF(joueurs=$B109,ROW(INDIRECT(\"1:\"&ROWS(bontirs)))),ROWS($1:$24))),\"\")","v":0},{"$f":"IF(ROWS($1:$25)<=COUNTIF(joueurs,$B109),INDEX(bontirs,SMALL(IF(joueurs=$B109,ROW(INDIRECT(\"1:\"&ROWS(bontirs)))),ROWS($1:$25))),\"\")","v":0},{"$f":"IF(ROWS($1:$26)<=COUNTIF(joueurs,$B109),INDEX(bontirs,SMALL(IF(joueurs=$B109,ROW(INDIRECT(\"1:\"&ROWS(bontirs)))),ROWS($1:$26))),\"\")","v":0},{"$f":"IF(ROWS($1:$27)<=COUNTIF(joueurs,$B109),INDEX(bontirs,SMALL(IF(joueurs=$B109,ROW(INDIRECT(\"1:\"&ROWS(bontirs)))),ROWS($1:$27))),\"\")","v":0},{"$f":"IF(ROWS($1:$28)<=COUNTIF(joueurs,$B109),INDEX(bontirs,SMALL(IF(joueurs=$B109,ROW(INDIRECT(\"1:\"&ROWS(bontirs)))),ROWS($1:$28))),\"\")","v":0},{"$f":"IF(ROWS($1:$29)<=COUNTIF(joueurs,$B109),INDEX(bontirs,SMALL(IF(joueurs=$B109,ROW(INDIRECT(\"1:\"&ROWS(bontirs)))),ROWS($1:$29))),\"\")","v":0},{"$f":"IF(ROWS($1:$30)<=COUNTIF(joueurs,$B109),INDEX(bontirs,SMALL(IF(joueurs=$B109,ROW(INDIRECT(\"1:\"&ROWS(bontirs)))),ROWS($1:$30))),\"\")","v":0},{"$f":"IF(ROWS($1:$21)<=COUNTIF(joueurs,$B109),INDEX(points,SMALL(IF(joueurs=$B109,ROW(INDIRECT(\"1:\"&ROWS(points)))),ROWS($1:$21))),\"\")","v":0},{"$f":"IF(ROWS($1:$22)<=COUNTIF(joueurs,$B109),INDEX(points,SMALL(IF(joueurs=$B109,ROW(INDIRECT(\"1:\"&ROWS(points)))),ROWS($1:$22))),\"\")","v":0},{"$f":"IF(ROWS($1:$23)<=COUNTIF(joueurs,$B109),INDEX(points,SMALL(IF(joueurs=$B109,ROW(INDIRECT(\"1:\"&ROWS(points)))),ROWS($1:$23))),\"\")","v":0},{"$f":"IF(ROWS($1:$24)<=COUNTIF(joueurs,$B109),INDEX(points,SMALL(IF(joueurs=$B109,ROW(INDIRECT(\"1:\"&ROWS(points)))),ROWS($1:$24))),\"\")","v":0},{"$f":"IF(ROWS($1:$25)<=COUNTIF(joueurs,$B109),INDEX(points,SMALL(IF(joueurs=$B109,ROW(INDIRECT(\"1:\"&ROWS(points)))),ROWS($1:$25))),\"\")","v":0},{"$f":"IF(ROWS($1:$26)<=COUNTIF(joueurs,$B109),INDEX(points,SMALL(IF(joueurs=$B109,ROW(INDIRECT(\"1:\"&ROWS(points)))),ROWS($1:$26))),\"\")","v":0},{"$f":"IF(ROWS($1:$27)<=COUNTIF(joueurs,$B109),INDEX(points,SMALL(IF(joueurs=$B109,ROW(INDIRECT(\"1:\"&ROWS(points)))),ROWS($1:$27))),\"\")","v":0},{"$f":"IF(ROWS($1:$28)<=COUNTIF(joueurs,$B109),INDEX(points,SMALL(IF(joueurs=$B109,ROW(INDIRECT(\"1:\"&ROWS(points)))),ROWS($1:$28))),\"\")","v":0},{"$f":"IF(ROWS($1:$29)<=COUNTIF(joueurs,$B109),INDEX(points,SMALL(IF(joueurs=$B109,ROW(INDIRECT(\"1:\"&ROWS(points)))),ROWS($1:$29))),\"\")","v":0},{"$f":"IF(ROWS($1:$30)<=COUNTIF(joueurs,$B109),INDEX(points,SMALL(IF(joueurs=$B109,ROW(INDIRECT(\"1:\"&ROWS(points)))),ROWS($1:$30))),\"\")","v":0},{"$f":"IF(ROWS($1:$21)<=COUNTIF(joueurs,$B109),INDEX(victoires,SMALL(IF(joueurs=$B109,ROW(INDIRECT(\"1:\"&ROWS(victoires)))),ROWS($1:$21))),\"\")","v":0},{"$f":"IF(ROWS($1:$22)<=COUNTIF(joueurs,$B109),INDEX(victoires,SMALL(IF(joueurs=$B109,ROW(INDIRECT(\"1:\"&ROWS(victoires)))),ROWS($1:$22))),\"\")","v":0},{"$f":"IF(ROWS($1:$23)<=COUNTIF(joueurs,$B109),INDEX(victoires,SMALL(IF(joueurs=$B109,ROW(INDIRECT(\"1:\"&ROWS(victoires)))),ROWS($1:$23))),\"\")","v":0},{"$f":"IF(ROWS($1:$24)<=COUNTIF(joueurs,$B109),INDEX(victoires,SMALL(IF(joueurs=$B109,ROW(INDIRECT(\"1:\"&ROWS(victoires)))),ROWS($1:$24))),\"\")","v":0},{"$f":"IF(ROWS($1:$25)<=COUNTIF(joueurs,$B109),INDEX(victoires,SMALL(IF(joueurs=$B109,ROW(INDIRECT(\"1:\"&ROWS(victoires)))),ROWS($1:$25))),\"\")","v":0},{"$f":"IF(ROWS($1:$26)<=COUNTIF(joueurs,$B109),INDEX(victoires,SMALL(IF(joueurs=$B109,ROW(INDIRECT(\"1:\"&ROWS(victoires)))),ROWS($1:$26))),\"\")","v":0},{"$f":"IF(ROWS($1:$27)<=COUNTIF(joueurs,$B109),INDEX(victoires,SMALL(IF(joueurs=$B109,ROW(INDIRECT(\"1:\"&ROWS(victoires)))),ROWS($1:$27))),\"\")","v":0},{"$f":"IF(ROWS($1:$28)<=COUNTIF(joueurs,$B109),INDEX(victoires,SMALL(IF(joueurs=$B109,ROW(INDIRECT(\"1:\"&ROWS(victoires)))),ROWS($1:$28))),\"\")","v":0},{"$f":"IF(ROWS($1:$29)<=COUNTIF(joueurs,$B109),INDEX(victoires,SMALL(IF(joueurs=$B109,ROW(INDIRECT(\"1:\"&ROWS(victoires)))),ROWS($1:$29))),\"\")","v":0},{"$f":"IF(ROWS($1:$30)<=COUNTIF(joueurs,$B109),INDEX(victoires,SMALL(IF(joueurs=$B109,ROW(INDIRECT(\"1:\"&ROWS(victoires)))),ROWS($1:$30))),\"\")","v":0}]
[null,null,null,{"$f":"IF(ROWS($1:$31)<=COUNTIF(joueurs,$B109),INDEX(fautes,SMALL(IF(joueurs=$B109,ROW(INDIRECT(\"1:\"&ROWS(fautes)))),ROWS($1:$31))),\"\")","v":0},{"$f":"IF(ROWS($1:$32)<=COUNTIF(joueurs,$B109),INDEX(fautes,SMALL(IF(joueurs=$B109,ROW(INDIRECT(\"1:\"&ROWS(fautes)))),ROWS($1:$32))),\"\")","v":0},{"$f":"IF(ROWS($1:$33)<=COUNTIF(joueurs,$B109),INDEX(fautes,SMALL(IF(joueurs=$B109,ROW(INDIRECT(\"1:\"&ROWS(fautes)))),ROWS($1:$33))),\"\")","v":0},{"$f":"IF(ROWS($1:$34)<=COUNTIF(joueurs,$B109),INDEX(fautes,SMALL(IF(joueurs=$B109,ROW(INDIRECT(\"1:\"&ROWS(fautes)))),ROWS($1:$34))),\"\")","v":0},{"$f":"IF(ROWS($1:$35)<=COUNTIF(joueurs,$B109),INDEX(fautes,SMALL(IF(joueurs=$B109,ROW(INDIRECT(\"1:\"&ROWS(fautes)))),ROWS($1:$35))),\"\")","v":0},{"$f":"IF(ROWS($1:$36)<=COUNTIF(joueurs,$B109),INDEX(fautes,SMALL(IF(joueurs=$B109,ROW(INDIRECT(\"1:\"&ROWS(fautes)))),ROWS($1:$36))),\"\")","v":0},{"$f":"IF(ROWS($1:$37)<=COUNTIF(joueurs,$B109),INDEX(fautes,SMALL(IF(joueurs=$B109,ROW(INDIRECT(\"1:\"&ROWS(fautes)))),ROWS($1:$37))),\"\")","v":0},{"$f":"IF(ROWS($1:$38)<=COUNTIF(joueurs,$B109),INDEX(fautes,SMALL(IF(joueurs=$B109,ROW(INDIRECT(\"1:\"&ROWS(fautes)))),ROWS($1:$38))),\"\")","v":0},{"$f":"IF(ROWS($1:$39)<=COUNTIF(joueurs,$B109),INDEX(fautes,SMALL(IF(joueurs=$B109,ROW(INDIRECT(\"1:\"&ROWS(fautes)))),ROWS($1:$39))),\"\")","v":0},{"$f":"IF(ROWS($1:$40)<=COUNTIF(joueurs,$B109),INDEX(fautes,SMALL(IF(joueurs=$B109,ROW(INDIRECT(\"1:\"&ROWS(fautes)))),ROWS($1:$40))),\"\")","v":0},{"$f":"IF(ROWS($1:$31)<=COUNTIF(joueurs,$B109),INDEX(ballonperdus,SMALL(IF(joueurs=$B109,ROW(INDIRECT(\"1:\"&ROWS(ballonperdus)))),ROWS($1:$31))),\"\")","v":0},{"$f":"IF(ROWS($1:$32)<=COUNTIF(joueurs,$B109),INDEX(ballonperdus,SMALL(IF(joueurs=$B109,ROW(INDIRECT(\"1:\"&ROWS(ballonperdus)))),ROWS($1:$32))),\"\")","v":0},{"$f":"IF(ROWS($1:$33)<=COUNTIF(joueurs,$B109),INDEX(ballonperdus,SMALL(IF(joueurs=$B109,ROW(INDIRECT(\"1:\"&ROWS(ballonperdus)))),ROWS($1:$33))),\"\")","v":0},{"$f":"IF(ROWS($1:$34)<=COUNTIF(joueurs,$B109),INDEX(ballonperdus,SMALL(IF(joueurs=$B109,ROW(INDIRECT(\"1:\"&ROWS(ballonperdus)))),ROWS($1:$34))),\"\")","v":0},{"$f":"IF(ROWS($1:$35)<=COUNTIF(joueurs,$B109),INDEX(ballonperdus,SMALL(IF(joueurs=$B109,ROW(INDIRECT(\"1:\"&ROWS(ballonperdus)))),ROWS($1:$35))),\"\")","v":0},{"$f":"IF(ROWS($1:$36)<=COUNTIF(joueurs,$B109),INDEX(ballonperdus,SMALL(IF(joueurs=$B109,ROW(INDIRECT(\"1:\"&ROWS(ballonperdus)))),ROWS($1:$36))),\"\")","v":0},{"$f":"IF(ROWS($1:$37)<=COUNTIF(joueurs,$B109),INDEX(ballonperdus,SMALL(IF(joueurs=$B109,ROW(INDIRECT(\"1:\"&ROWS(ballonperdus)))),ROWS($1:$37))),\"\")","v":0},{"$f":"IF(ROWS($1:$38)<=COUNTIF(joueurs,$B109),INDEX(ballonperdus,SMALL(IF(joueurs=$B109,ROW(INDIRECT(\"1:\"&ROWS(ballonperdus)))),ROWS($1:$38))),\"\")","v":0},{"$f":"IF(ROWS($1:$39)<=COUNTIF(joueurs,$B109),INDEX(ballonperdus,SMALL(IF(joueurs=$B109,ROW(INDIRECT(\"1:\"&ROWS(ballonperdus)))),ROWS($1:$39))),\"\")","v":0},{"$f":"IF(ROWS($1:$40)<=COUNTIF(joueurs,$B109),INDEX(ballonperdus,SMALL(IF(joueurs=$B109,ROW(INDIRECT(\"1:\"&ROWS(ballonperdus)))),ROWS($1:$40))),\"\")","v":0},{"$f":"IF(ROWS($1:$31)<=COUNTIF(joueurs,$B109),INDEX(interceptions,SMALL(IF(joueurs=$B109,ROW(INDIRECT(\"1:\"&ROWS(interceptions)))),ROWS($1:$31))),\"\")","v":0},{"$f":"IF(ROWS($1:$32)<=COUNTIF(joueurs,$B109),INDEX(interceptions,SMALL(IF(joueurs=$B109,ROW(INDIRECT(\"1:\"&ROWS(interceptions)))),ROWS($1:$32))),\"\")","v":0},{"$f":"IF(ROWS($1:$33)<=COUNTIF(joueurs,$B109),INDEX(interceptions,SMALL(IF(joueurs=$B109,ROW(INDIRECT(\"1:\"&ROWS(interceptions)))),ROWS($1:$33))),\"\")","v":0},{"$f":"IF(ROWS($1:$34)<=COUNTIF(joueurs,$B109),INDEX(interceptions,SMALL(IF(joueurs=$B109,ROW(INDIRECT(\"1:\"&ROWS(interceptions)))),ROWS($1:$34))),\"\")","v":0},{"$f":"IF(ROWS($1:$35)<=COUNTIF(joueurs,$B109),INDEX(interceptions,SMALL(IF(joueurs=$B109,ROW(INDIRECT(\"1:\"&ROWS(interceptions)))),ROWS($1:$35))),\"\")","v":0},{"$f":"IF(ROWS($1:$36)<=COUNTIF(joueurs,$B109),INDEX(interceptions,SMALL(IF(joueurs=$B109,ROW(INDIRECT(\"1:\"&ROWS(interceptions)))),ROWS($1:$36))),\"\")","v":0},{"$f":"IF(ROWS($1:$37)<=COUNTIF(joueurs,$B109),INDEX(interceptions,SMALL(IF(joueurs=$B109,ROW(INDIRECT(\"1:\"&ROWS(interceptions)))),ROWS($1:$37))),\"\")","v":0},{"$f":"IF(ROWS($1:$38)<=COUNTIF(joueurs,$B109),INDEX(interceptions,SMALL(IF(joueurs=$B109,ROW(INDIRECT(\"1:\"&ROWS(interceptions)))),ROWS($1:$38))),\"\")","v":0},{"$f":"IF(ROWS($1:$39)<=COUNTIF(joueurs,$B109),INDEX(interceptions,SMALL(IF(joueurs=$B109,ROW(INDIRECT(\"1:\"&ROWS(interceptions)))),ROWS($1:$39))),\"\")","v":0},{"$f":"IF(ROWS($1:$40)<=COUNTIF(joueurs,$B109),INDEX(interceptions,SMALL(IF(joueurs=$B109,ROW(INDIRECT(\"1:\"&ROWS(interceptions)))),ROWS($1:$40))),\"\")","v":0},{"$f":"IF(ROWS($1:$31)<=COUNTIF(joueurs,$B109),INDEX(ballonrecuperes,SMALL(IF(joueurs=$B109,ROW(INDIRECT(\"1:\"&ROWS(ballonrecuperes)))),ROWS($1:$31))),\"\")","v":0},{"$f":"IF(ROWS($1:$32)<=COUNTIF(joueurs,$B109),INDEX(ballonrecuperes,SMALL(IF(joueurs=$B109,ROW(INDIRECT(\"1:\"&ROWS(ballonrecuperes)))),ROWS($1:$32))),\"\")","v":0},{"$f":"IF(ROWS($1:$33)<=COUNTIF(joueurs,$B109),INDEX(ballonrecuperes,SMALL(IF(joueurs=$B109,ROW(INDIRECT(\"1:\"&ROWS(ballonrecuperes)))),ROWS($1:$33))),\"\")","v":0},{"$f":"IF(ROWS($1:$34)<=COUNTIF(joueurs,$B109),INDEX(ballonrecuperes,SMALL(IF(joueurs=$B109,ROW(INDIRECT(\"1:\"&ROWS(ballonrecuperes)))),ROWS($1:$34))),\"\")","v":0},{"$f":"IF(ROWS($1:$35)<=COUNTIF(joueurs,$B109),INDEX(ballonrecuperes,SMALL(IF(joueurs=$B109,ROW(INDIRECT(\"1:\"&ROWS(ballonrecuperes)))),ROWS($1:$35))),\"\")","v":0},{"$f":"IF(ROWS($1:$36)<=COUNTIF(joueurs,$B109),INDEX(ballonrecuperes,SMALL(IF(joueurs=$B109,ROW(INDIRECT(\"1:\"&ROWS(ballonrecuperes)))),ROWS($1:$36))),\"\")","v":0},{"$f":"IF(ROWS($1:$37)<=COUNTIF(joueurs,$B109),INDEX(ballonrecuperes,SMALL(IF(joueurs=$B109,ROW(INDIRECT(\"1:\"&ROWS(ballonrecuperes)))),ROWS($1:$37))),\"\")","v":0},{"$f":"IF(ROWS($1:$38)<=COUNTIF(joueurs,$B109),INDEX(ballonrecuperes,SMALL(IF(joueurs=$B109,ROW(INDIRECT(\"1:\"&ROWS(ballonrecuperes)))),ROWS($1:$38))),\"\")","v":0},{"$f":"IF(ROWS($1:$39)<=COUNTIF(joueurs,$B109),INDEX(ballonrecuperes,SMALL(IF(joueurs=$B109,ROW(INDIRECT(\"1:\"&ROWS(ballonrecuperes)))),ROWS($1:$39))),\"\")","v":0},{"$f":"IF(ROWS($1:$40)<=COUNTIF(joueurs,$B109),INDEX(ballonrecuperes,SMALL(IF(joueurs=$B109,ROW(INDIRECT(\"1:\"&ROWS(ballonrecuperes)))),ROWS($1:$40))),\"\")","v":0},{"$f":"IF(ROWS($1:$31)<=COUNTIF(joueurs,$B109),INDEX(tirs,SMALL(IF(joueurs=$B109,ROW(INDIRECT(\"1:\"&ROWS(tirs)))),ROWS($1:$31))),\"\")","v":0},{"$f":"IF(ROWS($1:$32)<=COUNTIF(joueurs,$B109),INDEX(tirs,SMALL(IF(joueurs=$B109,ROW(INDIRECT(\"1:\"&ROWS(tirs)))),ROWS($1:$32))),\"\")","v":0},{"$f":"IF(ROWS($1:$33)<=COUNTIF(joueurs,$B109),INDEX(tirs,SMALL(IF(joueurs=$B109,ROW(INDIRECT(\"1:\"&ROWS(tirs)))),ROWS($1:$33))),\"\")","v":0},{"$f":"IF(ROWS($1:$34)<=COUNTIF(joueurs,$B109),INDEX(tirs,SMALL(IF(joueurs=$B109,ROW(INDIRECT(\"1:\"&ROWS(tirs)))),ROWS($1:$34))),\"\")","v":0},{"$f":"IF(ROWS($1:$35)<=COUNTIF(joueurs,$B109),INDEX(tirs,SMALL(IF(joueurs=$B109,ROW(INDIRECT(\"1:\"&ROWS(tirs)))),ROWS($1:$35))),\"\")","v":0},{"$f":"IF(ROWS($1:$36)<=COUNTIF(joueurs,$B109),INDEX(tirs,SMALL(IF(joueurs=$B109,ROW(INDIRECT(\"1:\"&ROWS(tirs)))),ROWS($1:$36))),\"\")","v":0},{"$f":"IF(ROWS($1:$37)<=COUNTIF(joueurs,$B109),INDEX(tirs,SMALL(IF(joueurs=$B109,ROW(INDIRECT(\"1:\"&ROWS(tirs)))),ROWS($1:$37))),\"\")","v":0},{"$f":"IF(ROWS($1:$38)<=COUNTIF(joueurs,$B109),INDEX(tirs,SMALL(IF(joueurs=$B109,ROW(INDIRECT(\"1:\"&ROWS(tirs)))),ROWS($1:$38))),\"\")","v":0},{"$f":"IF(ROWS($1:$39)<=COUNTIF(joueurs,$B109),INDEX(tirs,SMALL(IF(joueurs=$B109,ROW(INDIRECT(\"1:\"&ROWS(tirs)))),ROWS($1:$39))),\"\")","v":0},{"$f":"IF(ROWS($1:$40)<=COUNTIF(joueurs,$B109),INDEX(tirs,SMALL(IF(joueurs=$B109,ROW(INDIRECT(\"1:\"&ROWS(tirs)))),ROWS($1:$40))),\"\")","v":0},{"$f":"IF(ROWS($1:$31)<=COUNTIF(joueurs,$B109),INDEX(bontirs,SMALL(IF(joueurs=$B109,ROW(INDIRECT(\"1:\"&ROWS(bontirs)))),ROWS($1:$31))),\"\")","v":0},{"$f":"IF(ROWS($1:$32)<=COUNTIF(joueurs,$B109),INDEX(bontirs,SMALL(IF(joueurs=$B109,ROW(INDIRECT(\"1:\"&ROWS(bontirs)))),ROWS($1:$32))),\"\")","v":0},{"$f":"IF(ROWS($1:$33)<=COUNTIF(joueurs,$B109),INDEX(bontirs,SMALL(IF(joueurs=$B109,ROW(INDIRECT(\"1:\"&ROWS(bontirs)))),ROWS($1:$33))),\"\")","v":0},{"$f":"IF(ROWS($1:$34)<=COUNTIF(joueurs,$B109),INDEX(bontirs,SMALL(IF(joueurs=$B109,ROW(INDIRECT(\"1:\"&ROWS(bontirs)))),ROWS($1:$34))),\"\")","v":0},{"$f":"IF(ROWS($1:$35)<=COUNTIF(joueurs,$B109),INDEX(bontirs,SMALL(IF(joueurs=$B109,ROW(INDIRECT(\"1:\"&ROWS(bontirs)))),ROWS($1:$35))),\"\")","v":0},{"$f":"IF(ROWS($1:$36)<=COUNTIF(joueurs,$B109),INDEX(bontirs,SMALL(IF(joueurs=$B109,ROW(INDIRECT(\"1:\"&ROWS(bontirs)))),ROWS($1:$36))),\"\")","v":0},{"$f":"IF(ROWS($1:$37)<=COUNTIF(joueurs,$B109),INDEX(bontirs,SMALL(IF(joueurs=$B109,ROW(INDIRECT(\"1:\"&ROWS(bontirs)))),ROWS($1:$37))),\"\")","v":0},{"$f":"IF(ROWS($1:$38)<=COUNTIF(joueurs,$B109),INDEX(bontirs,SMALL(IF(joueurs=$B109,ROW(INDIRECT(\"1:\"&ROWS(bontirs)))),ROWS($1:$38))),\"\")","v":0},{"$f":"IF(ROWS($1:$39)<=COUNTIF(joueurs,$B109),INDEX(bontirs,SMALL(IF(joueurs=$B109,ROW(INDIRECT(\"1:\"&ROWS(bontirs)))),ROWS($1:$39))),\"\")","v":0},{"$f":"IF(ROWS($1:$40)<=COUNTIF(joueurs,$B109),INDEX(bontirs,SMALL(IF(joueurs=$B109,ROW(INDIRECT(\"1:\"&ROWS(bontirs)))),ROWS($1:$40))),\"\")","v":0},{"$f":"IF(ROWS($1:$31)<=COUNTIF(joueurs,$B109),INDEX(points,SMALL(IF(joueurs=$B109,ROW(INDIRECT(\"1:\"&ROWS(points)))),ROWS($1:$31))),\"\")","v":0},{"$f":"IF(ROWS($1:$32)<=COUNTIF(joueurs,$B109),INDEX(points,SMALL(IF(joueurs=$B109,ROW(INDIRECT(\"1:\"&ROWS(points)))),ROWS($1:$32))),\"\")","v":0},{"$f":"IF(ROWS($1:$33)<=COUNTIF(joueurs,$B109),INDEX(points,SMALL(IF(joueurs=$B109,ROW(INDIRECT(\"1:\"&ROWS(points)))),ROWS($1:$33))),\"\")","v":0},{"$f":"IF(ROWS($1:$34)<=COUNTIF(joueurs,$B109),INDEX(points,SMALL(IF(joueurs=$B109,ROW(INDIRECT(\"1:\"&ROWS(points)))),ROWS($1:$34))),\"\")","v":0},{"$f":"IF(ROWS($1:$35)<=COUNTIF(joueurs,$B109),INDEX(points,SMALL(IF(joueurs=$B109,ROW(INDIRECT(\"1:\"&ROWS(points)))),ROWS($1:$35))),\"\")","v":0},{"$f":"IF(ROWS($1:$36)<=COUNTIF(joueurs,$B109),INDEX(points,SMALL(IF(joueurs=$B109,ROW(INDIRECT(\"1:\"&ROWS(points)))),ROWS($1:$36))),\"\")","v":0},{"$f":"IF(ROWS($1:$37)<=COUNTIF(joueurs,$B109),INDEX(points,SMALL(IF(joueurs=$B109,ROW(INDIRECT(\"1:\"&ROWS(points)))),ROWS($1:$37))),\"\")","v":0},{"$f":"IF(ROWS($1:$38)<=COUNTIF(joueurs,$B109),INDEX(points,SMALL(IF(joueurs=$B109,ROW(INDIRECT(\"1:\"&ROWS(points)))),ROWS($1:$38))),\"\")","v":0},{"$f":"IF(ROWS($1:$39)<=COUNTIF(joueurs,$B109),INDEX(points,SMALL(IF(joueurs=$B109,ROW(INDIRECT(\"1:\"&ROWS(points)))),ROWS($1:$39))),\"\")","v":0},{"$f":"IF(ROWS($1:$40)<=COUNTIF(joueurs,$B109),INDEX(points,SMALL(IF(joueurs=$B109,ROW(INDIRECT(\"1:\"&ROWS(points)))),ROWS($1:$40))),\"\")","v":0},{"$f":"IF(ROWS($1:$31)<=COUNTIF(joueurs,$B109),INDEX(victoires,SMALL(IF(joueurs=$B109,ROW(INDIRECT(\"1:\"&ROWS(victoires)))),ROWS($1:$31))),\"\")","v":0},{"$f":"IF(ROWS($1:$32)<=COUNTIF(joueurs,$B109),INDEX(victoires,SMALL(IF(joueurs=$B109,ROW(INDIRECT(\"1:\"&ROWS(victoires)))),ROWS($1:$32))),\"\")","v":0},{"$f":"IF(ROWS($1:$33)<=COUNTIF(joueurs,$B109),INDEX(victoires,SMALL(IF(joueurs=$B109,ROW(INDIRECT(\"1:\"&ROWS(victoires)))),ROWS($1:$33))),\"\")","v":0},{"$f":"IF(ROWS($1:$34)<=COUNTIF(joueurs,$B109),INDEX(victoires,SMALL(IF(joueurs=$B109,ROW(INDIRECT(\"1:\"&ROWS(victoires)))),ROWS($1:$34))),\"\")","v":0},{"$f":"IF(ROWS($1:$35)<=COUNTIF(joueurs,$B109),INDEX(victoires,SMALL(IF(joueurs=$B109,ROW(INDIRECT(\"1:\"&ROWS(victoires)))),ROWS($1:$35))),\"\")","v":0},{"$f":"IF(ROWS($1:$36)<=COUNTIF(joueurs,$B109),INDEX(victoires,SMALL(IF(joueurs=$B109,ROW(INDIRECT(\"1:\"&ROWS(victoires)))),ROWS($1:$36))),\"\")","v":0},{"$f":"IF(ROWS($1:$37)<=COUNTIF(joueurs,$B109),INDEX(victoires,SMALL(IF(joueurs=$B109,ROW(INDIRECT(\"1:\"&ROWS(victoires)))),ROWS($1:$37))),\"\")","v":0},{"$f":"IF(ROWS($1:$38)<=COUNTIF(joueurs,$B109),INDEX(victoires,SMALL(IF(joueurs=$B109,ROW(INDIRECT(\"1:\"&ROWS(victoires)))),ROWS($1:$38))),\"\")","v":0},{"$f":"IF(ROWS($1:$39)<=COUNTIF(joueurs,$B109),INDEX(victoires,SMALL(IF(joueurs=$B109,ROW(INDIRECT(\"1:\"&ROWS(victoires)))),ROWS($1:$39))),\"\")","v":0},{"$f":"IF(ROWS($1:$40)<=COUNTIF(joueurs,$B109),INDEX(victoires,SMALL(IF(joueurs=$B109,ROW(INDIRECT(\"1:\"&ROWS(victoires)))),ROWS($1:$40))),\"\")","v":0}]
[28,{"$f":"INDEX(eleves,MATCH(A113,numero,0),MATCH($B$2,classes,0))","v":0},null,{"$f":"IF(ROWS($1:$1)<=COUNTIF(joueurs,$B113),INDEX(fautes,SMALL(IF(joueurs=$B113,ROW(INDIRECT(\"1:\"&ROWS(fautes)))),ROWS($1:$1))),\"\")","v":0},{"$f":"IF(ROWS($1:$2)<=COUNTIF(joueurs,$B113),INDEX(fautes,SMALL(IF(joueurs=$B113,ROW(INDIRECT(\"1:\"&ROWS(fautes)))),ROWS($1:$2))),\"\")","v":0},{"$f":"IF(ROWS($1:$3)<=COUNTIF(joueurs,$B113),INDEX(fautes,SMALL(IF(joueurs=$B113,ROW(INDIRECT(\"1:\"&ROWS(fautes)))),ROWS($1:$3))),\"\")","v":0},{"$f":"IF(ROWS($1:$4)<=COUNTIF(joueurs,$B113),INDEX(fautes,SMALL(IF(joueurs=$B113,ROW(INDIRECT(\"1:\"&ROWS(fautes)))),ROWS($1:$4))),\"\")","v":0},{"$f":"IF(ROWS($1:$5)<=COUNTIF(joueurs,$B113),INDEX(fautes,SMALL(IF(joueurs=$B113,ROW(INDIRECT(\"1:\"&ROWS(fautes)))),ROWS($1:$5))),\"\")","v":0},{"$f":"IF(ROWS($1:$6)<=COUNTIF(joueurs,$B113),INDEX(fautes,SMALL(IF(joueurs=$B113,ROW(INDIRECT(\"1:\"&ROWS(fautes)))),ROWS($1:$6))),\"\")","v":0},{"$f":"IF(ROWS($1:$7)<=COUNTIF(joueurs,$B113),INDEX(fautes,SMALL(IF(joueurs=$B113,ROW(INDIRECT(\"1:\"&ROWS(fautes)))),ROWS($1:$7))),\"\")","v":0},{"$f":"IF(ROWS($1:$8)<=COUNTIF(joueurs,$B113),INDEX(fautes,SMALL(IF(joueurs=$B113,ROW(INDIRECT(\"1:\"&ROWS(fautes)))),ROWS($1:$8))),\"\")","v":0},{"$f":"IF(ROWS($1:$9)<=COUNTIF(joueurs,$B113),INDEX(fautes,SMALL(IF(joueurs=$B113,ROW(INDIRECT(\"1:\"&ROWS(fautes)))),ROWS($1:$9))),\"\")","v":0},{"$f":"IF(ROWS($1:$10)<=COUNTIF(joueurs,$B113),INDEX(fautes,SMALL(IF(joueurs=$B113,ROW(INDIRECT(\"1:\"&ROWS(fautes)))),ROWS($1:$10))),\"\")","v":0},{"$f":"IF(ROWS($1:$1)<=COUNTIF(joueurs,$B113),INDEX(ballonperdus,SMALL(IF(joueurs=$B113,ROW(INDIRECT(\"1:\"&ROWS(ballonperdus)))),ROWS($1:$1))),\"\")","v":0},{"$f":"IF(ROWS($1:$2)<=COUNTIF(joueurs,$B113),INDEX(ballonperdus,SMALL(IF(joueurs=$B113,ROW(INDIRECT(\"1:\"&ROWS(ballonperdus)))),ROWS($1:$2))),\"\")","v":0},{"$f":"IF(ROWS($1:$3)<=COUNTIF(joueurs,$B113),INDEX(ballonperdus,SMALL(IF(joueurs=$B113,ROW(INDIRECT(\"1:\"&ROWS(ballonperdus)))),ROWS($1:$3))),\"\")","v":0},{"$f":"IF(ROWS($1:$4)<=COUNTIF(joueurs,$B113),INDEX(ballonperdus,SMALL(IF(joueurs=$B113,ROW(INDIRECT(\"1:\"&ROWS(ballonperdus)))),ROWS($1:$4))),\"\")","v":0},{"$f":"IF(ROWS($1:$5)<=COUNTIF(joueurs,$B113),INDEX(ballonperdus,SMALL(IF(joueurs=$B113,ROW(INDIRECT(\"1:\"&ROWS(ballonperdus)))),ROWS($1:$5))),\"\")","v":0},{"$f":"IF(ROWS($1:$6)<=COUNTIF(joueurs,$B113),INDEX(ballonperdus,SMALL(IF(joueurs=$B113,ROW(INDIRECT(\"1:\"&ROWS(ballonperdus)))),ROWS($1:$6))),\"\")","v":0},{"$f":"IF(ROWS($1:$7)<=COUNTIF(joueurs,$B113),INDEX(ballonperdus,SMALL(IF(joueurs=$B113,ROW(INDIRECT(\"1:\"&ROWS(ballonperdus)))),ROWS($1:$7))),\"\")","v":0},{"$f":"IF(ROWS($1:$8)<=COUNTIF(joueurs,$B113),INDEX(ballonperdus,SMALL(IF(joueurs=$B113,ROW(INDIRECT(\"1:\"&ROWS(ballonperdus)))),ROWS($1:$8))),\"\")","v":0},{"$f":"IF(ROWS($1:$9)<=COUNTIF(joueurs,$B113),INDEX(ballonperdus,SMALL(IF(joueurs=$B113,ROW(INDIRECT(\"1:\"&ROWS(ballonperdus)))),ROWS($1:$9))),\"\")","v":0},{"$f":"IF(ROWS($1:$10)<=COUNTIF(joueurs,$B113),INDEX(ballonperdus,SMALL(IF(joueurs=$B113,ROW(INDIRECT(\"1:\"&ROWS(ballonperdus)))),ROWS($1:$10))),\"\")","v":0},{"$f":"IF(ROWS($1:$1)<=COUNTIF(joueurs,$B113),INDEX(interceptions,SMALL(IF(joueurs=$B113,ROW(INDIRECT(\"1:\"&ROWS(interceptions)))),ROWS($1:$1))),\"\")","v":0},{"$f":"IF(ROWS($1:$2)<=COUNTIF(joueurs,$B113),INDEX(interceptions,SMALL(IF(joueurs=$B113,ROW(INDIRECT(\"1:\"&ROWS(interceptions)))),ROWS($1:$2))),\"\")","v":0},{"$f":"IF(ROWS($1:$3)<=COUNTIF(joueurs,$B113),INDEX(interceptions,SMALL(IF(joueurs=$B113,ROW(INDIRECT(\"1:\"&ROWS(interceptions)))),ROWS($1:$3))),\"\")","v":0},{"$f":"IF(ROWS($1:$4)<=COUNTIF(joueurs,$B113),INDEX(interceptions,SMALL(IF(joueurs=$B113,ROW(INDIRECT(\"1:\"&ROWS(interceptions)))),ROWS($1:$4))),\"\")","v":0},{"$f":"IF(ROWS($1:$5)<=COUNTIF(joueurs,$B113),INDEX(interceptions,SMALL(IF(joueurs=$B113,ROW(INDIRECT(\"1:\"&ROWS(interceptions)))),ROWS($1:$5))),\"\")","v":0},{"$f":"IF(ROWS($1:$6)<=COUNTIF(joueurs,$B113),INDEX(interceptions,SMALL(IF(joueurs=$B113,ROW(INDIRECT(\"1:\"&ROWS(interceptions)))),ROWS($1:$6))),\"\")","v":0},{"$f":"IF(ROWS($1:$7)<=COUNTIF(joueurs,$B113),INDEX(interceptions,SMALL(IF(joueurs=$B113,ROW(INDIRECT(\"1:\"&ROWS(interceptions)))),ROWS($1:$7))),\"\")","v":0},{"$f":"IF(ROWS($1:$8)<=COUNTIF(joueurs,$B113),INDEX(interceptions,SMALL(IF(joueurs=$B113,ROW(INDIRECT(\"1:\"&ROWS(interceptions)))),ROWS($1:$8))),\"\")","v":0},{"$f":"IF(ROWS($1:$9)<=COUNTIF(joueurs,$B113),INDEX(interceptions,SMALL(IF(joueurs=$B113,ROW(INDIRECT(\"1:\"&ROWS(interceptions)))),ROWS($1:$9))),\"\")","v":0},{"$f":"IF(ROWS($1:$10)<=COUNTIF(joueurs,$B113),INDEX(interceptions,SMALL(IF(joueurs=$B113,ROW(INDIRECT(\"1:\"&ROWS(interceptions)))),ROWS($1:$10))),\"\")","v":0},{"$f":"IF(ROWS($1:$1)<=COUNTIF(joueurs,$B113),INDEX(ballonrecuperes,SMALL(IF(joueurs=$B113,ROW(INDIRECT(\"1:\"&ROWS(ballonrecuperes)))),ROWS($1:$1))),\"\")","v":0},{"$f":"IF(ROWS($1:$2)<=COUNTIF(joueurs,$B113),INDEX(ballonrecuperes,SMALL(IF(joueurs=$B113,ROW(INDIRECT(\"1:\"&ROWS(ballonrecuperes)))),ROWS($1:$2))),\"\")","v":0},{"$f":"IF(ROWS($1:$3)<=COUNTIF(joueurs,$B113),INDEX(ballonrecuperes,SMALL(IF(joueurs=$B113,ROW(INDIRECT(\"1:\"&ROWS(ballonrecuperes)))),ROWS($1:$3))),\"\")","v":0},{"$f":"IF(ROWS($1:$4)<=COUNTIF(joueurs,$B113),INDEX(ballonrecuperes,SMALL(IF(joueurs=$B113,ROW(INDIRECT(\"1:\"&ROWS(ballonrecuperes)))),ROWS($1:$4))),\"\")","v":0},{"$f":"IF(ROWS($1:$5)<=COUNTIF(joueurs,$B113),INDEX(ballonrecuperes,SMALL(IF(joueurs=$B113,ROW(INDIRECT(\"1:\"&ROWS(ballonrecuperes)))),ROWS($1:$5))),\"\")","v":0},{"$f":"IF(ROWS($1:$6)<=COUNTIF(joueurs,$B113),INDEX(ballonrecuperes,SMALL(IF(joueurs=$B113,ROW(INDIRECT(\"1:\"&ROWS(ballonrecuperes)))),ROWS($1:$6))),\"\")","v":0},{"$f":"IF(ROWS($1:$7)<=COUNTIF(joueurs,$B113),INDEX(ballonrecuperes,SMALL(IF(joueurs=$B113,ROW(INDIRECT(\"1:\"&ROWS(ballonrecuperes)))),ROWS($1:$7))),\"\")","v":0},{"$f":"IF(ROWS($1:$8)<=COUNTIF(joueurs,$B113),INDEX(ballonrecuperes,SMALL(IF(joueurs=$B113,ROW(INDIRECT(\"1:\"&ROWS(ballonrecuperes)))),ROWS($1:$8))),\"\")","v":0},{"$f":"IF(ROWS($1:$9)<=COUNTIF(joueurs,$B113),INDEX(ballonrecuperes,SMALL(IF(joueurs=$B113,ROW(INDIRECT(\"1:\"&ROWS(ballonrecuperes)))),ROWS($1:$9))),\"\")","v":0},{"$f":"IF(ROWS($1:$10)<=COUNTIF(joueurs,$B113),INDEX(ballonrecuperes,SMALL(IF(joueurs=$B113,ROW(INDIRECT(\"1:\"&ROWS(ballonrecuperes)))),ROWS($1:$10))),\"\")","v":0},{"$f":"IF(ROWS($1:$1)<=COUNTIF(joueurs,$B113),INDEX(tirs,SMALL(IF(joueurs=$B113,ROW(INDIRECT(\"1:\"&ROWS(tirs)))),ROWS($1:$1))),\"\")","v":0},{"$f":"IF(ROWS($1:$2)<=COUNTIF(joueurs,$B113),INDEX(tirs,SMALL(IF(joueurs=$B113,ROW(INDIRECT(\"1:\"&ROWS(tirs)))),ROWS($1:$2))),\"\")","v":0},{"$f":"IF(ROWS($1:$3)<=COUNTIF(joueurs,$B113),INDEX(tirs,SMALL(IF(joueurs=$B113,ROW(INDIRECT(\"1:\"&ROWS(tirs)))),ROWS($1:$3))),\"\")","v":0},{"$f":"IF(ROWS($1:$4)<=COUNTIF(joueurs,$B113),INDEX(tirs,SMALL(IF(joueurs=$B113,ROW(INDIRECT(\"1:\"&ROWS(tirs)))),ROWS($1:$4))),\"\")","v":0},{"$f":"IF(ROWS($1:$5)<=COUNTIF(joueurs,$B113),INDEX(tirs,SMALL(IF(joueurs=$B113,ROW(INDIRECT(\"1:\"&ROWS(tirs)))),ROWS($1:$5))),\"\")","v":0},{"$f":"IF(ROWS($1:$6)<=COUNTIF(joueurs,$B113),INDEX(tirs,SMALL(IF(joueurs=$B113,ROW(INDIRECT(\"1:\"&ROWS(tirs)))),ROWS($1:$6))),\"\")","v":0},{"$f":"IF(ROWS($1:$7)<=COUNTIF(joueurs,$B113),INDEX(tirs,SMALL(IF(joueurs=$B113,ROW(INDIRECT(\"1:\"&ROWS(tirs)))),ROWS($1:$7))),\"\")","v":0},{"$f":"IF(ROWS($1:$8)<=COUNTIF(joueurs,$B113),INDEX(tirs,SMALL(IF(joueurs=$B113,ROW(INDIRECT(\"1:\"&ROWS(tirs)))),ROWS($1:$8))),\"\")","v":0},{"$f":"IF(ROWS($1:$9)<=COUNTIF(joueurs,$B113),INDEX(tirs,SMALL(IF(joueurs=$B113,ROW(INDIRECT(\"1:\"&ROWS(tirs)))),ROWS($1:$9))),\"\")","v":0},{"$f":"IF(ROWS($1:$10)<=COUNTIF(joueurs,$B113),INDEX(tirs,SMALL(IF(joueurs=$B113,ROW(INDIRECT(\"1:\"&ROWS(tirs)))),ROWS($1:$10))),\"\")","v":0},{"$f":"IF(ROWS($1:$1)<=COUNTIF(joueurs,$B113),INDEX(bontirs,SMALL(IF(joueurs=$B113,ROW(INDIRECT(\"1:\"&ROWS(bontirs)))),ROWS($1:$1))),\"\")","v":0},{"$f":"IF(ROWS($1:$2)<=COUNTIF(joueurs,$B113),INDEX(bontirs,SMALL(IF(joueurs=$B113,ROW(INDIRECT(\"1:\"&ROWS(bontirs)))),ROWS($1:$2))),\"\")","v":0},{"$f":"IF(ROWS($1:$3)<=COUNTIF(joueurs,$B113),INDEX(bontirs,SMALL(IF(joueurs=$B113,ROW(INDIRECT(\"1:\"&ROWS(bontirs)))),ROWS($1:$3))),\"\")","v":0},{"$f":"IF(ROWS($1:$4)<=COUNTIF(joueurs,$B113),INDEX(bontirs,SMALL(IF(joueurs=$B113,ROW(INDIRECT(\"1:\"&ROWS(bontirs)))),ROWS($1:$4))),\"\")","v":0},{"$f":"IF(ROWS($1:$5)<=COUNTIF(joueurs,$B113),INDEX(bontirs,SMALL(IF(joueurs=$B113,ROW(INDIRECT(\"1:\"&ROWS(bontirs)))),ROWS($1:$5))),\"\")","v":0},{"$f":"IF(ROWS($1:$6)<=COUNTIF(joueurs,$B113),INDEX(bontirs,SMALL(IF(joueurs=$B113,ROW(INDIRECT(\"1:\"&ROWS(bontirs)))),ROWS($1:$6))),\"\")","v":0},{"$f":"IF(ROWS($1:$7)<=COUNTIF(joueurs,$B113),INDEX(bontirs,SMALL(IF(joueurs=$B113,ROW(INDIRECT(\"1:\"&ROWS(bontirs)))),ROWS($1:$7))),\"\")","v":0},{"$f":"IF(ROWS($1:$8)<=COUNTIF(joueurs,$B113),INDEX(bontirs,SMALL(IF(joueurs=$B113,ROW(INDIRECT(\"1:\"&ROWS(bontirs)))),ROWS($1:$8))),\"\")","v":0},{"$f":"IF(ROWS($1:$9)<=COUNTIF(joueurs,$B113),INDEX(bontirs,SMALL(IF(joueurs=$B113,ROW(INDIRECT(\"1:\"&ROWS(bontirs)))),ROWS($1:$9))),\"\")","v":0},{"$f":"IF(ROWS($1:$10)<=COUNTIF(joueurs,$B113),INDEX(bontirs,SMALL(IF(joueurs=$B113,ROW(INDIRECT(\"1:\"&ROWS(bontirs)))),ROWS($1:$10))),\"\")","v":0},{"$f":"IF(ROWS($1:$1)<=COUNTIF(joueurs,$B113),INDEX(points,SMALL(IF(joueurs=$B113,ROW(INDIRECT(\"1:\"&ROWS(points)))),ROWS($1:$1))),\"\")","v":0},{"$f":"IF(ROWS($1:$2)<=COUNTIF(joueurs,$B113),INDEX(points,SMALL(IF(joueurs=$B113,ROW(INDIRECT(\"1:\"&ROWS(points)))),ROWS($1:$2))),\"\")","v":0},{"$f":"IF(ROWS($1:$3)<=COUNTIF(joueurs,$B113),INDEX(points,SMALL(IF(joueurs=$B113,ROW(INDIRECT(\"1:\"&ROWS(points)))),ROWS($1:$3))),\"\")","v":0},{"$f":"IF(ROWS($1:$4)<=COUNTIF(joueurs,$B113),INDEX(points,SMALL(IF(joueurs=$B113,ROW(INDIRECT(\"1:\"&ROWS(points)))),ROWS($1:$4))),\"\")","v":0},{"$f":"IF(ROWS($1:$5)<=COUNTIF(joueurs,$B113),INDEX(points,SMALL(IF(joueurs=$B113,ROW(INDIRECT(\"1:\"&ROWS(points)))),ROWS($1:$5))),\"\")","v":0},{"$f":"IF(ROWS($1:$6)<=COUNTIF(joueurs,$B113),INDEX(points,SMALL(IF(joueurs=$B113,ROW(INDIRECT(\"1:\"&ROWS(points)))),ROWS($1:$6))),\"\")","v":0},{"$f":"IF(ROWS($1:$7)<=COUNTIF(joueurs,$B113),INDEX(points,SMALL(IF(joueurs=$B113,ROW(INDIRECT(\"1:\"&ROWS(points)))),ROWS($1:$7))),\"\")","v":0},{"$f":"IF(ROWS($1:$8)<=COUNTIF(joueurs,$B113),INDEX(points,SMALL(IF(joueurs=$B113,ROW(INDIRECT(\"1:\"&ROWS(points)))),ROWS($1:$8))),\"\")","v":0},{"$f":"IF(ROWS($1:$9)<=COUNTIF(joueurs,$B113),INDEX(points,SMALL(IF(joueurs=$B113,ROW(INDIRECT(\"1:\"&ROWS(points)))),ROWS($1:$9))),\"\")","v":0},{"$f":"IF(ROWS($1:$10)<=COUNTIF(joueurs,$B113),INDEX(points,SMALL(IF(joueurs=$B113,ROW(INDIRECT(\"1:\"&ROWS(points)))),ROWS($1:$10))),\"\")","v":0},{"$f":"IF(ROWS($1:$1)<=COUNTIF(joueurs,$B113),INDEX(victoires,SMALL(IF(joueurs=$B113,ROW(INDIRECT(\"1:\"&ROWS(victoires)))),ROWS($1:$1))),\"\")","v":0},{"$f":"IF(ROWS($1:$2)<=COUNTIF(joueurs,$B113),INDEX(victoires,SMALL(IF(joueurs=$B113,ROW(INDIRECT(\"1:\"&ROWS(victoires)))),ROWS($1:$2))),\"\")","v":0},{"$f":"IF(ROWS($1:$3)<=COUNTIF(joueurs,$B113),INDEX(victoires,SMALL(IF(joueurs=$B113,ROW(INDIRECT(\"1:\"&ROWS(victoires)))),ROWS($1:$3))),\"\")","v":0},{"$f":"IF(ROWS($1:$4)<=COUNTIF(joueurs,$B113),INDEX(victoires,SMALL(IF(joueurs=$B113,ROW(INDIRECT(\"1:\"&ROWS(victoires)))),ROWS($1:$4))),\"\")","v":0},{"$f":"IF(ROWS($1:$5)<=COUNTIF(joueurs,$B113),INDEX(victoires,SMALL(IF(joueurs=$B113,ROW(INDIRECT(\"1:\"&ROWS(victoires)))),ROWS($1:$5))),\"\")","v":0},{"$f":"IF(ROWS($1:$6)<=COUNTIF(joueurs,$B113),INDEX(victoires,SMALL(IF(joueurs=$B113,ROW(INDIRECT(\"1:\"&ROWS(victoires)))),ROWS($1:$6))),\"\")","v":0},{"$f":"IF(ROWS($1:$7)<=COUNTIF(joueurs,$B113),INDEX(victoires,SMALL(IF(joueurs=$B113,ROW(INDIRECT(\"1:\"&ROWS(victoires)))),ROWS($1:$7))),\"\")","v":0},{"$f":"IF(ROWS($1:$8)<=COUNTIF(joueurs,$B113),INDEX(victoires,SMALL(IF(joueurs=$B113,ROW(INDIRECT(\"1:\"&ROWS(victoires)))),ROWS($1:$8))),\"\")","v":0},{"$f":"IF(ROWS($1:$9)<=COUNTIF(joueurs,$B113),INDEX(victoires,SMALL(IF(joueurs=$B113,ROW(INDIRECT(\"1:\"&ROWS(victoires)))),ROWS($1:$9))),\"\")","v":0},{"$f":"IF(ROWS($1:$10)<=COUNTIF(joueurs,$B113),INDEX(victoires,SMALL(IF(joueurs=$B113,ROW(INDIRECT(\"1:\"&ROWS(victoires)))),ROWS($1:$10))),\"\")","v":0}]
[null,null,null,{"$f":"IF(ROWS($1:$11)<=COUNTIF(joueurs,$B113),INDEX(fautes,SMALL(IF(joueurs=$B113,ROW(INDIRECT(\"1:\"&ROWS(fautes)))),ROWS($1:$11))),\"\")","v":0},{"$f":"IF(ROWS($1:$12)<=COUNTIF(joueurs,$B113),INDEX(fautes,SMALL(IF(joueurs=$B113,ROW(INDIRECT(\"1:\"&ROWS(fautes)))),ROWS($1:$12))),\"\")","v":0},{"$f":"IF(ROWS($1:$13)<=COUNTIF(joueurs,$B113),INDEX(fautes,SMALL(IF(joueurs=$B113,ROW(INDIRECT(\"1:\"&ROWS(fautes)))),ROWS($1:$13))),\"\")","v":0},{"$f":"IF(ROWS($1:$14)<=COUNTIF(joueurs,$B113),INDEX(fautes,SMALL(IF(joueurs=$B113,ROW(INDIRECT(\"1:\"&ROWS(fautes)))),ROWS($1:$14))),\"\")","v":0},{"$f":"IF(ROWS($1:$15)<=COUNTIF(joueurs,$B113),INDEX(fautes,SMALL(IF(joueurs=$B113,ROW(INDIRECT(\"1:\"&ROWS(fautes)))),ROWS($1:$15))),\"\")","v":0},{"$f":"IF(ROWS($1:$16)<=COUNTIF(joueurs,$B113),INDEX(fautes,SMALL(IF(joueurs=$B113,ROW(INDIRECT(\"1:\"&ROWS(fautes)))),ROWS($1:$16))),\"\")","v":0},{"$f":"IF(ROWS($1:$17)<=COUNTIF(joueurs,$B113),INDEX(fautes,SMALL(IF(joueurs=$B113,ROW(INDIRECT(\"1:\"&ROWS(fautes)))),ROWS($1:$17))),\"\")","v":0},{"$f":"IF(ROWS($1:$18)<=COUNTIF(joueurs,$B113),INDEX(fautes,SMALL(IF(joueurs=$B113,ROW(INDIRECT(\"1:\"&ROWS(fautes)))),ROWS($1:$18))),\"\")","v":0},{"$f":"IF(ROWS($1:$19)<=COUNTIF(joueurs,$B113),INDEX(fautes,SMALL(IF(joueurs=$B113,ROW(INDIRECT(\"1:\"&ROWS(fautes)))),ROWS($1:$19))),\"\")","v":0},{"$f":"IF(ROWS($1:$20)<=COUNTIF(joueurs,$B113),INDEX(fautes,SMALL(IF(joueurs=$B113,ROW(INDIRECT(\"1:\"&ROWS(fautes)))),ROWS($1:$20))),\"\")","v":0},{"$f":"IF(ROWS($1:$11)<=COUNTIF(joueurs,$B113),INDEX(ballonperdus,SMALL(IF(joueurs=$B113,ROW(INDIRECT(\"1:\"&ROWS(ballonperdus)))),ROWS($1:$11))),\"\")","v":0},{"$f":"IF(ROWS($1:$12)<=COUNTIF(joueurs,$B113),INDEX(ballonperdus,SMALL(IF(joueurs=$B113,ROW(INDIRECT(\"1:\"&ROWS(ballonperdus)))),ROWS($1:$12))),\"\")","v":0},{"$f":"IF(ROWS($1:$13)<=COUNTIF(joueurs,$B113),INDEX(ballonperdus,SMALL(IF(joueurs=$B113,ROW(INDIRECT(\"1:\"&ROWS(ballonperdus)))),ROWS($1:$13))),\"\")","v":0},{"$f":"IF(ROWS($1:$14)<=COUNTIF(joueurs,$B113),INDEX(ballonperdus,SMALL(IF(joueurs=$B113,ROW(INDIRECT(\"1:\"&ROWS(ballonperdus)))),ROWS($1:$14))),\"\")","v":0},{"$f":"IF(ROWS($1:$15)<=COUNTIF(joueurs,$B113),INDEX(ballonperdus,SMALL(IF(joueurs=$B113,ROW(INDIRECT(\"1:\"&ROWS(ballonperdus)))),ROWS($1:$15))),\"\")","v":0},{"$f":"IF(ROWS($1:$16)<=COUNTIF(joueurs,$B113),INDEX(ballonperdus,SMALL(IF(joueurs=$B113,ROW(INDIRECT(\"1:\"&ROWS(ballonperdus)))),ROWS($1:$16))),\"\")","v":0},{"$f":"IF(ROWS($1:$17)<=COUNTIF(joueurs,$B113),INDEX(ballonperdus,SMALL(IF(joueurs=$B113,ROW(INDIRECT(\"1:\"&ROWS(ballonperdus)))),ROWS($1:$17))),\"\")","v":0},{"$f":"IF(ROWS($1:$18)<=COUNTIF(joueurs,$B113),INDEX(ballonperdus,SMALL(IF(joueurs=$B113,ROW(INDIRECT(\"1:\"&ROWS(ballonperdus)))),ROWS($1:$18))),\"\")","v":0},{"$f":"IF(ROWS($1:$19)<=COUNTIF(joueurs,$B113),INDEX(ballonperdus,SMALL(IF(joueurs=$B113,ROW(INDIRECT(\"1:\"&ROWS(ballonperdus)))),ROWS($1:$19))),\"\")","v":0},{"$f":"IF(ROWS($1:$20)<=COUNTIF(joueurs,$B113),INDEX(fautes,SMALL(IF(joueurs=$B113,ROW(INDIRECT(\"1:\"&ROWS(ballonperdus)))),ROWS($1:$20))),\"\")","v":0},{"$f":"IF(ROWS($1:$11)<=COUNTIF(joueurs,$B113),INDEX(interceptions,SMALL(IF(joueurs=$B113,ROW(INDIRECT(\"1:\"&ROWS(interceptions)))),ROWS($1:$11))),\"\")","v":0},{"$f":"IF(ROWS($1:$12)<=COUNTIF(joueurs,$B113),INDEX(interceptions,SMALL(IF(joueurs=$B113,ROW(INDIRECT(\"1:\"&ROWS(interceptions)))),ROWS($1:$12))),\"\")","v":0},{"$f":"IF(ROWS($1:$13)<=COUNTIF(joueurs,$B113),INDEX(interceptions,SMALL(IF(joueurs=$B113,ROW(INDIRECT(\"1:\"&ROWS(interceptions)))),ROWS($1:$13))),\"\")","v":0},{"$f":"IF(ROWS($1:$14)<=COUNTIF(joueurs,$B113),INDEX(interceptions,SMALL(IF(joueurs=$B113,ROW(INDIRECT(\"1:\"&ROWS(interceptions)))),ROWS($1:$14))),\"\")","v":0},{"$f":"IF(ROWS($1:$15)<=COUNTIF(joueurs,$B113),INDEX(interceptions,SMALL(IF(joueurs=$B113,ROW(INDIRECT(\"1:\"&ROWS(interceptions)))),ROWS($1:$15))),\"\")","v":0},{"$f":"IF(ROWS($1:$16)<=COUNTIF(joueurs,$B113),INDEX(interceptions,SMALL(IF(joueurs=$B113,ROW(INDIRECT(\"1:\"&ROWS(interceptions)))),ROWS($1:$16))),\"\")","v":0},{"$f":"IF(ROWS($1:$17)<=COUNTIF(joueurs,$B113),INDEX(interceptions,SMALL(IF(joueurs=$B113,ROW(INDIRECT(\"1:\"&ROWS(interceptions)))),ROWS($1:$17))),\"\")","v":0},{"$f":"IF(ROWS($1:$18)<=COUNTIF(joueurs,$B113),INDEX(interceptions,SMALL(IF(joueurs=$B113,ROW(INDIRECT(\"1:\"&ROWS(interceptions)))),ROWS($1:$18))),\"\")","v":0},{"$f":"IF(ROWS($1:$19)<=COUNTIF(joueurs,$B113),INDEX(interceptions,SMALL(IF(joueurs=$B113,ROW(INDIRECT(\"1:\"&ROWS(interceptions)))),ROWS($1:$19))),\"\")","v":0},{"$f":"IF(ROWS($1:$20)<=COUNTIF(joueurs,$B113),INDEX(interceptions,SMALL(IF(joueurs=$B113,ROW(INDIRECT(\"1:\"&ROWS(interceptions)))),ROWS($1:$20))),\"\")","v":0},{"$f":"IF(ROWS($1:$11)<=COUNTIF(joueurs,$B113),INDEX(ballonrecuperes,SMALL(IF(joueurs=$B113,ROW(INDIRECT(\"1:\"&ROWS(ballonrecuperes)))),ROWS($1:$11))),\"\")","v":0},{"$f":"IF(ROWS($1:$12)<=COUNTIF(joueurs,$B113),INDEX(ballonrecuperes,SMALL(IF(joueurs=$B113,ROW(INDIRECT(\"1:\"&ROWS(ballonrecuperes)))),ROWS($1:$12))),\"\")","v":0},{"$f":"IF(ROWS($1:$13)<=COUNTIF(joueurs,$B113),INDEX(ballonrecuperes,SMALL(IF(joueurs=$B113,ROW(INDIRECT(\"1:\"&ROWS(ballonrecuperes)))),ROWS($1:$13))),\"\")","v":0},{"$f":"IF(ROWS($1:$14)<=COUNTIF(joueurs,$B113),INDEX(ballonrecuperes,SMALL(IF(joueurs=$B113,ROW(INDIRECT(\"1:\"&ROWS(ballonrecuperes)))),ROWS($1:$14))),\"\")","v":0},{"$f":"IF(ROWS($1:$15)<=COUNTIF(joueurs,$B113),INDEX(ballonrecuperes,SMALL(IF(joueurs=$B113,ROW(INDIRECT(\"1:\"&ROWS(ballonrecuperes)))),ROWS($1:$15))),\"\")","v":0},{"$f":"IF(ROWS($1:$16)<=COUNTIF(joueurs,$B113),INDEX(ballonrecuperes,SMALL(IF(joueurs=$B113,ROW(INDIRECT(\"1:\"&ROWS(ballonrecuperes)))),ROWS($1:$16))),\"\")","v":0},{"$f":"IF(ROWS($1:$17)<=COUNTIF(joueurs,$B113),INDEX(ballonrecuperes,SMALL(IF(joueurs=$B113,ROW(INDIRECT(\"1:\"&ROWS(ballonrecuperes)))),ROWS($1:$17))),\"\")","v":0},{"$f":"IF(ROWS($1:$18)<=COUNTIF(joueurs,$B113),INDEX(ballonrecuperes,SMALL(IF(joueurs=$B113,ROW(INDIRECT(\"1:\"&ROWS(ballonrecuperes)))),ROWS($1:$18))),\"\")","v":0},{"$f":"IF(ROWS($1:$19)<=COUNTIF(joueurs,$B113),INDEX(ballonrecuperes,SMALL(IF(joueurs=$B113,ROW(INDIRECT(\"1:\"&ROWS(ballonrecuperes)))),ROWS($1:$19))),\"\")","v":0},{"$f":"IF(ROWS($1:$20)<=COUNTIF(joueurs,$B113),INDEX(ballonrecuperes,SMALL(IF(joueurs=$B113,ROW(INDIRECT(\"1:\"&ROWS(ballonrecuperes)))),ROWS($1:$20))),\"\")","v":0},{"$f":"IF(ROWS($1:$11)<=COUNTIF(joueurs,$B113),INDEX(tirs,SMALL(IF(joueurs=$B113,ROW(INDIRECT(\"1:\"&ROWS(tirs)))),ROWS($1:$11))),\"\")","v":0},{"$f":"IF(ROWS($1:$12)<=COUNTIF(joueurs,$B113),INDEX(tirs,SMALL(IF(joueurs=$B113,ROW(INDIRECT(\"1:\"&ROWS(tirs)))),ROWS($1:$12))),\"\")","v":0},{"$f":"IF(ROWS($1:$13)<=COUNTIF(joueurs,$B113),INDEX(tirs,SMALL(IF(joueurs=$B113,ROW(INDIRECT(\"1:\"&ROWS(tirs)))),ROWS($1:$13))),\"\")","v":0},{"$f":"IF(ROWS($1:$14)<=COUNTIF(joueurs,$B113),INDEX(tirs,SMALL(IF(joueurs=$B113,ROW(INDIRECT(\"1:\"&ROWS(tirs)))),ROWS($1:$14))),\"\")","v":0},{"$f":"IF(ROWS($1:$15)<=COUNTIF(joueurs,$B113),INDEX(tirs,SMALL(IF(joueurs=$B113,ROW(INDIRECT(\"1:\"&ROWS(tirs)))),ROWS($1:$15))),\"\")","v":0},{"$f":"IF(ROWS($1:$16)<=COUNTIF(joueurs,$B113),INDEX(tirs,SMALL(IF(joueurs=$B113,ROW(INDIRECT(\"1:\"&ROWS(tirs)))),ROWS($1:$16))),\"\")","v":0},{"$f":"IF(ROWS($1:$17)<=COUNTIF(joueurs,$B113),INDEX(tirs,SMALL(IF(joueurs=$B113,ROW(INDIRECT(\"1:\"&ROWS(tirs)))),ROWS($1:$17))),\"\")","v":0},{"$f":"IF(ROWS($1:$18)<=COUNTIF(joueurs,$B113),INDEX(tirs,SMALL(IF(joueurs=$B113,ROW(INDIRECT(\"1:\"&ROWS(tirs)))),ROWS($1:$18))),\"\")","v":0},{"$f":"IF(ROWS($1:$19)<=COUNTIF(joueurs,$B113),INDEX(tirs,SMALL(IF(joueurs=$B113,ROW(INDIRECT(\"1:\"&ROWS(tirs)))),ROWS($1:$19))),\"\")","v":0},{"$f":"IF(ROWS($1:$20)<=COUNTIF(joueurs,$B113),INDEX(tirs,SMALL(IF(joueurs=$B113,ROW(INDIRECT(\"1:\"&ROWS(tirs)))),ROWS($1:$20))),\"\")","v":0},{"$f":"IF(ROWS($1:$11)<=COUNTIF(joueurs,$B113),INDEX(bontirs,SMALL(IF(joueurs=$B113,ROW(INDIRECT(\"1:\"&ROWS(bontirs)))),ROWS($1:$11))),\"\")","v":0},{"$f":"IF(ROWS($1:$12)<=COUNTIF(joueurs,$B113),INDEX(bontirs,SMALL(IF(joueurs=$B113,ROW(INDIRECT(\"1:\"&ROWS(bontirs)))),ROWS($1:$12))),\"\")","v":0},{"$f":"IF(ROWS($1:$13)<=COUNTIF(joueurs,$B113),INDEX(bontirs,SMALL(IF(joueurs=$B113,ROW(INDIRECT(\"1:\"&ROWS(bontirs)))),ROWS($1:$13))),\"\")","v":0},{"$f":"IF(ROWS($1:$14)<=COUNTIF(joueurs,$B113),INDEX(bontirs,SMALL(IF(joueurs=$B113,ROW(INDIRECT(\"1:\"&ROWS(bontirs)))),ROWS($1:$14))),\"\")","v":0},{"$f":"IF(ROWS($1:$15)<=COUNTIF(joueurs,$B113),INDEX(bontirs,SMALL(IF(joueurs=$B113,ROW(INDIRECT(\"1:\"&ROWS(bontirs)))),ROWS($1:$15))),\"\")","v":0},{"$f":"IF(ROWS($1:$16)<=COUNTIF(joueurs,$B113),INDEX(bontirs,SMALL(IF(joueurs=$B113,ROW(INDIRECT(\"1:\"&ROWS(bontirs)))),ROWS($1:$16))),\"\")","v":0},{"$f":"IF(ROWS($1:$17)<=COUNTIF(joueurs,$B113),INDEX(bontirs,SMALL(IF(joueurs=$B113,ROW(INDIRECT(\"1:\"&ROWS(bontirs)))),ROWS($1:$17))),\"\")","v":0},{"$f":"IF(ROWS($1:$18)<=COUNTIF(joueurs,$B113),INDEX(bontirs,SMALL(IF(joueurs=$B113,ROW(INDIRECT(\"1:\"&ROWS(bontirs)))),ROWS($1:$18))),\"\")","v":0},{"$f":"IF(ROWS($1:$19)<=COUNTIF(joueurs,$B113),INDEX(bontirs,SMALL(IF(joueurs=$B113,ROW(INDIRECT(\"1:\"&ROWS(bontirs)))),ROWS($1:$19))),\"\")","v":0},{"$f":"IF(ROWS($1:$20)<=COUNTIF(joueurs,$B113),INDEX(bontirs,SMALL(IF(joueurs=$B113,ROW(INDIRECT(\"1:\"&ROWS(bontirs)))),ROWS($1:$20))),\"\")","v":0},{"$f":"IF(ROWS($1:$11)<=COUNTIF(joueurs,$B113),INDEX(points,SMALL(IF(joueurs=$B113,ROW(INDIRECT(\"1:\"&ROWS(points)))),ROWS($1:$11))),\"\")","v":0},{"$f":"IF(ROWS($1:$12)<=COUNTIF(joueurs,$B113),INDEX(points,SMALL(IF(joueurs=$B113,ROW(INDIRECT(\"1:\"&ROWS(points)))),ROWS($1:$12))),\"\")","v":0},{"$f":"IF(ROWS($1:$13)<=COUNTIF(joueurs,$B113),INDEX(points,SMALL(IF(joueurs=$B113,ROW(INDIRECT(\"1:\"&ROWS(points)))),ROWS($1:$13))),\"\")","v":0},{"$f":"IF(ROWS($1:$14)<=COUNTIF(joueurs,$B113),INDEX(points,SMALL(IF(joueurs=$B113,ROW(INDIRECT(\"1:\"&ROWS(points)))),ROWS($1:$14))),\"\")","v":0},{"$f":"IF(ROWS($1:$15)<=COUNTIF(joueurs,$B113),INDEX(points,SMALL(IF(joueurs=$B113,ROW(INDIRECT(\"1:\"&ROWS(points)))),ROWS($1:$15))),\"\")","v":0},{"$f":"IF(ROWS($1:$16)<=COUNTIF(joueurs,$B113),INDEX(points,SMALL(IF(joueurs=$B113,ROW(INDIRECT(\"1:\"&ROWS(points)))),ROWS($1:$16))),\"\")","v":0},{"$f":"IF(ROWS($1:$17)<=COUNTIF(joueurs,$B113),INDEX(points,SMALL(IF(joueurs=$B113,ROW(INDIRECT(\"1:\"&ROWS(points)))),ROWS($1:$17))),\"\")","v":0},{"$f":"IF(ROWS($1:$18)<=COUNTIF(joueurs,$B113),INDEX(points,SMALL(IF(joueurs=$B113,ROW(INDIRECT(\"1:\"&ROWS(points)))),ROWS($1:$18))),\"\")","v":0},{"$f":"IF(ROWS($1:$19)<=COUNTIF(joueurs,$B113),INDEX(points,SMALL(IF(joueurs=$B113,ROW(INDIRECT(\"1:\"&ROWS(points)))),ROWS($1:$19))),\"\")","v":0},{"$f":"IF(ROWS($1:$20)<=COUNTIF(points,$B113),INDEX(fautes,SMALL(IF(joueurs=$B113,ROW(INDIRECT(\"1:\"&ROWS(points)))),ROWS($1:$20))),\"\")","v":0},{"$f":"IF(ROWS($1:$11)<=COUNTIF(joueurs,$B113),INDEX(victoires,SMALL(IF(joueurs=$B113,ROW(INDIRECT(\"1:\"&ROWS(victoires)))),ROWS($1:$11))),\"\")","v":0},{"$f":"IF(ROWS($1:$12)<=COUNTIF(joueurs,$B113),INDEX(victoires,SMALL(IF(joueurs=$B113,ROW(INDIRECT(\"1:\"&ROWS(victoires)))),ROWS($1:$12))),\"\")","v":0},{"$f":"IF(ROWS($1:$13)<=COUNTIF(joueurs,$B113),INDEX(victoires,SMALL(IF(joueurs=$B113,ROW(INDIRECT(\"1:\"&ROWS(victoires)))),ROWS($1:$13))),\"\")","v":0},{"$f":"IF(ROWS($1:$14)<=COUNTIF(joueurs,$B113),INDEX(victoires,SMALL(IF(joueurs=$B113,ROW(INDIRECT(\"1:\"&ROWS(victoires)))),ROWS($1:$14))),\"\")","v":0},{"$f":"IF(ROWS($1:$15)<=COUNTIF(joueurs,$B113),INDEX(victoires,SMALL(IF(joueurs=$B113,ROW(INDIRECT(\"1:\"&ROWS(victoires)))),ROWS($1:$15))),\"\")","v":0},{"$f":"IF(ROWS($1:$16)<=COUNTIF(joueurs,$B113),INDEX(victoires,SMALL(IF(joueurs=$B113,ROW(INDIRECT(\"1:\"&ROWS(victoires)))),ROWS($1:$16))),\"\")","v":0},{"$f":"IF(ROWS($1:$17)<=COUNTIF(joueurs,$B113),INDEX(victoires,SMALL(IF(joueurs=$B113,ROW(INDIRECT(\"1:\"&ROWS(victoires)))),ROWS($1:$17))),\"\")","v":0},{"$f":"IF(ROWS($1:$18)<=COUNTIF(joueurs,$B113),INDEX(victoires,SMALL(IF(joueurs=$B113,ROW(INDIRECT(\"1:\"&ROWS(victoires)))),ROWS($1:$18))),\"\")","v":0},{"$f":"IF(ROWS($1:$19)<=COUNTIF(joueurs,$B113),INDEX(victoires,SMALL(IF(joueurs=$B113,ROW(INDIRECT(\"1:\"&ROWS(victoires)))),ROWS($1:$19))),\"\")","v":0},{"$f":"IF(ROWS($1:$20)<=COUNTIF(joueurs,$B113),INDEX(victoires,SMALL(IF(joueurs=$B113,ROW(INDIRECT(\"1:\"&ROWS(victoires)))),ROWS($1:$20))),\"\")","v":0}]
[null,null,null,{"$f":"IF(ROWS($1:$21)<=COUNTIF(joueurs,$B113),INDEX(fautes,SMALL(IF(joueurs=$B113,ROW(INDIRECT(\"1:\"&ROWS(fautes)))),ROWS($1:$21))),\"\")","v":0},{"$f":"IF(ROWS($1:$22)<=COUNTIF(joueurs,$B113),INDEX(fautes,SMALL(IF(joueurs=$B113,ROW(INDIRECT(\"1:\"&ROWS(fautes)))),ROWS($1:$22))),\"\")","v":0},{"$f":"IF(ROWS($1:$23)<=COUNTIF(joueurs,$B113),INDEX(fautes,SMALL(IF(joueurs=$B113,ROW(INDIRECT(\"1:\"&ROWS(fautes)))),ROWS($1:$23))),\"\")","v":0},{"$f":"IF(ROWS($1:$24)<=COUNTIF(joueurs,$B113),INDEX(fautes,SMALL(IF(joueurs=$B113,ROW(INDIRECT(\"1:\"&ROWS(fautes)))),ROWS($1:$24))),\"\")","v":0},{"$f":"IF(ROWS($1:$25)<=COUNTIF(joueurs,$B113),INDEX(fautes,SMALL(IF(joueurs=$B113,ROW(INDIRECT(\"1:\"&ROWS(fautes)))),ROWS($1:$25))),\"\")","v":0},{"$f":"IF(ROWS($1:$26)<=COUNTIF(joueurs,$B113),INDEX(fautes,SMALL(IF(joueurs=$B113,ROW(INDIRECT(\"1:\"&ROWS(fautes)))),ROWS($1:$26))),\"\")","v":0},{"$f":"IF(ROWS($1:$27)<=COUNTIF(joueurs,$B113),INDEX(fautes,SMALL(IF(joueurs=$B113,ROW(INDIRECT(\"1:\"&ROWS(fautes)))),ROWS($1:$27))),\"\")","v":0},{"$f":"IF(ROWS($1:$28)<=COUNTIF(joueurs,$B113),INDEX(fautes,SMALL(IF(joueurs=$B113,ROW(INDIRECT(\"1:\"&ROWS(fautes)))),ROWS($1:$28))),\"\")","v":0},{"$f":"IF(ROWS($1:$29)<=COUNTIF(joueurs,$B113),INDEX(fautes,SMALL(IF(joueurs=$B113,ROW(INDIRECT(\"1:\"&ROWS(fautes)))),ROWS($1:$29))),\"\")","v":0},{"$f":"IF(ROWS($1:$30)<=COUNTIF(joueurs,$B113),INDEX(fautes,SMALL(IF(joueurs=$B113,ROW(INDIRECT(\"1:\"&ROWS(fautes)))),ROWS($1:$30))),\"\")","v":0},{"$f":"IF(ROWS($1:$21)<=COUNTIF(joueurs,$B113),INDEX(ballonperdus,SMALL(IF(joueurs=$B113,ROW(INDIRECT(\"1:\"&ROWS(ballonperdus)))),ROWS($1:$21))),\"\")","v":0},{"$f":"IF(ROWS($1:$22)<=COUNTIF(joueurs,$B113),INDEX(ballonperdus,SMALL(IF(joueurs=$B113,ROW(INDIRECT(\"1:\"&ROWS(ballonperdus)))),ROWS($1:$22))),\"\")","v":0},{"$f":"IF(ROWS($1:$23)<=COUNTIF(joueurs,$B113),INDEX(ballonperdus,SMALL(IF(joueurs=$B113,ROW(INDIRECT(\"1:\"&ROWS(ballonperdus)))),ROWS($1:$23))),\"\")","v":0},{"$f":"IF(ROWS($1:$24)<=COUNTIF(joueurs,$B113),INDEX(ballonperdus,SMALL(IF(joueurs=$B113,ROW(INDIRECT(\"1:\"&ROWS(ballonperdus)))),ROWS($1:$24))),\"\")","v":0},{"$f":"IF(ROWS($1:$25)<=COUNTIF(joueurs,$B113),INDEX(ballonperdus,SMALL(IF(joueurs=$B113,ROW(INDIRECT(\"1:\"&ROWS(ballonperdus)))),ROWS($1:$25))),\"\")","v":0},{"$f":"IF(ROWS($1:$26)<=COUNTIF(joueurs,$B113),INDEX(ballonperdus,SMALL(IF(joueurs=$B113,ROW(INDIRECT(\"1:\"&ROWS(ballonperdus)))),ROWS($1:$26))),\"\")","v":0},{"$f":"IF(ROWS($1:$27)<=COUNTIF(joueurs,$B113),INDEX(ballonperdus,SMALL(IF(joueurs=$B113,ROW(INDIRECT(\"1:\"&ROWS(ballonperdus)))),ROWS($1:$27))),\"\")","v":0},{"$f":"IF(ROWS($1:$28)<=COUNTIF(joueurs,$B113),INDEX(ballonperdus,SMALL(IF(joueurs=$B113,ROW(INDIRECT(\"1:\"&ROWS(ballonperdus)))),ROWS($1:$28))),\"\")","v":0},{"$f":"IF(ROWS($1:$29)<=COUNTIF(joueurs,$B113),INDEX(ballonperdus,SMALL(IF(joueurs=$B113,ROW(INDIRECT(\"1:\"&ROWS(ballonperdus)))),ROWS($1:$29))),\"\")","v":0},{"$f":"IF(ROWS($1:$30)<=COUNTIF(joueurs,$B113),INDEX(ballonperdus,SMALL(IF(joueurs=$B113,ROW(INDIRECT(\"1:\"&ROWS(ballonperdus)))),ROWS($1:$30))),\"\")","v":0},{"$f":"IF(ROWS($1:$21)<=COUNTIF(joueurs,$B113),INDEX(interceptions,SMALL(IF(joueurs=$B113,ROW(INDIRECT(\"1:\"&ROWS(interceptions)))),ROWS($1:$21))),\"\")","v":0},{"$f":"IF(ROWS($1:$22)<=COUNTIF(joueurs,$B113),INDEX(interceptions,SMALL(IF(joueurs=$B113,ROW(INDIRECT(\"1:\"&ROWS(interceptions)))),ROWS($1:$22))),\"\")","v":0},{"$f":"IF(ROWS($1:$23)<=COUNTIF(joueurs,$B113),INDEX(interceptions,SMALL(IF(joueurs=$B113,ROW(INDIRECT(\"1:\"&ROWS(interceptions)))),ROWS($1:$23))),\"\")","v":0},{"$f":"IF(ROWS($1:$24)<=COUNTIF(joueurs,$B113),INDEX(interceptions,SMALL(IF(joueurs=$B113,ROW(INDIRECT(\"1:\"&ROWS(interceptions)))),ROWS($1:$24))),\"\")","v":0},{"$f":"IF(ROWS($1:$25)<=COUNTIF(joueurs,$B113),INDEX(interceptions,SMALL(IF(joueurs=$B113,ROW(INDIRECT(\"1:\"&ROWS(interceptions)))),ROWS($1:$25))),\"\")","v":0},{"$f":"IF(ROWS($1:$26)<=COUNTIF(joueurs,$B113),INDEX(interceptions,SMALL(IF(joueurs=$B113,ROW(INDIRECT(\"1:\"&ROWS(interceptions)))),ROWS($1:$26))),\"\")","v":0},{"$f":"IF(ROWS($1:$27)<=COUNTIF(joueurs,$B113),INDEX(interceptions,SMALL(IF(joueurs=$B113,ROW(INDIRECT(\"1:\"&ROWS(interceptions)))),ROWS($1:$27))),\"\")","v":0},{"$f":"IF(ROWS($1:$28)<=COUNTIF(joueurs,$B113),INDEX(interceptions,SMALL(IF(joueurs=$B113,ROW(INDIRECT(\"1:\"&ROWS(interceptions)))),ROWS($1:$28))),\"\")","v":0},{"$f":"IF(ROWS($1:$29)<=COUNTIF(joueurs,$B113),INDEX(interceptions,SMALL(IF(joueurs=$B113,ROW(INDIRECT(\"1:\"&ROWS(interceptions)))),ROWS($1:$29))),\"\")","v":0},{"$f":"IF(ROWS($1:$30)<=COUNTIF(joueurs,$B113),INDEX(interceptions,SMALL(IF(joueurs=$B113,ROW(INDIRECT(\"1:\"&ROWS(interceptions)))),ROWS($1:$30))),\"\")","v":0},{"$f":"IF(ROWS($1:$21)<=COUNTIF(joueurs,$B113),INDEX(ballonrecuperes,SMALL(IF(joueurs=$B113,ROW(INDIRECT(\"1:\"&ROWS(ballonrecuperes)))),ROWS($1:$21))),\"\")","v":0},{"$f":"IF(ROWS($1:$22)<=COUNTIF(joueurs,$B113),INDEX(ballonrecuperes,SMALL(IF(joueurs=$B113,ROW(INDIRECT(\"1:\"&ROWS(ballonrecuperes)))),ROWS($1:$22))),\"\")","v":0},{"$f":"IF(ROWS($1:$23)<=COUNTIF(joueurs,$B113),INDEX(ballonrecuperes,SMALL(IF(joueurs=$B113,ROW(INDIRECT(\"1:\"&ROWS(ballonrecuperes)))),ROWS($1:$23))),\"\")","v":0},{"$f":"IF(ROWS($1:$24)<=COUNTIF(joueurs,$B113),INDEX(ballonrecuperes,SMALL(IF(joueurs=$B113,ROW(INDIRECT(\"1:\"&ROWS(ballonrecuperes)))),ROWS($1:$24))),\"\")","v":0},{"$f":"IF(ROWS($1:$25)<=COUNTIF(joueurs,$B113),INDEX(ballonrecuperes,SMALL(IF(joueurs=$B113,ROW(INDIRECT(\"1:\"&ROWS(ballonrecuperes)))),ROWS($1:$25))),\"\")","v":0},{"$f":"IF(ROWS($1:$26)<=COUNTIF(joueurs,$B113),INDEX(ballonrecuperes,SMALL(IF(joueurs=$B113,ROW(INDIRECT(\"1:\"&ROWS(ballonrecuperes)))),ROWS($1:$26))),\"\")","v":0},{"$f":"IF(ROWS($1:$27)<=COUNTIF(joueurs,$B113),INDEX(ballonrecuperes,SMALL(IF(joueurs=$B113,ROW(INDIRECT(\"1:\"&ROWS(ballonrecuperes)))),ROWS($1:$27))),\"\")","v":0},{"$f":"IF(ROWS($1:$28)<=COUNTIF(joueurs,$B113),INDEX(ballonrecuperes,SMALL(IF(joueurs=$B113,ROW(INDIRECT(\"1:\"&ROWS(ballonrecuperes)))),ROWS($1:$28))),\"\")","v":0},{"$f":"IF(ROWS($1:$29)<=COUNTIF(joueurs,$B113),INDEX(ballonrecuperes,SMALL(IF(joueurs=$B113,ROW(INDIRECT(\"1:\"&ROWS(ballonrecuperes)))),ROWS($1:$29))),\"\")","v":0},{"$f":"IF(ROWS($1:$30)<=COUNTIF(joueurs,$B113),INDEX(ballonrecuperes,SMALL(IF(joueurs=$B113,ROW(INDIRECT(\"1:\"&ROWS(ballonrecuperes)))),ROWS($1:$30))),\"\")","v":0},{"$f":"IF(ROWS($1:$21)<=COUNTIF(joueurs,$B113),INDEX(tirs,SMALL(IF(joueurs=$B113,ROW(INDIRECT(\"1:\"&ROWS(tirs)))),ROWS($1:$21))),\"\")","v":0},{"$f":"IF(ROWS($1:$22)<=COUNTIF(joueurs,$B113),INDEX(tirs,SMALL(IF(joueurs=$B113,ROW(INDIRECT(\"1:\"&ROWS(tirs)))),ROWS($1:$22))),\"\")","v":0},{"$f":"IF(ROWS($1:$23)<=COUNTIF(joueurs,$B113),INDEX(tirs,SMALL(IF(joueurs=$B113,ROW(INDIRECT(\"1:\"&ROWS(tirs)))),ROWS($1:$23))),\"\")","v":0},{"$f":"IF(ROWS($1:$24)<=COUNTIF(joueurs,$B113),INDEX(tirs,SMALL(IF(joueurs=$B113,ROW(INDIRECT(\"1:\"&ROWS(tirs)))),ROWS($1:$24))),\"\")","v":0},{"$f":"IF(ROWS($1:$25)<=COUNTIF(joueurs,$B113),INDEX(tirs,SMALL(IF(joueurs=$B113,ROW(INDIRECT(\"1:\"&ROWS(tirs)))),ROWS($1:$25))),\"\")","v":0},{"$f":"IF(ROWS($1:$26)<=COUNTIF(joueurs,$B113),INDEX(tirs,SMALL(IF(joueurs=$B113,ROW(INDIRECT(\"1:\"&ROWS(tirs)))),ROWS($1:$26))),\"\")","v":0},{"$f":"IF(ROWS($1:$27)<=COUNTIF(joueurs,$B113),INDEX(tirs,SMALL(IF(joueurs=$B113,ROW(INDIRECT(\"1:\"&ROWS(tirs)))),ROWS($1:$27))),\"\")","v":0},{"$f":"IF(ROWS($1:$28)<=COUNTIF(joueurs,$B113),INDEX(tirs,SMALL(IF(joueurs=$B113,ROW(INDIRECT(\"1:\"&ROWS(tirs)))),ROWS($1:$28))),\"\")","v":0},{"$f":"IF(ROWS($1:$29)<=COUNTIF(joueurs,$B113),INDEX(tirs,SMALL(IF(joueurs=$B113,ROW(INDIRECT(\"1:\"&ROWS(tirs)))),ROWS($1:$29))),\"\")","v":0},{"$f":"IF(ROWS($1:$30)<=COUNTIF(joueurs,$B113),INDEX(tirs,SMALL(IF(joueurs=$B113,ROW(INDIRECT(\"1:\"&ROWS(tirs)))),ROWS($1:$30))),\"\")","v":0},{"$f":"IF(ROWS($1:$21)<=COUNTIF(joueurs,$B113),INDEX(bontirs,SMALL(IF(joueurs=$B113,ROW(INDIRECT(\"1:\"&ROWS(bontirs)))),ROWS($1:$21))),\"\")","v":0},{"$f":"IF(ROWS($1:$22)<=COUNTIF(joueurs,$B113),INDEX(bontirs,SMALL(IF(joueurs=$B113,ROW(INDIRECT(\"1:\"&ROWS(bontirs)))),ROWS($1:$22))),\"\")","v":0},{"$f":"IF(ROWS($1:$23)<=COUNTIF(joueurs,$B113),INDEX(bontirs,SMALL(IF(joueurs=$B113,ROW(INDIRECT(\"1:\"&ROWS(bontirs)))),ROWS($1:$23))),\"\")","v":0},{"$f":"IF(ROWS($1:$24)<=COUNTIF(joueurs,$B113),INDEX(bontirs,SMALL(IF(joueurs=$B113,ROW(INDIRECT(\"1:\"&ROWS(bontirs)))),ROWS($1:$24))),\"\")","v":0},{"$f":"IF(ROWS($1:$25)<=COUNTIF(joueurs,$B113),INDEX(bontirs,SMALL(IF(joueurs=$B113,ROW(INDIRECT(\"1:\"&ROWS(bontirs)))),ROWS($1:$25))),\"\")","v":0},{"$f":"IF(ROWS($1:$26)<=COUNTIF(joueurs,$B113),INDEX(bontirs,SMALL(IF(joueurs=$B113,ROW(INDIRECT(\"1:\"&ROWS(bontirs)))),ROWS($1:$26))),\"\")","v":0},{"$f":"IF(ROWS($1:$27)<=COUNTIF(joueurs,$B113),INDEX(bontirs,SMALL(IF(joueurs=$B113,ROW(INDIRECT(\"1:\"&ROWS(bontirs)))),ROWS($1:$27))),\"\")","v":0},{"$f":"IF(ROWS($1:$28)<=COUNTIF(joueurs,$B113),INDEX(bontirs,SMALL(IF(joueurs=$B113,ROW(INDIRECT(\"1:\"&ROWS(bontirs)))),ROWS($1:$28))),\"\")","v":0},{"$f":"IF(ROWS($1:$29)<=COUNTIF(joueurs,$B113),INDEX(bontirs,SMALL(IF(joueurs=$B113,ROW(INDIRECT(\"1:\"&ROWS(bontirs)))),ROWS($1:$29))),\"\")","v":0},{"$f":"IF(ROWS($1:$30)<=COUNTIF(joueurs,$B113),INDEX(bontirs,SMALL(IF(joueurs=$B113,ROW(INDIRECT(\"1:\"&ROWS(bontirs)))),ROWS($1:$30))),\"\")","v":0},{"$f":"IF(ROWS($1:$21)<=COUNTIF(joueurs,$B113),INDEX(points,SMALL(IF(joueurs=$B113,ROW(INDIRECT(\"1:\"&ROWS(points)))),ROWS($1:$21))),\"\")","v":0},{"$f":"IF(ROWS($1:$22)<=COUNTIF(joueurs,$B113),INDEX(points,SMALL(IF(joueurs=$B113,ROW(INDIRECT(\"1:\"&ROWS(points)))),ROWS($1:$22))),\"\")","v":0},{"$f":"IF(ROWS($1:$23)<=COUNTIF(joueurs,$B113),INDEX(points,SMALL(IF(joueurs=$B113,ROW(INDIRECT(\"1:\"&ROWS(points)))),ROWS($1:$23))),\"\")","v":0},{"$f":"IF(ROWS($1:$24)<=COUNTIF(joueurs,$B113),INDEX(points,SMALL(IF(joueurs=$B113,ROW(INDIRECT(\"1:\"&ROWS(points)))),ROWS($1:$24))),\"\")","v":0},{"$f":"IF(ROWS($1:$25)<=COUNTIF(joueurs,$B113),INDEX(points,SMALL(IF(joueurs=$B113,ROW(INDIRECT(\"1:\"&ROWS(points)))),ROWS($1:$25))),\"\")","v":0},{"$f":"IF(ROWS($1:$26)<=COUNTIF(joueurs,$B113),INDEX(points,SMALL(IF(joueurs=$B113,ROW(INDIRECT(\"1:\"&ROWS(points)))),ROWS($1:$26))),\"\")","v":0},{"$f":"IF(ROWS($1:$27)<=COUNTIF(joueurs,$B113),INDEX(points,SMALL(IF(joueurs=$B113,ROW(INDIRECT(\"1:\"&ROWS(points)))),ROWS($1:$27))),\"\")","v":0},{"$f":"IF(ROWS($1:$28)<=COUNTIF(joueurs,$B113),INDEX(points,SMALL(IF(joueurs=$B113,ROW(INDIRECT(\"1:\"&ROWS(points)))),ROWS($1:$28))),\"\")","v":0},{"$f":"IF(ROWS($1:$29)<=COUNTIF(joueurs,$B113),INDEX(points,SMALL(IF(joueurs=$B113,ROW(INDIRECT(\"1:\"&ROWS(points)))),ROWS($1:$29))),\"\")","v":0},{"$f":"IF(ROWS($1:$30)<=COUNTIF(joueurs,$B113),INDEX(points,SMALL(IF(joueurs=$B113,ROW(INDIRECT(\"1:\"&ROWS(points)))),ROWS($1:$30))),\"\")","v":0},{"$f":"IF(ROWS($1:$21)<=COUNTIF(joueurs,$B113),INDEX(victoires,SMALL(IF(joueurs=$B113,ROW(INDIRECT(\"1:\"&ROWS(victoires)))),ROWS($1:$21))),\"\")","v":0},{"$f":"IF(ROWS($1:$22)<=COUNTIF(joueurs,$B113),INDEX(victoires,SMALL(IF(joueurs=$B113,ROW(INDIRECT(\"1:\"&ROWS(victoires)))),ROWS($1:$22))),\"\")","v":0},{"$f":"IF(ROWS($1:$23)<=COUNTIF(joueurs,$B113),INDEX(victoires,SMALL(IF(joueurs=$B113,ROW(INDIRECT(\"1:\"&ROWS(victoires)))),ROWS($1:$23))),\"\")","v":0},{"$f":"IF(ROWS($1:$24)<=COUNTIF(joueurs,$B113),INDEX(victoires,SMALL(IF(joueurs=$B113,ROW(INDIRECT(\"1:\"&ROWS(victoires)))),ROWS($1:$24))),\"\")","v":0},{"$f":"IF(ROWS($1:$25)<=COUNTIF(joueurs,$B113),INDEX(victoires,SMALL(IF(joueurs=$B113,ROW(INDIRECT(\"1:\"&ROWS(victoires)))),ROWS($1:$25))),\"\")","v":0},{"$f":"IF(ROWS($1:$26)<=COUNTIF(joueurs,$B113),INDEX(victoires,SMALL(IF(joueurs=$B113,ROW(INDIRECT(\"1:\"&ROWS(victoires)))),ROWS($1:$26))),\"\")","v":0},{"$f":"IF(ROWS($1:$27)<=COUNTIF(joueurs,$B113),INDEX(victoires,SMALL(IF(joueurs=$B113,ROW(INDIRECT(\"1:\"&ROWS(victoires)))),ROWS($1:$27))),\"\")","v":0},{"$f":"IF(ROWS($1:$28)<=COUNTIF(joueurs,$B113),INDEX(victoires,SMALL(IF(joueurs=$B113,ROW(INDIRECT(\"1:\"&ROWS(victoires)))),ROWS($1:$28))),\"\")","v":0},{"$f":"IF(ROWS($1:$29)<=COUNTIF(joueurs,$B113),INDEX(victoires,SMALL(IF(joueurs=$B113,ROW(INDIRECT(\"1:\"&ROWS(victoires)))),ROWS($1:$29))),\"\")","v":0},{"$f":"IF(ROWS($1:$30)<=COUNTIF(joueurs,$B113),INDEX(victoires,SMALL(IF(joueurs=$B113,ROW(INDIRECT(\"1:\"&ROWS(victoires)))),ROWS($1:$30))),\"\")","v":0}]
[null,null,null,{"$f":"IF(ROWS($1:$31)<=COUNTIF(joueurs,$B113),INDEX(fautes,SMALL(IF(joueurs=$B113,ROW(INDIRECT(\"1:\"&ROWS(fautes)))),ROWS($1:$31))),\"\")","v":0},{"$f":"IF(ROWS($1:$32)<=COUNTIF(joueurs,$B113),INDEX(fautes,SMALL(IF(joueurs=$B113,ROW(INDIRECT(\"1:\"&ROWS(fautes)))),ROWS($1:$32))),\"\")","v":0},{"$f":"IF(ROWS($1:$33)<=COUNTIF(joueurs,$B113),INDEX(fautes,SMALL(IF(joueurs=$B113,ROW(INDIRECT(\"1:\"&ROWS(fautes)))),ROWS($1:$33))),\"\")","v":0},{"$f":"IF(ROWS($1:$34)<=COUNTIF(joueurs,$B113),INDEX(fautes,SMALL(IF(joueurs=$B113,ROW(INDIRECT(\"1:\"&ROWS(fautes)))),ROWS($1:$34))),\"\")","v":0},{"$f":"IF(ROWS($1:$35)<=COUNTIF(joueurs,$B113),INDEX(fautes,SMALL(IF(joueurs=$B113,ROW(INDIRECT(\"1:\"&ROWS(fautes)))),ROWS($1:$35))),\"\")","v":0},{"$f":"IF(ROWS($1:$36)<=COUNTIF(joueurs,$B113),INDEX(fautes,SMALL(IF(joueurs=$B113,ROW(INDIRECT(\"1:\"&ROWS(fautes)))),ROWS($1:$36))),\"\")","v":0},{"$f":"IF(ROWS($1:$37)<=COUNTIF(joueurs,$B113),INDEX(fautes,SMALL(IF(joueurs=$B113,ROW(INDIRECT(\"1:\"&ROWS(fautes)))),ROWS($1:$37))),\"\")","v":0},{"$f":"IF(ROWS($1:$38)<=COUNTIF(joueurs,$B113),INDEX(fautes,SMALL(IF(joueurs=$B113,ROW(INDIRECT(\"1:\"&ROWS(fautes)))),ROWS($1:$38))),\"\")","v":0},{"$f":"IF(ROWS($1:$39)<=COUNTIF(joueurs,$B113),INDEX(fautes,SMALL(IF(joueurs=$B113,ROW(INDIRECT(\"1:\"&ROWS(fautes)))),ROWS($1:$39))),\"\")","v":0},{"$f":"IF(ROWS($1:$40)<=COUNTIF(joueurs,$B113),INDEX(fautes,SMALL(IF(joueurs=$B113,ROW(INDIRECT(\"1:\"&ROWS(fautes)))),ROWS($1:$40))),\"\")","v":0},{"$f":"IF(ROWS($1:$31)<=COUNTIF(joueurs,$B113),INDEX(ballonperdus,SMALL(IF(joueurs=$B113,ROW(INDIRECT(\"1:\"&ROWS(ballonperdus)))),ROWS($1:$31))),\"\")","v":0},{"$f":"IF(ROWS($1:$32)<=COUNTIF(joueurs,$B113),INDEX(ballonperdus,SMALL(IF(joueurs=$B113,ROW(INDIRECT(\"1:\"&ROWS(ballonperdus)))),ROWS($1:$32))),\"\")","v":0},{"$f":"IF(ROWS($1:$33)<=COUNTIF(joueurs,$B113),INDEX(ballonperdus,SMALL(IF(joueurs=$B113,ROW(INDIRECT(\"1:\"&ROWS(ballonperdus)))),ROWS($1:$33))),\"\")","v":0},{"$f":"IF(ROWS($1:$34)<=COUNTIF(joueurs,$B113),INDEX(ballonperdus,SMALL(IF(joueurs=$B113,ROW(INDIRECT(\"1:\"&ROWS(ballonperdus)))),ROWS($1:$34))),\"\")","v":0},{"$f":"IF(ROWS($1:$35)<=COUNTIF(joueurs,$B113),INDEX(ballonperdus,SMALL(IF(joueurs=$B113,ROW(INDIRECT(\"1:\"&ROWS(ballonperdus)))),ROWS($1:$35))),\"\")","v":0},{"$f":"IF(ROWS($1:$36)<=COUNTIF(joueurs,$B113),INDEX(ballonperdus,SMALL(IF(joueurs=$B113,ROW(INDIRECT(\"1:\"&ROWS(ballonperdus)))),ROWS($1:$36))),\"\")","v":0},{"$f":"IF(ROWS($1:$37)<=COUNTIF(joueurs,$B113),INDEX(ballonperdus,SMALL(IF(joueurs=$B113,ROW(INDIRECT(\"1:\"&ROWS(ballonperdus)))),ROWS($1:$37))),\"\")","v":0},{"$f":"IF(ROWS($1:$38)<=COUNTIF(joueurs,$B113),INDEX(ballonperdus,SMALL(IF(joueurs=$B113,ROW(INDIRECT(\"1:\"&ROWS(ballonperdus)))),ROWS($1:$38))),\"\")","v":0},{"$f":"IF(ROWS($1:$39)<=COUNTIF(joueurs,$B113),INDEX(ballonperdus,SMALL(IF(joueurs=$B113,ROW(INDIRECT(\"1:\"&ROWS(ballonperdus)))),ROWS($1:$39))),\"\")","v":0},{"$f":"IF(ROWS($1:$40)<=COUNTIF(joueurs,$B113),INDEX(ballonperdus,SMALL(IF(joueurs=$B113,ROW(INDIRECT(\"1:\"&ROWS(ballonperdus)))),ROWS($1:$40))),\"\")","v":0},{"$f":"IF(ROWS($1:$31)<=COUNTIF(joueurs,$B113),INDEX(interceptions,SMALL(IF(joueurs=$B113,ROW(INDIRECT(\"1:\"&ROWS(interceptions)))),ROWS($1:$31))),\"\")","v":0},{"$f":"IF(ROWS($1:$32)<=COUNTIF(joueurs,$B113),INDEX(interceptions,SMALL(IF(joueurs=$B113,ROW(INDIRECT(\"1:\"&ROWS(interceptions)))),ROWS($1:$32))),\"\")","v":0},{"$f":"IF(ROWS($1:$33)<=COUNTIF(joueurs,$B113),INDEX(interceptions,SMALL(IF(joueurs=$B113,ROW(INDIRECT(\"1:\"&ROWS(interceptions)))),ROWS($1:$33))),\"\")","v":0},{"$f":"IF(ROWS($1:$34)<=COUNTIF(joueurs,$B113),INDEX(interceptions,SMALL(IF(joueurs=$B113,ROW(INDIRECT(\"1:\"&ROWS(interceptions)))),ROWS($1:$34))),\"\")","v":0},{"$f":"IF(ROWS($1:$35)<=COUNTIF(joueurs,$B113),INDEX(interceptions,SMALL(IF(joueurs=$B113,ROW(INDIRECT(\"1:\"&ROWS(interceptions)))),ROWS($1:$35))),\"\")","v":0},{"$f":"IF(ROWS($1:$36)<=COUNTIF(joueurs,$B113),INDEX(interceptions,SMALL(IF(joueurs=$B113,ROW(INDIRECT(\"1:\"&ROWS(interceptions)))),ROWS($1:$36))),\"\")","v":0},{"$f":"IF(ROWS($1:$37)<=COUNTIF(joueurs,$B113),INDEX(interceptions,SMALL(IF(joueurs=$B113,ROW(INDIRECT(\"1:\"&ROWS(interceptions)))),ROWS($1:$37))),\"\")","v":0},{"$f":"IF(ROWS($1:$38)<=COUNTIF(joueurs,$B113),INDEX(interceptions,SMALL(IF(joueurs=$B113,ROW(INDIRECT(\"1:\"&ROWS(interceptions)))),ROWS($1:$38))),\"\")","v":0},{"$f":"IF(ROWS($1:$39)<=COUNTIF(joueurs,$B113),INDEX(interceptions,SMALL(IF(joueurs=$B113,ROW(INDIRECT(\"1:\"&ROWS(interceptions)))),ROWS($1:$39))),\"\")","v":0},{"$f":"IF(ROWS($1:$40)<=COUNTIF(joueurs,$B113),INDEX(interceptions,SMALL(IF(joueurs=$B113,ROW(INDIRECT(\"1:\"&ROWS(interceptions)))),ROWS($1:$40))),\"\")","v":0},{"$f":"IF(ROWS($1:$31)<=COUNTIF(joueurs,$B113),INDEX(ballonrecuperes,SMALL(IF(joueurs=$B113,ROW(INDIRECT(\"1:\"&ROWS(ballonrecuperes)))),ROWS($1:$31))),\"\")","v":0},{"$f":"IF(ROWS($1:$32)<=COUNTIF(joueurs,$B113),INDEX(ballonrecuperes,SMALL(IF(joueurs=$B113,ROW(INDIRECT(\"1:\"&ROWS(ballonrecuperes)))),ROWS($1:$32))),\"\")","v":0},{"$f":"IF(ROWS($1:$33)<=COUNTIF(joueurs,$B113),INDEX(ballonrecuperes,SMALL(IF(joueurs=$B113,ROW(INDIRECT(\"1:\"&ROWS(ballonrecuperes)))),ROWS($1:$33))),\"\")","v":0},{"$f":"IF(ROWS($1:$34)<=COUNTIF(joueurs,$B113),INDEX(ballonrecuperes,SMALL(IF(joueurs=$B113,ROW(INDIRECT(\"1:\"&ROWS(ballonrecuperes)))),ROWS($1:$34))),\"\")","v":0},{"$f":"IF(ROWS($1:$35)<=COUNTIF(joueurs,$B113),INDEX(ballonrecuperes,SMALL(IF(joueurs=$B113,ROW(INDIRECT(\"1:\"&ROWS(ballonrecuperes)))),ROWS($1:$35))),\"\")","v":0},{"$f":"IF(ROWS($1:$36)<=COUNTIF(joueurs,$B113),INDEX(ballonrecuperes,SMALL(IF(joueurs=$B113,ROW(INDIRECT(\"1:\"&ROWS(ballonrecuperes)))),ROWS($1:$36))),\"\")","v":0},{"$f":"IF(ROWS($1:$37)<=COUNTIF(joueurs,$B113),INDEX(ballonrecuperes,SMALL(IF(joueurs=$B113,ROW(INDIRECT(\"1:\"&ROWS(ballonrecuperes)))),ROWS($1:$37))),\"\")","v":0},{"$f":"IF(ROWS($1:$38)<=COUNTIF(joueurs,$B113),INDEX(ballonrecuperes,SMALL(IF(joueurs=$B113,ROW(INDIRECT(\"1:\"&ROWS(ballonrecuperes)))),ROWS($1:$38))),\"\")","v":0},{"$f":"IF(ROWS($1:$39)<=COUNTIF(joueurs,$B113),INDEX(ballonrecuperes,SMALL(IF(joueurs=$B113,ROW(INDIRECT(\"1:\"&ROWS(ballonrecuperes)))),ROWS($1:$39))),\"\")","v":0},{"$f":"IF(ROWS($1:$40)<=COUNTIF(joueurs,$B113),INDEX(ballonrecuperes,SMALL(IF(joueurs=$B113,ROW(INDIRECT(\"1:\"&ROWS(ballonrecuperes)))),ROWS($1:$40))),\"\")","v":0},{"$f":"IF(ROWS($1:$31)<=COUNTIF(joueurs,$B113),INDEX(tirs,SMALL(IF(joueurs=$B113,ROW(INDIRECT(\"1:\"&ROWS(tirs)))),ROWS($1:$31))),\"\")","v":0},{"$f":"IF(ROWS($1:$32)<=COUNTIF(joueurs,$B113),INDEX(tirs,SMALL(IF(joueurs=$B113,ROW(INDIRECT(\"1:\"&ROWS(tirs)))),ROWS($1:$32))),\"\")","v":0},{"$f":"IF(ROWS($1:$33)<=COUNTIF(joueurs,$B113),INDEX(tirs,SMALL(IF(joueurs=$B113,ROW(INDIRECT(\"1:\"&ROWS(tirs)))),ROWS($1:$33))),\"\")","v":0},{"$f":"IF(ROWS($1:$34)<=COUNTIF(joueurs,$B113),INDEX(tirs,SMALL(IF(joueurs=$B113,ROW(INDIRECT(\"1:\"&ROWS(tirs)))),ROWS($1:$34))),\"\")","v":0},{"$f":"IF(ROWS($1:$35)<=COUNTIF(joueurs,$B113),INDEX(tirs,SMALL(IF(joueurs=$B113,ROW(INDIRECT(\"1:\"&ROWS(tirs)))),ROWS($1:$35))),\"\")","v":0},{"$f":"IF(ROWS($1:$36)<=COUNTIF(joueurs,$B113),INDEX(tirs,SMALL(IF(joueurs=$B113,ROW(INDIRECT(\"1:\"&ROWS(tirs)))),ROWS($1:$36))),\"\")","v":0},{"$f":"IF(ROWS($1:$37)<=COUNTIF(joueurs,$B113),INDEX(tirs,SMALL(IF(joueurs=$B113,ROW(INDIRECT(\"1:\"&ROWS(tirs)))),ROWS($1:$37))),\"\")","v":0},{"$f":"IF(ROWS($1:$38)<=COUNTIF(joueurs,$B113),INDEX(tirs,SMALL(IF(joueurs=$B113,ROW(INDIRECT(\"1:\"&ROWS(tirs)))),ROWS($1:$38))),\"\")","v":0},{"$f":"IF(ROWS($1:$39)<=COUNTIF(joueurs,$B113),INDEX(tirs,SMALL(IF(joueurs=$B113,ROW(INDIRECT(\"1:\"&ROWS(tirs)))),ROWS($1:$39))),\"\")","v":0},{"$f":"IF(ROWS($1:$40)<=COUNTIF(joueurs,$B113),INDEX(tirs,SMALL(IF(joueurs=$B113,ROW(INDIRECT(\"1:\"&ROWS(tirs)))),ROWS($1:$40))),\"\")","v":0},{"$f":"IF(ROWS($1:$31)<=COUNTIF(joueurs,$B113),INDEX(bontirs,SMALL(IF(joueurs=$B113,ROW(INDIRECT(\"1:\"&ROWS(bontirs)))),ROWS($1:$31))),\"\")","v":0},{"$f":"IF(ROWS($1:$32)<=COUNTIF(joueurs,$B113),INDEX(bontirs,SMALL(IF(joueurs=$B113,ROW(INDIRECT(\"1:\"&ROWS(bontirs)))),ROWS($1:$32))),\"\")","v":0},{"$f":"IF(ROWS($1:$33)<=COUNTIF(joueurs,$B113),INDEX(bontirs,SMALL(IF(joueurs=$B113,ROW(INDIRECT(\"1:\"&ROWS(bontirs)))),ROWS($1:$33))),\"\")","v":0},{"$f":"IF(ROWS($1:$34)<=COUNTIF(joueurs,$B113),INDEX(bontirs,SMALL(IF(joueurs=$B113,ROW(INDIRECT(\"1:\"&ROWS(bontirs)))),ROWS($1:$34))),\"\")","v":0},{"$f":"IF(ROWS($1:$35)<=COUNTIF(joueurs,$B113),INDEX(bontirs,SMALL(IF(joueurs=$B113,ROW(INDIRECT(\"1:\"&ROWS(bontirs)))),ROWS($1:$35))),\"\")","v":0},{"$f":"IF(ROWS($1:$36)<=COUNTIF(joueurs,$B113),INDEX(bontirs,SMALL(IF(joueurs=$B113,ROW(INDIRECT(\"1:\"&ROWS(bontirs)))),ROWS($1:$36))),\"\")","v":0},{"$f":"IF(ROWS($1:$37)<=COUNTIF(joueurs,$B113),INDEX(bontirs,SMALL(IF(joueurs=$B113,ROW(INDIRECT(\"1:\"&ROWS(bontirs)))),ROWS($1:$37))),\"\")","v":0},{"$f":"IF(ROWS($1:$38)<=COUNTIF(joueurs,$B113),INDEX(bontirs,SMALL(IF(joueurs=$B113,ROW(INDIRECT(\"1:\"&ROWS(bontirs)))),ROWS($1:$38))),\"\")","v":0},{"$f":"IF(ROWS($1:$39)<=COUNTIF(joueurs,$B113),INDEX(bontirs,SMALL(IF(joueurs=$B113,ROW(INDIRECT(\"1:\"&ROWS(bontirs)))),ROWS($1:$39))),\"\")","v":0},{"$f":"IF(ROWS($1:$40)<=COUNTIF(joueurs,$B113),INDEX(bontirs,SMALL(IF(joueurs=$B113,ROW(INDIRECT(\"1:\"&ROWS(bontirs)))),ROWS($1:$40))),\"\")","v":0},{"$f":"IF(ROWS($1:$31)<=COUNTIF(joueurs,$B113),INDEX(points,SMALL(IF(joueurs=$B113,ROW(INDIRECT(\"1:\"&ROWS(points)))),ROWS($1:$31))),\"\")","v":0},{"$f":"IF(ROWS($1:$32)<=COUNTIF(joueurs,$B113),INDEX(points,SMALL(IF(joueurs=$B113,ROW(INDIRECT(\"1:\"&ROWS(points)))),ROWS($1:$32))),\"\")","v":0},{"$f":"IF(ROWS($1:$33)<=COUNTIF(joueurs,$B113),INDEX(points,SMALL(IF(joueurs=$B113,ROW(INDIRECT(\"1:\"&ROWS(points)))),ROWS($1:$33))),\"\")","v":0},{"$f":"IF(ROWS($1:$34)<=COUNTIF(joueurs,$B113),INDEX(points,SMALL(IF(joueurs=$B113,ROW(INDIRECT(\"1:\"&ROWS(points)))),ROWS($1:$34))),\"\")","v":0},{"$f":"IF(ROWS($1:$35)<=COUNTIF(joueurs,$B113),INDEX(points,SMALL(IF(joueurs=$B113,ROW(INDIRECT(\"1:\"&ROWS(points)))),ROWS($1:$35))),\"\")","v":0},{"$f":"IF(ROWS($1:$36)<=COUNTIF(joueurs,$B113),INDEX(points,SMALL(IF(joueurs=$B113,ROW(INDIRECT(\"1:\"&ROWS(points)))),ROWS($1:$36))),\"\")","v":0},{"$f":"IF(ROWS($1:$37)<=COUNTIF(joueurs,$B113),INDEX(points,SMALL(IF(joueurs=$B113,ROW(INDIRECT(\"1:\"&ROWS(points)))),ROWS($1:$37))),\"\")","v":0},{"$f":"IF(ROWS($1:$38)<=COUNTIF(joueurs,$B113),INDEX(points,SMALL(IF(joueurs=$B113,ROW(INDIRECT(\"1:\"&ROWS(points)))),ROWS($1:$38))),\"\")","v":0},{"$f":"IF(ROWS($1:$39)<=COUNTIF(joueurs,$B113),INDEX(points,SMALL(IF(joueurs=$B113,ROW(INDIRECT(\"1:\"&ROWS(points)))),ROWS($1:$39))),\"\")","v":0},{"$f":"IF(ROWS($1:$40)<=COUNTIF(joueurs,$B113),INDEX(points,SMALL(IF(joueurs=$B113,ROW(INDIRECT(\"1:\"&ROWS(points)))),ROWS($1:$40))),\"\")","v":0},{"$f":"IF(ROWS($1:$31)<=COUNTIF(joueurs,$B113),INDEX(victoires,SMALL(IF(joueurs=$B113,ROW(INDIRECT(\"1:\"&ROWS(victoires)))),ROWS($1:$31))),\"\")","v":0},{"$f":"IF(ROWS($1:$32)<=COUNTIF(joueurs,$B113),INDEX(victoires,SMALL(IF(joueurs=$B113,ROW(INDIRECT(\"1:\"&ROWS(victoires)))),ROWS($1:$32))),\"\")","v":0},{"$f":"IF(ROWS($1:$33)<=COUNTIF(joueurs,$B113),INDEX(victoires,SMALL(IF(joueurs=$B113,ROW(INDIRECT(\"1:\"&ROWS(victoires)))),ROWS($1:$33))),\"\")","v":0},{"$f":"IF(ROWS($1:$34)<=COUNTIF(joueurs,$B113),INDEX(victoires,SMALL(IF(joueurs=$B113,ROW(INDIRECT(\"1:\"&ROWS(victoires)))),ROWS($1:$34))),\"\")","v":0},{"$f":"IF(ROWS($1:$35)<=COUNTIF(joueurs,$B113),INDEX(victoires,SMALL(IF(joueurs=$B113,ROW(INDIRECT(\"1:\"&ROWS(victoires)))),ROWS($1:$35))),\"\")","v":0},{"$f":"IF(ROWS($1:$36)<=COUNTIF(joueurs,$B113),INDEX(victoires,SMALL(IF(joueurs=$B113,ROW(INDIRECT(\"1:\"&ROWS(victoires)))),ROWS($1:$36))),\"\")","v":0},{"$f":"IF(ROWS($1:$37)<=COUNTIF(joueurs,$B113),INDEX(victoires,SMALL(IF(joueurs=$B113,ROW(INDIRECT(\"1:\"&ROWS(victoires)))),ROWS($1:$37))),\"\")","v":0},{"$f":"IF(ROWS($1:$38)<=COUNTIF(joueurs,$B113),INDEX(victoires,SMALL(IF(joueurs=$B113,ROW(INDIRECT(\"1:\"&ROWS(victoires)))),ROWS($1:$38))),\"\")","v":0},{"$f":"IF(ROWS($1:$39)<=COUNTIF(joueurs,$B113),INDEX(victoires,SMALL(IF(joueurs=$B113,ROW(INDIRECT(\"1:\"&ROWS(victoires)))),ROWS($1:$39))),\"\")","v":0},{"$f":"IF(ROWS($1:$40)<=COUNTIF(joueurs,$B113),INDEX(victoires,SMALL(IF(joueurs=$B113,ROW(INDIRECT(\"1:\"&ROWS(victoires)))),ROWS($1:$40))),\"\")","v":0}]
[29,{"$f":"INDEX(eleves,MATCH(A117,numero,0),MATCH($B$2,classes,0))","v":0},null,{"$f":"IF(ROWS($1:$1)<=COUNTIF(joueurs,$B117),INDEX(fautes,SMALL(IF(joueurs=$B117,ROW(INDIRECT(\"1:\"&ROWS(fautes)))),ROWS($1:$1))),\"\")","v":0},{"$f":"IF(ROWS($1:$2)<=COUNTIF(joueurs,$B117),INDEX(fautes,SMALL(IF(joueurs=$B117,ROW(INDIRECT(\"1:\"&ROWS(fautes)))),ROWS($1:$2))),\"\")","v":0},{"$f":"IF(ROWS($1:$3)<=COUNTIF(joueurs,$B117),INDEX(fautes,SMALL(IF(joueurs=$B117,ROW(INDIRECT(\"1:\"&ROWS(fautes)))),ROWS($1:$3))),\"\")","v":0},{"$f":"IF(ROWS($1:$4)<=COUNTIF(joueurs,$B117),INDEX(fautes,SMALL(IF(joueurs=$B117,ROW(INDIRECT(\"1:\"&ROWS(fautes)))),ROWS($1:$4))),\"\")","v":0},{"$f":"IF(ROWS($1:$5)<=COUNTIF(joueurs,$B117),INDEX(fautes,SMALL(IF(joueurs=$B117,ROW(INDIRECT(\"1:\"&ROWS(fautes)))),ROWS($1:$5))),\"\")","v":0},{"$f":"IF(ROWS($1:$6)<=COUNTIF(joueurs,$B117),INDEX(fautes,SMALL(IF(joueurs=$B117,ROW(INDIRECT(\"1:\"&ROWS(fautes)))),ROWS($1:$6))),\"\")","v":0},{"$f":"IF(ROWS($1:$7)<=COUNTIF(joueurs,$B117),INDEX(fautes,SMALL(IF(joueurs=$B117,ROW(INDIRECT(\"1:\"&ROWS(fautes)))),ROWS($1:$7))),\"\")","v":0},{"$f":"IF(ROWS($1:$8)<=COUNTIF(joueurs,$B117),INDEX(fautes,SMALL(IF(joueurs=$B117,ROW(INDIRECT(\"1:\"&ROWS(fautes)))),ROWS($1:$8))),\"\")","v":0},{"$f":"IF(ROWS($1:$9)<=COUNTIF(joueurs,$B117),INDEX(fautes,SMALL(IF(joueurs=$B117,ROW(INDIRECT(\"1:\"&ROWS(fautes)))),ROWS($1:$9))),\"\")","v":0},{"$f":"IF(ROWS($1:$10)<=COUNTIF(joueurs,$B117),INDEX(fautes,SMALL(IF(joueurs=$B117,ROW(INDIRECT(\"1:\"&ROWS(fautes)))),ROWS($1:$10))),\"\")","v":0},{"$f":"IF(ROWS($1:$1)<=COUNTIF(joueurs,$B117),INDEX(ballonperdus,SMALL(IF(joueurs=$B117,ROW(INDIRECT(\"1:\"&ROWS(ballonperdus)))),ROWS($1:$1))),\"\")","v":0},{"$f":"IF(ROWS($1:$2)<=COUNTIF(joueurs,$B117),INDEX(ballonperdus,SMALL(IF(joueurs=$B117,ROW(INDIRECT(\"1:\"&ROWS(ballonperdus)))),ROWS($1:$2))),\"\")","v":0},{"$f":"IF(ROWS($1:$3)<=COUNTIF(joueurs,$B117),INDEX(ballonperdus,SMALL(IF(joueurs=$B117,ROW(INDIRECT(\"1:\"&ROWS(ballonperdus)))),ROWS($1:$3))),\"\")","v":0},{"$f":"IF(ROWS($1:$4)<=COUNTIF(joueurs,$B117),INDEX(ballonperdus,SMALL(IF(joueurs=$B117,ROW(INDIRECT(\"1:\"&ROWS(ballonperdus)))),ROWS($1:$4))),\"\")","v":0},{"$f":"IF(ROWS($1:$5)<=COUNTIF(joueurs,$B117),INDEX(ballonperdus,SMALL(IF(joueurs=$B117,ROW(INDIRECT(\"1:\"&ROWS(ballonperdus)))),ROWS($1:$5))),\"\")","v":0},{"$f":"IF(ROWS($1:$6)<=COUNTIF(joueurs,$B117),INDEX(ballonperdus,SMALL(IF(joueurs=$B117,ROW(INDIRECT(\"1:\"&ROWS(ballonperdus)))),ROWS($1:$6))),\"\")","v":0},{"$f":"IF(ROWS($1:$7)<=COUNTIF(joueurs,$B117),INDEX(ballonperdus,SMALL(IF(joueurs=$B117,ROW(INDIRECT(\"1:\"&ROWS(ballonperdus)))),ROWS($1:$7))),\"\")","v":0},{"$f":"IF(ROWS($1:$8)<=COUNTIF(joueurs,$B117),INDEX(ballonperdus,SMALL(IF(joueurs=$B117,ROW(INDIRECT(\"1:\"&ROWS(ballonperdus)))),ROWS($1:$8))),\"\")","v":0},{"$f":"IF(ROWS($1:$9)<=COUNTIF(joueurs,$B117),INDEX(ballonperdus,SMALL(IF(joueurs=$B117,ROW(INDIRECT(\"1:\"&ROWS(ballonperdus)))),ROWS($1:$9))),\"\")","v":0},{"$f":"IF(ROWS($1:$10)<=COUNTIF(joueurs,$B117),INDEX(ballonperdus,SMALL(IF(joueurs=$B117,ROW(INDIRECT(\"1:\"&ROWS(ballonperdus)))),ROWS($1:$10))),\"\")","v":0},{"$f":"IF(ROWS($1:$1)<=COUNTIF(joueurs,$B117),INDEX(interceptions,SMALL(IF(joueurs=$B117,ROW(INDIRECT(\"1:\"&ROWS(interceptions)))),ROWS($1:$1))),\"\")","v":0},{"$f":"IF(ROWS($1:$2)<=COUNTIF(joueurs,$B117),INDEX(interceptions,SMALL(IF(joueurs=$B117,ROW(INDIRECT(\"1:\"&ROWS(interceptions)))),ROWS($1:$2))),\"\")","v":0},{"$f":"IF(ROWS($1:$3)<=COUNTIF(joueurs,$B117),INDEX(interceptions,SMALL(IF(joueurs=$B117,ROW(INDIRECT(\"1:\"&ROWS(interceptions)))),ROWS($1:$3))),\"\")","v":0},{"$f":"IF(ROWS($1:$4)<=COUNTIF(joueurs,$B117),INDEX(interceptions,SMALL(IF(joueurs=$B117,ROW(INDIRECT(\"1:\"&ROWS(interceptions)))),ROWS($1:$4))),\"\")","v":0},{"$f":"IF(ROWS($1:$5)<=COUNTIF(joueurs,$B117),INDEX(interceptions,SMALL(IF(joueurs=$B117,ROW(INDIRECT(\"1:\"&ROWS(interceptions)))),ROWS($1:$5))),\"\")","v":0},{"$f":"IF(ROWS($1:$6)<=COUNTIF(joueurs,$B117),INDEX(interceptions,SMALL(IF(joueurs=$B117,ROW(INDIRECT(\"1:\"&ROWS(interceptions)))),ROWS($1:$6))),\"\")","v":0},{"$f":"IF(ROWS($1:$7)<=COUNTIF(joueurs,$B117),INDEX(interceptions,SMALL(IF(joueurs=$B117,ROW(INDIRECT(\"1:\"&ROWS(interceptions)))),ROWS($1:$7))),\"\")","v":0},{"$f":"IF(ROWS($1:$8)<=COUNTIF(joueurs,$B117),INDEX(interceptions,SMALL(IF(joueurs=$B117,ROW(INDIRECT(\"1:\"&ROWS(interceptions)))),ROWS($1:$8))),\"\")","v":0},{"$f":"IF(ROWS($1:$9)<=COUNTIF(joueurs,$B117),INDEX(interceptions,SMALL(IF(joueurs=$B117,ROW(INDIRECT(\"1:\"&ROWS(interceptions)))),ROWS($1:$9))),\"\")","v":0},{"$f":"IF(ROWS($1:$10)<=COUNTIF(joueurs,$B117),INDEX(interceptions,SMALL(IF(joueurs=$B117,ROW(INDIRECT(\"1:\"&ROWS(interceptions)))),ROWS($1:$10))),\"\")","v":0},{"$f":"IF(ROWS($1:$1)<=COUNTIF(joueurs,$B117),INDEX(ballonrecuperes,SMALL(IF(joueurs=$B117,ROW(INDIRECT(\"1:\"&ROWS(ballonrecuperes)))),ROWS($1:$1))),\"\")","v":0},{"$f":"IF(ROWS($1:$2)<=COUNTIF(joueurs,$B117),INDEX(ballonrecuperes,SMALL(IF(joueurs=$B117,ROW(INDIRECT(\"1:\"&ROWS(ballonrecuperes)))),ROWS($1:$2))),\"\")","v":0},{"$f":"IF(ROWS($1:$3)<=COUNTIF(joueurs,$B117),INDEX(ballonrecuperes,SMALL(IF(joueurs=$B117,ROW(INDIRECT(\"1:\"&ROWS(ballonrecuperes)))),ROWS($1:$3))),\"\")","v":0},{"$f":"IF(ROWS($1:$4)<=COUNTIF(joueurs,$B117),INDEX(ballonrecuperes,SMALL(IF(joueurs=$B117,ROW(INDIRECT(\"1:\"&ROWS(ballonrecuperes)))),ROWS($1:$4))),\"\")","v":0},{"$f":"IF(ROWS($1:$5)<=COUNTIF(joueurs,$B117),INDEX(ballonrecuperes,SMALL(IF(joueurs=$B117,ROW(INDIRECT(\"1:\"&ROWS(ballonrecuperes)))),ROWS($1:$5))),\"\")","v":0},{"$f":"IF(ROWS($1:$6)<=COUNTIF(joueurs,$B117),INDEX(ballonrecuperes,SMALL(IF(joueurs=$B117,ROW(INDIRECT(\"1:\"&ROWS(ballonrecuperes)))),ROWS($1:$6))),\"\")","v":0},{"$f":"IF(ROWS($1:$7)<=COUNTIF(joueurs,$B117),INDEX(ballonrecuperes,SMALL(IF(joueurs=$B117,ROW(INDIRECT(\"1:\"&ROWS(ballonrecuperes)))),ROWS($1:$7))),\"\")","v":0},{"$f":"IF(ROWS($1:$8)<=COUNTIF(joueurs,$B117),INDEX(ballonrecuperes,SMALL(IF(joueurs=$B117,ROW(INDIRECT(\"1:\"&ROWS(ballonrecuperes)))),ROWS($1:$8))),\"\")","v":0},{"$f":"IF(ROWS($1:$9)<=COUNTIF(joueurs,$B117),INDEX(ballonrecuperes,SMALL(IF(joueurs=$B117,ROW(INDIRECT(\"1:\"&ROWS(ballonrecuperes)))),ROWS($1:$9))),\"\")","v":0},{"$f":"IF(ROWS($1:$10)<=COUNTIF(joueurs,$B117),INDEX(ballonrecuperes,SMALL(IF(joueurs=$B117,ROW(INDIRECT(\"1:\"&ROWS(ballonrecuperes)))),ROWS($1:$10))),\"\")","v":0},{"$f":"IF(ROWS($1:$1)<=COUNTIF(joueurs,$B117),INDEX(tirs,SMALL(IF(joueurs=$B117,ROW(INDIRECT(\"1:\"&ROWS(tirs)))),ROWS($1:$1))),\"\")","v":0},{"$f":"IF(ROWS($1:$2)<=COUNTIF(joueurs,$B117),INDEX(tirs,SMALL(IF(joueurs=$B117,ROW(INDIRECT(\"1:\"&ROWS(tirs)))),ROWS($1:$2))),\"\")","v":0},{"$f":"IF(ROWS($1:$3)<=COUNTIF(joueurs,$B117),INDEX(tirs,SMALL(IF(joueurs=$B117,ROW(INDIRECT(\"1:\"&ROWS(tirs)))),ROWS($1:$3))),\"\")","v":0},{"$f":"IF(ROWS($1:$4)<=COUNTIF(joueurs,$B117),INDEX(tirs,SMALL(IF(joueurs=$B117,ROW(INDIRECT(\"1:\"&ROWS(tirs)))),ROWS($1:$4))),\"\")","v":0},{"$f":"IF(ROWS($1:$5)<=COUNTIF(joueurs,$B117),INDEX(tirs,SMALL(IF(joueurs=$B117,ROW(INDIRECT(\"1:\"&ROWS(tirs)))),ROWS($1:$5))),\"\")","v":0},{"$f":"IF(ROWS($1:$6)<=COUNTIF(joueurs,$B117),INDEX(tirs,SMALL(IF(joueurs=$B117,ROW(INDIRECT(\"1:\"&ROWS(tirs)))),ROWS($1:$6))),\"\")","v":0},{"$f":"IF(ROWS($1:$7)<=COUNTIF(joueurs,$B117),INDEX(tirs,SMALL(IF(joueurs=$B117,ROW(INDIRECT(\"1:\"&ROWS(tirs)))),ROWS($1:$7))),\"\")","v":0},{"$f":"IF(ROWS($1:$8)<=COUNTIF(joueurs,$B117),INDEX(tirs,SMALL(IF(joueurs=$B117,ROW(INDIRECT(\"1:\"&ROWS(tirs)))),ROWS($1:$8))),\"\")","v":0},{"$f":"IF(ROWS($1:$9)<=COUNTIF(joueurs,$B117),INDEX(tirs,SMALL(IF(joueurs=$B117,ROW(INDIRECT(\"1:\"&ROWS(tirs)))),ROWS($1:$9))),\"\")","v":0},{"$f":"IF(ROWS($1:$10)<=COUNTIF(joueurs,$B117),INDEX(tirs,SMALL(IF(joueurs=$B117,ROW(INDIRECT(\"1:\"&ROWS(tirs)))),ROWS($1:$10))),\"\")","v":0},{"$f":"IF(ROWS($1:$1)<=COUNTIF(joueurs,$B117),INDEX(bontirs,SMALL(IF(joueurs=$B117,ROW(INDIRECT(\"1:\"&ROWS(bontirs)))),ROWS($1:$1))),\"\")","v":0},{"$f":"IF(ROWS($1:$2)<=COUNTIF(joueurs,$B117),INDEX(bontirs,SMALL(IF(joueurs=$B117,ROW(INDIRECT(\"1:\"&ROWS(bontirs)))),ROWS($1:$2))),\"\")","v":0},{"$f":"IF(ROWS($1:$3)<=COUNTIF(joueurs,$B117),INDEX(bontirs,SMALL(IF(joueurs=$B117,ROW(INDIRECT(\"1:\"&ROWS(bontirs)))),ROWS($1:$3))),\"\")","v":0},{"$f":"IF(ROWS($1:$4)<=COUNTIF(joueurs,$B117),INDEX(bontirs,SMALL(IF(joueurs=$B117,ROW(INDIRECT(\"1:\"&ROWS(bontirs)))),ROWS($1:$4))),\"\")","v":0},{"$f":"IF(ROWS($1:$5)<=COUNTIF(joueurs,$B117),INDEX(bontirs,SMALL(IF(joueurs=$B117,ROW(INDIRECT(\"1:\"&ROWS(bontirs)))),ROWS($1:$5))),\"\")","v":0},{"$f":"IF(ROWS($1:$6)<=COUNTIF(joueurs,$B117),INDEX(bontirs,SMALL(IF(joueurs=$B117,ROW(INDIRECT(\"1:\"&ROWS(bontirs)))),ROWS($1:$6))),\"\")","v":0},{"$f":"IF(ROWS($1:$7)<=COUNTIF(joueurs,$B117),INDEX(bontirs,SMALL(IF(joueurs=$B117,ROW(INDIRECT(\"1:\"&ROWS(bontirs)))),ROWS($1:$7))),\"\")","v":0},{"$f":"IF(ROWS($1:$8)<=COUNTIF(joueurs,$B117),INDEX(bontirs,SMALL(IF(joueurs=$B117,ROW(INDIRECT(\"1:\"&ROWS(bontirs)))),ROWS($1:$8))),\"\")","v":0},{"$f":"IF(ROWS($1:$9)<=COUNTIF(joueurs,$B117),INDEX(bontirs,SMALL(IF(joueurs=$B117,ROW(INDIRECT(\"1:\"&ROWS(bontirs)))),ROWS($1:$9))),\"\")","v":0},{"$f":"IF(ROWS($1:$10)<=COUNTIF(joueurs,$B117),INDEX(bontirs,SMALL(IF(joueurs=$B117,ROW(INDIRECT(\"1:\"&ROWS(bontirs)))),ROWS($1:$10))),\"\")","v":0},{"$f":"IF(ROWS($1:$1)<=COUNTIF(joueurs,$B117),INDEX(points,SMALL(IF(joueurs=$B117,ROW(INDIRECT(\"1:\"&ROWS(points)))),ROWS($1:$1))),\"\")","v":0},{"$f":"IF(ROWS($1:$2)<=COUNTIF(joueurs,$B117),INDEX(points,SMALL(IF(joueurs=$B117,ROW(INDIRECT(\"1:\"&ROWS(points)))),ROWS($1:$2))),\"\")","v":0},{"$f":"IF(ROWS($1:$3)<=COUNTIF(joueurs,$B117),INDEX(points,SMALL(IF(joueurs=$B117,ROW(INDIRECT(\"1:\"&ROWS(points)))),ROWS($1:$3))),\"\")","v":0},{"$f":"IF(ROWS($1:$4)<=COUNTIF(joueurs,$B117),INDEX(points,SMALL(IF(joueurs=$B117,ROW(INDIRECT(\"1:\"&ROWS(points)))),ROWS($1:$4))),\"\")","v":0},{"$f":"IF(ROWS($1:$5)<=COUNTIF(joueurs,$B117),INDEX(points,SMALL(IF(joueurs=$B117,ROW(INDIRECT(\"1:\"&ROWS(points)))),ROWS($1:$5))),\"\")","v":0},{"$f":"IF(ROWS($1:$6)<=COUNTIF(joueurs,$B117),INDEX(points,SMALL(IF(joueurs=$B117,ROW(INDIRECT(\"1:\"&ROWS(points)))),ROWS($1:$6))),\"\")","v":0},{"$f":"IF(ROWS($1:$7)<=COUNTIF(joueurs,$B117),INDEX(points,SMALL(IF(joueurs=$B117,ROW(INDIRECT(\"1:\"&ROWS(points)))),ROWS($1:$7))),\"\")","v":0},{"$f":"IF(ROWS($1:$8)<=COUNTIF(joueurs,$B117),INDEX(points,SMALL(IF(joueurs=$B117,ROW(INDIRECT(\"1:\"&ROWS(points)))),ROWS($1:$8))),\"\")","v":0},{"$f":"IF(ROWS($1:$9)<=COUNTIF(joueurs,$B117),INDEX(points,SMALL(IF(joueurs=$B117,ROW(INDIRECT(\"1:\"&ROWS(points)))),ROWS($1:$9))),\"\")","v":0},{"$f":"IF(ROWS($1:$10)<=COUNTIF(joueurs,$B117),INDEX(points,SMALL(IF(joueurs=$B117,ROW(INDIRECT(\"1:\"&ROWS(points)))),ROWS($1:$10))),\"\")","v":0},{"$f":"IF(ROWS($1:$1)<=COUNTIF(joueurs,$B117),INDEX(victoires,SMALL(IF(joueurs=$B117,ROW(INDIRECT(\"1:\"&ROWS(victoires)))),ROWS($1:$1))),\"\")","v":0},{"$f":"IF(ROWS($1:$2)<=COUNTIF(joueurs,$B117),INDEX(victoires,SMALL(IF(joueurs=$B117,ROW(INDIRECT(\"1:\"&ROWS(victoires)))),ROWS($1:$2))),\"\")","v":0},{"$f":"IF(ROWS($1:$3)<=COUNTIF(joueurs,$B117),INDEX(victoires,SMALL(IF(joueurs=$B117,ROW(INDIRECT(\"1:\"&ROWS(victoires)))),ROWS($1:$3))),\"\")","v":0},{"$f":"IF(ROWS($1:$4)<=COUNTIF(joueurs,$B117),INDEX(victoires,SMALL(IF(joueurs=$B117,ROW(INDIRECT(\"1:\"&ROWS(victoires)))),ROWS($1:$4))),\"\")","v":0},{"$f":"IF(ROWS($1:$5)<=COUNTIF(joueurs,$B117),INDEX(victoires,SMALL(IF(joueurs=$B117,ROW(INDIRECT(\"1:\"&ROWS(victoires)))),ROWS($1:$5))),\"\")","v":0},{"$f":"IF(ROWS($1:$6)<=COUNTIF(joueurs,$B117),INDEX(victoires,SMALL(IF(joueurs=$B117,ROW(INDIRECT(\"1:\"&ROWS(victoires)))),ROWS($1:$6))),\"\")","v":0},{"$f":"IF(ROWS($1:$7)<=COUNTIF(joueurs,$B117),INDEX(victoires,SMALL(IF(joueurs=$B117,ROW(INDIRECT(\"1:\"&ROWS(victoires)))),ROWS($1:$7))),\"\")","v":0},{"$f":"IF(ROWS($1:$8)<=COUNTIF(joueurs,$B117),INDEX(victoires,SMALL(IF(joueurs=$B117,ROW(INDIRECT(\"1:\"&ROWS(victoires)))),ROWS($1:$8))),\"\")","v":0},{"$f":"IF(ROWS($1:$9)<=COUNTIF(joueurs,$B117),INDEX(victoires,SMALL(IF(joueurs=$B117,ROW(INDIRECT(\"1:\"&ROWS(victoires)))),ROWS($1:$9))),\"\")","v":0},{"$f":"IF(ROWS($1:$10)<=COUNTIF(joueurs,$B117),INDEX(victoires,SMALL(IF(joueurs=$B117,ROW(INDIRECT(\"1:\"&ROWS(victoires)))),ROWS($1:$10))),\"\")","v":0}]
[null,null,null,{"$f":"IF(ROWS($1:$11)<=COUNTIF(joueurs,$B117),INDEX(fautes,SMALL(IF(joueurs=$B117,ROW(INDIRECT(\"1:\"&ROWS(fautes)))),ROWS($1:$11))),\"\")","v":0},{"$f":"IF(ROWS($1:$12)<=COUNTIF(joueurs,$B117),INDEX(fautes,SMALL(IF(joueurs=$B117,ROW(INDIRECT(\"1:\"&ROWS(fautes)))),ROWS($1:$12))),\"\")","v":0},{"$f":"IF(ROWS($1:$13)<=COUNTIF(joueurs,$B117),INDEX(fautes,SMALL(IF(joueurs=$B117,ROW(INDIRECT(\"1:\"&ROWS(fautes)))),ROWS($1:$13))),\"\")","v":0},{"$f":"IF(ROWS($1:$14)<=COUNTIF(joueurs,$B117),INDEX(fautes,SMALL(IF(joueurs=$B117,ROW(INDIRECT(\"1:\"&ROWS(fautes)))),ROWS($1:$14))),\"\")","v":0},{"$f":"IF(ROWS($1:$15)<=COUNTIF(joueurs,$B117),INDEX(fautes,SMALL(IF(joueurs=$B117,ROW(INDIRECT(\"1:\"&ROWS(fautes)))),ROWS($1:$15))),\"\")","v":0},{"$f":"IF(ROWS($1:$16)<=COUNTIF(joueurs,$B117),INDEX(fautes,SMALL(IF(joueurs=$B117,ROW(INDIRECT(\"1:\"&ROWS(fautes)))),ROWS($1:$16))),\"\")","v":0},{"$f":"IF(ROWS($1:$17)<=COUNTIF(joueurs,$B117),INDEX(fautes,SMALL(IF(joueurs=$B117,ROW(INDIRECT(\"1:\"&ROWS(fautes)))),ROWS($1:$17))),\"\")","v":0},{"$f":"IF(ROWS($1:$18)<=COUNTIF(joueurs,$B117),INDEX(fautes,SMALL(IF(joueurs=$B117,ROW(INDIRECT(\"1:\"&ROWS(fautes)))),ROWS($1:$18))),\"\")","v":0},{"$f":"IF(ROWS($1:$19)<=COUNTIF(joueurs,$B117),INDEX(fautes,SMALL(IF(joueurs=$B117,ROW(INDIRECT(\"1:\"&ROWS(fautes)))),ROWS($1:$19))),\"\")","v":0},{"$f":"IF(ROWS($1:$20)<=COUNTIF(joueurs,$B117),INDEX(fautes,SMALL(IF(joueurs=$B117,ROW(INDIRECT(\"1:\"&ROWS(fautes)))),ROWS($1:$20))),\"\")","v":0},{"$f":"IF(ROWS($1:$11)<=COUNTIF(joueurs,$B117),INDEX(ballonperdus,SMALL(IF(joueurs=$B117,ROW(INDIRECT(\"1:\"&ROWS(ballonperdus)))),ROWS($1:$11))),\"\")","v":0},{"$f":"IF(ROWS($1:$12)<=COUNTIF(joueurs,$B117),INDEX(ballonperdus,SMALL(IF(joueurs=$B117,ROW(INDIRECT(\"1:\"&ROWS(ballonperdus)))),ROWS($1:$12))),\"\")","v":0},{"$f":"IF(ROWS($1:$13)<=COUNTIF(joueurs,$B117),INDEX(ballonperdus,SMALL(IF(joueurs=$B117,ROW(INDIRECT(\"1:\"&ROWS(ballonperdus)))),ROWS($1:$13))),\"\")","v":0},{"$f":"IF(ROWS($1:$14)<=COUNTIF(joueurs,$B117),INDEX(ballonperdus,SMALL(IF(joueurs=$B117,ROW(INDIRECT(\"1:\"&ROWS(ballonperdus)))),ROWS($1:$14))),\"\")","v":0},{"$f":"IF(ROWS($1:$15)<=COUNTIF(joueurs,$B117),INDEX(ballonperdus,SMALL(IF(joueurs=$B117,ROW(INDIRECT(\"1:\"&ROWS(ballonperdus)))),ROWS($1:$15))),\"\")","v":0},{"$f":"IF(ROWS($1:$16)<=COUNTIF(joueurs,$B117),INDEX(ballonperdus,SMALL(IF(joueurs=$B117,ROW(INDIRECT(\"1:\"&ROWS(ballonperdus)))),ROWS($1:$16))),\"\")","v":0},{"$f":"IF(ROWS($1:$17)<=COUNTIF(joueurs,$B117),INDEX(ballonperdus,SMALL(IF(joueurs=$B117,ROW(INDIRECT(\"1:\"&ROWS(ballonperdus)))),ROWS($1:$17))),\"\")","v":0},{"$f":"IF(ROWS($1:$18)<=COUNTIF(joueurs,$B117),INDEX(ballonperdus,SMALL(IF(joueurs=$B117,ROW(INDIRECT(\"1:\"&ROWS(ballonperdus)))),ROWS($1:$18))),\"\")","v":0},{"$f":"IF(ROWS($1:$19)<=COUNTIF(joueurs,$B117),INDEX(ballonperdus,SMALL(IF(joueurs=$B117,ROW(INDIRECT(\"1:\"&ROWS(ballonperdus)))),ROWS($1:$19))),\"\")","v":0},{"$f":"IF(ROWS($1:$20)<=COUNTIF(joueurs,$B117),INDEX(fautes,SMALL(IF(joueurs=$B117,ROW(INDIRECT(\"1:\"&ROWS(ballonperdus)))),ROWS($1:$20))),\"\")","v":0},{"$f":"IF(ROWS($1:$11)<=COUNTIF(joueurs,$B117),INDEX(interceptions,SMALL(IF(joueurs=$B117,ROW(INDIRECT(\"1:\"&ROWS(interceptions)))),ROWS($1:$11))),\"\")","v":0},{"$f":"IF(ROWS($1:$12)<=COUNTIF(joueurs,$B117),INDEX(interceptions,SMALL(IF(joueurs=$B117,ROW(INDIRECT(\"1:\"&ROWS(interceptions)))),ROWS($1:$12))),\"\")","v":0},{"$f":"IF(ROWS($1:$13)<=COUNTIF(joueurs,$B117),INDEX(interceptions,SMALL(IF(joueurs=$B117,ROW(INDIRECT(\"1:\"&ROWS(interceptions)))),ROWS($1:$13))),\"\")","v":0},{"$f":"IF(ROWS($1:$14)<=COUNTIF(joueurs,$B117),INDEX(interceptions,SMALL(IF(joueurs=$B117,ROW(INDIRECT(\"1:\"&ROWS(interceptions)))),ROWS($1:$14))),\"\")","v":0},{"$f":"IF(ROWS($1:$15)<=COUNTIF(joueurs,$B117),INDEX(interceptions,SMALL(IF(joueurs=$B117,ROW(INDIRECT(\"1:\"&ROWS(interceptions)))),ROWS($1:$15))),\"\")","v":0},{"$f":"IF(ROWS($1:$16)<=COUNTIF(joueurs,$B117),INDEX(interceptions,SMALL(IF(joueurs=$B117,ROW(INDIRECT(\"1:\"&ROWS(interceptions)))),ROWS($1:$16))),\"\")","v":0},{"$f":"IF(ROWS($1:$17)<=COUNTIF(joueurs,$B117),INDEX(interceptions,SMALL(IF(joueurs=$B117,ROW(INDIRECT(\"1:\"&ROWS(interceptions)))),ROWS($1:$17))),\"\")","v":0},{"$f":"IF(ROWS($1:$18)<=COUNTIF(joueurs,$B117),INDEX(interceptions,SMALL(IF(joueurs=$B117,ROW(INDIRECT(\"1:\"&ROWS(interceptions)))),ROWS($1:$18))),\"\")","v":0},{"$f":"IF(ROWS($1:$19)<=COUNTIF(joueurs,$B117),INDEX(interceptions,SMALL(IF(joueurs=$B117,ROW(INDIRECT(\"1:\"&ROWS(interceptions)))),ROWS($1:$19))),\"\")","v":0},{"$f":"IF(ROWS($1:$20)<=COUNTIF(joueurs,$B117),INDEX(interceptions,SMALL(IF(joueurs=$B117,ROW(INDIRECT(\"1:\"&ROWS(interceptions)))),ROWS($1:$20))),\"\")","v":0},{"$f":"IF(ROWS($1:$11)<=COUNTIF(joueurs,$B117),INDEX(ballonrecuperes,SMALL(IF(joueurs=$B117,ROW(INDIRECT(\"1:\"&ROWS(ballonrecuperes)))),ROWS($1:$11))),\"\")","v":0},{"$f":"IF(ROWS($1:$12)<=COUNTIF(joueurs,$B117),INDEX(ballonrecuperes,SMALL(IF(joueurs=$B117,ROW(INDIRECT(\"1:\"&ROWS(ballonrecuperes)))),ROWS($1:$12))),\"\")","v":0},{"$f":"IF(ROWS($1:$13)<=COUNTIF(joueurs,$B117),INDEX(ballonrecuperes,SMALL(IF(joueurs=$B117,ROW(INDIRECT(\"1:\"&ROWS(ballonrecuperes)))),ROWS($1:$13))),\"\")","v":0},{"$f":"IF(ROWS($1:$14)<=COUNTIF(joueurs,$B117),INDEX(ballonrecuperes,SMALL(IF(joueurs=$B117,ROW(INDIRECT(\"1:\"&ROWS(ballonrecuperes)))),ROWS($1:$14))),\"\")","v":0},{"$f":"IF(ROWS($1:$15)<=COUNTIF(joueurs,$B117),INDEX(ballonrecuperes,SMALL(IF(joueurs=$B117,ROW(INDIRECT(\"1:\"&ROWS(ballonrecuperes)))),ROWS($1:$15))),\"\")","v":0},{"$f":"IF(ROWS($1:$16)<=COUNTIF(joueurs,$B117),INDEX(ballonrecuperes,SMALL(IF(joueurs=$B117,ROW(INDIRECT(\"1:\"&ROWS(ballonrecuperes)))),ROWS($1:$16))),\"\")","v":0},{"$f":"IF(ROWS($1:$17)<=COUNTIF(joueurs,$B117),INDEX(ballonrecuperes,SMALL(IF(joueurs=$B117,ROW(INDIRECT(\"1:\"&ROWS(ballonrecuperes)))),ROWS($1:$17))),\"\")","v":0},{"$f":"IF(ROWS($1:$18)<=COUNTIF(joueurs,$B117),INDEX(ballonrecuperes,SMALL(IF(joueurs=$B117,ROW(INDIRECT(\"1:\"&ROWS(ballonrecuperes)))),ROWS($1:$18))),\"\")","v":0},{"$f":"IF(ROWS($1:$19)<=COUNTIF(joueurs,$B117),INDEX(ballonrecuperes,SMALL(IF(joueurs=$B117,ROW(INDIRECT(\"1:\"&ROWS(ballonrecuperes)))),ROWS($1:$19))),\"\")","v":0},{"$f":"IF(ROWS($1:$20)<=COUNTIF(joueurs,$B117),INDEX(ballonrecuperes,SMALL(IF(joueurs=$B117,ROW(INDIRECT(\"1:\"&ROWS(ballonrecuperes)))),ROWS($1:$20))),\"\")","v":0},{"$f":"IF(ROWS($1:$11)<=COUNTIF(joueurs,$B117),INDEX(tirs,SMALL(IF(joueurs=$B117,ROW(INDIRECT(\"1:\"&ROWS(tirs)))),ROWS($1:$11))),\"\")","v":0},{"$f":"IF(ROWS($1:$12)<=COUNTIF(joueurs,$B117),INDEX(tirs,SMALL(IF(joueurs=$B117,ROW(INDIRECT(\"1:\"&ROWS(tirs)))),ROWS($1:$12))),\"\")","v":0},{"$f":"IF(ROWS($1:$13)<=COUNTIF(joueurs,$B117),INDEX(tirs,SMALL(IF(joueurs=$B117,ROW(INDIRECT(\"1:\"&ROWS(tirs)))),ROWS($1:$13))),\"\")","v":0},{"$f":"IF(ROWS($1:$14)<=COUNTIF(joueurs,$B117),INDEX(tirs,SMALL(IF(joueurs=$B117,ROW(INDIRECT(\"1:\"&ROWS(tirs)))),ROWS($1:$14))),\"\")","v":0},{"$f":"IF(ROWS($1:$15)<=COUNTIF(joueurs,$B117),INDEX(tirs,SMALL(IF(joueurs=$B117,ROW(INDIRECT(\"1:\"&ROWS(tirs)))),ROWS($1:$15))),\"\")","v":0},{"$f":"IF(ROWS($1:$16)<=COUNTIF(joueurs,$B117),INDEX(tirs,SMALL(IF(joueurs=$B117,ROW(INDIRECT(\"1:\"&ROWS(tirs)))),ROWS($1:$16))),\"\")","v":0},{"$f":"IF(ROWS($1:$17)<=COUNTIF(joueurs,$B117),INDEX(tirs,SMALL(IF(joueurs=$B117,ROW(INDIRECT(\"1:\"&ROWS(tirs)))),ROWS($1:$17))),\"\")","v":0},{"$f":"IF(ROWS($1:$18)<=COUNTIF(joueurs,$B117),INDEX(tirs,SMALL(IF(joueurs=$B117,ROW(INDIRECT(\"1:\"&ROWS(tirs)))),ROWS($1:$18))),\"\")","v":0},{"$f":"IF(ROWS($1:$19)<=COUNTIF(joueurs,$B117),INDEX(tirs,SMALL(IF(joueurs=$B117,ROW(INDIRECT(\"1:\"&ROWS(tirs)))),ROWS($1:$19))),\"\")","v":0},{"$f":"IF(ROWS($1:$20)<=COUNTIF(joueurs,$B117),INDEX(tirs,SMALL(IF(joueurs=$B117,ROW(INDIRECT(\"1:\"&ROWS(tirs)))),ROWS($1:$20))),\"\")","v":0},{"$f":"IF(ROWS($1:$11)<=COUNTIF(joueurs,$B117),INDEX(bontirs,SMALL(IF(joueurs=$B117,ROW(INDIRECT(\"1:\"&ROWS(bontirs)))),ROWS($1:$11))),\"\")","v":0},{"$f":"IF(ROWS($1:$12)<=COUNTIF(joueurs,$B117),INDEX(bontirs,SMALL(IF(joueurs=$B117,ROW(INDIRECT(\"1:\"&ROWS(bontirs)))),ROWS($1:$12))),\"\")","v":0},{"$f":"IF(ROWS($1:$13)<=COUNTIF(joueurs,$B117),INDEX(bontirs,SMALL(IF(joueurs=$B117,ROW(INDIRECT(\"1:\"&ROWS(bontirs)))),ROWS($1:$13))),\"\")","v":0},{"$f":"IF(ROWS($1:$14)<=COUNTIF(joueurs,$B117),INDEX(bontirs,SMALL(IF(joueurs=$B117,ROW(INDIRECT(\"1:\"&ROWS(bontirs)))),ROWS($1:$14))),\"\")","v":0},{"$f":"IF(ROWS($1:$15)<=COUNTIF(joueurs,$B117),INDEX(bontirs,SMALL(IF(joueurs=$B117,ROW(INDIRECT(\"1:\"&ROWS(bontirs)))),ROWS($1:$15))),\"\")","v":0},{"$f":"IF(ROWS($1:$16)<=COUNTIF(joueurs,$B117),INDEX(bontirs,SMALL(IF(joueurs=$B117,ROW(INDIRECT(\"1:\"&ROWS(bontirs)))),ROWS($1:$16))),\"\")","v":0},{"$f":"IF(ROWS($1:$17)<=COUNTIF(joueurs,$B117),INDEX(bontirs,SMALL(IF(joueurs=$B117,ROW(INDIRECT(\"1:\"&ROWS(bontirs)))),ROWS($1:$17))),\"\")","v":0},{"$f":"IF(ROWS($1:$18)<=COUNTIF(joueurs,$B117),INDEX(bontirs,SMALL(IF(joueurs=$B117,ROW(INDIRECT(\"1:\"&ROWS(bontirs)))),ROWS($1:$18))),\"\")","v":0},{"$f":"IF(ROWS($1:$19)<=COUNTIF(joueurs,$B117),INDEX(bontirs,SMALL(IF(joueurs=$B117,ROW(INDIRECT(\"1:\"&ROWS(bontirs)))),ROWS($1:$19))),\"\")","v":0},{"$f":"IF(ROWS($1:$20)<=COUNTIF(joueurs,$B117),INDEX(bontirs,SMALL(IF(joueurs=$B117,ROW(INDIRECT(\"1:\"&ROWS(bontirs)))),ROWS($1:$20))),\"\")","v":0},{"$f":"IF(ROWS($1:$11)<=COUNTIF(joueurs,$B117),INDEX(points,SMALL(IF(joueurs=$B117,ROW(INDIRECT(\"1:\"&ROWS(points)))),ROWS($1:$11))),\"\")","v":0},{"$f":"IF(ROWS($1:$12)<=COUNTIF(joueurs,$B117),INDEX(points,SMALL(IF(joueurs=$B117,ROW(INDIRECT(\"1:\"&ROWS(points)))),ROWS($1:$12))),\"\")","v":0},{"$f":"IF(ROWS($1:$13)<=COUNTIF(joueurs,$B117),INDEX(points,SMALL(IF(joueurs=$B117,ROW(INDIRECT(\"1:\"&ROWS(points)))),ROWS($1:$13))),\"\")","v":0},{"$f":"IF(ROWS($1:$14)<=COUNTIF(joueurs,$B117),INDEX(points,SMALL(IF(joueurs=$B117,ROW(INDIRECT(\"1:\"&ROWS(points)))),ROWS($1:$14))),\"\")","v":0},{"$f":"IF(ROWS($1:$15)<=COUNTIF(joueurs,$B117),INDEX(points,SMALL(IF(joueurs=$B117,ROW(INDIRECT(\"1:\"&ROWS(points)))),ROWS($1:$15))),\"\")","v":0},{"$f":"IF(ROWS($1:$16)<=COUNTIF(joueurs,$B117),INDEX(points,SMALL(IF(joueurs=$B117,ROW(INDIRECT(\"1:\"&ROWS(points)))),ROWS($1:$16))),\"\")","v":0},{"$f":"IF(ROWS($1:$17)<=COUNTIF(joueurs,$B117),INDEX(points,SMALL(IF(joueurs=$B117,ROW(INDIRECT(\"1:\"&ROWS(points)))),ROWS($1:$17))),\"\")","v":0},{"$f":"IF(ROWS($1:$18)<=COUNTIF(joueurs,$B117),INDEX(points,SMALL(IF(joueurs=$B117,ROW(INDIRECT(\"1:\"&ROWS(points)))),ROWS($1:$18))),\"\")","v":0},{"$f":"IF(ROWS($1:$19)<=COUNTIF(joueurs,$B117),INDEX(points,SMALL(IF(joueurs=$B117,ROW(INDIRECT(\"1:\"&ROWS(points)))),ROWS($1:$19))),\"\")","v":0},{"$f":"IF(ROWS($1:$20)<=COUNTIF(points,$B117),INDEX(fautes,SMALL(IF(joueurs=$B117,ROW(INDIRECT(\"1:\"&ROWS(points)))),ROWS($1:$20))),\"\")","v":0},{"$f":"IF(ROWS($1:$11)<=COUNTIF(joueurs,$B117),INDEX(victoires,SMALL(IF(joueurs=$B117,ROW(INDIRECT(\"1:\"&ROWS(victoires)))),ROWS($1:$11))),\"\")","v":0},{"$f":"IF(ROWS($1:$12)<=COUNTIF(joueurs,$B117),INDEX(victoires,SMALL(IF(joueurs=$B117,ROW(INDIRECT(\"1:\"&ROWS(victoires)))),ROWS($1:$12))),\"\")","v":0},{"$f":"IF(ROWS($1:$13)<=COUNTIF(joueurs,$B117),INDEX(victoires,SMALL(IF(joueurs=$B117,ROW(INDIRECT(\"1:\"&ROWS(victoires)))),ROWS($1:$13))),\"\")","v":0},{"$f":"IF(ROWS($1:$14)<=COUNTIF(joueurs,$B117),INDEX(victoires,SMALL(IF(joueurs=$B117,ROW(INDIRECT(\"1:\"&ROWS(victoires)))),ROWS($1:$14))),\"\")","v":0},{"$f":"IF(ROWS($1:$15)<=COUNTIF(joueurs,$B117),INDEX(victoires,SMALL(IF(joueurs=$B117,ROW(INDIRECT(\"1:\"&ROWS(victoires)))),ROWS($1:$15))),\"\")","v":0},{"$f":"IF(ROWS($1:$16)<=COUNTIF(joueurs,$B117),INDEX(victoires,SMALL(IF(joueurs=$B117,ROW(INDIRECT(\"1:\"&ROWS(victoires)))),ROWS($1:$16))),\"\")","v":0},{"$f":"IF(ROWS($1:$17)<=COUNTIF(joueurs,$B117),INDEX(victoires,SMALL(IF(joueurs=$B117,ROW(INDIRECT(\"1:\"&ROWS(victoires)))),ROWS($1:$17))),\"\")","v":0},{"$f":"IF(ROWS($1:$18)<=COUNTIF(joueurs,$B117),INDEX(victoires,SMALL(IF(joueurs=$B117,ROW(INDIRECT(\"1:\"&ROWS(victoires)))),ROWS($1:$18))),\"\")","v":0},{"$f":"IF(ROWS($1:$19)<=COUNTIF(joueurs,$B117),INDEX(victoires,SMALL(IF(joueurs=$B117,ROW(INDIRECT(\"1:\"&ROWS(victoires)))),ROWS($1:$19))),\"\")","v":0},{"$f":"IF(ROWS($1:$20)<=COUNTIF(joueurs,$B117),INDEX(victoires,SMALL(IF(joueurs=$B117,ROW(INDIRECT(\"1:\"&ROWS(victoires)))),ROWS($1:$20))),\"\")","v":0}]
[null,null,null,{"$f":"IF(ROWS($1:$21)<=COUNTIF(joueurs,$B117),INDEX(fautes,SMALL(IF(joueurs=$B117,ROW(INDIRECT(\"1:\"&ROWS(fautes)))),ROWS($1:$21))),\"\")","v":0},{"$f":"IF(ROWS($1:$22)<=COUNTIF(joueurs,$B117),INDEX(fautes,SMALL(IF(joueurs=$B117,ROW(INDIRECT(\"1:\"&ROWS(fautes)))),ROWS($1:$22))),\"\")","v":0},{"$f":"IF(ROWS($1:$23)<=COUNTIF(joueurs,$B117),INDEX(fautes,SMALL(IF(joueurs=$B117,ROW(INDIRECT(\"1:\"&ROWS(fautes)))),ROWS($1:$23))),\"\")","v":0},{"$f":"IF(ROWS($1:$24)<=COUNTIF(joueurs,$B117),INDEX(fautes,SMALL(IF(joueurs=$B117,ROW(INDIRECT(\"1:\"&ROWS(fautes)))),ROWS($1:$24))),\"\")","v":0},{"$f":"IF(ROWS($1:$25)<=COUNTIF(joueurs,$B117),INDEX(fautes,SMALL(IF(joueurs=$B117,ROW(INDIRECT(\"1:\"&ROWS(fautes)))),ROWS($1:$25))),\"\")","v":0},{"$f":"IF(ROWS($1:$26)<=COUNTIF(joueurs,$B117),INDEX(fautes,SMALL(IF(joueurs=$B117,ROW(INDIRECT(\"1:\"&ROWS(fautes)))),ROWS($1:$26))),\"\")","v":0},{"$f":"IF(ROWS($1:$27)<=COUNTIF(joueurs,$B117),INDEX(fautes,SMALL(IF(joueurs=$B117,ROW(INDIRECT(\"1:\"&ROWS(fautes)))),ROWS($1:$27))),\"\")","v":0},{"$f":"IF(ROWS($1:$28)<=COUNTIF(joueurs,$B117),INDEX(fautes,SMALL(IF(joueurs=$B117,ROW(INDIRECT(\"1:\"&ROWS(fautes)))),ROWS($1:$28))),\"\")","v":0},{"$f":"IF(ROWS($1:$29)<=COUNTIF(joueurs,$B117),INDEX(fautes,SMALL(IF(joueurs=$B117,ROW(INDIRECT(\"1:\"&ROWS(fautes)))),ROWS($1:$29))),\"\")","v":0},{"$f":"IF(ROWS($1:$30)<=COUNTIF(joueurs,$B117),INDEX(fautes,SMALL(IF(joueurs=$B117,ROW(INDIRECT(\"1:\"&ROWS(fautes)))),ROWS($1:$30))),\"\")","v":0},{"$f":"IF(ROWS($1:$21)<=COUNTIF(joueurs,$B117),INDEX(ballonperdus,SMALL(IF(joueurs=$B117,ROW(INDIRECT(\"1:\"&ROWS(ballonperdus)))),ROWS($1:$21))),\"\")","v":0},{"$f":"IF(ROWS($1:$22)<=COUNTIF(joueurs,$B117),INDEX(ballonperdus,SMALL(IF(joueurs=$B117,ROW(INDIRECT(\"1:\"&ROWS(ballonperdus)))),ROWS($1:$22))),\"\")","v":0},{"$f":"IF(ROWS($1:$23)<=COUNTIF(joueurs,$B117),INDEX(ballonperdus,SMALL(IF(joueurs=$B117,ROW(INDIRECT(\"1:\"&ROWS(ballonperdus)))),ROWS($1:$23))),\"\")","v":0},{"$f":"IF(ROWS($1:$24)<=COUNTIF(joueurs,$B117),INDEX(ballonperdus,SMALL(IF(joueurs=$B117,ROW(INDIRECT(\"1:\"&ROWS(ballonperdus)))),ROWS($1:$24))),\"\")","v":0},{"$f":"IF(ROWS($1:$25)<=COUNTIF(joueurs,$B117),INDEX(ballonperdus,SMALL(IF(joueurs=$B117,ROW(INDIRECT(\"1:\"&ROWS(ballonperdus)))),ROWS($1:$25))),\"\")","v":0},{"$f":"IF(ROWS($1:$26)<=COUNTIF(joueurs,$B117),INDEX(ballonperdus,SMALL(IF(joueurs=$B117,ROW(INDIRECT(\"1:\"&ROWS(ballonperdus)))),ROWS($1:$26))),\"\")","v":0},{"$f":"IF(ROWS($1:$27)<=COUNTIF(joueurs,$B117),INDEX(ballonperdus,SMALL(IF(joueurs=$B117,ROW(INDIRECT(\"1:\"&ROWS(ballonperdus)))),ROWS($1:$27))),\"\")","v":0},{"$f":"IF(ROWS($1:$28)<=COUNTIF(joueurs,$B117),INDEX(ballonperdus,SMALL(IF(joueurs=$B117,ROW(INDIRECT(\"1:\"&ROWS(ballonperdus)))),ROWS($1:$28))),\"\")","v":0},{"$f":"IF(ROWS($1:$29)<=COUNTIF(joueurs,$B117),INDEX(ballonperdus,SMALL(IF(joueurs=$B117,ROW(INDIRECT(\"1:\"&ROWS(ballonperdus)))),ROWS($1:$29))),\"\")","v":0},{"$f":"IF(ROWS($1:$30)<=COUNTIF(joueurs,$B117),INDEX(ballonperdus,SMALL(IF(joueurs=$B117,ROW(INDIRECT(\"1:\"&ROWS(ballonperdus)))),ROWS($1:$30))),\"\")","v":0},{"$f":"IF(ROWS($1:$21)<=COUNTIF(joueurs,$B117),INDEX(interceptions,SMALL(IF(joueurs=$B117,ROW(INDIRECT(\"1:\"&ROWS(interceptions)))),ROWS($1:$21))),\"\")","v":0},{"$f":"IF(ROWS($1:$22)<=COUNTIF(joueurs,$B117),INDEX(interceptions,SMALL(IF(joueurs=$B117,ROW(INDIRECT(\"1:\"&ROWS(interceptions)))),ROWS($1:$22))),\"\")","v":0},{"$f":"IF(ROWS($1:$23)<=COUNTIF(joueurs,$B117),INDEX(interceptions,SMALL(IF(joueurs=$B117,ROW(INDIRECT(\"1:\"&ROWS(interceptions)))),ROWS($1:$23))),\"\")","v":0},{"$f":"IF(ROWS($1:$24)<=COUNTIF(joueurs,$B117),INDEX(interceptions,SMALL(IF(joueurs=$B117,ROW(INDIRECT(\"1:\"&ROWS(interceptions)))),ROWS($1:$24))),\"\")","v":0},{"$f":"IF(ROWS($1:$25)<=COUNTIF(joueurs,$B117),INDEX(interceptions,SMALL(IF(joueurs=$B117,ROW(INDIRECT(\"1:\"&ROWS(interceptions)))),ROWS($1:$25))),\"\")","v":0},{"$f":"IF(ROWS($1:$26)<=COUNTIF(joueurs,$B117),INDEX(interceptions,SMALL(IF(joueurs=$B117,ROW(INDIRECT(\"1:\"&ROWS(interceptions)))),ROWS($1:$26))),\"\")","v":0},{"$f":"IF(ROWS($1:$27)<=COUNTIF(joueurs,$B117),INDEX(interceptions,SMALL(IF(joueurs=$B117,ROW(INDIRECT(\"1:\"&ROWS(interceptions)))),ROWS($1:$27))),\"\")","v":0},{"$f":"IF(ROWS($1:$28)<=COUNTIF(joueurs,$B117),INDEX(interceptions,SMALL(IF(joueurs=$B117,ROW(INDIRECT(\"1:\"&ROWS(interceptions)))),ROWS($1:$28))),\"\")","v":0},{"$f":"IF(ROWS($1:$29)<=COUNTIF(joueurs,$B117),INDEX(interceptions,SMALL(IF(joueurs=$B117,ROW(INDIRECT(\"1:\"&ROWS(interceptions)))),ROWS($1:$29))),\"\")","v":0},{"$f":"IF(ROWS($1:$30)<=COUNTIF(joueurs,$B117),INDEX(interceptions,SMALL(IF(joueurs=$B117,ROW(INDIRECT(\"1:\"&ROWS(interceptions)))),ROWS($1:$30))),\"\")","v":0},{"$f":"IF(ROWS($1:$21)<=COUNTIF(joueurs,$B117),INDEX(ballonrecuperes,SMALL(IF(joueurs=$B117,ROW(INDIRECT(\"1:\"&ROWS(ballonrecuperes)))),ROWS($1:$21))),\"\")","v":0},{"$f":"IF(ROWS($1:$22)<=COUNTIF(joueurs,$B117),INDEX(ballonrecuperes,SMALL(IF(joueurs=$B117,ROW(INDIRECT(\"1:\"&ROWS(ballonrecuperes)))),ROWS($1:$22))),\"\")","v":0},{"$f":"IF(ROWS($1:$23)<=COUNTIF(joueurs,$B117),INDEX(ballonrecuperes,SMALL(IF(joueurs=$B117,ROW(INDIRECT(\"1:\"&ROWS(ballonrecuperes)))),ROWS($1:$23))),\"\")","v":0},{"$f":"IF(ROWS($1:$24)<=COUNTIF(joueurs,$B117),INDEX(ballonrecuperes,SMALL(IF(joueurs=$B117,ROW(INDIRECT(\"1:\"&ROWS(ballonrecuperes)))),ROWS($1:$24))),\"\")","v":0},{"$f":"IF(ROWS($1:$25)<=COUNTIF(joueurs,$B117),INDEX(ballonrecuperes,SMALL(IF(joueurs=$B117,ROW(INDIRECT(\"1:\"&ROWS(ballonrecuperes)))),ROWS($1:$25))),\"\")","v":0},{"$f":"IF(ROWS($1:$26)<=COUNTIF(joueurs,$B117),INDEX(ballonrecuperes,SMALL(IF(joueurs=$B117,ROW(INDIRECT(\"1:\"&ROWS(ballonrecuperes)))),ROWS($1:$26))),\"\")","v":0},{"$f":"IF(ROWS($1:$27)<=COUNTIF(joueurs,$B117),INDEX(ballonrecuperes,SMALL(IF(joueurs=$B117,ROW(INDIRECT(\"1:\"&ROWS(ballonrecuperes)))),ROWS($1:$27))),\"\")","v":0},{"$f":"IF(ROWS($1:$28)<=COUNTIF(joueurs,$B117),INDEX(ballonrecuperes,SMALL(IF(joueurs=$B117,ROW(INDIRECT(\"1:\"&ROWS(ballonrecuperes)))),ROWS($1:$28))),\"\")","v":0},{"$f":"IF(ROWS($1:$29)<=COUNTIF(joueurs,$B117),INDEX(ballonrecuperes,SMALL(IF(joueurs=$B117,ROW(INDIRECT(\"1:\"&ROWS(ballonrecuperes)))),ROWS($1:$29))),\"\")","v":0},{"$f":"IF(ROWS($1:$30)<=COUNTIF(joueurs,$B117),INDEX(ballonrecuperes,SMALL(IF(joueurs=$B117,ROW(INDIRECT(\"1:\"&ROWS(ballonrecuperes)))),ROWS($1:$30))),\"\")","v":0},{"$f":"IF(ROWS($1:$21)<=COUNTIF(joueurs,$B117),INDEX(tirs,SMALL(IF(joueurs=$B117,ROW(INDIRECT(\"1:\"&ROWS(tirs)))),ROWS($1:$21))),\"\")","v":0},{"$f":"IF(ROWS($1:$22)<=COUNTIF(joueurs,$B117),INDEX(tirs,SMALL(IF(joueurs=$B117,ROW(INDIRECT(\"1:\"&ROWS(tirs)))),ROWS($1:$22))),\"\")","v":0},{"$f":"IF(ROWS($1:$23)<=COUNTIF(joueurs,$B117),INDEX(tirs,SMALL(IF(joueurs=$B117,ROW(INDIRECT(\"1:\"&ROWS(tirs)))),ROWS($1:$23))),\"\")","v":0},{"$f":"IF(ROWS($1:$24)<=COUNTIF(joueurs,$B117),INDEX(tirs,SMALL(IF(joueurs=$B117,ROW(INDIRECT(\"1:\"&ROWS(tirs)))),ROWS($1:$24))),\"\")","v":0},{"$f":"IF(ROWS($1:$25)<=COUNTIF(joueurs,$B117),INDEX(tirs,SMALL(IF(joueurs=$B117,ROW(INDIRECT(\"1:\"&ROWS(tirs)))),ROWS($1:$25))),\"\")","v":0},{"$f":"IF(ROWS($1:$26)<=COUNTIF(joueurs,$B117),INDEX(tirs,SMALL(IF(joueurs=$B117,ROW(INDIRECT(\"1:\"&ROWS(tirs)))),ROWS($1:$26))),\"\")","v":0},{"$f":"IF(ROWS($1:$27)<=COUNTIF(joueurs,$B117),INDEX(tirs,SMALL(IF(joueurs=$B117,ROW(INDIRECT(\"1:\"&ROWS(tirs)))),ROWS($1:$27))),\"\")","v":0},{"$f":"IF(ROWS($1:$28)<=COUNTIF(joueurs,$B117),INDEX(tirs,SMALL(IF(joueurs=$B117,ROW(INDIRECT(\"1:\"&ROWS(tirs)))),ROWS($1:$28))),\"\")","v":0},{"$f":"IF(ROWS($1:$29)<=COUNTIF(joueurs,$B117),INDEX(tirs,SMALL(IF(joueurs=$B117,ROW(INDIRECT(\"1:\"&ROWS(tirs)))),ROWS($1:$29))),\"\")","v":0},{"$f":"IF(ROWS($1:$30)<=COUNTIF(joueurs,$B117),INDEX(tirs,SMALL(IF(joueurs=$B117,ROW(INDIRECT(\"1:\"&ROWS(tirs)))),ROWS($1:$30))),\"\")","v":0},{"$f":"IF(ROWS($1:$21)<=COUNTIF(joueurs,$B117),INDEX(bontirs,SMALL(IF(joueurs=$B117,ROW(INDIRECT(\"1:\"&ROWS(bontirs)))),ROWS($1:$21))),\"\")","v":0},{"$f":"IF(ROWS($1:$22)<=COUNTIF(joueurs,$B117),INDEX(bontirs,SMALL(IF(joueurs=$B117,ROW(INDIRECT(\"1:\"&ROWS(bontirs)))),ROWS($1:$22))),\"\")","v":0},{"$f":"IF(ROWS($1:$23)<=COUNTIF(joueurs,$B117),INDEX(bontirs,SMALL(IF(joueurs=$B117,ROW(INDIRECT(\"1:\"&ROWS(bontirs)))),ROWS($1:$23))),\"\")","v":0},{"$f":"IF(ROWS($1:$24)<=COUNTIF(joueurs,$B117),INDEX(bontirs,SMALL(IF(joueurs=$B117,ROW(INDIRECT(\"1:\"&ROWS(bontirs)))),ROWS($1:$24))),\"\")","v":0},{"$f":"IF(ROWS($1:$25)<=COUNTIF(joueurs,$B117),INDEX(bontirs,SMALL(IF(joueurs=$B117,ROW(INDIRECT(\"1:\"&ROWS(bontirs)))),ROWS($1:$25))),\"\")","v":0},{"$f":"IF(ROWS($1:$26)<=COUNTIF(joueurs,$B117),INDEX(bontirs,SMALL(IF(joueurs=$B117,ROW(INDIRECT(\"1:\"&ROWS(bontirs)))),ROWS($1:$26))),\"\")","v":0},{"$f":"IF(ROWS($1:$27)<=COUNTIF(joueurs,$B117),INDEX(bontirs,SMALL(IF(joueurs=$B117,ROW(INDIRECT(\"1:\"&ROWS(bontirs)))),ROWS($1:$27))),\"\")","v":0},{"$f":"IF(ROWS($1:$28)<=COUNTIF(joueurs,$B117),INDEX(bontirs,SMALL(IF(joueurs=$B117,ROW(INDIRECT(\"1:\"&ROWS(bontirs)))),ROWS($1:$28))),\"\")","v":0},{"$f":"IF(ROWS($1:$29)<=COUNTIF(joueurs,$B117),INDEX(bontirs,SMALL(IF(joueurs=$B117,ROW(INDIRECT(\"1:\"&ROWS(bontirs)))),ROWS($1:$29))),\"\")","v":0},{"$f":"IF(ROWS($1:$30)<=COUNTIF(joueurs,$B117),INDEX(bontirs,SMALL(IF(joueurs=$B117,ROW(INDIRECT(\"1:\"&ROWS(bontirs)))),ROWS($1:$30))),\"\")","v":0},{"$f":"IF(ROWS($1:$21)<=COUNTIF(joueurs,$B117),INDEX(points,SMALL(IF(joueurs=$B117,ROW(INDIRECT(\"1:\"&ROWS(points)))),ROWS($1:$21))),\"\")","v":0},{"$f":"IF(ROWS($1:$22)<=COUNTIF(joueurs,$B117),INDEX(points,SMALL(IF(joueurs=$B117,ROW(INDIRECT(\"1:\"&ROWS(points)))),ROWS($1:$22))),\"\")","v":0},{"$f":"IF(ROWS($1:$23)<=COUNTIF(joueurs,$B117),INDEX(points,SMALL(IF(joueurs=$B117,ROW(INDIRECT(\"1:\"&ROWS(points)))),ROWS($1:$23))),\"\")","v":0},{"$f":"IF(ROWS($1:$24)<=COUNTIF(joueurs,$B117),INDEX(points,SMALL(IF(joueurs=$B117,ROW(INDIRECT(\"1:\"&ROWS(points)))),ROWS($1:$24))),\"\")","v":0},{"$f":"IF(ROWS($1:$25)<=COUNTIF(joueurs,$B117),INDEX(points,SMALL(IF(joueurs=$B117,ROW(INDIRECT(\"1:\"&ROWS(points)))),ROWS($1:$25))),\"\")","v":0},{"$f":"IF(ROWS($1:$26)<=COUNTIF(joueurs,$B117),INDEX(points,SMALL(IF(joueurs=$B117,ROW(INDIRECT(\"1:\"&ROWS(points)))),ROWS($1:$26))),\"\")","v":0},{"$f":"IF(ROWS($1:$27)<=COUNTIF(joueurs,$B117),INDEX(points,SMALL(IF(joueurs=$B117,ROW(INDIRECT(\"1:\"&ROWS(points)))),ROWS($1:$27))),\"\")","v":0},{"$f":"IF(ROWS($1:$28)<=COUNTIF(joueurs,$B117),INDEX(points,SMALL(IF(joueurs=$B117,ROW(INDIRECT(\"1:\"&ROWS(points)))),ROWS($1:$28))),\"\")","v":0},{"$f":"IF(ROWS($1:$29)<=COUNTIF(joueurs,$B117),INDEX(points,SMALL(IF(joueurs=$B117,ROW(INDIRECT(\"1:\"&ROWS(points)))),ROWS($1:$29))),\"\")","v":0},{"$f":"IF(ROWS($1:$30)<=COUNTIF(joueurs,$B117),INDEX(points,SMALL(IF(joueurs=$B117,ROW(INDIRECT(\"1:\"&ROWS(points)))),ROWS($1:$30))),\"\")","v":0},{"$f":"IF(ROWS($1:$21)<=COUNTIF(joueurs,$B117),INDEX(victoires,SMALL(IF(joueurs=$B117,ROW(INDIRECT(\"1:\"&ROWS(victoires)))),ROWS($1:$21))),\"\")","v":0},{"$f":"IF(ROWS($1:$22)<=COUNTIF(joueurs,$B117),INDEX(victoires,SMALL(IF(joueurs=$B117,ROW(INDIRECT(\"1:\"&ROWS(victoires)))),ROWS($1:$22))),\"\")","v":0},{"$f":"IF(ROWS($1:$23)<=COUNTIF(joueurs,$B117),INDEX(victoires,SMALL(IF(joueurs=$B117,ROW(INDIRECT(\"1:\"&ROWS(victoires)))),ROWS($1:$23))),\"\")","v":0},{"$f":"IF(ROWS($1:$24)<=COUNTIF(joueurs,$B117),INDEX(victoires,SMALL(IF(joueurs=$B117,ROW(INDIRECT(\"1:\"&ROWS(victoires)))),ROWS($1:$24))),\"\")","v":0},{"$f":"IF(ROWS($1:$25)<=COUNTIF(joueurs,$B117),INDEX(victoires,SMALL(IF(joueurs=$B117,ROW(INDIRECT(\"1:\"&ROWS(victoires)))),ROWS($1:$25))),\"\")","v":0},{"$f":"IF(ROWS($1:$26)<=COUNTIF(joueurs,$B117),INDEX(victoires,SMALL(IF(joueurs=$B117,ROW(INDIRECT(\"1:\"&ROWS(victoires)))),ROWS($1:$26))),\"\")","v":0},{"$f":"IF(ROWS($1:$27)<=COUNTIF(joueurs,$B117),INDEX(victoires,SMALL(IF(joueurs=$B117,ROW(INDIRECT(\"1:\"&ROWS(victoires)))),ROWS($1:$27))),\"\")","v":0},{"$f":"IF(ROWS($1:$28)<=COUNTIF(joueurs,$B117),INDEX(victoires,SMALL(IF(joueurs=$B117,ROW(INDIRECT(\"1:\"&ROWS(victoires)))),ROWS($1:$28))),\"\")","v":0},{"$f":"IF(ROWS($1:$29)<=COUNTIF(joueurs,$B117),INDEX(victoires,SMALL(IF(joueurs=$B117,ROW(INDIRECT(\"1:\"&ROWS(victoires)))),ROWS($1:$29))),\"\")","v":0},{"$f":"IF(ROWS($1:$30)<=COUNTIF(joueurs,$B117),INDEX(victoires,SMALL(IF(joueurs=$B117,ROW(INDIRECT(\"1:\"&ROWS(victoires)))),ROWS($1:$30))),\"\")","v":0}]
[null,null,null,{"$f":"IF(ROWS($1:$31)<=COUNTIF(joueurs,$B117),INDEX(fautes,SMALL(IF(joueurs=$B117,ROW(INDIRECT(\"1:\"&ROWS(fautes)))),ROWS($1:$31))),\"\")","v":0},{"$f":"IF(ROWS($1:$32)<=COUNTIF(joueurs,$B117),INDEX(fautes,SMALL(IF(joueurs=$B117,ROW(INDIRECT(\"1:\"&ROWS(fautes)))),ROWS($1:$32))),\"\")","v":0},{"$f":"IF(ROWS($1:$33)<=COUNTIF(joueurs,$B117),INDEX(fautes,SMALL(IF(joueurs=$B117,ROW(INDIRECT(\"1:\"&ROWS(fautes)))),ROWS($1:$33))),\"\")","v":0},{"$f":"IF(ROWS($1:$34)<=COUNTIF(joueurs,$B117),INDEX(fautes,SMALL(IF(joueurs=$B117,ROW(INDIRECT(\"1:\"&ROWS(fautes)))),ROWS($1:$34))),\"\")","v":0},{"$f":"IF(ROWS($1:$35)<=COUNTIF(joueurs,$B117),INDEX(fautes,SMALL(IF(joueurs=$B117,ROW(INDIRECT(\"1:\"&ROWS(fautes)))),ROWS($1:$35))),\"\")","v":0},{"$f":"IF(ROWS($1:$36)<=COUNTIF(joueurs,$B117),INDEX(fautes,SMALL(IF(joueurs=$B117,ROW(INDIRECT(\"1:\"&ROWS(fautes)))),ROWS($1:$36))),\"\")","v":0},{"$f":"IF(ROWS($1:$37)<=COUNTIF(joueurs,$B117),INDEX(fautes,SMALL(IF(joueurs=$B117,ROW(INDIRECT(\"1:\"&ROWS(fautes)))),ROWS($1:$37))),\"\")","v":0},{"$f":"IF(ROWS($1:$38)<=COUNTIF(joueurs,$B117),INDEX(fautes,SMALL(IF(joueurs=$B117,ROW(INDIRECT(\"1:\"&ROWS(fautes)))),ROWS($1:$38))),\"\")","v":0},{"$f":"IF(ROWS($1:$39)<=COUNTIF(joueurs,$B117),INDEX(fautes,SMALL(IF(joueurs=$B117,ROW(INDIRECT(\"1:\"&ROWS(fautes)))),ROWS($1:$39))),\"\")","v":0},{"$f":"IF(ROWS($1:$40)<=COUNTIF(joueurs,$B117),INDEX(fautes,SMALL(IF(joueurs=$B117,ROW(INDIRECT(\"1:\"&ROWS(fautes)))),ROWS($1:$40))),\"\")","v":0},{"$f":"IF(ROWS($1:$31)<=COUNTIF(joueurs,$B117),INDEX(ballonperdus,SMALL(IF(joueurs=$B117,ROW(INDIRECT(\"1:\"&ROWS(ballonperdus)))),ROWS($1:$31))),\"\")","v":0},{"$f":"IF(ROWS($1:$32)<=COUNTIF(joueurs,$B117),INDEX(ballonperdus,SMALL(IF(joueurs=$B117,ROW(INDIRECT(\"1:\"&ROWS(ballonperdus)))),ROWS($1:$32))),\"\")","v":0},{"$f":"IF(ROWS($1:$33)<=COUNTIF(joueurs,$B117),INDEX(ballonperdus,SMALL(IF(joueurs=$B117,ROW(INDIRECT(\"1:\"&ROWS(ballonperdus)))),ROWS($1:$33))),\"\")","v":0},{"$f":"IF(ROWS($1:$34)<=COUNTIF(joueurs,$B117),INDEX(ballonperdus,SMALL(IF(joueurs=$B117,ROW(INDIRECT(\"1:\"&ROWS(ballonperdus)))),ROWS($1:$34))),\"\")","v":0},{"$f":"IF(ROWS($1:$35)<=COUNTIF(joueurs,$B117),INDEX(ballonperdus,SMALL(IF(joueurs=$B117,ROW(INDIRECT(\"1:\"&ROWS(ballonperdus)))),ROWS($1:$35))),\"\")","v":0},{"$f":"IF(ROWS($1:$36)<=COUNTIF(joueurs,$B117),INDEX(ballonperdus,SMALL(IF(joueurs=$B117,ROW(INDIRECT(\"1:\"&ROWS(ballonperdus)))),ROWS($1:$36))),\"\")","v":0},{"$f":"IF(ROWS($1:$37)<=COUNTIF(joueurs,$B117),INDEX(ballonperdus,SMALL(IF(joueurs=$B117,ROW(INDIRECT(\"1:\"&ROWS(ballonperdus)))),ROWS($1:$37))),\"\")","v":0},{"$f":"IF(ROWS($1:$38)<=COUNTIF(joueurs,$B117),INDEX(ballonperdus,SMALL(IF(joueurs=$B117,ROW(INDIRECT(\"1:\"&ROWS(ballonperdus)))),ROWS($1:$38))),\"\")","v":0},{"$f":"IF(ROWS($1:$39)<=COUNTIF(joueurs,$B117),INDEX(ballonperdus,SMALL(IF(joueurs=$B117,ROW(INDIRECT(\"1:\"&ROWS(ballonperdus)))),ROWS($1:$39))),\"\")","v":0},{"$f":"IF(ROWS($1:$40)<=COUNTIF(joueurs,$B117),INDEX(ballonperdus,SMALL(IF(joueurs=$B117,ROW(INDIRECT(\"1:\"&ROWS(ballonperdus)))),ROWS($1:$40))),\"\")","v":0},{"$f":"IF(ROWS($1:$31)<=COUNTIF(joueurs,$B117),INDEX(interceptions,SMALL(IF(joueurs=$B117,ROW(INDIRECT(\"1:\"&ROWS(interceptions)))),ROWS($1:$31))),\"\")","v":0},{"$f":"IF(ROWS($1:$32)<=COUNTIF(joueurs,$B117),INDEX(interceptions,SMALL(IF(joueurs=$B117,ROW(INDIRECT(\"1:\"&ROWS(interceptions)))),ROWS($1:$32))),\"\")","v":0},{"$f":"IF(ROWS($1:$33)<=COUNTIF(joueurs,$B117),INDEX(interceptions,SMALL(IF(joueurs=$B117,ROW(INDIRECT(\"1:\"&ROWS(interceptions)))),ROWS($1:$33))),\"\")","v":0},{"$f":"IF(ROWS($1:$34)<=COUNTIF(joueurs,$B117),INDEX(interceptions,SMALL(IF(joueurs=$B117,ROW(INDIRECT(\"1:\"&ROWS(interceptions)))),ROWS($1:$34))),\"\")","v":0},{"$f":"IF(ROWS($1:$35)<=COUNTIF(joueurs,$B117),INDEX(interceptions,SMALL(IF(joueurs=$B117,ROW(INDIRECT(\"1:\"&ROWS(interceptions)))),ROWS($1:$35))),\"\")","v":0},{"$f":"IF(ROWS($1:$36)<=COUNTIF(joueurs,$B117),INDEX(interceptions,SMALL(IF(joueurs=$B117,ROW(INDIRECT(\"1:\"&ROWS(interceptions)))),ROWS($1:$36))),\"\")","v":0},{"$f":"IF(ROWS($1:$37)<=COUNTIF(joueurs,$B117),INDEX(interceptions,SMALL(IF(joueurs=$B117,ROW(INDIRECT(\"1:\"&ROWS(interceptions)))),ROWS($1:$37))),\"\")","v":0},{"$f":"IF(ROWS($1:$38)<=COUNTIF(joueurs,$B117),INDEX(interceptions,SMALL(IF(joueurs=$B117,ROW(INDIRECT(\"1:\"&ROWS(interceptions)))),ROWS($1:$38))),\"\")","v":0},{"$f":"IF(ROWS($1:$39)<=COUNTIF(joueurs,$B117),INDEX(interceptions,SMALL(IF(joueurs=$B117,ROW(INDIRECT(\"1:\"&ROWS(interceptions)))),ROWS($1:$39))),\"\")","v":0},{"$f":"IF(ROWS($1:$40)<=COUNTIF(joueurs,$B117),INDEX(interceptions,SMALL(IF(joueurs=$B117,ROW(INDIRECT(\"1:\"&ROWS(interceptions)))),ROWS($1:$40))),\"\")","v":0},{"$f":"IF(ROWS($1:$31)<=COUNTIF(joueurs,$B117),INDEX(ballonrecuperes,SMALL(IF(joueurs=$B117,ROW(INDIRECT(\"1:\"&ROWS(ballonrecuperes)))),ROWS($1:$31))),\"\")","v":0},{"$f":"IF(ROWS($1:$32)<=COUNTIF(joueurs,$B117),INDEX(ballonrecuperes,SMALL(IF(joueurs=$B117,ROW(INDIRECT(\"1:\"&ROWS(ballonrecuperes)))),ROWS($1:$32))),\"\")","v":0},{"$f":"IF(ROWS($1:$33)<=COUNTIF(joueurs,$B117),INDEX(ballonrecuperes,SMALL(IF(joueurs=$B117,ROW(INDIRECT(\"1:\"&ROWS(ballonrecuperes)))),ROWS($1:$33))),\"\")","v":0},{"$f":"IF(ROWS($1:$34)<=COUNTIF(joueurs,$B117),INDEX(ballonrecuperes,SMALL(IF(joueurs=$B117,ROW(INDIRECT(\"1:\"&ROWS(ballonrecuperes)))),ROWS($1:$34))),\"\")","v":0},{"$f":"IF(ROWS($1:$35)<=COUNTIF(joueurs,$B117),INDEX(ballonrecuperes,SMALL(IF(joueurs=$B117,ROW(INDIRECT(\"1:\"&ROWS(ballonrecuperes)))),ROWS($1:$35))),\"\")","v":0},{"$f":"IF(ROWS($1:$36)<=COUNTIF(joueurs,$B117),INDEX(ballonrecuperes,SMALL(IF(joueurs=$B117,ROW(INDIRECT(\"1:\"&ROWS(ballonrecuperes)))),ROWS($1:$36))),\"\")","v":0},{"$f":"IF(ROWS($1:$37)<=COUNTIF(joueurs,$B117),INDEX(ballonrecuperes,SMALL(IF(joueurs=$B117,ROW(INDIRECT(\"1:\"&ROWS(ballonrecuperes)))),ROWS($1:$37))),\"\")","v":0},{"$f":"IF(ROWS($1:$38)<=COUNTIF(joueurs,$B117),INDEX(ballonrecuperes,SMALL(IF(joueurs=$B117,ROW(INDIRECT(\"1:\"&ROWS(ballonrecuperes)))),ROWS($1:$38))),\"\")","v":0},{"$f":"IF(ROWS($1:$39)<=COUNTIF(joueurs,$B117),INDEX(ballonrecuperes,SMALL(IF(joueurs=$B117,ROW(INDIRECT(\"1:\"&ROWS(ballonrecuperes)))),ROWS($1:$39))),\"\")","v":0},{"$f":"IF(ROWS($1:$40)<=COUNTIF(joueurs,$B117),INDEX(ballonrecuperes,SMALL(IF(joueurs=$B117,ROW(INDIRECT(\"1:\"&ROWS(ballonrecuperes)))),ROWS($1:$40))),\"\")","v":0},{"$f":"IF(ROWS($1:$31)<=COUNTIF(joueurs,$B117),INDEX(tirs,SMALL(IF(joueurs=$B117,ROW(INDIRECT(\"1:\"&ROWS(tirs)))),ROWS($1:$31))),\"\")","v":0},{"$f":"IF(ROWS($1:$32)<=COUNTIF(joueurs,$B117),INDEX(tirs,SMALL(IF(joueurs=$B117,ROW(INDIRECT(\"1:\"&ROWS(tirs)))),ROWS($1:$32))),\"\")","v":0},{"$f":"IF(ROWS($1:$33)<=COUNTIF(joueurs,$B117),INDEX(tirs,SMALL(IF(joueurs=$B117,ROW(INDIRECT(\"1:\"&ROWS(tirs)))),ROWS($1:$33))),\"\")","v":0},{"$f":"IF(ROWS($1:$34)<=COUNTIF(joueurs,$B117),INDEX(tirs,SMALL(IF(joueurs=$B117,ROW(INDIRECT(\"1:\"&ROWS(tirs)))),ROWS($1:$34))),\"\")","v":0},{"$f":"IF(ROWS($1:$35)<=COUNTIF(joueurs,$B117),INDEX(tirs,SMALL(IF(joueurs=$B117,ROW(INDIRECT(\"1:\"&ROWS(tirs)))),ROWS($1:$35))),\"\")","v":0},{"$f":"IF(ROWS($1:$36)<=COUNTIF(joueurs,$B117),INDEX(tirs,SMALL(IF(joueurs=$B117,ROW(INDIRECT(\"1:\"&ROWS(tirs)))),ROWS($1:$36))),\"\")","v":0},{"$f":"IF(ROWS($1:$37)<=COUNTIF(joueurs,$B117),INDEX(tirs,SMALL(IF(joueurs=$B117,ROW(INDIRECT(\"1:\"&ROWS(tirs)))),ROWS($1:$37))),\"\")","v":0},{"$f":"IF(ROWS($1:$38)<=COUNTIF(joueurs,$B117),INDEX(tirs,SMALL(IF(joueurs=$B117,ROW(INDIRECT(\"1:\"&ROWS(tirs)))),ROWS($1:$38))),\"\")","v":0},{"$f":"IF(ROWS($1:$39)<=COUNTIF(joueurs,$B117),INDEX(tirs,SMALL(IF(joueurs=$B117,ROW(INDIRECT(\"1:\"&ROWS(tirs)))),ROWS($1:$39))),\"\")","v":0},{"$f":"IF(ROWS($1:$40)<=COUNTIF(joueurs,$B117),INDEX(tirs,SMALL(IF(joueurs=$B117,ROW(INDIRECT(\"1:\"&ROWS(tirs)))),ROWS($1:$40))),\"\")","v":0},{"$f":"IF(ROWS($1:$31)<=COUNTIF(joueurs,$B117),INDEX(bontirs,SMALL(IF(joueurs=$B117,ROW(INDIRECT(\"1:\"&ROWS(bontirs)))),ROWS($1:$31))),\"\")","v":0},{"$f":"IF(ROWS($1:$32)<=COUNTIF(joueurs,$B117),INDEX(bontirs,SMALL(IF(joueurs=$B117,ROW(INDIRECT(\"1:\"&ROWS(bontirs)))),ROWS($1:$32))),\"\")","v":0},{"$f":"IF(ROWS($1:$33)<=COUNTIF(joueurs,$B117),INDEX(bontirs,SMALL(IF(joueurs=$B117,ROW(INDIRECT(\"1:\"&ROWS(bontirs)))),ROWS($1:$33))),\"\")","v":0},{"$f":"IF(ROWS($1:$34)<=COUNTIF(joueurs,$B117),INDEX(bontirs,SMALL(IF(joueurs=$B117,ROW(INDIRECT(\"1:\"&ROWS(bontirs)))),ROWS($1:$34))),\"\")","v":0},{"$f":"IF(ROWS($1:$35)<=COUNTIF(joueurs,$B117),INDEX(bontirs,SMALL(IF(joueurs=$B117,ROW(INDIRECT(\"1:\"&ROWS(bontirs)))),ROWS($1:$35))),\"\")","v":0},{"$f":"IF(ROWS($1:$36)<=COUNTIF(joueurs,$B117),INDEX(bontirs,SMALL(IF(joueurs=$B117,ROW(INDIRECT(\"1:\"&ROWS(bontirs)))),ROWS($1:$36))),\"\")","v":0},{"$f":"IF(ROWS($1:$37)<=COUNTIF(joueurs,$B117),INDEX(bontirs,SMALL(IF(joueurs=$B117,ROW(INDIRECT(\"1:\"&ROWS(bontirs)))),ROWS($1:$37))),\"\")","v":0},{"$f":"IF(ROWS($1:$38)<=COUNTIF(joueurs,$B117),INDEX(bontirs,SMALL(IF(joueurs=$B117,ROW(INDIRECT(\"1:\"&ROWS(bontirs)))),ROWS($1:$38))),\"\")","v":0},{"$f":"IF(ROWS($1:$39)<=COUNTIF(joueurs,$B117),INDEX(bontirs,SMALL(IF(joueurs=$B117,ROW(INDIRECT(\"1:\"&ROWS(bontirs)))),ROWS($1:$39))),\"\")","v":0},{"$f":"IF(ROWS($1:$40)<=COUNTIF(joueurs,$B117),INDEX(bontirs,SMALL(IF(joueurs=$B117,ROW(INDIRECT(\"1:\"&ROWS(bontirs)))),ROWS($1:$40))),\"\")","v":0},{"$f":"IF(ROWS($1:$31)<=COUNTIF(joueurs,$B117),INDEX(points,SMALL(IF(joueurs=$B117,ROW(INDIRECT(\"1:\"&ROWS(points)))),ROWS($1:$31))),\"\")","v":0},{"$f":"IF(ROWS($1:$32)<=COUNTIF(joueurs,$B117),INDEX(points,SMALL(IF(joueurs=$B117,ROW(INDIRECT(\"1:\"&ROWS(points)))),ROWS($1:$32))),\"\")","v":0},{"$f":"IF(ROWS($1:$33)<=COUNTIF(joueurs,$B117),INDEX(points,SMALL(IF(joueurs=$B117,ROW(INDIRECT(\"1:\"&ROWS(points)))),ROWS($1:$33))),\"\")","v":0},{"$f":"IF(ROWS($1:$34)<=COUNTIF(joueurs,$B117),INDEX(points,SMALL(IF(joueurs=$B117,ROW(INDIRECT(\"1:\"&ROWS(points)))),ROWS($1:$34))),\"\")","v":0},{"$f":"IF(ROWS($1:$35)<=COUNTIF(joueurs,$B117),INDEX(points,SMALL(IF(joueurs=$B117,ROW(INDIRECT(\"1:\"&ROWS(points)))),ROWS($1:$35))),\"\")","v":0},{"$f":"IF(ROWS($1:$36)<=COUNTIF(joueurs,$B117),INDEX(points,SMALL(IF(joueurs=$B117,ROW(INDIRECT(\"1:\"&ROWS(points)))),ROWS($1:$36))),\"\")","v":0},{"$f":"IF(ROWS($1:$37)<=COUNTIF(joueurs,$B117),INDEX(points,SMALL(IF(joueurs=$B117,ROW(INDIRECT(\"1:\"&ROWS(points)))),ROWS($1:$37))),\"\")","v":0},{"$f":"IF(ROWS($1:$38)<=COUNTIF(joueurs,$B117),INDEX(points,SMALL(IF(joueurs=$B117,ROW(INDIRECT(\"1:\"&ROWS(points)))),ROWS($1:$38))),\"\")","v":0},{"$f":"IF(ROWS($1:$39)<=COUNTIF(joueurs,$B117),INDEX(points,SMALL(IF(joueurs=$B117,ROW(INDIRECT(\"1:\"&ROWS(points)))),ROWS($1:$39))),\"\")","v":0},{"$f":"IF(ROWS($1:$40)<=COUNTIF(joueurs,$B117),INDEX(points,SMALL(IF(joueurs=$B117,ROW(INDIRECT(\"1:\"&ROWS(points)))),ROWS($1:$40))),\"\")","v":0},{"$f":"IF(ROWS($1:$31)<=COUNTIF(joueurs,$B117),INDEX(victoires,SMALL(IF(joueurs=$B117,ROW(INDIRECT(\"1:\"&ROWS(victoires)))),ROWS($1:$31))),\"\")","v":0},{"$f":"IF(ROWS($1:$32)<=COUNTIF(joueurs,$B117),INDEX(victoires,SMALL(IF(joueurs=$B117,ROW(INDIRECT(\"1:\"&ROWS(victoires)))),ROWS($1:$32))),\"\")","v":0},{"$f":"IF(ROWS($1:$33)<=COUNTIF(joueurs,$B117),INDEX(victoires,SMALL(IF(joueurs=$B117,ROW(INDIRECT(\"1:\"&ROWS(victoires)))),ROWS($1:$33))),\"\")","v":0},{"$f":"IF(ROWS($1:$34)<=COUNTIF(joueurs,$B117),INDEX(victoires,SMALL(IF(joueurs=$B117,ROW(INDIRECT(\"1:\"&ROWS(victoires)))),ROWS($1:$34))),\"\")","v":0},{"$f":"IF(ROWS($1:$35)<=COUNTIF(joueurs,$B117),INDEX(victoires,SMALL(IF(joueurs=$B117,ROW(INDIRECT(\"1:\"&ROWS(victoires)))),ROWS($1:$35))),\"\")","v":0},{"$f":"IF(ROWS($1:$36)<=COUNTIF(joueurs,$B117),INDEX(victoires,SMALL(IF(joueurs=$B117,ROW(INDIRECT(\"1:\"&ROWS(victoires)))),ROWS($1:$36))),\"\")","v":0},{"$f":"IF(ROWS($1:$37)<=COUNTIF(joueurs,$B117),INDEX(victoires,SMALL(IF(joueurs=$B117,ROW(INDIRECT(\"1:\"&ROWS(victoires)))),ROWS($1:$37))),\"\")","v":0},{"$f":"IF(ROWS($1:$38)<=COUNTIF(joueurs,$B117),INDEX(victoires,SMALL(IF(joueurs=$B117,ROW(INDIRECT(\"1:\"&ROWS(victoires)))),ROWS($1:$38))),\"\")","v":0},{"$f":"IF(ROWS($1:$39)<=COUNTIF(joueurs,$B117),INDEX(victoires,SMALL(IF(joueurs=$B117,ROW(INDIRECT(\"1:\"&ROWS(victoires)))),ROWS($1:$39))),\"\")","v":0},{"$f":"IF(ROWS($1:$40)<=COUNTIF(joueurs,$B117),INDEX(victoires,SMALL(IF(joueurs=$B117,ROW(INDIRECT(\"1:\"&ROWS(victoires)))),ROWS($1:$40))),\"\")","v":0}]
[30,{"$f":"INDEX(eleves,MATCH(A121,numero,0),MATCH($B$2,classes,0))","v":0},null,{"$f":"IF(ROWS($1:$1)<=COUNTIF(joueurs,$B121),INDEX(fautes,SMALL(IF(joueurs=$B121,ROW(INDIRECT(\"1:\"&ROWS(fautes)))),ROWS($1:$1))),\"\")","v":0},{"$f":"IF(ROWS($1:$2)<=COUNTIF(joueurs,$B121),INDEX(fautes,SMALL(IF(joueurs=$B121,ROW(INDIRECT(\"1:\"&ROWS(fautes)))),ROWS($1:$2))),\"\")","v":0},{"$f":"IF(ROWS($1:$3)<=COUNTIF(joueurs,$B121),INDEX(fautes,SMALL(IF(joueurs=$B121,ROW(INDIRECT(\"1:\"&ROWS(fautes)))),ROWS($1:$3))),\"\")","v":0},{"$f":"IF(ROWS($1:$4)<=COUNTIF(joueurs,$B121),INDEX(fautes,SMALL(IF(joueurs=$B121,ROW(INDIRECT(\"1:\"&ROWS(fautes)))),ROWS($1:$4))),\"\")","v":0},{"$f":"IF(ROWS($1:$5)<=COUNTIF(joueurs,$B121),INDEX(fautes,SMALL(IF(joueurs=$B121,ROW(INDIRECT(\"1:\"&ROWS(fautes)))),ROWS($1:$5))),\"\")","v":0},{"$f":"IF(ROWS($1:$6)<=COUNTIF(joueurs,$B121),INDEX(fautes,SMALL(IF(joueurs=$B121,ROW(INDIRECT(\"1:\"&ROWS(fautes)))),ROWS($1:$6))),\"\")","v":0},{"$f":"IF(ROWS($1:$7)<=COUNTIF(joueurs,$B121),INDEX(fautes,SMALL(IF(joueurs=$B121,ROW(INDIRECT(\"1:\"&ROWS(fautes)))),ROWS($1:$7))),\"\")","v":0},{"$f":"IF(ROWS($1:$8)<=COUNTIF(joueurs,$B121),INDEX(fautes,SMALL(IF(joueurs=$B121,ROW(INDIRECT(\"1:\"&ROWS(fautes)))),ROWS($1:$8))),\"\")","v":0},{"$f":"IF(ROWS($1:$9)<=COUNTIF(joueurs,$B121),INDEX(fautes,SMALL(IF(joueurs=$B121,ROW(INDIRECT(\"1:\"&ROWS(fautes)))),ROWS($1:$9))),\"\")","v":0},{"$f":"IF(ROWS($1:$10)<=COUNTIF(joueurs,$B121),INDEX(fautes,SMALL(IF(joueurs=$B121,ROW(INDIRECT(\"1:\"&ROWS(fautes)))),ROWS($1:$10))),\"\")","v":0},{"$f":"IF(ROWS($1:$1)<=COUNTIF(joueurs,$B121),INDEX(ballonperdus,SMALL(IF(joueurs=$B121,ROW(INDIRECT(\"1:\"&ROWS(ballonperdus)))),ROWS($1:$1))),\"\")","v":0},{"$f":"IF(ROWS($1:$2)<=COUNTIF(joueurs,$B121),INDEX(ballonperdus,SMALL(IF(joueurs=$B121,ROW(INDIRECT(\"1:\"&ROWS(ballonperdus)))),ROWS($1:$2))),\"\")","v":0},{"$f":"IF(ROWS($1:$3)<=COUNTIF(joueurs,$B121),INDEX(ballonperdus,SMALL(IF(joueurs=$B121,ROW(INDIRECT(\"1:\"&ROWS(ballonperdus)))),ROWS($1:$3))),\"\")","v":0},{"$f":"IF(ROWS($1:$4)<=COUNTIF(joueurs,$B121),INDEX(ballonperdus,SMALL(IF(joueurs=$B121,ROW(INDIRECT(\"1:\"&ROWS(ballonperdus)))),ROWS($1:$4))),\"\")","v":0},{"$f":"IF(ROWS($1:$5)<=COUNTIF(joueurs,$B121),INDEX(ballonperdus,SMALL(IF(joueurs=$B121,ROW(INDIRECT(\"1:\"&ROWS(ballonperdus)))),ROWS($1:$5))),\"\")","v":0},{"$f":"IF(ROWS($1:$6)<=COUNTIF(joueurs,$B121),INDEX(ballonperdus,SMALL(IF(joueurs=$B121,ROW(INDIRECT(\"1:\"&ROWS(ballonperdus)))),ROWS($1:$6))),\"\")","v":0},{"$f":"IF(ROWS($1:$7)<=COUNTIF(joueurs,$B121),INDEX(ballonperdus,SMALL(IF(joueurs=$B121,ROW(INDIRECT(\"1:\"&ROWS(ballonperdus)))),ROWS($1:$7))),\"\")","v":0},{"$f":"IF(ROWS($1:$8)<=COUNTIF(joueurs,$B121),INDEX(ballonperdus,SMALL(IF(joueurs=$B121,ROW(INDIRECT(\"1:\"&ROWS(ballonperdus)))),ROWS($1:$8))),\"\")","v":0},{"$f":"IF(ROWS($1:$9)<=COUNTIF(joueurs,$B121),INDEX(ballonperdus,SMALL(IF(joueurs=$B121,ROW(INDIRECT(\"1:\"&ROWS(ballonperdus)))),ROWS($1:$9))),\"\")","v":0},{"$f":"IF(ROWS($1:$10)<=COUNTIF(joueurs,$B121),INDEX(ballonperdus,SMALL(IF(joueurs=$B121,ROW(INDIRECT(\"1:\"&ROWS(ballonperdus)))),ROWS($1:$10))),\"\")","v":0},{"$f":"IF(ROWS($1:$1)<=COUNTIF(joueurs,$B121),INDEX(interceptions,SMALL(IF(joueurs=$B121,ROW(INDIRECT(\"1:\"&ROWS(interceptions)))),ROWS($1:$1))),\"\")","v":0},{"$f":"IF(ROWS($1:$2)<=COUNTIF(joueurs,$B121),INDEX(interceptions,SMALL(IF(joueurs=$B121,ROW(INDIRECT(\"1:\"&ROWS(interceptions)))),ROWS($1:$2))),\"\")","v":0},{"$f":"IF(ROWS($1:$3)<=COUNTIF(joueurs,$B121),INDEX(interceptions,SMALL(IF(joueurs=$B121,ROW(INDIRECT(\"1:\"&ROWS(interceptions)))),ROWS($1:$3))),\"\")","v":0},{"$f":"IF(ROWS($1:$4)<=COUNTIF(joueurs,$B121),INDEX(interceptions,SMALL(IF(joueurs=$B121,ROW(INDIRECT(\"1:\"&ROWS(interceptions)))),ROWS($1:$4))),\"\")","v":0},{"$f":"IF(ROWS($1:$5)<=COUNTIF(joueurs,$B121),INDEX(interceptions,SMALL(IF(joueurs=$B121,ROW(INDIRECT(\"1:\"&ROWS(interceptions)))),ROWS($1:$5))),\"\")","v":0},{"$f":"IF(ROWS($1:$6)<=COUNTIF(joueurs,$B121),INDEX(interceptions,SMALL(IF(joueurs=$B121,ROW(INDIRECT(\"1:\"&ROWS(interceptions)))),ROWS($1:$6))),\"\")","v":0},{"$f":"IF(ROWS($1:$7)<=COUNTIF(joueurs,$B121),INDEX(interceptions,SMALL(IF(joueurs=$B121,ROW(INDIRECT(\"1:\"&ROWS(interceptions)))),ROWS($1:$7))),\"\")","v":0},{"$f":"IF(ROWS($1:$8)<=COUNTIF(joueurs,$B121),INDEX(interceptions,SMALL(IF(joueurs=$B121,ROW(INDIRECT(\"1:\"&ROWS(interceptions)))),ROWS($1:$8))),\"\")","v":0},{"$f":"IF(ROWS($1:$9)<=COUNTIF(joueurs,$B121),INDEX(interceptions,SMALL(IF(joueurs=$B121,ROW(INDIRECT(\"1:\"&ROWS(interceptions)))),ROWS($1:$9))),\"\")","v":0},{"$f":"IF(ROWS($1:$10)<=COUNTIF(joueurs,$B121),INDEX(interceptions,SMALL(IF(joueurs=$B121,ROW(INDIRECT(\"1:\"&ROWS(interceptions)))),ROWS($1:$10))),\"\")","v":0},{"$f":"IF(ROWS($1:$1)<=COUNTIF(joueurs,$B121),INDEX(ballonrecuperes,SMALL(IF(joueurs=$B121,ROW(INDIRECT(\"1:\"&ROWS(ballonrecuperes)))),ROWS($1:$1))),\"\")","v":0},{"$f":"IF(ROWS($1:$2)<=COUNTIF(joueurs,$B121),INDEX(ballonrecuperes,SMALL(IF(joueurs=$B121,ROW(INDIRECT(\"1:\"&ROWS(ballonrecuperes)))),ROWS($1:$2))),\"\")","v":0},{"$f":"IF(ROWS($1:$3)<=COUNTIF(joueurs,$B121),INDEX(ballonrecuperes,SMALL(IF(joueurs=$B121,ROW(INDIRECT(\"1:\"&ROWS(ballonrecuperes)))),ROWS($1:$3))),\"\")","v":0},{"$f":"IF(ROWS($1:$4)<=COUNTIF(joueurs,$B121),INDEX(ballonrecuperes,SMALL(IF(joueurs=$B121,ROW(INDIRECT(\"1:\"&ROWS(ballonrecuperes)))),ROWS($1:$4))),\"\")","v":0},{"$f":"IF(ROWS($1:$5)<=COUNTIF(joueurs,$B121),INDEX(ballonrecuperes,SMALL(IF(joueurs=$B121,ROW(INDIRECT(\"1:\"&ROWS(ballonrecuperes)))),ROWS($1:$5))),\"\")","v":0},{"$f":"IF(ROWS($1:$6)<=COUNTIF(joueurs,$B121),INDEX(ballonrecuperes,SMALL(IF(joueurs=$B121,ROW(INDIRECT(\"1:\"&ROWS(ballonrecuperes)))),ROWS($1:$6))),\"\")","v":0},{"$f":"IF(ROWS($1:$7)<=COUNTIF(joueurs,$B121),INDEX(ballonrecuperes,SMALL(IF(joueurs=$B121,ROW(INDIRECT(\"1:\"&ROWS(ballonrecuperes)))),ROWS($1:$7))),\"\")","v":0},{"$f":"IF(ROWS($1:$8)<=COUNTIF(joueurs,$B121),INDEX(ballonrecuperes,SMALL(IF(joueurs=$B121,ROW(INDIRECT(\"1:\"&ROWS(ballonrecuperes)))),ROWS($1:$8))),\"\")","v":0},{"$f":"IF(ROWS($1:$9)<=COUNTIF(joueurs,$B121),INDEX(ballonrecuperes,SMALL(IF(joueurs=$B121,ROW(INDIRECT(\"1:\"&ROWS(ballonrecuperes)))),ROWS($1:$9))),\"\")","v":0},{"$f":"IF(ROWS($1:$10)<=COUNTIF(joueurs,$B121),INDEX(ballonrecuperes,SMALL(IF(joueurs=$B121,ROW(INDIRECT(\"1:\"&ROWS(ballonrecuperes)))),ROWS($1:$10))),\"\")","v":0},{"$f":"IF(ROWS($1:$1)<=COUNTIF(joueurs,$B121),INDEX(tirs,SMALL(IF(joueurs=$B121,ROW(INDIRECT(\"1:\"&ROWS(tirs)))),ROWS($1:$1))),\"\")","v":0},{"$f":"IF(ROWS($1:$2)<=COUNTIF(joueurs,$B121),INDEX(tirs,SMALL(IF(joueurs=$B121,ROW(INDIRECT(\"1:\"&ROWS(tirs)))),ROWS($1:$2))),\"\")","v":0},{"$f":"IF(ROWS($1:$3)<=COUNTIF(joueurs,$B121),INDEX(tirs,SMALL(IF(joueurs=$B121,ROW(INDIRECT(\"1:\"&ROWS(tirs)))),ROWS($1:$3))),\"\")","v":0},{"$f":"IF(ROWS($1:$4)<=COUNTIF(joueurs,$B121),INDEX(tirs,SMALL(IF(joueurs=$B121,ROW(INDIRECT(\"1:\"&ROWS(tirs)))),ROWS($1:$4))),\"\")","v":0},{"$f":"IF(ROWS($1:$5)<=COUNTIF(joueurs,$B121),INDEX(tirs,SMALL(IF(joueurs=$B121,ROW(INDIRECT(\"1:\"&ROWS(tirs)))),ROWS($1:$5))),\"\")","v":0},{"$f":"IF(ROWS($1:$6)<=COUNTIF(joueurs,$B121),INDEX(tirs,SMALL(IF(joueurs=$B121,ROW(INDIRECT(\"1:\"&ROWS(tirs)))),ROWS($1:$6))),\"\")","v":0},{"$f":"IF(ROWS($1:$7)<=COUNTIF(joueurs,$B121),INDEX(tirs,SMALL(IF(joueurs=$B121,ROW(INDIRECT(\"1:\"&ROWS(tirs)))),ROWS($1:$7))),\"\")","v":0},{"$f":"IF(ROWS($1:$8)<=COUNTIF(joueurs,$B121),INDEX(tirs,SMALL(IF(joueurs=$B121,ROW(INDIRECT(\"1:\"&ROWS(tirs)))),ROWS($1:$8))),\"\")","v":0},{"$f":"IF(ROWS($1:$9)<=COUNTIF(joueurs,$B121),INDEX(tirs,SMALL(IF(joueurs=$B121,ROW(INDIRECT(\"1:\"&ROWS(tirs)))),ROWS($1:$9))),\"\")","v":0},{"$f":"IF(ROWS($1:$10)<=COUNTIF(joueurs,$B121),INDEX(tirs,SMALL(IF(joueurs=$B121,ROW(INDIRECT(\"1:\"&ROWS(tirs)))),ROWS($1:$10))),\"\")","v":0},{"$f":"IF(ROWS($1:$1)<=COUNTIF(joueurs,$B121),INDEX(bontirs,SMALL(IF(joueurs=$B121,ROW(INDIRECT(\"1:\"&ROWS(bontirs)))),ROWS($1:$1))),\"\")","v":0},{"$f":"IF(ROWS($1:$2)<=COUNTIF(joueurs,$B121),INDEX(bontirs,SMALL(IF(joueurs=$B121,ROW(INDIRECT(\"1:\"&ROWS(bontirs)))),ROWS($1:$2))),\"\")","v":0},{"$f":"IF(ROWS($1:$3)<=COUNTIF(joueurs,$B121),INDEX(bontirs,SMALL(IF(joueurs=$B121,ROW(INDIRECT(\"1:\"&ROWS(bontirs)))),ROWS($1:$3))),\"\")","v":0},{"$f":"IF(ROWS($1:$4)<=COUNTIF(joueurs,$B121),INDEX(bontirs,SMALL(IF(joueurs=$B121,ROW(INDIRECT(\"1:\"&ROWS(bontirs)))),ROWS($1:$4))),\"\")","v":0},{"$f":"IF(ROWS($1:$5)<=COUNTIF(joueurs,$B121),INDEX(bontirs,SMALL(IF(joueurs=$B121,ROW(INDIRECT(\"1:\"&ROWS(bontirs)))),ROWS($1:$5))),\"\")","v":0},{"$f":"IF(ROWS($1:$6)<=COUNTIF(joueurs,$B121),INDEX(bontirs,SMALL(IF(joueurs=$B121,ROW(INDIRECT(\"1:\"&ROWS(bontirs)))),ROWS($1:$6))),\"\")","v":0},{"$f":"IF(ROWS($1:$7)<=COUNTIF(joueurs,$B121),INDEX(bontirs,SMALL(IF(joueurs=$B121,ROW(INDIRECT(\"1:\"&ROWS(bontirs)))),ROWS($1:$7))),\"\")","v":0},{"$f":"IF(ROWS($1:$8)<=COUNTIF(joueurs,$B121),INDEX(bontirs,SMALL(IF(joueurs=$B121,ROW(INDIRECT(\"1:\"&ROWS(bontirs)))),ROWS($1:$8))),\"\")","v":0},{"$f":"IF(ROWS($1:$9)<=COUNTIF(joueurs,$B121),INDEX(bontirs,SMALL(IF(joueurs=$B121,ROW(INDIRECT(\"1:\"&ROWS(bontirs)))),ROWS($1:$9))),\"\")","v":0},{"$f":"IF(ROWS($1:$10)<=COUNTIF(joueurs,$B121),INDEX(bontirs,SMALL(IF(joueurs=$B121,ROW(INDIRECT(\"1:\"&ROWS(bontirs)))),ROWS($1:$10))),\"\")","v":0},{"$f":"IF(ROWS($1:$1)<=COUNTIF(joueurs,$B121),INDEX(points,SMALL(IF(joueurs=$B121,ROW(INDIRECT(\"1:\"&ROWS(points)))),ROWS($1:$1))),\"\")","v":0},{"$f":"IF(ROWS($1:$2)<=COUNTIF(joueurs,$B121),INDEX(points,SMALL(IF(joueurs=$B121,ROW(INDIRECT(\"1:\"&ROWS(points)))),ROWS($1:$2))),\"\")","v":0},{"$f":"IF(ROWS($1:$3)<=COUNTIF(joueurs,$B121),INDEX(points,SMALL(IF(joueurs=$B121,ROW(INDIRECT(\"1:\"&ROWS(points)))),ROWS($1:$3))),\"\")","v":0},{"$f":"IF(ROWS($1:$4)<=COUNTIF(joueurs,$B121),INDEX(points,SMALL(IF(joueurs=$B121,ROW(INDIRECT(\"1:\"&ROWS(points)))),ROWS($1:$4))),\"\")","v":0},{"$f":"IF(ROWS($1:$5)<=COUNTIF(joueurs,$B121),INDEX(points,SMALL(IF(joueurs=$B121,ROW(INDIRECT(\"1:\"&ROWS(points)))),ROWS($1:$5))),\"\")","v":0},{"$f":"IF(ROWS($1:$6)<=COUNTIF(joueurs,$B121),INDEX(points,SMALL(IF(joueurs=$B121,ROW(INDIRECT(\"1:\"&ROWS(points)))),ROWS($1:$6))),\"\")","v":0},{"$f":"IF(ROWS($1:$7)<=COUNTIF(joueurs,$B121),INDEX(points,SMALL(IF(joueurs=$B121,ROW(INDIRECT(\"1:\"&ROWS(points)))),ROWS($1:$7))),\"\")","v":0},{"$f":"IF(ROWS($1:$8)<=COUNTIF(joueurs,$B121),INDEX(points,SMALL(IF(joueurs=$B121,ROW(INDIRECT(\"1:\"&ROWS(points)))),ROWS($1:$8))),\"\")","v":0},{"$f":"IF(ROWS($1:$9)<=COUNTIF(joueurs,$B121),INDEX(points,SMALL(IF(joueurs=$B121,ROW(INDIRECT(\"1:\"&ROWS(points)))),ROWS($1:$9))),\"\")","v":0},{"$f":"IF(ROWS($1:$10)<=COUNTIF(joueurs,$B121),INDEX(points,SMALL(IF(joueurs=$B121,ROW(INDIRECT(\"1:\"&ROWS(points)))),ROWS($1:$10))),\"\")","v":0},{"$f":"IF(ROWS($1:$1)<=COUNTIF(joueurs,$B121),INDEX(victoires,SMALL(IF(joueurs=$B121,ROW(INDIRECT(\"1:\"&ROWS(victoires)))),ROWS($1:$1))),\"\")","v":0},{"$f":"IF(ROWS($1:$2)<=COUNTIF(joueurs,$B121),INDEX(victoires,SMALL(IF(joueurs=$B121,ROW(INDIRECT(\"1:\"&ROWS(victoires)))),ROWS($1:$2))),\"\")","v":0},{"$f":"IF(ROWS($1:$3)<=COUNTIF(joueurs,$B121),INDEX(victoires,SMALL(IF(joueurs=$B121,ROW(INDIRECT(\"1:\"&ROWS(victoires)))),ROWS($1:$3))),\"\")","v":0},{"$f":"IF(ROWS($1:$4)<=COUNTIF(joueurs,$B121),INDEX(victoires,SMALL(IF(joueurs=$B121,ROW(INDIRECT(\"1:\"&ROWS(victoires)))),ROWS($1:$4))),\"\")","v":0},{"$f":"IF(ROWS($1:$5)<=COUNTIF(joueurs,$B121),INDEX(victoires,SMALL(IF(joueurs=$B121,ROW(INDIRECT(\"1:\"&ROWS(victoires)))),ROWS($1:$5))),\"\")","v":0},{"$f":"IF(ROWS($1:$6)<=COUNTIF(joueurs,$B121),INDEX(victoires,SMALL(IF(joueurs=$B121,ROW(INDIRECT(\"1:\"&ROWS(victoires)))),ROWS($1:$6))),\"\")","v":0},{"$f":"IF(ROWS($1:$7)<=COUNTIF(joueurs,$B121),INDEX(victoires,SMALL(IF(joueurs=$B121,ROW(INDIRECT(\"1:\"&ROWS(victoires)))),ROWS($1:$7))),\"\")","v":0},{"$f":"IF(ROWS($1:$8)<=COUNTIF(joueurs,$B121),INDEX(victoires,SMALL(IF(joueurs=$B121,ROW(INDIRECT(\"1:\"&ROWS(victoires)))),ROWS($1:$8))),\"\")","v":0},{"$f":"IF(ROWS($1:$9)<=COUNTIF(joueurs,$B121),INDEX(victoires,SMALL(IF(joueurs=$B121,ROW(INDIRECT(\"1:\"&ROWS(victoires)))),ROWS($1:$9))),\"\")","v":0},{"$f":"IF(ROWS($1:$10)<=COUNTIF(joueurs,$B121),INDEX(victoires,SMALL(IF(joueurs=$B121,ROW(INDIRECT(\"1:\"&ROWS(victoires)))),ROWS($1:$10))),\"\")","v":0}]
[null,null,null,{"$f":"IF(ROWS($1:$11)<=COUNTIF(joueurs,$B121),INDEX(fautes,SMALL(IF(joueurs=$B121,ROW(INDIRECT(\"1:\"&ROWS(fautes)))),ROWS($1:$11))),\"\")","v":0},{"$f":"IF(ROWS($1:$12)<=COUNTIF(joueurs,$B121),INDEX(fautes,SMALL(IF(joueurs=$B121,ROW(INDIRECT(\"1:\"&ROWS(fautes)))),ROWS($1:$12))),\"\")","v":0},{"$f":"IF(ROWS($1:$13)<=COUNTIF(joueurs,$B121),INDEX(fautes,SMALL(IF(joueurs=$B121,ROW(INDIRECT(\"1:\"&ROWS(fautes)))),ROWS($1:$13))),\"\")","v":0},{"$f":"IF(ROWS($1:$14)<=COUNTIF(joueurs,$B121),INDEX(fautes,SMALL(IF(joueurs=$B121,ROW(INDIRECT(\"1:\"&ROWS(fautes)))),ROWS($1:$14))),\"\")","v":0},{"$f":"IF(ROWS($1:$15)<=COUNTIF(joueurs,$B121),INDEX(fautes,SMALL(IF(joueurs=$B121,ROW(INDIRECT(\"1:\"&ROWS(fautes)))),ROWS($1:$15))),\"\")","v":0},{"$f":"IF(ROWS($1:$16)<=COUNTIF(joueurs,$B121),INDEX(fautes,SMALL(IF(joueurs=$B121,ROW(INDIRECT(\"1:\"&ROWS(fautes)))),ROWS($1:$16))),\"\")","v":0},{"$f":"IF(ROWS($1:$17)<=COUNTIF(joueurs,$B121),INDEX(fautes,SMALL(IF(joueurs=$B121,ROW(INDIRECT(\"1:\"&ROWS(fautes)))),ROWS($1:$17))),\"\")","v":0},{"$f":"IF(ROWS($1:$18)<=COUNTIF(joueurs,$B121),INDEX(fautes,SMALL(IF(joueurs=$B121,ROW(INDIRECT(\"1:\"&ROWS(fautes)))),ROWS($1:$18))),\"\")","v":0},{"$f":"IF(ROWS($1:$19)<=COUNTIF(joueurs,$B121),INDEX(fautes,SMALL(IF(joueurs=$B121,ROW(INDIRECT(\"1:\"&ROWS(fautes)))),ROWS($1:$19))),\"\")","v":0},{"$f":"IF(ROWS($1:$20)<=COUNTIF(joueurs,$B121),INDEX(fautes,SMALL(IF(joueurs=$B121,ROW(INDIRECT(\"1:\"&ROWS(fautes)))),ROWS($1:$20))),\"\")","v":0},{"$f":"IF(ROWS($1:$11)<=COUNTIF(joueurs,$B121),INDEX(ballonperdus,SMALL(IF(joueurs=$B121,ROW(INDIRECT(\"1:\"&ROWS(ballonperdus)))),ROWS($1:$11))),\"\")","v":0},{"$f":"IF(ROWS($1:$12)<=COUNTIF(joueurs,$B121),INDEX(ballonperdus,SMALL(IF(joueurs=$B121,ROW(INDIRECT(\"1:\"&ROWS(ballonperdus)))),ROWS($1:$12))),\"\")","v":0},{"$f":"IF(ROWS($1:$13)<=COUNTIF(joueurs,$B121),INDEX(ballonperdus,SMALL(IF(joueurs=$B121,ROW(INDIRECT(\"1:\"&ROWS(ballonperdus)))),ROWS($1:$13))),\"\")","v":0},{"$f":"IF(ROWS($1:$14)<=COUNTIF(joueurs,$B121),INDEX(ballonperdus,SMALL(IF(joueurs=$B121,ROW(INDIRECT(\"1:\"&ROWS(ballonperdus)))),ROWS($1:$14))),\"\")","v":0},{"$f":"IF(ROWS($1:$15)<=COUNTIF(joueurs,$B121),INDEX(ballonperdus,SMALL(IF(joueurs=$B121,ROW(INDIRECT(\"1:\"&ROWS(ballonperdus)))),ROWS($1:$15))),\"\")","v":0},{"$f":"IF(ROWS($1:$16)<=COUNTIF(joueurs,$B121),INDEX(ballonperdus,SMALL(IF(joueurs=$B121,ROW(INDIRECT(\"1:\"&ROWS(ballonperdus)))),ROWS($1:$16))),\"\")","v":0},{"$f":"IF(ROWS($1:$17)<=COUNTIF(joueurs,$B121),INDEX(ballonperdus,SMALL(IF(joueurs=$B121,ROW(INDIRECT(\"1:\"&ROWS(ballonperdus)))),ROWS($1:$17))),\"\")","v":0},{"$f":"IF(ROWS($1:$18)<=COUNTIF(joueurs,$B121),INDEX(ballonperdus,SMALL(IF(joueurs=$B121,ROW(INDIRECT(\"1:\"&ROWS(ballonperdus)))),ROWS($1:$18))),\"\")","v":0},{"$f":"IF(ROWS($1:$19)<=COUNTIF(joueurs,$B121),INDEX(ballonperdus,SMALL(IF(joueurs=$B121,ROW(INDIRECT(\"1:\"&ROWS(ballonperdus)))),ROWS($1:$19))),\"\")","v":0},{"$f":"IF(ROWS($1:$20)<=COUNTIF(joueurs,$B121),INDEX(fautes,SMALL(IF(joueurs=$B121,ROW(INDIRECT(\"1:\"&ROWS(ballonperdus)))),ROWS($1:$20))),\"\")","v":0},{"$f":"IF(ROWS($1:$11)<=COUNTIF(joueurs,$B121),INDEX(interceptions,SMALL(IF(joueurs=$B121,ROW(INDIRECT(\"1:\"&ROWS(interceptions)))),ROWS($1:$11))),\"\")","v":0},{"$f":"IF(ROWS($1:$12)<=COUNTIF(joueurs,$B121),INDEX(interceptions,SMALL(IF(joueurs=$B121,ROW(INDIRECT(\"1:\"&ROWS(interceptions)))),ROWS($1:$12))),\"\")","v":0},{"$f":"IF(ROWS($1:$13)<=COUNTIF(joueurs,$B121),INDEX(interceptions,SMALL(IF(joueurs=$B121,ROW(INDIRECT(\"1:\"&ROWS(interceptions)))),ROWS($1:$13))),\"\")","v":0},{"$f":"IF(ROWS($1:$14)<=COUNTIF(joueurs,$B121),INDEX(interceptions,SMALL(IF(joueurs=$B121,ROW(INDIRECT(\"1:\"&ROWS(interceptions)))),ROWS($1:$14))),\"\")","v":0},{"$f":"IF(ROWS($1:$15)<=COUNTIF(joueurs,$B121),INDEX(interceptions,SMALL(IF(joueurs=$B121,ROW(INDIRECT(\"1:\"&ROWS(interceptions)))),ROWS($1:$15))),\"\")","v":0},{"$f":"IF(ROWS($1:$16)<=COUNTIF(joueurs,$B121),INDEX(interceptions,SMALL(IF(joueurs=$B121,ROW(INDIRECT(\"1:\"&ROWS(interceptions)))),ROWS($1:$16))),\"\")","v":0},{"$f":"IF(ROWS($1:$17)<=COUNTIF(joueurs,$B121),INDEX(interceptions,SMALL(IF(joueurs=$B121,ROW(INDIRECT(\"1:\"&ROWS(interceptions)))),ROWS($1:$17))),\"\")","v":0},{"$f":"IF(ROWS($1:$18)<=COUNTIF(joueurs,$B121),INDEX(interceptions,SMALL(IF(joueurs=$B121,ROW(INDIRECT(\"1:\"&ROWS(interceptions)))),ROWS($1:$18))),\"\")","v":0},{"$f":"IF(ROWS($1:$19)<=COUNTIF(joueurs,$B121),INDEX(interceptions,SMALL(IF(joueurs=$B121,ROW(INDIRECT(\"1:\"&ROWS(interceptions)))),ROWS($1:$19))),\"\")","v":0},{"$f":"IF(ROWS($1:$20)<=COUNTIF(joueurs,$B121),INDEX(interceptions,SMALL(IF(joueurs=$B121,ROW(INDIRECT(\"1:\"&ROWS(interceptions)))),ROWS($1:$20))),\"\")","v":0},{"$f":"IF(ROWS($1:$11)<=COUNTIF(joueurs,$B121),INDEX(ballonrecuperes,SMALL(IF(joueurs=$B121,ROW(INDIRECT(\"1:\"&ROWS(ballonrecuperes)))),ROWS($1:$11))),\"\")","v":0},{"$f":"IF(ROWS($1:$12)<=COUNTIF(joueurs,$B121),INDEX(ballonrecuperes,SMALL(IF(joueurs=$B121,ROW(INDIRECT(\"1:\"&ROWS(ballonrecuperes)))),ROWS($1:$12))),\"\")","v":0},{"$f":"IF(ROWS($1:$13)<=COUNTIF(joueurs,$B121),INDEX(ballonrecuperes,SMALL(IF(joueurs=$B121,ROW(INDIRECT(\"1:\"&ROWS(ballonrecuperes)))),ROWS($1:$13))),\"\")","v":0},{"$f":"IF(ROWS($1:$14)<=COUNTIF(joueurs,$B121),INDEX(ballonrecuperes,SMALL(IF(joueurs=$B121,ROW(INDIRECT(\"1:\"&ROWS(ballonrecuperes)))),ROWS($1:$14))),\"\")","v":0},{"$f":"IF(ROWS($1:$15)<=COUNTIF(joueurs,$B121),INDEX(ballonrecuperes,SMALL(IF(joueurs=$B121,ROW(INDIRECT(\"1:\"&ROWS(ballonrecuperes)))),ROWS($1:$15))),\"\")","v":0},{"$f":"IF(ROWS($1:$16)<=COUNTIF(joueurs,$B121),INDEX(ballonrecuperes,SMALL(IF(joueurs=$B121,ROW(INDIRECT(\"1:\"&ROWS(ballonrecuperes)))),ROWS($1:$16))),\"\")","v":0},{"$f":"IF(ROWS($1:$17)<=COUNTIF(joueurs,$B121),INDEX(ballonrecuperes,SMALL(IF(joueurs=$B121,ROW(INDIRECT(\"1:\"&ROWS(ballonrecuperes)))),ROWS($1:$17))),\"\")","v":0},{"$f":"IF(ROWS($1:$18)<=COUNTIF(joueurs,$B121),INDEX(ballonrecuperes,SMALL(IF(joueurs=$B121,ROW(INDIRECT(\"1:\"&ROWS(ballonrecuperes)))),ROWS($1:$18))),\"\")","v":0},{"$f":"IF(ROWS($1:$19)<=COUNTIF(joueurs,$B121),INDEX(ballonrecuperes,SMALL(IF(joueurs=$B121,ROW(INDIRECT(\"1:\"&ROWS(ballonrecuperes)))),ROWS($1:$19))),\"\")","v":0},{"$f":"IF(ROWS($1:$20)<=COUNTIF(joueurs,$B121),INDEX(ballonrecuperes,SMALL(IF(joueurs=$B121,ROW(INDIRECT(\"1:\"&ROWS(ballonrecuperes)))),ROWS($1:$20))),\"\")","v":0},{"$f":"IF(ROWS($1:$11)<=COUNTIF(joueurs,$B121),INDEX(tirs,SMALL(IF(joueurs=$B121,ROW(INDIRECT(\"1:\"&ROWS(tirs)))),ROWS($1:$11))),\"\")","v":0},{"$f":"IF(ROWS($1:$12)<=COUNTIF(joueurs,$B121),INDEX(tirs,SMALL(IF(joueurs=$B121,ROW(INDIRECT(\"1:\"&ROWS(tirs)))),ROWS($1:$12))),\"\")","v":0},{"$f":"IF(ROWS($1:$13)<=COUNTIF(joueurs,$B121),INDEX(tirs,SMALL(IF(joueurs=$B121,ROW(INDIRECT(\"1:\"&ROWS(tirs)))),ROWS($1:$13))),\"\")","v":0},{"$f":"IF(ROWS($1:$14)<=COUNTIF(joueurs,$B121),INDEX(tirs,SMALL(IF(joueurs=$B121,ROW(INDIRECT(\"1:\"&ROWS(tirs)))),ROWS($1:$14))),\"\")","v":0},{"$f":"IF(ROWS($1:$15)<=COUNTIF(joueurs,$B121),INDEX(tirs,SMALL(IF(joueurs=$B121,ROW(INDIRECT(\"1:\"&ROWS(tirs)))),ROWS($1:$15))),\"\")","v":0},{"$f":"IF(ROWS($1:$16)<=COUNTIF(joueurs,$B121),INDEX(tirs,SMALL(IF(joueurs=$B121,ROW(INDIRECT(\"1:\"&ROWS(tirs)))),ROWS($1:$16))),\"\")","v":0},{"$f":"IF(ROWS($1:$17)<=COUNTIF(joueurs,$B121),INDEX(tirs,SMALL(IF(joueurs=$B121,ROW(INDIRECT(\"1:\"&ROWS(tirs)))),ROWS($1:$17))),\"\")","v":0},{"$f":"IF(ROWS($1:$18)<=COUNTIF(joueurs,$B121),INDEX(tirs,SMALL(IF(joueurs=$B121,ROW(INDIRECT(\"1:\"&ROWS(tirs)))),ROWS($1:$18))),\"\")","v":0},{"$f":"IF(ROWS($1:$19)<=COUNTIF(joueurs,$B121),INDEX(tirs,SMALL(IF(joueurs=$B121,ROW(INDIRECT(\"1:\"&ROWS(tirs)))),ROWS($1:$19))),\"\")","v":0},{"$f":"IF(ROWS($1:$20)<=COUNTIF(joueurs,$B121),INDEX(tirs,SMALL(IF(joueurs=$B121,ROW(INDIRECT(\"1:\"&ROWS(tirs)))),ROWS($1:$20))),\"\")","v":0},{"$f":"IF(ROWS($1:$11)<=COUNTIF(joueurs,$B121),INDEX(bontirs,SMALL(IF(joueurs=$B121,ROW(INDIRECT(\"1:\"&ROWS(bontirs)))),ROWS($1:$11))),\"\")","v":0},{"$f":"IF(ROWS($1:$12)<=COUNTIF(joueurs,$B121),INDEX(bontirs,SMALL(IF(joueurs=$B121,ROW(INDIRECT(\"1:\"&ROWS(bontirs)))),ROWS($1:$12))),\"\")","v":0},{"$f":"IF(ROWS($1:$13)<=COUNTIF(joueurs,$B121),INDEX(bontirs,SMALL(IF(joueurs=$B121,ROW(INDIRECT(\"1:\"&ROWS(bontirs)))),ROWS($1:$13))),\"\")","v":0},{"$f":"IF(ROWS($1:$14)<=COUNTIF(joueurs,$B121),INDEX(bontirs,SMALL(IF(joueurs=$B121,ROW(INDIRECT(\"1:\"&ROWS(bontirs)))),ROWS($1:$14))),\"\")","v":0},{"$f":"IF(ROWS($1:$15)<=COUNTIF(joueurs,$B121),INDEX(bontirs,SMALL(IF(joueurs=$B121,ROW(INDIRECT(\"1:\"&ROWS(bontirs)))),ROWS($1:$15))),\"\")","v":0},{"$f":"IF(ROWS($1:$16)<=COUNTIF(joueurs,$B121),INDEX(bontirs,SMALL(IF(joueurs=$B121,ROW(INDIRECT(\"1:\"&ROWS(bontirs)))),ROWS($1:$16))),\"\")","v":0},{"$f":"IF(ROWS($1:$17)<=COUNTIF(joueurs,$B121),INDEX(bontirs,SMALL(IF(joueurs=$B121,ROW(INDIRECT(\"1:\"&ROWS(bontirs)))),ROWS($1:$17))),\"\")","v":0},{"$f":"IF(ROWS($1:$18)<=COUNTIF(joueurs,$B121),INDEX(bontirs,SMALL(IF(joueurs=$B121,ROW(INDIRECT(\"1:\"&ROWS(bontirs)))),ROWS($1:$18))),\"\")","v":0},{"$f":"IF(ROWS($1:$19)<=COUNTIF(joueurs,$B121),INDEX(bontirs,SMALL(IF(joueurs=$B121,ROW(INDIRECT(\"1:\"&ROWS(bontirs)))),ROWS($1:$19))),\"\")","v":0},{"$f":"IF(ROWS($1:$20)<=COUNTIF(joueurs,$B121),INDEX(bontirs,SMALL(IF(joueurs=$B121,ROW(INDIRECT(\"1:\"&ROWS(bontirs)))),ROWS($1:$20))),\"\")","v":0},{"$f":"IF(ROWS($1:$11)<=COUNTIF(joueurs,$B121),INDEX(points,SMALL(IF(joueurs=$B121,ROW(INDIRECT(\"1:\"&ROWS(points)))),ROWS($1:$11))),\"\")","v":0},{"$f":"IF(ROWS($1:$12)<=COUNTIF(joueurs,$B121),INDEX(points,SMALL(IF(joueurs=$B121,ROW(INDIRECT(\"1:\"&ROWS(points)))),ROWS($1:$12))),\"\")","v":0},{"$f":"IF(ROWS($1:$13)<=COUNTIF(joueurs,$B121),INDEX(points,SMALL(IF(joueurs=$B121,ROW(INDIRECT(\"1:\"&ROWS(points)))),ROWS($1:$13))),\"\")","v":0},{"$f":"IF(ROWS($1:$14)<=COUNTIF(joueurs,$B121),INDEX(points,SMALL(IF(joueurs=$B121,ROW(INDIRECT(\"1:\"&ROWS(points)))),ROWS($1:$14))),\"\")","v":0},{"$f":"IF(ROWS($1:$15)<=COUNTIF(joueurs,$B121),INDEX(points,SMALL(IF(joueurs=$B121,ROW(INDIRECT(\"1:\"&ROWS(points)))),ROWS($1:$15))),\"\")","v":0},{"$f":"IF(ROWS($1:$16)<=COUNTIF(joueurs,$B121),INDEX(points,SMALL(IF(joueurs=$B121,ROW(INDIRECT(\"1:\"&ROWS(points)))),ROWS($1:$16))),\"\")","v":0},{"$f":"IF(ROWS($1:$17)<=COUNTIF(joueurs,$B121),INDEX(points,SMALL(IF(joueurs=$B121,ROW(INDIRECT(\"1:\"&ROWS(points)))),ROWS($1:$17))),\"\")","v":0},{"$f":"IF(ROWS($1:$18)<=COUNTIF(joueurs,$B121),INDEX(points,SMALL(IF(joueurs=$B121,ROW(INDIRECT(\"1:\"&ROWS(points)))),ROWS($1:$18))),\"\")","v":0},{"$f":"IF(ROWS($1:$19)<=COUNTIF(joueurs,$B121),INDEX(points,SMALL(IF(joueurs=$B121,ROW(INDIRECT(\"1:\"&ROWS(points)))),ROWS($1:$19))),\"\")","v":0},{"$f":"IF(ROWS($1:$20)<=COUNTIF(points,$B121),INDEX(fautes,SMALL(IF(joueurs=$B121,ROW(INDIRECT(\"1:\"&ROWS(points)))),ROWS($1:$20))),\"\")","v":0},{"$f":"IF(ROWS($1:$11)<=COUNTIF(joueurs,$B121),INDEX(victoires,SMALL(IF(joueurs=$B121,ROW(INDIRECT(\"1:\"&ROWS(victoires)))),ROWS($1:$11))),\"\")","v":0},{"$f":"IF(ROWS($1:$12)<=COUNTIF(joueurs,$B121),INDEX(victoires,SMALL(IF(joueurs=$B121,ROW(INDIRECT(\"1:\"&ROWS(victoires)))),ROWS($1:$12))),\"\")","v":0},{"$f":"IF(ROWS($1:$13)<=COUNTIF(joueurs,$B121),INDEX(victoires,SMALL(IF(joueurs=$B121,ROW(INDIRECT(\"1:\"&ROWS(victoires)))),ROWS($1:$13))),\"\")","v":0},{"$f":"IF(ROWS($1:$14)<=COUNTIF(joueurs,$B121),INDEX(victoires,SMALL(IF(joueurs=$B121,ROW(INDIRECT(\"1:\"&ROWS(victoires)))),ROWS($1:$14))),\"\")","v":0},{"$f":"IF(ROWS($1:$15)<=COUNTIF(joueurs,$B121),INDEX(victoires,SMALL(IF(joueurs=$B121,ROW(INDIRECT(\"1:\"&ROWS(victoires)))),ROWS($1:$15))),\"\")","v":0},{"$f":"IF(ROWS($1:$16)<=COUNTIF(joueurs,$B121),INDEX(victoires,SMALL(IF(joueurs=$B121,ROW(INDIRECT(\"1:\"&ROWS(victoires)))),ROWS($1:$16))),\"\")","v":0},{"$f":"IF(ROWS($1:$17)<=COUNTIF(joueurs,$B121),INDEX(victoires,SMALL(IF(joueurs=$B121,ROW(INDIRECT(\"1:\"&ROWS(victoires)))),ROWS($1:$17))),\"\")","v":0},{"$f":"IF(ROWS($1:$18)<=COUNTIF(joueurs,$B121),INDEX(victoires,SMALL(IF(joueurs=$B121,ROW(INDIRECT(\"1:\"&ROWS(victoires)))),ROWS($1:$18))),\"\")","v":0},{"$f":"IF(ROWS($1:$19)<=COUNTIF(joueurs,$B121),INDEX(victoires,SMALL(IF(joueurs=$B121,ROW(INDIRECT(\"1:\"&ROWS(victoires)))),ROWS($1:$19))),\"\")","v":0},{"$f":"IF(ROWS($1:$20)<=COUNTIF(joueurs,$B121),INDEX(victoires,SMALL(IF(joueurs=$B121,ROW(INDIRECT(\"1:\"&ROWS(victoires)))),ROWS($1:$20))),\"\")","v":0}]
[null,null,null,{"$f":"IF(ROWS($1:$21)<=COUNTIF(joueurs,$B121),INDEX(fautes,SMALL(IF(joueurs=$B121,ROW(INDIRECT(\"1:\"&ROWS(fautes)))),ROWS($1:$21))),\"\")","v":0},{"$f":"IF(ROWS($1:$22)<=COUNTIF(joueurs,$B121),INDEX(fautes,SMALL(IF(joueurs=$B121,ROW(INDIRECT(\"1:\"&ROWS(fautes)))),ROWS($1:$22))),\"\")","v":0},{"$f":"IF(ROWS($1:$23)<=COUNTIF(joueurs,$B121),INDEX(fautes,SMALL(IF(joueurs=$B121,ROW(INDIRECT(\"1:\"&ROWS(fautes)))),ROWS($1:$23))),\"\")","v":0},{"$f":"IF(ROWS($1:$24)<=COUNTIF(joueurs,$B121),INDEX(fautes,SMALL(IF(joueurs=$B121,ROW(INDIRECT(\"1:\"&ROWS(fautes)))),ROWS($1:$24))),\"\")","v":0},{"$f":"IF(ROWS($1:$25)<=COUNTIF(joueurs,$B121),INDEX(fautes,SMALL(IF(joueurs=$B121,ROW(INDIRECT(\"1:\"&ROWS(fautes)))),ROWS($1:$25))),\"\")","v":0},{"$f":"IF(ROWS($1:$26)<=COUNTIF(joueurs,$B121),INDEX(fautes,SMALL(IF(joueurs=$B121,ROW(INDIRECT(\"1:\"&ROWS(fautes)))),ROWS($1:$26))),\"\")","v":0},{"$f":"IF(ROWS($1:$27)<=COUNTIF(joueurs,$B121),INDEX(fautes,SMALL(IF(joueurs=$B121,ROW(INDIRECT(\"1:\"&ROWS(fautes)))),ROWS($1:$27))),\"\")","v":0},{"$f":"IF(ROWS($1:$28)<=COUNTIF(joueurs,$B121),INDEX(fautes,SMALL(IF(joueurs=$B121,ROW(INDIRECT(\"1:\"&ROWS(fautes)))),ROWS($1:$28))),\"\")","v":0},{"$f":"IF(ROWS($1:$29)<=COUNTIF(joueurs,$B121),INDEX(fautes,SMALL(IF(joueurs=$B121,ROW(INDIRECT(\"1:\"&ROWS(fautes)))),ROWS($1:$29))),\"\")","v":0},{"$f":"IF(ROWS($1:$30)<=COUNTIF(joueurs,$B121),INDEX(fautes,SMALL(IF(joueurs=$B121,ROW(INDIRECT(\"1:\"&ROWS(fautes)))),ROWS($1:$30))),\"\")","v":0},{"$f":"IF(ROWS($1:$21)<=COUNTIF(joueurs,$B121),INDEX(ballonperdus,SMALL(IF(joueurs=$B121,ROW(INDIRECT(\"1:\"&ROWS(ballonperdus)))),ROWS($1:$21))),\"\")","v":0},{"$f":"IF(ROWS($1:$22)<=COUNTIF(joueurs,$B121),INDEX(ballonperdus,SMALL(IF(joueurs=$B121,ROW(INDIRECT(\"1:\"&ROWS(ballonperdus)))),ROWS($1:$22))),\"\")","v":0},{"$f":"IF(ROWS($1:$23)<=COUNTIF(joueurs,$B121),INDEX(ballonperdus,SMALL(IF(joueurs=$B121,ROW(INDIRECT(\"1:\"&ROWS(ballonperdus)))),ROWS($1:$23))),\"\")","v":0},{"$f":"IF(ROWS($1:$24)<=COUNTIF(joueurs,$B121),INDEX(ballonperdus,SMALL(IF(joueurs=$B121,ROW(INDIRECT(\"1:\"&ROWS(ballonperdus)))),ROWS($1:$24))),\"\")","v":0},{"$f":"IF(ROWS($1:$25)<=COUNTIF(joueurs,$B121),INDEX(ballonperdus,SMALL(IF(joueurs=$B121,ROW(INDIRECT(\"1:\"&ROWS(ballonperdus)))),ROWS($1:$25))),\"\")","v":0},{"$f":"IF(ROWS($1:$26)<=COUNTIF(joueurs,$B121),INDEX(ballonperdus,SMALL(IF(joueurs=$B121,ROW(INDIRECT(\"1:\"&ROWS(ballonperdus)))),ROWS($1:$26))),\"\")","v":0},{"$f":"IF(ROWS($1:$27)<=COUNTIF(joueurs,$B121),INDEX(ballonperdus,SMALL(IF(joueurs=$B121,ROW(INDIRECT(\"1:\"&ROWS(ballonperdus)))),ROWS($1:$27))),\"\")","v":0},{"$f":"IF(ROWS($1:$28)<=COUNTIF(joueurs,$B121),INDEX(ballonperdus,SMALL(IF(joueurs=$B121,ROW(INDIRECT(\"1:\"&ROWS(ballonperdus)))),ROWS($1:$28))),\"\")","v":0},{"$f":"IF(ROWS($1:$29)<=COUNTIF(joueurs,$B121),INDEX(ballonperdus,SMALL(IF(joueurs=$B121,ROW(INDIRECT(\"1:\"&ROWS(ballonperdus)))),ROWS($1:$29))),\"\")","v":0},{"$f":"IF(ROWS($1:$30)<=COUNTIF(joueurs,$B121),INDEX(ballonperdus,SMALL(IF(joueurs=$B121,ROW(INDIRECT(\"1:\"&ROWS(ballonperdus)))),ROWS($1:$30))),\"\")","v":0},{"$f":"IF(ROWS($1:$21)<=COUNTIF(joueurs,$B121),INDEX(interceptions,SMALL(IF(joueurs=$B121,ROW(INDIRECT(\"1:\"&ROWS(interceptions)))),ROWS($1:$21))),\"\")","v":0},{"$f":"IF(ROWS($1:$22)<=COUNTIF(joueurs,$B121),INDEX(interceptions,SMALL(IF(joueurs=$B121,ROW(INDIRECT(\"1:\"&ROWS(interceptions)))),ROWS($1:$22))),\"\")","v":0},{"$f":"IF(ROWS($1:$23)<=COUNTIF(joueurs,$B121),INDEX(interceptions,SMALL(IF(joueurs=$B121,ROW(INDIRECT(\"1:\"&ROWS(interceptions)))),ROWS($1:$23))),\"\")","v":0},{"$f":"IF(ROWS($1:$24)<=COUNTIF(joueurs,$B121),INDEX(interceptions,SMALL(IF(joueurs=$B121,ROW(INDIRECT(\"1:\"&ROWS(interceptions)))),ROWS($1:$24))),\"\")","v":0},{"$f":"IF(ROWS($1:$25)<=COUNTIF(joueurs,$B121),INDEX(interceptions,SMALL(IF(joueurs=$B121,ROW(INDIRECT(\"1:\"&ROWS(interceptions)))),ROWS($1:$25))),\"\")","v":0},{"$f":"IF(ROWS($1:$26)<=COUNTIF(joueurs,$B121),INDEX(interceptions,SMALL(IF(joueurs=$B121,ROW(INDIRECT(\"1:\"&ROWS(interceptions)))),ROWS($1:$26))),\"\")","v":0},{"$f":"IF(ROWS($1:$27)<=COUNTIF(joueurs,$B121),INDEX(interceptions,SMALL(IF(joueurs=$B121,ROW(INDIRECT(\"1:\"&ROWS(interceptions)))),ROWS($1:$27))),\"\")","v":0},{"$f":"IF(ROWS($1:$28)<=COUNTIF(joueurs,$B121),INDEX(interceptions,SMALL(IF(joueurs=$B121,ROW(INDIRECT(\"1:\"&ROWS(interceptions)))),ROWS($1:$28))),\"\")","v":0},{"$f":"IF(ROWS($1:$29)<=COUNTIF(joueurs,$B121),INDEX(interceptions,SMALL(IF(joueurs=$B121,ROW(INDIRECT(\"1:\"&ROWS(interceptions)))),ROWS($1:$29))),\"\")","v":0},{"$f":"IF(ROWS($1:$30)<=COUNTIF(joueurs,$B121),INDEX(interceptions,SMALL(IF(joueurs=$B121,ROW(INDIRECT(\"1:\"&ROWS(interceptions)))),ROWS($1:$30))),\"\")","v":0},{"$f":"IF(ROWS($1:$21)<=COUNTIF(joueurs,$B121),INDEX(ballonrecuperes,SMALL(IF(joueurs=$B121,ROW(INDIRECT(\"1:\"&ROWS(ballonrecuperes)))),ROWS($1:$21))),\"\")","v":0},{"$f":"IF(ROWS($1:$22)<=COUNTIF(joueurs,$B121),INDEX(ballonrecuperes,SMALL(IF(joueurs=$B121,ROW(INDIRECT(\"1:\"&ROWS(ballonrecuperes)))),ROWS($1:$22))),\"\")","v":0},{"$f":"IF(ROWS($1:$23)<=COUNTIF(joueurs,$B121),INDEX(ballonrecuperes,SMALL(IF(joueurs=$B121,ROW(INDIRECT(\"1:\"&ROWS(ballonrecuperes)))),ROWS($1:$23))),\"\")","v":0},{"$f":"IF(ROWS($1:$24)<=COUNTIF(joueurs,$B121),INDEX(ballonrecuperes,SMALL(IF(joueurs=$B121,ROW(INDIRECT(\"1:\"&ROWS(ballonrecuperes)))),ROWS($1:$24))),\"\")","v":0},{"$f":"IF(ROWS($1:$25)<=COUNTIF(joueurs,$B121),INDEX(ballonrecuperes,SMALL(IF(joueurs=$B121,ROW(INDIRECT(\"1:\"&ROWS(ballonrecuperes)))),ROWS($1:$25))),\"\")","v":0},{"$f":"IF(ROWS($1:$26)<=COUNTIF(joueurs,$B121),INDEX(ballonrecuperes,SMALL(IF(joueurs=$B121,ROW(INDIRECT(\"1:\"&ROWS(ballonrecuperes)))),ROWS($1:$26))),\"\")","v":0},{"$f":"IF(ROWS($1:$27)<=COUNTIF(joueurs,$B121),INDEX(ballonrecuperes,SMALL(IF(joueurs=$B121,ROW(INDIRECT(\"1:\"&ROWS(ballonrecuperes)))),ROWS($1:$27))),\"\")","v":0},{"$f":"IF(ROWS($1:$28)<=COUNTIF(joueurs,$B121),INDEX(ballonrecuperes,SMALL(IF(joueurs=$B121,ROW(INDIRECT(\"1:\"&ROWS(ballonrecuperes)))),ROWS($1:$28))),\"\")","v":0},{"$f":"IF(ROWS($1:$29)<=COUNTIF(joueurs,$B121),INDEX(ballonrecuperes,SMALL(IF(joueurs=$B121,ROW(INDIRECT(\"1:\"&ROWS(ballonrecuperes)))),ROWS($1:$29))),\"\")","v":0},{"$f":"IF(ROWS($1:$30)<=COUNTIF(joueurs,$B121),INDEX(ballonrecuperes,SMALL(IF(joueurs=$B121,ROW(INDIRECT(\"1:\"&ROWS(ballonrecuperes)))),ROWS($1:$30))),\"\")","v":0},{"$f":"IF(ROWS($1:$21)<=COUNTIF(joueurs,$B121),INDEX(tirs,SMALL(IF(joueurs=$B121,ROW(INDIRECT(\"1:\"&ROWS(tirs)))),ROWS($1:$21))),\"\")","v":0},{"$f":"IF(ROWS($1:$22)<=COUNTIF(joueurs,$B121),INDEX(tirs,SMALL(IF(joueurs=$B121,ROW(INDIRECT(\"1:\"&ROWS(tirs)))),ROWS($1:$22))),\"\")","v":0},{"$f":"IF(ROWS($1:$23)<=COUNTIF(joueurs,$B121),INDEX(tirs,SMALL(IF(joueurs=$B121,ROW(INDIRECT(\"1:\"&ROWS(tirs)))),ROWS($1:$23))),\"\")","v":0},{"$f":"IF(ROWS($1:$24)<=COUNTIF(joueurs,$B121),INDEX(tirs,SMALL(IF(joueurs=$B121,ROW(INDIRECT(\"1:\"&ROWS(tirs)))),ROWS($1:$24))),\"\")","v":0},{"$f":"IF(ROWS($1:$25)<=COUNTIF(joueurs,$B121),INDEX(tirs,SMALL(IF(joueurs=$B121,ROW(INDIRECT(\"1:\"&ROWS(tirs)))),ROWS($1:$25))),\"\")","v":0},{"$f":"IF(ROWS($1:$26)<=COUNTIF(joueurs,$B121),INDEX(tirs,SMALL(IF(joueurs=$B121,ROW(INDIRECT(\"1:\"&ROWS(tirs)))),ROWS($1:$26))),\"\")","v":0},{"$f":"IF(ROWS($1:$27)<=COUNTIF(joueurs,$B121),INDEX(tirs,SMALL(IF(joueurs=$B121,ROW(INDIRECT(\"1:\"&ROWS(tirs)))),ROWS($1:$27))),\"\")","v":0},{"$f":"IF(ROWS($1:$28)<=COUNTIF(joueurs,$B121),INDEX(tirs,SMALL(IF(joueurs=$B121,ROW(INDIRECT(\"1:\"&ROWS(tirs)))),ROWS($1:$28))),\"\")","v":0},{"$f":"IF(ROWS($1:$29)<=COUNTIF(joueurs,$B121),INDEX(tirs,SMALL(IF(joueurs=$B121,ROW(INDIRECT(\"1:\"&ROWS(tirs)))),ROWS($1:$29))),\"\")","v":0},{"$f":"IF(ROWS($1:$30)<=COUNTIF(joueurs,$B121),INDEX(tirs,SMALL(IF(joueurs=$B121,ROW(INDIRECT(\"1:\"&ROWS(tirs)))),ROWS($1:$30))),\"\")","v":0},{"$f":"IF(ROWS($1:$21)<=COUNTIF(joueurs,$B121),INDEX(bontirs,SMALL(IF(joueurs=$B121,ROW(INDIRECT(\"1:\"&ROWS(bontirs)))),ROWS($1:$21))),\"\")","v":0},{"$f":"IF(ROWS($1:$22)<=COUNTIF(joueurs,$B121),INDEX(bontirs,SMALL(IF(joueurs=$B121,ROW(INDIRECT(\"1:\"&ROWS(bontirs)))),ROWS($1:$22))),\"\")","v":0},{"$f":"IF(ROWS($1:$23)<=COUNTIF(joueurs,$B121),INDEX(bontirs,SMALL(IF(joueurs=$B121,ROW(INDIRECT(\"1:\"&ROWS(bontirs)))),ROWS($1:$23))),\"\")","v":0},{"$f":"IF(ROWS($1:$24)<=COUNTIF(joueurs,$B121),INDEX(bontirs,SMALL(IF(joueurs=$B121,ROW(INDIRECT(\"1:\"&ROWS(bontirs)))),ROWS($1:$24))),\"\")","v":0},{"$f":"IF(ROWS($1:$25)<=COUNTIF(joueurs,$B121),INDEX(bontirs,SMALL(IF(joueurs=$B121,ROW(INDIRECT(\"1:\"&ROWS(bontirs)))),ROWS($1:$25))),\"\")","v":0},{"$f":"IF(ROWS($1:$26)<=COUNTIF(joueurs,$B121),INDEX(bontirs,SMALL(IF(joueurs=$B121,ROW(INDIRECT(\"1:\"&ROWS(bontirs)))),ROWS($1:$26))),\"\")","v":0},{"$f":"IF(ROWS($1:$27)<=COUNTIF(joueurs,$B121),INDEX(bontirs,SMALL(IF(joueurs=$B121,ROW(INDIRECT(\"1:\"&ROWS(bontirs)))),ROWS($1:$27))),\"\")","v":0},{"$f":"IF(ROWS($1:$28)<=COUNTIF(joueurs,$B121),INDEX(bontirs,SMALL(IF(joueurs=$B121,ROW(INDIRECT(\"1:\"&ROWS(bontirs)))),ROWS($1:$28))),\"\")","v":0},{"$f":"IF(ROWS($1:$29)<=COUNTIF(joueurs,$B121),INDEX(bontirs,SMALL(IF(joueurs=$B121,ROW(INDIRECT(\"1:\"&ROWS(bontirs)))),ROWS($1:$29))),\"\")","v":0},{"$f":"IF(ROWS($1:$30)<=COUNTIF(joueurs,$B121),INDEX(bontirs,SMALL(IF(joueurs=$B121,ROW(INDIRECT(\"1:\"&ROWS(bontirs)))),ROWS($1:$30))),\"\")","v":0},{"$f":"IF(ROWS($1:$21)<=COUNTIF(joueurs,$B121),INDEX(points,SMALL(IF(joueurs=$B121,ROW(INDIRECT(\"1:\"&ROWS(points)))),ROWS($1:$21))),\"\")","v":0},{"$f":"IF(ROWS($1:$22)<=COUNTIF(joueurs,$B121),INDEX(points,SMALL(IF(joueurs=$B121,ROW(INDIRECT(\"1:\"&ROWS(points)))),ROWS($1:$22))),\"\")","v":0},{"$f":"IF(ROWS($1:$23)<=COUNTIF(joueurs,$B121),INDEX(points,SMALL(IF(joueurs=$B121,ROW(INDIRECT(\"1:\"&ROWS(points)))),ROWS($1:$23))),\"\")","v":0},{"$f":"IF(ROWS($1:$24)<=COUNTIF(joueurs,$B121),INDEX(points,SMALL(IF(joueurs=$B121,ROW(INDIRECT(\"1:\"&ROWS(points)))),ROWS($1:$24))),\"\")","v":0},{"$f":"IF(ROWS($1:$25)<=COUNTIF(joueurs,$B121),INDEX(points,SMALL(IF(joueurs=$B121,ROW(INDIRECT(\"1:\"&ROWS(points)))),ROWS($1:$25))),\"\")","v":0},{"$f":"IF(ROWS($1:$26)<=COUNTIF(joueurs,$B121),INDEX(points,SMALL(IF(joueurs=$B121,ROW(INDIRECT(\"1:\"&ROWS(points)))),ROWS($1:$26))),\"\")","v":0},{"$f":"IF(ROWS($1:$27)<=COUNTIF(joueurs,$B121),INDEX(points,SMALL(IF(joueurs=$B121,ROW(INDIRECT(\"1:\"&ROWS(points)))),ROWS($1:$27))),\"\")","v":0},{"$f":"IF(ROWS($1:$28)<=COUNTIF(joueurs,$B121),INDEX(points,SMALL(IF(joueurs=$B121,ROW(INDIRECT(\"1:\"&ROWS(points)))),ROWS($1:$28))),\"\")","v":0},{"$f":"IF(ROWS($1:$29)<=COUNTIF(joueurs,$B121),INDEX(points,SMALL(IF(joueurs=$B121,ROW(INDIRECT(\"1:\"&ROWS(points)))),ROWS($1:$29))),\"\")","v":0},{"$f":"IF(ROWS($1:$30)<=COUNTIF(joueurs,$B121),INDEX(points,SMALL(IF(joueurs=$B121,ROW(INDIRECT(\"1:\"&ROWS(points)))),ROWS($1:$30))),\"\")","v":0},{"$f":"IF(ROWS($1:$21)<=COUNTIF(joueurs,$B121),INDEX(victoires,SMALL(IF(joueurs=$B121,ROW(INDIRECT(\"1:\"&ROWS(victoires)))),ROWS($1:$21))),\"\")","v":0},{"$f":"IF(ROWS($1:$22)<=COUNTIF(joueurs,$B121),INDEX(victoires,SMALL(IF(joueurs=$B121,ROW(INDIRECT(\"1:\"&ROWS(victoires)))),ROWS($1:$22))),\"\")","v":0},{"$f":"IF(ROWS($1:$23)<=COUNTIF(joueurs,$B121),INDEX(victoires,SMALL(IF(joueurs=$B121,ROW(INDIRECT(\"1:\"&ROWS(victoires)))),ROWS($1:$23))),\"\")","v":0},{"$f":"IF(ROWS($1:$24)<=COUNTIF(joueurs,$B121),INDEX(victoires,SMALL(IF(joueurs=$B121,ROW(INDIRECT(\"1:\"&ROWS(victoires)))),ROWS($1:$24))),\"\")","v":0},{"$f":"IF(ROWS($1:$25)<=COUNTIF(joueurs,$B121),INDEX(victoires,SMALL(IF(joueurs=$B121,ROW(INDIRECT(\"1:\"&ROWS(victoires)))),ROWS($1:$25))),\"\")","v":0},{"$f":"IF(ROWS($1:$26)<=COUNTIF(joueurs,$B121),INDEX(victoires,SMALL(IF(joueurs=$B121,ROW(INDIRECT(\"1:\"&ROWS(victoires)))),ROWS($1:$26))),\"\")","v":0},{"$f":"IF(ROWS($1:$27)<=COUNTIF(joueurs,$B121),INDEX(victoires,SMALL(IF(joueurs=$B121,ROW(INDIRECT(\"1:\"&ROWS(victoires)))),ROWS($1:$27))),\"\")","v":0},{"$f":"IF(ROWS($1:$28)<=COUNTIF(joueurs,$B121),INDEX(victoires,SMALL(IF(joueurs=$B121,ROW(INDIRECT(\"1:\"&ROWS(victoires)))),ROWS($1:$28))),\"\")","v":0},{"$f":"IF(ROWS($1:$29)<=COUNTIF(joueurs,$B121),INDEX(victoires,SMALL(IF(joueurs=$B121,ROW(INDIRECT(\"1:\"&ROWS(victoires)))),ROWS($1:$29))),\"\")","v":0},{"$f":"IF(ROWS($1:$30)<=COUNTIF(joueurs,$B121),INDEX(victoires,SMALL(IF(joueurs=$B121,ROW(INDIRECT(\"1:\"&ROWS(victoires)))),ROWS($1:$30))),\"\")","v":0}]
[null,null,null,{"$f":"IF(ROWS($1:$31)<=COUNTIF(joueurs,$B121),INDEX(fautes,SMALL(IF(joueurs=$B121,ROW(INDIRECT(\"1:\"&ROWS(fautes)))),ROWS($1:$31))),\"\")","v":0},{"$f":"IF(ROWS($1:$32)<=COUNTIF(joueurs,$B121),INDEX(fautes,SMALL(IF(joueurs=$B121,ROW(INDIRECT(\"1:\"&ROWS(fautes)))),ROWS($1:$32))),\"\")","v":0},{"$f":"IF(ROWS($1:$33)<=COUNTIF(joueurs,$B121),INDEX(fautes,SMALL(IF(joueurs=$B121,ROW(INDIRECT(\"1:\"&ROWS(fautes)))),ROWS($1:$33))),\"\")","v":0},{"$f":"IF(ROWS($1:$34)<=COUNTIF(joueurs,$B121),INDEX(fautes,SMALL(IF(joueurs=$B121,ROW(INDIRECT(\"1:\"&ROWS(fautes)))),ROWS($1:$34))),\"\")","v":0},{"$f":"IF(ROWS($1:$35)<=COUNTIF(joueurs,$B121),INDEX(fautes,SMALL(IF(joueurs=$B121,ROW(INDIRECT(\"1:\"&ROWS(fautes)))),ROWS($1:$35))),\"\")","v":0},{"$f":"IF(ROWS($1:$36)<=COUNTIF(joueurs,$B121),INDEX(fautes,SMALL(IF(joueurs=$B121,ROW(INDIRECT(\"1:\"&ROWS(fautes)))),ROWS($1:$36))),\"\")","v":0},{"$f":"IF(ROWS($1:$37)<=COUNTIF(joueurs,$B121),INDEX(fautes,SMALL(IF(joueurs=$B121,ROW(INDIRECT(\"1:\"&ROWS(fautes)))),ROWS($1:$37))),\"\")","v":0},{"$f":"IF(ROWS($1:$38)<=COUNTIF(joueurs,$B121),INDEX(fautes,SMALL(IF(joueurs=$B121,ROW(INDIRECT(\"1:\"&ROWS(fautes)))),ROWS($1:$38))),\"\")","v":0},{"$f":"IF(ROWS($1:$39)<=COUNTIF(joueurs,$B121),INDEX(fautes,SMALL(IF(joueurs=$B121,ROW(INDIRECT(\"1:\"&ROWS(fautes)))),ROWS($1:$39))),\"\")","v":0},{"$f":"IF(ROWS($1:$40)<=COUNTIF(joueurs,$B121),INDEX(fautes,SMALL(IF(joueurs=$B121,ROW(INDIRECT(\"1:\"&ROWS(fautes)))),ROWS($1:$40))),\"\")","v":0},{"$f":"IF(ROWS($1:$31)<=COUNTIF(joueurs,$B121),INDEX(ballonperdus,SMALL(IF(joueurs=$B121,ROW(INDIRECT(\"1:\"&ROWS(ballonperdus)))),ROWS($1:$31))),\"\")","v":0},{"$f":"IF(ROWS($1:$32)<=COUNTIF(joueurs,$B121),INDEX(ballonperdus,SMALL(IF(joueurs=$B121,ROW(INDIRECT(\"1:\"&ROWS(ballonperdus)))),ROWS($1:$32))),\"\")","v":0},{"$f":"IF(ROWS($1:$33)<=COUNTIF(joueurs,$B121),INDEX(ballonperdus,SMALL(IF(joueurs=$B121,ROW(INDIRECT(\"1:\"&ROWS(ballonperdus)))),ROWS($1:$33))),\"\")","v":0},{"$f":"IF(ROWS($1:$34)<=COUNTIF(joueurs,$B121),INDEX(ballonperdus,SMALL(IF(joueurs=$B121,ROW(INDIRECT(\"1:\"&ROWS(ballonperdus)))),ROWS($1:$34))),\"\")","v":0},{"$f":"IF(ROWS($1:$35)<=COUNTIF(joueurs,$B121),INDEX(ballonperdus,SMALL(IF(joueurs=$B121,ROW(INDIRECT(\"1:\"&ROWS(ballonperdus)))),ROWS($1:$35))),\"\")","v":0},{"$f":"IF(ROWS($1:$36)<=COUNTIF(joueurs,$B121),INDEX(ballonperdus,SMALL(IF(joueurs=$B121,ROW(INDIRECT(\"1:\"&ROWS(ballonperdus)))),ROWS($1:$36))),\"\")","v":0},{"$f":"IF(ROWS($1:$37)<=COUNTIF(joueurs,$B121),INDEX(ballonperdus,SMALL(IF(joueurs=$B121,ROW(INDIRECT(\"1:\"&ROWS(ballonperdus)))),ROWS($1:$37))),\"\")","v":0},{"$f":"IF(ROWS($1:$38)<=COUNTIF(joueurs,$B121),INDEX(ballonperdus,SMALL(IF(joueurs=$B121,ROW(INDIRECT(\"1:\"&ROWS(ballonperdus)))),ROWS($1:$38))),\"\")","v":0},{"$f":"IF(ROWS($1:$39)<=COUNTIF(joueurs,$B121),INDEX(ballonperdus,SMALL(IF(joueurs=$B121,ROW(INDIRECT(\"1:\"&ROWS(ballonperdus)))),ROWS($1:$39))),\"\")","v":0},{"$f":"IF(ROWS($1:$40)<=COUNTIF(joueurs,$B121),INDEX(ballonperdus,SMALL(IF(joueurs=$B121,ROW(INDIRECT(\"1:\"&ROWS(ballonperdus)))),ROWS($1:$40))),\"\")","v":0},{"$f":"IF(ROWS($1:$31)<=COUNTIF(joueurs,$B121),INDEX(interceptions,SMALL(IF(joueurs=$B121,ROW(INDIRECT(\"1:\"&ROWS(interceptions)))),ROWS($1:$31))),\"\")","v":0},{"$f":"IF(ROWS($1:$32)<=COUNTIF(joueurs,$B121),INDEX(interceptions,SMALL(IF(joueurs=$B121,ROW(INDIRECT(\"1:\"&ROWS(interceptions)))),ROWS($1:$32))),\"\")","v":0},{"$f":"IF(ROWS($1:$33)<=COUNTIF(joueurs,$B121),INDEX(interceptions,SMALL(IF(joueurs=$B121,ROW(INDIRECT(\"1:\"&ROWS(interceptions)))),ROWS($1:$33))),\"\")","v":0},{"$f":"IF(ROWS($1:$34)<=COUNTIF(joueurs,$B121),INDEX(interceptions,SMALL(IF(joueurs=$B121,ROW(INDIRECT(\"1:\"&ROWS(interceptions)))),ROWS($1:$34))),\"\")","v":0},{"$f":"IF(ROWS($1:$35)<=COUNTIF(joueurs,$B121),INDEX(interceptions,SMALL(IF(joueurs=$B121,ROW(INDIRECT(\"1:\"&ROWS(interceptions)))),ROWS($1:$35))),\"\")","v":0},{"$f":"IF(ROWS($1:$36)<=COUNTIF(joueurs,$B121),INDEX(interceptions,SMALL(IF(joueurs=$B121,ROW(INDIRECT(\"1:\"&ROWS(interceptions)))),ROWS($1:$36))),\"\")","v":0},{"$f":"IF(ROWS($1:$37)<=COUNTIF(joueurs,$B121),INDEX(interceptions,SMALL(IF(joueurs=$B121,ROW(INDIRECT(\"1:\"&ROWS(interceptions)))),ROWS($1:$37))),\"\")","v":0},{"$f":"IF(ROWS($1:$38)<=COUNTIF(joueurs,$B121),INDEX(interceptions,SMALL(IF(joueurs=$B121,ROW(INDIRECT(\"1:\"&ROWS(interceptions)))),ROWS($1:$38))),\"\")","v":0},{"$f":"IF(ROWS($1:$39)<=COUNTIF(joueurs,$B121),INDEX(interceptions,SMALL(IF(joueurs=$B121,ROW(INDIRECT(\"1:\"&ROWS(interceptions)))),ROWS($1:$39))),\"\")","v":0},{"$f":"IF(ROWS($1:$40)<=COUNTIF(joueurs,$B121),INDEX(interceptions,SMALL(IF(joueurs=$B121,ROW(INDIRECT(\"1:\"&ROWS(interceptions)))),ROWS($1:$40))),\"\")","v":0},{"$f":"IF(ROWS($1:$31)<=COUNTIF(joueurs,$B121),INDEX(ballonrecuperes,SMALL(IF(joueurs=$B121,ROW(INDIRECT(\"1:\"&ROWS(ballonrecuperes)))),ROWS($1:$31))),\"\")","v":0},{"$f":"IF(ROWS($1:$32)<=COUNTIF(joueurs,$B121),INDEX(ballonrecuperes,SMALL(IF(joueurs=$B121,ROW(INDIRECT(\"1:\"&ROWS(ballonrecuperes)))),ROWS($1:$32))),\"\")","v":0},{"$f":"IF(ROWS($1:$33)<=COUNTIF(joueurs,$B121),INDEX(ballonrecuperes,SMALL(IF(joueurs=$B121,ROW(INDIRECT(\"1:\"&ROWS(ballonrecuperes)))),ROWS($1:$33))),\"\")","v":0},{"$f":"IF(ROWS($1:$34)<=COUNTIF(joueurs,$B121),INDEX(ballonrecuperes,SMALL(IF(joueurs=$B121,ROW(INDIRECT(\"1:\"&ROWS(ballonrecuperes)))),ROWS($1:$34))),\"\")","v":0},{"$f":"IF(ROWS($1:$35)<=COUNTIF(joueurs,$B121),INDEX(ballonrecuperes,SMALL(IF(joueurs=$B121,ROW(INDIRECT(\"1:\"&ROWS(ballonrecuperes)))),ROWS($1:$35))),\"\")","v":0},{"$f":"IF(ROWS($1:$36)<=COUNTIF(joueurs,$B121),INDEX(ballonrecuperes,SMALL(IF(joueurs=$B121,ROW(INDIRECT(\"1:\"&ROWS(ballonrecuperes)))),ROWS($1:$36))),\"\")","v":0},{"$f":"IF(ROWS($1:$37)<=COUNTIF(joueurs,$B121),INDEX(ballonrecuperes,SMALL(IF(joueurs=$B121,ROW(INDIRECT(\"1:\"&ROWS(ballonrecuperes)))),ROWS($1:$37))),\"\")","v":0},{"$f":"IF(ROWS($1:$38)<=COUNTIF(joueurs,$B121),INDEX(ballonrecuperes,SMALL(IF(joueurs=$B121,ROW(INDIRECT(\"1:\"&ROWS(ballonrecuperes)))),ROWS($1:$38))),\"\")","v":0},{"$f":"IF(ROWS($1:$39)<=COUNTIF(joueurs,$B121),INDEX(ballonrecuperes,SMALL(IF(joueurs=$B121,ROW(INDIRECT(\"1:\"&ROWS(ballonrecuperes)))),ROWS($1:$39))),\"\")","v":0},{"$f":"IF(ROWS($1:$40)<=COUNTIF(joueurs,$B121),INDEX(ballonrecuperes,SMALL(IF(joueurs=$B121,ROW(INDIRECT(\"1:\"&ROWS(ballonrecuperes)))),ROWS($1:$40))),\"\")","v":0},{"$f":"IF(ROWS($1:$31)<=COUNTIF(joueurs,$B121),INDEX(tirs,SMALL(IF(joueurs=$B121,ROW(INDIRECT(\"1:\"&ROWS(tirs)))),ROWS($1:$31))),\"\")","v":0},{"$f":"IF(ROWS($1:$32)<=COUNTIF(joueurs,$B121),INDEX(tirs,SMALL(IF(joueurs=$B121,ROW(INDIRECT(\"1:\"&ROWS(tirs)))),ROWS($1:$32))),\"\")","v":0},{"$f":"IF(ROWS($1:$33)<=COUNTIF(joueurs,$B121),INDEX(tirs,SMALL(IF(joueurs=$B121,ROW(INDIRECT(\"1:\"&ROWS(tirs)))),ROWS($1:$33))),\"\")","v":0},{"$f":"IF(ROWS($1:$34)<=COUNTIF(joueurs,$B121),INDEX(tirs,SMALL(IF(joueurs=$B121,ROW(INDIRECT(\"1:\"&ROWS(tirs)))),ROWS($1:$34))),\"\")","v":0},{"$f":"IF(ROWS($1:$35)<=COUNTIF(joueurs,$B121),INDEX(tirs,SMALL(IF(joueurs=$B121,ROW(INDIRECT(\"1:\"&ROWS(tirs)))),ROWS($1:$35))),\"\")","v":0},{"$f":"IF(ROWS($1:$36)<=COUNTIF(joueurs,$B121),INDEX(tirs,SMALL(IF(joueurs=$B121,ROW(INDIRECT(\"1:\"&ROWS(tirs)))),ROWS($1:$36))),\"\")","v":0},{"$f":"IF(ROWS($1:$37)<=COUNTIF(joueurs,$B121),INDEX(tirs,SMALL(IF(joueurs=$B121,ROW(INDIRECT(\"1:\"&ROWS(tirs)))),ROWS($1:$37))),\"\")","v":0},{"$f":"IF(ROWS($1:$38)<=COUNTIF(joueurs,$B121),INDEX(tirs,SMALL(IF(joueurs=$B121,ROW(INDIRECT(\"1:\"&ROWS(tirs)))),ROWS($1:$38))),\"\")","v":0},{"$f":"IF(ROWS($1:$39)<=COUNTIF(joueurs,$B121),INDEX(tirs,SMALL(IF(joueurs=$B121,ROW(INDIRECT(\"1:\"&ROWS(tirs)))),ROWS($1:$39))),\"\")","v":0},{"$f":"IF(ROWS($1:$40)<=COUNTIF(joueurs,$B121),INDEX(tirs,SMALL(IF(joueurs=$B121,ROW(INDIRECT(\"1:\"&ROWS(tirs)))),ROWS($1:$40))),\"\")","v":0},{"$f":"IF(ROWS($1:$31)<=COUNTIF(joueurs,$B121),INDEX(bontirs,SMALL(IF(joueurs=$B121,ROW(INDIRECT(\"1:\"&ROWS(bontirs)))),ROWS($1:$31))),\"\")","v":0},{"$f":"IF(ROWS($1:$32)<=COUNTIF(joueurs,$B121),INDEX(bontirs,SMALL(IF(joueurs=$B121,ROW(INDIRECT(\"1:\"&ROWS(bontirs)))),ROWS($1:$32))),\"\")","v":0},{"$f":"IF(ROWS($1:$33)<=COUNTIF(joueurs,$B121),INDEX(bontirs,SMALL(IF(joueurs=$B121,ROW(INDIRECT(\"1:\"&ROWS(bontirs)))),ROWS($1:$33))),\"\")","v":0},{"$f":"IF(ROWS($1:$34)<=COUNTIF(joueurs,$B121),INDEX(bontirs,SMALL(IF(joueurs=$B121,ROW(INDIRECT(\"1:\"&ROWS(bontirs)))),ROWS($1:$34))),\"\")","v":0},{"$f":"IF(ROWS($1:$35)<=COUNTIF(joueurs,$B121),INDEX(bontirs,SMALL(IF(joueurs=$B121,ROW(INDIRECT(\"1:\"&ROWS(bontirs)))),ROWS($1:$35))),\"\")","v":0},{"$f":"IF(ROWS($1:$36)<=COUNTIF(joueurs,$B121),INDEX(bontirs,SMALL(IF(joueurs=$B121,ROW(INDIRECT(\"1:\"&ROWS(bontirs)))),ROWS($1:$36))),\"\")","v":0},{"$f":"IF(ROWS($1:$37)<=COUNTIF(joueurs,$B121),INDEX(bontirs,SMALL(IF(joueurs=$B121,ROW(INDIRECT(\"1:\"&ROWS(bontirs)))),ROWS($1:$37))),\"\")","v":0},{"$f":"IF(ROWS($1:$38)<=COUNTIF(joueurs,$B121),INDEX(bontirs,SMALL(IF(joueurs=$B121,ROW(INDIRECT(\"1:\"&ROWS(bontirs)))),ROWS($1:$38))),\"\")","v":0},{"$f":"IF(ROWS($1:$39)<=COUNTIF(joueurs,$B121),INDEX(bontirs,SMALL(IF(joueurs=$B121,ROW(INDIRECT(\"1:\"&ROWS(bontirs)))),ROWS($1:$39))),\"\")","v":0},{"$f":"IF(ROWS($1:$40)<=COUNTIF(joueurs,$B121),INDEX(bontirs,SMALL(IF(joueurs=$B121,ROW(INDIRECT(\"1:\"&ROWS(bontirs)))),ROWS($1:$40))),\"\")","v":0},{"$f":"IF(ROWS($1:$31)<=COUNTIF(joueurs,$B121),INDEX(points,SMALL(IF(joueurs=$B121,ROW(INDIRECT(\"1:\"&ROWS(points)))),ROWS($1:$31))),\"\")","v":0},{"$f":"IF(ROWS($1:$32)<=COUNTIF(joueurs,$B121),INDEX(points,SMALL(IF(joueurs=$B121,ROW(INDIRECT(\"1:\"&ROWS(points)))),ROWS($1:$32))),\"\")","v":0},{"$f":"IF(ROWS($1:$33)<=COUNTIF(joueurs,$B121),INDEX(points,SMALL(IF(joueurs=$B121,ROW(INDIRECT(\"1:\"&ROWS(points)))),ROWS($1:$33))),\"\")","v":0},{"$f":"IF(ROWS($1:$34)<=COUNTIF(joueurs,$B121),INDEX(points,SMALL(IF(joueurs=$B121,ROW(INDIRECT(\"1:\"&ROWS(points)))),ROWS($1:$34))),\"\")","v":0},{"$f":"IF(ROWS($1:$35)<=COUNTIF(joueurs,$B121),INDEX(points,SMALL(IF(joueurs=$B121,ROW(INDIRECT(\"1:\"&ROWS(points)))),ROWS($1:$35))),\"\")","v":0},{"$f":"IF(ROWS($1:$36)<=COUNTIF(joueurs,$B121),INDEX(points,SMALL(IF(joueurs=$B121,ROW(INDIRECT(\"1:\"&ROWS(points)))),ROWS($1:$36))),\"\")","v":0},{"$f":"IF(ROWS($1:$37)<=COUNTIF(joueurs,$B121),INDEX(points,SMALL(IF(joueurs=$B121,ROW(INDIRECT(\"1:\"&ROWS(points)))),ROWS($1:$37))),\"\")","v":0},{"$f":"IF(ROWS($1:$38)<=COUNTIF(joueurs,$B121),INDEX(points,SMALL(IF(joueurs=$B121,ROW(INDIRECT(\"1:\"&ROWS(points)))),ROWS($1:$38))),\"\")","v":0},{"$f":"IF(ROWS($1:$39)<=COUNTIF(joueurs,$B121),INDEX(points,SMALL(IF(joueurs=$B121,ROW(INDIRECT(\"1:\"&ROWS(points)))),ROWS($1:$39))),\"\")","v":0},{"$f":"IF(ROWS($1:$40)<=COUNTIF(joueurs,$B121),INDEX(points,SMALL(IF(joueurs=$B121,ROW(INDIRECT(\"1:\"&ROWS(points)))),ROWS($1:$40))),\"\")","v":0},{"$f":"IF(ROWS($1:$31)<=COUNTIF(joueurs,$B121),INDEX(victoires,SMALL(IF(joueurs=$B121,ROW(INDIRECT(\"1:\"&ROWS(victoires)))),ROWS($1:$31))),\"\")","v":0},{"$f":"IF(ROWS($1:$32)<=COUNTIF(joueurs,$B121),INDEX(victoires,SMALL(IF(joueurs=$B121,ROW(INDIRECT(\"1:\"&ROWS(victoires)))),ROWS($1:$32))),\"\")","v":0},{"$f":"IF(ROWS($1:$33)<=COUNTIF(joueurs,$B121),INDEX(victoires,SMALL(IF(joueurs=$B121,ROW(INDIRECT(\"1:\"&ROWS(victoires)))),ROWS($1:$33))),\"\")","v":0},{"$f":"IF(ROWS($1:$34)<=COUNTIF(joueurs,$B121),INDEX(victoires,SMALL(IF(joueurs=$B121,ROW(INDIRECT(\"1:\"&ROWS(victoires)))),ROWS($1:$34))),\"\")","v":0},{"$f":"IF(ROWS($1:$35)<=COUNTIF(joueurs,$B121),INDEX(victoires,SMALL(IF(joueurs=$B121,ROW(INDIRECT(\"1:\"&ROWS(victoires)))),ROWS($1:$35))),\"\")","v":0},{"$f":"IF(ROWS($1:$36)<=COUNTIF(joueurs,$B121),INDEX(victoires,SMALL(IF(joueurs=$B121,ROW(INDIRECT(\"1:\"&ROWS(victoires)))),ROWS($1:$36))),\"\")","v":0},{"$f":"IF(ROWS($1:$37)<=COUNTIF(joueurs,$B121),INDEX(victoires,SMALL(IF(joueurs=$B121,ROW(INDIRECT(\"1:\"&ROWS(victoires)))),ROWS($1:$37))),\"\")","v":0},{"$f":"IF(ROWS($1:$38)<=COUNTIF(joueurs,$B121),INDEX(victoires,SMALL(IF(joueurs=$B121,ROW(INDIRECT(\"1:\"&ROWS(victoires)))),ROWS($1:$38))),\"\")","v":0},{"$f":"IF(ROWS($1:$39)<=COUNTIF(joueurs,$B121),INDEX(victoires,SMALL(IF(joueurs=$B121,ROW(INDIRECT(\"1:\"&ROWS(victoires)))),ROWS($1:$39))),\"\")","v":0},{"$f":"IF(ROWS($1:$40)<=COUNTIF(joueurs,$B121),INDEX(victoires,SMALL(IF(joueurs=$B121,ROW(INDIRECT(\"1:\"&ROWS(victoires)))),ROWS($1:$40))),\"\")","v":0}]
[31,{"$f":"INDEX(eleves,MATCH(A125,numero,0),MATCH($B$2,classes,0))","v":0},null,{"$f":"IF(ROWS($1:$1)<=COUNTIF(joueurs,$B125),INDEX(fautes,SMALL(IF(joueurs=$B125,ROW(INDIRECT(\"1:\"&ROWS(fautes)))),ROWS($1:$1))),\"\")","v":0},{"$f":"IF(ROWS($1:$2)<=COUNTIF(joueurs,$B125),INDEX(fautes,SMALL(IF(joueurs=$B125,ROW(INDIRECT(\"1:\"&ROWS(fautes)))),ROWS($1:$2))),\"\")","v":0},{"$f":"IF(ROWS($1:$3)<=COUNTIF(joueurs,$B125),INDEX(fautes,SMALL(IF(joueurs=$B125,ROW(INDIRECT(\"1:\"&ROWS(fautes)))),ROWS($1:$3))),\"\")","v":0},{"$f":"IF(ROWS($1:$4)<=COUNTIF(joueurs,$B125),INDEX(fautes,SMALL(IF(joueurs=$B125,ROW(INDIRECT(\"1:\"&ROWS(fautes)))),ROWS($1:$4))),\"\")","v":0},{"$f":"IF(ROWS($1:$5)<=COUNTIF(joueurs,$B125),INDEX(fautes,SMALL(IF(joueurs=$B125,ROW(INDIRECT(\"1:\"&ROWS(fautes)))),ROWS($1:$5))),\"\")","v":0},{"$f":"IF(ROWS($1:$6)<=COUNTIF(joueurs,$B125),INDEX(fautes,SMALL(IF(joueurs=$B125,ROW(INDIRECT(\"1:\"&ROWS(fautes)))),ROWS($1:$6))),\"\")","v":0},{"$f":"IF(ROWS($1:$7)<=COUNTIF(joueurs,$B125),INDEX(fautes,SMALL(IF(joueurs=$B125,ROW(INDIRECT(\"1:\"&ROWS(fautes)))),ROWS($1:$7))),\"\")","v":0},{"$f":"IF(ROWS($1:$8)<=COUNTIF(joueurs,$B125),INDEX(fautes,SMALL(IF(joueurs=$B125,ROW(INDIRECT(\"1:\"&ROWS(fautes)))),ROWS($1:$8))),\"\")","v":0},{"$f":"IF(ROWS($1:$9)<=COUNTIF(joueurs,$B125),INDEX(fautes,SMALL(IF(joueurs=$B125,ROW(INDIRECT(\"1:\"&ROWS(fautes)))),ROWS($1:$9))),\"\")","v":0},{"$f":"IF(ROWS($1:$10)<=COUNTIF(joueurs,$B125),INDEX(fautes,SMALL(IF(joueurs=$B125,ROW(INDIRECT(\"1:\"&ROWS(fautes)))),ROWS($1:$10))),\"\")","v":0},{"$f":"IF(ROWS($1:$1)<=COUNTIF(joueurs,$B125),INDEX(ballonperdus,SMALL(IF(joueurs=$B125,ROW(INDIRECT(\"1:\"&ROWS(ballonperdus)))),ROWS($1:$1))),\"\")","v":0},{"$f":"IF(ROWS($1:$2)<=COUNTIF(joueurs,$B125),INDEX(ballonperdus,SMALL(IF(joueurs=$B125,ROW(INDIRECT(\"1:\"&ROWS(ballonperdus)))),ROWS($1:$2))),\"\")","v":0},{"$f":"IF(ROWS($1:$3)<=COUNTIF(joueurs,$B125),INDEX(ballonperdus,SMALL(IF(joueurs=$B125,ROW(INDIRECT(\"1:\"&ROWS(ballonperdus)))),ROWS($1:$3))),\"\")","v":0},{"$f":"IF(ROWS($1:$4)<=COUNTIF(joueurs,$B125),INDEX(ballonperdus,SMALL(IF(joueurs=$B125,ROW(INDIRECT(\"1:\"&ROWS(ballonperdus)))),ROWS($1:$4))),\"\")","v":0},{"$f":"IF(ROWS($1:$5)<=COUNTIF(joueurs,$B125),INDEX(ballonperdus,SMALL(IF(joueurs=$B125,ROW(INDIRECT(\"1:\"&ROWS(ballonperdus)))),ROWS($1:$5))),\"\")","v":0},{"$f":"IF(ROWS($1:$6)<=COUNTIF(joueurs,$B125),INDEX(ballonperdus,SMALL(IF(joueurs=$B125,ROW(INDIRECT(\"1:\"&ROWS(ballonperdus)))),ROWS($1:$6))),\"\")","v":0},{"$f":"IF(ROWS($1:$7)<=COUNTIF(joueurs,$B125),INDEX(ballonperdus,SMALL(IF(joueurs=$B125,ROW(INDIRECT(\"1:\"&ROWS(ballonperdus)))),ROWS($1:$7))),\"\")","v":0},{"$f":"IF(ROWS($1:$8)<=COUNTIF(joueurs,$B125),INDEX(ballonperdus,SMALL(IF(joueurs=$B125,ROW(INDIRECT(\"1:\"&ROWS(ballonperdus)))),ROWS($1:$8))),\"\")","v":0},{"$f":"IF(ROWS($1:$9)<=COUNTIF(joueurs,$B125),INDEX(ballonperdus,SMALL(IF(joueurs=$B125,ROW(INDIRECT(\"1:\"&ROWS(ballonperdus)))),ROWS($1:$9))),\"\")","v":0},{"$f":"IF(ROWS($1:$10)<=COUNTIF(joueurs,$B125),INDEX(ballonperdus,SMALL(IF(joueurs=$B125,ROW(INDIRECT(\"1:\"&ROWS(ballonperdus)))),ROWS($1:$10))),\"\")","v":0},{"$f":"IF(ROWS($1:$1)<=COUNTIF(joueurs,$B125),INDEX(interceptions,SMALL(IF(joueurs=$B125,ROW(INDIRECT(\"1:\"&ROWS(interceptions)))),ROWS($1:$1))),\"\")","v":0},{"$f":"IF(ROWS($1:$2)<=COUNTIF(joueurs,$B125),INDEX(interceptions,SMALL(IF(joueurs=$B125,ROW(INDIRECT(\"1:\"&ROWS(interceptions)))),ROWS($1:$2))),\"\")","v":0},{"$f":"IF(ROWS($1:$3)<=COUNTIF(joueurs,$B125),INDEX(interceptions,SMALL(IF(joueurs=$B125,ROW(INDIRECT(\"1:\"&ROWS(interceptions)))),ROWS($1:$3))),\"\")","v":0},{"$f":"IF(ROWS($1:$4)<=COUNTIF(joueurs,$B125),INDEX(interceptions,SMALL(IF(joueurs=$B125,ROW(INDIRECT(\"1:\"&ROWS(interceptions)))),ROWS($1:$4))),\"\")","v":0},{"$f":"IF(ROWS($1:$5)<=COUNTIF(joueurs,$B125),INDEX(interceptions,SMALL(IF(joueurs=$B125,ROW(INDIRECT(\"1:\"&ROWS(interceptions)))),ROWS($1:$5))),\"\")","v":0},{"$f":"IF(ROWS($1:$6)<=COUNTIF(joueurs,$B125),INDEX(interceptions,SMALL(IF(joueurs=$B125,ROW(INDIRECT(\"1:\"&ROWS(interceptions)))),ROWS($1:$6))),\"\")","v":0},{"$f":"IF(ROWS($1:$7)<=COUNTIF(joueurs,$B125),INDEX(interceptions,SMALL(IF(joueurs=$B125,ROW(INDIRECT(\"1:\"&ROWS(interceptions)))),ROWS($1:$7))),\"\")","v":0},{"$f":"IF(ROWS($1:$8)<=COUNTIF(joueurs,$B125),INDEX(interceptions,SMALL(IF(joueurs=$B125,ROW(INDIRECT(\"1:\"&ROWS(interceptions)))),ROWS($1:$8))),\"\")","v":0},{"$f":"IF(ROWS($1:$9)<=COUNTIF(joueurs,$B125),INDEX(interceptions,SMALL(IF(joueurs=$B125,ROW(INDIRECT(\"1:\"&ROWS(interceptions)))),ROWS($1:$9))),\"\")","v":0},{"$f":"IF(ROWS($1:$10)<=COUNTIF(joueurs,$B125),INDEX(interceptions,SMALL(IF(joueurs=$B125,ROW(INDIRECT(\"1:\"&ROWS(interceptions)))),ROWS($1:$10))),\"\")","v":0},{"$f":"IF(ROWS($1:$1)<=COUNTIF(joueurs,$B125),INDEX(ballonrecuperes,SMALL(IF(joueurs=$B125,ROW(INDIRECT(\"1:\"&ROWS(ballonrecuperes)))),ROWS($1:$1))),\"\")","v":0},{"$f":"IF(ROWS($1:$2)<=COUNTIF(joueurs,$B125),INDEX(ballonrecuperes,SMALL(IF(joueurs=$B125,ROW(INDIRECT(\"1:\"&ROWS(ballonrecuperes)))),ROWS($1:$2))),\"\")","v":0},{"$f":"IF(ROWS($1:$3)<=COUNTIF(joueurs,$B125),INDEX(ballonrecuperes,SMALL(IF(joueurs=$B125,ROW(INDIRECT(\"1:\"&ROWS(ballonrecuperes)))),ROWS($1:$3))),\"\")","v":0},{"$f":"IF(ROWS($1:$4)<=COUNTIF(joueurs,$B125),INDEX(ballonrecuperes,SMALL(IF(joueurs=$B125,ROW(INDIRECT(\"1:\"&ROWS(ballonrecuperes)))),ROWS($1:$4))),\"\")","v":0},{"$f":"IF(ROWS($1:$5)<=COUNTIF(joueurs,$B125),INDEX(ballonrecuperes,SMALL(IF(joueurs=$B125,ROW(INDIRECT(\"1:\"&ROWS(ballonrecuperes)))),ROWS($1:$5))),\"\")","v":0},{"$f":"IF(ROWS($1:$6)<=COUNTIF(joueurs,$B125),INDEX(ballonrecuperes,SMALL(IF(joueurs=$B125,ROW(INDIRECT(\"1:\"&ROWS(ballonrecuperes)))),ROWS($1:$6))),\"\")","v":0},{"$f":"IF(ROWS($1:$7)<=COUNTIF(joueurs,$B125),INDEX(ballonrecuperes,SMALL(IF(joueurs=$B125,ROW(INDIRECT(\"1:\"&ROWS(ballonrecuperes)))),ROWS($1:$7))),\"\")","v":0},{"$f":"IF(ROWS($1:$8)<=COUNTIF(joueurs,$B125),INDEX(ballonrecuperes,SMALL(IF(joueurs=$B125,ROW(INDIRECT(\"1:\"&ROWS(ballonrecuperes)))),ROWS($1:$8))),\"\")","v":0},{"$f":"IF(ROWS($1:$9)<=COUNTIF(joueurs,$B125),INDEX(ballonrecuperes,SMALL(IF(joueurs=$B125,ROW(INDIRECT(\"1:\"&ROWS(ballonrecuperes)))),ROWS($1:$9))),\"\")","v":0},{"$f":"IF(ROWS($1:$10)<=COUNTIF(joueurs,$B125),INDEX(ballonrecuperes,SMALL(IF(joueurs=$B125,ROW(INDIRECT(\"1:\"&ROWS(ballonrecuperes)))),ROWS($1:$10))),\"\")","v":0},{"$f":"IF(ROWS($1:$1)<=COUNTIF(joueurs,$B125),INDEX(tirs,SMALL(IF(joueurs=$B125,ROW(INDIRECT(\"1:\"&ROWS(tirs)))),ROWS($1:$1))),\"\")","v":0},{"$f":"IF(ROWS($1:$2)<=COUNTIF(joueurs,$B125),INDEX(tirs,SMALL(IF(joueurs=$B125,ROW(INDIRECT(\"1:\"&ROWS(tirs)))),ROWS($1:$2))),\"\")","v":0},{"$f":"IF(ROWS($1:$3)<=COUNTIF(joueurs,$B125),INDEX(tirs,SMALL(IF(joueurs=$B125,ROW(INDIRECT(\"1:\"&ROWS(tirs)))),ROWS($1:$3))),\"\")","v":0},{"$f":"IF(ROWS($1:$4)<=COUNTIF(joueurs,$B125),INDEX(tirs,SMALL(IF(joueurs=$B125,ROW(INDIRECT(\"1:\"&ROWS(tirs)))),ROWS($1:$4))),\"\")","v":0},{"$f":"IF(ROWS($1:$5)<=COUNTIF(joueurs,$B125),INDEX(tirs,SMALL(IF(joueurs=$B125,ROW(INDIRECT(\"1:\"&ROWS(tirs)))),ROWS($1:$5))),\"\")","v":0},{"$f":"IF(ROWS($1:$6)<=COUNTIF(joueurs,$B125),INDEX(tirs,SMALL(IF(joueurs=$B125,ROW(INDIRECT(\"1:\"&ROWS(tirs)))),ROWS($1:$6))),\"\")","v":0},{"$f":"IF(ROWS($1:$7)<=COUNTIF(joueurs,$B125),INDEX(tirs,SMALL(IF(joueurs=$B125,ROW(INDIRECT(\"1:\"&ROWS(tirs)))),ROWS($1:$7))),\"\")","v":0},{"$f":"IF(ROWS($1:$8)<=COUNTIF(joueurs,$B125),INDEX(tirs,SMALL(IF(joueurs=$B125,ROW(INDIRECT(\"1:\"&ROWS(tirs)))),ROWS($1:$8))),\"\")","v":0},{"$f":"IF(ROWS($1:$9)<=COUNTIF(joueurs,$B125),INDEX(tirs,SMALL(IF(joueurs=$B125,ROW(INDIRECT(\"1:\"&ROWS(tirs)))),ROWS($1:$9))),\"\")","v":0},{"$f":"IF(ROWS($1:$10)<=COUNTIF(joueurs,$B125),INDEX(tirs,SMALL(IF(joueurs=$B125,ROW(INDIRECT(\"1:\"&ROWS(tirs)))),ROWS($1:$10))),\"\")","v":0},{"$f":"IF(ROWS($1:$1)<=COUNTIF(joueurs,$B125),INDEX(bontirs,SMALL(IF(joueurs=$B125,ROW(INDIRECT(\"1:\"&ROWS(bontirs)))),ROWS($1:$1))),\"\")","v":0},{"$f":"IF(ROWS($1:$2)<=COUNTIF(joueurs,$B125),INDEX(bontirs,SMALL(IF(joueurs=$B125,ROW(INDIRECT(\"1:\"&ROWS(bontirs)))),ROWS($1:$2))),\"\")","v":0},{"$f":"IF(ROWS($1:$3)<=COUNTIF(joueurs,$B125),INDEX(bontirs,SMALL(IF(joueurs=$B125,ROW(INDIRECT(\"1:\"&ROWS(bontirs)))),ROWS($1:$3))),\"\")","v":0},{"$f":"IF(ROWS($1:$4)<=COUNTIF(joueurs,$B125),INDEX(bontirs,SMALL(IF(joueurs=$B125,ROW(INDIRECT(\"1:\"&ROWS(bontirs)))),ROWS($1:$4))),\"\")","v":0},{"$f":"IF(ROWS($1:$5)<=COUNTIF(joueurs,$B125),INDEX(bontirs,SMALL(IF(joueurs=$B125,ROW(INDIRECT(\"1:\"&ROWS(bontirs)))),ROWS($1:$5))),\"\")","v":0},{"$f":"IF(ROWS($1:$6)<=COUNTIF(joueurs,$B125),INDEX(bontirs,SMALL(IF(joueurs=$B125,ROW(INDIRECT(\"1:\"&ROWS(bontirs)))),ROWS($1:$6))),\"\")","v":0},{"$f":"IF(ROWS($1:$7)<=COUNTIF(joueurs,$B125),INDEX(bontirs,SMALL(IF(joueurs=$B125,ROW(INDIRECT(\"1:\"&ROWS(bontirs)))),ROWS($1:$7))),\"\")","v":0},{"$f":"IF(ROWS($1:$8)<=COUNTIF(joueurs,$B125),INDEX(bontirs,SMALL(IF(joueurs=$B125,ROW(INDIRECT(\"1:\"&ROWS(bontirs)))),ROWS($1:$8))),\"\")","v":0},{"$f":"IF(ROWS($1:$9)<=COUNTIF(joueurs,$B125),INDEX(bontirs,SMALL(IF(joueurs=$B125,ROW(INDIRECT(\"1:\"&ROWS(bontirs)))),ROWS($1:$9))),\"\")","v":0},{"$f":"IF(ROWS($1:$10)<=COUNTIF(joueurs,$B125),INDEX(bontirs,SMALL(IF(joueurs=$B125,ROW(INDIRECT(\"1:\"&ROWS(bontirs)))),ROWS($1:$10))),\"\")","v":0},{"$f":"IF(ROWS($1:$1)<=COUNTIF(joueurs,$B125),INDEX(points,SMALL(IF(joueurs=$B125,ROW(INDIRECT(\"1:\"&ROWS(points)))),ROWS($1:$1))),\"\")","v":0},{"$f":"IF(ROWS($1:$2)<=COUNTIF(joueurs,$B125),INDEX(points,SMALL(IF(joueurs=$B125,ROW(INDIRECT(\"1:\"&ROWS(points)))),ROWS($1:$2))),\"\")","v":0},{"$f":"IF(ROWS($1:$3)<=COUNTIF(joueurs,$B125),INDEX(points,SMALL(IF(joueurs=$B125,ROW(INDIRECT(\"1:\"&ROWS(points)))),ROWS($1:$3))),\"\")","v":0},{"$f":"IF(ROWS($1:$4)<=COUNTIF(joueurs,$B125),INDEX(points,SMALL(IF(joueurs=$B125,ROW(INDIRECT(\"1:\"&ROWS(points)))),ROWS($1:$4))),\"\")","v":0},{"$f":"IF(ROWS($1:$5)<=COUNTIF(joueurs,$B125),INDEX(points,SMALL(IF(joueurs=$B125,ROW(INDIRECT(\"1:\"&ROWS(points)))),ROWS($1:$5))),\"\")","v":0},{"$f":"IF(ROWS($1:$6)<=COUNTIF(joueurs,$B125),INDEX(points,SMALL(IF(joueurs=$B125,ROW(INDIRECT(\"1:\"&ROWS(points)))),ROWS($1:$6))),\"\")","v":0},{"$f":"IF(ROWS($1:$7)<=COUNTIF(joueurs,$B125),INDEX(points,SMALL(IF(joueurs=$B125,ROW(INDIRECT(\"1:\"&ROWS(points)))),ROWS($1:$7))),\"\")","v":0},{"$f":"IF(ROWS($1:$8)<=COUNTIF(joueurs,$B125),INDEX(points,SMALL(IF(joueurs=$B125,ROW(INDIRECT(\"1:\"&ROWS(points)))),ROWS($1:$8))),\"\")","v":0},{"$f":"IF(ROWS($1:$9)<=COUNTIF(joueurs,$B125),INDEX(points,SMALL(IF(joueurs=$B125,ROW(INDIRECT(\"1:\"&ROWS(points)))),ROWS($1:$9))),\"\")","v":0},{"$f":"IF(ROWS($1:$10)<=COUNTIF(joueurs,$B125),INDEX(points,SMALL(IF(joueurs=$B125,ROW(INDIRECT(\"1:\"&ROWS(points)))),ROWS($1:$10))),\"\")","v":0},{"$f":"IF(ROWS($1:$1)<=COUNTIF(joueurs,$B125),INDEX(victoires,SMALL(IF(joueurs=$B125,ROW(INDIRECT(\"1:\"&ROWS(victoires)))),ROWS($1:$1))),\"\")","v":0},{"$f":"IF(ROWS($1:$2)<=COUNTIF(joueurs,$B125),INDEX(victoires,SMALL(IF(joueurs=$B125,ROW(INDIRECT(\"1:\"&ROWS(victoires)))),ROWS($1:$2))),\"\")","v":0},{"$f":"IF(ROWS($1:$3)<=COUNTIF(joueurs,$B125),INDEX(victoires,SMALL(IF(joueurs=$B125,ROW(INDIRECT(\"1:\"&ROWS(victoires)))),ROWS($1:$3))),\"\")","v":0},{"$f":"IF(ROWS($1:$4)<=COUNTIF(joueurs,$B125),INDEX(victoires,SMALL(IF(joueurs=$B125,ROW(INDIRECT(\"1:\"&ROWS(victoires)))),ROWS($1:$4))),\"\")","v":0},{"$f":"IF(ROWS($1:$5)<=COUNTIF(joueurs,$B125),INDEX(victoires,SMALL(IF(joueurs=$B125,ROW(INDIRECT(\"1:\"&ROWS(victoires)))),ROWS($1:$5))),\"\")","v":0},{"$f":"IF(ROWS($1:$6)<=COUNTIF(joueurs,$B125),INDEX(victoires,SMALL(IF(joueurs=$B125,ROW(INDIRECT(\"1:\"&ROWS(victoires)))),ROWS($1:$6))),\"\")","v":0},{"$f":"IF(ROWS($1:$7)<=COUNTIF(joueurs,$B125),INDEX(victoires,SMALL(IF(joueurs=$B125,ROW(INDIRECT(\"1:\"&ROWS(victoires)))),ROWS($1:$7))),\"\")","v":0},{"$f":"IF(ROWS($1:$8)<=COUNTIF(joueurs,$B125),INDEX(victoires,SMALL(IF(joueurs=$B125,ROW(INDIRECT(\"1:\"&ROWS(victoires)))),ROWS($1:$8))),\"\")","v":0},{"$f":"IF(ROWS($1:$9)<=COUNTIF(joueurs,$B125),INDEX(victoires,SMALL(IF(joueurs=$B125,ROW(INDIRECT(\"1:\"&ROWS(victoires)))),ROWS($1:$9))),\"\")","v":0},{"$f":"IF(ROWS($1:$10)<=COUNTIF(joueurs,$B125),INDEX(victoires,SMALL(IF(joueurs=$B125,ROW(INDIRECT(\"1:\"&ROWS(victoires)))),ROWS($1:$10))),\"\")","v":0}]
[null,null,null,{"$f":"IF(ROWS($1:$11)<=COUNTIF(joueurs,$B125),INDEX(fautes,SMALL(IF(joueurs=$B125,ROW(INDIRECT(\"1:\"&ROWS(fautes)))),ROWS($1:$11))),\"\")","v":0},{"$f":"IF(ROWS($1:$12)<=COUNTIF(joueurs,$B125),INDEX(fautes,SMALL(IF(joueurs=$B125,ROW(INDIRECT(\"1:\"&ROWS(fautes)))),ROWS($1:$12))),\"\")","v":0},{"$f":"IF(ROWS($1:$13)<=COUNTIF(joueurs,$B125),INDEX(fautes,SMALL(IF(joueurs=$B125,ROW(INDIRECT(\"1:\"&ROWS(fautes)))),ROWS($1:$13))),\"\")","v":0},{"$f":"IF(ROWS($1:$14)<=COUNTIF(joueurs,$B125),INDEX(fautes,SMALL(IF(joueurs=$B125,ROW(INDIRECT(\"1:\"&ROWS(fautes)))),ROWS($1:$14))),\"\")","v":0},{"$f":"IF(ROWS($1:$15)<=COUNTIF(joueurs,$B125),INDEX(fautes,SMALL(IF(joueurs=$B125,ROW(INDIRECT(\"1:\"&ROWS(fautes)))),ROWS($1:$15))),\"\")","v":0},{"$f":"IF(ROWS($1:$16)<=COUNTIF(joueurs,$B125),INDEX(fautes,SMALL(IF(joueurs=$B125,ROW(INDIRECT(\"1:\"&ROWS(fautes)))),ROWS($1:$16))),\"\")","v":0},{"$f":"IF(ROWS($1:$17)<=COUNTIF(joueurs,$B125),INDEX(fautes,SMALL(IF(joueurs=$B125,ROW(INDIRECT(\"1:\"&ROWS(fautes)))),ROWS($1:$17))),\"\")","v":0},{"$f":"IF(ROWS($1:$18)<=COUNTIF(joueurs,$B125),INDEX(fautes,SMALL(IF(joueurs=$B125,ROW(INDIRECT(\"1:\"&ROWS(fautes)))),ROWS($1:$18))),\"\")","v":0},{"$f":"IF(ROWS($1:$19)<=COUNTIF(joueurs,$B125),INDEX(fautes,SMALL(IF(joueurs=$B125,ROW(INDIRECT(\"1:\"&ROWS(fautes)))),ROWS($1:$19))),\"\")","v":0},{"$f":"IF(ROWS($1:$20)<=COUNTIF(joueurs,$B125),INDEX(fautes,SMALL(IF(joueurs=$B125,ROW(INDIRECT(\"1:\"&ROWS(fautes)))),ROWS($1:$20))),\"\")","v":0},{"$f":"IF(ROWS($1:$11)<=COUNTIF(joueurs,$B125),INDEX(ballonperdus,SMALL(IF(joueurs=$B125,ROW(INDIRECT(\"1:\"&ROWS(ballonperdus)))),ROWS($1:$11))),\"\")","v":0},{"$f":"IF(ROWS($1:$12)<=COUNTIF(joueurs,$B125),INDEX(ballonperdus,SMALL(IF(joueurs=$B125,ROW(INDIRECT(\"1:\"&ROWS(ballonperdus)))),ROWS($1:$12))),\"\")","v":0},{"$f":"IF(ROWS($1:$13)<=COUNTIF(joueurs,$B125),INDEX(ballonperdus,SMALL(IF(joueurs=$B125,ROW(INDIRECT(\"1:\"&ROWS(ballonperdus)))),ROWS($1:$13))),\"\")","v":0},{"$f":"IF(ROWS($1:$14)<=COUNTIF(joueurs,$B125),INDEX(ballonperdus,SMALL(IF(joueurs=$B125,ROW(INDIRECT(\"1:\"&ROWS(ballonperdus)))),ROWS($1:$14))),\"\")","v":0},{"$f":"IF(ROWS($1:$15)<=COUNTIF(joueurs,$B125),INDEX(ballonperdus,SMALL(IF(joueurs=$B125,ROW(INDIRECT(\"1:\"&ROWS(ballonperdus)))),ROWS($1:$15))),\"\")","v":0},{"$f":"IF(ROWS($1:$16)<=COUNTIF(joueurs,$B125),INDEX(ballonperdus,SMALL(IF(joueurs=$B125,ROW(INDIRECT(\"1:\"&ROWS(ballonperdus)))),ROWS($1:$16))),\"\")","v":0},{"$f":"IF(ROWS($1:$17)<=COUNTIF(joueurs,$B125),INDEX(ballonperdus,SMALL(IF(joueurs=$B125,ROW(INDIRECT(\"1:\"&ROWS(ballonperdus)))),ROWS($1:$17))),\"\")","v":0},{"$f":"IF(ROWS($1:$18)<=COUNTIF(joueurs,$B125),INDEX(ballonperdus,SMALL(IF(joueurs=$B125,ROW(INDIRECT(\"1:\"&ROWS(ballonperdus)))),ROWS($1:$18))),\"\")","v":0},{"$f":"IF(ROWS($1:$19)<=COUNTIF(joueurs,$B125),INDEX(ballonperdus,SMALL(IF(joueurs=$B125,ROW(INDIRECT(\"1:\"&ROWS(ballonperdus)))),ROWS($1:$19))),\"\")","v":0},{"$f":"IF(ROWS($1:$20)<=COUNTIF(joueurs,$B125),INDEX(fautes,SMALL(IF(joueurs=$B125,ROW(INDIRECT(\"1:\"&ROWS(ballonperdus)))),ROWS($1:$20))),\"\")","v":0},{"$f":"IF(ROWS($1:$11)<=COUNTIF(joueurs,$B125),INDEX(interceptions,SMALL(IF(joueurs=$B125,ROW(INDIRECT(\"1:\"&ROWS(interceptions)))),ROWS($1:$11))),\"\")","v":0},{"$f":"IF(ROWS($1:$12)<=COUNTIF(joueurs,$B125),INDEX(interceptions,SMALL(IF(joueurs=$B125,ROW(INDIRECT(\"1:\"&ROWS(interceptions)))),ROWS($1:$12))),\"\")","v":0},{"$f":"IF(ROWS($1:$13)<=COUNTIF(joueurs,$B125),INDEX(interceptions,SMALL(IF(joueurs=$B125,ROW(INDIRECT(\"1:\"&ROWS(interceptions)))),ROWS($1:$13))),\"\")","v":0},{"$f":"IF(ROWS($1:$14)<=COUNTIF(joueurs,$B125),INDEX(interceptions,SMALL(IF(joueurs=$B125,ROW(INDIRECT(\"1:\"&ROWS(interceptions)))),ROWS($1:$14))),\"\")","v":0},{"$f":"IF(ROWS($1:$15)<=COUNTIF(joueurs,$B125),INDEX(interceptions,SMALL(IF(joueurs=$B125,ROW(INDIRECT(\"1:\"&ROWS(interceptions)))),ROWS($1:$15))),\"\")","v":0},{"$f":"IF(ROWS($1:$16)<=COUNTIF(joueurs,$B125),INDEX(interceptions,SMALL(IF(joueurs=$B125,ROW(INDIRECT(\"1:\"&ROWS(interceptions)))),ROWS($1:$16))),\"\")","v":0},{"$f":"IF(ROWS($1:$17)<=COUNTIF(joueurs,$B125),INDEX(interceptions,SMALL(IF(joueurs=$B125,ROW(INDIRECT(\"1:\"&ROWS(interceptions)))),ROWS($1:$17))),\"\")","v":0},{"$f":"IF(ROWS($1:$18)<=COUNTIF(joueurs,$B125),INDEX(interceptions,SMALL(IF(joueurs=$B125,ROW(INDIRECT(\"1:\"&ROWS(interceptions)))),ROWS($1:$18))),\"\")","v":0},{"$f":"IF(ROWS($1:$19)<=COUNTIF(joueurs,$B125),INDEX(interceptions,SMALL(IF(joueurs=$B125,ROW(INDIRECT(\"1:\"&ROWS(interceptions)))),ROWS($1:$19))),\"\")","v":0},{"$f":"IF(ROWS($1:$20)<=COUNTIF(joueurs,$B125),INDEX(interceptions,SMALL(IF(joueurs=$B125,ROW(INDIRECT(\"1:\"&ROWS(interceptions)))),ROWS($1:$20))),\"\")","v":0},{"$f":"IF(ROWS($1:$11)<=COUNTIF(joueurs,$B125),INDEX(ballonrecuperes,SMALL(IF(joueurs=$B125,ROW(INDIRECT(\"1:\"&ROWS(ballonrecuperes)))),ROWS($1:$11))),\"\")","v":0},{"$f":"IF(ROWS($1:$12)<=COUNTIF(joueurs,$B125),INDEX(ballonrecuperes,SMALL(IF(joueurs=$B125,ROW(INDIRECT(\"1:\"&ROWS(ballonrecuperes)))),ROWS($1:$12))),\"\")","v":0},{"$f":"IF(ROWS($1:$13)<=COUNTIF(joueurs,$B125),INDEX(ballonrecuperes,SMALL(IF(joueurs=$B125,ROW(INDIRECT(\"1:\"&ROWS(ballonrecuperes)))),ROWS($1:$13))),\"\")","v":0},{"$f":"IF(ROWS($1:$14)<=COUNTIF(joueurs,$B125),INDEX(ballonrecuperes,SMALL(IF(joueurs=$B125,ROW(INDIRECT(\"1:\"&ROWS(ballonrecuperes)))),ROWS($1:$14))),\"\")","v":0},{"$f":"IF(ROWS($1:$15)<=COUNTIF(joueurs,$B125),INDEX(ballonrecuperes,SMALL(IF(joueurs=$B125,ROW(INDIRECT(\"1:\"&ROWS(ballonrecuperes)))),ROWS($1:$15))),\"\")","v":0},{"$f":"IF(ROWS($1:$16)<=COUNTIF(joueurs,$B125),INDEX(ballonrecuperes,SMALL(IF(joueurs=$B125,ROW(INDIRECT(\"1:\"&ROWS(ballonrecuperes)))),ROWS($1:$16))),\"\")","v":0},{"$f":"IF(ROWS($1:$17)<=COUNTIF(joueurs,$B125),INDEX(ballonrecuperes,SMALL(IF(joueurs=$B125,ROW(INDIRECT(\"1:\"&ROWS(ballonrecuperes)))),ROWS($1:$17))),\"\")","v":0},{"$f":"IF(ROWS($1:$18)<=COUNTIF(joueurs,$B125),INDEX(ballonrecuperes,SMALL(IF(joueurs=$B125,ROW(INDIRECT(\"1:\"&ROWS(ballonrecuperes)))),ROWS($1:$18))),\"\")","v":0},{"$f":"IF(ROWS($1:$19)<=COUNTIF(joueurs,$B125),INDEX(ballonrecuperes,SMALL(IF(joueurs=$B125,ROW(INDIRECT(\"1:\"&ROWS(ballonrecuperes)))),ROWS($1:$19))),\"\")","v":0},{"$f":"IF(ROWS($1:$20)<=COUNTIF(joueurs,$B125),INDEX(ballonrecuperes,SMALL(IF(joueurs=$B125,ROW(INDIRECT(\"1:\"&ROWS(ballonrecuperes)))),ROWS($1:$20))),\"\")","v":0},{"$f":"IF(ROWS($1:$11)<=COUNTIF(joueurs,$B125),INDEX(tirs,SMALL(IF(joueurs=$B125,ROW(INDIRECT(\"1:\"&ROWS(tirs)))),ROWS($1:$11))),\"\")","v":0},{"$f":"IF(ROWS($1:$12)<=COUNTIF(joueurs,$B125),INDEX(tirs,SMALL(IF(joueurs=$B125,ROW(INDIRECT(\"1:\"&ROWS(tirs)))),ROWS($1:$12))),\"\")","v":0},{"$f":"IF(ROWS($1:$13)<=COUNTIF(joueurs,$B125),INDEX(tirs,SMALL(IF(joueurs=$B125,ROW(INDIRECT(\"1:\"&ROWS(tirs)))),ROWS($1:$13))),\"\")","v":0},{"$f":"IF(ROWS($1:$14)<=COUNTIF(joueurs,$B125),INDEX(tirs,SMALL(IF(joueurs=$B125,ROW(INDIRECT(\"1:\"&ROWS(tirs)))),ROWS($1:$14))),\"\")","v":0},{"$f":"IF(ROWS($1:$15)<=COUNTIF(joueurs,$B125),INDEX(tirs,SMALL(IF(joueurs=$B125,ROW(INDIRECT(\"1:\"&ROWS(tirs)))),ROWS($1:$15))),\"\")","v":0},{"$f":"IF(ROWS($1:$16)<=COUNTIF(joueurs,$B125),INDEX(tirs,SMALL(IF(joueurs=$B125,ROW(INDIRECT(\"1:\"&ROWS(tirs)))),ROWS($1:$16))),\"\")","v":0},{"$f":"IF(ROWS($1:$17)<=COUNTIF(joueurs,$B125),INDEX(tirs,SMALL(IF(joueurs=$B125,ROW(INDIRECT(\"1:\"&ROWS(tirs)))),ROWS($1:$17))),\"\")","v":0},{"$f":"IF(ROWS($1:$18)<=COUNTIF(joueurs,$B125),INDEX(tirs,SMALL(IF(joueurs=$B125,ROW(INDIRECT(\"1:\"&ROWS(tirs)))),ROWS($1:$18))),\"\")","v":0},{"$f":"IF(ROWS($1:$19)<=COUNTIF(joueurs,$B125),INDEX(tirs,SMALL(IF(joueurs=$B125,ROW(INDIRECT(\"1:\"&ROWS(tirs)))),ROWS($1:$19))),\"\")","v":0},{"$f":"IF(ROWS($1:$20)<=COUNTIF(joueurs,$B125),INDEX(tirs,SMALL(IF(joueurs=$B125,ROW(INDIRECT(\"1:\"&ROWS(tirs)))),ROWS($1:$20))),\"\")","v":0},{"$f":"IF(ROWS($1:$11)<=COUNTIF(joueurs,$B125),INDEX(bontirs,SMALL(IF(joueurs=$B125,ROW(INDIRECT(\"1:\"&ROWS(bontirs)))),ROWS($1:$11))),\"\")","v":0},{"$f":"IF(ROWS($1:$12)<=COUNTIF(joueurs,$B125),INDEX(bontirs,SMALL(IF(joueurs=$B125,ROW(INDIRECT(\"1:\"&ROWS(bontirs)))),ROWS($1:$12))),\"\")","v":0},{"$f":"IF(ROWS($1:$13)<=COUNTIF(joueurs,$B125),INDEX(bontirs,SMALL(IF(joueurs=$B125,ROW(INDIRECT(\"1:\"&ROWS(bontirs)))),ROWS($1:$13))),\"\")","v":0},{"$f":"IF(ROWS($1:$14)<=COUNTIF(joueurs,$B125),INDEX(bontirs,SMALL(IF(joueurs=$B125,ROW(INDIRECT(\"1:\"&ROWS(bontirs)))),ROWS($1:$14))),\"\")","v":0},{"$f":"IF(ROWS($1:$15)<=COUNTIF(joueurs,$B125),INDEX(bontirs,SMALL(IF(joueurs=$B125,ROW(INDIRECT(\"1:\"&ROWS(bontirs)))),ROWS($1:$15))),\"\")","v":0},{"$f":"IF(ROWS($1:$16)<=COUNTIF(joueurs,$B125),INDEX(bontirs,SMALL(IF(joueurs=$B125,ROW(INDIRECT(\"1:\"&ROWS(bontirs)))),ROWS($1:$16))),\"\")","v":0},{"$f":"IF(ROWS($1:$17)<=COUNTIF(joueurs,$B125),INDEX(bontirs,SMALL(IF(joueurs=$B125,ROW(INDIRECT(\"1:\"&ROWS(bontirs)))),ROWS($1:$17))),\"\")","v":0},{"$f":"IF(ROWS($1:$18)<=COUNTIF(joueurs,$B125),INDEX(bontirs,SMALL(IF(joueurs=$B125,ROW(INDIRECT(\"1:\"&ROWS(bontirs)))),ROWS($1:$18))),\"\")","v":0},{"$f":"IF(ROWS($1:$19)<=COUNTIF(joueurs,$B125),INDEX(bontirs,SMALL(IF(joueurs=$B125,ROW(INDIRECT(\"1:\"&ROWS(bontirs)))),ROWS($1:$19))),\"\")","v":0},{"$f":"IF(ROWS($1:$20)<=COUNTIF(joueurs,$B125),INDEX(bontirs,SMALL(IF(joueurs=$B125,ROW(INDIRECT(\"1:\"&ROWS(bontirs)))),ROWS($1:$20))),\"\")","v":0},{"$f":"IF(ROWS($1:$11)<=COUNTIF(joueurs,$B125),INDEX(points,SMALL(IF(joueurs=$B125,ROW(INDIRECT(\"1:\"&ROWS(points)))),ROWS($1:$11))),\"\")","v":0},{"$f":"IF(ROWS($1:$12)<=COUNTIF(joueurs,$B125),INDEX(points,SMALL(IF(joueurs=$B125,ROW(INDIRECT(\"1:\"&ROWS(points)))),ROWS($1:$12))),\"\")","v":0},{"$f":"IF(ROWS($1:$13)<=COUNTIF(joueurs,$B125),INDEX(points,SMALL(IF(joueurs=$B125,ROW(INDIRECT(\"1:\"&ROWS(points)))),ROWS($1:$13))),\"\")","v":0},{"$f":"IF(ROWS($1:$14)<=COUNTIF(joueurs,$B125),INDEX(points,SMALL(IF(joueurs=$B125,ROW(INDIRECT(\"1:\"&ROWS(points)))),ROWS($1:$14))),\"\")","v":0},{"$f":"IF(ROWS($1:$15)<=COUNTIF(joueurs,$B125),INDEX(points,SMALL(IF(joueurs=$B125,ROW(INDIRECT(\"1:\"&ROWS(points)))),ROWS($1:$15))),\"\")","v":0},{"$f":"IF(ROWS($1:$16)<=COUNTIF(joueurs,$B125),INDEX(points,SMALL(IF(joueurs=$B125,ROW(INDIRECT(\"1:\"&ROWS(points)))),ROWS($1:$16))),\"\")","v":0},{"$f":"IF(ROWS($1:$17)<=COUNTIF(joueurs,$B125),INDEX(points,SMALL(IF(joueurs=$B125,ROW(INDIRECT(\"1:\"&ROWS(points)))),ROWS($1:$17))),\"\")","v":0},{"$f":"IF(ROWS($1:$18)<=COUNTIF(joueurs,$B125),INDEX(points,SMALL(IF(joueurs=$B125,ROW(INDIRECT(\"1:\"&ROWS(points)))),ROWS($1:$18))),\"\")","v":0},{"$f":"IF(ROWS($1:$19)<=COUNTIF(joueurs,$B125),INDEX(points,SMALL(IF(joueurs=$B125,ROW(INDIRECT(\"1:\"&ROWS(points)))),ROWS($1:$19))),\"\")","v":0},{"$f":"IF(ROWS($1:$20)<=COUNTIF(points,$B125),INDEX(fautes,SMALL(IF(joueurs=$B125,ROW(INDIRECT(\"1:\"&ROWS(points)))),ROWS($1:$20))),\"\")","v":0},{"$f":"IF(ROWS($1:$11)<=COUNTIF(joueurs,$B125),INDEX(victoires,SMALL(IF(joueurs=$B125,ROW(INDIRECT(\"1:\"&ROWS(victoires)))),ROWS($1:$11))),\"\")","v":0},{"$f":"IF(ROWS($1:$12)<=COUNTIF(joueurs,$B125),INDEX(victoires,SMALL(IF(joueurs=$B125,ROW(INDIRECT(\"1:\"&ROWS(victoires)))),ROWS($1:$12))),\"\")","v":0},{"$f":"IF(ROWS($1:$13)<=COUNTIF(joueurs,$B125),INDEX(victoires,SMALL(IF(joueurs=$B125,ROW(INDIRECT(\"1:\"&ROWS(victoires)))),ROWS($1:$13))),\"\")","v":0},{"$f":"IF(ROWS($1:$14)<=COUNTIF(joueurs,$B125),INDEX(victoires,SMALL(IF(joueurs=$B125,ROW(INDIRECT(\"1:\"&ROWS(victoires)))),ROWS($1:$14))),\"\")","v":0},{"$f":"IF(ROWS($1:$15)<=COUNTIF(joueurs,$B125),INDEX(victoires,SMALL(IF(joueurs=$B125,ROW(INDIRECT(\"1:\"&ROWS(victoires)))),ROWS($1:$15))),\"\")","v":0},{"$f":"IF(ROWS($1:$16)<=COUNTIF(joueurs,$B125),INDEX(victoires,SMALL(IF(joueurs=$B125,ROW(INDIRECT(\"1:\"&ROWS(victoires)))),ROWS($1:$16))),\"\")","v":0},{"$f":"IF(ROWS($1:$17)<=COUNTIF(joueurs,$B125),INDEX(victoires,SMALL(IF(joueurs=$B125,ROW(INDIRECT(\"1:\"&ROWS(victoires)))),ROWS($1:$17))),\"\")","v":0},{"$f":"IF(ROWS($1:$18)<=COUNTIF(joueurs,$B125),INDEX(victoires,SMALL(IF(joueurs=$B125,ROW(INDIRECT(\"1:\"&ROWS(victoires)))),ROWS($1:$18))),\"\")","v":0},{"$f":"IF(ROWS($1:$19)<=COUNTIF(joueurs,$B125),INDEX(victoires,SMALL(IF(joueurs=$B125,ROW(INDIRECT(\"1:\"&ROWS(victoires)))),ROWS($1:$19))),\"\")","v":0},{"$f":"IF(ROWS($1:$20)<=COUNTIF(joueurs,$B125),INDEX(victoires,SMALL(IF(joueurs=$B125,ROW(INDIRECT(\"1:\"&ROWS(victoires)))),ROWS($1:$20))),\"\")","v":0}]
[null,null,null,{"$f":"IF(ROWS($1:$21)<=COUNTIF(joueurs,$B125),INDEX(fautes,SMALL(IF(joueurs=$B125,ROW(INDIRECT(\"1:\"&ROWS(fautes)))),ROWS($1:$21))),\"\")","v":0},{"$f":"IF(ROWS($1:$22)<=COUNTIF(joueurs,$B125),INDEX(fautes,SMALL(IF(joueurs=$B125,ROW(INDIRECT(\"1:\"&ROWS(fautes)))),ROWS($1:$22))),\"\")","v":0},{"$f":"IF(ROWS($1:$23)<=COUNTIF(joueurs,$B125),INDEX(fautes,SMALL(IF(joueurs=$B125,ROW(INDIRECT(\"1:\"&ROWS(fautes)))),ROWS($1:$23))),\"\")","v":0},{"$f":"IF(ROWS($1:$24)<=COUNTIF(joueurs,$B125),INDEX(fautes,SMALL(IF(joueurs=$B125,ROW(INDIRECT(\"1:\"&ROWS(fautes)))),ROWS($1:$24))),\"\")","v":0},{"$f":"IF(ROWS($1:$25)<=COUNTIF(joueurs,$B125),INDEX(fautes,SMALL(IF(joueurs=$B125,ROW(INDIRECT(\"1:\"&ROWS(fautes)))),ROWS($1:$25))),\"\")","v":0},{"$f":"IF(ROWS($1:$26)<=COUNTIF(joueurs,$B125),INDEX(fautes,SMALL(IF(joueurs=$B125,ROW(INDIRECT(\"1:\"&ROWS(fautes)))),ROWS($1:$26))),\"\")","v":0},{"$f":"IF(ROWS($1:$27)<=COUNTIF(joueurs,$B125),INDEX(fautes,SMALL(IF(joueurs=$B125,ROW(INDIRECT(\"1:\"&ROWS(fautes)))),ROWS($1:$27))),\"\")","v":0},{"$f":"IF(ROWS($1:$28)<=COUNTIF(joueurs,$B125),INDEX(fautes,SMALL(IF(joueurs=$B125,ROW(INDIRECT(\"1:\"&ROWS(fautes)))),ROWS($1:$28))),\"\")","v":0},{"$f":"IF(ROWS($1:$29)<=COUNTIF(joueurs,$B125),INDEX(fautes,SMALL(IF(joueurs=$B125,ROW(INDIRECT(\"1:\"&ROWS(fautes)))),ROWS($1:$29))),\"\")","v":0},{"$f":"IF(ROWS($1:$30)<=COUNTIF(joueurs,$B125),INDEX(fautes,SMALL(IF(joueurs=$B125,ROW(INDIRECT(\"1:\"&ROWS(fautes)))),ROWS($1:$30))),\"\")","v":0},{"$f":"IF(ROWS($1:$21)<=COUNTIF(joueurs,$B125),INDEX(ballonperdus,SMALL(IF(joueurs=$B125,ROW(INDIRECT(\"1:\"&ROWS(ballonperdus)))),ROWS($1:$21))),\"\")","v":0},{"$f":"IF(ROWS($1:$22)<=COUNTIF(joueurs,$B125),INDEX(ballonperdus,SMALL(IF(joueurs=$B125,ROW(INDIRECT(\"1:\"&ROWS(ballonperdus)))),ROWS($1:$22))),\"\")","v":0},{"$f":"IF(ROWS($1:$23)<=COUNTIF(joueurs,$B125),INDEX(ballonperdus,SMALL(IF(joueurs=$B125,ROW(INDIRECT(\"1:\"&ROWS(ballonperdus)))),ROWS($1:$23))),\"\")","v":0},{"$f":"IF(ROWS($1:$24)<=COUNTIF(joueurs,$B125),INDEX(ballonperdus,SMALL(IF(joueurs=$B125,ROW(INDIRECT(\"1:\"&ROWS(ballonperdus)))),ROWS($1:$24))),\"\")","v":0},{"$f":"IF(ROWS($1:$25)<=COUNTIF(joueurs,$B125),INDEX(ballonperdus,SMALL(IF(joueurs=$B125,ROW(INDIRECT(\"1:\"&ROWS(ballonperdus)))),ROWS($1:$25))),\"\")","v":0},{"$f":"IF(ROWS($1:$26)<=COUNTIF(joueurs,$B125),INDEX(ballonperdus,SMALL(IF(joueurs=$B125,ROW(INDIRECT(\"1:\"&ROWS(ballonperdus)))),ROWS($1:$26))),\"\")","v":0},{"$f":"IF(ROWS($1:$27)<=COUNTIF(joueurs,$B125),INDEX(ballonperdus,SMALL(IF(joueurs=$B125,ROW(INDIRECT(\"1:\"&ROWS(ballonperdus)))),ROWS($1:$27))),\"\")","v":0},{"$f":"IF(ROWS($1:$28)<=COUNTIF(joueurs,$B125),INDEX(ballonperdus,SMALL(IF(joueurs=$B125,ROW(INDIRECT(\"1:\"&ROWS(ballonperdus)))),ROWS($1:$28))),\"\")","v":0},{"$f":"IF(ROWS($1:$29)<=COUNTIF(joueurs,$B125),INDEX(ballonperdus,SMALL(IF(joueurs=$B125,ROW(INDIRECT(\"1:\"&ROWS(ballonperdus)))),ROWS($1:$29))),\"\")","v":0},{"$f":"IF(ROWS($1:$30)<=COUNTIF(joueurs,$B125),INDEX(ballonperdus,SMALL(IF(joueurs=$B125,ROW(INDIRECT(\"1:\"&ROWS(ballonperdus)))),ROWS($1:$30))),\"\")","v":0},{"$f":"IF(ROWS($1:$21)<=COUNTIF(joueurs,$B125),INDEX(interceptions,SMALL(IF(joueurs=$B125,ROW(INDIRECT(\"1:\"&ROWS(interceptions)))),ROWS($1:$21))),\"\")","v":0},{"$f":"IF(ROWS($1:$22)<=COUNTIF(joueurs,$B125),INDEX(interceptions,SMALL(IF(joueurs=$B125,ROW(INDIRECT(\"1:\"&ROWS(interceptions)))),ROWS($1:$22))),\"\")","v":0},{"$f":"IF(ROWS($1:$23)<=COUNTIF(joueurs,$B125),INDEX(interceptions,SMALL(IF(joueurs=$B125,ROW(INDIRECT(\"1:\"&ROWS(interceptions)))),ROWS($1:$23))),\"\")","v":0},{"$f":"IF(ROWS($1:$24)<=COUNTIF(joueurs,$B125),INDEX(interceptions,SMALL(IF(joueurs=$B125,ROW(INDIRECT(\"1:\"&ROWS(interceptions)))),ROWS($1:$24))),\"\")","v":0},{"$f":"IF(ROWS($1:$25)<=COUNTIF(joueurs,$B125),INDEX(interceptions,SMALL(IF(joueurs=$B125,ROW(INDIRECT(\"1:\"&ROWS(interceptions)))),ROWS($1:$25))),\"\")","v":0},{"$f":"IF(ROWS($1:$26)<=COUNTIF(joueurs,$B125),INDEX(interceptions,SMALL(IF(joueurs=$B125,ROW(INDIRECT(\"1:\"&ROWS(interceptions)))),ROWS($1:$26))),\"\")","v":0},{"$f":"IF(ROWS($1:$27)<=COUNTIF(joueurs,$B125),INDEX(interceptions,SMALL(IF(joueurs=$B125,ROW(INDIRECT(\"1:\"&ROWS(interceptions)))),ROWS($1:$27))),\"\")","v":0},{"$f":"IF(ROWS($1:$28)<=COUNTIF(joueurs,$B125),INDEX(interceptions,SMALL(IF(joueurs=$B125,ROW(INDIRECT(\"1:\"&ROWS(interceptions)))),ROWS($1:$28))),\"\")","v":0},{"$f":"IF(ROWS($1:$29)<=COUNTIF(joueurs,$B125),INDEX(interceptions,SMALL(IF(joueurs=$B125,ROW(INDIRECT(\"1:\"&ROWS(interceptions)))),ROWS($1:$29))),\"\")","v":0},{"$f":"IF(ROWS($1:$30)<=COUNTIF(joueurs,$B125),INDEX(interceptions,SMALL(IF(joueurs=$B125,ROW(INDIRECT(\"1:\"&ROWS(interceptions)))),ROWS($1:$30))),\"\")","v":0},{"$f":"IF(ROWS($1:$21)<=COUNTIF(joueurs,$B125),INDEX(ballonrecuperes,SMALL(IF(joueurs=$B125,ROW(INDIRECT(\"1:\"&ROWS(ballonrecuperes)))),ROWS($1:$21))),\"\")","v":0},{"$f":"IF(ROWS($1:$22)<=COUNTIF(joueurs,$B125),INDEX(ballonrecuperes,SMALL(IF(joueurs=$B125,ROW(INDIRECT(\"1:\"&ROWS(ballonrecuperes)))),ROWS($1:$22))),\"\")","v":0},{"$f":"IF(ROWS($1:$23)<=COUNTIF(joueurs,$B125),INDEX(ballonrecuperes,SMALL(IF(joueurs=$B125,ROW(INDIRECT(\"1:\"&ROWS(ballonrecuperes)))),ROWS($1:$23))),\"\")","v":0},{"$f":"IF(ROWS($1:$24)<=COUNTIF(joueurs,$B125),INDEX(ballonrecuperes,SMALL(IF(joueurs=$B125,ROW(INDIRECT(\"1:\"&ROWS(ballonrecuperes)))),ROWS($1:$24))),\"\")","v":0},{"$f":"IF(ROWS($1:$25)<=COUNTIF(joueurs,$B125),INDEX(ballonrecuperes,SMALL(IF(joueurs=$B125,ROW(INDIRECT(\"1:\"&ROWS(ballonrecuperes)))),ROWS($1:$25))),\"\")","v":0},{"$f":"IF(ROWS($1:$26)<=COUNTIF(joueurs,$B125),INDEX(ballonrecuperes,SMALL(IF(joueurs=$B125,ROW(INDIRECT(\"1:\"&ROWS(ballonrecuperes)))),ROWS($1:$26))),\"\")","v":0},{"$f":"IF(ROWS($1:$27)<=COUNTIF(joueurs,$B125),INDEX(ballonrecuperes,SMALL(IF(joueurs=$B125,ROW(INDIRECT(\"1:\"&ROWS(ballonrecuperes)))),ROWS($1:$27))),\"\")","v":0},{"$f":"IF(ROWS($1:$28)<=COUNTIF(joueurs,$B125),INDEX(ballonrecuperes,SMALL(IF(joueurs=$B125,ROW(INDIRECT(\"1:\"&ROWS(ballonrecuperes)))),ROWS($1:$28))),\"\")","v":0},{"$f":"IF(ROWS($1:$29)<=COUNTIF(joueurs,$B125),INDEX(ballonrecuperes,SMALL(IF(joueurs=$B125,ROW(INDIRECT(\"1:\"&ROWS(ballonrecuperes)))),ROWS($1:$29))),\"\")","v":0},{"$f":"IF(ROWS($1:$30)<=COUNTIF(joueurs,$B125),INDEX(ballonrecuperes,SMALL(IF(joueurs=$B125,ROW(INDIRECT(\"1:\"&ROWS(ballonrecuperes)))),ROWS($1:$30))),\"\")","v":0},{"$f":"IF(ROWS($1:$21)<=COUNTIF(joueurs,$B125),INDEX(tirs,SMALL(IF(joueurs=$B125,ROW(INDIRECT(\"1:\"&ROWS(tirs)))),ROWS($1:$21))),\"\")","v":0},{"$f":"IF(ROWS($1:$22)<=COUNTIF(joueurs,$B125),INDEX(tirs,SMALL(IF(joueurs=$B125,ROW(INDIRECT(\"1:\"&ROWS(tirs)))),ROWS($1:$22))),\"\")","v":0},{"$f":"IF(ROWS($1:$23)<=COUNTIF(joueurs,$B125),INDEX(tirs,SMALL(IF(joueurs=$B125,ROW(INDIRECT(\"1:\"&ROWS(tirs)))),ROWS($1:$23))),\"\")","v":0},{"$f":"IF(ROWS($1:$24)<=COUNTIF(joueurs,$B125),INDEX(tirs,SMALL(IF(joueurs=$B125,ROW(INDIRECT(\"1:\"&ROWS(tirs)))),ROWS($1:$24))),\"\")","v":0},{"$f":"IF(ROWS($1:$25)<=COUNTIF(joueurs,$B125),INDEX(tirs,SMALL(IF(joueurs=$B125,ROW(INDIRECT(\"1:\"&ROWS(tirs)))),ROWS($1:$25))),\"\")","v":0},{"$f":"IF(ROWS($1:$26)<=COUNTIF(joueurs,$B125),INDEX(tirs,SMALL(IF(joueurs=$B125,ROW(INDIRECT(\"1:\"&ROWS(tirs)))),ROWS($1:$26))),\"\")","v":0},{"$f":"IF(ROWS($1:$27)<=COUNTIF(joueurs,$B125),INDEX(tirs,SMALL(IF(joueurs=$B125,ROW(INDIRECT(\"1:\"&ROWS(tirs)))),ROWS($1:$27))),\"\")","v":0},{"$f":"IF(ROWS($1:$28)<=COUNTIF(joueurs,$B125),INDEX(tirs,SMALL(IF(joueurs=$B125,ROW(INDIRECT(\"1:\"&ROWS(tirs)))),ROWS($1:$28))),\"\")","v":0},{"$f":"IF(ROWS($1:$29)<=COUNTIF(joueurs,$B125),INDEX(tirs,SMALL(IF(joueurs=$B125,ROW(INDIRECT(\"1:\"&ROWS(tirs)))),ROWS($1:$29))),\"\")","v":0},{"$f":"IF(ROWS($1:$30)<=COUNTIF(joueurs,$B125),INDEX(tirs,SMALL(IF(joueurs=$B125,ROW(INDIRECT(\"1:\"&ROWS(tirs)))),ROWS($1:$30))),\"\")","v":0},{"$f":"IF(ROWS($1:$21)<=COUNTIF(joueurs,$B125),INDEX(bontirs,SMALL(IF(joueurs=$B125,ROW(INDIRECT(\"1:\"&ROWS(bontirs)))),ROWS($1:$21))),\"\")","v":0},{"$f":"IF(ROWS($1:$22)<=COUNTIF(joueurs,$B125),INDEX(bontirs,SMALL(IF(joueurs=$B125,ROW(INDIRECT(\"1:\"&ROWS(bontirs)))),ROWS($1:$22))),\"\")","v":0},{"$f":"IF(ROWS($1:$23)<=COUNTIF(joueurs,$B125),INDEX(bontirs,SMALL(IF(joueurs=$B125,ROW(INDIRECT(\"1:\"&ROWS(bontirs)))),ROWS($1:$23))),\"\")","v":0},{"$f":"IF(ROWS($1:$24)<=COUNTIF(joueurs,$B125),INDEX(bontirs,SMALL(IF(joueurs=$B125,ROW(INDIRECT(\"1:\"&ROWS(bontirs)))),ROWS($1:$24))),\"\")","v":0},{"$f":"IF(ROWS($1:$25)<=COUNTIF(joueurs,$B125),INDEX(bontirs,SMALL(IF(joueurs=$B125,ROW(INDIRECT(\"1:\"&ROWS(bontirs)))),ROWS($1:$25))),\"\")","v":0},{"$f":"IF(ROWS($1:$26)<=COUNTIF(joueurs,$B125),INDEX(bontirs,SMALL(IF(joueurs=$B125,ROW(INDIRECT(\"1:\"&ROWS(bontirs)))),ROWS($1:$26))),\"\")","v":0},{"$f":"IF(ROWS($1:$27)<=COUNTIF(joueurs,$B125),INDEX(bontirs,SMALL(IF(joueurs=$B125,ROW(INDIRECT(\"1:\"&ROWS(bontirs)))),ROWS($1:$27))),\"\")","v":0},{"$f":"IF(ROWS($1:$28)<=COUNTIF(joueurs,$B125),INDEX(bontirs,SMALL(IF(joueurs=$B125,ROW(INDIRECT(\"1:\"&ROWS(bontirs)))),ROWS($1:$28))),\"\")","v":0},{"$f":"IF(ROWS($1:$29)<=COUNTIF(joueurs,$B125),INDEX(bontirs,SMALL(IF(joueurs=$B125,ROW(INDIRECT(\"1:\"&ROWS(bontirs)))),ROWS($1:$29))),\"\")","v":0},{"$f":"IF(ROWS($1:$30)<=COUNTIF(joueurs,$B125),INDEX(bontirs,SMALL(IF(joueurs=$B125,ROW(INDIRECT(\"1:\"&ROWS(bontirs)))),ROWS($1:$30))),\"\")","v":0},{"$f":"IF(ROWS($1:$21)<=COUNTIF(joueurs,$B125),INDEX(points,SMALL(IF(joueurs=$B125,ROW(INDIRECT(\"1:\"&ROWS(points)))),ROWS($1:$21))),\"\")","v":0},{"$f":"IF(ROWS($1:$22)<=COUNTIF(joueurs,$B125),INDEX(points,SMALL(IF(joueurs=$B125,ROW(INDIRECT(\"1:\"&ROWS(points)))),ROWS($1:$22))),\"\")","v":0},{"$f":"IF(ROWS($1:$23)<=COUNTIF(joueurs,$B125),INDEX(points,SMALL(IF(joueurs=$B125,ROW(INDIRECT(\"1:\"&ROWS(points)))),ROWS($1:$23))),\"\")","v":0},{"$f":"IF(ROWS($1:$24)<=COUNTIF(joueurs,$B125),INDEX(points,SMALL(IF(joueurs=$B125,ROW(INDIRECT(\"1:\"&ROWS(points)))),ROWS($1:$24))),\"\")","v":0},{"$f":"IF(ROWS($1:$25)<=COUNTIF(joueurs,$B125),INDEX(points,SMALL(IF(joueurs=$B125,ROW(INDIRECT(\"1:\"&ROWS(points)))),ROWS($1:$25))),\"\")","v":0},{"$f":"IF(ROWS($1:$26)<=COUNTIF(joueurs,$B125),INDEX(points,SMALL(IF(joueurs=$B125,ROW(INDIRECT(\"1:\"&ROWS(points)))),ROWS($1:$26))),\"\")","v":0},{"$f":"IF(ROWS($1:$27)<=COUNTIF(joueurs,$B125),INDEX(points,SMALL(IF(joueurs=$B125,ROW(INDIRECT(\"1:\"&ROWS(points)))),ROWS($1:$27))),\"\")","v":0},{"$f":"IF(ROWS($1:$28)<=COUNTIF(joueurs,$B125),INDEX(points,SMALL(IF(joueurs=$B125,ROW(INDIRECT(\"1:\"&ROWS(points)))),ROWS($1:$28))),\"\")","v":0},{"$f":"IF(ROWS($1:$29)<=COUNTIF(joueurs,$B125),INDEX(points,SMALL(IF(joueurs=$B125,ROW(INDIRECT(\"1:\"&ROWS(points)))),ROWS($1:$29))),\"\")","v":0},{"$f":"IF(ROWS($1:$30)<=COUNTIF(joueurs,$B125),INDEX(points,SMALL(IF(joueurs=$B125,ROW(INDIRECT(\"1:\"&ROWS(points)))),ROWS($1:$30))),\"\")","v":0},{"$f":"IF(ROWS($1:$21)<=COUNTIF(joueurs,$B125),INDEX(victoires,SMALL(IF(joueurs=$B125,ROW(INDIRECT(\"1:\"&ROWS(victoires)))),ROWS($1:$21))),\"\")","v":0},{"$f":"IF(ROWS($1:$22)<=COUNTIF(joueurs,$B125),INDEX(victoires,SMALL(IF(joueurs=$B125,ROW(INDIRECT(\"1:\"&ROWS(victoires)))),ROWS($1:$22))),\"\")","v":0},{"$f":"IF(ROWS($1:$23)<=COUNTIF(joueurs,$B125),INDEX(victoires,SMALL(IF(joueurs=$B125,ROW(INDIRECT(\"1:\"&ROWS(victoires)))),ROWS($1:$23))),\"\")","v":0},{"$f":"IF(ROWS($1:$24)<=COUNTIF(joueurs,$B125),INDEX(victoires,SMALL(IF(joueurs=$B125,ROW(INDIRECT(\"1:\"&ROWS(victoires)))),ROWS($1:$24))),\"\")","v":0},{"$f":"IF(ROWS($1:$25)<=COUNTIF(joueurs,$B125),INDEX(victoires,SMALL(IF(joueurs=$B125,ROW(INDIRECT(\"1:\"&ROWS(victoires)))),ROWS($1:$25))),\"\")","v":0},{"$f":"IF(ROWS($1:$26)<=COUNTIF(joueurs,$B125),INDEX(victoires,SMALL(IF(joueurs=$B125,ROW(INDIRECT(\"1:\"&ROWS(victoires)))),ROWS($1:$26))),\"\")","v":0},{"$f":"IF(ROWS($1:$27)<=COUNTIF(joueurs,$B125),INDEX(victoires,SMALL(IF(joueurs=$B125,ROW(INDIRECT(\"1:\"&ROWS(victoires)))),ROWS($1:$27))),\"\")","v":0},{"$f":"IF(ROWS($1:$28)<=COUNTIF(joueurs,$B125),INDEX(victoires,SMALL(IF(joueurs=$B125,ROW(INDIRECT(\"1:\"&ROWS(victoires)))),ROWS($1:$28))),\"\")","v":0},{"$f":"IF(ROWS($1:$29)<=COUNTIF(joueurs,$B125),INDEX(victoires,SMALL(IF(joueurs=$B125,ROW(INDIRECT(\"1:\"&ROWS(victoires)))),ROWS($1:$29))),\"\")","v":0},{"$f":"IF(ROWS($1:$30)<=COUNTIF(joueurs,$B125),INDEX(victoires,SMALL(IF(joueurs=$B125,ROW(INDIRECT(\"1:\"&ROWS(victoires)))),ROWS($1:$30))),\"\")","v":0}]
[null,null,null,{"$f":"IF(ROWS($1:$31)<=COUNTIF(joueurs,$B125),INDEX(fautes,SMALL(IF(joueurs=$B125,ROW(INDIRECT(\"1:\"&ROWS(fautes)))),ROWS($1:$31))),\"\")","v":0},{"$f":"IF(ROWS($1:$32)<=COUNTIF(joueurs,$B125),INDEX(fautes,SMALL(IF(joueurs=$B125,ROW(INDIRECT(\"1:\"&ROWS(fautes)))),ROWS($1:$32))),\"\")","v":0},{"$f":"IF(ROWS($1:$33)<=COUNTIF(joueurs,$B125),INDEX(fautes,SMALL(IF(joueurs=$B125,ROW(INDIRECT(\"1:\"&ROWS(fautes)))),ROWS($1:$33))),\"\")","v":0},{"$f":"IF(ROWS($1:$34)<=COUNTIF(joueurs,$B125),INDEX(fautes,SMALL(IF(joueurs=$B125,ROW(INDIRECT(\"1:\"&ROWS(fautes)))),ROWS($1:$34))),\"\")","v":0},{"$f":"IF(ROWS($1:$35)<=COUNTIF(joueurs,$B125),INDEX(fautes,SMALL(IF(joueurs=$B125,ROW(INDIRECT(\"1:\"&ROWS(fautes)))),ROWS($1:$35))),\"\")","v":0},{"$f":"IF(ROWS($1:$36)<=COUNTIF(joueurs,$B125),INDEX(fautes,SMALL(IF(joueurs=$B125,ROW(INDIRECT(\"1:\"&ROWS(fautes)))),ROWS($1:$36))),\"\")","v":0},{"$f":"IF(ROWS($1:$37)<=COUNTIF(joueurs,$B125),INDEX(fautes,SMALL(IF(joueurs=$B125,ROW(INDIRECT(\"1:\"&ROWS(fautes)))),ROWS($1:$37))),\"\")","v":0},{"$f":"IF(ROWS($1:$38)<=COUNTIF(joueurs,$B125),INDEX(fautes,SMALL(IF(joueurs=$B125,ROW(INDIRECT(\"1:\"&ROWS(fautes)))),ROWS($1:$38))),\"\")","v":0},{"$f":"IF(ROWS($1:$39)<=COUNTIF(joueurs,$B125),INDEX(fautes,SMALL(IF(joueurs=$B125,ROW(INDIRECT(\"1:\"&ROWS(fautes)))),ROWS($1:$39))),\"\")","v":0},{"$f":"IF(ROWS($1:$40)<=COUNTIF(joueurs,$B125),INDEX(fautes,SMALL(IF(joueurs=$B125,ROW(INDIRECT(\"1:\"&ROWS(fautes)))),ROWS($1:$40))),\"\")","v":0},{"$f":"IF(ROWS($1:$31)<=COUNTIF(joueurs,$B125),INDEX(ballonperdus,SMALL(IF(joueurs=$B125,ROW(INDIRECT(\"1:\"&ROWS(ballonperdus)))),ROWS($1:$31))),\"\")","v":0},{"$f":"IF(ROWS($1:$32)<=COUNTIF(joueurs,$B125),INDEX(ballonperdus,SMALL(IF(joueurs=$B125,ROW(INDIRECT(\"1:\"&ROWS(ballonperdus)))),ROWS($1:$32))),\"\")","v":0},{"$f":"IF(ROWS($1:$33)<=COUNTIF(joueurs,$B125),INDEX(ballonperdus,SMALL(IF(joueurs=$B125,ROW(INDIRECT(\"1:\"&ROWS(ballonperdus)))),ROWS($1:$33))),\"\")","v":0},{"$f":"IF(ROWS($1:$34)<=COUNTIF(joueurs,$B125),INDEX(ballonperdus,SMALL(IF(joueurs=$B125,ROW(INDIRECT(\"1:\"&ROWS(ballonperdus)))),ROWS($1:$34))),\"\")","v":0},{"$f":"IF(ROWS($1:$35)<=COUNTIF(joueurs,$B125),INDEX(ballonperdus,SMALL(IF(joueurs=$B125,ROW(INDIRECT(\"1:\"&ROWS(ballonperdus)))),ROWS($1:$35))),\"\")","v":0},{"$f":"IF(ROWS($1:$36)<=COUNTIF(joueurs,$B125),INDEX(ballonperdus,SMALL(IF(joueurs=$B125,ROW(INDIRECT(\"1:\"&ROWS(ballonperdus)))),ROWS($1:$36))),\"\")","v":0},{"$f":"IF(ROWS($1:$37)<=COUNTIF(joueurs,$B125),INDEX(ballonperdus,SMALL(IF(joueurs=$B125,ROW(INDIRECT(\"1:\"&ROWS(ballonperdus)))),ROWS($1:$37))),\"\")","v":0},{"$f":"IF(ROWS($1:$38)<=COUNTIF(joueurs,$B125),INDEX(ballonperdus,SMALL(IF(joueurs=$B125,ROW(INDIRECT(\"1:\"&ROWS(ballonperdus)))),ROWS($1:$38))),\"\")","v":0},{"$f":"IF(ROWS($1:$39)<=COUNTIF(joueurs,$B125),INDEX(ballonperdus,SMALL(IF(joueurs=$B125,ROW(INDIRECT(\"1:\"&ROWS(ballonperdus)))),ROWS($1:$39))),\"\")","v":0},{"$f":"IF(ROWS($1:$40)<=COUNTIF(joueurs,$B125),INDEX(ballonperdus,SMALL(IF(joueurs=$B125,ROW(INDIRECT(\"1:\"&ROWS(ballonperdus)))),ROWS($1:$40))),\"\")","v":0},{"$f":"IF(ROWS($1:$31)<=COUNTIF(joueurs,$B125),INDEX(interceptions,SMALL(IF(joueurs=$B125,ROW(INDIRECT(\"1:\"&ROWS(interceptions)))),ROWS($1:$31))),\"\")","v":0},{"$f":"IF(ROWS($1:$32)<=COUNTIF(joueurs,$B125),INDEX(interceptions,SMALL(IF(joueurs=$B125,ROW(INDIRECT(\"1:\"&ROWS(interceptions)))),ROWS($1:$32))),\"\")","v":0},{"$f":"IF(ROWS($1:$33)<=COUNTIF(joueurs,$B125),INDEX(interceptions,SMALL(IF(joueurs=$B125,ROW(INDIRECT(\"1:\"&ROWS(interceptions)))),ROWS($1:$33))),\"\")","v":0},{"$f":"IF(ROWS($1:$34)<=COUNTIF(joueurs,$B125),INDEX(interceptions,SMALL(IF(joueurs=$B125,ROW(INDIRECT(\"1:\"&ROWS(interceptions)))),ROWS($1:$34))),\"\")","v":0},{"$f":"IF(ROWS($1:$35)<=COUNTIF(joueurs,$B125),INDEX(interceptions,SMALL(IF(joueurs=$B125,ROW(INDIRECT(\"1:\"&ROWS(interceptions)))),ROWS($1:$35))),\"\")","v":0},{"$f":"IF(ROWS($1:$36)<=COUNTIF(joueurs,$B125),INDEX(interceptions,SMALL(IF(joueurs=$B125,ROW(INDIRECT(\"1:\"&ROWS(interceptions)))),ROWS($1:$36))),\"\")","v":0},{"$f":"IF(ROWS($1:$37)<=COUNTIF(joueurs,$B125),INDEX(interceptions,SMALL(IF(joueurs=$B125,ROW(INDIRECT(\"1:\"&ROWS(interceptions)))),ROWS($1:$37))),\"\")","v":0},{"$f":"IF(ROWS($1:$38)<=COUNTIF(joueurs,$B125),INDEX(interceptions,SMALL(IF(joueurs=$B125,ROW(INDIRECT(\"1:\"&ROWS(interceptions)))),ROWS($1:$38))),\"\")","v":0},{"$f":"IF(ROWS($1:$39)<=COUNTIF(joueurs,$B125),INDEX(interceptions,SMALL(IF(joueurs=$B125,ROW(INDIRECT(\"1:\"&ROWS(interceptions)))),ROWS($1:$39))),\"\")","v":0},{"$f":"IF(ROWS($1:$40)<=COUNTIF(joueurs,$B125),INDEX(interceptions,SMALL(IF(joueurs=$B125,ROW(INDIRECT(\"1:\"&ROWS(interceptions)))),ROWS($1:$40))),\"\")","v":0},{"$f":"IF(ROWS($1:$31)<=COUNTIF(joueurs,$B125),INDEX(ballonrecuperes,SMALL(IF(joueurs=$B125,ROW(INDIRECT(\"1:\"&ROWS(ballonrecuperes)))),ROWS($1:$31))),\"\")","v":0},{"$f":"IF(ROWS($1:$32)<=COUNTIF(joueurs,$B125),INDEX(ballonrecuperes,SMALL(IF(joueurs=$B125,ROW(INDIRECT(\"1:\"&ROWS(ballonrecuperes)))),ROWS($1:$32))),\"\")","v":0},{"$f":"IF(ROWS($1:$33)<=COUNTIF(joueurs,$B125),INDEX(ballonrecuperes,SMALL(IF(joueurs=$B125,ROW(INDIRECT(\"1:\"&ROWS(ballonrecuperes)))),ROWS($1:$33))),\"\")","v":0},{"$f":"IF(ROWS($1:$34)<=COUNTIF(joueurs,$B125),INDEX(ballonrecuperes,SMALL(IF(joueurs=$B125,ROW(INDIRECT(\"1:\"&ROWS(ballonrecuperes)))),ROWS($1:$34))),\"\")","v":0},{"$f":"IF(ROWS($1:$35)<=COUNTIF(joueurs,$B125),INDEX(ballonrecuperes,SMALL(IF(joueurs=$B125,ROW(INDIRECT(\"1:\"&ROWS(ballonrecuperes)))),ROWS($1:$35))),\"\")","v":0},{"$f":"IF(ROWS($1:$36)<=COUNTIF(joueurs,$B125),INDEX(ballonrecuperes,SMALL(IF(joueurs=$B125,ROW(INDIRECT(\"1:\"&ROWS(ballonrecuperes)))),ROWS($1:$36))),\"\")","v":0},{"$f":"IF(ROWS($1:$37)<=COUNTIF(joueurs,$B125),INDEX(ballonrecuperes,SMALL(IF(joueurs=$B125,ROW(INDIRECT(\"1:\"&ROWS(ballonrecuperes)))),ROWS($1:$37))),\"\")","v":0},{"$f":"IF(ROWS($1:$38)<=COUNTIF(joueurs,$B125),INDEX(ballonrecuperes,SMALL(IF(joueurs=$B125,ROW(INDIRECT(\"1:\"&ROWS(ballonrecuperes)))),ROWS($1:$38))),\"\")","v":0},{"$f":"IF(ROWS($1:$39)<=COUNTIF(joueurs,$B125),INDEX(ballonrecuperes,SMALL(IF(joueurs=$B125,ROW(INDIRECT(\"1:\"&ROWS(ballonrecuperes)))),ROWS($1:$39))),\"\")","v":0},{"$f":"IF(ROWS($1:$40)<=COUNTIF(joueurs,$B125),INDEX(ballonrecuperes,SMALL(IF(joueurs=$B125,ROW(INDIRECT(\"1:\"&ROWS(ballonrecuperes)))),ROWS($1:$40))),\"\")","v":0},{"$f":"IF(ROWS($1:$31)<=COUNTIF(joueurs,$B125),INDEX(tirs,SMALL(IF(joueurs=$B125,ROW(INDIRECT(\"1:\"&ROWS(tirs)))),ROWS($1:$31))),\"\")","v":0},{"$f":"IF(ROWS($1:$32)<=COUNTIF(joueurs,$B125),INDEX(tirs,SMALL(IF(joueurs=$B125,ROW(INDIRECT(\"1:\"&ROWS(tirs)))),ROWS($1:$32))),\"\")","v":0},{"$f":"IF(ROWS($1:$33)<=COUNTIF(joueurs,$B125),INDEX(tirs,SMALL(IF(joueurs=$B125,ROW(INDIRECT(\"1:\"&ROWS(tirs)))),ROWS($1:$33))),\"\")","v":0},{"$f":"IF(ROWS($1:$34)<=COUNTIF(joueurs,$B125),INDEX(tirs,SMALL(IF(joueurs=$B125,ROW(INDIRECT(\"1:\"&ROWS(tirs)))),ROWS($1:$34))),\"\")","v":0},{"$f":"IF(ROWS($1:$35)<=COUNTIF(joueurs,$B125),INDEX(tirs,SMALL(IF(joueurs=$B125,ROW(INDIRECT(\"1:\"&ROWS(tirs)))),ROWS($1:$35))),\"\")","v":0},{"$f":"IF(ROWS($1:$36)<=COUNTIF(joueurs,$B125),INDEX(tirs,SMALL(IF(joueurs=$B125,ROW(INDIRECT(\"1:\"&ROWS(tirs)))),ROWS($1:$36))),\"\")","v":0},{"$f":"IF(ROWS($1:$37)<=COUNTIF(joueurs,$B125),INDEX(tirs,SMALL(IF(joueurs=$B125,ROW(INDIRECT(\"1:\"&ROWS(tirs)))),ROWS($1:$37))),\"\")","v":0},{"$f":"IF(ROWS($1:$38)<=COUNTIF(joueurs,$B125),INDEX(tirs,SMALL(IF(joueurs=$B125,ROW(INDIRECT(\"1:\"&ROWS(tirs)))),ROWS($1:$38))),\"\")","v":0},{"$f":"IF(ROWS($1:$39)<=COUNTIF(joueurs,$B125),INDEX(tirs,SMALL(IF(joueurs=$B125,ROW(INDIRECT(\"1:\"&ROWS(tirs)))),ROWS($1:$39))),\"\")","v":0},{"$f":"IF(ROWS($1:$40)<=COUNTIF(joueurs,$B125),INDEX(tirs,SMALL(IF(joueurs=$B125,ROW(INDIRECT(\"1:\"&ROWS(tirs)))),ROWS($1:$40))),\"\")","v":0},{"$f":"IF(ROWS($1:$31)<=COUNTIF(joueurs,$B125),INDEX(bontirs,SMALL(IF(joueurs=$B125,ROW(INDIRECT(\"1:\"&ROWS(bontirs)))),ROWS($1:$31))),\"\")","v":0},{"$f":"IF(ROWS($1:$32)<=COUNTIF(joueurs,$B125),INDEX(bontirs,SMALL(IF(joueurs=$B125,ROW(INDIRECT(\"1:\"&ROWS(bontirs)))),ROWS($1:$32))),\"\")","v":0},{"$f":"IF(ROWS($1:$33)<=COUNTIF(joueurs,$B125),INDEX(bontirs,SMALL(IF(joueurs=$B125,ROW(INDIRECT(\"1:\"&ROWS(bontirs)))),ROWS($1:$33))),\"\")","v":0},{"$f":"IF(ROWS($1:$34)<=COUNTIF(joueurs,$B125),INDEX(bontirs,SMALL(IF(joueurs=$B125,ROW(INDIRECT(\"1:\"&ROWS(bontirs)))),ROWS($1:$34))),\"\")","v":0},{"$f":"IF(ROWS($1:$35)<=COUNTIF(joueurs,$B125),INDEX(bontirs,SMALL(IF(joueurs=$B125,ROW(INDIRECT(\"1:\"&ROWS(bontirs)))),ROWS($1:$35))),\"\")","v":0},{"$f":"IF(ROWS($1:$36)<=COUNTIF(joueurs,$B125),INDEX(bontirs,SMALL(IF(joueurs=$B125,ROW(INDIRECT(\"1:\"&ROWS(bontirs)))),ROWS($1:$36))),\"\")","v":0},{"$f":"IF(ROWS($1:$37)<=COUNTIF(joueurs,$B125),INDEX(bontirs,SMALL(IF(joueurs=$B125,ROW(INDIRECT(\"1:\"&ROWS(bontirs)))),ROWS($1:$37))),\"\")","v":0},{"$f":"IF(ROWS($1:$38)<=COUNTIF(joueurs,$B125),INDEX(bontirs,SMALL(IF(joueurs=$B125,ROW(INDIRECT(\"1:\"&ROWS(bontirs)))),ROWS($1:$38))),\"\")","v":0},{"$f":"IF(ROWS($1:$39)<=COUNTIF(joueurs,$B125),INDEX(bontirs,SMALL(IF(joueurs=$B125,ROW(INDIRECT(\"1:\"&ROWS(bontirs)))),ROWS($1:$39))),\"\")","v":0},{"$f":"IF(ROWS($1:$40)<=COUNTIF(joueurs,$B125),INDEX(bontirs,SMALL(IF(joueurs=$B125,ROW(INDIRECT(\"1:\"&ROWS(bontirs)))),ROWS($1:$40))),\"\")","v":0},{"$f":"IF(ROWS($1:$31)<=COUNTIF(joueurs,$B125),INDEX(points,SMALL(IF(joueurs=$B125,ROW(INDIRECT(\"1:\"&ROWS(points)))),ROWS($1:$31))),\"\")","v":0},{"$f":"IF(ROWS($1:$32)<=COUNTIF(joueurs,$B125),INDEX(points,SMALL(IF(joueurs=$B125,ROW(INDIRECT(\"1:\"&ROWS(points)))),ROWS($1:$32))),\"\")","v":0},{"$f":"IF(ROWS($1:$33)<=COUNTIF(joueurs,$B125),INDEX(points,SMALL(IF(joueurs=$B125,ROW(INDIRECT(\"1:\"&ROWS(points)))),ROWS($1:$33))),\"\")","v":0},{"$f":"IF(ROWS($1:$34)<=COUNTIF(joueurs,$B125),INDEX(points,SMALL(IF(joueurs=$B125,ROW(INDIRECT(\"1:\"&ROWS(points)))),ROWS($1:$34))),\"\")","v":0},{"$f":"IF(ROWS($1:$35)<=COUNTIF(joueurs,$B125),INDEX(points,SMALL(IF(joueurs=$B125,ROW(INDIRECT(\"1:\"&ROWS(points)))),ROWS($1:$35))),\"\")","v":0},{"$f":"IF(ROWS($1:$36)<=COUNTIF(joueurs,$B125),INDEX(points,SMALL(IF(joueurs=$B125,ROW(INDIRECT(\"1:\"&ROWS(points)))),ROWS($1:$36))),\"\")","v":0},{"$f":"IF(ROWS($1:$37)<=COUNTIF(joueurs,$B125),INDEX(points,SMALL(IF(joueurs=$B125,ROW(INDIRECT(\"1:\"&ROWS(points)))),ROWS($1:$37))),\"\")","v":0},{"$f":"IF(ROWS($1:$38)<=COUNTIF(joueurs,$B125),INDEX(points,SMALL(IF(joueurs=$B125,ROW(INDIRECT(\"1:\"&ROWS(points)))),ROWS($1:$38))),\"\")","v":0},{"$f":"IF(ROWS($1:$39)<=COUNTIF(joueurs,$B125),INDEX(points,SMALL(IF(joueurs=$B125,ROW(INDIRECT(\"1:\"&ROWS(points)))),ROWS($1:$39))),\"\")","v":0},{"$f":"IF(ROWS($1:$40)<=COUNTIF(joueurs,$B125),INDEX(points,SMALL(IF(joueurs=$B125,ROW(INDIRECT(\"1:\"&ROWS(points)))),ROWS($1:$40))),\"\")","v":0},{"$f":"IF(ROWS($1:$31)<=COUNTIF(joueurs,$B125),INDEX(victoires,SMALL(IF(joueurs=$B125,ROW(INDIRECT(\"1:\"&ROWS(victoires)))),ROWS($1:$31))),\"\")","v":0},{"$f":"IF(ROWS($1:$32)<=COUNTIF(joueurs,$B125),INDEX(victoires,SMALL(IF(joueurs=$B125,ROW(INDIRECT(\"1:\"&ROWS(victoires)))),ROWS($1:$32))),\"\")","v":0},{"$f":"IF(ROWS($1:$33)<=COUNTIF(joueurs,$B125),INDEX(victoires,SMALL(IF(joueurs=$B125,ROW(INDIRECT(\"1:\"&ROWS(victoires)))),ROWS($1:$33))),\"\")","v":0},{"$f":"IF(ROWS($1:$34)<=COUNTIF(joueurs,$B125),INDEX(victoires,SMALL(IF(joueurs=$B125,ROW(INDIRECT(\"1:\"&ROWS(victoires)))),ROWS($1:$34))),\"\")","v":0},{"$f":"IF(ROWS($1:$35)<=COUNTIF(joueurs,$B125),INDEX(victoires,SMALL(IF(joueurs=$B125,ROW(INDIRECT(\"1:\"&ROWS(victoires)))),ROWS($1:$35))),\"\")","v":0},{"$f":"IF(ROWS($1:$36)<=COUNTIF(joueurs,$B125),INDEX(victoires,SMALL(IF(joueurs=$B125,ROW(INDIRECT(\"1:\"&ROWS(victoires)))),ROWS($1:$36))),\"\")","v":0},{"$f":"IF(ROWS($1:$37)<=COUNTIF(joueurs,$B125),INDEX(victoires,SMALL(IF(joueurs=$B125,ROW(INDIRECT(\"1:\"&ROWS(victoires)))),ROWS($1:$37))),\"\")","v":0},{"$f":"IF(ROWS($1:$38)<=COUNTIF(joueurs,$B125),INDEX(victoires,SMALL(IF(joueurs=$B125,ROW(INDIRECT(\"1:\"&ROWS(victoires)))),ROWS($1:$38))),\"\")","v":0},{"$f":"IF(ROWS($1:$39)<=COUNTIF(joueurs,$B125),INDEX(victoires,SMALL(IF(joueurs=$B125,ROW(INDIRECT(\"1:\"&ROWS(victoires)))),ROWS($1:$39))),\"\")","v":0},{"$f":"IF(ROWS($1:$40)<=COUNTIF(joueurs,$B125),INDEX(victoires,SMALL(IF(joueurs=$B125,ROW(INDIRECT(\"1:\"&ROWS(victoires)))),ROWS($1:$40))),\"\")","v":0}]
[32,{"$f":"INDEX(eleves,MATCH(A129,numero,0),MATCH($B$2,classes,0))","v":0},null,{"$f":"IF(ROWS($1:$1)<=COUNTIF(joueurs,$B129),INDEX(fautes,SMALL(IF(joueurs=$B129,ROW(INDIRECT(\"1:\"&ROWS(fautes)))),ROWS($1:$1))),\"\")","v":0},{"$f":"IF(ROWS($1:$2)<=COUNTIF(joueurs,$B129),INDEX(fautes,SMALL(IF(joueurs=$B129,ROW(INDIRECT(\"1:\"&ROWS(fautes)))),ROWS($1:$2))),\"\")","v":0},{"$f":"IF(ROWS($1:$3)<=COUNTIF(joueurs,$B129),INDEX(fautes,SMALL(IF(joueurs=$B129,ROW(INDIRECT(\"1:\"&ROWS(fautes)))),ROWS($1:$3))),\"\")","v":0},{"$f":"IF(ROWS($1:$4)<=COUNTIF(joueurs,$B129),INDEX(fautes,SMALL(IF(joueurs=$B129,ROW(INDIRECT(\"1:\"&ROWS(fautes)))),ROWS($1:$4))),\"\")","v":0},{"$f":"IF(ROWS($1:$5)<=COUNTIF(joueurs,$B129),INDEX(fautes,SMALL(IF(joueurs=$B129,ROW(INDIRECT(\"1:\"&ROWS(fautes)))),ROWS($1:$5))),\"\")","v":0},{"$f":"IF(ROWS($1:$6)<=COUNTIF(joueurs,$B129),INDEX(fautes,SMALL(IF(joueurs=$B129,ROW(INDIRECT(\"1:\"&ROWS(fautes)))),ROWS($1:$6))),\"\")","v":0},{"$f":"IF(ROWS($1:$7)<=COUNTIF(joueurs,$B129),INDEX(fautes,SMALL(IF(joueurs=$B129,ROW(INDIRECT(\"1:\"&ROWS(fautes)))),ROWS($1:$7))),\"\")","v":0},{"$f":"IF(ROWS($1:$8)<=COUNTIF(joueurs,$B129),INDEX(fautes,SMALL(IF(joueurs=$B129,ROW(INDIRECT(\"1:\"&ROWS(fautes)))),ROWS($1:$8))),\"\")","v":0},{"$f":"IF(ROWS($1:$9)<=COUNTIF(joueurs,$B129),INDEX(fautes,SMALL(IF(joueurs=$B129,ROW(INDIRECT(\"1:\"&ROWS(fautes)))),ROWS($1:$9))),\"\")","v":0},{"$f":"IF(ROWS($1:$10)<=COUNTIF(joueurs,$B129),INDEX(fautes,SMALL(IF(joueurs=$B129,ROW(INDIRECT(\"1:\"&ROWS(fautes)))),ROWS($1:$10))),\"\")","v":0},{"$f":"IF(ROWS($1:$1)<=COUNTIF(joueurs,$B129),INDEX(ballonperdus,SMALL(IF(joueurs=$B129,ROW(INDIRECT(\"1:\"&ROWS(ballonperdus)))),ROWS($1:$1))),\"\")","v":0},{"$f":"IF(ROWS($1:$2)<=COUNTIF(joueurs,$B129),INDEX(ballonperdus,SMALL(IF(joueurs=$B129,ROW(INDIRECT(\"1:\"&ROWS(ballonperdus)))),ROWS($1:$2))),\"\")","v":0},{"$f":"IF(ROWS($1:$3)<=COUNTIF(joueurs,$B129),INDEX(ballonperdus,SMALL(IF(joueurs=$B129,ROW(INDIRECT(\"1:\"&ROWS(ballonperdus)))),ROWS($1:$3))),\"\")","v":0},{"$f":"IF(ROWS($1:$4)<=COUNTIF(joueurs,$B129),INDEX(ballonperdus,SMALL(IF(joueurs=$B129,ROW(INDIRECT(\"1:\"&ROWS(ballonperdus)))),ROWS($1:$4))),\"\")","v":0},{"$f":"IF(ROWS($1:$5)<=COUNTIF(joueurs,$B129),INDEX(ballonperdus,SMALL(IF(joueurs=$B129,ROW(INDIRECT(\"1:\"&ROWS(ballonperdus)))),ROWS($1:$5))),\"\")","v":0},{"$f":"IF(ROWS($1:$6)<=COUNTIF(joueurs,$B129),INDEX(ballonperdus,SMALL(IF(joueurs=$B129,ROW(INDIRECT(\"1:\"&ROWS(ballonperdus)))),ROWS($1:$6))),\"\")","v":0},{"$f":"IF(ROWS($1:$7)<=COUNTIF(joueurs,$B129),INDEX(ballonperdus,SMALL(IF(joueurs=$B129,ROW(INDIRECT(\"1:\"&ROWS(ballonperdus)))),ROWS($1:$7))),\"\")","v":0},{"$f":"IF(ROWS($1:$8)<=COUNTIF(joueurs,$B129),INDEX(ballonperdus,SMALL(IF(joueurs=$B129,ROW(INDIRECT(\"1:\"&ROWS(ballonperdus)))),ROWS($1:$8))),\"\")","v":0},{"$f":"IF(ROWS($1:$9)<=COUNTIF(joueurs,$B129),INDEX(ballonperdus,SMALL(IF(joueurs=$B129,ROW(INDIRECT(\"1:\"&ROWS(ballonperdus)))),ROWS($1:$9))),\"\")","v":0},{"$f":"IF(ROWS($1:$10)<=COUNTIF(joueurs,$B129),INDEX(ballonperdus,SMALL(IF(joueurs=$B129,ROW(INDIRECT(\"1:\"&ROWS(ballonperdus)))),ROWS($1:$10))),\"\")","v":0},{"$f":"IF(ROWS($1:$1)<=COUNTIF(joueurs,$B129),INDEX(interceptions,SMALL(IF(joueurs=$B129,ROW(INDIRECT(\"1:\"&ROWS(interceptions)))),ROWS($1:$1))),\"\")","v":0},{"$f":"IF(ROWS($1:$2)<=COUNTIF(joueurs,$B129),INDEX(interceptions,SMALL(IF(joueurs=$B129,ROW(INDIRECT(\"1:\"&ROWS(interceptions)))),ROWS($1:$2))),\"\")","v":0},{"$f":"IF(ROWS($1:$3)<=COUNTIF(joueurs,$B129),INDEX(interceptions,SMALL(IF(joueurs=$B129,ROW(INDIRECT(\"1:\"&ROWS(interceptions)))),ROWS($1:$3))),\"\")","v":0},{"$f":"IF(ROWS($1:$4)<=COUNTIF(joueurs,$B129),INDEX(interceptions,SMALL(IF(joueurs=$B129,ROW(INDIRECT(\"1:\"&ROWS(interceptions)))),ROWS($1:$4))),\"\")","v":0},{"$f":"IF(ROWS($1:$5)<=COUNTIF(joueurs,$B129),INDEX(interceptions,SMALL(IF(joueurs=$B129,ROW(INDIRECT(\"1:\"&ROWS(interceptions)))),ROWS($1:$5))),\"\")","v":0},{"$f":"IF(ROWS($1:$6)<=COUNTIF(joueurs,$B129),INDEX(interceptions,SMALL(IF(joueurs=$B129,ROW(INDIRECT(\"1:\"&ROWS(interceptions)))),ROWS($1:$6))),\"\")","v":0},{"$f":"IF(ROWS($1:$7)<=COUNTIF(joueurs,$B129),INDEX(interceptions,SMALL(IF(joueurs=$B129,ROW(INDIRECT(\"1:\"&ROWS(interceptions)))),ROWS($1:$7))),\"\")","v":0},{"$f":"IF(ROWS($1:$8)<=COUNTIF(joueurs,$B129),INDEX(interceptions,SMALL(IF(joueurs=$B129,ROW(INDIRECT(\"1:\"&ROWS(interceptions)))),ROWS($1:$8))),\"\")","v":0},{"$f":"IF(ROWS($1:$9)<=COUNTIF(joueurs,$B129),INDEX(interceptions,SMALL(IF(joueurs=$B129,ROW(INDIRECT(\"1:\"&ROWS(interceptions)))),ROWS($1:$9))),\"\")","v":0},{"$f":"IF(ROWS($1:$10)<=COUNTIF(joueurs,$B129),INDEX(interceptions,SMALL(IF(joueurs=$B129,ROW(INDIRECT(\"1:\"&ROWS(interceptions)))),ROWS($1:$10))),\"\")","v":0},{"$f":"IF(ROWS($1:$1)<=COUNTIF(joueurs,$B129),INDEX(ballonrecuperes,SMALL(IF(joueurs=$B129,ROW(INDIRECT(\"1:\"&ROWS(ballonrecuperes)))),ROWS($1:$1))),\"\")","v":0},{"$f":"IF(ROWS($1:$2)<=COUNTIF(joueurs,$B129),INDEX(ballonrecuperes,SMALL(IF(joueurs=$B129,ROW(INDIRECT(\"1:\"&ROWS(ballonrecuperes)))),ROWS($1:$2))),\"\")","v":0},{"$f":"IF(ROWS($1:$3)<=COUNTIF(joueurs,$B129),INDEX(ballonrecuperes,SMALL(IF(joueurs=$B129,ROW(INDIRECT(\"1:\"&ROWS(ballonrecuperes)))),ROWS($1:$3))),\"\")","v":0},{"$f":"IF(ROWS($1:$4)<=COUNTIF(joueurs,$B129),INDEX(ballonrecuperes,SMALL(IF(joueurs=$B129,ROW(INDIRECT(\"1:\"&ROWS(ballonrecuperes)))),ROWS($1:$4))),\"\")","v":0},{"$f":"IF(ROWS($1:$5)<=COUNTIF(joueurs,$B129),INDEX(ballonrecuperes,SMALL(IF(joueurs=$B129,ROW(INDIRECT(\"1:\"&ROWS(ballonrecuperes)))),ROWS($1:$5))),\"\")","v":0},{"$f":"IF(ROWS($1:$6)<=COUNTIF(joueurs,$B129),INDEX(ballonrecuperes,SMALL(IF(joueurs=$B129,ROW(INDIRECT(\"1:\"&ROWS(ballonrecuperes)))),ROWS($1:$6))),\"\")","v":0},{"$f":"IF(ROWS($1:$7)<=COUNTIF(joueurs,$B129),INDEX(ballonrecuperes,SMALL(IF(joueurs=$B129,ROW(INDIRECT(\"1:\"&ROWS(ballonrecuperes)))),ROWS($1:$7))),\"\")","v":0},{"$f":"IF(ROWS($1:$8)<=COUNTIF(joueurs,$B129),INDEX(ballonrecuperes,SMALL(IF(joueurs=$B129,ROW(INDIRECT(\"1:\"&ROWS(ballonrecuperes)))),ROWS($1:$8))),\"\")","v":0},{"$f":"IF(ROWS($1:$9)<=COUNTIF(joueurs,$B129),INDEX(ballonrecuperes,SMALL(IF(joueurs=$B129,ROW(INDIRECT(\"1:\"&ROWS(ballonrecuperes)))),ROWS($1:$9))),\"\")","v":0},{"$f":"IF(ROWS($1:$10)<=COUNTIF(joueurs,$B129),INDEX(ballonrecuperes,SMALL(IF(joueurs=$B129,ROW(INDIRECT(\"1:\"&ROWS(ballonrecuperes)))),ROWS($1:$10))),\"\")","v":0},{"$f":"IF(ROWS($1:$1)<=COUNTIF(joueurs,$B129),INDEX(tirs,SMALL(IF(joueurs=$B129,ROW(INDIRECT(\"1:\"&ROWS(tirs)))),ROWS($1:$1))),\"\")","v":0},{"$f":"IF(ROWS($1:$2)<=COUNTIF(joueurs,$B129),INDEX(tirs,SMALL(IF(joueurs=$B129,ROW(INDIRECT(\"1:\"&ROWS(tirs)))),ROWS($1:$2))),\"\")","v":0},{"$f":"IF(ROWS($1:$3)<=COUNTIF(joueurs,$B129),INDEX(tirs,SMALL(IF(joueurs=$B129,ROW(INDIRECT(\"1:\"&ROWS(tirs)))),ROWS($1:$3))),\"\")","v":0},{"$f":"IF(ROWS($1:$4)<=COUNTIF(joueurs,$B129),INDEX(tirs,SMALL(IF(joueurs=$B129,ROW(INDIRECT(\"1:\"&ROWS(tirs)))),ROWS($1:$4))),\"\")","v":0},{"$f":"IF(ROWS($1:$5)<=COUNTIF(joueurs,$B129),INDEX(tirs,SMALL(IF(joueurs=$B129,ROW(INDIRECT(\"1:\"&ROWS(tirs)))),ROWS($1:$5))),\"\")","v":0},{"$f":"IF(ROWS($1:$6)<=COUNTIF(joueurs,$B129),INDEX(tirs,SMALL(IF(joueurs=$B129,ROW(INDIRECT(\"1:\"&ROWS(tirs)))),ROWS($1:$6))),\"\")","v":0},{"$f":"IF(ROWS($1:$7)<=COUNTIF(joueurs,$B129),INDEX(tirs,SMALL(IF(joueurs=$B129,ROW(INDIRECT(\"1:\"&ROWS(tirs)))),ROWS($1:$7))),\"\")","v":0},{"$f":"IF(ROWS($1:$8)<=COUNTIF(joueurs,$B129),INDEX(tirs,SMALL(IF(joueurs=$B129,ROW(INDIRECT(\"1:\"&ROWS(tirs)))),ROWS($1:$8))),\"\")","v":0},{"$f":"IF(ROWS($1:$9)<=COUNTIF(joueurs,$B129),INDEX(tirs,SMALL(IF(joueurs=$B129,ROW(INDIRECT(\"1:\"&ROWS(tirs)))),ROWS($1:$9))),\"\")","v":0},{"$f":"IF(ROWS($1:$10)<=COUNTIF(joueurs,$B129),INDEX(tirs,SMALL(IF(joueurs=$B129,ROW(INDIRECT(\"1:\"&ROWS(tirs)))),ROWS($1:$10))),\"\")","v":0},{"$f":"IF(ROWS($1:$1)<=COUNTIF(joueurs,$B129),INDEX(bontirs,SMALL(IF(joueurs=$B129,ROW(INDIRECT(\"1:\"&ROWS(bontirs)))),ROWS($1:$1))),\"\")","v":0},{"$f":"IF(ROWS($1:$2)<=COUNTIF(joueurs,$B129),INDEX(bontirs,SMALL(IF(joueurs=$B129,ROW(INDIRECT(\"1:\"&ROWS(bontirs)))),ROWS($1:$2))),\"\")","v":0},{"$f":"IF(ROWS($1:$3)<=COUNTIF(joueurs,$B129),INDEX(bontirs,SMALL(IF(joueurs=$B129,ROW(INDIRECT(\"1:\"&ROWS(bontirs)))),ROWS($1:$3))),\"\")","v":0},{"$f":"IF(ROWS($1:$4)<=COUNTIF(joueurs,$B129),INDEX(bontirs,SMALL(IF(joueurs=$B129,ROW(INDIRECT(\"1:\"&ROWS(bontirs)))),ROWS($1:$4))),\"\")","v":0},{"$f":"IF(ROWS($1:$5)<=COUNTIF(joueurs,$B129),INDEX(bontirs,SMALL(IF(joueurs=$B129,ROW(INDIRECT(\"1:\"&ROWS(bontirs)))),ROWS($1:$5))),\"\")","v":0},{"$f":"IF(ROWS($1:$6)<=COUNTIF(joueurs,$B129),INDEX(bontirs,SMALL(IF(joueurs=$B129,ROW(INDIRECT(\"1:\"&ROWS(bontirs)))),ROWS($1:$6))),\"\")","v":0},{"$f":"IF(ROWS($1:$7)<=COUNTIF(joueurs,$B129),INDEX(bontirs,SMALL(IF(joueurs=$B129,ROW(INDIRECT(\"1:\"&ROWS(bontirs)))),ROWS($1:$7))),\"\")","v":0},{"$f":"IF(ROWS($1:$8)<=COUNTIF(joueurs,$B129),INDEX(bontirs,SMALL(IF(joueurs=$B129,ROW(INDIRECT(\"1:\"&ROWS(bontirs)))),ROWS($1:$8))),\"\")","v":0},{"$f":"IF(ROWS($1:$9)<=COUNTIF(joueurs,$B129),INDEX(bontirs,SMALL(IF(joueurs=$B129,ROW(INDIRECT(\"1:\"&ROWS(bontirs)))),ROWS($1:$9))),\"\")","v":0},{"$f":"IF(ROWS($1:$10)<=COUNTIF(joueurs,$B129),INDEX(bontirs,SMALL(IF(joueurs=$B129,ROW(INDIRECT(\"1:\"&ROWS(bontirs)))),ROWS($1:$10))),\"\")","v":0},{"$f":"IF(ROWS($1:$1)<=COUNTIF(joueurs,$B129),INDEX(points,SMALL(IF(joueurs=$B129,ROW(INDIRECT(\"1:\"&ROWS(points)))),ROWS($1:$1))),\"\")","v":0},{"$f":"IF(ROWS($1:$2)<=COUNTIF(joueurs,$B129),INDEX(points,SMALL(IF(joueurs=$B129,ROW(INDIRECT(\"1:\"&ROWS(points)))),ROWS($1:$2))),\"\")","v":0},{"$f":"IF(ROWS($1:$3)<=COUNTIF(joueurs,$B129),INDEX(points,SMALL(IF(joueurs=$B129,ROW(INDIRECT(\"1:\"&ROWS(points)))),ROWS($1:$3))),\"\")","v":0},{"$f":"IF(ROWS($1:$4)<=COUNTIF(joueurs,$B129),INDEX(points,SMALL(IF(joueurs=$B129,ROW(INDIRECT(\"1:\"&ROWS(points)))),ROWS($1:$4))),\"\")","v":0},{"$f":"IF(ROWS($1:$5)<=COUNTIF(joueurs,$B129),INDEX(points,SMALL(IF(joueurs=$B129,ROW(INDIRECT(\"1:\"&ROWS(points)))),ROWS($1:$5))),\"\")","v":0},{"$f":"IF(ROWS($1:$6)<=COUNTIF(joueurs,$B129),INDEX(points,SMALL(IF(joueurs=$B129,ROW(INDIRECT(\"1:\"&ROWS(points)))),ROWS($1:$6))),\"\")","v":0},{"$f":"IF(ROWS($1:$7)<=COUNTIF(joueurs,$B129),INDEX(points,SMALL(IF(joueurs=$B129,ROW(INDIRECT(\"1:\"&ROWS(points)))),ROWS($1:$7))),\"\")","v":0},{"$f":"IF(ROWS($1:$8)<=COUNTIF(joueurs,$B129),INDEX(points,SMALL(IF(joueurs=$B129,ROW(INDIRECT(\"1:\"&ROWS(points)))),ROWS($1:$8))),\"\")","v":0},{"$f":"IF(ROWS($1:$9)<=COUNTIF(joueurs,$B129),INDEX(points,SMALL(IF(joueurs=$B129,ROW(INDIRECT(\"1:\"&ROWS(points)))),ROWS($1:$9))),\"\")","v":0},{"$f":"IF(ROWS($1:$10)<=COUNTIF(joueurs,$B129),INDEX(points,SMALL(IF(joueurs=$B129,ROW(INDIRECT(\"1:\"&ROWS(points)))),ROWS($1:$10))),\"\")","v":0},{"$f":"IF(ROWS($1:$1)<=COUNTIF(joueurs,$B129),INDEX(victoires,SMALL(IF(joueurs=$B129,ROW(INDIRECT(\"1:\"&ROWS(victoires)))),ROWS($1:$1))),\"\")","v":0},{"$f":"IF(ROWS($1:$2)<=COUNTIF(joueurs,$B129),INDEX(victoires,SMALL(IF(joueurs=$B129,ROW(INDIRECT(\"1:\"&ROWS(victoires)))),ROWS($1:$2))),\"\")","v":0},{"$f":"IF(ROWS($1:$3)<=COUNTIF(joueurs,$B129),INDEX(victoires,SMALL(IF(joueurs=$B129,ROW(INDIRECT(\"1:\"&ROWS(victoires)))),ROWS($1:$3))),\"\")","v":0},{"$f":"IF(ROWS($1:$4)<=COUNTIF(joueurs,$B129),INDEX(victoires,SMALL(IF(joueurs=$B129,ROW(INDIRECT(\"1:\"&ROWS(victoires)))),ROWS($1:$4))),\"\")","v":0},{"$f":"IF(ROWS($1:$5)<=COUNTIF(joueurs,$B129),INDEX(victoires,SMALL(IF(joueurs=$B129,ROW(INDIRECT(\"1:\"&ROWS(victoires)))),ROWS($1:$5))),\"\")","v":0},{"$f":"IF(ROWS($1:$6)<=COUNTIF(joueurs,$B129),INDEX(victoires,SMALL(IF(joueurs=$B129,ROW(INDIRECT(\"1:\"&ROWS(victoires)))),ROWS($1:$6))),\"\")","v":0},{"$f":"IF(ROWS($1:$7)<=COUNTIF(joueurs,$B129),INDEX(victoires,SMALL(IF(joueurs=$B129,ROW(INDIRECT(\"1:\"&ROWS(victoires)))),ROWS($1:$7))),\"\")","v":0},{"$f":"IF(ROWS($1:$8)<=COUNTIF(joueurs,$B129),INDEX(victoires,SMALL(IF(joueurs=$B129,ROW(INDIRECT(\"1:\"&ROWS(victoires)))),ROWS($1:$8))),\"\")","v":0},{"$f":"IF(ROWS($1:$9)<=COUNTIF(joueurs,$B129),INDEX(victoires,SMALL(IF(joueurs=$B129,ROW(INDIRECT(\"1:\"&ROWS(victoires)))),ROWS($1:$9))),\"\")","v":0},{"$f":"IF(ROWS($1:$10)<=COUNTIF(joueurs,$B129),INDEX(victoires,SMALL(IF(joueurs=$B129,ROW(INDIRECT(\"1:\"&ROWS(victoires)))),ROWS($1:$10))),\"\")","v":0}]
[null,null,null,{"$f":"IF(ROWS($1:$11)<=COUNTIF(joueurs,$B129),INDEX(fautes,SMALL(IF(joueurs=$B129,ROW(INDIRECT(\"1:\"&ROWS(fautes)))),ROWS($1:$11))),\"\")","v":0},{"$f":"IF(ROWS($1:$12)<=COUNTIF(joueurs,$B129),INDEX(fautes,SMALL(IF(joueurs=$B129,ROW(INDIRECT(\"1:\"&ROWS(fautes)))),ROWS($1:$12))),\"\")","v":0},{"$f":"IF(ROWS($1:$13)<=COUNTIF(joueurs,$B129),INDEX(fautes,SMALL(IF(joueurs=$B129,ROW(INDIRECT(\"1:\"&ROWS(fautes)))),ROWS($1:$13))),\"\")","v":0},{"$f":"IF(ROWS($1:$14)<=COUNTIF(joueurs,$B129),INDEX(fautes,SMALL(IF(joueurs=$B129,ROW(INDIRECT(\"1:\"&ROWS(fautes)))),ROWS($1:$14))),\"\")","v":0},{"$f":"IF(ROWS($1:$15)<=COUNTIF(joueurs,$B129),INDEX(fautes,SMALL(IF(joueurs=$B129,ROW(INDIRECT(\"1:\"&ROWS(fautes)))),ROWS($1:$15))),\"\")","v":0},{"$f":"IF(ROWS($1:$16)<=COUNTIF(joueurs,$B129),INDEX(fautes,SMALL(IF(joueurs=$B129,ROW(INDIRECT(\"1:\"&ROWS(fautes)))),ROWS($1:$16))),\"\")","v":0},{"$f":"IF(ROWS($1:$17)<=COUNTIF(joueurs,$B129),INDEX(fautes,SMALL(IF(joueurs=$B129,ROW(INDIRECT(\"1:\"&ROWS(fautes)))),ROWS($1:$17))),\"\")","v":0},{"$f":"IF(ROWS($1:$18)<=COUNTIF(joueurs,$B129),INDEX(fautes,SMALL(IF(joueurs=$B129,ROW(INDIRECT(\"1:\"&ROWS(fautes)))),ROWS($1:$18))),\"\")","v":0},{"$f":"IF(ROWS($1:$19)<=COUNTIF(joueurs,$B129),INDEX(fautes,SMALL(IF(joueurs=$B129,ROW(INDIRECT(\"1:\"&ROWS(fautes)))),ROWS($1:$19))),\"\")","v":0},{"$f":"IF(ROWS($1:$20)<=COUNTIF(joueurs,$B129),INDEX(fautes,SMALL(IF(joueurs=$B129,ROW(INDIRECT(\"1:\"&ROWS(fautes)))),ROWS($1:$20))),\"\")","v":0},{"$f":"IF(ROWS($1:$11)<=COUNTIF(joueurs,$B129),INDEX(ballonperdus,SMALL(IF(joueurs=$B129,ROW(INDIRECT(\"1:\"&ROWS(ballonperdus)))),ROWS($1:$11))),\"\")","v":0},{"$f":"IF(ROWS($1:$12)<=COUNTIF(joueurs,$B129),INDEX(ballonperdus,SMALL(IF(joueurs=$B129,ROW(INDIRECT(\"1:\"&ROWS(ballonperdus)))),ROWS($1:$12))),\"\")","v":0},{"$f":"IF(ROWS($1:$13)<=COUNTIF(joueurs,$B129),INDEX(ballonperdus,SMALL(IF(joueurs=$B129,ROW(INDIRECT(\"1:\"&ROWS(ballonperdus)))),ROWS($1:$13))),\"\")","v":0},{"$f":"IF(ROWS($1:$14)<=COUNTIF(joueurs,$B129),INDEX(ballonperdus,SMALL(IF(joueurs=$B129,ROW(INDIRECT(\"1:\"&ROWS(ballonperdus)))),ROWS($1:$14))),\"\")","v":0},{"$f":"IF(ROWS($1:$15)<=COUNTIF(joueurs,$B129),INDEX(ballonperdus,SMALL(IF(joueurs=$B129,ROW(INDIRECT(\"1:\"&ROWS(ballonperdus)))),ROWS($1:$15))),\"\")","v":0},{"$f":"IF(ROWS($1:$16)<=COUNTIF(joueurs,$B129),INDEX(ballonperdus,SMALL(IF(joueurs=$B129,ROW(INDIRECT(\"1:\"&ROWS(ballonperdus)))),ROWS($1:$16))),\"\")","v":0},{"$f":"IF(ROWS($1:$17)<=COUNTIF(joueurs,$B129),INDEX(ballonperdus,SMALL(IF(joueurs=$B129,ROW(INDIRECT(\"1:\"&ROWS(ballonperdus)))),ROWS($1:$17))),\"\")","v":0},{"$f":"IF(ROWS($1:$18)<=COUNTIF(joueurs,$B129),INDEX(ballonperdus,SMALL(IF(joueurs=$B129,ROW(INDIRECT(\"1:\"&ROWS(ballonperdus)))),ROWS($1:$18))),\"\")","v":0},{"$f":"IF(ROWS($1:$19)<=COUNTIF(joueurs,$B129),INDEX(ballonperdus,SMALL(IF(joueurs=$B129,ROW(INDIRECT(\"1:\"&ROWS(ballonperdus)))),ROWS($1:$19))),\"\")","v":0},{"$f":"IF(ROWS($1:$20)<=COUNTIF(joueurs,$B129),INDEX(fautes,SMALL(IF(joueurs=$B129,ROW(INDIRECT(\"1:\"&ROWS(ballonperdus)))),ROWS($1:$20))),\"\")","v":0},{"$f":"IF(ROWS($1:$11)<=COUNTIF(joueurs,$B129),INDEX(interceptions,SMALL(IF(joueurs=$B129,ROW(INDIRECT(\"1:\"&ROWS(interceptions)))),ROWS($1:$11))),\"\")","v":0},{"$f":"IF(ROWS($1:$12)<=COUNTIF(joueurs,$B129),INDEX(interceptions,SMALL(IF(joueurs=$B129,ROW(INDIRECT(\"1:\"&ROWS(interceptions)))),ROWS($1:$12))),\"\")","v":0},{"$f":"IF(ROWS($1:$13)<=COUNTIF(joueurs,$B129),INDEX(interceptions,SMALL(IF(joueurs=$B129,ROW(INDIRECT(\"1:\"&ROWS(interceptions)))),ROWS($1:$13))),\"\")","v":0},{"$f":"IF(ROWS($1:$14)<=COUNTIF(joueurs,$B129),INDEX(interceptions,SMALL(IF(joueurs=$B129,ROW(INDIRECT(\"1:\"&ROWS(interceptions)))),ROWS($1:$14))),\"\")","v":0},{"$f":"IF(ROWS($1:$15)<=COUNTIF(joueurs,$B129),INDEX(interceptions,SMALL(IF(joueurs=$B129,ROW(INDIRECT(\"1:\"&ROWS(interceptions)))),ROWS($1:$15))),\"\")","v":0},{"$f":"IF(ROWS($1:$16)<=COUNTIF(joueurs,$B129),INDEX(interceptions,SMALL(IF(joueurs=$B129,ROW(INDIRECT(\"1:\"&ROWS(interceptions)))),ROWS($1:$16))),\"\")","v":0},{"$f":"IF(ROWS($1:$17)<=COUNTIF(joueurs,$B129),INDEX(interceptions,SMALL(IF(joueurs=$B129,ROW(INDIRECT(\"1:\"&ROWS(interceptions)))),ROWS($1:$17))),\"\")","v":0},{"$f":"IF(ROWS($1:$18)<=COUNTIF(joueurs,$B129),INDEX(interceptions,SMALL(IF(joueurs=$B129,ROW(INDIRECT(\"1:\"&ROWS(interceptions)))),ROWS($1:$18))),\"\")","v":0},{"$f":"IF(ROWS($1:$19)<=COUNTIF(joueurs,$B129),INDEX(interceptions,SMALL(IF(joueurs=$B129,ROW(INDIRECT(\"1:\"&ROWS(interceptions)))),ROWS($1:$19))),\"\")","v":0},{"$f":"IF(ROWS($1:$20)<=COUNTIF(joueurs,$B129),INDEX(interceptions,SMALL(IF(joueurs=$B129,ROW(INDIRECT(\"1:\"&ROWS(interceptions)))),ROWS($1:$20))),\"\")","v":0},{"$f":"IF(ROWS($1:$11)<=COUNTIF(joueurs,$B129),INDEX(ballonrecuperes,SMALL(IF(joueurs=$B129,ROW(INDIRECT(\"1:\"&ROWS(ballonrecuperes)))),ROWS($1:$11))),\"\")","v":0},{"$f":"IF(ROWS($1:$12)<=COUNTIF(joueurs,$B129),INDEX(ballonrecuperes,SMALL(IF(joueurs=$B129,ROW(INDIRECT(\"1:\"&ROWS(ballonrecuperes)))),ROWS($1:$12))),\"\")","v":0},{"$f":"IF(ROWS($1:$13)<=COUNTIF(joueurs,$B129),INDEX(ballonrecuperes,SMALL(IF(joueurs=$B129,ROW(INDIRECT(\"1:\"&ROWS(ballonrecuperes)))),ROWS($1:$13))),\"\")","v":0},{"$f":"IF(ROWS($1:$14)<=COUNTIF(joueurs,$B129),INDEX(ballonrecuperes,SMALL(IF(joueurs=$B129,ROW(INDIRECT(\"1:\"&ROWS(ballonrecuperes)))),ROWS($1:$14))),\"\")","v":0},{"$f":"IF(ROWS($1:$15)<=COUNTIF(joueurs,$B129),INDEX(ballonrecuperes,SMALL(IF(joueurs=$B129,ROW(INDIRECT(\"1:\"&ROWS(ballonrecuperes)))),ROWS($1:$15))),\"\")","v":0},{"$f":"IF(ROWS($1:$16)<=COUNTIF(joueurs,$B129),INDEX(ballonrecuperes,SMALL(IF(joueurs=$B129,ROW(INDIRECT(\"1:\"&ROWS(ballonrecuperes)))),ROWS($1:$16))),\"\")","v":0},{"$f":"IF(ROWS($1:$17)<=COUNTIF(joueurs,$B129),INDEX(ballonrecuperes,SMALL(IF(joueurs=$B129,ROW(INDIRECT(\"1:\"&ROWS(ballonrecuperes)))),ROWS($1:$17))),\"\")","v":0},{"$f":"IF(ROWS($1:$18)<=COUNTIF(joueurs,$B129),INDEX(ballonrecuperes,SMALL(IF(joueurs=$B129,ROW(INDIRECT(\"1:\"&ROWS(ballonrecuperes)))),ROWS($1:$18))),\"\")","v":0},{"$f":"IF(ROWS($1:$19)<=COUNTIF(joueurs,$B129),INDEX(ballonrecuperes,SMALL(IF(joueurs=$B129,ROW(INDIRECT(\"1:\"&ROWS(ballonrecuperes)))),ROWS($1:$19))),\"\")","v":0},{"$f":"IF(ROWS($1:$20)<=COUNTIF(joueurs,$B129),INDEX(ballonrecuperes,SMALL(IF(joueurs=$B129,ROW(INDIRECT(\"1:\"&ROWS(ballonrecuperes)))),ROWS($1:$20))),\"\")","v":0},{"$f":"IF(ROWS($1:$11)<=COUNTIF(joueurs,$B129),INDEX(tirs,SMALL(IF(joueurs=$B129,ROW(INDIRECT(\"1:\"&ROWS(tirs)))),ROWS($1:$11))),\"\")","v":0},{"$f":"IF(ROWS($1:$12)<=COUNTIF(joueurs,$B129),INDEX(tirs,SMALL(IF(joueurs=$B129,ROW(INDIRECT(\"1:\"&ROWS(tirs)))),ROWS($1:$12))),\"\")","v":0},{"$f":"IF(ROWS($1:$13)<=COUNTIF(joueurs,$B129),INDEX(tirs,SMALL(IF(joueurs=$B129,ROW(INDIRECT(\"1:\"&ROWS(tirs)))),ROWS($1:$13))),\"\")","v":0},{"$f":"IF(ROWS($1:$14)<=COUNTIF(joueurs,$B129),INDEX(tirs,SMALL(IF(joueurs=$B129,ROW(INDIRECT(\"1:\"&ROWS(tirs)))),ROWS($1:$14))),\"\")","v":0},{"$f":"IF(ROWS($1:$15)<=COUNTIF(joueurs,$B129),INDEX(tirs,SMALL(IF(joueurs=$B129,ROW(INDIRECT(\"1:\"&ROWS(tirs)))),ROWS($1:$15))),\"\")","v":0},{"$f":"IF(ROWS($1:$16)<=COUNTIF(joueurs,$B129),INDEX(tirs,SMALL(IF(joueurs=$B129,ROW(INDIRECT(\"1:\"&ROWS(tirs)))),ROWS($1:$16))),\"\")","v":0},{"$f":"IF(ROWS($1:$17)<=COUNTIF(joueurs,$B129),INDEX(tirs,SMALL(IF(joueurs=$B129,ROW(INDIRECT(\"1:\"&ROWS(tirs)))),ROWS($1:$17))),\"\")","v":0},{"$f":"IF(ROWS($1:$18)<=COUNTIF(joueurs,$B129),INDEX(tirs,SMALL(IF(joueurs=$B129,ROW(INDIRECT(\"1:\"&ROWS(tirs)))),ROWS($1:$18))),\"\")","v":0},{"$f":"IF(ROWS($1:$19)<=COUNTIF(joueurs,$B129),INDEX(tirs,SMALL(IF(joueurs=$B129,ROW(INDIRECT(\"1:\"&ROWS(tirs)))),ROWS($1:$19))),\"\")","v":0},{"$f":"IF(ROWS($1:$20)<=COUNTIF(joueurs,$B129),INDEX(tirs,SMALL(IF(joueurs=$B129,ROW(INDIRECT(\"1:\"&ROWS(tirs)))),ROWS($1:$20))),\"\")","v":0},{"$f":"IF(ROWS($1:$11)<=COUNTIF(joueurs,$B129),INDEX(bontirs,SMALL(IF(joueurs=$B129,ROW(INDIRECT(\"1:\"&ROWS(bontirs)))),ROWS($1:$11))),\"\")","v":0},{"$f":"IF(ROWS($1:$12)<=COUNTIF(joueurs,$B129),INDEX(bontirs,SMALL(IF(joueurs=$B129,ROW(INDIRECT(\"1:\"&ROWS(bontirs)))),ROWS($1:$12))),\"\")","v":0},{"$f":"IF(ROWS($1:$13)<=COUNTIF(joueurs,$B129),INDEX(bontirs,SMALL(IF(joueurs=$B129,ROW(INDIRECT(\"1:\"&ROWS(bontirs)))),ROWS($1:$13))),\"\")","v":0},{"$f":"IF(ROWS($1:$14)<=COUNTIF(joueurs,$B129),INDEX(bontirs,SMALL(IF(joueurs=$B129,ROW(INDIRECT(\"1:\"&ROWS(bontirs)))),ROWS($1:$14))),\"\")","v":0},{"$f":"IF(ROWS($1:$15)<=COUNTIF(joueurs,$B129),INDEX(bontirs,SMALL(IF(joueurs=$B129,ROW(INDIRECT(\"1:\"&ROWS(bontirs)))),ROWS($1:$15))),\"\")","v":0},{"$f":"IF(ROWS($1:$16)<=COUNTIF(joueurs,$B129),INDEX(bontirs,SMALL(IF(joueurs=$B129,ROW(INDIRECT(\"1:\"&ROWS(bontirs)))),ROWS($1:$16))),\"\")","v":0},{"$f":"IF(ROWS($1:$17)<=COUNTIF(joueurs,$B129),INDEX(bontirs,SMALL(IF(joueurs=$B129,ROW(INDIRECT(\"1:\"&ROWS(bontirs)))),ROWS($1:$17))),\"\")","v":0},{"$f":"IF(ROWS($1:$18)<=COUNTIF(joueurs,$B129),INDEX(bontirs,SMALL(IF(joueurs=$B129,ROW(INDIRECT(\"1:\"&ROWS(bontirs)))),ROWS($1:$18))),\"\")","v":0},{"$f":"IF(ROWS($1:$19)<=COUNTIF(joueurs,$B129),INDEX(bontirs,SMALL(IF(joueurs=$B129,ROW(INDIRECT(\"1:\"&ROWS(bontirs)))),ROWS($1:$19))),\"\")","v":0},{"$f":"IF(ROWS($1:$20)<=COUNTIF(joueurs,$B129),INDEX(bontirs,SMALL(IF(joueurs=$B129,ROW(INDIRECT(\"1:\"&ROWS(bontirs)))),ROWS($1:$20))),\"\")","v":0},{"$f":"IF(ROWS($1:$11)<=COUNTIF(joueurs,$B129),INDEX(points,SMALL(IF(joueurs=$B129,ROW(INDIRECT(\"1:\"&ROWS(points)))),ROWS($1:$11))),\"\")","v":0},{"$f":"IF(ROWS($1:$12)<=COUNTIF(joueurs,$B129),INDEX(points,SMALL(IF(joueurs=$B129,ROW(INDIRECT(\"1:\"&ROWS(points)))),ROWS($1:$12))),\"\")","v":0},{"$f":"IF(ROWS($1:$13)<=COUNTIF(joueurs,$B129),INDEX(points,SMALL(IF(joueurs=$B129,ROW(INDIRECT(\"1:\"&ROWS(points)))),ROWS($1:$13))),\"\")","v":0},{"$f":"IF(ROWS($1:$14)<=COUNTIF(joueurs,$B129),INDEX(points,SMALL(IF(joueurs=$B129,ROW(INDIRECT(\"1:\"&ROWS(points)))),ROWS($1:$14))),\"\")","v":0},{"$f":"IF(ROWS($1:$15)<=COUNTIF(joueurs,$B129),INDEX(points,SMALL(IF(joueurs=$B129,ROW(INDIRECT(\"1:\"&ROWS(points)))),ROWS($1:$15))),\"\")","v":0},{"$f":"IF(ROWS($1:$16)<=COUNTIF(joueurs,$B129),INDEX(points,SMALL(IF(joueurs=$B129,ROW(INDIRECT(\"1:\"&ROWS(points)))),ROWS($1:$16))),\"\")","v":0},{"$f":"IF(ROWS($1:$17)<=COUNTIF(joueurs,$B129),INDEX(points,SMALL(IF(joueurs=$B129,ROW(INDIRECT(\"1:\"&ROWS(points)))),ROWS($1:$17))),\"\")","v":0},{"$f":"IF(ROWS($1:$18)<=COUNTIF(joueurs,$B129),INDEX(points,SMALL(IF(joueurs=$B129,ROW(INDIRECT(\"1:\"&ROWS(points)))),ROWS($1:$18))),\"\")","v":0},{"$f":"IF(ROWS($1:$19)<=COUNTIF(joueurs,$B129),INDEX(points,SMALL(IF(joueurs=$B129,ROW(INDIRECT(\"1:\"&ROWS(points)))),ROWS($1:$19))),\"\")","v":0},{"$f":"IF(ROWS($1:$20)<=COUNTIF(points,$B129),INDEX(fautes,SMALL(IF(joueurs=$B129,ROW(INDIRECT(\"1:\"&ROWS(points)))),ROWS($1:$20))),\"\")","v":0},{"$f":"IF(ROWS($1:$11)<=COUNTIF(joueurs,$B129),INDEX(victoires,SMALL(IF(joueurs=$B129,ROW(INDIRECT(\"1:\"&ROWS(victoires)))),ROWS($1:$11))),\"\")","v":0},{"$f":"IF(ROWS($1:$12)<=COUNTIF(joueurs,$B129),INDEX(victoires,SMALL(IF(joueurs=$B129,ROW(INDIRECT(\"1:\"&ROWS(victoires)))),ROWS($1:$12))),\"\")","v":0},{"$f":"IF(ROWS($1:$13)<=COUNTIF(joueurs,$B129),INDEX(victoires,SMALL(IF(joueurs=$B129,ROW(INDIRECT(\"1:\"&ROWS(victoires)))),ROWS($1:$13))),\"\")","v":0},{"$f":"IF(ROWS($1:$14)<=COUNTIF(joueurs,$B129),INDEX(victoires,SMALL(IF(joueurs=$B129,ROW(INDIRECT(\"1:\"&ROWS(victoires)))),ROWS($1:$14))),\"\")","v":0},{"$f":"IF(ROWS($1:$15)<=COUNTIF(joueurs,$B129),INDEX(victoires,SMALL(IF(joueurs=$B129,ROW(INDIRECT(\"1:\"&ROWS(victoires)))),ROWS($1:$15))),\"\")","v":0},{"$f":"IF(ROWS($1:$16)<=COUNTIF(joueurs,$B129),INDEX(victoires,SMALL(IF(joueurs=$B129,ROW(INDIRECT(\"1:\"&ROWS(victoires)))),ROWS($1:$16))),\"\")","v":0},{"$f":"IF(ROWS($1:$17)<=COUNTIF(joueurs,$B129),INDEX(victoires,SMALL(IF(joueurs=$B129,ROW(INDIRECT(\"1:\"&ROWS(victoires)))),ROWS($1:$17))),\"\")","v":0},{"$f":"IF(ROWS($1:$18)<=COUNTIF(joueurs,$B129),INDEX(victoires,SMALL(IF(joueurs=$B129,ROW(INDIRECT(\"1:\"&ROWS(victoires)))),ROWS($1:$18))),\"\")","v":0},{"$f":"IF(ROWS($1:$19)<=COUNTIF(joueurs,$B129),INDEX(victoires,SMALL(IF(joueurs=$B129,ROW(INDIRECT(\"1:\"&ROWS(victoires)))),ROWS($1:$19))),\"\")","v":0},{"$f":"IF(ROWS($1:$20)<=COUNTIF(joueurs,$B129),INDEX(victoires,SMALL(IF(joueurs=$B129,ROW(INDIRECT(\"1:\"&ROWS(victoires)))),ROWS($1:$20))),\"\")","v":0}]
[null,null,null,{"$f":"IF(ROWS($1:$21)<=COUNTIF(joueurs,$B129),INDEX(fautes,SMALL(IF(joueurs=$B129,ROW(INDIRECT(\"1:\"&ROWS(fautes)))),ROWS($1:$21))),\"\")","v":0},{"$f":"IF(ROWS($1:$22)<=COUNTIF(joueurs,$B129),INDEX(fautes,SMALL(IF(joueurs=$B129,ROW(INDIRECT(\"1:\"&ROWS(fautes)))),ROWS($1:$22))),\"\")","v":0},{"$f":"IF(ROWS($1:$23)<=COUNTIF(joueurs,$B129),INDEX(fautes,SMALL(IF(joueurs=$B129,ROW(INDIRECT(\"1:\"&ROWS(fautes)))),ROWS($1:$23))),\"\")","v":0},{"$f":"IF(ROWS($1:$24)<=COUNTIF(joueurs,$B129),INDEX(fautes,SMALL(IF(joueurs=$B129,ROW(INDIRECT(\"1:\"&ROWS(fautes)))),ROWS($1:$24))),\"\")","v":0},{"$f":"IF(ROWS($1:$25)<=COUNTIF(joueurs,$B129),INDEX(fautes,SMALL(IF(joueurs=$B129,ROW(INDIRECT(\"1:\"&ROWS(fautes)))),ROWS($1:$25))),\"\")","v":0},{"$f":"IF(ROWS($1:$26)<=COUNTIF(joueurs,$B129),INDEX(fautes,SMALL(IF(joueurs=$B129,ROW(INDIRECT(\"1:\"&ROWS(fautes)))),ROWS($1:$26))),\"\")","v":0},{"$f":"IF(ROWS($1:$27)<=COUNTIF(joueurs,$B129),INDEX(fautes,SMALL(IF(joueurs=$B129,ROW(INDIRECT(\"1:\"&ROWS(fautes)))),ROWS($1:$27))),\"\")","v":0},{"$f":"IF(ROWS($1:$28)<=COUNTIF(joueurs,$B129),INDEX(fautes,SMALL(IF(joueurs=$B129,ROW(INDIRECT(\"1:\"&ROWS(fautes)))),ROWS($1:$28))),\"\")","v":0},{"$f":"IF(ROWS($1:$29)<=COUNTIF(joueurs,$B129),INDEX(fautes,SMALL(IF(joueurs=$B129,ROW(INDIRECT(\"1:\"&ROWS(fautes)))),ROWS($1:$29))),\"\")","v":0},{"$f":"IF(ROWS($1:$30)<=COUNTIF(joueurs,$B129),INDEX(fautes,SMALL(IF(joueurs=$B129,ROW(INDIRECT(\"1:\"&ROWS(fautes)))),ROWS($1:$30))),\"\")","v":0},{"$f":"IF(ROWS($1:$21)<=COUNTIF(joueurs,$B129),INDEX(ballonperdus,SMALL(IF(joueurs=$B129,ROW(INDIRECT(\"1:\"&ROWS(ballonperdus)))),ROWS($1:$21))),\"\")","v":0},{"$f":"IF(ROWS($1:$22)<=COUNTIF(joueurs,$B129),INDEX(ballonperdus,SMALL(IF(joueurs=$B129,ROW(INDIRECT(\"1:\"&ROWS(ballonperdus)))),ROWS($1:$22))),\"\")","v":0},{"$f":"IF(ROWS($1:$23)<=COUNTIF(joueurs,$B129),INDEX(ballonperdus,SMALL(IF(joueurs=$B129,ROW(INDIRECT(\"1:\"&ROWS(ballonperdus)))),ROWS($1:$23))),\"\")","v":0},{"$f":"IF(ROWS($1:$24)<=COUNTIF(joueurs,$B129),INDEX(ballonperdus,SMALL(IF(joueurs=$B129,ROW(INDIRECT(\"1:\"&ROWS(ballonperdus)))),ROWS($1:$24))),\"\")","v":0},{"$f":"IF(ROWS($1:$25)<=COUNTIF(joueurs,$B129),INDEX(ballonperdus,SMALL(IF(joueurs=$B129,ROW(INDIRECT(\"1:\"&ROWS(ballonperdus)))),ROWS($1:$25))),\"\")","v":0},{"$f":"IF(ROWS($1:$26)<=COUNTIF(joueurs,$B129),INDEX(ballonperdus,SMALL(IF(joueurs=$B129,ROW(INDIRECT(\"1:\"&ROWS(ballonperdus)))),ROWS($1:$26))),\"\")","v":0},{"$f":"IF(ROWS($1:$27)<=COUNTIF(joueurs,$B129),INDEX(ballonperdus,SMALL(IF(joueurs=$B129,ROW(INDIRECT(\"1:\"&ROWS(ballonperdus)))),ROWS($1:$27))),\"\")","v":0},{"$f":"IF(ROWS($1:$28)<=COUNTIF(joueurs,$B129),INDEX(ballonperdus,SMALL(IF(joueurs=$B129,ROW(INDIRECT(\"1:\"&ROWS(ballonperdus)))),ROWS($1:$28))),\"\")","v":0},{"$f":"IF(ROWS($1:$29)<=COUNTIF(joueurs,$B129),INDEX(ballonperdus,SMALL(IF(joueurs=$B129,ROW(INDIRECT(\"1:\"&ROWS(ballonperdus)))),ROWS($1:$29))),\"\")","v":0},{"$f":"IF(ROWS($1:$30)<=COUNTIF(joueurs,$B129),INDEX(ballonperdus,SMALL(IF(joueurs=$B129,ROW(INDIRECT(\"1:\"&ROWS(ballonperdus)))),ROWS($1:$30))),\"\")","v":0},{"$f":"IF(ROWS($1:$21)<=COUNTIF(joueurs,$B129),INDEX(interceptions,SMALL(IF(joueurs=$B129,ROW(INDIRECT(\"1:\"&ROWS(interceptions)))),ROWS($1:$21))),\"\")","v":0},{"$f":"IF(ROWS($1:$22)<=COUNTIF(joueurs,$B129),INDEX(interceptions,SMALL(IF(joueurs=$B129,ROW(INDIRECT(\"1:\"&ROWS(interceptions)))),ROWS($1:$22))),\"\")","v":0},{"$f":"IF(ROWS($1:$23)<=COUNTIF(joueurs,$B129),INDEX(interceptions,SMALL(IF(joueurs=$B129,ROW(INDIRECT(\"1:\"&ROWS(interceptions)))),ROWS($1:$23))),\"\")","v":0},{"$f":"IF(ROWS($1:$24)<=COUNTIF(joueurs,$B129),INDEX(interceptions,SMALL(IF(joueurs=$B129,ROW(INDIRECT(\"1:\"&ROWS(interceptions)))),ROWS($1:$24))),\"\")","v":0},{"$f":"IF(ROWS($1:$25)<=COUNTIF(joueurs,$B129),INDEX(interceptions,SMALL(IF(joueurs=$B129,ROW(INDIRECT(\"1:\"&ROWS(interceptions)))),ROWS($1:$25))),\"\")","v":0},{"$f":"IF(ROWS($1:$26)<=COUNTIF(joueurs,$B129),INDEX(interceptions,SMALL(IF(joueurs=$B129,ROW(INDIRECT(\"1:\"&ROWS(interceptions)))),ROWS($1:$26))),\"\")","v":0},{"$f":"IF(ROWS($1:$27)<=COUNTIF(joueurs,$B129),INDEX(interceptions,SMALL(IF(joueurs=$B129,ROW(INDIRECT(\"1:\"&ROWS(interceptions)))),ROWS($1:$27))),\"\")","v":0},{"$f":"IF(ROWS($1:$28)<=COUNTIF(joueurs,$B129),INDEX(interceptions,SMALL(IF(joueurs=$B129,ROW(INDIRECT(\"1:\"&ROWS(interceptions)))),ROWS($1:$28))),\"\")","v":0},{"$f":"IF(ROWS($1:$29)<=COUNTIF(joueurs,$B129),INDEX(interceptions,SMALL(IF(joueurs=$B129,ROW(INDIRECT(\"1:\"&ROWS(interceptions)))),ROWS($1:$29))),\"\")","v":0},{"$f":"IF(ROWS($1:$30)<=COUNTIF(joueurs,$B129),INDEX(interceptions,SMALL(IF(joueurs=$B129,ROW(INDIRECT(\"1:\"&ROWS(interceptions)))),ROWS($1:$30))),\"\")","v":0},{"$f":"IF(ROWS($1:$21)<=COUNTIF(joueurs,$B129),INDEX(ballonrecuperes,SMALL(IF(joueurs=$B129,ROW(INDIRECT(\"1:\"&ROWS(ballonrecuperes)))),ROWS($1:$21))),\"\")","v":0},{"$f":"IF(ROWS($1:$22)<=COUNTIF(joueurs,$B129),INDEX(ballonrecuperes,SMALL(IF(joueurs=$B129,ROW(INDIRECT(\"1:\"&ROWS(ballonrecuperes)))),ROWS($1:$22))),\"\")","v":0},{"$f":"IF(ROWS($1:$23)<=COUNTIF(joueurs,$B129),INDEX(ballonrecuperes,SMALL(IF(joueurs=$B129,ROW(INDIRECT(\"1:\"&ROWS(ballonrecuperes)))),ROWS($1:$23))),\"\")","v":0},{"$f":"IF(ROWS($1:$24)<=COUNTIF(joueurs,$B129),INDEX(ballonrecuperes,SMALL(IF(joueurs=$B129,ROW(INDIRECT(\"1:\"&ROWS(ballonrecuperes)))),ROWS($1:$24))),\"\")","v":0},{"$f":"IF(ROWS($1:$25)<=COUNTIF(joueurs,$B129),INDEX(ballonrecuperes,SMALL(IF(joueurs=$B129,ROW(INDIRECT(\"1:\"&ROWS(ballonrecuperes)))),ROWS($1:$25))),\"\")","v":0},{"$f":"IF(ROWS($1:$26)<=COUNTIF(joueurs,$B129),INDEX(ballonrecuperes,SMALL(IF(joueurs=$B129,ROW(INDIRECT(\"1:\"&ROWS(ballonrecuperes)))),ROWS($1:$26))),\"\")","v":0},{"$f":"IF(ROWS($1:$27)<=COUNTIF(joueurs,$B129),INDEX(ballonrecuperes,SMALL(IF(joueurs=$B129,ROW(INDIRECT(\"1:\"&ROWS(ballonrecuperes)))),ROWS($1:$27))),\"\")","v":0},{"$f":"IF(ROWS($1:$28)<=COUNTIF(joueurs,$B129),INDEX(ballonrecuperes,SMALL(IF(joueurs=$B129,ROW(INDIRECT(\"1:\"&ROWS(ballonrecuperes)))),ROWS($1:$28))),\"\")","v":0},{"$f":"IF(ROWS($1:$29)<=COUNTIF(joueurs,$B129),INDEX(ballonrecuperes,SMALL(IF(joueurs=$B129,ROW(INDIRECT(\"1:\"&ROWS(ballonrecuperes)))),ROWS($1:$29))),\"\")","v":0},{"$f":"IF(ROWS($1:$30)<=COUNTIF(joueurs,$B129),INDEX(ballonrecuperes,SMALL(IF(joueurs=$B129,ROW(INDIRECT(\"1:\"&ROWS(ballonrecuperes)))),ROWS($1:$30))),\"\")","v":0},{"$f":"IF(ROWS($1:$21)<=COUNTIF(joueurs,$B129),INDEX(tirs,SMALL(IF(joueurs=$B129,ROW(INDIRECT(\"1:\"&ROWS(tirs)))),ROWS($1:$21))),\"\")","v":0},{"$f":"IF(ROWS($1:$22)<=COUNTIF(joueurs,$B129),INDEX(tirs,SMALL(IF(joueurs=$B129,ROW(INDIRECT(\"1:\"&ROWS(tirs)))),ROWS($1:$22))),\"\")","v":0},{"$f":"IF(ROWS($1:$23)<=COUNTIF(joueurs,$B129),INDEX(tirs,SMALL(IF(joueurs=$B129,ROW(INDIRECT(\"1:\"&ROWS(tirs)))),ROWS($1:$23))),\"\")","v":0},{"$f":"IF(ROWS($1:$24)<=COUNTIF(joueurs,$B129),INDEX(tirs,SMALL(IF(joueurs=$B129,ROW(INDIRECT(\"1:\"&ROWS(tirs)))),ROWS($1:$24))),\"\")","v":0},{"$f":"IF(ROWS($1:$25)<=COUNTIF(joueurs,$B129),INDEX(tirs,SMALL(IF(joueurs=$B129,ROW(INDIRECT(\"1:\"&ROWS(tirs)))),ROWS($1:$25))),\"\")","v":0},{"$f":"IF(ROWS($1:$26)<=COUNTIF(joueurs,$B129),INDEX(tirs,SMALL(IF(joueurs=$B129,ROW(INDIRECT(\"1:\"&ROWS(tirs)))),ROWS($1:$26))),\"\")","v":0},{"$f":"IF(ROWS($1:$27)<=COUNTIF(joueurs,$B129),INDEX(tirs,SMALL(IF(joueurs=$B129,ROW(INDIRECT(\"1:\"&ROWS(tirs)))),ROWS($1:$27))),\"\")","v":0},{"$f":"IF(ROWS($1:$28)<=COUNTIF(joueurs,$B129),INDEX(tirs,SMALL(IF(joueurs=$B129,ROW(INDIRECT(\"1:\"&ROWS(tirs)))),ROWS($1:$28))),\"\")","v":0},{"$f":"IF(ROWS($1:$29)<=COUNTIF(joueurs,$B129),INDEX(tirs,SMALL(IF(joueurs=$B129,ROW(INDIRECT(\"1:\"&ROWS(tirs)))),ROWS($1:$29))),\"\")","v":0},{"$f":"IF(ROWS($1:$30)<=COUNTIF(joueurs,$B129),INDEX(tirs,SMALL(IF(joueurs=$B129,ROW(INDIRECT(\"1:\"&ROWS(tirs)))),ROWS($1:$30))),\"\")","v":0},{"$f":"IF(ROWS($1:$21)<=COUNTIF(joueurs,$B129),INDEX(bontirs,SMALL(IF(joueurs=$B129,ROW(INDIRECT(\"1:\"&ROWS(bontirs)))),ROWS($1:$21))),\"\")","v":0},{"$f":"IF(ROWS($1:$22)<=COUNTIF(joueurs,$B129),INDEX(bontirs,SMALL(IF(joueurs=$B129,ROW(INDIRECT(\"1:\"&ROWS(bontirs)))),ROWS($1:$22))),\"\")","v":0},{"$f":"IF(ROWS($1:$23)<=COUNTIF(joueurs,$B129),INDEX(bontirs,SMALL(IF(joueurs=$B129,ROW(INDIRECT(\"1:\"&ROWS(bontirs)))),ROWS($1:$23))),\"\")","v":0},{"$f":"IF(ROWS($1:$24)<=COUNTIF(joueurs,$B129),INDEX(bontirs,SMALL(IF(joueurs=$B129,ROW(INDIRECT(\"1:\"&ROWS(bontirs)))),ROWS($1:$24))),\"\")","v":0},{"$f":"IF(ROWS($1:$25)<=COUNTIF(joueurs,$B129),INDEX(bontirs,SMALL(IF(joueurs=$B129,ROW(INDIRECT(\"1:\"&ROWS(bontirs)))),ROWS($1:$25))),\"\")","v":0},{"$f":"IF(ROWS($1:$26)<=COUNTIF(joueurs,$B129),INDEX(bontirs,SMALL(IF(joueurs=$B129,ROW(INDIRECT(\"1:\"&ROWS(bontirs)))),ROWS($1:$26))),\"\")","v":0},{"$f":"IF(ROWS($1:$27)<=COUNTIF(joueurs,$B129),INDEX(bontirs,SMALL(IF(joueurs=$B129,ROW(INDIRECT(\"1:\"&ROWS(bontirs)))),ROWS($1:$27))),\"\")","v":0},{"$f":"IF(ROWS($1:$28)<=COUNTIF(joueurs,$B129),INDEX(bontirs,SMALL(IF(joueurs=$B129,ROW(INDIRECT(\"1:\"&ROWS(bontirs)))),ROWS($1:$28))),\"\")","v":0},{"$f":"IF(ROWS($1:$29)<=COUNTIF(joueurs,$B129),INDEX(bontirs,SMALL(IF(joueurs=$B129,ROW(INDIRECT(\"1:\"&ROWS(bontirs)))),ROWS($1:$29))),\"\")","v":0},{"$f":"IF(ROWS($1:$30)<=COUNTIF(joueurs,$B129),INDEX(bontirs,SMALL(IF(joueurs=$B129,ROW(INDIRECT(\"1:\"&ROWS(bontirs)))),ROWS($1:$30))),\"\")","v":0},{"$f":"IF(ROWS($1:$21)<=COUNTIF(joueurs,$B129),INDEX(points,SMALL(IF(joueurs=$B129,ROW(INDIRECT(\"1:\"&ROWS(points)))),ROWS($1:$21))),\"\")","v":0},{"$f":"IF(ROWS($1:$22)<=COUNTIF(joueurs,$B129),INDEX(points,SMALL(IF(joueurs=$B129,ROW(INDIRECT(\"1:\"&ROWS(points)))),ROWS($1:$22))),\"\")","v":0},{"$f":"IF(ROWS($1:$23)<=COUNTIF(joueurs,$B129),INDEX(points,SMALL(IF(joueurs=$B129,ROW(INDIRECT(\"1:\"&ROWS(points)))),ROWS($1:$23))),\"\")","v":0},{"$f":"IF(ROWS($1:$24)<=COUNTIF(joueurs,$B129),INDEX(points,SMALL(IF(joueurs=$B129,ROW(INDIRECT(\"1:\"&ROWS(points)))),ROWS($1:$24))),\"\")","v":0},{"$f":"IF(ROWS($1:$25)<=COUNTIF(joueurs,$B129),INDEX(points,SMALL(IF(joueurs=$B129,ROW(INDIRECT(\"1:\"&ROWS(points)))),ROWS($1:$25))),\"\")","v":0},{"$f":"IF(ROWS($1:$26)<=COUNTIF(joueurs,$B129),INDEX(points,SMALL(IF(joueurs=$B129,ROW(INDIRECT(\"1:\"&ROWS(points)))),ROWS($1:$26))),\"\")","v":0},{"$f":"IF(ROWS($1:$27)<=COUNTIF(joueurs,$B129),INDEX(points,SMALL(IF(joueurs=$B129,ROW(INDIRECT(\"1:\"&ROWS(points)))),ROWS($1:$27))),\"\")","v":0},{"$f":"IF(ROWS($1:$28)<=COUNTIF(joueurs,$B129),INDEX(points,SMALL(IF(joueurs=$B129,ROW(INDIRECT(\"1:\"&ROWS(points)))),ROWS($1:$28))),\"\")","v":0},{"$f":"IF(ROWS($1:$29)<=COUNTIF(joueurs,$B129),INDEX(points,SMALL(IF(joueurs=$B129,ROW(INDIRECT(\"1:\"&ROWS(points)))),ROWS($1:$29))),\"\")","v":0},{"$f":"IF(ROWS($1:$30)<=COUNTIF(joueurs,$B129),INDEX(points,SMALL(IF(joueurs=$B129,ROW(INDIRECT(\"1:\"&ROWS(points)))),ROWS($1:$30))),\"\")","v":0},{"$f":"IF(ROWS($1:$21)<=COUNTIF(joueurs,$B129),INDEX(victoires,SMALL(IF(joueurs=$B129,ROW(INDIRECT(\"1:\"&ROWS(victoires)))),ROWS($1:$21))),\"\")","v":0},{"$f":"IF(ROWS($1:$22)<=COUNTIF(joueurs,$B129),INDEX(victoires,SMALL(IF(joueurs=$B129,ROW(INDIRECT(\"1:\"&ROWS(victoires)))),ROWS($1:$22))),\"\")","v":0},{"$f":"IF(ROWS($1:$23)<=COUNTIF(joueurs,$B129),INDEX(victoires,SMALL(IF(joueurs=$B129,ROW(INDIRECT(\"1:\"&ROWS(victoires)))),ROWS($1:$23))),\"\")","v":0},{"$f":"IF(ROWS($1:$24)<=COUNTIF(joueurs,$B129),INDEX(victoires,SMALL(IF(joueurs=$B129,ROW(INDIRECT(\"1:\"&ROWS(victoires)))),ROWS($1:$24))),\"\")","v":0},{"$f":"IF(ROWS($1:$25)<=COUNTIF(joueurs,$B129),INDEX(victoires,SMALL(IF(joueurs=$B129,ROW(INDIRECT(\"1:\"&ROWS(victoires)))),ROWS($1:$25))),\"\")","v":0},{"$f":"IF(ROWS($1:$26)<=COUNTIF(joueurs,$B129),INDEX(victoires,SMALL(IF(joueurs=$B129,ROW(INDIRECT(\"1:\"&ROWS(victoires)))),ROWS($1:$26))),\"\")","v":0},{"$f":"IF(ROWS($1:$27)<=COUNTIF(joueurs,$B129),INDEX(victoires,SMALL(IF(joueurs=$B129,ROW(INDIRECT(\"1:\"&ROWS(victoires)))),ROWS($1:$27))),\"\")","v":0},{"$f":"IF(ROWS($1:$28)<=COUNTIF(joueurs,$B129),INDEX(victoires,SMALL(IF(joueurs=$B129,ROW(INDIRECT(\"1:\"&ROWS(victoires)))),ROWS($1:$28))),\"\")","v":0},{"$f":"IF(ROWS($1:$29)<=COUNTIF(joueurs,$B129),INDEX(victoires,SMALL(IF(joueurs=$B129,ROW(INDIRECT(\"1:\"&ROWS(victoires)))),ROWS($1:$29))),\"\")","v":0},{"$f":"IF(ROWS($1:$30)<=COUNTIF(joueurs,$B129),INDEX(victoires,SMALL(IF(joueurs=$B129,ROW(INDIRECT(\"1:\"&ROWS(victoires)))),ROWS($1:$30))),\"\")","v":0}]
[null,null,null,{"$f":"IF(ROWS($1:$31)<=COUNTIF(joueurs,$B129),INDEX(fautes,SMALL(IF(joueurs=$B129,ROW(INDIRECT(\"1:\"&ROWS(fautes)))),ROWS($1:$31))),\"\")","v":0},{"$f":"IF(ROWS($1:$32)<=COUNTIF(joueurs,$B129),INDEX(fautes,SMALL(IF(joueurs=$B129,ROW(INDIRECT(\"1:\"&ROWS(fautes)))),ROWS($1:$32))),\"\")","v":0},{"$f":"IF(ROWS($1:$33)<=COUNTIF(joueurs,$B129),INDEX(fautes,SMALL(IF(joueurs=$B129,ROW(INDIRECT(\"1:\"&ROWS(fautes)))),ROWS($1:$33))),\"\")","v":0},{"$f":"IF(ROWS($1:$34)<=COUNTIF(joueurs,$B129),INDEX(fautes,SMALL(IF(joueurs=$B129,ROW(INDIRECT(\"1:\"&ROWS(fautes)))),ROWS($1:$34))),\"\")","v":0},{"$f":"IF(ROWS($1:$35)<=COUNTIF(joueurs,$B129),INDEX(fautes,SMALL(IF(joueurs=$B129,ROW(INDIRECT(\"1:\"&ROWS(fautes)))),ROWS($1:$35))),\"\")","v":0},{"$f":"IF(ROWS($1:$36)<=COUNTIF(joueurs,$B129),INDEX(fautes,SMALL(IF(joueurs=$B129,ROW(INDIRECT(\"1:\"&ROWS(fautes)))),ROWS($1:$36))),\"\")","v":0},{"$f":"IF(ROWS($1:$37)<=COUNTIF(joueurs,$B129),INDEX(fautes,SMALL(IF(joueurs=$B129,ROW(INDIRECT(\"1:\"&ROWS(fautes)))),ROWS($1:$37))),\"\")","v":0},{"$f":"IF(ROWS($1:$38)<=COUNTIF(joueurs,$B129),INDEX(fautes,SMALL(IF(joueurs=$B129,ROW(INDIRECT(\"1:\"&ROWS(fautes)))),ROWS($1:$38))),\"\")","v":0},{"$f":"IF(ROWS($1:$39)<=COUNTIF(joueurs,$B129),INDEX(fautes,SMALL(IF(joueurs=$B129,ROW(INDIRECT(\"1:\"&ROWS(fautes)))),ROWS($1:$39))),\"\")","v":0},{"$f":"IF(ROWS($1:$40)<=COUNTIF(joueurs,$B129),INDEX(fautes,SMALL(IF(joueurs=$B129,ROW(INDIRECT(\"1:\"&ROWS(fautes)))),ROWS($1:$40))),\"\")","v":0},{"$f":"IF(ROWS($1:$31)<=COUNTIF(joueurs,$B129),INDEX(ballonperdus,SMALL(IF(joueurs=$B129,ROW(INDIRECT(\"1:\"&ROWS(ballonperdus)))),ROWS($1:$31))),\"\")","v":0},{"$f":"IF(ROWS($1:$32)<=COUNTIF(joueurs,$B129),INDEX(ballonperdus,SMALL(IF(joueurs=$B129,ROW(INDIRECT(\"1:\"&ROWS(ballonperdus)))),ROWS($1:$32))),\"\")","v":0},{"$f":"IF(ROWS($1:$33)<=COUNTIF(joueurs,$B129),INDEX(ballonperdus,SMALL(IF(joueurs=$B129,ROW(INDIRECT(\"1:\"&ROWS(ballonperdus)))),ROWS($1:$33))),\"\")","v":0},{"$f":"IF(ROWS($1:$34)<=COUNTIF(joueurs,$B129),INDEX(ballonperdus,SMALL(IF(joueurs=$B129,ROW(INDIRECT(\"1:\"&ROWS(ballonperdus)))),ROWS($1:$34))),\"\")","v":0},{"$f":"IF(ROWS($1:$35)<=COUNTIF(joueurs,$B129),INDEX(ballonperdus,SMALL(IF(joueurs=$B129,ROW(INDIRECT(\"1:\"&ROWS(ballonperdus)))),ROWS($1:$35))),\"\")","v":0},{"$f":"IF(ROWS($1:$36)<=COUNTIF(joueurs,$B129),INDEX(ballonperdus,SMALL(IF(joueurs=$B129,ROW(INDIRECT(\"1:\"&ROWS(ballonperdus)))),ROWS($1:$36))),\"\")","v":0},{"$f":"IF(ROWS($1:$37)<=COUNTIF(joueurs,$B129),INDEX(ballonperdus,SMALL(IF(joueurs=$B129,ROW(INDIRECT(\"1:\"&ROWS(ballonperdus)))),ROWS($1:$37))),\"\")","v":0},{"$f":"IF(ROWS($1:$38)<=COUNTIF(joueurs,$B129),INDEX(ballonperdus,SMALL(IF(joueurs=$B129,ROW(INDIRECT(\"1:\"&ROWS(ballonperdus)))),ROWS($1:$38))),\"\")","v":0},{"$f":"IF(ROWS($1:$39)<=COUNTIF(joueurs,$B129),INDEX(ballonperdus,SMALL(IF(joueurs=$B129,ROW(INDIRECT(\"1:\"&ROWS(ballonperdus)))),ROWS($1:$39))),\"\")","v":0},{"$f":"IF(ROWS($1:$40)<=COUNTIF(joueurs,$B129),INDEX(ballonperdus,SMALL(IF(joueurs=$B129,ROW(INDIRECT(\"1:\"&ROWS(ballonperdus)))),ROWS($1:$40))),\"\")","v":0},{"$f":"IF(ROWS($1:$31)<=COUNTIF(joueurs,$B129),INDEX(interceptions,SMALL(IF(joueurs=$B129,ROW(INDIRECT(\"1:\"&ROWS(interceptions)))),ROWS($1:$31))),\"\")","v":0},{"$f":"IF(ROWS($1:$32)<=COUNTIF(joueurs,$B129),INDEX(interceptions,SMALL(IF(joueurs=$B129,ROW(INDIRECT(\"1:\"&ROWS(interceptions)))),ROWS($1:$32))),\"\")","v":0},{"$f":"IF(ROWS($1:$33)<=COUNTIF(joueurs,$B129),INDEX(interceptions,SMALL(IF(joueurs=$B129,ROW(INDIRECT(\"1:\"&ROWS(interceptions)))),ROWS($1:$33))),\"\")","v":0},{"$f":"IF(ROWS($1:$34)<=COUNTIF(joueurs,$B129),INDEX(interceptions,SMALL(IF(joueurs=$B129,ROW(INDIRECT(\"1:\"&ROWS(interceptions)))),ROWS($1:$34))),\"\")","v":0},{"$f":"IF(ROWS($1:$35)<=COUNTIF(joueurs,$B129),INDEX(interceptions,SMALL(IF(joueurs=$B129,ROW(INDIRECT(\"1:\"&ROWS(interceptions)))),ROWS($1:$35))),\"\")","v":0},{"$f":"IF(ROWS($1:$36)<=COUNTIF(joueurs,$B129),INDEX(interceptions,SMALL(IF(joueurs=$B129,ROW(INDIRECT(\"1:\"&ROWS(interceptions)))),ROWS($1:$36))),\"\")","v":0},{"$f":"IF(ROWS($1:$37)<=COUNTIF(joueurs,$B129),INDEX(interceptions,SMALL(IF(joueurs=$B129,ROW(INDIRECT(\"1:\"&ROWS(interceptions)))),ROWS($1:$37))),\"\")","v":0},{"$f":"IF(ROWS($1:$38)<=COUNTIF(joueurs,$B129),INDEX(interceptions,SMALL(IF(joueurs=$B129,ROW(INDIRECT(\"1:\"&ROWS(interceptions)))),ROWS($1:$38))),\"\")","v":0},{"$f":"IF(ROWS($1:$39)<=COUNTIF(joueurs,$B129),INDEX(interceptions,SMALL(IF(joueurs=$B129,ROW(INDIRECT(\"1:\"&ROWS(interceptions)))),ROWS($1:$39))),\"\")","v":0},{"$f":"IF(ROWS($1:$40)<=COUNTIF(joueurs,$B129),INDEX(interceptions,SMALL(IF(joueurs=$B129,ROW(INDIRECT(\"1:\"&ROWS(interceptions)))),ROWS($1:$40))),\"\")","v":0},{"$f":"IF(ROWS($1:$31)<=COUNTIF(joueurs,$B129),INDEX(ballonrecuperes,SMALL(IF(joueurs=$B129,ROW(INDIRECT(\"1:\"&ROWS(ballonrecuperes)))),ROWS($1:$31))),\"\")","v":0},{"$f":"IF(ROWS($1:$32)<=COUNTIF(joueurs,$B129),INDEX(ballonrecuperes,SMALL(IF(joueurs=$B129,ROW(INDIRECT(\"1:\"&ROWS(ballonrecuperes)))),ROWS($1:$32))),\"\")","v":0},{"$f":"IF(ROWS($1:$33)<=COUNTIF(joueurs,$B129),INDEX(ballonrecuperes,SMALL(IF(joueurs=$B129,ROW(INDIRECT(\"1:\"&ROWS(ballonrecuperes)))),ROWS($1:$33))),\"\")","v":0},{"$f":"IF(ROWS($1:$34)<=COUNTIF(joueurs,$B129),INDEX(ballonrecuperes,SMALL(IF(joueurs=$B129,ROW(INDIRECT(\"1:\"&ROWS(ballonrecuperes)))),ROWS($1:$34))),\"\")","v":0},{"$f":"IF(ROWS($1:$35)<=COUNTIF(joueurs,$B129),INDEX(ballonrecuperes,SMALL(IF(joueurs=$B129,ROW(INDIRECT(\"1:\"&ROWS(ballonrecuperes)))),ROWS($1:$35))),\"\")","v":0},{"$f":"IF(ROWS($1:$36)<=COUNTIF(joueurs,$B129),INDEX(ballonrecuperes,SMALL(IF(joueurs=$B129,ROW(INDIRECT(\"1:\"&ROWS(ballonrecuperes)))),ROWS($1:$36))),\"\")","v":0},{"$f":"IF(ROWS($1:$37)<=COUNTIF(joueurs,$B129),INDEX(ballonrecuperes,SMALL(IF(joueurs=$B129,ROW(INDIRECT(\"1:\"&ROWS(ballonrecuperes)))),ROWS($1:$37))),\"\")","v":0},{"$f":"IF(ROWS($1:$38)<=COUNTIF(joueurs,$B129),INDEX(ballonrecuperes,SMALL(IF(joueurs=$B129,ROW(INDIRECT(\"1:\"&ROWS(ballonrecuperes)))),ROWS($1:$38))),\"\")","v":0},{"$f":"IF(ROWS($1:$39)<=COUNTIF(joueurs,$B129),INDEX(ballonrecuperes,SMALL(IF(joueurs=$B129,ROW(INDIRECT(\"1:\"&ROWS(ballonrecuperes)))),ROWS($1:$39))),\"\")","v":0},{"$f":"IF(ROWS($1:$40)<=COUNTIF(joueurs,$B129),INDEX(ballonrecuperes,SMALL(IF(joueurs=$B129,ROW(INDIRECT(\"1:\"&ROWS(ballonrecuperes)))),ROWS($1:$40))),\"\")","v":0},{"$f":"IF(ROWS($1:$31)<=COUNTIF(joueurs,$B129),INDEX(tirs,SMALL(IF(joueurs=$B129,ROW(INDIRECT(\"1:\"&ROWS(tirs)))),ROWS($1:$31))),\"\")","v":0},{"$f":"IF(ROWS($1:$32)<=COUNTIF(joueurs,$B129),INDEX(tirs,SMALL(IF(joueurs=$B129,ROW(INDIRECT(\"1:\"&ROWS(tirs)))),ROWS($1:$32))),\"\")","v":0},{"$f":"IF(ROWS($1:$33)<=COUNTIF(joueurs,$B129),INDEX(tirs,SMALL(IF(joueurs=$B129,ROW(INDIRECT(\"1:\"&ROWS(tirs)))),ROWS($1:$33))),\"\")","v":0},{"$f":"IF(ROWS($1:$34)<=COUNTIF(joueurs,$B129),INDEX(tirs,SMALL(IF(joueurs=$B129,ROW(INDIRECT(\"1:\"&ROWS(tirs)))),ROWS($1:$34))),\"\")","v":0},{"$f":"IF(ROWS($1:$35)<=COUNTIF(joueurs,$B129),INDEX(tirs,SMALL(IF(joueurs=$B129,ROW(INDIRECT(\"1:\"&ROWS(tirs)))),ROWS($1:$35))),\"\")","v":0},{"$f":"IF(ROWS($1:$36)<=COUNTIF(joueurs,$B129),INDEX(tirs,SMALL(IF(joueurs=$B129,ROW(INDIRECT(\"1:\"&ROWS(tirs)))),ROWS($1:$36))),\"\")","v":0},{"$f":"IF(ROWS($1:$37)<=COUNTIF(joueurs,$B129),INDEX(tirs,SMALL(IF(joueurs=$B129,ROW(INDIRECT(\"1:\"&ROWS(tirs)))),ROWS($1:$37))),\"\")","v":0},{"$f":"IF(ROWS($1:$38)<=COUNTIF(joueurs,$B129),INDEX(tirs,SMALL(IF(joueurs=$B129,ROW(INDIRECT(\"1:\"&ROWS(tirs)))),ROWS($1:$38))),\"\")","v":0},{"$f":"IF(ROWS($1:$39)<=COUNTIF(joueurs,$B129),INDEX(tirs,SMALL(IF(joueurs=$B129,ROW(INDIRECT(\"1:\"&ROWS(tirs)))),ROWS($1:$39))),\"\")","v":0},{"$f":"IF(ROWS($1:$40)<=COUNTIF(joueurs,$B129),INDEX(tirs,SMALL(IF(joueurs=$B129,ROW(INDIRECT(\"1:\"&ROWS(tirs)))),ROWS($1:$40))),\"\")","v":0},{"$f":"IF(ROWS($1:$31)<=COUNTIF(joueurs,$B129),INDEX(bontirs,SMALL(IF(joueurs=$B129,ROW(INDIRECT(\"1:\"&ROWS(bontirs)))),ROWS($1:$31))),\"\")","v":0},{"$f":"IF(ROWS($1:$32)<=COUNTIF(joueurs,$B129),INDEX(bontirs,SMALL(IF(joueurs=$B129,ROW(INDIRECT(\"1:\"&ROWS(bontirs)))),ROWS($1:$32))),\"\")","v":0},{"$f":"IF(ROWS($1:$33)<=COUNTIF(joueurs,$B129),INDEX(bontirs,SMALL(IF(joueurs=$B129,ROW(INDIRECT(\"1:\"&ROWS(bontirs)))),ROWS($1:$33))),\"\")","v":0},{"$f":"IF(ROWS($1:$34)<=COUNTIF(joueurs,$B129),INDEX(bontirs,SMALL(IF(joueurs=$B129,ROW(INDIRECT(\"1:\"&ROWS(bontirs)))),ROWS($1:$34))),\"\")","v":0},{"$f":"IF(ROWS($1:$35)<=COUNTIF(joueurs,$B129),INDEX(bontirs,SMALL(IF(joueurs=$B129,ROW(INDIRECT(\"1:\"&ROWS(bontirs)))),ROWS($1:$35))),\"\")","v":0},{"$f":"IF(ROWS($1:$36)<=COUNTIF(joueurs,$B129),INDEX(bontirs,SMALL(IF(joueurs=$B129,ROW(INDIRECT(\"1:\"&ROWS(bontirs)))),ROWS($1:$36))),\"\")","v":0},{"$f":"IF(ROWS($1:$37)<=COUNTIF(joueurs,$B129),INDEX(bontirs,SMALL(IF(joueurs=$B129,ROW(INDIRECT(\"1:\"&ROWS(bontirs)))),ROWS($1:$37))),\"\")","v":0},{"$f":"IF(ROWS($1:$38)<=COUNTIF(joueurs,$B129),INDEX(bontirs,SMALL(IF(joueurs=$B129,ROW(INDIRECT(\"1:\"&ROWS(bontirs)))),ROWS($1:$38))),\"\")","v":0},{"$f":"IF(ROWS($1:$39)<=COUNTIF(joueurs,$B129),INDEX(bontirs,SMALL(IF(joueurs=$B129,ROW(INDIRECT(\"1:\"&ROWS(bontirs)))),ROWS($1:$39))),\"\")","v":0},{"$f":"IF(ROWS($1:$40)<=COUNTIF(joueurs,$B129),INDEX(bontirs,SMALL(IF(joueurs=$B129,ROW(INDIRECT(\"1:\"&ROWS(bontirs)))),ROWS($1:$40))),\"\")","v":0},{"$f":"IF(ROWS($1:$31)<=COUNTIF(joueurs,$B129),INDEX(points,SMALL(IF(joueurs=$B129,ROW(INDIRECT(\"1:\"&ROWS(points)))),ROWS($1:$31))),\"\")","v":0},{"$f":"IF(ROWS($1:$32)<=COUNTIF(joueurs,$B129),INDEX(points,SMALL(IF(joueurs=$B129,ROW(INDIRECT(\"1:\"&ROWS(points)))),ROWS($1:$32))),\"\")","v":0},{"$f":"IF(ROWS($1:$33)<=COUNTIF(joueurs,$B129),INDEX(points,SMALL(IF(joueurs=$B129,ROW(INDIRECT(\"1:\"&ROWS(points)))),ROWS($1:$33))),\"\")","v":0},{"$f":"IF(ROWS($1:$34)<=COUNTIF(joueurs,$B129),INDEX(points,SMALL(IF(joueurs=$B129,ROW(INDIRECT(\"1:\"&ROWS(points)))),ROWS($1:$34))),\"\")","v":0},{"$f":"IF(ROWS($1:$35)<=COUNTIF(joueurs,$B129),INDEX(points,SMALL(IF(joueurs=$B129,ROW(INDIRECT(\"1:\"&ROWS(points)))),ROWS($1:$35))),\"\")","v":0},{"$f":"IF(ROWS($1:$36)<=COUNTIF(joueurs,$B129),INDEX(points,SMALL(IF(joueurs=$B129,ROW(INDIRECT(\"1:\"&ROWS(points)))),ROWS($1:$36))),\"\")","v":0},{"$f":"IF(ROWS($1:$37)<=COUNTIF(joueurs,$B129),INDEX(points,SMALL(IF(joueurs=$B129,ROW(INDIRECT(\"1:\"&ROWS(points)))),ROWS($1:$37))),\"\")","v":0},{"$f":"IF(ROWS($1:$38)<=COUNTIF(joueurs,$B129),INDEX(points,SMALL(IF(joueurs=$B129,ROW(INDIRECT(\"1:\"&ROWS(points)))),ROWS($1:$38))),\"\")","v":0},{"$f":"IF(ROWS($1:$39)<=COUNTIF(joueurs,$B129),INDEX(points,SMALL(IF(joueurs=$B129,ROW(INDIRECT(\"1:\"&ROWS(points)))),ROWS($1:$39))),\"\")","v":0},{"$f":"IF(ROWS($1:$40)<=COUNTIF(joueurs,$B129),INDEX(points,SMALL(IF(joueurs=$B129,ROW(INDIRECT(\"1:\"&ROWS(points)))),ROWS($1:$40))),\"\")","v":0},{"$f":"IF(ROWS($1:$31)<=COUNTIF(joueurs,$B129),INDEX(victoires,SMALL(IF(joueurs=$B129,ROW(INDIRECT(\"1:\"&ROWS(victoires)))),ROWS($1:$31))),\"\")","v":0},{"$f":"IF(ROWS($1:$32)<=COUNTIF(joueurs,$B129),INDEX(victoires,SMALL(IF(joueurs=$B129,ROW(INDIRECT(\"1:\"&ROWS(victoires)))),ROWS($1:$32))),\"\")","v":0},{"$f":"IF(ROWS($1:$33)<=COUNTIF(joueurs,$B129),INDEX(victoires,SMALL(IF(joueurs=$B129,ROW(INDIRECT(\"1:\"&ROWS(victoires)))),ROWS($1:$33))),\"\")","v":0},{"$f":"IF(ROWS($1:$34)<=COUNTIF(joueurs,$B129),INDEX(victoires,SMALL(IF(joueurs=$B129,ROW(INDIRECT(\"1:\"&ROWS(victoires)))),ROWS($1:$34))),\"\")","v":0},{"$f":"IF(ROWS($1:$35)<=COUNTIF(joueurs,$B129),INDEX(victoires,SMALL(IF(joueurs=$B129,ROW(INDIRECT(\"1:\"&ROWS(victoires)))),ROWS($1:$35))),\"\")","v":0},{"$f":"IF(ROWS($1:$36)<=COUNTIF(joueurs,$B129),INDEX(victoires,SMALL(IF(joueurs=$B129,ROW(INDIRECT(\"1:\"&ROWS(victoires)))),ROWS($1:$36))),\"\")","v":0},{"$f":"IF(ROWS($1:$37)<=COUNTIF(joueurs,$B129),INDEX(victoires,SMALL(IF(joueurs=$B129,ROW(INDIRECT(\"1:\"&ROWS(victoires)))),ROWS($1:$37))),\"\")","v":0},{"$f":"IF(ROWS($1:$38)<=COUNTIF(joueurs,$B129),INDEX(victoires,SMALL(IF(joueurs=$B129,ROW(INDIRECT(\"1:\"&ROWS(victoires)))),ROWS($1:$38))),\"\")","v":0},{"$f":"IF(ROWS($1:$39)<=COUNTIF(joueurs,$B129),INDEX(victoires,SMALL(IF(joueurs=$B129,ROW(INDIRECT(\"1:\"&ROWS(victoires)))),ROWS($1:$39))),\"\")","v":0},{"$f":"IF(ROWS($1:$40)<=COUNTIF(joueurs,$B129),INDEX(victoires,SMALL(IF(joueurs=$B129,ROW(INDIRECT(\"1:\"&ROWS(victoires)))),ROWS($1:$40))),\"\")","v":0}]
[33,{"$f":"INDEX(eleves,MATCH(A133,numero,0),MATCH($B$2,classes,0))","v":0},null,{"$f":"IF(ROWS($1:$1)<=COUNTIF(joueurs,$B133),INDEX(fautes,SMALL(IF(joueurs=$B133,ROW(INDIRECT(\"1:\"&ROWS(fautes)))),ROWS($1:$1))),\"\")","v":0},{"$f":"IF(ROWS($1:$2)<=COUNTIF(joueurs,$B133),INDEX(fautes,SMALL(IF(joueurs=$B133,ROW(INDIRECT(\"1:\"&ROWS(fautes)))),ROWS($1:$2))),\"\")","v":0},{"$f":"IF(ROWS($1:$3)<=COUNTIF(joueurs,$B133),INDEX(fautes,SMALL(IF(joueurs=$B133,ROW(INDIRECT(\"1:\"&ROWS(fautes)))),ROWS($1:$3))),\"\")","v":0},{"$f":"IF(ROWS($1:$4)<=COUNTIF(joueurs,$B133),INDEX(fautes,SMALL(IF(joueurs=$B133,ROW(INDIRECT(\"1:\"&ROWS(fautes)))),ROWS($1:$4))),\"\")","v":0},{"$f":"IF(ROWS($1:$5)<=COUNTIF(joueurs,$B133),INDEX(fautes,SMALL(IF(joueurs=$B133,ROW(INDIRECT(\"1:\"&ROWS(fautes)))),ROWS($1:$5))),\"\")","v":0},{"$f":"IF(ROWS($1:$6)<=COUNTIF(joueurs,$B133),INDEX(fautes,SMALL(IF(joueurs=$B133,ROW(INDIRECT(\"1:\"&ROWS(fautes)))),ROWS($1:$6))),\"\")","v":0},{"$f":"IF(ROWS($1:$7)<=COUNTIF(joueurs,$B133),INDEX(fautes,SMALL(IF(joueurs=$B133,ROW(INDIRECT(\"1:\"&ROWS(fautes)))),ROWS($1:$7))),\"\")","v":0},{"$f":"IF(ROWS($1:$8)<=COUNTIF(joueurs,$B133),INDEX(fautes,SMALL(IF(joueurs=$B133,ROW(INDIRECT(\"1:\"&ROWS(fautes)))),ROWS($1:$8))),\"\")","v":0},{"$f":"IF(ROWS($1:$9)<=COUNTIF(joueurs,$B133),INDEX(fautes,SMALL(IF(joueurs=$B133,ROW(INDIRECT(\"1:\"&ROWS(fautes)))),ROWS($1:$9))),\"\")","v":0},{"$f":"IF(ROWS($1:$10)<=COUNTIF(joueurs,$B133),INDEX(fautes,SMALL(IF(joueurs=$B133,ROW(INDIRECT(\"1:\"&ROWS(fautes)))),ROWS($1:$10))),\"\")","v":0},{"$f":"IF(ROWS($1:$1)<=COUNTIF(joueurs,$B133),INDEX(ballonperdus,SMALL(IF(joueurs=$B133,ROW(INDIRECT(\"1:\"&ROWS(ballonperdus)))),ROWS($1:$1))),\"\")","v":0},{"$f":"IF(ROWS($1:$2)<=COUNTIF(joueurs,$B133),INDEX(ballonperdus,SMALL(IF(joueurs=$B133,ROW(INDIRECT(\"1:\"&ROWS(ballonperdus)))),ROWS($1:$2))),\"\")","v":0},{"$f":"IF(ROWS($1:$3)<=COUNTIF(joueurs,$B133),INDEX(ballonperdus,SMALL(IF(joueurs=$B133,ROW(INDIRECT(\"1:\"&ROWS(ballonperdus)))),ROWS($1:$3))),\"\")","v":0},{"$f":"IF(ROWS($1:$4)<=COUNTIF(joueurs,$B133),INDEX(ballonperdus,SMALL(IF(joueurs=$B133,ROW(INDIRECT(\"1:\"&ROWS(ballonperdus)))),ROWS($1:$4))),\"\")","v":0},{"$f":"IF(ROWS($1:$5)<=COUNTIF(joueurs,$B133),INDEX(ballonperdus,SMALL(IF(joueurs=$B133,ROW(INDIRECT(\"1:\"&ROWS(ballonperdus)))),ROWS($1:$5))),\"\")","v":0},{"$f":"IF(ROWS($1:$6)<=COUNTIF(joueurs,$B133),INDEX(ballonperdus,SMALL(IF(joueurs=$B133,ROW(INDIRECT(\"1:\"&ROWS(ballonperdus)))),ROWS($1:$6))),\"\")","v":0},{"$f":"IF(ROWS($1:$7)<=COUNTIF(joueurs,$B133),INDEX(ballonperdus,SMALL(IF(joueurs=$B133,ROW(INDIRECT(\"1:\"&ROWS(ballonperdus)))),ROWS($1:$7))),\"\")","v":0},{"$f":"IF(ROWS($1:$8)<=COUNTIF(joueurs,$B133),INDEX(ballonperdus,SMALL(IF(joueurs=$B133,ROW(INDIRECT(\"1:\"&ROWS(ballonperdus)))),ROWS($1:$8))),\"\")","v":0},{"$f":"IF(ROWS($1:$9)<=COUNTIF(joueurs,$B133),INDEX(ballonperdus,SMALL(IF(joueurs=$B133,ROW(INDIRECT(\"1:\"&ROWS(ballonperdus)))),ROWS($1:$9))),\"\")","v":0},{"$f":"IF(ROWS($1:$10)<=COUNTIF(joueurs,$B133),INDEX(ballonperdus,SMALL(IF(joueurs=$B133,ROW(INDIRECT(\"1:\"&ROWS(ballonperdus)))),ROWS($1:$10))),\"\")","v":0},{"$f":"IF(ROWS($1:$1)<=COUNTIF(joueurs,$B133),INDEX(interceptions,SMALL(IF(joueurs=$B133,ROW(INDIRECT(\"1:\"&ROWS(interceptions)))),ROWS($1:$1))),\"\")","v":0},{"$f":"IF(ROWS($1:$2)<=COUNTIF(joueurs,$B133),INDEX(interceptions,SMALL(IF(joueurs=$B133,ROW(INDIRECT(\"1:\"&ROWS(interceptions)))),ROWS($1:$2))),\"\")","v":0},{"$f":"IF(ROWS($1:$3)<=COUNTIF(joueurs,$B133),INDEX(interceptions,SMALL(IF(joueurs=$B133,ROW(INDIRECT(\"1:\"&ROWS(interceptions)))),ROWS($1:$3))),\"\")","v":0},{"$f":"IF(ROWS($1:$4)<=COUNTIF(joueurs,$B133),INDEX(interceptions,SMALL(IF(joueurs=$B133,ROW(INDIRECT(\"1:\"&ROWS(interceptions)))),ROWS($1:$4))),\"\")","v":0},{"$f":"IF(ROWS($1:$5)<=COUNTIF(joueurs,$B133),INDEX(interceptions,SMALL(IF(joueurs=$B133,ROW(INDIRECT(\"1:\"&ROWS(interceptions)))),ROWS($1:$5))),\"\")","v":0},{"$f":"IF(ROWS($1:$6)<=COUNTIF(joueurs,$B133),INDEX(interceptions,SMALL(IF(joueurs=$B133,ROW(INDIRECT(\"1:\"&ROWS(interceptions)))),ROWS($1:$6))),\"\")","v":0},{"$f":"IF(ROWS($1:$7)<=COUNTIF(joueurs,$B133),INDEX(interceptions,SMALL(IF(joueurs=$B133,ROW(INDIRECT(\"1:\"&ROWS(interceptions)))),ROWS($1:$7))),\"\")","v":0},{"$f":"IF(ROWS($1:$8)<=COUNTIF(joueurs,$B133),INDEX(interceptions,SMALL(IF(joueurs=$B133,ROW(INDIRECT(\"1:\"&ROWS(interceptions)))),ROWS($1:$8))),\"\")","v":0},{"$f":"IF(ROWS($1:$9)<=COUNTIF(joueurs,$B133),INDEX(interceptions,SMALL(IF(joueurs=$B133,ROW(INDIRECT(\"1:\"&ROWS(interceptions)))),ROWS($1:$9))),\"\")","v":0},{"$f":"IF(ROWS($1:$10)<=COUNTIF(joueurs,$B133),INDEX(interceptions,SMALL(IF(joueurs=$B133,ROW(INDIRECT(\"1:\"&ROWS(interceptions)))),ROWS($1:$10))),\"\")","v":0},{"$f":"IF(ROWS($1:$1)<=COUNTIF(joueurs,$B133),INDEX(ballonrecuperes,SMALL(IF(joueurs=$B133,ROW(INDIRECT(\"1:\"&ROWS(ballonrecuperes)))),ROWS($1:$1))),\"\")","v":0},{"$f":"IF(ROWS($1:$2)<=COUNTIF(joueurs,$B133),INDEX(ballonrecuperes,SMALL(IF(joueurs=$B133,ROW(INDIRECT(\"1:\"&ROWS(ballonrecuperes)))),ROWS($1:$2))),\"\")","v":0},{"$f":"IF(ROWS($1:$3)<=COUNTIF(joueurs,$B133),INDEX(ballonrecuperes,SMALL(IF(joueurs=$B133,ROW(INDIRECT(\"1:\"&ROWS(ballonrecuperes)))),ROWS($1:$3))),\"\")","v":0},{"$f":"IF(ROWS($1:$4)<=COUNTIF(joueurs,$B133),INDEX(ballonrecuperes,SMALL(IF(joueurs=$B133,ROW(INDIRECT(\"1:\"&ROWS(ballonrecuperes)))),ROWS($1:$4))),\"\")","v":0},{"$f":"IF(ROWS($1:$5)<=COUNTIF(joueurs,$B133),INDEX(ballonrecuperes,SMALL(IF(joueurs=$B133,ROW(INDIRECT(\"1:\"&ROWS(ballonrecuperes)))),ROWS($1:$5))),\"\")","v":0},{"$f":"IF(ROWS($1:$6)<=COUNTIF(joueurs,$B133),INDEX(ballonrecuperes,SMALL(IF(joueurs=$B133,ROW(INDIRECT(\"1:\"&ROWS(ballonrecuperes)))),ROWS($1:$6))),\"\")","v":0},{"$f":"IF(ROWS($1:$7)<=COUNTIF(joueurs,$B133),INDEX(ballonrecuperes,SMALL(IF(joueurs=$B133,ROW(INDIRECT(\"1:\"&ROWS(ballonrecuperes)))),ROWS($1:$7))),\"\")","v":0},{"$f":"IF(ROWS($1:$8)<=COUNTIF(joueurs,$B133),INDEX(ballonrecuperes,SMALL(IF(joueurs=$B133,ROW(INDIRECT(\"1:\"&ROWS(ballonrecuperes)))),ROWS($1:$8))),\"\")","v":0},{"$f":"IF(ROWS($1:$9)<=COUNTIF(joueurs,$B133),INDEX(ballonrecuperes,SMALL(IF(joueurs=$B133,ROW(INDIRECT(\"1:\"&ROWS(ballonrecuperes)))),ROWS($1:$9))),\"\")","v":0},{"$f":"IF(ROWS($1:$10)<=COUNTIF(joueurs,$B133),INDEX(ballonrecuperes,SMALL(IF(joueurs=$B133,ROW(INDIRECT(\"1:\"&ROWS(ballonrecuperes)))),ROWS($1:$10))),\"\")","v":0},{"$f":"IF(ROWS($1:$1)<=COUNTIF(joueurs,$B133),INDEX(tirs,SMALL(IF(joueurs=$B133,ROW(INDIRECT(\"1:\"&ROWS(tirs)))),ROWS($1:$1))),\"\")","v":0},{"$f":"IF(ROWS($1:$2)<=COUNTIF(joueurs,$B133),INDEX(tirs,SMALL(IF(joueurs=$B133,ROW(INDIRECT(\"1:\"&ROWS(tirs)))),ROWS($1:$2))),\"\")","v":0},{"$f":"IF(ROWS($1:$3)<=COUNTIF(joueurs,$B133),INDEX(tirs,SMALL(IF(joueurs=$B133,ROW(INDIRECT(\"1:\"&ROWS(tirs)))),ROWS($1:$3))),\"\")","v":0},{"$f":"IF(ROWS($1:$4)<=COUNTIF(joueurs,$B133),INDEX(tirs,SMALL(IF(joueurs=$B133,ROW(INDIRECT(\"1:\"&ROWS(tirs)))),ROWS($1:$4))),\"\")","v":0},{"$f":"IF(ROWS($1:$5)<=COUNTIF(joueurs,$B133),INDEX(tirs,SMALL(IF(joueurs=$B133,ROW(INDIRECT(\"1:\"&ROWS(tirs)))),ROWS($1:$5))),\"\")","v":0},{"$f":"IF(ROWS($1:$6)<=COUNTIF(joueurs,$B133),INDEX(tirs,SMALL(IF(joueurs=$B133,ROW(INDIRECT(\"1:\"&ROWS(tirs)))),ROWS($1:$6))),\"\")","v":0},{"$f":"IF(ROWS($1:$7)<=COUNTIF(joueurs,$B133),INDEX(tirs,SMALL(IF(joueurs=$B133,ROW(INDIRECT(\"1:\"&ROWS(tirs)))),ROWS($1:$7))),\"\")","v":0},{"$f":"IF(ROWS($1:$8)<=COUNTIF(joueurs,$B133),INDEX(tirs,SMALL(IF(joueurs=$B133,ROW(INDIRECT(\"1:\"&ROWS(tirs)))),ROWS($1:$8))),\"\")","v":0},{"$f":"IF(ROWS($1:$9)<=COUNTIF(joueurs,$B133),INDEX(tirs,SMALL(IF(joueurs=$B133,ROW(INDIRECT(\"1:\"&ROWS(tirs)))),ROWS($1:$9))),\"\")","v":0},{"$f":"IF(ROWS($1:$10)<=COUNTIF(joueurs,$B133),INDEX(tirs,SMALL(IF(joueurs=$B133,ROW(INDIRECT(\"1:\"&ROWS(tirs)))),ROWS($1:$10))),\"\")","v":0},{"$f":"IF(ROWS($1:$1)<=COUNTIF(joueurs,$B133),INDEX(bontirs,SMALL(IF(joueurs=$B133,ROW(INDIRECT(\"1:\"&ROWS(bontirs)))),ROWS($1:$1))),\"\")","v":0},{"$f":"IF(ROWS($1:$2)<=COUNTIF(joueurs,$B133),INDEX(bontirs,SMALL(IF(joueurs=$B133,ROW(INDIRECT(\"1:\"&ROWS(bontirs)))),ROWS($1:$2))),\"\")","v":0},{"$f":"IF(ROWS($1:$3)<=COUNTIF(joueurs,$B133),INDEX(bontirs,SMALL(IF(joueurs=$B133,ROW(INDIRECT(\"1:\"&ROWS(bontirs)))),ROWS($1:$3))),\"\")","v":0},{"$f":"IF(ROWS($1:$4)<=COUNTIF(joueurs,$B133),INDEX(bontirs,SMALL(IF(joueurs=$B133,ROW(INDIRECT(\"1:\"&ROWS(bontirs)))),ROWS($1:$4))),\"\")","v":0},{"$f":"IF(ROWS($1:$5)<=COUNTIF(joueurs,$B133),INDEX(bontirs,SMALL(IF(joueurs=$B133,ROW(INDIRECT(\"1:\"&ROWS(bontirs)))),ROWS($1:$5))),\"\")","v":0},{"$f":"IF(ROWS($1:$6)<=COUNTIF(joueurs,$B133),INDEX(bontirs,SMALL(IF(joueurs=$B133,ROW(INDIRECT(\"1:\"&ROWS(bontirs)))),ROWS($1:$6))),\"\")","v":0},{"$f":"IF(ROWS($1:$7)<=COUNTIF(joueurs,$B133),INDEX(bontirs,SMALL(IF(joueurs=$B133,ROW(INDIRECT(\"1:\"&ROWS(bontirs)))),ROWS($1:$7))),\"\")","v":0},{"$f":"IF(ROWS($1:$8)<=COUNTIF(joueurs,$B133),INDEX(bontirs,SMALL(IF(joueurs=$B133,ROW(INDIRECT(\"1:\"&ROWS(bontirs)))),ROWS($1:$8))),\"\")","v":0},{"$f":"IF(ROWS($1:$9)<=COUNTIF(joueurs,$B133),INDEX(bontirs,SMALL(IF(joueurs=$B133,ROW(INDIRECT(\"1:\"&ROWS(bontirs)))),ROWS($1:$9))),\"\")","v":0},{"$f":"IF(ROWS($1:$10)<=COUNTIF(joueurs,$B133),INDEX(bontirs,SMALL(IF(joueurs=$B133,ROW(INDIRECT(\"1:\"&ROWS(bontirs)))),ROWS($1:$10))),\"\")","v":0},{"$f":"IF(ROWS($1:$1)<=COUNTIF(joueurs,$B133),INDEX(points,SMALL(IF(joueurs=$B133,ROW(INDIRECT(\"1:\"&ROWS(points)))),ROWS($1:$1))),\"\")","v":0},{"$f":"IF(ROWS($1:$2)<=COUNTIF(joueurs,$B133),INDEX(points,SMALL(IF(joueurs=$B133,ROW(INDIRECT(\"1:\"&ROWS(points)))),ROWS($1:$2))),\"\")","v":0},{"$f":"IF(ROWS($1:$3)<=COUNTIF(joueurs,$B133),INDEX(points,SMALL(IF(joueurs=$B133,ROW(INDIRECT(\"1:\"&ROWS(points)))),ROWS($1:$3))),\"\")","v":0},{"$f":"IF(ROWS($1:$4)<=COUNTIF(joueurs,$B133),INDEX(points,SMALL(IF(joueurs=$B133,ROW(INDIRECT(\"1:\"&ROWS(points)))),ROWS($1:$4))),\"\")","v":0},{"$f":"IF(ROWS($1:$5)<=COUNTIF(joueurs,$B133),INDEX(points,SMALL(IF(joueurs=$B133,ROW(INDIRECT(\"1:\"&ROWS(points)))),ROWS($1:$5))),\"\")","v":0},{"$f":"IF(ROWS($1:$6)<=COUNTIF(joueurs,$B133),INDEX(points,SMALL(IF(joueurs=$B133,ROW(INDIRECT(\"1:\"&ROWS(points)))),ROWS($1:$6))),\"\")","v":0},{"$f":"IF(ROWS($1:$7)<=COUNTIF(joueurs,$B133),INDEX(points,SMALL(IF(joueurs=$B133,ROW(INDIRECT(\"1:\"&ROWS(points)))),ROWS($1:$7))),\"\")","v":0},{"$f":"IF(ROWS($1:$8)<=COUNTIF(joueurs,$B133),INDEX(points,SMALL(IF(joueurs=$B133,ROW(INDIRECT(\"1:\"&ROWS(points)))),ROWS($1:$8))),\"\")","v":0},{"$f":"IF(ROWS($1:$9)<=COUNTIF(joueurs,$B133),INDEX(points,SMALL(IF(joueurs=$B133,ROW(INDIRECT(\"1:\"&ROWS(points)))),ROWS($1:$9))),\"\")","v":0},{"$f":"IF(ROWS($1:$10)<=COUNTIF(joueurs,$B133),INDEX(points,SMALL(IF(joueurs=$B133,ROW(INDIRECT(\"1:\"&ROWS(points)))),ROWS($1:$10))),\"\")","v":0},{"$f":"IF(ROWS($1:$1)<=COUNTIF(joueurs,$B133),INDEX(victoires,SMALL(IF(joueurs=$B133,ROW(INDIRECT(\"1:\"&ROWS(victoires)))),ROWS($1:$1))),\"\")","v":0},{"$f":"IF(ROWS($1:$2)<=COUNTIF(joueurs,$B133),INDEX(victoires,SMALL(IF(joueurs=$B133,ROW(INDIRECT(\"1:\"&ROWS(victoires)))),ROWS($1:$2))),\"\")","v":0},{"$f":"IF(ROWS($1:$3)<=COUNTIF(joueurs,$B133),INDEX(victoires,SMALL(IF(joueurs=$B133,ROW(INDIRECT(\"1:\"&ROWS(victoires)))),ROWS($1:$3))),\"\")","v":0},{"$f":"IF(ROWS($1:$4)<=COUNTIF(joueurs,$B133),INDEX(victoires,SMALL(IF(joueurs=$B133,ROW(INDIRECT(\"1:\"&ROWS(victoires)))),ROWS($1:$4))),\"\")","v":0},{"$f":"IF(ROWS($1:$5)<=COUNTIF(joueurs,$B133),INDEX(victoires,SMALL(IF(joueurs=$B133,ROW(INDIRECT(\"1:\"&ROWS(victoires)))),ROWS($1:$5))),\"\")","v":0},{"$f":"IF(ROWS($1:$6)<=COUNTIF(joueurs,$B133),INDEX(victoires,SMALL(IF(joueurs=$B133,ROW(INDIRECT(\"1:\"&ROWS(victoires)))),ROWS($1:$6))),\"\")","v":0},{"$f":"IF(ROWS($1:$7)<=COUNTIF(joueurs,$B133),INDEX(victoires,SMALL(IF(joueurs=$B133,ROW(INDIRECT(\"1:\"&ROWS(victoires)))),ROWS($1:$7))),\"\")","v":0},{"$f":"IF(ROWS($1:$8)<=COUNTIF(joueurs,$B133),INDEX(victoires,SMALL(IF(joueurs=$B133,ROW(INDIRECT(\"1:\"&ROWS(victoires)))),ROWS($1:$8))),\"\")","v":0},{"$f":"IF(ROWS($1:$9)<=COUNTIF(joueurs,$B133),INDEX(victoires,SMALL(IF(joueurs=$B133,ROW(INDIRECT(\"1:\"&ROWS(victoires)))),ROWS($1:$9))),\"\")","v":0},{"$f":"IF(ROWS($1:$10)<=COUNTIF(joueurs,$B133),INDEX(victoires,SMALL(IF(joueurs=$B133,ROW(INDIRECT(\"1:\"&ROWS(victoires)))),ROWS($1:$10))),\"\")","v":0}]
[null,null,null,{"$f":"IF(ROWS($1:$11)<=COUNTIF(joueurs,$B133),INDEX(fautes,SMALL(IF(joueurs=$B133,ROW(INDIRECT(\"1:\"&ROWS(fautes)))),ROWS($1:$11))),\"\")","v":0},{"$f":"IF(ROWS($1:$12)<=COUNTIF(joueurs,$B133),INDEX(fautes,SMALL(IF(joueurs=$B133,ROW(INDIRECT(\"1:\"&ROWS(fautes)))),ROWS($1:$12))),\"\")","v":0},{"$f":"IF(ROWS($1:$13)<=COUNTIF(joueurs,$B133),INDEX(fautes,SMALL(IF(joueurs=$B133,ROW(INDIRECT(\"1:\"&ROWS(fautes)))),ROWS($1:$13))),\"\")","v":0},{"$f":"IF(ROWS($1:$14)<=COUNTIF(joueurs,$B133),INDEX(fautes,SMALL(IF(joueurs=$B133,ROW(INDIRECT(\"1:\"&ROWS(fautes)))),ROWS($1:$14))),\"\")","v":0},{"$f":"IF(ROWS($1:$15)<=COUNTIF(joueurs,$B133),INDEX(fautes,SMALL(IF(joueurs=$B133,ROW(INDIRECT(\"1:\"&ROWS(fautes)))),ROWS($1:$15))),\"\")","v":0},{"$f":"IF(ROWS($1:$16)<=COUNTIF(joueurs,$B133),INDEX(fautes,SMALL(IF(joueurs=$B133,ROW(INDIRECT(\"1:\"&ROWS(fautes)))),ROWS($1:$16))),\"\")","v":0},{"$f":"IF(ROWS($1:$17)<=COUNTIF(joueurs,$B133),INDEX(fautes,SMALL(IF(joueurs=$B133,ROW(INDIRECT(\"1:\"&ROWS(fautes)))),ROWS($1:$17))),\"\")","v":0},{"$f":"IF(ROWS($1:$18)<=COUNTIF(joueurs,$B133),INDEX(fautes,SMALL(IF(joueurs=$B133,ROW(INDIRECT(\"1:\"&ROWS(fautes)))),ROWS($1:$18))),\"\")","v":0},{"$f":"IF(ROWS($1:$19)<=COUNTIF(joueurs,$B133),INDEX(fautes,SMALL(IF(joueurs=$B133,ROW(INDIRECT(\"1:\"&ROWS(fautes)))),ROWS($1:$19))),\"\")","v":0},{"$f":"IF(ROWS($1:$20)<=COUNTIF(joueurs,$B133),INDEX(fautes,SMALL(IF(joueurs=$B133,ROW(INDIRECT(\"1:\"&ROWS(fautes)))),ROWS($1:$20))),\"\")","v":0},{"$f":"IF(ROWS($1:$11)<=COUNTIF(joueurs,$B133),INDEX(ballonperdus,SMALL(IF(joueurs=$B133,ROW(INDIRECT(\"1:\"&ROWS(ballonperdus)))),ROWS($1:$11))),\"\")","v":0},{"$f":"IF(ROWS($1:$12)<=COUNTIF(joueurs,$B133),INDEX(ballonperdus,SMALL(IF(joueurs=$B133,ROW(INDIRECT(\"1:\"&ROWS(ballonperdus)))),ROWS($1:$12))),\"\")","v":0},{"$f":"IF(ROWS($1:$13)<=COUNTIF(joueurs,$B133),INDEX(ballonperdus,SMALL(IF(joueurs=$B133,ROW(INDIRECT(\"1:\"&ROWS(ballonperdus)))),ROWS($1:$13))),\"\")","v":0},{"$f":"IF(ROWS($1:$14)<=COUNTIF(joueurs,$B133),INDEX(ballonperdus,SMALL(IF(joueurs=$B133,ROW(INDIRECT(\"1:\"&ROWS(ballonperdus)))),ROWS($1:$14))),\"\")","v":0},{"$f":"IF(ROWS($1:$15)<=COUNTIF(joueurs,$B133),INDEX(ballonperdus,SMALL(IF(joueurs=$B133,ROW(INDIRECT(\"1:\"&ROWS(ballonperdus)))),ROWS($1:$15))),\"\")","v":0},{"$f":"IF(ROWS($1:$16)<=COUNTIF(joueurs,$B133),INDEX(ballonperdus,SMALL(IF(joueurs=$B133,ROW(INDIRECT(\"1:\"&ROWS(ballonperdus)))),ROWS($1:$16))),\"\")","v":0},{"$f":"IF(ROWS($1:$17)<=COUNTIF(joueurs,$B133),INDEX(ballonperdus,SMALL(IF(joueurs=$B133,ROW(INDIRECT(\"1:\"&ROWS(ballonperdus)))),ROWS($1:$17))),\"\")","v":0},{"$f":"IF(ROWS($1:$18)<=COUNTIF(joueurs,$B133),INDEX(ballonperdus,SMALL(IF(joueurs=$B133,ROW(INDIRECT(\"1:\"&ROWS(ballonperdus)))),ROWS($1:$18))),\"\")","v":0},{"$f":"IF(ROWS($1:$19)<=COUNTIF(joueurs,$B133),INDEX(ballonperdus,SMALL(IF(joueurs=$B133,ROW(INDIRECT(\"1:\"&ROWS(ballonperdus)))),ROWS($1:$19))),\"\")","v":0},{"$f":"IF(ROWS($1:$20)<=COUNTIF(joueurs,$B133),INDEX(fautes,SMALL(IF(joueurs=$B133,ROW(INDIRECT(\"1:\"&ROWS(ballonperdus)))),ROWS($1:$20))),\"\")","v":0},{"$f":"IF(ROWS($1:$11)<=COUNTIF(joueurs,$B133),INDEX(interceptions,SMALL(IF(joueurs=$B133,ROW(INDIRECT(\"1:\"&ROWS(interceptions)))),ROWS($1:$11))),\"\")","v":0},{"$f":"IF(ROWS($1:$12)<=COUNTIF(joueurs,$B133),INDEX(interceptions,SMALL(IF(joueurs=$B133,ROW(INDIRECT(\"1:\"&ROWS(interceptions)))),ROWS($1:$12))),\"\")","v":0},{"$f":"IF(ROWS($1:$13)<=COUNTIF(joueurs,$B133),INDEX(interceptions,SMALL(IF(joueurs=$B133,ROW(INDIRECT(\"1:\"&ROWS(interceptions)))),ROWS($1:$13))),\"\")","v":0},{"$f":"IF(ROWS($1:$14)<=COUNTIF(joueurs,$B133),INDEX(interceptions,SMALL(IF(joueurs=$B133,ROW(INDIRECT(\"1:\"&ROWS(interceptions)))),ROWS($1:$14))),\"\")","v":0},{"$f":"IF(ROWS($1:$15)<=COUNTIF(joueurs,$B133),INDEX(interceptions,SMALL(IF(joueurs=$B133,ROW(INDIRECT(\"1:\"&ROWS(interceptions)))),ROWS($1:$15))),\"\")","v":0},{"$f":"IF(ROWS($1:$16)<=COUNTIF(joueurs,$B133),INDEX(interceptions,SMALL(IF(joueurs=$B133,ROW(INDIRECT(\"1:\"&ROWS(interceptions)))),ROWS($1:$16))),\"\")","v":0},{"$f":"IF(ROWS($1:$17)<=COUNTIF(joueurs,$B133),INDEX(interceptions,SMALL(IF(joueurs=$B133,ROW(INDIRECT(\"1:\"&ROWS(interceptions)))),ROWS($1:$17))),\"\")","v":0},{"$f":"IF(ROWS($1:$18)<=COUNTIF(joueurs,$B133),INDEX(interceptions,SMALL(IF(joueurs=$B133,ROW(INDIRECT(\"1:\"&ROWS(interceptions)))),ROWS($1:$18))),\"\")","v":0},{"$f":"IF(ROWS($1:$19)<=COUNTIF(joueurs,$B133),INDEX(interceptions,SMALL(IF(joueurs=$B133,ROW(INDIRECT(\"1:\"&ROWS(interceptions)))),ROWS($1:$19))),\"\")","v":0},{"$f":"IF(ROWS($1:$20)<=COUNTIF(joueurs,$B133),INDEX(interceptions,SMALL(IF(joueurs=$B133,ROW(INDIRECT(\"1:\"&ROWS(interceptions)))),ROWS($1:$20))),\"\")","v":0},{"$f":"IF(ROWS($1:$11)<=COUNTIF(joueurs,$B133),INDEX(ballonrecuperes,SMALL(IF(joueurs=$B133,ROW(INDIRECT(\"1:\"&ROWS(ballonrecuperes)))),ROWS($1:$11))),\"\")","v":0},{"$f":"IF(ROWS($1:$12)<=COUNTIF(joueurs,$B133),INDEX(ballonrecuperes,SMALL(IF(joueurs=$B133,ROW(INDIRECT(\"1:\"&ROWS(ballonrecuperes)))),ROWS($1:$12))),\"\")","v":0},{"$f":"IF(ROWS($1:$13)<=COUNTIF(joueurs,$B133),INDEX(ballonrecuperes,SMALL(IF(joueurs=$B133,ROW(INDIRECT(\"1:\"&ROWS(ballonrecuperes)))),ROWS($1:$13))),\"\")","v":0},{"$f":"IF(ROWS($1:$14)<=COUNTIF(joueurs,$B133),INDEX(ballonrecuperes,SMALL(IF(joueurs=$B133,ROW(INDIRECT(\"1:\"&ROWS(ballonrecuperes)))),ROWS($1:$14))),\"\")","v":0},{"$f":"IF(ROWS($1:$15)<=COUNTIF(joueurs,$B133),INDEX(ballonrecuperes,SMALL(IF(joueurs=$B133,ROW(INDIRECT(\"1:\"&ROWS(ballonrecuperes)))),ROWS($1:$15))),\"\")","v":0},{"$f":"IF(ROWS($1:$16)<=COUNTIF(joueurs,$B133),INDEX(ballonrecuperes,SMALL(IF(joueurs=$B133,ROW(INDIRECT(\"1:\"&ROWS(ballonrecuperes)))),ROWS($1:$16))),\"\")","v":0},{"$f":"IF(ROWS($1:$17)<=COUNTIF(joueurs,$B133),INDEX(ballonrecuperes,SMALL(IF(joueurs=$B133,ROW(INDIRECT(\"1:\"&ROWS(ballonrecuperes)))),ROWS($1:$17))),\"\")","v":0},{"$f":"IF(ROWS($1:$18)<=COUNTIF(joueurs,$B133),INDEX(ballonrecuperes,SMALL(IF(joueurs=$B133,ROW(INDIRECT(\"1:\"&ROWS(ballonrecuperes)))),ROWS($1:$18))),\"\")","v":0},{"$f":"IF(ROWS($1:$19)<=COUNTIF(joueurs,$B133),INDEX(ballonrecuperes,SMALL(IF(joueurs=$B133,ROW(INDIRECT(\"1:\"&ROWS(ballonrecuperes)))),ROWS($1:$19))),\"\")","v":0},{"$f":"IF(ROWS($1:$20)<=COUNTIF(joueurs,$B133),INDEX(ballonrecuperes,SMALL(IF(joueurs=$B133,ROW(INDIRECT(\"1:\"&ROWS(ballonrecuperes)))),ROWS($1:$20))),\"\")","v":0},{"$f":"IF(ROWS($1:$11)<=COUNTIF(joueurs,$B133),INDEX(tirs,SMALL(IF(joueurs=$B133,ROW(INDIRECT(\"1:\"&ROWS(tirs)))),ROWS($1:$11))),\"\")","v":0},{"$f":"IF(ROWS($1:$12)<=COUNTIF(joueurs,$B133),INDEX(tirs,SMALL(IF(joueurs=$B133,ROW(INDIRECT(\"1:\"&ROWS(tirs)))),ROWS($1:$12))),\"\")","v":0},{"$f":"IF(ROWS($1:$13)<=COUNTIF(joueurs,$B133),INDEX(tirs,SMALL(IF(joueurs=$B133,ROW(INDIRECT(\"1:\"&ROWS(tirs)))),ROWS($1:$13))),\"\")","v":0},{"$f":"IF(ROWS($1:$14)<=COUNTIF(joueurs,$B133),INDEX(tirs,SMALL(IF(joueurs=$B133,ROW(INDIRECT(\"1:\"&ROWS(tirs)))),ROWS($1:$14))),\"\")","v":0},{"$f":"IF(ROWS($1:$15)<=COUNTIF(joueurs,$B133),INDEX(tirs,SMALL(IF(joueurs=$B133,ROW(INDIRECT(\"1:\"&ROWS(tirs)))),ROWS($1:$15))),\"\")","v":0},{"$f":"IF(ROWS($1:$16)<=COUNTIF(joueurs,$B133),INDEX(tirs,SMALL(IF(joueurs=$B133,ROW(INDIRECT(\"1:\"&ROWS(tirs)))),ROWS($1:$16))),\"\")","v":0},{"$f":"IF(ROWS($1:$17)<=COUNTIF(joueurs,$B133),INDEX(tirs,SMALL(IF(joueurs=$B133,ROW(INDIRECT(\"1:\"&ROWS(tirs)))),ROWS($1:$17))),\"\")","v":0},{"$f":"IF(ROWS($1:$18)<=COUNTIF(joueurs,$B133),INDEX(tirs,SMALL(IF(joueurs=$B133,ROW(INDIRECT(\"1:\"&ROWS(tirs)))),ROWS($1:$18))),\"\")","v":0},{"$f":"IF(ROWS($1:$19)<=COUNTIF(joueurs,$B133),INDEX(tirs,SMALL(IF(joueurs=$B133,ROW(INDIRECT(\"1:\"&ROWS(tirs)))),ROWS($1:$19))),\"\")","v":0},{"$f":"IF(ROWS($1:$20)<=COUNTIF(joueurs,$B133),INDEX(tirs,SMALL(IF(joueurs=$B133,ROW(INDIRECT(\"1:\"&ROWS(tirs)))),ROWS($1:$20))),\"\")","v":0},{"$f":"IF(ROWS($1:$11)<=COUNTIF(joueurs,$B133),INDEX(bontirs,SMALL(IF(joueurs=$B133,ROW(INDIRECT(\"1:\"&ROWS(bontirs)))),ROWS($1:$11))),\"\")","v":0},{"$f":"IF(ROWS($1:$12)<=COUNTIF(joueurs,$B133),INDEX(bontirs,SMALL(IF(joueurs=$B133,ROW(INDIRECT(\"1:\"&ROWS(bontirs)))),ROWS($1:$12))),\"\")","v":0},{"$f":"IF(ROWS($1:$13)<=COUNTIF(joueurs,$B133),INDEX(bontirs,SMALL(IF(joueurs=$B133,ROW(INDIRECT(\"1:\"&ROWS(bontirs)))),ROWS($1:$13))),\"\")","v":0},{"$f":"IF(ROWS($1:$14)<=COUNTIF(joueurs,$B133),INDEX(bontirs,SMALL(IF(joueurs=$B133,ROW(INDIRECT(\"1:\"&ROWS(bontirs)))),ROWS($1:$14))),\"\")","v":0},{"$f":"IF(ROWS($1:$15)<=COUNTIF(joueurs,$B133),INDEX(bontirs,SMALL(IF(joueurs=$B133,ROW(INDIRECT(\"1:\"&ROWS(bontirs)))),ROWS($1:$15))),\"\")","v":0},{"$f":"IF(ROWS($1:$16)<=COUNTIF(joueurs,$B133),INDEX(bontirs,SMALL(IF(joueurs=$B133,ROW(INDIRECT(\"1:\"&ROWS(bontirs)))),ROWS($1:$16))),\"\")","v":0},{"$f":"IF(ROWS($1:$17)<=COUNTIF(joueurs,$B133),INDEX(bontirs,SMALL(IF(joueurs=$B133,ROW(INDIRECT(\"1:\"&ROWS(bontirs)))),ROWS($1:$17))),\"\")","v":0},{"$f":"IF(ROWS($1:$18)<=COUNTIF(joueurs,$B133),INDEX(bontirs,SMALL(IF(joueurs=$B133,ROW(INDIRECT(\"1:\"&ROWS(bontirs)))),ROWS($1:$18))),\"\")","v":0},{"$f":"IF(ROWS($1:$19)<=COUNTIF(joueurs,$B133),INDEX(bontirs,SMALL(IF(joueurs=$B133,ROW(INDIRECT(\"1:\"&ROWS(bontirs)))),ROWS($1:$19))),\"\")","v":0},{"$f":"IF(ROWS($1:$20)<=COUNTIF(joueurs,$B133),INDEX(bontirs,SMALL(IF(joueurs=$B133,ROW(INDIRECT(\"1:\"&ROWS(bontirs)))),ROWS($1:$20))),\"\")","v":0},{"$f":"IF(ROWS($1:$11)<=COUNTIF(joueurs,$B133),INDEX(points,SMALL(IF(joueurs=$B133,ROW(INDIRECT(\"1:\"&ROWS(points)))),ROWS($1:$11))),\"\")","v":0},{"$f":"IF(ROWS($1:$12)<=COUNTIF(joueurs,$B133),INDEX(points,SMALL(IF(joueurs=$B133,ROW(INDIRECT(\"1:\"&ROWS(points)))),ROWS($1:$12))),\"\")","v":0},{"$f":"IF(ROWS($1:$13)<=COUNTIF(joueurs,$B133),INDEX(points,SMALL(IF(joueurs=$B133,ROW(INDIRECT(\"1:\"&ROWS(points)))),ROWS($1:$13))),\"\")","v":0},{"$f":"IF(ROWS($1:$14)<=COUNTIF(joueurs,$B133),INDEX(points,SMALL(IF(joueurs=$B133,ROW(INDIRECT(\"1:\"&ROWS(points)))),ROWS($1:$14))),\"\")","v":0},{"$f":"IF(ROWS($1:$15)<=COUNTIF(joueurs,$B133),INDEX(points,SMALL(IF(joueurs=$B133,ROW(INDIRECT(\"1:\"&ROWS(points)))),ROWS($1:$15))),\"\")","v":0},{"$f":"IF(ROWS($1:$16)<=COUNTIF(joueurs,$B133),INDEX(points,SMALL(IF(joueurs=$B133,ROW(INDIRECT(\"1:\"&ROWS(points)))),ROWS($1:$16))),\"\")","v":0},{"$f":"IF(ROWS($1:$17)<=COUNTIF(joueurs,$B133),INDEX(points,SMALL(IF(joueurs=$B133,ROW(INDIRECT(\"1:\"&ROWS(points)))),ROWS($1:$17))),\"\")","v":0},{"$f":"IF(ROWS($1:$18)<=COUNTIF(joueurs,$B133),INDEX(points,SMALL(IF(joueurs=$B133,ROW(INDIRECT(\"1:\"&ROWS(points)))),ROWS($1:$18))),\"\")","v":0},{"$f":"IF(ROWS($1:$19)<=COUNTIF(joueurs,$B133),INDEX(points,SMALL(IF(joueurs=$B133,ROW(INDIRECT(\"1:\"&ROWS(points)))),ROWS($1:$19))),\"\")","v":0},{"$f":"IF(ROWS($1:$20)<=COUNTIF(points,$B133),INDEX(fautes,SMALL(IF(joueurs=$B133,ROW(INDIRECT(\"1:\"&ROWS(points)))),ROWS($1:$20))),\"\")","v":0},{"$f":"IF(ROWS($1:$11)<=COUNTIF(joueurs,$B133),INDEX(victoires,SMALL(IF(joueurs=$B133,ROW(INDIRECT(\"1:\"&ROWS(victoires)))),ROWS($1:$11))),\"\")","v":0},{"$f":"IF(ROWS($1:$12)<=COUNTIF(joueurs,$B133),INDEX(victoires,SMALL(IF(joueurs=$B133,ROW(INDIRECT(\"1:\"&ROWS(victoires)))),ROWS($1:$12))),\"\")","v":0},{"$f":"IF(ROWS($1:$13)<=COUNTIF(joueurs,$B133),INDEX(victoires,SMALL(IF(joueurs=$B133,ROW(INDIRECT(\"1:\"&ROWS(victoires)))),ROWS($1:$13))),\"\")","v":0},{"$f":"IF(ROWS($1:$14)<=COUNTIF(joueurs,$B133),INDEX(victoires,SMALL(IF(joueurs=$B133,ROW(INDIRECT(\"1:\"&ROWS(victoires)))),ROWS($1:$14))),\"\")","v":0},{"$f":"IF(ROWS($1:$15)<=COUNTIF(joueurs,$B133),INDEX(victoires,SMALL(IF(joueurs=$B133,ROW(INDIRECT(\"1:\"&ROWS(victoires)))),ROWS($1:$15))),\"\")","v":0},{"$f":"IF(ROWS($1:$16)<=COUNTIF(joueurs,$B133),INDEX(victoires,SMALL(IF(joueurs=$B133,ROW(INDIRECT(\"1:\"&ROWS(victoires)))),ROWS($1:$16))),\"\")","v":0},{"$f":"IF(ROWS($1:$17)<=COUNTIF(joueurs,$B133),INDEX(victoires,SMALL(IF(joueurs=$B133,ROW(INDIRECT(\"1:\"&ROWS(victoires)))),ROWS($1:$17))),\"\")","v":0},{"$f":"IF(ROWS($1:$18)<=COUNTIF(joueurs,$B133),INDEX(victoires,SMALL(IF(joueurs=$B133,ROW(INDIRECT(\"1:\"&ROWS(victoires)))),ROWS($1:$18))),\"\")","v":0},{"$f":"IF(ROWS($1:$19)<=COUNTIF(joueurs,$B133),INDEX(victoires,SMALL(IF(joueurs=$B133,ROW(INDIRECT(\"1:\"&ROWS(victoires)))),ROWS($1:$19))),\"\")","v":0},{"$f":"IF(ROWS($1:$20)<=COUNTIF(joueurs,$B133),INDEX(victoires,SMALL(IF(joueurs=$B133,ROW(INDIRECT(\"1:\"&ROWS(victoires)))),ROWS($1:$20))),\"\")","v":0}]
[null,null,null,{"$f":"IF(ROWS($1:$21)<=COUNTIF(joueurs,$B133),INDEX(fautes,SMALL(IF(joueurs=$B133,ROW(INDIRECT(\"1:\"&ROWS(fautes)))),ROWS($1:$21))),\"\")","v":0},{"$f":"IF(ROWS($1:$22)<=COUNTIF(joueurs,$B133),INDEX(fautes,SMALL(IF(joueurs=$B133,ROW(INDIRECT(\"1:\"&ROWS(fautes)))),ROWS($1:$22))),\"\")","v":0},{"$f":"IF(ROWS($1:$23)<=COUNTIF(joueurs,$B133),INDEX(fautes,SMALL(IF(joueurs=$B133,ROW(INDIRECT(\"1:\"&ROWS(fautes)))),ROWS($1:$23))),\"\")","v":0},{"$f":"IF(ROWS($1:$24)<=COUNTIF(joueurs,$B133),INDEX(fautes,SMALL(IF(joueurs=$B133,ROW(INDIRECT(\"1:\"&ROWS(fautes)))),ROWS($1:$24))),\"\")","v":0},{"$f":"IF(ROWS($1:$25)<=COUNTIF(joueurs,$B133),INDEX(fautes,SMALL(IF(joueurs=$B133,ROW(INDIRECT(\"1:\"&ROWS(fautes)))),ROWS($1:$25))),\"\")","v":0},{"$f":"IF(ROWS($1:$26)<=COUNTIF(joueurs,$B133),INDEX(fautes,SMALL(IF(joueurs=$B133,ROW(INDIRECT(\"1:\"&ROWS(fautes)))),ROWS($1:$26))),\"\")","v":0},{"$f":"IF(ROWS($1:$27)<=COUNTIF(joueurs,$B133),INDEX(fautes,SMALL(IF(joueurs=$B133,ROW(INDIRECT(\"1:\"&ROWS(fautes)))),ROWS($1:$27))),\"\")","v":0},{"$f":"IF(ROWS($1:$28)<=COUNTIF(joueurs,$B133),INDEX(fautes,SMALL(IF(joueurs=$B133,ROW(INDIRECT(\"1:\"&ROWS(fautes)))),ROWS($1:$28))),\"\")","v":0},{"$f":"IF(ROWS($1:$29)<=COUNTIF(joueurs,$B133),INDEX(fautes,SMALL(IF(joueurs=$B133,ROW(INDIRECT(\"1:\"&ROWS(fautes)))),ROWS($1:$29))),\"\")","v":0},{"$f":"IF(ROWS($1:$30)<=COUNTIF(joueurs,$B133),INDEX(fautes,SMALL(IF(joueurs=$B133,ROW(INDIRECT(\"1:\"&ROWS(fautes)))),ROWS($1:$30))),\"\")","v":0},{"$f":"IF(ROWS($1:$21)<=COUNTIF(joueurs,$B133),INDEX(ballonperdus,SMALL(IF(joueurs=$B133,ROW(INDIRECT(\"1:\"&ROWS(ballonperdus)))),ROWS($1:$21))),\"\")","v":0},{"$f":"IF(ROWS($1:$22)<=COUNTIF(joueurs,$B133),INDEX(ballonperdus,SMALL(IF(joueurs=$B133,ROW(INDIRECT(\"1:\"&ROWS(ballonperdus)))),ROWS($1:$22))),\"\")","v":0},{"$f":"IF(ROWS($1:$23)<=COUNTIF(joueurs,$B133),INDEX(ballonperdus,SMALL(IF(joueurs=$B133,ROW(INDIRECT(\"1:\"&ROWS(ballonperdus)))),ROWS($1:$23))),\"\")","v":0},{"$f":"IF(ROWS($1:$24)<=COUNTIF(joueurs,$B133),INDEX(ballonperdus,SMALL(IF(joueurs=$B133,ROW(INDIRECT(\"1:\"&ROWS(ballonperdus)))),ROWS($1:$24))),\"\")","v":0},{"$f":"IF(ROWS($1:$25)<=COUNTIF(joueurs,$B133),INDEX(ballonperdus,SMALL(IF(joueurs=$B133,ROW(INDIRECT(\"1:\"&ROWS(ballonperdus)))),ROWS($1:$25))),\"\")","v":0},{"$f":"IF(ROWS($1:$26)<=COUNTIF(joueurs,$B133),INDEX(ballonperdus,SMALL(IF(joueurs=$B133,ROW(INDIRECT(\"1:\"&ROWS(ballonperdus)))),ROWS($1:$26))),\"\")","v":0},{"$f":"IF(ROWS($1:$27)<=COUNTIF(joueurs,$B133),INDEX(ballonperdus,SMALL(IF(joueurs=$B133,ROW(INDIRECT(\"1:\"&ROWS(ballonperdus)))),ROWS($1:$27))),\"\")","v":0},{"$f":"IF(ROWS($1:$28)<=COUNTIF(joueurs,$B133),INDEX(ballonperdus,SMALL(IF(joueurs=$B133,ROW(INDIRECT(\"1:\"&ROWS(ballonperdus)))),ROWS($1:$28))),\"\")","v":0},{"$f":"IF(ROWS($1:$29)<=COUNTIF(joueurs,$B133),INDEX(ballonperdus,SMALL(IF(joueurs=$B133,ROW(INDIRECT(\"1:\"&ROWS(ballonperdus)))),ROWS($1:$29))),\"\")","v":0},{"$f":"IF(ROWS($1:$30)<=COUNTIF(joueurs,$B133),INDEX(ballonperdus,SMALL(IF(joueurs=$B133,ROW(INDIRECT(\"1:\"&ROWS(ballonperdus)))),ROWS($1:$30))),\"\")","v":0},{"$f":"IF(ROWS($1:$21)<=COUNTIF(joueurs,$B133),INDEX(interceptions,SMALL(IF(joueurs=$B133,ROW(INDIRECT(\"1:\"&ROWS(interceptions)))),ROWS($1:$21))),\"\")","v":0},{"$f":"IF(ROWS($1:$22)<=COUNTIF(joueurs,$B133),INDEX(interceptions,SMALL(IF(joueurs=$B133,ROW(INDIRECT(\"1:\"&ROWS(interceptions)))),ROWS($1:$22))),\"\")","v":0},{"$f":"IF(ROWS($1:$23)<=COUNTIF(joueurs,$B133),INDEX(interceptions,SMALL(IF(joueurs=$B133,ROW(INDIRECT(\"1:\"&ROWS(interceptions)))),ROWS($1:$23))),\"\")","v":0},{"$f":"IF(ROWS($1:$24)<=COUNTIF(joueurs,$B133),INDEX(interceptions,SMALL(IF(joueurs=$B133,ROW(INDIRECT(\"1:\"&ROWS(interceptions)))),ROWS($1:$24))),\"\")","v":0},{"$f":"IF(ROWS($1:$25)<=COUNTIF(joueurs,$B133),INDEX(interceptions,SMALL(IF(joueurs=$B133,ROW(INDIRECT(\"1:\"&ROWS(interceptions)))),ROWS($1:$25))),\"\")","v":0},{"$f":"IF(ROWS($1:$26)<=COUNTIF(joueurs,$B133),INDEX(interceptions,SMALL(IF(joueurs=$B133,ROW(INDIRECT(\"1:\"&ROWS(interceptions)))),ROWS($1:$26))),\"\")","v":0},{"$f":"IF(ROWS($1:$27)<=COUNTIF(joueurs,$B133),INDEX(interceptions,SMALL(IF(joueurs=$B133,ROW(INDIRECT(\"1:\"&ROWS(interceptions)))),ROWS($1:$27))),\"\")","v":0},{"$f":"IF(ROWS($1:$28)<=COUNTIF(joueurs,$B133),INDEX(interceptions,SMALL(IF(joueurs=$B133,ROW(INDIRECT(\"1:\"&ROWS(interceptions)))),ROWS($1:$28))),\"\")","v":0},{"$f":"IF(ROWS($1:$29)<=COUNTIF(joueurs,$B133),INDEX(interceptions,SMALL(IF(joueurs=$B133,ROW(INDIRECT(\"1:\"&ROWS(interceptions)))),ROWS($1:$29))),\"\")","v":0},{"$f":"IF(ROWS($1:$30)<=COUNTIF(joueurs,$B133),INDEX(interceptions,SMALL(IF(joueurs=$B133,ROW(INDIRECT(\"1:\"&ROWS(interceptions)))),ROWS($1:$30))),\"\")","v":0},{"$f":"IF(ROWS($1:$21)<=COUNTIF(joueurs,$B133),INDEX(ballonrecuperes,SMALL(IF(joueurs=$B133,ROW(INDIRECT(\"1:\"&ROWS(ballonrecuperes)))),ROWS($1:$21))),\"\")","v":0},{"$f":"IF(ROWS($1:$22)<=COUNTIF(joueurs,$B133),INDEX(ballonrecuperes,SMALL(IF(joueurs=$B133,ROW(INDIRECT(\"1:\"&ROWS(ballonrecuperes)))),ROWS($1:$22))),\"\")","v":0},{"$f":"IF(ROWS($1:$23)<=COUNTIF(joueurs,$B133),INDEX(ballonrecuperes,SMALL(IF(joueurs=$B133,ROW(INDIRECT(\"1:\"&ROWS(ballonrecuperes)))),ROWS($1:$23))),\"\")","v":0},{"$f":"IF(ROWS($1:$24)<=COUNTIF(joueurs,$B133),INDEX(ballonrecuperes,SMALL(IF(joueurs=$B133,ROW(INDIRECT(\"1:\"&ROWS(ballonrecuperes)))),ROWS($1:$24))),\"\")","v":0},{"$f":"IF(ROWS($1:$25)<=COUNTIF(joueurs,$B133),INDEX(ballonrecuperes,SMALL(IF(joueurs=$B133,ROW(INDIRECT(\"1:\"&ROWS(ballonrecuperes)))),ROWS($1:$25))),\"\")","v":0},{"$f":"IF(ROWS($1:$26)<=COUNTIF(joueurs,$B133),INDEX(ballonrecuperes,SMALL(IF(joueurs=$B133,ROW(INDIRECT(\"1:\"&ROWS(ballonrecuperes)))),ROWS($1:$26))),\"\")","v":0},{"$f":"IF(ROWS($1:$27)<=COUNTIF(joueurs,$B133),INDEX(ballonrecuperes,SMALL(IF(joueurs=$B133,ROW(INDIRECT(\"1:\"&ROWS(ballonrecuperes)))),ROWS($1:$27))),\"\")","v":0},{"$f":"IF(ROWS($1:$28)<=COUNTIF(joueurs,$B133),INDEX(ballonrecuperes,SMALL(IF(joueurs=$B133,ROW(INDIRECT(\"1:\"&ROWS(ballonrecuperes)))),ROWS($1:$28))),\"\")","v":0},{"$f":"IF(ROWS($1:$29)<=COUNTIF(joueurs,$B133),INDEX(ballonrecuperes,SMALL(IF(joueurs=$B133,ROW(INDIRECT(\"1:\"&ROWS(ballonrecuperes)))),ROWS($1:$29))),\"\")","v":0},{"$f":"IF(ROWS($1:$30)<=COUNTIF(joueurs,$B133),INDEX(ballonrecuperes,SMALL(IF(joueurs=$B133,ROW(INDIRECT(\"1:\"&ROWS(ballonrecuperes)))),ROWS($1:$30))),\"\")","v":0},{"$f":"IF(ROWS($1:$21)<=COUNTIF(joueurs,$B133),INDEX(tirs,SMALL(IF(joueurs=$B133,ROW(INDIRECT(\"1:\"&ROWS(tirs)))),ROWS($1:$21))),\"\")","v":0},{"$f":"IF(ROWS($1:$22)<=COUNTIF(joueurs,$B133),INDEX(tirs,SMALL(IF(joueurs=$B133,ROW(INDIRECT(\"1:\"&ROWS(tirs)))),ROWS($1:$22))),\"\")","v":0},{"$f":"IF(ROWS($1:$23)<=COUNTIF(joueurs,$B133),INDEX(tirs,SMALL(IF(joueurs=$B133,ROW(INDIRECT(\"1:\"&ROWS(tirs)))),ROWS($1:$23))),\"\")","v":0},{"$f":"IF(ROWS($1:$24)<=COUNTIF(joueurs,$B133),INDEX(tirs,SMALL(IF(joueurs=$B133,ROW(INDIRECT(\"1:\"&ROWS(tirs)))),ROWS($1:$24))),\"\")","v":0},{"$f":"IF(ROWS($1:$25)<=COUNTIF(joueurs,$B133),INDEX(tirs,SMALL(IF(joueurs=$B133,ROW(INDIRECT(\"1:\"&ROWS(tirs)))),ROWS($1:$25))),\"\")","v":0},{"$f":"IF(ROWS($1:$26)<=COUNTIF(joueurs,$B133),INDEX(tirs,SMALL(IF(joueurs=$B133,ROW(INDIRECT(\"1:\"&ROWS(tirs)))),ROWS($1:$26))),\"\")","v":0},{"$f":"IF(ROWS($1:$27)<=COUNTIF(joueurs,$B133),INDEX(tirs,SMALL(IF(joueurs=$B133,ROW(INDIRECT(\"1:\"&ROWS(tirs)))),ROWS($1:$27))),\"\")","v":0},{"$f":"IF(ROWS($1:$28)<=COUNTIF(joueurs,$B133),INDEX(tirs,SMALL(IF(joueurs=$B133,ROW(INDIRECT(\"1:\"&ROWS(tirs)))),ROWS($1:$28))),\"\")","v":0},{"$f":"IF(ROWS($1:$29)<=COUNTIF(joueurs,$B133),INDEX(tirs,SMALL(IF(joueurs=$B133,ROW(INDIRECT(\"1:\"&ROWS(tirs)))),ROWS($1:$29))),\"\")","v":0},{"$f":"IF(ROWS($1:$30)<=COUNTIF(joueurs,$B133),INDEX(tirs,SMALL(IF(joueurs=$B133,ROW(INDIRECT(\"1:\"&ROWS(tirs)))),ROWS($1:$30))),\"\")","v":0},{"$f":"IF(ROWS($1:$21)<=COUNTIF(joueurs,$B133),INDEX(bontirs,SMALL(IF(joueurs=$B133,ROW(INDIRECT(\"1:\"&ROWS(bontirs)))),ROWS($1:$21))),\"\")","v":0},{"$f":"IF(ROWS($1:$22)<=COUNTIF(joueurs,$B133),INDEX(bontirs,SMALL(IF(joueurs=$B133,ROW(INDIRECT(\"1:\"&ROWS(bontirs)))),ROWS($1:$22))),\"\")","v":0},{"$f":"IF(ROWS($1:$23)<=COUNTIF(joueurs,$B133),INDEX(bontirs,SMALL(IF(joueurs=$B133,ROW(INDIRECT(\"1:\"&ROWS(bontirs)))),ROWS($1:$23))),\"\")","v":0},{"$f":"IF(ROWS($1:$24)<=COUNTIF(joueurs,$B133),INDEX(bontirs,SMALL(IF(joueurs=$B133,ROW(INDIRECT(\"1:\"&ROWS(bontirs)))),ROWS($1:$24))),\"\")","v":0},{"$f":"IF(ROWS($1:$25)<=COUNTIF(joueurs,$B133),INDEX(bontirs,SMALL(IF(joueurs=$B133,ROW(INDIRECT(\"1:\"&ROWS(bontirs)))),ROWS($1:$25))),\"\")","v":0},{"$f":"IF(ROWS($1:$26)<=COUNTIF(joueurs,$B133),INDEX(bontirs,SMALL(IF(joueurs=$B133,ROW(INDIRECT(\"1:\"&ROWS(bontirs)))),ROWS($1:$26))),\"\")","v":0},{"$f":"IF(ROWS($1:$27)<=COUNTIF(joueurs,$B133),INDEX(bontirs,SMALL(IF(joueurs=$B133,ROW(INDIRECT(\"1:\"&ROWS(bontirs)))),ROWS($1:$27))),\"\")","v":0},{"$f":"IF(ROWS($1:$28)<=COUNTIF(joueurs,$B133),INDEX(bontirs,SMALL(IF(joueurs=$B133,ROW(INDIRECT(\"1:\"&ROWS(bontirs)))),ROWS($1:$28))),\"\")","v":0},{"$f":"IF(ROWS($1:$29)<=COUNTIF(joueurs,$B133),INDEX(bontirs,SMALL(IF(joueurs=$B133,ROW(INDIRECT(\"1:\"&ROWS(bontirs)))),ROWS($1:$29))),\"\")","v":0},{"$f":"IF(ROWS($1:$30)<=COUNTIF(joueurs,$B133),INDEX(bontirs,SMALL(IF(joueurs=$B133,ROW(INDIRECT(\"1:\"&ROWS(bontirs)))),ROWS($1:$30))),\"\")","v":0},{"$f":"IF(ROWS($1:$21)<=COUNTIF(joueurs,$B133),INDEX(points,SMALL(IF(joueurs=$B133,ROW(INDIRECT(\"1:\"&ROWS(points)))),ROWS($1:$21))),\"\")","v":0},{"$f":"IF(ROWS($1:$22)<=COUNTIF(joueurs,$B133),INDEX(points,SMALL(IF(joueurs=$B133,ROW(INDIRECT(\"1:\"&ROWS(points)))),ROWS($1:$22))),\"\")","v":0},{"$f":"IF(ROWS($1:$23)<=COUNTIF(joueurs,$B133),INDEX(points,SMALL(IF(joueurs=$B133,ROW(INDIRECT(\"1:\"&ROWS(points)))),ROWS($1:$23))),\"\")","v":0},{"$f":"IF(ROWS($1:$24)<=COUNTIF(joueurs,$B133),INDEX(points,SMALL(IF(joueurs=$B133,ROW(INDIRECT(\"1:\"&ROWS(points)))),ROWS($1:$24))),\"\")","v":0},{"$f":"IF(ROWS($1:$25)<=COUNTIF(joueurs,$B133),INDEX(points,SMALL(IF(joueurs=$B133,ROW(INDIRECT(\"1:\"&ROWS(points)))),ROWS($1:$25))),\"\")","v":0},{"$f":"IF(ROWS($1:$26)<=COUNTIF(joueurs,$B133),INDEX(points,SMALL(IF(joueurs=$B133,ROW(INDIRECT(\"1:\"&ROWS(points)))),ROWS($1:$26))),\"\")","v":0},{"$f":"IF(ROWS($1:$27)<=COUNTIF(joueurs,$B133),INDEX(points,SMALL(IF(joueurs=$B133,ROW(INDIRECT(\"1:\"&ROWS(points)))),ROWS($1:$27))),\"\")","v":0},{"$f":"IF(ROWS($1:$28)<=COUNTIF(joueurs,$B133),INDEX(points,SMALL(IF(joueurs=$B133,ROW(INDIRECT(\"1:\"&ROWS(points)))),ROWS($1:$28))),\"\")","v":0},{"$f":"IF(ROWS($1:$29)<=COUNTIF(joueurs,$B133),INDEX(points,SMALL(IF(joueurs=$B133,ROW(INDIRECT(\"1:\"&ROWS(points)))),ROWS($1:$29))),\"\")","v":0},{"$f":"IF(ROWS($1:$30)<=COUNTIF(joueurs,$B133),INDEX(points,SMALL(IF(joueurs=$B133,ROW(INDIRECT(\"1:\"&ROWS(points)))),ROWS($1:$30))),\"\")","v":0},{"$f":"IF(ROWS($1:$21)<=COUNTIF(joueurs,$B133),INDEX(victoires,SMALL(IF(joueurs=$B133,ROW(INDIRECT(\"1:\"&ROWS(victoires)))),ROWS($1:$21))),\"\")","v":0},{"$f":"IF(ROWS($1:$22)<=COUNTIF(joueurs,$B133),INDEX(victoires,SMALL(IF(joueurs=$B133,ROW(INDIRECT(\"1:\"&ROWS(victoires)))),ROWS($1:$22))),\"\")","v":0},{"$f":"IF(ROWS($1:$23)<=COUNTIF(joueurs,$B133),INDEX(victoires,SMALL(IF(joueurs=$B133,ROW(INDIRECT(\"1:\"&ROWS(victoires)))),ROWS($1:$23))),\"\")","v":0},{"$f":"IF(ROWS($1:$24)<=COUNTIF(joueurs,$B133),INDEX(victoires,SMALL(IF(joueurs=$B133,ROW(INDIRECT(\"1:\"&ROWS(victoires)))),ROWS($1:$24))),\"\")","v":0},{"$f":"IF(ROWS($1:$25)<=COUNTIF(joueurs,$B133),INDEX(victoires,SMALL(IF(joueurs=$B133,ROW(INDIRECT(\"1:\"&ROWS(victoires)))),ROWS($1:$25))),\"\")","v":0},{"$f":"IF(ROWS($1:$26)<=COUNTIF(joueurs,$B133),INDEX(victoires,SMALL(IF(joueurs=$B133,ROW(INDIRECT(\"1:\"&ROWS(victoires)))),ROWS($1:$26))),\"\")","v":0},{"$f":"IF(ROWS($1:$27)<=COUNTIF(joueurs,$B133),INDEX(victoires,SMALL(IF(joueurs=$B133,ROW(INDIRECT(\"1:\"&ROWS(victoires)))),ROWS($1:$27))),\"\")","v":0},{"$f":"IF(ROWS($1:$28)<=COUNTIF(joueurs,$B133),INDEX(victoires,SMALL(IF(joueurs=$B133,ROW(INDIRECT(\"1:\"&ROWS(victoires)))),ROWS($1:$28))),\"\")","v":0},{"$f":"IF(ROWS($1:$29)<=COUNTIF(joueurs,$B133),INDEX(victoires,SMALL(IF(joueurs=$B133,ROW(INDIRECT(\"1:\"&ROWS(victoires)))),ROWS($1:$29))),\"\")","v":0},{"$f":"IF(ROWS($1:$30)<=COUNTIF(joueurs,$B133),INDEX(victoires,SMALL(IF(joueurs=$B133,ROW(INDIRECT(\"1:\"&ROWS(victoires)))),ROWS($1:$30))),\"\")","v":0}]
[null,null,null,{"$f":"IF(ROWS($1:$31)<=COUNTIF(joueurs,$B133),INDEX(fautes,SMALL(IF(joueurs=$B133,ROW(INDIRECT(\"1:\"&ROWS(fautes)))),ROWS($1:$31))),\"\")","v":0},{"$f":"IF(ROWS($1:$32)<=COUNTIF(joueurs,$B133),INDEX(fautes,SMALL(IF(joueurs=$B133,ROW(INDIRECT(\"1:\"&ROWS(fautes)))),ROWS($1:$32))),\"\")","v":0},{"$f":"IF(ROWS($1:$33)<=COUNTIF(joueurs,$B133),INDEX(fautes,SMALL(IF(joueurs=$B133,ROW(INDIRECT(\"1:\"&ROWS(fautes)))),ROWS($1:$33))),\"\")","v":0},{"$f":"IF(ROWS($1:$34)<=COUNTIF(joueurs,$B133),INDEX(fautes,SMALL(IF(joueurs=$B133,ROW(INDIRECT(\"1:\"&ROWS(fautes)))),ROWS($1:$34))),\"\")","v":0},{"$f":"IF(ROWS($1:$35)<=COUNTIF(joueurs,$B133),INDEX(fautes,SMALL(IF(joueurs=$B133,ROW(INDIRECT(\"1:\"&ROWS(fautes)))),ROWS($1:$35))),\"\")","v":0},{"$f":"IF(ROWS($1:$36)<=COUNTIF(joueurs,$B133),INDEX(fautes,SMALL(IF(joueurs=$B133,ROW(INDIRECT(\"1:\"&ROWS(fautes)))),ROWS($1:$36))),\"\")","v":0},{"$f":"IF(ROWS($1:$37)<=COUNTIF(joueurs,$B133),INDEX(fautes,SMALL(IF(joueurs=$B133,ROW(INDIRECT(\"1:\"&ROWS(fautes)))),ROWS($1:$37))),\"\")","v":0},{"$f":"IF(ROWS($1:$38)<=COUNTIF(joueurs,$B133),INDEX(fautes,SMALL(IF(joueurs=$B133,ROW(INDIRECT(\"1:\"&ROWS(fautes)))),ROWS($1:$38))),\"\")","v":0},{"$f":"IF(ROWS($1:$39)<=COUNTIF(joueurs,$B133),INDEX(fautes,SMALL(IF(joueurs=$B133,ROW(INDIRECT(\"1:\"&ROWS(fautes)))),ROWS($1:$39))),\"\")","v":0},{"$f":"IF(ROWS($1:$40)<=COUNTIF(joueurs,$B133),INDEX(fautes,SMALL(IF(joueurs=$B133,ROW(INDIRECT(\"1:\"&ROWS(fautes)))),ROWS($1:$40))),\"\")","v":0},{"$f":"IF(ROWS($1:$31)<=COUNTIF(joueurs,$B133),INDEX(ballonperdus,SMALL(IF(joueurs=$B133,ROW(INDIRECT(\"1:\"&ROWS(ballonperdus)))),ROWS($1:$31))),\"\")","v":0},{"$f":"IF(ROWS($1:$32)<=COUNTIF(joueurs,$B133),INDEX(ballonperdus,SMALL(IF(joueurs=$B133,ROW(INDIRECT(\"1:\"&ROWS(ballonperdus)))),ROWS($1:$32))),\"\")","v":0},{"$f":"IF(ROWS($1:$33)<=COUNTIF(joueurs,$B133),INDEX(ballonperdus,SMALL(IF(joueurs=$B133,ROW(INDIRECT(\"1:\"&ROWS(ballonperdus)))),ROWS($1:$33))),\"\")","v":0},{"$f":"IF(ROWS($1:$34)<=COUNTIF(joueurs,$B133),INDEX(ballonperdus,SMALL(IF(joueurs=$B133,ROW(INDIRECT(\"1:\"&ROWS(ballonperdus)))),ROWS($1:$34))),\"\")","v":0},{"$f":"IF(ROWS($1:$35)<=COUNTIF(joueurs,$B133),INDEX(ballonperdus,SMALL(IF(joueurs=$B133,ROW(INDIRECT(\"1:\"&ROWS(ballonperdus)))),ROWS($1:$35))),\"\")","v":0},{"$f":"IF(ROWS($1:$36)<=COUNTIF(joueurs,$B133),INDEX(ballonperdus,SMALL(IF(joueurs=$B133,ROW(INDIRECT(\"1:\"&ROWS(ballonperdus)))),ROWS($1:$36))),\"\")","v":0},{"$f":"IF(ROWS($1:$37)<=COUNTIF(joueurs,$B133),INDEX(ballonperdus,SMALL(IF(joueurs=$B133,ROW(INDIRECT(\"1:\"&ROWS(ballonperdus)))),ROWS($1:$37))),\"\")","v":0},{"$f":"IF(ROWS($1:$38)<=COUNTIF(joueurs,$B133),INDEX(ballonperdus,SMALL(IF(joueurs=$B133,ROW(INDIRECT(\"1:\"&ROWS(ballonperdus)))),ROWS($1:$38))),\"\")","v":0},{"$f":"IF(ROWS($1:$39)<=COUNTIF(joueurs,$B133),INDEX(ballonperdus,SMALL(IF(joueurs=$B133,ROW(INDIRECT(\"1:\"&ROWS(ballonperdus)))),ROWS($1:$39))),\"\")","v":0},{"$f":"IF(ROWS($1:$40)<=COUNTIF(joueurs,$B133),INDEX(ballonperdus,SMALL(IF(joueurs=$B133,ROW(INDIRECT(\"1:\"&ROWS(ballonperdus)))),ROWS($1:$40))),\"\")","v":0},{"$f":"IF(ROWS($1:$31)<=COUNTIF(joueurs,$B133),INDEX(interceptions,SMALL(IF(joueurs=$B133,ROW(INDIRECT(\"1:\"&ROWS(interceptions)))),ROWS($1:$31))),\"\")","v":0},{"$f":"IF(ROWS($1:$32)<=COUNTIF(joueurs,$B133),INDEX(interceptions,SMALL(IF(joueurs=$B133,ROW(INDIRECT(\"1:\"&ROWS(interceptions)))),ROWS($1:$32))),\"\")","v":0},{"$f":"IF(ROWS($1:$33)<=COUNTIF(joueurs,$B133),INDEX(interceptions,SMALL(IF(joueurs=$B133,ROW(INDIRECT(\"1:\"&ROWS(interceptions)))),ROWS($1:$33))),\"\")","v":0},{"$f":"IF(ROWS($1:$34)<=COUNTIF(joueurs,$B133),INDEX(interceptions,SMALL(IF(joueurs=$B133,ROW(INDIRECT(\"1:\"&ROWS(interceptions)))),ROWS($1:$34))),\"\")","v":0},{"$f":"IF(ROWS($1:$35)<=COUNTIF(joueurs,$B133),INDEX(interceptions,SMALL(IF(joueurs=$B133,ROW(INDIRECT(\"1:\"&ROWS(interceptions)))),ROWS($1:$35))),\"\")","v":0},{"$f":"IF(ROWS($1:$36)<=COUNTIF(joueurs,$B133),INDEX(interceptions,SMALL(IF(joueurs=$B133,ROW(INDIRECT(\"1:\"&ROWS(interceptions)))),ROWS($1:$36))),\"\")","v":0},{"$f":"IF(ROWS($1:$37)<=COUNTIF(joueurs,$B133),INDEX(interceptions,SMALL(IF(joueurs=$B133,ROW(INDIRECT(\"1:\"&ROWS(interceptions)))),ROWS($1:$37))),\"\")","v":0},{"$f":"IF(ROWS($1:$38)<=COUNTIF(joueurs,$B133),INDEX(interceptions,SMALL(IF(joueurs=$B133,ROW(INDIRECT(\"1:\"&ROWS(interceptions)))),ROWS($1:$38))),\"\")","v":0},{"$f":"IF(ROWS($1:$39)<=COUNTIF(joueurs,$B133),INDEX(interceptions,SMALL(IF(joueurs=$B133,ROW(INDIRECT(\"1:\"&ROWS(interceptions)))),ROWS($1:$39))),\"\")","v":0},{"$f":"IF(ROWS($1:$40)<=COUNTIF(joueurs,$B133),INDEX(interceptions,SMALL(IF(joueurs=$B133,ROW(INDIRECT(\"1:\"&ROWS(interceptions)))),ROWS($1:$40))),\"\")","v":0},{"$f":"IF(ROWS($1:$31)<=COUNTIF(joueurs,$B133),INDEX(ballonrecuperes,SMALL(IF(joueurs=$B133,ROW(INDIRECT(\"1:\"&ROWS(ballonrecuperes)))),ROWS($1:$31))),\"\")","v":0},{"$f":"IF(ROWS($1:$32)<=COUNTIF(joueurs,$B133),INDEX(ballonrecuperes,SMALL(IF(joueurs=$B133,ROW(INDIRECT(\"1:\"&ROWS(ballonrecuperes)))),ROWS($1:$32))),\"\")","v":0},{"$f":"IF(ROWS($1:$33)<=COUNTIF(joueurs,$B133),INDEX(ballonrecuperes,SMALL(IF(joueurs=$B133,ROW(INDIRECT(\"1:\"&ROWS(ballonrecuperes)))),ROWS($1:$33))),\"\")","v":0},{"$f":"IF(ROWS($1:$34)<=COUNTIF(joueurs,$B133),INDEX(ballonrecuperes,SMALL(IF(joueurs=$B133,ROW(INDIRECT(\"1:\"&ROWS(ballonrecuperes)))),ROWS($1:$34))),\"\")","v":0},{"$f":"IF(ROWS($1:$35)<=COUNTIF(joueurs,$B133),INDEX(ballonrecuperes,SMALL(IF(joueurs=$B133,ROW(INDIRECT(\"1:\"&ROWS(ballonrecuperes)))),ROWS($1:$35))),\"\")","v":0},{"$f":"IF(ROWS($1:$36)<=COUNTIF(joueurs,$B133),INDEX(ballonrecuperes,SMALL(IF(joueurs=$B133,ROW(INDIRECT(\"1:\"&ROWS(ballonrecuperes)))),ROWS($1:$36))),\"\")","v":0},{"$f":"IF(ROWS($1:$37)<=COUNTIF(joueurs,$B133),INDEX(ballonrecuperes,SMALL(IF(joueurs=$B133,ROW(INDIRECT(\"1:\"&ROWS(ballonrecuperes)))),ROWS($1:$37))),\"\")","v":0},{"$f":"IF(ROWS($1:$38)<=COUNTIF(joueurs,$B133),INDEX(ballonrecuperes,SMALL(IF(joueurs=$B133,ROW(INDIRECT(\"1:\"&ROWS(ballonrecuperes)))),ROWS($1:$38))),\"\")","v":0},{"$f":"IF(ROWS($1:$39)<=COUNTIF(joueurs,$B133),INDEX(ballonrecuperes,SMALL(IF(joueurs=$B133,ROW(INDIRECT(\"1:\"&ROWS(ballonrecuperes)))),ROWS($1:$39))),\"\")","v":0},{"$f":"IF(ROWS($1:$40)<=COUNTIF(joueurs,$B133),INDEX(ballonrecuperes,SMALL(IF(joueurs=$B133,ROW(INDIRECT(\"1:\"&ROWS(ballonrecuperes)))),ROWS($1:$40))),\"\")","v":0},{"$f":"IF(ROWS($1:$31)<=COUNTIF(joueurs,$B133),INDEX(tirs,SMALL(IF(joueurs=$B133,ROW(INDIRECT(\"1:\"&ROWS(tirs)))),ROWS($1:$31))),\"\")","v":0},{"$f":"IF(ROWS($1:$32)<=COUNTIF(joueurs,$B133),INDEX(tirs,SMALL(IF(joueurs=$B133,ROW(INDIRECT(\"1:\"&ROWS(tirs)))),ROWS($1:$32))),\"\")","v":0},{"$f":"IF(ROWS($1:$33)<=COUNTIF(joueurs,$B133),INDEX(tirs,SMALL(IF(joueurs=$B133,ROW(INDIRECT(\"1:\"&ROWS(tirs)))),ROWS($1:$33))),\"\")","v":0},{"$f":"IF(ROWS($1:$34)<=COUNTIF(joueurs,$B133),INDEX(tirs,SMALL(IF(joueurs=$B133,ROW(INDIRECT(\"1:\"&ROWS(tirs)))),ROWS($1:$34))),\"\")","v":0},{"$f":"IF(ROWS($1:$35)<=COUNTIF(joueurs,$B133),INDEX(tirs,SMALL(IF(joueurs=$B133,ROW(INDIRECT(\"1:\"&ROWS(tirs)))),ROWS($1:$35))),\"\")","v":0},{"$f":"IF(ROWS($1:$36)<=COUNTIF(joueurs,$B133),INDEX(tirs,SMALL(IF(joueurs=$B133,ROW(INDIRECT(\"1:\"&ROWS(tirs)))),ROWS($1:$36))),\"\")","v":0},{"$f":"IF(ROWS($1:$37)<=COUNTIF(joueurs,$B133),INDEX(tirs,SMALL(IF(joueurs=$B133,ROW(INDIRECT(\"1:\"&ROWS(tirs)))),ROWS($1:$37))),\"\")","v":0},{"$f":"IF(ROWS($1:$38)<=COUNTIF(joueurs,$B133),INDEX(tirs,SMALL(IF(joueurs=$B133,ROW(INDIRECT(\"1:\"&ROWS(tirs)))),ROWS($1:$38))),\"\")","v":0},{"$f":"IF(ROWS($1:$39)<=COUNTIF(joueurs,$B133),INDEX(tirs,SMALL(IF(joueurs=$B133,ROW(INDIRECT(\"1:\"&ROWS(tirs)))),ROWS($1:$39))),\"\")","v":0},{"$f":"IF(ROWS($1:$40)<=COUNTIF(joueurs,$B133),INDEX(tirs,SMALL(IF(joueurs=$B133,ROW(INDIRECT(\"1:\"&ROWS(tirs)))),ROWS($1:$40))),\"\")","v":0},{"$f":"IF(ROWS($1:$31)<=COUNTIF(joueurs,$B133),INDEX(bontirs,SMALL(IF(joueurs=$B133,ROW(INDIRECT(\"1:\"&ROWS(bontirs)))),ROWS($1:$31))),\"\")","v":0},{"$f":"IF(ROWS($1:$32)<=COUNTIF(joueurs,$B133),INDEX(bontirs,SMALL(IF(joueurs=$B133,ROW(INDIRECT(\"1:\"&ROWS(bontirs)))),ROWS($1:$32))),\"\")","v":0},{"$f":"IF(ROWS($1:$33)<=COUNTIF(joueurs,$B133),INDEX(bontirs,SMALL(IF(joueurs=$B133,ROW(INDIRECT(\"1:\"&ROWS(bontirs)))),ROWS($1:$33))),\"\")","v":0},{"$f":"IF(ROWS($1:$34)<=COUNTIF(joueurs,$B133),INDEX(bontirs,SMALL(IF(joueurs=$B133,ROW(INDIRECT(\"1:\"&ROWS(bontirs)))),ROWS($1:$34))),\"\")","v":0},{"$f":"IF(ROWS($1:$35)<=COUNTIF(joueurs,$B133),INDEX(bontirs,SMALL(IF(joueurs=$B133,ROW(INDIRECT(\"1:\"&ROWS(bontirs)))),ROWS($1:$35))),\"\")","v":0},{"$f":"IF(ROWS($1:$36)<=COUNTIF(joueurs,$B133),INDEX(bontirs,SMALL(IF(joueurs=$B133,ROW(INDIRECT(\"1:\"&ROWS(bontirs)))),ROWS($1:$36))),\"\")","v":0},{"$f":"IF(ROWS($1:$37)<=COUNTIF(joueurs,$B133),INDEX(bontirs,SMALL(IF(joueurs=$B133,ROW(INDIRECT(\"1:\"&ROWS(bontirs)))),ROWS($1:$37))),\"\")","v":0},{"$f":"IF(ROWS($1:$38)<=COUNTIF(joueurs,$B133),INDEX(bontirs,SMALL(IF(joueurs=$B133,ROW(INDIRECT(\"1:\"&ROWS(bontirs)))),ROWS($1:$38))),\"\")","v":0},{"$f":"IF(ROWS($1:$39)<=COUNTIF(joueurs,$B133),INDEX(bontirs,SMALL(IF(joueurs=$B133,ROW(INDIRECT(\"1:\"&ROWS(bontirs)))),ROWS($1:$39))),\"\")","v":0},{"$f":"IF(ROWS($1:$40)<=COUNTIF(joueurs,$B133),INDEX(bontirs,SMALL(IF(joueurs=$B133,ROW(INDIRECT(\"1:\"&ROWS(bontirs)))),ROWS($1:$40))),\"\")","v":0},{"$f":"IF(ROWS($1:$31)<=COUNTIF(joueurs,$B133),INDEX(points,SMALL(IF(joueurs=$B133,ROW(INDIRECT(\"1:\"&ROWS(points)))),ROWS($1:$31))),\"\")","v":0},{"$f":"IF(ROWS($1:$32)<=COUNTIF(joueurs,$B133),INDEX(points,SMALL(IF(joueurs=$B133,ROW(INDIRECT(\"1:\"&ROWS(points)))),ROWS($1:$32))),\"\")","v":0},{"$f":"IF(ROWS($1:$33)<=COUNTIF(joueurs,$B133),INDEX(points,SMALL(IF(joueurs=$B133,ROW(INDIRECT(\"1:\"&ROWS(points)))),ROWS($1:$33))),\"\")","v":0},{"$f":"IF(ROWS($1:$34)<=COUNTIF(joueurs,$B133),INDEX(points,SMALL(IF(joueurs=$B133,ROW(INDIRECT(\"1:\"&ROWS(points)))),ROWS($1:$34))),\"\")","v":0},{"$f":"IF(ROWS($1:$35)<=COUNTIF(joueurs,$B133),INDEX(points,SMALL(IF(joueurs=$B133,ROW(INDIRECT(\"1:\"&ROWS(points)))),ROWS($1:$35))),\"\")","v":0},{"$f":"IF(ROWS($1:$36)<=COUNTIF(joueurs,$B133),INDEX(points,SMALL(IF(joueurs=$B133,ROW(INDIRECT(\"1:\"&ROWS(points)))),ROWS($1:$36))),\"\")","v":0},{"$f":"IF(ROWS($1:$37)<=COUNTIF(joueurs,$B133),INDEX(points,SMALL(IF(joueurs=$B133,ROW(INDIRECT(\"1:\"&ROWS(points)))),ROWS($1:$37))),\"\")","v":0},{"$f":"IF(ROWS($1:$38)<=COUNTIF(joueurs,$B133),INDEX(points,SMALL(IF(joueurs=$B133,ROW(INDIRECT(\"1:\"&ROWS(points)))),ROWS($1:$38))),\"\")","v":0},{"$f":"IF(ROWS($1:$39)<=COUNTIF(joueurs,$B133),INDEX(points,SMALL(IF(joueurs=$B133,ROW(INDIRECT(\"1:\"&ROWS(points)))),ROWS($1:$39))),\"\")","v":0},{"$f":"IF(ROWS($1:$40)<=COUNTIF(joueurs,$B133),INDEX(points,SMALL(IF(joueurs=$B133,ROW(INDIRECT(\"1:\"&ROWS(points)))),ROWS($1:$40))),\"\")","v":0},{"$f":"IF(ROWS($1:$31)<=COUNTIF(joueurs,$B133),INDEX(victoires,SMALL(IF(joueurs=$B133,ROW(INDIRECT(\"1:\"&ROWS(victoires)))),ROWS($1:$31))),\"\")","v":0},{"$f":"IF(ROWS($1:$32)<=COUNTIF(joueurs,$B133),INDEX(victoires,SMALL(IF(joueurs=$B133,ROW(INDIRECT(\"1:\"&ROWS(victoires)))),ROWS($1:$32))),\"\")","v":0},{"$f":"IF(ROWS($1:$33)<=COUNTIF(joueurs,$B133),INDEX(victoires,SMALL(IF(joueurs=$B133,ROW(INDIRECT(\"1:\"&ROWS(victoires)))),ROWS($1:$33))),\"\")","v":0},{"$f":"IF(ROWS($1:$34)<=COUNTIF(joueurs,$B133),INDEX(victoires,SMALL(IF(joueurs=$B133,ROW(INDIRECT(\"1:\"&ROWS(victoires)))),ROWS($1:$34))),\"\")","v":0},{"$f":"IF(ROWS($1:$35)<=COUNTIF(joueurs,$B133),INDEX(victoires,SMALL(IF(joueurs=$B133,ROW(INDIRECT(\"1:\"&ROWS(victoires)))),ROWS($1:$35))),\"\")","v":0},{"$f":"IF(ROWS($1:$36)<=COUNTIF(joueurs,$B133),INDEX(victoires,SMALL(IF(joueurs=$B133,ROW(INDIRECT(\"1:\"&ROWS(victoires)))),ROWS($1:$36))),\"\")","v":0},{"$f":"IF(ROWS($1:$37)<=COUNTIF(joueurs,$B133),INDEX(victoires,SMALL(IF(joueurs=$B133,ROW(INDIRECT(\"1:\"&ROWS(victoires)))),ROWS($1:$37))),\"\")","v":0},{"$f":"IF(ROWS($1:$38)<=COUNTIF(joueurs,$B133),INDEX(victoires,SMALL(IF(joueurs=$B133,ROW(INDIRECT(\"1:\"&ROWS(victoires)))),ROWS($1:$38))),\"\")","v":0},{"$f":"IF(ROWS($1:$39)<=COUNTIF(joueurs,$B133),INDEX(victoires,SMALL(IF(joueurs=$B133,ROW(INDIRECT(\"1:\"&ROWS(victoires)))),ROWS($1:$39))),\"\")","v":0},{"$f":"IF(ROWS($1:$40)<=COUNTIF(joueurs,$B133),INDEX(victoires,SMALL(IF(joueurs=$B133,ROW(INDIRECT(\"1:\"&ROWS(victoires)))),ROWS($1:$40))),\"\")","v":0}]
[34,{"$f":"INDEX(eleves,MATCH(A137,numero,0),MATCH($B$2,classes,0))","v":0},null,{"$f":"IF(ROWS($1:$1)<=COUNTIF(joueurs,$B137),INDEX(fautes,SMALL(IF(joueurs=$B137,ROW(INDIRECT(\"1:\"&ROWS(fautes)))),ROWS($1:$1))),\"\")","v":0},{"$f":"IF(ROWS($1:$2)<=COUNTIF(joueurs,$B137),INDEX(fautes,SMALL(IF(joueurs=$B137,ROW(INDIRECT(\"1:\"&ROWS(fautes)))),ROWS($1:$2))),\"\")","v":0},{"$f":"IF(ROWS($1:$3)<=COUNTIF(joueurs,$B137),INDEX(fautes,SMALL(IF(joueurs=$B137,ROW(INDIRECT(\"1:\"&ROWS(fautes)))),ROWS($1:$3))),\"\")","v":0},{"$f":"IF(ROWS($1:$4)<=COUNTIF(joueurs,$B137),INDEX(fautes,SMALL(IF(joueurs=$B137,ROW(INDIRECT(\"1:\"&ROWS(fautes)))),ROWS($1:$4))),\"\")","v":0},{"$f":"IF(ROWS($1:$5)<=COUNTIF(joueurs,$B137),INDEX(fautes,SMALL(IF(joueurs=$B137,ROW(INDIRECT(\"1:\"&ROWS(fautes)))),ROWS($1:$5))),\"\")","v":0},{"$f":"IF(ROWS($1:$6)<=COUNTIF(joueurs,$B137),INDEX(fautes,SMALL(IF(joueurs=$B137,ROW(INDIRECT(\"1:\"&ROWS(fautes)))),ROWS($1:$6))),\"\")","v":0},{"$f":"IF(ROWS($1:$7)<=COUNTIF(joueurs,$B137),INDEX(fautes,SMALL(IF(joueurs=$B137,ROW(INDIRECT(\"1:\"&ROWS(fautes)))),ROWS($1:$7))),\"\")","v":0},{"$f":"IF(ROWS($1:$8)<=COUNTIF(joueurs,$B137),INDEX(fautes,SMALL(IF(joueurs=$B137,ROW(INDIRECT(\"1:\"&ROWS(fautes)))),ROWS($1:$8))),\"\")","v":0},{"$f":"IF(ROWS($1:$9)<=COUNTIF(joueurs,$B137),INDEX(fautes,SMALL(IF(joueurs=$B137,ROW(INDIRECT(\"1:\"&ROWS(fautes)))),ROWS($1:$9))),\"\")","v":0},{"$f":"IF(ROWS($1:$10)<=COUNTIF(joueurs,$B137),INDEX(fautes,SMALL(IF(joueurs=$B137,ROW(INDIRECT(\"1:\"&ROWS(fautes)))),ROWS($1:$10))),\"\")","v":0},{"$f":"IF(ROWS($1:$1)<=COUNTIF(joueurs,$B137),INDEX(ballonperdus,SMALL(IF(joueurs=$B137,ROW(INDIRECT(\"1:\"&ROWS(ballonperdus)))),ROWS($1:$1))),\"\")","v":0},{"$f":"IF(ROWS($1:$2)<=COUNTIF(joueurs,$B137),INDEX(ballonperdus,SMALL(IF(joueurs=$B137,ROW(INDIRECT(\"1:\"&ROWS(ballonperdus)))),ROWS($1:$2))),\"\")","v":0},{"$f":"IF(ROWS($1:$3)<=COUNTIF(joueurs,$B137),INDEX(ballonperdus,SMALL(IF(joueurs=$B137,ROW(INDIRECT(\"1:\"&ROWS(ballonperdus)))),ROWS($1:$3))),\"\")","v":0},{"$f":"IF(ROWS($1:$4)<=COUNTIF(joueurs,$B137),INDEX(ballonperdus,SMALL(IF(joueurs=$B137,ROW(INDIRECT(\"1:\"&ROWS(ballonperdus)))),ROWS($1:$4))),\"\")","v":0},{"$f":"IF(ROWS($1:$5)<=COUNTIF(joueurs,$B137),INDEX(ballonperdus,SMALL(IF(joueurs=$B137,ROW(INDIRECT(\"1:\"&ROWS(ballonperdus)))),ROWS($1:$5))),\"\")","v":0},{"$f":"IF(ROWS($1:$6)<=COUNTIF(joueurs,$B137),INDEX(ballonperdus,SMALL(IF(joueurs=$B137,ROW(INDIRECT(\"1:\"&ROWS(ballonperdus)))),ROWS($1:$6))),\"\")","v":0},{"$f":"IF(ROWS($1:$7)<=COUNTIF(joueurs,$B137),INDEX(ballonperdus,SMALL(IF(joueurs=$B137,ROW(INDIRECT(\"1:\"&ROWS(ballonperdus)))),ROWS($1:$7))),\"\")","v":0},{"$f":"IF(ROWS($1:$8)<=COUNTIF(joueurs,$B137),INDEX(ballonperdus,SMALL(IF(joueurs=$B137,ROW(INDIRECT(\"1:\"&ROWS(ballonperdus)))),ROWS($1:$8))),\"\")","v":0},{"$f":"IF(ROWS($1:$9)<=COUNTIF(joueurs,$B137),INDEX(ballonperdus,SMALL(IF(joueurs=$B137,ROW(INDIRECT(\"1:\"&ROWS(ballonperdus)))),ROWS($1:$9))),\"\")","v":0},{"$f":"IF(ROWS($1:$10)<=COUNTIF(joueurs,$B137),INDEX(ballonperdus,SMALL(IF(joueurs=$B137,ROW(INDIRECT(\"1:\"&ROWS(ballonperdus)))),ROWS($1:$10))),\"\")","v":0},{"$f":"IF(ROWS($1:$1)<=COUNTIF(joueurs,$B137),INDEX(interceptions,SMALL(IF(joueurs=$B137,ROW(INDIRECT(\"1:\"&ROWS(interceptions)))),ROWS($1:$1))),\"\")","v":0},{"$f":"IF(ROWS($1:$2)<=COUNTIF(joueurs,$B137),INDEX(interceptions,SMALL(IF(joueurs=$B137,ROW(INDIRECT(\"1:\"&ROWS(interceptions)))),ROWS($1:$2))),\"\")","v":0},{"$f":"IF(ROWS($1:$3)<=COUNTIF(joueurs,$B137),INDEX(interceptions,SMALL(IF(joueurs=$B137,ROW(INDIRECT(\"1:\"&ROWS(interceptions)))),ROWS($1:$3))),\"\")","v":0},{"$f":"IF(ROWS($1:$4)<=COUNTIF(joueurs,$B137),INDEX(interceptions,SMALL(IF(joueurs=$B137,ROW(INDIRECT(\"1:\"&ROWS(interceptions)))),ROWS($1:$4))),\"\")","v":0},{"$f":"IF(ROWS($1:$5)<=COUNTIF(joueurs,$B137),INDEX(interceptions,SMALL(IF(joueurs=$B137,ROW(INDIRECT(\"1:\"&ROWS(interceptions)))),ROWS($1:$5))),\"\")","v":0},{"$f":"IF(ROWS($1:$6)<=COUNTIF(joueurs,$B137),INDEX(interceptions,SMALL(IF(joueurs=$B137,ROW(INDIRECT(\"1:\"&ROWS(interceptions)))),ROWS($1:$6))),\"\")","v":0},{"$f":"IF(ROWS($1:$7)<=COUNTIF(joueurs,$B137),INDEX(interceptions,SMALL(IF(joueurs=$B137,ROW(INDIRECT(\"1:\"&ROWS(interceptions)))),ROWS($1:$7))),\"\")","v":0},{"$f":"IF(ROWS($1:$8)<=COUNTIF(joueurs,$B137),INDEX(interceptions,SMALL(IF(joueurs=$B137,ROW(INDIRECT(\"1:\"&ROWS(interceptions)))),ROWS($1:$8))),\"\")","v":0},{"$f":"IF(ROWS($1:$9)<=COUNTIF(joueurs,$B137),INDEX(interceptions,SMALL(IF(joueurs=$B137,ROW(INDIRECT(\"1:\"&ROWS(interceptions)))),ROWS($1:$9))),\"\")","v":0},{"$f":"IF(ROWS($1:$10)<=COUNTIF(joueurs,$B137),INDEX(interceptions,SMALL(IF(joueurs=$B137,ROW(INDIRECT(\"1:\"&ROWS(interceptions)))),ROWS($1:$10))),\"\")","v":0},{"$f":"IF(ROWS($1:$1)<=COUNTIF(joueurs,$B137),INDEX(ballonrecuperes,SMALL(IF(joueurs=$B137,ROW(INDIRECT(\"1:\"&ROWS(ballonrecuperes)))),ROWS($1:$1))),\"\")","v":0},{"$f":"IF(ROWS($1:$2)<=COUNTIF(joueurs,$B137),INDEX(ballonrecuperes,SMALL(IF(joueurs=$B137,ROW(INDIRECT(\"1:\"&ROWS(ballonrecuperes)))),ROWS($1:$2))),\"\")","v":0},{"$f":"IF(ROWS($1:$3)<=COUNTIF(joueurs,$B137),INDEX(ballonrecuperes,SMALL(IF(joueurs=$B137,ROW(INDIRECT(\"1:\"&ROWS(ballonrecuperes)))),ROWS($1:$3))),\"\")","v":0},{"$f":"IF(ROWS($1:$4)<=COUNTIF(joueurs,$B137),INDEX(ballonrecuperes,SMALL(IF(joueurs=$B137,ROW(INDIRECT(\"1:\"&ROWS(ballonrecuperes)))),ROWS($1:$4))),\"\")","v":0},{"$f":"IF(ROWS($1:$5)<=COUNTIF(joueurs,$B137),INDEX(ballonrecuperes,SMALL(IF(joueurs=$B137,ROW(INDIRECT(\"1:\"&ROWS(ballonrecuperes)))),ROWS($1:$5))),\"\")","v":0},{"$f":"IF(ROWS($1:$6)<=COUNTIF(joueurs,$B137),INDEX(ballonrecuperes,SMALL(IF(joueurs=$B137,ROW(INDIRECT(\"1:\"&ROWS(ballonrecuperes)))),ROWS($1:$6))),\"\")","v":0},{"$f":"IF(ROWS($1:$7)<=COUNTIF(joueurs,$B137),INDEX(ballonrecuperes,SMALL(IF(joueurs=$B137,ROW(INDIRECT(\"1:\"&ROWS(ballonrecuperes)))),ROWS($1:$7))),\"\")","v":0},{"$f":"IF(ROWS($1:$8)<=COUNTIF(joueurs,$B137),INDEX(ballonrecuperes,SMALL(IF(joueurs=$B137,ROW(INDIRECT(\"1:\"&ROWS(ballonrecuperes)))),ROWS($1:$8))),\"\")","v":0},{"$f":"IF(ROWS($1:$9)<=COUNTIF(joueurs,$B137),INDEX(ballonrecuperes,SMALL(IF(joueurs=$B137,ROW(INDIRECT(\"1:\"&ROWS(ballonrecuperes)))),ROWS($1:$9))),\"\")","v":0},{"$f":"IF(ROWS($1:$10)<=COUNTIF(joueurs,$B137),INDEX(ballonrecuperes,SMALL(IF(joueurs=$B137,ROW(INDIRECT(\"1:\"&ROWS(ballonrecuperes)))),ROWS($1:$10))),\"\")","v":0},{"$f":"IF(ROWS($1:$1)<=COUNTIF(joueurs,$B137),INDEX(tirs,SMALL(IF(joueurs=$B137,ROW(INDIRECT(\"1:\"&ROWS(tirs)))),ROWS($1:$1))),\"\")","v":0},{"$f":"IF(ROWS($1:$2)<=COUNTIF(joueurs,$B137),INDEX(tirs,SMALL(IF(joueurs=$B137,ROW(INDIRECT(\"1:\"&ROWS(tirs)))),ROWS($1:$2))),\"\")","v":0},{"$f":"IF(ROWS($1:$3)<=COUNTIF(joueurs,$B137),INDEX(tirs,SMALL(IF(joueurs=$B137,ROW(INDIRECT(\"1:\"&ROWS(tirs)))),ROWS($1:$3))),\"\")","v":0},{"$f":"IF(ROWS($1:$4)<=COUNTIF(joueurs,$B137),INDEX(tirs,SMALL(IF(joueurs=$B137,ROW(INDIRECT(\"1:\"&ROWS(tirs)))),ROWS($1:$4))),\"\")","v":0},{"$f":"IF(ROWS($1:$5)<=COUNTIF(joueurs,$B137),INDEX(tirs,SMALL(IF(joueurs=$B137,ROW(INDIRECT(\"1:\"&ROWS(tirs)))),ROWS($1:$5))),\"\")","v":0},{"$f":"IF(ROWS($1:$6)<=COUNTIF(joueurs,$B137),INDEX(tirs,SMALL(IF(joueurs=$B137,ROW(INDIRECT(\"1:\"&ROWS(tirs)))),ROWS($1:$6))),\"\")","v":0},{"$f":"IF(ROWS($1:$7)<=COUNTIF(joueurs,$B137),INDEX(tirs,SMALL(IF(joueurs=$B137,ROW(INDIRECT(\"1:\"&ROWS(tirs)))),ROWS($1:$7))),\"\")","v":0},{"$f":"IF(ROWS($1:$8)<=COUNTIF(joueurs,$B137),INDEX(tirs,SMALL(IF(joueurs=$B137,ROW(INDIRECT(\"1:\"&ROWS(tirs)))),ROWS($1:$8))),\"\")","v":0},{"$f":"IF(ROWS($1:$9)<=COUNTIF(joueurs,$B137),INDEX(tirs,SMALL(IF(joueurs=$B137,ROW(INDIRECT(\"1:\"&ROWS(tirs)))),ROWS($1:$9))),\"\")","v":0},{"$f":"IF(ROWS($1:$10)<=COUNTIF(joueurs,$B137),INDEX(tirs,SMALL(IF(joueurs=$B137,ROW(INDIRECT(\"1:\"&ROWS(tirs)))),ROWS($1:$10))),\"\")","v":0},{"$f":"IF(ROWS($1:$1)<=COUNTIF(joueurs,$B137),INDEX(bontirs,SMALL(IF(joueurs=$B137,ROW(INDIRECT(\"1:\"&ROWS(bontirs)))),ROWS($1:$1))),\"\")","v":0},{"$f":"IF(ROWS($1:$2)<=COUNTIF(joueurs,$B137),INDEX(bontirs,SMALL(IF(joueurs=$B137,ROW(INDIRECT(\"1:\"&ROWS(bontirs)))),ROWS($1:$2))),\"\")","v":0},{"$f":"IF(ROWS($1:$3)<=COUNTIF(joueurs,$B137),INDEX(bontirs,SMALL(IF(joueurs=$B137,ROW(INDIRECT(\"1:\"&ROWS(bontirs)))),ROWS($1:$3))),\"\")","v":0},{"$f":"IF(ROWS($1:$4)<=COUNTIF(joueurs,$B137),INDEX(bontirs,SMALL(IF(joueurs=$B137,ROW(INDIRECT(\"1:\"&ROWS(bontirs)))),ROWS($1:$4))),\"\")","v":0},{"$f":"IF(ROWS($1:$5)<=COUNTIF(joueurs,$B137),INDEX(bontirs,SMALL(IF(joueurs=$B137,ROW(INDIRECT(\"1:\"&ROWS(bontirs)))),ROWS($1:$5))),\"\")","v":0},{"$f":"IF(ROWS($1:$6)<=COUNTIF(joueurs,$B137),INDEX(bontirs,SMALL(IF(joueurs=$B137,ROW(INDIRECT(\"1:\"&ROWS(bontirs)))),ROWS($1:$6))),\"\")","v":0},{"$f":"IF(ROWS($1:$7)<=COUNTIF(joueurs,$B137),INDEX(bontirs,SMALL(IF(joueurs=$B137,ROW(INDIRECT(\"1:\"&ROWS(bontirs)))),ROWS($1:$7))),\"\")","v":0},{"$f":"IF(ROWS($1:$8)<=COUNTIF(joueurs,$B137),INDEX(bontirs,SMALL(IF(joueurs=$B137,ROW(INDIRECT(\"1:\"&ROWS(bontirs)))),ROWS($1:$8))),\"\")","v":0},{"$f":"IF(ROWS($1:$9)<=COUNTIF(joueurs,$B137),INDEX(bontirs,SMALL(IF(joueurs=$B137,ROW(INDIRECT(\"1:\"&ROWS(bontirs)))),ROWS($1:$9))),\"\")","v":0},{"$f":"IF(ROWS($1:$10)<=COUNTIF(joueurs,$B137),INDEX(bontirs,SMALL(IF(joueurs=$B137,ROW(INDIRECT(\"1:\"&ROWS(bontirs)))),ROWS($1:$10))),\"\")","v":0},{"$f":"IF(ROWS($1:$1)<=COUNTIF(joueurs,$B137),INDEX(points,SMALL(IF(joueurs=$B137,ROW(INDIRECT(\"1:\"&ROWS(points)))),ROWS($1:$1))),\"\")","v":0},{"$f":"IF(ROWS($1:$2)<=COUNTIF(joueurs,$B137),INDEX(points,SMALL(IF(joueurs=$B137,ROW(INDIRECT(\"1:\"&ROWS(points)))),ROWS($1:$2))),\"\")","v":0},{"$f":"IF(ROWS($1:$3)<=COUNTIF(joueurs,$B137),INDEX(points,SMALL(IF(joueurs=$B137,ROW(INDIRECT(\"1:\"&ROWS(points)))),ROWS($1:$3))),\"\")","v":0},{"$f":"IF(ROWS($1:$4)<=COUNTIF(joueurs,$B137),INDEX(points,SMALL(IF(joueurs=$B137,ROW(INDIRECT(\"1:\"&ROWS(points)))),ROWS($1:$4))),\"\")","v":0},{"$f":"IF(ROWS($1:$5)<=COUNTIF(joueurs,$B137),INDEX(points,SMALL(IF(joueurs=$B137,ROW(INDIRECT(\"1:\"&ROWS(points)))),ROWS($1:$5))),\"\")","v":0},{"$f":"IF(ROWS($1:$6)<=COUNTIF(joueurs,$B137),INDEX(points,SMALL(IF(joueurs=$B137,ROW(INDIRECT(\"1:\"&ROWS(points)))),ROWS($1:$6))),\"\")","v":0},{"$f":"IF(ROWS($1:$7)<=COUNTIF(joueurs,$B137),INDEX(points,SMALL(IF(joueurs=$B137,ROW(INDIRECT(\"1:\"&ROWS(points)))),ROWS($1:$7))),\"\")","v":0},{"$f":"IF(ROWS($1:$8)<=COUNTIF(joueurs,$B137),INDEX(points,SMALL(IF(joueurs=$B137,ROW(INDIRECT(\"1:\"&ROWS(points)))),ROWS($1:$8))),\"\")","v":0},{"$f":"IF(ROWS($1:$9)<=COUNTIF(joueurs,$B137),INDEX(points,SMALL(IF(joueurs=$B137,ROW(INDIRECT(\"1:\"&ROWS(points)))),ROWS($1:$9))),\"\")","v":0},{"$f":"IF(ROWS($1:$10)<=COUNTIF(joueurs,$B137),INDEX(points,SMALL(IF(joueurs=$B137,ROW(INDIRECT(\"1:\"&ROWS(points)))),ROWS($1:$10))),\"\")","v":0},{"$f":"IF(ROWS($1:$1)<=COUNTIF(joueurs,$B137),INDEX(victoires,SMALL(IF(joueurs=$B137,ROW(INDIRECT(\"1:\"&ROWS(victoires)))),ROWS($1:$1))),\"\")","v":0},{"$f":"IF(ROWS($1:$2)<=COUNTIF(joueurs,$B137),INDEX(victoires,SMALL(IF(joueurs=$B137,ROW(INDIRECT(\"1:\"&ROWS(victoires)))),ROWS($1:$2))),\"\")","v":0},{"$f":"IF(ROWS($1:$3)<=COUNTIF(joueurs,$B137),INDEX(victoires,SMALL(IF(joueurs=$B137,ROW(INDIRECT(\"1:\"&ROWS(victoires)))),ROWS($1:$3))),\"\")","v":0},{"$f":"IF(ROWS($1:$4)<=COUNTIF(joueurs,$B137),INDEX(victoires,SMALL(IF(joueurs=$B137,ROW(INDIRECT(\"1:\"&ROWS(victoires)))),ROWS($1:$4))),\"\")","v":0},{"$f":"IF(ROWS($1:$5)<=COUNTIF(joueurs,$B137),INDEX(victoires,SMALL(IF(joueurs=$B137,ROW(INDIRECT(\"1:\"&ROWS(victoires)))),ROWS($1:$5))),\"\")","v":0},{"$f":"IF(ROWS($1:$6)<=COUNTIF(joueurs,$B137),INDEX(victoires,SMALL(IF(joueurs=$B137,ROW(INDIRECT(\"1:\"&ROWS(victoires)))),ROWS($1:$6))),\"\")","v":0},{"$f":"IF(ROWS($1:$7)<=COUNTIF(joueurs,$B137),INDEX(victoires,SMALL(IF(joueurs=$B137,ROW(INDIRECT(\"1:\"&ROWS(victoires)))),ROWS($1:$7))),\"\")","v":0},{"$f":"IF(ROWS($1:$8)<=COUNTIF(joueurs,$B137),INDEX(victoires,SMALL(IF(joueurs=$B137,ROW(INDIRECT(\"1:\"&ROWS(victoires)))),ROWS($1:$8))),\"\")","v":0},{"$f":"IF(ROWS($1:$9)<=COUNTIF(joueurs,$B137),INDEX(victoires,SMALL(IF(joueurs=$B137,ROW(INDIRECT(\"1:\"&ROWS(victoires)))),ROWS($1:$9))),\"\")","v":0},{"$f":"IF(ROWS($1:$10)<=COUNTIF(joueurs,$B137),INDEX(victoires,SMALL(IF(joueurs=$B137,ROW(INDIRECT(\"1:\"&ROWS(victoires)))),ROWS($1:$10))),\"\")","v":0}]
[null,null,null,{"$f":"IF(ROWS($1:$11)<=COUNTIF(joueurs,$B137),INDEX(fautes,SMALL(IF(joueurs=$B137,ROW(INDIRECT(\"1:\"&ROWS(fautes)))),ROWS($1:$11))),\"\")","v":0},{"$f":"IF(ROWS($1:$12)<=COUNTIF(joueurs,$B137),INDEX(fautes,SMALL(IF(joueurs=$B137,ROW(INDIRECT(\"1:\"&ROWS(fautes)))),ROWS($1:$12))),\"\")","v":0},{"$f":"IF(ROWS($1:$13)<=COUNTIF(joueurs,$B137),INDEX(fautes,SMALL(IF(joueurs=$B137,ROW(INDIRECT(\"1:\"&ROWS(fautes)))),ROWS($1:$13))),\"\")","v":0},{"$f":"IF(ROWS($1:$14)<=COUNTIF(joueurs,$B137),INDEX(fautes,SMALL(IF(joueurs=$B137,ROW(INDIRECT(\"1:\"&ROWS(fautes)))),ROWS($1:$14))),\"\")","v":0},{"$f":"IF(ROWS($1:$15)<=COUNTIF(joueurs,$B137),INDEX(fautes,SMALL(IF(joueurs=$B137,ROW(INDIRECT(\"1:\"&ROWS(fautes)))),ROWS($1:$15))),\"\")","v":0},{"$f":"IF(ROWS($1:$16)<=COUNTIF(joueurs,$B137),INDEX(fautes,SMALL(IF(joueurs=$B137,ROW(INDIRECT(\"1:\"&ROWS(fautes)))),ROWS($1:$16))),\"\")","v":0},{"$f":"IF(ROWS($1:$17)<=COUNTIF(joueurs,$B137),INDEX(fautes,SMALL(IF(joueurs=$B137,ROW(INDIRECT(\"1:\"&ROWS(fautes)))),ROWS($1:$17))),\"\")","v":0},{"$f":"IF(ROWS($1:$18)<=COUNTIF(joueurs,$B137),INDEX(fautes,SMALL(IF(joueurs=$B137,ROW(INDIRECT(\"1:\"&ROWS(fautes)))),ROWS($1:$18))),\"\")","v":0},{"$f":"IF(ROWS($1:$19)<=COUNTIF(joueurs,$B137),INDEX(fautes,SMALL(IF(joueurs=$B137,ROW(INDIRECT(\"1:\"&ROWS(fautes)))),ROWS($1:$19))),\"\")","v":0},{"$f":"IF(ROWS($1:$20)<=COUNTIF(joueurs,$B137),INDEX(fautes,SMALL(IF(joueurs=$B137,ROW(INDIRECT(\"1:\"&ROWS(fautes)))),ROWS($1:$20))),\"\")","v":0},{"$f":"IF(ROWS($1:$11)<=COUNTIF(joueurs,$B137),INDEX(ballonperdus,SMALL(IF(joueurs=$B137,ROW(INDIRECT(\"1:\"&ROWS(ballonperdus)))),ROWS($1:$11))),\"\")","v":0},{"$f":"IF(ROWS($1:$12)<=COUNTIF(joueurs,$B137),INDEX(ballonperdus,SMALL(IF(joueurs=$B137,ROW(INDIRECT(\"1:\"&ROWS(ballonperdus)))),ROWS($1:$12))),\"\")","v":0},{"$f":"IF(ROWS($1:$13)<=COUNTIF(joueurs,$B137),INDEX(ballonperdus,SMALL(IF(joueurs=$B137,ROW(INDIRECT(\"1:\"&ROWS(ballonperdus)))),ROWS($1:$13))),\"\")","v":0},{"$f":"IF(ROWS($1:$14)<=COUNTIF(joueurs,$B137),INDEX(ballonperdus,SMALL(IF(joueurs=$B137,ROW(INDIRECT(\"1:\"&ROWS(ballonperdus)))),ROWS($1:$14))),\"\")","v":0},{"$f":"IF(ROWS($1:$15)<=COUNTIF(joueurs,$B137),INDEX(ballonperdus,SMALL(IF(joueurs=$B137,ROW(INDIRECT(\"1:\"&ROWS(ballonperdus)))),ROWS($1:$15))),\"\")","v":0},{"$f":"IF(ROWS($1:$16)<=COUNTIF(joueurs,$B137),INDEX(ballonperdus,SMALL(IF(joueurs=$B137,ROW(INDIRECT(\"1:\"&ROWS(ballonperdus)))),ROWS($1:$16))),\"\")","v":0},{"$f":"IF(ROWS($1:$17)<=COUNTIF(joueurs,$B137),INDEX(ballonperdus,SMALL(IF(joueurs=$B137,ROW(INDIRECT(\"1:\"&ROWS(ballonperdus)))),ROWS($1:$17))),\"\")","v":0},{"$f":"IF(ROWS($1:$18)<=COUNTIF(joueurs,$B137),INDEX(ballonperdus,SMALL(IF(joueurs=$B137,ROW(INDIRECT(\"1:\"&ROWS(ballonperdus)))),ROWS($1:$18))),\"\")","v":0},{"$f":"IF(ROWS($1:$19)<=COUNTIF(joueurs,$B137),INDEX(ballonperdus,SMALL(IF(joueurs=$B137,ROW(INDIRECT(\"1:\"&ROWS(ballonperdus)))),ROWS($1:$19))),\"\")","v":0},{"$f":"IF(ROWS($1:$20)<=COUNTIF(joueurs,$B137),INDEX(fautes,SMALL(IF(joueurs=$B137,ROW(INDIRECT(\"1:\"&ROWS(ballonperdus)))),ROWS($1:$20))),\"\")","v":0},{"$f":"IF(ROWS($1:$11)<=COUNTIF(joueurs,$B137),INDEX(interceptions,SMALL(IF(joueurs=$B137,ROW(INDIRECT(\"1:\"&ROWS(interceptions)))),ROWS($1:$11))),\"\")","v":0},{"$f":"IF(ROWS($1:$12)<=COUNTIF(joueurs,$B137),INDEX(interceptions,SMALL(IF(joueurs=$B137,ROW(INDIRECT(\"1:\"&ROWS(interceptions)))),ROWS($1:$12))),\"\")","v":0},{"$f":"IF(ROWS($1:$13)<=COUNTIF(joueurs,$B137),INDEX(interceptions,SMALL(IF(joueurs=$B137,ROW(INDIRECT(\"1:\"&ROWS(interceptions)))),ROWS($1:$13))),\"\")","v":0},{"$f":"IF(ROWS($1:$14)<=COUNTIF(joueurs,$B137),INDEX(interceptions,SMALL(IF(joueurs=$B137,ROW(INDIRECT(\"1:\"&ROWS(interceptions)))),ROWS($1:$14))),\"\")","v":0},{"$f":"IF(ROWS($1:$15)<=COUNTIF(joueurs,$B137),INDEX(interceptions,SMALL(IF(joueurs=$B137,ROW(INDIRECT(\"1:\"&ROWS(interceptions)))),ROWS($1:$15))),\"\")","v":0},{"$f":"IF(ROWS($1:$16)<=COUNTIF(joueurs,$B137),INDEX(interceptions,SMALL(IF(joueurs=$B137,ROW(INDIRECT(\"1:\"&ROWS(interceptions)))),ROWS($1:$16))),\"\")","v":0},{"$f":"IF(ROWS($1:$17)<=COUNTIF(joueurs,$B137),INDEX(interceptions,SMALL(IF(joueurs=$B137,ROW(INDIRECT(\"1:\"&ROWS(interceptions)))),ROWS($1:$17))),\"\")","v":0},{"$f":"IF(ROWS($1:$18)<=COUNTIF(joueurs,$B137),INDEX(interceptions,SMALL(IF(joueurs=$B137,ROW(INDIRECT(\"1:\"&ROWS(interceptions)))),ROWS($1:$18))),\"\")","v":0},{"$f":"IF(ROWS($1:$19)<=COUNTIF(joueurs,$B137),INDEX(interceptions,SMALL(IF(joueurs=$B137,ROW(INDIRECT(\"1:\"&ROWS(interceptions)))),ROWS($1:$19))),\"\")","v":0},{"$f":"IF(ROWS($1:$20)<=COUNTIF(joueurs,$B137),INDEX(interceptions,SMALL(IF(joueurs=$B137,ROW(INDIRECT(\"1:\"&ROWS(interceptions)))),ROWS($1:$20))),\"\")","v":0},{"$f":"IF(ROWS($1:$11)<=COUNTIF(joueurs,$B137),INDEX(ballonrecuperes,SMALL(IF(joueurs=$B137,ROW(INDIRECT(\"1:\"&ROWS(ballonrecuperes)))),ROWS($1:$11))),\"\")","v":0},{"$f":"IF(ROWS($1:$12)<=COUNTIF(joueurs,$B137),INDEX(ballonrecuperes,SMALL(IF(joueurs=$B137,ROW(INDIRECT(\"1:\"&ROWS(ballonrecuperes)))),ROWS($1:$12))),\"\")","v":0},{"$f":"IF(ROWS($1:$13)<=COUNTIF(joueurs,$B137),INDEX(ballonrecuperes,SMALL(IF(joueurs=$B137,ROW(INDIRECT(\"1:\"&ROWS(ballonrecuperes)))),ROWS($1:$13))),\"\")","v":0},{"$f":"IF(ROWS($1:$14)<=COUNTIF(joueurs,$B137),INDEX(ballonrecuperes,SMALL(IF(joueurs=$B137,ROW(INDIRECT(\"1:\"&ROWS(ballonrecuperes)))),ROWS($1:$14))),\"\")","v":0},{"$f":"IF(ROWS($1:$15)<=COUNTIF(joueurs,$B137),INDEX(ballonrecuperes,SMALL(IF(joueurs=$B137,ROW(INDIRECT(\"1:\"&ROWS(ballonrecuperes)))),ROWS($1:$15))),\"\")","v":0},{"$f":"IF(ROWS($1:$16)<=COUNTIF(joueurs,$B137),INDEX(ballonrecuperes,SMALL(IF(joueurs=$B137,ROW(INDIRECT(\"1:\"&ROWS(ballonrecuperes)))),ROWS($1:$16))),\"\")","v":0},{"$f":"IF(ROWS($1:$17)<=COUNTIF(joueurs,$B137),INDEX(ballonrecuperes,SMALL(IF(joueurs=$B137,ROW(INDIRECT(\"1:\"&ROWS(ballonrecuperes)))),ROWS($1:$17))),\"\")","v":0},{"$f":"IF(ROWS($1:$18)<=COUNTIF(joueurs,$B137),INDEX(ballonrecuperes,SMALL(IF(joueurs=$B137,ROW(INDIRECT(\"1:\"&ROWS(ballonrecuperes)))),ROWS($1:$18))),\"\")","v":0},{"$f":"IF(ROWS($1:$19)<=COUNTIF(joueurs,$B137),INDEX(ballonrecuperes,SMALL(IF(joueurs=$B137,ROW(INDIRECT(\"1:\"&ROWS(ballonrecuperes)))),ROWS($1:$19))),\"\")","v":0},{"$f":"IF(ROWS($1:$20)<=COUNTIF(joueurs,$B137),INDEX(ballonrecuperes,SMALL(IF(joueurs=$B137,ROW(INDIRECT(\"1:\"&ROWS(ballonrecuperes)))),ROWS($1:$20))),\"\")","v":0},{"$f":"IF(ROWS($1:$11)<=COUNTIF(joueurs,$B137),INDEX(tirs,SMALL(IF(joueurs=$B137,ROW(INDIRECT(\"1:\"&ROWS(tirs)))),ROWS($1:$11))),\"\")","v":0},{"$f":"IF(ROWS($1:$12)<=COUNTIF(joueurs,$B137),INDEX(tirs,SMALL(IF(joueurs=$B137,ROW(INDIRECT(\"1:\"&ROWS(tirs)))),ROWS($1:$12))),\"\")","v":0},{"$f":"IF(ROWS($1:$13)<=COUNTIF(joueurs,$B137),INDEX(tirs,SMALL(IF(joueurs=$B137,ROW(INDIRECT(\"1:\"&ROWS(tirs)))),ROWS($1:$13))),\"\")","v":0},{"$f":"IF(ROWS($1:$14)<=COUNTIF(joueurs,$B137),INDEX(tirs,SMALL(IF(joueurs=$B137,ROW(INDIRECT(\"1:\"&ROWS(tirs)))),ROWS($1:$14))),\"\")","v":0},{"$f":"IF(ROWS($1:$15)<=COUNTIF(joueurs,$B137),INDEX(tirs,SMALL(IF(joueurs=$B137,ROW(INDIRECT(\"1:\"&ROWS(tirs)))),ROWS($1:$15))),\"\")","v":0},{"$f":"IF(ROWS($1:$16)<=COUNTIF(joueurs,$B137),INDEX(tirs,SMALL(IF(joueurs=$B137,ROW(INDIRECT(\"1:\"&ROWS(tirs)))),ROWS($1:$16))),\"\")","v":0},{"$f":"IF(ROWS($1:$17)<=COUNTIF(joueurs,$B137),INDEX(tirs,SMALL(IF(joueurs=$B137,ROW(INDIRECT(\"1:\"&ROWS(tirs)))),ROWS($1:$17))),\"\")","v":0},{"$f":"IF(ROWS($1:$18)<=COUNTIF(joueurs,$B137),INDEX(tirs,SMALL(IF(joueurs=$B137,ROW(INDIRECT(\"1:\"&ROWS(tirs)))),ROWS($1:$18))),\"\")","v":0},{"$f":"IF(ROWS($1:$19)<=COUNTIF(joueurs,$B137),INDEX(tirs,SMALL(IF(joueurs=$B137,ROW(INDIRECT(\"1:\"&ROWS(tirs)))),ROWS($1:$19))),\"\")","v":0},{"$f":"IF(ROWS($1:$20)<=COUNTIF(joueurs,$B137),INDEX(tirs,SMALL(IF(joueurs=$B137,ROW(INDIRECT(\"1:\"&ROWS(tirs)))),ROWS($1:$20))),\"\")","v":0},{"$f":"IF(ROWS($1:$11)<=COUNTIF(joueurs,$B137),INDEX(bontirs,SMALL(IF(joueurs=$B137,ROW(INDIRECT(\"1:\"&ROWS(bontirs)))),ROWS($1:$11))),\"\")","v":0},{"$f":"IF(ROWS($1:$12)<=COUNTIF(joueurs,$B137),INDEX(bontirs,SMALL(IF(joueurs=$B137,ROW(INDIRECT(\"1:\"&ROWS(bontirs)))),ROWS($1:$12))),\"\")","v":0},{"$f":"IF(ROWS($1:$13)<=COUNTIF(joueurs,$B137),INDEX(bontirs,SMALL(IF(joueurs=$B137,ROW(INDIRECT(\"1:\"&ROWS(bontirs)))),ROWS($1:$13))),\"\")","v":0},{"$f":"IF(ROWS($1:$14)<=COUNTIF(joueurs,$B137),INDEX(bontirs,SMALL(IF(joueurs=$B137,ROW(INDIRECT(\"1:\"&ROWS(bontirs)))),ROWS($1:$14))),\"\")","v":0},{"$f":"IF(ROWS($1:$15)<=COUNTIF(joueurs,$B137),INDEX(bontirs,SMALL(IF(joueurs=$B137,ROW(INDIRECT(\"1:\"&ROWS(bontirs)))),ROWS($1:$15))),\"\")","v":0},{"$f":"IF(ROWS($1:$16)<=COUNTIF(joueurs,$B137),INDEX(bontirs,SMALL(IF(joueurs=$B137,ROW(INDIRECT(\"1:\"&ROWS(bontirs)))),ROWS($1:$16))),\"\")","v":0},{"$f":"IF(ROWS($1:$17)<=COUNTIF(joueurs,$B137),INDEX(bontirs,SMALL(IF(joueurs=$B137,ROW(INDIRECT(\"1:\"&ROWS(bontirs)))),ROWS($1:$17))),\"\")","v":0},{"$f":"IF(ROWS($1:$18)<=COUNTIF(joueurs,$B137),INDEX(bontirs,SMALL(IF(joueurs=$B137,ROW(INDIRECT(\"1:\"&ROWS(bontirs)))),ROWS($1:$18))),\"\")","v":0},{"$f":"IF(ROWS($1:$19)<=COUNTIF(joueurs,$B137),INDEX(bontirs,SMALL(IF(joueurs=$B137,ROW(INDIRECT(\"1:\"&ROWS(bontirs)))),ROWS($1:$19))),\"\")","v":0},{"$f":"IF(ROWS($1:$20)<=COUNTIF(joueurs,$B137),INDEX(bontirs,SMALL(IF(joueurs=$B137,ROW(INDIRECT(\"1:\"&ROWS(bontirs)))),ROWS($1:$20))),\"\")","v":0},{"$f":"IF(ROWS($1:$11)<=COUNTIF(joueurs,$B137),INDEX(points,SMALL(IF(joueurs=$B137,ROW(INDIRECT(\"1:\"&ROWS(points)))),ROWS($1:$11))),\"\")","v":0},{"$f":"IF(ROWS($1:$12)<=COUNTIF(joueurs,$B137),INDEX(points,SMALL(IF(joueurs=$B137,ROW(INDIRECT(\"1:\"&ROWS(points)))),ROWS($1:$12))),\"\")","v":0},{"$f":"IF(ROWS($1:$13)<=COUNTIF(joueurs,$B137),INDEX(points,SMALL(IF(joueurs=$B137,ROW(INDIRECT(\"1:\"&ROWS(points)))),ROWS($1:$13))),\"\")","v":0},{"$f":"IF(ROWS($1:$14)<=COUNTIF(joueurs,$B137),INDEX(points,SMALL(IF(joueurs=$B137,ROW(INDIRECT(\"1:\"&ROWS(points)))),ROWS($1:$14))),\"\")","v":0},{"$f":"IF(ROWS($1:$15)<=COUNTIF(joueurs,$B137),INDEX(points,SMALL(IF(joueurs=$B137,ROW(INDIRECT(\"1:\"&ROWS(points)))),ROWS($1:$15))),\"\")","v":0},{"$f":"IF(ROWS($1:$16)<=COUNTIF(joueurs,$B137),INDEX(points,SMALL(IF(joueurs=$B137,ROW(INDIRECT(\"1:\"&ROWS(points)))),ROWS($1:$16))),\"\")","v":0},{"$f":"IF(ROWS($1:$17)<=COUNTIF(joueurs,$B137),INDEX(points,SMALL(IF(joueurs=$B137,ROW(INDIRECT(\"1:\"&ROWS(points)))),ROWS($1:$17))),\"\")","v":0},{"$f":"IF(ROWS($1:$18)<=COUNTIF(joueurs,$B137),INDEX(points,SMALL(IF(joueurs=$B137,ROW(INDIRECT(\"1:\"&ROWS(points)))),ROWS($1:$18))),\"\")","v":0},{"$f":"IF(ROWS($1:$19)<=COUNTIF(joueurs,$B137),INDEX(points,SMALL(IF(joueurs=$B137,ROW(INDIRECT(\"1:\"&ROWS(points)))),ROWS($1:$19))),\"\")","v":0},{"$f":"IF(ROWS($1:$20)<=COUNTIF(points,$B137),INDEX(fautes,SMALL(IF(joueurs=$B137,ROW(INDIRECT(\"1:\"&ROWS(points)))),ROWS($1:$20))),\"\")","v":0},{"$f":"IF(ROWS($1:$11)<=COUNTIF(joueurs,$B137),INDEX(victoires,SMALL(IF(joueurs=$B137,ROW(INDIRECT(\"1:\"&ROWS(victoires)))),ROWS($1:$11))),\"\")","v":0},{"$f":"IF(ROWS($1:$12)<=COUNTIF(joueurs,$B137),INDEX(victoires,SMALL(IF(joueurs=$B137,ROW(INDIRECT(\"1:\"&ROWS(victoires)))),ROWS($1:$12))),\"\")","v":0},{"$f":"IF(ROWS($1:$13)<=COUNTIF(joueurs,$B137),INDEX(victoires,SMALL(IF(joueurs=$B137,ROW(INDIRECT(\"1:\"&ROWS(victoires)))),ROWS($1:$13))),\"\")","v":0},{"$f":"IF(ROWS($1:$14)<=COUNTIF(joueurs,$B137),INDEX(victoires,SMALL(IF(joueurs=$B137,ROW(INDIRECT(\"1:\"&ROWS(victoires)))),ROWS($1:$14))),\"\")","v":0},{"$f":"IF(ROWS($1:$15)<=COUNTIF(joueurs,$B137),INDEX(victoires,SMALL(IF(joueurs=$B137,ROW(INDIRECT(\"1:\"&ROWS(victoires)))),ROWS($1:$15))),\"\")","v":0},{"$f":"IF(ROWS($1:$16)<=COUNTIF(joueurs,$B137),INDEX(victoires,SMALL(IF(joueurs=$B137,ROW(INDIRECT(\"1:\"&ROWS(victoires)))),ROWS($1:$16))),\"\")","v":0},{"$f":"IF(ROWS($1:$17)<=COUNTIF(joueurs,$B137),INDEX(victoires,SMALL(IF(joueurs=$B137,ROW(INDIRECT(\"1:\"&ROWS(victoires)))),ROWS($1:$17))),\"\")","v":0},{"$f":"IF(ROWS($1:$18)<=COUNTIF(joueurs,$B137),INDEX(victoires,SMALL(IF(joueurs=$B137,ROW(INDIRECT(\"1:\"&ROWS(victoires)))),ROWS($1:$18))),\"\")","v":0},{"$f":"IF(ROWS($1:$19)<=COUNTIF(joueurs,$B137),INDEX(victoires,SMALL(IF(joueurs=$B137,ROW(INDIRECT(\"1:\"&ROWS(victoires)))),ROWS($1:$19))),\"\")","v":0},{"$f":"IF(ROWS($1:$20)<=COUNTIF(joueurs,$B137),INDEX(victoires,SMALL(IF(joueurs=$B137,ROW(INDIRECT(\"1:\"&ROWS(victoires)))),ROWS($1:$20))),\"\")","v":0}]
[null,null,null,{"$f":"IF(ROWS($1:$21)<=COUNTIF(joueurs,$B137),INDEX(fautes,SMALL(IF(joueurs=$B137,ROW(INDIRECT(\"1:\"&ROWS(fautes)))),ROWS($1:$21))),\"\")","v":0},{"$f":"IF(ROWS($1:$22)<=COUNTIF(joueurs,$B137),INDEX(fautes,SMALL(IF(joueurs=$B137,ROW(INDIRECT(\"1:\"&ROWS(fautes)))),ROWS($1:$22))),\"\")","v":0},{"$f":"IF(ROWS($1:$23)<=COUNTIF(joueurs,$B137),INDEX(fautes,SMALL(IF(joueurs=$B137,ROW(INDIRECT(\"1:\"&ROWS(fautes)))),ROWS($1:$23))),\"\")","v":0},{"$f":"IF(ROWS($1:$24)<=COUNTIF(joueurs,$B137),INDEX(fautes,SMALL(IF(joueurs=$B137,ROW(INDIRECT(\"1:\"&ROWS(fautes)))),ROWS($1:$24))),\"\")","v":0},{"$f":"IF(ROWS($1:$25)<=COUNTIF(joueurs,$B137),INDEX(fautes,SMALL(IF(joueurs=$B137,ROW(INDIRECT(\"1:\"&ROWS(fautes)))),ROWS($1:$25))),\"\")","v":0},{"$f":"IF(ROWS($1:$26)<=COUNTIF(joueurs,$B137),INDEX(fautes,SMALL(IF(joueurs=$B137,ROW(INDIRECT(\"1:\"&ROWS(fautes)))),ROWS($1:$26))),\"\")","v":0},{"$f":"IF(ROWS($1:$27)<=COUNTIF(joueurs,$B137),INDEX(fautes,SMALL(IF(joueurs=$B137,ROW(INDIRECT(\"1:\"&ROWS(fautes)))),ROWS($1:$27))),\"\")","v":0},{"$f":"IF(ROWS($1:$28)<=COUNTIF(joueurs,$B137),INDEX(fautes,SMALL(IF(joueurs=$B137,ROW(INDIRECT(\"1:\"&ROWS(fautes)))),ROWS($1:$28))),\"\")","v":0},{"$f":"IF(ROWS($1:$29)<=COUNTIF(joueurs,$B137),INDEX(fautes,SMALL(IF(joueurs=$B137,ROW(INDIRECT(\"1:\"&ROWS(fautes)))),ROWS($1:$29))),\"\")","v":0},{"$f":"IF(ROWS($1:$30)<=COUNTIF(joueurs,$B137),INDEX(fautes,SMALL(IF(joueurs=$B137,ROW(INDIRECT(\"1:\"&ROWS(fautes)))),ROWS($1:$30))),\"\")","v":0},{"$f":"IF(ROWS($1:$21)<=COUNTIF(joueurs,$B137),INDEX(ballonperdus,SMALL(IF(joueurs=$B137,ROW(INDIRECT(\"1:\"&ROWS(ballonperdus)))),ROWS($1:$21))),\"\")","v":0},{"$f":"IF(ROWS($1:$22)<=COUNTIF(joueurs,$B137),INDEX(ballonperdus,SMALL(IF(joueurs=$B137,ROW(INDIRECT(\"1:\"&ROWS(ballonperdus)))),ROWS($1:$22))),\"\")","v":0},{"$f":"IF(ROWS($1:$23)<=COUNTIF(joueurs,$B137),INDEX(ballonperdus,SMALL(IF(joueurs=$B137,ROW(INDIRECT(\"1:\"&ROWS(ballonperdus)))),ROWS($1:$23))),\"\")","v":0},{"$f":"IF(ROWS($1:$24)<=COUNTIF(joueurs,$B137),INDEX(ballonperdus,SMALL(IF(joueurs=$B137,ROW(INDIRECT(\"1:\"&ROWS(ballonperdus)))),ROWS($1:$24))),\"\")","v":0},{"$f":"IF(ROWS($1:$25)<=COUNTIF(joueurs,$B137),INDEX(ballonperdus,SMALL(IF(joueurs=$B137,ROW(INDIRECT(\"1:\"&ROWS(ballonperdus)))),ROWS($1:$25))),\"\")","v":0},{"$f":"IF(ROWS($1:$26)<=COUNTIF(joueurs,$B137),INDEX(ballonperdus,SMALL(IF(joueurs=$B137,ROW(INDIRECT(\"1:\"&ROWS(ballonperdus)))),ROWS($1:$26))),\"\")","v":0},{"$f":"IF(ROWS($1:$27)<=COUNTIF(joueurs,$B137),INDEX(ballonperdus,SMALL(IF(joueurs=$B137,ROW(INDIRECT(\"1:\"&ROWS(ballonperdus)))),ROWS($1:$27))),\"\")","v":0},{"$f":"IF(ROWS($1:$28)<=COUNTIF(joueurs,$B137),INDEX(ballonperdus,SMALL(IF(joueurs=$B137,ROW(INDIRECT(\"1:\"&ROWS(ballonperdus)))),ROWS($1:$28))),\"\")","v":0},{"$f":"IF(ROWS($1:$29)<=COUNTIF(joueurs,$B137),INDEX(ballonperdus,SMALL(IF(joueurs=$B137,ROW(INDIRECT(\"1:\"&ROWS(ballonperdus)))),ROWS($1:$29))),\"\")","v":0},{"$f":"IF(ROWS($1:$30)<=COUNTIF(joueurs,$B137),INDEX(ballonperdus,SMALL(IF(joueurs=$B137,ROW(INDIRECT(\"1:\"&ROWS(ballonperdus)))),ROWS($1:$30))),\"\")","v":0},{"$f":"IF(ROWS($1:$21)<=COUNTIF(joueurs,$B137),INDEX(interceptions,SMALL(IF(joueurs=$B137,ROW(INDIRECT(\"1:\"&ROWS(interceptions)))),ROWS($1:$21))),\"\")","v":0},{"$f":"IF(ROWS($1:$22)<=COUNTIF(joueurs,$B137),INDEX(interceptions,SMALL(IF(joueurs=$B137,ROW(INDIRECT(\"1:\"&ROWS(interceptions)))),ROWS($1:$22))),\"\")","v":0},{"$f":"IF(ROWS($1:$23)<=COUNTIF(joueurs,$B137),INDEX(interceptions,SMALL(IF(joueurs=$B137,ROW(INDIRECT(\"1:\"&ROWS(interceptions)))),ROWS($1:$23))),\"\")","v":0},{"$f":"IF(ROWS($1:$24)<=COUNTIF(joueurs,$B137),INDEX(interceptions,SMALL(IF(joueurs=$B137,ROW(INDIRECT(\"1:\"&ROWS(interceptions)))),ROWS($1:$24))),\"\")","v":0},{"$f":"IF(ROWS($1:$25)<=COUNTIF(joueurs,$B137),INDEX(interceptions,SMALL(IF(joueurs=$B137,ROW(INDIRECT(\"1:\"&ROWS(interceptions)))),ROWS($1:$25))),\"\")","v":0},{"$f":"IF(ROWS($1:$26)<=COUNTIF(joueurs,$B137),INDEX(interceptions,SMALL(IF(joueurs=$B137,ROW(INDIRECT(\"1:\"&ROWS(interceptions)))),ROWS($1:$26))),\"\")","v":0},{"$f":"IF(ROWS($1:$27)<=COUNTIF(joueurs,$B137),INDEX(interceptions,SMALL(IF(joueurs=$B137,ROW(INDIRECT(\"1:\"&ROWS(interceptions)))),ROWS($1:$27))),\"\")","v":0},{"$f":"IF(ROWS($1:$28)<=COUNTIF(joueurs,$B137),INDEX(interceptions,SMALL(IF(joueurs=$B137,ROW(INDIRECT(\"1:\"&ROWS(interceptions)))),ROWS($1:$28))),\"\")","v":0},{"$f":"IF(ROWS($1:$29)<=COUNTIF(joueurs,$B137),INDEX(interceptions,SMALL(IF(joueurs=$B137,ROW(INDIRECT(\"1:\"&ROWS(interceptions)))),ROWS($1:$29))),\"\")","v":0},{"$f":"IF(ROWS($1:$30)<=COUNTIF(joueurs,$B137),INDEX(interceptions,SMALL(IF(joueurs=$B137,ROW(INDIRECT(\"1:\"&ROWS(interceptions)))),ROWS($1:$30))),\"\")","v":0},{"$f":"IF(ROWS($1:$21)<=COUNTIF(joueurs,$B137),INDEX(ballonrecuperes,SMALL(IF(joueurs=$B137,ROW(INDIRECT(\"1:\"&ROWS(ballonrecuperes)))),ROWS($1:$21))),\"\")","v":0},{"$f":"IF(ROWS($1:$22)<=COUNTIF(joueurs,$B137),INDEX(ballonrecuperes,SMALL(IF(joueurs=$B137,ROW(INDIRECT(\"1:\"&ROWS(ballonrecuperes)))),ROWS($1:$22))),\"\")","v":0},{"$f":"IF(ROWS($1:$23)<=COUNTIF(joueurs,$B137),INDEX(ballonrecuperes,SMALL(IF(joueurs=$B137,ROW(INDIRECT(\"1:\"&ROWS(ballonrecuperes)))),ROWS($1:$23))),\"\")","v":0},{"$f":"IF(ROWS($1:$24)<=COUNTIF(joueurs,$B137),INDEX(ballonrecuperes,SMALL(IF(joueurs=$B137,ROW(INDIRECT(\"1:\"&ROWS(ballonrecuperes)))),ROWS($1:$24))),\"\")","v":0},{"$f":"IF(ROWS($1:$25)<=COUNTIF(joueurs,$B137),INDEX(ballonrecuperes,SMALL(IF(joueurs=$B137,ROW(INDIRECT(\"1:\"&ROWS(ballonrecuperes)))),ROWS($1:$25))),\"\")","v":0},{"$f":"IF(ROWS($1:$26)<=COUNTIF(joueurs,$B137),INDEX(ballonrecuperes,SMALL(IF(joueurs=$B137,ROW(INDIRECT(\"1:\"&ROWS(ballonrecuperes)))),ROWS($1:$26))),\"\")","v":0},{"$f":"IF(ROWS($1:$27)<=COUNTIF(joueurs,$B137),INDEX(ballonrecuperes,SMALL(IF(joueurs=$B137,ROW(INDIRECT(\"1:\"&ROWS(ballonrecuperes)))),ROWS($1:$27))),\"\")","v":0},{"$f":"IF(ROWS($1:$28)<=COUNTIF(joueurs,$B137),INDEX(ballonrecuperes,SMALL(IF(joueurs=$B137,ROW(INDIRECT(\"1:\"&ROWS(ballonrecuperes)))),ROWS($1:$28))),\"\")","v":0},{"$f":"IF(ROWS($1:$29)<=COUNTIF(joueurs,$B137),INDEX(ballonrecuperes,SMALL(IF(joueurs=$B137,ROW(INDIRECT(\"1:\"&ROWS(ballonrecuperes)))),ROWS($1:$29))),\"\")","v":0},{"$f":"IF(ROWS($1:$30)<=COUNTIF(joueurs,$B137),INDEX(ballonrecuperes,SMALL(IF(joueurs=$B137,ROW(INDIRECT(\"1:\"&ROWS(ballonrecuperes)))),ROWS($1:$30))),\"\")","v":0},{"$f":"IF(ROWS($1:$21)<=COUNTIF(joueurs,$B137),INDEX(tirs,SMALL(IF(joueurs=$B137,ROW(INDIRECT(\"1:\"&ROWS(tirs)))),ROWS($1:$21))),\"\")","v":0},{"$f":"IF(ROWS($1:$22)<=COUNTIF(joueurs,$B137),INDEX(tirs,SMALL(IF(joueurs=$B137,ROW(INDIRECT(\"1:\"&ROWS(tirs)))),ROWS($1:$22))),\"\")","v":0},{"$f":"IF(ROWS($1:$23)<=COUNTIF(joueurs,$B137),INDEX(tirs,SMALL(IF(joueurs=$B137,ROW(INDIRECT(\"1:\"&ROWS(tirs)))),ROWS($1:$23))),\"\")","v":0},{"$f":"IF(ROWS($1:$24)<=COUNTIF(joueurs,$B137),INDEX(tirs,SMALL(IF(joueurs=$B137,ROW(INDIRECT(\"1:\"&ROWS(tirs)))),ROWS($1:$24))),\"\")","v":0},{"$f":"IF(ROWS($1:$25)<=COUNTIF(joueurs,$B137),INDEX(tirs,SMALL(IF(joueurs=$B137,ROW(INDIRECT(\"1:\"&ROWS(tirs)))),ROWS($1:$25))),\"\")","v":0},{"$f":"IF(ROWS($1:$26)<=COUNTIF(joueurs,$B137),INDEX(tirs,SMALL(IF(joueurs=$B137,ROW(INDIRECT(\"1:\"&ROWS(tirs)))),ROWS($1:$26))),\"\")","v":0},{"$f":"IF(ROWS($1:$27)<=COUNTIF(joueurs,$B137),INDEX(tirs,SMALL(IF(joueurs=$B137,ROW(INDIRECT(\"1:\"&ROWS(tirs)))),ROWS($1:$27))),\"\")","v":0},{"$f":"IF(ROWS($1:$28)<=COUNTIF(joueurs,$B137),INDEX(tirs,SMALL(IF(joueurs=$B137,ROW(INDIRECT(\"1:\"&ROWS(tirs)))),ROWS($1:$28))),\"\")","v":0},{"$f":"IF(ROWS($1:$29)<=COUNTIF(joueurs,$B137),INDEX(tirs,SMALL(IF(joueurs=$B137,ROW(INDIRECT(\"1:\"&ROWS(tirs)))),ROWS($1:$29))),\"\")","v":0},{"$f":"IF(ROWS($1:$30)<=COUNTIF(joueurs,$B137),INDEX(tirs,SMALL(IF(joueurs=$B137,ROW(INDIRECT(\"1:\"&ROWS(tirs)))),ROWS($1:$30))),\"\")","v":0},{"$f":"IF(ROWS($1:$21)<=COUNTIF(joueurs,$B137),INDEX(bontirs,SMALL(IF(joueurs=$B137,ROW(INDIRECT(\"1:\"&ROWS(bontirs)))),ROWS($1:$21))),\"\")","v":0},{"$f":"IF(ROWS($1:$22)<=COUNTIF(joueurs,$B137),INDEX(bontirs,SMALL(IF(joueurs=$B137,ROW(INDIRECT(\"1:\"&ROWS(bontirs)))),ROWS($1:$22))),\"\")","v":0},{"$f":"IF(ROWS($1:$23)<=COUNTIF(joueurs,$B137),INDEX(bontirs,SMALL(IF(joueurs=$B137,ROW(INDIRECT(\"1:\"&ROWS(bontirs)))),ROWS($1:$23))),\"\")","v":0},{"$f":"IF(ROWS($1:$24)<=COUNTIF(joueurs,$B137),INDEX(bontirs,SMALL(IF(joueurs=$B137,ROW(INDIRECT(\"1:\"&ROWS(bontirs)))),ROWS($1:$24))),\"\")","v":0},{"$f":"IF(ROWS($1:$25)<=COUNTIF(joueurs,$B137),INDEX(bontirs,SMALL(IF(joueurs=$B137,ROW(INDIRECT(\"1:\"&ROWS(bontirs)))),ROWS($1:$25))),\"\")","v":0},{"$f":"IF(ROWS($1:$26)<=COUNTIF(joueurs,$B137),INDEX(bontirs,SMALL(IF(joueurs=$B137,ROW(INDIRECT(\"1:\"&ROWS(bontirs)))),ROWS($1:$26))),\"\")","v":0},{"$f":"IF(ROWS($1:$27)<=COUNTIF(joueurs,$B137),INDEX(bontirs,SMALL(IF(joueurs=$B137,ROW(INDIRECT(\"1:\"&ROWS(bontirs)))),ROWS($1:$27))),\"\")","v":0},{"$f":"IF(ROWS($1:$28)<=COUNTIF(joueurs,$B137),INDEX(bontirs,SMALL(IF(joueurs=$B137,ROW(INDIRECT(\"1:\"&ROWS(bontirs)))),ROWS($1:$28))),\"\")","v":0},{"$f":"IF(ROWS($1:$29)<=COUNTIF(joueurs,$B137),INDEX(bontirs,SMALL(IF(joueurs=$B137,ROW(INDIRECT(\"1:\"&ROWS(bontirs)))),ROWS($1:$29))),\"\")","v":0},{"$f":"IF(ROWS($1:$30)<=COUNTIF(joueurs,$B137),INDEX(bontirs,SMALL(IF(joueurs=$B137,ROW(INDIRECT(\"1:\"&ROWS(bontirs)))),ROWS($1:$30))),\"\")","v":0},{"$f":"IF(ROWS($1:$21)<=COUNTIF(joueurs,$B137),INDEX(points,SMALL(IF(joueurs=$B137,ROW(INDIRECT(\"1:\"&ROWS(points)))),ROWS($1:$21))),\"\")","v":0},{"$f":"IF(ROWS($1:$22)<=COUNTIF(joueurs,$B137),INDEX(points,SMALL(IF(joueurs=$B137,ROW(INDIRECT(\"1:\"&ROWS(points)))),ROWS($1:$22))),\"\")","v":0},{"$f":"IF(ROWS($1:$23)<=COUNTIF(joueurs,$B137),INDEX(points,SMALL(IF(joueurs=$B137,ROW(INDIRECT(\"1:\"&ROWS(points)))),ROWS($1:$23))),\"\")","v":0},{"$f":"IF(ROWS($1:$24)<=COUNTIF(joueurs,$B137),INDEX(points,SMALL(IF(joueurs=$B137,ROW(INDIRECT(\"1:\"&ROWS(points)))),ROWS($1:$24))),\"\")","v":0},{"$f":"IF(ROWS($1:$25)<=COUNTIF(joueurs,$B137),INDEX(points,SMALL(IF(joueurs=$B137,ROW(INDIRECT(\"1:\"&ROWS(points)))),ROWS($1:$25))),\"\")","v":0},{"$f":"IF(ROWS($1:$26)<=COUNTIF(joueurs,$B137),INDEX(points,SMALL(IF(joueurs=$B137,ROW(INDIRECT(\"1:\"&ROWS(points)))),ROWS($1:$26))),\"\")","v":0},{"$f":"IF(ROWS($1:$27)<=COUNTIF(joueurs,$B137),INDEX(points,SMALL(IF(joueurs=$B137,ROW(INDIRECT(\"1:\"&ROWS(points)))),ROWS($1:$27))),\"\")","v":0},{"$f":"IF(ROWS($1:$28)<=COUNTIF(joueurs,$B137),INDEX(points,SMALL(IF(joueurs=$B137,ROW(INDIRECT(\"1:\"&ROWS(points)))),ROWS($1:$28))),\"\")","v":0},{"$f":"IF(ROWS($1:$29)<=COUNTIF(joueurs,$B137),INDEX(points,SMALL(IF(joueurs=$B137,ROW(INDIRECT(\"1:\"&ROWS(points)))),ROWS($1:$29))),\"\")","v":0},{"$f":"IF(ROWS($1:$30)<=COUNTIF(joueurs,$B137),INDEX(points,SMALL(IF(joueurs=$B137,ROW(INDIRECT(\"1:\"&ROWS(points)))),ROWS($1:$30))),\"\")","v":0},{"$f":"IF(ROWS($1:$21)<=COUNTIF(joueurs,$B137),INDEX(victoires,SMALL(IF(joueurs=$B137,ROW(INDIRECT(\"1:\"&ROWS(victoires)))),ROWS($1:$21))),\"\")","v":0},{"$f":"IF(ROWS($1:$22)<=COUNTIF(joueurs,$B137),INDEX(victoires,SMALL(IF(joueurs=$B137,ROW(INDIRECT(\"1:\"&ROWS(victoires)))),ROWS($1:$22))),\"\")","v":0},{"$f":"IF(ROWS($1:$23)<=COUNTIF(joueurs,$B137),INDEX(victoires,SMALL(IF(joueurs=$B137,ROW(INDIRECT(\"1:\"&ROWS(victoires)))),ROWS($1:$23))),\"\")","v":0},{"$f":"IF(ROWS($1:$24)<=COUNTIF(joueurs,$B137),INDEX(victoires,SMALL(IF(joueurs=$B137,ROW(INDIRECT(\"1:\"&ROWS(victoires)))),ROWS($1:$24))),\"\")","v":0},{"$f":"IF(ROWS($1:$25)<=COUNTIF(joueurs,$B137),INDEX(victoires,SMALL(IF(joueurs=$B137,ROW(INDIRECT(\"1:\"&ROWS(victoires)))),ROWS($1:$25))),\"\")","v":0},{"$f":"IF(ROWS($1:$26)<=COUNTIF(joueurs,$B137),INDEX(victoires,SMALL(IF(joueurs=$B137,ROW(INDIRECT(\"1:\"&ROWS(victoires)))),ROWS($1:$26))),\"\")","v":0},{"$f":"IF(ROWS($1:$27)<=COUNTIF(joueurs,$B137),INDEX(victoires,SMALL(IF(joueurs=$B137,ROW(INDIRECT(\"1:\"&ROWS(victoires)))),ROWS($1:$27))),\"\")","v":0},{"$f":"IF(ROWS($1:$28)<=COUNTIF(joueurs,$B137),INDEX(victoires,SMALL(IF(joueurs=$B137,ROW(INDIRECT(\"1:\"&ROWS(victoires)))),ROWS($1:$28))),\"\")","v":0},{"$f":"IF(ROWS($1:$29)<=COUNTIF(joueurs,$B137),INDEX(victoires,SMALL(IF(joueurs=$B137,ROW(INDIRECT(\"1:\"&ROWS(victoires)))),ROWS($1:$29))),\"\")","v":0},{"$f":"IF(ROWS($1:$30)<=COUNTIF(joueurs,$B137),INDEX(victoires,SMALL(IF(joueurs=$B137,ROW(INDIRECT(\"1:\"&ROWS(victoires)))),ROWS($1:$30))),\"\")","v":0}]
[null,null,null,{"$f":"IF(ROWS($1:$31)<=COUNTIF(joueurs,$B137),INDEX(fautes,SMALL(IF(joueurs=$B137,ROW(INDIRECT(\"1:\"&ROWS(fautes)))),ROWS($1:$31))),\"\")","v":0},{"$f":"IF(ROWS($1:$32)<=COUNTIF(joueurs,$B137),INDEX(fautes,SMALL(IF(joueurs=$B137,ROW(INDIRECT(\"1:\"&ROWS(fautes)))),ROWS($1:$32))),\"\")","v":0},{"$f":"IF(ROWS($1:$33)<=COUNTIF(joueurs,$B137),INDEX(fautes,SMALL(IF(joueurs=$B137,ROW(INDIRECT(\"1:\"&ROWS(fautes)))),ROWS($1:$33))),\"\")","v":0},{"$f":"IF(ROWS($1:$34)<=COUNTIF(joueurs,$B137),INDEX(fautes,SMALL(IF(joueurs=$B137,ROW(INDIRECT(\"1:\"&ROWS(fautes)))),ROWS($1:$34))),\"\")","v":0},{"$f":"IF(ROWS($1:$35)<=COUNTIF(joueurs,$B137),INDEX(fautes,SMALL(IF(joueurs=$B137,ROW(INDIRECT(\"1:\"&ROWS(fautes)))),ROWS($1:$35))),\"\")","v":0},{"$f":"IF(ROWS($1:$36)<=COUNTIF(joueurs,$B137),INDEX(fautes,SMALL(IF(joueurs=$B137,ROW(INDIRECT(\"1:\"&ROWS(fautes)))),ROWS($1:$36))),\"\")","v":0},{"$f":"IF(ROWS($1:$37)<=COUNTIF(joueurs,$B137),INDEX(fautes,SMALL(IF(joueurs=$B137,ROW(INDIRECT(\"1:\"&ROWS(fautes)))),ROWS($1:$37))),\"\")","v":0},{"$f":"IF(ROWS($1:$38)<=COUNTIF(joueurs,$B137),INDEX(fautes,SMALL(IF(joueurs=$B137,ROW(INDIRECT(\"1:\"&ROWS(fautes)))),ROWS($1:$38))),\"\")","v":0},{"$f":"IF(ROWS($1:$39)<=COUNTIF(joueurs,$B137),INDEX(fautes,SMALL(IF(joueurs=$B137,ROW(INDIRECT(\"1:\"&ROWS(fautes)))),ROWS($1:$39))),\"\")","v":0},{"$f":"IF(ROWS($1:$40)<=COUNTIF(joueurs,$B137),INDEX(fautes,SMALL(IF(joueurs=$B137,ROW(INDIRECT(\"1:\"&ROWS(fautes)))),ROWS($1:$40))),\"\")","v":0},{"$f":"IF(ROWS($1:$31)<=COUNTIF(joueurs,$B137),INDEX(ballonperdus,SMALL(IF(joueurs=$B137,ROW(INDIRECT(\"1:\"&ROWS(ballonperdus)))),ROWS($1:$31))),\"\")","v":0},{"$f":"IF(ROWS($1:$32)<=COUNTIF(joueurs,$B137),INDEX(ballonperdus,SMALL(IF(joueurs=$B137,ROW(INDIRECT(\"1:\"&ROWS(ballonperdus)))),ROWS($1:$32))),\"\")","v":0},{"$f":"IF(ROWS($1:$33)<=COUNTIF(joueurs,$B137),INDEX(ballonperdus,SMALL(IF(joueurs=$B137,ROW(INDIRECT(\"1:\"&ROWS(ballonperdus)))),ROWS($1:$33))),\"\")","v":0},{"$f":"IF(ROWS($1:$34)<=COUNTIF(joueurs,$B137),INDEX(ballonperdus,SMALL(IF(joueurs=$B137,ROW(INDIRECT(\"1:\"&ROWS(ballonperdus)))),ROWS($1:$34))),\"\")","v":0},{"$f":"IF(ROWS($1:$35)<=COUNTIF(joueurs,$B137),INDEX(ballonperdus,SMALL(IF(joueurs=$B137,ROW(INDIRECT(\"1:\"&ROWS(ballonperdus)))),ROWS($1:$35))),\"\")","v":0},{"$f":"IF(ROWS($1:$36)<=COUNTIF(joueurs,$B137),INDEX(ballonperdus,SMALL(IF(joueurs=$B137,ROW(INDIRECT(\"1:\"&ROWS(ballonperdus)))),ROWS($1:$36))),\"\")","v":0},{"$f":"IF(ROWS($1:$37)<=COUNTIF(joueurs,$B137),INDEX(ballonperdus,SMALL(IF(joueurs=$B137,ROW(INDIRECT(\"1:\"&ROWS(ballonperdus)))),ROWS($1:$37))),\"\")","v":0},{"$f":"IF(ROWS($1:$38)<=COUNTIF(joueurs,$B137),INDEX(ballonperdus,SMALL(IF(joueurs=$B137,ROW(INDIRECT(\"1:\"&ROWS(ballonperdus)))),ROWS($1:$38))),\"\")","v":0},{"$f":"IF(ROWS($1:$39)<=COUNTIF(joueurs,$B137),INDEX(ballonperdus,SMALL(IF(joueurs=$B137,ROW(INDIRECT(\"1:\"&ROWS(ballonperdus)))),ROWS($1:$39))),\"\")","v":0},{"$f":"IF(ROWS($1:$40)<=COUNTIF(joueurs,$B137),INDEX(ballonperdus,SMALL(IF(joueurs=$B137,ROW(INDIRECT(\"1:\"&ROWS(ballonperdus)))),ROWS($1:$40))),\"\")","v":0},{"$f":"IF(ROWS($1:$31)<=COUNTIF(joueurs,$B137),INDEX(interceptions,SMALL(IF(joueurs=$B137,ROW(INDIRECT(\"1:\"&ROWS(interceptions)))),ROWS($1:$31))),\"\")","v":0},{"$f":"IF(ROWS($1:$32)<=COUNTIF(joueurs,$B137),INDEX(interceptions,SMALL(IF(joueurs=$B137,ROW(INDIRECT(\"1:\"&ROWS(interceptions)))),ROWS($1:$32))),\"\")","v":0},{"$f":"IF(ROWS($1:$33)<=COUNTIF(joueurs,$B137),INDEX(interceptions,SMALL(IF(joueurs=$B137,ROW(INDIRECT(\"1:\"&ROWS(interceptions)))),ROWS($1:$33))),\"\")","v":0},{"$f":"IF(ROWS($1:$34)<=COUNTIF(joueurs,$B137),INDEX(interceptions,SMALL(IF(joueurs=$B137,ROW(INDIRECT(\"1:\"&ROWS(interceptions)))),ROWS($1:$34))),\"\")","v":0},{"$f":"IF(ROWS($1:$35)<=COUNTIF(joueurs,$B137),INDEX(interceptions,SMALL(IF(joueurs=$B137,ROW(INDIRECT(\"1:\"&ROWS(interceptions)))),ROWS($1:$35))),\"\")","v":0},{"$f":"IF(ROWS($1:$36)<=COUNTIF(joueurs,$B137),INDEX(interceptions,SMALL(IF(joueurs=$B137,ROW(INDIRECT(\"1:\"&ROWS(interceptions)))),ROWS($1:$36))),\"\")","v":0},{"$f":"IF(ROWS($1:$37)<=COUNTIF(joueurs,$B137),INDEX(interceptions,SMALL(IF(joueurs=$B137,ROW(INDIRECT(\"1:\"&ROWS(interceptions)))),ROWS($1:$37))),\"\")","v":0},{"$f":"IF(ROWS($1:$38)<=COUNTIF(joueurs,$B137),INDEX(interceptions,SMALL(IF(joueurs=$B137,ROW(INDIRECT(\"1:\"&ROWS(interceptions)))),ROWS($1:$38))),\"\")","v":0},{"$f":"IF(ROWS($1:$39)<=COUNTIF(joueurs,$B137),INDEX(interceptions,SMALL(IF(joueurs=$B137,ROW(INDIRECT(\"1:\"&ROWS(interceptions)))),ROWS($1:$39))),\"\")","v":0},{"$f":"IF(ROWS($1:$40)<=COUNTIF(joueurs,$B137),INDEX(interceptions,SMALL(IF(joueurs=$B137,ROW(INDIRECT(\"1:\"&ROWS(interceptions)))),ROWS($1:$40))),\"\")","v":0},{"$f":"IF(ROWS($1:$31)<=COUNTIF(joueurs,$B137),INDEX(ballonrecuperes,SMALL(IF(joueurs=$B137,ROW(INDIRECT(\"1:\"&ROWS(ballonrecuperes)))),ROWS($1:$31))),\"\")","v":0},{"$f":"IF(ROWS($1:$32)<=COUNTIF(joueurs,$B137),INDEX(ballonrecuperes,SMALL(IF(joueurs=$B137,ROW(INDIRECT(\"1:\"&ROWS(ballonrecuperes)))),ROWS($1:$32))),\"\")","v":0},{"$f":"IF(ROWS($1:$33)<=COUNTIF(joueurs,$B137),INDEX(ballonrecuperes,SMALL(IF(joueurs=$B137,ROW(INDIRECT(\"1:\"&ROWS(ballonrecuperes)))),ROWS($1:$33))),\"\")","v":0},{"$f":"IF(ROWS($1:$34)<=COUNTIF(joueurs,$B137),INDEX(ballonrecuperes,SMALL(IF(joueurs=$B137,ROW(INDIRECT(\"1:\"&ROWS(ballonrecuperes)))),ROWS($1:$34))),\"\")","v":0},{"$f":"IF(ROWS($1:$35)<=COUNTIF(joueurs,$B137),INDEX(ballonrecuperes,SMALL(IF(joueurs=$B137,ROW(INDIRECT(\"1:\"&ROWS(ballonrecuperes)))),ROWS($1:$35))),\"\")","v":0},{"$f":"IF(ROWS($1:$36)<=COUNTIF(joueurs,$B137),INDEX(ballonrecuperes,SMALL(IF(joueurs=$B137,ROW(INDIRECT(\"1:\"&ROWS(ballonrecuperes)))),ROWS($1:$36))),\"\")","v":0},{"$f":"IF(ROWS($1:$37)<=COUNTIF(joueurs,$B137),INDEX(ballonrecuperes,SMALL(IF(joueurs=$B137,ROW(INDIRECT(\"1:\"&ROWS(ballonrecuperes)))),ROWS($1:$37))),\"\")","v":0},{"$f":"IF(ROWS($1:$38)<=COUNTIF(joueurs,$B137),INDEX(ballonrecuperes,SMALL(IF(joueurs=$B137,ROW(INDIRECT(\"1:\"&ROWS(ballonrecuperes)))),ROWS($1:$38))),\"\")","v":0},{"$f":"IF(ROWS($1:$39)<=COUNTIF(joueurs,$B137),INDEX(ballonrecuperes,SMALL(IF(joueurs=$B137,ROW(INDIRECT(\"1:\"&ROWS(ballonrecuperes)))),ROWS($1:$39))),\"\")","v":0},{"$f":"IF(ROWS($1:$40)<=COUNTIF(joueurs,$B137),INDEX(ballonrecuperes,SMALL(IF(joueurs=$B137,ROW(INDIRECT(\"1:\"&ROWS(ballonrecuperes)))),ROWS($1:$40))),\"\")","v":0},{"$f":"IF(ROWS($1:$31)<=COUNTIF(joueurs,$B137),INDEX(tirs,SMALL(IF(joueurs=$B137,ROW(INDIRECT(\"1:\"&ROWS(tirs)))),ROWS($1:$31))),\"\")","v":0},{"$f":"IF(ROWS($1:$32)<=COUNTIF(joueurs,$B137),INDEX(tirs,SMALL(IF(joueurs=$B137,ROW(INDIRECT(\"1:\"&ROWS(tirs)))),ROWS($1:$32))),\"\")","v":0},{"$f":"IF(ROWS($1:$33)<=COUNTIF(joueurs,$B137),INDEX(tirs,SMALL(IF(joueurs=$B137,ROW(INDIRECT(\"1:\"&ROWS(tirs)))),ROWS($1:$33))),\"\")","v":0},{"$f":"IF(ROWS($1:$34)<=COUNTIF(joueurs,$B137),INDEX(tirs,SMALL(IF(joueurs=$B137,ROW(INDIRECT(\"1:\"&ROWS(tirs)))),ROWS($1:$34))),\"\")","v":0},{"$f":"IF(ROWS($1:$35)<=COUNTIF(joueurs,$B137),INDEX(tirs,SMALL(IF(joueurs=$B137,ROW(INDIRECT(\"1:\"&ROWS(tirs)))),ROWS($1:$35))),\"\")","v":0},{"$f":"IF(ROWS($1:$36)<=COUNTIF(joueurs,$B137),INDEX(tirs,SMALL(IF(joueurs=$B137,ROW(INDIRECT(\"1:\"&ROWS(tirs)))),ROWS($1:$36))),\"\")","v":0},{"$f":"IF(ROWS($1:$37)<=COUNTIF(joueurs,$B137),INDEX(tirs,SMALL(IF(joueurs=$B137,ROW(INDIRECT(\"1:\"&ROWS(tirs)))),ROWS($1:$37))),\"\")","v":0},{"$f":"IF(ROWS($1:$38)<=COUNTIF(joueurs,$B137),INDEX(tirs,SMALL(IF(joueurs=$B137,ROW(INDIRECT(\"1:\"&ROWS(tirs)))),ROWS($1:$38))),\"\")","v":0},{"$f":"IF(ROWS($1:$39)<=COUNTIF(joueurs,$B137),INDEX(tirs,SMALL(IF(joueurs=$B137,ROW(INDIRECT(\"1:\"&ROWS(tirs)))),ROWS($1:$39))),\"\")","v":0},{"$f":"IF(ROWS($1:$40)<=COUNTIF(joueurs,$B137),INDEX(tirs,SMALL(IF(joueurs=$B137,ROW(INDIRECT(\"1:\"&ROWS(tirs)))),ROWS($1:$40))),\"\")","v":0},{"$f":"IF(ROWS($1:$31)<=COUNTIF(joueurs,$B137),INDEX(bontirs,SMALL(IF(joueurs=$B137,ROW(INDIRECT(\"1:\"&ROWS(bontirs)))),ROWS($1:$31))),\"\")","v":0},{"$f":"IF(ROWS($1:$32)<=COUNTIF(joueurs,$B137),INDEX(bontirs,SMALL(IF(joueurs=$B137,ROW(INDIRECT(\"1:\"&ROWS(bontirs)))),ROWS($1:$32))),\"\")","v":0},{"$f":"IF(ROWS($1:$33)<=COUNTIF(joueurs,$B137),INDEX(bontirs,SMALL(IF(joueurs=$B137,ROW(INDIRECT(\"1:\"&ROWS(bontirs)))),ROWS($1:$33))),\"\")","v":0},{"$f":"IF(ROWS($1:$34)<=COUNTIF(joueurs,$B137),INDEX(bontirs,SMALL(IF(joueurs=$B137,ROW(INDIRECT(\"1:\"&ROWS(bontirs)))),ROWS($1:$34))),\"\")","v":0},{"$f":"IF(ROWS($1:$35)<=COUNTIF(joueurs,$B137),INDEX(bontirs,SMALL(IF(joueurs=$B137,ROW(INDIRECT(\"1:\"&ROWS(bontirs)))),ROWS($1:$35))),\"\")","v":0},{"$f":"IF(ROWS($1:$36)<=COUNTIF(joueurs,$B137),INDEX(bontirs,SMALL(IF(joueurs=$B137,ROW(INDIRECT(\"1:\"&ROWS(bontirs)))),ROWS($1:$36))),\"\")","v":0},{"$f":"IF(ROWS($1:$37)<=COUNTIF(joueurs,$B137),INDEX(bontirs,SMALL(IF(joueurs=$B137,ROW(INDIRECT(\"1:\"&ROWS(bontirs)))),ROWS($1:$37))),\"\")","v":0},{"$f":"IF(ROWS($1:$38)<=COUNTIF(joueurs,$B137),INDEX(bontirs,SMALL(IF(joueurs=$B137,ROW(INDIRECT(\"1:\"&ROWS(bontirs)))),ROWS($1:$38))),\"\")","v":0},{"$f":"IF(ROWS($1:$39)<=COUNTIF(joueurs,$B137),INDEX(bontirs,SMALL(IF(joueurs=$B137,ROW(INDIRECT(\"1:\"&ROWS(bontirs)))),ROWS($1:$39))),\"\")","v":0},{"$f":"IF(ROWS($1:$40)<=COUNTIF(joueurs,$B137),INDEX(bontirs,SMALL(IF(joueurs=$B137,ROW(INDIRECT(\"1:\"&ROWS(bontirs)))),ROWS($1:$40))),\"\")","v":0},{"$f":"IF(ROWS($1:$31)<=COUNTIF(joueurs,$B137),INDEX(points,SMALL(IF(joueurs=$B137,ROW(INDIRECT(\"1:\"&ROWS(points)))),ROWS($1:$31))),\"\")","v":0},{"$f":"IF(ROWS($1:$32)<=COUNTIF(joueurs,$B137),INDEX(points,SMALL(IF(joueurs=$B137,ROW(INDIRECT(\"1:\"&ROWS(points)))),ROWS($1:$32))),\"\")","v":0},{"$f":"IF(ROWS($1:$33)<=COUNTIF(joueurs,$B137),INDEX(points,SMALL(IF(joueurs=$B137,ROW(INDIRECT(\"1:\"&ROWS(points)))),ROWS($1:$33))),\"\")","v":0},{"$f":"IF(ROWS($1:$34)<=COUNTIF(joueurs,$B137),INDEX(points,SMALL(IF(joueurs=$B137,ROW(INDIRECT(\"1:\"&ROWS(points)))),ROWS($1:$34))),\"\")","v":0},{"$f":"IF(ROWS($1:$35)<=COUNTIF(joueurs,$B137),INDEX(points,SMALL(IF(joueurs=$B137,ROW(INDIRECT(\"1:\"&ROWS(points)))),ROWS($1:$35))),\"\")","v":0},{"$f":"IF(ROWS($1:$36)<=COUNTIF(joueurs,$B137),INDEX(points,SMALL(IF(joueurs=$B137,ROW(INDIRECT(\"1:\"&ROWS(points)))),ROWS($1:$36))),\"\")","v":0},{"$f":"IF(ROWS($1:$37)<=COUNTIF(joueurs,$B137),INDEX(points,SMALL(IF(joueurs=$B137,ROW(INDIRECT(\"1:\"&ROWS(points)))),ROWS($1:$37))),\"\")","v":0},{"$f":"IF(ROWS($1:$38)<=COUNTIF(joueurs,$B137),INDEX(points,SMALL(IF(joueurs=$B137,ROW(INDIRECT(\"1:\"&ROWS(points)))),ROWS($1:$38))),\"\")","v":0},{"$f":"IF(ROWS($1:$39)<=COUNTIF(joueurs,$B137),INDEX(points,SMALL(IF(joueurs=$B137,ROW(INDIRECT(\"1:\"&ROWS(points)))),ROWS($1:$39))),\"\")","v":0},{"$f":"IF(ROWS($1:$40)<=COUNTIF(joueurs,$B137),INDEX(points,SMALL(IF(joueurs=$B137,ROW(INDIRECT(\"1:\"&ROWS(points)))),ROWS($1:$40))),\"\")","v":0},{"$f":"IF(ROWS($1:$31)<=COUNTIF(joueurs,$B137),INDEX(victoires,SMALL(IF(joueurs=$B137,ROW(INDIRECT(\"1:\"&ROWS(victoires)))),ROWS($1:$31))),\"\")","v":0},{"$f":"IF(ROWS($1:$32)<=COUNTIF(joueurs,$B137),INDEX(victoires,SMALL(IF(joueurs=$B137,ROW(INDIRECT(\"1:\"&ROWS(victoires)))),ROWS($1:$32))),\"\")","v":0},{"$f":"IF(ROWS($1:$33)<=COUNTIF(joueurs,$B137),INDEX(victoires,SMALL(IF(joueurs=$B137,ROW(INDIRECT(\"1:\"&ROWS(victoires)))),ROWS($1:$33))),\"\")","v":0},{"$f":"IF(ROWS($1:$34)<=COUNTIF(joueurs,$B137),INDEX(victoires,SMALL(IF(joueurs=$B137,ROW(INDIRECT(\"1:\"&ROWS(victoires)))),ROWS($1:$34))),\"\")","v":0},{"$f":"IF(ROWS($1:$35)<=COUNTIF(joueurs,$B137),INDEX(victoires,SMALL(IF(joueurs=$B137,ROW(INDIRECT(\"1:\"&ROWS(victoires)))),ROWS($1:$35))),\"\")","v":0},{"$f":"IF(ROWS($1:$36)<=COUNTIF(joueurs,$B137),INDEX(victoires,SMALL(IF(joueurs=$B137,ROW(INDIRECT(\"1:\"&ROWS(victoires)))),ROWS($1:$36))),\"\")","v":0},{"$f":"IF(ROWS($1:$37)<=COUNTIF(joueurs,$B137),INDEX(victoires,SMALL(IF(joueurs=$B137,ROW(INDIRECT(\"1:\"&ROWS(victoires)))),ROWS($1:$37))),\"\")","v":0},{"$f":"IF(ROWS($1:$38)<=COUNTIF(joueurs,$B137),INDEX(victoires,SMALL(IF(joueurs=$B137,ROW(INDIRECT(\"1:\"&ROWS(victoires)))),ROWS($1:$38))),\"\")","v":0},{"$f":"IF(ROWS($1:$39)<=COUNTIF(joueurs,$B137),INDEX(victoires,SMALL(IF(joueurs=$B137,ROW(INDIRECT(\"1:\"&ROWS(victoires)))),ROWS($1:$39))),\"\")","v":0},{"$f":"IF(ROWS($1:$40)<=COUNTIF(joueurs,$B137),INDEX(victoires,SMALL(IF(joueurs=$B137,ROW(INDIRECT(\"1:\"&ROWS(victoires)))),ROWS($1:$40))),\"\")","v":0}]
[35,{"$f":"INDEX(eleves,MATCH(A141,numero,0),MATCH($B$2,classes,0))","v":0},null,{"$f":"IF(ROWS($1:$1)<=COUNTIF(joueurs,$B141),INDEX(fautes,SMALL(IF(joueurs=$B141,ROW(INDIRECT(\"1:\"&ROWS(fautes)))),ROWS($1:$1))),\"\")","v":0},{"$f":"IF(ROWS($1:$2)<=COUNTIF(joueurs,$B141),INDEX(fautes,SMALL(IF(joueurs=$B141,ROW(INDIRECT(\"1:\"&ROWS(fautes)))),ROWS($1:$2))),\"\")","v":0},{"$f":"IF(ROWS($1:$3)<=COUNTIF(joueurs,$B141),INDEX(fautes,SMALL(IF(joueurs=$B141,ROW(INDIRECT(\"1:\"&ROWS(fautes)))),ROWS($1:$3))),\"\")","v":0},{"$f":"IF(ROWS($1:$4)<=COUNTIF(joueurs,$B141),INDEX(fautes,SMALL(IF(joueurs=$B141,ROW(INDIRECT(\"1:\"&ROWS(fautes)))),ROWS($1:$4))),\"\")","v":0},{"$f":"IF(ROWS($1:$5)<=COUNTIF(joueurs,$B141),INDEX(fautes,SMALL(IF(joueurs=$B141,ROW(INDIRECT(\"1:\"&ROWS(fautes)))),ROWS($1:$5))),\"\")","v":0},{"$f":"IF(ROWS($1:$6)<=COUNTIF(joueurs,$B141),INDEX(fautes,SMALL(IF(joueurs=$B141,ROW(INDIRECT(\"1:\"&ROWS(fautes)))),ROWS($1:$6))),\"\")","v":0},{"$f":"IF(ROWS($1:$7)<=COUNTIF(joueurs,$B141),INDEX(fautes,SMALL(IF(joueurs=$B141,ROW(INDIRECT(\"1:\"&ROWS(fautes)))),ROWS($1:$7))),\"\")","v":0},{"$f":"IF(ROWS($1:$8)<=COUNTIF(joueurs,$B141),INDEX(fautes,SMALL(IF(joueurs=$B141,ROW(INDIRECT(\"1:\"&ROWS(fautes)))),ROWS($1:$8))),\"\")","v":0},{"$f":"IF(ROWS($1:$9)<=COUNTIF(joueurs,$B141),INDEX(fautes,SMALL(IF(joueurs=$B141,ROW(INDIRECT(\"1:\"&ROWS(fautes)))),ROWS($1:$9))),\"\")","v":0},{"$f":"IF(ROWS($1:$10)<=COUNTIF(joueurs,$B141),INDEX(fautes,SMALL(IF(joueurs=$B141,ROW(INDIRECT(\"1:\"&ROWS(fautes)))),ROWS($1:$10))),\"\")","v":0},{"$f":"IF(ROWS($1:$1)<=COUNTIF(joueurs,$B141),INDEX(ballonperdus,SMALL(IF(joueurs=$B141,ROW(INDIRECT(\"1:\"&ROWS(ballonperdus)))),ROWS($1:$1))),\"\")","v":0},{"$f":"IF(ROWS($1:$2)<=COUNTIF(joueurs,$B141),INDEX(ballonperdus,SMALL(IF(joueurs=$B141,ROW(INDIRECT(\"1:\"&ROWS(ballonperdus)))),ROWS($1:$2))),\"\")","v":0},{"$f":"IF(ROWS($1:$3)<=COUNTIF(joueurs,$B141),INDEX(ballonperdus,SMALL(IF(joueurs=$B141,ROW(INDIRECT(\"1:\"&ROWS(ballonperdus)))),ROWS($1:$3))),\"\")","v":0},{"$f":"IF(ROWS($1:$4)<=COUNTIF(joueurs,$B141),INDEX(ballonperdus,SMALL(IF(joueurs=$B141,ROW(INDIRECT(\"1:\"&ROWS(ballonperdus)))),ROWS($1:$4))),\"\")","v":0},{"$f":"IF(ROWS($1:$5)<=COUNTIF(joueurs,$B141),INDEX(ballonperdus,SMALL(IF(joueurs=$B141,ROW(INDIRECT(\"1:\"&ROWS(ballonperdus)))),ROWS($1:$5))),\"\")","v":0},{"$f":"IF(ROWS($1:$6)<=COUNTIF(joueurs,$B141),INDEX(ballonperdus,SMALL(IF(joueurs=$B141,ROW(INDIRECT(\"1:\"&ROWS(ballonperdus)))),ROWS($1:$6))),\"\")","v":0},{"$f":"IF(ROWS($1:$7)<=COUNTIF(joueurs,$B141),INDEX(ballonperdus,SMALL(IF(joueurs=$B141,ROW(INDIRECT(\"1:\"&ROWS(ballonperdus)))),ROWS($1:$7))),\"\")","v":0},{"$f":"IF(ROWS($1:$8)<=COUNTIF(joueurs,$B141),INDEX(ballonperdus,SMALL(IF(joueurs=$B141,ROW(INDIRECT(\"1:\"&ROWS(ballonperdus)))),ROWS($1:$8))),\"\")","v":0},{"$f":"IF(ROWS($1:$9)<=COUNTIF(joueurs,$B141),INDEX(ballonperdus,SMALL(IF(joueurs=$B141,ROW(INDIRECT(\"1:\"&ROWS(ballonperdus)))),ROWS($1:$9))),\"\")","v":0},{"$f":"IF(ROWS($1:$10)<=COUNTIF(joueurs,$B141),INDEX(ballonperdus,SMALL(IF(joueurs=$B141,ROW(INDIRECT(\"1:\"&ROWS(ballonperdus)))),ROWS($1:$10))),\"\")","v":0},{"$f":"IF(ROWS($1:$1)<=COUNTIF(joueurs,$B141),INDEX(interceptions,SMALL(IF(joueurs=$B141,ROW(INDIRECT(\"1:\"&ROWS(interceptions)))),ROWS($1:$1))),\"\")","v":0},{"$f":"IF(ROWS($1:$2)<=COUNTIF(joueurs,$B141),INDEX(interceptions,SMALL(IF(joueurs=$B141,ROW(INDIRECT(\"1:\"&ROWS(interceptions)))),ROWS($1:$2))),\"\")","v":0},{"$f":"IF(ROWS($1:$3)<=COUNTIF(joueurs,$B141),INDEX(interceptions,SMALL(IF(joueurs=$B141,ROW(INDIRECT(\"1:\"&ROWS(interceptions)))),ROWS($1:$3))),\"\")","v":0},{"$f":"IF(ROWS($1:$4)<=COUNTIF(joueurs,$B141),INDEX(interceptions,SMALL(IF(joueurs=$B141,ROW(INDIRECT(\"1:\"&ROWS(interceptions)))),ROWS($1:$4))),\"\")","v":0},{"$f":"IF(ROWS($1:$5)<=COUNTIF(joueurs,$B141),INDEX(interceptions,SMALL(IF(joueurs=$B141,ROW(INDIRECT(\"1:\"&ROWS(interceptions)))),ROWS($1:$5))),\"\")","v":0},{"$f":"IF(ROWS($1:$6)<=COUNTIF(joueurs,$B141),INDEX(interceptions,SMALL(IF(joueurs=$B141,ROW(INDIRECT(\"1:\"&ROWS(interceptions)))),ROWS($1:$6))),\"\")","v":0},{"$f":"IF(ROWS($1:$7)<=COUNTIF(joueurs,$B141),INDEX(interceptions,SMALL(IF(joueurs=$B141,ROW(INDIRECT(\"1:\"&ROWS(interceptions)))),ROWS($1:$7))),\"\")","v":0},{"$f":"IF(ROWS($1:$8)<=COUNTIF(joueurs,$B141),INDEX(interceptions,SMALL(IF(joueurs=$B141,ROW(INDIRECT(\"1:\"&ROWS(interceptions)))),ROWS($1:$8))),\"\")","v":0},{"$f":"IF(ROWS($1:$9)<=COUNTIF(joueurs,$B141),INDEX(interceptions,SMALL(IF(joueurs=$B141,ROW(INDIRECT(\"1:\"&ROWS(interceptions)))),ROWS($1:$9))),\"\")","v":0},{"$f":"IF(ROWS($1:$10)<=COUNTIF(joueurs,$B141),INDEX(interceptions,SMALL(IF(joueurs=$B141,ROW(INDIRECT(\"1:\"&ROWS(interceptions)))),ROWS($1:$10))),\"\")","v":0},{"$f":"IF(ROWS($1:$1)<=COUNTIF(joueurs,$B141),INDEX(ballonrecuperes,SMALL(IF(joueurs=$B141,ROW(INDIRECT(\"1:\"&ROWS(ballonrecuperes)))),ROWS($1:$1))),\"\")","v":0},{"$f":"IF(ROWS($1:$2)<=COUNTIF(joueurs,$B141),INDEX(ballonrecuperes,SMALL(IF(joueurs=$B141,ROW(INDIRECT(\"1:\"&ROWS(ballonrecuperes)))),ROWS($1:$2))),\"\")","v":0},{"$f":"IF(ROWS($1:$3)<=COUNTIF(joueurs,$B141),INDEX(ballonrecuperes,SMALL(IF(joueurs=$B141,ROW(INDIRECT(\"1:\"&ROWS(ballonrecuperes)))),ROWS($1:$3))),\"\")","v":0},{"$f":"IF(ROWS($1:$4)<=COUNTIF(joueurs,$B141),INDEX(ballonrecuperes,SMALL(IF(joueurs=$B141,ROW(INDIRECT(\"1:\"&ROWS(ballonrecuperes)))),ROWS($1:$4))),\"\")","v":0},{"$f":"IF(ROWS($1:$5)<=COUNTIF(joueurs,$B141),INDEX(ballonrecuperes,SMALL(IF(joueurs=$B141,ROW(INDIRECT(\"1:\"&ROWS(ballonrecuperes)))),ROWS($1:$5))),\"\")","v":0},{"$f":"IF(ROWS($1:$6)<=COUNTIF(joueurs,$B141),INDEX(ballonrecuperes,SMALL(IF(joueurs=$B141,ROW(INDIRECT(\"1:\"&ROWS(ballonrecuperes)))),ROWS($1:$6))),\"\")","v":0},{"$f":"IF(ROWS($1:$7)<=COUNTIF(joueurs,$B141),INDEX(ballonrecuperes,SMALL(IF(joueurs=$B141,ROW(INDIRECT(\"1:\"&ROWS(ballonrecuperes)))),ROWS($1:$7))),\"\")","v":0},{"$f":"IF(ROWS($1:$8)<=COUNTIF(joueurs,$B141),INDEX(ballonrecuperes,SMALL(IF(joueurs=$B141,ROW(INDIRECT(\"1:\"&ROWS(ballonrecuperes)))),ROWS($1:$8))),\"\")","v":0},{"$f":"IF(ROWS($1:$9)<=COUNTIF(joueurs,$B141),INDEX(ballonrecuperes,SMALL(IF(joueurs=$B141,ROW(INDIRECT(\"1:\"&ROWS(ballonrecuperes)))),ROWS($1:$9))),\"\")","v":0},{"$f":"IF(ROWS($1:$10)<=COUNTIF(joueurs,$B141),INDEX(ballonrecuperes,SMALL(IF(joueurs=$B141,ROW(INDIRECT(\"1:\"&ROWS(ballonrecuperes)))),ROWS($1:$10))),\"\")","v":0},{"$f":"IF(ROWS($1:$1)<=COUNTIF(joueurs,$B141),INDEX(tirs,SMALL(IF(joueurs=$B141,ROW(INDIRECT(\"1:\"&ROWS(tirs)))),ROWS($1:$1))),\"\")","v":0},{"$f":"IF(ROWS($1:$2)<=COUNTIF(joueurs,$B141),INDEX(tirs,SMALL(IF(joueurs=$B141,ROW(INDIRECT(\"1:\"&ROWS(tirs)))),ROWS($1:$2))),\"\")","v":0},{"$f":"IF(ROWS($1:$3)<=COUNTIF(joueurs,$B141),INDEX(tirs,SMALL(IF(joueurs=$B141,ROW(INDIRECT(\"1:\"&ROWS(tirs)))),ROWS($1:$3))),\"\")","v":0},{"$f":"IF(ROWS($1:$4)<=COUNTIF(joueurs,$B141),INDEX(tirs,SMALL(IF(joueurs=$B141,ROW(INDIRECT(\"1:\"&ROWS(tirs)))),ROWS($1:$4))),\"\")","v":0},{"$f":"IF(ROWS($1:$5)<=COUNTIF(joueurs,$B141),INDEX(tirs,SMALL(IF(joueurs=$B141,ROW(INDIRECT(\"1:\"&ROWS(tirs)))),ROWS($1:$5))),\"\")","v":0},{"$f":"IF(ROWS($1:$6)<=COUNTIF(joueurs,$B141),INDEX(tirs,SMALL(IF(joueurs=$B141,ROW(INDIRECT(\"1:\"&ROWS(tirs)))),ROWS($1:$6))),\"\")","v":0},{"$f":"IF(ROWS($1:$7)<=COUNTIF(joueurs,$B141),INDEX(tirs,SMALL(IF(joueurs=$B141,ROW(INDIRECT(\"1:\"&ROWS(tirs)))),ROWS($1:$7))),\"\")","v":0},{"$f":"IF(ROWS($1:$8)<=COUNTIF(joueurs,$B141),INDEX(tirs,SMALL(IF(joueurs=$B141,ROW(INDIRECT(\"1:\"&ROWS(tirs)))),ROWS($1:$8))),\"\")","v":0},{"$f":"IF(ROWS($1:$9)<=COUNTIF(joueurs,$B141),INDEX(tirs,SMALL(IF(joueurs=$B141,ROW(INDIRECT(\"1:\"&ROWS(tirs)))),ROWS($1:$9))),\"\")","v":0},{"$f":"IF(ROWS($1:$10)<=COUNTIF(joueurs,$B141),INDEX(tirs,SMALL(IF(joueurs=$B141,ROW(INDIRECT(\"1:\"&ROWS(tirs)))),ROWS($1:$10))),\"\")","v":0},{"$f":"IF(ROWS($1:$1)<=COUNTIF(joueurs,$B141),INDEX(bontirs,SMALL(IF(joueurs=$B141,ROW(INDIRECT(\"1:\"&ROWS(bontirs)))),ROWS($1:$1))),\"\")","v":0},{"$f":"IF(ROWS($1:$2)<=COUNTIF(joueurs,$B141),INDEX(bontirs,SMALL(IF(joueurs=$B141,ROW(INDIRECT(\"1:\"&ROWS(bontirs)))),ROWS($1:$2))),\"\")","v":0},{"$f":"IF(ROWS($1:$3)<=COUNTIF(joueurs,$B141),INDEX(bontirs,SMALL(IF(joueurs=$B141,ROW(INDIRECT(\"1:\"&ROWS(bontirs)))),ROWS($1:$3))),\"\")","v":0},{"$f":"IF(ROWS($1:$4)<=COUNTIF(joueurs,$B141),INDEX(bontirs,SMALL(IF(joueurs=$B141,ROW(INDIRECT(\"1:\"&ROWS(bontirs)))),ROWS($1:$4))),\"\")","v":0},{"$f":"IF(ROWS($1:$5)<=COUNTIF(joueurs,$B141),INDEX(bontirs,SMALL(IF(joueurs=$B141,ROW(INDIRECT(\"1:\"&ROWS(bontirs)))),ROWS($1:$5))),\"\")","v":0},{"$f":"IF(ROWS($1:$6)<=COUNTIF(joueurs,$B141),INDEX(bontirs,SMALL(IF(joueurs=$B141,ROW(INDIRECT(\"1:\"&ROWS(bontirs)))),ROWS($1:$6))),\"\")","v":0},{"$f":"IF(ROWS($1:$7)<=COUNTIF(joueurs,$B141),INDEX(bontirs,SMALL(IF(joueurs=$B141,ROW(INDIRECT(\"1:\"&ROWS(bontirs)))),ROWS($1:$7))),\"\")","v":0},{"$f":"IF(ROWS($1:$8)<=COUNTIF(joueurs,$B141),INDEX(bontirs,SMALL(IF(joueurs=$B141,ROW(INDIRECT(\"1:\"&ROWS(bontirs)))),ROWS($1:$8))),\"\")","v":0},{"$f":"IF(ROWS($1:$9)<=COUNTIF(joueurs,$B141),INDEX(bontirs,SMALL(IF(joueurs=$B141,ROW(INDIRECT(\"1:\"&ROWS(bontirs)))),ROWS($1:$9))),\"\")","v":0},{"$f":"IF(ROWS($1:$10)<=COUNTIF(joueurs,$B141),INDEX(bontirs,SMALL(IF(joueurs=$B141,ROW(INDIRECT(\"1:\"&ROWS(bontirs)))),ROWS($1:$10))),\"\")","v":0},{"$f":"IF(ROWS($1:$1)<=COUNTIF(joueurs,$B141),INDEX(points,SMALL(IF(joueurs=$B141,ROW(INDIRECT(\"1:\"&ROWS(points)))),ROWS($1:$1))),\"\")","v":0},{"$f":"IF(ROWS($1:$2)<=COUNTIF(joueurs,$B141),INDEX(points,SMALL(IF(joueurs=$B141,ROW(INDIRECT(\"1:\"&ROWS(points)))),ROWS($1:$2))),\"\")","v":0},{"$f":"IF(ROWS($1:$3)<=COUNTIF(joueurs,$B141),INDEX(points,SMALL(IF(joueurs=$B141,ROW(INDIRECT(\"1:\"&ROWS(points)))),ROWS($1:$3))),\"\")","v":0},{"$f":"IF(ROWS($1:$4)<=COUNTIF(joueurs,$B141),INDEX(points,SMALL(IF(joueurs=$B141,ROW(INDIRECT(\"1:\"&ROWS(points)))),ROWS($1:$4))),\"\")","v":0},{"$f":"IF(ROWS($1:$5)<=COUNTIF(joueurs,$B141),INDEX(points,SMALL(IF(joueurs=$B141,ROW(INDIRECT(\"1:\"&ROWS(points)))),ROWS($1:$5))),\"\")","v":0},{"$f":"IF(ROWS($1:$6)<=COUNTIF(joueurs,$B141),INDEX(points,SMALL(IF(joueurs=$B141,ROW(INDIRECT(\"1:\"&ROWS(points)))),ROWS($1:$6))),\"\")","v":0},{"$f":"IF(ROWS($1:$7)<=COUNTIF(joueurs,$B141),INDEX(points,SMALL(IF(joueurs=$B141,ROW(INDIRECT(\"1:\"&ROWS(points)))),ROWS($1:$7))),\"\")","v":0},{"$f":"IF(ROWS($1:$8)<=COUNTIF(joueurs,$B141),INDEX(points,SMALL(IF(joueurs=$B141,ROW(INDIRECT(\"1:\"&ROWS(points)))),ROWS($1:$8))),\"\")","v":0},{"$f":"IF(ROWS($1:$9)<=COUNTIF(joueurs,$B141),INDEX(points,SMALL(IF(joueurs=$B141,ROW(INDIRECT(\"1:\"&ROWS(points)))),ROWS($1:$9))),\"\")","v":0},{"$f":"IF(ROWS($1:$10)<=COUNTIF(joueurs,$B141),INDEX(points,SMALL(IF(joueurs=$B141,ROW(INDIRECT(\"1:\"&ROWS(points)))),ROWS($1:$10))),\"\")","v":0},{"$f":"IF(ROWS($1:$1)<=COUNTIF(joueurs,$B141),INDEX(victoires,SMALL(IF(joueurs=$B141,ROW(INDIRECT(\"1:\"&ROWS(victoires)))),ROWS($1:$1))),\"\")","v":0},{"$f":"IF(ROWS($1:$2)<=COUNTIF(joueurs,$B141),INDEX(victoires,SMALL(IF(joueurs=$B141,ROW(INDIRECT(\"1:\"&ROWS(victoires)))),ROWS($1:$2))),\"\")","v":0},{"$f":"IF(ROWS($1:$3)<=COUNTIF(joueurs,$B141),INDEX(victoires,SMALL(IF(joueurs=$B141,ROW(INDIRECT(\"1:\"&ROWS(victoires)))),ROWS($1:$3))),\"\")","v":0},{"$f":"IF(ROWS($1:$4)<=COUNTIF(joueurs,$B141),INDEX(victoires,SMALL(IF(joueurs=$B141,ROW(INDIRECT(\"1:\"&ROWS(victoires)))),ROWS($1:$4))),\"\")","v":0},{"$f":"IF(ROWS($1:$5)<=COUNTIF(joueurs,$B141),INDEX(victoires,SMALL(IF(joueurs=$B141,ROW(INDIRECT(\"1:\"&ROWS(victoires)))),ROWS($1:$5))),\"\")","v":0},{"$f":"IF(ROWS($1:$6)<=COUNTIF(joueurs,$B141),INDEX(victoires,SMALL(IF(joueurs=$B141,ROW(INDIRECT(\"1:\"&ROWS(victoires)))),ROWS($1:$6))),\"\")","v":0},{"$f":"IF(ROWS($1:$7)<=COUNTIF(joueurs,$B141),INDEX(victoires,SMALL(IF(joueurs=$B141,ROW(INDIRECT(\"1:\"&ROWS(victoires)))),ROWS($1:$7))),\"\")","v":0},{"$f":"IF(ROWS($1:$8)<=COUNTIF(joueurs,$B141),INDEX(victoires,SMALL(IF(joueurs=$B141,ROW(INDIRECT(\"1:\"&ROWS(victoires)))),ROWS($1:$8))),\"\")","v":0},{"$f":"IF(ROWS($1:$9)<=COUNTIF(joueurs,$B141),INDEX(victoires,SMALL(IF(joueurs=$B141,ROW(INDIRECT(\"1:\"&ROWS(victoires)))),ROWS($1:$9))),\"\")","v":0},{"$f":"IF(ROWS($1:$10)<=COUNTIF(joueurs,$B141),INDEX(victoires,SMALL(IF(joueurs=$B141,ROW(INDIRECT(\"1:\"&ROWS(victoires)))),ROWS($1:$10))),\"\")","v":0}]
[null,null,null,{"$f":"IF(ROWS($1:$11)<=COUNTIF(joueurs,$B141),INDEX(fautes,SMALL(IF(joueurs=$B141,ROW(INDIRECT(\"1:\"&ROWS(fautes)))),ROWS($1:$11))),\"\")","v":0},{"$f":"IF(ROWS($1:$12)<=COUNTIF(joueurs,$B141),INDEX(fautes,SMALL(IF(joueurs=$B141,ROW(INDIRECT(\"1:\"&ROWS(fautes)))),ROWS($1:$12))),\"\")","v":0},{"$f":"IF(ROWS($1:$13)<=COUNTIF(joueurs,$B141),INDEX(fautes,SMALL(IF(joueurs=$B141,ROW(INDIRECT(\"1:\"&ROWS(fautes)))),ROWS($1:$13))),\"\")","v":0},{"$f":"IF(ROWS($1:$14)<=COUNTIF(joueurs,$B141),INDEX(fautes,SMALL(IF(joueurs=$B141,ROW(INDIRECT(\"1:\"&ROWS(fautes)))),ROWS($1:$14))),\"\")","v":0},{"$f":"IF(ROWS($1:$15)<=COUNTIF(joueurs,$B141),INDEX(fautes,SMALL(IF(joueurs=$B141,ROW(INDIRECT(\"1:\"&ROWS(fautes)))),ROWS($1:$15))),\"\")","v":0},{"$f":"IF(ROWS($1:$16)<=COUNTIF(joueurs,$B141),INDEX(fautes,SMALL(IF(joueurs=$B141,ROW(INDIRECT(\"1:\"&ROWS(fautes)))),ROWS($1:$16))),\"\")","v":0},{"$f":"IF(ROWS($1:$17)<=COUNTIF(joueurs,$B141),INDEX(fautes,SMALL(IF(joueurs=$B141,ROW(INDIRECT(\"1:\"&ROWS(fautes)))),ROWS($1:$17))),\"\")","v":0},{"$f":"IF(ROWS($1:$18)<=COUNTIF(joueurs,$B141),INDEX(fautes,SMALL(IF(joueurs=$B141,ROW(INDIRECT(\"1:\"&ROWS(fautes)))),ROWS($1:$18))),\"\")","v":0},{"$f":"IF(ROWS($1:$19)<=COUNTIF(joueurs,$B141),INDEX(fautes,SMALL(IF(joueurs=$B141,ROW(INDIRECT(\"1:\"&ROWS(fautes)))),ROWS($1:$19))),\"\")","v":0},{"$f":"IF(ROWS($1:$20)<=COUNTIF(joueurs,$B141),INDEX(fautes,SMALL(IF(joueurs=$B141,ROW(INDIRECT(\"1:\"&ROWS(fautes)))),ROWS($1:$20))),\"\")","v":0},{"$f":"IF(ROWS($1:$11)<=COUNTIF(joueurs,$B141),INDEX(ballonperdus,SMALL(IF(joueurs=$B141,ROW(INDIRECT(\"1:\"&ROWS(ballonperdus)))),ROWS($1:$11))),\"\")","v":0},{"$f":"IF(ROWS($1:$12)<=COUNTIF(joueurs,$B141),INDEX(ballonperdus,SMALL(IF(joueurs=$B141,ROW(INDIRECT(\"1:\"&ROWS(ballonperdus)))),ROWS($1:$12))),\"\")","v":0},{"$f":"IF(ROWS($1:$13)<=COUNTIF(joueurs,$B141),INDEX(ballonperdus,SMALL(IF(joueurs=$B141,ROW(INDIRECT(\"1:\"&ROWS(ballonperdus)))),ROWS($1:$13))),\"\")","v":0},{"$f":"IF(ROWS($1:$14)<=COUNTIF(joueurs,$B141),INDEX(ballonperdus,SMALL(IF(joueurs=$B141,ROW(INDIRECT(\"1:\"&ROWS(ballonperdus)))),ROWS($1:$14))),\"\")","v":0},{"$f":"IF(ROWS($1:$15)<=COUNTIF(joueurs,$B141),INDEX(ballonperdus,SMALL(IF(joueurs=$B141,ROW(INDIRECT(\"1:\"&ROWS(ballonperdus)))),ROWS($1:$15))),\"\")","v":0},{"$f":"IF(ROWS($1:$16)<=COUNTIF(joueurs,$B141),INDEX(ballonperdus,SMALL(IF(joueurs=$B141,ROW(INDIRECT(\"1:\"&ROWS(ballonperdus)))),ROWS($1:$16))),\"\")","v":0},{"$f":"IF(ROWS($1:$17)<=COUNTIF(joueurs,$B141),INDEX(ballonperdus,SMALL(IF(joueurs=$B141,ROW(INDIRECT(\"1:\"&ROWS(ballonperdus)))),ROWS($1:$17))),\"\")","v":0},{"$f":"IF(ROWS($1:$18)<=COUNTIF(joueurs,$B141),INDEX(ballonperdus,SMALL(IF(joueurs=$B141,ROW(INDIRECT(\"1:\"&ROWS(ballonperdus)))),ROWS($1:$18))),\"\")","v":0},{"$f":"IF(ROWS($1:$19)<=COUNTIF(joueurs,$B141),INDEX(ballonperdus,SMALL(IF(joueurs=$B141,ROW(INDIRECT(\"1:\"&ROWS(ballonperdus)))),ROWS($1:$19))),\"\")","v":0},{"$f":"IF(ROWS($1:$20)<=COUNTIF(joueurs,$B141),INDEX(fautes,SMALL(IF(joueurs=$B141,ROW(INDIRECT(\"1:\"&ROWS(ballonperdus)))),ROWS($1:$20))),\"\")","v":0},{"$f":"IF(ROWS($1:$11)<=COUNTIF(joueurs,$B141),INDEX(interceptions,SMALL(IF(joueurs=$B141,ROW(INDIRECT(\"1:\"&ROWS(interceptions)))),ROWS($1:$11))),\"\")","v":0},{"$f":"IF(ROWS($1:$12)<=COUNTIF(joueurs,$B141),INDEX(interceptions,SMALL(IF(joueurs=$B141,ROW(INDIRECT(\"1:\"&ROWS(interceptions)))),ROWS($1:$12))),\"\")","v":0},{"$f":"IF(ROWS($1:$13)<=COUNTIF(joueurs,$B141),INDEX(interceptions,SMALL(IF(joueurs=$B141,ROW(INDIRECT(\"1:\"&ROWS(interceptions)))),ROWS($1:$13))),\"\")","v":0},{"$f":"IF(ROWS($1:$14)<=COUNTIF(joueurs,$B141),INDEX(interceptions,SMALL(IF(joueurs=$B141,ROW(INDIRECT(\"1:\"&ROWS(interceptions)))),ROWS($1:$14))),\"\")","v":0},{"$f":"IF(ROWS($1:$15)<=COUNTIF(joueurs,$B141),INDEX(interceptions,SMALL(IF(joueurs=$B141,ROW(INDIRECT(\"1:\"&ROWS(interceptions)))),ROWS($1:$15))),\"\")","v":0},{"$f":"IF(ROWS($1:$16)<=COUNTIF(joueurs,$B141),INDEX(interceptions,SMALL(IF(joueurs=$B141,ROW(INDIRECT(\"1:\"&ROWS(interceptions)))),ROWS($1:$16))),\"\")","v":0},{"$f":"IF(ROWS($1:$17)<=COUNTIF(joueurs,$B141),INDEX(interceptions,SMALL(IF(joueurs=$B141,ROW(INDIRECT(\"1:\"&ROWS(interceptions)))),ROWS($1:$17))),\"\")","v":0},{"$f":"IF(ROWS($1:$18)<=COUNTIF(joueurs,$B141),INDEX(interceptions,SMALL(IF(joueurs=$B141,ROW(INDIRECT(\"1:\"&ROWS(interceptions)))),ROWS($1:$18))),\"\")","v":0},{"$f":"IF(ROWS($1:$19)<=COUNTIF(joueurs,$B141),INDEX(interceptions,SMALL(IF(joueurs=$B141,ROW(INDIRECT(\"1:\"&ROWS(interceptions)))),ROWS($1:$19))),\"\")","v":0},{"$f":"IF(ROWS($1:$20)<=COUNTIF(joueurs,$B141),INDEX(interceptions,SMALL(IF(joueurs=$B141,ROW(INDIRECT(\"1:\"&ROWS(interceptions)))),ROWS($1:$20))),\"\")","v":0},{"$f":"IF(ROWS($1:$11)<=COUNTIF(joueurs,$B141),INDEX(ballonrecuperes,SMALL(IF(joueurs=$B141,ROW(INDIRECT(\"1:\"&ROWS(ballonrecuperes)))),ROWS($1:$11))),\"\")","v":0},{"$f":"IF(ROWS($1:$12)<=COUNTIF(joueurs,$B141),INDEX(ballonrecuperes,SMALL(IF(joueurs=$B141,ROW(INDIRECT(\"1:\"&ROWS(ballonrecuperes)))),ROWS($1:$12))),\"\")","v":0},{"$f":"IF(ROWS($1:$13)<=COUNTIF(joueurs,$B141),INDEX(ballonrecuperes,SMALL(IF(joueurs=$B141,ROW(INDIRECT(\"1:\"&ROWS(ballonrecuperes)))),ROWS($1:$13))),\"\")","v":0},{"$f":"IF(ROWS($1:$14)<=COUNTIF(joueurs,$B141),INDEX(ballonrecuperes,SMALL(IF(joueurs=$B141,ROW(INDIRECT(\"1:\"&ROWS(ballonrecuperes)))),ROWS($1:$14))),\"\")","v":0},{"$f":"IF(ROWS($1:$15)<=COUNTIF(joueurs,$B141),INDEX(ballonrecuperes,SMALL(IF(joueurs=$B141,ROW(INDIRECT(\"1:\"&ROWS(ballonrecuperes)))),ROWS($1:$15))),\"\")","v":0},{"$f":"IF(ROWS($1:$16)<=COUNTIF(joueurs,$B141),INDEX(ballonrecuperes,SMALL(IF(joueurs=$B141,ROW(INDIRECT(\"1:\"&ROWS(ballonrecuperes)))),ROWS($1:$16))),\"\")","v":0},{"$f":"IF(ROWS($1:$17)<=COUNTIF(joueurs,$B141),INDEX(ballonrecuperes,SMALL(IF(joueurs=$B141,ROW(INDIRECT(\"1:\"&ROWS(ballonrecuperes)))),ROWS($1:$17))),\"\")","v":0},{"$f":"IF(ROWS($1:$18)<=COUNTIF(joueurs,$B141),INDEX(ballonrecuperes,SMALL(IF(joueurs=$B141,ROW(INDIRECT(\"1:\"&ROWS(ballonrecuperes)))),ROWS($1:$18))),\"\")","v":0},{"$f":"IF(ROWS($1:$19)<=COUNTIF(joueurs,$B141),INDEX(ballonrecuperes,SMALL(IF(joueurs=$B141,ROW(INDIRECT(\"1:\"&ROWS(ballonrecuperes)))),ROWS($1:$19))),\"\")","v":0},{"$f":"IF(ROWS($1:$20)<=COUNTIF(joueurs,$B141),INDEX(ballonrecuperes,SMALL(IF(joueurs=$B141,ROW(INDIRECT(\"1:\"&ROWS(ballonrecuperes)))),ROWS($1:$20))),\"\")","v":0},{"$f":"IF(ROWS($1:$11)<=COUNTIF(joueurs,$B141),INDEX(tirs,SMALL(IF(joueurs=$B141,ROW(INDIRECT(\"1:\"&ROWS(tirs)))),ROWS($1:$11))),\"\")","v":0},{"$f":"IF(ROWS($1:$12)<=COUNTIF(joueurs,$B141),INDEX(tirs,SMALL(IF(joueurs=$B141,ROW(INDIRECT(\"1:\"&ROWS(tirs)))),ROWS($1:$12))),\"\")","v":0},{"$f":"IF(ROWS($1:$13)<=COUNTIF(joueurs,$B141),INDEX(tirs,SMALL(IF(joueurs=$B141,ROW(INDIRECT(\"1:\"&ROWS(tirs)))),ROWS($1:$13))),\"\")","v":0},{"$f":"IF(ROWS($1:$14)<=COUNTIF(joueurs,$B141),INDEX(tirs,SMALL(IF(joueurs=$B141,ROW(INDIRECT(\"1:\"&ROWS(tirs)))),ROWS($1:$14))),\"\")","v":0},{"$f":"IF(ROWS($1:$15)<=COUNTIF(joueurs,$B141),INDEX(tirs,SMALL(IF(joueurs=$B141,ROW(INDIRECT(\"1:\"&ROWS(tirs)))),ROWS($1:$15))),\"\")","v":0},{"$f":"IF(ROWS($1:$16)<=COUNTIF(joueurs,$B141),INDEX(tirs,SMALL(IF(joueurs=$B141,ROW(INDIRECT(\"1:\"&ROWS(tirs)))),ROWS($1:$16))),\"\")","v":0},{"$f":"IF(ROWS($1:$17)<=COUNTIF(joueurs,$B141),INDEX(tirs,SMALL(IF(joueurs=$B141,ROW(INDIRECT(\"1:\"&ROWS(tirs)))),ROWS($1:$17))),\"\")","v":0},{"$f":"IF(ROWS($1:$18)<=COUNTIF(joueurs,$B141),INDEX(tirs,SMALL(IF(joueurs=$B141,ROW(INDIRECT(\"1:\"&ROWS(tirs)))),ROWS($1:$18))),\"\")","v":0},{"$f":"IF(ROWS($1:$19)<=COUNTIF(joueurs,$B141),INDEX(tirs,SMALL(IF(joueurs=$B141,ROW(INDIRECT(\"1:\"&ROWS(tirs)))),ROWS($1:$19))),\"\")","v":0},{"$f":"IF(ROWS($1:$20)<=COUNTIF(joueurs,$B141),INDEX(tirs,SMALL(IF(joueurs=$B141,ROW(INDIRECT(\"1:\"&ROWS(tirs)))),ROWS($1:$20))),\"\")","v":0},{"$f":"IF(ROWS($1:$11)<=COUNTIF(joueurs,$B141),INDEX(bontirs,SMALL(IF(joueurs=$B141,ROW(INDIRECT(\"1:\"&ROWS(bontirs)))),ROWS($1:$11))),\"\")","v":0},{"$f":"IF(ROWS($1:$12)<=COUNTIF(joueurs,$B141),INDEX(bontirs,SMALL(IF(joueurs=$B141,ROW(INDIRECT(\"1:\"&ROWS(bontirs)))),ROWS($1:$12))),\"\")","v":0},{"$f":"IF(ROWS($1:$13)<=COUNTIF(joueurs,$B141),INDEX(bontirs,SMALL(IF(joueurs=$B141,ROW(INDIRECT(\"1:\"&ROWS(bontirs)))),ROWS($1:$13))),\"\")","v":0},{"$f":"IF(ROWS($1:$14)<=COUNTIF(joueurs,$B141),INDEX(bontirs,SMALL(IF(joueurs=$B141,ROW(INDIRECT(\"1:\"&ROWS(bontirs)))),ROWS($1:$14))),\"\")","v":0},{"$f":"IF(ROWS($1:$15)<=COUNTIF(joueurs,$B141),INDEX(bontirs,SMALL(IF(joueurs=$B141,ROW(INDIRECT(\"1:\"&ROWS(bontirs)))),ROWS($1:$15))),\"\")","v":0},{"$f":"IF(ROWS($1:$16)<=COUNTIF(joueurs,$B141),INDEX(bontirs,SMALL(IF(joueurs=$B141,ROW(INDIRECT(\"1:\"&ROWS(bontirs)))),ROWS($1:$16))),\"\")","v":0},{"$f":"IF(ROWS($1:$17)<=COUNTIF(joueurs,$B141),INDEX(bontirs,SMALL(IF(joueurs=$B141,ROW(INDIRECT(\"1:\"&ROWS(bontirs)))),ROWS($1:$17))),\"\")","v":0},{"$f":"IF(ROWS($1:$18)<=COUNTIF(joueurs,$B141),INDEX(bontirs,SMALL(IF(joueurs=$B141,ROW(INDIRECT(\"1:\"&ROWS(bontirs)))),ROWS($1:$18))),\"\")","v":0},{"$f":"IF(ROWS($1:$19)<=COUNTIF(joueurs,$B141),INDEX(bontirs,SMALL(IF(joueurs=$B141,ROW(INDIRECT(\"1:\"&ROWS(bontirs)))),ROWS($1:$19))),\"\")","v":0},{"$f":"IF(ROWS($1:$20)<=COUNTIF(joueurs,$B141),INDEX(bontirs,SMALL(IF(joueurs=$B141,ROW(INDIRECT(\"1:\"&ROWS(bontirs)))),ROWS($1:$20))),\"\")","v":0},{"$f":"IF(ROWS($1:$11)<=COUNTIF(joueurs,$B141),INDEX(points,SMALL(IF(joueurs=$B141,ROW(INDIRECT(\"1:\"&ROWS(points)))),ROWS($1:$11))),\"\")","v":0},{"$f":"IF(ROWS($1:$12)<=COUNTIF(joueurs,$B141),INDEX(points,SMALL(IF(joueurs=$B141,ROW(INDIRECT(\"1:\"&ROWS(points)))),ROWS($1:$12))),\"\")","v":0},{"$f":"IF(ROWS($1:$13)<=COUNTIF(joueurs,$B141),INDEX(points,SMALL(IF(joueurs=$B141,ROW(INDIRECT(\"1:\"&ROWS(points)))),ROWS($1:$13))),\"\")","v":0},{"$f":"IF(ROWS($1:$14)<=COUNTIF(joueurs,$B141),INDEX(points,SMALL(IF(joueurs=$B141,ROW(INDIRECT(\"1:\"&ROWS(points)))),ROWS($1:$14))),\"\")","v":0},{"$f":"IF(ROWS($1:$15)<=COUNTIF(joueurs,$B141),INDEX(points,SMALL(IF(joueurs=$B141,ROW(INDIRECT(\"1:\"&ROWS(points)))),ROWS($1:$15))),\"\")","v":0},{"$f":"IF(ROWS($1:$16)<=COUNTIF(joueurs,$B141),INDEX(points,SMALL(IF(joueurs=$B141,ROW(INDIRECT(\"1:\"&ROWS(points)))),ROWS($1:$16))),\"\")","v":0},{"$f":"IF(ROWS($1:$17)<=COUNTIF(joueurs,$B141),INDEX(points,SMALL(IF(joueurs=$B141,ROW(INDIRECT(\"1:\"&ROWS(points)))),ROWS($1:$17))),\"\")","v":0},{"$f":"IF(ROWS($1:$18)<=COUNTIF(joueurs,$B141),INDEX(points,SMALL(IF(joueurs=$B141,ROW(INDIRECT(\"1:\"&ROWS(points)))),ROWS($1:$18))),\"\")","v":0},{"$f":"IF(ROWS($1:$19)<=COUNTIF(joueurs,$B141),INDEX(points,SMALL(IF(joueurs=$B141,ROW(INDIRECT(\"1:\"&ROWS(points)))),ROWS($1:$19))),\"\")","v":0},{"$f":"IF(ROWS($1:$20)<=COUNTIF(points,$B141),INDEX(fautes,SMALL(IF(joueurs=$B141,ROW(INDIRECT(\"1:\"&ROWS(points)))),ROWS($1:$20))),\"\")","v":0},{"$f":"IF(ROWS($1:$11)<=COUNTIF(joueurs,$B141),INDEX(victoires,SMALL(IF(joueurs=$B141,ROW(INDIRECT(\"1:\"&ROWS(victoires)))),ROWS($1:$11))),\"\")","v":0},{"$f":"IF(ROWS($1:$12)<=COUNTIF(joueurs,$B141),INDEX(victoires,SMALL(IF(joueurs=$B141,ROW(INDIRECT(\"1:\"&ROWS(victoires)))),ROWS($1:$12))),\"\")","v":0},{"$f":"IF(ROWS($1:$13)<=COUNTIF(joueurs,$B141),INDEX(victoires,SMALL(IF(joueurs=$B141,ROW(INDIRECT(\"1:\"&ROWS(victoires)))),ROWS($1:$13))),\"\")","v":0},{"$f":"IF(ROWS($1:$14)<=COUNTIF(joueurs,$B141),INDEX(victoires,SMALL(IF(joueurs=$B141,ROW(INDIRECT(\"1:\"&ROWS(victoires)))),ROWS($1:$14))),\"\")","v":0},{"$f":"IF(ROWS($1:$15)<=COUNTIF(joueurs,$B141),INDEX(victoires,SMALL(IF(joueurs=$B141,ROW(INDIRECT(\"1:\"&ROWS(victoires)))),ROWS($1:$15))),\"\")","v":0},{"$f":"IF(ROWS($1:$16)<=COUNTIF(joueurs,$B141),INDEX(victoires,SMALL(IF(joueurs=$B141,ROW(INDIRECT(\"1:\"&ROWS(victoires)))),ROWS($1:$16))),\"\")","v":0},{"$f":"IF(ROWS($1:$17)<=COUNTIF(joueurs,$B141),INDEX(victoires,SMALL(IF(joueurs=$B141,ROW(INDIRECT(\"1:\"&ROWS(victoires)))),ROWS($1:$17))),\"\")","v":0},{"$f":"IF(ROWS($1:$18)<=COUNTIF(joueurs,$B141),INDEX(victoires,SMALL(IF(joueurs=$B141,ROW(INDIRECT(\"1:\"&ROWS(victoires)))),ROWS($1:$18))),\"\")","v":0},{"$f":"IF(ROWS($1:$19)<=COUNTIF(joueurs,$B141),INDEX(victoires,SMALL(IF(joueurs=$B141,ROW(INDIRECT(\"1:\"&ROWS(victoires)))),ROWS($1:$19))),\"\")","v":0},{"$f":"IF(ROWS($1:$20)<=COUNTIF(joueurs,$B141),INDEX(victoires,SMALL(IF(joueurs=$B141,ROW(INDIRECT(\"1:\"&ROWS(victoires)))),ROWS($1:$20))),\"\")","v":0}]
[null,null,null,{"$f":"IF(ROWS($1:$21)<=COUNTIF(joueurs,$B141),INDEX(fautes,SMALL(IF(joueurs=$B141,ROW(INDIRECT(\"1:\"&ROWS(fautes)))),ROWS($1:$21))),\"\")","v":0},{"$f":"IF(ROWS($1:$22)<=COUNTIF(joueurs,$B141),INDEX(fautes,SMALL(IF(joueurs=$B141,ROW(INDIRECT(\"1:\"&ROWS(fautes)))),ROWS($1:$22))),\"\")","v":0},{"$f":"IF(ROWS($1:$23)<=COUNTIF(joueurs,$B141),INDEX(fautes,SMALL(IF(joueurs=$B141,ROW(INDIRECT(\"1:\"&ROWS(fautes)))),ROWS($1:$23))),\"\")","v":0},{"$f":"IF(ROWS($1:$24)<=COUNTIF(joueurs,$B141),INDEX(fautes,SMALL(IF(joueurs=$B141,ROW(INDIRECT(\"1:\"&ROWS(fautes)))),ROWS($1:$24))),\"\")","v":0},{"$f":"IF(ROWS($1:$25)<=COUNTIF(joueurs,$B141),INDEX(fautes,SMALL(IF(joueurs=$B141,ROW(INDIRECT(\"1:\"&ROWS(fautes)))),ROWS($1:$25))),\"\")","v":0},{"$f":"IF(ROWS($1:$26)<=COUNTIF(joueurs,$B141),INDEX(fautes,SMALL(IF(joueurs=$B141,ROW(INDIRECT(\"1:\"&ROWS(fautes)))),ROWS($1:$26))),\"\")","v":0},{"$f":"IF(ROWS($1:$27)<=COUNTIF(joueurs,$B141),INDEX(fautes,SMALL(IF(joueurs=$B141,ROW(INDIRECT(\"1:\"&ROWS(fautes)))),ROWS($1:$27))),\"\")","v":0},{"$f":"IF(ROWS($1:$28)<=COUNTIF(joueurs,$B141),INDEX(fautes,SMALL(IF(joueurs=$B141,ROW(INDIRECT(\"1:\"&ROWS(fautes)))),ROWS($1:$28))),\"\")","v":0},{"$f":"IF(ROWS($1:$29)<=COUNTIF(joueurs,$B141),INDEX(fautes,SMALL(IF(joueurs=$B141,ROW(INDIRECT(\"1:\"&ROWS(fautes)))),ROWS($1:$29))),\"\")","v":0},{"$f":"IF(ROWS($1:$30)<=COUNTIF(joueurs,$B141),INDEX(fautes,SMALL(IF(joueurs=$B141,ROW(INDIRECT(\"1:\"&ROWS(fautes)))),ROWS($1:$30))),\"\")","v":0},{"$f":"IF(ROWS($1:$21)<=COUNTIF(joueurs,$B141),INDEX(ballonperdus,SMALL(IF(joueurs=$B141,ROW(INDIRECT(\"1:\"&ROWS(ballonperdus)))),ROWS($1:$21))),\"\")","v":0},{"$f":"IF(ROWS($1:$22)<=COUNTIF(joueurs,$B141),INDEX(ballonperdus,SMALL(IF(joueurs=$B141,ROW(INDIRECT(\"1:\"&ROWS(ballonperdus)))),ROWS($1:$22))),\"\")","v":0},{"$f":"IF(ROWS($1:$23)<=COUNTIF(joueurs,$B141),INDEX(ballonperdus,SMALL(IF(joueurs=$B141,ROW(INDIRECT(\"1:\"&ROWS(ballonperdus)))),ROWS($1:$23))),\"\")","v":0},{"$f":"IF(ROWS($1:$24)<=COUNTIF(joueurs,$B141),INDEX(ballonperdus,SMALL(IF(joueurs=$B141,ROW(INDIRECT(\"1:\"&ROWS(ballonperdus)))),ROWS($1:$24))),\"\")","v":0},{"$f":"IF(ROWS($1:$25)<=COUNTIF(joueurs,$B141),INDEX(ballonperdus,SMALL(IF(joueurs=$B141,ROW(INDIRECT(\"1:\"&ROWS(ballonperdus)))),ROWS($1:$25))),\"\")","v":0},{"$f":"IF(ROWS($1:$26)<=COUNTIF(joueurs,$B141),INDEX(ballonperdus,SMALL(IF(joueurs=$B141,ROW(INDIRECT(\"1:\"&ROWS(ballonperdus)))),ROWS($1:$26))),\"\")","v":0},{"$f":"IF(ROWS($1:$27)<=COUNTIF(joueurs,$B141),INDEX(ballonperdus,SMALL(IF(joueurs=$B141,ROW(INDIRECT(\"1:\"&ROWS(ballonperdus)))),ROWS($1:$27))),\"\")","v":0},{"$f":"IF(ROWS($1:$28)<=COUNTIF(joueurs,$B141),INDEX(ballonperdus,SMALL(IF(joueurs=$B141,ROW(INDIRECT(\"1:\"&ROWS(ballonperdus)))),ROWS($1:$28))),\"\")","v":0},{"$f":"IF(ROWS($1:$29)<=COUNTIF(joueurs,$B141),INDEX(ballonperdus,SMALL(IF(joueurs=$B141,ROW(INDIRECT(\"1:\"&ROWS(ballonperdus)))),ROWS($1:$29))),\"\")","v":0},{"$f":"IF(ROWS($1:$30)<=COUNTIF(joueurs,$B141),INDEX(ballonperdus,SMALL(IF(joueurs=$B141,ROW(INDIRECT(\"1:\"&ROWS(ballonperdus)))),ROWS($1:$30))),\"\")","v":0},{"$f":"IF(ROWS($1:$21)<=COUNTIF(joueurs,$B141),INDEX(interceptions,SMALL(IF(joueurs=$B141,ROW(INDIRECT(\"1:\"&ROWS(interceptions)))),ROWS($1:$21))),\"\")","v":0},{"$f":"IF(ROWS($1:$22)<=COUNTIF(joueurs,$B141),INDEX(interceptions,SMALL(IF(joueurs=$B141,ROW(INDIRECT(\"1:\"&ROWS(interceptions)))),ROWS($1:$22))),\"\")","v":0},{"$f":"IF(ROWS($1:$23)<=COUNTIF(joueurs,$B141),INDEX(interceptions,SMALL(IF(joueurs=$B141,ROW(INDIRECT(\"1:\"&ROWS(interceptions)))),ROWS($1:$23))),\"\")","v":0},{"$f":"IF(ROWS($1:$24)<=COUNTIF(joueurs,$B141),INDEX(interceptions,SMALL(IF(joueurs=$B141,ROW(INDIRECT(\"1:\"&ROWS(interceptions)))),ROWS($1:$24))),\"\")","v":0},{"$f":"IF(ROWS($1:$25)<=COUNTIF(joueurs,$B141),INDEX(interceptions,SMALL(IF(joueurs=$B141,ROW(INDIRECT(\"1:\"&ROWS(interceptions)))),ROWS($1:$25))),\"\")","v":0},{"$f":"IF(ROWS($1:$26)<=COUNTIF(joueurs,$B141),INDEX(interceptions,SMALL(IF(joueurs=$B141,ROW(INDIRECT(\"1:\"&ROWS(interceptions)))),ROWS($1:$26))),\"\")","v":0},{"$f":"IF(ROWS($1:$27)<=COUNTIF(joueurs,$B141),INDEX(interceptions,SMALL(IF(joueurs=$B141,ROW(INDIRECT(\"1:\"&ROWS(interceptions)))),ROWS($1:$27))),\"\")","v":0},{"$f":"IF(ROWS($1:$28)<=COUNTIF(joueurs,$B141),INDEX(interceptions,SMALL(IF(joueurs=$B141,ROW(INDIRECT(\"1:\"&ROWS(interceptions)))),ROWS($1:$28))),\"\")","v":0},{"$f":"IF(ROWS($1:$29)<=COUNTIF(joueurs,$B141),INDEX(interceptions,SMALL(IF(joueurs=$B141,ROW(INDIRECT(\"1:\"&ROWS(interceptions)))),ROWS($1:$29))),\"\")","v":0},{"$f":"IF(ROWS($1:$30)<=COUNTIF(joueurs,$B141),INDEX(interceptions,SMALL(IF(joueurs=$B141,ROW(INDIRECT(\"1:\"&ROWS(interceptions)))),ROWS($1:$30))),\"\")","v":0},{"$f":"IF(ROWS($1:$21)<=COUNTIF(joueurs,$B141),INDEX(ballonrecuperes,SMALL(IF(joueurs=$B141,ROW(INDIRECT(\"1:\"&ROWS(ballonrecuperes)))),ROWS($1:$21))),\"\")","v":0},{"$f":"IF(ROWS($1:$22)<=COUNTIF(joueurs,$B141),INDEX(ballonrecuperes,SMALL(IF(joueurs=$B141,ROW(INDIRECT(\"1:\"&ROWS(ballonrecuperes)))),ROWS($1:$22))),\"\")","v":0},{"$f":"IF(ROWS($1:$23)<=COUNTIF(joueurs,$B141),INDEX(ballonrecuperes,SMALL(IF(joueurs=$B141,ROW(INDIRECT(\"1:\"&ROWS(ballonrecuperes)))),ROWS($1:$23))),\"\")","v":0},{"$f":"IF(ROWS($1:$24)<=COUNTIF(joueurs,$B141),INDEX(ballonrecuperes,SMALL(IF(joueurs=$B141,ROW(INDIRECT(\"1:\"&ROWS(ballonrecuperes)))),ROWS($1:$24))),\"\")","v":0},{"$f":"IF(ROWS($1:$25)<=COUNTIF(joueurs,$B141),INDEX(ballonrecuperes,SMALL(IF(joueurs=$B141,ROW(INDIRECT(\"1:\"&ROWS(ballonrecuperes)))),ROWS($1:$25))),\"\")","v":0},{"$f":"IF(ROWS($1:$26)<=COUNTIF(joueurs,$B141),INDEX(ballonrecuperes,SMALL(IF(joueurs=$B141,ROW(INDIRECT(\"1:\"&ROWS(ballonrecuperes)))),ROWS($1:$26))),\"\")","v":0},{"$f":"IF(ROWS($1:$27)<=COUNTIF(joueurs,$B141),INDEX(ballonrecuperes,SMALL(IF(joueurs=$B141,ROW(INDIRECT(\"1:\"&ROWS(ballonrecuperes)))),ROWS($1:$27))),\"\")","v":0},{"$f":"IF(ROWS($1:$28)<=COUNTIF(joueurs,$B141),INDEX(ballonrecuperes,SMALL(IF(joueurs=$B141,ROW(INDIRECT(\"1:\"&ROWS(ballonrecuperes)))),ROWS($1:$28))),\"\")","v":0},{"$f":"IF(ROWS($1:$29)<=COUNTIF(joueurs,$B141),INDEX(ballonrecuperes,SMALL(IF(joueurs=$B141,ROW(INDIRECT(\"1:\"&ROWS(ballonrecuperes)))),ROWS($1:$29))),\"\")","v":0},{"$f":"IF(ROWS($1:$30)<=COUNTIF(joueurs,$B141),INDEX(ballonrecuperes,SMALL(IF(joueurs=$B141,ROW(INDIRECT(\"1:\"&ROWS(ballonrecuperes)))),ROWS($1:$30))),\"\")","v":0},{"$f":"IF(ROWS($1:$21)<=COUNTIF(joueurs,$B141),INDEX(tirs,SMALL(IF(joueurs=$B141,ROW(INDIRECT(\"1:\"&ROWS(tirs)))),ROWS($1:$21))),\"\")","v":0},{"$f":"IF(ROWS($1:$22)<=COUNTIF(joueurs,$B141),INDEX(tirs,SMALL(IF(joueurs=$B141,ROW(INDIRECT(\"1:\"&ROWS(tirs)))),ROWS($1:$22))),\"\")","v":0},{"$f":"IF(ROWS($1:$23)<=COUNTIF(joueurs,$B141),INDEX(tirs,SMALL(IF(joueurs=$B141,ROW(INDIRECT(\"1:\"&ROWS(tirs)))),ROWS($1:$23))),\"\")","v":0},{"$f":"IF(ROWS($1:$24)<=COUNTIF(joueurs,$B141),INDEX(tirs,SMALL(IF(joueurs=$B141,ROW(INDIRECT(\"1:\"&ROWS(tirs)))),ROWS($1:$24))),\"\")","v":0},{"$f":"IF(ROWS($1:$25)<=COUNTIF(joueurs,$B141),INDEX(tirs,SMALL(IF(joueurs=$B141,ROW(INDIRECT(\"1:\"&ROWS(tirs)))),ROWS($1:$25))),\"\")","v":0},{"$f":"IF(ROWS($1:$26)<=COUNTIF(joueurs,$B141),INDEX(tirs,SMALL(IF(joueurs=$B141,ROW(INDIRECT(\"1:\"&ROWS(tirs)))),ROWS($1:$26))),\"\")","v":0},{"$f":"IF(ROWS($1:$27)<=COUNTIF(joueurs,$B141),INDEX(tirs,SMALL(IF(joueurs=$B141,ROW(INDIRECT(\"1:\"&ROWS(tirs)))),ROWS($1:$27))),\"\")","v":0},{"$f":"IF(ROWS($1:$28)<=COUNTIF(joueurs,$B141),INDEX(tirs,SMALL(IF(joueurs=$B141,ROW(INDIRECT(\"1:\"&ROWS(tirs)))),ROWS($1:$28))),\"\")","v":0},{"$f":"IF(ROWS($1:$29)<=COUNTIF(joueurs,$B141),INDEX(tirs,SMALL(IF(joueurs=$B141,ROW(INDIRECT(\"1:\"&ROWS(tirs)))),ROWS($1:$29))),\"\")","v":0},{"$f":"IF(ROWS($1:$30)<=COUNTIF(joueurs,$B141),INDEX(tirs,SMALL(IF(joueurs=$B141,ROW(INDIRECT(\"1:\"&ROWS(tirs)))),ROWS($1:$30))),\"\")","v":0},{"$f":"IF(ROWS($1:$21)<=COUNTIF(joueurs,$B141),INDEX(bontirs,SMALL(IF(joueurs=$B141,ROW(INDIRECT(\"1:\"&ROWS(bontirs)))),ROWS($1:$21))),\"\")","v":0},{"$f":"IF(ROWS($1:$22)<=COUNTIF(joueurs,$B141),INDEX(bontirs,SMALL(IF(joueurs=$B141,ROW(INDIRECT(\"1:\"&ROWS(bontirs)))),ROWS($1:$22))),\"\")","v":0},{"$f":"IF(ROWS($1:$23)<=COUNTIF(joueurs,$B141),INDEX(bontirs,SMALL(IF(joueurs=$B141,ROW(INDIRECT(\"1:\"&ROWS(bontirs)))),ROWS($1:$23))),\"\")","v":0},{"$f":"IF(ROWS($1:$24)<=COUNTIF(joueurs,$B141),INDEX(bontirs,SMALL(IF(joueurs=$B141,ROW(INDIRECT(\"1:\"&ROWS(bontirs)))),ROWS($1:$24))),\"\")","v":0},{"$f":"IF(ROWS($1:$25)<=COUNTIF(joueurs,$B141),INDEX(bontirs,SMALL(IF(joueurs=$B141,ROW(INDIRECT(\"1:\"&ROWS(bontirs)))),ROWS($1:$25))),\"\")","v":0},{"$f":"IF(ROWS($1:$26)<=COUNTIF(joueurs,$B141),INDEX(bontirs,SMALL(IF(joueurs=$B141,ROW(INDIRECT(\"1:\"&ROWS(bontirs)))),ROWS($1:$26))),\"\")","v":0},{"$f":"IF(ROWS($1:$27)<=COUNTIF(joueurs,$B141),INDEX(bontirs,SMALL(IF(joueurs=$B141,ROW(INDIRECT(\"1:\"&ROWS(bontirs)))),ROWS($1:$27))),\"\")","v":0},{"$f":"IF(ROWS($1:$28)<=COUNTIF(joueurs,$B141),INDEX(bontirs,SMALL(IF(joueurs=$B141,ROW(INDIRECT(\"1:\"&ROWS(bontirs)))),ROWS($1:$28))),\"\")","v":0},{"$f":"IF(ROWS($1:$29)<=COUNTIF(joueurs,$B141),INDEX(bontirs,SMALL(IF(joueurs=$B141,ROW(INDIRECT(\"1:\"&ROWS(bontirs)))),ROWS($1:$29))),\"\")","v":0},{"$f":"IF(ROWS($1:$30)<=COUNTIF(joueurs,$B141),INDEX(bontirs,SMALL(IF(joueurs=$B141,ROW(INDIRECT(\"1:\"&ROWS(bontirs)))),ROWS($1:$30))),\"\")","v":0},{"$f":"IF(ROWS($1:$21)<=COUNTIF(joueurs,$B141),INDEX(points,SMALL(IF(joueurs=$B141,ROW(INDIRECT(\"1:\"&ROWS(points)))),ROWS($1:$21))),\"\")","v":0},{"$f":"IF(ROWS($1:$22)<=COUNTIF(joueurs,$B141),INDEX(points,SMALL(IF(joueurs=$B141,ROW(INDIRECT(\"1:\"&ROWS(points)))),ROWS($1:$22))),\"\")","v":0},{"$f":"IF(ROWS($1:$23)<=COUNTIF(joueurs,$B141),INDEX(points,SMALL(IF(joueurs=$B141,ROW(INDIRECT(\"1:\"&ROWS(points)))),ROWS($1:$23))),\"\")","v":0},{"$f":"IF(ROWS($1:$24)<=COUNTIF(joueurs,$B141),INDEX(points,SMALL(IF(joueurs=$B141,ROW(INDIRECT(\"1:\"&ROWS(points)))),ROWS($1:$24))),\"\")","v":0},{"$f":"IF(ROWS($1:$25)<=COUNTIF(joueurs,$B141),INDEX(points,SMALL(IF(joueurs=$B141,ROW(INDIRECT(\"1:\"&ROWS(points)))),ROWS($1:$25))),\"\")","v":0},{"$f":"IF(ROWS($1:$26)<=COUNTIF(joueurs,$B141),INDEX(points,SMALL(IF(joueurs=$B141,ROW(INDIRECT(\"1:\"&ROWS(points)))),ROWS($1:$26))),\"\")","v":0},{"$f":"IF(ROWS($1:$27)<=COUNTIF(joueurs,$B141),INDEX(points,SMALL(IF(joueurs=$B141,ROW(INDIRECT(\"1:\"&ROWS(points)))),ROWS($1:$27))),\"\")","v":0},{"$f":"IF(ROWS($1:$28)<=COUNTIF(joueurs,$B141),INDEX(points,SMALL(IF(joueurs=$B141,ROW(INDIRECT(\"1:\"&ROWS(points)))),ROWS($1:$28))),\"\")","v":0},{"$f":"IF(ROWS($1:$29)<=COUNTIF(joueurs,$B141),INDEX(points,SMALL(IF(joueurs=$B141,ROW(INDIRECT(\"1:\"&ROWS(points)))),ROWS($1:$29))),\"\")","v":0},{"$f":"IF(ROWS($1:$30)<=COUNTIF(joueurs,$B141),INDEX(points,SMALL(IF(joueurs=$B141,ROW(INDIRECT(\"1:\"&ROWS(points)))),ROWS($1:$30))),\"\")","v":0},{"$f":"IF(ROWS($1:$21)<=COUNTIF(joueurs,$B141),INDEX(victoires,SMALL(IF(joueurs=$B141,ROW(INDIRECT(\"1:\"&ROWS(victoires)))),ROWS($1:$21))),\"\")","v":0},{"$f":"IF(ROWS($1:$22)<=COUNTIF(joueurs,$B141),INDEX(victoires,SMALL(IF(joueurs=$B141,ROW(INDIRECT(\"1:\"&ROWS(victoires)))),ROWS($1:$22))),\"\")","v":0},{"$f":"IF(ROWS($1:$23)<=COUNTIF(joueurs,$B141),INDEX(victoires,SMALL(IF(joueurs=$B141,ROW(INDIRECT(\"1:\"&ROWS(victoires)))),ROWS($1:$23))),\"\")","v":0},{"$f":"IF(ROWS($1:$24)<=COUNTIF(joueurs,$B141),INDEX(victoires,SMALL(IF(joueurs=$B141,ROW(INDIRECT(\"1:\"&ROWS(victoires)))),ROWS($1:$24))),\"\")","v":0},{"$f":"IF(ROWS($1:$25)<=COUNTIF(joueurs,$B141),INDEX(victoires,SMALL(IF(joueurs=$B141,ROW(INDIRECT(\"1:\"&ROWS(victoires)))),ROWS($1:$25))),\"\")","v":0},{"$f":"IF(ROWS($1:$26)<=COUNTIF(joueurs,$B141),INDEX(victoires,SMALL(IF(joueurs=$B141,ROW(INDIRECT(\"1:\"&ROWS(victoires)))),ROWS($1:$26))),\"\")","v":0},{"$f":"IF(ROWS($1:$27)<=COUNTIF(joueurs,$B141),INDEX(victoires,SMALL(IF(joueurs=$B141,ROW(INDIRECT(\"1:\"&ROWS(victoires)))),ROWS($1:$27))),\"\")","v":0},{"$f":"IF(ROWS($1:$28)<=COUNTIF(joueurs,$B141),INDEX(victoires,SMALL(IF(joueurs=$B141,ROW(INDIRECT(\"1:\"&ROWS(victoires)))),ROWS($1:$28))),\"\")","v":0},{"$f":"IF(ROWS($1:$29)<=COUNTIF(joueurs,$B141),INDEX(victoires,SMALL(IF(joueurs=$B141,ROW(INDIRECT(\"1:\"&ROWS(victoires)))),ROWS($1:$29))),\"\")","v":0},{"$f":"IF(ROWS($1:$30)<=COUNTIF(joueurs,$B141),INDEX(victoires,SMALL(IF(joueurs=$B141,ROW(INDIRECT(\"1:\"&ROWS(victoires)))),ROWS($1:$30))),\"\")","v":0}]
[null,null,null,{"$f":"IF(ROWS($1:$31)<=COUNTIF(joueurs,$B141),INDEX(fautes,SMALL(IF(joueurs=$B141,ROW(INDIRECT(\"1:\"&ROWS(fautes)))),ROWS($1:$31))),\"\")","v":0},{"$f":"IF(ROWS($1:$32)<=COUNTIF(joueurs,$B141),INDEX(fautes,SMALL(IF(joueurs=$B141,ROW(INDIRECT(\"1:\"&ROWS(fautes)))),ROWS($1:$32))),\"\")","v":0},{"$f":"IF(ROWS($1:$33)<=COUNTIF(joueurs,$B141),INDEX(fautes,SMALL(IF(joueurs=$B141,ROW(INDIRECT(\"1:\"&ROWS(fautes)))),ROWS($1:$33))),\"\")","v":0},{"$f":"IF(ROWS($1:$34)<=COUNTIF(joueurs,$B141),INDEX(fautes,SMALL(IF(joueurs=$B141,ROW(INDIRECT(\"1:\"&ROWS(fautes)))),ROWS($1:$34))),\"\")","v":0},{"$f":"IF(ROWS($1:$35)<=COUNTIF(joueurs,$B141),INDEX(fautes,SMALL(IF(joueurs=$B141,ROW(INDIRECT(\"1:\"&ROWS(fautes)))),ROWS($1:$35))),\"\")","v":0},{"$f":"IF(ROWS($1:$36)<=COUNTIF(joueurs,$B141),INDEX(fautes,SMALL(IF(joueurs=$B141,ROW(INDIRECT(\"1:\"&ROWS(fautes)))),ROWS($1:$36))),\"\")","v":0},{"$f":"IF(ROWS($1:$37)<=COUNTIF(joueurs,$B141),INDEX(fautes,SMALL(IF(joueurs=$B141,ROW(INDIRECT(\"1:\"&ROWS(fautes)))),ROWS($1:$37))),\"\")","v":0},{"$f":"IF(ROWS($1:$38)<=COUNTIF(joueurs,$B141),INDEX(fautes,SMALL(IF(joueurs=$B141,ROW(INDIRECT(\"1:\"&ROWS(fautes)))),ROWS($1:$38))),\"\")","v":0},{"$f":"IF(ROWS($1:$39)<=COUNTIF(joueurs,$B141),INDEX(fautes,SMALL(IF(joueurs=$B141,ROW(INDIRECT(\"1:\"&ROWS(fautes)))),ROWS($1:$39))),\"\")","v":0},{"$f":"IF(ROWS($1:$40)<=COUNTIF(joueurs,$B141),INDEX(fautes,SMALL(IF(joueurs=$B141,ROW(INDIRECT(\"1:\"&ROWS(fautes)))),ROWS($1:$40))),\"\")","v":0},{"$f":"IF(ROWS($1:$31)<=COUNTIF(joueurs,$B141),INDEX(ballonperdus,SMALL(IF(joueurs=$B141,ROW(INDIRECT(\"1:\"&ROWS(ballonperdus)))),ROWS($1:$31))),\"\")","v":0},{"$f":"IF(ROWS($1:$32)<=COUNTIF(joueurs,$B141),INDEX(ballonperdus,SMALL(IF(joueurs=$B141,ROW(INDIRECT(\"1:\"&ROWS(ballonperdus)))),ROWS($1:$32))),\"\")","v":0},{"$f":"IF(ROWS($1:$33)<=COUNTIF(joueurs,$B141),INDEX(ballonperdus,SMALL(IF(joueurs=$B141,ROW(INDIRECT(\"1:\"&ROWS(ballonperdus)))),ROWS($1:$33))),\"\")","v":0},{"$f":"IF(ROWS($1:$34)<=COUNTIF(joueurs,$B141),INDEX(ballonperdus,SMALL(IF(joueurs=$B141,ROW(INDIRECT(\"1:\"&ROWS(ballonperdus)))),ROWS($1:$34))),\"\")","v":0},{"$f":"IF(ROWS($1:$35)<=COUNTIF(joueurs,$B141),INDEX(ballonperdus,SMALL(IF(joueurs=$B141,ROW(INDIRECT(\"1:\"&ROWS(ballonperdus)))),ROWS($1:$35))),\"\")","v":0},{"$f":"IF(ROWS($1:$36)<=COUNTIF(joueurs,$B141),INDEX(ballonperdus,SMALL(IF(joueurs=$B141,ROW(INDIRECT(\"1:\"&ROWS(ballonperdus)))),ROWS($1:$36))),\"\")","v":0},{"$f":"IF(ROWS($1:$37)<=COUNTIF(joueurs,$B141),INDEX(ballonperdus,SMALL(IF(joueurs=$B141,ROW(INDIRECT(\"1:\"&ROWS(ballonperdus)))),ROWS($1:$37))),\"\")","v":0},{"$f":"IF(ROWS($1:$38)<=COUNTIF(joueurs,$B141),INDEX(ballonperdus,SMALL(IF(joueurs=$B141,ROW(INDIRECT(\"1:\"&ROWS(ballonperdus)))),ROWS($1:$38))),\"\")","v":0},{"$f":"IF(ROWS($1:$39)<=COUNTIF(joueurs,$B141),INDEX(ballonperdus,SMALL(IF(joueurs=$B141,ROW(INDIRECT(\"1:\"&ROWS(ballonperdus)))),ROWS($1:$39))),\"\")","v":0},{"$f":"IF(ROWS($1:$40)<=COUNTIF(joueurs,$B141),INDEX(ballonperdus,SMALL(IF(joueurs=$B141,ROW(INDIRECT(\"1:\"&ROWS(ballonperdus)))),ROWS($1:$40))),\"\")","v":0},{"$f":"IF(ROWS($1:$31)<=COUNTIF(joueurs,$B141),INDEX(interceptions,SMALL(IF(joueurs=$B141,ROW(INDIRECT(\"1:\"&ROWS(interceptions)))),ROWS($1:$31))),\"\")","v":0},{"$f":"IF(ROWS($1:$32)<=COUNTIF(joueurs,$B141),INDEX(interceptions,SMALL(IF(joueurs=$B141,ROW(INDIRECT(\"1:\"&ROWS(interceptions)))),ROWS($1:$32))),\"\")","v":0},{"$f":"IF(ROWS($1:$33)<=COUNTIF(joueurs,$B141),INDEX(interceptions,SMALL(IF(joueurs=$B141,ROW(INDIRECT(\"1:\"&ROWS(interceptions)))),ROWS($1:$33))),\"\")","v":0},{"$f":"IF(ROWS($1:$34)<=COUNTIF(joueurs,$B141),INDEX(interceptions,SMALL(IF(joueurs=$B141,ROW(INDIRECT(\"1:\"&ROWS(interceptions)))),ROWS($1:$34))),\"\")","v":0},{"$f":"IF(ROWS($1:$35)<=COUNTIF(joueurs,$B141),INDEX(interceptions,SMALL(IF(joueurs=$B141,ROW(INDIRECT(\"1:\"&ROWS(interceptions)))),ROWS($1:$35))),\"\")","v":0},{"$f":"IF(ROWS($1:$36)<=COUNTIF(joueurs,$B141),INDEX(interceptions,SMALL(IF(joueurs=$B141,ROW(INDIRECT(\"1:\"&ROWS(interceptions)))),ROWS($1:$36))),\"\")","v":0},{"$f":"IF(ROWS($1:$37)<=COUNTIF(joueurs,$B141),INDEX(interceptions,SMALL(IF(joueurs=$B141,ROW(INDIRECT(\"1:\"&ROWS(interceptions)))),ROWS($1:$37))),\"\")","v":0},{"$f":"IF(ROWS($1:$38)<=COUNTIF(joueurs,$B141),INDEX(interceptions,SMALL(IF(joueurs=$B141,ROW(INDIRECT(\"1:\"&ROWS(interceptions)))),ROWS($1:$38))),\"\")","v":0},{"$f":"IF(ROWS($1:$39)<=COUNTIF(joueurs,$B141),INDEX(interceptions,SMALL(IF(joueurs=$B141,ROW(INDIRECT(\"1:\"&ROWS(interceptions)))),ROWS($1:$39))),\"\")","v":0},{"$f":"IF(ROWS($1:$40)<=COUNTIF(joueurs,$B141),INDEX(interceptions,SMALL(IF(joueurs=$B141,ROW(INDIRECT(\"1:\"&ROWS(interceptions)))),ROWS($1:$40))),\"\")","v":0},{"$f":"IF(ROWS($1:$31)<=COUNTIF(joueurs,$B141),INDEX(ballonrecuperes,SMALL(IF(joueurs=$B141,ROW(INDIRECT(\"1:\"&ROWS(ballonrecuperes)))),ROWS($1:$31))),\"\")","v":0},{"$f":"IF(ROWS($1:$32)<=COUNTIF(joueurs,$B141),INDEX(ballonrecuperes,SMALL(IF(joueurs=$B141,ROW(INDIRECT(\"1:\"&ROWS(ballonrecuperes)))),ROWS($1:$32))),\"\")","v":0},{"$f":"IF(ROWS($1:$33)<=COUNTIF(joueurs,$B141),INDEX(ballonrecuperes,SMALL(IF(joueurs=$B141,ROW(INDIRECT(\"1:\"&ROWS(ballonrecuperes)))),ROWS($1:$33))),\"\")","v":0},{"$f":"IF(ROWS($1:$34)<=COUNTIF(joueurs,$B141),INDEX(ballonrecuperes,SMALL(IF(joueurs=$B141,ROW(INDIRECT(\"1:\"&ROWS(ballonrecuperes)))),ROWS($1:$34))),\"\")","v":0},{"$f":"IF(ROWS($1:$35)<=COUNTIF(joueurs,$B141),INDEX(ballonrecuperes,SMALL(IF(joueurs=$B141,ROW(INDIRECT(\"1:\"&ROWS(ballonrecuperes)))),ROWS($1:$35))),\"\")","v":0},{"$f":"IF(ROWS($1:$36)<=COUNTIF(joueurs,$B141),INDEX(ballonrecuperes,SMALL(IF(joueurs=$B141,ROW(INDIRECT(\"1:\"&ROWS(ballonrecuperes)))),ROWS($1:$36))),\"\")","v":0},{"$f":"IF(ROWS($1:$37)<=COUNTIF(joueurs,$B141),INDEX(ballonrecuperes,SMALL(IF(joueurs=$B141,ROW(INDIRECT(\"1:\"&ROWS(ballonrecuperes)))),ROWS($1:$37))),\"\")","v":0},{"$f":"IF(ROWS($1:$38)<=COUNTIF(joueurs,$B141),INDEX(ballonrecuperes,SMALL(IF(joueurs=$B141,ROW(INDIRECT(\"1:\"&ROWS(ballonrecuperes)))),ROWS($1:$38))),\"\")","v":0},{"$f":"IF(ROWS($1:$39)<=COUNTIF(joueurs,$B141),INDEX(ballonrecuperes,SMALL(IF(joueurs=$B141,ROW(INDIRECT(\"1:\"&ROWS(ballonrecuperes)))),ROWS($1:$39))),\"\")","v":0},{"$f":"IF(ROWS($1:$40)<=COUNTIF(joueurs,$B141),INDEX(ballonrecuperes,SMALL(IF(joueurs=$B141,ROW(INDIRECT(\"1:\"&ROWS(ballonrecuperes)))),ROWS($1:$40))),\"\")","v":0},{"$f":"IF(ROWS($1:$31)<=COUNTIF(joueurs,$B141),INDEX(tirs,SMALL(IF(joueurs=$B141,ROW(INDIRECT(\"1:\"&ROWS(tirs)))),ROWS($1:$31))),\"\")","v":0},{"$f":"IF(ROWS($1:$32)<=COUNTIF(joueurs,$B141),INDEX(tirs,SMALL(IF(joueurs=$B141,ROW(INDIRECT(\"1:\"&ROWS(tirs)))),ROWS($1:$32))),\"\")","v":0},{"$f":"IF(ROWS($1:$33)<=COUNTIF(joueurs,$B141),INDEX(tirs,SMALL(IF(joueurs=$B141,ROW(INDIRECT(\"1:\"&ROWS(tirs)))),ROWS($1:$33))),\"\")","v":0},{"$f":"IF(ROWS($1:$34)<=COUNTIF(joueurs,$B141),INDEX(tirs,SMALL(IF(joueurs=$B141,ROW(INDIRECT(\"1:\"&ROWS(tirs)))),ROWS($1:$34))),\"\")","v":0},{"$f":"IF(ROWS($1:$35)<=COUNTIF(joueurs,$B141),INDEX(tirs,SMALL(IF(joueurs=$B141,ROW(INDIRECT(\"1:\"&ROWS(tirs)))),ROWS($1:$35))),\"\")","v":0},{"$f":"IF(ROWS($1:$36)<=COUNTIF(joueurs,$B141),INDEX(tirs,SMALL(IF(joueurs=$B141,ROW(INDIRECT(\"1:\"&ROWS(tirs)))),ROWS($1:$36))),\"\")","v":0},{"$f":"IF(ROWS($1:$37)<=COUNTIF(joueurs,$B141),INDEX(tirs,SMALL(IF(joueurs=$B141,ROW(INDIRECT(\"1:\"&ROWS(tirs)))),ROWS($1:$37))),\"\")","v":0},{"$f":"IF(ROWS($1:$38)<=COUNTIF(joueurs,$B141),INDEX(tirs,SMALL(IF(joueurs=$B141,ROW(INDIRECT(\"1:\"&ROWS(tirs)))),ROWS($1:$38))),\"\")","v":0},{"$f":"IF(ROWS($1:$39)<=COUNTIF(joueurs,$B141),INDEX(tirs,SMALL(IF(joueurs=$B141,ROW(INDIRECT(\"1:\"&ROWS(tirs)))),ROWS($1:$39))),\"\")","v":0},{"$f":"IF(ROWS($1:$40)<=COUNTIF(joueurs,$B141),INDEX(tirs,SMALL(IF(joueurs=$B141,ROW(INDIRECT(\"1:\"&ROWS(tirs)))),ROWS($1:$40))),\"\")","v":0},{"$f":"IF(ROWS($1:$31)<=COUNTIF(joueurs,$B141),INDEX(bontirs,SMALL(IF(joueurs=$B141,ROW(INDIRECT(\"1:\"&ROWS(bontirs)))),ROWS($1:$31))),\"\")","v":0},{"$f":"IF(ROWS($1:$32)<=COUNTIF(joueurs,$B141),INDEX(bontirs,SMALL(IF(joueurs=$B141,ROW(INDIRECT(\"1:\"&ROWS(bontirs)))),ROWS($1:$32))),\"\")","v":0},{"$f":"IF(ROWS($1:$33)<=COUNTIF(joueurs,$B141),INDEX(bontirs,SMALL(IF(joueurs=$B141,ROW(INDIRECT(\"1:\"&ROWS(bontirs)))),ROWS($1:$33))),\"\")","v":0},{"$f":"IF(ROWS($1:$34)<=COUNTIF(joueurs,$B141),INDEX(bontirs,SMALL(IF(joueurs=$B141,ROW(INDIRECT(\"1:\"&ROWS(bontirs)))),ROWS($1:$34))),\"\")","v":0},{"$f":"IF(ROWS($1:$35)<=COUNTIF(joueurs,$B141),INDEX(bontirs,SMALL(IF(joueurs=$B141,ROW(INDIRECT(\"1:\"&ROWS(bontirs)))),ROWS($1:$35))),\"\")","v":0},{"$f":"IF(ROWS($1:$36)<=COUNTIF(joueurs,$B141),INDEX(bontirs,SMALL(IF(joueurs=$B141,ROW(INDIRECT(\"1:\"&ROWS(bontirs)))),ROWS($1:$36))),\"\")","v":0},{"$f":"IF(ROWS($1:$37)<=COUNTIF(joueurs,$B141),INDEX(bontirs,SMALL(IF(joueurs=$B141,ROW(INDIRECT(\"1:\"&ROWS(bontirs)))),ROWS($1:$37))),\"\")","v":0},{"$f":"IF(ROWS($1:$38)<=COUNTIF(joueurs,$B141),INDEX(bontirs,SMALL(IF(joueurs=$B141,ROW(INDIRECT(\"1:\"&ROWS(bontirs)))),ROWS($1:$38))),\"\")","v":0},{"$f":"IF(ROWS($1:$39)<=COUNTIF(joueurs,$B141),INDEX(bontirs,SMALL(IF(joueurs=$B141,ROW(INDIRECT(\"1:\"&ROWS(bontirs)))),ROWS($1:$39))),\"\")","v":0},{"$f":"IF(ROWS($1:$40)<=COUNTIF(joueurs,$B141),INDEX(bontirs,SMALL(IF(joueurs=$B141,ROW(INDIRECT(\"1:\"&ROWS(bontirs)))),ROWS($1:$40))),\"\")","v":0},{"$f":"IF(ROWS($1:$31)<=COUNTIF(joueurs,$B141),INDEX(points,SMALL(IF(joueurs=$B141,ROW(INDIRECT(\"1:\"&ROWS(points)))),ROWS($1:$31))),\"\")","v":0},{"$f":"IF(ROWS($1:$32)<=COUNTIF(joueurs,$B141),INDEX(points,SMALL(IF(joueurs=$B141,ROW(INDIRECT(\"1:\"&ROWS(points)))),ROWS($1:$32))),\"\")","v":0},{"$f":"IF(ROWS($1:$33)<=COUNTIF(joueurs,$B141),INDEX(points,SMALL(IF(joueurs=$B141,ROW(INDIRECT(\"1:\"&ROWS(points)))),ROWS($1:$33))),\"\")","v":0},{"$f":"IF(ROWS($1:$34)<=COUNTIF(joueurs,$B141),INDEX(points,SMALL(IF(joueurs=$B141,ROW(INDIRECT(\"1:\"&ROWS(points)))),ROWS($1:$34))),\"\")","v":0},{"$f":"IF(ROWS($1:$35)<=COUNTIF(joueurs,$B141),INDEX(points,SMALL(IF(joueurs=$B141,ROW(INDIRECT(\"1:\"&ROWS(points)))),ROWS($1:$35))),\"\")","v":0},{"$f":"IF(ROWS($1:$36)<=COUNTIF(joueurs,$B141),INDEX(points,SMALL(IF(joueurs=$B141,ROW(INDIRECT(\"1:\"&ROWS(points)))),ROWS($1:$36))),\"\")","v":0},{"$f":"IF(ROWS($1:$37)<=COUNTIF(joueurs,$B141),INDEX(points,SMALL(IF(joueurs=$B141,ROW(INDIRECT(\"1:\"&ROWS(points)))),ROWS($1:$37))),\"\")","v":0},{"$f":"IF(ROWS($1:$38)<=COUNTIF(joueurs,$B141),INDEX(points,SMALL(IF(joueurs=$B141,ROW(INDIRECT(\"1:\"&ROWS(points)))),ROWS($1:$38))),\"\")","v":0},{"$f":"IF(ROWS($1:$39)<=COUNTIF(joueurs,$B141),INDEX(points,SMALL(IF(joueurs=$B141,ROW(INDIRECT(\"1:\"&ROWS(points)))),ROWS($1:$39))),\"\")","v":0},{"$f":"IF(ROWS($1:$40)<=COUNTIF(joueurs,$B141),INDEX(points,SMALL(IF(joueurs=$B141,ROW(INDIRECT(\"1:\"&ROWS(points)))),ROWS($1:$40))),\"\")","v":0},{"$f":"IF(ROWS($1:$31)<=COUNTIF(joueurs,$B141),INDEX(victoires,SMALL(IF(joueurs=$B141,ROW(INDIRECT(\"1:\"&ROWS(victoires)))),ROWS($1:$31))),\"\")","v":0},{"$f":"IF(ROWS($1:$32)<=COUNTIF(joueurs,$B141),INDEX(victoires,SMALL(IF(joueurs=$B141,ROW(INDIRECT(\"1:\"&ROWS(victoires)))),ROWS($1:$32))),\"\")","v":0},{"$f":"IF(ROWS($1:$33)<=COUNTIF(joueurs,$B141),INDEX(victoires,SMALL(IF(joueurs=$B141,ROW(INDIRECT(\"1:\"&ROWS(victoires)))),ROWS($1:$33))),\"\")","v":0},{"$f":"IF(ROWS($1:$34)<=COUNTIF(joueurs,$B141),INDEX(victoires,SMALL(IF(joueurs=$B141,ROW(INDIRECT(\"1:\"&ROWS(victoires)))),ROWS($1:$34))),\"\")","v":0},{"$f":"IF(ROWS($1:$35)<=COUNTIF(joueurs,$B141),INDEX(victoires,SMALL(IF(joueurs=$B141,ROW(INDIRECT(\"1:\"&ROWS(victoires)))),ROWS($1:$35))),\"\")","v":0},{"$f":"IF(ROWS($1:$36)<=COUNTIF(joueurs,$B141),INDEX(victoires,SMALL(IF(joueurs=$B141,ROW(INDIRECT(\"1:\"&ROWS(victoires)))),ROWS($1:$36))),\"\")","v":0},{"$f":"IF(ROWS($1:$37)<=COUNTIF(joueurs,$B141),INDEX(victoires,SMALL(IF(joueurs=$B141,ROW(INDIRECT(\"1:\"&ROWS(victoires)))),ROWS($1:$37))),\"\")","v":0},{"$f":"IF(ROWS($1:$38)<=COUNTIF(joueurs,$B141),INDEX(victoires,SMALL(IF(joueurs=$B141,ROW(INDIRECT(\"1:\"&ROWS(victoires)))),ROWS($1:$38))),\"\")","v":0},{"$f":"IF(ROWS($1:$39)<=COUNTIF(joueurs,$B141),INDEX(victoires,SMALL(IF(joueurs=$B141,ROW(INDIRECT(\"1:\"&ROWS(victoires)))),ROWS($1:$39))),\"\")","v":0},{"$f":"IF(ROWS($1:$40)<=COUNTIF(joueurs,$B141),INDEX(victoires,SMALL(IF(joueurs=$B141,ROW(INDIRECT(\"1:\"&ROWS(victoires)))),ROWS($1:$40))),\"\")","v":0}]

{"sheet":"PHOTOS","index":5,"n_rows":270,"n_cols":2,"rows_kept":270,"cut":false,"hidden":false,"merged":[]}
["Prénoms","Photos 1,18x1,18"]
[{"$f":"APPEL!$C3","v":"Abdelwahid"},{"$f":"APPEL!$C3","v":"Abdelwahid"}]
[{"$f":"APPEL!$C4","v":"Ali"},{"$f":"APPEL!$C4","v":"Ali"}]
[{"$f":"APPEL!$C5","v":"Fares"},{"$f":"APPEL!$C5","v":"Fares"}]
[{"$f":"APPEL!$C6","v":"Haykel Riadh"},{"$f":"APPEL!$C6","v":"Haykel Riadh"}]
[{"$f":"APPEL!$C7","v":"Jeff"},{"$f":"APPEL!$C7","v":"Jeff"}]
[{"$f":"APPEL!$C8","v":"Maxence"},{"$f":"APPEL!$C8","v":"Maxence"}]
[{"$f":"APPEL!$C9","v":"Mohamed"},{"$f":"APPEL!$C9","v":"Mohamed"}]
[{"$f":"APPEL!$C10","v":"Mohamed"},{"$f":"APPEL!$C10","v":"Mohamed"}]
[{"$f":"APPEL!$C11","v":"Mohamed"},{"$f":"APPEL!$C11","v":"Mohamed"}]
[{"$f":"APPEL!$C12","v":"Phi Tram"},{"$f":"APPEL!$C12","v":"Phi Tram"}]
[{"$f":"APPEL!$C13","v":"Ryad"},{"$f":"APPEL!$C13","v":"Ryad"}]
[{"$f":"APPEL!$C14","v":"Samy"},{"$f":"APPEL!$C14","v":"Samy"}]
[{"$f":"APPEL!$C15","v":0},{"$f":"APPEL!$C15","v":0}]
[{"$f":"APPEL!$C16","v":0},{"$f":"APPEL!$C16","v":0}]
[{"$f":"APPEL!$C17","v":0},{"$f":"APPEL!$C17","v":0}]
[{"$f":"APPEL!$C18","v":0},{"$f":"APPEL!$C18","v":0}]
[{"$f":"APPEL!$C19","v":0},{"$f":"APPEL!$C19","v":0}]
[{"$f":"APPEL!$C20","v":0},{"$f":"APPEL!$C20","v":0}]
[{"$f":"APPEL!$C21","v":0},{"$f":"APPEL!$C21","v":0}]
[{"$f":"APPEL!$C22","v":0},{"$f":"APPEL!$C22","v":0}]
[{"$f":"APPEL!$C23","v":0},{"$f":"APPEL!$C23","v":0}]
[{"$f":"APPEL!$C24","v":0},{"$f":"APPEL!$C24","v":0}]
[{"$f":"APPEL!$C25","v":0},{"$f":"APPEL!$C25","v":0}]
[{"$f":"APPEL!$C26","v":0},{"$f":"APPEL!$C26","v":0}]
[{"$f":"APPEL!$C27","v":0},{"$f":"APPEL!$C27","v":0}]
[{"$f":"APPEL!$C28","v":0},{"$f":"APPEL!$C28","v":0}]
[{"$f":"APPEL!$C29","v":0},{"$f":"APPEL!$C29","v":0}]
[{"$f":"APPEL!$C30","v":0},{"$f":"APPEL!$C30","v":0}]
[{"$f":"APPEL!$C31","v":0},{"$f":"APPEL!$C31","v":0}]
[{"$f":"APPEL!$F3","v":"Alexandrine"},{"$f":"APPEL!$F3","v":"Alexandrine"}]
[{"$f":"APPEL!$F4","v":"Asiya"},{"$f":"APPEL!$F4","v":"Asiya"}]
[{"$f":"APPEL!$F5","v":"Bacary"},{"$f":"APPEL!$F5","v":"Bacary"}]
[{"$f":"APPEL!$F6","v":"Behija"},{"$f":"APPEL!$F6","v":"Behija"}]
[{"$f":"APPEL!$F7","v":"Chadia"},{"$f":"APPEL!$F7","v":"Chadia"}]
[{"$f":"APPEL!$F8","v":"Chafion"},{"$f":"APPEL!$F8","v":"Chafion"}]
[{"$f":"APPEL!$F9","v":"Christopher"},{"$f":"APPEL!$F9","v":"Christopher"}]
[{"$f":"APPEL!$F10","v":"Dorin"},{"$f":"APPEL!$F10","v":"Dorin"}]
[{"$f":"APPEL!$F11","v":"Ines"},{"$f":"APPEL!$F11","v":"Ines"}]
[{"$f":"APPEL!$F12","v":"Inès"},{"$f":"APPEL!$F12","v":"Inès"}]
[{"$f":"APPEL!$F13","v":"Jeremy "},{"$f":"APPEL!$F13","v":"Jeremy "}]
[{"$f":"APPEL!$F14","v":"Jessie"},{"$f":"APPEL!$F14","v":"Jessie"}]
[{"$f":"APPEL!$F15","v":"KHAN Nahidul"},{"$f":"APPEL!$F15","v":"KHAN Nahidul"}]
[{"$f":"APPEL!$F16","v":"Narjisse"},{"$f":"APPEL!$F16","v":"Narjisse"}]
[{"$f":"APPEL!$F17","v":"Petronela"},{"$f":"APPEL!$F17","v":"Petronela"}]
[{"$f":"APPEL!$F18","v":"Queenster"},{"$f":"APPEL!$F18","v":"Queenster"}]
[{"$f":"APPEL!$F19","v":"Syntiche"},{"$f":"APPEL!$F19","v":"Syntiche"}]
[{"$f":"APPEL!$F20","v":"Victor"},{"$f":"APPEL!$F20","v":"Victor"}]
[{"$f":"APPEL!$F21","v":"Yanis"},{"$f":"APPEL!$F21","v":"Yanis"}]
[{"$f":"APPEL!$F22","v":0},{"$f":"APPEL!$F22","v":0}]
[{"$f":"APPEL!$F23","v":0},{"$f":"APPEL!$F23","v":0}]
[{"$f":"APPEL!$F24","v":0},{"$f":"APPEL!$F24","v":0}]
[{"$f":"APPEL!$F25","v":0},{"$f":"APPEL!$F25","v":0}]
[{"$f":"APPEL!$F26","v":0},{"$f":"APPEL!$F26","v":0}]
[{"$f":"APPEL!$F27","v":0},{"$f":"APPEL!$F27","v":0}]
[{"$f":"APPEL!$F28","v":0},{"$f":"APPEL!$F28","v":0}]
[{"$f":"APPEL!$F29","v":0},{"$f":"APPEL!$F29","v":0}]
[{"$f":"APPEL!$F30","v":0},{"$f":"APPEL!$F30","v":0}]
[{"$f":"APPEL!$F31","v":0},{"$f":"APPEL!$F31","v":0}]
[{"$f":"APPEL!$F32","v":0},{"$f":"APPEL!$F32","v":0}]
[{"$f":"APPEL!$I3","v":"Abdelmalik"},{"$f":"APPEL!$I3","v":"Abdelmalik"}]
[{"$f":"APPEL!$I4","v":"Aslem"},{"$f":"APPEL!$I4","v":"Aslem"}]
[{"$f":"APPEL!$I5","v":"Dhayaeddine"},{"$f":"APPEL!$I5","v":"Dhayaeddine"}]
[{"$f":"APPEL!$I6","v":"Dounia"},{"$f":"APPEL!$I6","v":"Dounia"}]
[{"$f":"APPEL!$I7","v":"Erol"},{"$f":"APPEL!$I7","v":"Erol"}]
[{"$f":"APPEL!$I8","v":"Erwan"},{"$f":"APPEL!$I8","v":"Erwan"}]
[{"$f":"APPEL!$I9","v":"Hamza"},{"$f":"APPEL!$I9","v":"Hamza"}]
[{"$f":"APPEL!$I10","v":"Ismaïl"},{"$f":"APPEL!$I10","v":"Ismaïl"}]
[{"$f":"APPEL!$I11","v":"Lucas"},{"$f":"APPEL!$I11","v":"Lucas"}]
[{"$f":"APPEL!$I12","v":"Marouane"},{"$f":"APPEL!$I12","v":"Marouane"}]
[{"$f":"APPEL!$I13","v":"Mohammed-Aimad"},{"$f":"APPEL!$I13","v":"Mohammed-Aimad"}]
[{"$f":"APPEL!$I14","v":"Rayan"},{"$f":"APPEL!$I14","v":"Rayan"}]
[{"$f":"APPEL!$I15","v":"Wassim"},{"$f":"APPEL!$I15","v":"Wassim"}]
[{"$f":"APPEL!$I16","v":"Yaya"},{"$f":"APPEL!$I16","v":"Yaya"}]
[{"$f":"APPEL!$I17","v":0},{"$f":"APPEL!$I17","v":0}]
[{"$f":"APPEL!$I18","v":0},{"$f":"APPEL!$I18","v":0}]
[{"$f":"APPEL!$I19","v":0},{"$f":"APPEL!$I19","v":0}]
[{"$f":"APPEL!$I20","v":0},{"$f":"APPEL!$I20","v":0}]
[{"$f":"APPEL!$I21","v":0},{"$f":"APPEL!$I21","v":0}]
[{"$f":"APPEL!$I22","v":0},{"$f":"APPEL!$I22","v":0}]
[{"$f":"APPEL!$I23","v":0},{"$f":"APPEL!$I23","v":0}]
[{"$f":"APPEL!$I24","v":0},{"$f":"APPEL!$I24","v":0}]
[{"$f":"APPEL!$I25","v":0},{"$f":"APPEL!$I25","v":0}]
[{"$f":"APPEL!$I26","v":0},{"$f":"APPEL!$I26","v":0}]
[{"$f":"APPEL!$I27","v":0},{"$f":"APPEL!$I27","v":0}]
[{"$f":"APPEL!$I28","v":0},{"$f":"APPEL!$I28","v":0}]
[{"$f":"APPEL!$I29","v":0},{"$f":"APPEL!$I29","v":0}]
[{"$f":"APPEL!$I30","v":0},{"$f":"APPEL!$I30","v":0}]
[{"$f":"APPEL!$I31","v":0},{"$f":"APPEL!$I31","v":0}]
[{"$f":"APPEL!$I32","v":0},{"$f":"APPEL!$I32","v":0}]
[{"$f":"APPEL!$L3","v":"Amira"},{"$f":"APPEL!$L3","v":"Amira"}]
[{"$f":"APPEL!$L4","v":"Anissa"},{"$f":"APPEL!$L4","v":"Anissa"}]
[{"$f":"APPEL!$L5","v":"Brinna"},{"$f":"APPEL!$L5","v":"Brinna"}]
[{"$f":"APPEL!$L6","v":"Chahla"},{"$f":"APPEL!$L6","v":"Chahla"}]
[{"$f":"APPEL!$L7","v":"Chamina"},{"$f":"APPEL!$L7","v":"Chamina"}]
[{"$f":"APPEL!$L8","v":"Gentjana"},{"$f":"APPEL!$L8","v":"Gentjana"}]
[{"$f":"APPEL!$L9","v":"Nefisse"},{"$f":"APPEL!$L9","v":"Nefisse"}]
[{"$f":"APPEL!$L10","v":"Nissrine"},{"$f":"APPEL!$L10","v":"Nissrine"}]
[{"$f":"APPEL!$L11","v":"Sueda"},{"$f":"APPEL!$L11","v":"Sueda"}]
[{"$f":"APPEL!$L12","v":"William"},{"$f":"APPEL!$L12","v":"William"}]
[{"$f":"APPEL!$L13","v":"Zamira"},{"$f":"APPEL!$L13","v":"Zamira"}]
[{"$f":"APPEL!$L14","v":"Zumra"},{"$f":"APPEL!$L14","v":"Zumra"}]
[{"$f":"APPEL!$L15","v":0},{"$f":"APPEL!$L15","v":0}]
[{"$f":"APPEL!$L16","v":0},{"$f":"APPEL!$L16","v":0}]
[{"$f":"APPEL!$L17","v":0},{"$f":"APPEL!$L17","v":0}]
[{"$f":"APPEL!$L18","v":0},{"$f":"APPEL!$L18","v":0}]
[{"$f":"APPEL!$L19","v":0},{"$f":"APPEL!$L19","v":0}]
[{"$f":"APPEL!$L20","v":0},{"$f":"APPEL!$L20","v":0}]
[{"$f":"APPEL!$L21","v":0},{"$f":"APPEL!$L21","v":0}]
[{"$f":"APPEL!$L22","v":0},{"$f":"APPEL!$L22","v":0}]
[{"$f":"APPEL!$L23","v":0},{"$f":"APPEL!$L23","v":0}]
[{"$f":"APPEL!$L24","v":0},{"$f":"APPEL!$L24","v":0}]
[{"$f":"APPEL!$L25","v":0},{"$f":"APPEL!$L25","v":0}]
[{"$f":"APPEL!$L26","v":0},{"$f":"APPEL!$L26","v":0}]
[{"$f":"APPEL!$L27","v":0},{"$f":"APPEL!$L27","v":0}]
[{"$f":"APPEL!$L28","v":0},{"$f":"APPEL!$L28","v":0}]
[{"$f":"APPEL!$L29","v":0},{"$f":"APPEL!$L29","v":0}]
[{"$f":"APPEL!$L30","v":0},{"$f":"APPEL!$L30","v":0}]
[{"$f":"APPEL!$L31","v":0},{"$f":"APPEL!$L31","v":0}]
[{"$f":"APPEL!$L32","v":0},{"$f":"APPEL!$L32","v":0}]
[{"$f":"APPEL!$O3","v":"Achraf"},{"$f":"APPEL!$O3","v":"Achraf"}]
[{"$f":"APPEL!$O4","v":"Adel"},{"$f":"APPEL!$O4","v":"Adel"}]
[{"$f":"APPEL!$O5","v":"Adem"},{"$f":"APPEL!$O5","v":"Adem"}]
[{"$f":"APPEL!$O6","v":"Amar"},{"$f":"APPEL!$O6","v":"Amar"}]
[{"$f":"APPEL!$O7","v":"Ayoub"},{"$f":"APPEL!$O7","v":"Ayoub"}]
[{"$f":"APPEL!$O8","v":"Azedine"},{"$f":"APPEL!$O8","v":"Azedine"}]
[{"$f":"APPEL!$O9","v":"Bilal"},{"$f":"APPEL!$O9","v":"Bilal"}]
[{"$f":"APPEL!$O10","v":"Bilal"},{"$f":"APPEL!$O10","v":"Bilal"}]
[{"$f":"APPEL!$O11","v":"Djaoidou"},{"$f":"APPEL!$O11","v":"Djaoidou"}]
[{"$f":"APPEL!$O12","v":"Fahade"},{"$f":"APPEL!$O12","v":"Fahade"}]
[{"$f":"APPEL!$O13","v":"Farhane"},{"$f":"APPEL!$O13","v":"Farhane"}]
[{"$f":"APPEL!$O14","v":"Faudel"},{"$f":"APPEL!$O14","v":"Faudel"}]
[{"$f":"APPEL!$O15","v":"Fazil"},{"$f":"APPEL!$O15","v":"Fazil"}]
[{"$f":"APPEL!$O16","v":"Hicham"},{"$f":"APPEL!$O16","v":"Hicham"}]
[{"$f":"APPEL!$O17","v":"Jassim"},{"$f":"APPEL!$O17","v":"Jassim"}]
[{"$f":"APPEL!$O18","v":"Jean Alexandre"},{"$f":"APPEL!$O18","v":"Jean Alexandre"}]
[{"$f":"APPEL!$O19","v":"John"},{"$f":"APPEL!$O19","v":"John"}]
[{"$f":"APPEL!$O20","v":"Kail-Mourad"},{"$f":"APPEL!$O20","v":"Kail-Mourad"}]
[{"$f":"APPEL!$O21","v":"Malcom"},{"$f":"APPEL!$O21","v":"Malcom"}]
[{"$f":"APPEL!$O22","v":"Nicolas"},{"$f":"APPEL!$O22","v":"Nicolas"}]
[{"$f":"APPEL!$O23","v":"Oumar"},{"$f":"APPEL!$O23","v":"Oumar"}]
[{"$f":"APPEL!$O24","v":"Quintimo"},{"$f":"APPEL!$O24","v":"Quintimo"}]
[{"$f":"APPEL!$O25","v":"Raphaël"},{"$f":"APPEL!$O25","v":"Raphaël"}]
[{"$f":"APPEL!$O26","v":"Richmond"},{"$f":"APPEL!$O26","v":"Richmond"}]
[{"$f":"APPEL!$O27","v":"Valentin"},{"$f":"APPEL!$O27","v":"Valentin"}]
[{"$f":"APPEL!$O28","v":"Willy"},{"$f":"APPEL!$O28","v":"Willy"}]
[{"$f":"APPEL!$O29","v":"Yahia"},{"$f":"APPEL!$O29","v":"Yahia"}]
[{"$f":"APPEL!$O30","v":"Yamine"},{"$f":"APPEL!$O30","v":"Yamine"}]
[{"$f":"APPEL!$O31","v":"Yanis"},{"$f":"APPEL!$O31","v":"Yanis"}]
[{"$f":"APPEL!$O32","v":"Yousri"},{"$f":"APPEL!$O32","v":"Yousri"}]
[{"$f":"APPEL!$R3","v":"Abdelbasset"},{"$f":"APPEL!$R3","v":"Abdelbasset"}]
[{"$f":"APPEL!$R4","v":"Amir"},{"$f":"APPEL!$R4","v":"Amir"}]
[{"$f":"APPEL!$R5","v":"Aoukar"},{"$f":"APPEL!$R5","v":"Aoukar"}]
[{"$f":"APPEL!$R6","v":"Badis"},{"$f":"APPEL!$R6","v":"Badis"}]
[{"$f":"APPEL!$R7","v":"Badrane"},{"$f":"APPEL!$R7","v":"Badrane"}]
[{"$f":"APPEL!$R8","v":"Bamadi"},{"$f":"APPEL!$R8","v":"Bamadi"}]
[{"$f":"APPEL!$R9","v":"Benamar"},{"$f":"APPEL!$R9","v":"Benamar"}]
[{"$f":"APPEL!$R10","v":"Bilale"},{"$f":"APPEL!$R10","v":"Bilale"}]
[{"$f":"APPEL!$R11","v":"Brahyan"},{"$f":"APPEL!$R11","v":"Brahyan"}]
[{"$f":"APPEL!$R12","v":"Diva"},{"$f":"APPEL!$R12","v":"Diva"}]
[{"$f":"APPEL!$R13","v":"Edhem"},{"$f":"APPEL!$R13","v":"Edhem"}]
[{"$f":"APPEL!$R14","v":"Emin"},{"$f":"APPEL!$R14","v":"Emin"}]
[{"$f":"APPEL!$R15","v":"Emre"},{"$f":"APPEL!$R15","v":"Emre"}]
[{"$f":"APPEL!$R16","v":"Faouzi"},{"$f":"APPEL!$R16","v":"Faouzi"}]
[{"$f":"APPEL!$R17","v":"Hedi"},{"$f":"APPEL!$R17","v":"Hedi"}]
[{"$f":"APPEL!$R18","v":"Khalil"},{"$f":"APPEL!$R18","v":"Khalil"}]
[{"$f":"APPEL!$R19","v":"Kheireddine"},{"$f":"APPEL!$R19","v":"Kheireddine"}]
[{"$f":"APPEL!$R20","v":"Knias"},{"$f":"APPEL!$R20","v":"Knias"}]
[{"$f":"APPEL!$R21","v":"Maxime"},{"$f":"APPEL!$R21","v":"Maxime"}]
[{"$f":"APPEL!$R22","v":"Mouhammadou"},{"$f":"APPEL!$R22","v":"Mouhammadou"}]
[{"$f":"APPEL!$R23","v":"Mustafa"},{"$f":"APPEL!$R23","v":"Mustafa"}]
[{"$f":"APPEL!$R24","v":"Nassim"},{"$f":"APPEL!$R24","v":"Nassim"}]
[{"$f":"APPEL!$R25","v":"Rustan"},{"$f":"APPEL!$R25","v":"Rustan"}]
[{"$f":"APPEL!$R26","v":"Samuel"},{"$f":"APPEL!$R26","v":"Samuel"}]
[{"$f":"APPEL!$R27","v":"Sheyms-Edyn"},{"$f":"APPEL!$R27","v":"Sheyms-Edyn"}]
[{"$f":"APPEL!$R28","v":"Sombate"},{"$f":"APPEL!$R28","v":"Sombate"}]
[{"$f":"APPEL!$R29","v":"Tareq"},{"$f":"APPEL!$R29","v":"Tareq"}]
[{"$f":"APPEL!$R30","v":"Willy"},{"$f":"APPEL!$R30","v":"Willy"}]
[{"$f":"APPEL!$R31","v":"Yacine"},{"$f":"APPEL!$R31","v":"Yacine"}]
[{"$f":"APPEL!$R32","v":"Yohann"},{"$f":"APPEL!$R32","v":"Yohann"}]
[{"$f":"APPEL!$U3","v":"Amen"},{"$f":"APPEL!$U3","v":"Amen"}]
[{"$f":"APPEL!$U4","v":"Bafode"},{"$f":"APPEL!$U4","v":"Bafode"}]
[{"$f":"APPEL!$U5","v":"Demir"},{"$f":"APPEL!$U5","v":"Demir"}]
[{"$f":"APPEL!$U6","v":"Fatih "},{"$f":"APPEL!$U6","v":"Fatih "}]
[{"$f":"APPEL!$U7","v":"Ilyes"},{"$f":"APPEL!$U7","v":"Ilyes"}]
[{"$f":"APPEL!$U8","v":"jawad"},{"$f":"APPEL!$U8","v":"jawad"}]
[{"$f":"APPEL!$U9","v":"Khemandeef"},{"$f":"APPEL!$U9","v":"Khemandeef"}]
[{"$f":"APPEL!$U10","v":"Mahamoud"},{"$f":"APPEL!$U10","v":"Mahamoud"}]
[{"$f":"APPEL!$U11","v":"Nataël"},{"$f":"APPEL!$U11","v":"Nataël"}]
[{"$f":"APPEL!$U12","v":"Nderim"},{"$f":"APPEL!$U12","v":"Nderim"}]
[{"$f":"APPEL!$U13","v":"Storn"},{"$f":"APPEL!$U13","v":"Storn"}]
[{"$f":"APPEL!$U14","v":"Yanis"},{"$f":"APPEL!$U14","v":"Yanis"}]
[{"$f":"APPEL!$U15","v":0},{"$f":"APPEL!$U15","v":0}]
[{"$f":"APPEL!$U16","v":0},{"$f":"APPEL!$U16","v":0}]
[{"$f":"APPEL!$U17","v":0},{"$f":"APPEL!$U17","v":0}]
[{"$f":"APPEL!$U18","v":0},{"$f":"APPEL!$U18","v":0}]
[{"$f":"APPEL!$U19","v":0},{"$f":"APPEL!$U19","v":0}]
[{"$f":"APPEL!$U20","v":0},{"$f":"APPEL!$U20","v":0}]
[{"$f":"APPEL!$U21","v":0},{"$f":"APPEL!$U21","v":0}]
[{"$f":"APPEL!$U22","v":0},{"$f":"APPEL!$U22","v":0}]
[{"$f":"APPEL!$U23","v":0},{"$f":"APPEL!$U23","v":0}]
[{"$f":"APPEL!$U24","v":0},{"$f":"APPEL!$U24","v":0}]
[{"$f":"APPEL!$U25","v":0},{"$f":"APPEL!$U25","v":0}]
[{"$f":"APPEL!$U26","v":0},{"$f":"APPEL!$U26","v":0}]
[{"$f":"APPEL!$U27","v":0},{"$f":"APPEL!$U27","v":0}]
[{"$f":"APPEL!$U28","v":0},{"$f":"APPEL!$U28","v":0}]
[{"$f":"APPEL!$U29","v":0},{"$f":"APPEL!$U29","v":0}]
[{"$f":"APPEL!$U30","v":0},{"$f":"APPEL!$U30","v":0}]
[{"$f":"APPEL!$U31","v":0},{"$f":"APPEL!$U31","v":0}]
[{"$f":"APPEL!$U32","v":0},{"$f":"APPEL!$U32","v":0}]
[{"$f":"APPEL!$X3","v":"Abraham"},{"$f":"APPEL!$X3","v":"Abraham"}]
[{"$f":"APPEL!$X4","v":"Aimane"},{"$f":"APPEL!$X4","v":"Aimane"}]
[{"$f":"APPEL!$X5","v":"Alya"},{"$f":"APPEL!$X5","v":"Alya"}]
[{"$f":"APPEL!$X6","v":"Amel"},{"$f":"APPEL!$X6","v":"Amel"}]
[{"$f":"APPEL!$X7","v":"Amira H."},{"$f":"APPEL!$X7","v":"Amira H."}]
[{"$f":"APPEL!$X8","v":"Anis"},{"$f":"APPEL!$X8","v":"Anis"}]
[{"$f":"APPEL!$X9","v":"Beyza"},{"$f":"APPEL!$X9","v":"Beyza"}]
[{"$f":"APPEL!$X10","v":"Clarky"},{"$f":"APPEL!$X10","v":"Clarky"}]
[{"$f":"APPEL!$X11","v":"Fatima"},{"$f":"APPEL!$X11","v":"Fatima"}]
[{"$f":"APPEL!$X12","v":"Hana"},{"$f":"APPEL!$X12","v":"Hana"}]
[{"$f":"APPEL!$X13","v":"Ikram"},{"$f":"APPEL!$X13","v":"Ikram"}]
[{"$f":"APPEL!$X14","v":"Jairzhino"},{"$f":"APPEL!$X14","v":"Jairzhino"}]
[{"$f":"APPEL!$X15","v":"Mergim"},{"$f":"APPEL!$X15","v":"Mergim"}]
[{"$f":"APPEL!$X16","v":"Myriam"},{"$f":"APPEL!$X16","v":"Myriam"}]
[{"$f":"APPEL!$X17","v":"Nouhayla"},{"$f":"APPEL!$X17","v":"Nouhayla"}]
[{"$f":"APPEL!$X18","v":"Serone"},{"$f":"APPEL!$X18","v":"Serone"}]
[{"$f":"APPEL!$X19","v":"Suha"},{"$f":"APPEL!$X19","v":"Suha"}]
[{"$f":"APPEL!$X20","v":"Yassine"},{"$f":"APPEL!$X20","v":"Yassine"}]
[{"$f":"APPEL!$X21","v":"Faouzi L."},{"$f":"APPEL!$X21","v":"Faouzi L."}]
[{"$f":"APPEL!$X22","v":0},{"$f":"APPEL!$X22","v":0}]
[{"$f":"APPEL!$X23","v":0},{"$f":"APPEL!$X23","v":0}]
[{"$f":"APPEL!$X24","v":"Dounia"},{"$f":"APPEL!$X24","v":"Dounia"}]
[{"$f":"APPEL!$X25","v":"Eyat"},{"$f":"APPEL!$X25","v":"Eyat"}]
[{"$f":"APPEL!$X26","v":"Djamel"},{"$f":"APPEL!$X26","v":"Djamel"}]
[{"$f":"APPEL!$X27","v":0},{"$f":"APPEL!$X27","v":0}]
[{"$f":"APPEL!$X28","v":0},{"$f":"APPEL!$X28","v":0}]
[{"$f":"APPEL!$X29","v":0},{"$f":"APPEL!$X29","v":0}]
[{"$f":"APPEL!$X30","v":0},{"$f":"APPEL!$X30","v":0}]
[{"$f":"APPEL!$X31","v":0},{"$f":"APPEL!$X31","v":0}]
[{"$f":"APPEL!$X32","v":0},{"$f":"APPEL!$X32","v":0}]
[{"$f":"APPEL!$AA3","v":"Pipen"},{"$f":"APPEL!$AA3","v":"Pipen"}]
[{"$f":"APPEL!$AA4","v":"Curry"},{"$f":"APPEL!$AA4","v":"Curry"}]
[{"$f":"APPEL!$AA5","v":"Jordan"},{"$f":"APPEL!$AA5","v":"Jordan"}]
[{"$f":"APPEL!$AA6","v":"Diaw"},{"$f":"APPEL!$AA6","v":"Diaw"}]
[{"$f":"APPEL!$AA7","v":"Lebron"},{"$f":"APPEL!$AA7","v":"Lebron"}]
[{"$f":"APPEL!$AA8","v":"Parker"},{"$f":"APPEL!$AA8","v":"Parker"}]
[{"$f":"APPEL!$AA9","v":"Olajuwon"},{"$f":"APPEL!$AA9","v":"Olajuwon"}]
[{"$f":"APPEL!$AA10","v":"Shaquille"},{"$f":"APPEL!$AA10","v":"Shaquille"}]
[{"$f":"APPEL!$AA11","v":"Duncan"},{"$f":"APPEL!$AA11","v":"Duncan"}]
[{"$f":"APPEL!$AA12","v":"Chamberlain"},{"$f":"APPEL!$AA12","v":"Chamberlain"}]
[{"$f":"APPEL!$AA13","v":"Kobe"},{"$f":"APPEL!$AA13","v":"Kobe"}]
[{"$f":"APPEL!$AA14","v":"ABDUL JABAR"},{"$f":"APPEL!$AA14","v":"ABDUL JABAR"}]
[{"$f":"APPEL!$AA15","v":"BIRD"},{"$f":"APPEL!$AA15","v":"BIRD"}]
[{"$f":"APPEL!$AA16","v":"MAGIC"},{"$f":"APPEL!$AA16","v":"MAGIC"}]
[{"$f":"APPEL!$AA17","v":"mick"},{"$f":"APPEL!$AA17","v":"mick"}]
[{"$f":"APPEL!$AA18","v":"mika"},{"$f":"APPEL!$AA18","v":"mika"}]
[{"$f":"APPEL!$AA19","v":"mike"},{"$f":"APPEL!$AA19","v":"mike"}]
[{"$f":"APPEL!$AA20","v":"mickael"},{"$f":"APPEL!$AA20","v":"mickael"}]
[{"$f":"APPEL!$AA21","v":0},{"$f":"APPEL!$AA21","v":0}]
[{"$f":"APPEL!$AA22","v":0},{"$f":"APPEL!$AA22","v":0}]
[{"$f":"APPEL!$AA23","v":0},{"$f":"APPEL!$AA23","v":0}]
[{"$f":"APPEL!$AA24","v":0},{"$f":"APPEL!$AA24","v":0}]
[{"$f":"APPEL!$AA25","v":0},{"$f":"APPEL!$AA25","v":0}]
[{"$f":"APPEL!$AA26","v":0},{"$f":"APPEL!$AA26","v":0}]
[{"$f":"APPEL!$AA27","v":0},{"$f":"APPEL!$AA27","v":0}]
[{"$f":"APPEL!$AA28","v":0},{"$f":"APPEL!$AA28","v":0}]
[{"$f":"APPEL!$AA29","v":0},{"$f":"APPEL!$AA29","v":0}]
[{"$f":"APPEL!$AA30","v":0},{"$f":"APPEL!$AA30","v":0}]
[{"$f":"APPEL!$AA31","v":0},{"$f":"APPEL!$AA31","v":0}]
[{"$f":"APPEL!$AA32","v":0},{"$f":"APPEL!$AA32","v":0}]

{"sheet":"APPEL","index":6,"n_rows":38,"n_cols":28,"rows_kept":38,"cut":false,"hidden":false,"merged":[[0,19,0,20],[0,22,0,23],[0,25,0,26],[0,1,0,2],[0,4,0,5],[0,7,0,8],[0,10,0,11],[0,13,0,14],[0,16,0,17]]}
[null,"TPROE",null,null,"TAPR",null,null,"1COM-1ELEC",null,null,"2COM-2GA",null,null,"2ELEC-2TU",null,null,"TTU-TELEC",null,null,"1CIP-1META-1PROE",null,null,"1TU-1GA",null,null,"NBA"]
[null,"PRENOMS","NOMS","sexe","PRENOMS","NOMS","sexe","PRENOMS","NOMS","sexe","PRENOMS","NOMS","sexe","PRENOMS","NOMS","sexe","PRENOMS","NOMS","sexe","PRENOMS","NOMS","sexe","PRENOMS","NOMS","sexe","PRENOMS","NOMS","sexe"]
[1,null,"Abdelwahid","g",null,"Alexandrine","f",null,"Abdelmalik","g",null,"Amira","f",null,"Achraf","g",null,"Abdelbasset","g",null,"Amen","g",null,"Abraham","g",null,"Pipen"]
[2,null,"Ali","g",null,"Asiya","f",null,"Aslem","g",null,"Anissa","f",null,"Adel","g",null,"Amir","g",null,"Bafode","g",null,"Aimane","g",null,"Curry"]
[3,null,"Fares","g",null,"Bacary","g",null,"Dhayaeddine","g",null,"Brinna","f",null,"Adem","g",null,"Aoukar","g",null,"Demir","g",null,"Alya","f",null,"Jordan"]
[4,null,"Haykel Riadh","g",null,"Behija","f",null,"Dounia","f",null,"Chahla","f",null,"Amar","g",null,"Badis","g",null,"Fatih ","g",null,"Amel","f",null,"Diaw"]
[5,null,"Jeff","g",null,"Chadia","f",null,"Erol","g",null,"Chamina","f",null,"Ayoub","g",null,"Badrane","g",null,"Ilyes","g",null,"Amira H.","f",null,"Lebron"]
[6,null,"Maxence","g",null,"Chafion","g",null,"Erwan","g",null,"Gentjana","f",null,"Azedine","g",null,"Bamadi","g",null,"jawad","g",null,"Anis","g",null,"Parker"]
[7,null,"Mohamed","g",null,"Christopher","g",null,"Hamza","g",null,"Nefisse","f",null,"Bilal","g",null,"Benamar","g",null,"Khemandeef","g",null,"Beyza","f",null,"Olajuwon"]
[8,null,"Mohamed","g",null,"Dorin","g",null,"Ismaïl","g",null,"Nissrine","f",null,"Bilal","g",null,"Bilale","g",null,"Mahamoud","g",null,"Clarky","g",null,"Shaquille"]
[9,null,"Mohamed","g",null,"Ines","f",null,"Lucas","g",null,"Sueda","f",null,"Djaoidou","g",null,"Brahyan","g",null,"Nataël","g",null,"Fatima",null,null,"Duncan"]
[10,null,"Phi Tram","g",null,"Inès","f",null,"Marouane","g",null,"William","g",null,"Fahade","g",null,"Diva","g",null,"Nderim","g",null,"Hana","f",null,"Chamberlain"]
[11,null,"Ryad","g",null,"Jeremy ","g",null,"Mohammed-Aimad","g",null,"Zamira","f",null,"Farhane","g",null,"Edhem","g",null,"Storn","g",null,"Ikram",null,null,"Kobe"]
[12,null,"Samy","g",null,"Jessie","f",null,"Rayan","g",null,"Zumra","f",null,"Faudel","g",null,"Emin","g",null,"Yanis","g",null,"Jairzhino","f",null,"ABDUL JABAR"]
[13,null,null,null,null,"KHAN Nahidul","g",null,"Wassim","g",null,null,null,null,"Fazil","g",null,"Emre","g",null,null,null,null,"Mergim","f",null,"BIRD"]
[14,null,null,null,null,"Narjisse","f",null,"Yaya","g",null,null,null,null,"Hicham","g",null,"Faouzi","g",null,null,null,null,"Myriam","g",null,"MAGIC"]
[15,null,null,null,null,"Petronela","f",null,null,null,null,null,null,null,"Jassim","g",null,"Hedi","g",null,null,null,null,"Nouhayla","g",null,"mick"]
[16,null,null,null,null,"Queenster","f",null,null,null,null,null,null,null,"Jean Alexandre","g",null,"Khalil","g",null,null,null,null,"Serone","g",null,"mika"]
[17,null,null,null,null,"Syntiche","f",null,null,null,null,null,null,null,"John","g",null,"Kheireddine","g",null,null,null,null,"Suha","f",null,"mike"]
[18,null,null,null,null,"Victor","g",null,null,null,null,null,null,null,"Kail-Mourad","g",null,"Knias","g",null,null,null,null,"Yassine","f",null,"mickael"]
[19,null,null,null,null,"Yanis","g",null,null,null,null,null,null,null,"Malcom","g",null,"Maxime","g",null,null,null,null,"Faouzi L."]
[20,null,null,null,null,null,null,null,null,null,null,null,null,null,"Nicolas","g",null,"Mouhammadou","g"]
[21,null,null,null,null,null,null,null,null,null,null,null,null,null,"Oumar","g",null,"Mustafa","g"]
[22,null,null,null,null,null,null,null,null,null,null,null,null,null,"Quintimo","g",null,"Nassim","g",null,null,null,null,"Dounia","f"]
[23,null,null,null,null,null,null,null,null,null,null,null,null,null,"Raphaël","g",null,"Rustan","g",null,null,null,null,"Eyat","f"]
[24,null,null,null,null,null,null,null,null,null,null,null,null,null,"Richmond","g",null,"Samuel","g",null,null,null,null,"Djamel","g"]
[25,null,null,null,null,null,null,null,null,null,null,null,null,null,"Valentin","g",null,"Sheyms-Edyn","g"]
[26,null,null,null,null,null,null,null,null,null,null,null,null,null,"Willy","g",null,"Sombate","g"]
[27,null,null,null,null,null,null,null,null,null,null,null,null,null,"Yahia","g",null,"Tareq","g"]
[28,null,null,null,null,null,null,null,null,null,null,null,null,null,"Yamine","g",null,"Willy","g"]
[29,null,null,null,null,null,null,null,null,null,null,null,null,null,"Yanis","g",null,"Yacine","g"]
[30,null,null,null,null,null,null,null,null,null,null,null,null,null,"Yousri","g",null,"Yohann","g"]
[31,null,null,null,null,null,null,null,null,null,null,null,null,null,null,null,null,null,"g"]
[32,null,null,null,null,null,null,null,null,null,null,null,null,null,null,null,null,null,"g"]
[33]
[34]
[35]
[36,null,null,null,null,null,null,null,null,null,null,null,null,null,null,null,null,null,null,null,null,null,null,null,null,null,"x"]

{"sheet":"DEBUT","index":7,"n_rows":37,"n_cols":5,"rows_kept":37,"cut":false,"hidden":false,"merged":[]}
[]
[]
[]
[]
[null,"points",null,"OBSERVABLES"]
[null,null,null,"F","Faute"]
[null,-5,null,"BP","Ballon perdu"]
[null,-3,null,"I","Interception"]
[null,-2,null,"BR","Ballon récupéré"]
[null,-1,null,"T","Tir"]
[null,0,null,"BT","Bon Tir"]
[null,1,null,"PTS","Points"]
[null,2]
[null,3,null,"Pdé","Passe décisive"]
[null,4,null,"Une-2","Passe et va"]
[null,5]
[]
[null,6]
[null,7]
[null,8]
[null,9]
[null,10]
[null,11]
[null,12]
[null,13]
[null,14]
[null,15]
[null,16]
[null,17]
[null,18]
[null,19]
[null,20]
[null,21]
[null,22]
[null,23]
[null,24]
[null,25]