{"text_format":"1","workbook":"xlsx","n_sheets":24,"sheets":["ACCUEIL","CARTE","MESCARTES","CORRECTEUR","CCF","CCF (2)","ETOILE","123","PAPILLON","HISTOIRESFLASHS","MD","COURSESCORE","TUTORAT12B","TUTORAT8B","ROADBOOk","CIBLE","NOTECYCLE","REFERENTIELS","SECURITE","FLASHCODEIMPRIM","CARTONCONTROLE","APPEL","DEBUT","SA"],"not_rendered":{"charts":0,"images":313,"macros":1,"external_links":0,"defined_names":162,"comments":0,"pivot_tables":0},"unopened":[],"bounds":{"document_bytes":16777216,"sheet_cells":100000,"rows_first":2000,"rows_last":500,"rows_between":2000,"halvings":0,"cell_chars":16384,"cell_head_chars":4096},"cells_cut":0,"cells_raw":0,"read":"whole","date_system":"1900"}

{"sheet":"ACCUEIL","index":0,"n_rows":16,"n_cols":3,"rows_kept":16,"cut":false,"hidden":false,"merged":[[15,2,15,5]]}
[]
[]
[]
[]
[]
[]
[]
[]
[]
[]
[]
[]
[]
[]
[]
[null,null,"CO - CARTAS"]

{"sheet":"CARTE","index":1,"n_rows":88,"n_cols":223,"rows_kept":88,"cut":false,"hidden":false,"merged":[[8,204,8,206],[8,209,8,211],[8,214,8,216],[8,219,8,221],[8,199,8,201],[8,174,8,176],[8,179,8,181],[8,184,8,186],[8,189,8,191],[8,194,8,196],[8,149,8,151],[8,154,8,156],[8,159,8,161],[8,164,8,166],[8,169,8,171],[8,139,8,141],[8,144,8,146],[8,114,8,116],[8,119,8,121],[8,124,8,126],[8,129,8,131],[8,134,8,136],[8,89,8,91],[8,94,8,96],[8,99,8,101],[8,104,8,106],[8,109,8,111],[8,69,8,71],[8,74,8,76],[8,79,8,81],[8,84,8,86],[8,64,8,66],[0,38,2,38],[8,44,8,46],[8,49,8,51],[8,54,8,56],[8,59,8,61]]}
["Départ","A","B","C","D","E","F","G",null,"I","J",null,null,"Ctrl +X",null,null,null,"Toutes balises",null,null,null,null,null,null,null,null,null,null,null,null,null,null,null,null,null,null,null,null,"Liste des parcours"]
[null,{"$f":"IFERROR(INDEX(baliseCM,MATCH(B1,lettre,0),MATCH($A$3,parcours,0)),\"\")","v":""},"","","","","","","","","",null,null,null,null,null,null,null,null,null,null,null,null,null,null,null,null,null,null,null,null,null,null,null,null,null,null,null,null,null,null,null,null,null,"POUR PLUS DE CLARTE DU PARCOURS : SUPPRIMER LES LETTRES ET BALISES QUI NE FONT PAS PARTIE DU PARCOURS"]
[{"$f":"CONCATENATE(A4,\"bis\")","v":"ORANGEbis"},null,null,null,null,null,null,null,null,null,null,null,null,null,null,null,null,null,null,null,null,null,null,null,null,null,null,null,null,null,null,null,null,null,null,null,null,null,null,null,null,null,null,null,"INDIQUER AUSSI LES POINTS DE CHAQUE BALISE OU LE NIVEAU DE DIFFICULTE DE LA BALISE"]
["ORANGE",{"$f":"IF(OR(B1=\"\",B2=0),\"\",VLOOKUP(B2,DEBUT!$D$4:$E$100,2,FALSE))","v":{"$error":"#N/A"}},{"$f":"IF(OR(C1=\"\",C2=0),\"\",VLOOKUP(C2,DEBUT!$D$4:$E$100,2,FALSE))","v":{"$error":"#N/A"}},{"$f":"IF(OR(D1=\"\",D2=0),\"\",VLOOKUP(D2,DEBUT!$D$4:$E$100,2,FALSE))","v":{"$error":"#N/A"}},{"$f":"IF(OR(E1=\"\",E2=0),\"\",VLOOKUP(E2,DEBUT!$D$4:$E$100,2,FALSE))","v":{"$error":"#N/A"}},{"$f":"IF(OR(F1=\"\",F2=0),\"\",VLOOKUP(F2,DEBUT!$D$4:$E$100,2,FALSE))","v":{"$error":"#N/A"}},{"$f":"IF(OR(G1=\"\",G2=0),\"\",VLOOKUP(G2,DEBUT!$D$4:$E$100,2,FALSE))","v":{"$error":"#N/A"}},{"$f":"IF(OR(H1=\"\",H2=0),\"\",VLOOKUP(H2,DEBUT!$D$4:$E$100,2,FALSE))","v":{"$error":"#N/A"}},{"$f":"IF(OR(I1=\"\",I2=0),\"\",VLOOKUP(I2,DEBUT!$D$4:$E$100,2,FALSE))","v":""},{"$f":"IF(OR(J1=\"\",J2=0),\"\",VLOOKUP(J2,DEBUT!$D$4:$E$100,2,FALSE))","v":{"$error":"#N/A"}},{"$f":"IF(OR(K1=\"\",K2=0),\"\",VLOOKUP(K2,DEBUT!$D$4:$E$100,2,FALSE))","v":{"$error":"#N/A"}},null,null,null,null,null,null,null,null,null,null,null,null,null,null,null,null,null,null,null,null,null,null,null,null,null,null,null,{"$f":"AS9","v":"21Steve"}]
["PLACER LA CARTE SANS DEPASSER LE RECTANGLE BLANC SUR LES COTES (colonne L)\n(SI la CARTE DEPASSE LA HAUTEUR DU RECTANGLE (ligne 28) il faudra simplement faire glisser sur la tablette pour voir le bas de celle-ci)\n",null,null,null,null,null,null,null,null,null,null,null,null,"Echelle","X","Y",null,null,null,null,null,null,null,null,null,null,null,null,null,null,null,null,null,null,null,null,null,null,{"$f":"AX9","v":"14ORANGE"}]
[null,null,null,null,null,null,null,null,null,null,null,null,null,"Point A",145.98811340332031,483.298583984375,null,null,null,null,null,null,null,null,null,null,null,null,null,null,null,null,null,null,null,null,null,null,{"$f":"BC9","v":"6ROUGE"}]
[null,null,null,null,null,null,null,null,null,null,null,null,null,"Point B",203.59149169921875,484.98895263671875,null,null,null,null,null,null,null,null,null,null,null,null,null,null,null,null,null,null,null,null,null,null,{"$f":"BH9","v":"6ZOULOU"},null,null,null,null,null,null,null,null,"POINTS",null,null,null,null,"POINTS",null,null,null,null,"POINTS",null,null,null,null,"POINTS",null,null,null,null,"POINTS",null,null,null,null,"POINTS",null,null,null,null,"POINTS",null,null,null,null,"POINTS",null,null,null,null,"POINTS",null,null,null,null,"POINTS",null,null,null,null,"POINTS",null,null,null,null,"POINTS",null,null,null,null,"POINTS",null,null,null,null,"POINTS",null,null,null,null,"POINTS",null,null,null,null,"POINTS",null,null,null,null,"POINTS",null,null,null,null,"POINTS",null,null,null,null,"POINTS",null,null,null,null,"POINTS",null,null,null,null,"POINTS",null,null,null,null,"POINTS",null,null,null,null,"POINTS",null,null,null,null,"POINTS",null,null,null,null,"POINTS",null,null,null,null,"POINTS",null,null,null,null,"POINTS",null,null,null,null,"POINTS",null,null,null,null,"POINTS",null,null,null,null,"POINTS",null,null,null,null,"POINTS",null,null,null,null,"POINTS",null,null,null,null,"POINTS",null,null,null,null,"POINTS",null,null,null,null,"POINTS",null,null,null,null,"POINTS"]
[null,null,null,null,null,null,null,null,null,null,null,null,null,"Conversion coordonnées / distance",{"$f":"O7-O6","v":57.603378295898438},200,"m",null,null,null,null,null,null,null,null,null,null,null,null,null,null,null,null,null,null,null,null,null,{"$f":"BM9","v":"8violet"}]
[null,null,null,null,null,null,null,null,null,null,null,null,null,null,{"$f":"O8/P8","v":0.28801689147949217},1,"m",null,null,null,null,null,null,null,null,null,null,null,null,null,null,null,null,null,null,null,null,null,{"$f":"BR9","v":"6BLUE"},null,null,null,null,null,"21Steve",null,null,null,null,"14ORANGE",null,null,null,null,"6ROUGE",null,null,null,null,"6ZOULOU",null,null,null,null,"8violet",null,null,null,null,"6BLUE",null,null,null,null,"Parcours 7bleu",null,null,null,null,"rouge",null,null,null,null,"gris",null,null,null,null,"Parcours 7HERBE",null,null,null,null,"Parcours 7CIEL",null,null,null,null,"le tueur du parc",null,null,null,null,"Parcours 6J2",null,null,null,null,"Parcours 6J3",null,null,null,null,"Parcours 6J4",null,null,null,null,"Parcours 6J5",null,null,null,null,"Parcours 6J6",null,null,null,null,"Parcours 6J7",null,null,null,null,"Parcours 6J8",null,null,null,null,"Parcours 6J9",null,null,null,null,"Parcours 6J10",null,null,null,null,"Parcours 7SuiviB",null,null,null,null,"Parcours 6suiviR",null,null,null,null,"alchimiste",null,null,null,null,"Parcours 5rando3",null,null,null,null,"Parcours 4selfie1",null,null,null,null,"Parcours 5trail1",null,null,null,null,"Parcours 5sportif1",null,null,null,null,"Parcours 12points5",null,null,null,null,"Parcours 12points8",null,null,null,null,"Parcours 12points3",null,null,null,null,"Parcours 12points4",null,null,null,null,"L'oracle della luna",null,null,null,null,"Parcours 8SIVIOLET",null,null,null,null,"Parcours 7SIVERT",null,null,null,null,"Parcours 9SIBLEU"]
[null,null,null,null,null,null,null,null,null,null,null,null,null,null,null,null,null,null,null,null,null,null,null,null,null,null,null,null,null,null,null,null,null,null,null,null,null,null,{"$f":"BW9","v":"Parcours 7bleu"},"X","Y",null,null,{"$f":"AS9","v":"21Steve"},{"$f":"CONCATENATE(AS9,\"bis\")","v":"21Stevebis"},null,null,{"$f":"CONCATENATE(AS9,\"points\")","v":"21Stevepoints"},{"$f":"AX9","v":"14ORANGE"},{"$f":"CONCATENATE(AX9,\"bis\")","v":"14ORANGEbis"},null,null,{"$f":"CONCATENATE(AX9,\"points\")","v":"14ORANGEpoints"},{"$f":"BC9","v":"6ROUGE"},{"$f":"CONCATENATE(BC9,\"bis\")","v":"6ROUGEbis"},null,null,{"$f":"CONCATENATE(BC9,\"points\")","v":"6ROUGEpoints"},{"$f":"BH9","v":"6ZOULOU"},{"$f":"CONCATENATE(BH9,\"bis\")","v":"6ZOULOUbis"},null,null,{"$f":"CONCATENATE(BH9,\"points\")","v":"6ZOULOUpoints"},{"$f":"BM9","v":"8violet"},{"$f":"CONCATENATE(BM9,\"bis\")","v":"8violetbis"},null,null,{"$f":"CONCATENATE(BM9,\"points\")","v":"8violetpoints"},{"$f":"BR9","v":"6BLUE"},{"$f":"CONCATENATE(BR9,\"bis\")","v":"6BLUEbis"},null,null,{"$f":"CONCATENATE(BR9,\"points\")","v":"6BLUEpoints"},{"$f":"BW9","v":"Parcours 7bleu"},{"$f":"CONCATENATE(BW9,\"bis\")","v":"Parcours 7bleubis"},null,null,{"$f":"CONCATENATE(BW9,\"points\")","v":"Parcours 7bleupoints"},{"$f":"CB9","v":"rouge"},{"$f":"CONCATENATE(CB9,\"bis\")","v":"rougebis"},null,null,{"$f":"CONCATENATE(CB9,\"points\")","v":"rougepoints"},{"$f":"CG9","v":"gris"},{"$f":"CONCATENATE(CG9,\"bis\")","v":"grisbis"},null,null,{"$f":"CONCATENATE(CG9,\"points\")","v":"grispoints"},{"$f":"CL9","v":"Parcours 7HERBE"},{"$f":"CONCATENATE(CL9,\"bis\")","v":"Parcours 7HERBEbis"},null,null,{"$f":"CONCATENATE(CL9,\"points\")","v":"Parcours 7HERBEpoints"},{"$f":"CQ9","v":"Parcours 7CIEL"},{"$f":"CONCATENATE(CQ9,\"bis\")","v":"Parcours 7CIELbis"},null,null,{"$f":"CONCATENATE(CQ9,\"points\")","v":"Parcours 7CIELpoints"},{"$f":"CV9","v":"le tueur du parc"},{"$f":"CONCATENATE(CV9,\"bis\")","v":"le tueur du parcbis"},null,null,{"$f":"CONCATENATE(CV9,\"points\")","v":"le tueur du parcpoints"},{"$f":"DA9","v":"Parcours 6J2"},{"$f":"CONCATENATE(DA9,\"bis\")","v":"Parcours 6J2bis"},null,null,{"$f":"CONCATENATE(DA9,\"points\")","v":"Parcours 6J2points"},{"$f":"DF9","v":"Parcours 6J3"},{"$f":"CONCATENATE(DF9,\"bis\")","v":"Parcours 6J3bis"},null,null,{"$f":"CONCATENATE(DF9,\"points\")","v":"Parcours 6J3points"},{"$f":"DK9","v":"Parcours 6J4"},{"$f":"CONCATENATE(DK9,\"bis\")","v":"Parcours 6J4bis"},null,null,{"$f":"CONCATENATE(DK9,\"points\")","v":"Parcours 6J4points"},{"$f":"DP9","v":"Parcours 6J5"},{"$f":"CONCATENATE(DP9,\"bis\")","v":"Parcours 6J5bis"},null,null,{"$f":"CONCATENATE(DP9,\"points\")","v":"Parcours 6J5points"},{"$f":"DU9","v":"Parcours 6J6"},{"$f":"CONCATENATE(DU9,\"bis\")","v":"Parcours 6J6bis"},null,null,{"$f":"CONCATENATE(DU9,\"points\")","v":"Parcours 6J6points"},{"$f":"DZ9","v":"Parcours 6J7"},{"$f":"CONCATENATE(DZ9,\"bis\")","v":"Parcours 6J7bis"},null,null,{"$f":"CONCATENATE(DZ9,\"points\")","v":"Parcours 6J7points"},{"$f":"EE9","v":"Parcours 6J8"},{"$f":"CONCATENATE(EE9,\"bis\")","v":"Parcours 6J8bis"},null,null,{"$f":"CONCATENATE(EE9,\"points\")","v":"Parcours 6J8points"},{"$f":"EJ9","v":"Parcours 6J9"},{"$f":"CONCATENATE(EJ9,\"bis\")","v":"Parcours 6J9bis"},null,null,{"$f":"CONCATENATE(EJ9,\"points\")","v":"Parcours 6J9points"},{"$f":"EO9","v":"Parcours 6J10"},{"$f":"CONCATENATE(EO9,\"bis\")","v":"Parcours 6J10bis"},null,null,{"$f":"CONCATENATE(EO9,\"points\")","v":"Parcours 6J10points"},{"$f":"ET9","v":"Parcours 7SuiviB"},{"$f":"CONCATENATE(ET9,\"bis\")","v":"Parcours 7SuiviBbis"},null,null,{"$f":"CONCATENATE(ET9,\"points\")","v":"Parcours 7SuiviBpoints"},{"$f":"EY9","v":"Parcours 6suiviR"},{"$f":"CONCATENATE(EY9,\"bis\")","v":"Parcours 6suiviRbis"},null,null,{"$f":"CONCATENATE(EY9,\"points\")","v":"Parcours 6suiviRpoints"},{"$f":"FD9","v":"alchimiste"},{"$f":"CONCATENATE(FD9,\"bis\")","v":"alchimistebis"},null,null,{"$f":"CONCATENATE(FD9,\"points\")","v":"alchimistepoints"},{"$f":"FI9","v":"Parcours 5rando3"},{"$f":"CONCATENATE(FI9,\"bis\")","v":"Parcours 5rando3bis"},null,null,{"$f":"CONCATENATE(FI9,\"points\")","v":"Parcours 5rando3points"},{"$f":"FN9","v":"Parcours 4selfie1"},{"$f":"CONCATENATE(FN9,\"bis\")","v":"Parcours 4selfie1bis"},null,null,{"$f":"CONCATENATE(FN9,\"points\")","v":"Parcours 4selfie1points"},{"$f":"FS9","v":"Parcours 5trail1"},{"$f":"CONCATENATE(FS9,\"bis\")","v":"Parcours 5trail1bis"},null,null,{"$f":"CONCATENATE(FS9,\"points\")","v":"Parcours 5trail1points"},{"$f":"FX9","v":"Parcours 5sportif1"},{"$f":"CONCATENATE(FX9,\"bis\")","v":"Parcours 5sportif1bis"},null,null,{"$f":"CONCATENATE(FX9,\"points\")","v":"Parcours 5sportif1points"},{"$f":"GC9","v":"Parcours 12points5"},{"$f":"CONCATENATE(GC9,\"bis\")","v":"Parcours 12points5bis"},null,null,{"$f":"CONCATENATE(GC9,\"points\")","v":"Parcours 12points5points"},{"$f":"GH9","v":"Parcours 12points8"},{"$f":"CONCATENATE(GH9,\"bis\")","v":"Parcours 12points8bis"},null,null,{"$f":"CONCATENATE(GH9,\"points\")","v":"Parcours 12points8points"},{"$f":"GM9","v":"Parcours 12points3"},{"$f":"CONCATENATE(GM9,\"bis\")","v":"Parcours 12points3bis"},null,null,{"$f":"CONCATENATE(GM9,\"points\")","v":"Parcours 12points3points"},{"$f":"GR9","v":"Parcours 12points4"},{"$f":"CONCATENATE(GR9,\"bis\")","v":"Parcours 12points4bis"},null,null,{"$f":"CONCATENATE(GR9,\"points\")","v":"Parcours 12points4points"},{"$f":"GW9","v":"L'oracle della luna"},{"$f":"CONCATENATE(GW9,\"bis\")","v":"L'oracle della lunabis"},null,null,{"$f":"CONCATENATE(GW9,\"points\")","v":"L'oracle della lunapoints"},{"$f":"HB9","v":"Parcours 8SIVIOLET"},{"$f":"CONCATENATE(HB9,\"bis\")","v":"Parcours 8SIVIOLETbis"},null,null,{"$f":"CONCATENATE(HB9,\"points\")","v":"Parcours 8SIVIOLETpoints"},{"$f":"HG9","v":"Parcours 7SIVERT"},{"$f":"CONCATENATE(HG9,\"bis\")","v":"Parcours 7SIVERTbis"},null,null,{"$f":"CONCATENATE(HG9,\"points\")","v":"Parcours 7SIVERTpoints"},{"$f":"HL9","v":"Parcours 9SIBLEU"},{"$f":"CONCATENATE(HL9,\"bis\")","v":"Parcours 9SIBLEUbis"},null,null,{"$f":"CONCATENATE(HL9,\"points\")","v":"Parcours 9SIBLEUpoints"}]
[null,null,null,null,null,null,null,null,null,null,null,null,null,"D",156.41653442382812,184.20828247070312,null,null,null,"x","y",null,null,null,"x","y",null,null,null,"x","y",null,null,null,"x","y",null,null,{"$f":"CB9","v":"rouge"},147.96873474121094,178.33148193359375,null,null,null,"Balise carte mère","x","y","points",null,"Balise carte mère","x","y",null,null,"Balise carte mère","x","y",null,null,"Balise carte mère","x","y",null,null,"Balise carte mère","x","y",null,null,"Balise carte mère","x","y",null,null,"Balise carte mère","x","y",null,null,"Balise carte mère","x","y",null,null,"Balise carte mère","x","y",null,null,"Balise carte mère","x","y",null,null,"Balise carte mère","x","y",null,null,"Balise carte mère","x","y",null,null,"Balise carte mère","x","y",null,null,"Balise carte mère","x","y",null,null,"Balise carte mère","x","y",null,null,"Balise carte mère","x","y",null,null,"Balise carte mère","x","y",null,null,"Balise carte mère","x","y",null,null,"Balise carte mère","x","y",null,null,"Balise carte mère","x","y",null,null,"Balise carte mère","x","y",null,null,"Balise carte mère","x","y",null,null,"Balise carte mère","x","y",null,null,"Balise carte mère","x","y",null,null,"Balise carte mère","x","y",null,null,"Balise carte mère","x","y",null,null,"Balise carte mère","x","y",null,null,"Balise carte mère","x","y",null,null,"Balise carte mère","x","y",null,null,"Balise carte mère","x","y",null,null,"Balise carte mère","x","y",null,null,"Balise carte mère","x","y",null,null,"Balise carte mère","x","y",null,null,"Balise carte mère","x","y",null,null,"Balise carte mère","x","y",null,null,"Balise carte mère","x","y"]
[null,null,null,null,null,null,null,null,null,null,null,null,null,1,152,40,null,null,17,308,147,null,null,33,236,165,null,null,49,220,299,null,null,65,350,447,null,null,{"$f":"CG9","v":"gris"},443,66.000007629394531,null,"A","A",12,{"$f":"IF(AS12=\"\",0,VLOOKUP(AS12,$N$12:$P$101,2,FALSE))","v":248},{"$f":"IF(AS12=\"\",0,VLOOKUP(AS12,$N$12:$P$101,3,FALSE))","v":97},1,"A",7,{"$f":"IF(AX12=\"\",0,VLOOKUP(AX12,$N$12:$P$101,2,FALSE))","v":116},{"$f":"IF(AX12=\"\",0,VLOOKUP(AX12,$N$12:$P$101,3,FALSE))","v":153},1,"A",7,{"$f":"IF(BC12=\"\",0,VLOOKUP(BC12,$N$12:$P$101,2,FALSE))","v":116},{"$f":"IF(BC12=\"\",0,VLOOKUP(BC12,$N$12:$P$101,3,FALSE))","v":153},1,"A",7,{"$f":"IF(BH12=\"\",0,VLOOKUP(BH12,$N$12:$P$101,2,FALSE))","v":116},{"$f":"IF(BH12=\"\",0,VLOOKUP(BH12,$N$12:$P$101,3,FALSE))","v":153},1,"A",7,{"$f":"IF(BM12=\"\",0,VLOOKUP(BM12,$N$12:$P$101,2,FALSE))","v":116},{"$f":"IF(BM12=\"\",0,VLOOKUP(BM12,$N$12:$P$101,3,FALSE))","v":153},1,"A",7,{"$f":"IF(BR12=\"\",0,VLOOKUP(BR12,$N$12:$P$101,2,FALSE))","v":116},{"$f":"IF(BR12=\"\",0,VLOOKUP(BR12,$N$12:$P$101,3,FALSE))","v":153},1,"A",7,{"$f":"IF(BW12=\"\",0,VLOOKUP(BW12,$N$12:$P$101,2,FALSE))","v":116},{"$f":"IF(BW12=\"\",0,VLOOKUP(BW12,$N$12:$P$101,3,FALSE))","v":153},1,"A",7,{"$f":"IF(CB12=\"\",0,VLOOKUP(CB12,$N$12:$P$101,2,FALSE))","v":116},{"$f":"IF(CB12=\"\",0,VLOOKUP(CB12,$N$12:$P$101,3,FALSE))","v":153},1,"A",7,{"$f":"IF(CG12=\"\",0,VLOOKUP(CG12,$N$12:$P$101,2,FALSE))","v":116},{"$f":"IF(CG12=\"\",0,VLOOKUP(CG12,$N$12:$P$101,3,FALSE))","v":153},1,"A",7,{"$f":"IF(CL12=\"\",0,VLOOKUP(CL12,$N$12:$P$101,2,FALSE))","v":116},{"$f":"IF(CL12=\"\",0,VLOOKUP(CL12,$N$12:$P$101,3,FALSE))","v":153},1,"A",7,{"$f":"IF(CQ12=\"\",0,VLOOKUP(CQ12,$N$12:$P$101,2,FALSE))","v":116},{"$f":"IF(CQ12=\"\",0,VLOOKUP(CQ12,$N$12:$P$101,3,FALSE))","v":153},1,"A",7,{"$f":"IF(CV12=\"\",0,VLOOKUP(CV12,$N$12:$P$101,2,FALSE))","v":116},{"$f":"IF(CV12=\"\",0,VLOOKUP(CV12,$N$12:$P$101,3,FALSE))","v":153},1,"A",7,{"$f":"IF(DA12=\"\",0,VLOOKUP(DA12,$N$12:$P$101,2,FALSE))","v":116},{"$f":"IF(DA12=\"\",0,VLOOKUP(DA12,$N$12:$P$101,3,FALSE))","v":153},1,"A",7,{"$f":"IF(DF12=\"\",0,VLOOKUP(DF12,$N$12:$P$101,2,FALSE))","v":116},{"$f":"IF(DF12=\"\",0,VLOOKUP(DF12,$N$12:$P$101,3,FALSE))","v":153},1,"A",7,{"$f":"IF(DK12=\"\",0,VLOOKUP(DK12,$N$12:$P$101,2,FALSE))","v":116},{"$f":"IF(DK12=\"\",0,VLOOKUP(DK12,$N$12:$P$101,3,FALSE))","v":153},1,"A",7,{"$f":"IF(DP12=\"\",0,VLOOKUP(DP12,$N$12:$P$101,2,FALSE))","v":116},{"$f":"IF(DP12=\"\",0,VLOOKUP(DP12,$N$12:$P$101,3,FALSE))","v":153},1,"A",7,{"$f":"IF(DU12=\"\",0,VLOOKUP(DU12,$N$12:$P$101,2,FALSE))","v":116},{"$f":"IF(DU12=\"\",0,VLOOKUP(DU12,$N$12:$P$101,3,FALSE))","v":153},1,"A",7,{"$f":"IF(DZ12=\"\",0,VLOOKUP(DZ12,$N$12:$P$101,2,FALSE))","v":116},{"$f":"IF(DZ12=\"\",0,VLOOKUP(DZ12,$N$12:$P$101,3,FALSE))","v":153},1,"A",7,{"$f":"IF(EE12=\"\",0,VLOOKUP(EE12,$N$12:$P$101,2,FALSE))","v":116},{"$f":"IF(EE12=\"\",0,VLOOKUP(EE12,$N$12:$P$101,3,FALSE))","v":153},1,"A",7,{"$f":"IF(EJ12=\"\",0,VLOOKUP(EJ12,$N$12:$P$101,2,FALSE))","v":116},{"$f":"IF(EJ12=\"\",0,VLOOKUP(EJ12,$N$12:$P$101,3,FALSE))","v":153},1,"A",7,{"$f":"IF(EO12=\"\",0,VLOOKUP(EO12,$N$12:$P$101,2,FALSE))","v":116},{"$f":"IF(EO12=\"\",0,VLOOKUP(EO12,$N$12:$P$101,3,FALSE))","v":153},1,"A",7,{"$f":"IF(ET12=\"\",0,VLOOKUP(ET12,$N$12:$P$101,2,FALSE))","v":116},{"$f":"IF(ET12=\"\",0,VLOOKUP(ET12,$N$12:$P$101,3,FALSE))","v":153},1,"A",7,{"$f":"IF(EY12=\"\",0,VLOOKUP(EY12,$N$12:$P$101,2,FALSE))","v":116},{"$f":"IF(EY12=\"\",0,VLOOKUP(EY12,$N$12:$P$101,3,FALSE))","v":153},1,"A",7,{"$f":"IF(FD12=\"\",0,VLOOKUP(FD12,$N$12:$P$101,2,FALSE))","v":116},{"$f":"IF(FD12=\"\",0,VLOOKUP(FD12,$N$12:$P$101,3,FALSE))","v":153},1,"A",7,{"$f":"IF(FI12=\"\",0,VLOOKUP(FI12,$N$12:$P$101,2,FALSE))","v":116},{"$f":"IF(FI12=\"\",0,VLOOKUP(FI12,$N$12:$P$101,3,FALSE))","v":153},1,"A",7,{"$f":"IF(FN12=\"\",0,VLOOKUP(FN12,$N$12:$P$101,2,FALSE))","v":116},{"$f":"IF(FN12=\"\",0,VLOOKUP(FN12,$N$12:$P$101,3,FALSE))","v":153},1,"A",7,{"$f":"IF(FS12=\"\",0,VLOOKUP(FS12,$N$12:$P$101,2,FALSE))","v":116},{"$f":"IF(FS12=\"\",0,VLOOKUP(FS12,$N$12:$P$101,3,FALSE))","v":153},1,"A",7,{"$f":"IF(FX12=\"\",0,VLOOKUP(FX12,$N$12:$P$101,2,FALSE))","v":116},{"$f":"IF(FX12=\"\",0,VLOOKUP(FX12,$N$12:$P$101,3,FALSE))","v":153},1,"A",7,{"$f":"IF(GC12=\"\",0,VLOOKUP(GC12,$N$12:$P$101,2,FALSE))","v":116},{"$f":"IF(GC12=\"\",0,VLOOKUP(GC12,$N$12:$P$101,3,FALSE))","v":153},1,"A",7,{"$f":"IF(GH12=\"\",0,VLOOKUP(GH12,$N$12:$P$101,2,FALSE))","v":116},{"$f":"IF(GH12=\"\",0,VLOOKUP(GH12,$N$12:$P$101,3,FALSE))","v":153},1,"A",7,{"$f":"IF(GM12=\"\",0,VLOOKUP(GM12,$N$12:$P$101,2,FALSE))","v":116},{"$f":"IF(GM12=\"\",0,VLOOKUP(GM12,$N$12:$P$101,3,FALSE))","v":153},1,"A",7,{"$f":"IF(GR12=\"\",0,VLOOKUP(GR12,$N$12:$P$101,2,FALSE))","v":116},{"$f":"IF(GR12=\"\",0,VLOOKUP(GR12,$N$12:$P$101,3,FALSE))","v":153},1,"A",7,{"$f":"IF(GW12=\"\",0,VLOOKUP(GW12,$N$12:$P$101,2,FALSE))","v":116},{"$f":"IF(GW12=\"\",0,VLOOKUP(GW12,$N$12:$P$101,3,FALSE))","v":153},1,"A",7,{"$f":"IF(HB12=\"\",0,VLOOKUP(HB12,$N$12:$P$101,2,FALSE))","v":116},{"$f":"IF(HB12=\"\",0,VLOOKUP(HB12,$N$12:$P$101,3,FALSE))","v":153},1,"A",7,{"$f":"IF(HG12=\"\",0,VLOOKUP(HG12,$N$12:$P$101,2,FALSE))","v":116},{"$f":"IF(HG12=\"\",0,VLOOKUP(HG12,$N$12:$P$101,3,FALSE))","v":153},1,"A",7,{"$f":"IF(HL12=\"\",0,VLOOKUP(HL12,$N$12:$P$101,2,FALSE))","v":116},{"$f":"IF(HL12=\"\",0,VLOOKUP(HL12,$N$12:$P$101,3,FALSE))","v":153},1]
[null,null,null,null,null,null,null,null,null,null,null,null,null,2,151,58,null,null,18,477,92.000076293945312,null,null,34,223,160,null,null,50,238,329,null,null,66,366,461.99993896484375,null,null,{"$f":"CL9","v":"Parcours 7HERBE"},2517,158,null,"B","B",13,{"$f":"IF(AS13=\"\",0,VLOOKUP(AS13,$N$12:$P$101,2,FALSE))","v":258},{"$f":"IF(AS13=\"\",0,VLOOKUP(AS13,$N$12:$P$101,3,FALSE))","v":73},2,"B",10,{"$f":"IF(AX13=\"\",0,VLOOKUP(AX13,$N$12:$P$101,2,FALSE))","v":178},{"$f":"IF(AX13=\"\",0,VLOOKUP(AX13,$N$12:$P$101,3,FALSE))","v":96},2,"B",10,{"$f":"IF(BC13=\"\",0,VLOOKUP(BC13,$N$12:$P$101,2,FALSE))","v":178},{"$f":"IF(BC13=\"\",0,VLOOKUP(BC13,$N$12:$P$101,3,FALSE))","v":96},2,"B",10,{"$f":"IF(BH13=\"\",0,VLOOKUP(BH13,$N$12:$P$101,2,FALSE))","v":178},{"$f":"IF(BH13=\"\",0,VLOOKUP(BH13,$N$12:$P$101,3,FALSE))","v":96},2,"B",10,{"$f":"IF(BM13=\"\",0,VLOOKUP(BM13,$N$12:$P$101,2,FALSE))","v":178},{"$f":"IF(BM13=\"\",0,VLOOKUP(BM13,$N$12:$P$101,3,FALSE))","v":96},2,"B",10,{"$f":"IF(BR13=\"\",0,VLOOKUP(BR13,$N$12:$P$101,2,FALSE))","v":178},{"$f":"IF(BR13=\"\",0,VLOOKUP(BR13,$N$12:$P$101,3,FALSE))","v":96},2,"B",10,{"$f":"IF(BW13=\"\",0,VLOOKUP(BW13,$N$12:$P$101,2,FALSE))","v":178},{"$f":"IF(BW13=\"\",0,VLOOKUP(BW13,$N$12:$P$101,3,FALSE))","v":96},2,"B",10,{"$f":"IF(CB13=\"\",0,VLOOKUP(CB13,$N$12:$P$101,2,FALSE))","v":178},{"$f":"IF(CB13=\"\",0,VLOOKUP(CB13,$N$12:$P$101,3,FALSE))","v":96},2,"B",10,{"$f":"IF(CG13=\"\",0,VLOOKUP(CG13,$N$12:$P$101,2,FALSE))","v":178},{"$f":"IF(CG13=\"\",0,VLOOKUP(CG13,$N$12:$P$101,3,FALSE))","v":96},2,"B",10,{"$f":"IF(CL13=\"\",0,VLOOKUP(CL13,$N$12:$P$101,2,FALSE))","v":178},{"$f":"IF(CL13=\"\",0,VLOOKUP(CL13,$N$12:$P$101,3,FALSE))","v":96},2,"B",10,{"$f":"IF(CQ13=\"\",0,VLOOKUP(CQ13,$N$12:$P$101,2,FALSE))","v":178},{"$f":"IF(CQ13=\"\",0,VLOOKUP(CQ13,$N$12:$P$101,3,FALSE))","v":96},2,"B",10,{"$f":"IF(CV13=\"\",0,VLOOKUP(CV13,$N$12:$P$101,2,FALSE))","v":178},{"$f":"IF(CV13=\"\",0,VLOOKUP(CV13,$N$12:$P$101,3,FALSE))","v":96},2,"B",10,{"$f":"IF(DA13=\"\",0,VLOOKUP(DA13,$N$12:$P$101,2,FALSE))","v":178},{"$f":"IF(DA13=\"\",0,VLOOKUP(DA13,$N$12:$P$101,3,FALSE))","v":96},2,"B",10,{"$f":"IF(DF13=\"\",0,VLOOKUP(DF13,$N$12:$P$101,2,FALSE))","v":178},{"$f":"IF(DF13=\"\",0,VLOOKUP(DF13,$N$12:$P$101,3,FALSE))","v":96},2,"B",10,{"$f":"IF(DK13=\"\",0,VLOOKUP(DK13,$N$12:$P$101,2,FALSE))","v":178},{"$f":"IF(DK13=\"\",0,VLOOKUP(DK13,$N$12:$P$101,3,FALSE))","v":96},2,"B",10,{"$f":"IF(DP13=\"\",0,VLOOKUP(DP13,$N$12:$P$101,2,FALSE))","v":178},{"$f":"IF(DP13=\"\",0,VLOOKUP(DP13,$N$12:$P$101,3,FALSE))","v":96},2,"B",10,{"$f":"IF(DU13=\"\",0,VLOOKUP(DU13,$N$12:$P$101,2,FALSE))","v":178},{"$f":"IF(DU13=\"\",0,VLOOKUP(DU13,$N$12:$P$101,3,FALSE))","v":96},2,"B",10,{"$f":"IF(DZ13=\"\",0,VLOOKUP(DZ13,$N$12:$P$101,2,FALSE))","v":178},{"$f":"IF(DZ13=\"\",0,VLOOKUP(DZ13,$N$12:$P$101,3,FALSE))","v":96},2,"B",10,{"$f":"IF(EE13=\"\",0,VLOOKUP(EE13,$N$12:$P$101,2,FALSE))","v":178},{"$f":"IF(EE13=\"\",0,VLOOKUP(EE13,$N$12:$P$101,3,FALSE))","v":96},2,"B",10,{"$f":"IF(EJ13=\"\",0,VLOOKUP(EJ13,$N$12:$P$101,2,FALSE))","v":178},{"$f":"IF(EJ13=\"\",0,VLOOKUP(EJ13,$N$12:$P$101,3,FALSE))","v":96},2,"B",10,{"$f":"IF(EO13=\"\",0,VLOOKUP(EO13,$N$12:$P$101,2,FALSE))","v":178},{"$f":"IF(EO13=\"\",0,VLOOKUP(EO13,$N$12:$P$101,3,FALSE))","v":96},2,"B",10,{"$f":"IF(ET13=\"\",0,VLOOKUP(ET13,$N$12:$P$101,2,FALSE))","v":178},{"$f":"IF(ET13=\"\",0,VLOOKUP(ET13,$N$12:$P$101,3,FALSE))","v":96},2,"B",10,{"$f":"IF(EY13=\"\",0,VLOOKUP(EY13,$N$12:$P$101,2,FALSE))","v":178},{"$f":"IF(EY13=\"\",0,VLOOKUP(EY13,$N$12:$P$101,3,FALSE))","v":96},2,"B",10,{"$f":"IF(FD13=\"\",0,VLOOKUP(FD13,$N$12:$P$101,2,FALSE))","v":178},{"$f":"IF(FD13=\"\",0,VLOOKUP(FD13,$N$12:$P$101,3,FALSE))","v":96},2,"B",10,{"$f":"IF(FI13=\"\",0,VLOOKUP(FI13,$N$12:$P$101,2,FALSE))","v":178},{"$f":"IF(FI13=\"\",0,VLOOKUP(FI13,$N$12:$P$101,3,FALSE))","v":96},2,"B",10,{"$f":"IF(FN13=\"\",0,VLOOKUP(FN13,$N$12:$P$101,2,FALSE))","v":178},{"$f":"IF(FN13=\"\",0,VLOOKUP(FN13,$N$12:$P$101,3,FALSE))","v":96},2,"B",10,{"$f":"IF(FS13=\"\",0,VLOOKUP(FS13,$N$12:$P$101,2,FALSE))","v":178},{"$f":"IF(FS13=\"\",0,VLOOKUP(FS13,$N$12:$P$101,3,FALSE))","v":96},2,"B",10,{"$f":"IF(FX13=\"\",0,VLOOKUP(FX13,$N$12:$P$101,2,FALSE))","v":178},{"$f":"IF(FX13=\"\",0,VLOOKUP(FX13,$N$12:$P$101,3,FALSE))","v":96},2,"B",10,{"$f":"IF(GC13=\"\",0,VLOOKUP(GC13,$N$12:$P$101,2,FALSE))","v":178},{"$f":"IF(GC13=\"\",0,VLOOKUP(GC13,$N$12:$P$101,3,FALSE))","v":96},2,"B",10,{"$f":"IF(GH13=\"\",0,VLOOKUP(GH13,$N$12:$P$101,2,FALSE))","v":178},{"$f":"IF(GH13=\"\",0,VLOOKUP(GH13,$N$12:$P$101,3,FALSE))","v":96},2,"B",10,{"$f":"IF(GM13=\"\",0,VLOOKUP(GM13,$N$12:$P$101,2,FALSE))","v":178},{"$f":"IF(GM13=\"\",0,VLOOKUP(GM13,$N$12:$P$101,3,FALSE))","v":96},2,"B",10,{"$f":"IF(GR13=\"\",0,VLOOKUP(GR13,$N$12:$P$101,2,FALSE))","v":178},{"$f":"IF(GR13=\"\",0,VLOOKUP(GR13,$N$12:$P$101,3,FALSE))","v":96},2,"B",10,{"$f":"IF(GW13=\"\",0,VLOOKUP(GW13,$N$12:$P$101,2,FALSE))","v":178},{"$f":"IF(GW13=\"\",0,VLOOKUP(GW13,$N$12:$P$101,3,FALSE))","v":96},2,"B",10,{"$f":"IF(HB13=\"\",0,VLOOKUP(HB13,$N$12:$P$101,2,FALSE))","v":178},{"$f":"IF(HB13=\"\",0,VLOOKUP(HB13,$N$12:$P$101,3,FALSE))","v":96},2,"B",10,{"$f":"IF(HG13=\"\",0,VLOOKUP(HG13,$N$12:$P$101,2,FALSE))","v":178},{"$f":"IF(HG13=\"\",0,VLOOKUP(HG13,$N$12:$P$101,3,FALSE))","v":96},2,"B",10,{"$f":"IF(HL13=\"\",0,VLOOKUP(HL13,$N$12:$P$101,2,FALSE))","v":178},{"$f":"IF(HL13=\"\",0,VLOOKUP(HL13,$N$12:$P$101,3,FALSE))","v":96},2]
[null,null,null,null,null,null,null,null,null,null,null,null,null,3,133,58,null,null,19,545,97.000076293945312,null,null,35,210,160.00007629394531,null,null,51,274,293,null,null,67,330,462,null,null,{"$f":"CQ9","v":"Parcours 7CIEL"},2517,187,null,"C","C",11,220,129,2,"C",11,220,129,2,"C",11,220,129,2,"C",11,220,129,2,"C",11,220,129,2,"C",11,220,129,2,"C",11,220,129,2,"C",11,220,129,2,"C",11,220,129,2,"C",11,220,129,2,"C",11,220,129,2,"C",11,220,129,2,"C",11,220,129,2,"C",11,220,129,2,"C",11,220,129,2,"C",11,220,129,2,"C",11,220,129,2,"C",11,220,129,2,"C",11,220,129,2,"C",11,220,129,2,"C",11,220,129,2,"C",11,220,129,2,"C",11,220,129,2,"C",11,220,129,2,"C",11,220,129,2,"C",11,220,129,2,"C",11,220,129,2,"C",11,220,129,2,"C",11,220,129,2,"C",11,220,129,2,"C",11,220,129,2,"C",11,220,129,2,"C",11,220,129,2,"C",11,220,129,2,"C",11,220,129,2,"C",11,220,129,2]
[null,null,null,null,null,null,null,null,null,null,null,null,null,4,143,102,null,null,20,582,109.00007629394531,null,null,36,165,182.00009155273438,null,null,52,268,315,null,null,68,298,492.00006103515625,null,null,{"$f":"CV9","v":"le tueur du parc"},2517,216,null,"D","D",16,249,146,2,"D",1,152,40,2,"D",1,152,40,2,"D",1,152,40,2,"D",1,152,40,2,"D",1,152,40,2,"D",1,152,40,2,"D",1,152,40,2,"D",1,152,40,2,"D",1,152,40,2,"D",1,152,40,2,"D",1,152,40,2,"D",1,152,40,2,"D",1,152,40,2,"D",1,152,40,2,"D",1,152,40,2,"D",1,152,40,2,"D",1,152,40,2,"D",1,152,40,2,"D",1,152,40,2,"D",1,152,40,2,"D",1,152,40,2,"D",1,152,40,2,"D",1,152,40,2,"D",1,152,40,2,"D",1,152,40,2,"D",1,152,40,2,"D",1,152,40,2,"D",1,152,40,2,"D",1,152,40,2,"D",1,152,40,2,"D",1,152,40,2,"D",1,152,40,2,"D",1,152,40,2,"D",1,152,40,2,"D",1,152,40,2]
[null,null,null,null,null,null,null,null,null,null,null,null,null,5,102,102,null,null,21,593,120,null,null,37,218,205,null,null,53,295,314,null,null,69,299.89730834960938,433.20513916015625,null,null,{"$f":"DA9","v":"Parcours 6J2"},2517,245,null,"E","E",35,210,160.00007629394531,3,"E",76,172,420,3,"E",76,172,420,3,"E",76,172,420,3,"E",76,172,420,3,"E",76,172,420,3,"E",76,172,420,3,"E",76,172,420,3,"E",76,172,420,3,"E",76,172,420,3,"E",76,172,420,3,"E",76,172,420,3,"E",76,172,420,3,"E",76,172,420,3,"E",76,172,420,3,"E",76,172,420,3,"E",76,172,420,3,"E",76,172,420,3,"E",76,172,420,3,"E",76,172,420,3,"E",76,172,420,3,"E",76,172,420,3,"E",76,172,420,3,"E",76,172,420,3,"E",76,172,420,3,"E",76,172,420,3,"E",76,172,420,3,"E",76,172,420,3,"E",76,172,420,3,"E",76,172,420,3,"E",76,172,420,3,"E",76,172,420,3,"E",76,172,420,3,"E",76,172,420,3,"E",76,172,420,3,"E",76,172,420,3]
[null,null,null,null,null,null,null,null,null,null,null,"Edition de cartes",null,6,114,138,null,null,22,571,142.00007629394531,null,null,38,234,207,null,null,54,334,289,null,null,70,258,415,null,null,{"$f":"DF9","v":"Parcours 6J3"},2517,274,null,"F","F",28,325,168.00007629394531,3,"F",46,265,267,3,"F",46,265,267,3,"F",46,265,267,3,"F",46,265,267,3,"F",46,265,267,3,"F",46,265,267,3,"F",46,265,267,3,"F",46,265,267,3,"F",46,265,267,3,"F",46,265,267,3,"F",46,265,267,3,"F",46,265,267,3,"F",46,265,267,3,"F",46,265,267,3,"F",46,265,267,3,"F",46,265,267,3,"F",46,265,267,3,"F",46,265,267,3,"F",46,265,267,3,"F",46,265,267,3,"F",46,265,267,3,"F",46,265,267,3,"F",46,265,267,3,"F",46,265,267,3,"F",46,265,267,3,"F",46,265,267,3,"F",46,265,267,3,"F",46,265,267,3,"F",46,265,267,3,"F",46,265,267,3,"F",46,265,267,3,"F",46,265,267,3,"F",46,265,267,3,"F",46,265,267,3,"F",46,265,267,3]
[null,null,null,null,null,null,null,null,null,null,null,null,null,7,116,153,null,null,23,493,119.00007629394531,null,null,39,255,206.00009155273438,null,null,55,436,279.00009155273438,null,null,71,240,419.99990844726562,null,null,{"$f":"DK9","v":"Parcours 6J4"},2517,303,null,"G","G",26,370,159,3,"G",12,248,{"$f":"IF(AX18=\"\",0,VLOOKUP(AX18,$N$12:$P$101,3,FALSE))","v":97},3,null,null,0,0,null,null,null,0,0,null,"G",32,227,181,2,null,null,0,0,null,null,null,0,0,null,null,null,0,0,null,null,null,0,0,null,null,null,0,0,null,null,null,0,0,null,null,null,0,0,null,null,null,0,0,null,"G",null,0,0,null,"G",null,0,0,null,"G",null,0,0,null,"G",null,0,0,null,"G",null,0,0,null,"G",null,0,0,null,"G",null,0,0,null,"G",null,0,0,null,"G",null,0,0,null,"G",null,0,0,null,null,null,0,0,null,"G",null,0,0,null,"G",null,0,0,null,"G",null,0,0,null,"G",null,0,0,null,"G",null,0,0,null,"G",null,0,0,null,"G",null,0,0,null,"G",null,0,0,null,"G",null,0,0,null,"G",null,0,0,null,"G",null,0,0,null,"G",null,0,0]
[null,null,null,null,null,null,null,null,null,null,null,null,null,8,166,150,null,null,24,418,147.00007629394531,null,null,40,276,207.00009155273438,null,null,56,396,303.00009155273438,null,null,72,226,434.00006103515625,null,null,{"$f":"DP9","v":"Parcours 6J5"},2517,332,null,"H","H",40,276,207.00009155273438,3,null,null,0,0,null,null,null,0,0,null,null,null,0,0,null,"H",15,258.84622192382812,136.7947998046875,2,null,null,0,0,null,null,null,0,0,null,null,null,0,0,null,null,null,0,0,null,null,null,0,0,null,null,null,0,0,null,null,null,0,0,null,null,null,0,0,null,"H",null,0,0,null,"H",null,0,0,null,"H",null,0,0,null,"H",null,0,0,null,"H",null,0,0,null,"H",null,0,0,null,"H",null,0,0,null,"H",null,0,0,null,"H",null,0,0,null,"H",null,0,0,null,null,null,0,0,null,"H",null,0,0,null,"H",null,0,0,null,"H",null,0,0,null,"H",null,0,0,null,"H",null,0,0,null,"H",null,0,0,null,"H",null,0,0,null,"H",null,0,0,null,"H",null,0,0,null,"H",null,0,0,null,"H",null,0,0,null,"H",null,0,0]
[null,null,null,null,null,null,null,null,null,null,null,null,null,9,167,109,null,null,25,403,137,null,null,41,322,207,null,null,57,336,326,null,null,73,202,450.00006103515625,null,null,{"$f":"DU9","v":"Parcours 6J6"},2517,361,null,"I","I",39,255,206.00009155273438,3,null,null,0,0,null,null,null,0,0,null,null,null,0,0,null,null,null,0,0,null,null,null,0,0,null,null,null,0,0,null,null,null,0,0,null,null,null,0,0,null,null,null,0,0,null,null,null,0,0,null,null,null,0,0,null,null,null,0,0,null,"I",null,0,0,null,"I",null,0,0,null,"I",null,0,0,null,"I",null,0,0,null,"I",null,0,0,null,"I",null,0,0,null,"I",null,0,0,null,"I",null,0,0,null,"I",null,0,0,null,"I",null,0,0,null,null,null,0,0,null,"I",null,0,0,null,"I",null,0,0,null,"I",null,0,0,null,"I",null,0,0,null,"I",null,0,0,null,"I",null,0,0,null,"I",null,0,0,null,"I",null,0,0,null,"I",null,0,0,null,"I",null,0,0,null,"I",null,0,0,null,"I",null,0,0]
[null,null,null,null,null,null,null,null,null,null,null,null,null,10,178,96,null,null,26,370,159,null,null,42,274,223,null,null,58,320,340,null,null,74,113.92307281494141,290.28213500976562,null,null,{"$f":"DZ9","v":"Parcours 6J7"},2517,390,null,"J","J",45,236,253.00009155273438,3,"J",16,249,146,3,null,null,0,0,null,null,null,0,0,null,null,null,0,0,null,null,null,0,0,null,null,null,0,0,null,null,null,0,0,null,"J",null,0,0,null,null,null,0,0,null,null,null,0,0,null,null,null,0,0,null,null,null,0,0,null,"J",null,0,0,null,"J",null,0,0,null,"J",null,0,0,null,"J",null,0,0,null,"J",null,0,0,null,"J",null,0,0,null,"J",null,0,0,null,"J",null,0,0,null,"J",null,0,0,null,"J",null,0,0,null,null,null,0,0,null,"J",null,0,0,null,"J",null,0,0,null,"J",null,0,0,null,"J",null,0,0,null,"J",null,0,0,null,"J",null,0,0,null,"J",null,0,0,null,"J",null,0,0,null,"J",null,0,0,null,"J",null,0,0,null,"J",null,0,0,null,"J",null,0,0]
[null,null,null,null,null,null,null,null,null,null,null,null,null,11,220,129,null,null,27,327,183.00009155273438,null,null,43,271,240,null,null,59,318,355,null,null,75,111,356,null,null,{"$f":"EE9","v":"Parcours 6J8"},2517,419,null,"K","K",null,0,0,3,"K",null,0,0,null,"K",null,0,0,null,"K",null,0,0,null,null,null,0,0,null,null,null,0,0,null,"K",null,0,0,null,"K",null,0,0,null,"K",null,0,0,null,"K",null,0,0,null,"K",null,0,0,null,"K",null,0,0,null,"K",null,0,0,null,"K",null,0,0,null,"K",null,0,0,null,"K",null,0,0,null,"K",null,0,0,null,"K",null,0,0,null,"K",null,0,0,null,"K",null,0,0,null,"K",null,0,0,null,"K",null,0,0,null,"K",null,0,0,null,"K",null,0,0,null,"K",null,0,0,null,"K",null,0,0,null,"K",null,0,0,null,"K",null,0,0,null,"K",null,0,0,null,"K",null,0,0,null,"K",null,0,0,null,"K",null,0,0,null,"K",null,0,0,null,"K",null,0,0,null,"K",null,0,0,null,"K",null,0,0]
[null,null,null,null,null,null,null,null,null,null,null,null,null,12,248,97,null,null,28,325,168.00007629394531,null,null,44,224,237.00009155273438,null,null,60,274,355.00009155273438,null,null,76,172,420,null,null,{"$f":"EJ9","v":"Parcours 6J9"},2517,448,null,"L","L",51,274,293,3,"L",null,0,0,null,"L",null,0,0,null,"L",null,0,0,null,"L",null,0,0,null,"L",null,0,0,null,"L",null,0,0,null,"L",null,0,0,null,"L",null,0,0,null,"L",null,0,0,null,"L",null,0,0,null,"L",null,0,0,null,"L",null,0,0,null,"L",null,0,0,null,"L",null,0,0,null,"L",null,0,0,null,"L",null,0,0,null,"L",null,0,0,null,"L",null,0,0,null,"L",null,0,0,null,"L",null,0,0,null,"L",null,0,0,null,"L",null,0,0,null,"L",null,0,0,null,"L",null,0,0,null,"L",null,0,0,null,"L",null,0,0,null,"L",null,0,0,null,"L",null,0,0,null,"L",null,0,0,null,"L",null,0,0,null,"L",null,0,0,null,"L",null,0,0,null,"L",null,0,0,null,"L",null,0,0,null,"L",null,0,0]
[null,null,null,null,null,null,null,null,null,null,null,null,null,13,258,73,null,null,29,289,184.00009155273438,null,null,45,236,253.00009155273438,null,null,61,383,349.00009155273438,null,null,null,null,null,null,null,{"$f":"EO9","v":"Parcours 6J10"},2517,477,null,"M","M",50,238,329,3,"M",null,0,0,null,"M",null,0,0,null,"M",null,0,0,null,"M",null,0,0,null,"M",null,0,0,null,"M",null,0,0,null,"M",null,0,0,null,"M",null,0,0,null,"M",null,0,0,null,"M",null,0,0,null,"M",null,0,0,null,"M",null,0,0,null,"M",null,0,0,null,"M",null,0,0,null,"M",null,0,0,null,"M",null,0,0,null,"M",null,0,0,null,"M",null,0,0,null,"M",null,0,0,null,"M",null,0,0,null,"M",null,0,0,null,"M",null,0,0,null,"M",null,0,0,null,"M",null,0,0,null,"M",null,0,0,null,"M",null,0,0,null,"M",null,0,0,null,"M",null,0,0,null,"M",null,0,0,null,"M",null,0,0,null,"M",null,0,0,null,"M",null,0,0,null,"M",null,0,0,null,"M",null,0,0,null,"M",null,0,0]
[null,null,null,null,null,null,null,null,null,null,null,null,null,14,267,119,null,null,30,296,169,null,null,46,265,267,null,null,62,484,302,null,null,null,null,null,null,null,{"$f":"ET9","v":"Parcours 7SuiviB"},2517,506,null,"N","N",74,113.92307281494141,290.28213500976562,3,"N",null,0,0,null,"N",null,0,0,null,"N",null,0,0,null,"N",null,0,0,null,"N",null,0,0,null,"N",null,0,0,null,"N",null,0,0,null,"N",null,0,0,null,"N",null,0,0,null,"N",null,0,0,null,"N",null,0,0,null,"N",null,0,0,null,"N",null,0,0,null,"N",null,0,0,null,"N",null,0,0,null,"N",null,0,0,null,"N",null,0,0,null,"N",null,0,0,null,"N",null,0,0,null,"N",null,0,0,null,"N",null,0,0,null,"N",null,0,0,null,"N",null,0,0,null,"N",null,0,0,null,"N",null,0,0,null,"N",null,0,0,null,"N",null,0,0,null,"N",null,0,0,null,"N",null,0,0,null,"N",null,0,0,null,"N",null,0,0,null,"N",null,0,0,null,"N",null,0,0,null,"N",null,0,0,null,"N",null,0,0]
[null,null,null,null,null,null,null,null,null,null,null,null,null,15,258.84622192382812,136.7947998046875,null,null,31,251,170.00009155273438,null,null,47,310,263,null,null,63,385,434,null,null,null,null,null,null,null,{"$f":"EY9","v":"Parcours 6suiviR"},2517,535,null,"O","O",null,0,0,3,"O",null,0,0,null,"O",null,0,0,null,"O",null,0,0,null,"O",null,0,0,null,"O",null,0,0,null,"O",null,0,0,null,"O",null,0,0,null,"O",null,0,0,null,"O",null,0,0,null,"O",null,0,0,null,"O",null,0,0,null,"O",null,0,0,null,"O",null,0,0,null,"O",null,0,0,null,"O",null,0,0,null,"O",null,0,0,null,"O",null,0,0,null,"O",null,0,0,null,"O",null,0,0,null,"O",null,0,0,null,"O",null,0,0,null,"O",null,0,0,null,"O",null,0,0,null,"O",null,0,0,null,"O",null,0,0,null,"O",null,0,0,null,"O",null,0,0,null,"O",null,0,0,null,"O",null,0,0,null,"O",null,0,0,null,"O",null,0,0,null,"O",null,0,0,null,"O",null,0,0,null,"O",null,0,0,null,"O",null,0,0]
[null,null,null,null,null,null,null,null,null,null,null,null,null,16,249,146,null,null,32,227,181,null,null,48,238,278.00009155273438,null,null,64,333,394.00009155273438,null,null,null,null,null,null,null,{"$f":"FD9","v":"alchimiste"},2517,564,null,"P","P",6,114,138,3,"P",13,258,73,2,"P",null,0,0,null,"P",null,0,0,null,"P",null,0,0,null,"P",null,0,0,null,"P",null,0,0,null,"P",null,0,0,null,"P",null,0,0,null,"P",null,0,0,null,"P",null,0,0,null,"P",null,0,0,null,"P",null,0,0,null,"P",null,0,0,null,"P",null,0,0,null,"P",null,0,0,null,"P",null,0,0,null,"P",null,0,0,null,"P",null,0,0,null,"P",null,0,0,null,"P",null,0,0,null,"P",null,0,0,null,"P",null,0,0,null,"P",null,0,0,null,"P",null,0,0,null,"P",null,0,0,null,"P",null,0,0,null,"P",null,0,0,null,"P",null,0,0,null,"P",null,0,0,null,"P",null,0,0,null,"P",null,0,0,null,"P",null,0,0,null,"P",null,0,0,null,"P",null,0,0,null,"P",null,0,0]
[null,null,null,null,null,null,null,null,null,null,null,null,null,17,{"$f":"T12","v":308},{"$f":"U12","v":147},null,null,null,null,null,null,null,null,null,null,null,null,null,null,null,null,null,null,null,null,null,null,{"$f":"FI9","v":"Parcours 5rando3"},2517,593,null,"Q","Q",33,236,165,3,"Q",19,545,97.000076293945312,2,"Q",null,0,0,null,"Q",null,0,0,null,"Q",null,0,0,null,"Q",null,0,0,null,"Q",null,0,0,null,"Q",null,0,0,null,"Q",null,0,0,null,"Q",null,0,0,null,"Q",null,0,0,null,"Q",null,0,0,null,"Q",null,0,0,null,"Q",null,0,0,null,"Q",null,0,0,null,"Q",null,0,0,null,"Q",null,0,0,null,"Q",null,0,0,null,"Q",null,0,0,null,"Q",null,0,0,null,"Q",null,0,0,null,"Q",null,0,0,null,"Q",null,0,0,null,"Q",null,0,0,null,"Q",null,0,0,null,"Q",null,0,0,null,"Q",null,0,0,null,"Q",null,0,0,null,"Q",null,0,0,null,"Q",null,0,0,null,"Q",null,0,0,null,"Q",null,0,0,null,"Q",null,0,0,null,"Q",null,0,0,null,"Q",null,0,0,null,"Q",null,0,0]
[null,null,null,null,null,null,null,null,null,null,null,null,null,18,{"$f":"T13","v":477},92.000076293945312,null,null,null,null,null,null,null,null,null,null,null,null,null,null,null,null,null,null,null,null,null,null,{"$f":"FN9","v":"Parcours 4selfie1"},2517,622,null,"R","R",29,289,184.00009155273438,3,"R",75,111,356,3,"R",null,0,0,null,"R",null,0,0,null,"R",null,0,0,null,"R",null,0,0,null,"R",null,0,0,null,"R",null,0,0,null,"R",null,0,0,null,"R",null,0,0,null,"R",null,0,0,null,"R",null,0,0,null,"R",null,0,0,null,"R",null,0,0,null,"R",null,0,0,null,"R",null,0,0,null,"R",null,0,0,null,"R",null,0,0,null,"R",null,0,0,null,"R",null,0,0,null,"R",null,0,0,null,"R",null,0,0,null,"R",null,0,0,null,"R",null,0,0,null,"R",null,0,0,null,"R",null,0,0,null,"R",null,0,0,null,"R",null,0,0,null,"R",null,0,0,null,"R",null,0,0,null,"R",null,0,0,null,"R",null,0,0,null,"R",null,0,0,null,"R",null,0,0,null,"R",null,0,0,null,"R",null,0,0]
[null,null,null,null,null,null,null,null,null,null,null,null,null,19,{"$f":"T14","v":545},97.000076293945312,null,null,null,null,null,null,null,null,null,null,null,null,null,null,null,null,null,null,null,null,null,null,{"$f":"FS9","v":"Parcours 5trail1"},2517,680,null,"S","S",24,418,147.00007629394531,3,"S",14,267,119,3,"S",null,0,0,null,"S",null,0,0,null,"S",null,0,0,null,"S",null,0,0,null,"S",null,0,0,null,"S",null,0,0,null,"S",null,0,0,null,"S",null,0,0,null,"S",null,0,0,null,"S",null,0,0,null,"S",null,0,0,null,"S",null,0,0,null,"S",null,0,0,null,"S",null,0,0,null,"S",null,0,0,null,"S",null,0,0,null,"S",null,0,0,null,"S",null,0,0,null,"S",null,0,0,null,"S",null,0,0,null,"S",null,0,0,null,"S",null,0,0,null,"S",null,0,0,null,"S",null,0,0,null,"S",null,0,0,null,"S",null,0,0,null,"S",null,0,0,null,"S",null,0,0,null,"S",null,0,0,null,"S",null,0,0,null,"S",null,0,0,null,"S",null,0,0,null,"S",null,0,0,null,"S",null,0,0]
[null,null,null,null,null,null,null,null,null,null,null,null,null,20,{"$f":"T15","v":582},109.00007629394531,null,null,null,null,null,null,null,null,null,null,null,null,null,null,null,null,null,null,null,null,null,null,{"$f":"FX9","v":"Parcours 5sportif1"},2517,709,null,"T","T",54,334,289,3,"T",63,385,434,3,"T",null,0,0,null,"T",null,0,0,null,"T",null,0,0,null,"T",null,0,0,null,"T",null,0,0,null,"T",null,0,0,null,"T",null,0,0,null,"T",null,0,0,null,"T",null,0,0,null,"T",null,0,0,null,"T",null,0,0,null,"T",null,0,0,null,"T",null,0,0,null,"T",null,0,0,null,"T",null,0,0,null,"T",null,0,0,null,"T",null,0,0,null,"T",null,0,0,null,"T",null,0,0,null,"T",null,0,0,null,"T",null,0,0,null,"T",null,0,0,null,"T",null,0,0,null,"T",null,0,0,null,"T",null,0,0,null,"T",null,0,0,null,"T",null,0,0,null,"T",null,0,0,null,"T",null,0,0,null,"T",null,0,0,null,"T",null,0,0,null,"T",null,0,0,null,"T",null,0,0,null,"T",null,0,0]
[null,null,null,null,null,null,null,null,null,null,null,null,null,21,{"$f":"T16","v":593},120,null,null,null,null,null,null,null,null,null,null,null,null,null,null,null,null,null,null,null,null,null,null,{"$f":"GC9","v":"Parcours 12points5"},2517,738,null,"U","U",56,396,303.00009155273438,3,"U",null,0,0,null,"U",null,0,0,null,"U",null,0,0,null,"U",null,0,0,null,"U",null,0,0,null,"U",null,0,0,null,"U",null,0,0,null,"U",null,0,0,null,"U",null,0,0,null,"U",null,0,0,null,"U",null,0,0,null,"U",null,0,0,null,"U",null,0,0,null,"U",null,0,0,null,"U",null,0,0,null,"U",null,0,0,null,"U",null,0,0,null,"U",null,0,0,null,"U",null,0,0,null,"U",null,0,0,null,"U",null,0,0,null,"U",null,0,0,null,"U",null,0,0,null,"U",null,0,0,null,"U",null,0,0,null,"U",null,0,0,null,"U",null,0,0,null,"U",null,0,0,null,"U",null,0,0,null,"U",null,0,0,null,"U",null,0,0,null,"U",null,0,0,null,"U",null,0,0,null,"U",null,0,0,null,"U",null,0,0]
[null,null,null,null,null,null,null,null,null,null,null,null,null,22,{"$f":"T17","v":571},142.00007629394531,null,null,null,null,null,null,null,null,null,null,null,null,null,null,null,null,null,null,null,null,null,null,{"$f":"GH9","v":"Parcours 12points8"},2517,767,null,"V","V",59,318,355,3,"V",null,0,0,null,"V",null,0,0,null,"V",null,0,0,null,"V",null,0,0,null,"V",null,0,0,null,"V",null,0,0,null,"V",null,0,0,null,"V",null,0,0,null,"V",null,0,0,null,"V",null,0,0,null,"V",null,0,0,null,"V",null,0,0,null,"V",null,0,0,null,"V",null,0,0,null,"V",null,0,0,null,"V",null,0,0,null,"V",null,0,0,null,"V",null,0,0,null,"V",null,0,0,null,"V",null,0,0,null,"V",null,0,0,null,"V",null,0,0,null,"V",null,0,0,null,"V",null,0,0,null,"V",null,0,0,null,"V",null,0,0,null,"V",null,0,0,null,"V",null,0,0,null,"V",null,0,0,null,"V",null,0,0,null,"V",null,0,0,null,"V",null,0,0,null,"V",null,0,0,null,"V",null,0,0,null,"V",null,0,0]
[null,null,null,null,null,null,null,null,null,null,null,null,null,23,{"$f":"T18","v":493},119.00007629394531,null,null,null,null,null,null,null,null,null,null,null,null,null,null,null,null,null,null,null,null,null,null,{"$f":"GM9","v":"Parcours 12points3"},2517,796,null,"W","W",null,0,0,3,"W",null,0,0,null,"W",null,0,0,null,"W",null,0,0,null,"W",null,0,0,null,"W",null,0,0,null,"W",null,0,0,null,"W",null,0,0,null,"W",null,0,0,null,"W",null,0,0,null,"W",null,0,0,null,"W",null,0,0,null,"W",null,0,0,null,"W",null,0,0,null,"W",null,0,0,null,"W",null,0,0,null,"W",null,0,0,null,"W",null,0,0,null,"W",null,0,0,null,"W",null,0,0,null,"W",null,0,0,null,"W",null,0,0,null,"W",null,0,0,null,"W",null,0,0,null,"W",null,0,0,null,"W",null,0,0,null,"W",null,0,0,null,"W",null,0,0,null,"W",null,0,0,null,"W",null,0,0,null,"W",null,0,0,null,"W",null,0,0,null,"W",null,0,0,null,"W",null,0,0,null,"W",null,0,0,null,"W",null,0,0]
[null,null,null,null,null,null,null,null,null,null,null,null,null,24,{"$f":"T19","v":418},147.00007629394531,null,null,null,null,null,null,null,null,null,null,null,null,null,null,null,null,null,null,null,null,null,null,{"$f":"GR9","v":"Parcours 12points4"},2517,825,null,"X","X",76,172,420,3,"X",null,0,0,null,"X",null,0,0,null,"X",null,0,0,null,"X",null,0,0,null,"X",null,0,0,null,"X",null,0,0,null,"X",null,0,0,null,"X",null,0,0,null,"X",null,0,0,null,"X",null,0,0,null,"X",null,0,0,null,"X",null,0,0,null,"X",null,0,0,null,"X",null,0,0,null,"X",null,0,0,null,"X",null,0,0,null,"X",null,0,0,null,"X",null,0,0,null,"X",null,0,0,null,"X",null,0,0,null,"X",null,0,0,null,"X",null,0,0,null,"X",null,0,0,null,"X",null,0,0,null,"X",null,0,0,null,"X",null,0,0,null,"X",null,0,0,null,"X",null,0,0,null,"X",null,0,0,null,"X",null,0,0,null,"X",null,0,0,null,"X",null,0,0,null,"X",null,0,0,null,"X",null,0,0,null,"X",null,0,0]
[null,null,null,null,null,null,null,null,null,null,null,null,null,25,{"$f":"T20","v":403},137,null,null,null,null,null,null,null,null,null,null,null,null,null,null,null,null,null,null,null,null,null,null,{"$f":"GW9","v":"L'oracle della luna"},2517,854,null,"Y","Y",null,0,0,3,"Y",null,0,0,null,"Y",null,0,0,null,"Y",null,0,0,null,"Y",null,0,0,null,"Y",null,0,0,null,"Y",null,0,0,null,"Y",null,0,0,null,"Y",null,0,0,null,"Y",null,0,0,null,"Y",null,0,0,null,"Y",null,0,0,null,"Y",null,0,0,null,"Y",null,0,0,null,"Y",null,0,0,null,"Y",null,0,0,null,"Y",null,0,0,null,"Y",null,0,0,null,"Y",null,0,0,null,"Y",null,0,0,null,"Y",null,0,0,null,"Y",null,0,0,null,"Y",null,0,0,null,"Y",null,0,0,null,"Y",null,0,0,null,"Y",null,0,0,null,"Y",null,0,0,null,"Y",null,0,0,null,"Y",null,0,0,null,"Y",null,0,0,null,"Y",null,0,0,null,"Y",null,0,0,null,"Y",null,0,0,null,"Y",null,0,0,null,"Y",null,0,0,null,"Y",null,0,0]
[null,null,null,null,null,null,null,null,null,null,null,null,null,26,{"$f":"T21","v":370},159,null,null,null,null,null,null,null,null,null,null,null,null,null,null,null,null,null,null,null,null,null,null,{"$f":"HB9","v":"Parcours 8SIVIOLET"},2521.3955078125,1145.0328369140625,null,"Z","Z",null,0,0,3,"Z",23,493,119.00007629394531,3,"Z",null,0,0,null,"Z",null,0,0,null,"Z",null,0,0,null,"Z",null,0,0,null,"Z",null,0,0,null,"Z",null,0,0,null,"Z",null,0,0,null,"Z",null,0,0,null,"Z",null,0,0,null,"Z",null,0,0,null,"Z",null,0,0,null,"Z",null,0,0,null,"Z",null,0,0,null,"Z",null,0,0,null,"Z",null,0,0,null,"Z",null,0,0,null,"Z",null,0,0,null,"Z",null,0,0,null,"Z",null,0,0,null,"Z",null,0,0,null,"Z",null,0,0,null,"Z",null,0,0,null,"Z",null,0,0,null,"Z",null,0,0,null,"Z",null,0,0,null,"Z",null,0,0,null,"Z",null,0,0,null,"Z",null,0,0,null,"Z",null,0,0,null,"Z",null,0,0,null,"Z",null,0,0,null,"Z",null,0,0,null,"Z",null,0,0,null,"Z",null,0,0]
[null,null,{"$f":"CONCATENATE(A4,\"bis\")","v":"ORANGEbis"},null,null,null,null,null,null,null,null,null,null,27,{"$f":"T22","v":327},183.00009155273438,null,null,null,null,null,null,null,null,null,null,null,null,null,null,null,null,null,null,null,null,null,null,{"$f":"HG9","v":"Parcours 7SIVERT"}]
[null,"A",{"$f":"INDEX(baliseCM,MATCH(B39,lettre,0),MATCH($C$38,parcours,0))","v":{"$error":"#N/A"}},{"$f":"IF(C39=0,0,VLOOKUP(C39,$N$12:$P$101,2,FALSE))","v":{"$error":"#N/A"}},{"$f":"IF(C39=0,0,VLOOKUP(C39,$N$12:$P$101,3,FALSE))","v":{"$error":"#N/A"}},null,null,null,null,null,null,null,null,28,{"$f":"T23","v":325},168.00007629394531,null,null,null,null,null,null,null,null,null,null,null,null,null,null,null,null,null,null,null,null,null,null,{"$f":"HL9","v":"Parcours 9SIBLEU"}]
[null,"B",{"$error":"#N/A"},{"$f":"IF(C40=0,0,VLOOKUP(C40,$N$12:$P$101,2,FALSE))","v":{"$error":"#N/A"}},{"$f":"IF(C40=0,0,VLOOKUP(C40,$N$12:$P$101,3,FALSE))","v":{"$error":"#N/A"}},null,null,null,null,null,null,null,null,29,{"$f":"T24","v":289},184.00009155273438]
[null,"C",{"$error":"#N/A"},{"$error":"#N/A"},{"$error":"#N/A"},null,null,null,null,null,null,null,null,30,{"$f":"T25","v":296},169]
[null,"D",{"$error":"#N/A"},{"$error":"#N/A"},{"$error":"#N/A"},null,null,null,null,null,null,null,null,31,{"$f":"T26","v":251},170.00009155273438]
[null,"E",{"$error":"#N/A"},{"$error":"#N/A"},{"$error":"#N/A"},null,null,null,null,null,null,null,null,32,{"$f":"T27","v":227},181]
[null,"F",{"$error":"#N/A"},{"$error":"#N/A"},{"$error":"#N/A"},null,null,null,null,null,null,null,null,33,{"$f":"Y12","v":236},{"$f":"Z12","v":165}]
[null,"G",{"$error":"#N/A"},{"$error":"#N/A"},{"$error":"#N/A"},null,null,null,null,null,null,null,null,34,{"$f":"Y13","v":223},160]
[null,"H",{"$error":"#N/A"},{"$error":"#N/A"},{"$error":"#N/A"},null,null,null,null,null,null,null,null,35,{"$f":"Y14","v":210},160.00007629394531]
[null,"I",{"$error":"#N/A"},{"$error":"#N/A"},{"$error":"#N/A"},null,null,null,null,null,null,null,null,36,{"$f":"Y15","v":165},182.00009155273438]
[null,"J",{"$error":"#N/A"},{"$error":"#N/A"},{"$error":"#N/A"},null,null,null,null,null,null,null,null,37,{"$f":"Y16","v":218},205]
[null,"K",{"$error":"#N/A"},{"$error":"#N/A"},{"$error":"#N/A"},null,null,null,null,null,null,null,null,38,{"$f":"Y17","v":234},207]
[null,"L",{"$error":"#N/A"},{"$error":"#N/A"},{"$error":"#N/A"},null,null,null,null,null,null,null,null,39,{"$f":"Y18","v":255},206.00009155273438]
[null,"M",{"$error":"#N/A"},{"$error":"#N/A"},{"$error":"#N/A"},null,null,null,null,null,null,null,null,40,{"$f":"Y19","v":276},207.00009155273438]
[null,"N",{"$error":"#N/A"},{"$error":"#N/A"},{"$error":"#N/A"},null,null,null,null,null,null,null,null,41,{"$f":"Y20","v":322},207]
[null,"O",{"$error":"#N/A"},{"$error":"#N/A"},{"$error":"#N/A"},null,null,null,null,null,null,null,null,42,{"$f":"Y21","v":274},223]
[null,"P",{"$error":"#N/A"},{"$error":"#N/A"},{"$error":"#N/A"},null,null,null,null,null,null,null,null,43,{"$f":"Y22","v":271},240]
[null,"Q",{"$error":"#N/A"},{"$error":"#N/A"},{"$error":"#N/A"},null,null,null,null,null,null,null,null,44,{"$f":"Y23","v":224},237.00009155273438]
[null,"R",{"$error":"#N/A"},{"$error":"#N/A"},{"$error":"#N/A"},null,null,null,null,null,null,null,null,45,{"$f":"Y24","v":236},253.00009155273438]
[null,"S",{"$error":"#N/A"},{"$error":"#N/A"},{"$error":"#N/A"},null,null,null,null,null,null,null,null,46,{"$f":"Y25","v":265},267]
[null,"T",{"$error":"#N/A"},{"$error":"#N/A"},{"$error":"#N/A"},null,null,null,null,null,null,null,null,47,{"$f":"Y26","v":310},263]
[null,"U",{"$error":"#N/A"},{"$error":"#N/A"},{"$error":"#N/A"},null,null,null,null,null,null,null,null,48,{"$f":"Y27","v":238},{"$f":"Z27","v":278.00009155273438}]
[null,"V",{"$error":"#N/A"},{"$error":"#N/A"},{"$error":"#N/A"},null,null,null,null,null,null,null,null,49,{"$f":"AD12","v":220},{"$f":"AE12","v":299}]
[null,"W",{"$error":"#N/A"},{"$error":"#N/A"},{"$error":"#N/A"},null,null,null,null,null,null,null,null,50,{"$f":"AD13","v":238},329]
[null,"X",{"$error":"#N/A"},{"$error":"#N/A"},{"$error":"#N/A"},null,null,null,null,null,null,null,null,51,{"$f":"AD14","v":274},293]
[null,"Y",{"$error":"#N/A"},{"$error":"#N/A"},{"$error":"#N/A"},null,null,null,null,null,null,null,null,52,{"$f":"AD15","v":268},315]
[null,"Z",{"$error":"#N/A"},{"$error":"#N/A"},{"$error":"#N/A"},null,null,null,null,null,null,null,null,53,{"$f":"AD16","v":295},314]
[null,null,null,null,null,null,null,null,null,null,null,null,null,54,{"$f":"AD17","v":334},289]
[null,null,null,null,null,null,null,null,null,null,null,null,null,55,{"$f":"AD18","v":436},279.00009155273438]
[null,null,null,null,null,null,null,null,null,null,null,null,null,56,{"$f":"AD19","v":396},303.00009155273438]
[null,null,null,null,null,null,null,null,null,null,null,null,null,57,{"$f":"AD20","v":336},326]
[null,null,null,null,null,null,null,null,null,null,null,null,null,58,{"$f":"AD21","v":320},340]
[null,null,null,null,null,null,null,null,null,null,null,null,null,59,{"$f":"AD22","v":318},355]
[null,null,null,null,null,null,null,null,null,null,null,null,null,60,{"$f":"AD23","v":274},{"$f":"AE23","v":355.00009155273438}]
[null,null,null,null,null,null,null,null,null,null,null,null,null,61,{"$f":"AD24","v":383},{"$f":"AE24","v":349.00009155273438}]
[null,null,null,null,null,null,null,null,null,null,null,null,null,62,484,302]
[null,null,null,null,null,null,null,null,null,null,null,null,null,63,385,434]
[null,null,null,null,null,null,null,null,null,null,null,null,null,64,333,394.00009155273438]
[null,null,null,null,null,null,null,null,null,null,null,null,null,65,{"$f":"AI12","v":350},{"$f":"AJ12","v":447}]
[null,null,null,null,null,null,null,null,null,null,null,null,null,66,{"$f":"AI13","v":366},461.99993896484375]
[null,null,null,null,null,null,null,null,null,null,null,null,null,67,{"$f":"AI14","v":330},462]
[null,null,null,null,null,null,null,null,null,null,null,null,null,68,{"$f":"AI15","v":298},492.00006103515625]
[null,null,null,null,null,null,null,null,null,null,null,null,null,69,{"$f":"AI16","v":299.89730834960938},433.20513916015625]
[null,null,null,null,null,null,null,null,null,null,null,null,null,70,{"$f":"AI17","v":258},415]
[null,null,null,null,null,null,null,null,null,null,null,null,null,71,{"$f":"AI18","v":240},419.99990844726562]
[null,null,null,null,null,null,null,null,null,null,null,null,null,72,{"$f":"AI19","v":226},434.00006103515625]
[null,null,null,null,null,null,null,null,null,null,null,null,null,73,{"$f":"AI20","v":202},450.00006103515625]
[null,null,null,null,null,null,null,null,null,null,null,null,null,74,{"$f":"AI21","v":113.92307281494141},290.28213500976562]
[null,null,null,null,null,null,null,null,null,null,null,null,null,75,{"$f":"AI22","v":111},356]
[null,null,null,null,null,null,null,null,null,null,null,null,null,76,{"$f":"AI23","v":172},420]
[null,null,null,null,null,null,null,null,null,null,null,null,null,"D",{"$f":"O11","v":156.41653442382812},{"$f":"P11","v":184.20828247070312}]

{"sheet":"MESCARTES","index":2,"n_rows":0,"n_cols":0,"rows_kept":0,"cut":false,"hidden":false,"merged":[]}

{"sheet":"CORRECTEUR","index":3,"n_rows":4,"n_cols":14,"rows_kept":4,"cut":false,"hidden":false,"merged":[[75,4,75,5],[75,8,75,9],[75,10,75,11],[75,12,75,14],[75,19,79,19],[82,4,82,5],[82,8,82,9],[82,10,82,11],[82,12,82,14],[82,19,86,19],[61,4,61,5],[61,8,61,9],[61,10,61,11],[61,12,61,14],[61,19,65,19],[68,4,68,5],[68,8,68,9],[68,10,68,11],[68,12,68,14],[68,19,72,19],[47,4,47,5],[47,8,47,9],[47,10,47,11],[47,12,47,14],[47,19,51,19],[54,4,54,5],[54,8,54,9],[54,10,54,11],[54,12,54,14],[54,19,58,19],[33,4,33,5],[33,8,33,9],[33,10,33,11],[33,12,33,14],[33,19,37,19],[40,4,40,5],[40,8,40,9],[40,10,40,11],[40,12,40,14],[40,19,44,19],[19,4,19,5],[19,8,19,9],[19,10,19,11],[19,12,19,14],[19,19,23,19],[26,4,26,5],[26,8,26,9],[26,10,26,11],[26,12,26,14],[26,19,30,19],[5,12,5,14],[5,19,9,19],[12,4,12,5],[12,8,12,9],[12,10,12,11],[12,12,12,14],[12,19,16,19],[5,10,5,11],[0,7,0,9],[1,4,1,5],[1,7,1,9],[5,4,5,5],[5,8,5,9]]}
[null,null,null,null,null,null,null,{"$f":"CONCATENATE(H2,\"bis\")","v":"6BLUEbis"}]
[null,null,null,null,"22:20:00",null,null,"6BLUE",null,null,null,null,30.024305555555557]
[null,null,null,null,{"$f":"IF(ISTEXT($H2),HLOOKUP($H2,DEBUT!$O$3:$XX$100,3,FALSE),\"\")","v":"A"},{"$f":"IF(ISTEXT($H2),HLOOKUP($H2,DEBUT!$O$3:$XX$100,4,FALSE),\"\")","v":"B"},{"$f":"IF(ISTEXT($H2),HLOOKUP($H2,DEBUT!$O$3:$XX$100,5,FALSE),\"\")","v":"C"},{"$f":"IF(ISTEXT($H2),HLOOKUP($H2,DEBUT!$O$3:$XX$100,6,FALSE),\"\")","v":"D"},{"$f":"IF(ISTEXT($H2),HLOOKUP($H2,DEBUT!$O$3:$XX$100,7,FALSE),\"\")","v":"E"},{"$f":"IF(ISTEXT($H2),HLOOKUP($H2,DEBUT!$O$3:$XX$100,8,FALSE),\"\")","v":"F"},{"$f":"IF(ISTEXT($H2),HLOOKUP($H2,DEBUT!$O$3:$XX$100,9,FALSE),\"\")","v":0},{"$f":"IF(ISTEXT($H2),HLOOKUP($H2,DEBUT!$O$3:$XX$100,10,FALSE),\"\")","v":0},{"$f":"IF(ISTEXT($H2),HLOOKUP($H2,DEBUT!$O$3:$XX$100,11,FALSE),\"\")","v":0},{"$f":"IF(ISTEXT($H2),HLOOKUP($H2,DEBUT!$O$3:$XX$100,12,FALSE),\"\")","v":0}]
[null,null,null,null,{"$f":"IFERROR(INDEX(baliseCM,MATCH(E3,lettre,0),MATCH($H$1,parcours,0)),\"\")","v":7},10,11,1,76,46,"","","",""]

{"sheet":"CCF","index":4,"n_rows":88,"n_cols":39,"rows_kept":88,"cut":false,"hidden":false,"merged":[[5,19,9,19],[5,12,5,14],[0,7,0,9],[1,4,1,5],[1,7,1,9],[5,4,5,5],[5,8,5,9],[5,10,5,11],[12,4,12,5],[12,8,12,9],[12,10,12,11],[12,12,12,14],[12,19,16,19],[19,4,19,5],[19,8,19,9],[19,10,19,11],[19,12,19,14],[19,19,23,19],[26,4,26,5],[26,8,26,9],[26,10,26,11],[26,12,26,14],[26,19,30,19],[33,4,33,5],[33,8,33,9],[33,10,33,11],[33,12,33,14],[33,19,37,19],[40,4,40,5],[40,8,40,9],[40,10,40,11],[40,12,40,14],[40,19,44,19],[47,4,47,5],[47,8,47,9],[47,10,47,11],[47,12,47,14],[47,19,51,19],[54,4,54,5],[54,8,54,9],[54,10,54,11],[54,12,54,14],[54,19,58,19],[61,4,61,5],[61,8,61,9],[61,10,61,11],[61,12,61,14],[61,19,65,19],[68,4,68,5],[68,8,68,9],[68,10,68,11],[68,12,68,14],[68,19,72,19],[75,4,75,5],[75,8,75,9],[75,10,75,11],[75,12,75,14],[75,19,79,19],[82,4,82,5],[82,8,82,9],[82,10,82,11],[82,12,82,14],[82,19,86,19]]}
[null,null,null,null,null,null,null,{"$f":"CONCATENATE(H2,\"bis\")","v":"6BLUEbis"},null,null,null,null,"Temps limite"]
[null,"STAGE",null,null,"22:20:00",null,null,"6BLUE",null,null,null,null,30.024305555555557,"min"]
[null,null,null,null,{"$f":"IF(ISTEXT($H2),HLOOKUP($H2,DEBUT!$O$3:$XX$100,3,FALSE),\"\")","v":"A"},{"$f":"IF(ISTEXT($H2),HLOOKUP($H2,DEBUT!$O$3:$XX$100,4,FALSE),\"\")","v":"B"},{"$f":"IF(ISTEXT($H2),HLOOKUP($H2,DEBUT!$O$3:$XX$100,5,FALSE),\"\")","v":"C"},{"$f":"IF(ISTEXT($H2),HLOOKUP($H2,DEBUT!$O$3:$XX$100,6,FALSE),\"\")","v":"D"},{"$f":"IF(ISTEXT($H2),HLOOKUP($H2,DEBUT!$O$3:$XX$100,7,FALSE),\"\")","v":"E"},{"$f":"IF(ISTEXT($H2),HLOOKUP($H2,DEBUT!$O$3:$XX$100,8,FALSE),\"\")","v":"F"},{"$f":"IF(ISTEXT($H2),HLOOKUP($H2,DEBUT!$O$3:$XX$100,9,FALSE),\"\")","v":0},{"$f":"IF(ISTEXT($H2),HLOOKUP($H2,DEBUT!$O$3:$XX$100,10,FALSE),\"\")","v":0},{"$f":"IF(ISTEXT($H2),HLOOKUP($H2,DEBUT!$O$3:$XX$100,11,FALSE),\"\")","v":0},{"$f":"IF(ISTEXT($H2),HLOOKUP($H2,DEBUT!$O$3:$XX$100,12,FALSE),\"\")","v":0}]
[null,null,null,null,{"$f":"IFERROR(INDEX(baliseCM,MATCH(E3,lettre,0),MATCH($H$1,parcours,0)),\"\")","v":7},10,11,1,76,46,"","","","",null,"CCF","N3"]
[null,"EQUIPE 1",null,null,null,null,null,null,null,null,null,null,null,{"$f":"(HOUR(M6)*3600+MINUTE(M6)*60+SECOND(M6))-(HOUR($M$2)*3600+MINUTE($M$2)*60+SECOND($M$2))","v":-1466},null,null,null,null,null,"Analyse du parcours",null,null,null,null,null,null,null,null,null,null,null,null,null,null,null,null,null,1,{"$f":"OFFSET(INDEX(eleves,MATCH(AL5,chiffre,0),MATCH($B$2,classes,0)),0,1)","v":"POL"}]
[null,"CORALINE",null,{"$f":"CONCATENATE(D7,\"bis\")","v":"6BLUEbis"},"15:22:53",null,null,null,"15:33:27",null,"Durée :",null,{"$f":"I6-E6","v":"00:10:34"},null,null,"Vitesse de course",{"$f":"IF(AND(N5<0,Q10=8),HLOOKUP(N5,REFERENTIELS!$E$33:$I$34,2,TRUE),IF(AND(N5<=0,Q10<>8),2,HLOOKUP(N5,REFERENTIELS!$I$33:$L$34,2,TRUE)))","v":2},"/ 6",null,null,null,null,null,null,null,null,null,null,null,null,null,null,null,null,null,null,null,2,"CARINE"]
[null,"GREGORY",null,{"$f":"$H$2","v":"6BLUE"},{"$f":"SQRT(POWER((VLOOKUP(E9,DEBUT!$D$5:$J$110,6,FALSE)-VLOOKUP(F9,DEBUT!$D$5:$J$110,6,FALSE)),2)+POWER((VLOOKUP(E9,DEBUT!$D$5:$J$110,7,FALSE)-VLOOKUP(F9,DEBUT!$D$5:$J$110,7,FALSE)),2))/CARTE!$O$9","v":{"$error":"#N/A"}},{"$f":"SQRT(POWER((VLOOKUP(F9,DEBUT!$D$5:$J$110,6,FALSE)-VLOOKUP(G9,DEBUT!$D$5:$J$110,6,FALSE)),2)+POWER((VLOOKUP(F9,DEBUT!$D$5:$J$110,7,FALSE)-VLOOKUP(G9,DEBUT!$D$5:$J$110,7,FALSE)),2))/CARTE!$O$9","v":{"$error":"#N/A"}},{"$f":"SQRT(POWER((VLOOKUP(G9,DEBUT!$D$5:$J$110,6,FALSE)-VLOOKUP(H9,DEBUT!$D$5:$J$110,6,FALSE)),2)+POWER((VLOOKUP(G9,DEBUT!$D$5:$J$110,7,FALSE)-VLOOKUP(H9,DEBUT!$D$5:$J$110,7,FALSE)),2))/CARTE!$O$9","v":{"$error":"#N/A"}},{"$f":"SQRT(POWER((VLOOKUP(H9,DEBUT!$D$5:$J$110,6,FALSE)-VLOOKUP(I9,DEBUT!$D$5:$J$110,6,FALSE)),2)+POWER((VLOOKUP(H9,DEBUT!$D$5:$J$110,7,FALSE)-VLOOKUP(I9,DEBUT!$D$5:$J$110,7,FALSE)),2))/CARTE!$O$9","v":{"$error":"#N/A"}},{"$f":"SQRT(POWER((VLOOKUP(I9,DEBUT!$D$5:$J$110,6,FALSE)-VLOOKUP(J9,DEBUT!$D$5:$J$110,6,FALSE)),2)+POWER((VLOOKUP(I9,DEBUT!$D$5:$J$110,7,FALSE)-VLOOKUP(J9,DEBUT!$D$5:$J$110,7,FALSE)),2))/CARTE!$O$9","v":{"$error":"#N/A"}},{"$f":"SQRT(POWER((VLOOKUP(J9,DEBUT!$D$5:$J$110,6,FALSE)-VLOOKUP(K9,DEBUT!$D$5:$J$110,6,FALSE)),2)+POWER((VLOOKUP(J9,DEBUT!$D$5:$J$110,7,FALSE)-VLOOKUP(K9,DEBUT!$D$5:$J$110,7,FALSE)),2))/CARTE!$O$9","v":{"$error":"#N/A"}},{"$f":"SQRT(POWER((VLOOKUP(K9,DEBUT!$D$5:$J$110,6,FALSE)-VLOOKUP(L9,DEBUT!$D$5:$J$110,6,FALSE)),2)+POWER((VLOOKUP(K9,DEBUT!$D$5:$J$110,7,FALSE)-VLOOKUP(L9,DEBUT!$D$5:$J$110,7,FALSE)),2))/CARTE!$O$9","v":{"$error":"#N/A"}},{"$f":"SQRT(POWER((VLOOKUP(L9,DEBUT!$D$5:$J$110,6,FALSE)-VLOOKUP(M9,DEBUT!$D$5:$J$110,6,FALSE)),2)+POWER((VLOOKUP(L9,DEBUT!$D$5:$J$110,7,FALSE)-VLOOKUP(M9,DEBUT!$D$5:$J$110,7,FALSE)),2))/CARTE!$O$9","v":{"$error":"#N/A"}},{"$f":"SQRT(POWER((VLOOKUP(M9,DEBUT!$D$5:$J$110,6,FALSE)-VLOOKUP(N9,DEBUT!$D$5:$J$110,6,FALSE)),2)+POWER((VLOOKUP(M9,DEBUT!$D$5:$J$110,7,FALSE)-VLOOKUP(N9,DEBUT!$D$5:$J$110,7,FALSE)),2))/CARTE!$O$9","v":{"$error":"#N/A"}},{"$f":"SQRT(POWER((VLOOKUP(N9,DEBUT!$D$5:$J$110,6,FALSE)-VLOOKUP(O9,DEBUT!$D$5:$J$110,6,FALSE)),2)+POWER((VLOOKUP(N9,DEBUT!$D$5:$J$110,7,FALSE)-VLOOKUP(O9,DEBUT!$D$5:$J$110,7,FALSE)),2))/CARTE!$O$9","v":{"$error":"#N/A"}},null,"Analyse",null,"/ 2",null,null,null,null,null,null,null,null,null,null,null,null,null,null,null,null,null,null,null,3,"BASTIEN"]
[null,"QUENTIN",null,"Balises prévues",{"$f":"IF(ISTEXT($D7),HLOOKUP($D7,DEBUT!$O$3:$XX$100,3,FALSE),\"\")","v":"A"},{"$f":"IF(ISTEXT($D7),HLOOKUP($D7,DEBUT!$O$3:$XX$100,4,FALSE),\"\")","v":"B"},{"$f":"IF(ISTEXT($D7),HLOOKUP($D7,DEBUT!$O$3:$XX$100,5,FALSE),\"\")","v":"C"},{"$f":"IF(ISTEXT($D7),HLOOKUP($D7,DEBUT!$O$3:$XX$100,6,FALSE),\"\")","v":"D"},{"$f":"IF(ISTEXT($D7),HLOOKUP($D7,DEBUT!$O$3:$XX$100,7,FALSE),\"\")","v":"E"},{"$f":"IF(ISTEXT($D7),HLOOKUP($D7,DEBUT!$O$3:$XX$100,8,FALSE),\"\")","v":"F"},{"$f":"IF(ISTEXT($D7),HLOOKUP($D7,DEBUT!$O$3:$XX$100,9,FALSE),\"\")","v":0},{"$f":"IF(ISTEXT($D7),HLOOKUP($D7,DEBUT!$O$3:$XX$100,10,FALSE),\"\")","v":0},{"$f":"IF(ISTEXT($D7),HLOOKUP($D7,DEBUT!$O$3:$XX$100,11,FALSE),\"\")","v":0},{"$f":"IF(ISTEXT($D7),HLOOKUP($D7,DEBUT!$O$3:$XX$100,12,FALSE),\"\")","v":0},null,"Carton contrôle",1,"/ 2",null,null,null,null,null,null,null,null,null,null,null,null,null,null,null,null,null,null,null,4,"CORALINE"]
[null,"ANDY",null,"En course",{"$f":"IF($D9=DEBUT!$L$5,E10,\"\")","v":""},{"$f":"IF($D9=DEBUT!$L$5,F10,\"\")","v":""},{"$f":"IF($D9=DEBUT!$L$5,G10,\"\")","v":""},{"$f":"IF($D9=DEBUT!$L$5,H10,\"\")","v":""},{"$f":"IF($D9=DEBUT!$L$5,I10,\"\")","v":""},{"$f":"IF($D9=DEBUT!$L$5,J10,\"\")","v":""},{"$f":"IF($D9=DEBUT!$L$5,K10,\"\")","v":""},{"$f":"IF($D9=DEBUT!$L$5,L10,\"\")","v":""},{"$f":"IF($D9=DEBUT!$L$5,M10,\"\")","v":""},{"$f":"IF($D9=DEBUT!$L$5,N10,\"\")","v":""},null,"Conduite itinéraire",{"$f":"IF($Q$4=DEBUT!$K$6,HLOOKUP(Q10,REFERENTIELS!$E$7:$M$8,2,TRUE)+COUNTIF(E11:N11,2)*0.5,HLOOKUP(Q10,REFERENTIELS!$E$7:$M$8,2,TRUE)+COUNTIF(E11:N11,3)*0.5)","v":0},"/ 10",null,null,null,null,null,null,null,null,null,null,null,null,null,null,null,null,null,null,null,5,"GREGORY"]
[null,null,null,"Balises CM",{"$f":"IFERROR(INDEX(baliseCM,MATCH(E8,lettre,0),MATCH($D6,parcours,0)),\"\")","v":7},{"$f":"IFERROR(INDEX(baliseCM,MATCH(F8,lettre,0),MATCH($D6,parcours,0)),\"\")","v":10},11,1,76,46,"","","","",null,"Nombre balises justes",{"$f":"COUNTIF(E11:N11,\">0\")","v":0},{"$f":"IF(Q10>1,\"trouvées\",\"trouvée\")","v":"trouvée"},null,null,null,null,null,null,null,null,null,null,null,null,null,null,null,null,null,null,null,6,"THOMAS"]
[null,null,null,"Points",{"$f":"IF(E10=E9,IFERROR(INDEX(baliseCM,MATCH(E8,lettre,0),MATCH($U11,parcours,0)),\"\"),\"\")","v":""},"","","","","","","","","",null,"Note",{"$f":"Q6+Q7+Q8+Q9","v":3},"/20",null,null,{"$f":"CONCATENATE(D7,\"points\")","v":"6BLUEpoints"},null,null,null,null,null,null,null,null,null,null,null,null,null,null,null,null,7,"ALAIN"]
[null,"EQUIPE 2",null,null,null,null,null,null,null,null,null,null,null,{"$f":"(HOUR(M13)*3600+MINUTE(M13)*60+SECOND(M13))-(HOUR($M$2)*3600+MINUTE($M$2)*60+SECOND($M$2))","v":{"$error":"#NUM!"}},null,null,null,null,null,"Analyse du parcours",null,null,null,null,null,null,null,null,null,null,null,null,null,null,null,null,null,8,"QUENTIN"]
[null,null,null,{"$f":"CONCATENATE(D14,\"bis\")","v":"6BLUEbis"},{"$f":"$E$2","v":"22:20:00"},null,null,null,"11:40:29",null,"Durée :",null,{"$f":"I13-E13","v":-0.44410879629629624},null,null,"Vitesse de course",{"$f":"IF(AND(N12<0,Q17=8),HLOOKUP(N12,REFERENTIELS!$E$33:$I$34,2,TRUE),IF(AND(N12<=0,Q17<>8),2,HLOOKUP(N12,REFERENTIELS!$I$33:$L$34,2,TRUE)))","v":{"$error":"#NUM!"}},"/ 6",null,null,null,null,null,null,null,null,null,null,null,null,null,null,null,null,null,null,null,9,"BAPTISTE"]
[null,null,null,{"$f":"$H$2","v":"6BLUE"},{"$f":"SQRT(POWER((VLOOKUP(E16,DEBUT!$D$5:$J$110,6,FALSE)-VLOOKUP(F16,DEBUT!$D$5:$J$110,6,FALSE)),2)+POWER((VLOOKUP(E16,DEBUT!$D$5:$J$110,7,FALSE)-VLOOKUP(F16,DEBUT!$D$5:$J$110,7,FALSE)),2))/CARTE!$O$9","v":{"$error":"#N/A"}},{"$f":"SQRT(POWER((VLOOKUP(F16,DEBUT!$D$5:$J$110,6,FALSE)-VLOOKUP(G16,DEBUT!$D$5:$J$110,6,FALSE)),2)+POWER((VLOOKUP(F16,DEBUT!$D$5:$J$110,7,FALSE)-VLOOKUP(G16,DEBUT!$D$5:$J$110,7,FALSE)),2))/CARTE!$O$9","v":{"$error":"#N/A"}},{"$f":"SQRT(POWER((VLOOKUP(G16,DEBUT!$D$5:$J$110,6,FALSE)-VLOOKUP(H16,DEBUT!$D$5:$J$110,6,FALSE)),2)+POWER((VLOOKUP(G16,DEBUT!$D$5:$J$110,7,FALSE)-VLOOKUP(H16,DEBUT!$D$5:$J$110,7,FALSE)),2))/CARTE!$O$9","v":{"$error":"#N/A"}},{"$f":"SQRT(POWER((VLOOKUP(H16,DEBUT!$D$5:$J$110,6,FALSE)-VLOOKUP(I16,DEBUT!$D$5:$J$110,6,FALSE)),2)+POWER((VLOOKUP(H16,DEBUT!$D$5:$J$110,7,FALSE)-VLOOKUP(I16,DEBUT!$D$5:$J$110,7,FALSE)),2))/CARTE!$O$9","v":{"$error":"#N/A"}},{"$f":"SQRT(POWER((VLOOKUP(I16,DEBUT!$D$5:$J$110,6,FALSE)-VLOOKUP(J16,DEBUT!$D$5:$J$110,6,FALSE)),2)+POWER((VLOOKUP(I16,DEBUT!$D$5:$J$110,7,FALSE)-VLOOKUP(J16,DEBUT!$D$5:$J$110,7,FALSE)),2))/CARTE!$O$9","v":{"$error":"#N/A"}},{"$f":"SQRT(POWER((VLOOKUP(J16,DEBUT!$D$5:$J$110,6,FALSE)-VLOOKUP(K16,DEBUT!$D$5:$J$110,6,FALSE)),2)+POWER((VLOOKUP(J16,DEBUT!$D$5:$J$110,7,FALSE)-VLOOKUP(K16,DEBUT!$D$5:$J$110,7,FALSE)),2))/CARTE!$O$9","v":{"$error":"#N/A"}},{"$f":"SQRT(POWER((VLOOKUP(K16,DEBUT!$D$5:$J$110,6,FALSE)-VLOOKUP(L16,DEBUT!$D$5:$J$110,6,FALSE)),2)+POWER((VLOOKUP(K16,DEBUT!$D$5:$J$110,7,FALSE)-VLOOKUP(L16,DEBUT!$D$5:$J$110,7,FALSE)),2))/CARTE!$O$9","v":{"$error":"#N/A"}},{"$f":"SQRT(POWER((VLOOKUP(L16,DEBUT!$D$5:$J$110,6,FALSE)-VLOOKUP(M16,DEBUT!$D$5:$J$110,6,FALSE)),2)+POWER((VLOOKUP(L16,DEBUT!$D$5:$J$110,7,FALSE)-VLOOKUP(M16,DEBUT!$D$5:$J$110,7,FALSE)),2))/CARTE!$O$9","v":{"$error":"#N/A"}},{"$f":"SQRT(POWER((VLOOKUP(M16,DEBUT!$D$5:$J$110,6,FALSE)-VLOOKUP(N16,DEBUT!$D$5:$J$110,6,FALSE)),2)+POWER((VLOOKUP(M16,DEBUT!$D$5:$J$110,7,FALSE)-VLOOKUP(N16,DEBUT!$D$5:$J$110,7,FALSE)),2))/CARTE!$O$9","v":{"$error":"#N/A"}},{"$f":"SQRT(POWER((VLOOKUP(N16,DEBUT!$D$5:$J$110,6,FALSE)-VLOOKUP(O16,DEBUT!$D$5:$J$110,6,FALSE)),2)+POWER((VLOOKUP(N16,DEBUT!$D$5:$J$110,7,FALSE)-VLOOKUP(O16,DEBUT!$D$5:$J$110,7,FALSE)),2))/CARTE!$O$9","v":{"$error":"#N/A"}},null,"Analyse",null,"/ 2",null,null,null,null,null,null,null,null,null,null,null,null,null,null,null,null,null,null,null,10,"FRANCK"]
[null,null,null,"Balises prévues",{"$f":"IF(ISTEXT($D14),HLOOKUP($D14,DEBUT!$O$3:$XX$100,3,FALSE),\"\")","v":"A"},{"$f":"IF(ISTEXT($D14),HLOOKUP($D14,DEBUT!$O$3:$XX$100,4,FALSE),\"\")","v":"B"},{"$f":"IF(ISTEXT($D14),HLOOKUP($D14,DEBUT!$O$3:$XX$100,5,FALSE),\"\")","v":"C"},{"$f":"IF(ISTEXT($D14),HLOOKUP($D14,DEBUT!$O$3:$XX$100,6,FALSE),\"\")","v":"D"},{"$f":"IF(ISTEXT($D14),HLOOKUP($D14,DEBUT!$O$3:$XX$100,7,FALSE),\"\")","v":"E"},{"$f":"IF(ISTEXT($D14),HLOOKUP($D14,DEBUT!$O$3:$XX$100,8,FALSE),\"\")","v":"F"},{"$f":"IF(ISTEXT($D14),HLOOKUP($D14,DEBUT!$O$3:$XX$100,9,FALSE),\"\")","v":0},{"$f":"IF(ISTEXT($D14),HLOOKUP($D14,DEBUT!$O$3:$XX$100,10,FALSE),\"\")","v":0},{"$f":"IF(ISTEXT($D14),HLOOKUP($D14,DEBUT!$O$3:$XX$100,11,FALSE),\"\")","v":0},{"$f":"IF(ISTEXT($D14),HLOOKUP($D14,DEBUT!$O$3:$XX$100,12,FALSE),\"\")","v":0},2,"Carton contrôle",1,"/ 2",null,null,null,null,null,null,null,null,null,null,null,null,null,null,null,null,null,null,null,11,"VALENTIN"]
[null,null,null,"En course",{"$f":"IF($D16=DEBUT!$L$5,E17,\"\")","v":""},{"$f":"IF($D16=DEBUT!$L$5,F17,\"\")","v":""},{"$f":"IF($D16=DEBUT!$L$5,G17,\"\")","v":""},{"$f":"IF($D16=DEBUT!$L$5,H17,\"\")","v":""},{"$f":"IF($D16=DEBUT!$L$5,I17,\"\")","v":""},{"$f":"IF($D16=DEBUT!$L$5,J17,\"\")","v":""},{"$f":"IF($D16=DEBUT!$L$5,K17,\"\")","v":""},{"$f":"IF($D16=DEBUT!$L$5,L17,\"\")","v":""},{"$f":"IF($D16=DEBUT!$L$5,M17,\"\")","v":""},{"$f":"IF($D16=DEBUT!$L$5,N17,\"\")","v":""},null,"Conduite itinéraire",{"$f":"IF($Q$4=DEBUT!$K$6,HLOOKUP(Q17,REFERENTIELS!$E$7:$M$8,2,TRUE)+COUNTIF(E18:N18,2)*0.5,HLOOKUP(Q17,REFERENTIELS!$E$7:$M$8,2,TRUE)+COUNTIF(E18:N18,3)*0.5)","v":0},"/ 10",null,null,null,null,null,null,null,null,null,null,null,null,null,null,null,null,null,null,null,12,"BENJAMIN"]
[null,null,null,"Balises CM",{"$f":"IFERROR(INDEX(baliseCM,MATCH(E15,lettre,0),MATCH($D13,parcours,0)),\"\")","v":7},{"$f":"IFERROR(INDEX(baliseCM,MATCH(F15,lettre,0),MATCH($D13,parcours,0)),\"\")","v":10},11,1,76,46,"","","","",null,"Nombre balises justes",{"$f":"COUNTIF(E18:N18,\">0\")","v":0},{"$f":"IF(Q17>1,\"trouvées\",\"trouvée\")","v":"trouvée"},null,null,null,null,null,null,null,null,null,null,null,null,null,null,null,null,null,null,null,13,"ANDY"]
[null,null,null,"Points",{"$f":"IF(E17=E16,IFERROR(INDEX(baliseCM,MATCH(E15,lettre,0),MATCH($U18,parcours,0)),\"\"),\"\")","v":""},"","","","","","","","","",null,"Note",{"$f":"Q13+Q14+Q15+Q16","v":{"$error":"#NUM!"}},"/20",null,null,{"$f":"CONCATENATE(D14,\"points\")","v":"6BLUEpoints"},null,null,null,null,null,null,null,null,null,null,null,null,null,null,null,null,14,"OLIVIER"]
[null,"EQUIPE 3",null,null,null,null,null,null,null,null,null,null,null,{"$f":"(HOUR(M20)*3600+MINUTE(M20)*60+SECOND(M20))-(HOUR($M$2)*3600+MINUTE($M$2)*60+SECOND($M$2))","v":{"$error":"#NUM!"}},null,null,null,null,null,"Analyse du parcours",null,null,null,null,null,null,null,null,null,null,null,null,null,null,null,null,null,15,"CHRISTIAN"]
[null,null,null,{"$f":"CONCATENATE(D21,\"bis\")","v":"6BLUEbis"},"22:20:01",null,null,null,"21:15:35",null,"Durée :",null,{"$f":"I20-E20","v":-4.4745370370370297E-2},null,null,"Vitesse de course",{"$f":"IF(AND(N19<0,Q24=8),HLOOKUP(N19,REFERENTIELS!$E$33:$I$34,2,TRUE),IF(AND(N19<=0,Q24<>8),2,HLOOKUP(N19,REFERENTIELS!$I$33:$L$34,2,TRUE)))","v":{"$error":"#NUM!"}},"/ 6",null,null,null,null,null,null,null,null,null,null,null,null,null,null,null,null,null,null,null,16,"CELINE"]
[null,null,null,{"$f":"$H$2","v":"6BLUE"},{"$f":"SQRT(POWER((VLOOKUP(E23,DEBUT!$D$5:$J$110,6,FALSE)-VLOOKUP(F23,DEBUT!$D$5:$J$110,6,FALSE)),2)+POWER((VLOOKUP(E23,DEBUT!$D$5:$J$110,7,FALSE)-VLOOKUP(F23,DEBUT!$D$5:$J$110,7,FALSE)),2))/CARTE!$O$9","v":292.41323207806477},{"$f":"SQRT(POWER((VLOOKUP(F23,DEBUT!$D$5:$J$110,6,FALSE)-VLOOKUP(G23,DEBUT!$D$5:$J$110,6,FALSE)),2)+POWER((VLOOKUP(F23,DEBUT!$D$5:$J$110,7,FALSE)-VLOOKUP(G23,DEBUT!$D$5:$J$110,7,FALSE)),2))/CARTE!$O$9","v":185.45260026215442},{"$f":"SQRT(POWER((VLOOKUP(G23,DEBUT!$D$5:$J$110,6,FALSE)-VLOOKUP(H23,DEBUT!$D$5:$J$110,6,FALSE)),2)+POWER((VLOOKUP(G23,DEBUT!$D$5:$J$110,7,FALSE)-VLOOKUP(H23,DEBUT!$D$5:$J$110,7,FALSE)),2))/CARTE!$O$9","v":388.88158128989608},{"$f":"SQRT(POWER((VLOOKUP(H23,DEBUT!$D$5:$J$110,6,FALSE)-VLOOKUP(I23,DEBUT!$D$5:$J$110,6,FALSE)),2)+POWER((VLOOKUP(H23,DEBUT!$D$5:$J$110,7,FALSE)-VLOOKUP(I23,DEBUT!$D$5:$J$110,7,FALSE)),2))/CARTE!$O$9","v":1321.1931767408294},{"$f":"SQRT(POWER((VLOOKUP(I23,DEBUT!$D$5:$J$110,6,FALSE)-VLOOKUP(J23,DEBUT!$D$5:$J$110,6,FALSE)),2)+POWER((VLOOKUP(I23,DEBUT!$D$5:$J$110,7,FALSE)-VLOOKUP(J23,DEBUT!$D$5:$J$110,7,FALSE)),2))/CARTE!$O$9","v":621.65617723594562},{"$f":"SQRT(POWER((VLOOKUP(J23,DEBUT!$D$5:$J$110,6,FALSE)-VLOOKUP(K23,DEBUT!$D$5:$J$110,6,FALSE)),2)+POWER((VLOOKUP(J23,DEBUT!$D$5:$J$110,7,FALSE)-VLOOKUP(K23,DEBUT!$D$5:$J$110,7,FALSE)),2))/CARTE!$O$9","v":{"$error":"#N/A"}},{"$f":"SQRT(POWER((VLOOKUP(K23,DEBUT!$D$5:$J$110,6,FALSE)-VLOOKUP(L23,DEBUT!$D$5:$J$110,6,FALSE)),2)+POWER((VLOOKUP(K23,DEBUT!$D$5:$J$110,7,FALSE)-VLOOKUP(L23,DEBUT!$D$5:$J$110,7,FALSE)),2))/CARTE!$O$9","v":{"$error":"#N/A"}},{"$f":"SQRT(POWER((VLOOKUP(L23,DEBUT!$D$5:$J$110,6,FALSE)-VLOOKUP(M23,DEBUT!$D$5:$J$110,6,FALSE)),2)+POWER((VLOOKUP(L23,DEBUT!$D$5:$J$110,7,FALSE)-VLOOKUP(M23,DEBUT!$D$5:$J$110,7,FALSE)),2))/CARTE!$O$9","v":{"$error":"#N/A"}},{"$f":"SQRT(POWER((VLOOKUP(M23,DEBUT!$D$5:$J$110,6,FALSE)-VLOOKUP(N23,DEBUT!$D$5:$J$110,6,FALSE)),2)+POWER((VLOOKUP(M23,DEBUT!$D$5:$J$110,7,FALSE)-VLOOKUP(N23,DEBUT!$D$5:$J$110,7,FALSE)),2))/CARTE!$O$9","v":{"$error":"#N/A"}},{"$f":"SQRT(POWER((VLOOKUP(N23,DEBUT!$D$5:$J$110,6,FALSE)-VLOOKUP(O23,DEBUT!$D$5:$J$110,6,FALSE)),2)+POWER((VLOOKUP(N23,DEBUT!$D$5:$J$110,7,FALSE)-VLOOKUP(O23,DEBUT!$D$5:$J$110,7,FALSE)),2))/CARTE!$O$9","v":{"$error":"#N/A"}},null,"Analyse",null,"/ 2",null,null,null,null,null,null,null,null,null,null,null,null,null,null,null,null,null,null,null,17,"SEBASTIEN"]
[null,null,null,"Balises prévues",{"$f":"IF(ISTEXT($D21),HLOOKUP($D21,DEBUT!$O$3:$XX$100,3,FALSE),\"\")","v":"A"},{"$f":"IF(ISTEXT($D21),HLOOKUP($D21,DEBUT!$O$3:$XX$100,4,FALSE),\"\")","v":"B"},{"$f":"IF(ISTEXT($D21),HLOOKUP($D21,DEBUT!$O$3:$XX$100,5,FALSE),\"\")","v":"C"},{"$f":"IF(ISTEXT($D21),HLOOKUP($D21,DEBUT!$O$3:$XX$100,6,FALSE),\"\")","v":"D"},{"$f":"IF(ISTEXT($D21),HLOOKUP($D21,DEBUT!$O$3:$XX$100,7,FALSE),\"\")","v":"E"},{"$f":"IF(ISTEXT($D21),HLOOKUP($D21,DEBUT!$O$3:$XX$100,8,FALSE),\"\")","v":"F"},{"$f":"IF(ISTEXT($D21),HLOOKUP($D21,DEBUT!$O$3:$XX$100,9,FALSE),\"\")","v":0},{"$f":"IF(ISTEXT($D21),HLOOKUP($D21,DEBUT!$O$3:$XX$100,10,FALSE),\"\")","v":0},{"$f":"IF(ISTEXT($D21),HLOOKUP($D21,DEBUT!$O$3:$XX$100,11,FALSE),\"\")","v":0},{"$f":"IF(ISTEXT($D21),HLOOKUP($D21,DEBUT!$O$3:$XX$100,12,FALSE),\"\")","v":0},2,"Carton contrôle",1,"/ 2",null,null,null,null,null,null,null,null,null,null,null,null,null,null,null,null,null,null,null,18,"PASCAL"]
[null,null,null,"Validé",{"$f":"IF($D23=DEBUT!$L$5,E24,\"\")","v":7},{"$f":"IF($D23=DEBUT!$L$5,F24,\"\")","v":10},{"$f":"IF($D23=DEBUT!$L$5,G24,\"\")","v":11},{"$f":"IF($D23=DEBUT!$L$5,H24,\"\")","v":1},{"$f":"IF($D23=DEBUT!$L$5,I24,\"\")","v":76},{"$f":"IF($D23=DEBUT!$L$5,J24,\"\")","v":46},{"$f":"IF($D23=DEBUT!$L$5,K24,\"\")","v":""},{"$f":"IF($D23=DEBUT!$L$5,L24,\"\")","v":""},{"$f":"IF($D23=DEBUT!$L$5,M24,\"\")","v":""},{"$f":"IF($D23=DEBUT!$L$5,N24,\"\")","v":""},null,"Conduite itinéraire",{"$f":"IF($Q$4=DEBUT!$K$6,HLOOKUP(Q24,REFERENTIELS!$E$7:$M$8,2,TRUE)+COUNTIF(E25:N25,2)*0.5,HLOOKUP(Q24,REFERENTIELS!$E$7:$M$8,2,TRUE)+COUNTIF(E25:N25,3)*0.5)","v":5.5},"/ 10",null,null,null,null,null,null,null,null,null,null,null,null,null,null,null,null,null,null,null,19,"CAROLE"]
[null,null,null,"Balises CM",{"$f":"IFERROR(INDEX(baliseCM,MATCH(E22,lettre,0),MATCH($D20,parcours,0)),\"\")","v":7},{"$f":"IFERROR(INDEX(baliseCM,MATCH(F22,lettre,0),MATCH($D20,parcours,0)),\"\")","v":10},11,1,76,46,"","","","",null,"Nombre balises justes",{"$f":"COUNTIF(E25:N25,\">0\")","v":6},{"$f":"IF(Q24>1,\"trouvées\",\"trouvée\")","v":"trouvées"},null,null,null,null,null,null,null,null,null,null,null,null,null,null,null,null,null,null,null,20,"ISABELLE"]
[null,null,null,"Points",{"$f":"IF(E24=E23,IFERROR(INDEX(baliseCM,MATCH(E22,lettre,0),MATCH($U25,parcours,0)),\"\"),\"\")","v":1},2,2,2,3,3,"","","","",null,"Note",{"$f":"Q20+Q21+Q22+Q23","v":{"$error":"#NUM!"}},"/20",null,null,{"$f":"CONCATENATE(D21,\"points\")","v":"6BLUEpoints"},null,null,null,null,null,null,null,null,null,null,null,null,null,null,null,null,21,"DAVID"]
[null,"EQUIPE 4",null,null,null,null,null,null,null,null,null,null,null,{"$f":"(HOUR(M27)*3600+MINUTE(M27)*60+SECOND(M27))-(HOUR($M$2)*3600+MINUTE($M$2)*60+SECOND($M$2))","v":{"$error":"#NUM!"}},null,null,null,null,null,"Analyse du parcours",null,null,null,null,null,null,null,null,null,null,null,null,null,null,null,null,null,22,"FRANCOIS"]
[null,null,null,{"$f":"CONCATENATE(D28,\"bis\")","v":"6BLUEbis"},"22:20:01",null,null,null,"21:05:05",null,"Durée :",null,{"$f":"I27-E27","v":-5.2037037037036993E-2},null,null,"Vitesse de course",{"$f":"IF(AND(N26<0,Q31=8),HLOOKUP(N26,REFERENTIELS!$E$33:$I$34,2,TRUE),IF(AND(N26<=0,Q31<>8),2,HLOOKUP(N26,REFERENTIELS!$I$33:$L$34,2,TRUE)))","v":{"$error":"#NUM!"}},"/ 6",null,null,null,null,null,null,null,null,null,null,null,null,null,null,null,null,null,null,null,23,"Mick"]
[null,null,null,{"$f":"$H$2","v":"6BLUE"},{"$f":"SQRT(POWER((VLOOKUP(E30,DEBUT!$D$5:$J$110,6,FALSE)-VLOOKUP(F30,DEBUT!$D$5:$J$110,6,FALSE)),2)+POWER((VLOOKUP(E30,DEBUT!$D$5:$J$110,7,FALSE)-VLOOKUP(F30,DEBUT!$D$5:$J$110,7,FALSE)),2))/CARTE!$O$9","v":292.41323207806477},{"$f":"SQRT(POWER((VLOOKUP(F30,DEBUT!$D$5:$J$110,6,FALSE)-VLOOKUP(G30,DEBUT!$D$5:$J$110,6,FALSE)),2)+POWER((VLOOKUP(F30,DEBUT!$D$5:$J$110,7,FALSE)-VLOOKUP(G30,DEBUT!$D$5:$J$110,7,FALSE)),2))/CARTE!$O$9","v":185.45260026215442},{"$f":"SQRT(POWER((VLOOKUP(G30,DEBUT!$D$5:$J$110,6,FALSE)-VLOOKUP(H30,DEBUT!$D$5:$J$110,6,FALSE)),2)+POWER((VLOOKUP(G30,DEBUT!$D$5:$J$110,7,FALSE)-VLOOKUP(H30,DEBUT!$D$5:$J$110,7,FALSE)),2))/CARTE!$O$9","v":388.88158128989608},{"$f":"SQRT(POWER((VLOOKUP(H30,DEBUT!$D$5:$J$110,6,FALSE)-VLOOKUP(I30,DEBUT!$D$5:$J$110,6,FALSE)),2)+POWER((VLOOKUP(H30,DEBUT!$D$5:$J$110,7,FALSE)-VLOOKUP(I30,DEBUT!$D$5:$J$110,7,FALSE)),2))/CARTE!$O$9","v":1321.1931767408294},{"$f":"SQRT(POWER((VLOOKUP(I30,DEBUT!$D$5:$J$110,6,FALSE)-VLOOKUP(J30,DEBUT!$D$5:$J$110,6,FALSE)),2)+POWER((VLOOKUP(I30,DEBUT!$D$5:$J$110,7,FALSE)-VLOOKUP(J30,DEBUT!$D$5:$J$110,7,FALSE)),2))/CARTE!$O$9","v":621.65617723594562},{"$f":"SQRT(POWER((VLOOKUP(J30,DEBUT!$D$5:$J$110,6,FALSE)-VLOOKUP(K30,DEBUT!$D$5:$J$110,6,FALSE)),2)+POWER((VLOOKUP(J30,DEBUT!$D$5:$J$110,7,FALSE)-VLOOKUP(K30,DEBUT!$D$5:$J$110,7,FALSE)),2))/CARTE!$O$9","v":{"$error":"#N/A"}},{"$f":"SQRT(POWER((VLOOKUP(K30,DEBUT!$D$5:$J$110,6,FALSE)-VLOOKUP(L30,DEBUT!$D$5:$J$110,6,FALSE)),2)+POWER((VLOOKUP(K30,DEBUT!$D$5:$J$110,7,FALSE)-VLOOKUP(L30,DEBUT!$D$5:$J$110,7,FALSE)),2))/CARTE!$O$9","v":{"$error":"#N/A"}},{"$f":"SQRT(POWER((VLOOKUP(L30,DEBUT!$D$5:$J$110,6,FALSE)-VLOOKUP(M30,DEBUT!$D$5:$J$110,6,FALSE)),2)+POWER((VLOOKUP(L30,DEBUT!$D$5:$J$110,7,FALSE)-VLOOKUP(M30,DEBUT!$D$5:$J$110,7,FALSE)),2))/CARTE!$O$9","v":{"$error":"#N/A"}},{"$f":"SQRT(POWER((VLOOKUP(M30,DEBUT!$D$5:$J$110,6,FALSE)-VLOOKUP(N30,DEBUT!$D$5:$J$110,6,FALSE)),2)+POWER((VLOOKUP(M30,DEBUT!$D$5:$J$110,7,FALSE)-VLOOKUP(N30,DEBUT!$D$5:$J$110,7,FALSE)),2))/CARTE!$O$9","v":{"$error":"#N/A"}},{"$f":"SQRT(POWER((VLOOKUP(N30,DEBUT!$D$5:$J$110,6,FALSE)-VLOOKUP(O30,DEBUT!$D$5:$J$110,6,FALSE)),2)+POWER((VLOOKUP(N30,DEBUT!$D$5:$J$110,7,FALSE)-VLOOKUP(O30,DEBUT!$D$5:$J$110,7,FALSE)),2))/CARTE!$O$9","v":{"$error":"#N/A"}},null,"Analyse",null,"/ 2",null,null,null,null,null,null,null,null,null,null,null,null,null,null,null,null,null,null,null,24,0]
[null,null,null,"Balises prévues",{"$f":"IF(ISTEXT($D28),HLOOKUP($D28,DEBUT!$O$3:$XX$100,3,FALSE),\"\")","v":"A"},{"$f":"IF(ISTEXT($D28),HLOOKUP($D28,DEBUT!$O$3:$XX$100,4,FALSE),\"\")","v":"B"},{"$f":"IF(ISTEXT($D28),HLOOKUP($D28,DEBUT!$O$3:$XX$100,5,FALSE),\"\")","v":"C"},{"$f":"IF(ISTEXT($D28),HLOOKUP($D28,DEBUT!$O$3:$XX$100,6,FALSE),\"\")","v":"D"},{"$f":"IF(ISTEXT($D28),HLOOKUP($D28,DEBUT!$O$3:$XX$100,7,FALSE),\"\")","v":"E"},{"$f":"IF(ISTEXT($D28),HLOOKUP($D28,DEBUT!$O$3:$XX$100,8,FALSE),\"\")","v":"F"},{"$f":"IF(ISTEXT($D28),HLOOKUP($D28,DEBUT!$O$3:$XX$100,9,FALSE),\"\")","v":0},{"$f":"IF(ISTEXT($D28),HLOOKUP($D28,DEBUT!$O$3:$XX$100,10,FALSE),\"\")","v":0},{"$f":"IF(ISTEXT($D28),HLOOKUP($D28,DEBUT!$O$3:$XX$100,11,FALSE),\"\")","v":0},{"$f":"IF(ISTEXT($D28),HLOOKUP($D28,DEBUT!$O$3:$XX$100,12,FALSE),\"\")","v":0},2,"Carton contrôle",1,"/ 2",null,null,null,null,null,null,null,null,null,null,null,null,null,null,null,null,null,null,null,25,0]
[null,null,null,"Validé",{"$f":"IF($D30=DEBUT!$L$5,E31,\"\")","v":7},{"$f":"IF($D30=DEBUT!$L$5,F31,\"\")","v":10},{"$f":"IF($D30=DEBUT!$L$5,G31,\"\")","v":11},{"$f":"IF($D30=DEBUT!$L$5,H31,\"\")","v":1},{"$f":"IF($D30=DEBUT!$L$5,I31,\"\")","v":76},{"$f":"IF($D30=DEBUT!$L$5,J31,\"\")","v":46},{"$f":"IF($D30=DEBUT!$L$5,K31,\"\")","v":""},{"$f":"IF($D30=DEBUT!$L$5,L31,\"\")","v":""},{"$f":"IF($D30=DEBUT!$L$5,M31,\"\")","v":""},{"$f":"IF($D30=DEBUT!$L$5,N31,\"\")","v":""},null,"Conduite itinéraire",{"$f":"HLOOKUP(Q31,REFERENTIELS!$E$7:$M$8,2,TRUE)","v":4},"/ 10",null,null,null,null,null,null,null,null,null,null,null,null,null,null,null,null,null,null,null,26,0]
[null,null,null,"Balises CM",{"$f":"IFERROR(INDEX(baliseCM,MATCH(E29,lettre,0),MATCH($D27,parcours,0)),\"\")","v":7},{"$f":"IFERROR(INDEX(baliseCM,MATCH(F29,lettre,0),MATCH($D27,parcours,0)),\"\")","v":10},11,1,76,46,"","","","",null,"Nombre balises justes",{"$f":"COUNTIF(E32:N32,\">0\")","v":6},{"$f":"IF(Q31>1,\"trouvées\",\"trouvée\")","v":"trouvées"},null,null,null,null,null,null,null,null,null,null,null,null,null,null,null,null,null,null,null,27,0]
[null,null,null,"Points",{"$f":"IF(E31=E30,IFERROR(INDEX(baliseCM,MATCH(E29,lettre,0),MATCH($U32,parcours,0)),\"\"),\"\")","v":1},2,2,2,3,3,"","","","",null,"Note",{"$f":"Q27+Q28+Q29+Q30","v":{"$error":"#NUM!"}},"/20",null,null,{"$f":"CONCATENATE(D28,\"points\")","v":"6BLUEpoints"},null,null,null,null,null,null,null,null,null,null,null,null,null,null,null,null,28,0]
[null,"EQUIPE 5",null,null,null,null,null,null,null,null,null,null,null,{"$f":"(HOUR(M34)*3600+MINUTE(M34)*60+SECOND(M34))-(HOUR($M$2)*3600+MINUTE($M$2)*60+SECOND($M$2))","v":{"$error":"#NUM!"}},null,null,null,null,null,"Analyse du parcours",null,null,null,null,null,null,null,null,null,null,null,null,null,null,null,null,null,29,0]
[null,null,null,{"$f":"CONCATENATE(D35,\"bis\")","v":"6BLUEbis"},"22:20:01",null,null,null,"21:05:07",null,"Durée :",null,{"$f":"I34-E34","v":-5.2013888888888915E-2},null,null,"Vitesse de course",{"$f":"IF(AND(N33<0,Q38=8),HLOOKUP(N33,REFERENTIELS!$E$33:$I$34,2,TRUE),IF(AND(N33<=0,Q38<>8),2,HLOOKUP(N33,REFERENTIELS!$I$33:$L$34,2,TRUE)))","v":{"$error":"#NUM!"}},"/ 6",null,null,null,null,null,null,null,null,null,null,null,null,null,null,null,null,null,null,null,30,0]
[null,null,null,{"$f":"$H$2","v":"6BLUE"},{"$f":"SQRT(POWER((VLOOKUP(E37,DEBUT!$D$5:$J$110,6,FALSE)-VLOOKUP(F37,DEBUT!$D$5:$J$110,6,FALSE)),2)+POWER((VLOOKUP(E37,DEBUT!$D$5:$J$110,7,FALSE)-VLOOKUP(F37,DEBUT!$D$5:$J$110,7,FALSE)),2))/CARTE!$O$9","v":{"$error":"#N/A"}},{"$f":"SQRT(POWER((VLOOKUP(F37,DEBUT!$D$5:$J$110,6,FALSE)-VLOOKUP(G37,DEBUT!$D$5:$J$110,6,FALSE)),2)+POWER((VLOOKUP(F37,DEBUT!$D$5:$J$110,7,FALSE)-VLOOKUP(G37,DEBUT!$D$5:$J$110,7,FALSE)),2))/CARTE!$O$9","v":{"$error":"#N/A"}},{"$f":"SQRT(POWER((VLOOKUP(G37,DEBUT!$D$5:$J$110,6,FALSE)-VLOOKUP(H37,DEBUT!$D$5:$J$110,6,FALSE)),2)+POWER((VLOOKUP(G37,DEBUT!$D$5:$J$110,7,FALSE)-VLOOKUP(H37,DEBUT!$D$5:$J$110,7,FALSE)),2))/CARTE!$O$9","v":{"$error":"#N/A"}},{"$f":"SQRT(POWER((VLOOKUP(H37,DEBUT!$D$5:$J$110,6,FALSE)-VLOOKUP(I37,DEBUT!$D$5:$J$110,6,FALSE)),2)+POWER((VLOOKUP(H37,DEBUT!$D$5:$J$110,7,FALSE)-VLOOKUP(I37,DEBUT!$D$5:$J$110,7,FALSE)),2))/CARTE!$O$9","v":{"$error":"#N/A"}},{"$f":"SQRT(POWER((VLOOKUP(I37,DEBUT!$D$5:$J$110,6,FALSE)-VLOOKUP(J37,DEBUT!$D$5:$J$110,6,FALSE)),2)+POWER((VLOOKUP(I37,DEBUT!$D$5:$J$110,7,FALSE)-VLOOKUP(J37,DEBUT!$D$5:$J$110,7,FALSE)),2))/CARTE!$O$9","v":{"$error":"#N/A"}},{"$f":"SQRT(POWER((VLOOKUP(J37,DEBUT!$D$5:$J$110,6,FALSE)-VLOOKUP(K37,DEBUT!$D$5:$J$110,6,FALSE)),2)+POWER((VLOOKUP(J37,DEBUT!$D$5:$J$110,7,FALSE)-VLOOKUP(K37,DEBUT!$D$5:$J$110,7,FALSE)),2))/CARTE!$O$9","v":{"$error":"#N/A"}},{"$f":"SQRT(POWER((VLOOKUP(K37,DEBUT!$D$5:$J$110,6,FALSE)-VLOOKUP(L37,DEBUT!$D$5:$J$110,6,FALSE)),2)+POWER((VLOOKUP(K37,DEBUT!$D$5:$J$110,7,FALSE)-VLOOKUP(L37,DEBUT!$D$5:$J$110,7,FALSE)),2))/CARTE!$O$9","v":{"$error":"#N/A"}},{"$f":"SQRT(POWER((VLOOKUP(L37,DEBUT!$D$5:$J$110,6,FALSE)-VLOOKUP(M37,DEBUT!$D$5:$J$110,6,FALSE)),2)+POWER((VLOOKUP(L37,DEBUT!$D$5:$J$110,7,FALSE)-VLOOKUP(M37,DEBUT!$D$5:$J$110,7,FALSE)),2))/CARTE!$O$9","v":{"$error":"#N/A"}},{"$f":"SQRT(POWER((VLOOKUP(M37,DEBUT!$D$5:$J$110,6,FALSE)-VLOOKUP(N37,DEBUT!$D$5:$J$110,6,FALSE)),2)+POWER((VLOOKUP(M37,DEBUT!$D$5:$J$110,7,FALSE)-VLOOKUP(N37,DEBUT!$D$5:$J$110,7,FALSE)),2))/CARTE!$O$9","v":{"$error":"#N/A"}},{"$f":"SQRT(POWER((VLOOKUP(N37,DEBUT!$D$5:$J$110,6,FALSE)-VLOOKUP(O37,DEBUT!$D$5:$J$110,6,FALSE)),2)+POWER((VLOOKUP(N37,DEBUT!$D$5:$J$110,7,FALSE)-VLOOKUP(O37,DEBUT!$D$5:$J$110,7,FALSE)),2))/CARTE!$O$9","v":{"$error":"#N/A"}},null,"Analyse",null,"/ 2",null,null,null,null,null,null,null,null,null,null,null,null,null,null,null,null,null,null,null,31,0]
[null,null,null,"Balises prévues",{"$f":"IF(ISTEXT($D35),HLOOKUP($D35,DEBUT!$O$3:$XX$100,3,FALSE),\"\")","v":"A"},{"$f":"IF(ISTEXT($D35),HLOOKUP($D35,DEBUT!$O$3:$XX$100,4,FALSE),\"\")","v":"B"},{"$f":"IF(ISTEXT($D35),HLOOKUP($D35,DEBUT!$O$3:$XX$100,5,FALSE),\"\")","v":"C"},{"$f":"IF(ISTEXT($D35),HLOOKUP($D35,DEBUT!$O$3:$XX$100,6,FALSE),\"\")","v":"D"},{"$f":"IF(ISTEXT($D35),HLOOKUP($D35,DEBUT!$O$3:$XX$100,7,FALSE),\"\")","v":"E"},{"$f":"IF(ISTEXT($D35),HLOOKUP($D35,DEBUT!$O$3:$XX$100,8,FALSE),\"\")","v":"F"},{"$f":"IF(ISTEXT($D35),HLOOKUP($D35,DEBUT!$O$3:$XX$100,9,FALSE),\"\")","v":0},{"$f":"IF(ISTEXT($D35),HLOOKUP($D35,DEBUT!$O$3:$XX$100,10,FALSE),\"\")","v":0},{"$f":"IF(ISTEXT($D35),HLOOKUP($D35,DEBUT!$O$3:$XX$100,11,FALSE),\"\")","v":0},{"$f":"IF(ISTEXT($D35),HLOOKUP($D35,DEBUT!$O$3:$XX$100,12,FALSE),\"\")","v":0},2,"Carton contrôle",1,"/ 2",null,null,null,null,null,null,null,null,null,null,null,null,null,null,null,null,null,null,null,32,0]
[null,null,null,"En course",{"$f":"IF($D37=DEBUT!$L$5,E38,\"\")","v":""},{"$f":"IF($D37=DEBUT!$L$5,F38,\"\")","v":""},{"$f":"IF($D37=DEBUT!$L$5,G38,\"\")","v":""},{"$f":"IF($D37=DEBUT!$L$5,H38,\"\")","v":""},{"$f":"IF($D37=DEBUT!$L$5,I38,\"\")","v":""},{"$f":"IF($D37=DEBUT!$L$5,J38,\"\")","v":""},{"$f":"IF($D37=DEBUT!$L$5,K38,\"\")","v":""},{"$f":"IF($D37=DEBUT!$L$5,L38,\"\")","v":""},{"$f":"IF($D37=DEBUT!$L$5,M38,\"\")","v":""},{"$f":"IF($D37=DEBUT!$L$5,N38,\"\")","v":""},null,"Conduite itinéraire",{"$f":"IF($Q$4=DEBUT!$K$6,HLOOKUP(Q38,REFERENTIELS!$E$7:$M$8,2,TRUE)+COUNTIF(E39:N39,2)*0.5,HLOOKUP(Q38,REFERENTIELS!$E$7:$M$8,2,TRUE)+COUNTIF(E39:N39,3)*0.5)","v":0},"/ 10",null,null,null,null,null,null,null,null,null,null,null,null,null,null,null,null,null,null,null,33,0]
[null,null,null,"Balises CM",{"$f":"IFERROR(INDEX(baliseCM,MATCH(E36,lettre,0),MATCH($D34,parcours,0)),\"\")","v":7},{"$f":"IFERROR(INDEX(baliseCM,MATCH(F36,lettre,0),MATCH($D34,parcours,0)),\"\")","v":10},11,1,76,46,"","","","",null,"Nombre balises justes",{"$f":"COUNTIF(E39:N39,\">0\")","v":0},{"$f":"IF(Q38>1,\"trouvées\",\"trouvée\")","v":"trouvée"},null,null,null,null,null,null,null,null,null,null,null,null,null,null,null,null,null,null,null,34,0]
[null,null,null,"Points",{"$f":"IF(E38=E37,IFERROR(INDEX(baliseCM,MATCH(E36,lettre,0),MATCH($U39,parcours,0)),\"\"),\"\")","v":""},"","","","","","","","","",null,"Note",{"$f":"Q34+Q35+Q36+Q37","v":{"$error":"#NUM!"}},"/20",null,null,{"$f":"CONCATENATE(D35,\"points\")","v":"6BLUEpoints"},null,null,null,null,null,null,null,null,null,null,null,null,null,null,null,null,35,0]
[null,"EQUIPE 6",null,null,null,null,null,null,null,null,null,null,null,{"$f":"(HOUR(M41)*3600+MINUTE(M41)*60+SECOND(M41))-(HOUR($M$2)*3600+MINUTE($M$2)*60+SECOND($M$2))","v":{"$error":"#NUM!"}},null,null,null,null,null,"Analyse du parcours",null,null,null,null,null,null,null,null,null,null,null,null,null,null,null,null,null,36,0]
[null,null,null,{"$f":"CONCATENATE(D42,\"bis\")","v":"6BLUEbis"},"22:20:01",null,null,null,null,null,"Durée :",null,{"$f":"I41-E41","v":-0.93056712962962962},null,null,"Vitesse de course",{"$f":"IF(AND(N40<0,Q45=8),HLOOKUP(N40,REFERENTIELS!$E$33:$I$34,2,TRUE),IF(AND(N40<=0,Q45<>8),2,HLOOKUP(N40,REFERENTIELS!$I$33:$L$34,2,TRUE)))","v":{"$error":"#NUM!"}},"/ 6"]
[null,null,null,{"$f":"$H$2","v":"6BLUE"},{"$f":"SQRT(POWER((VLOOKUP(E44,DEBUT!$D$5:$J$110,6,FALSE)-VLOOKUP(F44,DEBUT!$D$5:$J$110,6,FALSE)),2)+POWER((VLOOKUP(E44,DEBUT!$D$5:$J$110,7,FALSE)-VLOOKUP(F44,DEBUT!$D$5:$J$110,7,FALSE)),2))/CARTE!$O$9","v":292.41323207806477},{"$f":"SQRT(POWER((VLOOKUP(F44,DEBUT!$D$5:$J$110,6,FALSE)-VLOOKUP(G44,DEBUT!$D$5:$J$110,6,FALSE)),2)+POWER((VLOOKUP(F44,DEBUT!$D$5:$J$110,7,FALSE)-VLOOKUP(G44,DEBUT!$D$5:$J$110,7,FALSE)),2))/CARTE!$O$9","v":185.45260026215442},{"$f":"SQRT(POWER((VLOOKUP(G44,DEBUT!$D$5:$J$110,6,FALSE)-VLOOKUP(H44,DEBUT!$D$5:$J$110,6,FALSE)),2)+POWER((VLOOKUP(G44,DEBUT!$D$5:$J$110,7,FALSE)-VLOOKUP(H44,DEBUT!$D$5:$J$110,7,FALSE)),2))/CARTE!$O$9","v":388.88158128989608},{"$f":"SQRT(POWER((VLOOKUP(H44,DEBUT!$D$5:$J$110,6,FALSE)-VLOOKUP(I44,DEBUT!$D$5:$J$110,6,FALSE)),2)+POWER((VLOOKUP(H44,DEBUT!$D$5:$J$110,7,FALSE)-VLOOKUP(I44,DEBUT!$D$5:$J$110,7,FALSE)),2))/CARTE!$O$9","v":1321.1931767408294},{"$f":"SQRT(POWER((VLOOKUP(I44,DEBUT!$D$5:$J$110,6,FALSE)-VLOOKUP(J44,DEBUT!$D$5:$J$110,6,FALSE)),2)+POWER((VLOOKUP(I44,DEBUT!$D$5:$J$110,7,FALSE)-VLOOKUP(J44,DEBUT!$D$5:$J$110,7,FALSE)),2))/CARTE!$O$9","v":621.65617723594562},{"$f":"SQRT(POWER((VLOOKUP(J44,DEBUT!$D$5:$J$110,6,FALSE)-VLOOKUP(K44,DEBUT!$D$5:$J$110,6,FALSE)),2)+POWER((VLOOKUP(J44,DEBUT!$D$5:$J$110,7,FALSE)-VLOOKUP(K44,DEBUT!$D$5:$J$110,7,FALSE)),2))/CARTE!$O$9","v":{"$error":"#N/A"}},{"$f":"SQRT(POWER((VLOOKUP(K44,DEBUT!$D$5:$J$110,6,FALSE)-VLOOKUP(L44,DEBUT!$D$5:$J$110,6,FALSE)),2)+POWER((VLOOKUP(K44,DEBUT!$D$5:$J$110,7,FALSE)-VLOOKUP(L44,DEBUT!$D$5:$J$110,7,FALSE)),2))/CARTE!$O$9","v":{"$error":"#N/A"}},{"$f":"SQRT(POWER((VLOOKUP(L44,DEBUT!$D$5:$J$110,6,FALSE)-VLOOKUP(M44,DEBUT!$D$5:$J$110,6,FALSE)),2)+POWER((VLOOKUP(L44,DEBUT!$D$5:$J$110,7,FALSE)-VLOOKUP(M44,DEBUT!$D$5:$J$110,7,FALSE)),2))/CARTE!$O$9","v":{"$error":"#N/A"}},{"$f":"SQRT(POWER((VLOOKUP(M44,DEBUT!$D$5:$J$110,6,FALSE)-VLOOKUP(N44,DEBUT!$D$5:$J$110,6,FALSE)),2)+POWER((VLOOKUP(M44,DEBUT!$D$5:$J$110,7,FALSE)-VLOOKUP(N44,DEBUT!$D$5:$J$110,7,FALSE)),2))/CARTE!$O$9","v":{"$error":"#N/A"}},{"$f":"SQRT(POWER((VLOOKUP(N44,DEBUT!$D$5:$J$110,6,FALSE)-VLOOKUP(O44,DEBUT!$D$5:$J$110,6,FALSE)),2)+POWER((VLOOKUP(N44,DEBUT!$D$5:$J$110,7,FALSE)-VLOOKUP(O44,DEBUT!$D$5:$J$110,7,FALSE)),2))/CARTE!$O$9","v":{"$error":"#N/A"}},null,"Analyse",null,"/ 2"]
[null,null,null,"Balises prévues",{"$f":"IF(ISTEXT($D42),HLOOKUP($D42,DEBUT!$O$3:$XX$100,3,FALSE),\"\")","v":"A"},{"$f":"IF(ISTEXT($D42),HLOOKUP($D42,DEBUT!$O$3:$XX$100,4,FALSE),\"\")","v":"B"},{"$f":"IF(ISTEXT($D42),HLOOKUP($D42,DEBUT!$O$3:$XX$100,5,FALSE),\"\")","v":"C"},{"$f":"IF(ISTEXT($D42),HLOOKUP($D42,DEBUT!$O$3:$XX$100,6,FALSE),\"\")","v":"D"},{"$f":"IF(ISTEXT($D42),HLOOKUP($D42,DEBUT!$O$3:$XX$100,7,FALSE),\"\")","v":"E"},{"$f":"IF(ISTEXT($D42),HLOOKUP($D42,DEBUT!$O$3:$XX$100,8,FALSE),\"\")","v":"F"},{"$f":"IF(ISTEXT($D42),HLOOKUP($D42,DEBUT!$O$3:$XX$100,9,FALSE),\"\")","v":0},{"$f":"IF(ISTEXT($D42),HLOOKUP($D42,DEBUT!$O$3:$XX$100,10,FALSE),\"\")","v":0},{"$f":"IF(ISTEXT($D42),HLOOKUP($D42,DEBUT!$O$3:$XX$100,11,FALSE),\"\")","v":0},{"$f":"IF(ISTEXT($D42),HLOOKUP($D42,DEBUT!$O$3:$XX$100,12,FALSE),\"\")","v":0},2,"Carton contrôle",1,"/ 2"]
[null,null,null,"Validé",{"$f":"IF($D44=DEBUT!$L$5,E45,\"\")","v":7},{"$f":"IF($D44=DEBUT!$L$5,F45,\"\")","v":10},{"$f":"IF($D44=DEBUT!$L$5,G45,\"\")","v":11},{"$f":"IF($D44=DEBUT!$L$5,H45,\"\")","v":1},{"$f":"IF($D44=DEBUT!$L$5,I45,\"\")","v":76},{"$f":"IF($D44=DEBUT!$L$5,J45,\"\")","v":46},{"$f":"IF($D44=DEBUT!$L$5,K45,\"\")","v":""},{"$f":"IF($D44=DEBUT!$L$5,L45,\"\")","v":""},{"$f":"IF($D44=DEBUT!$L$5,M45,\"\")","v":""},{"$f":"IF($D44=DEBUT!$L$5,N45,\"\")","v":""},null,"Conduite itinéraire",{"$f":"HLOOKUP(Q45,REFERENTIELS!$E$7:$M$8,2,TRUE)","v":4},"/ 10"]
[null,null,null,"Balises CM",{"$f":"IFERROR(INDEX(baliseCM,MATCH(E43,lettre,0),MATCH($D41,parcours,0)),\"\")","v":7},{"$f":"IFERROR(INDEX(baliseCM,MATCH(F43,lettre,0),MATCH($D41,parcours,0)),\"\")","v":10},11,1,76,46,"","","","",null,"Nombre balises justes",{"$f":"COUNTIF(E46:N46,\">0\")","v":6},{"$f":"IF(Q45>1,\"trouvées\",\"trouvée\")","v":"trouvées"}]
[null,null,null,"Points",{"$f":"IF(E45=E44,IFERROR(INDEX(baliseCM,MATCH(E43,lettre,0),MATCH($U46,parcours,0)),\"\"),\"\")","v":1},2,2,2,3,3,"","","","",null,"Note",{"$f":"Q41+Q42+Q43+Q44","v":{"$error":"#NUM!"}},"/20",null,null,{"$f":"CONCATENATE(D42,\"points\")","v":"6BLUEpoints"}]
[null,"EQUIPE 7",null,null,null,null,null,null,null,null,null,null,null,{"$f":"(HOUR(M48)*3600+MINUTE(M48)*60+SECOND(M48))-(HOUR($M$2)*3600+MINUTE($M$2)*60+SECOND($M$2))","v":{"$error":"#NUM!"}},null,null,null,null,null,"Analyse du parcours"]
[null,null,null,{"$f":"CONCATENATE(D49,\"bis\")","v":"6BLUEbis"},"22:20:01",null,null,null,null,null,"Durée :",null,{"$f":"I48-E48","v":-0.93056712962962962},null,null,"Vitesse de course",{"$f":"IF(AND(N47<0,Q52=8),HLOOKUP(N47,REFERENTIELS!$E$33:$I$34,2,TRUE),IF(AND(N47<=0,Q52<>8),2,HLOOKUP(N47,REFERENTIELS!$I$33:$L$34,2,TRUE)))","v":{"$error":"#NUM!"}},"/ 6"]
[null,null,null,{"$f":"$H$2","v":"6BLUE"},{"$f":"SQRT(POWER((VLOOKUP(E51,DEBUT!$D$5:$J$110,6,FALSE)-VLOOKUP(F51,DEBUT!$D$5:$J$110,6,FALSE)),2)+POWER((VLOOKUP(E51,DEBUT!$D$5:$J$110,7,FALSE)-VLOOKUP(F51,DEBUT!$D$5:$J$110,7,FALSE)),2))/CARTE!$O$9","v":292.41323207806477},{"$f":"SQRT(POWER((VLOOKUP(F51,DEBUT!$D$5:$J$110,6,FALSE)-VLOOKUP(G51,DEBUT!$D$5:$J$110,6,FALSE)),2)+POWER((VLOOKUP(F51,DEBUT!$D$5:$J$110,7,FALSE)-VLOOKUP(G51,DEBUT!$D$5:$J$110,7,FALSE)),2))/CARTE!$O$9","v":185.45260026215442},{"$f":"SQRT(POWER((VLOOKUP(G51,DEBUT!$D$5:$J$110,6,FALSE)-VLOOKUP(H51,DEBUT!$D$5:$J$110,6,FALSE)),2)+POWER((VLOOKUP(G51,DEBUT!$D$5:$J$110,7,FALSE)-VLOOKUP(H51,DEBUT!$D$5:$J$110,7,FALSE)),2))/CARTE!$O$9","v":388.88158128989608},{"$f":"SQRT(POWER((VLOOKUP(H51,DEBUT!$D$5:$J$110,6,FALSE)-VLOOKUP(I51,DEBUT!$D$5:$J$110,6,FALSE)),2)+POWER((VLOOKUP(H51,DEBUT!$D$5:$J$110,7,FALSE)-VLOOKUP(I51,DEBUT!$D$5:$J$110,7,FALSE)),2))/CARTE!$O$9","v":1321.1931767408294},{"$f":"SQRT(POWER((VLOOKUP(I51,DEBUT!$D$5:$J$110,6,FALSE)-VLOOKUP(J51,DEBUT!$D$5:$J$110,6,FALSE)),2)+POWER((VLOOKUP(I51,DEBUT!$D$5:$J$110,7,FALSE)-VLOOKUP(J51,DEBUT!$D$5:$J$110,7,FALSE)),2))/CARTE!$O$9","v":621.65617723594562},{"$f":"SQRT(POWER((VLOOKUP(J51,DEBUT!$D$5:$J$110,6,FALSE)-VLOOKUP(K51,DEBUT!$D$5:$J$110,6,FALSE)),2)+POWER((VLOOKUP(J51,DEBUT!$D$5:$J$110,7,FALSE)-VLOOKUP(K51,DEBUT!$D$5:$J$110,7,FALSE)),2))/CARTE!$O$9","v":{"$error":"#N/A"}},{"$f":"SQRT(POWER((VLOOKUP(K51,DEBUT!$D$5:$J$110,6,FALSE)-VLOOKUP(L51,DEBUT!$D$5:$J$110,6,FALSE)),2)+POWER((VLOOKUP(K51,DEBUT!$D$5:$J$110,7,FALSE)-VLOOKUP(L51,DEBUT!$D$5:$J$110,7,FALSE)),2))/CARTE!$O$9","v":{"$error":"#N/A"}},{"$f":"SQRT(POWER((VLOOKUP(L51,DEBUT!$D$5:$J$110,6,FALSE)-VLOOKUP(M51,DEBUT!$D$5:$J$110,6,FALSE)),2)+POWER((VLOOKUP(L51,DEBUT!$D$5:$J$110,7,FALSE)-VLOOKUP(M51,DEBUT!$D$5:$J$110,7,FALSE)),2))/CARTE!$O$9","v":{"$error":"#N/A"}},{"$f":"SQRT(POWER((VLOOKUP(M51,DEBUT!$D$5:$J$110,6,FALSE)-VLOOKUP(N51,DEBUT!$D$5:$J$110,6,FALSE)),2)+POWER((VLOOKUP(M51,DEBUT!$D$5:$J$110,7,FALSE)-VLOOKUP(N51,DEBUT!$D$5:$J$110,7,FALSE)),2))/CARTE!$O$9","v":{"$error":"#N/A"}},{"$f":"SQRT(POWER((VLOOKUP(N51,DEBUT!$D$5:$J$110,6,FALSE)-VLOOKUP(O51,DEBUT!$D$5:$J$110,6,FALSE)),2)+POWER((VLOOKUP(N51,DEBUT!$D$5:$J$110,7,FALSE)-VLOOKUP(O51,DEBUT!$D$5:$J$110,7,FALSE)),2))/CARTE!$O$9","v":{"$error":"#N/A"}},null,"Analyse",null,"/ 2"]
[null,null,null,"Balises prévues",{"$f":"IF(ISTEXT($D49),HLOOKUP($D49,DEBUT!$O$3:$XX$100,3,FALSE),\"\")","v":"A"},{"$f":"IF(ISTEXT($D49),HLOOKUP($D49,DEBUT!$O$3:$XX$100,4,FALSE),\"\")","v":"B"},{"$f":"IF(ISTEXT($D49),HLOOKUP($D49,DEBUT!$O$3:$XX$100,5,FALSE),\"\")","v":"C"},{"$f":"IF(ISTEXT($D49),HLOOKUP($D49,DEBUT!$O$3:$XX$100,6,FALSE),\"\")","v":"D"},{"$f":"IF(ISTEXT($D49),HLOOKUP($D49,DEBUT!$O$3:$XX$100,7,FALSE),\"\")","v":"E"},{"$f":"IF(ISTEXT($D49),HLOOKUP($D49,DEBUT!$O$3:$XX$100,8,FALSE),\"\")","v":"F"},{"$f":"IF(ISTEXT($D49),HLOOKUP($D49,DEBUT!$O$3:$XX$100,9,FALSE),\"\")","v":0},{"$f":"IF(ISTEXT($D49),HLOOKUP($D49,DEBUT!$O$3:$XX$100,10,FALSE),\"\")","v":0},{"$f":"IF(ISTEXT($D49),HLOOKUP($D49,DEBUT!$O$3:$XX$100,11,FALSE),\"\")","v":0},{"$f":"IF(ISTEXT($D49),HLOOKUP($D49,DEBUT!$O$3:$XX$100,12,FALSE),\"\")","v":0},2,"Carton contrôle",1,"/ 2"]
[null,null,null,"Validé",{"$f":"IF($D51=DEBUT!$L$5,E52,\"\")","v":7},{"$f":"IF($D51=DEBUT!$L$5,F52,\"\")","v":10},{"$f":"IF($D51=DEBUT!$L$5,G52,\"\")","v":11},{"$f":"IF($D51=DEBUT!$L$5,H52,\"\")","v":1},{"$f":"IF($D51=DEBUT!$L$5,I52,\"\")","v":76},{"$f":"IF($D51=DEBUT!$L$5,J52,\"\")","v":46},{"$f":"IF($D51=DEBUT!$L$5,K52,\"\")","v":""},{"$f":"IF($D51=DEBUT!$L$5,L52,\"\")","v":""},{"$f":"IF($D51=DEBUT!$L$5,M52,\"\")","v":""},{"$f":"IF($D51=DEBUT!$L$5,N52,\"\")","v":""},null,"Conduite itinéraire",{"$f":"IF($Q$4=DEBUT!$K$6,HLOOKUP(Q52,REFERENTIELS!$E$7:$M$8,2,TRUE)+COUNTIF(E53:N53,2)*0.5,HLOOKUP(Q52,REFERENTIELS!$E$7:$M$8,2,TRUE)+COUNTIF(E53:N53,3)*0.5)","v":5.5},"/ 10"]
[null,null,null,"Balises CM",{"$f":"IFERROR(INDEX(baliseCM,MATCH(E50,lettre,0),MATCH($D48,parcours,0)),\"\")","v":7},{"$f":"IFERROR(INDEX(baliseCM,MATCH(F50,lettre,0),MATCH($D48,parcours,0)),\"\")","v":10},11,1,76,46,"","","","",null,"Nombre balises justes",{"$f":"COUNTIF(E53:N53,\">0\")","v":6},{"$f":"IF(Q52>1,\"trouvées\",\"trouvée\")","v":"trouvées"}]
[null,null,null,"Points",{"$f":"IF(E52=E51,IFERROR(INDEX(baliseCM,MATCH(E50,lettre,0),MATCH($U53,parcours,0)),\"\"),\"\")","v":1},2,2,2,3,3,"","","","",null,"Note",{"$f":"Q48+Q49+Q50+Q51","v":{"$error":"#NUM!"}},"/20",null,null,{"$f":"CONCATENATE(D49,\"points\")","v":"6BLUEpoints"}]
[null,"EQUIPE 8",null,null,null,null,null,null,null,null,null,null,null,{"$f":"(HOUR(M55)*3600+MINUTE(M55)*60+SECOND(M55))-(HOUR($M$2)*3600+MINUTE($M$2)*60+SECOND($M$2))","v":{"$error":"#NUM!"}},null,null,null,null,null,"Analyse du parcours"]
[null,null,null,{"$f":"CONCATENATE(D56,\"bis\")","v":"6BLUEbis"},"22:20:01",null,null,null,null,null,"Durée :",null,{"$f":"I55-E55","v":-0.93056712962962962},null,null,"Vitesse de course",{"$f":"IF(AND(N54<0,Q59=8),HLOOKUP(N54,REFERENTIELS!$E$33:$I$34,2,TRUE),IF(AND(N54<=0,Q59<>8),2,HLOOKUP(N54,REFERENTIELS!$I$33:$L$34,2,TRUE)))","v":{"$error":"#NUM!"}},"/ 6"]
[null,null,null,{"$f":"$H$2","v":"6BLUE"},{"$f":"SQRT(POWER((VLOOKUP(E58,DEBUT!$D$5:$J$110,6,FALSE)-VLOOKUP(F58,DEBUT!$D$5:$J$110,6,FALSE)),2)+POWER((VLOOKUP(E58,DEBUT!$D$5:$J$110,7,FALSE)-VLOOKUP(F58,DEBUT!$D$5:$J$110,7,FALSE)),2))/CARTE!$O$9","v":292.41323207806477},{"$f":"SQRT(POWER((VLOOKUP(F58,DEBUT!$D$5:$J$110,6,FALSE)-VLOOKUP(G58,DEBUT!$D$5:$J$110,6,FALSE)),2)+POWER((VLOOKUP(F58,DEBUT!$D$5:$J$110,7,FALSE)-VLOOKUP(G58,DEBUT!$D$5:$J$110,7,FALSE)),2))/CARTE!$O$9","v":185.45260026215442},{"$f":"SQRT(POWER((VLOOKUP(G58,DEBUT!$D$5:$J$110,6,FALSE)-VLOOKUP(H58,DEBUT!$D$5:$J$110,6,FALSE)),2)+POWER((VLOOKUP(G58,DEBUT!$D$5:$J$110,7,FALSE)-VLOOKUP(H58,DEBUT!$D$5:$J$110,7,FALSE)),2))/CARTE!$O$9","v":388.88158128989608},{"$f":"SQRT(POWER((VLOOKUP(H58,DEBUT!$D$5:$J$110,6,FALSE)-VLOOKUP(I58,DEBUT!$D$5:$J$110,6,FALSE)),2)+POWER((VLOOKUP(H58,DEBUT!$D$5:$J$110,7,FALSE)-VLOOKUP(I58,DEBUT!$D$5:$J$110,7,FALSE)),2))/CARTE!$O$9","v":1321.1931767408294},{"$f":"SQRT(POWER((VLOOKUP(I58,DEBUT!$D$5:$J$110,6,FALSE)-VLOOKUP(J58,DEBUT!$D$5:$J$110,6,FALSE)),2)+POWER((VLOOKUP(I58,DEBUT!$D$5:$J$110,7,FALSE)-VLOOKUP(J58,DEBUT!$D$5:$J$110,7,FALSE)),2))/CARTE!$O$9","v":621.65617723594562},{"$f":"SQRT(POWER((VLOOKUP(J58,DEBUT!$D$5:$J$110,6,FALSE)-VLOOKUP(K58,DEBUT!$D$5:$J$110,6,FALSE)),2)+POWER((VLOOKUP(J58,DEBUT!$D$5:$J$110,7,FALSE)-VLOOKUP(K58,DEBUT!$D$5:$J$110,7,FALSE)),2))/CARTE!$O$9","v":{"$error":"#N/A"}},{"$f":"SQRT(POWER((VLOOKUP(K58,DEBUT!$D$5:$J$110,6,FALSE)-VLOOKUP(L58,DEBUT!$D$5:$J$110,6,FALSE)),2)+POWER((VLOOKUP(K58,DEBUT!$D$5:$J$110,7,FALSE)-VLOOKUP(L58,DEBUT!$D$5:$J$110,7,FALSE)),2))/CARTE!$O$9","v":{"$error":"#N/A"}},{"$f":"SQRT(POWER((VLOOKUP(L58,DEBUT!$D$5:$J$110,6,FALSE)-VLOOKUP(M58,DEBUT!$D$5:$J$110,6,FALSE)),2)+POWER((VLOOKUP(L58,DEBUT!$D$5:$J$110,7,FALSE)-VLOOKUP(M58,DEBUT!$D$5:$J$110,7,FALSE)),2))/CARTE!$O$9","v":{"$error":"#N/A"}},{"$f":"SQRT(POWER((VLOOKUP(M58,DEBUT!$D$5:$J$110,6,FALSE)-VLOOKUP(N58,DEBUT!$D$5:$J$110,6,FALSE)),2)+POWER((VLOOKUP(M58,DEBUT!$D$5:$J$110,7,FALSE)-VLOOKUP(N58,DEBUT!$D$5:$J$110,7,FALSE)),2))/CARTE!$O$9","v":{"$error":"#N/A"}},{"$f":"SQRT(POWER((VLOOKUP(N58,DEBUT!$D$5:$J$110,6,FALSE)-VLOOKUP(O58,DEBUT!$D$5:$J$110,6,FALSE)),2)+POWER((VLOOKUP(N58,DEBUT!$D$5:$J$110,7,FALSE)-VLOOKUP(O58,DEBUT!$D$5:$J$110,7,FALSE)),2))/CARTE!$O$9","v":{"$error":"#N/A"}},null,"Analyse",null,"/ 2"]
[null,null,null,"Balises prévues",{"$f":"IF(ISTEXT($D56),HLOOKUP($D56,DEBUT!$O$3:$XX$100,3,FALSE),\"\")","v":"A"},{"$f":"IF(ISTEXT($D56),HLOOKUP($D56,DEBUT!$O$3:$XX$100,4,FALSE),\"\")","v":"B"},{"$f":"IF(ISTEXT($D56),HLOOKUP($D56,DEBUT!$O$3:$XX$100,5,FALSE),\"\")","v":"C"},{"$f":"IF(ISTEXT($D56),HLOOKUP($D56,DEBUT!$O$3:$XX$100,6,FALSE),\"\")","v":"D"},{"$f":"IF(ISTEXT($D56),HLOOKUP($D56,DEBUT!$O$3:$XX$100,7,FALSE),\"\")","v":"E"},{"$f":"IF(ISTEXT($D56),HLOOKUP($D56,DEBUT!$O$3:$XX$100,8,FALSE),\"\")","v":"F"},{"$f":"IF(ISTEXT($D56),HLOOKUP($D56,DEBUT!$O$3:$XX$100,9,FALSE),\"\")","v":0},{"$f":"IF(ISTEXT($D56),HLOOKUP($D56,DEBUT!$O$3:$XX$100,10,FALSE),\"\")","v":0},{"$f":"IF(ISTEXT($D56),HLOOKUP($D56,DEBUT!$O$3:$XX$100,11,FALSE),\"\")","v":0},{"$f":"IF(ISTEXT($D56),HLOOKUP($D56,DEBUT!$O$3:$XX$100,12,FALSE),\"\")","v":0},2,"Carton contrôle",1,"/ 2"]
[null,null,null,"Validé",{"$f":"IF($D58=DEBUT!$L$5,E59,\"\")","v":7},{"$f":"IF($D58=DEBUT!$L$5,F59,\"\")","v":10},{"$f":"IF($D58=DEBUT!$L$5,G59,\"\")","v":11},{"$f":"IF($D58=DEBUT!$L$5,H59,\"\")","v":1},{"$f":"IF($D58=DEBUT!$L$5,I59,\"\")","v":76},{"$f":"IF($D58=DEBUT!$L$5,J59,\"\")","v":46},{"$f":"IF($D58=DEBUT!$L$5,K59,\"\")","v":""},{"$f":"IF($D58=DEBUT!$L$5,L59,\"\")","v":""},{"$f":"IF($D58=DEBUT!$L$5,M59,\"\")","v":""},{"$f":"IF($D58=DEBUT!$L$5,N59,\"\")","v":""},null,"Conduite itinéraire",{"$f":"IF($Q$4=DEBUT!$K$6,HLOOKUP(Q59,REFERENTIELS!$E$7:$M$8,2,TRUE)+COUNTIF(E60:N60,2)*0.5,HLOOKUP(Q59,REFERENTIELS!$E$7:$M$8,2,TRUE)+COUNTIF(E60:N60,3)*0.5)","v":5.5},"/ 10"]
[null,null,null,"Balises CM",{"$f":"IFERROR(INDEX(baliseCM,MATCH(E57,lettre,0),MATCH($D55,parcours,0)),\"\")","v":7},{"$f":"IFERROR(INDEX(baliseCM,MATCH(F57,lettre,0),MATCH($D55,parcours,0)),\"\")","v":10},11,1,76,46,"","","","",null,"Nombre balises justes",{"$f":"COUNTIF(E60:N60,\">0\")","v":6},{"$f":"IF(Q59>1,\"trouvées\",\"trouvée\")","v":"trouvées"}]
[null,null,null,"Points",{"$f":"IF(E59=E58,IFERROR(INDEX(baliseCM,MATCH(E57,lettre,0),MATCH($U60,parcours,0)),\"\"),\"\")","v":1},2,2,2,3,3,"","","","",null,"Note",{"$f":"Q55+Q56+Q57+Q58","v":{"$error":"#NUM!"}},"/20",null,null,{"$f":"CONCATENATE(D56,\"points\")","v":"6BLUEpoints"}]
[null,"EQUIPE 9",null,null,null,null,null,null,null,null,null,null,null,{"$f":"(HOUR(M62)*3600+MINUTE(M62)*60+SECOND(M62))-(HOUR($M$2)*3600+MINUTE($M$2)*60+SECOND($M$2))","v":{"$error":"#NUM!"}},null,null,null,null,null,"Analyse du parcours"]
[null,null,null,{"$f":"CONCATENATE(D63,\"bis\")","v":"6BLUEbis"},"22:20:01",null,null,null,null,null,"Durée :",null,{"$f":"I62-E62","v":-0.93056712962962962},null,null,"Vitesse de course",{"$f":"IF(AND(N61<0,Q66=8),HLOOKUP(N61,REFERENTIELS!$E$33:$I$34,2,TRUE),IF(AND(N61<=0,Q66<>8),2,HLOOKUP(N61,REFERENTIELS!$I$33:$L$34,2,TRUE)))","v":{"$error":"#NUM!"}},"/ 6"]
[null,null,null,{"$f":"$H$2","v":"6BLUE"},{"$f":"SQRT(POWER((VLOOKUP(E65,DEBUT!$D$5:$J$110,6,FALSE)-VLOOKUP(F65,DEBUT!$D$5:$J$110,6,FALSE)),2)+POWER((VLOOKUP(E65,DEBUT!$D$5:$J$110,7,FALSE)-VLOOKUP(F65,DEBUT!$D$5:$J$110,7,FALSE)),2))/CARTE!$O$9","v":292.41323207806477},{"$f":"SQRT(POWER((VLOOKUP(F65,DEBUT!$D$5:$J$110,6,FALSE)-VLOOKUP(G65,DEBUT!$D$5:$J$110,6,FALSE)),2)+POWER((VLOOKUP(F65,DEBUT!$D$5:$J$110,7,FALSE)-VLOOKUP(G65,DEBUT!$D$5:$J$110,7,FALSE)),2))/CARTE!$O$9","v":185.45260026215442},{"$f":"SQRT(POWER((VLOOKUP(G65,DEBUT!$D$5:$J$110,6,FALSE)-VLOOKUP(H65,DEBUT!$D$5:$J$110,6,FALSE)),2)+POWER((VLOOKUP(G65,DEBUT!$D$5:$J$110,7,FALSE)-VLOOKUP(H65,DEBUT!$D$5:$J$110,7,FALSE)),2))/CARTE!$O$9","v":388.88158128989608},{"$f":"SQRT(POWER((VLOOKUP(H65,DEBUT!$D$5:$J$110,6,FALSE)-VLOOKUP(I65,DEBUT!$D$5:$J$110,6,FALSE)),2)+POWER((VLOOKUP(H65,DEBUT!$D$5:$J$110,7,FALSE)-VLOOKUP(I65,DEBUT!$D$5:$J$110,7,FALSE)),2))/CARTE!$O$9","v":1321.1931767408294},{"$f":"SQRT(POWER((VLOOKUP(I65,DEBUT!$D$5:$J$110,6,FALSE)-VLOOKUP(J65,DEBUT!$D$5:$J$110,6,FALSE)),2)+POWER((VLOOKUP(I65,DEBUT!$D$5:$J$110,7,FALSE)-VLOOKUP(J65,DEBUT!$D$5:$J$110,7,FALSE)),2))/CARTE!$O$9","v":621.65617723594562},{"$f":"SQRT(POWER((VLOOKUP(J65,DEBUT!$D$5:$J$110,6,FALSE)-VLOOKUP(K65,DEBUT!$D$5:$J$110,6,FALSE)),2)+POWER((VLOOKUP(J65,DEBUT!$D$5:$J$110,7,FALSE)-VLOOKUP(K65,DEBUT!$D$5:$J$110,7,FALSE)),2))/CARTE!$O$9","v":{"$error":"#N/A"}},{"$f":"SQRT(POWER((VLOOKUP(K65,DEBUT!$D$5:$J$110,6,FALSE)-VLOOKUP(L65,DEBUT!$D$5:$J$110,6,FALSE)),2)+POWER((VLOOKUP(K65,DEBUT!$D$5:$J$110,7,FALSE)-VLOOKUP(L65,DEBUT!$D$5:$J$110,7,FALSE)),2))/CARTE!$O$9","v":{"$error":"#N/A"}},{"$f":"SQRT(POWER((VLOOKUP(L65,DEBUT!$D$5:$J$110,6,FALSE)-VLOOKUP(M65,DEBUT!$D$5:$J$110,6,FALSE)),2)+POWER((VLOOKUP(L65,DEBUT!$D$5:$J$110,7,FALSE)-VLOOKUP(M65,DEBUT!$D$5:$J$110,7,FALSE)),2))/CARTE!$O$9","v":{"$error":"#N/A"}},{"$f":"SQRT(POWER((VLOOKUP(M65,DEBUT!$D$5:$J$110,6,FALSE)-VLOOKUP(N65,DEBUT!$D$5:$J$110,6,FALSE)),2)+POWER((VLOOKUP(M65,DEBUT!$D$5:$J$110,7,FALSE)-VLOOKUP(N65,DEBUT!$D$5:$J$110,7,FALSE)),2))/CARTE!$O$9","v":{"$error":"#N/A"}},{"$f":"SQRT(POWER((VLOOKUP(N65,DEBUT!$D$5:$J$110,6,FALSE)-VLOOKUP(O65,DEBUT!$D$5:$J$110,6,FALSE)),2)+POWER((VLOOKUP(N65,DEBUT!$D$5:$J$110,7,FALSE)-VLOOKUP(O65,DEBUT!$D$5:$J$110,7,FALSE)),2))/CARTE!$O$9","v":{"$error":"#N/A"}},null,"Analyse",null,"/ 2"]
[null,null,null,"Balises prévues",{"$f":"IF(ISTEXT($D63),HLOOKUP($D63,DEBUT!$O$3:$XX$100,3,FALSE),\"\")","v":"A"},{"$f":"IF(ISTEXT($D63),HLOOKUP($D63,DEBUT!$O$3:$XX$100,4,FALSE),\"\")","v":"B"},{"$f":"IF(ISTEXT($D63),HLOOKUP($D63,DEBUT!$O$3:$XX$100,5,FALSE),\"\")","v":"C"},{"$f":"IF(ISTEXT($D63),HLOOKUP($D63,DEBUT!$O$3:$XX$100,6,FALSE),\"\")","v":"D"},{"$f":"IF(ISTEXT($D63),HLOOKUP($D63,DEBUT!$O$3:$XX$100,7,FALSE),\"\")","v":"E"},{"$f":"IF(ISTEXT($D63),HLOOKUP($D63,DEBUT!$O$3:$XX$100,8,FALSE),\"\")","v":"F"},{"$f":"IF(ISTEXT($D63),HLOOKUP($D63,DEBUT!$O$3:$XX$100,9,FALSE),\"\")","v":0},{"$f":"IF(ISTEXT($D63),HLOOKUP($D63,DEBUT!$O$3:$XX$100,10,FALSE),\"\")","v":0},{"$f":"IF(ISTEXT($D63),HLOOKUP($D63,DEBUT!$O$3:$XX$100,11,FALSE),\"\")","v":0},{"$f":"IF(ISTEXT($D63),HLOOKUP($D63,DEBUT!$O$3:$XX$100,12,FALSE),\"\")","v":0},2,"Carton contrôle",1,"/ 2"]
[null,null,null,"Validé",{"$f":"IF($D65=DEBUT!$L$5,E66,\"\")","v":7},{"$f":"IF($D65=DEBUT!$L$5,F66,\"\")","v":10},{"$f":"IF($D65=DEBUT!$L$5,G66,\"\")","v":11},{"$f":"IF($D65=DEBUT!$L$5,H66,\"\")","v":1},{"$f":"IF($D65=DEBUT!$L$5,I66,\"\")","v":76},{"$f":"IF($D65=DEBUT!$L$5,J66,\"\")","v":46},{"$f":"IF($D65=DEBUT!$L$5,K66,\"\")","v":""},{"$f":"IF($D65=DEBUT!$L$5,L66,\"\")","v":""},{"$f":"IF($D65=DEBUT!$L$5,M66,\"\")","v":""},{"$f":"IF($D65=DEBUT!$L$5,N66,\"\")","v":""},null,"Conduite itinéraire",{"$f":"IF($Q$4=DEBUT!$K$6,HLOOKUP(Q66,REFERENTIELS!$E$7:$M$8,2,TRUE)+COUNTIF(E67:N67,2)*0.5,HLOOKUP(Q66,REFERENTIELS!$E$7:$M$8,2,TRUE)+COUNTIF(E67:N67,3)*0.5)","v":5.5},"/ 10"]
[null,null,null,"Balises CM",{"$f":"IFERROR(INDEX(baliseCM,MATCH(E64,lettre,0),MATCH($D62,parcours,0)),\"\")","v":7},{"$f":"IFERROR(INDEX(baliseCM,MATCH(F64,lettre,0),MATCH($D62,parcours,0)),\"\")","v":10},11,1,76,46,"","","","",null,"Nombre balises justes",{"$f":"COUNTIF(E67:N67,\">0\")","v":6},{"$f":"IF(Q66>1,\"trouvées\",\"trouvée\")","v":"trouvées"}]
[null,null,null,"Points",{"$f":"IF(E66=E65,IFERROR(INDEX(baliseCM,MATCH(E64,lettre,0),MATCH($U67,parcours,0)),\"\"),\"\")","v":1},2,2,2,3,3,"","","","",null,"Note",{"$f":"Q62+Q63+Q64+Q65","v":{"$error":"#NUM!"}},"/20",null,null,{"$f":"CONCATENATE(D63,\"points\")","v":"6BLUEpoints"}]
[null,"EQUIPE 10",null,null,null,null,null,null,null,null,null,null,null,{"$f":"(HOUR(M69)*3600+MINUTE(M69)*60+SECOND(M69))-(HOUR($M$2)*3600+MINUTE($M$2)*60+SECOND($M$2))","v":{"$error":"#NUM!"}},null,null,null,null,null,"Analyse du parcours"]
[null,null,null,{"$f":"CONCATENATE(D70,\"bis\")","v":"6BLUEbis"},"22:20:02",null,null,null,null,null,"Durée :",null,{"$f":"I69-E69","v":-0.93057870370370377},null,null,"Vitesse de course",{"$f":"IF(AND(N68<0,Q73=8),HLOOKUP(N68,REFERENTIELS!$E$33:$I$34,2,TRUE),IF(AND(N68<=0,Q73<>8),2,HLOOKUP(N68,REFERENTIELS!$I$33:$L$34,2,TRUE)))","v":{"$error":"#NUM!"}},"/ 6"]
[null,null,null,{"$f":"$H$2","v":"6BLUE"},{"$f":"SQRT(POWER((VLOOKUP(E72,DEBUT!$D$5:$J$110,6,FALSE)-VLOOKUP(F72,DEBUT!$D$5:$J$110,6,FALSE)),2)+POWER((VLOOKUP(E72,DEBUT!$D$5:$J$110,7,FALSE)-VLOOKUP(F72,DEBUT!$D$5:$J$110,7,FALSE)),2))/CARTE!$O$9","v":292.41323207806477},{"$f":"SQRT(POWER((VLOOKUP(F72,DEBUT!$D$5:$J$110,6,FALSE)-VLOOKUP(G72,DEBUT!$D$5:$J$110,6,FALSE)),2)+POWER((VLOOKUP(F72,DEBUT!$D$5:$J$110,7,FALSE)-VLOOKUP(G72,DEBUT!$D$5:$J$110,7,FALSE)),2))/CARTE!$O$9","v":185.45260026215442},{"$f":"SQRT(POWER((VLOOKUP(G72,DEBUT!$D$5:$J$110,6,FALSE)-VLOOKUP(H72,DEBUT!$D$5:$J$110,6,FALSE)),2)+POWER((VLOOKUP(G72,DEBUT!$D$5:$J$110,7,FALSE)-VLOOKUP(H72,DEBUT!$D$5:$J$110,7,FALSE)),2))/CARTE!$O$9","v":388.88158128989608},{"$f":"SQRT(POWER((VLOOKUP(H72,DEBUT!$D$5:$J$110,6,FALSE)-VLOOKUP(I72,DEBUT!$D$5:$J$110,6,FALSE)),2)+POWER((VLOOKUP(H72,DEBUT!$D$5:$J$110,7,FALSE)-VLOOKUP(I72,DEBUT!$D$5:$J$110,7,FALSE)),2))/CARTE!$O$9","v":1321.1931767408294},{"$f":"SQRT(POWER((VLOOKUP(I72,DEBUT!$D$5:$J$110,6,FALSE)-VLOOKUP(J72,DEBUT!$D$5:$J$110,6,FALSE)),2)+POWER((VLOOKUP(I72,DEBUT!$D$5:$J$110,7,FALSE)-VLOOKUP(J72,DEBUT!$D$5:$J$110,7,FALSE)),2))/CARTE!$O$9","v":621.65617723594562},{"$f":"SQRT(POWER((VLOOKUP(J72,DEBUT!$D$5:$J$110,6,FALSE)-VLOOKUP(K72,DEBUT!$D$5:$J$110,6,FALSE)),2)+POWER((VLOOKUP(J72,DEBUT!$D$5:$J$110,7,FALSE)-VLOOKUP(K72,DEBUT!$D$5:$J$110,7,FALSE)),2))/CARTE!$O$9","v":{"$error":"#N/A"}},{"$f":"SQRT(POWER((VLOOKUP(K72,DEBUT!$D$5:$J$110,6,FALSE)-VLOOKUP(L72,DEBUT!$D$5:$J$110,6,FALSE)),2)+POWER((VLOOKUP(K72,DEBUT!$D$5:$J$110,7,FALSE)-VLOOKUP(L72,DEBUT!$D$5:$J$110,7,FALSE)),2))/CARTE!$O$9","v":{"$error":"#N/A"}},{"$f":"SQRT(POWER((VLOOKUP(L72,DEBUT!$D$5:$J$110,6,FALSE)-VLOOKUP(M72,DEBUT!$D$5:$J$110,6,FALSE)),2)+POWER((VLOOKUP(L72,DEBUT!$D$5:$J$110,7,FALSE)-VLOOKUP(M72,DEBUT!$D$5:$J$110,7,FALSE)),2))/CARTE!$O$9","v":{"$error":"#N/A"}},{"$f":"SQRT(POWER((VLOOKUP(M72,DEBUT!$D$5:$J$110,6,FALSE)-VLOOKUP(N72,DEBUT!$D$5:$J$110,6,FALSE)),2)+POWER((VLOOKUP(M72,DEBUT!$D$5:$J$110,7,FALSE)-VLOOKUP(N72,DEBUT!$D$5:$J$110,7,FALSE)),2))/CARTE!$O$9","v":{"$error":"#N/A"}},{"$f":"SQRT(POWER((VLOOKUP(N72,DEBUT!$D$5:$J$110,6,FALSE)-VLOOKUP(O72,DEBUT!$D$5:$J$110,6,FALSE)),2)+POWER((VLOOKUP(N72,DEBUT!$D$5:$J$110,7,FALSE)-VLOOKUP(O72,DEBUT!$D$5:$J$110,7,FALSE)),2))/CARTE!$O$9","v":{"$error":"#N/A"}},null,"Analyse",null,"/ 2"]
[null,null,null,"Balises prévues",{"$f":"IF(ISTEXT($D70),HLOOKUP($D70,DEBUT!$O$3:$XX$100,3,FALSE),\"\")","v":"A"},{"$f":"IF(ISTEXT($D70),HLOOKUP($D70,DEBUT!$O$3:$XX$100,4,FALSE),\"\")","v":"B"},{"$f":"IF(ISTEXT($D70),HLOOKUP($D70,DEBUT!$O$3:$XX$100,5,FALSE),\"\")","v":"C"},{"$f":"IF(ISTEXT($D70),HLOOKUP($D70,DEBUT!$O$3:$XX$100,6,FALSE),\"\")","v":"D"},{"$f":"IF(ISTEXT($D70),HLOOKUP($D70,DEBUT!$O$3:$XX$100,7,FALSE),\"\")","v":"E"},{"$f":"IF(ISTEXT($D70),HLOOKUP($D70,DEBUT!$O$3:$XX$100,8,FALSE),\"\")","v":"F"},{"$f":"IF(ISTEXT($D70),HLOOKUP($D70,DEBUT!$O$3:$XX$100,9,FALSE),\"\")","v":0},{"$f":"IF(ISTEXT($D70),HLOOKUP($D70,DEBUT!$O$3:$XX$100,10,FALSE),\"\")","v":0},{"$f":"IF(ISTEXT($D70),HLOOKUP($D70,DEBUT!$O$3:$XX$100,11,FALSE),\"\")","v":0},{"$f":"IF(ISTEXT($D70),HLOOKUP($D70,DEBUT!$O$3:$XX$100,12,FALSE),\"\")","v":0},2,"Carton contrôle",1,"/ 2"]
[null,null,null,"Validé",{"$f":"IF($D72=DEBUT!$L$5,E73,\"\")","v":7},{"$f":"IF($D72=DEBUT!$L$5,F73,\"\")","v":10},{"$f":"IF($D72=DEBUT!$L$5,G73,\"\")","v":11},{"$f":"IF($D72=DEBUT!$L$5,H73,\"\")","v":1},{"$f":"IF($D72=DEBUT!$L$5,I73,\"\")","v":76},{"$f":"IF($D72=DEBUT!$L$5,J73,\"\")","v":46},{"$f":"IF($D72=DEBUT!$L$5,K73,\"\")","v":""},{"$f":"IF($D72=DEBUT!$L$5,L73,\"\")","v":""},{"$f":"IF($D72=DEBUT!$L$5,M73,\"\")","v":""},{"$f":"IF($D72=DEBUT!$L$5,N73,\"\")","v":""},null,"Conduite itinéraire",{"$f":"IF($Q$4=DEBUT!$K$6,HLOOKUP(Q73,REFERENTIELS!$E$7:$M$8,2,TRUE)+COUNTIF(E74:N74,2)*0.5,HLOOKUP(Q73,REFERENTIELS!$E$7:$M$8,2,TRUE)+COUNTIF(E74:N74,3)*0.5)","v":5.5},"/ 10"]
[null,null,null,"Balises CM",{"$f":"IFERROR(INDEX(baliseCM,MATCH(E71,lettre,0),MATCH($D69,parcours,0)),\"\")","v":7},{"$f":"IFERROR(INDEX(baliseCM,MATCH(F71,lettre,0),MATCH($D69,parcours,0)),\"\")","v":10},11,1,76,46,"","","","",null,"Nombre balises justes",{"$f":"COUNTIF(E74:N74,\">0\")","v":6},{"$f":"IF(Q73>1,\"trouvées\",\"trouvée\")","v":"trouvées"}]
[null,null,null,"Points",{"$f":"IF(E73=E72,IFERROR(INDEX(baliseCM,MATCH(E71,lettre,0),MATCH($U74,parcours,0)),\"\"),\"\")","v":1},2,2,2,3,3,"","","","",null,"Note",{"$f":"Q69+Q70+Q71+Q72","v":{"$error":"#NUM!"}},"/20",null,null,{"$f":"CONCATENATE(D70,\"points\")","v":"6BLUEpoints"}]
[null,"EQUIPE 11",null,null,null,null,null,null,null,null,null,null,null,{"$f":"(HOUR(M76)*3600+MINUTE(M76)*60+SECOND(M76))-(HOUR($M$2)*3600+MINUTE($M$2)*60+SECOND($M$2))","v":-2097},null,null,null,null,null,"Analyse du parcours"]
[null,null,null,{"$f":"CONCATENATE(D77,\"bis\")","v":"6BLUEbis"},"15:34:57",null,null,null,"15:35:00",null,"Durée :",null,{"$f":"I76-E76","v":"00:00:03"},null,null,"Vitesse de course",{"$f":"IF(AND(N75<0,Q80=8),HLOOKUP(N75,REFERENTIELS!$E$33:$I$34,2,TRUE),IF(AND(N75<=0,Q80<>8),2,HLOOKUP(N75,REFERENTIELS!$I$33:$L$34,2,TRUE)))","v":2},"/ 6"]
[null,null,null,{"$f":"$H$2","v":"6BLUE"},{"$f":"SQRT(POWER((VLOOKUP(E79,DEBUT!$D$5:$J$110,6,FALSE)-VLOOKUP(F79,DEBUT!$D$5:$J$110,6,FALSE)),2)+POWER((VLOOKUP(E79,DEBUT!$D$5:$J$110,7,FALSE)-VLOOKUP(F79,DEBUT!$D$5:$J$110,7,FALSE)),2))/CARTE!$O$9","v":292.41323207806477},{"$f":"SQRT(POWER((VLOOKUP(F79,DEBUT!$D$5:$J$110,6,FALSE)-VLOOKUP(G79,DEBUT!$D$5:$J$110,6,FALSE)),2)+POWER((VLOOKUP(F79,DEBUT!$D$5:$J$110,7,FALSE)-VLOOKUP(G79,DEBUT!$D$5:$J$110,7,FALSE)),2))/CARTE!$O$9","v":185.45260026215442},{"$f":"SQRT(POWER((VLOOKUP(G79,DEBUT!$D$5:$J$110,6,FALSE)-VLOOKUP(H79,DEBUT!$D$5:$J$110,6,FALSE)),2)+POWER((VLOOKUP(G79,DEBUT!$D$5:$J$110,7,FALSE)-VLOOKUP(H79,DEBUT!$D$5:$J$110,7,FALSE)),2))/CARTE!$O$9","v":388.88158128989608},{"$f":"SQRT(POWER((VLOOKUP(H79,DEBUT!$D$5:$J$110,6,FALSE)-VLOOKUP(I79,DEBUT!$D$5:$J$110,6,FALSE)),2)+POWER((VLOOKUP(H79,DEBUT!$D$5:$J$110,7,FALSE)-VLOOKUP(I79,DEBUT!$D$5:$J$110,7,FALSE)),2))/CARTE!$O$9","v":1321.1931767408294},{"$f":"SQRT(POWER((VLOOKUP(I79,DEBUT!$D$5:$J$110,6,FALSE)-VLOOKUP(J79,DEBUT!$D$5:$J$110,6,FALSE)),2)+POWER((VLOOKUP(I79,DEBUT!$D$5:$J$110,7,FALSE)-VLOOKUP(J79,DEBUT!$D$5:$J$110,7,FALSE)),2))/CARTE!$O$9","v":621.65617723594562},{"$f":"SQRT(POWER((VLOOKUP(J79,DEBUT!$D$5:$J$110,6,FALSE)-VLOOKUP(K79,DEBUT!$D$5:$J$110,6,FALSE)),2)+POWER((VLOOKUP(J79,DEBUT!$D$5:$J$110,7,FALSE)-VLOOKUP(K79,DEBUT!$D$5:$J$110,7,FALSE)),2))/CARTE!$O$9","v":{"$error":"#N/A"}},{"$f":"SQRT(POWER((VLOOKUP(K79,DEBUT!$D$5:$J$110,6,FALSE)-VLOOKUP(L79,DEBUT!$D$5:$J$110,6,FALSE)),2)+POWER((VLOOKUP(K79,DEBUT!$D$5:$J$110,7,FALSE)-VLOOKUP(L79,DEBUT!$D$5:$J$110,7,FALSE)),2))/CARTE!$O$9","v":{"$error":"#N/A"}},{"$f":"SQRT(POWER((VLOOKUP(L79,DEBUT!$D$5:$J$110,6,FALSE)-VLOOKUP(M79,DEBUT!$D$5:$J$110,6,FALSE)),2)+POWER((VLOOKUP(L79,DEBUT!$D$5:$J$110,7,FALSE)-VLOOKUP(M79,DEBUT!$D$5:$J$110,7,FALSE)),2))/CARTE!$O$9","v":{"$error":"#N/A"}},{"$f":"SQRT(POWER((VLOOKUP(M79,DEBUT!$D$5:$J$110,6,FALSE)-VLOOKUP(N79,DEBUT!$D$5:$J$110,6,FALSE)),2)+POWER((VLOOKUP(M79,DEBUT!$D$5:$J$110,7,FALSE)-VLOOKUP(N79,DEBUT!$D$5:$J$110,7,FALSE)),2))/CARTE!$O$9","v":{"$error":"#N/A"}},{"$f":"SQRT(POWER((VLOOKUP(N79,DEBUT!$D$5:$J$110,6,FALSE)-VLOOKUP(O79,DEBUT!$D$5:$J$110,6,FALSE)),2)+POWER((VLOOKUP(N79,DEBUT!$D$5:$J$110,7,FALSE)-VLOOKUP(O79,DEBUT!$D$5:$J$110,7,FALSE)),2))/CARTE!$O$9","v":{"$error":"#N/A"}},null,"Analyse",null,"/ 2"]
[null,null,null,"Balises prévues",{"$f":"IF(ISTEXT($D77),HLOOKUP($D77,DEBUT!$O$3:$XX$100,3,FALSE),\"\")","v":"A"},{"$f":"IF(ISTEXT($D77),HLOOKUP($D77,DEBUT!$O$3:$XX$100,4,FALSE),\"\")","v":"B"},{"$f":"IF(ISTEXT($D77),HLOOKUP($D77,DEBUT!$O$3:$XX$100,5,FALSE),\"\")","v":"C"},{"$f":"IF(ISTEXT($D77),HLOOKUP($D77,DEBUT!$O$3:$XX$100,6,FALSE),\"\")","v":"D"},{"$f":"IF(ISTEXT($D77),HLOOKUP($D77,DEBUT!$O$3:$XX$100,7,FALSE),\"\")","v":"E"},{"$f":"IF(ISTEXT($D77),HLOOKUP($D77,DEBUT!$O$3:$XX$100,8,FALSE),\"\")","v":"F"},{"$f":"IF(ISTEXT($D77),HLOOKUP($D77,DEBUT!$O$3:$XX$100,9,FALSE),\"\")","v":0},{"$f":"IF(ISTEXT($D77),HLOOKUP($D77,DEBUT!$O$3:$XX$100,10,FALSE),\"\")","v":0},{"$f":"IF(ISTEXT($D77),HLOOKUP($D77,DEBUT!$O$3:$XX$100,11,FALSE),\"\")","v":0},{"$f":"IF(ISTEXT($D77),HLOOKUP($D77,DEBUT!$O$3:$XX$100,12,FALSE),\"\")","v":0},2,"Carton contrôle",1,"/ 2"]
[null,null,null,"Validé",{"$f":"IF($D79=DEBUT!$L$5,E80,\"\")","v":7},{"$f":"IF($D79=DEBUT!$L$5,F80,\"\")","v":10},{"$f":"IF($D79=DEBUT!$L$5,G80,\"\")","v":11},{"$f":"IF($D79=DEBUT!$L$5,H80,\"\")","v":1},{"$f":"IF($D79=DEBUT!$L$5,I80,\"\")","v":76},{"$f":"IF($D79=DEBUT!$L$5,J80,\"\")","v":46},{"$f":"IF($D79=DEBUT!$L$5,K80,\"\")","v":""},{"$f":"IF($D79=DEBUT!$L$5,L80,\"\")","v":""},{"$f":"IF($D79=DEBUT!$L$5,M80,\"\")","v":""},{"$f":"IF($D79=DEBUT!$L$5,N80,\"\")","v":""},null,"Conduite itinéraire",{"$f":"IF($Q$4=DEBUT!$K$6,HLOOKUP(Q80,REFERENTIELS!$E$7:$M$8,2,TRUE)+COUNTIF(E81:N81,2)*0.5,HLOOKUP(Q80,REFERENTIELS!$E$7:$M$8,2,TRUE)+COUNTIF(E81:N81,3)*0.5)","v":5.5},"/ 10"]
[null,null,null,"Balises CM",{"$f":"IFERROR(INDEX(baliseCM,MATCH(E78,lettre,0),MATCH($D76,parcours,0)),\"\")","v":7},{"$f":"IFERROR(INDEX(baliseCM,MATCH(F78,lettre,0),MATCH($D76,parcours,0)),\"\")","v":10},11,1,76,46,"","","","",null,"Nombre balises justes",{"$f":"COUNTIF(E81:N81,\">0\")","v":6},{"$f":"IF(Q80>1,\"trouvées\",\"trouvée\")","v":"trouvées"}]
[null,null,null,"Points",{"$f":"IF(E80=E79,IFERROR(INDEX(baliseCM,MATCH(E78,lettre,0),MATCH($U81,parcours,0)),\"\"),\"\")","v":1},2,2,2,3,3,"","","","",null,"Note",{"$f":"Q76+Q77+Q78+Q79","v":8.5},"/20",null,null,{"$f":"CONCATENATE(D77,\"points\")","v":"6BLUEpoints"}]
[null,"EQUIPE 12",null,null,null,null,null,null,null,null,null,null,null,{"$f":"(HOUR(M83)*3600+MINUTE(M83)*60+SECOND(M83))-(HOUR($M$2)*3600+MINUTE($M$2)*60+SECOND($M$2))","v":{"$error":"#NUM!"}},null,null,null,null,null,"Analyse du parcours"]
[null,null,null,{"$f":"CONCATENATE(D84,\"bis\")","v":"6BLUEbis"},"22:20:02",null,null,null,"22:15:22",null,"Durée :",null,{"$f":"I83-E83","v":-3.2407407407408773E-3},null,null,"Vitesse de course",{"$f":"IF(AND(N82<0,Q87=8),HLOOKUP(N82,REFERENTIELS!$E$33:$I$34,2,TRUE),IF(AND(N82<=0,Q87<>8),2,HLOOKUP(N82,REFERENTIELS!$I$33:$L$34,2,TRUE)))","v":{"$error":"#NUM!"}},"/ 6"]
[null,null,null,{"$f":"$H$2","v":"6BLUE"},{"$f":"SQRT(POWER((VLOOKUP(E86,DEBUT!$D$5:$J$110,6,FALSE)-VLOOKUP(F86,DEBUT!$D$5:$J$110,6,FALSE)),2)+POWER((VLOOKUP(E86,DEBUT!$D$5:$J$110,7,FALSE)-VLOOKUP(F86,DEBUT!$D$5:$J$110,7,FALSE)),2))/CARTE!$O$9","v":292.41323207806477},{"$f":"SQRT(POWER((VLOOKUP(F86,DEBUT!$D$5:$J$110,6,FALSE)-VLOOKUP(G86,DEBUT!$D$5:$J$110,6,FALSE)),2)+POWER((VLOOKUP(F86,DEBUT!$D$5:$J$110,7,FALSE)-VLOOKUP(G86,DEBUT!$D$5:$J$110,7,FALSE)),2))/CARTE!$O$9","v":185.45260026215442},{"$f":"SQRT(POWER((VLOOKUP(G86,DEBUT!$D$5:$J$110,6,FALSE)-VLOOKUP(H86,DEBUT!$D$5:$J$110,6,FALSE)),2)+POWER((VLOOKUP(G86,DEBUT!$D$5:$J$110,7,FALSE)-VLOOKUP(H86,DEBUT!$D$5:$J$110,7,FALSE)),2))/CARTE!$O$9","v":388.88158128989608},{"$f":"SQRT(POWER((VLOOKUP(H86,DEBUT!$D$5:$J$110,6,FALSE)-VLOOKUP(I86,DEBUT!$D$5:$J$110,6,FALSE)),2)+POWER((VLOOKUP(H86,DEBUT!$D$5:$J$110,7,FALSE)-VLOOKUP(I86,DEBUT!$D$5:$J$110,7,FALSE)),2))/CARTE!$O$9","v":1321.1931767408294},{"$f":"SQRT(POWER((VLOOKUP(I86,DEBUT!$D$5:$J$110,6,FALSE)-VLOOKUP(J86,DEBUT!$D$5:$J$110,6,FALSE)),2)+POWER((VLOOKUP(I86,DEBUT!$D$5:$J$110,7,FALSE)-VLOOKUP(J86,DEBUT!$D$5:$J$110,7,FALSE)),2))/CARTE!$O$9","v":621.65617723594562},{"$f":"SQRT(POWER((VLOOKUP(J86,DEBUT!$D$5:$J$110,6,FALSE)-VLOOKUP(K86,DEBUT!$D$5:$J$110,6,FALSE)),2)+POWER((VLOOKUP(J86,DEBUT!$D$5:$J$110,7,FALSE)-VLOOKUP(K86,DEBUT!$D$5:$J$110,7,FALSE)),2))/CARTE!$O$9","v":{"$error":"#N/A"}},{"$f":"SQRT(POWER((VLOOKUP(K86,DEBUT!$D$5:$J$110,6,FALSE)-VLOOKUP(L86,DEBUT!$D$5:$J$110,6,FALSE)),2)+POWER((VLOOKUP(K86,DEBUT!$D$5:$J$110,7,FALSE)-VLOOKUP(L86,DEBUT!$D$5:$J$110,7,FALSE)),2))/CARTE!$O$9","v":{"$error":"#N/A"}},{"$f":"SQRT(POWER((VLOOKUP(L86,DEBUT!$D$5:$J$110,6,FALSE)-VLOOKUP(M86,DEBUT!$D$5:$J$110,6,FALSE)),2)+POWER((VLOOKUP(L86,DEBUT!$D$5:$J$110,7,FALSE)-VLOOKUP(M86,DEBUT!$D$5:$J$110,7,FALSE)),2))/CARTE!$O$9","v":{"$error":"#N/A"}},{"$f":"SQRT(POWER((VLOOKUP(M86,DEBUT!$D$5:$J$110,6,FALSE)-VLOOKUP(N86,DEBUT!$D$5:$J$110,6,FALSE)),2)+POWER((VLOOKUP(M86,DEBUT!$D$5:$J$110,7,FALSE)-VLOOKUP(N86,DEBUT!$D$5:$J$110,7,FALSE)),2))/CARTE!$O$9","v":{"$error":"#N/A"}},{"$f":"SQRT(POWER((VLOOKUP(N86,DEBUT!$D$5:$J$110,6,FALSE)-VLOOKUP(O86,DEBUT!$D$5:$J$110,6,FALSE)),2)+POWER((VLOOKUP(N86,DEBUT!$D$5:$J$110,7,FALSE)-VLOOKUP(O86,DEBUT!$D$5:$J$110,7,FALSE)),2))/CARTE!$O$9","v":{"$error":"#N/A"}},null,"Analyse",null,"/ 2"]
[null,null,null,"Balises prévues",{"$f":"IF(ISTEXT($D84),HLOOKUP($D84,DEBUT!$O$3:$XX$100,3,FALSE),\"\")","v":"A"},{"$f":"IF(ISTEXT($D84),HLOOKUP($D84,DEBUT!$O$3:$XX$100,4,FALSE),\"\")","v":"B"},{"$f":"IF(ISTEXT($D84),HLOOKUP($D84,DEBUT!$O$3:$XX$100,5,FALSE),\"\")","v":"C"},{"$f":"IF(ISTEXT($D84),HLOOKUP($D84,DEBUT!$O$3:$XX$100,6,FALSE),\"\")","v":"D"},{"$f":"IF(ISTEXT($D84),HLOOKUP($D84,DEBUT!$O$3:$XX$100,7,FALSE),\"\")","v":"E"},{"$f":"IF(ISTEXT($D84),HLOOKUP($D84,DEBUT!$O$3:$XX$100,8,FALSE),\"\")","v":"F"},{"$f":"IF(ISTEXT($D84),HLOOKUP($D84,DEBUT!$O$3:$XX$100,9,FALSE),\"\")","v":0},{"$f":"IF(ISTEXT($D84),HLOOKUP($D84,DEBUT!$O$3:$XX$100,10,FALSE),\"\")","v":0},{"$f":"IF(ISTEXT($D84),HLOOKUP($D84,DEBUT!$O$3:$XX$100,11,FALSE),\"\")","v":0},{"$f":"IF(ISTEXT($D84),HLOOKUP($D84,DEBUT!$O$3:$XX$100,12,FALSE),\"\")","v":0},2,"Carton contrôle",1,"/ 2"]
[null,null,null,"Validé",{"$f":"IF($D86=DEBUT!$L$5,E87,\"\")","v":7},{"$f":"IF($D86=DEBUT!$L$5,F87,\"\")","v":10},{"$f":"IF($D86=DEBUT!$L$5,G87,\"\")","v":11},{"$f":"IF($D86=DEBUT!$L$5,H87,\"\")","v":1},{"$f":"IF($D86=DEBUT!$L$5,I87,\"\")","v":76},{"$f":"IF($D86=DEBUT!$L$5,J87,\"\")","v":46},{"$f":"IF($D86=DEBUT!$L$5,K87,\"\")","v":""},{"$f":"IF($D86=DEBUT!$L$5,L87,\"\")","v":""},{"$f":"IF($D86=DEBUT!$L$5,M87,\"\")","v":""},{"$f":"IF($D86=DEBUT!$L$5,N87,\"\")","v":""},null,"Conduite itinéraire",{"$f":"IF($Q$4=DEBUT!$K$6,HLOOKUP(Q87,REFERENTIELS!$E$7:$M$8,2,TRUE)+COUNTIF(E88:N88,2)*0.5,HLOOKUP(Q87,REFERENTIELS!$E$7:$M$8,2,TRUE)+COUNTIF(E88:N88,3)*0.5)","v":5.5},"/ 10"]
[null,null,null,"Balises CM",{"$f":"IFERROR(INDEX(baliseCM,MATCH(E85,lettre,0),MATCH($D83,parcours,0)),\"\")","v":7},{"$f":"IFERROR(INDEX(baliseCM,MATCH(F85,lettre,0),MATCH($D83,parcours,0)),\"\")","v":10},11,1,76,46,"","","","",null,"Nombre balises justes",{"$f":"COUNTIF(E88:N88,\">0\")","v":6},{"$f":"IF(Q87>1,\"trouvées\",\"trouvée\")","v":"trouvées"}]
[null,null,null,"Points",{"$f":"IF(E87=E86,IFERROR(INDEX(baliseCM,MATCH(E85,lettre,0),MATCH($U88,parcours,0)),\"\"),\"\")","v":1},2,2,2,3,3,"","","","",null,"Note",{"$f":"Q83+Q84+Q85+Q86","v":{"$error":"#NUM!"}},"/20",null,null,{"$f":"CONCATENATE(D84,\"points\")","v":"6BLUEpoints"}]

{"sheet":"CCF (2)","index":5,"n_rows":88,"n_cols":39,"rows_kept":88,"cut":false,"hidden":false,"merged":[[0,7,0,9],[1,4,1,5],[1,7,1,9],[5,4,5,5],[5,8,5,9],[5,12,5,14],[5,19,9,19],[12,4,12,5],[12,8,12,9],[12,10,12,11],[12,12,12,14],[12,19,16,19],[5,10,5,11],[26,4,26,5],[26,8,26,9],[26,10,26,11],[26,12,26,14],[26,19,30,19],[19,4,19,5],[19,8,19,9],[19,10,19,11],[19,12,19,14],[19,19,23,19],[40,4,40,5],[40,8,40,9],[40,10,40,11],[40,12,40,14],[40,19,44,19],[33,4,33,5],[33,8,33,9],[33,10,33,11],[33,12,33,14],[33,19,37,19],[54,4,54,5],[54,8,54,9],[54,10,54,11],[54,12,54,14],[54,19,58,19],[47,4,47,5],[47,8,47,9],[47,10,47,11],[47,12,47,14],[47,19,51,19],[68,4,68,5],[68,8,68,9],[68,10,68,11],[68,12,68,14],[68,19,72,19],[61,4,61,5],[61,8,61,9],[61,10,61,11],[61,12,61,14],[61,19,65,19],[82,4,82,5],[82,8,82,9],[82,10,82,11],[82,12,82,14],[82,19,86,19],[75,4,75,5],[75,8,75,9],[75,10,75,11],[75,12,75,14],[75,19,79,19]]}
[null,null,null,null,null,null,null,{"$f":"CONCATENATE(H2,\"bis\")","v":"14ORANGEbis"},null,null,null,null,"Temps limite"]
[null,"STAGE",null,null,"22:22:06",null,null,"14ORANGE",null,null,null,null,30.024305555555557,"min"]
[null,null,null,null,{"$f":"IF(ISTEXT($H2),HLOOKUP($H2,DEBUT!$O$3:$XX$100,3,FALSE),\"\")","v":"A"},{"$f":"IF(ISTEXT($H2),HLOOKUP($H2,DEBUT!$O$3:$XX$100,4,FALSE),\"\")","v":"B"},{"$f":"IF(ISTEXT($H2),HLOOKUP($H2,DEBUT!$O$3:$XX$100,5,FALSE),\"\")","v":"C"},{"$f":"IF(ISTEXT($H2),HLOOKUP($H2,DEBUT!$O$3:$XX$100,6,FALSE),\"\")","v":"D"},{"$f":"IF(ISTEXT($H2),HLOOKUP($H2,DEBUT!$O$3:$XX$100,7,FALSE),\"\")","v":"E"},{"$f":"IF(ISTEXT($H2),HLOOKUP($H2,DEBUT!$O$3:$XX$100,8,FALSE),\"\")","v":"F"},{"$f":"IF(ISTEXT($H2),HLOOKUP($H2,DEBUT!$O$3:$XX$100,9,FALSE),\"\")","v":"G"},{"$f":"IF(ISTEXT($H2),HLOOKUP($H2,DEBUT!$O$3:$XX$100,10,FALSE),\"\")","v":0},{"$f":"IF(ISTEXT($H2),HLOOKUP($H2,DEBUT!$O$3:$XX$100,11,FALSE),\"\")","v":0},{"$f":"IF(ISTEXT($H2),HLOOKUP($H2,DEBUT!$O$3:$XX$100,12,FALSE),\"\")","v":"J"}]
[null,null,null,null,{"$f":"IFERROR(INDEX(baliseCM,MATCH(E3,lettre,0),MATCH($H$1,parcours,0)),\"\")","v":7},10,11,1,76,46,12,"","",16,null,"RATTRAPAGE","N3"]
[null,"EQUIPE 1",null,null,null,null,null,null,null,null,null,null,null,{"$f":"(HOUR(M6)*3600+MINUTE(M6)*60+SECOND(M6))-(HOUR($M$2)*3600+MINUTE($M$2)*60+SECOND($M$2))","v":-2097},null,null,null,null,null,"Analyse du parcours",null,null,null,null,null,null,null,null,null,null,null,null,null,null,null,null,null,1,{"$f":"OFFSET(INDEX(eleves,MATCH(AL5,chiffre,0),MATCH($B$2,classes,0)),0,1)","v":"POL"}]
[null,"Pascal",null,{"$f":"CONCATENATE(D7,\"bis\")","v":"14ORANGEbis"},"22:22:06",null,null,null,"22:22:09",null,"Durée :",null,{"$f":"I6-E6","v":"00:00:03"},null,null,"Vitesse de course",{"$f":"IF(AND(N5<0,Q10=8),HLOOKUP(N5,REFERENTIELS!$E$33:$I$34,2,TRUE),IF(AND(N5<=0,Q10<>8),2,HLOOKUP(N5,REFERENTIELS!$I$33:$L$34,2,TRUE)))","v":{"$error":"#N/A"}},"/ 6",null,null,null,null,null,null,null,null,null,null,null,null,null,null,null,null,null,null,null,2,"CARINE"]
[null,"Christian",null,{"$f":"$H$2","v":"14ORANGE"},{"$f":"SQRT(POWER((VLOOKUP(E9,DEBUT!$D$5:$J$110,6,FALSE)-VLOOKUP(F9,DEBUT!$D$5:$J$110,6,FALSE)),2)+POWER((VLOOKUP(E9,DEBUT!$D$5:$J$110,7,FALSE)-VLOOKUP(F9,DEBUT!$D$5:$J$110,7,FALSE)),2))/CARTE!$O$9","v":292.41323207806477},{"$f":"SQRT(POWER((VLOOKUP(F9,DEBUT!$D$5:$J$110,6,FALSE)-VLOOKUP(G9,DEBUT!$D$5:$J$110,6,FALSE)),2)+POWER((VLOOKUP(F9,DEBUT!$D$5:$J$110,7,FALSE)-VLOOKUP(G9,DEBUT!$D$5:$J$110,7,FALSE)),2))/CARTE!$O$9","v":185.45260026215442},{"$f":"SQRT(POWER((VLOOKUP(G9,DEBUT!$D$5:$J$110,6,FALSE)-VLOOKUP(H9,DEBUT!$D$5:$J$110,6,FALSE)),2)+POWER((VLOOKUP(G9,DEBUT!$D$5:$J$110,7,FALSE)-VLOOKUP(H9,DEBUT!$D$5:$J$110,7,FALSE)),2))/CARTE!$O$9","v":388.88158128989608},{"$f":"SQRT(POWER((VLOOKUP(H9,DEBUT!$D$5:$J$110,6,FALSE)-VLOOKUP(I9,DEBUT!$D$5:$J$110,6,FALSE)),2)+POWER((VLOOKUP(H9,DEBUT!$D$5:$J$110,7,FALSE)-VLOOKUP(I9,DEBUT!$D$5:$J$110,7,FALSE)),2))/CARTE!$O$9","v":1321.1931767408294},{"$f":"SQRT(POWER((VLOOKUP(I9,DEBUT!$D$5:$J$110,6,FALSE)-VLOOKUP(J9,DEBUT!$D$5:$J$110,6,FALSE)),2)+POWER((VLOOKUP(I9,DEBUT!$D$5:$J$110,7,FALSE)-VLOOKUP(J9,DEBUT!$D$5:$J$110,7,FALSE)),2))/CARTE!$O$9","v":621.65617723594562},{"$f":"SQRT(POWER((VLOOKUP(J9,DEBUT!$D$5:$J$110,6,FALSE)-VLOOKUP(K9,DEBUT!$D$5:$J$110,6,FALSE)),2)+POWER((VLOOKUP(J9,DEBUT!$D$5:$J$110,7,FALSE)-VLOOKUP(K9,DEBUT!$D$5:$J$110,7,FALSE)),2))/CARTE!$O$9","v":593.18703386263064},{"$f":"SQRT(POWER((VLOOKUP(K9,DEBUT!$D$5:$J$110,6,FALSE)-VLOOKUP(L9,DEBUT!$D$5:$J$110,6,FALSE)),2)+POWER((VLOOKUP(K9,DEBUT!$D$5:$J$110,7,FALSE)-VLOOKUP(L9,DEBUT!$D$5:$J$110,7,FALSE)),2))/CARTE!$O$9","v":{"$error":"#N/A"}},{"$f":"SQRT(POWER((VLOOKUP(L9,DEBUT!$D$5:$J$110,6,FALSE)-VLOOKUP(M9,DEBUT!$D$5:$J$110,6,FALSE)),2)+POWER((VLOOKUP(L9,DEBUT!$D$5:$J$110,7,FALSE)-VLOOKUP(M9,DEBUT!$D$5:$J$110,7,FALSE)),2))/CARTE!$O$9","v":{"$error":"#N/A"}},{"$f":"SQRT(POWER((VLOOKUP(M9,DEBUT!$D$5:$J$110,6,FALSE)-VLOOKUP(N9,DEBUT!$D$5:$J$110,6,FALSE)),2)+POWER((VLOOKUP(M9,DEBUT!$D$5:$J$110,7,FALSE)-VLOOKUP(N9,DEBUT!$D$5:$J$110,7,FALSE)),2))/CARTE!$O$9","v":{"$error":"#N/A"}},{"$f":"SQRT(POWER((VLOOKUP(N9,DEBUT!$D$5:$J$110,6,FALSE)-VLOOKUP(O9,DEBUT!$D$5:$J$110,6,FALSE)),2)+POWER((VLOOKUP(N9,DEBUT!$D$5:$J$110,7,FALSE)-VLOOKUP(O9,DEBUT!$D$5:$J$110,7,FALSE)),2))/CARTE!$O$9","v":1002.1872035440026},null,"Analyse",null,"/ 2",null,null,null,null,null,null,null,null,null,null,null,null,null,null,null,null,null,null,null,3,"BASTIEN"]
[null,null,null,"Balises prévues",{"$f":"IF(ISTEXT($D7),HLOOKUP($D7,DEBUT!$O$3:$XX$100,3,FALSE),\"\")","v":"A"},{"$f":"IF(ISTEXT($D7),HLOOKUP($D7,DEBUT!$O$3:$XX$100,4,FALSE),\"\")","v":"B"},{"$f":"IF(ISTEXT($D7),HLOOKUP($D7,DEBUT!$O$3:$XX$100,5,FALSE),\"\")","v":"C"},{"$f":"IF(ISTEXT($D7),HLOOKUP($D7,DEBUT!$O$3:$XX$100,6,FALSE),\"\")","v":"D"},{"$f":"IF(ISTEXT($D7),HLOOKUP($D7,DEBUT!$O$3:$XX$100,7,FALSE),\"\")","v":"E"},{"$f":"IF(ISTEXT($D7),HLOOKUP($D7,DEBUT!$O$3:$XX$100,8,FALSE),\"\")","v":"F"},{"$f":"IF(ISTEXT($D7),HLOOKUP($D7,DEBUT!$O$3:$XX$100,9,FALSE),\"\")","v":"G"},{"$f":"IF(ISTEXT($D7),HLOOKUP($D7,DEBUT!$O$3:$XX$100,10,FALSE),\"\")","v":0},{"$f":"IF(ISTEXT($D7),HLOOKUP($D7,DEBUT!$O$3:$XX$100,11,FALSE),\"\")","v":0},{"$f":"IF(ISTEXT($D7),HLOOKUP($D7,DEBUT!$O$3:$XX$100,12,FALSE),\"\")","v":"J"},null,"Carton contrôle",1,"/ 2",null,null,null,null,null,null,null,null,null,null,null,null,null,null,null,null,null,null,null,4,"CORALINE"]
[null,null,null,"Validé",{"$f":"IF($D9=DEBUT!$L$5,E10,\"\")","v":7},{"$f":"IF($D9=DEBUT!$L$5,F10,\"\")","v":10},{"$f":"IF($D9=DEBUT!$L$5,G10,\"\")","v":11},{"$f":"IF($D9=DEBUT!$L$5,H10,\"\")","v":1},{"$f":"IF($D9=DEBUT!$L$5,I10,\"\")","v":76},{"$f":"IF($D9=DEBUT!$L$5,J10,\"\")","v":46},{"$f":"IF($D9=DEBUT!$L$5,K10,\"\")","v":12},{"$f":"IF($D9=DEBUT!$L$5,L10,\"\")","v":""},{"$f":"IF($D9=DEBUT!$L$5,M10,\"\")","v":""},{"$f":"IF($D9=DEBUT!$L$5,N10,\"\")","v":16},null,"Conduite itinéraire",{"$f":"IF($Q$4=DEBUT!$K$6,HLOOKUP(Q10,REFERENTIELS!$E$7:$M$8,2,TRUE)+COUNTIF(E11:N11,2)*0.5,HLOOKUP(Q10,REFERENTIELS!$E$7:$M$8,2,TRUE)+COUNTIF(E11:N11,3)*0.5)","v":7.5},"/ 10",null,null,null,null,null,null,null,null,null,null,null,null,null,null,null,null,null,null,null,5,"GREGORY"]
[null,null,null,"Balises CM",{"$f":"IFERROR(INDEX(baliseCM,MATCH(E8,lettre,0),MATCH($D6,parcours,0)),\"\")","v":7},{"$f":"IFERROR(INDEX(baliseCM,MATCH(F8,lettre,0),MATCH($D6,parcours,0)),\"\")","v":10},11,1,76,46,12,"","",16,null,"Nombre balises justes",{"$f":"COUNTIF(E11:N11,\">0\")","v":8},{"$f":"IF(Q10>1,\"trouvées\",\"trouvée\")","v":"trouvées"},null,null,null,null,null,null,null,null,null,null,null,null,null,null,null,null,null,null,null,6,"THOMAS"]
[null,null,null,"Points",{"$f":"IF(E10=E9,IFERROR(INDEX(baliseCM,MATCH(E8,lettre,0),MATCH($U11,parcours,0)),\"\"),\"\")","v":1},2,2,2,3,3,3,"","",3,null,"Note",{"$f":"Q6+Q7+Q8+Q9","v":{"$error":"#N/A"}},"/20",null,null,{"$f":"CONCATENATE(D7,\"points\")","v":"14ORANGEpoints"},null,null,null,null,null,null,null,null,null,null,null,null,null,null,null,null,7,"ALAIN"]
[null,"EQUIPE 2",null,null,null,null,null,null,null,null,null,null,null,{"$f":"(HOUR(M13)*3600+MINUTE(M13)*60+SECOND(M13))-(HOUR($M$2)*3600+MINUTE($M$2)*60+SECOND($M$2))","v":-2078},null,null,null,null,null,"Analyse du parcours",null,null,null,null,null,null,null,null,null,null,null,null,null,null,null,null,null,8,"QUENTIN"]
[null,null,null,{"$f":"CONCATENATE(D14,\"bis\")","v":"14ORANGEbis"},"22:22:06",null,null,null,"22:22:28",null,"Durée :",null,{"$f":"I13-E13","v":"00:00:22"},null,null,"Vitesse de course",{"$f":"IF(AND(N12<0,Q17=8),HLOOKUP(N12,REFERENTIELS!$E$33:$I$34,2,TRUE),IF(AND(N12<=0,Q17<>8),2,HLOOKUP(N12,REFERENTIELS!$I$33:$L$34,2,TRUE)))","v":{"$error":"#N/A"}},"/ 6",null,null,null,null,null,null,null,null,null,null,null,null,null,null,null,null,null,null,null,9,"BAPTISTE"]
[null,null,null,{"$f":"$H$2","v":"14ORANGE"},{"$f":"SQRT(POWER((VLOOKUP(E16,DEBUT!$D$5:$J$110,6,FALSE)-VLOOKUP(F16,DEBUT!$D$5:$J$110,6,FALSE)),2)+POWER((VLOOKUP(E16,DEBUT!$D$5:$J$110,7,FALSE)-VLOOKUP(F16,DEBUT!$D$5:$J$110,7,FALSE)),2))/CARTE!$O$9","v":292.41323207806477},{"$f":"SQRT(POWER((VLOOKUP(F16,DEBUT!$D$5:$J$110,6,FALSE)-VLOOKUP(G16,DEBUT!$D$5:$J$110,6,FALSE)),2)+POWER((VLOOKUP(F16,DEBUT!$D$5:$J$110,7,FALSE)-VLOOKUP(G16,DEBUT!$D$5:$J$110,7,FALSE)),2))/CARTE!$O$9","v":185.45260026215442},{"$f":"SQRT(POWER((VLOOKUP(G16,DEBUT!$D$5:$J$110,6,FALSE)-VLOOKUP(H16,DEBUT!$D$5:$J$110,6,FALSE)),2)+POWER((VLOOKUP(G16,DEBUT!$D$5:$J$110,7,FALSE)-VLOOKUP(H16,DEBUT!$D$5:$J$110,7,FALSE)),2))/CARTE!$O$9","v":388.88158128989608},{"$f":"SQRT(POWER((VLOOKUP(H16,DEBUT!$D$5:$J$110,6,FALSE)-VLOOKUP(I16,DEBUT!$D$5:$J$110,6,FALSE)),2)+POWER((VLOOKUP(H16,DEBUT!$D$5:$J$110,7,FALSE)-VLOOKUP(I16,DEBUT!$D$5:$J$110,7,FALSE)),2))/CARTE!$O$9","v":1321.1931767408294},{"$f":"SQRT(POWER((VLOOKUP(I16,DEBUT!$D$5:$J$110,6,FALSE)-VLOOKUP(J16,DEBUT!$D$5:$J$110,6,FALSE)),2)+POWER((VLOOKUP(I16,DEBUT!$D$5:$J$110,7,FALSE)-VLOOKUP(J16,DEBUT!$D$5:$J$110,7,FALSE)),2))/CARTE!$O$9","v":621.65617723594562},{"$f":"SQRT(POWER((VLOOKUP(J16,DEBUT!$D$5:$J$110,6,FALSE)-VLOOKUP(K16,DEBUT!$D$5:$J$110,6,FALSE)),2)+POWER((VLOOKUP(J16,DEBUT!$D$5:$J$110,7,FALSE)-VLOOKUP(K16,DEBUT!$D$5:$J$110,7,FALSE)),2))/CARTE!$O$9","v":593.18703386263064},{"$f":"SQRT(POWER((VLOOKUP(K16,DEBUT!$D$5:$J$110,6,FALSE)-VLOOKUP(L16,DEBUT!$D$5:$J$110,6,FALSE)),2)+POWER((VLOOKUP(K16,DEBUT!$D$5:$J$110,7,FALSE)-VLOOKUP(L16,DEBUT!$D$5:$J$110,7,FALSE)),2))/CARTE!$O$9","v":{"$error":"#N/A"}},{"$f":"SQRT(POWER((VLOOKUP(L16,DEBUT!$D$5:$J$110,6,FALSE)-VLOOKUP(M16,DEBUT!$D$5:$J$110,6,FALSE)),2)+POWER((VLOOKUP(L16,DEBUT!$D$5:$J$110,7,FALSE)-VLOOKUP(M16,DEBUT!$D$5:$J$110,7,FALSE)),2))/CARTE!$O$9","v":{"$error":"#N/A"}},{"$f":"SQRT(POWER((VLOOKUP(M16,DEBUT!$D$5:$J$110,6,FALSE)-VLOOKUP(N16,DEBUT!$D$5:$J$110,6,FALSE)),2)+POWER((VLOOKUP(M16,DEBUT!$D$5:$J$110,7,FALSE)-VLOOKUP(N16,DEBUT!$D$5:$J$110,7,FALSE)),2))/CARTE!$O$9","v":{"$error":"#N/A"}},{"$f":"SQRT(POWER((VLOOKUP(N16,DEBUT!$D$5:$J$110,6,FALSE)-VLOOKUP(O16,DEBUT!$D$5:$J$110,6,FALSE)),2)+POWER((VLOOKUP(N16,DEBUT!$D$5:$J$110,7,FALSE)-VLOOKUP(O16,DEBUT!$D$5:$J$110,7,FALSE)),2))/CARTE!$O$9","v":1002.1872035440026},null,"Analyse",null,"/ 2",null,null,null,null,null,null,null,null,null,null,null,null,null,null,null,null,null,null,null,10,"FRANCK"]
[null,null,null,"Balises prévues",{"$f":"IF(ISTEXT($D14),HLOOKUP($D14,DEBUT!$O$3:$XX$100,3,FALSE),\"\")","v":"A"},{"$f":"IF(ISTEXT($D14),HLOOKUP($D14,DEBUT!$O$3:$XX$100,4,FALSE),\"\")","v":"B"},{"$f":"IF(ISTEXT($D14),HLOOKUP($D14,DEBUT!$O$3:$XX$100,5,FALSE),\"\")","v":"C"},{"$f":"IF(ISTEXT($D14),HLOOKUP($D14,DEBUT!$O$3:$XX$100,6,FALSE),\"\")","v":"D"},{"$f":"IF(ISTEXT($D14),HLOOKUP($D14,DEBUT!$O$3:$XX$100,7,FALSE),\"\")","v":"E"},{"$f":"IF(ISTEXT($D14),HLOOKUP($D14,DEBUT!$O$3:$XX$100,8,FALSE),\"\")","v":"F"},{"$f":"IF(ISTEXT($D14),HLOOKUP($D14,DEBUT!$O$3:$XX$100,9,FALSE),\"\")","v":"G"},{"$f":"IF(ISTEXT($D14),HLOOKUP($D14,DEBUT!$O$3:$XX$100,10,FALSE),\"\")","v":0},{"$f":"IF(ISTEXT($D14),HLOOKUP($D14,DEBUT!$O$3:$XX$100,11,FALSE),\"\")","v":0},{"$f":"IF(ISTEXT($D14),HLOOKUP($D14,DEBUT!$O$3:$XX$100,12,FALSE),\"\")","v":"J"},2,"Carton contrôle",1,"/ 2",null,null,null,null,null,null,null,null,null,null,null,null,null,null,null,null,null,null,null,11,"VALENTIN"]
[null,null,null,"Validé",{"$f":"IF($D16=DEBUT!$L$5,E17,\"\")","v":7},{"$f":"IF($D16=DEBUT!$L$5,F17,\"\")","v":10},{"$f":"IF($D16=DEBUT!$L$5,G17,\"\")","v":11},{"$f":"IF($D16=DEBUT!$L$5,H17,\"\")","v":1},{"$f":"IF($D16=DEBUT!$L$5,I17,\"\")","v":76},{"$f":"IF($D16=DEBUT!$L$5,J17,\"\")","v":46},{"$f":"IF($D16=DEBUT!$L$5,K17,\"\")","v":12},{"$f":"IF($D16=DEBUT!$L$5,L17,\"\")","v":""},{"$f":"IF($D16=DEBUT!$L$5,M17,\"\")","v":""},{"$f":"IF($D16=DEBUT!$L$5,N17,\"\")","v":16},null,"Conduite itinéraire",{"$f":"IF(Q11=DEBUT!$K$6,HLOOKUP(Q17,REFERENTIELS!$E$7:$M$8,2,TRUE)+COUNTIF(E18:N18,2)*0.5,HLOOKUP(Q17,REFERENTIELS!$E$7:$M$8,2,TRUE)+COUNTIF(E18:N18,3)*0.5)","v":{"$error":"#N/A"}},"/ 10",null,null,null,null,null,null,null,null,null,null,null,null,null,null,null,null,null,null,null,12,"BENJAMIN"]
[null,null,null,"Balises CM",{"$f":"IFERROR(INDEX(baliseCM,MATCH(E15,lettre,0),MATCH($D13,parcours,0)),\"\")","v":7},{"$f":"IFERROR(INDEX(baliseCM,MATCH(F15,lettre,0),MATCH($D13,parcours,0)),\"\")","v":10},11,1,76,46,12,"","",16,null,"Nombre balises justes",{"$f":"COUNTIF(E18:N18,\">0\")","v":8},{"$f":"IF(Q17>1,\"trouvées\",\"trouvée\")","v":"trouvées"},null,null,null,null,null,null,null,null,null,null,null,null,null,null,null,null,null,null,null,13,"ANDY"]
[null,null,null,"Points",{"$f":"IF(E17=E16,IFERROR(INDEX(baliseCM,MATCH(E15,lettre,0),MATCH($U18,parcours,0)),\"\"),\"\")","v":1},2,2,2,3,3,3,"","",3,null,"Note",{"$f":"Q13+Q14+Q15+Q16","v":{"$error":"#N/A"}},"/20",null,null,{"$f":"CONCATENATE(D14,\"points\")","v":"14ORANGEpoints"},null,null,null,null,null,null,null,null,null,null,null,null,null,null,null,null,14,"OLIVIER"]
[null,"EQUIPE 3",null,null,null,null,null,null,null,null,null,null,null,{"$f":"(HOUR(M20)*3600+MINUTE(M20)*60+SECOND(M20))-(HOUR($M$2)*3600+MINUTE($M$2)*60+SECOND($M$2))","v":-2075},null,null,null,null,null,"Analyse du parcours",null,null,null,null,null,null,null,null,null,null,null,null,null,null,null,null,null,15,"CHRISTIAN"]
[null,null,null,{"$f":"CONCATENATE(D21,\"bis\")","v":"14ORANGEbis"},"22:22:07",null,null,null,"22:22:32",null,"Durée :",null,{"$f":"I20-E20","v":"00:00:25"},null,null,"Vitesse de course",{"$f":"IF(AND(N19<0,Q24=8),HLOOKUP(N19,REFERENTIELS!$E$33:$I$34,2,TRUE),IF(AND(N19<=0,Q24<>8),2,HLOOKUP(N19,REFERENTIELS!$I$33:$L$34,2,TRUE)))","v":{"$error":"#N/A"}},"/ 6",null,null,null,null,null,null,null,null,null,null,null,null,null,null,null,null,null,null,null,16,"CELINE"]
[null,null,null,{"$f":"$H$2","v":"14ORANGE"},{"$f":"SQRT(POWER((VLOOKUP(E23,DEBUT!$D$5:$J$110,6,FALSE)-VLOOKUP(F23,DEBUT!$D$5:$J$110,6,FALSE)),2)+POWER((VLOOKUP(E23,DEBUT!$D$5:$J$110,7,FALSE)-VLOOKUP(F23,DEBUT!$D$5:$J$110,7,FALSE)),2))/CARTE!$O$9","v":292.41323207806477},{"$f":"SQRT(POWER((VLOOKUP(F23,DEBUT!$D$5:$J$110,6,FALSE)-VLOOKUP(G23,DEBUT!$D$5:$J$110,6,FALSE)),2)+POWER((VLOOKUP(F23,DEBUT!$D$5:$J$110,7,FALSE)-VLOOKUP(G23,DEBUT!$D$5:$J$110,7,FALSE)),2))/CARTE!$O$9","v":185.45260026215442},{"$f":"SQRT(POWER((VLOOKUP(G23,DEBUT!$D$5:$J$110,6,FALSE)-VLOOKUP(H23,DEBUT!$D$5:$J$110,6,FALSE)),2)+POWER((VLOOKUP(G23,DEBUT!$D$5:$J$110,7,FALSE)-VLOOKUP(H23,DEBUT!$D$5:$J$110,7,FALSE)),2))/CARTE!$O$9","v":388.88158128989608},{"$f":"SQRT(POWER((VLOOKUP(H23,DEBUT!$D$5:$J$110,6,FALSE)-VLOOKUP(I23,DEBUT!$D$5:$J$110,6,FALSE)),2)+POWER((VLOOKUP(H23,DEBUT!$D$5:$J$110,7,FALSE)-VLOOKUP(I23,DEBUT!$D$5:$J$110,7,FALSE)),2))/CARTE!$O$9","v":1321.1931767408294},{"$f":"SQRT(POWER((VLOOKUP(I23,DEBUT!$D$5:$J$110,6,FALSE)-VLOOKUP(J23,DEBUT!$D$5:$J$110,6,FALSE)),2)+POWER((VLOOKUP(I23,DEBUT!$D$5:$J$110,7,FALSE)-VLOOKUP(J23,DEBUT!$D$5:$J$110,7,FALSE)),2))/CARTE!$O$9","v":621.65617723594562},{"$f":"SQRT(POWER((VLOOKUP(J23,DEBUT!$D$5:$J$110,6,FALSE)-VLOOKUP(K23,DEBUT!$D$5:$J$110,6,FALSE)),2)+POWER((VLOOKUP(J23,DEBUT!$D$5:$J$110,7,FALSE)-VLOOKUP(K23,DEBUT!$D$5:$J$110,7,FALSE)),2))/CARTE!$O$9","v":593.18703386263064},{"$f":"SQRT(POWER((VLOOKUP(K23,DEBUT!$D$5:$J$110,6,FALSE)-VLOOKUP(L23,DEBUT!$D$5:$J$110,6,FALSE)),2)+POWER((VLOOKUP(K23,DEBUT!$D$5:$J$110,7,FALSE)-VLOOKUP(L23,DEBUT!$D$5:$J$110,7,FALSE)),2))/CARTE!$O$9","v":{"$error":"#N/A"}},{"$f":"SQRT(POWER((VLOOKUP(L23,DEBUT!$D$5:$J$110,6,FALSE)-VLOOKUP(M23,DEBUT!$D$5:$J$110,6,FALSE)),2)+POWER((VLOOKUP(L23,DEBUT!$D$5:$J$110,7,FALSE)-VLOOKUP(M23,DEBUT!$D$5:$J$110,7,FALSE)),2))/CARTE!$O$9","v":{"$error":"#N/A"}},{"$f":"SQRT(POWER((VLOOKUP(M23,DEBUT!$D$5:$J$110,6,FALSE)-VLOOKUP(N23,DEBUT!$D$5:$J$110,6,FALSE)),2)+POWER((VLOOKUP(M23,DEBUT!$D$5:$J$110,7,FALSE)-VLOOKUP(N23,DEBUT!$D$5:$J$110,7,FALSE)),2))/CARTE!$O$9","v":{"$error":"#N/A"}},{"$f":"SQRT(POWER((VLOOKUP(N23,DEBUT!$D$5:$J$110,6,FALSE)-VLOOKUP(O23,DEBUT!$D$5:$J$110,6,FALSE)),2)+POWER((VLOOKUP(N23,DEBUT!$D$5:$J$110,7,FALSE)-VLOOKUP(O23,DEBUT!$D$5:$J$110,7,FALSE)),2))/CARTE!$O$9","v":1002.1872035440026},null,"Analyse",null,"/ 2",null,null,null,null,null,null,null,null,null,null,null,null,null,null,null,null,null,null,null,17,"SEBASTIEN"]
[null,null,null,"Balises prévues",{"$f":"IF(ISTEXT($D21),HLOOKUP($D21,DEBUT!$O$3:$XX$100,3,FALSE),\"\")","v":"A"},{"$f":"IF(ISTEXT($D21),HLOOKUP($D21,DEBUT!$O$3:$XX$100,4,FALSE),\"\")","v":"B"},{"$f":"IF(ISTEXT($D21),HLOOKUP($D21,DEBUT!$O$3:$XX$100,5,FALSE),\"\")","v":"C"},{"$f":"IF(ISTEXT($D21),HLOOKUP($D21,DEBUT!$O$3:$XX$100,6,FALSE),\"\")","v":"D"},{"$f":"IF(ISTEXT($D21),HLOOKUP($D21,DEBUT!$O$3:$XX$100,7,FALSE),\"\")","v":"E"},{"$f":"IF(ISTEXT($D21),HLOOKUP($D21,DEBUT!$O$3:$XX$100,8,FALSE),\"\")","v":"F"},{"$f":"IF(ISTEXT($D21),HLOOKUP($D21,DEBUT!$O$3:$XX$100,9,FALSE),\"\")","v":"G"},{"$f":"IF(ISTEXT($D21),HLOOKUP($D21,DEBUT!$O$3:$XX$100,10,FALSE),\"\")","v":0},{"$f":"IF(ISTEXT($D21),HLOOKUP($D21,DEBUT!$O$3:$XX$100,11,FALSE),\"\")","v":0},{"$f":"IF(ISTEXT($D21),HLOOKUP($D21,DEBUT!$O$3:$XX$100,12,FALSE),\"\")","v":"J"},2,"Carton contrôle",1,"/ 2",null,null,null,null,null,null,null,null,null,null,null,null,null,null,null,null,null,null,null,18,"PASCAL"]
[null,null,null,"Validé",{"$f":"IF($D23=DEBUT!$L$5,E24,\"\")","v":7},{"$f":"IF($D23=DEBUT!$L$5,F24,\"\")","v":10},{"$f":"IF($D23=DEBUT!$L$5,G24,\"\")","v":11},{"$f":"IF($D23=DEBUT!$L$5,H24,\"\")","v":1},{"$f":"IF($D23=DEBUT!$L$5,I24,\"\")","v":76},{"$f":"IF($D23=DEBUT!$L$5,J24,\"\")","v":46},{"$f":"IF($D23=DEBUT!$L$5,K24,\"\")","v":12},{"$f":"IF($D23=DEBUT!$L$5,L24,\"\")","v":""},{"$f":"IF($D23=DEBUT!$L$5,M24,\"\")","v":""},{"$f":"IF($D23=DEBUT!$L$5,N24,\"\")","v":16},null,"Conduite itinéraire",{"$f":"IF($Q$4=DEBUT!$K$6,HLOOKUP(Q24,REFERENTIELS!$E$7:$M$8,2,TRUE)+COUNTIF(E25:N25,2)*0.5,HLOOKUP(Q24,REFERENTIELS!$E$7:$M$8,2,TRUE)+COUNTIF(E25:N25,3)*0.5)","v":7.5},"/ 10",null,null,null,null,null,null,null,null,null,null,null,null,null,null,null,null,null,null,null,19,"CAROLE"]
[null,null,null,"Balises CM",{"$f":"IFERROR(INDEX(baliseCM,MATCH(E22,lettre,0),MATCH($D20,parcours,0)),\"\")","v":7},{"$f":"IFERROR(INDEX(baliseCM,MATCH(F22,lettre,0),MATCH($D20,parcours,0)),\"\")","v":10},11,1,76,46,12,"","",16,null,"Nombre balises justes",{"$f":"COUNTIF(E25:N25,\">0\")","v":8},{"$f":"IF(Q24>1,\"trouvées\",\"trouvée\")","v":"trouvées"},null,null,null,null,null,null,null,null,null,null,null,null,null,null,null,null,null,null,null,20,"ISABELLE"]
[null,null,null,"Points",{"$f":"IF(E24=E23,IFERROR(INDEX(baliseCM,MATCH(E22,lettre,0),MATCH($U25,parcours,0)),\"\"),\"\")","v":1},2,2,2,3,3,3,"","",3,null,"Note",{"$f":"Q20+Q21+Q22+Q23","v":{"$error":"#N/A"}},"/20",null,null,{"$f":"CONCATENATE(D21,\"points\")","v":"14ORANGEpoints"},null,null,null,null,null,null,null,null,null,null,null,null,null,null,null,null,21,"DAVID"]
[null,"EQUIPE 4",null,null,null,null,null,null,null,null,null,null,null,{"$f":"(HOUR(M27)*3600+MINUTE(M27)*60+SECOND(M27))-(HOUR($M$2)*3600+MINUTE($M$2)*60+SECOND($M$2))","v":{"$error":"#NUM!"}},null,null,null,null,null,"Analyse du parcours",null,null,null,null,null,null,null,null,null,null,null,null,null,null,null,null,null,22,"FRANCOIS"]
[null,null,null,{"$f":"CONCATENATE(D28,\"bis\")","v":"14ORANGEbis"},"22:22:07",null,null,null,"21:05:05",null,"Durée :",null,{"$f":"I27-E27","v":-5.3495370370370332E-2},null,null,"Vitesse de course",{"$f":"IF(AND(N26<0,Q31=8),HLOOKUP(N26,REFERENTIELS!$E$33:$I$34,2,TRUE),IF(AND(N26<=0,Q31<>8),2,HLOOKUP(N26,REFERENTIELS!$I$33:$L$34,2,TRUE)))","v":{"$error":"#NUM!"}},"/ 6",null,null,null,null,null,null,null,null,null,null,null,null,null,null,null,null,null,null,null,23,"Mick"]
[null,null,null,{"$f":"$H$2","v":"14ORANGE"},{"$f":"SQRT(POWER((VLOOKUP(E30,DEBUT!$D$5:$J$110,6,FALSE)-VLOOKUP(F30,DEBUT!$D$5:$J$110,6,FALSE)),2)+POWER((VLOOKUP(E30,DEBUT!$D$5:$J$110,7,FALSE)-VLOOKUP(F30,DEBUT!$D$5:$J$110,7,FALSE)),2))/CARTE!$O$9","v":292.41323207806477},{"$f":"SQRT(POWER((VLOOKUP(F30,DEBUT!$D$5:$J$110,6,FALSE)-VLOOKUP(G30,DEBUT!$D$5:$J$110,6,FALSE)),2)+POWER((VLOOKUP(F30,DEBUT!$D$5:$J$110,7,FALSE)-VLOOKUP(G30,DEBUT!$D$5:$J$110,7,FALSE)),2))/CARTE!$O$9","v":185.45260026215442},{"$f":"SQRT(POWER((VLOOKUP(G30,DEBUT!$D$5:$J$110,6,FALSE)-VLOOKUP(H30,DEBUT!$D$5:$J$110,6,FALSE)),2)+POWER((VLOOKUP(G30,DEBUT!$D$5:$J$110,7,FALSE)-VLOOKUP(H30,DEBUT!$D$5:$J$110,7,FALSE)),2))/CARTE!$O$9","v":388.88158128989608},{"$f":"SQRT(POWER((VLOOKUP(H30,DEBUT!$D$5:$J$110,6,FALSE)-VLOOKUP(I30,DEBUT!$D$5:$J$110,6,FALSE)),2)+POWER((VLOOKUP(H30,DEBUT!$D$5:$J$110,7,FALSE)-VLOOKUP(I30,DEBUT!$D$5:$J$110,7,FALSE)),2))/CARTE!$O$9","v":1321.1931767408294},{"$f":"SQRT(POWER((VLOOKUP(I30,DEBUT!$D$5:$J$110,6,FALSE)-VLOOKUP(J30,DEBUT!$D$5:$J$110,6,FALSE)),2)+POWER((VLOOKUP(I30,DEBUT!$D$5:$J$110,7,FALSE)-VLOOKUP(J30,DEBUT!$D$5:$J$110,7,FALSE)),2))/CARTE!$O$9","v":621.65617723594562},{"$f":"SQRT(POWER((VLOOKUP(J30,DEBUT!$D$5:$J$110,6,FALSE)-VLOOKUP(K30,DEBUT!$D$5:$J$110,6,FALSE)),2)+POWER((VLOOKUP(J30,DEBUT!$D$5:$J$110,7,FALSE)-VLOOKUP(K30,DEBUT!$D$5:$J$110,7,FALSE)),2))/CARTE!$O$9","v":593.18703386263064},{"$f":"SQRT(POWER((VLOOKUP(K30,DEBUT!$D$5:$J$110,6,FALSE)-VLOOKUP(L30,DEBUT!$D$5:$J$110,6,FALSE)),2)+POWER((VLOOKUP(K30,DEBUT!$D$5:$J$110,7,FALSE)-VLOOKUP(L30,DEBUT!$D$5:$J$110,7,FALSE)),2))/CARTE!$O$9","v":{"$error":"#N/A"}},{"$f":"SQRT(POWER((VLOOKUP(L30,DEBUT!$D$5:$J$110,6,FALSE)-VLOOKUP(M30,DEBUT!$D$5:$J$110,6,FALSE)),2)+POWER((VLOOKUP(L30,DEBUT!$D$5:$J$110,7,FALSE)-VLOOKUP(M30,DEBUT!$D$5:$J$110,7,FALSE)),2))/CARTE!$O$9","v":{"$error":"#N/A"}},{"$f":"SQRT(POWER((VLOOKUP(M30,DEBUT!$D$5:$J$110,6,FALSE)-VLOOKUP(N30,DEBUT!$D$5:$J$110,6,FALSE)),2)+POWER((VLOOKUP(M30,DEBUT!$D$5:$J$110,7,FALSE)-VLOOKUP(N30,DEBUT!$D$5:$J$110,7,FALSE)),2))/CARTE!$O$9","v":{"$error":"#N/A"}},{"$f":"SQRT(POWER((VLOOKUP(N30,DEBUT!$D$5:$J$110,6,FALSE)-VLOOKUP(O30,DEBUT!$D$5:$J$110,6,FALSE)),2)+POWER((VLOOKUP(N30,DEBUT!$D$5:$J$110,7,FALSE)-VLOOKUP(O30,DEBUT!$D$5:$J$110,7,FALSE)),2))/CARTE!$O$9","v":1002.1872035440026},null,"Analyse",null,"/ 2",null,null,null,null,null,null,null,null,null,null,null,null,null,null,null,null,null,null,null,24,0]
[null,null,null,"Balises prévues",{"$f":"IF(ISTEXT($D28),HLOOKUP($D28,DEBUT!$O$3:$XX$100,3,FALSE),\"\")","v":"A"},{"$f":"IF(ISTEXT($D28),HLOOKUP($D28,DEBUT!$O$3:$XX$100,4,FALSE),\"\")","v":"B"},{"$f":"IF(ISTEXT($D28),HLOOKUP($D28,DEBUT!$O$3:$XX$100,5,FALSE),\"\")","v":"C"},{"$f":"IF(ISTEXT($D28),HLOOKUP($D28,DEBUT!$O$3:$XX$100,6,FALSE),\"\")","v":"D"},{"$f":"IF(ISTEXT($D28),HLOOKUP($D28,DEBUT!$O$3:$XX$100,7,FALSE),\"\")","v":"E"},{"$f":"IF(ISTEXT($D28),HLOOKUP($D28,DEBUT!$O$3:$XX$100,8,FALSE),\"\")","v":"F"},{"$f":"IF(ISTEXT($D28),HLOOKUP($D28,DEBUT!$O$3:$XX$100,9,FALSE),\"\")","v":"G"},{"$f":"IF(ISTEXT($D28),HLOOKUP($D28,DEBUT!$O$3:$XX$100,10,FALSE),\"\")","v":0},{"$f":"IF(ISTEXT($D28),HLOOKUP($D28,DEBUT!$O$3:$XX$100,11,FALSE),\"\")","v":0},{"$f":"IF(ISTEXT($D28),HLOOKUP($D28,DEBUT!$O$3:$XX$100,12,FALSE),\"\")","v":"J"},2,"Carton contrôle",1,"/ 2",null,null,null,null,null,null,null,null,null,null,null,null,null,null,null,null,null,null,null,25,0]
[null,null,null,"Validé",{"$f":"IF($D30=DEBUT!$L$5,E31,\"\")","v":7},{"$f":"IF($D30=DEBUT!$L$5,F31,\"\")","v":10},{"$f":"IF($D30=DEBUT!$L$5,G31,\"\")","v":11},{"$f":"IF($D30=DEBUT!$L$5,H31,\"\")","v":1},{"$f":"IF($D30=DEBUT!$L$5,I31,\"\")","v":76},{"$f":"IF($D30=DEBUT!$L$5,J31,\"\")","v":46},{"$f":"IF($D30=DEBUT!$L$5,K31,\"\")","v":12},{"$f":"IF($D30=DEBUT!$L$5,L31,\"\")","v":""},{"$f":"IF($D30=DEBUT!$L$5,M31,\"\")","v":""},{"$f":"IF($D30=DEBUT!$L$5,N31,\"\")","v":16},null,"Conduite itinéraire",{"$f":"HLOOKUP(Q31,REFERENTIELS!$E$7:$M$8,2,TRUE)","v":6},"/ 10",null,null,null,null,null,null,null,null,null,null,null,null,null,null,null,null,null,null,null,26,0]
[null,null,null,"Balises CM",{"$f":"IFERROR(INDEX(baliseCM,MATCH(E29,lettre,0),MATCH($D27,parcours,0)),\"\")","v":7},{"$f":"IFERROR(INDEX(baliseCM,MATCH(F29,lettre,0),MATCH($D27,parcours,0)),\"\")","v":10},11,1,76,46,12,"","",16,null,"Nombre balises justes",{"$f":"COUNTIF(E32:N32,\">0\")","v":8},{"$f":"IF(Q31>1,\"trouvées\",\"trouvée\")","v":"trouvées"},null,null,null,null,null,null,null,null,null,null,null,null,null,null,null,null,null,null,null,27,0]
[null,null,null,"Points",{"$f":"IF(E31=E30,IFERROR(INDEX(baliseCM,MATCH(E29,lettre,0),MATCH($U32,parcours,0)),\"\"),\"\")","v":1},2,2,2,3,3,3,"","",3,null,"Note",{"$f":"Q27+Q28+Q29+Q30","v":{"$error":"#NUM!"}},"/20",null,null,{"$f":"CONCATENATE(D28,\"points\")","v":"14ORANGEpoints"},null,null,null,null,null,null,null,null,null,null,null,null,null,null,null,null,28,0]
[null,"EQUIPE 5",null,null,null,null,null,null,null,null,null,null,null,{"$f":"(HOUR(M34)*3600+MINUTE(M34)*60+SECOND(M34))-(HOUR($M$2)*3600+MINUTE($M$2)*60+SECOND($M$2))","v":-2098},null,null,null,null,null,"Analyse du parcours",null,null,null,null,null,null,null,null,null,null,null,null,null,null,null,null,null,29,0]
[null,null,null,{"$f":"CONCATENATE(D35,\"bis\")","v":"14ORANGEbis"},"16:06:25",null,null,null,"16:06:27",null,"Durée :",null,{"$f":"I34-E34","v":"00:00:02"},null,null,"Vitesse de course",{"$f":"IF(AND(N33<0,Q38=8),HLOOKUP(N33,REFERENTIELS!$E$33:$I$34,2,TRUE),IF(AND(N33<=0,Q38<>8),2,HLOOKUP(N33,REFERENTIELS!$I$33:$L$34,2,TRUE)))","v":{"$error":"#N/A"}},"/ 6",null,null,null,null,null,null,null,null,null,null,null,null,null,null,null,null,null,null,null,30,0]
[null,null,null,{"$f":"$H$2","v":"14ORANGE"},{"$f":"SQRT(POWER((VLOOKUP(E37,DEBUT!$D$5:$J$110,6,FALSE)-VLOOKUP(F37,DEBUT!$D$5:$J$110,6,FALSE)),2)+POWER((VLOOKUP(E37,DEBUT!$D$5:$J$110,7,FALSE)-VLOOKUP(F37,DEBUT!$D$5:$J$110,7,FALSE)),2))/CARTE!$O$9","v":292.41323207806477},{"$f":"SQRT(POWER((VLOOKUP(F37,DEBUT!$D$5:$J$110,6,FALSE)-VLOOKUP(G37,DEBUT!$D$5:$J$110,6,FALSE)),2)+POWER((VLOOKUP(F37,DEBUT!$D$5:$J$110,7,FALSE)-VLOOKUP(G37,DEBUT!$D$5:$J$110,7,FALSE)),2))/CARTE!$O$9","v":185.45260026215442},{"$f":"SQRT(POWER((VLOOKUP(G37,DEBUT!$D$5:$J$110,6,FALSE)-VLOOKUP(H37,DEBUT!$D$5:$J$110,6,FALSE)),2)+POWER((VLOOKUP(G37,DEBUT!$D$5:$J$110,7,FALSE)-VLOOKUP(H37,DEBUT!$D$5:$J$110,7,FALSE)),2))/CARTE!$O$9","v":388.88158128989608},{"$f":"SQRT(POWER((VLOOKUP(H37,DEBUT!$D$5:$J$110,6,FALSE)-VLOOKUP(I37,DEBUT!$D$5:$J$110,6,FALSE)),2)+POWER((VLOOKUP(H37,DEBUT!$D$5:$J$110,7,FALSE)-VLOOKUP(I37,DEBUT!$D$5:$J$110,7,FALSE)),2))/CARTE!$O$9","v":1321.1931767408294},{"$f":"SQRT(POWER((VLOOKUP(I37,DEBUT!$D$5:$J$110,6,FALSE)-VLOOKUP(J37,DEBUT!$D$5:$J$110,6,FALSE)),2)+POWER((VLOOKUP(I37,DEBUT!$D$5:$J$110,7,FALSE)-VLOOKUP(J37,DEBUT!$D$5:$J$110,7,FALSE)),2))/CARTE!$O$9","v":621.65617723594562},{"$f":"SQRT(POWER((VLOOKUP(J37,DEBUT!$D$5:$J$110,6,FALSE)-VLOOKUP(K37,DEBUT!$D$5:$J$110,6,FALSE)),2)+POWER((VLOOKUP(J37,DEBUT!$D$5:$J$110,7,FALSE)-VLOOKUP(K37,DEBUT!$D$5:$J$110,7,FALSE)),2))/CARTE!$O$9","v":593.18703386263064},{"$f":"SQRT(POWER((VLOOKUP(K37,DEBUT!$D$5:$J$110,6,FALSE)-VLOOKUP(L37,DEBUT!$D$5:$J$110,6,FALSE)),2)+POWER((VLOOKUP(K37,DEBUT!$D$5:$J$110,7,FALSE)-VLOOKUP(L37,DEBUT!$D$5:$J$110,7,FALSE)),2))/CARTE!$O$9","v":{"$error":"#N/A"}},{"$f":"SQRT(POWER((VLOOKUP(L37,DEBUT!$D$5:$J$110,6,FALSE)-VLOOKUP(M37,DEBUT!$D$5:$J$110,6,FALSE)),2)+POWER((VLOOKUP(L37,DEBUT!$D$5:$J$110,7,FALSE)-VLOOKUP(M37,DEBUT!$D$5:$J$110,7,FALSE)),2))/CARTE!$O$9","v":{"$error":"#N/A"}},{"$f":"SQRT(POWER((VLOOKUP(M37,DEBUT!$D$5:$J$110,6,FALSE)-VLOOKUP(N37,DEBUT!$D$5:$J$110,6,FALSE)),2)+POWER((VLOOKUP(M37,DEBUT!$D$5:$J$110,7,FALSE)-VLOOKUP(N37,DEBUT!$D$5:$J$110,7,FALSE)),2))/CARTE!$O$9","v":{"$error":"#N/A"}},{"$f":"SQRT(POWER((VLOOKUP(N37,DEBUT!$D$5:$J$110,6,FALSE)-VLOOKUP(O37,DEBUT!$D$5:$J$110,6,FALSE)),2)+POWER((VLOOKUP(N37,DEBUT!$D$5:$J$110,7,FALSE)-VLOOKUP(O37,DEBUT!$D$5:$J$110,7,FALSE)),2))/CARTE!$O$9","v":1002.1872035440026},null,"Analyse",null,"/ 2",null,null,null,null,null,null,null,null,null,null,null,null,null,null,null,null,null,null,null,31,0]
[null,null,null,"Balises prévues",{"$f":"IF(ISTEXT($D35),HLOOKUP($D35,DEBUT!$O$3:$XX$100,3,FALSE),\"\")","v":"A"},{"$f":"IF(ISTEXT($D35),HLOOKUP($D35,DEBUT!$O$3:$XX$100,4,FALSE),\"\")","v":"B"},{"$f":"IF(ISTEXT($D35),HLOOKUP($D35,DEBUT!$O$3:$XX$100,5,FALSE),\"\")","v":"C"},{"$f":"IF(ISTEXT($D35),HLOOKUP($D35,DEBUT!$O$3:$XX$100,6,FALSE),\"\")","v":"D"},{"$f":"IF(ISTEXT($D35),HLOOKUP($D35,DEBUT!$O$3:$XX$100,7,FALSE),\"\")","v":"E"},{"$f":"IF(ISTEXT($D35),HLOOKUP($D35,DEBUT!$O$3:$XX$100,8,FALSE),\"\")","v":"F"},{"$f":"IF(ISTEXT($D35),HLOOKUP($D35,DEBUT!$O$3:$XX$100,9,FALSE),\"\")","v":"G"},{"$f":"IF(ISTEXT($D35),HLOOKUP($D35,DEBUT!$O$3:$XX$100,10,FALSE),\"\")","v":0},{"$f":"IF(ISTEXT($D35),HLOOKUP($D35,DEBUT!$O$3:$XX$100,11,FALSE),\"\")","v":0},{"$f":"IF(ISTEXT($D35),HLOOKUP($D35,DEBUT!$O$3:$XX$100,12,FALSE),\"\")","v":"J"},2,"Carton contrôle",1,"/ 2",null,null,null,null,null,null,null,null,null,null,null,null,null,null,null,null,null,null,null,32,0]
[null,null,null,"Validé",{"$f":"IF($D37=DEBUT!$L$5,E38,\"\")","v":7},{"$f":"IF($D37=DEBUT!$L$5,F38,\"\")","v":10},{"$f":"IF($D37=DEBUT!$L$5,G38,\"\")","v":11},{"$f":"IF($D37=DEBUT!$L$5,H38,\"\")","v":1},{"$f":"IF($D37=DEBUT!$L$5,I38,\"\")","v":76},{"$f":"IF($D37=DEBUT!$L$5,J38,\"\")","v":46},{"$f":"IF($D37=DEBUT!$L$5,K38,\"\")","v":12},{"$f":"IF($D37=DEBUT!$L$5,L38,\"\")","v":""},{"$f":"IF($D37=DEBUT!$L$5,M38,\"\")","v":""},{"$f":"IF($D37=DEBUT!$L$5,N38,\"\")","v":16},null,"Conduite itinéraire",{"$f":"IF($Q$4=DEBUT!$K$6,HLOOKUP(Q38,REFERENTIELS!$E$7:$M$8,2,TRUE)+COUNTIF(E39:N39,2)*0.5,HLOOKUP(Q38,REFERENTIELS!$E$7:$M$8,2,TRUE)+COUNTIF(E39:N39,3)*0.5)","v":7.5},"/ 10",null,null,null,null,null,null,null,null,null,null,null,null,null,null,null,null,null,null,null,33,0]
[null,null,null,"Balises CM",{"$f":"IFERROR(INDEX(baliseCM,MATCH(E36,lettre,0),MATCH($D34,parcours,0)),\"\")","v":7},{"$f":"IFERROR(INDEX(baliseCM,MATCH(F36,lettre,0),MATCH($D34,parcours,0)),\"\")","v":10},11,1,76,46,12,"","",16,null,"Nombre balises justes",{"$f":"COUNTIF(E39:N39,\">0\")","v":8},{"$f":"IF(Q38>1,\"trouvées\",\"trouvée\")","v":"trouvées"},null,null,null,null,null,null,null,null,null,null,null,null,null,null,null,null,null,null,null,34,0]
[null,null,null,"Points",{"$f":"IF(E38=E37,IFERROR(INDEX(baliseCM,MATCH(E36,lettre,0),MATCH($U39,parcours,0)),\"\"),\"\")","v":1},2,2,2,3,3,3,"","",3,null,"Note",{"$f":"Q34+Q35+Q36+Q37","v":{"$error":"#N/A"}},"/20",null,null,{"$f":"CONCATENATE(D35,\"points\")","v":"14ORANGEpoints"},null,null,null,null,null,null,null,null,null,null,null,null,null,null,null,null,35,0]
[null,"EQUIPE 6",null,null,null,null,null,null,null,null,null,null,null,{"$f":"(HOUR(M41)*3600+MINUTE(M41)*60+SECOND(M41))-(HOUR($M$2)*3600+MINUTE($M$2)*60+SECOND($M$2))","v":{"$error":"#NUM!"}},null,null,null,null,null,"Analyse du parcours",null,null,null,null,null,null,null,null,null,null,null,null,null,null,null,null,null,36,0]
[null,null,null,{"$f":"CONCATENATE(D42,\"bis\")","v":"14ORANGEbis"},"22:22:07",null,null,null,null,null,"Durée :",null,{"$f":"I41-E41","v":-0.93202546296296296},null,null,"Vitesse de course",{"$f":"IF(AND(N40<0,Q45=8),HLOOKUP(N40,REFERENTIELS!$E$33:$I$34,2,TRUE),IF(AND(N40<=0,Q45<>8),2,HLOOKUP(N40,REFERENTIELS!$I$33:$L$34,2,TRUE)))","v":{"$error":"#NUM!"}},"/ 6"]
[null,null,null,{"$f":"$H$2","v":"14ORANGE"},{"$f":"SQRT(POWER((VLOOKUP(E44,DEBUT!$D$5:$J$110,6,FALSE)-VLOOKUP(F44,DEBUT!$D$5:$J$110,6,FALSE)),2)+POWER((VLOOKUP(E44,DEBUT!$D$5:$J$110,7,FALSE)-VLOOKUP(F44,DEBUT!$D$5:$J$110,7,FALSE)),2))/CARTE!$O$9","v":292.41323207806477},{"$f":"SQRT(POWER((VLOOKUP(F44,DEBUT!$D$5:$J$110,6,FALSE)-VLOOKUP(G44,DEBUT!$D$5:$J$110,6,FALSE)),2)+POWER((VLOOKUP(F44,DEBUT!$D$5:$J$110,7,FALSE)-VLOOKUP(G44,DEBUT!$D$5:$J$110,7,FALSE)),2))/CARTE!$O$9","v":185.45260026215442},{"$f":"SQRT(POWER((VLOOKUP(G44,DEBUT!$D$5:$J$110,6,FALSE)-VLOOKUP(H44,DEBUT!$D$5:$J$110,6,FALSE)),2)+POWER((VLOOKUP(G44,DEBUT!$D$5:$J$110,7,FALSE)-VLOOKUP(H44,DEBUT!$D$5:$J$110,7,FALSE)),2))/CARTE!$O$9","v":388.88158128989608},{"$f":"SQRT(POWER((VLOOKUP(H44,DEBUT!$D$5:$J$110,6,FALSE)-VLOOKUP(I44,DEBUT!$D$5:$J$110,6,FALSE)),2)+POWER((VLOOKUP(H44,DEBUT!$D$5:$J$110,7,FALSE)-VLOOKUP(I44,DEBUT!$D$5:$J$110,7,FALSE)),2))/CARTE!$O$9","v":1321.1931767408294},{"$f":"SQRT(POWER((VLOOKUP(I44,DEBUT!$D$5:$J$110,6,FALSE)-VLOOKUP(J44,DEBUT!$D$5:$J$110,6,FALSE)),2)+POWER((VLOOKUP(I44,DEBUT!$D$5:$J$110,7,FALSE)-VLOOKUP(J44,DEBUT!$D$5:$J$110,7,FALSE)),2))/CARTE!$O$9","v":621.65617723594562},{"$f":"SQRT(POWER((VLOOKUP(J44,DEBUT!$D$5:$J$110,6,FALSE)-VLOOKUP(K44,DEBUT!$D$5:$J$110,6,FALSE)),2)+POWER((VLOOKUP(J44,DEBUT!$D$5:$J$110,7,FALSE)-VLOOKUP(K44,DEBUT!$D$5:$J$110,7,FALSE)),2))/CARTE!$O$9","v":593.18703386263064},{"$f":"SQRT(POWER((VLOOKUP(K44,DEBUT!$D$5:$J$110,6,FALSE)-VLOOKUP(L44,DEBUT!$D$5:$J$110,6,FALSE)),2)+POWER((VLOOKUP(K44,DEBUT!$D$5:$J$110,7,FALSE)-VLOOKUP(L44,DEBUT!$D$5:$J$110,7,FALSE)),2))/CARTE!$O$9","v":{"$error":"#N/A"}},{"$f":"SQRT(POWER((VLOOKUP(L44,DEBUT!$D$5:$J$110,6,FALSE)-VLOOKUP(M44,DEBUT!$D$5:$J$110,6,FALSE)),2)+POWER((VLOOKUP(L44,DEBUT!$D$5:$J$110,7,FALSE)-VLOOKUP(M44,DEBUT!$D$5:$J$110,7,FALSE)),2))/CARTE!$O$9","v":{"$error":"#N/A"}},{"$f":"SQRT(POWER((VLOOKUP(M44,DEBUT!$D$5:$J$110,6,FALSE)-VLOOKUP(N44,DEBUT!$D$5:$J$110,6,FALSE)),2)+POWER((VLOOKUP(M44,DEBUT!$D$5:$J$110,7,FALSE)-VLOOKUP(N44,DEBUT!$D$5:$J$110,7,FALSE)),2))/CARTE!$O$9","v":{"$error":"#N/A"}},{"$f":"SQRT(POWER((VLOOKUP(N44,DEBUT!$D$5:$J$110,6,FALSE)-VLOOKUP(O44,DEBUT!$D$5:$J$110,6,FALSE)),2)+POWER((VLOOKUP(N44,DEBUT!$D$5:$J$110,7,FALSE)-VLOOKUP(O44,DEBUT!$D$5:$J$110,7,FALSE)),2))/CARTE!$O$9","v":1002.1872035440026},null,"Analyse",null,"/ 2"]
[null,null,null,"Balises prévues",{"$f":"IF(ISTEXT($D42),HLOOKUP($D42,DEBUT!$O$3:$XX$100,3,FALSE),\"\")","v":"A"},{"$f":"IF(ISTEXT($D42),HLOOKUP($D42,DEBUT!$O$3:$XX$100,4,FALSE),\"\")","v":"B"},{"$f":"IF(ISTEXT($D42),HLOOKUP($D42,DEBUT!$O$3:$XX$100,5,FALSE),\"\")","v":"C"},{"$f":"IF(ISTEXT($D42),HLOOKUP($D42,DEBUT!$O$3:$XX$100,6,FALSE),\"\")","v":"D"},{"$f":"IF(ISTEXT($D42),HLOOKUP($D42,DEBUT!$O$3:$XX$100,7,FALSE),\"\")","v":"E"},{"$f":"IF(ISTEXT($D42),HLOOKUP($D42,DEBUT!$O$3:$XX$100,8,FALSE),\"\")","v":"F"},{"$f":"IF(ISTEXT($D42),HLOOKUP($D42,DEBUT!$O$3:$XX$100,9,FALSE),\"\")","v":"G"},{"$f":"IF(ISTEXT($D42),HLOOKUP($D42,DEBUT!$O$3:$XX$100,10,FALSE),\"\")","v":0},{"$f":"IF(ISTEXT($D42),HLOOKUP($D42,DEBUT!$O$3:$XX$100,11,FALSE),\"\")","v":0},{"$f":"IF(ISTEXT($D42),HLOOKUP($D42,DEBUT!$O$3:$XX$100,12,FALSE),\"\")","v":"J"},2,"Carton contrôle",1,"/ 2"]
[null,null,null,"Validé",{"$f":"IF($D44=DEBUT!$L$5,E45,\"\")","v":7},{"$f":"IF($D44=DEBUT!$L$5,F45,\"\")","v":10},{"$f":"IF($D44=DEBUT!$L$5,G45,\"\")","v":11},{"$f":"IF($D44=DEBUT!$L$5,H45,\"\")","v":1},{"$f":"IF($D44=DEBUT!$L$5,I45,\"\")","v":76},{"$f":"IF($D44=DEBUT!$L$5,J45,\"\")","v":46},{"$f":"IF($D44=DEBUT!$L$5,K45,\"\")","v":12},{"$f":"IF($D44=DEBUT!$L$5,L45,\"\")","v":""},{"$f":"IF($D44=DEBUT!$L$5,M45,\"\")","v":""},{"$f":"IF($D44=DEBUT!$L$5,N45,\"\")","v":16},null,"Conduite itinéraire",{"$f":"HLOOKUP(Q45,REFERENTIELS!$E$7:$M$8,2,TRUE)","v":6},"/ 10"]
[null,null,null,"Balises CM",{"$f":"IFERROR(INDEX(baliseCM,MATCH(E43,lettre,0),MATCH($D41,parcours,0)),\"\")","v":7},{"$f":"IFERROR(INDEX(baliseCM,MATCH(F43,lettre,0),MATCH($D41,parcours,0)),\"\")","v":10},11,1,76,46,12,"","",16,null,"Nombre balises justes",{"$f":"COUNTIF(E46:N46,\">0\")","v":8},{"$f":"IF(Q45>1,\"trouvées\",\"trouvée\")","v":"trouvées"}]
[null,null,null,"Points",{"$f":"IF(E45=E44,IFERROR(INDEX(baliseCM,MATCH(E43,lettre,0),MATCH($U46,parcours,0)),\"\"),\"\")","v":1},2,2,2,3,3,3,"","",3,null,"Note",{"$f":"Q41+Q42+Q43+Q44","v":{"$error":"#NUM!"}},"/20",null,null,{"$f":"CONCATENATE(D42,\"points\")","v":"14ORANGEpoints"}]
[null,"EQUIPE 7",null,null,null,null,null,null,null,null,null,null,null,{"$f":"(HOUR(M48)*3600+MINUTE(M48)*60+SECOND(M48))-(HOUR($M$2)*3600+MINUTE($M$2)*60+SECOND($M$2))","v":{"$error":"#NUM!"}},null,null,null,null,null,"Analyse du parcours"]
[null,null,null,{"$f":"CONCATENATE(D49,\"bis\")","v":"14ORANGEbis"},"22:22:08",null,null,null,null,null,"Durée :",null,{"$f":"I48-E48","v":-0.93203703703703711},null,null,"Vitesse de course",{"$f":"IF(AND(N47<0,Q52=8),HLOOKUP(N47,REFERENTIELS!$E$33:$I$34,2,TRUE),IF(AND(N47<=0,Q52<>8),2,HLOOKUP(N47,REFERENTIELS!$I$33:$L$34,2,TRUE)))","v":{"$error":"#NUM!"}},"/ 6"]
[null,null,null,{"$f":"$H$2","v":"14ORANGE"},{"$f":"SQRT(POWER((VLOOKUP(E51,DEBUT!$D$5:$J$110,6,FALSE)-VLOOKUP(F51,DEBUT!$D$5:$J$110,6,FALSE)),2)+POWER((VLOOKUP(E51,DEBUT!$D$5:$J$110,7,FALSE)-VLOOKUP(F51,DEBUT!$D$5:$J$110,7,FALSE)),2))/CARTE!$O$9","v":292.41323207806477},{"$f":"SQRT(POWER((VLOOKUP(F51,DEBUT!$D$5:$J$110,6,FALSE)-VLOOKUP(G51,DEBUT!$D$5:$J$110,6,FALSE)),2)+POWER((VLOOKUP(F51,DEBUT!$D$5:$J$110,7,FALSE)-VLOOKUP(G51,DEBUT!$D$5:$J$110,7,FALSE)),2))/CARTE!$O$9","v":185.45260026215442},{"$f":"SQRT(POWER((VLOOKUP(G51,DEBUT!$D$5:$J$110,6,FALSE)-VLOOKUP(H51,DEBUT!$D$5:$J$110,6,FALSE)),2)+POWER((VLOOKUP(G51,DEBUT!$D$5:$J$110,7,FALSE)-VLOOKUP(H51,DEBUT!$D$5:$J$110,7,FALSE)),2))/CARTE!$O$9","v":388.88158128989608},{"$f":"SQRT(POWER((VLOOKUP(H51,DEBUT!$D$5:$J$110,6,FALSE)-VLOOKUP(I51,DEBUT!$D$5:$J$110,6,FALSE)),2)+POWER((VLOOKUP(H51,DEBUT!$D$5:$J$110,7,FALSE)-VLOOKUP(I51,DEBUT!$D$5:$J$110,7,FALSE)),2))/CARTE!$O$9","v":1321.1931767408294},{"$f":"SQRT(POWER((VLOOKUP(I51,DEBUT!$D$5:$J$110,6,FALSE)-VLOOKUP(J51,DEBUT!$D$5:$J$110,6,FALSE)),2)+POWER((VLOOKUP(I51,DEBUT!$D$5:$J$110,7,FALSE)-VLOOKUP(J51,DEBUT!$D$5:$J$110,7,FALSE)),2))/CARTE!$O$9","v":621.65617723594562},{"$f":"SQRT(POWER((VLOOKUP(J51,DEBUT!$D$5:$J$110,6,FALSE)-VLOOKUP(K51,DEBUT!$D$5:$J$110,6,FALSE)),2)+POWER((VLOOKUP(J51,DEBUT!$D$5:$J$110,7,FALSE)-VLOOKUP(K51,DEBUT!$D$5:$J$110,7,FALSE)),2))/CARTE!$O$9","v":593.18703386263064},{"$f":"SQRT(POWER((VLOOKUP(K51,DEBUT!$D$5:$J$110,6,FALSE)-VLOOKUP(L51,DEBUT!$D$5:$J$110,6,FALSE)),2)+POWER((VLOOKUP(K51,DEBUT!$D$5:$J$110,7,FALSE)-VLOOKUP(L51,DEBUT!$D$5:$J$110,7,FALSE)),2))/CARTE!$O$9","v":{"$error":"#N/A"}},{"$f":"SQRT(POWER((VLOOKUP(L51,DEBUT!$D$5:$J$110,6,FALSE)-VLOOKUP(M51,DEBUT!$D$5:$J$110,6,FALSE)),2)+POWER((VLOOKUP(L51,DEBUT!$D$5:$J$110,7,FALSE)-VLOOKUP(M51,DEBUT!$D$5:$J$110,7,FALSE)),2))/CARTE!$O$9","v":{"$error":"#N/A"}},{"$f":"SQRT(POWER((VLOOKUP(M51,DEBUT!$D$5:$J$110,6,FALSE)-VLOOKUP(N51,DEBUT!$D$5:$J$110,6,FALSE)),2)+POWER((VLOOKUP(M51,DEBUT!$D$5:$J$110,7,FALSE)-VLOOKUP(N51,DEBUT!$D$5:$J$110,7,FALSE)),2))/CARTE!$O$9","v":{"$error":"#N/A"}},{"$f":"SQRT(POWER((VLOOKUP(N51,DEBUT!$D$5:$J$110,6,FALSE)-VLOOKUP(O51,DEBUT!$D$5:$J$110,6,FALSE)),2)+POWER((VLOOKUP(N51,DEBUT!$D$5:$J$110,7,FALSE)-VLOOKUP(O51,DEBUT!$D$5:$J$110,7,FALSE)),2))/CARTE!$O$9","v":1002.1872035440026},null,"Analyse",null,"/ 2"]
[null,null,null,"Balises prévues",{"$f":"IF(ISTEXT($D49),HLOOKUP($D49,DEBUT!$O$3:$XX$100,3,FALSE),\"\")","v":"A"},{"$f":"IF(ISTEXT($D49),HLOOKUP($D49,DEBUT!$O$3:$XX$100,4,FALSE),\"\")","v":"B"},{"$f":"IF(ISTEXT($D49),HLOOKUP($D49,DEBUT!$O$3:$XX$100,5,FALSE),\"\")","v":"C"},{"$f":"IF(ISTEXT($D49),HLOOKUP($D49,DEBUT!$O$3:$XX$100,6,FALSE),\"\")","v":"D"},{"$f":"IF(ISTEXT($D49),HLOOKUP($D49,DEBUT!$O$3:$XX$100,7,FALSE),\"\")","v":"E"},{"$f":"IF(ISTEXT($D49),HLOOKUP($D49,DEBUT!$O$3:$XX$100,8,FALSE),\"\")","v":"F"},{"$f":"IF(ISTEXT($D49),HLOOKUP($D49,DEBUT!$O$3:$XX$100,9,FALSE),\"\")","v":"G"},{"$f":"IF(ISTEXT($D49),HLOOKUP($D49,DEBUT!$O$3:$XX$100,10,FALSE),\"\")","v":0},{"$f":"IF(ISTEXT($D49),HLOOKUP($D49,DEBUT!$O$3:$XX$100,11,FALSE),\"\")","v":0},{"$f":"IF(ISTEXT($D49),HLOOKUP($D49,DEBUT!$O$3:$XX$100,12,FALSE),\"\")","v":"J"},2,"Carton contrôle",1,"/ 2"]
[null,null,null,"Validé",{"$f":"IF($D51=DEBUT!$L$5,E52,\"\")","v":7},{"$f":"IF($D51=DEBUT!$L$5,F52,\"\")","v":10},{"$f":"IF($D51=DEBUT!$L$5,G52,\"\")","v":11},{"$f":"IF($D51=DEBUT!$L$5,H52,\"\")","v":1},{"$f":"IF($D51=DEBUT!$L$5,I52,\"\")","v":76},{"$f":"IF($D51=DEBUT!$L$5,J52,\"\")","v":46},{"$f":"IF($D51=DEBUT!$L$5,K52,\"\")","v":12},{"$f":"IF($D51=DEBUT!$L$5,L52,\"\")","v":""},{"$f":"IF($D51=DEBUT!$L$5,M52,\"\")","v":""},{"$f":"IF($D51=DEBUT!$L$5,N52,\"\")","v":16},null,"Conduite itinéraire",{"$f":"IF($Q$4=DEBUT!$K$6,HLOOKUP(Q52,REFERENTIELS!$E$7:$M$8,2,TRUE)+COUNTIF(E53:N53,2)*0.5,HLOOKUP(Q52,REFERENTIELS!$E$7:$M$8,2,TRUE)+COUNTIF(E53:N53,3)*0.5)","v":7.5},"/ 10"]
[null,null,null,"Balises CM",{"$f":"IFERROR(INDEX(baliseCM,MATCH(E50,lettre,0),MATCH($D48,parcours,0)),\"\")","v":7},{"$f":"IFERROR(INDEX(baliseCM,MATCH(F50,lettre,0),MATCH($D48,parcours,0)),\"\")","v":10},11,1,76,46,12,"","",16,null,"Nombre balises justes",{"$f":"COUNTIF(E53:N53,\">0\")","v":8},{"$f":"IF(Q52>1,\"trouvées\",\"trouvée\")","v":"trouvées"}]
[null,null,null,"Points",{"$f":"IF(E52=E51,IFERROR(INDEX(baliseCM,MATCH(E50,lettre,0),MATCH($U53,parcours,0)),\"\"),\"\")","v":1},2,2,2,3,3,3,"","",3,null,"Note",{"$f":"Q48+Q49+Q50+Q51","v":{"$error":"#NUM!"}},"/20",null,null,{"$f":"CONCATENATE(D49,\"points\")","v":"14ORANGEpoints"}]
[null,"EQUIPE 8",null,null,null,null,null,null,null,null,null,null,null,{"$f":"(HOUR(M55)*3600+MINUTE(M55)*60+SECOND(M55))-(HOUR($M$2)*3600+MINUTE($M$2)*60+SECOND($M$2))","v":{"$error":"#NUM!"}},null,null,null,null,null,"Analyse du parcours"]
[null,null,null,{"$f":"CONCATENATE(D56,\"bis\")","v":"14ORANGEbis"},"22:22:08",null,null,null,null,null,"Durée :",null,{"$f":"I55-E55","v":-0.93203703703703711},null,null,"Vitesse de course",{"$f":"IF(AND(N54<0,Q59=8),HLOOKUP(N54,REFERENTIELS!$E$33:$I$34,2,TRUE),IF(AND(N54<=0,Q59<>8),2,HLOOKUP(N54,REFERENTIELS!$I$33:$L$34,2,TRUE)))","v":{"$error":"#NUM!"}},"/ 6"]
[null,null,null,{"$f":"$H$2","v":"14ORANGE"},{"$f":"SQRT(POWER((VLOOKUP(E58,DEBUT!$D$5:$J$110,6,FALSE)-VLOOKUP(F58,DEBUT!$D$5:$J$110,6,FALSE)),2)+POWER((VLOOKUP(E58,DEBUT!$D$5:$J$110,7,FALSE)-VLOOKUP(F58,DEBUT!$D$5:$J$110,7,FALSE)),2))/CARTE!$O$9","v":292.41323207806477},{"$f":"SQRT(POWER((VLOOKUP(F58,DEBUT!$D$5:$J$110,6,FALSE)-VLOOKUP(G58,DEBUT!$D$5:$J$110,6,FALSE)),2)+POWER((VLOOKUP(F58,DEBUT!$D$5:$J$110,7,FALSE)-VLOOKUP(G58,DEBUT!$D$5:$J$110,7,FALSE)),2))/CARTE!$O$9","v":185.45260026215442},{"$f":"SQRT(POWER((VLOOKUP(G58,DEBUT!$D$5:$J$110,6,FALSE)-VLOOKUP(H58,DEBUT!$D$5:$J$110,6,FALSE)),2)+POWER((VLOOKUP(G58,DEBUT!$D$5:$J$110,7,FALSE)-VLOOKUP(H58,DEBUT!$D$5:$J$110,7,FALSE)),2))/CARTE!$O$9","v":388.88158128989608},{"$f":"SQRT(POWER((VLOOKUP(H58,DEBUT!$D$5:$J$110,6,FALSE)-VLOOKUP(I58,DEBUT!$D$5:$J$110,6,FALSE)),2)+POWER((VLOOKUP(H58,DEBUT!$D$5:$J$110,7,FALSE)-VLOOKUP(I58,DEBUT!$D$5:$J$110,7,FALSE)),2))/CARTE!$O$9","v":1321.1931767408294},{"$f":"SQRT(POWER((VLOOKUP(I58,DEBUT!$D$5:$J$110,6,FALSE)-VLOOKUP(J58,DEBUT!$D$5:$J$110,6,FALSE)),2)+POWER((VLOOKUP(I58,DEBUT!$D$5:$J$110,7,FALSE)-VLOOKUP(J58,DEBUT!$D$5:$J$110,7,FALSE)),2))/CARTE!$O$9","v":621.65617723594562},{"$f":"SQRT(POWER((VLOOKUP(J58,DEBUT!$D$5:$J$110,6,FALSE)-VLOOKUP(K58,DEBUT!$D$5:$J$110,6,FALSE)),2)+POWER((VLOOKUP(J58,DEBUT!$D$5:$J$110,7,FALSE)-VLOOKUP(K58,DEBUT!$D$5:$J$110,7,FALSE)),2))/CARTE!$O$9","v":593.18703386263064},{"$f":"SQRT(POWER((VLOOKUP(K58,DEBUT!$D$5:$J$110,6,FALSE)-VLOOKUP(L58,DEBUT!$D$5:$J$110,6,FALSE)),2)+POWER((VLOOKUP(K58,DEBUT!$D$5:$J$110,7,FALSE)-VLOOKUP(L58,DEBUT!$D$5:$J$110,7,FALSE)),2))/CARTE!$O$9","v":{"$error":"#N/A"}},{"$f":"SQRT(POWER((VLOOKUP(L58,DEBUT!$D$5:$J$110,6,FALSE)-VLOOKUP(M58,DEBUT!$D$5:$J$110,6,FALSE)),2)+POWER((VLOOKUP(L58,DEBUT!$D$5:$J$110,7,FALSE)-VLOOKUP(M58,DEBUT!$D$5:$J$110,7,FALSE)),2))/CARTE!$O$9","v":{"$error":"#N/A"}},{"$f":"SQRT(POWER((VLOOKUP(M58,DEBUT!$D$5:$J$110,6,FALSE)-VLOOKUP(N58,DEBUT!$D$5:$J$110,6,FALSE)),2)+POWER((VLOOKUP(M58,DEBUT!$D$5:$J$110,7,FALSE)-VLOOKUP(N58,DEBUT!$D$5:$J$110,7,FALSE)),2))/CARTE!$O$9","v":{"$error":"#N/A"}},{"$f":"SQRT(POWER((VLOOKUP(N58,DEBUT!$D$5:$J$110,6,FALSE)-VLOOKUP(O58,DEBUT!$D$5:$J$110,6,FALSE)),2)+POWER((VLOOKUP(N58,DEBUT!$D$5:$J$110,7,FALSE)-VLOOKUP(O58,DEBUT!$D$5:$J$110,7,FALSE)),2))/CARTE!$O$9","v":1002.1872035440026},null,"Analyse",null,"/ 2"]
[null,null,null,"Balises prévues",{"$f":"IF(ISTEXT($D56),HLOOKUP($D56,DEBUT!$O$3:$XX$100,3,FALSE),\"\")","v":"A"},{"$f":"IF(ISTEXT($D56),HLOOKUP($D56,DEBUT!$O$3:$XX$100,4,FALSE),\"\")","v":"B"},{"$f":"IF(ISTEXT($D56),HLOOKUP($D56,DEBUT!$O$3:$XX$100,5,FALSE),\"\")","v":"C"},{"$f":"IF(ISTEXT($D56),HLOOKUP($D56,DEBUT!$O$3:$XX$100,6,FALSE),\"\")","v":"D"},{"$f":"IF(ISTEXT($D56),HLOOKUP($D56,DEBUT!$O$3:$XX$100,7,FALSE),\"\")","v":"E"},{"$f":"IF(ISTEXT($D56),HLOOKUP($D56,DEBUT!$O$3:$XX$100,8,FALSE),\"\")","v":"F"},{"$f":"IF(ISTEXT($D56),HLOOKUP($D56,DEBUT!$O$3:$XX$100,9,FALSE),\"\")","v":"G"},{"$f":"IF(ISTEXT($D56),HLOOKUP($D56,DEBUT!$O$3:$XX$100,10,FALSE),\"\")","v":0},{"$f":"IF(ISTEXT($D56),HLOOKUP($D56,DEBUT!$O$3:$XX$100,11,FALSE),\"\")","v":0},{"$f":"IF(ISTEXT($D56),HLOOKUP($D56,DEBUT!$O$3:$XX$100,12,FALSE),\"\")","v":"J"},2,"Carton contrôle",1,"/ 2"]
[null,null,null,"Validé",{"$f":"IF($D58=DEBUT!$L$5,E59,\"\")","v":7},{"$f":"IF($D58=DEBUT!$L$5,F59,\"\")","v":10},{"$f":"IF($D58=DEBUT!$L$5,G59,\"\")","v":11},{"$f":"IF($D58=DEBUT!$L$5,H59,\"\")","v":1},{"$f":"IF($D58=DEBUT!$L$5,I59,\"\")","v":76},{"$f":"IF($D58=DEBUT!$L$5,J59,\"\")","v":46},{"$f":"IF($D58=DEBUT!$L$5,K59,\"\")","v":12},{"$f":"IF($D58=DEBUT!$L$5,L59,\"\")","v":""},{"$f":"IF($D58=DEBUT!$L$5,M59,\"\")","v":""},{"$f":"IF($D58=DEBUT!$L$5,N59,\"\")","v":16},null,"Conduite itinéraire",{"$f":"IF($Q$4=DEBUT!$K$6,HLOOKUP(Q59,REFERENTIELS!$E$7:$M$8,2,TRUE)+COUNTIF(E60:N60,2)*0.5,HLOOKUP(Q59,REFERENTIELS!$E$7:$M$8,2,TRUE)+COUNTIF(E60:N60,3)*0.5)","v":7.5},"/ 10"]
[null,null,null,"Balises CM",{"$f":"IFERROR(INDEX(baliseCM,MATCH(E57,lettre,0),MATCH($D55,parcours,0)),\"\")","v":7},{"$f":"IFERROR(INDEX(baliseCM,MATCH(F57,lettre,0),MATCH($D55,parcours,0)),\"\")","v":10},11,1,76,46,12,"","",16,null,"Nombre balises justes",{"$f":"COUNTIF(E60:N60,\">0\")","v":8},{"$f":"IF(Q59>1,\"trouvées\",\"trouvée\")","v":"trouvées"}]
[null,null,null,"Points",{"$f":"IF(E59=E58,IFERROR(INDEX(baliseCM,MATCH(E57,lettre,0),MATCH($U60,parcours,0)),\"\"),\"\")","v":1},2,2,2,3,3,3,"","",3,null,"Note",{"$f":"Q55+Q56+Q57+Q58","v":{"$error":"#NUM!"}},"/20",null,null,{"$f":"CONCATENATE(D56,\"points\")","v":"14ORANGEpoints"}]
[null,"EQUIPE 9",null,null,null,null,null,null,null,null,null,null,null,{"$f":"(HOUR(M62)*3600+MINUTE(M62)*60+SECOND(M62))-(HOUR($M$2)*3600+MINUTE($M$2)*60+SECOND($M$2))","v":{"$error":"#NUM!"}},null,null,null,null,null,"Analyse du parcours"]
[null,null,null,{"$f":"CONCATENATE(D63,\"bis\")","v":"14ORANGEbis"},"22:22:08",null,null,null,null,null,"Durée :",null,{"$f":"I62-E62","v":-0.93203703703703711},null,null,"Vitesse de course",{"$f":"IF(AND(N61<0,Q66=8),HLOOKUP(N61,REFERENTIELS!$E$33:$I$34,2,TRUE),IF(AND(N61<=0,Q66<>8),2,HLOOKUP(N61,REFERENTIELS!$I$33:$L$34,2,TRUE)))","v":{"$error":"#NUM!"}},"/ 6"]
[null,null,null,{"$f":"$H$2","v":"14ORANGE"},{"$f":"SQRT(POWER((VLOOKUP(E65,DEBUT!$D$5:$J$110,6,FALSE)-VLOOKUP(F65,DEBUT!$D$5:$J$110,6,FALSE)),2)+POWER((VLOOKUP(E65,DEBUT!$D$5:$J$110,7,FALSE)-VLOOKUP(F65,DEBUT!$D$5:$J$110,7,FALSE)),2))/CARTE!$O$9","v":292.41323207806477},{"$f":"SQRT(POWER((VLOOKUP(F65,DEBUT!$D$5:$J$110,6,FALSE)-VLOOKUP(G65,DEBUT!$D$5:$J$110,6,FALSE)),2)+POWER((VLOOKUP(F65,DEBUT!$D$5:$J$110,7,FALSE)-VLOOKUP(G65,DEBUT!$D$5:$J$110,7,FALSE)),2))/CARTE!$O$9","v":185.45260026215442},{"$f":"SQRT(POWER((VLOOKUP(G65,DEBUT!$D$5:$J$110,6,FALSE)-VLOOKUP(H65,DEBUT!$D$5:$J$110,6,FALSE)),2)+POWER((VLOOKUP(G65,DEBUT!$D$5:$J$110,7,FALSE)-VLOOKUP(H65,DEBUT!$D$5:$J$110,7,FALSE)),2))/CARTE!$O$9","v":388.88158128989608},{"$f":"SQRT(POWER((VLOOKUP(H65,DEBUT!$D$5:$J$110,6,FALSE)-VLOOKUP(I65,DEBUT!$D$5:$J$110,6,FALSE)),2)+POWER((VLOOKUP(H65,DEBUT!$D$5:$J$110,7,FALSE)-VLOOKUP(I65,DEBUT!$D$5:$J$110,7,FALSE)),2))/CARTE!$O$9","v":1321.1931767408294},{"$f":"SQRT(POWER((VLOOKUP(I65,DEBUT!$D$5:$J$110,6,FALSE)-VLOOKUP(J65,DEBUT!$D$5:$J$110,6,FALSE)),2)+POWER((VLOOKUP(I65,DEBUT!$D$5:$J$110,7,FALSE)-VLOOKUP(J65,DEBUT!$D$5:$J$110,7,FALSE)),2))/CARTE!$O$9","v":621.65617723594562},{"$f":"SQRT(POWER((VLOOKUP(J65,DEBUT!$D$5:$J$110,6,FALSE)-VLOOKUP(K65,DEBUT!$D$5:$J$110,6,FALSE)),2)+POWER((VLOOKUP(J65,DEBUT!$D$5:$J$110,7,FALSE)-VLOOKUP(K65,DEBUT!$D$5:$J$110,7,FALSE)),2))/CARTE!$O$9","v":593.18703386263064},{"$f":"SQRT(POWER((VLOOKUP(K65,DEBUT!$D$5:$J$110,6,FALSE)-VLOOKUP(L65,DEBUT!$D$5:$J$110,6,FALSE)),2)+POWER((VLOOKUP(K65,DEBUT!$D$5:$J$110,7,FALSE)-VLOOKUP(L65,DEBUT!$D$5:$J$110,7,FALSE)),2))/CARTE!$O$9","v":{"$error":"#N/A"}},{"$f":"SQRT(POWER((VLOOKUP(L65,DEBUT!$D$5:$J$110,6,FALSE)-VLOOKUP(M65,DEBUT!$D$5:$J$110,6,FALSE)),2)+POWER((VLOOKUP(L65,DEBUT!$D$5:$J$110,7,FALSE)-VLOOKUP(M65,DEBUT!$D$5:$J$110,7,FALSE)),2))/CARTE!$O$9","v":{"$error":"#N/A"}},{"$f":"SQRT(POWER((VLOOKUP(M65,DEBUT!$D$5:$J$110,6,FALSE)-VLOOKUP(N65,DEBUT!$D$5:$J$110,6,FALSE)),2)+POWER((VLOOKUP(M65,DEBUT!$D$5:$J$110,7,FALSE)-VLOOKUP(N65,DEBUT!$D$5:$J$110,7,FALSE)),2))/CARTE!$O$9","v":{"$error":"#N/A"}},{"$f":"SQRT(POWER((VLOOKUP(N65,DEBUT!$D$5:$J$110,6,FALSE)-VLOOKUP(O65,DEBUT!$D$5:$J$110,6,FALSE)),2)+POWER((VLOOKUP(N65,DEBUT!$D$5:$J$110,7,FALSE)-VLOOKUP(O65,DEBUT!$D$5:$J$110,7,FALSE)),2))/CARTE!$O$9","v":1002.1872035440026},null,"Analyse",null,"/ 2"]
[null,null,null,"Balises prévues",{"$f":"IF(ISTEXT($D63),HLOOKUP($D63,DEBUT!$O$3:$XX$100,3,FALSE),\"\")","v":"A"},{"$f":"IF(ISTEXT($D63),HLOOKUP($D63,DEBUT!$O$3:$XX$100,4,FALSE),\"\")","v":"B"},{"$f":"IF(ISTEXT($D63),HLOOKUP($D63,DEBUT!$O$3:$XX$100,5,FALSE),\"\")","v":"C"},{"$f":"IF(ISTEXT($D63),HLOOKUP($D63,DEBUT!$O$3:$XX$100,6,FALSE),\"\")","v":"D"},{"$f":"IF(ISTEXT($D63),HLOOKUP($D63,DEBUT!$O$3:$XX$100,7,FALSE),\"\")","v":"E"},{"$f":"IF(ISTEXT($D63),HLOOKUP($D63,DEBUT!$O$3:$XX$100,8,FALSE),\"\")","v":"F"},{"$f":"IF(ISTEXT($D63),HLOOKUP($D63,DEBUT!$O$3:$XX$100,9,FALSE),\"\")","v":"G"},{"$f":"IF(ISTEXT($D63),HLOOKUP($D63,DEBUT!$O$3:$XX$100,10,FALSE),\"\")","v":0},{"$f":"IF(ISTEXT($D63),HLOOKUP($D63,DEBUT!$O$3:$XX$100,11,FALSE),\"\")","v":0},{"$f":"IF(ISTEXT($D63),HLOOKUP($D63,DEBUT!$O$3:$XX$100,12,FALSE),\"\")","v":"J"},2,"Carton contrôle",1,"/ 2"]
[null,null,null,"Validé",{"$f":"IF($D65=DEBUT!$L$5,E66,\"\")","v":7},{"$f":"IF($D65=DEBUT!$L$5,F66,\"\")","v":10},{"$f":"IF($D65=DEBUT!$L$5,G66,\"\")","v":11},{"$f":"IF($D65=DEBUT!$L$5,H66,\"\")","v":1},{"$f":"IF($D65=DEBUT!$L$5,I66,\"\")","v":76},{"$f":"IF($D65=DEBUT!$L$5,J66,\"\")","v":46},{"$f":"IF($D65=DEBUT!$L$5,K66,\"\")","v":12},{"$f":"IF($D65=DEBUT!$L$5,L66,\"\")","v":""},{"$f":"IF($D65=DEBUT!$L$5,M66,\"\")","v":""},{"$f":"IF($D65=DEBUT!$L$5,N66,\"\")","v":16},null,"Conduite itinéraire",{"$f":"IF($Q$4=DEBUT!$K$6,HLOOKUP(Q66,REFERENTIELS!$E$7:$M$8,2,TRUE)+COUNTIF(E67:N67,2)*0.5,HLOOKUP(Q66,REFERENTIELS!$E$7:$M$8,2,TRUE)+COUNTIF(E67:N67,3)*0.5)","v":7.5},"/ 10"]
[null,null,null,"Balises CM",{"$f":"IFERROR(INDEX(baliseCM,MATCH(E64,lettre,0),MATCH($D62,parcours,0)),\"\")","v":7},{"$f":"IFERROR(INDEX(baliseCM,MATCH(F64,lettre,0),MATCH($D62,parcours,0)),\"\")","v":10},11,1,76,46,12,"","",16,null,"Nombre balises justes",{"$f":"COUNTIF(E67:N67,\">0\")","v":8},{"$f":"IF(Q66>1,\"trouvées\",\"trouvée\")","v":"trouvées"}]
[null,null,null,"Points",{"$f":"IF(E66=E65,IFERROR(INDEX(baliseCM,MATCH(E64,lettre,0),MATCH($U67,parcours,0)),\"\"),\"\")","v":1},2,2,2,3,3,3,"","",3,null,"Note",{"$f":"Q62+Q63+Q64+Q65","v":{"$error":"#NUM!"}},"/20",null,null,{"$f":"CONCATENATE(D63,\"points\")","v":"14ORANGEpoints"}]
[null,"EQUIPE 10",null,null,null,null,null,null,null,null,null,null,null,{"$f":"(HOUR(M69)*3600+MINUTE(M69)*60+SECOND(M69))-(HOUR($M$2)*3600+MINUTE($M$2)*60+SECOND($M$2))","v":{"$error":"#NUM!"}},null,null,null,null,null,"Analyse du parcours"]
[null,null,null,{"$f":"CONCATENATE(D70,\"bis\")","v":"14ORANGEbis"},"22:22:08",null,null,null,null,null,"Durée :",null,{"$f":"I69-E69","v":-0.93203703703703711},null,null,"Vitesse de course",{"$f":"IF(AND(N68<0,Q73=8),HLOOKUP(N68,REFERENTIELS!$E$33:$I$34,2,TRUE),IF(AND(N68<=0,Q73<>8),2,HLOOKUP(N68,REFERENTIELS!$I$33:$L$34,2,TRUE)))","v":{"$error":"#NUM!"}},"/ 6"]
[null,null,null,{"$f":"$H$2","v":"14ORANGE"},{"$f":"SQRT(POWER((VLOOKUP(E72,DEBUT!$D$5:$J$110,6,FALSE)-VLOOKUP(F72,DEBUT!$D$5:$J$110,6,FALSE)),2)+POWER((VLOOKUP(E72,DEBUT!$D$5:$J$110,7,FALSE)-VLOOKUP(F72,DEBUT!$D$5:$J$110,7,FALSE)),2))/CARTE!$O$9","v":292.41323207806477},{"$f":"SQRT(POWER((VLOOKUP(F72,DEBUT!$D$5:$J$110,6,FALSE)-VLOOKUP(G72,DEBUT!$D$5:$J$110,6,FALSE)),2)+POWER((VLOOKUP(F72,DEBUT!$D$5:$J$110,7,FALSE)-VLOOKUP(G72,DEBUT!$D$5:$J$110,7,FALSE)),2))/CARTE!$O$9","v":185.45260026215442},{"$f":"SQRT(POWER((VLOOKUP(G72,DEBUT!$D$5:$J$110,6,FALSE)-VLOOKUP(H72,DEBUT!$D$5:$J$110,6,FALSE)),2)+POWER((VLOOKUP(G72,DEBUT!$D$5:$J$110,7,FALSE)-VLOOKUP(H72,DEBUT!$D$5:$J$110,7,FALSE)),2))/CARTE!$O$9","v":388.88158128989608},{"$f":"SQRT(POWER((VLOOKUP(H72,DEBUT!$D$5:$J$110,6,FALSE)-VLOOKUP(I72,DEBUT!$D$5:$J$110,6,FALSE)),2)+POWER((VLOOKUP(H72,DEBUT!$D$5:$J$110,7,FALSE)-VLOOKUP(I72,DEBUT!$D$5:$J$110,7,FALSE)),2))/CARTE!$O$9","v":1321.1931767408294},{"$f":"SQRT(POWER((VLOOKUP(I72,DEBUT!$D$5:$J$110,6,FALSE)-VLOOKUP(J72,DEBUT!$D$5:$J$110,6,FALSE)),2)+POWER((VLOOKUP(I72,DEBUT!$D$5:$J$110,7,FALSE)-VLOOKUP(J72,DEBUT!$D$5:$J$110,7,FALSE)),2))/CARTE!$O$9","v":621.65617723594562},{"$f":"SQRT(POWER((VLOOKUP(J72,DEBUT!$D$5:$J$110,6,FALSE)-VLOOKUP(K72,DEBUT!$D$5:$J$110,6,FALSE)),2)+POWER((VLOOKUP(J72,DEBUT!$D$5:$J$110,7,FALSE)-VLOOKUP(K72,DEBUT!$D$5:$J$110,7,FALSE)),2))/CARTE!$O$9","v":593.18703386263064},{"$f":"SQRT(POWER((VLOOKUP(K72,DEBUT!$D$5:$J$110,6,FALSE)-VLOOKUP(L72,DEBUT!$D$5:$J$110,6,FALSE)),2)+POWER((VLOOKUP(K72,DEBUT!$D$5:$J$110,7,FALSE)-VLOOKUP(L72,DEBUT!$D$5:$J$110,7,FALSE)),2))/CARTE!$O$9","v":{"$error":"#N/A"}},{"$f":"SQRT(POWER((VLOOKUP(L72,DEBUT!$D$5:$J$110,6,FALSE)-VLOOKUP(M72,DEBUT!$D$5:$J$110,6,FALSE)),2)+POWER((VLOOKUP(L72,DEBUT!$D$5:$J$110,7,FALSE)-VLOOKUP(M72,DEBUT!$D$5:$J$110,7,FALSE)),2))/CARTE!$O$9","v":{"$error":"#N/A"}},{"$f":"SQRT(POWER((VLOOKUP(M72,DEBUT!$D$5:$J$110,6,FALSE)-VLOOKUP(N72,DEBUT!$D$5:$J$110,6,FALSE)),2)+POWER((VLOOKUP(M72,DEBUT!$D$5:$J$110,7,FALSE)-VLOOKUP(N72,DEBUT!$D$5:$J$110,7,FALSE)),2))/CARTE!$O$9","v":{"$error":"#N/A"}},{"$f":"SQRT(POWER((VLOOKUP(N72,DEBUT!$D$5:$J$110,6,FALSE)-VLOOKUP(O72,DEBUT!$D$5:$J$110,6,FALSE)),2)+POWER((VLOOKUP(N72,DEBUT!$D$5:$J$110,7,FALSE)-VLOOKUP(O72,DEBUT!$D$5:$J$110,7,FALSE)),2))/CARTE!$O$9","v":1002.1872035440026},null,"Analyse",null,"/ 2"]
[null,null,null,"Balises prévues",{"$f":"IF(ISTEXT($D70),HLOOKUP($D70,DEBUT!$O$3:$XX$100,3,FALSE),\"\")","v":"A"},{"$f":"IF(ISTEXT($D70),HLOOKUP($D70,DEBUT!$O$3:$XX$100,4,FALSE),\"\")","v":"B"},{"$f":"IF(ISTEXT($D70),HLOOKUP($D70,DEBUT!$O$3:$XX$100,5,FALSE),\"\")","v":"C"},{"$f":"IF(ISTEXT($D70),HLOOKUP($D70,DEBUT!$O$3:$XX$100,6,FALSE),\"\")","v":"D"},{"$f":"IF(ISTEXT($D70),HLOOKUP($D70,DEBUT!$O$3:$XX$100,7,FALSE),\"\")","v":"E"},{"$f":"IF(ISTEXT($D70),HLOOKUP($D70,DEBUT!$O$3:$XX$100,8,FALSE),\"\")","v":"F"},{"$f":"IF(ISTEXT($D70),HLOOKUP($D70,DEBUT!$O$3:$XX$100,9,FALSE),\"\")","v":"G"},{"$f":"IF(ISTEXT($D70),HLOOKUP($D70,DEBUT!$O$3:$XX$100,10,FALSE),\"\")","v":0},{"$f":"IF(ISTEXT($D70),HLOOKUP($D70,DEBUT!$O$3:$XX$100,11,FALSE),\"\")","v":0},{"$f":"IF(ISTEXT($D70),HLOOKUP($D70,DEBUT!$O$3:$XX$100,12,FALSE),\"\")","v":"J"},2,"Carton contrôle",1,"/ 2"]
[null,null,null,"Validé",{"$f":"IF($D72=DEBUT!$L$5,E73,\"\")","v":7},{"$f":"IF($D72=DEBUT!$L$5,F73,\"\")","v":10},{"$f":"IF($D72=DEBUT!$L$5,G73,\"\")","v":11},{"$f":"IF($D72=DEBUT!$L$5,H73,\"\")","v":1},{"$f":"IF($D72=DEBUT!$L$5,I73,\"\")","v":76},{"$f":"IF($D72=DEBUT!$L$5,J73,\"\")","v":46},{"$f":"IF($D72=DEBUT!$L$5,K73,\"\")","v":12},{"$f":"IF($D72=DEBUT!$L$5,L73,\"\")","v":""},{"$f":"IF($D72=DEBUT!$L$5,M73,\"\")","v":""},{"$f":"IF($D72=DEBUT!$L$5,N73,\"\")","v":16},null,"Conduite itinéraire",{"$f":"IF($Q$4=DEBUT!$K$6,HLOOKUP(Q73,REFERENTIELS!$E$7:$M$8,2,TRUE)+COUNTIF(E74:N74,2)*0.5,HLOOKUP(Q73,REFERENTIELS!$E$7:$M$8,2,TRUE)+COUNTIF(E74:N74,3)*0.5)","v":7.5},"/ 10"]
[null,null,null,"Balises CM",{"$f":"IFERROR(INDEX(baliseCM,MATCH(E71,lettre,0),MATCH($D69,parcours,0)),\"\")","v":7},{"$f":"IFERROR(INDEX(baliseCM,MATCH(F71,lettre,0),MATCH($D69,parcours,0)),\"\")","v":10},11,1,76,46,12,"","",16,null,"Nombre balises justes",{"$f":"COUNTIF(E74:N74,\">0\")","v":8},{"$f":"IF(Q73>1,\"trouvées\",\"trouvée\")","v":"trouvées"}]
[null,null,null,"Points",{"$f":"IF(E73=E72,IFERROR(INDEX(baliseCM,MATCH(E71,lettre,0),MATCH($U74,parcours,0)),\"\"),\"\")","v":1},2,2,2,3,3,3,"","",3,null,"Note",{"$f":"Q69+Q70+Q71+Q72","v":{"$error":"#NUM!"}},"/20",null,null,{"$f":"CONCATENATE(D70,\"points\")","v":"14ORANGEpoints"}]
[null,"EQUIPE 11",null,null,null,null,null,null,null,null,null,null,null,{"$f":"(HOUR(M76)*3600+MINUTE(M76)*60+SECOND(M76))-(HOUR($M$2)*3600+MINUTE($M$2)*60+SECOND($M$2))","v":{"$error":"#NUM!"}},null,null,null,null,null,"Analyse du parcours"]
[null,null,null,{"$f":"CONCATENATE(D77,\"bis\")","v":"14ORANGEbis"},"22:22:09",null,null,null,null,null,"Durée :",null,{"$f":"I76-E76","v":-0.93204861111111104},null,null,"Vitesse de course",{"$f":"IF(AND(N75<0,Q80=8),HLOOKUP(N75,REFERENTIELS!$E$33:$I$34,2,TRUE),IF(AND(N75<=0,Q80<>8),2,HLOOKUP(N75,REFERENTIELS!$I$33:$L$34,2,TRUE)))","v":{"$error":"#NUM!"}},"/ 6"]
[null,null,null,{"$f":"$H$2","v":"14ORANGE"},{"$f":"SQRT(POWER((VLOOKUP(E79,DEBUT!$D$5:$J$110,6,FALSE)-VLOOKUP(F79,DEBUT!$D$5:$J$110,6,FALSE)),2)+POWER((VLOOKUP(E79,DEBUT!$D$5:$J$110,7,FALSE)-VLOOKUP(F79,DEBUT!$D$5:$J$110,7,FALSE)),2))/CARTE!$O$9","v":292.41323207806477},{"$f":"SQRT(POWER((VLOOKUP(F79,DEBUT!$D$5:$J$110,6,FALSE)-VLOOKUP(G79,DEBUT!$D$5:$J$110,6,FALSE)),2)+POWER((VLOOKUP(F79,DEBUT!$D$5:$J$110,7,FALSE)-VLOOKUP(G79,DEBUT!$D$5:$J$110,7,FALSE)),2))/CARTE!$O$9","v":185.45260026215442},{"$f":"SQRT(POWER((VLOOKUP(G79,DEBUT!$D$5:$J$110,6,FALSE)-VLOOKUP(H79,DEBUT!$D$5:$J$110,6,FALSE)),2)+POWER((VLOOKUP(G79,DEBUT!$D$5:$J$110,7,FALSE)-VLOOKUP(H79,DEBUT!$D$5:$J$110,7,FALSE)),2))/CARTE!$O$9","v":388.88158128989608},{"$f":"SQRT(POWER((VLOOKUP(H79,DEBUT!$D$5:$J$110,6,FALSE)-VLOOKUP(I79,DEBUT!$D$5:$J$110,6,FALSE)),2)+POWER((VLOOKUP(H79,DEBUT!$D$5:$J$110,7,FALSE)-VLOOKUP(I79,DEBUT!$D$5:$J$110,7,FALSE)),2))/CARTE!$O$9","v":1321.1931767408294},{"$f":"SQRT(POWER((VLOOKUP(I79,DEBUT!$D$5:$J$110,6,FALSE)-VLOOKUP(J79,DEBUT!$D$5:$J$110,6,FALSE)),2)+POWER((VLOOKUP(I79,DEBUT!$D$5:$J$110,7,FALSE)-VLOOKUP(J79,DEBUT!$D$5:$J$110,7,FALSE)),2))/CARTE!$O$9","v":621.65617723594562},{"$f":"SQRT(POWER((VLOOKUP(J79,DEBUT!$D$5:$J$110,6,FALSE)-VLOOKUP(K79,DEBUT!$D$5:$J$110,6,FALSE)),2)+POWER((VLOOKUP(J79,DEBUT!$D$5:$J$110,7,FALSE)-VLOOKUP(K79,DEBUT!$D$5:$J$110,7,FALSE)),2))/CARTE!$O$9","v":593.18703386263064},{"$f":"SQRT(POWER((VLOOKUP(K79,DEBUT!$D$5:$J$110,6,FALSE)-VLOOKUP(L79,DEBUT!$D$5:$J$110,6,FALSE)),2)+POWER((VLOOKUP(K79,DEBUT!$D$5:$J$110,7,FALSE)-VLOOKUP(L79,DEBUT!$D$5:$J$110,7,FALSE)),2))/CARTE!$O$9","v":{"$error":"#N/A"}},{"$f":"SQRT(POWER((VLOOKUP(L79,DEBUT!$D$5:$J$110,6,FALSE)-VLOOKUP(M79,DEBUT!$D$5:$J$110,6,FALSE)),2)+POWER((VLOOKUP(L79,DEBUT!$D$5:$J$110,7,FALSE)-VLOOKUP(M79,DEBUT!$D$5:$J$110,7,FALSE)),2))/CARTE!$O$9","v":{"$error":"#N/A"}},{"$f":"SQRT(POWER((VLOOKUP(M79,DEBUT!$D$5:$J$110,6,FALSE)-VLOOKUP(N79,DEBUT!$D$5:$J$110,6,FALSE)),2)+POWER((VLOOKUP(M79,DEBUT!$D$5:$J$110,7,FALSE)-VLOOKUP(N79,DEBUT!$D$5:$J$110,7,FALSE)),2))/CARTE!$O$9","v":{"$error":"#N/A"}},{"$f":"SQRT(POWER((VLOOKUP(N79,DEBUT!$D$5:$J$110,6,FALSE)-VLOOKUP(O79,DEBUT!$D$5:$J$110,6,FALSE)),2)+POWER((VLOOKUP(N79,DEBUT!$D$5:$J$110,7,FALSE)-VLOOKUP(O79,DEBUT!$D$5:$J$110,7,FALSE)),2))/CARTE!$O$9","v":1002.1872035440026},null,"Analyse",null,"/ 2"]
[null,null,null,"Balises prévues",{"$f":"IF(ISTEXT($D77),HLOOKUP($D77,DEBUT!$O$3:$XX$100,3,FALSE),\"\")","v":"A"},{"$f":"IF(ISTEXT($D77),HLOOKUP($D77,DEBUT!$O$3:$XX$100,4,FALSE),\"\")","v":"B"},{"$f":"IF(ISTEXT($D77),HLOOKUP($D77,DEBUT!$O$3:$XX$100,5,FALSE),\"\")","v":"C"},{"$f":"IF(ISTEXT($D77),HLOOKUP($D77,DEBUT!$O$3:$XX$100,6,FALSE),\"\")","v":"D"},{"$f":"IF(ISTEXT($D77),HLOOKUP($D77,DEBUT!$O$3:$XX$100,7,FALSE),\"\")","v":"E"},{"$f":"IF(ISTEXT($D77),HLOOKUP($D77,DEBUT!$O$3:$XX$100,8,FALSE),\"\")","v":"F"},{"$f":"IF(ISTEXT($D77),HLOOKUP($D77,DEBUT!$O$3:$XX$100,9,FALSE),\"\")","v":"G"},{"$f":"IF(ISTEXT($D77),HLOOKUP($D77,DEBUT!$O$3:$XX$100,10,FALSE),\"\")","v":0},{"$f":"IF(ISTEXT($D77),HLOOKUP($D77,DEBUT!$O$3:$XX$100,11,FALSE),\"\")","v":0},{"$f":"IF(ISTEXT($D77),HLOOKUP($D77,DEBUT!$O$3:$XX$100,12,FALSE),\"\")","v":"J"},2,"Carton contrôle",1,"/ 2"]
[null,null,null,"Validé",{"$f":"IF($D79=DEBUT!$L$5,E80,\"\")","v":7},{"$f":"IF($D79=DEBUT!$L$5,F80,\"\")","v":10},{"$f":"IF($D79=DEBUT!$L$5,G80,\"\")","v":11},{"$f":"IF($D79=DEBUT!$L$5,H80,\"\")","v":1},{"$f":"IF($D79=DEBUT!$L$5,I80,\"\")","v":76},{"$f":"IF($D79=DEBUT!$L$5,J80,\"\")","v":46},{"$f":"IF($D79=DEBUT!$L$5,K80,\"\")","v":12},{"$f":"IF($D79=DEBUT!$L$5,L80,\"\")","v":""},{"$f":"IF($D79=DEBUT!$L$5,M80,\"\")","v":""},{"$f":"IF($D79=DEBUT!$L$5,N80,\"\")","v":16},null,"Conduite itinéraire",{"$f":"IF($Q$4=DEBUT!$K$6,HLOOKUP(Q80,REFERENTIELS!$E$7:$M$8,2,TRUE)+COUNTIF(E81:N81,2)*0.5,HLOOKUP(Q80,REFERENTIELS!$E$7:$M$8,2,TRUE)+COUNTIF(E81:N81,3)*0.5)","v":7.5},"/ 10"]
[null,null,null,"Balises CM",{"$f":"IFERROR(INDEX(baliseCM,MATCH(E78,lettre,0),MATCH($D76,parcours,0)),\"\")","v":7},{"$f":"IFERROR(INDEX(baliseCM,MATCH(F78,lettre,0),MATCH($D76,parcours,0)),\"\")","v":10},11,1,76,46,12,"","",16,null,"Nombre balises justes",{"$f":"COUNTIF(E81:N81,\">0\")","v":8},{"$f":"IF(Q80>1,\"trouvées\",\"trouvée\")","v":"trouvées"}]
[null,null,null,"Points",{"$f":"IF(E80=E79,IFERROR(INDEX(baliseCM,MATCH(E78,lettre,0),MATCH($U81,parcours,0)),\"\"),\"\")","v":1},2,2,2,3,3,3,"","",3,null,"Note",{"$f":"Q76+Q77+Q78+Q79","v":{"$error":"#NUM!"}},"/20",null,null,{"$f":"CONCATENATE(D77,\"points\")","v":"14ORANGEpoints"}]
[null,"EQUIPE 12",null,null,null,null,null,null,null,null,null,null,null,{"$f":"(HOUR(M83)*3600+MINUTE(M83)*60+SECOND(M83))-(HOUR($M$2)*3600+MINUTE($M$2)*60+SECOND($M$2))","v":{"$error":"#NUM!"}},null,null,null,null,null,"Analyse du parcours"]
[null,"Alexandre",null,{"$f":"CONCATENATE(D84,\"bis\")","v":"14ORANGEbis"},"22:22:09",null,null,null,"22:15:22",null,"Durée :",null,{"$f":"I83-E83","v":-4.7106481481481444E-3},null,null,"Vitesse de course",{"$f":"IF(AND(N82<0,Q87=8),HLOOKUP(N82,REFERENTIELS!$E$33:$I$34,2,TRUE),IF(AND(N82<=0,Q87<>8),2,HLOOKUP(N82,REFERENTIELS!$I$33:$L$34,2,TRUE)))","v":{"$error":"#NUM!"}},"/ 6"]
[null,"Christian",null,{"$f":"$H$2","v":"14ORANGE"},{"$f":"SQRT(POWER((VLOOKUP(E86,DEBUT!$D$5:$J$110,6,FALSE)-VLOOKUP(F86,DEBUT!$D$5:$J$110,6,FALSE)),2)+POWER((VLOOKUP(E86,DEBUT!$D$5:$J$110,7,FALSE)-VLOOKUP(F86,DEBUT!$D$5:$J$110,7,FALSE)),2))/CARTE!$O$9","v":292.41323207806477},{"$f":"SQRT(POWER((VLOOKUP(F86,DEBUT!$D$5:$J$110,6,FALSE)-VLOOKUP(G86,DEBUT!$D$5:$J$110,6,FALSE)),2)+POWER((VLOOKUP(F86,DEBUT!$D$5:$J$110,7,FALSE)-VLOOKUP(G86,DEBUT!$D$5:$J$110,7,FALSE)),2))/CARTE!$O$9","v":185.45260026215442},{"$f":"SQRT(POWER((VLOOKUP(G86,DEBUT!$D$5:$J$110,6,FALSE)-VLOOKUP(H86,DEBUT!$D$5:$J$110,6,FALSE)),2)+POWER((VLOOKUP(G86,DEBUT!$D$5:$J$110,7,FALSE)-VLOOKUP(H86,DEBUT!$D$5:$J$110,7,FALSE)),2))/CARTE!$O$9","v":388.88158128989608},{"$f":"SQRT(POWER((VLOOKUP(H86,DEBUT!$D$5:$J$110,6,FALSE)-VLOOKUP(I86,DEBUT!$D$5:$J$110,6,FALSE)),2)+POWER((VLOOKUP(H86,DEBUT!$D$5:$J$110,7,FALSE)-VLOOKUP(I86,DEBUT!$D$5:$J$110,7,FALSE)),2))/CARTE!$O$9","v":1321.1931767408294},{"$f":"SQRT(POWER((VLOOKUP(I86,DEBUT!$D$5:$J$110,6,FALSE)-VLOOKUP(J86,DEBUT!$D$5:$J$110,6,FALSE)),2)+POWER((VLOOKUP(I86,DEBUT!$D$5:$J$110,7,FALSE)-VLOOKUP(J86,DEBUT!$D$5:$J$110,7,FALSE)),2))/CARTE!$O$9","v":621.65617723594562},{"$f":"SQRT(POWER((VLOOKUP(J86,DEBUT!$D$5:$J$110,6,FALSE)-VLOOKUP(K86,DEBUT!$D$5:$J$110,6,FALSE)),2)+POWER((VLOOKUP(J86,DEBUT!$D$5:$J$110,7,FALSE)-VLOOKUP(K86,DEBUT!$D$5:$J$110,7,FALSE)),2))/CARTE!$O$9","v":593.18703386263064},{"$f":"SQRT(POWER((VLOOKUP(K86,DEBUT!$D$5:$J$110,6,FALSE)-VLOOKUP(L86,DEBUT!$D$5:$J$110,6,FALSE)),2)+POWER((VLOOKUP(K86,DEBUT!$D$5:$J$110,7,FALSE)-VLOOKUP(L86,DEBUT!$D$5:$J$110,7,FALSE)),2))/CARTE!$O$9","v":{"$error":"#N/A"}},{"$f":"SQRT(POWER((VLOOKUP(L86,DEBUT!$D$5:$J$110,6,FALSE)-VLOOKUP(M86,DEBUT!$D$5:$J$110,6,FALSE)),2)+POWER((VLOOKUP(L86,DEBUT!$D$5:$J$110,7,FALSE)-VLOOKUP(M86,DEBUT!$D$5:$J$110,7,FALSE)),2))/CARTE!$O$9","v":{"$error":"#N/A"}},{"$f":"SQRT(POWER((VLOOKUP(M86,DEBUT!$D$5:$J$110,6,FALSE)-VLOOKUP(N86,DEBUT!$D$5:$J$110,6,FALSE)),2)+POWER((VLOOKUP(M86,DEBUT!$D$5:$J$110,7,FALSE)-VLOOKUP(N86,DEBUT!$D$5:$J$110,7,FALSE)),2))/CARTE!$O$9","v":{"$error":"#N/A"}},{"$f":"SQRT(POWER((VLOOKUP(N86,DEBUT!$D$5:$J$110,6,FALSE)-VLOOKUP(O86,DEBUT!$D$5:$J$110,6,FALSE)),2)+POWER((VLOOKUP(N86,DEBUT!$D$5:$J$110,7,FALSE)-VLOOKUP(O86,DEBUT!$D$5:$J$110,7,FALSE)),2))/CARTE!$O$9","v":1002.1872035440026},null,"Analyse",null,"/ 2"]
[null,"Claudine",null,"Balises prévues",{"$f":"IF(ISTEXT($D84),HLOOKUP($D84,DEBUT!$O$3:$XX$100,3,FALSE),\"\")","v":"A"},{"$f":"IF(ISTEXT($D84),HLOOKUP($D84,DEBUT!$O$3:$XX$100,4,FALSE),\"\")","v":"B"},{"$f":"IF(ISTEXT($D84),HLOOKUP($D84,DEBUT!$O$3:$XX$100,5,FALSE),\"\")","v":"C"},{"$f":"IF(ISTEXT($D84),HLOOKUP($D84,DEBUT!$O$3:$XX$100,6,FALSE),\"\")","v":"D"},{"$f":"IF(ISTEXT($D84),HLOOKUP($D84,DEBUT!$O$3:$XX$100,7,FALSE),\"\")","v":"E"},{"$f":"IF(ISTEXT($D84),HLOOKUP($D84,DEBUT!$O$3:$XX$100,8,FALSE),\"\")","v":"F"},{"$f":"IF(ISTEXT($D84),HLOOKUP($D84,DEBUT!$O$3:$XX$100,9,FALSE),\"\")","v":"G"},{"$f":"IF(ISTEXT($D84),HLOOKUP($D84,DEBUT!$O$3:$XX$100,10,FALSE),\"\")","v":0},{"$f":"IF(ISTEXT($D84),HLOOKUP($D84,DEBUT!$O$3:$XX$100,11,FALSE),\"\")","v":0},{"$f":"IF(ISTEXT($D84),HLOOKUP($D84,DEBUT!$O$3:$XX$100,12,FALSE),\"\")","v":"J"},2,"Carton contrôle",1,"/ 2"]
[null,null,null,"Validé",{"$f":"IF($D86=DEBUT!$L$5,E$10,\"\")","v":7},{"$f":"IF($D86=DEBUT!$L$5,F$10,\"\")","v":10},{"$f":"IF($D86=DEBUT!$L$5,G$10,\"\")","v":11},{"$f":"IF($D86=DEBUT!$L$5,H$10,\"\")","v":1},{"$f":"IF($D86=DEBUT!$L$5,I$10,\"\")","v":76},{"$f":"IF($D86=DEBUT!$L$5,J$10,\"\")","v":46},{"$f":"IF($D86=DEBUT!$L$5,K$10,\"\")","v":12},{"$f":"IF($D86=DEBUT!$L$5,L$10,\"\")","v":""},{"$f":"IF($D86=DEBUT!$L$5,M$10,\"\")","v":""},{"$f":"IF($D86=DEBUT!$L$5,N$10,\"\")","v":16},null,"Conduite itinéraire",{"$f":"IF($Q$4=DEBUT!$K$6,HLOOKUP(Q87,REFERENTIELS!$E$7:$M$8,2,TRUE)+COUNTIF(E88:N88,2)*0.5,HLOOKUP(Q87,REFERENTIELS!$E$7:$M$8,2,TRUE)+COUNTIF(E88:N88,3)*0.5)","v":7.5},"/ 10"]
[null,null,null,"Balises CM",{"$f":"IFERROR(INDEX(baliseCM,MATCH(E85,lettre,0),MATCH($D83,parcours,0)),\"\")","v":7},{"$f":"IFERROR(INDEX(baliseCM,MATCH(F85,lettre,0),MATCH($D83,parcours,0)),\"\")","v":10},11,1,76,46,12,"","",16,null,"Nombre balises justes",{"$f":"COUNTIF(E88:N88,\">0\")","v":8},{"$f":"IF(Q87>1,\"trouvées\",\"trouvée\")","v":"trouvées"}]
[null,null,null,"Points",{"$f":"IF(E87=E86,IFERROR(INDEX(baliseCM,MATCH(E85,lettre,0),MATCH($U88,parcours,0)),\"\"),\"\")","v":1},2,2,2,3,3,3,"","",3,null,"Note",{"$f":"Q83+Q84+Q85+Q86","v":{"$error":"#NUM!"}},"/20",null,null,{"$f":"CONCATENATE(D84,\"points\")","v":"14ORANGEpoints"}]

{"sheet":"ETOILE","index":6,"n_rows":88,"n_cols":39,"rows_kept":88,"cut":false,"hidden":false,"merged":[[1,4,1,5],[1,7,1,9],[5,19,9,19],[12,19,16,19],[33,19,37,19],[40,19,44,19],[19,19,23,19],[26,19,30,19],[0,7,0,9],[75,19,79,19],[82,19,86,19],[61,19,65,19],[68,19,72,19],[47,19,51,19],[54,19,58,19]]}
[null,null,null,null,null,null,null,{"$f":"CONCATENATE(H2,\"bis\")","v":"21Stevebis"},null,null,null,null,"Temps limite"]
[null,"STAGE",null,null,"23:08:42",null,null,"21Steve",null,null,null,null,30.024305555555557,"min"]
[null,null,null,null,null,null,null,null,{"$f":"IF(ISTEXT($H2),HLOOKUP($H2,DEBUT!$O$3:$XX$100,7,FALSE),\"\")","v":"E"}]
[null,null,null,null,null,null,null,null,{"$f":"IFERROR(INDEX(baliseCM,MATCH(I3,lettre,0),MATCH($H$1,parcours,0)),\"\")","v":35},null,null,null,null,null,null,"ETOILE","N3"]
[null,"EQUIPE 1","D","15:54:04","15:54:06","15:54:07","15:54:09","15:54:12","15:54:13","15:54:14","15:54:15","15:54:16","15:54:17","15:54:18",null,null,null,null,null,"Analyse du parcours",null,null,null,null,null,null,null,null,null,null,null,null,null,null,null,null,null,1,{"$f":"OFFSET(INDEX(eleves,MATCH(AL5,chiffre,0),MATCH($B$2,classes,0)),0,1)","v":"POL"}]
[null,"Alexandre",null,{"$f":"CONCATENATE(D7,\"bis\")","v":"21Stevebis"},{"$f":"E5-D5","v":"00:00:02"},{"$f":"F5-E5","v":"00:00:01"},"00:00:02","00:00:03","00:00:01","00:00:01","00:00:01","00:00:01","00:00:01","00:00:01",null,"Temps de course",{"$f":"SUMIF(E6:N6,\">0\",E6:N6)","v":"00:00:14"},{"$f":"ABS((HOUR(Q6)*3600+MINUTE(Q6)*60+SECOND(Q6)))","v":14},null,null,null,null,null,null,null,null,null,null,null,null,null,null,null,null,null,null,null,2,"CARINE"]
[null,null,null,{"$f":"$H$2","v":"21Steve"},{"$f":"IFERROR(SQRT(POWER((VLOOKUP($C$5,DEBUT!$D$5:$J$110,6,FALSE)-VLOOKUP(E9,DEBUT!$D$5:$J$110,6,FALSE)),2)+POWER((VLOOKUP($C$5,DEBUT!$D$5:$J$110,7,FALSE)-VLOOKUP(E9,DEBUT!$D$5:$J$110,7,FALSE)),2))/CARTE!$O$9,0)","v":0},{"$f":"IFERROR(SQRT(POWER((VLOOKUP($C$5,DEBUT!$D$5:$J$110,6,FALSE)-VLOOKUP(F9,DEBUT!$D$5:$J$110,6,FALSE)),2)+POWER((VLOOKUP($C$5,DEBUT!$D$5:$J$110,7,FALSE)-VLOOKUP(F9,DEBUT!$D$5:$J$110,7,FALSE)),2))/CARTE!$O$9,0)","v":0},{"$f":"IFERROR(SQRT(POWER((VLOOKUP($C$5,DEBUT!$D$5:$J$110,6,FALSE)-VLOOKUP(G9,DEBUT!$D$5:$J$110,6,FALSE)),2)+POWER((VLOOKUP($C$5,DEBUT!$D$5:$J$110,7,FALSE)-VLOOKUP(G9,DEBUT!$D$5:$J$110,7,FALSE)),2))/CARTE!$O$9,0)","v":0},{"$f":"IFERROR(SQRT(POWER((VLOOKUP($C$5,DEBUT!$D$5:$J$110,6,FALSE)-VLOOKUP(H9,DEBUT!$D$5:$J$110,6,FALSE)),2)+POWER((VLOOKUP($C$5,DEBUT!$D$5:$J$110,7,FALSE)-VLOOKUP(H9,DEBUT!$D$5:$J$110,7,FALSE)),2))/CARTE!$O$9,0)","v":0},{"$f":"IFERROR(SQRT(POWER((VLOOKUP($C$5,DEBUT!$D$5:$J$110,6,FALSE)-VLOOKUP(I9,DEBUT!$D$5:$J$110,6,FALSE)),2)+POWER((VLOOKUP($C$5,DEBUT!$D$5:$J$110,7,FALSE)-VLOOKUP(I9,DEBUT!$D$5:$J$110,7,FALSE)),2))/CARTE!$O$9,0)","v":0},{"$f":"IFERROR(SQRT(POWER((VLOOKUP($C$5,DEBUT!$D$5:$J$110,6,FALSE)-VLOOKUP(J9,DEBUT!$D$5:$J$110,6,FALSE)),2)+POWER((VLOOKUP($C$5,DEBUT!$D$5:$J$110,7,FALSE)-VLOOKUP(J9,DEBUT!$D$5:$J$110,7,FALSE)),2))/CARTE!$O$9,0)","v":0},{"$f":"IFERROR(SQRT(POWER((VLOOKUP($C$5,DEBUT!$D$5:$J$110,6,FALSE)-VLOOKUP(K9,DEBUT!$D$5:$J$110,6,FALSE)),2)+POWER((VLOOKUP($C$5,DEBUT!$D$5:$J$110,7,FALSE)-VLOOKUP(K9,DEBUT!$D$5:$J$110,7,FALSE)),2))/CARTE!$O$9,0)","v":0},{"$f":"IFERROR(SQRT(POWER((VLOOKUP($C$5,DEBUT!$D$5:$J$110,6,FALSE)-VLOOKUP(L9,DEBUT!$D$5:$J$110,6,FALSE)),2)+POWER((VLOOKUP($C$5,DEBUT!$D$5:$J$110,7,FALSE)-VLOOKUP(L9,DEBUT!$D$5:$J$110,7,FALSE)),2))/CARTE!$O$9,0)","v":0},{"$f":"IFERROR(SQRT(POWER((VLOOKUP($C$5,DEBUT!$D$5:$J$110,6,FALSE)-VLOOKUP(M9,DEBUT!$D$5:$J$110,6,FALSE)),2)+POWER((VLOOKUP($C$5,DEBUT!$D$5:$J$110,7,FALSE)-VLOOKUP(M9,DEBUT!$D$5:$J$110,7,FALSE)),2))/CARTE!$O$9,0)","v":0},{"$f":"IFERROR(SQRT(POWER((VLOOKUP($C$5,DEBUT!$D$5:$J$110,6,FALSE)-VLOOKUP(N9,DEBUT!$D$5:$J$110,6,FALSE)),2)+POWER((VLOOKUP($C$5,DEBUT!$D$5:$J$110,7,FALSE)-VLOOKUP(N9,DEBUT!$D$5:$J$110,7,FALSE)),2))/CARTE!$O$9,0)","v":0},"m","Distance",{"$f":"SUM(E7:N7)","v":0},"m",null,null,null,null,null,null,null,null,null,null,null,null,null,null,null,null,null,null,null,3,"BASTIEN"]
[null,null,null,"Balises prévues",{"$f":"IF(ISTEXT($D7),HLOOKUP($D7,DEBUT!$O$3:$XX$100,3,FALSE),\"\")","v":"A"},{"$f":"IF(ISTEXT($D7),HLOOKUP($D7,DEBUT!$O$3:$XX$100,4,FALSE),\"\")","v":"B"},{"$f":"IF(ISTEXT($D7),HLOOKUP($D7,DEBUT!$O$3:$XX$100,5,FALSE),\"\")","v":"C"},{"$f":"IF(ISTEXT($D7),HLOOKUP($D7,DEBUT!$O$3:$XX$100,6,FALSE),\"\")","v":"D"},{"$f":"IF(ISTEXT($D7),HLOOKUP($D7,DEBUT!$O$3:$XX$100,7,FALSE),\"\")","v":"E"},{"$f":"IF(ISTEXT($D7),HLOOKUP($D7,DEBUT!$O$3:$XX$100,8,FALSE),\"\")","v":"F"},{"$f":"IF(ISTEXT($D7),HLOOKUP($D7,DEBUT!$O$3:$XX$100,9,FALSE),\"\")","v":"G"},{"$f":"IF(ISTEXT($D7),HLOOKUP($D7,DEBUT!$O$3:$XX$100,10,FALSE),\"\")","v":"H"},{"$f":"IF(ISTEXT($D7),HLOOKUP($D7,DEBUT!$O$3:$XX$100,11,FALSE),\"\")","v":"I"},{"$f":"IF(ISTEXT($D7),HLOOKUP($D7,DEBUT!$O$3:$XX$100,12,FALSE),\"\")","v":"J"},null,"Nombre balises prévues",{"$f":"SUMPRODUCT(N(ISTEXT(E8:N8)))","v":10},"prévues",null,null,null,null,null,null,null,null,null,null,null,null,null,null,null,null,null,null,null,4,"CORALINE"]
[null,null,null,"En course",{"$f":"IF($D9=DEBUT!$L$5,E10,\"\")","v":""},{"$f":"IF($D9=DEBUT!$L$5,F10,\"\")","v":""},{"$f":"IF($D9=DEBUT!$L$5,G10,\"\")","v":""},{"$f":"IF($D9=DEBUT!$L$5,H10,\"\")","v":""},{"$f":"IF($D9=DEBUT!$L$5,I10,\"\")","v":""},{"$f":"IF($D9=DEBUT!$L$5,J10,\"\")","v":""},{"$f":"IF($D9=DEBUT!$L$5,K10,\"\")","v":""},{"$f":"IF($D9=DEBUT!$L$5,L10,\"\")","v":""},{"$f":"IF($D9=DEBUT!$L$5,M10,\"\")","v":""},{"$f":"IF($D9=DEBUT!$L$5,N10,\"\")","v":""},null,"Nombre balises trouvées",{"$f":"SUMPRODUCT(N(ISNUMBER(E9:N9)))","v":0},{"$f":"IF(Q9>1,\"trouvées\",\"trouvée\")","v":"trouvée"},null,null,null,null,null,null,null,null,null,null,null,null,null,null,null,null,null,null,null,5,"GREGORY"]
[null,null,null,"Balises CM",{"$f":"IFERROR(INDEX(baliseCM,MATCH(E8,lettre,0),MATCH($D6,parcours,0)),\"\")","v":12},{"$f":"IFERROR(INDEX(baliseCM,MATCH(F8,lettre,0),MATCH($D6,parcours,0)),\"\")","v":13},11,16,35,28,26,40,39,45,null,null,null,null,null,null,null,null,null,null,null,null,null,null,null,null,null,null,null,null,null,null,null,6,"THOMAS"]
[null,null,null,"Vitesse",{"$f":"(E7/ABS((HOUR(E6)*3600+MINUTE(E6)*60+SECOND(E6))))*3.6","v":0},{"$f":"(F7/ABS((HOUR(F6)*3600+MINUTE(F6)*60+SECOND(F6))))*3.6","v":0},0,0,0,0,0,0,0,{"$f":"(N7/ABS((HOUR(N6)*3600+MINUTE(N6)*60+SECOND(N6))))*3.6","v":0},"Km/h","Vitesse moyenne",{"$f":"Q7/R6*3.6","v":0},"km/h",null,null,null,null,null,null,null,null,null,null,null,null,null,null,null,null,null,null,null,7,"ALAIN"]
[null,"EQUIPE 2",null,"11:32:48","11:32:50","11:32:51","11:32:51","11:32:52","11:32:53","11:32:54","11:32:55","11:32:56","11:32:57","11:33:00",null,null,null,null,null,"Analyse du parcours",null,null,null,null,null,null,null,null,null,null,null,null,null,null,null,null,null,8,"QUENTIN"]
[null,null,null,{"$f":"CONCATENATE(D14,\"bis\")","v":"21Stevebis"},{"$f":"E12-D12","v":"00:00:02"},{"$f":"F12-E12","v":"00:00:01"},{"$f":"G12-F12","v":"00:00:00"},{"$f":"H12-G12","v":"00:00:01"},{"$f":"I12-H12","v":"00:00:01"},{"$f":"J12-I12","v":"00:00:01"},{"$f":"K12-J12","v":"00:00:01"},{"$f":"L12-K12","v":"00:00:01"},{"$f":"M12-L12","v":"00:00:01"},{"$f":"N12-M12","v":"00:00:03"},null,"Temps de course",{"$f":"SUMIF(E13:N13,\">0\",E13:N13)","v":"00:00:12"},{"$f":"ABS((HOUR(Q13)*3600+MINUTE(Q13)*60+SECOND(Q13)))","v":12},null,null,null,null,null,null,null,null,null,null,null,null,null,null,null,null,null,null,null,9,"BAPTISTE"]
[null,null,null,{"$f":"$H$2","v":"21Steve"},{"$f":"IFERROR(SQRT(POWER((VLOOKUP($C$5,DEBUT!$D$5:$J$110,6,FALSE)-VLOOKUP(E16,DEBUT!$D$5:$J$110,6,FALSE)),2)+POWER((VLOOKUP($C$5,DEBUT!$D$5:$J$110,7,FALSE)-VLOOKUP(E16,DEBUT!$D$5:$J$110,7,FALSE)),2))/CARTE!$O$9,0)","v":439.08086127553833},{"$f":"IFERROR(SQRT(POWER((VLOOKUP($C$5,DEBUT!$D$5:$J$110,6,FALSE)-VLOOKUP(F16,DEBUT!$D$5:$J$110,6,FALSE)),2)+POWER((VLOOKUP($C$5,DEBUT!$D$5:$J$110,7,FALSE)-VLOOKUP(F16,DEBUT!$D$5:$J$110,7,FALSE)),2))/CARTE!$O$9,0)","v":522.95657073256018},{"$f":"IFERROR(SQRT(POWER((VLOOKUP($C$5,DEBUT!$D$5:$J$110,6,FALSE)-VLOOKUP(G16,DEBUT!$D$5:$J$110,6,FALSE)),2)+POWER((VLOOKUP($C$5,DEBUT!$D$5:$J$110,7,FALSE)-VLOOKUP(G16,DEBUT!$D$5:$J$110,7,FALSE)),2))/CARTE!$O$9,0)","v":292.36811846754603},{"$f":"IFERROR(SQRT(POWER((VLOOKUP($C$5,DEBUT!$D$5:$J$110,6,FALSE)-VLOOKUP(H16,DEBUT!$D$5:$J$110,6,FALSE)),2)+POWER((VLOOKUP($C$5,DEBUT!$D$5:$J$110,7,FALSE)-VLOOKUP(H16,DEBUT!$D$5:$J$110,7,FALSE)),2))/CARTE!$O$9,0)","v":347.74950117848323},{"$f":"IFERROR(SQRT(POWER((VLOOKUP($C$5,DEBUT!$D$5:$J$110,6,FALSE)-VLOOKUP(I16,DEBUT!$D$5:$J$110,6,FALSE)),2)+POWER((VLOOKUP($C$5,DEBUT!$D$5:$J$110,7,FALSE)-VLOOKUP(I16,DEBUT!$D$5:$J$110,7,FALSE)),2))/CARTE!$O$9,0)","v":204.14834591358496},{"$f":"IFERROR(SQRT(POWER((VLOOKUP($C$5,DEBUT!$D$5:$J$110,6,FALSE)-VLOOKUP(J16,DEBUT!$D$5:$J$110,6,FALSE)),2)+POWER((VLOOKUP($C$5,DEBUT!$D$5:$J$110,7,FALSE)-VLOOKUP(J16,DEBUT!$D$5:$J$110,7,FALSE)),2))/CARTE!$O$9,0)","v":588.02395009197596},{"$f":"IFERROR(SQRT(POWER((VLOOKUP($C$5,DEBUT!$D$5:$J$110,6,FALSE)-VLOOKUP(K16,DEBUT!$D$5:$J$110,6,FALSE)),2)+POWER((VLOOKUP($C$5,DEBUT!$D$5:$J$110,7,FALSE)-VLOOKUP(K16,DEBUT!$D$5:$J$110,7,FALSE)),2))/CARTE!$O$9,0)","v":746.71290616124918},{"$f":"IFERROR(SQRT(POWER((VLOOKUP($C$5,DEBUT!$D$5:$J$110,6,FALSE)-VLOOKUP(L16,DEBUT!$D$5:$J$110,6,FALSE)),2)+POWER((VLOOKUP($C$5,DEBUT!$D$5:$J$110,7,FALSE)-VLOOKUP(L16,DEBUT!$D$5:$J$110,7,FALSE)),2))/CARTE!$O$9,0)","v":422.6699126362725},{"$f":"IFERROR(SQRT(POWER((VLOOKUP($C$5,DEBUT!$D$5:$J$110,6,FALSE)-VLOOKUP(M16,DEBUT!$D$5:$J$110,6,FALSE)),2)+POWER((VLOOKUP($C$5,DEBUT!$D$5:$J$110,7,FALSE)-VLOOKUP(M16,DEBUT!$D$5:$J$110,7,FALSE)),2))/CARTE!$O$9,0)","v":350.54636254503066},{"$f":"IFERROR(SQRT(POWER((VLOOKUP($C$5,DEBUT!$D$5:$J$110,6,FALSE)-VLOOKUP(N16,DEBUT!$D$5:$J$110,6,FALSE)),2)+POWER((VLOOKUP($C$5,DEBUT!$D$5:$J$110,7,FALSE)-VLOOKUP(N16,DEBUT!$D$5:$J$110,7,FALSE)),2))/CARTE!$O$9,0)","v":365.23656854997205},"m","Distance",{"$f":"SUM(E14:N14)","v":4279.4930975522129},"m",null,null,null,null,null,null,null,null,null,null,null,null,null,null,null,null,null,null,null,10,"FRANCK"]
[null,null,null,"Balises prévues",{"$f":"IF(ISTEXT($D14),HLOOKUP($D14,DEBUT!$O$3:$XX$100,3,FALSE),\"\")","v":"A"},{"$f":"IF(ISTEXT($D14),HLOOKUP($D14,DEBUT!$O$3:$XX$100,4,FALSE),\"\")","v":"B"},{"$f":"IF(ISTEXT($D14),HLOOKUP($D14,DEBUT!$O$3:$XX$100,5,FALSE),\"\")","v":"C"},{"$f":"IF(ISTEXT($D14),HLOOKUP($D14,DEBUT!$O$3:$XX$100,6,FALSE),\"\")","v":"D"},{"$f":"IF(ISTEXT($D14),HLOOKUP($D14,DEBUT!$O$3:$XX$100,7,FALSE),\"\")","v":"E"},{"$f":"IF(ISTEXT($D14),HLOOKUP($D14,DEBUT!$O$3:$XX$100,8,FALSE),\"\")","v":"F"},{"$f":"IF(ISTEXT($D14),HLOOKUP($D14,DEBUT!$O$3:$XX$100,9,FALSE),\"\")","v":"G"},{"$f":"IF(ISTEXT($D14),HLOOKUP($D14,DEBUT!$O$3:$XX$100,10,FALSE),\"\")","v":"H"},{"$f":"IF(ISTEXT($D14),HLOOKUP($D14,DEBUT!$O$3:$XX$100,11,FALSE),\"\")","v":"I"},{"$f":"IF(ISTEXT($D14),HLOOKUP($D14,DEBUT!$O$3:$XX$100,12,FALSE),\"\")","v":"J"},null,"Nombre balises prévues",{"$f":"SUMPRODUCT(N(ISTEXT(E15:N15)))","v":10},"prévues",null,null,null,null,null,null,null,null,null,null,null,null,null,null,null,null,null,null,null,11,"VALENTIN"]
[null,null,null,"Validé",{"$f":"IF($D16=DEBUT!$L$5,E17,\"\")","v":12},{"$f":"IF($D16=DEBUT!$L$5,F17,\"\")","v":13},{"$f":"IF($D16=DEBUT!$L$5,G17,\"\")","v":11},{"$f":"IF($D16=DEBUT!$L$5,H17,\"\")","v":16},{"$f":"IF($D16=DEBUT!$L$5,I17,\"\")","v":35},{"$f":"IF($D16=DEBUT!$L$5,J17,\"\")","v":28},{"$f":"IF($D16=DEBUT!$L$5,K17,\"\")","v":26},{"$f":"IF($D16=DEBUT!$L$5,L17,\"\")","v":40},{"$f":"IF($D16=DEBUT!$L$5,M17,\"\")","v":39},{"$f":"IF($D16=DEBUT!$L$5,N17,\"\")","v":45},null,"Nombre balises trouvées",{"$f":"SUMPRODUCT(N(ISNUMBER(E16:N16)))","v":10},{"$f":"IF(Q16>1,\"trouvées\",\"trouvée\")","v":"trouvées"},null,null,null,null,null,null,null,null,null,null,null,null,null,null,null,null,null,null,null,12,"BENJAMIN"]
[null,null,null,"Balises CM",{"$f":"IFERROR(INDEX(baliseCM,MATCH(E15,lettre,0),MATCH($D13,parcours,0)),\"\")","v":12},{"$f":"IFERROR(INDEX(baliseCM,MATCH(F15,lettre,0),MATCH($D13,parcours,0)),\"\")","v":13},11,16,35,28,26,40,39,45,null,null,null,null,null,null,null,null,null,null,null,null,null,null,null,null,null,null,null,null,null,null,null,13,"ANDY"]
[null,null,null,"Vitesse",{"$f":"(E14/ABS((HOUR(E13)*3600+MINUTE(E13)*60+SECOND(E13))))*3.6","v":790.34555029596902},{"$f":"(F14/ABS((HOUR(F13)*3600+MINUTE(F13)*60+SECOND(F13))))*3.6","v":1882.6436546372167},{"$error":"#DIV/0!"},1251.8982042425396,734.93404528890585,2116.8862203311137,2688.1664621804971,1521.6116854905811,1261.9669051621104,{"$f":"(N14/ABS((HOUR(N13)*3600+MINUTE(N13)*60+SECOND(N13))))*3.6","v":438.28388225996645},"Km/h","Vitesse moyenne",{"$f":"Q14/R13*3.6","v":1283.8479292656639},"km/h",null,null,null,null,null,null,null,null,null,null,null,null,null,null,null,null,null,null,null,14,"OLIVIER"]
[null,"EQUIPE 3",null,"11:34:16","11:34:17","11:34:18","11:34:19","11:34:20","11:34:21","11:34:22","11:34:24","11:34:25","11:34:27","11:34:29",null,null,null,null,null,"Analyse du parcours",null,null,null,null,null,null,null,null,null,null,null,null,null,null,null,null,null,15,"CHRISTIAN"]
[null,null,null,{"$f":"CONCATENATE(D21,\"bis\")","v":"21Stevebis"},{"$f":"E19-D19","v":"00:00:01"},{"$f":"F19-E19","v":"00:00:01"},{"$f":"G19-F19","v":"00:00:01"},{"$f":"H19-G19","v":"00:00:01"},{"$f":"I19-H19","v":"00:00:01"},{"$f":"J19-I19","v":"00:00:01"},{"$f":"K19-J19","v":"00:00:02"},{"$f":"L19-K19","v":"00:00:01"},{"$f":"M19-L19","v":"00:00:02"},{"$f":"N19-M19","v":"00:00:02"},null,"Temps de course",{"$f":"SUMIF(E20:N20,\">0\",E20:N20)","v":"00:00:13"},{"$f":"ABS((HOUR(Q20)*3600+MINUTE(Q20)*60+SECOND(Q20)))","v":13},null,null,null,null,null,null,null,null,null,null,null,null,null,null,null,null,null,null,null,16,"CELINE"]
[null,null,null,{"$f":"$H$2","v":"21Steve"},{"$f":"IFERROR(SQRT(POWER((VLOOKUP($C$5,DEBUT!$D$5:$J$110,6,FALSE)-VLOOKUP(E23,DEBUT!$D$5:$J$110,6,FALSE)),2)+POWER((VLOOKUP($C$5,DEBUT!$D$5:$J$110,7,FALSE)-VLOOKUP(E23,DEBUT!$D$5:$J$110,7,FALSE)),2))/CARTE!$O$9,0)","v":439.08086127553833},{"$f":"IFERROR(SQRT(POWER((VLOOKUP($C$5,DEBUT!$D$5:$J$110,6,FALSE)-VLOOKUP(F23,DEBUT!$D$5:$J$110,6,FALSE)),2)+POWER((VLOOKUP($C$5,DEBUT!$D$5:$J$110,7,FALSE)-VLOOKUP(F23,DEBUT!$D$5:$J$110,7,FALSE)),2))/CARTE!$O$9,0)","v":522.95657073256018},{"$f":"IFERROR(SQRT(POWER((VLOOKUP($C$5,DEBUT!$D$5:$J$110,6,FALSE)-VLOOKUP(G23,DEBUT!$D$5:$J$110,6,FALSE)),2)+POWER((VLOOKUP($C$5,DEBUT!$D$5:$J$110,7,FALSE)-VLOOKUP(G23,DEBUT!$D$5:$J$110,7,FALSE)),2))/CARTE!$O$9,0)","v":292.36811846754603},{"$f":"IFERROR(SQRT(POWER((VLOOKUP($C$5,DEBUT!$D$5:$J$110,6,FALSE)-VLOOKUP(H23,DEBUT!$D$5:$J$110,6,FALSE)),2)+POWER((VLOOKUP($C$5,DEBUT!$D$5:$J$110,7,FALSE)-VLOOKUP(H23,DEBUT!$D$5:$J$110,7,FALSE)),2))/CARTE!$O$9,0)","v":347.74950117848323},{"$f":"IFERROR(SQRT(POWER((VLOOKUP($C$5,DEBUT!$D$5:$J$110,6,FALSE)-VLOOKUP(I23,DEBUT!$D$5:$J$110,6,FALSE)),2)+POWER((VLOOKUP($C$5,DEBUT!$D$5:$J$110,7,FALSE)-VLOOKUP(I23,DEBUT!$D$5:$J$110,7,FALSE)),2))/CARTE!$O$9,0)","v":204.14834591358496},{"$f":"IFERROR(SQRT(POWER((VLOOKUP($C$5,DEBUT!$D$5:$J$110,6,FALSE)-VLOOKUP(J23,DEBUT!$D$5:$J$110,6,FALSE)),2)+POWER((VLOOKUP($C$5,DEBUT!$D$5:$J$110,7,FALSE)-VLOOKUP(J23,DEBUT!$D$5:$J$110,7,FALSE)),2))/CARTE!$O$9,0)","v":588.02395009197596},{"$f":"IFERROR(SQRT(POWER((VLOOKUP($C$5,DEBUT!$D$5:$J$110,6,FALSE)-VLOOKUP(K23,DEBUT!$D$5:$J$110,6,FALSE)),2)+POWER((VLOOKUP($C$5,DEBUT!$D$5:$J$110,7,FALSE)-VLOOKUP(K23,DEBUT!$D$5:$J$110,7,FALSE)),2))/CARTE!$O$9,0)","v":746.71290616124918},{"$f":"IFERROR(SQRT(POWER((VLOOKUP($C$5,DEBUT!$D$5:$J$110,6,FALSE)-VLOOKUP(L23,DEBUT!$D$5:$J$110,6,FALSE)),2)+POWER((VLOOKUP($C$5,DEBUT!$D$5:$J$110,7,FALSE)-VLOOKUP(L23,DEBUT!$D$5:$J$110,7,FALSE)),2))/CARTE!$O$9,0)","v":422.6699126362725},{"$f":"IFERROR(SQRT(POWER((VLOOKUP($C$5,DEBUT!$D$5:$J$110,6,FALSE)-VLOOKUP(M23,DEBUT!$D$5:$J$110,6,FALSE)),2)+POWER((VLOOKUP($C$5,DEBUT!$D$5:$J$110,7,FALSE)-VLOOKUP(M23,DEBUT!$D$5:$J$110,7,FALSE)),2))/CARTE!$O$9,0)","v":350.54636254503066},{"$f":"IFERROR(SQRT(POWER((VLOOKUP($C$5,DEBUT!$D$5:$J$110,6,FALSE)-VLOOKUP(N23,DEBUT!$D$5:$J$110,6,FALSE)),2)+POWER((VLOOKUP($C$5,DEBUT!$D$5:$J$110,7,FALSE)-VLOOKUP(N23,DEBUT!$D$5:$J$110,7,FALSE)),2))/CARTE!$O$9,0)","v":365.23656854997205},"m","Distance",{"$f":"SUM(E21:N21)","v":4279.4930975522129},"m",null,null,null,null,null,null,null,null,null,null,null,null,null,null,null,null,null,null,null,17,"SEBASTIEN"]
[null,null,null,"Balises prévues",{"$f":"IF(ISTEXT($D21),HLOOKUP($D21,DEBUT!$O$3:$XX$100,3,FALSE),\"\")","v":"A"},{"$f":"IF(ISTEXT($D21),HLOOKUP($D21,DEBUT!$O$3:$XX$100,4,FALSE),\"\")","v":"B"},{"$f":"IF(ISTEXT($D21),HLOOKUP($D21,DEBUT!$O$3:$XX$100,5,FALSE),\"\")","v":"C"},{"$f":"IF(ISTEXT($D21),HLOOKUP($D21,DEBUT!$O$3:$XX$100,6,FALSE),\"\")","v":"D"},{"$f":"IF(ISTEXT($D21),HLOOKUP($D21,DEBUT!$O$3:$XX$100,7,FALSE),\"\")","v":"E"},{"$f":"IF(ISTEXT($D21),HLOOKUP($D21,DEBUT!$O$3:$XX$100,8,FALSE),\"\")","v":"F"},{"$f":"IF(ISTEXT($D21),HLOOKUP($D21,DEBUT!$O$3:$XX$100,9,FALSE),\"\")","v":"G"},{"$f":"IF(ISTEXT($D21),HLOOKUP($D21,DEBUT!$O$3:$XX$100,10,FALSE),\"\")","v":"H"},{"$f":"IF(ISTEXT($D21),HLOOKUP($D21,DEBUT!$O$3:$XX$100,11,FALSE),\"\")","v":"I"},{"$f":"IF(ISTEXT($D21),HLOOKUP($D21,DEBUT!$O$3:$XX$100,12,FALSE),\"\")","v":"J"},null,"Nombre balises prévues",{"$f":"SUMPRODUCT(N(ISTEXT(E22:N22)))","v":10},"prévues",null,null,null,null,null,null,null,null,null,null,null,null,null,null,null,null,null,null,null,18,"PASCAL"]
[null,null,null,"Validé",{"$f":"IF($D23=DEBUT!$L$5,E24,\"\")","v":12},{"$f":"IF($D23=DEBUT!$L$5,F24,\"\")","v":13},{"$f":"IF($D23=DEBUT!$L$5,G24,\"\")","v":11},{"$f":"IF($D23=DEBUT!$L$5,H24,\"\")","v":16},{"$f":"IF($D23=DEBUT!$L$5,I24,\"\")","v":35},{"$f":"IF($D23=DEBUT!$L$5,J24,\"\")","v":28},{"$f":"IF($D23=DEBUT!$L$5,K24,\"\")","v":26},{"$f":"IF($D23=DEBUT!$L$5,L24,\"\")","v":40},{"$f":"IF($D23=DEBUT!$L$5,M24,\"\")","v":39},{"$f":"IF($D23=DEBUT!$L$5,N24,\"\")","v":45},null,"Nombre balises trouvées",{"$f":"SUMPRODUCT(N(ISNUMBER(E23:N23)))","v":10},{"$f":"IF(Q23>1,\"trouvées\",\"trouvée\")","v":"trouvées"},null,null,null,null,null,null,null,null,null,null,null,null,null,null,null,null,null,null,null,19,"CAROLE"]
[null,null,null,"Balises CM",{"$f":"IFERROR(INDEX(baliseCM,MATCH(E22,lettre,0),MATCH($D20,parcours,0)),\"\")","v":12},{"$f":"IFERROR(INDEX(baliseCM,MATCH(F22,lettre,0),MATCH($D20,parcours,0)),\"\")","v":13},11,16,35,28,26,40,39,45,null,null,null,null,null,null,null,null,null,null,null,null,null,null,null,null,null,null,null,null,null,null,null,20,"ISABELLE"]
[null,null,null,"Vitesse",{"$f":"(E21/ABS((HOUR(E20)*3600+MINUTE(E20)*60+SECOND(E20))))*3.6","v":1580.691100591938},{"$f":"(F21/ABS((HOUR(F20)*3600+MINUTE(F20)*60+SECOND(F20))))*3.6","v":1882.6436546372167},1052.5252264831656,1251.8982042425396,734.93404528890585,2116.8862203311137,1344.0832310902485,1521.6116854905811,630.98345258105519,{"$f":"(N21/ABS((HOUR(N20)*3600+MINUTE(N20)*60+SECOND(N20))))*3.6","v":657.42582338994976},"Km/h","Vitesse moyenne",{"$f":"Q21/R20*3.6","v":1185.0903962452282},"km/h",null,null,null,null,null,null,null,null,null,null,null,null,null,null,null,null,null,null,null,21,"DAVID"]
[null,"EQUIPE 4",null,"15:51:45",null,null,null,null,null,null,null,null,null,null,null,null,null,null,null,"Analyse du parcours",null,null,null,null,null,null,null,null,null,null,null,null,null,null,null,null,null,22,"FRANCOIS"]
[null,null,null,{"$f":"CONCATENATE(D28,\"bis\")","v":"21Stevebis"},{"$f":"E26-D26","v":-0.66093750000000007},{"$f":"F26-E26","v":"00:00:00"},{"$f":"G26-F26","v":"00:00:00"},{"$f":"H26-G26","v":"00:00:00"},{"$f":"I26-H26","v":"00:00:00"},{"$f":"J26-I26","v":"00:00:00"},{"$f":"K26-J26","v":"00:00:00"},{"$f":"L26-K26","v":"00:00:00"},{"$f":"M26-L26","v":"00:00:00"},{"$f":"N26-M26","v":"00:00:00"},null,"Temps de course",{"$f":"SUMIF(E27:N27,\">0\",E27:N27)","v":"00:00:00"},{"$f":"ABS((HOUR(Q27)*3600+MINUTE(Q27)*60+SECOND(Q27)))","v":0},null,null,null,null,null,null,null,null,null,null,null,null,null,null,null,null,null,null,null,23,"Mick"]
[null,null,null,{"$f":"$H$2","v":"21Steve"},{"$f":"IFERROR(SQRT(POWER((VLOOKUP($C$5,DEBUT!$D$5:$J$110,6,FALSE)-VLOOKUP(E30,DEBUT!$D$5:$J$110,6,FALSE)),2)+POWER((VLOOKUP($C$5,DEBUT!$D$5:$J$110,7,FALSE)-VLOOKUP(E30,DEBUT!$D$5:$J$110,7,FALSE)),2))/CARTE!$O$9,0)","v":439.08086127553833},{"$f":"IFERROR(SQRT(POWER((VLOOKUP($C$5,DEBUT!$D$5:$J$110,6,FALSE)-VLOOKUP(F30,DEBUT!$D$5:$J$110,6,FALSE)),2)+POWER((VLOOKUP($C$5,DEBUT!$D$5:$J$110,7,FALSE)-VLOOKUP(F30,DEBUT!$D$5:$J$110,7,FALSE)),2))/CARTE!$O$9,0)","v":522.95657073256018},{"$f":"IFERROR(SQRT(POWER((VLOOKUP($C$5,DEBUT!$D$5:$J$110,6,FALSE)-VLOOKUP(G30,DEBUT!$D$5:$J$110,6,FALSE)),2)+POWER((VLOOKUP($C$5,DEBUT!$D$5:$J$110,7,FALSE)-VLOOKUP(G30,DEBUT!$D$5:$J$110,7,FALSE)),2))/CARTE!$O$9,0)","v":292.36811846754603},{"$f":"IFERROR(SQRT(POWER((VLOOKUP($C$5,DEBUT!$D$5:$J$110,6,FALSE)-VLOOKUP(H30,DEBUT!$D$5:$J$110,6,FALSE)),2)+POWER((VLOOKUP($C$5,DEBUT!$D$5:$J$110,7,FALSE)-VLOOKUP(H30,DEBUT!$D$5:$J$110,7,FALSE)),2))/CARTE!$O$9,0)","v":347.74950117848323},{"$f":"IFERROR(SQRT(POWER((VLOOKUP($C$5,DEBUT!$D$5:$J$110,6,FALSE)-VLOOKUP(I30,DEBUT!$D$5:$J$110,6,FALSE)),2)+POWER((VLOOKUP($C$5,DEBUT!$D$5:$J$110,7,FALSE)-VLOOKUP(I30,DEBUT!$D$5:$J$110,7,FALSE)),2))/CARTE!$O$9,0)","v":204.14834591358496},{"$f":"IFERROR(SQRT(POWER((VLOOKUP($C$5,DEBUT!$D$5:$J$110,6,FALSE)-VLOOKUP(J30,DEBUT!$D$5:$J$110,6,FALSE)),2)+POWER((VLOOKUP($C$5,DEBUT!$D$5:$J$110,7,FALSE)-VLOOKUP(J30,DEBUT!$D$5:$J$110,7,FALSE)),2))/CARTE!$O$9,0)","v":588.02395009197596},{"$f":"IFERROR(SQRT(POWER((VLOOKUP($C$5,DEBUT!$D$5:$J$110,6,FALSE)-VLOOKUP(K30,DEBUT!$D$5:$J$110,6,FALSE)),2)+POWER((VLOOKUP($C$5,DEBUT!$D$5:$J$110,7,FALSE)-VLOOKUP(K30,DEBUT!$D$5:$J$110,7,FALSE)),2))/CARTE!$O$9,0)","v":746.71290616124918},{"$f":"IFERROR(SQRT(POWER((VLOOKUP($C$5,DEBUT!$D$5:$J$110,6,FALSE)-VLOOKUP(L30,DEBUT!$D$5:$J$110,6,FALSE)),2)+POWER((VLOOKUP($C$5,DEBUT!$D$5:$J$110,7,FALSE)-VLOOKUP(L30,DEBUT!$D$5:$J$110,7,FALSE)),2))/CARTE!$O$9,0)","v":422.6699126362725},{"$f":"IFERROR(SQRT(POWER((VLOOKUP($C$5,DEBUT!$D$5:$J$110,6,FALSE)-VLOOKUP(M30,DEBUT!$D$5:$J$110,6,FALSE)),2)+POWER((VLOOKUP($C$5,DEBUT!$D$5:$J$110,7,FALSE)-VLOOKUP(M30,DEBUT!$D$5:$J$110,7,FALSE)),2))/CARTE!$O$9,0)","v":350.54636254503066},{"$f":"IFERROR(SQRT(POWER((VLOOKUP($C$5,DEBUT!$D$5:$J$110,6,FALSE)-VLOOKUP(N30,DEBUT!$D$5:$J$110,6,FALSE)),2)+POWER((VLOOKUP($C$5,DEBUT!$D$5:$J$110,7,FALSE)-VLOOKUP(N30,DEBUT!$D$5:$J$110,7,FALSE)),2))/CARTE!$O$9,0)","v":365.23656854997205},"m","Distance",{"$f":"SUM(E28:N28)","v":4279.4930975522129},"m",null,null,null,null,null,null,null,null,null,null,null,null,null,null,null,null,null,null,null,24,0]
[null,null,null,"Balises prévues",{"$f":"IF(ISTEXT($D28),HLOOKUP($D28,DEBUT!$O$3:$XX$100,3,FALSE),\"\")","v":"A"},{"$f":"IF(ISTEXT($D28),HLOOKUP($D28,DEBUT!$O$3:$XX$100,4,FALSE),\"\")","v":"B"},{"$f":"IF(ISTEXT($D28),HLOOKUP($D28,DEBUT!$O$3:$XX$100,5,FALSE),\"\")","v":"C"},{"$f":"IF(ISTEXT($D28),HLOOKUP($D28,DEBUT!$O$3:$XX$100,6,FALSE),\"\")","v":"D"},{"$f":"IF(ISTEXT($D28),HLOOKUP($D28,DEBUT!$O$3:$XX$100,7,FALSE),\"\")","v":"E"},{"$f":"IF(ISTEXT($D28),HLOOKUP($D28,DEBUT!$O$3:$XX$100,8,FALSE),\"\")","v":"F"},{"$f":"IF(ISTEXT($D28),HLOOKUP($D28,DEBUT!$O$3:$XX$100,9,FALSE),\"\")","v":"G"},{"$f":"IF(ISTEXT($D28),HLOOKUP($D28,DEBUT!$O$3:$XX$100,10,FALSE),\"\")","v":"H"},{"$f":"IF(ISTEXT($D28),HLOOKUP($D28,DEBUT!$O$3:$XX$100,11,FALSE),\"\")","v":"I"},{"$f":"IF(ISTEXT($D28),HLOOKUP($D28,DEBUT!$O$3:$XX$100,12,FALSE),\"\")","v":"J"},null,"Nombre balises prévues",{"$f":"SUMPRODUCT(N(ISTEXT(E29:N29)))","v":10},"prévues",null,null,null,null,null,null,null,null,null,null,null,null,null,null,null,null,null,null,null,25,0]
[null,null,null,"Validé",{"$f":"IF($D30=DEBUT!$L$5,E31,\"\")","v":12},{"$f":"IF($D30=DEBUT!$L$5,F31,\"\")","v":13},{"$f":"IF($D30=DEBUT!$L$5,G31,\"\")","v":11},{"$f":"IF($D30=DEBUT!$L$5,H31,\"\")","v":16},{"$f":"IF($D30=DEBUT!$L$5,I31,\"\")","v":35},{"$f":"IF($D30=DEBUT!$L$5,J31,\"\")","v":28},{"$f":"IF($D30=DEBUT!$L$5,K31,\"\")","v":26},{"$f":"IF($D30=DEBUT!$L$5,L31,\"\")","v":40},{"$f":"IF($D30=DEBUT!$L$5,M31,\"\")","v":39},{"$f":"IF($D30=DEBUT!$L$5,N31,\"\")","v":45},null,"Nombre balises trouvées",{"$f":"SUMPRODUCT(N(ISNUMBER(E30:N30)))","v":10},{"$f":"IF(Q30>1,\"trouvées\",\"trouvée\")","v":"trouvées"},null,null,null,null,null,null,null,null,null,null,null,null,null,null,null,null,null,null,null,26,0]
[null,null,null,"Balises CM",{"$f":"IFERROR(INDEX(baliseCM,MATCH(E29,lettre,0),MATCH($D27,parcours,0)),\"\")","v":12},{"$f":"IFERROR(INDEX(baliseCM,MATCH(F29,lettre,0),MATCH($D27,parcours,0)),\"\")","v":13},11,16,35,28,26,40,39,45,null,null,null,null,null,null,null,null,null,null,null,null,null,null,null,null,null,null,null,null,null,null,null,27,0]
[null,null,null,"Vitesse",{"$f":"(E28/ABS((HOUR(E27)*3600+MINUTE(E27)*60+SECOND(E27))))*3.6","v":{"$error":"#NUM!"}},{"$f":"(F28/ABS((HOUR(F27)*3600+MINUTE(F27)*60+SECOND(F27))))*3.6","v":{"$error":"#DIV/0!"}},{"$error":"#DIV/0!"},{"$error":"#DIV/0!"},{"$error":"#DIV/0!"},{"$error":"#DIV/0!"},{"$error":"#DIV/0!"},{"$error":"#DIV/0!"},{"$error":"#DIV/0!"},{"$f":"(N28/ABS((HOUR(N27)*3600+MINUTE(N27)*60+SECOND(N27))))*3.6","v":{"$error":"#DIV/0!"}},"Km/h","Vitesse moyenne",{"$f":"Q28/R27*3.6","v":{"$error":"#DIV/0!"}},"km/h",null,null,null,null,null,null,null,null,null,null,null,null,null,null,null,null,null,null,null,28,0]
[null,"EQUIPE 5",null,"15:51:45",null,null,null,null,null,null,null,null,null,null,null,null,null,null,null,"Analyse du parcours",null,null,null,null,null,null,null,null,null,null,null,null,null,null,null,null,null,29,0]
[null,null,null,{"$f":"CONCATENATE(D35,\"bis\")","v":"21Stevebis"},{"$f":"E33-D33","v":-0.66093750000000007},{"$f":"F33-E33","v":"00:00:00"},{"$f":"G33-F33","v":"00:00:00"},{"$f":"H33-G33","v":"00:00:00"},{"$f":"I33-H33","v":"00:00:00"},{"$f":"J33-I33","v":"00:00:00"},{"$f":"K33-J33","v":"00:00:00"},{"$f":"L33-K33","v":"00:00:00"},{"$f":"M33-L33","v":"00:00:00"},{"$f":"N33-M33","v":"00:00:00"},null,"Temps de course",{"$f":"SUMIF(E34:N34,\">0\",E34:N34)","v":"00:00:00"},{"$f":"ABS((HOUR(Q34)*3600+MINUTE(Q34)*60+SECOND(Q34)))","v":0},null,null,null,null,null,null,null,null,null,null,null,null,null,null,null,null,null,null,null,30,0]
[null,null,null,{"$f":"$H$2","v":"21Steve"},{"$f":"IFERROR(SQRT(POWER((VLOOKUP($C$5,DEBUT!$D$5:$J$110,6,FALSE)-VLOOKUP(E37,DEBUT!$D$5:$J$110,6,FALSE)),2)+POWER((VLOOKUP($C$5,DEBUT!$D$5:$J$110,7,FALSE)-VLOOKUP(E37,DEBUT!$D$5:$J$110,7,FALSE)),2))/CARTE!$O$9,0)","v":439.08086127553833},{"$f":"IFERROR(SQRT(POWER((VLOOKUP($C$5,DEBUT!$D$5:$J$110,6,FALSE)-VLOOKUP(F37,DEBUT!$D$5:$J$110,6,FALSE)),2)+POWER((VLOOKUP($C$5,DEBUT!$D$5:$J$110,7,FALSE)-VLOOKUP(F37,DEBUT!$D$5:$J$110,7,FALSE)),2))/CARTE!$O$9,0)","v":522.95657073256018},{"$f":"IFERROR(SQRT(POWER((VLOOKUP($C$5,DEBUT!$D$5:$J$110,6,FALSE)-VLOOKUP(G37,DEBUT!$D$5:$J$110,6,FALSE)),2)+POWER((VLOOKUP($C$5,DEBUT!$D$5:$J$110,7,FALSE)-VLOOKUP(G37,DEBUT!$D$5:$J$110,7,FALSE)),2))/CARTE!$O$9,0)","v":292.36811846754603},{"$f":"IFERROR(SQRT(POWER((VLOOKUP($C$5,DEBUT!$D$5:$J$110,6,FALSE)-VLOOKUP(H37,DEBUT!$D$5:$J$110,6,FALSE)),2)+POWER((VLOOKUP($C$5,DEBUT!$D$5:$J$110,7,FALSE)-VLOOKUP(H37,DEBUT!$D$5:$J$110,7,FALSE)),2))/CARTE!$O$9,0)","v":347.74950117848323},{"$f":"IFERROR(SQRT(POWER((VLOOKUP($C$5,DEBUT!$D$5:$J$110,6,FALSE)-VLOOKUP(I37,DEBUT!$D$5:$J$110,6,FALSE)),2)+POWER((VLOOKUP($C$5,DEBUT!$D$5:$J$110,7,FALSE)-VLOOKUP(I37,DEBUT!$D$5:$J$110,7,FALSE)),2))/CARTE!$O$9,0)","v":204.14834591358496},{"$f":"IFERROR(SQRT(POWER((VLOOKUP($C$5,DEBUT!$D$5:$J$110,6,FALSE)-VLOOKUP(J37,DEBUT!$D$5:$J$110,6,FALSE)),2)+POWER((VLOOKUP($C$5,DEBUT!$D$5:$J$110,7,FALSE)-VLOOKUP(J37,DEBUT!$D$5:$J$110,7,FALSE)),2))/CARTE!$O$9,0)","v":588.02395009197596},{"$f":"IFERROR(SQRT(POWER((VLOOKUP($C$5,DEBUT!$D$5:$J$110,6,FALSE)-VLOOKUP(K37,DEBUT!$D$5:$J$110,6,FALSE)),2)+POWER((VLOOKUP($C$5,DEBUT!$D$5:$J$110,7,FALSE)-VLOOKUP(K37,DEBUT!$D$5:$J$110,7,FALSE)),2))/CARTE!$O$9,0)","v":746.71290616124918},{"$f":"IFERROR(SQRT(POWER((VLOOKUP($C$5,DEBUT!$D$5:$J$110,6,FALSE)-VLOOKUP(L37,DEBUT!$D$5:$J$110,6,FALSE)),2)+POWER((VLOOKUP($C$5,DEBUT!$D$5:$J$110,7,FALSE)-VLOOKUP(L37,DEBUT!$D$5:$J$110,7,FALSE)),2))/CARTE!$O$9,0)","v":422.6699126362725},{"$f":"IFERROR(SQRT(POWER((VLOOKUP($C$5,DEBUT!$D$5:$J$110,6,FALSE)-VLOOKUP(M37,DEBUT!$D$5:$J$110,6,FALSE)),2)+POWER((VLOOKUP($C$5,DEBUT!$D$5:$J$110,7,FALSE)-VLOOKUP(M37,DEBUT!$D$5:$J$110,7,FALSE)),2))/CARTE!$O$9,0)","v":350.54636254503066},{"$f":"IFERROR(SQRT(POWER((VLOOKUP($C$5,DEBUT!$D$5:$J$110,6,FALSE)-VLOOKUP(N37,DEBUT!$D$5:$J$110,6,FALSE)),2)+POWER((VLOOKUP($C$5,DEBUT!$D$5:$J$110,7,FALSE)-VLOOKUP(N37,DEBUT!$D$5:$J$110,7,FALSE)),2))/CARTE!$O$9,0)","v":365.23656854997205},"m","Distance",{"$f":"SUM(E35:N35)","v":4279.4930975522129},"m",null,null,null,null,null,null,null,null,null,null,null,null,null,null,null,null,null,null,null,31,0]
[null,null,null,"Balises prévues",{"$f":"IF(ISTEXT($D35),HLOOKUP($D35,DEBUT!$O$3:$XX$100,3,FALSE),\"\")","v":"A"},{"$f":"IF(ISTEXT($D35),HLOOKUP($D35,DEBUT!$O$3:$XX$100,4,FALSE),\"\")","v":"B"},{"$f":"IF(ISTEXT($D35),HLOOKUP($D35,DEBUT!$O$3:$XX$100,5,FALSE),\"\")","v":"C"},{"$f":"IF(ISTEXT($D35),HLOOKUP($D35,DEBUT!$O$3:$XX$100,6,FALSE),\"\")","v":"D"},{"$f":"IF(ISTEXT($D35),HLOOKUP($D35,DEBUT!$O$3:$XX$100,7,FALSE),\"\")","v":"E"},{"$f":"IF(ISTEXT($D35),HLOOKUP($D35,DEBUT!$O$3:$XX$100,8,FALSE),\"\")","v":"F"},{"$f":"IF(ISTEXT($D35),HLOOKUP($D35,DEBUT!$O$3:$XX$100,9,FALSE),\"\")","v":"G"},{"$f":"IF(ISTEXT($D35),HLOOKUP($D35,DEBUT!$O$3:$XX$100,10,FALSE),\"\")","v":"H"},{"$f":"IF(ISTEXT($D35),HLOOKUP($D35,DEBUT!$O$3:$XX$100,11,FALSE),\"\")","v":"I"},{"$f":"IF(ISTEXT($D35),HLOOKUP($D35,DEBUT!$O$3:$XX$100,12,FALSE),\"\")","v":"J"},null,"Nombre balises prévues",{"$f":"SUMPRODUCT(N(ISTEXT(E36:N36)))","v":10},"prévues",null,null,null,null,null,null,null,null,null,null,null,null,null,null,null,null,null,null,null,32,0]
[null,null,null,"Validé",{"$f":"IF($D37=DEBUT!$L$5,E38,\"\")","v":12},{"$f":"IF($D37=DEBUT!$L$5,F38,\"\")","v":13},{"$f":"IF($D37=DEBUT!$L$5,G38,\"\")","v":11},{"$f":"IF($D37=DEBUT!$L$5,H38,\"\")","v":16},{"$f":"IF($D37=DEBUT!$L$5,I38,\"\")","v":35},{"$f":"IF($D37=DEBUT!$L$5,J38,\"\")","v":28},{"$f":"IF($D37=DEBUT!$L$5,K38,\"\")","v":26},{"$f":"IF($D37=DEBUT!$L$5,L38,\"\")","v":40},{"$f":"IF($D37=DEBUT!$L$5,M38,\"\")","v":39},{"$f":"IF($D37=DEBUT!$L$5,N38,\"\")","v":45},null,"Nombre balises trouvées",{"$f":"SUMPRODUCT(N(ISNUMBER(E37:N37)))","v":10},{"$f":"IF(Q37>1,\"trouvées\",\"trouvée\")","v":"trouvées"},null,null,null,null,null,null,null,null,null,null,null,null,null,null,null,null,null,null,null,33,0]
[null,null,null,"Balises CM",{"$f":"IFERROR(INDEX(baliseCM,MATCH(E36,lettre,0),MATCH($D34,parcours,0)),\"\")","v":12},{"$f":"IFERROR(INDEX(baliseCM,MATCH(F36,lettre,0),MATCH($D34,parcours,0)),\"\")","v":13},11,16,35,28,26,40,39,45,null,null,null,null,null,null,null,null,null,null,null,null,null,null,null,null,null,null,null,null,null,null,null,34,0]
[null,null,null,"Vitesse",{"$f":"(E35/ABS((HOUR(E34)*3600+MINUTE(E34)*60+SECOND(E34))))*3.6","v":{"$error":"#NUM!"}},{"$f":"(F35/ABS((HOUR(F34)*3600+MINUTE(F34)*60+SECOND(F34))))*3.6","v":{"$error":"#DIV/0!"}},{"$error":"#DIV/0!"},{"$error":"#DIV/0!"},{"$error":"#DIV/0!"},{"$error":"#DIV/0!"},{"$error":"#DIV/0!"},{"$error":"#DIV/0!"},{"$error":"#DIV/0!"},{"$f":"(N35/ABS((HOUR(N34)*3600+MINUTE(N34)*60+SECOND(N34))))*3.6","v":{"$error":"#DIV/0!"}},"Km/h","Vitesse moyenne",{"$f":"Q35/R34*3.6","v":{"$error":"#DIV/0!"}},"km/h",null,null,null,null,null,null,null,null,null,null,null,null,null,null,null,null,null,null,null,35,0]
[null,"EQUIPE 6",null,"15:51:45",null,null,null,null,null,null,null,null,null,null,null,null,null,null,null,"Analyse du parcours",null,null,null,null,null,null,null,null,null,null,null,null,null,null,null,null,null,36,0]
[null,null,null,{"$f":"CONCATENATE(D42,\"bis\")","v":"21Stevebis"},{"$f":"E40-D40","v":-0.66093750000000007},{"$f":"F40-E40","v":"00:00:00"},{"$f":"G40-F40","v":"00:00:00"},{"$f":"H40-G40","v":"00:00:00"},{"$f":"I40-H40","v":"00:00:00"},{"$f":"J40-I40","v":"00:00:00"},{"$f":"K40-J40","v":"00:00:00"},{"$f":"L40-K40","v":"00:00:00"},{"$f":"M40-L40","v":"00:00:00"},{"$f":"N40-M40","v":"00:00:00"},null,"Temps de course",{"$f":"SUMIF(E41:N41,\">0\",E41:N41)","v":"00:00:00"},{"$f":"ABS((HOUR(Q41)*3600+MINUTE(Q41)*60+SECOND(Q41)))","v":0}]
[null,null,null,{"$f":"$H$2","v":"21Steve"},{"$f":"IFERROR(SQRT(POWER((VLOOKUP($C$5,DEBUT!$D$5:$J$110,6,FALSE)-VLOOKUP(E44,DEBUT!$D$5:$J$110,6,FALSE)),2)+POWER((VLOOKUP($C$5,DEBUT!$D$5:$J$110,7,FALSE)-VLOOKUP(E44,DEBUT!$D$5:$J$110,7,FALSE)),2))/CARTE!$O$9,0)","v":439.08086127553833},{"$f":"IFERROR(SQRT(POWER((VLOOKUP($C$5,DEBUT!$D$5:$J$110,6,FALSE)-VLOOKUP(F44,DEBUT!$D$5:$J$110,6,FALSE)),2)+POWER((VLOOKUP($C$5,DEBUT!$D$5:$J$110,7,FALSE)-VLOOKUP(F44,DEBUT!$D$5:$J$110,7,FALSE)),2))/CARTE!$O$9,0)","v":522.95657073256018},{"$f":"IFERROR(SQRT(POWER((VLOOKUP($C$5,DEBUT!$D$5:$J$110,6,FALSE)-VLOOKUP(G44,DEBUT!$D$5:$J$110,6,FALSE)),2)+POWER((VLOOKUP($C$5,DEBUT!$D$5:$J$110,7,FALSE)-VLOOKUP(G44,DEBUT!$D$5:$J$110,7,FALSE)),2))/CARTE!$O$9,0)","v":292.36811846754603},{"$f":"IFERROR(SQRT(POWER((VLOOKUP($C$5,DEBUT!$D$5:$J$110,6,FALSE)-VLOOKUP(H44,DEBUT!$D$5:$J$110,6,FALSE)),2)+POWER((VLOOKUP($C$5,DEBUT!$D$5:$J$110,7,FALSE)-VLOOKUP(H44,DEBUT!$D$5:$J$110,7,FALSE)),2))/CARTE!$O$9,0)","v":347.74950117848323},{"$f":"IFERROR(SQRT(POWER((VLOOKUP($C$5,DEBUT!$D$5:$J$110,6,FALSE)-VLOOKUP(I44,DEBUT!$D$5:$J$110,6,FALSE)),2)+POWER((VLOOKUP($C$5,DEBUT!$D$5:$J$110,7,FALSE)-VLOOKUP(I44,DEBUT!$D$5:$J$110,7,FALSE)),2))/CARTE!$O$9,0)","v":204.14834591358496},{"$f":"IFERROR(SQRT(POWER((VLOOKUP($C$5,DEBUT!$D$5:$J$110,6,FALSE)-VLOOKUP(J44,DEBUT!$D$5:$J$110,6,FALSE)),2)+POWER((VLOOKUP($C$5,DEBUT!$D$5:$J$110,7,FALSE)-VLOOKUP(J44,DEBUT!$D$5:$J$110,7,FALSE)),2))/CARTE!$O$9,0)","v":588.02395009197596},{"$f":"IFERROR(SQRT(POWER((VLOOKUP($C$5,DEBUT!$D$5:$J$110,6,FALSE)-VLOOKUP(K44,DEBUT!$D$5:$J$110,6,FALSE)),2)+POWER((VLOOKUP($C$5,DEBUT!$D$5:$J$110,7,FALSE)-VLOOKUP(K44,DEBUT!$D$5:$J$110,7,FALSE)),2))/CARTE!$O$9,0)","v":746.71290616124918},{"$f":"IFERROR(SQRT(POWER((VLOOKUP($C$5,DEBUT!$D$5:$J$110,6,FALSE)-VLOOKUP(L44,DEBUT!$D$5:$J$110,6,FALSE)),2)+POWER((VLOOKUP($C$5,DEBUT!$D$5:$J$110,7,FALSE)-VLOOKUP(L44,DEBUT!$D$5:$J$110,7,FALSE)),2))/CARTE!$O$9,0)","v":422.6699126362725},{"$f":"IFERROR(SQRT(POWER((VLOOKUP($C$5,DEBUT!$D$5:$J$110,6,FALSE)-VLOOKUP(M44,DEBUT!$D$5:$J$110,6,FALSE)),2)+POWER((VLOOKUP($C$5,DEBUT!$D$5:$J$110,7,FALSE)-VLOOKUP(M44,DEBUT!$D$5:$J$110,7,FALSE)),2))/CARTE!$O$9,0)","v":350.54636254503066},{"$f":"IFERROR(SQRT(POWER((VLOOKUP($C$5,DEBUT!$D$5:$J$110,6,FALSE)-VLOOKUP(N44,DEBUT!$D$5:$J$110,6,FALSE)),2)+POWER((VLOOKUP($C$5,DEBUT!$D$5:$J$110,7,FALSE)-VLOOKUP(N44,DEBUT!$D$5:$J$110,7,FALSE)),2))/CARTE!$O$9,0)","v":365.23656854997205},"m","Distance",{"$f":"SUM(E42:N42)","v":4279.4930975522129},"m"]
[null,null,null,"Balises prévues",{"$f":"IF(ISTEXT($D42),HLOOKUP($D42,DEBUT!$O$3:$XX$100,3,FALSE),\"\")","v":"A"},{"$f":"IF(ISTEXT($D42),HLOOKUP($D42,DEBUT!$O$3:$XX$100,4,FALSE),\"\")","v":"B"},{"$f":"IF(ISTEXT($D42),HLOOKUP($D42,DEBUT!$O$3:$XX$100,5,FALSE),\"\")","v":"C"},{"$f":"IF(ISTEXT($D42),HLOOKUP($D42,DEBUT!$O$3:$XX$100,6,FALSE),\"\")","v":"D"},{"$f":"IF(ISTEXT($D42),HLOOKUP($D42,DEBUT!$O$3:$XX$100,7,FALSE),\"\")","v":"E"},{"$f":"IF(ISTEXT($D42),HLOOKUP($D42,DEBUT!$O$3:$XX$100,8,FALSE),\"\")","v":"F"},{"$f":"IF(ISTEXT($D42),HLOOKUP($D42,DEBUT!$O$3:$XX$100,9,FALSE),\"\")","v":"G"},{"$f":"IF(ISTEXT($D42),HLOOKUP($D42,DEBUT!$O$3:$XX$100,10,FALSE),\"\")","v":"H"},{"$f":"IF(ISTEXT($D42),HLOOKUP($D42,DEBUT!$O$3:$XX$100,11,FALSE),\"\")","v":"I"},{"$f":"IF(ISTEXT($D42),HLOOKUP($D42,DEBUT!$O$3:$XX$100,12,FALSE),\"\")","v":"J"},null,"Nombre balises prévues",{"$f":"SUMPRODUCT(N(ISTEXT(E43:N43)))","v":10},"prévues"]
[null,null,null,"Validé",{"$f":"IF($D44=DEBUT!$L$5,E45,\"\")","v":12},{"$f":"IF($D44=DEBUT!$L$5,F45,\"\")","v":13},{"$f":"IF($D44=DEBUT!$L$5,G45,\"\")","v":11},{"$f":"IF($D44=DEBUT!$L$5,H45,\"\")","v":16},{"$f":"IF($D44=DEBUT!$L$5,I45,\"\")","v":35},{"$f":"IF($D44=DEBUT!$L$5,J45,\"\")","v":28},{"$f":"IF($D44=DEBUT!$L$5,K45,\"\")","v":26},{"$f":"IF($D44=DEBUT!$L$5,L45,\"\")","v":40},{"$f":"IF($D44=DEBUT!$L$5,M45,\"\")","v":39},{"$f":"IF($D44=DEBUT!$L$5,N45,\"\")","v":45},null,"Nombre balises trouvées",{"$f":"SUMPRODUCT(N(ISNUMBER(E44:N44)))","v":10},{"$f":"IF(Q44>1,\"trouvées\",\"trouvée\")","v":"trouvées"}]
[null,null,null,"Balises CM",{"$f":"IFERROR(INDEX(baliseCM,MATCH(E43,lettre,0),MATCH($D41,parcours,0)),\"\")","v":12},{"$f":"IFERROR(INDEX(baliseCM,MATCH(F43,lettre,0),MATCH($D41,parcours,0)),\"\")","v":13},11,16,35,28,26,40,39,45]
[null,null,null,"Vitesse",{"$f":"(E42/ABS((HOUR(E41)*3600+MINUTE(E41)*60+SECOND(E41))))*3.6","v":{"$error":"#NUM!"}},{"$f":"(F42/ABS((HOUR(F41)*3600+MINUTE(F41)*60+SECOND(F41))))*3.6","v":{"$error":"#DIV/0!"}},{"$error":"#DIV/0!"},{"$error":"#DIV/0!"},{"$error":"#DIV/0!"},{"$error":"#DIV/0!"},{"$error":"#DIV/0!"},{"$error":"#DIV/0!"},{"$error":"#DIV/0!"},{"$f":"(N42/ABS((HOUR(N41)*3600+MINUTE(N41)*60+SECOND(N41))))*3.6","v":{"$error":"#DIV/0!"}},"Km/h","Vitesse moyenne",{"$f":"Q42/R41*3.6","v":{"$error":"#DIV/0!"}},"km/h"]
[null,"EQUIPE 7",null,"15:51:45",null,null,null,null,null,null,null,null,null,null,null,null,null,null,null,"Analyse du parcours"]
[null,null,null,{"$f":"CONCATENATE(D49,\"bis\")","v":"21Stevebis"},{"$f":"E47-D47","v":-0.66093750000000007},{"$f":"F47-E47","v":"00:00:00"},{"$f":"G47-F47","v":"00:00:00"},{"$f":"H47-G47","v":"00:00:00"},{"$f":"I47-H47","v":"00:00:00"},{"$f":"J47-I47","v":"00:00:00"},{"$f":"K47-J47","v":"00:00:00"},{"$f":"L47-K47","v":"00:00:00"},{"$f":"M47-L47","v":"00:00:00"},{"$f":"N47-M47","v":"00:00:00"},null,"Temps de course",{"$f":"SUMIF(E48:N48,\">0\",E48:N48)","v":"00:00:00"},{"$f":"ABS((HOUR(Q48)*3600+MINUTE(Q48)*60+SECOND(Q48)))","v":0}]
[null,null,null,{"$f":"$H$2","v":"21Steve"},{"$f":"IFERROR(SQRT(POWER((VLOOKUP($C$5,DEBUT!$D$5:$J$110,6,FALSE)-VLOOKUP(E51,DEBUT!$D$5:$J$110,6,FALSE)),2)+POWER((VLOOKUP($C$5,DEBUT!$D$5:$J$110,7,FALSE)-VLOOKUP(E51,DEBUT!$D$5:$J$110,7,FALSE)),2))/CARTE!$O$9,0)","v":439.08086127553833},{"$f":"IFERROR(SQRT(POWER((VLOOKUP($C$5,DEBUT!$D$5:$J$110,6,FALSE)-VLOOKUP(F51,DEBUT!$D$5:$J$110,6,FALSE)),2)+POWER((VLOOKUP($C$5,DEBUT!$D$5:$J$110,7,FALSE)-VLOOKUP(F51,DEBUT!$D$5:$J$110,7,FALSE)),2))/CARTE!$O$9,0)","v":522.95657073256018},{"$f":"IFERROR(SQRT(POWER((VLOOKUP($C$5,DEBUT!$D$5:$J$110,6,FALSE)-VLOOKUP(G51,DEBUT!$D$5:$J$110,6,FALSE)),2)+POWER((VLOOKUP($C$5,DEBUT!$D$5:$J$110,7,FALSE)-VLOOKUP(G51,DEBUT!$D$5:$J$110,7,FALSE)),2))/CARTE!$O$9,0)","v":292.36811846754603},{"$f":"IFERROR(SQRT(POWER((VLOOKUP($C$5,DEBUT!$D$5:$J$110,6,FALSE)-VLOOKUP(H51,DEBUT!$D$5:$J$110,6,FALSE)),2)+POWER((VLOOKUP($C$5,DEBUT!$D$5:$J$110,7,FALSE)-VLOOKUP(H51,DEBUT!$D$5:$J$110,7,FALSE)),2))/CARTE!$O$9,0)","v":347.74950117848323},{"$f":"IFERROR(SQRT(POWER((VLOOKUP($C$5,DEBUT!$D$5:$J$110,6,FALSE)-VLOOKUP(I51,DEBUT!$D$5:$J$110,6,FALSE)),2)+POWER((VLOOKUP($C$5,DEBUT!$D$5:$J$110,7,FALSE)-VLOOKUP(I51,DEBUT!$D$5:$J$110,7,FALSE)),2))/CARTE!$O$9,0)","v":204.14834591358496},{"$f":"IFERROR(SQRT(POWER((VLOOKUP($C$5,DEBUT!$D$5:$J$110,6,FALSE)-VLOOKUP(J51,DEBUT!$D$5:$J$110,6,FALSE)),2)+POWER((VLOOKUP($C$5,DEBUT!$D$5:$J$110,7,FALSE)-VLOOKUP(J51,DEBUT!$D$5:$J$110,7,FALSE)),2))/CARTE!$O$9,0)","v":588.02395009197596},{"$f":"IFERROR(SQRT(POWER((VLOOKUP($C$5,DEBUT!$D$5:$J$110,6,FALSE)-VLOOKUP(K51,DEBUT!$D$5:$J$110,6,FALSE)),2)+POWER((VLOOKUP($C$5,DEBUT!$D$5:$J$110,7,FALSE)-VLOOKUP(K51,DEBUT!$D$5:$J$110,7,FALSE)),2))/CARTE!$O$9,0)","v":746.71290616124918},{"$f":"IFERROR(SQRT(POWER((VLOOKUP($C$5,DEBUT!$D$5:$J$110,6,FALSE)-VLOOKUP(L51,DEBUT!$D$5:$J$110,6,FALSE)),2)+POWER((VLOOKUP($C$5,DEBUT!$D$5:$J$110,7,FALSE)-VLOOKUP(L51,DEBUT!$D$5:$J$110,7,FALSE)),2))/CARTE!$O$9,0)","v":422.6699126362725},{"$f":"IFERROR(SQRT(POWER((VLOOKUP($C$5,DEBUT!$D$5:$J$110,6,FALSE)-VLOOKUP(M51,DEBUT!$D$5:$J$110,6,FALSE)),2)+POWER((VLOOKUP($C$5,DEBUT!$D$5:$J$110,7,FALSE)-VLOOKUP(M51,DEBUT!$D$5:$J$110,7,FALSE)),2))/CARTE!$O$9,0)","v":350.54636254503066},{"$f":"IFERROR(SQRT(POWER((VLOOKUP($C$5,DEBUT!$D$5:$J$110,6,FALSE)-VLOOKUP(N51,DEBUT!$D$5:$J$110,6,FALSE)),2)+POWER((VLOOKUP($C$5,DEBUT!$D$5:$J$110,7,FALSE)-VLOOKUP(N51,DEBUT!$D$5:$J$110,7,FALSE)),2))/CARTE!$O$9,0)","v":365.23656854997205},"m","Distance",{"$f":"SUM(E49:N49)","v":4279.4930975522129},"m"]
[null,null,null,"Balises prévues",{"$f":"IF(ISTEXT($D49),HLOOKUP($D49,DEBUT!$O$3:$XX$100,3,FALSE),\"\")","v":"A"},{"$f":"IF(ISTEXT($D49),HLOOKUP($D49,DEBUT!$O$3:$XX$100,4,FALSE),\"\")","v":"B"},{"$f":"IF(ISTEXT($D49),HLOOKUP($D49,DEBUT!$O$3:$XX$100,5,FALSE),\"\")","v":"C"},{"$f":"IF(ISTEXT($D49),HLOOKUP($D49,DEBUT!$O$3:$XX$100,6,FALSE),\"\")","v":"D"},{"$f":"IF(ISTEXT($D49),HLOOKUP($D49,DEBUT!$O$3:$XX$100,7,FALSE),\"\")","v":"E"},{"$f":"IF(ISTEXT($D49),HLOOKUP($D49,DEBUT!$O$3:$XX$100,8,FALSE),\"\")","v":"F"},{"$f":"IF(ISTEXT($D49),HLOOKUP($D49,DEBUT!$O$3:$XX$100,9,FALSE),\"\")","v":"G"},{"$f":"IF(ISTEXT($D49),HLOOKUP($D49,DEBUT!$O$3:$XX$100,10,FALSE),\"\")","v":"H"},{"$f":"IF(ISTEXT($D49),HLOOKUP($D49,DEBUT!$O$3:$XX$100,11,FALSE),\"\")","v":"I"},{"$f":"IF(ISTEXT($D49),HLOOKUP($D49,DEBUT!$O$3:$XX$100,12,FALSE),\"\")","v":"J"},null,"Nombre balises prévues",{"$f":"SUMPRODUCT(N(ISTEXT(E50:N50)))","v":10},"prévues"]
[null,null,null,"Validé",{"$f":"IF($D51=DEBUT!$L$5,E52,\"\")","v":12},{"$f":"IF($D51=DEBUT!$L$5,F52,\"\")","v":13},{"$f":"IF($D51=DEBUT!$L$5,G52,\"\")","v":11},{"$f":"IF($D51=DEBUT!$L$5,H52,\"\")","v":16},{"$f":"IF($D51=DEBUT!$L$5,I52,\"\")","v":35},{"$f":"IF($D51=DEBUT!$L$5,J52,\"\")","v":28},{"$f":"IF($D51=DEBUT!$L$5,K52,\"\")","v":26},{"$f":"IF($D51=DEBUT!$L$5,L52,\"\")","v":40},{"$f":"IF($D51=DEBUT!$L$5,M52,\"\")","v":39},{"$f":"IF($D51=DEBUT!$L$5,N52,\"\")","v":45},null,"Nombre balises trouvées",{"$f":"SUMPRODUCT(N(ISNUMBER(E51:N51)))","v":10},{"$f":"IF(Q51>1,\"trouvées\",\"trouvée\")","v":"trouvées"}]
[null,null,null,"Balises CM",{"$f":"IFERROR(INDEX(baliseCM,MATCH(E50,lettre,0),MATCH($D48,parcours,0)),\"\")","v":12},{"$f":"IFERROR(INDEX(baliseCM,MATCH(F50,lettre,0),MATCH($D48,parcours,0)),\"\")","v":13},11,16,35,28,26,40,39,45]
[null,null,null,"Vitesse",{"$f":"(E49/ABS((HOUR(E48)*3600+MINUTE(E48)*60+SECOND(E48))))*3.6","v":{"$error":"#NUM!"}},{"$f":"(F49/ABS((HOUR(F48)*3600+MINUTE(F48)*60+SECOND(F48))))*3.6","v":{"$error":"#DIV/0!"}},{"$error":"#DIV/0!"},{"$error":"#DIV/0!"},{"$error":"#DIV/0!"},{"$error":"#DIV/0!"},{"$error":"#DIV/0!"},{"$error":"#DIV/0!"},{"$error":"#DIV/0!"},{"$f":"(N49/ABS((HOUR(N48)*3600+MINUTE(N48)*60+SECOND(N48))))*3.6","v":{"$error":"#DIV/0!"}},"Km/h","Vitesse moyenne",{"$f":"Q49/R48*3.6","v":{"$error":"#DIV/0!"}},"km/h"]
[null,"EQUIPE 8",null,"15:46:38","15:46:40","15:46:41",null,null,null,null,null,null,null,null,null,null,null,null,null,"Analyse du parcours"]
[null,null,null,{"$f":"CONCATENATE(D56,\"bis\")","v":"21Stevebis"},{"$f":"E54-D54","v":"00:00:02"},{"$f":"F54-E54","v":"00:00:01"},{"$f":"G54-F54","v":-0.65741898148148148},{"$f":"H54-G54","v":"00:00:00"},{"$f":"I54-H54","v":"00:00:00"},{"$f":"J54-I54","v":"00:00:00"},{"$f":"K54-J54","v":"00:00:00"},{"$f":"L54-K54","v":"00:00:00"},{"$f":"M54-L54","v":"00:00:00"},{"$f":"N54-M54","v":"00:00:00"},null,"Temps de course",{"$f":"SUMIF(E55:N55,\">0\",E55:N55)","v":"00:00:03"},{"$f":"ABS((HOUR(Q55)*3600+MINUTE(Q55)*60+SECOND(Q55)))","v":3}]
[null,null,null,{"$f":"$H$2","v":"21Steve"},{"$f":"IFERROR(SQRT(POWER((VLOOKUP($C$5,DEBUT!$D$5:$J$110,6,FALSE)-VLOOKUP(E58,DEBUT!$D$5:$J$110,6,FALSE)),2)+POWER((VLOOKUP($C$5,DEBUT!$D$5:$J$110,7,FALSE)-VLOOKUP(E58,DEBUT!$D$5:$J$110,7,FALSE)),2))/CARTE!$O$9,0)","v":439.08086127553833},{"$f":"IFERROR(SQRT(POWER((VLOOKUP($C$5,DEBUT!$D$5:$J$110,6,FALSE)-VLOOKUP(F58,DEBUT!$D$5:$J$110,6,FALSE)),2)+POWER((VLOOKUP($C$5,DEBUT!$D$5:$J$110,7,FALSE)-VLOOKUP(F58,DEBUT!$D$5:$J$110,7,FALSE)),2))/CARTE!$O$9,0)","v":522.95657073256018},{"$f":"IFERROR(SQRT(POWER((VLOOKUP($C$5,DEBUT!$D$5:$J$110,6,FALSE)-VLOOKUP(G58,DEBUT!$D$5:$J$110,6,FALSE)),2)+POWER((VLOOKUP($C$5,DEBUT!$D$5:$J$110,7,FALSE)-VLOOKUP(G58,DEBUT!$D$5:$J$110,7,FALSE)),2))/CARTE!$O$9,0)","v":292.36811846754603},{"$f":"IFERROR(SQRT(POWER((VLOOKUP($C$5,DEBUT!$D$5:$J$110,6,FALSE)-VLOOKUP(H58,DEBUT!$D$5:$J$110,6,FALSE)),2)+POWER((VLOOKUP($C$5,DEBUT!$D$5:$J$110,7,FALSE)-VLOOKUP(H58,DEBUT!$D$5:$J$110,7,FALSE)),2))/CARTE!$O$9,0)","v":347.74950117848323},{"$f":"IFERROR(SQRT(POWER((VLOOKUP($C$5,DEBUT!$D$5:$J$110,6,FALSE)-VLOOKUP(I58,DEBUT!$D$5:$J$110,6,FALSE)),2)+POWER((VLOOKUP($C$5,DEBUT!$D$5:$J$110,7,FALSE)-VLOOKUP(I58,DEBUT!$D$5:$J$110,7,FALSE)),2))/CARTE!$O$9,0)","v":204.14834591358496},{"$f":"IFERROR(SQRT(POWER((VLOOKUP($C$5,DEBUT!$D$5:$J$110,6,FALSE)-VLOOKUP(J58,DEBUT!$D$5:$J$110,6,FALSE)),2)+POWER((VLOOKUP($C$5,DEBUT!$D$5:$J$110,7,FALSE)-VLOOKUP(J58,DEBUT!$D$5:$J$110,7,FALSE)),2))/CARTE!$O$9,0)","v":588.02395009197596},{"$f":"IFERROR(SQRT(POWER((VLOOKUP($C$5,DEBUT!$D$5:$J$110,6,FALSE)-VLOOKUP(K58,DEBUT!$D$5:$J$110,6,FALSE)),2)+POWER((VLOOKUP($C$5,DEBUT!$D$5:$J$110,7,FALSE)-VLOOKUP(K58,DEBUT!$D$5:$J$110,7,FALSE)),2))/CARTE!$O$9,0)","v":746.71290616124918},{"$f":"IFERROR(SQRT(POWER((VLOOKUP($C$5,DEBUT!$D$5:$J$110,6,FALSE)-VLOOKUP(L58,DEBUT!$D$5:$J$110,6,FALSE)),2)+POWER((VLOOKUP($C$5,DEBUT!$D$5:$J$110,7,FALSE)-VLOOKUP(L58,DEBUT!$D$5:$J$110,7,FALSE)),2))/CARTE!$O$9,0)","v":422.6699126362725},{"$f":"IFERROR(SQRT(POWER((VLOOKUP($C$5,DEBUT!$D$5:$J$110,6,FALSE)-VLOOKUP(M58,DEBUT!$D$5:$J$110,6,FALSE)),2)+POWER((VLOOKUP($C$5,DEBUT!$D$5:$J$110,7,FALSE)-VLOOKUP(M58,DEBUT!$D$5:$J$110,7,FALSE)),2))/CARTE!$O$9,0)","v":350.54636254503066},{"$f":"IFERROR(SQRT(POWER((VLOOKUP($C$5,DEBUT!$D$5:$J$110,6,FALSE)-VLOOKUP(N58,DEBUT!$D$5:$J$110,6,FALSE)),2)+POWER((VLOOKUP($C$5,DEBUT!$D$5:$J$110,7,FALSE)-VLOOKUP(N58,DEBUT!$D$5:$J$110,7,FALSE)),2))/CARTE!$O$9,0)","v":365.23656854997205},"m","Distance",{"$f":"SUM(E56:N56)","v":4279.4930975522129},"m"]
[null,null,null,"Balises prévues",{"$f":"IF(ISTEXT($D56),HLOOKUP($D56,DEBUT!$O$3:$XX$100,3,FALSE),\"\")","v":"A"},{"$f":"IF(ISTEXT($D56),HLOOKUP($D56,DEBUT!$O$3:$XX$100,4,FALSE),\"\")","v":"B"},{"$f":"IF(ISTEXT($D56),HLOOKUP($D56,DEBUT!$O$3:$XX$100,5,FALSE),\"\")","v":"C"},{"$f":"IF(ISTEXT($D56),HLOOKUP($D56,DEBUT!$O$3:$XX$100,6,FALSE),\"\")","v":"D"},{"$f":"IF(ISTEXT($D56),HLOOKUP($D56,DEBUT!$O$3:$XX$100,7,FALSE),\"\")","v":"E"},{"$f":"IF(ISTEXT($D56),HLOOKUP($D56,DEBUT!$O$3:$XX$100,8,FALSE),\"\")","v":"F"},{"$f":"IF(ISTEXT($D56),HLOOKUP($D56,DEBUT!$O$3:$XX$100,9,FALSE),\"\")","v":"G"},{"$f":"IF(ISTEXT($D56),HLOOKUP($D56,DEBUT!$O$3:$XX$100,10,FALSE),\"\")","v":"H"},{"$f":"IF(ISTEXT($D56),HLOOKUP($D56,DEBUT!$O$3:$XX$100,11,FALSE),\"\")","v":"I"},{"$f":"IF(ISTEXT($D56),HLOOKUP($D56,DEBUT!$O$3:$XX$100,12,FALSE),\"\")","v":"J"},null,"Nombre balises prévues",{"$f":"SUMPRODUCT(N(ISTEXT(E57:N57)))","v":10},"prévues"]
[null,null,null,"Validé",{"$f":"IF($D58=DEBUT!$L$5,E59,\"\")","v":12},{"$f":"IF($D58=DEBUT!$L$5,F59,\"\")","v":13},{"$f":"IF($D58=DEBUT!$L$5,G59,\"\")","v":11},{"$f":"IF($D58=DEBUT!$L$5,H59,\"\")","v":16},{"$f":"IF($D58=DEBUT!$L$5,I59,\"\")","v":35},{"$f":"IF($D58=DEBUT!$L$5,J59,\"\")","v":28},{"$f":"IF($D58=DEBUT!$L$5,K59,\"\")","v":26},{"$f":"IF($D58=DEBUT!$L$5,L59,\"\")","v":40},{"$f":"IF($D58=DEBUT!$L$5,M59,\"\")","v":39},{"$f":"IF($D58=DEBUT!$L$5,N59,\"\")","v":45},null,"Nombre balises trouvées",{"$f":"SUMPRODUCT(N(ISNUMBER(E58:N58)))","v":10},{"$f":"IF(Q58>1,\"trouvées\",\"trouvée\")","v":"trouvées"}]
[null,null,null,"Balises CM",{"$f":"IFERROR(INDEX(baliseCM,MATCH(E57,lettre,0),MATCH($D55,parcours,0)),\"\")","v":12},{"$f":"IFERROR(INDEX(baliseCM,MATCH(F57,lettre,0),MATCH($D55,parcours,0)),\"\")","v":13},11,16,35,28,26,40,39,45]
[null,null,null,"Vitesse",{"$f":"(E56/ABS((HOUR(E55)*3600+MINUTE(E55)*60+SECOND(E55))))*3.6","v":790.34555029596902},{"$f":"(F56/ABS((HOUR(F55)*3600+MINUTE(F55)*60+SECOND(F55))))*3.6","v":1882.6436546372167},{"$error":"#NUM!"},{"$error":"#DIV/0!"},{"$error":"#DIV/0!"},{"$error":"#DIV/0!"},{"$error":"#DIV/0!"},{"$error":"#DIV/0!"},{"$error":"#DIV/0!"},{"$f":"(N56/ABS((HOUR(N55)*3600+MINUTE(N55)*60+SECOND(N55))))*3.6","v":{"$error":"#DIV/0!"}},"Km/h","Vitesse moyenne",{"$f":"Q56/R55*3.6","v":5135.3917170626555},"km/h"]
[null,"EQUIPE 9",null,"15:51:45","07:31:22",null,null,null,null,null,null,null,null,null,null,null,null,null,null,"Analyse du parcours"]
[null,null,null,{"$f":"CONCATENATE(D63,\"bis\")","v":"21Stevebis"},{"$f":"E61-D61","v":-0.34748842592592599},{"$f":"F61-E61","v":-0.31344907407407407},{"$f":"G61-F61","v":"00:00:00"},{"$f":"H61-G61","v":"00:00:00"},{"$f":"I61-H61","v":"00:00:00"},{"$f":"J61-I61","v":"00:00:00"},{"$f":"K61-J61","v":"00:00:00"},{"$f":"L61-K61","v":"00:00:00"},{"$f":"M61-L61","v":"00:00:00"},{"$f":"N61-M61","v":"00:00:00"},null,"Temps de course",{"$f":"SUMIF(E62:N62,\">0\",E62:N62)","v":"00:00:00"},{"$f":"ABS((HOUR(Q62)*3600+MINUTE(Q62)*60+SECOND(Q62)))","v":0}]
[null,null,null,{"$f":"$H$2","v":"21Steve"},{"$f":"IFERROR(SQRT(POWER((VLOOKUP($C$5,DEBUT!$D$5:$J$110,6,FALSE)-VLOOKUP(E65,DEBUT!$D$5:$J$110,6,FALSE)),2)+POWER((VLOOKUP($C$5,DEBUT!$D$5:$J$110,7,FALSE)-VLOOKUP(E65,DEBUT!$D$5:$J$110,7,FALSE)),2))/CARTE!$O$9,0)","v":439.08086127553833},{"$f":"IFERROR(SQRT(POWER((VLOOKUP($C$5,DEBUT!$D$5:$J$110,6,FALSE)-VLOOKUP(F65,DEBUT!$D$5:$J$110,6,FALSE)),2)+POWER((VLOOKUP($C$5,DEBUT!$D$5:$J$110,7,FALSE)-VLOOKUP(F65,DEBUT!$D$5:$J$110,7,FALSE)),2))/CARTE!$O$9,0)","v":522.95657073256018},{"$f":"IFERROR(SQRT(POWER((VLOOKUP($C$5,DEBUT!$D$5:$J$110,6,FALSE)-VLOOKUP(G65,DEBUT!$D$5:$J$110,6,FALSE)),2)+POWER((VLOOKUP($C$5,DEBUT!$D$5:$J$110,7,FALSE)-VLOOKUP(G65,DEBUT!$D$5:$J$110,7,FALSE)),2))/CARTE!$O$9,0)","v":292.36811846754603},{"$f":"IFERROR(SQRT(POWER((VLOOKUP($C$5,DEBUT!$D$5:$J$110,6,FALSE)-VLOOKUP(H65,DEBUT!$D$5:$J$110,6,FALSE)),2)+POWER((VLOOKUP($C$5,DEBUT!$D$5:$J$110,7,FALSE)-VLOOKUP(H65,DEBUT!$D$5:$J$110,7,FALSE)),2))/CARTE!$O$9,0)","v":347.74950117848323},{"$f":"IFERROR(SQRT(POWER((VLOOKUP($C$5,DEBUT!$D$5:$J$110,6,FALSE)-VLOOKUP(I65,DEBUT!$D$5:$J$110,6,FALSE)),2)+POWER((VLOOKUP($C$5,DEBUT!$D$5:$J$110,7,FALSE)-VLOOKUP(I65,DEBUT!$D$5:$J$110,7,FALSE)),2))/CARTE!$O$9,0)","v":204.14834591358496},{"$f":"IFERROR(SQRT(POWER((VLOOKUP($C$5,DEBUT!$D$5:$J$110,6,FALSE)-VLOOKUP(J65,DEBUT!$D$5:$J$110,6,FALSE)),2)+POWER((VLOOKUP($C$5,DEBUT!$D$5:$J$110,7,FALSE)-VLOOKUP(J65,DEBUT!$D$5:$J$110,7,FALSE)),2))/CARTE!$O$9,0)","v":588.02395009197596},{"$f":"IFERROR(SQRT(POWER((VLOOKUP($C$5,DEBUT!$D$5:$J$110,6,FALSE)-VLOOKUP(K65,DEBUT!$D$5:$J$110,6,FALSE)),2)+POWER((VLOOKUP($C$5,DEBUT!$D$5:$J$110,7,FALSE)-VLOOKUP(K65,DEBUT!$D$5:$J$110,7,FALSE)),2))/CARTE!$O$9,0)","v":746.71290616124918},{"$f":"IFERROR(SQRT(POWER((VLOOKUP($C$5,DEBUT!$D$5:$J$110,6,FALSE)-VLOOKUP(L65,DEBUT!$D$5:$J$110,6,FALSE)),2)+POWER((VLOOKUP($C$5,DEBUT!$D$5:$J$110,7,FALSE)-VLOOKUP(L65,DEBUT!$D$5:$J$110,7,FALSE)),2))/CARTE!$O$9,0)","v":422.6699126362725},{"$f":"IFERROR(SQRT(POWER((VLOOKUP($C$5,DEBUT!$D$5:$J$110,6,FALSE)-VLOOKUP(M65,DEBUT!$D$5:$J$110,6,FALSE)),2)+POWER((VLOOKUP($C$5,DEBUT!$D$5:$J$110,7,FALSE)-VLOOKUP(M65,DEBUT!$D$5:$J$110,7,FALSE)),2))/CARTE!$O$9,0)","v":350.54636254503066},{"$f":"IFERROR(SQRT(POWER((VLOOKUP($C$5,DEBUT!$D$5:$J$110,6,FALSE)-VLOOKUP(N65,DEBUT!$D$5:$J$110,6,FALSE)),2)+POWER((VLOOKUP($C$5,DEBUT!$D$5:$J$110,7,FALSE)-VLOOKUP(N65,DEBUT!$D$5:$J$110,7,FALSE)),2))/CARTE!$O$9,0)","v":365.23656854997205},"m","Distance",{"$f":"SUM(E63:N63)","v":4279.4930975522129},"m"]
[null,null,null,"Balises prévues",{"$f":"IF(ISTEXT($D63),HLOOKUP($D63,DEBUT!$O$3:$XX$100,3,FALSE),\"\")","v":"A"},{"$f":"IF(ISTEXT($D63),HLOOKUP($D63,DEBUT!$O$3:$XX$100,4,FALSE),\"\")","v":"B"},{"$f":"IF(ISTEXT($D63),HLOOKUP($D63,DEBUT!$O$3:$XX$100,5,FALSE),\"\")","v":"C"},{"$f":"IF(ISTEXT($D63),HLOOKUP($D63,DEBUT!$O$3:$XX$100,6,FALSE),\"\")","v":"D"},{"$f":"IF(ISTEXT($D63),HLOOKUP($D63,DEBUT!$O$3:$XX$100,7,FALSE),\"\")","v":"E"},{"$f":"IF(ISTEXT($D63),HLOOKUP($D63,DEBUT!$O$3:$XX$100,8,FALSE),\"\")","v":"F"},{"$f":"IF(ISTEXT($D63),HLOOKUP($D63,DEBUT!$O$3:$XX$100,9,FALSE),\"\")","v":"G"},{"$f":"IF(ISTEXT($D63),HLOOKUP($D63,DEBUT!$O$3:$XX$100,10,FALSE),\"\")","v":"H"},{"$f":"IF(ISTEXT($D63),HLOOKUP($D63,DEBUT!$O$3:$XX$100,11,FALSE),\"\")","v":"I"},{"$f":"IF(ISTEXT($D63),HLOOKUP($D63,DEBUT!$O$3:$XX$100,12,FALSE),\"\")","v":"J"},null,"Nombre balises prévues",{"$f":"SUMPRODUCT(N(ISTEXT(E64:N64)))","v":10},"prévues"]
[null,null,null,"Validé",{"$f":"IF($D65=DEBUT!$L$5,E66,\"\")","v":12},{"$f":"IF($D65=DEBUT!$L$5,F66,\"\")","v":13},{"$f":"IF($D65=DEBUT!$L$5,G66,\"\")","v":11},{"$f":"IF($D65=DEBUT!$L$5,H66,\"\")","v":16},{"$f":"IF($D65=DEBUT!$L$5,I66,\"\")","v":35},{"$f":"IF($D65=DEBUT!$L$5,J66,\"\")","v":28},{"$f":"IF($D65=DEBUT!$L$5,K66,\"\")","v":26},{"$f":"IF($D65=DEBUT!$L$5,L66,\"\")","v":40},{"$f":"IF($D65=DEBUT!$L$5,M66,\"\")","v":39},{"$f":"IF($D65=DEBUT!$L$5,N66,\"\")","v":45},null,"Nombre balises trouvées",{"$f":"SUMPRODUCT(N(ISNUMBER(E65:N65)))","v":10},{"$f":"IF(Q65>1,\"trouvées\",\"trouvée\")","v":"trouvées"}]
[null,null,null,"Balises CM",{"$f":"IFERROR(INDEX(baliseCM,MATCH(E64,lettre,0),MATCH($D62,parcours,0)),\"\")","v":12},{"$f":"IFERROR(INDEX(baliseCM,MATCH(F64,lettre,0),MATCH($D62,parcours,0)),\"\")","v":13},11,16,35,28,26,40,39,45]
[null,null,null,"Vitesse",{"$f":"(E63/ABS((HOUR(E62)*3600+MINUTE(E62)*60+SECOND(E62))))*3.6","v":{"$error":"#NUM!"}},{"$f":"(F63/ABS((HOUR(F62)*3600+MINUTE(F62)*60+SECOND(F62))))*3.6","v":{"$error":"#NUM!"}},{"$error":"#DIV/0!"},{"$error":"#DIV/0!"},{"$error":"#DIV/0!"},{"$error":"#DIV/0!"},{"$error":"#DIV/0!"},{"$error":"#DIV/0!"},{"$error":"#DIV/0!"},{"$f":"(N63/ABS((HOUR(N62)*3600+MINUTE(N62)*60+SECOND(N62))))*3.6","v":{"$error":"#DIV/0!"}},"Km/h","Vitesse moyenne",{"$f":"Q63/R62*3.6","v":{"$error":"#DIV/0!"}},"km/h"]
[null,"EQUIPE 10",null,"07:31:06","07:32:11","07:30:01",null,null,null,null,null,null,null,null,null,null,null,null,null,"Analyse du parcours"]
[null,null,null,{"$f":"CONCATENATE(D70,\"bis\")","v":"21Stevebis"},{"$f":"E68-D68","v":"00:01:05"},{"$f":"F68-E68","v":-1.5046296296296058E-3},{"$f":"G68-F68","v":-0.31251157407407409},{"$f":"H68-G68","v":"00:00:00"},{"$f":"I68-H68","v":"00:00:00"},{"$f":"J68-I68","v":"00:00:00"},{"$f":"K68-J68","v":"00:00:00"},{"$f":"L68-K68","v":"00:00:00"},{"$f":"M68-L68","v":"00:00:00"},{"$f":"N68-M68","v":"00:00:00"},null,"Temps de course",{"$f":"SUMIF(E69:N69,\">0\",E69:N69)","v":"00:01:05"},{"$f":"ABS((HOUR(Q69)*3600+MINUTE(Q69)*60+SECOND(Q69)))","v":65}]
[null,null,null,{"$f":"$H$2","v":"21Steve"},{"$f":"IFERROR(SQRT(POWER((VLOOKUP($C$5,DEBUT!$D$5:$J$110,6,FALSE)-VLOOKUP(E72,DEBUT!$D$5:$J$110,6,FALSE)),2)+POWER((VLOOKUP($C$5,DEBUT!$D$5:$J$110,7,FALSE)-VLOOKUP(E72,DEBUT!$D$5:$J$110,7,FALSE)),2))/CARTE!$O$9,0)","v":439.08086127553833},{"$f":"IFERROR(SQRT(POWER((VLOOKUP($C$5,DEBUT!$D$5:$J$110,6,FALSE)-VLOOKUP(F72,DEBUT!$D$5:$J$110,6,FALSE)),2)+POWER((VLOOKUP($C$5,DEBUT!$D$5:$J$110,7,FALSE)-VLOOKUP(F72,DEBUT!$D$5:$J$110,7,FALSE)),2))/CARTE!$O$9,0)","v":522.95657073256018},{"$f":"IFERROR(SQRT(POWER((VLOOKUP($C$5,DEBUT!$D$5:$J$110,6,FALSE)-VLOOKUP(G72,DEBUT!$D$5:$J$110,6,FALSE)),2)+POWER((VLOOKUP($C$5,DEBUT!$D$5:$J$110,7,FALSE)-VLOOKUP(G72,DEBUT!$D$5:$J$110,7,FALSE)),2))/CARTE!$O$9,0)","v":292.36811846754603},{"$f":"IFERROR(SQRT(POWER((VLOOKUP($C$5,DEBUT!$D$5:$J$110,6,FALSE)-VLOOKUP(H72,DEBUT!$D$5:$J$110,6,FALSE)),2)+POWER((VLOOKUP($C$5,DEBUT!$D$5:$J$110,7,FALSE)-VLOOKUP(H72,DEBUT!$D$5:$J$110,7,FALSE)),2))/CARTE!$O$9,0)","v":347.74950117848323},{"$f":"IFERROR(SQRT(POWER((VLOOKUP($C$5,DEBUT!$D$5:$J$110,6,FALSE)-VLOOKUP(I72,DEBUT!$D$5:$J$110,6,FALSE)),2)+POWER((VLOOKUP($C$5,DEBUT!$D$5:$J$110,7,FALSE)-VLOOKUP(I72,DEBUT!$D$5:$J$110,7,FALSE)),2))/CARTE!$O$9,0)","v":204.14834591358496},{"$f":"IFERROR(SQRT(POWER((VLOOKUP($C$5,DEBUT!$D$5:$J$110,6,FALSE)-VLOOKUP(J72,DEBUT!$D$5:$J$110,6,FALSE)),2)+POWER((VLOOKUP($C$5,DEBUT!$D$5:$J$110,7,FALSE)-VLOOKUP(J72,DEBUT!$D$5:$J$110,7,FALSE)),2))/CARTE!$O$9,0)","v":588.02395009197596},{"$f":"IFERROR(SQRT(POWER((VLOOKUP($C$5,DEBUT!$D$5:$J$110,6,FALSE)-VLOOKUP(K72,DEBUT!$D$5:$J$110,6,FALSE)),2)+POWER((VLOOKUP($C$5,DEBUT!$D$5:$J$110,7,FALSE)-VLOOKUP(K72,DEBUT!$D$5:$J$110,7,FALSE)),2))/CARTE!$O$9,0)","v":746.71290616124918},{"$f":"IFERROR(SQRT(POWER((VLOOKUP($C$5,DEBUT!$D$5:$J$110,6,FALSE)-VLOOKUP(L72,DEBUT!$D$5:$J$110,6,FALSE)),2)+POWER((VLOOKUP($C$5,DEBUT!$D$5:$J$110,7,FALSE)-VLOOKUP(L72,DEBUT!$D$5:$J$110,7,FALSE)),2))/CARTE!$O$9,0)","v":422.6699126362725},{"$f":"IFERROR(SQRT(POWER((VLOOKUP($C$5,DEBUT!$D$5:$J$110,6,FALSE)-VLOOKUP(M72,DEBUT!$D$5:$J$110,6,FALSE)),2)+POWER((VLOOKUP($C$5,DEBUT!$D$5:$J$110,7,FALSE)-VLOOKUP(M72,DEBUT!$D$5:$J$110,7,FALSE)),2))/CARTE!$O$9,0)","v":350.54636254503066},{"$f":"IFERROR(SQRT(POWER((VLOOKUP($C$5,DEBUT!$D$5:$J$110,6,FALSE)-VLOOKUP(N72,DEBUT!$D$5:$J$110,6,FALSE)),2)+POWER((VLOOKUP($C$5,DEBUT!$D$5:$J$110,7,FALSE)-VLOOKUP(N72,DEBUT!$D$5:$J$110,7,FALSE)),2))/CARTE!$O$9,0)","v":365.23656854997205},"m","Distance",{"$f":"SUM(E70:N70)","v":4279.4930975522129},"m"]
[null,null,null,"Balises prévues",{"$f":"IF(ISTEXT($D70),HLOOKUP($D70,DEBUT!$O$3:$XX$100,3,FALSE),\"\")","v":"A"},{"$f":"IF(ISTEXT($D70),HLOOKUP($D70,DEBUT!$O$3:$XX$100,4,FALSE),\"\")","v":"B"},{"$f":"IF(ISTEXT($D70),HLOOKUP($D70,DEBUT!$O$3:$XX$100,5,FALSE),\"\")","v":"C"},{"$f":"IF(ISTEXT($D70),HLOOKUP($D70,DEBUT!$O$3:$XX$100,6,FALSE),\"\")","v":"D"},{"$f":"IF(ISTEXT($D70),HLOOKUP($D70,DEBUT!$O$3:$XX$100,7,FALSE),\"\")","v":"E"},{"$f":"IF(ISTEXT($D70),HLOOKUP($D70,DEBUT!$O$3:$XX$100,8,FALSE),\"\")","v":"F"},{"$f":"IF(ISTEXT($D70),HLOOKUP($D70,DEBUT!$O$3:$XX$100,9,FALSE),\"\")","v":"G"},{"$f":"IF(ISTEXT($D70),HLOOKUP($D70,DEBUT!$O$3:$XX$100,10,FALSE),\"\")","v":"H"},{"$f":"IF(ISTEXT($D70),HLOOKUP($D70,DEBUT!$O$3:$XX$100,11,FALSE),\"\")","v":"I"},{"$f":"IF(ISTEXT($D70),HLOOKUP($D70,DEBUT!$O$3:$XX$100,12,FALSE),\"\")","v":"J"},null,"Nombre balises prévues",{"$f":"SUMPRODUCT(N(ISTEXT(E71:N71)))","v":10},"prévues"]
[null,null,null,"Validé",{"$f":"IF($D72=DEBUT!$L$5,E73,\"\")","v":12},{"$f":"IF($D72=DEBUT!$L$5,F73,\"\")","v":13},{"$f":"IF($D72=DEBUT!$L$5,G73,\"\")","v":11},{"$f":"IF($D72=DEBUT!$L$5,H73,\"\")","v":16},{"$f":"IF($D72=DEBUT!$L$5,I73,\"\")","v":35},{"$f":"IF($D72=DEBUT!$L$5,J73,\"\")","v":28},{"$f":"IF($D72=DEBUT!$L$5,K73,\"\")","v":26},{"$f":"IF($D72=DEBUT!$L$5,L73,\"\")","v":40},{"$f":"IF($D72=DEBUT!$L$5,M73,\"\")","v":39},{"$f":"IF($D72=DEBUT!$L$5,N73,\"\")","v":45},null,"Nombre balises trouvées",{"$f":"SUMPRODUCT(N(ISNUMBER(E72:N72)))","v":10},{"$f":"IF(Q72>1,\"trouvées\",\"trouvée\")","v":"trouvées"}]
[null,null,null,"Balises CM",{"$f":"IFERROR(INDEX(baliseCM,MATCH(E71,lettre,0),MATCH($D69,parcours,0)),\"\")","v":12},{"$f":"IFERROR(INDEX(baliseCM,MATCH(F71,lettre,0),MATCH($D69,parcours,0)),\"\")","v":13},11,16,35,28,26,40,39,45]
[null,null,null,"Vitesse",{"$f":"(E70/ABS((HOUR(E69)*3600+MINUTE(E69)*60+SECOND(E69))))*3.6","v":24.318324624491357},{"$f":"(F70/ABS((HOUR(F69)*3600+MINUTE(F69)*60+SECOND(F69))))*3.6","v":{"$error":"#NUM!"}},{"$error":"#NUM!"},{"$error":"#DIV/0!"},{"$error":"#DIV/0!"},{"$error":"#DIV/0!"},{"$error":"#DIV/0!"},{"$error":"#DIV/0!"},{"$error":"#DIV/0!"},{"$f":"(N70/ABS((HOUR(N69)*3600+MINUTE(N69)*60+SECOND(N69))))*3.6","v":{"$error":"#DIV/0!"}},"Km/h","Vitesse moyenne",{"$f":"Q70/R69*3.6","v":237.01807924904563},"km/h"]
[null,"EQUIPE 11",null,"07:30:39","07:30:41",null,null,null,null,null,null,null,null,null,null,null,null,null,null,"Analyse du parcours"]
[null,null,null,{"$f":"CONCATENATE(D77,\"bis\")","v":"21Stevebis"},{"$f":"E75-D75","v":"00:00:02"},{"$f":"F75-E75","v":-0.31297453703703704},{"$f":"G75-F75","v":"00:00:00"},{"$f":"H75-G75","v":"00:00:00"},{"$f":"I75-H75","v":"00:00:00"},{"$f":"J75-I75","v":"00:00:00"},{"$f":"K75-J75","v":"00:00:00"},{"$f":"L75-K75","v":"00:00:00"},{"$f":"M75-L75","v":"00:00:00"},{"$f":"N75-M75","v":"00:00:00"},null,"Temps de course",{"$f":"SUMIF(E76:N76,\">0\",E76:N76)","v":"00:00:02"},{"$f":"ABS((HOUR(Q76)*3600+MINUTE(Q76)*60+SECOND(Q76)))","v":2}]
[null,null,null,{"$f":"$H$2","v":"21Steve"},{"$f":"IFERROR(SQRT(POWER((VLOOKUP($C$5,DEBUT!$D$5:$J$110,6,FALSE)-VLOOKUP(E79,DEBUT!$D$5:$J$110,6,FALSE)),2)+POWER((VLOOKUP($C$5,DEBUT!$D$5:$J$110,7,FALSE)-VLOOKUP(E79,DEBUT!$D$5:$J$110,7,FALSE)),2))/CARTE!$O$9,0)","v":439.08086127553833},{"$f":"IFERROR(SQRT(POWER((VLOOKUP($C$5,DEBUT!$D$5:$J$110,6,FALSE)-VLOOKUP(F79,DEBUT!$D$5:$J$110,6,FALSE)),2)+POWER((VLOOKUP($C$5,DEBUT!$D$5:$J$110,7,FALSE)-VLOOKUP(F79,DEBUT!$D$5:$J$110,7,FALSE)),2))/CARTE!$O$9,0)","v":522.95657073256018},{"$f":"IFERROR(SQRT(POWER((VLOOKUP($C$5,DEBUT!$D$5:$J$110,6,FALSE)-VLOOKUP(G79,DEBUT!$D$5:$J$110,6,FALSE)),2)+POWER((VLOOKUP($C$5,DEBUT!$D$5:$J$110,7,FALSE)-VLOOKUP(G79,DEBUT!$D$5:$J$110,7,FALSE)),2))/CARTE!$O$9,0)","v":292.36811846754603},{"$f":"IFERROR(SQRT(POWER((VLOOKUP($C$5,DEBUT!$D$5:$J$110,6,FALSE)-VLOOKUP(H79,DEBUT!$D$5:$J$110,6,FALSE)),2)+POWER((VLOOKUP($C$5,DEBUT!$D$5:$J$110,7,FALSE)-VLOOKUP(H79,DEBUT!$D$5:$J$110,7,FALSE)),2))/CARTE!$O$9,0)","v":347.74950117848323},{"$f":"IFERROR(SQRT(POWER((VLOOKUP($C$5,DEBUT!$D$5:$J$110,6,FALSE)-VLOOKUP(I79,DEBUT!$D$5:$J$110,6,FALSE)),2)+POWER((VLOOKUP($C$5,DEBUT!$D$5:$J$110,7,FALSE)-VLOOKUP(I79,DEBUT!$D$5:$J$110,7,FALSE)),2))/CARTE!$O$9,0)","v":204.14834591358496},{"$f":"IFERROR(SQRT(POWER((VLOOKUP($C$5,DEBUT!$D$5:$J$110,6,FALSE)-VLOOKUP(J79,DEBUT!$D$5:$J$110,6,FALSE)),2)+POWER((VLOOKUP($C$5,DEBUT!$D$5:$J$110,7,FALSE)-VLOOKUP(J79,DEBUT!$D$5:$J$110,7,FALSE)),2))/CARTE!$O$9,0)","v":588.02395009197596},{"$f":"IFERROR(SQRT(POWER((VLOOKUP($C$5,DEBUT!$D$5:$J$110,6,FALSE)-VLOOKUP(K79,DEBUT!$D$5:$J$110,6,FALSE)),2)+POWER((VLOOKUP($C$5,DEBUT!$D$5:$J$110,7,FALSE)-VLOOKUP(K79,DEBUT!$D$5:$J$110,7,FALSE)),2))/CARTE!$O$9,0)","v":746.71290616124918},{"$f":"IFERROR(SQRT(POWER((VLOOKUP($C$5,DEBUT!$D$5:$J$110,6,FALSE)-VLOOKUP(L79,DEBUT!$D$5:$J$110,6,FALSE)),2)+POWER((VLOOKUP($C$5,DEBUT!$D$5:$J$110,7,FALSE)-VLOOKUP(L79,DEBUT!$D$5:$J$110,7,FALSE)),2))/CARTE!$O$9,0)","v":422.6699126362725},{"$f":"IFERROR(SQRT(POWER((VLOOKUP($C$5,DEBUT!$D$5:$J$110,6,FALSE)-VLOOKUP(M79,DEBUT!$D$5:$J$110,6,FALSE)),2)+POWER((VLOOKUP($C$5,DEBUT!$D$5:$J$110,7,FALSE)-VLOOKUP(M79,DEBUT!$D$5:$J$110,7,FALSE)),2))/CARTE!$O$9,0)","v":350.54636254503066},{"$f":"IFERROR(SQRT(POWER((VLOOKUP($C$5,DEBUT!$D$5:$J$110,6,FALSE)-VLOOKUP(N79,DEBUT!$D$5:$J$110,6,FALSE)),2)+POWER((VLOOKUP($C$5,DEBUT!$D$5:$J$110,7,FALSE)-VLOOKUP(N79,DEBUT!$D$5:$J$110,7,FALSE)),2))/CARTE!$O$9,0)","v":365.23656854997205},"m","Distance",{"$f":"SUM(E77:N77)","v":4279.4930975522129},"m"]
[null,null,null,"Balises prévues",{"$f":"IF(ISTEXT($D77),HLOOKUP($D77,DEBUT!$O$3:$XX$100,3,FALSE),\"\")","v":"A"},{"$f":"IF(ISTEXT($D77),HLOOKUP($D77,DEBUT!$O$3:$XX$100,4,FALSE),\"\")","v":"B"},{"$f":"IF(ISTEXT($D77),HLOOKUP($D77,DEBUT!$O$3:$XX$100,5,FALSE),\"\")","v":"C"},{"$f":"IF(ISTEXT($D77),HLOOKUP($D77,DEBUT!$O$3:$XX$100,6,FALSE),\"\")","v":"D"},{"$f":"IF(ISTEXT($D77),HLOOKUP($D77,DEBUT!$O$3:$XX$100,7,FALSE),\"\")","v":"E"},{"$f":"IF(ISTEXT($D77),HLOOKUP($D77,DEBUT!$O$3:$XX$100,8,FALSE),\"\")","v":"F"},{"$f":"IF(ISTEXT($D77),HLOOKUP($D77,DEBUT!$O$3:$XX$100,9,FALSE),\"\")","v":"G"},{"$f":"IF(ISTEXT($D77),HLOOKUP($D77,DEBUT!$O$3:$XX$100,10,FALSE),\"\")","v":"H"},{"$f":"IF(ISTEXT($D77),HLOOKUP($D77,DEBUT!$O$3:$XX$100,11,FALSE),\"\")","v":"I"},{"$f":"IF(ISTEXT($D77),HLOOKUP($D77,DEBUT!$O$3:$XX$100,12,FALSE),\"\")","v":"J"},null,"Nombre balises prévues",{"$f":"SUMPRODUCT(N(ISTEXT(E78:N78)))","v":10},"prévues"]
[null,null,null,"Validé",{"$f":"IF($D79=DEBUT!$L$5,E80,\"\")","v":12},{"$f":"IF($D79=DEBUT!$L$5,F80,\"\")","v":13},{"$f":"IF($D79=DEBUT!$L$5,G80,\"\")","v":11},{"$f":"IF($D79=DEBUT!$L$5,H80,\"\")","v":16},{"$f":"IF($D79=DEBUT!$L$5,I80,\"\")","v":35},{"$f":"IF($D79=DEBUT!$L$5,J80,\"\")","v":28},{"$f":"IF($D79=DEBUT!$L$5,K80,\"\")","v":26},{"$f":"IF($D79=DEBUT!$L$5,L80,\"\")","v":40},{"$f":"IF($D79=DEBUT!$L$5,M80,\"\")","v":39},{"$f":"IF($D79=DEBUT!$L$5,N80,\"\")","v":45},null,"Nombre balises trouvées",{"$f":"SUMPRODUCT(N(ISNUMBER(E79:N79)))","v":10},{"$f":"IF(Q79>1,\"trouvées\",\"trouvée\")","v":"trouvées"}]
[null,null,null,"Balises CM",{"$f":"IFERROR(INDEX(baliseCM,MATCH(E78,lettre,0),MATCH($D76,parcours,0)),\"\")","v":12},{"$f":"IFERROR(INDEX(baliseCM,MATCH(F78,lettre,0),MATCH($D76,parcours,0)),\"\")","v":13},11,16,35,28,26,40,39,45]
[null,null,null,"Vitesse",{"$f":"(E77/ABS((HOUR(E76)*3600+MINUTE(E76)*60+SECOND(E76))))*3.6","v":790.34555029596902},{"$f":"(F77/ABS((HOUR(F76)*3600+MINUTE(F76)*60+SECOND(F76))))*3.6","v":{"$error":"#NUM!"}},{"$error":"#DIV/0!"},{"$error":"#DIV/0!"},{"$error":"#DIV/0!"},{"$error":"#DIV/0!"},{"$error":"#DIV/0!"},{"$error":"#DIV/0!"},{"$error":"#DIV/0!"},{"$f":"(N77/ABS((HOUR(N76)*3600+MINUTE(N76)*60+SECOND(N76))))*3.6","v":{"$error":"#DIV/0!"}},"Km/h","Vitesse moyenne",{"$f":"Q77/R76*3.6","v":7703.0875755939833},"km/h"]
[null,"EQUIPE 12",null,"07:30:47","07:30:49",null,null,null,null,null,null,null,null,null,null,null,null,null,null,"Analyse du parcours"]
[null,"Alexandre",null,{"$f":"CONCATENATE(D84,\"bis\")","v":"21Stevebis"},{"$f":"E82-D82","v":"00:00:02"},{"$f":"F82-E82","v":-0.31306712962962963},{"$f":"G82-F82","v":"00:00:00"},{"$f":"H82-G82","v":"00:00:00"},{"$f":"I82-H82","v":"00:00:00"},{"$f":"J82-I82","v":"00:00:00"},{"$f":"K82-J82","v":"00:00:00"},{"$f":"L82-K82","v":"00:00:00"},{"$f":"M82-L82","v":"00:00:00"},{"$f":"N82-M82","v":"00:00:00"},null,"Temps de course",{"$f":"SUMIF(E83:N83,\">0\",E83:N83)","v":"00:00:02"},{"$f":"ABS((HOUR(Q83)*3600+MINUTE(Q83)*60+SECOND(Q83)))","v":2}]
[null,"Christian",null,{"$f":"$H$2","v":"21Steve"},{"$f":"IFERROR(SQRT(POWER((VLOOKUP($C$5,DEBUT!$D$5:$J$110,6,FALSE)-VLOOKUP(E86,DEBUT!$D$5:$J$110,6,FALSE)),2)+POWER((VLOOKUP($C$5,DEBUT!$D$5:$J$110,7,FALSE)-VLOOKUP(E86,DEBUT!$D$5:$J$110,7,FALSE)),2))/CARTE!$O$9,0)","v":439.08086127553833},{"$f":"IFERROR(SQRT(POWER((VLOOKUP($C$5,DEBUT!$D$5:$J$110,6,FALSE)-VLOOKUP(F86,DEBUT!$D$5:$J$110,6,FALSE)),2)+POWER((VLOOKUP($C$5,DEBUT!$D$5:$J$110,7,FALSE)-VLOOKUP(F86,DEBUT!$D$5:$J$110,7,FALSE)),2))/CARTE!$O$9,0)","v":522.95657073256018},{"$f":"IFERROR(SQRT(POWER((VLOOKUP($C$5,DEBUT!$D$5:$J$110,6,FALSE)-VLOOKUP(G86,DEBUT!$D$5:$J$110,6,FALSE)),2)+POWER((VLOOKUP($C$5,DEBUT!$D$5:$J$110,7,FALSE)-VLOOKUP(G86,DEBUT!$D$5:$J$110,7,FALSE)),2))/CARTE!$O$9,0)","v":292.36811846754603},{"$f":"IFERROR(SQRT(POWER((VLOOKUP($C$5,DEBUT!$D$5:$J$110,6,FALSE)-VLOOKUP(H86,DEBUT!$D$5:$J$110,6,FALSE)),2)+POWER((VLOOKUP($C$5,DEBUT!$D$5:$J$110,7,FALSE)-VLOOKUP(H86,DEBUT!$D$5:$J$110,7,FALSE)),2))/CARTE!$O$9,0)","v":347.74950117848323},{"$f":"IFERROR(SQRT(POWER((VLOOKUP($C$5,DEBUT!$D$5:$J$110,6,FALSE)-VLOOKUP(I86,DEBUT!$D$5:$J$110,6,FALSE)),2)+POWER((VLOOKUP($C$5,DEBUT!$D$5:$J$110,7,FALSE)-VLOOKUP(I86,DEBUT!$D$5:$J$110,7,FALSE)),2))/CARTE!$O$9,0)","v":204.14834591358496},{"$f":"IFERROR(SQRT(POWER((VLOOKUP($C$5,DEBUT!$D$5:$J$110,6,FALSE)-VLOOKUP(J86,DEBUT!$D$5:$J$110,6,FALSE)),2)+POWER((VLOOKUP($C$5,DEBUT!$D$5:$J$110,7,FALSE)-VLOOKUP(J86,DEBUT!$D$5:$J$110,7,FALSE)),2))/CARTE!$O$9,0)","v":588.02395009197596},{"$f":"IFERROR(SQRT(POWER((VLOOKUP($C$5,DEBUT!$D$5:$J$110,6,FALSE)-VLOOKUP(K86,DEBUT!$D$5:$J$110,6,FALSE)),2)+POWER((VLOOKUP($C$5,DEBUT!$D$5:$J$110,7,FALSE)-VLOOKUP(K86,DEBUT!$D$5:$J$110,7,FALSE)),2))/CARTE!$O$9,0)","v":746.71290616124918},{"$f":"IFERROR(SQRT(POWER((VLOOKUP($C$5,DEBUT!$D$5:$J$110,6,FALSE)-VLOOKUP(L86,DEBUT!$D$5:$J$110,6,FALSE)),2)+POWER((VLOOKUP($C$5,DEBUT!$D$5:$J$110,7,FALSE)-VLOOKUP(L86,DEBUT!$D$5:$J$110,7,FALSE)),2))/CARTE!$O$9,0)","v":422.6699126362725},{"$f":"IFERROR(SQRT(POWER((VLOOKUP($C$5,DEBUT!$D$5:$J$110,6,FALSE)-VLOOKUP(M86,DEBUT!$D$5:$J$110,6,FALSE)),2)+POWER((VLOOKUP($C$5,DEBUT!$D$5:$J$110,7,FALSE)-VLOOKUP(M86,DEBUT!$D$5:$J$110,7,FALSE)),2))/CARTE!$O$9,0)","v":350.54636254503066},{"$f":"IFERROR(SQRT(POWER((VLOOKUP($C$5,DEBUT!$D$5:$J$110,6,FALSE)-VLOOKUP(N86,DEBUT!$D$5:$J$110,6,FALSE)),2)+POWER((VLOOKUP($C$5,DEBUT!$D$5:$J$110,7,FALSE)-VLOOKUP(N86,DEBUT!$D$5:$J$110,7,FALSE)),2))/CARTE!$O$9,0)","v":365.23656854997205},"m","Distance",{"$f":"SUM(E84:N84)","v":4279.4930975522129},"m"]
[null,"Claudine",null,"Balises prévues",{"$f":"IF(ISTEXT($D84),HLOOKUP($D84,DEBUT!$O$3:$XX$100,3,FALSE),\"\")","v":"A"},{"$f":"IF(ISTEXT($D84),HLOOKUP($D84,DEBUT!$O$3:$XX$100,4,FALSE),\"\")","v":"B"},{"$f":"IF(ISTEXT($D84),HLOOKUP($D84,DEBUT!$O$3:$XX$100,5,FALSE),\"\")","v":"C"},{"$f":"IF(ISTEXT($D84),HLOOKUP($D84,DEBUT!$O$3:$XX$100,6,FALSE),\"\")","v":"D"},{"$f":"IF(ISTEXT($D84),HLOOKUP($D84,DEBUT!$O$3:$XX$100,7,FALSE),\"\")","v":"E"},{"$f":"IF(ISTEXT($D84),HLOOKUP($D84,DEBUT!$O$3:$XX$100,8,FALSE),\"\")","v":"F"},{"$f":"IF(ISTEXT($D84),HLOOKUP($D84,DEBUT!$O$3:$XX$100,9,FALSE),\"\")","v":"G"},{"$f":"IF(ISTEXT($D84),HLOOKUP($D84,DEBUT!$O$3:$XX$100,10,FALSE),\"\")","v":"H"},{"$f":"IF(ISTEXT($D84),HLOOKUP($D84,DEBUT!$O$3:$XX$100,11,FALSE),\"\")","v":"I"},{"$f":"IF(ISTEXT($D84),HLOOKUP($D84,DEBUT!$O$3:$XX$100,12,FALSE),\"\")","v":"J"},null,"Nombre balises prévues",{"$f":"SUMPRODUCT(N(ISTEXT(E85:N85)))","v":10},"prévues"]
[null,null,null,"Validé",{"$f":"IF($D86=DEBUT!$L$5,E87,\"\")","v":12},{"$f":"IF($D86=DEBUT!$L$5,F87,\"\")","v":13},{"$f":"IF($D86=DEBUT!$L$5,G87,\"\")","v":11},{"$f":"IF($D86=DEBUT!$L$5,H87,\"\")","v":16},{"$f":"IF($D86=DEBUT!$L$5,I87,\"\")","v":35},{"$f":"IF($D86=DEBUT!$L$5,J87,\"\")","v":28},{"$f":"IF($D86=DEBUT!$L$5,K87,\"\")","v":26},{"$f":"IF($D86=DEBUT!$L$5,L87,\"\")","v":40},{"$f":"IF($D86=DEBUT!$L$5,M87,\"\")","v":39},{"$f":"IF($D86=DEBUT!$L$5,N87,\"\")","v":45},null,"Nombre balises trouvées",{"$f":"SUMPRODUCT(N(ISNUMBER(E86:N86)))","v":10},{"$f":"IF(Q86>1,\"trouvées\",\"trouvée\")","v":"trouvées"}]
[null,null,null,"Balises CM",{"$f":"IFERROR(INDEX(baliseCM,MATCH(E85,lettre,0),MATCH($D83,parcours,0)),\"\")","v":12},{"$f":"IFERROR(INDEX(baliseCM,MATCH(F85,lettre,0),MATCH($D83,parcours,0)),\"\")","v":13},11,16,35,28,26,40,39,45]
[null,null,null,"Vitesse",{"$f":"(E84/ABS((HOUR(E83)*3600+MINUTE(E83)*60+SECOND(E83))))*3.6","v":790.34555029596902},{"$f":"(F84/ABS((HOUR(F83)*3600+MINUTE(F83)*60+SECOND(F83))))*3.6","v":{"$error":"#NUM!"}},{"$error":"#DIV/0!"},{"$error":"#DIV/0!"},{"$error":"#DIV/0!"},{"$error":"#DIV/0!"},{"$error":"#DIV/0!"},{"$error":"#DIV/0!"},{"$error":"#DIV/0!"},{"$f":"(N84/ABS((HOUR(N83)*3600+MINUTE(N83)*60+SECOND(N83))))*3.6","v":{"$error":"#DIV/0!"}},"Km/h","Vitesse moyenne",{"$f":"Q84/R83*3.6","v":7703.0875755939833},"km/h"]

{"sheet":"123","index":7,"n_rows":88,"n_cols":39,"rows_kept":88,"cut":false,"hidden":false,"merged":[[19,19,23,19],[0,7,0,9],[1,4,1,5],[1,7,1,9],[5,19,9,19],[12,19,16,19],[68,19,72,19],[75,19,79,19],[82,19,86,19],[26,19,30,19],[33,19,37,19],[40,19,44,19],[47,19,51,19],[54,19,58,19],[61,19,65,19]]}
[null,null,null,null,null,null,null,{"$f":"CONCATENATE(H2,\"bis\")","v":"6ROUGEbis"},null,null,null,null,"Temps limite"]
[null,"STAGE",null,null,"15:54:28",null,null,"6ROUGE",null,null,null,null,30.024305555555557,"min"]
[null,null,null,null,null,null,null,null,{"$f":"IF(ISTEXT($H2),HLOOKUP($H2,DEBUT!$O$3:$XX$100,7,FALSE),\"\")","v":"E"}]
[null,null,null,null,null,null,null,null,{"$f":"IFERROR(INDEX(baliseCM,MATCH(I3,lettre,0),MATCH($H$1,parcours,0)),\"\")","v":76},null,null,null,null,null,null,"ETOILE","N3"]
[null,"EQUIPE 1","D","15:54:28","15:54:36",null,"15:54:37",null,null,"15:56:28",null,null,null,"15:56:30",null,null,null,null,null,"Analyse du parcours",null,null,null,null,null,null,null,null,null,null,null,null,null,null,null,null,null,1,{"$f":"OFFSET(INDEX(eleves,MATCH(AL5,chiffre,0),MATCH($B$2,classes,0)),0,1)","v":"POL"}]
[null,"Alexandre",null,{"$f":"CONCATENATE(D7,\"bis\")","v":"6ROUGEbis"},{"$f":"E5-D5","v":"00:00:08"},null,{"$f":"G5-E5","v":"00:00:01"},null,null,{"$f":"J5-G5","v":"00:01:51"},null,null,null,{"$f":"N5-J5","v":"00:00:02"},null,"Temps de course",{"$f":"SUMIF(E6:N6,\">0\",E6:N6)","v":"00:02:02"},{"$f":"ABS((HOUR(Q6)*3600+MINUTE(Q6)*60+SECOND(Q6)))","v":122},null,null,null,null,null,null,null,null,null,null,null,null,null,null,null,null,null,null,null,2,"CARINE"]
[null,null,null,{"$f":"$H$2","v":"6ROUGE"},{"$f":"IFERROR(SQRT(POWER((VLOOKUP($C$5,DEBUT!$D$5:$J$110,6,FALSE)-VLOOKUP(E9,DEBUT!$D$5:$J$110,6,FALSE)),2)+POWER((VLOOKUP($C$5,DEBUT!$D$5:$J$110,7,FALSE)-VLOOKUP(E9,DEBUT!$D$5:$J$110,7,FALSE)),2))/CARTE!$O$9,0)","v":177.2924730824831},{"$f":"IFERROR(SQRT(POWER((VLOOKUP($C$5,DEBUT!$D$5:$J$110,6,FALSE)-VLOOKUP(F9,DEBUT!$D$5:$J$110,6,FALSE)),2)+POWER((VLOOKUP($C$5,DEBUT!$D$5:$J$110,7,FALSE)-VLOOKUP(F9,DEBUT!$D$5:$J$110,7,FALSE)),2))/CARTE!$O$9,0)","v":315.29574700663397},{"$f":"IFERROR(SQRT(POWER((VLOOKUP($C$5,DEBUT!$D$5:$J$110,6,FALSE)-VLOOKUP(G9,DEBUT!$D$5:$J$110,6,FALSE)),2)+POWER((VLOOKUP($C$5,DEBUT!$D$5:$J$110,7,FALSE)-VLOOKUP(G9,DEBUT!$D$5:$J$110,7,FALSE)),2))/CARTE!$O$9,0)","v":292.36811846754603},{"$f":"IFERROR(SQRT(POWER((VLOOKUP($C$5,DEBUT!$D$5:$J$110,6,FALSE)-VLOOKUP(H9,DEBUT!$D$5:$J$110,6,FALSE)),2)+POWER((VLOOKUP($C$5,DEBUT!$D$5:$J$110,7,FALSE)-VLOOKUP(H9,DEBUT!$D$5:$J$110,7,FALSE)),2))/CARTE!$O$9,0)","v":500.92859639969026},{"$f":"IFERROR(SQRT(POWER((VLOOKUP(H5,DEBUT!$D$5:$J$110,6,FALSE)-VLOOKUP(I9,DEBUT!$D$5:$J$110,6,FALSE)),2)+POWER((VLOOKUP(H5,DEBUT!$D$5:$J$110,7,FALSE)-VLOOKUP(I9,DEBUT!$D$5:$J$110,7,FALSE)),2))/CARTE!$O$9,0)","v":1575.7916139459737},{"$f":"IFERROR(SQRT(POWER((VLOOKUP(I5,DEBUT!$D$5:$J$110,6,FALSE)-VLOOKUP(J9,DEBUT!$D$5:$J$110,6,FALSE)),2)+POWER((VLOOKUP(I5,DEBUT!$D$5:$J$110,7,FALSE)-VLOOKUP(J9,DEBUT!$D$5:$J$110,7,FALSE)),2))/CARTE!$O$9,0)","v":1306.1159848841933},{"$f":"IFERROR(SQRT(POWER((VLOOKUP($C$5,DEBUT!$D$5:$J$110,6,FALSE)-VLOOKUP(K9,DEBUT!$D$5:$J$110,6,FALSE)),2)+POWER((VLOOKUP($C$5,DEBUT!$D$5:$J$110,7,FALSE)-VLOOKUP(K9,DEBUT!$D$5:$J$110,7,FALSE)),2))/CARTE!$O$9,0)","v":0},{"$f":"IFERROR(SQRT(POWER((VLOOKUP(K5,DEBUT!$D$5:$J$110,6,FALSE)-VLOOKUP(L9,DEBUT!$D$5:$J$110,6,FALSE)),2)+POWER((VLOOKUP(K5,DEBUT!$D$5:$J$110,7,FALSE)-VLOOKUP(L9,DEBUT!$D$5:$J$110,7,FALSE)),2))/CARTE!$O$9,0)","v":0},{"$f":"IFERROR(SQRT(POWER((VLOOKUP(L5,DEBUT!$D$5:$J$110,6,FALSE)-VLOOKUP(M9,DEBUT!$D$5:$J$110,6,FALSE)),2)+POWER((VLOOKUP(L5,DEBUT!$D$5:$J$110,7,FALSE)-VLOOKUP(M9,DEBUT!$D$5:$J$110,7,FALSE)),2))/CARTE!$O$9,0)","v":0},{"$f":"IFERROR(SQRT(POWER((VLOOKUP(M5,DEBUT!$D$5:$J$110,6,FALSE)-VLOOKUP(N9,DEBUT!$D$5:$J$110,6,FALSE)),2)+POWER((VLOOKUP(M5,DEBUT!$D$5:$J$110,7,FALSE)-VLOOKUP(N9,DEBUT!$D$5:$J$110,7,FALSE)),2))/CARTE!$O$9,0)","v":0},"m","Distance",{"$f":"SUM(E7:N7)","v":4167.7925337865208},"m",null,null,null,null,null,null,null,null,null,null,null,null,null,null,null,null,null,null,null,3,"BASTIEN"]
[null,null,null,"Balises prévues",{"$f":"IF(ISTEXT($D7),HLOOKUP($D7,DEBUT!$O$3:$XX$100,3,FALSE),\"\")","v":"A"},{"$f":"IF(ISTEXT($D7),HLOOKUP($D7,DEBUT!$O$3:$XX$100,4,FALSE),\"\")","v":"B"},{"$f":"IF(ISTEXT($D7),HLOOKUP($D7,DEBUT!$O$3:$XX$100,5,FALSE),\"\")","v":"C"},{"$f":"IF(ISTEXT($D7),HLOOKUP($D7,DEBUT!$O$3:$XX$100,6,FALSE),\"\")","v":"D"},{"$f":"IF(ISTEXT($D7),HLOOKUP($D7,DEBUT!$O$3:$XX$100,7,FALSE),\"\")","v":"E"},{"$f":"IF(ISTEXT($D7),HLOOKUP($D7,DEBUT!$O$3:$XX$100,8,FALSE),\"\")","v":"F"},{"$f":"IF(ISTEXT($D7),HLOOKUP($D7,DEBUT!$O$3:$XX$100,9,FALSE),\"\")","v":0},{"$f":"IF(ISTEXT($D7),HLOOKUP($D7,DEBUT!$O$3:$XX$100,10,FALSE),\"\")","v":0},{"$f":"IF(ISTEXT($D7),HLOOKUP($D7,DEBUT!$O$3:$XX$100,11,FALSE),\"\")","v":0},{"$f":"IF(ISTEXT($D7),HLOOKUP($D7,DEBUT!$O$3:$XX$100,12,FALSE),\"\")","v":0},null,"Nombre balises prévues",{"$f":"SUMPRODUCT(N(ISTEXT(E8:N8)))","v":6},"prévues",null,null,null,null,null,null,null,null,null,null,null,null,null,null,null,null,null,null,null,4,"CORALINE"]
[null,null,null,"Validé",{"$f":"IF($D9=DEBUT!$L$5,E10,\"\")","v":7},{"$f":"IF($D9=DEBUT!$L$5,F10,\"\")","v":10},{"$f":"IF($D9=DEBUT!$L$5,G10,\"\")","v":11},{"$f":"IF($D9=DEBUT!$L$5,H10,\"\")","v":1},{"$f":"IF($D9=DEBUT!$L$5,I10,\"\")","v":76},{"$f":"IF($D9=DEBUT!$L$5,J10,\"\")","v":46},{"$f":"IF($D9=DEBUT!$L$5,K10,\"\")","v":""},{"$f":"IF($D9=DEBUT!$L$5,L10,\"\")","v":""},{"$f":"IF($D9=DEBUT!$L$5,M10,\"\")","v":""},{"$f":"IF($D9=DEBUT!$L$5,N10,\"\")","v":""},null,"Nombre balises trouvées",{"$f":"SUMPRODUCT(N(ISNUMBER(E9:N9)))","v":6},{"$f":"IF(Q9>1,\"trouvées\",\"trouvée\")","v":"trouvées"},null,null,null,null,null,null,null,null,null,null,null,null,null,null,null,null,null,null,null,5,"GREGORY"]
[null,null,null,"Balises CM",{"$f":"IFERROR(INDEX(baliseCM,MATCH(E8,lettre,0),MATCH($D6,parcours,0)),\"\")","v":7},{"$f":"IFERROR(INDEX(baliseCM,MATCH(F8,lettre,0),MATCH($D6,parcours,0)),\"\")","v":10},11,1,76,46,"","","","",null,null,null,null,null,null,null,null,null,null,null,null,null,null,null,null,null,null,null,null,null,null,null,6,"THOMAS"]
[null,null,null,"Vitesse",{"$f":"(E7/ABS((HOUR(E6)*3600+MINUTE(E6)*60+SECOND(E6))))*3.6","v":79.78161288711739},null,{"$f":"(G7/ABS((HOUR(G6)*3600+MINUTE(G6)*60+SECOND(G6))))*3.6","v":1052.5252264831656},null,null,42.360518428676542,null,null,null,{"$f":"(N7/ABS((HOUR(N6)*3600+MINUTE(N6)*60+SECOND(N6))))*3.6","v":0},"Km/h","Vitesse moyenne",{"$f":"Q7/R6*3.6","v":122.98404198058586},"km/h",null,null,null,null,null,null,null,null,null,null,null,null,null,null,null,null,null,null,null,7,"ALAIN"]
[null,"EQUIPE 2",null,"15:54:29","15:57:17",null,"15:57:19",null,null,"15:57:22",null,null,null,"15:57:24",null,null,null,null,null,"Analyse du parcours",null,null,null,null,null,null,null,null,null,null,null,null,null,null,null,null,null,8,"QUENTIN"]
[null,null,null,{"$f":"CONCATENATE(D14,\"bis\")","v":"6ROUGEbis"},{"$f":"E12-D12","v":"00:02:48"},null,{"$f":"G12-E12","v":"00:00:02"},null,null,{"$f":"J12-G12","v":"00:00:03"},null,null,null,{"$f":"N12-J12","v":"00:00:02"},null,"Temps de course",{"$f":"SUMIF(E13:N13,\">0\",E13:N13)","v":"00:02:55"},{"$f":"ABS((HOUR(Q13)*3600+MINUTE(Q13)*60+SECOND(Q13)))","v":175},null,null,null,null,null,null,null,null,null,null,null,null,null,null,null,null,null,null,null,9,"BAPTISTE"]
[null,null,null,{"$f":"$H$2","v":"6ROUGE"},{"$f":"IFERROR(SQRT(POWER((VLOOKUP($C$5,DEBUT!$D$5:$J$110,6,FALSE)-VLOOKUP(E16,DEBUT!$D$5:$J$110,6,FALSE)),2)+POWER((VLOOKUP($C$5,DEBUT!$D$5:$J$110,7,FALSE)-VLOOKUP(E16,DEBUT!$D$5:$J$110,7,FALSE)),2))/CARTE!$O$9,0)","v":177.2924730824831},{"$f":"IFERROR(SQRT(POWER((VLOOKUP($C$5,DEBUT!$D$5:$J$110,6,FALSE)-VLOOKUP(F16,DEBUT!$D$5:$J$110,6,FALSE)),2)+POWER((VLOOKUP($C$5,DEBUT!$D$5:$J$110,7,FALSE)-VLOOKUP(F16,DEBUT!$D$5:$J$110,7,FALSE)),2))/CARTE!$O$9,0)","v":315.29574700663397},{"$f":"IFERROR(SQRT(POWER((VLOOKUP($C$5,DEBUT!$D$5:$J$110,6,FALSE)-VLOOKUP(G16,DEBUT!$D$5:$J$110,6,FALSE)),2)+POWER((VLOOKUP($C$5,DEBUT!$D$5:$J$110,7,FALSE)-VLOOKUP(G16,DEBUT!$D$5:$J$110,7,FALSE)),2))/CARTE!$O$9,0)","v":292.36811846754603},{"$f":"IFERROR(SQRT(POWER((VLOOKUP($C$5,DEBUT!$D$5:$J$110,6,FALSE)-VLOOKUP(H16,DEBUT!$D$5:$J$110,6,FALSE)),2)+POWER((VLOOKUP($C$5,DEBUT!$D$5:$J$110,7,FALSE)-VLOOKUP(H16,DEBUT!$D$5:$J$110,7,FALSE)),2))/CARTE!$O$9,0)","v":500.92859639969026},{"$f":"IFERROR(SQRT(POWER((VLOOKUP(H12,DEBUT!$D$5:$J$110,6,FALSE)-VLOOKUP(I16,DEBUT!$D$5:$J$110,6,FALSE)),2)+POWER((VLOOKUP(H12,DEBUT!$D$5:$J$110,7,FALSE)-VLOOKUP(I16,DEBUT!$D$5:$J$110,7,FALSE)),2))/CARTE!$O$9,0)","v":1575.7916139459737},{"$f":"IFERROR(SQRT(POWER((VLOOKUP(I12,DEBUT!$D$5:$J$110,6,FALSE)-VLOOKUP(J16,DEBUT!$D$5:$J$110,6,FALSE)),2)+POWER((VLOOKUP(I12,DEBUT!$D$5:$J$110,7,FALSE)-VLOOKUP(J16,DEBUT!$D$5:$J$110,7,FALSE)),2))/CARTE!$O$9,0)","v":1306.1159848841933},{"$f":"IFERROR(SQRT(POWER((VLOOKUP($C$5,DEBUT!$D$5:$J$110,6,FALSE)-VLOOKUP(K16,DEBUT!$D$5:$J$110,6,FALSE)),2)+POWER((VLOOKUP($C$5,DEBUT!$D$5:$J$110,7,FALSE)-VLOOKUP(K16,DEBUT!$D$5:$J$110,7,FALSE)),2))/CARTE!$O$9,0)","v":0},{"$f":"IFERROR(SQRT(POWER((VLOOKUP(K12,DEBUT!$D$5:$J$110,6,FALSE)-VLOOKUP(L16,DEBUT!$D$5:$J$110,6,FALSE)),2)+POWER((VLOOKUP(K12,DEBUT!$D$5:$J$110,7,FALSE)-VLOOKUP(L16,DEBUT!$D$5:$J$110,7,FALSE)),2))/CARTE!$O$9,0)","v":0},{"$f":"IFERROR(SQRT(POWER((VLOOKUP(L12,DEBUT!$D$5:$J$110,6,FALSE)-VLOOKUP(M16,DEBUT!$D$5:$J$110,6,FALSE)),2)+POWER((VLOOKUP(L12,DEBUT!$D$5:$J$110,7,FALSE)-VLOOKUP(M16,DEBUT!$D$5:$J$110,7,FALSE)),2))/CARTE!$O$9,0)","v":0},{"$f":"IFERROR(SQRT(POWER((VLOOKUP(M12,DEBUT!$D$5:$J$110,6,FALSE)-VLOOKUP(N16,DEBUT!$D$5:$J$110,6,FALSE)),2)+POWER((VLOOKUP(M12,DEBUT!$D$5:$J$110,7,FALSE)-VLOOKUP(N16,DEBUT!$D$5:$J$110,7,FALSE)),2))/CARTE!$O$9,0)","v":0},"m","Distance",{"$f":"SUM(E14:N14)","v":4167.7925337865208},"m",null,null,null,null,null,null,null,null,null,null,null,null,null,null,null,null,null,null,null,10,"FRANCK"]
[null,null,null,"Balises prévues",{"$f":"IF(ISTEXT($D14),HLOOKUP($D14,DEBUT!$O$3:$XX$100,3,FALSE),\"\")","v":"A"},{"$f":"IF(ISTEXT($D14),HLOOKUP($D14,DEBUT!$O$3:$XX$100,4,FALSE),\"\")","v":"B"},{"$f":"IF(ISTEXT($D14),HLOOKUP($D14,DEBUT!$O$3:$XX$100,5,FALSE),\"\")","v":"C"},{"$f":"IF(ISTEXT($D14),HLOOKUP($D14,DEBUT!$O$3:$XX$100,6,FALSE),\"\")","v":"D"},{"$f":"IF(ISTEXT($D14),HLOOKUP($D14,DEBUT!$O$3:$XX$100,7,FALSE),\"\")","v":"E"},{"$f":"IF(ISTEXT($D14),HLOOKUP($D14,DEBUT!$O$3:$XX$100,8,FALSE),\"\")","v":"F"},{"$f":"IF(ISTEXT($D14),HLOOKUP($D14,DEBUT!$O$3:$XX$100,9,FALSE),\"\")","v":0},{"$f":"IF(ISTEXT($D14),HLOOKUP($D14,DEBUT!$O$3:$XX$100,10,FALSE),\"\")","v":0},{"$f":"IF(ISTEXT($D14),HLOOKUP($D14,DEBUT!$O$3:$XX$100,11,FALSE),\"\")","v":0},{"$f":"IF(ISTEXT($D14),HLOOKUP($D14,DEBUT!$O$3:$XX$100,12,FALSE),\"\")","v":0},null,"Nombre balises prévues",{"$f":"SUMPRODUCT(N(ISTEXT(E15:N15)))","v":6},"prévues",null,null,null,null,null,null,null,null,null,null,null,null,null,null,null,null,null,null,null,11,"VALENTIN"]
[null,null,null,"Validé",{"$f":"IF($D16=DEBUT!$L$5,E17,\"\")","v":7},{"$f":"IF($D16=DEBUT!$L$5,F17,\"\")","v":10},{"$f":"IF($D16=DEBUT!$L$5,G17,\"\")","v":11},{"$f":"IF($D16=DEBUT!$L$5,H17,\"\")","v":1},{"$f":"IF($D16=DEBUT!$L$5,I17,\"\")","v":76},{"$f":"IF($D16=DEBUT!$L$5,J17,\"\")","v":46},{"$f":"IF($D16=DEBUT!$L$5,K17,\"\")","v":""},{"$f":"IF($D16=DEBUT!$L$5,L17,\"\")","v":""},{"$f":"IF($D16=DEBUT!$L$5,M17,\"\")","v":""},{"$f":"IF($D16=DEBUT!$L$5,N17,\"\")","v":""},null,"Nombre balises trouvées",{"$f":"SUMPRODUCT(N(ISNUMBER(E16:N16)))","v":6},{"$f":"IF(Q16>1,\"trouvées\",\"trouvée\")","v":"trouvées"},null,null,null,null,null,null,null,null,null,null,null,null,null,null,null,null,null,null,null,12,"BENJAMIN"]
[null,null,null,"Balises CM",{"$f":"IFERROR(INDEX(baliseCM,MATCH(E15,lettre,0),MATCH($D13,parcours,0)),\"\")","v":7},{"$f":"IFERROR(INDEX(baliseCM,MATCH(F15,lettre,0),MATCH($D13,parcours,0)),\"\")","v":10},11,1,76,46,"","","","",null,null,null,null,null,null,null,null,null,null,null,null,null,null,null,null,null,null,null,null,null,null,null,13,"ANDY"]
[null,null,null,"Vitesse",{"$f":"(E14/ABS((HOUR(E13)*3600+MINUTE(E13)*60+SECOND(E13))))*3.6","v":3.7991244231960661},null,{"$f":"(G14/ABS((HOUR(G13)*3600+MINUTE(G13)*60+SECOND(G13))))*3.6","v":526.26261324158281},null,null,{"$f":"(J14/ABS((HOUR(J13)*3600+MINUTE(J13)*60+SECOND(J13))))*3.6","v":1567.3391818610321},null,null,null,{"$f":"(N14/ABS((HOUR(N13)*3600+MINUTE(N13)*60+SECOND(N13))))*3.6","v":0},"Km/h","Vitesse moyenne",{"$f":"Q14/R13*3.6","v":85.737446409322715},"km/h",null,null,null,null,null,null,null,null,null,null,null,null,null,null,null,null,null,null,null,14,"OLIVIER"]
[null,"EQUIPE 3",null,"15:54:29","11:34:17",null,"11:34:19",null,null,"11:34:22",null,null,null,"11:34:29",null,null,null,null,null,"Analyse du parcours",null,null,null,null,null,null,null,null,null,null,null,null,null,null,null,null,null,15,"CHRISTIAN"]
[null,null,null,{"$f":"CONCATENATE(D21,\"bis\")","v":"6ROUGEbis"},{"$f":"E19-D19","v":-0.18069444444444455},null,{"$f":"G19-E19","v":"00:00:02"},null,null,{"$f":"J19-G19","v":"00:00:03"},null,null,null,{"$f":"N19-J19","v":"00:00:07"},null,"Temps de course",{"$f":"SUMIF(E20:N20,\">0\",E20:N20)","v":"00:00:12"},{"$f":"ABS((HOUR(Q20)*3600+MINUTE(Q20)*60+SECOND(Q20)))","v":12},null,null,null,null,null,null,null,null,null,null,null,null,null,null,null,null,null,null,null,16,"CELINE"]
[null,null,null,{"$f":"$H$2","v":"6ROUGE"},{"$f":"IFERROR(SQRT(POWER((VLOOKUP($C$5,DEBUT!$D$5:$J$110,6,FALSE)-VLOOKUP(E23,DEBUT!$D$5:$J$110,6,FALSE)),2)+POWER((VLOOKUP($C$5,DEBUT!$D$5:$J$110,7,FALSE)-VLOOKUP(E23,DEBUT!$D$5:$J$110,7,FALSE)),2))/CARTE!$O$9,0)","v":177.2924730824831},{"$f":"IFERROR(SQRT(POWER((VLOOKUP($C$5,DEBUT!$D$5:$J$110,6,FALSE)-VLOOKUP(F23,DEBUT!$D$5:$J$110,6,FALSE)),2)+POWER((VLOOKUP($C$5,DEBUT!$D$5:$J$110,7,FALSE)-VLOOKUP(F23,DEBUT!$D$5:$J$110,7,FALSE)),2))/CARTE!$O$9,0)","v":315.29574700663397},{"$f":"IFERROR(SQRT(POWER((VLOOKUP($C$5,DEBUT!$D$5:$J$110,6,FALSE)-VLOOKUP(G23,DEBUT!$D$5:$J$110,6,FALSE)),2)+POWER((VLOOKUP($C$5,DEBUT!$D$5:$J$110,7,FALSE)-VLOOKUP(G23,DEBUT!$D$5:$J$110,7,FALSE)),2))/CARTE!$O$9,0)","v":292.36811846754603},{"$f":"IFERROR(SQRT(POWER((VLOOKUP($C$5,DEBUT!$D$5:$J$110,6,FALSE)-VLOOKUP(H23,DEBUT!$D$5:$J$110,6,FALSE)),2)+POWER((VLOOKUP($C$5,DEBUT!$D$5:$J$110,7,FALSE)-VLOOKUP(H23,DEBUT!$D$5:$J$110,7,FALSE)),2))/CARTE!$O$9,0)","v":500.92859639969026},{"$f":"IFERROR(SQRT(POWER((VLOOKUP(H19,DEBUT!$D$5:$J$110,6,FALSE)-VLOOKUP(I23,DEBUT!$D$5:$J$110,6,FALSE)),2)+POWER((VLOOKUP(H19,DEBUT!$D$5:$J$110,7,FALSE)-VLOOKUP(I23,DEBUT!$D$5:$J$110,7,FALSE)),2))/CARTE!$O$9,0)","v":1575.7916139459737},{"$f":"IFERROR(SQRT(POWER((VLOOKUP(I19,DEBUT!$D$5:$J$110,6,FALSE)-VLOOKUP(J23,DEBUT!$D$5:$J$110,6,FALSE)),2)+POWER((VLOOKUP(I19,DEBUT!$D$5:$J$110,7,FALSE)-VLOOKUP(J23,DEBUT!$D$5:$J$110,7,FALSE)),2))/CARTE!$O$9,0)","v":1306.1159848841933},{"$f":"IFERROR(SQRT(POWER((VLOOKUP($C$5,DEBUT!$D$5:$J$110,6,FALSE)-VLOOKUP(K23,DEBUT!$D$5:$J$110,6,FALSE)),2)+POWER((VLOOKUP($C$5,DEBUT!$D$5:$J$110,7,FALSE)-VLOOKUP(K23,DEBUT!$D$5:$J$110,7,FALSE)),2))/CARTE!$O$9,0)","v":0},{"$f":"IFERROR(SQRT(POWER((VLOOKUP(K19,DEBUT!$D$5:$J$110,6,FALSE)-VLOOKUP(L23,DEBUT!$D$5:$J$110,6,FALSE)),2)+POWER((VLOOKUP(K19,DEBUT!$D$5:$J$110,7,FALSE)-VLOOKUP(L23,DEBUT!$D$5:$J$110,7,FALSE)),2))/CARTE!$O$9,0)","v":0},{"$f":"IFERROR(SQRT(POWER((VLOOKUP(L19,DEBUT!$D$5:$J$110,6,FALSE)-VLOOKUP(M23,DEBUT!$D$5:$J$110,6,FALSE)),2)+POWER((VLOOKUP(L19,DEBUT!$D$5:$J$110,7,FALSE)-VLOOKUP(M23,DEBUT!$D$5:$J$110,7,FALSE)),2))/CARTE!$O$9,0)","v":0},{"$f":"IFERROR(SQRT(POWER((VLOOKUP(M19,DEBUT!$D$5:$J$110,6,FALSE)-VLOOKUP(N23,DEBUT!$D$5:$J$110,6,FALSE)),2)+POWER((VLOOKUP(M19,DEBUT!$D$5:$J$110,7,FALSE)-VLOOKUP(N23,DEBUT!$D$5:$J$110,7,FALSE)),2))/CARTE!$O$9,0)","v":0},"m","Distance",{"$f":"SUM(E21:N21)","v":4167.7925337865208},"m",null,null,null,null,null,null,null,null,null,null,null,null,null,null,null,null,null,null,null,17,"SEBASTIEN"]
[null,null,null,"Balises prévues",{"$f":"IF(ISTEXT($D21),HLOOKUP($D21,DEBUT!$O$3:$XX$100,3,FALSE),\"\")","v":"A"},{"$f":"IF(ISTEXT($D21),HLOOKUP($D21,DEBUT!$O$3:$XX$100,4,FALSE),\"\")","v":"B"},{"$f":"IF(ISTEXT($D21),HLOOKUP($D21,DEBUT!$O$3:$XX$100,5,FALSE),\"\")","v":"C"},{"$f":"IF(ISTEXT($D21),HLOOKUP($D21,DEBUT!$O$3:$XX$100,6,FALSE),\"\")","v":"D"},{"$f":"IF(ISTEXT($D21),HLOOKUP($D21,DEBUT!$O$3:$XX$100,7,FALSE),\"\")","v":"E"},{"$f":"IF(ISTEXT($D21),HLOOKUP($D21,DEBUT!$O$3:$XX$100,8,FALSE),\"\")","v":"F"},{"$f":"IF(ISTEXT($D21),HLOOKUP($D21,DEBUT!$O$3:$XX$100,9,FALSE),\"\")","v":0},{"$f":"IF(ISTEXT($D21),HLOOKUP($D21,DEBUT!$O$3:$XX$100,10,FALSE),\"\")","v":0},{"$f":"IF(ISTEXT($D21),HLOOKUP($D21,DEBUT!$O$3:$XX$100,11,FALSE),\"\")","v":0},{"$f":"IF(ISTEXT($D21),HLOOKUP($D21,DEBUT!$O$3:$XX$100,12,FALSE),\"\")","v":0},null,"Nombre balises prévues",{"$f":"SUMPRODUCT(N(ISTEXT(E22:N22)))","v":6},"prévues",null,null,null,null,null,null,null,null,null,null,null,null,null,null,null,null,null,null,null,18,"PASCAL"]
[null,null,null,"Validé",{"$f":"IF($D23=DEBUT!$L$5,E24,\"\")","v":7},{"$f":"IF($D23=DEBUT!$L$5,F24,\"\")","v":10},{"$f":"IF($D23=DEBUT!$L$5,G24,\"\")","v":11},{"$f":"IF($D23=DEBUT!$L$5,H24,\"\")","v":1},{"$f":"IF($D23=DEBUT!$L$5,I24,\"\")","v":76},{"$f":"IF($D23=DEBUT!$L$5,J24,\"\")","v":46},{"$f":"IF($D23=DEBUT!$L$5,K24,\"\")","v":""},{"$f":"IF($D23=DEBUT!$L$5,L24,\"\")","v":""},{"$f":"IF($D23=DEBUT!$L$5,M24,\"\")","v":""},{"$f":"IF($D23=DEBUT!$L$5,N24,\"\")","v":""},null,"Nombre balises trouvées",{"$f":"SUMPRODUCT(N(ISNUMBER(E23:N23)))","v":6},{"$f":"IF(Q23>1,\"trouvées\",\"trouvée\")","v":"trouvées"},null,null,null,null,null,null,null,null,null,null,null,null,null,null,null,null,null,null,null,19,"CAROLE"]
[null,null,null,"Balises CM",{"$f":"IFERROR(INDEX(baliseCM,MATCH(E22,lettre,0),MATCH($D20,parcours,0)),\"\")","v":7},{"$f":"IFERROR(INDEX(baliseCM,MATCH(F22,lettre,0),MATCH($D20,parcours,0)),\"\")","v":10},11,1,76,46,"","","","",null,null,null,null,null,null,null,null,null,null,null,null,null,null,null,null,null,null,null,null,null,null,null,20,"ISABELLE"]
[null,null,null,"Vitesse",{"$f":"(E21/ABS((HOUR(E20)*3600+MINUTE(E20)*60+SECOND(E20))))*3.6","v":{"$error":"#NUM!"}},null,{"$f":"(G21/ABS((HOUR(G20)*3600+MINUTE(G20)*60+SECOND(G20))))*3.6","v":526.26261324158281},null,null,{"$f":"(J21/ABS((HOUR(J20)*3600+MINUTE(J20)*60+SECOND(J20))))*3.6","v":1567.3391818610321},null,null,null,{"$f":"(N21/ABS((HOUR(N20)*3600+MINUTE(N20)*60+SECOND(N20))))*3.6","v":0},"Km/h","Vitesse moyenne",{"$f":"Q21/R20*3.6","v":1250.3377601359564},"km/h",null,null,null,null,null,null,null,null,null,null,null,null,null,null,null,null,null,null,null,21,"DAVID"]
[null,"EQUIPE 4",null,"15:54:30",null,null,null,null,null,null,null,null,null,null,null,null,null,null,null,"Analyse du parcours",null,null,null,null,null,null,null,null,null,null,null,null,null,null,null,null,null,22,"FRANCOIS"]
[null,null,null,{"$f":"CONCATENATE(D28,\"bis\")","v":"6ROUGEbis"},{"$f":"E26-D26","v":-0.66284722222222225},null,{"$f":"G26-E26","v":"00:00:00"},null,null,{"$f":"J26-G26","v":"00:00:00"},null,null,null,{"$f":"N26-J26","v":"00:00:00"},null,"Temps de course",{"$f":"SUMIF(E27:N27,\">0\",E27:N27)","v":"00:00:00"},{"$f":"ABS((HOUR(Q27)*3600+MINUTE(Q27)*60+SECOND(Q27)))","v":0},null,null,null,null,null,null,null,null,null,null,null,null,null,null,null,null,null,null,null,23,"Mick"]
[null,null,null,{"$f":"$H$2","v":"6ROUGE"},{"$f":"IFERROR(SQRT(POWER((VLOOKUP($C$5,DEBUT!$D$5:$J$110,6,FALSE)-VLOOKUP(E30,DEBUT!$D$5:$J$110,6,FALSE)),2)+POWER((VLOOKUP($C$5,DEBUT!$D$5:$J$110,7,FALSE)-VLOOKUP(E30,DEBUT!$D$5:$J$110,7,FALSE)),2))/CARTE!$O$9,0)","v":177.2924730824831},{"$f":"IFERROR(SQRT(POWER((VLOOKUP($C$5,DEBUT!$D$5:$J$110,6,FALSE)-VLOOKUP(F30,DEBUT!$D$5:$J$110,6,FALSE)),2)+POWER((VLOOKUP($C$5,DEBUT!$D$5:$J$110,7,FALSE)-VLOOKUP(F30,DEBUT!$D$5:$J$110,7,FALSE)),2))/CARTE!$O$9,0)","v":315.29574700663397},{"$f":"IFERROR(SQRT(POWER((VLOOKUP($C$5,DEBUT!$D$5:$J$110,6,FALSE)-VLOOKUP(G30,DEBUT!$D$5:$J$110,6,FALSE)),2)+POWER((VLOOKUP($C$5,DEBUT!$D$5:$J$110,7,FALSE)-VLOOKUP(G30,DEBUT!$D$5:$J$110,7,FALSE)),2))/CARTE!$O$9,0)","v":292.36811846754603},{"$f":"IFERROR(SQRT(POWER((VLOOKUP($C$5,DEBUT!$D$5:$J$110,6,FALSE)-VLOOKUP(H30,DEBUT!$D$5:$J$110,6,FALSE)),2)+POWER((VLOOKUP($C$5,DEBUT!$D$5:$J$110,7,FALSE)-VLOOKUP(H30,DEBUT!$D$5:$J$110,7,FALSE)),2))/CARTE!$O$9,0)","v":500.92859639969026},{"$f":"IFERROR(SQRT(POWER((VLOOKUP(H26,DEBUT!$D$5:$J$110,6,FALSE)-VLOOKUP(I30,DEBUT!$D$5:$J$110,6,FALSE)),2)+POWER((VLOOKUP(H26,DEBUT!$D$5:$J$110,7,FALSE)-VLOOKUP(I30,DEBUT!$D$5:$J$110,7,FALSE)),2))/CARTE!$O$9,0)","v":1575.7916139459737},{"$f":"IFERROR(SQRT(POWER((VLOOKUP(I26,DEBUT!$D$5:$J$110,6,FALSE)-VLOOKUP(J30,DEBUT!$D$5:$J$110,6,FALSE)),2)+POWER((VLOOKUP(I26,DEBUT!$D$5:$J$110,7,FALSE)-VLOOKUP(J30,DEBUT!$D$5:$J$110,7,FALSE)),2))/CARTE!$O$9,0)","v":1306.1159848841933},{"$f":"IFERROR(SQRT(POWER((VLOOKUP($C$5,DEBUT!$D$5:$J$110,6,FALSE)-VLOOKUP(K30,DEBUT!$D$5:$J$110,6,FALSE)),2)+POWER((VLOOKUP($C$5,DEBUT!$D$5:$J$110,7,FALSE)-VLOOKUP(K30,DEBUT!$D$5:$J$110,7,FALSE)),2))/CARTE!$O$9,0)","v":0},{"$f":"IFERROR(SQRT(POWER((VLOOKUP(K26,DEBUT!$D$5:$J$110,6,FALSE)-VLOOKUP(L30,DEBUT!$D$5:$J$110,6,FALSE)),2)+POWER((VLOOKUP(K26,DEBUT!$D$5:$J$110,7,FALSE)-VLOOKUP(L30,DEBUT!$D$5:$J$110,7,FALSE)),2))/CARTE!$O$9,0)","v":0},{"$f":"IFERROR(SQRT(POWER((VLOOKUP(L26,DEBUT!$D$5:$J$110,6,FALSE)-VLOOKUP(M30,DEBUT!$D$5:$J$110,6,FALSE)),2)+POWER((VLOOKUP(L26,DEBUT!$D$5:$J$110,7,FALSE)-VLOOKUP(M30,DEBUT!$D$5:$J$110,7,FALSE)),2))/CARTE!$O$9,0)","v":0},{"$f":"IFERROR(SQRT(POWER((VLOOKUP(M26,DEBUT!$D$5:$J$110,6,FALSE)-VLOOKUP(N30,DEBUT!$D$5:$J$110,6,FALSE)),2)+POWER((VLOOKUP(M26,DEBUT!$D$5:$J$110,7,FALSE)-VLOOKUP(N30,DEBUT!$D$5:$J$110,7,FALSE)),2))/CARTE!$O$9,0)","v":0},"m","Distance",{"$f":"SUM(E28:N28)","v":4167.7925337865208},"m",null,null,null,null,null,null,null,null,null,null,null,null,null,null,null,null,null,null,null,24,0]
[null,null,null,"Balises prévues",{"$f":"IF(ISTEXT($D28),HLOOKUP($D28,DEBUT!$O$3:$XX$100,3,FALSE),\"\")","v":"A"},{"$f":"IF(ISTEXT($D28),HLOOKUP($D28,DEBUT!$O$3:$XX$100,4,FALSE),\"\")","v":"B"},{"$f":"IF(ISTEXT($D28),HLOOKUP($D28,DEBUT!$O$3:$XX$100,5,FALSE),\"\")","v":"C"},{"$f":"IF(ISTEXT($D28),HLOOKUP($D28,DEBUT!$O$3:$XX$100,6,FALSE),\"\")","v":"D"},{"$f":"IF(ISTEXT($D28),HLOOKUP($D28,DEBUT!$O$3:$XX$100,7,FALSE),\"\")","v":"E"},{"$f":"IF(ISTEXT($D28),HLOOKUP($D28,DEBUT!$O$3:$XX$100,8,FALSE),\"\")","v":"F"},{"$f":"IF(ISTEXT($D28),HLOOKUP($D28,DEBUT!$O$3:$XX$100,9,FALSE),\"\")","v":0},{"$f":"IF(ISTEXT($D28),HLOOKUP($D28,DEBUT!$O$3:$XX$100,10,FALSE),\"\")","v":0},{"$f":"IF(ISTEXT($D28),HLOOKUP($D28,DEBUT!$O$3:$XX$100,11,FALSE),\"\")","v":0},{"$f":"IF(ISTEXT($D28),HLOOKUP($D28,DEBUT!$O$3:$XX$100,12,FALSE),\"\")","v":0},null,"Nombre balises prévues",{"$f":"SUMPRODUCT(N(ISTEXT(E29:N29)))","v":6},"prévues",null,null,null,null,null,null,null,null,null,null,null,null,null,null,null,null,null,null,null,25,0]
[null,null,null,"Validé",{"$f":"IF($D30=DEBUT!$L$5,E31,\"\")","v":7},{"$f":"IF($D30=DEBUT!$L$5,F31,\"\")","v":10},{"$f":"IF($D30=DEBUT!$L$5,G31,\"\")","v":11},{"$f":"IF($D30=DEBUT!$L$5,H31,\"\")","v":1},{"$f":"IF($D30=DEBUT!$L$5,I31,\"\")","v":76},{"$f":"IF($D30=DEBUT!$L$5,J31,\"\")","v":46},{"$f":"IF($D30=DEBUT!$L$5,K31,\"\")","v":""},{"$f":"IF($D30=DEBUT!$L$5,L31,\"\")","v":""},{"$f":"IF($D30=DEBUT!$L$5,M31,\"\")","v":""},{"$f":"IF($D30=DEBUT!$L$5,N31,\"\")","v":""},null,"Nombre balises trouvées",{"$f":"SUMPRODUCT(N(ISNUMBER(E30:N30)))","v":6},{"$f":"IF(Q30>1,\"trouvées\",\"trouvée\")","v":"trouvées"},null,null,null,null,null,null,null,null,null,null,null,null,null,null,null,null,null,null,null,26,0]
[null,null,null,"Balises CM",{"$f":"IFERROR(INDEX(baliseCM,MATCH(E29,lettre,0),MATCH($D27,parcours,0)),\"\")","v":7},{"$f":"IFERROR(INDEX(baliseCM,MATCH(F29,lettre,0),MATCH($D27,parcours,0)),\"\")","v":10},11,1,76,46,"","","","",null,null,null,null,null,null,null,null,null,null,null,null,null,null,null,null,null,null,null,null,null,null,null,27,0]
[null,null,null,"Vitesse",{"$f":"(E28/ABS((HOUR(E27)*3600+MINUTE(E27)*60+SECOND(E27))))*3.6","v":{"$error":"#NUM!"}},null,{"$f":"(G28/ABS((HOUR(G27)*3600+MINUTE(G27)*60+SECOND(G27))))*3.6","v":{"$error":"#DIV/0!"}},null,null,{"$f":"(J28/ABS((HOUR(J27)*3600+MINUTE(J27)*60+SECOND(J27))))*3.6","v":{"$error":"#DIV/0!"}},null,null,null,{"$f":"(N28/ABS((HOUR(N27)*3600+MINUTE(N27)*60+SECOND(N27))))*3.6","v":{"$error":"#DIV/0!"}},"Km/h","Vitesse moyenne",{"$f":"Q28/R27*3.6","v":{"$error":"#DIV/0!"}},"km/h",null,null,null,null,null,null,null,null,null,null,null,null,null,null,null,null,null,null,null,28,0]
[null,"EQUIPE 5",null,"15:54:30",null,null,null,null,null,null,null,null,null,null,null,null,null,null,null,"Analyse du parcours",null,null,null,null,null,null,null,null,null,null,null,null,null,null,null,null,null,29,0]
[null,null,null,{"$f":"CONCATENATE(D35,\"bis\")","v":"6ROUGEbis"},{"$f":"E33-D33","v":-0.66284722222222225},null,{"$f":"G33-E33","v":"00:00:00"},null,null,{"$f":"J33-G33","v":"00:00:00"},null,null,null,{"$f":"N33-J33","v":"00:00:00"},null,"Temps de course",{"$f":"SUMIF(E34:N34,\">0\",E34:N34)","v":"00:00:00"},{"$f":"ABS((HOUR(Q34)*3600+MINUTE(Q34)*60+SECOND(Q34)))","v":0},null,null,null,null,null,null,null,null,null,null,null,null,null,null,null,null,null,null,null,30,0]
[null,null,null,{"$f":"$H$2","v":"6ROUGE"},{"$f":"IFERROR(SQRT(POWER((VLOOKUP($C$5,DEBUT!$D$5:$J$110,6,FALSE)-VLOOKUP(E37,DEBUT!$D$5:$J$110,6,FALSE)),2)+POWER((VLOOKUP($C$5,DEBUT!$D$5:$J$110,7,FALSE)-VLOOKUP(E37,DEBUT!$D$5:$J$110,7,FALSE)),2))/CARTE!$O$9,0)","v":177.2924730824831},{"$f":"IFERROR(SQRT(POWER((VLOOKUP($C$5,DEBUT!$D$5:$J$110,6,FALSE)-VLOOKUP(F37,DEBUT!$D$5:$J$110,6,FALSE)),2)+POWER((VLOOKUP($C$5,DEBUT!$D$5:$J$110,7,FALSE)-VLOOKUP(F37,DEBUT!$D$5:$J$110,7,FALSE)),2))/CARTE!$O$9,0)","v":315.29574700663397},{"$f":"IFERROR(SQRT(POWER((VLOOKUP($C$5,DEBUT!$D$5:$J$110,6,FALSE)-VLOOKUP(G37,DEBUT!$D$5:$J$110,6,FALSE)),2)+POWER((VLOOKUP($C$5,DEBUT!$D$5:$J$110,7,FALSE)-VLOOKUP(G37,DEBUT!$D$5:$J$110,7,FALSE)),2))/CARTE!$O$9,0)","v":292.36811846754603},{"$f":"IFERROR(SQRT(POWER((VLOOKUP($C$5,DEBUT!$D$5:$J$110,6,FALSE)-VLOOKUP(H37,DEBUT!$D$5:$J$110,6,FALSE)),2)+POWER((VLOOKUP($C$5,DEBUT!$D$5:$J$110,7,FALSE)-VLOOKUP(H37,DEBUT!$D$5:$J$110,7,FALSE)),2))/CARTE!$O$9,0)","v":500.92859639969026},{"$f":"IFERROR(SQRT(POWER((VLOOKUP(H33,DEBUT!$D$5:$J$110,6,FALSE)-VLOOKUP(I37,DEBUT!$D$5:$J$110,6,FALSE)),2)+POWER((VLOOKUP(H33,DEBUT!$D$5:$J$110,7,FALSE)-VLOOKUP(I37,DEBUT!$D$5:$J$110,7,FALSE)),2))/CARTE!$O$9,0)","v":1575.7916139459737},{"$f":"IFERROR(SQRT(POWER((VLOOKUP(I33,DEBUT!$D$5:$J$110,6,FALSE)-VLOOKUP(J37,DEBUT!$D$5:$J$110,6,FALSE)),2)+POWER((VLOOKUP(I33,DEBUT!$D$5:$J$110,7,FALSE)-VLOOKUP(J37,DEBUT!$D$5:$J$110,7,FALSE)),2))/CARTE!$O$9,0)","v":1306.1159848841933},{"$f":"IFERROR(SQRT(POWER((VLOOKUP($C$5,DEBUT!$D$5:$J$110,6,FALSE)-VLOOKUP(K37,DEBUT!$D$5:$J$110,6,FALSE)),2)+POWER((VLOOKUP($C$5,DEBUT!$D$5:$J$110,7,FALSE)-VLOOKUP(K37,DEBUT!$D$5:$J$110,7,FALSE)),2))/CARTE!$O$9,0)","v":0},{"$f":"IFERROR(SQRT(POWER((VLOOKUP(K33,DEBUT!$D$5:$J$110,6,FALSE)-VLOOKUP(L37,DEBUT!$D$5:$J$110,6,FALSE)),2)+POWER((VLOOKUP(K33,DEBUT!$D$5:$J$110,7,FALSE)-VLOOKUP(L37,DEBUT!$D$5:$J$110,7,FALSE)),2))/CARTE!$O$9,0)","v":0},{"$f":"IFERROR(SQRT(POWER((VLOOKUP(L33,DEBUT!$D$5:$J$110,6,FALSE)-VLOOKUP(M37,DEBUT!$D$5:$J$110,6,FALSE)),2)+POWER((VLOOKUP(L33,DEBUT!$D$5:$J$110,7,FALSE)-VLOOKUP(M37,DEBUT!$D$5:$J$110,7,FALSE)),2))/CARTE!$O$9,0)","v":0},{"$f":"IFERROR(SQRT(POWER((VLOOKUP(M33,DEBUT!$D$5:$J$110,6,FALSE)-VLOOKUP(N37,DEBUT!$D$5:$J$110,6,FALSE)),2)+POWER((VLOOKUP(M33,DEBUT!$D$5:$J$110,7,FALSE)-VLOOKUP(N37,DEBUT!$D$5:$J$110,7,FALSE)),2))/CARTE!$O$9,0)","v":0},"m","Distance",{"$f":"SUM(E35:N35)","v":4167.7925337865208},"m",null,null,null,null,null,null,null,null,null,null,null,null,null,null,null,null,null,null,null,31,0]
[null,null,null,"Balises prévues",{"$f":"IF(ISTEXT($D35),HLOOKUP($D35,DEBUT!$O$3:$XX$100,3,FALSE),\"\")","v":"A"},{"$f":"IF(ISTEXT($D35),HLOOKUP($D35,DEBUT!$O$3:$XX$100,4,FALSE),\"\")","v":"B"},{"$f":"IF(ISTEXT($D35),HLOOKUP($D35,DEBUT!$O$3:$XX$100,5,FALSE),\"\")","v":"C"},{"$f":"IF(ISTEXT($D35),HLOOKUP($D35,DEBUT!$O$3:$XX$100,6,FALSE),\"\")","v":"D"},{"$f":"IF(ISTEXT($D35),HLOOKUP($D35,DEBUT!$O$3:$XX$100,7,FALSE),\"\")","v":"E"},{"$f":"IF(ISTEXT($D35),HLOOKUP($D35,DEBUT!$O$3:$XX$100,8,FALSE),\"\")","v":"F"},{"$f":"IF(ISTEXT($D35),HLOOKUP($D35,DEBUT!$O$3:$XX$100,9,FALSE),\"\")","v":0},{"$f":"IF(ISTEXT($D35),HLOOKUP($D35,DEBUT!$O$3:$XX$100,10,FALSE),\"\")","v":0},{"$f":"IF(ISTEXT($D35),HLOOKUP($D35,DEBUT!$O$3:$XX$100,11,FALSE),\"\")","v":0},{"$f":"IF(ISTEXT($D35),HLOOKUP($D35,DEBUT!$O$3:$XX$100,12,FALSE),\"\")","v":0},null,"Nombre balises prévues",{"$f":"SUMPRODUCT(N(ISTEXT(E36:N36)))","v":6},"prévues",null,null,null,null,null,null,null,null,null,null,null,null,null,null,null,null,null,null,null,32,0]
[null,null,null,"Validé",{"$f":"IF($D37=DEBUT!$L$5,E38,\"\")","v":7},{"$f":"IF($D37=DEBUT!$L$5,F38,\"\")","v":10},{"$f":"IF($D37=DEBUT!$L$5,G38,\"\")","v":11},{"$f":"IF($D37=DEBUT!$L$5,H38,\"\")","v":1},{"$f":"IF($D37=DEBUT!$L$5,I38,\"\")","v":76},{"$f":"IF($D37=DEBUT!$L$5,J38,\"\")","v":46},{"$f":"IF($D37=DEBUT!$L$5,K38,\"\")","v":""},{"$f":"IF($D37=DEBUT!$L$5,L38,\"\")","v":""},{"$f":"IF($D37=DEBUT!$L$5,M38,\"\")","v":""},{"$f":"IF($D37=DEBUT!$L$5,N38,\"\")","v":""},null,"Nombre balises trouvées",{"$f":"SUMPRODUCT(N(ISNUMBER(E37:N37)))","v":6},{"$f":"IF(Q37>1,\"trouvées\",\"trouvée\")","v":"trouvées"},null,null,null,null,null,null,null,null,null,null,null,null,null,null,null,null,null,null,null,33,0]
[null,null,null,"Balises CM",{"$f":"IFERROR(INDEX(baliseCM,MATCH(E36,lettre,0),MATCH($D34,parcours,0)),\"\")","v":7},{"$f":"IFERROR(INDEX(baliseCM,MATCH(F36,lettre,0),MATCH($D34,parcours,0)),\"\")","v":10},11,1,76,46,"","","","",null,null,null,null,null,null,null,null,null,null,null,null,null,null,null,null,null,null,null,null,null,null,null,34,0]
[null,null,null,"Vitesse",{"$f":"(E35/ABS((HOUR(E34)*3600+MINUTE(E34)*60+SECOND(E34))))*3.6","v":{"$error":"#NUM!"}},null,{"$f":"(G35/ABS((HOUR(G34)*3600+MINUTE(G34)*60+SECOND(G34))))*3.6","v":{"$error":"#DIV/0!"}},null,null,{"$f":"(J35/ABS((HOUR(J34)*3600+MINUTE(J34)*60+SECOND(J34))))*3.6","v":{"$error":"#DIV/0!"}},null,null,null,{"$f":"(N35/ABS((HOUR(N34)*3600+MINUTE(N34)*60+SECOND(N34))))*3.6","v":{"$error":"#DIV/0!"}},"Km/h","Vitesse moyenne",{"$f":"Q35/R34*3.6","v":{"$error":"#DIV/0!"}},"km/h",null,null,null,null,null,null,null,null,null,null,null,null,null,null,null,null,null,null,null,35,0]
[null,"EQUIPE 6",null,"15:54:31",null,null,null,null,null,null,null,null,null,null,null,null,null,null,null,"Analyse du parcours",null,null,null,null,null,null,null,null,null,null,null,null,null,null,null,null,null,36,0]
[null,null,null,{"$f":"CONCATENATE(D42,\"bis\")","v":"6ROUGEbis"},{"$f":"E40-D40","v":-0.66285879629629629},null,{"$f":"G40-E40","v":"00:00:00"},null,null,{"$f":"J40-G40","v":"00:00:00"},null,null,null,{"$f":"N40-J40","v":"00:00:00"},null,"Temps de course",{"$f":"SUMIF(E41:N41,\">0\",E41:N41)","v":"00:00:00"},{"$f":"ABS((HOUR(Q41)*3600+MINUTE(Q41)*60+SECOND(Q41)))","v":0}]
[null,null,null,{"$f":"$H$2","v":"6ROUGE"},{"$f":"IFERROR(SQRT(POWER((VLOOKUP($C$5,DEBUT!$D$5:$J$110,6,FALSE)-VLOOKUP(E44,DEBUT!$D$5:$J$110,6,FALSE)),2)+POWER((VLOOKUP($C$5,DEBUT!$D$5:$J$110,7,FALSE)-VLOOKUP(E44,DEBUT!$D$5:$J$110,7,FALSE)),2))/CARTE!$O$9,0)","v":177.2924730824831},{"$f":"IFERROR(SQRT(POWER((VLOOKUP($C$5,DEBUT!$D$5:$J$110,6,FALSE)-VLOOKUP(F44,DEBUT!$D$5:$J$110,6,FALSE)),2)+POWER((VLOOKUP($C$5,DEBUT!$D$5:$J$110,7,FALSE)-VLOOKUP(F44,DEBUT!$D$5:$J$110,7,FALSE)),2))/CARTE!$O$9,0)","v":315.29574700663397},{"$f":"IFERROR(SQRT(POWER((VLOOKUP($C$5,DEBUT!$D$5:$J$110,6,FALSE)-VLOOKUP(G44,DEBUT!$D$5:$J$110,6,FALSE)),2)+POWER((VLOOKUP($C$5,DEBUT!$D$5:$J$110,7,FALSE)-VLOOKUP(G44,DEBUT!$D$5:$J$110,7,FALSE)),2))/CARTE!$O$9,0)","v":292.36811846754603},{"$f":"IFERROR(SQRT(POWER((VLOOKUP($C$5,DEBUT!$D$5:$J$110,6,FALSE)-VLOOKUP(H44,DEBUT!$D$5:$J$110,6,FALSE)),2)+POWER((VLOOKUP($C$5,DEBUT!$D$5:$J$110,7,FALSE)-VLOOKUP(H44,DEBUT!$D$5:$J$110,7,FALSE)),2))/CARTE!$O$9,0)","v":500.92859639969026},{"$f":"IFERROR(SQRT(POWER((VLOOKUP(H40,DEBUT!$D$5:$J$110,6,FALSE)-VLOOKUP(I44,DEBUT!$D$5:$J$110,6,FALSE)),2)+POWER((VLOOKUP(H40,DEBUT!$D$5:$J$110,7,FALSE)-VLOOKUP(I44,DEBUT!$D$5:$J$110,7,FALSE)),2))/CARTE!$O$9,0)","v":1575.7916139459737},{"$f":"IFERROR(SQRT(POWER((VLOOKUP(I40,DEBUT!$D$5:$J$110,6,FALSE)-VLOOKUP(J44,DEBUT!$D$5:$J$110,6,FALSE)),2)+POWER((VLOOKUP(I40,DEBUT!$D$5:$J$110,7,FALSE)-VLOOKUP(J44,DEBUT!$D$5:$J$110,7,FALSE)),2))/CARTE!$O$9,0)","v":1306.1159848841933},{"$f":"IFERROR(SQRT(POWER((VLOOKUP($C$5,DEBUT!$D$5:$J$110,6,FALSE)-VLOOKUP(K44,DEBUT!$D$5:$J$110,6,FALSE)),2)+POWER((VLOOKUP($C$5,DEBUT!$D$5:$J$110,7,FALSE)-VLOOKUP(K44,DEBUT!$D$5:$J$110,7,FALSE)),2))/CARTE!$O$9,0)","v":0},{"$f":"IFERROR(SQRT(POWER((VLOOKUP(K40,DEBUT!$D$5:$J$110,6,FALSE)-VLOOKUP(L44,DEBUT!$D$5:$J$110,6,FALSE)),2)+POWER((VLOOKUP(K40,DEBUT!$D$5:$J$110,7,FALSE)-VLOOKUP(L44,DEBUT!$D$5:$J$110,7,FALSE)),2))/CARTE!$O$9,0)","v":0},{"$f":"IFERROR(SQRT(POWER((VLOOKUP(L40,DEBUT!$D$5:$J$110,6,FALSE)-VLOOKUP(M44,DEBUT!$D$5:$J$110,6,FALSE)),2)+POWER((VLOOKUP(L40,DEBUT!$D$5:$J$110,7,FALSE)-VLOOKUP(M44,DEBUT!$D$5:$J$110,7,FALSE)),2))/CARTE!$O$9,0)","v":0},{"$f":"IFERROR(SQRT(POWER((VLOOKUP(M40,DEBUT!$D$5:$J$110,6,FALSE)-VLOOKUP(N44,DEBUT!$D$5:$J$110,6,FALSE)),2)+POWER((VLOOKUP(M40,DEBUT!$D$5:$J$110,7,FALSE)-VLOOKUP(N44,DEBUT!$D$5:$J$110,7,FALSE)),2))/CARTE!$O$9,0)","v":0},"m","Distance",{"$f":"SUM(E42:N42)","v":4167.7925337865208},"m"]
[null,null,null,"Balises prévues",{"$f":"IF(ISTEXT($D42),HLOOKUP($D42,DEBUT!$O$3:$XX$100,3,FALSE),\"\")","v":"A"},{"$f":"IF(ISTEXT($D42),HLOOKUP($D42,DEBUT!$O$3:$XX$100,4,FALSE),\"\")","v":"B"},{"$f":"IF(ISTEXT($D42),HLOOKUP($D42,DEBUT!$O$3:$XX$100,5,FALSE),\"\")","v":"C"},{"$f":"IF(ISTEXT($D42),HLOOKUP($D42,DEBUT!$O$3:$XX$100,6,FALSE),\"\")","v":"D"},{"$f":"IF(ISTEXT($D42),HLOOKUP($D42,DEBUT!$O$3:$XX$100,7,FALSE),\"\")","v":"E"},{"$f":"IF(ISTEXT($D42),HLOOKUP($D42,DEBUT!$O$3:$XX$100,8,FALSE),\"\")","v":"F"},{"$f":"IF(ISTEXT($D42),HLOOKUP($D42,DEBUT!$O$3:$XX$100,9,FALSE),\"\")","v":0},{"$f":"IF(ISTEXT($D42),HLOOKUP($D42,DEBUT!$O$3:$XX$100,10,FALSE),\"\")","v":0},{"$f":"IF(ISTEXT($D42),HLOOKUP($D42,DEBUT!$O$3:$XX$100,11,FALSE),\"\")","v":0},{"$f":"IF(ISTEXT($D42),HLOOKUP($D42,DEBUT!$O$3:$XX$100,12,FALSE),\"\")","v":0},null,"Nombre balises prévues",{"$f":"SUMPRODUCT(N(ISTEXT(E43:N43)))","v":6},"prévues"]
[null,null,null,"Validé",{"$f":"IF($D44=DEBUT!$L$5,E45,\"\")","v":7},{"$f":"IF($D44=DEBUT!$L$5,F45,\"\")","v":10},{"$f":"IF($D44=DEBUT!$L$5,G45,\"\")","v":11},{"$f":"IF($D44=DEBUT!$L$5,H45,\"\")","v":1},{"$f":"IF($D44=DEBUT!$L$5,I45,\"\")","v":76},{"$f":"IF($D44=DEBUT!$L$5,J45,\"\")","v":46},{"$f":"IF($D44=DEBUT!$L$5,K45,\"\")","v":""},{"$f":"IF($D44=DEBUT!$L$5,L45,\"\")","v":""},{"$f":"IF($D44=DEBUT!$L$5,M45,\"\")","v":""},{"$f":"IF($D44=DEBUT!$L$5,N45,\"\")","v":""},null,"Nombre balises trouvées",{"$f":"SUMPRODUCT(N(ISNUMBER(E44:N44)))","v":6},{"$f":"IF(Q44>1,\"trouvées\",\"trouvée\")","v":"trouvées"}]
[null,null,null,"Balises CM",{"$f":"IFERROR(INDEX(baliseCM,MATCH(E43,lettre,0),MATCH($D41,parcours,0)),\"\")","v":7},{"$f":"IFERROR(INDEX(baliseCM,MATCH(F43,lettre,0),MATCH($D41,parcours,0)),\"\")","v":10},11,1,76,46,"","","",""]
[null,null,null,"Vitesse",{"$f":"(E42/ABS((HOUR(E41)*3600+MINUTE(E41)*60+SECOND(E41))))*3.6","v":{"$error":"#NUM!"}},null,{"$f":"(G42/ABS((HOUR(G41)*3600+MINUTE(G41)*60+SECOND(G41))))*3.6","v":{"$error":"#DIV/0!"}},null,null,{"$f":"(J42/ABS((HOUR(J41)*3600+MINUTE(J41)*60+SECOND(J41))))*3.6","v":{"$error":"#DIV/0!"}},null,null,null,{"$f":"(N42/ABS((HOUR(N41)*3600+MINUTE(N41)*60+SECOND(N41))))*3.6","v":{"$error":"#DIV/0!"}},"Km/h","Vitesse moyenne",{"$f":"Q42/R41*3.6","v":{"$error":"#DIV/0!"}},"km/h"]
[null,"EQUIPE 7",null,"15:54:31",null,null,null,null,null,null,null,null,null,null,null,null,null,null,null,"Analyse du parcours"]
[null,null,null,{"$f":"CONCATENATE(D49,\"bis\")","v":"6ROUGEbis"},{"$f":"E47-D47","v":-0.66285879629629629},null,{"$f":"G47-E47","v":"00:00:00"},null,null,{"$f":"J47-G47","v":"00:00:00"},null,null,null,{"$f":"N47-J47","v":"00:00:00"},null,"Temps de course",{"$f":"SUMIF(E48:N48,\">0\",E48:N48)","v":"00:00:00"},{"$f":"ABS((HOUR(Q48)*3600+MINUTE(Q48)*60+SECOND(Q48)))","v":0}]
[null,null,null,{"$f":"$H$2","v":"6ROUGE"},{"$f":"IFERROR(SQRT(POWER((VLOOKUP($C$5,DEBUT!$D$5:$J$110,6,FALSE)-VLOOKUP(E51,DEBUT!$D$5:$J$110,6,FALSE)),2)+POWER((VLOOKUP($C$5,DEBUT!$D$5:$J$110,7,FALSE)-VLOOKUP(E51,DEBUT!$D$5:$J$110,7,FALSE)),2))/CARTE!$O$9,0)","v":177.2924730824831},{"$f":"IFERROR(SQRT(POWER((VLOOKUP($C$5,DEBUT!$D$5:$J$110,6,FALSE)-VLOOKUP(F51,DEBUT!$D$5:$J$110,6,FALSE)),2)+POWER((VLOOKUP($C$5,DEBUT!$D$5:$J$110,7,FALSE)-VLOOKUP(F51,DEBUT!$D$5:$J$110,7,FALSE)),2))/CARTE!$O$9,0)","v":315.29574700663397},{"$f":"IFERROR(SQRT(POWER((VLOOKUP($C$5,DEBUT!$D$5:$J$110,6,FALSE)-VLOOKUP(G51,DEBUT!$D$5:$J$110,6,FALSE)),2)+POWER((VLOOKUP($C$5,DEBUT!$D$5:$J$110,7,FALSE)-VLOOKUP(G51,DEBUT!$D$5:$J$110,7,FALSE)),2))/CARTE!$O$9,0)","v":292.36811846754603},{"$f":"IFERROR(SQRT(POWER((VLOOKUP($C$5,DEBUT!$D$5:$J$110,6,FALSE)-VLOOKUP(H51,DEBUT!$D$5:$J$110,6,FALSE)),2)+POWER((VLOOKUP($C$5,DEBUT!$D$5:$J$110,7,FALSE)-VLOOKUP(H51,DEBUT!$D$5:$J$110,7,FALSE)),2))/CARTE!$O$9,0)","v":500.92859639969026},{"$f":"IFERROR(SQRT(POWER((VLOOKUP(H47,DEBUT!$D$5:$J$110,6,FALSE)-VLOOKUP(I51,DEBUT!$D$5:$J$110,6,FALSE)),2)+POWER((VLOOKUP(H47,DEBUT!$D$5:$J$110,7,FALSE)-VLOOKUP(I51,DEBUT!$D$5:$J$110,7,FALSE)),2))/CARTE!$O$9,0)","v":1575.7916139459737},{"$f":"IFERROR(SQRT(POWER((VLOOKUP(I47,DEBUT!$D$5:$J$110,6,FALSE)-VLOOKUP(J51,DEBUT!$D$5:$J$110,6,FALSE)),2)+POWER((VLOOKUP(I47,DEBUT!$D$5:$J$110,7,FALSE)-VLOOKUP(J51,DEBUT!$D$5:$J$110,7,FALSE)),2))/CARTE!$O$9,0)","v":1306.1159848841933},{"$f":"IFERROR(SQRT(POWER((VLOOKUP($C$5,DEBUT!$D$5:$J$110,6,FALSE)-VLOOKUP(K51,DEBUT!$D$5:$J$110,6,FALSE)),2)+POWER((VLOOKUP($C$5,DEBUT!$D$5:$J$110,7,FALSE)-VLOOKUP(K51,DEBUT!$D$5:$J$110,7,FALSE)),2))/CARTE!$O$9,0)","v":0},{"$f":"IFERROR(SQRT(POWER((VLOOKUP(K47,DEBUT!$D$5:$J$110,6,FALSE)-VLOOKUP(L51,DEBUT!$D$5:$J$110,6,FALSE)),2)+POWER((VLOOKUP(K47,DEBUT!$D$5:$J$110,7,FALSE)-VLOOKUP(L51,DEBUT!$D$5:$J$110,7,FALSE)),2))/CARTE!$O$9,0)","v":0},{"$f":"IFERROR(SQRT(POWER((VLOOKUP(L47,DEBUT!$D$5:$J$110,6,FALSE)-VLOOKUP(M51,DEBUT!$D$5:$J$110,6,FALSE)),2)+POWER((VLOOKUP(L47,DEBUT!$D$5:$J$110,7,FALSE)-VLOOKUP(M51,DEBUT!$D$5:$J$110,7,FALSE)),2))/CARTE!$O$9,0)","v":0},{"$f":"IFERROR(SQRT(POWER((VLOOKUP(M47,DEBUT!$D$5:$J$110,6,FALSE)-VLOOKUP(N51,DEBUT!$D$5:$J$110,6,FALSE)),2)+POWER((VLOOKUP(M47,DEBUT!$D$5:$J$110,7,FALSE)-VLOOKUP(N51,DEBUT!$D$5:$J$110,7,FALSE)),2))/CARTE!$O$9,0)","v":0},"m","Distance",{"$f":"SUM(E49:N49)","v":4167.7925337865208},"m"]
[null,null,null,"Balises prévues",{"$f":"IF(ISTEXT($D49),HLOOKUP($D49,DEBUT!$O$3:$XX$100,3,FALSE),\"\")","v":"A"},{"$f":"IF(ISTEXT($D49),HLOOKUP($D49,DEBUT!$O$3:$XX$100,4,FALSE),\"\")","v":"B"},{"$f":"IF(ISTEXT($D49),HLOOKUP($D49,DEBUT!$O$3:$XX$100,5,FALSE),\"\")","v":"C"},{"$f":"IF(ISTEXT($D49),HLOOKUP($D49,DEBUT!$O$3:$XX$100,6,FALSE),\"\")","v":"D"},{"$f":"IF(ISTEXT($D49),HLOOKUP($D49,DEBUT!$O$3:$XX$100,7,FALSE),\"\")","v":"E"},{"$f":"IF(ISTEXT($D49),HLOOKUP($D49,DEBUT!$O$3:$XX$100,8,FALSE),\"\")","v":"F"},{"$f":"IF(ISTEXT($D49),HLOOKUP($D49,DEBUT!$O$3:$XX$100,9,FALSE),\"\")","v":0},{"$f":"IF(ISTEXT($D49),HLOOKUP($D49,DEBUT!$O$3:$XX$100,10,FALSE),\"\")","v":0},{"$f":"IF(ISTEXT($D49),HLOOKUP($D49,DEBUT!$O$3:$XX$100,11,FALSE),\"\")","v":0},{"$f":"IF(ISTEXT($D49),HLOOKUP($D49,DEBUT!$O$3:$XX$100,12,FALSE),\"\")","v":0},null,"Nombre balises prévues",{"$f":"SUMPRODUCT(N(ISTEXT(E50:N50)))","v":6},"prévues"]
[null,null,null,"Validé",{"$f":"IF($D51=DEBUT!$L$5,E52,\"\")","v":7},{"$f":"IF($D51=DEBUT!$L$5,F52,\"\")","v":10},{"$f":"IF($D51=DEBUT!$L$5,G52,\"\")","v":11},{"$f":"IF($D51=DEBUT!$L$5,H52,\"\")","v":1},{"$f":"IF($D51=DEBUT!$L$5,I52,\"\")","v":76},{"$f":"IF($D51=DEBUT!$L$5,J52,\"\")","v":46},{"$f":"IF($D51=DEBUT!$L$5,K52,\"\")","v":""},{"$f":"IF($D51=DEBUT!$L$5,L52,\"\")","v":""},{"$f":"IF($D51=DEBUT!$L$5,M52,\"\")","v":""},{"$f":"IF($D51=DEBUT!$L$5,N52,\"\")","v":""},null,"Nombre balises trouvées",{"$f":"SUMPRODUCT(N(ISNUMBER(E51:N51)))","v":6},{"$f":"IF(Q51>1,\"trouvées\",\"trouvée\")","v":"trouvées"}]
[null,null,null,"Balises CM",{"$f":"IFERROR(INDEX(baliseCM,MATCH(E50,lettre,0),MATCH($D48,parcours,0)),\"\")","v":7},{"$f":"IFERROR(INDEX(baliseCM,MATCH(F50,lettre,0),MATCH($D48,parcours,0)),\"\")","v":10},11,1,76,46,"","","",""]
[null,null,null,"Vitesse",{"$f":"(E49/ABS((HOUR(E48)*3600+MINUTE(E48)*60+SECOND(E48))))*3.6","v":{"$error":"#NUM!"}},null,{"$f":"(G49/ABS((HOUR(G48)*3600+MINUTE(G48)*60+SECOND(G48))))*3.6","v":{"$error":"#DIV/0!"}},null,null,{"$f":"(J49/ABS((HOUR(J48)*3600+MINUTE(J48)*60+SECOND(J48))))*3.6","v":{"$error":"#DIV/0!"}},null,null,null,{"$f":"(N49/ABS((HOUR(N48)*3600+MINUTE(N48)*60+SECOND(N48))))*3.6","v":{"$error":"#DIV/0!"}},"Km/h","Vitesse moyenne",{"$f":"Q49/R48*3.6","v":{"$error":"#DIV/0!"}},"km/h"]
[null,"EQUIPE 8",null,"15:54:32",null,null,null,null,null,null,null,null,null,null,null,null,null,null,null,"Analyse du parcours"]
[null,null,null,{"$f":"CONCATENATE(D56,\"bis\")","v":"6ROUGEbis"},{"$f":"E54-D54","v":-0.66287037037037033},null,{"$f":"G54-E54","v":"00:00:00"},null,null,{"$f":"J54-G54","v":"00:00:00"},null,null,null,{"$f":"N54-J54","v":"00:00:00"},null,"Temps de course",{"$f":"SUMIF(E55:N55,\">0\",E55:N55)","v":"00:00:00"},{"$f":"ABS((HOUR(Q55)*3600+MINUTE(Q55)*60+SECOND(Q55)))","v":0}]
[null,null,null,{"$f":"$H$2","v":"6ROUGE"},{"$f":"IFERROR(SQRT(POWER((VLOOKUP($C$5,DEBUT!$D$5:$J$110,6,FALSE)-VLOOKUP(E58,DEBUT!$D$5:$J$110,6,FALSE)),2)+POWER((VLOOKUP($C$5,DEBUT!$D$5:$J$110,7,FALSE)-VLOOKUP(E58,DEBUT!$D$5:$J$110,7,FALSE)),2))/CARTE!$O$9,0)","v":177.2924730824831},{"$f":"IFERROR(SQRT(POWER((VLOOKUP($C$5,DEBUT!$D$5:$J$110,6,FALSE)-VLOOKUP(F58,DEBUT!$D$5:$J$110,6,FALSE)),2)+POWER((VLOOKUP($C$5,DEBUT!$D$5:$J$110,7,FALSE)-VLOOKUP(F58,DEBUT!$D$5:$J$110,7,FALSE)),2))/CARTE!$O$9,0)","v":315.29574700663397},{"$f":"IFERROR(SQRT(POWER((VLOOKUP($C$5,DEBUT!$D$5:$J$110,6,FALSE)-VLOOKUP(G58,DEBUT!$D$5:$J$110,6,FALSE)),2)+POWER((VLOOKUP($C$5,DEBUT!$D$5:$J$110,7,FALSE)-VLOOKUP(G58,DEBUT!$D$5:$J$110,7,FALSE)),2))/CARTE!$O$9,0)","v":292.36811846754603},{"$f":"IFERROR(SQRT(POWER((VLOOKUP($C$5,DEBUT!$D$5:$J$110,6,FALSE)-VLOOKUP(H58,DEBUT!$D$5:$J$110,6,FALSE)),2)+POWER((VLOOKUP($C$5,DEBUT!$D$5:$J$110,7,FALSE)-VLOOKUP(H58,DEBUT!$D$5:$J$110,7,FALSE)),2))/CARTE!$O$9,0)","v":500.92859639969026},{"$f":"IFERROR(SQRT(POWER((VLOOKUP(H54,DEBUT!$D$5:$J$110,6,FALSE)-VLOOKUP(I58,DEBUT!$D$5:$J$110,6,FALSE)),2)+POWER((VLOOKUP(H54,DEBUT!$D$5:$J$110,7,FALSE)-VLOOKUP(I58,DEBUT!$D$5:$J$110,7,FALSE)),2))/CARTE!$O$9,0)","v":1575.7916139459737},{"$f":"IFERROR(SQRT(POWER((VLOOKUP(I54,DEBUT!$D$5:$J$110,6,FALSE)-VLOOKUP(J58,DEBUT!$D$5:$J$110,6,FALSE)),2)+POWER((VLOOKUP(I54,DEBUT!$D$5:$J$110,7,FALSE)-VLOOKUP(J58,DEBUT!$D$5:$J$110,7,FALSE)),2))/CARTE!$O$9,0)","v":1306.1159848841933},{"$f":"IFERROR(SQRT(POWER((VLOOKUP($C$5,DEBUT!$D$5:$J$110,6,FALSE)-VLOOKUP(K58,DEBUT!$D$5:$J$110,6,FALSE)),2)+POWER((VLOOKUP($C$5,DEBUT!$D$5:$J$110,7,FALSE)-VLOOKUP(K58,DEBUT!$D$5:$J$110,7,FALSE)),2))/CARTE!$O$9,0)","v":0},{"$f":"IFERROR(SQRT(POWER((VLOOKUP(K54,DEBUT!$D$5:$J$110,6,FALSE)-VLOOKUP(L58,DEBUT!$D$5:$J$110,6,FALSE)),2)+POWER((VLOOKUP(K54,DEBUT!$D$5:$J$110,7,FALSE)-VLOOKUP(L58,DEBUT!$D$5:$J$110,7,FALSE)),2))/CARTE!$O$9,0)","v":0},{"$f":"IFERROR(SQRT(POWER((VLOOKUP(L54,DEBUT!$D$5:$J$110,6,FALSE)-VLOOKUP(M58,DEBUT!$D$5:$J$110,6,FALSE)),2)+POWER((VLOOKUP(L54,DEBUT!$D$5:$J$110,7,FALSE)-VLOOKUP(M58,DEBUT!$D$5:$J$110,7,FALSE)),2))/CARTE!$O$9,0)","v":0},{"$f":"IFERROR(SQRT(POWER((VLOOKUP(M54,DEBUT!$D$5:$J$110,6,FALSE)-VLOOKUP(N58,DEBUT!$D$5:$J$110,6,FALSE)),2)+POWER((VLOOKUP(M54,DEBUT!$D$5:$J$110,7,FALSE)-VLOOKUP(N58,DEBUT!$D$5:$J$110,7,FALSE)),2))/CARTE!$O$9,0)","v":0},"m","Distance",{"$f":"SUM(E56:N56)","v":4167.7925337865208},"m"]
[null,null,null,"Balises prévues",{"$f":"IF(ISTEXT($D56),HLOOKUP($D56,DEBUT!$O$3:$XX$100,3,FALSE),\"\")","v":"A"},{"$f":"IF(ISTEXT($D56),HLOOKUP($D56,DEBUT!$O$3:$XX$100,4,FALSE),\"\")","v":"B"},{"$f":"IF(ISTEXT($D56),HLOOKUP($D56,DEBUT!$O$3:$XX$100,5,FALSE),\"\")","v":"C"},{"$f":"IF(ISTEXT($D56),HLOOKUP($D56,DEBUT!$O$3:$XX$100,6,FALSE),\"\")","v":"D"},{"$f":"IF(ISTEXT($D56),HLOOKUP($D56,DEBUT!$O$3:$XX$100,7,FALSE),\"\")","v":"E"},{"$f":"IF(ISTEXT($D56),HLOOKUP($D56,DEBUT!$O$3:$XX$100,8,FALSE),\"\")","v":"F"},{"$f":"IF(ISTEXT($D56),HLOOKUP($D56,DEBUT!$O$3:$XX$100,9,FALSE),\"\")","v":0},{"$f":"IF(ISTEXT($D56),HLOOKUP($D56,DEBUT!$O$3:$XX$100,10,FALSE),\"\")","v":0},{"$f":"IF(ISTEXT($D56),HLOOKUP($D56,DEBUT!$O$3:$XX$100,11,FALSE),\"\")","v":0},{"$f":"IF(ISTEXT($D56),HLOOKUP($D56,DEBUT!$O$3:$XX$100,12,FALSE),\"\")","v":0},null,"Nombre balises prévues",{"$f":"SUMPRODUCT(N(ISTEXT(E57:N57)))","v":6},"prévues"]
[null,null,null,"Validé",{"$f":"IF($D58=DEBUT!$L$5,E59,\"\")","v":7},{"$f":"IF($D58=DEBUT!$L$5,F59,\"\")","v":10},{"$f":"IF($D58=DEBUT!$L$5,G59,\"\")","v":11},{"$f":"IF($D58=DEBUT!$L$5,H59,\"\")","v":1},{"$f":"IF($D58=DEBUT!$L$5,I59,\"\")","v":76},{"$f":"IF($D58=DEBUT!$L$5,J59,\"\")","v":46},{"$f":"IF($D58=DEBUT!$L$5,K59,\"\")","v":""},{"$f":"IF($D58=DEBUT!$L$5,L59,\"\")","v":""},{"$f":"IF($D58=DEBUT!$L$5,M59,\"\")","v":""},{"$f":"IF($D58=DEBUT!$L$5,N59,\"\")","v":""},null,"Nombre balises trouvées",{"$f":"SUMPRODUCT(N(ISNUMBER(E58:N58)))","v":6},{"$f":"IF(Q58>1,\"trouvées\",\"trouvée\")","v":"trouvées"}]
[null,null,null,"Balises CM",{"$f":"IFERROR(INDEX(baliseCM,MATCH(E57,lettre,0),MATCH($D55,parcours,0)),\"\")","v":7},{"$f":"IFERROR(INDEX(baliseCM,MATCH(F57,lettre,0),MATCH($D55,parcours,0)),\"\")","v":10},11,1,76,46,"","","",""]
[null,null,null,"Vitesse",{"$f":"(E56/ABS((HOUR(E55)*3600+MINUTE(E55)*60+SECOND(E55))))*3.6","v":{"$error":"#NUM!"}},null,{"$f":"(G56/ABS((HOUR(G55)*3600+MINUTE(G55)*60+SECOND(G55))))*3.6","v":{"$error":"#DIV/0!"}},null,null,{"$f":"(J56/ABS((HOUR(J55)*3600+MINUTE(J55)*60+SECOND(J55))))*3.6","v":{"$error":"#DIV/0!"}},null,null,null,{"$f":"(N56/ABS((HOUR(N55)*3600+MINUTE(N55)*60+SECOND(N55))))*3.6","v":{"$error":"#DIV/0!"}},"Km/h","Vitesse moyenne",{"$f":"Q56/R55*3.6","v":{"$error":"#DIV/0!"}},"km/h"]
[null,"EQUIPE 9",null,"15:54:32","07:31:22",null,null,null,null,null,null,null,null,null,null,null,null,null,null,"Analyse du parcours"]
[null,null,null,{"$f":"CONCATENATE(D63,\"bis\")","v":"6ROUGEbis"},{"$f":"E61-D61","v":-0.34942129629629626},null,{"$f":"G61-E61","v":-0.31344907407407407},null,null,{"$f":"J61-G61","v":"00:00:00"},null,null,null,{"$f":"N61-J61","v":"00:00:00"},null,"Temps de course",{"$f":"SUMIF(E62:N62,\">0\",E62:N62)","v":"00:00:00"},{"$f":"ABS((HOUR(Q62)*3600+MINUTE(Q62)*60+SECOND(Q62)))","v":0}]
[null,null,null,{"$f":"$H$2","v":"6ROUGE"},{"$f":"IFERROR(SQRT(POWER((VLOOKUP($C$5,DEBUT!$D$5:$J$110,6,FALSE)-VLOOKUP(E65,DEBUT!$D$5:$J$110,6,FALSE)),2)+POWER((VLOOKUP($C$5,DEBUT!$D$5:$J$110,7,FALSE)-VLOOKUP(E65,DEBUT!$D$5:$J$110,7,FALSE)),2))/CARTE!$O$9,0)","v":177.2924730824831},{"$f":"IFERROR(SQRT(POWER((VLOOKUP($C$5,DEBUT!$D$5:$J$110,6,FALSE)-VLOOKUP(F65,DEBUT!$D$5:$J$110,6,FALSE)),2)+POWER((VLOOKUP($C$5,DEBUT!$D$5:$J$110,7,FALSE)-VLOOKUP(F65,DEBUT!$D$5:$J$110,7,FALSE)),2))/CARTE!$O$9,0)","v":315.29574700663397},{"$f":"IFERROR(SQRT(POWER((VLOOKUP($C$5,DEBUT!$D$5:$J$110,6,FALSE)-VLOOKUP(G65,DEBUT!$D$5:$J$110,6,FALSE)),2)+POWER((VLOOKUP($C$5,DEBUT!$D$5:$J$110,7,FALSE)-VLOOKUP(G65,DEBUT!$D$5:$J$110,7,FALSE)),2))/CARTE!$O$9,0)","v":292.36811846754603},{"$f":"IFERROR(SQRT(POWER((VLOOKUP($C$5,DEBUT!$D$5:$J$110,6,FALSE)-VLOOKUP(H65,DEBUT!$D$5:$J$110,6,FALSE)),2)+POWER((VLOOKUP($C$5,DEBUT!$D$5:$J$110,7,FALSE)-VLOOKUP(H65,DEBUT!$D$5:$J$110,7,FALSE)),2))/CARTE!$O$9,0)","v":500.92859639969026},{"$f":"IFERROR(SQRT(POWER((VLOOKUP(H61,DEBUT!$D$5:$J$110,6,FALSE)-VLOOKUP(I65,DEBUT!$D$5:$J$110,6,FALSE)),2)+POWER((VLOOKUP(H61,DEBUT!$D$5:$J$110,7,FALSE)-VLOOKUP(I65,DEBUT!$D$5:$J$110,7,FALSE)),2))/CARTE!$O$9,0)","v":1575.7916139459737},{"$f":"IFERROR(SQRT(POWER((VLOOKUP(I61,DEBUT!$D$5:$J$110,6,FALSE)-VLOOKUP(J65,DEBUT!$D$5:$J$110,6,FALSE)),2)+POWER((VLOOKUP(I61,DEBUT!$D$5:$J$110,7,FALSE)-VLOOKUP(J65,DEBUT!$D$5:$J$110,7,FALSE)),2))/CARTE!$O$9,0)","v":1306.1159848841933},{"$f":"IFERROR(SQRT(POWER((VLOOKUP($C$5,DEBUT!$D$5:$J$110,6,FALSE)-VLOOKUP(K65,DEBUT!$D$5:$J$110,6,FALSE)),2)+POWER((VLOOKUP($C$5,DEBUT!$D$5:$J$110,7,FALSE)-VLOOKUP(K65,DEBUT!$D$5:$J$110,7,FALSE)),2))/CARTE!$O$9,0)","v":0},{"$f":"IFERROR(SQRT(POWER((VLOOKUP(K61,DEBUT!$D$5:$J$110,6,FALSE)-VLOOKUP(L65,DEBUT!$D$5:$J$110,6,FALSE)),2)+POWER((VLOOKUP(K61,DEBUT!$D$5:$J$110,7,FALSE)-VLOOKUP(L65,DEBUT!$D$5:$J$110,7,FALSE)),2))/CARTE!$O$9,0)","v":0},{"$f":"IFERROR(SQRT(POWER((VLOOKUP(L61,DEBUT!$D$5:$J$110,6,FALSE)-VLOOKUP(M65,DEBUT!$D$5:$J$110,6,FALSE)),2)+POWER((VLOOKUP(L61,DEBUT!$D$5:$J$110,7,FALSE)-VLOOKUP(M65,DEBUT!$D$5:$J$110,7,FALSE)),2))/CARTE!$O$9,0)","v":0},{"$f":"IFERROR(SQRT(POWER((VLOOKUP(M61,DEBUT!$D$5:$J$110,6,FALSE)-VLOOKUP(N65,DEBUT!$D$5:$J$110,6,FALSE)),2)+POWER((VLOOKUP(M61,DEBUT!$D$5:$J$110,7,FALSE)-VLOOKUP(N65,DEBUT!$D$5:$J$110,7,FALSE)),2))/CARTE!$O$9,0)","v":0},"m","Distance",{"$f":"SUM(E63:N63)","v":4167.7925337865208},"m"]
[null,null,null,"Balises prévues",{"$f":"IF(ISTEXT($D63),HLOOKUP($D63,DEBUT!$O$3:$XX$100,3,FALSE),\"\")","v":"A"},{"$f":"IF(ISTEXT($D63),HLOOKUP($D63,DEBUT!$O$3:$XX$100,4,FALSE),\"\")","v":"B"},{"$f":"IF(ISTEXT($D63),HLOOKUP($D63,DEBUT!$O$3:$XX$100,5,FALSE),\"\")","v":"C"},{"$f":"IF(ISTEXT($D63),HLOOKUP($D63,DEBUT!$O$3:$XX$100,6,FALSE),\"\")","v":"D"},{"$f":"IF(ISTEXT($D63),HLOOKUP($D63,DEBUT!$O$3:$XX$100,7,FALSE),\"\")","v":"E"},{"$f":"IF(ISTEXT($D63),HLOOKUP($D63,DEBUT!$O$3:$XX$100,8,FALSE),\"\")","v":"F"},{"$f":"IF(ISTEXT($D63),HLOOKUP($D63,DEBUT!$O$3:$XX$100,9,FALSE),\"\")","v":0},{"$f":"IF(ISTEXT($D63),HLOOKUP($D63,DEBUT!$O$3:$XX$100,10,FALSE),\"\")","v":0},{"$f":"IF(ISTEXT($D63),HLOOKUP($D63,DEBUT!$O$3:$XX$100,11,FALSE),\"\")","v":0},{"$f":"IF(ISTEXT($D63),HLOOKUP($D63,DEBUT!$O$3:$XX$100,12,FALSE),\"\")","v":0},null,"Nombre balises prévues",{"$f":"SUMPRODUCT(N(ISTEXT(E64:N64)))","v":6},"prévues"]
[null,null,null,"Validé",{"$f":"IF($D65=DEBUT!$L$5,E66,\"\")","v":7},{"$f":"IF($D65=DEBUT!$L$5,F66,\"\")","v":10},{"$f":"IF($D65=DEBUT!$L$5,G66,\"\")","v":11},{"$f":"IF($D65=DEBUT!$L$5,H66,\"\")","v":1},{"$f":"IF($D65=DEBUT!$L$5,I66,\"\")","v":76},{"$f":"IF($D65=DEBUT!$L$5,J66,\"\")","v":46},{"$f":"IF($D65=DEBUT!$L$5,K66,\"\")","v":""},{"$f":"IF($D65=DEBUT!$L$5,L66,\"\")","v":""},{"$f":"IF($D65=DEBUT!$L$5,M66,\"\")","v":""},{"$f":"IF($D65=DEBUT!$L$5,N66,\"\")","v":""},null,"Nombre balises trouvées",{"$f":"SUMPRODUCT(N(ISNUMBER(E65:N65)))","v":6},{"$f":"IF(Q65>1,\"trouvées\",\"trouvée\")","v":"trouvées"}]
[null,null,null,"Balises CM",{"$f":"IFERROR(INDEX(baliseCM,MATCH(E64,lettre,0),MATCH($D62,parcours,0)),\"\")","v":7},{"$f":"IFERROR(INDEX(baliseCM,MATCH(F64,lettre,0),MATCH($D62,parcours,0)),\"\")","v":10},11,1,76,46,"","","",""]
[null,null,null,"Vitesse",{"$f":"(E63/ABS((HOUR(E62)*3600+MINUTE(E62)*60+SECOND(E62))))*3.6","v":{"$error":"#NUM!"}},null,{"$f":"(G63/ABS((HOUR(G62)*3600+MINUTE(G62)*60+SECOND(G62))))*3.6","v":{"$error":"#NUM!"}},null,null,{"$f":"(J63/ABS((HOUR(J62)*3600+MINUTE(J62)*60+SECOND(J62))))*3.6","v":{"$error":"#DIV/0!"}},null,null,null,{"$f":"(N63/ABS((HOUR(N62)*3600+MINUTE(N62)*60+SECOND(N62))))*3.6","v":{"$error":"#DIV/0!"}},"Km/h","Vitesse moyenne",{"$f":"Q63/R62*3.6","v":{"$error":"#DIV/0!"}},"km/h"]
[null,"EQUIPE 10",null,"15:54:33","07:32:11",null,null,null,null,null,null,null,null,null,null,null,null,null,null,"Analyse du parcours"]
[null,null,null,{"$f":"CONCATENATE(D70,\"bis\")","v":"6ROUGEbis"},{"$f":"E68-D68","v":-0.34886574074074067},null,{"$f":"G68-E68","v":-0.3140162037037037},null,null,{"$f":"J68-G68","v":"00:00:00"},null,null,null,{"$f":"N68-J68","v":"00:00:00"},null,"Temps de course",{"$f":"SUMIF(E69:N69,\">0\",E69:N69)","v":"00:00:00"},{"$f":"ABS((HOUR(Q69)*3600+MINUTE(Q69)*60+SECOND(Q69)))","v":0}]
[null,null,null,{"$f":"$H$2","v":"6ROUGE"},{"$f":"IFERROR(SQRT(POWER((VLOOKUP($C$5,DEBUT!$D$5:$J$110,6,FALSE)-VLOOKUP(E72,DEBUT!$D$5:$J$110,6,FALSE)),2)+POWER((VLOOKUP($C$5,DEBUT!$D$5:$J$110,7,FALSE)-VLOOKUP(E72,DEBUT!$D$5:$J$110,7,FALSE)),2))/CARTE!$O$9,0)","v":177.2924730824831},{"$f":"IFERROR(SQRT(POWER((VLOOKUP($C$5,DEBUT!$D$5:$J$110,6,FALSE)-VLOOKUP(F72,DEBUT!$D$5:$J$110,6,FALSE)),2)+POWER((VLOOKUP($C$5,DEBUT!$D$5:$J$110,7,FALSE)-VLOOKUP(F72,DEBUT!$D$5:$J$110,7,FALSE)),2))/CARTE!$O$9,0)","v":315.29574700663397},{"$f":"IFERROR(SQRT(POWER((VLOOKUP($C$5,DEBUT!$D$5:$J$110,6,FALSE)-VLOOKUP(G72,DEBUT!$D$5:$J$110,6,FALSE)),2)+POWER((VLOOKUP($C$5,DEBUT!$D$5:$J$110,7,FALSE)-VLOOKUP(G72,DEBUT!$D$5:$J$110,7,FALSE)),2))/CARTE!$O$9,0)","v":292.36811846754603},{"$f":"IFERROR(SQRT(POWER((VLOOKUP($C$5,DEBUT!$D$5:$J$110,6,FALSE)-VLOOKUP(H72,DEBUT!$D$5:$J$110,6,FALSE)),2)+POWER((VLOOKUP($C$5,DEBUT!$D$5:$J$110,7,FALSE)-VLOOKUP(H72,DEBUT!$D$5:$J$110,7,FALSE)),2))/CARTE!$O$9,0)","v":500.92859639969026},{"$f":"IFERROR(SQRT(POWER((VLOOKUP(H68,DEBUT!$D$5:$J$110,6,FALSE)-VLOOKUP(I72,DEBUT!$D$5:$J$110,6,FALSE)),2)+POWER((VLOOKUP(H68,DEBUT!$D$5:$J$110,7,FALSE)-VLOOKUP(I72,DEBUT!$D$5:$J$110,7,FALSE)),2))/CARTE!$O$9,0)","v":1575.7916139459737},{"$f":"IFERROR(SQRT(POWER((VLOOKUP(I68,DEBUT!$D$5:$J$110,6,FALSE)-VLOOKUP(J72,DEBUT!$D$5:$J$110,6,FALSE)),2)+POWER((VLOOKUP(I68,DEBUT!$D$5:$J$110,7,FALSE)-VLOOKUP(J72,DEBUT!$D$5:$J$110,7,FALSE)),2))/CARTE!$O$9,0)","v":1306.1159848841933},{"$f":"IFERROR(SQRT(POWER((VLOOKUP($C$5,DEBUT!$D$5:$J$110,6,FALSE)-VLOOKUP(K72,DEBUT!$D$5:$J$110,6,FALSE)),2)+POWER((VLOOKUP($C$5,DEBUT!$D$5:$J$110,7,FALSE)-VLOOKUP(K72,DEBUT!$D$5:$J$110,7,FALSE)),2))/CARTE!$O$9,0)","v":0},{"$f":"IFERROR(SQRT(POWER((VLOOKUP(K68,DEBUT!$D$5:$J$110,6,FALSE)-VLOOKUP(L72,DEBUT!$D$5:$J$110,6,FALSE)),2)+POWER((VLOOKUP(K68,DEBUT!$D$5:$J$110,7,FALSE)-VLOOKUP(L72,DEBUT!$D$5:$J$110,7,FALSE)),2))/CARTE!$O$9,0)","v":0},{"$f":"IFERROR(SQRT(POWER((VLOOKUP(L68,DEBUT!$D$5:$J$110,6,FALSE)-VLOOKUP(M72,DEBUT!$D$5:$J$110,6,FALSE)),2)+POWER((VLOOKUP(L68,DEBUT!$D$5:$J$110,7,FALSE)-VLOOKUP(M72,DEBUT!$D$5:$J$110,7,FALSE)),2))/CARTE!$O$9,0)","v":0},{"$f":"IFERROR(SQRT(POWER((VLOOKUP(M68,DEBUT!$D$5:$J$110,6,FALSE)-VLOOKUP(N72,DEBUT!$D$5:$J$110,6,FALSE)),2)+POWER((VLOOKUP(M68,DEBUT!$D$5:$J$110,7,FALSE)-VLOOKUP(N72,DEBUT!$D$5:$J$110,7,FALSE)),2))/CARTE!$O$9,0)","v":0},"m","Distance",{"$f":"SUM(E70:N70)","v":4167.7925337865208},"m"]
[null,null,null,"Balises prévues",{"$f":"IF(ISTEXT($D70),HLOOKUP($D70,DEBUT!$O$3:$XX$100,3,FALSE),\"\")","v":"A"},{"$f":"IF(ISTEXT($D70),HLOOKUP($D70,DEBUT!$O$3:$XX$100,4,FALSE),\"\")","v":"B"},{"$f":"IF(ISTEXT($D70),HLOOKUP($D70,DEBUT!$O$3:$XX$100,5,FALSE),\"\")","v":"C"},{"$f":"IF(ISTEXT($D70),HLOOKUP($D70,DEBUT!$O$3:$XX$100,6,FALSE),\"\")","v":"D"},{"$f":"IF(ISTEXT($D70),HLOOKUP($D70,DEBUT!$O$3:$XX$100,7,FALSE),\"\")","v":"E"},{"$f":"IF(ISTEXT($D70),HLOOKUP($D70,DEBUT!$O$3:$XX$100,8,FALSE),\"\")","v":"F"},{"$f":"IF(ISTEXT($D70),HLOOKUP($D70,DEBUT!$O$3:$XX$100,9,FALSE),\"\")","v":0},{"$f":"IF(ISTEXT($D70),HLOOKUP($D70,DEBUT!$O$3:$XX$100,10,FALSE),\"\")","v":0},{"$f":"IF(ISTEXT($D70),HLOOKUP($D70,DEBUT!$O$3:$XX$100,11,FALSE),\"\")","v":0},{"$f":"IF(ISTEXT($D70),HLOOKUP($D70,DEBUT!$O$3:$XX$100,12,FALSE),\"\")","v":0},null,"Nombre balises prévues",{"$f":"SUMPRODUCT(N(ISTEXT(E71:N71)))","v":6},"prévues"]
[null,null,null,"Validé",{"$f":"IF($D72=DEBUT!$L$5,E73,\"\")","v":7},{"$f":"IF($D72=DEBUT!$L$5,F73,\"\")","v":10},{"$f":"IF($D72=DEBUT!$L$5,G73,\"\")","v":11},{"$f":"IF($D72=DEBUT!$L$5,H73,\"\")","v":1},{"$f":"IF($D72=DEBUT!$L$5,I73,\"\")","v":76},{"$f":"IF($D72=DEBUT!$L$5,J73,\"\")","v":46},{"$f":"IF($D72=DEBUT!$L$5,K73,\"\")","v":""},{"$f":"IF($D72=DEBUT!$L$5,L73,\"\")","v":""},{"$f":"IF($D72=DEBUT!$L$5,M73,\"\")","v":""},{"$f":"IF($D72=DEBUT!$L$5,N73,\"\")","v":""},null,"Nombre balises trouvées",{"$f":"SUMPRODUCT(N(ISNUMBER(E72:N72)))","v":6},{"$f":"IF(Q72>1,\"trouvées\",\"trouvée\")","v":"trouvées"}]
[null,null,null,"Balises CM",{"$f":"IFERROR(INDEX(baliseCM,MATCH(E71,lettre,0),MATCH($D69,parcours,0)),\"\")","v":7},{"$f":"IFERROR(INDEX(baliseCM,MATCH(F71,lettre,0),MATCH($D69,parcours,0)),\"\")","v":10},11,1,76,46,"","","",""]
[null,null,null,"Vitesse",{"$f":"(E70/ABS((HOUR(E69)*3600+MINUTE(E69)*60+SECOND(E69))))*3.6","v":{"$error":"#NUM!"}},null,{"$f":"(G70/ABS((HOUR(G69)*3600+MINUTE(G69)*60+SECOND(G69))))*3.6","v":{"$error":"#NUM!"}},null,null,{"$f":"(J70/ABS((HOUR(J69)*3600+MINUTE(J69)*60+SECOND(J69))))*3.6","v":{"$error":"#DIV/0!"}},null,null,null,{"$f":"(N70/ABS((HOUR(N69)*3600+MINUTE(N69)*60+SECOND(N69))))*3.6","v":{"$error":"#DIV/0!"}},"Km/h","Vitesse moyenne",{"$f":"Q70/R69*3.6","v":{"$error":"#DIV/0!"}},"km/h"]
[null,"EQUIPE 11",null,"15:54:33","07:30:41",null,null,null,null,null,null,null,null,null,null,null,null,null,null,"Analyse du parcours"]
[null,null,null,{"$f":"CONCATENATE(D77,\"bis\")","v":"6ROUGEbis"},{"$f":"E75-D75","v":-0.34990740740740733},null,{"$f":"G75-E75","v":-0.31297453703703704},null,null,{"$f":"J75-G75","v":"00:00:00"},null,null,null,{"$f":"N75-J75","v":"00:00:00"},null,"Temps de course",{"$f":"SUMIF(E76:N76,\">0\",E76:N76)","v":"00:00:00"},{"$f":"ABS((HOUR(Q76)*3600+MINUTE(Q76)*60+SECOND(Q76)))","v":0}]
[null,null,null,{"$f":"$H$2","v":"6ROUGE"},{"$f":"IFERROR(SQRT(POWER((VLOOKUP($C$5,DEBUT!$D$5:$J$110,6,FALSE)-VLOOKUP(E79,DEBUT!$D$5:$J$110,6,FALSE)),2)+POWER((VLOOKUP($C$5,DEBUT!$D$5:$J$110,7,FALSE)-VLOOKUP(E79,DEBUT!$D$5:$J$110,7,FALSE)),2))/CARTE!$O$9,0)","v":177.2924730824831},{"$f":"IFERROR(SQRT(POWER((VLOOKUP($C$5,DEBUT!$D$5:$J$110,6,FALSE)-VLOOKUP(F79,DEBUT!$D$5:$J$110,6,FALSE)),2)+POWER((VLOOKUP($C$5,DEBUT!$D$5:$J$110,7,FALSE)-VLOOKUP(F79,DEBUT!$D$5:$J$110,7,FALSE)),2))/CARTE!$O$9,0)","v":315.29574700663397},{"$f":"IFERROR(SQRT(POWER((VLOOKUP($C$5,DEBUT!$D$5:$J$110,6,FALSE)-VLOOKUP(G79,DEBUT!$D$5:$J$110,6,FALSE)),2)+POWER((VLOOKUP($C$5,DEBUT!$D$5:$J$110,7,FALSE)-VLOOKUP(G79,DEBUT!$D$5:$J$110,7,FALSE)),2))/CARTE!$O$9,0)","v":292.36811846754603},{"$f":"IFERROR(SQRT(POWER((VLOOKUP($C$5,DEBUT!$D$5:$J$110,6,FALSE)-VLOOKUP(H79,DEBUT!$D$5:$J$110,6,FALSE)),2)+POWER((VLOOKUP($C$5,DEBUT!$D$5:$J$110,7,FALSE)-VLOOKUP(H79,DEBUT!$D$5:$J$110,7,FALSE)),2))/CARTE!$O$9,0)","v":500.92859639969026},{"$f":"IFERROR(SQRT(POWER((VLOOKUP(H75,DEBUT!$D$5:$J$110,6,FALSE)-VLOOKUP(I79,DEBUT!$D$5:$J$110,6,FALSE)),2)+POWER((VLOOKUP(H75,DEBUT!$D$5:$J$110,7,FALSE)-VLOOKUP(I79,DEBUT!$D$5:$J$110,7,FALSE)),2))/CARTE!$O$9,0)","v":1575.7916139459737},{"$f":"IFERROR(SQRT(POWER((VLOOKUP(I75,DEBUT!$D$5:$J$110,6,FALSE)-VLOOKUP(J79,DEBUT!$D$5:$J$110,6,FALSE)),2)+POWER((VLOOKUP(I75,DEBUT!$D$5:$J$110,7,FALSE)-VLOOKUP(J79,DEBUT!$D$5:$J$110,7,FALSE)),2))/CARTE!$O$9,0)","v":1306.1159848841933},{"$f":"IFERROR(SQRT(POWER((VLOOKUP($C$5,DEBUT!$D$5:$J$110,6,FALSE)-VLOOKUP(K79,DEBUT!$D$5:$J$110,6,FALSE)),2)+POWER((VLOOKUP($C$5,DEBUT!$D$5:$J$110,7,FALSE)-VLOOKUP(K79,DEBUT!$D$5:$J$110,7,FALSE)),2))/CARTE!$O$9,0)","v":0},{"$f":"IFERROR(SQRT(POWER((VLOOKUP(K75,DEBUT!$D$5:$J$110,6,FALSE)-VLOOKUP(L79,DEBUT!$D$5:$J$110,6,FALSE)),2)+POWER((VLOOKUP(K75,DEBUT!$D$5:$J$110,7,FALSE)-VLOOKUP(L79,DEBUT!$D$5:$J$110,7,FALSE)),2))/CARTE!$O$9,0)","v":0},{"$f":"IFERROR(SQRT(POWER((VLOOKUP(L75,DEBUT!$D$5:$J$110,6,FALSE)-VLOOKUP(M79,DEBUT!$D$5:$J$110,6,FALSE)),2)+POWER((VLOOKUP(L75,DEBUT!$D$5:$J$110,7,FALSE)-VLOOKUP(M79,DEBUT!$D$5:$J$110,7,FALSE)),2))/CARTE!$O$9,0)","v":0},{"$f":"IFERROR(SQRT(POWER((VLOOKUP(M75,DEBUT!$D$5:$J$110,6,FALSE)-VLOOKUP(N79,DEBUT!$D$5:$J$110,6,FALSE)),2)+POWER((VLOOKUP(M75,DEBUT!$D$5:$J$110,7,FALSE)-VLOOKUP(N79,DEBUT!$D$5:$J$110,7,FALSE)),2))/CARTE!$O$9,0)","v":0},"m","Distance",{"$f":"SUM(E77:N77)","v":4167.7925337865208},"m"]
[null,null,null,"Balises prévues",{"$f":"IF(ISTEXT($D77),HLOOKUP($D77,DEBUT!$O$3:$XX$100,3,FALSE),\"\")","v":"A"},{"$f":"IF(ISTEXT($D77),HLOOKUP($D77,DEBUT!$O$3:$XX$100,4,FALSE),\"\")","v":"B"},{"$f":"IF(ISTEXT($D77),HLOOKUP($D77,DEBUT!$O$3:$XX$100,5,FALSE),\"\")","v":"C"},{"$f":"IF(ISTEXT($D77),HLOOKUP($D77,DEBUT!$O$3:$XX$100,6,FALSE),\"\")","v":"D"},{"$f":"IF(ISTEXT($D77),HLOOKUP($D77,DEBUT!$O$3:$XX$100,7,FALSE),\"\")","v":"E"},{"$f":"IF(ISTEXT($D77),HLOOKUP($D77,DEBUT!$O$3:$XX$100,8,FALSE),\"\")","v":"F"},{"$f":"IF(ISTEXT($D77),HLOOKUP($D77,DEBUT!$O$3:$XX$100,9,FALSE),\"\")","v":0},{"$f":"IF(ISTEXT($D77),HLOOKUP($D77,DEBUT!$O$3:$XX$100,10,FALSE),\"\")","v":0},{"$f":"IF(ISTEXT($D77),HLOOKUP($D77,DEBUT!$O$3:$XX$100,11,FALSE),\"\")","v":0},{"$f":"IF(ISTEXT($D77),HLOOKUP($D77,DEBUT!$O$3:$XX$100,12,FALSE),\"\")","v":0},null,"Nombre balises prévues",{"$f":"SUMPRODUCT(N(ISTEXT(E78:N78)))","v":6},"prévues"]
[null,null,null,"Validé",{"$f":"IF($D79=DEBUT!$L$5,E80,\"\")","v":7},{"$f":"IF($D79=DEBUT!$L$5,F80,\"\")","v":10},{"$f":"IF($D79=DEBUT!$L$5,G80,\"\")","v":11},{"$f":"IF($D79=DEBUT!$L$5,H80,\"\")","v":1},{"$f":"IF($D79=DEBUT!$L$5,I80,\"\")","v":76},{"$f":"IF($D79=DEBUT!$L$5,J80,\"\")","v":46},{"$f":"IF($D79=DEBUT!$L$5,K80,\"\")","v":""},{"$f":"IF($D79=DEBUT!$L$5,L80,\"\")","v":""},{"$f":"IF($D79=DEBUT!$L$5,M80,\"\")","v":""},{"$f":"IF($D79=DEBUT!$L$5,N80,\"\")","v":""},null,"Nombre balises trouvées",{"$f":"SUMPRODUCT(N(ISNUMBER(E79:N79)))","v":6},{"$f":"IF(Q79>1,\"trouvées\",\"trouvée\")","v":"trouvées"}]
[null,null,null,"Balises CM",{"$f":"IFERROR(INDEX(baliseCM,MATCH(E78,lettre,0),MATCH($D76,parcours,0)),\"\")","v":7},{"$f":"IFERROR(INDEX(baliseCM,MATCH(F78,lettre,0),MATCH($D76,parcours,0)),\"\")","v":10},11,1,76,46,"","","",""]
[null,null,null,"Vitesse",{"$f":"(E77/ABS((HOUR(E76)*3600+MINUTE(E76)*60+SECOND(E76))))*3.6","v":{"$error":"#NUM!"}},null,{"$f":"(G77/ABS((HOUR(G76)*3600+MINUTE(G76)*60+SECOND(G76))))*3.6","v":{"$error":"#NUM!"}},null,null,{"$f":"(J77/ABS((HOUR(J76)*3600+MINUTE(J76)*60+SECOND(J76))))*3.6","v":{"$error":"#DIV/0!"}},null,null,null,{"$f":"(N77/ABS((HOUR(N76)*3600+MINUTE(N76)*60+SECOND(N76))))*3.6","v":{"$error":"#DIV/0!"}},"Km/h","Vitesse moyenne",{"$f":"Q77/R76*3.6","v":{"$error":"#DIV/0!"}},"km/h"]
[null,"EQUIPE 12",null,"15:54:34","07:30:49",null,null,null,null,null,null,null,null,null,null,null,null,null,null,"Analyse du parcours"]
[null,null,null,{"$f":"CONCATENATE(D84,\"bis\")","v":"6ROUGEbis"},{"$f":"E82-D82","v":-0.3498263888888889},null,{"$f":"G82-E82","v":-0.31306712962962963},null,null,{"$f":"J82-G82","v":"00:00:00"},null,null,null,{"$f":"N82-J82","v":"00:00:00"},null,"Temps de course",{"$f":"SUMIF(E83:N83,\">0\",E83:N83)","v":"00:00:00"},{"$f":"ABS((HOUR(Q83)*3600+MINUTE(Q83)*60+SECOND(Q83)))","v":0}]
[null,null,null,{"$f":"$H$2","v":"6ROUGE"},{"$f":"IFERROR(SQRT(POWER((VLOOKUP($C$5,DEBUT!$D$5:$J$110,6,FALSE)-VLOOKUP(E86,DEBUT!$D$5:$J$110,6,FALSE)),2)+POWER((VLOOKUP($C$5,DEBUT!$D$5:$J$110,7,FALSE)-VLOOKUP(E86,DEBUT!$D$5:$J$110,7,FALSE)),2))/CARTE!$O$9,0)","v":177.2924730824831},{"$f":"IFERROR(SQRT(POWER((VLOOKUP($C$5,DEBUT!$D$5:$J$110,6,FALSE)-VLOOKUP(F86,DEBUT!$D$5:$J$110,6,FALSE)),2)+POWER((VLOOKUP($C$5,DEBUT!$D$5:$J$110,7,FALSE)-VLOOKUP(F86,DEBUT!$D$5:$J$110,7,FALSE)),2))/CARTE!$O$9,0)","v":315.29574700663397},{"$f":"IFERROR(SQRT(POWER((VLOOKUP($C$5,DEBUT!$D$5:$J$110,6,FALSE)-VLOOKUP(G86,DEBUT!$D$5:$J$110,6,FALSE)),2)+POWER((VLOOKUP($C$5,DEBUT!$D$5:$J$110,7,FALSE)-VLOOKUP(G86,DEBUT!$D$5:$J$110,7,FALSE)),2))/CARTE!$O$9,0)","v":292.36811846754603},{"$f":"IFERROR(SQRT(POWER((VLOOKUP($C$5,DEBUT!$D$5:$J$110,6,FALSE)-VLOOKUP(H86,DEBUT!$D$5:$J$110,6,FALSE)),2)+POWER((VLOOKUP($C$5,DEBUT!$D$5:$J$110,7,FALSE)-VLOOKUP(H86,DEBUT!$D$5:$J$110,7,FALSE)),2))/CARTE!$O$9,0)","v":500.92859639969026},{"$f":"IFERROR(SQRT(POWER((VLOOKUP(H82,DEBUT!$D$5:$J$110,6,FALSE)-VLOOKUP(I86,DEBUT!$D$5:$J$110,6,FALSE)),2)+POWER((VLOOKUP(H82,DEBUT!$D$5:$J$110,7,FALSE)-VLOOKUP(I86,DEBUT!$D$5:$J$110,7,FALSE)),2))/CARTE!$O$9,0)","v":1575.7916139459737},{"$f":"IFERROR(SQRT(POWER((VLOOKUP(I82,DEBUT!$D$5:$J$110,6,FALSE)-VLOOKUP(J86,DEBUT!$D$5:$J$110,6,FALSE)),2)+POWER((VLOOKUP(I82,DEBUT!$D$5:$J$110,7,FALSE)-VLOOKUP(J86,DEBUT!$D$5:$J$110,7,FALSE)),2))/CARTE!$O$9,0)","v":1306.1159848841933},{"$f":"IFERROR(SQRT(POWER((VLOOKUP($C$5,DEBUT!$D$5:$J$110,6,FALSE)-VLOOKUP(K86,DEBUT!$D$5:$J$110,6,FALSE)),2)+POWER((VLOOKUP($C$5,DEBUT!$D$5:$J$110,7,FALSE)-VLOOKUP(K86,DEBUT!$D$5:$J$110,7,FALSE)),2))/CARTE!$O$9,0)","v":0},{"$f":"IFERROR(SQRT(POWER((VLOOKUP(K82,DEBUT!$D$5:$J$110,6,FALSE)-VLOOKUP(L86,DEBUT!$D$5:$J$110,6,FALSE)),2)+POWER((VLOOKUP(K82,DEBUT!$D$5:$J$110,7,FALSE)-VLOOKUP(L86,DEBUT!$D$5:$J$110,7,FALSE)),2))/CARTE!$O$9,0)","v":0},{"$f":"IFERROR(SQRT(POWER((VLOOKUP(L82,DEBUT!$D$5:$J$110,6,FALSE)-VLOOKUP(M86,DEBUT!$D$5:$J$110,6,FALSE)),2)+POWER((VLOOKUP(L82,DEBUT!$D$5:$J$110,7,FALSE)-VLOOKUP(M86,DEBUT!$D$5:$J$110,7,FALSE)),2))/CARTE!$O$9,0)","v":0},{"$f":"IFERROR(SQRT(POWER((VLOOKUP(M82,DEBUT!$D$5:$J$110,6,FALSE)-VLOOKUP(N86,DEBUT!$D$5:$J$110,6,FALSE)),2)+POWER((VLOOKUP(M82,DEBUT!$D$5:$J$110,7,FALSE)-VLOOKUP(N86,DEBUT!$D$5:$J$110,7,FALSE)),2))/CARTE!$O$9,0)","v":0},"m","Distance",{"$f":"SUM(E84:N84)","v":4167.7925337865208},"m"]
[null,null,null,"Balises prévues",{"$f":"IF(ISTEXT($D84),HLOOKUP($D84,DEBUT!$O$3:$XX$100,3,FALSE),\"\")","v":"A"},{"$f":"IF(ISTEXT($D84),HLOOKUP($D84,DEBUT!$O$3:$XX$100,4,FALSE),\"\")","v":"B"},{"$f":"IF(ISTEXT($D84),HLOOKUP($D84,DEBUT!$O$3:$XX$100,5,FALSE),\"\")","v":"C"},{"$f":"IF(ISTEXT($D84),HLOOKUP($D84,DEBUT!$O$3:$XX$100,6,FALSE),\"\")","v":"D"},{"$f":"IF(ISTEXT($D84),HLOOKUP($D84,DEBUT!$O$3:$XX$100,7,FALSE),\"\")","v":"E"},{"$f":"IF(ISTEXT($D84),HLOOKUP($D84,DEBUT!$O$3:$XX$100,8,FALSE),\"\")","v":"F"},{"$f":"IF(ISTEXT($D84),HLOOKUP($D84,DEBUT!$O$3:$XX$100,9,FALSE),\"\")","v":0},{"$f":"IF(ISTEXT($D84),HLOOKUP($D84,DEBUT!$O$3:$XX$100,10,FALSE),\"\")","v":0},{"$f":"IF(ISTEXT($D84),HLOOKUP($D84,DEBUT!$O$3:$XX$100,11,FALSE),\"\")","v":0},{"$f":"IF(ISTEXT($D84),HLOOKUP($D84,DEBUT!$O$3:$XX$100,12,FALSE),\"\")","v":0},null,"Nombre balises prévues",{"$f":"SUMPRODUCT(N(ISTEXT(E85:N85)))","v":6},"prévues"]
[null,null,null,"Validé",{"$f":"IF($D86=DEBUT!$L$5,E87,\"\")","v":7},{"$f":"IF($D86=DEBUT!$L$5,F87,\"\")","v":10},{"$f":"IF($D86=DEBUT!$L$5,G87,\"\")","v":11},{"$f":"IF($D86=DEBUT!$L$5,H87,\"\")","v":1},{"$f":"IF($D86=DEBUT!$L$5,I87,\"\")","v":76},{"$f":"IF($D86=DEBUT!$L$5,J87,\"\")","v":46},{"$f":"IF($D86=DEBUT!$L$5,K87,\"\")","v":""},{"$f":"IF($D86=DEBUT!$L$5,L87,\"\")","v":""},{"$f":"IF($D86=DEBUT!$L$5,M87,\"\")","v":""},{"$f":"IF($D86=DEBUT!$L$5,N87,\"\")","v":""},null,"Nombre balises trouvées",{"$f":"SUMPRODUCT(N(ISNUMBER(E86:N86)))","v":6},{"$f":"IF(Q86>1,\"trouvées\",\"trouvée\")","v":"trouvées"}]
[null,null,null,"Balises CM",{"$f":"IFERROR(INDEX(baliseCM,MATCH(E85,lettre,0),MATCH($D83,parcours,0)),\"\")","v":7},{"$f":"IFERROR(INDEX(baliseCM,MATCH(F85,lettre,0),MATCH($D83,parcours,0)),\"\")","v":10},11,1,76,46,"","","",""]
[null,null,null,"Vitesse",{"$f":"(E84/ABS((HOUR(E83)*3600+MINUTE(E83)*60+SECOND(E83))))*3.6","v":{"$error":"#NUM!"}},null,{"$f":"(G84/ABS((HOUR(G83)*3600+MINUTE(G83)*60+SECOND(G83))))*3.6","v":{"$error":"#NUM!"}},null,null,{"$f":"(J84/ABS((HOUR(J83)*3600+MINUTE(J83)*60+SECOND(J83))))*3.6","v":{"$error":"#DIV/0!"}},null,null,null,{"$f":"(N84/ABS((HOUR(N83)*3600+MINUTE(N83)*60+SECOND(N83))))*3.6","v":{"$error":"#DIV/0!"}},"Km/h","Vitesse moyenne",{"$f":"Q84/R83*3.6","v":{"$error":"#DIV/0!"}},"km/h"]

{"sheet":"PAPILLON","index":8,"n_rows":88,"n_cols":39,"rows_kept":88,"cut":false,"hidden":false,"merged":[[68,19,72,19],[75,19,79,19],[82,19,86,19],[26,19,30,19],[33,19,37,19],[40,19,44,19],[47,19,51,19],[54,19,58,19],[61,19,65,19],[19,19,23,19],[0,7,0,9],[1,4,1,5],[1,7,1,9],[5,19,9,19],[12,19,16,19]]}
[null,null,null,null,null,null,null,{"$f":"CONCATENATE(H2,\"bis\")","v":"alchimistebis"},null,null,null,null,"Temps limite"]
[null,"STAGE",null,null,"23:08:42",null,null,"alchimiste",null,null,null,null,30.024305555555557,"min"]
[null,null,null,null,null,null,null,{"$f":"IF(ISTEXT($H2),HLOOKUP($H2,DEBUT!$O$3:$XX$100,6,FALSE),\"\")","v":"D"},{"$f":"IF(ISTEXT($H2),HLOOKUP($H2,DEBUT!$O$3:$XX$100,7,FALSE),\"\")","v":"E"},{"$f":"IF(ISTEXT($H2),HLOOKUP($H2,DEBUT!$O$3:$XX$100,8,FALSE),\"\")","v":"F"},null,null,null,{"$f":"IF(ISTEXT($H2),HLOOKUP($H2,DEBUT!$O$3:$XX$100,12,FALSE),\"\")","v":0}]
[null,null,null,null,null,null,null,{"$f":"IFERROR(INDEX(baliseCM,MATCH(H3,lettre,0),MATCH($H$1,parcours,0)),\"\")","v":1},76,46,null,null,null,"",null,"PAPILLON","N3"]
[null,"EQUIPE 1","D","12:15:19",null,null,null,null,null,null,null,null,null,null,null,null,null,null,null,"Analyse du parcours",null,null,null,null,null,null,null,null,null,null,null,null,null,null,null,null,null,1,{"$f":"OFFSET(INDEX(eleves,MATCH(AL5,chiffre,0),MATCH($B$2,classes,0)),0,1)","v":"POL"}]
[null,"Alexandre",null,{"$f":"CONCATENATE(D7,\"bis\")","v":"alchimistebis"},null,null,{"$f":"G5-D5","v":-0.51063657407407403},null,null,{"$f":"J5-G5","v":"00:00:00"},{"$f":"K5-J5","v":"00:00:00"},"00:00:00",{"$f":"M5-J5","v":"00:00:00"},null,null,"Temps de course",{"$f":"SUMIF(E6:M6,\">0\",E6:M6)","v":"00:00:00"},{"$f":"ABS((HOUR(Q6)*3600+MINUTE(Q6)*60+SECOND(Q6)))","v":0},null,null,null,null,null,null,null,null,null,null,null,null,null,null,null,null,null,null,null,2,"CARINE"]
[null,null,null,{"$f":"$H$2","v":"alchimiste"},{"$f":"IFERROR(SQRT(POWER((VLOOKUP($C$5,DEBUT!$D$5:$J$110,6,FALSE)-VLOOKUP(E9,DEBUT!$D$5:$J$110,6,FALSE)),2)+POWER((VLOOKUP($C$5,DEBUT!$D$5:$J$110,7,FALSE)-VLOOKUP(E9,DEBUT!$D$5:$J$110,7,FALSE)),2))/CARTE!$O$9,0)","v":177.2924730824831},{"$f":"IFERROR(SQRT(POWER((VLOOKUP(E9,DEBUT!$D$5:$J$110,6,FALSE)-VLOOKUP(F9,DEBUT!$D$5:$J$110,6,FALSE)),2)+POWER((VLOOKUP(E9,DEBUT!$D$5:$J$110,7,FALSE)-VLOOKUP(F9,DEBUT!$D$5:$J$110,7,FALSE)),2))/CARTE!$O$9,0)","v":292.41323207806477},{"$f":"IFERROR(SQRT(POWER((VLOOKUP(F9,DEBUT!$D$5:$J$110,6,FALSE)-VLOOKUP(G9,DEBUT!$D$5:$J$110,6,FALSE)),2)+POWER((VLOOKUP(F9,DEBUT!$D$5:$J$110,7,FALSE)-VLOOKUP(G9,DEBUT!$D$5:$J$110,7,FALSE)),2))/CARTE!$O$9,0)","v":185.45260026215442},{"$f":"IFERROR(SQRT(POWER((VLOOKUP(G9,DEBUT!$D$5:$J$110,6,FALSE)-VLOOKUP(H9,DEBUT!$D$5:$J$110,6,FALSE)),2)+POWER((VLOOKUP(G9,DEBUT!$D$5:$J$110,7,FALSE)-VLOOKUP(H9,DEBUT!$D$5:$J$110,7,FALSE)),2))/CARTE!$O$9,0)","v":388.88158128989608},{"$f":"IFERROR(SQRT(POWER((VLOOKUP(H9,DEBUT!$D$5:$J$110,6,FALSE)-VLOOKUP(I9,DEBUT!$D$5:$J$110,6,FALSE)),2)+POWER((VLOOKUP(H9,DEBUT!$D$5:$J$110,7,FALSE)-VLOOKUP(I9,DEBUT!$D$5:$J$110,7,FALSE)),2))/CARTE!$O$9,0)","v":1321.1931767408294},{"$f":"IFERROR(SQRT(POWER((VLOOKUP(I9,DEBUT!$D$5:$J$110,6,FALSE)-VLOOKUP(J9,DEBUT!$D$5:$J$110,6,FALSE)),2)+POWER((VLOOKUP(I9,DEBUT!$D$5:$J$110,7,FALSE)-VLOOKUP(J9,DEBUT!$D$5:$J$110,7,FALSE)),2))/CARTE!$O$9,0)","v":621.65617723594562},{"$f":"IFERROR(SQRT(POWER((VLOOKUP(J9,DEBUT!$D$5:$J$110,6,FALSE)-VLOOKUP(K9,DEBUT!$D$5:$J$110,6,FALSE)),2)+POWER((VLOOKUP(J9,DEBUT!$D$5:$J$110,7,FALSE)-VLOOKUP(K9,DEBUT!$D$5:$J$110,7,FALSE)),2))/CARTE!$O$9,0)","v":0},{"$f":"IFERROR(SQRT(POWER((VLOOKUP(K9,DEBUT!$D$5:$J$110,6,FALSE)-VLOOKUP(L9,DEBUT!$D$5:$J$110,6,FALSE)),2)+POWER((VLOOKUP(K9,DEBUT!$D$5:$J$110,7,FALSE)-VLOOKUP(L9,DEBUT!$D$5:$J$110,7,FALSE)),2))/CARTE!$O$9,0)","v":0},{"$f":"IFERROR(SQRT(POWER((VLOOKUP(L9,DEBUT!$D$5:$J$110,6,FALSE)-VLOOKUP(M9,DEBUT!$D$5:$J$110,6,FALSE)),2)+POWER((VLOOKUP(L9,DEBUT!$D$5:$J$110,7,FALSE)-VLOOKUP(M9,DEBUT!$D$5:$J$110,7,FALSE)),2))/CARTE!$O$9,0)","v":0},"min","m","Distance",{"$f":"SUM(E7:M7)","v":2986.8892406893729},"m",null,null,null,null,null,null,null,null,null,null,null,null,null,null,null,null,null,null,null,3,"BASTIEN"]
[null,null,null,"Balises prévues",{"$f":"IF(ISTEXT($D7),HLOOKUP($D7,DEBUT!$O$3:$XX$100,3,FALSE),\"\")","v":"A"},{"$f":"IF(ISTEXT($D7),HLOOKUP($D7,DEBUT!$O$3:$XX$100,4,FALSE),\"\")","v":"B"},{"$f":"IF(ISTEXT($D7),HLOOKUP($D7,DEBUT!$O$3:$XX$100,5,FALSE),\"\")","v":"C"},{"$f":"IF(ISTEXT($D7),HLOOKUP($D7,DEBUT!$O$3:$XX$100,6,FALSE),\"\")","v":"D"},{"$f":"IF(ISTEXT($D7),HLOOKUP($D7,DEBUT!$O$3:$XX$100,7,FALSE),\"\")","v":"E"},{"$f":"IF(ISTEXT($D7),HLOOKUP($D7,DEBUT!$O$3:$XX$100,8,FALSE),\"\")","v":"F"},{"$f":"IF(ISTEXT($D7),HLOOKUP($D7,DEBUT!$O$3:$XX$100,9,FALSE),\"\")","v":0},{"$f":"IF(ISTEXT($D7),HLOOKUP($D7,DEBUT!$O$3:$XX$100,10,FALSE),\"\")","v":0},{"$f":"IF(ISTEXT($D7),HLOOKUP($D7,DEBUT!$O$3:$XX$100,11,FALSE),\"\")","v":0},{"$f":"IF(ISTEXT($D7),HLOOKUP($D7,DEBUT!$O$3:$XX$100,12,FALSE),\"\")","v":0},null,"Nombre balises prévues",{"$f":"SUMPRODUCT(N(ISTEXT(E8:M8)))","v":6},"prévues",null,null,null,null,null,null,null,null,null,null,null,null,null,null,null,null,null,null,null,4,"CORALINE"]
[null,null,null,"Validé",{"$f":"IF($D9=DEBUT!$L$5,E10,\"\")","v":7},{"$f":"IF($D9=DEBUT!$L$5,F10,\"\")","v":10},{"$f":"IF($D9=DEBUT!$L$5,G10,\"\")","v":11},{"$f":"IF($D9=DEBUT!$L$5,H10,\"\")","v":1},{"$f":"IF($D9=DEBUT!$L$5,I10,\"\")","v":76},{"$f":"IF($D9=DEBUT!$L$5,J10,\"\")","v":46},{"$f":"IF($D9=DEBUT!$L$5,K10,\"\")","v":""},{"$f":"IF($D9=DEBUT!$L$5,L10,\"\")","v":""},{"$f":"IF($D9=DEBUT!$L$5,M10,\"\")","v":""},null,null,"Nombre balises trouvées",{"$f":"SUMPRODUCT(N(ISNUMBER(E9:M9)))","v":6},{"$f":"IF(Q9>1,\"trouvées\",\"trouvée\")","v":"trouvées"},null,null,null,null,null,null,null,null,null,null,null,null,null,null,null,null,null,null,null,5,"GREGORY"]
[null,null,null,"Balises CM",{"$f":"IFERROR(INDEX(baliseCM,MATCH(E8,lettre,0),MATCH($D6,parcours,0)),\"\")","v":7},{"$f":"IFERROR(INDEX(baliseCM,MATCH(F8,lettre,0),MATCH($D6,parcours,0)),\"\")","v":10},11,1,76,46,"","","","",null,null,null,null,null,null,null,null,null,null,null,null,null,null,null,null,null,null,null,null,null,null,null,6,"THOMAS"]
[null,null,null,"Vitesse",null,null,{"$f":"((E7+F7+G7)/ABS((HOUR(G6)*3600+MINUTE(G6)*60+SECOND(G6))))*3.6","v":{"$error":"#NUM!"}},null,null,{"$f":"((H7+I7+J7)/ABS((HOUR(J6)*3600+MINUTE(J6)*60+SECOND(J6))))*3.6","v":{"$error":"#DIV/0!"}},null,null,{"$f":"((K7+L7+M7)/ABS((HOUR(M6)*3600+MINUTE(M6)*60+SECOND(M6))))*3.6","v":{"$error":"#DIV/0!"}},null,"Km/h","Vitesse moyenne",{"$f":"Q7/R6*3.6","v":{"$error":"#DIV/0!"}},"km/h",null,null,null,null,null,null,null,null,null,null,null,null,null,null,null,null,null,null,null,7,"ALAIN"]
[null,"EQUIPE 2",null,"16:02:12",null,null,null,null,null,null,null,null,null,null,null,null,null,null,null,"Analyse du parcours",null,null,null,null,null,null,null,null,null,null,null,null,null,null,null,null,null,8,"QUENTIN"]
[null,null,null,{"$f":"CONCATENATE(D14,\"bis\")","v":"alchimistebis"},null,null,{"$f":"G12-D12","v":-0.66819444444444442},null,null,{"$f":"J12-G12","v":"00:00:00"},{"$f":"K12-J12","v":"00:00:00"},{"$f":"L12-K12","v":"00:00:00"},{"$f":"M12-J12","v":"00:00:00"},null,null,"Temps de course",{"$f":"SUMIF(E13:M13,\">0\",E13:M13)","v":"00:00:00"},{"$f":"ABS((HOUR(Q13)*3600+MINUTE(Q13)*60+SECOND(Q13)))","v":0},null,null,null,null,null,null,null,null,null,null,null,null,null,null,null,null,null,null,null,9,"BAPTISTE"]
[null,null,null,{"$f":"$H$2","v":"alchimiste"},{"$f":"IFERROR(SQRT(POWER((VLOOKUP($C$5,DEBUT!$D$5:$J$110,6,FALSE)-VLOOKUP(E16,DEBUT!$D$5:$J$110,6,FALSE)),2)+POWER((VLOOKUP($C$5,DEBUT!$D$5:$J$110,7,FALSE)-VLOOKUP(E16,DEBUT!$D$5:$J$110,7,FALSE)),2))/CARTE!$O$9,0)","v":177.2924730824831},{"$f":"IFERROR(SQRT(POWER((VLOOKUP(E16,DEBUT!$D$5:$J$110,6,FALSE)-VLOOKUP(F16,DEBUT!$D$5:$J$110,6,FALSE)),2)+POWER((VLOOKUP(E16,DEBUT!$D$5:$J$110,7,FALSE)-VLOOKUP(F16,DEBUT!$D$5:$J$110,7,FALSE)),2))/CARTE!$O$9,0)","v":292.41323207806477},{"$f":"IFERROR(SQRT(POWER((VLOOKUP(F16,DEBUT!$D$5:$J$110,6,FALSE)-VLOOKUP(G16,DEBUT!$D$5:$J$110,6,FALSE)),2)+POWER((VLOOKUP(F16,DEBUT!$D$5:$J$110,7,FALSE)-VLOOKUP(G16,DEBUT!$D$5:$J$110,7,FALSE)),2))/CARTE!$O$9,0)","v":185.45260026215442},{"$f":"IFERROR(SQRT(POWER((VLOOKUP(G16,DEBUT!$D$5:$J$110,6,FALSE)-VLOOKUP(H16,DEBUT!$D$5:$J$110,6,FALSE)),2)+POWER((VLOOKUP(G16,DEBUT!$D$5:$J$110,7,FALSE)-VLOOKUP(H16,DEBUT!$D$5:$J$110,7,FALSE)),2))/CARTE!$O$9,0)","v":388.88158128989608},{"$f":"IFERROR(SQRT(POWER((VLOOKUP(H16,DEBUT!$D$5:$J$110,6,FALSE)-VLOOKUP(I16,DEBUT!$D$5:$J$110,6,FALSE)),2)+POWER((VLOOKUP(H16,DEBUT!$D$5:$J$110,7,FALSE)-VLOOKUP(I16,DEBUT!$D$5:$J$110,7,FALSE)),2))/CARTE!$O$9,0)","v":1321.1931767408294},{"$f":"IFERROR(SQRT(POWER((VLOOKUP(I16,DEBUT!$D$5:$J$110,6,FALSE)-VLOOKUP(J16,DEBUT!$D$5:$J$110,6,FALSE)),2)+POWER((VLOOKUP(I16,DEBUT!$D$5:$J$110,7,FALSE)-VLOOKUP(J16,DEBUT!$D$5:$J$110,7,FALSE)),2))/CARTE!$O$9,0)","v":621.65617723594562},{"$f":"IFERROR(SQRT(POWER((VLOOKUP(J16,DEBUT!$D$5:$J$110,6,FALSE)-VLOOKUP(K16,DEBUT!$D$5:$J$110,6,FALSE)),2)+POWER((VLOOKUP(J16,DEBUT!$D$5:$J$110,7,FALSE)-VLOOKUP(K16,DEBUT!$D$5:$J$110,7,FALSE)),2))/CARTE!$O$9,0)","v":0},{"$f":"IFERROR(SQRT(POWER((VLOOKUP(K16,DEBUT!$D$5:$J$110,6,FALSE)-VLOOKUP(L16,DEBUT!$D$5:$J$110,6,FALSE)),2)+POWER((VLOOKUP(K16,DEBUT!$D$5:$J$110,7,FALSE)-VLOOKUP(L16,DEBUT!$D$5:$J$110,7,FALSE)),2))/CARTE!$O$9,0)","v":0},{"$f":"IFERROR(SQRT(POWER((VLOOKUP(L16,DEBUT!$D$5:$J$110,6,FALSE)-VLOOKUP(M16,DEBUT!$D$5:$J$110,6,FALSE)),2)+POWER((VLOOKUP(L16,DEBUT!$D$5:$J$110,7,FALSE)-VLOOKUP(M16,DEBUT!$D$5:$J$110,7,FALSE)),2))/CARTE!$O$9,0)","v":0},"min","m","Distance",{"$f":"SUM(E14:M14)","v":2986.8892406893729},"m",null,null,null,null,null,null,null,null,null,null,null,null,null,null,null,null,null,null,null,10,"FRANCK"]
[null,null,null,"Balises prévues",{"$f":"IF(ISTEXT($D14),HLOOKUP($D14,DEBUT!$O$3:$XX$100,3,FALSE),\"\")","v":"A"},{"$f":"IF(ISTEXT($D14),HLOOKUP($D14,DEBUT!$O$3:$XX$100,4,FALSE),\"\")","v":"B"},{"$f":"IF(ISTEXT($D14),HLOOKUP($D14,DEBUT!$O$3:$XX$100,5,FALSE),\"\")","v":"C"},{"$f":"IF(ISTEXT($D14),HLOOKUP($D14,DEBUT!$O$3:$XX$100,6,FALSE),\"\")","v":"D"},{"$f":"IF(ISTEXT($D14),HLOOKUP($D14,DEBUT!$O$3:$XX$100,7,FALSE),\"\")","v":"E"},{"$f":"IF(ISTEXT($D14),HLOOKUP($D14,DEBUT!$O$3:$XX$100,8,FALSE),\"\")","v":"F"},{"$f":"IF(ISTEXT($D14),HLOOKUP($D14,DEBUT!$O$3:$XX$100,9,FALSE),\"\")","v":0},{"$f":"IF(ISTEXT($D14),HLOOKUP($D14,DEBUT!$O$3:$XX$100,10,FALSE),\"\")","v":0},{"$f":"IF(ISTEXT($D14),HLOOKUP($D14,DEBUT!$O$3:$XX$100,11,FALSE),\"\")","v":0},null,null,"Nombre balises prévues",{"$f":"SUMPRODUCT(N(ISTEXT(E15:M15)))","v":6},"prévues",null,null,null,null,null,null,null,null,null,null,null,null,null,null,null,null,null,null,null,11,"VALENTIN"]
[null,null,null,"Validé",{"$f":"IF($D16=DEBUT!$L$5,E17,\"\")","v":7},{"$f":"IF($D16=DEBUT!$L$5,F17,\"\")","v":10},{"$f":"IF($D16=DEBUT!$L$5,G17,\"\")","v":11},{"$f":"IF($D16=DEBUT!$L$5,H17,\"\")","v":1},{"$f":"IF($D16=DEBUT!$L$5,I17,\"\")","v":76},{"$f":"IF($D16=DEBUT!$L$5,J17,\"\")","v":46},{"$f":"IF($D16=DEBUT!$L$5,K17,\"\")","v":""},{"$f":"IF($D16=DEBUT!$L$5,L17,\"\")","v":""},{"$f":"IF($D16=DEBUT!$L$5,M17,\"\")","v":""},null,null,"Nombre balises trouvées",{"$f":"SUMPRODUCT(N(ISNUMBER(E16:M16)))","v":6},{"$f":"IF(Q16>1,\"trouvées\",\"trouvée\")","v":"trouvées"},null,null,null,null,null,null,null,null,null,null,null,null,null,null,null,null,null,null,null,12,"BENJAMIN"]
[null,null,null,"Balises CM",{"$f":"IFERROR(INDEX(baliseCM,MATCH(E15,lettre,0),MATCH($D13,parcours,0)),\"\")","v":7},{"$f":"IFERROR(INDEX(baliseCM,MATCH(F15,lettre,0),MATCH($D13,parcours,0)),\"\")","v":10},11,1,76,46,"","","","",null,null,null,null,null,null,null,null,null,null,null,null,null,null,null,null,null,null,null,null,null,null,null,13,"ANDY"]
[null,null,null,"Vitesse",null,null,{"$f":"((E14+F14+G14)/ABS((HOUR(G13)*3600+MINUTE(G13)*60+SECOND(G13))))*3.6","v":{"$error":"#NUM!"}},null,null,{"$f":"((H14+I14+J14)/ABS((HOUR(J13)*3600+MINUTE(J13)*60+SECOND(J13))))*3.6","v":{"$error":"#DIV/0!"}},null,null,{"$f":"((K14+L14+M14)/ABS((HOUR(M13)*3600+MINUTE(M13)*60+SECOND(M13))))*3.6","v":{"$error":"#DIV/0!"}},null,"Km/h","Vitesse moyenne",{"$f":"Q14/R13*3.6","v":{"$error":"#DIV/0!"}},"km/h",null,null,null,null,null,null,null,null,null,null,null,null,null,null,null,null,null,null,null,14,"OLIVIER"]
[null,"EQUIPE 3",null,"15:51:45",null,null,null,null,null,null,null,null,null,null,null,null,null,null,null,"Analyse du parcours",null,null,null,null,null,null,null,null,null,null,null,null,null,null,null,null,null,15,"CHRISTIAN"]
[null,null,null,{"$f":"CONCATENATE(D21,\"bis\")","v":"alchimistebis"},null,null,{"$f":"G19-D19","v":-0.66093750000000007},null,null,{"$f":"J19-G19","v":"00:00:00"},{"$f":"K19-J19","v":"00:00:00"},{"$f":"L19-K19","v":"00:00:00"},{"$f":"M19-J19","v":"00:00:00"},null,null,"Temps de course",{"$f":"SUMIF(E20:M20,\">0\",E20:M20)","v":"00:00:00"},{"$f":"ABS((HOUR(Q20)*3600+MINUTE(Q20)*60+SECOND(Q20)))","v":0},null,null,null,null,null,null,null,null,null,null,null,null,null,null,null,null,null,null,null,16,"CELINE"]
[null,null,null,{"$f":"$H$2","v":"alchimiste"},{"$f":"IFERROR(SQRT(POWER((VLOOKUP($C$5,DEBUT!$D$5:$J$110,6,FALSE)-VLOOKUP(E23,DEBUT!$D$5:$J$110,6,FALSE)),2)+POWER((VLOOKUP($C$5,DEBUT!$D$5:$J$110,7,FALSE)-VLOOKUP(E23,DEBUT!$D$5:$J$110,7,FALSE)),2))/CARTE!$O$9,0)","v":177.2924730824831},{"$f":"IFERROR(SQRT(POWER((VLOOKUP(E23,DEBUT!$D$5:$J$110,6,FALSE)-VLOOKUP(F23,DEBUT!$D$5:$J$110,6,FALSE)),2)+POWER((VLOOKUP(E23,DEBUT!$D$5:$J$110,7,FALSE)-VLOOKUP(F23,DEBUT!$D$5:$J$110,7,FALSE)),2))/CARTE!$O$9,0)","v":292.41323207806477},{"$f":"IFERROR(SQRT(POWER((VLOOKUP(F23,DEBUT!$D$5:$J$110,6,FALSE)-VLOOKUP(G23,DEBUT!$D$5:$J$110,6,FALSE)),2)+POWER((VLOOKUP(F23,DEBUT!$D$5:$J$110,7,FALSE)-VLOOKUP(G23,DEBUT!$D$5:$J$110,7,FALSE)),2))/CARTE!$O$9,0)","v":185.45260026215442},{"$f":"IFERROR(SQRT(POWER((VLOOKUP(G23,DEBUT!$D$5:$J$110,6,FALSE)-VLOOKUP(H23,DEBUT!$D$5:$J$110,6,FALSE)),2)+POWER((VLOOKUP(G23,DEBUT!$D$5:$J$110,7,FALSE)-VLOOKUP(H23,DEBUT!$D$5:$J$110,7,FALSE)),2))/CARTE!$O$9,0)","v":388.88158128989608},{"$f":"IFERROR(SQRT(POWER((VLOOKUP(H23,DEBUT!$D$5:$J$110,6,FALSE)-VLOOKUP(I23,DEBUT!$D$5:$J$110,6,FALSE)),2)+POWER((VLOOKUP(H23,DEBUT!$D$5:$J$110,7,FALSE)-VLOOKUP(I23,DEBUT!$D$5:$J$110,7,FALSE)),2))/CARTE!$O$9,0)","v":1321.1931767408294},{"$f":"IFERROR(SQRT(POWER((VLOOKUP(I23,DEBUT!$D$5:$J$110,6,FALSE)-VLOOKUP(J23,DEBUT!$D$5:$J$110,6,FALSE)),2)+POWER((VLOOKUP(I23,DEBUT!$D$5:$J$110,7,FALSE)-VLOOKUP(J23,DEBUT!$D$5:$J$110,7,FALSE)),2))/CARTE!$O$9,0)","v":621.65617723594562},{"$f":"IFERROR(SQRT(POWER((VLOOKUP(J23,DEBUT!$D$5:$J$110,6,FALSE)-VLOOKUP(K23,DEBUT!$D$5:$J$110,6,FALSE)),2)+POWER((VLOOKUP(J23,DEBUT!$D$5:$J$110,7,FALSE)-VLOOKUP(K23,DEBUT!$D$5:$J$110,7,FALSE)),2))/CARTE!$O$9,0)","v":0},{"$f":"IFERROR(SQRT(POWER((VLOOKUP(K23,DEBUT!$D$5:$J$110,6,FALSE)-VLOOKUP(L23,DEBUT!$D$5:$J$110,6,FALSE)),2)+POWER((VLOOKUP(K23,DEBUT!$D$5:$J$110,7,FALSE)-VLOOKUP(L23,DEBUT!$D$5:$J$110,7,FALSE)),2))/CARTE!$O$9,0)","v":0},{"$f":"IFERROR(SQRT(POWER((VLOOKUP(L23,DEBUT!$D$5:$J$110,6,FALSE)-VLOOKUP(M23,DEBUT!$D$5:$J$110,6,FALSE)),2)+POWER((VLOOKUP(L23,DEBUT!$D$5:$J$110,7,FALSE)-VLOOKUP(M23,DEBUT!$D$5:$J$110,7,FALSE)),2))/CARTE!$O$9,0)","v":0},"min","m","Distance",{"$f":"SUM(E21:M21)","v":2986.8892406893729},"m",null,null,null,null,null,null,null,null,null,null,null,null,null,null,null,null,null,null,null,17,"SEBASTIEN"]
[null,null,null,"Balises prévues",{"$f":"IF(ISTEXT($D21),HLOOKUP($D21,DEBUT!$O$3:$XX$100,3,FALSE),\"\")","v":"A"},{"$f":"IF(ISTEXT($D21),HLOOKUP($D21,DEBUT!$O$3:$XX$100,4,FALSE),\"\")","v":"B"},{"$f":"IF(ISTEXT($D21),HLOOKUP($D21,DEBUT!$O$3:$XX$100,5,FALSE),\"\")","v":"C"},{"$f":"IF(ISTEXT($D21),HLOOKUP($D21,DEBUT!$O$3:$XX$100,6,FALSE),\"\")","v":"D"},{"$f":"IF(ISTEXT($D21),HLOOKUP($D21,DEBUT!$O$3:$XX$100,7,FALSE),\"\")","v":"E"},{"$f":"IF(ISTEXT($D21),HLOOKUP($D21,DEBUT!$O$3:$XX$100,8,FALSE),\"\")","v":"F"},{"$f":"IF(ISTEXT($D21),HLOOKUP($D21,DEBUT!$O$3:$XX$100,9,FALSE),\"\")","v":0},{"$f":"IF(ISTEXT($D21),HLOOKUP($D21,DEBUT!$O$3:$XX$100,10,FALSE),\"\")","v":0},{"$f":"IF(ISTEXT($D21),HLOOKUP($D21,DEBUT!$O$3:$XX$100,11,FALSE),\"\")","v":0},null,null,"Nombre balises prévues",{"$f":"SUMPRODUCT(N(ISTEXT(E22:M22)))","v":6},"prévues",null,null,null,null,null,null,null,null,null,null,null,null,null,null,null,null,null,null,null,18,"PASCAL"]
[null,null,null,"Validé",{"$f":"IF($D23=DEBUT!$L$5,E24,\"\")","v":7},{"$f":"IF($D23=DEBUT!$L$5,F24,\"\")","v":10},{"$f":"IF($D23=DEBUT!$L$5,G24,\"\")","v":11},{"$f":"IF($D23=DEBUT!$L$5,H24,\"\")","v":1},{"$f":"IF($D23=DEBUT!$L$5,I24,\"\")","v":76},{"$f":"IF($D23=DEBUT!$L$5,J24,\"\")","v":46},{"$f":"IF($D23=DEBUT!$L$5,K24,\"\")","v":""},{"$f":"IF($D23=DEBUT!$L$5,L24,\"\")","v":""},{"$f":"IF($D23=DEBUT!$L$5,M24,\"\")","v":""},null,null,"Nombre balises trouvées",{"$f":"SUMPRODUCT(N(ISNUMBER(E23:M23)))","v":6},{"$f":"IF(Q23>1,\"trouvées\",\"trouvée\")","v":"trouvées"},null,null,null,null,null,null,null,null,null,null,null,null,null,null,null,null,null,null,null,19,"CAROLE"]
[null,null,null,"Balises CM",{"$f":"IFERROR(INDEX(baliseCM,MATCH(E22,lettre,0),MATCH($D20,parcours,0)),\"\")","v":7},{"$f":"IFERROR(INDEX(baliseCM,MATCH(F22,lettre,0),MATCH($D20,parcours,0)),\"\")","v":10},11,1,76,46,"","","",{"$f":"IFERROR(INDEX(baliseCM,MATCH(N22,lettre,0),MATCH($D20,parcours,0)),\"\")","v":""},null,null,null,null,null,null,null,null,null,null,null,null,null,null,null,null,null,null,null,null,null,null,null,20,"ISABELLE"]
[null,null,null,"Vitesse",null,null,{"$f":"((E21+F21+G21)/ABS((HOUR(G20)*3600+MINUTE(G20)*60+SECOND(G20))))*3.6","v":{"$error":"#NUM!"}},null,null,{"$f":"((H21+I21+J21)/ABS((HOUR(J20)*3600+MINUTE(J20)*60+SECOND(J20))))*3.6","v":{"$error":"#DIV/0!"}},null,null,{"$f":"((K21+L21+M21)/ABS((HOUR(M20)*3600+MINUTE(M20)*60+SECOND(M20))))*3.6","v":{"$error":"#DIV/0!"}},null,"Km/h","Vitesse moyenne",{"$f":"Q21/R20*3.6","v":{"$error":"#DIV/0!"}},"km/h",null,null,null,null,null,null,null,null,null,null,null,null,null,null,null,null,null,null,null,21,"DAVID"]
[null,"EQUIPE 4",null,"15:51:45",null,null,null,null,null,null,null,null,null,null,null,null,null,null,null,"Analyse du parcours",null,null,null,null,null,null,null,null,null,null,null,null,null,null,null,null,null,22,"FRANCOIS"]
[null,null,null,{"$f":"CONCATENATE(D28,\"bis\")","v":"alchimistebis"},null,null,{"$f":"G26-D26","v":-0.66093750000000007},null,null,{"$f":"J26-G26","v":"00:00:00"},{"$f":"K26-J26","v":"00:00:00"},{"$f":"L26-K26","v":"00:00:00"},{"$f":"M26-J26","v":"00:00:00"},null,null,"Temps de course",{"$f":"SUMIF(E27:M27,\">0\",E27:M27)","v":"00:00:00"},{"$f":"ABS((HOUR(Q27)*3600+MINUTE(Q27)*60+SECOND(Q27)))","v":0},null,null,null,null,null,null,null,null,null,null,null,null,null,null,null,null,null,null,null,23,"Mick"]
[null,null,null,{"$f":"$H$2","v":"alchimiste"},{"$f":"IFERROR(SQRT(POWER((VLOOKUP($C$5,DEBUT!$D$5:$J$110,6,FALSE)-VLOOKUP(E30,DEBUT!$D$5:$J$110,6,FALSE)),2)+POWER((VLOOKUP($C$5,DEBUT!$D$5:$J$110,7,FALSE)-VLOOKUP(E30,DEBUT!$D$5:$J$110,7,FALSE)),2))/CARTE!$O$9,0)","v":177.2924730824831},{"$f":"IFERROR(SQRT(POWER((VLOOKUP(E30,DEBUT!$D$5:$J$110,6,FALSE)-VLOOKUP(F30,DEBUT!$D$5:$J$110,6,FALSE)),2)+POWER((VLOOKUP(E30,DEBUT!$D$5:$J$110,7,FALSE)-VLOOKUP(F30,DEBUT!$D$5:$J$110,7,FALSE)),2))/CARTE!$O$9,0)","v":292.41323207806477},{"$f":"IFERROR(SQRT(POWER((VLOOKUP(F30,DEBUT!$D$5:$J$110,6,FALSE)-VLOOKUP(G30,DEBUT!$D$5:$J$110,6,FALSE)),2)+POWER((VLOOKUP(F30,DEBUT!$D$5:$J$110,7,FALSE)-VLOOKUP(G30,DEBUT!$D$5:$J$110,7,FALSE)),2))/CARTE!$O$9,0)","v":185.45260026215442},{"$f":"IFERROR(SQRT(POWER((VLOOKUP(G30,DEBUT!$D$5:$J$110,6,FALSE)-VLOOKUP(H30,DEBUT!$D$5:$J$110,6,FALSE)),2)+POWER((VLOOKUP(G30,DEBUT!$D$5:$J$110,7,FALSE)-VLOOKUP(H30,DEBUT!$D$5:$J$110,7,FALSE)),2))/CARTE!$O$9,0)","v":388.88158128989608},{"$f":"IFERROR(SQRT(POWER((VLOOKUP(H30,DEBUT!$D$5:$J$110,6,FALSE)-VLOOKUP(I30,DEBUT!$D$5:$J$110,6,FALSE)),2)+POWER((VLOOKUP(H30,DEBUT!$D$5:$J$110,7,FALSE)-VLOOKUP(I30,DEBUT!$D$5:$J$110,7,FALSE)),2))/CARTE!$O$9,0)","v":1321.1931767408294},{"$f":"IFERROR(SQRT(POWER((VLOOKUP(I30,DEBUT!$D$5:$J$110,6,FALSE)-VLOOKUP(J30,DEBUT!$D$5:$J$110,6,FALSE)),2)+POWER((VLOOKUP(I30,DEBUT!$D$5:$J$110,7,FALSE)-VLOOKUP(J30,DEBUT!$D$5:$J$110,7,FALSE)),2))/CARTE!$O$9,0)","v":621.65617723594562},{"$f":"IFERROR(SQRT(POWER((VLOOKUP(J30,DEBUT!$D$5:$J$110,6,FALSE)-VLOOKUP(K30,DEBUT!$D$5:$J$110,6,FALSE)),2)+POWER((VLOOKUP(J30,DEBUT!$D$5:$J$110,7,FALSE)-VLOOKUP(K30,DEBUT!$D$5:$J$110,7,FALSE)),2))/CARTE!$O$9,0)","v":0},{"$f":"IFERROR(SQRT(POWER((VLOOKUP(K30,DEBUT!$D$5:$J$110,6,FALSE)-VLOOKUP(L30,DEBUT!$D$5:$J$110,6,FALSE)),2)+POWER((VLOOKUP(K30,DEBUT!$D$5:$J$110,7,FALSE)-VLOOKUP(L30,DEBUT!$D$5:$J$110,7,FALSE)),2))/CARTE!$O$9,0)","v":0},{"$f":"IFERROR(SQRT(POWER((VLOOKUP(L30,DEBUT!$D$5:$J$110,6,FALSE)-VLOOKUP(M30,DEBUT!$D$5:$J$110,6,FALSE)),2)+POWER((VLOOKUP(L30,DEBUT!$D$5:$J$110,7,FALSE)-VLOOKUP(M30,DEBUT!$D$5:$J$110,7,FALSE)),2))/CARTE!$O$9,0)","v":0},"min","m","Distance",{"$f":"SUM(E28:M28)","v":2986.8892406893729},"m",null,null,null,null,null,null,null,null,null,null,null,null,null,null,null,null,null,null,null,24,0]
[null,null,null,"Balises prévues",{"$f":"IF(ISTEXT($D28),HLOOKUP($D28,DEBUT!$O$3:$XX$100,3,FALSE),\"\")","v":"A"},{"$f":"IF(ISTEXT($D28),HLOOKUP($D28,DEBUT!$O$3:$XX$100,4,FALSE),\"\")","v":"B"},{"$f":"IF(ISTEXT($D28),HLOOKUP($D28,DEBUT!$O$3:$XX$100,5,FALSE),\"\")","v":"C"},{"$f":"IF(ISTEXT($D28),HLOOKUP($D28,DEBUT!$O$3:$XX$100,6,FALSE),\"\")","v":"D"},{"$f":"IF(ISTEXT($D28),HLOOKUP($D28,DEBUT!$O$3:$XX$100,7,FALSE),\"\")","v":"E"},{"$f":"IF(ISTEXT($D28),HLOOKUP($D28,DEBUT!$O$3:$XX$100,8,FALSE),\"\")","v":"F"},{"$f":"IF(ISTEXT($D28),HLOOKUP($D28,DEBUT!$O$3:$XX$100,9,FALSE),\"\")","v":0},{"$f":"IF(ISTEXT($D28),HLOOKUP($D28,DEBUT!$O$3:$XX$100,10,FALSE),\"\")","v":0},{"$f":"IF(ISTEXT($D28),HLOOKUP($D28,DEBUT!$O$3:$XX$100,11,FALSE),\"\")","v":0},null,null,"Nombre balises prévues",{"$f":"SUMPRODUCT(N(ISTEXT(E29:M29)))","v":6},"prévues",null,null,null,null,null,null,null,null,null,null,null,null,null,null,null,null,null,null,null,25,0]
[null,null,null,"Validé",{"$f":"IF($D30=DEBUT!$L$5,E31,\"\")","v":7},{"$f":"IF($D30=DEBUT!$L$5,F31,\"\")","v":10},{"$f":"IF($D30=DEBUT!$L$5,G31,\"\")","v":11},{"$f":"IF($D30=DEBUT!$L$5,H31,\"\")","v":1},{"$f":"IF($D30=DEBUT!$L$5,I31,\"\")","v":76},{"$f":"IF($D30=DEBUT!$L$5,J31,\"\")","v":46},{"$f":"IF($D30=DEBUT!$L$5,K31,\"\")","v":""},{"$f":"IF($D30=DEBUT!$L$5,L31,\"\")","v":""},{"$f":"IF($D30=DEBUT!$L$5,M31,\"\")","v":""},null,null,"Nombre balises trouvées",{"$f":"SUMPRODUCT(N(ISNUMBER(E30:M30)))","v":6},{"$f":"IF(Q30>1,\"trouvées\",\"trouvée\")","v":"trouvées"},null,null,null,null,null,null,null,null,null,null,null,null,null,null,null,null,null,null,null,26,0]
[null,null,null,"Balises CM",{"$f":"IFERROR(INDEX(baliseCM,MATCH(E29,lettre,0),MATCH($D27,parcours,0)),\"\")","v":7},{"$f":"IFERROR(INDEX(baliseCM,MATCH(F29,lettre,0),MATCH($D27,parcours,0)),\"\")","v":10},11,1,76,46,"","","",{"$f":"IFERROR(INDEX(baliseCM,MATCH(N29,lettre,0),MATCH($D27,parcours,0)),\"\")","v":""},null,null,null,null,null,null,null,null,null,null,null,null,null,null,null,null,null,null,null,null,null,null,null,27,0]
[null,null,null,"Vitesse",null,null,{"$f":"((E28+F28+G28)/ABS((HOUR(G27)*3600+MINUTE(G27)*60+SECOND(G27))))*3.6","v":{"$error":"#NUM!"}},null,null,{"$f":"((H28+I28+J28)/ABS((HOUR(J27)*3600+MINUTE(J27)*60+SECOND(J27))))*3.6","v":{"$error":"#DIV/0!"}},null,null,{"$f":"((K28+L28+M28)/ABS((HOUR(M27)*3600+MINUTE(M27)*60+SECOND(M27))))*3.6","v":{"$error":"#DIV/0!"}},null,"Km/h","Vitesse moyenne",{"$f":"Q28/R27*3.6","v":{"$error":"#DIV/0!"}},"km/h",null,null,null,null,null,null,null,null,null,null,null,null,null,null,null,null,null,null,null,28,0]
[null,"EQUIPE 5",null,"15:51:45",null,null,null,null,null,null,null,null,null,null,null,null,null,null,null,"Analyse du parcours",null,null,null,null,null,null,null,null,null,null,null,null,null,null,null,null,null,29,0]
[null,null,null,{"$f":"CONCATENATE(D35,\"bis\")","v":"alchimistebis"},null,null,{"$f":"G33-D33","v":-0.66093750000000007},null,null,{"$f":"J33-G33","v":"00:00:00"},{"$f":"K33-J33","v":"00:00:00"},{"$f":"L33-K33","v":"00:00:00"},{"$f":"M33-J33","v":"00:00:00"},null,null,"Temps de course",{"$f":"SUMIF(E34:M34,\">0\",E34:M34)","v":"00:00:00"},{"$f":"ABS((HOUR(Q34)*3600+MINUTE(Q34)*60+SECOND(Q34)))","v":0},null,null,null,null,null,null,null,null,null,null,null,null,null,null,null,null,null,null,null,30,0]
[null,null,null,{"$f":"$H$2","v":"alchimiste"},{"$f":"IFERROR(SQRT(POWER((VLOOKUP($C$5,DEBUT!$D$5:$J$110,6,FALSE)-VLOOKUP(E37,DEBUT!$D$5:$J$110,6,FALSE)),2)+POWER((VLOOKUP($C$5,DEBUT!$D$5:$J$110,7,FALSE)-VLOOKUP(E37,DEBUT!$D$5:$J$110,7,FALSE)),2))/CARTE!$O$9,0)","v":177.2924730824831},{"$f":"IFERROR(SQRT(POWER((VLOOKUP(E37,DEBUT!$D$5:$J$110,6,FALSE)-VLOOKUP(F37,DEBUT!$D$5:$J$110,6,FALSE)),2)+POWER((VLOOKUP(E37,DEBUT!$D$5:$J$110,7,FALSE)-VLOOKUP(F37,DEBUT!$D$5:$J$110,7,FALSE)),2))/CARTE!$O$9,0)","v":292.41323207806477},{"$f":"IFERROR(SQRT(POWER((VLOOKUP(F37,DEBUT!$D$5:$J$110,6,FALSE)-VLOOKUP(G37,DEBUT!$D$5:$J$110,6,FALSE)),2)+POWER((VLOOKUP(F37,DEBUT!$D$5:$J$110,7,FALSE)-VLOOKUP(G37,DEBUT!$D$5:$J$110,7,FALSE)),2))/CARTE!$O$9,0)","v":185.45260026215442},{"$f":"IFERROR(SQRT(POWER((VLOOKUP(G37,DEBUT!$D$5:$J$110,6,FALSE)-VLOOKUP(H37,DEBUT!$D$5:$J$110,6,FALSE)),2)+POWER((VLOOKUP(G37,DEBUT!$D$5:$J$110,7,FALSE)-VLOOKUP(H37,DEBUT!$D$5:$J$110,7,FALSE)),2))/CARTE!$O$9,0)","v":388.88158128989608},{"$f":"IFERROR(SQRT(POWER((VLOOKUP(H37,DEBUT!$D$5:$J$110,6,FALSE)-VLOOKUP(I37,DEBUT!$D$5:$J$110,6,FALSE)),2)+POWER((VLOOKUP(H37,DEBUT!$D$5:$J$110,7,FALSE)-VLOOKUP(I37,DEBUT!$D$5:$J$110,7,FALSE)),2))/CARTE!$O$9,0)","v":1321.1931767408294},{"$f":"IFERROR(SQRT(POWER((VLOOKUP(I37,DEBUT!$D$5:$J$110,6,FALSE)-VLOOKUP(J37,DEBUT!$D$5:$J$110,6,FALSE)),2)+POWER((VLOOKUP(I37,DEBUT!$D$5:$J$110,7,FALSE)-VLOOKUP(J37,DEBUT!$D$5:$J$110,7,FALSE)),2))/CARTE!$O$9,0)","v":621.65617723594562},{"$f":"IFERROR(SQRT(POWER((VLOOKUP(J37,DEBUT!$D$5:$J$110,6,FALSE)-VLOOKUP(K37,DEBUT!$D$5:$J$110,6,FALSE)),2)+POWER((VLOOKUP(J37,DEBUT!$D$5:$J$110,7,FALSE)-VLOOKUP(K37,DEBUT!$D$5:$J$110,7,FALSE)),2))/CARTE!$O$9,0)","v":0},{"$f":"IFERROR(SQRT(POWER((VLOOKUP(K37,DEBUT!$D$5:$J$110,6,FALSE)-VLOOKUP(L37,DEBUT!$D$5:$J$110,6,FALSE)),2)+POWER((VLOOKUP(K37,DEBUT!$D$5:$J$110,7,FALSE)-VLOOKUP(L37,DEBUT!$D$5:$J$110,7,FALSE)),2))/CARTE!$O$9,0)","v":0},{"$f":"IFERROR(SQRT(POWER((VLOOKUP(L37,DEBUT!$D$5:$J$110,6,FALSE)-VLOOKUP(M37,DEBUT!$D$5:$J$110,6,FALSE)),2)+POWER((VLOOKUP(L37,DEBUT!$D$5:$J$110,7,FALSE)-VLOOKUP(M37,DEBUT!$D$5:$J$110,7,FALSE)),2))/CARTE!$O$9,0)","v":0},"min","m","Distance",{"$f":"SUM(E35:M35)","v":2986.8892406893729},"m",null,null,null,null,null,null,null,null,null,null,null,null,null,null,null,null,null,null,null,31,0]
[null,null,null,"Balises prévues",{"$f":"IF(ISTEXT($D35),HLOOKUP($D35,DEBUT!$O$3:$XX$100,3,FALSE),\"\")","v":"A"},{"$f":"IF(ISTEXT($D35),HLOOKUP($D35,DEBUT!$O$3:$XX$100,4,FALSE),\"\")","v":"B"},{"$f":"IF(ISTEXT($D35),HLOOKUP($D35,DEBUT!$O$3:$XX$100,5,FALSE),\"\")","v":"C"},{"$f":"IF(ISTEXT($D35),HLOOKUP($D35,DEBUT!$O$3:$XX$100,6,FALSE),\"\")","v":"D"},{"$f":"IF(ISTEXT($D35),HLOOKUP($D35,DEBUT!$O$3:$XX$100,7,FALSE),\"\")","v":"E"},{"$f":"IF(ISTEXT($D35),HLOOKUP($D35,DEBUT!$O$3:$XX$100,8,FALSE),\"\")","v":"F"},{"$f":"IF(ISTEXT($D35),HLOOKUP($D35,DEBUT!$O$3:$XX$100,9,FALSE),\"\")","v":0},{"$f":"IF(ISTEXT($D35),HLOOKUP($D35,DEBUT!$O$3:$XX$100,10,FALSE),\"\")","v":0},{"$f":"IF(ISTEXT($D35),HLOOKUP($D35,DEBUT!$O$3:$XX$100,11,FALSE),\"\")","v":0},null,null,"Nombre balises prévues",{"$f":"SUMPRODUCT(N(ISTEXT(E36:M36)))","v":6},"prévues",null,null,null,null,null,null,null,null,null,null,null,null,null,null,null,null,null,null,null,32,0]
[null,null,null,"Validé",{"$f":"IF($D37=DEBUT!$L$5,E38,\"\")","v":7},{"$f":"IF($D37=DEBUT!$L$5,F38,\"\")","v":10},{"$f":"IF($D37=DEBUT!$L$5,G38,\"\")","v":11},{"$f":"IF($D37=DEBUT!$L$5,H38,\"\")","v":1},{"$f":"IF($D37=DEBUT!$L$5,I38,\"\")","v":76},{"$f":"IF($D37=DEBUT!$L$5,J38,\"\")","v":46},{"$f":"IF($D37=DEBUT!$L$5,K38,\"\")","v":""},{"$f":"IF($D37=DEBUT!$L$5,L38,\"\")","v":""},{"$f":"IF($D37=DEBUT!$L$5,M38,\"\")","v":""},null,null,"Nombre balises trouvées",{"$f":"SUMPRODUCT(N(ISNUMBER(E37:M37)))","v":6},{"$f":"IF(Q37>1,\"trouvées\",\"trouvée\")","v":"trouvées"},null,null,null,null,null,null,null,null,null,null,null,null,null,null,null,null,null,null,null,33,0]
[null,null,null,"Balises CM",{"$f":"IFERROR(INDEX(baliseCM,MATCH(E36,lettre,0),MATCH($D34,parcours,0)),\"\")","v":7},{"$f":"IFERROR(INDEX(baliseCM,MATCH(F36,lettre,0),MATCH($D34,parcours,0)),\"\")","v":10},11,1,76,46,"","","",{"$f":"IFERROR(INDEX(baliseCM,MATCH(N36,lettre,0),MATCH($D34,parcours,0)),\"\")","v":""},null,null,null,null,null,null,null,null,null,null,null,null,null,null,null,null,null,null,null,null,null,null,null,34,0]
[null,null,null,"Vitesse",null,null,{"$f":"((E35+F35+G35)/ABS((HOUR(G34)*3600+MINUTE(G34)*60+SECOND(G34))))*3.6","v":{"$error":"#NUM!"}},null,null,{"$f":"((H35+I35+J35)/ABS((HOUR(J34)*3600+MINUTE(J34)*60+SECOND(J34))))*3.6","v":{"$error":"#DIV/0!"}},null,null,{"$f":"((K35+L35+M35)/ABS((HOUR(M34)*3600+MINUTE(M34)*60+SECOND(M34))))*3.6","v":{"$error":"#DIV/0!"}},null,"Km/h","Vitesse moyenne",{"$f":"Q35/R34*3.6","v":{"$error":"#DIV/0!"}},"km/h",null,null,null,null,null,null,null,null,null,null,null,null,null,null,null,null,null,null,null,35,0]
[null,"EQUIPE 6",null,"15:51:45",null,null,null,null,null,null,null,null,null,null,null,null,null,null,null,"Analyse du parcours",null,null,null,null,null,null,null,null,null,null,null,null,null,null,null,null,null,36,0]
[null,null,null,{"$f":"CONCATENATE(D42,\"bis\")","v":"alchimistebis"},null,null,{"$f":"G40-D40","v":-0.66093750000000007},null,null,{"$f":"J40-G40","v":"00:00:00"},{"$f":"K40-J40","v":"00:00:00"},{"$f":"L40-K40","v":"00:00:00"},{"$f":"M40-J40","v":"00:00:00"},null,null,"Temps de course",{"$f":"SUMIF(E41:M41,\">0\",E41:M41)","v":"00:00:00"},{"$f":"ABS((HOUR(Q41)*3600+MINUTE(Q41)*60+SECOND(Q41)))","v":0}]
[null,null,null,{"$f":"$H$2","v":"alchimiste"},{"$f":"IFERROR(SQRT(POWER((VLOOKUP($C$5,DEBUT!$D$5:$J$110,6,FALSE)-VLOOKUP(E44,DEBUT!$D$5:$J$110,6,FALSE)),2)+POWER((VLOOKUP($C$5,DEBUT!$D$5:$J$110,7,FALSE)-VLOOKUP(E44,DEBUT!$D$5:$J$110,7,FALSE)),2))/CARTE!$O$9,0)","v":177.2924730824831},{"$f":"IFERROR(SQRT(POWER((VLOOKUP(E44,DEBUT!$D$5:$J$110,6,FALSE)-VLOOKUP(F44,DEBUT!$D$5:$J$110,6,FALSE)),2)+POWER((VLOOKUP(E44,DEBUT!$D$5:$J$110,7,FALSE)-VLOOKUP(F44,DEBUT!$D$5:$J$110,7,FALSE)),2))/CARTE!$O$9,0)","v":292.41323207806477},{"$f":"IFERROR(SQRT(POWER((VLOOKUP(F44,DEBUT!$D$5:$J$110,6,FALSE)-VLOOKUP(G44,DEBUT!$D$5:$J$110,6,FALSE)),2)+POWER((VLOOKUP(F44,DEBUT!$D$5:$J$110,7,FALSE)-VLOOKUP(G44,DEBUT!$D$5:$J$110,7,FALSE)),2))/CARTE!$O$9,0)","v":185.45260026215442},{"$f":"IFERROR(SQRT(POWER((VLOOKUP(G44,DEBUT!$D$5:$J$110,6,FALSE)-VLOOKUP(H44,DEBUT!$D$5:$J$110,6,FALSE)),2)+POWER((VLOOKUP(G44,DEBUT!$D$5:$J$110,7,FALSE)-VLOOKUP(H44,DEBUT!$D$5:$J$110,7,FALSE)),2))/CARTE!$O$9,0)","v":388.88158128989608},{"$f":"IFERROR(SQRT(POWER((VLOOKUP(H44,DEBUT!$D$5:$J$110,6,FALSE)-VLOOKUP(I44,DEBUT!$D$5:$J$110,6,FALSE)),2)+POWER((VLOOKUP(H44,DEBUT!$D$5:$J$110,7,FALSE)-VLOOKUP(I44,DEBUT!$D$5:$J$110,7,FALSE)),2))/CARTE!$O$9,0)","v":1321.1931767408294},{"$f":"IFERROR(SQRT(POWER((VLOOKUP(I44,DEBUT!$D$5:$J$110,6,FALSE)-VLOOKUP(J44,DEBUT!$D$5:$J$110,6,FALSE)),2)+POWER((VLOOKUP(I44,DEBUT!$D$5:$J$110,7,FALSE)-VLOOKUP(J44,DEBUT!$D$5:$J$110,7,FALSE)),2))/CARTE!$O$9,0)","v":621.65617723594562},{"$f":"IFERROR(SQRT(POWER((VLOOKUP(J44,DEBUT!$D$5:$J$110,6,FALSE)-VLOOKUP(K44,DEBUT!$D$5:$J$110,6,FALSE)),2)+POWER((VLOOKUP(J44,DEBUT!$D$5:$J$110,7,FALSE)-VLOOKUP(K44,DEBUT!$D$5:$J$110,7,FALSE)),2))/CARTE!$O$9,0)","v":0},{"$f":"IFERROR(SQRT(POWER((VLOOKUP(K44,DEBUT!$D$5:$J$110,6,FALSE)-VLOOKUP(L44,DEBUT!$D$5:$J$110,6,FALSE)),2)+POWER((VLOOKUP(K44,DEBUT!$D$5:$J$110,7,FALSE)-VLOOKUP(L44,DEBUT!$D$5:$J$110,7,FALSE)),2))/CARTE!$O$9,0)","v":0},{"$f":"IFERROR(SQRT(POWER((VLOOKUP(L44,DEBUT!$D$5:$J$110,6,FALSE)-VLOOKUP(M44,DEBUT!$D$5:$J$110,6,FALSE)),2)+POWER((VLOOKUP(L44,DEBUT!$D$5:$J$110,7,FALSE)-VLOOKUP(M44,DEBUT!$D$5:$J$110,7,FALSE)),2))/CARTE!$O$9,0)","v":0},"min","m","Distance",{"$f":"SUM(E42:M42)","v":2986.8892406893729},"m"]
[null,null,null,"Balises prévues",{"$f":"IF(ISTEXT($D42),HLOOKUP($D42,DEBUT!$O$3:$XX$100,3,FALSE),\"\")","v":"A"},{"$f":"IF(ISTEXT($D42),HLOOKUP($D42,DEBUT!$O$3:$XX$100,4,FALSE),\"\")","v":"B"},{"$f":"IF(ISTEXT($D42),HLOOKUP($D42,DEBUT!$O$3:$XX$100,5,FALSE),\"\")","v":"C"},{"$f":"IF(ISTEXT($D42),HLOOKUP($D42,DEBUT!$O$3:$XX$100,6,FALSE),\"\")","v":"D"},{"$f":"IF(ISTEXT($D42),HLOOKUP($D42,DEBUT!$O$3:$XX$100,7,FALSE),\"\")","v":"E"},{"$f":"IF(ISTEXT($D42),HLOOKUP($D42,DEBUT!$O$3:$XX$100,8,FALSE),\"\")","v":"F"},{"$f":"IF(ISTEXT($D42),HLOOKUP($D42,DEBUT!$O$3:$XX$100,9,FALSE),\"\")","v":0},{"$f":"IF(ISTEXT($D42),HLOOKUP($D42,DEBUT!$O$3:$XX$100,10,FALSE),\"\")","v":0},{"$f":"IF(ISTEXT($D42),HLOOKUP($D42,DEBUT!$O$3:$XX$100,11,FALSE),\"\")","v":0},null,null,"Nombre balises prévues",{"$f":"SUMPRODUCT(N(ISTEXT(E43:M43)))","v":6},"prévues"]
[null,null,null,"Validé",{"$f":"IF($D44=DEBUT!$L$5,E45,\"\")","v":7},{"$f":"IF($D44=DEBUT!$L$5,F45,\"\")","v":10},{"$f":"IF($D44=DEBUT!$L$5,G45,\"\")","v":11},{"$f":"IF($D44=DEBUT!$L$5,H45,\"\")","v":1},{"$f":"IF($D44=DEBUT!$L$5,I45,\"\")","v":76},{"$f":"IF($D44=DEBUT!$L$5,J45,\"\")","v":46},{"$f":"IF($D44=DEBUT!$L$5,K45,\"\")","v":""},{"$f":"IF($D44=DEBUT!$L$5,L45,\"\")","v":""},{"$f":"IF($D44=DEBUT!$L$5,M45,\"\")","v":""},null,null,"Nombre balises trouvées",{"$f":"SUMPRODUCT(N(ISNUMBER(E44:M44)))","v":6},{"$f":"IF(Q44>1,\"trouvées\",\"trouvée\")","v":"trouvées"}]
[null,null,null,"Balises CM",{"$f":"IFERROR(INDEX(baliseCM,MATCH(E43,lettre,0),MATCH($D41,parcours,0)),\"\")","v":7},{"$f":"IFERROR(INDEX(baliseCM,MATCH(F43,lettre,0),MATCH($D41,parcours,0)),\"\")","v":10},11,1,76,46,"","","",{"$f":"IFERROR(INDEX(baliseCM,MATCH(N43,lettre,0),MATCH($D41,parcours,0)),\"\")","v":""}]
[null,null,null,"Vitesse",null,null,{"$f":"((E42+F42+G42)/ABS((HOUR(G41)*3600+MINUTE(G41)*60+SECOND(G41))))*3.6","v":{"$error":"#NUM!"}},null,null,{"$f":"((H42+I42+J42)/ABS((HOUR(J41)*3600+MINUTE(J41)*60+SECOND(J41))))*3.6","v":{"$error":"#DIV/0!"}},null,null,{"$f":"((K42+L42+M42)/ABS((HOUR(M41)*3600+MINUTE(M41)*60+SECOND(M41))))*3.6","v":{"$error":"#DIV/0!"}},null,"Km/h","Vitesse moyenne",{"$f":"Q42/R41*3.6","v":{"$error":"#DIV/0!"}},"km/h"]
[null,"EQUIPE 7",null,"15:51:45",null,null,null,null,null,null,null,null,null,null,null,null,null,null,null,"Analyse du parcours"]
[null,null,null,{"$f":"CONCATENATE(D49,\"bis\")","v":"alchimistebis"},null,null,{"$f":"G47-D47","v":-0.66093750000000007},null,null,{"$f":"J47-G47","v":"00:00:00"},{"$f":"K47-J47","v":"00:00:00"},{"$f":"L47-K47","v":"00:00:00"},{"$f":"M47-J47","v":"00:00:00"},null,null,"Temps de course",{"$f":"SUMIF(E48:M48,\">0\",E48:M48)","v":"00:00:00"},{"$f":"ABS((HOUR(Q48)*3600+MINUTE(Q48)*60+SECOND(Q48)))","v":0}]
[null,null,null,{"$f":"$H$2","v":"alchimiste"},{"$f":"IFERROR(SQRT(POWER((VLOOKUP($C$5,DEBUT!$D$5:$J$110,6,FALSE)-VLOOKUP(E51,DEBUT!$D$5:$J$110,6,FALSE)),2)+POWER((VLOOKUP($C$5,DEBUT!$D$5:$J$110,7,FALSE)-VLOOKUP(E51,DEBUT!$D$5:$J$110,7,FALSE)),2))/CARTE!$O$9,0)","v":177.2924730824831},{"$f":"IFERROR(SQRT(POWER((VLOOKUP(E51,DEBUT!$D$5:$J$110,6,FALSE)-VLOOKUP(F51,DEBUT!$D$5:$J$110,6,FALSE)),2)+POWER((VLOOKUP(E51,DEBUT!$D$5:$J$110,7,FALSE)-VLOOKUP(F51,DEBUT!$D$5:$J$110,7,FALSE)),2))/CARTE!$O$9,0)","v":292.41323207806477},{"$f":"IFERROR(SQRT(POWER((VLOOKUP(F51,DEBUT!$D$5:$J$110,6,FALSE)-VLOOKUP(G51,DEBUT!$D$5:$J$110,6,FALSE)),2)+POWER((VLOOKUP(F51,DEBUT!$D$5:$J$110,7,FALSE)-VLOOKUP(G51,DEBUT!$D$5:$J$110,7,FALSE)),2))/CARTE!$O$9,0)","v":185.45260026215442},{"$f":"IFERROR(SQRT(POWER((VLOOKUP(G51,DEBUT!$D$5:$J$110,6,FALSE)-VLOOKUP(H51,DEBUT!$D$5:$J$110,6,FALSE)),2)+POWER((VLOOKUP(G51,DEBUT!$D$5:$J$110,7,FALSE)-VLOOKUP(H51,DEBUT!$D$5:$J$110,7,FALSE)),2))/CARTE!$O$9,0)","v":388.88158128989608},{"$f":"IFERROR(SQRT(POWER((VLOOKUP(H51,DEBUT!$D$5:$J$110,6,FALSE)-VLOOKUP(I51,DEBUT!$D$5:$J$110,6,FALSE)),2)+POWER((VLOOKUP(H51,DEBUT!$D$5:$J$110,7,FALSE)-VLOOKUP(I51,DEBUT!$D$5:$J$110,7,FALSE)),2))/CARTE!$O$9,0)","v":1321.1931767408294},{"$f":"IFERROR(SQRT(POWER((VLOOKUP(I51,DEBUT!$D$5:$J$110,6,FALSE)-VLOOKUP(J51,DEBUT!$D$5:$J$110,6,FALSE)),2)+POWER((VLOOKUP(I51,DEBUT!$D$5:$J$110,7,FALSE)-VLOOKUP(J51,DEBUT!$D$5:$J$110,7,FALSE)),2))/CARTE!$O$9,0)","v":621.65617723594562},{"$f":"IFERROR(SQRT(POWER((VLOOKUP(J51,DEBUT!$D$5:$J$110,6,FALSE)-VLOOKUP(K51,DEBUT!$D$5:$J$110,6,FALSE)),2)+POWER((VLOOKUP(J51,DEBUT!$D$5:$J$110,7,FALSE)-VLOOKUP(K51,DEBUT!$D$5:$J$110,7,FALSE)),2))/CARTE!$O$9,0)","v":0},{"$f":"IFERROR(SQRT(POWER((VLOOKUP(K51,DEBUT!$D$5:$J$110,6,FALSE)-VLOOKUP(L51,DEBUT!$D$5:$J$110,6,FALSE)),2)+POWER((VLOOKUP(K51,DEBUT!$D$5:$J$110,7,FALSE)-VLOOKUP(L51,DEBUT!$D$5:$J$110,7,FALSE)),2))/CARTE!$O$9,0)","v":0},{"$f":"IFERROR(SQRT(POWER((VLOOKUP(L51,DEBUT!$D$5:$J$110,6,FALSE)-VLOOKUP(M51,DEBUT!$D$5:$J$110,6,FALSE)),2)+POWER((VLOOKUP(L51,DEBUT!$D$5:$J$110,7,FALSE)-VLOOKUP(M51,DEBUT!$D$5:$J$110,7,FALSE)),2))/CARTE!$O$9,0)","v":0},"min","m","Distance",{"$f":"SUM(E49:M49)","v":2986.8892406893729},"m"]
[null,null,null,"Balises prévues",{"$f":"IF(ISTEXT($D49),HLOOKUP($D49,DEBUT!$O$3:$XX$100,3,FALSE),\"\")","v":"A"},{"$f":"IF(ISTEXT($D49),HLOOKUP($D49,DEBUT!$O$3:$XX$100,4,FALSE),\"\")","v":"B"},{"$f":"IF(ISTEXT($D49),HLOOKUP($D49,DEBUT!$O$3:$XX$100,5,FALSE),\"\")","v":"C"},{"$f":"IF(ISTEXT($D49),HLOOKUP($D49,DEBUT!$O$3:$XX$100,6,FALSE),\"\")","v":"D"},{"$f":"IF(ISTEXT($D49),HLOOKUP($D49,DEBUT!$O$3:$XX$100,7,FALSE),\"\")","v":"E"},{"$f":"IF(ISTEXT($D49),HLOOKUP($D49,DEBUT!$O$3:$XX$100,8,FALSE),\"\")","v":"F"},{"$f":"IF(ISTEXT($D49),HLOOKUP($D49,DEBUT!$O$3:$XX$100,9,FALSE),\"\")","v":0},{"$f":"IF(ISTEXT($D49),HLOOKUP($D49,DEBUT!$O$3:$XX$100,10,FALSE),\"\")","v":0},{"$f":"IF(ISTEXT($D49),HLOOKUP($D49,DEBUT!$O$3:$XX$100,11,FALSE),\"\")","v":0},null,null,"Nombre balises prévues",{"$f":"SUMPRODUCT(N(ISTEXT(E50:M50)))","v":6},"prévues"]
[null,null,null,"Validé",{"$f":"IF($D51=DEBUT!$L$5,E52,\"\")","v":7},{"$f":"IF($D51=DEBUT!$L$5,F52,\"\")","v":10},{"$f":"IF($D51=DEBUT!$L$5,G52,\"\")","v":11},{"$f":"IF($D51=DEBUT!$L$5,H52,\"\")","v":1},{"$f":"IF($D51=DEBUT!$L$5,I52,\"\")","v":76},{"$f":"IF($D51=DEBUT!$L$5,J52,\"\")","v":46},{"$f":"IF($D51=DEBUT!$L$5,K52,\"\")","v":""},{"$f":"IF($D51=DEBUT!$L$5,L52,\"\")","v":""},{"$f":"IF($D51=DEBUT!$L$5,M52,\"\")","v":""},null,null,"Nombre balises trouvées",{"$f":"SUMPRODUCT(N(ISNUMBER(E51:M51)))","v":6},{"$f":"IF(Q51>1,\"trouvées\",\"trouvée\")","v":"trouvées"}]
[null,null,null,"Balises CM",{"$f":"IFERROR(INDEX(baliseCM,MATCH(E50,lettre,0),MATCH($D48,parcours,0)),\"\")","v":7},{"$f":"IFERROR(INDEX(baliseCM,MATCH(F50,lettre,0),MATCH($D48,parcours,0)),\"\")","v":10},11,1,76,46,"","","",{"$f":"IFERROR(INDEX(baliseCM,MATCH(N50,lettre,0),MATCH($D48,parcours,0)),\"\")","v":""}]
[null,null,null,"Vitesse",null,null,{"$f":"((E49+F49+G49)/ABS((HOUR(G48)*3600+MINUTE(G48)*60+SECOND(G48))))*3.6","v":{"$error":"#NUM!"}},null,null,{"$f":"((H49+I49+J49)/ABS((HOUR(J48)*3600+MINUTE(J48)*60+SECOND(J48))))*3.6","v":{"$error":"#DIV/0!"}},null,null,{"$f":"((K49+L49+M49)/ABS((HOUR(M48)*3600+MINUTE(M48)*60+SECOND(M48))))*3.6","v":{"$error":"#DIV/0!"}},null,"Km/h","Vitesse moyenne",{"$f":"Q49/R48*3.6","v":{"$error":"#DIV/0!"}},"km/h"]
[null,"EQUIPE 8",null,"15:51:45",null,null,null,null,null,null,null,null,null,null,null,null,null,null,null,"Analyse du parcours"]
[null,null,null,{"$f":"CONCATENATE(D56,\"bis\")","v":"alchimistebis"},null,null,{"$f":"G54-D54","v":-0.66093750000000007},null,null,{"$f":"J54-G54","v":"00:00:00"},{"$f":"K54-J54","v":"00:00:00"},{"$f":"L54-K54","v":"00:00:00"},{"$f":"M54-J54","v":"00:00:00"},null,null,"Temps de course",{"$f":"SUMIF(E55:M55,\">0\",E55:M55)","v":"00:00:00"},{"$f":"ABS((HOUR(Q55)*3600+MINUTE(Q55)*60+SECOND(Q55)))","v":0}]
[null,null,null,{"$f":"$H$2","v":"alchimiste"},{"$f":"IFERROR(SQRT(POWER((VLOOKUP($C$5,DEBUT!$D$5:$J$110,6,FALSE)-VLOOKUP(E58,DEBUT!$D$5:$J$110,6,FALSE)),2)+POWER((VLOOKUP($C$5,DEBUT!$D$5:$J$110,7,FALSE)-VLOOKUP(E58,DEBUT!$D$5:$J$110,7,FALSE)),2))/CARTE!$O$9,0)","v":177.2924730824831},{"$f":"IFERROR(SQRT(POWER((VLOOKUP(E58,DEBUT!$D$5:$J$110,6,FALSE)-VLOOKUP(F58,DEBUT!$D$5:$J$110,6,FALSE)),2)+POWER((VLOOKUP(E58,DEBUT!$D$5:$J$110,7,FALSE)-VLOOKUP(F58,DEBUT!$D$5:$J$110,7,FALSE)),2))/CARTE!$O$9,0)","v":292.41323207806477},{"$f":"IFERROR(SQRT(POWER((VLOOKUP(F58,DEBUT!$D$5:$J$110,6,FALSE)-VLOOKUP(G58,DEBUT!$D$5:$J$110,6,FALSE)),2)+POWER((VLOOKUP(F58,DEBUT!$D$5:$J$110,7,FALSE)-VLOOKUP(G58,DEBUT!$D$5:$J$110,7,FALSE)),2))/CARTE!$O$9,0)","v":185.45260026215442},{"$f":"IFERROR(SQRT(POWER((VLOOKUP(G58,DEBUT!$D$5:$J$110,6,FALSE)-VLOOKUP(H58,DEBUT!$D$5:$J$110,6,FALSE)),2)+POWER((VLOOKUP(G58,DEBUT!$D$5:$J$110,7,FALSE)-VLOOKUP(H58,DEBUT!$D$5:$J$110,7,FALSE)),2))/CARTE!$O$9,0)","v":388.88158128989608},{"$f":"IFERROR(SQRT(POWER((VLOOKUP(H58,DEBUT!$D$5:$J$110,6,FALSE)-VLOOKUP(I58,DEBUT!$D$5:$J$110,6,FALSE)),2)+POWER((VLOOKUP(H58,DEBUT!$D$5:$J$110,7,FALSE)-VLOOKUP(I58,DEBUT!$D$5:$J$110,7,FALSE)),2))/CARTE!$O$9,0)","v":1321.1931767408294},{"$f":"IFERROR(SQRT(POWER((VLOOKUP(I58,DEBUT!$D$5:$J$110,6,FALSE)-VLOOKUP(J58,DEBUT!$D$5:$J$110,6,FALSE)),2)+POWER((VLOOKUP(I58,DEBUT!$D$5:$J$110,7,FALSE)-VLOOKUP(J58,DEBUT!$D$5:$J$110,7,FALSE)),2))/CARTE!$O$9,0)","v":621.65617723594562},{"$f":"IFERROR(SQRT(POWER((VLOOKUP(J58,DEBUT!$D$5:$J$110,6,FALSE)-VLOOKUP(K58,DEBUT!$D$5:$J$110,6,FALSE)),2)+POWER((VLOOKUP(J58,DEBUT!$D$5:$J$110,7,FALSE)-VLOOKUP(K58,DEBUT!$D$5:$J$110,7,FALSE)),2))/CARTE!$O$9,0)","v":0},{"$f":"IFERROR(SQRT(POWER((VLOOKUP(K58,DEBUT!$D$5:$J$110,6,FALSE)-VLOOKUP(L58,DEBUT!$D$5:$J$110,6,FALSE)),2)+POWER((VLOOKUP(K58,DEBUT!$D$5:$J$110,7,FALSE)-VLOOKUP(L58,DEBUT!$D$5:$J$110,7,FALSE)),2))/CARTE!$O$9,0)","v":0},{"$f":"IFERROR(SQRT(POWER((VLOOKUP(L58,DEBUT!$D$5:$J$110,6,FALSE)-VLOOKUP(M58,DEBUT!$D$5:$J$110,6,FALSE)),2)+POWER((VLOOKUP(L58,DEBUT!$D$5:$J$110,7,FALSE)-VLOOKUP(M58,DEBUT!$D$5:$J$110,7,FALSE)),2))/CARTE!$O$9,0)","v":0},"min","m","Distance",{"$f":"SUM(E56:M56)","v":2986.8892406893729},"m"]
[null,null,null,"Balises prévues",{"$f":"IF(ISTEXT($D56),HLOOKUP($D56,DEBUT!$O$3:$XX$100,3,FALSE),\"\")","v":"A"},{"$f":"IF(ISTEXT($D56),HLOOKUP($D56,DEBUT!$O$3:$XX$100,4,FALSE),\"\")","v":"B"},{"$f":"IF(ISTEXT($D56),HLOOKUP($D56,DEBUT!$O$3:$XX$100,5,FALSE),\"\")","v":"C"},{"$f":"IF(ISTEXT($D56),HLOOKUP($D56,DEBUT!$O$3:$XX$100,6,FALSE),\"\")","v":"D"},{"$f":"IF(ISTEXT($D56),HLOOKUP($D56,DEBUT!$O$3:$XX$100,7,FALSE),\"\")","v":"E"},{"$f":"IF(ISTEXT($D56),HLOOKUP($D56,DEBUT!$O$3:$XX$100,8,FALSE),\"\")","v":"F"},{"$f":"IF(ISTEXT($D56),HLOOKUP($D56,DEBUT!$O$3:$XX$100,9,FALSE),\"\")","v":0},{"$f":"IF(ISTEXT($D56),HLOOKUP($D56,DEBUT!$O$3:$XX$100,10,FALSE),\"\")","v":0},{"$f":"IF(ISTEXT($D56),HLOOKUP($D56,DEBUT!$O$3:$XX$100,11,FALSE),\"\")","v":0},null,null,"Nombre balises prévues",{"$f":"SUMPRODUCT(N(ISTEXT(E57:M57)))","v":6},"prévues"]
[null,null,null,"Validé",{"$f":"IF($D58=DEBUT!$L$5,E59,\"\")","v":7},{"$f":"IF($D58=DEBUT!$L$5,F59,\"\")","v":10},{"$f":"IF($D58=DEBUT!$L$5,G59,\"\")","v":11},{"$f":"IF($D58=DEBUT!$L$5,H59,\"\")","v":1},{"$f":"IF($D58=DEBUT!$L$5,I59,\"\")","v":76},{"$f":"IF($D58=DEBUT!$L$5,J59,\"\")","v":46},{"$f":"IF($D58=DEBUT!$L$5,K59,\"\")","v":""},{"$f":"IF($D58=DEBUT!$L$5,L59,\"\")","v":""},{"$f":"IF($D58=DEBUT!$L$5,M59,\"\")","v":""},null,null,"Nombre balises trouvées",{"$f":"SUMPRODUCT(N(ISNUMBER(E58:M58)))","v":6},{"$f":"IF(Q58>1,\"trouvées\",\"trouvée\")","v":"trouvées"}]
[null,null,null,"Balises CM",{"$f":"IFERROR(INDEX(baliseCM,MATCH(E57,lettre,0),MATCH($D55,parcours,0)),\"\")","v":7},{"$f":"IFERROR(INDEX(baliseCM,MATCH(F57,lettre,0),MATCH($D55,parcours,0)),\"\")","v":10},11,1,76,46,"","","",{"$f":"IFERROR(INDEX(baliseCM,MATCH(N57,lettre,0),MATCH($D55,parcours,0)),\"\")","v":""}]
[null,null,null,"Vitesse",null,null,{"$f":"((E56+F56+G56)/ABS((HOUR(G55)*3600+MINUTE(G55)*60+SECOND(G55))))*3.6","v":{"$error":"#NUM!"}},null,null,{"$f":"((H56+I56+J56)/ABS((HOUR(J55)*3600+MINUTE(J55)*60+SECOND(J55))))*3.6","v":{"$error":"#DIV/0!"}},null,null,{"$f":"((K56+L56+M56)/ABS((HOUR(M55)*3600+MINUTE(M55)*60+SECOND(M55))))*3.6","v":{"$error":"#DIV/0!"}},null,"Km/h","Vitesse moyenne",{"$f":"Q56/R55*3.6","v":{"$error":"#DIV/0!"}},"km/h"]
[null,"EQUIPE 9",null,"15:51:45",null,null,null,null,null,null,null,null,null,null,null,null,null,null,null,"Analyse du parcours"]
[null,null,null,{"$f":"CONCATENATE(D63,\"bis\")","v":"alchimistebis"},null,null,{"$f":"G61-D61","v":-0.66093750000000007},null,null,{"$f":"J61-G61","v":"00:00:00"},{"$f":"K61-J61","v":"00:00:00"},{"$f":"L61-K61","v":"00:00:00"},{"$f":"M61-J61","v":"00:00:00"},null,null,"Temps de course",{"$f":"SUMIF(E62:M62,\">0\",E62:M62)","v":"00:00:00"},{"$f":"ABS((HOUR(Q62)*3600+MINUTE(Q62)*60+SECOND(Q62)))","v":0}]
[null,null,null,{"$f":"$H$2","v":"alchimiste"},{"$f":"IFERROR(SQRT(POWER((VLOOKUP($C$5,DEBUT!$D$5:$J$110,6,FALSE)-VLOOKUP(E65,DEBUT!$D$5:$J$110,6,FALSE)),2)+POWER((VLOOKUP($C$5,DEBUT!$D$5:$J$110,7,FALSE)-VLOOKUP(E65,DEBUT!$D$5:$J$110,7,FALSE)),2))/CARTE!$O$9,0)","v":177.2924730824831},{"$f":"IFERROR(SQRT(POWER((VLOOKUP(E65,DEBUT!$D$5:$J$110,6,FALSE)-VLOOKUP(F65,DEBUT!$D$5:$J$110,6,FALSE)),2)+POWER((VLOOKUP(E65,DEBUT!$D$5:$J$110,7,FALSE)-VLOOKUP(F65,DEBUT!$D$5:$J$110,7,FALSE)),2))/CARTE!$O$9,0)","v":292.41323207806477},{"$f":"IFERROR(SQRT(POWER((VLOOKUP(F65,DEBUT!$D$5:$J$110,6,FALSE)-VLOOKUP(G65,DEBUT!$D$5:$J$110,6,FALSE)),2)+POWER((VLOOKUP(F65,DEBUT!$D$5:$J$110,7,FALSE)-VLOOKUP(G65,DEBUT!$D$5:$J$110,7,FALSE)),2))/CARTE!$O$9,0)","v":185.45260026215442},{"$f":"IFERROR(SQRT(POWER((VLOOKUP(G65,DEBUT!$D$5:$J$110,6,FALSE)-VLOOKUP(H65,DEBUT!$D$5:$J$110,6,FALSE)),2)+POWER((VLOOKUP(G65,DEBUT!$D$5:$J$110,7,FALSE)-VLOOKUP(H65,DEBUT!$D$5:$J$110,7,FALSE)),2))/CARTE!$O$9,0)","v":388.88158128989608},{"$f":"IFERROR(SQRT(POWER((VLOOKUP(H65,DEBUT!$D$5:$J$110,6,FALSE)-VLOOKUP(I65,DEBUT!$D$5:$J$110,6,FALSE)),2)+POWER((VLOOKUP(H65,DEBUT!$D$5:$J$110,7,FALSE)-VLOOKUP(I65,DEBUT!$D$5:$J$110,7,FALSE)),2))/CARTE!$O$9,0)","v":1321.1931767408294},{"$f":"IFERROR(SQRT(POWER((VLOOKUP(I65,DEBUT!$D$5:$J$110,6,FALSE)-VLOOKUP(J65,DEBUT!$D$5:$J$110,6,FALSE)),2)+POWER((VLOOKUP(I65,DEBUT!$D$5:$J$110,7,FALSE)-VLOOKUP(J65,DEBUT!$D$5:$J$110,7,FALSE)),2))/CARTE!$O$9,0)","v":621.65617723594562},{"$f":"IFERROR(SQRT(POWER((VLOOKUP(J65,DEBUT!$D$5:$J$110,6,FALSE)-VLOOKUP(K65,DEBUT!$D$5:$J$110,6,FALSE)),2)+POWER((VLOOKUP(J65,DEBUT!$D$5:$J$110,7,FALSE)-VLOOKUP(K65,DEBUT!$D$5:$J$110,7,FALSE)),2))/CARTE!$O$9,0)","v":0},{"$f":"IFERROR(SQRT(POWER((VLOOKUP(K65,DEBUT!$D$5:$J$110,6,FALSE)-VLOOKUP(L65,DEBUT!$D$5:$J$110,6,FALSE)),2)+POWER((VLOOKUP(K65,DEBUT!$D$5:$J$110,7,FALSE)-VLOOKUP(L65,DEBUT!$D$5:$J$110,7,FALSE)),2))/CARTE!$O$9,0)","v":0},{"$f":"IFERROR(SQRT(POWER((VLOOKUP(L65,DEBUT!$D$5:$J$110,6,FALSE)-VLOOKUP(M65,DEBUT!$D$5:$J$110,6,FALSE)),2)+POWER((VLOOKUP(L65,DEBUT!$D$5:$J$110,7,FALSE)-VLOOKUP(M65,DEBUT!$D$5:$J$110,7,FALSE)),2))/CARTE!$O$9,0)","v":0},"min","m","Distance",{"$f":"SUM(E63:M63)","v":2986.8892406893729},"m"]
[null,null,null,"Balises prévues",{"$f":"IF(ISTEXT($D63),HLOOKUP($D63,DEBUT!$O$3:$XX$100,3,FALSE),\"\")","v":"A"},{"$f":"IF(ISTEXT($D63),HLOOKUP($D63,DEBUT!$O$3:$XX$100,4,FALSE),\"\")","v":"B"},{"$f":"IF(ISTEXT($D63),HLOOKUP($D63,DEBUT!$O$3:$XX$100,5,FALSE),\"\")","v":"C"},{"$f":"IF(ISTEXT($D63),HLOOKUP($D63,DEBUT!$O$3:$XX$100,6,FALSE),\"\")","v":"D"},{"$f":"IF(ISTEXT($D63),HLOOKUP($D63,DEBUT!$O$3:$XX$100,7,FALSE),\"\")","v":"E"},{"$f":"IF(ISTEXT($D63),HLOOKUP($D63,DEBUT!$O$3:$XX$100,8,FALSE),\"\")","v":"F"},{"$f":"IF(ISTEXT($D63),HLOOKUP($D63,DEBUT!$O$3:$XX$100,9,FALSE),\"\")","v":0},{"$f":"IF(ISTEXT($D63),HLOOKUP($D63,DEBUT!$O$3:$XX$100,10,FALSE),\"\")","v":0},{"$f":"IF(ISTEXT($D63),HLOOKUP($D63,DEBUT!$O$3:$XX$100,11,FALSE),\"\")","v":0},null,null,"Nombre balises prévues",{"$f":"SUMPRODUCT(N(ISTEXT(E64:M64)))","v":6},"prévues"]
[null,null,null,"Validé",{"$f":"IF($D65=DEBUT!$L$5,E66,\"\")","v":7},{"$f":"IF($D65=DEBUT!$L$5,F66,\"\")","v":10},{"$f":"IF($D65=DEBUT!$L$5,G66,\"\")","v":11},{"$f":"IF($D65=DEBUT!$L$5,H66,\"\")","v":1},{"$f":"IF($D65=DEBUT!$L$5,I66,\"\")","v":76},{"$f":"IF($D65=DEBUT!$L$5,J66,\"\")","v":46},{"$f":"IF($D65=DEBUT!$L$5,K66,\"\")","v":""},{"$f":"IF($D65=DEBUT!$L$5,L66,\"\")","v":""},{"$f":"IF($D65=DEBUT!$L$5,M66,\"\")","v":""},null,null,"Nombre balises trouvées",{"$f":"SUMPRODUCT(N(ISNUMBER(E65:M65)))","v":6},{"$f":"IF(Q65>1,\"trouvées\",\"trouvée\")","v":"trouvées"}]
[null,null,null,"Balises CM",{"$f":"IFERROR(INDEX(baliseCM,MATCH(E64,lettre,0),MATCH($D62,parcours,0)),\"\")","v":7},{"$f":"IFERROR(INDEX(baliseCM,MATCH(F64,lettre,0),MATCH($D62,parcours,0)),\"\")","v":10},11,1,76,46,"","","",{"$f":"IFERROR(INDEX(baliseCM,MATCH(N64,lettre,0),MATCH($D62,parcours,0)),\"\")","v":""}]
[null,null,null,"Vitesse",null,null,{"$f":"((E63+F63+G63)/ABS((HOUR(G62)*3600+MINUTE(G62)*60+SECOND(G62))))*3.6","v":{"$error":"#NUM!"}},null,null,{"$f":"((H63+I63+J63)/ABS((HOUR(J62)*3600+MINUTE(J62)*60+SECOND(J62))))*3.6","v":{"$error":"#DIV/0!"}},null,null,{"$f":"((K63+L63+M63)/ABS((HOUR(M62)*3600+MINUTE(M62)*60+SECOND(M62))))*3.6","v":{"$error":"#DIV/0!"}},null,"Km/h","Vitesse moyenne",{"$f":"Q63/R62*3.6","v":{"$error":"#DIV/0!"}},"km/h"]
[null,"EQUIPE 10",null,"15:51:45",null,null,null,null,null,null,null,null,null,null,null,null,null,null,null,"Analyse du parcours"]
[null,null,null,{"$f":"CONCATENATE(D70,\"bis\")","v":"alchimistebis"},null,null,{"$f":"G68-D68","v":-0.66093750000000007},null,null,{"$f":"J68-G68","v":"00:00:00"},{"$f":"K68-J68","v":"00:00:00"},{"$f":"L68-K68","v":"00:00:00"},{"$f":"M68-J68","v":"00:00:00"},null,null,"Temps de course",{"$f":"SUMIF(E69:M69,\">0\",E69:M69)","v":"00:00:00"},{"$f":"ABS((HOUR(Q69)*3600+MINUTE(Q69)*60+SECOND(Q69)))","v":0}]
[null,null,null,{"$f":"$H$2","v":"alchimiste"},{"$f":"IFERROR(SQRT(POWER((VLOOKUP($C$5,DEBUT!$D$5:$J$110,6,FALSE)-VLOOKUP(E72,DEBUT!$D$5:$J$110,6,FALSE)),2)+POWER((VLOOKUP($C$5,DEBUT!$D$5:$J$110,7,FALSE)-VLOOKUP(E72,DEBUT!$D$5:$J$110,7,FALSE)),2))/CARTE!$O$9,0)","v":177.2924730824831},{"$f":"IFERROR(SQRT(POWER((VLOOKUP(E72,DEBUT!$D$5:$J$110,6,FALSE)-VLOOKUP(F72,DEBUT!$D$5:$J$110,6,FALSE)),2)+POWER((VLOOKUP(E72,DEBUT!$D$5:$J$110,7,FALSE)-VLOOKUP(F72,DEBUT!$D$5:$J$110,7,FALSE)),2))/CARTE!$O$9,0)","v":292.41323207806477},{"$f":"IFERROR(SQRT(POWER((VLOOKUP(F72,DEBUT!$D$5:$J$110,6,FALSE)-VLOOKUP(G72,DEBUT!$D$5:$J$110,6,FALSE)),2)+POWER((VLOOKUP(F72,DEBUT!$D$5:$J$110,7,FALSE)-VLOOKUP(G72,DEBUT!$D$5:$J$110,7,FALSE)),2))/CARTE!$O$9,0)","v":185.45260026215442},{"$f":"IFERROR(SQRT(POWER((VLOOKUP(G72,DEBUT!$D$5:$J$110,6,FALSE)-VLOOKUP(H72,DEBUT!$D$5:$J$110,6,FALSE)),2)+POWER((VLOOKUP(G72,DEBUT!$D$5:$J$110,7,FALSE)-VLOOKUP(H72,DEBUT!$D$5:$J$110,7,FALSE)),2))/CARTE!$O$9,0)","v":388.88158128989608},{"$f":"IFERROR(SQRT(POWER((VLOOKUP(H72,DEBUT!$D$5:$J$110,6,FALSE)-VLOOKUP(I72,DEBUT!$D$5:$J$110,6,FALSE)),2)+POWER((VLOOKUP(H72,DEBUT!$D$5:$J$110,7,FALSE)-VLOOKUP(I72,DEBUT!$D$5:$J$110,7,FALSE)),2))/CARTE!$O$9,0)","v":1321.1931767408294},{"$f":"IFERROR(SQRT(POWER((VLOOKUP(I72,DEBUT!$D$5:$J$110,6,FALSE)-VLOOKUP(J72,DEBUT!$D$5:$J$110,6,FALSE)),2)+POWER((VLOOKUP(I72,DEBUT!$D$5:$J$110,7,FALSE)-VLOOKUP(J72,DEBUT!$D$5:$J$110,7,FALSE)),2))/CARTE!$O$9,0)","v":621.65617723594562},{"$f":"IFERROR(SQRT(POWER((VLOOKUP(J72,DEBUT!$D$5:$J$110,6,FALSE)-VLOOKUP(K72,DEBUT!$D$5:$J$110,6,FALSE)),2)+POWER((VLOOKUP(J72,DEBUT!$D$5:$J$110,7,FALSE)-VLOOKUP(K72,DEBUT!$D$5:$J$110,7,FALSE)),2))/CARTE!$O$9,0)","v":0},{"$f":"IFERROR(SQRT(POWER((VLOOKUP(K72,DEBUT!$D$5:$J$110,6,FALSE)-VLOOKUP(L72,DEBUT!$D$5:$J$110,6,FALSE)),2)+POWER((VLOOKUP(K72,DEBUT!$D$5:$J$110,7,FALSE)-VLOOKUP(L72,DEBUT!$D$5:$J$110,7,FALSE)),2))/CARTE!$O$9,0)","v":0},{"$f":"IFERROR(SQRT(POWER((VLOOKUP(L72,DEBUT!$D$5:$J$110,6,FALSE)-VLOOKUP(M72,DEBUT!$D$5:$J$110,6,FALSE)),2)+POWER((VLOOKUP(L72,DEBUT!$D$5:$J$110,7,FALSE)-VLOOKUP(M72,DEBUT!$D$5:$J$110,7,FALSE)),2))/CARTE!$O$9,0)","v":0},"min","m","Distance",{"$f":"SUM(E70:M70)","v":2986.8892406893729},"m"]
[null,null,null,"Balises prévues",{"$f":"IF(ISTEXT($D70),HLOOKUP($D70,DEBUT!$O$3:$XX$100,3,FALSE),\"\")","v":"A"},{"$f":"IF(ISTEXT($D70),HLOOKUP($D70,DEBUT!$O$3:$XX$100,4,FALSE),\"\")","v":"B"},{"$f":"IF(ISTEXT($D70),HLOOKUP($D70,DEBUT!$O$3:$XX$100,5,FALSE),\"\")","v":"C"},{"$f":"IF(ISTEXT($D70),HLOOKUP($D70,DEBUT!$O$3:$XX$100,6,FALSE),\"\")","v":"D"},{"$f":"IF(ISTEXT($D70),HLOOKUP($D70,DEBUT!$O$3:$XX$100,7,FALSE),\"\")","v":"E"},{"$f":"IF(ISTEXT($D70),HLOOKUP($D70,DEBUT!$O$3:$XX$100,8,FALSE),\"\")","v":"F"},{"$f":"IF(ISTEXT($D70),HLOOKUP($D70,DEBUT!$O$3:$XX$100,9,FALSE),\"\")","v":0},{"$f":"IF(ISTEXT($D70),HLOOKUP($D70,DEBUT!$O$3:$XX$100,10,FALSE),\"\")","v":0},{"$f":"IF(ISTEXT($D70),HLOOKUP($D70,DEBUT!$O$3:$XX$100,11,FALSE),\"\")","v":0},null,null,"Nombre balises prévues",{"$f":"SUMPRODUCT(N(ISTEXT(E71:M71)))","v":6},"prévues"]
[null,null,null,"Validé",{"$f":"IF($D72=DEBUT!$L$5,E73,\"\")","v":7},{"$f":"IF($D72=DEBUT!$L$5,F73,\"\")","v":10},{"$f":"IF($D72=DEBUT!$L$5,G73,\"\")","v":11},{"$f":"IF($D72=DEBUT!$L$5,H73,\"\")","v":1},{"$f":"IF($D72=DEBUT!$L$5,I73,\"\")","v":76},{"$f":"IF($D72=DEBUT!$L$5,J73,\"\")","v":46},{"$f":"IF($D72=DEBUT!$L$5,K73,\"\")","v":""},{"$f":"IF($D72=DEBUT!$L$5,L73,\"\")","v":""},{"$f":"IF($D72=DEBUT!$L$5,M73,\"\")","v":""},null,null,"Nombre balises trouvées",{"$f":"SUMPRODUCT(N(ISNUMBER(E72:M72)))","v":6},{"$f":"IF(Q72>1,\"trouvées\",\"trouvée\")","v":"trouvées"}]
[null,null,null,"Balises CM",{"$f":"IFERROR(INDEX(baliseCM,MATCH(E71,lettre,0),MATCH($D69,parcours,0)),\"\")","v":7},{"$f":"IFERROR(INDEX(baliseCM,MATCH(F71,lettre,0),MATCH($D69,parcours,0)),\"\")","v":10},11,1,76,46,"","","",{"$f":"IFERROR(INDEX(baliseCM,MATCH(N71,lettre,0),MATCH($D69,parcours,0)),\"\")","v":""}]
[null,null,null,"Vitesse",null,null,{"$f":"((E70+F70+G70)/ABS((HOUR(G69)*3600+MINUTE(G69)*60+SECOND(G69))))*3.6","v":{"$error":"#NUM!"}},null,null,{"$f":"((H70+I70+J70)/ABS((HOUR(J69)*3600+MINUTE(J69)*60+SECOND(J69))))*3.6","v":{"$error":"#DIV/0!"}},null,null,{"$f":"((K70+L70+M70)/ABS((HOUR(M69)*3600+MINUTE(M69)*60+SECOND(M69))))*3.6","v":{"$error":"#DIV/0!"}},null,"Km/h","Vitesse moyenne",{"$f":"Q70/R69*3.6","v":{"$error":"#DIV/0!"}},"km/h"]
[null,"EQUIPE 11",null,"07:28:54",null,null,null,null,null,null,null,null,null,null,null,null,null,null,null,"Analyse du parcours"]
[null,null,null,{"$f":"CONCATENATE(D77,\"bis\")","v":"alchimistebis"},null,null,{"$f":"G75-D75","v":-0.3117361111111111},null,null,{"$f":"J75-G75","v":"00:00:00"},{"$f":"K75-J75","v":"00:00:00"},{"$f":"L75-K75","v":"00:00:00"},{"$f":"M75-J75","v":"00:00:00"},null,null,"Temps de course",{"$f":"SUMIF(E76:M76,\">0\",E76:M76)","v":"00:00:00"},{"$f":"ABS((HOUR(Q76)*3600+MINUTE(Q76)*60+SECOND(Q76)))","v":0}]
[null,null,null,{"$f":"$H$2","v":"alchimiste"},{"$f":"IFERROR(SQRT(POWER((VLOOKUP($C$5,DEBUT!$D$5:$J$110,6,FALSE)-VLOOKUP(E79,DEBUT!$D$5:$J$110,6,FALSE)),2)+POWER((VLOOKUP($C$5,DEBUT!$D$5:$J$110,7,FALSE)-VLOOKUP(E79,DEBUT!$D$5:$J$110,7,FALSE)),2))/CARTE!$O$9,0)","v":177.2924730824831},{"$f":"IFERROR(SQRT(POWER((VLOOKUP(E79,DEBUT!$D$5:$J$110,6,FALSE)-VLOOKUP(F79,DEBUT!$D$5:$J$110,6,FALSE)),2)+POWER((VLOOKUP(E79,DEBUT!$D$5:$J$110,7,FALSE)-VLOOKUP(F79,DEBUT!$D$5:$J$110,7,FALSE)),2))/CARTE!$O$9,0)","v":292.41323207806477},{"$f":"IFERROR(SQRT(POWER((VLOOKUP(F79,DEBUT!$D$5:$J$110,6,FALSE)-VLOOKUP(G79,DEBUT!$D$5:$J$110,6,FALSE)),2)+POWER((VLOOKUP(F79,DEBUT!$D$5:$J$110,7,FALSE)-VLOOKUP(G79,DEBUT!$D$5:$J$110,7,FALSE)),2))/CARTE!$O$9,0)","v":185.45260026215442},{"$f":"IFERROR(SQRT(POWER((VLOOKUP(G79,DEBUT!$D$5:$J$110,6,FALSE)-VLOOKUP(H79,DEBUT!$D$5:$J$110,6,FALSE)),2)+POWER((VLOOKUP(G79,DEBUT!$D$5:$J$110,7,FALSE)-VLOOKUP(H79,DEBUT!$D$5:$J$110,7,FALSE)),2))/CARTE!$O$9,0)","v":388.88158128989608},{"$f":"IFERROR(SQRT(POWER((VLOOKUP(H79,DEBUT!$D$5:$J$110,6,FALSE)-VLOOKUP(I79,DEBUT!$D$5:$J$110,6,FALSE)),2)+POWER((VLOOKUP(H79,DEBUT!$D$5:$J$110,7,FALSE)-VLOOKUP(I79,DEBUT!$D$5:$J$110,7,FALSE)),2))/CARTE!$O$9,0)","v":1321.1931767408294},{"$f":"IFERROR(SQRT(POWER((VLOOKUP(I79,DEBUT!$D$5:$J$110,6,FALSE)-VLOOKUP(J79,DEBUT!$D$5:$J$110,6,FALSE)),2)+POWER((VLOOKUP(I79,DEBUT!$D$5:$J$110,7,FALSE)-VLOOKUP(J79,DEBUT!$D$5:$J$110,7,FALSE)),2))/CARTE!$O$9,0)","v":621.65617723594562},{"$f":"IFERROR(SQRT(POWER((VLOOKUP(J79,DEBUT!$D$5:$J$110,6,FALSE)-VLOOKUP(K79,DEBUT!$D$5:$J$110,6,FALSE)),2)+POWER((VLOOKUP(J79,DEBUT!$D$5:$J$110,7,FALSE)-VLOOKUP(K79,DEBUT!$D$5:$J$110,7,FALSE)),2))/CARTE!$O$9,0)","v":0},{"$f":"IFERROR(SQRT(POWER((VLOOKUP(K79,DEBUT!$D$5:$J$110,6,FALSE)-VLOOKUP(L79,DEBUT!$D$5:$J$110,6,FALSE)),2)+POWER((VLOOKUP(K79,DEBUT!$D$5:$J$110,7,FALSE)-VLOOKUP(L79,DEBUT!$D$5:$J$110,7,FALSE)),2))/CARTE!$O$9,0)","v":0},{"$f":"IFERROR(SQRT(POWER((VLOOKUP(L79,DEBUT!$D$5:$J$110,6,FALSE)-VLOOKUP(M79,DEBUT!$D$5:$J$110,6,FALSE)),2)+POWER((VLOOKUP(L79,DEBUT!$D$5:$J$110,7,FALSE)-VLOOKUP(M79,DEBUT!$D$5:$J$110,7,FALSE)),2))/CARTE!$O$9,0)","v":0},"min","m","Distance",{"$f":"SUM(E77:M77)","v":2986.8892406893729},"m"]
[null,null,null,"Balises prévues",{"$f":"IF(ISTEXT($D77),HLOOKUP($D77,DEBUT!$O$3:$XX$100,3,FALSE),\"\")","v":"A"},{"$f":"IF(ISTEXT($D77),HLOOKUP($D77,DEBUT!$O$3:$XX$100,4,FALSE),\"\")","v":"B"},{"$f":"IF(ISTEXT($D77),HLOOKUP($D77,DEBUT!$O$3:$XX$100,5,FALSE),\"\")","v":"C"},{"$f":"IF(ISTEXT($D77),HLOOKUP($D77,DEBUT!$O$3:$XX$100,6,FALSE),\"\")","v":"D"},{"$f":"IF(ISTEXT($D77),HLOOKUP($D77,DEBUT!$O$3:$XX$100,7,FALSE),\"\")","v":"E"},{"$f":"IF(ISTEXT($D77),HLOOKUP($D77,DEBUT!$O$3:$XX$100,8,FALSE),\"\")","v":"F"},{"$f":"IF(ISTEXT($D77),HLOOKUP($D77,DEBUT!$O$3:$XX$100,9,FALSE),\"\")","v":0},{"$f":"IF(ISTEXT($D77),HLOOKUP($D77,DEBUT!$O$3:$XX$100,10,FALSE),\"\")","v":0},{"$f":"IF(ISTEXT($D77),HLOOKUP($D77,DEBUT!$O$3:$XX$100,11,FALSE),\"\")","v":0},null,null,"Nombre balises prévues",{"$f":"SUMPRODUCT(N(ISTEXT(E78:M78)))","v":6},"prévues"]
[null,null,null,"Validé",{"$f":"IF($D79=DEBUT!$L$5,E80,\"\")","v":7},{"$f":"IF($D79=DEBUT!$L$5,F80,\"\")","v":10},{"$f":"IF($D79=DEBUT!$L$5,G80,\"\")","v":11},{"$f":"IF($D79=DEBUT!$L$5,H80,\"\")","v":1},{"$f":"IF($D79=DEBUT!$L$5,I80,\"\")","v":76},{"$f":"IF($D79=DEBUT!$L$5,J80,\"\")","v":46},{"$f":"IF($D79=DEBUT!$L$5,K80,\"\")","v":""},{"$f":"IF($D79=DEBUT!$L$5,L80,\"\")","v":""},{"$f":"IF($D79=DEBUT!$L$5,M80,\"\")","v":""},null,null,"Nombre balises trouvées",{"$f":"SUMPRODUCT(N(ISNUMBER(E79:M79)))","v":6},{"$f":"IF(Q79>1,\"trouvées\",\"trouvée\")","v":"trouvées"}]
[null,null,null,"Balises CM",{"$f":"IFERROR(INDEX(baliseCM,MATCH(E78,lettre,0),MATCH($D76,parcours,0)),\"\")","v":7},{"$f":"IFERROR(INDEX(baliseCM,MATCH(F78,lettre,0),MATCH($D76,parcours,0)),\"\")","v":10},11,1,76,46,"","","",{"$f":"IFERROR(INDEX(baliseCM,MATCH(N78,lettre,0),MATCH($D76,parcours,0)),\"\")","v":""}]
[null,null,null,"Vitesse",null,null,{"$f":"((E77+F77+G77)/ABS((HOUR(G76)*3600+MINUTE(G76)*60+SECOND(G76))))*3.6","v":{"$error":"#NUM!"}},null,null,{"$f":"((H77+I77+J77)/ABS((HOUR(J76)*3600+MINUTE(J76)*60+SECOND(J76))))*3.6","v":{"$error":"#DIV/0!"}},null,null,{"$f":"((K77+L77+M77)/ABS((HOUR(M76)*3600+MINUTE(M76)*60+SECOND(M76))))*3.6","v":{"$error":"#DIV/0!"}},null,"Km/h","Vitesse moyenne",{"$f":"Q77/R76*3.6","v":{"$error":"#DIV/0!"}},"km/h"]
[null,"EQUIPE 12",null,"07:46:00",null,null,null,null,null,null,null,null,null,null,null,null,null,null,null,"Analyse du parcours"]
[null,null,null,{"$f":"CONCATENATE(D84,\"bis\")","v":"alchimistebis"},null,null,{"$f":"G82-D82","v":-0.32361111111111113},null,null,{"$f":"J82-G82","v":"00:00:00"},{"$f":"K82-J82","v":"00:00:00"},{"$f":"L82-K82","v":"00:00:00"},{"$f":"M82-J82","v":"00:00:00"},null,null,"Temps de course",{"$f":"SUMIF(E83:M83,\">0\",E83:M83)","v":"00:00:00"},{"$f":"ABS((HOUR(Q83)*3600+MINUTE(Q83)*60+SECOND(Q83)))","v":0}]
[null,null,null,{"$f":"$H$2","v":"alchimiste"},{"$f":"IFERROR(SQRT(POWER((VLOOKUP($C$5,DEBUT!$D$5:$J$110,6,FALSE)-VLOOKUP(E86,DEBUT!$D$5:$J$110,6,FALSE)),2)+POWER((VLOOKUP($C$5,DEBUT!$D$5:$J$110,7,FALSE)-VLOOKUP(E86,DEBUT!$D$5:$J$110,7,FALSE)),2))/CARTE!$O$9,0)","v":177.2924730824831},{"$f":"IFERROR(SQRT(POWER((VLOOKUP(E86,DEBUT!$D$5:$J$110,6,FALSE)-VLOOKUP(F86,DEBUT!$D$5:$J$110,6,FALSE)),2)+POWER((VLOOKUP(E86,DEBUT!$D$5:$J$110,7,FALSE)-VLOOKUP(F86,DEBUT!$D$5:$J$110,7,FALSE)),2))/CARTE!$O$9,0)","v":292.41323207806477},{"$f":"IFERROR(SQRT(POWER((VLOOKUP(F86,DEBUT!$D$5:$J$110,6,FALSE)-VLOOKUP(G86,DEBUT!$D$5:$J$110,6,FALSE)),2)+POWER((VLOOKUP(F86,DEBUT!$D$5:$J$110,7,FALSE)-VLOOKUP(G86,DEBUT!$D$5:$J$110,7,FALSE)),2))/CARTE!$O$9,0)","v":185.45260026215442},{"$f":"IFERROR(SQRT(POWER((VLOOKUP(G86,DEBUT!$D$5:$J$110,6,FALSE)-VLOOKUP(H86,DEBUT!$D$5:$J$110,6,FALSE)),2)+POWER((VLOOKUP(G86,DEBUT!$D$5:$J$110,7,FALSE)-VLOOKUP(H86,DEBUT!$D$5:$J$110,7,FALSE)),2))/CARTE!$O$9,0)","v":388.88158128989608},{"$f":"IFERROR(SQRT(POWER((VLOOKUP(H86,DEBUT!$D$5:$J$110,6,FALSE)-VLOOKUP(I86,DEBUT!$D$5:$J$110,6,FALSE)),2)+POWER((VLOOKUP(H86,DEBUT!$D$5:$J$110,7,FALSE)-VLOOKUP(I86,DEBUT!$D$5:$J$110,7,FALSE)),2))/CARTE!$O$9,0)","v":1321.1931767408294},{"$f":"IFERROR(SQRT(POWER((VLOOKUP(I86,DEBUT!$D$5:$J$110,6,FALSE)-VLOOKUP(J86,DEBUT!$D$5:$J$110,6,FALSE)),2)+POWER((VLOOKUP(I86,DEBUT!$D$5:$J$110,7,FALSE)-VLOOKUP(J86,DEBUT!$D$5:$J$110,7,FALSE)),2))/CARTE!$O$9,0)","v":621.65617723594562},{"$f":"IFERROR(SQRT(POWER((VLOOKUP(J86,DEBUT!$D$5:$J$110,6,FALSE)-VLOOKUP(K86,DEBUT!$D$5:$J$110,6,FALSE)),2)+POWER((VLOOKUP(J86,DEBUT!$D$5:$J$110,7,FALSE)-VLOOKUP(K86,DEBUT!$D$5:$J$110,7,FALSE)),2))/CARTE!$O$9,0)","v":0},{"$f":"IFERROR(SQRT(POWER((VLOOKUP(K86,DEBUT!$D$5:$J$110,6,FALSE)-VLOOKUP(L86,DEBUT!$D$5:$J$110,6,FALSE)),2)+POWER((VLOOKUP(K86,DEBUT!$D$5:$J$110,7,FALSE)-VLOOKUP(L86,DEBUT!$D$5:$J$110,7,FALSE)),2))/CARTE!$O$9,0)","v":0},{"$f":"IFERROR(SQRT(POWER((VLOOKUP(L86,DEBUT!$D$5:$J$110,6,FALSE)-VLOOKUP(M86,DEBUT!$D$5:$J$110,6,FALSE)),2)+POWER((VLOOKUP(L86,DEBUT!$D$5:$J$110,7,FALSE)-VLOOKUP(M86,DEBUT!$D$5:$J$110,7,FALSE)),2))/CARTE!$O$9,0)","v":0},"min","m","Distance",{"$f":"SUM(E84:M84)","v":2986.8892406893729},"m"]
[null,null,null,"Balises prévues",{"$f":"IF(ISTEXT($D84),HLOOKUP($D84,DEBUT!$O$3:$XX$100,3,FALSE),\"\")","v":"A"},{"$f":"IF(ISTEXT($D84),HLOOKUP($D84,DEBUT!$O$3:$XX$100,4,FALSE),\"\")","v":"B"},{"$f":"IF(ISTEXT($D84),HLOOKUP($D84,DEBUT!$O$3:$XX$100,5,FALSE),\"\")","v":"C"},{"$f":"IF(ISTEXT($D84),HLOOKUP($D84,DEBUT!$O$3:$XX$100,6,FALSE),\"\")","v":"D"},{"$f":"IF(ISTEXT($D84),HLOOKUP($D84,DEBUT!$O$3:$XX$100,7,FALSE),\"\")","v":"E"},{"$f":"IF(ISTEXT($D84),HLOOKUP($D84,DEBUT!$O$3:$XX$100,8,FALSE),\"\")","v":"F"},{"$f":"IF(ISTEXT($D84),HLOOKUP($D84,DEBUT!$O$3:$XX$100,9,FALSE),\"\")","v":0},{"$f":"IF(ISTEXT($D84),HLOOKUP($D84,DEBUT!$O$3:$XX$100,10,FALSE),\"\")","v":0},{"$f":"IF(ISTEXT($D84),HLOOKUP($D84,DEBUT!$O$3:$XX$100,11,FALSE),\"\")","v":0},null,null,"Nombre balises prévues",{"$f":"SUMPRODUCT(N(ISTEXT(E85:M85)))","v":6},"prévues"]
[null,null,null,"Validé",{"$f":"IF($D86=DEBUT!$L$5,E87,\"\")","v":7},{"$f":"IF($D86=DEBUT!$L$5,F87,\"\")","v":10},{"$f":"IF($D86=DEBUT!$L$5,G87,\"\")","v":11},{"$f":"IF($D86=DEBUT!$L$5,H87,\"\")","v":1},{"$f":"IF($D86=DEBUT!$L$5,I87,\"\")","v":76},{"$f":"IF($D86=DEBUT!$L$5,J87,\"\")","v":46},{"$f":"IF($D86=DEBUT!$L$5,K87,\"\")","v":""},{"$f":"IF($D86=DEBUT!$L$5,L87,\"\")","v":""},{"$f":"IF($D86=DEBUT!$L$5,M87,\"\")","v":""},null,null,"Nombre balises trouvées",{"$f":"SUMPRODUCT(N(ISNUMBER(E86:M86)))","v":6},{"$f":"IF(Q86>1,\"trouvées\",\"trouvée\")","v":"trouvées"}]
[null,null,null,"Balises CM",{"$f":"IFERROR(INDEX(baliseCM,MATCH(E85,lettre,0),MATCH($D83,parcours,0)),\"\")","v":7},{"$f":"IFERROR(INDEX(baliseCM,MATCH(F85,lettre,0),MATCH($D83,parcours,0)),\"\")","v":10},11,1,76,46,"","","",{"$f":"IFERROR(INDEX(baliseCM,MATCH(N85,lettre,0),MATCH($D83,parcours,0)),\"\")","v":""}]
[null,null,null,"Vitesse",null,null,{"$f":"((E84+F84+G84)/ABS((HOUR(G83)*3600+MINUTE(G83)*60+SECOND(G83))))*3.6","v":{"$error":"#NUM!"}},null,null,{"$f":"((H84+I84+J84)/ABS((HOUR(J83)*3600+MINUTE(J83)*60+SECOND(J83))))*3.6","v":{"$error":"#DIV/0!"}},null,null,{"$f":"((K84+L84+M84)/ABS((HOUR(M83)*3600+MINUTE(M83)*60+SECOND(M83))))*3.6","v":{"$error":"#DIV/0!"}},null,"Km/h","Vitesse moyenne",{"$f":"Q84/R83*3.6","v":{"$error":"#DIV/0!"}},"km/h"]

{"sheet":"HISTOIRESFLASHS","index":9,"n_rows":88,"n_cols":39,"rows_kept":88,"cut":false,"hidden":false,"merged":[[19,19,23,19],[0,7,0,9],[1,4,1,5],[1,7,1,9],[5,19,9,19],[12,19,16,19],[68,19,72,19],[75,19,79,19],[82,19,86,19],[26,19,30,19],[33,19,37,19],[40,19,44,19],[47,19,51,19],[54,19,58,19],[61,19,65,19]]}
[null,null,null,null,null,null,null,{"$f":"CONCATENATE(H2,\"bis\")","v":"21Stevebis"},null,null,null,null,"Temps limite"]
[null,"STAGE",null,null,"23:08:42",null,null,"21Steve",null,null,null,null,30.024305555555557,"min"]
[null,null,null,null,null,null,null,null,{"$f":"IF(ISTEXT($H2),HLOOKUP($H2,DEBUT!$O$3:$XX$100,7,FALSE),\"\")","v":"E"}]
[null,null,null,null,null,null,null,null,{"$f":"IFERROR(INDEX(baliseCM,MATCH(I3,lettre,0),MATCH($H$1,parcours,0)),\"\")","v":35},null,null,null,null,null,null,"HISTOIRES","N3"]
[null,"EQUIPE 1","D","12:15:19",null,null,null,null,null,null,null,null,"23:12:36",null,null,null,null,null,null,"Analyse du parcours",null,null,null,null,null,null,null,null,null,null,null,null,null,null,null,null,null,1,{"$f":"OFFSET(INDEX(eleves,MATCH(AL5,chiffre,0),MATCH($B$2,classes,0)),0,1)","v":"POL"}]
[null,"Alexandre",null,{"$f":"CONCATENATE(D7,\"bis\")","v":"21Stevebis"},null,null,{"$f":"G5-D5","v":-0.51063657407407403},null,null,{"$f":"J5-G5","v":"00:00:00"},{"$f":"K5-J5","v":"00:00:00"},"00:00:00",{"$f":"M5-D5","v":"10:57:17"},null,null,"Temps de course",{"$f":"SUMIF(E6:M6,\">0\",E6:M6)","v":"10:57:17"},{"$f":"ABS((HOUR(Q6)*3600+MINUTE(Q6)*60+SECOND(Q6)))","v":39437},null,null,null,null,null,null,null,null,null,null,null,null,null,null,null,null,null,null,null,2,"CARINE"]
[null,null,null,{"$f":"$H$2","v":"21Steve"},{"$f":"IFERROR(SQRT(POWER((VLOOKUP($C$5,DEBUT!$D$5:$J$110,6,FALSE)-VLOOKUP(E9,DEBUT!$D$5:$J$110,6,FALSE)),2)+POWER((VLOOKUP($C$5,DEBUT!$D$5:$J$110,7,FALSE)-VLOOKUP(E9,DEBUT!$D$5:$J$110,7,FALSE)),2))/CARTE!$O$9,0)","v":0},{"$f":"IFERROR(SQRT(POWER((VLOOKUP(E9,DEBUT!$D$5:$J$110,6,FALSE)-VLOOKUP(F9,DEBUT!$D$5:$J$110,6,FALSE)),2)+POWER((VLOOKUP(E9,DEBUT!$D$5:$J$110,7,FALSE)-VLOOKUP(F9,DEBUT!$D$5:$J$110,7,FALSE)),2))/CARTE!$O$9,0)","v":0},{"$f":"IFERROR(SQRT(POWER((VLOOKUP(F9,DEBUT!$D$5:$J$110,6,FALSE)-VLOOKUP(G9,DEBUT!$D$5:$J$110,6,FALSE)),2)+POWER((VLOOKUP(F9,DEBUT!$D$5:$J$110,7,FALSE)-VLOOKUP(G9,DEBUT!$D$5:$J$110,7,FALSE)),2))/CARTE!$O$9,0)","v":0},{"$f":"IFERROR(SQRT(POWER((VLOOKUP(G9,DEBUT!$D$5:$J$110,6,FALSE)-VLOOKUP(H9,DEBUT!$D$5:$J$110,6,FALSE)),2)+POWER((VLOOKUP(G9,DEBUT!$D$5:$J$110,7,FALSE)-VLOOKUP(H9,DEBUT!$D$5:$J$110,7,FALSE)),2))/CARTE!$O$9,0)","v":0},{"$f":"IFERROR(SQRT(POWER((VLOOKUP(H9,DEBUT!$D$5:$J$110,6,FALSE)-VLOOKUP(I9,DEBUT!$D$5:$J$110,6,FALSE)),2)+POWER((VLOOKUP(H9,DEBUT!$D$5:$J$110,7,FALSE)-VLOOKUP(I9,DEBUT!$D$5:$J$110,7,FALSE)),2))/CARTE!$O$9,0)","v":0},{"$f":"IFERROR(SQRT(POWER((VLOOKUP(I9,DEBUT!$D$5:$J$110,6,FALSE)-VLOOKUP(J9,DEBUT!$D$5:$J$110,6,FALSE)),2)+POWER((VLOOKUP(I9,DEBUT!$D$5:$J$110,7,FALSE)-VLOOKUP(J9,DEBUT!$D$5:$J$110,7,FALSE)),2))/CARTE!$O$9,0)","v":0},{"$f":"IFERROR(SQRT(POWER((VLOOKUP(J9,DEBUT!$D$5:$J$110,6,FALSE)-VLOOKUP(K9,DEBUT!$D$5:$J$110,6,FALSE)),2)+POWER((VLOOKUP(J9,DEBUT!$D$5:$J$110,7,FALSE)-VLOOKUP(K9,DEBUT!$D$5:$J$110,7,FALSE)),2))/CARTE!$O$9,0)","v":0},{"$f":"IFERROR(SQRT(POWER((VLOOKUP(K9,DEBUT!$D$5:$J$110,6,FALSE)-VLOOKUP(L9,DEBUT!$D$5:$J$110,6,FALSE)),2)+POWER((VLOOKUP(K9,DEBUT!$D$5:$J$110,7,FALSE)-VLOOKUP(L9,DEBUT!$D$5:$J$110,7,FALSE)),2))/CARTE!$O$9,0)","v":0},{"$f":"IFERROR(SQRT(POWER((VLOOKUP(L9,DEBUT!$D$5:$J$110,6,FALSE)-VLOOKUP(M9,DEBUT!$D$5:$J$110,6,FALSE)),2)+POWER((VLOOKUP(L9,DEBUT!$D$5:$J$110,7,FALSE)-VLOOKUP(M9,DEBUT!$D$5:$J$110,7,FALSE)),2))/CARTE!$O$9,0)","v":0},"min","m","Distance",{"$f":"SUM(E7:M7)","v":0},"m",null,null,null,null,null,null,null,null,null,null,null,null,null,null,null,null,null,null,null,3,"BASTIEN"]
[null,null,null,"Balises prévues",{"$f":"IF(ISTEXT($D7),HLOOKUP($D7,DEBUT!$O$3:$XX$100,3,FALSE),\"\")","v":"A"},{"$f":"IF(ISTEXT($D7),HLOOKUP($D7,DEBUT!$O$3:$XX$100,4,FALSE),\"\")","v":"B"},{"$f":"IF(ISTEXT($D7),HLOOKUP($D7,DEBUT!$O$3:$XX$100,5,FALSE),\"\")","v":"C"},{"$f":"IF(ISTEXT($D7),HLOOKUP($D7,DEBUT!$O$3:$XX$100,6,FALSE),\"\")","v":"D"},{"$f":"IF(ISTEXT($D7),HLOOKUP($D7,DEBUT!$O$3:$XX$100,7,FALSE),\"\")","v":"E"},{"$f":"IF(ISTEXT($D7),HLOOKUP($D7,DEBUT!$O$3:$XX$100,8,FALSE),\"\")","v":"F"},{"$f":"IF(ISTEXT($D7),HLOOKUP($D7,DEBUT!$O$3:$XX$100,9,FALSE),\"\")","v":"G"},{"$f":"IF(ISTEXT($D7),HLOOKUP($D7,DEBUT!$O$3:$XX$100,10,FALSE),\"\")","v":"H"},{"$f":"IF(ISTEXT($D7),HLOOKUP($D7,DEBUT!$O$3:$XX$100,11,FALSE),\"\")","v":"I"},{"$f":"IF(ISTEXT($D7),HLOOKUP($D7,DEBUT!$O$3:$XX$100,12,FALSE),\"\")","v":"J"},null,"Nombre balises prévues",{"$f":"SUMPRODUCT(N(ISTEXT(E8:M8)))","v":9},"prévues",null,null,null,null,null,null,null,null,null,null,null,null,null,null,null,null,null,null,null,4,"CORALINE"]
[null,null,null,"En course",{"$f":"IF($D9=DEBUT!$L$5,E10,\"\")","v":""},{"$f":"IF($D9=DEBUT!$L$5,F10,\"\")","v":""},{"$f":"IF($D9=DEBUT!$L$5,G10,\"\")","v":""},{"$f":"IF($D9=DEBUT!$L$5,H10,\"\")","v":""},{"$f":"IF($D9=DEBUT!$L$5,I10,\"\")","v":""},{"$f":"IF($D9=DEBUT!$L$5,J10,\"\")","v":""},{"$f":"IF($D9=DEBUT!$L$5,K10,\"\")","v":""},{"$f":"IF($D9=DEBUT!$L$5,L10,\"\")","v":""},{"$f":"IF($D9=DEBUT!$L$5,M10,\"\")","v":""},null,null,"Nombre balises trouvées",{"$f":"SUMPRODUCT(N(ISNUMBER(E9:M9)))","v":0},{"$f":"IF(Q9>1,\"trouvées\",\"trouvée\")","v":"trouvée"},null,null,null,null,null,null,null,null,null,null,null,null,null,null,null,null,null,null,null,5,"GREGORY"]
[null,null,null,"Balises CM",{"$f":"IFERROR(INDEX(baliseCM,MATCH(E8,lettre,0),MATCH($D6,parcours,0)),\"\")","v":12},{"$f":"IFERROR(INDEX(baliseCM,MATCH(F8,lettre,0),MATCH($D6,parcours,0)),\"\")","v":13},11,16,35,28,26,40,39,45,null,null,null,null,null,null,null,null,null,null,null,null,null,null,null,null,null,null,null,null,null,null,null,6,"THOMAS"]
[null,null,null,"Vitesse",null,null,null,null,null,null,null,null,{"$f":"(M7)/ABS((HOUR(M6)*3600+MINUTE(M6)*60+SECOND(M6)))*3.6","v":0},null,"Km/h","Vitesse moyenne",{"$f":"Q7/R6*3.6","v":0},"km/h",null,null,null,null,null,null,null,null,null,null,null,null,null,null,null,null,null,null,null,7,"ALAIN"]
[null,"EQUIPE 2",null,"16:02:12",null,null,null,null,null,null,null,null,"23:23:14",null,null,null,null,null,null,"Analyse du parcours",null,null,null,null,null,null,null,null,null,null,null,null,null,null,null,null,null,8,"QUENTIN"]
[null,null,null,{"$f":"CONCATENATE(D14,\"bis\")","v":"21Stevebis"},null,null,{"$f":"G12-D12","v":-0.66819444444444442},null,null,{"$f":"J12-G12","v":"00:00:00"},{"$f":"K12-J12","v":"00:00:00"},{"$f":"L12-K12","v":"00:00:00"},{"$f":"M12-D12","v":"07:21:02"},null,null,"Temps de course",{"$f":"SUMIF(E13:M13,\">0\",E13:M13)","v":"07:21:02"},{"$f":"ABS((HOUR(Q13)*3600+MINUTE(Q13)*60+SECOND(Q13)))","v":26462},null,null,null,null,null,null,null,null,null,null,null,null,null,null,null,null,null,null,null,9,"BAPTISTE"]
[null,null,null,{"$f":"$H$2","v":"21Steve"},{"$f":"IFERROR(SQRT(POWER((VLOOKUP($C$5,DEBUT!$D$5:$J$110,6,FALSE)-VLOOKUP(E16,DEBUT!$D$5:$J$110,6,FALSE)),2)+POWER((VLOOKUP($C$5,DEBUT!$D$5:$J$110,7,FALSE)-VLOOKUP(E16,DEBUT!$D$5:$J$110,7,FALSE)),2))/CARTE!$O$9,0)","v":0},{"$f":"IFERROR(SQRT(POWER((VLOOKUP(E16,DEBUT!$D$5:$J$110,6,FALSE)-VLOOKUP(F16,DEBUT!$D$5:$J$110,6,FALSE)),2)+POWER((VLOOKUP(E16,DEBUT!$D$5:$J$110,7,FALSE)-VLOOKUP(F16,DEBUT!$D$5:$J$110,7,FALSE)),2))/CARTE!$O$9,0)","v":0},{"$f":"IFERROR(SQRT(POWER((VLOOKUP(F16,DEBUT!$D$5:$J$110,6,FALSE)-VLOOKUP(G16,DEBUT!$D$5:$J$110,6,FALSE)),2)+POWER((VLOOKUP(F16,DEBUT!$D$5:$J$110,7,FALSE)-VLOOKUP(G16,DEBUT!$D$5:$J$110,7,FALSE)),2))/CARTE!$O$9,0)","v":0},{"$f":"IFERROR(SQRT(POWER((VLOOKUP(G16,DEBUT!$D$5:$J$110,6,FALSE)-VLOOKUP(H16,DEBUT!$D$5:$J$110,6,FALSE)),2)+POWER((VLOOKUP(G16,DEBUT!$D$5:$J$110,7,FALSE)-VLOOKUP(H16,DEBUT!$D$5:$J$110,7,FALSE)),2))/CARTE!$O$9,0)","v":0},{"$f":"IFERROR(SQRT(POWER((VLOOKUP(H16,DEBUT!$D$5:$J$110,6,FALSE)-VLOOKUP(I16,DEBUT!$D$5:$J$110,6,FALSE)),2)+POWER((VLOOKUP(H16,DEBUT!$D$5:$J$110,7,FALSE)-VLOOKUP(I16,DEBUT!$D$5:$J$110,7,FALSE)),2))/CARTE!$O$9,0)","v":0},{"$f":"IFERROR(SQRT(POWER((VLOOKUP(I16,DEBUT!$D$5:$J$110,6,FALSE)-VLOOKUP(J16,DEBUT!$D$5:$J$110,6,FALSE)),2)+POWER((VLOOKUP(I16,DEBUT!$D$5:$J$110,7,FALSE)-VLOOKUP(J16,DEBUT!$D$5:$J$110,7,FALSE)),2))/CARTE!$O$9,0)","v":0},{"$f":"IFERROR(SQRT(POWER((VLOOKUP(J16,DEBUT!$D$5:$J$110,6,FALSE)-VLOOKUP(K16,DEBUT!$D$5:$J$110,6,FALSE)),2)+POWER((VLOOKUP(J16,DEBUT!$D$5:$J$110,7,FALSE)-VLOOKUP(K16,DEBUT!$D$5:$J$110,7,FALSE)),2))/CARTE!$O$9,0)","v":0},{"$f":"IFERROR(SQRT(POWER((VLOOKUP(K16,DEBUT!$D$5:$J$110,6,FALSE)-VLOOKUP(L16,DEBUT!$D$5:$J$110,6,FALSE)),2)+POWER((VLOOKUP(K16,DEBUT!$D$5:$J$110,7,FALSE)-VLOOKUP(L16,DEBUT!$D$5:$J$110,7,FALSE)),2))/CARTE!$O$9,0)","v":0},{"$f":"IFERROR(SQRT(POWER((VLOOKUP(L16,DEBUT!$D$5:$J$110,6,FALSE)-VLOOKUP(M16,DEBUT!$D$5:$J$110,6,FALSE)),2)+POWER((VLOOKUP(L16,DEBUT!$D$5:$J$110,7,FALSE)-VLOOKUP(M16,DEBUT!$D$5:$J$110,7,FALSE)),2))/CARTE!$O$9,0)","v":0},"min","m","Distance",{"$f":"SUM(E14:M14)","v":0},"m",null,null,null,null,null,null,null,null,null,null,null,null,null,null,null,null,null,null,null,10,"FRANCK"]
[null,null,null,"Balises prévues",{"$f":"IF(ISTEXT($D14),HLOOKUP($D14,DEBUT!$O$3:$XX$100,3,FALSE),\"\")","v":"A"},{"$f":"IF(ISTEXT($D14),HLOOKUP($D14,DEBUT!$O$3:$XX$100,4,FALSE),\"\")","v":"B"},{"$f":"IF(ISTEXT($D14),HLOOKUP($D14,DEBUT!$O$3:$XX$100,5,FALSE),\"\")","v":"C"},{"$f":"IF(ISTEXT($D14),HLOOKUP($D14,DEBUT!$O$3:$XX$100,6,FALSE),\"\")","v":"D"},{"$f":"IF(ISTEXT($D14),HLOOKUP($D14,DEBUT!$O$3:$XX$100,7,FALSE),\"\")","v":"E"},{"$f":"IF(ISTEXT($D14),HLOOKUP($D14,DEBUT!$O$3:$XX$100,8,FALSE),\"\")","v":"F"},{"$f":"IF(ISTEXT($D14),HLOOKUP($D14,DEBUT!$O$3:$XX$100,9,FALSE),\"\")","v":"G"},{"$f":"IF(ISTEXT($D14),HLOOKUP($D14,DEBUT!$O$3:$XX$100,10,FALSE),\"\")","v":"H"},{"$f":"IF(ISTEXT($D14),HLOOKUP($D14,DEBUT!$O$3:$XX$100,11,FALSE),\"\")","v":"I"},null,null,"Nombre balises prévues",{"$f":"SUMPRODUCT(N(ISTEXT(E15:M15)))","v":9},"prévues",null,null,null,null,null,null,null,null,null,null,null,null,null,null,null,null,null,null,null,11,"VALENTIN"]
[null,null,null,"En course",{"$f":"IF($D16=DEBUT!$L$5,E17,\"\")","v":""},{"$f":"IF($D16=DEBUT!$L$5,F17,\"\")","v":""},{"$f":"IF($D16=DEBUT!$L$5,G17,\"\")","v":""},{"$f":"IF($D16=DEBUT!$L$5,H17,\"\")","v":""},{"$f":"IF($D16=DEBUT!$L$5,I17,\"\")","v":""},{"$f":"IF($D16=DEBUT!$L$5,J17,\"\")","v":""},{"$f":"IF($D16=DEBUT!$L$5,K17,\"\")","v":""},{"$f":"IF($D16=DEBUT!$L$5,L17,\"\")","v":""},{"$f":"IF($D16=DEBUT!$L$5,M17,\"\")","v":""},null,null,"Nombre balises trouvées",{"$f":"SUMPRODUCT(N(ISNUMBER(E16:M16)))","v":0},{"$f":"IF(Q16>1,\"trouvées\",\"trouvée\")","v":"trouvée"},null,null,null,null,null,null,null,null,null,null,null,null,null,null,null,null,null,null,null,12,"BENJAMIN"]
[null,null,null,"Balises CM",{"$f":"IFERROR(INDEX(baliseCM,MATCH(E15,lettre,0),MATCH($D13,parcours,0)),\"\")","v":12},{"$f":"IFERROR(INDEX(baliseCM,MATCH(F15,lettre,0),MATCH($D13,parcours,0)),\"\")","v":13},11,16,35,28,26,40,39,{"$f":"IFERROR(INDEX(baliseCM,MATCH(N15,lettre,0),MATCH($D13,parcours,0)),\"\")","v":""},null,null,null,null,null,null,null,null,null,null,null,null,null,null,null,null,null,null,null,null,null,null,null,13,"ANDY"]
[null,null,null,"Vitesse",null,null,null,null,null,null,null,null,{"$f":"(M14)/ABS((HOUR(M13)*3600+MINUTE(M13)*60+SECOND(M13)))*3.6","v":0},null,"Km/h","Vitesse moyenne",{"$f":"Q14/R13*3.6","v":0},"km/h",null,null,null,null,null,null,null,null,null,null,null,null,null,null,null,null,null,null,null,14,"OLIVIER"]
[null,"EQUIPE 3",null,"15:51:45",null,null,null,null,null,null,null,null,null,null,null,null,null,null,null,"Analyse du parcours",null,null,null,null,null,null,null,null,null,null,null,null,null,null,null,null,null,15,"CHRISTIAN"]
[null,null,null,{"$f":"CONCATENATE(D21,\"bis\")","v":"21Stevebis"},null,null,{"$f":"G19-D19","v":-0.66093750000000007},null,null,{"$f":"J19-G19","v":"00:00:00"},{"$f":"K19-J19","v":"00:00:00"},{"$f":"L19-K19","v":"00:00:00"},{"$f":"M19-D19","v":-0.66093750000000007},null,null,"Temps de course",{"$f":"SUMIF(E20:M20,\">0\",E20:M20)","v":"00:00:00"},{"$f":"ABS((HOUR(Q20)*3600+MINUTE(Q20)*60+SECOND(Q20)))","v":0},null,null,null,null,null,null,null,null,null,null,null,null,null,null,null,null,null,null,null,16,"CELINE"]
[null,null,null,{"$f":"$H$2","v":"21Steve"},{"$f":"IFERROR(SQRT(POWER((VLOOKUP($C$5,DEBUT!$D$5:$J$110,6,FALSE)-VLOOKUP(E23,DEBUT!$D$5:$J$110,6,FALSE)),2)+POWER((VLOOKUP($C$5,DEBUT!$D$5:$J$110,7,FALSE)-VLOOKUP(E23,DEBUT!$D$5:$J$110,7,FALSE)),2))/CARTE!$O$9,0)","v":0},{"$f":"IFERROR(SQRT(POWER((VLOOKUP(E23,DEBUT!$D$5:$J$110,6,FALSE)-VLOOKUP(F23,DEBUT!$D$5:$J$110,6,FALSE)),2)+POWER((VLOOKUP(E23,DEBUT!$D$5:$J$110,7,FALSE)-VLOOKUP(F23,DEBUT!$D$5:$J$110,7,FALSE)),2))/CARTE!$O$9,0)","v":0},{"$f":"IFERROR(SQRT(POWER((VLOOKUP(F23,DEBUT!$D$5:$J$110,6,FALSE)-VLOOKUP(G23,DEBUT!$D$5:$J$110,6,FALSE)),2)+POWER((VLOOKUP(F23,DEBUT!$D$5:$J$110,7,FALSE)-VLOOKUP(G23,DEBUT!$D$5:$J$110,7,FALSE)),2))/CARTE!$O$9,0)","v":0},{"$f":"IFERROR(SQRT(POWER((VLOOKUP(G23,DEBUT!$D$5:$J$110,6,FALSE)-VLOOKUP(H23,DEBUT!$D$5:$J$110,6,FALSE)),2)+POWER((VLOOKUP(G23,DEBUT!$D$5:$J$110,7,FALSE)-VLOOKUP(H23,DEBUT!$D$5:$J$110,7,FALSE)),2))/CARTE!$O$9,0)","v":0},{"$f":"IFERROR(SQRT(POWER((VLOOKUP(H23,DEBUT!$D$5:$J$110,6,FALSE)-VLOOKUP(I23,DEBUT!$D$5:$J$110,6,FALSE)),2)+POWER((VLOOKUP(H23,DEBUT!$D$5:$J$110,7,FALSE)-VLOOKUP(I23,DEBUT!$D$5:$J$110,7,FALSE)),2))/CARTE!$O$9,0)","v":0},{"$f":"IFERROR(SQRT(POWER((VLOOKUP(I23,DEBUT!$D$5:$J$110,6,FALSE)-VLOOKUP(J23,DEBUT!$D$5:$J$110,6,FALSE)),2)+POWER((VLOOKUP(I23,DEBUT!$D$5:$J$110,7,FALSE)-VLOOKUP(J23,DEBUT!$D$5:$J$110,7,FALSE)),2))/CARTE!$O$9,0)","v":0},{"$f":"IFERROR(SQRT(POWER((VLOOKUP(J23,DEBUT!$D$5:$J$110,6,FALSE)-VLOOKUP(K23,DEBUT!$D$5:$J$110,6,FALSE)),2)+POWER((VLOOKUP(J23,DEBUT!$D$5:$J$110,7,FALSE)-VLOOKUP(K23,DEBUT!$D$5:$J$110,7,FALSE)),2))/CARTE!$O$9,0)","v":0},{"$f":"IFERROR(SQRT(POWER((VLOOKUP(K23,DEBUT!$D$5:$J$110,6,FALSE)-VLOOKUP(L23,DEBUT!$D$5:$J$110,6,FALSE)),2)+POWER((VLOOKUP(K23,DEBUT!$D$5:$J$110,7,FALSE)-VLOOKUP(L23,DEBUT!$D$5:$J$110,7,FALSE)),2))/CARTE!$O$9,0)","v":0},{"$f":"IFERROR(SQRT(POWER((VLOOKUP(L23,DEBUT!$D$5:$J$110,6,FALSE)-VLOOKUP(M23,DEBUT!$D$5:$J$110,6,FALSE)),2)+POWER((VLOOKUP(L23,DEBUT!$D$5:$J$110,7,FALSE)-VLOOKUP(M23,DEBUT!$D$5:$J$110,7,FALSE)),2))/CARTE!$O$9,0)","v":0},"min","m","Distance",{"$f":"SUM(E21:M21)","v":0},"m",null,null,null,null,null,null,null,null,null,null,null,null,null,null,null,null,null,null,null,17,"SEBASTIEN"]
[null,null,null,"Balises prévues",{"$f":"IF(ISTEXT($D21),HLOOKUP($D21,DEBUT!$O$3:$XX$100,3,FALSE),\"\")","v":"A"},{"$f":"IF(ISTEXT($D21),HLOOKUP($D21,DEBUT!$O$3:$XX$100,4,FALSE),\"\")","v":"B"},{"$f":"IF(ISTEXT($D21),HLOOKUP($D21,DEBUT!$O$3:$XX$100,5,FALSE),\"\")","v":"C"},{"$f":"IF(ISTEXT($D21),HLOOKUP($D21,DEBUT!$O$3:$XX$100,6,FALSE),\"\")","v":"D"},{"$f":"IF(ISTEXT($D21),HLOOKUP($D21,DEBUT!$O$3:$XX$100,7,FALSE),\"\")","v":"E"},{"$f":"IF(ISTEXT($D21),HLOOKUP($D21,DEBUT!$O$3:$XX$100,8,FALSE),\"\")","v":"F"},{"$f":"IF(ISTEXT($D21),HLOOKUP($D21,DEBUT!$O$3:$XX$100,9,FALSE),\"\")","v":"G"},{"$f":"IF(ISTEXT($D21),HLOOKUP($D21,DEBUT!$O$3:$XX$100,10,FALSE),\"\")","v":"H"},{"$f":"IF(ISTEXT($D21),HLOOKUP($D21,DEBUT!$O$3:$XX$100,11,FALSE),\"\")","v":"I"},null,null,"Nombre balises prévues",{"$f":"SUMPRODUCT(N(ISTEXT(E22:M22)))","v":9},"prévues",null,null,null,null,null,null,null,null,null,null,null,null,null,null,null,null,null,null,null,18,"PASCAL"]
[null,null,null,"En course",{"$f":"IF($D23=DEBUT!$L$5,E24,\"\")","v":""},{"$f":"IF($D23=DEBUT!$L$5,F24,\"\")","v":""},{"$f":"IF($D23=DEBUT!$L$5,G24,\"\")","v":""},{"$f":"IF($D23=DEBUT!$L$5,H24,\"\")","v":""},{"$f":"IF($D23=DEBUT!$L$5,I24,\"\")","v":""},{"$f":"IF($D23=DEBUT!$L$5,J24,\"\")","v":""},{"$f":"IF($D23=DEBUT!$L$5,K24,\"\")","v":""},{"$f":"IF($D23=DEBUT!$L$5,L24,\"\")","v":""},{"$f":"IF($D23=DEBUT!$L$5,M24,\"\")","v":""},null,null,"Nombre balises trouvées",{"$f":"SUMPRODUCT(N(ISNUMBER(E23:M23)))","v":0},{"$f":"IF(Q23>1,\"trouvées\",\"trouvée\")","v":"trouvée"},null,null,null,null,null,null,null,null,null,null,null,null,null,null,null,null,null,null,null,19,"CAROLE"]
[null,null,null,"Balises CM",{"$f":"IFERROR(INDEX(baliseCM,MATCH(E22,lettre,0),MATCH($D20,parcours,0)),\"\")","v":12},{"$f":"IFERROR(INDEX(baliseCM,MATCH(F22,lettre,0),MATCH($D20,parcours,0)),\"\")","v":13},11,16,35,28,26,40,39,{"$f":"IFERROR(INDEX(baliseCM,MATCH(N22,lettre,0),MATCH($D20,parcours,0)),\"\")","v":""},null,null,null,null,null,null,null,null,null,null,null,null,null,null,null,null,null,null,null,null,null,null,null,20,"ISABELLE"]
[null,null,null,"Vitesse",null,null,null,null,null,null,null,null,{"$f":"(M21)/ABS((HOUR(M20)*3600+MINUTE(M20)*60+SECOND(M20)))*3.6","v":{"$error":"#NUM!"}},null,"Km/h","Vitesse moyenne",{"$f":"Q21/R20*3.6","v":{"$error":"#DIV/0!"}},"km/h",null,null,null,null,null,null,null,null,null,null,null,null,null,null,null,null,null,null,null,21,"DAVID"]
[null,"EQUIPE 4",null,"15:51:45",null,null,null,null,null,null,null,null,null,null,null,null,null,null,null,"Analyse du parcours",null,null,null,null,null,null,null,null,null,null,null,null,null,null,null,null,null,22,"FRANCOIS"]
[null,null,null,{"$f":"CONCATENATE(D28,\"bis\")","v":"21Stevebis"},null,null,{"$f":"G26-D26","v":-0.66093750000000007},null,null,{"$f":"J26-G26","v":"00:00:00"},{"$f":"K26-J26","v":"00:00:00"},{"$f":"L26-K26","v":"00:00:00"},{"$f":"M26-D26","v":-0.66093750000000007},null,null,"Temps de course",{"$f":"SUMIF(E27:M27,\">0\",E27:M27)","v":"00:00:00"},{"$f":"ABS((HOUR(Q27)*3600+MINUTE(Q27)*60+SECOND(Q27)))","v":0},null,null,null,null,null,null,null,null,null,null,null,null,null,null,null,null,null,null,null,23,"Mick"]
[null,null,null,{"$f":"$H$2","v":"21Steve"},{"$f":"IFERROR(SQRT(POWER((VLOOKUP($C$5,DEBUT!$D$5:$J$110,6,FALSE)-VLOOKUP(E30,DEBUT!$D$5:$J$110,6,FALSE)),2)+POWER((VLOOKUP($C$5,DEBUT!$D$5:$J$110,7,FALSE)-VLOOKUP(E30,DEBUT!$D$5:$J$110,7,FALSE)),2))/CARTE!$O$9,0)","v":0},{"$f":"IFERROR(SQRT(POWER((VLOOKUP(E30,DEBUT!$D$5:$J$110,6,FALSE)-VLOOKUP(F30,DEBUT!$D$5:$J$110,6,FALSE)),2)+POWER((VLOOKUP(E30,DEBUT!$D$5:$J$110,7,FALSE)-VLOOKUP(F30,DEBUT!$D$5:$J$110,7,FALSE)),2))/CARTE!$O$9,0)","v":0},{"$f":"IFERROR(SQRT(POWER((VLOOKUP(F30,DEBUT!$D$5:$J$110,6,FALSE)-VLOOKUP(G30,DEBUT!$D$5:$J$110,6,FALSE)),2)+POWER((VLOOKUP(F30,DEBUT!$D$5:$J$110,7,FALSE)-VLOOKUP(G30,DEBUT!$D$5:$J$110,7,FALSE)),2))/CARTE!$O$9,0)","v":0},{"$f":"IFERROR(SQRT(POWER((VLOOKUP(G30,DEBUT!$D$5:$J$110,6,FALSE)-VLOOKUP(H30,DEBUT!$D$5:$J$110,6,FALSE)),2)+POWER((VLOOKUP(G30,DEBUT!$D$5:$J$110,7,FALSE)-VLOOKUP(H30,DEBUT!$D$5:$J$110,7,FALSE)),2))/CARTE!$O$9,0)","v":0},{"$f":"IFERROR(SQRT(POWER((VLOOKUP(H30,DEBUT!$D$5:$J$110,6,FALSE)-VLOOKUP(I30,DEBUT!$D$5:$J$110,6,FALSE)),2)+POWER((VLOOKUP(H30,DEBUT!$D$5:$J$110,7,FALSE)-VLOOKUP(I30,DEBUT!$D$5:$J$110,7,FALSE)),2))/CARTE!$O$9,0)","v":0},{"$f":"IFERROR(SQRT(POWER((VLOOKUP(I30,DEBUT!$D$5:$J$110,6,FALSE)-VLOOKUP(J30,DEBUT!$D$5:$J$110,6,FALSE)),2)+POWER((VLOOKUP(I30,DEBUT!$D$5:$J$110,7,FALSE)-VLOOKUP(J30,DEBUT!$D$5:$J$110,7,FALSE)),2))/CARTE!$O$9,0)","v":0},{"$f":"IFERROR(SQRT(POWER((VLOOKUP(J30,DEBUT!$D$5:$J$110,6,FALSE)-VLOOKUP(K30,DEBUT!$D$5:$J$110,6,FALSE)),2)+POWER((VLOOKUP(J30,DEBUT!$D$5:$J$110,7,FALSE)-VLOOKUP(K30,DEBUT!$D$5:$J$110,7,FALSE)),2))/CARTE!$O$9,0)","v":0},{"$f":"IFERROR(SQRT(POWER((VLOOKUP(K30,DEBUT!$D$5:$J$110,6,FALSE)-VLOOKUP(L30,DEBUT!$D$5:$J$110,6,FALSE)),2)+POWER((VLOOKUP(K30,DEBUT!$D$5:$J$110,7,FALSE)-VLOOKUP(L30,DEBUT!$D$5:$J$110,7,FALSE)),2))/CARTE!$O$9,0)","v":0},{"$f":"IFERROR(SQRT(POWER((VLOOKUP(L30,DEBUT!$D$5:$J$110,6,FALSE)-VLOOKUP(M30,DEBUT!$D$5:$J$110,6,FALSE)),2)+POWER((VLOOKUP(L30,DEBUT!$D$5:$J$110,7,FALSE)-VLOOKUP(M30,DEBUT!$D$5:$J$110,7,FALSE)),2))/CARTE!$O$9,0)","v":0},"min","m","Distance",{"$f":"SUM(E28:M28)","v":0},"m",null,null,null,null,null,null,null,null,null,null,null,null,null,null,null,null,null,null,null,24,0]
[null,null,null,"Balises prévues",{"$f":"IF(ISTEXT($D28),HLOOKUP($D28,DEBUT!$O$3:$XX$100,3,FALSE),\"\")","v":"A"},{"$f":"IF(ISTEXT($D28),HLOOKUP($D28,DEBUT!$O$3:$XX$100,4,FALSE),\"\")","v":"B"},{"$f":"IF(ISTEXT($D28),HLOOKUP($D28,DEBUT!$O$3:$XX$100,5,FALSE),\"\")","v":"C"},{"$f":"IF(ISTEXT($D28),HLOOKUP($D28,DEBUT!$O$3:$XX$100,6,FALSE),\"\")","v":"D"},{"$f":"IF(ISTEXT($D28),HLOOKUP($D28,DEBUT!$O$3:$XX$100,7,FALSE),\"\")","v":"E"},{"$f":"IF(ISTEXT($D28),HLOOKUP($D28,DEBUT!$O$3:$XX$100,8,FALSE),\"\")","v":"F"},{"$f":"IF(ISTEXT($D28),HLOOKUP($D28,DEBUT!$O$3:$XX$100,9,FALSE),\"\")","v":"G"},{"$f":"IF(ISTEXT($D28),HLOOKUP($D28,DEBUT!$O$3:$XX$100,10,FALSE),\"\")","v":"H"},{"$f":"IF(ISTEXT($D28),HLOOKUP($D28,DEBUT!$O$3:$XX$100,11,FALSE),\"\")","v":"I"},null,null,"Nombre balises prévues",{"$f":"SUMPRODUCT(N(ISTEXT(E29:M29)))","v":9},"prévues",null,null,null,null,null,null,null,null,null,null,null,null,null,null,null,null,null,null,null,25,0]
[null,null,null,"En course",{"$f":"IF($D30=DEBUT!$L$5,E31,\"\")","v":""},{"$f":"IF($D30=DEBUT!$L$5,F31,\"\")","v":""},{"$f":"IF($D30=DEBUT!$L$5,G31,\"\")","v":""},{"$f":"IF($D30=DEBUT!$L$5,H31,\"\")","v":""},{"$f":"IF($D30=DEBUT!$L$5,I31,\"\")","v":""},{"$f":"IF($D30=DEBUT!$L$5,J31,\"\")","v":""},{"$f":"IF($D30=DEBUT!$L$5,K31,\"\")","v":""},{"$f":"IF($D30=DEBUT!$L$5,L31,\"\")","v":""},{"$f":"IF($D30=DEBUT!$L$5,M31,\"\")","v":""},null,null,"Nombre balises trouvées",{"$f":"SUMPRODUCT(N(ISNUMBER(E30:M30)))","v":0},{"$f":"IF(Q30>1,\"trouvées\",\"trouvée\")","v":"trouvée"},null,null,null,null,null,null,null,null,null,null,null,null,null,null,null,null,null,null,null,26,0]
[null,null,null,"Balises CM",{"$f":"IFERROR(INDEX(baliseCM,MATCH(E29,lettre,0),MATCH($D27,parcours,0)),\"\")","v":12},{"$f":"IFERROR(INDEX(baliseCM,MATCH(F29,lettre,0),MATCH($D27,parcours,0)),\"\")","v":13},11,16,35,28,26,40,39,{"$f":"IFERROR(INDEX(baliseCM,MATCH(N29,lettre,0),MATCH($D27,parcours,0)),\"\")","v":""},null,null,null,null,null,null,null,null,null,null,null,null,null,null,null,null,null,null,null,null,null,null,null,27,0]
[null,null,null,"Vitesse",null,null,null,null,null,null,null,null,{"$f":"(M28)/ABS((HOUR(M27)*3600+MINUTE(M27)*60+SECOND(M27)))*3.6","v":{"$error":"#NUM!"}},null,"Km/h","Vitesse moyenne",{"$f":"Q28/R27*3.6","v":{"$error":"#DIV/0!"}},"km/h",null,null,null,null,null,null,null,null,null,null,null,null,null,null,null,null,null,null,null,28,0]
[null,"EQUIPE 5",null,"15:51:45",null,null,null,null,null,null,null,null,null,null,null,null,null,null,null,"Analyse du parcours",null,null,null,null,null,null,null,null,null,null,null,null,null,null,null,null,null,29,0]
[null,null,null,{"$f":"CONCATENATE(D35,\"bis\")","v":"21Stevebis"},null,null,{"$f":"G33-D33","v":-0.66093750000000007},null,null,{"$f":"J33-G33","v":"00:00:00"},{"$f":"K33-J33","v":"00:00:00"},{"$f":"L33-K33","v":"00:00:00"},{"$f":"M33-D33","v":-0.66093750000000007},null,null,"Temps de course",{"$f":"SUMIF(E34:M34,\">0\",E34:M34)","v":"00:00:00"},{"$f":"ABS((HOUR(Q34)*3600+MINUTE(Q34)*60+SECOND(Q34)))","v":0},null,null,null,null,null,null,null,null,null,null,null,null,null,null,null,null,null,null,null,30,0]
[null,null,null,{"$f":"$H$2","v":"21Steve"},{"$f":"IFERROR(SQRT(POWER((VLOOKUP($C$5,DEBUT!$D$5:$J$110,6,FALSE)-VLOOKUP(E37,DEBUT!$D$5:$J$110,6,FALSE)),2)+POWER((VLOOKUP($C$5,DEBUT!$D$5:$J$110,7,FALSE)-VLOOKUP(E37,DEBUT!$D$5:$J$110,7,FALSE)),2))/CARTE!$O$9,0)","v":0},{"$f":"IFERROR(SQRT(POWER((VLOOKUP(E37,DEBUT!$D$5:$J$110,6,FALSE)-VLOOKUP(F37,DEBUT!$D$5:$J$110,6,FALSE)),2)+POWER((VLOOKUP(E37,DEBUT!$D$5:$J$110,7,FALSE)-VLOOKUP(F37,DEBUT!$D$5:$J$110,7,FALSE)),2))/CARTE!$O$9,0)","v":0},{"$f":"IFERROR(SQRT(POWER((VLOOKUP(F37,DEBUT!$D$5:$J$110,6,FALSE)-VLOOKUP(G37,DEBUT!$D$5:$J$110,6,FALSE)),2)+POWER((VLOOKUP(F37,DEBUT!$D$5:$J$110,7,FALSE)-VLOOKUP(G37,DEBUT!$D$5:$J$110,7,FALSE)),2))/CARTE!$O$9,0)","v":0},{"$f":"IFERROR(SQRT(POWER((VLOOKUP(G37,DEBUT!$D$5:$J$110,6,FALSE)-VLOOKUP(H37,DEBUT!$D$5:$J$110,6,FALSE)),2)+POWER((VLOOKUP(G37,DEBUT!$D$5:$J$110,7,FALSE)-VLOOKUP(H37,DEBUT!$D$5:$J$110,7,FALSE)),2))/CARTE!$O$9,0)","v":0},{"$f":"IFERROR(SQRT(POWER((VLOOKUP(H37,DEBUT!$D$5:$J$110,6,FALSE)-VLOOKUP(I37,DEBUT!$D$5:$J$110,6,FALSE)),2)+POWER((VLOOKUP(H37,DEBUT!$D$5:$J$110,7,FALSE)-VLOOKUP(I37,DEBUT!$D$5:$J$110,7,FALSE)),2))/CARTE!$O$9,0)","v":0},{"$f":"IFERROR(SQRT(POWER((VLOOKUP(I37,DEBUT!$D$5:$J$110,6,FALSE)-VLOOKUP(J37,DEBUT!$D$5:$J$110,6,FALSE)),2)+POWER((VLOOKUP(I37,DEBUT!$D$5:$J$110,7,FALSE)-VLOOKUP(J37,DEBUT!$D$5:$J$110,7,FALSE)),2))/CARTE!$O$9,0)","v":0},{"$f":"IFERROR(SQRT(POWER((VLOOKUP(J37,DEBUT!$D$5:$J$110,6,FALSE)-VLOOKUP(K37,DEBUT!$D$5:$J$110,6,FALSE)),2)+POWER((VLOOKUP(J37,DEBUT!$D$5:$J$110,7,FALSE)-VLOOKUP(K37,DEBUT!$D$5:$J$110,7,FALSE)),2))/CARTE!$O$9,0)","v":0},{"$f":"IFERROR(SQRT(POWER((VLOOKUP(K37,DEBUT!$D$5:$J$110,6,FALSE)-VLOOKUP(L37,DEBUT!$D$5:$J$110,6,FALSE)),2)+POWER((VLOOKUP(K37,DEBUT!$D$5:$J$110,7,FALSE)-VLOOKUP(L37,DEBUT!$D$5:$J$110,7,FALSE)),2))/CARTE!$O$9,0)","v":0},{"$f":"IFERROR(SQRT(POWER((VLOOKUP(L37,DEBUT!$D$5:$J$110,6,FALSE)-VLOOKUP(M37,DEBUT!$D$5:$J$110,6,FALSE)),2)+POWER((VLOOKUP(L37,DEBUT!$D$5:$J$110,7,FALSE)-VLOOKUP(M37,DEBUT!$D$5:$J$110,7,FALSE)),2))/CARTE!$O$9,0)","v":0},"min","m","Distance",{"$f":"SUM(E35:M35)","v":0},"m",null,null,null,null,null,null,null,null,null,null,null,null,null,null,null,null,null,null,null,31,0]
[null,null,null,"Balises prévues",{"$f":"IF(ISTEXT($D35),HLOOKUP($D35,DEBUT!$O$3:$XX$100,3,FALSE),\"\")","v":"A"},{"$f":"IF(ISTEXT($D35),HLOOKUP($D35,DEBUT!$O$3:$XX$100,4,FALSE),\"\")","v":"B"},{"$f":"IF(ISTEXT($D35),HLOOKUP($D35,DEBUT!$O$3:$XX$100,5,FALSE),\"\")","v":"C"},{"$f":"IF(ISTEXT($D35),HLOOKUP($D35,DEBUT!$O$3:$XX$100,6,FALSE),\"\")","v":"D"},{"$f":"IF(ISTEXT($D35),HLOOKUP($D35,DEBUT!$O$3:$XX$100,7,FALSE),\"\")","v":"E"},{"$f":"IF(ISTEXT($D35),HLOOKUP($D35,DEBUT!$O$3:$XX$100,8,FALSE),\"\")","v":"F"},{"$f":"IF(ISTEXT($D35),HLOOKUP($D35,DEBUT!$O$3:$XX$100,9,FALSE),\"\")","v":"G"},{"$f":"IF(ISTEXT($D35),HLOOKUP($D35,DEBUT!$O$3:$XX$100,10,FALSE),\"\")","v":"H"},{"$f":"IF(ISTEXT($D35),HLOOKUP($D35,DEBUT!$O$3:$XX$100,11,FALSE),\"\")","v":"I"},null,null,"Nombre balises prévues",{"$f":"SUMPRODUCT(N(ISTEXT(E36:M36)))","v":9},"prévues",null,null,null,null,null,null,null,null,null,null,null,null,null,null,null,null,null,null,null,32,0]
[null,null,null,"En course",{"$f":"IF($D37=DEBUT!$L$5,E38,\"\")","v":""},{"$f":"IF($D37=DEBUT!$L$5,F38,\"\")","v":""},{"$f":"IF($D37=DEBUT!$L$5,G38,\"\")","v":""},{"$f":"IF($D37=DEBUT!$L$5,H38,\"\")","v":""},{"$f":"IF($D37=DEBUT!$L$5,I38,\"\")","v":""},{"$f":"IF($D37=DEBUT!$L$5,J38,\"\")","v":""},{"$f":"IF($D37=DEBUT!$L$5,K38,\"\")","v":""},{"$f":"IF($D37=DEBUT!$L$5,L38,\"\")","v":""},{"$f":"IF($D37=DEBUT!$L$5,M38,\"\")","v":""},null,null,"Nombre balises trouvées",{"$f":"SUMPRODUCT(N(ISNUMBER(E37:M37)))","v":0},{"$f":"IF(Q37>1,\"trouvées\",\"trouvée\")","v":"trouvée"},null,null,null,null,null,null,null,null,null,null,null,null,null,null,null,null,null,null,null,33,0]
[null,null,null,"Balises CM",{"$f":"IFERROR(INDEX(baliseCM,MATCH(E36,lettre,0),MATCH($D34,parcours,0)),\"\")","v":12},{"$f":"IFERROR(INDEX(baliseCM,MATCH(F36,lettre,0),MATCH($D34,parcours,0)),\"\")","v":13},11,16,35,28,26,40,39,{"$f":"IFERROR(INDEX(baliseCM,MATCH(N36,lettre,0),MATCH($D34,parcours,0)),\"\")","v":""},null,null,null,null,null,null,null,null,null,null,null,null,null,null,null,null,null,null,null,null,null,null,null,34,0]
[null,null,null,"Vitesse",null,null,null,null,null,null,null,null,{"$f":"(M35)/ABS((HOUR(M34)*3600+MINUTE(M34)*60+SECOND(M34)))*3.6","v":{"$error":"#NUM!"}},null,"Km/h","Vitesse moyenne",{"$f":"Q35/R34*3.6","v":{"$error":"#DIV/0!"}},"km/h",null,null,null,null,null,null,null,null,null,null,null,null,null,null,null,null,null,null,null,35,0]
[null,"EQUIPE 6",null,"15:51:45",null,null,null,null,null,null,null,null,null,null,null,null,null,null,null,"Analyse du parcours",null,null,null,null,null,null,null,null,null,null,null,null,null,null,null,null,null,36,0]
[null,null,null,{"$f":"CONCATENATE(D42,\"bis\")","v":"21Stevebis"},null,null,{"$f":"G40-D40","v":-0.66093750000000007},null,null,{"$f":"J40-G40","v":"00:00:00"},{"$f":"K40-J40","v":"00:00:00"},{"$f":"L40-K40","v":"00:00:00"},{"$f":"M40-D40","v":-0.66093750000000007},null,null,"Temps de course",{"$f":"SUMIF(E41:M41,\">0\",E41:M41)","v":"00:00:00"},{"$f":"ABS((HOUR(Q41)*3600+MINUTE(Q41)*60+SECOND(Q41)))","v":0}]
[null,null,null,{"$f":"$H$2","v":"21Steve"},{"$f":"IFERROR(SQRT(POWER((VLOOKUP($C$5,DEBUT!$D$5:$J$110,6,FALSE)-VLOOKUP(E44,DEBUT!$D$5:$J$110,6,FALSE)),2)+POWER((VLOOKUP($C$5,DEBUT!$D$5:$J$110,7,FALSE)-VLOOKUP(E44,DEBUT!$D$5:$J$110,7,FALSE)),2))/CARTE!$O$9,0)","v":0},{"$f":"IFERROR(SQRT(POWER((VLOOKUP(E44,DEBUT!$D$5:$J$110,6,FALSE)-VLOOKUP(F44,DEBUT!$D$5:$J$110,6,FALSE)),2)+POWER((VLOOKUP(E44,DEBUT!$D$5:$J$110,7,FALSE)-VLOOKUP(F44,DEBUT!$D$5:$J$110,7,FALSE)),2))/CARTE!$O$9,0)","v":0},{"$f":"IFERROR(SQRT(POWER((VLOOKUP(F44,DEBUT!$D$5:$J$110,6,FALSE)-VLOOKUP(G44,DEBUT!$D$5:$J$110,6,FALSE)),2)+POWER((VLOOKUP(F44,DEBUT!$D$5:$J$110,7,FALSE)-VLOOKUP(G44,DEBUT!$D$5:$J$110,7,FALSE)),2))/CARTE!$O$9,0)","v":0},{"$f":"IFERROR(SQRT(POWER((VLOOKUP(G44,DEBUT!$D$5:$J$110,6,FALSE)-VLOOKUP(H44,DEBUT!$D$5:$J$110,6,FALSE)),2)+POWER((VLOOKUP(G44,DEBUT!$D$5:$J$110,7,FALSE)-VLOOKUP(H44,DEBUT!$D$5:$J$110,7,FALSE)),2))/CARTE!$O$9,0)","v":0},{"$f":"IFERROR(SQRT(POWER((VLOOKUP(H44,DEBUT!$D$5:$J$110,6,FALSE)-VLOOKUP(I44,DEBUT!$D$5:$J$110,6,FALSE)),2)+POWER((VLOOKUP(H44,DEBUT!$D$5:$J$110,7,FALSE)-VLOOKUP(I44,DEBUT!$D$5:$J$110,7,FALSE)),2))/CARTE!$O$9,0)","v":0},{"$f":"IFERROR(SQRT(POWER((VLOOKUP(I44,DEBUT!$D$5:$J$110,6,FALSE)-VLOOKUP(J44,DEBUT!$D$5:$J$110,6,FALSE)),2)+POWER((VLOOKUP(I44,DEBUT!$D$5:$J$110,7,FALSE)-VLOOKUP(J44,DEBUT!$D$5:$J$110,7,FALSE)),2))/CARTE!$O$9,0)","v":0},{"$f":"IFERROR(SQRT(POWER((VLOOKUP(J44,DEBUT!$D$5:$J$110,6,FALSE)-VLOOKUP(K44,DEBUT!$D$5:$J$110,6,FALSE)),2)+POWER((VLOOKUP(J44,DEBUT!$D$5:$J$110,7,FALSE)-VLOOKUP(K44,DEBUT!$D$5:$J$110,7,FALSE)),2))/CARTE!$O$9,0)","v":0},{"$f":"IFERROR(SQRT(POWER((VLOOKUP(K44,DEBUT!$D$5:$J$110,6,FALSE)-VLOOKUP(L44,DEBUT!$D$5:$J$110,6,FALSE)),2)+POWER((VLOOKUP(K44,DEBUT!$D$5:$J$110,7,FALSE)-VLOOKUP(L44,DEBUT!$D$5:$J$110,7,FALSE)),2))/CARTE!$O$9,0)","v":0},{"$f":"IFERROR(SQRT(POWER((VLOOKUP(L44,DEBUT!$D$5:$J$110,6,FALSE)-VLOOKUP(M44,DEBUT!$D$5:$J$110,6,FALSE)),2)+POWER((VLOOKUP(L44,DEBUT!$D$5:$J$110,7,FALSE)-VLOOKUP(M44,DEBUT!$D$5:$J$110,7,FALSE)),2))/CARTE!$O$9,0)","v":0},"min","m","Distance",{"$f":"SUM(E42:M42)","v":0},"m"]
[null,null,null,"Balises prévues",{"$f":"IF(ISTEXT($D42),HLOOKUP($D42,DEBUT!$O$3:$XX$100,3,FALSE),\"\")","v":"A"},{"$f":"IF(ISTEXT($D42),HLOOKUP($D42,DEBUT!$O$3:$XX$100,4,FALSE),\"\")","v":"B"},{"$f":"IF(ISTEXT($D42),HLOOKUP($D42,DEBUT!$O$3:$XX$100,5,FALSE),\"\")","v":"C"},{"$f":"IF(ISTEXT($D42),HLOOKUP($D42,DEBUT!$O$3:$XX$100,6,FALSE),\"\")","v":"D"},{"$f":"IF(ISTEXT($D42),HLOOKUP($D42,DEBUT!$O$3:$XX$100,7,FALSE),\"\")","v":"E"},{"$f":"IF(ISTEXT($D42),HLOOKUP($D42,DEBUT!$O$3:$XX$100,8,FALSE),\"\")","v":"F"},{"$f":"IF(ISTEXT($D42),HLOOKUP($D42,DEBUT!$O$3:$XX$100,9,FALSE),\"\")","v":"G"},{"$f":"IF(ISTEXT($D42),HLOOKUP($D42,DEBUT!$O$3:$XX$100,10,FALSE),\"\")","v":"H"},{"$f":"IF(ISTEXT($D42),HLOOKUP($D42,DEBUT!$O$3:$XX$100,11,FALSE),\"\")","v":"I"},null,null,"Nombre balises prévues",{"$f":"SUMPRODUCT(N(ISTEXT(E43:M43)))","v":9},"prévues"]
[null,null,null,"En course",{"$f":"IF($D44=DEBUT!$L$5,E45,\"\")","v":""},{"$f":"IF($D44=DEBUT!$L$5,F45,\"\")","v":""},{"$f":"IF($D44=DEBUT!$L$5,G45,\"\")","v":""},{"$f":"IF($D44=DEBUT!$L$5,H45,\"\")","v":""},{"$f":"IF($D44=DEBUT!$L$5,I45,\"\")","v":""},{"$f":"IF($D44=DEBUT!$L$5,J45,\"\")","v":""},{"$f":"IF($D44=DEBUT!$L$5,K45,\"\")","v":""},{"$f":"IF($D44=DEBUT!$L$5,L45,\"\")","v":""},{"$f":"IF($D44=DEBUT!$L$5,M45,\"\")","v":""},null,null,"Nombre balises trouvées",{"$f":"SUMPRODUCT(N(ISNUMBER(E44:M44)))","v":0},{"$f":"IF(Q44>1,\"trouvées\",\"trouvée\")","v":"trouvée"}]
[null,null,null,"Balises CM",{"$f":"IFERROR(INDEX(baliseCM,MATCH(E43,lettre,0),MATCH($D41,parcours,0)),\"\")","v":12},{"$f":"IFERROR(INDEX(baliseCM,MATCH(F43,lettre,0),MATCH($D41,parcours,0)),\"\")","v":13},11,16,35,28,26,40,39,{"$f":"IFERROR(INDEX(baliseCM,MATCH(N43,lettre,0),MATCH($D41,parcours,0)),\"\")","v":""}]
[null,null,null,"Vitesse",null,null,null,null,null,null,null,null,{"$f":"(M42)/ABS((HOUR(M41)*3600+MINUTE(M41)*60+SECOND(M41)))*3.6","v":{"$error":"#NUM!"}},null,"Km/h","Vitesse moyenne",{"$f":"Q42/R41*3.6","v":{"$error":"#DIV/0!"}},"km/h"]
[null,"EQUIPE 7",null,"15:51:45",null,null,null,null,null,null,null,null,null,null,null,null,null,null,null,"Analyse du parcours"]
[null,null,null,{"$f":"CONCATENATE(D49,\"bis\")","v":"21Stevebis"},null,null,{"$f":"G47-D47","v":-0.66093750000000007},null,null,{"$f":"J47-G47","v":"00:00:00"},{"$f":"K47-J47","v":"00:00:00"},{"$f":"L47-K47","v":"00:00:00"},{"$f":"M47-D47","v":-0.66093750000000007},null,null,"Temps de course",{"$f":"SUMIF(E48:M48,\">0\",E48:M48)","v":"00:00:00"},{"$f":"ABS((HOUR(Q48)*3600+MINUTE(Q48)*60+SECOND(Q48)))","v":0}]
[null,null,null,{"$f":"$H$2","v":"21Steve"},{"$f":"IFERROR(SQRT(POWER((VLOOKUP($C$5,DEBUT!$D$5:$J$110,6,FALSE)-VLOOKUP(E51,DEBUT!$D$5:$J$110,6,FALSE)),2)+POWER((VLOOKUP($C$5,DEBUT!$D$5:$J$110,7,FALSE)-VLOOKUP(E51,DEBUT!$D$5:$J$110,7,FALSE)),2))/CARTE!$O$9,0)","v":0},{"$f":"IFERROR(SQRT(POWER((VLOOKUP(E51,DEBUT!$D$5:$J$110,6,FALSE)-VLOOKUP(F51,DEBUT!$D$5:$J$110,6,FALSE)),2)+POWER((VLOOKUP(E51,DEBUT!$D$5:$J$110,7,FALSE)-VLOOKUP(F51,DEBUT!$D$5:$J$110,7,FALSE)),2))/CARTE!$O$9,0)","v":0},{"$f":"IFERROR(SQRT(POWER((VLOOKUP(F51,DEBUT!$D$5:$J$110,6,FALSE)-VLOOKUP(G51,DEBUT!$D$5:$J$110,6,FALSE)),2)+POWER((VLOOKUP(F51,DEBUT!$D$5:$J$110,7,FALSE)-VLOOKUP(G51,DEBUT!$D$5:$J$110,7,FALSE)),2))/CARTE!$O$9,0)","v":0},{"$f":"IFERROR(SQRT(POWER((VLOOKUP(G51,DEBUT!$D$5:$J$110,6,FALSE)-VLOOKUP(H51,DEBUT!$D$5:$J$110,6,FALSE)),2)+POWER((VLOOKUP(G51,DEBUT!$D$5:$J$110,7,FALSE)-VLOOKUP(H51,DEBUT!$D$5:$J$110,7,FALSE)),2))/CARTE!$O$9,0)","v":0},{"$f":"IFERROR(SQRT(POWER((VLOOKUP(H51,DEBUT!$D$5:$J$110,6,FALSE)-VLOOKUP(I51,DEBUT!$D$5:$J$110,6,FALSE)),2)+POWER((VLOOKUP(H51,DEBUT!$D$5:$J$110,7,FALSE)-VLOOKUP(I51,DEBUT!$D$5:$J$110,7,FALSE)),2))/CARTE!$O$9,0)","v":0},{"$f":"IFERROR(SQRT(POWER((VLOOKUP(I51,DEBUT!$D$5:$J$110,6,FALSE)-VLOOKUP(J51,DEBUT!$D$5:$J$110,6,FALSE)),2)+POWER((VLOOKUP(I51,DEBUT!$D$5:$J$110,7,FALSE)-VLOOKUP(J51,DEBUT!$D$5:$J$110,7,FALSE)),2))/CARTE!$O$9,0)","v":0},{"$f":"IFERROR(SQRT(POWER((VLOOKUP(J51,DEBUT!$D$5:$J$110,6,FALSE)-VLOOKUP(K51,DEBUT!$D$5:$J$110,6,FALSE)),2)+POWER((VLOOKUP(J51,DEBUT!$D$5:$J$110,7,FALSE)-VLOOKUP(K51,DEBUT!$D$5:$J$110,7,FALSE)),2))/CARTE!$O$9,0)","v":0},{"$f":"IFERROR(SQRT(POWER((VLOOKUP(K51,DEBUT!$D$5:$J$110,6,FALSE)-VLOOKUP(L51,DEBUT!$D$5:$J$110,6,FALSE)),2)+POWER((VLOOKUP(K51,DEBUT!$D$5:$J$110,7,FALSE)-VLOOKUP(L51,DEBUT!$D$5:$J$110,7,FALSE)),2))/CARTE!$O$9,0)","v":0},{"$f":"IFERROR(SQRT(POWER((VLOOKUP(L51,DEBUT!$D$5:$J$110,6,FALSE)-VLOOKUP(M51,DEBUT!$D$5:$J$110,6,FALSE)),2)+POWER((VLOOKUP(L51,DEBUT!$D$5:$J$110,7,FALSE)-VLOOKUP(M51,DEBUT!$D$5:$J$110,7,FALSE)),2))/CARTE!$O$9,0)","v":0},"min","m","Distance",{"$f":"SUM(E49:M49)","v":0},"m"]
[null,null,null,"Balises prévues",{"$f":"IF(ISTEXT($D49),HLOOKUP($D49,DEBUT!$O$3:$XX$100,3,FALSE),\"\")","v":"A"},{"$f":"IF(ISTEXT($D49),HLOOKUP($D49,DEBUT!$O$3:$XX$100,4,FALSE),\"\")","v":"B"},{"$f":"IF(ISTEXT($D49),HLOOKUP($D49,DEBUT!$O$3:$XX$100,5,FALSE),\"\")","v":"C"},{"$f":"IF(ISTEXT($D49),HLOOKUP($D49,DEBUT!$O$3:$XX$100,6,FALSE),\"\")","v":"D"},{"$f":"IF(ISTEXT($D49),HLOOKUP($D49,DEBUT!$O$3:$XX$100,7,FALSE),\"\")","v":"E"},{"$f":"IF(ISTEXT($D49),HLOOKUP($D49,DEBUT!$O$3:$XX$100,8,FALSE),\"\")","v":"F"},{"$f":"IF(ISTEXT($D49),HLOOKUP($D49,DEBUT!$O$3:$XX$100,9,FALSE),\"\")","v":"G"},{"$f":"IF(ISTEXT($D49),HLOOKUP($D49,DEBUT!$O$3:$XX$100,10,FALSE),\"\")","v":"H"},{"$f":"IF(ISTEXT($D49),HLOOKUP($D49,DEBUT!$O$3:$XX$100,11,FALSE),\"\")","v":"I"},null,null,"Nombre balises prévues",{"$f":"SUMPRODUCT(N(ISTEXT(E50:M50)))","v":9},"prévues"]
[null,null,null,"En course",{"$f":"IF($D51=DEBUT!$L$5,E52,\"\")","v":""},{"$f":"IF($D51=DEBUT!$L$5,F52,\"\")","v":""},{"$f":"IF($D51=DEBUT!$L$5,G52,\"\")","v":""},{"$f":"IF($D51=DEBUT!$L$5,H52,\"\")","v":""},{"$f":"IF($D51=DEBUT!$L$5,I52,\"\")","v":""},{"$f":"IF($D51=DEBUT!$L$5,J52,\"\")","v":""},{"$f":"IF($D51=DEBUT!$L$5,K52,\"\")","v":""},{"$f":"IF($D51=DEBUT!$L$5,L52,\"\")","v":""},{"$f":"IF($D51=DEBUT!$L$5,M52,\"\")","v":""},null,null,"Nombre balises trouvées",{"$f":"SUMPRODUCT(N(ISNUMBER(E51:M51)))","v":0},{"$f":"IF(Q51>1,\"trouvées\",\"trouvée\")","v":"trouvée"}]
[null,null,null,"Balises CM",{"$f":"IFERROR(INDEX(baliseCM,MATCH(E50,lettre,0),MATCH($D48,parcours,0)),\"\")","v":12},{"$f":"IFERROR(INDEX(baliseCM,MATCH(F50,lettre,0),MATCH($D48,parcours,0)),\"\")","v":13},11,16,35,28,26,40,39,{"$f":"IFERROR(INDEX(baliseCM,MATCH(N50,lettre,0),MATCH($D48,parcours,0)),\"\")","v":""}]
[null,null,null,"Vitesse",null,null,null,null,null,null,null,null,{"$f":"(M49)/ABS((HOUR(M48)*3600+MINUTE(M48)*60+SECOND(M48)))*3.6","v":{"$error":"#NUM!"}},null,"Km/h","Vitesse moyenne",{"$f":"Q49/R48*3.6","v":{"$error":"#DIV/0!"}},"km/h"]
[null,"EQUIPE 8",null,"15:51:45",null,null,null,null,null,null,null,null,null,null,null,null,null,null,null,"Analyse du parcours"]
[null,null,null,{"$f":"CONCATENATE(D56,\"bis\")","v":"21Stevebis"},null,null,{"$f":"G54-D54","v":-0.66093750000000007},null,null,{"$f":"J54-G54","v":"00:00:00"},{"$f":"K54-J54","v":"00:00:00"},{"$f":"L54-K54","v":"00:00:00"},{"$f":"M54-D54","v":-0.66093750000000007},null,null,"Temps de course",{"$f":"SUMIF(E55:M55,\">0\",E55:M55)","v":"00:00:00"},{"$f":"ABS((HOUR(Q55)*3600+MINUTE(Q55)*60+SECOND(Q55)))","v":0}]
[null,null,null,{"$f":"$H$2","v":"21Steve"},{"$f":"IFERROR(SQRT(POWER((VLOOKUP($C$5,DEBUT!$D$5:$J$110,6,FALSE)-VLOOKUP(E58,DEBUT!$D$5:$J$110,6,FALSE)),2)+POWER((VLOOKUP($C$5,DEBUT!$D$5:$J$110,7,FALSE)-VLOOKUP(E58,DEBUT!$D$5:$J$110,7,FALSE)),2))/CARTE!$O$9,0)","v":0},{"$f":"IFERROR(SQRT(POWER((VLOOKUP(E58,DEBUT!$D$5:$J$110,6,FALSE)-VLOOKUP(F58,DEBUT!$D$5:$J$110,6,FALSE)),2)+POWER((VLOOKUP(E58,DEBUT!$D$5:$J$110,7,FALSE)-VLOOKUP(F58,DEBUT!$D$5:$J$110,7,FALSE)),2))/CARTE!$O$9,0)","v":0},{"$f":"IFERROR(SQRT(POWER((VLOOKUP(F58,DEBUT!$D$5:$J$110,6,FALSE)-VLOOKUP(G58,DEBUT!$D$5:$J$110,6,FALSE)),2)+POWER((VLOOKUP(F58,DEBUT!$D$5:$J$110,7,FALSE)-VLOOKUP(G58,DEBUT!$D$5:$J$110,7,FALSE)),2))/CARTE!$O$9,0)","v":0},{"$f":"IFERROR(SQRT(POWER((VLOOKUP(G58,DEBUT!$D$5:$J$110,6,FALSE)-VLOOKUP(H58,DEBUT!$D$5:$J$110,6,FALSE)),2)+POWER((VLOOKUP(G58,DEBUT!$D$5:$J$110,7,FALSE)-VLOOKUP(H58,DEBUT!$D$5:$J$110,7,FALSE)),2))/CARTE!$O$9,0)","v":0},{"$f":"IFERROR(SQRT(POWER((VLOOKUP(H58,DEBUT!$D$5:$J$110,6,FALSE)-VLOOKUP(I58,DEBUT!$D$5:$J$110,6,FALSE)),2)+POWER((VLOOKUP(H58,DEBUT!$D$5:$J$110,7,FALSE)-VLOOKUP(I58,DEBUT!$D$5:$J$110,7,FALSE)),2))/CARTE!$O$9,0)","v":0},{"$f":"IFERROR(SQRT(POWER((VLOOKUP(I58,DEBUT!$D$5:$J$110,6,FALSE)-VLOOKUP(J58,DEBUT!$D$5:$J$110,6,FALSE)),2)+POWER((VLOOKUP(I58,DEBUT!$D$5:$J$110,7,FALSE)-VLOOKUP(J58,DEBUT!$D$5:$J$110,7,FALSE)),2))/CARTE!$O$9,0)","v":0},{"$f":"IFERROR(SQRT(POWER((VLOOKUP(J58,DEBUT!$D$5:$J$110,6,FALSE)-VLOOKUP(K58,DEBUT!$D$5:$J$110,6,FALSE)),2)+POWER((VLOOKUP(J58,DEBUT!$D$5:$J$110,7,FALSE)-VLOOKUP(K58,DEBUT!$D$5:$J$110,7,FALSE)),2))/CARTE!$O$9,0)","v":0},{"$f":"IFERROR(SQRT(POWER((VLOOKUP(K58,DEBUT!$D$5:$J$110,6,FALSE)-VLOOKUP(L58,DEBUT!$D$5:$J$110,6,FALSE)),2)+POWER((VLOOKUP(K58,DEBUT!$D$5:$J$110,7,FALSE)-VLOOKUP(L58,DEBUT!$D$5:$J$110,7,FALSE)),2))/CARTE!$O$9,0)","v":0},{"$f":"IFERROR(SQRT(POWER((VLOOKUP(L58,DEBUT!$D$5:$J$110,6,FALSE)-VLOOKUP(M58,DEBUT!$D$5:$J$110,6,FALSE)),2)+POWER((VLOOKUP(L58,DEBUT!$D$5:$J$110,7,FALSE)-VLOOKUP(M58,DEBUT!$D$5:$J$110,7,FALSE)),2))/CARTE!$O$9,0)","v":0},"min","m","Distance",{"$f":"SUM(E56:M56)","v":0},"m"]
[null,null,null,"Balises prévues",{"$f":"IF(ISTEXT($D56),HLOOKUP($D56,DEBUT!$O$3:$XX$100,3,FALSE),\"\")","v":"A"},{"$f":"IF(ISTEXT($D56),HLOOKUP($D56,DEBUT!$O$3:$XX$100,4,FALSE),\"\")","v":"B"},{"$f":"IF(ISTEXT($D56),HLOOKUP($D56,DEBUT!$O$3:$XX$100,5,FALSE),\"\")","v":"C"},{"$f":"IF(ISTEXT($D56),HLOOKUP($D56,DEBUT!$O$3:$XX$100,6,FALSE),\"\")","v":"D"},{"$f":"IF(ISTEXT($D56),HLOOKUP($D56,DEBUT!$O$3:$XX$100,7,FALSE),\"\")","v":"E"},{"$f":"IF(ISTEXT($D56),HLOOKUP($D56,DEBUT!$O$3:$XX$100,8,FALSE),\"\")","v":"F"},{"$f":"IF(ISTEXT($D56),HLOOKUP($D56,DEBUT!$O$3:$XX$100,9,FALSE),\"\")","v":"G"},{"$f":"IF(ISTEXT($D56),HLOOKUP($D56,DEBUT!$O$3:$XX$100,10,FALSE),\"\")","v":"H"},{"$f":"IF(ISTEXT($D56),HLOOKUP($D56,DEBUT!$O$3:$XX$100,11,FALSE),\"\")","v":"I"},null,null,"Nombre balises prévues",{"$f":"SUMPRODUCT(N(ISTEXT(E57:M57)))","v":9},"prévues"]
[null,null,null,"En course",{"$f":"IF($D58=DEBUT!$L$5,E59,\"\")","v":""},{"$f":"IF($D58=DEBUT!$L$5,F59,\"\")","v":""},{"$f":"IF($D58=DEBUT!$L$5,G59,\"\")","v":""},{"$f":"IF($D58=DEBUT!$L$5,H59,\"\")","v":""},{"$f":"IF($D58=DEBUT!$L$5,I59,\"\")","v":""},{"$f":"IF($D58=DEBUT!$L$5,J59,\"\")","v":""},{"$f":"IF($D58=DEBUT!$L$5,K59,\"\")","v":""},{"$f":"IF($D58=DEBUT!$L$5,L59,\"\")","v":""},{"$f":"IF($D58=DEBUT!$L$5,M59,\"\")","v":""},null,null,"Nombre balises trouvées",{"$f":"SUMPRODUCT(N(ISNUMBER(E58:M58)))","v":0},{"$f":"IF(Q58>1,\"trouvées\",\"trouvée\")","v":"trouvée"}]
[null,null,null,"Balises CM",{"$f":"IFERROR(INDEX(baliseCM,MATCH(E57,lettre,0),MATCH($D55,parcours,0)),\"\")","v":12},{"$f":"IFERROR(INDEX(baliseCM,MATCH(F57,lettre,0),MATCH($D55,parcours,0)),\"\")","v":13},11,16,35,28,26,40,39,{"$f":"IFERROR(INDEX(baliseCM,MATCH(N57,lettre,0),MATCH($D55,parcours,0)),\"\")","v":""}]
[null,null,null,"Vitesse",null,null,null,null,null,null,null,null,{"$f":"(M56)/ABS((HOUR(M55)*3600+MINUTE(M55)*60+SECOND(M55)))*3.6","v":{"$error":"#NUM!"}},null,"Km/h","Vitesse moyenne",{"$f":"Q56/R55*3.6","v":{"$error":"#DIV/0!"}},"km/h"]
[null,"EQUIPE 9",null,"15:51:45",null,null,null,null,null,null,null,null,null,null,null,null,null,null,null,"Analyse du parcours"]
[null,null,null,{"$f":"CONCATENATE(D63,\"bis\")","v":"21Stevebis"},null,null,{"$f":"G61-D61","v":-0.66093750000000007},null,null,{"$f":"J61-G61","v":"00:00:00"},{"$f":"K61-J61","v":"00:00:00"},{"$f":"L61-K61","v":"00:00:00"},{"$f":"M61-D61","v":-0.66093750000000007},null,null,"Temps de course",{"$f":"SUMIF(E62:M62,\">0\",E62:M62)","v":"00:00:00"},{"$f":"ABS((HOUR(Q62)*3600+MINUTE(Q62)*60+SECOND(Q62)))","v":0}]
[null,null,null,{"$f":"$H$2","v":"21Steve"},{"$f":"IFERROR(SQRT(POWER((VLOOKUP($C$5,DEBUT!$D$5:$J$110,6,FALSE)-VLOOKUP(E65,DEBUT!$D$5:$J$110,6,FALSE)),2)+POWER((VLOOKUP($C$5,DEBUT!$D$5:$J$110,7,FALSE)-VLOOKUP(E65,DEBUT!$D$5:$J$110,7,FALSE)),2))/CARTE!$O$9,0)","v":0},{"$f":"IFERROR(SQRT(POWER((VLOOKUP(E65,DEBUT!$D$5:$J$110,6,FALSE)-VLOOKUP(F65,DEBUT!$D$5:$J$110,6,FALSE)),2)+POWER((VLOOKUP(E65,DEBUT!$D$5:$J$110,7,FALSE)-VLOOKUP(F65,DEBUT!$D$5:$J$110,7,FALSE)),2))/CARTE!$O$9,0)","v":0},{"$f":"IFERROR(SQRT(POWER((VLOOKUP(F65,DEBUT!$D$5:$J$110,6,FALSE)-VLOOKUP(G65,DEBUT!$D$5:$J$110,6,FALSE)),2)+POWER((VLOOKUP(F65,DEBUT!$D$5:$J$110,7,FALSE)-VLOOKUP(G65,DEBUT!$D$5:$J$110,7,FALSE)),2))/CARTE!$O$9,0)","v":0},{"$f":"IFERROR(SQRT(POWER((VLOOKUP(G65,DEBUT!$D$5:$J$110,6,FALSE)-VLOOKUP(H65,DEBUT!$D$5:$J$110,6,FALSE)),2)+POWER((VLOOKUP(G65,DEBUT!$D$5:$J$110,7,FALSE)-VLOOKUP(H65,DEBUT!$D$5:$J$110,7,FALSE)),2))/CARTE!$O$9,0)","v":0},{"$f":"IFERROR(SQRT(POWER((VLOOKUP(H65,DEBUT!$D$5:$J$110,6,FALSE)-VLOOKUP(I65,DEBUT!$D$5:$J$110,6,FALSE)),2)+POWER((VLOOKUP(H65,DEBUT!$D$5:$J$110,7,FALSE)-VLOOKUP(I65,DEBUT!$D$5:$J$110,7,FALSE)),2))/CARTE!$O$9,0)","v":0},{"$f":"IFERROR(SQRT(POWER((VLOOKUP(I65,DEBUT!$D$5:$J$110,6,FALSE)-VLOOKUP(J65,DEBUT!$D$5:$J$110,6,FALSE)),2)+POWER((VLOOKUP(I65,DEBUT!$D$5:$J$110,7,FALSE)-VLOOKUP(J65,DEBUT!$D$5:$J$110,7,FALSE)),2))/CARTE!$O$9,0)","v":0},{"$f":"IFERROR(SQRT(POWER((VLOOKUP(J65,DEBUT!$D$5:$J$110,6,FALSE)-VLOOKUP(K65,DEBUT!$D$5:$J$110,6,FALSE)),2)+POWER((VLOOKUP(J65,DEBUT!$D$5:$J$110,7,FALSE)-VLOOKUP(K65,DEBUT!$D$5:$J$110,7,FALSE)),2))/CARTE!$O$9,0)","v":0},{"$f":"IFERROR(SQRT(POWER((VLOOKUP(K65,DEBUT!$D$5:$J$110,6,FALSE)-VLOOKUP(L65,DEBUT!$D$5:$J$110,6,FALSE)),2)+POWER((VLOOKUP(K65,DEBUT!$D$5:$J$110,7,FALSE)-VLOOKUP(L65,DEBUT!$D$5:$J$110,7,FALSE)),2))/CARTE!$O$9,0)","v":0},{"$f":"IFERROR(SQRT(POWER((VLOOKUP(L65,DEBUT!$D$5:$J$110,6,FALSE)-VLOOKUP(M65,DEBUT!$D$5:$J$110,6,FALSE)),2)+POWER((VLOOKUP(L65,DEBUT!$D$5:$J$110,7,FALSE)-VLOOKUP(M65,DEBUT!$D$5:$J$110,7,FALSE)),2))/CARTE!$O$9,0)","v":0},"min","m","Distance",{"$f":"SUM(E63:M63)","v":0},"m"]
[null,null,null,"Balises prévues",{"$f":"IF(ISTEXT($D63),HLOOKUP($D63,DEBUT!$O$3:$XX$100,3,FALSE),\"\")","v":"A"},{"$f":"IF(ISTEXT($D63),HLOOKUP($D63,DEBUT!$O$3:$XX$100,4,FALSE),\"\")","v":"B"},{"$f":"IF(ISTEXT($D63),HLOOKUP($D63,DEBUT!$O$3:$XX$100,5,FALSE),\"\")","v":"C"},{"$f":"IF(ISTEXT($D63),HLOOKUP($D63,DEBUT!$O$3:$XX$100,6,FALSE),\"\")","v":"D"},{"$f":"IF(ISTEXT($D63),HLOOKUP($D63,DEBUT!$O$3:$XX$100,7,FALSE),\"\")","v":"E"},{"$f":"IF(ISTEXT($D63),HLOOKUP($D63,DEBUT!$O$3:$XX$100,8,FALSE),\"\")","v":"F"},{"$f":"IF(ISTEXT($D63),HLOOKUP($D63,DEBUT!$O$3:$XX$100,9,FALSE),\"\")","v":"G"},{"$f":"IF(ISTEXT($D63),HLOOKUP($D63,DEBUT!$O$3:$XX$100,10,FALSE),\"\")","v":"H"},{"$f":"IF(ISTEXT($D63),HLOOKUP($D63,DEBUT!$O$3:$XX$100,11,FALSE),\"\")","v":"I"},null,null,"Nombre balises prévues",{"$f":"SUMPRODUCT(N(ISTEXT(E64:M64)))","v":9},"prévues"]
[null,null,null,"En course",{"$f":"IF($D65=DEBUT!$L$5,E66,\"\")","v":""},{"$f":"IF($D65=DEBUT!$L$5,F66,\"\")","v":""},{"$f":"IF($D65=DEBUT!$L$5,G66,\"\")","v":""},{"$f":"IF($D65=DEBUT!$L$5,H66,\"\")","v":""},{"$f":"IF($D65=DEBUT!$L$5,I66,\"\")","v":""},{"$f":"IF($D65=DEBUT!$L$5,J66,\"\")","v":""},{"$f":"IF($D65=DEBUT!$L$5,K66,\"\")","v":""},{"$f":"IF($D65=DEBUT!$L$5,L66,\"\")","v":""},{"$f":"IF($D65=DEBUT!$L$5,M66,\"\")","v":""},null,null,"Nombre balises trouvées",{"$f":"SUMPRODUCT(N(ISNUMBER(E65:M65)))","v":0},{"$f":"IF(Q65>1,\"trouvées\",\"trouvée\")","v":"trouvée"}]
[null,null,null,"Balises CM",{"$f":"IFERROR(INDEX(baliseCM,MATCH(E64,lettre,0),MATCH($D62,parcours,0)),\"\")","v":12},{"$f":"IFERROR(INDEX(baliseCM,MATCH(F64,lettre,0),MATCH($D62,parcours,0)),\"\")","v":13},11,16,35,28,26,40,39,{"$f":"IFERROR(INDEX(baliseCM,MATCH(N64,lettre,0),MATCH($D62,parcours,0)),\"\")","v":""}]
[null,null,null,"Vitesse",null,null,null,null,null,null,null,null,{"$f":"(M63)/ABS((HOUR(M62)*3600+MINUTE(M62)*60+SECOND(M62)))*3.6","v":{"$error":"#NUM!"}},null,"Km/h","Vitesse moyenne",{"$f":"Q63/R62*3.6","v":{"$error":"#DIV/0!"}},"km/h"]
[null,"EQUIPE 10",null,"15:51:45",null,null,null,null,null,null,null,null,null,null,null,null,null,null,null,"Analyse du parcours"]
[null,null,null,{"$f":"CONCATENATE(D70,\"bis\")","v":"21Stevebis"},null,null,{"$f":"G68-D68","v":-0.66093750000000007},null,null,{"$f":"J68-G68","v":"00:00:00"},{"$f":"K68-J68","v":"00:00:00"},{"$f":"L68-K68","v":"00:00:00"},{"$f":"M68-D68","v":-0.66093750000000007},null,null,"Temps de course",{"$f":"SUMIF(E69:M69,\">0\",E69:M69)","v":"00:00:00"},{"$f":"ABS((HOUR(Q69)*3600+MINUTE(Q69)*60+SECOND(Q69)))","v":0}]
[null,null,null,{"$f":"$H$2","v":"21Steve"},{"$f":"IFERROR(SQRT(POWER((VLOOKUP($C$5,DEBUT!$D$5:$J$110,6,FALSE)-VLOOKUP(E72,DEBUT!$D$5:$J$110,6,FALSE)),2)+POWER((VLOOKUP($C$5,DEBUT!$D$5:$J$110,7,FALSE)-VLOOKUP(E72,DEBUT!$D$5:$J$110,7,FALSE)),2))/CARTE!$O$9,0)","v":0},{"$f":"IFERROR(SQRT(POWER((VLOOKUP(E72,DEBUT!$D$5:$J$110,6,FALSE)-VLOOKUP(F72,DEBUT!$D$5:$J$110,6,FALSE)),2)+POWER((VLOOKUP(E72,DEBUT!$D$5:$J$110,7,FALSE)-VLOOKUP(F72,DEBUT!$D$5:$J$110,7,FALSE)),2))/CARTE!$O$9,0)","v":0},{"$f":"IFERROR(SQRT(POWER((VLOOKUP(F72,DEBUT!$D$5:$J$110,6,FALSE)-VLOOKUP(G72,DEBUT!$D$5:$J$110,6,FALSE)),2)+POWER((VLOOKUP(F72,DEBUT!$D$5:$J$110,7,FALSE)-VLOOKUP(G72,DEBUT!$D$5:$J$110,7,FALSE)),2))/CARTE!$O$9,0)","v":0},{"$f":"IFERROR(SQRT(POWER((VLOOKUP(G72,DEBUT!$D$5:$J$110,6,FALSE)-VLOOKUP(H72,DEBUT!$D$5:$J$110,6,FALSE)),2)+POWER((VLOOKUP(G72,DEBUT!$D$5:$J$110,7,FALSE)-VLOOKUP(H72,DEBUT!$D$5:$J$110,7,FALSE)),2))/CARTE!$O$9,0)","v":0},{"$f":"IFERROR(SQRT(POWER((VLOOKUP(H72,DEBUT!$D$5:$J$110,6,FALSE)-VLOOKUP(I72,DEBUT!$D$5:$J$110,6,FALSE)),2)+POWER((VLOOKUP(H72,DEBUT!$D$5:$J$110,7,FALSE)-VLOOKUP(I72,DEBUT!$D$5:$J$110,7,FALSE)),2))/CARTE!$O$9,0)","v":0},{"$f":"IFERROR(SQRT(POWER((VLOOKUP(I72,DEBUT!$D$5:$J$110,6,FALSE)-VLOOKUP(J72,DEBUT!$D$5:$J$110,6,FALSE)),2)+POWER((VLOOKUP(I72,DEBUT!$D$5:$J$110,7,FALSE)-VLOOKUP(J72,DEBUT!$D$5:$J$110,7,FALSE)),2))/CARTE!$O$9,0)","v":0},{"$f":"IFERROR(SQRT(POWER((VLOOKUP(J72,DEBUT!$D$5:$J$110,6,FALSE)-VLOOKUP(K72,DEBUT!$D$5:$J$110,6,FALSE)),2)+POWER((VLOOKUP(J72,DEBUT!$D$5:$J$110,7,FALSE)-VLOOKUP(K72,DEBUT!$D$5:$J$110,7,FALSE)),2))/CARTE!$O$9,0)","v":0},{"$f":"IFERROR(SQRT(POWER((VLOOKUP(K72,DEBUT!$D$5:$J$110,6,FALSE)-VLOOKUP(L72,DEBUT!$D$5:$J$110,6,FALSE)),2)+POWER((VLOOKUP(K72,DEBUT!$D$5:$J$110,7,FALSE)-VLOOKUP(L72,DEBUT!$D$5:$J$110,7,FALSE)),2))/CARTE!$O$9,0)","v":0},{"$f":"IFERROR(SQRT(POWER((VLOOKUP(L72,DEBUT!$D$5:$J$110,6,FALSE)-VLOOKUP(M72,DEBUT!$D$5:$J$110,6,FALSE)),2)+POWER((VLOOKUP(L72,DEBUT!$D$5:$J$110,7,FALSE)-VLOOKUP(M72,DEBUT!$D$5:$J$110,7,FALSE)),2))/CARTE!$O$9,0)","v":0},"min","m","Distance",{"$f":"SUM(E70:M70)","v":0},"m"]
[null,null,null,"Balises prévues",{"$f":"IF(ISTEXT($D70),HLOOKUP($D70,DEBUT!$O$3:$XX$100,3,FALSE),\"\")","v":"A"},{"$f":"IF(ISTEXT($D70),HLOOKUP($D70,DEBUT!$O$3:$XX$100,4,FALSE),\"\")","v":"B"},{"$f":"IF(ISTEXT($D70),HLOOKUP($D70,DEBUT!$O$3:$XX$100,5,FALSE),\"\")","v":"C"},{"$f":"IF(ISTEXT($D70),HLOOKUP($D70,DEBUT!$O$3:$XX$100,6,FALSE),\"\")","v":"D"},{"$f":"IF(ISTEXT($D70),HLOOKUP($D70,DEBUT!$O$3:$XX$100,7,FALSE),\"\")","v":"E"},{"$f":"IF(ISTEXT($D70),HLOOKUP($D70,DEBUT!$O$3:$XX$100,8,FALSE),\"\")","v":"F"},{"$f":"IF(ISTEXT($D70),HLOOKUP($D70,DEBUT!$O$3:$XX$100,9,FALSE),\"\")","v":"G"},{"$f":"IF(ISTEXT($D70),HLOOKUP($D70,DEBUT!$O$3:$XX$100,10,FALSE),\"\")","v":"H"},{"$f":"IF(ISTEXT($D70),HLOOKUP($D70,DEBUT!$O$3:$XX$100,11,FALSE),\"\")","v":"I"},null,null,"Nombre balises prévues",{"$f":"SUMPRODUCT(N(ISTEXT(E71:M71)))","v":9},"prévues"]
[null,null,null,"En course",{"$f":"IF($D72=DEBUT!$L$5,E73,\"\")","v":""},{"$f":"IF($D72=DEBUT!$L$5,F73,\"\")","v":""},{"$f":"IF($D72=DEBUT!$L$5,G73,\"\")","v":""},{"$f":"IF($D72=DEBUT!$L$5,H73,\"\")","v":""},{"$f":"IF($D72=DEBUT!$L$5,I73,\"\")","v":""},{"$f":"IF($D72=DEBUT!$L$5,J73,\"\")","v":""},{"$f":"IF($D72=DEBUT!$L$5,K73,\"\")","v":""},{"$f":"IF($D72=DEBUT!$L$5,L73,\"\")","v":""},{"$f":"IF($D72=DEBUT!$L$5,M73,\"\")","v":""},null,null,"Nombre balises trouvées",{"$f":"SUMPRODUCT(N(ISNUMBER(E72:M72)))","v":0},{"$f":"IF(Q72>1,\"trouvées\",\"trouvée\")","v":"trouvée"}]
[null,null,null,"Balises CM",{"$f":"IFERROR(INDEX(baliseCM,MATCH(E71,lettre,0),MATCH($D69,parcours,0)),\"\")","v":12},{"$f":"IFERROR(INDEX(baliseCM,MATCH(F71,lettre,0),MATCH($D69,parcours,0)),\"\")","v":13},11,16,35,28,26,40,39,{"$f":"IFERROR(INDEX(baliseCM,MATCH(N71,lettre,0),MATCH($D69,parcours,0)),\"\")","v":""}]
[null,null,null,"Vitesse",null,null,null,null,null,null,null,null,{"$f":"(M70)/ABS((HOUR(M69)*3600+MINUTE(M69)*60+SECOND(M69)))*3.6","v":{"$error":"#NUM!"}},null,"Km/h","Vitesse moyenne",{"$f":"Q70/R69*3.6","v":{"$error":"#DIV/0!"}},"km/h"]
[null,"EQUIPE 11",null,"07:28:54",null,null,null,null,null,null,null,null,null,null,null,null,null,null,null,"Analyse du parcours"]
[null,null,null,{"$f":"CONCATENATE(D77,\"bis\")","v":"21Stevebis"},null,null,{"$f":"G75-D75","v":-0.3117361111111111},null,null,{"$f":"J75-G75","v":"00:00:00"},{"$f":"K75-J75","v":"00:00:00"},{"$f":"L75-K75","v":"00:00:00"},{"$f":"M75-D75","v":-0.3117361111111111},null,null,"Temps de course",{"$f":"SUMIF(E76:M76,\">0\",E76:M76)","v":"00:00:00"},{"$f":"ABS((HOUR(Q76)*3600+MINUTE(Q76)*60+SECOND(Q76)))","v":0}]
[null,null,null,{"$f":"$H$2","v":"21Steve"},{"$f":"IFERROR(SQRT(POWER((VLOOKUP($C$5,DEBUT!$D$5:$J$110,6,FALSE)-VLOOKUP(E79,DEBUT!$D$5:$J$110,6,FALSE)),2)+POWER((VLOOKUP($C$5,DEBUT!$D$5:$J$110,7,FALSE)-VLOOKUP(E79,DEBUT!$D$5:$J$110,7,FALSE)),2))/CARTE!$O$9,0)","v":0},{"$f":"IFERROR(SQRT(POWER((VLOOKUP(E79,DEBUT!$D$5:$J$110,6,FALSE)-VLOOKUP(F79,DEBUT!$D$5:$J$110,6,FALSE)),2)+POWER((VLOOKUP(E79,DEBUT!$D$5:$J$110,7,FALSE)-VLOOKUP(F79,DEBUT!$D$5:$J$110,7,FALSE)),2))/CARTE!$O$9,0)","v":0},{"$f":"IFERROR(SQRT(POWER((VLOOKUP(F79,DEBUT!$D$5:$J$110,6,FALSE)-VLOOKUP(G79,DEBUT!$D$5:$J$110,6,FALSE)),2)+POWER((VLOOKUP(F79,DEBUT!$D$5:$J$110,7,FALSE)-VLOOKUP(G79,DEBUT!$D$5:$J$110,7,FALSE)),2))/CARTE!$O$9,0)","v":0},{"$f":"IFERROR(SQRT(POWER((VLOOKUP(G79,DEBUT!$D$5:$J$110,6,FALSE)-VLOOKUP(H79,DEBUT!$D$5:$J$110,6,FALSE)),2)+POWER((VLOOKUP(G79,DEBUT!$D$5:$J$110,7,FALSE)-VLOOKUP(H79,DEBUT!$D$5:$J$110,7,FALSE)),2))/CARTE!$O$9,0)","v":0},{"$f":"IFERROR(SQRT(POWER((VLOOKUP(H79,DEBUT!$D$5:$J$110,6,FALSE)-VLOOKUP(I79,DEBUT!$D$5:$J$110,6,FALSE)),2)+POWER((VLOOKUP(H79,DEBUT!$D$5:$J$110,7,FALSE)-VLOOKUP(I79,DEBUT!$D$5:$J$110,7,FALSE)),2))/CARTE!$O$9,0)","v":0},{"$f":"IFERROR(SQRT(POWER((VLOOKUP(I79,DEBUT!$D$5:$J$110,6,FALSE)-VLOOKUP(J79,DEBUT!$D$5:$J$110,6,FALSE)),2)+POWER((VLOOKUP(I79,DEBUT!$D$5:$J$110,7,FALSE)-VLOOKUP(J79,DEBUT!$D$5:$J$110,7,FALSE)),2))/CARTE!$O$9,0)","v":0},{"$f":"IFERROR(SQRT(POWER((VLOOKUP(J79,DEBUT!$D$5:$J$110,6,FALSE)-VLOOKUP(K79,DEBUT!$D$5:$J$110,6,FALSE)),2)+POWER((VLOOKUP(J79,DEBUT!$D$5:$J$110,7,FALSE)-VLOOKUP(K79,DEBUT!$D$5:$J$110,7,FALSE)),2))/CARTE!$O$9,0)","v":0},{"$f":"IFERROR(SQRT(POWER((VLOOKUP(K79,DEBUT!$D$5:$J$110,6,FALSE)-VLOOKUP(L79,DEBUT!$D$5:$J$110,6,FALSE)),2)+POWER((VLOOKUP(K79,DEBUT!$D$5:$J$110,7,FALSE)-VLOOKUP(L79,DEBUT!$D$5:$J$110,7,FALSE)),2))/CARTE!$O$9,0)","v":0},{"$f":"IFERROR(SQRT(POWER((VLOOKUP(L79,DEBUT!$D$5:$J$110,6,FALSE)-VLOOKUP(M79,DEBUT!$D$5:$J$110,6,FALSE)),2)+POWER((VLOOKUP(L79,DEBUT!$D$5:$J$110,7,FALSE)-VLOOKUP(M79,DEBUT!$D$5:$J$110,7,FALSE)),2))/CARTE!$O$9,0)","v":0},"min","m","Distance",{"$f":"SUM(E77:M77)","v":0},"m"]
[null,null,null,"Balises prévues",{"$f":"IF(ISTEXT($D77),HLOOKUP($D77,DEBUT!$O$3:$XX$100,3,FALSE),\"\")","v":"A"},{"$f":"IF(ISTEXT($D77),HLOOKUP($D77,DEBUT!$O$3:$XX$100,4,FALSE),\"\")","v":"B"},{"$f":"IF(ISTEXT($D77),HLOOKUP($D77,DEBUT!$O$3:$XX$100,5,FALSE),\"\")","v":"C"},{"$f":"IF(ISTEXT($D77),HLOOKUP($D77,DEBUT!$O$3:$XX$100,6,FALSE),\"\")","v":"D"},{"$f":"IF(ISTEXT($D77),HLOOKUP($D77,DEBUT!$O$3:$XX$100,7,FALSE),\"\")","v":"E"},{"$f":"IF(ISTEXT($D77),HLOOKUP($D77,DEBUT!$O$3:$XX$100,8,FALSE),\"\")","v":"F"},{"$f":"IF(ISTEXT($D77),HLOOKUP($D77,DEBUT!$O$3:$XX$100,9,FALSE),\"\")","v":"G"},{"$f":"IF(ISTEXT($D77),HLOOKUP($D77,DEBUT!$O$3:$XX$100,10,FALSE),\"\")","v":"H"},{"$f":"IF(ISTEXT($D77),HLOOKUP($D77,DEBUT!$O$3:$XX$100,11,FALSE),\"\")","v":"I"},null,null,"Nombre balises prévues",{"$f":"SUMPRODUCT(N(ISTEXT(E78:M78)))","v":9},"prévues"]
[null,null,null,"En course",{"$f":"IF($D79=DEBUT!$L$5,E80,\"\")","v":""},{"$f":"IF($D79=DEBUT!$L$5,F80,\"\")","v":""},{"$f":"IF($D79=DEBUT!$L$5,G80,\"\")","v":""},{"$f":"IF($D79=DEBUT!$L$5,H80,\"\")","v":""},{"$f":"IF($D79=DEBUT!$L$5,I80,\"\")","v":""},{"$f":"IF($D79=DEBUT!$L$5,J80,\"\")","v":""},{"$f":"IF($D79=DEBUT!$L$5,K80,\"\")","v":""},{"$f":"IF($D79=DEBUT!$L$5,L80,\"\")","v":""},{"$f":"IF($D79=DEBUT!$L$5,M80,\"\")","v":""},null,null,"Nombre balises trouvées",{"$f":"SUMPRODUCT(N(ISNUMBER(E79:M79)))","v":0},{"$f":"IF(Q79>1,\"trouvées\",\"trouvée\")","v":"trouvée"}]
[null,null,null,"Balises CM",{"$f":"IFERROR(INDEX(baliseCM,MATCH(E78,lettre,0),MATCH($D76,parcours,0)),\"\")","v":12},{"$f":"IFERROR(INDEX(baliseCM,MATCH(F78,lettre,0),MATCH($D76,parcours,0)),\"\")","v":13},11,16,35,28,26,40,39,{"$f":"IFERROR(INDEX(baliseCM,MATCH(N78,lettre,0),MATCH($D76,parcours,0)),\"\")","v":""}]
[null,null,null,"Vitesse",null,null,null,null,null,null,null,null,{"$f":"(M77)/ABS((HOUR(M76)*3600+MINUTE(M76)*60+SECOND(M76)))*3.6","v":{"$error":"#NUM!"}},null,"Km/h","Vitesse moyenne",{"$f":"Q77/R76*3.6","v":{"$error":"#DIV/0!"}},"km/h"]
[null,"EQUIPE 12",null,"07:46:00",null,null,null,null,null,null,null,null,null,null,null,null,null,null,null,"Analyse du parcours"]
[null,null,null,{"$f":"CONCATENATE(D84,\"bis\")","v":"21Stevebis"},null,null,{"$f":"G82-D82","v":-0.32361111111111113},null,null,{"$f":"J82-G82","v":"00:00:00"},{"$f":"K82-J82","v":"00:00:00"},{"$f":"L82-K82","v":"00:00:00"},{"$f":"M82-D82","v":-0.32361111111111113},null,null,"Temps de course",{"$f":"SUMIF(E83:M83,\">0\",E83:M83)","v":"00:00:00"},{"$f":"ABS((HOUR(Q83)*3600+MINUTE(Q83)*60+SECOND(Q83)))","v":0}]
[null,null,null,{"$f":"$H$2","v":"21Steve"},{"$f":"IFERROR(SQRT(POWER((VLOOKUP($C$5,DEBUT!$D$5:$J$110,6,FALSE)-VLOOKUP(E86,DEBUT!$D$5:$J$110,6,FALSE)),2)+POWER((VLOOKUP($C$5,DEBUT!$D$5:$J$110,7,FALSE)-VLOOKUP(E86,DEBUT!$D$5:$J$110,7,FALSE)),2))/CARTE!$O$9,0)","v":0},{"$f":"IFERROR(SQRT(POWER((VLOOKUP(E86,DEBUT!$D$5:$J$110,6,FALSE)-VLOOKUP(F86,DEBUT!$D$5:$J$110,6,FALSE)),2)+POWER((VLOOKUP(E86,DEBUT!$D$5:$J$110,7,FALSE)-VLOOKUP(F86,DEBUT!$D$5:$J$110,7,FALSE)),2))/CARTE!$O$9,0)","v":0},{"$f":"IFERROR(SQRT(POWER((VLOOKUP(F86,DEBUT!$D$5:$J$110,6,FALSE)-VLOOKUP(G86,DEBUT!$D$5:$J$110,6,FALSE)),2)+POWER((VLOOKUP(F86,DEBUT!$D$5:$J$110,7,FALSE)-VLOOKUP(G86,DEBUT!$D$5:$J$110,7,FALSE)),2))/CARTE!$O$9,0)","v":0},{"$f":"IFERROR(SQRT(POWER((VLOOKUP(G86,DEBUT!$D$5:$J$110,6,FALSE)-VLOOKUP(H86,DEBUT!$D$5:$J$110,6,FALSE)),2)+POWER((VLOOKUP(G86,DEBUT!$D$5:$J$110,7,FALSE)-VLOOKUP(H86,DEBUT!$D$5:$J$110,7,FALSE)),2))/CARTE!$O$9,0)","v":0},{"$f":"IFERROR(SQRT(POWER((VLOOKUP(H86,DEBUT!$D$5:$J$110,6,FALSE)-VLOOKUP(I86,DEBUT!$D$5:$J$110,6,FALSE)),2)+POWER((VLOOKUP(H86,DEBUT!$D$5:$J$110,7,FALSE)-VLOOKUP(I86,DEBUT!$D$5:$J$110,7,FALSE)),2))/CARTE!$O$9,0)","v":0},{"$f":"IFERROR(SQRT(POWER((VLOOKUP(I86,DEBUT!$D$5:$J$110,6,FALSE)-VLOOKUP(J86,DEBUT!$D$5:$J$110,6,FALSE)),2)+POWER((VLOOKUP(I86,DEBUT!$D$5:$J$110,7,FALSE)-VLOOKUP(J86,DEBUT!$D$5:$J$110,7,FALSE)),2))/CARTE!$O$9,0)","v":0},{"$f":"IFERROR(SQRT(POWER((VLOOKUP(J86,DEBUT!$D$5:$J$110,6,FALSE)-VLOOKUP(K86,DEBUT!$D$5:$J$110,6,FALSE)),2)+POWER((VLOOKUP(J86,DEBUT!$D$5:$J$110,7,FALSE)-VLOOKUP(K86,DEBUT!$D$5:$J$110,7,FALSE)),2))/CARTE!$O$9,0)","v":0},{"$f":"IFERROR(SQRT(POWER((VLOOKUP(K86,DEBUT!$D$5:$J$110,6,FALSE)-VLOOKUP(L86,DEBUT!$D$5:$J$110,6,FALSE)),2)+POWER((VLOOKUP(K86,DEBUT!$D$5:$J$110,7,FALSE)-VLOOKUP(L86,DEBUT!$D$5:$J$110,7,FALSE)),2))/CARTE!$O$9,0)","v":0},{"$f":"IFERROR(SQRT(POWER((VLOOKUP(L86,DEBUT!$D$5:$J$110,6,FALSE)-VLOOKUP(M86,DEBUT!$D$5:$J$110,6,FALSE)),2)+POWER((VLOOKUP(L86,DEBUT!$D$5:$J$110,7,FALSE)-VLOOKUP(M86,DEBUT!$D$5:$J$110,7,FALSE)),2))/CARTE!$O$9,0)","v":0},"min","m","Distance",{"$f":"SUM(E84:M84)","v":0},"m"]
[null,null,null,"Balises prévues",{"$f":"IF(ISTEXT($D84),HLOOKUP($D84,DEBUT!$O$3:$XX$100,3,FALSE),\"\")","v":"A"},{"$f":"IF(ISTEXT($D84),HLOOKUP($D84,DEBUT!$O$3:$XX$100,4,FALSE),\"\")","v":"B"},{"$f":"IF(ISTEXT($D84),HLOOKUP($D84,DEBUT!$O$3:$XX$100,5,FALSE),\"\")","v":"C"},{"$f":"IF(ISTEXT($D84),HLOOKUP($D84,DEBUT!$O$3:$XX$100,6,FALSE),\"\")","v":"D"},{"$f":"IF(ISTEXT($D84),HLOOKUP($D84,DEBUT!$O$3:$XX$100,7,FALSE),\"\")","v":"E"},{"$f":"IF(ISTEXT($D84),HLOOKUP($D84,DEBUT!$O$3:$XX$100,8,FALSE),\"\")","v":"F"},{"$f":"IF(ISTEXT($D84),HLOOKUP($D84,DEBUT!$O$3:$XX$100,9,FALSE),\"\")","v":"G"},{"$f":"IF(ISTEXT($D84),HLOOKUP($D84,DEBUT!$O$3:$XX$100,10,FALSE),\"\")","v":"H"},{"$f":"IF(ISTEXT($D84),HLOOKUP($D84,DEBUT!$O$3:$XX$100,11,FALSE),\"\")","v":"I"},null,null,"Nombre balises prévues",{"$f":"SUMPRODUCT(N(ISTEXT(E85:M85)))","v":9},"prévues"]
[null,null,null,"En course",{"$f":"IF($D86=DEBUT!$L$5,E87,\"\")","v":""},{"$f":"IF($D86=DEBUT!$L$5,F87,\"\")","v":""},{"$f":"IF($D86=DEBUT!$L$5,G87,\"\")","v":""},{"$f":"IF($D86=DEBUT!$L$5,H87,\"\")","v":""},{"$f":"IF($D86=DEBUT!$L$5,I87,\"\")","v":""},{"$f":"IF($D86=DEBUT!$L$5,J87,\"\")","v":""},{"$f":"IF($D86=DEBUT!$L$5,K87,\"\")","v":""},{"$f":"IF($D86=DEBUT!$L$5,L87,\"\")","v":""},{"$f":"IF($D86=DEBUT!$L$5,M87,\"\")","v":""},null,null,"Nombre balises trouvées",{"$f":"SUMPRODUCT(N(ISNUMBER(E86:M86)))","v":0},{"$f":"IF(Q86>1,\"trouvées\",\"trouvée\")","v":"trouvée"}]
[null,null,null,"Balises CM",{"$f":"IFERROR(INDEX(baliseCM,MATCH(E85,lettre,0),MATCH($D83,parcours,0)),\"\")","v":12},{"$f":"IFERROR(INDEX(baliseCM,MATCH(F85,lettre,0),MATCH($D83,parcours,0)),\"\")","v":13},11,16,35,28,26,40,39,{"$f":"IFERROR(INDEX(baliseCM,MATCH(N85,lettre,0),MATCH($D83,parcours,0)),\"\")","v":""}]
[null,null,null,"Vitesse",null,null,null,null,null,null,null,null,{"$f":"(M84)/ABS((HOUR(M83)*3600+MINUTE(M83)*60+SECOND(M83)))*3.6","v":{"$error":"#NUM!"}},null,"Km/h","Vitesse moyenne",{"$f":"Q84/R83*3.6","v":{"$error":"#DIV/0!"}},"km/h"]

{"sheet":"MD","index":10,"n_rows":88,"n_cols":39,"rows_kept":88,"cut":false,"hidden":false,"merged":[[19,19,23,19],[0,7,0,9],[1,4,1,5],[1,7,1,9],[5,19,9,19],[12,19,16,19],[68,19,72,19],[75,19,79,19],[82,19,86,19],[26,19,30,19],[33,19,37,19],[40,19,44,19],[47,19,51,19],[54,19,58,19],[61,19,65,19]]}
[null,null,null,null,null,null,null,{"$f":"CONCATENATE(H2,\"bis\")","v":"14ORANGEbis"},null,null,null,null,"Temps limite"]
[null,"STAGE",null,null,"23:08:42",null,null,"14ORANGE",null,null,null,null,30.024305555555557,"min"]
[null,null,null,null,null,null,null,"Corriger balise ->","B"]
[null,null,null,null,null,null,null,null,{"$f":"IFERROR(INDEX(baliseCM,MATCH(I3,lettre,0),MATCH(H1,parcours,0)),\"\")","v":10},null,null,null,null,null,null,"Montée descente","N3"]
[null,"EQUIPE 1","D","12:15:19",null,null,"12:15:22",null,null,"12:15:28",null,null,"12:15:32",null,null,"EQUIPE 2","D",null,null,null,null,"EQUIPE 1","EQUIPE 2","EQUIPE 3","EQUIPE 4","EQUIPE 5","EQUIPE 6","EQUIPE 7","EQUIPE 8","EQUIPE 9","EQUIPE 10","EQUIPE 11","EQUIPE 12",null,null,null,null,1,{"$f":"OFFSET(INDEX(eleves,MATCH(AL5,chiffre,0),MATCH($B$2,classes,0)),0,1)","v":"POL"}]
[null,{"$f":"HLOOKUP(B5,$V$5:$AG$9,2,FALSE)","v":"Alexandre"},null,{"$f":"CONCATENATE(D7,\"bis\")","v":"14ORANGEbis"},null,null,{"$f":"G5-D5","v":"00:00:03"},null,null,{"$f":"J5-D5","v":"00:00:09"},{"$f":"K5-J5","v":-0.51074074074074072},"00:00:00",null,null,null,{"$f":"HLOOKUP(P5,$V$5:$AG$9,2,FALSE)","v":"CC"},null,null,null,null,null,"Alexandre","CC",null,null,null,null,null,null,null,null,null,null,null,null,null,null,2,"CARINE"]
[null,{"$f":"HLOOKUP(B5,$V$5:$AG$9,3,FALSE)","v":"Anthony"},null,{"$f":"$H$2","v":"14ORANGE"},{"$f":"IFERROR(SQRT(POWER((VLOOKUP($C$5,DEBUT!$D$5:$J$110,6,FALSE)-VLOOKUP(E9,DEBUT!$D$5:$J$110,6,FALSE)),2)+POWER((VLOOKUP($C$5,DEBUT!$D$5:$J$110,7,FALSE)-VLOOKUP(E9,DEBUT!$D$5:$J$110,7,FALSE)),2))/CARTE!$O$9,0)","v":177.2924730824831},{"$f":"IFERROR(SQRT(POWER((VLOOKUP(E9,DEBUT!$D$5:$J$110,6,FALSE)-VLOOKUP(F9,DEBUT!$D$5:$J$110,6,FALSE)),2)+POWER((VLOOKUP(E9,DEBUT!$D$5:$J$110,7,FALSE)-VLOOKUP(F9,DEBUT!$D$5:$J$110,7,FALSE)),2))/CARTE!$O$9,0)","v":292.41323207806477},{"$f":"IFERROR(SQRT(POWER((VLOOKUP(F9,DEBUT!$D$5:$J$110,6,FALSE)-VLOOKUP(G9,DEBUT!$D$5:$J$110,6,FALSE)),2)+POWER((VLOOKUP(F9,DEBUT!$D$5:$J$110,7,FALSE)-VLOOKUP(G9,DEBUT!$D$5:$J$110,7,FALSE)),2))/CARTE!$O$9,0)","v":185.45260026215442},{"$f":"IFERROR(SQRT(POWER((VLOOKUP(G9,DEBUT!$D$5:$J$110,6,FALSE)-VLOOKUP(H9,DEBUT!$D$5:$J$110,6,FALSE)),2)+POWER((VLOOKUP(G9,DEBUT!$D$5:$J$110,7,FALSE)-VLOOKUP(H9,DEBUT!$D$5:$J$110,7,FALSE)),2))/CARTE!$O$9,0)","v":388.88158128989608},{"$f":"IFERROR(SQRT(POWER((VLOOKUP(H9,DEBUT!$D$5:$J$110,6,FALSE)-VLOOKUP(I9,DEBUT!$D$5:$J$110,6,FALSE)),2)+POWER((VLOOKUP(H9,DEBUT!$D$5:$J$110,7,FALSE)-VLOOKUP(I9,DEBUT!$D$5:$J$110,7,FALSE)),2))/CARTE!$O$9,0)","v":1321.1931767408294},{"$f":"IFERROR(SQRT(POWER((VLOOKUP(I9,DEBUT!$D$5:$J$110,6,FALSE)-VLOOKUP(J9,DEBUT!$D$5:$J$110,6,FALSE)),2)+POWER((VLOOKUP(I9,DEBUT!$D$5:$J$110,7,FALSE)-VLOOKUP(J9,DEBUT!$D$5:$J$110,7,FALSE)),2))/CARTE!$O$9,0)","v":621.65617723594562},null,null,null,null,null,{"$f":"HLOOKUP(P5,$V$5:$AG$9,3,FALSE)","v":0},null,null,null,null,null,"Anthony",null,null,null,null,null,null,null,null,null,null,null,null,null,null,null,3,"BASTIEN"]
[null,{"$f":"HLOOKUP(B5,$V$5:$AG$9,4,FALSE)","v":0},null,"Balises prévues",{"$f":"IF(ISTEXT($D7),HLOOKUP($D7,DEBUT!$O$3:$XX$100,3,FALSE),\"\")","v":"A"},{"$f":"IF(ISTEXT($D7),HLOOKUP($D7,DEBUT!$O$3:$XX$100,4,FALSE),\"\")","v":"B"},{"$f":"IF(ISTEXT($D7),HLOOKUP($D7,DEBUT!$O$3:$XX$100,5,FALSE),\"\")","v":"C"},{"$f":"IF(ISTEXT($D7),HLOOKUP($D7,DEBUT!$O$3:$XX$100,6,FALSE),\"\")","v":"D"},{"$f":"IF(ISTEXT($D7),HLOOKUP($D7,DEBUT!$O$3:$XX$100,7,FALSE),\"\")","v":"E"},{"$f":"IF(ISTEXT($D7),HLOOKUP($D7,DEBUT!$O$3:$XX$100,8,FALSE),\"\")","v":"F"},"x","x","x",null,null,{"$f":"HLOOKUP(P5,$V$5:$AG$9,4,FALSE)","v":0},null,null,null,null,null,null,null,null,null,null,null,null,null,null,null,null,null,null,null,null,null,4,"CORALINE"]
[null,{"$f":"HLOOKUP(B5,$V$5:$AG$9,5,FALSE)","v":0},null,"Validé",{"$f":"IF($D9=DEBUT!$L$5,E10,\"\")","v":7},{"$f":"IF($D9=DEBUT!$L$5,F10,\"\")","v":10},{"$f":"IF($D9=DEBUT!$L$5,G10,\"\")","v":11},{"$f":"IF($D9=DEBUT!$L$5,H10,\"\")","v":1},{"$f":"IF($D9=DEBUT!$L$5,I10,\"\")","v":76},{"$f":"IF($D9=DEBUT!$L$5,J10,\"\")","v":46},null,null,null,null,null,{"$f":"HLOOKUP(P5,$V$5:$AG$9,5,FALSE)","v":0},null,null,null,null,null,null,null,null,null,null,null,null,null,null,null,null,null,null,null,null,null,5,"GREGORY"]
[null,null,null,"Balises CM",{"$f":"IFERROR(INDEX(baliseCM,MATCH(E8,lettre,0),MATCH($D6,parcours,0)),\"\")","v":7},{"$f":"IFERROR(INDEX(baliseCM,MATCH(F8,lettre,0),MATCH($D6,parcours,0)),\"\")","v":10},11,1,76,46,null,null,null,null,null,null,null,null,null,null,null,null,null,null,null,null,null,null,null,null,null,null,null,null,null,null,null,6,"THOMAS"]
[null,null,null,"Vitesse",null,null,{"$f":"((E7+F7+G7)/ABS((HOUR(G6)*3600+MINUTE(G6)*60+SECOND(G6))))*3.6","v":786.18996650724273},null,null,{"$f":"((H7+I7+J7)/ABS((HOUR(J6)*3600+MINUTE(J6)*60+SECOND(J6))))*3.6","v":932.69237410666847},null,null,null,null,null,null,null,null,null,null,null,null,null,null,null,null,null,null,null,null,null,null,null,null,null,null,null,7,"ALAIN"]
[null,"EQUIPE 2",null,"07:44:01","16:02:14","16:02:21","07:44:06",null,null,"09:38:53",null,null,null,null,null,"EQUIPE 2",null,null,null,null,null,null,null,null,null,null,null,null,null,null,null,null,null,null,null,null,null,8,"QUENTIN"]
[null,{"$f":"HLOOKUP(B12,$V$5:$AG$9,2,FALSE)","v":"CC"},null,{"$f":"CONCATENATE(D14,\"bis\")","v":"14ORANGEbis"},null,null,{"$f":"G12-D12","v":"00:00:05"},null,null,{"$f":"J12-D12","v":"01:54:52"},{"$f":"K12-J12","v":-0.4020023148148148},"00:00:00",null,null,null,{"$f":"HLOOKUP(P12,$V$5:$AG$9,2,FALSE)","v":"CC"},null,null,null,null,null,null,null,null,null,null,null,null,null,null,null,null,null,null,null,null,null,9,"BAPTISTE"]
[null,{"$f":"HLOOKUP(B12,$V$5:$AG$9,3,FALSE)","v":0},null,{"$f":"$H$2","v":"14ORANGE"},{"$f":"IFERROR(SQRT(POWER((VLOOKUP($C$5,DEBUT!$D$5:$J$110,6,FALSE)-VLOOKUP(E16,DEBUT!$D$5:$J$110,6,FALSE)),2)+POWER((VLOOKUP($C$5,DEBUT!$D$5:$J$110,7,FALSE)-VLOOKUP(E16,DEBUT!$D$5:$J$110,7,FALSE)),2))/CARTE!$O$9,0)","v":177.2924730824831},{"$f":"IFERROR(SQRT(POWER((VLOOKUP(E16,DEBUT!$D$5:$J$110,6,FALSE)-VLOOKUP(F16,DEBUT!$D$5:$J$110,6,FALSE)),2)+POWER((VLOOKUP(E16,DEBUT!$D$5:$J$110,7,FALSE)-VLOOKUP(F16,DEBUT!$D$5:$J$110,7,FALSE)),2))/CARTE!$O$9,0)","v":292.41323207806477},{"$f":"IFERROR(SQRT(POWER((VLOOKUP(F16,DEBUT!$D$5:$J$110,6,FALSE)-VLOOKUP(G16,DEBUT!$D$5:$J$110,6,FALSE)),2)+POWER((VLOOKUP(F16,DEBUT!$D$5:$J$110,7,FALSE)-VLOOKUP(G16,DEBUT!$D$5:$J$110,7,FALSE)),2))/CARTE!$O$9,0)","v":185.45260026215442},{"$f":"IFERROR(SQRT(POWER((VLOOKUP(G16,DEBUT!$D$5:$J$110,6,FALSE)-VLOOKUP(H16,DEBUT!$D$5:$J$110,6,FALSE)),2)+POWER((VLOOKUP(G16,DEBUT!$D$5:$J$110,7,FALSE)-VLOOKUP(H16,DEBUT!$D$5:$J$110,7,FALSE)),2))/CARTE!$O$9,0)","v":388.88158128989608},{"$f":"IFERROR(SQRT(POWER((VLOOKUP(H16,DEBUT!$D$5:$J$110,6,FALSE)-VLOOKUP(I16,DEBUT!$D$5:$J$110,6,FALSE)),2)+POWER((VLOOKUP(H16,DEBUT!$D$5:$J$110,7,FALSE)-VLOOKUP(I16,DEBUT!$D$5:$J$110,7,FALSE)),2))/CARTE!$O$9,0)","v":1321.1931767408294},{"$f":"IFERROR(SQRT(POWER((VLOOKUP(I16,DEBUT!$D$5:$J$110,6,FALSE)-VLOOKUP(J16,DEBUT!$D$5:$J$110,6,FALSE)),2)+POWER((VLOOKUP(I16,DEBUT!$D$5:$J$110,7,FALSE)-VLOOKUP(J16,DEBUT!$D$5:$J$110,7,FALSE)),2))/CARTE!$O$9,0)","v":621.65617723594562},null,null,null,null,null,{"$f":"HLOOKUP(P12,$V$5:$AG$9,3,FALSE)","v":0},null,null,null,null,null,null,null,null,null,null,null,null,null,null,null,null,null,null,null,null,null,10,"FRANCK"]
[null,{"$f":"HLOOKUP(B12,$V$5:$AG$9,4,FALSE)","v":0},null,"Balises prévues",{"$f":"IF(ISTEXT($D14),HLOOKUP($D14,DEBUT!$O$3:$XX$100,3,FALSE),\"\")","v":"A"},{"$f":"IF(ISTEXT($D14),HLOOKUP($D14,DEBUT!$O$3:$XX$100,4,FALSE),\"\")","v":"B"},{"$f":"IF(ISTEXT($D14),HLOOKUP($D14,DEBUT!$O$3:$XX$100,5,FALSE),\"\")","v":"C"},{"$f":"IF(ISTEXT($D14),HLOOKUP($D14,DEBUT!$O$3:$XX$100,6,FALSE),\"\")","v":"D"},{"$f":"IF(ISTEXT($D14),HLOOKUP($D14,DEBUT!$O$3:$XX$100,7,FALSE),\"\")","v":"E"},{"$f":"IF(ISTEXT($D14),HLOOKUP($D14,DEBUT!$O$3:$XX$100,8,FALSE),\"\")","v":"F"},"x","x","x",null,null,{"$f":"HLOOKUP(P12,$V$5:$AG$9,4,FALSE)","v":0},null,null,null,null,null,null,null,null,null,null,null,null,null,null,null,null,null,null,null,null,null,11,"VALENTIN"]
[null,{"$f":"HLOOKUP(B12,$V$5:$AG$9,5,FALSE)","v":0},null,"Validé",{"$f":"IF($D16=DEBUT!$L$5,E17,\"\")","v":7},{"$f":"IF($D16=DEBUT!$L$5,F17,\"\")","v":10},{"$f":"IF($D16=DEBUT!$L$5,G17,\"\")","v":11},{"$f":"IF($D16=DEBUT!$L$5,H17,\"\")","v":1},{"$f":"IF($D16=DEBUT!$L$5,I17,\"\")","v":76},{"$f":"IF($D16=DEBUT!$L$5,J17,\"\")","v":46},null,null,null,null,null,{"$f":"HLOOKUP(P12,$V$5:$AG$9,5,FALSE)","v":0},null,null,null,null,null,null,null,null,null,null,null,null,null,null,null,null,null,null,null,null,null,12,"BENJAMIN"]
[null,null,null,"Balises CM",{"$f":"IFERROR(INDEX(baliseCM,MATCH(E15,lettre,0),MATCH($D13,parcours,0)),\"\")","v":7},{"$f":"IFERROR(INDEX(baliseCM,MATCH(F15,lettre,0),MATCH($D13,parcours,0)),\"\")","v":10},11,1,76,46,null,null,null,null,null,null,null,null,null,null,null,null,null,null,null,null,null,null,null,null,null,null,null,null,null,null,null,13,"ANDY"]
[null,null,null,"Vitesse",null,null,{"$f":"((E14+F14+G14)/ABS((HOUR(G13)*3600+MINUTE(G13)*60+SECOND(G13))))*3.6","v":471.71397990434559},null,null,{"$f":"((H14+I14+J14)/ABS((HOUR(J13)*3600+MINUTE(J13)*60+SECOND(J13))))*3.6","v":1.2179674066976227},null,null,null,null,null,null,null,null,null,null,null,null,null,null,null,null,null,null,null,null,null,null,null,null,null,null,null,14,"OLIVIER"]
[null,"EQUIPE 3",null,"15:51:45","15:55:06",null,null,null,null,null,null,null,null,null,null,"EQUIPE 3",null,null,null,null,null,null,null,null,null,null,null,null,null,null,null,null,null,null,null,null,null,15,"CHRISTIAN"]
[null,{"$f":"HLOOKUP(B19,$V$5:$AG$9,2,FALSE)","v":0},null,{"$f":"CONCATENATE(D21,\"bis\")","v":"14ORANGEbis"},null,null,{"$f":"G19-D19","v":-0.66093750000000007},null,null,{"$f":"J19-D19","v":-0.66093750000000007},{"$f":"K19-J19","v":"00:00:00"},"00:00:00",null,null,null,{"$f":"HLOOKUP(P19,$V$5:$AG$9,2,FALSE)","v":0},null,null,null,null,null,null,null,null,null,null,null,null,null,null,null,null,null,null,null,null,null,16,"CELINE"]
[null,{"$f":"HLOOKUP(B19,$V$5:$AG$9,3,FALSE)","v":0},null,{"$f":"$H$2","v":"14ORANGE"},{"$f":"IFERROR(SQRT(POWER((VLOOKUP($C$5,DEBUT!$D$5:$J$110,6,FALSE)-VLOOKUP(E23,DEBUT!$D$5:$J$110,6,FALSE)),2)+POWER((VLOOKUP($C$5,DEBUT!$D$5:$J$110,7,FALSE)-VLOOKUP(E23,DEBUT!$D$5:$J$110,7,FALSE)),2))/CARTE!$O$9,0)","v":177.2924730824831},{"$f":"IFERROR(SQRT(POWER((VLOOKUP(E23,DEBUT!$D$5:$J$110,6,FALSE)-VLOOKUP(F23,DEBUT!$D$5:$J$110,6,FALSE)),2)+POWER((VLOOKUP(E23,DEBUT!$D$5:$J$110,7,FALSE)-VLOOKUP(F23,DEBUT!$D$5:$J$110,7,FALSE)),2))/CARTE!$O$9,0)","v":292.41323207806477},{"$f":"IFERROR(SQRT(POWER((VLOOKUP(F23,DEBUT!$D$5:$J$110,6,FALSE)-VLOOKUP(G23,DEBUT!$D$5:$J$110,6,FALSE)),2)+POWER((VLOOKUP(F23,DEBUT!$D$5:$J$110,7,FALSE)-VLOOKUP(G23,DEBUT!$D$5:$J$110,7,FALSE)),2))/CARTE!$O$9,0)","v":185.45260026215442},{"$f":"IFERROR(SQRT(POWER((VLOOKUP(G23,DEBUT!$D$5:$J$110,6,FALSE)-VLOOKUP(H23,DEBUT!$D$5:$J$110,6,FALSE)),2)+POWER((VLOOKUP(G23,DEBUT!$D$5:$J$110,7,FALSE)-VLOOKUP(H23,DEBUT!$D$5:$J$110,7,FALSE)),2))/CARTE!$O$9,0)","v":388.88158128989608},{"$f":"IFERROR(SQRT(POWER((VLOOKUP(H23,DEBUT!$D$5:$J$110,6,FALSE)-VLOOKUP(I23,DEBUT!$D$5:$J$110,6,FALSE)),2)+POWER((VLOOKUP(H23,DEBUT!$D$5:$J$110,7,FALSE)-VLOOKUP(I23,DEBUT!$D$5:$J$110,7,FALSE)),2))/CARTE!$O$9,0)","v":1321.1931767408294},{"$f":"IFERROR(SQRT(POWER((VLOOKUP(I23,DEBUT!$D$5:$J$110,6,FALSE)-VLOOKUP(J23,DEBUT!$D$5:$J$110,6,FALSE)),2)+POWER((VLOOKUP(I23,DEBUT!$D$5:$J$110,7,FALSE)-VLOOKUP(J23,DEBUT!$D$5:$J$110,7,FALSE)),2))/CARTE!$O$9,0)","v":621.65617723594562},null,null,null,null,null,{"$f":"HLOOKUP(P19,$V$5:$AG$9,3,FALSE)","v":0},null,null,null,null,null,null,null,null,null,null,null,null,null,null,null,null,null,null,null,null,null,17,"SEBASTIEN"]
[null,{"$f":"HLOOKUP(B19,$V$5:$AG$9,4,FALSE)","v":0},null,"Balises prévues",{"$f":"IF(ISTEXT($D21),HLOOKUP($D21,DEBUT!$O$3:$XX$100,3,FALSE),\"\")","v":"A"},{"$f":"IF(ISTEXT($D21),HLOOKUP($D21,DEBUT!$O$3:$XX$100,4,FALSE),\"\")","v":"B"},{"$f":"IF(ISTEXT($D21),HLOOKUP($D21,DEBUT!$O$3:$XX$100,5,FALSE),\"\")","v":"C"},{"$f":"IF(ISTEXT($D21),HLOOKUP($D21,DEBUT!$O$3:$XX$100,6,FALSE),\"\")","v":"D"},{"$f":"IF(ISTEXT($D21),HLOOKUP($D21,DEBUT!$O$3:$XX$100,7,FALSE),\"\")","v":"E"},{"$f":"IF(ISTEXT($D21),HLOOKUP($D21,DEBUT!$O$3:$XX$100,8,FALSE),\"\")","v":"F"},"x","x","x",null,null,{"$f":"HLOOKUP(P19,$V$5:$AG$9,4,FALSE)","v":0},null,null,null,null,null,null,null,null,null,null,null,null,null,null,null,null,null,null,null,null,null,18,"PASCAL"]
[null,{"$f":"HLOOKUP(B19,$V$5:$AG$9,5,FALSE)","v":0},null,"Validé",{"$f":"IF($D23=DEBUT!$L$5,E24,\"\")","v":7},{"$f":"IF($D23=DEBUT!$L$5,F24,\"\")","v":10},{"$f":"IF($D23=DEBUT!$L$5,G24,\"\")","v":11},{"$f":"IF($D23=DEBUT!$L$5,H24,\"\")","v":1},{"$f":"IF($D23=DEBUT!$L$5,I24,\"\")","v":76},{"$f":"IF($D23=DEBUT!$L$5,J24,\"\")","v":46},null,null,null,null,null,{"$f":"HLOOKUP(P19,$V$5:$AG$9,5,FALSE)","v":0},null,null,null,null,null,null,null,null,null,null,null,null,null,null,null,null,null,null,null,null,null,19,"CAROLE"]
[null,null,null,"Balises CM",{"$f":"IFERROR(INDEX(baliseCM,MATCH(E22,lettre,0),MATCH($D20,parcours,0)),\"\")","v":7},{"$f":"IFERROR(INDEX(baliseCM,MATCH(F22,lettre,0),MATCH($D20,parcours,0)),\"\")","v":10},11,1,76,46,null,null,null,null,null,null,null,null,null,null,null,null,null,null,null,null,null,null,null,null,null,null,null,null,null,null,null,20,"ISABELLE"]
[null,null,null,"Vitesse",null,null,{"$f":"((E21+F21+G21)/ABS((HOUR(G20)*3600+MINUTE(G20)*60+SECOND(G20))))*3.6","v":{"$error":"#NUM!"}},null,null,{"$f":"((H21+I21+J21)/ABS((HOUR(J20)*3600+MINUTE(J20)*60+SECOND(J20))))*3.6","v":{"$error":"#NUM!"}},null,null,null,null,null,null,null,null,null,null,null,null,null,null,null,null,null,null,null,null,null,null,null,null,null,null,null,21,"DAVID"]
[null,"EQUIPE 4",null,"15:51:45","15:55:06",null,null,null,"11:48:15",null,null,null,null,null,null,"EQUIPE 4",null,null,null,null,null,null,null,null,null,null,null,null,null,null,null,null,null,null,null,null,null,22,"FRANCOIS"]
[null,{"$f":"HLOOKUP(B26,$V$5:$AG$9,2,FALSE)","v":0},null,{"$f":"CONCATENATE(D28,\"bis\")","v":"14ORANGEbis"},null,null,{"$f":"G26-D26","v":-0.66093750000000007},null,null,{"$f":"J26-D26","v":-0.66093750000000007},{"$f":"K26-J26","v":"00:00:00"},"00:00:00",null,null,null,{"$f":"HLOOKUP(P26,$V$5:$AG$9,2,FALSE)","v":0},null,null,null,null,null,null,null,null,null,null,null,null,null,null,null,null,null,null,null,null,null,23,"Mick"]
[null,{"$f":"HLOOKUP(B26,$V$5:$AG$9,3,FALSE)","v":0},null,{"$f":"$H$2","v":"14ORANGE"},{"$f":"IFERROR(SQRT(POWER((VLOOKUP($C$5,DEBUT!$D$5:$J$110,6,FALSE)-VLOOKUP(E30,DEBUT!$D$5:$J$110,6,FALSE)),2)+POWER((VLOOKUP($C$5,DEBUT!$D$5:$J$110,7,FALSE)-VLOOKUP(E30,DEBUT!$D$5:$J$110,7,FALSE)),2))/CARTE!$O$9,0)","v":177.2924730824831},{"$f":"IFERROR(SQRT(POWER((VLOOKUP(E30,DEBUT!$D$5:$J$110,6,FALSE)-VLOOKUP(F30,DEBUT!$D$5:$J$110,6,FALSE)),2)+POWER((VLOOKUP(E30,DEBUT!$D$5:$J$110,7,FALSE)-VLOOKUP(F30,DEBUT!$D$5:$J$110,7,FALSE)),2))/CARTE!$O$9,0)","v":292.41323207806477},{"$f":"IFERROR(SQRT(POWER((VLOOKUP(F30,DEBUT!$D$5:$J$110,6,FALSE)-VLOOKUP(G30,DEBUT!$D$5:$J$110,6,FALSE)),2)+POWER((VLOOKUP(F30,DEBUT!$D$5:$J$110,7,FALSE)-VLOOKUP(G30,DEBUT!$D$5:$J$110,7,FALSE)),2))/CARTE!$O$9,0)","v":185.45260026215442},{"$f":"IFERROR(SQRT(POWER((VLOOKUP(G30,DEBUT!$D$5:$J$110,6,FALSE)-VLOOKUP(H30,DEBUT!$D$5:$J$110,6,FALSE)),2)+POWER((VLOOKUP(G30,DEBUT!$D$5:$J$110,7,FALSE)-VLOOKUP(H30,DEBUT!$D$5:$J$110,7,FALSE)),2))/CARTE!$O$9,0)","v":388.88158128989608},{"$f":"IFERROR(SQRT(POWER((VLOOKUP(H30,DEBUT!$D$5:$J$110,6,FALSE)-VLOOKUP(I30,DEBUT!$D$5:$J$110,6,FALSE)),2)+POWER((VLOOKUP(H30,DEBUT!$D$5:$J$110,7,FALSE)-VLOOKUP(I30,DEBUT!$D$5:$J$110,7,FALSE)),2))/CARTE!$O$9,0)","v":1321.1931767408294},{"$f":"IFERROR(SQRT(POWER((VLOOKUP(I30,DEBUT!$D$5:$J$110,6,FALSE)-VLOOKUP(J30,DEBUT!$D$5:$J$110,6,FALSE)),2)+POWER((VLOOKUP(I30,DEBUT!$D$5:$J$110,7,FALSE)-VLOOKUP(J30,DEBUT!$D$5:$J$110,7,FALSE)),2))/CARTE!$O$9,0)","v":621.65617723594562},null,null,null,null,null,{"$f":"HLOOKUP(P26,$V$5:$AG$9,3,FALSE)","v":0},null,null,null,null,null,null,null,null,null,null,null,null,null,null,null,null,null,null,null,null,null,24,0]
[null,{"$f":"HLOOKUP(B26,$V$5:$AG$9,4,FALSE)","v":0},null,"Balises prévues",{"$f":"IF(ISTEXT($D28),HLOOKUP($D28,DEBUT!$O$3:$XX$100,3,FALSE),\"\")","v":"A"},{"$f":"IF(ISTEXT($D28),HLOOKUP($D28,DEBUT!$O$3:$XX$100,4,FALSE),\"\")","v":"B"},{"$f":"IF(ISTEXT($D28),HLOOKUP($D28,DEBUT!$O$3:$XX$100,5,FALSE),\"\")","v":"C"},{"$f":"IF(ISTEXT($D28),HLOOKUP($D28,DEBUT!$O$3:$XX$100,6,FALSE),\"\")","v":"D"},{"$f":"IF(ISTEXT($D28),HLOOKUP($D28,DEBUT!$O$3:$XX$100,7,FALSE),\"\")","v":"E"},{"$f":"IF(ISTEXT($D28),HLOOKUP($D28,DEBUT!$O$3:$XX$100,8,FALSE),\"\")","v":"F"},"x","x","x",null,null,{"$f":"HLOOKUP(P26,$V$5:$AG$9,4,FALSE)","v":0},null,null,null,null,null,null,null,null,null,null,null,null,null,null,null,null,null,null,null,null,null,25,0]
[null,{"$f":"HLOOKUP(B26,$V$5:$AG$9,5,FALSE)","v":0},null,"Validé",{"$f":"IF($D30=DEBUT!$L$5,E31,\"\")","v":7},{"$f":"IF($D30=DEBUT!$L$5,F31,\"\")","v":10},{"$f":"IF($D30=DEBUT!$L$5,G31,\"\")","v":11},{"$f":"IF($D30=DEBUT!$L$5,H31,\"\")","v":1},{"$f":"IF($D30=DEBUT!$L$5,I31,\"\")","v":76},{"$f":"IF($D30=DEBUT!$L$5,J31,\"\")","v":46},null,null,null,null,null,{"$f":"HLOOKUP(P26,$V$5:$AG$9,5,FALSE)","v":0},null,null,null,null,null,null,null,null,null,null,null,null,null,null,null,null,null,null,null,null,null,26,0]
[null,null,null,"Balises CM",{"$f":"IFERROR(INDEX(baliseCM,MATCH(E29,lettre,0),MATCH($D27,parcours,0)),\"\")","v":7},{"$f":"IFERROR(INDEX(baliseCM,MATCH(F29,lettre,0),MATCH($D27,parcours,0)),\"\")","v":10},11,1,76,46,null,null,null,null,null,null,null,null,null,null,null,null,null,null,null,null,null,null,null,null,null,null,null,null,null,null,null,27,0]
[null,null,null,"Vitesse",null,null,{"$f":"((E28+F28+G28)/ABS((HOUR(G27)*3600+MINUTE(G27)*60+SECOND(G27))))*3.6","v":{"$error":"#NUM!"}},null,null,{"$f":"((H28+I28+J28)/ABS((HOUR(J27)*3600+MINUTE(J27)*60+SECOND(J27))))*3.6","v":{"$error":"#NUM!"}},null,null,null,null,null,null,null,null,null,null,null,null,null,null,null,null,null,null,null,null,null,null,null,null,null,null,null,28,0]
[null,"EQUIPE 5",null,"16:14:03",null,null,null,null,null,null,null,null,null,null,null,"EQUIPE 5",null,null,null,null,null,null,null,null,null,null,null,null,null,null,null,null,null,null,null,null,null,29,0]
[null,{"$f":"HLOOKUP(B33,$V$5:$AG$9,2,FALSE)","v":0},null,{"$f":"CONCATENATE(D35,\"bis\")","v":"14ORANGEbis"},null,null,{"$f":"G33-D33","v":-0.67642361111111116},null,null,{"$f":"J33-D33","v":-0.67642361111111116},{"$f":"K33-J33","v":"00:00:00"},"00:00:00",null,null,null,{"$f":"HLOOKUP(P33,$V$5:$AG$9,2,FALSE)","v":0},null,null,null,null,null,null,null,null,null,null,null,null,null,null,null,null,null,null,null,null,null,30,0]
[null,{"$f":"HLOOKUP(B33,$V$5:$AG$9,3,FALSE)","v":0},null,{"$f":"$H$2","v":"14ORANGE"},{"$f":"IFERROR(SQRT(POWER((VLOOKUP($C$5,DEBUT!$D$5:$J$110,6,FALSE)-VLOOKUP(E37,DEBUT!$D$5:$J$110,6,FALSE)),2)+POWER((VLOOKUP($C$5,DEBUT!$D$5:$J$110,7,FALSE)-VLOOKUP(E37,DEBUT!$D$5:$J$110,7,FALSE)),2))/CARTE!$O$9,0)","v":177.2924730824831},{"$f":"IFERROR(SQRT(POWER((VLOOKUP(E37,DEBUT!$D$5:$J$110,6,FALSE)-VLOOKUP(F37,DEBUT!$D$5:$J$110,6,FALSE)),2)+POWER((VLOOKUP(E37,DEBUT!$D$5:$J$110,7,FALSE)-VLOOKUP(F37,DEBUT!$D$5:$J$110,7,FALSE)),2))/CARTE!$O$9,0)","v":292.41323207806477},{"$f":"IFERROR(SQRT(POWER((VLOOKUP(F37,DEBUT!$D$5:$J$110,6,FALSE)-VLOOKUP(G37,DEBUT!$D$5:$J$110,6,FALSE)),2)+POWER((VLOOKUP(F37,DEBUT!$D$5:$J$110,7,FALSE)-VLOOKUP(G37,DEBUT!$D$5:$J$110,7,FALSE)),2))/CARTE!$O$9,0)","v":185.45260026215442},{"$f":"IFERROR(SQRT(POWER((VLOOKUP(G37,DEBUT!$D$5:$J$110,6,FALSE)-VLOOKUP(H37,DEBUT!$D$5:$J$110,6,FALSE)),2)+POWER((VLOOKUP(G37,DEBUT!$D$5:$J$110,7,FALSE)-VLOOKUP(H37,DEBUT!$D$5:$J$110,7,FALSE)),2))/CARTE!$O$9,0)","v":388.88158128989608},{"$f":"IFERROR(SQRT(POWER((VLOOKUP(H37,DEBUT!$D$5:$J$110,6,FALSE)-VLOOKUP(I37,DEBUT!$D$5:$J$110,6,FALSE)),2)+POWER((VLOOKUP(H37,DEBUT!$D$5:$J$110,7,FALSE)-VLOOKUP(I37,DEBUT!$D$5:$J$110,7,FALSE)),2))/CARTE!$O$9,0)","v":1321.1931767408294},{"$f":"IFERROR(SQRT(POWER((VLOOKUP(I37,DEBUT!$D$5:$J$110,6,FALSE)-VLOOKUP(J37,DEBUT!$D$5:$J$110,6,FALSE)),2)+POWER((VLOOKUP(I37,DEBUT!$D$5:$J$110,7,FALSE)-VLOOKUP(J37,DEBUT!$D$5:$J$110,7,FALSE)),2))/CARTE!$O$9,0)","v":621.65617723594562},null,null,null,null,null,{"$f":"HLOOKUP(P33,$V$5:$AG$9,3,FALSE)","v":0},null,null,null,null,null,null,null,null,null,null,null,null,null,null,null,null,null,null,null,null,null,31,0]
[null,{"$f":"HLOOKUP(B33,$V$5:$AG$9,4,FALSE)","v":0},null,"Balises prévues",{"$f":"IF(ISTEXT($D35),HLOOKUP($D35,DEBUT!$O$3:$XX$100,3,FALSE),\"\")","v":"A"},{"$f":"IF(ISTEXT($D35),HLOOKUP($D35,DEBUT!$O$3:$XX$100,4,FALSE),\"\")","v":"B"},{"$f":"IF(ISTEXT($D35),HLOOKUP($D35,DEBUT!$O$3:$XX$100,5,FALSE),\"\")","v":"C"},{"$f":"IF(ISTEXT($D35),HLOOKUP($D35,DEBUT!$O$3:$XX$100,6,FALSE),\"\")","v":"D"},{"$f":"IF(ISTEXT($D35),HLOOKUP($D35,DEBUT!$O$3:$XX$100,7,FALSE),\"\")","v":"E"},{"$f":"IF(ISTEXT($D35),HLOOKUP($D35,DEBUT!$O$3:$XX$100,8,FALSE),\"\")","v":"F"},"x","x","x",null,null,{"$f":"HLOOKUP(P33,$V$5:$AG$9,4,FALSE)","v":0},null,null,null,null,null,null,null,null,null,null,null,null,null,null,null,null,null,null,null,null,null,32,0]
[null,{"$f":"HLOOKUP(B33,$V$5:$AG$9,5,FALSE)","v":0},null,"Validé",{"$f":"IF($D37=DEBUT!$L$5,E38,\"\")","v":7},{"$f":"IF($D37=DEBUT!$L$5,F38,\"\")","v":10},{"$f":"IF($D37=DEBUT!$L$5,G38,\"\")","v":11},{"$f":"IF($D37=DEBUT!$L$5,H38,\"\")","v":1},{"$f":"IF($D37=DEBUT!$L$5,I38,\"\")","v":76},{"$f":"IF($D37=DEBUT!$L$5,J38,\"\")","v":46},null,null,null,null,null,{"$f":"HLOOKUP(P33,$V$5:$AG$9,5,FALSE)","v":0},null,null,null,null,null,null,null,null,null,null,null,null,null,null,null,null,null,null,null,null,null,33,0]
[null,null,null,"Balises CM",{"$f":"IFERROR(INDEX(baliseCM,MATCH(E36,lettre,0),MATCH($D34,parcours,0)),\"\")","v":7},{"$f":"IFERROR(INDEX(baliseCM,MATCH(F36,lettre,0),MATCH($D34,parcours,0)),\"\")","v":10},11,1,76,46,null,null,null,null,null,null,null,null,null,null,null,null,null,null,null,null,null,null,null,null,null,null,null,null,null,null,null,34,0]
[null,null,null,"Vitesse",null,null,{"$f":"((E35+F35+G35)/ABS((HOUR(G34)*3600+MINUTE(G34)*60+SECOND(G34))))*3.6","v":{"$error":"#NUM!"}},null,null,{"$f":"((H35+I35+J35)/ABS((HOUR(J34)*3600+MINUTE(J34)*60+SECOND(J34))))*3.6","v":{"$error":"#NUM!"}},null,null,null,null,null,null,null,null,null,null,null,null,null,null,null,null,null,null,null,null,null,null,null,null,null,null,null,35,0]
[null,"EQUIPE 6",null,"15:51:45","15:55:06",null,null,null,null,null,null,null,null,null,null,"EQUIPE 6",null,null,null,null,null,null,null,null,null,null,null,null,null,null,null,null,null,null,null,null,null,36,0]
[null,{"$f":"HLOOKUP(B40,$V$5:$AG$9,2,FALSE)","v":0},null,{"$f":"CONCATENATE(D42,\"bis\")","v":"14ORANGEbis"},null,null,{"$f":"G40-D40","v":-0.66093750000000007},null,null,{"$f":"J40-D40","v":-0.66093750000000007},{"$f":"K40-J40","v":"00:00:00"},"00:00:00",null,null,null,{"$f":"HLOOKUP(P40,$V$5:$AG$9,2,FALSE)","v":0}]
[null,{"$f":"HLOOKUP(B40,$V$5:$AG$9,3,FALSE)","v":0},null,{"$f":"$H$2","v":"14ORANGE"},{"$f":"IFERROR(SQRT(POWER((VLOOKUP($C$5,DEBUT!$D$5:$J$110,6,FALSE)-VLOOKUP(E44,DEBUT!$D$5:$J$110,6,FALSE)),2)+POWER((VLOOKUP($C$5,DEBUT!$D$5:$J$110,7,FALSE)-VLOOKUP(E44,DEBUT!$D$5:$J$110,7,FALSE)),2))/CARTE!$O$9,0)","v":177.2924730824831},{"$f":"IFERROR(SQRT(POWER((VLOOKUP(E44,DEBUT!$D$5:$J$110,6,FALSE)-VLOOKUP(F44,DEBUT!$D$5:$J$110,6,FALSE)),2)+POWER((VLOOKUP(E44,DEBUT!$D$5:$J$110,7,FALSE)-VLOOKUP(F44,DEBUT!$D$5:$J$110,7,FALSE)),2))/CARTE!$O$9,0)","v":292.41323207806477},{"$f":"IFERROR(SQRT(POWER((VLOOKUP(F44,DEBUT!$D$5:$J$110,6,FALSE)-VLOOKUP(G44,DEBUT!$D$5:$J$110,6,FALSE)),2)+POWER((VLOOKUP(F44,DEBUT!$D$5:$J$110,7,FALSE)-VLOOKUP(G44,DEBUT!$D$5:$J$110,7,FALSE)),2))/CARTE!$O$9,0)","v":185.45260026215442},{"$f":"IFERROR(SQRT(POWER((VLOOKUP(G44,DEBUT!$D$5:$J$110,6,FALSE)-VLOOKUP(H44,DEBUT!$D$5:$J$110,6,FALSE)),2)+POWER((VLOOKUP(G44,DEBUT!$D$5:$J$110,7,FALSE)-VLOOKUP(H44,DEBUT!$D$5:$J$110,7,FALSE)),2))/CARTE!$O$9,0)","v":388.88158128989608},{"$f":"IFERROR(SQRT(POWER((VLOOKUP(H44,DEBUT!$D$5:$J$110,6,FALSE)-VLOOKUP(I44,DEBUT!$D$5:$J$110,6,FALSE)),2)+POWER((VLOOKUP(H44,DEBUT!$D$5:$J$110,7,FALSE)-VLOOKUP(I44,DEBUT!$D$5:$J$110,7,FALSE)),2))/CARTE!$O$9,0)","v":1321.1931767408294},{"$f":"IFERROR(SQRT(POWER((VLOOKUP(I44,DEBUT!$D$5:$J$110,6,FALSE)-VLOOKUP(J44,DEBUT!$D$5:$J$110,6,FALSE)),2)+POWER((VLOOKUP(I44,DEBUT!$D$5:$J$110,7,FALSE)-VLOOKUP(J44,DEBUT!$D$5:$J$110,7,FALSE)),2))/CARTE!$O$9,0)","v":621.65617723594562},null,null,null,null,null,{"$f":"HLOOKUP(P40,$V$5:$AG$9,3,FALSE)","v":0}]
[null,{"$f":"HLOOKUP(B40,$V$5:$AG$9,4,FALSE)","v":0},null,"Balises prévues",{"$f":"IF(ISTEXT($D42),HLOOKUP($D42,DEBUT!$O$3:$XX$100,3,FALSE),\"\")","v":"A"},{"$f":"IF(ISTEXT($D42),HLOOKUP($D42,DEBUT!$O$3:$XX$100,4,FALSE),\"\")","v":"B"},{"$f":"IF(ISTEXT($D42),HLOOKUP($D42,DEBUT!$O$3:$XX$100,5,FALSE),\"\")","v":"C"},{"$f":"IF(ISTEXT($D42),HLOOKUP($D42,DEBUT!$O$3:$XX$100,6,FALSE),\"\")","v":"D"},{"$f":"IF(ISTEXT($D42),HLOOKUP($D42,DEBUT!$O$3:$XX$100,7,FALSE),\"\")","v":"E"},{"$f":"IF(ISTEXT($D42),HLOOKUP($D42,DEBUT!$O$3:$XX$100,8,FALSE),\"\")","v":"F"},"x","x","x",null,null,{"$f":"HLOOKUP(P40,$V$5:$AG$9,4,FALSE)","v":0}]
[null,{"$f":"HLOOKUP(B40,$V$5:$AG$9,5,FALSE)","v":0},null,"Validé",{"$f":"IF($D44=DEBUT!$L$5,E45,\"\")","v":7},{"$f":"IF($D44=DEBUT!$L$5,F45,\"\")","v":10},{"$f":"IF($D44=DEBUT!$L$5,G45,\"\")","v":11},{"$f":"IF($D44=DEBUT!$L$5,H45,\"\")","v":1},{"$f":"IF($D44=DEBUT!$L$5,I45,\"\")","v":76},{"$f":"IF($D44=DEBUT!$L$5,J45,\"\")","v":46},null,null,null,null,null,{"$f":"HLOOKUP(P40,$V$5:$AG$9,5,FALSE)","v":0}]
[null,null,null,"Balises CM",{"$f":"IFERROR(INDEX(baliseCM,MATCH(E43,lettre,0),MATCH($D41,parcours,0)),\"\")","v":7},{"$f":"IFERROR(INDEX(baliseCM,MATCH(F43,lettre,0),MATCH($D41,parcours,0)),\"\")","v":10},11,1,76,46]
[null,null,null,"Vitesse",null,null,{"$f":"((E42+F42+G42)/ABS((HOUR(G41)*3600+MINUTE(G41)*60+SECOND(G41))))*3.6","v":{"$error":"#NUM!"}},null,null,{"$f":"((H42+I42+J42)/ABS((HOUR(J41)*3600+MINUTE(J41)*60+SECOND(J41))))*3.6","v":{"$error":"#NUM!"}}]
[null,"EQUIPE 7",null,"15:51:45","15:55:06",null,null,null,null,null,null,null,null,null,null,"EQUIPE 7"]
[null,{"$f":"HLOOKUP(B47,$V$5:$AG$9,2,FALSE)","v":0},null,{"$f":"CONCATENATE(D49,\"bis\")","v":"14ORANGEbis"},null,null,{"$f":"G47-D47","v":-0.66093750000000007},null,null,{"$f":"J47-D47","v":-0.66093750000000007},{"$f":"K47-J47","v":"00:00:00"},"00:00:00",null,null,null,{"$f":"HLOOKUP(P47,$V$5:$AG$9,2,FALSE)","v":0}]
[null,{"$f":"HLOOKUP(B47,$V$5:$AG$9,3,FALSE)","v":0},null,{"$f":"$H$2","v":"14ORANGE"},{"$f":"IFERROR(SQRT(POWER((VLOOKUP($C$5,DEBUT!$D$5:$J$110,6,FALSE)-VLOOKUP(E51,DEBUT!$D$5:$J$110,6,FALSE)),2)+POWER((VLOOKUP($C$5,DEBUT!$D$5:$J$110,7,FALSE)-VLOOKUP(E51,DEBUT!$D$5:$J$110,7,FALSE)),2))/CARTE!$O$9,0)","v":177.2924730824831},{"$f":"IFERROR(SQRT(POWER((VLOOKUP(E51,DEBUT!$D$5:$J$110,6,FALSE)-VLOOKUP(F51,DEBUT!$D$5:$J$110,6,FALSE)),2)+POWER((VLOOKUP(E51,DEBUT!$D$5:$J$110,7,FALSE)-VLOOKUP(F51,DEBUT!$D$5:$J$110,7,FALSE)),2))/CARTE!$O$9,0)","v":292.41323207806477},{"$f":"IFERROR(SQRT(POWER((VLOOKUP(F51,DEBUT!$D$5:$J$110,6,FALSE)-VLOOKUP(G51,DEBUT!$D$5:$J$110,6,FALSE)),2)+POWER((VLOOKUP(F51,DEBUT!$D$5:$J$110,7,FALSE)-VLOOKUP(G51,DEBUT!$D$5:$J$110,7,FALSE)),2))/CARTE!$O$9,0)","v":185.45260026215442},{"$f":"IFERROR(SQRT(POWER((VLOOKUP(G51,DEBUT!$D$5:$J$110,6,FALSE)-VLOOKUP(H51,DEBUT!$D$5:$J$110,6,FALSE)),2)+POWER((VLOOKUP(G51,DEBUT!$D$5:$J$110,7,FALSE)-VLOOKUP(H51,DEBUT!$D$5:$J$110,7,FALSE)),2))/CARTE!$O$9,0)","v":388.88158128989608},{"$f":"IFERROR(SQRT(POWER((VLOOKUP(H51,DEBUT!$D$5:$J$110,6,FALSE)-VLOOKUP(I51,DEBUT!$D$5:$J$110,6,FALSE)),2)+POWER((VLOOKUP(H51,DEBUT!$D$5:$J$110,7,FALSE)-VLOOKUP(I51,DEBUT!$D$5:$J$110,7,FALSE)),2))/CARTE!$O$9,0)","v":1321.1931767408294},{"$f":"IFERROR(SQRT(POWER((VLOOKUP(I51,DEBUT!$D$5:$J$110,6,FALSE)-VLOOKUP(J51,DEBUT!$D$5:$J$110,6,FALSE)),2)+POWER((VLOOKUP(I51,DEBUT!$D$5:$J$110,7,FALSE)-VLOOKUP(J51,DEBUT!$D$5:$J$110,7,FALSE)),2))/CARTE!$O$9,0)","v":621.65617723594562},null,null,null,null,null,{"$f":"HLOOKUP(P47,$V$5:$AG$9,3,FALSE)","v":0}]
[null,{"$f":"HLOOKUP(B47,$V$5:$AG$9,4,FALSE)","v":0},null,"Balises prévues",{"$f":"IF(ISTEXT($D49),HLOOKUP($D49,DEBUT!$O$3:$XX$100,3,FALSE),\"\")","v":"A"},{"$f":"IF(ISTEXT($D49),HLOOKUP($D49,DEBUT!$O$3:$XX$100,4,FALSE),\"\")","v":"B"},{"$f":"IF(ISTEXT($D49),HLOOKUP($D49,DEBUT!$O$3:$XX$100,5,FALSE),\"\")","v":"C"},{"$f":"IF(ISTEXT($D49),HLOOKUP($D49,DEBUT!$O$3:$XX$100,6,FALSE),\"\")","v":"D"},{"$f":"IF(ISTEXT($D49),HLOOKUP($D49,DEBUT!$O$3:$XX$100,7,FALSE),\"\")","v":"E"},{"$f":"IF(ISTEXT($D49),HLOOKUP($D49,DEBUT!$O$3:$XX$100,8,FALSE),\"\")","v":"F"},"x","x","x",null,null,{"$f":"HLOOKUP(P47,$V$5:$AG$9,4,FALSE)","v":0}]
[null,{"$f":"HLOOKUP(B47,$V$5:$AG$9,5,FALSE)","v":0},null,"Validé",{"$f":"IF($D51=DEBUT!$L$5,E52,\"\")","v":7},{"$f":"IF($D51=DEBUT!$L$5,F52,\"\")","v":10},{"$f":"IF($D51=DEBUT!$L$5,G52,\"\")","v":11},{"$f":"IF($D51=DEBUT!$L$5,H52,\"\")","v":1},{"$f":"IF($D51=DEBUT!$L$5,I52,\"\")","v":76},{"$f":"IF($D51=DEBUT!$L$5,J52,\"\")","v":46},null,null,null,null,null,{"$f":"HLOOKUP(P47,$V$5:$AG$9,5,FALSE)","v":0}]
[null,null,null,"Balises CM",{"$f":"IFERROR(INDEX(baliseCM,MATCH(E50,lettre,0),MATCH($D48,parcours,0)),\"\")","v":7},{"$f":"IFERROR(INDEX(baliseCM,MATCH(F50,lettre,0),MATCH($D48,parcours,0)),\"\")","v":10},11,1,76,46]
[null,null,null,"Vitesse",null,null,{"$f":"((E49+F49+G49)/ABS((HOUR(G48)*3600+MINUTE(G48)*60+SECOND(G48))))*3.6","v":{"$error":"#NUM!"}},null,null,{"$f":"((H49+I49+J49)/ABS((HOUR(J48)*3600+MINUTE(J48)*60+SECOND(J48))))*3.6","v":{"$error":"#NUM!"}}]
[null,"EQUIPE 8",null,"15:51:45","15:55:06",null,null,null,null,null,null,null,null,null,null,"EQUIPE 8"]
[null,{"$f":"HLOOKUP(B54,$V$5:$AG$9,2,FALSE)","v":0},null,{"$f":"CONCATENATE(D56,\"bis\")","v":"14ORANGEbis"},null,null,{"$f":"G54-D54","v":-0.66093750000000007},null,null,{"$f":"J54-D54","v":-0.66093750000000007},{"$f":"K54-J54","v":"00:00:00"},"00:00:00",null,null,null,{"$f":"HLOOKUP(P54,$V$5:$AG$9,2,FALSE)","v":0}]
[null,{"$f":"HLOOKUP(B54,$V$5:$AG$9,3,FALSE)","v":0},null,{"$f":"$H$2","v":"14ORANGE"},{"$f":"IFERROR(SQRT(POWER((VLOOKUP($C$5,DEBUT!$D$5:$J$110,6,FALSE)-VLOOKUP(E58,DEBUT!$D$5:$J$110,6,FALSE)),2)+POWER((VLOOKUP($C$5,DEBUT!$D$5:$J$110,7,FALSE)-VLOOKUP(E58,DEBUT!$D$5:$J$110,7,FALSE)),2))/CARTE!$O$9,0)","v":177.2924730824831},{"$f":"IFERROR(SQRT(POWER((VLOOKUP(E58,DEBUT!$D$5:$J$110,6,FALSE)-VLOOKUP(F58,DEBUT!$D$5:$J$110,6,FALSE)),2)+POWER((VLOOKUP(E58,DEBUT!$D$5:$J$110,7,FALSE)-VLOOKUP(F58,DEBUT!$D$5:$J$110,7,FALSE)),2))/CARTE!$O$9,0)","v":292.41323207806477},{"$f":"IFERROR(SQRT(POWER((VLOOKUP(F58,DEBUT!$D$5:$J$110,6,FALSE)-VLOOKUP(G58,DEBUT!$D$5:$J$110,6,FALSE)),2)+POWER((VLOOKUP(F58,DEBUT!$D$5:$J$110,7,FALSE)-VLOOKUP(G58,DEBUT!$D$5:$J$110,7,FALSE)),2))/CARTE!$O$9,0)","v":185.45260026215442},{"$f":"IFERROR(SQRT(POWER((VLOOKUP(G58,DEBUT!$D$5:$J$110,6,FALSE)-VLOOKUP(H58,DEBUT!$D$5:$J$110,6,FALSE)),2)+POWER((VLOOKUP(G58,DEBUT!$D$5:$J$110,7,FALSE)-VLOOKUP(H58,DEBUT!$D$5:$J$110,7,FALSE)),2))/CARTE!$O$9,0)","v":388.88158128989608},{"$f":"IFERROR(SQRT(POWER((VLOOKUP(H58,DEBUT!$D$5:$J$110,6,FALSE)-VLOOKUP(I58,DEBUT!$D$5:$J$110,6,FALSE)),2)+POWER((VLOOKUP(H58,DEBUT!$D$5:$J$110,7,FALSE)-VLOOKUP(I58,DEBUT!$D$5:$J$110,7,FALSE)),2))/CARTE!$O$9,0)","v":1321.1931767408294},{"$f":"IFERROR(SQRT(POWER((VLOOKUP(I58,DEBUT!$D$5:$J$110,6,FALSE)-VLOOKUP(J58,DEBUT!$D$5:$J$110,6,FALSE)),2)+POWER((VLOOKUP(I58,DEBUT!$D$5:$J$110,7,FALSE)-VLOOKUP(J58,DEBUT!$D$5:$J$110,7,FALSE)),2))/CARTE!$O$9,0)","v":621.65617723594562},null,null,null,null,null,{"$f":"HLOOKUP(P54,$V$5:$AG$9,3,FALSE)","v":0}]
[null,{"$f":"HLOOKUP(B54,$V$5:$AG$9,4,FALSE)","v":0},null,"Balises prévues",{"$f":"IF(ISTEXT($D56),HLOOKUP($D56,DEBUT!$O$3:$XX$100,3,FALSE),\"\")","v":"A"},{"$f":"IF(ISTEXT($D56),HLOOKUP($D56,DEBUT!$O$3:$XX$100,4,FALSE),\"\")","v":"B"},{"$f":"IF(ISTEXT($D56),HLOOKUP($D56,DEBUT!$O$3:$XX$100,5,FALSE),\"\")","v":"C"},{"$f":"IF(ISTEXT($D56),HLOOKUP($D56,DEBUT!$O$3:$XX$100,6,FALSE),\"\")","v":"D"},{"$f":"IF(ISTEXT($D56),HLOOKUP($D56,DEBUT!$O$3:$XX$100,7,FALSE),\"\")","v":"E"},{"$f":"IF(ISTEXT($D56),HLOOKUP($D56,DEBUT!$O$3:$XX$100,8,FALSE),\"\")","v":"F"},"x","x","x",null,null,{"$f":"HLOOKUP(P54,$V$5:$AG$9,4,FALSE)","v":0}]
[null,{"$f":"HLOOKUP(B54,$V$5:$AG$9,5,FALSE)","v":0},null,"Validé",{"$f":"IF($D58=DEBUT!$L$5,E59,\"\")","v":7},{"$f":"IF($D58=DEBUT!$L$5,F59,\"\")","v":10},{"$f":"IF($D58=DEBUT!$L$5,G59,\"\")","v":11},{"$f":"IF($D58=DEBUT!$L$5,H59,\"\")","v":1},{"$f":"IF($D58=DEBUT!$L$5,I59,\"\")","v":76},{"$f":"IF($D58=DEBUT!$L$5,J59,\"\")","v":46},null,null,null,null,null,{"$f":"HLOOKUP(P54,$V$5:$AG$9,5,FALSE)","v":0}]
[null,null,null,"Balises CM",{"$f":"IFERROR(INDEX(baliseCM,MATCH(E57,lettre,0),MATCH($D55,parcours,0)),\"\")","v":7},{"$f":"IFERROR(INDEX(baliseCM,MATCH(F57,lettre,0),MATCH($D55,parcours,0)),\"\")","v":10},11,1,76,46]
[null,null,null,"Vitesse",null,null,{"$f":"((E56+F56+G56)/ABS((HOUR(G55)*3600+MINUTE(G55)*60+SECOND(G55))))*3.6","v":{"$error":"#NUM!"}},null,null,{"$f":"((H56+I56+J56)/ABS((HOUR(J55)*3600+MINUTE(J55)*60+SECOND(J55))))*3.6","v":{"$error":"#NUM!"}}]
[null,"EQUIPE 9",null,"15:51:45","15:55:06",null,null,null,null,null,null,null,null,null,null,"EQUIPE 9"]
[null,{"$f":"HLOOKUP(B61,$V$5:$AG$9,2,FALSE)","v":0},null,{"$f":"CONCATENATE(D63,\"bis\")","v":"14ORANGEbis"},null,null,{"$f":"G61-D61","v":-0.66093750000000007},null,null,{"$f":"J61-D61","v":-0.66093750000000007},{"$f":"K61-J61","v":"00:00:00"},"00:00:00",null,null,null,{"$f":"HLOOKUP(P61,$V$5:$AG$9,2,FALSE)","v":0}]
[null,{"$f":"HLOOKUP(B61,$V$5:$AG$9,3,FALSE)","v":0},null,{"$f":"$H$2","v":"14ORANGE"},{"$f":"IFERROR(SQRT(POWER((VLOOKUP($C$5,DEBUT!$D$5:$J$110,6,FALSE)-VLOOKUP(E65,DEBUT!$D$5:$J$110,6,FALSE)),2)+POWER((VLOOKUP($C$5,DEBUT!$D$5:$J$110,7,FALSE)-VLOOKUP(E65,DEBUT!$D$5:$J$110,7,FALSE)),2))/CARTE!$O$9,0)","v":177.2924730824831},{"$f":"IFERROR(SQRT(POWER((VLOOKUP(E65,DEBUT!$D$5:$J$110,6,FALSE)-VLOOKUP(F65,DEBUT!$D$5:$J$110,6,FALSE)),2)+POWER((VLOOKUP(E65,DEBUT!$D$5:$J$110,7,FALSE)-VLOOKUP(F65,DEBUT!$D$5:$J$110,7,FALSE)),2))/CARTE!$O$9,0)","v":292.41323207806477},{"$f":"IFERROR(SQRT(POWER((VLOOKUP(F65,DEBUT!$D$5:$J$110,6,FALSE)-VLOOKUP(G65,DEBUT!$D$5:$J$110,6,FALSE)),2)+POWER((VLOOKUP(F65,DEBUT!$D$5:$J$110,7,FALSE)-VLOOKUP(G65,DEBUT!$D$5:$J$110,7,FALSE)),2))/CARTE!$O$9,0)","v":185.45260026215442},{"$f":"IFERROR(SQRT(POWER((VLOOKUP(G65,DEBUT!$D$5:$J$110,6,FALSE)-VLOOKUP(H65,DEBUT!$D$5:$J$110,6,FALSE)),2)+POWER((VLOOKUP(G65,DEBUT!$D$5:$J$110,7,FALSE)-VLOOKUP(H65,DEBUT!$D$5:$J$110,7,FALSE)),2))/CARTE!$O$9,0)","v":388.88158128989608},{"$f":"IFERROR(SQRT(POWER((VLOOKUP(H65,DEBUT!$D$5:$J$110,6,FALSE)-VLOOKUP(I65,DEBUT!$D$5:$J$110,6,FALSE)),2)+POWER((VLOOKUP(H65,DEBUT!$D$5:$J$110,7,FALSE)-VLOOKUP(I65,DEBUT!$D$5:$J$110,7,FALSE)),2))/CARTE!$O$9,0)","v":1321.1931767408294},{"$f":"IFERROR(SQRT(POWER((VLOOKUP(I65,DEBUT!$D$5:$J$110,6,FALSE)-VLOOKUP(J65,DEBUT!$D$5:$J$110,6,FALSE)),2)+POWER((VLOOKUP(I65,DEBUT!$D$5:$J$110,7,FALSE)-VLOOKUP(J65,DEBUT!$D$5:$J$110,7,FALSE)),2))/CARTE!$O$9,0)","v":621.65617723594562},null,null,null,null,null,{"$f":"HLOOKUP(P61,$V$5:$AG$9,3,FALSE)","v":0}]
[null,{"$f":"HLOOKUP(B61,$V$5:$AG$9,4,FALSE)","v":0},null,"Balises prévues",{"$f":"IF(ISTEXT($D63),HLOOKUP($D63,DEBUT!$O$3:$XX$100,3,FALSE),\"\")","v":"A"},{"$f":"IF(ISTEXT($D63),HLOOKUP($D63,DEBUT!$O$3:$XX$100,4,FALSE),\"\")","v":"B"},{"$f":"IF(ISTEXT($D63),HLOOKUP($D63,DEBUT!$O$3:$XX$100,5,FALSE),\"\")","v":"C"},{"$f":"IF(ISTEXT($D63),HLOOKUP($D63,DEBUT!$O$3:$XX$100,6,FALSE),\"\")","v":"D"},{"$f":"IF(ISTEXT($D63),HLOOKUP($D63,DEBUT!$O$3:$XX$100,7,FALSE),\"\")","v":"E"},{"$f":"IF(ISTEXT($D63),HLOOKUP($D63,DEBUT!$O$3:$XX$100,8,FALSE),\"\")","v":"F"},"x","x","x",null,null,{"$f":"HLOOKUP(P61,$V$5:$AG$9,4,FALSE)","v":0}]
[null,{"$f":"HLOOKUP(B61,$V$5:$AG$9,5,FALSE)","v":0},null,"Validé",{"$f":"IF($D65=DEBUT!$L$5,E66,\"\")","v":7},{"$f":"IF($D65=DEBUT!$L$5,F66,\"\")","v":10},{"$f":"IF($D65=DEBUT!$L$5,G66,\"\")","v":11},{"$f":"IF($D65=DEBUT!$L$5,H66,\"\")","v":1},{"$f":"IF($D65=DEBUT!$L$5,I66,\"\")","v":76},{"$f":"IF($D65=DEBUT!$L$5,J66,\"\")","v":46},null,null,null,null,null,{"$f":"HLOOKUP(P61,$V$5:$AG$9,5,FALSE)","v":0}]
[null,null,null,"Balises CM",{"$f":"IFERROR(INDEX(baliseCM,MATCH(E64,lettre,0),MATCH($D62,parcours,0)),\"\")","v":7},{"$f":"IFERROR(INDEX(baliseCM,MATCH(F64,lettre,0),MATCH($D62,parcours,0)),\"\")","v":10},11,1,76,46]
[null,null,null,"Vitesse",null,null,{"$f":"((E63+F63+G63)/ABS((HOUR(G62)*3600+MINUTE(G62)*60+SECOND(G62))))*3.6","v":{"$error":"#NUM!"}},null,null,{"$f":"((H63+I63+J63)/ABS((HOUR(J62)*3600+MINUTE(J62)*60+SECOND(J62))))*3.6","v":{"$error":"#NUM!"}}]
[null,"EQUIPE 10",null,"15:51:45","15:55:06",null,null,null,null,null,null,null,null,null,null,"EQUIPE 10"]
[null,{"$f":"HLOOKUP(B68,$V$5:$AG$9,2,FALSE)","v":0},null,{"$f":"CONCATENATE(D70,\"bis\")","v":"14ORANGEbis"},null,null,{"$f":"G68-D68","v":-0.66093750000000007},null,null,{"$f":"J68-D68","v":-0.66093750000000007},{"$f":"K68-J68","v":"00:00:00"},"00:00:00",null,null,null,{"$f":"HLOOKUP(P68,$V$5:$AG$9,2,FALSE)","v":0}]
[null,{"$f":"HLOOKUP(B68,$V$5:$AG$9,3,FALSE)","v":0},null,{"$f":"$H$2","v":"14ORANGE"},{"$f":"IFERROR(SQRT(POWER((VLOOKUP($C$5,DEBUT!$D$5:$J$110,6,FALSE)-VLOOKUP(E72,DEBUT!$D$5:$J$110,6,FALSE)),2)+POWER((VLOOKUP($C$5,DEBUT!$D$5:$J$110,7,FALSE)-VLOOKUP(E72,DEBUT!$D$5:$J$110,7,FALSE)),2))/CARTE!$O$9,0)","v":177.2924730824831},{"$f":"IFERROR(SQRT(POWER((VLOOKUP(E72,DEBUT!$D$5:$J$110,6,FALSE)-VLOOKUP(F72,DEBUT!$D$5:$J$110,6,FALSE)),2)+POWER((VLOOKUP(E72,DEBUT!$D$5:$J$110,7,FALSE)-VLOOKUP(F72,DEBUT!$D$5:$J$110,7,FALSE)),2))/CARTE!$O$9,0)","v":292.41323207806477},{"$f":"IFERROR(SQRT(POWER((VLOOKUP(F72,DEBUT!$D$5:$J$110,6,FALSE)-VLOOKUP(G72,DEBUT!$D$5:$J$110,6,FALSE)),2)+POWER((VLOOKUP(F72,DEBUT!$D$5:$J$110,7,FALSE)-VLOOKUP(G72,DEBUT!$D$5:$J$110,7,FALSE)),2))/CARTE!$O$9,0)","v":185.45260026215442},{"$f":"IFERROR(SQRT(POWER((VLOOKUP(G72,DEBUT!$D$5:$J$110,6,FALSE)-VLOOKUP(H72,DEBUT!$D$5:$J$110,6,FALSE)),2)+POWER((VLOOKUP(G72,DEBUT!$D$5:$J$110,7,FALSE)-VLOOKUP(H72,DEBUT!$D$5:$J$110,7,FALSE)),2))/CARTE!$O$9,0)","v":388.88158128989608},{"$f":"IFERROR(SQRT(POWER((VLOOKUP(H72,DEBUT!$D$5:$J$110,6,FALSE)-VLOOKUP(I72,DEBUT!$D$5:$J$110,6,FALSE)),2)+POWER((VLOOKUP(H72,DEBUT!$D$5:$J$110,7,FALSE)-VLOOKUP(I72,DEBUT!$D$5:$J$110,7,FALSE)),2))/CARTE!$O$9,0)","v":1321.1931767408294},{"$f":"IFERROR(SQRT(POWER((VLOOKUP(I72,DEBUT!$D$5:$J$110,6,FALSE)-VLOOKUP(J72,DEBUT!$D$5:$J$110,6,FALSE)),2)+POWER((VLOOKUP(I72,DEBUT!$D$5:$J$110,7,FALSE)-VLOOKUP(J72,DEBUT!$D$5:$J$110,7,FALSE)),2))/CARTE!$O$9,0)","v":621.65617723594562},null,null,null,null,null,{"$f":"HLOOKUP(P68,$V$5:$AG$9,3,FALSE)","v":0}]
[null,{"$f":"HLOOKUP(B68,$V$5:$AG$9,4,FALSE)","v":0},null,"Balises prévues",{"$f":"IF(ISTEXT($D70),HLOOKUP($D70,DEBUT!$O$3:$XX$100,3,FALSE),\"\")","v":"A"},{"$f":"IF(ISTEXT($D70),HLOOKUP($D70,DEBUT!$O$3:$XX$100,4,FALSE),\"\")","v":"B"},{"$f":"IF(ISTEXT($D70),HLOOKUP($D70,DEBUT!$O$3:$XX$100,5,FALSE),\"\")","v":"C"},{"$f":"IF(ISTEXT($D70),HLOOKUP($D70,DEBUT!$O$3:$XX$100,6,FALSE),\"\")","v":"D"},{"$f":"IF(ISTEXT($D70),HLOOKUP($D70,DEBUT!$O$3:$XX$100,7,FALSE),\"\")","v":"E"},{"$f":"IF(ISTEXT($D70),HLOOKUP($D70,DEBUT!$O$3:$XX$100,8,FALSE),\"\")","v":"F"},"x","x","x",null,null,{"$f":"HLOOKUP(P68,$V$5:$AG$9,4,FALSE)","v":0}]
[null,{"$f":"HLOOKUP(B68,$V$5:$AG$9,5,FALSE)","v":0},null,"Validé",{"$f":"IF($D72=DEBUT!$L$5,E73,\"\")","v":7},{"$f":"IF($D72=DEBUT!$L$5,F73,\"\")","v":10},{"$f":"IF($D72=DEBUT!$L$5,G73,\"\")","v":11},{"$f":"IF($D72=DEBUT!$L$5,H73,\"\")","v":1},{"$f":"IF($D72=DEBUT!$L$5,I73,\"\")","v":76},{"$f":"IF($D72=DEBUT!$L$5,J73,\"\")","v":46},null,null,null,null,null,{"$f":"HLOOKUP(P68,$V$5:$AG$9,5,FALSE)","v":0}]
[null,null,null,"Balises CM",{"$f":"IFERROR(INDEX(baliseCM,MATCH(E71,lettre,0),MATCH($D69,parcours,0)),\"\")","v":7},{"$f":"IFERROR(INDEX(baliseCM,MATCH(F71,lettre,0),MATCH($D69,parcours,0)),\"\")","v":10},11,1,76,46]
[null,null,null,"Vitesse",null,null,{"$f":"((E70+F70+G70)/ABS((HOUR(G69)*3600+MINUTE(G69)*60+SECOND(G69))))*3.6","v":{"$error":"#NUM!"}},null,null,{"$f":"((H70+I70+J70)/ABS((HOUR(J69)*3600+MINUTE(J69)*60+SECOND(J69))))*3.6","v":{"$error":"#NUM!"}}]
[null,"EQUIPE 11",null,"07:28:54","15:55:06",null,"07:28:56",null,null,null,null,null,null,null,null,"EQUIPE 11"]
[null,{"$f":"HLOOKUP(B75,$V$5:$AG$9,2,FALSE)","v":0},null,{"$f":"CONCATENATE(D77,\"bis\")","v":"14ORANGEbis"},null,null,{"$f":"G75-D75","v":"00:00:02"},null,null,{"$f":"J75-D75","v":-0.3117361111111111},{"$f":"K75-J75","v":"00:00:00"},"00:00:00",null,null,null,{"$f":"HLOOKUP(P75,$V$5:$AG$9,2,FALSE)","v":0}]
[null,{"$f":"HLOOKUP(B75,$V$5:$AG$9,3,FALSE)","v":0},null,{"$f":"$H$2","v":"14ORANGE"},{"$f":"IFERROR(SQRT(POWER((VLOOKUP($C$5,DEBUT!$D$5:$J$110,6,FALSE)-VLOOKUP(E79,DEBUT!$D$5:$J$110,6,FALSE)),2)+POWER((VLOOKUP($C$5,DEBUT!$D$5:$J$110,7,FALSE)-VLOOKUP(E79,DEBUT!$D$5:$J$110,7,FALSE)),2))/CARTE!$O$9,0)","v":177.2924730824831},{"$f":"IFERROR(SQRT(POWER((VLOOKUP(E79,DEBUT!$D$5:$J$110,6,FALSE)-VLOOKUP(F79,DEBUT!$D$5:$J$110,6,FALSE)),2)+POWER((VLOOKUP(E79,DEBUT!$D$5:$J$110,7,FALSE)-VLOOKUP(F79,DEBUT!$D$5:$J$110,7,FALSE)),2))/CARTE!$O$9,0)","v":292.41323207806477},{"$f":"IFERROR(SQRT(POWER((VLOOKUP(F79,DEBUT!$D$5:$J$110,6,FALSE)-VLOOKUP(G79,DEBUT!$D$5:$J$110,6,FALSE)),2)+POWER((VLOOKUP(F79,DEBUT!$D$5:$J$110,7,FALSE)-VLOOKUP(G79,DEBUT!$D$5:$J$110,7,FALSE)),2))/CARTE!$O$9,0)","v":185.45260026215442},{"$f":"IFERROR(SQRT(POWER((VLOOKUP(G79,DEBUT!$D$5:$J$110,6,FALSE)-VLOOKUP(H79,DEBUT!$D$5:$J$110,6,FALSE)),2)+POWER((VLOOKUP(G79,DEBUT!$D$5:$J$110,7,FALSE)-VLOOKUP(H79,DEBUT!$D$5:$J$110,7,FALSE)),2))/CARTE!$O$9,0)","v":388.88158128989608},{"$f":"IFERROR(SQRT(POWER((VLOOKUP(H79,DEBUT!$D$5:$J$110,6,FALSE)-VLOOKUP(I79,DEBUT!$D$5:$J$110,6,FALSE)),2)+POWER((VLOOKUP(H79,DEBUT!$D$5:$J$110,7,FALSE)-VLOOKUP(I79,DEBUT!$D$5:$J$110,7,FALSE)),2))/CARTE!$O$9,0)","v":1321.1931767408294},{"$f":"IFERROR(SQRT(POWER((VLOOKUP(I79,DEBUT!$D$5:$J$110,6,FALSE)-VLOOKUP(J79,DEBUT!$D$5:$J$110,6,FALSE)),2)+POWER((VLOOKUP(I79,DEBUT!$D$5:$J$110,7,FALSE)-VLOOKUP(J79,DEBUT!$D$5:$J$110,7,FALSE)),2))/CARTE!$O$9,0)","v":621.65617723594562},null,null,null,null,null,{"$f":"HLOOKUP(P75,$V$5:$AG$9,3,FALSE)","v":0}]
[null,{"$f":"HLOOKUP(B75,$V$5:$AG$9,4,FALSE)","v":0},null,"Balises prévues",{"$f":"IF(ISTEXT($D77),HLOOKUP($D77,DEBUT!$O$3:$XX$100,3,FALSE),\"\")","v":"A"},{"$f":"IF(ISTEXT($D77),HLOOKUP($D77,DEBUT!$O$3:$XX$100,4,FALSE),\"\")","v":"B"},{"$f":"IF(ISTEXT($D77),HLOOKUP($D77,DEBUT!$O$3:$XX$100,5,FALSE),\"\")","v":"C"},{"$f":"IF(ISTEXT($D77),HLOOKUP($D77,DEBUT!$O$3:$XX$100,6,FALSE),\"\")","v":"D"},{"$f":"IF(ISTEXT($D77),HLOOKUP($D77,DEBUT!$O$3:$XX$100,7,FALSE),\"\")","v":"E"},{"$f":"IF(ISTEXT($D77),HLOOKUP($D77,DEBUT!$O$3:$XX$100,8,FALSE),\"\")","v":"F"},"x","x","x",null,null,{"$f":"HLOOKUP(P75,$V$5:$AG$9,4,FALSE)","v":0}]
[null,{"$f":"HLOOKUP(B75,$V$5:$AG$9,5,FALSE)","v":0},null,"Validé",{"$f":"IF($D79=DEBUT!$L$5,E80,\"\")","v":7},{"$f":"IF($D79=DEBUT!$L$5,F80,\"\")","v":10},{"$f":"IF($D79=DEBUT!$L$5,G80,\"\")","v":11},{"$f":"IF($D79=DEBUT!$L$5,H80,\"\")","v":1},{"$f":"IF($D79=DEBUT!$L$5,I80,\"\")","v":76},{"$f":"IF($D79=DEBUT!$L$5,J80,\"\")","v":46},null,null,null,null,null,{"$f":"HLOOKUP(P75,$V$5:$AG$9,5,FALSE)","v":0}]
[null,null,null,"Balises CM",{"$f":"IFERROR(INDEX(baliseCM,MATCH(E78,lettre,0),MATCH($D76,parcours,0)),\"\")","v":7},{"$f":"IFERROR(INDEX(baliseCM,MATCH(F78,lettre,0),MATCH($D76,parcours,0)),\"\")","v":10},11,1,76,46]
[null,null,null,"Vitesse",null,null,{"$f":"((E77+F77+G77)/ABS((HOUR(G76)*3600+MINUTE(G76)*60+SECOND(G76))))*3.6","v":1179.284949760864},null,null,{"$f":"((H77+I77+J77)/ABS((HOUR(J76)*3600+MINUTE(J76)*60+SECOND(J76))))*3.6","v":{"$error":"#NUM!"}}]
[null,"EQUIPE 12",null,"15:51:45","15:55:06",null,null,null,null,null,null,null,null,null,null,"EQUIPE 12"]
[null,{"$f":"HLOOKUP(B82,$V$5:$AG$9,2,FALSE)","v":0},null,{"$f":"CONCATENATE(D84,\"bis\")","v":"ORANGEbis"},null,null,{"$f":"G82-D82","v":-0.66093750000000007},null,null,{"$f":"J82-D82","v":-0.66093750000000007},{"$f":"K82-J82","v":"00:00:00"},"00:00:00"]
[null,{"$f":"HLOOKUP(B82,$V$5:$AG$9,3,FALSE)","v":0},null,"ORANGE",{"$f":"IFERROR(SQRT(POWER((VLOOKUP($C$5,DEBUT!$D$5:$J$110,6,FALSE)-VLOOKUP(E86,DEBUT!$D$5:$J$110,6,FALSE)),2)+POWER((VLOOKUP($C$5,DEBUT!$D$5:$J$110,7,FALSE)-VLOOKUP(E86,DEBUT!$D$5:$J$110,7,FALSE)),2))/CARTE!$O$9,0)","v":0},{"$f":"IFERROR(SQRT(POWER((VLOOKUP(E86,DEBUT!$D$5:$J$110,6,FALSE)-VLOOKUP(F86,DEBUT!$D$5:$J$110,6,FALSE)),2)+POWER((VLOOKUP(E86,DEBUT!$D$5:$J$110,7,FALSE)-VLOOKUP(F86,DEBUT!$D$5:$J$110,7,FALSE)),2))/CARTE!$O$9,0)","v":0},{"$f":"IFERROR(SQRT(POWER((VLOOKUP(F86,DEBUT!$D$5:$J$110,6,FALSE)-VLOOKUP(G86,DEBUT!$D$5:$J$110,6,FALSE)),2)+POWER((VLOOKUP(F86,DEBUT!$D$5:$J$110,7,FALSE)-VLOOKUP(G86,DEBUT!$D$5:$J$110,7,FALSE)),2))/CARTE!$O$9,0)","v":0},{"$f":"IFERROR(SQRT(POWER((VLOOKUP(G86,DEBUT!$D$5:$J$110,6,FALSE)-VLOOKUP(H86,DEBUT!$D$5:$J$110,6,FALSE)),2)+POWER((VLOOKUP(G86,DEBUT!$D$5:$J$110,7,FALSE)-VLOOKUP(H86,DEBUT!$D$5:$J$110,7,FALSE)),2))/CARTE!$O$9,0)","v":0},{"$f":"IFERROR(SQRT(POWER((VLOOKUP(H86,DEBUT!$D$5:$J$110,6,FALSE)-VLOOKUP(I86,DEBUT!$D$5:$J$110,6,FALSE)),2)+POWER((VLOOKUP(H86,DEBUT!$D$5:$J$110,7,FALSE)-VLOOKUP(I86,DEBUT!$D$5:$J$110,7,FALSE)),2))/CARTE!$O$9,0)","v":0},{"$f":"IFERROR(SQRT(POWER((VLOOKUP(I86,DEBUT!$D$5:$J$110,6,FALSE)-VLOOKUP(J86,DEBUT!$D$5:$J$110,6,FALSE)),2)+POWER((VLOOKUP(I86,DEBUT!$D$5:$J$110,7,FALSE)-VLOOKUP(J86,DEBUT!$D$5:$J$110,7,FALSE)),2))/CARTE!$O$9,0)","v":0}]
[null,{"$f":"HLOOKUP(B82,$V$5:$AG$9,4,FALSE)","v":0},null,"Balises prévues",{"$f":"IF(ISTEXT($D84),HLOOKUP($D84,DEBUT!$O$3:$XX$100,3,FALSE),\"\")","v":{"$error":"#N/A"}},{"$f":"IF(ISTEXT($D84),HLOOKUP($D84,DEBUT!$O$3:$XX$100,4,FALSE),\"\")","v":{"$error":"#N/A"}},{"$f":"IF(ISTEXT($D84),HLOOKUP($D84,DEBUT!$O$3:$XX$100,5,FALSE),\"\")","v":{"$error":"#N/A"}},{"$f":"IF(ISTEXT($D84),HLOOKUP($D84,DEBUT!$O$3:$XX$100,6,FALSE),\"\")","v":{"$error":"#N/A"}},{"$f":"IF(ISTEXT($D84),HLOOKUP($D84,DEBUT!$O$3:$XX$100,7,FALSE),\"\")","v":{"$error":"#N/A"}},{"$f":"IF(ISTEXT($D84),HLOOKUP($D84,DEBUT!$O$3:$XX$100,8,FALSE),\"\")","v":{"$error":"#N/A"}},"x","x","x"]
[null,{"$f":"HLOOKUP(B82,$V$5:$AG$9,5,FALSE)","v":0},null,"Validé",{"$f":"IF($D86=DEBUT!$L$5,E87,\"\")","v":""},{"$f":"IF($D86=DEBUT!$L$5,F87,\"\")","v":""},{"$f":"IF($D86=DEBUT!$L$5,G87,\"\")","v":""},{"$f":"IF($D86=DEBUT!$L$5,H87,\"\")","v":""},{"$f":"IF($D86=DEBUT!$L$5,I87,\"\")","v":""},{"$f":"IF($D86=DEBUT!$L$5,J87,\"\")","v":""}]
[null,null,null,"Balises CM",{"$f":"IFERROR(INDEX(baliseCM,MATCH(E85,lettre,0),MATCH($D83,parcours,0)),\"\")","v":""},{"$f":"IFERROR(INDEX(baliseCM,MATCH(F85,lettre,0),MATCH($D83,parcours,0)),\"\")","v":""},"","","",""]
[null,null,null,"Vitesse",null,null,{"$f":"((E84+F84+G84)/ABS((HOUR(G83)*3600+MINUTE(G83)*60+SECOND(G83))))*3.6","v":{"$error":"#NUM!"}},null,null,{"$f":"((H84+I84+J84)/ABS((HOUR(J83)*3600+MINUTE(J83)*60+SECOND(J83))))*3.6","v":{"$error":"#NUM!"}}]

{"sheet":"COURSESCORE","index":11,"n_rows":88,"n_cols":39,"rows_kept":88,"cut":false,"hidden":false,"merged":[[75,4,75,5],[75,8,75,9],[75,10,75,11],[75,12,75,14],[82,4,82,5],[82,8,82,9],[82,10,82,11],[82,12,82,14],[61,4,61,5],[61,8,61,9],[61,10,61,11],[61,12,61,14],[68,4,68,5],[68,8,68,9],[68,10,68,11],[68,12,68,14],[47,4,47,5],[47,8,47,9],[47,10,47,11],[47,12,47,14],[54,4,54,5],[54,8,54,9],[54,10,54,11],[54,12,54,14],[33,4,33,5],[33,8,33,9],[33,10,33,11],[33,12,33,14],[40,4,40,5],[40,8,40,9],[40,10,40,11],[40,12,40,14],[19,4,19,5],[19,8,19,9],[19,10,19,11],[19,12,19,14],[26,4,26,5],[26,8,26,9],[26,10,26,11],[26,12,26,14],[5,12,5,14],[12,4,12,5],[12,8,12,9],[12,10,12,11],[12,12,12,14],[5,10,5,11],[0,7,0,9],[1,4,1,5],[1,7,1,9],[5,4,5,5],[5,8,5,9]]}
[null,null,null,null,null,null,null,{"$f":"CONCATENATE(H2,\"bis\")","v":"21Stevebis"},null,null,null,null,"Temps limite"]
[null,"STAGE",null,null,"12:45:20",null,null,"21Steve",null,null,null,null,"00:07:00","min"]
[null,null,null,null,null,null,null,"Corriger balise ->","B"]
[null,null,null,null,null,null,null,null,{"$f":"IFERROR(INDEX(baliseCM,MATCH(I3,lettre,0),MATCH(H1,parcours,0)),\"\")","v":13},null,null,null,null,null,null,"COURSE AU SCORE","N3"]
[null,"EQUIPE 1",null,null,null,null,null,null,null,null,null,null,null,{"$f":"(HOUR(M6)*3600+MINUTE(M6)*60+SECOND(M6))-(HOUR($M$2)*3600+MINUTE($M$2)*60+SECOND($M$2))","v":174},null,null,null,null,null,null,null,null,null,null,null,null,null,null,null,null,null,null,null,null,"Analyse du parcours",null,null,1,{"$f":"OFFSET(INDEX(eleves,MATCH(AL5,chiffre,0),MATCH($B$2,classes,0)),0,1)","v":"POL"}]
[null,"Eric",null,{"$f":"CONCATENATE(D7,\"bis\")","v":"21Stevebis"},"12:45:20",null,null,null,"12:55:14",null,"Durée :",null,{"$f":"I6-E6","v":"00:09:54"},null,null,null,null,null,null,null,null,null,null,null,null,null,null,null,null,null,"Classement points",{"$f":"RANK(AF10,AJ:AJ)","v":1},{"$f":"IF(AF6=1,\"er\",\"ème\")","v":"er"},null,null,null,null,2,"CARINE"]
[null,"Claudine",null,{"$f":"$H$2","v":"21Steve"},{"$f":"SQRT(POWER((VLOOKUP(E9,DEBUT!$D$5:$J$110,6,FALSE)-VLOOKUP(F9,DEBUT!$D$5:$J$110,6,FALSE)),2)+POWER((VLOOKUP(E9,DEBUT!$D$5:$J$110,7,FALSE)-VLOOKUP(F9,DEBUT!$D$5:$J$110,7,FALSE)),2))/CARTE!$O$9","v":0},{"$f":"SQRT(POWER((VLOOKUP(F9,DEBUT!$D$5:$J$110,6,FALSE)-VLOOKUP(G9,DEBUT!$D$5:$J$110,6,FALSE)),2)+POWER((VLOOKUP(F9,DEBUT!$D$5:$J$110,7,FALSE)-VLOOKUP(G9,DEBUT!$D$5:$J$110,7,FALSE)),2))/CARTE!$O$9","v":0},{"$f":"SQRT(POWER((VLOOKUP(G9,DEBUT!$D$5:$J$110,6,FALSE)-VLOOKUP(H9,DEBUT!$D$5:$J$110,6,FALSE)),2)+POWER((VLOOKUP(G9,DEBUT!$D$5:$J$110,7,FALSE)-VLOOKUP(H9,DEBUT!$D$5:$J$110,7,FALSE)),2))/CARTE!$O$9","v":0},{"$f":"SQRT(POWER((VLOOKUP(H9,DEBUT!$D$5:$J$110,6,FALSE)-VLOOKUP(I9,DEBUT!$D$5:$J$110,6,FALSE)),2)+POWER((VLOOKUP(H9,DEBUT!$D$5:$J$110,7,FALSE)-VLOOKUP(I9,DEBUT!$D$5:$J$110,7,FALSE)),2))/CARTE!$O$9","v":0},{"$f":"SQRT(POWER((VLOOKUP(I9,DEBUT!$D$5:$J$110,6,FALSE)-VLOOKUP(J9,DEBUT!$D$5:$J$110,6,FALSE)),2)+POWER((VLOOKUP(I9,DEBUT!$D$5:$J$110,7,FALSE)-VLOOKUP(J9,DEBUT!$D$5:$J$110,7,FALSE)),2))/CARTE!$O$9","v":0},{"$f":"SQRT(POWER((VLOOKUP(J9,DEBUT!$D$5:$J$110,6,FALSE)-VLOOKUP(K9,DEBUT!$D$5:$J$110,6,FALSE)),2)+POWER((VLOOKUP(J9,DEBUT!$D$5:$J$110,7,FALSE)-VLOOKUP(K9,DEBUT!$D$5:$J$110,7,FALSE)),2))/CARTE!$O$9","v":0},{"$f":"SQRT(POWER((VLOOKUP(K9,DEBUT!$D$5:$J$110,6,FALSE)-VLOOKUP(L9,DEBUT!$D$5:$J$110,6,FALSE)),2)+POWER((VLOOKUP(K9,DEBUT!$D$5:$J$110,7,FALSE)-VLOOKUP(L9,DEBUT!$D$5:$J$110,7,FALSE)),2))/CARTE!$O$9","v":0},{"$f":"SQRT(POWER((VLOOKUP(L9,DEBUT!$D$5:$J$110,6,FALSE)-VLOOKUP(M9,DEBUT!$D$5:$J$110,6,FALSE)),2)+POWER((VLOOKUP(L9,DEBUT!$D$5:$J$110,7,FALSE)-VLOOKUP(M9,DEBUT!$D$5:$J$110,7,FALSE)),2))/CARTE!$O$9","v":0},{"$f":"SQRT(POWER((VLOOKUP(M9,DEBUT!$D$5:$J$110,6,FALSE)-VLOOKUP(N9,DEBUT!$D$5:$J$110,6,FALSE)),2)+POWER((VLOOKUP(M9,DEBUT!$D$5:$J$110,7,FALSE)-VLOOKUP(N9,DEBUT!$D$5:$J$110,7,FALSE)),2))/CARTE!$O$9","v":0},{"$f":"SQRT(POWER((VLOOKUP(N9,DEBUT!$D$5:$J$110,6,FALSE)-VLOOKUP(O9,DEBUT!$D$5:$J$110,6,FALSE)),2)+POWER((VLOOKUP(N9,DEBUT!$D$5:$J$110,7,FALSE)-VLOOKUP(O9,DEBUT!$D$5:$J$110,7,FALSE)),2))/CARTE!$O$9","v":0},{"$f":"SQRT(POWER((VLOOKUP(O9,DEBUT!$D$5:$J$110,6,FALSE)-VLOOKUP(P9,DEBUT!$D$5:$J$110,6,FALSE)),2)+POWER((VLOOKUP(O9,DEBUT!$D$5:$J$110,7,FALSE)-VLOOKUP(P9,DEBUT!$D$5:$J$110,7,FALSE)),2))/CARTE!$O$9","v":0},{"$f":"SQRT(POWER((VLOOKUP(P9,DEBUT!$D$5:$J$110,6,FALSE)-VLOOKUP(Q9,DEBUT!$D$5:$J$110,6,FALSE)),2)+POWER((VLOOKUP(P9,DEBUT!$D$5:$J$110,7,FALSE)-VLOOKUP(Q9,DEBUT!$D$5:$J$110,7,FALSE)),2))/CARTE!$O$9","v":0},{"$f":"SQRT(POWER((VLOOKUP(Q9,DEBUT!$D$5:$J$110,6,FALSE)-VLOOKUP(R9,DEBUT!$D$5:$J$110,6,FALSE)),2)+POWER((VLOOKUP(Q9,DEBUT!$D$5:$J$110,7,FALSE)-VLOOKUP(R9,DEBUT!$D$5:$J$110,7,FALSE)),2))/CARTE!$O$9","v":0},{"$f":"SQRT(POWER((VLOOKUP(R9,DEBUT!$D$5:$J$110,6,FALSE)-VLOOKUP(S9,DEBUT!$D$5:$J$110,6,FALSE)),2)+POWER((VLOOKUP(R9,DEBUT!$D$5:$J$110,7,FALSE)-VLOOKUP(S9,DEBUT!$D$5:$J$110,7,FALSE)),2))/CARTE!$O$9","v":0},{"$f":"SQRT(POWER((VLOOKUP(S9,DEBUT!$D$5:$J$110,6,FALSE)-VLOOKUP(T9,DEBUT!$D$5:$J$110,6,FALSE)),2)+POWER((VLOOKUP(S9,DEBUT!$D$5:$J$110,7,FALSE)-VLOOKUP(T9,DEBUT!$D$5:$J$110,7,FALSE)),2))/CARTE!$O$9","v":0},{"$f":"SQRT(POWER((VLOOKUP(T9,DEBUT!$D$5:$J$110,6,FALSE)-VLOOKUP(U9,DEBUT!$D$5:$J$110,6,FALSE)),2)+POWER((VLOOKUP(T9,DEBUT!$D$5:$J$110,7,FALSE)-VLOOKUP(U9,DEBUT!$D$5:$J$110,7,FALSE)),2))/CARTE!$O$9","v":0},{"$f":"SQRT(POWER((VLOOKUP(U9,DEBUT!$D$5:$J$110,6,FALSE)-VLOOKUP(V9,DEBUT!$D$5:$J$110,6,FALSE)),2)+POWER((VLOOKUP(U9,DEBUT!$D$5:$J$110,7,FALSE)-VLOOKUP(V9,DEBUT!$D$5:$J$110,7,FALSE)),2))/CARTE!$O$9","v":0},{"$f":"SQRT(POWER((VLOOKUP(V9,DEBUT!$D$5:$J$110,6,FALSE)-VLOOKUP(W9,DEBUT!$D$5:$J$110,6,FALSE)),2)+POWER((VLOOKUP(V9,DEBUT!$D$5:$J$110,7,FALSE)-VLOOKUP(W9,DEBUT!$D$5:$J$110,7,FALSE)),2))/CARTE!$O$9","v":0},{"$f":"SQRT(POWER((VLOOKUP(W9,DEBUT!$D$5:$J$110,6,FALSE)-VLOOKUP(X9,DEBUT!$D$5:$J$110,6,FALSE)),2)+POWER((VLOOKUP(W9,DEBUT!$D$5:$J$110,7,FALSE)-VLOOKUP(X9,DEBUT!$D$5:$J$110,7,FALSE)),2))/CARTE!$O$9","v":0},{"$f":"SQRT(POWER((VLOOKUP(X9,DEBUT!$D$5:$J$110,6,FALSE)-VLOOKUP(Y9,DEBUT!$D$5:$J$110,6,FALSE)),2)+POWER((VLOOKUP(X9,DEBUT!$D$5:$J$110,7,FALSE)-VLOOKUP(Y9,DEBUT!$D$5:$J$110,7,FALSE)),2))/CARTE!$O$9","v":0},{"$f":"SQRT(POWER((VLOOKUP(Y9,DEBUT!$D$5:$J$110,6,FALSE)-VLOOKUP(Z9,DEBUT!$D$5:$J$110,6,FALSE)),2)+POWER((VLOOKUP(Y9,DEBUT!$D$5:$J$110,7,FALSE)-VLOOKUP(Z9,DEBUT!$D$5:$J$110,7,FALSE)),2))/CARTE!$O$9","v":0},{"$f":"SQRT(POWER((VLOOKUP(Z9,DEBUT!$D$5:$J$110,6,FALSE)-VLOOKUP(AA9,DEBUT!$D$5:$J$110,6,FALSE)),2)+POWER((VLOOKUP(Z9,DEBUT!$D$5:$J$110,7,FALSE)-VLOOKUP(AA9,DEBUT!$D$5:$J$110,7,FALSE)),2))/CARTE!$O$9","v":0},{"$f":"SQRT(POWER((VLOOKUP(AA9,DEBUT!$D$5:$J$110,6,FALSE)-VLOOKUP(AB9,DEBUT!$D$5:$J$110,6,FALSE)),2)+POWER((VLOOKUP(AA9,DEBUT!$D$5:$J$110,7,FALSE)-VLOOKUP(AB9,DEBUT!$D$5:$J$110,7,FALSE)),2))/CARTE!$O$9","v":0},{"$f":"SQRT(POWER((VLOOKUP(AB9,DEBUT!$D$5:$J$110,6,FALSE)-VLOOKUP(AC9,DEBUT!$D$5:$J$110,6,FALSE)),2)+POWER((VLOOKUP(AB9,DEBUT!$D$5:$J$110,7,FALSE)-VLOOKUP(AC9,DEBUT!$D$5:$J$110,7,FALSE)),2))/CARTE!$O$9","v":0},{"$f":"SQRT(POWER((VLOOKUP(AC9,DEBUT!$D$5:$J$110,6,FALSE)-VLOOKUP(AD9,DEBUT!$D$5:$J$110,6,FALSE)),2)+POWER((VLOOKUP(AC9,DEBUT!$D$5:$J$110,7,FALSE)-VLOOKUP(AD9,DEBUT!$D$5:$J$110,7,FALSE)),2))/CARTE!$O$9","v":0},{"$f":"SQRT(POWER((VLOOKUP(AD9,DEBUT!$D$5:$J$110,6,FALSE)-VLOOKUP(AE9,DEBUT!$D$5:$J$110,6,FALSE)),2)+POWER((VLOOKUP(AD9,DEBUT!$D$5:$J$110,7,FALSE)-VLOOKUP(AE9,DEBUT!$D$5:$J$110,7,FALSE)),2))/CARTE!$O$9","v":{"$error":"#N/A"}},"Temps",{"$f":"IF(N5<0,CONCATENATE(\"-\",(MINUTE(M6)-MINUTE($M$2))),CONCATENATE(\"+\",(ABS(MINUTE(M6)-MINUTE($M$2)))))","v":"+2"},"minutes",null,null,null,null,3,"BASTIEN"]
[null,null,null,"Balises prévues",{"$f":"IF(ISTEXT($D7),HLOOKUP($D7,DEBUT!$O$3:$XX$100,3,FALSE),\"\")","v":"A"},{"$f":"IF(ISTEXT($D7),HLOOKUP($D7,DEBUT!$O$3:$XX$100,4,FALSE),\"\")","v":"B"},{"$f":"IF(ISTEXT($D7),HLOOKUP($D7,DEBUT!$O$3:$XX$100,5,FALSE),\"\")","v":"C"},{"$f":"IF(ISTEXT($D7),HLOOKUP($D7,DEBUT!$O$3:$XX$100,6,FALSE),\"\")","v":"D"},{"$f":"IF(ISTEXT($D7),HLOOKUP($D7,DEBUT!$O$3:$XX$100,7,FALSE),\"\")","v":"E"},{"$f":"IF(ISTEXT($D7),HLOOKUP($D7,DEBUT!$O$3:$XX$100,8,FALSE),\"\")","v":"F"},{"$f":"IF(ISTEXT($D7),HLOOKUP($D7,DEBUT!$O$3:$XX$100,9,FALSE),\"\")","v":"G"},{"$f":"IF(ISTEXT($D7),HLOOKUP($D7,DEBUT!$O$3:$XX$100,10,FALSE),\"\")","v":"H"},{"$f":"IF(ISTEXT($D7),HLOOKUP($D7,DEBUT!$O$3:$XX$100,11,FALSE),\"\")","v":"I"},{"$f":"IF(ISTEXT($D7),HLOOKUP($D7,DEBUT!$O$3:$XX$100,12,FALSE),\"\")","v":"J"},{"$f":"IF(ISTEXT($D7),HLOOKUP($D7,DEBUT!$O$3:$XX$100,13,FALSE),\"\")","v":"K"},{"$f":"IF(ISTEXT($D7),HLOOKUP($D7,DEBUT!$O$3:$XX$100,14,FALSE),\"\")","v":"L"},{"$f":"IF(ISTEXT($D7),HLOOKUP($D7,DEBUT!$O$3:$XX$100,15,FALSE),\"\")","v":"M"},{"$f":"IF(ISTEXT($D7),HLOOKUP($D7,DEBUT!$O$3:$XX$100,16,FALSE),\"\")","v":"N"},{"$f":"IF(ISTEXT($D7),HLOOKUP($D7,DEBUT!$O$3:$XX$100,17,FALSE),\"\")","v":"O"},{"$f":"IF(ISTEXT($D7),HLOOKUP($D7,DEBUT!$O$3:$XX$100,18,FALSE),\"\")","v":"P"},{"$f":"IF(ISTEXT($D7),HLOOKUP($D7,DEBUT!$O$3:$XX$100,19,FALSE),\"\")","v":"Q"},{"$f":"IF(ISTEXT($D7),HLOOKUP($D7,DEBUT!$O$3:$XX$100,20,FALSE),\"\")","v":"R"},{"$f":"IF(ISTEXT($D7),HLOOKUP($D7,DEBUT!$O$3:$XX$100,21,FALSE),\"\")","v":"S"},{"$f":"IF(ISTEXT($D7),HLOOKUP($D7,DEBUT!$O$3:$XX$100,22,FALSE),\"\")","v":"T"},{"$f":"IF(ISTEXT($D7),HLOOKUP($D7,DEBUT!$O$3:$XX$100,23,FALSE),\"\")","v":"U"},{"$f":"IF(ISTEXT($D7),HLOOKUP($D7,DEBUT!$O$3:$XX$100,24,FALSE),\"\")","v":"V"},{"$f":"IF(ISTEXT($D7),HLOOKUP($D7,DEBUT!$O$3:$XX$100,25,FALSE),\"\")","v":"W"},{"$f":"IF(ISTEXT($D7),HLOOKUP($D7,DEBUT!$O$3:$XX$100,26,FALSE),\"\")","v":"X"},{"$f":"IF(ISTEXT($D7),HLOOKUP($D7,DEBUT!$O$3:$XX$100,27,FALSE),\"\")","v":"Y"},{"$f":"IF(ISTEXT($D7),HLOOKUP($D7,DEBUT!$O$3:$XX$100,28,FALSE),\"\")","v":"Z"},null,null,null,null,null,null,null,4,"CORALINE"]
[null,null,null,"Vrai numéro des balises trouvées",null,null,null,null,null,null,null,null,null,null,null,null,null,null,null,null,null,null,null,null,null,null,null,null,null,null,"Nb balises trouvées",{"$f":"SUMPRODUCT(N(ISNUMBER(E9:AD9)))","v":0},"trouvées",null,null,null,null,5,"GREGORY"]
[null,null,null,"Balises CM",{"$f":"IFERROR(INDEX(baliseCM,MATCH(E8,lettre,0),MATCH($D6,parcours,0)),\"\")","v":12},{"$f":"IFERROR(INDEX(baliseCM,MATCH(F8,lettre,0),MATCH($D6,parcours,0)),\"\")","v":13},11,16,35,28,26,40,39,45,{"$f":"IFERROR(INDEX(baliseCM,MATCH(O8,lettre,0),MATCH($D6,parcours,0)),\"\")","v":0},51,50,74,0,6,33,29,24,54,56,59,0,{"$f":"IFERROR(INDEX(baliseCM,MATCH(AB8,lettre,0),MATCH($D6,parcours,0)),\"\")","v":76},0,0,"Nombre balises justes",{"$f":"COUNTIF(E11:AD11,\">0\")","v":5},"justes",null,null,{"$f":"AF10","v":5},null,6,"THOMAS"]
[null,null,null,"Points",{"$f":"IF(E10=E9,IFERROR(INDEX(baliseCM,MATCH(E8,lettre,0),MATCH($AK11,parcours,0)),\"\"),\"\")","v":""},"","","","","","","","","",3,"","","",3,"","","","","","","",3,"",3,3,"Points ",{"$f":"SUM(E11:AD11)","v":15},"pts",null,null,null,{"$f":"CONCATENATE(D7,\"points\")","v":"21Stevepoints"},7,"ALAIN"]
[null,"EQUIPE 2",null,null,null,null,null,null,null,null,null,null,null,{"$f":"(HOUR(M13)*3600+MINUTE(M13)*60+SECOND(M13))-(HOUR($M$2)*3600+MINUTE($M$2)*60+SECOND($M$2))","v":385},null,null,null,null,null,null,null,null,null,null,null,null,null,null,null,null,null,null,null,null,null,null,null,8,"QUENTIN"]
[null,null,null,{"$f":"CONCATENATE(D14,\"bis\")","v":"21Stevebis"},"12:45:21",null,null,null,"12:58:46",null,"Durée :",null,{"$f":"I13-E13","v":"00:13:25"},null,null,null,null,null,null,null,null,null,null,null,null,null,null,null,null,null,"Classement points",{"$f":"RANK(AF17,AJ:AJ)","v":1},{"$f":"IF(AF13=1,\"er\",\"ème\")","v":"er"},null,null,null,null,9,"BAPTISTE"]
[null,null,null,{"$f":"$H$2","v":"21Steve"},{"$f":"SQRT(POWER((VLOOKUP(E16,DEBUT!$D$5:$J$110,6,FALSE)-VLOOKUP(F16,DEBUT!$D$5:$J$110,6,FALSE)),2)+POWER((VLOOKUP(E16,DEBUT!$D$5:$J$110,7,FALSE)-VLOOKUP(F16,DEBUT!$D$5:$J$110,7,FALSE)),2))/CARTE!$O$9","v":0},{"$f":"SQRT(POWER((VLOOKUP(F16,DEBUT!$D$5:$J$110,6,FALSE)-VLOOKUP(G16,DEBUT!$D$5:$J$110,6,FALSE)),2)+POWER((VLOOKUP(F16,DEBUT!$D$5:$J$110,7,FALSE)-VLOOKUP(G16,DEBUT!$D$5:$J$110,7,FALSE)),2))/CARTE!$O$9","v":0},{"$f":"SQRT(POWER((VLOOKUP(G16,DEBUT!$D$5:$J$110,6,FALSE)-VLOOKUP(H16,DEBUT!$D$5:$J$110,6,FALSE)),2)+POWER((VLOOKUP(G16,DEBUT!$D$5:$J$110,7,FALSE)-VLOOKUP(H16,DEBUT!$D$5:$J$110,7,FALSE)),2))/CARTE!$O$9","v":0},{"$f":"SQRT(POWER((VLOOKUP(H16,DEBUT!$D$5:$J$110,6,FALSE)-VLOOKUP(I16,DEBUT!$D$5:$J$110,6,FALSE)),2)+POWER((VLOOKUP(H16,DEBUT!$D$5:$J$110,7,FALSE)-VLOOKUP(I16,DEBUT!$D$5:$J$110,7,FALSE)),2))/CARTE!$O$9","v":0},{"$f":"SQRT(POWER((VLOOKUP(I16,DEBUT!$D$5:$J$110,6,FALSE)-VLOOKUP(J16,DEBUT!$D$5:$J$110,6,FALSE)),2)+POWER((VLOOKUP(I16,DEBUT!$D$5:$J$110,7,FALSE)-VLOOKUP(J16,DEBUT!$D$5:$J$110,7,FALSE)),2))/CARTE!$O$9","v":0},{"$f":"SQRT(POWER((VLOOKUP(J16,DEBUT!$D$5:$J$110,6,FALSE)-VLOOKUP(K16,DEBUT!$D$5:$J$110,6,FALSE)),2)+POWER((VLOOKUP(J16,DEBUT!$D$5:$J$110,7,FALSE)-VLOOKUP(K16,DEBUT!$D$5:$J$110,7,FALSE)),2))/CARTE!$O$9","v":0},{"$f":"SQRT(POWER((VLOOKUP(K16,DEBUT!$D$5:$J$110,6,FALSE)-VLOOKUP(L16,DEBUT!$D$5:$J$110,6,FALSE)),2)+POWER((VLOOKUP(K16,DEBUT!$D$5:$J$110,7,FALSE)-VLOOKUP(L16,DEBUT!$D$5:$J$110,7,FALSE)),2))/CARTE!$O$9","v":0},{"$f":"SQRT(POWER((VLOOKUP(L16,DEBUT!$D$5:$J$110,6,FALSE)-VLOOKUP(M16,DEBUT!$D$5:$J$110,6,FALSE)),2)+POWER((VLOOKUP(L16,DEBUT!$D$5:$J$110,7,FALSE)-VLOOKUP(M16,DEBUT!$D$5:$J$110,7,FALSE)),2))/CARTE!$O$9","v":0},{"$f":"SQRT(POWER((VLOOKUP(M16,DEBUT!$D$5:$J$110,6,FALSE)-VLOOKUP(N16,DEBUT!$D$5:$J$110,6,FALSE)),2)+POWER((VLOOKUP(M16,DEBUT!$D$5:$J$110,7,FALSE)-VLOOKUP(N16,DEBUT!$D$5:$J$110,7,FALSE)),2))/CARTE!$O$9","v":0},{"$f":"SQRT(POWER((VLOOKUP(N16,DEBUT!$D$5:$J$110,6,FALSE)-VLOOKUP(O16,DEBUT!$D$5:$J$110,6,FALSE)),2)+POWER((VLOOKUP(N16,DEBUT!$D$5:$J$110,7,FALSE)-VLOOKUP(O16,DEBUT!$D$5:$J$110,7,FALSE)),2))/CARTE!$O$9","v":0},{"$f":"SQRT(POWER((VLOOKUP(O16,DEBUT!$D$5:$J$110,6,FALSE)-VLOOKUP(P16,DEBUT!$D$5:$J$110,6,FALSE)),2)+POWER((VLOOKUP(O16,DEBUT!$D$5:$J$110,7,FALSE)-VLOOKUP(P16,DEBUT!$D$5:$J$110,7,FALSE)),2))/CARTE!$O$9","v":0},{"$f":"SQRT(POWER((VLOOKUP(P16,DEBUT!$D$5:$J$110,6,FALSE)-VLOOKUP(Q16,DEBUT!$D$5:$J$110,6,FALSE)),2)+POWER((VLOOKUP(P16,DEBUT!$D$5:$J$110,7,FALSE)-VLOOKUP(Q16,DEBUT!$D$5:$J$110,7,FALSE)),2))/CARTE!$O$9","v":0},{"$f":"SQRT(POWER((VLOOKUP(Q16,DEBUT!$D$5:$J$110,6,FALSE)-VLOOKUP(R16,DEBUT!$D$5:$J$110,6,FALSE)),2)+POWER((VLOOKUP(Q16,DEBUT!$D$5:$J$110,7,FALSE)-VLOOKUP(R16,DEBUT!$D$5:$J$110,7,FALSE)),2))/CARTE!$O$9","v":0},{"$f":"SQRT(POWER((VLOOKUP(R16,DEBUT!$D$5:$J$110,6,FALSE)-VLOOKUP(S16,DEBUT!$D$5:$J$110,6,FALSE)),2)+POWER((VLOOKUP(R16,DEBUT!$D$5:$J$110,7,FALSE)-VLOOKUP(S16,DEBUT!$D$5:$J$110,7,FALSE)),2))/CARTE!$O$9","v":0},{"$f":"SQRT(POWER((VLOOKUP(S16,DEBUT!$D$5:$J$110,6,FALSE)-VLOOKUP(T16,DEBUT!$D$5:$J$110,6,FALSE)),2)+POWER((VLOOKUP(S16,DEBUT!$D$5:$J$110,7,FALSE)-VLOOKUP(T16,DEBUT!$D$5:$J$110,7,FALSE)),2))/CARTE!$O$9","v":0},{"$f":"SQRT(POWER((VLOOKUP(T16,DEBUT!$D$5:$J$110,6,FALSE)-VLOOKUP(U16,DEBUT!$D$5:$J$110,6,FALSE)),2)+POWER((VLOOKUP(T16,DEBUT!$D$5:$J$110,7,FALSE)-VLOOKUP(U16,DEBUT!$D$5:$J$110,7,FALSE)),2))/CARTE!$O$9","v":0},{"$f":"SQRT(POWER((VLOOKUP(U16,DEBUT!$D$5:$J$110,6,FALSE)-VLOOKUP(V16,DEBUT!$D$5:$J$110,6,FALSE)),2)+POWER((VLOOKUP(U16,DEBUT!$D$5:$J$110,7,FALSE)-VLOOKUP(V16,DEBUT!$D$5:$J$110,7,FALSE)),2))/CARTE!$O$9","v":0},{"$f":"SQRT(POWER((VLOOKUP(V16,DEBUT!$D$5:$J$110,6,FALSE)-VLOOKUP(W16,DEBUT!$D$5:$J$110,6,FALSE)),2)+POWER((VLOOKUP(V16,DEBUT!$D$5:$J$110,7,FALSE)-VLOOKUP(W16,DEBUT!$D$5:$J$110,7,FALSE)),2))/CARTE!$O$9","v":0},{"$f":"SQRT(POWER((VLOOKUP(W16,DEBUT!$D$5:$J$110,6,FALSE)-VLOOKUP(X16,DEBUT!$D$5:$J$110,6,FALSE)),2)+POWER((VLOOKUP(W16,DEBUT!$D$5:$J$110,7,FALSE)-VLOOKUP(X16,DEBUT!$D$5:$J$110,7,FALSE)),2))/CARTE!$O$9","v":0},{"$f":"SQRT(POWER((VLOOKUP(X16,DEBUT!$D$5:$J$110,6,FALSE)-VLOOKUP(Y16,DEBUT!$D$5:$J$110,6,FALSE)),2)+POWER((VLOOKUP(X16,DEBUT!$D$5:$J$110,7,FALSE)-VLOOKUP(Y16,DEBUT!$D$5:$J$110,7,FALSE)),2))/CARTE!$O$9","v":0},{"$f":"SQRT(POWER((VLOOKUP(Y16,DEBUT!$D$5:$J$110,6,FALSE)-VLOOKUP(Z16,DEBUT!$D$5:$J$110,6,FALSE)),2)+POWER((VLOOKUP(Y16,DEBUT!$D$5:$J$110,7,FALSE)-VLOOKUP(Z16,DEBUT!$D$5:$J$110,7,FALSE)),2))/CARTE!$O$9","v":0},{"$f":"SQRT(POWER((VLOOKUP(Z16,DEBUT!$D$5:$J$110,6,FALSE)-VLOOKUP(AA16,DEBUT!$D$5:$J$110,6,FALSE)),2)+POWER((VLOOKUP(Z16,DEBUT!$D$5:$J$110,7,FALSE)-VLOOKUP(AA16,DEBUT!$D$5:$J$110,7,FALSE)),2))/CARTE!$O$9","v":0},{"$f":"SQRT(POWER((VLOOKUP(AA16,DEBUT!$D$5:$J$110,6,FALSE)-VLOOKUP(AB16,DEBUT!$D$5:$J$110,6,FALSE)),2)+POWER((VLOOKUP(AA16,DEBUT!$D$5:$J$110,7,FALSE)-VLOOKUP(AB16,DEBUT!$D$5:$J$110,7,FALSE)),2))/CARTE!$O$9","v":0},{"$f":"SQRT(POWER((VLOOKUP(AB16,DEBUT!$D$5:$J$110,6,FALSE)-VLOOKUP(AC16,DEBUT!$D$5:$J$110,6,FALSE)),2)+POWER((VLOOKUP(AB16,DEBUT!$D$5:$J$110,7,FALSE)-VLOOKUP(AC16,DEBUT!$D$5:$J$110,7,FALSE)),2))/CARTE!$O$9","v":0},{"$f":"SQRT(POWER((VLOOKUP(AC16,DEBUT!$D$5:$J$110,6,FALSE)-VLOOKUP(AD16,DEBUT!$D$5:$J$110,6,FALSE)),2)+POWER((VLOOKUP(AC16,DEBUT!$D$5:$J$110,7,FALSE)-VLOOKUP(AD16,DEBUT!$D$5:$J$110,7,FALSE)),2))/CARTE!$O$9","v":0},{"$f":"SQRT(POWER((VLOOKUP(AD16,DEBUT!$D$5:$J$110,6,FALSE)-VLOOKUP(AE16,DEBUT!$D$5:$J$110,6,FALSE)),2)+POWER((VLOOKUP(AD16,DEBUT!$D$5:$J$110,7,FALSE)-VLOOKUP(AE16,DEBUT!$D$5:$J$110,7,FALSE)),2))/CARTE!$O$9","v":{"$error":"#N/A"}},"Temps",{"$f":"IF(N12<0,CONCATENATE(\"-\",(MINUTE(M13)-MINUTE($M$2))),CONCATENATE(\"+\",(ABS(MINUTE(M13)-MINUTE($M$2)))))","v":"+6"},"minutes",null,null,null,null,10,"FRANCK"]
[null,null,null,"Balises prévues",{"$f":"IF(ISTEXT($D14),HLOOKUP($D14,DEBUT!$O$3:$XX$100,3,FALSE),\"\")","v":"A"},{"$f":"IF(ISTEXT($D14),HLOOKUP($D14,DEBUT!$O$3:$XX$100,4,FALSE),\"\")","v":"B"},{"$f":"IF(ISTEXT($D14),HLOOKUP($D14,DEBUT!$O$3:$XX$100,5,FALSE),\"\")","v":"C"},{"$f":"IF(ISTEXT($D14),HLOOKUP($D14,DEBUT!$O$3:$XX$100,6,FALSE),\"\")","v":"D"},{"$f":"IF(ISTEXT($D14),HLOOKUP($D14,DEBUT!$O$3:$XX$100,7,FALSE),\"\")","v":"E"},{"$f":"IF(ISTEXT($D14),HLOOKUP($D14,DEBUT!$O$3:$XX$100,8,FALSE),\"\")","v":"F"},{"$f":"IF(ISTEXT($D14),HLOOKUP($D14,DEBUT!$O$3:$XX$100,9,FALSE),\"\")","v":"G"},{"$f":"IF(ISTEXT($D14),HLOOKUP($D14,DEBUT!$O$3:$XX$100,10,FALSE),\"\")","v":"H"},{"$f":"IF(ISTEXT($D14),HLOOKUP($D14,DEBUT!$O$3:$XX$100,11,FALSE),\"\")","v":"I"},{"$f":"IF(ISTEXT($D14),HLOOKUP($D14,DEBUT!$O$3:$XX$100,12,FALSE),\"\")","v":"J"},{"$f":"IF(ISTEXT($D14),HLOOKUP($D14,DEBUT!$O$3:$XX$100,13,FALSE),\"\")","v":"K"},{"$f":"IF(ISTEXT($D14),HLOOKUP($D14,DEBUT!$O$3:$XX$100,14,FALSE),\"\")","v":"L"},{"$f":"IF(ISTEXT($D14),HLOOKUP($D14,DEBUT!$O$3:$XX$100,15,FALSE),\"\")","v":"M"},{"$f":"IF(ISTEXT($D14),HLOOKUP($D14,DEBUT!$O$3:$XX$100,16,FALSE),\"\")","v":"N"},{"$f":"IF(ISTEXT($D14),HLOOKUP($D14,DEBUT!$O$3:$XX$100,17,FALSE),\"\")","v":"O"},{"$f":"IF(ISTEXT($D14),HLOOKUP($D14,DEBUT!$O$3:$XX$100,18,FALSE),\"\")","v":"P"},{"$f":"IF(ISTEXT($D14),HLOOKUP($D14,DEBUT!$O$3:$XX$100,19,FALSE),\"\")","v":"Q"},{"$f":"IF(ISTEXT($D14),HLOOKUP($D14,DEBUT!$O$3:$XX$100,20,FALSE),\"\")","v":"R"},{"$f":"IF(ISTEXT($D14),HLOOKUP($D14,DEBUT!$O$3:$XX$100,21,FALSE),\"\")","v":"S"},{"$f":"IF(ISTEXT($D14),HLOOKUP($D14,DEBUT!$O$3:$XX$100,22,FALSE),\"\")","v":"T"},{"$f":"IF(ISTEXT($D14),HLOOKUP($D14,DEBUT!$O$3:$XX$100,23,FALSE),\"\")","v":"U"},{"$f":"IF(ISTEXT($D14),HLOOKUP($D14,DEBUT!$O$3:$XX$100,24,FALSE),\"\")","v":"V"},{"$f":"IF(ISTEXT($D14),HLOOKUP($D14,DEBUT!$O$3:$XX$100,25,FALSE),\"\")","v":"W"},{"$f":"IF(ISTEXT($D14),HLOOKUP($D14,DEBUT!$O$3:$XX$100,26,FALSE),\"\")","v":"X"},{"$f":"IF(ISTEXT($D14),HLOOKUP($D14,DEBUT!$O$3:$XX$100,27,FALSE),\"\")","v":"Y"},{"$f":"IF(ISTEXT($D14),HLOOKUP($D14,DEBUT!$O$3:$XX$100,28,FALSE),\"\")","v":"Z"},null,null,null,null,null,null,null,11,"VALENTIN"]
[null,null,null,"Vrai numéro des balises trouvées",null,null,null,null,null,null,null,null,null,null,null,null,null,null,null,null,null,null,null,null,null,null,null,null,null,null,"Nb balises trouvées",{"$f":"SUMPRODUCT(N(ISNUMBER(E16:AD16)))","v":0},"trouvées",null,null,null,null,12,"BENJAMIN"]
[null,null,null,"Balises CM",{"$f":"IFERROR(INDEX(baliseCM,MATCH(E15,lettre,0),MATCH($D13,parcours,0)),\"\")","v":12},{"$f":"IFERROR(INDEX(baliseCM,MATCH(F15,lettre,0),MATCH($D13,parcours,0)),\"\")","v":13},11,16,35,28,26,40,39,45,0,51,50,74,0,6,33,29,24,54,56,59,0,76,0,0,"Nombre balises justes",{"$f":"COUNTIF(E18:AD18,\">0\")","v":5},"justes",null,null,{"$f":"AF17","v":5},null,13,"ANDY"]
[null,null,null,"Points",{"$f":"IF(E17=E16,IFERROR(INDEX(baliseCM,MATCH(E15,lettre,0),MATCH($AK18,parcours,0)),\"\"),\"\")","v":""},"","","","","","","","","",3,"","","",3,"","","","","","","",3,"",3,3,"Points ",{"$f":"SUM(E18:AD18)","v":15},"pts",null,null,null,{"$f":"CONCATENATE(D14,\"points\")","v":"21Stevepoints"},14,"OLIVIER"]
[null,"EQUIPE 3",null,null,null,null,null,null,null,null,null,null,null,{"$f":"(HOUR(M20)*3600+MINUTE(M20)*60+SECOND(M20))-(HOUR($M$2)*3600+MINUTE($M$2)*60+SECOND($M$2))","v":30194},null,null,null,null,null,null,null,null,null,null,null,null,null,null,null,null,null,null,null,null,null,null,null,15,"CHRISTIAN"]
[null,null,null,{"$f":"CONCATENATE(D21,\"bis\")","v":"21Stevebis"},"12:45:21",null,null,null,"21:15:35",null,"Durée :",null,{"$f":"I20-E20","v":"08:30:14"},null,null,null,null,null,null,null,null,null,null,null,null,null,null,null,null,null,"Classement points",{"$f":"RANK(AF24,AJ:AJ)","v":1},{"$f":"IF(AF20=1,\"er\",\"ème\")","v":"er"},null,null,null,null,16,"CELINE"]
[null,null,null,{"$f":"$H$2","v":"21Steve"},{"$f":"SQRT(POWER((VLOOKUP(E23,DEBUT!$D$5:$J$110,6,FALSE)-VLOOKUP(F23,DEBUT!$D$5:$J$110,6,FALSE)),2)+POWER((VLOOKUP(E23,DEBUT!$D$5:$J$110,7,FALSE)-VLOOKUP(F23,DEBUT!$D$5:$J$110,7,FALSE)),2))/CARTE!$O$9","v":0},{"$f":"SQRT(POWER((VLOOKUP(F23,DEBUT!$D$5:$J$110,6,FALSE)-VLOOKUP(G23,DEBUT!$D$5:$J$110,6,FALSE)),2)+POWER((VLOOKUP(F23,DEBUT!$D$5:$J$110,7,FALSE)-VLOOKUP(G23,DEBUT!$D$5:$J$110,7,FALSE)),2))/CARTE!$O$9","v":0},{"$f":"SQRT(POWER((VLOOKUP(G23,DEBUT!$D$5:$J$110,6,FALSE)-VLOOKUP(H23,DEBUT!$D$5:$J$110,6,FALSE)),2)+POWER((VLOOKUP(G23,DEBUT!$D$5:$J$110,7,FALSE)-VLOOKUP(H23,DEBUT!$D$5:$J$110,7,FALSE)),2))/CARTE!$O$9","v":0},{"$f":"SQRT(POWER((VLOOKUP(H23,DEBUT!$D$5:$J$110,6,FALSE)-VLOOKUP(I23,DEBUT!$D$5:$J$110,6,FALSE)),2)+POWER((VLOOKUP(H23,DEBUT!$D$5:$J$110,7,FALSE)-VLOOKUP(I23,DEBUT!$D$5:$J$110,7,FALSE)),2))/CARTE!$O$9","v":0},{"$f":"SQRT(POWER((VLOOKUP(I23,DEBUT!$D$5:$J$110,6,FALSE)-VLOOKUP(J23,DEBUT!$D$5:$J$110,6,FALSE)),2)+POWER((VLOOKUP(I23,DEBUT!$D$5:$J$110,7,FALSE)-VLOOKUP(J23,DEBUT!$D$5:$J$110,7,FALSE)),2))/CARTE!$O$9","v":0},{"$f":"SQRT(POWER((VLOOKUP(J23,DEBUT!$D$5:$J$110,6,FALSE)-VLOOKUP(K23,DEBUT!$D$5:$J$110,6,FALSE)),2)+POWER((VLOOKUP(J23,DEBUT!$D$5:$J$110,7,FALSE)-VLOOKUP(K23,DEBUT!$D$5:$J$110,7,FALSE)),2))/CARTE!$O$9","v":0},{"$f":"SQRT(POWER((VLOOKUP(K23,DEBUT!$D$5:$J$110,6,FALSE)-VLOOKUP(L23,DEBUT!$D$5:$J$110,6,FALSE)),2)+POWER((VLOOKUP(K23,DEBUT!$D$5:$J$110,7,FALSE)-VLOOKUP(L23,DEBUT!$D$5:$J$110,7,FALSE)),2))/CARTE!$O$9","v":0},{"$f":"SQRT(POWER((VLOOKUP(L23,DEBUT!$D$5:$J$110,6,FALSE)-VLOOKUP(M23,DEBUT!$D$5:$J$110,6,FALSE)),2)+POWER((VLOOKUP(L23,DEBUT!$D$5:$J$110,7,FALSE)-VLOOKUP(M23,DEBUT!$D$5:$J$110,7,FALSE)),2))/CARTE!$O$9","v":0},{"$f":"SQRT(POWER((VLOOKUP(M23,DEBUT!$D$5:$J$110,6,FALSE)-VLOOKUP(N23,DEBUT!$D$5:$J$110,6,FALSE)),2)+POWER((VLOOKUP(M23,DEBUT!$D$5:$J$110,7,FALSE)-VLOOKUP(N23,DEBUT!$D$5:$J$110,7,FALSE)),2))/CARTE!$O$9","v":0},{"$f":"SQRT(POWER((VLOOKUP(N23,DEBUT!$D$5:$J$110,6,FALSE)-VLOOKUP(O23,DEBUT!$D$5:$J$110,6,FALSE)),2)+POWER((VLOOKUP(N23,DEBUT!$D$5:$J$110,7,FALSE)-VLOOKUP(O23,DEBUT!$D$5:$J$110,7,FALSE)),2))/CARTE!$O$9","v":0},{"$f":"SQRT(POWER((VLOOKUP(O23,DEBUT!$D$5:$J$110,6,FALSE)-VLOOKUP(P23,DEBUT!$D$5:$J$110,6,FALSE)),2)+POWER((VLOOKUP(O23,DEBUT!$D$5:$J$110,7,FALSE)-VLOOKUP(P23,DEBUT!$D$5:$J$110,7,FALSE)),2))/CARTE!$O$9","v":0},{"$f":"SQRT(POWER((VLOOKUP(P23,DEBUT!$D$5:$J$110,6,FALSE)-VLOOKUP(Q23,DEBUT!$D$5:$J$110,6,FALSE)),2)+POWER((VLOOKUP(P23,DEBUT!$D$5:$J$110,7,FALSE)-VLOOKUP(Q23,DEBUT!$D$5:$J$110,7,FALSE)),2))/CARTE!$O$9","v":0},{"$f":"SQRT(POWER((VLOOKUP(Q23,DEBUT!$D$5:$J$110,6,FALSE)-VLOOKUP(R23,DEBUT!$D$5:$J$110,6,FALSE)),2)+POWER((VLOOKUP(Q23,DEBUT!$D$5:$J$110,7,FALSE)-VLOOKUP(R23,DEBUT!$D$5:$J$110,7,FALSE)),2))/CARTE!$O$9","v":0},{"$f":"SQRT(POWER((VLOOKUP(R23,DEBUT!$D$5:$J$110,6,FALSE)-VLOOKUP(S23,DEBUT!$D$5:$J$110,6,FALSE)),2)+POWER((VLOOKUP(R23,DEBUT!$D$5:$J$110,7,FALSE)-VLOOKUP(S23,DEBUT!$D$5:$J$110,7,FALSE)),2))/CARTE!$O$9","v":0},{"$f":"SQRT(POWER((VLOOKUP(S23,DEBUT!$D$5:$J$110,6,FALSE)-VLOOKUP(T23,DEBUT!$D$5:$J$110,6,FALSE)),2)+POWER((VLOOKUP(S23,DEBUT!$D$5:$J$110,7,FALSE)-VLOOKUP(T23,DEBUT!$D$5:$J$110,7,FALSE)),2))/CARTE!$O$9","v":0},{"$f":"SQRT(POWER((VLOOKUP(T23,DEBUT!$D$5:$J$110,6,FALSE)-VLOOKUP(U23,DEBUT!$D$5:$J$110,6,FALSE)),2)+POWER((VLOOKUP(T23,DEBUT!$D$5:$J$110,7,FALSE)-VLOOKUP(U23,DEBUT!$D$5:$J$110,7,FALSE)),2))/CARTE!$O$9","v":0},{"$f":"SQRT(POWER((VLOOKUP(U23,DEBUT!$D$5:$J$110,6,FALSE)-VLOOKUP(V23,DEBUT!$D$5:$J$110,6,FALSE)),2)+POWER((VLOOKUP(U23,DEBUT!$D$5:$J$110,7,FALSE)-VLOOKUP(V23,DEBUT!$D$5:$J$110,7,FALSE)),2))/CARTE!$O$9","v":0},{"$f":"SQRT(POWER((VLOOKUP(V23,DEBUT!$D$5:$J$110,6,FALSE)-VLOOKUP(W23,DEBUT!$D$5:$J$110,6,FALSE)),2)+POWER((VLOOKUP(V23,DEBUT!$D$5:$J$110,7,FALSE)-VLOOKUP(W23,DEBUT!$D$5:$J$110,7,FALSE)),2))/CARTE!$O$9","v":0},{"$f":"SQRT(POWER((VLOOKUP(W23,DEBUT!$D$5:$J$110,6,FALSE)-VLOOKUP(X23,DEBUT!$D$5:$J$110,6,FALSE)),2)+POWER((VLOOKUP(W23,DEBUT!$D$5:$J$110,7,FALSE)-VLOOKUP(X23,DEBUT!$D$5:$J$110,7,FALSE)),2))/CARTE!$O$9","v":0},{"$f":"SQRT(POWER((VLOOKUP(X23,DEBUT!$D$5:$J$110,6,FALSE)-VLOOKUP(Y23,DEBUT!$D$5:$J$110,6,FALSE)),2)+POWER((VLOOKUP(X23,DEBUT!$D$5:$J$110,7,FALSE)-VLOOKUP(Y23,DEBUT!$D$5:$J$110,7,FALSE)),2))/CARTE!$O$9","v":0},{"$f":"SQRT(POWER((VLOOKUP(Y23,DEBUT!$D$5:$J$110,6,FALSE)-VLOOKUP(Z23,DEBUT!$D$5:$J$110,6,FALSE)),2)+POWER((VLOOKUP(Y23,DEBUT!$D$5:$J$110,7,FALSE)-VLOOKUP(Z23,DEBUT!$D$5:$J$110,7,FALSE)),2))/CARTE!$O$9","v":0},{"$f":"SQRT(POWER((VLOOKUP(Z23,DEBUT!$D$5:$J$110,6,FALSE)-VLOOKUP(AA23,DEBUT!$D$5:$J$110,6,FALSE)),2)+POWER((VLOOKUP(Z23,DEBUT!$D$5:$J$110,7,FALSE)-VLOOKUP(AA23,DEBUT!$D$5:$J$110,7,FALSE)),2))/CARTE!$O$9","v":0},{"$f":"SQRT(POWER((VLOOKUP(AA23,DEBUT!$D$5:$J$110,6,FALSE)-VLOOKUP(AB23,DEBUT!$D$5:$J$110,6,FALSE)),2)+POWER((VLOOKUP(AA23,DEBUT!$D$5:$J$110,7,FALSE)-VLOOKUP(AB23,DEBUT!$D$5:$J$110,7,FALSE)),2))/CARTE!$O$9","v":0},{"$f":"SQRT(POWER((VLOOKUP(AB23,DEBUT!$D$5:$J$110,6,FALSE)-VLOOKUP(AC23,DEBUT!$D$5:$J$110,6,FALSE)),2)+POWER((VLOOKUP(AB23,DEBUT!$D$5:$J$110,7,FALSE)-VLOOKUP(AC23,DEBUT!$D$5:$J$110,7,FALSE)),2))/CARTE!$O$9","v":0},{"$f":"SQRT(POWER((VLOOKUP(AC23,DEBUT!$D$5:$J$110,6,FALSE)-VLOOKUP(AD23,DEBUT!$D$5:$J$110,6,FALSE)),2)+POWER((VLOOKUP(AC23,DEBUT!$D$5:$J$110,7,FALSE)-VLOOKUP(AD23,DEBUT!$D$5:$J$110,7,FALSE)),2))/CARTE!$O$9","v":0},{"$f":"SQRT(POWER((VLOOKUP(AD23,DEBUT!$D$5:$J$110,6,FALSE)-VLOOKUP(AE23,DEBUT!$D$5:$J$110,6,FALSE)),2)+POWER((VLOOKUP(AD23,DEBUT!$D$5:$J$110,7,FALSE)-VLOOKUP(AE23,DEBUT!$D$5:$J$110,7,FALSE)),2))/CARTE!$O$9","v":{"$error":"#N/A"}},"Temps",{"$f":"IF(N19<0,CONCATENATE(\"-\",(MINUTE(M20)-MINUTE($M$2))),CONCATENATE(\"+\",(ABS(MINUTE(M20)-MINUTE($M$2)))))","v":"+23"},"minutes",null,null,null,null,17,"SEBASTIEN"]
[null,null,null,"Balises prévues",{"$f":"IF(ISTEXT($D21),HLOOKUP($D21,DEBUT!$O$3:$XX$100,3,FALSE),\"\")","v":"A"},{"$f":"IF(ISTEXT($D21),HLOOKUP($D21,DEBUT!$O$3:$XX$100,4,FALSE),\"\")","v":"B"},{"$f":"IF(ISTEXT($D21),HLOOKUP($D21,DEBUT!$O$3:$XX$100,5,FALSE),\"\")","v":"C"},{"$f":"IF(ISTEXT($D21),HLOOKUP($D21,DEBUT!$O$3:$XX$100,6,FALSE),\"\")","v":"D"},{"$f":"IF(ISTEXT($D21),HLOOKUP($D21,DEBUT!$O$3:$XX$100,7,FALSE),\"\")","v":"E"},{"$f":"IF(ISTEXT($D21),HLOOKUP($D21,DEBUT!$O$3:$XX$100,8,FALSE),\"\")","v":"F"},{"$f":"IF(ISTEXT($D21),HLOOKUP($D21,DEBUT!$O$3:$XX$100,9,FALSE),\"\")","v":"G"},{"$f":"IF(ISTEXT($D21),HLOOKUP($D21,DEBUT!$O$3:$XX$100,10,FALSE),\"\")","v":"H"},{"$f":"IF(ISTEXT($D21),HLOOKUP($D21,DEBUT!$O$3:$XX$100,11,FALSE),\"\")","v":"I"},{"$f":"IF(ISTEXT($D21),HLOOKUP($D21,DEBUT!$O$3:$XX$100,12,FALSE),\"\")","v":"J"},{"$f":"IF(ISTEXT($D21),HLOOKUP($D21,DEBUT!$O$3:$XX$100,13,FALSE),\"\")","v":"K"},{"$f":"IF(ISTEXT($D21),HLOOKUP($D21,DEBUT!$O$3:$XX$100,14,FALSE),\"\")","v":"L"},{"$f":"IF(ISTEXT($D21),HLOOKUP($D21,DEBUT!$O$3:$XX$100,15,FALSE),\"\")","v":"M"},{"$f":"IF(ISTEXT($D21),HLOOKUP($D21,DEBUT!$O$3:$XX$100,16,FALSE),\"\")","v":"N"},{"$f":"IF(ISTEXT($D21),HLOOKUP($D21,DEBUT!$O$3:$XX$100,17,FALSE),\"\")","v":"O"},{"$f":"IF(ISTEXT($D21),HLOOKUP($D21,DEBUT!$O$3:$XX$100,18,FALSE),\"\")","v":"P"},{"$f":"IF(ISTEXT($D21),HLOOKUP($D21,DEBUT!$O$3:$XX$100,19,FALSE),\"\")","v":"Q"},{"$f":"IF(ISTEXT($D21),HLOOKUP($D21,DEBUT!$O$3:$XX$100,20,FALSE),\"\")","v":"R"},{"$f":"IF(ISTEXT($D21),HLOOKUP($D21,DEBUT!$O$3:$XX$100,21,FALSE),\"\")","v":"S"},{"$f":"IF(ISTEXT($D21),HLOOKUP($D21,DEBUT!$O$3:$XX$100,22,FALSE),\"\")","v":"T"},{"$f":"IF(ISTEXT($D21),HLOOKUP($D21,DEBUT!$O$3:$XX$100,23,FALSE),\"\")","v":"U"},{"$f":"IF(ISTEXT($D21),HLOOKUP($D21,DEBUT!$O$3:$XX$100,24,FALSE),\"\")","v":"V"},{"$f":"IF(ISTEXT($D21),HLOOKUP($D21,DEBUT!$O$3:$XX$100,25,FALSE),\"\")","v":"W"},{"$f":"IF(ISTEXT($D21),HLOOKUP($D21,DEBUT!$O$3:$XX$100,26,FALSE),\"\")","v":"X"},{"$f":"IF(ISTEXT($D21),HLOOKUP($D21,DEBUT!$O$3:$XX$100,27,FALSE),\"\")","v":"Y"},{"$f":"IF(ISTEXT($D21),HLOOKUP($D21,DEBUT!$O$3:$XX$100,28,FALSE),\"\")","v":"Z"},null,null,null,null,null,null,null,18,"PASCAL"]
[null,null,null,"Vrai numéro des balises trouvées",null,null,null,null,null,null,null,null,null,null,null,null,null,null,null,null,null,null,null,null,null,null,null,null,null,null,"Nb balises trouvées",{"$f":"SUMPRODUCT(N(ISNUMBER(E23:AD23)))","v":0},"trouvées",null,null,null,null,19,"CAROLE"]
[null,null,null,"Balises CM",{"$f":"IFERROR(INDEX(baliseCM,MATCH(E22,lettre,0),MATCH($D20,parcours,0)),\"\")","v":12},{"$f":"IFERROR(INDEX(baliseCM,MATCH(F22,lettre,0),MATCH($D20,parcours,0)),\"\")","v":13},11,16,35,28,26,40,39,45,0,51,50,74,0,6,33,29,24,54,56,59,0,76,0,0,"Nombre balises justes",{"$f":"COUNTIF(E25:AD25,\">0\")","v":5},"justes",null,null,{"$f":"AF24","v":5},null,20,"ISABELLE"]
[null,null,null,"Points",{"$f":"IF(E24=E23,IFERROR(INDEX(baliseCM,MATCH(E22,lettre,0),MATCH($AK25,parcours,0)),\"\"),\"\")","v":""},"","","","","","","","","",3,"","","",3,"","","","","","","",3,"",3,3,"Points ",{"$f":"SUM(E25:AD25)","v":15},"pts",null,null,null,{"$f":"CONCATENATE(D21,\"points\")","v":"21Stevepoints"},21,"DAVID"]
[null,"EQUIPE 4",null,null,null,null,null,null,null,null,null,null,null,{"$f":"(HOUR(M27)*3600+MINUTE(M27)*60+SECOND(M27))-(HOUR($M$2)*3600+MINUTE($M$2)*60+SECOND($M$2))","v":29564},null,null,null,null,null,null,null,null,null,null,null,null,null,null,null,null,null,null,null,null,null,null,null,22,"FRANCOIS"]
[null,null,null,{"$f":"CONCATENATE(D28,\"bis\")","v":"21Stevebis"},"12:45:21",null,null,null,"21:05:05",null,"Durée :",null,{"$f":"I27-E27","v":"08:19:44"},null,null,null,null,null,null,null,null,null,null,null,null,null,null,null,null,null,"Classement points",{"$f":"RANK(AF31,AJ:AJ)","v":1},{"$f":"IF(AF27=1,\"er\",\"ème\")","v":"er"},null,null,null,null,23,"Mick"]
[null,null,null,{"$f":"$H$2","v":"21Steve"},{"$f":"SQRT(POWER((VLOOKUP(E30,DEBUT!$D$5:$J$110,6,FALSE)-VLOOKUP(F30,DEBUT!$D$5:$J$110,6,FALSE)),2)+POWER((VLOOKUP(E30,DEBUT!$D$5:$J$110,7,FALSE)-VLOOKUP(F30,DEBUT!$D$5:$J$110,7,FALSE)),2))/CARTE!$O$9","v":0},{"$f":"SQRT(POWER((VLOOKUP(F30,DEBUT!$D$5:$J$110,6,FALSE)-VLOOKUP(G30,DEBUT!$D$5:$J$110,6,FALSE)),2)+POWER((VLOOKUP(F30,DEBUT!$D$5:$J$110,7,FALSE)-VLOOKUP(G30,DEBUT!$D$5:$J$110,7,FALSE)),2))/CARTE!$O$9","v":0},{"$f":"SQRT(POWER((VLOOKUP(G30,DEBUT!$D$5:$J$110,6,FALSE)-VLOOKUP(H30,DEBUT!$D$5:$J$110,6,FALSE)),2)+POWER((VLOOKUP(G30,DEBUT!$D$5:$J$110,7,FALSE)-VLOOKUP(H30,DEBUT!$D$5:$J$110,7,FALSE)),2))/CARTE!$O$9","v":0},{"$f":"SQRT(POWER((VLOOKUP(H30,DEBUT!$D$5:$J$110,6,FALSE)-VLOOKUP(I30,DEBUT!$D$5:$J$110,6,FALSE)),2)+POWER((VLOOKUP(H30,DEBUT!$D$5:$J$110,7,FALSE)-VLOOKUP(I30,DEBUT!$D$5:$J$110,7,FALSE)),2))/CARTE!$O$9","v":0},{"$f":"SQRT(POWER((VLOOKUP(I30,DEBUT!$D$5:$J$110,6,FALSE)-VLOOKUP(J30,DEBUT!$D$5:$J$110,6,FALSE)),2)+POWER((VLOOKUP(I30,DEBUT!$D$5:$J$110,7,FALSE)-VLOOKUP(J30,DEBUT!$D$5:$J$110,7,FALSE)),2))/CARTE!$O$9","v":0},{"$f":"SQRT(POWER((VLOOKUP(J30,DEBUT!$D$5:$J$110,6,FALSE)-VLOOKUP(K30,DEBUT!$D$5:$J$110,6,FALSE)),2)+POWER((VLOOKUP(J30,DEBUT!$D$5:$J$110,7,FALSE)-VLOOKUP(K30,DEBUT!$D$5:$J$110,7,FALSE)),2))/CARTE!$O$9","v":0},{"$f":"SQRT(POWER((VLOOKUP(K30,DEBUT!$D$5:$J$110,6,FALSE)-VLOOKUP(L30,DEBUT!$D$5:$J$110,6,FALSE)),2)+POWER((VLOOKUP(K30,DEBUT!$D$5:$J$110,7,FALSE)-VLOOKUP(L30,DEBUT!$D$5:$J$110,7,FALSE)),2))/CARTE!$O$9","v":0},{"$f":"SQRT(POWER((VLOOKUP(L30,DEBUT!$D$5:$J$110,6,FALSE)-VLOOKUP(M30,DEBUT!$D$5:$J$110,6,FALSE)),2)+POWER((VLOOKUP(L30,DEBUT!$D$5:$J$110,7,FALSE)-VLOOKUP(M30,DEBUT!$D$5:$J$110,7,FALSE)),2))/CARTE!$O$9","v":0},{"$f":"SQRT(POWER((VLOOKUP(M30,DEBUT!$D$5:$J$110,6,FALSE)-VLOOKUP(N30,DEBUT!$D$5:$J$110,6,FALSE)),2)+POWER((VLOOKUP(M30,DEBUT!$D$5:$J$110,7,FALSE)-VLOOKUP(N30,DEBUT!$D$5:$J$110,7,FALSE)),2))/CARTE!$O$9","v":0},{"$f":"SQRT(POWER((VLOOKUP(N30,DEBUT!$D$5:$J$110,6,FALSE)-VLOOKUP(O30,DEBUT!$D$5:$J$110,6,FALSE)),2)+POWER((VLOOKUP(N30,DEBUT!$D$5:$J$110,7,FALSE)-VLOOKUP(O30,DEBUT!$D$5:$J$110,7,FALSE)),2))/CARTE!$O$9","v":0},{"$f":"SQRT(POWER((VLOOKUP(O30,DEBUT!$D$5:$J$110,6,FALSE)-VLOOKUP(P30,DEBUT!$D$5:$J$110,6,FALSE)),2)+POWER((VLOOKUP(O30,DEBUT!$D$5:$J$110,7,FALSE)-VLOOKUP(P30,DEBUT!$D$5:$J$110,7,FALSE)),2))/CARTE!$O$9","v":0},{"$f":"SQRT(POWER((VLOOKUP(P30,DEBUT!$D$5:$J$110,6,FALSE)-VLOOKUP(Q30,DEBUT!$D$5:$J$110,6,FALSE)),2)+POWER((VLOOKUP(P30,DEBUT!$D$5:$J$110,7,FALSE)-VLOOKUP(Q30,DEBUT!$D$5:$J$110,7,FALSE)),2))/CARTE!$O$9","v":0},{"$f":"SQRT(POWER((VLOOKUP(Q30,DEBUT!$D$5:$J$110,6,FALSE)-VLOOKUP(R30,DEBUT!$D$5:$J$110,6,FALSE)),2)+POWER((VLOOKUP(Q30,DEBUT!$D$5:$J$110,7,FALSE)-VLOOKUP(R30,DEBUT!$D$5:$J$110,7,FALSE)),2))/CARTE!$O$9","v":0},{"$f":"SQRT(POWER((VLOOKUP(R30,DEBUT!$D$5:$J$110,6,FALSE)-VLOOKUP(S30,DEBUT!$D$5:$J$110,6,FALSE)),2)+POWER((VLOOKUP(R30,DEBUT!$D$5:$J$110,7,FALSE)-VLOOKUP(S30,DEBUT!$D$5:$J$110,7,FALSE)),2))/CARTE!$O$9","v":0},{"$f":"SQRT(POWER((VLOOKUP(S30,DEBUT!$D$5:$J$110,6,FALSE)-VLOOKUP(T30,DEBUT!$D$5:$J$110,6,FALSE)),2)+POWER((VLOOKUP(S30,DEBUT!$D$5:$J$110,7,FALSE)-VLOOKUP(T30,DEBUT!$D$5:$J$110,7,FALSE)),2))/CARTE!$O$9","v":0},{"$f":"SQRT(POWER((VLOOKUP(T30,DEBUT!$D$5:$J$110,6,FALSE)-VLOOKUP(U30,DEBUT!$D$5:$J$110,6,FALSE)),2)+POWER((VLOOKUP(T30,DEBUT!$D$5:$J$110,7,FALSE)-VLOOKUP(U30,DEBUT!$D$5:$J$110,7,FALSE)),2))/CARTE!$O$9","v":0},{"$f":"SQRT(POWER((VLOOKUP(U30,DEBUT!$D$5:$J$110,6,FALSE)-VLOOKUP(V30,DEBUT!$D$5:$J$110,6,FALSE)),2)+POWER((VLOOKUP(U30,DEBUT!$D$5:$J$110,7,FALSE)-VLOOKUP(V30,DEBUT!$D$5:$J$110,7,FALSE)),2))/CARTE!$O$9","v":0},{"$f":"SQRT(POWER((VLOOKUP(V30,DEBUT!$D$5:$J$110,6,FALSE)-VLOOKUP(W30,DEBUT!$D$5:$J$110,6,FALSE)),2)+POWER((VLOOKUP(V30,DEBUT!$D$5:$J$110,7,FALSE)-VLOOKUP(W30,DEBUT!$D$5:$J$110,7,FALSE)),2))/CARTE!$O$9","v":0},{"$f":"SQRT(POWER((VLOOKUP(W30,DEBUT!$D$5:$J$110,6,FALSE)-VLOOKUP(X30,DEBUT!$D$5:$J$110,6,FALSE)),2)+POWER((VLOOKUP(W30,DEBUT!$D$5:$J$110,7,FALSE)-VLOOKUP(X30,DEBUT!$D$5:$J$110,7,FALSE)),2))/CARTE!$O$9","v":0},{"$f":"SQRT(POWER((VLOOKUP(X30,DEBUT!$D$5:$J$110,6,FALSE)-VLOOKUP(Y30,DEBUT!$D$5:$J$110,6,FALSE)),2)+POWER((VLOOKUP(X30,DEBUT!$D$5:$J$110,7,FALSE)-VLOOKUP(Y30,DEBUT!$D$5:$J$110,7,FALSE)),2))/CARTE!$O$9","v":0},{"$f":"SQRT(POWER((VLOOKUP(Y30,DEBUT!$D$5:$J$110,6,FALSE)-VLOOKUP(Z30,DEBUT!$D$5:$J$110,6,FALSE)),2)+POWER((VLOOKUP(Y30,DEBUT!$D$5:$J$110,7,FALSE)-VLOOKUP(Z30,DEBUT!$D$5:$J$110,7,FALSE)),2))/CARTE!$O$9","v":0},{"$f":"SQRT(POWER((VLOOKUP(Z30,DEBUT!$D$5:$J$110,6,FALSE)-VLOOKUP(AA30,DEBUT!$D$5:$J$110,6,FALSE)),2)+POWER((VLOOKUP(Z30,DEBUT!$D$5:$J$110,7,FALSE)-VLOOKUP(AA30,DEBUT!$D$5:$J$110,7,FALSE)),2))/CARTE!$O$9","v":0},{"$f":"SQRT(POWER((VLOOKUP(AA30,DEBUT!$D$5:$J$110,6,FALSE)-VLOOKUP(AB30,DEBUT!$D$5:$J$110,6,FALSE)),2)+POWER((VLOOKUP(AA30,DEBUT!$D$5:$J$110,7,FALSE)-VLOOKUP(AB30,DEBUT!$D$5:$J$110,7,FALSE)),2))/CARTE!$O$9","v":0},{"$f":"SQRT(POWER((VLOOKUP(AB30,DEBUT!$D$5:$J$110,6,FALSE)-VLOOKUP(AC30,DEBUT!$D$5:$J$110,6,FALSE)),2)+POWER((VLOOKUP(AB30,DEBUT!$D$5:$J$110,7,FALSE)-VLOOKUP(AC30,DEBUT!$D$5:$J$110,7,FALSE)),2))/CARTE!$O$9","v":0},{"$f":"SQRT(POWER((VLOOKUP(AC30,DEBUT!$D$5:$J$110,6,FALSE)-VLOOKUP(AD30,DEBUT!$D$5:$J$110,6,FALSE)),2)+POWER((VLOOKUP(AC30,DEBUT!$D$5:$J$110,7,FALSE)-VLOOKUP(AD30,DEBUT!$D$5:$J$110,7,FALSE)),2))/CARTE!$O$9","v":0},{"$f":"SQRT(POWER((VLOOKUP(AD30,DEBUT!$D$5:$J$110,6,FALSE)-VLOOKUP(AE30,DEBUT!$D$5:$J$110,6,FALSE)),2)+POWER((VLOOKUP(AD30,DEBUT!$D$5:$J$110,7,FALSE)-VLOOKUP(AE30,DEBUT!$D$5:$J$110,7,FALSE)),2))/CARTE!$O$9","v":{"$error":"#N/A"}},"Temps",{"$f":"IF(N26<0,CONCATENATE(\"-\",(MINUTE(M27)-MINUTE($M$2))),CONCATENATE(\"+\",(ABS(MINUTE(M27)-MINUTE($M$2)))))","v":"+12"},"minutes",null,null,null,null,24,0]
[null,null,null,"Balises prévues",{"$f":"IF(ISTEXT($D28),HLOOKUP($D28,DEBUT!$O$3:$XX$100,3,FALSE),\"\")","v":"A"},{"$f":"IF(ISTEXT($D28),HLOOKUP($D28,DEBUT!$O$3:$XX$100,4,FALSE),\"\")","v":"B"},{"$f":"IF(ISTEXT($D28),HLOOKUP($D28,DEBUT!$O$3:$XX$100,5,FALSE),\"\")","v":"C"},{"$f":"IF(ISTEXT($D28),HLOOKUP($D28,DEBUT!$O$3:$XX$100,6,FALSE),\"\")","v":"D"},{"$f":"IF(ISTEXT($D28),HLOOKUP($D28,DEBUT!$O$3:$XX$100,7,FALSE),\"\")","v":"E"},{"$f":"IF(ISTEXT($D28),HLOOKUP($D28,DEBUT!$O$3:$XX$100,8,FALSE),\"\")","v":"F"},{"$f":"IF(ISTEXT($D28),HLOOKUP($D28,DEBUT!$O$3:$XX$100,9,FALSE),\"\")","v":"G"},{"$f":"IF(ISTEXT($D28),HLOOKUP($D28,DEBUT!$O$3:$XX$100,10,FALSE),\"\")","v":"H"},{"$f":"IF(ISTEXT($D28),HLOOKUP($D28,DEBUT!$O$3:$XX$100,11,FALSE),\"\")","v":"I"},{"$f":"IF(ISTEXT($D28),HLOOKUP($D28,DEBUT!$O$3:$XX$100,12,FALSE),\"\")","v":"J"},{"$f":"IF(ISTEXT($D28),HLOOKUP($D28,DEBUT!$O$3:$XX$100,13,FALSE),\"\")","v":"K"},{"$f":"IF(ISTEXT($D28),HLOOKUP($D28,DEBUT!$O$3:$XX$100,14,FALSE),\"\")","v":"L"},{"$f":"IF(ISTEXT($D28),HLOOKUP($D28,DEBUT!$O$3:$XX$100,15,FALSE),\"\")","v":"M"},{"$f":"IF(ISTEXT($D28),HLOOKUP($D28,DEBUT!$O$3:$XX$100,16,FALSE),\"\")","v":"N"},{"$f":"IF(ISTEXT($D28),HLOOKUP($D28,DEBUT!$O$3:$XX$100,17,FALSE),\"\")","v":"O"},{"$f":"IF(ISTEXT($D28),HLOOKUP($D28,DEBUT!$O$3:$XX$100,18,FALSE),\"\")","v":"P"},{"$f":"IF(ISTEXT($D28),HLOOKUP($D28,DEBUT!$O$3:$XX$100,19,FALSE),\"\")","v":"Q"},{"$f":"IF(ISTEXT($D28),HLOOKUP($D28,DEBUT!$O$3:$XX$100,20,FALSE),\"\")","v":"R"},{"$f":"IF(ISTEXT($D28),HLOOKUP($D28,DEBUT!$O$3:$XX$100,21,FALSE),\"\")","v":"S"},{"$f":"IF(ISTEXT($D28),HLOOKUP($D28,DEBUT!$O$3:$XX$100,22,FALSE),\"\")","v":"T"},{"$f":"IF(ISTEXT($D28),HLOOKUP($D28,DEBUT!$O$3:$XX$100,23,FALSE),\"\")","v":"U"},{"$f":"IF(ISTEXT($D28),HLOOKUP($D28,DEBUT!$O$3:$XX$100,24,FALSE),\"\")","v":"V"},{"$f":"IF(ISTEXT($D28),HLOOKUP($D28,DEBUT!$O$3:$XX$100,25,FALSE),\"\")","v":"W"},{"$f":"IF(ISTEXT($D28),HLOOKUP($D28,DEBUT!$O$3:$XX$100,26,FALSE),\"\")","v":"X"},{"$f":"IF(ISTEXT($D28),HLOOKUP($D28,DEBUT!$O$3:$XX$100,27,FALSE),\"\")","v":"Y"},{"$f":"IF(ISTEXT($D28),HLOOKUP($D28,DEBUT!$O$3:$XX$100,28,FALSE),\"\")","v":"Z"},null,null,null,null,null,null,null,25,0]
[null,null,null,"Vrai numéro des balises trouvées",null,null,null,null,null,null,null,null,null,null,null,null,null,null,null,null,null,null,null,null,null,null,null,null,null,null,"Nb balises trouvées",{"$f":"SUMPRODUCT(N(ISNUMBER(E30:AD30)))","v":0},"trouvées",null,null,null,null,26,0]
[null,null,null,"Balises CM",{"$f":"IFERROR(INDEX(baliseCM,MATCH(E29,lettre,0),MATCH($D27,parcours,0)),\"\")","v":12},{"$f":"IFERROR(INDEX(baliseCM,MATCH(F29,lettre,0),MATCH($D27,parcours,0)),\"\")","v":13},11,16,35,28,26,40,39,45,0,51,50,74,0,6,33,29,24,54,56,59,0,76,0,0,"Nombre balises justes",{"$f":"COUNTIF(E32:AD32,\">0\")","v":5},"justes",null,null,{"$f":"AF31","v":5},null,27,0]
[null,null,null,"Points",{"$f":"IF(E31=E30,IFERROR(INDEX(baliseCM,MATCH(E29,lettre,0),MATCH($AK32,parcours,0)),\"\"),\"\")","v":""},"","","","","","","","","",3,"","","",3,"","","","","","","",3,"",3,3,"Points ",{"$f":"SUM(E32:AD32)","v":15},"pts",null,null,null,{"$f":"CONCATENATE(D28,\"points\")","v":"21Stevepoints"},28,0]
[null,"EQUIPE 5",null,null,null,null,null,null,null,null,null,null,null,{"$f":"(HOUR(M34)*3600+MINUTE(M34)*60+SECOND(M34))-(HOUR($M$2)*3600+MINUTE($M$2)*60+SECOND($M$2))","v":29566},null,null,null,null,null,null,null,null,null,null,null,null,null,null,null,null,null,null,null,null,null,null,null,29,0]
[null,null,null,{"$f":"CONCATENATE(D35,\"bis\")","v":"21Stevebis"},"12:45:21",null,null,null,"21:05:07",null,"Durée :",null,{"$f":"I34-E34","v":"08:19:46"},null,null,null,null,null,null,null,null,null,null,null,null,null,null,null,null,null,"Classement points",{"$f":"RANK(AF38,AJ:AJ)","v":1},{"$f":"IF(AF34=1,\"er\",\"ème\")","v":"er"},null,null,null,null,30,0]
[null,null,null,{"$f":"$H$2","v":"21Steve"},{"$f":"SQRT(POWER((VLOOKUP(E37,DEBUT!$D$5:$J$110,6,FALSE)-VLOOKUP(F37,DEBUT!$D$5:$J$110,6,FALSE)),2)+POWER((VLOOKUP(E37,DEBUT!$D$5:$J$110,7,FALSE)-VLOOKUP(F37,DEBUT!$D$5:$J$110,7,FALSE)),2))/CARTE!$O$9","v":0},{"$f":"SQRT(POWER((VLOOKUP(F37,DEBUT!$D$5:$J$110,6,FALSE)-VLOOKUP(G37,DEBUT!$D$5:$J$110,6,FALSE)),2)+POWER((VLOOKUP(F37,DEBUT!$D$5:$J$110,7,FALSE)-VLOOKUP(G37,DEBUT!$D$5:$J$110,7,FALSE)),2))/CARTE!$O$9","v":0},{"$f":"SQRT(POWER((VLOOKUP(G37,DEBUT!$D$5:$J$110,6,FALSE)-VLOOKUP(H37,DEBUT!$D$5:$J$110,6,FALSE)),2)+POWER((VLOOKUP(G37,DEBUT!$D$5:$J$110,7,FALSE)-VLOOKUP(H37,DEBUT!$D$5:$J$110,7,FALSE)),2))/CARTE!$O$9","v":0},{"$f":"SQRT(POWER((VLOOKUP(H37,DEBUT!$D$5:$J$110,6,FALSE)-VLOOKUP(I37,DEBUT!$D$5:$J$110,6,FALSE)),2)+POWER((VLOOKUP(H37,DEBUT!$D$5:$J$110,7,FALSE)-VLOOKUP(I37,DEBUT!$D$5:$J$110,7,FALSE)),2))/CARTE!$O$9","v":0},{"$f":"SQRT(POWER((VLOOKUP(I37,DEBUT!$D$5:$J$110,6,FALSE)-VLOOKUP(J37,DEBUT!$D$5:$J$110,6,FALSE)),2)+POWER((VLOOKUP(I37,DEBUT!$D$5:$J$110,7,FALSE)-VLOOKUP(J37,DEBUT!$D$5:$J$110,7,FALSE)),2))/CARTE!$O$9","v":0},{"$f":"SQRT(POWER((VLOOKUP(J37,DEBUT!$D$5:$J$110,6,FALSE)-VLOOKUP(K37,DEBUT!$D$5:$J$110,6,FALSE)),2)+POWER((VLOOKUP(J37,DEBUT!$D$5:$J$110,7,FALSE)-VLOOKUP(K37,DEBUT!$D$5:$J$110,7,FALSE)),2))/CARTE!$O$9","v":0},{"$f":"SQRT(POWER((VLOOKUP(K37,DEBUT!$D$5:$J$110,6,FALSE)-VLOOKUP(L37,DEBUT!$D$5:$J$110,6,FALSE)),2)+POWER((VLOOKUP(K37,DEBUT!$D$5:$J$110,7,FALSE)-VLOOKUP(L37,DEBUT!$D$5:$J$110,7,FALSE)),2))/CARTE!$O$9","v":0},{"$f":"SQRT(POWER((VLOOKUP(L37,DEBUT!$D$5:$J$110,6,FALSE)-VLOOKUP(M37,DEBUT!$D$5:$J$110,6,FALSE)),2)+POWER((VLOOKUP(L37,DEBUT!$D$5:$J$110,7,FALSE)-VLOOKUP(M37,DEBUT!$D$5:$J$110,7,FALSE)),2))/CARTE!$O$9","v":0},{"$f":"SQRT(POWER((VLOOKUP(M37,DEBUT!$D$5:$J$110,6,FALSE)-VLOOKUP(N37,DEBUT!$D$5:$J$110,6,FALSE)),2)+POWER((VLOOKUP(M37,DEBUT!$D$5:$J$110,7,FALSE)-VLOOKUP(N37,DEBUT!$D$5:$J$110,7,FALSE)),2))/CARTE!$O$9","v":0},{"$f":"SQRT(POWER((VLOOKUP(N37,DEBUT!$D$5:$J$110,6,FALSE)-VLOOKUP(O37,DEBUT!$D$5:$J$110,6,FALSE)),2)+POWER((VLOOKUP(N37,DEBUT!$D$5:$J$110,7,FALSE)-VLOOKUP(O37,DEBUT!$D$5:$J$110,7,FALSE)),2))/CARTE!$O$9","v":0},{"$f":"SQRT(POWER((VLOOKUP(O37,DEBUT!$D$5:$J$110,6,FALSE)-VLOOKUP(P37,DEBUT!$D$5:$J$110,6,FALSE)),2)+POWER((VLOOKUP(O37,DEBUT!$D$5:$J$110,7,FALSE)-VLOOKUP(P37,DEBUT!$D$5:$J$110,7,FALSE)),2))/CARTE!$O$9","v":0},{"$f":"SQRT(POWER((VLOOKUP(P37,DEBUT!$D$5:$J$110,6,FALSE)-VLOOKUP(Q37,DEBUT!$D$5:$J$110,6,FALSE)),2)+POWER((VLOOKUP(P37,DEBUT!$D$5:$J$110,7,FALSE)-VLOOKUP(Q37,DEBUT!$D$5:$J$110,7,FALSE)),2))/CARTE!$O$9","v":0},{"$f":"SQRT(POWER((VLOOKUP(Q37,DEBUT!$D$5:$J$110,6,FALSE)-VLOOKUP(R37,DEBUT!$D$5:$J$110,6,FALSE)),2)+POWER((VLOOKUP(Q37,DEBUT!$D$5:$J$110,7,FALSE)-VLOOKUP(R37,DEBUT!$D$5:$J$110,7,FALSE)),2))/CARTE!$O$9","v":0},{"$f":"SQRT(POWER((VLOOKUP(R37,DEBUT!$D$5:$J$110,6,FALSE)-VLOOKUP(S37,DEBUT!$D$5:$J$110,6,FALSE)),2)+POWER((VLOOKUP(R37,DEBUT!$D$5:$J$110,7,FALSE)-VLOOKUP(S37,DEBUT!$D$5:$J$110,7,FALSE)),2))/CARTE!$O$9","v":0},{"$f":"SQRT(POWER((VLOOKUP(S37,DEBUT!$D$5:$J$110,6,FALSE)-VLOOKUP(T37,DEBUT!$D$5:$J$110,6,FALSE)),2)+POWER((VLOOKUP(S37,DEBUT!$D$5:$J$110,7,FALSE)-VLOOKUP(T37,DEBUT!$D$5:$J$110,7,FALSE)),2))/CARTE!$O$9","v":0},{"$f":"SQRT(POWER((VLOOKUP(T37,DEBUT!$D$5:$J$110,6,FALSE)-VLOOKUP(U37,DEBUT!$D$5:$J$110,6,FALSE)),2)+POWER((VLOOKUP(T37,DEBUT!$D$5:$J$110,7,FALSE)-VLOOKUP(U37,DEBUT!$D$5:$J$110,7,FALSE)),2))/CARTE!$O$9","v":0},{"$f":"SQRT(POWER((VLOOKUP(U37,DEBUT!$D$5:$J$110,6,FALSE)-VLOOKUP(V37,DEBUT!$D$5:$J$110,6,FALSE)),2)+POWER((VLOOKUP(U37,DEBUT!$D$5:$J$110,7,FALSE)-VLOOKUP(V37,DEBUT!$D$5:$J$110,7,FALSE)),2))/CARTE!$O$9","v":0},{"$f":"SQRT(POWER((VLOOKUP(V37,DEBUT!$D$5:$J$110,6,FALSE)-VLOOKUP(W37,DEBUT!$D$5:$J$110,6,FALSE)),2)+POWER((VLOOKUP(V37,DEBUT!$D$5:$J$110,7,FALSE)-VLOOKUP(W37,DEBUT!$D$5:$J$110,7,FALSE)),2))/CARTE!$O$9","v":0},{"$f":"SQRT(POWER((VLOOKUP(W37,DEBUT!$D$5:$J$110,6,FALSE)-VLOOKUP(X37,DEBUT!$D$5:$J$110,6,FALSE)),2)+POWER((VLOOKUP(W37,DEBUT!$D$5:$J$110,7,FALSE)-VLOOKUP(X37,DEBUT!$D$5:$J$110,7,FALSE)),2))/CARTE!$O$9","v":0},{"$f":"SQRT(POWER((VLOOKUP(X37,DEBUT!$D$5:$J$110,6,FALSE)-VLOOKUP(Y37,DEBUT!$D$5:$J$110,6,FALSE)),2)+POWER((VLOOKUP(X37,DEBUT!$D$5:$J$110,7,FALSE)-VLOOKUP(Y37,DEBUT!$D$5:$J$110,7,FALSE)),2))/CARTE!$O$9","v":0},{"$f":"SQRT(POWER((VLOOKUP(Y37,DEBUT!$D$5:$J$110,6,FALSE)-VLOOKUP(Z37,DEBUT!$D$5:$J$110,6,FALSE)),2)+POWER((VLOOKUP(Y37,DEBUT!$D$5:$J$110,7,FALSE)-VLOOKUP(Z37,DEBUT!$D$5:$J$110,7,FALSE)),2))/CARTE!$O$9","v":0},{"$f":"SQRT(POWER((VLOOKUP(Z37,DEBUT!$D$5:$J$110,6,FALSE)-VLOOKUP(AA37,DEBUT!$D$5:$J$110,6,FALSE)),2)+POWER((VLOOKUP(Z37,DEBUT!$D$5:$J$110,7,FALSE)-VLOOKUP(AA37,DEBUT!$D$5:$J$110,7,FALSE)),2))/CARTE!$O$9","v":0},{"$f":"SQRT(POWER((VLOOKUP(AA37,DEBUT!$D$5:$J$110,6,FALSE)-VLOOKUP(AB37,DEBUT!$D$5:$J$110,6,FALSE)),2)+POWER((VLOOKUP(AA37,DEBUT!$D$5:$J$110,7,FALSE)-VLOOKUP(AB37,DEBUT!$D$5:$J$110,7,FALSE)),2))/CARTE!$O$9","v":0},{"$f":"SQRT(POWER((VLOOKUP(AB37,DEBUT!$D$5:$J$110,6,FALSE)-VLOOKUP(AC37,DEBUT!$D$5:$J$110,6,FALSE)),2)+POWER((VLOOKUP(AB37,DEBUT!$D$5:$J$110,7,FALSE)-VLOOKUP(AC37,DEBUT!$D$5:$J$110,7,FALSE)),2))/CARTE!$O$9","v":0},{"$f":"SQRT(POWER((VLOOKUP(AC37,DEBUT!$D$5:$J$110,6,FALSE)-VLOOKUP(AD37,DEBUT!$D$5:$J$110,6,FALSE)),2)+POWER((VLOOKUP(AC37,DEBUT!$D$5:$J$110,7,FALSE)-VLOOKUP(AD37,DEBUT!$D$5:$J$110,7,FALSE)),2))/CARTE!$O$9","v":0},{"$f":"SQRT(POWER((VLOOKUP(AD37,DEBUT!$D$5:$J$110,6,FALSE)-VLOOKUP(AE37,DEBUT!$D$5:$J$110,6,FALSE)),2)+POWER((VLOOKUP(AD37,DEBUT!$D$5:$J$110,7,FALSE)-VLOOKUP(AE37,DEBUT!$D$5:$J$110,7,FALSE)),2))/CARTE!$O$9","v":{"$error":"#N/A"}},"Temps",{"$f":"IF(N33<0,CONCATENATE(\"-\",(MINUTE(M34)-MINUTE($M$2))),CONCATENATE(\"+\",(ABS(MINUTE(M34)-MINUTE($M$2)))))","v":"+12"},"minutes",null,null,null,null,31,0]
[null,null,null,"Balises prévues",{"$f":"IF(ISTEXT($D35),HLOOKUP($D35,DEBUT!$O$3:$XX$100,3,FALSE),\"\")","v":"A"},{"$f":"IF(ISTEXT($D35),HLOOKUP($D35,DEBUT!$O$3:$XX$100,4,FALSE),\"\")","v":"B"},{"$f":"IF(ISTEXT($D35),HLOOKUP($D35,DEBUT!$O$3:$XX$100,5,FALSE),\"\")","v":"C"},{"$f":"IF(ISTEXT($D35),HLOOKUP($D35,DEBUT!$O$3:$XX$100,6,FALSE),\"\")","v":"D"},{"$f":"IF(ISTEXT($D35),HLOOKUP($D35,DEBUT!$O$3:$XX$100,7,FALSE),\"\")","v":"E"},{"$f":"IF(ISTEXT($D35),HLOOKUP($D35,DEBUT!$O$3:$XX$100,8,FALSE),\"\")","v":"F"},{"$f":"IF(ISTEXT($D35),HLOOKUP($D35,DEBUT!$O$3:$XX$100,9,FALSE),\"\")","v":"G"},{"$f":"IF(ISTEXT($D35),HLOOKUP($D35,DEBUT!$O$3:$XX$100,10,FALSE),\"\")","v":"H"},{"$f":"IF(ISTEXT($D35),HLOOKUP($D35,DEBUT!$O$3:$XX$100,11,FALSE),\"\")","v":"I"},{"$f":"IF(ISTEXT($D35),HLOOKUP($D35,DEBUT!$O$3:$XX$100,12,FALSE),\"\")","v":"J"},{"$f":"IF(ISTEXT($D35),HLOOKUP($D35,DEBUT!$O$3:$XX$100,13,FALSE),\"\")","v":"K"},{"$f":"IF(ISTEXT($D35),HLOOKUP($D35,DEBUT!$O$3:$XX$100,14,FALSE),\"\")","v":"L"},{"$f":"IF(ISTEXT($D35),HLOOKUP($D35,DEBUT!$O$3:$XX$100,15,FALSE),\"\")","v":"M"},{"$f":"IF(ISTEXT($D35),HLOOKUP($D35,DEBUT!$O$3:$XX$100,16,FALSE),\"\")","v":"N"},{"$f":"IF(ISTEXT($D35),HLOOKUP($D35,DEBUT!$O$3:$XX$100,17,FALSE),\"\")","v":"O"},{"$f":"IF(ISTEXT($D35),HLOOKUP($D35,DEBUT!$O$3:$XX$100,18,FALSE),\"\")","v":"P"},{"$f":"IF(ISTEXT($D35),HLOOKUP($D35,DEBUT!$O$3:$XX$100,19,FALSE),\"\")","v":"Q"},{"$f":"IF(ISTEXT($D35),HLOOKUP($D35,DEBUT!$O$3:$XX$100,20,FALSE),\"\")","v":"R"},{"$f":"IF(ISTEXT($D35),HLOOKUP($D35,DEBUT!$O$3:$XX$100,21,FALSE),\"\")","v":"S"},{"$f":"IF(ISTEXT($D35),HLOOKUP($D35,DEBUT!$O$3:$XX$100,22,FALSE),\"\")","v":"T"},{"$f":"IF(ISTEXT($D35),HLOOKUP($D35,DEBUT!$O$3:$XX$100,23,FALSE),\"\")","v":"U"},{"$f":"IF(ISTEXT($D35),HLOOKUP($D35,DEBUT!$O$3:$XX$100,24,FALSE),\"\")","v":"V"},{"$f":"IF(ISTEXT($D35),HLOOKUP($D35,DEBUT!$O$3:$XX$100,25,FALSE),\"\")","v":"W"},{"$f":"IF(ISTEXT($D35),HLOOKUP($D35,DEBUT!$O$3:$XX$100,26,FALSE),\"\")","v":"X"},{"$f":"IF(ISTEXT($D35),HLOOKUP($D35,DEBUT!$O$3:$XX$100,27,FALSE),\"\")","v":"Y"},{"$f":"IF(ISTEXT($D35),HLOOKUP($D35,DEBUT!$O$3:$XX$100,28,FALSE),\"\")","v":"Z"},null,null,null,null,null,null,null,32,0]
[null,null,null,"Vrai numéro des balises trouvées",null,null,null,null,null,null,null,null,null,null,null,null,null,null,null,null,null,null,null,null,null,null,null,null,null,null,"Nb balises trouvées",{"$f":"SUMPRODUCT(N(ISNUMBER(E37:AD37)))","v":0},"trouvées",null,null,null,null,33,0]
[null,null,null,"Balises CM",{"$f":"IFERROR(INDEX(baliseCM,MATCH(E36,lettre,0),MATCH($D34,parcours,0)),\"\")","v":12},{"$f":"IFERROR(INDEX(baliseCM,MATCH(F36,lettre,0),MATCH($D34,parcours,0)),\"\")","v":13},11,16,35,28,26,40,39,45,0,51,50,74,0,6,33,29,24,54,56,59,0,76,0,0,"Nombre balises justes",{"$f":"COUNTIF(E39:AD39,\">0\")","v":5},"justes",null,null,{"$f":"AF38","v":5},null,34,0]
[null,null,null,"Points",{"$f":"IF(E38=E37,IFERROR(INDEX(baliseCM,MATCH(E36,lettre,0),MATCH($AK39,parcours,0)),\"\"),\"\")","v":""},"","","","","","","","","",3,"","","",3,"","","","","","","",3,"",3,3,"Points ",{"$f":"SUM(E39:AD39)","v":15},"pts",null,null,null,{"$f":"CONCATENATE(D35,\"points\")","v":"21Stevepoints"},35,0]
[null,"EQUIPE 6",null,null,null,null,null,null,null,null,null,null,null,{"$f":"(HOUR(M41)*3600+MINUTE(M41)*60+SECOND(M41))-(HOUR($M$2)*3600+MINUTE($M$2)*60+SECOND($M$2))","v":{"$error":"#NUM!"}},null,null,null,null,null,null,null,null,null,null,null,null,null,null,null,null,null,null,null,null,null,null,null,36,0]
[null,null,null,{"$f":"CONCATENATE(D42,\"bis\")","v":"21Stevebis"},"12:45:22",null,null,null,null,null,"Durée :",null,{"$f":"I41-E41","v":-0.53150462962962963},null,null,null,null,null,null,null,null,null,null,null,null,null,null,null,null,null,"Classement points",{"$f":"RANK(AF45,AJ:AJ)","v":1},{"$f":"IF(AF41=1,\"er\",\"ème\")","v":"er"}]
[null,null,null,{"$f":"$H$2","v":"21Steve"},{"$f":"SQRT(POWER((VLOOKUP(E44,DEBUT!$D$5:$J$110,6,FALSE)-VLOOKUP(F44,DEBUT!$D$5:$J$110,6,FALSE)),2)+POWER((VLOOKUP(E44,DEBUT!$D$5:$J$110,7,FALSE)-VLOOKUP(F44,DEBUT!$D$5:$J$110,7,FALSE)),2))/CARTE!$O$9","v":0},{"$f":"SQRT(POWER((VLOOKUP(F44,DEBUT!$D$5:$J$110,6,FALSE)-VLOOKUP(G44,DEBUT!$D$5:$J$110,6,FALSE)),2)+POWER((VLOOKUP(F44,DEBUT!$D$5:$J$110,7,FALSE)-VLOOKUP(G44,DEBUT!$D$5:$J$110,7,FALSE)),2))/CARTE!$O$9","v":0},{"$f":"SQRT(POWER((VLOOKUP(G44,DEBUT!$D$5:$J$110,6,FALSE)-VLOOKUP(H44,DEBUT!$D$5:$J$110,6,FALSE)),2)+POWER((VLOOKUP(G44,DEBUT!$D$5:$J$110,7,FALSE)-VLOOKUP(H44,DEBUT!$D$5:$J$110,7,FALSE)),2))/CARTE!$O$9","v":0},{"$f":"SQRT(POWER((VLOOKUP(H44,DEBUT!$D$5:$J$110,6,FALSE)-VLOOKUP(I44,DEBUT!$D$5:$J$110,6,FALSE)),2)+POWER((VLOOKUP(H44,DEBUT!$D$5:$J$110,7,FALSE)-VLOOKUP(I44,DEBUT!$D$5:$J$110,7,FALSE)),2))/CARTE!$O$9","v":0},{"$f":"SQRT(POWER((VLOOKUP(I44,DEBUT!$D$5:$J$110,6,FALSE)-VLOOKUP(J44,DEBUT!$D$5:$J$110,6,FALSE)),2)+POWER((VLOOKUP(I44,DEBUT!$D$5:$J$110,7,FALSE)-VLOOKUP(J44,DEBUT!$D$5:$J$110,7,FALSE)),2))/CARTE!$O$9","v":0},{"$f":"SQRT(POWER((VLOOKUP(J44,DEBUT!$D$5:$J$110,6,FALSE)-VLOOKUP(K44,DEBUT!$D$5:$J$110,6,FALSE)),2)+POWER((VLOOKUP(J44,DEBUT!$D$5:$J$110,7,FALSE)-VLOOKUP(K44,DEBUT!$D$5:$J$110,7,FALSE)),2))/CARTE!$O$9","v":0},{"$f":"SQRT(POWER((VLOOKUP(K44,DEBUT!$D$5:$J$110,6,FALSE)-VLOOKUP(L44,DEBUT!$D$5:$J$110,6,FALSE)),2)+POWER((VLOOKUP(K44,DEBUT!$D$5:$J$110,7,FALSE)-VLOOKUP(L44,DEBUT!$D$5:$J$110,7,FALSE)),2))/CARTE!$O$9","v":0},{"$f":"SQRT(POWER((VLOOKUP(L44,DEBUT!$D$5:$J$110,6,FALSE)-VLOOKUP(M44,DEBUT!$D$5:$J$110,6,FALSE)),2)+POWER((VLOOKUP(L44,DEBUT!$D$5:$J$110,7,FALSE)-VLOOKUP(M44,DEBUT!$D$5:$J$110,7,FALSE)),2))/CARTE!$O$9","v":0},{"$f":"SQRT(POWER((VLOOKUP(M44,DEBUT!$D$5:$J$110,6,FALSE)-VLOOKUP(N44,DEBUT!$D$5:$J$110,6,FALSE)),2)+POWER((VLOOKUP(M44,DEBUT!$D$5:$J$110,7,FALSE)-VLOOKUP(N44,DEBUT!$D$5:$J$110,7,FALSE)),2))/CARTE!$O$9","v":0},{"$f":"SQRT(POWER((VLOOKUP(N44,DEBUT!$D$5:$J$110,6,FALSE)-VLOOKUP(O44,DEBUT!$D$5:$J$110,6,FALSE)),2)+POWER((VLOOKUP(N44,DEBUT!$D$5:$J$110,7,FALSE)-VLOOKUP(O44,DEBUT!$D$5:$J$110,7,FALSE)),2))/CARTE!$O$9","v":0},{"$f":"SQRT(POWER((VLOOKUP(O44,DEBUT!$D$5:$J$110,6,FALSE)-VLOOKUP(P44,DEBUT!$D$5:$J$110,6,FALSE)),2)+POWER((VLOOKUP(O44,DEBUT!$D$5:$J$110,7,FALSE)-VLOOKUP(P44,DEBUT!$D$5:$J$110,7,FALSE)),2))/CARTE!$O$9","v":0},{"$f":"SQRT(POWER((VLOOKUP(P44,DEBUT!$D$5:$J$110,6,FALSE)-VLOOKUP(Q44,DEBUT!$D$5:$J$110,6,FALSE)),2)+POWER((VLOOKUP(P44,DEBUT!$D$5:$J$110,7,FALSE)-VLOOKUP(Q44,DEBUT!$D$5:$J$110,7,FALSE)),2))/CARTE!$O$9","v":0},{"$f":"SQRT(POWER((VLOOKUP(Q44,DEBUT!$D$5:$J$110,6,FALSE)-VLOOKUP(R44,DEBUT!$D$5:$J$110,6,FALSE)),2)+POWER((VLOOKUP(Q44,DEBUT!$D$5:$J$110,7,FALSE)-VLOOKUP(R44,DEBUT!$D$5:$J$110,7,FALSE)),2))/CARTE!$O$9","v":0},{"$f":"SQRT(POWER((VLOOKUP(R44,DEBUT!$D$5:$J$110,6,FALSE)-VLOOKUP(S44,DEBUT!$D$5:$J$110,6,FALSE)),2)+POWER((VLOOKUP(R44,DEBUT!$D$5:$J$110,7,FALSE)-VLOOKUP(S44,DEBUT!$D$5:$J$110,7,FALSE)),2))/CARTE!$O$9","v":0},{"$f":"SQRT(POWER((VLOOKUP(S44,DEBUT!$D$5:$J$110,6,FALSE)-VLOOKUP(T44,DEBUT!$D$5:$J$110,6,FALSE)),2)+POWER((VLOOKUP(S44,DEBUT!$D$5:$J$110,7,FALSE)-VLOOKUP(T44,DEBUT!$D$5:$J$110,7,FALSE)),2))/CARTE!$O$9","v":0},{"$f":"SQRT(POWER((VLOOKUP(T44,DEBUT!$D$5:$J$110,6,FALSE)-VLOOKUP(U44,DEBUT!$D$5:$J$110,6,FALSE)),2)+POWER((VLOOKUP(T44,DEBUT!$D$5:$J$110,7,FALSE)-VLOOKUP(U44,DEBUT!$D$5:$J$110,7,FALSE)),2))/CARTE!$O$9","v":0},{"$f":"SQRT(POWER((VLOOKUP(U44,DEBUT!$D$5:$J$110,6,FALSE)-VLOOKUP(V44,DEBUT!$D$5:$J$110,6,FALSE)),2)+POWER((VLOOKUP(U44,DEBUT!$D$5:$J$110,7,FALSE)-VLOOKUP(V44,DEBUT!$D$5:$J$110,7,FALSE)),2))/CARTE!$O$9","v":0},{"$f":"SQRT(POWER((VLOOKUP(V44,DEBUT!$D$5:$J$110,6,FALSE)-VLOOKUP(W44,DEBUT!$D$5:$J$110,6,FALSE)),2)+POWER((VLOOKUP(V44,DEBUT!$D$5:$J$110,7,FALSE)-VLOOKUP(W44,DEBUT!$D$5:$J$110,7,FALSE)),2))/CARTE!$O$9","v":0},{"$f":"SQRT(POWER((VLOOKUP(W44,DEBUT!$D$5:$J$110,6,FALSE)-VLOOKUP(X44,DEBUT!$D$5:$J$110,6,FALSE)),2)+POWER((VLOOKUP(W44,DEBUT!$D$5:$J$110,7,FALSE)-VLOOKUP(X44,DEBUT!$D$5:$J$110,7,FALSE)),2))/CARTE!$O$9","v":0},{"$f":"SQRT(POWER((VLOOKUP(X44,DEBUT!$D$5:$J$110,6,FALSE)-VLOOKUP(Y44,DEBUT!$D$5:$J$110,6,FALSE)),2)+POWER((VLOOKUP(X44,DEBUT!$D$5:$J$110,7,FALSE)-VLOOKUP(Y44,DEBUT!$D$5:$J$110,7,FALSE)),2))/CARTE!$O$9","v":0},{"$f":"SQRT(POWER((VLOOKUP(Y44,DEBUT!$D$5:$J$110,6,FALSE)-VLOOKUP(Z44,DEBUT!$D$5:$J$110,6,FALSE)),2)+POWER((VLOOKUP(Y44,DEBUT!$D$5:$J$110,7,FALSE)-VLOOKUP(Z44,DEBUT!$D$5:$J$110,7,FALSE)),2))/CARTE!$O$9","v":0},{"$f":"SQRT(POWER((VLOOKUP(Z44,DEBUT!$D$5:$J$110,6,FALSE)-VLOOKUP(AA44,DEBUT!$D$5:$J$110,6,FALSE)),2)+POWER((VLOOKUP(Z44,DEBUT!$D$5:$J$110,7,FALSE)-VLOOKUP(AA44,DEBUT!$D$5:$J$110,7,FALSE)),2))/CARTE!$O$9","v":0},{"$f":"SQRT(POWER((VLOOKUP(AA44,DEBUT!$D$5:$J$110,6,FALSE)-VLOOKUP(AB44,DEBUT!$D$5:$J$110,6,FALSE)),2)+POWER((VLOOKUP(AA44,DEBUT!$D$5:$J$110,7,FALSE)-VLOOKUP(AB44,DEBUT!$D$5:$J$110,7,FALSE)),2))/CARTE!$O$9","v":0},{"$f":"SQRT(POWER((VLOOKUP(AB44,DEBUT!$D$5:$J$110,6,FALSE)-VLOOKUP(AC44,DEBUT!$D$5:$J$110,6,FALSE)),2)+POWER((VLOOKUP(AB44,DEBUT!$D$5:$J$110,7,FALSE)-VLOOKUP(AC44,DEBUT!$D$5:$J$110,7,FALSE)),2))/CARTE!$O$9","v":0},{"$f":"SQRT(POWER((VLOOKUP(AC44,DEBUT!$D$5:$J$110,6,FALSE)-VLOOKUP(AD44,DEBUT!$D$5:$J$110,6,FALSE)),2)+POWER((VLOOKUP(AC44,DEBUT!$D$5:$J$110,7,FALSE)-VLOOKUP(AD44,DEBUT!$D$5:$J$110,7,FALSE)),2))/CARTE!$O$9","v":0},{"$f":"SQRT(POWER((VLOOKUP(AD44,DEBUT!$D$5:$J$110,6,FALSE)-VLOOKUP(AE44,DEBUT!$D$5:$J$110,6,FALSE)),2)+POWER((VLOOKUP(AD44,DEBUT!$D$5:$J$110,7,FALSE)-VLOOKUP(AE44,DEBUT!$D$5:$J$110,7,FALSE)),2))/CARTE!$O$9","v":{"$error":"#N/A"}},"Temps",{"$f":"IF(N40<0,CONCATENATE(\"-\",(MINUTE(M41)-MINUTE($M$2))),CONCATENATE(\"+\",(ABS(MINUTE(M41)-MINUTE($M$2)))))","v":{"$error":"#NUM!"}},"minutes"]
[null,null,null,"Balises prévues",{"$f":"IF(ISTEXT($D42),HLOOKUP($D42,DEBUT!$O$3:$XX$100,3,FALSE),\"\")","v":"A"},{"$f":"IF(ISTEXT($D42),HLOOKUP($D42,DEBUT!$O$3:$XX$100,4,FALSE),\"\")","v":"B"},{"$f":"IF(ISTEXT($D42),HLOOKUP($D42,DEBUT!$O$3:$XX$100,5,FALSE),\"\")","v":"C"},{"$f":"IF(ISTEXT($D42),HLOOKUP($D42,DEBUT!$O$3:$XX$100,6,FALSE),\"\")","v":"D"},{"$f":"IF(ISTEXT($D42),HLOOKUP($D42,DEBUT!$O$3:$XX$100,7,FALSE),\"\")","v":"E"},{"$f":"IF(ISTEXT($D42),HLOOKUP($D42,DEBUT!$O$3:$XX$100,8,FALSE),\"\")","v":"F"},{"$f":"IF(ISTEXT($D42),HLOOKUP($D42,DEBUT!$O$3:$XX$100,9,FALSE),\"\")","v":"G"},{"$f":"IF(ISTEXT($D42),HLOOKUP($D42,DEBUT!$O$3:$XX$100,10,FALSE),\"\")","v":"H"},{"$f":"IF(ISTEXT($D42),HLOOKUP($D42,DEBUT!$O$3:$XX$100,11,FALSE),\"\")","v":"I"},{"$f":"IF(ISTEXT($D42),HLOOKUP($D42,DEBUT!$O$3:$XX$100,12,FALSE),\"\")","v":"J"},{"$f":"IF(ISTEXT($D42),HLOOKUP($D42,DEBUT!$O$3:$XX$100,13,FALSE),\"\")","v":"K"},{"$f":"IF(ISTEXT($D42),HLOOKUP($D42,DEBUT!$O$3:$XX$100,14,FALSE),\"\")","v":"L"},{"$f":"IF(ISTEXT($D42),HLOOKUP($D42,DEBUT!$O$3:$XX$100,15,FALSE),\"\")","v":"M"},{"$f":"IF(ISTEXT($D42),HLOOKUP($D42,DEBUT!$O$3:$XX$100,16,FALSE),\"\")","v":"N"},{"$f":"IF(ISTEXT($D42),HLOOKUP($D42,DEBUT!$O$3:$XX$100,17,FALSE),\"\")","v":"O"},{"$f":"IF(ISTEXT($D42),HLOOKUP($D42,DEBUT!$O$3:$XX$100,18,FALSE),\"\")","v":"P"},{"$f":"IF(ISTEXT($D42),HLOOKUP($D42,DEBUT!$O$3:$XX$100,19,FALSE),\"\")","v":"Q"},{"$f":"IF(ISTEXT($D42),HLOOKUP($D42,DEBUT!$O$3:$XX$100,20,FALSE),\"\")","v":"R"},{"$f":"IF(ISTEXT($D42),HLOOKUP($D42,DEBUT!$O$3:$XX$100,21,FALSE),\"\")","v":"S"},{"$f":"IF(ISTEXT($D42),HLOOKUP($D42,DEBUT!$O$3:$XX$100,22,FALSE),\"\")","v":"T"},{"$f":"IF(ISTEXT($D42),HLOOKUP($D42,DEBUT!$O$3:$XX$100,23,FALSE),\"\")","v":"U"},{"$f":"IF(ISTEXT($D42),HLOOKUP($D42,DEBUT!$O$3:$XX$100,24,FALSE),\"\")","v":"V"},{"$f":"IF(ISTEXT($D42),HLOOKUP($D42,DEBUT!$O$3:$XX$100,25,FALSE),\"\")","v":"W"},{"$f":"IF(ISTEXT($D42),HLOOKUP($D42,DEBUT!$O$3:$XX$100,26,FALSE),\"\")","v":"X"},{"$f":"IF(ISTEXT($D42),HLOOKUP($D42,DEBUT!$O$3:$XX$100,27,FALSE),\"\")","v":"Y"},{"$f":"IF(ISTEXT($D42),HLOOKUP($D42,DEBUT!$O$3:$XX$100,28,FALSE),\"\")","v":"Z"}]
[null,null,null,"Vrai numéro des balises trouvées",null,null,null,null,null,null,null,null,null,null,null,null,null,null,null,null,null,null,null,null,null,null,null,null,null,null,"Nb balises trouvées",{"$f":"SUMPRODUCT(N(ISNUMBER(E44:AD44)))","v":0},"trouvées"]
[null,null,null,"Balises CM",{"$f":"IFERROR(INDEX(baliseCM,MATCH(E43,lettre,0),MATCH($D41,parcours,0)),\"\")","v":12},{"$f":"IFERROR(INDEX(baliseCM,MATCH(F43,lettre,0),MATCH($D41,parcours,0)),\"\")","v":13},11,16,35,28,26,40,39,45,0,51,50,74,0,6,33,29,24,54,56,59,0,76,0,0,"Nombre balises justes",{"$f":"COUNTIF(E46:AD46,\">0\")","v":5},"justes",null,null,{"$f":"AF45","v":5}]
[null,null,null,"Points",{"$f":"IF(E45=E44,IFERROR(INDEX(baliseCM,MATCH(E43,lettre,0),MATCH($AK46,parcours,0)),\"\"),\"\")","v":""},"","","","","","","","","",3,"","","",3,"","","","","","","",3,"",3,3,"Points ",{"$f":"SUM(E46:AD46)","v":15},"pts",null,null,null,{"$f":"CONCATENATE(D42,\"points\")","v":"21Stevepoints"}]
[null,"EQUIPE 7",null,null,null,null,null,null,null,null,null,null,null,{"$f":"(HOUR(M48)*3600+MINUTE(M48)*60+SECOND(M48))-(HOUR($M$2)*3600+MINUTE($M$2)*60+SECOND($M$2))","v":{"$error":"#NUM!"}}]
[null,null,null,{"$f":"CONCATENATE(D49,\"bis\")","v":"21Stevebis"},"12:45:22",null,null,null,null,null,"Durée :",null,{"$f":"I48-E48","v":-0.53150462962962963},null,null,null,null,null,null,null,null,null,null,null,null,null,null,null,null,null,"Classement points",{"$f":"RANK(AF52,AJ:AJ)","v":1},{"$f":"IF(AF48=1,\"er\",\"ème\")","v":"er"}]
[null,null,null,{"$f":"$H$2","v":"21Steve"},{"$f":"SQRT(POWER((VLOOKUP(E51,DEBUT!$D$5:$J$110,6,FALSE)-VLOOKUP(F51,DEBUT!$D$5:$J$110,6,FALSE)),2)+POWER((VLOOKUP(E51,DEBUT!$D$5:$J$110,7,FALSE)-VLOOKUP(F51,DEBUT!$D$5:$J$110,7,FALSE)),2))/CARTE!$O$9","v":0},{"$f":"SQRT(POWER((VLOOKUP(F51,DEBUT!$D$5:$J$110,6,FALSE)-VLOOKUP(G51,DEBUT!$D$5:$J$110,6,FALSE)),2)+POWER((VLOOKUP(F51,DEBUT!$D$5:$J$110,7,FALSE)-VLOOKUP(G51,DEBUT!$D$5:$J$110,7,FALSE)),2))/CARTE!$O$9","v":0},{"$f":"SQRT(POWER((VLOOKUP(G51,DEBUT!$D$5:$J$110,6,FALSE)-VLOOKUP(H51,DEBUT!$D$5:$J$110,6,FALSE)),2)+POWER((VLOOKUP(G51,DEBUT!$D$5:$J$110,7,FALSE)-VLOOKUP(H51,DEBUT!$D$5:$J$110,7,FALSE)),2))/CARTE!$O$9","v":0},{"$f":"SQRT(POWER((VLOOKUP(H51,DEBUT!$D$5:$J$110,6,FALSE)-VLOOKUP(I51,DEBUT!$D$5:$J$110,6,FALSE)),2)+POWER((VLOOKUP(H51,DEBUT!$D$5:$J$110,7,FALSE)-VLOOKUP(I51,DEBUT!$D$5:$J$110,7,FALSE)),2))/CARTE!$O$9","v":0},{"$f":"SQRT(POWER((VLOOKUP(I51,DEBUT!$D$5:$J$110,6,FALSE)-VLOOKUP(J51,DEBUT!$D$5:$J$110,6,FALSE)),2)+POWER((VLOOKUP(I51,DEBUT!$D$5:$J$110,7,FALSE)-VLOOKUP(J51,DEBUT!$D$5:$J$110,7,FALSE)),2))/CARTE!$O$9","v":0},{"$f":"SQRT(POWER((VLOOKUP(J51,DEBUT!$D$5:$J$110,6,FALSE)-VLOOKUP(K51,DEBUT!$D$5:$J$110,6,FALSE)),2)+POWER((VLOOKUP(J51,DEBUT!$D$5:$J$110,7,FALSE)-VLOOKUP(K51,DEBUT!$D$5:$J$110,7,FALSE)),2))/CARTE!$O$9","v":0},{"$f":"SQRT(POWER((VLOOKUP(K51,DEBUT!$D$5:$J$110,6,FALSE)-VLOOKUP(L51,DEBUT!$D$5:$J$110,6,FALSE)),2)+POWER((VLOOKUP(K51,DEBUT!$D$5:$J$110,7,FALSE)-VLOOKUP(L51,DEBUT!$D$5:$J$110,7,FALSE)),2))/CARTE!$O$9","v":0},{"$f":"SQRT(POWER((VLOOKUP(L51,DEBUT!$D$5:$J$110,6,FALSE)-VLOOKUP(M51,DEBUT!$D$5:$J$110,6,FALSE)),2)+POWER((VLOOKUP(L51,DEBUT!$D$5:$J$110,7,FALSE)-VLOOKUP(M51,DEBUT!$D$5:$J$110,7,FALSE)),2))/CARTE!$O$9","v":0},{"$f":"SQRT(POWER((VLOOKUP(M51,DEBUT!$D$5:$J$110,6,FALSE)-VLOOKUP(N51,DEBUT!$D$5:$J$110,6,FALSE)),2)+POWER((VLOOKUP(M51,DEBUT!$D$5:$J$110,7,FALSE)-VLOOKUP(N51,DEBUT!$D$5:$J$110,7,FALSE)),2))/CARTE!$O$9","v":0},{"$f":"SQRT(POWER((VLOOKUP(N51,DEBUT!$D$5:$J$110,6,FALSE)-VLOOKUP(O51,DEBUT!$D$5:$J$110,6,FALSE)),2)+POWER((VLOOKUP(N51,DEBUT!$D$5:$J$110,7,FALSE)-VLOOKUP(O51,DEBUT!$D$5:$J$110,7,FALSE)),2))/CARTE!$O$9","v":0},{"$f":"SQRT(POWER((VLOOKUP(O51,DEBUT!$D$5:$J$110,6,FALSE)-VLOOKUP(P51,DEBUT!$D$5:$J$110,6,FALSE)),2)+POWER((VLOOKUP(O51,DEBUT!$D$5:$J$110,7,FALSE)-VLOOKUP(P51,DEBUT!$D$5:$J$110,7,FALSE)),2))/CARTE!$O$9","v":0},{"$f":"SQRT(POWER((VLOOKUP(P51,DEBUT!$D$5:$J$110,6,FALSE)-VLOOKUP(Q51,DEBUT!$D$5:$J$110,6,FALSE)),2)+POWER((VLOOKUP(P51,DEBUT!$D$5:$J$110,7,FALSE)-VLOOKUP(Q51,DEBUT!$D$5:$J$110,7,FALSE)),2))/CARTE!$O$9","v":0},{"$f":"SQRT(POWER((VLOOKUP(Q51,DEBUT!$D$5:$J$110,6,FALSE)-VLOOKUP(R51,DEBUT!$D$5:$J$110,6,FALSE)),2)+POWER((VLOOKUP(Q51,DEBUT!$D$5:$J$110,7,FALSE)-VLOOKUP(R51,DEBUT!$D$5:$J$110,7,FALSE)),2))/CARTE!$O$9","v":0},{"$f":"SQRT(POWER((VLOOKUP(R51,DEBUT!$D$5:$J$110,6,FALSE)-VLOOKUP(S51,DEBUT!$D$5:$J$110,6,FALSE)),2)+POWER((VLOOKUP(R51,DEBUT!$D$5:$J$110,7,FALSE)-VLOOKUP(S51,DEBUT!$D$5:$J$110,7,FALSE)),2))/CARTE!$O$9","v":0},{"$f":"SQRT(POWER((VLOOKUP(S51,DEBUT!$D$5:$J$110,6,FALSE)-VLOOKUP(T51,DEBUT!$D$5:$J$110,6,FALSE)),2)+POWER((VLOOKUP(S51,DEBUT!$D$5:$J$110,7,FALSE)-VLOOKUP(T51,DEBUT!$D$5:$J$110,7,FALSE)),2))/CARTE!$O$9","v":0},{"$f":"SQRT(POWER((VLOOKUP(T51,DEBUT!$D$5:$J$110,6,FALSE)-VLOOKUP(U51,DEBUT!$D$5:$J$110,6,FALSE)),2)+POWER((VLOOKUP(T51,DEBUT!$D$5:$J$110,7,FALSE)-VLOOKUP(U51,DEBUT!$D$5:$J$110,7,FALSE)),2))/CARTE!$O$9","v":0},{"$f":"SQRT(POWER((VLOOKUP(U51,DEBUT!$D$5:$J$110,6,FALSE)-VLOOKUP(V51,DEBUT!$D$5:$J$110,6,FALSE)),2)+POWER((VLOOKUP(U51,DEBUT!$D$5:$J$110,7,FALSE)-VLOOKUP(V51,DEBUT!$D$5:$J$110,7,FALSE)),2))/CARTE!$O$9","v":0},{"$f":"SQRT(POWER((VLOOKUP(V51,DEBUT!$D$5:$J$110,6,FALSE)-VLOOKUP(W51,DEBUT!$D$5:$J$110,6,FALSE)),2)+POWER((VLOOKUP(V51,DEBUT!$D$5:$J$110,7,FALSE)-VLOOKUP(W51,DEBUT!$D$5:$J$110,7,FALSE)),2))/CARTE!$O$9","v":0},{"$f":"SQRT(POWER((VLOOKUP(W51,DEBUT!$D$5:$J$110,6,FALSE)-VLOOKUP(X51,DEBUT!$D$5:$J$110,6,FALSE)),2)+POWER((VLOOKUP(W51,DEBUT!$D$5:$J$110,7,FALSE)-VLOOKUP(X51,DEBUT!$D$5:$J$110,7,FALSE)),2))/CARTE!$O$9","v":0},{"$f":"SQRT(POWER((VLOOKUP(X51,DEBUT!$D$5:$J$110,6,FALSE)-VLOOKUP(Y51,DEBUT!$D$5:$J$110,6,FALSE)),2)+POWER((VLOOKUP(X51,DEBUT!$D$5:$J$110,7,FALSE)-VLOOKUP(Y51,DEBUT!$D$5:$J$110,7,FALSE)),2))/CARTE!$O$9","v":0},{"$f":"SQRT(POWER((VLOOKUP(Y51,DEBUT!$D$5:$J$110,6,FALSE)-VLOOKUP(Z51,DEBUT!$D$5:$J$110,6,FALSE)),2)+POWER((VLOOKUP(Y51,DEBUT!$D$5:$J$110,7,FALSE)-VLOOKUP(Z51,DEBUT!$D$5:$J$110,7,FALSE)),2))/CARTE!$O$9","v":0},{"$f":"SQRT(POWER((VLOOKUP(Z51,DEBUT!$D$5:$J$110,6,FALSE)-VLOOKUP(AA51,DEBUT!$D$5:$J$110,6,FALSE)),2)+POWER((VLOOKUP(Z51,DEBUT!$D$5:$J$110,7,FALSE)-VLOOKUP(AA51,DEBUT!$D$5:$J$110,7,FALSE)),2))/CARTE!$O$9","v":0},{"$f":"SQRT(POWER((VLOOKUP(AA51,DEBUT!$D$5:$J$110,6,FALSE)-VLOOKUP(AB51,DEBUT!$D$5:$J$110,6,FALSE)),2)+POWER((VLOOKUP(AA51,DEBUT!$D$5:$J$110,7,FALSE)-VLOOKUP(AB51,DEBUT!$D$5:$J$110,7,FALSE)),2))/CARTE!$O$9","v":0},{"$f":"SQRT(POWER((VLOOKUP(AB51,DEBUT!$D$5:$J$110,6,FALSE)-VLOOKUP(AC51,DEBUT!$D$5:$J$110,6,FALSE)),2)+POWER((VLOOKUP(AB51,DEBUT!$D$5:$J$110,7,FALSE)-VLOOKUP(AC51,DEBUT!$D$5:$J$110,7,FALSE)),2))/CARTE!$O$9","v":0},{"$f":"SQRT(POWER((VLOOKUP(AC51,DEBUT!$D$5:$J$110,6,FALSE)-VLOOKUP(AD51,DEBUT!$D$5:$J$110,6,FALSE)),2)+POWER((VLOOKUP(AC51,DEBUT!$D$5:$J$110,7,FALSE)-VLOOKUP(AD51,DEBUT!$D$5:$J$110,7,FALSE)),2))/CARTE!$O$9","v":0},{"$f":"SQRT(POWER((VLOOKUP(AD51,DEBUT!$D$5:$J$110,6,FALSE)-VLOOKUP(AE51,DEBUT!$D$5:$J$110,6,FALSE)),2)+POWER((VLOOKUP(AD51,DEBUT!$D$5:$J$110,7,FALSE)-VLOOKUP(AE51,DEBUT!$D$5:$J$110,7,FALSE)),2))/CARTE!$O$9","v":{"$error":"#N/A"}},"Temps",{"$f":"IF(N47<0,CONCATENATE(\"-\",(MINUTE(M48)-MINUTE($M$2))),CONCATENATE(\"+\",(ABS(MINUTE(M48)-MINUTE($M$2)))))","v":{"$error":"#NUM!"}},"minutes"]
[null,null,null,"Balises prévues",{"$f":"IF(ISTEXT($D49),HLOOKUP($D49,DEBUT!$O$3:$XX$100,3,FALSE),\"\")","v":"A"},{"$f":"IF(ISTEXT($D49),HLOOKUP($D49,DEBUT!$O$3:$XX$100,4,FALSE),\"\")","v":"B"},{"$f":"IF(ISTEXT($D49),HLOOKUP($D49,DEBUT!$O$3:$XX$100,5,FALSE),\"\")","v":"C"},{"$f":"IF(ISTEXT($D49),HLOOKUP($D49,DEBUT!$O$3:$XX$100,6,FALSE),\"\")","v":"D"},{"$f":"IF(ISTEXT($D49),HLOOKUP($D49,DEBUT!$O$3:$XX$100,7,FALSE),\"\")","v":"E"},{"$f":"IF(ISTEXT($D49),HLOOKUP($D49,DEBUT!$O$3:$XX$100,8,FALSE),\"\")","v":"F"},{"$f":"IF(ISTEXT($D49),HLOOKUP($D49,DEBUT!$O$3:$XX$100,9,FALSE),\"\")","v":"G"},{"$f":"IF(ISTEXT($D49),HLOOKUP($D49,DEBUT!$O$3:$XX$100,10,FALSE),\"\")","v":"H"},{"$f":"IF(ISTEXT($D49),HLOOKUP($D49,DEBUT!$O$3:$XX$100,11,FALSE),\"\")","v":"I"},{"$f":"IF(ISTEXT($D49),HLOOKUP($D49,DEBUT!$O$3:$XX$100,12,FALSE),\"\")","v":"J"},{"$f":"IF(ISTEXT($D49),HLOOKUP($D49,DEBUT!$O$3:$XX$100,13,FALSE),\"\")","v":"K"},{"$f":"IF(ISTEXT($D49),HLOOKUP($D49,DEBUT!$O$3:$XX$100,14,FALSE),\"\")","v":"L"},{"$f":"IF(ISTEXT($D49),HLOOKUP($D49,DEBUT!$O$3:$XX$100,15,FALSE),\"\")","v":"M"},{"$f":"IF(ISTEXT($D49),HLOOKUP($D49,DEBUT!$O$3:$XX$100,16,FALSE),\"\")","v":"N"},{"$f":"IF(ISTEXT($D49),HLOOKUP($D49,DEBUT!$O$3:$XX$100,17,FALSE),\"\")","v":"O"},{"$f":"IF(ISTEXT($D49),HLOOKUP($D49,DEBUT!$O$3:$XX$100,18,FALSE),\"\")","v":"P"},{"$f":"IF(ISTEXT($D49),HLOOKUP($D49,DEBUT!$O$3:$XX$100,19,FALSE),\"\")","v":"Q"},{"$f":"IF(ISTEXT($D49),HLOOKUP($D49,DEBUT!$O$3:$XX$100,20,FALSE),\"\")","v":"R"},{"$f":"IF(ISTEXT($D49),HLOOKUP($D49,DEBUT!$O$3:$XX$100,21,FALSE),\"\")","v":"S"},{"$f":"IF(ISTEXT($D49),HLOOKUP($D49,DEBUT!$O$3:$XX$100,22,FALSE),\"\")","v":"T"},{"$f":"IF(ISTEXT($D49),HLOOKUP($D49,DEBUT!$O$3:$XX$100,23,FALSE),\"\")","v":"U"},{"$f":"IF(ISTEXT($D49),HLOOKUP($D49,DEBUT!$O$3:$XX$100,24,FALSE),\"\")","v":"V"},{"$f":"IF(ISTEXT($D49),HLOOKUP($D49,DEBUT!$O$3:$XX$100,25,FALSE),\"\")","v":"W"},{"$f":"IF(ISTEXT($D49),HLOOKUP($D49,DEBUT!$O$3:$XX$100,26,FALSE),\"\")","v":"X"},{"$f":"IF(ISTEXT($D49),HLOOKUP($D49,DEBUT!$O$3:$XX$100,27,FALSE),\"\")","v":"Y"},{"$f":"IF(ISTEXT($D49),HLOOKUP($D49,DEBUT!$O$3:$XX$100,28,FALSE),\"\")","v":"Z"}]
[null,null,null,"Vrai numéro des balises trouvées",null,null,null,null,null,null,null,null,null,null,null,null,null,null,null,null,null,null,null,null,null,null,null,null,null,null,"Nb balises trouvées",{"$f":"SUMPRODUCT(N(ISNUMBER(E51:AD51)))","v":0},"trouvées"]
[null,null,null,"Balises CM",{"$f":"IFERROR(INDEX(baliseCM,MATCH(E50,lettre,0),MATCH($D48,parcours,0)),\"\")","v":12},{"$f":"IFERROR(INDEX(baliseCM,MATCH(F50,lettre,0),MATCH($D48,parcours,0)),\"\")","v":13},11,16,35,28,26,40,39,45,0,51,50,74,0,6,33,29,24,54,56,59,0,76,0,0,"Nombre balises justes",{"$f":"COUNTIF(E53:AD53,\">0\")","v":5},"justes",null,null,{"$f":"AF52","v":5}]
[null,null,null,"Points",{"$f":"IF(E52=E51,IFERROR(INDEX(baliseCM,MATCH(E50,lettre,0),MATCH($AK53,parcours,0)),\"\"),\"\")","v":""},"","","","","","","","","",3,"","","",3,"","","","","","","",3,"",3,3,"Points ",{"$f":"SUM(E53:AD53)","v":15},"pts",null,null,null,{"$f":"CONCATENATE(D49,\"points\")","v":"21Stevepoints"}]
[null,"EQUIPE 8",null,null,null,null,null,null,null,null,null,null,null,{"$f":"(HOUR(M55)*3600+MINUTE(M55)*60+SECOND(M55))-(HOUR($M$2)*3600+MINUTE($M$2)*60+SECOND($M$2))","v":{"$error":"#NUM!"}}]
[null,null,null,{"$f":"CONCATENATE(D56,\"bis\")","v":"21Stevebis"},"12:45:22",null,null,null,null,null,"Durée :",null,{"$f":"I55-E55","v":-0.53150462962962963},null,null,null,null,null,null,null,null,null,null,null,null,null,null,null,null,null,"Classement points",{"$f":"RANK(AF59,AJ:AJ)","v":1},{"$f":"IF(AF55=1,\"er\",\"ème\")","v":"er"}]
[null,null,null,{"$f":"$H$2","v":"21Steve"},{"$f":"SQRT(POWER((VLOOKUP(E58,DEBUT!$D$5:$J$110,6,FALSE)-VLOOKUP(F58,DEBUT!$D$5:$J$110,6,FALSE)),2)+POWER((VLOOKUP(E58,DEBUT!$D$5:$J$110,7,FALSE)-VLOOKUP(F58,DEBUT!$D$5:$J$110,7,FALSE)),2))/CARTE!$O$9","v":0},{"$f":"SQRT(POWER((VLOOKUP(F58,DEBUT!$D$5:$J$110,6,FALSE)-VLOOKUP(G58,DEBUT!$D$5:$J$110,6,FALSE)),2)+POWER((VLOOKUP(F58,DEBUT!$D$5:$J$110,7,FALSE)-VLOOKUP(G58,DEBUT!$D$5:$J$110,7,FALSE)),2))/CARTE!$O$9","v":0},{"$f":"SQRT(POWER((VLOOKUP(G58,DEBUT!$D$5:$J$110,6,FALSE)-VLOOKUP(H58,DEBUT!$D$5:$J$110,6,FALSE)),2)+POWER((VLOOKUP(G58,DEBUT!$D$5:$J$110,7,FALSE)-VLOOKUP(H58,DEBUT!$D$5:$J$110,7,FALSE)),2))/CARTE!$O$9","v":0},{"$f":"SQRT(POWER((VLOOKUP(H58,DEBUT!$D$5:$J$110,6,FALSE)-VLOOKUP(I58,DEBUT!$D$5:$J$110,6,FALSE)),2)+POWER((VLOOKUP(H58,DEBUT!$D$5:$J$110,7,FALSE)-VLOOKUP(I58,DEBUT!$D$5:$J$110,7,FALSE)),2))/CARTE!$O$9","v":0},{"$f":"SQRT(POWER((VLOOKUP(I58,DEBUT!$D$5:$J$110,6,FALSE)-VLOOKUP(J58,DEBUT!$D$5:$J$110,6,FALSE)),2)+POWER((VLOOKUP(I58,DEBUT!$D$5:$J$110,7,FALSE)-VLOOKUP(J58,DEBUT!$D$5:$J$110,7,FALSE)),2))/CARTE!$O$9","v":0},{"$f":"SQRT(POWER((VLOOKUP(J58,DEBUT!$D$5:$J$110,6,FALSE)-VLOOKUP(K58,DEBUT!$D$5:$J$110,6,FALSE)),2)+POWER((VLOOKUP(J58,DEBUT!$D$5:$J$110,7,FALSE)-VLOOKUP(K58,DEBUT!$D$5:$J$110,7,FALSE)),2))/CARTE!$O$9","v":0},{"$f":"SQRT(POWER((VLOOKUP(K58,DEBUT!$D$5:$J$110,6,FALSE)-VLOOKUP(L58,DEBUT!$D$5:$J$110,6,FALSE)),2)+POWER((VLOOKUP(K58,DEBUT!$D$5:$J$110,7,FALSE)-VLOOKUP(L58,DEBUT!$D$5:$J$110,7,FALSE)),2))/CARTE!$O$9","v":0},{"$f":"SQRT(POWER((VLOOKUP(L58,DEBUT!$D$5:$J$110,6,FALSE)-VLOOKUP(M58,DEBUT!$D$5:$J$110,6,FALSE)),2)+POWER((VLOOKUP(L58,DEBUT!$D$5:$J$110,7,FALSE)-VLOOKUP(M58,DEBUT!$D$5:$J$110,7,FALSE)),2))/CARTE!$O$9","v":0},{"$f":"SQRT(POWER((VLOOKUP(M58,DEBUT!$D$5:$J$110,6,FALSE)-VLOOKUP(N58,DEBUT!$D$5:$J$110,6,FALSE)),2)+POWER((VLOOKUP(M58,DEBUT!$D$5:$J$110,7,FALSE)-VLOOKUP(N58,DEBUT!$D$5:$J$110,7,FALSE)),2))/CARTE!$O$9","v":0},{"$f":"SQRT(POWER((VLOOKUP(N58,DEBUT!$D$5:$J$110,6,FALSE)-VLOOKUP(O58,DEBUT!$D$5:$J$110,6,FALSE)),2)+POWER((VLOOKUP(N58,DEBUT!$D$5:$J$110,7,FALSE)-VLOOKUP(O58,DEBUT!$D$5:$J$110,7,FALSE)),2))/CARTE!$O$9","v":0},{"$f":"SQRT(POWER((VLOOKUP(O58,DEBUT!$D$5:$J$110,6,FALSE)-VLOOKUP(P58,DEBUT!$D$5:$J$110,6,FALSE)),2)+POWER((VLOOKUP(O58,DEBUT!$D$5:$J$110,7,FALSE)-VLOOKUP(P58,DEBUT!$D$5:$J$110,7,FALSE)),2))/CARTE!$O$9","v":0},{"$f":"SQRT(POWER((VLOOKUP(P58,DEBUT!$D$5:$J$110,6,FALSE)-VLOOKUP(Q58,DEBUT!$D$5:$J$110,6,FALSE)),2)+POWER((VLOOKUP(P58,DEBUT!$D$5:$J$110,7,FALSE)-VLOOKUP(Q58,DEBUT!$D$5:$J$110,7,FALSE)),2))/CARTE!$O$9","v":0},{"$f":"SQRT(POWER((VLOOKUP(Q58,DEBUT!$D$5:$J$110,6,FALSE)-VLOOKUP(R58,DEBUT!$D$5:$J$110,6,FALSE)),2)+POWER((VLOOKUP(Q58,DEBUT!$D$5:$J$110,7,FALSE)-VLOOKUP(R58,DEBUT!$D$5:$J$110,7,FALSE)),2))/CARTE!$O$9","v":0},{"$f":"SQRT(POWER((VLOOKUP(R58,DEBUT!$D$5:$J$110,6,FALSE)-VLOOKUP(S58,DEBUT!$D$5:$J$110,6,FALSE)),2)+POWER((VLOOKUP(R58,DEBUT!$D$5:$J$110,7,FALSE)-VLOOKUP(S58,DEBUT!$D$5:$J$110,7,FALSE)),2))/CARTE!$O$9","v":0},{"$f":"SQRT(POWER((VLOOKUP(S58,DEBUT!$D$5:$J$110,6,FALSE)-VLOOKUP(T58,DEBUT!$D$5:$J$110,6,FALSE)),2)+POWER((VLOOKUP(S58,DEBUT!$D$5:$J$110,7,FALSE)-VLOOKUP(T58,DEBUT!$D$5:$J$110,7,FALSE)),2))/CARTE!$O$9","v":0},{"$f":"SQRT(POWER((VLOOKUP(T58,DEBUT!$D$5:$J$110,6,FALSE)-VLOOKUP(U58,DEBUT!$D$5:$J$110,6,FALSE)),2)+POWER((VLOOKUP(T58,DEBUT!$D$5:$J$110,7,FALSE)-VLOOKUP(U58,DEBUT!$D$5:$J$110,7,FALSE)),2))/CARTE!$O$9","v":0},{"$f":"SQRT(POWER((VLOOKUP(U58,DEBUT!$D$5:$J$110,6,FALSE)-VLOOKUP(V58,DEBUT!$D$5:$J$110,6,FALSE)),2)+POWER((VLOOKUP(U58,DEBUT!$D$5:$J$110,7,FALSE)-VLOOKUP(V58,DEBUT!$D$5:$J$110,7,FALSE)),2))/CARTE!$O$9","v":0},{"$f":"SQRT(POWER((VLOOKUP(V58,DEBUT!$D$5:$J$110,6,FALSE)-VLOOKUP(W58,DEBUT!$D$5:$J$110,6,FALSE)),2)+POWER((VLOOKUP(V58,DEBUT!$D$5:$J$110,7,FALSE)-VLOOKUP(W58,DEBUT!$D$5:$J$110,7,FALSE)),2))/CARTE!$O$9","v":0},{"$f":"SQRT(POWER((VLOOKUP(W58,DEBUT!$D$5:$J$110,6,FALSE)-VLOOKUP(X58,DEBUT!$D$5:$J$110,6,FALSE)),2)+POWER((VLOOKUP(W58,DEBUT!$D$5:$J$110,7,FALSE)-VLOOKUP(X58,DEBUT!$D$5:$J$110,7,FALSE)),2))/CARTE!$O$9","v":0},{"$f":"SQRT(POWER((VLOOKUP(X58,DEBUT!$D$5:$J$110,6,FALSE)-VLOOKUP(Y58,DEBUT!$D$5:$J$110,6,FALSE)),2)+POWER((VLOOKUP(X58,DEBUT!$D$5:$J$110,7,FALSE)-VLOOKUP(Y58,DEBUT!$D$5:$J$110,7,FALSE)),2))/CARTE!$O$9","v":0},{"$f":"SQRT(POWER((VLOOKUP(Y58,DEBUT!$D$5:$J$110,6,FALSE)-VLOOKUP(Z58,DEBUT!$D$5:$J$110,6,FALSE)),2)+POWER((VLOOKUP(Y58,DEBUT!$D$5:$J$110,7,FALSE)-VLOOKUP(Z58,DEBUT!$D$5:$J$110,7,FALSE)),2))/CARTE!$O$9","v":0},{"$f":"SQRT(POWER((VLOOKUP(Z58,DEBUT!$D$5:$J$110,6,FALSE)-VLOOKUP(AA58,DEBUT!$D$5:$J$110,6,FALSE)),2)+POWER((VLOOKUP(Z58,DEBUT!$D$5:$J$110,7,FALSE)-VLOOKUP(AA58,DEBUT!$D$5:$J$110,7,FALSE)),2))/CARTE!$O$9","v":0},{"$f":"SQRT(POWER((VLOOKUP(AA58,DEBUT!$D$5:$J$110,6,FALSE)-VLOOKUP(AB58,DEBUT!$D$5:$J$110,6,FALSE)),2)+POWER((VLOOKUP(AA58,DEBUT!$D$5:$J$110,7,FALSE)-VLOOKUP(AB58,DEBUT!$D$5:$J$110,7,FALSE)),2))/CARTE!$O$9","v":0},{"$f":"SQRT(POWER((VLOOKUP(AB58,DEBUT!$D$5:$J$110,6,FALSE)-VLOOKUP(AC58,DEBUT!$D$5:$J$110,6,FALSE)),2)+POWER((VLOOKUP(AB58,DEBUT!$D$5:$J$110,7,FALSE)-VLOOKUP(AC58,DEBUT!$D$5:$J$110,7,FALSE)),2))/CARTE!$O$9","v":0},{"$f":"SQRT(POWER((VLOOKUP(AC58,DEBUT!$D$5:$J$110,6,FALSE)-VLOOKUP(AD58,DEBUT!$D$5:$J$110,6,FALSE)),2)+POWER((VLOOKUP(AC58,DEBUT!$D$5:$J$110,7,FALSE)-VLOOKUP(AD58,DEBUT!$D$5:$J$110,7,FALSE)),2))/CARTE!$O$9","v":0},{"$f":"SQRT(POWER((VLOOKUP(AD58,DEBUT!$D$5:$J$110,6,FALSE)-VLOOKUP(AE58,DEBUT!$D$5:$J$110,6,FALSE)),2)+POWER((VLOOKUP(AD58,DEBUT!$D$5:$J$110,7,FALSE)-VLOOKUP(AE58,DEBUT!$D$5:$J$110,7,FALSE)),2))/CARTE!$O$9","v":{"$error":"#N/A"}},"Temps",{"$f":"IF(N54<0,CONCATENATE(\"-\",(MINUTE(M55)-MINUTE($M$2))),CONCATENATE(\"+\",(ABS(MINUTE(M55)-MINUTE($M$2)))))","v":{"$error":"#NUM!"}},"minutes"]
[null,null,null,"Balises prévues",{"$f":"IF(ISTEXT($D56),HLOOKUP($D56,DEBUT!$O$3:$XX$100,3,FALSE),\"\")","v":"A"},{"$f":"IF(ISTEXT($D56),HLOOKUP($D56,DEBUT!$O$3:$XX$100,4,FALSE),\"\")","v":"B"},{"$f":"IF(ISTEXT($D56),HLOOKUP($D56,DEBUT!$O$3:$XX$100,5,FALSE),\"\")","v":"C"},{"$f":"IF(ISTEXT($D56),HLOOKUP($D56,DEBUT!$O$3:$XX$100,6,FALSE),\"\")","v":"D"},{"$f":"IF(ISTEXT($D56),HLOOKUP($D56,DEBUT!$O$3:$XX$100,7,FALSE),\"\")","v":"E"},{"$f":"IF(ISTEXT($D56),HLOOKUP($D56,DEBUT!$O$3:$XX$100,8,FALSE),\"\")","v":"F"},{"$f":"IF(ISTEXT($D56),HLOOKUP($D56,DEBUT!$O$3:$XX$100,9,FALSE),\"\")","v":"G"},{"$f":"IF(ISTEXT($D56),HLOOKUP($D56,DEBUT!$O$3:$XX$100,10,FALSE),\"\")","v":"H"},{"$f":"IF(ISTEXT($D56),HLOOKUP($D56,DEBUT!$O$3:$XX$100,11,FALSE),\"\")","v":"I"},{"$f":"IF(ISTEXT($D56),HLOOKUP($D56,DEBUT!$O$3:$XX$100,12,FALSE),\"\")","v":"J"},{"$f":"IF(ISTEXT($D56),HLOOKUP($D56,DEBUT!$O$3:$XX$100,13,FALSE),\"\")","v":"K"},{"$f":"IF(ISTEXT($D56),HLOOKUP($D56,DEBUT!$O$3:$XX$100,14,FALSE),\"\")","v":"L"},{"$f":"IF(ISTEXT($D56),HLOOKUP($D56,DEBUT!$O$3:$XX$100,15,FALSE),\"\")","v":"M"},{"$f":"IF(ISTEXT($D56),HLOOKUP($D56,DEBUT!$O$3:$XX$100,16,FALSE),\"\")","v":"N"},{"$f":"IF(ISTEXT($D56),HLOOKUP($D56,DEBUT!$O$3:$XX$100,17,FALSE),\"\")","v":"O"},{"$f":"IF(ISTEXT($D56),HLOOKUP($D56,DEBUT!$O$3:$XX$100,18,FALSE),\"\")","v":"P"},{"$f":"IF(ISTEXT($D56),HLOOKUP($D56,DEBUT!$O$3:$XX$100,19,FALSE),\"\")","v":"Q"},{"$f":"IF(ISTEXT($D56),HLOOKUP($D56,DEBUT!$O$3:$XX$100,20,FALSE),\"\")","v":"R"},{"$f":"IF(ISTEXT($D56),HLOOKUP($D56,DEBUT!$O$3:$XX$100,21,FALSE),\"\")","v":"S"},{"$f":"IF(ISTEXT($D56),HLOOKUP($D56,DEBUT!$O$3:$XX$100,22,FALSE),\"\")","v":"T"},{"$f":"IF(ISTEXT($D56),HLOOKUP($D56,DEBUT!$O$3:$XX$100,23,FALSE),\"\")","v":"U"},{"$f":"IF(ISTEXT($D56),HLOOKUP($D56,DEBUT!$O$3:$XX$100,24,FALSE),\"\")","v":"V"},{"$f":"IF(ISTEXT($D56),HLOOKUP($D56,DEBUT!$O$3:$XX$100,25,FALSE),\"\")","v":"W"},{"$f":"IF(ISTEXT($D56),HLOOKUP($D56,DEBUT!$O$3:$XX$100,26,FALSE),\"\")","v":"X"},{"$f":"IF(ISTEXT($D56),HLOOKUP($D56,DEBUT!$O$3:$XX$100,27,FALSE),\"\")","v":"Y"},{"$f":"IF(ISTEXT($D56),HLOOKUP($D56,DEBUT!$O$3:$XX$100,28,FALSE),\"\")","v":"Z"}]
[null,null,null,"Vrai numéro des balises trouvées",null,null,null,null,null,null,null,null,null,null,null,null,null,null,null,null,null,null,null,null,null,null,null,null,null,null,"Nb balises trouvées",{"$f":"SUMPRODUCT(N(ISNUMBER(E58:AD58)))","v":0},"trouvées"]
[null,null,null,"Balises CM",{"$f":"IFERROR(INDEX(baliseCM,MATCH(E57,lettre,0),MATCH($D55,parcours,0)),\"\")","v":12},{"$f":"IFERROR(INDEX(baliseCM,MATCH(F57,lettre,0),MATCH($D55,parcours,0)),\"\")","v":13},11,16,35,28,26,40,39,45,0,51,50,74,0,6,33,29,24,54,56,59,0,76,0,0,"Nombre balises justes",{"$f":"COUNTIF(E60:AD60,\">0\")","v":5},"justes",null,null,{"$f":"AF59","v":5}]
[null,null,null,"Points",{"$f":"IF(E59=E58,IFERROR(INDEX(baliseCM,MATCH(E57,lettre,0),MATCH($AK60,parcours,0)),\"\"),\"\")","v":""},"","","","","","","","","",3,"","","",3,"","","","","","","",3,"",3,3,"Points ",{"$f":"SUM(E60:AD60)","v":15},"pts",null,null,null,{"$f":"CONCATENATE(D56,\"points\")","v":"21Stevepoints"}]
[null,"EQUIPE 9",null,null,null,null,null,null,null,null,null,null,null,{"$f":"(HOUR(M62)*3600+MINUTE(M62)*60+SECOND(M62))-(HOUR($M$2)*3600+MINUTE($M$2)*60+SECOND($M$2))","v":{"$error":"#NUM!"}}]
[null,null,null,{"$f":"CONCATENATE(D63,\"bis\")","v":"21Stevebis"},"12:45:22",null,null,null,null,null,"Durée :",null,{"$f":"I62-E62","v":-0.53150462962962963},null,null,null,null,null,null,null,null,null,null,null,null,null,null,null,null,null,"Classement points",{"$f":"RANK(AF66,AJ:AJ)","v":1},{"$f":"IF(AF62=1,\"er\",\"ème\")","v":"er"}]
[null,null,null,{"$f":"$H$2","v":"21Steve"},{"$f":"SQRT(POWER((VLOOKUP(E65,DEBUT!$D$5:$J$110,6,FALSE)-VLOOKUP(F65,DEBUT!$D$5:$J$110,6,FALSE)),2)+POWER((VLOOKUP(E65,DEBUT!$D$5:$J$110,7,FALSE)-VLOOKUP(F65,DEBUT!$D$5:$J$110,7,FALSE)),2))/CARTE!$O$9","v":0},{"$f":"SQRT(POWER((VLOOKUP(F65,DEBUT!$D$5:$J$110,6,FALSE)-VLOOKUP(G65,DEBUT!$D$5:$J$110,6,FALSE)),2)+POWER((VLOOKUP(F65,DEBUT!$D$5:$J$110,7,FALSE)-VLOOKUP(G65,DEBUT!$D$5:$J$110,7,FALSE)),2))/CARTE!$O$9","v":0},{"$f":"SQRT(POWER((VLOOKUP(G65,DEBUT!$D$5:$J$110,6,FALSE)-VLOOKUP(H65,DEBUT!$D$5:$J$110,6,FALSE)),2)+POWER((VLOOKUP(G65,DEBUT!$D$5:$J$110,7,FALSE)-VLOOKUP(H65,DEBUT!$D$5:$J$110,7,FALSE)),2))/CARTE!$O$9","v":0},{"$f":"SQRT(POWER((VLOOKUP(H65,DEBUT!$D$5:$J$110,6,FALSE)-VLOOKUP(I65,DEBUT!$D$5:$J$110,6,FALSE)),2)+POWER((VLOOKUP(H65,DEBUT!$D$5:$J$110,7,FALSE)-VLOOKUP(I65,DEBUT!$D$5:$J$110,7,FALSE)),2))/CARTE!$O$9","v":0},{"$f":"SQRT(POWER((VLOOKUP(I65,DEBUT!$D$5:$J$110,6,FALSE)-VLOOKUP(J65,DEBUT!$D$5:$J$110,6,FALSE)),2)+POWER((VLOOKUP(I65,DEBUT!$D$5:$J$110,7,FALSE)-VLOOKUP(J65,DEBUT!$D$5:$J$110,7,FALSE)),2))/CARTE!$O$9","v":0},{"$f":"SQRT(POWER((VLOOKUP(J65,DEBUT!$D$5:$J$110,6,FALSE)-VLOOKUP(K65,DEBUT!$D$5:$J$110,6,FALSE)),2)+POWER((VLOOKUP(J65,DEBUT!$D$5:$J$110,7,FALSE)-VLOOKUP(K65,DEBUT!$D$5:$J$110,7,FALSE)),2))/CARTE!$O$9","v":0},{"$f":"SQRT(POWER((VLOOKUP(K65,DEBUT!$D$5:$J$110,6,FALSE)-VLOOKUP(L65,DEBUT!$D$5:$J$110,6,FALSE)),2)+POWER((VLOOKUP(K65,DEBUT!$D$5:$J$110,7,FALSE)-VLOOKUP(L65,DEBUT!$D$5:$J$110,7,FALSE)),2))/CARTE!$O$9","v":0},{"$f":"SQRT(POWER((VLOOKUP(L65,DEBUT!$D$5:$J$110,6,FALSE)-VLOOKUP(M65,DEBUT!$D$5:$J$110,6,FALSE)),2)+POWER((VLOOKUP(L65,DEBUT!$D$5:$J$110,7,FALSE)-VLOOKUP(M65,DEBUT!$D$5:$J$110,7,FALSE)),2))/CARTE!$O$9","v":0},{"$f":"SQRT(POWER((VLOOKUP(M65,DEBUT!$D$5:$J$110,6,FALSE)-VLOOKUP(N65,DEBUT!$D$5:$J$110,6,FALSE)),2)+POWER((VLOOKUP(M65,DEBUT!$D$5:$J$110,7,FALSE)-VLOOKUP(N65,DEBUT!$D$5:$J$110,7,FALSE)),2))/CARTE!$O$9","v":0},{"$f":"SQRT(POWER((VLOOKUP(N65,DEBUT!$D$5:$J$110,6,FALSE)-VLOOKUP(O65,DEBUT!$D$5:$J$110,6,FALSE)),2)+POWER((VLOOKUP(N65,DEBUT!$D$5:$J$110,7,FALSE)-VLOOKUP(O65,DEBUT!$D$5:$J$110,7,FALSE)),2))/CARTE!$O$9","v":0},{"$f":"SQRT(POWER((VLOOKUP(O65,DEBUT!$D$5:$J$110,6,FALSE)-VLOOKUP(P65,DEBUT!$D$5:$J$110,6,FALSE)),2)+POWER((VLOOKUP(O65,DEBUT!$D$5:$J$110,7,FALSE)-VLOOKUP(P65,DEBUT!$D$5:$J$110,7,FALSE)),2))/CARTE!$O$9","v":0},{"$f":"SQRT(POWER((VLOOKUP(P65,DEBUT!$D$5:$J$110,6,FALSE)-VLOOKUP(Q65,DEBUT!$D$5:$J$110,6,FALSE)),2)+POWER((VLOOKUP(P65,DEBUT!$D$5:$J$110,7,FALSE)-VLOOKUP(Q65,DEBUT!$D$5:$J$110,7,FALSE)),2))/CARTE!$O$9","v":0},{"$f":"SQRT(POWER((VLOOKUP(Q65,DEBUT!$D$5:$J$110,6,FALSE)-VLOOKUP(R65,DEBUT!$D$5:$J$110,6,FALSE)),2)+POWER((VLOOKUP(Q65,DEBUT!$D$5:$J$110,7,FALSE)-VLOOKUP(R65,DEBUT!$D$5:$J$110,7,FALSE)),2))/CARTE!$O$9","v":0},{"$f":"SQRT(POWER((VLOOKUP(R65,DEBUT!$D$5:$J$110,6,FALSE)-VLOOKUP(S65,DEBUT!$D$5:$J$110,6,FALSE)),2)+POWER((VLOOKUP(R65,DEBUT!$D$5:$J$110,7,FALSE)-VLOOKUP(S65,DEBUT!$D$5:$J$110,7,FALSE)),2))/CARTE!$O$9","v":0},{"$f":"SQRT(POWER((VLOOKUP(S65,DEBUT!$D$5:$J$110,6,FALSE)-VLOOKUP(T65,DEBUT!$D$5:$J$110,6,FALSE)),2)+POWER((VLOOKUP(S65,DEBUT!$D$5:$J$110,7,FALSE)-VLOOKUP(T65,DEBUT!$D$5:$J$110,7,FALSE)),2))/CARTE!$O$9","v":0},{"$f":"SQRT(POWER((VLOOKUP(T65,DEBUT!$D$5:$J$110,6,FALSE)-VLOOKUP(U65,DEBUT!$D$5:$J$110,6,FALSE)),2)+POWER((VLOOKUP(T65,DEBUT!$D$5:$J$110,7,FALSE)-VLOOKUP(U65,DEBUT!$D$5:$J$110,7,FALSE)),2))/CARTE!$O$9","v":0},{"$f":"SQRT(POWER((VLOOKUP(U65,DEBUT!$D$5:$J$110,6,FALSE)-VLOOKUP(V65,DEBUT!$D$5:$J$110,6,FALSE)),2)+POWER((VLOOKUP(U65,DEBUT!$D$5:$J$110,7,FALSE)-VLOOKUP(V65,DEBUT!$D$5:$J$110,7,FALSE)),2))/CARTE!$O$9","v":0},{"$f":"SQRT(POWER((VLOOKUP(V65,DEBUT!$D$5:$J$110,6,FALSE)-VLOOKUP(W65,DEBUT!$D$5:$J$110,6,FALSE)),2)+POWER((VLOOKUP(V65,DEBUT!$D$5:$J$110,7,FALSE)-VLOOKUP(W65,DEBUT!$D$5:$J$110,7,FALSE)),2))/CARTE!$O$9","v":0},{"$f":"SQRT(POWER((VLOOKUP(W65,DEBUT!$D$5:$J$110,6,FALSE)-VLOOKUP(X65,DEBUT!$D$5:$J$110,6,FALSE)),2)+POWER((VLOOKUP(W65,DEBUT!$D$5:$J$110,7,FALSE)-VLOOKUP(X65,DEBUT!$D$5:$J$110,7,FALSE)),2))/CARTE!$O$9","v":0},{"$f":"SQRT(POWER((VLOOKUP(X65,DEBUT!$D$5:$J$110,6,FALSE)-VLOOKUP(Y65,DEBUT!$D$5:$J$110,6,FALSE)),2)+POWER((VLOOKUP(X65,DEBUT!$D$5:$J$110,7,FALSE)-VLOOKUP(Y65,DEBUT!$D$5:$J$110,7,FALSE)),2))/CARTE!$O$9","v":0},{"$f":"SQRT(POWER((VLOOKUP(Y65,DEBUT!$D$5:$J$110,6,FALSE)-VLOOKUP(Z65,DEBUT!$D$5:$J$110,6,FALSE)),2)+POWER((VLOOKUP(Y65,DEBUT!$D$5:$J$110,7,FALSE)-VLOOKUP(Z65,DEBUT!$D$5:$J$110,7,FALSE)),2))/CARTE!$O$9","v":0},{"$f":"SQRT(POWER((VLOOKUP(Z65,DEBUT!$D$5:$J$110,6,FALSE)-VLOOKUP(AA65,DEBUT!$D$5:$J$110,6,FALSE)),2)+POWER((VLOOKUP(Z65,DEBUT!$D$5:$J$110,7,FALSE)-VLOOKUP(AA65,DEBUT!$D$5:$J$110,7,FALSE)),2))/CARTE!$O$9","v":0},{"$f":"SQRT(POWER((VLOOKUP(AA65,DEBUT!$D$5:$J$110,6,FALSE)-VLOOKUP(AB65,DEBUT!$D$5:$J$110,6,FALSE)),2)+POWER((VLOOKUP(AA65,DEBUT!$D$5:$J$110,7,FALSE)-VLOOKUP(AB65,DEBUT!$D$5:$J$110,7,FALSE)),2))/CARTE!$O$9","v":0},{"$f":"SQRT(POWER((VLOOKUP(AB65,DEBUT!$D$5:$J$110,6,FALSE)-VLOOKUP(AC65,DEBUT!$D$5:$J$110,6,FALSE)),2)+POWER((VLOOKUP(AB65,DEBUT!$D$5:$J$110,7,FALSE)-VLOOKUP(AC65,DEBUT!$D$5:$J$110,7,FALSE)),2))/CARTE!$O$9","v":0},{"$f":"SQRT(POWER((VLOOKUP(AC65,DEBUT!$D$5:$J$110,6,FALSE)-VLOOKUP(AD65,DEBUT!$D$5:$J$110,6,FALSE)),2)+POWER((VLOOKUP(AC65,DEBUT!$D$5:$J$110,7,FALSE)-VLOOKUP(AD65,DEBUT!$D$5:$J$110,7,FALSE)),2))/CARTE!$O$9","v":0},{"$f":"SQRT(POWER((VLOOKUP(AD65,DEBUT!$D$5:$J$110,6,FALSE)-VLOOKUP(AE65,DEBUT!$D$5:$J$110,6,FALSE)),2)+POWER((VLOOKUP(AD65,DEBUT!$D$5:$J$110,7,FALSE)-VLOOKUP(AE65,DEBUT!$D$5:$J$110,7,FALSE)),2))/CARTE!$O$9","v":{"$error":"#N/A"}},"Temps",{"$f":"IF(N61<0,CONCATENATE(\"-\",(MINUTE(M62)-MINUTE($M$2))),CONCATENATE(\"+\",(ABS(MINUTE(M62)-MINUTE($M$2)))))","v":{"$error":"#NUM!"}},"minutes"]
[null,null,null,"Balises prévues",{"$f":"IF(ISTEXT($D63),HLOOKUP($D63,DEBUT!$O$3:$XX$100,3,FALSE),\"\")","v":"A"},{"$f":"IF(ISTEXT($D63),HLOOKUP($D63,DEBUT!$O$3:$XX$100,4,FALSE),\"\")","v":"B"},{"$f":"IF(ISTEXT($D63),HLOOKUP($D63,DEBUT!$O$3:$XX$100,5,FALSE),\"\")","v":"C"},{"$f":"IF(ISTEXT($D63),HLOOKUP($D63,DEBUT!$O$3:$XX$100,6,FALSE),\"\")","v":"D"},{"$f":"IF(ISTEXT($D63),HLOOKUP($D63,DEBUT!$O$3:$XX$100,7,FALSE),\"\")","v":"E"},{"$f":"IF(ISTEXT($D63),HLOOKUP($D63,DEBUT!$O$3:$XX$100,8,FALSE),\"\")","v":"F"},{"$f":"IF(ISTEXT($D63),HLOOKUP($D63,DEBUT!$O$3:$XX$100,9,FALSE),\"\")","v":"G"},{"$f":"IF(ISTEXT($D63),HLOOKUP($D63,DEBUT!$O$3:$XX$100,10,FALSE),\"\")","v":"H"},{"$f":"IF(ISTEXT($D63),HLOOKUP($D63,DEBUT!$O$3:$XX$100,11,FALSE),\"\")","v":"I"},{"$f":"IF(ISTEXT($D63),HLOOKUP($D63,DEBUT!$O$3:$XX$100,12,FALSE),\"\")","v":"J"},{"$f":"IF(ISTEXT($D63),HLOOKUP($D63,DEBUT!$O$3:$XX$100,13,FALSE),\"\")","v":"K"},{"$f":"IF(ISTEXT($D63),HLOOKUP($D63,DEBUT!$O$3:$XX$100,14,FALSE),\"\")","v":"L"},{"$f":"IF(ISTEXT($D63),HLOOKUP($D63,DEBUT!$O$3:$XX$100,15,FALSE),\"\")","v":"M"},{"$f":"IF(ISTEXT($D63),HLOOKUP($D63,DEBUT!$O$3:$XX$100,16,FALSE),\"\")","v":"N"},{"$f":"IF(ISTEXT($D63),HLOOKUP($D63,DEBUT!$O$3:$XX$100,17,FALSE),\"\")","v":"O"},{"$f":"IF(ISTEXT($D63),HLOOKUP($D63,DEBUT!$O$3:$XX$100,18,FALSE),\"\")","v":"P"},{"$f":"IF(ISTEXT($D63),HLOOKUP($D63,DEBUT!$O$3:$XX$100,19,FALSE),\"\")","v":"Q"},{"$f":"IF(ISTEXT($D63),HLOOKUP($D63,DEBUT!$O$3:$XX$100,20,FALSE),\"\")","v":"R"},{"$f":"IF(ISTEXT($D63),HLOOKUP($D63,DEBUT!$O$3:$XX$100,21,FALSE),\"\")","v":"S"},{"$f":"IF(ISTEXT($D63),HLOOKUP($D63,DEBUT!$O$3:$XX$100,22,FALSE),\"\")","v":"T"},{"$f":"IF(ISTEXT($D63),HLOOKUP($D63,DEBUT!$O$3:$XX$100,23,FALSE),\"\")","v":"U"},{"$f":"IF(ISTEXT($D63),HLOOKUP($D63,DEBUT!$O$3:$XX$100,24,FALSE),\"\")","v":"V"},{"$f":"IF(ISTEXT($D63),HLOOKUP($D63,DEBUT!$O$3:$XX$100,25,FALSE),\"\")","v":"W"},{"$f":"IF(ISTEXT($D63),HLOOKUP($D63,DEBUT!$O$3:$XX$100,26,FALSE),\"\")","v":"X"},{"$f":"IF(ISTEXT($D63),HLOOKUP($D63,DEBUT!$O$3:$XX$100,27,FALSE),\"\")","v":"Y"},{"$f":"IF(ISTEXT($D63),HLOOKUP($D63,DEBUT!$O$3:$XX$100,28,FALSE),\"\")","v":"Z"}]
[null,null,null,"Vrai numéro des balises trouvées",null,null,null,null,null,null,null,null,null,null,null,null,null,null,null,null,null,null,null,null,null,null,null,null,null,null,"Nb balises trouvées",{"$f":"SUMPRODUCT(N(ISNUMBER(E65:AD65)))","v":0},"trouvées"]
[null,null,null,"Balises CM",{"$f":"IFERROR(INDEX(baliseCM,MATCH(E64,lettre,0),MATCH($D62,parcours,0)),\"\")","v":12},{"$f":"IFERROR(INDEX(baliseCM,MATCH(F64,lettre,0),MATCH($D62,parcours,0)),\"\")","v":13},11,16,35,28,26,40,39,45,0,51,50,74,0,6,33,29,24,54,56,59,0,76,0,0,"Nombre balises justes",{"$f":"COUNTIF(E67:AD67,\">0\")","v":5},"justes",null,null,{"$f":"AF66","v":5}]
[null,null,null,"Points",{"$f":"IF(E66=E65,IFERROR(INDEX(baliseCM,MATCH(E64,lettre,0),MATCH($AK67,parcours,0)),\"\"),\"\")","v":""},"","","","","","","","","",3,"","","",3,"","","","","","","",3,"",3,3,"Points ",{"$f":"SUM(E67:AD67)","v":15},"pts",null,null,null,{"$f":"CONCATENATE(D63,\"points\")","v":"21Stevepoints"}]
[null,"EQUIPE 10",null,null,null,null,null,null,null,null,null,null,null,{"$f":"(HOUR(M69)*3600+MINUTE(M69)*60+SECOND(M69))-(HOUR($M$2)*3600+MINUTE($M$2)*60+SECOND($M$2))","v":{"$error":"#NUM!"}}]
[null,null,null,{"$f":"CONCATENATE(D70,\"bis\")","v":"21Stevebis"},"12:45:22",null,null,null,null,null,"Durée :",null,{"$f":"I69-E69","v":-0.53150462962962963},null,null,null,null,null,null,null,null,null,null,null,null,null,null,null,null,null,"Classement points",{"$f":"RANK(AF73,AJ:AJ)","v":1},{"$f":"IF(AF69=1,\"er\",\"ème\")","v":"er"}]
[null,null,null,{"$f":"$H$2","v":"21Steve"},{"$f":"SQRT(POWER((VLOOKUP(E72,DEBUT!$D$5:$J$110,6,FALSE)-VLOOKUP(F72,DEBUT!$D$5:$J$110,6,FALSE)),2)+POWER((VLOOKUP(E72,DEBUT!$D$5:$J$110,7,FALSE)-VLOOKUP(F72,DEBUT!$D$5:$J$110,7,FALSE)),2))/CARTE!$O$9","v":0},{"$f":"SQRT(POWER((VLOOKUP(F72,DEBUT!$D$5:$J$110,6,FALSE)-VLOOKUP(G72,DEBUT!$D$5:$J$110,6,FALSE)),2)+POWER((VLOOKUP(F72,DEBUT!$D$5:$J$110,7,FALSE)-VLOOKUP(G72,DEBUT!$D$5:$J$110,7,FALSE)),2))/CARTE!$O$9","v":0},{"$f":"SQRT(POWER((VLOOKUP(G72,DEBUT!$D$5:$J$110,6,FALSE)-VLOOKUP(H72,DEBUT!$D$5:$J$110,6,FALSE)),2)+POWER((VLOOKUP(G72,DEBUT!$D$5:$J$110,7,FALSE)-VLOOKUP(H72,DEBUT!$D$5:$J$110,7,FALSE)),2))/CARTE!$O$9","v":0},{"$f":"SQRT(POWER((VLOOKUP(H72,DEBUT!$D$5:$J$110,6,FALSE)-VLOOKUP(I72,DEBUT!$D$5:$J$110,6,FALSE)),2)+POWER((VLOOKUP(H72,DEBUT!$D$5:$J$110,7,FALSE)-VLOOKUP(I72,DEBUT!$D$5:$J$110,7,FALSE)),2))/CARTE!$O$9","v":0},{"$f":"SQRT(POWER((VLOOKUP(I72,DEBUT!$D$5:$J$110,6,FALSE)-VLOOKUP(J72,DEBUT!$D$5:$J$110,6,FALSE)),2)+POWER((VLOOKUP(I72,DEBUT!$D$5:$J$110,7,FALSE)-VLOOKUP(J72,DEBUT!$D$5:$J$110,7,FALSE)),2))/CARTE!$O$9","v":0},{"$f":"SQRT(POWER((VLOOKUP(J72,DEBUT!$D$5:$J$110,6,FALSE)-VLOOKUP(K72,DEBUT!$D$5:$J$110,6,FALSE)),2)+POWER((VLOOKUP(J72,DEBUT!$D$5:$J$110,7,FALSE)-VLOOKUP(K72,DEBUT!$D$5:$J$110,7,FALSE)),2))/CARTE!$O$9","v":0},{"$f":"SQRT(POWER((VLOOKUP(K72,DEBUT!$D$5:$J$110,6,FALSE)-VLOOKUP(L72,DEBUT!$D$5:$J$110,6,FALSE)),2)+POWER((VLOOKUP(K72,DEBUT!$D$5:$J$110,7,FALSE)-VLOOKUP(L72,DEBUT!$D$5:$J$110,7,FALSE)),2))/CARTE!$O$9","v":0},{"$f":"SQRT(POWER((VLOOKUP(L72,DEBUT!$D$5:$J$110,6,FALSE)-VLOOKUP(M72,DEBUT!$D$5:$J$110,6,FALSE)),2)+POWER((VLOOKUP(L72,DEBUT!$D$5:$J$110,7,FALSE)-VLOOKUP(M72,DEBUT!$D$5:$J$110,7,FALSE)),2))/CARTE!$O$9","v":0},{"$f":"SQRT(POWER((VLOOKUP(M72,DEBUT!$D$5:$J$110,6,FALSE)-VLOOKUP(N72,DEBUT!$D$5:$J$110,6,FALSE)),2)+POWER((VLOOKUP(M72,DEBUT!$D$5:$J$110,7,FALSE)-VLOOKUP(N72,DEBUT!$D$5:$J$110,7,FALSE)),2))/CARTE!$O$9","v":0},{"$f":"SQRT(POWER((VLOOKUP(N72,DEBUT!$D$5:$J$110,6,FALSE)-VLOOKUP(O72,DEBUT!$D$5:$J$110,6,FALSE)),2)+POWER((VLOOKUP(N72,DEBUT!$D$5:$J$110,7,FALSE)-VLOOKUP(O72,DEBUT!$D$5:$J$110,7,FALSE)),2))/CARTE!$O$9","v":0},{"$f":"SQRT(POWER((VLOOKUP(O72,DEBUT!$D$5:$J$110,6,FALSE)-VLOOKUP(P72,DEBUT!$D$5:$J$110,6,FALSE)),2)+POWER((VLOOKUP(O72,DEBUT!$D$5:$J$110,7,FALSE)-VLOOKUP(P72,DEBUT!$D$5:$J$110,7,FALSE)),2))/CARTE!$O$9","v":0},{"$f":"SQRT(POWER((VLOOKUP(P72,DEBUT!$D$5:$J$110,6,FALSE)-VLOOKUP(Q72,DEBUT!$D$5:$J$110,6,FALSE)),2)+POWER((VLOOKUP(P72,DEBUT!$D$5:$J$110,7,FALSE)-VLOOKUP(Q72,DEBUT!$D$5:$J$110,7,FALSE)),2))/CARTE!$O$9","v":0},{"$f":"SQRT(POWER((VLOOKUP(Q72,DEBUT!$D$5:$J$110,6,FALSE)-VLOOKUP(R72,DEBUT!$D$5:$J$110,6,FALSE)),2)+POWER((VLOOKUP(Q72,DEBUT!$D$5:$J$110,7,FALSE)-VLOOKUP(R72,DEBUT!$D$5:$J$110,7,FALSE)),2))/CARTE!$O$9","v":0},{"$f":"SQRT(POWER((VLOOKUP(R72,DEBUT!$D$5:$J$110,6,FALSE)-VLOOKUP(S72,DEBUT!$D$5:$J$110,6,FALSE)),2)+POWER((VLOOKUP(R72,DEBUT!$D$5:$J$110,7,FALSE)-VLOOKUP(S72,DEBUT!$D$5:$J$110,7,FALSE)),2))/CARTE!$O$9","v":0},{"$f":"SQRT(POWER((VLOOKUP(S72,DEBUT!$D$5:$J$110,6,FALSE)-VLOOKUP(T72,DEBUT!$D$5:$J$110,6,FALSE)),2)+POWER((VLOOKUP(S72,DEBUT!$D$5:$J$110,7,FALSE)-VLOOKUP(T72,DEBUT!$D$5:$J$110,7,FALSE)),2))/CARTE!$O$9","v":0},{"$f":"SQRT(POWER((VLOOKUP(T72,DEBUT!$D$5:$J$110,6,FALSE)-VLOOKUP(U72,DEBUT!$D$5:$J$110,6,FALSE)),2)+POWER((VLOOKUP(T72,DEBUT!$D$5:$J$110,7,FALSE)-VLOOKUP(U72,DEBUT!$D$5:$J$110,7,FALSE)),2))/CARTE!$O$9","v":0},{"$f":"SQRT(POWER((VLOOKUP(U72,DEBUT!$D$5:$J$110,6,FALSE)-VLOOKUP(V72,DEBUT!$D$5:$J$110,6,FALSE)),2)+POWER((VLOOKUP(U72,DEBUT!$D$5:$J$110,7,FALSE)-VLOOKUP(V72,DEBUT!$D$5:$J$110,7,FALSE)),2))/CARTE!$O$9","v":0},{"$f":"SQRT(POWER((VLOOKUP(V72,DEBUT!$D$5:$J$110,6,FALSE)-VLOOKUP(W72,DEBUT!$D$5:$J$110,6,FALSE)),2)+POWER((VLOOKUP(V72,DEBUT!$D$5:$J$110,7,FALSE)-VLOOKUP(W72,DEBUT!$D$5:$J$110,7,FALSE)),2))/CARTE!$O$9","v":0},{"$f":"SQRT(POWER((VLOOKUP(W72,DEBUT!$D$5:$J$110,6,FALSE)-VLOOKUP(X72,DEBUT!$D$5:$J$110,6,FALSE)),2)+POWER((VLOOKUP(W72,DEBUT!$D$5:$J$110,7,FALSE)-VLOOKUP(X72,DEBUT!$D$5:$J$110,7,FALSE)),2))/CARTE!$O$9","v":0},{"$f":"SQRT(POWER((VLOOKUP(X72,DEBUT!$D$5:$J$110,6,FALSE)-VLOOKUP(Y72,DEBUT!$D$5:$J$110,6,FALSE)),2)+POWER((VLOOKUP(X72,DEBUT!$D$5:$J$110,7,FALSE)-VLOOKUP(Y72,DEBUT!$D$5:$J$110,7,FALSE)),2))/CARTE!$O$9","v":0},{"$f":"SQRT(POWER((VLOOKUP(Y72,DEBUT!$D$5:$J$110,6,FALSE)-VLOOKUP(Z72,DEBUT!$D$5:$J$110,6,FALSE)),2)+POWER((VLOOKUP(Y72,DEBUT!$D$5:$J$110,7,FALSE)-VLOOKUP(Z72,DEBUT!$D$5:$J$110,7,FALSE)),2))/CARTE!$O$9","v":0},{"$f":"SQRT(POWER((VLOOKUP(Z72,DEBUT!$D$5:$J$110,6,FALSE)-VLOOKUP(AA72,DEBUT!$D$5:$J$110,6,FALSE)),2)+POWER((VLOOKUP(Z72,DEBUT!$D$5:$J$110,7,FALSE)-VLOOKUP(AA72,DEBUT!$D$5:$J$110,7,FALSE)),2))/CARTE!$O$9","v":0},{"$f":"SQRT(POWER((VLOOKUP(AA72,DEBUT!$D$5:$J$110,6,FALSE)-VLOOKUP(AB72,DEBUT!$D$5:$J$110,6,FALSE)),2)+POWER((VLOOKUP(AA72,DEBUT!$D$5:$J$110,7,FALSE)-VLOOKUP(AB72,DEBUT!$D$5:$J$110,7,FALSE)),2))/CARTE!$O$9","v":0},{"$f":"SQRT(POWER((VLOOKUP(AB72,DEBUT!$D$5:$J$110,6,FALSE)-VLOOKUP(AC72,DEBUT!$D$5:$J$110,6,FALSE)),2)+POWER((VLOOKUP(AB72,DEBUT!$D$5:$J$110,7,FALSE)-VLOOKUP(AC72,DEBUT!$D$5:$J$110,7,FALSE)),2))/CARTE!$O$9","v":0},{"$f":"SQRT(POWER((VLOOKUP(AC72,DEBUT!$D$5:$J$110,6,FALSE)-VLOOKUP(AD72,DEBUT!$D$5:$J$110,6,FALSE)),2)+POWER((VLOOKUP(AC72,DEBUT!$D$5:$J$110,7,FALSE)-VLOOKUP(AD72,DEBUT!$D$5:$J$110,7,FALSE)),2))/CARTE!$O$9","v":0},{"$f":"SQRT(POWER((VLOOKUP(AD72,DEBUT!$D$5:$J$110,6,FALSE)-VLOOKUP(AE72,DEBUT!$D$5:$J$110,6,FALSE)),2)+POWER((VLOOKUP(AD72,DEBUT!$D$5:$J$110,7,FALSE)-VLOOKUP(AE72,DEBUT!$D$5:$J$110,7,FALSE)),2))/CARTE!$O$9","v":{"$error":"#N/A"}},"Temps",{"$f":"IF(N68<0,CONCATENATE(\"-\",(MINUTE(M69)-MINUTE($M$2))),CONCATENATE(\"+\",(ABS(MINUTE(M69)-MINUTE($M$2)))))","v":{"$error":"#NUM!"}},"minutes"]
[null,null,null,"Balises prévues",{"$f":"IF(ISTEXT($D70),HLOOKUP($D70,DEBUT!$O$3:$XX$100,3,FALSE),\"\")","v":"A"},{"$f":"IF(ISTEXT($D70),HLOOKUP($D70,DEBUT!$O$3:$XX$100,4,FALSE),\"\")","v":"B"},{"$f":"IF(ISTEXT($D70),HLOOKUP($D70,DEBUT!$O$3:$XX$100,5,FALSE),\"\")","v":"C"},{"$f":"IF(ISTEXT($D70),HLOOKUP($D70,DEBUT!$O$3:$XX$100,6,FALSE),\"\")","v":"D"},{"$f":"IF(ISTEXT($D70),HLOOKUP($D70,DEBUT!$O$3:$XX$100,7,FALSE),\"\")","v":"E"},{"$f":"IF(ISTEXT($D70),HLOOKUP($D70,DEBUT!$O$3:$XX$100,8,FALSE),\"\")","v":"F"},{"$f":"IF(ISTEXT($D70),HLOOKUP($D70,DEBUT!$O$3:$XX$100,9,FALSE),\"\")","v":"G"},{"$f":"IF(ISTEXT($D70),HLOOKUP($D70,DEBUT!$O$3:$XX$100,10,FALSE),\"\")","v":"H"},{"$f":"IF(ISTEXT($D70),HLOOKUP($D70,DEBUT!$O$3:$XX$100,11,FALSE),\"\")","v":"I"},{"$f":"IF(ISTEXT($D70),HLOOKUP($D70,DEBUT!$O$3:$XX$100,12,FALSE),\"\")","v":"J"},{"$f":"IF(ISTEXT($D70),HLOOKUP($D70,DEBUT!$O$3:$XX$100,13,FALSE),\"\")","v":"K"},{"$f":"IF(ISTEXT($D70),HLOOKUP($D70,DEBUT!$O$3:$XX$100,14,FALSE),\"\")","v":"L"},{"$f":"IF(ISTEXT($D70),HLOOKUP($D70,DEBUT!$O$3:$XX$100,15,FALSE),\"\")","v":"M"},{"$f":"IF(ISTEXT($D70),HLOOKUP($D70,DEBUT!$O$3:$XX$100,16,FALSE),\"\")","v":"N"},{"$f":"IF(ISTEXT($D70),HLOOKUP($D70,DEBUT!$O$3:$XX$100,17,FALSE),\"\")","v":"O"},{"$f":"IF(ISTEXT($D70),HLOOKUP($D70,DEBUT!$O$3:$XX$100,18,FALSE),\"\")","v":"P"},{"$f":"IF(ISTEXT($D70),HLOOKUP($D70,DEBUT!$O$3:$XX$100,19,FALSE),\"\")","v":"Q"},{"$f":"IF(ISTEXT($D70),HLOOKUP($D70,DEBUT!$O$3:$XX$100,20,FALSE),\"\")","v":"R"},{"$f":"IF(ISTEXT($D70),HLOOKUP($D70,DEBUT!$O$3:$XX$100,21,FALSE),\"\")","v":"S"},{"$f":"IF(ISTEXT($D70),HLOOKUP($D70,DEBUT!$O$3:$XX$100,22,FALSE),\"\")","v":"T"},{"$f":"IF(ISTEXT($D70),HLOOKUP($D70,DEBUT!$O$3:$XX$100,23,FALSE),\"\")","v":"U"},{"$f":"IF(ISTEXT($D70),HLOOKUP($D70,DEBUT!$O$3:$XX$100,24,FALSE),\"\")","v":"V"},{"$f":"IF(ISTEXT($D70),HLOOKUP($D70,DEBUT!$O$3:$XX$100,25,FALSE),\"\")","v":"W"},{"$f":"IF(ISTEXT($D70),HLOOKUP($D70,DEBUT!$O$3:$XX$100,26,FALSE),\"\")","v":"X"},{"$f":"IF(ISTEXT($D70),HLOOKUP($D70,DEBUT!$O$3:$XX$100,27,FALSE),\"\")","v":"Y"},{"$f":"IF(ISTEXT($D70),HLOOKUP($D70,DEBUT!$O$3:$XX$100,28,FALSE),\"\")","v":"Z"}]
[null,null,null,"Vrai numéro des balises trouvées",null,null,null,null,null,null,null,null,null,null,null,null,null,null,null,null,null,null,null,null,null,null,null,null,null,null,"Nb balises trouvées",{"$f":"SUMPRODUCT(N(ISNUMBER(E72:AD72)))","v":0},"trouvées"]
[null,null,null,"Balises CM",{"$f":"IFERROR(INDEX(baliseCM,MATCH(E71,lettre,0),MATCH($D69,parcours,0)),\"\")","v":12},{"$f":"IFERROR(INDEX(baliseCM,MATCH(F71,lettre,0),MATCH($D69,parcours,0)),\"\")","v":13},11,16,35,28,26,40,39,45,0,51,50,74,0,6,33,29,24,54,56,59,0,76,0,0,"Nombre balises justes",{"$f":"COUNTIF(E74:AD74,\">0\")","v":5},"justes",null,null,{"$f":"AF73","v":5}]
[null,null,null,"Points",{"$f":"IF(E73=E72,IFERROR(INDEX(baliseCM,MATCH(E71,lettre,0),MATCH($AK74,parcours,0)),\"\"),\"\")","v":""},"","","","","","","","","",3,"","","",3,"","","","","","","",3,"",3,3,"Points ",{"$f":"SUM(E74:AD74)","v":15},"pts",null,null,null,{"$f":"CONCATENATE(D70,\"points\")","v":"21Stevepoints"}]
[null,"EQUIPE 11",null,null,null,null,null,null,null,null,null,null,null,{"$f":"(HOUR(M76)*3600+MINUTE(M76)*60+SECOND(M76))-(HOUR($M$2)*3600+MINUTE($M$2)*60+SECOND($M$2))","v":{"$error":"#NUM!"}}]
[null,null,null,{"$f":"CONCATENATE(D77,\"bis\")","v":"21Stevebis"},"12:45:23",null,null,null,null,null,"Durée :",null,{"$f":"I76-E76","v":-0.53151620370370367},null,null,null,null,null,null,null,null,null,null,null,null,null,null,null,null,null,"Classement points",{"$f":"RANK(AF80,AJ:AJ)","v":1},{"$f":"IF(AF76=1,\"er\",\"ème\")","v":"er"}]
[null,null,null,{"$f":"$H$2","v":"21Steve"},{"$f":"SQRT(POWER((VLOOKUP(E79,DEBUT!$D$5:$J$110,6,FALSE)-VLOOKUP(F79,DEBUT!$D$5:$J$110,6,FALSE)),2)+POWER((VLOOKUP(E79,DEBUT!$D$5:$J$110,7,FALSE)-VLOOKUP(F79,DEBUT!$D$5:$J$110,7,FALSE)),2))/CARTE!$O$9","v":0},{"$f":"SQRT(POWER((VLOOKUP(F79,DEBUT!$D$5:$J$110,6,FALSE)-VLOOKUP(G79,DEBUT!$D$5:$J$110,6,FALSE)),2)+POWER((VLOOKUP(F79,DEBUT!$D$5:$J$110,7,FALSE)-VLOOKUP(G79,DEBUT!$D$5:$J$110,7,FALSE)),2))/CARTE!$O$9","v":0},{"$f":"SQRT(POWER((VLOOKUP(G79,DEBUT!$D$5:$J$110,6,FALSE)-VLOOKUP(H79,DEBUT!$D$5:$J$110,6,FALSE)),2)+POWER((VLOOKUP(G79,DEBUT!$D$5:$J$110,7,FALSE)-VLOOKUP(H79,DEBUT!$D$5:$J$110,7,FALSE)),2))/CARTE!$O$9","v":0},{"$f":"SQRT(POWER((VLOOKUP(H79,DEBUT!$D$5:$J$110,6,FALSE)-VLOOKUP(I79,DEBUT!$D$5:$J$110,6,FALSE)),2)+POWER((VLOOKUP(H79,DEBUT!$D$5:$J$110,7,FALSE)-VLOOKUP(I79,DEBUT!$D$5:$J$110,7,FALSE)),2))/CARTE!$O$9","v":0},{"$f":"SQRT(POWER((VLOOKUP(I79,DEBUT!$D$5:$J$110,6,FALSE)-VLOOKUP(J79,DEBUT!$D$5:$J$110,6,FALSE)),2)+POWER((VLOOKUP(I79,DEBUT!$D$5:$J$110,7,FALSE)-VLOOKUP(J79,DEBUT!$D$5:$J$110,7,FALSE)),2))/CARTE!$O$9","v":0},{"$f":"SQRT(POWER((VLOOKUP(J79,DEBUT!$D$5:$J$110,6,FALSE)-VLOOKUP(K79,DEBUT!$D$5:$J$110,6,FALSE)),2)+POWER((VLOOKUP(J79,DEBUT!$D$5:$J$110,7,FALSE)-VLOOKUP(K79,DEBUT!$D$5:$J$110,7,FALSE)),2))/CARTE!$O$9","v":0},{"$f":"SQRT(POWER((VLOOKUP(K79,DEBUT!$D$5:$J$110,6,FALSE)-VLOOKUP(L79,DEBUT!$D$5:$J$110,6,FALSE)),2)+POWER((VLOOKUP(K79,DEBUT!$D$5:$J$110,7,FALSE)-VLOOKUP(L79,DEBUT!$D$5:$J$110,7,FALSE)),2))/CARTE!$O$9","v":0},{"$f":"SQRT(POWER((VLOOKUP(L79,DEBUT!$D$5:$J$110,6,FALSE)-VLOOKUP(M79,DEBUT!$D$5:$J$110,6,FALSE)),2)+POWER((VLOOKUP(L79,DEBUT!$D$5:$J$110,7,FALSE)-VLOOKUP(M79,DEBUT!$D$5:$J$110,7,FALSE)),2))/CARTE!$O$9","v":0},{"$f":"SQRT(POWER((VLOOKUP(M79,DEBUT!$D$5:$J$110,6,FALSE)-VLOOKUP(N79,DEBUT!$D$5:$J$110,6,FALSE)),2)+POWER((VLOOKUP(M79,DEBUT!$D$5:$J$110,7,FALSE)-VLOOKUP(N79,DEBUT!$D$5:$J$110,7,FALSE)),2))/CARTE!$O$9","v":0},{"$f":"SQRT(POWER((VLOOKUP(N79,DEBUT!$D$5:$J$110,6,FALSE)-VLOOKUP(O79,DEBUT!$D$5:$J$110,6,FALSE)),2)+POWER((VLOOKUP(N79,DEBUT!$D$5:$J$110,7,FALSE)-VLOOKUP(O79,DEBUT!$D$5:$J$110,7,FALSE)),2))/CARTE!$O$9","v":0},{"$f":"SQRT(POWER((VLOOKUP(O79,DEBUT!$D$5:$J$110,6,FALSE)-VLOOKUP(P79,DEBUT!$D$5:$J$110,6,FALSE)),2)+POWER((VLOOKUP(O79,DEBUT!$D$5:$J$110,7,FALSE)-VLOOKUP(P79,DEBUT!$D$5:$J$110,7,FALSE)),2))/CARTE!$O$9","v":0},{"$f":"SQRT(POWER((VLOOKUP(P79,DEBUT!$D$5:$J$110,6,FALSE)-VLOOKUP(Q79,DEBUT!$D$5:$J$110,6,FALSE)),2)+POWER((VLOOKUP(P79,DEBUT!$D$5:$J$110,7,FALSE)-VLOOKUP(Q79,DEBUT!$D$5:$J$110,7,FALSE)),2))/CARTE!$O$9","v":0},{"$f":"SQRT(POWER((VLOOKUP(Q79,DEBUT!$D$5:$J$110,6,FALSE)-VLOOKUP(R79,DEBUT!$D$5:$J$110,6,FALSE)),2)+POWER((VLOOKUP(Q79,DEBUT!$D$5:$J$110,7,FALSE)-VLOOKUP(R79,DEBUT!$D$5:$J$110,7,FALSE)),2))/CARTE!$O$9","v":0},{"$f":"SQRT(POWER((VLOOKUP(R79,DEBUT!$D$5:$J$110,6,FALSE)-VLOOKUP(S79,DEBUT!$D$5:$J$110,6,FALSE)),2)+POWER((VLOOKUP(R79,DEBUT!$D$5:$J$110,7,FALSE)-VLOOKUP(S79,DEBUT!$D$5:$J$110,7,FALSE)),2))/CARTE!$O$9","v":0},{"$f":"SQRT(POWER((VLOOKUP(S79,DEBUT!$D$5:$J$110,6,FALSE)-VLOOKUP(T79,DEBUT!$D$5:$J$110,6,FALSE)),2)+POWER((VLOOKUP(S79,DEBUT!$D$5:$J$110,7,FALSE)-VLOOKUP(T79,DEBUT!$D$5:$J$110,7,FALSE)),2))/CARTE!$O$9","v":0},{"$f":"SQRT(POWER((VLOOKUP(T79,DEBUT!$D$5:$J$110,6,FALSE)-VLOOKUP(U79,DEBUT!$D$5:$J$110,6,FALSE)),2)+POWER((VLOOKUP(T79,DEBUT!$D$5:$J$110,7,FALSE)-VLOOKUP(U79,DEBUT!$D$5:$J$110,7,FALSE)),2))/CARTE!$O$9","v":0},{"$f":"SQRT(POWER((VLOOKUP(U79,DEBUT!$D$5:$J$110,6,FALSE)-VLOOKUP(V79,DEBUT!$D$5:$J$110,6,FALSE)),2)+POWER((VLOOKUP(U79,DEBUT!$D$5:$J$110,7,FALSE)-VLOOKUP(V79,DEBUT!$D$5:$J$110,7,FALSE)),2))/CARTE!$O$9","v":0},{"$f":"SQRT(POWER((VLOOKUP(V79,DEBUT!$D$5:$J$110,6,FALSE)-VLOOKUP(W79,DEBUT!$D$5:$J$110,6,FALSE)),2)+POWER((VLOOKUP(V79,DEBUT!$D$5:$J$110,7,FALSE)-VLOOKUP(W79,DEBUT!$D$5:$J$110,7,FALSE)),2))/CARTE!$O$9","v":0},{"$f":"SQRT(POWER((VLOOKUP(W79,DEBUT!$D$5:$J$110,6,FALSE)-VLOOKUP(X79,DEBUT!$D$5:$J$110,6,FALSE)),2)+POWER((VLOOKUP(W79,DEBUT!$D$5:$J$110,7,FALSE)-VLOOKUP(X79,DEBUT!$D$5:$J$110,7,FALSE)),2))/CARTE!$O$9","v":0},{"$f":"SQRT(POWER((VLOOKUP(X79,DEBUT!$D$5:$J$110,6,FALSE)-VLOOKUP(Y79,DEBUT!$D$5:$J$110,6,FALSE)),2)+POWER((VLOOKUP(X79,DEBUT!$D$5:$J$110,7,FALSE)-VLOOKUP(Y79,DEBUT!$D$5:$J$110,7,FALSE)),2))/CARTE!$O$9","v":0},{"$f":"SQRT(POWER((VLOOKUP(Y79,DEBUT!$D$5:$J$110,6,FALSE)-VLOOKUP(Z79,DEBUT!$D$5:$J$110,6,FALSE)),2)+POWER((VLOOKUP(Y79,DEBUT!$D$5:$J$110,7,FALSE)-VLOOKUP(Z79,DEBUT!$D$5:$J$110,7,FALSE)),2))/CARTE!$O$9","v":0},{"$f":"SQRT(POWER((VLOOKUP(Z79,DEBUT!$D$5:$J$110,6,FALSE)-VLOOKUP(AA79,DEBUT!$D$5:$J$110,6,FALSE)),2)+POWER((VLOOKUP(Z79,DEBUT!$D$5:$J$110,7,FALSE)-VLOOKUP(AA79,DEBUT!$D$5:$J$110,7,FALSE)),2))/CARTE!$O$9","v":0},{"$f":"SQRT(POWER((VLOOKUP(AA79,DEBUT!$D$5:$J$110,6,FALSE)-VLOOKUP(AB79,DEBUT!$D$5:$J$110,6,FALSE)),2)+POWER((VLOOKUP(AA79,DEBUT!$D$5:$J$110,7,FALSE)-VLOOKUP(AB79,DEBUT!$D$5:$J$110,7,FALSE)),2))/CARTE!$O$9","v":0},{"$f":"SQRT(POWER((VLOOKUP(AB79,DEBUT!$D$5:$J$110,6,FALSE)-VLOOKUP(AC79,DEBUT!$D$5:$J$110,6,FALSE)),2)+POWER((VLOOKUP(AB79,DEBUT!$D$5:$J$110,7,FALSE)-VLOOKUP(AC79,DEBUT!$D$5:$J$110,7,FALSE)),2))/CARTE!$O$9","v":0},{"$f":"SQRT(POWER((VLOOKUP(AC79,DEBUT!$D$5:$J$110,6,FALSE)-VLOOKUP(AD79,DEBUT!$D$5:$J$110,6,FALSE)),2)+POWER((VLOOKUP(AC79,DEBUT!$D$5:$J$110,7,FALSE)-VLOOKUP(AD79,DEBUT!$D$5:$J$110,7,FALSE)),2))/CARTE!$O$9","v":0},{"$f":"SQRT(POWER((VLOOKUP(AD79,DEBUT!$D$5:$J$110,6,FALSE)-VLOOKUP(AE79,DEBUT!$D$5:$J$110,6,FALSE)),2)+POWER((VLOOKUP(AD79,DEBUT!$D$5:$J$110,7,FALSE)-VLOOKUP(AE79,DEBUT!$D$5:$J$110,7,FALSE)),2))/CARTE!$O$9","v":{"$error":"#N/A"}},"Temps",{"$f":"IF(N75<0,CONCATENATE(\"-\",(MINUTE(M76)-MINUTE($M$2))),CONCATENATE(\"+\",(ABS(MINUTE(M76)-MINUTE($M$2)))))","v":{"$error":"#NUM!"}},"minutes"]
[null,null,null,"Balises prévues",{"$f":"IF(ISTEXT($D77),HLOOKUP($D77,DEBUT!$O$3:$XX$100,3,FALSE),\"\")","v":"A"},{"$f":"IF(ISTEXT($D77),HLOOKUP($D77,DEBUT!$O$3:$XX$100,4,FALSE),\"\")","v":"B"},{"$f":"IF(ISTEXT($D77),HLOOKUP($D77,DEBUT!$O$3:$XX$100,5,FALSE),\"\")","v":"C"},{"$f":"IF(ISTEXT($D77),HLOOKUP($D77,DEBUT!$O$3:$XX$100,6,FALSE),\"\")","v":"D"},{"$f":"IF(ISTEXT($D77),HLOOKUP($D77,DEBUT!$O$3:$XX$100,7,FALSE),\"\")","v":"E"},{"$f":"IF(ISTEXT($D77),HLOOKUP($D77,DEBUT!$O$3:$XX$100,8,FALSE),\"\")","v":"F"},{"$f":"IF(ISTEXT($D77),HLOOKUP($D77,DEBUT!$O$3:$XX$100,9,FALSE),\"\")","v":"G"},{"$f":"IF(ISTEXT($D77),HLOOKUP($D77,DEBUT!$O$3:$XX$100,10,FALSE),\"\")","v":"H"},{"$f":"IF(ISTEXT($D77),HLOOKUP($D77,DEBUT!$O$3:$XX$100,11,FALSE),\"\")","v":"I"},{"$f":"IF(ISTEXT($D77),HLOOKUP($D77,DEBUT!$O$3:$XX$100,12,FALSE),\"\")","v":"J"},{"$f":"IF(ISTEXT($D77),HLOOKUP($D77,DEBUT!$O$3:$XX$100,13,FALSE),\"\")","v":"K"},{"$f":"IF(ISTEXT($D77),HLOOKUP($D77,DEBUT!$O$3:$XX$100,14,FALSE),\"\")","v":"L"},{"$f":"IF(ISTEXT($D77),HLOOKUP($D77,DEBUT!$O$3:$XX$100,15,FALSE),\"\")","v":"M"},{"$f":"IF(ISTEXT($D77),HLOOKUP($D77,DEBUT!$O$3:$XX$100,16,FALSE),\"\")","v":"N"},{"$f":"IF(ISTEXT($D77),HLOOKUP($D77,DEBUT!$O$3:$XX$100,17,FALSE),\"\")","v":"O"},{"$f":"IF(ISTEXT($D77),HLOOKUP($D77,DEBUT!$O$3:$XX$100,18,FALSE),\"\")","v":"P"},{"$f":"IF(ISTEXT($D77),HLOOKUP($D77,DEBUT!$O$3:$XX$100,19,FALSE),\"\")","v":"Q"},{"$f":"IF(ISTEXT($D77),HLOOKUP($D77,DEBUT!$O$3:$XX$100,20,FALSE),\"\")","v":"R"},{"$f":"IF(ISTEXT($D77),HLOOKUP($D77,DEBUT!$O$3:$XX$100,21,FALSE),\"\")","v":"S"},{"$f":"IF(ISTEXT($D77),HLOOKUP($D77,DEBUT!$O$3:$XX$100,22,FALSE),\"\")","v":"T"},{"$f":"IF(ISTEXT($D77),HLOOKUP($D77,DEBUT!$O$3:$XX$100,23,FALSE),\"\")","v":"U"},{"$f":"IF(ISTEXT($D77),HLOOKUP($D77,DEBUT!$O$3:$XX$100,24,FALSE),\"\")","v":"V"},{"$f":"IF(ISTEXT($D77),HLOOKUP($D77,DEBUT!$O$3:$XX$100,25,FALSE),\"\")","v":"W"},{"$f":"IF(ISTEXT($D77),HLOOKUP($D77,DEBUT!$O$3:$XX$100,26,FALSE),\"\")","v":"X"},{"$f":"IF(ISTEXT($D77),HLOOKUP($D77,DEBUT!$O$3:$XX$100,27,FALSE),\"\")","v":"Y"},{"$f":"IF(ISTEXT($D77),HLOOKUP($D77,DEBUT!$O$3:$XX$100,28,FALSE),\"\")","v":"Z"}]
[null,null,null,"Vrai numéro des balises trouvées",null,null,null,null,null,null,null,null,null,null,null,null,null,null,null,null,null,null,null,null,null,null,null,null,null,null,"Nb balises trouvées",{"$f":"SUMPRODUCT(N(ISNUMBER(E79:AD79)))","v":0},"trouvées"]
[null,null,null,"Balises CM",{"$f":"IFERROR(INDEX(baliseCM,MATCH(E78,lettre,0),MATCH($D76,parcours,0)),\"\")","v":12},{"$f":"IFERROR(INDEX(baliseCM,MATCH(F78,lettre,0),MATCH($D76,parcours,0)),\"\")","v":13},11,16,35,28,26,40,39,45,0,51,50,74,0,6,33,29,24,54,56,59,0,76,0,0,"Nombre balises justes",{"$f":"COUNTIF(E81:AD81,\">0\")","v":5},"justes",null,null,{"$f":"AF80","v":5}]
[null,null,null,"Points",{"$f":"IF(E80=E79,IFERROR(INDEX(baliseCM,MATCH(E78,lettre,0),MATCH($AK81,parcours,0)),\"\"),\"\")","v":""},"","","","","","","","","",3,"","","",3,"","","","","","","",3,"",3,3,"Points ",{"$f":"SUM(E81:AD81)","v":15},"pts",null,null,null,{"$f":"CONCATENATE(D77,\"points\")","v":"21Stevepoints"}]
[null,"EQUIPE 12",null,null,null,null,null,null,null,null,null,null,null,{"$f":"(HOUR(M83)*3600+MINUTE(M83)*60+SECOND(M83))-(HOUR($M$2)*3600+MINUTE($M$2)*60+SECOND($M$2))","v":{"$error":"#NUM!"}}]
[null,null,null,{"$f":"CONCATENATE(D84,\"bis\")","v":"21Stevebis"},"12:45:23",null,null,null,"12:44:05",null,"Durée :",null,{"$f":"I83-E83","v":-9.0277777777769685E-4},null,null,null,null,null,null,null,null,null,null,null,null,null,null,null,null,null,"Classement points",{"$f":"RANK(AF87,AJ:AJ)","v":1},{"$f":"IF(AF83=1,\"er\",\"ème\")","v":"er"}]
[null,null,null,{"$f":"$H$2","v":"21Steve"},{"$f":"SQRT(POWER((VLOOKUP(E86,DEBUT!$D$5:$J$110,6,FALSE)-VLOOKUP(F86,DEBUT!$D$5:$J$110,6,FALSE)),2)+POWER((VLOOKUP(E86,DEBUT!$D$5:$J$110,7,FALSE)-VLOOKUP(F86,DEBUT!$D$5:$J$110,7,FALSE)),2))/CARTE!$O$9","v":0},{"$f":"SQRT(POWER((VLOOKUP(F86,DEBUT!$D$5:$J$110,6,FALSE)-VLOOKUP(G86,DEBUT!$D$5:$J$110,6,FALSE)),2)+POWER((VLOOKUP(F86,DEBUT!$D$5:$J$110,7,FALSE)-VLOOKUP(G86,DEBUT!$D$5:$J$110,7,FALSE)),2))/CARTE!$O$9","v":0},{"$f":"SQRT(POWER((VLOOKUP(G86,DEBUT!$D$5:$J$110,6,FALSE)-VLOOKUP(H86,DEBUT!$D$5:$J$110,6,FALSE)),2)+POWER((VLOOKUP(G86,DEBUT!$D$5:$J$110,7,FALSE)-VLOOKUP(H86,DEBUT!$D$5:$J$110,7,FALSE)),2))/CARTE!$O$9","v":0},{"$f":"SQRT(POWER((VLOOKUP(H86,DEBUT!$D$5:$J$110,6,FALSE)-VLOOKUP(I86,DEBUT!$D$5:$J$110,6,FALSE)),2)+POWER((VLOOKUP(H86,DEBUT!$D$5:$J$110,7,FALSE)-VLOOKUP(I86,DEBUT!$D$5:$J$110,7,FALSE)),2))/CARTE!$O$9","v":0},{"$f":"SQRT(POWER((VLOOKUP(I86,DEBUT!$D$5:$J$110,6,FALSE)-VLOOKUP(J86,DEBUT!$D$5:$J$110,6,FALSE)),2)+POWER((VLOOKUP(I86,DEBUT!$D$5:$J$110,7,FALSE)-VLOOKUP(J86,DEBUT!$D$5:$J$110,7,FALSE)),2))/CARTE!$O$9","v":0},{"$f":"SQRT(POWER((VLOOKUP(J86,DEBUT!$D$5:$J$110,6,FALSE)-VLOOKUP(K86,DEBUT!$D$5:$J$110,6,FALSE)),2)+POWER((VLOOKUP(J86,DEBUT!$D$5:$J$110,7,FALSE)-VLOOKUP(K86,DEBUT!$D$5:$J$110,7,FALSE)),2))/CARTE!$O$9","v":0},{"$f":"SQRT(POWER((VLOOKUP(K86,DEBUT!$D$5:$J$110,6,FALSE)-VLOOKUP(L86,DEBUT!$D$5:$J$110,6,FALSE)),2)+POWER((VLOOKUP(K86,DEBUT!$D$5:$J$110,7,FALSE)-VLOOKUP(L86,DEBUT!$D$5:$J$110,7,FALSE)),2))/CARTE!$O$9","v":0},{"$f":"SQRT(POWER((VLOOKUP(L86,DEBUT!$D$5:$J$110,6,FALSE)-VLOOKUP(M86,DEBUT!$D$5:$J$110,6,FALSE)),2)+POWER((VLOOKUP(L86,DEBUT!$D$5:$J$110,7,FALSE)-VLOOKUP(M86,DEBUT!$D$5:$J$110,7,FALSE)),2))/CARTE!$O$9","v":0},{"$f":"SQRT(POWER((VLOOKUP(M86,DEBUT!$D$5:$J$110,6,FALSE)-VLOOKUP(N86,DEBUT!$D$5:$J$110,6,FALSE)),2)+POWER((VLOOKUP(M86,DEBUT!$D$5:$J$110,7,FALSE)-VLOOKUP(N86,DEBUT!$D$5:$J$110,7,FALSE)),2))/CARTE!$O$9","v":0},{"$f":"SQRT(POWER((VLOOKUP(N86,DEBUT!$D$5:$J$110,6,FALSE)-VLOOKUP(O86,DEBUT!$D$5:$J$110,6,FALSE)),2)+POWER((VLOOKUP(N86,DEBUT!$D$5:$J$110,7,FALSE)-VLOOKUP(O86,DEBUT!$D$5:$J$110,7,FALSE)),2))/CARTE!$O$9","v":0},{"$f":"SQRT(POWER((VLOOKUP(O86,DEBUT!$D$5:$J$110,6,FALSE)-VLOOKUP(P86,DEBUT!$D$5:$J$110,6,FALSE)),2)+POWER((VLOOKUP(O86,DEBUT!$D$5:$J$110,7,FALSE)-VLOOKUP(P86,DEBUT!$D$5:$J$110,7,FALSE)),2))/CARTE!$O$9","v":0},{"$f":"SQRT(POWER((VLOOKUP(P86,DEBUT!$D$5:$J$110,6,FALSE)-VLOOKUP(Q86,DEBUT!$D$5:$J$110,6,FALSE)),2)+POWER((VLOOKUP(P86,DEBUT!$D$5:$J$110,7,FALSE)-VLOOKUP(Q86,DEBUT!$D$5:$J$110,7,FALSE)),2))/CARTE!$O$9","v":0},{"$f":"SQRT(POWER((VLOOKUP(Q86,DEBUT!$D$5:$J$110,6,FALSE)-VLOOKUP(R86,DEBUT!$D$5:$J$110,6,FALSE)),2)+POWER((VLOOKUP(Q86,DEBUT!$D$5:$J$110,7,FALSE)-VLOOKUP(R86,DEBUT!$D$5:$J$110,7,FALSE)),2))/CARTE!$O$9","v":0},{"$f":"SQRT(POWER((VLOOKUP(R86,DEBUT!$D$5:$J$110,6,FALSE)-VLOOKUP(S86,DEBUT!$D$5:$J$110,6,FALSE)),2)+POWER((VLOOKUP(R86,DEBUT!$D$5:$J$110,7,FALSE)-VLOOKUP(S86,DEBUT!$D$5:$J$110,7,FALSE)),2))/CARTE!$O$9","v":0},{"$f":"SQRT(POWER((VLOOKUP(S86,DEBUT!$D$5:$J$110,6,FALSE)-VLOOKUP(T86,DEBUT!$D$5:$J$110,6,FALSE)),2)+POWER((VLOOKUP(S86,DEBUT!$D$5:$J$110,7,FALSE)-VLOOKUP(T86,DEBUT!$D$5:$J$110,7,FALSE)),2))/CARTE!$O$9","v":0},{"$f":"SQRT(POWER((VLOOKUP(T86,DEBUT!$D$5:$J$110,6,FALSE)-VLOOKUP(U86,DEBUT!$D$5:$J$110,6,FALSE)),2)+POWER((VLOOKUP(T86,DEBUT!$D$5:$J$110,7,FALSE)-VLOOKUP(U86,DEBUT!$D$5:$J$110,7,FALSE)),2))/CARTE!$O$9","v":0},{"$f":"SQRT(POWER((VLOOKUP(U86,DEBUT!$D$5:$J$110,6,FALSE)-VLOOKUP(V86,DEBUT!$D$5:$J$110,6,FALSE)),2)+POWER((VLOOKUP(U86,DEBUT!$D$5:$J$110,7,FALSE)-VLOOKUP(V86,DEBUT!$D$5:$J$110,7,FALSE)),2))/CARTE!$O$9","v":0},{"$f":"SQRT(POWER((VLOOKUP(V86,DEBUT!$D$5:$J$110,6,FALSE)-VLOOKUP(W86,DEBUT!$D$5:$J$110,6,FALSE)),2)+POWER((VLOOKUP(V86,DEBUT!$D$5:$J$110,7,FALSE)-VLOOKUP(W86,DEBUT!$D$5:$J$110,7,FALSE)),2))/CARTE!$O$9","v":0},{"$f":"SQRT(POWER((VLOOKUP(W86,DEBUT!$D$5:$J$110,6,FALSE)-VLOOKUP(X86,DEBUT!$D$5:$J$110,6,FALSE)),2)+POWER((VLOOKUP(W86,DEBUT!$D$5:$J$110,7,FALSE)-VLOOKUP(X86,DEBUT!$D$5:$J$110,7,FALSE)),2))/CARTE!$O$9","v":0},{"$f":"SQRT(POWER((VLOOKUP(X86,DEBUT!$D$5:$J$110,6,FALSE)-VLOOKUP(Y86,DEBUT!$D$5:$J$110,6,FALSE)),2)+POWER((VLOOKUP(X86,DEBUT!$D$5:$J$110,7,FALSE)-VLOOKUP(Y86,DEBUT!$D$5:$J$110,7,FALSE)),2))/CARTE!$O$9","v":0},{"$f":"SQRT(POWER((VLOOKUP(Y86,DEBUT!$D$5:$J$110,6,FALSE)-VLOOKUP(Z86,DEBUT!$D$5:$J$110,6,FALSE)),2)+POWER((VLOOKUP(Y86,DEBUT!$D$5:$J$110,7,FALSE)-VLOOKUP(Z86,DEBUT!$D$5:$J$110,7,FALSE)),2))/CARTE!$O$9","v":0},{"$f":"SQRT(POWER((VLOOKUP(Z86,DEBUT!$D$5:$J$110,6,FALSE)-VLOOKUP(AA86,DEBUT!$D$5:$J$110,6,FALSE)),2)+POWER((VLOOKUP(Z86,DEBUT!$D$5:$J$110,7,FALSE)-VLOOKUP(AA86,DEBUT!$D$5:$J$110,7,FALSE)),2))/CARTE!$O$9","v":0},{"$f":"SQRT(POWER((VLOOKUP(AA86,DEBUT!$D$5:$J$110,6,FALSE)-VLOOKUP(AB86,DEBUT!$D$5:$J$110,6,FALSE)),2)+POWER((VLOOKUP(AA86,DEBUT!$D$5:$J$110,7,FALSE)-VLOOKUP(AB86,DEBUT!$D$5:$J$110,7,FALSE)),2))/CARTE!$O$9","v":0},{"$f":"SQRT(POWER((VLOOKUP(AB86,DEBUT!$D$5:$J$110,6,FALSE)-VLOOKUP(AC86,DEBUT!$D$5:$J$110,6,FALSE)),2)+POWER((VLOOKUP(AB86,DEBUT!$D$5:$J$110,7,FALSE)-VLOOKUP(AC86,DEBUT!$D$5:$J$110,7,FALSE)),2))/CARTE!$O$9","v":0},{"$f":"SQRT(POWER((VLOOKUP(AC86,DEBUT!$D$5:$J$110,6,FALSE)-VLOOKUP(AD86,DEBUT!$D$5:$J$110,6,FALSE)),2)+POWER((VLOOKUP(AC86,DEBUT!$D$5:$J$110,7,FALSE)-VLOOKUP(AD86,DEBUT!$D$5:$J$110,7,FALSE)),2))/CARTE!$O$9","v":0},{"$f":"SQRT(POWER((VLOOKUP(AD86,DEBUT!$D$5:$J$110,6,FALSE)-VLOOKUP(AE86,DEBUT!$D$5:$J$110,6,FALSE)),2)+POWER((VLOOKUP(AD86,DEBUT!$D$5:$J$110,7,FALSE)-VLOOKUP(AE86,DEBUT!$D$5:$J$110,7,FALSE)),2))/CARTE!$O$9","v":{"$error":"#N/A"}},"Temps",{"$f":"IF(N82<0,CONCATENATE(\"-\",(MINUTE(M83)-MINUTE($M$2))),CONCATENATE(\"+\",(ABS(MINUTE(M83)-MINUTE($M$2)))))","v":{"$error":"#NUM!"}},"minutes"]
[null,null,null,"Balises prévues",{"$f":"IF(ISTEXT($D84),HLOOKUP($D84,DEBUT!$O$3:$XX$100,3,FALSE),\"\")","v":"A"},{"$f":"IF(ISTEXT($D84),HLOOKUP($D84,DEBUT!$O$3:$XX$100,4,FALSE),\"\")","v":"B"},{"$f":"IF(ISTEXT($D84),HLOOKUP($D84,DEBUT!$O$3:$XX$100,5,FALSE),\"\")","v":"C"},{"$f":"IF(ISTEXT($D84),HLOOKUP($D84,DEBUT!$O$3:$XX$100,6,FALSE),\"\")","v":"D"},{"$f":"IF(ISTEXT($D84),HLOOKUP($D84,DEBUT!$O$3:$XX$100,7,FALSE),\"\")","v":"E"},{"$f":"IF(ISTEXT($D84),HLOOKUP($D84,DEBUT!$O$3:$XX$100,8,FALSE),\"\")","v":"F"},{"$f":"IF(ISTEXT($D84),HLOOKUP($D84,DEBUT!$O$3:$XX$100,9,FALSE),\"\")","v":"G"},{"$f":"IF(ISTEXT($D84),HLOOKUP($D84,DEBUT!$O$3:$XX$100,10,FALSE),\"\")","v":"H"},{"$f":"IF(ISTEXT($D84),HLOOKUP($D84,DEBUT!$O$3:$XX$100,11,FALSE),\"\")","v":"I"},{"$f":"IF(ISTEXT($D84),HLOOKUP($D84,DEBUT!$O$3:$XX$100,12,FALSE),\"\")","v":"J"},{"$f":"IF(ISTEXT($D84),HLOOKUP($D84,DEBUT!$O$3:$XX$100,13,FALSE),\"\")","v":"K"},{"$f":"IF(ISTEXT($D84),HLOOKUP($D84,DEBUT!$O$3:$XX$100,14,FALSE),\"\")","v":"L"},{"$f":"IF(ISTEXT($D84),HLOOKUP($D84,DEBUT!$O$3:$XX$100,15,FALSE),\"\")","v":"M"},{"$f":"IF(ISTEXT($D84),HLOOKUP($D84,DEBUT!$O$3:$XX$100,16,FALSE),\"\")","v":"N"},{"$f":"IF(ISTEXT($D84),HLOOKUP($D84,DEBUT!$O$3:$XX$100,17,FALSE),\"\")","v":"O"},{"$f":"IF(ISTEXT($D84),HLOOKUP($D84,DEBUT!$O$3:$XX$100,18,FALSE),\"\")","v":"P"},{"$f":"IF(ISTEXT($D84),HLOOKUP($D84,DEBUT!$O$3:$XX$100,19,FALSE),\"\")","v":"Q"},{"$f":"IF(ISTEXT($D84),HLOOKUP($D84,DEBUT!$O$3:$XX$100,20,FALSE),\"\")","v":"R"},{"$f":"IF(ISTEXT($D84),HLOOKUP($D84,DEBUT!$O$3:$XX$100,21,FALSE),\"\")","v":"S"},{"$f":"IF(ISTEXT($D84),HLOOKUP($D84,DEBUT!$O$3:$XX$100,22,FALSE),\"\")","v":"T"},{"$f":"IF(ISTEXT($D84),HLOOKUP($D84,DEBUT!$O$3:$XX$100,23,FALSE),\"\")","v":"U"},{"$f":"IF(ISTEXT($D84),HLOOKUP($D84,DEBUT!$O$3:$XX$100,24,FALSE),\"\")","v":"V"},{"$f":"IF(ISTEXT($D84),HLOOKUP($D84,DEBUT!$O$3:$XX$100,25,FALSE),\"\")","v":"W"},{"$f":"IF(ISTEXT($D84),HLOOKUP($D84,DEBUT!$O$3:$XX$100,26,FALSE),\"\")","v":"X"},{"$f":"IF(ISTEXT($D84),HLOOKUP($D84,DEBUT!$O$3:$XX$100,27,FALSE),\"\")","v":"Y"},{"$f":"IF(ISTEXT($D84),HLOOKUP($D84,DEBUT!$O$3:$XX$100,28,FALSE),\"\")","v":"Z"}]
[null,null,null,"Vrai numéro des balises trouvées",null,null,null,null,null,null,null,null,null,null,null,null,null,null,null,null,null,null,null,null,null,null,null,null,null,null,"Nb balises trouvées",{"$f":"SUMPRODUCT(N(ISNUMBER(E86:AD86)))","v":0},"trouvées"]
[null,null,null,"Balises CM",{"$f":"IFERROR(INDEX(baliseCM,MATCH(E85,lettre,0),MATCH($D83,parcours,0)),\"\")","v":12},{"$f":"IFERROR(INDEX(baliseCM,MATCH(F85,lettre,0),MATCH($D83,parcours,0)),\"\")","v":13},11,16,35,28,26,40,39,45,0,51,50,74,0,6,33,29,24,54,56,59,0,76,0,0,"Nombre balises justes",{"$f":"COUNTIF(E88:AD88,\">0\")","v":5},"justes",null,null,{"$f":"AF87","v":5}]
[null,null,null,"Points",{"$f":"IF(E87=E86,IFERROR(INDEX(baliseCM,MATCH(E85,lettre,0),MATCH($AK88,parcours,0)),\"\"),\"\")","v":""},"","","","","","","","","",3,"","","",3,"","","","","","","",3,"",3,3,"Points ",{"$f":"SUM(E88:AD88)","v":15},"pts",null,null,null,{"$f":"CONCATENATE(D84,\"points\")","v":"21Stevepoints"}]

{"sheet":"TUTORAT12B","index":12,"n_rows":88,"n_cols":39,"rows_kept":88,"cut":false,"hidden":false,"merged":[[24,4,24,5],[24,7,24,8],[31,4,31,5],[31,7,31,8],[38,4,38,5],[38,7,38,8],[0,7,0,9],[1,4,1,5],[1,7,1,9],[17,4,17,5],[17,7,17,8],[10,4,10,5],[10,7,10,8],[45,4,45,5],[45,7,45,8],[52,4,52,5],[52,7,52,8],[80,4,80,5],[80,7,80,8],[87,4,87,5],[87,7,87,8],[59,4,59,5],[59,7,59,8],[66,4,66,5],[66,7,66,8],[73,4,73,5],[73,7,73,8]]}
[null,null,null,null,null,null,null,{"$f":"CONCATENATE(H2,\"bis\")","v":"6ROUGEbis"},null,null,null,null,"Temps limite"]
[null,"STAGE",null,null,"23:08:42",null,null,"6ROUGE",null,null,null,null,30.024305555555557,"min"]
[null,null,null,null,null,null,null,"Corriger balise ->","B"]
[null,null,null,null,null,null,null,null,{"$f":"IFERROR(INDEX(baliseCM,MATCH(I3,lettre,0),MATCH(H1,parcours,0)),\"\")","v":10},null,null,null,null,null,null,"Tutorat 12 balises","N3"]
[null,"EQUIPE 1","D","16:27:21",null,null,"16:27:23",null,null,"16:27:56",null,"16:28:21","12:15:32","16:28:50",null,"16:28:52",null,null,null,null,"Analyse du parcours",null,null,null,null,null,null,null,null,null,null,null,null,null,null,null,null,1,{"$f":"OFFSET(INDEX(eleves,MATCH(AL5,chiffre,0),MATCH($B$2,classes,0)),0,1)","v":"POL"}]
[null,"Estelle",null,{"$f":"CONCATENATE(D7,\"bis\")","v":"6ROUGEbis"},null,null,{"$f":"G5-D5","v":"00:00:02"},null,null,{"$f":"J5-D5","v":"00:00:35"},null,{"$f":"L5-J5","v":"00:00:25"},null,{"$f":"N5-L5","v":"00:00:29"},null,{"$f":"P5-N5","v":"00:00:02"},null,"Temps de course",{"$f":"SUMIF(E6:P6,\">0\",E6:P6)","v":"00:01:33"},{"$f":"ABS((HOUR(S6)*3600+MINUTE(S6)*60+SECOND(S6)))","v":93},null,null,null,null,null,null,null,null,null,null,null,null,null,null,null,null,null,2,{"$f":"OFFSET(INDEX(eleves,MATCH(AL6,chiffre,0),MATCH($B$2,classes,0)),0,1)","v":"CARINE"}]
[null,"Eric",null,{"$f":"$H$2","v":"6ROUGE"},{"$f":"IFERROR(SQRT(POWER((VLOOKUP($C$5,DEBUT!$D$5:$J$110,6,FALSE)-VLOOKUP(E9,DEBUT!$D$5:$J$110,6,FALSE)),2)+POWER((VLOOKUP($C$5,DEBUT!$D$5:$J$110,7,FALSE)-VLOOKUP(E9,DEBUT!$D$5:$J$110,7,FALSE)),2))/CARTE!$O$9,0)","v":177.2924730824831},{"$f":"IFERROR(SQRT(POWER((VLOOKUP(E9,DEBUT!$D$5:$J$110,6,FALSE)-VLOOKUP(F9,DEBUT!$D$5:$J$110,6,FALSE)),2)+POWER((VLOOKUP(E9,DEBUT!$D$5:$J$110,7,FALSE)-VLOOKUP(F9,DEBUT!$D$5:$J$110,7,FALSE)),2))/CARTE!$O$9,0)","v":292.41323207806477},{"$f":"IFERROR(SQRT(POWER((VLOOKUP(F9,DEBUT!$D$5:$J$110,6,FALSE)-VLOOKUP(G9,DEBUT!$D$5:$J$110,6,FALSE)),2)+POWER((VLOOKUP(F9,DEBUT!$D$5:$J$110,7,FALSE)-VLOOKUP(G9,DEBUT!$D$5:$J$110,7,FALSE)),2))/CARTE!$O$9,0)","v":185.45260026215442},{"$f":"IFERROR(SQRT(POWER((VLOOKUP(G9,DEBUT!$D$5:$J$110,6,FALSE)-VLOOKUP(H9,DEBUT!$D$5:$J$110,6,FALSE)),2)+POWER((VLOOKUP(G9,DEBUT!$D$5:$J$110,7,FALSE)-VLOOKUP(H9,DEBUT!$D$5:$J$110,7,FALSE)),2))/CARTE!$O$9,0)","v":388.88158128989608},{"$f":"IFERROR(SQRT(POWER((VLOOKUP(H9,DEBUT!$D$5:$J$110,6,FALSE)-VLOOKUP(I9,DEBUT!$D$5:$J$110,6,FALSE)),2)+POWER((VLOOKUP(H9,DEBUT!$D$5:$J$110,7,FALSE)-VLOOKUP(I9,DEBUT!$D$5:$J$110,7,FALSE)),2))/CARTE!$O$9,0)","v":1321.1931767408294},{"$f":"IFERROR(SQRT(POWER((VLOOKUP(I9,DEBUT!$D$5:$J$110,6,FALSE)-VLOOKUP(J9,DEBUT!$D$5:$J$110,6,FALSE)),2)+POWER((VLOOKUP(I9,DEBUT!$D$5:$J$110,7,FALSE)-VLOOKUP(J9,DEBUT!$D$5:$J$110,7,FALSE)),2))/CARTE!$O$9,0)","v":621.65617723594562},{"$f":"IFERROR(SQRT(POWER((VLOOKUP(J9,DEBUT!$D$5:$J$110,6,FALSE)-VLOOKUP(K9,DEBUT!$D$5:$J$110,6,FALSE)),2)+POWER((VLOOKUP(J9,DEBUT!$D$5:$J$110,7,FALSE)-VLOOKUP(K9,DEBUT!$D$5:$J$110,7,FALSE)),2))/CARTE!$O$9,0)","v":0},{"$f":"IFERROR(SQRT(POWER((VLOOKUP(K9,DEBUT!$D$5:$J$110,6,FALSE)-VLOOKUP(L9,DEBUT!$D$5:$J$110,6,FALSE)),2)+POWER((VLOOKUP(K9,DEBUT!$D$5:$J$110,7,FALSE)-VLOOKUP(L9,DEBUT!$D$5:$J$110,7,FALSE)),2))/CARTE!$O$9,0)","v":0},{"$f":"IFERROR(SQRT(POWER((VLOOKUP(L9,DEBUT!$D$5:$J$110,6,FALSE)-VLOOKUP(M9,DEBUT!$D$5:$J$110,6,FALSE)),2)+POWER((VLOOKUP(L9,DEBUT!$D$5:$J$110,7,FALSE)-VLOOKUP(M9,DEBUT!$D$5:$J$110,7,FALSE)),2))/CARTE!$O$9,0)","v":0},{"$f":"IFERROR(SQRT(POWER((VLOOKUP(M9,DEBUT!$D$5:$J$110,6,FALSE)-VLOOKUP(N9,DEBUT!$D$5:$J$110,6,FALSE)),2)+POWER((VLOOKUP(M9,DEBUT!$D$5:$J$110,7,FALSE)-VLOOKUP(N9,DEBUT!$D$5:$J$110,7,FALSE)),2))/CARTE!$O$9,0)","v":0},{"$f":"IFERROR(SQRT(POWER((VLOOKUP(N9,DEBUT!$D$5:$J$110,6,FALSE)-VLOOKUP(O9,DEBUT!$D$5:$J$110,6,FALSE)),2)+POWER((VLOOKUP(N9,DEBUT!$D$5:$J$110,7,FALSE)-VLOOKUP(O9,DEBUT!$D$5:$J$110,7,FALSE)),2))/CARTE!$O$9,0)","v":0},{"$f":"IFERROR(SQRT(POWER((VLOOKUP(O9,DEBUT!$D$5:$J$110,6,FALSE)-VLOOKUP(P9,DEBUT!$D$5:$J$110,6,FALSE)),2)+POWER((VLOOKUP(O9,DEBUT!$D$5:$J$110,7,FALSE)-VLOOKUP(P9,DEBUT!$D$5:$J$110,7,FALSE)),2))/CARTE!$O$9,0)","v":0},"m","Distance",{"$f":"SUM(E7:P7)","v":2986.8892406893729},"m",null,null,null,null,null,null,null,null,null,null,null,null,null,null,null,null,null,3,"BASTIEN"]
[null,"Dom",null,"Balises prévues",{"$f":"IF(ISTEXT($D7),HLOOKUP($D7,DEBUT!$O$3:$XX$100,3,FALSE),\"\")","v":"A"},{"$f":"IF(ISTEXT($D7),HLOOKUP($D7,DEBUT!$O$3:$XX$100,4,FALSE),\"\")","v":"B"},{"$f":"IF(ISTEXT($D7),HLOOKUP($D7,DEBUT!$O$3:$XX$100,5,FALSE),\"\")","v":"C"},{"$f":"IF(ISTEXT($D7),HLOOKUP($D7,DEBUT!$O$3:$XX$100,6,FALSE),\"\")","v":"D"},{"$f":"IF(ISTEXT($D7),HLOOKUP($D7,DEBUT!$O$3:$XX$100,7,FALSE),\"\")","v":"E"},{"$f":"IF(ISTEXT($D7),HLOOKUP($D7,DEBUT!$O$3:$XX$100,8,FALSE),\"\")","v":"F"},{"$f":"IF(ISTEXT($D7),HLOOKUP($D7,DEBUT!$O$3:$XX$100,9,FALSE),\"\")","v":0},{"$f":"IF(ISTEXT($D7),HLOOKUP($D7,DEBUT!$O$3:$XX$100,10,FALSE),\"\")","v":0},{"$f":"IF(ISTEXT($D7),HLOOKUP($D7,DEBUT!$O$3:$XX$100,11,FALSE),\"\")","v":0},{"$f":"IF(ISTEXT($D7),HLOOKUP($D7,DEBUT!$O$3:$XX$100,12,FALSE),\"\")","v":0},{"$f":"IF(ISTEXT($D7),HLOOKUP($D7,DEBUT!$O$3:$XX$100,13,FALSE),\"\")","v":"K"},{"$f":"IF(ISTEXT($D7),HLOOKUP($D7,DEBUT!$O$3:$XX$100,14,FALSE),\"\")","v":"L"},null,"Nombre balises prévues",{"$f":"SUMPRODUCT(N(ISTEXT(E8:P8)))","v":8},"prévues",null,null,null,null,null,null,null,null,null,null,null,null,null,null,null,null,null,4,"CORALINE"]
[null,"Christian ",null,"Validé",{"$f":"IF($D9=DEBUT!$L$5,E10,\"\")","v":7},{"$f":"IF($D9=DEBUT!$L$5,F10,\"\")","v":10},{"$f":"IF($D9=DEBUT!$L$5,G10,\"\")","v":11},{"$f":"IF($D9=DEBUT!$L$5,H10,\"\")","v":1},{"$f":"IF($D9=DEBUT!$L$5,I10,\"\")","v":76},{"$f":"IF($D9=DEBUT!$L$5,J10,\"\")","v":46},{"$f":"IF($D9=DEBUT!$L$5,K10,\"\")","v":""},{"$f":"IF($D9=DEBUT!$L$5,L10,\"\")","v":""},{"$f":"IF($D9=DEBUT!$L$5,M10,\"\")","v":""},{"$f":"IF($D9=DEBUT!$L$5,N10,\"\")","v":""},{"$f":"IF($D9=DEBUT!$L$5,O10,\"\")","v":0},{"$f":"IF($D9=DEBUT!$L$5,P10,\"\")","v":0},null,"Nombre balises trouvées",{"$f":"SUMPRODUCT(N(ISNUMBER(E9:P9)))","v":8},{"$f":"IF(S9>1,\"trouvées\",\"trouvée\")","v":"trouvées"},null,null,null,null,null,null,null,null,null,null,null,null,null,null,null,null,null,5,"GREGORY"]
[null,null,null,"Balises CM",{"$f":"IFERROR(INDEX(baliseCM,MATCH(E8,lettre,0),MATCH($D6,parcours,0)),\"\")","v":7},{"$f":"IFERROR(INDEX(baliseCM,MATCH(F8,lettre,0),MATCH($D6,parcours,0)),\"\")","v":10},11,1,76,46,{"$f":"IFERROR(INDEX(baliseCM,MATCH(K8,lettre,0),MATCH($D6,parcours,0)),\"\")","v":""},{"$f":"IFERROR(INDEX(baliseCM,MATCH(L8,lettre,0),MATCH($D6,parcours,0)),\"\")","v":""},"","",0,0,null,null,null,null,null,null,null,null,null,null,null,null,null,null,null,null,null,null,null,null,null,6,"THOMAS"]
[null,null,null,"Vitesse","à 2",null,{"$f":"((E7+F7+G7)/ABS((HOUR(G6)*3600+MINUTE(G6)*60+SECOND(G6))))*3.6","v":1179.284949760864},"à 2",null,{"$f":"((H7+I7+J7)/ABS((HOUR(J6)*3600+MINUTE(J6)*60+SECOND(J6))))*3.6","v":239.83518191314334},"P",{"$f":"((J7+K7+L7)/ABS((HOUR(L6)*3600+MINUTE(L6)*60+SECOND(L6))))*3.6","v":89.518489521976164},"T",{"$f":"((L7+M7+N7)/ABS((HOUR(N6)*3600+MINUTE(N6)*60+SECOND(N6))))*3.6","v":0},"à 2",0,"Km/h","Vitesse moyenne",{"$f":"S7/T6*3.6","v":115.62151899442733},"km/h",null,null,null,null,null,null,null,null,null,null,null,null,null,null,null,null,null,7,"ALAIN"]
[null,"EQUIPE 2",null,"07:44:01","16:02:14","16:02:21","07:44:06",null,null,"09:38:53",null,"16:29:11",null,null,null,null,null,null,null,null,"Analyse du parcours",null,null,null,null,null,null,null,null,null,null,null,null,null,null,null,null,8,"QUENTIN"]
[null,null,null,{"$f":"CONCATENATE(D14,\"bis\")","v":"6ROUGEbis"},null,null,{"$f":"G12-D12","v":"00:00:05"},null,null,{"$f":"J12-D12","v":"01:54:52"},null,{"$f":"L12-J12","v":"06:50:18"},null,{"$f":"N12-L12","v":-0.68693287037037043},null,{"$f":"P12-N12","v":"00:00:00"},null,"Temps de course",{"$f":"SUMIF(E13:P13,\">0\",E13:P13)","v":"08:45:15"},{"$f":"ABS((HOUR(S13)*3600+MINUTE(S13)*60+SECOND(S13)))","v":31515},null,null,null,null,null,null,null,null,null,null,null,null,null,null,null,null,null,9,"BAPTISTE"]
[null,null,null,{"$f":"$H$2","v":"6ROUGE"},{"$f":"IFERROR(SQRT(POWER((VLOOKUP($C$5,DEBUT!$D$5:$J$110,6,FALSE)-VLOOKUP(E16,DEBUT!$D$5:$J$110,6,FALSE)),2)+POWER((VLOOKUP($C$5,DEBUT!$D$5:$J$110,7,FALSE)-VLOOKUP(E16,DEBUT!$D$5:$J$110,7,FALSE)),2))/CARTE!$O$9,0)","v":177.2924730824831},{"$f":"IFERROR(SQRT(POWER((VLOOKUP(E16,DEBUT!$D$5:$J$110,6,FALSE)-VLOOKUP(F16,DEBUT!$D$5:$J$110,6,FALSE)),2)+POWER((VLOOKUP(E16,DEBUT!$D$5:$J$110,7,FALSE)-VLOOKUP(F16,DEBUT!$D$5:$J$110,7,FALSE)),2))/CARTE!$O$9,0)","v":292.41323207806477},{"$f":"IFERROR(SQRT(POWER((VLOOKUP(F16,DEBUT!$D$5:$J$110,6,FALSE)-VLOOKUP(G16,DEBUT!$D$5:$J$110,6,FALSE)),2)+POWER((VLOOKUP(F16,DEBUT!$D$5:$J$110,7,FALSE)-VLOOKUP(G16,DEBUT!$D$5:$J$110,7,FALSE)),2))/CARTE!$O$9,0)","v":185.45260026215442},{"$f":"IFERROR(SQRT(POWER((VLOOKUP(G16,DEBUT!$D$5:$J$110,6,FALSE)-VLOOKUP(H16,DEBUT!$D$5:$J$110,6,FALSE)),2)+POWER((VLOOKUP(G16,DEBUT!$D$5:$J$110,7,FALSE)-VLOOKUP(H16,DEBUT!$D$5:$J$110,7,FALSE)),2))/CARTE!$O$9,0)","v":388.88158128989608},{"$f":"IFERROR(SQRT(POWER((VLOOKUP(H16,DEBUT!$D$5:$J$110,6,FALSE)-VLOOKUP(I16,DEBUT!$D$5:$J$110,6,FALSE)),2)+POWER((VLOOKUP(H16,DEBUT!$D$5:$J$110,7,FALSE)-VLOOKUP(I16,DEBUT!$D$5:$J$110,7,FALSE)),2))/CARTE!$O$9,0)","v":1321.1931767408294},{"$f":"IFERROR(SQRT(POWER((VLOOKUP(I16,DEBUT!$D$5:$J$110,6,FALSE)-VLOOKUP(J16,DEBUT!$D$5:$J$110,6,FALSE)),2)+POWER((VLOOKUP(I16,DEBUT!$D$5:$J$110,7,FALSE)-VLOOKUP(J16,DEBUT!$D$5:$J$110,7,FALSE)),2))/CARTE!$O$9,0)","v":621.65617723594562},{"$f":"IFERROR(SQRT(POWER((VLOOKUP(J16,DEBUT!$D$5:$J$110,6,FALSE)-VLOOKUP(K16,DEBUT!$D$5:$J$110,6,FALSE)),2)+POWER((VLOOKUP(J16,DEBUT!$D$5:$J$110,7,FALSE)-VLOOKUP(K16,DEBUT!$D$5:$J$110,7,FALSE)),2))/CARTE!$O$9,0)","v":0},{"$f":"IFERROR(SQRT(POWER((VLOOKUP(K16,DEBUT!$D$5:$J$110,6,FALSE)-VLOOKUP(L16,DEBUT!$D$5:$J$110,6,FALSE)),2)+POWER((VLOOKUP(K16,DEBUT!$D$5:$J$110,7,FALSE)-VLOOKUP(L16,DEBUT!$D$5:$J$110,7,FALSE)),2))/CARTE!$O$9,0)","v":0},{"$f":"IFERROR(SQRT(POWER((VLOOKUP(L16,DEBUT!$D$5:$J$110,6,FALSE)-VLOOKUP(M16,DEBUT!$D$5:$J$110,6,FALSE)),2)+POWER((VLOOKUP(L16,DEBUT!$D$5:$J$110,7,FALSE)-VLOOKUP(M16,DEBUT!$D$5:$J$110,7,FALSE)),2))/CARTE!$O$9,0)","v":0},{"$f":"IFERROR(SQRT(POWER((VLOOKUP(M16,DEBUT!$D$5:$J$110,6,FALSE)-VLOOKUP(N16,DEBUT!$D$5:$J$110,6,FALSE)),2)+POWER((VLOOKUP(M16,DEBUT!$D$5:$J$110,7,FALSE)-VLOOKUP(N16,DEBUT!$D$5:$J$110,7,FALSE)),2))/CARTE!$O$9,0)","v":0},{"$f":"IFERROR(SQRT(POWER((VLOOKUP(N16,DEBUT!$D$5:$J$110,6,FALSE)-VLOOKUP(O16,DEBUT!$D$5:$J$110,6,FALSE)),2)+POWER((VLOOKUP(N16,DEBUT!$D$5:$J$110,7,FALSE)-VLOOKUP(O16,DEBUT!$D$5:$J$110,7,FALSE)),2))/CARTE!$O$9,0)","v":0},{"$f":"IFERROR(SQRT(POWER((VLOOKUP(O16,DEBUT!$D$5:$J$110,6,FALSE)-VLOOKUP(P16,DEBUT!$D$5:$J$110,6,FALSE)),2)+POWER((VLOOKUP(O16,DEBUT!$D$5:$J$110,7,FALSE)-VLOOKUP(P16,DEBUT!$D$5:$J$110,7,FALSE)),2))/CARTE!$O$9,0)","v":0},"m","Distance",{"$f":"SUM(E14:P14)","v":2986.8892406893729},"m",null,null,null,null,null,null,null,null,null,null,null,null,null,null,null,null,null,10,"FRANCK"]
[null,null,null,"Balises prévues",{"$f":"IF(ISTEXT($D14),HLOOKUP($D14,DEBUT!$O$3:$XX$100,3,FALSE),\"\")","v":"A"},{"$f":"IF(ISTEXT($D14),HLOOKUP($D14,DEBUT!$O$3:$XX$100,4,FALSE),\"\")","v":"B"},{"$f":"IF(ISTEXT($D14),HLOOKUP($D14,DEBUT!$O$3:$XX$100,5,FALSE),\"\")","v":"C"},{"$f":"IF(ISTEXT($D14),HLOOKUP($D14,DEBUT!$O$3:$XX$100,6,FALSE),\"\")","v":"D"},{"$f":"IF(ISTEXT($D14),HLOOKUP($D14,DEBUT!$O$3:$XX$100,7,FALSE),\"\")","v":"E"},{"$f":"IF(ISTEXT($D14),HLOOKUP($D14,DEBUT!$O$3:$XX$100,8,FALSE),\"\")","v":"F"},{"$f":"IF(ISTEXT($D14),HLOOKUP($D14,DEBUT!$O$3:$XX$100,9,FALSE),\"\")","v":0},{"$f":"IF(ISTEXT($D14),HLOOKUP($D14,DEBUT!$O$3:$XX$100,10,FALSE),\"\")","v":0},{"$f":"IF(ISTEXT($D14),HLOOKUP($D14,DEBUT!$O$3:$XX$100,11,FALSE),\"\")","v":0},{"$f":"IF(ISTEXT($D14),HLOOKUP($D14,DEBUT!$O$3:$XX$100,12,FALSE),\"\")","v":0},{"$f":"IF(ISTEXT($D14),HLOOKUP($D14,DEBUT!$O$3:$XX$100,13,FALSE),\"\")","v":"K"},{"$f":"IF(ISTEXT($D14),HLOOKUP($D14,DEBUT!$O$3:$XX$100,14,FALSE),\"\")","v":"L"},null,"Nombre balises prévues",{"$f":"SUMPRODUCT(N(ISTEXT(E15:P15)))","v":8},"prévues",null,null,null,null,null,null,null,null,null,null,null,null,null,null,null,null,null,11,"VALENTIN"]
[null,null,null,"Validé",{"$f":"IF($D16=DEBUT!$L$5,E17,\"\")","v":7},{"$f":"IF($D16=DEBUT!$L$5,F17,\"\")","v":10},{"$f":"IF($D16=DEBUT!$L$5,G17,\"\")","v":11},{"$f":"IF($D16=DEBUT!$L$5,H17,\"\")","v":1},{"$f":"IF($D16=DEBUT!$L$5,I17,\"\")","v":76},{"$f":"IF($D16=DEBUT!$L$5,J17,\"\")","v":46},{"$f":"IF($D16=DEBUT!$L$5,K17,\"\")","v":""},{"$f":"IF($D16=DEBUT!$L$5,L17,\"\")","v":""},{"$f":"IF($D16=DEBUT!$L$5,M17,\"\")","v":""},{"$f":"IF($D16=DEBUT!$L$5,N17,\"\")","v":""},{"$f":"IF($D16=DEBUT!$L$5,O17,\"\")","v":0},{"$f":"IF($D16=DEBUT!$L$5,P17,\"\")","v":0},null,"Nombre balises trouvées",{"$f":"SUMPRODUCT(N(ISNUMBER(E16:P16)))","v":8},{"$f":"IF(S16>1,\"trouvées\",\"trouvée\")","v":"trouvées"},null,null,null,null,null,null,null,null,null,null,null,null,null,null,null,null,null,12,"BENJAMIN"]
[null,null,null,"Balises CM",{"$f":"IFERROR(INDEX(baliseCM,MATCH(E15,lettre,0),MATCH($D13,parcours,0)),\"\")","v":7},{"$f":"IFERROR(INDEX(baliseCM,MATCH(F15,lettre,0),MATCH($D13,parcours,0)),\"\")","v":10},11,1,76,46,{"$f":"IFERROR(INDEX(baliseCM,MATCH(K15,lettre,0),MATCH($D13,parcours,0)),\"\")","v":""},{"$f":"IFERROR(INDEX(baliseCM,MATCH(L15,lettre,0),MATCH($D13,parcours,0)),\"\")","v":""},"","",0,0,null,null,null,null,null,null,null,null,null,null,null,null,null,null,null,null,null,null,null,null,null,13,"ANDY"]
[null,null,null,"Vitesse","à 2",null,{"$f":"((E14+F14+G14)/ABS((HOUR(G13)*3600+MINUTE(G13)*60+SECOND(G13))))*3.6","v":471.71397990434559},"à 2",null,{"$f":"((H14+I14+J14)/ABS((HOUR(J13)*3600+MINUTE(J13)*60+SECOND(J13))))*3.6","v":1.2179674066976227},"P",{"$f":"((J14+K14+L14)/ABS((HOUR(L13)*3600+MINUTE(L13)*60+SECOND(L13))))*3.6","v":9.0907556992826571E-2},"T",{"$f":"((L14+M14+N14)/ABS((HOUR(N13)*3600+MINUTE(N13)*60+SECOND(N13))))*3.6","v":{"$error":"#NUM!"}},"à 2",{"$f":"((N14+O14+P14)/ABS((HOUR(P13)*3600+MINUTE(P13)*60+SECOND(P13))))*3.6","v":{"$error":"#DIV/0!"}},"Km/h","Vitesse moyenne",{"$f":"S14/T13*3.6","v":0.34119629593786271},"km/h",null,null,null,null,null,null,null,null,null,null,null,null,null,null,null,null,null,14,"OLIVIER"]
[null,"EQUIPE 3",null,"15:51:45","15:55:06",null,null,null,null,null,null,null,null,null,null,null,null,null,null,null,"Analyse du parcours",null,null,null,null,null,null,null,null,null,null,null,null,null,null,null,null,15,"CHRISTIAN"]
[null,null,null,{"$f":"CONCATENATE(D21,\"bis\")","v":"6ROUGEbis"},null,null,{"$f":"G19-D19","v":-0.66093750000000007},null,null,{"$f":"J19-D19","v":-0.66093750000000007},null,{"$f":"L19-J19","v":"00:00:00"},null,{"$f":"N19-L19","v":"00:00:00"},null,{"$f":"P19-N19","v":"00:00:00"},null,"Temps de course",{"$f":"SUMIF(E20:P20,\">0\",E20:P20)","v":"00:00:00"},{"$f":"ABS((HOUR(S20)*3600+MINUTE(S20)*60+SECOND(S20)))","v":0},null,null,null,null,null,null,null,null,null,null,null,null,null,null,null,null,null,16,"CELINE"]
[null,null,null,{"$f":"$H$2","v":"6ROUGE"},{"$f":"IFERROR(SQRT(POWER((VLOOKUP($C$5,DEBUT!$D$5:$J$110,6,FALSE)-VLOOKUP(E23,DEBUT!$D$5:$J$110,6,FALSE)),2)+POWER((VLOOKUP($C$5,DEBUT!$D$5:$J$110,7,FALSE)-VLOOKUP(E23,DEBUT!$D$5:$J$110,7,FALSE)),2))/CARTE!$O$9,0)","v":177.2924730824831},{"$f":"IFERROR(SQRT(POWER((VLOOKUP(E23,DEBUT!$D$5:$J$110,6,FALSE)-VLOOKUP(F23,DEBUT!$D$5:$J$110,6,FALSE)),2)+POWER((VLOOKUP(E23,DEBUT!$D$5:$J$110,7,FALSE)-VLOOKUP(F23,DEBUT!$D$5:$J$110,7,FALSE)),2))/CARTE!$O$9,0)","v":292.41323207806477},{"$f":"IFERROR(SQRT(POWER((VLOOKUP(F23,DEBUT!$D$5:$J$110,6,FALSE)-VLOOKUP(G23,DEBUT!$D$5:$J$110,6,FALSE)),2)+POWER((VLOOKUP(F23,DEBUT!$D$5:$J$110,7,FALSE)-VLOOKUP(G23,DEBUT!$D$5:$J$110,7,FALSE)),2))/CARTE!$O$9,0)","v":185.45260026215442},{"$f":"IFERROR(SQRT(POWER((VLOOKUP(G23,DEBUT!$D$5:$J$110,6,FALSE)-VLOOKUP(H23,DEBUT!$D$5:$J$110,6,FALSE)),2)+POWER((VLOOKUP(G23,DEBUT!$D$5:$J$110,7,FALSE)-VLOOKUP(H23,DEBUT!$D$5:$J$110,7,FALSE)),2))/CARTE!$O$9,0)","v":388.88158128989608},{"$f":"IFERROR(SQRT(POWER((VLOOKUP(H23,DEBUT!$D$5:$J$110,6,FALSE)-VLOOKUP(I23,DEBUT!$D$5:$J$110,6,FALSE)),2)+POWER((VLOOKUP(H23,DEBUT!$D$5:$J$110,7,FALSE)-VLOOKUP(I23,DEBUT!$D$5:$J$110,7,FALSE)),2))/CARTE!$O$9,0)","v":1321.1931767408294},{"$f":"IFERROR(SQRT(POWER((VLOOKUP(I23,DEBUT!$D$5:$J$110,6,FALSE)-VLOOKUP(J23,DEBUT!$D$5:$J$110,6,FALSE)),2)+POWER((VLOOKUP(I23,DEBUT!$D$5:$J$110,7,FALSE)-VLOOKUP(J23,DEBUT!$D$5:$J$110,7,FALSE)),2))/CARTE!$O$9,0)","v":621.65617723594562},{"$f":"IFERROR(SQRT(POWER((VLOOKUP(J23,DEBUT!$D$5:$J$110,6,FALSE)-VLOOKUP(K23,DEBUT!$D$5:$J$110,6,FALSE)),2)+POWER((VLOOKUP(J23,DEBUT!$D$5:$J$110,7,FALSE)-VLOOKUP(K23,DEBUT!$D$5:$J$110,7,FALSE)),2))/CARTE!$O$9,0)","v":0},{"$f":"IFERROR(SQRT(POWER((VLOOKUP(K23,DEBUT!$D$5:$J$110,6,FALSE)-VLOOKUP(L23,DEBUT!$D$5:$J$110,6,FALSE)),2)+POWER((VLOOKUP(K23,DEBUT!$D$5:$J$110,7,FALSE)-VLOOKUP(L23,DEBUT!$D$5:$J$110,7,FALSE)),2))/CARTE!$O$9,0)","v":0},{"$f":"IFERROR(SQRT(POWER((VLOOKUP(L23,DEBUT!$D$5:$J$110,6,FALSE)-VLOOKUP(M23,DEBUT!$D$5:$J$110,6,FALSE)),2)+POWER((VLOOKUP(L23,DEBUT!$D$5:$J$110,7,FALSE)-VLOOKUP(M23,DEBUT!$D$5:$J$110,7,FALSE)),2))/CARTE!$O$9,0)","v":0},{"$f":"IFERROR(SQRT(POWER((VLOOKUP(M23,DEBUT!$D$5:$J$110,6,FALSE)-VLOOKUP(N23,DEBUT!$D$5:$J$110,6,FALSE)),2)+POWER((VLOOKUP(M23,DEBUT!$D$5:$J$110,7,FALSE)-VLOOKUP(N23,DEBUT!$D$5:$J$110,7,FALSE)),2))/CARTE!$O$9,0)","v":0},{"$f":"IFERROR(SQRT(POWER((VLOOKUP(N23,DEBUT!$D$5:$J$110,6,FALSE)-VLOOKUP(O23,DEBUT!$D$5:$J$110,6,FALSE)),2)+POWER((VLOOKUP(N23,DEBUT!$D$5:$J$110,7,FALSE)-VLOOKUP(O23,DEBUT!$D$5:$J$110,7,FALSE)),2))/CARTE!$O$9,0)","v":0},{"$f":"IFERROR(SQRT(POWER((VLOOKUP(O23,DEBUT!$D$5:$J$110,6,FALSE)-VLOOKUP(P23,DEBUT!$D$5:$J$110,6,FALSE)),2)+POWER((VLOOKUP(O23,DEBUT!$D$5:$J$110,7,FALSE)-VLOOKUP(P23,DEBUT!$D$5:$J$110,7,FALSE)),2))/CARTE!$O$9,0)","v":0},"m","Distance",{"$f":"SUM(E21:P21)","v":2986.8892406893729},"m",null,null,null,null,null,null,null,null,null,null,null,null,null,null,null,null,null,17,"SEBASTIEN"]
[null,null,null,"Balises prévues",{"$f":"IF(ISTEXT($D21),HLOOKUP($D21,DEBUT!$O$3:$XX$100,3,FALSE),\"\")","v":"A"},{"$f":"IF(ISTEXT($D21),HLOOKUP($D21,DEBUT!$O$3:$XX$100,4,FALSE),\"\")","v":"B"},{"$f":"IF(ISTEXT($D21),HLOOKUP($D21,DEBUT!$O$3:$XX$100,5,FALSE),\"\")","v":"C"},{"$f":"IF(ISTEXT($D21),HLOOKUP($D21,DEBUT!$O$3:$XX$100,6,FALSE),\"\")","v":"D"},{"$f":"IF(ISTEXT($D21),HLOOKUP($D21,DEBUT!$O$3:$XX$100,7,FALSE),\"\")","v":"E"},{"$f":"IF(ISTEXT($D21),HLOOKUP($D21,DEBUT!$O$3:$XX$100,8,FALSE),\"\")","v":"F"},{"$f":"IF(ISTEXT($D21),HLOOKUP($D21,DEBUT!$O$3:$XX$100,9,FALSE),\"\")","v":0},{"$f":"IF(ISTEXT($D21),HLOOKUP($D21,DEBUT!$O$3:$XX$100,10,FALSE),\"\")","v":0},{"$f":"IF(ISTEXT($D21),HLOOKUP($D21,DEBUT!$O$3:$XX$100,11,FALSE),\"\")","v":0},{"$f":"IF(ISTEXT($D21),HLOOKUP($D21,DEBUT!$O$3:$XX$100,12,FALSE),\"\")","v":0},{"$f":"IF(ISTEXT($D21),HLOOKUP($D21,DEBUT!$O$3:$XX$100,13,FALSE),\"\")","v":"K"},{"$f":"IF(ISTEXT($D21),HLOOKUP($D21,DEBUT!$O$3:$XX$100,14,FALSE),\"\")","v":"L"},null,"Nombre balises prévues",{"$f":"SUMPRODUCT(N(ISTEXT(E22:P22)))","v":8},"prévues",null,null,null,null,null,null,null,null,null,null,null,null,null,null,null,null,null,18,"PASCAL"]
[null,null,null,"Validé",{"$f":"IF($D23=DEBUT!$L$5,E24,\"\")","v":7},{"$f":"IF($D23=DEBUT!$L$5,F24,\"\")","v":10},{"$f":"IF($D23=DEBUT!$L$5,G24,\"\")","v":11},{"$f":"IF($D23=DEBUT!$L$5,H24,\"\")","v":1},{"$f":"IF($D23=DEBUT!$L$5,I24,\"\")","v":76},{"$f":"IF($D23=DEBUT!$L$5,J24,\"\")","v":46},{"$f":"IF($D23=DEBUT!$L$5,K24,\"\")","v":""},{"$f":"IF($D23=DEBUT!$L$5,L24,\"\")","v":""},{"$f":"IF($D23=DEBUT!$L$5,M24,\"\")","v":""},{"$f":"IF($D23=DEBUT!$L$5,N24,\"\")","v":""},{"$f":"IF($D23=DEBUT!$L$5,O24,\"\")","v":0},{"$f":"IF($D23=DEBUT!$L$5,P24,\"\")","v":0},null,"Nombre balises trouvées",{"$f":"SUMPRODUCT(N(ISNUMBER(E23:P23)))","v":8},{"$f":"IF(S23>1,\"trouvées\",\"trouvée\")","v":"trouvées"},null,null,null,null,null,null,null,null,null,null,null,null,null,null,null,null,null,19,"CAROLE"]
[null,null,null,"Balises CM",{"$f":"IFERROR(INDEX(baliseCM,MATCH(E22,lettre,0),MATCH($D20,parcours,0)),\"\")","v":7},{"$f":"IFERROR(INDEX(baliseCM,MATCH(F22,lettre,0),MATCH($D20,parcours,0)),\"\")","v":10},11,1,76,46,{"$f":"IFERROR(INDEX(baliseCM,MATCH(K22,lettre,0),MATCH($D20,parcours,0)),\"\")","v":""},{"$f":"IFERROR(INDEX(baliseCM,MATCH(L22,lettre,0),MATCH($D20,parcours,0)),\"\")","v":""},"","",0,0,null,null,null,null,null,null,null,null,null,null,null,null,null,null,null,null,null,null,null,null,null,20,"ISABELLE"]
[null,null,null,"Vitesse","à 2",null,{"$f":"((E21+F21+G21)/ABS((HOUR(G20)*3600+MINUTE(G20)*60+SECOND(G20))))*3.6","v":{"$error":"#NUM!"}},"à 2",null,{"$f":"((H21+I21+J21)/ABS((HOUR(J20)*3600+MINUTE(J20)*60+SECOND(J20))))*3.6","v":{"$error":"#NUM!"}},"P",{"$f":"((J21+K21+L21)/ABS((HOUR(L20)*3600+MINUTE(L20)*60+SECOND(L20))))*3.6","v":{"$error":"#DIV/0!"}},"T",{"$f":"((L21+M21+N21)/ABS((HOUR(N20)*3600+MINUTE(N20)*60+SECOND(N20))))*3.6","v":{"$error":"#DIV/0!"}},"à 2",{"$f":"((N21+O21+P21)/ABS((HOUR(P20)*3600+MINUTE(P20)*60+SECOND(P20))))*3.6","v":{"$error":"#DIV/0!"}},"Km/h","Vitesse moyenne",{"$f":"S21/T20*3.6","v":{"$error":"#DIV/0!"}},"km/h",null,null,null,null,null,null,null,null,null,null,null,null,null,null,null,null,null,21,"DAVID"]
[null,"EQUIPE 4",null,"15:51:45","15:55:06",null,null,null,"11:48:15",null,null,"16:50:05",null,null,null,null,null,null,null,null,"Analyse du parcours",null,null,null,null,null,null,null,null,null,null,null,null,null,null,null,null,22,"FRANCOIS"]
[null,null,null,{"$f":"CONCATENATE(D28,\"bis\")","v":"6ROUGEbis"},null,null,{"$f":"G26-D26","v":-0.66093750000000007},null,null,{"$f":"J26-D26","v":-0.66093750000000007},null,{"$f":"L26-J26","v":"16:50:05"},null,{"$f":"N26-L26","v":-0.70144675925925926},null,{"$f":"P26-N26","v":"00:00:00"},null,"Temps de course",{"$f":"SUMIF(E27:P27,\">0\",E27:P27)","v":"16:50:05"},{"$f":"ABS((HOUR(S27)*3600+MINUTE(S27)*60+SECOND(S27)))","v":60605},null,null,null,null,null,null,null,null,null,null,null,null,null,null,null,null,null,23,"Mick"]
[null,null,null,{"$f":"$H$2","v":"6ROUGE"},{"$f":"IFERROR(SQRT(POWER((VLOOKUP($C$5,DEBUT!$D$5:$J$110,6,FALSE)-VLOOKUP(E30,DEBUT!$D$5:$J$110,6,FALSE)),2)+POWER((VLOOKUP($C$5,DEBUT!$D$5:$J$110,7,FALSE)-VLOOKUP(E30,DEBUT!$D$5:$J$110,7,FALSE)),2))/CARTE!$O$9,0)","v":177.2924730824831},{"$f":"IFERROR(SQRT(POWER((VLOOKUP(E30,DEBUT!$D$5:$J$110,6,FALSE)-VLOOKUP(F30,DEBUT!$D$5:$J$110,6,FALSE)),2)+POWER((VLOOKUP(E30,DEBUT!$D$5:$J$110,7,FALSE)-VLOOKUP(F30,DEBUT!$D$5:$J$110,7,FALSE)),2))/CARTE!$O$9,0)","v":292.41323207806477},{"$f":"IFERROR(SQRT(POWER((VLOOKUP(F30,DEBUT!$D$5:$J$110,6,FALSE)-VLOOKUP(G30,DEBUT!$D$5:$J$110,6,FALSE)),2)+POWER((VLOOKUP(F30,DEBUT!$D$5:$J$110,7,FALSE)-VLOOKUP(G30,DEBUT!$D$5:$J$110,7,FALSE)),2))/CARTE!$O$9,0)","v":185.45260026215442},{"$f":"IFERROR(SQRT(POWER((VLOOKUP(G30,DEBUT!$D$5:$J$110,6,FALSE)-VLOOKUP(H30,DEBUT!$D$5:$J$110,6,FALSE)),2)+POWER((VLOOKUP(G30,DEBUT!$D$5:$J$110,7,FALSE)-VLOOKUP(H30,DEBUT!$D$5:$J$110,7,FALSE)),2))/CARTE!$O$9,0)","v":388.88158128989608},{"$f":"IFERROR(SQRT(POWER((VLOOKUP(H30,DEBUT!$D$5:$J$110,6,FALSE)-VLOOKUP(I30,DEBUT!$D$5:$J$110,6,FALSE)),2)+POWER((VLOOKUP(H30,DEBUT!$D$5:$J$110,7,FALSE)-VLOOKUP(I30,DEBUT!$D$5:$J$110,7,FALSE)),2))/CARTE!$O$9,0)","v":1321.1931767408294},{"$f":"IFERROR(SQRT(POWER((VLOOKUP(I30,DEBUT!$D$5:$J$110,6,FALSE)-VLOOKUP(J30,DEBUT!$D$5:$J$110,6,FALSE)),2)+POWER((VLOOKUP(I30,DEBUT!$D$5:$J$110,7,FALSE)-VLOOKUP(J30,DEBUT!$D$5:$J$110,7,FALSE)),2))/CARTE!$O$9,0)","v":621.65617723594562},{"$f":"IFERROR(SQRT(POWER((VLOOKUP(J30,DEBUT!$D$5:$J$110,6,FALSE)-VLOOKUP(K30,DEBUT!$D$5:$J$110,6,FALSE)),2)+POWER((VLOOKUP(J30,DEBUT!$D$5:$J$110,7,FALSE)-VLOOKUP(K30,DEBUT!$D$5:$J$110,7,FALSE)),2))/CARTE!$O$9,0)","v":0},{"$f":"IFERROR(SQRT(POWER((VLOOKUP(K30,DEBUT!$D$5:$J$110,6,FALSE)-VLOOKUP(L30,DEBUT!$D$5:$J$110,6,FALSE)),2)+POWER((VLOOKUP(K30,DEBUT!$D$5:$J$110,7,FALSE)-VLOOKUP(L30,DEBUT!$D$5:$J$110,7,FALSE)),2))/CARTE!$O$9,0)","v":0},{"$f":"IFERROR(SQRT(POWER((VLOOKUP(L30,DEBUT!$D$5:$J$110,6,FALSE)-VLOOKUP(M30,DEBUT!$D$5:$J$110,6,FALSE)),2)+POWER((VLOOKUP(L30,DEBUT!$D$5:$J$110,7,FALSE)-VLOOKUP(M30,DEBUT!$D$5:$J$110,7,FALSE)),2))/CARTE!$O$9,0)","v":0},{"$f":"IFERROR(SQRT(POWER((VLOOKUP(M30,DEBUT!$D$5:$J$110,6,FALSE)-VLOOKUP(N30,DEBUT!$D$5:$J$110,6,FALSE)),2)+POWER((VLOOKUP(M30,DEBUT!$D$5:$J$110,7,FALSE)-VLOOKUP(N30,DEBUT!$D$5:$J$110,7,FALSE)),2))/CARTE!$O$9,0)","v":0},{"$f":"IFERROR(SQRT(POWER((VLOOKUP(N30,DEBUT!$D$5:$J$110,6,FALSE)-VLOOKUP(O30,DEBUT!$D$5:$J$110,6,FALSE)),2)+POWER((VLOOKUP(N30,DEBUT!$D$5:$J$110,7,FALSE)-VLOOKUP(O30,DEBUT!$D$5:$J$110,7,FALSE)),2))/CARTE!$O$9,0)","v":0},{"$f":"IFERROR(SQRT(POWER((VLOOKUP(O30,DEBUT!$D$5:$J$110,6,FALSE)-VLOOKUP(P30,DEBUT!$D$5:$J$110,6,FALSE)),2)+POWER((VLOOKUP(O30,DEBUT!$D$5:$J$110,7,FALSE)-VLOOKUP(P30,DEBUT!$D$5:$J$110,7,FALSE)),2))/CARTE!$O$9,0)","v":0},"m","Distance",{"$f":"SUM(E28:P28)","v":2986.8892406893729},"m",null,null,null,null,null,null,null,null,null,null,null,null,null,null,null,null,null,24,0]
[null,null,null,"Balises prévues",{"$f":"IF(ISTEXT($D28),HLOOKUP($D28,DEBUT!$O$3:$XX$100,3,FALSE),\"\")","v":"A"},{"$f":"IF(ISTEXT($D28),HLOOKUP($D28,DEBUT!$O$3:$XX$100,4,FALSE),\"\")","v":"B"},{"$f":"IF(ISTEXT($D28),HLOOKUP($D28,DEBUT!$O$3:$XX$100,5,FALSE),\"\")","v":"C"},{"$f":"IF(ISTEXT($D28),HLOOKUP($D28,DEBUT!$O$3:$XX$100,6,FALSE),\"\")","v":"D"},{"$f":"IF(ISTEXT($D28),HLOOKUP($D28,DEBUT!$O$3:$XX$100,7,FALSE),\"\")","v":"E"},{"$f":"IF(ISTEXT($D28),HLOOKUP($D28,DEBUT!$O$3:$XX$100,8,FALSE),\"\")","v":"F"},{"$f":"IF(ISTEXT($D28),HLOOKUP($D28,DEBUT!$O$3:$XX$100,9,FALSE),\"\")","v":0},{"$f":"IF(ISTEXT($D28),HLOOKUP($D28,DEBUT!$O$3:$XX$100,10,FALSE),\"\")","v":0},{"$f":"IF(ISTEXT($D28),HLOOKUP($D28,DEBUT!$O$3:$XX$100,11,FALSE),\"\")","v":0},{"$f":"IF(ISTEXT($D28),HLOOKUP($D28,DEBUT!$O$3:$XX$100,12,FALSE),\"\")","v":0},{"$f":"IF(ISTEXT($D28),HLOOKUP($D28,DEBUT!$O$3:$XX$100,13,FALSE),\"\")","v":"K"},{"$f":"IF(ISTEXT($D28),HLOOKUP($D28,DEBUT!$O$3:$XX$100,14,FALSE),\"\")","v":"L"},null,"Nombre balises prévues",{"$f":"SUMPRODUCT(N(ISTEXT(E29:P29)))","v":8},"prévues",null,null,null,null,null,null,null,null,null,null,null,null,null,null,null,null,null,25,0]
[null,null,null,"Validé",{"$f":"IF($D30=DEBUT!$L$5,E31,\"\")","v":7},{"$f":"IF($D30=DEBUT!$L$5,F31,\"\")","v":10},{"$f":"IF($D30=DEBUT!$L$5,G31,\"\")","v":11},{"$f":"IF($D30=DEBUT!$L$5,H31,\"\")","v":1},{"$f":"IF($D30=DEBUT!$L$5,I31,\"\")","v":76},{"$f":"IF($D30=DEBUT!$L$5,J31,\"\")","v":46},{"$f":"IF($D30=DEBUT!$L$5,K31,\"\")","v":""},{"$f":"IF($D30=DEBUT!$L$5,L31,\"\")","v":""},{"$f":"IF($D30=DEBUT!$L$5,M31,\"\")","v":""},{"$f":"IF($D30=DEBUT!$L$5,N31,\"\")","v":""},{"$f":"IF($D30=DEBUT!$L$5,O31,\"\")","v":0},{"$f":"IF($D30=DEBUT!$L$5,P31,\"\")","v":0},null,"Nombre balises trouvées",{"$f":"SUMPRODUCT(N(ISNUMBER(E30:P30)))","v":8},{"$f":"IF(S30>1,\"trouvées\",\"trouvée\")","v":"trouvées"},null,null,null,null,null,null,null,null,null,null,null,null,null,null,null,null,null,26,0]
[null,null,null,"Balises CM",{"$f":"IFERROR(INDEX(baliseCM,MATCH(E29,lettre,0),MATCH($D27,parcours,0)),\"\")","v":7},{"$f":"IFERROR(INDEX(baliseCM,MATCH(F29,lettre,0),MATCH($D27,parcours,0)),\"\")","v":10},11,1,76,46,{"$f":"IFERROR(INDEX(baliseCM,MATCH(K29,lettre,0),MATCH($D27,parcours,0)),\"\")","v":""},{"$f":"IFERROR(INDEX(baliseCM,MATCH(L29,lettre,0),MATCH($D27,parcours,0)),\"\")","v":""},"","",0,0,null,null,null,null,null,null,null,null,null,null,null,null,null,null,null,null,null,null,null,null,null,27,0]
[null,null,null,"Vitesse","à 2",null,{"$f":"((E28+F28+G28)/ABS((HOUR(G27)*3600+MINUTE(G27)*60+SECOND(G27))))*3.6","v":{"$error":"#NUM!"}},"à 2",null,{"$f":"((H28+I28+J28)/ABS((HOUR(J27)*3600+MINUTE(J27)*60+SECOND(J27))))*3.6","v":{"$error":"#NUM!"}},"P",{"$f":"((J28+K28+L28)/ABS((HOUR(L27)*3600+MINUTE(L27)*60+SECOND(L27))))*3.6","v":3.6927023150720308E-2},"T",{"$f":"((L28+M28+N28)/ABS((HOUR(N27)*3600+MINUTE(N27)*60+SECOND(N27))))*3.6","v":{"$error":"#NUM!"}},"à 2",{"$f":"((N28+O28+P28)/ABS((HOUR(P27)*3600+MINUTE(P27)*60+SECOND(P27))))*3.6","v":{"$error":"#DIV/0!"}},"Km/h","Vitesse moyenne",{"$f":"S28/T27*3.6","v":0.17742432582265066},"km/h",null,null,null,null,null,null,null,null,null,null,null,null,null,null,null,null,null,28,0]
[null,"EQUIPE 5",null,"15:51:45","15:55:06",null,null,null,null,null,null,null,null,null,null,null,null,null,null,null,"Analyse du parcours",null,null,null,null,null,null,null,null,null,null,null,null,null,null,null,null,29,0]
[null,null,null,{"$f":"CONCATENATE(D35,\"bis\")","v":"6ROUGEbis"},null,null,{"$f":"G33-D33","v":-0.66093750000000007},null,null,{"$f":"J33-D33","v":-0.66093750000000007},null,{"$f":"L33-J33","v":"00:00:00"},null,{"$f":"N33-L33","v":"00:00:00"},null,{"$f":"P33-N33","v":"00:00:00"},null,"Temps de course",{"$f":"SUMIF(E34:P34,\">0\",E34:P34)","v":"00:00:00"},{"$f":"ABS((HOUR(S34)*3600+MINUTE(S34)*60+SECOND(S34)))","v":0},null,null,null,null,null,null,null,null,null,null,null,null,null,null,null,null,null,30,0]
[null,null,null,{"$f":"$H$2","v":"6ROUGE"},{"$f":"IFERROR(SQRT(POWER((VLOOKUP($C$5,DEBUT!$D$5:$J$110,6,FALSE)-VLOOKUP(E37,DEBUT!$D$5:$J$110,6,FALSE)),2)+POWER((VLOOKUP($C$5,DEBUT!$D$5:$J$110,7,FALSE)-VLOOKUP(E37,DEBUT!$D$5:$J$110,7,FALSE)),2))/CARTE!$O$9,0)","v":177.2924730824831},{"$f":"IFERROR(SQRT(POWER((VLOOKUP(E37,DEBUT!$D$5:$J$110,6,FALSE)-VLOOKUP(F37,DEBUT!$D$5:$J$110,6,FALSE)),2)+POWER((VLOOKUP(E37,DEBUT!$D$5:$J$110,7,FALSE)-VLOOKUP(F37,DEBUT!$D$5:$J$110,7,FALSE)),2))/CARTE!$O$9,0)","v":292.41323207806477},{"$f":"IFERROR(SQRT(POWER((VLOOKUP(F37,DEBUT!$D$5:$J$110,6,FALSE)-VLOOKUP(G37,DEBUT!$D$5:$J$110,6,FALSE)),2)+POWER((VLOOKUP(F37,DEBUT!$D$5:$J$110,7,FALSE)-VLOOKUP(G37,DEBUT!$D$5:$J$110,7,FALSE)),2))/CARTE!$O$9,0)","v":185.45260026215442},{"$f":"IFERROR(SQRT(POWER((VLOOKUP(G37,DEBUT!$D$5:$J$110,6,FALSE)-VLOOKUP(H37,DEBUT!$D$5:$J$110,6,FALSE)),2)+POWER((VLOOKUP(G37,DEBUT!$D$5:$J$110,7,FALSE)-VLOOKUP(H37,DEBUT!$D$5:$J$110,7,FALSE)),2))/CARTE!$O$9,0)","v":388.88158128989608},{"$f":"IFERROR(SQRT(POWER((VLOOKUP(H37,DEBUT!$D$5:$J$110,6,FALSE)-VLOOKUP(I37,DEBUT!$D$5:$J$110,6,FALSE)),2)+POWER((VLOOKUP(H37,DEBUT!$D$5:$J$110,7,FALSE)-VLOOKUP(I37,DEBUT!$D$5:$J$110,7,FALSE)),2))/CARTE!$O$9,0)","v":1321.1931767408294},{"$f":"IFERROR(SQRT(POWER((VLOOKUP(I37,DEBUT!$D$5:$J$110,6,FALSE)-VLOOKUP(J37,DEBUT!$D$5:$J$110,6,FALSE)),2)+POWER((VLOOKUP(I37,DEBUT!$D$5:$J$110,7,FALSE)-VLOOKUP(J37,DEBUT!$D$5:$J$110,7,FALSE)),2))/CARTE!$O$9,0)","v":621.65617723594562},{"$f":"IFERROR(SQRT(POWER((VLOOKUP(J37,DEBUT!$D$5:$J$110,6,FALSE)-VLOOKUP(K37,DEBUT!$D$5:$J$110,6,FALSE)),2)+POWER((VLOOKUP(J37,DEBUT!$D$5:$J$110,7,FALSE)-VLOOKUP(K37,DEBUT!$D$5:$J$110,7,FALSE)),2))/CARTE!$O$9,0)","v":0},{"$f":"IFERROR(SQRT(POWER((VLOOKUP(K37,DEBUT!$D$5:$J$110,6,FALSE)-VLOOKUP(L37,DEBUT!$D$5:$J$110,6,FALSE)),2)+POWER((VLOOKUP(K37,DEBUT!$D$5:$J$110,7,FALSE)-VLOOKUP(L37,DEBUT!$D$5:$J$110,7,FALSE)),2))/CARTE!$O$9,0)","v":0},{"$f":"IFERROR(SQRT(POWER((VLOOKUP(L37,DEBUT!$D$5:$J$110,6,FALSE)-VLOOKUP(M37,DEBUT!$D$5:$J$110,6,FALSE)),2)+POWER((VLOOKUP(L37,DEBUT!$D$5:$J$110,7,FALSE)-VLOOKUP(M37,DEBUT!$D$5:$J$110,7,FALSE)),2))/CARTE!$O$9,0)","v":0},{"$f":"IFERROR(SQRT(POWER((VLOOKUP(M37,DEBUT!$D$5:$J$110,6,FALSE)-VLOOKUP(N37,DEBUT!$D$5:$J$110,6,FALSE)),2)+POWER((VLOOKUP(M37,DEBUT!$D$5:$J$110,7,FALSE)-VLOOKUP(N37,DEBUT!$D$5:$J$110,7,FALSE)),2))/CARTE!$O$9,0)","v":0},{"$f":"IFERROR(SQRT(POWER((VLOOKUP(N37,DEBUT!$D$5:$J$110,6,FALSE)-VLOOKUP(O37,DEBUT!$D$5:$J$110,6,FALSE)),2)+POWER((VLOOKUP(N37,DEBUT!$D$5:$J$110,7,FALSE)-VLOOKUP(O37,DEBUT!$D$5:$J$110,7,FALSE)),2))/CARTE!$O$9,0)","v":0},{"$f":"IFERROR(SQRT(POWER((VLOOKUP(O37,DEBUT!$D$5:$J$110,6,FALSE)-VLOOKUP(P37,DEBUT!$D$5:$J$110,6,FALSE)),2)+POWER((VLOOKUP(O37,DEBUT!$D$5:$J$110,7,FALSE)-VLOOKUP(P37,DEBUT!$D$5:$J$110,7,FALSE)),2))/CARTE!$O$9,0)","v":0},"m","Distance",{"$f":"SUM(E35:P35)","v":2986.8892406893729},"m",null,null,null,null,null,null,null,null,null,null,null,null,null,null,null,null,null,31,0]
[null,null,null,"Balises prévues",{"$f":"IF(ISTEXT($D35),HLOOKUP($D35,DEBUT!$O$3:$XX$100,3,FALSE),\"\")","v":"A"},{"$f":"IF(ISTEXT($D35),HLOOKUP($D35,DEBUT!$O$3:$XX$100,4,FALSE),\"\")","v":"B"},{"$f":"IF(ISTEXT($D35),HLOOKUP($D35,DEBUT!$O$3:$XX$100,5,FALSE),\"\")","v":"C"},{"$f":"IF(ISTEXT($D35),HLOOKUP($D35,DEBUT!$O$3:$XX$100,6,FALSE),\"\")","v":"D"},{"$f":"IF(ISTEXT($D35),HLOOKUP($D35,DEBUT!$O$3:$XX$100,7,FALSE),\"\")","v":"E"},{"$f":"IF(ISTEXT($D35),HLOOKUP($D35,DEBUT!$O$3:$XX$100,8,FALSE),\"\")","v":"F"},{"$f":"IF(ISTEXT($D35),HLOOKUP($D35,DEBUT!$O$3:$XX$100,9,FALSE),\"\")","v":0},{"$f":"IF(ISTEXT($D35),HLOOKUP($D35,DEBUT!$O$3:$XX$100,10,FALSE),\"\")","v":0},{"$f":"IF(ISTEXT($D35),HLOOKUP($D35,DEBUT!$O$3:$XX$100,11,FALSE),\"\")","v":0},{"$f":"IF(ISTEXT($D35),HLOOKUP($D35,DEBUT!$O$3:$XX$100,12,FALSE),\"\")","v":0},{"$f":"IF(ISTEXT($D35),HLOOKUP($D35,DEBUT!$O$3:$XX$100,13,FALSE),\"\")","v":"K"},{"$f":"IF(ISTEXT($D35),HLOOKUP($D35,DEBUT!$O$3:$XX$100,14,FALSE),\"\")","v":"L"},null,"Nombre balises prévues",{"$f":"SUMPRODUCT(N(ISTEXT(E36:P36)))","v":8},"prévues",null,null,null,null,null,null,null,null,null,null,null,null,null,null,null,null,null,32,0]
[null,null,null,"Validé",{"$f":"IF($D37=DEBUT!$L$5,E38,\"\")","v":7},{"$f":"IF($D37=DEBUT!$L$5,F38,\"\")","v":10},{"$f":"IF($D37=DEBUT!$L$5,G38,\"\")","v":11},{"$f":"IF($D37=DEBUT!$L$5,H38,\"\")","v":1},{"$f":"IF($D37=DEBUT!$L$5,I38,\"\")","v":76},{"$f":"IF($D37=DEBUT!$L$5,J38,\"\")","v":46},{"$f":"IF($D37=DEBUT!$L$5,K38,\"\")","v":""},{"$f":"IF($D37=DEBUT!$L$5,L38,\"\")","v":""},{"$f":"IF($D37=DEBUT!$L$5,M38,\"\")","v":""},{"$f":"IF($D37=DEBUT!$L$5,N38,\"\")","v":""},{"$f":"IF($D37=DEBUT!$L$5,O38,\"\")","v":0},{"$f":"IF($D37=DEBUT!$L$5,P38,\"\")","v":0},null,"Nombre balises trouvées",{"$f":"SUMPRODUCT(N(ISNUMBER(E37:P37)))","v":8},{"$f":"IF(S37>1,\"trouvées\",\"trouvée\")","v":"trouvées"},null,null,null,null,null,null,null,null,null,null,null,null,null,null,null,null,null,33,0]
[null,null,null,"Balises CM",{"$f":"IFERROR(INDEX(baliseCM,MATCH(E36,lettre,0),MATCH($D34,parcours,0)),\"\")","v":7},{"$f":"IFERROR(INDEX(baliseCM,MATCH(F36,lettre,0),MATCH($D34,parcours,0)),\"\")","v":10},11,1,76,46,{"$f":"IFERROR(INDEX(baliseCM,MATCH(K36,lettre,0),MATCH($D34,parcours,0)),\"\")","v":""},{"$f":"IFERROR(INDEX(baliseCM,MATCH(L36,lettre,0),MATCH($D34,parcours,0)),\"\")","v":""},"","",0,0,null,null,null,null,null,null,null,null,null,null,null,null,null,null,null,null,null,null,null,null,null,34,0]
[null,null,null,"Vitesse","à 2",null,{"$f":"((E35+F35+G35)/ABS((HOUR(G34)*3600+MINUTE(G34)*60+SECOND(G34))))*3.6","v":{"$error":"#NUM!"}},"à 2",null,{"$f":"((H35+I35+J35)/ABS((HOUR(J34)*3600+MINUTE(J34)*60+SECOND(J34))))*3.6","v":{"$error":"#NUM!"}},"P",{"$f":"((J35+K35+L35)/ABS((HOUR(L34)*3600+MINUTE(L34)*60+SECOND(L34))))*3.6","v":{"$error":"#DIV/0!"}},"T",{"$f":"((L35+M35+N35)/ABS((HOUR(N34)*3600+MINUTE(N34)*60+SECOND(N34))))*3.6","v":{"$error":"#DIV/0!"}},"à 2",{"$f":"((N35+O35+P35)/ABS((HOUR(P34)*3600+MINUTE(P34)*60+SECOND(P34))))*3.6","v":{"$error":"#DIV/0!"}},"Km/h","Vitesse moyenne",{"$f":"S35/T34*3.6","v":{"$error":"#DIV/0!"}},"km/h",null,null,null,null,null,null,null,null,null,null,null,null,null,null,null,null,null,35,0]
[null,"EQUIPE 6",null,"15:51:45","15:55:06",null,null,null,null,null,null,null,null,null,null,null,null,null,null,null,"Analyse du parcours",null,null,null,null,null,null,null,null,null,null,null,null,null,null,null,null,36,0]
[null,null,null,{"$f":"CONCATENATE(D42,\"bis\")","v":"6ROUGEbis"},null,null,{"$f":"G40-D40","v":-0.66093750000000007},null,null,{"$f":"J40-D40","v":-0.66093750000000007},null,{"$f":"L40-J40","v":"00:00:00"},null,{"$f":"N40-L40","v":"00:00:00"},null,{"$f":"P40-N40","v":"00:00:00"},null,"Temps de course",{"$f":"SUMIF(E41:P41,\">0\",E41:P41)","v":"00:00:00"},{"$f":"ABS((HOUR(S41)*3600+MINUTE(S41)*60+SECOND(S41)))","v":0}]
[null,null,null,{"$f":"$H$2","v":"6ROUGE"},{"$f":"IFERROR(SQRT(POWER((VLOOKUP($C$5,DEBUT!$D$5:$J$110,6,FALSE)-VLOOKUP(E44,DEBUT!$D$5:$J$110,6,FALSE)),2)+POWER((VLOOKUP($C$5,DEBUT!$D$5:$J$110,7,FALSE)-VLOOKUP(E44,DEBUT!$D$5:$J$110,7,FALSE)),2))/CARTE!$O$9,0)","v":177.2924730824831},{"$f":"IFERROR(SQRT(POWER((VLOOKUP(E44,DEBUT!$D$5:$J$110,6,FALSE)-VLOOKUP(F44,DEBUT!$D$5:$J$110,6,FALSE)),2)+POWER((VLOOKUP(E44,DEBUT!$D$5:$J$110,7,FALSE)-VLOOKUP(F44,DEBUT!$D$5:$J$110,7,FALSE)),2))/CARTE!$O$9,0)","v":292.41323207806477},{"$f":"IFERROR(SQRT(POWER((VLOOKUP(F44,DEBUT!$D$5:$J$110,6,FALSE)-VLOOKUP(G44,DEBUT!$D$5:$J$110,6,FALSE)),2)+POWER((VLOOKUP(F44,DEBUT!$D$5:$J$110,7,FALSE)-VLOOKUP(G44,DEBUT!$D$5:$J$110,7,FALSE)),2))/CARTE!$O$9,0)","v":185.45260026215442},{"$f":"IFERROR(SQRT(POWER((VLOOKUP(G44,DEBUT!$D$5:$J$110,6,FALSE)-VLOOKUP(H44,DEBUT!$D$5:$J$110,6,FALSE)),2)+POWER((VLOOKUP(G44,DEBUT!$D$5:$J$110,7,FALSE)-VLOOKUP(H44,DEBUT!$D$5:$J$110,7,FALSE)),2))/CARTE!$O$9,0)","v":388.88158128989608},{"$f":"IFERROR(SQRT(POWER((VLOOKUP(H44,DEBUT!$D$5:$J$110,6,FALSE)-VLOOKUP(I44,DEBUT!$D$5:$J$110,6,FALSE)),2)+POWER((VLOOKUP(H44,DEBUT!$D$5:$J$110,7,FALSE)-VLOOKUP(I44,DEBUT!$D$5:$J$110,7,FALSE)),2))/CARTE!$O$9,0)","v":1321.1931767408294},{"$f":"IFERROR(SQRT(POWER((VLOOKUP(I44,DEBUT!$D$5:$J$110,6,FALSE)-VLOOKUP(J44,DEBUT!$D$5:$J$110,6,FALSE)),2)+POWER((VLOOKUP(I44,DEBUT!$D$5:$J$110,7,FALSE)-VLOOKUP(J44,DEBUT!$D$5:$J$110,7,FALSE)),2))/CARTE!$O$9,0)","v":621.65617723594562},{"$f":"IFERROR(SQRT(POWER((VLOOKUP(J44,DEBUT!$D$5:$J$110,6,FALSE)-VLOOKUP(K44,DEBUT!$D$5:$J$110,6,FALSE)),2)+POWER((VLOOKUP(J44,DEBUT!$D$5:$J$110,7,FALSE)-VLOOKUP(K44,DEBUT!$D$5:$J$110,7,FALSE)),2))/CARTE!$O$9,0)","v":0},{"$f":"IFERROR(SQRT(POWER((VLOOKUP(K44,DEBUT!$D$5:$J$110,6,FALSE)-VLOOKUP(L44,DEBUT!$D$5:$J$110,6,FALSE)),2)+POWER((VLOOKUP(K44,DEBUT!$D$5:$J$110,7,FALSE)-VLOOKUP(L44,DEBUT!$D$5:$J$110,7,FALSE)),2))/CARTE!$O$9,0)","v":0},{"$f":"IFERROR(SQRT(POWER((VLOOKUP(L44,DEBUT!$D$5:$J$110,6,FALSE)-VLOOKUP(M44,DEBUT!$D$5:$J$110,6,FALSE)),2)+POWER((VLOOKUP(L44,DEBUT!$D$5:$J$110,7,FALSE)-VLOOKUP(M44,DEBUT!$D$5:$J$110,7,FALSE)),2))/CARTE!$O$9,0)","v":0},{"$f":"IFERROR(SQRT(POWER((VLOOKUP(M44,DEBUT!$D$5:$J$110,6,FALSE)-VLOOKUP(N44,DEBUT!$D$5:$J$110,6,FALSE)),2)+POWER((VLOOKUP(M44,DEBUT!$D$5:$J$110,7,FALSE)-VLOOKUP(N44,DEBUT!$D$5:$J$110,7,FALSE)),2))/CARTE!$O$9,0)","v":0},{"$f":"IFERROR(SQRT(POWER((VLOOKUP(N44,DEBUT!$D$5:$J$110,6,FALSE)-VLOOKUP(O44,DEBUT!$D$5:$J$110,6,FALSE)),2)+POWER((VLOOKUP(N44,DEBUT!$D$5:$J$110,7,FALSE)-VLOOKUP(O44,DEBUT!$D$5:$J$110,7,FALSE)),2))/CARTE!$O$9,0)","v":0},{"$f":"IFERROR(SQRT(POWER((VLOOKUP(O44,DEBUT!$D$5:$J$110,6,FALSE)-VLOOKUP(P44,DEBUT!$D$5:$J$110,6,FALSE)),2)+POWER((VLOOKUP(O44,DEBUT!$D$5:$J$110,7,FALSE)-VLOOKUP(P44,DEBUT!$D$5:$J$110,7,FALSE)),2))/CARTE!$O$9,0)","v":0},"m","Distance",{"$f":"SUM(E42:P42)","v":2986.8892406893729},"m"]
[null,null,null,"Balises prévues",{"$f":"IF(ISTEXT($D42),HLOOKUP($D42,DEBUT!$O$3:$XX$100,3,FALSE),\"\")","v":"A"},{"$f":"IF(ISTEXT($D42),HLOOKUP($D42,DEBUT!$O$3:$XX$100,4,FALSE),\"\")","v":"B"},{"$f":"IF(ISTEXT($D42),HLOOKUP($D42,DEBUT!$O$3:$XX$100,5,FALSE),\"\")","v":"C"},{"$f":"IF(ISTEXT($D42),HLOOKUP($D42,DEBUT!$O$3:$XX$100,6,FALSE),\"\")","v":"D"},{"$f":"IF(ISTEXT($D42),HLOOKUP($D42,DEBUT!$O$3:$XX$100,7,FALSE),\"\")","v":"E"},{"$f":"IF(ISTEXT($D42),HLOOKUP($D42,DEBUT!$O$3:$XX$100,8,FALSE),\"\")","v":"F"},{"$f":"IF(ISTEXT($D42),HLOOKUP($D42,DEBUT!$O$3:$XX$100,9,FALSE),\"\")","v":0},{"$f":"IF(ISTEXT($D42),HLOOKUP($D42,DEBUT!$O$3:$XX$100,10,FALSE),\"\")","v":0},{"$f":"IF(ISTEXT($D42),HLOOKUP($D42,DEBUT!$O$3:$XX$100,11,FALSE),\"\")","v":0},{"$f":"IF(ISTEXT($D42),HLOOKUP($D42,DEBUT!$O$3:$XX$100,12,FALSE),\"\")","v":0},{"$f":"IF(ISTEXT($D42),HLOOKUP($D42,DEBUT!$O$3:$XX$100,13,FALSE),\"\")","v":"K"},{"$f":"IF(ISTEXT($D42),HLOOKUP($D42,DEBUT!$O$3:$XX$100,14,FALSE),\"\")","v":"L"},null,"Nombre balises prévues",{"$f":"SUMPRODUCT(N(ISTEXT(E43:P43)))","v":8},"prévues"]
[null,null,null,"Validé",{"$f":"IF($D44=DEBUT!$L$5,E45,\"\")","v":7},{"$f":"IF($D44=DEBUT!$L$5,F45,\"\")","v":10},{"$f":"IF($D44=DEBUT!$L$5,G45,\"\")","v":11},{"$f":"IF($D44=DEBUT!$L$5,H45,\"\")","v":1},{"$f":"IF($D44=DEBUT!$L$5,I45,\"\")","v":76},{"$f":"IF($D44=DEBUT!$L$5,J45,\"\")","v":46},{"$f":"IF($D44=DEBUT!$L$5,K45,\"\")","v":""},{"$f":"IF($D44=DEBUT!$L$5,L45,\"\")","v":""},{"$f":"IF($D44=DEBUT!$L$5,M45,\"\")","v":""},{"$f":"IF($D44=DEBUT!$L$5,N45,\"\")","v":""},{"$f":"IF($D44=DEBUT!$L$5,O45,\"\")","v":0},{"$f":"IF($D44=DEBUT!$L$5,P45,\"\")","v":0},null,"Nombre balises trouvées",{"$f":"SUMPRODUCT(N(ISNUMBER(E44:P44)))","v":8},{"$f":"IF(S44>1,\"trouvées\",\"trouvée\")","v":"trouvées"}]
[null,null,null,"Balises CM",{"$f":"IFERROR(INDEX(baliseCM,MATCH(E43,lettre,0),MATCH($D41,parcours,0)),\"\")","v":7},{"$f":"IFERROR(INDEX(baliseCM,MATCH(F43,lettre,0),MATCH($D41,parcours,0)),\"\")","v":10},11,1,76,46,{"$f":"IFERROR(INDEX(baliseCM,MATCH(K43,lettre,0),MATCH($D41,parcours,0)),\"\")","v":""},{"$f":"IFERROR(INDEX(baliseCM,MATCH(L43,lettre,0),MATCH($D41,parcours,0)),\"\")","v":""},"","",0,0]
[null,null,null,"Vitesse","à 2",null,{"$f":"((E42+F42+G42)/ABS((HOUR(G41)*3600+MINUTE(G41)*60+SECOND(G41))))*3.6","v":{"$error":"#NUM!"}},"à 2",null,{"$f":"((H42+I42+J42)/ABS((HOUR(J41)*3600+MINUTE(J41)*60+SECOND(J41))))*3.6","v":{"$error":"#NUM!"}},"P",{"$f":"((J42+K42+L42)/ABS((HOUR(L41)*3600+MINUTE(L41)*60+SECOND(L41))))*3.6","v":{"$error":"#DIV/0!"}},"T",{"$f":"((L42+M42+N42)/ABS((HOUR(N41)*3600+MINUTE(N41)*60+SECOND(N41))))*3.6","v":{"$error":"#DIV/0!"}},"à 2",{"$f":"((N42+O42+P42)/ABS((HOUR(P41)*3600+MINUTE(P41)*60+SECOND(P41))))*3.6","v":{"$error":"#DIV/0!"}},"Km/h","Vitesse moyenne",{"$f":"S42/T41*3.6","v":{"$error":"#DIV/0!"}},"km/h"]
[null,"EQUIPE 7",null,"15:51:45","15:55:06",null,null,null,null,null,null,null,null,null,null,null,null,null,null,null,"Analyse du parcours"]
[null,null,null,{"$f":"CONCATENATE(D49,\"bis\")","v":"6ROUGEbis"},null,null,{"$f":"G47-D47","v":-0.66093750000000007},null,null,{"$f":"J47-D47","v":-0.66093750000000007},null,{"$f":"L47-J47","v":"00:00:00"},null,{"$f":"N47-L47","v":"00:00:00"},null,{"$f":"P47-N47","v":"00:00:00"},null,"Temps de course",{"$f":"SUMIF(E48:P48,\">0\",E48:P48)","v":"00:00:00"},{"$f":"ABS((HOUR(S48)*3600+MINUTE(S48)*60+SECOND(S48)))","v":0}]
[null,null,null,{"$f":"$H$2","v":"6ROUGE"},{"$f":"IFERROR(SQRT(POWER((VLOOKUP($C$5,DEBUT!$D$5:$J$110,6,FALSE)-VLOOKUP(E51,DEBUT!$D$5:$J$110,6,FALSE)),2)+POWER((VLOOKUP($C$5,DEBUT!$D$5:$J$110,7,FALSE)-VLOOKUP(E51,DEBUT!$D$5:$J$110,7,FALSE)),2))/CARTE!$O$9,0)","v":177.2924730824831},{"$f":"IFERROR(SQRT(POWER((VLOOKUP(E51,DEBUT!$D$5:$J$110,6,FALSE)-VLOOKUP(F51,DEBUT!$D$5:$J$110,6,FALSE)),2)+POWER((VLOOKUP(E51,DEBUT!$D$5:$J$110,7,FALSE)-VLOOKUP(F51,DEBUT!$D$5:$J$110,7,FALSE)),2))/CARTE!$O$9,0)","v":292.41323207806477},{"$f":"IFERROR(SQRT(POWER((VLOOKUP(F51,DEBUT!$D$5:$J$110,6,FALSE)-VLOOKUP(G51,DEBUT!$D$5:$J$110,6,FALSE)),2)+POWER((VLOOKUP(F51,DEBUT!$D$5:$J$110,7,FALSE)-VLOOKUP(G51,DEBUT!$D$5:$J$110,7,FALSE)),2))/CARTE!$O$9,0)","v":185.45260026215442},{"$f":"IFERROR(SQRT(POWER((VLOOKUP(G51,DEBUT!$D$5:$J$110,6,FALSE)-VLOOKUP(H51,DEBUT!$D$5:$J$110,6,FALSE)),2)+POWER((VLOOKUP(G51,DEBUT!$D$5:$J$110,7,FALSE)-VLOOKUP(H51,DEBUT!$D$5:$J$110,7,FALSE)),2))/CARTE!$O$9,0)","v":388.88158128989608},{"$f":"IFERROR(SQRT(POWER((VLOOKUP(H51,DEBUT!$D$5:$J$110,6,FALSE)-VLOOKUP(I51,DEBUT!$D$5:$J$110,6,FALSE)),2)+POWER((VLOOKUP(H51,DEBUT!$D$5:$J$110,7,FALSE)-VLOOKUP(I51,DEBUT!$D$5:$J$110,7,FALSE)),2))/CARTE!$O$9,0)","v":1321.1931767408294},{"$f":"IFERROR(SQRT(POWER((VLOOKUP(I51,DEBUT!$D$5:$J$110,6,FALSE)-VLOOKUP(J51,DEBUT!$D$5:$J$110,6,FALSE)),2)+POWER((VLOOKUP(I51,DEBUT!$D$5:$J$110,7,FALSE)-VLOOKUP(J51,DEBUT!$D$5:$J$110,7,FALSE)),2))/CARTE!$O$9,0)","v":621.65617723594562},{"$f":"IFERROR(SQRT(POWER((VLOOKUP(J51,DEBUT!$D$5:$J$110,6,FALSE)-VLOOKUP(K51,DEBUT!$D$5:$J$110,6,FALSE)),2)+POWER((VLOOKUP(J51,DEBUT!$D$5:$J$110,7,FALSE)-VLOOKUP(K51,DEBUT!$D$5:$J$110,7,FALSE)),2))/CARTE!$O$9,0)","v":0},{"$f":"IFERROR(SQRT(POWER((VLOOKUP(K51,DEBUT!$D$5:$J$110,6,FALSE)-VLOOKUP(L51,DEBUT!$D$5:$J$110,6,FALSE)),2)+POWER((VLOOKUP(K51,DEBUT!$D$5:$J$110,7,FALSE)-VLOOKUP(L51,DEBUT!$D$5:$J$110,7,FALSE)),2))/CARTE!$O$9,0)","v":0},{"$f":"IFERROR(SQRT(POWER((VLOOKUP(L51,DEBUT!$D$5:$J$110,6,FALSE)-VLOOKUP(M51,DEBUT!$D$5:$J$110,6,FALSE)),2)+POWER((VLOOKUP(L51,DEBUT!$D$5:$J$110,7,FALSE)-VLOOKUP(M51,DEBUT!$D$5:$J$110,7,FALSE)),2))/CARTE!$O$9,0)","v":0},{"$f":"IFERROR(SQRT(POWER((VLOOKUP(M51,DEBUT!$D$5:$J$110,6,FALSE)-VLOOKUP(N51,DEBUT!$D$5:$J$110,6,FALSE)),2)+POWER((VLOOKUP(M51,DEBUT!$D$5:$J$110,7,FALSE)-VLOOKUP(N51,DEBUT!$D$5:$J$110,7,FALSE)),2))/CARTE!$O$9,0)","v":0},{"$f":"IFERROR(SQRT(POWER((VLOOKUP(N51,DEBUT!$D$5:$J$110,6,FALSE)-VLOOKUP(O51,DEBUT!$D$5:$J$110,6,FALSE)),2)+POWER((VLOOKUP(N51,DEBUT!$D$5:$J$110,7,FALSE)-VLOOKUP(O51,DEBUT!$D$5:$J$110,7,FALSE)),2))/CARTE!$O$9,0)","v":0},{"$f":"IFERROR(SQRT(POWER((VLOOKUP(O51,DEBUT!$D$5:$J$110,6,FALSE)-VLOOKUP(P51,DEBUT!$D$5:$J$110,6,FALSE)),2)+POWER((VLOOKUP(O51,DEBUT!$D$5:$J$110,7,FALSE)-VLOOKUP(P51,DEBUT!$D$5:$J$110,7,FALSE)),2))/CARTE!$O$9,0)","v":0},"m","Distance",{"$f":"SUM(E49:P49)","v":2986.8892406893729},"m"]
[null,null,null,"Balises prévues",{"$f":"IF(ISTEXT($D49),HLOOKUP($D49,DEBUT!$O$3:$XX$100,3,FALSE),\"\")","v":"A"},{"$f":"IF(ISTEXT($D49),HLOOKUP($D49,DEBUT!$O$3:$XX$100,4,FALSE),\"\")","v":"B"},{"$f":"IF(ISTEXT($D49),HLOOKUP($D49,DEBUT!$O$3:$XX$100,5,FALSE),\"\")","v":"C"},{"$f":"IF(ISTEXT($D49),HLOOKUP($D49,DEBUT!$O$3:$XX$100,6,FALSE),\"\")","v":"D"},{"$f":"IF(ISTEXT($D49),HLOOKUP($D49,DEBUT!$O$3:$XX$100,7,FALSE),\"\")","v":"E"},{"$f":"IF(ISTEXT($D49),HLOOKUP($D49,DEBUT!$O$3:$XX$100,8,FALSE),\"\")","v":"F"},{"$f":"IF(ISTEXT($D49),HLOOKUP($D49,DEBUT!$O$3:$XX$100,9,FALSE),\"\")","v":0},{"$f":"IF(ISTEXT($D49),HLOOKUP($D49,DEBUT!$O$3:$XX$100,10,FALSE),\"\")","v":0},{"$f":"IF(ISTEXT($D49),HLOOKUP($D49,DEBUT!$O$3:$XX$100,11,FALSE),\"\")","v":0},{"$f":"IF(ISTEXT($D49),HLOOKUP($D49,DEBUT!$O$3:$XX$100,12,FALSE),\"\")","v":0},{"$f":"IF(ISTEXT($D49),HLOOKUP($D49,DEBUT!$O$3:$XX$100,13,FALSE),\"\")","v":"K"},{"$f":"IF(ISTEXT($D49),HLOOKUP($D49,DEBUT!$O$3:$XX$100,14,FALSE),\"\")","v":"L"},null,"Nombre balises prévues",{"$f":"SUMPRODUCT(N(ISTEXT(E50:P50)))","v":8},"prévues"]
[null,null,null,"Validé",{"$f":"IF($D51=DEBUT!$L$5,E52,\"\")","v":7},{"$f":"IF($D51=DEBUT!$L$5,F52,\"\")","v":10},{"$f":"IF($D51=DEBUT!$L$5,G52,\"\")","v":11},{"$f":"IF($D51=DEBUT!$L$5,H52,\"\")","v":1},{"$f":"IF($D51=DEBUT!$L$5,I52,\"\")","v":76},{"$f":"IF($D51=DEBUT!$L$5,J52,\"\")","v":46},{"$f":"IF($D51=DEBUT!$L$5,K52,\"\")","v":""},{"$f":"IF($D51=DEBUT!$L$5,L52,\"\")","v":""},{"$f":"IF($D51=DEBUT!$L$5,M52,\"\")","v":""},{"$f":"IF($D51=DEBUT!$L$5,N52,\"\")","v":""},{"$f":"IF($D51=DEBUT!$L$5,O52,\"\")","v":0},{"$f":"IF($D51=DEBUT!$L$5,P52,\"\")","v":0},null,"Nombre balises trouvées",{"$f":"SUMPRODUCT(N(ISNUMBER(E51:P51)))","v":8},{"$f":"IF(S51>1,\"trouvées\",\"trouvée\")","v":"trouvées"}]
[null,null,null,"Balises CM",{"$f":"IFERROR(INDEX(baliseCM,MATCH(E50,lettre,0),MATCH($D48,parcours,0)),\"\")","v":7},{"$f":"IFERROR(INDEX(baliseCM,MATCH(F50,lettre,0),MATCH($D48,parcours,0)),\"\")","v":10},11,1,76,46,{"$f":"IFERROR(INDEX(baliseCM,MATCH(K50,lettre,0),MATCH($D48,parcours,0)),\"\")","v":""},{"$f":"IFERROR(INDEX(baliseCM,MATCH(L50,lettre,0),MATCH($D48,parcours,0)),\"\")","v":""},"","",0,0]
[null,null,null,"Vitesse","à 2",null,{"$f":"((E49+F49+G49)/ABS((HOUR(G48)*3600+MINUTE(G48)*60+SECOND(G48))))*3.6","v":{"$error":"#NUM!"}},"à 2",null,{"$f":"((H49+I49+J49)/ABS((HOUR(J48)*3600+MINUTE(J48)*60+SECOND(J48))))*3.6","v":{"$error":"#NUM!"}},"P",{"$f":"((J49+K49+L49)/ABS((HOUR(L48)*3600+MINUTE(L48)*60+SECOND(L48))))*3.6","v":{"$error":"#DIV/0!"}},"T",{"$f":"((L49+M49+N49)/ABS((HOUR(N48)*3600+MINUTE(N48)*60+SECOND(N48))))*3.6","v":{"$error":"#DIV/0!"}},"à 2",{"$f":"((N49+O49+P49)/ABS((HOUR(P48)*3600+MINUTE(P48)*60+SECOND(P48))))*3.6","v":{"$error":"#DIV/0!"}},"Km/h","Vitesse moyenne",{"$f":"S49/T48*3.6","v":{"$error":"#DIV/0!"}},"km/h"]
[null,"EQUIPE 8",null,"15:51:45","15:55:06",null,null,null,null,null,null,null,null,null,null,null,null,null,null,null,"Analyse du parcours"]
[null,null,null,{"$f":"CONCATENATE(D56,\"bis\")","v":"6ROUGEbis"},null,null,{"$f":"G54-D54","v":-0.66093750000000007},null,null,{"$f":"J54-D54","v":-0.66093750000000007},null,{"$f":"L54-J54","v":"00:00:00"},null,{"$f":"N54-L54","v":"00:00:00"},null,{"$f":"P54-N54","v":"00:00:00"},null,"Temps de course",{"$f":"SUMIF(E55:P55,\">0\",E55:P55)","v":"00:00:00"},{"$f":"ABS((HOUR(S55)*3600+MINUTE(S55)*60+SECOND(S55)))","v":0}]
[null,null,null,{"$f":"$H$2","v":"6ROUGE"},{"$f":"IFERROR(SQRT(POWER((VLOOKUP($C$5,DEBUT!$D$5:$J$110,6,FALSE)-VLOOKUP(E58,DEBUT!$D$5:$J$110,6,FALSE)),2)+POWER((VLOOKUP($C$5,DEBUT!$D$5:$J$110,7,FALSE)-VLOOKUP(E58,DEBUT!$D$5:$J$110,7,FALSE)),2))/CARTE!$O$9,0)","v":177.2924730824831},{"$f":"IFERROR(SQRT(POWER((VLOOKUP(E58,DEBUT!$D$5:$J$110,6,FALSE)-VLOOKUP(F58,DEBUT!$D$5:$J$110,6,FALSE)),2)+POWER((VLOOKUP(E58,DEBUT!$D$5:$J$110,7,FALSE)-VLOOKUP(F58,DEBUT!$D$5:$J$110,7,FALSE)),2))/CARTE!$O$9,0)","v":292.41323207806477},{"$f":"IFERROR(SQRT(POWER((VLOOKUP(F58,DEBUT!$D$5:$J$110,6,FALSE)-VLOOKUP(G58,DEBUT!$D$5:$J$110,6,FALSE)),2)+POWER((VLOOKUP(F58,DEBUT!$D$5:$J$110,7,FALSE)-VLOOKUP(G58,DEBUT!$D$5:$J$110,7,FALSE)),2))/CARTE!$O$9,0)","v":185.45260026215442},{"$f":"IFERROR(SQRT(POWER((VLOOKUP(G58,DEBUT!$D$5:$J$110,6,FALSE)-VLOOKUP(H58,DEBUT!$D$5:$J$110,6,FALSE)),2)+POWER((VLOOKUP(G58,DEBUT!$D$5:$J$110,7,FALSE)-VLOOKUP(H58,DEBUT!$D$5:$J$110,7,FALSE)),2))/CARTE!$O$9,0)","v":388.88158128989608},{"$f":"IFERROR(SQRT(POWER((VLOOKUP(H58,DEBUT!$D$5:$J$110,6,FALSE)-VLOOKUP(I58,DEBUT!$D$5:$J$110,6,FALSE)),2)+POWER((VLOOKUP(H58,DEBUT!$D$5:$J$110,7,FALSE)-VLOOKUP(I58,DEBUT!$D$5:$J$110,7,FALSE)),2))/CARTE!$O$9,0)","v":1321.1931767408294},{"$f":"IFERROR(SQRT(POWER((VLOOKUP(I58,DEBUT!$D$5:$J$110,6,FALSE)-VLOOKUP(J58,DEBUT!$D$5:$J$110,6,FALSE)),2)+POWER((VLOOKUP(I58,DEBUT!$D$5:$J$110,7,FALSE)-VLOOKUP(J58,DEBUT!$D$5:$J$110,7,FALSE)),2))/CARTE!$O$9,0)","v":621.65617723594562},{"$f":"IFERROR(SQRT(POWER((VLOOKUP(J58,DEBUT!$D$5:$J$110,6,FALSE)-VLOOKUP(K58,DEBUT!$D$5:$J$110,6,FALSE)),2)+POWER((VLOOKUP(J58,DEBUT!$D$5:$J$110,7,FALSE)-VLOOKUP(K58,DEBUT!$D$5:$J$110,7,FALSE)),2))/CARTE!$O$9,0)","v":0},{"$f":"IFERROR(SQRT(POWER((VLOOKUP(K58,DEBUT!$D$5:$J$110,6,FALSE)-VLOOKUP(L58,DEBUT!$D$5:$J$110,6,FALSE)),2)+POWER((VLOOKUP(K58,DEBUT!$D$5:$J$110,7,FALSE)-VLOOKUP(L58,DEBUT!$D$5:$J$110,7,FALSE)),2))/CARTE!$O$9,0)","v":0},{"$f":"IFERROR(SQRT(POWER((VLOOKUP(L58,DEBUT!$D$5:$J$110,6,FALSE)-VLOOKUP(M58,DEBUT!$D$5:$J$110,6,FALSE)),2)+POWER((VLOOKUP(L58,DEBUT!$D$5:$J$110,7,FALSE)-VLOOKUP(M58,DEBUT!$D$5:$J$110,7,FALSE)),2))/CARTE!$O$9,0)","v":0},{"$f":"IFERROR(SQRT(POWER((VLOOKUP(M58,DEBUT!$D$5:$J$110,6,FALSE)-VLOOKUP(N58,DEBUT!$D$5:$J$110,6,FALSE)),2)+POWER((VLOOKUP(M58,DEBUT!$D$5:$J$110,7,FALSE)-VLOOKUP(N58,DEBUT!$D$5:$J$110,7,FALSE)),2))/CARTE!$O$9,0)","v":0},{"$f":"IFERROR(SQRT(POWER((VLOOKUP(N58,DEBUT!$D$5:$J$110,6,FALSE)-VLOOKUP(O58,DEBUT!$D$5:$J$110,6,FALSE)),2)+POWER((VLOOKUP(N58,DEBUT!$D$5:$J$110,7,FALSE)-VLOOKUP(O58,DEBUT!$D$5:$J$110,7,FALSE)),2))/CARTE!$O$9,0)","v":0},{"$f":"IFERROR(SQRT(POWER((VLOOKUP(O58,DEBUT!$D$5:$J$110,6,FALSE)-VLOOKUP(P58,DEBUT!$D$5:$J$110,6,FALSE)),2)+POWER((VLOOKUP(O58,DEBUT!$D$5:$J$110,7,FALSE)-VLOOKUP(P58,DEBUT!$D$5:$J$110,7,FALSE)),2))/CARTE!$O$9,0)","v":0},"m","Distance",{"$f":"SUM(E56:P56)","v":2986.8892406893729},"m"]
[null,null,null,"Balises prévues",{"$f":"IF(ISTEXT($D56),HLOOKUP($D56,DEBUT!$O$3:$XX$100,3,FALSE),\"\")","v":"A"},{"$f":"IF(ISTEXT($D56),HLOOKUP($D56,DEBUT!$O$3:$XX$100,4,FALSE),\"\")","v":"B"},{"$f":"IF(ISTEXT($D56),HLOOKUP($D56,DEBUT!$O$3:$XX$100,5,FALSE),\"\")","v":"C"},{"$f":"IF(ISTEXT($D56),HLOOKUP($D56,DEBUT!$O$3:$XX$100,6,FALSE),\"\")","v":"D"},{"$f":"IF(ISTEXT($D56),HLOOKUP($D56,DEBUT!$O$3:$XX$100,7,FALSE),\"\")","v":"E"},{"$f":"IF(ISTEXT($D56),HLOOKUP($D56,DEBUT!$O$3:$XX$100,8,FALSE),\"\")","v":"F"},{"$f":"IF(ISTEXT($D56),HLOOKUP($D56,DEBUT!$O$3:$XX$100,9,FALSE),\"\")","v":0},{"$f":"IF(ISTEXT($D56),HLOOKUP($D56,DEBUT!$O$3:$XX$100,10,FALSE),\"\")","v":0},{"$f":"IF(ISTEXT($D56),HLOOKUP($D56,DEBUT!$O$3:$XX$100,11,FALSE),\"\")","v":0},{"$f":"IF(ISTEXT($D56),HLOOKUP($D56,DEBUT!$O$3:$XX$100,12,FALSE),\"\")","v":0},{"$f":"IF(ISTEXT($D56),HLOOKUP($D56,DEBUT!$O$3:$XX$100,13,FALSE),\"\")","v":"K"},{"$f":"IF(ISTEXT($D56),HLOOKUP($D56,DEBUT!$O$3:$XX$100,14,FALSE),\"\")","v":"L"},null,"Nombre balises prévues",{"$f":"SUMPRODUCT(N(ISTEXT(E57:P57)))","v":8},"prévues"]
[null,null,null,"Validé",{"$f":"IF($D58=DEBUT!$L$5,E59,\"\")","v":7},{"$f":"IF($D58=DEBUT!$L$5,F59,\"\")","v":10},{"$f":"IF($D58=DEBUT!$L$5,G59,\"\")","v":11},{"$f":"IF($D58=DEBUT!$L$5,H59,\"\")","v":1},{"$f":"IF($D58=DEBUT!$L$5,I59,\"\")","v":76},{"$f":"IF($D58=DEBUT!$L$5,J59,\"\")","v":46},{"$f":"IF($D58=DEBUT!$L$5,K59,\"\")","v":""},{"$f":"IF($D58=DEBUT!$L$5,L59,\"\")","v":""},{"$f":"IF($D58=DEBUT!$L$5,M59,\"\")","v":""},{"$f":"IF($D58=DEBUT!$L$5,N59,\"\")","v":""},{"$f":"IF($D58=DEBUT!$L$5,O59,\"\")","v":0},{"$f":"IF($D58=DEBUT!$L$5,P59,\"\")","v":0},null,"Nombre balises trouvées",{"$f":"SUMPRODUCT(N(ISNUMBER(E58:P58)))","v":8},{"$f":"IF(S58>1,\"trouvées\",\"trouvée\")","v":"trouvées"}]
[null,null,null,"Balises CM",{"$f":"IFERROR(INDEX(baliseCM,MATCH(E57,lettre,0),MATCH($D55,parcours,0)),\"\")","v":7},{"$f":"IFERROR(INDEX(baliseCM,MATCH(F57,lettre,0),MATCH($D55,parcours,0)),\"\")","v":10},11,1,76,46,{"$f":"IFERROR(INDEX(baliseCM,MATCH(K57,lettre,0),MATCH($D55,parcours,0)),\"\")","v":""},{"$f":"IFERROR(INDEX(baliseCM,MATCH(L57,lettre,0),MATCH($D55,parcours,0)),\"\")","v":""},"","",0,0]
[null,null,null,"Vitesse","à 2",null,{"$f":"((E56+F56+G56)/ABS((HOUR(G55)*3600+MINUTE(G55)*60+SECOND(G55))))*3.6","v":{"$error":"#NUM!"}},"à 2",null,{"$f":"((H56+I56+J56)/ABS((HOUR(J55)*3600+MINUTE(J55)*60+SECOND(J55))))*3.6","v":{"$error":"#NUM!"}},"P",{"$f":"((J56+K56+L56)/ABS((HOUR(L55)*3600+MINUTE(L55)*60+SECOND(L55))))*3.6","v":{"$error":"#DIV/0!"}},"T",{"$f":"((L56+M56+N56)/ABS((HOUR(N55)*3600+MINUTE(N55)*60+SECOND(N55))))*3.6","v":{"$error":"#DIV/0!"}},"à 2",{"$f":"((N56+O56+P56)/ABS((HOUR(P55)*3600+MINUTE(P55)*60+SECOND(P55))))*3.6","v":{"$error":"#DIV/0!"}},"Km/h","Vitesse moyenne",{"$f":"S56/T55*3.6","v":{"$error":"#DIV/0!"}},"km/h"]
[null,"EQUIPE 9",null,"15:51:45","15:55:06",null,null,null,null,null,null,null,null,null,null,null,null,null,null,null,"Analyse du parcours"]
[null,null,null,{"$f":"CONCATENATE(D63,\"bis\")","v":"6ROUGEbis"},null,null,{"$f":"G61-D61","v":-0.66093750000000007},null,null,{"$f":"J61-D61","v":-0.66093750000000007},null,{"$f":"L61-J61","v":"00:00:00"},null,{"$f":"N61-L61","v":"00:00:00"},null,{"$f":"P61-N61","v":"00:00:00"},null,"Temps de course",{"$f":"SUMIF(E62:P62,\">0\",E62:P62)","v":"00:00:00"},{"$f":"ABS((HOUR(S62)*3600+MINUTE(S62)*60+SECOND(S62)))","v":0}]
[null,null,null,{"$f":"$H$2","v":"6ROUGE"},{"$f":"IFERROR(SQRT(POWER((VLOOKUP($C$5,DEBUT!$D$5:$J$110,6,FALSE)-VLOOKUP(E65,DEBUT!$D$5:$J$110,6,FALSE)),2)+POWER((VLOOKUP($C$5,DEBUT!$D$5:$J$110,7,FALSE)-VLOOKUP(E65,DEBUT!$D$5:$J$110,7,FALSE)),2))/CARTE!$O$9,0)","v":177.2924730824831},{"$f":"IFERROR(SQRT(POWER((VLOOKUP(E65,DEBUT!$D$5:$J$110,6,FALSE)-VLOOKUP(F65,DEBUT!$D$5:$J$110,6,FALSE)),2)+POWER((VLOOKUP(E65,DEBUT!$D$5:$J$110,7,FALSE)-VLOOKUP(F65,DEBUT!$D$5:$J$110,7,FALSE)),2))/CARTE!$O$9,0)","v":292.41323207806477},{"$f":"IFERROR(SQRT(POWER((VLOOKUP(F65,DEBUT!$D$5:$J$110,6,FALSE)-VLOOKUP(G65,DEBUT!$D$5:$J$110,6,FALSE)),2)+POWER((VLOOKUP(F65,DEBUT!$D$5:$J$110,7,FALSE)-VLOOKUP(G65,DEBUT!$D$5:$J$110,7,FALSE)),2))/CARTE!$O$9,0)","v":185.45260026215442},{"$f":"IFERROR(SQRT(POWER((VLOOKUP(G65,DEBUT!$D$5:$J$110,6,FALSE)-VLOOKUP(H65,DEBUT!$D$5:$J$110,6,FALSE)),2)+POWER((VLOOKUP(G65,DEBUT!$D$5:$J$110,7,FALSE)-VLOOKUP(H65,DEBUT!$D$5:$J$110,7,FALSE)),2))/CARTE!$O$9,0)","v":388.88158128989608},{"$f":"IFERROR(SQRT(POWER((VLOOKUP(H65,DEBUT!$D$5:$J$110,6,FALSE)-VLOOKUP(I65,DEBUT!$D$5:$J$110,6,FALSE)),2)+POWER((VLOOKUP(H65,DEBUT!$D$5:$J$110,7,FALSE)-VLOOKUP(I65,DEBUT!$D$5:$J$110,7,FALSE)),2))/CARTE!$O$9,0)","v":1321.1931767408294},{"$f":"IFERROR(SQRT(POWER((VLOOKUP(I65,DEBUT!$D$5:$J$110,6,FALSE)-VLOOKUP(J65,DEBUT!$D$5:$J$110,6,FALSE)),2)+POWER((VLOOKUP(I65,DEBUT!$D$5:$J$110,7,FALSE)-VLOOKUP(J65,DEBUT!$D$5:$J$110,7,FALSE)),2))/CARTE!$O$9,0)","v":621.65617723594562},{"$f":"IFERROR(SQRT(POWER((VLOOKUP(J65,DEBUT!$D$5:$J$110,6,FALSE)-VLOOKUP(K65,DEBUT!$D$5:$J$110,6,FALSE)),2)+POWER((VLOOKUP(J65,DEBUT!$D$5:$J$110,7,FALSE)-VLOOKUP(K65,DEBUT!$D$5:$J$110,7,FALSE)),2))/CARTE!$O$9,0)","v":0},{"$f":"IFERROR(SQRT(POWER((VLOOKUP(K65,DEBUT!$D$5:$J$110,6,FALSE)-VLOOKUP(L65,DEBUT!$D$5:$J$110,6,FALSE)),2)+POWER((VLOOKUP(K65,DEBUT!$D$5:$J$110,7,FALSE)-VLOOKUP(L65,DEBUT!$D$5:$J$110,7,FALSE)),2))/CARTE!$O$9,0)","v":0},{"$f":"IFERROR(SQRT(POWER((VLOOKUP(L65,DEBUT!$D$5:$J$110,6,FALSE)-VLOOKUP(M65,DEBUT!$D$5:$J$110,6,FALSE)),2)+POWER((VLOOKUP(L65,DEBUT!$D$5:$J$110,7,FALSE)-VLOOKUP(M65,DEBUT!$D$5:$J$110,7,FALSE)),2))/CARTE!$O$9,0)","v":0},{"$f":"IFERROR(SQRT(POWER((VLOOKUP(M65,DEBUT!$D$5:$J$110,6,FALSE)-VLOOKUP(N65,DEBUT!$D$5:$J$110,6,FALSE)),2)+POWER((VLOOKUP(M65,DEBUT!$D$5:$J$110,7,FALSE)-VLOOKUP(N65,DEBUT!$D$5:$J$110,7,FALSE)),2))/CARTE!$O$9,0)","v":0},{"$f":"IFERROR(SQRT(POWER((VLOOKUP(N65,DEBUT!$D$5:$J$110,6,FALSE)-VLOOKUP(O65,DEBUT!$D$5:$J$110,6,FALSE)),2)+POWER((VLOOKUP(N65,DEBUT!$D$5:$J$110,7,FALSE)-VLOOKUP(O65,DEBUT!$D$5:$J$110,7,FALSE)),2))/CARTE!$O$9,0)","v":0},{"$f":"IFERROR(SQRT(POWER((VLOOKUP(O65,DEBUT!$D$5:$J$110,6,FALSE)-VLOOKUP(P65,DEBUT!$D$5:$J$110,6,FALSE)),2)+POWER((VLOOKUP(O65,DEBUT!$D$5:$J$110,7,FALSE)-VLOOKUP(P65,DEBUT!$D$5:$J$110,7,FALSE)),2))/CARTE!$O$9,0)","v":0},"m","Distance",{"$f":"SUM(E63:P63)","v":2986.8892406893729},"m"]
[null,null,null,"Balises prévues",{"$f":"IF(ISTEXT($D63),HLOOKUP($D63,DEBUT!$O$3:$XX$100,3,FALSE),\"\")","v":"A"},{"$f":"IF(ISTEXT($D63),HLOOKUP($D63,DEBUT!$O$3:$XX$100,4,FALSE),\"\")","v":"B"},{"$f":"IF(ISTEXT($D63),HLOOKUP($D63,DEBUT!$O$3:$XX$100,5,FALSE),\"\")","v":"C"},{"$f":"IF(ISTEXT($D63),HLOOKUP($D63,DEBUT!$O$3:$XX$100,6,FALSE),\"\")","v":"D"},{"$f":"IF(ISTEXT($D63),HLOOKUP($D63,DEBUT!$O$3:$XX$100,7,FALSE),\"\")","v":"E"},{"$f":"IF(ISTEXT($D63),HLOOKUP($D63,DEBUT!$O$3:$XX$100,8,FALSE),\"\")","v":"F"},{"$f":"IF(ISTEXT($D63),HLOOKUP($D63,DEBUT!$O$3:$XX$100,9,FALSE),\"\")","v":0},{"$f":"IF(ISTEXT($D63),HLOOKUP($D63,DEBUT!$O$3:$XX$100,10,FALSE),\"\")","v":0},{"$f":"IF(ISTEXT($D63),HLOOKUP($D63,DEBUT!$O$3:$XX$100,11,FALSE),\"\")","v":0},{"$f":"IF(ISTEXT($D63),HLOOKUP($D63,DEBUT!$O$3:$XX$100,12,FALSE),\"\")","v":0},{"$f":"IF(ISTEXT($D63),HLOOKUP($D63,DEBUT!$O$3:$XX$100,13,FALSE),\"\")","v":"K"},{"$f":"IF(ISTEXT($D63),HLOOKUP($D63,DEBUT!$O$3:$XX$100,14,FALSE),\"\")","v":"L"},null,"Nombre balises prévues",{"$f":"SUMPRODUCT(N(ISTEXT(E64:P64)))","v":8},"prévues"]
[null,null,null,"Validé",{"$f":"IF($D65=DEBUT!$L$5,E66,\"\")","v":7},{"$f":"IF($D65=DEBUT!$L$5,F66,\"\")","v":10},{"$f":"IF($D65=DEBUT!$L$5,G66,\"\")","v":11},{"$f":"IF($D65=DEBUT!$L$5,H66,\"\")","v":1},{"$f":"IF($D65=DEBUT!$L$5,I66,\"\")","v":76},{"$f":"IF($D65=DEBUT!$L$5,J66,\"\")","v":46},{"$f":"IF($D65=DEBUT!$L$5,K66,\"\")","v":""},{"$f":"IF($D65=DEBUT!$L$5,L66,\"\")","v":""},{"$f":"IF($D65=DEBUT!$L$5,M66,\"\")","v":""},{"$f":"IF($D65=DEBUT!$L$5,N66,\"\")","v":""},{"$f":"IF($D65=DEBUT!$L$5,O66,\"\")","v":0},{"$f":"IF($D65=DEBUT!$L$5,P66,\"\")","v":0},null,"Nombre balises trouvées",{"$f":"SUMPRODUCT(N(ISNUMBER(E65:P65)))","v":8},{"$f":"IF(S65>1,\"trouvées\",\"trouvée\")","v":"trouvées"}]
[null,null,null,"Balises CM",{"$f":"IFERROR(INDEX(baliseCM,MATCH(E64,lettre,0),MATCH($D62,parcours,0)),\"\")","v":7},{"$f":"IFERROR(INDEX(baliseCM,MATCH(F64,lettre,0),MATCH($D62,parcours,0)),\"\")","v":10},11,1,76,46,{"$f":"IFERROR(INDEX(baliseCM,MATCH(K64,lettre,0),MATCH($D62,parcours,0)),\"\")","v":""},{"$f":"IFERROR(INDEX(baliseCM,MATCH(L64,lettre,0),MATCH($D62,parcours,0)),\"\")","v":""},"","",0,0]
[null,null,null,"Vitesse","à 2",null,{"$f":"((E63+F63+G63)/ABS((HOUR(G62)*3600+MINUTE(G62)*60+SECOND(G62))))*3.6","v":{"$error":"#NUM!"}},"à 2",null,{"$f":"((H63+I63+J63)/ABS((HOUR(J62)*3600+MINUTE(J62)*60+SECOND(J62))))*3.6","v":{"$error":"#NUM!"}},"P",{"$f":"((J63+K63+L63)/ABS((HOUR(L62)*3600+MINUTE(L62)*60+SECOND(L62))))*3.6","v":{"$error":"#DIV/0!"}},"T",{"$f":"((L63+M63+N63)/ABS((HOUR(N62)*3600+MINUTE(N62)*60+SECOND(N62))))*3.6","v":{"$error":"#DIV/0!"}},"à 2",{"$f":"((N63+O63+P63)/ABS((HOUR(P62)*3600+MINUTE(P62)*60+SECOND(P62))))*3.6","v":{"$error":"#DIV/0!"}},"Km/h","Vitesse moyenne",{"$f":"S63/T62*3.6","v":{"$error":"#DIV/0!"}},"km/h"]
[null,"EQUIPE 10",null,"15:51:45","15:55:06",null,null,null,null,null,null,null,null,null,null,null,null,null,null,null,"Analyse du parcours"]
[null,null,null,{"$f":"CONCATENATE(D70,\"bis\")","v":"6ROUGEbis"},null,null,{"$f":"G68-D68","v":-0.66093750000000007},null,null,{"$f":"J68-D68","v":-0.66093750000000007},null,{"$f":"L68-J68","v":"00:00:00"},null,{"$f":"N68-L68","v":"00:00:00"},null,{"$f":"P68-N68","v":"00:00:00"},null,"Temps de course",{"$f":"SUMIF(E69:P69,\">0\",E69:P69)","v":"00:00:00"},{"$f":"ABS((HOUR(S69)*3600+MINUTE(S69)*60+SECOND(S69)))","v":0}]
[null,null,null,{"$f":"$H$2","v":"6ROUGE"},{"$f":"IFERROR(SQRT(POWER((VLOOKUP($C$5,DEBUT!$D$5:$J$110,6,FALSE)-VLOOKUP(E72,DEBUT!$D$5:$J$110,6,FALSE)),2)+POWER((VLOOKUP($C$5,DEBUT!$D$5:$J$110,7,FALSE)-VLOOKUP(E72,DEBUT!$D$5:$J$110,7,FALSE)),2))/CARTE!$O$9,0)","v":177.2924730824831},{"$f":"IFERROR(SQRT(POWER((VLOOKUP(E72,DEBUT!$D$5:$J$110,6,FALSE)-VLOOKUP(F72,DEBUT!$D$5:$J$110,6,FALSE)),2)+POWER((VLOOKUP(E72,DEBUT!$D$5:$J$110,7,FALSE)-VLOOKUP(F72,DEBUT!$D$5:$J$110,7,FALSE)),2))/CARTE!$O$9,0)","v":292.41323207806477},{"$f":"IFERROR(SQRT(POWER((VLOOKUP(F72,DEBUT!$D$5:$J$110,6,FALSE)-VLOOKUP(G72,DEBUT!$D$5:$J$110,6,FALSE)),2)+POWER((VLOOKUP(F72,DEBUT!$D$5:$J$110,7,FALSE)-VLOOKUP(G72,DEBUT!$D$5:$J$110,7,FALSE)),2))/CARTE!$O$9,0)","v":185.45260026215442},{"$f":"IFERROR(SQRT(POWER((VLOOKUP(G72,DEBUT!$D$5:$J$110,6,FALSE)-VLOOKUP(H72,DEBUT!$D$5:$J$110,6,FALSE)),2)+POWER((VLOOKUP(G72,DEBUT!$D$5:$J$110,7,FALSE)-VLOOKUP(H72,DEBUT!$D$5:$J$110,7,FALSE)),2))/CARTE!$O$9,0)","v":388.88158128989608},{"$f":"IFERROR(SQRT(POWER((VLOOKUP(H72,DEBUT!$D$5:$J$110,6,FALSE)-VLOOKUP(I72,DEBUT!$D$5:$J$110,6,FALSE)),2)+POWER((VLOOKUP(H72,DEBUT!$D$5:$J$110,7,FALSE)-VLOOKUP(I72,DEBUT!$D$5:$J$110,7,FALSE)),2))/CARTE!$O$9,0)","v":1321.1931767408294},{"$f":"IFERROR(SQRT(POWER((VLOOKUP(I72,DEBUT!$D$5:$J$110,6,FALSE)-VLOOKUP(J72,DEBUT!$D$5:$J$110,6,FALSE)),2)+POWER((VLOOKUP(I72,DEBUT!$D$5:$J$110,7,FALSE)-VLOOKUP(J72,DEBUT!$D$5:$J$110,7,FALSE)),2))/CARTE!$O$9,0)","v":621.65617723594562},{"$f":"IFERROR(SQRT(POWER((VLOOKUP(J72,DEBUT!$D$5:$J$110,6,FALSE)-VLOOKUP(K72,DEBUT!$D$5:$J$110,6,FALSE)),2)+POWER((VLOOKUP(J72,DEBUT!$D$5:$J$110,7,FALSE)-VLOOKUP(K72,DEBUT!$D$5:$J$110,7,FALSE)),2))/CARTE!$O$9,0)","v":0},{"$f":"IFERROR(SQRT(POWER((VLOOKUP(K72,DEBUT!$D$5:$J$110,6,FALSE)-VLOOKUP(L72,DEBUT!$D$5:$J$110,6,FALSE)),2)+POWER((VLOOKUP(K72,DEBUT!$D$5:$J$110,7,FALSE)-VLOOKUP(L72,DEBUT!$D$5:$J$110,7,FALSE)),2))/CARTE!$O$9,0)","v":0},{"$f":"IFERROR(SQRT(POWER((VLOOKUP(L72,DEBUT!$D$5:$J$110,6,FALSE)-VLOOKUP(M72,DEBUT!$D$5:$J$110,6,FALSE)),2)+POWER((VLOOKUP(L72,DEBUT!$D$5:$J$110,7,FALSE)-VLOOKUP(M72,DEBUT!$D$5:$J$110,7,FALSE)),2))/CARTE!$O$9,0)","v":0},{"$f":"IFERROR(SQRT(POWER((VLOOKUP(M72,DEBUT!$D$5:$J$110,6,FALSE)-VLOOKUP(N72,DEBUT!$D$5:$J$110,6,FALSE)),2)+POWER((VLOOKUP(M72,DEBUT!$D$5:$J$110,7,FALSE)-VLOOKUP(N72,DEBUT!$D$5:$J$110,7,FALSE)),2))/CARTE!$O$9,0)","v":0},{"$f":"IFERROR(SQRT(POWER((VLOOKUP(N72,DEBUT!$D$5:$J$110,6,FALSE)-VLOOKUP(O72,DEBUT!$D$5:$J$110,6,FALSE)),2)+POWER((VLOOKUP(N72,DEBUT!$D$5:$J$110,7,FALSE)-VLOOKUP(O72,DEBUT!$D$5:$J$110,7,FALSE)),2))/CARTE!$O$9,0)","v":0},{"$f":"IFERROR(SQRT(POWER((VLOOKUP(O72,DEBUT!$D$5:$J$110,6,FALSE)-VLOOKUP(P72,DEBUT!$D$5:$J$110,6,FALSE)),2)+POWER((VLOOKUP(O72,DEBUT!$D$5:$J$110,7,FALSE)-VLOOKUP(P72,DEBUT!$D$5:$J$110,7,FALSE)),2))/CARTE!$O$9,0)","v":0},"m","Distance",{"$f":"SUM(E70:P70)","v":2986.8892406893729},"m"]
[null,null,null,"Balises prévues",{"$f":"IF(ISTEXT($D70),HLOOKUP($D70,DEBUT!$O$3:$XX$100,3,FALSE),\"\")","v":"A"},{"$f":"IF(ISTEXT($D70),HLOOKUP($D70,DEBUT!$O$3:$XX$100,4,FALSE),\"\")","v":"B"},{"$f":"IF(ISTEXT($D70),HLOOKUP($D70,DEBUT!$O$3:$XX$100,5,FALSE),\"\")","v":"C"},{"$f":"IF(ISTEXT($D70),HLOOKUP($D70,DEBUT!$O$3:$XX$100,6,FALSE),\"\")","v":"D"},{"$f":"IF(ISTEXT($D70),HLOOKUP($D70,DEBUT!$O$3:$XX$100,7,FALSE),\"\")","v":"E"},{"$f":"IF(ISTEXT($D70),HLOOKUP($D70,DEBUT!$O$3:$XX$100,8,FALSE),\"\")","v":"F"},{"$f":"IF(ISTEXT($D70),HLOOKUP($D70,DEBUT!$O$3:$XX$100,9,FALSE),\"\")","v":0},{"$f":"IF(ISTEXT($D70),HLOOKUP($D70,DEBUT!$O$3:$XX$100,10,FALSE),\"\")","v":0},{"$f":"IF(ISTEXT($D70),HLOOKUP($D70,DEBUT!$O$3:$XX$100,11,FALSE),\"\")","v":0},{"$f":"IF(ISTEXT($D70),HLOOKUP($D70,DEBUT!$O$3:$XX$100,12,FALSE),\"\")","v":0},{"$f":"IF(ISTEXT($D70),HLOOKUP($D70,DEBUT!$O$3:$XX$100,13,FALSE),\"\")","v":"K"},{"$f":"IF(ISTEXT($D70),HLOOKUP($D70,DEBUT!$O$3:$XX$100,14,FALSE),\"\")","v":"L"},null,"Nombre balises prévues",{"$f":"SUMPRODUCT(N(ISTEXT(E71:P71)))","v":8},"prévues"]
[null,null,null,"Validé",{"$f":"IF($D72=DEBUT!$L$5,E73,\"\")","v":7},{"$f":"IF($D72=DEBUT!$L$5,F73,\"\")","v":10},{"$f":"IF($D72=DEBUT!$L$5,G73,\"\")","v":11},{"$f":"IF($D72=DEBUT!$L$5,H73,\"\")","v":1},{"$f":"IF($D72=DEBUT!$L$5,I73,\"\")","v":76},{"$f":"IF($D72=DEBUT!$L$5,J73,\"\")","v":46},{"$f":"IF($D72=DEBUT!$L$5,K73,\"\")","v":""},{"$f":"IF($D72=DEBUT!$L$5,L73,\"\")","v":""},{"$f":"IF($D72=DEBUT!$L$5,M73,\"\")","v":""},{"$f":"IF($D72=DEBUT!$L$5,N73,\"\")","v":""},{"$f":"IF($D72=DEBUT!$L$5,O73,\"\")","v":0},{"$f":"IF($D72=DEBUT!$L$5,P73,\"\")","v":0},null,"Nombre balises trouvées",{"$f":"SUMPRODUCT(N(ISNUMBER(E72:P72)))","v":8},{"$f":"IF(S72>1,\"trouvées\",\"trouvée\")","v":"trouvées"}]
[null,null,null,"Balises CM",{"$f":"IFERROR(INDEX(baliseCM,MATCH(E71,lettre,0),MATCH($D69,parcours,0)),\"\")","v":7},{"$f":"IFERROR(INDEX(baliseCM,MATCH(F71,lettre,0),MATCH($D69,parcours,0)),\"\")","v":10},11,1,76,46,{"$f":"IFERROR(INDEX(baliseCM,MATCH(K71,lettre,0),MATCH($D69,parcours,0)),\"\")","v":""},{"$f":"IFERROR(INDEX(baliseCM,MATCH(L71,lettre,0),MATCH($D69,parcours,0)),\"\")","v":""},"","",0,0]
[null,null,null,"Vitesse","à 2",null,{"$f":"((E70+F70+G70)/ABS((HOUR(G69)*3600+MINUTE(G69)*60+SECOND(G69))))*3.6","v":{"$error":"#NUM!"}},"à 2",null,{"$f":"((H70+I70+J70)/ABS((HOUR(J69)*3600+MINUTE(J69)*60+SECOND(J69))))*3.6","v":{"$error":"#NUM!"}},"P",{"$f":"((J70+K70+L70)/ABS((HOUR(L69)*3600+MINUTE(L69)*60+SECOND(L69))))*3.6","v":{"$error":"#DIV/0!"}},"T",{"$f":"((L70+M70+N70)/ABS((HOUR(N69)*3600+MINUTE(N69)*60+SECOND(N69))))*3.6","v":{"$error":"#DIV/0!"}},"à 2",{"$f":"((N70+O70+P70)/ABS((HOUR(P69)*3600+MINUTE(P69)*60+SECOND(P69))))*3.6","v":{"$error":"#DIV/0!"}},"Km/h","Vitesse moyenne",{"$f":"S70/T69*3.6","v":{"$error":"#DIV/0!"}},"km/h"]
[null,"EQUIPE 11",null,"07:28:54","15:55:06",null,"07:28:56",null,null,"16:30:55",null,null,null,null,null,null,null,null,null,null,"Analyse du parcours"]
[null,null,null,{"$f":"CONCATENATE(D77,\"bis\")","v":"6ROUGEbis"},null,null,{"$f":"G75-D75","v":"00:00:02"},null,null,{"$f":"J75-D75","v":"09:02:01"},null,{"$f":"L75-J75","v":-0.68813657407407414},null,{"$f":"N75-L75","v":"00:00:00"},null,{"$f":"P75-N75","v":"00:00:00"},null,"Temps de course",{"$f":"SUMIF(E76:P76,\">0\",E76:P76)","v":"09:02:03"},{"$f":"ABS((HOUR(S76)*3600+MINUTE(S76)*60+SECOND(S76)))","v":32523}]
[null,null,null,{"$f":"$H$2","v":"6ROUGE"},{"$f":"IFERROR(SQRT(POWER((VLOOKUP($C$5,DEBUT!$D$5:$J$110,6,FALSE)-VLOOKUP(E79,DEBUT!$D$5:$J$110,6,FALSE)),2)+POWER((VLOOKUP($C$5,DEBUT!$D$5:$J$110,7,FALSE)-VLOOKUP(E79,DEBUT!$D$5:$J$110,7,FALSE)),2))/CARTE!$O$9,0)","v":177.2924730824831},{"$f":"IFERROR(SQRT(POWER((VLOOKUP(E79,DEBUT!$D$5:$J$110,6,FALSE)-VLOOKUP(F79,DEBUT!$D$5:$J$110,6,FALSE)),2)+POWER((VLOOKUP(E79,DEBUT!$D$5:$J$110,7,FALSE)-VLOOKUP(F79,DEBUT!$D$5:$J$110,7,FALSE)),2))/CARTE!$O$9,0)","v":292.41323207806477},{"$f":"IFERROR(SQRT(POWER((VLOOKUP(F79,DEBUT!$D$5:$J$110,6,FALSE)-VLOOKUP(G79,DEBUT!$D$5:$J$110,6,FALSE)),2)+POWER((VLOOKUP(F79,DEBUT!$D$5:$J$110,7,FALSE)-VLOOKUP(G79,DEBUT!$D$5:$J$110,7,FALSE)),2))/CARTE!$O$9,0)","v":185.45260026215442},{"$f":"IFERROR(SQRT(POWER((VLOOKUP(G79,DEBUT!$D$5:$J$110,6,FALSE)-VLOOKUP(H79,DEBUT!$D$5:$J$110,6,FALSE)),2)+POWER((VLOOKUP(G79,DEBUT!$D$5:$J$110,7,FALSE)-VLOOKUP(H79,DEBUT!$D$5:$J$110,7,FALSE)),2))/CARTE!$O$9,0)","v":388.88158128989608},{"$f":"IFERROR(SQRT(POWER((VLOOKUP(H79,DEBUT!$D$5:$J$110,6,FALSE)-VLOOKUP(I79,DEBUT!$D$5:$J$110,6,FALSE)),2)+POWER((VLOOKUP(H79,DEBUT!$D$5:$J$110,7,FALSE)-VLOOKUP(I79,DEBUT!$D$5:$J$110,7,FALSE)),2))/CARTE!$O$9,0)","v":1321.1931767408294},{"$f":"IFERROR(SQRT(POWER((VLOOKUP(I79,DEBUT!$D$5:$J$110,6,FALSE)-VLOOKUP(J79,DEBUT!$D$5:$J$110,6,FALSE)),2)+POWER((VLOOKUP(I79,DEBUT!$D$5:$J$110,7,FALSE)-VLOOKUP(J79,DEBUT!$D$5:$J$110,7,FALSE)),2))/CARTE!$O$9,0)","v":621.65617723594562},{"$f":"IFERROR(SQRT(POWER((VLOOKUP(J79,DEBUT!$D$5:$J$110,6,FALSE)-VLOOKUP(K79,DEBUT!$D$5:$J$110,6,FALSE)),2)+POWER((VLOOKUP(J79,DEBUT!$D$5:$J$110,7,FALSE)-VLOOKUP(K79,DEBUT!$D$5:$J$110,7,FALSE)),2))/CARTE!$O$9,0)","v":0},{"$f":"IFERROR(SQRT(POWER((VLOOKUP(K79,DEBUT!$D$5:$J$110,6,FALSE)-VLOOKUP(L79,DEBUT!$D$5:$J$110,6,FALSE)),2)+POWER((VLOOKUP(K79,DEBUT!$D$5:$J$110,7,FALSE)-VLOOKUP(L79,DEBUT!$D$5:$J$110,7,FALSE)),2))/CARTE!$O$9,0)","v":0},{"$f":"IFERROR(SQRT(POWER((VLOOKUP(L79,DEBUT!$D$5:$J$110,6,FALSE)-VLOOKUP(M79,DEBUT!$D$5:$J$110,6,FALSE)),2)+POWER((VLOOKUP(L79,DEBUT!$D$5:$J$110,7,FALSE)-VLOOKUP(M79,DEBUT!$D$5:$J$110,7,FALSE)),2))/CARTE!$O$9,0)","v":0},{"$f":"IFERROR(SQRT(POWER((VLOOKUP(M79,DEBUT!$D$5:$J$110,6,FALSE)-VLOOKUP(N79,DEBUT!$D$5:$J$110,6,FALSE)),2)+POWER((VLOOKUP(M79,DEBUT!$D$5:$J$110,7,FALSE)-VLOOKUP(N79,DEBUT!$D$5:$J$110,7,FALSE)),2))/CARTE!$O$9,0)","v":0},{"$f":"IFERROR(SQRT(POWER((VLOOKUP(N79,DEBUT!$D$5:$J$110,6,FALSE)-VLOOKUP(O79,DEBUT!$D$5:$J$110,6,FALSE)),2)+POWER((VLOOKUP(N79,DEBUT!$D$5:$J$110,7,FALSE)-VLOOKUP(O79,DEBUT!$D$5:$J$110,7,FALSE)),2))/CARTE!$O$9,0)","v":0},{"$f":"IFERROR(SQRT(POWER((VLOOKUP(O79,DEBUT!$D$5:$J$110,6,FALSE)-VLOOKUP(P79,DEBUT!$D$5:$J$110,6,FALSE)),2)+POWER((VLOOKUP(O79,DEBUT!$D$5:$J$110,7,FALSE)-VLOOKUP(P79,DEBUT!$D$5:$J$110,7,FALSE)),2))/CARTE!$O$9,0)","v":0},"m","Distance",{"$f":"SUM(E77:P77)","v":2986.8892406893729},"m"]
[null,null,null,"Balises prévues",{"$f":"IF(ISTEXT($D77),HLOOKUP($D77,DEBUT!$O$3:$XX$100,3,FALSE),\"\")","v":"A"},{"$f":"IF(ISTEXT($D77),HLOOKUP($D77,DEBUT!$O$3:$XX$100,4,FALSE),\"\")","v":"B"},{"$f":"IF(ISTEXT($D77),HLOOKUP($D77,DEBUT!$O$3:$XX$100,5,FALSE),\"\")","v":"C"},{"$f":"IF(ISTEXT($D77),HLOOKUP($D77,DEBUT!$O$3:$XX$100,6,FALSE),\"\")","v":"D"},{"$f":"IF(ISTEXT($D77),HLOOKUP($D77,DEBUT!$O$3:$XX$100,7,FALSE),\"\")","v":"E"},{"$f":"IF(ISTEXT($D77),HLOOKUP($D77,DEBUT!$O$3:$XX$100,8,FALSE),\"\")","v":"F"},{"$f":"IF(ISTEXT($D77),HLOOKUP($D77,DEBUT!$O$3:$XX$100,9,FALSE),\"\")","v":0},{"$f":"IF(ISTEXT($D77),HLOOKUP($D77,DEBUT!$O$3:$XX$100,10,FALSE),\"\")","v":0},{"$f":"IF(ISTEXT($D77),HLOOKUP($D77,DEBUT!$O$3:$XX$100,11,FALSE),\"\")","v":0},{"$f":"IF(ISTEXT($D77),HLOOKUP($D77,DEBUT!$O$3:$XX$100,12,FALSE),\"\")","v":0},{"$f":"IF(ISTEXT($D77),HLOOKUP($D77,DEBUT!$O$3:$XX$100,13,FALSE),\"\")","v":"K"},{"$f":"IF(ISTEXT($D77),HLOOKUP($D77,DEBUT!$O$3:$XX$100,14,FALSE),\"\")","v":"L"},null,"Nombre balises prévues",{"$f":"SUMPRODUCT(N(ISTEXT(E78:P78)))","v":8},"prévues"]
[null,null,null,"Validé",{"$f":"IF($D79=DEBUT!$L$5,E80,\"\")","v":7},{"$f":"IF($D79=DEBUT!$L$5,F80,\"\")","v":10},{"$f":"IF($D79=DEBUT!$L$5,G80,\"\")","v":11},{"$f":"IF($D79=DEBUT!$L$5,H80,\"\")","v":1},{"$f":"IF($D79=DEBUT!$L$5,I80,\"\")","v":76},{"$f":"IF($D79=DEBUT!$L$5,J80,\"\")","v":46},{"$f":"IF($D79=DEBUT!$L$5,K80,\"\")","v":""},{"$f":"IF($D79=DEBUT!$L$5,L80,\"\")","v":""},{"$f":"IF($D79=DEBUT!$L$5,M80,\"\")","v":""},{"$f":"IF($D79=DEBUT!$L$5,N80,\"\")","v":""},{"$f":"IF($D79=DEBUT!$L$5,O80,\"\")","v":0},{"$f":"IF($D79=DEBUT!$L$5,P80,\"\")","v":0},null,"Nombre balises trouvées",{"$f":"SUMPRODUCT(N(ISNUMBER(E79:P79)))","v":8},{"$f":"IF(S79>1,\"trouvées\",\"trouvée\")","v":"trouvées"}]
[null,null,null,"Balises CM",{"$f":"IFERROR(INDEX(baliseCM,MATCH(E78,lettre,0),MATCH($D76,parcours,0)),\"\")","v":7},{"$f":"IFERROR(INDEX(baliseCM,MATCH(F78,lettre,0),MATCH($D76,parcours,0)),\"\")","v":10},11,1,76,46,{"$f":"IFERROR(INDEX(baliseCM,MATCH(K78,lettre,0),MATCH($D76,parcours,0)),\"\")","v":""},{"$f":"IFERROR(INDEX(baliseCM,MATCH(L78,lettre,0),MATCH($D76,parcours,0)),\"\")","v":""},"","",0,0]
[null,null,null,"Vitesse","à 2",null,{"$f":"((E77+F77+G77)/ABS((HOUR(G76)*3600+MINUTE(G76)*60+SECOND(G76))))*3.6","v":1179.284949760864},"à 2",null,{"$f":"((H77+I77+J77)/ABS((HOUR(J76)*3600+MINUTE(J76)*60+SECOND(J76))))*3.6","v":0.25811725860090451},"P",{"$f":"((J77+K77+L77)/ABS((HOUR(L76)*3600+MINUTE(L76)*60+SECOND(L76))))*3.6","v":{"$error":"#NUM!"}},"T",{"$f":"((L77+M77+N77)/ABS((HOUR(N76)*3600+MINUTE(N76)*60+SECOND(N76))))*3.6","v":{"$error":"#DIV/0!"}},"à 2",{"$f":"((N77+O77+P77)/ABS((HOUR(P76)*3600+MINUTE(P76)*60+SECOND(P76))))*3.6","v":{"$error":"#DIV/0!"}},"Km/h","Vitesse moyenne",{"$f":"S77/T76*3.6","v":0.33062144533043514},"km/h"]
[null,"EQUIPE 12",null,"15:25:23","15:55:06",null,"15:25:24",null,null,null,null,null,null,null,null,null,null,null,null,null,"Analyse du parcours"]
[null,null,null,{"$f":"CONCATENATE(D84,\"bis\")","v":"6ROUGEbis"},null,null,{"$f":"G82-D82","v":"00:00:01"},null,null,{"$f":"J82-D82","v":-0.64262731481481483},null,{"$f":"L82-I82","v":"00:00:00"},null,{"$f":"N82-K82","v":"00:00:00"},null,{"$f":"P82-M82","v":"00:00:00"},null,"Temps de course",{"$f":"SUMIF(E83:P83,\">0\",E83:P83)","v":"00:00:01"},{"$f":"ABS((HOUR(S83)*3600+MINUTE(S83)*60+SECOND(S83)))","v":1}]
[null,null,null,{"$f":"$H$2","v":"6ROUGE"},{"$f":"IFERROR(SQRT(POWER((VLOOKUP($C$5,DEBUT!$D$5:$J$110,6,FALSE)-VLOOKUP(E86,DEBUT!$D$5:$J$110,6,FALSE)),2)+POWER((VLOOKUP($C$5,DEBUT!$D$5:$J$110,7,FALSE)-VLOOKUP(E86,DEBUT!$D$5:$J$110,7,FALSE)),2))/CARTE!$O$9,0)","v":177.2924730824831},{"$f":"IFERROR(SQRT(POWER((VLOOKUP(E86,DEBUT!$D$5:$J$110,6,FALSE)-VLOOKUP(F86,DEBUT!$D$5:$J$110,6,FALSE)),2)+POWER((VLOOKUP(E86,DEBUT!$D$5:$J$110,7,FALSE)-VLOOKUP(F86,DEBUT!$D$5:$J$110,7,FALSE)),2))/CARTE!$O$9,0)","v":292.41323207806477},{"$f":"IFERROR(SQRT(POWER((VLOOKUP(F86,DEBUT!$D$5:$J$110,6,FALSE)-VLOOKUP(G86,DEBUT!$D$5:$J$110,6,FALSE)),2)+POWER((VLOOKUP(F86,DEBUT!$D$5:$J$110,7,FALSE)-VLOOKUP(G86,DEBUT!$D$5:$J$110,7,FALSE)),2))/CARTE!$O$9,0)","v":185.45260026215442},{"$f":"IFERROR(SQRT(POWER((VLOOKUP(G86,DEBUT!$D$5:$J$110,6,FALSE)-VLOOKUP(H86,DEBUT!$D$5:$J$110,6,FALSE)),2)+POWER((VLOOKUP(G86,DEBUT!$D$5:$J$110,7,FALSE)-VLOOKUP(H86,DEBUT!$D$5:$J$110,7,FALSE)),2))/CARTE!$O$9,0)","v":388.88158128989608},{"$f":"IFERROR(SQRT(POWER((VLOOKUP(H86,DEBUT!$D$5:$J$110,6,FALSE)-VLOOKUP(I86,DEBUT!$D$5:$J$110,6,FALSE)),2)+POWER((VLOOKUP(H86,DEBUT!$D$5:$J$110,7,FALSE)-VLOOKUP(I86,DEBUT!$D$5:$J$110,7,FALSE)),2))/CARTE!$O$9,0)","v":1321.1931767408294},{"$f":"IFERROR(SQRT(POWER((VLOOKUP(I86,DEBUT!$D$5:$J$110,6,FALSE)-VLOOKUP(J86,DEBUT!$D$5:$J$110,6,FALSE)),2)+POWER((VLOOKUP(I86,DEBUT!$D$5:$J$110,7,FALSE)-VLOOKUP(J86,DEBUT!$D$5:$J$110,7,FALSE)),2))/CARTE!$O$9,0)","v":621.65617723594562},{"$f":"IFERROR(SQRT(POWER((VLOOKUP(J86,DEBUT!$D$5:$J$110,6,FALSE)-VLOOKUP(K86,DEBUT!$D$5:$J$110,6,FALSE)),2)+POWER((VLOOKUP(J86,DEBUT!$D$5:$J$110,7,FALSE)-VLOOKUP(K86,DEBUT!$D$5:$J$110,7,FALSE)),2))/CARTE!$O$9,0)","v":0},{"$f":"IFERROR(SQRT(POWER((VLOOKUP(K86,DEBUT!$D$5:$J$110,6,FALSE)-VLOOKUP(L86,DEBUT!$D$5:$J$110,6,FALSE)),2)+POWER((VLOOKUP(K86,DEBUT!$D$5:$J$110,7,FALSE)-VLOOKUP(L86,DEBUT!$D$5:$J$110,7,FALSE)),2))/CARTE!$O$9,0)","v":0},{"$f":"IFERROR(SQRT(POWER((VLOOKUP(L86,DEBUT!$D$5:$J$110,6,FALSE)-VLOOKUP(M86,DEBUT!$D$5:$J$110,6,FALSE)),2)+POWER((VLOOKUP(L86,DEBUT!$D$5:$J$110,7,FALSE)-VLOOKUP(M86,DEBUT!$D$5:$J$110,7,FALSE)),2))/CARTE!$O$9,0)","v":0},{"$f":"IFERROR(SQRT(POWER((VLOOKUP(M86,DEBUT!$D$5:$J$110,6,FALSE)-VLOOKUP(N86,DEBUT!$D$5:$J$110,6,FALSE)),2)+POWER((VLOOKUP(M86,DEBUT!$D$5:$J$110,7,FALSE)-VLOOKUP(N86,DEBUT!$D$5:$J$110,7,FALSE)),2))/CARTE!$O$9,0)","v":0},{"$f":"IFERROR(SQRT(POWER((VLOOKUP(N86,DEBUT!$D$5:$J$110,6,FALSE)-VLOOKUP(O86,DEBUT!$D$5:$J$110,6,FALSE)),2)+POWER((VLOOKUP(N86,DEBUT!$D$5:$J$110,7,FALSE)-VLOOKUP(O86,DEBUT!$D$5:$J$110,7,FALSE)),2))/CARTE!$O$9,0)","v":0},{"$f":"IFERROR(SQRT(POWER((VLOOKUP(O86,DEBUT!$D$5:$J$110,6,FALSE)-VLOOKUP(P86,DEBUT!$D$5:$J$110,6,FALSE)),2)+POWER((VLOOKUP(O86,DEBUT!$D$5:$J$110,7,FALSE)-VLOOKUP(P86,DEBUT!$D$5:$J$110,7,FALSE)),2))/CARTE!$O$9,0)","v":0},"m","Distance",{"$f":"SUM(E84:P84)","v":2986.8892406893729},"m"]
[null,null,null,"Balises prévues",{"$f":"IF(ISTEXT($D84),HLOOKUP($D84,DEBUT!$O$3:$XX$100,3,FALSE),\"\")","v":"A"},{"$f":"IF(ISTEXT($D84),HLOOKUP($D84,DEBUT!$O$3:$XX$100,4,FALSE),\"\")","v":"B"},{"$f":"IF(ISTEXT($D84),HLOOKUP($D84,DEBUT!$O$3:$XX$100,5,FALSE),\"\")","v":"C"},{"$f":"IF(ISTEXT($D84),HLOOKUP($D84,DEBUT!$O$3:$XX$100,6,FALSE),\"\")","v":"D"},{"$f":"IF(ISTEXT($D84),HLOOKUP($D84,DEBUT!$O$3:$XX$100,7,FALSE),\"\")","v":"E"},{"$f":"IF(ISTEXT($D84),HLOOKUP($D84,DEBUT!$O$3:$XX$100,8,FALSE),\"\")","v":"F"},{"$f":"IF(ISTEXT($D84),HLOOKUP($D84,DEBUT!$O$3:$XX$100,9,FALSE),\"\")","v":0},{"$f":"IF(ISTEXT($D84),HLOOKUP($D84,DEBUT!$O$3:$XX$100,10,FALSE),\"\")","v":0},{"$f":"IF(ISTEXT($D84),HLOOKUP($D84,DEBUT!$O$3:$XX$100,11,FALSE),\"\")","v":0},{"$f":"IF(ISTEXT($D84),HLOOKUP($D84,DEBUT!$O$3:$XX$100,12,FALSE),\"\")","v":0},{"$f":"IF(ISTEXT($D84),HLOOKUP($D84,DEBUT!$O$3:$XX$100,13,FALSE),\"\")","v":"K"},{"$f":"IF(ISTEXT($D84),HLOOKUP($D84,DEBUT!$O$3:$XX$100,14,FALSE),\"\")","v":"L"},null,"Nombre balises prévues",{"$f":"SUMPRODUCT(N(ISTEXT(E85:P85)))","v":8},"prévues"]
[null,null,null,"Validé",{"$f":"IF($D86=DEBUT!$L$5,E87,\"\")","v":7},{"$f":"IF($D86=DEBUT!$L$5,F87,\"\")","v":10},{"$f":"IF($D86=DEBUT!$L$5,G87,\"\")","v":11},{"$f":"IF($D86=DEBUT!$L$5,H87,\"\")","v":1},{"$f":"IF($D86=DEBUT!$L$5,I87,\"\")","v":76},{"$f":"IF($D86=DEBUT!$L$5,J87,\"\")","v":46},{"$f":"IF($D86=DEBUT!$L$5,K87,\"\")","v":""},{"$f":"IF($D86=DEBUT!$L$5,L87,\"\")","v":""},{"$f":"IF($D86=DEBUT!$L$5,M87,\"\")","v":""},{"$f":"IF($D86=DEBUT!$L$5,N87,\"\")","v":""},{"$f":"IF($D86=DEBUT!$L$5,O87,\"\")","v":0},{"$f":"IF($D86=DEBUT!$L$5,P87,\"\")","v":0},null,"Nombre balises trouvées",{"$f":"SUMPRODUCT(N(ISNUMBER(E86:P86)))","v":8},{"$f":"IF(S86>1,\"trouvées\",\"trouvée\")","v":"trouvées"}]
[null,null,null,"Balises CM",{"$f":"IFERROR(INDEX(baliseCM,MATCH(E85,lettre,0),MATCH($D83,parcours,0)),\"\")","v":7},{"$f":"IFERROR(INDEX(baliseCM,MATCH(F85,lettre,0),MATCH($D83,parcours,0)),\"\")","v":10},11,1,76,46,{"$f":"IFERROR(INDEX(baliseCM,MATCH(K85,lettre,0),MATCH($D83,parcours,0)),\"\")","v":""},{"$f":"IFERROR(INDEX(baliseCM,MATCH(L85,lettre,0),MATCH($D83,parcours,0)),\"\")","v":""},"","",0,0]
[null,null,null,"Vitesse","à 2",null,{"$f":"((E84+F84+G84)/ABS((HOUR(G83)*3600+MINUTE(G83)*60+SECOND(G83))))*3.6","v":2358.5698995217281},"à 2",null,{"$f":"((H84+I84+J84)/ABS((HOUR(J83)*3600+MINUTE(J83)*60+SECOND(J83))))*3.6","v":{"$error":"#NUM!"}},"P",{"$f":"((J84+K84+L84)/ABS((HOUR(L83)*3600+MINUTE(L83)*60+SECOND(L83))))*3.6","v":{"$error":"#DIV/0!"}},"T",{"$f":"((L84+M84+N84)/ABS((HOUR(N83)*3600+MINUTE(N83)*60+SECOND(N83))))*3.6","v":{"$error":"#DIV/0!"}},"à 2",{"$f":"((N84+O84+P84)/ABS((HOUR(P83)*3600+MINUTE(P83)*60+SECOND(P83))))*3.6","v":{"$error":"#DIV/0!"}},"Km/h","Vitesse moyenne",{"$f":"S84/T83*3.6","v":10752.801266481743},"km/h"]

{"sheet":"TUTORAT8B","index":13,"n_rows":88,"n_cols":39,"rows_kept":88,"cut":false,"hidden":false,"merged":[[68,19,72,19],[75,19,79,19],[82,19,86,19],[26,19,30,19],[33,19,37,19],[40,19,44,19],[47,19,51,19],[54,19,58,19],[61,19,65,19],[19,19,23,19],[0,7,0,9],[1,4,1,5],[1,7,1,9],[5,19,9,19],[12,19,16,19]]}
[null,null,null,null,null,null,null,{"$f":"CONCATENATE(H2,\"bis\")","v":"6ROUGEbis"},null,null,null,null,"Temps limite"]
[null,"STAGE",null,null,"23:08:42",null,null,"6ROUGE",null,null,null,null,30.024305555555557,"min"]
[null,null,null,null,null,null,null,null,{"$f":"IF(ISTEXT($H2),HLOOKUP($H2,DEBUT!$O$3:$XX$100,7,FALSE),\"\")","v":"E"}]
[null,null,null,null,null,null,null,null,{"$f":"IFERROR(INDEX(baliseCM,MATCH(I3,lettre,0),MATCH($H$1,parcours,0)),\"\")","v":76},null,null,null,null,null,null,"ETOILE","N3"]
[null,"EQUIPE 1","D","09:48:57",null,"09:49:09",null,"09:50:04",null,"09:50:07",null,"09:50:10",null,null,null,null,null,null,null,"Analyse du parcours",null,null,null,null,null,null,null,null,null,null,null,null,null,null,null,null,null,1,{"$f":"OFFSET(INDEX(eleves,MATCH(AL5,chiffre,0),MATCH($B$2,classes,0)),0,1)","v":"POL"}]
[null,"Alexandre",null,{"$f":"CONCATENATE(D7,\"bis\")","v":"6ROUGEbis"},null,{"$f":"F5-D5","v":"00:00:12"},null,{"$f":"H5-F5","v":"00:00:55"},null,{"$f":"J5-H5","v":"00:00:03"},null,{"$f":"L5-J5","v":"00:00:03"},null,null,null,"Temps de course",{"$f":"SUMIF(E6:N6,\">0\",E6:N6)","v":"00:01:13"},{"$f":"ABS((HOUR(Q6)*3600+MINUTE(Q6)*60+SECOND(Q6)))","v":73},null,null,null,null,null,null,null,null,null,null,null,null,null,null,null,null,null,null,null,2,"CARINE"]
[null,null,null,{"$f":"$H$2","v":"6ROUGE"},{"$f":"IFERROR(SQRT(POWER((VLOOKUP($C$5,DEBUT!$D$5:$J$110,6,FALSE)-VLOOKUP(E9,DEBUT!$D$5:$J$110,6,FALSE)),2)+POWER((VLOOKUP($C$5,DEBUT!$D$5:$J$110,7,FALSE)-VLOOKUP(E9,DEBUT!$D$5:$J$110,7,FALSE)),2))/CARTE!$O$9,0)","v":177.2924730824831},{"$f":"IFERROR(SQRT(POWER((VLOOKUP(E9,DEBUT!$D$5:$J$110,6,FALSE)-VLOOKUP(F9,DEBUT!$D$5:$J$110,6,FALSE)),2)+POWER((VLOOKUP(E9,DEBUT!$D$5:$J$110,7,FALSE)-VLOOKUP(F9,DEBUT!$D$5:$J$110,7,FALSE)),2))/CARTE!$O$9,0)","v":292.41323207806477},{"$f":"IFERROR(SQRT(POWER((VLOOKUP($C$5,DEBUT!$D$5:$J$110,6,FALSE)-VLOOKUP(G9,DEBUT!$D$5:$J$110,6,FALSE)),2)+POWER((VLOOKUP($C$5,DEBUT!$D$5:$J$110,7,FALSE)-VLOOKUP(G9,DEBUT!$D$5:$J$110,7,FALSE)),2))/CARTE!$O$9,0)","v":292.36811846754603},{"$f":"IFERROR(SQRT(POWER((VLOOKUP(G9,DEBUT!$D$5:$J$110,6,FALSE)-VLOOKUP(H9,DEBUT!$D$5:$J$110,6,FALSE)),2)+POWER((VLOOKUP(G9,DEBUT!$D$5:$J$110,7,FALSE)-VLOOKUP(H9,DEBUT!$D$5:$J$110,7,FALSE)),2))/CARTE!$O$9,0)","v":388.88158128989608},{"$f":"IFERROR(SQRT(POWER((VLOOKUP($C$5,DEBUT!$D$5:$J$110,6,FALSE)-VLOOKUP(I9,DEBUT!$D$5:$J$110,6,FALSE)),2)+POWER((VLOOKUP($C$5,DEBUT!$D$5:$J$110,7,FALSE)-VLOOKUP(I9,DEBUT!$D$5:$J$110,7,FALSE)),2))/CARTE!$O$9,0)","v":820.45921176843535},{"$f":"IFERROR(SQRT(POWER((VLOOKUP(I9,DEBUT!$D$5:$J$110,6,FALSE)-VLOOKUP(J9,DEBUT!$D$5:$J$110,6,FALSE)),2)+POWER((VLOOKUP(I9,DEBUT!$D$5:$J$110,7,FALSE)-VLOOKUP(J9,DEBUT!$D$5:$J$110,7,FALSE)),2))/CARTE!$O$9,0)","v":621.65617723594562},{"$f":"IFERROR(SQRT(POWER((VLOOKUP($C$5,DEBUT!$D$5:$J$110,6,FALSE)-VLOOKUP(K9,DEBUT!$D$5:$J$110,6,FALSE)),2)+POWER((VLOOKUP($C$5,DEBUT!$D$5:$J$110,7,FALSE)-VLOOKUP(K9,DEBUT!$D$5:$J$110,7,FALSE)),2))/CARTE!$O$9,0)","v":0},{"$f":"IFERROR(SQRT(POWER((VLOOKUP(K9,DEBUT!$D$5:$J$110,6,FALSE)-VLOOKUP(L9,DEBUT!$D$5:$J$110,6,FALSE)),2)+POWER((VLOOKUP(K9,DEBUT!$D$5:$J$110,7,FALSE)-VLOOKUP(L9,DEBUT!$D$5:$J$110,7,FALSE)),2))/CARTE!$O$9,0)","v":0},"m",null,"m","Distance",{"$f":"SUM(E7:N7)","v":2593.0707939223707},"m",null,null,null,null,null,null,null,null,null,null,null,null,null,null,null,null,null,null,null,3,"BASTIEN"]
[null,null,null,"Balises prévues",{"$f":"IF(ISTEXT($D7),HLOOKUP($D7,DEBUT!$O$3:$XX$100,3,FALSE),\"\")","v":"A"},{"$f":"IF(ISTEXT($D7),HLOOKUP($D7,DEBUT!$O$3:$XX$100,4,FALSE),\"\")","v":"B"},{"$f":"IF(ISTEXT($D7),HLOOKUP($D7,DEBUT!$O$3:$XX$100,5,FALSE),\"\")","v":"C"},{"$f":"IF(ISTEXT($D7),HLOOKUP($D7,DEBUT!$O$3:$XX$100,6,FALSE),\"\")","v":"D"},{"$f":"IF(ISTEXT($D7),HLOOKUP($D7,DEBUT!$O$3:$XX$100,7,FALSE),\"\")","v":"E"},{"$f":"IF(ISTEXT($D7),HLOOKUP($D7,DEBUT!$O$3:$XX$100,8,FALSE),\"\")","v":"F"},{"$f":"IF(ISTEXT($D7),HLOOKUP($D7,DEBUT!$O$3:$XX$100,9,FALSE),\"\")","v":0},{"$f":"IF(ISTEXT($D7),HLOOKUP($D7,DEBUT!$O$3:$XX$100,10,FALSE),\"\")","v":0},"x","x",null,"Nombre balises prévues",{"$f":"SUMPRODUCT(N(ISTEXT(E8:N8)))","v":8},"prévues",null,null,null,null,null,null,null,null,null,null,null,null,null,null,null,null,null,null,null,4,"CORALINE"]
[null,null,null,"Validé",{"$f":"IF($D9=DEBUT!$L$5,E10,\"\")","v":7},{"$f":"IF($D9=DEBUT!$L$5,F10,\"\")","v":10},{"$f":"IF($D9=DEBUT!$L$5,G10,\"\")","v":11},{"$f":"IF($D9=DEBUT!$L$5,H10,\"\")","v":1},{"$f":"IF($D9=DEBUT!$L$5,I10,\"\")","v":76},{"$f":"IF($D9=DEBUT!$L$5,J10,\"\")","v":46},{"$f":"IF($D9=DEBUT!$L$5,K10,\"\")","v":""},{"$f":"IF($D9=DEBUT!$L$5,L10,\"\")","v":""},null,null,null,"Nombre balises trouvées",{"$f":"SUMPRODUCT(N(ISNUMBER(E9:N9)))","v":6},{"$f":"IF(Q9>1,\"trouvées\",\"trouvée\")","v":"trouvées"},null,null,null,null,null,null,null,null,null,null,null,null,null,null,null,null,null,null,null,5,"GREGORY"]
[null,null,null,"Balises CM",{"$f":"IFERROR(INDEX(baliseCM,MATCH(E8,lettre,0),MATCH($D6,parcours,0)),\"\")","v":7},{"$f":"IFERROR(INDEX(baliseCM,MATCH(F8,lettre,0),MATCH($D6,parcours,0)),\"\")","v":10},11,1,76,46,"","",null,null,null,null,null,null,null,null,null,null,null,null,null,null,null,null,null,null,null,null,null,null,null,null,null,6,"THOMAS"]
[null,null,null,"Vitesse","à 2",{"$f":"(F7/ABS((HOUR(F6)*3600+MINUTE(F6)*60+SECOND(F6))))*3.6","v":87.723969623419435},"P",25.454067138975017,"T",745.98741268313472,"à 2",0,null,null,"Km/h","Vitesse moyenne",{"$f":"Q7/R6*3.6","v":127.87746380987035},"km/h",null,null,null,null,null,null,null,null,null,null,null,null,null,null,null,null,null,null,null,7,"ALAIN"]
[null,"EQUIPE 2",null,"13:52:35",null,"13:52:37",null,null,null,null,null,null,null,null,null,null,null,null,null,"Analyse du parcours",null,null,null,null,null,null,null,null,null,null,null,null,null,null,null,null,null,8,"QUENTIN"]
[null,null,null,{"$f":"CONCATENATE(D14,\"bis\")","v":"6ROUGEbis"},null,{"$f":"F12-D12","v":"00:00:02"},null,{"$f":"H12-F12","v":-0.57820601851851849},null,{"$f":"J12-H12","v":"00:00:00"},null,{"$f":"L12-J12","v":"00:00:00"},null,null,null,"Temps de course",{"$f":"SUMIF(E13:N13,\">0\",E13:N13)","v":"00:00:02"},{"$f":"ABS((HOUR(Q13)*3600+MINUTE(Q13)*60+SECOND(Q13)))","v":2},null,null,null,null,null,null,null,null,null,null,null,null,null,null,null,null,null,null,null,9,"BAPTISTE"]
[null,null,null,{"$f":"$H$2","v":"6ROUGE"},{"$f":"IFERROR(SQRT(POWER((VLOOKUP($C$5,DEBUT!$D$5:$J$110,6,FALSE)-VLOOKUP(E16,DEBUT!$D$5:$J$110,6,FALSE)),2)+POWER((VLOOKUP($C$5,DEBUT!$D$5:$J$110,7,FALSE)-VLOOKUP(E16,DEBUT!$D$5:$J$110,7,FALSE)),2))/CARTE!$O$9,0)","v":177.2924730824831},{"$f":"IFERROR(SQRT(POWER((VLOOKUP(E16,DEBUT!$D$5:$J$110,6,FALSE)-VLOOKUP(F16,DEBUT!$D$5:$J$110,6,FALSE)),2)+POWER((VLOOKUP(E16,DEBUT!$D$5:$J$110,7,FALSE)-VLOOKUP(F16,DEBUT!$D$5:$J$110,7,FALSE)),2))/CARTE!$O$9,0)","v":292.41323207806477},{"$f":"IFERROR(SQRT(POWER((VLOOKUP($C$5,DEBUT!$D$5:$J$110,6,FALSE)-VLOOKUP(G16,DEBUT!$D$5:$J$110,6,FALSE)),2)+POWER((VLOOKUP($C$5,DEBUT!$D$5:$J$110,7,FALSE)-VLOOKUP(G16,DEBUT!$D$5:$J$110,7,FALSE)),2))/CARTE!$O$9,0)","v":292.36811846754603},{"$f":"IFERROR(SQRT(POWER((VLOOKUP(G16,DEBUT!$D$5:$J$110,6,FALSE)-VLOOKUP(H16,DEBUT!$D$5:$J$110,6,FALSE)),2)+POWER((VLOOKUP(G16,DEBUT!$D$5:$J$110,7,FALSE)-VLOOKUP(H16,DEBUT!$D$5:$J$110,7,FALSE)),2))/CARTE!$O$9,0)","v":388.88158128989608},{"$f":"IFERROR(SQRT(POWER((VLOOKUP($C$5,DEBUT!$D$5:$J$110,6,FALSE)-VLOOKUP(I16,DEBUT!$D$5:$J$110,6,FALSE)),2)+POWER((VLOOKUP($C$5,DEBUT!$D$5:$J$110,7,FALSE)-VLOOKUP(I16,DEBUT!$D$5:$J$110,7,FALSE)),2))/CARTE!$O$9,0)","v":820.45921176843535},{"$f":"IFERROR(SQRT(POWER((VLOOKUP(I16,DEBUT!$D$5:$J$110,6,FALSE)-VLOOKUP(J16,DEBUT!$D$5:$J$110,6,FALSE)),2)+POWER((VLOOKUP(I16,DEBUT!$D$5:$J$110,7,FALSE)-VLOOKUP(J16,DEBUT!$D$5:$J$110,7,FALSE)),2))/CARTE!$O$9,0)","v":621.65617723594562},{"$f":"IFERROR(SQRT(POWER((VLOOKUP($C$5,DEBUT!$D$5:$J$110,6,FALSE)-VLOOKUP(K16,DEBUT!$D$5:$J$110,6,FALSE)),2)+POWER((VLOOKUP($C$5,DEBUT!$D$5:$J$110,7,FALSE)-VLOOKUP(K16,DEBUT!$D$5:$J$110,7,FALSE)),2))/CARTE!$O$9,0)","v":0},{"$f":"IFERROR(SQRT(POWER((VLOOKUP(K16,DEBUT!$D$5:$J$110,6,FALSE)-VLOOKUP(L16,DEBUT!$D$5:$J$110,6,FALSE)),2)+POWER((VLOOKUP(K16,DEBUT!$D$5:$J$110,7,FALSE)-VLOOKUP(L16,DEBUT!$D$5:$J$110,7,FALSE)),2))/CARTE!$O$9,0)","v":0},"m",null,"m","Distance",{"$f":"SUM(E14:N14)","v":2593.0707939223707},"m",null,null,null,null,null,null,null,null,null,null,null,null,null,null,null,null,null,null,null,10,"FRANCK"]
[null,null,null,"Balises prévues",{"$f":"IF(ISTEXT($D14),HLOOKUP($D14,DEBUT!$O$3:$XX$100,3,FALSE),\"\")","v":"A"},{"$f":"IF(ISTEXT($D14),HLOOKUP($D14,DEBUT!$O$3:$XX$100,4,FALSE),\"\")","v":"B"},{"$f":"IF(ISTEXT($D14),HLOOKUP($D14,DEBUT!$O$3:$XX$100,5,FALSE),\"\")","v":"C"},{"$f":"IF(ISTEXT($D14),HLOOKUP($D14,DEBUT!$O$3:$XX$100,6,FALSE),\"\")","v":"D"},{"$f":"IF(ISTEXT($D14),HLOOKUP($D14,DEBUT!$O$3:$XX$100,7,FALSE),\"\")","v":"E"},{"$f":"IF(ISTEXT($D14),HLOOKUP($D14,DEBUT!$O$3:$XX$100,8,FALSE),\"\")","v":"F"},{"$f":"IF(ISTEXT($D14),HLOOKUP($D14,DEBUT!$O$3:$XX$100,9,FALSE),\"\")","v":0},{"$f":"IF(ISTEXT($D14),HLOOKUP($D14,DEBUT!$O$3:$XX$100,10,FALSE),\"\")","v":0},"x","x",null,"Nombre balises prévues",{"$f":"SUMPRODUCT(N(ISTEXT(E15:N15)))","v":8},"prévues",null,null,null,null,null,null,null,null,null,null,null,null,null,null,null,null,null,null,null,11,"VALENTIN"]
[null,null,null,"Validé",{"$f":"IF($D16=DEBUT!$L$5,E17,\"\")","v":7},{"$f":"IF($D16=DEBUT!$L$5,F17,\"\")","v":10},{"$f":"IF($D16=DEBUT!$L$5,G17,\"\")","v":11},{"$f":"IF($D16=DEBUT!$L$5,H17,\"\")","v":1},{"$f":"IF($D16=DEBUT!$L$5,I17,\"\")","v":76},{"$f":"IF($D16=DEBUT!$L$5,J17,\"\")","v":46},{"$f":"IF($D16=DEBUT!$L$5,K17,\"\")","v":""},{"$f":"IF($D16=DEBUT!$L$5,L17,\"\")","v":""},null,null,null,"Nombre balises trouvées",{"$f":"SUMPRODUCT(N(ISNUMBER(E16:N16)))","v":6},{"$f":"IF(Q16>1,\"trouvées\",\"trouvée\")","v":"trouvées"},null,null,null,null,null,null,null,null,null,null,null,null,null,null,null,null,null,null,null,12,"BENJAMIN"]
[null,null,null,"Balises CM",{"$f":"IFERROR(INDEX(baliseCM,MATCH(E15,lettre,0),MATCH($D13,parcours,0)),\"\")","v":7},{"$f":"IFERROR(INDEX(baliseCM,MATCH(F15,lettre,0),MATCH($D13,parcours,0)),\"\")","v":10},11,1,76,46,"","",null,null,null,null,null,null,null,null,null,null,null,null,null,null,null,null,null,null,null,null,null,null,null,null,null,13,"ANDY"]
[null,null,null,"Vitesse","à 2",{"$f":"(F14/ABS((HOUR(F13)*3600+MINUTE(F13)*60+SECOND(F13))))*3.6","v":526.34381774051656},"P",{"$f":"(H14/ABS((HOUR(H13)*3600+MINUTE(H13)*60+SECOND(H13))))*3.6","v":{"$error":"#NUM!"}},"T",{"$f":"(J14/ABS((HOUR(J13)*3600+MINUTE(J13)*60+SECOND(J13))))*3.6","v":{"$error":"#DIV/0!"}},"à 2",{"$f":"(L14/ABS((HOUR(L13)*3600+MINUTE(L13)*60+SECOND(L13))))*3.6","v":{"$error":"#DIV/0!"}},null,null,"Km/h","Vitesse moyenne",{"$f":"Q14/R13*3.6","v":4667.5274290602674},"km/h",null,null,null,null,null,null,null,null,null,null,null,null,null,null,null,null,null,null,null,14,"OLIVIER"]
[null,"EQUIPE 3",null,"15:51:45",null,null,null,null,null,null,null,null,null,null,null,null,null,null,null,"Analyse du parcours",null,null,null,null,null,null,null,null,null,null,null,null,null,null,null,null,null,15,"CHRISTIAN"]
[null,null,null,{"$f":"CONCATENATE(D21,\"bis\")","v":"6ROUGEbis"},null,{"$f":"F19-D19","v":-0.66093750000000007},null,{"$f":"H19-F19","v":"00:00:00"},null,{"$f":"J19-H19","v":"00:00:00"},null,{"$f":"L19-J19","v":"00:00:00"},null,null,null,"Temps de course",{"$f":"SUMIF(E20:N20,\">0\",E20:N20)","v":"00:00:00"},{"$f":"ABS((HOUR(Q20)*3600+MINUTE(Q20)*60+SECOND(Q20)))","v":0},null,null,null,null,null,null,null,null,null,null,null,null,null,null,null,null,null,null,null,16,"CELINE"]
[null,null,null,{"$f":"$H$2","v":"6ROUGE"},{"$f":"IFERROR(SQRT(POWER((VLOOKUP($C$5,DEBUT!$D$5:$J$110,6,FALSE)-VLOOKUP(E23,DEBUT!$D$5:$J$110,6,FALSE)),2)+POWER((VLOOKUP($C$5,DEBUT!$D$5:$J$110,7,FALSE)-VLOOKUP(E23,DEBUT!$D$5:$J$110,7,FALSE)),2))/CARTE!$O$9,0)","v":177.2924730824831},{"$f":"IFERROR(SQRT(POWER((VLOOKUP(E23,DEBUT!$D$5:$J$110,6,FALSE)-VLOOKUP(F23,DEBUT!$D$5:$J$110,6,FALSE)),2)+POWER((VLOOKUP(E23,DEBUT!$D$5:$J$110,7,FALSE)-VLOOKUP(F23,DEBUT!$D$5:$J$110,7,FALSE)),2))/CARTE!$O$9,0)","v":292.41323207806477},{"$f":"IFERROR(SQRT(POWER((VLOOKUP($C$5,DEBUT!$D$5:$J$110,6,FALSE)-VLOOKUP(G23,DEBUT!$D$5:$J$110,6,FALSE)),2)+POWER((VLOOKUP($C$5,DEBUT!$D$5:$J$110,7,FALSE)-VLOOKUP(G23,DEBUT!$D$5:$J$110,7,FALSE)),2))/CARTE!$O$9,0)","v":292.36811846754603},{"$f":"IFERROR(SQRT(POWER((VLOOKUP(G23,DEBUT!$D$5:$J$110,6,FALSE)-VLOOKUP(H23,DEBUT!$D$5:$J$110,6,FALSE)),2)+POWER((VLOOKUP(G23,DEBUT!$D$5:$J$110,7,FALSE)-VLOOKUP(H23,DEBUT!$D$5:$J$110,7,FALSE)),2))/CARTE!$O$9,0)","v":388.88158128989608},{"$f":"IFERROR(SQRT(POWER((VLOOKUP($C$5,DEBUT!$D$5:$J$110,6,FALSE)-VLOOKUP(I23,DEBUT!$D$5:$J$110,6,FALSE)),2)+POWER((VLOOKUP($C$5,DEBUT!$D$5:$J$110,7,FALSE)-VLOOKUP(I23,DEBUT!$D$5:$J$110,7,FALSE)),2))/CARTE!$O$9,0)","v":820.45921176843535},{"$f":"IFERROR(SQRT(POWER((VLOOKUP(I23,DEBUT!$D$5:$J$110,6,FALSE)-VLOOKUP(J23,DEBUT!$D$5:$J$110,6,FALSE)),2)+POWER((VLOOKUP(I23,DEBUT!$D$5:$J$110,7,FALSE)-VLOOKUP(J23,DEBUT!$D$5:$J$110,7,FALSE)),2))/CARTE!$O$9,0)","v":621.65617723594562},{"$f":"IFERROR(SQRT(POWER((VLOOKUP($C$5,DEBUT!$D$5:$J$110,6,FALSE)-VLOOKUP(K23,DEBUT!$D$5:$J$110,6,FALSE)),2)+POWER((VLOOKUP($C$5,DEBUT!$D$5:$J$110,7,FALSE)-VLOOKUP(K23,DEBUT!$D$5:$J$110,7,FALSE)),2))/CARTE!$O$9,0)","v":0},{"$f":"IFERROR(SQRT(POWER((VLOOKUP(K23,DEBUT!$D$5:$J$110,6,FALSE)-VLOOKUP(L23,DEBUT!$D$5:$J$110,6,FALSE)),2)+POWER((VLOOKUP(K23,DEBUT!$D$5:$J$110,7,FALSE)-VLOOKUP(L23,DEBUT!$D$5:$J$110,7,FALSE)),2))/CARTE!$O$9,0)","v":0},"m",null,"m","Distance",{"$f":"SUM(E21:N21)","v":2593.0707939223707},"m",null,null,null,null,null,null,null,null,null,null,null,null,null,null,null,null,null,null,null,17,"SEBASTIEN"]
[null,null,null,"Balises prévues",{"$f":"IF(ISTEXT($D21),HLOOKUP($D21,DEBUT!$O$3:$XX$100,3,FALSE),\"\")","v":"A"},{"$f":"IF(ISTEXT($D21),HLOOKUP($D21,DEBUT!$O$3:$XX$100,4,FALSE),\"\")","v":"B"},{"$f":"IF(ISTEXT($D21),HLOOKUP($D21,DEBUT!$O$3:$XX$100,5,FALSE),\"\")","v":"C"},{"$f":"IF(ISTEXT($D21),HLOOKUP($D21,DEBUT!$O$3:$XX$100,6,FALSE),\"\")","v":"D"},{"$f":"IF(ISTEXT($D21),HLOOKUP($D21,DEBUT!$O$3:$XX$100,7,FALSE),\"\")","v":"E"},{"$f":"IF(ISTEXT($D21),HLOOKUP($D21,DEBUT!$O$3:$XX$100,8,FALSE),\"\")","v":"F"},{"$f":"IF(ISTEXT($D21),HLOOKUP($D21,DEBUT!$O$3:$XX$100,9,FALSE),\"\")","v":0},{"$f":"IF(ISTEXT($D21),HLOOKUP($D21,DEBUT!$O$3:$XX$100,10,FALSE),\"\")","v":0},"x","x",null,"Nombre balises prévues",{"$f":"SUMPRODUCT(N(ISTEXT(E22:N22)))","v":8},"prévues",null,null,null,null,null,null,null,null,null,null,null,null,null,null,null,null,null,null,null,18,"PASCAL"]
[null,null,null,"Validé",{"$f":"IF($D23=DEBUT!$L$5,E24,\"\")","v":7},{"$f":"IF($D23=DEBUT!$L$5,F24,\"\")","v":10},{"$f":"IF($D23=DEBUT!$L$5,G24,\"\")","v":11},{"$f":"IF($D23=DEBUT!$L$5,H24,\"\")","v":1},{"$f":"IF($D23=DEBUT!$L$5,I24,\"\")","v":76},{"$f":"IF($D23=DEBUT!$L$5,J24,\"\")","v":46},{"$f":"IF($D23=DEBUT!$L$5,K24,\"\")","v":""},{"$f":"IF($D23=DEBUT!$L$5,L24,\"\")","v":""},null,null,null,"Nombre balises trouvées",{"$f":"SUMPRODUCT(N(ISNUMBER(E23:N23)))","v":6},{"$f":"IF(Q23>1,\"trouvées\",\"trouvée\")","v":"trouvées"},null,null,null,null,null,null,null,null,null,null,null,null,null,null,null,null,null,null,null,19,"CAROLE"]
[null,null,null,"Balises CM",{"$f":"IFERROR(INDEX(baliseCM,MATCH(E22,lettre,0),MATCH($D20,parcours,0)),\"\")","v":7},{"$f":"IFERROR(INDEX(baliseCM,MATCH(F22,lettre,0),MATCH($D20,parcours,0)),\"\")","v":10},11,1,76,46,"","",null,null,null,null,null,null,null,null,null,null,null,null,null,null,null,null,null,null,null,null,null,null,null,null,null,20,"ISABELLE"]
[null,null,null,"Vitesse","à 2",{"$f":"(F21/ABS((HOUR(F20)*3600+MINUTE(F20)*60+SECOND(F20))))*3.6","v":{"$error":"#NUM!"}},"P",{"$f":"(H21/ABS((HOUR(H20)*3600+MINUTE(H20)*60+SECOND(H20))))*3.6","v":{"$error":"#DIV/0!"}},"T",{"$f":"(J21/ABS((HOUR(J20)*3600+MINUTE(J20)*60+SECOND(J20))))*3.6","v":{"$error":"#DIV/0!"}},"à 2",{"$f":"(L21/ABS((HOUR(L20)*3600+MINUTE(L20)*60+SECOND(L20))))*3.6","v":{"$error":"#DIV/0!"}},null,null,"Km/h","Vitesse moyenne",{"$f":"Q21/R20*3.6","v":{"$error":"#DIV/0!"}},"km/h",null,null,null,null,null,null,null,null,null,null,null,null,null,null,null,null,null,null,null,21,"DAVID"]
[null,"EQUIPE 4",null,"15:51:45",null,null,null,null,null,null,null,null,null,null,null,null,null,null,null,"Analyse du parcours",null,null,null,null,null,null,null,null,null,null,null,null,null,null,null,null,null,22,"FRANCOIS"]
[null,null,null,{"$f":"CONCATENATE(D28,\"bis\")","v":"6ROUGEbis"},null,{"$f":"F26-D26","v":-0.66093750000000007},null,{"$f":"H26-F26","v":"00:00:00"},null,{"$f":"J26-H26","v":"00:00:00"},null,{"$f":"L26-J26","v":"00:00:00"},null,null,null,"Temps de course",{"$f":"SUMIF(E27:N27,\">0\",E27:N27)","v":"00:00:00"},{"$f":"ABS((HOUR(Q27)*3600+MINUTE(Q27)*60+SECOND(Q27)))","v":0},null,null,null,null,null,null,null,null,null,null,null,null,null,null,null,null,null,null,null,23,"Mick"]
[null,null,null,{"$f":"$H$2","v":"6ROUGE"},{"$f":"IFERROR(SQRT(POWER((VLOOKUP($C$5,DEBUT!$D$5:$J$110,6,FALSE)-VLOOKUP(E30,DEBUT!$D$5:$J$110,6,FALSE)),2)+POWER((VLOOKUP($C$5,DEBUT!$D$5:$J$110,7,FALSE)-VLOOKUP(E30,DEBUT!$D$5:$J$110,7,FALSE)),2))/CARTE!$O$9,0)","v":177.2924730824831},{"$f":"IFERROR(SQRT(POWER((VLOOKUP(E30,DEBUT!$D$5:$J$110,6,FALSE)-VLOOKUP(F30,DEBUT!$D$5:$J$110,6,FALSE)),2)+POWER((VLOOKUP(E30,DEBUT!$D$5:$J$110,7,FALSE)-VLOOKUP(F30,DEBUT!$D$5:$J$110,7,FALSE)),2))/CARTE!$O$9,0)","v":292.41323207806477},{"$f":"IFERROR(SQRT(POWER((VLOOKUP($C$5,DEBUT!$D$5:$J$110,6,FALSE)-VLOOKUP(G30,DEBUT!$D$5:$J$110,6,FALSE)),2)+POWER((VLOOKUP($C$5,DEBUT!$D$5:$J$110,7,FALSE)-VLOOKUP(G30,DEBUT!$D$5:$J$110,7,FALSE)),2))/CARTE!$O$9,0)","v":292.36811846754603},{"$f":"IFERROR(SQRT(POWER((VLOOKUP(G30,DEBUT!$D$5:$J$110,6,FALSE)-VLOOKUP(H30,DEBUT!$D$5:$J$110,6,FALSE)),2)+POWER((VLOOKUP(G30,DEBUT!$D$5:$J$110,7,FALSE)-VLOOKUP(H30,DEBUT!$D$5:$J$110,7,FALSE)),2))/CARTE!$O$9,0)","v":388.88158128989608},{"$f":"IFERROR(SQRT(POWER((VLOOKUP($C$5,DEBUT!$D$5:$J$110,6,FALSE)-VLOOKUP(I30,DEBUT!$D$5:$J$110,6,FALSE)),2)+POWER((VLOOKUP($C$5,DEBUT!$D$5:$J$110,7,FALSE)-VLOOKUP(I30,DEBUT!$D$5:$J$110,7,FALSE)),2))/CARTE!$O$9,0)","v":820.45921176843535},{"$f":"IFERROR(SQRT(POWER((VLOOKUP(I30,DEBUT!$D$5:$J$110,6,FALSE)-VLOOKUP(J30,DEBUT!$D$5:$J$110,6,FALSE)),2)+POWER((VLOOKUP(I30,DEBUT!$D$5:$J$110,7,FALSE)-VLOOKUP(J30,DEBUT!$D$5:$J$110,7,FALSE)),2))/CARTE!$O$9,0)","v":621.65617723594562},{"$f":"IFERROR(SQRT(POWER((VLOOKUP($C$5,DEBUT!$D$5:$J$110,6,FALSE)-VLOOKUP(K30,DEBUT!$D$5:$J$110,6,FALSE)),2)+POWER((VLOOKUP($C$5,DEBUT!$D$5:$J$110,7,FALSE)-VLOOKUP(K30,DEBUT!$D$5:$J$110,7,FALSE)),2))/CARTE!$O$9,0)","v":0},{"$f":"IFERROR(SQRT(POWER((VLOOKUP(K30,DEBUT!$D$5:$J$110,6,FALSE)-VLOOKUP(L30,DEBUT!$D$5:$J$110,6,FALSE)),2)+POWER((VLOOKUP(K30,DEBUT!$D$5:$J$110,7,FALSE)-VLOOKUP(L30,DEBUT!$D$5:$J$110,7,FALSE)),2))/CARTE!$O$9,0)","v":0},"m",null,"m","Distance",{"$f":"SUM(E28:N28)","v":2593.0707939223707},"m",null,null,null,null,null,null,null,null,null,null,null,null,null,null,null,null,null,null,null,24,0]
[null,null,null,"Balises prévues",{"$f":"IF(ISTEXT($D28),HLOOKUP($D28,DEBUT!$O$3:$XX$100,3,FALSE),\"\")","v":"A"},{"$f":"IF(ISTEXT($D28),HLOOKUP($D28,DEBUT!$O$3:$XX$100,4,FALSE),\"\")","v":"B"},{"$f":"IF(ISTEXT($D28),HLOOKUP($D28,DEBUT!$O$3:$XX$100,5,FALSE),\"\")","v":"C"},{"$f":"IF(ISTEXT($D28),HLOOKUP($D28,DEBUT!$O$3:$XX$100,6,FALSE),\"\")","v":"D"},{"$f":"IF(ISTEXT($D28),HLOOKUP($D28,DEBUT!$O$3:$XX$100,7,FALSE),\"\")","v":"E"},{"$f":"IF(ISTEXT($D28),HLOOKUP($D28,DEBUT!$O$3:$XX$100,8,FALSE),\"\")","v":"F"},{"$f":"IF(ISTEXT($D28),HLOOKUP($D28,DEBUT!$O$3:$XX$100,9,FALSE),\"\")","v":0},{"$f":"IF(ISTEXT($D28),HLOOKUP($D28,DEBUT!$O$3:$XX$100,10,FALSE),\"\")","v":0},"x","x",null,"Nombre balises prévues",{"$f":"SUMPRODUCT(N(ISTEXT(E29:N29)))","v":8},"prévues",null,null,null,null,null,null,null,null,null,null,null,null,null,null,null,null,null,null,null,25,0]
[null,null,null,"Validé",{"$f":"IF($D30=DEBUT!$L$5,E31,\"\")","v":7},{"$f":"IF($D30=DEBUT!$L$5,F31,\"\")","v":10},{"$f":"IF($D30=DEBUT!$L$5,G31,\"\")","v":11},{"$f":"IF($D30=DEBUT!$L$5,H31,\"\")","v":1},{"$f":"IF($D30=DEBUT!$L$5,I31,\"\")","v":76},{"$f":"IF($D30=DEBUT!$L$5,J31,\"\")","v":46},{"$f":"IF($D30=DEBUT!$L$5,K31,\"\")","v":""},{"$f":"IF($D30=DEBUT!$L$5,L31,\"\")","v":""},null,null,null,"Nombre balises trouvées",{"$f":"SUMPRODUCT(N(ISNUMBER(E30:N30)))","v":6},{"$f":"IF(Q30>1,\"trouvées\",\"trouvée\")","v":"trouvées"},null,null,null,null,null,null,null,null,null,null,null,null,null,null,null,null,null,null,null,26,0]
[null,null,null,"Balises CM",{"$f":"IFERROR(INDEX(baliseCM,MATCH(E29,lettre,0),MATCH($D27,parcours,0)),\"\")","v":7},{"$f":"IFERROR(INDEX(baliseCM,MATCH(F29,lettre,0),MATCH($D27,parcours,0)),\"\")","v":10},11,1,76,46,"","",null,null,null,null,null,null,null,null,null,null,null,null,null,null,null,null,null,null,null,null,null,null,null,null,null,27,0]
[null,null,null,"Vitesse","à 2",{"$f":"(F28/ABS((HOUR(F27)*3600+MINUTE(F27)*60+SECOND(F27))))*3.6","v":{"$error":"#NUM!"}},"P",{"$f":"(H28/ABS((HOUR(H27)*3600+MINUTE(H27)*60+SECOND(H27))))*3.6","v":{"$error":"#DIV/0!"}},"T",{"$f":"(J28/ABS((HOUR(J27)*3600+MINUTE(J27)*60+SECOND(J27))))*3.6","v":{"$error":"#DIV/0!"}},"à 2",{"$f":"(L28/ABS((HOUR(L27)*3600+MINUTE(L27)*60+SECOND(L27))))*3.6","v":{"$error":"#DIV/0!"}},null,null,"Km/h","Vitesse moyenne",{"$f":"Q28/R27*3.6","v":{"$error":"#DIV/0!"}},"km/h",null,null,null,null,null,null,null,null,null,null,null,null,null,null,null,null,null,null,null,28,0]
[null,"EQUIPE 5",null,"15:51:45",null,null,null,null,null,null,null,null,null,null,null,null,null,null,null,"Analyse du parcours",null,null,null,null,null,null,null,null,null,null,null,null,null,null,null,null,null,29,0]
[null,null,null,{"$f":"CONCATENATE(D35,\"bis\")","v":"6ROUGEbis"},null,{"$f":"F33-D33","v":-0.66093750000000007},null,{"$f":"H33-F33","v":"00:00:00"},null,{"$f":"J33-H33","v":"00:00:00"},null,{"$f":"L33-J33","v":"00:00:00"},null,null,null,"Temps de course",{"$f":"SUMIF(E34:N34,\">0\",E34:N34)","v":"00:00:00"},{"$f":"ABS((HOUR(Q34)*3600+MINUTE(Q34)*60+SECOND(Q34)))","v":0},null,null,null,null,null,null,null,null,null,null,null,null,null,null,null,null,null,null,null,30,0]
[null,null,null,{"$f":"$H$2","v":"6ROUGE"},{"$f":"IFERROR(SQRT(POWER((VLOOKUP($C$5,DEBUT!$D$5:$J$110,6,FALSE)-VLOOKUP(E37,DEBUT!$D$5:$J$110,6,FALSE)),2)+POWER((VLOOKUP($C$5,DEBUT!$D$5:$J$110,7,FALSE)-VLOOKUP(E37,DEBUT!$D$5:$J$110,7,FALSE)),2))/CARTE!$O$9,0)","v":177.2924730824831},{"$f":"IFERROR(SQRT(POWER((VLOOKUP(E37,DEBUT!$D$5:$J$110,6,FALSE)-VLOOKUP(F37,DEBUT!$D$5:$J$110,6,FALSE)),2)+POWER((VLOOKUP(E37,DEBUT!$D$5:$J$110,7,FALSE)-VLOOKUP(F37,DEBUT!$D$5:$J$110,7,FALSE)),2))/CARTE!$O$9,0)","v":292.41323207806477},{"$f":"IFERROR(SQRT(POWER((VLOOKUP($C$5,DEBUT!$D$5:$J$110,6,FALSE)-VLOOKUP(G37,DEBUT!$D$5:$J$110,6,FALSE)),2)+POWER((VLOOKUP($C$5,DEBUT!$D$5:$J$110,7,FALSE)-VLOOKUP(G37,DEBUT!$D$5:$J$110,7,FALSE)),2))/CARTE!$O$9,0)","v":292.36811846754603},{"$f":"IFERROR(SQRT(POWER((VLOOKUP(G37,DEBUT!$D$5:$J$110,6,FALSE)-VLOOKUP(H37,DEBUT!$D$5:$J$110,6,FALSE)),2)+POWER((VLOOKUP(G37,DEBUT!$D$5:$J$110,7,FALSE)-VLOOKUP(H37,DEBUT!$D$5:$J$110,7,FALSE)),2))/CARTE!$O$9,0)","v":388.88158128989608},{"$f":"IFERROR(SQRT(POWER((VLOOKUP($C$5,DEBUT!$D$5:$J$110,6,FALSE)-VLOOKUP(I37,DEBUT!$D$5:$J$110,6,FALSE)),2)+POWER((VLOOKUP($C$5,DEBUT!$D$5:$J$110,7,FALSE)-VLOOKUP(I37,DEBUT!$D$5:$J$110,7,FALSE)),2))/CARTE!$O$9,0)","v":820.45921176843535},{"$f":"IFERROR(SQRT(POWER((VLOOKUP(I37,DEBUT!$D$5:$J$110,6,FALSE)-VLOOKUP(J37,DEBUT!$D$5:$J$110,6,FALSE)),2)+POWER((VLOOKUP(I37,DEBUT!$D$5:$J$110,7,FALSE)-VLOOKUP(J37,DEBUT!$D$5:$J$110,7,FALSE)),2))/CARTE!$O$9,0)","v":621.65617723594562},{"$f":"IFERROR(SQRT(POWER((VLOOKUP($C$5,DEBUT!$D$5:$J$110,6,FALSE)-VLOOKUP(K37,DEBUT!$D$5:$J$110,6,FALSE)),2)+POWER((VLOOKUP($C$5,DEBUT!$D$5:$J$110,7,FALSE)-VLOOKUP(K37,DEBUT!$D$5:$J$110,7,FALSE)),2))/CARTE!$O$9,0)","v":0},{"$f":"IFERROR(SQRT(POWER((VLOOKUP(K37,DEBUT!$D$5:$J$110,6,FALSE)-VLOOKUP(L37,DEBUT!$D$5:$J$110,6,FALSE)),2)+POWER((VLOOKUP(K37,DEBUT!$D$5:$J$110,7,FALSE)-VLOOKUP(L37,DEBUT!$D$5:$J$110,7,FALSE)),2))/CARTE!$O$9,0)","v":0},"m",null,"m","Distance",{"$f":"SUM(E35:N35)","v":2593.0707939223707},"m",null,null,null,null,null,null,null,null,null,null,null,null,null,null,null,null,null,null,null,31,0]
[null,null,null,"Balises prévues",{"$f":"IF(ISTEXT($D35),HLOOKUP($D35,DEBUT!$O$3:$XX$100,3,FALSE),\"\")","v":"A"},{"$f":"IF(ISTEXT($D35),HLOOKUP($D35,DEBUT!$O$3:$XX$100,4,FALSE),\"\")","v":"B"},{"$f":"IF(ISTEXT($D35),HLOOKUP($D35,DEBUT!$O$3:$XX$100,5,FALSE),\"\")","v":"C"},{"$f":"IF(ISTEXT($D35),HLOOKUP($D35,DEBUT!$O$3:$XX$100,6,FALSE),\"\")","v":"D"},{"$f":"IF(ISTEXT($D35),HLOOKUP($D35,DEBUT!$O$3:$XX$100,7,FALSE),\"\")","v":"E"},{"$f":"IF(ISTEXT($D35),HLOOKUP($D35,DEBUT!$O$3:$XX$100,8,FALSE),\"\")","v":"F"},{"$f":"IF(ISTEXT($D35),HLOOKUP($D35,DEBUT!$O$3:$XX$100,9,FALSE),\"\")","v":0},{"$f":"IF(ISTEXT($D35),HLOOKUP($D35,DEBUT!$O$3:$XX$100,10,FALSE),\"\")","v":0},"x","x",null,"Nombre balises prévues",{"$f":"SUMPRODUCT(N(ISTEXT(E36:N36)))","v":8},"prévues",null,null,null,null,null,null,null,null,null,null,null,null,null,null,null,null,null,null,null,32,0]
[null,null,null,"Validé",{"$f":"IF($D37=DEBUT!$L$5,E38,\"\")","v":7},{"$f":"IF($D37=DEBUT!$L$5,F38,\"\")","v":10},{"$f":"IF($D37=DEBUT!$L$5,G38,\"\")","v":11},{"$f":"IF($D37=DEBUT!$L$5,H38,\"\")","v":1},{"$f":"IF($D37=DEBUT!$L$5,I38,\"\")","v":76},{"$f":"IF($D37=DEBUT!$L$5,J38,\"\")","v":46},{"$f":"IF($D37=DEBUT!$L$5,K38,\"\")","v":""},{"$f":"IF($D37=DEBUT!$L$5,L38,\"\")","v":""},null,null,null,"Nombre balises trouvées",{"$f":"SUMPRODUCT(N(ISNUMBER(E37:N37)))","v":6},{"$f":"IF(Q37>1,\"trouvées\",\"trouvée\")","v":"trouvées"},null,null,null,null,null,null,null,null,null,null,null,null,null,null,null,null,null,null,null,33,0]
[null,null,null,"Balises CM",{"$f":"IFERROR(INDEX(baliseCM,MATCH(E36,lettre,0),MATCH($D34,parcours,0)),\"\")","v":7},{"$f":"IFERROR(INDEX(baliseCM,MATCH(F36,lettre,0),MATCH($D34,parcours,0)),\"\")","v":10},11,1,76,46,"","",null,null,null,null,null,null,null,null,null,null,null,null,null,null,null,null,null,null,null,null,null,null,null,null,null,34,0]
[null,null,null,"Vitesse","à 2",{"$f":"(F35/ABS((HOUR(F34)*3600+MINUTE(F34)*60+SECOND(F34))))*3.6","v":{"$error":"#NUM!"}},"P",{"$f":"(H35/ABS((HOUR(H34)*3600+MINUTE(H34)*60+SECOND(H34))))*3.6","v":{"$error":"#DIV/0!"}},"T",{"$f":"(J35/ABS((HOUR(J34)*3600+MINUTE(J34)*60+SECOND(J34))))*3.6","v":{"$error":"#DIV/0!"}},"à 2",{"$f":"(L35/ABS((HOUR(L34)*3600+MINUTE(L34)*60+SECOND(L34))))*3.6","v":{"$error":"#DIV/0!"}},null,null,"Km/h","Vitesse moyenne",{"$f":"Q35/R34*3.6","v":{"$error":"#DIV/0!"}},"km/h",null,null,null,null,null,null,null,null,null,null,null,null,null,null,null,null,null,null,null,35,0]
[null,"EQUIPE 6",null,"15:51:45",null,null,null,null,null,null,null,null,null,null,null,null,null,null,null,"Analyse du parcours",null,null,null,null,null,null,null,null,null,null,null,null,null,null,null,null,null,36,0]
[null,null,null,{"$f":"CONCATENATE(D42,\"bis\")","v":"6ROUGEbis"},null,{"$f":"F40-D40","v":-0.66093750000000007},null,{"$f":"H40-F40","v":"00:00:00"},null,{"$f":"J40-H40","v":"00:00:00"},null,{"$f":"L40-J40","v":"00:00:00"},null,null,null,"Temps de course",{"$f":"SUMIF(E41:N41,\">0\",E41:N41)","v":"00:00:00"},{"$f":"ABS((HOUR(Q41)*3600+MINUTE(Q41)*60+SECOND(Q41)))","v":0}]
[null,null,null,{"$f":"$H$2","v":"6ROUGE"},{"$f":"IFERROR(SQRT(POWER((VLOOKUP($C$5,DEBUT!$D$5:$J$110,6,FALSE)-VLOOKUP(E44,DEBUT!$D$5:$J$110,6,FALSE)),2)+POWER((VLOOKUP($C$5,DEBUT!$D$5:$J$110,7,FALSE)-VLOOKUP(E44,DEBUT!$D$5:$J$110,7,FALSE)),2))/CARTE!$O$9,0)","v":177.2924730824831},{"$f":"IFERROR(SQRT(POWER((VLOOKUP(E44,DEBUT!$D$5:$J$110,6,FALSE)-VLOOKUP(F44,DEBUT!$D$5:$J$110,6,FALSE)),2)+POWER((VLOOKUP(E44,DEBUT!$D$5:$J$110,7,FALSE)-VLOOKUP(F44,DEBUT!$D$5:$J$110,7,FALSE)),2))/CARTE!$O$9,0)","v":292.41323207806477},{"$f":"IFERROR(SQRT(POWER((VLOOKUP($C$5,DEBUT!$D$5:$J$110,6,FALSE)-VLOOKUP(G44,DEBUT!$D$5:$J$110,6,FALSE)),2)+POWER((VLOOKUP($C$5,DEBUT!$D$5:$J$110,7,FALSE)-VLOOKUP(G44,DEBUT!$D$5:$J$110,7,FALSE)),2))/CARTE!$O$9,0)","v":292.36811846754603},{"$f":"IFERROR(SQRT(POWER((VLOOKUP(G44,DEBUT!$D$5:$J$110,6,FALSE)-VLOOKUP(H44,DEBUT!$D$5:$J$110,6,FALSE)),2)+POWER((VLOOKUP(G44,DEBUT!$D$5:$J$110,7,FALSE)-VLOOKUP(H44,DEBUT!$D$5:$J$110,7,FALSE)),2))/CARTE!$O$9,0)","v":388.88158128989608},{"$f":"IFERROR(SQRT(POWER((VLOOKUP($C$5,DEBUT!$D$5:$J$110,6,FALSE)-VLOOKUP(I44,DEBUT!$D$5:$J$110,6,FALSE)),2)+POWER((VLOOKUP($C$5,DEBUT!$D$5:$J$110,7,FALSE)-VLOOKUP(I44,DEBUT!$D$5:$J$110,7,FALSE)),2))/CARTE!$O$9,0)","v":820.45921176843535},{"$f":"IFERROR(SQRT(POWER((VLOOKUP(I44,DEBUT!$D$5:$J$110,6,FALSE)-VLOOKUP(J44,DEBUT!$D$5:$J$110,6,FALSE)),2)+POWER((VLOOKUP(I44,DEBUT!$D$5:$J$110,7,FALSE)-VLOOKUP(J44,DEBUT!$D$5:$J$110,7,FALSE)),2))/CARTE!$O$9,0)","v":621.65617723594562},{"$f":"IFERROR(SQRT(POWER((VLOOKUP($C$5,DEBUT!$D$5:$J$110,6,FALSE)-VLOOKUP(K44,DEBUT!$D$5:$J$110,6,FALSE)),2)+POWER((VLOOKUP($C$5,DEBUT!$D$5:$J$110,7,FALSE)-VLOOKUP(K44,DEBUT!$D$5:$J$110,7,FALSE)),2))/CARTE!$O$9,0)","v":0},{"$f":"IFERROR(SQRT(POWER((VLOOKUP(K44,DEBUT!$D$5:$J$110,6,FALSE)-VLOOKUP(L44,DEBUT!$D$5:$J$110,6,FALSE)),2)+POWER((VLOOKUP(K44,DEBUT!$D$5:$J$110,7,FALSE)-VLOOKUP(L44,DEBUT!$D$5:$J$110,7,FALSE)),2))/CARTE!$O$9,0)","v":0},"m",null,"m","Distance",{"$f":"SUM(E42:N42)","v":2593.0707939223707},"m"]
[null,null,null,"Balises prévues",{"$f":"IF(ISTEXT($D42),HLOOKUP($D42,DEBUT!$O$3:$XX$100,3,FALSE),\"\")","v":"A"},{"$f":"IF(ISTEXT($D42),HLOOKUP($D42,DEBUT!$O$3:$XX$100,4,FALSE),\"\")","v":"B"},{"$f":"IF(ISTEXT($D42),HLOOKUP($D42,DEBUT!$O$3:$XX$100,5,FALSE),\"\")","v":"C"},{"$f":"IF(ISTEXT($D42),HLOOKUP($D42,DEBUT!$O$3:$XX$100,6,FALSE),\"\")","v":"D"},{"$f":"IF(ISTEXT($D42),HLOOKUP($D42,DEBUT!$O$3:$XX$100,7,FALSE),\"\")","v":"E"},{"$f":"IF(ISTEXT($D42),HLOOKUP($D42,DEBUT!$O$3:$XX$100,8,FALSE),\"\")","v":"F"},{"$f":"IF(ISTEXT($D42),HLOOKUP($D42,DEBUT!$O$3:$XX$100,9,FALSE),\"\")","v":0},{"$f":"IF(ISTEXT($D42),HLOOKUP($D42,DEBUT!$O$3:$XX$100,10,FALSE),\"\")","v":0},"x","x",null,"Nombre balises prévues",{"$f":"SUMPRODUCT(N(ISTEXT(E43:N43)))","v":8},"prévues"]
[null,null,null,"Validé",{"$f":"IF($D44=DEBUT!$L$5,E45,\"\")","v":7},{"$f":"IF($D44=DEBUT!$L$5,F45,\"\")","v":10},{"$f":"IF($D44=DEBUT!$L$5,G45,\"\")","v":11},{"$f":"IF($D44=DEBUT!$L$5,H45,\"\")","v":1},{"$f":"IF($D44=DEBUT!$L$5,I45,\"\")","v":76},{"$f":"IF($D44=DEBUT!$L$5,J45,\"\")","v":46},{"$f":"IF($D44=DEBUT!$L$5,K45,\"\")","v":""},{"$f":"IF($D44=DEBUT!$L$5,L45,\"\")","v":""},null,null,null,"Nombre balises trouvées",{"$f":"SUMPRODUCT(N(ISNUMBER(E44:N44)))","v":6},{"$f":"IF(Q44>1,\"trouvées\",\"trouvée\")","v":"trouvées"}]
[null,null,null,"Balises CM",{"$f":"IFERROR(INDEX(baliseCM,MATCH(E43,lettre,0),MATCH($D41,parcours,0)),\"\")","v":7},{"$f":"IFERROR(INDEX(baliseCM,MATCH(F43,lettre,0),MATCH($D41,parcours,0)),\"\")","v":10},11,1,76,46,"",""]
[null,null,null,"Vitesse","à 2",{"$f":"(F42/ABS((HOUR(F41)*3600+MINUTE(F41)*60+SECOND(F41))))*3.6","v":{"$error":"#NUM!"}},"P",{"$f":"(H42/ABS((HOUR(H41)*3600+MINUTE(H41)*60+SECOND(H41))))*3.6","v":{"$error":"#DIV/0!"}},"T",{"$f":"(J42/ABS((HOUR(J41)*3600+MINUTE(J41)*60+SECOND(J41))))*3.6","v":{"$error":"#DIV/0!"}},"à 2",{"$f":"(L42/ABS((HOUR(L41)*3600+MINUTE(L41)*60+SECOND(L41))))*3.6","v":{"$error":"#DIV/0!"}},null,null,"Km/h","Vitesse moyenne",{"$f":"Q42/R41*3.6","v":{"$error":"#DIV/0!"}},"km/h"]
[null,"EQUIPE 7",null,"15:51:45",null,null,null,null,null,null,null,null,null,null,null,null,null,null,null,"Analyse du parcours"]
[null,null,null,{"$f":"CONCATENATE(D49,\"bis\")","v":"6ROUGEbis"},null,{"$f":"F47-D47","v":-0.66093750000000007},null,{"$f":"H47-F47","v":"00:00:00"},null,{"$f":"J47-H47","v":"00:00:00"},null,{"$f":"L47-J47","v":"00:00:00"},null,null,null,"Temps de course",{"$f":"SUMIF(E48:N48,\">0\",E48:N48)","v":"00:00:00"},{"$f":"ABS((HOUR(Q48)*3600+MINUTE(Q48)*60+SECOND(Q48)))","v":0}]
[null,null,null,{"$f":"$H$2","v":"6ROUGE"},{"$f":"IFERROR(SQRT(POWER((VLOOKUP($C$5,DEBUT!$D$5:$J$110,6,FALSE)-VLOOKUP(E51,DEBUT!$D$5:$J$110,6,FALSE)),2)+POWER((VLOOKUP($C$5,DEBUT!$D$5:$J$110,7,FALSE)-VLOOKUP(E51,DEBUT!$D$5:$J$110,7,FALSE)),2))/CARTE!$O$9,0)","v":177.2924730824831},{"$f":"IFERROR(SQRT(POWER((VLOOKUP(E51,DEBUT!$D$5:$J$110,6,FALSE)-VLOOKUP(F51,DEBUT!$D$5:$J$110,6,FALSE)),2)+POWER((VLOOKUP(E51,DEBUT!$D$5:$J$110,7,FALSE)-VLOOKUP(F51,DEBUT!$D$5:$J$110,7,FALSE)),2))/CARTE!$O$9,0)","v":292.41323207806477},{"$f":"IFERROR(SQRT(POWER((VLOOKUP($C$5,DEBUT!$D$5:$J$110,6,FALSE)-VLOOKUP(G51,DEBUT!$D$5:$J$110,6,FALSE)),2)+POWER((VLOOKUP($C$5,DEBUT!$D$5:$J$110,7,FALSE)-VLOOKUP(G51,DEBUT!$D$5:$J$110,7,FALSE)),2))/CARTE!$O$9,0)","v":292.36811846754603},{"$f":"IFERROR(SQRT(POWER((VLOOKUP(G51,DEBUT!$D$5:$J$110,6,FALSE)-VLOOKUP(H51,DEBUT!$D$5:$J$110,6,FALSE)),2)+POWER((VLOOKUP(G51,DEBUT!$D$5:$J$110,7,FALSE)-VLOOKUP(H51,DEBUT!$D$5:$J$110,7,FALSE)),2))/CARTE!$O$9,0)","v":388.88158128989608},{"$f":"IFERROR(SQRT(POWER((VLOOKUP($C$5,DEBUT!$D$5:$J$110,6,FALSE)-VLOOKUP(I51,DEBUT!$D$5:$J$110,6,FALSE)),2)+POWER((VLOOKUP($C$5,DEBUT!$D$5:$J$110,7,FALSE)-VLOOKUP(I51,DEBUT!$D$5:$J$110,7,FALSE)),2))/CARTE!$O$9,0)","v":820.45921176843535},{"$f":"IFERROR(SQRT(POWER((VLOOKUP(I51,DEBUT!$D$5:$J$110,6,FALSE)-VLOOKUP(J51,DEBUT!$D$5:$J$110,6,FALSE)),2)+POWER((VLOOKUP(I51,DEBUT!$D$5:$J$110,7,FALSE)-VLOOKUP(J51,DEBUT!$D$5:$J$110,7,FALSE)),2))/CARTE!$O$9,0)","v":621.65617723594562},{"$f":"IFERROR(SQRT(POWER((VLOOKUP($C$5,DEBUT!$D$5:$J$110,6,FALSE)-VLOOKUP(K51,DEBUT!$D$5:$J$110,6,FALSE)),2)+POWER((VLOOKUP($C$5,DEBUT!$D$5:$J$110,7,FALSE)-VLOOKUP(K51,DEBUT!$D$5:$J$110,7,FALSE)),2))/CARTE!$O$9,0)","v":0},{"$f":"IFERROR(SQRT(POWER((VLOOKUP(K51,DEBUT!$D$5:$J$110,6,FALSE)-VLOOKUP(L51,DEBUT!$D$5:$J$110,6,FALSE)),2)+POWER((VLOOKUP(K51,DEBUT!$D$5:$J$110,7,FALSE)-VLOOKUP(L51,DEBUT!$D$5:$J$110,7,FALSE)),2))/CARTE!$O$9,0)","v":0},"m",null,"m","Distance",{"$f":"SUM(E49:N49)","v":2593.0707939223707},"m"]
[null,null,null,"Balises prévues",{"$f":"IF(ISTEXT($D49),HLOOKUP($D49,DEBUT!$O$3:$XX$100,3,FALSE),\"\")","v":"A"},{"$f":"IF(ISTEXT($D49),HLOOKUP($D49,DEBUT!$O$3:$XX$100,4,FALSE),\"\")","v":"B"},{"$f":"IF(ISTEXT($D49),HLOOKUP($D49,DEBUT!$O$3:$XX$100,5,FALSE),\"\")","v":"C"},{"$f":"IF(ISTEXT($D49),HLOOKUP($D49,DEBUT!$O$3:$XX$100,6,FALSE),\"\")","v":"D"},{"$f":"IF(ISTEXT($D49),HLOOKUP($D49,DEBUT!$O$3:$XX$100,7,FALSE),\"\")","v":"E"},{"$f":"IF(ISTEXT($D49),HLOOKUP($D49,DEBUT!$O$3:$XX$100,8,FALSE),\"\")","v":"F"},{"$f":"IF(ISTEXT($D49),HLOOKUP($D49,DEBUT!$O$3:$XX$100,9,FALSE),\"\")","v":0},{"$f":"IF(ISTEXT($D49),HLOOKUP($D49,DEBUT!$O$3:$XX$100,10,FALSE),\"\")","v":0},"x","x",null,"Nombre balises prévues",{"$f":"SUMPRODUCT(N(ISTEXT(E50:N50)))","v":8},"prévues"]
[null,null,null,"Validé",{"$f":"IF($D51=DEBUT!$L$5,E52,\"\")","v":7},{"$f":"IF($D51=DEBUT!$L$5,F52,\"\")","v":10},{"$f":"IF($D51=DEBUT!$L$5,G52,\"\")","v":11},{"$f":"IF($D51=DEBUT!$L$5,H52,\"\")","v":1},{"$f":"IF($D51=DEBUT!$L$5,I52,\"\")","v":76},{"$f":"IF($D51=DEBUT!$L$5,J52,\"\")","v":46},{"$f":"IF($D51=DEBUT!$L$5,K52,\"\")","v":""},{"$f":"IF($D51=DEBUT!$L$5,L52,\"\")","v":""},null,null,null,"Nombre balises trouvées",{"$f":"SUMPRODUCT(N(ISNUMBER(E51:N51)))","v":6},{"$f":"IF(Q51>1,\"trouvées\",\"trouvée\")","v":"trouvées"}]
[null,null,null,"Balises CM",{"$f":"IFERROR(INDEX(baliseCM,MATCH(E50,lettre,0),MATCH($D48,parcours,0)),\"\")","v":7},{"$f":"IFERROR(INDEX(baliseCM,MATCH(F50,lettre,0),MATCH($D48,parcours,0)),\"\")","v":10},11,1,76,46,"",""]
[null,null,null,"Vitesse","à 2",{"$f":"(F49/ABS((HOUR(F48)*3600+MINUTE(F48)*60+SECOND(F48))))*3.6","v":{"$error":"#NUM!"}},"P",{"$f":"(H49/ABS((HOUR(H48)*3600+MINUTE(H48)*60+SECOND(H48))))*3.6","v":{"$error":"#DIV/0!"}},"T",{"$f":"(J49/ABS((HOUR(J48)*3600+MINUTE(J48)*60+SECOND(J48))))*3.6","v":{"$error":"#DIV/0!"}},"à 2",{"$f":"(L49/ABS((HOUR(L48)*3600+MINUTE(L48)*60+SECOND(L48))))*3.6","v":{"$error":"#DIV/0!"}},null,null,"Km/h","Vitesse moyenne",{"$f":"Q49/R48*3.6","v":{"$error":"#DIV/0!"}},"km/h"]
[null,"EQUIPE 8",null,"15:51:45",null,null,null,null,null,null,null,null,null,null,null,null,null,null,null,"Analyse du parcours"]
[null,null,null,{"$f":"CONCATENATE(D56,\"bis\")","v":"6ROUGEbis"},null,{"$f":"F54-D54","v":-0.66093750000000007},null,{"$f":"H54-F54","v":"00:00:00"},null,{"$f":"J54-H54","v":"00:00:00"},null,{"$f":"L54-J54","v":"00:00:00"},null,null,null,"Temps de course",{"$f":"SUMIF(E55:N55,\">0\",E55:N55)","v":"00:00:00"},{"$f":"ABS((HOUR(Q55)*3600+MINUTE(Q55)*60+SECOND(Q55)))","v":0}]
[null,null,null,{"$f":"$H$2","v":"6ROUGE"},{"$f":"IFERROR(SQRT(POWER((VLOOKUP($C$5,DEBUT!$D$5:$J$110,6,FALSE)-VLOOKUP(E58,DEBUT!$D$5:$J$110,6,FALSE)),2)+POWER((VLOOKUP($C$5,DEBUT!$D$5:$J$110,7,FALSE)-VLOOKUP(E58,DEBUT!$D$5:$J$110,7,FALSE)),2))/CARTE!$O$9,0)","v":177.2924730824831},{"$f":"IFERROR(SQRT(POWER((VLOOKUP(E58,DEBUT!$D$5:$J$110,6,FALSE)-VLOOKUP(F58,DEBUT!$D$5:$J$110,6,FALSE)),2)+POWER((VLOOKUP(E58,DEBUT!$D$5:$J$110,7,FALSE)-VLOOKUP(F58,DEBUT!$D$5:$J$110,7,FALSE)),2))/CARTE!$O$9,0)","v":292.41323207806477},{"$f":"IFERROR(SQRT(POWER((VLOOKUP($C$5,DEBUT!$D$5:$J$110,6,FALSE)-VLOOKUP(G58,DEBUT!$D$5:$J$110,6,FALSE)),2)+POWER((VLOOKUP($C$5,DEBUT!$D$5:$J$110,7,FALSE)-VLOOKUP(G58,DEBUT!$D$5:$J$110,7,FALSE)),2))/CARTE!$O$9,0)","v":292.36811846754603},{"$f":"IFERROR(SQRT(POWER((VLOOKUP(G58,DEBUT!$D$5:$J$110,6,FALSE)-VLOOKUP(H58,DEBUT!$D$5:$J$110,6,FALSE)),2)+POWER((VLOOKUP(G58,DEBUT!$D$5:$J$110,7,FALSE)-VLOOKUP(H58,DEBUT!$D$5:$J$110,7,FALSE)),2))/CARTE!$O$9,0)","v":388.88158128989608},{"$f":"IFERROR(SQRT(POWER((VLOOKUP($C$5,DEBUT!$D$5:$J$110,6,FALSE)-VLOOKUP(I58,DEBUT!$D$5:$J$110,6,FALSE)),2)+POWER((VLOOKUP($C$5,DEBUT!$D$5:$J$110,7,FALSE)-VLOOKUP(I58,DEBUT!$D$5:$J$110,7,FALSE)),2))/CARTE!$O$9,0)","v":820.45921176843535},{"$f":"IFERROR(SQRT(POWER((VLOOKUP(I58,DEBUT!$D$5:$J$110,6,FALSE)-VLOOKUP(J58,DEBUT!$D$5:$J$110,6,FALSE)),2)+POWER((VLOOKUP(I58,DEBUT!$D$5:$J$110,7,FALSE)-VLOOKUP(J58,DEBUT!$D$5:$J$110,7,FALSE)),2))/CARTE!$O$9,0)","v":621.65617723594562},{"$f":"IFERROR(SQRT(POWER((VLOOKUP($C$5,DEBUT!$D$5:$J$110,6,FALSE)-VLOOKUP(K58,DEBUT!$D$5:$J$110,6,FALSE)),2)+POWER((VLOOKUP($C$5,DEBUT!$D$5:$J$110,7,FALSE)-VLOOKUP(K58,DEBUT!$D$5:$J$110,7,FALSE)),2))/CARTE!$O$9,0)","v":0},{"$f":"IFERROR(SQRT(POWER((VLOOKUP(K58,DEBUT!$D$5:$J$110,6,FALSE)-VLOOKUP(L58,DEBUT!$D$5:$J$110,6,FALSE)),2)+POWER((VLOOKUP(K58,DEBUT!$D$5:$J$110,7,FALSE)-VLOOKUP(L58,DEBUT!$D$5:$J$110,7,FALSE)),2))/CARTE!$O$9,0)","v":0},"m",null,"m","Distance",{"$f":"SUM(E56:N56)","v":2593.0707939223707},"m"]
[null,null,null,"Balises prévues",{"$f":"IF(ISTEXT($D56),HLOOKUP($D56,DEBUT!$O$3:$XX$100,3,FALSE),\"\")","v":"A"},{"$f":"IF(ISTEXT($D56),HLOOKUP($D56,DEBUT!$O$3:$XX$100,4,FALSE),\"\")","v":"B"},{"$f":"IF(ISTEXT($D56),HLOOKUP($D56,DEBUT!$O$3:$XX$100,5,FALSE),\"\")","v":"C"},{"$f":"IF(ISTEXT($D56),HLOOKUP($D56,DEBUT!$O$3:$XX$100,6,FALSE),\"\")","v":"D"},{"$f":"IF(ISTEXT($D56),HLOOKUP($D56,DEBUT!$O$3:$XX$100,7,FALSE),\"\")","v":"E"},{"$f":"IF(ISTEXT($D56),HLOOKUP($D56,DEBUT!$O$3:$XX$100,8,FALSE),\"\")","v":"F"},{"$f":"IF(ISTEXT($D56),HLOOKUP($D56,DEBUT!$O$3:$XX$100,9,FALSE),\"\")","v":0},{"$f":"IF(ISTEXT($D56),HLOOKUP($D56,DEBUT!$O$3:$XX$100,10,FALSE),\"\")","v":0},"x","x",null,"Nombre balises prévues",{"$f":"SUMPRODUCT(N(ISTEXT(E57:N57)))","v":8},"prévues"]
[null,null,null,"Validé",{"$f":"IF($D58=DEBUT!$L$5,E59,\"\")","v":7},{"$f":"IF($D58=DEBUT!$L$5,F59,\"\")","v":10},{"$f":"IF($D58=DEBUT!$L$5,G59,\"\")","v":11},{"$f":"IF($D58=DEBUT!$L$5,H59,\"\")","v":1},{"$f":"IF($D58=DEBUT!$L$5,I59,\"\")","v":76},{"$f":"IF($D58=DEBUT!$L$5,J59,\"\")","v":46},{"$f":"IF($D58=DEBUT!$L$5,K59,\"\")","v":""},{"$f":"IF($D58=DEBUT!$L$5,L59,\"\")","v":""},null,null,null,"Nombre balises trouvées",{"$f":"SUMPRODUCT(N(ISNUMBER(E58:N58)))","v":6},{"$f":"IF(Q58>1,\"trouvées\",\"trouvée\")","v":"trouvées"}]
[null,null,null,"Balises CM",{"$f":"IFERROR(INDEX(baliseCM,MATCH(E57,lettre,0),MATCH($D55,parcours,0)),\"\")","v":7},{"$f":"IFERROR(INDEX(baliseCM,MATCH(F57,lettre,0),MATCH($D55,parcours,0)),\"\")","v":10},11,1,76,46,"",""]
[null,null,null,"Vitesse","à 2",{"$f":"(F56/ABS((HOUR(F55)*3600+MINUTE(F55)*60+SECOND(F55))))*3.6","v":{"$error":"#NUM!"}},"P",{"$f":"(H56/ABS((HOUR(H55)*3600+MINUTE(H55)*60+SECOND(H55))))*3.6","v":{"$error":"#DIV/0!"}},"T",{"$f":"(J56/ABS((HOUR(J55)*3600+MINUTE(J55)*60+SECOND(J55))))*3.6","v":{"$error":"#DIV/0!"}},"à 2",{"$f":"(L56/ABS((HOUR(L55)*3600+MINUTE(L55)*60+SECOND(L55))))*3.6","v":{"$error":"#DIV/0!"}},null,null,"Km/h","Vitesse moyenne",{"$f":"Q56/R55*3.6","v":{"$error":"#DIV/0!"}},"km/h"]
[null,"EQUIPE 9",null,"15:51:45","07:31:22",null,null,null,null,null,null,null,null,null,null,null,null,null,null,"Analyse du parcours"]
[null,null,null,{"$f":"CONCATENATE(D63,\"bis\")","v":"6ROUGEbis"},null,{"$f":"F61-D61","v":-0.66093750000000007},null,{"$f":"H61-F61","v":"00:00:00"},null,{"$f":"J61-H61","v":"00:00:00"},null,{"$f":"L61-J61","v":"00:00:00"},null,null,null,"Temps de course",{"$f":"SUMIF(E62:N62,\">0\",E62:N62)","v":"00:00:00"},{"$f":"ABS((HOUR(Q62)*3600+MINUTE(Q62)*60+SECOND(Q62)))","v":0}]
[null,null,null,{"$f":"$H$2","v":"6ROUGE"},{"$f":"IFERROR(SQRT(POWER((VLOOKUP($C$5,DEBUT!$D$5:$J$110,6,FALSE)-VLOOKUP(E65,DEBUT!$D$5:$J$110,6,FALSE)),2)+POWER((VLOOKUP($C$5,DEBUT!$D$5:$J$110,7,FALSE)-VLOOKUP(E65,DEBUT!$D$5:$J$110,7,FALSE)),2))/CARTE!$O$9,0)","v":177.2924730824831},{"$f":"IFERROR(SQRT(POWER((VLOOKUP(E65,DEBUT!$D$5:$J$110,6,FALSE)-VLOOKUP(F65,DEBUT!$D$5:$J$110,6,FALSE)),2)+POWER((VLOOKUP(E65,DEBUT!$D$5:$J$110,7,FALSE)-VLOOKUP(F65,DEBUT!$D$5:$J$110,7,FALSE)),2))/CARTE!$O$9,0)","v":292.41323207806477},{"$f":"IFERROR(SQRT(POWER((VLOOKUP($C$5,DEBUT!$D$5:$J$110,6,FALSE)-VLOOKUP(G65,DEBUT!$D$5:$J$110,6,FALSE)),2)+POWER((VLOOKUP($C$5,DEBUT!$D$5:$J$110,7,FALSE)-VLOOKUP(G65,DEBUT!$D$5:$J$110,7,FALSE)),2))/CARTE!$O$9,0)","v":292.36811846754603},{"$f":"IFERROR(SQRT(POWER((VLOOKUP(G65,DEBUT!$D$5:$J$110,6,FALSE)-VLOOKUP(H65,DEBUT!$D$5:$J$110,6,FALSE)),2)+POWER((VLOOKUP(G65,DEBUT!$D$5:$J$110,7,FALSE)-VLOOKUP(H65,DEBUT!$D$5:$J$110,7,FALSE)),2))/CARTE!$O$9,0)","v":388.88158128989608},{"$f":"IFERROR(SQRT(POWER((VLOOKUP($C$5,DEBUT!$D$5:$J$110,6,FALSE)-VLOOKUP(I65,DEBUT!$D$5:$J$110,6,FALSE)),2)+POWER((VLOOKUP($C$5,DEBUT!$D$5:$J$110,7,FALSE)-VLOOKUP(I65,DEBUT!$D$5:$J$110,7,FALSE)),2))/CARTE!$O$9,0)","v":820.45921176843535},{"$f":"IFERROR(SQRT(POWER((VLOOKUP(I65,DEBUT!$D$5:$J$110,6,FALSE)-VLOOKUP(J65,DEBUT!$D$5:$J$110,6,FALSE)),2)+POWER((VLOOKUP(I65,DEBUT!$D$5:$J$110,7,FALSE)-VLOOKUP(J65,DEBUT!$D$5:$J$110,7,FALSE)),2))/CARTE!$O$9,0)","v":621.65617723594562},{"$f":"IFERROR(SQRT(POWER((VLOOKUP($C$5,DEBUT!$D$5:$J$110,6,FALSE)-VLOOKUP(K65,DEBUT!$D$5:$J$110,6,FALSE)),2)+POWER((VLOOKUP($C$5,DEBUT!$D$5:$J$110,7,FALSE)-VLOOKUP(K65,DEBUT!$D$5:$J$110,7,FALSE)),2))/CARTE!$O$9,0)","v":0},{"$f":"IFERROR(SQRT(POWER((VLOOKUP(K65,DEBUT!$D$5:$J$110,6,FALSE)-VLOOKUP(L65,DEBUT!$D$5:$J$110,6,FALSE)),2)+POWER((VLOOKUP(K65,DEBUT!$D$5:$J$110,7,FALSE)-VLOOKUP(L65,DEBUT!$D$5:$J$110,7,FALSE)),2))/CARTE!$O$9,0)","v":0},"m",null,"m","Distance",{"$f":"SUM(E63:N63)","v":2593.0707939223707},"m"]
[null,null,null,"Balises prévues",{"$f":"IF(ISTEXT($D63),HLOOKUP($D63,DEBUT!$O$3:$XX$100,3,FALSE),\"\")","v":"A"},{"$f":"IF(ISTEXT($D63),HLOOKUP($D63,DEBUT!$O$3:$XX$100,4,FALSE),\"\")","v":"B"},{"$f":"IF(ISTEXT($D63),HLOOKUP($D63,DEBUT!$O$3:$XX$100,5,FALSE),\"\")","v":"C"},{"$f":"IF(ISTEXT($D63),HLOOKUP($D63,DEBUT!$O$3:$XX$100,6,FALSE),\"\")","v":"D"},{"$f":"IF(ISTEXT($D63),HLOOKUP($D63,DEBUT!$O$3:$XX$100,7,FALSE),\"\")","v":"E"},{"$f":"IF(ISTEXT($D63),HLOOKUP($D63,DEBUT!$O$3:$XX$100,8,FALSE),\"\")","v":"F"},{"$f":"IF(ISTEXT($D63),HLOOKUP($D63,DEBUT!$O$3:$XX$100,9,FALSE),\"\")","v":0},{"$f":"IF(ISTEXT($D63),HLOOKUP($D63,DEBUT!$O$3:$XX$100,10,FALSE),\"\")","v":0},"x","x",null,"Nombre balises prévues",{"$f":"SUMPRODUCT(N(ISTEXT(E64:N64)))","v":8},"prévues"]
[null,null,null,"Validé",{"$f":"IF($D65=DEBUT!$L$5,E66,\"\")","v":7},{"$f":"IF($D65=DEBUT!$L$5,F66,\"\")","v":10},{"$f":"IF($D65=DEBUT!$L$5,G66,\"\")","v":11},{"$f":"IF($D65=DEBUT!$L$5,H66,\"\")","v":1},{"$f":"IF($D65=DEBUT!$L$5,I66,\"\")","v":76},{"$f":"IF($D65=DEBUT!$L$5,J66,\"\")","v":46},{"$f":"IF($D65=DEBUT!$L$5,K66,\"\")","v":""},{"$f":"IF($D65=DEBUT!$L$5,L66,\"\")","v":""},null,null,null,"Nombre balises trouvées",{"$f":"SUMPRODUCT(N(ISNUMBER(E65:N65)))","v":6},{"$f":"IF(Q65>1,\"trouvées\",\"trouvée\")","v":"trouvées"}]
[null,null,null,"Balises CM",{"$f":"IFERROR(INDEX(baliseCM,MATCH(E64,lettre,0),MATCH($D62,parcours,0)),\"\")","v":7},{"$f":"IFERROR(INDEX(baliseCM,MATCH(F64,lettre,0),MATCH($D62,parcours,0)),\"\")","v":10},11,1,76,46,"",""]
[null,null,null,"Vitesse","à 2",{"$f":"(F63/ABS((HOUR(F62)*3600+MINUTE(F62)*60+SECOND(F62))))*3.6","v":{"$error":"#NUM!"}},"P",{"$f":"(H63/ABS((HOUR(H62)*3600+MINUTE(H62)*60+SECOND(H62))))*3.6","v":{"$error":"#DIV/0!"}},"T",{"$f":"(J63/ABS((HOUR(J62)*3600+MINUTE(J62)*60+SECOND(J62))))*3.6","v":{"$error":"#DIV/0!"}},"à 2",{"$f":"(L63/ABS((HOUR(L62)*3600+MINUTE(L62)*60+SECOND(L62))))*3.6","v":{"$error":"#DIV/0!"}},null,null,"Km/h","Vitesse moyenne",{"$f":"Q63/R62*3.6","v":{"$error":"#DIV/0!"}},"km/h"]
[null,"EQUIPE 10",null,"07:31:06","07:32:11","07:30:01",null,null,null,null,null,null,null,null,null,null,null,null,null,"Analyse du parcours"]
[null,null,null,{"$f":"CONCATENATE(D70,\"bis\")","v":"6ROUGEbis"},null,{"$f":"F68-D68","v":-7.5231481481480289E-4},null,{"$f":"H68-F68","v":-0.31251157407407409},null,{"$f":"J68-H68","v":"00:00:00"},null,{"$f":"L68-J68","v":"00:00:00"},null,null,null,"Temps de course",{"$f":"SUMIF(E69:N69,\">0\",E69:N69)","v":"00:00:00"},{"$f":"ABS((HOUR(Q69)*3600+MINUTE(Q69)*60+SECOND(Q69)))","v":0}]
[null,null,null,{"$f":"$H$2","v":"6ROUGE"},{"$f":"IFERROR(SQRT(POWER((VLOOKUP($C$5,DEBUT!$D$5:$J$110,6,FALSE)-VLOOKUP(E72,DEBUT!$D$5:$J$110,6,FALSE)),2)+POWER((VLOOKUP($C$5,DEBUT!$D$5:$J$110,7,FALSE)-VLOOKUP(E72,DEBUT!$D$5:$J$110,7,FALSE)),2))/CARTE!$O$9,0)","v":177.2924730824831},{"$f":"IFERROR(SQRT(POWER((VLOOKUP(E72,DEBUT!$D$5:$J$110,6,FALSE)-VLOOKUP(F72,DEBUT!$D$5:$J$110,6,FALSE)),2)+POWER((VLOOKUP(E72,DEBUT!$D$5:$J$110,7,FALSE)-VLOOKUP(F72,DEBUT!$D$5:$J$110,7,FALSE)),2))/CARTE!$O$9,0)","v":292.41323207806477},{"$f":"IFERROR(SQRT(POWER((VLOOKUP($C$5,DEBUT!$D$5:$J$110,6,FALSE)-VLOOKUP(G72,DEBUT!$D$5:$J$110,6,FALSE)),2)+POWER((VLOOKUP($C$5,DEBUT!$D$5:$J$110,7,FALSE)-VLOOKUP(G72,DEBUT!$D$5:$J$110,7,FALSE)),2))/CARTE!$O$9,0)","v":292.36811846754603},{"$f":"IFERROR(SQRT(POWER((VLOOKUP(G72,DEBUT!$D$5:$J$110,6,FALSE)-VLOOKUP(H72,DEBUT!$D$5:$J$110,6,FALSE)),2)+POWER((VLOOKUP(G72,DEBUT!$D$5:$J$110,7,FALSE)-VLOOKUP(H72,DEBUT!$D$5:$J$110,7,FALSE)),2))/CARTE!$O$9,0)","v":388.88158128989608},{"$f":"IFERROR(SQRT(POWER((VLOOKUP($C$5,DEBUT!$D$5:$J$110,6,FALSE)-VLOOKUP(I72,DEBUT!$D$5:$J$110,6,FALSE)),2)+POWER((VLOOKUP($C$5,DEBUT!$D$5:$J$110,7,FALSE)-VLOOKUP(I72,DEBUT!$D$5:$J$110,7,FALSE)),2))/CARTE!$O$9,0)","v":820.45921176843535},{"$f":"IFERROR(SQRT(POWER((VLOOKUP(I72,DEBUT!$D$5:$J$110,6,FALSE)-VLOOKUP(J72,DEBUT!$D$5:$J$110,6,FALSE)),2)+POWER((VLOOKUP(I72,DEBUT!$D$5:$J$110,7,FALSE)-VLOOKUP(J72,DEBUT!$D$5:$J$110,7,FALSE)),2))/CARTE!$O$9,0)","v":621.65617723594562},{"$f":"IFERROR(SQRT(POWER((VLOOKUP($C$5,DEBUT!$D$5:$J$110,6,FALSE)-VLOOKUP(K72,DEBUT!$D$5:$J$110,6,FALSE)),2)+POWER((VLOOKUP($C$5,DEBUT!$D$5:$J$110,7,FALSE)-VLOOKUP(K72,DEBUT!$D$5:$J$110,7,FALSE)),2))/CARTE!$O$9,0)","v":0},{"$f":"IFERROR(SQRT(POWER((VLOOKUP(K72,DEBUT!$D$5:$J$110,6,FALSE)-VLOOKUP(L72,DEBUT!$D$5:$J$110,6,FALSE)),2)+POWER((VLOOKUP(K72,DEBUT!$D$5:$J$110,7,FALSE)-VLOOKUP(L72,DEBUT!$D$5:$J$110,7,FALSE)),2))/CARTE!$O$9,0)","v":0},"m",null,"m","Distance",{"$f":"SUM(E70:N70)","v":2593.0707939223707},"m"]
[null,null,null,"Balises prévues",{"$f":"IF(ISTEXT($D70),HLOOKUP($D70,DEBUT!$O$3:$XX$100,3,FALSE),\"\")","v":"A"},{"$f":"IF(ISTEXT($D70),HLOOKUP($D70,DEBUT!$O$3:$XX$100,4,FALSE),\"\")","v":"B"},{"$f":"IF(ISTEXT($D70),HLOOKUP($D70,DEBUT!$O$3:$XX$100,5,FALSE),\"\")","v":"C"},{"$f":"IF(ISTEXT($D70),HLOOKUP($D70,DEBUT!$O$3:$XX$100,6,FALSE),\"\")","v":"D"},{"$f":"IF(ISTEXT($D70),HLOOKUP($D70,DEBUT!$O$3:$XX$100,7,FALSE),\"\")","v":"E"},{"$f":"IF(ISTEXT($D70),HLOOKUP($D70,DEBUT!$O$3:$XX$100,8,FALSE),\"\")","v":"F"},{"$f":"IF(ISTEXT($D70),HLOOKUP($D70,DEBUT!$O$3:$XX$100,9,FALSE),\"\")","v":0},{"$f":"IF(ISTEXT($D70),HLOOKUP($D70,DEBUT!$O$3:$XX$100,10,FALSE),\"\")","v":0},"x","x",null,"Nombre balises prévues",{"$f":"SUMPRODUCT(N(ISTEXT(E71:N71)))","v":8},"prévues"]
[null,null,null,"Validé",{"$f":"IF($D72=DEBUT!$L$5,E73,\"\")","v":7},{"$f":"IF($D72=DEBUT!$L$5,F73,\"\")","v":10},{"$f":"IF($D72=DEBUT!$L$5,G73,\"\")","v":11},{"$f":"IF($D72=DEBUT!$L$5,H73,\"\")","v":1},{"$f":"IF($D72=DEBUT!$L$5,I73,\"\")","v":76},{"$f":"IF($D72=DEBUT!$L$5,J73,\"\")","v":46},{"$f":"IF($D72=DEBUT!$L$5,K73,\"\")","v":""},{"$f":"IF($D72=DEBUT!$L$5,L73,\"\")","v":""},null,null,null,"Nombre balises trouvées",{"$f":"SUMPRODUCT(N(ISNUMBER(E72:N72)))","v":6},{"$f":"IF(Q72>1,\"trouvées\",\"trouvée\")","v":"trouvées"}]
[null,null,null,"Balises CM",{"$f":"IFERROR(INDEX(baliseCM,MATCH(E71,lettre,0),MATCH($D69,parcours,0)),\"\")","v":7},{"$f":"IFERROR(INDEX(baliseCM,MATCH(F71,lettre,0),MATCH($D69,parcours,0)),\"\")","v":10},11,1,76,46,"",""]
[null,null,null,"Vitesse","à 2",{"$f":"(F70/ABS((HOUR(F69)*3600+MINUTE(F69)*60+SECOND(F69))))*3.6","v":{"$error":"#NUM!"}},"P",{"$f":"(H70/ABS((HOUR(H69)*3600+MINUTE(H69)*60+SECOND(H69))))*3.6","v":{"$error":"#NUM!"}},"T",{"$f":"(J70/ABS((HOUR(J69)*3600+MINUTE(J69)*60+SECOND(J69))))*3.6","v":{"$error":"#DIV/0!"}},"à 2",{"$f":"(L70/ABS((HOUR(L69)*3600+MINUTE(L69)*60+SECOND(L69))))*3.6","v":{"$error":"#DIV/0!"}},null,null,"Km/h","Vitesse moyenne",{"$f":"Q70/R69*3.6","v":{"$error":"#DIV/0!"}},"km/h"]
[null,"EQUIPE 11",null,"07:30:39","07:30:41",null,null,null,null,null,null,null,null,null,null,null,null,null,null,"Analyse du parcours"]
[null,null,null,{"$f":"CONCATENATE(D77,\"bis\")","v":"6ROUGEbis"},null,{"$f":"F75-D75","v":-0.3129513888888889},null,{"$f":"H75-F75","v":"00:00:00"},null,{"$f":"J75-H75","v":"00:00:00"},null,{"$f":"L75-J75","v":"00:00:00"},null,null,null,"Temps de course",{"$f":"SUMIF(E76:N76,\">0\",E76:N76)","v":"00:00:00"},{"$f":"ABS((HOUR(Q76)*3600+MINUTE(Q76)*60+SECOND(Q76)))","v":0}]
[null,null,null,{"$f":"$H$2","v":"6ROUGE"},{"$f":"IFERROR(SQRT(POWER((VLOOKUP($C$5,DEBUT!$D$5:$J$110,6,FALSE)-VLOOKUP(E79,DEBUT!$D$5:$J$110,6,FALSE)),2)+POWER((VLOOKUP($C$5,DEBUT!$D$5:$J$110,7,FALSE)-VLOOKUP(E79,DEBUT!$D$5:$J$110,7,FALSE)),2))/CARTE!$O$9,0)","v":177.2924730824831},{"$f":"IFERROR(SQRT(POWER((VLOOKUP(E79,DEBUT!$D$5:$J$110,6,FALSE)-VLOOKUP(F79,DEBUT!$D$5:$J$110,6,FALSE)),2)+POWER((VLOOKUP(E79,DEBUT!$D$5:$J$110,7,FALSE)-VLOOKUP(F79,DEBUT!$D$5:$J$110,7,FALSE)),2))/CARTE!$O$9,0)","v":292.41323207806477},{"$f":"IFERROR(SQRT(POWER((VLOOKUP($C$5,DEBUT!$D$5:$J$110,6,FALSE)-VLOOKUP(G79,DEBUT!$D$5:$J$110,6,FALSE)),2)+POWER((VLOOKUP($C$5,DEBUT!$D$5:$J$110,7,FALSE)-VLOOKUP(G79,DEBUT!$D$5:$J$110,7,FALSE)),2))/CARTE!$O$9,0)","v":292.36811846754603},{"$f":"IFERROR(SQRT(POWER((VLOOKUP(G79,DEBUT!$D$5:$J$110,6,FALSE)-VLOOKUP(H79,DEBUT!$D$5:$J$110,6,FALSE)),2)+POWER((VLOOKUP(G79,DEBUT!$D$5:$J$110,7,FALSE)-VLOOKUP(H79,DEBUT!$D$5:$J$110,7,FALSE)),2))/CARTE!$O$9,0)","v":388.88158128989608},{"$f":"IFERROR(SQRT(POWER((VLOOKUP($C$5,DEBUT!$D$5:$J$110,6,FALSE)-VLOOKUP(I79,DEBUT!$D$5:$J$110,6,FALSE)),2)+POWER((VLOOKUP($C$5,DEBUT!$D$5:$J$110,7,FALSE)-VLOOKUP(I79,DEBUT!$D$5:$J$110,7,FALSE)),2))/CARTE!$O$9,0)","v":820.45921176843535},{"$f":"IFERROR(SQRT(POWER((VLOOKUP(I79,DEBUT!$D$5:$J$110,6,FALSE)-VLOOKUP(J79,DEBUT!$D$5:$J$110,6,FALSE)),2)+POWER((VLOOKUP(I79,DEBUT!$D$5:$J$110,7,FALSE)-VLOOKUP(J79,DEBUT!$D$5:$J$110,7,FALSE)),2))/CARTE!$O$9,0)","v":621.65617723594562},{"$f":"IFERROR(SQRT(POWER((VLOOKUP($C$5,DEBUT!$D$5:$J$110,6,FALSE)-VLOOKUP(K79,DEBUT!$D$5:$J$110,6,FALSE)),2)+POWER((VLOOKUP($C$5,DEBUT!$D$5:$J$110,7,FALSE)-VLOOKUP(K79,DEBUT!$D$5:$J$110,7,FALSE)),2))/CARTE!$O$9,0)","v":0},{"$f":"IFERROR(SQRT(POWER((VLOOKUP(K79,DEBUT!$D$5:$J$110,6,FALSE)-VLOOKUP(L79,DEBUT!$D$5:$J$110,6,FALSE)),2)+POWER((VLOOKUP(K79,DEBUT!$D$5:$J$110,7,FALSE)-VLOOKUP(L79,DEBUT!$D$5:$J$110,7,FALSE)),2))/CARTE!$O$9,0)","v":0},"m",null,"m","Distance",{"$f":"SUM(E77:N77)","v":2593.0707939223707},"m"]
[null,null,null,"Balises prévues",{"$f":"IF(ISTEXT($D77),HLOOKUP($D77,DEBUT!$O$3:$XX$100,3,FALSE),\"\")","v":"A"},{"$f":"IF(ISTEXT($D77),HLOOKUP($D77,DEBUT!$O$3:$XX$100,4,FALSE),\"\")","v":"B"},{"$f":"IF(ISTEXT($D77),HLOOKUP($D77,DEBUT!$O$3:$XX$100,5,FALSE),\"\")","v":"C"},{"$f":"IF(ISTEXT($D77),HLOOKUP($D77,DEBUT!$O$3:$XX$100,6,FALSE),\"\")","v":"D"},{"$f":"IF(ISTEXT($D77),HLOOKUP($D77,DEBUT!$O$3:$XX$100,7,FALSE),\"\")","v":"E"},{"$f":"IF(ISTEXT($D77),HLOOKUP($D77,DEBUT!$O$3:$XX$100,8,FALSE),\"\")","v":"F"},{"$f":"IF(ISTEXT($D77),HLOOKUP($D77,DEBUT!$O$3:$XX$100,9,FALSE),\"\")","v":0},{"$f":"IF(ISTEXT($D77),HLOOKUP($D77,DEBUT!$O$3:$XX$100,10,FALSE),\"\")","v":0},"x","x",null,"Nombre balises prévues",{"$f":"SUMPRODUCT(N(ISTEXT(E78:N78)))","v":8},"prévues"]
[null,null,null,"Validé",{"$f":"IF($D79=DEBUT!$L$5,E80,\"\")","v":7},{"$f":"IF($D79=DEBUT!$L$5,F80,\"\")","v":10},{"$f":"IF($D79=DEBUT!$L$5,G80,\"\")","v":11},{"$f":"IF($D79=DEBUT!$L$5,H80,\"\")","v":1},{"$f":"IF($D79=DEBUT!$L$5,I80,\"\")","v":76},{"$f":"IF($D79=DEBUT!$L$5,J80,\"\")","v":46},{"$f":"IF($D79=DEBUT!$L$5,K80,\"\")","v":""},{"$f":"IF($D79=DEBUT!$L$5,L80,\"\")","v":""},null,null,null,"Nombre balises trouvées",{"$f":"SUMPRODUCT(N(ISNUMBER(E79:N79)))","v":6},{"$f":"IF(Q79>1,\"trouvées\",\"trouvée\")","v":"trouvées"}]
[null,null,null,"Balises CM",{"$f":"IFERROR(INDEX(baliseCM,MATCH(E78,lettre,0),MATCH($D76,parcours,0)),\"\")","v":7},{"$f":"IFERROR(INDEX(baliseCM,MATCH(F78,lettre,0),MATCH($D76,parcours,0)),\"\")","v":10},11,1,76,46,"",""]
[null,null,null,"Vitesse","à 2",{"$f":"(F77/ABS((HOUR(F76)*3600+MINUTE(F76)*60+SECOND(F76))))*3.6","v":{"$error":"#NUM!"}},"P",{"$f":"(H77/ABS((HOUR(H76)*3600+MINUTE(H76)*60+SECOND(H76))))*3.6","v":{"$error":"#DIV/0!"}},"T",{"$f":"(J77/ABS((HOUR(J76)*3600+MINUTE(J76)*60+SECOND(J76))))*3.6","v":{"$error":"#DIV/0!"}},"à 2",{"$f":"(L77/ABS((HOUR(L76)*3600+MINUTE(L76)*60+SECOND(L76))))*3.6","v":{"$error":"#DIV/0!"}},null,null,"Km/h","Vitesse moyenne",{"$f":"Q77/R76*3.6","v":{"$error":"#DIV/0!"}},"km/h"]
[null,"EQUIPE 12",null,"09:58:06","07:30:49","09:58:07",null,"09:58:11",null,"09:58:45",null,"09:58:48",null,null,null,null,null,null,null,"Analyse du parcours"]
[null,null,null,{"$f":"CONCATENATE(D84,\"bis\")","v":"6ROUGEbis"},null,{"$f":"F82-D82","v":"00:00:01"},null,{"$f":"H82-F82","v":"00:00:04"},null,{"$f":"J82-H82","v":"00:00:34"},null,{"$f":"L82-J82","v":"00:00:03"},null,null,null,"Temps de course",{"$f":"SUMIF(E83:N83,\">0\",E83:N83)","v":"00:00:42"},{"$f":"ABS((HOUR(Q83)*3600+MINUTE(Q83)*60+SECOND(Q83)))","v":42}]
[null,null,null,{"$f":"$H$2","v":"6ROUGE"},{"$f":"IFERROR(SQRT(POWER((VLOOKUP($C$5,DEBUT!$D$5:$J$110,6,FALSE)-VLOOKUP(E86,DEBUT!$D$5:$J$110,6,FALSE)),2)+POWER((VLOOKUP($C$5,DEBUT!$D$5:$J$110,7,FALSE)-VLOOKUP(E86,DEBUT!$D$5:$J$110,7,FALSE)),2))/CARTE!$O$9,0)","v":177.2924730824831},{"$f":"IFERROR(SQRT(POWER((VLOOKUP(E86,DEBUT!$D$5:$J$110,6,FALSE)-VLOOKUP(F86,DEBUT!$D$5:$J$110,6,FALSE)),2)+POWER((VLOOKUP(E86,DEBUT!$D$5:$J$110,7,FALSE)-VLOOKUP(F86,DEBUT!$D$5:$J$110,7,FALSE)),2))/CARTE!$O$9,0)","v":292.41323207806477},{"$f":"IFERROR(SQRT(POWER((VLOOKUP($C$5,DEBUT!$D$5:$J$110,6,FALSE)-VLOOKUP(G86,DEBUT!$D$5:$J$110,6,FALSE)),2)+POWER((VLOOKUP($C$5,DEBUT!$D$5:$J$110,7,FALSE)-VLOOKUP(G86,DEBUT!$D$5:$J$110,7,FALSE)),2))/CARTE!$O$9,0)","v":292.36811846754603},{"$f":"IFERROR(SQRT(POWER((VLOOKUP(G86,DEBUT!$D$5:$J$110,6,FALSE)-VLOOKUP(H86,DEBUT!$D$5:$J$110,6,FALSE)),2)+POWER((VLOOKUP(G86,DEBUT!$D$5:$J$110,7,FALSE)-VLOOKUP(H86,DEBUT!$D$5:$J$110,7,FALSE)),2))/CARTE!$O$9,0)","v":388.88158128989608},{"$f":"IFERROR(SQRT(POWER((VLOOKUP($C$5,DEBUT!$D$5:$J$110,6,FALSE)-VLOOKUP(I86,DEBUT!$D$5:$J$110,6,FALSE)),2)+POWER((VLOOKUP($C$5,DEBUT!$D$5:$J$110,7,FALSE)-VLOOKUP(I86,DEBUT!$D$5:$J$110,7,FALSE)),2))/CARTE!$O$9,0)","v":820.45921176843535},{"$f":"IFERROR(SQRT(POWER((VLOOKUP(I86,DEBUT!$D$5:$J$110,6,FALSE)-VLOOKUP(J86,DEBUT!$D$5:$J$110,6,FALSE)),2)+POWER((VLOOKUP(I86,DEBUT!$D$5:$J$110,7,FALSE)-VLOOKUP(J86,DEBUT!$D$5:$J$110,7,FALSE)),2))/CARTE!$O$9,0)","v":621.65617723594562},{"$f":"IFERROR(SQRT(POWER((VLOOKUP($C$5,DEBUT!$D$5:$J$110,6,FALSE)-VLOOKUP(K86,DEBUT!$D$5:$J$110,6,FALSE)),2)+POWER((VLOOKUP($C$5,DEBUT!$D$5:$J$110,7,FALSE)-VLOOKUP(K86,DEBUT!$D$5:$J$110,7,FALSE)),2))/CARTE!$O$9,0)","v":0},{"$f":"IFERROR(SQRT(POWER((VLOOKUP(K86,DEBUT!$D$5:$J$110,6,FALSE)-VLOOKUP(L86,DEBUT!$D$5:$J$110,6,FALSE)),2)+POWER((VLOOKUP(K86,DEBUT!$D$5:$J$110,7,FALSE)-VLOOKUP(L86,DEBUT!$D$5:$J$110,7,FALSE)),2))/CARTE!$O$9,0)","v":0},"m",null,"m","Distance",{"$f":"SUM(E84:N84)","v":2593.0707939223707},"m"]
[null,null,null,"Balises prévues",{"$f":"IF(ISTEXT($D84),HLOOKUP($D84,DEBUT!$O$3:$XX$100,3,FALSE),\"\")","v":"A"},{"$f":"IF(ISTEXT($D84),HLOOKUP($D84,DEBUT!$O$3:$XX$100,4,FALSE),\"\")","v":"B"},{"$f":"IF(ISTEXT($D84),HLOOKUP($D84,DEBUT!$O$3:$XX$100,5,FALSE),\"\")","v":"C"},{"$f":"IF(ISTEXT($D84),HLOOKUP($D84,DEBUT!$O$3:$XX$100,6,FALSE),\"\")","v":"D"},{"$f":"IF(ISTEXT($D84),HLOOKUP($D84,DEBUT!$O$3:$XX$100,7,FALSE),\"\")","v":"E"},{"$f":"IF(ISTEXT($D84),HLOOKUP($D84,DEBUT!$O$3:$XX$100,8,FALSE),\"\")","v":"F"},{"$f":"IF(ISTEXT($D84),HLOOKUP($D84,DEBUT!$O$3:$XX$100,9,FALSE),\"\")","v":0},{"$f":"IF(ISTEXT($D84),HLOOKUP($D84,DEBUT!$O$3:$XX$100,10,FALSE),\"\")","v":0},"x","x",null,"Nombre balises prévues",{"$f":"SUMPRODUCT(N(ISTEXT(E85:N85)))","v":8},"prévues"]
[null,null,null,"Validé",{"$f":"IF($D86=DEBUT!$L$5,E87,\"\")","v":7},{"$f":"IF($D86=DEBUT!$L$5,F87,\"\")","v":10},{"$f":"IF($D86=DEBUT!$L$5,G87,\"\")","v":11},{"$f":"IF($D86=DEBUT!$L$5,H87,\"\")","v":1},{"$f":"IF($D86=DEBUT!$L$5,I87,\"\")","v":76},{"$f":"IF($D86=DEBUT!$L$5,J87,\"\")","v":46},{"$f":"IF($D86=DEBUT!$L$5,K87,\"\")","v":""},{"$f":"IF($D86=DEBUT!$L$5,L87,\"\")","v":""},null,null,null,"Nombre balises trouvées",{"$f":"SUMPRODUCT(N(ISNUMBER(E86:N86)))","v":6},{"$f":"IF(Q86>1,\"trouvées\",\"trouvée\")","v":"trouvées"}]
[null,null,null,"Balises CM",{"$f":"IFERROR(INDEX(baliseCM,MATCH(E85,lettre,0),MATCH($D83,parcours,0)),\"\")","v":7},{"$f":"IFERROR(INDEX(baliseCM,MATCH(F85,lettre,0),MATCH($D83,parcours,0)),\"\")","v":10},11,1,76,46,"",""]
[null,null,null,"Vitesse","à 2",{"$f":"(F84/ABS((HOUR(F83)*3600+MINUTE(F83)*60+SECOND(F83))))*3.6","v":1052.6876354810331},"P",{"$f":"(H84/ABS((HOUR(H83)*3600+MINUTE(H83)*60+SECOND(H83))))*3.6","v":349.9934231609065},"T",{"$f":"(J84/ABS((HOUR(J83)*3600+MINUTE(J83)*60+SECOND(J83))))*3.6","v":65.822418766158961},"à 2",{"$f":"(L84/ABS((HOUR(L83)*3600+MINUTE(L83)*60+SECOND(L83))))*3.6","v":0},null,null,"Km/h","Vitesse moyenne",{"$f":"Q84/R83*3.6","v":222.26321090763179},"km/h"]

{"sheet":"ROADBOOk","index":14,"n_rows":29,"n_cols":5,"rows_kept":29,"cut":false,"hidden":false,"merged":[]}
[null,null,null,null,"ROAD BOOK n°1"]
[]
[null,"Nous sommes sur le banc à l'angle N-E de la clairière à côté de la balise 36"]
[null,"Poinçonner la balise 36"]
[]
[]
[]
[]
[]
[]
[]
[]
[]
[]
[]
[]
[]
[]
[]
[]
[]
[]
[]
[]
[null,"Pendre la route direction EST en laissant les terrains de basket à ma droite et le banc dans mon dos"]
[null,"En avançant je vais croiser une souche sur ma droite"]
[null,"A 200m de mon point de départ je vais aprecevoir dans une clairière la balise 37 sur ma droite"]
[]
[null,"Poinçonner la balise 37"]

{"sheet":"CIBLE","index":15,"n_rows":41,"n_cols":30,"rows_kept":41,"cut":false,"hidden":false,"merged":[[40,1,45,1],[46,1,51,1],[4,1,9,1],[10,1,15,1],[16,1,21,1],[22,1,27,1],[28,1,33,1],[34,1,39,1]]}
[]
[]
[]
[null,null,"AIGLE",null,null,"7'","GUEPARD",null,null,"8'","LION",null,null,"9'","CHEVAL",null,null,"10'","ELEPHANT",null,null,"12'","HERISSON",null,null,"16'","FOURMI",null,null,"18'"]
[null,"PARCOURS  1"]
[]
[]
[]
[]
[]
[null,"PARCOURS  2"]
[]
[]
[]
[]
[]
[null,"PARCOURS 3"]
[]
[]
[]
[]
[]
[null,"PARCOURS 1 non réussi"]
[]
[]
[]
[]
[]
[null,"PARCOURS 2 non réussi"]
[]
[]
[]
[]
[]
[null,"PARCOURS 3 non réussi"]
[]
[]
[]
[]
[]
[null,"PARCOURS "]

{"sheet":"NOTECYCLE","index":16,"n_rows":40,"n_cols":25,"rows_kept":40,"cut":false,"hidden":false,"merged":[[0,24,2,24],[0,14,2,15],[0,16,2,17],[0,18,2,19],[0,20,2,21],[0,22,2,23]]}
[null,null,null,null,"Seance 1","Seance 2","Seance 3","Seance 4","Seance 5","Seance 6","Seance 7","Seance 8","Seance 9","Seance 10",{"$f":"CONCATENATE(REFERENTIELS!D54,\" / \",REFERENTIELS!C54)","v":"Assiduité / 2"},null,{"$f":"CONCATENATE(REFERENTIELS!D56,\" / \",REFERENTIELS!C56)","v":"Evoluer avec plusieurs coéquipiers différents / 2"},null,{"$f":"CONCATENATE(REFERENTIELS!D59,\" / \",REFERENTIELS!C59)","v":"Nombre de balises trouvés dans le cycle / 6"},null,{"$f":"CONCATENATE(REFERENTIELS!D62,\" / \",REFERENTIELS!C62)","v":"Distance parcourue / 6"},null,{"$f":"CONCATENATE(REFERENTIELS!D64,\" / \",REFERENTIELS!C64)","v":"Analyse-Lecture / 4"},null,"NOTE FINALE"]
[null,"STAGE",null,null,"Selfie","etoile","papillon","score"]
[]
[]
[1,{"$f":"OFFSET(INDEX(eleves,MATCH(A5,chiffre,0),MATCH($B$2,classes,0)),0,1)","v":"POL"}]
[2,"CARINE"]
[3,"BASTIEN"]
[4,"CORALINE"]
[5,"GREGORY"]
[6,"THOMAS"]
[7,"ALAIN"]
[8,"QUENTIN"]
[9,"BAPTISTE"]
[10,"FRANCK"]
[11,"VALENTIN"]
[12,"BENJAMIN"]
[13,"ANDY"]
[14,"OLIVIER"]
[15,"CHRISTIAN"]
[16,"CELINE"]
[17,"SEBASTIEN"]
[18,"PASCAL"]
[19,"CAROLE"]
[20,"ISABELLE"]
[21,"DAVID"]
[22,"FRANCOIS"]
[23,"Mick"]
[24,0]
[25,0]
[26,0]
[27,0]
[28,0]
[29,0]
[30,0]
[31,0]
[32,0]
[33,0]
[34,0]
[35,0]
[36,0]

{"sheet":"REFERENTIELS","index":17,"n_rows":66,"n_cols":13,"rows_kept":66,"cut":false,"hidden":false,"merged":[[65,2,67,2],[65,3,67,3],[67,4,67,12],[53,3,54,3],[53,2,54,2],[55,2,57,2],[55,3,57,3],[57,4,57,12],[58,2,60,2],[58,3,60,3],[60,4,60,12],[61,2,62,2],[61,3,62,3],[61,4,61,6],[61,7,61,9],[61,11,61,12],[3,2,3,3],[3,4,3,12],[4,2,4,3],[4,4,4,12],[5,4,5,6],[5,7,5,12],[6,2,8,2],[6,3,8,3],[8,4,8,12],[9,2,11,2],[9,3,11,3],[11,4,11,12],[12,10,12,12],[13,10,13,12],[14,2,15,2],[14,3,15,3],[14,4,14,6],[14,7,14,9],[15,4,15,6],[15,7,15,9],[14,10,14,12],[15,10,15,12],[12,2,13,2],[12,3,13,3],[12,4,12,6],[12,7,12,9],[13,4,13,6],[13,7,13,9],[26,2,26,3],[26,4,26,12],[27,2,27,3],[27,4,27,12],[28,4,28,6],[28,7,28,12],[29,2,31,2],[29,3,31,3],[31,4,31,12],[32,2,34,2],[32,3,34,3],[34,4,34,12],[35,4,35,6],[35,7,35,9],[35,11,35,12],[36,4,36,6],[36,7,36,9],[36,11,36,12],[41,2,41,13],[43,2,43,13],[46,2,46,13],[18,2,18,13],[20,2,20,13],[23,2,23,13],[37,2,38,2],[37,3,38,3],[37,4,37,6],[37,7,37,9],[37,11,37,12],[38,4,38,6],[38,7,38,9],[38,11,38,12],[35,2,36,2],[35,3,36,3],[50,2,50,3],[50,4,50,12],[51,2,51,3],[51,4,51,12],[52,4,52,6],[52,7,52,12],[62,4,62,6],[62,7,62,9],[62,11,62,12],[63,2,64,2],[63,3,64,3],[63,4,63,6],[63,7,63,9],[63,11,63,12],[64,4,64,6],[64,7,64,9],[64,11,64,12]]}
[]
[]
[null,null,"CO N3 - CAP-BEP"]
[null,null,"COMPÉTENCES ATTENDUES",null,"PRINCIPES D’ELABORATION DE L’EPREUVE."]
[null,null,"Niveau 3 :\nPrévoir  et  conduire  son  déplacement  en  utilisant principalement  des  lignes  de  niveau   1  (chemin, route  …)    pour  s’engager  dans  une  épreuve  de course d’orientation en milieu connu dans le respect des règles de sécurité.",null,"Le coureur doit réaliser, seul ou en binôme, un parcours de son choix, composé de 8 postes, dans un temps limité de 30 ou 35 minutes, selon la difficulté du terrain : prévoir une superficie du réseau d’environ 1 km!, pour  un circuit d’environ 2,5 km.\n24 postes (balises ou piquets permanents avec pinces) sont placés sur des éléments caractéristiques et   dans un milieu boisé ou semi boisé connu. 14 balises sont de niveau 1 et 10 balises de niveau 2.\nLe code d’identification, de la balise ou du piquet, est identique à celui du poste précisé sur la carte mère. Pendant 5 minutes le candidat devra choisir 8 postes en fonction du niveau qu’il veut atteindre.\nToutes les données sont vérifiées à l’aide d’un carton de contrôle comportant les numéros de tous les postes à poinçonner. Le candidat peut contrôler la durée de son déplacement à l’aide d’un chronomètre ou d’une montre."]
[null,null,"POINTS A AFFECTER","ELEMENTS A EVALUER","COMPETENCE DE NIVEAU 3 EN COURS  D’ACQUISITION\nDe 0 à 9pts.",null,null,"COMPETENCE DE  NIVEAU 3 ACQUISE\nDe 10 à 20pts."]
[null,null,"10 Points","Conduite d’un itinéraire et de la lecture de la carte",0,1,2,3,4,5,6,7,8]
[null,null,null,null,0,0.5,1,2,2.5,3,4,5,6]
[null,null,null,null,"+ 0,5 Pt par poste de niveau 2 trouvé."]
[null,null,"6 Points","Evaluation de la vitesse de course (secondes)",-10000,-540,-300,-180,0,180,360,660]
[null,null,null,null,6,6,5,3,2,1,0,"Disqualifié"]
[null,null,null,null,"Temps + 10 minutes = l’élève est disqualifié."]
[null,null,"2 Points","Renseignement du carton de contrôle","Le candidat a noté l’heure de départ et l’heure d’arrivée et a poinçonné les postes trouvés.",null,null,"Le   candidat   a   noté   l’heure   de   départ   et l’heure   d’arrivée,   a   poinçonné   les   postes trouvés, et les a définis par écrit.",null,null,"Le  candidat  a  noté  l’heure  de  départ  et l’heure  d’arrivée,  a  poinçonné  les  postes trouvés, et les a définis par symboles IOF."]
[null,null,null,null,"1 point",null,null,"1,5 point",null,null,"2 points"]
[null,null,"2 Points","Analyse de son parcours","le candidat retrace son parcours avec hésitation et une description très approximative.",null,null,"le candidat retrace son parcours avec méthode.",null,null,"le   candidat   retrace   son   parcours   avec précision et indique sur au moins 2 choix d’itinéraire, ses points d’attaque, point (s) de passage et ses lignes d’arrêt."]
[null,null,null,null,"1 point",null,null,"1,5 point",null,null,"2 points"]
[null,null,"COMMENTAIRES : Dans le cadre du contrôle en cours de formation, la course est individuelle ou en binôme."]
[null,null,"Les contraintes de sécurité nécessitent de choisir des dispositifs particuliers notamment dans les domaines suivants :"]
[null,null,"-  conception  du  dispositif  (départ  et  arrivée  le  plus  au  centre,  favoriser  les  passages  proches  de  la  zone  centrale,  limiter  l’espace  d’évolution,  avoir  des  lignes  d’arrêt  visibles  par  les élèves,…etc.)"]
[null,null,"- Mise en place de commissaires adultes ou élèves (organisation éventuelle de l’épreuve en 2 séquences ou 2 séances successives,…etc.)"]
[null,null,"- Il est possible d’introduire d’autres postes sans valeur, donc non pris en compte, pour augmenter l’incertitude, l’activité de recherche personnelle et la présence d’un plus grand nombre d’élèves sur le parcours."]
[null,null,"- Des adaptations des temps de course à hauteur de 10 % peuvent s’appliquer lors de mauvaises conditions météo (terrain gras, pluie, froid, vent fort,…)"]
[null,null,"- Les balises de niveau 1 se situent sur des éléments caractéristiques le long de lignes directrices (chemin, sentier, clôture, limite de végétation précise)."]
[null,null,"- Les balises de niveau 2 nécessitent d’identifier un point d’attaque sur des lignes directrices de niveau 1 (route, chemin, sentier, grillage…) pour leur recherche. Les symboles IOF (international orientering fédération) caractérisent l’élément caractéristique du poste et sa position par rapport à celui-ci."]
[]
[null,null,"CO N4 BAC PRO"]
[null,null,"COMPÉTENCES ATTENDUES",null,"PRINCIPES D’ELABORATION DE L’EPREUVE."]
[null,null,"Niveau 4 :\nConstruire  son  itinéraire,  adapter  son  déplacement en  utilisant  des  lignes  de  niveau  1  et  2    (sentier, fossé  ...)  et  gérer  ses  ressources  pour  réaliser  la meilleure     performance     en     milieu     boisé     et partiellement connu, dans le  respect  des règles  de sécurité.",null,"Le coureur doit réaliser, seul ou en binôme, un parcours de son choix, composé de 8 postes, dans un temps limité de 30 ou 35 minutes, selon la difficulté du terrain : prévoir une superficie du réseau d’environ 1 km!, pour  un circuit d’environ 2,5 km.\n24 postes (balises ou piquets permanents avec pinces) sont placés sur des éléments caractéristiques et   dans un milieu boisé ou semi boisé partiellement  connu. 14 balises sont de niveau 2 et 10 balises de niveau 3.\nLe code d’identification, de la balise ou du piquet, est identique à celui du poste précisé sur la carte mère. Pendant 5 minutes le candidat devra choisir 8 postes en fonction du niveau qu’il veut atteindre.\nToutes les données sont vérifiées à l’aide d’un carton de contrôle comportant les numéros de tous les postes à poinçonner. Le candidat peut contrôler la durée de son déplacement à l’aide d’un chronomètre ou d’une montre."]
[null,null,"POINTS A AFFECTER","ELEMENTS A EVALUER","COMPETENCE DE NIVEAU 4 EN COURS  D’ACQUISITION\nDe 0 à 9pts.",null,null,"COMPETENCE DE  NIVEAU 4 ACQUISE\nDe 10 à 20pts."]
[null,null,"10 Points","Conduite d’un itinéraire et de la lecture de la carte",0,1,2,3,4,5,6,7,8]
[null,null,null,null,0,0.5,1,2,2.5,3,4,5,6]
[null,null,null,null,"+ 0,5 Pt par poste de niveau 2 trouvé."]
[null,null,"6 Points","Evaluation de la vitesse de course",-1000,-540,-300,-180,0,180,360,660]
[null,null,null,null,6,6,5,3,2,1,0,"Disqualifié"]
[null,null,null,null,"Temps + 10 minutes = l’élève est disqualifié."]
[null,null,"2 Points","Renseignement du carton de contrôle","Le candidat a noté l’heure de départ et l’heure d’arrivée et a poinçonné les postes trouvés.",null,null,"Le   candidat   a   noté   l’heure   de   départ   et l’heure   d’arrivée,   a   poinçonné   les   postes trouvés, et les a définis par écrit.",null,null,null,"Le  candidat  a  noté  l’heure  de  départ  et l’heure  d’arrivée,  a  poinçonné  les  postes trouvés, et les a définis par symboles IOF."]
[null,null,null,null,"1 point",null,null,"1,5 point",null,null,null,"2 points"]
[null,null,"2 Points","Analyse de son parcours","le candidat retrace son parcours avec hésitation et une description très approximative.",null,null,"le candidat retrace son parcours avec méthode.",null,null,null,"le   candidat   retrace   son   parcours   avec précision et indique sur au moins 2 choix d’itinéraire, ses points d’attaque, point (s) de passage et ses lignes d’arrêt."]
[null,null,null,null,"1 point",null,null,"1,5 point",null,null,null,"2 points"]
[null,null,"COMMENTAIRES : Dans le cadre du contrôle en cours de formation, la course est individuelle ou en binôme."]
[null,null,"Les contraintes de sécurité nécessitent de choisir des dispositifs particuliers notamment dans les domaines suivants :"]
[null,null,"-  conception  du  dispositif  (départ  et  arrivée  le  plus  au  centre,  favoriser  les  passages  proches  de  la  zone  centrale,  limiter  l’espace  d’évolution,  avoir  des  lignes  d’arrêt  visibles  par  les élèves,…etc.)"]
[null,null,"- Mise en place de commissaires adultes ou élèves (organisation éventuelle de l’épreuve en 2 séquences ou 2 séances successives,…etc.)"]
[null,null,"- Il est possible d’introduire d’autres postes sans valeur, donc non pris en compte, pour augmenter l’incertitude, l’activité de recherche personnelle et la présence d’un plus grand nombre d’élèves sur le parcours."]
[null,null,"- Des adaptations des temps de course à hauteur de 10 % peuvent s’appliquer lors de mauvaises conditions météo (terrain gras, pluie, froid, vent fort,…)"]
[null,null,"- Les balises de niveau 1 se situent sur des éléments caractéristiques le long de lignes directrices (chemin, sentier, clôture, limite de végétation précise)."]
[null,null,"- Les balises de niveau 2 nécessitent d’identifier un point d’attaque sur des lignes directrices de niveau 1 (route, chemin, sentier, grillage…) pour leur recherche. Les symboles IOF (international orientering fédération) caractérisent l’élément caractéristique du poste et sa position par rapport à celui-ci."]
[]
[]
[null,null,"EVALUATION CYCLE"]
[null,null,"COMPÉTENCES ATTENDUES",null,"PRINCIPES D’ELABORATION DE L’EPREUVE."]
[]
[null,null,"POINTS A AFFECTER","ELEMENTS A EVALUER","COMPETENCE DE NIVEAU 4 EN COURS  D’ACQUISITION\nDe 0 à 9pts.",null,null,"COMPETENCE DE  NIVEAU 4 ACQUISE\nDe 10 à 20pts."]
[null,null,2,"Assiduité"]
[]
[null,null,2,"Evoluer avec plusieurs coéquipiers différents"]
[]
[]
[null,null,6,"Nombre de balises trouvés dans le cycle"]
[]
[]
[null,null,6,"Distance parcourue"]
[]
[null,null,4,"Analyse-Lecture"]
[]
[null,null,null,"RK ?"]

{"sheet":"SECURITE","index":18,"n_rows":0,"n_cols":0,"rows_kept":0,"cut":false,"hidden":false,"merged":[]}

{"sheet":"FLASHCODEIMPRIM","index":19,"n_rows":125,"n_cols":11,"rows_kept":125,"cut":false,"hidden":false,"merged":[[92,9,92,11],[102,9,102,12]]}
[]
[null,null,null,null,null,null,null,null,null,"SELFIE CO"]
[]
[null,null,"4selfie1imgD","D",null,"5rando3imgD","D"]
[null,null,null,null,null,null,null,null,null,"PARCOURS PROFIL"]
[]
[]
[null,null,"5sportif1imgD","D",null,"5suiviVimgD","D"]
[]
[]
[]
[null,null,"5trail1imgD","D",null,"6suiviRimgD","D"]
[]
[]
[]
[null,null,"6vertimgD","D",null,"7bleuimgD","D"]
[]
[]
[]
[null,null,"7cielimgD","D",null,"7grisimgD","D"]
[]
[]
[]
[null,null,"7herbeimgD","D",null,"7rougeimgD","D"]
[]
[null,null,null,null,null,null,null,null,null,"COURSE AUX POINTS"]
[]
[null,null,"7suiviBimgD","D",null,"12points3imgD","D"]
[]
[]
[]
[null,null,"12points5imgD","D",null,"12points8imgD","D"]
[]
[]
[]
[null,null,"12points4imgD","D",null,"26steveimgD","D"]
[]
[null,null,null,null,null,null,null,null,null,"parcours 6 balises JO"]
[]
[null,null,"6j1imgD","D",null,"6j2imgD","D"]
[]
[]
[]
[null,null,"6j3imgD","D",null,"6j4imgD","D"]
[]
[]
[]
[null,null,"6j5imgD","D",null,"6j6imgD","D"]
[]
[]
[]
[null,null,"6j7imgD","D",null,"6j8imgD","D"]
[]
[]
[]
[null,null,"6j9imgD","D",null,"6j10imgD","D"]
[]
[]
[]
[null,null,"6SIbleuimgD","D",null,"4SIjoimgD","D"]
[]
[]
[]
[null,null,"8SIrougeimgD","D",null,"7SIvioletimgD","D"]
[]
[]
[]
[null,null,"6SIvertimgD","D",null,9,"D"]
[]
[null,null,"L'ALCHIMISTE",null,null,"L'ALCHIMISTE",null,null,null,"L'ALCHIMISTE"]
[]
[null,null,"L'alchimiste-carteD-A","D",null,"L'alchimiste-carte41-B",41]
[null,null,"Debut histoire + Direction la balise 41-A",null,null,"par pr le Marco 50"]
[null,null,"L'ALCHIMISTE",null,null,"L'ALCHIMISTE"]
[]
[null,null,"L'alchimiste-txt50-C",50,null,"L'alchimiste-carteimg45-D",45]
[null,null,"texte a suivre pr aller vers la balise 45",null,null,"img 3D château eau balise 11"]
[null,null,"L'ALCHIMISTE",null,null,"L'ALCHIMISTE"]
[]
[null,null,"L'alchimiste-img11-+-D",11,null,"L'alchimiste-txtD","D"]
[null,null,"photo du banc a cote du depart"]
[null,null,"L'ALCHIMISTE",null,null,"L'ALCHIMISTE"]
[]
[null,null,"L'alchimiste-pdfof","D",null,"L'alchimiste-pdfoffc","D"]
[]
[null,null,"L'ORACLE",null,null,"L'ORACLE",null,null,null,"L'ORACLE"]
[]
[null,null,"Oracle-carteD-A","D",null,"Oracle-txtA74-B",74]
[null,null,"Giovanni vers le monastère B74",null,null,"Giovanni se réveilla et raconta son histoire : \"Enfant, j'étais amoureux de la fille du Doge Vénitien : Elena. Mais alors que je l'espionnait je me fit surprendre et fut punis complètement àl'EST de ce monastère. Juste après le boulevard de la jeunesse à côté de la construction\"."]
[null,null,"L'ORACLE",null,null,"L'ORACLE"]
[]
[null,null,"Oracle-carteB74-C",46,null,"Oracle-smsC41-D",41,null,null,null,"Balise 40"]
[null,null,null,null,null,"Giovanni envoya une lettre au maitre : je suis bien arrivé à Venise.. Comment vais-je retrouver Elena ? Réponse : suit la route qui part à l'Ouest et à 200m sur ta gauche tu trouveras un bateau. "]
[null,null,"L'ORACLE",null,null,"L'ORACLE"]
[]
[null,null,"Oracle-carteD41-E",40,null,"Oracle-imgE39-F",39]
[null,null,null,null,null,"Tu peux soit prendre chemin soit route"]
[null,null,"L'ORACLE",null,null,"L'ORACLE"]
[]
[null,null,"Oracle-carteF38-G",38,null,"Oracle-smsG8-D",8]
[null,null,null,null,null,"Il fut arrêté en chemin par des hommes du gouverneur qui n'était autre que le père d'Elena. Et personne ne put empêcher l'exécution. Son corps fut ensuite rapatrié dans la cabane du maitre par Elena. Giovanni , sans le savoir, laissait ainsi derrière lui ... ce qu'avait écrit Maitre Lucius dans sa lettre..."]
[null,null,"L'ORACLE",null,null,"L'ORACLE"]
[null,null,"Lettre : tu aimeras 2 femmes, tu engendreras 2 enfants mais tu ne vivras pas assez vieux pour les voir. L'arbre de la connaissance du bien et du mal est en fait celui de l'accompli et de l'inaccompli…",null,null,"LA lettre est elle revenue ?"]
[null,null,"Imprimer 3 lettres","D",null,9,"D"]
[null,null,"x",null,null,"x"]
[null,null,"Le tueur du parc",null,null,"Le tueur du parc",null,null,null,"LE TUEUR DU PARC"]
[]
[null,null,"Le tueur-carteD-A","d",null,"le tueur-carte44-B",44]
[null,null,"x",null,null,"x"]
[null,null,"Le tueur du parc",null,null,"Le tueur du parc"]
[]
[null,null,"le tueur-carte43-C",43,null,"le tueur-carte42-D",42]
[null,null,"x",null,null,"x"]
[null,null,"Le tueur du parc",null,null,"Le tueur du parc"]
[]
[null,null,"le tueur-sms29-E",29,null,"le tueur-carte30-F",30]
[null,null,"le tueur a été vu",null,null,"x"]
[null,null,"Le tueur du parc",null,null,"Le tueur du parc"]
[]
[null,null,"le tueur-txt7-D",7,null,"le tueur-vidD","d"]
[null,null,"x",null,null,"x"]
[null,null,"x",null,null,"x"]
[]
[null,null,"carte direction balise 39","d",null,"img direction balise 38","d"]
[null,null,"x",null,null,"x"]

{"sheet":"CARTONCONTROLE","index":20,"n_rows":70,"n_cols":43,"rows_kept":70,"cut":false,"hidden":false,"merged":[[70,3,70,4],[70,7,70,8],[70,11,70,12],[70,15,70,16],[70,19,70,20],[59,37,59,38],[70,25,70,26],[70,29,70,30],[70,33,70,34],[70,37,70,38],[59,7,59,8],[59,11,59,12],[59,15,59,16],[59,19,59,20],[59,25,59,26],[59,29,59,30],[59,33,59,34],[55,41,55,42],[70,41,70,42],[69,25,69,26],[69,29,69,30],[69,33,69,34],[69,37,69,38],[69,41,69,42],[56,3,56,4],[56,7,56,8],[56,11,56,12],[56,15,56,16],[56,19,56,20],[59,41,59,42],[69,3,69,4],[69,7,69,8],[69,11,69,12],[69,15,69,16],[69,19,69,20],[56,25,56,26],[56,29,56,30],[56,33,56,34],[56,37,56,38],[56,41,56,42],[59,3,59,4],[55,3,55,4],[55,7,55,8],[55,11,55,12],[55,15,55,16],[55,19,55,20],[55,25,55,26],[55,29,55,30],[55,33,55,34],[55,37,55,38],[42,25,42,26],[42,29,42,30],[42,33,42,34],[42,37,42,38],[42,41,42,42],[45,3,45,4],[45,7,45,8],[45,11,45,12],[45,15,45,16],[45,19,45,20],[45,25,45,26],[45,29,45,30],[45,33,45,34],[45,37,45,38],[45,41,45,42],[31,25,31,26],[31,29,31,30],[31,33,31,34],[31,37,31,38],[31,41,31,42],[41,25,41,26],[41,29,41,30],[41,33,41,34],[41,37,41,38],[41,41,41,42],[27,25,27,26],[27,29,27,30],[27,33,27,34],[27,37,27,38],[27,41,27,42],[28,25,28,26],[28,29,28,30],[28,33,28,34],[28,37,28,38],[28,41,28,42],[14,29,14,30],[14,33,14,34],[14,37,14,38],[14,41,14,42],[17,25,17,26],[17,29,17,30],[17,33,17,34],[17,37,17,38],[17,41,17,42],[3,29,3,30],[3,33,3,34],[3,37,3,38],[3,41,3,42],[13,25,13,26],[13,29,13,30],[13,33,13,34],[13,37,13,38],[13,41,13,42],[41,3,41,4],[41,7,41,8],[41,11,41,12],[41,15,41,16],[41,19,41,20],[42,3,42,4],[42,7,42,8],[42,11,42,12],[42,15,42,16],[42,19,42,20],[28,3,28,4],[28,7,28,8],[28,11,28,12],[28,15,28,16],[28,19,28,20],[31,3,31,4],[31,7,31,8],[31,11,31,12],[31,15,31,16],[31,19,31,20],[17,3,17,4],[17,7,17,8],[17,11,17,12],[17,15,17,16],[17,19,17,20],[27,3,27,4],[27,7,27,8],[27,11,27,12],[27,15,27,16],[27,19,27,20],[3,3,3,4],[3,7,3,8],[3,11,3,12],[3,15,3,16],[3,19,3,20],[3,25,3,26],[13,15,13,16],[14,15,14,16],[13,19,13,20],[14,19,14,20],[13,3,13,4],[14,3,14,4],[13,7,13,8],[14,7,14,8],[13,11,13,12],[14,11,14,12],[14,25,14,26]]}
[]
[]
[]
[]
[]
[]
[]
[]
[]
[]
[null,null,null,"Numéro","F",null,null,"Numéro","G",null,null,"Numéro","H",null,null,"Numéro","I",null,null,"Numéro","J",null,null,null,null,"Numéro","Code",null,null,"Numéro","Code",null,null,"Numéro","Code",null,null,"Numéro","Code",null,null,"Numéro","Code"]
[]
[]
[null,null,null,"Poinçon",null,null,null,"Poinçon",null,null,null,"Poinçon",null,null,null,"Poinçon",null,null,null,"Poinçon",null,null,null,null,null,"Poinçon",null,null,null,"Poinçon",null,null,null,"Poinçon",null,null,null,"Poinçon",null,null,null,"Poinçon"]
[]
[]
[]
[]
[]
[]
[]
[]
[]
[]
[null,null,null,"Numéro","Code",null,null,"Numéro","Code",null,null,"Numéro","Code",null,null,"Numéro","Code",null,null,"Numéro","Code",null,null,null,null,"Numéro","Code",null,null,"Numéro","Code",null,null,"Numéro","Code",null,null,"Numéro","Code",null,null,"Numéro","Code"]
[]
[]
[null,null,null,"Poinçon",null,null,null,"Poinçon",null,null,null,"Poinçon",null,null,null,"Poinçon",null,null,null,"Poinçon",null,null,null,null,null,"Poinçon",null,null,null,"Poinçon",null,null,null,"Poinçon",null,null,null,"Poinçon",null,null,null,"Poinçon"]
[]
[]
[]
[]
[]
[]
[]
[]
[]
[]
[null,null,null,"Numéro","Code",null,null,"Numéro","Code",null,null,"Numéro","Code",null,null,"Numéro","Code",null,null,"Numéro","Code",null,null,null,null,"Numéro","Code",null,null,"Numéro","Code",null,null,"Numéro","Code",null,null,"Numéro","Code",null,null,"Numéro","Code"]
[]
[]
[null,null,null,"Poinçon",null,null,null,"Poinçon",null,null,null,"Poinçon",null,null,null,"Poinçon",null,null,null,"Poinçon",null,null,null,null,null,"Poinçon",null,null,null,"Poinçon",null,null,null,"Poinçon",null,null,null,"Poinçon",null,null,null,"Poinçon"]
[]
[]
[]
[]
[]
[]
[]
[]
[]
[]
[null,null,null,"Numéro","Code",null,null,"Numéro","Code",null,null,"Numéro","Code",null,null,"Numéro","Code",null,null,"Numéro","Code",null,null,null,null,"Numéro","Code",null,null,"Numéro","Code",null,null,"Numéro","Code",null,null,"Numéro","Code",null,null,"Numéro","Code"]
[]
[]
[null,null,null,"Poinçon",null,null,null,"Poinçon",null,null,null,"Poinçon",null,null,null,"Poinçon",null,null,null,"Poinçon",null,null,null,null,null,"Poinçon",null,null,null,"Poinçon",null,null,null,"Poinçon",null,null,null,"Poinçon",null,null,null,"Poinçon"]
[]
[]
[]
[]
[]
[]
[]
[]
[]
[]
[null,null,null,"Numéro","Code",null,null,"Numéro","Code",null,null,"Numéro","Code",null,null,"Numéro","Code",null,null,"Numéro","Code",null,null,null,null,"Numéro","Code",null,null,"Numéro","Code",null,null,"Numéro","Code",null,null,"Numéro","Code",null,null,"Numéro","Code"]
[]
[]
[null,null,null,"Poinçon",null,null,null,"Poinçon",null,null,null,"Poinçon",null,null,null,"Poinçon",null,null,null,"Poinçon",null,null,null,null,null,"Poinçon",null,null,null,"Poinçon",null,null,null,"Poinçon",null,null,null,"Poinçon",null,null,null,"Poinçon"]

{"sheet":"APPEL","index":21,"n_rows":38,"n_cols":27,"rows_kept":38,"cut":false,"hidden":false,"merged":[[0,19,0,20],[0,22,0,23],[0,25,0,26],[0,1,0,2],[0,4,0,5],[0,7,0,8],[0,10,0,11],[0,13,0,14],[0,16,0,17]]}
[null,"TELEC",null,null,"1PROE",null,null,"TGA",null,null,"1EVS",null,null,"1GA",null,null,"1TU",null,null,"STAGE"]
[null,"NOMS","PRENOMS",null,"NOMS","PRENOMS",null,"NOMS","PRENOMS",null,"NOMS","PRENOMS",null,"NOMS","PRENOMS",null,"NOMS","PRENOMS",null,"NOMS","PRENOMS",null,"NOMS","PRENOMS",null,"NOMS","PRENOMS"]
[1,null,"Abdelbasset",null,null,"Abdelwahid",null,null,"Bertile",null,null,"Abir",null,null,"Camille",null,null,"Amir",null,null,"POL"]
[2,null,"Alen",null,null,"Ali",null,null,"Chirine",null,null,"Adama",null,null,"Emilie",null,null,"Badrane",null,null,"CARINE"]
[3,null,"Bilal",null,null,"Fares",null,null,"Isma",null,null,"Elfeta",null,null,"Gehna",null,null,"Emre",null,null,"BASTIEN"]
[4,null,"Christian",null,null,"Gilles",null,null,"Jihenne",null,null,"Faiz",null,null,"Ismeta",null,null,"Hedi",null,null,"CORALINE"]
[5,null,"Halis",null,null,"Haykel",null,null,"Kandji",null,null,"Fares",null,null,"Janette",null,null,"Mansour",null,null,"GREGORY"]
[6,null,"Laurent",null,null,"Mohamed",null,null,"Kenza",null,null,"Hocine",null,null,"Jenna",null,null,"Mounia",null,null,"THOMAS"]
[7,null,"Mickael",null,null,"Mohamed",null,null,"Khayra",null,null,"Imen",null,null,"Juliana",null,null,"Mustafa",null,null,"ALAIN"]
[8,null,"Salim",null,null,"Mohamed",null,null,"Liddia",null,null,"Jenny",null,null,"Kelly",null,null,"Sombate rothanak",null,null,"QUENTIN"]
[9,null,"Willy",null,null,"Phi tram",null,null,"Louiza",null,null,"Jennyline",null,null,"Laura",null,null,"Wail",null,null,"BAPTISTE"]
[10,null,null,null,null,"Ryad",null,null,"Lydia",null,null,"Kévin",null,null,"Lea",null,null,"Yohann",null,null,"FRANCK"]
[11,null,null,null,null,"Xhorxh",null,null,"Margarita",null,null,"Melvine",null,null,"Linda",null,null,"Zayd",null,null,"VALENTIN"]
[12,null,null,null,null,"Yassine",null,null,"Mouna",null,null,"Nesrine",null,null,"Maïssane",null,null,null,null,null,"BENJAMIN"]
[13,null,null,null,null,null,null,null,"Nadia",null,null,"Ruth",null,null,"Mélinda",null,null,null,null,null,"ANDY"]
[14,null,null,null,null,null,null,null,"Naila",null,null,"Sabrina",null,null,"Meltem",null,null,null,null,null,"OLIVIER"]
[15,null,null,null,null,null,null,null,"Naoures",null,null,"Sandra",null,null,"Morgane",null,null,null,null,null,"CHRISTIAN"]
[16,null,null,null,null,null,null,null,"Nessrine",null,null,"Siwar",null,null,"Naomie",null,null,null,null,null,"CELINE"]
[17,null,null,null,null,null,null,null,"Noemie",null,null,"Suleyman",null,null,"Nejma",null,null,null,null,null,"SEBASTIEN"]
[18,null,null,null,null,null,null,null,"Sarinece",null,null,null,null,null,"Nore-ymen",null,null,null,null,null,"PASCAL"]
[19,null,null,null,null,null,null,null,"Sofia",null,null,null,null,null,"Rachda",null,null,null,null,null,"CAROLE"]
[20,null,null,null,null,null,null,null,"Thais sirine",null,null,null,null,null,"Sauraya",null,null,null,null,null,"ISABELLE"]
[21,null,null,null,null,null,null,null,"Victoria",null,null,null,null,null,"Sibel",null,null,null,null,null,"DAVID"]
[22,null,null,null,null,null,null,null,"Wiem",null,null,null,null,null,"Wacilla",null,null,null,null,null,"FRANCOIS"]
[23,null,null,null,null,null,null,null,"Ynès",null,null,null,null,null,"Yosr",null,null,null,null,null,"Mick"]
[24,null,null,null,null,null,null,null,"Zineb",null,null,null,null,null,"Zekiye"]
[25]
[26]
[27]
[28]
[29]
[30]
[31]
[32]
[33]
[34]
[35]
[36]

{"sheet":"DEBUT","index":22,"n_rows":118,"n_cols":121,"rows_kept":118,"cut":false,"hidden":false,"merged":[]}
[null,null,null,null,null,null,null,null,null,null,null,null,null,null,null,"SEANCE ",null,null,"SEANCE",null,null,"SEANCE",null,null,"SEANCE",null,null,"SEANCE",null,null,"SEANCE",null,null,"SEANCE",null,null,"SEANCE",null,null,"SEANCE",null,null,"SEANCE",null,null,"SEANCE",null,null,"SEANCE",null,null,"SEANCE",null,null,"SEANCE",null,null,"SEANCE",null,null,"SEANCE",null,null,"SEANCE",null,null,"SEANCE",null,null,"SEANCE",null,null,"SEANCE",null,null,"SEANCE",null,null,"SEANCE",null,null,"SEANCE",null,null,"SEANCE",null,null,"SEANCE",null,null,"SEANCE",null,null,"SEANCE",null,null,"SEANCE",null,null,"SEANCE",null,null,"SEANCE",null,null,"SEANCE",null,null,"SEANCE",null,null,"SEANCE",null,null,"SEANCE",null,null,"SEANCE",null,null,"SEANCE"]
[]
[null,null,null,null,null,null,null,null,null,null,null,null,null,null,{"$f":"CARTE!AS9","v":"21Steve"},{"$f":"CONCATENATE(O3,\"bis\")","v":"21Stevebis"},null,{"$f":"CARTE!AX9","v":"14ORANGE"},{"$f":"CONCATENATE(R3,\"bis\")","v":"14ORANGEbis"},null,{"$f":"CARTE!BB10","v":"6ROUGE"},{"$f":"CONCATENATE(U3,\"bis\")","v":"6ROUGEbis"},null,{"$f":"CARTE!BG10","v":"6ZOULOU"},{"$f":"CARTE!BH10","v":"6ZOULOUbis"},null,{"$f":"CARTE!BL10","v":"8violet"},{"$f":"CARTE!BM10","v":"8violetbis"},null,{"$f":"CARTE!BQ10","v":"6BLUE"},{"$f":"CONCATENATE(AD3,\"bis\")","v":"6BLUEbis"},null,{"$f":"CARTE!BV10","v":"Parcours 7bleu"},{"$f":"CARTE!BW10","v":"Parcours 7bleubis"},null,{"$f":"CARTE!CA10","v":"rouge"},{"$f":"CARTE!CB10","v":"rougebis"},null,{"$f":"CARTE!CF10","v":"gris"},{"$f":"CARTE!CG10","v":"grisbis"},null,{"$f":"CARTE!CK10","v":"Parcours 7HERBE"},{"$f":"CARTE!CL10","v":"Parcours 7HERBEbis"},null,{"$f":"CARTE!CP10","v":"Parcours 7CIEL"},{"$f":"CARTE!CQ10","v":"Parcours 7CIELbis"},{"$f":"CARTE!CP10","v":"Parcours 7CIEL"},{"$f":"CARTE!CU10","v":"le tueur du parc"},{"$f":"CARTE!CV10","v":"le tueur du parcbis"},null,{"$f":"CARTE!CZ10","v":"Parcours 6J2"},{"$f":"CARTE!DA10","v":"Parcours 6J2bis"},null,{"$f":"CARTE!DE10","v":"Parcours 6J3"},{"$f":"CARTE!DF10","v":"Parcours 6J3bis"},{"$f":"CARTE!CY10","v":"le tueur du parcpoints"},{"$f":"CARTE!DJ10","v":"Parcours 6J4"},{"$f":"CARTE!DK10","v":"Parcours 6J4bis"},{"$f":"CARTE!DB10","v":0},{"$f":"CARTE!DO10","v":"Parcours 6J5"},{"$f":"CARTE!DP10","v":"Parcours 6J5bis"},null,{"$f":"CARTE!DT10","v":"Parcours 6J6"},{"$f":"CARTE!DU10","v":"Parcours 6J6bis"},{"$f":"CARTE!DH10","v":0},{"$f":"CARTE!DY10","v":"Parcours 6J7"},{"$f":"CARTE!DZ10","v":"Parcours 6J7bis"},null,{"$f":"CARTE!ED10","v":"Parcours 6J8"},{"$f":"CARTE!EE10","v":"Parcours 6J8bis"},{"$f":"CARTE!DN10","v":"Parcours 6J4points"},{"$f":"CARTE!EI10","v":"Parcours 6J9"},{"$f":"CARTE!EJ10","v":"Parcours 6J9bis"},null,{"$f":"CARTE!EN10","v":"Parcours 6J10"},{"$f":"CARTE!EO10","v":"Parcours 6J10bis"},null,{"$f":"CARTE!ES10","v":"Parcours 7SuiviB"},{"$f":"CARTE!ET10","v":"Parcours 7SuiviBbis"},null,{"$f":"CARTE!EX10","v":"Parcours 6suiviR"},{"$f":"CARTE!EY10","v":"Parcours 6suiviRbis"},null,{"$f":"CARTE!FC10","v":"alchimiste"},{"$f":"CARTE!FD10","v":"alchimistebis"},null,{"$f":"CARTE!FH10","v":"Parcours 5rando3"},{"$f":"CARTE!FI10","v":"Parcours 5rando3bis"},null,{"$f":"CARTE!FM10","v":"Parcours 4selfie1"},{"$f":"CARTE!FN10","v":"Parcours 4selfie1bis"},null,{"$f":"CARTE!FR10","v":"Parcours 5trail1"},{"$f":"CARTE!FS10","v":"Parcours 5trail1bis"},null,{"$f":"CARTE!FW10","v":"Parcours 5sportif1"},{"$f":"CARTE!FX10","v":"Parcours 5sportif1bis"},null,{"$f":"CARTE!GB10","v":"Parcours 12points5"},{"$f":"CARTE!GC10","v":"Parcours 12points5bis"},null,{"$f":"CARTE!GG10","v":"Parcours 12points8"},{"$f":"CARTE!GH10","v":"Parcours 12points8bis"},null,{"$f":"CARTE!GL10","v":"Parcours 12points3"},{"$f":"CARTE!GM10","v":"Parcours 12points3bis"},null,{"$f":"CARTE!GQ10","v":"Parcours 12points4"},{"$f":"CARTE!GR10","v":"Parcours 12points4bis"},null,{"$f":"CARTE!GV10","v":"L'oracle della luna"},{"$f":"CARTE!GW10","v":"L'oracle della lunabis"},null,{"$f":"CARTE!HA10","v":"Parcours 8SIVIOLET"},{"$f":"CARTE!HB10","v":"Parcours 8SIVIOLETbis"},null,{"$f":"CARTE!HF10","v":"Parcours 7SIVERT"},{"$f":"CARTE!HG10","v":"Parcours 7SIVERTbis"},null,{"$f":"CARTE!HK10","v":"Parcours 9SIBLEU"},{"$f":"CARTE!HL10","v":"Parcours 9SIBLEUbis"}]
["Temps limite","Heures départ","CODES","Postes","Définition ","Code type Flashcode","Pts rapportés","POINCOIN","X","Y","Niveaux","Validé","Liste des parcours",null,"N°de la balise sur le parcours","N°Balise sur carte mère",null,"N°de la balise sur le parcours","N°Balise sur carte mère",null,"N°de la balise sur le parcours","N°Balise sur carte mère",null,"N°de la balise sur le parcours","N°Balise sur carte mère",null,"N°de la balise sur le parcours","N°Balise sur carte mère",null,"N°de la balise sur le parcours","N°Balise sur carte mère",null,"N°de la balise sur le parcours","N°Balise sur carte mère",null,{"$f":"CARTE!CA11","v":0},{"$f":"CARTE!CB11","v":"Balise carte mère"},null,{"$f":"CARTE!CF11","v":0},{"$f":"CARTE!CE11","v":0},null,{"$f":"CARTE!CK11","v":0},{"$f":"CARTE!CL11","v":"Balise carte mère"},null,{"$f":"CARTE!CP11","v":0},{"$f":"CARTE!CQ11","v":"Balise carte mère"},null,{"$f":"CARTE!CU11","v":0},{"$f":"CARTE!CV11","v":"Balise carte mère"},null,{"$f":"CARTE!CZ11","v":0},{"$f":"CARTE!DA11","v":"Balise carte mère"},null,{"$f":"CARTE!DE11","v":0},{"$f":"CARTE!DF11","v":"Balise carte mère"},{"$f":"CARTE!CY11","v":0},{"$f":"CARTE!DJ11","v":0},{"$f":"CARTE!DK11","v":"Balise carte mère"},{"$f":"CARTE!DB11","v":"x"},{"$f":"CARTE!DO11","v":0},{"$f":"CARTE!DP11","v":"Balise carte mère"},null,{"$f":"CARTE!DT11","v":0},{"$f":"CARTE!DU11","v":"Balise carte mère"},{"$f":"CARTE!DH11","v":"y"},{"$f":"CARTE!DY11","v":0},{"$f":"CARTE!DZ11","v":"Balise carte mère"},null,{"$f":"CARTE!ED11","v":0},{"$f":"CARTE!EE11","v":"Balise carte mère"},{"$f":"CARTE!DN11","v":0},{"$f":"CARTE!EI11","v":0},{"$f":"CARTE!EJ11","v":"Balise carte mère"},null,{"$f":"CARTE!EN11","v":0},{"$f":"CARTE!EO11","v":"Balise carte mère"},null,{"$f":"CARTE!ES11","v":0},{"$f":"CARTE!ET11","v":"Balise carte mère"},null,{"$f":"CARTE!EX11","v":0},{"$f":"CARTE!EY11","v":"Balise carte mère"},null,{"$f":"CARTE!FC11","v":0},{"$f":"CARTE!FD11","v":"Balise carte mère"},null,{"$f":"CARTE!FH11","v":0},{"$f":"CARTE!FI11","v":"Balise carte mère"},null,{"$f":"CARTE!FM11","v":0},{"$f":"CARTE!FN11","v":"Balise carte mère"},null,{"$f":"CARTE!FR11","v":0},{"$f":"CARTE!FS11","v":"Balise carte mère"},null,{"$f":"CARTE!FW11","v":0},{"$f":"CARTE!FX11","v":"Balise carte mère"},null,{"$f":"CARTE!GB11","v":0},{"$f":"CARTE!GC11","v":"Balise carte mère"},null,{"$f":"CARTE!GG11","v":0},{"$f":"CARTE!GH11","v":"Balise carte mère"},null,{"$f":"CARTE!GL11","v":0},{"$f":"CARTE!GM11","v":"Balise carte mère"},null,{"$f":"CARTE!GQ11","v":0},{"$f":"CARTE!GR11","v":"Balise carte mère"},null,{"$f":"CARTE!GV11","v":0},{"$f":"CARTE!GW11","v":"Balise carte mère"},null,{"$f":"CARTE!HA11","v":0},{"$f":"CARTE!HB11","v":"Balise carte mère"},null,{"$f":"CARTE!HF11","v":0},{"$f":"CARTE!HG11","v":"Balise carte mère"},null,{"$f":"CARTE!HK11","v":0},{"$f":"CARTE!HL11","v":"Balise carte mère"}]
[30.020833333333332,"08:00:00",null,"D",null,null,null,null,{"$f":"CARTE!O11","v":156.41653442382812},{"$f":"CARTE!P11","v":184.20828247070312},null,"Validé",{"$f":"CARTE!AM4","v":"21Steve"},null,{"$f":"CARTE!AR12","v":"A"},{"$f":"CARTE!AS12","v":12},null,{"$f":"CARTE!AW12","v":"A"},{"$f":"IF(CARTE!AX12=\"\",\"\",CARTE!AX12)","v":7},null,{"$f":"CARTE!BB12","v":"A"},{"$f":"IF(CARTE!BC12=\"\",\"\",CARTE!BC12)","v":7},null,{"$f":"CARTE!BG12","v":"A"},{"$f":"IF(CARTE!BH12=\"\",\"\",CARTE!BH12)","v":7},null,{"$f":"CARTE!BL12","v":"A"},{"$f":"CARTE!BM12","v":7},null,{"$f":"CARTE!BQ12","v":"A"},{"$f":"CARTE!BR12","v":7},null,{"$f":"CARTE!BV12","v":"A"},{"$f":"CARTE!BW12","v":7},null,{"$f":"CARTE!CA12","v":"A"},{"$f":"CARTE!CB12","v":7},null,{"$f":"CARTE!CF12","v":"A"},{"$f":"CARTE!CG12","v":7},null,{"$f":"CARTE!CK12","v":"A"},{"$f":"CARTE!CL12","v":7},null,{"$f":"CARTE!CP12","v":"A"},{"$f":"CARTE!CQ12","v":7},null,{"$f":"CARTE!CU12","v":"A"},{"$f":"CARTE!CV12","v":7},null,{"$f":"CARTE!CZ12","v":"A"},{"$f":"CARTE!DA12","v":7},null,{"$f":"CARTE!DE12","v":"A"},{"$f":"CARTE!DF12","v":7},{"$f":"CARTE!CY12","v":1},{"$f":"CARTE!DJ12","v":"A"},{"$f":"CARTE!DK12","v":7},{"$f":"CARTE!DB12","v":116},{"$f":"CARTE!DO12","v":"A"},{"$f":"CARTE!DP12","v":7},null,{"$f":"CARTE!DT12","v":"A"},{"$f":"CARTE!DU12","v":7},{"$f":"CARTE!DH12","v":153},{"$f":"CARTE!DY12","v":"A"},{"$f":"CARTE!DZ12","v":7},null,{"$f":"CARTE!ED12","v":"A"},{"$f":"CARTE!EE12","v":7},{"$f":"CARTE!DN12","v":1},{"$f":"CARTE!EI12","v":"A"},{"$f":"CARTE!EJ12","v":7},null,{"$f":"CARTE!EN12","v":"A"},{"$f":"CARTE!EO12","v":7},null,{"$f":"CARTE!ES12","v":"A"},{"$f":"CARTE!ET12","v":7},null,{"$f":"CARTE!EX12","v":"A"},{"$f":"CARTE!EY12","v":7},null,{"$f":"CARTE!FC12","v":"A"},{"$f":"CARTE!FD12","v":7},null,{"$f":"CARTE!FH12","v":"A"},{"$f":"CARTE!FI12","v":7},null,{"$f":"CARTE!FM12","v":"A"},{"$f":"CARTE!FN12","v":7},null,{"$f":"CARTE!FR12","v":"A"},{"$f":"CARTE!FS12","v":7},null,{"$f":"CARTE!FW12","v":"A"},{"$f":"CARTE!FX12","v":7},null,{"$f":"CARTE!GB12","v":"A"},{"$f":"CARTE!GC12","v":7},null,{"$f":"CARTE!GG12","v":"A"},{"$f":"CARTE!GH12","v":7},null,{"$f":"CARTE!GL12","v":"A"},{"$f":"CARTE!GM12","v":7},null,{"$f":"CARTE!GQ12","v":"A"},{"$f":"CARTE!GR12","v":7},null,{"$f":"CARTE!GV12","v":"A"},{"$f":"CARTE!GW12","v":7},null,{"$f":"CARTE!HA12","v":"A"},{"$f":"CARTE!HB12","v":7},null,{"$f":"CARTE!HF12","v":"A"},{"$f":"CARTE!HG12","v":7},null,{"$f":"CARTE!HK12","v":"A"},{"$f":"CARTE!HL12","v":7}]
[30.021527777777777,"08:05:00",null,1,"Extrémité cloture",null,1,null,{"$f":"CARTE!O12","v":152},{"$f":"CARTE!P12","v":40},"N3","En course",{"$f":"CARTE!AM5","v":"14ORANGE"},null,{"$f":"CARTE!AR13","v":"B"},{"$f":"IF(CARTE!AS13=\"\",\"\",CARTE!AS13)","v":13},null,{"$f":"CARTE!AW13","v":"B"},{"$f":"IF(CARTE!AX13=\"\",\"\",CARTE!AX13)","v":10},null,{"$f":"CARTE!BB13","v":"B"},{"$f":"IF(CARTE!BC13=\"\",\"\",CARTE!BC13)","v":10},null,{"$f":"CARTE!BG13","v":"B"},{"$f":"IF(CARTE!BH13=\"\",\"\",CARTE!BH13)","v":10},null,{"$f":"CARTE!BL13","v":"B"},{"$f":"CARTE!BM13","v":10},null,{"$f":"CARTE!BQ13","v":"B"},{"$f":"CARTE!BR13","v":10},null,{"$f":"CARTE!BV13","v":"B"},{"$f":"CARTE!BW13","v":10},null,{"$f":"CARTE!CA13","v":"B"},{"$f":"CARTE!CB13","v":10},null,{"$f":"CARTE!CF13","v":"B"},{"$f":"CARTE!CG13","v":10},null,{"$f":"CARTE!CK13","v":"B"},{"$f":"CARTE!CL13","v":10},null,{"$f":"CARTE!CP13","v":"B"},{"$f":"CARTE!CQ13","v":10},null,{"$f":"CARTE!CU13","v":"B"},{"$f":"CARTE!CV13","v":10},null,{"$f":"CARTE!CZ13","v":"B"},{"$f":"CARTE!DA13","v":10},null,{"$f":"CARTE!DE13","v":"B"},{"$f":"CARTE!DF13","v":10},{"$f":"CARTE!CY13","v":2},{"$f":"CARTE!DJ13","v":"B"},{"$f":"CARTE!DK13","v":10},{"$f":"CARTE!DB13","v":178},{"$f":"CARTE!DO13","v":"B"},{"$f":"CARTE!DP13","v":10},null,{"$f":"CARTE!DT13","v":"B"},{"$f":"CARTE!DU13","v":10},{"$f":"CARTE!DH13","v":96},{"$f":"CARTE!DY13","v":"B"},{"$f":"CARTE!DZ13","v":10},null,{"$f":"CARTE!ED13","v":"B"},{"$f":"CARTE!EE13","v":10},{"$f":"CARTE!DN13","v":2},{"$f":"CARTE!EI13","v":"B"},{"$f":"CARTE!EJ13","v":10},null,{"$f":"CARTE!EN13","v":"B"},{"$f":"CARTE!EO13","v":10},null,{"$f":"CARTE!ES13","v":"B"},{"$f":"CARTE!ET13","v":10},null,{"$f":"CARTE!EX13","v":"B"},{"$f":"CARTE!EY13","v":10},null,{"$f":"CARTE!FC13","v":"B"},{"$f":"CARTE!FD13","v":10},null,{"$f":"CARTE!FH13","v":"B"},{"$f":"CARTE!FI13","v":10},null,{"$f":"CARTE!FM13","v":"B"},{"$f":"CARTE!FN13","v":10},null,{"$f":"CARTE!FR13","v":"B"},{"$f":"CARTE!FS13","v":10},null,{"$f":"CARTE!FW13","v":"B"},{"$f":"CARTE!FX13","v":10},null,{"$f":"CARTE!GB13","v":"B"},{"$f":"CARTE!GC13","v":10},null,{"$f":"CARTE!GG13","v":"B"},{"$f":"CARTE!GH13","v":10},null,{"$f":"CARTE!GL13","v":"B"},{"$f":"CARTE!GM13","v":10},null,{"$f":"CARTE!GQ13","v":"B"},{"$f":"CARTE!GR13","v":10},null,{"$f":"CARTE!GV13","v":"B"},{"$f":"CARTE!GW13","v":10},null,{"$f":"CARTE!HA13","v":"B"},{"$f":"CARTE!HB13","v":10},null,{"$f":"CARTE!HF13","v":"B"},{"$f":"CARTE!HG13","v":10},null,{"$f":"CARTE!HK13","v":"B"},{"$f":"CARTE!HL13","v":10}]
[30.022222222222222,"08:10:00",null,2,"Dans le rentrant",null,1,null,{"$f":"CARTE!O13","v":151},{"$f":"CARTE!P13","v":58},"N4",null,{"$f":"CARTE!AM6","v":"6ROUGE"},null,{"$f":"CARTE!AR14","v":"C"},{"$f":"IF(CARTE!AS14=\"\",\"\",CARTE!AS14)","v":11},null,{"$f":"CARTE!AW14","v":"C"},{"$f":"IF(CARTE!AX14=\"\",\"\",CARTE!AX14)","v":11},null,{"$f":"CARTE!BB14","v":"C"},{"$f":"IF(CARTE!BC14=\"\",\"\",CARTE!BC14)","v":11},null,{"$f":"CARTE!BG14","v":"C"},{"$f":"IF(CARTE!BH14=\"\",\"\",CARTE!BH14)","v":11},null,{"$f":"CARTE!BL14","v":"C"},{"$f":"CARTE!BM14","v":11},null,{"$f":"CARTE!BQ14","v":"C"},{"$f":"CARTE!BR14","v":11},null,{"$f":"CARTE!BV14","v":"C"},{"$f":"CARTE!BW14","v":11},null,{"$f":"CARTE!CA14","v":"C"},{"$f":"CARTE!CB14","v":11},null,{"$f":"CARTE!CF14","v":"C"},{"$f":"CARTE!CG14","v":11},null,{"$f":"CARTE!CK14","v":"C"},{"$f":"CARTE!CL14","v":11},null,{"$f":"CARTE!CP14","v":"C"},{"$f":"CARTE!CQ14","v":11},null,{"$f":"CARTE!CU14","v":"C"},{"$f":"CARTE!CV14","v":11},null,{"$f":"CARTE!CZ14","v":"C"},{"$f":"CARTE!DA14","v":11},null,{"$f":"CARTE!DE14","v":"C"},{"$f":"CARTE!DF14","v":11},{"$f":"CARTE!CY14","v":2},{"$f":"CARTE!DJ14","v":"C"},{"$f":"CARTE!DK14","v":11},{"$f":"CARTE!DB14","v":220},{"$f":"CARTE!DO14","v":"C"},{"$f":"CARTE!DP14","v":11},null,{"$f":"CARTE!DT14","v":"C"},{"$f":"CARTE!DU14","v":11},{"$f":"CARTE!DH14","v":129},{"$f":"CARTE!DY14","v":"C"},{"$f":"CARTE!DZ14","v":11},null,{"$f":"CARTE!ED14","v":"C"},{"$f":"CARTE!EE14","v":11},{"$f":"CARTE!DN14","v":2},{"$f":"CARTE!EI14","v":"C"},{"$f":"CARTE!EJ14","v":11},null,{"$f":"CARTE!EN14","v":"C"},{"$f":"CARTE!EO14","v":11},null,{"$f":"CARTE!ES14","v":"C"},{"$f":"CARTE!ET14","v":11},null,{"$f":"CARTE!EX14","v":"C"},{"$f":"CARTE!EY14","v":11},null,{"$f":"CARTE!FC14","v":"C"},{"$f":"CARTE!FD14","v":11},null,{"$f":"CARTE!FH14","v":"C"},{"$f":"CARTE!FI14","v":11},null,{"$f":"CARTE!FM14","v":"C"},{"$f":"CARTE!FN14","v":11},null,{"$f":"CARTE!FR14","v":"C"},{"$f":"CARTE!FS14","v":11},null,{"$f":"CARTE!FW14","v":"C"},{"$f":"CARTE!FX14","v":11},null,{"$f":"CARTE!GB14","v":"C"},{"$f":"CARTE!GC14","v":11},null,{"$f":"CARTE!GG14","v":"C"},{"$f":"CARTE!GH14","v":11},null,{"$f":"CARTE!GL14","v":"C"},{"$f":"CARTE!GM14","v":11},null,{"$f":"CARTE!GQ14","v":"C"},{"$f":"CARTE!GR14","v":11},null,{"$f":"CARTE!GV14","v":"C"},{"$f":"CARTE!GW14","v":11},null,{"$f":"CARTE!HA14","v":"C"},{"$f":"CARTE!HB14","v":11},null,{"$f":"CARTE!HF14","v":"C"},{"$f":"CARTE!HG14","v":11},null,{"$f":"CARTE!HK14","v":"C"},{"$f":"CARTE!HL14","v":11}]
[30.022916666666667,"08:15:00",null,3,"Sommet de la colline",null,1,null,{"$f":"CARTE!O14","v":133},{"$f":"CARTE!P14","v":58},null,null,{"$f":"CARTE!AM7","v":"6ZOULOU"},null,{"$f":"CARTE!AR15","v":"D"},{"$f":"IF(CARTE!AS15=\"\",\"\",CARTE!AS15)","v":16},null,{"$f":"CARTE!AW15","v":"D"},{"$f":"IF(CARTE!AX15=\"\",\"\",CARTE!AX15)","v":1},null,{"$f":"CARTE!BB15","v":"D"},{"$f":"IF(CARTE!BC15=\"\",\"\",CARTE!BC15)","v":1},null,{"$f":"CARTE!BG15","v":"D"},{"$f":"IF(CARTE!BH15=\"\",\"\",CARTE!BH15)","v":1},null,{"$f":"CARTE!BL15","v":"D"},{"$f":"CARTE!BM15","v":1},null,{"$f":"CARTE!BQ15","v":"D"},{"$f":"CARTE!BR15","v":1},null,{"$f":"CARTE!BV15","v":"D"},{"$f":"CARTE!BW15","v":1},null,{"$f":"CARTE!CA15","v":"D"},{"$f":"CARTE!CB15","v":1},null,{"$f":"CARTE!CF15","v":"D"},{"$f":"CARTE!CG15","v":1},null,{"$f":"CARTE!CK15","v":"D"},{"$f":"CARTE!CL15","v":1},null,{"$f":"CARTE!CP15","v":"D"},{"$f":"CARTE!CQ15","v":1},null,{"$f":"CARTE!CU15","v":"D"},{"$f":"CARTE!CV15","v":1},null,{"$f":"CARTE!CZ15","v":"D"},{"$f":"CARTE!DA15","v":1},null,{"$f":"CARTE!DE15","v":"D"},{"$f":"CARTE!DF15","v":1},{"$f":"CARTE!CY15","v":2},{"$f":"CARTE!DJ15","v":"D"},{"$f":"CARTE!DK15","v":1},{"$f":"CARTE!DB15","v":152},{"$f":"CARTE!DO15","v":"D"},{"$f":"CARTE!DP15","v":1},null,{"$f":"CARTE!DT15","v":"D"},{"$f":"CARTE!DU15","v":1},{"$f":"CARTE!DH15","v":40},{"$f":"CARTE!DY15","v":"D"},{"$f":"CARTE!DZ15","v":1},null,{"$f":"CARTE!ED15","v":"D"},{"$f":"CARTE!EE15","v":1},{"$f":"CARTE!DN15","v":2},{"$f":"CARTE!EI15","v":"D"},{"$f":"CARTE!EJ15","v":1},null,{"$f":"CARTE!EN15","v":"D"},{"$f":"CARTE!EO15","v":1},null,{"$f":"CARTE!ES15","v":"D"},{"$f":"CARTE!ET15","v":1},null,{"$f":"CARTE!EX15","v":"D"},{"$f":"CARTE!EY15","v":1},null,{"$f":"CARTE!FC15","v":"D"},{"$f":"CARTE!FD15","v":1},null,{"$f":"CARTE!FH15","v":"D"},{"$f":"CARTE!FI15","v":1},null,{"$f":"CARTE!FM15","v":"D"},{"$f":"CARTE!FN15","v":1},null,{"$f":"CARTE!FR15","v":"D"},{"$f":"CARTE!FS15","v":1},null,{"$f":"CARTE!FW15","v":"D"},{"$f":"CARTE!FX15","v":1},null,{"$f":"CARTE!GB15","v":"D"},{"$f":"CARTE!GC15","v":1},null,{"$f":"CARTE!GG15","v":"D"},{"$f":"CARTE!GH15","v":1},null,{"$f":"CARTE!GL15","v":"D"},{"$f":"CARTE!GM15","v":1},null,{"$f":"CARTE!GQ15","v":"D"},{"$f":"CARTE!GR15","v":1},null,{"$f":"CARTE!GV15","v":"D"},{"$f":"CARTE!GW15","v":1},null,{"$f":"CARTE!HA15","v":"D"},{"$f":"CARTE!HB15","v":1},null,{"$f":"CARTE!HF15","v":"D"},{"$f":"CARTE!HG15","v":1},null,{"$f":"CARTE!HK15","v":"D"},{"$f":"CARTE!HL15","v":1}]
[30.023611111111112,"08:20:00",null,4,"Sommet de la colline",null,1,null,{"$f":"CARTE!O15","v":143},{"$f":"CARTE!P15","v":102},null,null,{"$f":"CARTE!AM8","v":"8violet"},null,{"$f":"CARTE!AR16","v":"E"},{"$f":"IF(CARTE!AS16=\"\",\"\",CARTE!AS16)","v":35},null,{"$f":"CARTE!AW16","v":"E"},{"$f":"IF(CARTE!AX16=\"\",\"\",CARTE!AX16)","v":76},null,{"$f":"CARTE!BB16","v":"E"},{"$f":"IF(CARTE!BC16=\"\",\"\",CARTE!BC16)","v":76},null,{"$f":"CARTE!BG16","v":"E"},{"$f":"IF(CARTE!BH16=\"\",\"\",CARTE!BH16)","v":76},null,{"$f":"CARTE!BL16","v":"E"},{"$f":"CARTE!BM16","v":76},null,{"$f":"CARTE!BQ16","v":"E"},{"$f":"CARTE!BR16","v":76},null,{"$f":"CARTE!BV16","v":"E"},{"$f":"CARTE!BW16","v":76},null,{"$f":"CARTE!CA16","v":"E"},{"$f":"CARTE!CB16","v":76},null,{"$f":"CARTE!CF16","v":"E"},{"$f":"CARTE!CG16","v":76},null,{"$f":"CARTE!CK16","v":"E"},{"$f":"CARTE!CL16","v":76},null,{"$f":"CARTE!CP16","v":"E"},{"$f":"CARTE!CQ16","v":76},null,{"$f":"CARTE!CU16","v":"E"},{"$f":"CARTE!CV16","v":76},null,{"$f":"CARTE!CZ16","v":"E"},{"$f":"CARTE!DA16","v":76},null,{"$f":"CARTE!DE16","v":"E"},{"$f":"CARTE!DF16","v":76},{"$f":"CARTE!CY16","v":3},{"$f":"CARTE!DJ16","v":"E"},{"$f":"CARTE!DK16","v":76},{"$f":"CARTE!DB16","v":172},{"$f":"CARTE!DO16","v":"E"},{"$f":"CARTE!DP16","v":76},null,{"$f":"CARTE!DT16","v":"E"},{"$f":"CARTE!DU16","v":76},{"$f":"CARTE!DH16","v":420},{"$f":"CARTE!DY16","v":"E"},{"$f":"CARTE!DZ16","v":76},null,{"$f":"CARTE!ED16","v":"E"},{"$f":"CARTE!EE16","v":76},{"$f":"CARTE!DN16","v":3},{"$f":"CARTE!EI16","v":"E"},{"$f":"CARTE!EJ16","v":76},null,{"$f":"CARTE!EN16","v":"E"},{"$f":"CARTE!EO16","v":76},null,{"$f":"CARTE!ES16","v":"E"},{"$f":"CARTE!ET16","v":76},null,{"$f":"CARTE!EX16","v":"E"},{"$f":"CARTE!EY16","v":76},null,{"$f":"CARTE!FC16","v":"E"},{"$f":"CARTE!FD16","v":76},null,{"$f":"CARTE!FH16","v":"E"},{"$f":"CARTE!FI16","v":76},null,{"$f":"CARTE!FM16","v":"E"},{"$f":"CARTE!FN16","v":76},null,{"$f":"CARTE!FR16","v":"E"},{"$f":"CARTE!FS16","v":76},null,{"$f":"CARTE!FW16","v":"E"},{"$f":"CARTE!FX16","v":76},null,{"$f":"CARTE!GB16","v":"E"},{"$f":"CARTE!GC16","v":76},null,{"$f":"CARTE!GG16","v":"E"},{"$f":"CARTE!GH16","v":76},null,{"$f":"CARTE!GL16","v":"E"},{"$f":"CARTE!GM16","v":76},null,{"$f":"CARTE!GQ16","v":"E"},{"$f":"CARTE!GR16","v":76},null,{"$f":"CARTE!GV16","v":"E"},{"$f":"CARTE!GW16","v":76},null,{"$f":"CARTE!HA16","v":"E"},{"$f":"CARTE!HB16","v":76},null,{"$f":"CARTE!HF16","v":"E"},{"$f":"CARTE!HG16","v":76},null,{"$f":"CARTE!HK16","v":"E"},{"$f":"CARTE!HL16","v":76}]
[30.024305555555557,"08:25:00",null,5,"Extrémité ouest de la falaise",null,1,null,{"$f":"CARTE!O16","v":102},{"$f":"CARTE!P16","v":102},null,null,{"$f":"CARTE!AM9","v":"6BLUE"},null,{"$f":"CARTE!AR17","v":"F"},{"$f":"IF(CARTE!AS17=\"\",\"\",CARTE!AS17)","v":28},null,{"$f":"CARTE!AW17","v":"F"},{"$f":"IF(CARTE!AX17=\"\",\"\",CARTE!AX17)","v":46},null,{"$f":"CARTE!BB17","v":"F"},{"$f":"IF(CARTE!BC17=\"\",\"\",CARTE!BC17)","v":46},null,{"$f":"CARTE!BG17","v":"F"},{"$f":"IF(CARTE!BH17=\"\",\"\",CARTE!BH17)","v":46},null,{"$f":"CARTE!BL17","v":"F"},{"$f":"CARTE!BM17","v":46},null,{"$f":"CARTE!BQ17","v":"F"},{"$f":"CARTE!BR17","v":46},null,{"$f":"CARTE!BV17","v":"F"},{"$f":"CARTE!BW17","v":46},null,{"$f":"CARTE!CA17","v":"F"},{"$f":"CARTE!CB17","v":46},null,{"$f":"CARTE!CF17","v":"F"},{"$f":"CARTE!CG17","v":46},null,{"$f":"CARTE!CK17","v":"F"},{"$f":"CARTE!CL17","v":46},null,{"$f":"CARTE!CP17","v":"F"},{"$f":"CARTE!CQ17","v":46},null,{"$f":"CARTE!CU17","v":"F"},{"$f":"CARTE!CV17","v":46},null,{"$f":"CARTE!CZ17","v":"F"},{"$f":"CARTE!DA17","v":46},null,{"$f":"CARTE!DE17","v":"F"},{"$f":"CARTE!DF17","v":46},{"$f":"CARTE!CY17","v":3},{"$f":"CARTE!DJ17","v":"F"},{"$f":"CARTE!DK17","v":46},{"$f":"CARTE!DB17","v":265},{"$f":"CARTE!DO17","v":"F"},{"$f":"CARTE!DP17","v":46},null,{"$f":"CARTE!DT17","v":"F"},{"$f":"CARTE!DU17","v":46},{"$f":"CARTE!DH17","v":267},{"$f":"CARTE!DY17","v":"F"},{"$f":"CARTE!DZ17","v":46},null,{"$f":"CARTE!ED17","v":"F"},{"$f":"CARTE!EE17","v":46},{"$f":"CARTE!DN17","v":3},{"$f":"CARTE!EI17","v":"F"},{"$f":"CARTE!EJ17","v":46},null,{"$f":"CARTE!EN17","v":"F"},{"$f":"CARTE!EO17","v":46},null,{"$f":"CARTE!ES17","v":"F"},{"$f":"CARTE!ET17","v":46},null,{"$f":"CARTE!EX17","v":"F"},{"$f":"CARTE!EY17","v":46},null,{"$f":"CARTE!FC17","v":"F"},{"$f":"CARTE!FD17","v":46},null,{"$f":"CARTE!FH17","v":"F"},{"$f":"CARTE!FI17","v":46},null,{"$f":"CARTE!FM17","v":"F"},{"$f":"CARTE!FN17","v":46},null,{"$f":"CARTE!FR17","v":"F"},{"$f":"CARTE!FS17","v":46},null,{"$f":"CARTE!FW17","v":"F"},{"$f":"CARTE!FX17","v":46},null,{"$f":"CARTE!GB17","v":"F"},{"$f":"CARTE!GC17","v":46},null,{"$f":"CARTE!GG17","v":"F"},{"$f":"CARTE!GH17","v":46},null,{"$f":"CARTE!GL17","v":"F"},{"$f":"CARTE!GM17","v":46},null,{"$f":"CARTE!GQ17","v":"F"},{"$f":"CARTE!GR17","v":46},null,{"$f":"CARTE!GV17","v":"F"},{"$f":"CARTE!GW17","v":46},null,{"$f":"CARTE!HA17","v":"F"},{"$f":"CARTE!HB17","v":46},null,{"$f":"CARTE!HF17","v":"F"},{"$f":"CARTE!HG17","v":46},null,{"$f":"CARTE!HK17","v":"F"},{"$f":"CARTE!HL17","v":46}]
["00:05:00","08:30:00",null,6,"Coude du talus",null,1,null,{"$f":"CARTE!O17","v":114},{"$f":"CARTE!P17","v":138},null,null,{"$f":"CARTE!AM10","v":"Parcours 7bleu"},null,{"$f":"CARTE!AR18","v":"G"},{"$f":"IF(CARTE!AS18=\"\",\"\",CARTE!AS18)","v":26},null,{"$f":"CARTE!AW18","v":"G"},{"$f":"IF(CARTE!AX18=\"\",\"\",CARTE!AX18)","v":12},null,{"$f":"CARTE!BB18","v":0},{"$f":"IF(CARTE!BC18=\"\",\"\",CARTE!BC18)","v":""},null,{"$f":"CARTE!BG18","v":0},{"$f":"IF(CARTE!BH18=\"\",\"\",CARTE!BH18)","v":""},null,{"$f":"CARTE!BL18","v":"G"},{"$f":"CARTE!BM18","v":32},null,{"$f":"CARTE!BQ18","v":0},{"$f":"CARTE!BR18","v":0},null,{"$f":"CARTE!BV18","v":0},{"$f":"CARTE!BW18","v":0},null,{"$f":"CARTE!CA18","v":0},{"$f":"CARTE!CB18","v":0},null,{"$f":"CARTE!CF18","v":0},{"$f":"CARTE!CG18","v":0},null,{"$f":"CARTE!CK18","v":0},{"$f":"CARTE!CL18","v":0},null,{"$f":"CARTE!CP18","v":0},{"$f":"CARTE!CQ18","v":0},null,{"$f":"CARTE!CU18","v":0},{"$f":"CARTE!CV18","v":0},null,{"$f":"CARTE!CZ18","v":0},{"$f":"CARTE!DA18","v":0},null,{"$f":"CARTE!DE18","v":"G"},{"$f":"CARTE!DF18","v":0},{"$f":"CARTE!CY18","v":0},{"$f":"CARTE!DJ18","v":"G"},{"$f":"CARTE!DK18","v":0},{"$f":"CARTE!DB18","v":0},{"$f":"CARTE!DO18","v":"G"},{"$f":"CARTE!DP18","v":0},null,{"$f":"CARTE!DT18","v":"G"},{"$f":"CARTE!DU18","v":0},{"$f":"CARTE!DH18","v":0},{"$f":"CARTE!DY18","v":"G"},{"$f":"CARTE!DZ18","v":0},null,{"$f":"CARTE!ED18","v":"G"},{"$f":"CARTE!EE18","v":0},{"$f":"CARTE!DN18","v":0},{"$f":"CARTE!EI18","v":"G"},{"$f":"CARTE!EJ18","v":0},null,{"$f":"CARTE!EN18","v":"G"},{"$f":"CARTE!EO18","v":0},null,{"$f":"CARTE!ES18","v":"G"},{"$f":"CARTE!ET18","v":0},null,{"$f":"CARTE!EX18","v":"G"},{"$f":"CARTE!EY18","v":0},null,{"$f":"CARTE!FC18","v":0},{"$f":"CARTE!FD18","v":0},null,{"$f":"CARTE!FH18","v":"G"},{"$f":"CARTE!FI18","v":0},null,{"$f":"CARTE!FM18","v":"G"},{"$f":"CARTE!FN18","v":0},null,{"$f":"CARTE!FR18","v":"G"},{"$f":"CARTE!FS18","v":0},null,{"$f":"CARTE!FW18","v":"G"},{"$f":"CARTE!FX18","v":0},null,{"$f":"CARTE!GB18","v":"G"},{"$f":"CARTE!GC18","v":0},null,{"$f":"CARTE!GG18","v":"G"},{"$f":"CARTE!GH18","v":0},null,{"$f":"CARTE!GL18","v":"G"},{"$f":"CARTE!GM18","v":0},null,{"$f":"CARTE!GQ18","v":"G"},{"$f":"CARTE!GR18","v":0},null,{"$f":"CARTE!GV18","v":"G"},{"$f":"CARTE!GW18","v":0},null,{"$f":"CARTE!HA18","v":"G"},{"$f":"CARTE!HB18","v":0},null,{"$f":"CARTE!HF18","v":"G"},{"$f":"CARTE!HG18","v":0},null,{"$f":"CARTE!HK18","v":"G"},{"$f":"CARTE!HL18","v":0}]
["00:06:00","08:35:00",null,7,"Angle S-E de la clairière",null,1,null,{"$f":"CARTE!O18","v":116},{"$f":"CARTE!P18","v":153},null,null,{"$f":"CARTE!AM11","v":"rouge"},null,{"$f":"CARTE!AR19","v":"H"},{"$f":"IF(CARTE!AS19=\"\",\"\",CARTE!AS19)","v":40},null,{"$f":"CARTE!AW19","v":0},{"$f":"IF(CARTE!AX19=\"\",\"\",CARTE!AX19)","v":""},null,{"$f":"CARTE!BB19","v":0},{"$f":"IF(CARTE!BC19=\"\",\"\",CARTE!BC19)","v":""},null,{"$f":"CARTE!BG19","v":0},{"$f":"IF(CARTE!BH19=\"\",\"\",CARTE!BH19)","v":""},null,{"$f":"CARTE!BL19","v":"H"},{"$f":"CARTE!BM19","v":15},null,{"$f":"CARTE!BQ19","v":0},{"$f":"CARTE!BR19","v":0},null,{"$f":"CARTE!BV19","v":0},{"$f":"CARTE!BW19","v":0},null,{"$f":"CARTE!CA19","v":0},{"$f":"CARTE!CB19","v":0},null,{"$f":"CARTE!CF19","v":0},{"$f":"CARTE!CG19","v":0},null,{"$f":"CARTE!CK19","v":0},{"$f":"CARTE!CL19","v":0},null,{"$f":"CARTE!CP19","v":0},{"$f":"CARTE!CQ19","v":0},null,{"$f":"CARTE!CU19","v":0},{"$f":"CARTE!CV19","v":0},null,{"$f":"CARTE!CZ19","v":0},{"$f":"CARTE!DA19","v":0},null,{"$f":"CARTE!DE19","v":"H"},{"$f":"CARTE!DF19","v":0},{"$f":"CARTE!CY19","v":0},{"$f":"CARTE!DJ19","v":"H"},{"$f":"CARTE!DK19","v":0},{"$f":"CARTE!DB19","v":0},{"$f":"CARTE!DO19","v":"H"},{"$f":"CARTE!DP19","v":0},null,{"$f":"CARTE!DT19","v":"H"},{"$f":"CARTE!DU19","v":0},{"$f":"CARTE!DH19","v":0},{"$f":"CARTE!DY19","v":"H"},{"$f":"CARTE!DZ19","v":0},null,{"$f":"CARTE!ED19","v":"H"},{"$f":"CARTE!EE19","v":0},{"$f":"CARTE!DN19","v":0},{"$f":"CARTE!EI19","v":"H"},{"$f":"CARTE!EJ19","v":0},null,{"$f":"CARTE!EN19","v":"H"},{"$f":"CARTE!EO19","v":0},null,{"$f":"CARTE!ES19","v":"H"},{"$f":"CARTE!ET19","v":0},null,{"$f":"CARTE!EX19","v":"H"},{"$f":"CARTE!EY19","v":0},null,{"$f":"CARTE!FC19","v":0},{"$f":"CARTE!FD19","v":0},null,{"$f":"CARTE!FH19","v":"H"},{"$f":"CARTE!FI19","v":0},null,{"$f":"CARTE!FM19","v":"H"},{"$f":"CARTE!FN19","v":0},null,{"$f":"CARTE!FR19","v":"H"},{"$f":"CARTE!FS19","v":0},null,{"$f":"CARTE!FW19","v":"H"},{"$f":"CARTE!FX19","v":0},null,{"$f":"CARTE!GB19","v":"H"},{"$f":"CARTE!GC19","v":0},null,{"$f":"CARTE!GG19","v":"H"},{"$f":"CARTE!GH19","v":0},null,{"$f":"CARTE!GL19","v":"H"},{"$f":"CARTE!GM19","v":0},null,{"$f":"CARTE!GQ19","v":"H"},{"$f":"CARTE!GR19","v":0},null,{"$f":"CARTE!GV19","v":"H"},{"$f":"CARTE!GW19","v":0},null,{"$f":"CARTE!HA19","v":"H"},{"$f":"CARTE!HB19","v":0},null,{"$f":"CARTE!HF19","v":"H"},{"$f":"CARTE!HG19","v":0},null,{"$f":"CARTE!HK19","v":"H"},{"$f":"CARTE!HL19","v":0}]
["00:07:00","08:40:00",null,8,"Angle N-O du talus",null,1,null,{"$f":"CARTE!O19","v":166},{"$f":"CARTE!P19","v":150},null,null,{"$f":"CARTE!AM12","v":"gris"},null,{"$f":"CARTE!AR20","v":"I"},{"$f":"IF(CARTE!AS20=\"\",\"\",CARTE!AS20)","v":39},null,{"$f":"CARTE!AW20","v":0},{"$f":"IF(CARTE!AX20=\"\",\"\",CARTE!AX20)","v":""},null,{"$f":"CARTE!BB20","v":0},{"$f":"IF(CARTE!BC20=\"\",\"\",CARTE!BC20)","v":""},null,{"$f":"CARTE!BG20","v":0},{"$f":"IF(CARTE!BH20=\"\",\"\",CARTE!BH20)","v":""},null,{"$f":"CARTE!BL20","v":0},{"$f":"CARTE!BM20","v":0},null,{"$f":"CARTE!BQ20","v":0},{"$f":"CARTE!BR20","v":0},null,{"$f":"CARTE!BV20","v":0},{"$f":"CARTE!BW20","v":0},null,{"$f":"CARTE!CA20","v":0},{"$f":"CARTE!CB20","v":0},null,{"$f":"CARTE!CF20","v":0},{"$f":"CARTE!CG20","v":0},null,{"$f":"CARTE!CK20","v":0},{"$f":"CARTE!CL20","v":0},null,{"$f":"CARTE!CP20","v":0},{"$f":"CARTE!CQ20","v":0},null,{"$f":"CARTE!CU20","v":0},{"$f":"CARTE!CV20","v":0},null,{"$f":"CARTE!CZ20","v":0},{"$f":"CARTE!DA20","v":0},null,{"$f":"CARTE!DE20","v":"I"},{"$f":"CARTE!DF20","v":0},{"$f":"CARTE!CY20","v":0},{"$f":"CARTE!DJ20","v":"I"},{"$f":"CARTE!DK20","v":0},{"$f":"CARTE!DB20","v":0},{"$f":"CARTE!DO20","v":"I"},{"$f":"CARTE!DP20","v":0},null,{"$f":"CARTE!DT20","v":"I"},{"$f":"CARTE!DU20","v":0},{"$f":"CARTE!DH20","v":0},{"$f":"CARTE!DY20","v":"I"},{"$f":"CARTE!DZ20","v":0},null,{"$f":"CARTE!ED20","v":"I"},{"$f":"CARTE!EE20","v":0},{"$f":"CARTE!DN20","v":0},{"$f":"CARTE!EI20","v":"I"},{"$f":"CARTE!EJ20","v":0},null,{"$f":"CARTE!EN20","v":"I"},{"$f":"CARTE!EO20","v":0},null,{"$f":"CARTE!ES20","v":"I"},{"$f":"CARTE!ET20","v":0},null,{"$f":"CARTE!EX20","v":"I"},{"$f":"CARTE!EY20","v":0},null,{"$f":"CARTE!FC20","v":0},{"$f":"CARTE!FD20","v":0},null,{"$f":"CARTE!FH20","v":"I"},{"$f":"CARTE!FI20","v":0},null,{"$f":"CARTE!FM20","v":"I"},{"$f":"CARTE!FN20","v":0},null,{"$f":"CARTE!FR20","v":"I"},{"$f":"CARTE!FS20","v":0},null,{"$f":"CARTE!FW20","v":"I"},{"$f":"CARTE!FX20","v":0},null,{"$f":"CARTE!GB20","v":"I"},{"$f":"CARTE!GC20","v":0},null,{"$f":"CARTE!GG20","v":"I"},{"$f":"CARTE!GH20","v":0},null,{"$f":"CARTE!GL20","v":"I"},{"$f":"CARTE!GM20","v":0},null,{"$f":"CARTE!GQ20","v":"I"},{"$f":"CARTE!GR20","v":0},null,{"$f":"CARTE!GV20","v":"I"},{"$f":"CARTE!GW20","v":0},null,{"$f":"CARTE!HA20","v":"I"},{"$f":"CARTE!HB20","v":0},null,{"$f":"CARTE!HF20","v":"I"},{"$f":"CARTE!HG20","v":0},null,{"$f":"CARTE!HK20","v":"I"},{"$f":"CARTE!HL20","v":0}]
["00:08:00","08:45:00",null,9,"Extrémite O du talus, en bas",null,1,null,{"$f":"CARTE!O20","v":167},{"$f":"CARTE!P20","v":109},null,null,{"$f":"CARTE!AM13","v":"Parcours 7HERBE"},null,{"$f":"CARTE!AR21","v":"J"},{"$f":"IF(CARTE!AS21=\"\",\"\",CARTE!AS21)","v":45},null,{"$f":"CARTE!AW21","v":"J"},{"$f":"IF(CARTE!AX21=\"\",\"\",CARTE!AX21)","v":16},null,{"$f":"CARTE!BB21","v":0},{"$f":"IF(CARTE!BC21=\"\",\"\",CARTE!BC21)","v":""},null,{"$f":"CARTE!BG21","v":0},{"$f":"IF(CARTE!BH21=\"\",\"\",CARTE!BH21)","v":""},null,{"$f":"CARTE!BL21","v":0},{"$f":"CARTE!BM21","v":0},null,{"$f":"CARTE!BQ21","v":0},{"$f":"CARTE!BR21","v":0},null,{"$f":"CARTE!BV21","v":0},{"$f":"CARTE!BW21","v":0},null,{"$f":"CARTE!CA21","v":0},{"$f":"CARTE!CB21","v":0},null,{"$f":"CARTE!CF21","v":"J"},{"$f":"CARTE!CG21","v":0},null,{"$f":"CARTE!CK21","v":0},{"$f":"CARTE!CL21","v":0},null,{"$f":"CARTE!CP21","v":0},{"$f":"CARTE!CQ21","v":0},null,{"$f":"CARTE!CU21","v":0},{"$f":"CARTE!CV21","v":0},null,{"$f":"CARTE!CZ21","v":0},{"$f":"CARTE!DA21","v":0},null,{"$f":"CARTE!DE21","v":"J"},{"$f":"CARTE!DF21","v":0},{"$f":"CARTE!CY21","v":0},{"$f":"CARTE!DJ21","v":"J"},{"$f":"CARTE!DK21","v":0},{"$f":"CARTE!DB21","v":0},{"$f":"CARTE!DO21","v":"J"},{"$f":"CARTE!DP21","v":0},null,{"$f":"CARTE!DT21","v":"J"},{"$f":"CARTE!DU21","v":0},{"$f":"CARTE!DH21","v":0},{"$f":"CARTE!DY21","v":"J"},{"$f":"CARTE!DZ21","v":0},null,{"$f":"CARTE!ED21","v":"J"},{"$f":"CARTE!EE21","v":0},{"$f":"CARTE!DN21","v":0},{"$f":"CARTE!EI21","v":"J"},{"$f":"CARTE!EJ21","v":0},null,{"$f":"CARTE!EN21","v":"J"},{"$f":"CARTE!EO21","v":0},null,{"$f":"CARTE!ES21","v":"J"},{"$f":"CARTE!ET21","v":0},null,{"$f":"CARTE!EX21","v":"J"},{"$f":"CARTE!EY21","v":0},null,{"$f":"CARTE!FC21","v":0},{"$f":"CARTE!FD21","v":0},null,{"$f":"CARTE!FH21","v":"J"},{"$f":"CARTE!FI21","v":0},null,{"$f":"CARTE!FM21","v":"J"},{"$f":"CARTE!FN21","v":0},null,{"$f":"CARTE!FR21","v":"J"},{"$f":"CARTE!FS21","v":0},null,{"$f":"CARTE!FW21","v":"J"},{"$f":"CARTE!FX21","v":0},null,{"$f":"CARTE!GB21","v":"J"},{"$f":"CARTE!GC21","v":0},null,{"$f":"CARTE!GG21","v":"J"},{"$f":"CARTE!GH21","v":0},null,{"$f":"CARTE!GL21","v":"J"},{"$f":"CARTE!GM21","v":0},null,{"$f":"CARTE!GQ21","v":"J"},{"$f":"CARTE!GR21","v":0},null,{"$f":"CARTE!GV21","v":"J"},{"$f":"CARTE!GW21","v":0},null,{"$f":"CARTE!HA21","v":"J"},{"$f":"CARTE!HB21","v":0},null,{"$f":"CARTE!HF21","v":"J"},{"$f":"CARTE!HG21","v":0},null,{"$f":"CARTE!HK21","v":"J"},{"$f":"CARTE!HL21","v":0}]
["00:09:00","08:50:00",null,10,"Angle de la clôture",null,1,null,{"$f":"CARTE!O21","v":178},{"$f":"CARTE!P21","v":96},null,null,{"$f":"CARTE!AM14","v":"Parcours 7CIEL"},null,{"$f":"CARTE!AR22","v":"K"},{"$f":"IF(CARTE!AS22=\"\",\"\",CARTE!AS22)","v":""},null,{"$f":"CARTE!AW22","v":"K"},{"$f":"IF(CARTE!AX22=\"\",\"\",CARTE!AX22)","v":""},null,{"$f":"CARTE!BB22","v":"K"},{"$f":"IF(CARTE!BC22=\"\",\"\",CARTE!BC22)","v":""},null,{"$f":"CARTE!BG22","v":"K"},{"$f":"IF(CARTE!BH22=\"\",\"\",CARTE!BH22)","v":""},null,{"$f":"CARTE!BL22","v":0},{"$f":"CARTE!BM22","v":0},null,{"$f":"CARTE!BQ22","v":0},{"$f":"CARTE!BR22","v":0},null,{"$f":"CARTE!BV22","v":"K"},{"$f":"CARTE!BW22","v":0},null,{"$f":"CARTE!CA22","v":"K"},{"$f":"CARTE!CB22","v":0},null,{"$f":"CARTE!CF22","v":"K"},{"$f":"CARTE!CG22","v":0},null,{"$f":"CARTE!CK22","v":"K"},{"$f":"CARTE!CL22","v":0},null,{"$f":"CARTE!CP22","v":"K"},{"$f":"CARTE!CQ22","v":0},null,{"$f":"CARTE!CU22","v":"K"},{"$f":"CARTE!CV22","v":0},null,{"$f":"CARTE!CZ22","v":"K"},{"$f":"CARTE!DA22","v":0},null,{"$f":"CARTE!DE22","v":"K"},{"$f":"CARTE!DF22","v":0},{"$f":"CARTE!CY22","v":0},{"$f":"CARTE!DJ22","v":"K"},{"$f":"CARTE!DK22","v":0},{"$f":"CARTE!DB22","v":0},{"$f":"CARTE!DO22","v":"K"},{"$f":"CARTE!DP22","v":0},null,{"$f":"CARTE!DT22","v":"K"},{"$f":"CARTE!DU22","v":0},{"$f":"CARTE!DH22","v":0},{"$f":"CARTE!DY22","v":"K"},{"$f":"CARTE!DZ22","v":0},null,{"$f":"CARTE!ED22","v":"K"},{"$f":"CARTE!EE22","v":0},{"$f":"CARTE!DN22","v":0},{"$f":"CARTE!EI22","v":"K"},{"$f":"CARTE!EJ22","v":0},null,{"$f":"CARTE!EN22","v":"K"},{"$f":"CARTE!EO22","v":0},null,{"$f":"CARTE!ES22","v":"K"},{"$f":"CARTE!ET22","v":0},null,{"$f":"CARTE!EX22","v":"K"},{"$f":"CARTE!EY22","v":0},null,{"$f":"CARTE!FC22","v":"K"},{"$f":"CARTE!FD22","v":0},null,{"$f":"CARTE!FH22","v":"K"},{"$f":"CARTE!FI22","v":0},null,{"$f":"CARTE!FM22","v":"K"},{"$f":"CARTE!FN22","v":0},null,{"$f":"CARTE!FR22","v":"K"},{"$f":"CARTE!FS22","v":0},null,{"$f":"CARTE!FW22","v":"K"},{"$f":"CARTE!FX22","v":0},null,{"$f":"CARTE!GB22","v":"K"},{"$f":"CARTE!GC22","v":0},null,{"$f":"CARTE!GG22","v":"K"},{"$f":"CARTE!GH22","v":0},null,{"$f":"CARTE!GL22","v":"K"},{"$f":"CARTE!GM22","v":0},null,{"$f":"CARTE!GQ22","v":"K"},{"$f":"CARTE!GR22","v":0},null,{"$f":"CARTE!GV22","v":"K"},{"$f":"CARTE!GW22","v":0},null,{"$f":"CARTE!HA22","v":"K"},{"$f":"CARTE!HB22","v":0},null,{"$f":"CARTE!HF22","v":"K"},{"$f":"CARTE!HG22","v":0},null,{"$f":"CARTE!HK22","v":"K"},{"$f":"CARTE!HL22","v":0}]
["00:10:00","08:55:00",null,11,"Pointe S de la clairière",null,2,null,{"$f":"CARTE!O22","v":220},{"$f":"CARTE!P22","v":129},null,null,{"$f":"CARTE!AM15","v":"le tueur du parc"},null,{"$f":"CARTE!AR23","v":"L"},{"$f":"IF(CARTE!AS23=\"\",\"\",CARTE!AS23)","v":51},null,{"$f":"CARTE!AW23","v":"L"},{"$f":"IF(CARTE!AX23=\"\",\"\",CARTE!AX23)","v":""},null,{"$f":"CARTE!BB23","v":"L"},{"$f":"IF(CARTE!BC23=\"\",\"\",CARTE!BC23)","v":""},null,{"$f":"CARTE!BG23","v":"L"},{"$f":"IF(CARTE!BH23=\"\",\"\",CARTE!BH23)","v":""},null,{"$f":"CARTE!BL23","v":"L"},{"$f":"CARTE!BM23","v":0},null,{"$f":"CARTE!BQ23","v":"L"},{"$f":"CARTE!BR23","v":0},null,{"$f":"CARTE!BV23","v":"L"},{"$f":"CARTE!BW23","v":0},null,{"$f":"CARTE!CA23","v":"L"},{"$f":"CARTE!CB23","v":0},null,{"$f":"CARTE!CF23","v":"L"},{"$f":"CARTE!CG23","v":0},null,{"$f":"CARTE!CK23","v":"L"},{"$f":"CARTE!CL23","v":0},null,{"$f":"CARTE!CP23","v":"L"},{"$f":"CARTE!CQ23","v":0},null,{"$f":"CARTE!CU23","v":"L"},{"$f":"CARTE!CV23","v":0},null,{"$f":"CARTE!CZ23","v":"L"},{"$f":"CARTE!DA23","v":0},null,{"$f":"CARTE!DE23","v":"L"},{"$f":"CARTE!DF23","v":0},{"$f":"CARTE!CY23","v":0},{"$f":"CARTE!DJ23","v":"L"},{"$f":"CARTE!DK23","v":0},{"$f":"CARTE!DB23","v":0},{"$f":"CARTE!DO23","v":"L"},{"$f":"CARTE!DP23","v":0},null,{"$f":"CARTE!DT23","v":"L"},{"$f":"CARTE!DU23","v":0},{"$f":"CARTE!DH23","v":0},{"$f":"CARTE!DY23","v":"L"},{"$f":"CARTE!DZ23","v":0},null,{"$f":"CARTE!ED23","v":"L"},{"$f":"CARTE!EE23","v":0},{"$f":"CARTE!DN23","v":0},{"$f":"CARTE!EI23","v":"L"},{"$f":"CARTE!EJ23","v":0},null,{"$f":"CARTE!EN23","v":"L"},{"$f":"CARTE!EO23","v":0},null,{"$f":"CARTE!ES23","v":"L"},{"$f":"CARTE!ET23","v":0},null,{"$f":"CARTE!EX23","v":"L"},{"$f":"CARTE!EY23","v":0},null,{"$f":"CARTE!FC23","v":"L"},{"$f":"CARTE!FD23","v":0},null,{"$f":"CARTE!FH23","v":"L"},{"$f":"CARTE!FI23","v":0},null,{"$f":"CARTE!FM23","v":"L"},{"$f":"CARTE!FN23","v":0},null,{"$f":"CARTE!FR23","v":"L"},{"$f":"CARTE!FS23","v":0},null,{"$f":"CARTE!FW23","v":"L"},{"$f":"CARTE!FX23","v":0},null,{"$f":"CARTE!GB23","v":"L"},{"$f":"CARTE!GC23","v":0},null,{"$f":"CARTE!GG23","v":"L"},{"$f":"CARTE!GH23","v":0},null,{"$f":"CARTE!GL23","v":"L"},{"$f":"CARTE!GM23","v":0},null,{"$f":"CARTE!GQ23","v":"L"},{"$f":"CARTE!GR23","v":0},null,{"$f":"CARTE!GV23","v":"L"},{"$f":"CARTE!GW23","v":0},null,{"$f":"CARTE!HA23","v":"L"},{"$f":"CARTE!HB23","v":0},null,{"$f":"CARTE!HF23","v":"L"},{"$f":"CARTE!HG23","v":0},null,{"$f":"CARTE!HK23","v":"L"},{"$f":"CARTE!HL23","v":0}]
["00:11:00","09:00:00",null,12,"Pointe N de la clairière",null,2,null,{"$f":"CARTE!O23","v":248},{"$f":"CARTE!P23","v":97},null,null,{"$f":"CARTE!AM16","v":"Parcours 6J2"},null,{"$f":"CARTE!AR24","v":"M"},{"$f":"IF(CARTE!AS24=\"\",\"\",CARTE!AS24)","v":50},null,{"$f":"CARTE!AW24","v":"M"},{"$f":"IF(CARTE!AX24=\"\",\"\",CARTE!AX24)","v":""},null,{"$f":"CARTE!BB24","v":"M"},{"$f":"IF(CARTE!BC24=\"\",\"\",CARTE!BC24)","v":""},null,{"$f":"CARTE!BG24","v":"M"},{"$f":"IF(CARTE!BH24=\"\",\"\",CARTE!BH24)","v":""},null,{"$f":"CARTE!BL24","v":"M"},{"$f":"CARTE!BM24","v":0},null,{"$f":"CARTE!BQ24","v":"M"},{"$f":"CARTE!BR24","v":0},null,{"$f":"CARTE!BV24","v":"M"},{"$f":"CARTE!BW24","v":0},null,{"$f":"CARTE!CA24","v":"M"},{"$f":"CARTE!CB24","v":0},null,{"$f":"CARTE!CF24","v":"M"},{"$f":"CARTE!CG24","v":0},null,{"$f":"CARTE!CK24","v":"M"},{"$f":"CARTE!CL24","v":0},null,{"$f":"CARTE!CP24","v":"M"},{"$f":"CARTE!CQ24","v":0},null,{"$f":"CARTE!CU24","v":"M"},{"$f":"CARTE!CV24","v":0},null,{"$f":"CARTE!CZ24","v":"M"},{"$f":"CARTE!DA24","v":0},null,{"$f":"CARTE!DE24","v":"M"},{"$f":"CARTE!DF24","v":0},{"$f":"CARTE!CY24","v":0},{"$f":"CARTE!DJ24","v":"M"},{"$f":"CARTE!DK24","v":0},{"$f":"CARTE!DB24","v":0},{"$f":"CARTE!DO24","v":"M"},{"$f":"CARTE!DP24","v":0},null,{"$f":"CARTE!DT24","v":"M"},{"$f":"CARTE!DU24","v":0},{"$f":"CARTE!DH24","v":0},{"$f":"CARTE!DY24","v":"M"},{"$f":"CARTE!DZ24","v":0},null,{"$f":"CARTE!ED24","v":"M"},{"$f":"CARTE!EE24","v":0},{"$f":"CARTE!DN24","v":0},{"$f":"CARTE!EI24","v":"M"},{"$f":"CARTE!EJ24","v":0},null,{"$f":"CARTE!EN24","v":"M"},{"$f":"CARTE!EO24","v":0},null,{"$f":"CARTE!ES24","v":"M"},{"$f":"CARTE!ET24","v":0},null,{"$f":"CARTE!EX24","v":"M"},{"$f":"CARTE!EY24","v":0},null,{"$f":"CARTE!FC24","v":"M"},{"$f":"CARTE!FD24","v":0},null,{"$f":"CARTE!FH24","v":"M"},{"$f":"CARTE!FI24","v":0},null,{"$f":"CARTE!FM24","v":"M"},{"$f":"CARTE!FN24","v":0},null,{"$f":"CARTE!FR24","v":"M"},{"$f":"CARTE!FS24","v":0},null,{"$f":"CARTE!FW24","v":"M"},{"$f":"CARTE!FX24","v":0},null,{"$f":"CARTE!GB24","v":"M"},{"$f":"CARTE!GC24","v":0},null,{"$f":"CARTE!GG24","v":"M"},{"$f":"CARTE!GH24","v":0},null,{"$f":"CARTE!GL24","v":"M"},{"$f":"CARTE!GM24","v":0},null,{"$f":"CARTE!GQ24","v":"M"},{"$f":"CARTE!GR24","v":0},null,{"$f":"CARTE!GV24","v":"M"},{"$f":"CARTE!GW24","v":0},null,{"$f":"CARTE!HA24","v":"M"},{"$f":"CARTE!HB24","v":0},null,{"$f":"CARTE!HF24","v":"M"},{"$f":"CARTE!HG24","v":0},null,{"$f":"CARTE!HK24","v":"M"},{"$f":"CARTE!HL24","v":0}]
["00:12:00","09:05:00",null,13,"Près du petit bassin",null,2,null,{"$f":"CARTE!O24","v":258},{"$f":"CARTE!P24","v":73},null,null,{"$f":"CARTE!AM17","v":"Parcours 6J3"},null,{"$f":"CARTE!AR25","v":"N"},{"$f":"IF(CARTE!AS25=\"\",\"\",CARTE!AS25)","v":74},null,{"$f":"CARTE!AW25","v":"N"},{"$f":"IF(CARTE!AX25=\"\",\"\",CARTE!AX25)","v":""},null,{"$f":"CARTE!BB25","v":"N"},{"$f":"IF(CARTE!BC25=\"\",\"\",CARTE!BC25)","v":""},null,{"$f":"CARTE!BG25","v":"N"},{"$f":"IF(CARTE!BH25=\"\",\"\",CARTE!BH25)","v":""},null,{"$f":"CARTE!BL25","v":"N"},{"$f":"CARTE!BM25","v":0},null,{"$f":"CARTE!BQ25","v":"N"},{"$f":"CARTE!BR25","v":0},null,{"$f":"CARTE!BV25","v":"N"},{"$f":"CARTE!BW25","v":0},null,{"$f":"CARTE!CA25","v":"N"},{"$f":"CARTE!CB25","v":0},null,{"$f":"CARTE!CF25","v":"N"},{"$f":"CARTE!CG25","v":0},null,{"$f":"CARTE!CK25","v":"N"},{"$f":"CARTE!CL25","v":0},null,{"$f":"CARTE!CP25","v":"N"},{"$f":"CARTE!CQ25","v":0},null,{"$f":"CARTE!CU25","v":"N"},{"$f":"CARTE!CV25","v":0},null,{"$f":"CARTE!CZ25","v":"N"},{"$f":"CARTE!DA25","v":0},null,{"$f":"CARTE!DE25","v":"N"},{"$f":"CARTE!DF25","v":0},{"$f":"CARTE!CY25","v":0},{"$f":"CARTE!DJ25","v":"N"},{"$f":"CARTE!DK25","v":0},{"$f":"CARTE!DB25","v":0},{"$f":"CARTE!DO25","v":"N"},{"$f":"CARTE!DP25","v":0},null,{"$f":"CARTE!DT25","v":"N"},{"$f":"CARTE!DU25","v":0},{"$f":"CARTE!DH25","v":0},{"$f":"CARTE!DY25","v":"N"},{"$f":"CARTE!DZ25","v":0},null,{"$f":"CARTE!ED25","v":"N"},{"$f":"CARTE!EE25","v":0},{"$f":"CARTE!DN25","v":0},{"$f":"CARTE!EI25","v":"N"},{"$f":"CARTE!EJ25","v":0},null,{"$f":"CARTE!EN25","v":"N"},{"$f":"CARTE!EO25","v":0},null,{"$f":"CARTE!ES25","v":"N"},{"$f":"CARTE!ET25","v":0},null,{"$f":"CARTE!EX25","v":"N"},{"$f":"CARTE!EY25","v":0},null,{"$f":"CARTE!FC25","v":"N"},{"$f":"CARTE!FD25","v":0},null,{"$f":"CARTE!FH25","v":"N"},{"$f":"CARTE!FI25","v":0},null,{"$f":"CARTE!FM25","v":"N"},{"$f":"CARTE!FN25","v":0},null,{"$f":"CARTE!FR25","v":"N"},{"$f":"CARTE!FS25","v":0},null,{"$f":"CARTE!FW25","v":"N"},{"$f":"CARTE!FX25","v":0},null,{"$f":"CARTE!GB25","v":"N"},{"$f":"CARTE!GC25","v":0},null,{"$f":"CARTE!GG25","v":"N"},{"$f":"CARTE!GH25","v":0},null,{"$f":"CARTE!GL25","v":"N"},{"$f":"CARTE!GM25","v":0},null,{"$f":"CARTE!GQ25","v":"N"},{"$f":"CARTE!GR25","v":0},null,{"$f":"CARTE!GV25","v":"N"},{"$f":"CARTE!GW25","v":0},null,{"$f":"CARTE!HA25","v":"N"},{"$f":"CARTE!HB25","v":0},null,{"$f":"CARTE!HF25","v":"N"},{"$f":"CARTE!HG25","v":0},null,{"$f":"CARTE!HK25","v":"N"},{"$f":"CARTE!HL25","v":0}]
["00:13:00","09:10:00",null,14,"Angle S-E de la clairière",null,2,null,{"$f":"CARTE!O25","v":267},{"$f":"CARTE!P25","v":119},null,null,{"$f":"CARTE!AM19","v":"Parcours 6J5"},null,{"$f":"CARTE!AR26","v":"O"},{"$f":"IF(CARTE!AS26=\"\",\"\",CARTE!AS26)","v":""},null,{"$f":"CARTE!AW26","v":"O"},{"$f":"IF(CARTE!AX26=\"\",\"\",CARTE!AX26)","v":""},null,{"$f":"CARTE!BB26","v":"O"},{"$f":"IF(CARTE!BC26=\"\",\"\",CARTE!BC26)","v":""},null,{"$f":"CARTE!BG26","v":"O"},{"$f":"IF(CARTE!BH26=\"\",\"\",CARTE!BH26)","v":""},null,{"$f":"CARTE!BL26","v":"O"},{"$f":"CARTE!BM26","v":0},null,{"$f":"CARTE!BQ26","v":"O"},{"$f":"CARTE!BR26","v":0},null,{"$f":"CARTE!BV26","v":"O"},{"$f":"CARTE!BW26","v":0},null,{"$f":"CARTE!CA26","v":"O"},{"$f":"CARTE!CB26","v":0},null,{"$f":"CARTE!CF26","v":"O"},{"$f":"CARTE!CG26","v":0},null,{"$f":"CARTE!CK26","v":"O"},{"$f":"CARTE!CL26","v":0},null,{"$f":"CARTE!CP26","v":"O"},{"$f":"CARTE!CQ26","v":0},null,{"$f":"CARTE!CU26","v":"O"},{"$f":"CARTE!CV26","v":0},null,{"$f":"CARTE!CZ26","v":"O"},{"$f":"CARTE!DA26","v":0},null,{"$f":"CARTE!DE26","v":"O"},{"$f":"CARTE!DF26","v":0},{"$f":"CARTE!CY26","v":0},{"$f":"CARTE!DJ26","v":"O"},{"$f":"CARTE!DK26","v":0},{"$f":"CARTE!DB26","v":0},{"$f":"CARTE!DO26","v":"O"},{"$f":"CARTE!DP26","v":0},null,{"$f":"CARTE!DT26","v":"O"},{"$f":"CARTE!DU26","v":0},{"$f":"CARTE!DH26","v":0},{"$f":"CARTE!DY26","v":"O"},{"$f":"CARTE!DZ26","v":0},null,{"$f":"CARTE!ED26","v":"O"},{"$f":"CARTE!EE26","v":0},{"$f":"CARTE!DN26","v":0},{"$f":"CARTE!EI26","v":"O"},{"$f":"CARTE!EJ26","v":0},null,{"$f":"CARTE!EN26","v":"O"},{"$f":"CARTE!EO26","v":0},null,{"$f":"CARTE!ES26","v":"O"},{"$f":"CARTE!ET26","v":0},null,{"$f":"CARTE!EX26","v":"O"},{"$f":"CARTE!EY26","v":0},null,{"$f":"CARTE!FC26","v":"O"},{"$f":"CARTE!FD26","v":0},null,{"$f":"CARTE!FH26","v":"O"},{"$f":"CARTE!FI26","v":0},null,{"$f":"CARTE!FM26","v":"O"},{"$f":"CARTE!FN26","v":0},null,{"$f":"CARTE!FR26","v":"O"},{"$f":"CARTE!FS26","v":0},null,{"$f":"CARTE!FW26","v":"O"},{"$f":"CARTE!FX26","v":0},null,{"$f":"CARTE!GB26","v":"O"},{"$f":"CARTE!GC26","v":0},null,{"$f":"CARTE!GG26","v":"O"},{"$f":"CARTE!GH26","v":0},null,{"$f":"CARTE!GL26","v":"O"},{"$f":"CARTE!GM26","v":0},null,{"$f":"CARTE!GQ26","v":"O"},{"$f":"CARTE!GR26","v":0},null,{"$f":"CARTE!GV26","v":"O"},{"$f":"CARTE!GW26","v":0},null,{"$f":"CARTE!HA26","v":"O"},{"$f":"CARTE!HB26","v":0},null,{"$f":"CARTE!HF26","v":"O"},{"$f":"CARTE!HG26","v":0},null,{"$f":"CARTE!HK26","v":"O"},{"$f":"CARTE!HL26","v":0}]
["00:14:00","09:15:00",null,15,"Dans la petite dépression",null,2,null,{"$f":"CARTE!O26","v":258.84622192382812},{"$f":"CARTE!P26","v":136.7947998046875},null,null,{"$f":"CARTE!AM20","v":"Parcours 6J6"},null,{"$f":"CARTE!AR27","v":"P"},{"$f":"IF(CARTE!AS27=\"\",\"\",CARTE!AS27)","v":6},null,{"$f":"CARTE!AW27","v":"P"},{"$f":"IF(CARTE!AX27=\"\",\"\",CARTE!AX27)","v":13},null,{"$f":"CARTE!BB27","v":"P"},{"$f":"IF(CARTE!BC27=\"\",\"\",CARTE!BC27)","v":""},null,{"$f":"CARTE!BG27","v":"P"},{"$f":"IF(CARTE!BH27=\"\",\"\",CARTE!BH27)","v":""},null,{"$f":"CARTE!BL27","v":"P"},{"$f":"CARTE!BM27","v":0},null,{"$f":"CARTE!BQ27","v":"P"},{"$f":"CARTE!BR27","v":0},null,{"$f":"CARTE!BV27","v":"P"},{"$f":"CARTE!BW27","v":0},null,{"$f":"CARTE!CA27","v":"P"},{"$f":"CARTE!CB27","v":0},null,{"$f":"CARTE!CF27","v":"P"},{"$f":"CARTE!CG27","v":0},null,{"$f":"CARTE!CK27","v":"P"},{"$f":"CARTE!CL27","v":0},null,{"$f":"CARTE!CP27","v":"P"},{"$f":"CARTE!CQ27","v":0},null,{"$f":"CARTE!CU27","v":"P"},{"$f":"CARTE!CV27","v":0},null,{"$f":"CARTE!CZ27","v":"P"},{"$f":"CARTE!DA27","v":0},null,{"$f":"CARTE!DE27","v":"P"},{"$f":"CARTE!DF27","v":0},{"$f":"CARTE!CY27","v":0},{"$f":"CARTE!DJ27","v":"P"},{"$f":"CARTE!DK27","v":0},{"$f":"CARTE!DB27","v":0},{"$f":"CARTE!DO27","v":"P"},{"$f":"CARTE!DP27","v":0},null,{"$f":"CARTE!DT27","v":"P"},{"$f":"CARTE!DU27","v":0},{"$f":"CARTE!DH27","v":0},{"$f":"CARTE!DY27","v":"P"},{"$f":"CARTE!DZ27","v":0},null,{"$f":"CARTE!ED27","v":"P"},{"$f":"CARTE!EE27","v":0},{"$f":"CARTE!DN27","v":0},{"$f":"CARTE!EI27","v":"P"},{"$f":"CARTE!EJ27","v":0},null,{"$f":"CARTE!EN27","v":"P"},{"$f":"CARTE!EO27","v":0},null,{"$f":"CARTE!ES27","v":"P"},{"$f":"CARTE!ET27","v":0},null,{"$f":"CARTE!EX27","v":"P"},{"$f":"CARTE!EY27","v":0},null,{"$f":"CARTE!FC27","v":"P"},{"$f":"CARTE!FD27","v":0},null,{"$f":"CARTE!FH27","v":"P"},{"$f":"CARTE!FI27","v":0},null,{"$f":"CARTE!FM27","v":"P"},{"$f":"CARTE!FN27","v":0},null,{"$f":"CARTE!FR27","v":"P"},{"$f":"CARTE!FS27","v":0},null,{"$f":"CARTE!FW27","v":"P"},{"$f":"CARTE!FX27","v":0},null,{"$f":"CARTE!GB27","v":"P"},{"$f":"CARTE!GC27","v":0},null,{"$f":"CARTE!GG27","v":"P"},{"$f":"CARTE!GH27","v":0},null,{"$f":"CARTE!GL27","v":"P"},{"$f":"CARTE!GM27","v":0},null,{"$f":"CARTE!GQ27","v":"P"},{"$f":"CARTE!GR27","v":0},null,{"$f":"CARTE!GV27","v":"P"},{"$f":"CARTE!GW27","v":0},null,{"$f":"CARTE!HA27","v":"P"},{"$f":"CARTE!HB27","v":0},null,{"$f":"CARTE!HF27","v":"P"},{"$f":"CARTE!HG27","v":0},null,{"$f":"CARTE!HK27","v":"P"},{"$f":"CARTE!HL27","v":0}]
["00:15:00","09:20:00",null,16,"Petite grotte",null,2,null,{"$f":"CARTE!O27","v":249},{"$f":"CARTE!P27","v":146},null,null,{"$f":"CARTE!AM21","v":"Parcours 6J7"},null,{"$f":"CARTE!AR28","v":"Q"},{"$f":"IF(CARTE!AS28=\"\",\"\",CARTE!AS28)","v":33},null,{"$f":"CARTE!AW28","v":"Q"},{"$f":"IF(CARTE!AX28=\"\",\"\",CARTE!AX28)","v":19},null,{"$f":"CARTE!BB28","v":"Q"},{"$f":"IF(CARTE!BC28=\"\",\"\",CARTE!BC28)","v":""},null,{"$f":"CARTE!BG28","v":"Q"},{"$f":"IF(CARTE!BH28=\"\",\"\",CARTE!BH28)","v":""},null,{"$f":"CARTE!BL28","v":"Q"},{"$f":"CARTE!BM28","v":0},null,{"$f":"CARTE!BQ28","v":"Q"},{"$f":"CARTE!BR28","v":0},null,{"$f":"CARTE!BV28","v":"Q"},{"$f":"CARTE!BW28","v":0},null,{"$f":"CARTE!CA28","v":"Q"},{"$f":"CARTE!CB28","v":0},null,{"$f":"CARTE!CF28","v":"Q"},{"$f":"CARTE!CG28","v":0},null,{"$f":"CARTE!CK28","v":"Q"},{"$f":"CARTE!CL28","v":0},null,{"$f":"CARTE!CP28","v":"Q"},{"$f":"CARTE!CQ28","v":0},null,{"$f":"CARTE!CU28","v":"Q"},{"$f":"CARTE!CV28","v":0},null,{"$f":"CARTE!CZ28","v":"Q"},{"$f":"CARTE!DA28","v":0},null,{"$f":"CARTE!DE28","v":"Q"},{"$f":"CARTE!DF28","v":0},{"$f":"CARTE!CY28","v":0},{"$f":"CARTE!DJ28","v":"Q"},{"$f":"CARTE!DK28","v":0},{"$f":"CARTE!DB28","v":0},{"$f":"CARTE!DO28","v":"Q"},{"$f":"CARTE!DP28","v":0},null,{"$f":"CARTE!DT28","v":"Q"},{"$f":"CARTE!DU28","v":0},{"$f":"CARTE!DH28","v":0},{"$f":"CARTE!DY28","v":"Q"},{"$f":"CARTE!DZ28","v":0},null,{"$f":"CARTE!ED28","v":"Q"},{"$f":"CARTE!EE28","v":0},{"$f":"CARTE!DN28","v":0},{"$f":"CARTE!EI28","v":"Q"},{"$f":"CARTE!EJ28","v":0},null,{"$f":"CARTE!EN28","v":"Q"},{"$f":"CARTE!EO28","v":0},null,{"$f":"CARTE!ES28","v":"Q"},{"$f":"CARTE!ET28","v":0},null,{"$f":"CARTE!EX28","v":"Q"},{"$f":"CARTE!EY28","v":0},null,{"$f":"CARTE!FC28","v":"Q"},{"$f":"CARTE!FD28","v":0},null,{"$f":"CARTE!FH28","v":"Q"},{"$f":"CARTE!FI28","v":0},null,{"$f":"CARTE!FM28","v":"Q"},{"$f":"CARTE!FN28","v":0},null,{"$f":"CARTE!FR28","v":"Q"},{"$f":"CARTE!FS28","v":0},null,{"$f":"CARTE!FW28","v":"Q"},{"$f":"CARTE!FX28","v":0},null,{"$f":"CARTE!GB28","v":"Q"},{"$f":"CARTE!GC28","v":0},null,{"$f":"CARTE!GG28","v":"Q"},{"$f":"CARTE!GH28","v":0},null,{"$f":"CARTE!GL28","v":"Q"},{"$f":"CARTE!GM28","v":0},null,{"$f":"CARTE!GQ28","v":"Q"},{"$f":"CARTE!GR28","v":0},null,{"$f":"CARTE!GV28","v":"Q"},{"$f":"CARTE!GW28","v":0},null,{"$f":"CARTE!HA28","v":"Q"},{"$f":"CARTE!HB28","v":0},null,{"$f":"CARTE!HF28","v":"Q"},{"$f":"CARTE!HG28","v":0},null,{"$f":"CARTE!HK28","v":"Q"},{"$f":"CARTE!HL28","v":0}]
["00:16:00","09:25:00",null,17,"Arbre particulier",null,2,null,{"$f":"CARTE!O28","v":308},{"$f":"CARTE!P28","v":147},null,null,{"$f":"CARTE!AM22","v":"Parcours 6J8"},null,{"$f":"CARTE!AR29","v":"R"},{"$f":"IF(CARTE!AS29=\"\",\"\",CARTE!AS29)","v":29},null,{"$f":"CARTE!AW29","v":"R"},{"$f":"IF(CARTE!AX29=\"\",\"\",CARTE!AX29)","v":75},null,{"$f":"CARTE!BB29","v":"R"},{"$f":"IF(CARTE!BC29=\"\",\"\",CARTE!BC29)","v":""},null,{"$f":"CARTE!BG29","v":"R"},{"$f":"IF(CARTE!BH29=\"\",\"\",CARTE!BH29)","v":""},null,{"$f":"CARTE!BL29","v":"R"},{"$f":"CARTE!BM29","v":0},null,{"$f":"CARTE!BQ29","v":"R"},{"$f":"CARTE!BR29","v":0},null,{"$f":"CARTE!BV29","v":"R"},{"$f":"CARTE!BW29","v":0},null,{"$f":"CARTE!CA29","v":"R"},{"$f":"CARTE!CB29","v":0},null,{"$f":"CARTE!CF29","v":"R"},{"$f":"CARTE!CG29","v":0},null,{"$f":"CARTE!CK29","v":"R"},{"$f":"CARTE!CL29","v":0},null,{"$f":"CARTE!CP29","v":"R"},{"$f":"CARTE!CQ29","v":0},null,{"$f":"CARTE!CU29","v":"R"},{"$f":"CARTE!CV29","v":0},null,{"$f":"CARTE!CZ29","v":"R"},{"$f":"CARTE!DA29","v":0},null,{"$f":"CARTE!DE29","v":"R"},{"$f":"CARTE!DF29","v":0},{"$f":"CARTE!CY29","v":0},{"$f":"CARTE!DJ29","v":"R"},{"$f":"CARTE!DK29","v":0},{"$f":"CARTE!DB29","v":0},{"$f":"CARTE!DO29","v":"R"},{"$f":"CARTE!DP29","v":0},null,{"$f":"CARTE!DT29","v":"R"},{"$f":"CARTE!DU29","v":0},{"$f":"CARTE!DH29","v":0},{"$f":"CARTE!DY29","v":"R"},{"$f":"CARTE!DZ29","v":0},null,{"$f":"CARTE!ED29","v":"R"},{"$f":"CARTE!EE29","v":0},{"$f":"CARTE!DN29","v":0},{"$f":"CARTE!EI29","v":"R"},{"$f":"CARTE!EJ29","v":0},null,{"$f":"CARTE!EN29","v":"R"},{"$f":"CARTE!EO29","v":0},null,{"$f":"CARTE!ES29","v":"R"},{"$f":"CARTE!ET29","v":0},null,{"$f":"CARTE!EX29","v":"R"},{"$f":"CARTE!EY29","v":0},null,{"$f":"CARTE!FC29","v":"R"},{"$f":"CARTE!FD29","v":0},null,{"$f":"CARTE!FH29","v":"R"},{"$f":"CARTE!FI29","v":0},null,{"$f":"CARTE!FM29","v":"R"},{"$f":"CARTE!FN29","v":0},null,{"$f":"CARTE!FR29","v":"R"},{"$f":"CARTE!FS29","v":0},null,{"$f":"CARTE!FW29","v":"R"},{"$f":"CARTE!FX29","v":0},null,{"$f":"CARTE!GB29","v":"R"},{"$f":"CARTE!GC29","v":0},null,{"$f":"CARTE!GG29","v":"R"},{"$f":"CARTE!GH29","v":0},null,{"$f":"CARTE!GL29","v":"R"},{"$f":"CARTE!GM29","v":0},null,{"$f":"CARTE!GQ29","v":"R"},{"$f":"CARTE!GR29","v":0},null,{"$f":"CARTE!GV29","v":"R"},{"$f":"CARTE!GW29","v":0},null,{"$f":"CARTE!HA29","v":"R"},{"$f":"CARTE!HB29","v":0},null,{"$f":"CARTE!HF29","v":"R"},{"$f":"CARTE!HG29","v":0},null,{"$f":"CARTE!HK29","v":"R"},{"$f":"CARTE!HL29","v":0}]
["00:17:00","09:30:00",null,18,"Angle N-E de la clôture",null,2,null,{"$f":"CARTE!O29","v":477},{"$f":"CARTE!P29","v":92.000076293945312},null,null,{"$f":"CARTE!AM23","v":"Parcours 6J9"},null,{"$f":"CARTE!AR30","v":"S"},{"$f":"IF(CARTE!AS30=\"\",\"\",CARTE!AS30)","v":24},null,{"$f":"CARTE!AW30","v":"S"},{"$f":"IF(CARTE!AX30=\"\",\"\",CARTE!AX30)","v":14},null,{"$f":"CARTE!BB30","v":"S"},{"$f":"IF(CARTE!BC30=\"\",\"\",CARTE!BC30)","v":""},null,{"$f":"CARTE!BG30","v":"S"},{"$f":"IF(CARTE!BH30=\"\",\"\",CARTE!BH30)","v":""},null,{"$f":"CARTE!BL30","v":"S"},{"$f":"CARTE!BM30","v":0},null,{"$f":"CARTE!BQ30","v":"S"},{"$f":"CARTE!BR30","v":0},null,{"$f":"CARTE!BV30","v":"S"},{"$f":"CARTE!BW30","v":0},null,{"$f":"CARTE!CA30","v":"S"},{"$f":"CARTE!CB30","v":0},null,{"$f":"CARTE!CF30","v":"S"},{"$f":"CARTE!CG30","v":0},null,{"$f":"CARTE!CK30","v":"S"},{"$f":"CARTE!CL30","v":0},null,{"$f":"CARTE!CP30","v":"S"},{"$f":"CARTE!CQ30","v":0},null,{"$f":"CARTE!CU30","v":"S"},{"$f":"CARTE!CV30","v":0},null,{"$f":"CARTE!CZ30","v":"S"},{"$f":"CARTE!DA30","v":0},null,{"$f":"CARTE!DE30","v":"S"},{"$f":"CARTE!DF30","v":0},{"$f":"CARTE!CY30","v":0},{"$f":"CARTE!DJ30","v":"S"},{"$f":"CARTE!DK30","v":0},{"$f":"CARTE!DB30","v":0},{"$f":"CARTE!DO30","v":"S"},{"$f":"CARTE!DP30","v":0},null,{"$f":"CARTE!DT30","v":"S"},{"$f":"CARTE!DU30","v":0},{"$f":"CARTE!DH30","v":0},{"$f":"CARTE!DY30","v":"S"},{"$f":"CARTE!DZ30","v":0},null,{"$f":"CARTE!ED30","v":"S"},{"$f":"CARTE!EE30","v":0},{"$f":"CARTE!DN30","v":0},{"$f":"CARTE!EI30","v":"S"},{"$f":"CARTE!EJ30","v":0},null,{"$f":"CARTE!EN30","v":"S"},{"$f":"CARTE!EO30","v":0},null,{"$f":"CARTE!ES30","v":"S"},{"$f":"CARTE!ET30","v":0},null,{"$f":"CARTE!EX30","v":"S"},{"$f":"CARTE!EY30","v":0},null,{"$f":"CARTE!FC30","v":"S"},{"$f":"CARTE!FD30","v":0},null,{"$f":"CARTE!FH30","v":"S"},{"$f":"CARTE!FI30","v":0},null,{"$f":"CARTE!FM30","v":"S"},{"$f":"CARTE!FN30","v":0},null,{"$f":"CARTE!FR30","v":"S"},{"$f":"CARTE!FS30","v":0},null,{"$f":"CARTE!FW30","v":"S"},{"$f":"CARTE!FX30","v":0},null,{"$f":"CARTE!GB30","v":"S"},{"$f":"CARTE!GC30","v":0},null,{"$f":"CARTE!GG30","v":"S"},{"$f":"CARTE!GH30","v":0},null,{"$f":"CARTE!GL30","v":"S"},{"$f":"CARTE!GM30","v":0},null,{"$f":"CARTE!GQ30","v":"S"},{"$f":"CARTE!GR30","v":0},null,{"$f":"CARTE!GV30","v":"S"},{"$f":"CARTE!GW30","v":0},null,{"$f":"CARTE!HA30","v":"S"},{"$f":"CARTE!HB30","v":0},null,{"$f":"CARTE!HF30","v":"S"},{"$f":"CARTE!HG30","v":0},null,{"$f":"CARTE!HK30","v":"S"},{"$f":"CARTE!HL30","v":0}]
["00:18:00","09:35:00",null,19,"Près de la table",null,3,null,{"$f":"CARTE!O30","v":545},{"$f":"CARTE!P30","v":97.000076293945312},null,null,{"$f":"CARTE!AM24","v":"Parcours 6J10"},null,{"$f":"CARTE!AR31","v":"T"},{"$f":"IF(CARTE!AS31=\"\",\"\",CARTE!AS31)","v":54},null,{"$f":"CARTE!AW31","v":"T"},{"$f":"IF(CARTE!AX31=\"\",\"\",CARTE!AX31)","v":63},null,{"$f":"CARTE!BB31","v":"T"},{"$f":"IF(CARTE!BC31=\"\",\"\",CARTE!BC31)","v":""},null,{"$f":"CARTE!BG31","v":"T"},{"$f":"IF(CARTE!BH31=\"\",\"\",CARTE!BH31)","v":""},null,{"$f":"CARTE!BL31","v":"T"},{"$f":"CARTE!BM31","v":0},null,{"$f":"CARTE!BQ31","v":"T"},{"$f":"CARTE!BR31","v":0},null,{"$f":"CARTE!BV31","v":"T"},{"$f":"CARTE!BW31","v":0},null,{"$f":"CARTE!CA31","v":"T"},{"$f":"CARTE!CB31","v":0},null,{"$f":"CARTE!CF31","v":"T"},{"$f":"CARTE!CG31","v":0},null,{"$f":"CARTE!CK31","v":"T"},{"$f":"CARTE!CL31","v":0},null,{"$f":"CARTE!CP31","v":"T"},{"$f":"CARTE!CQ31","v":0},null,{"$f":"CARTE!CU31","v":"T"},{"$f":"CARTE!CV31","v":0},null,{"$f":"CARTE!CZ31","v":"T"},{"$f":"CARTE!DA31","v":0},null,{"$f":"CARTE!DE31","v":"T"},{"$f":"CARTE!DF31","v":0},{"$f":"CARTE!CY31","v":0},{"$f":"CARTE!DJ31","v":"T"},{"$f":"CARTE!DK31","v":0},{"$f":"CARTE!DB31","v":0},{"$f":"CARTE!DO31","v":"T"},{"$f":"CARTE!DP31","v":0},null,{"$f":"CARTE!DT31","v":"T"},{"$f":"CARTE!DU31","v":0},{"$f":"CARTE!DH31","v":0},{"$f":"CARTE!DY31","v":"T"},{"$f":"CARTE!DZ31","v":0},null,{"$f":"CARTE!ED31","v":"T"},{"$f":"CARTE!EE31","v":0},{"$f":"CARTE!DN31","v":0},{"$f":"CARTE!EI31","v":"T"},{"$f":"CARTE!EJ31","v":0},null,{"$f":"CARTE!EN31","v":"T"},{"$f":"CARTE!EO31","v":0},null,{"$f":"CARTE!ES31","v":"T"},{"$f":"CARTE!ET31","v":0},null,{"$f":"CARTE!EX31","v":"T"},{"$f":"CARTE!EY31","v":0},null,{"$f":"CARTE!FC31","v":"T"},{"$f":"CARTE!FD31","v":0},null,{"$f":"CARTE!FH31","v":"T"},{"$f":"CARTE!FI31","v":0},null,{"$f":"CARTE!FM31","v":"T"},{"$f":"CARTE!FN31","v":0},null,{"$f":"CARTE!FR31","v":"T"},{"$f":"CARTE!FS31","v":0},null,{"$f":"CARTE!FW31","v":"T"},{"$f":"CARTE!FX31","v":0},null,{"$f":"CARTE!GB31","v":"T"},{"$f":"CARTE!GC31","v":0},null,{"$f":"CARTE!GG31","v":"T"},{"$f":"CARTE!GH31","v":0},null,{"$f":"CARTE!GL31","v":"T"},{"$f":"CARTE!GM31","v":0},null,{"$f":"CARTE!GQ31","v":"T"},{"$f":"CARTE!GR31","v":0},null,{"$f":"CARTE!GV31","v":"T"},{"$f":"CARTE!GW31","v":0},null,{"$f":"CARTE!HA31","v":"T"},{"$f":"CARTE!HB31","v":0},null,{"$f":"CARTE!HF31","v":"T"},{"$f":"CARTE!HG31","v":0},null,{"$f":"CARTE!HK31","v":"T"},{"$f":"CARTE!HL31","v":0}]
["00:19:00","09:40:00",null,20,"Pointe N-E de la clairière",null,3,null,{"$f":"CARTE!O31","v":582},{"$f":"CARTE!P31","v":109.00007629394531},null,null,{"$f":"CARTE!AM25","v":"Parcours 7SuiviB"},null,{"$f":"CARTE!AR32","v":"U"},{"$f":"IF(CARTE!AS32=\"\",\"\",CARTE!AS32)","v":56},null,{"$f":"CARTE!AW32","v":"U"},{"$f":"IF(CARTE!AX32=\"\",\"\",CARTE!AX32)","v":""},null,{"$f":"CARTE!BB32","v":"U"},{"$f":"IF(CARTE!BC32=\"\",\"\",CARTE!BC32)","v":""},null,{"$f":"CARTE!BG32","v":"U"},{"$f":"IF(CARTE!BH32=\"\",\"\",CARTE!BH32)","v":""},null,{"$f":"CARTE!BL32","v":"U"},{"$f":"CARTE!BM32","v":0},null,{"$f":"CARTE!BQ32","v":"U"},{"$f":"CARTE!BR32","v":0},null,{"$f":"CARTE!BV32","v":"U"},{"$f":"CARTE!BW32","v":0},null,{"$f":"CARTE!CA32","v":"U"},{"$f":"CARTE!CB32","v":0},null,{"$f":"CARTE!CF32","v":"U"},{"$f":"CARTE!CG32","v":0},null,{"$f":"CARTE!CK32","v":"U"},{"$f":"CARTE!CL32","v":0},null,{"$f":"CARTE!CP32","v":"U"},{"$f":"CARTE!CQ32","v":0},null,{"$f":"CARTE!CU32","v":"U"},{"$f":"CARTE!CV32","v":0},null,{"$f":"CARTE!CZ32","v":"U"},{"$f":"CARTE!DA32","v":0},null,{"$f":"CARTE!DE32","v":"U"},{"$f":"CARTE!DF32","v":0},{"$f":"CARTE!CY32","v":0},{"$f":"CARTE!DJ32","v":"U"},{"$f":"CARTE!DK32","v":0},{"$f":"CARTE!DB32","v":0},{"$f":"CARTE!DO32","v":"U"},{"$f":"CARTE!DP32","v":0},null,{"$f":"CARTE!DT32","v":"U"},{"$f":"CARTE!DU32","v":0},{"$f":"CARTE!DH32","v":0},{"$f":"CARTE!DY32","v":"U"},{"$f":"CARTE!DZ32","v":0},null,{"$f":"CARTE!ED32","v":"U"},{"$f":"CARTE!EE32","v":0},{"$f":"CARTE!DN32","v":0},{"$f":"CARTE!EI32","v":"U"},{"$f":"CARTE!EJ32","v":0},null,{"$f":"CARTE!EN32","v":"U"},{"$f":"CARTE!EO32","v":0},null,{"$f":"CARTE!ES32","v":"U"},{"$f":"CARTE!ET32","v":0},null,{"$f":"CARTE!EX32","v":"U"},{"$f":"CARTE!EY32","v":0},null,{"$f":"CARTE!FC32","v":"U"},{"$f":"CARTE!FD32","v":0},null,{"$f":"CARTE!FH32","v":"U"},{"$f":"CARTE!FI32","v":0},null,{"$f":"CARTE!FM32","v":"U"},{"$f":"CARTE!FN32","v":0},null,{"$f":"CARTE!FR32","v":"U"},{"$f":"CARTE!FS32","v":0},null,{"$f":"CARTE!FW32","v":"U"},{"$f":"CARTE!FX32","v":0},null,{"$f":"CARTE!GB32","v":"U"},{"$f":"CARTE!GC32","v":0},null,{"$f":"CARTE!GG32","v":"U"},{"$f":"CARTE!GH32","v":0},null,{"$f":"CARTE!GL32","v":"U"},{"$f":"CARTE!GM32","v":0},null,{"$f":"CARTE!GQ32","v":"U"},{"$f":"CARTE!GR32","v":0},null,{"$f":"CARTE!GV32","v":"U"},{"$f":"CARTE!GW32","v":0},null,{"$f":"CARTE!HA32","v":"U"},{"$f":"CARTE!HB32","v":0},null,{"$f":"CARTE!HF32","v":"U"},{"$f":"CARTE!HG32","v":0},null,{"$f":"CARTE!HK32","v":"U"},{"$f":"CARTE!HL32","v":0}]
["00:20:00","09:45:00",null,21,"Dans le rentrant",null,3,null,{"$f":"CARTE!O32","v":593},{"$f":"CARTE!P32","v":120},null,null,{"$f":"CARTE!AM26","v":"Parcours 6suiviR"},null,{"$f":"CARTE!AR33","v":"V"},{"$f":"IF(CARTE!AS33=\"\",\"\",CARTE!AS33)","v":59},null,{"$f":"CARTE!AW33","v":"V"},{"$f":"IF(CARTE!AX33=\"\",\"\",CARTE!AX33)","v":""},null,{"$f":"CARTE!BB33","v":"V"},{"$f":"IF(CARTE!BC33=\"\",\"\",CARTE!BC33)","v":""},null,{"$f":"CARTE!BG33","v":"V"},{"$f":"IF(CARTE!BH33=\"\",\"\",CARTE!BH33)","v":""},null,{"$f":"CARTE!BL33","v":"V"},{"$f":"CARTE!BM33","v":0},null,{"$f":"CARTE!BQ33","v":"V"},{"$f":"CARTE!BR33","v":0},null,{"$f":"CARTE!BV33","v":"V"},{"$f":"CARTE!BW33","v":0},null,{"$f":"CARTE!CA33","v":"V"},{"$f":"CARTE!CB33","v":0},null,{"$f":"CARTE!CF33","v":"V"},{"$f":"CARTE!CG33","v":0},null,{"$f":"CARTE!CK33","v":"V"},{"$f":"CARTE!CL33","v":0},null,{"$f":"CARTE!CP33","v":"V"},{"$f":"CARTE!CQ33","v":0},null,{"$f":"CARTE!CU33","v":"V"},{"$f":"CARTE!CV33","v":0},null,{"$f":"CARTE!CZ33","v":"V"},{"$f":"CARTE!DA33","v":0},null,{"$f":"CARTE!DE33","v":"V"},{"$f":"CARTE!DF33","v":0},{"$f":"CARTE!CY33","v":0},{"$f":"CARTE!DJ33","v":"V"},{"$f":"CARTE!DK33","v":0},{"$f":"CARTE!DB33","v":0},{"$f":"CARTE!DO33","v":"V"},{"$f":"CARTE!DP33","v":0},null,{"$f":"CARTE!DT33","v":"V"},{"$f":"CARTE!DU33","v":0},{"$f":"CARTE!DH33","v":0},{"$f":"CARTE!DY33","v":"V"},{"$f":"CARTE!DZ33","v":0},null,{"$f":"CARTE!ED33","v":"V"},{"$f":"CARTE!EE33","v":0},{"$f":"CARTE!DN33","v":0},{"$f":"CARTE!EI33","v":"V"},{"$f":"CARTE!EJ33","v":0},null,{"$f":"CARTE!EN33","v":"V"},{"$f":"CARTE!EO33","v":0},null,{"$f":"CARTE!ES33","v":"V"},{"$f":"CARTE!ET33","v":0},null,{"$f":"CARTE!EX33","v":"V"},{"$f":"CARTE!EY33","v":0},null,{"$f":"CARTE!FC33","v":"V"},{"$f":"CARTE!FD33","v":0},null,{"$f":"CARTE!FH33","v":"V"},{"$f":"CARTE!FI33","v":0},null,{"$f":"CARTE!FM33","v":"V"},{"$f":"CARTE!FN33","v":0},null,{"$f":"CARTE!FR33","v":"V"},{"$f":"CARTE!FS33","v":0},null,{"$f":"CARTE!FW33","v":"V"},{"$f":"CARTE!FX33","v":0},null,{"$f":"CARTE!GB33","v":"V"},{"$f":"CARTE!GC33","v":0},null,{"$f":"CARTE!GG33","v":"V"},{"$f":"CARTE!GH33","v":0},null,{"$f":"CARTE!GL33","v":"V"},{"$f":"CARTE!GM33","v":0},null,{"$f":"CARTE!GQ33","v":"V"},{"$f":"CARTE!GR33","v":0},null,{"$f":"CARTE!GV33","v":"V"},{"$f":"CARTE!GW33","v":0},null,{"$f":"CARTE!HA33","v":"V"},{"$f":"CARTE!HB33","v":0},null,{"$f":"CARTE!HF33","v":"V"},{"$f":"CARTE!HG33","v":0},null,{"$f":"CARTE!HK33","v":"V"},{"$f":"CARTE!HL33","v":0}]
["00:21:00","09:50:00",null,22,"Dans la dépression",null,3,null,{"$f":"CARTE!O33","v":571},{"$f":"CARTE!P33","v":142.00007629394531},null,null,{"$f":"CARTE!AM27","v":"alchimiste"},null,{"$f":"CARTE!AR34","v":"W"},{"$f":"IF(CARTE!AS34=\"\",\"\",CARTE!AS34)","v":""},null,{"$f":"CARTE!AW34","v":"W"},{"$f":"IF(CARTE!AX34=\"\",\"\",CARTE!AX34)","v":""},null,{"$f":"CARTE!BB34","v":"W"},{"$f":"IF(CARTE!BC34=\"\",\"\",CARTE!BC34)","v":""},null,{"$f":"CARTE!BG34","v":"W"},{"$f":"IF(CARTE!BH34=\"\",\"\",CARTE!BH34)","v":""},null,{"$f":"CARTE!BL34","v":"W"},{"$f":"CARTE!BM34","v":0},null,{"$f":"CARTE!BQ34","v":"W"},{"$f":"CARTE!BR34","v":0},null,{"$f":"CARTE!BV34","v":"W"},{"$f":"CARTE!BW34","v":0},null,{"$f":"CARTE!CA34","v":"W"},{"$f":"CARTE!CB34","v":0},null,{"$f":"CARTE!CF34","v":"W"},{"$f":"CARTE!CG34","v":0},null,{"$f":"CARTE!CK34","v":"W"},{"$f":"CARTE!CL34","v":0},null,{"$f":"CARTE!CP34","v":"W"},{"$f":"CARTE!CQ34","v":0},null,{"$f":"CARTE!CU34","v":"W"},{"$f":"CARTE!CV34","v":0},null,{"$f":"CARTE!CZ34","v":"W"},{"$f":"CARTE!DA34","v":0},null,{"$f":"CARTE!DE34","v":"W"},{"$f":"CARTE!DF34","v":0},{"$f":"CARTE!CY34","v":0},{"$f":"CARTE!DJ34","v":"W"},{"$f":"CARTE!DK34","v":0},{"$f":"CARTE!DB34","v":0},{"$f":"CARTE!DO34","v":"W"},{"$f":"CARTE!DP34","v":0},null,{"$f":"CARTE!DT34","v":"W"},{"$f":"CARTE!DU34","v":0},{"$f":"CARTE!DH34","v":0},{"$f":"CARTE!DY34","v":"W"},{"$f":"CARTE!DZ34","v":0},null,{"$f":"CARTE!ED34","v":"W"},{"$f":"CARTE!EE34","v":0},{"$f":"CARTE!DN34","v":0},{"$f":"CARTE!EI34","v":"W"},{"$f":"CARTE!EJ34","v":0},null,{"$f":"CARTE!EN34","v":"W"},{"$f":"CARTE!EO34","v":0},null,{"$f":"CARTE!ES34","v":"W"},{"$f":"CARTE!ET34","v":0},null,{"$f":"CARTE!EX34","v":"W"},{"$f":"CARTE!EY34","v":0},null,{"$f":"CARTE!FC34","v":"W"},{"$f":"CARTE!FD34","v":0},null,{"$f":"CARTE!FH34","v":"W"},{"$f":"CARTE!FI34","v":0},null,{"$f":"CARTE!FM34","v":"W"},{"$f":"CARTE!FN34","v":0},null,{"$f":"CARTE!FR34","v":"W"},{"$f":"CARTE!FS34","v":0},null,{"$f":"CARTE!FW34","v":"W"},{"$f":"CARTE!FX34","v":0},null,{"$f":"CARTE!GB34","v":"W"},{"$f":"CARTE!GC34","v":0},null,{"$f":"CARTE!GG34","v":"W"},{"$f":"CARTE!GH34","v":0},null,{"$f":"CARTE!GL34","v":"W"},{"$f":"CARTE!GM34","v":0},null,{"$f":"CARTE!GQ34","v":"W"},{"$f":"CARTE!GR34","v":0},null,{"$f":"CARTE!GV34","v":"W"},{"$f":"CARTE!GW34","v":0},null,{"$f":"CARTE!HA34","v":"W"},{"$f":"CARTE!HB34","v":0},null,{"$f":"CARTE!HF34","v":"W"},{"$f":"CARTE!HG34","v":0},null,{"$f":"CARTE!HK34","v":"W"},{"$f":"CARTE!HL34","v":0}]
["00:22:00","09:55:00",null,23,"Coude du sentier",null,3,null,{"$f":"CARTE!O34","v":493},{"$f":"CARTE!P34","v":119.00007629394531},null,null,{"$f":"CARTE!AM28","v":"Parcours 5rando3"},null,{"$f":"CARTE!AR35","v":"X"},{"$f":"IF(CARTE!AS35=\"\",\"\",CARTE!AS35)","v":76},null,{"$f":"CARTE!AW35","v":"X"},{"$f":"IF(CARTE!AX35=\"\",\"\",CARTE!AX35)","v":""},null,{"$f":"CARTE!BB35","v":"X"},{"$f":"IF(CARTE!BC35=\"\",\"\",CARTE!BC35)","v":""},null,{"$f":"CARTE!BG35","v":"X"},{"$f":"IF(CARTE!BH35=\"\",\"\",CARTE!BH35)","v":""},null,{"$f":"CARTE!BL35","v":"X"},{"$f":"CARTE!BM35","v":0},null,{"$f":"CARTE!BQ35","v":"X"},{"$f":"CARTE!BR35","v":0},null,{"$f":"CARTE!BV35","v":"X"},{"$f":"CARTE!BW35","v":0},null,{"$f":"CARTE!CA35","v":"X"},{"$f":"CARTE!CB35","v":0},null,{"$f":"CARTE!CF35","v":"X"},{"$f":"CARTE!CG35","v":0},null,{"$f":"CARTE!CK35","v":"X"},{"$f":"CARTE!CL35","v":0},null,{"$f":"CARTE!CP35","v":"X"},{"$f":"CARTE!CQ35","v":0},null,{"$f":"CARTE!CU35","v":"X"},{"$f":"CARTE!CV35","v":0},null,{"$f":"CARTE!CZ35","v":"X"},{"$f":"CARTE!DA35","v":0},null,{"$f":"CARTE!DE35","v":"X"},{"$f":"CARTE!DF35","v":0},{"$f":"CARTE!CY35","v":0},{"$f":"CARTE!DJ35","v":"X"},{"$f":"CARTE!DK35","v":0},{"$f":"CARTE!DB35","v":0},{"$f":"CARTE!DO35","v":"X"},{"$f":"CARTE!DP35","v":0},null,{"$f":"CARTE!DT35","v":"X"},{"$f":"CARTE!DU35","v":0},{"$f":"CARTE!DH35","v":0},{"$f":"CARTE!DY35","v":"X"},{"$f":"CARTE!DZ35","v":0},null,{"$f":"CARTE!ED35","v":"X"},{"$f":"CARTE!EE35","v":0},{"$f":"CARTE!DN35","v":0},{"$f":"CARTE!EI35","v":"X"},{"$f":"CARTE!EJ35","v":0},null,{"$f":"CARTE!EN35","v":"X"},{"$f":"CARTE!EO35","v":0},null,{"$f":"CARTE!ES35","v":"X"},{"$f":"CARTE!ET35","v":0},null,{"$f":"CARTE!EX35","v":"X"},{"$f":"CARTE!EY35","v":0},null,{"$f":"CARTE!FC35","v":"X"},{"$f":"CARTE!FD35","v":0},null,{"$f":"CARTE!FH35","v":"X"},{"$f":"CARTE!FI35","v":0},null,{"$f":"CARTE!FM35","v":"X"},{"$f":"CARTE!FN35","v":0},null,{"$f":"CARTE!FR35","v":"X"},{"$f":"CARTE!FS35","v":0},null,{"$f":"CARTE!FW35","v":"X"},{"$f":"CARTE!FX35","v":0},null,{"$f":"CARTE!GB35","v":"X"},{"$f":"CARTE!GC35","v":0},null,{"$f":"CARTE!GG35","v":"X"},{"$f":"CARTE!GH35","v":0},null,{"$f":"CARTE!GL35","v":"X"},{"$f":"CARTE!GM35","v":0},null,{"$f":"CARTE!GQ35","v":"X"},{"$f":"CARTE!GR35","v":0},null,{"$f":"CARTE!GV35","v":"X"},{"$f":"CARTE!GW35","v":0},null,{"$f":"CARTE!HA35","v":"X"},{"$f":"CARTE!HB35","v":0},null,{"$f":"CARTE!HF35","v":"X"},{"$f":"CARTE!HG35","v":0},null,{"$f":"CARTE!HK35","v":"X"},{"$f":"CARTE!HL35","v":0}]
["00:23:00","10:00:00",null,24,"Sommet  ",null,3,null,{"$f":"CARTE!O35","v":418},{"$f":"CARTE!P35","v":147.00007629394531},null,null,{"$f":"CARTE!AM29","v":"Parcours 4selfie1"},null,{"$f":"CARTE!AR36","v":"Y"},{"$f":"IF(CARTE!AS36=\"\",\"\",CARTE!AS36)","v":""},null,{"$f":"CARTE!AW36","v":"Y"},{"$f":"IF(CARTE!AX36=\"\",\"\",CARTE!AX36)","v":""},null,{"$f":"CARTE!BB36","v":"Y"},{"$f":"IF(CARTE!BC36=\"\",\"\",CARTE!BC36)","v":""},null,{"$f":"CARTE!BG36","v":"Y"},{"$f":"IF(CARTE!BH36=\"\",\"\",CARTE!BH36)","v":""},null,{"$f":"CARTE!BL36","v":"Y"},{"$f":"CARTE!BM36","v":0},null,{"$f":"CARTE!BQ36","v":"Y"},{"$f":"CARTE!BR36","v":0},null,{"$f":"CARTE!BV36","v":"Y"},{"$f":"CARTE!BW36","v":0},null,{"$f":"CARTE!CA36","v":"Y"},{"$f":"CARTE!CB36","v":0},null,{"$f":"CARTE!CF36","v":"Y"},{"$f":"CARTE!CG36","v":0},null,{"$f":"CARTE!CK36","v":"Y"},{"$f":"CARTE!CL36","v":0},null,{"$f":"CARTE!CP36","v":"Y"},{"$f":"CARTE!CQ36","v":0},null,{"$f":"CARTE!CU36","v":"Y"},{"$f":"CARTE!CV36","v":0},null,{"$f":"CARTE!CZ36","v":"Y"},{"$f":"CARTE!DA36","v":0},null,{"$f":"CARTE!DE36","v":"Y"},{"$f":"CARTE!DF36","v":0},{"$f":"CARTE!CY36","v":0},{"$f":"CARTE!DJ36","v":"Y"},{"$f":"CARTE!DK36","v":0},{"$f":"CARTE!DB36","v":0},{"$f":"CARTE!DO36","v":"Y"},{"$f":"CARTE!DP36","v":0},null,{"$f":"CARTE!DT36","v":"Y"},{"$f":"CARTE!DU36","v":0},{"$f":"CARTE!DH36","v":0},{"$f":"CARTE!DY36","v":"Y"},{"$f":"CARTE!DZ36","v":0},null,{"$f":"CARTE!ED36","v":"Y"},{"$f":"CARTE!EE36","v":0},{"$f":"CARTE!DN36","v":0},{"$f":"CARTE!EI36","v":"Y"},{"$f":"CARTE!EJ36","v":0},null,{"$f":"CARTE!EN36","v":"Y"},{"$f":"CARTE!EO36","v":0},null,{"$f":"CARTE!ES36","v":"Y"},{"$f":"CARTE!ET36","v":0},null,{"$f":"CARTE!EX36","v":"Y"},{"$f":"CARTE!EY36","v":0},null,{"$f":"CARTE!FC36","v":"Y"},{"$f":"CARTE!FD36","v":0},null,{"$f":"CARTE!FH36","v":"Y"},{"$f":"CARTE!FI36","v":0},null,{"$f":"CARTE!FM36","v":"Y"},{"$f":"CARTE!FN36","v":0},null,{"$f":"CARTE!FR36","v":"Y"},{"$f":"CARTE!FS36","v":0},null,{"$f":"CARTE!FW36","v":"Y"},{"$f":"CARTE!FX36","v":0},null,{"$f":"CARTE!GB36","v":"Y"},{"$f":"CARTE!GC36","v":0},null,{"$f":"CARTE!GG36","v":"Y"},{"$f":"CARTE!GH36","v":0},null,{"$f":"CARTE!GL36","v":"Y"},{"$f":"CARTE!GM36","v":0},null,{"$f":"CARTE!GQ36","v":"Y"},{"$f":"CARTE!GR36","v":0},null,{"$f":"CARTE!GV36","v":"Y"},{"$f":"CARTE!GW36","v":0},null,{"$f":"CARTE!HA36","v":"Y"},{"$f":"CARTE!HB36","v":0},null,{"$f":"CARTE!HF36","v":"Y"},{"$f":"CARTE!HG36","v":0},null,{"$f":"CARTE!HK36","v":"Y"},{"$f":"CARTE!HL36","v":0}]
["00:24:00","10:05:00",null,25,"Extrémité E du talus",null,3,null,{"$f":"CARTE!O36","v":403},{"$f":"CARTE!P36","v":137},null,null,{"$f":"CARTE!AM30","v":"Parcours 5trail1"},null,{"$f":"CARTE!AR37","v":"Z"},{"$f":"IF(CARTE!AS37=\"\",\"\",CARTE!AS37)","v":""},null,{"$f":"CARTE!AW37","v":"Z"},{"$f":"IF(CARTE!AX37=\"\",\"\",CARTE!AX37)","v":23},null,{"$f":"CARTE!BB37","v":"Z"},{"$f":"IF(CARTE!BC37=\"\",\"\",CARTE!BC37)","v":""},null,{"$f":"CARTE!BG37","v":"Z"},{"$f":"IF(CARTE!BH37=\"\",\"\",CARTE!BH37)","v":""},null,{"$f":"CARTE!BL37","v":"Z"},{"$f":"CARTE!BM37","v":0},null,{"$f":"CARTE!BQ37","v":"Z"},{"$f":"CARTE!BR37","v":0},null,{"$f":"CARTE!BV37","v":"Z"},{"$f":"CARTE!BW37","v":0},null,{"$f":"CARTE!CA37","v":"Z"},{"$f":"CARTE!CB37","v":0},null,{"$f":"CARTE!CF37","v":"Z"},{"$f":"CARTE!CG37","v":0},null,{"$f":"CARTE!CK37","v":"Z"},{"$f":"CARTE!CL37","v":0},null,{"$f":"CARTE!CP37","v":"Z"},{"$f":"CARTE!CQ37","v":0},null,{"$f":"CARTE!CU37","v":"Z"},{"$f":"CARTE!CV37","v":0},null,{"$f":"CARTE!CZ37","v":"Z"},{"$f":"CARTE!DA37","v":0},null,{"$f":"CARTE!DE37","v":"Z"},{"$f":"CARTE!DF37","v":0},{"$f":"CARTE!CY37","v":0},{"$f":"CARTE!DJ37","v":"Z"},{"$f":"CARTE!DK37","v":0},{"$f":"CARTE!DB37","v":0},{"$f":"CARTE!DO37","v":"Z"},{"$f":"CARTE!DP37","v":0},null,{"$f":"CARTE!DT37","v":"Z"},{"$f":"CARTE!DU37","v":0},{"$f":"CARTE!DH37","v":0},{"$f":"CARTE!DY37","v":"Z"},{"$f":"CARTE!DZ37","v":0},null,{"$f":"CARTE!ED37","v":"Z"},{"$f":"CARTE!EE37","v":0},{"$f":"CARTE!DN37","v":0},{"$f":"CARTE!EI37","v":"Z"},{"$f":"CARTE!EJ37","v":0},null,{"$f":"CARTE!EN37","v":"Z"},{"$f":"CARTE!EO37","v":0},null,{"$f":"CARTE!ES37","v":"Z"},{"$f":"CARTE!ET37","v":0},null,{"$f":"CARTE!EX37","v":"Z"},{"$f":"CARTE!EY37","v":0},null,{"$f":"CARTE!FC37","v":"Z"},{"$f":"CARTE!FD37","v":0},null,{"$f":"CARTE!FH37","v":"Z"},{"$f":"CARTE!FI37","v":0},null,{"$f":"CARTE!FM37","v":"Z"},{"$f":"CARTE!FN37","v":0},null,{"$f":"CARTE!FR37","v":"Z"},{"$f":"CARTE!FS37","v":0},null,{"$f":"CARTE!FW37","v":"Z"},{"$f":"CARTE!FX37","v":0},null,{"$f":"CARTE!GB37","v":"Z"},{"$f":"CARTE!GC37","v":0},null,{"$f":"CARTE!GG37","v":"Z"},{"$f":"CARTE!GH37","v":0},null,{"$f":"CARTE!GL37","v":"Z"},{"$f":"CARTE!GM37","v":0},null,{"$f":"CARTE!GQ37","v":"Z"},{"$f":"CARTE!GR37","v":0},null,{"$f":"CARTE!GV37","v":"Z"},{"$f":"CARTE!GW37","v":0},null,{"$f":"CARTE!HA37","v":"Z"},{"$f":"CARTE!HB37","v":0},null,{"$f":"CARTE!HF37","v":"Z"},{"$f":"CARTE!HG37","v":0},null,{"$f":"CARTE!HK37","v":"Z"},{"$f":"CARTE!HL37","v":0}]
["00:25:00","10:10:00",null,26,"Angle N-E du talus",null,3,null,{"$f":"CARTE!O37","v":370},{"$f":"CARTE!P37","v":159},null,null,{"$f":"CARTE!AM31","v":"Parcours 5sportif1"},null,{"$f":"CARTE!AR38","v":0},{"$f":"IF(CARTE!AS38=\"\",\"\",CARTE!AS38)","v":""},null,null,null,null,null,null,null,{"$f":"CARTE!BG38","v":0},{"$f":"IF(CARTE!BH38=\"\",\"\",CARTE!BH38)","v":""}]
["00:26:00","10:15:00",null,27,"Près de la souche",null,3,null,{"$f":"CARTE!O38","v":327},{"$f":"CARTE!P38","v":183.00009155273438},null,null,{"$f":"CARTE!AM32","v":"Parcours 12points5"},null,{"$f":"CARTE!AR39","v":0},{"$f":"IF(CARTE!AS39=\"\",\"\",CARTE!AS39)","v":""},null,null,null,null,null,null,null,{"$f":"CARTE!BG39","v":0},{"$f":"IF(CARTE!BH39=\"\",\"\",CARTE!BH39)","v":""}]
["00:27:00","10:20:00",null,28,"Sommet",null,3,null,{"$f":"CARTE!O39","v":325},{"$f":"CARTE!P39","v":168.00007629394531},null,null,{"$f":"CARTE!AM33","v":"Parcours 12points8"},null,{"$f":"CARTE!AR40","v":0},{"$f":"IF(CARTE!AS40=\"\",\"\",CARTE!AS40)","v":""},null,null,null,null,null,null,null,{"$f":"CARTE!BG40","v":0},{"$f":"IF(CARTE!BH40=\"\",\"\",CARTE!BH40)","v":""}]
["00:28:00","10:25:00",null,29,"Pied O du mur",null,3,null,{"$f":"CARTE!O40","v":289},{"$f":"CARTE!P40","v":184.00009155273438},null,null,{"$f":"CARTE!AM34","v":"Parcours 12points3"},null,{"$f":"CARTE!AR41","v":0},{"$f":"IF(CARTE!AS41=\"\",\"\",CARTE!AS41)","v":""},null,null,null,null,null,null,null,{"$f":"CARTE!BG41","v":0},{"$f":"IF(CARTE!BH41=\"\",\"\",CARTE!BH41)","v":""}]
["00:29:00","10:30:00",null,30,"Pointe O de la clairière",null,3,null,{"$f":"CARTE!O41","v":296},{"$f":"CARTE!P41","v":169},null,null,{"$f":"CARTE!AM35","v":"Parcours 12points4"},null,{"$f":"CARTE!AR42","v":0},{"$f":"IF(CARTE!AS42=\"\",\"\",CARTE!AS42)","v":""},null,null,null,null,null,null,null,{"$f":"CARTE!BG42","v":0},{"$f":"IF(CARTE!BH42=\"\",\"\",CARTE!BH42)","v":""}]
["00:30:00","10:35:00",null,31,"Croisement de sentiers",null,3,null,{"$f":"CARTE!O42","v":251},{"$f":"CARTE!P42","v":170.00009155273438},null,null,{"$f":"CARTE!AM36","v":"L'oracle della luna"},null,{"$f":"CARTE!AR43","v":0},{"$f":"IF(CARTE!AS43=\"\",\"\",CARTE!AS43)","v":""},null,null,null,null,null,null,null,{"$f":"CARTE!BG43","v":0},{"$f":"IF(CARTE!BH43=\"\",\"\",CARTE!BH43)","v":""}]
["00:31:00","10:40:00",null,32,"Angle NE de la clairière",null,3,null,{"$f":"CARTE!O43","v":227},{"$f":"CARTE!P43","v":181},null,null,{"$f":"CARTE!AM37","v":"Parcours 8SIVIOLET"},null,{"$f":"CARTE!AR44","v":0},{"$f":"IF(CARTE!AS44=\"\",\"\",CARTE!AS44)","v":""},null,null,null,null,null,null,null,{"$f":"CARTE!BG44","v":0},{"$f":"IF(CARTE!BH44=\"\",\"\",CARTE!BH44)","v":""}]
["00:32:00","10:45:00",null,33,"Près du petit roche",null,3,null,{"$f":"CARTE!O44","v":236},{"$f":"CARTE!P44","v":165},null,null,{"$f":"CARTE!AM38","v":"Parcours 7SIVERT"},null,{"$f":"CARTE!AR45","v":0},{"$f":"IF(CARTE!AS45=\"\",\"\",CARTE!AS45)","v":""},null,null,null,null,null,null,null,{"$f":"CARTE!BG45","v":0},{"$f":"IF(CARTE!BH45=\"\",\"\",CARTE!BH45)","v":""}]
["00:33:00","10:50:00",null,34,"Petite grotte",null,4,null,{"$f":"CARTE!O45","v":223},{"$f":"CARTE!P45","v":160},null,null,{"$f":"CARTE!AM39","v":"Parcours 9SIBLEU"},null,{"$f":"CARTE!AR46","v":0},{"$f":"IF(CARTE!AS46=\"\",\"\",CARTE!AS46)","v":""},null,null,null,null,null,null,null,{"$f":"CARTE!BG46","v":0},{"$f":"IF(CARTE!BH46=\"\",\"\",CARTE!BH46)","v":""}]
["00:34:00","10:55:00",null,35,"Pied de la petite falaise",null,4,null,{"$f":"CARTE!O46","v":210},{"$f":"CARTE!P46","v":160.00007629394531},null,null,{"$f":"CARTE!AM40","v":0},null,{"$f":"CARTE!AR47","v":0},{"$f":"IF(CARTE!AS47=\"\",\"\",CARTE!AS47)","v":""},null,null,null,null,null,null,null,{"$f":"CARTE!BG47","v":0},{"$f":"IF(CARTE!BH47=\"\",\"\",CARTE!BH47)","v":""}]
["00:35:00","11:00:00",null,36,"Angle N-E de la clairière",null,4,null,{"$f":"CARTE!O47","v":165},{"$f":"CARTE!P47","v":182.00009155273438},null,null,{"$f":"CARTE!AM41","v":0},null,{"$f":"CARTE!AR48","v":0},{"$f":"IF(CARTE!AS48=\"\",\"\",CARTE!AS48)","v":""},null,null,null,null,null,null,null,{"$f":"CARTE!BG48","v":0},{"$f":"IF(CARTE!BH48=\"\",\"\",CARTE!BH48)","v":""}]
["00:36:00","11:05:00",null,37,"Angle O de la clairière",null,4,null,{"$f":"CARTE!O48","v":218},{"$f":"CARTE!P48","v":205},null,null,{"$f":"CARTE!AM42","v":0},null,{"$f":"CARTE!AR49","v":0},{"$f":"IF(CARTE!AS49=\"\",\"\",CARTE!AS49)","v":""},null,null,null,null,null,null,null,{"$f":"CARTE!BG49","v":0},{"$f":"IF(CARTE!BH49=\"\",\"\",CARTE!BH49)","v":""}]
["00:37:00","11:10:00",null,38,"Entre les deux taillis",null,4,null,{"$f":"CARTE!O49","v":234},{"$f":"CARTE!P49","v":207},null,null,{"$f":"CARTE!AM43","v":0},null,{"$f":"CARTE!AR50","v":0},{"$f":"IF(CARTE!AS50=\"\",\"\",CARTE!AS50)","v":""},null,null,null,null,null,null,null,{"$f":"CARTE!BG50","v":0},{"$f":"IF(CARTE!BH50=\"\",\"\",CARTE!BH50)","v":""}]
["00:38:00","11:15:00",null,39,"Entre les deux arbres",null,4,null,{"$f":"CARTE!O50","v":255},{"$f":"CARTE!P50","v":206.00009155273438},null,null,{"$f":"CARTE!AM44","v":0},null,{"$f":"CARTE!AR51","v":0},{"$f":"IF(CARTE!AS51=\"\",\"\",CARTE!AS51)","v":""},null,null,null,null,null,null,null,{"$f":"CARTE!BG51","v":0},{"$f":"IF(CARTE!BH51=\"\",\"\",CARTE!BH51)","v":""}]
["00:39:00","11:20:00",null,40,"Angle N-O de la clôture",null,4,null,{"$f":"CARTE!O51","v":276},{"$f":"CARTE!P51","v":207.00009155273438},null,null,{"$f":"CARTE!AM45","v":0},null,{"$f":"CARTE!AR52","v":0},{"$f":"IF(CARTE!AS52=\"\",\"\",CARTE!AS52)","v":""},null,null,null,null,null,null,null,{"$f":"CARTE!BG52","v":0},{"$f":"IF(CARTE!BH52=\"\",\"\",CARTE!BH52)","v":""}]
["00:40:00","11:25:00",null,41,"Au N-O de la mare",null,4,null,{"$f":"CARTE!O52","v":322},{"$f":"CARTE!P52","v":207},null,null,{"$f":"CARTE!AM46","v":0},null,{"$f":"CARTE!AR53","v":0},{"$f":"IF(CARTE!AS53=\"\",\"\",CARTE!AS53)","v":""},null,null,null,null,null,null,null,{"$f":"CARTE!BG53","v":0},{"$f":"IF(CARTE!BH53=\"\",\"\",CARTE!BH53)","v":""}]
["00:41:00","11:30:00",null,42,"Angle S-O de la clôture",null,4,null,{"$f":"CARTE!O53","v":274},{"$f":"CARTE!P53","v":223},null,null,{"$f":"CARTE!AM47","v":0},null,{"$f":"CARTE!AR54","v":0},{"$f":"IF(CARTE!AS54=\"\",\"\",CARTE!AS54)","v":""},null,null,null,null,null,null,null,{"$f":"CARTE!BG54","v":0},{"$f":"IF(CARTE!BH54=\"\",\"\",CARTE!BH54)","v":""}]
["00:42:00","11:35:00",null,43,"Extrémité O du bosquet",null,4,null,{"$f":"CARTE!O54","v":271},{"$f":"CARTE!P54","v":240},null,null,{"$f":"CARTE!AM48","v":0}]
["00:43:00","11:40:00",null,44,"Près de la table",null,4,null,{"$f":"CARTE!O55","v":224},{"$f":"CARTE!P55","v":237.00009155273438},null,null,{"$f":"CARTE!AM49","v":0}]
["00:44:00","11:45:00",null,45,"Extrémité E de la dépression",null,4,null,{"$f":"CARTE!O56","v":236},{"$f":"CARTE!P56","v":253.00009155273438},null,null,{"$f":"CARTE!AM50","v":0}]
["00:45:00","11:50:00",null,46,"Angle N-O de la végétation",null,4,null,{"$f":"CARTE!O57","v":265},{"$f":"CARTE!P57","v":267},null,null,{"$f":"CARTE!AM51","v":0}]
[null,"11:55:00",null,47,"Sommet",null,4,null,{"$f":"CARTE!O58","v":310},{"$f":"CARTE!P58","v":263},null,null,{"$f":"CARTE!AM52","v":0}]
[null,"12:00:00",null,48,"Jonction de sentiers",null,4,null,{"$f":"CARTE!O59","v":238},{"$f":"CARTE!P59","v":278.00009155273438},null,null,{"$f":"CARTE!AM53","v":0}]
[null,"12:05:00",null,49,"Côté E de la construction",null,4,null,{"$f":"CARTE!O60","v":220},{"$f":"CARTE!P60","v":299},null,null,{"$f":"CARTE!AM54","v":0}]
[null,"12:10:00",null,50,"Jonction de sentiers",null,4,null,{"$f":"CARTE!O61","v":238},{"$f":"CARTE!P61","v":329},null,null,{"$f":"CARTE!AM55","v":0}]
[null,"12:15:00",null,51,"A l'E du bosquet",null,4,null,{"$f":"CARTE!O62","v":274},{"$f":"CARTE!P62","v":293},null,null,{"$f":"CARTE!AM56","v":0}]
[null,"12:20:00",null,52,"A l'O du bosquet",null,4,null,{"$f":"CARTE!O63","v":268},{"$f":"CARTE!P63","v":315},null,null,{"$f":"CARTE!AM57","v":0}]
[null,"12:25:00",null,53,"Angle de la clôture",null,4,null,{"$f":"CARTE!O64","v":295},{"$f":"CARTE!P64","v":314},null,null,{"$f":"CARTE!AM58","v":0}]
[null,"12:30:00",null,54,"Extémité S du talus, en haut",null,4,null,{"$f":"CARTE!O65","v":334},{"$f":"CARTE!P65","v":289},null,null,{"$f":"CARTE!AM59","v":0}]
[null,"12:35:00",null,55,"Pointe N-E de la clairière",null,4,null,{"$f":"CARTE!O66","v":436},{"$f":"CARTE!P66","v":279.00009155273438},null,null,{"$f":"CARTE!AM60","v":0}]
[null,"12:40:00",null,56,"Jonction sentier-fossé",null,4,null,{"$f":"CARTE!O67","v":396},{"$f":"CARTE!P67","v":303.00009155273438},null,null,{"$f":"CARTE!AM61","v":0}]
[null,"12:45:00",null,57,"Pointe N-E de la clairière",null,4,null,{"$f":"CARTE!O68","v":336},{"$f":"CARTE!P68","v":326},null,null,{"$f":"CARTE!AM62","v":0}]
[null,"12:50:00",null,58,"Pointe N de la clairière",null,4,null,{"$f":"CARTE!O69","v":320},{"$f":"CARTE!P69","v":340},null,null,{"$f":"CARTE!AM63","v":0}]
[null,"12:55:00",null,59,"Jonction de sentiers",null,4,null,{"$f":"CARTE!O70","v":318},{"$f":"CARTE!P70","v":355},null,null,{"$f":"CARTE!AM64","v":0}]
[null,"13:00:00",null,60,"Extrémité E du talus",null,4,null,{"$f":"CARTE!O71","v":274},{"$f":"CARTE!P71","v":355.00009155273438},null,null,{"$f":"CARTE!AM65","v":0}]
[null,"13:05:00",null,61,"Jonction clôture-mur",null,4,null,{"$f":"CARTE!O72","v":383},{"$f":"CARTE!P72","v":349.00009155273438},null,null,{"$f":"CARTE!AM66","v":0}]
[null,"13:10:00",null,62,"Angle N-E du bosquet",null,4,null,{"$f":"CARTE!O73","v":484},{"$f":"CARTE!P73","v":302},null,null,{"$f":"CARTE!AM67","v":0}]
[null,"13:15:00",null,63,"Extrémité S-O de la clairière",null,4,null,{"$f":"CARTE!O74","v":385},{"$f":"CARTE!P74","v":434},null,null,{"$f":"CARTE!AM68","v":0}]
[null,"13:20:00",null,64,"Près de l'agrès",null,4,null,{"$f":"CARTE!O75","v":333},{"$f":"CARTE!P75","v":394.00009155273438},null,null,{"$f":"CARTE!AM69","v":0}]
[null,"13:25:00",null,65,"Entre les deux arbres",null,4,null,{"$f":"CARTE!O76","v":350},{"$f":"CARTE!P76","v":447},null,null,{"$f":"CARTE!AM70","v":0}]
[null,"13:30:00",null,66,"Au N du pylone",null,4,null,{"$f":"CARTE!O77","v":366},{"$f":"CARTE!P77","v":461.99993896484375},null,null,{"$f":"CARTE!AM71","v":0}]
[null,"13:35:00",null,67,"Au coude du sentier",null,4,null,{"$f":"CARTE!O78","v":330},{"$f":"CARTE!P78","v":462}]
[null,"13:40:00",null,68,"Angle N de la clairière",null,4,null,{"$f":"CARTE!O79","v":298},{"$f":"CARTE!P79","v":492.00006103515625}]
[null,"13:45:00",null,69,"Angle N-E de la clairière",null,4,null,{"$f":"CARTE!O80","v":299.89730834960938},{"$f":"CARTE!P80","v":433.20513916015625}]
[null,"13:50:00",null,70,"Jonction de sentiers",null,4,null,{"$f":"CARTE!O81","v":258},{"$f":"CARTE!P81","v":415}]
[null,"13:55:00",null,71,"Sommet",null,4,null,{"$f":"CARTE!O82","v":240},{"$f":"CARTE!P82","v":419.99990844726562}]
[null,"14:00:00",null,72,"Dans la clairière, au pied du talus",null,4,null,{"$f":"CARTE!O83","v":226},{"$f":"CARTE!P83","v":434.00006103515625}]
[null,"14:05:00",null,73,"Angle du talus, en bas",null,4,null,{"$f":"CARTE!O84","v":202},{"$f":"CARTE!P84","v":450.00006103515625}]
[null,"14:10:00",null,74,"Jonction des deux rangées d'arbres",null,4,null,{"$f":"CARTE!O85","v":113.92307281494141},{"$f":"CARTE!P85","v":290.28213500976562}]
[null,"14:15:00",null,75,"Angle S-O de la construction",null,4,null,{"$f":"CARTE!O86","v":111},{"$f":"CARTE!P86","v":356}]
[null,"14:20:00",null,76,"Angle S-E du bâtiment (boitier)",null,4,null,{"$f":"CARTE!O87","v":172},{"$f":"CARTE!P87","v":420}]
[null,"14:25:00",null,0]
[null,"14:30:00"]
[null,"14:35:00"]
[null,"14:40:00"]
[null,"14:45:00"]
[null,"14:50:00"]
[null,"14:55:00"]
[null,"15:00:00"]
[null,"15:05:00"]
[null,"15:10:00"]
[null,"15:15:00"]
[null,"15:20:00"]
[null,"15:25:00"]
[null,"15:30:00"]
[null,"15:35:00"]
[null,"15:40:00"]
[null,"15:45:00"]
[null,"15:50:00"]
[null,"15:55:00"]
[null,"16:00:00"]
[null,"16:05:00"]
[null,"16:10:00"]
[null,"16:15:00"]
[null,"16:20:00"]
[null,"16:25:00"]
[null,"16:30:00"]
[null,"16:35:00"]
[null,"16:40:00"]
[null,"16:45:00"]
[null,"16:50:00"]
[null,"16:55:00"]
[null,"17:00:00"]
[null,"17:05:00"]
[null,"17:10:00"]
[null,"17:15:00"]
[null,"17:20:00"]
[null,"17:25:00"]

{"sheet":"SA","index":23,"n_rows":31,"n_cols":6,"rows_kept":31,"cut":false,"hidden":false,"merged":[]}
[]
[null,"1-","Parcours étoile"]
[null,"2-","Selfie pour les nouveaux postes"]
[null,"3-","Défis"]
[null,"4- parcours balisés"]
[null,"5-road book"]
[null,"6-points remarquables"]
[null," 7-secteurs"]
[null,"8-pose de balises"]
[null,"9-QR code"]
[null,"10-parcours RK"]
[null,"11- créer son parcours"]
[null,"12- parcours inversé"]
[null,"13- Note en direct"]
[null,"14-Lexique"]
[null,"15- l'azimut"]
[null,"16- ford boyard (une lettre par balise)"]
[null,"17-poker"]
[]
[null,"Scannez le carton "]
[null,"SPORT ident boitier electronique",null,null,40,100]
[null,"Oescore"]
[null,"19-correction"]
[]
[null,"carte A3 coupée en 2 pr la lire a 2"]
[]
[null,"Calculer temps de recherche : (regis) calculer temps en footing sur 200m puis calaculer le tps théorique a vol d'oiseau et soustraire au tps reelmment mis"]
[null,"trouver une balise en définissant la vitesse a priori"]
[null,"Aller 2x a la meme balise pr comparer les tps de course"]
[null,"course avec GPS essayer jeudi"]
[null,"Réduction Kilométrique RK"]