{"text_format":"1","workbook":"xlsx","n_sheets":6,"sheets":["ACCUEIL","TPSTOUR","ENREGISTRER","REFERENTIELS","DEBUT","APPEL"],"not_rendered":{"charts":0,"images":8,"macros":1,"external_links":0,"defined_names":17,"comments":1,"pivot_tables":0},"unopened":[],"bounds":{"document_bytes":16777216,"sheet_cells":100000,"rows_first":2000,"rows_last":500,"rows_between":2000,"halvings":0,"cell_chars":16384,"cell_head_chars":4096},"cells_cut":0,"cells_raw":0,"read":"whole","date_system":"1900"}

{"sheet":"ACCUEIL","index":0,"n_rows":16,"n_cols":3,"rows_kept":16,"cut":false,"hidden":false,"merged":[[15,2,15,5]]}
[]
[]
[]
[]
[]
[]
[]
[]
[]
[]
[]
[]
[]
[]
[]
[null,null,"3x500"]

{"sheet":"TPSTOUR","index":1,"n_rows":64,"n_cols":64,"rows_kept":64,"cut":false,"hidden":false,"merged":[[38,31,38,35],[38,37,38,41],[38,43,38,47],[38,1,38,5],[38,7,38,11],[38,13,38,17],[38,19,38,23],[38,25,38,29],[1,13,1,47],[1,1,1,5],[15,1,15,5],[15,7,15,11],[15,13,15,17],[15,19,15,23],[15,25,15,29],[15,31,15,35],[15,37,15,41],[15,43,15,47]]}
[]
[null,null,null,null,null,null,null,null,null,null,null,null,null,null,null,null,null,null,null,null,null,null,null,null,null,null,null,null,null,null,null,null,null,null,null,null,null,null,null,null,null,null,null,null,null,null,null,null,null,null,null,null,"Classe"]
[null,1,null,2,null,3,4,4,5,5,6,6,null,7,null,8,9,9,10,10,12,11,null,12,null,13,16,14,17,15,18,16,null,17,null,18,22,19,23,20,24,21,null,22,null,23,28,24,null,null,null,null,"TELEC"]
[null,{"$f":"BA5","v":"Abdelbasset"},null,{"$f":"BA6","v":"Alen"},null,{"$f":"BA7","v":"Bilal"},null,{"$f":"BA8","v":"Christian"},null,{"$f":"BA9","v":"Halis"},null,{"$f":"BA10","v":"Laurent"},null,{"$f":"BA11","v":"Mickael"},null,{"$f":"BA12","v":"Salim"},null,{"$f":"BA13","v":"Willy"},null,{"$f":"BA14","v":"mickael"},null,{"$f":"BA15","v":"mika"},null,{"$f":"BA16","v":0},null,{"$f":"BA17","v":0},null,{"$f":"BA18","v":0},null,{"$f":"BA19","v":0},null,{"$f":"BA20","v":0},null,{"$f":"BA21","v":0},null,{"$f":"BA22","v":0},null,{"$f":"BA23","v":0},null,{"$f":"BA24","v":0},null,{"$f":"BA25","v":0},null,{"$f":"BA26","v":0},null,{"$f":"BA27","v":0},null,{"$f":"BA28","v":0},null,null,null,null,"Modifier les élèves (équipes) si besoin"]
[null,{"$f":"VLOOKUP(B4,$BA$5:$BB$28,2,FALSE)","v":"g"},0,"g",0,"g",0,"g",0,"g",0,"g",0,"g",0,"g",0,"g",0,"g",0,0,0,0,0,0,0,0,0,0,0,0,0,0,0,0,0,0,0,0,0,0,0,0,0,0,0,0,null,null,null,1,{"$f":"OFFSET(INDEX(eleves,MATCH(AZ5,numero,0),MATCH($BA$3,classe,0)),0,1)","v":"Abdelbasset"},{"$f":"OFFSET(INDEX(eleves,MATCH(AZ5,numero,0),MATCH($BA$3,classe,0)),0,2)","v":"g"}]
[250,null,null,null,null,null,null,null,null,null,null,null,null,null,null,null,null,null,null,null,null,null,null,null,null,null,null,null,null,null,null,null,null,null,null,null,null,null,null,null,null,null,null,null,null,null,null,null,null,250,null,2,"Alen","g"]
["1er 500",null,null,null,null,null,null,null,null,null,null,null,null,null,null,null,null,null,null,null,null,null,null,null,null,null,null,null,null,null,null,null,null,null,null,null,null,null,null,null,null,null,null,null,null,null,null,null,null,"1er 500",null,3,"Bilal","g"]
[250,null,null,null,null,null,null,null,null,null,null,null,null,null,null,null,null,null,null,null,null,null,null,null,null,null,null,null,null,null,null,null,null,null,null,null,null,null,null,null,null,null,null,null,null,null,null,null,null,250,null,4,"Christian","g"]
["2è 500",null,null,null,null,null,null,null,null,null,null,null,null,null,null,null,null,null,null,null,null,null,null,null,null,null,null,null,null,null,null,null,null,null,null,null,null,null,null,null,null,null,null,null,null,null,null,null,null,"2è 500",null,5,"Halis","g"]
[250,null,null,null,null,null,null,null,null,null,null,null,null,null,null,null,null,null,null,null,null,null,null,null,null,null,null,null,null,null,null,null,null,null,null,null,null,null,null,null,null,null,null,null,null,null,null,null,null,250,null,6,"Laurent","g"]
["3è 500",null,null,null,null,null,null,null,null,null,null,null,null,null,null,null,null,null,null,null,null,null,null,null,null,null,null,null,null,null,null,null,null,null,null,null,null,null,null,null,null,null,null,null,null,null,null,null,null,"3è 500",null,7,"Mickael","g"]
["3x500",{"$f":"B11+B9+B7","v":"00:00:00"},null,{"$f":"D11+D9+D7","v":"00:00:00"},null,{"$f":"F11+F9+F7","v":"00:00:00"},null,{"$f":"H11+H9+H7","v":"00:00:00"},null,{"$f":"J11+J9+J7","v":"00:00:00"},null,{"$f":"L11+L9+L7","v":"00:00:00"},null,{"$f":"N11+N9+N7","v":"00:00:00"},null,{"$f":"P11+P9+P7","v":"00:00:00"},null,{"$f":"R11+R9+R7","v":"00:00:00"},null,{"$f":"T11+T9+T7","v":"00:00:00"},null,{"$f":"V11+V9+V7","v":"00:00:00"},null,{"$f":"X11+X9+X7","v":"00:00:00"},null,{"$f":"Z11+Z9+Z7","v":"00:00:00"},null,{"$f":"AB11+AB9+AB7","v":"00:00:00"},null,{"$f":"AD11+AD9+AD7","v":"00:00:00"},null,{"$f":"AF11+AF9+AF7","v":"00:00:00"},null,{"$f":"AH11+AH9+AH7","v":"00:00:00"},null,{"$f":"AJ11+AJ9+AJ7","v":"00:00:00"},null,{"$f":"AL11+AL9+AL7","v":"00:00:00"},null,{"$f":"AN11+AN9+AN7","v":"00:00:00"},null,{"$f":"AP11+AP9+AP7","v":"00:00:00"},null,{"$f":"AR11+AR9+AR7","v":"00:00:00"},null,{"$f":"AT11+AT9+AT7","v":"00:00:00"},null,{"$f":"AV11+AV9+AV7","v":"00:00:00"},null,"3x500",null,8,"Salim","g"]
["Projet 3x500",null,null,null,null,null,null,null,null,null,null,null,null,null,null,null,null,null,null,null,null,null,null,null,null,null,null,null,null,null,null,null,null,null,null,null,null,null,null,null,null,null,null,null,null,null,null,null,null,"Projet 3x500",null,9,"Willy","g"]
["Facultatif",null,null,null,null,null,null,null,null,null,null,null,null,null,null,null,null,null,null,null,null,null,null,null,null,null,null,null,null,null,null,null,null,null,null,null,null,null,null,null,null,null,null,null,null,null,null,null,null,"FACULTATIF",null,10,"mickael",0]
["NOTE/14",{"$f":"IFERROR(IF(B5=\"g\",VLOOKUP(B12,DEBUT!$K$5:$M$35,3,TRUE),VLOOKUP(B12,DEBUT!$L$5:$M$35,2,TRUE)),\"\")","v":""},null,{"$f":"IFERROR(IF(D5=\"g\",VLOOKUP(D12,DEBUT!$K$5:$M$35,3,TRUE),VLOOKUP(D12,DEBUT!$L$5:$M$35,2,TRUE)),\"\")","v":""},null,{"$f":"IFERROR(IF(F5=\"g\",VLOOKUP(F12,DEBUT!$K$5:$M$35,3,TRUE),VLOOKUP(F12,DEBUT!$L$5:$M$35,2,TRUE)),\"\")","v":""},null,{"$f":"IFERROR(IF(H5=\"g\",VLOOKUP(H12,DEBUT!$K$5:$M$35,3,TRUE),VLOOKUP(H12,DEBUT!$L$5:$M$35,2,TRUE)),\"\")","v":""},null,{"$f":"IFERROR(IF(J5=\"g\",VLOOKUP(J12,DEBUT!$K$5:$M$35,3,TRUE),VLOOKUP(J12,DEBUT!$L$5:$M$35,2,TRUE)),\"\")","v":""},null,{"$f":"IFERROR(IF(L5=\"g\",VLOOKUP(L12,DEBUT!$K$5:$M$35,3,TRUE),VLOOKUP(L12,DEBUT!$L$5:$M$35,2,TRUE)),\"\")","v":""},null,{"$f":"IFERROR(IF(N5=\"g\",VLOOKUP(N12,DEBUT!$K$5:$M$35,3,TRUE),VLOOKUP(N12,DEBUT!$L$5:$M$35,2,TRUE)),\"\")","v":""},null,{"$f":"IFERROR(IF(P5=\"g\",VLOOKUP(P12,DEBUT!$K$5:$M$35,3,TRUE),VLOOKUP(P12,DEBUT!$L$5:$M$35,2,TRUE)),\"\")","v":""},null,{"$f":"IFERROR(IF(R5=\"g\",VLOOKUP(R12,DEBUT!$K$5:$M$35,3,TRUE),VLOOKUP(R12,DEBUT!$L$5:$M$35,2,TRUE)),\"\")","v":""},null,{"$f":"IFERROR(IF(T5=\"g\",VLOOKUP(T12,DEBUT!$K$5:$M$35,3,TRUE),VLOOKUP(T12,DEBUT!$L$5:$M$35,2,TRUE)),\"\")","v":""},null,{"$f":"IFERROR(IF(V5=\"g\",VLOOKUP(V12,DEBUT!$K$5:$M$35,3,TRUE),VLOOKUP(V12,DEBUT!$L$5:$M$35,2,TRUE)),\"\")","v":""},null,{"$f":"IFERROR(IF(X5=\"g\",VLOOKUP(X12,DEBUT!$K$5:$M$35,3,TRUE),VLOOKUP(X12,DEBUT!$L$5:$M$35,2,TRUE)),\"\")","v":""},null,{"$f":"IFERROR(IF(Z5=\"g\",VLOOKUP(Z12,DEBUT!$K$5:$M$35,3,TRUE),VLOOKUP(Z12,DEBUT!$L$5:$M$35,2,TRUE)),\"\")","v":""},null,{"$f":"IFERROR(IF(AB5=\"g\",VLOOKUP(AB12,DEBUT!$K$5:$M$35,3,TRUE),VLOOKUP(AB12,DEBUT!$L$5:$M$35,2,TRUE)),\"\")","v":""},null,{"$f":"IFERROR(IF(AD5=\"g\",VLOOKUP(AD12,DEBUT!$K$5:$M$35,3,TRUE),VLOOKUP(AD12,DEBUT!$L$5:$M$35,2,TRUE)),\"\")","v":""},null,{"$f":"IFERROR(IF(AF5=\"g\",VLOOKUP(AF12,DEBUT!$K$5:$M$35,3,TRUE),VLOOKUP(AF12,DEBUT!$L$5:$M$35,2,TRUE)),\"\")","v":""},null,{"$f":"IFERROR(IF(AH5=\"g\",VLOOKUP(AH12,DEBUT!$K$5:$M$35,3,TRUE),VLOOKUP(AH12,DEBUT!$L$5:$M$35,2,TRUE)),\"\")","v":""},null,{"$f":"IFERROR(IF(AJ5=\"g\",VLOOKUP(AJ12,DEBUT!$K$5:$M$35,3,TRUE),VLOOKUP(AJ12,DEBUT!$L$5:$M$35,2,TRUE)),\"\")","v":""},null,{"$f":"IFERROR(IF(AL5=\"g\",VLOOKUP(AL12,DEBUT!$K$5:$M$35,3,TRUE),VLOOKUP(AL12,DEBUT!$L$5:$M$35,2,TRUE)),\"\")","v":""},null,{"$f":"IFERROR(IF(AN5=\"g\",VLOOKUP(AN12,DEBUT!$K$5:$M$35,3,TRUE),VLOOKUP(AN12,DEBUT!$L$5:$M$35,2,TRUE)),\"\")","v":""},null,{"$f":"IFERROR(IF(AP5=\"g\",VLOOKUP(AP12,DEBUT!$K$5:$M$35,3,TRUE),VLOOKUP(AP12,DEBUT!$L$5:$M$35,2,TRUE)),\"\")","v":""},null,{"$f":"IFERROR(IF(AR5=\"g\",VLOOKUP(AR12,DEBUT!$K$5:$M$35,3,TRUE),VLOOKUP(AR12,DEBUT!$L$5:$M$35,2,TRUE)),\"\")","v":""},null,{"$f":"IFERROR(IF(AT5=\"g\",VLOOKUP(AT12,DEBUT!$K$5:$M$35,3,TRUE),VLOOKUP(AT12,DEBUT!$L$5:$M$35,2,TRUE)),\"\")","v":""},null,{"$f":"IFERROR(IF(AV5=\"g\",VLOOKUP(AV12,DEBUT!$K$5:$M$35,3,TRUE),VLOOKUP(AV12,DEBUT!$L$5:$M$35,2,TRUE)),\"\")","v":""},null,"NOTE/14",null,11,"mika",0]
[null,1,null,null,null,null,null,2,null,null,null,null,null,3,null,null,null,null,null,4,null,null,null,null,null,5,null,null,null,null,null,6,null,null,null,null,null,7,null,null,null,null,null,8,null,null,null,null,null,null,null,12,0,0]
["En temps","C1=C3",null,"C2<C3",null,"C3=C1",null,"C1=C2","C2=C3","C2=C3",null,"C3=C1",null,"C1>C2",null,"C2<C1",null,"C3<C2",null,"C1<C2",null,"C2=C3",null,"C3=C2",null,"C1=C2",null,"C2=C1",null,"C3>C1",null,"C1=C3",null,"C2>C3",null,"C3=C1",null,"C1>C2",null,"C2=C3",null,"C3=C2",null,"C1=C2",null,"C2=C1",null,"C3<C1",null,null,null,13,0,0]
["STRATEGIE CHOISIE",null,null,null,null,null,null,null,null,null,null,null,null,null,null,null,null,null,null,null,null,null,null,null,null,null,null,null,null,null,null,null,null,null,null,null,null,null,null,null,null,null,null,null,null,null,null,null,null,"STRATEGIE CHOISIE",null,14,0,0]
["REGULATION (même si identique)",null,null,null,null,null,null,null,null,null,null,null,null,null,null,null,null,null,null,null,null,null,null,null,null,null,null,null,null,null,null,null,null,null,null,null,null,null,null,null,null,null,null,null,null,null,null,null,null,"REGULATION (même si identique)",null,15,0,0]
["RESPECT",{"$f":"IFERROR(IF($BL41=0,\"\",$BL41),\"??\")","v":"??"},null,{"$f":"IFERROR(IF($BL42=0,\"\",$BL42),\"??\")","v":"??"},null,{"$f":"IFERROR(IF($BL43=0,\"\",$BL43),\"??\")","v":"??"},null,{"$f":"IFERROR(IF($BL44=0,\"\",$BL44),\"??\")","v":"??"},null,{"$f":"IFERROR(IF($BL45=0,\"\",$BL45),\"??\")","v":"??"},null,{"$f":"IFERROR(IF($BL46=0,\"\",$BL46),\"??\")","v":"??"},null,{"$f":"IFERROR(IF($BL47=0,\"\",$BL47),\"??\")","v":"??"},null,{"$f":"IFERROR(IF($BL48=0,\"\",$BL48),\"??\")","v":"??"},null,{"$f":"IFERROR(IF($BL49=0,\"\",$BL49),\"??\")","v":"??"},null,{"$f":"IFERROR(IF($BL50=0,\"\",$BL50),\"??\")","v":"??"},null,{"$f":"IFERROR(IF($BL51=0,\"\",$BL51),\"??\")","v":"??"},null,{"$f":"IFERROR(IF($BL52=0,\"\",$BL52),\"??\")","v":"??"},null,{"$f":"IFERROR(IF($BL53=0,\"\",$BL53),\"??\")","v":"??"},null,{"$f":"IFERROR(IF($BL54=0,\"\",$BL54),\"??\")","v":"??"},null,{"$f":"IFERROR(IF($BL55=0,\"\",$BL55),\"??\")","v":"??"},null,{"$f":"IFERROR(IF($BL56=0,\"\",$BL56),\"??\")","v":"??"},null,{"$f":"IFERROR(IF($BL57=0,\"\",$BL57),\"??\")","v":"??"},null,{"$f":"IFERROR(IF($BL58=0,\"\",$BL58),\"??\")","v":"??"},null,{"$f":"IFERROR(IF($BL59=0,\"\",$BL59),\"??\")","v":"??"},null,{"$f":"IFERROR(IF($BL60=0,\"\",$BL60),\"??\")","v":"??"},null,{"$f":"IFERROR(IF($BL61=0,\"\",$BL61),\"??\")","v":"??"},null,{"$f":"IFERROR(IF($BL62=0,\"\",$BL62),\"??\")","v":"??"},null,{"$f":"IFERROR(IF($BL63=0,\"\",$BL63),\"??\")","v":"??"},null,{"$f":"IFERROR(IF($BL64=0,\"\",$BL64),\"??\")","v":"??"},null,"RESPECT",null,16,0,0]
["NOTE /3",{"$f":"IFERROR(VLOOKUP(B20,DEBUT!$O$5:$P$11,2,FALSE),\"\")","v":0},null,{"$f":"IFERROR(VLOOKUP(D20,DEBUT!$O$5:$P$11,2,FALSE),\"\")","v":0},null,{"$f":"IFERROR(VLOOKUP(F20,DEBUT!$O$5:$P$11,2,FALSE),\"\")","v":0},null,{"$f":"IFERROR(VLOOKUP(H20,DEBUT!$O$5:$P$11,2,FALSE),\"\")","v":0},null,{"$f":"IFERROR(VLOOKUP(J20,DEBUT!$O$5:$P$11,2,FALSE),\"\")","v":0},null,{"$f":"IFERROR(VLOOKUP(L20,DEBUT!$O$5:$P$11,2,FALSE),\"\")","v":0},null,{"$f":"IFERROR(VLOOKUP(N20,DEBUT!$O$5:$P$11,2,FALSE),\"\")","v":0},null,{"$f":"IFERROR(VLOOKUP(P20,DEBUT!$O$5:$P$11,2,FALSE),\"\")","v":0},null,{"$f":"IFERROR(VLOOKUP(R20,DEBUT!$O$5:$P$11,2,FALSE),\"\")","v":0},null,{"$f":"IFERROR(VLOOKUP(T20,DEBUT!$O$5:$P$11,2,FALSE),\"\")","v":0},null,{"$f":"IFERROR(VLOOKUP(V20,DEBUT!$O$5:$P$11,2,FALSE),\"\")","v":0},null,{"$f":"IFERROR(VLOOKUP(X20,DEBUT!$O$5:$P$11,2,FALSE),\"\")","v":0},null,{"$f":"IFERROR(VLOOKUP(Z20,DEBUT!$O$5:$P$11,2,FALSE),\"\")","v":0},null,{"$f":"IFERROR(VLOOKUP(AB20,DEBUT!$O$5:$P$11,2,FALSE),\"\")","v":0},null,{"$f":"IFERROR(VLOOKUP(AD20,DEBUT!$O$5:$P$11,2,FALSE),\"\")","v":0},null,{"$f":"IFERROR(VLOOKUP(AF20,DEBUT!$O$5:$P$11,2,FALSE),\"\")","v":0},null,{"$f":"IFERROR(VLOOKUP(AH20,DEBUT!$O$5:$P$11,2,FALSE),\"\")","v":0},null,{"$f":"IFERROR(VLOOKUP(AJ20,DEBUT!$O$5:$P$11,2,FALSE),\"\")","v":0},null,{"$f":"IFERROR(VLOOKUP(AL20,DEBUT!$O$5:$P$11,2,FALSE),\"\")","v":0},null,{"$f":"IFERROR(VLOOKUP(AN20,DEBUT!$O$5:$P$11,2,FALSE),\"\")","v":0},null,{"$f":"IFERROR(VLOOKUP(AP20,DEBUT!$O$5:$P$11,2,FALSE),\"\")","v":0},null,{"$f":"IFERROR(VLOOKUP(AR20,DEBUT!$O$5:$P$11,2,FALSE),\"\")","v":0},null,{"$f":"IFERROR(VLOOKUP(AT20,DEBUT!$O$5:$P$11,2,FALSE),\"\")","v":0},null,{"$f":"IFERROR(VLOOKUP(AV20,DEBUT!$O$5:$P$11,2,FALSE),\"\")","v":0},null,"NOTE /3",null,17,0,0]
["NOTE PREPARATION /3",null,null,null,null,null,null,null,null,null,null,null,null,null,null,null,null,null,null,null,null,null,null,null,null,null,null,null,null,null,null,null,null,null,null,null,null,null,null,null,null,null,null,null,null,null,null,null,0,"NOTE PREPARATION /3",null,18,0,0]
["NOTE /20",{"$f":"IFERROR(B15+B21+B22,\"\")","v":""},null,{"$f":"IFERROR(D15+D21+D22,\"\")","v":""},null,{"$f":"IFERROR(F15+F21+F22,\"\")","v":""},null,{"$f":"IFERROR(H15+H21+H22,\"\")","v":""},null,{"$f":"IFERROR(J15+J21+J22,\"\")","v":""},null,{"$f":"IFERROR(L15+L21+L22,\"\")","v":""},null,{"$f":"IFERROR(N15+N21+N22,\"\")","v":""},null,{"$f":"IFERROR(P15+P21+P22,\"\")","v":""},null,{"$f":"IFERROR(R15+R21+R22,\"\")","v":""},null,{"$f":"IFERROR(T15+T21+T22,\"\")","v":""},null,{"$f":"IFERROR(V15+V21+V22,\"\")","v":""},null,{"$f":"IFERROR(X15+X21+X22,\"\")","v":""},null,{"$f":"IFERROR(Z15+Z21+Z22,\"\")","v":""},null,{"$f":"IFERROR(AB15+AB21+AB22,\"\")","v":""},null,{"$f":"IFERROR(AD15+AD21+AD22,\"\")","v":""},null,{"$f":"IFERROR(AF15+AF21+AF22,\"\")","v":""},null,{"$f":"IFERROR(AH15+AH21+AH22,\"\")","v":""},null,{"$f":"IFERROR(AJ15+AJ21+AJ22,\"\")","v":""},null,{"$f":"IFERROR(AL15+AL21+AL22,\"\")","v":""},null,{"$f":"IFERROR(AN15+AN21+AN22,\"\")","v":""},null,{"$f":"IFERROR(AP15+AP21+AP22,\"\")","v":""},null,{"$f":"IFERROR(AR15+AR21+AR22,\"\")","v":""},null,{"$f":"IFERROR(AT15+AT21+AT22,\"\")","v":""},null,{"$f":"IFERROR(AV15+AV21+AV22,\"\")","v":""},null,"NOTE /20",null,19,0,0]
[null,null,null,null,null,null,null,null,null,null,null,null,null,null,null,null,null,null,null,null,null,null,null,null,null,null,null,null,null,null,null,null,null,null,null,null,null,null,null,null,null,null,null,null,null,null,null,null,null,null,null,20,{"$f":"OFFSET(INDEX(eleves,MATCH(AZ24,numero,0),MATCH($BA$3,classe,0)),0,1)","v":0},{"$f":"OFFSET(INDEX(eleves,MATCH(AZ24,numero,0),MATCH($BA$3,classe,0)),0,2)","v":0}]
["Vitesse 250",{"$f":"IFERROR(250/C25*3.6,\"\")","v":""},{"$f":"HOUR(B6)*3600+MINUTE(B6)*60+SECOND(B6)","v":0},{"$f":"IFERROR(250/E25*3.6,\"\")","v":""},{"$f":"HOUR(D6)*3600+MINUTE(D6)*60+SECOND(D6)","v":0},{"$f":"IFERROR(250/G25*3.6,\"\")","v":""},{"$f":"HOUR(F6)*3600+MINUTE(F6)*60+SECOND(F6)","v":0},{"$f":"IFERROR(250/I25*3.6,\"\")","v":""},{"$f":"HOUR(H6)*3600+MINUTE(H6)*60+SECOND(H6)","v":0},{"$f":"IFERROR(250/K25*3.6,\"\")","v":""},{"$f":"HOUR(J6)*3600+MINUTE(J6)*60+SECOND(J6)","v":0},{"$f":"IFERROR(250/M25*3.6,\"\")","v":""},{"$f":"HOUR(L6)*3600+MINUTE(L6)*60+SECOND(L6)","v":0},{"$f":"IFERROR(250/O25*3.6,\"\")","v":""},{"$f":"HOUR(N6)*3600+MINUTE(N6)*60+SECOND(N6)","v":0},{"$f":"IFERROR(250/Q25*3.6,\"\")","v":""},{"$f":"HOUR(P6)*3600+MINUTE(P6)*60+SECOND(P6)","v":0},{"$f":"IFERROR(250/S25*3.6,\"\")","v":""},{"$f":"HOUR(R6)*3600+MINUTE(R6)*60+SECOND(R6)","v":0},{"$f":"IFERROR(250/U25*3.6,\"\")","v":""},{"$f":"HOUR(T6)*3600+MINUTE(T6)*60+SECOND(T6)","v":0},{"$f":"IFERROR(250/W25*3.6,\"\")","v":""},{"$f":"HOUR(V6)*3600+MINUTE(V6)*60+SECOND(V6)","v":0},{"$f":"IFERROR(250/Y25*3.6,\"\")","v":""},{"$f":"HOUR(X6)*3600+MINUTE(X6)*60+SECOND(X6)","v":0},{"$f":"IFERROR(250/AA25*3.6,\"\")","v":""},{"$f":"HOUR(Z6)*3600+MINUTE(Z6)*60+SECOND(Z6)","v":0},{"$f":"IFERROR(250/AC25*3.6,\"\")","v":""},{"$f":"HOUR(AB6)*3600+MINUTE(AB6)*60+SECOND(AB6)","v":0},{"$f":"IFERROR(250/AE25*3.6,\"\")","v":""},{"$f":"HOUR(AD6)*3600+MINUTE(AD6)*60+SECOND(AD6)","v":0},{"$f":"IFERROR(250/AG25*3.6,\"\")","v":""},{"$f":"HOUR(AF6)*3600+MINUTE(AF6)*60+SECOND(AF6)","v":0},{"$f":"IFERROR(250/AI25*3.6,\"\")","v":""},{"$f":"HOUR(AH6)*3600+MINUTE(AH6)*60+SECOND(AH6)","v":0},{"$f":"IFERROR(250/AK25*3.6,\"\")","v":""},{"$f":"HOUR(AJ6)*3600+MINUTE(AJ6)*60+SECOND(AJ6)","v":0},{"$f":"IFERROR(250/AM25*3.6,\"\")","v":""},{"$f":"HOUR(AL6)*3600+MINUTE(AL6)*60+SECOND(AL6)","v":0},{"$f":"IFERROR(250/AO25*3.6,\"\")","v":""},{"$f":"HOUR(AN6)*3600+MINUTE(AN6)*60+SECOND(AN6)","v":0},{"$f":"IFERROR(250/AQ25*3.6,\"\")","v":""},{"$f":"HOUR(AP6)*3600+MINUTE(AP6)*60+SECOND(AP6)","v":0},{"$f":"IFERROR(250/AS25*3.6,\"\")","v":""},{"$f":"HOUR(AR6)*3600+MINUTE(AR6)*60+SECOND(AR6)","v":0},{"$f":"IFERROR(250/AU25*3.6,\"\")","v":""},{"$f":"HOUR(AT6)*3600+MINUTE(AT6)*60+SECOND(AT6)","v":0},{"$f":"IFERROR(250/AW25*3.6,\"\")","v":""},null,"Vitesse 250",null,21,{"$f":"OFFSET(INDEX(eleves,MATCH(AZ25,numero,0),MATCH($BA$3,classe,0)),0,1)","v":0},{"$f":"OFFSET(INDEX(eleves,MATCH(AZ25,numero,0),MATCH($BA$3,classe,0)),0,2)","v":0}]
["Vitesse 250",{"$f":"IFERROR(250/C26*3.6,\"\")","v":""},{"$f":"ABS((HOUR(B7)*3600+MINUTE(B7)*60+SECOND(B7))-(HOUR(B6)*3600+MINUTE(B6)*60+SECOND(B6)))","v":0},{"$f":"IFERROR(250/E26*3.6,\"\")","v":""},{"$f":"ABS((HOUR(D7)*3600+MINUTE(D7)*60+SECOND(D7))-(HOUR(D6)*3600+MINUTE(D6)*60+SECOND(D6)))","v":0},{"$f":"IFERROR(250/G26*3.6,\"\")","v":""},{"$f":"ABS((HOUR(F7)*3600+MINUTE(F7)*60+SECOND(F7))-(HOUR(F6)*3600+MINUTE(F6)*60+SECOND(F6)))","v":0},{"$f":"IFERROR(250/I26*3.6,\"\")","v":""},{"$f":"ABS((HOUR(H7)*3600+MINUTE(H7)*60+SECOND(H7))-(HOUR(H6)*3600+MINUTE(H6)*60+SECOND(H6)))","v":0},{"$f":"IFERROR(250/K26*3.6,\"\")","v":""},{"$f":"ABS((HOUR(J7)*3600+MINUTE(J7)*60+SECOND(J7))-(HOUR(J6)*3600+MINUTE(J6)*60+SECOND(J6)))","v":0},{"$f":"IFERROR(250/M26*3.6,\"\")","v":""},{"$f":"ABS((HOUR(L7)*3600+MINUTE(L7)*60+SECOND(L7))-(HOUR(L6)*3600+MINUTE(L6)*60+SECOND(L6)))","v":0},{"$f":"IFERROR(250/O26*3.6,\"\")","v":""},{"$f":"ABS((HOUR(N7)*3600+MINUTE(N7)*60+SECOND(N7))-(HOUR(N6)*3600+MINUTE(N6)*60+SECOND(N6)))","v":0},{"$f":"IFERROR(250/Q26*3.6,\"\")","v":""},{"$f":"ABS((HOUR(P7)*3600+MINUTE(P7)*60+SECOND(P7))-(HOUR(P6)*3600+MINUTE(P6)*60+SECOND(P6)))","v":0},{"$f":"IFERROR(250/S26*3.6,\"\")","v":""},{"$f":"ABS((HOUR(R7)*3600+MINUTE(R7)*60+SECOND(R7))-(HOUR(R6)*3600+MINUTE(R6)*60+SECOND(R6)))","v":0},{"$f":"IFERROR(250/U26*3.6,\"\")","v":""},{"$f":"ABS((HOUR(T7)*3600+MINUTE(T7)*60+SECOND(T7))-(HOUR(T6)*3600+MINUTE(T6)*60+SECOND(T6)))","v":0},{"$f":"IFERROR(250/W26*3.6,\"\")","v":""},{"$f":"ABS((HOUR(V7)*3600+MINUTE(V7)*60+SECOND(V7))-(HOUR(V6)*3600+MINUTE(V6)*60+SECOND(V6)))","v":0},{"$f":"IFERROR(250/Y26*3.6,\"\")","v":""},{"$f":"ABS((HOUR(X7)*3600+MINUTE(X7)*60+SECOND(X7))-(HOUR(X6)*3600+MINUTE(X6)*60+SECOND(X6)))","v":0},{"$f":"IFERROR(250/AA26*3.6,\"\")","v":""},{"$f":"ABS((HOUR(Z7)*3600+MINUTE(Z7)*60+SECOND(Z7))-(HOUR(Z6)*3600+MINUTE(Z6)*60+SECOND(Z6)))","v":0},{"$f":"IFERROR(250/AC26*3.6,\"\")","v":""},{"$f":"ABS((HOUR(AB7)*3600+MINUTE(AB7)*60+SECOND(AB7))-(HOUR(AB6)*3600+MINUTE(AB6)*60+SECOND(AB6)))","v":0},{"$f":"IFERROR(250/AE26*3.6,\"\")","v":""},{"$f":"ABS((HOUR(AD7)*3600+MINUTE(AD7)*60+SECOND(AD7))-(HOUR(AD6)*3600+MINUTE(AD6)*60+SECOND(AD6)))","v":0},{"$f":"IFERROR(250/AG26*3.6,\"\")","v":""},{"$f":"ABS((HOUR(AF7)*3600+MINUTE(AF7)*60+SECOND(AF7))-(HOUR(AF6)*3600+MINUTE(AF6)*60+SECOND(AF6)))","v":0},{"$f":"IFERROR(250/AI26*3.6,\"\")","v":""},{"$f":"ABS((HOUR(AH7)*3600+MINUTE(AH7)*60+SECOND(AH7))-(HOUR(AH6)*3600+MINUTE(AH6)*60+SECOND(AH6)))","v":0},{"$f":"IFERROR(250/AK26*3.6,\"\")","v":""},{"$f":"ABS((HOUR(AJ7)*3600+MINUTE(AJ7)*60+SECOND(AJ7))-(HOUR(AJ6)*3600+MINUTE(AJ6)*60+SECOND(AJ6)))","v":0},{"$f":"IFERROR(250/AM26*3.6,\"\")","v":""},{"$f":"ABS((HOUR(AL7)*3600+MINUTE(AL7)*60+SECOND(AL7))-(HOUR(AL6)*3600+MINUTE(AL6)*60+SECOND(AL6)))","v":0},{"$f":"IFERROR(250/AO26*3.6,\"\")","v":""},{"$f":"ABS((HOUR(AN7)*3600+MINUTE(AN7)*60+SECOND(AN7))-(HOUR(AN6)*3600+MINUTE(AN6)*60+SECOND(AN6)))","v":0},{"$f":"IFERROR(250/AQ26*3.6,\"\")","v":""},{"$f":"ABS((HOUR(AP7)*3600+MINUTE(AP7)*60+SECOND(AP7))-(HOUR(AP6)*3600+MINUTE(AP6)*60+SECOND(AP6)))","v":0},{"$f":"IFERROR(250/AS26*3.6,\"\")","v":""},{"$f":"ABS((HOUR(AR7)*3600+MINUTE(AR7)*60+SECOND(AR7))-(HOUR(AR6)*3600+MINUTE(AR6)*60+SECOND(AR6)))","v":0},{"$f":"IFERROR(250/AU26*3.6,\"\")","v":""},{"$f":"ABS((HOUR(AT7)*3600+MINUTE(AT7)*60+SECOND(AT7))-(HOUR(AT6)*3600+MINUTE(AT6)*60+SECOND(AT6)))","v":0},{"$f":"IFERROR(250/AW26*3.6,\"\")","v":""},null,"Vitesse 250",null,22,{"$f":"OFFSET(INDEX(eleves,MATCH(AZ26,numero,0),MATCH($BA$3,classe,0)),0,1)","v":0},{"$f":"OFFSET(INDEX(eleves,MATCH(AZ26,numero,0),MATCH($BA$3,classe,0)),0,2)","v":0}]
["Vitesse 1er 500",{"$f":"IFERROR(500/C27*3.6,\"\")","v":""},{"$f":"HOUR(B7)*3600+MINUTE(B7)*60+SECOND(B7)","v":0},{"$f":"IFERROR(500/E27*3.6,\"\")","v":""},{"$f":"HOUR(D7)*3600+MINUTE(D7)*60+SECOND(D7)","v":0},{"$f":"IFERROR(500/G27*3.6,\"\")","v":""},{"$f":"HOUR(F7)*3600+MINUTE(F7)*60+SECOND(F7)","v":0},{"$f":"IFERROR(500/I27*3.6,\"\")","v":""},{"$f":"HOUR(H7)*3600+MINUTE(H7)*60+SECOND(H7)","v":0},{"$f":"IFERROR(500/K27*3.6,\"\")","v":""},{"$f":"HOUR(J7)*3600+MINUTE(J7)*60+SECOND(J7)","v":0},{"$f":"IFERROR(500/M27*3.6,\"\")","v":""},{"$f":"HOUR(L7)*3600+MINUTE(L7)*60+SECOND(L7)","v":0},{"$f":"IFERROR(500/O27*3.6,\"\")","v":""},{"$f":"HOUR(N7)*3600+MINUTE(N7)*60+SECOND(N7)","v":0},{"$f":"IFERROR(500/Q27*3.6,\"\")","v":""},{"$f":"HOUR(P7)*3600+MINUTE(P7)*60+SECOND(P7)","v":0},{"$f":"IFERROR(500/S27*3.6,\"\")","v":""},{"$f":"HOUR(R7)*3600+MINUTE(R7)*60+SECOND(R7)","v":0},{"$f":"IFERROR(500/U27*3.6,\"\")","v":""},{"$f":"HOUR(T7)*3600+MINUTE(T7)*60+SECOND(T7)","v":0},{"$f":"IFERROR(500/W27*3.6,\"\")","v":""},{"$f":"HOUR(V7)*3600+MINUTE(V7)*60+SECOND(V7)","v":0},{"$f":"IFERROR(500/Y27*3.6,\"\")","v":""},{"$f":"HOUR(X7)*3600+MINUTE(X7)*60+SECOND(X7)","v":0},{"$f":"IFERROR(500/AA27*3.6,\"\")","v":""},{"$f":"HOUR(Z7)*3600+MINUTE(Z7)*60+SECOND(Z7)","v":0},{"$f":"IFERROR(500/AC27*3.6,\"\")","v":""},{"$f":"HOUR(AB7)*3600+MINUTE(AB7)*60+SECOND(AB7)","v":0},{"$f":"IFERROR(500/AE27*3.6,\"\")","v":""},{"$f":"HOUR(AD7)*3600+MINUTE(AD7)*60+SECOND(AD7)","v":0},{"$f":"IFERROR(500/AG27*3.6,\"\")","v":""},{"$f":"HOUR(AF7)*3600+MINUTE(AF7)*60+SECOND(AF7)","v":0},{"$f":"IFERROR(500/AI27*3.6,\"\")","v":""},{"$f":"HOUR(AH7)*3600+MINUTE(AH7)*60+SECOND(AH7)","v":0},{"$f":"IFERROR(500/AK27*3.6,\"\")","v":""},{"$f":"HOUR(AJ7)*3600+MINUTE(AJ7)*60+SECOND(AJ7)","v":0},{"$f":"IFERROR(500/AM27*3.6,\"\")","v":""},{"$f":"HOUR(AL7)*3600+MINUTE(AL7)*60+SECOND(AL7)","v":0},{"$f":"IFERROR(500/AO27*3.6,\"\")","v":""},{"$f":"HOUR(AN7)*3600+MINUTE(AN7)*60+SECOND(AN7)","v":0},{"$f":"IFERROR(500/AQ27*3.6,\"\")","v":""},{"$f":"HOUR(AP7)*3600+MINUTE(AP7)*60+SECOND(AP7)","v":0},{"$f":"IFERROR(500/AS27*3.6,\"\")","v":""},{"$f":"HOUR(AR7)*3600+MINUTE(AR7)*60+SECOND(AR7)","v":0},{"$f":"IFERROR(500/AU27*3.6,\"\")","v":""},{"$f":"HOUR(AT7)*3600+MINUTE(AT7)*60+SECOND(AT7)","v":0},{"$f":"IFERROR(500/AW27*3.6,\"\")","v":""},null,"Vitesse 1er 500",null,23,{"$f":"OFFSET(INDEX(eleves,MATCH(AZ27,numero,0),MATCH($BA$3,classe,0)),0,1)","v":0},{"$f":"OFFSET(INDEX(eleves,MATCH(AZ27,numero,0),MATCH($BA$3,classe,0)),0,2)","v":0}]
["Vitesse 250",{"$f":"IFERROR(250/C28*3.6,\"\")","v":""},{"$f":"HOUR(B8)*3600+MINUTE(B8)*60+SECOND(B8)","v":0},{"$f":"IFERROR(250/E28*3.6,\"\")","v":""},{"$f":"HOUR(D8)*3600+MINUTE(D8)*60+SECOND(D8)","v":0},{"$f":"IFERROR(250/G28*3.6,\"\")","v":""},{"$f":"HOUR(F8)*3600+MINUTE(F8)*60+SECOND(F8)","v":0},{"$f":"IFERROR(250/I28*3.6,\"\")","v":""},{"$f":"HOUR(H8)*3600+MINUTE(H8)*60+SECOND(H8)","v":0},{"$f":"IFERROR(250/K28*3.6,\"\")","v":""},{"$f":"HOUR(J8)*3600+MINUTE(J8)*60+SECOND(J8)","v":0},{"$f":"IFERROR(250/M28*3.6,\"\")","v":""},{"$f":"HOUR(L8)*3600+MINUTE(L8)*60+SECOND(L8)","v":0},{"$f":"IFERROR(250/O28*3.6,\"\")","v":""},{"$f":"HOUR(N8)*3600+MINUTE(N8)*60+SECOND(N8)","v":0},{"$f":"IFERROR(250/Q28*3.6,\"\")","v":""},{"$f":"HOUR(P8)*3600+MINUTE(P8)*60+SECOND(P8)","v":0},{"$f":"IFERROR(250/S28*3.6,\"\")","v":""},{"$f":"HOUR(R8)*3600+MINUTE(R8)*60+SECOND(R8)","v":0},{"$f":"IFERROR(250/U28*3.6,\"\")","v":""},{"$f":"HOUR(T8)*3600+MINUTE(T8)*60+SECOND(T8)","v":0},{"$f":"IFERROR(250/W28*3.6,\"\")","v":""},{"$f":"HOUR(V8)*3600+MINUTE(V8)*60+SECOND(V8)","v":0},{"$f":"IFERROR(250/Y28*3.6,\"\")","v":""},{"$f":"HOUR(X8)*3600+MINUTE(X8)*60+SECOND(X8)","v":0},{"$f":"IFERROR(250/AA28*3.6,\"\")","v":""},{"$f":"HOUR(Z8)*3600+MINUTE(Z8)*60+SECOND(Z8)","v":0},{"$f":"IFERROR(250/AC28*3.6,\"\")","v":""},{"$f":"HOUR(AB8)*3600+MINUTE(AB8)*60+SECOND(AB8)","v":0},{"$f":"IFERROR(250/AE28*3.6,\"\")","v":""},{"$f":"HOUR(AD8)*3600+MINUTE(AD8)*60+SECOND(AD8)","v":0},{"$f":"IFERROR(250/AG28*3.6,\"\")","v":""},{"$f":"HOUR(AF8)*3600+MINUTE(AF8)*60+SECOND(AF8)","v":0},{"$f":"IFERROR(250/AI28*3.6,\"\")","v":""},{"$f":"HOUR(AH8)*3600+MINUTE(AH8)*60+SECOND(AH8)","v":0},{"$f":"IFERROR(250/AK28*3.6,\"\")","v":""},{"$f":"HOUR(AJ8)*3600+MINUTE(AJ8)*60+SECOND(AJ8)","v":0},{"$f":"IFERROR(250/AM28*3.6,\"\")","v":""},{"$f":"HOUR(AL8)*3600+MINUTE(AL8)*60+SECOND(AL8)","v":0},{"$f":"IFERROR(250/AO28*3.6,\"\")","v":""},{"$f":"HOUR(AN8)*3600+MINUTE(AN8)*60+SECOND(AN8)","v":0},{"$f":"IFERROR(250/AQ28*3.6,\"\")","v":""},{"$f":"HOUR(AP8)*3600+MINUTE(AP8)*60+SECOND(AP8)","v":0},{"$f":"IFERROR(250/AS28*3.6,\"\")","v":""},{"$f":"HOUR(AR8)*3600+MINUTE(AR8)*60+SECOND(AR8)","v":0},{"$f":"IFERROR(250/AU28*3.6,\"\")","v":""},{"$f":"HOUR(AT8)*3600+MINUTE(AT8)*60+SECOND(AT8)","v":0},{"$f":"IFERROR(250/AW28*3.6,\"\")","v":""},null,"Vitesse 250",null,24,{"$f":"OFFSET(INDEX(eleves,MATCH(AZ28,numero,0),MATCH($BA$3,classe,0)),0,1)","v":0},{"$f":"OFFSET(INDEX(eleves,MATCH(AZ28,numero,0),MATCH($BA$3,classe,0)),0,2)","v":0}]
["Vitesse 250",{"$f":"IFERROR(250/C29*3.6,\"\")","v":""},{"$f":"ABS((HOUR(B9)*3600+MINUTE(B9)*60+SECOND(B9))-(HOUR(B8)*3600+MINUTE(B8)*60+SECOND(B8)))","v":0},{"$f":"IFERROR(250/E29*3.6,\"\")","v":""},{"$f":"ABS((HOUR(D9)*3600+MINUTE(D9)*60+SECOND(D9))-(HOUR(D8)*3600+MINUTE(D8)*60+SECOND(D8)))","v":0},{"$f":"IFERROR(250/G29*3.6,\"\")","v":""},{"$f":"ABS((HOUR(F9)*3600+MINUTE(F9)*60+SECOND(F9))-(HOUR(F8)*3600+MINUTE(F8)*60+SECOND(F8)))","v":0},{"$f":"IFERROR(250/I29*3.6,\"\")","v":""},{"$f":"ABS((HOUR(H9)*3600+MINUTE(H9)*60+SECOND(H9))-(HOUR(H8)*3600+MINUTE(H8)*60+SECOND(H8)))","v":0},{"$f":"IFERROR(250/K29*3.6,\"\")","v":""},{"$f":"ABS((HOUR(J9)*3600+MINUTE(J9)*60+SECOND(J9))-(HOUR(J8)*3600+MINUTE(J8)*60+SECOND(J8)))","v":0},{"$f":"IFERROR(250/M29*3.6,\"\")","v":""},{"$f":"ABS((HOUR(L9)*3600+MINUTE(L9)*60+SECOND(L9))-(HOUR(L8)*3600+MINUTE(L8)*60+SECOND(L8)))","v":0},{"$f":"IFERROR(250/O29*3.6,\"\")","v":""},{"$f":"ABS((HOUR(N9)*3600+MINUTE(N9)*60+SECOND(N9))-(HOUR(N8)*3600+MINUTE(N8)*60+SECOND(N8)))","v":0},{"$f":"IFERROR(250/Q29*3.6,\"\")","v":""},{"$f":"ABS((HOUR(P9)*3600+MINUTE(P9)*60+SECOND(P9))-(HOUR(P8)*3600+MINUTE(P8)*60+SECOND(P8)))","v":0},{"$f":"IFERROR(250/S29*3.6,\"\")","v":""},{"$f":"ABS((HOUR(R9)*3600+MINUTE(R9)*60+SECOND(R9))-(HOUR(R8)*3600+MINUTE(R8)*60+SECOND(R8)))","v":0},{"$f":"IFERROR(250/U29*3.6,\"\")","v":""},{"$f":"ABS((HOUR(T9)*3600+MINUTE(T9)*60+SECOND(T9))-(HOUR(T8)*3600+MINUTE(T8)*60+SECOND(T8)))","v":0},{"$f":"IFERROR(250/W29*3.6,\"\")","v":""},{"$f":"ABS((HOUR(V9)*3600+MINUTE(V9)*60+SECOND(V9))-(HOUR(V8)*3600+MINUTE(V8)*60+SECOND(V8)))","v":0},{"$f":"IFERROR(250/Y29*3.6,\"\")","v":""},{"$f":"ABS((HOUR(X9)*3600+MINUTE(X9)*60+SECOND(X9))-(HOUR(X8)*3600+MINUTE(X8)*60+SECOND(X8)))","v":0},{"$f":"IFERROR(250/AA29*3.6,\"\")","v":""},{"$f":"ABS((HOUR(Z9)*3600+MINUTE(Z9)*60+SECOND(Z9))-(HOUR(Z8)*3600+MINUTE(Z8)*60+SECOND(Z8)))","v":0},{"$f":"IFERROR(250/AC29*3.6,\"\")","v":""},{"$f":"ABS((HOUR(AB9)*3600+MINUTE(AB9)*60+SECOND(AB9))-(HOUR(AB8)*3600+MINUTE(AB8)*60+SECOND(AB8)))","v":0},{"$f":"IFERROR(250/AE29*3.6,\"\")","v":""},{"$f":"ABS((HOUR(AD9)*3600+MINUTE(AD9)*60+SECOND(AD9))-(HOUR(AD8)*3600+MINUTE(AD8)*60+SECOND(AD8)))","v":0},{"$f":"IFERROR(250/AG29*3.6,\"\")","v":""},{"$f":"ABS((HOUR(AF9)*3600+MINUTE(AF9)*60+SECOND(AF9))-(HOUR(AF8)*3600+MINUTE(AF8)*60+SECOND(AF8)))","v":0},{"$f":"IFERROR(250/AI29*3.6,\"\")","v":""},{"$f":"ABS((HOUR(AH9)*3600+MINUTE(AH9)*60+SECOND(AH9))-(HOUR(AH8)*3600+MINUTE(AH8)*60+SECOND(AH8)))","v":0},{"$f":"IFERROR(250/AK29*3.6,\"\")","v":""},{"$f":"ABS((HOUR(AJ9)*3600+MINUTE(AJ9)*60+SECOND(AJ9))-(HOUR(AJ8)*3600+MINUTE(AJ8)*60+SECOND(AJ8)))","v":0},{"$f":"IFERROR(250/AM29*3.6,\"\")","v":""},{"$f":"ABS((HOUR(AL9)*3600+MINUTE(AL9)*60+SECOND(AL9))-(HOUR(AL8)*3600+MINUTE(AL8)*60+SECOND(AL8)))","v":0},{"$f":"IFERROR(250/AO29*3.6,\"\")","v":""},{"$f":"ABS((HOUR(AN9)*3600+MINUTE(AN9)*60+SECOND(AN9))-(HOUR(AN8)*3600+MINUTE(AN8)*60+SECOND(AN8)))","v":0},{"$f":"IFERROR(250/AQ29*3.6,\"\")","v":""},{"$f":"ABS((HOUR(AP9)*3600+MINUTE(AP9)*60+SECOND(AP9))-(HOUR(AP8)*3600+MINUTE(AP8)*60+SECOND(AP8)))","v":0},{"$f":"IFERROR(250/AS29*3.6,\"\")","v":""},{"$f":"ABS((HOUR(AR9)*3600+MINUTE(AR9)*60+SECOND(AR9))-(HOUR(AR8)*3600+MINUTE(AR8)*60+SECOND(AR8)))","v":0},{"$f":"IFERROR(250/AU29*3.6,\"\")","v":""},{"$f":"ABS((HOUR(AT9)*3600+MINUTE(AT9)*60+SECOND(AT9))-(HOUR(AT8)*3600+MINUTE(AT8)*60+SECOND(AT8)))","v":0},{"$f":"IFERROR(250/AW29*3.6,\"\")","v":""},null,"Vitesse 250"]
["Vitesse \n2è 500",{"$f":"IFERROR(500/C30*3.6,\"\")","v":""},{"$f":"HOUR(B9)*3600+MINUTE(B9)*60+SECOND(B9)","v":0},{"$f":"IFERROR(500/E30*3.6,\"\")","v":""},{"$f":"HOUR(D9)*3600+MINUTE(D9)*60+SECOND(D9)","v":0},{"$f":"IFERROR(500/G30*3.6,\"\")","v":""},{"$f":"HOUR(F9)*3600+MINUTE(F9)*60+SECOND(F9)","v":0},{"$f":"IFERROR(500/I30*3.6,\"\")","v":""},{"$f":"HOUR(H9)*3600+MINUTE(H9)*60+SECOND(H9)","v":0},{"$f":"IFERROR(500/K30*3.6,\"\")","v":""},{"$f":"HOUR(J9)*3600+MINUTE(J9)*60+SECOND(J9)","v":0},{"$f":"IFERROR(500/M30*3.6,\"\")","v":""},{"$f":"HOUR(L9)*3600+MINUTE(L9)*60+SECOND(L9)","v":0},{"$f":"IFERROR(500/O30*3.6,\"\")","v":""},{"$f":"HOUR(N9)*3600+MINUTE(N9)*60+SECOND(N9)","v":0},{"$f":"IFERROR(500/Q30*3.6,\"\")","v":""},{"$f":"HOUR(P9)*3600+MINUTE(P9)*60+SECOND(P9)","v":0},{"$f":"IFERROR(500/S30*3.6,\"\")","v":""},{"$f":"HOUR(R9)*3600+MINUTE(R9)*60+SECOND(R9)","v":0},{"$f":"IFERROR(500/U30*3.6,\"\")","v":""},{"$f":"HOUR(T9)*3600+MINUTE(T9)*60+SECOND(T9)","v":0},{"$f":"IFERROR(500/W30*3.6,\"\")","v":""},{"$f":"HOUR(V9)*3600+MINUTE(V9)*60+SECOND(V9)","v":0},{"$f":"IFERROR(500/Y30*3.6,\"\")","v":""},{"$f":"HOUR(X9)*3600+MINUTE(X9)*60+SECOND(X9)","v":0},{"$f":"IFERROR(500/AA30*3.6,\"\")","v":""},{"$f":"HOUR(Z9)*3600+MINUTE(Z9)*60+SECOND(Z9)","v":0},{"$f":"IFERROR(500/AC30*3.6,\"\")","v":""},{"$f":"HOUR(AB9)*3600+MINUTE(AB9)*60+SECOND(AB9)","v":0},{"$f":"IFERROR(500/AE30*3.6,\"\")","v":""},{"$f":"HOUR(AD9)*3600+MINUTE(AD9)*60+SECOND(AD9)","v":0},{"$f":"IFERROR(500/AG30*3.6,\"\")","v":""},{"$f":"HOUR(AF9)*3600+MINUTE(AF9)*60+SECOND(AF9)","v":0},{"$f":"IFERROR(500/AI30*3.6,\"\")","v":""},{"$f":"HOUR(AH9)*3600+MINUTE(AH9)*60+SECOND(AH9)","v":0},{"$f":"IFERROR(500/AK30*3.6,\"\")","v":""},{"$f":"HOUR(AJ9)*3600+MINUTE(AJ9)*60+SECOND(AJ9)","v":0},{"$f":"IFERROR(500/AM30*3.6,\"\")","v":""},{"$f":"HOUR(AL9)*3600+MINUTE(AL9)*60+SECOND(AL9)","v":0},{"$f":"IFERROR(500/AO30*3.6,\"\")","v":""},{"$f":"HOUR(AN9)*3600+MINUTE(AN9)*60+SECOND(AN9)","v":0},{"$f":"IFERROR(500/AQ30*3.6,\"\")","v":""},{"$f":"HOUR(AP9)*3600+MINUTE(AP9)*60+SECOND(AP9)","v":0},{"$f":"IFERROR(500/AS30*3.6,\"\")","v":""},{"$f":"HOUR(AR9)*3600+MINUTE(AR9)*60+SECOND(AR9)","v":0},{"$f":"IFERROR(500/AU30*3.6,\"\")","v":""},{"$f":"HOUR(AT9)*3600+MINUTE(AT9)*60+SECOND(AT9)","v":0},{"$f":"IFERROR(500/AW30*3.6,\"\")","v":""},null,"Vitesse \n2è 500"]
["Vitesse 250",{"$f":"IFERROR(250/C31*3.6,\"\")","v":""},{"$f":"HOUR(B10)*3600+MINUTE(B10)*60+SECOND(B10)","v":0},{"$f":"IFERROR(250/E31*3.6,\"\")","v":""},{"$f":"HOUR(D10)*3600+MINUTE(D10)*60+SECOND(D10)","v":0},{"$f":"IFERROR(250/G31*3.6,\"\")","v":""},{"$f":"HOUR(F10)*3600+MINUTE(F10)*60+SECOND(F10)","v":0},{"$f":"IFERROR(250/I31*3.6,\"\")","v":""},{"$f":"HOUR(H10)*3600+MINUTE(H10)*60+SECOND(H10)","v":0},{"$f":"IFERROR(250/K31*3.6,\"\")","v":""},{"$f":"HOUR(J10)*3600+MINUTE(J10)*60+SECOND(J10)","v":0},{"$f":"IFERROR(250/M31*3.6,\"\")","v":""},{"$f":"HOUR(L10)*3600+MINUTE(L10)*60+SECOND(L10)","v":0},{"$f":"IFERROR(250/O31*3.6,\"\")","v":""},{"$f":"HOUR(N10)*3600+MINUTE(N10)*60+SECOND(N10)","v":0},{"$f":"IFERROR(250/Q31*3.6,\"\")","v":""},{"$f":"HOUR(P10)*3600+MINUTE(P10)*60+SECOND(P10)","v":0},{"$f":"IFERROR(250/S31*3.6,\"\")","v":""},{"$f":"HOUR(R10)*3600+MINUTE(R10)*60+SECOND(R10)","v":0},{"$f":"IFERROR(250/U31*3.6,\"\")","v":""},{"$f":"HOUR(T10)*3600+MINUTE(T10)*60+SECOND(T10)","v":0},{"$f":"IFERROR(250/W31*3.6,\"\")","v":""},{"$f":"HOUR(V10)*3600+MINUTE(V10)*60+SECOND(V10)","v":0},{"$f":"IFERROR(250/Y31*3.6,\"\")","v":""},{"$f":"HOUR(X10)*3600+MINUTE(X10)*60+SECOND(X10)","v":0},{"$f":"IFERROR(250/AA31*3.6,\"\")","v":""},{"$f":"HOUR(Z10)*3600+MINUTE(Z10)*60+SECOND(Z10)","v":0},{"$f":"IFERROR(250/AC31*3.6,\"\")","v":""},{"$f":"HOUR(AB10)*3600+MINUTE(AB10)*60+SECOND(AB10)","v":0},{"$f":"IFERROR(250/AE31*3.6,\"\")","v":""},{"$f":"HOUR(AD10)*3600+MINUTE(AD10)*60+SECOND(AD10)","v":0},{"$f":"IFERROR(250/AG31*3.6,\"\")","v":""},{"$f":"HOUR(AF10)*3600+MINUTE(AF10)*60+SECOND(AF10)","v":0},{"$f":"IFERROR(250/AI31*3.6,\"\")","v":""},{"$f":"HOUR(AH10)*3600+MINUTE(AH10)*60+SECOND(AH10)","v":0},{"$f":"IFERROR(250/AK31*3.6,\"\")","v":""},{"$f":"HOUR(AJ10)*3600+MINUTE(AJ10)*60+SECOND(AJ10)","v":0},{"$f":"IFERROR(250/AM31*3.6,\"\")","v":""},{"$f":"HOUR(AL10)*3600+MINUTE(AL10)*60+SECOND(AL10)","v":0},{"$f":"IFERROR(250/AO31*3.6,\"\")","v":""},{"$f":"HOUR(AN10)*3600+MINUTE(AN10)*60+SECOND(AN10)","v":0},{"$f":"IFERROR(250/AQ31*3.6,\"\")","v":""},{"$f":"HOUR(AP10)*3600+MINUTE(AP10)*60+SECOND(AP10)","v":0},{"$f":"IFERROR(250/AS31*3.6,\"\")","v":""},{"$f":"HOUR(AR10)*3600+MINUTE(AR10)*60+SECOND(AR10)","v":0},{"$f":"IFERROR(250/AU31*3.6,\"\")","v":""},{"$f":"HOUR(AT10)*3600+MINUTE(AT10)*60+SECOND(AT10)","v":0},{"$f":"IFERROR(250/AW31*3.6,\"\")","v":""},null,"Vitesse 250"]
["Vitesse 250",{"$f":"IFERROR(250/C32*3.6,\"\")","v":""},{"$f":"ABS((HOUR(B11)*3600+MINUTE(B11)*60+SECOND(B11))-(HOUR(B10)*3600+MINUTE(B10)*60+SECOND(B10)))","v":0},{"$f":"IFERROR(250/E32*3.6,\"\")","v":""},{"$f":"ABS((HOUR(D11)*3600+MINUTE(D11)*60+SECOND(D11))-(HOUR(D10)*3600+MINUTE(D10)*60+SECOND(D10)))","v":0},{"$f":"IFERROR(250/G32*3.6,\"\")","v":""},{"$f":"ABS((HOUR(F11)*3600+MINUTE(F11)*60+SECOND(F11))-(HOUR(F10)*3600+MINUTE(F10)*60+SECOND(F10)))","v":0},{"$f":"IFERROR(250/I32*3.6,\"\")","v":""},{"$f":"ABS((HOUR(H11)*3600+MINUTE(H11)*60+SECOND(H11))-(HOUR(H10)*3600+MINUTE(H10)*60+SECOND(H10)))","v":0},{"$f":"IFERROR(250/K32*3.6,\"\")","v":""},{"$f":"ABS((HOUR(J11)*3600+MINUTE(J11)*60+SECOND(J11))-(HOUR(J10)*3600+MINUTE(J10)*60+SECOND(J10)))","v":0},{"$f":"IFERROR(250/M32*3.6,\"\")","v":""},{"$f":"ABS((HOUR(L11)*3600+MINUTE(L11)*60+SECOND(L11))-(HOUR(L10)*3600+MINUTE(L10)*60+SECOND(L10)))","v":0},{"$f":"IFERROR(250/O32*3.6,\"\")","v":""},{"$f":"ABS((HOUR(N11)*3600+MINUTE(N11)*60+SECOND(N11))-(HOUR(N10)*3600+MINUTE(N10)*60+SECOND(N10)))","v":0},{"$f":"IFERROR(250/Q32*3.6,\"\")","v":""},{"$f":"ABS((HOUR(P11)*3600+MINUTE(P11)*60+SECOND(P11))-(HOUR(P10)*3600+MINUTE(P10)*60+SECOND(P10)))","v":0},{"$f":"IFERROR(250/S32*3.6,\"\")","v":""},{"$f":"ABS((HOUR(R11)*3600+MINUTE(R11)*60+SECOND(R11))-(HOUR(R10)*3600+MINUTE(R10)*60+SECOND(R10)))","v":0},{"$f":"IFERROR(250/U32*3.6,\"\")","v":""},{"$f":"ABS((HOUR(T11)*3600+MINUTE(T11)*60+SECOND(T11))-(HOUR(T10)*3600+MINUTE(T10)*60+SECOND(T10)))","v":0},{"$f":"IFERROR(250/W32*3.6,\"\")","v":""},{"$f":"ABS((HOUR(V11)*3600+MINUTE(V11)*60+SECOND(V11))-(HOUR(V10)*3600+MINUTE(V10)*60+SECOND(V10)))","v":0},{"$f":"IFERROR(250/Y32*3.6,\"\")","v":""},{"$f":"ABS((HOUR(X11)*3600+MINUTE(X11)*60+SECOND(X11))-(HOUR(X10)*3600+MINUTE(X10)*60+SECOND(X10)))","v":0},{"$f":"IFERROR(250/AA32*3.6,\"\")","v":""},{"$f":"ABS((HOUR(Z11)*3600+MINUTE(Z11)*60+SECOND(Z11))-(HOUR(Z10)*3600+MINUTE(Z10)*60+SECOND(Z10)))","v":0},{"$f":"IFERROR(250/AC32*3.6,\"\")","v":""},{"$f":"ABS((HOUR(AB11)*3600+MINUTE(AB11)*60+SECOND(AB11))-(HOUR(AB10)*3600+MINUTE(AB10)*60+SECOND(AB10)))","v":0},{"$f":"IFERROR(250/AE32*3.6,\"\")","v":""},{"$f":"ABS((HOUR(AD11)*3600+MINUTE(AD11)*60+SECOND(AD11))-(HOUR(AD10)*3600+MINUTE(AD10)*60+SECOND(AD10)))","v":0},{"$f":"IFERROR(250/AG32*3.6,\"\")","v":""},{"$f":"ABS((HOUR(AF11)*3600+MINUTE(AF11)*60+SECOND(AF11))-(HOUR(AF10)*3600+MINUTE(AF10)*60+SECOND(AF10)))","v":0},{"$f":"IFERROR(250/AI32*3.6,\"\")","v":""},{"$f":"ABS((HOUR(AH11)*3600+MINUTE(AH11)*60+SECOND(AH11))-(HOUR(AH10)*3600+MINUTE(AH10)*60+SECOND(AH10)))","v":0},{"$f":"IFERROR(250/AK32*3.6,\"\")","v":""},{"$f":"ABS((HOUR(AJ11)*3600+MINUTE(AJ11)*60+SECOND(AJ11))-(HOUR(AJ10)*3600+MINUTE(AJ10)*60+SECOND(AJ10)))","v":0},{"$f":"IFERROR(250/AM32*3.6,\"\")","v":""},{"$f":"ABS((HOUR(AL11)*3600+MINUTE(AL11)*60+SECOND(AL11))-(HOUR(AL10)*3600+MINUTE(AL10)*60+SECOND(AL10)))","v":0},{"$f":"IFERROR(250/AO32*3.6,\"\")","v":""},{"$f":"ABS((HOUR(AN11)*3600+MINUTE(AN11)*60+SECOND(AN11))-(HOUR(AN10)*3600+MINUTE(AN10)*60+SECOND(AN10)))","v":0},{"$f":"IFERROR(250/AQ32*3.6,\"\")","v":""},{"$f":"ABS((HOUR(AP11)*3600+MINUTE(AP11)*60+SECOND(AP11))-(HOUR(AP10)*3600+MINUTE(AP10)*60+SECOND(AP10)))","v":0},{"$f":"IFERROR(250/AS32*3.6,\"\")","v":""},{"$f":"ABS((HOUR(AR11)*3600+MINUTE(AR11)*60+SECOND(AR11))-(HOUR(AR10)*3600+MINUTE(AR10)*60+SECOND(AR10)))","v":0},{"$f":"IFERROR(250/AU32*3.6,\"\")","v":""},{"$f":"ABS((HOUR(AT11)*3600+MINUTE(AT11)*60+SECOND(AT11))-(HOUR(AT10)*3600+MINUTE(AT10)*60+SECOND(AT10)))","v":0},{"$f":"IFERROR(250/AW32*3.6,\"\")","v":""},null,"Vitesse 250"]
["Vitesse \n3è 500",{"$f":"IFERROR(500/C33*3.6,\"\")","v":""},{"$f":"HOUR(B11)*3600+MINUTE(B11)*60+SECOND(B11)","v":0},{"$f":"IFERROR(500/E33*3.6,\"\")","v":""},{"$f":"HOUR(D11)*3600+MINUTE(D11)*60+SECOND(D11)","v":0},{"$f":"IFERROR(500/G33*3.6,\"\")","v":""},{"$f":"HOUR(F11)*3600+MINUTE(F11)*60+SECOND(F11)","v":0},{"$f":"IFERROR(500/I33*3.6,\"\")","v":""},{"$f":"HOUR(H11)*3600+MINUTE(H11)*60+SECOND(H11)","v":0},{"$f":"IFERROR(500/K33*3.6,\"\")","v":""},{"$f":"HOUR(J11)*3600+MINUTE(J11)*60+SECOND(J11)","v":0},{"$f":"IFERROR(500/M33*3.6,\"\")","v":""},{"$f":"HOUR(L11)*3600+MINUTE(L11)*60+SECOND(L11)","v":0},{"$f":"IFERROR(500/O33*3.6,\"\")","v":""},{"$f":"HOUR(N11)*3600+MINUTE(N11)*60+SECOND(N11)","v":0},{"$f":"IFERROR(500/Q33*3.6,\"\")","v":""},{"$f":"HOUR(P11)*3600+MINUTE(P11)*60+SECOND(P11)","v":0},{"$f":"IFERROR(500/S33*3.6,\"\")","v":""},{"$f":"HOUR(R11)*3600+MINUTE(R11)*60+SECOND(R11)","v":0},{"$f":"IFERROR(500/U33*3.6,\"\")","v":""},{"$f":"HOUR(T11)*3600+MINUTE(T11)*60+SECOND(T11)","v":0},{"$f":"IFERROR(500/W33*3.6,\"\")","v":""},{"$f":"HOUR(V11)*3600+MINUTE(V11)*60+SECOND(V11)","v":0},{"$f":"IFERROR(500/Y33*3.6,\"\")","v":""},{"$f":"HOUR(X11)*3600+MINUTE(X11)*60+SECOND(X11)","v":0},{"$f":"IFERROR(500/AA33*3.6,\"\")","v":""},{"$f":"HOUR(Z11)*3600+MINUTE(Z11)*60+SECOND(Z11)","v":0},{"$f":"IFERROR(500/AC33*3.6,\"\")","v":""},{"$f":"HOUR(AB11)*3600+MINUTE(AB11)*60+SECOND(AB11)","v":0},{"$f":"IFERROR(500/AE33*3.6,\"\")","v":""},{"$f":"HOUR(AD11)*3600+MINUTE(AD11)*60+SECOND(AD11)","v":0},{"$f":"IFERROR(500/AG33*3.6,\"\")","v":""},{"$f":"HOUR(AF11)*3600+MINUTE(AF11)*60+SECOND(AF11)","v":0},{"$f":"IFERROR(500/AI33*3.6,\"\")","v":""},{"$f":"HOUR(AH11)*3600+MINUTE(AH11)*60+SECOND(AH11)","v":0},{"$f":"IFERROR(500/AK33*3.6,\"\")","v":""},{"$f":"HOUR(AJ11)*3600+MINUTE(AJ11)*60+SECOND(AJ11)","v":0},{"$f":"IFERROR(500/AM33*3.6,\"\")","v":""},{"$f":"HOUR(AL11)*3600+MINUTE(AL11)*60+SECOND(AL11)","v":0},{"$f":"IFERROR(500/AO33*3.6,\"\")","v":""},{"$f":"HOUR(AN11)*3600+MINUTE(AN11)*60+SECOND(AN11)","v":0},{"$f":"IFERROR(500/AQ33*3.6,\"\")","v":""},{"$f":"HOUR(AP11)*3600+MINUTE(AP11)*60+SECOND(AP11)","v":0},{"$f":"IFERROR(500/AS33*3.6,\"\")","v":""},{"$f":"HOUR(AR11)*3600+MINUTE(AR11)*60+SECOND(AR11)","v":0},{"$f":"IFERROR(500/AU33*3.6,\"\")","v":""},{"$f":"HOUR(AT11)*3600+MINUTE(AT11)*60+SECOND(AT11)","v":0},{"$f":"IFERROR(500/AW33*3.6,\"\")","v":""},null,"Vitesse \n3è 500"]
[null,{"$f":"ABS((HOUR(B12)*3600+MINUTE(B12)*60+SECOND(B12)))","v":0},{"$f":"ABS((HOUR(C12)*3600+MINUTE(C12)*60+SECOND(C12)))","v":0},0,0,0,0,0,0,0,0,0,0,0,0,0,0,0,0,0,0,0,0,0,0,0,0,0,0,0,0,0,0,0,0,0,0,0,0,0,0,0,0,0,0,0,0,0,0]
[null,{"$f":"ABS((HOUR(B13)*3600+MINUTE(B13)*60+SECOND(B13)))","v":0},{"$f":"ABS((HOUR(C13)*3600+MINUTE(C13)*60+SECOND(C13)))","v":0},0,0,0,0,0,0,0,0,0,0,0,0,0,0,0,0,0,0,0,0,0,0,0,0,0,0,0,0,0,0,0,0,0,0,0,0,0,0,0,0,0,0,0,0,0,0]
[null,null,null,"1\" minimum entre 2 courses de vitesses différentes"]
[null,null,null,"Ecart de 3\" toléré pour 2 courses de même vitesse"]
[null,null,null,null,null,null,null,null,null,null,null,null,null,null,null,null,null,null,null,null,null,null,null,null,null,null,null,null,null,null,null,null,null,null,null,null,null,null,null,null,null,null,null,null,null,null,null,null,null,null,null,null,"s"]
[null,null,null,null,null,null,null,null,null,null,null,null,null,null,null,null,null,null,null,null,null,null,null,null,null,null,null,null,null,null,null,null,null,null,null,null,null,null,null,null,null,null,null,null,null,null,null,null,null,null,null,null,1,2,3,4,5,6,7,8,"STRATEGIE CHOISIE","RESULTAT","Regulation"]
["En Temps",{"$f":"B17","v":"C1=C3"},{"$f":"C17","v":0},"C2<C3",0,"C3=C1",0,"C1=C2","C2=C3","C2=C3",0,"C3=C1",0,"C1>C2",0,"C2<C1",0,"C3<C2",0,"C1<C2",0,"C2=C3",0,"C3=C2",0,"C1=C2",0,"C2=C1",0,"C3>C1",0,"C1=C3",0,"C2>C3",0,"C3=C1",0,"C1>C2",0,"C2=C3",0,"C3=C2",0,"C1=C2",0,"C2=C1",0,"C3<C1",null,"1er 500","2è 500","3è 500"]
[{"$f":"BA5","v":"Abdelbasset"},{"$f":"IF(AND($AZ41+3>=$AX41,$AX41>=$AZ41-3),1,0)","v":1},null,{"$f":"IF($AY41<$AZ41,1,0)","v":0},null,{"$f":"IF(AND($AZ41+3>=$AX41,$AX41>=$AZ41-3),1,0)","v":1},null,{"$f":"IF(AND($AY41+3>=$AX41,$AX41>=$AY41-3),1,0)","v":1},null,{"$f":"IF(AND($AZ41+3>=$AY41,$AY41>=$AZ41-3),1,0)","v":1},null,{"$f":"IF(AND($AZ41+3>=$AX41,$AX41>=$AZ41-3),1,0)","v":1},null,{"$f":"IF($AX41>$AY41,1,0)","v":0},null,{"$f":"IF($AX41>$AY41,1,0)","v":0},null,{"$f":"IF($AY41>$AZ41,1,0)","v":0},null,{"$f":"IF($AX41<$AY41,1,0)","v":0},null,{"$f":"IF(AND($AZ41+3>=$AY41,$AY41>=$AZ41-3),1,0)","v":1},null,1,null,{"$f":"IF(AND($AY41+3>=$AX41,$AX41>=$AY41-3),1,0)","v":1},null,{"$f":"IF(AND($AY41+3>=$AX41,$AX41>=$AY41-3),1,0)","v":1},null,{"$f":"IF($AX41<$AZ41,1,0)","v":0},null,{"$f":"IF(AND($AZ41+3>=$AX41,$AX41>=$AZ41-3),1,0)","v":1},null,{"$f":"IF($AY41>$AZ41,1,0)","v":0},null,{"$f":"IF(AND($AZ41+3>=$AX41,$AX41>=$AZ41-3),1,0)","v":1},null,{"$f":"IF($AX41>$AY41,1,0)","v":0},null,{"$f":"IF(AND($AZ41+3>=$AY41,$AY41>=$AZ41-3),1,0)","v":1},null,{"$f":"IF(AND($AZ41+3>=$AY41,$AY41>=$AZ41-3),1,0)","v":1},null,{"$f":"IF(AND($AY41+3>=$AX41,$AX41>=$AY41-3),1,0)","v":1},null,1,null,{"$f":"IF($AX41>$AZ41,1,0)","v":0},{"$f":"IF(AND($AZ41+3>=$AX41,$AX41>=$AZ41-3),1,0)","v":1},{"$f":"ABS((HOUR(B$7)*3600+MINUTE(B$7)*60+SECOND(B$7)))","v":0},{"$f":"ABS((HOUR(B$9)*3600+MINUTE(B$9)*60+SECOND(B$9)))","v":0},{"$f":"ABS((HOUR(B$11)*3600+MINUTE(B$11)*60+SECOND(B$11)))","v":0},{"$f":"SUM(B41:F41)","v":2},{"$f":"SUM(H41:L41)","v":3},{"$f":"SUM(N41:R41)","v":0},{"$f":"SUM(T41:X41)","v":2},{"$f":"SUM(Z41:AD41)","v":2},{"$f":"SUM(AF41:AJ41)","v":2},{"$f":"SUM(AL41:AP41)","v":2},{"$f":"SUM(AR41:AV41)","v":2},{"$f":"B$18","v":0},{"$f":"OFFSET(INDEX(choix,MATCH(A41,coureur,0),MATCH(BK41,strategie,0)),1,0)","v":{"$error":"#N/A"}},{"$f":"B$19","v":0},{"$f":"IF(OR(BJ41=0,BJ41=1),DEBUT!$O$5,IF(AND(BK41=BI41,BJ41=2),DEBUT!$O$7,IF(AND(BK41<>BI41,BJ41=2),DEBUT!$O$6,IF(AND(BK41=BI41,BJ41=3),DEBUT!$O$9,IF(AND(BK41<>BI41,BJ41=3),DEBUT!$O$8,0)))))","v":{"$error":"#N/A"}}]
[{"$f":"BA6","v":"Alen"},1,null,0,null,1,null,1,null,1,null,1,null,0,null,0,null,0,null,0,null,1,null,1,null,1,null,1,null,0,null,1,null,0,null,1,null,0,null,1,null,1,null,1,null,1,null,0,{"$f":"IF(AND($AZ42+3>=$AX42,$AX42>=$AZ42-3),1,0)","v":1},{"$f":"ABS((HOUR(D$7)*3600+MINUTE(D$7)*60+SECOND(D$7)))","v":0},{"$f":"ABS((HOUR(D$9)*3600+MINUTE(D$9)*60+SECOND(D$9)))","v":0},{"$f":"ABS((HOUR(D$11)*3600+MINUTE(D$11)*60+SECOND(D$11)))","v":0},{"$f":"SUM(B42:F42)","v":2},{"$f":"SUM(H42:L42)","v":3},{"$f":"SUM(N42:R42)","v":0},{"$f":"SUM(T42:X42)","v":2},{"$f":"SUM(Z42:AD42)","v":2},{"$f":"SUM(AF42:AJ42)","v":2},{"$f":"SUM(AL42:AP42)","v":2},{"$f":"SUM(AR42:AV42)","v":2},{"$f":"D$18","v":0},{"$error":"#N/A"},{"$f":"D$19","v":0},{"$f":"IF(OR(BJ42=0,BJ42=1),DEBUT!$O$5,IF(AND(BK42=BI42,BJ42=2),DEBUT!$O$7,IF(AND(BK42<>BI42,BJ42=2),DEBUT!$O$6,IF(AND(BK42=BI42,BJ42=3),DEBUT!$O$9,IF(AND(BK42<>BI42,BJ42=3),DEBUT!$O$8,0)))))","v":{"$error":"#N/A"}}]
["Bilal",1,null,0,null,1,null,1,null,1,null,1,null,0,null,0,null,0,null,0,null,1,null,1,null,1,null,1,null,0,null,1,null,0,null,1,null,0,null,1,null,1,null,1,null,1,null,0,1,{"$f":"ABS((HOUR(F$7)*3600+MINUTE(F$7)*60+SECOND(F$7)))","v":0},{"$f":"ABS((HOUR(F$9)*3600+MINUTE(F$9)*60+SECOND(F$9)))","v":0},{"$f":"ABS((HOUR(F$11)*3600+MINUTE(F$11)*60+SECOND(F$11)))","v":0},2,3,0,2,2,2,2,2,{"$f":"F$18","v":0},{"$error":"#N/A"},{"$f":"F$19","v":0},{"$f":"IF(OR(BJ43=0,BJ43=1),DEBUT!$O$5,IF(AND(BK43=BI43,BJ43=2),DEBUT!$O$7,IF(AND(BK43<>BI43,BJ43=2),DEBUT!$O$6,IF(AND(BK43=BI43,BJ43=3),DEBUT!$O$9,IF(AND(BK43<>BI43,BJ43=3),DEBUT!$O$8,0)))))","v":{"$error":"#N/A"}}]
["Christian",1,null,0,null,1,null,1,null,1,null,1,null,0,null,0,null,0,null,0,null,1,null,1,null,1,null,1,null,0,null,1,null,0,null,1,null,0,null,1,null,1,null,1,null,1,null,0,1,{"$f":"ABS((HOUR(H$7)*3600+MINUTE(H$7)*60+SECOND(H$7)))","v":0},{"$f":"ABS((HOUR(H$9)*3600+MINUTE(H$9)*60+SECOND(H$9)))","v":0},{"$f":"ABS((HOUR(H$11)*3600+MINUTE(H$11)*60+SECOND(H$11)))","v":0},2,3,0,2,2,2,2,2,{"$f":"H$18","v":0},{"$error":"#N/A"},{"$f":"H$19","v":0},{"$f":"IF(OR(BJ44=0,BJ44=1),DEBUT!$O$5,IF(AND(BK44=BI44,BJ44=2),DEBUT!$O$7,IF(AND(BK44<>BI44,BJ44=2),DEBUT!$O$6,IF(AND(BK44=BI44,BJ44=3),DEBUT!$O$9,IF(AND(BK44<>BI44,BJ44=3),DEBUT!$O$8,0)))))","v":{"$error":"#N/A"}}]
["Halis",1,null,0,null,1,null,1,null,1,null,1,null,0,null,0,null,0,null,0,null,1,null,1,null,1,null,1,null,0,null,1,null,0,null,1,null,0,null,1,null,1,null,1,null,1,null,0,1,{"$f":"ABS((HOUR(J$7)*3600+MINUTE(J$7)*60+SECOND(J$7)))","v":0},{"$f":"ABS((HOUR(J$9)*3600+MINUTE(J$9)*60+SECOND(J$9)))","v":0},{"$f":"ABS((HOUR(J$11)*3600+MINUTE(J$11)*60+SECOND(J$11)))","v":0},2,3,0,2,2,2,2,2,{"$f":"J$18","v":0},{"$error":"#N/A"},{"$f":"J$19","v":0},{"$f":"IF(OR(BJ45=0,BJ45=1),DEBUT!$O$5,IF(AND(BK45=BI45,BJ45=2),DEBUT!$O$7,IF(AND(BK45<>BI45,BJ45=2),DEBUT!$O$6,IF(AND(BK45=BI45,BJ45=3),DEBUT!$O$9,IF(AND(BK45<>BI45,BJ45=3),DEBUT!$O$8,0)))))","v":{"$error":"#N/A"}}]
["Laurent",1,null,0,null,1,null,1,null,1,null,1,null,0,null,0,null,0,null,0,null,1,null,1,null,1,null,1,null,0,null,1,null,0,null,1,null,0,null,1,null,1,null,1,null,1,null,0,1,{"$f":"ABS((HOUR(L$7)*3600+MINUTE(L$7)*60+SECOND(L$7)))","v":0},{"$f":"ABS((HOUR(L$9)*3600+MINUTE(L$9)*60+SECOND(L$9)))","v":0},{"$f":"ABS((HOUR(L$11)*3600+MINUTE(L$11)*60+SECOND(L$11)))","v":0},2,3,0,2,2,2,2,2,{"$f":"L$18","v":0},{"$error":"#N/A"},{"$f":"L$19","v":0},{"$f":"IF(OR(BJ46=0,BJ46=1),DEBUT!$O$5,IF(AND(BK46=BI46,BJ46=2),DEBUT!$O$7,IF(AND(BK46<>BI46,BJ46=2),DEBUT!$O$6,IF(AND(BK46=BI46,BJ46=3),DEBUT!$O$9,IF(AND(BK46<>BI46,BJ46=3),DEBUT!$O$8,0)))))","v":{"$error":"#N/A"}}]
["Mickael",1,null,0,null,1,null,1,null,1,null,1,null,0,null,0,null,0,null,0,null,1,null,1,null,1,null,1,null,0,null,1,null,0,null,1,null,0,null,1,null,1,null,1,null,1,null,0,1,{"$f":"ABS((HOUR(N$7)*3600+MINUTE(N$7)*60+SECOND(N$7)))","v":0},{"$f":"ABS((HOUR(N$9)*3600+MINUTE(N$9)*60+SECOND(N$9)))","v":0},{"$f":"ABS((HOUR(N$11)*3600+MINUTE(N$11)*60+SECOND(N$11)))","v":0},2,3,0,2,2,2,2,2,{"$f":"N$18","v":0},{"$error":"#N/A"},{"$f":"N$19","v":0},{"$f":"IF(OR(BJ47=0,BJ47=1),DEBUT!$O$5,IF(AND(BK47=BI47,BJ47=2),DEBUT!$O$7,IF(AND(BK47<>BI47,BJ47=2),DEBUT!$O$6,IF(AND(BK47=BI47,BJ47=3),DEBUT!$O$9,IF(AND(BK47<>BI47,BJ47=3),DEBUT!$O$8,0)))))","v":{"$error":"#N/A"}}]
["Salim",1,null,0,null,1,null,1,null,1,null,1,null,0,null,0,null,0,null,0,null,1,null,1,null,1,null,1,null,0,null,1,null,0,null,1,null,0,null,1,null,1,null,1,null,1,null,0,1,{"$f":"ABS((HOUR(P$7)*3600+MINUTE(P$7)*60+SECOND(P$7)))","v":0},{"$f":"ABS((HOUR(P$9)*3600+MINUTE(P$9)*60+SECOND(P$9)))","v":0},{"$f":"ABS((HOUR(P$11)*3600+MINUTE(P$11)*60+SECOND(P$11)))","v":0},2,3,0,2,2,2,2,2,{"$f":"P$18","v":0},{"$error":"#N/A"},{"$f":"P$19","v":0},{"$f":"IF(OR(BJ48=0,BJ48=1),DEBUT!$O$5,IF(AND(BK48=BI48,BJ48=2),DEBUT!$O$7,IF(AND(BK48<>BI48,BJ48=2),DEBUT!$O$6,IF(AND(BK48=BI48,BJ48=3),DEBUT!$O$9,IF(AND(BK48<>BI48,BJ48=3),DEBUT!$O$8,0)))))","v":{"$error":"#N/A"}}]
["Willy",1,null,0,null,1,null,1,null,1,null,1,null,0,null,0,null,0,null,0,null,1,null,1,null,1,null,1,null,0,null,1,null,0,null,1,null,0,null,1,null,1,null,1,null,1,null,0,1,{"$f":"ABS((HOUR(R$7)*3600+MINUTE(R$7)*60+SECOND(R$7)))","v":0},{"$f":"ABS((HOUR(R$9)*3600+MINUTE(R$9)*60+SECOND(R$9)))","v":0},{"$f":"ABS((HOUR(R$11)*3600+MINUTE(R$11)*60+SECOND(R$11)))","v":0},2,3,0,2,2,2,2,2,{"$f":"R$18","v":0},{"$error":"#N/A"},{"$f":"R$19","v":0},{"$f":"IF(OR(BJ49=0,BJ49=1),DEBUT!$O$5,IF(AND(BK49=BI49,BJ49=2),DEBUT!$O$7,IF(AND(BK49<>BI49,BJ49=2),DEBUT!$O$6,IF(AND(BK49=BI49,BJ49=3),DEBUT!$O$9,IF(AND(BK49<>BI49,BJ49=3),DEBUT!$O$8,0)))))","v":{"$error":"#N/A"}}]
["mickael",1,null,0,null,1,null,1,null,1,null,1,null,0,null,0,null,0,null,0,null,1,null,1,null,1,null,1,null,0,null,1,null,0,null,1,null,0,null,1,null,1,null,1,null,1,null,0,1,{"$f":"ABS((HOUR(T$7)*3600+MINUTE(T$7)*60+SECOND(T$7)))","v":0},{"$f":"ABS((HOUR(T$9)*3600+MINUTE(T$9)*60+SECOND(T$9)))","v":0},{"$f":"ABS((HOUR(T$11)*3600+MINUTE(T$11)*60+SECOND(T$11)))","v":0},2,3,0,2,2,2,2,2,{"$f":"T$18","v":0},{"$error":"#N/A"},{"$f":"T$19","v":0},{"$f":"IF(OR(BJ50=0,BJ50=1),DEBUT!$O$5,IF(AND(BK50=BI50,BJ50=2),DEBUT!$O$7,IF(AND(BK50<>BI50,BJ50=2),DEBUT!$O$6,IF(AND(BK50=BI50,BJ50=3),DEBUT!$O$9,IF(AND(BK50<>BI50,BJ50=3),DEBUT!$O$8,0)))))","v":{"$error":"#N/A"}}]
["mika",1,null,0,null,1,null,1,null,1,null,1,null,0,null,0,null,0,null,0,null,1,null,1,null,1,null,1,null,0,null,1,null,0,null,1,null,0,null,1,null,1,null,1,null,1,null,0,1,{"$f":"ABS((HOUR(V$7)*3600+MINUTE(V$7)*60+SECOND(V$7)))","v":0},{"$f":"ABS((HOUR(V$9)*3600+MINUTE(V$9)*60+SECOND(V$9)))","v":0},{"$f":"ABS((HOUR(V$11)*3600+MINUTE(V$11)*60+SECOND(V$11)))","v":0},2,3,0,2,2,2,2,2,{"$f":"V$18","v":0},{"$error":"#N/A"},{"$f":"V$19","v":0},{"$f":"IF(OR(BJ51=0,BJ51=1),DEBUT!$O$5,IF(AND(BK51=BI51,BJ51=2),DEBUT!$O$7,IF(AND(BK51<>BI51,BJ51=2),DEBUT!$O$6,IF(AND(BK51=BI51,BJ51=3),DEBUT!$O$9,IF(AND(BK51<>BI51,BJ51=3),DEBUT!$O$8,0)))))","v":{"$error":"#N/A"}}]
[0,1,null,0,null,1,null,1,null,1,null,1,null,0,null,0,null,0,null,0,null,1,null,1,null,1,null,1,null,0,null,1,null,0,null,1,null,0,null,1,null,1,null,1,null,1,null,0,1,{"$f":"ABS((HOUR(X$7)*3600+MINUTE(X$7)*60+SECOND(X$7)))","v":0},{"$f":"ABS((HOUR(X$9)*3600+MINUTE(X$9)*60+SECOND(X$9)))","v":0},{"$f":"ABS((HOUR(X$11)*3600+MINUTE(X$11)*60+SECOND(X$11)))","v":0},2,3,0,2,2,2,2,2,{"$f":"X$18","v":0},{"$error":"#N/A"},{"$f":"X$19","v":0},{"$f":"IF(OR(BJ52=0,BJ52=1),DEBUT!$O$5,IF(AND(BK52=BI52,BJ52=2),DEBUT!$O$7,IF(AND(BK52<>BI52,BJ52=2),DEBUT!$O$6,IF(AND(BK52=BI52,BJ52=3),DEBUT!$O$9,IF(AND(BK52<>BI52,BJ52=3),DEBUT!$O$8,0)))))","v":{"$error":"#N/A"}}]
[0,1,null,0,null,1,null,1,null,1,null,1,null,0,null,0,null,0,null,0,null,1,null,1,null,1,null,1,null,0,null,1,null,0,null,1,null,0,null,1,null,1,null,1,null,1,null,0,1,{"$f":"ABS((HOUR(Z$7)*3600+MINUTE(Z$7)*60+SECOND(Z$7)))","v":0},{"$f":"ABS((HOUR(Z$9)*3600+MINUTE(Z$9)*60+SECOND(Z$9)))","v":0},{"$f":"ABS((HOUR(Z$11)*3600+MINUTE(Z$11)*60+SECOND(Z$11)))","v":0},2,3,0,2,2,2,2,2,{"$f":"Z$18","v":0},{"$error":"#N/A"},{"$f":"Z$19","v":0},{"$f":"IF(OR(BJ53=0,BJ53=1),DEBUT!$O$5,IF(AND(BK53=BI53,BJ53=2),DEBUT!$O$7,IF(AND(BK53<>BI53,BJ53=2),DEBUT!$O$6,IF(AND(BK53=BI53,BJ53=3),DEBUT!$O$9,IF(AND(BK53<>BI53,BJ53=3),DEBUT!$O$8,0)))))","v":{"$error":"#N/A"}}]
[0,1,null,0,null,1,null,1,null,1,null,1,null,0,null,0,null,0,null,0,null,1,null,1,null,1,null,1,null,0,null,1,null,0,null,1,null,0,null,1,null,1,null,1,null,1,null,0,1,{"$f":"ABS((HOUR(AB$7)*3600+MINUTE(AB$7)*60+SECOND(AB$7)))","v":0},{"$f":"ABS((HOUR(AB$9)*3600+MINUTE(AB$9)*60+SECOND(AB$9)))","v":0},{"$f":"ABS((HOUR(AB$11)*3600+MINUTE(AB$11)*60+SECOND(AB$11)))","v":0},2,3,0,2,2,2,2,2,{"$f":"AB$18","v":0},{"$error":"#N/A"},{"$f":"AB$19","v":0},{"$f":"IF(OR(BJ54=0,BJ54=1),DEBUT!$O$5,IF(AND(BK54=BI54,BJ54=2),DEBUT!$O$7,IF(AND(BK54<>BI54,BJ54=2),DEBUT!$O$6,IF(AND(BK54=BI54,BJ54=3),DEBUT!$O$9,IF(AND(BK54<>BI54,BJ54=3),DEBUT!$O$8,0)))))","v":{"$error":"#N/A"}}]
[0,1,null,0,null,1,null,1,null,1,null,1,null,0,null,0,null,0,null,0,null,1,null,1,null,1,null,1,null,0,null,1,null,0,null,1,null,0,null,1,null,1,null,1,null,1,null,0,1,{"$f":"ABS((HOUR(AD$7)*3600+MINUTE(AD$7)*60+SECOND(AD$7)))","v":0},{"$f":"ABS((HOUR(AD$9)*3600+MINUTE(AD$9)*60+SECOND(AD$9)))","v":0},{"$f":"ABS((HOUR(AD$11)*3600+MINUTE(AD$11)*60+SECOND(AD$11)))","v":0},2,3,0,2,2,2,2,2,{"$f":"AD$18","v":0},{"$error":"#N/A"},{"$f":"AD$19","v":0},{"$f":"IF(OR(BJ55=0,BJ55=1),DEBUT!$O$5,IF(AND(BK55=BI55,BJ55=2),DEBUT!$O$7,IF(AND(BK55<>BI55,BJ55=2),DEBUT!$O$6,IF(AND(BK55=BI55,BJ55=3),DEBUT!$O$9,IF(AND(BK55<>BI55,BJ55=3),DEBUT!$O$8,0)))))","v":{"$error":"#N/A"}}]
[0,1,null,0,null,1,null,1,null,1,null,1,null,0,null,0,null,0,null,0,null,1,null,1,null,1,null,1,null,0,null,1,null,0,null,1,null,0,null,1,null,1,null,1,null,1,null,0,1,{"$f":"ABS((HOUR(AF$7)*3600+MINUTE(AF$7)*60+SECOND(AF$7)))","v":0},{"$f":"ABS((HOUR(AF$9)*3600+MINUTE(AF$9)*60+SECOND(AF$9)))","v":0},{"$f":"ABS((HOUR(AF$11)*3600+MINUTE(AF$11)*60+SECOND(AF$11)))","v":0},2,3,0,2,2,2,2,2,{"$f":"AF$18","v":0},{"$error":"#N/A"},{"$f":"AF$19","v":0},{"$f":"IF(OR(BJ56=0,BJ56=1),DEBUT!$O$5,IF(AND(BK56=BI56,BJ56=2),DEBUT!$O$7,IF(AND(BK56<>BI56,BJ56=2),DEBUT!$O$6,IF(AND(BK56=BI56,BJ56=3),DEBUT!$O$9,IF(AND(BK56<>BI56,BJ56=3),DEBUT!$O$8,0)))))","v":{"$error":"#N/A"}}]
[0,1,null,0,null,1,null,1,null,1,null,1,null,0,null,0,null,0,null,0,null,1,null,1,null,1,null,1,null,0,null,1,null,0,null,1,null,0,null,1,null,1,null,1,null,1,null,0,1,{"$f":"ABS((HOUR(AH$7)*3600+MINUTE(AH$7)*60+SECOND(AH$7)))","v":0},{"$f":"ABS((HOUR(AH$9)*3600+MINUTE(AH$9)*60+SECOND(AH$9)))","v":0},{"$f":"ABS((HOUR(AH$11)*3600+MINUTE(AH$11)*60+SECOND(AH$11)))","v":0},2,3,0,2,2,2,2,2,{"$f":"AH$18","v":0},{"$error":"#N/A"},{"$f":"AH$19","v":0},{"$f":"IF(OR(BJ57=0,BJ57=1),DEBUT!$O$5,IF(AND(BK57=BI57,BJ57=2),DEBUT!$O$7,IF(AND(BK57<>BI57,BJ57=2),DEBUT!$O$6,IF(AND(BK57=BI57,BJ57=3),DEBUT!$O$9,IF(AND(BK57<>BI57,BJ57=3),DEBUT!$O$8,0)))))","v":{"$error":"#N/A"}}]
[0,1,null,0,null,1,null,1,null,1,null,1,null,0,null,0,null,0,null,0,null,1,null,1,null,1,null,1,null,0,null,1,null,0,null,1,null,0,null,1,null,1,null,1,null,1,null,0,1,{"$f":"ABS((HOUR(AJ$7)*3600+MINUTE(AJ$7)*60+SECOND(AJ$7)))","v":0},{"$f":"ABS((HOUR(AJ$9)*3600+MINUTE(AJ$9)*60+SECOND(AJ$9)))","v":0},{"$f":"ABS((HOUR(AJ$11)*3600+MINUTE(AJ$11)*60+SECOND(AJ$11)))","v":0},2,3,0,2,2,2,2,2,{"$f":"AJ$18","v":0},{"$error":"#N/A"},{"$f":"AJ$19","v":0},{"$f":"IF(OR(BJ58=0,BJ58=1),DEBUT!$O$5,IF(AND(BK58=BI58,BJ58=2),DEBUT!$O$7,IF(AND(BK58<>BI58,BJ58=2),DEBUT!$O$6,IF(AND(BK58=BI58,BJ58=3),DEBUT!$O$9,IF(AND(BK58<>BI58,BJ58=3),DEBUT!$O$8,0)))))","v":{"$error":"#N/A"}}]
[0,1,null,0,null,1,null,1,null,1,null,1,null,0,null,0,null,0,null,0,null,1,null,1,null,1,null,1,null,0,null,1,null,0,null,1,null,0,null,1,null,1,null,1,null,1,null,0,1,{"$f":"ABS((HOUR(AL$7)*3600+MINUTE(AL$7)*60+SECOND(AL$7)))","v":0},{"$f":"ABS((HOUR(AL$9)*3600+MINUTE(AL$9)*60+SECOND(AL$9)))","v":0},{"$f":"ABS((HOUR(AL$11)*3600+MINUTE(AL$11)*60+SECOND(AL$11)))","v":0},2,3,0,2,2,2,2,2,{"$f":"AL$18","v":0},{"$error":"#N/A"},{"$f":"AL$19","v":0},{"$f":"IF(OR(BJ59=0,BJ59=1),DEBUT!$O$5,IF(AND(BK59=BI59,BJ59=2),DEBUT!$O$7,IF(AND(BK59<>BI59,BJ59=2),DEBUT!$O$6,IF(AND(BK59=BI59,BJ59=3),DEBUT!$O$9,IF(AND(BK59<>BI59,BJ59=3),DEBUT!$O$8,0)))))","v":{"$error":"#N/A"}}]
[0,1,null,0,null,1,null,1,null,1,null,1,null,0,null,0,null,0,null,0,null,1,null,1,null,1,null,1,null,0,null,1,null,0,null,1,null,0,null,1,null,1,null,1,null,1,null,0,1,{"$f":"ABS((HOUR(AN$7)*3600+MINUTE(AN$7)*60+SECOND(AN$7)))","v":0},{"$f":"ABS((HOUR(AN$9)*3600+MINUTE(AN$9)*60+SECOND(AN$9)))","v":0},{"$f":"ABS((HOUR(AN$11)*3600+MINUTE(AN$11)*60+SECOND(AN$11)))","v":0},2,3,0,2,2,2,2,2,{"$f":"AN$18","v":0},{"$error":"#N/A"},{"$f":"AN$19","v":0},{"$f":"IF(OR(BJ60=0,BJ60=1),DEBUT!$O$5,IF(AND(BK60=BI60,BJ60=2),DEBUT!$O$7,IF(AND(BK60<>BI60,BJ60=2),DEBUT!$O$6,IF(AND(BK60=BI60,BJ60=3),DEBUT!$O$9,IF(AND(BK60<>BI60,BJ60=3),DEBUT!$O$8,0)))))","v":{"$error":"#N/A"}}]
[0,1,null,0,null,1,null,1,null,1,null,1,null,0,null,0,null,0,null,0,null,1,null,1,null,1,null,1,null,0,null,1,null,0,null,1,null,0,null,1,null,1,null,1,null,1,null,0,1,{"$f":"ABS((HOUR(AP$7)*3600+MINUTE(AP$7)*60+SECOND(AP$7)))","v":0},{"$f":"ABS((HOUR(AP$9)*3600+MINUTE(AP$9)*60+SECOND(AP$9)))","v":0},{"$f":"ABS((HOUR(AP$11)*3600+MINUTE(AP$11)*60+SECOND(AP$11)))","v":0},2,3,0,2,2,2,2,2,{"$f":"AP$18","v":0},{"$error":"#N/A"},{"$f":"AP$19","v":0},{"$f":"IF(OR(BJ61=0,BJ61=1),DEBUT!$O$5,IF(AND(BK61=BI61,BJ61=2),DEBUT!$O$7,IF(AND(BK61<>BI61,BJ61=2),DEBUT!$O$6,IF(AND(BK61=BI61,BJ61=3),DEBUT!$O$9,IF(AND(BK61<>BI61,BJ61=3),DEBUT!$O$8,0)))))","v":{"$error":"#N/A"}}]
[0,1,null,0,null,1,null,1,null,1,null,1,null,0,null,0,null,0,null,0,null,1,null,1,null,1,null,1,null,0,null,1,null,0,null,1,null,0,null,1,null,1,null,1,null,1,null,0,1,{"$f":"ABS((HOUR(AR$7)*3600+MINUTE(AR$7)*60+SECOND(AR$7)))","v":0},{"$f":"ABS((HOUR(AR$9)*3600+MINUTE(AR$9)*60+SECOND(AR$9)))","v":0},{"$f":"ABS((HOUR(AR$11)*3600+MINUTE(AR$11)*60+SECOND(AR$11)))","v":0},2,3,0,2,2,2,2,2,{"$f":"AR$18","v":0},{"$error":"#N/A"},{"$f":"AR$19","v":0},{"$f":"IF(OR(BJ62=0,BJ62=1),DEBUT!$O$5,IF(AND(BK62=BI62,BJ62=2),DEBUT!$O$7,IF(AND(BK62<>BI62,BJ62=2),DEBUT!$O$6,IF(AND(BK62=BI62,BJ62=3),DEBUT!$O$9,IF(AND(BK62<>BI62,BJ62=3),DEBUT!$O$8,0)))))","v":{"$error":"#N/A"}}]
[0,1,null,0,null,1,null,1,null,1,null,1,null,0,null,0,null,0,null,0,null,1,null,1,null,1,null,1,null,0,null,1,null,0,null,1,null,0,null,1,null,1,null,1,null,1,null,0,1,{"$f":"ABS((HOUR(AT$7)*3600+MINUTE(AT$7)*60+SECOND(AT$7)))","v":0},{"$f":"ABS((HOUR(AT$9)*3600+MINUTE(AT$9)*60+SECOND(AT$9)))","v":0},{"$f":"ABS((HOUR(AT$11)*3600+MINUTE(AT$11)*60+SECOND(AT$11)))","v":0},2,3,0,2,2,2,2,2,{"$f":"AT$18","v":0},{"$error":"#N/A"},{"$f":"AT$19","v":0},{"$f":"IF(OR(BJ63=0,BJ63=1),DEBUT!$O$5,IF(AND(BK63=BI63,BJ63=2),DEBUT!$O$7,IF(AND(BK63<>BI63,BJ63=2),DEBUT!$O$6,IF(AND(BK63=BI63,BJ63=3),DEBUT!$O$9,IF(AND(BK63<>BI63,BJ63=3),DEBUT!$O$8,0)))))","v":{"$error":"#N/A"}}]
[0,1,null,0,null,1,null,1,null,1,null,1,null,0,null,0,null,0,null,0,null,1,null,1,null,1,null,1,null,0,null,1,null,0,null,1,null,0,null,1,null,1,null,1,null,1,null,0,1,{"$f":"ABS((HOUR(AV$7)*3600+MINUTE(AV$7)*60+SECOND(AV$7)))","v":0},{"$f":"ABS((HOUR(AV$9)*3600+MINUTE(AV$9)*60+SECOND(AV$9)))","v":0},{"$f":"ABS((HOUR(AV$11)*3600+MINUTE(AV$11)*60+SECOND(AV$11)))","v":0},2,3,0,2,2,2,2,2,{"$f":"AV$18","v":0},{"$error":"#N/A"},{"$f":"AV$19","v":0},{"$f":"IF(OR(BJ64=0,BJ64=1),DEBUT!$O$5,IF(AND(BK64=BI64,BJ64=2),DEBUT!$O$7,IF(AND(BK64<>BI64,BJ64=2),DEBUT!$O$6,IF(AND(BK64=BI64,BJ64=3),DEBUT!$O$9,IF(AND(BK64<>BI64,BJ64=3),DEBUT!$O$8,0)))))","v":{"$error":"#N/A"}}]

{"sheet":"ENREGISTRER","index":2,"n_rows":0,"n_cols":0,"rows_kept":0,"cut":false,"hidden":false,"merged":[]}

{"sheet":"REFERENTIELS","index":3,"n_rows":21,"n_cols":16,"rows_kept":21,"cut":false,"hidden":false,"merged":[[3,2,3,3],[3,4,3,15],[4,2,4,3],[4,4,4,15],[5,4,5,7],[5,8,5,15],[19,4,19,7],[19,8,19,11],[19,12,19,15],[6,3,15,3],[6,2,15,2],[18,4,18,5],[18,6,18,8],[18,9,18,10],[16,4,16,15],[16,2,18,2],[18,11,18,13],[18,14,18,15],[17,4,17,15]]}
[]
[]
[null,null,"DEMI-FOND N4 BAC PRO"]
[null,null,"COMPÉTENCES  ATTENDUES",null,"PRINCIPES D’ÉLABORATION DE L’ÉPREUVE"]
[null,null,"Pour produire la meilleure performance, se préparer et récupérer efficacement de l’effort sur une série de courses dont l’allure est anticipée.",null,"Le candidat réalise 3 courses (C1, C2, C3) de 500m (récupération de 10mn maximum entre chaque 500 mètres) chronométrées par un enseignant à la seconde. Le candidat annonce avant son départ sa stratégie de course parmi celles proposées ci-dessous. ll peut réguler sa stratégie uniquement après C1.\nLes candidats courent sans montre ni chronomètre mais un temps de passage leur est communiqué aux 250m.\nLe temps cumulé compte pour 70 % de la note.\nL’échauffement, la récupération et la gestion de l’effort comptent pour 15%. Le respect et la régulation de la stratégie de course comptent pour 15%"]
[null,null,"POINTS À AFFECTER","ÉLÉMENTS À ÉVALUER","COMPETENCE DE NIVEAU 3 EN COURS D’ACQUISITION\nde 00 à 09 pts",null,null,null,"COMPETENCE DE NIVEAU 3 ACQUISE\nde 10 à 20 pts"]
[null,null,14,"Temps cumulé pour les trois 500 m réalisés",null,4,"00:06:41","00:09:40",null,9,"00:05:13","00:06:58",null,14,"00:04:18","00:05:41"]
[null,null,null,null,null,3.5,"00:06:49","00:10:00",null,8.5,"00:05:23","00:07:09",null,13.5,"00:04:21","00:05:47"]
[null,null,null,null,null,3,"00:07:06","00:10:20",null,8,"00:05:33","00:07:20",null,13,"00:04:25","00:05:54"]
[null,null,null,null,null,2.5,"00:07:24","00:10:40",null,7.5,"00:05:43","00:07:31",null,12.5,"00:04:29","00:06:00"]
[null,null,null,null,null,2,"00:07:42","00:11:00",null,7,"00:05:53","00:07:42",null,12,"00:04:33","00:06:07"]
[null,null,null,null,null,1.5,"00:08:00","00:11:20",null,6.5,"00:06:01","00:08:01",null,11.5,"00:04:37","00:06:14"]
[null,null,null,null,null,1,"00:08:17","00:11:40",null,6,"00:06:09","00:08:20",null,11,"00:04:41","00:06:21"]
[null,null,null,null,null,0.5,"00:08:35","00:12:00",null,5.5,"00:06:17","00:08:40",null,10.5,"00:04:45","00:06:28"]
[null,null,null,null,null,0,null,null,null,5,"00:06:25","00:09:00",null,10,"00:04:54","00:06:36"]
[null,null,null,null,null,null,null,null,null,4.5,"00:06:33","00:09:20",null,9.5,"00:05:03","00:06:47"]
[null,null,3,"Stratégie de course\nLe candidat annonce avant son départ sa stratégie de course parmi celles proposées ci- après. Elle peut être régulée après C1.\nEn cas d’annonce de deux courses de vitesse différente un écart de 1 seconde est nécessaire En cas d’annonce de deux courses de même vitesse un écart de 3\" est toléré","Les schémas représentent graphiquement les variations de vitesse d’une course à l’autre (plus vite, moins vite, vitesse égale). Ils correspondent à une stratégie de course.\nExemple :\nSchéma choisi =\nStratégie de course = deuxième course moins rapide que la première, troisième course à la même vitesse que la deuxième"]
[null,null,null,"Stratégies proposées.\nElles ne sont pas hiérarchisées entre elles"]
[null,null,null,"Respect et régulation de la stratégie de course annoncée\n","Aucune stratégie C1-C2 et C2-C3 n’est respectée\n0 pt",null,"Une stratégie C1-C2 ou C2- C3 est respectée (avec une régulation) :\n1 pt",null,null,"Une stratégie C1-C2 ou C2-C3 est respectée (sans régulation) :\n2 pts",null,"La stratégie C1-C2-C3 est respectée (avec régulation) :\n2,5 pts",null,null,"La stratégie C1-C2-C3 est respectée (sans régulation) :\n3 pts"]
[null,null,3,"Préparation et récupération","Echauffement inadapté au type d’effort qui va suivre, l’élève est proche de l’inactivité. Récupération passive après l’effort (assis)\n0 à 1pt",null,null,null,"Echauffement progressif avec repérage d’allures\nRécupération active après l’effort\n1.25 à 2.25 pts",null,null,null,"Echauffement progressif complet avec repérage fin des allures projetées sur des distances de course significatives Récupération active après l’effort et préparation aux allures suivantes\n2.5 à 3 pts"]
[null,null,null,null,0]

{"sheet":"DEBUT","index":4,"n_rows":191,"n_cols":20,"rows_kept":191,"cut":false,"hidden":false,"merged":[]}
[]
[]
[]
[null,"TEMPS TOUR",null,"DUREE","equivalent secondes","LONGUEUR PISTE","DISTANCE PLOTS","PTS /100m","Plots supp",null,"3x500 G","3x500 F","Note /14","Stratégie N°","Stratégie course","NOTE /3","Régulation","Echauffement",null,"sexe"]
[null,null,null,"15\"",15,50,10,0.1,0,null,"00:00:01","00:00:01",14,null,"0c",0,"oui",0]
[null,"00:01:10",null,"30\"",30,100,15,0.2,1,null,"00:04:18","00:05:41",14,1,"2C+R",1,"non",0.5,null,"g"]
[null,"00:01:11",null,"45\"",45,150,20,0.3,2,null,"00:04:21","00:05:47",13.5,2,"2C",2,null,1,null,"f"]
[null,"00:01:12",null,"1'",60,200,25,0.4,3,null,"00:04:25","00:05:54",13,3,"3C+R",2.5,null,1.5]
[null,"00:01:13",null,"1'30",90,250,50,0.5,4,null,"00:04:29","00:06:00",12.5,4,"3C",3,null,2]
[null,"00:01:14",null,"2'",120,300,100,0.6,5,null,"00:04:33","00:06:07",12,5,null,null,null,2.5]
[null,"00:01:15",null,"3'",180,350,null,0.7,6,null,"00:04:37","00:06:14",11.5,6,null,null,null,3]
[null,"00:01:16",null,"5'",300,400,null,0.8,null,null,"00:04:41","00:06:21",11,7]
[null,"00:01:17",null,"6'",360,450,null,0.9,null,null,"00:04:45","00:06:28",10.5,8]
[null,"00:01:18",null,"8'",480,500,null,1,null,null,"00:04:54","00:06:36",10,9]
[null,"00:01:19",null,"10'",600,null,null,1.1000000000000001,null,null,"00:05:03","00:06:47",9.5]
[null,"00:01:20",null,"12'",720,null,null,1.2,null,null,"00:05:13","00:06:58",9]
[null,"00:01:21",null,"15'",900,null,null,1.3,null,null,"00:05:23","00:07:09",8.5]
[null,"00:01:22",null,"18'",1080,null,null,1.4,null,null,"00:05:33","00:07:20",8]
[null,"00:01:23",null,"20'",1200,null,null,1.5,null,null,"00:05:43","00:07:31",7.5]
[null,"00:01:24",null,"25'",1500,null,null,1.6,null,null,"00:05:53","00:07:42",7]
[null,"00:01:25",null,"30'",1800,null,null,1.7,null,null,"00:06:01","00:08:01",6.5]
[null,"00:01:26",null,"35'",2100,null,null,1.8,null,null,"00:06:09","00:08:20",6]
[null,"00:01:27",null,"40'",2400,null,null,1.9,null,null,"00:06:17","00:08:40",5.5]
[null,"00:01:28",null,null,null,null,null,2,null,null,"00:06:25","00:09:00",5]
[null,"00:01:29",null,null,null,null,null,2.1,null,null,"00:06:33","00:09:20",4.5]
[null,"00:01:30",null,null,null,null,null,2.2000000000000002,null,null,"00:06:41","00:09:40",4]
[null,"00:01:31",null,null,null,null,null,2.2999999999999998,null,null,"00:06:49","00:10:00",3.5]
[null,"00:01:32",null,null,null,null,null,2.4,null,null,"00:07:06","00:10:20",3]
[null,"00:01:33",null,null,null,null,null,2.5,null,null,"00:07:24","00:10:40",2.5]
[null,"00:01:34",null,null,null,null,null,2.6,null,null,"00:07:42","00:11:00",2]
[null,"00:01:35",null,null,null,null,null,2.7,null,null,"00:08:00","00:11:20",1.5]
[null,"00:01:36",null,null,null,null,null,2.8,null,null,"00:08:17","00:11:40",1]
[null,"00:01:37",null,null,null,null,null,2.9,null,null,"00:08:35","00:12:00",0.5]
[null,"00:01:38",null,null,null,null,null,3,null,null,"01:01:01","01:01:01",0]
[null,"00:01:39",null,null,null,null,null,3.1]
[null,"00:01:40",null,null,null,null,null,3.2]
[null,"00:01:41",null,null,null,null,null,3.3]
[null,"00:01:42",null,null,null,null,null,3.4]
[null,"00:01:43",null,null,null,null,null,3.5]
[null,"00:01:44",null,null,null,null,null,3.6]
[null,"00:01:45",null,null,null,null,null,3.7]
[null,"00:01:46",null,null,null,null,null,3.8]
[null,"00:01:47",null,null,null,null,null,3.9]
[null,"00:01:48",null,null,null,null,null,4]
[null,"00:01:49",null,null,null,null,null,4.0999999999999996]
[null,"00:01:50",null,null,null,null,null,4.2]
[null,"00:01:51",null,null,null,null,null,4.3]
[null,"00:01:52",null,null,null,null,null,4.4000000000000004]
[null,"00:01:53",null,null,null,null,null,4.5]
[null,"00:01:54",null,null,null,null,null,4.5999999999999996]
[null,"00:01:55",null,null,null,null,null,4.7]
[null,"00:01:56",null,null,null,null,null,4.8]
[null,"00:01:57",null,null,null,null,null,4.9000000000000004]
[null,"00:01:58",null,null,null,null,null,5]
[null,"00:01:59",null,null,null,null,null,5.0999999999999996]
[null,"00:02:00",null,null,null,null,null,5.2]
[null,"00:02:01"]
[null,"00:02:02"]
[null,"00:02:03"]
[null,"00:02:04"]
[null,"00:02:05"]
[null,"00:02:06"]
[null,"00:02:07"]
[null,"00:02:08"]
[null,"00:02:09"]
[null,"00:02:10"]
[null,"00:02:11"]
[null,"00:02:12"]
[null,"00:02:13"]
[null,"00:02:14"]
[null,"00:02:15"]
[null,"00:02:16"]
[null,"00:02:17"]
[null,"00:02:18"]
[null,"00:02:19"]
[null,"00:02:20"]
[null,"00:02:21"]
[null,"00:02:22"]
[null,"00:02:23"]
[null,"00:02:24"]
[null,"00:02:25"]
[null,"00:02:26"]
[null,"00:02:27"]
[null,"00:02:28"]
[null,"00:02:29"]
[null,"00:02:30"]
[null,"00:02:31"]
[null,"00:02:32"]
[null,"00:02:33"]
[null,"00:02:34"]
[null,"00:02:35"]
[null,"00:02:36"]
[null,"00:02:37"]
[null,"00:02:38"]
[null,"00:02:39"]
[null,"00:02:40"]
[null,"00:02:41"]
[null,"00:02:42"]
[null,"00:02:43"]
[null,"00:02:44"]
[null,"00:02:45"]
[null,"00:02:46"]
[null,"00:02:47"]
[null,"00:02:48"]
[null,"00:02:49"]
[null,"00:02:50"]
[null,"00:02:51"]
[null,"00:02:52"]
[null,"00:02:53"]
[null,"00:02:54"]
[null,"00:02:55"]
[null,"00:02:56"]
[null,"00:02:57"]
[null,"00:02:58"]
[null,"00:02:59"]
[null,"00:03:00"]
[null,"00:03:01"]
[null,"00:03:02"]
[null,"00:03:03"]
[null,"00:03:04"]
[null,"00:03:05"]
[null,"00:03:06"]
[null,"00:03:07"]
[null,"00:03:08"]
[null,"00:03:09"]
[null,"00:03:10"]
[null,"00:03:11"]
[null,"00:03:12"]
[null,"00:03:13"]
[null,"00:03:14"]
[null,"00:03:15"]
[null,"00:03:16"]
[null,"00:03:17"]
[null,"00:03:18"]
[null,"00:03:19"]
[null,"00:03:20"]
[null,"00:03:21"]
[null,"00:03:22"]
[null,"00:03:23"]
[null,"00:03:24"]
[null,"00:03:25"]
[null,"00:03:26"]
[null,"00:03:27"]
[null,"00:03:28"]
[null,"00:03:29"]
[null,"00:03:30"]
[null,"00:03:31"]
[null,"00:03:32"]
[null,"00:03:33"]
[null,"00:03:34"]
[null,"00:03:35"]
[null,"00:03:36"]
[null,"00:03:37"]
[null,"00:03:38"]
[null,"00:03:39"]
[null,"00:03:40"]
[null,"00:03:41"]
[null,"00:03:42"]
[null,"00:03:43"]
[null,"00:03:44"]
[null,"00:03:45"]
[null,"00:03:46"]
[null,"00:03:47"]
[null,"00:03:48"]
[null,"00:03:49"]
[null,"00:03:50"]
[null,"00:03:51"]
[null,"00:03:52"]
[null,"00:03:53"]
[null,"00:03:54"]
[null,"00:03:55"]
[null,"00:03:56"]
[null,"00:03:57"]
[null,"00:03:58"]
[null,"00:03:59"]
[null,"00:04:00"]
[null,"00:04:01"]
[null,"00:04:02"]
[null,"00:04:03"]
[null,"00:04:04"]
[null,"00:04:05"]
[null,"00:04:06"]
[null,"00:04:07"]
[null,"00:04:08"]
[null,"00:04:09"]
[null,"00:04:10"]
[null,"00:04:11"]
[null,"00:04:12"]
[null,"00:04:13"]
[null,"00:04:14"]
[null,"00:04:15"]

{"sheet":"APPEL","index":5,"n_rows":38,"n_cols":28,"rows_kept":38,"cut":false,"hidden":false,"merged":[[0,19,0,20],[0,22,0,23],[0,25,0,26],[0,1,0,2],[0,4,0,5],[0,7,0,8],[0,10,0,11],[0,13,0,14],[0,16,0,17]]}
[null,"TELEC",null,null,"1PROE",null,null,"TGA",null,null,"1EVS",null,null,"1GA",null,null,"1TU",null,null,"STAGE"]
[null,"NOMS","PRENOMS","sexe","NOMS","PRENOMS","sexe","NOMS","PRENOMS","sexe","NOMS","PRENOMS","sexe","NOMS","PRENOMS","sexe","NOMS","PRENOMS","sexe","NOMS","PRENOMS","sexe","NOMS","PRENOMS","sexe","NOMS","PRENOMS","sexe"]
[1,null,"Abdelbasset","g",null,"Abdelwahid","g",null,"Bertile","f",null,"Abir","f",null,"Camille","f",null,"Amir","g",null,"Alexandre","g"]
[2,null,"Alen","g",null,"Ali","g",null,"Chirine","f",null,"Adama","g",null,"Emilie","f",null,"Badrane","g",null,"Alexis F.","g"]
[3,null,"Bilal","g",null,"Fares","g",null,"Isma","f",null,"Elfeta","f",null,"Gehna","f",null,"Emre","g",null,"Anthony","g"]
[4,null,"Christian","g",null,"Gilles","g",null,"Jihenne","f",null,"Faiz","g",null,"Ismeta","f",null,"Hedi","g",null,"Christian","g"]
[5,null,"Halis","g",null,"Haykel","g",null,"Kandji","f",null,"Fares","g",null,"Janette","f",null,"Mansour","g",null,"Claudine","f"]
[6,null,"Laurent","g",null,"Mohamed","g",null,"Kenza","f",null,"Hocine","g",null,"Jenna","f",null,"Mounia","g",null,"Emmanuel","g"]
[7,null,"Mickael","g",null,"Mohamed","g",null,"Khayra","f",null,"Imen","f",null,"Juliana","f",null,"Mustafa","g",null,"vivien","g"]
[8,null,"Salim","g",null,"Mohamed","g",null,"Liddia","f",null,"Jenny","f",null,"Kelly","f",null,"Sombate rothanak","g",null,"Fred","g"]
[9,null,"Willy","g",null,"Phi tram","g",null,"Louiza","f",null,"Jennyline","f",null,"Laura","f",null,"Wail","g",null,"Gwen","g"]
[10,null,"mickael",null,null,"Ryad","g",null,"Lydia","f",null,"Kévin","g",null,"Lea","f",null,"Yohann","g",null,"Julien","g"]
[11,null,"mika",null,null,"Xhorxh","g",null,"Margarita","f",null,"Melvine","f",null,"Linda","f",null,"Zayd","g",null,"Laurent","g"]
[12,null,null,null,null,"Yassine","g",null,"Mouna","f",null,"Nesrine","f",null,"Maïssane","f",null,null,null,null,"Marc-Antoine","g"]
[13,null,null,null,null,null,null,null,"Nadia","f",null,"Ruth","f",null,"Mélinda","f",null,null,null,null,"Marco","g"]
[14,null,null,null,null,null,null,null,"Naila","f",null,"Sabrina","f",null,"Meltem","f",null,null,null,null,"Morgane","f"]
[15,null,null,null,null,null,null,null,"Naoures","f",null,"Sandra","f",null,"Morgane","f",null,null,null,null,"Nathalie","f"]
[16,null,null,null,null,null,null,null,"Nessrine","f",null,"Siwar","f",null,"Naomie","f",null,null,null,null,"Nico Afriat","g"]
[17,null,null,null,null,null,null,null,"Noemie","f",null,"Suleyman","g",null,"Nejma","f",null,null,null,null,"Nico Podu","g"]
[18,null,null,null,null,null,null,null,"Sarinece","f",null,null,null,null,"Nore-ymen","f",null,null,null,null,"Olivier","g"]
[19,null,null,null,null,null,null,null,"Sofia","f",null,null,null,null,"Rachda","f",null,null,null,null,"Pascal","g"]
[20,null,null,null,null,null,null,null,"Thais sirine","f",null,null,null,null,"Sauraya","f",null,null,null,null,"Phil G.","g"]
[21,null,null,null,null,null,null,null,"Victoria","f",null,null,null,null,"Sibel","f",null,null,null,null,"Philippe G.","g"]
[22,null,null,null,null,null,null,null,"Wiem","f",null,null,null,null,"Wacilla","f",null,null,null,null,"Stef","g"]
[23,null,null,null,null,null,null,null,"Ynès","f",null,null,null,null,"Yosr","f",null,null,null,null,"Thomas","g"]
[24,null,null,null,null,null,null,null,"Zineb","f",null,null,null,null,"Zekiye","f",null,null,null,null,"Tristan","g"]
[25,null,null,null,null,null,null,null,null,null,null,null,null,null,null,null,null,null,null,null,"eric","g"]
[26,null,null,null,null,null,null,null,null,null,null,null,null,null,null,null,null,null,null,null,"Xav","g"]
[27,null,null,null,null,null,null,null,null,null,null,null,null,null,null,null,null,null,null,null,"CC","f"]
[28,null,null,null,null,null,null,null,null,null,null,null,null,null,null,null,null,null,null,null,"Barby","f"]
[29,null,null,null,null,null,null,null,null,null,null,null,null,null,null,null,null,null,null,null,"Jo","g"]
[30,null,null,null,null,null,null,null,null,null,null,null,null,null,null,null,null,null,null,null,"Nico T.","g"]
[31,null,null,null,null,null,null,null,null,null,null,null,null,null,null,null,null,null,null,null,"Steven","g"]
[32,null,null,null,null,null,null,null,null,null,null,null,null,null,null,null,null,null,null,null,"Cyrilinou","g"]
[33,null,null,null,null,null,null,null,null,null,null,null,null,null,null,null,null,null,null,null,"Mick","g"]
[34,null,null,null,null,null,null,null,null,null,null,null,null,null,null,null,null,null,null,null,"mika"]
[35]
[36]