{"text_format":"1","workbook":"xlsx","n_sheets":4,"sheets":["Accueil","Evaluation","Barèmes & Options","Présentation des profils"],"not_rendered":{"charts":0,"images":1,"macros":1,"external_links":0,"defined_names":393,"comments":1,"pivot_tables":0},"unopened":[],"bounds":{"document_bytes":16777216,"sheet_cells":100000,"rows_first":2000,"rows_last":500,"rows_between":2000,"halvings":0,"cell_chars":16384,"cell_head_chars":4096},"cells_cut":0,"cells_raw":0,"read":"whole","date_system":"1900"}

{"sheet":"Accueil","index":0,"n_rows":0,"n_cols":0,"rows_kept":0,"cut":false,"hidden":false,"merged":[]}

{"sheet":"Evaluation","index":1,"n_rows":101,"n_cols":41,"rows_kept":101,"cut":false,"hidden":false,"merged":[[0,0,0,32]]}
["Course de demi-fond Bac GT - N4 - 2018"]
[]
["Nom","Prénom","Sexe F ou M","Classe","Profil","Projet C1","Projet C1","500-1","500-1","Ecart","Profil si régulation","profil choisi","500-2","500-2","500-3","500-3","Temps Total","c2-c1","c3-c2","c3-c1","respect c1-c2=","respect c1-c2+","respect c1-c2-","respect C2-C3=","respect C2-C3+","respect C2-C3-","Respect Profile 9","points respect","points profil / 3","Point projet C1 / 1","Points perf / 14","Points echauff. / 2","Note / 20",null,null,null,null,null,"Sexe"]
[null,null,null,null,null,null,{"$f":"IF(F4=\"\",\"\",F4/100)","v":""},null,{"$f":"IF(H4=\"\",\"\",H4/100)","v":""},{"$f":"IF(OR(G4=\"\",I4=\"\"),\"\",ABS((INT(I4)*60)+((I4-INT(I4))*100)-((INT(G4)*60)+((G4-INT(G4))*100))))","v":""},null,{"$f":"IF(AND(E4=\"\",K4=\"\"),\"\",IF(K4=\"\",E4,K4))","v":""},null,{"$f":"IF(M4=\"\",\"\",M4/100)","v":""},null,{"$f":"IF(O4=\"\",\"\",O4/100)","v":""},{"$f":"IF(AND(P4<>\"\",N4<>\"\",I4<>\"\"),(INT(((INT($I4)*60)+(($I4-INT($I4))*100)+(INT($N4)*60)+(($N4-INT($N4))*100)+(INT($P4)*60)+(($P4-INT($P4))*100))/60)+MOD(((INT($I4)*60)+(($I4-INT($I4))*100)+(INT($N4)*60)+(($N4-INT($N4))*100)+(INT($P4)*60)+(($P4-INT($P4))*100)),60)/100)*100,\"\")","v":""},{"$f":"ROUND((INT(N4)*60)+((N4-INT(N4))*100)-((INT(I4)*60)+((I4-INT(I4))*100)),0)","v":{"$error":"#VALUE!"}},{"$f":"ROUND((INT(P4)*60)+((P4-INT(P4))*100)-((INT(N4)*60)+((N4-INT(N4))*100)),0)","v":{"$error":"#VALUE!"}},{"$f":"ROUND((INT(P4)*60)+((P4-INT(P4))*100)-((INT(I4)*60)+((I4-INT(I4))*100)),0)","v":{"$error":"#VALUE!"}},{"$f":"IF(AND(N4<>0,I4<>0),IF(OR(L4=1,L4=3,L4=4),IF(OR(R4=0,ABS(R4)<='Barèmes & Options'!H$2),1,0)),\"\")","v":false},{"$f":"IF(AND(N4<>\"\",I4<>\"\"),IF(OR(L4=5,L4=7),IF(R4>0,1,0)),\"\")","v":""},{"$f":"IF(AND(N4<>\"\",I4<>\"\"),IF(OR(L4=2,L4=6,L4=8),IF(R4<0,1,0)),\"\")","v":""},{"$f":"IF(AND(N4<>0,P4<>0),IF(OR(L4=1,L4=5,L4=6),IF(OR(S4=0,ABS(S4)<='Barèmes & Options'!H$2),1,0)),\"\")","v":false},{"$f":"IF(AND(N4<>\"\",P4<>\"\"),IF(OR(L4=4,L4=8),IF(S4>0,1,0)),\"\")","v":""},{"$f":"IF(AND(N4<>\"\",P4<>\"\"),IF(OR(L4=2,L4=3,L4=7),IF(S4<0,1,0)),\"\")","v":""},{"$f":"IF(SUM(U4:Z4)=2,IF(L4=2,IF(L4=2,IF(T4-'Barèmes & Options'!H$2<-1,0,1)),\"\"),0)","v":0},{"$f":"IF(OR(L4=2,L4=9),SUM(U4:Z4)-AA4,SUM(U4:Z4))","v":0},{"$f":"IF(L4<>\"\",IF(AND(L4>=1,L4<=8,L4=ABS(L4)),IF(AND(L4<=9,L4>=1),IF(AND(AB4=1,K4<>\"\"),1,IF(AND(AB4=1,K4=\"\"),2,IF(AND(AB4=2,K4<>\"\"),2.5,IF(AND(AB4=2,K4=\"\"),3,0)))),\"\"),\"Err. Profil\"),\"\")","v":""},{"$f":"IF(G4<>\"\",IF(ROUND(J4,0)<=3,1,0),\"\")","v":""},{"$f":"IF(AND(P4<>\"\",N4<>\"\",I4<>\"\"),IF($C4=\"\",\"SX\",IF($C4=\"F\",VLOOKUP(ROUND($Q4,0)/100,Barème500,3),VLOOKUP(ROUND($Q4,0)/100,Barème500,2))),\"\")","v":""},null,{"$f":"IF(OR(AF4=\"\",AF4=\"\",AE4=\"\",AD4=\"\",AC4=\"\"),\"\",IF(OR(AF4<0,AF4>2),\"Err ech.\",SUM(AF4,AE4,AD4,AC4)))","v":""},null,"Moyenne F. :",{"$f":"IF(ISERROR(AN4),\"\",AN4)","v":""},null,null,{"$f":"IF(C4<>\"f\",\"m\",\"f\")","v":"m"},{"$f":"AVERAGEIF(AM4:AM101,\"f\",AG4:AG101)","v":{"$error":"#DIV/0!"}},"filles"]
[null,null,null,null,null,null,{"$f":"IF(F5=\"\",\"\",F5/100)","v":""},null,{"$f":"IF(H5=\"\",\"\",H5/100)","v":""},{"$f":"IF(OR(G5=\"\",I5=\"\"),\"\",ABS((INT(I5)*60)+((I5-INT(I5))*100)-((INT(G5)*60)+((G5-INT(G5))*100))))","v":""},null,{"$f":"IF(AND(E5=\"\",K5=\"\"),\"\",IF(K5=\"\",E5,K5))","v":""},null,{"$f":"IF(M5=\"\",\"\",M5/100)","v":""},null,{"$f":"IF(O5=\"\",\"\",O5/100)","v":""},{"$f":"IF(AND(P5<>\"\",N5<>\"\",I5<>\"\"),(INT(((INT($I5)*60)+(($I5-INT($I5))*100)+(INT($N5)*60)+(($N5-INT($N5))*100)+(INT($P5)*60)+(($P5-INT($P5))*100))/60)+MOD(((INT($I5)*60)+(($I5-INT($I5))*100)+(INT($N5)*60)+(($N5-INT($N5))*100)+(INT($P5)*60)+(($P5-INT($P5))*100)),60)/100)*100,\"\")","v":""},{"$f":"ROUND((INT(N5)*60)+((N5-INT(N5))*100)-((INT(I5)*60)+((I5-INT(I5))*100)),0)","v":{"$error":"#VALUE!"}},{"$f":"ROUND((INT(P5)*60)+((P5-INT(P5))*100)-((INT(N5)*60)+((N5-INT(N5))*100)),0)","v":{"$error":"#VALUE!"}},{"$f":"ROUND((INT(P5)*60)+((P5-INT(P5))*100)-((INT(I5)*60)+((I5-INT(I5))*100)),0)","v":{"$error":"#VALUE!"}},{"$f":"IF(AND(N5<>0,I5<>0),IF(OR(L5=1,L5=3,L5=4),IF(OR(R5=0,ABS(R5)<='Barèmes & Options'!H$2),1,0)),\"\")","v":false},{"$f":"IF(AND(N5<>\"\",I5<>\"\"),IF(OR(L5=5,L5=7),IF(R5>0,1,0)),\"\")","v":""},{"$f":"IF(AND(N5<>\"\",I5<>\"\"),IF(OR(L5=2,L5=6,L5=8),IF(R5<0,1,0)),\"\")","v":""},{"$f":"IF(AND(N5<>0,P5<>0),IF(OR(L5=1,L5=5,L5=6),IF(OR(S5=0,ABS(S5)<='Barèmes & Options'!H$2),1,0)),\"\")","v":false},{"$f":"IF(AND(N5<>\"\",P5<>\"\"),IF(OR(L5=4,L5=8),IF(S5>0,1,0)),\"\")","v":""},{"$f":"IF(AND(N5<>\"\",P5<>\"\"),IF(OR(L5=2,L5=3,L5=7),IF(S5<0,1,0)),\"\")","v":""},{"$f":"IF(SUM(U5:Z5)=2,IF(L5=2,IF(L5=2,IF(T5-'Barèmes & Options'!H$2<-1,0,1)),\"\"),0)","v":0},{"$f":"IF(OR(L5=2,L5=9),SUM(U5:Z5)-AA5,SUM(U5:Z5))","v":0},{"$f":"IF(L5<>\"\",IF(AND(L5>=1,L5<=8,L5=ABS(L5)),IF(AND(L5<=9,L5>=1),IF(AND(AB5=1,K5<>\"\"),1,IF(AND(AB5=1,K5=\"\"),2,IF(AND(AB5=2,K5<>\"\"),2.5,IF(AND(AB5=2,K5=\"\"),3,0)))),\"\"),\"Err. Profil\"),\"\")","v":""},{"$f":"IF(G5<>\"\",IF(ROUND(J5,0)<=3,1,0),\"\")","v":""},{"$f":"IF(AND(P5<>\"\",N5<>\"\",I5<>\"\"),IF($C5=\"\",\"SX\",IF($C5=\"F\",VLOOKUP(ROUND($Q5,0)/100,Barème500,3),VLOOKUP(ROUND($Q5,0)/100,Barème500,2))),\"\")","v":""},null,{"$f":"IF(OR(AF5=\"\",AF5=\"\",AE5=\"\",AD5=\"\",AC5=\"\"),\"\",IF(OR(AF5<0,AF5>2),\"Err ech.\",SUM(AF5,AE5,AD5,AC5)))","v":""},null,"moyenne G. :",{"$f":"IF(ISERROR(AN5),\"\",AN5)","v":""},null,null,"m",{"$f":"AVERAGEIF(AM4:AM101,\"m\",AG4:AG101)","v":{"$error":"#DIV/0!"}},"garçons"]
[null,null,null,null,null,null,"",null,"","",null,"",null,"",null,"","",{"$error":"#VALUE!"},{"$error":"#VALUE!"},{"$error":"#VALUE!"},{"$f":"IF(AND(N6<>0,I6<>0),IF(OR(L6=1,L6=3,L6=4),IF(OR(R6=0,ABS(R6)<='Barèmes & Options'!H$2),1,0)),\"\")","v":false},"","",{"$f":"IF(AND(N6<>0,P6<>0),IF(OR(L6=1,L6=5,L6=6),IF(OR(S6=0,ABS(S6)<='Barèmes & Options'!H$2),1,0)),\"\")","v":false},"","",{"$f":"IF(SUM(U6:Z6)=2,IF(L6=2,IF(L6=2,IF(T6-'Barèmes & Options'!H$2<-1,0,1)),\"\"),0)","v":0},0,"","",{"$f":"IF(AND(P6<>\"\",N6<>\"\",I6<>\"\"),IF($C6=\"\",\"SX\",IF($C6=\"F\",VLOOKUP(ROUND($Q6,0)/100,Barème500,3),VLOOKUP(ROUND($Q6,0)/100,Barème500,2))),\"\")","v":""},null,"",null,"Moyenne :",{"$f":"IF(ISERROR(AN6),\"\",AN6)","v":""},null,null,"m",{"$f":"AVERAGE(AG4:AG101)","v":{"$error":"#DIV/0!"}},"géné"]
[null,null,null,null,null,null,"",null,"","",null,"",null,"",null,"","",{"$error":"#VALUE!"},{"$error":"#VALUE!"},{"$error":"#VALUE!"},{"$f":"IF(AND(N7<>0,I7<>0),IF(OR(L7=1,L7=3,L7=4),IF(OR(R7=0,ABS(R7)<='Barèmes & Options'!H$2),1,0)),\"\")","v":false},"","",{"$f":"IF(AND(N7<>0,P7<>0),IF(OR(L7=1,L7=5,L7=6),IF(OR(S7=0,ABS(S7)<='Barèmes & Options'!H$2),1,0)),\"\")","v":false},"","",{"$f":"IF(SUM(U7:Z7)=2,IF(L7=2,IF(L7=2,IF(T7-'Barèmes & Options'!H$2<-1,0,1)),\"\"),0)","v":0},0,"","",{"$f":"IF(AND(P7<>\"\",N7<>\"\",I7<>\"\"),IF($C7=\"\",\"SX\",IF($C7=\"F\",VLOOKUP(ROUND($Q7,0)/100,Barème500,3),VLOOKUP(ROUND($Q7,0)/100,Barème500,2))),\"\")","v":""},null,"",null,"Note max :",{"$f":"IF(COUNT(AG4:AG101)>0,MAX(AG4:AG101),\"\")","v":""},null,null,"m"]
[null,null,null,null,null,null,"",null,"","",null,"",null,"",null,"","",{"$error":"#VALUE!"},{"$error":"#VALUE!"},{"$error":"#VALUE!"},{"$f":"IF(AND(N8<>0,I8<>0),IF(OR(L8=1,L8=3,L8=4),IF(OR(R8=0,ABS(R8)<='Barèmes & Options'!H$2),1,0)),\"\")","v":false},"","",{"$f":"IF(AND(N8<>0,P8<>0),IF(OR(L8=1,L8=5,L8=6),IF(OR(S8=0,ABS(S8)<='Barèmes & Options'!H$2),1,0)),\"\")","v":false},"","",{"$f":"IF(SUM(U8:Z8)=2,IF(L8=2,IF(L8=2,IF(T8-'Barèmes & Options'!H$2<-1,0,1)),\"\"),0)","v":0},0,"","",{"$f":"IF(AND(P8<>\"\",N8<>\"\",I8<>\"\"),IF($C8=\"\",\"SX\",IF($C8=\"F\",VLOOKUP(ROUND($Q8,0)/100,Barème500,3),VLOOKUP(ROUND($Q8,0)/100,Barème500,2))),\"\")","v":""},null,"",null,"Note min :",{"$f":"IF(COUNT(AG4:AG101)>0,MIN(AG4:AG101),\"\")","v":""},null,null,"m"]
[null,null,null,null,null,null,"",null,"","",null,"",null,"",null,"","",{"$error":"#VALUE!"},{"$error":"#VALUE!"},{"$error":"#VALUE!"},{"$f":"IF(AND(N9<>0,I9<>0),IF(OR(L9=1,L9=3,L9=4),IF(OR(R9=0,ABS(R9)<='Barèmes & Options'!H$2),1,0)),\"\")","v":false},"","",{"$f":"IF(AND(N9<>0,P9<>0),IF(OR(L9=1,L9=5,L9=6),IF(OR(S9=0,ABS(S9)<='Barèmes & Options'!H$2),1,0)),\"\")","v":false},"","",{"$f":"IF(SUM(U9:Z9)=2,IF(L9=2,IF(L9=2,IF(T9-'Barèmes & Options'!H$2<-1,0,1)),\"\"),0)","v":0},0,"","",{"$f":"IF(AND(P9<>\"\",N9<>\"\",I9<>\"\"),IF($C9=\"\",\"SX\",IF($C9=\"F\",VLOOKUP(ROUND($Q9,0)/100,Barème500,3),VLOOKUP(ROUND($Q9,0)/100,Barème500,2))),\"\")","v":""},null,"",null,null,null,null,null,"m"]
[null,null,null,null,null,null,"",null,"","",null,"",null,"",null,"","",{"$error":"#VALUE!"},{"$error":"#VALUE!"},{"$error":"#VALUE!"},{"$f":"IF(AND(N10<>0,I10<>0),IF(OR(L10=1,L10=3,L10=4),IF(OR(R10=0,ABS(R10)<='Barèmes & Options'!H$2),1,0)),\"\")","v":false},"","",{"$f":"IF(AND(N10<>0,P10<>0),IF(OR(L10=1,L10=5,L10=6),IF(OR(S10=0,ABS(S10)<='Barèmes & Options'!H$2),1,0)),\"\")","v":false},"","",{"$f":"IF(SUM(U10:Z10)=2,IF(L10=2,IF(L10=2,IF(T10-'Barèmes & Options'!H$2<-1,0,1)),\"\"),0)","v":0},0,"","",{"$f":"IF(AND(P10<>\"\",N10<>\"\",I10<>\"\"),IF($C10=\"\",\"SX\",IF($C10=\"F\",VLOOKUP(ROUND($Q10,0)/100,Barème500,3),VLOOKUP(ROUND($Q10,0)/100,Barème500,2))),\"\")","v":""},null,"",null,"Date :",null,null,null,"m"]
[null,null,null,null,null,null,"",null,"","",null,"",null,"",null,"","",{"$error":"#VALUE!"},{"$error":"#VALUE!"},{"$error":"#VALUE!"},{"$f":"IF(AND(N11<>0,I11<>0),IF(OR(L11=1,L11=3,L11=4),IF(OR(R11=0,ABS(R11)<='Barèmes & Options'!H$2),1,0)),\"\")","v":false},"","",{"$f":"IF(AND(N11<>0,P11<>0),IF(OR(L11=1,L11=5,L11=6),IF(OR(S11=0,ABS(S11)<='Barèmes & Options'!H$2),1,0)),\"\")","v":false},"","",{"$f":"IF(SUM(U11:Z11)=2,IF(L11=2,IF(L11=2,IF(T11-'Barèmes & Options'!H$2<-1,0,1)),\"\"),0)","v":0},0,"","",{"$f":"IF(AND(P11<>\"\",N11<>\"\",I11<>\"\"),IF($C11=\"\",\"SX\",IF($C11=\"F\",VLOOKUP(ROUND($Q11,0)/100,Barème500,3),VLOOKUP(ROUND($Q11,0)/100,Barème500,2))),\"\")","v":""},null,"",null,null,null,null,null,"m"]
[null,null,null,null,null,null,"",null,"","",null,"",null,"",null,"","",{"$error":"#VALUE!"},{"$error":"#VALUE!"},{"$error":"#VALUE!"},{"$f":"IF(AND(N12<>0,I12<>0),IF(OR(L12=1,L12=3,L12=4),IF(OR(R12=0,ABS(R12)<='Barèmes & Options'!H$2),1,0)),\"\")","v":false},"","",{"$f":"IF(AND(N12<>0,P12<>0),IF(OR(L12=1,L12=5,L12=6),IF(OR(S12=0,ABS(S12)<='Barèmes & Options'!H$2),1,0)),\"\")","v":false},"","",{"$f":"IF(SUM(U12:Z12)=2,IF(L12=2,IF(L12=2,IF(T12-'Barèmes & Options'!H$2<-1,0,1)),\"\"),0)","v":0},0,"","",{"$f":"IF(AND(P12<>\"\",N12<>\"\",I12<>\"\"),IF($C12=\"\",\"SX\",IF($C12=\"F\",VLOOKUP(ROUND($Q12,0)/100,Barème500,3),VLOOKUP(ROUND($Q12,0)/100,Barème500,2))),\"\")","v":""},null,"",null,null,null,null,null,"m"]
[null,null,null,null,null,null,"",null,"","",null,"",null,"",null,"","",{"$error":"#VALUE!"},{"$error":"#VALUE!"},{"$error":"#VALUE!"},{"$f":"IF(AND(N13<>0,I13<>0),IF(OR(L13=1,L13=3,L13=4),IF(OR(R13=0,ABS(R13)<='Barèmes & Options'!H$2),1,0)),\"\")","v":false},"","",{"$f":"IF(AND(N13<>0,P13<>0),IF(OR(L13=1,L13=5,L13=6),IF(OR(S13=0,ABS(S13)<='Barèmes & Options'!H$2),1,0)),\"\")","v":false},"","",{"$f":"IF(SUM(U13:Z13)=2,IF(L13=2,IF(L13=2,IF(T13-'Barèmes & Options'!H$2<-1,0,1)),\"\"),0)","v":0},0,"","",{"$f":"IF(AND(P13<>\"\",N13<>\"\",I13<>\"\"),IF($C13=\"\",\"SX\",IF($C13=\"F\",VLOOKUP(ROUND($Q13,0)/100,Barème500,3),VLOOKUP(ROUND($Q13,0)/100,Barème500,2))),\"\")","v":""},null,"",null,null,null,null,null,"m"]
[null,null,null,null,null,null,"",null,"","",null,"",null,"",null,"","",{"$error":"#VALUE!"},{"$error":"#VALUE!"},{"$error":"#VALUE!"},{"$f":"IF(AND(N14<>0,I14<>0),IF(OR(L14=1,L14=3,L14=4),IF(OR(R14=0,ABS(R14)<='Barèmes & Options'!H$2),1,0)),\"\")","v":false},"","",{"$f":"IF(AND(N14<>0,P14<>0),IF(OR(L14=1,L14=5,L14=6),IF(OR(S14=0,ABS(S14)<='Barèmes & Options'!H$2),1,0)),\"\")","v":false},"","",{"$f":"IF(SUM(U14:Z14)=2,IF(L14=2,IF(L14=2,IF(T14-'Barèmes & Options'!H$2<-1,0,1)),\"\"),0)","v":0},0,"","",{"$f":"IF(AND(P14<>\"\",N14<>\"\",I14<>\"\"),IF($C14=\"\",\"SX\",IF($C14=\"F\",VLOOKUP(ROUND($Q14,0)/100,Barème500,3),VLOOKUP(ROUND($Q14,0)/100,Barème500,2))),\"\")","v":""},null,"",null,null,null,null,null,"m"]
[null,null,null,null,null,null,"",null,"","",null,"",null,"",null,"","",{"$error":"#VALUE!"},{"$error":"#VALUE!"},{"$error":"#VALUE!"},{"$f":"IF(AND(N15<>0,I15<>0),IF(OR(L15=1,L15=3,L15=4),IF(OR(R15=0,ABS(R15)<='Barèmes & Options'!H$2),1,0)),\"\")","v":false},"","",{"$f":"IF(AND(N15<>0,P15<>0),IF(OR(L15=1,L15=5,L15=6),IF(OR(S15=0,ABS(S15)<='Barèmes & Options'!H$2),1,0)),\"\")","v":false},"","",{"$f":"IF(SUM(U15:Z15)=2,IF(L15=2,IF(L15=2,IF(T15-'Barèmes & Options'!H$2<-1,0,1)),\"\"),0)","v":0},0,"","",{"$f":"IF(AND(P15<>\"\",N15<>\"\",I15<>\"\"),IF($C15=\"\",\"SX\",IF($C15=\"F\",VLOOKUP(ROUND($Q15,0)/100,Barème500,3),VLOOKUP(ROUND($Q15,0)/100,Barème500,2))),\"\")","v":""},null,"",null,null,null,null,null,"m"]
[null,null,null,null,null,null,"",null,"","",null,"",null,"",null,"","",{"$error":"#VALUE!"},{"$error":"#VALUE!"},{"$error":"#VALUE!"},{"$f":"IF(AND(N16<>0,I16<>0),IF(OR(L16=1,L16=3,L16=4),IF(OR(R16=0,ABS(R16)<='Barèmes & Options'!H$2),1,0)),\"\")","v":false},"","",{"$f":"IF(AND(N16<>0,P16<>0),IF(OR(L16=1,L16=5,L16=6),IF(OR(S16=0,ABS(S16)<='Barèmes & Options'!H$2),1,0)),\"\")","v":false},"","",{"$f":"IF(SUM(U16:Z16)=2,IF(L16=2,IF(L16=2,IF(T16-'Barèmes & Options'!H$2<-1,0,1)),\"\"),0)","v":0},0,"","",{"$f":"IF(AND(P16<>\"\",N16<>\"\",I16<>\"\"),IF($C16=\"\",\"SX\",IF($C16=\"F\",VLOOKUP(ROUND($Q16,0)/100,Barème500,3),VLOOKUP(ROUND($Q16,0)/100,Barème500,2))),\"\")","v":""},null,"",null,null,null,null,null,"m"]
[null,null,null,null,null,null,"",null,"","",null,"",null,"",null,"","",{"$error":"#VALUE!"},{"$error":"#VALUE!"},{"$error":"#VALUE!"},{"$f":"IF(AND(N17<>0,I17<>0),IF(OR(L17=1,L17=3,L17=4),IF(OR(R17=0,ABS(R17)<='Barèmes & Options'!H$2),1,0)),\"\")","v":false},"","",{"$f":"IF(AND(N17<>0,P17<>0),IF(OR(L17=1,L17=5,L17=6),IF(OR(S17=0,ABS(S17)<='Barèmes & Options'!H$2),1,0)),\"\")","v":false},"","",{"$f":"IF(SUM(U17:Z17)=2,IF(L17=2,IF(L17=2,IF(T17-'Barèmes & Options'!H$2<-1,0,1)),\"\"),0)","v":0},0,"","",{"$f":"IF(AND(P17<>\"\",N17<>\"\",I17<>\"\"),IF($C17=\"\",\"SX\",IF($C17=\"F\",VLOOKUP(ROUND($Q17,0)/100,Barème500,3),VLOOKUP(ROUND($Q17,0)/100,Barème500,2))),\"\")","v":""},null,"",null,null,null,null,null,"m"]
[null,null,null,null,null,null,"",null,"","",null,"",null,"",null,"","",{"$error":"#VALUE!"},{"$error":"#VALUE!"},{"$error":"#VALUE!"},{"$f":"IF(AND(N18<>0,I18<>0),IF(OR(L18=1,L18=3,L18=4),IF(OR(R18=0,ABS(R18)<='Barèmes & Options'!H$2),1,0)),\"\")","v":false},"","",{"$f":"IF(AND(N18<>0,P18<>0),IF(OR(L18=1,L18=5,L18=6),IF(OR(S18=0,ABS(S18)<='Barèmes & Options'!H$2),1,0)),\"\")","v":false},"","",{"$f":"IF(SUM(U18:Z18)=2,IF(L18=2,IF(L18=2,IF(T18-'Barèmes & Options'!H$2<-1,0,1)),\"\"),0)","v":0},0,"","",{"$f":"IF(AND(P18<>\"\",N18<>\"\",I18<>\"\"),IF($C18=\"\",\"SX\",IF($C18=\"F\",VLOOKUP(ROUND($Q18,0)/100,Barème500,3),VLOOKUP(ROUND($Q18,0)/100,Barème500,2))),\"\")","v":""},null,"",null,null,null,null,null,"m"]
[null,null,null,null,null,null,"",null,"","",null,"",null,"",null,"","",{"$error":"#VALUE!"},{"$error":"#VALUE!"},{"$error":"#VALUE!"},{"$f":"IF(AND(N19<>0,I19<>0),IF(OR(L19=1,L19=3,L19=4),IF(OR(R19=0,ABS(R19)<='Barèmes & Options'!H$2),1,0)),\"\")","v":false},"","",{"$f":"IF(AND(N19<>0,P19<>0),IF(OR(L19=1,L19=5,L19=6),IF(OR(S19=0,ABS(S19)<='Barèmes & Options'!H$2),1,0)),\"\")","v":false},"","",{"$f":"IF(SUM(U19:Z19)=2,IF(L19=2,IF(L19=2,IF(T19-'Barèmes & Options'!H$2<-1,0,1)),\"\"),0)","v":0},0,"","",{"$f":"IF(AND(P19<>\"\",N19<>\"\",I19<>\"\"),IF($C19=\"\",\"SX\",IF($C19=\"F\",VLOOKUP(ROUND($Q19,0)/100,Barème500,3),VLOOKUP(ROUND($Q19,0)/100,Barème500,2))),\"\")","v":""},null,"",null,null,null,null,null,"m"]
[null,null,null,null,null,null,"",null,"","",null,"",null,"",null,"","",{"$error":"#VALUE!"},{"$error":"#VALUE!"},{"$error":"#VALUE!"},{"$f":"IF(AND(N20<>0,I20<>0),IF(OR(L20=1,L20=3,L20=4),IF(OR(R20=0,ABS(R20)<='Barèmes & Options'!H$2),1,0)),\"\")","v":false},"","",{"$f":"IF(AND(N20<>0,P20<>0),IF(OR(L20=1,L20=5,L20=6),IF(OR(S20=0,ABS(S20)<='Barèmes & Options'!H$2),1,0)),\"\")","v":false},"","",{"$f":"IF(SUM(U20:Z20)=2,IF(L20=2,IF(L20=2,IF(T20-'Barèmes & Options'!H$2<-1,0,1)),\"\"),0)","v":0},0,"","",{"$f":"IF(AND(P20<>\"\",N20<>\"\",I20<>\"\"),IF($C20=\"\",\"SX\",IF($C20=\"F\",VLOOKUP(ROUND($Q20,0)/100,Barème500,3),VLOOKUP(ROUND($Q20,0)/100,Barème500,2))),\"\")","v":""},null,"",null,null,null,null,null,"m"]
[null,null,null,null,null,null,"",null,"","",null,"",null,"",null,"","",{"$error":"#VALUE!"},{"$error":"#VALUE!"},{"$error":"#VALUE!"},{"$f":"IF(AND(N21<>0,I21<>0),IF(OR(L21=1,L21=3,L21=4),IF(OR(R21=0,ABS(R21)<='Barèmes & Options'!H$2),1,0)),\"\")","v":false},"","",{"$f":"IF(AND(N21<>0,P21<>0),IF(OR(L21=1,L21=5,L21=6),IF(OR(S21=0,ABS(S21)<='Barèmes & Options'!H$2),1,0)),\"\")","v":false},"","",{"$f":"IF(SUM(U21:Z21)=2,IF(L21=2,IF(L21=2,IF(T21-'Barèmes & Options'!H$2<-1,0,1)),\"\"),0)","v":0},0,"","",{"$f":"IF(AND(P21<>\"\",N21<>\"\",I21<>\"\"),IF($C21=\"\",\"SX\",IF($C21=\"F\",VLOOKUP(ROUND($Q21,0)/100,Barème500,3),VLOOKUP(ROUND($Q21,0)/100,Barème500,2))),\"\")","v":""},null,"",null,null,null,null,null,"m"]
[null,null,null,null,null,null,"",null,"","",null,"",null,"",null,"","",{"$error":"#VALUE!"},{"$error":"#VALUE!"},{"$error":"#VALUE!"},{"$f":"IF(AND(N22<>0,I22<>0),IF(OR(L22=1,L22=3,L22=4),IF(OR(R22=0,ABS(R22)<='Barèmes & Options'!H$2),1,0)),\"\")","v":false},"","",{"$f":"IF(AND(N22<>0,P22<>0),IF(OR(L22=1,L22=5,L22=6),IF(OR(S22=0,ABS(S22)<='Barèmes & Options'!H$2),1,0)),\"\")","v":false},"","",{"$f":"IF(SUM(U22:Z22)=2,IF(L22=2,IF(L22=2,IF(T22-'Barèmes & Options'!H$2<-1,0,1)),\"\"),0)","v":0},0,"","",{"$f":"IF(AND(P22<>\"\",N22<>\"\",I22<>\"\"),IF($C22=\"\",\"SX\",IF($C22=\"F\",VLOOKUP(ROUND($Q22,0)/100,Barème500,3),VLOOKUP(ROUND($Q22,0)/100,Barème500,2))),\"\")","v":""},null,"",null,null,null,null,null,"m"]
[null,null,null,null,null,null,"",null,"","",null,"",null,"",null,"","",{"$error":"#VALUE!"},{"$error":"#VALUE!"},{"$error":"#VALUE!"},{"$f":"IF(AND(N23<>0,I23<>0),IF(OR(L23=1,L23=3,L23=4),IF(OR(R23=0,ABS(R23)<='Barèmes & Options'!H$2),1,0)),\"\")","v":false},"","",{"$f":"IF(AND(N23<>0,P23<>0),IF(OR(L23=1,L23=5,L23=6),IF(OR(S23=0,ABS(S23)<='Barèmes & Options'!H$2),1,0)),\"\")","v":false},"","",{"$f":"IF(SUM(U23:Z23)=2,IF(L23=2,IF(L23=2,IF(T23-'Barèmes & Options'!H$2<-1,0,1)),\"\"),0)","v":0},0,"","",{"$f":"IF(AND(P23<>\"\",N23<>\"\",I23<>\"\"),IF($C23=\"\",\"SX\",IF($C23=\"F\",VLOOKUP(ROUND($Q23,0)/100,Barème500,3),VLOOKUP(ROUND($Q23,0)/100,Barème500,2))),\"\")","v":""},null,"",null,null,null,null,null,"m"]
[null,null,null,null,null,null,"",null,"","",null,"",null,"",null,"","",{"$error":"#VALUE!"},{"$error":"#VALUE!"},{"$error":"#VALUE!"},{"$f":"IF(AND(N24<>0,I24<>0),IF(OR(L24=1,L24=3,L24=4),IF(OR(R24=0,ABS(R24)<='Barèmes & Options'!H$2),1,0)),\"\")","v":false},"","",{"$f":"IF(AND(N24<>0,P24<>0),IF(OR(L24=1,L24=5,L24=6),IF(OR(S24=0,ABS(S24)<='Barèmes & Options'!H$2),1,0)),\"\")","v":false},"","",{"$f":"IF(SUM(U24:Z24)=2,IF(L24=2,IF(L24=2,IF(T24-'Barèmes & Options'!H$2<-1,0,1)),\"\"),0)","v":0},0,"","",{"$f":"IF(AND(P24<>\"\",N24<>\"\",I24<>\"\"),IF($C24=\"\",\"SX\",IF($C24=\"F\",VLOOKUP(ROUND($Q24,0)/100,Barème500,3),VLOOKUP(ROUND($Q24,0)/100,Barème500,2))),\"\")","v":""},null,"",null,null,null,null,null,"m"]
[null,null,null,null,null,null,"",null,"","",null,"",null,"",null,"","",{"$error":"#VALUE!"},{"$error":"#VALUE!"},{"$error":"#VALUE!"},{"$f":"IF(AND(N25<>0,I25<>0),IF(OR(L25=1,L25=3,L25=4),IF(OR(R25=0,ABS(R25)<='Barèmes & Options'!H$2),1,0)),\"\")","v":false},"","",{"$f":"IF(AND(N25<>0,P25<>0),IF(OR(L25=1,L25=5,L25=6),IF(OR(S25=0,ABS(S25)<='Barèmes & Options'!H$2),1,0)),\"\")","v":false},"","",{"$f":"IF(SUM(U25:Z25)=2,IF(L25=2,IF(L25=2,IF(T25-'Barèmes & Options'!H$2<-1,0,1)),\"\"),0)","v":0},0,"","",{"$f":"IF(AND(P25<>\"\",N25<>\"\",I25<>\"\"),IF($C25=\"\",\"SX\",IF($C25=\"F\",VLOOKUP(ROUND($Q25,0)/100,Barème500,3),VLOOKUP(ROUND($Q25,0)/100,Barème500,2))),\"\")","v":""},null,"",null,null,null,null,null,"m"]
[null,null,null,null,null,null,"",null,"","",null,"",null,"",null,"","",{"$error":"#VALUE!"},{"$error":"#VALUE!"},{"$error":"#VALUE!"},{"$f":"IF(AND(N26<>0,I26<>0),IF(OR(L26=1,L26=3,L26=4),IF(OR(R26=0,ABS(R26)<='Barèmes & Options'!H$2),1,0)),\"\")","v":false},"","",{"$f":"IF(AND(N26<>0,P26<>0),IF(OR(L26=1,L26=5,L26=6),IF(OR(S26=0,ABS(S26)<='Barèmes & Options'!H$2),1,0)),\"\")","v":false},"","",{"$f":"IF(SUM(U26:Z26)=2,IF(L26=2,IF(L26=2,IF(T26-'Barèmes & Options'!H$2<-1,0,1)),\"\"),0)","v":0},0,"","",{"$f":"IF(AND(P26<>\"\",N26<>\"\",I26<>\"\"),IF($C26=\"\",\"SX\",IF($C26=\"F\",VLOOKUP(ROUND($Q26,0)/100,Barème500,3),VLOOKUP(ROUND($Q26,0)/100,Barème500,2))),\"\")","v":""},null,"",null,null,null,null,null,"m"]
[null,null,null,null,null,null,"",null,"","",null,"",null,"",null,"","",{"$error":"#VALUE!"},{"$error":"#VALUE!"},{"$error":"#VALUE!"},{"$f":"IF(AND(N27<>0,I27<>0),IF(OR(L27=1,L27=3,L27=4),IF(OR(R27=0,ABS(R27)<='Barèmes & Options'!H$2),1,0)),\"\")","v":false},"","",{"$f":"IF(AND(N27<>0,P27<>0),IF(OR(L27=1,L27=5,L27=6),IF(OR(S27=0,ABS(S27)<='Barèmes & Options'!H$2),1,0)),\"\")","v":false},"","",{"$f":"IF(SUM(U27:Z27)=2,IF(L27=2,IF(L27=2,IF(T27-'Barèmes & Options'!H$2<-1,0,1)),\"\"),0)","v":0},0,"","",{"$f":"IF(AND(P27<>\"\",N27<>\"\",I27<>\"\"),IF($C27=\"\",\"SX\",IF($C27=\"F\",VLOOKUP(ROUND($Q27,0)/100,Barème500,3),VLOOKUP(ROUND($Q27,0)/100,Barème500,2))),\"\")","v":""},null,"",null,null,null,null,null,"m"]
[null,null,null,null,null,null,"",null,"","",null,"",null,"",null,"","",{"$error":"#VALUE!"},{"$error":"#VALUE!"},{"$error":"#VALUE!"},{"$f":"IF(AND(N28<>0,I28<>0),IF(OR(L28=1,L28=3,L28=4),IF(OR(R28=0,ABS(R28)<='Barèmes & Options'!H$2),1,0)),\"\")","v":false},"","",{"$f":"IF(AND(N28<>0,P28<>0),IF(OR(L28=1,L28=5,L28=6),IF(OR(S28=0,ABS(S28)<='Barèmes & Options'!H$2),1,0)),\"\")","v":false},"","",{"$f":"IF(SUM(U28:Z28)=2,IF(L28=2,IF(L28=2,IF(T28-'Barèmes & Options'!H$2<-1,0,1)),\"\"),0)","v":0},0,"","",{"$f":"IF(AND(P28<>\"\",N28<>\"\",I28<>\"\"),IF($C28=\"\",\"SX\",IF($C28=\"F\",VLOOKUP(ROUND($Q28,0)/100,Barème500,3),VLOOKUP(ROUND($Q28,0)/100,Barème500,2))),\"\")","v":""},null,"",null,null,null,null,null,"m"]
[null,null,null,null,null,null,"",null,"","",null,"",null,"",null,"","",{"$error":"#VALUE!"},{"$error":"#VALUE!"},{"$error":"#VALUE!"},{"$f":"IF(AND(N29<>0,I29<>0),IF(OR(L29=1,L29=3,L29=4),IF(OR(R29=0,ABS(R29)<='Barèmes & Options'!H$2),1,0)),\"\")","v":false},"","",{"$f":"IF(AND(N29<>0,P29<>0),IF(OR(L29=1,L29=5,L29=6),IF(OR(S29=0,ABS(S29)<='Barèmes & Options'!H$2),1,0)),\"\")","v":false},"","",{"$f":"IF(SUM(U29:Z29)=2,IF(L29=2,IF(L29=2,IF(T29-'Barèmes & Options'!H$2<-1,0,1)),\"\"),0)","v":0},0,"","",{"$f":"IF(AND(P29<>\"\",N29<>\"\",I29<>\"\"),IF($C29=\"\",\"SX\",IF($C29=\"F\",VLOOKUP(ROUND($Q29,0)/100,Barème500,3),VLOOKUP(ROUND($Q29,0)/100,Barème500,2))),\"\")","v":""},null,"",null,null,null,null,null,"m"]
[null,null,null,null,null,null,"",null,"","",null,"",null,"",null,"","",{"$error":"#VALUE!"},{"$error":"#VALUE!"},{"$error":"#VALUE!"},{"$f":"IF(AND(N30<>0,I30<>0),IF(OR(L30=1,L30=3,L30=4),IF(OR(R30=0,ABS(R30)<='Barèmes & Options'!H$2),1,0)),\"\")","v":false},"","",{"$f":"IF(AND(N30<>0,P30<>0),IF(OR(L30=1,L30=5,L30=6),IF(OR(S30=0,ABS(S30)<='Barèmes & Options'!H$2),1,0)),\"\")","v":false},"","",{"$f":"IF(SUM(U30:Z30)=2,IF(L30=2,IF(L30=2,IF(T30-'Barèmes & Options'!H$2<-1,0,1)),\"\"),0)","v":0},0,"","",{"$f":"IF(AND(P30<>\"\",N30<>\"\",I30<>\"\"),IF($C30=\"\",\"SX\",IF($C30=\"F\",VLOOKUP(ROUND($Q30,0)/100,Barème500,3),VLOOKUP(ROUND($Q30,0)/100,Barème500,2))),\"\")","v":""},null,"",null,null,null,null,null,"m"]
[null,null,null,null,null,null,"",null,"","",null,"",null,"",null,"","",{"$error":"#VALUE!"},{"$error":"#VALUE!"},{"$error":"#VALUE!"},{"$f":"IF(AND(N31<>0,I31<>0),IF(OR(L31=1,L31=3,L31=4),IF(OR(R31=0,ABS(R31)<='Barèmes & Options'!H$2),1,0)),\"\")","v":false},"","",{"$f":"IF(AND(N31<>0,P31<>0),IF(OR(L31=1,L31=5,L31=6),IF(OR(S31=0,ABS(S31)<='Barèmes & Options'!H$2),1,0)),\"\")","v":false},"","",{"$f":"IF(SUM(U31:Z31)=2,IF(L31=2,IF(L31=2,IF(T31-'Barèmes & Options'!H$2<-1,0,1)),\"\"),0)","v":0},0,"","",{"$f":"IF(AND(P31<>\"\",N31<>\"\",I31<>\"\"),IF($C31=\"\",\"SX\",IF($C31=\"F\",VLOOKUP(ROUND($Q31,0)/100,Barème500,3),VLOOKUP(ROUND($Q31,0)/100,Barème500,2))),\"\")","v":""},null,"",null,null,null,null,null,"m"]
[null,null,null,null,null,null,"",null,"","",null,"",null,"",null,"","",{"$error":"#VALUE!"},{"$error":"#VALUE!"},{"$error":"#VALUE!"},{"$f":"IF(AND(N32<>0,I32<>0),IF(OR(L32=1,L32=3,L32=4),IF(OR(R32=0,ABS(R32)<='Barèmes & Options'!H$2),1,0)),\"\")","v":false},"","",{"$f":"IF(AND(N32<>0,P32<>0),IF(OR(L32=1,L32=5,L32=6),IF(OR(S32=0,ABS(S32)<='Barèmes & Options'!H$2),1,0)),\"\")","v":false},"","",{"$f":"IF(SUM(U32:Z32)=2,IF(L32=2,IF(L32=2,IF(T32-'Barèmes & Options'!H$2<-1,0,1)),\"\"),0)","v":0},0,"","",{"$f":"IF(AND(P32<>\"\",N32<>\"\",I32<>\"\"),IF($C32=\"\",\"SX\",IF($C32=\"F\",VLOOKUP(ROUND($Q32,0)/100,Barème500,3),VLOOKUP(ROUND($Q32,0)/100,Barème500,2))),\"\")","v":""},null,"",null,null,null,null,null,"m"]
[null,null,null,null,null,null,"",null,"","",null,"",null,"",null,"","",{"$error":"#VALUE!"},{"$error":"#VALUE!"},{"$error":"#VALUE!"},{"$f":"IF(AND(N33<>0,I33<>0),IF(OR(L33=1,L33=3,L33=4),IF(OR(R33=0,ABS(R33)<='Barèmes & Options'!H$2),1,0)),\"\")","v":false},"","",{"$f":"IF(AND(N33<>0,P33<>0),IF(OR(L33=1,L33=5,L33=6),IF(OR(S33=0,ABS(S33)<='Barèmes & Options'!H$2),1,0)),\"\")","v":false},"","",{"$f":"IF(SUM(U33:Z33)=2,IF(L33=2,IF(L33=2,IF(T33-'Barèmes & Options'!H$2<-1,0,1)),\"\"),0)","v":0},0,"","",{"$f":"IF(AND(P33<>\"\",N33<>\"\",I33<>\"\"),IF($C33=\"\",\"SX\",IF($C33=\"F\",VLOOKUP(ROUND($Q33,0)/100,Barème500,3),VLOOKUP(ROUND($Q33,0)/100,Barème500,2))),\"\")","v":""},null,"",null,null,null,null,null,"m"]
[null,null,null,null,null,null,"",null,"","",null,"",null,"",null,"","",{"$error":"#VALUE!"},{"$error":"#VALUE!"},{"$error":"#VALUE!"},{"$f":"IF(AND(N34<>0,I34<>0),IF(OR(L34=1,L34=3,L34=4),IF(OR(R34=0,ABS(R34)<='Barèmes & Options'!H$2),1,0)),\"\")","v":false},"","",{"$f":"IF(AND(N34<>0,P34<>0),IF(OR(L34=1,L34=5,L34=6),IF(OR(S34=0,ABS(S34)<='Barèmes & Options'!H$2),1,0)),\"\")","v":false},"","",{"$f":"IF(SUM(U34:Z34)=2,IF(L34=2,IF(L34=2,IF(T34-'Barèmes & Options'!H$2<-1,0,1)),\"\"),0)","v":0},0,"","",{"$f":"IF(AND(P34<>\"\",N34<>\"\",I34<>\"\"),IF($C34=\"\",\"SX\",IF($C34=\"F\",VLOOKUP(ROUND($Q34,0)/100,Barème500,3),VLOOKUP(ROUND($Q34,0)/100,Barème500,2))),\"\")","v":""},null,"",null,null,null,null,null,"m"]
[null,null,null,null,null,null,"",null,"","",null,"",null,"",null,"","",{"$error":"#VALUE!"},{"$error":"#VALUE!"},{"$error":"#VALUE!"},{"$f":"IF(AND(N35<>0,I35<>0),IF(OR(L35=1,L35=3,L35=4),IF(OR(R35=0,ABS(R35)<='Barèmes & Options'!H$2),1,0)),\"\")","v":false},"","",{"$f":"IF(AND(N35<>0,P35<>0),IF(OR(L35=1,L35=5,L35=6),IF(OR(S35=0,ABS(S35)<='Barèmes & Options'!H$2),1,0)),\"\")","v":false},"","",{"$f":"IF(SUM(U35:Z35)=2,IF(L35=2,IF(L35=2,IF(T35-'Barèmes & Options'!H$2<-1,0,1)),\"\"),0)","v":0},0,"","",{"$f":"IF(AND(P35<>\"\",N35<>\"\",I35<>\"\"),IF($C35=\"\",\"SX\",IF($C35=\"F\",VLOOKUP(ROUND($Q35,0)/100,Barème500,3),VLOOKUP(ROUND($Q35,0)/100,Barème500,2))),\"\")","v":""},null,"",null,null,null,null,null,"m"]
[null,null,null,null,null,null,"",null,"","",null,"",null,"",null,"","",{"$error":"#VALUE!"},{"$error":"#VALUE!"},{"$error":"#VALUE!"},{"$f":"IF(AND(N36<>0,I36<>0),IF(OR(L36=1,L36=3,L36=4),IF(OR(R36=0,ABS(R36)<='Barèmes & Options'!H$2),1,0)),\"\")","v":false},"","",{"$f":"IF(AND(N36<>0,P36<>0),IF(OR(L36=1,L36=5,L36=6),IF(OR(S36=0,ABS(S36)<='Barèmes & Options'!H$2),1,0)),\"\")","v":false},"","",{"$f":"IF(SUM(U36:Z36)=2,IF(L36=2,IF(L36=2,IF(T36-'Barèmes & Options'!H$2<-1,0,1)),\"\"),0)","v":0},0,"","",{"$f":"IF(AND(P36<>\"\",N36<>\"\",I36<>\"\"),IF($C36=\"\",\"SX\",IF($C36=\"F\",VLOOKUP(ROUND($Q36,0)/100,Barème500,3),VLOOKUP(ROUND($Q36,0)/100,Barème500,2))),\"\")","v":""},null,"",null,null,null,null,null,{"$f":"IF(C36<>\"f\",\"m\",\"f\")","v":"m"}]
[null,null,null,null,null,null,"",null,"","",null,"",null,"",null,"","",{"$error":"#VALUE!"},{"$error":"#VALUE!"},{"$error":"#VALUE!"},{"$f":"IF(AND(N37<>0,I37<>0),IF(OR(L37=1,L37=3,L37=4),IF(OR(R37=0,ABS(R37)<='Barèmes & Options'!H$2),1,0)),\"\")","v":false},"","",{"$f":"IF(AND(N37<>0,P37<>0),IF(OR(L37=1,L37=5,L37=6),IF(OR(S37=0,ABS(S37)<='Barèmes & Options'!H$2),1,0)),\"\")","v":false},"","",{"$f":"IF(SUM(U37:Z37)=2,IF(L37=2,IF(L37=2,IF(T37-'Barèmes & Options'!H$2<-1,0,1)),\"\"),0)","v":0},0,"","",{"$f":"IF(AND(P37<>\"\",N37<>\"\",I37<>\"\"),IF($C37=\"\",\"SX\",IF($C37=\"F\",VLOOKUP(ROUND($Q37,0)/100,Barème500,3),VLOOKUP(ROUND($Q37,0)/100,Barème500,2))),\"\")","v":""},null,"",null,null,null,null,null,"m"]
[null,null,null,null,null,null,"",null,"","",null,"",null,"",null,"","",{"$error":"#VALUE!"},{"$error":"#VALUE!"},{"$error":"#VALUE!"},{"$f":"IF(AND(N38<>0,I38<>0),IF(OR(L38=1,L38=3,L38=4),IF(OR(R38=0,ABS(R38)<='Barèmes & Options'!H$2),1,0)),\"\")","v":false},"","",{"$f":"IF(AND(N38<>0,P38<>0),IF(OR(L38=1,L38=5,L38=6),IF(OR(S38=0,ABS(S38)<='Barèmes & Options'!H$2),1,0)),\"\")","v":false},"","",{"$f":"IF(SUM(U38:Z38)=2,IF(L38=2,IF(L38=2,IF(T38-'Barèmes & Options'!H$2<-1,0,1)),\"\"),0)","v":0},0,"","",{"$f":"IF(AND(P38<>\"\",N38<>\"\",I38<>\"\"),IF($C38=\"\",\"SX\",IF($C38=\"F\",VLOOKUP(ROUND($Q38,0)/100,Barème500,3),VLOOKUP(ROUND($Q38,0)/100,Barème500,2))),\"\")","v":""},null,"",null,null,null,null,null,"m"]
[null,null,null,null,null,null,"",null,"","",null,"",null,"",null,"","",{"$error":"#VALUE!"},{"$error":"#VALUE!"},{"$error":"#VALUE!"},{"$f":"IF(AND(N39<>0,I39<>0),IF(OR(L39=1,L39=3,L39=4),IF(OR(R39=0,ABS(R39)<='Barèmes & Options'!H$2),1,0)),\"\")","v":false},"","",{"$f":"IF(AND(N39<>0,P39<>0),IF(OR(L39=1,L39=5,L39=6),IF(OR(S39=0,ABS(S39)<='Barèmes & Options'!H$2),1,0)),\"\")","v":false},"","",{"$f":"IF(SUM(U39:Z39)=2,IF(L39=2,IF(L39=2,IF(T39-'Barèmes & Options'!H$2<-1,0,1)),\"\"),0)","v":0},0,"","",{"$f":"IF(AND(P39<>\"\",N39<>\"\",I39<>\"\"),IF($C39=\"\",\"SX\",IF($C39=\"F\",VLOOKUP(ROUND($Q39,0)/100,Barème500,3),VLOOKUP(ROUND($Q39,0)/100,Barème500,2))),\"\")","v":""},null,"",null,null,null,null,null,"m"]
[null,null,null,null,null,null,"",null,"","",null,"",null,"",null,"","",{"$error":"#VALUE!"},{"$error":"#VALUE!"},{"$error":"#VALUE!"},{"$f":"IF(AND(N40<>0,I40<>0),IF(OR(L40=1,L40=3,L40=4),IF(OR(R40=0,ABS(R40)<='Barèmes & Options'!H$2),1,0)),\"\")","v":false},"","",{"$f":"IF(AND(N40<>0,P40<>0),IF(OR(L40=1,L40=5,L40=6),IF(OR(S40=0,ABS(S40)<='Barèmes & Options'!H$2),1,0)),\"\")","v":false},"","",{"$f":"IF(SUM(U40:Z40)=2,IF(L40=2,IF(L40=2,IF(T40-'Barèmes & Options'!H$2<-1,0,1)),\"\"),0)","v":0},0,"","",{"$f":"IF(AND(P40<>\"\",N40<>\"\",I40<>\"\"),IF($C40=\"\",\"SX\",IF($C40=\"F\",VLOOKUP(ROUND($Q40,0)/100,Barème500,3),VLOOKUP(ROUND($Q40,0)/100,Barème500,2))),\"\")","v":""},null,"",null,null,null,null,null,"m"]
[null,null,null,null,null,null,"",null,"","",null,"",null,"",null,"","",{"$error":"#VALUE!"},{"$error":"#VALUE!"},{"$error":"#VALUE!"},{"$f":"IF(AND(N41<>0,I41<>0),IF(OR(L41=1,L41=3,L41=4),IF(OR(R41=0,ABS(R41)<='Barèmes & Options'!H$2),1,0)),\"\")","v":false},"","",{"$f":"IF(AND(N41<>0,P41<>0),IF(OR(L41=1,L41=5,L41=6),IF(OR(S41=0,ABS(S41)<='Barèmes & Options'!H$2),1,0)),\"\")","v":false},"","",{"$f":"IF(SUM(U41:Z41)=2,IF(L41=2,IF(L41=2,IF(T41-'Barèmes & Options'!H$2<-1,0,1)),\"\"),0)","v":0},0,"","",{"$f":"IF(AND(P41<>\"\",N41<>\"\",I41<>\"\"),IF($C41=\"\",\"SX\",IF($C41=\"F\",VLOOKUP(ROUND($Q41,0)/100,Barème500,3),VLOOKUP(ROUND($Q41,0)/100,Barème500,2))),\"\")","v":""},null,"",null,null,null,null,null,"m"]
[null,null,null,null,null,null,"",null,"","",null,"",null,"",null,"","",{"$error":"#VALUE!"},{"$error":"#VALUE!"},{"$error":"#VALUE!"},{"$f":"IF(AND(N42<>0,I42<>0),IF(OR(L42=1,L42=3,L42=4),IF(OR(R42=0,ABS(R42)<='Barèmes & Options'!H$2),1,0)),\"\")","v":false},"","",{"$f":"IF(AND(N42<>0,P42<>0),IF(OR(L42=1,L42=5,L42=6),IF(OR(S42=0,ABS(S42)<='Barèmes & Options'!H$2),1,0)),\"\")","v":false},"","",{"$f":"IF(SUM(U42:Z42)=2,IF(L42=2,IF(L42=2,IF(T42-'Barèmes & Options'!H$2<-1,0,1)),\"\"),0)","v":0},0,"","",{"$f":"IF(AND(P42<>\"\",N42<>\"\",I42<>\"\"),IF($C42=\"\",\"SX\",IF($C42=\"F\",VLOOKUP(ROUND($Q42,0)/100,Barème500,3),VLOOKUP(ROUND($Q42,0)/100,Barème500,2))),\"\")","v":""},null,"",null,null,null,null,null,"m"]
[null,null,null,null,null,null,"",null,"","",null,"",null,"",null,"","",{"$error":"#VALUE!"},{"$error":"#VALUE!"},{"$error":"#VALUE!"},{"$f":"IF(AND(N43<>0,I43<>0),IF(OR(L43=1,L43=3,L43=4),IF(OR(R43=0,ABS(R43)<='Barèmes & Options'!H$2),1,0)),\"\")","v":false},"","",{"$f":"IF(AND(N43<>0,P43<>0),IF(OR(L43=1,L43=5,L43=6),IF(OR(S43=0,ABS(S43)<='Barèmes & Options'!H$2),1,0)),\"\")","v":false},"","",{"$f":"IF(SUM(U43:Z43)=2,IF(L43=2,IF(L43=2,IF(T43-'Barèmes & Options'!H$2<-1,0,1)),\"\"),0)","v":0},0,"","",{"$f":"IF(AND(P43<>\"\",N43<>\"\",I43<>\"\"),IF($C43=\"\",\"SX\",IF($C43=\"F\",VLOOKUP(ROUND($Q43,0)/100,Barème500,3),VLOOKUP(ROUND($Q43,0)/100,Barème500,2))),\"\")","v":""},null,"",null,null,null,null,null,"m"]
[null,null,null,null,null,null,"",null,"","",null,"",null,"",null,"","",{"$error":"#VALUE!"},{"$error":"#VALUE!"},{"$error":"#VALUE!"},{"$f":"IF(AND(N44<>0,I44<>0),IF(OR(L44=1,L44=3,L44=4),IF(OR(R44=0,ABS(R44)<='Barèmes & Options'!H$2),1,0)),\"\")","v":false},"","",{"$f":"IF(AND(N44<>0,P44<>0),IF(OR(L44=1,L44=5,L44=6),IF(OR(S44=0,ABS(S44)<='Barèmes & Options'!H$2),1,0)),\"\")","v":false},"","",{"$f":"IF(SUM(U44:Z44)=2,IF(L44=2,IF(L44=2,IF(T44-'Barèmes & Options'!H$2<-1,0,1)),\"\"),0)","v":0},0,"","",{"$f":"IF(AND(P44<>\"\",N44<>\"\",I44<>\"\"),IF($C44=\"\",\"SX\",IF($C44=\"F\",VLOOKUP(ROUND($Q44,0)/100,Barème500,3),VLOOKUP(ROUND($Q44,0)/100,Barème500,2))),\"\")","v":""},null,"",null,null,null,null,null,"m"]
[null,null,null,null,null,null,"",null,"","",null,"",null,"",null,"","",{"$error":"#VALUE!"},{"$error":"#VALUE!"},{"$error":"#VALUE!"},{"$f":"IF(AND(N45<>0,I45<>0),IF(OR(L45=1,L45=3,L45=4),IF(OR(R45=0,ABS(R45)<='Barèmes & Options'!H$2),1,0)),\"\")","v":false},"","",{"$f":"IF(AND(N45<>0,P45<>0),IF(OR(L45=1,L45=5,L45=6),IF(OR(S45=0,ABS(S45)<='Barèmes & Options'!H$2),1,0)),\"\")","v":false},"","",{"$f":"IF(SUM(U45:Z45)=2,IF(L45=2,IF(L45=2,IF(T45-'Barèmes & Options'!H$2<-1,0,1)),\"\"),0)","v":0},0,"","",{"$f":"IF(AND(P45<>\"\",N45<>\"\",I45<>\"\"),IF($C45=\"\",\"SX\",IF($C45=\"F\",VLOOKUP(ROUND($Q45,0)/100,Barème500,3),VLOOKUP(ROUND($Q45,0)/100,Barème500,2))),\"\")","v":""},null,"",null,null,null,null,null,"m"]
[null,null,null,null,null,null,"",null,"","",null,"",null,"",null,"","",{"$error":"#VALUE!"},{"$error":"#VALUE!"},{"$error":"#VALUE!"},{"$f":"IF(AND(N46<>0,I46<>0),IF(OR(L46=1,L46=3,L46=4),IF(OR(R46=0,ABS(R46)<='Barèmes & Options'!H$2),1,0)),\"\")","v":false},"","",{"$f":"IF(AND(N46<>0,P46<>0),IF(OR(L46=1,L46=5,L46=6),IF(OR(S46=0,ABS(S46)<='Barèmes & Options'!H$2),1,0)),\"\")","v":false},"","",{"$f":"IF(SUM(U46:Z46)=2,IF(L46=2,IF(L46=2,IF(T46-'Barèmes & Options'!H$2<-1,0,1)),\"\"),0)","v":0},0,"","",{"$f":"IF(AND(P46<>\"\",N46<>\"\",I46<>\"\"),IF($C46=\"\",\"SX\",IF($C46=\"F\",VLOOKUP(ROUND($Q46,0)/100,Barème500,3),VLOOKUP(ROUND($Q46,0)/100,Barème500,2))),\"\")","v":""},null,"",null,null,null,null,null,"m"]
[null,null,null,null,null,null,"",null,"","",null,"",null,"",null,"","",{"$error":"#VALUE!"},{"$error":"#VALUE!"},{"$error":"#VALUE!"},{"$f":"IF(AND(N47<>0,I47<>0),IF(OR(L47=1,L47=3,L47=4),IF(OR(R47=0,ABS(R47)<='Barèmes & Options'!H$2),1,0)),\"\")","v":false},"","",{"$f":"IF(AND(N47<>0,P47<>0),IF(OR(L47=1,L47=5,L47=6),IF(OR(S47=0,ABS(S47)<='Barèmes & Options'!H$2),1,0)),\"\")","v":false},"","",{"$f":"IF(SUM(U47:Z47)=2,IF(L47=2,IF(L47=2,IF(T47-'Barèmes & Options'!H$2<-1,0,1)),\"\"),0)","v":0},0,"","",{"$f":"IF(AND(P47<>\"\",N47<>\"\",I47<>\"\"),IF($C47=\"\",\"SX\",IF($C47=\"F\",VLOOKUP(ROUND($Q47,0)/100,Barème500,3),VLOOKUP(ROUND($Q47,0)/100,Barème500,2))),\"\")","v":""},null,"",null,null,null,null,null,"m"]
[null,null,null,null,null,null,"",null,"","",null,"",null,"",null,"","",{"$error":"#VALUE!"},{"$error":"#VALUE!"},{"$error":"#VALUE!"},{"$f":"IF(AND(N48<>0,I48<>0),IF(OR(L48=1,L48=3,L48=4),IF(OR(R48=0,ABS(R48)<='Barèmes & Options'!H$2),1,0)),\"\")","v":false},"","",{"$f":"IF(AND(N48<>0,P48<>0),IF(OR(L48=1,L48=5,L48=6),IF(OR(S48=0,ABS(S48)<='Barèmes & Options'!H$2),1,0)),\"\")","v":false},"","",{"$f":"IF(SUM(U48:Z48)=2,IF(L48=2,IF(L48=2,IF(T48-'Barèmes & Options'!H$2<-1,0,1)),\"\"),0)","v":0},0,"","",{"$f":"IF(AND(P48<>\"\",N48<>\"\",I48<>\"\"),IF($C48=\"\",\"SX\",IF($C48=\"F\",VLOOKUP(ROUND($Q48,0)/100,Barème500,3),VLOOKUP(ROUND($Q48,0)/100,Barème500,2))),\"\")","v":""},null,"",null,null,null,null,null,"m"]
[null,null,null,null,null,null,"",null,"","",null,"",null,"",null,"","",{"$error":"#VALUE!"},{"$error":"#VALUE!"},{"$error":"#VALUE!"},{"$f":"IF(AND(N49<>0,I49<>0),IF(OR(L49=1,L49=3,L49=4),IF(OR(R49=0,ABS(R49)<='Barèmes & Options'!H$2),1,0)),\"\")","v":false},"","",{"$f":"IF(AND(N49<>0,P49<>0),IF(OR(L49=1,L49=5,L49=6),IF(OR(S49=0,ABS(S49)<='Barèmes & Options'!H$2),1,0)),\"\")","v":false},"","",{"$f":"IF(SUM(U49:Z49)=2,IF(L49=2,IF(L49=2,IF(T49-'Barèmes & Options'!H$2<-1,0,1)),\"\"),0)","v":0},0,"","",{"$f":"IF(AND(P49<>\"\",N49<>\"\",I49<>\"\"),IF($C49=\"\",\"SX\",IF($C49=\"F\",VLOOKUP(ROUND($Q49,0)/100,Barème500,3),VLOOKUP(ROUND($Q49,0)/100,Barème500,2))),\"\")","v":""},null,"",null,null,null,null,null,"m"]
[null,null,null,null,null,null,"",null,"","",null,"",null,"",null,"","",{"$error":"#VALUE!"},{"$error":"#VALUE!"},{"$error":"#VALUE!"},{"$f":"IF(AND(N50<>0,I50<>0),IF(OR(L50=1,L50=3,L50=4),IF(OR(R50=0,ABS(R50)<='Barèmes & Options'!H$2),1,0)),\"\")","v":false},"","",{"$f":"IF(AND(N50<>0,P50<>0),IF(OR(L50=1,L50=5,L50=6),IF(OR(S50=0,ABS(S50)<='Barèmes & Options'!H$2),1,0)),\"\")","v":false},"","",{"$f":"IF(SUM(U50:Z50)=2,IF(L50=2,IF(L50=2,IF(T50-'Barèmes & Options'!H$2<-1,0,1)),\"\"),0)","v":0},0,"","",{"$f":"IF(AND(P50<>\"\",N50<>\"\",I50<>\"\"),IF($C50=\"\",\"SX\",IF($C50=\"F\",VLOOKUP(ROUND($Q50,0)/100,Barème500,3),VLOOKUP(ROUND($Q50,0)/100,Barème500,2))),\"\")","v":""},null,"",null,null,null,null,null,"m"]
[null,null,null,null,null,null,"",null,"","",null,"",null,"",null,"","",{"$error":"#VALUE!"},{"$error":"#VALUE!"},{"$error":"#VALUE!"},{"$f":"IF(AND(N51<>0,I51<>0),IF(OR(L51=1,L51=3,L51=4),IF(OR(R51=0,ABS(R51)<='Barèmes & Options'!H$2),1,0)),\"\")","v":false},"","",{"$f":"IF(AND(N51<>0,P51<>0),IF(OR(L51=1,L51=5,L51=6),IF(OR(S51=0,ABS(S51)<='Barèmes & Options'!H$2),1,0)),\"\")","v":false},"","",{"$f":"IF(SUM(U51:Z51)=2,IF(L51=2,IF(L51=2,IF(T51-'Barèmes & Options'!H$2<-1,0,1)),\"\"),0)","v":0},0,"","",{"$f":"IF(AND(P51<>\"\",N51<>\"\",I51<>\"\"),IF($C51=\"\",\"SX\",IF($C51=\"F\",VLOOKUP(ROUND($Q51,0)/100,Barème500,3),VLOOKUP(ROUND($Q51,0)/100,Barème500,2))),\"\")","v":""},null,"",null,null,null,null,null,"m"]
[null,null,null,null,null,null,"",null,"","",null,"",null,"",null,"","",{"$error":"#VALUE!"},{"$error":"#VALUE!"},{"$error":"#VALUE!"},{"$f":"IF(AND(N52<>0,I52<>0),IF(OR(L52=1,L52=3,L52=4),IF(OR(R52=0,ABS(R52)<='Barèmes & Options'!H$2),1,0)),\"\")","v":false},"","",{"$f":"IF(AND(N52<>0,P52<>0),IF(OR(L52=1,L52=5,L52=6),IF(OR(S52=0,ABS(S52)<='Barèmes & Options'!H$2),1,0)),\"\")","v":false},"","",{"$f":"IF(SUM(U52:Z52)=2,IF(L52=2,IF(L52=2,IF(T52-'Barèmes & Options'!H$2<-1,0,1)),\"\"),0)","v":0},0,"","",{"$f":"IF(AND(P52<>\"\",N52<>\"\",I52<>\"\"),IF($C52=\"\",\"SX\",IF($C52=\"F\",VLOOKUP(ROUND($Q52,0)/100,Barème500,3),VLOOKUP(ROUND($Q52,0)/100,Barème500,2))),\"\")","v":""},null,"",null,null,null,null,null,"m"]
[null,null,null,null,null,null,"",null,"","",null,"",null,"",null,"","",{"$error":"#VALUE!"},{"$error":"#VALUE!"},{"$error":"#VALUE!"},{"$f":"IF(AND(N53<>0,I53<>0),IF(OR(L53=1,L53=3,L53=4),IF(OR(R53=0,ABS(R53)<='Barèmes & Options'!H$2),1,0)),\"\")","v":false},"","",{"$f":"IF(AND(N53<>0,P53<>0),IF(OR(L53=1,L53=5,L53=6),IF(OR(S53=0,ABS(S53)<='Barèmes & Options'!H$2),1,0)),\"\")","v":false},"","",{"$f":"IF(SUM(U53:Z53)=2,IF(L53=2,IF(L53=2,IF(T53-'Barèmes & Options'!H$2<-1,0,1)),\"\"),0)","v":0},0,"","",{"$f":"IF(AND(P53<>\"\",N53<>\"\",I53<>\"\"),IF($C53=\"\",\"SX\",IF($C53=\"F\",VLOOKUP(ROUND($Q53,0)/100,Barème500,3),VLOOKUP(ROUND($Q53,0)/100,Barème500,2))),\"\")","v":""},null,"",null,null,null,null,null,"m"]
[null,null,null,null,null,null,"",null,"","",null,"",null,"",null,"","",{"$error":"#VALUE!"},{"$error":"#VALUE!"},{"$error":"#VALUE!"},{"$f":"IF(AND(N54<>0,I54<>0),IF(OR(L54=1,L54=3,L54=4),IF(OR(R54=0,ABS(R54)<='Barèmes & Options'!H$2),1,0)),\"\")","v":false},"","",{"$f":"IF(AND(N54<>0,P54<>0),IF(OR(L54=1,L54=5,L54=6),IF(OR(S54=0,ABS(S54)<='Barèmes & Options'!H$2),1,0)),\"\")","v":false},"","",{"$f":"IF(SUM(U54:Z54)=2,IF(L54=2,IF(L54=2,IF(T54-'Barèmes & Options'!H$2<-1,0,1)),\"\"),0)","v":0},0,"","",{"$f":"IF(AND(P54<>\"\",N54<>\"\",I54<>\"\"),IF($C54=\"\",\"SX\",IF($C54=\"F\",VLOOKUP(ROUND($Q54,0)/100,Barème500,3),VLOOKUP(ROUND($Q54,0)/100,Barème500,2))),\"\")","v":""},null,"",null,null,null,null,null,"m"]
[null,null,null,null,null,null,"",null,"","",null,"",null,"",null,"","",{"$error":"#VALUE!"},{"$error":"#VALUE!"},{"$error":"#VALUE!"},{"$f":"IF(AND(N55<>0,I55<>0),IF(OR(L55=1,L55=3,L55=4),IF(OR(R55=0,ABS(R55)<='Barèmes & Options'!H$2),1,0)),\"\")","v":false},"","",{"$f":"IF(AND(N55<>0,P55<>0),IF(OR(L55=1,L55=5,L55=6),IF(OR(S55=0,ABS(S55)<='Barèmes & Options'!H$2),1,0)),\"\")","v":false},"","",{"$f":"IF(SUM(U55:Z55)=2,IF(L55=2,IF(L55=2,IF(T55-'Barèmes & Options'!H$2<-1,0,1)),\"\"),0)","v":0},0,"","",{"$f":"IF(AND(P55<>\"\",N55<>\"\",I55<>\"\"),IF($C55=\"\",\"SX\",IF($C55=\"F\",VLOOKUP(ROUND($Q55,0)/100,Barème500,3),VLOOKUP(ROUND($Q55,0)/100,Barème500,2))),\"\")","v":""},null,"",null,null,null,null,null,"m"]
[null,null,null,null,null,null,"",null,"","",null,"",null,"",null,"","",{"$error":"#VALUE!"},{"$error":"#VALUE!"},{"$error":"#VALUE!"},{"$f":"IF(AND(N56<>0,I56<>0),IF(OR(L56=1,L56=3,L56=4),IF(OR(R56=0,ABS(R56)<='Barèmes & Options'!H$2),1,0)),\"\")","v":false},"","",{"$f":"IF(AND(N56<>0,P56<>0),IF(OR(L56=1,L56=5,L56=6),IF(OR(S56=0,ABS(S56)<='Barèmes & Options'!H$2),1,0)),\"\")","v":false},"","",{"$f":"IF(SUM(U56:Z56)=2,IF(L56=2,IF(L56=2,IF(T56-'Barèmes & Options'!H$2<-1,0,1)),\"\"),0)","v":0},0,"","",{"$f":"IF(AND(P56<>\"\",N56<>\"\",I56<>\"\"),IF($C56=\"\",\"SX\",IF($C56=\"F\",VLOOKUP(ROUND($Q56,0)/100,Barème500,3),VLOOKUP(ROUND($Q56,0)/100,Barème500,2))),\"\")","v":""},null,"",null,null,null,null,null,"m"]
[null,null,null,null,null,null,"",null,"","",null,"",null,"",null,"","",{"$error":"#VALUE!"},{"$error":"#VALUE!"},{"$error":"#VALUE!"},{"$f":"IF(AND(N57<>0,I57<>0),IF(OR(L57=1,L57=3,L57=4),IF(OR(R57=0,ABS(R57)<='Barèmes & Options'!H$2),1,0)),\"\")","v":false},"","",{"$f":"IF(AND(N57<>0,P57<>0),IF(OR(L57=1,L57=5,L57=6),IF(OR(S57=0,ABS(S57)<='Barèmes & Options'!H$2),1,0)),\"\")","v":false},"","",{"$f":"IF(SUM(U57:Z57)=2,IF(L57=2,IF(L57=2,IF(T57-'Barèmes & Options'!H$2<-1,0,1)),\"\"),0)","v":0},0,"","",{"$f":"IF(AND(P57<>\"\",N57<>\"\",I57<>\"\"),IF($C57=\"\",\"SX\",IF($C57=\"F\",VLOOKUP(ROUND($Q57,0)/100,Barème500,3),VLOOKUP(ROUND($Q57,0)/100,Barème500,2))),\"\")","v":""},null,"",null,null,null,null,null,"m"]
[null,null,null,null,null,null,"",null,"","",null,"",null,"",null,"","",{"$error":"#VALUE!"},{"$error":"#VALUE!"},{"$error":"#VALUE!"},{"$f":"IF(AND(N58<>0,I58<>0),IF(OR(L58=1,L58=3,L58=4),IF(OR(R58=0,ABS(R58)<='Barèmes & Options'!H$2),1,0)),\"\")","v":false},"","",{"$f":"IF(AND(N58<>0,P58<>0),IF(OR(L58=1,L58=5,L58=6),IF(OR(S58=0,ABS(S58)<='Barèmes & Options'!H$2),1,0)),\"\")","v":false},"","",{"$f":"IF(SUM(U58:Z58)=2,IF(L58=2,IF(L58=2,IF(T58-'Barèmes & Options'!H$2<-1,0,1)),\"\"),0)","v":0},0,"","",{"$f":"IF(AND(P58<>\"\",N58<>\"\",I58<>\"\"),IF($C58=\"\",\"SX\",IF($C58=\"F\",VLOOKUP(ROUND($Q58,0)/100,Barème500,3),VLOOKUP(ROUND($Q58,0)/100,Barème500,2))),\"\")","v":""},null,"",null,null,null,null,null,"m"]
[null,null,null,null,null,null,"",null,"","",null,"",null,"",null,"","",{"$error":"#VALUE!"},{"$error":"#VALUE!"},{"$error":"#VALUE!"},{"$f":"IF(AND(N59<>0,I59<>0),IF(OR(L59=1,L59=3,L59=4),IF(OR(R59=0,ABS(R59)<='Barèmes & Options'!H$2),1,0)),\"\")","v":false},"","",{"$f":"IF(AND(N59<>0,P59<>0),IF(OR(L59=1,L59=5,L59=6),IF(OR(S59=0,ABS(S59)<='Barèmes & Options'!H$2),1,0)),\"\")","v":false},"","",{"$f":"IF(SUM(U59:Z59)=2,IF(L59=2,IF(L59=2,IF(T59-'Barèmes & Options'!H$2<-1,0,1)),\"\"),0)","v":0},0,"","",{"$f":"IF(AND(P59<>\"\",N59<>\"\",I59<>\"\"),IF($C59=\"\",\"SX\",IF($C59=\"F\",VLOOKUP(ROUND($Q59,0)/100,Barème500,3),VLOOKUP(ROUND($Q59,0)/100,Barème500,2))),\"\")","v":""},null,"",null,null,null,null,null,"m"]
[null,null,null,null,null,null,"",null,"","",null,"",null,"",null,"","",{"$error":"#VALUE!"},{"$error":"#VALUE!"},{"$error":"#VALUE!"},{"$f":"IF(AND(N60<>0,I60<>0),IF(OR(L60=1,L60=3,L60=4),IF(OR(R60=0,ABS(R60)<='Barèmes & Options'!H$2),1,0)),\"\")","v":false},"","",{"$f":"IF(AND(N60<>0,P60<>0),IF(OR(L60=1,L60=5,L60=6),IF(OR(S60=0,ABS(S60)<='Barèmes & Options'!H$2),1,0)),\"\")","v":false},"","",{"$f":"IF(SUM(U60:Z60)=2,IF(L60=2,IF(L60=2,IF(T60-'Barèmes & Options'!H$2<-1,0,1)),\"\"),0)","v":0},0,"","",{"$f":"IF(AND(P60<>\"\",N60<>\"\",I60<>\"\"),IF($C60=\"\",\"SX\",IF($C60=\"F\",VLOOKUP(ROUND($Q60,0)/100,Barème500,3),VLOOKUP(ROUND($Q60,0)/100,Barème500,2))),\"\")","v":""},null,"",null,null,null,null,null,"m"]
[null,null,null,null,null,null,"",null,"","",null,"",null,"",null,"","",{"$error":"#VALUE!"},{"$error":"#VALUE!"},{"$error":"#VALUE!"},{"$f":"IF(AND(N61<>0,I61<>0),IF(OR(L61=1,L61=3,L61=4),IF(OR(R61=0,ABS(R61)<='Barèmes & Options'!H$2),1,0)),\"\")","v":false},"","",{"$f":"IF(AND(N61<>0,P61<>0),IF(OR(L61=1,L61=5,L61=6),IF(OR(S61=0,ABS(S61)<='Barèmes & Options'!H$2),1,0)),\"\")","v":false},"","",{"$f":"IF(SUM(U61:Z61)=2,IF(L61=2,IF(L61=2,IF(T61-'Barèmes & Options'!H$2<-1,0,1)),\"\"),0)","v":0},0,"","",{"$f":"IF(AND(P61<>\"\",N61<>\"\",I61<>\"\"),IF($C61=\"\",\"SX\",IF($C61=\"F\",VLOOKUP(ROUND($Q61,0)/100,Barème500,3),VLOOKUP(ROUND($Q61,0)/100,Barème500,2))),\"\")","v":""},null,"",null,null,null,null,null,"m"]
[null,null,null,null,null,null,"",null,"","",null,"",null,"",null,"","",{"$error":"#VALUE!"},{"$error":"#VALUE!"},{"$error":"#VALUE!"},{"$f":"IF(AND(N62<>0,I62<>0),IF(OR(L62=1,L62=3,L62=4),IF(OR(R62=0,ABS(R62)<='Barèmes & Options'!H$2),1,0)),\"\")","v":false},"","",{"$f":"IF(AND(N62<>0,P62<>0),IF(OR(L62=1,L62=5,L62=6),IF(OR(S62=0,ABS(S62)<='Barèmes & Options'!H$2),1,0)),\"\")","v":false},"","",{"$f":"IF(SUM(U62:Z62)=2,IF(L62=2,IF(L62=2,IF(T62-'Barèmes & Options'!H$2<-1,0,1)),\"\"),0)","v":0},0,"","",{"$f":"IF(AND(P62<>\"\",N62<>\"\",I62<>\"\"),IF($C62=\"\",\"SX\",IF($C62=\"F\",VLOOKUP(ROUND($Q62,0)/100,Barème500,3),VLOOKUP(ROUND($Q62,0)/100,Barème500,2))),\"\")","v":""},null,"",null,null,null,null,null,"m"]
[null,null,null,null,null,null,"",null,"","",null,"",null,"",null,"","",{"$error":"#VALUE!"},{"$error":"#VALUE!"},{"$error":"#VALUE!"},{"$f":"IF(AND(N63<>0,I63<>0),IF(OR(L63=1,L63=3,L63=4),IF(OR(R63=0,ABS(R63)<='Barèmes & Options'!H$2),1,0)),\"\")","v":false},"","",{"$f":"IF(AND(N63<>0,P63<>0),IF(OR(L63=1,L63=5,L63=6),IF(OR(S63=0,ABS(S63)<='Barèmes & Options'!H$2),1,0)),\"\")","v":false},"","",{"$f":"IF(SUM(U63:Z63)=2,IF(L63=2,IF(L63=2,IF(T63-'Barèmes & Options'!H$2<-1,0,1)),\"\"),0)","v":0},0,"","",{"$f":"IF(AND(P63<>\"\",N63<>\"\",I63<>\"\"),IF($C63=\"\",\"SX\",IF($C63=\"F\",VLOOKUP(ROUND($Q63,0)/100,Barème500,3),VLOOKUP(ROUND($Q63,0)/100,Barème500,2))),\"\")","v":""},null,"",null,null,null,null,null,"m"]
[null,null,null,null,null,null,"",null,"","",null,"",null,"",null,"","",{"$error":"#VALUE!"},{"$error":"#VALUE!"},{"$error":"#VALUE!"},{"$f":"IF(AND(N64<>0,I64<>0),IF(OR(L64=1,L64=3,L64=4),IF(OR(R64=0,ABS(R64)<='Barèmes & Options'!H$2),1,0)),\"\")","v":false},"","",{"$f":"IF(AND(N64<>0,P64<>0),IF(OR(L64=1,L64=5,L64=6),IF(OR(S64=0,ABS(S64)<='Barèmes & Options'!H$2),1,0)),\"\")","v":false},"","",{"$f":"IF(SUM(U64:Z64)=2,IF(L64=2,IF(L64=2,IF(T64-'Barèmes & Options'!H$2<-1,0,1)),\"\"),0)","v":0},0,"","",{"$f":"IF(AND(P64<>\"\",N64<>\"\",I64<>\"\"),IF($C64=\"\",\"SX\",IF($C64=\"F\",VLOOKUP(ROUND($Q64,0)/100,Barème500,3),VLOOKUP(ROUND($Q64,0)/100,Barème500,2))),\"\")","v":""},null,"",null,null,null,null,null,"m"]
[null,null,null,null,null,null,"",null,"","",null,"",null,"",null,"","",{"$error":"#VALUE!"},{"$error":"#VALUE!"},{"$error":"#VALUE!"},{"$f":"IF(AND(N65<>0,I65<>0),IF(OR(L65=1,L65=3,L65=4),IF(OR(R65=0,ABS(R65)<='Barèmes & Options'!H$2),1,0)),\"\")","v":false},"","",{"$f":"IF(AND(N65<>0,P65<>0),IF(OR(L65=1,L65=5,L65=6),IF(OR(S65=0,ABS(S65)<='Barèmes & Options'!H$2),1,0)),\"\")","v":false},"","",{"$f":"IF(SUM(U65:Z65)=2,IF(L65=2,IF(L65=2,IF(T65-'Barèmes & Options'!H$2<-1,0,1)),\"\"),0)","v":0},0,"","",{"$f":"IF(AND(P65<>\"\",N65<>\"\",I65<>\"\"),IF($C65=\"\",\"SX\",IF($C65=\"F\",VLOOKUP(ROUND($Q65,0)/100,Barème500,3),VLOOKUP(ROUND($Q65,0)/100,Barème500,2))),\"\")","v":""},null,"",null,null,null,null,null,"m"]
[null,null,null,null,null,null,"",null,"","",null,"",null,"",null,"","",{"$error":"#VALUE!"},{"$error":"#VALUE!"},{"$error":"#VALUE!"},{"$f":"IF(AND(N66<>0,I66<>0),IF(OR(L66=1,L66=3,L66=4),IF(OR(R66=0,ABS(R66)<='Barèmes & Options'!H$2),1,0)),\"\")","v":false},"","",{"$f":"IF(AND(N66<>0,P66<>0),IF(OR(L66=1,L66=5,L66=6),IF(OR(S66=0,ABS(S66)<='Barèmes & Options'!H$2),1,0)),\"\")","v":false},"","",{"$f":"IF(SUM(U66:Z66)=2,IF(L66=2,IF(L66=2,IF(T66-'Barèmes & Options'!H$2<-1,0,1)),\"\"),0)","v":0},0,"","",{"$f":"IF(AND(P66<>\"\",N66<>\"\",I66<>\"\"),IF($C66=\"\",\"SX\",IF($C66=\"F\",VLOOKUP(ROUND($Q66,0)/100,Barème500,3),VLOOKUP(ROUND($Q66,0)/100,Barème500,2))),\"\")","v":""},null,"",null,null,null,null,null,"m"]
[null,null,null,null,null,null,"",null,"","",null,"",null,"",null,"","",{"$error":"#VALUE!"},{"$error":"#VALUE!"},{"$error":"#VALUE!"},{"$f":"IF(AND(N67<>0,I67<>0),IF(OR(L67=1,L67=3,L67=4),IF(OR(R67=0,ABS(R67)<='Barèmes & Options'!H$2),1,0)),\"\")","v":false},"","",{"$f":"IF(AND(N67<>0,P67<>0),IF(OR(L67=1,L67=5,L67=6),IF(OR(S67=0,ABS(S67)<='Barèmes & Options'!H$2),1,0)),\"\")","v":false},"","",{"$f":"IF(SUM(U67:Z67)=2,IF(L67=2,IF(L67=2,IF(T67-'Barèmes & Options'!H$2<-1,0,1)),\"\"),0)","v":0},0,"","",{"$f":"IF(AND(P67<>\"\",N67<>\"\",I67<>\"\"),IF($C67=\"\",\"SX\",IF($C67=\"F\",VLOOKUP(ROUND($Q67,0)/100,Barème500,3),VLOOKUP(ROUND($Q67,0)/100,Barème500,2))),\"\")","v":""},null,"",null,null,null,null,null,"m"]
[null,null,null,null,null,null,"",null,"","",null,"",null,"",null,"","",{"$error":"#VALUE!"},{"$error":"#VALUE!"},{"$error":"#VALUE!"},{"$f":"IF(AND(N68<>0,I68<>0),IF(OR(L68=1,L68=3,L68=4),IF(OR(R68=0,ABS(R68)<='Barèmes & Options'!H$2),1,0)),\"\")","v":false},"","",{"$f":"IF(AND(N68<>0,P68<>0),IF(OR(L68=1,L68=5,L68=6),IF(OR(S68=0,ABS(S68)<='Barèmes & Options'!H$2),1,0)),\"\")","v":false},"","",{"$f":"IF(SUM(U68:Z68)=2,IF(L68=2,IF(L68=2,IF(T68-'Barèmes & Options'!H$2<-1,0,1)),\"\"),0)","v":0},0,"","",{"$f":"IF(AND(P68<>\"\",N68<>\"\",I68<>\"\"),IF($C68=\"\",\"SX\",IF($C68=\"F\",VLOOKUP(ROUND($Q68,0)/100,Barème500,3),VLOOKUP(ROUND($Q68,0)/100,Barème500,2))),\"\")","v":""},null,"",null,null,null,null,null,"m"]
[null,null,null,null,null,null,{"$f":"IF(F69=\"\",\"\",F69/100)","v":""},null,{"$f":"IF(H69=\"\",\"\",H69/100)","v":""},{"$f":"IF(OR(G69=\"\",I69=\"\"),\"\",ABS((INT(I69)*60)+((I69-INT(I69))*100)-((INT(G69)*60)+((G69-INT(G69))*100))))","v":""},null,{"$f":"IF(AND(E69=\"\",K69=\"\"),\"\",IF(K69=\"\",E69,K69))","v":""},null,{"$f":"IF(M69=\"\",\"\",M69/100)","v":""},null,{"$f":"IF(O69=\"\",\"\",O69/100)","v":""},{"$f":"IF(AND(P69<>\"\",N69<>\"\",I69<>\"\"),(INT(((INT($I69)*60)+(($I69-INT($I69))*100)+(INT($N69)*60)+(($N69-INT($N69))*100)+(INT($P69)*60)+(($P69-INT($P69))*100))/60)+MOD(((INT($I69)*60)+(($I69-INT($I69))*100)+(INT($N69)*60)+(($N69-INT($N69))*100)+(INT($P69)*60)+(($P69-INT($P69))*100)),60)/100)*100,\"\")","v":""},{"$f":"ROUND((INT(N69)*60)+((N69-INT(N69))*100)-((INT(I69)*60)+((I69-INT(I69))*100)),0)","v":{"$error":"#VALUE!"}},{"$f":"ROUND((INT(P69)*60)+((P69-INT(P69))*100)-((INT(N69)*60)+((N69-INT(N69))*100)),0)","v":{"$error":"#VALUE!"}},{"$f":"ROUND((INT(P69)*60)+((P69-INT(P69))*100)-((INT(I69)*60)+((I69-INT(I69))*100)),0)","v":{"$error":"#VALUE!"}},{"$f":"IF(AND(N69<>0,I69<>0),IF(OR(L69=1,L69=3,L69=4),IF(OR(R69=0,ABS(R69)<='Barèmes & Options'!H$2),1,0)),\"\")","v":false},{"$f":"IF(AND(N69<>\"\",I69<>\"\"),IF(OR(L69=5,L69=7),IF(R69>0,1,0)),\"\")","v":""},{"$f":"IF(AND(N69<>\"\",I69<>\"\"),IF(OR(L69=2,L69=6,L69=8),IF(R69<0,1,0)),\"\")","v":""},{"$f":"IF(AND(N69<>0,P69<>0),IF(OR(L69=1,L69=5,L69=6),IF(OR(S69=0,ABS(S69)<='Barèmes & Options'!H$2),1,0)),\"\")","v":false},{"$f":"IF(AND(N69<>\"\",P69<>\"\"),IF(OR(L69=4,L69=8),IF(S69>0,1,0)),\"\")","v":""},{"$f":"IF(AND(N69<>\"\",P69<>\"\"),IF(OR(L69=2,L69=3,L69=7),IF(S69<0,1,0)),\"\")","v":""},{"$f":"IF(SUM(U69:Z69)=2,IF(L69=2,IF(L69=2,IF(T69-'Barèmes & Options'!H$2<-1,0,1)),\"\"),0)","v":0},{"$f":"IF(OR(L69=2,L69=9),SUM(U69:Z69)-AA69,SUM(U69:Z69))","v":0},{"$f":"IF(L69<>\"\",IF(AND(L69>=1,L69<=8,L69=ABS(L69)),IF(AND(L69<=9,L69>=1),IF(AND(AB69=1,K69<>\"\"),1,IF(AND(AB69=1,K69=\"\"),2,IF(AND(AB69=2,K69<>\"\"),2.5,IF(AND(AB69=2,K69=\"\"),3,0)))),\"\"),\"Err. Profil\"),\"\")","v":""},{"$f":"IF(G69<>\"\",IF(ROUND(J69,0)<=3,1,0),\"\")","v":""},{"$f":"IF(AND(P69<>\"\",N69<>\"\",I69<>\"\"),IF($C69=\"\",\"SX\",IF($C69=\"F\",VLOOKUP(ROUND($Q69,0)/100,Barème500,3),VLOOKUP(ROUND($Q69,0)/100,Barème500,2))),\"\")","v":""},null,{"$f":"IF(OR(AF69=\"\",AF69=\"\",AE69=\"\",AD69=\"\",AC69=\"\"),\"\",IF(OR(AF69<0,AF69>2),\"Err ech.\",SUM(AF69,AE69,AD69,AC69)))","v":""},null,null,null,null,null,{"$f":"IF(C69<>\"f\",\"m\",\"f\")","v":"m"}]
[null,null,null,null,null,null,"",null,"","",null,"",null,"",null,"","",{"$error":"#VALUE!"},{"$error":"#VALUE!"},{"$error":"#VALUE!"},{"$f":"IF(AND(N70<>0,I70<>0),IF(OR(L70=1,L70=3,L70=4),IF(OR(R70=0,ABS(R70)<='Barèmes & Options'!H$2),1,0)),\"\")","v":false},"","",{"$f":"IF(AND(N70<>0,P70<>0),IF(OR(L70=1,L70=5,L70=6),IF(OR(S70=0,ABS(S70)<='Barèmes & Options'!H$2),1,0)),\"\")","v":false},"","",{"$f":"IF(SUM(U70:Z70)=2,IF(L70=2,IF(L70=2,IF(T70-'Barèmes & Options'!H$2<-1,0,1)),\"\"),0)","v":0},0,"","",{"$f":"IF(AND(P70<>\"\",N70<>\"\",I70<>\"\"),IF($C70=\"\",\"SX\",IF($C70=\"F\",VLOOKUP(ROUND($Q70,0)/100,Barème500,3),VLOOKUP(ROUND($Q70,0)/100,Barème500,2))),\"\")","v":""},null,"",null,null,null,null,null,"m"]
[null,null,null,null,null,null,"",null,"","",null,"",null,"",null,"","",{"$error":"#VALUE!"},{"$error":"#VALUE!"},{"$error":"#VALUE!"},{"$f":"IF(AND(N71<>0,I71<>0),IF(OR(L71=1,L71=3,L71=4),IF(OR(R71=0,ABS(R71)<='Barèmes & Options'!H$2),1,0)),\"\")","v":false},"","",{"$f":"IF(AND(N71<>0,P71<>0),IF(OR(L71=1,L71=5,L71=6),IF(OR(S71=0,ABS(S71)<='Barèmes & Options'!H$2),1,0)),\"\")","v":false},"","",{"$f":"IF(SUM(U71:Z71)=2,IF(L71=2,IF(L71=2,IF(T71-'Barèmes & Options'!H$2<-1,0,1)),\"\"),0)","v":0},0,"","",{"$f":"IF(AND(P71<>\"\",N71<>\"\",I71<>\"\"),IF($C71=\"\",\"SX\",IF($C71=\"F\",VLOOKUP(ROUND($Q71,0)/100,Barème500,3),VLOOKUP(ROUND($Q71,0)/100,Barème500,2))),\"\")","v":""},null,"",null,null,null,null,null,"m"]
[null,null,null,null,null,null,"",null,"","",null,"",null,"",null,"","",{"$error":"#VALUE!"},{"$error":"#VALUE!"},{"$error":"#VALUE!"},{"$f":"IF(AND(N72<>0,I72<>0),IF(OR(L72=1,L72=3,L72=4),IF(OR(R72=0,ABS(R72)<='Barèmes & Options'!H$2),1,0)),\"\")","v":false},"","",{"$f":"IF(AND(N72<>0,P72<>0),IF(OR(L72=1,L72=5,L72=6),IF(OR(S72=0,ABS(S72)<='Barèmes & Options'!H$2),1,0)),\"\")","v":false},"","",{"$f":"IF(SUM(U72:Z72)=2,IF(L72=2,IF(L72=2,IF(T72-'Barèmes & Options'!H$2<-1,0,1)),\"\"),0)","v":0},0,"","",{"$f":"IF(AND(P72<>\"\",N72<>\"\",I72<>\"\"),IF($C72=\"\",\"SX\",IF($C72=\"F\",VLOOKUP(ROUND($Q72,0)/100,Barème500,3),VLOOKUP(ROUND($Q72,0)/100,Barème500,2))),\"\")","v":""},null,"",null,null,null,null,null,"m"]
[null,null,null,null,null,null,"",null,"","",null,"",null,"",null,"","",{"$error":"#VALUE!"},{"$error":"#VALUE!"},{"$error":"#VALUE!"},{"$f":"IF(AND(N73<>0,I73<>0),IF(OR(L73=1,L73=3,L73=4),IF(OR(R73=0,ABS(R73)<='Barèmes & Options'!H$2),1,0)),\"\")","v":false},"","",{"$f":"IF(AND(N73<>0,P73<>0),IF(OR(L73=1,L73=5,L73=6),IF(OR(S73=0,ABS(S73)<='Barèmes & Options'!H$2),1,0)),\"\")","v":false},"","",{"$f":"IF(SUM(U73:Z73)=2,IF(L73=2,IF(L73=2,IF(T73-'Barèmes & Options'!H$2<-1,0,1)),\"\"),0)","v":0},0,"","",{"$f":"IF(AND(P73<>\"\",N73<>\"\",I73<>\"\"),IF($C73=\"\",\"SX\",IF($C73=\"F\",VLOOKUP(ROUND($Q73,0)/100,Barème500,3),VLOOKUP(ROUND($Q73,0)/100,Barème500,2))),\"\")","v":""},null,"",null,null,null,null,null,"m"]
[null,null,null,null,null,null,"",null,"","",null,"",null,"",null,"","",{"$error":"#VALUE!"},{"$error":"#VALUE!"},{"$error":"#VALUE!"},{"$f":"IF(AND(N74<>0,I74<>0),IF(OR(L74=1,L74=3,L74=4),IF(OR(R74=0,ABS(R74)<='Barèmes & Options'!H$2),1,0)),\"\")","v":false},"","",{"$f":"IF(AND(N74<>0,P74<>0),IF(OR(L74=1,L74=5,L74=6),IF(OR(S74=0,ABS(S74)<='Barèmes & Options'!H$2),1,0)),\"\")","v":false},"","",{"$f":"IF(SUM(U74:Z74)=2,IF(L74=2,IF(L74=2,IF(T74-'Barèmes & Options'!H$2<-1,0,1)),\"\"),0)","v":0},0,"","",{"$f":"IF(AND(P74<>\"\",N74<>\"\",I74<>\"\"),IF($C74=\"\",\"SX\",IF($C74=\"F\",VLOOKUP(ROUND($Q74,0)/100,Barème500,3),VLOOKUP(ROUND($Q74,0)/100,Barème500,2))),\"\")","v":""},null,"",null,null,null,null,null,"m"]
[null,null,null,null,null,null,"",null,"","",null,"",null,"",null,"","",{"$error":"#VALUE!"},{"$error":"#VALUE!"},{"$error":"#VALUE!"},{"$f":"IF(AND(N75<>0,I75<>0),IF(OR(L75=1,L75=3,L75=4),IF(OR(R75=0,ABS(R75)<='Barèmes & Options'!H$2),1,0)),\"\")","v":false},"","",{"$f":"IF(AND(N75<>0,P75<>0),IF(OR(L75=1,L75=5,L75=6),IF(OR(S75=0,ABS(S75)<='Barèmes & Options'!H$2),1,0)),\"\")","v":false},"","",{"$f":"IF(SUM(U75:Z75)=2,IF(L75=2,IF(L75=2,IF(T75-'Barèmes & Options'!H$2<-1,0,1)),\"\"),0)","v":0},0,"","",{"$f":"IF(AND(P75<>\"\",N75<>\"\",I75<>\"\"),IF($C75=\"\",\"SX\",IF($C75=\"F\",VLOOKUP(ROUND($Q75,0)/100,Barème500,3),VLOOKUP(ROUND($Q75,0)/100,Barème500,2))),\"\")","v":""},null,"",null,null,null,null,null,"m"]
[null,null,null,null,null,null,"",null,"","",null,"",null,"",null,"","",{"$error":"#VALUE!"},{"$error":"#VALUE!"},{"$error":"#VALUE!"},{"$f":"IF(AND(N76<>0,I76<>0),IF(OR(L76=1,L76=3,L76=4),IF(OR(R76=0,ABS(R76)<='Barèmes & Options'!H$2),1,0)),\"\")","v":false},"","",{"$f":"IF(AND(N76<>0,P76<>0),IF(OR(L76=1,L76=5,L76=6),IF(OR(S76=0,ABS(S76)<='Barèmes & Options'!H$2),1,0)),\"\")","v":false},"","",{"$f":"IF(SUM(U76:Z76)=2,IF(L76=2,IF(L76=2,IF(T76-'Barèmes & Options'!H$2<-1,0,1)),\"\"),0)","v":0},0,"","",{"$f":"IF(AND(P76<>\"\",N76<>\"\",I76<>\"\"),IF($C76=\"\",\"SX\",IF($C76=\"F\",VLOOKUP(ROUND($Q76,0)/100,Barème500,3),VLOOKUP(ROUND($Q76,0)/100,Barème500,2))),\"\")","v":""},null,"",null,null,null,null,null,"m"]
[null,null,null,null,null,null,"",null,"","",null,"",null,"",null,"","",{"$error":"#VALUE!"},{"$error":"#VALUE!"},{"$error":"#VALUE!"},{"$f":"IF(AND(N77<>0,I77<>0),IF(OR(L77=1,L77=3,L77=4),IF(OR(R77=0,ABS(R77)<='Barèmes & Options'!H$2),1,0)),\"\")","v":false},"","",{"$f":"IF(AND(N77<>0,P77<>0),IF(OR(L77=1,L77=5,L77=6),IF(OR(S77=0,ABS(S77)<='Barèmes & Options'!H$2),1,0)),\"\")","v":false},"","",{"$f":"IF(SUM(U77:Z77)=2,IF(L77=2,IF(L77=2,IF(T77-'Barèmes & Options'!H$2<-1,0,1)),\"\"),0)","v":0},0,"","",{"$f":"IF(AND(P77<>\"\",N77<>\"\",I77<>\"\"),IF($C77=\"\",\"SX\",IF($C77=\"F\",VLOOKUP(ROUND($Q77,0)/100,Barème500,3),VLOOKUP(ROUND($Q77,0)/100,Barème500,2))),\"\")","v":""},null,"",null,null,null,null,null,"m"]
[null,null,null,null,null,null,"",null,"","",null,"",null,"",null,"","",{"$error":"#VALUE!"},{"$error":"#VALUE!"},{"$error":"#VALUE!"},{"$f":"IF(AND(N78<>0,I78<>0),IF(OR(L78=1,L78=3,L78=4),IF(OR(R78=0,ABS(R78)<='Barèmes & Options'!H$2),1,0)),\"\")","v":false},"","",{"$f":"IF(AND(N78<>0,P78<>0),IF(OR(L78=1,L78=5,L78=6),IF(OR(S78=0,ABS(S78)<='Barèmes & Options'!H$2),1,0)),\"\")","v":false},"","",{"$f":"IF(SUM(U78:Z78)=2,IF(L78=2,IF(L78=2,IF(T78-'Barèmes & Options'!H$2<-1,0,1)),\"\"),0)","v":0},0,"","",{"$f":"IF(AND(P78<>\"\",N78<>\"\",I78<>\"\"),IF($C78=\"\",\"SX\",IF($C78=\"F\",VLOOKUP(ROUND($Q78,0)/100,Barème500,3),VLOOKUP(ROUND($Q78,0)/100,Barème500,2))),\"\")","v":""},null,"",null,null,null,null,null,"m"]
[null,null,null,null,null,null,"",null,"","",null,"",null,"",null,"","",{"$error":"#VALUE!"},{"$error":"#VALUE!"},{"$error":"#VALUE!"},{"$f":"IF(AND(N79<>0,I79<>0),IF(OR(L79=1,L79=3,L79=4),IF(OR(R79=0,ABS(R79)<='Barèmes & Options'!H$2),1,0)),\"\")","v":false},"","",{"$f":"IF(AND(N79<>0,P79<>0),IF(OR(L79=1,L79=5,L79=6),IF(OR(S79=0,ABS(S79)<='Barèmes & Options'!H$2),1,0)),\"\")","v":false},"","",{"$f":"IF(SUM(U79:Z79)=2,IF(L79=2,IF(L79=2,IF(T79-'Barèmes & Options'!H$2<-1,0,1)),\"\"),0)","v":0},0,"","",{"$f":"IF(AND(P79<>\"\",N79<>\"\",I79<>\"\"),IF($C79=\"\",\"SX\",IF($C79=\"F\",VLOOKUP(ROUND($Q79,0)/100,Barème500,3),VLOOKUP(ROUND($Q79,0)/100,Barème500,2))),\"\")","v":""},null,"",null,null,null,null,null,"m"]
[null,null,null,null,null,null,"",null,"","",null,"",null,"",null,"","",{"$error":"#VALUE!"},{"$error":"#VALUE!"},{"$error":"#VALUE!"},{"$f":"IF(AND(N80<>0,I80<>0),IF(OR(L80=1,L80=3,L80=4),IF(OR(R80=0,ABS(R80)<='Barèmes & Options'!H$2),1,0)),\"\")","v":false},"","",{"$f":"IF(AND(N80<>0,P80<>0),IF(OR(L80=1,L80=5,L80=6),IF(OR(S80=0,ABS(S80)<='Barèmes & Options'!H$2),1,0)),\"\")","v":false},"","",{"$f":"IF(SUM(U80:Z80)=2,IF(L80=2,IF(L80=2,IF(T80-'Barèmes & Options'!H$2<-1,0,1)),\"\"),0)","v":0},0,"","",{"$f":"IF(AND(P80<>\"\",N80<>\"\",I80<>\"\"),IF($C80=\"\",\"SX\",IF($C80=\"F\",VLOOKUP(ROUND($Q80,0)/100,Barème500,3),VLOOKUP(ROUND($Q80,0)/100,Barème500,2))),\"\")","v":""},null,"",null,null,null,null,null,"m"]
[null,null,null,null,null,null,"",null,"","",null,"",null,"",null,"","",{"$error":"#VALUE!"},{"$error":"#VALUE!"},{"$error":"#VALUE!"},{"$f":"IF(AND(N81<>0,I81<>0),IF(OR(L81=1,L81=3,L81=4),IF(OR(R81=0,ABS(R81)<='Barèmes & Options'!H$2),1,0)),\"\")","v":false},"","",{"$f":"IF(AND(N81<>0,P81<>0),IF(OR(L81=1,L81=5,L81=6),IF(OR(S81=0,ABS(S81)<='Barèmes & Options'!H$2),1,0)),\"\")","v":false},"","",{"$f":"IF(SUM(U81:Z81)=2,IF(L81=2,IF(L81=2,IF(T81-'Barèmes & Options'!H$2<-1,0,1)),\"\"),0)","v":0},0,"","",{"$f":"IF(AND(P81<>\"\",N81<>\"\",I81<>\"\"),IF($C81=\"\",\"SX\",IF($C81=\"F\",VLOOKUP(ROUND($Q81,0)/100,Barème500,3),VLOOKUP(ROUND($Q81,0)/100,Barème500,2))),\"\")","v":""},null,"",null,null,null,null,null,"m"]
[null,null,null,null,null,null,"",null,"","",null,"",null,"",null,"","",{"$error":"#VALUE!"},{"$error":"#VALUE!"},{"$error":"#VALUE!"},{"$f":"IF(AND(N82<>0,I82<>0),IF(OR(L82=1,L82=3,L82=4),IF(OR(R82=0,ABS(R82)<='Barèmes & Options'!H$2),1,0)),\"\")","v":false},"","",{"$f":"IF(AND(N82<>0,P82<>0),IF(OR(L82=1,L82=5,L82=6),IF(OR(S82=0,ABS(S82)<='Barèmes & Options'!H$2),1,0)),\"\")","v":false},"","",{"$f":"IF(SUM(U82:Z82)=2,IF(L82=2,IF(L82=2,IF(T82-'Barèmes & Options'!H$2<-1,0,1)),\"\"),0)","v":0},0,"","",{"$f":"IF(AND(P82<>\"\",N82<>\"\",I82<>\"\"),IF($C82=\"\",\"SX\",IF($C82=\"F\",VLOOKUP(ROUND($Q82,0)/100,Barème500,3),VLOOKUP(ROUND($Q82,0)/100,Barème500,2))),\"\")","v":""},null,"",null,null,null,null,null,"m"]
[null,null,null,null,null,null,"",null,"","",null,"",null,"",null,"","",{"$error":"#VALUE!"},{"$error":"#VALUE!"},{"$error":"#VALUE!"},{"$f":"IF(AND(N83<>0,I83<>0),IF(OR(L83=1,L83=3,L83=4),IF(OR(R83=0,ABS(R83)<='Barèmes & Options'!H$2),1,0)),\"\")","v":false},"","",{"$f":"IF(AND(N83<>0,P83<>0),IF(OR(L83=1,L83=5,L83=6),IF(OR(S83=0,ABS(S83)<='Barèmes & Options'!H$2),1,0)),\"\")","v":false},"","",{"$f":"IF(SUM(U83:Z83)=2,IF(L83=2,IF(L83=2,IF(T83-'Barèmes & Options'!H$2<-1,0,1)),\"\"),0)","v":0},0,"","",{"$f":"IF(AND(P83<>\"\",N83<>\"\",I83<>\"\"),IF($C83=\"\",\"SX\",IF($C83=\"F\",VLOOKUP(ROUND($Q83,0)/100,Barème500,3),VLOOKUP(ROUND($Q83,0)/100,Barème500,2))),\"\")","v":""},null,"",null,null,null,null,null,"m"]
[null,null,null,null,null,null,"",null,"","",null,"",null,"",null,"","",{"$error":"#VALUE!"},{"$error":"#VALUE!"},{"$error":"#VALUE!"},{"$f":"IF(AND(N84<>0,I84<>0),IF(OR(L84=1,L84=3,L84=4),IF(OR(R84=0,ABS(R84)<='Barèmes & Options'!H$2),1,0)),\"\")","v":false},"","",{"$f":"IF(AND(N84<>0,P84<>0),IF(OR(L84=1,L84=5,L84=6),IF(OR(S84=0,ABS(S84)<='Barèmes & Options'!H$2),1,0)),\"\")","v":false},"","",{"$f":"IF(SUM(U84:Z84)=2,IF(L84=2,IF(L84=2,IF(T84-'Barèmes & Options'!H$2<-1,0,1)),\"\"),0)","v":0},0,"","",{"$f":"IF(AND(P84<>\"\",N84<>\"\",I84<>\"\"),IF($C84=\"\",\"SX\",IF($C84=\"F\",VLOOKUP(ROUND($Q84,0)/100,Barème500,3),VLOOKUP(ROUND($Q84,0)/100,Barème500,2))),\"\")","v":""},null,"",null,null,null,null,null,"m"]
[null,null,null,null,null,null,"",null,"","",null,"",null,"",null,"","",{"$error":"#VALUE!"},{"$error":"#VALUE!"},{"$error":"#VALUE!"},{"$f":"IF(AND(N85<>0,I85<>0),IF(OR(L85=1,L85=3,L85=4),IF(OR(R85=0,ABS(R85)<='Barèmes & Options'!H$2),1,0)),\"\")","v":false},"","",{"$f":"IF(AND(N85<>0,P85<>0),IF(OR(L85=1,L85=5,L85=6),IF(OR(S85=0,ABS(S85)<='Barèmes & Options'!H$2),1,0)),\"\")","v":false},"","",{"$f":"IF(SUM(U85:Z85)=2,IF(L85=2,IF(L85=2,IF(T85-'Barèmes & Options'!H$2<-1,0,1)),\"\"),0)","v":0},0,"","",{"$f":"IF(AND(P85<>\"\",N85<>\"\",I85<>\"\"),IF($C85=\"\",\"SX\",IF($C85=\"F\",VLOOKUP(ROUND($Q85,0)/100,Barème500,3),VLOOKUP(ROUND($Q85,0)/100,Barème500,2))),\"\")","v":""},null,"",null,null,null,null,null,"m"]
[null,null,null,null,null,null,"",null,"","",null,"",null,"",null,"","",{"$error":"#VALUE!"},{"$error":"#VALUE!"},{"$error":"#VALUE!"},{"$f":"IF(AND(N86<>0,I86<>0),IF(OR(L86=1,L86=3,L86=4),IF(OR(R86=0,ABS(R86)<='Barèmes & Options'!H$2),1,0)),\"\")","v":false},"","",{"$f":"IF(AND(N86<>0,P86<>0),IF(OR(L86=1,L86=5,L86=6),IF(OR(S86=0,ABS(S86)<='Barèmes & Options'!H$2),1,0)),\"\")","v":false},"","",{"$f":"IF(SUM(U86:Z86)=2,IF(L86=2,IF(L86=2,IF(T86-'Barèmes & Options'!H$2<-1,0,1)),\"\"),0)","v":0},0,"","",{"$f":"IF(AND(P86<>\"\",N86<>\"\",I86<>\"\"),IF($C86=\"\",\"SX\",IF($C86=\"F\",VLOOKUP(ROUND($Q86,0)/100,Barème500,3),VLOOKUP(ROUND($Q86,0)/100,Barème500,2))),\"\")","v":""},null,"",null,null,null,null,null,"m"]
[null,null,null,null,null,null,"",null,"","",null,"",null,"",null,"","",{"$error":"#VALUE!"},{"$error":"#VALUE!"},{"$error":"#VALUE!"},{"$f":"IF(AND(N87<>0,I87<>0),IF(OR(L87=1,L87=3,L87=4),IF(OR(R87=0,ABS(R87)<='Barèmes & Options'!H$2),1,0)),\"\")","v":false},"","",{"$f":"IF(AND(N87<>0,P87<>0),IF(OR(L87=1,L87=5,L87=6),IF(OR(S87=0,ABS(S87)<='Barèmes & Options'!H$2),1,0)),\"\")","v":false},"","",{"$f":"IF(SUM(U87:Z87)=2,IF(L87=2,IF(L87=2,IF(T87-'Barèmes & Options'!H$2<-1,0,1)),\"\"),0)","v":0},0,"","",{"$f":"IF(AND(P87<>\"\",N87<>\"\",I87<>\"\"),IF($C87=\"\",\"SX\",IF($C87=\"F\",VLOOKUP(ROUND($Q87,0)/100,Barème500,3),VLOOKUP(ROUND($Q87,0)/100,Barème500,2))),\"\")","v":""},null,"",null,null,null,null,null,"m"]
[null,null,null,null,null,null,"",null,"","",null,"",null,"",null,"","",{"$error":"#VALUE!"},{"$error":"#VALUE!"},{"$error":"#VALUE!"},{"$f":"IF(AND(N88<>0,I88<>0),IF(OR(L88=1,L88=3,L88=4),IF(OR(R88=0,ABS(R88)<='Barèmes & Options'!H$2),1,0)),\"\")","v":false},"","",{"$f":"IF(AND(N88<>0,P88<>0),IF(OR(L88=1,L88=5,L88=6),IF(OR(S88=0,ABS(S88)<='Barèmes & Options'!H$2),1,0)),\"\")","v":false},"","",{"$f":"IF(SUM(U88:Z88)=2,IF(L88=2,IF(L88=2,IF(T88-'Barèmes & Options'!H$2<-1,0,1)),\"\"),0)","v":0},0,"","",{"$f":"IF(AND(P88<>\"\",N88<>\"\",I88<>\"\"),IF($C88=\"\",\"SX\",IF($C88=\"F\",VLOOKUP(ROUND($Q88,0)/100,Barème500,3),VLOOKUP(ROUND($Q88,0)/100,Barème500,2))),\"\")","v":""},null,"",null,null,null,null,null,"m"]
[null,null,null,null,null,null,"",null,"","",null,"",null,"",null,"","",{"$error":"#VALUE!"},{"$error":"#VALUE!"},{"$error":"#VALUE!"},{"$f":"IF(AND(N89<>0,I89<>0),IF(OR(L89=1,L89=3,L89=4),IF(OR(R89=0,ABS(R89)<='Barèmes & Options'!H$2),1,0)),\"\")","v":false},"","",{"$f":"IF(AND(N89<>0,P89<>0),IF(OR(L89=1,L89=5,L89=6),IF(OR(S89=0,ABS(S89)<='Barèmes & Options'!H$2),1,0)),\"\")","v":false},"","",{"$f":"IF(SUM(U89:Z89)=2,IF(L89=2,IF(L89=2,IF(T89-'Barèmes & Options'!H$2<-1,0,1)),\"\"),0)","v":0},0,"","",{"$f":"IF(AND(P89<>\"\",N89<>\"\",I89<>\"\"),IF($C89=\"\",\"SX\",IF($C89=\"F\",VLOOKUP(ROUND($Q89,0)/100,Barème500,3),VLOOKUP(ROUND($Q89,0)/100,Barème500,2))),\"\")","v":""},null,"",null,null,null,null,null,"m"]
[null,null,null,null,null,null,"",null,"","",null,"",null,"",null,"","",{"$error":"#VALUE!"},{"$error":"#VALUE!"},{"$error":"#VALUE!"},{"$f":"IF(AND(N90<>0,I90<>0),IF(OR(L90=1,L90=3,L90=4),IF(OR(R90=0,ABS(R90)<='Barèmes & Options'!H$2),1,0)),\"\")","v":false},"","",{"$f":"IF(AND(N90<>0,P90<>0),IF(OR(L90=1,L90=5,L90=6),IF(OR(S90=0,ABS(S90)<='Barèmes & Options'!H$2),1,0)),\"\")","v":false},"","",{"$f":"IF(SUM(U90:Z90)=2,IF(L90=2,IF(L90=2,IF(T90-'Barèmes & Options'!H$2<-1,0,1)),\"\"),0)","v":0},0,"","",{"$f":"IF(AND(P90<>\"\",N90<>\"\",I90<>\"\"),IF($C90=\"\",\"SX\",IF($C90=\"F\",VLOOKUP(ROUND($Q90,0)/100,Barème500,3),VLOOKUP(ROUND($Q90,0)/100,Barème500,2))),\"\")","v":""},null,"",null,null,null,null,null,"m"]
[null,null,null,null,null,null,"",null,"","",null,"",null,"",null,"","",{"$error":"#VALUE!"},{"$error":"#VALUE!"},{"$error":"#VALUE!"},{"$f":"IF(AND(N91<>0,I91<>0),IF(OR(L91=1,L91=3,L91=4),IF(OR(R91=0,ABS(R91)<='Barèmes & Options'!H$2),1,0)),\"\")","v":false},"","",{"$f":"IF(AND(N91<>0,P91<>0),IF(OR(L91=1,L91=5,L91=6),IF(OR(S91=0,ABS(S91)<='Barèmes & Options'!H$2),1,0)),\"\")","v":false},"","",{"$f":"IF(SUM(U91:Z91)=2,IF(L91=2,IF(L91=2,IF(T91-'Barèmes & Options'!H$2<-1,0,1)),\"\"),0)","v":0},0,"","",{"$f":"IF(AND(P91<>\"\",N91<>\"\",I91<>\"\"),IF($C91=\"\",\"SX\",IF($C91=\"F\",VLOOKUP(ROUND($Q91,0)/100,Barème500,3),VLOOKUP(ROUND($Q91,0)/100,Barème500,2))),\"\")","v":""},null,"",null,null,null,null,null,"m"]
[null,null,null,null,null,null,"",null,"","",null,"",null,"",null,"","",{"$error":"#VALUE!"},{"$error":"#VALUE!"},{"$error":"#VALUE!"},{"$f":"IF(AND(N92<>0,I92<>0),IF(OR(L92=1,L92=3,L92=4),IF(OR(R92=0,ABS(R92)<='Barèmes & Options'!H$2),1,0)),\"\")","v":false},"","",{"$f":"IF(AND(N92<>0,P92<>0),IF(OR(L92=1,L92=5,L92=6),IF(OR(S92=0,ABS(S92)<='Barèmes & Options'!H$2),1,0)),\"\")","v":false},"","",{"$f":"IF(SUM(U92:Z92)=2,IF(L92=2,IF(L92=2,IF(T92-'Barèmes & Options'!H$2<-1,0,1)),\"\"),0)","v":0},0,"","",{"$f":"IF(AND(P92<>\"\",N92<>\"\",I92<>\"\"),IF($C92=\"\",\"SX\",IF($C92=\"F\",VLOOKUP(ROUND($Q92,0)/100,Barème500,3),VLOOKUP(ROUND($Q92,0)/100,Barème500,2))),\"\")","v":""},null,"",null,null,null,null,null,"m"]
[null,null,null,null,null,null,"",null,"","",null,"",null,"",null,"","",{"$error":"#VALUE!"},{"$error":"#VALUE!"},{"$error":"#VALUE!"},{"$f":"IF(AND(N93<>0,I93<>0),IF(OR(L93=1,L93=3,L93=4),IF(OR(R93=0,ABS(R93)<='Barèmes & Options'!H$2),1,0)),\"\")","v":false},"","",{"$f":"IF(AND(N93<>0,P93<>0),IF(OR(L93=1,L93=5,L93=6),IF(OR(S93=0,ABS(S93)<='Barèmes & Options'!H$2),1,0)),\"\")","v":false},"","",{"$f":"IF(SUM(U93:Z93)=2,IF(L93=2,IF(L93=2,IF(T93-'Barèmes & Options'!H$2<-1,0,1)),\"\"),0)","v":0},0,"","",{"$f":"IF(AND(P93<>\"\",N93<>\"\",I93<>\"\"),IF($C93=\"\",\"SX\",IF($C93=\"F\",VLOOKUP(ROUND($Q93,0)/100,Barème500,3),VLOOKUP(ROUND($Q93,0)/100,Barème500,2))),\"\")","v":""},null,"",null,null,null,null,null,"m"]
[null,null,null,null,null,null,"",null,"","",null,"",null,"",null,"","",{"$error":"#VALUE!"},{"$error":"#VALUE!"},{"$error":"#VALUE!"},{"$f":"IF(AND(N94<>0,I94<>0),IF(OR(L94=1,L94=3,L94=4),IF(OR(R94=0,ABS(R94)<='Barèmes & Options'!H$2),1,0)),\"\")","v":false},"","",{"$f":"IF(AND(N94<>0,P94<>0),IF(OR(L94=1,L94=5,L94=6),IF(OR(S94=0,ABS(S94)<='Barèmes & Options'!H$2),1,0)),\"\")","v":false},"","",{"$f":"IF(SUM(U94:Z94)=2,IF(L94=2,IF(L94=2,IF(T94-'Barèmes & Options'!H$2<-1,0,1)),\"\"),0)","v":0},0,"","",{"$f":"IF(AND(P94<>\"\",N94<>\"\",I94<>\"\"),IF($C94=\"\",\"SX\",IF($C94=\"F\",VLOOKUP(ROUND($Q94,0)/100,Barème500,3),VLOOKUP(ROUND($Q94,0)/100,Barème500,2))),\"\")","v":""},null,"",null,null,null,null,null,"m"]
[null,null,null,null,null,null,"",null,"","",null,"",null,"",null,"","",{"$error":"#VALUE!"},{"$error":"#VALUE!"},{"$error":"#VALUE!"},{"$f":"IF(AND(N95<>0,I95<>0),IF(OR(L95=1,L95=3,L95=4),IF(OR(R95=0,ABS(R95)<='Barèmes & Options'!H$2),1,0)),\"\")","v":false},"","",{"$f":"IF(AND(N95<>0,P95<>0),IF(OR(L95=1,L95=5,L95=6),IF(OR(S95=0,ABS(S95)<='Barèmes & Options'!H$2),1,0)),\"\")","v":false},"","",{"$f":"IF(SUM(U95:Z95)=2,IF(L95=2,IF(L95=2,IF(T95-'Barèmes & Options'!H$2<-1,0,1)),\"\"),0)","v":0},0,"","",{"$f":"IF(AND(P95<>\"\",N95<>\"\",I95<>\"\"),IF($C95=\"\",\"SX\",IF($C95=\"F\",VLOOKUP(ROUND($Q95,0)/100,Barème500,3),VLOOKUP(ROUND($Q95,0)/100,Barème500,2))),\"\")","v":""},null,"",null,null,null,null,null,"m"]
[null,null,null,null,null,null,"",null,"","",null,"",null,"",null,"","",{"$error":"#VALUE!"},{"$error":"#VALUE!"},{"$error":"#VALUE!"},{"$f":"IF(AND(N96<>0,I96<>0),IF(OR(L96=1,L96=3,L96=4),IF(OR(R96=0,ABS(R96)<='Barèmes & Options'!H$2),1,0)),\"\")","v":false},"","",{"$f":"IF(AND(N96<>0,P96<>0),IF(OR(L96=1,L96=5,L96=6),IF(OR(S96=0,ABS(S96)<='Barèmes & Options'!H$2),1,0)),\"\")","v":false},"","",{"$f":"IF(SUM(U96:Z96)=2,IF(L96=2,IF(L96=2,IF(T96-'Barèmes & Options'!H$2<-1,0,1)),\"\"),0)","v":0},0,"","",{"$f":"IF(AND(P96<>\"\",N96<>\"\",I96<>\"\"),IF($C96=\"\",\"SX\",IF($C96=\"F\",VLOOKUP(ROUND($Q96,0)/100,Barème500,3),VLOOKUP(ROUND($Q96,0)/100,Barème500,2))),\"\")","v":""},null,"",null,null,null,null,null,"m"]
[null,null,null,null,null,null,"",null,"","",null,"",null,"",null,"","",{"$error":"#VALUE!"},{"$error":"#VALUE!"},{"$error":"#VALUE!"},{"$f":"IF(AND(N97<>0,I97<>0),IF(OR(L97=1,L97=3,L97=4),IF(OR(R97=0,ABS(R97)<='Barèmes & Options'!H$2),1,0)),\"\")","v":false},"","",{"$f":"IF(AND(N97<>0,P97<>0),IF(OR(L97=1,L97=5,L97=6),IF(OR(S97=0,ABS(S97)<='Barèmes & Options'!H$2),1,0)),\"\")","v":false},"","",{"$f":"IF(SUM(U97:Z97)=2,IF(L97=2,IF(L97=2,IF(T97-'Barèmes & Options'!H$2<-1,0,1)),\"\"),0)","v":0},0,"","",{"$f":"IF(AND(P97<>\"\",N97<>\"\",I97<>\"\"),IF($C97=\"\",\"SX\",IF($C97=\"F\",VLOOKUP(ROUND($Q97,0)/100,Barème500,3),VLOOKUP(ROUND($Q97,0)/100,Barème500,2))),\"\")","v":""},null,"",null,null,null,null,null,"m"]
[null,null,null,null,null,null,"",null,"","",null,"",null,"",null,"","",{"$error":"#VALUE!"},{"$error":"#VALUE!"},{"$error":"#VALUE!"},{"$f":"IF(AND(N98<>0,I98<>0),IF(OR(L98=1,L98=3,L98=4),IF(OR(R98=0,ABS(R98)<='Barèmes & Options'!H$2),1,0)),\"\")","v":false},"","",{"$f":"IF(AND(N98<>0,P98<>0),IF(OR(L98=1,L98=5,L98=6),IF(OR(S98=0,ABS(S98)<='Barèmes & Options'!H$2),1,0)),\"\")","v":false},"","",{"$f":"IF(SUM(U98:Z98)=2,IF(L98=2,IF(L98=2,IF(T98-'Barèmes & Options'!H$2<-1,0,1)),\"\"),0)","v":0},0,"","",{"$f":"IF(AND(P98<>\"\",N98<>\"\",I98<>\"\"),IF($C98=\"\",\"SX\",IF($C98=\"F\",VLOOKUP(ROUND($Q98,0)/100,Barème500,3),VLOOKUP(ROUND($Q98,0)/100,Barème500,2))),\"\")","v":""},null,"",null,null,null,null,null,"m"]
[null,null,null,null,null,null,"",null,"","",null,"",null,"",null,"","",{"$error":"#VALUE!"},{"$error":"#VALUE!"},{"$error":"#VALUE!"},{"$f":"IF(AND(N99<>0,I99<>0),IF(OR(L99=1,L99=3,L99=4),IF(OR(R99=0,ABS(R99)<='Barèmes & Options'!H$2),1,0)),\"\")","v":false},"","",{"$f":"IF(AND(N99<>0,P99<>0),IF(OR(L99=1,L99=5,L99=6),IF(OR(S99=0,ABS(S99)<='Barèmes & Options'!H$2),1,0)),\"\")","v":false},"","",{"$f":"IF(SUM(U99:Z99)=2,IF(L99=2,IF(L99=2,IF(T99-'Barèmes & Options'!H$2<-1,0,1)),\"\"),0)","v":0},0,"","",{"$f":"IF(AND(P99<>\"\",N99<>\"\",I99<>\"\"),IF($C99=\"\",\"SX\",IF($C99=\"F\",VLOOKUP(ROUND($Q99,0)/100,Barème500,3),VLOOKUP(ROUND($Q99,0)/100,Barème500,2))),\"\")","v":""},null,"",null,null,null,null,null,"m"]
[null,null,null,null,null,null,"",null,"","",null,"",null,"",null,"","",{"$error":"#VALUE!"},{"$error":"#VALUE!"},{"$error":"#VALUE!"},{"$f":"IF(AND(N100<>0,I100<>0),IF(OR(L100=1,L100=3,L100=4),IF(OR(R100=0,ABS(R100)<='Barèmes & Options'!H$2),1,0)),\"\")","v":false},"","",{"$f":"IF(AND(N100<>0,P100<>0),IF(OR(L100=1,L100=5,L100=6),IF(OR(S100=0,ABS(S100)<='Barèmes & Options'!H$2),1,0)),\"\")","v":false},"","",{"$f":"IF(SUM(U100:Z100)=2,IF(L100=2,IF(L100=2,IF(T100-'Barèmes & Options'!H$2<-1,0,1)),\"\"),0)","v":0},0,"","",{"$f":"IF(AND(P100<>\"\",N100<>\"\",I100<>\"\"),IF($C100=\"\",\"SX\",IF($C100=\"F\",VLOOKUP(ROUND($Q100,0)/100,Barème500,3),VLOOKUP(ROUND($Q100,0)/100,Barème500,2))),\"\")","v":""},null,"",null,null,null,null,null,"m"]
[null,null,null,null,null,null,"",null,"","",null,"",null,"",null,"","",{"$error":"#VALUE!"},{"$error":"#VALUE!"},{"$error":"#VALUE!"},{"$f":"IF(AND(N101<>0,I101<>0),IF(OR(L101=1,L101=3,L101=4),IF(OR(R101=0,ABS(R101)<='Barèmes & Options'!H$2),1,0)),\"\")","v":false},"","",{"$f":"IF(AND(N101<>0,P101<>0),IF(OR(L101=1,L101=5,L101=6),IF(OR(S101=0,ABS(S101)<='Barèmes & Options'!H$2),1,0)),\"\")","v":false},"","",{"$f":"IF(SUM(U101:Z101)=2,IF(L101=2,IF(L101=2,IF(T101-'Barèmes & Options'!H$2<-1,0,1)),\"\"),0)","v":0},0,"","",{"$f":"IF(AND(P101<>\"\",N101<>\"\",I101<>\"\"),IF($C101=\"\",\"SX\",IF($C101=\"F\",VLOOKUP(ROUND($Q101,0)/100,Barème500,3),VLOOKUP(ROUND($Q101,0)/100,Barème500,2))),\"\")","v":""},null,"",null,null,null,null,null,"m"]

{"sheet":"Barèmes & Options","index":2,"n_rows":218,"n_cols":8,"rows_kept":218,"cut":false,"hidden":false,"merged":[[0,0,0,2]]}
["Barème 1500"]
["temps","G","F",null,null,null,"Tolérance En sec. :",1]
[3,14,14]
[4.0999999999999996,14,14]
[4.1100000000000003,13.9,14]
[4.12,13.8,14]
[4.13,13.6,14]
[4.1399999999999997,13.5,14]
[4.1500000000000004,13.3,14]
[4.16,13.1,14]
[4.17,12.9,14]
[4.18,12.7,14]
[4.1900000000000004,12.6,14]
[4.2,12.5,14]
[4.21,12.4,14]
[4.22,12.2,14]
[4.2300000000000004,12.1,14]
[4.24,11.9,14]
[4.25,11.8,14]
[4.26,11.7,14]
[4.2699999999999996,11.5,14]
[4.28,11.3,14]
[4.29,11.2,14]
[4.3,11.1,14]
[4.3099999999999996,10.9,14]
[4.32,10.8,14]
[4.33,10.6,14]
[4.34,10.5,14]
[4.3499999999999996,10.4,14]
[4.3600000000000003,10.3,14]
[4.37,10.199999999999999,14]
[4.38,10.1,14]
[4.3899999999999997,10,14]
[4.4000000000000004,9.8000000000000007,14]
[4.41,9.6999999999999993,14]
[4.42,9.6,14]
[4.43,9.5,14]
[4.45,9.4,14]
[4.46,9.3000000000000007,14]
[4.47,9.1999999999999993,14]
[4.4800000000000004,9.1,14]
[4.49,9,14]
[4.5,8.9,14]
[4.51,8.8000000000000007,14]
[4.5199999999999996,8.6999999999999993,14]
[4.53,8.6,14]
[4.55,8.5,14]
[4.5599999999999996,8.4,14]
[4.57,8.3000000000000007,14]
[4.58,8.1999999999999993,14]
[4.59,8.1,14]
[5,8,14]
[5.0199999999999996,7.9,14]
[5.04,7.8,14]
[5.05,7.7,14]
[5.0599999999999996,7.6,14]
[5.07,7.5,14]
[5.08,7.4,14]
[5.0999999999999996,7.3,14]
[5.1100000000000003,7.2,14]
[5.13,7.1,14]
[5.14,7,14]
[5.15,6.9,14]
[5.16,6.8,14]
[5.17,6.7,14]
[5.18,6.6,14]
[5.2,6.5,14]
[5.22,6.4,14]
[5.24,6.3,14]
[5.26,6.2,14]
[5.28,6.1,14]
[5.3,6,14]
[5.31,5.9,13.9]
[5.32,5.9,13.8]
[5.33,5.8,13.7]
[5.34,5.8,13.5]
[5.35,5.7,13.3]
[5.36,5.7,13.2]
[5.37,5.6,13.1]
[5.38,5.6,13]
[5.39,5.5,12.9]
[5.4,5.5,12.8]
[5.41,5.4,12.6]
[5.42,5.4,12.5]
[5.43,5.4,12.4]
[5.44,5.3,12.3]
[5.45,5.3,12.2]
[5.46,5.3,12]
[5.47,5.2,11.9]
[5.48,5.2,11.8]
[5.49,5.0999999999999996,11.7]
[5.5,5.0999999999999996,11.6]
[5.51,5,11.5]
[5.52,5,11.4]
[5.53,4.9000000000000004,11.3]
[5.55,4.8,11.2]
[5.56,4.8,11.1]
[5.57,4.8,11]
[5.58,4.7,10.9]
[5.59,4.7,10.8]
[6,4.7,10.7]
[6.01,4.5999999999999996,10.6]
[6.03,4.5,10.5]
[6.05,4.4000000000000004,10.4]
[6.07,4.4000000000000004,10.3]
[6.08,4.3,10.3]
[6.09,4.3,10.199999999999999]
[6.1,4.2,10.199999999999999]
[6.11,4.2,10.1]
[6.13,4.0999999999999996,10]
[6.15,4,9.9]
[6.17,3.9,9.8000000000000007]
[6.19,3.9,9.6999999999999993]
[6.2,3.8,9.6999999999999993]
[6.21,3.8,9.6]
[6.23,3.7,9.5]
[6.25,3.6,9.4]
[6.27,3.6,9.3000000000000007]
[6.28,3.5,9.3000000000000007]
[6.29,3.5,9.1999999999999993]
[6.3,3.4,9.1999999999999993]
[6.31,3.4,9.1]
[6.33,3.3,9]
[6.35,3.3,8.9]
[6.36,3.2,8.9]
[6.37,3.2,8.8000000000000007]
[6.39,3.1,8.6999999999999993]
[6.41,3.1,8.6]
[6.43,3,8.6]
[6.44,3,8.5]
[6.46,2.9,8.5]
[6.47,2.9,8.4]
[6.49,2.8,8.3000000000000007]
[6.51,2.7,8.1999999999999993]
[6.53,2.7,8.1]
[6.54,2.6,8.1]
[6.55,2.6,8]
[6.57,2.5,7.9]
[7,2.4,7.8]
[7.03,2.2999999999999998,7.7]
[7.05,2.2999999999999998,7.6]
[7.07,2.2000000000000002,7.5]
[7.1,2.2000000000000002,7.4]
[7.11,2.1,7.4]
[7.13,2.1,7.3]
[7.16,2,7.2]
[7.18,1.9,7.1]
[7.2,1.8,7]
[7.22,1.7,6.9]
[7.24,1.7,6.8]
[7.27,1.6,6.7]
[7.3,1.6,6.6]
[7.33,1.5,6.5]
[7.36,1.5,6.4]
[7.38,1.4,6.3]
[7.4,1.3,6.2]
[7.43,1.2,6.1]
[7.46,1.2,6]
[7.49,1.1000000000000001,5.9]
[7.52,1.1000000000000001,5.8]
[7.54,1,5.7]
[7.56,0.9,5.6]
[7.59,0.8,5.5]
[8.02,0.8,5.4]
[8.0500000000000007,0.7,5.3]
[8.08,0.6,5.2]
[8.11,0.5,5.0999999999999996]
[8.1300000000000008,0.4,5]
[8.15,0.3,4.9000000000000004]
[8.18,0.2,4.8]
[8.2100000000000009,0.1,4.7]
[8.24,0,4.5999999999999996]
[8.27,0,4.5]
[8.3000000000000007,0,4.4000000000000004]
[8.33,0,4.3]
[8.3699999999999992,0,4.2]
[8.4,0,4.0999999999999996]
[8.43,0,4]
[8.4600000000000009,0,3.9]
[8.49,0,3.8]
[8.52,0,3.7]
[8.5500000000000007,0,3.6]
[8.59,0,3.5]
[9.0299999999999994,0,3.4]
[9.06,0,3.3]
[9.09,0,3.2]
[9.1199999999999992,0,3.1]
[9.16,0,3]
[9.1999999999999993,0,2.9]
[9.24,0,2.8]
[9.27,0,2.7]
[9.3000000000000007,0,2.6]
[9.34,0,2.5]
[9.3800000000000008,0,2.4]
[9.42,0,2.2999999999999998]
[9.4600000000000009,0,2.2000000000000002]
[9.5,0,2.1]
[9.5500000000000007,0,2]
[10,0,1.9]
[10.050000000000001,0,1.8]
[10.1,0,1.7]
[10.14,0,1.6]
[10.17,0,1.5]
[10.199999999999999,0,1.4]
[10.25,0,1.3]
[10.3,0,1.2]
[10.35,0,1.1000000000000001]
[10.4,0,1]
[10.43,0,0.9]
[10.47,0,0.8]
[10.5,0,0.7]
[10.55,0,0.6]
[11,0,0.5]
[11.05,0,0.4]
[11.1,0,0.3]
[11.15,0,0.2]
[11.2,0,0.1]
[11.25,0,0]

{"sheet":"Présentation des profils","index":3,"n_rows":0,"n_cols":0,"rows_kept":0,"cut":false,"hidden":false,"merged":[]}