{"text_format":"1","workbook":"xlsx","n_sheets":4,"sheets":["Accueil","Evaluation","Barèmes & Options","Présentation des profils"],"not_rendered":{"charts":0,"images":1,"macros":1,"external_links":0,"defined_names":395,"comments":1,"pivot_tables":0},"unopened":[],"bounds":{"document_bytes":16777216,"sheet_cells":100000,"rows_first":2000,"rows_last":500,"rows_between":2000,"halvings":0,"cell_chars":16384,"cell_head_chars":4096},"cells_cut":0,"cells_raw":0,"read":"whole","date_system":"1900"}

{"sheet":"Accueil","index":0,"n_rows":0,"n_cols":0,"rows_kept":0,"cut":false,"hidden":false,"merged":[]}

{"sheet":"Evaluation","index":1,"n_rows":101,"n_cols":37,"rows_kept":101,"cut":false,"hidden":false,"merged":[[0,0,0,28]]}
["Course de demi-fond CAP-BEP  N3 - 2018"]
[]
["Nom","Prénom","Sexe F ou M","Classe","Profil choisi","500-1","500-1","Profil si régulation","profil choisi","500-2","500-2","500-2","500-3","Temps Total","c2-c1","c3-c2","c3-c1","respect c1-c2=","respect c1-c2+","respect c1-c2-","respect C2-C3=","respect C2-C3+","respect C2-C3-","Respect Profile 9","points respect","points profil","Points perf","Points echauffement","Note",null,null,null,null,null,"Sexe"]
[null,null,null,null,null,null,{"$f":"IF(F4<>\"\",INT(F4/100)+((F4/100-INT(F4/100))),\"\")","v":""},null,{"$f":"IF(AND(E4=\"\",H4=\"\"),\"\",IF(H4=\"\",E4,H4))","v":""},null,{"$f":"IF(J4<>\"\",INT(J4/100)+((J4/100-INT(J4/100))),\"\")","v":""},null,{"$f":"IF(L4<>\"\",INT(L4/100)+((L4/100-INT(L4/100))),\"\")","v":""},{"$f":"IF(AND(M4<>\"\",K4<>\"\",G4<>\"\"),(INT(((INT($G4)*60)+(($G4-INT($G4))*100)+(INT($K4)*60)+(($K4-INT($K4))*100)+(INT($M4)*60)+(($M4-INT($M4))*100))/60)+MOD(((INT($G4)*60)+(($G4-INT($G4))*100)+(INT($K4)*60)+(($K4-INT($K4))*100)+(INT($M4)*60)+(($M4-INT($M4))*100)),60)/100)*100,\"\")","v":""},{"$f":"ROUND((INT(K4)*60)+((K4-INT(K4))*100)-((INT(G4)*60)+((G4-INT(G4))*100)),0)","v":{"$error":"#VALUE!"}},{"$f":"ROUND((INT(M4)*60)+((M4-INT(M4))*100)-((INT(K4)*60)+((K4-INT(K4))*100)),0)","v":{"$error":"#VALUE!"}},{"$f":"ROUND((INT(M4)*60)+((M4-INT(M4))*100)-((INT(G4)*60)+((G4-INT(G4))*100)),0)","v":{"$error":"#VALUE!"}},{"$f":"IF(AND(K4<>\"\",G4<>\"\"),IF(OR(I4=1,I4=3,I4=4),IF(ABS(O4)<=3.5,1,0)),\"\")","v":""},{"$f":"IF(AND(K4<>\"\",G4<>\"\"),IF(OR(I4=5,I4=7),IF(O4>0,1,0)),\"\")","v":""},{"$f":"IF(AND(K4<>\"\",G4<>\"\"),IF(OR(I4=2,I4=6,I4=8),IF(O4<0,1,0)),\"\")","v":""},{"$f":"IF(AND(K4<>\"\",M4<>\"\"),IF(OR(I4=1,I4=5,I4=6),IF(ABS(P4)<=3.5,1,0)),\"\")","v":""},{"$f":"IF(AND(K4<>\"\",M4<>\"\"),IF(OR(I4=4,I4=8),IF(P4>0,1,0)),\"\")","v":""},{"$f":"IF(AND(K4<>\"\",M4<>\"\"),IF(OR(I4=2,I4=3,I4=7),IF(P4<0,1,0)),\"\")","v":""},{"$f":"IF(SUM(R4:W4)=2,IF(I4=2,IF(I4=2,IF(Q4-'Barèmes & Options'!H$2<-1,0,1)),\"\"),0)","v":0},{"$f":"IF(OR(I4=2,I4=9),SUM(R4:W4)-X4,SUM(R4:W4))","v":0},{"$f":"IF(I4<>\"\",IF(AND(I4>=1,I4<=8,I4=ABS(I4)),IF(AND(I4<=9,I4>=1),IF(AND(Y4=1,H4<>\"\"),1,IF(AND(Y4=1,H4=\"\"),2,IF(AND(Y4=2,H4<>\"\"),2.5,IF(AND(Y4=2,H4=\"\"),3,0)))),\"\"),\"Err. Profil\"),\"\")","v":""},{"$f":"IF(AND(M4<>\"\",K4<>\"\",G4<>\"\"),IF($C4=\"\",\"\",IF($C4=\"F\",VLOOKUP(ROUND($N4,0)/100,BARF,2),VLOOKUP(ROUND($N4,0)/100,BARG,2))),\"\")","v":""},null,{"$f":"IF(OR(AB4=\"\",AA4=\"\",Z4=\"\"),\"\",IF(OR(AB4<0,AB4>3),\"Err ech.\",SUM(AB4,AA4,Z4)))","v":""},null,"Moyenne F. :",{"$f":"IF(ISERROR(AJ4),\"\",AJ4)","v":""},null,null,{"$f":"IF(C4<>\"f\",\"m\",\"f\")","v":"m"},{"$f":"AVERAGEIF(AI4:AI101,\"f\",AC4:AC101)","v":{"$error":"#DIV/0!"}},"filles"]
[null,null,null,null,null,null,{"$f":"IF(F5<>\"\",INT(F5/100)+((F5/100-INT(F5/100))),\"\")","v":""},null,{"$f":"IF(AND(E5=\"\",H5=\"\"),\"\",IF(H5=\"\",E5,H5))","v":""},null,{"$f":"IF(J5<>\"\",INT(J5/100)+((J5/100-INT(J5/100))),\"\")","v":""},null,{"$f":"IF(L5<>\"\",INT(L5/100)+((L5/100-INT(L5/100))),\"\")","v":""},{"$f":"IF(AND(M5<>\"\",K5<>\"\",G5<>\"\"),(INT(((INT($G5)*60)+(($G5-INT($G5))*100)+(INT($K5)*60)+(($K5-INT($K5))*100)+(INT($M5)*60)+(($M5-INT($M5))*100))/60)+MOD(((INT($G5)*60)+(($G5-INT($G5))*100)+(INT($K5)*60)+(($K5-INT($K5))*100)+(INT($M5)*60)+(($M5-INT($M5))*100)),60)/100)*100,\"\")","v":""},{"$f":"ROUND((INT(K5)*60)+((K5-INT(K5))*100)-((INT(G5)*60)+((G5-INT(G5))*100)),0)","v":{"$error":"#VALUE!"}},{"$f":"ROUND((INT(M5)*60)+((M5-INT(M5))*100)-((INT(K5)*60)+((K5-INT(K5))*100)),0)","v":{"$error":"#VALUE!"}},{"$f":"ROUND((INT(M5)*60)+((M5-INT(M5))*100)-((INT(G5)*60)+((G5-INT(G5))*100)),0)","v":{"$error":"#VALUE!"}},{"$f":"IF(AND(K5<>\"\",G5<>\"\"),IF(OR(I5=1,I5=3,I5=4),IF(ABS(O5)<=3.5,1,0)),\"\")","v":""},{"$f":"IF(AND(K5<>\"\",G5<>\"\"),IF(OR(I5=5,I5=7),IF(O5>0,1,0)),\"\")","v":""},{"$f":"IF(AND(K5<>\"\",G5<>\"\"),IF(OR(I5=2,I5=6,I5=8),IF(O5<0,1,0)),\"\")","v":""},{"$f":"IF(AND(K5<>\"\",M5<>\"\"),IF(OR(I5=1,I5=5,I5=6),IF(ABS(P5)<=3.5,1,0)),\"\")","v":""},{"$f":"IF(AND(K5<>\"\",M5<>\"\"),IF(OR(I5=4,I5=8),IF(P5>0,1,0)),\"\")","v":""},{"$f":"IF(AND(K5<>\"\",M5<>\"\"),IF(OR(I5=2,I5=3,I5=7),IF(P5<0,1,0)),\"\")","v":""},{"$f":"IF(SUM(R5:W5)=2,IF(I5=2,IF(I5=2,IF(Q5-'Barèmes & Options'!H$2<-1,0,1)),\"\"),0)","v":0},{"$f":"IF(OR(I5=2,I5=9),SUM(R5:W5)-X5,SUM(R5:W5))","v":0},{"$f":"IF(I5<>\"\",IF(AND(I5>=1,I5<=8,I5=ABS(I5)),IF(AND(I5<=9,I5>=1),IF(AND(Y5=1,H5<>\"\"),1,IF(AND(Y5=1,H5=\"\"),2,IF(AND(Y5=2,H5<>\"\"),2.5,IF(AND(Y5=2,H5=\"\"),3,0)))),\"\"),\"Err. Profil\"),\"\")","v":""},{"$f":"IF(AND(M5<>\"\",K5<>\"\",G5<>\"\"),IF($C5=\"\",\"\",IF($C5=\"F\",VLOOKUP(ROUND($N5,0)/100,BARF,2),VLOOKUP(ROUND($N5,0)/100,BARG,2))),\"\")","v":""},null,{"$f":"IF(OR(AB5=\"\",AA5=\"\",Z5=\"\"),\"\",IF(OR(AB5<0,AB5>3),\"Err ech.\",SUM(AB5,AA5,Z5)))","v":""},null,"moyenne G. :",{"$f":"IF(ISERROR(AJ5),\"\",AJ5)","v":""},null,null,"m",{"$f":"AVERAGEIF(AI4:AI101,\"m\",AC4:AC101)","v":{"$error":"#DIV/0!"}},"garçons"]
[null,null,null,null,null,null,"",null,"",null,"",null,"","",{"$error":"#VALUE!"},{"$error":"#VALUE!"},{"$error":"#VALUE!"},"","","","","","",{"$f":"IF(SUM(R6:W6)=2,IF(I6=2,IF(I6=2,IF(Q6-'Barèmes & Options'!H$2<-1,0,1)),\"\"),0)","v":0},0,"",{"$f":"IF(AND(M6<>\"\",K6<>\"\",G6<>\"\"),IF($C6=\"\",\"\",IF($C6=\"F\",VLOOKUP(ROUND($N6,0)/100,BARF,2),VLOOKUP(ROUND($N6,0)/100,BARG,2))),\"\")","v":""},null,"",null,"Moyenne :",{"$f":"IF(ISERROR(AJ6),\"\",AJ6)","v":""},null,null,"m",{"$f":"AVERAGE(AC4:AC101)","v":{"$error":"#DIV/0!"}},"géné"]
[null,null,null,null,null,null,"",null,"",null,"",null,"","",{"$error":"#VALUE!"},{"$error":"#VALUE!"},{"$error":"#VALUE!"},"","","","","","",{"$f":"IF(SUM(R7:W7)=2,IF(I7=2,IF(I7=2,IF(Q7-'Barèmes & Options'!H$2<-1,0,1)),\"\"),0)","v":0},0,"",{"$f":"IF(AND(M7<>\"\",K7<>\"\",G7<>\"\"),IF($C7=\"\",\"\",IF($C7=\"F\",VLOOKUP(ROUND($N7,0)/100,BARF,2),VLOOKUP(ROUND($N7,0)/100,BARG,2))),\"\")","v":""},null,"",null,"Note max :",{"$f":"IF(COUNT(AC4:AC101)>0,MAX(AC4:AC101),\"\")","v":""},null,null,"m"]
[null,null,null,null,null,null,"",null,"",null,"",null,"","",{"$error":"#VALUE!"},{"$error":"#VALUE!"},{"$error":"#VALUE!"},"","","","","","",{"$f":"IF(SUM(R8:W8)=2,IF(I8=2,IF(I8=2,IF(Q8-'Barèmes & Options'!H$2<-1,0,1)),\"\"),0)","v":0},0,"",{"$f":"IF(AND(M8<>\"\",K8<>\"\",G8<>\"\"),IF($C8=\"\",\"\",IF($C8=\"F\",VLOOKUP(ROUND($N8,0)/100,BARF,2),VLOOKUP(ROUND($N8,0)/100,BARG,2))),\"\")","v":""},null,"",null,"Note min :",{"$f":"IF(COUNT(AC4:AC101)>0,MIN(AC4:AC101),\"\")","v":""},null,null,"m"]
[null,null,null,null,null,null,"",null,"",null,"",null,"","",{"$error":"#VALUE!"},{"$error":"#VALUE!"},{"$error":"#VALUE!"},"","","","","","",{"$f":"IF(SUM(R9:W9)=2,IF(I9=2,IF(I9=2,IF(Q9-'Barèmes & Options'!H$2<-1,0,1)),\"\"),0)","v":0},0,"",{"$f":"IF(AND(M9<>\"\",K9<>\"\",G9<>\"\"),IF($C9=\"\",\"\",IF($C9=\"F\",VLOOKUP(ROUND($N9,0)/100,BARF,2),VLOOKUP(ROUND($N9,0)/100,BARG,2))),\"\")","v":""},null,"",null,null,null,null,null,"m"]
[null,null,null,null,null,null,"",null,"",null,"",null,"","",{"$error":"#VALUE!"},{"$error":"#VALUE!"},{"$error":"#VALUE!"},"","","","","","",{"$f":"IF(SUM(R10:W10)=2,IF(I10=2,IF(I10=2,IF(Q10-'Barèmes & Options'!H$2<-1,0,1)),\"\"),0)","v":0},0,"",{"$f":"IF(AND(M10<>\"\",K10<>\"\",G10<>\"\"),IF($C10=\"\",\"\",IF($C10=\"F\",VLOOKUP(ROUND($N10,0)/100,BARF,2),VLOOKUP(ROUND($N10,0)/100,BARG,2))),\"\")","v":""},null,"",null,"Date :",null,null,null,"m"]
[null,null,null,null,null,null,"",null,"",null,"",null,"","",{"$error":"#VALUE!"},{"$error":"#VALUE!"},{"$error":"#VALUE!"},"","","","","","",{"$f":"IF(SUM(R11:W11)=2,IF(I11=2,IF(I11=2,IF(Q11-'Barèmes & Options'!H$2<-1,0,1)),\"\"),0)","v":0},0,"",{"$f":"IF(AND(M11<>\"\",K11<>\"\",G11<>\"\"),IF($C11=\"\",\"\",IF($C11=\"F\",VLOOKUP(ROUND($N11,0)/100,BARF,2),VLOOKUP(ROUND($N11,0)/100,BARG,2))),\"\")","v":""},null,"",null,null,null,null,null,"m"]
[null,null,null,null,null,null,"",null,"",null,"",null,"","",{"$error":"#VALUE!"},{"$error":"#VALUE!"},{"$error":"#VALUE!"},"","","","","","",{"$f":"IF(SUM(R12:W12)=2,IF(I12=2,IF(I12=2,IF(Q12-'Barèmes & Options'!H$2<-1,0,1)),\"\"),0)","v":0},0,"",{"$f":"IF(AND(M12<>\"\",K12<>\"\",G12<>\"\"),IF($C12=\"\",\"\",IF($C12=\"F\",VLOOKUP(ROUND($N12,0)/100,BARF,2),VLOOKUP(ROUND($N12,0)/100,BARG,2))),\"\")","v":""},null,"",null,null,null,null,null,"m"]
[null,null,null,null,null,null,"",null,"",null,"",null,"","",{"$error":"#VALUE!"},{"$error":"#VALUE!"},{"$error":"#VALUE!"},"","","","","","",{"$f":"IF(SUM(R13:W13)=2,IF(I13=2,IF(I13=2,IF(Q13-'Barèmes & Options'!H$2<-1,0,1)),\"\"),0)","v":0},0,"",{"$f":"IF(AND(M13<>\"\",K13<>\"\",G13<>\"\"),IF($C13=\"\",\"\",IF($C13=\"F\",VLOOKUP(ROUND($N13,0)/100,BARF,2),VLOOKUP(ROUND($N13,0)/100,BARG,2))),\"\")","v":""},null,"",null,null,null,null,null,"m"]
[null,null,null,null,null,null,"",null,"",null,"",null,"","",{"$error":"#VALUE!"},{"$error":"#VALUE!"},{"$error":"#VALUE!"},"","","","","","",{"$f":"IF(SUM(R14:W14)=2,IF(I14=2,IF(I14=2,IF(Q14-'Barèmes & Options'!H$2<-1,0,1)),\"\"),0)","v":0},0,"",{"$f":"IF(AND(M14<>\"\",K14<>\"\",G14<>\"\"),IF($C14=\"\",\"\",IF($C14=\"F\",VLOOKUP(ROUND($N14,0)/100,BARF,2),VLOOKUP(ROUND($N14,0)/100,BARG,2))),\"\")","v":""},null,"",null,null,null,null,null,"m"]
[null,null,null,null,null,null,"",null,"",null,"",null,"","",{"$error":"#VALUE!"},{"$error":"#VALUE!"},{"$error":"#VALUE!"},"","","","","","",{"$f":"IF(SUM(R15:W15)=2,IF(I15=2,IF(I15=2,IF(Q15-'Barèmes & Options'!H$2<-1,0,1)),\"\"),0)","v":0},0,"",{"$f":"IF(AND(M15<>\"\",K15<>\"\",G15<>\"\"),IF($C15=\"\",\"\",IF($C15=\"F\",VLOOKUP(ROUND($N15,0)/100,BARF,2),VLOOKUP(ROUND($N15,0)/100,BARG,2))),\"\")","v":""},null,"",null,null,null,null,null,"m"]
[null,null,null,null,null,null,"",null,"",null,"",null,"","",{"$error":"#VALUE!"},{"$error":"#VALUE!"},{"$error":"#VALUE!"},"","","","","","",{"$f":"IF(SUM(R16:W16)=2,IF(I16=2,IF(I16=2,IF(Q16-'Barèmes & Options'!H$2<-1,0,1)),\"\"),0)","v":0},0,"",{"$f":"IF(AND(M16<>\"\",K16<>\"\",G16<>\"\"),IF($C16=\"\",\"\",IF($C16=\"F\",VLOOKUP(ROUND($N16,0)/100,BARF,2),VLOOKUP(ROUND($N16,0)/100,BARG,2))),\"\")","v":""},null,"",null,null,null,null,null,"m"]
[null,null,null,null,null,null,"",null,"",null,"",null,"","",{"$error":"#VALUE!"},{"$error":"#VALUE!"},{"$error":"#VALUE!"},"","","","","","",{"$f":"IF(SUM(R17:W17)=2,IF(I17=2,IF(I17=2,IF(Q17-'Barèmes & Options'!H$2<-1,0,1)),\"\"),0)","v":0},0,"",{"$f":"IF(AND(M17<>\"\",K17<>\"\",G17<>\"\"),IF($C17=\"\",\"\",IF($C17=\"F\",VLOOKUP(ROUND($N17,0)/100,BARF,2),VLOOKUP(ROUND($N17,0)/100,BARG,2))),\"\")","v":""},null,"",null,null,null,null,null,"m"]
[null,null,null,null,null,null,"",null,"",null,"",null,"","",{"$error":"#VALUE!"},{"$error":"#VALUE!"},{"$error":"#VALUE!"},"","","","","","",{"$f":"IF(SUM(R18:W18)=2,IF(I18=2,IF(I18=2,IF(Q18-'Barèmes & Options'!H$2<-1,0,1)),\"\"),0)","v":0},0,"",{"$f":"IF(AND(M18<>\"\",K18<>\"\",G18<>\"\"),IF($C18=\"\",\"\",IF($C18=\"F\",VLOOKUP(ROUND($N18,0)/100,BARF,2),VLOOKUP(ROUND($N18,0)/100,BARG,2))),\"\")","v":""},null,"",null,null,null,null,null,"m"]
[null,null,null,null,null,null,"",null,"",null,"",null,"","",{"$error":"#VALUE!"},{"$error":"#VALUE!"},{"$error":"#VALUE!"},"","","","","","",{"$f":"IF(SUM(R19:W19)=2,IF(I19=2,IF(I19=2,IF(Q19-'Barèmes & Options'!H$2<-1,0,1)),\"\"),0)","v":0},0,"",{"$f":"IF(AND(M19<>\"\",K19<>\"\",G19<>\"\"),IF($C19=\"\",\"\",IF($C19=\"F\",VLOOKUP(ROUND($N19,0)/100,BARF,2),VLOOKUP(ROUND($N19,0)/100,BARG,2))),\"\")","v":""},null,"",null,null,null,null,null,"m"]
[null,null,null,null,null,null,"",null,"",null,"",null,"","",{"$error":"#VALUE!"},{"$error":"#VALUE!"},{"$error":"#VALUE!"},"","","","","","",{"$f":"IF(SUM(R20:W20)=2,IF(I20=2,IF(I20=2,IF(Q20-'Barèmes & Options'!H$2<-1,0,1)),\"\"),0)","v":0},0,"",{"$f":"IF(AND(M20<>\"\",K20<>\"\",G20<>\"\"),IF($C20=\"\",\"\",IF($C20=\"F\",VLOOKUP(ROUND($N20,0)/100,BARF,2),VLOOKUP(ROUND($N20,0)/100,BARG,2))),\"\")","v":""},null,"",null,null,null,null,null,"m"]
[null,null,null,null,null,null,"",null,"",null,"",null,"","",{"$error":"#VALUE!"},{"$error":"#VALUE!"},{"$error":"#VALUE!"},"","","","","","",{"$f":"IF(SUM(R21:W21)=2,IF(I21=2,IF(I21=2,IF(Q21-'Barèmes & Options'!H$2<-1,0,1)),\"\"),0)","v":0},0,"",{"$f":"IF(AND(M21<>\"\",K21<>\"\",G21<>\"\"),IF($C21=\"\",\"\",IF($C21=\"F\",VLOOKUP(ROUND($N21,0)/100,BARF,2),VLOOKUP(ROUND($N21,0)/100,BARG,2))),\"\")","v":""},null,"",null,null,null,null,null,"m"]
[null,null,null,null,null,null,"",null,"",null,"",null,"","",{"$error":"#VALUE!"},{"$error":"#VALUE!"},{"$error":"#VALUE!"},"","","","","","",{"$f":"IF(SUM(R22:W22)=2,IF(I22=2,IF(I22=2,IF(Q22-'Barèmes & Options'!H$2<-1,0,1)),\"\"),0)","v":0},0,"",{"$f":"IF(AND(M22<>\"\",K22<>\"\",G22<>\"\"),IF($C22=\"\",\"\",IF($C22=\"F\",VLOOKUP(ROUND($N22,0)/100,BARF,2),VLOOKUP(ROUND($N22,0)/100,BARG,2))),\"\")","v":""},null,"",null,null,null,null,null,"m"]
[null,null,null,null,null,null,"",null,"",null,"",null,"","",{"$error":"#VALUE!"},{"$error":"#VALUE!"},{"$error":"#VALUE!"},"","","","","","",{"$f":"IF(SUM(R23:W23)=2,IF(I23=2,IF(I23=2,IF(Q23-'Barèmes & Options'!H$2<-1,0,1)),\"\"),0)","v":0},0,"",{"$f":"IF(AND(M23<>\"\",K23<>\"\",G23<>\"\"),IF($C23=\"\",\"\",IF($C23=\"F\",VLOOKUP(ROUND($N23,0)/100,BARF,2),VLOOKUP(ROUND($N23,0)/100,BARG,2))),\"\")","v":""},null,"",null,null,null,null,null,"m"]
[null,null,null,null,null,null,"",null,"",null,"",null,"","",{"$error":"#VALUE!"},{"$error":"#VALUE!"},{"$error":"#VALUE!"},"","","","","","",{"$f":"IF(SUM(R24:W24)=2,IF(I24=2,IF(I24=2,IF(Q24-'Barèmes & Options'!H$2<-1,0,1)),\"\"),0)","v":0},0,"",{"$f":"IF(AND(M24<>\"\",K24<>\"\",G24<>\"\"),IF($C24=\"\",\"\",IF($C24=\"F\",VLOOKUP(ROUND($N24,0)/100,BARF,2),VLOOKUP(ROUND($N24,0)/100,BARG,2))),\"\")","v":""},null,"",null,null,null,null,null,"m"]
[null,null,null,null,null,null,"",null,"",null,"",null,"","",{"$error":"#VALUE!"},{"$error":"#VALUE!"},{"$error":"#VALUE!"},"","","","","","",{"$f":"IF(SUM(R25:W25)=2,IF(I25=2,IF(I25=2,IF(Q25-'Barèmes & Options'!H$2<-1,0,1)),\"\"),0)","v":0},0,"",{"$f":"IF(AND(M25<>\"\",K25<>\"\",G25<>\"\"),IF($C25=\"\",\"\",IF($C25=\"F\",VLOOKUP(ROUND($N25,0)/100,BARF,2),VLOOKUP(ROUND($N25,0)/100,BARG,2))),\"\")","v":""},null,"",null,null,null,null,null,"m"]
[null,null,null,null,null,null,"",null,"",null,"",null,"","",{"$error":"#VALUE!"},{"$error":"#VALUE!"},{"$error":"#VALUE!"},"","","","","","",{"$f":"IF(SUM(R26:W26)=2,IF(I26=2,IF(I26=2,IF(Q26-'Barèmes & Options'!H$2<-1,0,1)),\"\"),0)","v":0},0,"",{"$f":"IF(AND(M26<>\"\",K26<>\"\",G26<>\"\"),IF($C26=\"\",\"\",IF($C26=\"F\",VLOOKUP(ROUND($N26,0)/100,BARF,2),VLOOKUP(ROUND($N26,0)/100,BARG,2))),\"\")","v":""},null,"",null,null,null,null,null,"m"]
[null,null,null,null,null,null,"",null,"",null,"",null,"","",{"$error":"#VALUE!"},{"$error":"#VALUE!"},{"$error":"#VALUE!"},"","","","","","",{"$f":"IF(SUM(R27:W27)=2,IF(I27=2,IF(I27=2,IF(Q27-'Barèmes & Options'!H$2<-1,0,1)),\"\"),0)","v":0},0,"",{"$f":"IF(AND(M27<>\"\",K27<>\"\",G27<>\"\"),IF($C27=\"\",\"\",IF($C27=\"F\",VLOOKUP(ROUND($N27,0)/100,BARF,2),VLOOKUP(ROUND($N27,0)/100,BARG,2))),\"\")","v":""},null,"",null,null,null,null,null,"m"]
[null,null,null,null,null,null,"",null,"",null,"",null,"","",{"$error":"#VALUE!"},{"$error":"#VALUE!"},{"$error":"#VALUE!"},"","","","","","",{"$f":"IF(SUM(R28:W28)=2,IF(I28=2,IF(I28=2,IF(Q28-'Barèmes & Options'!H$2<-1,0,1)),\"\"),0)","v":0},0,"",{"$f":"IF(AND(M28<>\"\",K28<>\"\",G28<>\"\"),IF($C28=\"\",\"\",IF($C28=\"F\",VLOOKUP(ROUND($N28,0)/100,BARF,2),VLOOKUP(ROUND($N28,0)/100,BARG,2))),\"\")","v":""},null,"",null,null,null,null,null,"m"]
[null,null,null,null,null,null,"",null,"",null,"",null,"","",{"$error":"#VALUE!"},{"$error":"#VALUE!"},{"$error":"#VALUE!"},"","","","","","",{"$f":"IF(SUM(R29:W29)=2,IF(I29=2,IF(I29=2,IF(Q29-'Barèmes & Options'!H$2<-1,0,1)),\"\"),0)","v":0},0,"",{"$f":"IF(AND(M29<>\"\",K29<>\"\",G29<>\"\"),IF($C29=\"\",\"\",IF($C29=\"F\",VLOOKUP(ROUND($N29,0)/100,BARF,2),VLOOKUP(ROUND($N29,0)/100,BARG,2))),\"\")","v":""},null,"",null,null,null,null,null,"m"]
[null,null,null,null,null,null,"",null,"",null,"",null,"","",{"$error":"#VALUE!"},{"$error":"#VALUE!"},{"$error":"#VALUE!"},"","","","","","",{"$f":"IF(SUM(R30:W30)=2,IF(I30=2,IF(I30=2,IF(Q30-'Barèmes & Options'!H$2<-1,0,1)),\"\"),0)","v":0},0,"",{"$f":"IF(AND(M30<>\"\",K30<>\"\",G30<>\"\"),IF($C30=\"\",\"\",IF($C30=\"F\",VLOOKUP(ROUND($N30,0)/100,BARF,2),VLOOKUP(ROUND($N30,0)/100,BARG,2))),\"\")","v":""},null,"",null,null,null,null,null,"m"]
[null,null,null,null,null,null,"",null,"",null,"",null,"","",{"$error":"#VALUE!"},{"$error":"#VALUE!"},{"$error":"#VALUE!"},"","","","","","",{"$f":"IF(SUM(R31:W31)=2,IF(I31=2,IF(I31=2,IF(Q31-'Barèmes & Options'!H$2<-1,0,1)),\"\"),0)","v":0},0,"",{"$f":"IF(AND(M31<>\"\",K31<>\"\",G31<>\"\"),IF($C31=\"\",\"\",IF($C31=\"F\",VLOOKUP(ROUND($N31,0)/100,BARF,2),VLOOKUP(ROUND($N31,0)/100,BARG,2))),\"\")","v":""},null,"",null,null,null,null,null,"m"]
[null,null,null,null,null,null,"",null,"",null,"",null,"","",{"$error":"#VALUE!"},{"$error":"#VALUE!"},{"$error":"#VALUE!"},"","","","","","",{"$f":"IF(SUM(R32:W32)=2,IF(I32=2,IF(I32=2,IF(Q32-'Barèmes & Options'!H$2<-1,0,1)),\"\"),0)","v":0},0,"",{"$f":"IF(AND(M32<>\"\",K32<>\"\",G32<>\"\"),IF($C32=\"\",\"\",IF($C32=\"F\",VLOOKUP(ROUND($N32,0)/100,BARF,2),VLOOKUP(ROUND($N32,0)/100,BARG,2))),\"\")","v":""},null,"",null,null,null,null,null,"m"]
[null,null,null,null,null,null,"",null,"",null,"",null,"","",{"$error":"#VALUE!"},{"$error":"#VALUE!"},{"$error":"#VALUE!"},"","","","","","",{"$f":"IF(SUM(R33:W33)=2,IF(I33=2,IF(I33=2,IF(Q33-'Barèmes & Options'!H$2<-1,0,1)),\"\"),0)","v":0},0,"",{"$f":"IF(AND(M33<>\"\",K33<>\"\",G33<>\"\"),IF($C33=\"\",\"\",IF($C33=\"F\",VLOOKUP(ROUND($N33,0)/100,BARF,2),VLOOKUP(ROUND($N33,0)/100,BARG,2))),\"\")","v":""},null,"",null,null,null,null,null,"m"]
[null,null,null,null,null,null,"",null,"",null,"",null,"","",{"$error":"#VALUE!"},{"$error":"#VALUE!"},{"$error":"#VALUE!"},"","","","","","",{"$f":"IF(SUM(R34:W34)=2,IF(I34=2,IF(I34=2,IF(Q34-'Barèmes & Options'!H$2<-1,0,1)),\"\"),0)","v":0},0,"",{"$f":"IF(AND(M34<>\"\",K34<>\"\",G34<>\"\"),IF($C34=\"\",\"\",IF($C34=\"F\",VLOOKUP(ROUND($N34,0)/100,BARF,2),VLOOKUP(ROUND($N34,0)/100,BARG,2))),\"\")","v":""},null,"",null,null,null,null,null,"m"]
[null,null,null,null,null,null,"",null,"",null,"",null,"","",{"$error":"#VALUE!"},{"$error":"#VALUE!"},{"$error":"#VALUE!"},"","","","","","",{"$f":"IF(SUM(R35:W35)=2,IF(I35=2,IF(I35=2,IF(Q35-'Barèmes & Options'!H$2<-1,0,1)),\"\"),0)","v":0},0,"",{"$f":"IF(AND(M35<>\"\",K35<>\"\",G35<>\"\"),IF($C35=\"\",\"\",IF($C35=\"F\",VLOOKUP(ROUND($N35,0)/100,BARF,2),VLOOKUP(ROUND($N35,0)/100,BARG,2))),\"\")","v":""},null,"",null,null,null,null,null,"m"]
[null,null,null,null,null,null,"",null,"",null,"",null,"","",{"$error":"#VALUE!"},{"$error":"#VALUE!"},{"$error":"#VALUE!"},"","","","","","",{"$f":"IF(SUM(R36:W36)=2,IF(I36=2,IF(I36=2,IF(Q36-'Barèmes & Options'!H$2<-1,0,1)),\"\"),0)","v":0},0,"",{"$f":"IF(AND(M36<>\"\",K36<>\"\",G36<>\"\"),IF($C36=\"\",\"\",IF($C36=\"F\",VLOOKUP(ROUND($N36,0)/100,BARF,2),VLOOKUP(ROUND($N36,0)/100,BARG,2))),\"\")","v":""},null,"",null,null,null,null,null,{"$f":"IF(C36<>\"f\",\"m\",\"f\")","v":"m"}]
[null,null,null,null,null,null,"",null,"",null,"",null,"","",{"$error":"#VALUE!"},{"$error":"#VALUE!"},{"$error":"#VALUE!"},"","","","","","",{"$f":"IF(SUM(R37:W37)=2,IF(I37=2,IF(I37=2,IF(Q37-'Barèmes & Options'!H$2<-1,0,1)),\"\"),0)","v":0},0,"",{"$f":"IF(AND(M37<>\"\",K37<>\"\",G37<>\"\"),IF($C37=\"\",\"\",IF($C37=\"F\",VLOOKUP(ROUND($N37,0)/100,BARF,2),VLOOKUP(ROUND($N37,0)/100,BARG,2))),\"\")","v":""},null,"",null,null,null,null,null,"m"]
[null,null,null,null,null,null,"",null,"",null,"",null,"","",{"$error":"#VALUE!"},{"$error":"#VALUE!"},{"$error":"#VALUE!"},"","","","","","",{"$f":"IF(SUM(R38:W38)=2,IF(I38=2,IF(I38=2,IF(Q38-'Barèmes & Options'!H$2<-1,0,1)),\"\"),0)","v":0},0,"",{"$f":"IF(AND(M38<>\"\",K38<>\"\",G38<>\"\"),IF($C38=\"\",\"\",IF($C38=\"F\",VLOOKUP(ROUND($N38,0)/100,BARF,2),VLOOKUP(ROUND($N38,0)/100,BARG,2))),\"\")","v":""},null,"",null,null,null,null,null,"m"]
[null,null,null,null,null,null,"",null,"",null,"",null,"","",{"$error":"#VALUE!"},{"$error":"#VALUE!"},{"$error":"#VALUE!"},"","","","","","",{"$f":"IF(SUM(R39:W39)=2,IF(I39=2,IF(I39=2,IF(Q39-'Barèmes & Options'!H$2<-1,0,1)),\"\"),0)","v":0},0,"",{"$f":"IF(AND(M39<>\"\",K39<>\"\",G39<>\"\"),IF($C39=\"\",\"\",IF($C39=\"F\",VLOOKUP(ROUND($N39,0)/100,BARF,2),VLOOKUP(ROUND($N39,0)/100,BARG,2))),\"\")","v":""},null,"",null,null,null,null,null,"m"]
[null,null,null,null,null,null,"",null,"",null,"",null,"","",{"$error":"#VALUE!"},{"$error":"#VALUE!"},{"$error":"#VALUE!"},"","","","","","",{"$f":"IF(SUM(R40:W40)=2,IF(I40=2,IF(I40=2,IF(Q40-'Barèmes & Options'!H$2<-1,0,1)),\"\"),0)","v":0},0,"",{"$f":"IF(AND(M40<>\"\",K40<>\"\",G40<>\"\"),IF($C40=\"\",\"\",IF($C40=\"F\",VLOOKUP(ROUND($N40,0)/100,BARF,2),VLOOKUP(ROUND($N40,0)/100,BARG,2))),\"\")","v":""},null,"",null,null,null,null,null,"m"]
[null,null,null,null,null,null,"",null,"",null,"",null,"","",{"$error":"#VALUE!"},{"$error":"#VALUE!"},{"$error":"#VALUE!"},"","","","","","",{"$f":"IF(SUM(R41:W41)=2,IF(I41=2,IF(I41=2,IF(Q41-'Barèmes & Options'!H$2<-1,0,1)),\"\"),0)","v":0},0,"",{"$f":"IF(AND(M41<>\"\",K41<>\"\",G41<>\"\"),IF($C41=\"\",\"\",IF($C41=\"F\",VLOOKUP(ROUND($N41,0)/100,BARF,2),VLOOKUP(ROUND($N41,0)/100,BARG,2))),\"\")","v":""},null,"",null,null,null,null,null,"m"]
[null,null,null,null,null,null,"",null,"",null,"",null,"","",{"$error":"#VALUE!"},{"$error":"#VALUE!"},{"$error":"#VALUE!"},"","","","","","",{"$f":"IF(SUM(R42:W42)=2,IF(I42=2,IF(I42=2,IF(Q42-'Barèmes & Options'!H$2<-1,0,1)),\"\"),0)","v":0},0,"",{"$f":"IF(AND(M42<>\"\",K42<>\"\",G42<>\"\"),IF($C42=\"\",\"\",IF($C42=\"F\",VLOOKUP(ROUND($N42,0)/100,BARF,2),VLOOKUP(ROUND($N42,0)/100,BARG,2))),\"\")","v":""},null,"",null,null,null,null,null,"m"]
[null,null,null,null,null,null,"",null,"",null,"",null,"","",{"$error":"#VALUE!"},{"$error":"#VALUE!"},{"$error":"#VALUE!"},"","","","","","",{"$f":"IF(SUM(R43:W43)=2,IF(I43=2,IF(I43=2,IF(Q43-'Barèmes & Options'!H$2<-1,0,1)),\"\"),0)","v":0},0,"",{"$f":"IF(AND(M43<>\"\",K43<>\"\",G43<>\"\"),IF($C43=\"\",\"\",IF($C43=\"F\",VLOOKUP(ROUND($N43,0)/100,BARF,2),VLOOKUP(ROUND($N43,0)/100,BARG,2))),\"\")","v":""},null,"",null,null,null,null,null,"m"]
[null,null,null,null,null,null,"",null,"",null,"",null,"","",{"$error":"#VALUE!"},{"$error":"#VALUE!"},{"$error":"#VALUE!"},"","","","","","",{"$f":"IF(SUM(R44:W44)=2,IF(I44=2,IF(I44=2,IF(Q44-'Barèmes & Options'!H$2<-1,0,1)),\"\"),0)","v":0},0,"",{"$f":"IF(AND(M44<>\"\",K44<>\"\",G44<>\"\"),IF($C44=\"\",\"\",IF($C44=\"F\",VLOOKUP(ROUND($N44,0)/100,BARF,2),VLOOKUP(ROUND($N44,0)/100,BARG,2))),\"\")","v":""},null,"",null,null,null,null,null,"m"]
[null,null,null,null,null,null,"",null,"",null,"",null,"","",{"$error":"#VALUE!"},{"$error":"#VALUE!"},{"$error":"#VALUE!"},"","","","","","",{"$f":"IF(SUM(R45:W45)=2,IF(I45=2,IF(I45=2,IF(Q45-'Barèmes & Options'!H$2<-1,0,1)),\"\"),0)","v":0},0,"",{"$f":"IF(AND(M45<>\"\",K45<>\"\",G45<>\"\"),IF($C45=\"\",\"\",IF($C45=\"F\",VLOOKUP(ROUND($N45,0)/100,BARF,2),VLOOKUP(ROUND($N45,0)/100,BARG,2))),\"\")","v":""},null,"",null,null,null,null,null,"m"]
[null,null,null,null,null,null,"",null,"",null,"",null,"","",{"$error":"#VALUE!"},{"$error":"#VALUE!"},{"$error":"#VALUE!"},"","","","","","",{"$f":"IF(SUM(R46:W46)=2,IF(I46=2,IF(I46=2,IF(Q46-'Barèmes & Options'!H$2<-1,0,1)),\"\"),0)","v":0},0,"",{"$f":"IF(AND(M46<>\"\",K46<>\"\",G46<>\"\"),IF($C46=\"\",\"\",IF($C46=\"F\",VLOOKUP(ROUND($N46,0)/100,BARF,2),VLOOKUP(ROUND($N46,0)/100,BARG,2))),\"\")","v":""},null,"",null,null,null,null,null,"m"]
[null,null,null,null,null,null,"",null,"",null,"",null,"","",{"$error":"#VALUE!"},{"$error":"#VALUE!"},{"$error":"#VALUE!"},"","","","","","",{"$f":"IF(SUM(R47:W47)=2,IF(I47=2,IF(I47=2,IF(Q47-'Barèmes & Options'!H$2<-1,0,1)),\"\"),0)","v":0},0,"",{"$f":"IF(AND(M47<>\"\",K47<>\"\",G47<>\"\"),IF($C47=\"\",\"\",IF($C47=\"F\",VLOOKUP(ROUND($N47,0)/100,BARF,2),VLOOKUP(ROUND($N47,0)/100,BARG,2))),\"\")","v":""},null,"",null,null,null,null,null,"m"]
[null,null,null,null,null,null,"",null,"",null,"",null,"","",{"$error":"#VALUE!"},{"$error":"#VALUE!"},{"$error":"#VALUE!"},"","","","","","",{"$f":"IF(SUM(R48:W48)=2,IF(I48=2,IF(I48=2,IF(Q48-'Barèmes & Options'!H$2<-1,0,1)),\"\"),0)","v":0},0,"",{"$f":"IF(AND(M48<>\"\",K48<>\"\",G48<>\"\"),IF($C48=\"\",\"\",IF($C48=\"F\",VLOOKUP(ROUND($N48,0)/100,BARF,2),VLOOKUP(ROUND($N48,0)/100,BARG,2))),\"\")","v":""},null,"",null,null,null,null,null,"m"]
[null,null,null,null,null,null,"",null,"",null,"",null,"","",{"$error":"#VALUE!"},{"$error":"#VALUE!"},{"$error":"#VALUE!"},"","","","","","",{"$f":"IF(SUM(R49:W49)=2,IF(I49=2,IF(I49=2,IF(Q49-'Barèmes & Options'!H$2<-1,0,1)),\"\"),0)","v":0},0,"",{"$f":"IF(AND(M49<>\"\",K49<>\"\",G49<>\"\"),IF($C49=\"\",\"\",IF($C49=\"F\",VLOOKUP(ROUND($N49,0)/100,BARF,2),VLOOKUP(ROUND($N49,0)/100,BARG,2))),\"\")","v":""},null,"",null,null,null,null,null,"m"]
[null,null,null,null,null,null,"",null,"",null,"",null,"","",{"$error":"#VALUE!"},{"$error":"#VALUE!"},{"$error":"#VALUE!"},"","","","","","",{"$f":"IF(SUM(R50:W50)=2,IF(I50=2,IF(I50=2,IF(Q50-'Barèmes & Options'!H$2<-1,0,1)),\"\"),0)","v":0},0,"",{"$f":"IF(AND(M50<>\"\",K50<>\"\",G50<>\"\"),IF($C50=\"\",\"\",IF($C50=\"F\",VLOOKUP(ROUND($N50,0)/100,BARF,2),VLOOKUP(ROUND($N50,0)/100,BARG,2))),\"\")","v":""},null,"",null,null,null,null,null,"m"]
[null,null,null,null,null,null,"",null,"",null,"",null,"","",{"$error":"#VALUE!"},{"$error":"#VALUE!"},{"$error":"#VALUE!"},"","","","","","",{"$f":"IF(SUM(R51:W51)=2,IF(I51=2,IF(I51=2,IF(Q51-'Barèmes & Options'!H$2<-1,0,1)),\"\"),0)","v":0},0,"",{"$f":"IF(AND(M51<>\"\",K51<>\"\",G51<>\"\"),IF($C51=\"\",\"\",IF($C51=\"F\",VLOOKUP(ROUND($N51,0)/100,BARF,2),VLOOKUP(ROUND($N51,0)/100,BARG,2))),\"\")","v":""},null,"",null,null,null,null,null,"m"]
[null,null,null,null,null,null,"",null,"",null,"",null,"","",{"$error":"#VALUE!"},{"$error":"#VALUE!"},{"$error":"#VALUE!"},"","","","","","",{"$f":"IF(SUM(R52:W52)=2,IF(I52=2,IF(I52=2,IF(Q52-'Barèmes & Options'!H$2<-1,0,1)),\"\"),0)","v":0},0,"",{"$f":"IF(AND(M52<>\"\",K52<>\"\",G52<>\"\"),IF($C52=\"\",\"\",IF($C52=\"F\",VLOOKUP(ROUND($N52,0)/100,BARF,2),VLOOKUP(ROUND($N52,0)/100,BARG,2))),\"\")","v":""},null,"",null,null,null,null,null,"m"]
[null,null,null,null,null,null,"",null,"",null,"",null,"","",{"$error":"#VALUE!"},{"$error":"#VALUE!"},{"$error":"#VALUE!"},"","","","","","",{"$f":"IF(SUM(R53:W53)=2,IF(I53=2,IF(I53=2,IF(Q53-'Barèmes & Options'!H$2<-1,0,1)),\"\"),0)","v":0},0,"",{"$f":"IF(AND(M53<>\"\",K53<>\"\",G53<>\"\"),IF($C53=\"\",\"\",IF($C53=\"F\",VLOOKUP(ROUND($N53,0)/100,BARF,2),VLOOKUP(ROUND($N53,0)/100,BARG,2))),\"\")","v":""},null,"",null,null,null,null,null,"m"]
[null,null,null,null,null,null,"",null,"",null,"",null,"","",{"$error":"#VALUE!"},{"$error":"#VALUE!"},{"$error":"#VALUE!"},"","","","","","",{"$f":"IF(SUM(R54:W54)=2,IF(I54=2,IF(I54=2,IF(Q54-'Barèmes & Options'!H$2<-1,0,1)),\"\"),0)","v":0},0,"",{"$f":"IF(AND(M54<>\"\",K54<>\"\",G54<>\"\"),IF($C54=\"\",\"\",IF($C54=\"F\",VLOOKUP(ROUND($N54,0)/100,BARF,2),VLOOKUP(ROUND($N54,0)/100,BARG,2))),\"\")","v":""},null,"",null,null,null,null,null,"m"]
[null,null,null,null,null,null,"",null,"",null,"",null,"","",{"$error":"#VALUE!"},{"$error":"#VALUE!"},{"$error":"#VALUE!"},"","","","","","",{"$f":"IF(SUM(R55:W55)=2,IF(I55=2,IF(I55=2,IF(Q55-'Barèmes & Options'!H$2<-1,0,1)),\"\"),0)","v":0},0,"",{"$f":"IF(AND(M55<>\"\",K55<>\"\",G55<>\"\"),IF($C55=\"\",\"\",IF($C55=\"F\",VLOOKUP(ROUND($N55,0)/100,BARF,2),VLOOKUP(ROUND($N55,0)/100,BARG,2))),\"\")","v":""},null,"",null,null,null,null,null,"m"]
[null,null,null,null,null,null,"",null,"",null,"",null,"","",{"$error":"#VALUE!"},{"$error":"#VALUE!"},{"$error":"#VALUE!"},"","","","","","",{"$f":"IF(SUM(R56:W56)=2,IF(I56=2,IF(I56=2,IF(Q56-'Barèmes & Options'!H$2<-1,0,1)),\"\"),0)","v":0},0,"",{"$f":"IF(AND(M56<>\"\",K56<>\"\",G56<>\"\"),IF($C56=\"\",\"\",IF($C56=\"F\",VLOOKUP(ROUND($N56,0)/100,BARF,2),VLOOKUP(ROUND($N56,0)/100,BARG,2))),\"\")","v":""},null,"",null,null,null,null,null,"m"]
[null,null,null,null,null,null,"",null,"",null,"",null,"","",{"$error":"#VALUE!"},{"$error":"#VALUE!"},{"$error":"#VALUE!"},"","","","","","",{"$f":"IF(SUM(R57:W57)=2,IF(I57=2,IF(I57=2,IF(Q57-'Barèmes & Options'!H$2<-1,0,1)),\"\"),0)","v":0},0,"",{"$f":"IF(AND(M57<>\"\",K57<>\"\",G57<>\"\"),IF($C57=\"\",\"\",IF($C57=\"F\",VLOOKUP(ROUND($N57,0)/100,BARF,2),VLOOKUP(ROUND($N57,0)/100,BARG,2))),\"\")","v":""},null,"",null,null,null,null,null,"m"]
[null,null,null,null,null,null,"",null,"",null,"",null,"","",{"$error":"#VALUE!"},{"$error":"#VALUE!"},{"$error":"#VALUE!"},"","","","","","",{"$f":"IF(SUM(R58:W58)=2,IF(I58=2,IF(I58=2,IF(Q58-'Barèmes & Options'!H$2<-1,0,1)),\"\"),0)","v":0},0,"",{"$f":"IF(AND(M58<>\"\",K58<>\"\",G58<>\"\"),IF($C58=\"\",\"\",IF($C58=\"F\",VLOOKUP(ROUND($N58,0)/100,BARF,2),VLOOKUP(ROUND($N58,0)/100,BARG,2))),\"\")","v":""},null,"",null,null,null,null,null,"m"]
[null,null,null,null,null,null,"",null,"",null,"",null,"","",{"$error":"#VALUE!"},{"$error":"#VALUE!"},{"$error":"#VALUE!"},"","","","","","",{"$f":"IF(SUM(R59:W59)=2,IF(I59=2,IF(I59=2,IF(Q59-'Barèmes & Options'!H$2<-1,0,1)),\"\"),0)","v":0},0,"",{"$f":"IF(AND(M59<>\"\",K59<>\"\",G59<>\"\"),IF($C59=\"\",\"\",IF($C59=\"F\",VLOOKUP(ROUND($N59,0)/100,BARF,2),VLOOKUP(ROUND($N59,0)/100,BARG,2))),\"\")","v":""},null,"",null,null,null,null,null,"m"]
[null,null,null,null,null,null,"",null,"",null,"",null,"","",{"$error":"#VALUE!"},{"$error":"#VALUE!"},{"$error":"#VALUE!"},"","","","","","",{"$f":"IF(SUM(R60:W60)=2,IF(I60=2,IF(I60=2,IF(Q60-'Barèmes & Options'!H$2<-1,0,1)),\"\"),0)","v":0},0,"",{"$f":"IF(AND(M60<>\"\",K60<>\"\",G60<>\"\"),IF($C60=\"\",\"\",IF($C60=\"F\",VLOOKUP(ROUND($N60,0)/100,BARF,2),VLOOKUP(ROUND($N60,0)/100,BARG,2))),\"\")","v":""},null,"",null,null,null,null,null,"m"]
[null,null,null,null,null,null,"",null,"",null,"",null,"","",{"$error":"#VALUE!"},{"$error":"#VALUE!"},{"$error":"#VALUE!"},"","","","","","",{"$f":"IF(SUM(R61:W61)=2,IF(I61=2,IF(I61=2,IF(Q61-'Barèmes & Options'!H$2<-1,0,1)),\"\"),0)","v":0},0,"",{"$f":"IF(AND(M61<>\"\",K61<>\"\",G61<>\"\"),IF($C61=\"\",\"\",IF($C61=\"F\",VLOOKUP(ROUND($N61,0)/100,BARF,2),VLOOKUP(ROUND($N61,0)/100,BARG,2))),\"\")","v":""},null,"",null,null,null,null,null,"m"]
[null,null,null,null,null,null,"",null,"",null,"",null,"","",{"$error":"#VALUE!"},{"$error":"#VALUE!"},{"$error":"#VALUE!"},"","","","","","",{"$f":"IF(SUM(R62:W62)=2,IF(I62=2,IF(I62=2,IF(Q62-'Barèmes & Options'!H$2<-1,0,1)),\"\"),0)","v":0},0,"",{"$f":"IF(AND(M62<>\"\",K62<>\"\",G62<>\"\"),IF($C62=\"\",\"\",IF($C62=\"F\",VLOOKUP(ROUND($N62,0)/100,BARF,2),VLOOKUP(ROUND($N62,0)/100,BARG,2))),\"\")","v":""},null,"",null,null,null,null,null,"m"]
[null,null,null,null,null,null,"",null,"",null,"",null,"","",{"$error":"#VALUE!"},{"$error":"#VALUE!"},{"$error":"#VALUE!"},"","","","","","",{"$f":"IF(SUM(R63:W63)=2,IF(I63=2,IF(I63=2,IF(Q63-'Barèmes & Options'!H$2<-1,0,1)),\"\"),0)","v":0},0,"",{"$f":"IF(AND(M63<>\"\",K63<>\"\",G63<>\"\"),IF($C63=\"\",\"\",IF($C63=\"F\",VLOOKUP(ROUND($N63,0)/100,BARF,2),VLOOKUP(ROUND($N63,0)/100,BARG,2))),\"\")","v":""},null,"",null,null,null,null,null,"m"]
[null,null,null,null,null,null,"",null,"",null,"",null,"","",{"$error":"#VALUE!"},{"$error":"#VALUE!"},{"$error":"#VALUE!"},"","","","","","",{"$f":"IF(SUM(R64:W64)=2,IF(I64=2,IF(I64=2,IF(Q64-'Barèmes & Options'!H$2<-1,0,1)),\"\"),0)","v":0},0,"",{"$f":"IF(AND(M64<>\"\",K64<>\"\",G64<>\"\"),IF($C64=\"\",\"\",IF($C64=\"F\",VLOOKUP(ROUND($N64,0)/100,BARF,2),VLOOKUP(ROUND($N64,0)/100,BARG,2))),\"\")","v":""},null,"",null,null,null,null,null,"m"]
[null,null,null,null,null,null,"",null,"",null,"",null,"","",{"$error":"#VALUE!"},{"$error":"#VALUE!"},{"$error":"#VALUE!"},"","","","","","",{"$f":"IF(SUM(R65:W65)=2,IF(I65=2,IF(I65=2,IF(Q65-'Barèmes & Options'!H$2<-1,0,1)),\"\"),0)","v":0},0,"",{"$f":"IF(AND(M65<>\"\",K65<>\"\",G65<>\"\"),IF($C65=\"\",\"\",IF($C65=\"F\",VLOOKUP(ROUND($N65,0)/100,BARF,2),VLOOKUP(ROUND($N65,0)/100,BARG,2))),\"\")","v":""},null,"",null,null,null,null,null,"m"]
[null,null,null,null,null,null,"",null,"",null,"",null,"","",{"$error":"#VALUE!"},{"$error":"#VALUE!"},{"$error":"#VALUE!"},"","","","","","",{"$f":"IF(SUM(R66:W66)=2,IF(I66=2,IF(I66=2,IF(Q66-'Barèmes & Options'!H$2<-1,0,1)),\"\"),0)","v":0},0,"",{"$f":"IF(AND(M66<>\"\",K66<>\"\",G66<>\"\"),IF($C66=\"\",\"\",IF($C66=\"F\",VLOOKUP(ROUND($N66,0)/100,BARF,2),VLOOKUP(ROUND($N66,0)/100,BARG,2))),\"\")","v":""},null,"",null,null,null,null,null,"m"]
[null,null,null,null,null,null,"",null,"",null,"",null,"","",{"$error":"#VALUE!"},{"$error":"#VALUE!"},{"$error":"#VALUE!"},"","","","","","",{"$f":"IF(SUM(R67:W67)=2,IF(I67=2,IF(I67=2,IF(Q67-'Barèmes & Options'!H$2<-1,0,1)),\"\"),0)","v":0},0,"",{"$f":"IF(AND(M67<>\"\",K67<>\"\",G67<>\"\"),IF($C67=\"\",\"\",IF($C67=\"F\",VLOOKUP(ROUND($N67,0)/100,BARF,2),VLOOKUP(ROUND($N67,0)/100,BARG,2))),\"\")","v":""},null,"",null,null,null,null,null,"m"]
[null,null,null,null,null,null,"",null,"",null,"",null,"","",{"$error":"#VALUE!"},{"$error":"#VALUE!"},{"$error":"#VALUE!"},"","","","","","",{"$f":"IF(SUM(R68:W68)=2,IF(I68=2,IF(I68=2,IF(Q68-'Barèmes & Options'!H$2<-1,0,1)),\"\"),0)","v":0},0,"",{"$f":"IF(AND(M68<>\"\",K68<>\"\",G68<>\"\"),IF($C68=\"\",\"\",IF($C68=\"F\",VLOOKUP(ROUND($N68,0)/100,BARF,2),VLOOKUP(ROUND($N68,0)/100,BARG,2))),\"\")","v":""},null,"",null,null,null,null,null,"m"]
[null,null,null,null,null,null,{"$f":"IF(F69<>\"\",INT(F69/100)+((F69/100-INT(F69/100))),\"\")","v":""},null,{"$f":"IF(AND(E69=\"\",H69=\"\"),\"\",IF(H69=\"\",E69,H69))","v":""},null,{"$f":"IF(J69<>\"\",INT(J69/100)+((J69/100-INT(J69/100))),\"\")","v":""},null,{"$f":"IF(L69<>\"\",INT(L69/100)+((L69/100-INT(L69/100))),\"\")","v":""},{"$f":"IF(AND(M69<>\"\",K69<>\"\",G69<>\"\"),(INT(((INT($G69)*60)+(($G69-INT($G69))*100)+(INT($K69)*60)+(($K69-INT($K69))*100)+(INT($M69)*60)+(($M69-INT($M69))*100))/60)+MOD(((INT($G69)*60)+(($G69-INT($G69))*100)+(INT($K69)*60)+(($K69-INT($K69))*100)+(INT($M69)*60)+(($M69-INT($M69))*100)),60)/100)*100,\"\")","v":""},{"$f":"ROUND((INT(K69)*60)+((K69-INT(K69))*100)-((INT(G69)*60)+((G69-INT(G69))*100)),0)","v":{"$error":"#VALUE!"}},{"$f":"ROUND((INT(M69)*60)+((M69-INT(M69))*100)-((INT(K69)*60)+((K69-INT(K69))*100)),0)","v":{"$error":"#VALUE!"}},{"$f":"ROUND((INT(M69)*60)+((M69-INT(M69))*100)-((INT(G69)*60)+((G69-INT(G69))*100)),0)","v":{"$error":"#VALUE!"}},{"$f":"IF(AND(K69<>\"\",G69<>\"\"),IF(OR(I69=1,I69=3,I69=4),IF(ABS(O69)<=3.5,1,0)),\"\")","v":""},{"$f":"IF(AND(K69<>\"\",G69<>\"\"),IF(OR(I69=5,I69=7),IF(O69>0,1,0)),\"\")","v":""},{"$f":"IF(AND(K69<>\"\",G69<>\"\"),IF(OR(I69=2,I69=6,I69=8),IF(O69<0,1,0)),\"\")","v":""},{"$f":"IF(AND(K69<>\"\",M69<>\"\"),IF(OR(I69=1,I69=5,I69=6),IF(ABS(P69)<=3.5,1,0)),\"\")","v":""},{"$f":"IF(AND(K69<>\"\",M69<>\"\"),IF(OR(I69=4,I69=8),IF(P69>0,1,0)),\"\")","v":""},{"$f":"IF(AND(K69<>\"\",M69<>\"\"),IF(OR(I69=2,I69=3,I69=7),IF(P69<0,1,0)),\"\")","v":""},{"$f":"IF(SUM(R69:W69)=2,IF(I69=2,IF(I69=2,IF(Q69-'Barèmes & Options'!H$2<-1,0,1)),\"\"),0)","v":0},{"$f":"IF(OR(I69=2,I69=9),SUM(R69:W69)-X69,SUM(R69:W69))","v":0},{"$f":"IF(I69<>\"\",IF(AND(I69>=1,I69<=8,I69=ABS(I69)),IF(AND(I69<=9,I69>=1),IF(AND(Y69=1,H69<>\"\"),1,IF(AND(Y69=1,H69=\"\"),2,IF(AND(Y69=2,H69<>\"\"),2.5,IF(AND(Y69=2,H69=\"\"),3,0)))),\"\"),\"Err. Profil\"),\"\")","v":""},{"$f":"IF(AND(M69<>\"\",K69<>\"\",G69<>\"\"),IF($C69=\"\",\"\",IF($C69=\"F\",VLOOKUP(ROUND($N69,0)/100,BARF,2),VLOOKUP(ROUND($N69,0)/100,BARG,2))),\"\")","v":""},null,{"$f":"IF(OR(AB69=\"\",AA69=\"\",Z69=\"\"),\"\",IF(OR(AB69<0,AB69>3),\"Err ech.\",SUM(AB69,AA69,Z69)))","v":""},null,null,null,null,null,{"$f":"IF(C69<>\"f\",\"m\",\"f\")","v":"m"}]
[null,null,null,null,null,null,"",null,"",null,"",null,"","",{"$error":"#VALUE!"},{"$error":"#VALUE!"},{"$error":"#VALUE!"},"","","","","","",{"$f":"IF(SUM(R70:W70)=2,IF(I70=2,IF(I70=2,IF(Q70-'Barèmes & Options'!H$2<-1,0,1)),\"\"),0)","v":0},0,"",{"$f":"IF(AND(M70<>\"\",K70<>\"\",G70<>\"\"),IF($C70=\"\",\"\",IF($C70=\"F\",VLOOKUP(ROUND($N70,0)/100,BARF,2),VLOOKUP(ROUND($N70,0)/100,BARG,2))),\"\")","v":""},null,"",null,null,null,null,null,"m"]
[null,null,null,null,null,null,"",null,"",null,"",null,"","",{"$error":"#VALUE!"},{"$error":"#VALUE!"},{"$error":"#VALUE!"},"","","","","","",{"$f":"IF(SUM(R71:W71)=2,IF(I71=2,IF(I71=2,IF(Q71-'Barèmes & Options'!H$2<-1,0,1)),\"\"),0)","v":0},0,"",{"$f":"IF(AND(M71<>\"\",K71<>\"\",G71<>\"\"),IF($C71=\"\",\"\",IF($C71=\"F\",VLOOKUP(ROUND($N71,0)/100,BARF,2),VLOOKUP(ROUND($N71,0)/100,BARG,2))),\"\")","v":""},null,"",null,null,null,null,null,"m"]
[null,null,null,null,null,null,"",null,"",null,"",null,"","",{"$error":"#VALUE!"},{"$error":"#VALUE!"},{"$error":"#VALUE!"},"","","","","","",{"$f":"IF(SUM(R72:W72)=2,IF(I72=2,IF(I72=2,IF(Q72-'Barèmes & Options'!H$2<-1,0,1)),\"\"),0)","v":0},0,"",{"$f":"IF(AND(M72<>\"\",K72<>\"\",G72<>\"\"),IF($C72=\"\",\"\",IF($C72=\"F\",VLOOKUP(ROUND($N72,0)/100,BARF,2),VLOOKUP(ROUND($N72,0)/100,BARG,2))),\"\")","v":""},null,"",null,null,null,null,null,"m"]
[null,null,null,null,null,null,"",null,"",null,"",null,"","",{"$error":"#VALUE!"},{"$error":"#VALUE!"},{"$error":"#VALUE!"},"","","","","","",{"$f":"IF(SUM(R73:W73)=2,IF(I73=2,IF(I73=2,IF(Q73-'Barèmes & Options'!H$2<-1,0,1)),\"\"),0)","v":0},0,"",{"$f":"IF(AND(M73<>\"\",K73<>\"\",G73<>\"\"),IF($C73=\"\",\"\",IF($C73=\"F\",VLOOKUP(ROUND($N73,0)/100,BARF,2),VLOOKUP(ROUND($N73,0)/100,BARG,2))),\"\")","v":""},null,"",null,null,null,null,null,"m"]
[null,null,null,null,null,null,"",null,"",null,"",null,"","",{"$error":"#VALUE!"},{"$error":"#VALUE!"},{"$error":"#VALUE!"},"","","","","","",{"$f":"IF(SUM(R74:W74)=2,IF(I74=2,IF(I74=2,IF(Q74-'Barèmes & Options'!H$2<-1,0,1)),\"\"),0)","v":0},0,"",{"$f":"IF(AND(M74<>\"\",K74<>\"\",G74<>\"\"),IF($C74=\"\",\"\",IF($C74=\"F\",VLOOKUP(ROUND($N74,0)/100,BARF,2),VLOOKUP(ROUND($N74,0)/100,BARG,2))),\"\")","v":""},null,"",null,null,null,null,null,"m"]
[null,null,null,null,null,null,"",null,"",null,"",null,"","",{"$error":"#VALUE!"},{"$error":"#VALUE!"},{"$error":"#VALUE!"},"","","","","","",{"$f":"IF(SUM(R75:W75)=2,IF(I75=2,IF(I75=2,IF(Q75-'Barèmes & Options'!H$2<-1,0,1)),\"\"),0)","v":0},0,"",{"$f":"IF(AND(M75<>\"\",K75<>\"\",G75<>\"\"),IF($C75=\"\",\"\",IF($C75=\"F\",VLOOKUP(ROUND($N75,0)/100,BARF,2),VLOOKUP(ROUND($N75,0)/100,BARG,2))),\"\")","v":""},null,"",null,null,null,null,null,"m"]
[null,null,null,null,null,null,"",null,"",null,"",null,"","",{"$error":"#VALUE!"},{"$error":"#VALUE!"},{"$error":"#VALUE!"},"","","","","","",{"$f":"IF(SUM(R76:W76)=2,IF(I76=2,IF(I76=2,IF(Q76-'Barèmes & Options'!H$2<-1,0,1)),\"\"),0)","v":0},0,"",{"$f":"IF(AND(M76<>\"\",K76<>\"\",G76<>\"\"),IF($C76=\"\",\"\",IF($C76=\"F\",VLOOKUP(ROUND($N76,0)/100,BARF,2),VLOOKUP(ROUND($N76,0)/100,BARG,2))),\"\")","v":""},null,"",null,null,null,null,null,"m"]
[null,null,null,null,null,null,"",null,"",null,"",null,"","",{"$error":"#VALUE!"},{"$error":"#VALUE!"},{"$error":"#VALUE!"},"","","","","","",{"$f":"IF(SUM(R77:W77)=2,IF(I77=2,IF(I77=2,IF(Q77-'Barèmes & Options'!H$2<-1,0,1)),\"\"),0)","v":0},0,"",{"$f":"IF(AND(M77<>\"\",K77<>\"\",G77<>\"\"),IF($C77=\"\",\"\",IF($C77=\"F\",VLOOKUP(ROUND($N77,0)/100,BARF,2),VLOOKUP(ROUND($N77,0)/100,BARG,2))),\"\")","v":""},null,"",null,null,null,null,null,"m"]
[null,null,null,null,null,null,"",null,"",null,"",null,"","",{"$error":"#VALUE!"},{"$error":"#VALUE!"},{"$error":"#VALUE!"},"","","","","","",{"$f":"IF(SUM(R78:W78)=2,IF(I78=2,IF(I78=2,IF(Q78-'Barèmes & Options'!H$2<-1,0,1)),\"\"),0)","v":0},0,"",{"$f":"IF(AND(M78<>\"\",K78<>\"\",G78<>\"\"),IF($C78=\"\",\"\",IF($C78=\"F\",VLOOKUP(ROUND($N78,0)/100,BARF,2),VLOOKUP(ROUND($N78,0)/100,BARG,2))),\"\")","v":""},null,"",null,null,null,null,null,"m"]
[null,null,null,null,null,null,"",null,"",null,"",null,"","",{"$error":"#VALUE!"},{"$error":"#VALUE!"},{"$error":"#VALUE!"},"","","","","","",{"$f":"IF(SUM(R79:W79)=2,IF(I79=2,IF(I79=2,IF(Q79-'Barèmes & Options'!H$2<-1,0,1)),\"\"),0)","v":0},0,"",{"$f":"IF(AND(M79<>\"\",K79<>\"\",G79<>\"\"),IF($C79=\"\",\"\",IF($C79=\"F\",VLOOKUP(ROUND($N79,0)/100,BARF,2),VLOOKUP(ROUND($N79,0)/100,BARG,2))),\"\")","v":""},null,"",null,null,null,null,null,"m"]
[null,null,null,null,null,null,"",null,"",null,"",null,"","",{"$error":"#VALUE!"},{"$error":"#VALUE!"},{"$error":"#VALUE!"},"","","","","","",{"$f":"IF(SUM(R80:W80)=2,IF(I80=2,IF(I80=2,IF(Q80-'Barèmes & Options'!H$2<-1,0,1)),\"\"),0)","v":0},0,"",{"$f":"IF(AND(M80<>\"\",K80<>\"\",G80<>\"\"),IF($C80=\"\",\"\",IF($C80=\"F\",VLOOKUP(ROUND($N80,0)/100,BARF,2),VLOOKUP(ROUND($N80,0)/100,BARG,2))),\"\")","v":""},null,"",null,null,null,null,null,"m"]
[null,null,null,null,null,null,"",null,"",null,"",null,"","",{"$error":"#VALUE!"},{"$error":"#VALUE!"},{"$error":"#VALUE!"},"","","","","","",{"$f":"IF(SUM(R81:W81)=2,IF(I81=2,IF(I81=2,IF(Q81-'Barèmes & Options'!H$2<-1,0,1)),\"\"),0)","v":0},0,"",{"$f":"IF(AND(M81<>\"\",K81<>\"\",G81<>\"\"),IF($C81=\"\",\"\",IF($C81=\"F\",VLOOKUP(ROUND($N81,0)/100,BARF,2),VLOOKUP(ROUND($N81,0)/100,BARG,2))),\"\")","v":""},null,"",null,null,null,null,null,"m"]
[null,null,null,null,null,null,"",null,"",null,"",null,"","",{"$error":"#VALUE!"},{"$error":"#VALUE!"},{"$error":"#VALUE!"},"","","","","","",{"$f":"IF(SUM(R82:W82)=2,IF(I82=2,IF(I82=2,IF(Q82-'Barèmes & Options'!H$2<-1,0,1)),\"\"),0)","v":0},0,"",{"$f":"IF(AND(M82<>\"\",K82<>\"\",G82<>\"\"),IF($C82=\"\",\"\",IF($C82=\"F\",VLOOKUP(ROUND($N82,0)/100,BARF,2),VLOOKUP(ROUND($N82,0)/100,BARG,2))),\"\")","v":""},null,"",null,null,null,null,null,"m"]
[null,null,null,null,null,null,"",null,"",null,"",null,"","",{"$error":"#VALUE!"},{"$error":"#VALUE!"},{"$error":"#VALUE!"},"","","","","","",{"$f":"IF(SUM(R83:W83)=2,IF(I83=2,IF(I83=2,IF(Q83-'Barèmes & Options'!H$2<-1,0,1)),\"\"),0)","v":0},0,"",{"$f":"IF(AND(M83<>\"\",K83<>\"\",G83<>\"\"),IF($C83=\"\",\"\",IF($C83=\"F\",VLOOKUP(ROUND($N83,0)/100,BARF,2),VLOOKUP(ROUND($N83,0)/100,BARG,2))),\"\")","v":""},null,"",null,null,null,null,null,"m"]
[null,null,null,null,null,null,"",null,"",null,"",null,"","",{"$error":"#VALUE!"},{"$error":"#VALUE!"},{"$error":"#VALUE!"},"","","","","","",{"$f":"IF(SUM(R84:W84)=2,IF(I84=2,IF(I84=2,IF(Q84-'Barèmes & Options'!H$2<-1,0,1)),\"\"),0)","v":0},0,"",{"$f":"IF(AND(M84<>\"\",K84<>\"\",G84<>\"\"),IF($C84=\"\",\"\",IF($C84=\"F\",VLOOKUP(ROUND($N84,0)/100,BARF,2),VLOOKUP(ROUND($N84,0)/100,BARG,2))),\"\")","v":""},null,"",null,null,null,null,null,"m"]
[null,null,null,null,null,null,"",null,"",null,"",null,"","",{"$error":"#VALUE!"},{"$error":"#VALUE!"},{"$error":"#VALUE!"},"","","","","","",{"$f":"IF(SUM(R85:W85)=2,IF(I85=2,IF(I85=2,IF(Q85-'Barèmes & Options'!H$2<-1,0,1)),\"\"),0)","v":0},0,"",{"$f":"IF(AND(M85<>\"\",K85<>\"\",G85<>\"\"),IF($C85=\"\",\"\",IF($C85=\"F\",VLOOKUP(ROUND($N85,0)/100,BARF,2),VLOOKUP(ROUND($N85,0)/100,BARG,2))),\"\")","v":""},null,"",null,null,null,null,null,"m"]
[null,null,null,null,null,null,"",null,"",null,"",null,"","",{"$error":"#VALUE!"},{"$error":"#VALUE!"},{"$error":"#VALUE!"},"","","","","","",{"$f":"IF(SUM(R86:W86)=2,IF(I86=2,IF(I86=2,IF(Q86-'Barèmes & Options'!H$2<-1,0,1)),\"\"),0)","v":0},0,"",{"$f":"IF(AND(M86<>\"\",K86<>\"\",G86<>\"\"),IF($C86=\"\",\"\",IF($C86=\"F\",VLOOKUP(ROUND($N86,0)/100,BARF,2),VLOOKUP(ROUND($N86,0)/100,BARG,2))),\"\")","v":""},null,"",null,null,null,null,null,"m"]
[null,null,null,null,null,null,"",null,"",null,"",null,"","",{"$error":"#VALUE!"},{"$error":"#VALUE!"},{"$error":"#VALUE!"},"","","","","","",{"$f":"IF(SUM(R87:W87)=2,IF(I87=2,IF(I87=2,IF(Q87-'Barèmes & Options'!H$2<-1,0,1)),\"\"),0)","v":0},0,"",{"$f":"IF(AND(M87<>\"\",K87<>\"\",G87<>\"\"),IF($C87=\"\",\"\",IF($C87=\"F\",VLOOKUP(ROUND($N87,0)/100,BARF,2),VLOOKUP(ROUND($N87,0)/100,BARG,2))),\"\")","v":""},null,"",null,null,null,null,null,"m"]
[null,null,null,null,null,null,"",null,"",null,"",null,"","",{"$error":"#VALUE!"},{"$error":"#VALUE!"},{"$error":"#VALUE!"},"","","","","","",{"$f":"IF(SUM(R88:W88)=2,IF(I88=2,IF(I88=2,IF(Q88-'Barèmes & Options'!H$2<-1,0,1)),\"\"),0)","v":0},0,"",{"$f":"IF(AND(M88<>\"\",K88<>\"\",G88<>\"\"),IF($C88=\"\",\"\",IF($C88=\"F\",VLOOKUP(ROUND($N88,0)/100,BARF,2),VLOOKUP(ROUND($N88,0)/100,BARG,2))),\"\")","v":""},null,"",null,null,null,null,null,"m"]
[null,null,null,null,null,null,"",null,"",null,"",null,"","",{"$error":"#VALUE!"},{"$error":"#VALUE!"},{"$error":"#VALUE!"},"","","","","","",{"$f":"IF(SUM(R89:W89)=2,IF(I89=2,IF(I89=2,IF(Q89-'Barèmes & Options'!H$2<-1,0,1)),\"\"),0)","v":0},0,"",{"$f":"IF(AND(M89<>\"\",K89<>\"\",G89<>\"\"),IF($C89=\"\",\"\",IF($C89=\"F\",VLOOKUP(ROUND($N89,0)/100,BARF,2),VLOOKUP(ROUND($N89,0)/100,BARG,2))),\"\")","v":""},null,"",null,null,null,null,null,"m"]
[null,null,null,null,null,null,"",null,"",null,"",null,"","",{"$error":"#VALUE!"},{"$error":"#VALUE!"},{"$error":"#VALUE!"},"","","","","","",{"$f":"IF(SUM(R90:W90)=2,IF(I90=2,IF(I90=2,IF(Q90-'Barèmes & Options'!H$2<-1,0,1)),\"\"),0)","v":0},0,"",{"$f":"IF(AND(M90<>\"\",K90<>\"\",G90<>\"\"),IF($C90=\"\",\"\",IF($C90=\"F\",VLOOKUP(ROUND($N90,0)/100,BARF,2),VLOOKUP(ROUND($N90,0)/100,BARG,2))),\"\")","v":""},null,"",null,null,null,null,null,"m"]
[null,null,null,null,null,null,"",null,"",null,"",null,"","",{"$error":"#VALUE!"},{"$error":"#VALUE!"},{"$error":"#VALUE!"},"","","","","","",{"$f":"IF(SUM(R91:W91)=2,IF(I91=2,IF(I91=2,IF(Q91-'Barèmes & Options'!H$2<-1,0,1)),\"\"),0)","v":0},0,"",{"$f":"IF(AND(M91<>\"\",K91<>\"\",G91<>\"\"),IF($C91=\"\",\"\",IF($C91=\"F\",VLOOKUP(ROUND($N91,0)/100,BARF,2),VLOOKUP(ROUND($N91,0)/100,BARG,2))),\"\")","v":""},null,"",null,null,null,null,null,"m"]
[null,null,null,null,null,null,"",null,"",null,"",null,"","",{"$error":"#VALUE!"},{"$error":"#VALUE!"},{"$error":"#VALUE!"},"","","","","","",{"$f":"IF(SUM(R92:W92)=2,IF(I92=2,IF(I92=2,IF(Q92-'Barèmes & Options'!H$2<-1,0,1)),\"\"),0)","v":0},0,"",{"$f":"IF(AND(M92<>\"\",K92<>\"\",G92<>\"\"),IF($C92=\"\",\"\",IF($C92=\"F\",VLOOKUP(ROUND($N92,0)/100,BARF,2),VLOOKUP(ROUND($N92,0)/100,BARG,2))),\"\")","v":""},null,"",null,null,null,null,null,"m"]
[null,null,null,null,null,null,"",null,"",null,"",null,"","",{"$error":"#VALUE!"},{"$error":"#VALUE!"},{"$error":"#VALUE!"},"","","","","","",{"$f":"IF(SUM(R93:W93)=2,IF(I93=2,IF(I93=2,IF(Q93-'Barèmes & Options'!H$2<-1,0,1)),\"\"),0)","v":0},0,"",{"$f":"IF(AND(M93<>\"\",K93<>\"\",G93<>\"\"),IF($C93=\"\",\"\",IF($C93=\"F\",VLOOKUP(ROUND($N93,0)/100,BARF,2),VLOOKUP(ROUND($N93,0)/100,BARG,2))),\"\")","v":""},null,"",null,null,null,null,null,"m"]
[null,null,null,null,null,null,"",null,"",null,"",null,"","",{"$error":"#VALUE!"},{"$error":"#VALUE!"},{"$error":"#VALUE!"},"","","","","","",{"$f":"IF(SUM(R94:W94)=2,IF(I94=2,IF(I94=2,IF(Q94-'Barèmes & Options'!H$2<-1,0,1)),\"\"),0)","v":0},0,"",{"$f":"IF(AND(M94<>\"\",K94<>\"\",G94<>\"\"),IF($C94=\"\",\"\",IF($C94=\"F\",VLOOKUP(ROUND($N94,0)/100,BARF,2),VLOOKUP(ROUND($N94,0)/100,BARG,2))),\"\")","v":""},null,"",null,null,null,null,null,"m"]
[null,null,null,null,null,null,"",null,"",null,"",null,"","",{"$error":"#VALUE!"},{"$error":"#VALUE!"},{"$error":"#VALUE!"},"","","","","","",{"$f":"IF(SUM(R95:W95)=2,IF(I95=2,IF(I95=2,IF(Q95-'Barèmes & Options'!H$2<-1,0,1)),\"\"),0)","v":0},0,"",{"$f":"IF(AND(M95<>\"\",K95<>\"\",G95<>\"\"),IF($C95=\"\",\"\",IF($C95=\"F\",VLOOKUP(ROUND($N95,0)/100,BARF,2),VLOOKUP(ROUND($N95,0)/100,BARG,2))),\"\")","v":""},null,"",null,null,null,null,null,"m"]
[null,null,null,null,null,null,"",null,"",null,"",null,"","",{"$error":"#VALUE!"},{"$error":"#VALUE!"},{"$error":"#VALUE!"},"","","","","","",{"$f":"IF(SUM(R96:W96)=2,IF(I96=2,IF(I96=2,IF(Q96-'Barèmes & Options'!H$2<-1,0,1)),\"\"),0)","v":0},0,"",{"$f":"IF(AND(M96<>\"\",K96<>\"\",G96<>\"\"),IF($C96=\"\",\"\",IF($C96=\"F\",VLOOKUP(ROUND($N96,0)/100,BARF,2),VLOOKUP(ROUND($N96,0)/100,BARG,2))),\"\")","v":""},null,"",null,null,null,null,null,"m"]
[null,null,null,null,null,null,"",null,"",null,"",null,"","",{"$error":"#VALUE!"},{"$error":"#VALUE!"},{"$error":"#VALUE!"},"","","","","","",{"$f":"IF(SUM(R97:W97)=2,IF(I97=2,IF(I97=2,IF(Q97-'Barèmes & Options'!H$2<-1,0,1)),\"\"),0)","v":0},0,"",{"$f":"IF(AND(M97<>\"\",K97<>\"\",G97<>\"\"),IF($C97=\"\",\"\",IF($C97=\"F\",VLOOKUP(ROUND($N97,0)/100,BARF,2),VLOOKUP(ROUND($N97,0)/100,BARG,2))),\"\")","v":""},null,"",null,null,null,null,null,"m"]
[null,null,null,null,null,null,"",null,"",null,"",null,"","",{"$error":"#VALUE!"},{"$error":"#VALUE!"},{"$error":"#VALUE!"},"","","","","","",{"$f":"IF(SUM(R98:W98)=2,IF(I98=2,IF(I98=2,IF(Q98-'Barèmes & Options'!H$2<-1,0,1)),\"\"),0)","v":0},0,"",{"$f":"IF(AND(M98<>\"\",K98<>\"\",G98<>\"\"),IF($C98=\"\",\"\",IF($C98=\"F\",VLOOKUP(ROUND($N98,0)/100,BARF,2),VLOOKUP(ROUND($N98,0)/100,BARG,2))),\"\")","v":""},null,"",null,null,null,null,null,"m"]
[null,null,null,null,null,null,"",null,"",null,"",null,"","",{"$error":"#VALUE!"},{"$error":"#VALUE!"},{"$error":"#VALUE!"},"","","","","","",{"$f":"IF(SUM(R99:W99)=2,IF(I99=2,IF(I99=2,IF(Q99-'Barèmes & Options'!H$2<-1,0,1)),\"\"),0)","v":0},0,"",{"$f":"IF(AND(M99<>\"\",K99<>\"\",G99<>\"\"),IF($C99=\"\",\"\",IF($C99=\"F\",VLOOKUP(ROUND($N99,0)/100,BARF,2),VLOOKUP(ROUND($N99,0)/100,BARG,2))),\"\")","v":""},null,"",null,null,null,null,null,"m"]
[null,null,null,null,null,null,"",null,"",null,"",null,"","",{"$error":"#VALUE!"},{"$error":"#VALUE!"},{"$error":"#VALUE!"},"","","","","","",{"$f":"IF(SUM(R100:W100)=2,IF(I100=2,IF(I100=2,IF(Q100-'Barèmes & Options'!H$2<-1,0,1)),\"\"),0)","v":0},0,"",{"$f":"IF(AND(M100<>\"\",K100<>\"\",G100<>\"\"),IF($C100=\"\",\"\",IF($C100=\"F\",VLOOKUP(ROUND($N100,0)/100,BARF,2),VLOOKUP(ROUND($N100,0)/100,BARG,2))),\"\")","v":""},null,"",null,null,null,null,null,"m"]
[null,null,null,null,null,null,"",null,"",null,"",null,"","",{"$error":"#VALUE!"},{"$error":"#VALUE!"},{"$error":"#VALUE!"},"","","","","","",{"$f":"IF(SUM(R101:W101)=2,IF(I101=2,IF(I101=2,IF(Q101-'Barèmes & Options'!H$2<-1,0,1)),\"\"),0)","v":0},0,"",{"$f":"IF(AND(M101<>\"\",K101<>\"\",G101<>\"\"),IF($C101=\"\",\"\",IF($C101=\"F\",VLOOKUP(ROUND($N101,0)/100,BARF,2),VLOOKUP(ROUND($N101,0)/100,BARG,2))),\"\")","v":""},null,"",null,null,null,null,null,"m"]

{"sheet":"Barèmes & Options","index":2,"n_rows":141,"n_cols":13,"rows_kept":141,"cut":false,"hidden":false,"merged":[[0,0,0,2],[0,9,0,10],[0,11,0,12]]}
[null,null,null,null,null,null,null,null,null,"Barème Garçons",null,"Barème Filles"]
[null,null,null,null,null,null,null,null,null,"TPS G","Pts G","TPS F","PTS F"]
[null,null,null,null,null,null,null,null,null,3,14,3.3,14]
[null,null,null,null,null,null,null,null,null,4.4800000000000004,14,6.11,14]
[null,null,null,null,null,null,null,null,null,4.49,13.9,6.12,13.9]
[null,null,null,null,null,null,null,null,null,4.5,13.8,6.13,13.8]
[null,null,null,null,null,null,null,null,null,4.51,13.7,6.14,13.7]
[null,null,null,null,null,null,null,null,null,4.51,13.6,6.15,13.6]
[null,null,null,null,null,null,null,null,null,4.5199999999999996,13.5,6.16,13.5]
[null,null,null,null,null,null,null,null,null,4.53,13.4,6.17,13.4]
[null,null,null,null,null,null,null,null,null,4.54,13.3,6.18,13.3]
[null,null,null,null,null,null,null,null,null,4.55,13.2,6.19,13.2]
[null,null,null,null,null,null,null,null,null,4.55,13.1,6.2,13.1]
[null,null,null,null,null,null,null,null,null,4.5599999999999996,13,6.21,13]
[null,null,null,null,null,null,null,null,null,4.57,12.9,6.22,12.9]
[null,null,null,null,null,null,null,null,null,4.58,12.8,6.23,12.8]
[null,null,null,null,null,null,null,null,null,4.59,12.7,6.24,12.7]
[null,null,null,null,null,null,null,null,null,5,12.6,6.25,12.6]
[null,null,null,null,null,null,null,null,null,5.01,12.5,6.26,12.5]
[null,null,null,null,null,null,null,null,null,5.0199999999999996,12.4,6.27,12.4]
[null,null,null,null,null,null,null,null,null,5.03,12.3,6.28,12.3]
[null,null,null,null,null,null,null,null,null,5.04,12.2,6.29,12.2]
[null,null,null,null,null,null,null,null,null,5.04,12.1,6.3,12.1]
[null,null,null,null,null,null,null,null,null,5.05,12,6.31,12]
[null,null,null,null,null,null,null,null,null,5.0599999999999996,11.9,6.32,11.9]
[null,null,null,null,null,null,null,null,null,5.07,11.8,6.33,11.8]
[null,null,null,null,null,null,null,null,null,5.08,11.7,6.34,11.7]
[null,null,null,null,null,null,null,null,null,5.08,11.6,6.35,11.6]
[null,null,null,null,null,null,null,null,null,5.09,11.5,6.37,11.5]
[null,null,null,null,null,null,null,null,null,5.0999999999999996,11.4,6.38,11.4]
[null,null,null,null,null,null,null,null,null,5.1100000000000003,11.3,6.39,11.3]
[null,null,null,null,null,null,null,null,null,5.12,11.2,6.4,11.2]
[null,null,null,null,null,null,null,null,null,5.12,11.1,6.41,11.1]
[null,null,null,null,null,null,null,null,null,5.13,11,6.42,11]
[null,null,null,null,null,null,null,null,null,5.14,10.9,6.43,10.9]
[null,null,null,null,null,null,null,null,null,5.15,10.8,6.44,10.8]
[null,null,null,null,null,null,null,null,null,5.16,10.7,6.45,10.7]
[null,null,null,null,null,null,null,null,null,5.16,10.6,6.46,10.6]
[null,null,null,null,null,null,null,null,null,5.17,10.5,6.47,10.5]
[null,null,null,null,null,null,null,null,null,5.19,10.4,6.49,10.4]
[null,null,null,null,null,null,null,null,null,5.21,10.3,6.52,10.3]
[null,null,null,null,null,null,null,null,null,5.23,10.199999999999999,6.53,10.199999999999999]
[null,null,null,null,null,null,null,null,null,5.24,10.1,6.5600000000000005,10.1]
[null,null,null,null,null,null,null,null,null,5.25,10,7,10]
[null,null,null,null,null,null,null,null,null,5.27,9.9000000000000092,7.03,9.9000000000000092]
[null,null,null,null,null,null,null,null,null,5.29,9.8000000000000096,7.05,9.8000000000000096]
[null,null,null,null,null,null,null,null,null,5.31,9.7000000000000206,7.07,9.7000000000000206]
[null,null,null,null,null,null,null,null,null,5.32,9.6000000000000192,7.09,9.6000000000000192]
[null,null,null,null,null,null,null,null,null,5.33,9.5000000000000195,7.12,9.5000000000000195]
[null,null,null,null,null,null,null,null,null,5.34,9.4000000000000199,7.13,9.4000000000000199]
[null,null,null,null,null,null,null,null,null,5.35,9.3000000000000203,7.16,9.3000000000000203]
[null,null,null,null,null,null,null,null,null,5.37,9.2000000000000206,7.19,9.2000000000000206]
[null,null,null,null,null,null,null,null,null,5.38,9.1000000000000192,7.21,9.1000000000000192]
[null,null,null,null,null,null,null,null,null,5.4,9.0000000000000195,7.25,9.0000000000000195]
[null,null,null,null,null,null,null,null,null,5.42,8.9000000000000199,7.28,8.9000000000000199]
[null,null,null,null,null,null,null,null,null,5.44,8.8000000000000203,7.31,8.8000000000000203]
[null,null,null,null,null,null,null,null,null,5.46,8.7000000000000206,7.33,8.7000000000000206]
[null,null,null,null,null,null,null,null,null,5.47,8.6000000000000192,7.35,8.6000000000000192]
[null,null,null,null,null,null,null,null,null,5.48,8.5000000000000195,7.37,8.5000000000000195]
[null,null,null,null,null,null,null,null,null,5.49,8.4000000000000199,7.4,8.4000000000000199]
[null,null,null,null,null,null,null,null,null,5.51,8.3000000000000203,7.43,8.3000000000000203]
[null,null,null,null,null,null,null,null,null,5.52,8.2000000000000206,7.45,8.2000000000000206]
[null,null,null,null,null,null,null,null,null,5.53,8.1000000000000192,7.48,8.1000000000000192]
[null,null,null,null,null,null,null,null,null,5.55,8.0000000000000195,7.5,8.0000000000000195]
[null,null,null,null,null,null,null,null,null,5.5600000000000005,7.9000000000000199,7.53,7.9000000000000199]
[null,null,null,null,null,null,null,null,null,5.57,7.8000000000000203,7.55,7.8000000000000203]
[null,null,null,null,null,null,null,null,null,5.59,7.7000000000000197,7.57,7.7000000000000197]
[null,null,null,null,null,null,null,null,null,6.01,7.6000000000000201,8,7.6000000000000201]
[null,null,null,null,null,null,null,null,null,6.03,7.5000000000000204,8.02,7.5000000000000204]
[null,null,null,null,null,null,null,null,null,6.05,7.4000000000000199,8.0500000000000007,7.4000000000000199]
[null,null,null,null,null,null,null,null,null,6.06,7.3000000000000203,8.08,7.3000000000000203]
[null,null,null,null,null,null,null,null,null,6.07,7.2000000000000197,8.11,7.2000000000000197]
[null,null,null,null,null,null,null,null,null,6.08,7.1000000000000201,8.1300000000000008,7.1000000000000201]
[null,null,null,null,null,null,null,null,null,6.1,7.0000000000000204,8.15,7.0000000000000204]
[null,null,null,null,null,null,null,null,null,6.12,6.9000000000000297,8.18,6.9000000000000297]
[null,null,null,null,null,null,null,null,null,6.14,6.80000000000003,8.2100000000000009,6.80000000000003]
[null,null,null,null,null,null,null,null,null,6.16,6.7000000000000304,8.24,6.7000000000000304]
[null,null,null,null,null,null,null,null,null,6.18,6.6000000000000298,8.27,6.6000000000000298]
[null,null,null,null,null,null,null,null,null,6.2,6.5000000000000302,8.32,6.5000000000000302]
[null,null,null,null,null,null,null,null,null,6.22,6.4000000000000297,8.36,6.4000000000000297]
[null,null,null,null,null,null,null,null,null,6.24,6.30000000000003,8.39,6.30000000000003]
[null,null,null,null,null,null,null,null,null,6.26,6.2000000000000304,8.42,6.2000000000000304]
[null,null,null,null,null,null,null,null,null,6.28,6.1000000000000298,8.4499999999999993,6.1000000000000298]
[null,null,null,null,null,null,null,null,null,6.3,6.0000000000000302,8.5,6.0000000000000302]
[null,null,null,null,null,null,null,null,null,6.32,5.9000000000000297,8.5299999999999994,5.9000000000000297]
[null,null,null,null,null,null,null,null,null,6.34,5.80000000000003,8.56,5.80000000000003]
[null,null,null,null,null,null,null,null,null,6.36,5.7000000000000304,8.59,5.7000000000000304]
[null,null,null,null,null,null,null,null,null,6.38,5.6000000000000298,9.02,5.6000000000000298]
[null,null,null,null,null,null,null,null,null,6.4,5.5000000000000302,9.08,5.5000000000000302]
[null,null,null,null,null,null,null,null,null,6.42,5.4000000000000297,9.1199999999999992,5.4000000000000297]
[null,null,null,null,null,null,null,null,null,6.44,5.30000000000003,9.16,5.30000000000003]
[null,null,null,null,null,null,null,null,null,6.46,5.2000000000000304,9.1999999999999993,5.2000000000000304]
[null,null,null,null,null,null,null,null,null,6.48,5.1000000000000298,9.23,5.1000000000000298]
[null,null,null,null,null,null,null,null,null,6.5,5.0000000000000302,9.26,5.0000000000000302]
[null,null,null,null,null,null,null,null,null,6.52,4.9000000000000297,9.3000000000000007,4.9000000000000297]
[null,null,null,null,null,null,null,null,null,6.54,4.80000000000003,9.34,4.80000000000003]
[null,null,null,null,null,null,null,null,null,6.5600000000000005,4.7000000000000304,9.3800000000000008,4.7000000000000304]
[null,null,null,null,null,null,null,null,null,6.58,4.6000000000000298,9.41,4.6000000000000298]
[null,null,null,null,null,null,null,null,null,7,4.5000000000000302,9.44,4.5000000000000302]
[null,null,null,null,null,null,null,null,null,7.02,4.4000000000000297,9.48,4.4000000000000297]
[null,null,null,null,null,null,null,null,null,7.04,4.30000000000003,9.52,4.30000000000003]
[null,null,null,null,null,null,null,null,null,7.06,4.2000000000000304,9.56,4.2000000000000304]
[null,null,null,null,null,null,null,null,null,7.08,4.1000000000000396,9.59,4.1000000000000396]
[null,null,null,null,null,null,null,null,null,7.1,4.00000000000004,10.02,4.00000000000004]
[null,null,null,null,null,null,null,null,null,7.12,3.9,10.06,3.9]
[null,null,null,null,null,null,null,null,null,7.14,3.8,10.1,3.8]
[null,null,null,null,null,null,null,null,null,7.16,3.7,10.14,3.7]
[null,null,null,null,null,null,null,null,null,7.18,3.6,10.17,3.6]
[null,null,null,null,null,null,null,null,null,7.2,3.5,10.199999999999999,3.5]
[null,null,null,null,null,null,null,null,null,7.24,3.4,10.24,3.4]
[null,null,null,null,null,null,null,null,null,7.28,3.3,10.28,3.3]
[null,null,null,null,null,null,null,null,null,7.32,3.2,10.32,3.2]
[null,null,null,null,null,null,null,null,null,7.36,3.1,10.36,3.1]
[null,null,null,null,null,null,null,null,null,7.4,3,10.4,3]
[null,null,null,null,null,null,null,null,null,7.44,2.9,10.44,2.9]
[null,null,null,null,null,null,null,null,null,7.48,2.8,10.48,2.8]
[null,null,null,null,null,null,null,null,null,7.52,2.7,10.52,2.7]
[null,null,null,null,null,null,null,null,null,7.5600000000000005,2.6,10.56,2.6]
[null,null,null,null,null,null,null,null,null,8,2.5,11,2.5]
[null,null,null,null,null,null,null,null,null,8.0399999999999991,2.4,11.04,2.4]
[null,null,null,null,null,null,null,null,null,8.08,2.2999999999999998,11.08,2.2999999999999998]
[null,null,null,null,null,null,null,null,null,8.1199999999999992,2.2000000000000002,11.12,2.2000000000000002]
[null,null,null,null,null,null,null,null,null,8.16,2.1,11.16,2.1]
[null,null,null,null,null,null,null,null,null,8.1999999999999993,2,11.2,2]
[null,null,null,null,null,null,null,null,null,8.24,1.9,11.24,1.9]
[null,null,null,null,null,null,null,null,null,8.2799999999999994,1.8,11.28,1.8]
[null,null,null,null,null,null,null,null,null,8.32,1.7,11.32,1.7]
[null,null,null,null,null,null,null,null,null,8.36,1.6,11.36,1.6]
[null,null,null,null,null,null,null,null,null,8.4,1.5,11.4,1.5]
[null,null,null,null,null,null,null,null,null,8.44,1.4,11.44,1.4]
[null,null,null,null,null,null,null,null,null,8.48,1.3,11.48,1.3]
[null,null,null,null,null,null,null,null,null,8.52,1.2,11.52,1.2]
[null,null,null,null,null,null,null,null,null,8.56,1.1000000000000001,11.56,1.1000000000000001]
[null,null,null,null,null,null,null,null,null,9,1,12,1]
[null,null,null,null,null,null,null,null,null,9.0399999999999991,0.9,12.04,0.9]
[null,null,null,null,null,null,null,null,null,9.08,0.80000000000000104,12.08,0.80000000000000104]
[null,null,null,null,null,null,null,null,null,9.1199999999999992,0.69999999999999896,12.12,0.69999999999999896]
[null,null,null,null,null,null,null,null,null,9.16,0.6,12.16,0.6]
[null,null,null,null,null,null,null,null,null,9.1999999999999993,0.5,12.2,0.5]
[null,null,null,null,null,null,null,null,null,9.2100000000000009,0,12.21,0]
[null,null,null,null,null,null,null,null,null,33.200000000000003,0,33.200000000000003,0]

{"sheet":"Présentation des profils","index":3,"n_rows":0,"n_cols":0,"rows_kept":0,"cut":false,"hidden":false,"merged":[]}