{"text_format":"1","workbook":"xlsx","n_sheets":18,"sheets":["Accueil","Mode d'emploi","NomsPrénoms","Tournoi","DebuterTournoi","Feuil1","T1","T2","T3","T4","T5","T6","T7","T8","T9","T10","T11","T12"],"not_rendered":{"charts":0,"images":9,"macros":1,"external_links":0,"defined_names":34,"comments":0,"pivot_tables":0},"unopened":[],"bounds":{"document_bytes":16777216,"sheet_cells":100000,"rows_first":2000,"rows_last":500,"rows_between":2000,"halvings":0,"cell_chars":16384,"cell_head_chars":4096},"cells_cut":0,"cells_raw":0,"read":"whole","date_system":"1900"}

{"sheet":"Accueil","index":0,"n_rows":20,"n_cols":11,"rows_kept":20,"cut":false,"hidden":false,"merged":[[18,2,18,9],[19,2,19,9],[19,10,19,11],[20,2,20,9],[1,2,1,11],[3,2,3,11],[4,2,4,11],[16,2,16,11],[17,2,17,11]]}
[]
[null,null,"Présentation de Tournoi Poules"]
[]
[null,null,"Pour la gestion d'un tournoi de sport de raquette jusqu'à 12 terrains avec reclassement par poules de 3 ou 4 joueurs"]
[]
[]
[]
[]
[]
[]
[]
[]
[]
[]
[]
[null,null,null,"            Enregistrer et quitter"]
[null,null,"Cette application n'est pas verrouillée par mot de passe. Vous pourez donc la modifier à votre convenance. Il s'agit d'un tournoi qui vous permettra de classer vos élèves. "]
[null,null,"Vous pourrez effectuer des tournois par poules de 3 ou 4 joueurs et vous pourrez les reclasser d'un tournoi à l'autre."]
[null,null,"Ctrl + Maj + D    =>   Déverrouillage de l'application (L'application est verrouillée par défaut)"]
[null,null,"Ctrl + Maj + V    =>   Verrouillage de l'application",null,null,null,null,null,null,null,"Cette oeuvre est sous licence Creative Commons\n Paternité - Pas d'Utilisation Commerciale 2.0 France."]

{"sheet":"Mode d'emploi","index":1,"n_rows":191,"n_cols":5,"rows_kept":191,"cut":false,"hidden":false,"merged":[[54,4,54,10],[0,1,0,11],[1,1,1,11],[44,1,44,3],[45,1,45,2],[53,4,53,10]]}
[null,"Explication Tournoi poules de 12 terrains"]
[]
[]
[]
[]
[]
[]
[]
[null,null,null,null,"Accès au mode d'emploi"]
[]
[]
[null,null,null,null,"Permet de rentrer la liste des joueurs ou des équipes et la classe pour débuter le tournoi."]
[]
[]
[]
[null,null,null,null,"Remettre tout le logiciel à zéro."]
[]
[]
[null,null,null,null,"Reprendre un tournoi non terminé ou suite à "]
[null,null,null,null,"une rotation montant - descendant"]
[]
[]
[]
[]
[null,"               Enregistre automatiquement et quitte Excel"]
[]
[null,"Pour commencer le tournoi, vous devez tout d'abord entrer les joueurs ou les équipes de différentes façons possibles."]
[null,"FACULTATIF : Si vous avez fait un classement de la classe dans l'activité, mettez les joueurs ou les équipes dans l'ordre du classement et n'oubliez pas d'indiquer la classe."]
[]
[]
[]
[]
[]
[null,null,"N'oubliez pas d'indiquer la classe qui se trouve dans une case blanche"]
[null,null,"en haut à droite de la feuille"]
[]
[]
[]
[]
[null,"                                Revenir à l'accueil                   Effacer les noms et la classe           Accéder au tournoi une fois que tout est rentré"]
[]
[]
[null,"Vous accédez donc à la feuille où vous allez indiquez le classement et les poules de 3 ou 4 joueurs ou équipes"]
[]
[null,"                                  Efface les numéros            Retour vers la liste      Indique la table et la lettre du joueur       Enregisre le fichier"]
[null,"Retour à l'accueil        des joueurs                             d'élèves                   (cf. explication sous la photo)                      et quitte Excel"]
[]
[]
[]
[]
[]
[]
[]
[null,null,null,null,"Fait automatiquement monter et descendre les gagnants et "]
[null,null,null,null,"perdants des différentes tables / terrains à la fin des "]
[null,null,null,null,"rencontres."]
[]
[]
[null,null,null,null,"Permet de débuter le tournoi et d'accéder à la marque de"]
[null,null,null,null,"chaque terrain."]
[]
[]
[]
[null,null,null,null,"Si on veut effacer les scores et garder la même classe."]
[]
[]
[]
[]
[null,"Informez la colonne \"Joueurs ou Equipes\" en indiquant:"]
[null,"11 pour la table 1 Joueur A"]
[null,"12 pour la table 1 Joueur B"]
[null,"13 pour la table 1 Joueur C"]
[null,"14 pour la table 1 Joueur D"]
[null,"21 pour la table 2 Joueur A"]
[null,"22 pour la table 2 Joueur B"]
[null,"23 pour la table 2 Joueur C"]
[null,"24 pour la table 2 Joueur D"]
[null,"……………………….."]
[]
[null,"Tous les terrains se remplissent donc automatiquement, chaque joueur ou équipe pourra maintenant aller sur la feuille correspondant à son terrain."]
[]
[null,"EFFACER"]
[null,"1. Les scores des tables : cliquer sur la banière rouge. Attention, n'oubliez pas de faire la rotation des joueurs ou équipes avant d'effacer les scores. Cela enlèvera les classements"]
[null," par table."]
[null,"2. Les numéros des joueurs  ou des équipes : cliquer sur le bouton gris - vous devrez réorganiser les tables de 3 ou 4 (par exemple si vous intégrez un nouveau joueur dans le tournoi)."]
[]
[null,"ROTATION"]
[null,"Vous pouvez, en fin de tournoi, effectuer un mouvement des joueurs ou équipes de type montée-descente. Le 1er de chaque poule montera d'une table et le dernier descendra,"]
[null,"(ce quelque soit le nombre de joueurs ou équipes par table). Il suffit pour cela de cliquer sur l'icône en haut à droite de la feuille en forme de double flèche courbée."]
[]
[]
[]
[]
[]
[null,"AJOUTER UN JOUEUR ABSENT OU DISPENSE"]
[null,"Ce bouton vous permet de revenir à la iste des joueurs ou des équipes afin d'en rajouter un(e) manuellement tout en bas de la liste (sans perdre le classement précédant)"]
[]
[]
[]
[]
[null,"EXIT"]
[null,"Ce bouton vous permet d'enregistrer automatiquement le fichier et de quitter excel. Au cas ou vous cliqueriez sur la croix (vous ou bien un joueur, par le plus grand des"]
[null," hasards et par inadvertance), j'ai tout de même fait en sorte qu'une sauvegarde s'effectue automatiquement."]
[]
[]
[]
[]
[]
[null,"DEBUTER LE TOURNOI"]
[null,"Vous voici maintenant sur une nouvelle feuille qui vous permet d'accéder à tous les terrains."]
[]
[]
[]
[]
[]
[]
[]
[]
[]
[]
[]
[]
[]
[]
[]
[]
[]
[]
[]
[]
[]
[]
[]
[]
[]
[]
[]
[]
[]
[]
[]
[null,"Chaque étoile correspond à une table / terrain. Pour commencer, attendez que le premier joueur qui a fini sa rencontre arrive et clique sur son étoile. "]
[null,"Les élèves peuvent fonctionner en autonomie très facilement sur ce type d'outil"]
[]
[]
[null,"Pour retourner au tableau précédant, cliquez sur \"retour vers les résultats\"."]
[]
[]
[]
[]
[]
[null,"Voici à quoi ressemble un tableau de tournoi pour une poule :"]
[]
[]
[]
[]
[]
[]
[]
[]
[]
[]
[]
[]
[]
[]
[]
[]
[]
[]
[]
[]
[]
[]
[]
[]
[]
[]
[]
[]
[]
[]
[null,"Vous pouvez donc voir que les poules se font automatiquement, ainsi que l'ordre des rencontres et le classement dans le tableau du bas."]
[null,"Pour changer de table / terrain rapidement, il suffit de cliquer sur l'étoile qui correspond sur la gauche."]
[]
[null,"Lorsque votre tournoi est terminé, vous enregistrez celui-ci et/ou vous pouvez en creér un autre. "]
[null,"En cliquant sur \"Rotation\" pour refaire les poules, l'application est prête pour lancer un nouveau tournoi."]
[null,"En cas d'ex-aquo, une alerte s'affiche sous la forme d'une cellule rouge. Vous pouvez modifier le numéro du juoeur ou de l'équipe."]
[]
[null,"Dans le cas d'un joueur qui est absent ou qui ne peut pas prendre part au tournoi il suffit d'effacer son numéro de terrain ou de table en veillant"]
[null,"à ce qu'il y ait toujours au moins 3 joueurs ou équipes par pouleSinon faites les ajustements nécessaires."]

{"sheet":"NomsPrénoms","index":2,"n_rows":43,"n_cols":8,"rows_kept":43,"cut":false,"hidden":false,"merged":[[0,1,0,3]]}
[null,"Feuille de saisie des Noms et des Prénoms des participants dans l'ordre du classement.",null,null,null,null,null,"Classe"]
[]
[null,"NOM","Prénom",null,"NOM Prénom ou  Equipes",null,"NOM Prénom"]
[1,null,null,1,null,1,{"$f":"IF(E4<>\"\",E4,IF(OR(B4<>\"\",C4<>\"\"),CONCATENATE(B4,\" \",C4),\"zzz\"))","v":"zzz"}]
[2,null,null,2,null,2,{"$f":"IF(E5<>\"\",E5,IF(OR(B5<>\"\",C5<>\"\"),CONCATENATE(B5,\" \",C5),\"zzz\"))","v":"zzz"}]
[3,null,null,3,null,3,{"$f":"IF(E6<>\"\",E6,IF(OR(B6<>\"\",C6<>\"\"),CONCATENATE(B6,\" \",C6),\"zzz\"))","v":"zzz"}]
[4,null,null,4,null,4,"zzz"]
[5,null,null,5,null,5,"zzz"]
[6,null,null,6,null,6,"zzz"]
[7,null,null,7,null,7,"zzz"]
[8,null,null,8,null,8,"zzz"]
[9,null,null,9,null,9,"zzz"]
[10,null,null,10,null,10,"zzz"]
[11,null,null,11,null,11,"zzz"]
[12,null,null,12,null,12,"zzz"]
[13,null,null,13,null,13,"zzz"]
[14,null,null,14,null,14,"zzz"]
[15,null,null,15,null,15,"zzz"]
[16,null,null,16,null,16,"zzz"]
[17,null,null,17,null,17,"zzz"]
[18,null,null,18,null,18,"zzz"]
[19,null,null,19,null,19,"zzz"]
[20,null,null,20,null,20,"zzz"]
[21,null,null,21,null,21,"zzz"]
[22,null,null,22,null,22,"zzz"]
[23,null,null,23,null,23,"zzz"]
[24,null,null,24,null,24,"zzz"]
[25,null,null,25,null,25,"zzz"]
[26,null,null,26,null,26,"zzz"]
[27,null,null,27,null,27,"zzz"]
[28,null,null,28,null,28,"zzz"]
[29,null,null,29,null,29,"zzz"]
[30,null,null,30,null,30,"zzz"]
[31,null,null,31,null,31,"zzz"]
[32,null,null,32,null,32,"zzz"]
[33,null,null,33,null,33,"zzz"]
[34,null,null,34,null,34,"zzz"]
[35,null,null,35,null,35,"zzz"]
[36,null,null,36,null,36,"zzz"]
[37,null,null,37,null,37,"zzz"]
[38,null,null,38,null,38,"zzz"]
[39,null,null,39,null,39,"zzz"]
[40,null,null,40,null,40,"zzz"]

{"sheet":"Tournoi","index":3,"n_rows":102,"n_cols":41,"rows_kept":102,"cut":false,"hidden":false,"merged":[[52,3,52,6],[2,3,2,7],[56,20,59,20],[44,20,47,20],[48,20,51,20],[52,20,55,20],[40,20,43,20],[2,8,2,9],[2,27,2,30],[1,10,1,12],[60,20,63,20],[64,20,67,20],[20,20,23,20],[24,20,27,20],[28,20,31,20],[32,20,35,20],[36,20,39,20]]}
[]
[null,null,null,null,null,null,null,null,null,null," "]
[null,null,null,null,null,null,null,null,"    Rotation     "]
[null,null,"Noms Prénoms","Terrain\nTable\n(T1 à T12)","Lettre\nJoueurs\nou Equipe\nTerrain","Joueur\nOU\nEquipe","Nb Joueur ou Equipe\npar terrain/table","Classement\nTerrain/Table",null,null,1,2,3,4,5,6]
[1,null,null,{"$f":"IF(F5=\"\",\"\",VLOOKUP(F5,Numerodetable,3))","v":""},{"$f":"IF(F5=\"\",\"\",VLOOKUP(F5,LETTRESJOUEURS,2))","v":""},null,{"$f":"IF(D5=\"\",\"\",VLOOKUP(D5,NBJOUEURPARTABLE,2))","v":""},{"$f":"IF(F5=\"\",\"\",VLOOKUP(F5,classement,3))","v":""},{"$f":"IF(C5=\"\",\"\",C5)","v":""},"A",{"$f":"IF(COUNTIF($F$5:$F$44,N20)=1,IF($K$20>=3,VLOOKUP('T1'!A5,groupe1,4,0)),\"\")","v":""},{"$f":"IF(COUNTIF($F$5:$F$44,N24)=1,IF($K$20>=3,VLOOKUP('T2'!A4,groupe1,4,0)),\"\")","v":""},{"$f":"IF(COUNTIF($F$5:$F$44,N28)=1,IF($K$20>=3,VLOOKUP('T3'!A4,groupe1,4,0)),\"\")","v":""},{"$f":"IF(COUNTIF($F$5:$F$44,N32)=1,IF($K$20>=3,VLOOKUP('T4'!A4,groupe1,4,0)),\"\")","v":""},{"$f":"IF(COUNTIF($F$5:$F$44,N36)=1,IF($K$20>=3,VLOOKUP('T5'!A4,groupe1,4,0)),\"\")","v":""},{"$f":"IF(COUNTIF($F$5:$F$44,N40)=1,IF($K$20>=3,VLOOKUP('T6'!A4,groupe1,4,0)),\"\")","v":""},{"$f":"IF(COUNTIF($F$5:$F$44,N44)=1,IF($K$20>=3,VLOOKUP('T7'!A4,groupe1,4,0)),\"\")","v":""},{"$f":"IF(COUNTIF($F$5:$F$44,N48)=1,IF($K$20>=3,VLOOKUP('T8'!A4,groupe1,4,0)),\"\")","v":""},{"$f":"IF(COUNTIF($F$5:$F$44,N52)=1,IF($K$20>=3,VLOOKUP('T9'!A4,groupe1,4,0)),\"\")","v":""},{"$f":"IF(COUNTIF($F$5:$F$44,N56)=1,IF($K$20>=3,VLOOKUP('T10'!A4,groupe1,4,0)),\"\")","v":""},{"$f":"IF(COUNTIF($F$5:$F$44,N60)=1,IF($K$20>=3,VLOOKUP('T11'!A4,groupe1,4,0)),\"\")","v":""},{"$f":"IF(COUNTIF($F$5:$F$44,N64)=1,IF($K$20>=3,VLOOKUP('T12'!A4,groupe1,4,0)),\"\")","v":""},1,null,null,null,null,null,null,null,null,null,null,null,null,null,"Nombre de matchs joués"]
[2,null,null,"","",null,"",{"$f":"IF(F6=\"\",\"\",VLOOKUP(F6,classement,3))","v":""},{"$f":"IF(C6=\"\",\"\",C6)","v":""},"B",{"$f":"IF(COUNTIF($F$5:$F$44,N21)=1,IF($K$20>=3,VLOOKUP('T1'!A6,groupe1,4,0)),\"\")","v":""},{"$f":"IF(COUNTIF($F$5:$F$44,N25)=1,IF($K$20>=3,VLOOKUP('T2'!A5,groupe1,4,0)),\"\")","v":""},{"$f":"IF(COUNTIF($F$5:$F$44,N29)=1,IF($K$20>=3,VLOOKUP('T3'!A5,groupe1,4,0)),\"\")","v":""},{"$f":"IF(COUNTIF($F$5:$F$44,N33)=1,IF($K$20>=3,VLOOKUP('T4'!A5,groupe1,4,0)),\"\")","v":""},{"$f":"IF(COUNTIF($F$5:$F$44,N37)=1,IF($K$20>=3,VLOOKUP('T5'!A5,groupe1,4,0)),\"\")","v":""},{"$f":"IF(COUNTIF($F$5:$F$44,N41)=1,IF($K$20>=3,VLOOKUP('T6'!A5,groupe1,4,0)),\"\")","v":""},{"$f":"IF(COUNTIF($F$5:$F$44,N45)=1,IF($K$20>=3,VLOOKUP('T7'!A5,groupe1,4,0)),\"\")","v":""},{"$f":"IF(COUNTIF($F$5:$F$44,N49)=1,IF($K$20>=3,VLOOKUP('T8'!A5,groupe1,4,0)),\"\")","v":""},{"$f":"IF(COUNTIF($F$5:$F$44,N53)=1,IF($K$20>=3,VLOOKUP('T9'!A5,groupe1,4,0)),\"\")","v":""},{"$f":"IF(COUNTIF($F$5:$F$44,N57)=1,IF($K$20>=3,VLOOKUP('T10'!A5,groupe1,4,0)),\"\")","v":""},{"$f":"IF(COUNTIF($F$5:$F$44,N61)=1,IF($K$20>=3,VLOOKUP('T11'!A5,groupe1,4,0)),\"\")","v":""},{"$f":"IF(COUNTIF($F$5:$F$44,N65)=1,IF($K$20>=3,VLOOKUP('T12'!A5,groupe1,4,0)),\"\")","v":""},2,null,null,null,null,null,null,null,null,null,null,null,null,null,1,{"$f":"IF('T1'!H11=0,0,IF('T1'!H11=4,COUNTA('T1'!D15:D20),COUNTA('T1'!K15:K20)))","v":0},null,{"$f":"LARGE(D5:D44,1)","v":{"$error":"#NUM!"}},{"$f":"SUM(AL6:AL17)/2","v":0}]
[3,null,null,"","",null,"","","","C",{"$f":"IF(COUNTIF($F$5:$F$44,N22)=1,IF($K$20>=3,VLOOKUP('T1'!A7,groupe1,4,0)),\"\")","v":""},{"$f":"IF(COUNTIF($F$5:$F$44,N26)=1,IF($K$20>=3,VLOOKUP('T2'!A6,groupe1,4,0)),\"\")","v":""},{"$f":"IF(COUNTIF($F$5:$F$44,N30)=1,IF($K$20>=3,VLOOKUP('T3'!A6,groupe1,4,0)),\"\")","v":""},{"$f":"IF(COUNTIF($F$5:$F$44,N34)=1,IF($K$20>=3,VLOOKUP('T4'!A6,groupe1,4,0)),\"\")","v":""},{"$f":"IF(COUNTIF($F$5:$F$44,N38)=1,IF($K$20>=3,VLOOKUP('T5'!A6,groupe1,4,0)),\"\")","v":""},{"$f":"IF(COUNTIF($F$5:$F$44,N42)=1,IF($K$20>=3,VLOOKUP('T6'!A6,groupe1,4,0)),\"\")","v":""},{"$f":"IF(COUNTIF($F$5:$F$44,N46)=1,IF($K$20>=3,VLOOKUP('T7'!A6,groupe1,4,0)),\"\")","v":""},{"$f":"IF(COUNTIF($F$5:$F$44,N50)=1,IF($K$20>=3,VLOOKUP('T8'!A6,groupe1,4,0)),\"\")","v":""},{"$f":"IF(COUNTIF($F$5:$F$44,N54)=1,IF($K$20>=3,VLOOKUP('T9'!A6,groupe1,4,0)),\"\")","v":""},{"$f":"IF(COUNTIF($F$5:$F$44,N58)=1,IF($K$20>=3,VLOOKUP('T10'!A6,groupe1,4,0)),\"\")","v":""},{"$f":"IF(COUNTIF($F$5:$F$44,N62)=1,IF($K$20>=3,VLOOKUP('T11'!A6,groupe1,4,0)),\"\")","v":""},{"$f":"IF(COUNTIF($F$5:$F$44,N66)=1,IF($K$20>=3,VLOOKUP('T12'!A6,groupe1,4,0)),\"\")","v":""},3,null,null,null,null,null,null,null,null,null,null,null,null,null,2,{"$f":"IF('T2'!H10=0,0,IF('T2'!H10=4,COUNTA('T2'!D14:D19),COUNTA('T2'!K14:K19)))","v":0}]
[4,null,null,"","",null,"","","","D",{"$f":"IF(COUNTIF($F$5:$F$44,N23)=1,IF($K$20>=3,VLOOKUP('T1'!A8,groupe1,4,0)),\"\")","v":""},{"$f":"IF(COUNTIF($F$5:$F$44,N27)=1,IF($K$20>=3,VLOOKUP('T2'!A7,groupe1,4,0)),\"\")","v":""},{"$f":"IF(COUNTIF($F$5:$F$44,N31)=1,IF($K$20>=3,VLOOKUP('T3'!A7,groupe1,4,0)),\"\")","v":""},{"$f":"IF(COUNTIF($F$5:$F$44,N35)=1,IF($K$20>=3,VLOOKUP('T4'!A7,groupe1,4,0)),\"\")","v":""},{"$f":"IF(COUNTIF($F$5:$F$44,N39)=1,IF($K$20>=3,VLOOKUP('T5'!A7,groupe1,4,0)),\"\")","v":""},{"$f":"IF(COUNTIF($F$5:$F$44,N43)=1,IF($K$20>=3,VLOOKUP('T6'!A7,groupe1,4,0)),\"\")","v":""},{"$f":"IF(COUNTIF($F$5:$F$44,N47)=1,IF($K$20>=3,VLOOKUP('T7'!A7,groupe1,4,0)),\"\")","v":""},{"$f":"IF(COUNTIF($F$5:$F$44,N51)=1,IF($K$20>=3,VLOOKUP('T8'!A7,groupe1,4,0)),\"\")","v":""},{"$f":"IF(COUNTIF($F$5:$F$44,N55)=1,IF($K$20>=3,VLOOKUP('T9'!A7,groupe1,4,0)),\"\")","v":""},{"$f":"IF(COUNTIF($F$5:$F$44,N59)=1,IF($K$20>=3,VLOOKUP('T10'!A7,groupe1,4,0)),\"\")","v":""},{"$f":"IF(COUNTIF($F$5:$F$44,N63)=1,IF($K$20>=3,VLOOKUP('T11'!A7,groupe1,4,0)),\"\")","v":""},{"$f":"IF(COUNTIF($F$5:$F$44,N67)=1,IF($K$20>=3,VLOOKUP('T12'!A7,groupe1,4,0)),\"\")","v":""},4,null,null,null,null,null,null,null,null,null,null,null,null,null,3,{"$f":"IF('T3'!H10=0,0,IF('T3'!H10=4,COUNTA('T3'!D14:D19),COUNTA('T3'!K14:K19)))","v":0}]
[5,null,null,"","",null,"","","",null,null,null,null,null,null,null,null,null,null,null,null,null,5,null,null,null,null,null,null,null,null,null,null,null,null,null,4,{"$f":"IF('T4'!H10=0,0,IF('T4'!H10=4,COUNTA('T4'!D14:D19),COUNTA('T4'!K14:K19)))","v":0}]
[6,null,null,"","",null,"","","",null,null,null,null,null,null,null,null,null,null,null,null,null,6,null,null,null,null,null,null,null,null,null,null,null,null,null,5,{"$f":"IF('T5'!H10=0,0,IF('T5'!H10=4,COUNTA('T5'!D14:D19),COUNTA('T5'!K14:K19)))","v":0}]
[7,null,null,"","",null,"","","",null,null,null,null,null,null,null,null,null,null,null,null,null,7,null,null,null,null,null,null,null,null,null,null,null,null,null,6,{"$f":"IF('T6'!H10=0,0,IF('T6'!H10=4,COUNTA('T6'!D14:D19),COUNTA('T6'!K14:K19)))","v":0}]
[8,null,null,"","",null,"","","","A",null,null,null,null,null,null,null,null,null,null,null,null,8,null,null,null,null,null,null,null,null,null,null,null,null,null,7,{"$f":"IF('T7'!H10=0,0,IF('T7'!H10=4,COUNTA('T7'!D14:D19),COUNTA('T7'!K14:K19)))","v":0}]
[9,null,null,"","",null,"","","","B",null,null,null,null,null,null,null,null,null,null,null,null,9,null,null,null,null,null,null,null,null,null,null,null,null,null,8,{"$f":"IF('T8'!H10=0,0,IF('T8'!H10=4,COUNTA('T8'!D14:D19),COUNTA('T8'!K14:K19)))","v":0}]
[10,null,null,"","",null,"","","","C",null,null,null,null,null,null,null,null,null,null,null,null,10,null,null,null,null,null,null,null,null,null,null,null,null,null,9,{"$f":"IF('T9'!H10=0,0,IF('T9'!H10=4,COUNTA('T9'!D14:D19),COUNTA('T9'!K14:K19)))","v":0}]
[11,null,null,"","",null,"","","","D",null,null,null,null,null,null,null,null,null,null,null,null,11,null,null,null,null,null,null,null,null,null,null,null,null,null,10,{"$f":"IF('T10'!H10=0,0,IF('T10'!H10=4,COUNTA('T10'!D14:D19),COUNTA('T10'!K14:K19)))","v":0}]
[12,null,null,"","",null,"","","",null,null,null,null,null,null,null,null,null,null,null,null,null,12,null,null,null,null,null,null,null,null,null,null,null,null,null,11,{"$f":"IF('T11'!H10=0,0,IF('T11'!H10=4,COUNTA('T11'!D14:D19),COUNTA('T11'!K14:K19)))","v":0}]
[13,null,null,"","",null,"","","",null,null,null,null,null,null,null,null,null,null,null,null,null,13,null,null,null,null,null,null,null,null,null,null,null,null,null,12,{"$f":"IF('T12'!H10=0,0,IF('T12'!H10=4,COUNTA('T12'!D14:D19),COUNTA('T12'!K14:K19)))","v":0}]
[14,null,null,"","",null,"","","",null,null,null,null,null,null,null,null,null,null,null,null,null,14]
[15,null,null,"","",null,"","","",null,null,null,null,null,null,null,null,null,null,null,null,null,15]
[16,null,null,"","",null,"","","",1,{"$f":"COUNTIF($D$5:$D$44,J20)","v":0},null,null,11,"A",1,null,"Prénoms","classement",null,null,null,16]
[17,null,null,"","",null,"","","",2,{"$f":"COUNTIF($D$5:$D$44,J21)","v":0},null,null,12,"B",1,11,{"$f":"'T1'!F32","v":""},{"$f":"IF(OR(R21=\"\",$AL$6<2),\"\",'T1'!O32)","v":""},{"$f":"IF(R21=\"\",\"\",'T1'!$H$11)","v":""},"TABLE    1",null,17]
[18,null,null,"","",null,"","","",3,{"$f":"COUNTIF($D$5:$D$44,J22)","v":0},null,null,13,"C",1,12,{"$f":"'T1'!F33","v":""},{"$f":"IF(OR(R22=\"\",$AL$6<2),\"\",'T1'!O33)","v":""},{"$f":"IF(R22=\"\",\"\",'T1'!$H$11)","v":""},null,null,18]
[19,null,null,"","",null,"","","",4,0,null,null,14,"D",1,13,{"$f":"'T1'!F34","v":""},{"$f":"IF(OR(R23=\"\",$AL$6<2),\"\",'T1'!O34)","v":""},{"$f":"IF(R23=\"\",\"\",'T1'!$H$11)","v":""},null,null,19]
[20,null,null,"","",null,"","","",5,0,null,null,21,"A",2,14,{"$f":"'T1'!F35","v":""},{"$f":"IF(OR(R24=\"\",$AL$6<2),\"\",'T1'!O35)","v":""},{"$f":"IF(R24=\"\",\"\",'T1'!$H$11)","v":""},null,null,20]
[21,null,null,"","",null,"","","",6,0,null,null,22,"B",2,21,{"$f":"'T2'!F31","v":""},{"$f":"IF(OR(R25=\"\",$AL$7<2),\"\",'T2'!O31)","v":""},{"$f":"IF(R25=\"\",\"\",'T2'!$H$10)","v":""},"TABLE    2",null,21]
[22,null,null,"","",null,"","","",7,0,null,null,23,"C",2,22,{"$f":"'T2'!F32","v":""},{"$f":"IF(OR(R26=\"\",$AL$7<2),\"\",'T2'!O32)","v":""},{"$f":"IF(R26=\"\",\"\",'T2'!$H$10)","v":""},null,null,22]
[23,null,null,"","",null,"","","",8,0,null,null,24,"D",2,23,{"$f":"'T2'!F33","v":""},{"$f":"IF(OR(R27=\"\",$AL$7<2),\"\",'T2'!O33)","v":""},{"$f":"IF(R27=\"\",\"\",'T2'!$H$10)","v":""},null,null,23]
[24,null,null,"","",null,"","","",9,0,null,null,31,"A",3,24,{"$f":"'T2'!F34","v":""},{"$f":"IF(OR(R28=\"\",$AL$7<2),\"\",'T2'!O34)","v":""},{"$f":"IF(R28=\"\",\"\",'T2'!$H$10)","v":""},null,null,24]
[25,null,null,"","",null,"","","",10,0,null,null,32,"B",3,31,{"$f":"'T3'!F31","v":""},{"$f":"IF(OR(R29=\"\",$AL$8<2),\"\",'T3'!O31)","v":""},{"$f":"IF(R29=\"\",\"\",'T3'!$H$10)","v":""},"TABLE    3",null,25]
[26,null,null,"","",null,"","","",11,0,null,null,33,"C",3,32,{"$f":"'T3'!F32","v":""},{"$f":"IF(OR(R30=\"\",$AL$8<2),\"\",'T3'!O32)","v":""},{"$f":"IF(R30=\"\",\"\",'T3'!$H$10)","v":""},null,null,26]
[27,null,null,"","",null,"","","",12,0,null,null,34,"D",3,33,{"$f":"'T3'!F33","v":""},{"$f":"IF(OR(R31=\"\",$AL$8<2),\"\",'T3'!O33)","v":""},{"$f":"IF(R31=\"\",\"\",'T3'!$H$10)","v":""},null,null,27]
[28,null,null,"","",null,"","","",null,null,null,null,41,"A",4,34,{"$f":"'T3'!F34","v":""},{"$f":"IF(OR(R32=\"\",$AL$8<2),\"\",'T3'!O34)","v":""},{"$f":"IF(R32=\"\",\"\",'T3'!$H$10)","v":""},null,null,28]
[29,null,null,"","",null,"","","",null,null,null,null,42,"B",4,41,{"$f":"'T4'!C31","v":""},{"$f":"IF(OR(R33=\"\",$AL$9<2),\"\",'T4'!O31)","v":""},{"$f":"IF(R33=\"\",\"\",'T4'!$H$10)","v":""},"TABLE    4",null,29]
[30,null,null,"","",null,"","","",null,null,null,null,43,"C",4,42,{"$f":"'T4'!C32","v":""},{"$f":"IF(OR(R34=\"\",$AL$9<2),\"\",'T4'!O32)","v":""},{"$f":"IF(R34=\"\",\"\",'T4'!$H$10)","v":""},null,null,30]
[31,null,null,"","",null,"","","",null,null,null,null,44,"D",4,43,{"$f":"'T4'!C33","v":""},{"$f":"IF(OR(R35=\"\",$AL$9<2),\"\",'T4'!O33)","v":""},{"$f":"IF(R35=\"\",\"\",'T4'!$H$10)","v":""},null,null,31]
[32,null,null,"","",null,"","","",null,null,null,null,51,"A",5,44,{"$f":"'T4'!C34","v":""},{"$f":"IF(OR(R36=\"\",$AL$9<2),\"\",'T4'!O34)","v":""},{"$f":"IF(R36=\"\",\"\",'T4'!$H$10)","v":""},null,null,32]
[33,null,null,"","",null,"","","",null,null,null,null,52,"B",5,51,{"$f":"'T5'!F31","v":""},{"$f":"IF(OR(R37=\"\",$AL$10<2),\"\",'T5'!O31)","v":""},{"$f":"IF(R37=\"\",\"\",'T5'!$H$10)","v":""},"TABLE    5",null,33]
[34,null,null,"","",null,{"$f":"IF(D38=\"\",\"\",VLOOKUP(D38,NBJOUEURPARTABLE,2))","v":""},{"$f":"IF(F38=\"\",\"\",VLOOKUP(F38,classement,3))","v":""},"",null,null,null,null,53,"C",5,52,{"$f":"'T5'!F32","v":""},{"$f":"IF(OR(R38=\"\",$AL$10<2),\"\",'T5'!O32)","v":""},{"$f":"IF(R38=\"\",\"\",'T5'!$H$10)","v":""}]
[35,null,null,"","",null,"","","",null,null,null,null,54,"D",5,53,{"$f":"'T5'!F33","v":""},{"$f":"IF(OR(R39=\"\",$AL$10<2),\"\",'T5'!O33)","v":""},{"$f":"IF(R39=\"\",\"\",'T5'!$H$10)","v":""}]
[36,null,null,"","",null,"","","",null,null,null,null,61,"A",6,54,{"$f":"'T5'!F34","v":""},{"$f":"IF(OR(R40=\"\",$AL$10<2),\"\",'T5'!O34)","v":""},{"$f":"IF(R40=\"\",\"\",'T5'!$H$10)","v":""}]
[37,null,null,"","",null,"","","",null,null,null,null,62,"B",6,61,{"$f":"'T6'!F31","v":""},{"$f":"IF(OR(R41=\"\",$AL$11<2),\"\",'T6'!O31)","v":""},{"$f":"IF(R41=\"\",\"\",'T6'!$H$10)","v":""},"TABLE    6"]
[38,null,null,"","",null,"","","",null,null,null,null,63,"C",6,62,{"$f":"'T6'!F32","v":""},{"$f":"IF(OR(R42=\"\",$AL$11<2),\"\",'T6'!O32)","v":""},{"$f":"IF(R42=\"\",\"\",'T6'!$H$10)","v":""}]
[39,null,null,"","",null,"","","",null,null,null,null,64,"D",6,63,{"$f":"'T6'!F33","v":""},{"$f":"IF(OR(R43=\"\",$AL$11<2),\"\",'T6'!O33)","v":""},{"$f":"IF(R43=\"\",\"\",'T6'!$H$10)","v":""}]
[40,null,null,"","",null,"","","",null,null,null,null,71,"A",7,64,{"$f":"'T6'!F34","v":""},{"$f":"IF(OR(R44=\"\",$AL$11<2),\"\",'T6'!O34)","v":""},{"$f":"IF(R44=\"\",\"\",'T6'!$H$10)","v":""}]
[null,null,null,null,null,null,null,null,null,null,null,null,null,72,"B",7,71,{"$f":"'T7'!F31","v":""},{"$f":"IF(OR(R45=\"\",$AL$12<2),\"\",'T7'!O31)","v":""},{"$f":"IF(R45=\"\",\"\",'T7'!$H$10)","v":""},"TABLE    7"]
[null,null,null,null,null,null,null,null,null,null,null,null,null,73,"C",7,72,{"$f":"'T7'!F32","v":""},{"$f":"IF(OR(R46=\"\",$AL$12<2),\"\",'T7'!O32)","v":""},{"$f":"IF(R46=\"\",\"\",'T7'!$H$10)","v":""}]
[null,null,null,null,null,null,null,null,null,null,null,null,null,74,"D",7,73,{"$f":"'T7'!F33","v":""},{"$f":"IF(OR(R47=\"\",$AL$12<2),\"\",'T7'!O33)","v":""},{"$f":"IF(R47=\"\",\"\",'T7'!$H$10)","v":""}]
[null,null,null,null,null,null,null,null,null,null,null,null,null,81,"A",8,74,{"$f":"'T7'!F34","v":""},{"$f":"IF(OR(R48=\"\",$AL$12<2),\"\",'T7'!O34)","v":""},{"$f":"IF(R48=\"\",\"\",'T7'!$H$10)","v":""}]
[null,null,null,null,null,null,null,null,null,null,null,null,null,82,"B",8,81,{"$f":"'T8'!F31","v":""},{"$f":"IF(OR(R49=\"\",$AL$13<2),\"\",'T8'!O31)","v":""},{"$f":"IF(R49=\"\",\"\",'T8'!$H$10)","v":""},"TABLE    8"]
[null,null,null,null,null,null,null,null,null,null,null,null,null,83,"C",8,82,{"$f":"'T8'!F32","v":""},{"$f":"IF(OR(R50=\"\",$AL$13<2),\"\",'T8'!O32)","v":""},{"$f":"IF(R50=\"\",\"\",'T8'!$H$10)","v":""}]
[null,null,null,null,null,null,null,null,null,null,null,null,null,84,"D",8,83,{"$f":"'T8'!F33","v":""},{"$f":"IF(OR(R51=\"\",$AL$13<2),\"\",'T8'!O33)","v":""},{"$f":"IF(R51=\"\",\"\",'T8'!$H$10)","v":""}]
[null,null,null,null,null,null,null,null,null,null,null,null,null,91,"A",9,84,{"$f":"'T8'!F34","v":""},{"$f":"IF(OR(R52=\"\",$AL$13<2),\"\",'T8'!O34)","v":""},{"$f":"IF(R52=\"\",\"\",'T8'!$H$10)","v":""}]
[null,null,null,"Points des matchs",null,null,null,"Points des contrats",null,null,null,null,null,92,"B",9,91,{"$f":"'T9'!F31","v":""},{"$f":"IF(OR(R53=\"\",$AL$14<2),\"\",'T9'!O31)","v":""},{"$f":"IF(R53=\"\",\"\",'T9'!$H$10)","v":""},"TABLE    9"]
[null,null,"Prenoms","M1","M2","M3","M4","C1",null,null,null,null,null,93,"C",9,92,{"$f":"'T9'!F32","v":""},{"$f":"IF(OR(R54=\"\",$AL$14<2),\"\",'T9'!O32)","v":""},{"$f":"IF(R54=\"\",\"\",'T9'!$H$10)","v":""}]
[11,null,{"$f":"'T1'!F32","v":""},{"$f":"IF('T1'!$C$24=\"\",\"\",IF('T1'!$H$11=\"\",\"\",IF('T1'!$H$11=3,'T1'!$K$15,'T1'!$D$15)))","v":""},{"$f":"IF('T1'!$D$24=\"\",\"\",IF('T1'!$H$11=\"\",\"\",IF('T1'!$H$11=3,'T1'!$K$16,'T1'!$D$17)))","v":""},{"$f":"IF('T1'!E24=\"\",\"\",IF('T1'!$H$11=\"\",\"\",IF('T1'!$H$11=3,'T1'!$K$18,'T1'!$D$19)))","v":""},{"$f":"IF('T1'!F24=\"\",\"\",IF('T1'!$H$11=\"\",\"\",IF('T1'!$H$11=3,'T1'!$K$19,\"\")))","v":""},{"$f":"IF('T1'!$K$24=\"\",\"\",IF('T1'!$H$11=\"\",\"\",IF('T1'!$H$11=3,'T1'!$M$15,'T1'!$F$15)))","v":""},null,null,null,null,null,94,"D",9,93,{"$f":"'T9'!F33","v":""},{"$f":"IF(OR(R55=\"\",$AL$14<2),\"\",'T9'!O33)","v":""},{"$f":"IF(R55=\"\",\"\",'T9'!$H$10)","v":""}]
[12,null,{"$f":"'T1'!F33","v":""},{"$f":"IF('T1'!C25=\"\",\"\",IF('T1'!$H$11=\"\",\"\",IF('T1'!$H$11=3,'T1'!$L$15,'T1'!$E$15)))","v":""},{"$f":"IF('T1'!D25=\"\",\"\",IF('T1'!$H$11=\"\",\"\",IF('T1'!$H$11=3,'T1'!$K$17,'T1'!$D$18)))","v":""},{"$f":"IF('T1'!E25=\"\",\"\",IF('T1'!$H$11=\"\",\"\",IF('T1'!$H$11=3,'T1'!$L$18,'T1'!$D$20)))","v":""},{"$f":"IF('T1'!F25=\"\",\"\",IF('T1'!$H$11=\"\",\"\",IF('T1'!$H$11=3,'T1'!$K$20,\"\")))","v":""},{"$f":"IF('T1'!$K$25=\"\",\"\",IF('T1'!$H$11=\"\",\"\",IF('T1'!$H$11=3,'T1'!$N$15,'T1'!$G$15)))","v":""},null,null,null,null,null,101,"A",10,94,{"$f":"'T9'!F34","v":""},{"$f":"IF(OR(R56=\"\",$AL$14<2),\"\",'T9'!O34)","v":""},{"$f":"IF(R56=\"\",\"\",'T9'!$H$10)","v":""}]
[13,null,{"$f":"'T1'!F34","v":""},{"$f":"IF('T1'!C26=\"\",\"\",IF('T1'!$H$11=\"\",\"\",IF('T1'!$H$11=3,'T1'!$L$16,'T1'!$D$16)))","v":""},{"$f":"IF('T1'!E26=\"\",\"\",IF('T1'!$H$11=\"\",\"\",IF('T1'!$H$11=3,'T1'!$L$17,'T1'!$E$17)))","v":""},{"$f":"IF('T1'!E26=\"\",\"\",IF('T1'!$H$11=\"\",\"\",IF('T1'!$H$11=3,'T1'!$L$19,'T1'!$E$20)))","v":""},{"$f":"IF('T1'!F26=\"\",\"\",IF('T1'!$H$11=\"\",\"\",IF('T1'!$H$11=3,'T1'!$L$20,\"\")))","v":""},{"$f":"IF('T1'!$K$26=\"\",\"\",IF('T1'!$H$11=\"\",\"\",IF('T1'!$H$11=3,'T1'!$N$16,'T1'!$F$16)))","v":""},null,null,null,null,null,102,"B",10,101,{"$f":"'T10'!F31","v":""},{"$f":"IF(OR(R57=\"\",$AL$15<2),\"\",'T10'!O31)","v":""},{"$f":"IF(R57=\"\",\"\",'T10'!$H$10)","v":""},"TABLE    10"]
[14,null,{"$f":"'T1'!F35","v":""},{"$f":"IF('T1'!C27=\"\",\"\",IF('T1'!$H$11=\"\",\"\",IF('T1'!$H$11=4,'T1'!$E$16,\"\")))","v":""},{"$f":"IF('T1'!D27=\"\",\"\",IF('T1'!$H$11=\"\",\"\",IF('T1'!$H$11=4,'T1'!$E$18,\"\")))","v":""},{"$f":"IF('T1'!E27=\"\",\"\",IF('T1'!$H$11=\"\",\"\",IF('T1'!$H$11=4,'T1'!$E$19,\"\")))","v":""},{"$f":"IF('T1'!F27=\"\",\"\",IF('T1'!$H$11=\"\",\"\",IF('T1'!$H$11=4,'T1'!$F$27,\"\")))","v":""},{"$f":"IF('T1'!$K$27=\"\",\"\",IF('T1'!$H$11=\"\",\"\",IF('T1'!$H$11=4,'T1'!$G$16,\"\")))","v":""},null,null,null,null,null,103,"C",10,102,{"$f":"'T10'!F32","v":""},{"$f":"IF(OR(R58=\"\",$AL$15<2),\"\",'T10'!O32)","v":""},{"$f":"IF(R58=\"\",\"\",'T10'!$H$10)","v":""}]
[21,null,{"$f":"'T2'!F31","v":""},{"$f":"IF('T2'!$C$23=\"\",\"\",IF('T2'!$H$10=\"\",\"\",IF('T2'!$H$10=3,'T2'!$K$14,'T2'!$D$14)))","v":""},{"$f":"IF('T2'!$D$23=\"\",\"\",IF('T2'!$H$10=\"\",\"\",IF('T2'!$H$10=3,'T2'!$K$15,'T2'!$D$16)))","v":""},{"$f":"IF('T2'!$E$23=\"\",\"\",IF('T2'!$H$10=\"\",\"\",IF('T2'!$H$10=3,'T2'!$K$17,'T2'!$D$18)))","v":""},{"$f":"IF('T2'!$F$23=\"\",\"\",IF('T2'!$H$10=\"\",\"\",IF('T2'!$H$10=3,'T2'!$K$18,\"\")))","v":""},{"$f":"IF('T2'!$K$23=\"\",\"\",IF('T2'!$H$10=\"\",\"\",IF('T2'!$H$10=3,'T2'!$M$14,'T2'!$F$14)))","v":""},null,null,null,null,null,104,"D",10,103,{"$f":"'T10'!F33","v":""},{"$f":"IF(OR(R59=\"\",$AL$15<2),\"\",'T10'!O33)","v":""},{"$f":"IF(R59=\"\",\"\",'T10'!$H$10)","v":""}]
[22,null,{"$f":"'T2'!F32","v":""},{"$f":"IF('T2'!$C$24=\"\",\"\",IF('T2'!$H$10=\"\",\"\",IF('T2'!$H$10=3,'T2'!$L$14,'T2'!$E$14)))","v":""},{"$f":"IF('T2'!$D$24=\"\",\"\",IF('T2'!$H$10=\"\",\"\",IF('T2'!$H$10=3,'T2'!$K$16,'T2'!$D$17)))","v":""},{"$f":"IF('T2'!$E$24=\"\",\"\",IF('T2'!$H$10=\"\",\"\",IF('T2'!$H$10=3,'T2'!$L$17,'T2'!$D$19)))","v":""},{"$f":"IF('T2'!$F$24=\"\",\"\",IF('T2'!$H$10=\"\",\"\",IF('T2'!$H$10=3,'T2'!$K$19,\"\")))","v":""},{"$f":"IF('T2'!$K$24=\"\",\"\",IF('T2'!$H$10=\"\",\"\",IF('T2'!$H$10=3,'T2'!$N$14,'T2'!$G$14)))","v":""},null,null,null,null,null,111,"A",11,104,{"$f":"'T10'!F34","v":""},{"$f":"IF(OR(R60=\"\",$AL$15<2),\"\",'T10'!O34)","v":""},{"$f":"IF(R60=\"\",\"\",'T10'!$H$10)","v":""}]
[23,null,{"$f":"'T2'!F33","v":""},{"$f":"IF('T2'!$C$25=\"\",\"\",IF('T2'!$H$10=\"\",\"\",IF('T2'!$H$10=3,'T2'!$L$15,'T2'!$D$15)))","v":""},{"$f":"IF('T2'!$D$25=\"\",\"\",IF('T2'!$H$10=\"\",\"\",IF('T2'!$H$10=3,'T2'!$L$16,'T2'!$E$16)))","v":""},{"$f":"IF('T2'!$E$25=\"\",\"\",IF('T2'!$H$10=\"\",\"\",IF('T2'!$H$10=3,'T2'!$L$18,'T2'!$E$19)))","v":""},{"$f":"IF('T2'!$F$25=\"\",\"\",IF('T2'!$H$10=\"\",\"\",IF('T2'!$H$10=3,'T2'!$L$19,\"\")))","v":""},{"$f":"IF('T2'!$K$25=\"\",\"\",IF('T2'!$H$10=\"\",\"\",IF('T2'!$H$10=3,'T2'!$N$15,'T2'!$F$15)))","v":""},null,null,null,null,null,112,"B",11,111,{"$f":"'T11'!F31","v":""},{"$f":"IF(OR(R61=\"\",$AL$16<2),\"\",'T11'!O31)","v":""},{"$f":"IF(R61=\"\",\"\",'T11'!$H$10)","v":""},"TABLE    11"]
[24,null,{"$f":"'T2'!F34","v":""},{"$f":"IF('T2'!$C26=\"\",\"\",IF('T2'!$H$10=\"\",\"\",IF('T2'!$H$10=4,'T2'!$E$15,\"\")))","v":""},{"$f":"IF('T2'!$D$26=\"\",\"\",IF('T2'!$H$10=\"\",\"\",IF('T2'!$H$10=4,'T2'!$E$17,\"\")))","v":""},{"$f":"IF('T2'!$E$26=\"\",\"\",IF('T2'!$H$10=\"\",\"\",IF('T2'!$H$10=4,'T2'!$E$18,\"\")))","v":""},{"$f":"IF('T2'!$F$26=\"\",\"\",IF('T2'!$H$10=\"\",\"\",IF('T2'!$H$10=4,\"\",\"\")))","v":""},{"$f":"IF('T2'!$K$26=\"\",\"\",IF('T2'!$H$10=\"\",\"\",IF('T2'!$H$10=4,'T2'!$G$15,\"\")))","v":""},null,null,null,null,null,113,"C",11,112,{"$f":"'T11'!F32","v":""},{"$f":"IF(OR(R62=\"\",$AL$16<2),\"\",'T11'!O32)","v":""},{"$f":"IF(R62=\"\",\"\",'T11'!$H$10)","v":""}]
[31,null,{"$f":"'T3'!F31","v":""},{"$f":"IF('T3'!$C$23=\"\",\"\",IF('T3'!$H$10=\"\",\"\",IF('T3'!$H$10=3,'T3'!$K$14,'T3'!$D$14)))","v":""},{"$f":"IF('T3'!$D$23=\"\",\"\",IF('T3'!$H$10=\"\",\"\",IF('T3'!$H$10=3,'T3'!$K$15,'T3'!$D$16)))","v":""},{"$f":"IF('T3'!$E$23=\"\",\"\",IF('T3'!$H$10=\"\",\"\",IF('T3'!$H$10=3,'T3'!$K$17,'T3'!$D$18)))","v":""},{"$f":"IF('T3'!$F$23=\"\",\"\",IF('T3'!$H$10=\"\",\"\",IF('T3'!$H$10=3,'T3'!$K$18,\"\")))","v":""},{"$f":"IF('T3'!$K$23=\"\",\"\",IF('T3'!$H$10=\"\",\"\",IF('T3'!$H$10=3,'T3'!$M$14,'T3'!$F$14)))","v":""},null,null,null,null,null,114,"D",11,113,{"$f":"'T11'!F33","v":""},{"$f":"IF(OR(R63=\"\",$AL$16<2),\"\",'T11'!O33)","v":""},{"$f":"IF(R63=\"\",\"\",'T11'!$H$10)","v":""}]
[32,null,{"$f":"'T3'!F32","v":""},{"$f":"IF('T3'!$C$24=\"\",\"\",IF('T3'!$H$10=\"\",\"\",IF('T3'!$H$10=3,'T3'!$L$14,'T3'!$E$14)))","v":""},{"$f":"IF('T3'!$D$24=\"\",\"\",IF('T3'!$H$10=\"\",\"\",IF('T3'!$H$10=3,'T3'!$K$16,'T3'!$D$17)))","v":""},{"$f":"IF('T3'!$E$24=\"\",\"\",IF('T3'!$H$10=\"\",\"\",IF('T3'!$H$10=3,'T3'!$L$17,'T3'!$D$19)))","v":""},{"$f":"IF('T3'!$F$24=\"\",\"\",IF('T3'!$H$10=\"\",\"\",IF('T3'!$H$10=3,'T3'!$K$19,\"\")))","v":""},{"$f":"IF('T3'!$K$24=\"\",\"\",IF('T3'!$H$10=\"\",\"\",IF('T3'!$H$10=3,'T3'!$N$14,'T3'!$G$14)))","v":""},null,null,null,null,null,121,"A",12,114,{"$f":"'T11'!F34","v":""},{"$f":"IF(OR(R64=\"\",$AL$16<2),\"\",'T11'!O34)","v":""},{"$f":"IF(R64=\"\",\"\",'T11'!$H$10)","v":""}]
[33,null,{"$f":"'T3'!F33","v":""},{"$f":"IF('T3'!$C$25=\"\",\"\",IF('T3'!$H$10=\"\",\"\",IF('T3'!$H$10=3,'T3'!$L$15,'T3'!$D$15)))","v":""},{"$f":"IF('T3'!$D$25=\"\",\"\",IF('T3'!$H$10=\"\",\"\",IF('T3'!$H$10=3,'T3'!$L$16,'T3'!$E$16)))","v":""},{"$f":"IF('T3'!$E$25=\"\",\"\",IF('T3'!$H$10=\"\",\"\",IF('T3'!$H$10=3,'T3'!$L$18,'T3'!$E$19)))","v":""},{"$f":"IF('T3'!$F$25=\"\",\"\",IF('T3'!$H$10=\"\",\"\",IF('T3'!$H$10=3,'T3'!$L$19,\"\")))","v":""},{"$f":"IF('T3'!$K$25=\"\",\"\",IF('T3'!$H$10=\"\",\"\",IF('T3'!$H$10=3,'T3'!$N$15,'T3'!$F$15)))","v":""},null,null,null,null,null,122,"B",12,121,{"$f":"'T12'!F31","v":""},{"$f":"IF(OR(R65=\"\",$AL$17<2),\"\",'T12'!O31)","v":""},null,"TABLE    12"]
[34,null,{"$f":"'T3'!F34","v":""},{"$f":"IF('T3'!$C26=\"\",\"\",IF('T3'!$H$10=\"\",\"\",IF('T3'!$H$10=4,'T3'!$E$15,\"\")))","v":""},{"$f":"IF('T3'!$D$26=\"\",\"\",IF('T3'!$H$10=\"\",\"\",IF('T3'!$H$10=4,'T3'!$E$17,\"\")))","v":""},{"$f":"IF('T3'!$E$26=\"\",\"\",IF('T3'!$H$10=\"\",\"\",IF('T3'!$H$10=4,'T3'!$E$18,\"\")))","v":""},{"$f":"IF('T3'!$F$26=\"\",\"\",IF('T3'!$H$10=\"\",\"\",IF('T3'!$H$10=4,\"\",\"\")))","v":""},{"$f":"IF('T3'!$K$26=\"\",\"\",IF('T3'!$H$10=\"\",\"\",IF('T3'!$H$10=4,'T3'!$G$15,\"\")))","v":""},null,null,null,null,null,123,"C",12,122,{"$f":"'T12'!F32","v":""},{"$f":"IF(OR(R66=\"\",$AL$17<2),\"\",'T12'!O32)","v":""}]
[41,null,{"$f":"'T4'!C31","v":""},{"$f":"IF('T4'!$C$23=\"\",\"\",IF('T4'!$H$10=\"\",\"\",IF('T4'!$H$10=3,'T4'!$K$14,'T4'!$D$14)))","v":""},{"$f":"IF('T4'!$D$23=\"\",\"\",IF('T4'!$H$10=\"\",\"\",IF('T4'!$H$10=3,'T4'!$K$15,'T4'!$D$16)))","v":""},{"$f":"IF('T4'!$E$23=\"\",\"\",IF('T4'!$H$10=\"\",\"\",IF('T4'!$H$10=3,'T4'!$K$17,'T4'!$D$18)))","v":""},{"$f":"IF('T4'!$F$23=\"\",\"\",IF('T4'!$H$10=\"\",\"\",IF('T4'!$H$10=3,'T4'!$K$18,\"\")))","v":""},{"$f":"IF('T4'!$K$23=\"\",\"\",IF('T4'!$H$10=\"\",\"\",IF('T4'!$H$10=3,'T4'!$M$14,'T4'!$F$14)))","v":""},null,null,null,null,null,124,"D",12,123,{"$f":"'T12'!F33","v":""},{"$f":"IF(OR(R67=\"\",$AL$17<2),\"\",'T12'!O33)","v":""}]
[42,null,{"$f":"'T4'!C32","v":""},{"$f":"IF('T4'!$C$24=\"\",\"\",IF('T4'!$H$10=\"\",\"\",IF('T4'!$H$10=3,'T4'!$L$14,'T4'!$E$14)))","v":""},{"$f":"IF('T4'!$D$24=\"\",\"\",IF('T4'!$H$10=\"\",\"\",IF('T4'!$H$10=3,'T4'!$K$16,'T4'!$D$17)))","v":""},{"$f":"IF('T4'!$E$24=\"\",\"\",IF('T4'!$H$10=\"\",\"\",IF('T4'!$H$10=3,'T4'!$L$17,'T4'!$D$19)))","v":""},{"$f":"IF('T4'!$F$24=\"\",\"\",IF('T4'!$H$10=\"\",\"\",IF('T4'!$H$10=3,'T4'!$K$19,\"\")))","v":""},{"$f":"IF('T4'!$K$24=\"\",\"\",IF('T4'!$H$10=\"\",\"\",IF('T4'!$H$10=3,'T4'!$N$14,'T4'!$G$14)))","v":""},null,null,null,null,null,null,null,null,124,{"$f":"'T12'!F34","v":""},{"$f":"IF(OR(R68=\"\",$AL$17<2),\"\",'T12'!O34)","v":""}]
[43,null,{"$f":"'T4'!C33","v":""},{"$f":"IF('T4'!$C$25=\"\",\"\",IF('T4'!$H$10=\"\",\"\",IF('T4'!$H$10=3,'T4'!$L$15,'T4'!$D$15)))","v":""},{"$f":"IF('T4'!$D$25=\"\",\"\",IF('T4'!$H$10=\"\",\"\",IF('T4'!$H$10=3,'T4'!$L$16,'T4'!$E$16)))","v":""},{"$f":"IF('T4'!$E$25=\"\",\"\",IF('T4'!$H$10=\"\",\"\",IF('T4'!$H$10=3,'T4'!$L$18,'T4'!$E$19)))","v":""},{"$f":"IF('T4'!$F$25=\"\",\"\",IF('T4'!$H$10=\"\",\"\",IF('T4'!$H$10=3,'T4'!$L$19,\"\")))","v":""},{"$f":"IF('T4'!$K$25=\"\",\"\",IF('T4'!$H$10=\"\",\"\",IF('T4'!$H$10=3,'T4'!$N$15,'T4'!$F$15)))","v":""}]
[44,null,{"$f":"'T4'!C34","v":""},{"$f":"IF('T4'!$C26=\"\",\"\",IF('T4'!$H$10=\"\",\"\",IF('T4'!$H$10=4,'T4'!$E$15,\"\")))","v":""},{"$f":"IF('T4'!$D$26=\"\",\"\",IF('T4'!$H$10=\"\",\"\",IF('T4'!$H$10=4,'T4'!$E$17,\"\")))","v":""},{"$f":"IF('T4'!$E$26=\"\",\"\",IF('T4'!$H$10=\"\",\"\",IF('T4'!$H$10=4,'T4'!$E$18,\"\")))","v":""},{"$f":"IF('T4'!$F$26=\"\",\"\",IF('T4'!$H$10=\"\",\"\",IF('T4'!$H$10=4,\"\",\"\")))","v":""},{"$f":"IF('T4'!$K$26=\"\",\"\",IF('T4'!$H$10=\"\",\"\",IF('T4'!$H$10=4,'T4'!$G$15,\"\")))","v":""}]
[51,null,{"$f":"'T5'!F31","v":""},{"$f":"IF('T5'!$C$23=\"\",\"\",IF('T5'!$H$10=\"\",\"\",IF('T5'!$H$10=3,'T5'!$K$14,'T5'!$D$14)))","v":""},{"$f":"IF('T5'!$D$23=\"\",\"\",IF('T5'!$H$10=\"\",\"\",IF('T5'!$H$10=3,'T5'!$K$15,'T5'!$D$16)))","v":""},{"$f":"IF('T5'!$E$23=\"\",\"\",IF('T5'!$H$10=\"\",\"\",IF('T5'!$H$10=3,'T5'!$K$17,'T5'!$D$18)))","v":""},{"$f":"IF('T5'!$F$23=\"\",\"\",IF('T5'!$H$10=\"\",\"\",IF('T5'!$H$10=3,'T5'!$K$18,\"\")))","v":""},{"$f":"IF('T5'!$K$23=\"\",\"\",IF('T5'!$H$10=\"\",\"\",IF('T5'!$H$10=3,'T5'!$M$14,'T5'!$F$14)))","v":""}]
[52,null,{"$f":"'T5'!F32","v":""},{"$f":"IF('T5'!$C$24=\"\",\"\",IF('T5'!$H$10=\"\",\"\",IF('T5'!$H$10=3,'T5'!$L$14,'T5'!$E$14)))","v":""},{"$f":"IF('T5'!$D$24=\"\",\"\",IF('T5'!$H$10=\"\",\"\",IF('T5'!$H$10=3,'T5'!$K$16,'T5'!$D$17)))","v":""},{"$f":"IF('T5'!$E$24=\"\",\"\",IF('T5'!$H$10=\"\",\"\",IF('T5'!$H$10=3,'T5'!$L$17,'T5'!$D$19)))","v":""},{"$f":"IF('T5'!$F$24=\"\",\"\",IF('T5'!$H$10=\"\",\"\",IF('T5'!$H$10=3,'T5'!$K$19,\"\")))","v":""},{"$f":"IF('T5'!$K$24=\"\",\"\",IF('T5'!$H$10=\"\",\"\",IF('T5'!$H$10=3,'T5'!$N$14,'T5'!$G$14)))","v":""}]
[53,null,{"$f":"'T5'!F33","v":""},{"$f":"IF('T5'!$C$25=\"\",\"\",IF('T5'!$H$10=\"\",\"\",IF('T5'!$H$10=3,'T5'!$L$15,'T5'!$D$15)))","v":""},{"$f":"IF('T5'!$D$25=\"\",\"\",IF('T5'!$H$10=\"\",\"\",IF('T5'!$H$10=3,'T5'!$L$16,'T5'!$E$16)))","v":""},{"$f":"IF('T5'!$E$25=\"\",\"\",IF('T5'!$H$10=\"\",\"\",IF('T5'!$H$10=3,'T5'!$L$18,'T5'!$E$19)))","v":""},{"$f":"IF('T5'!$F$25=\"\",\"\",IF('T5'!$H$10=\"\",\"\",IF('T5'!$H$10=3,'T5'!$L$19,\"\")))","v":""},{"$f":"IF('T5'!$K$25=\"\",\"\",IF('T5'!$H$10=\"\",\"\",IF('T5'!$H$10=3,'T5'!$N$15,'T5'!$F$15)))","v":""}]
[54,null,{"$f":"'T5'!F34","v":""},{"$f":"IF('T5'!$C26=\"\",\"\",IF('T5'!$H$10=\"\",\"\",IF('T5'!$H$10=4,'T5'!$E$15,\"\")))","v":""},{"$f":"IF('T5'!$D$26=\"\",\"\",IF('T5'!$H$10=\"\",\"\",IF('T5'!$H$10=4,'T5'!$E$17,\"\")))","v":""},{"$f":"IF('T5'!$E$26=\"\",\"\",IF('T5'!$H$10=\"\",\"\",IF('T5'!$H$10=4,'T5'!$E$18,\"\")))","v":""},{"$f":"IF('T5'!$F$26=\"\",\"\",IF('T5'!$H$10=\"\",\"\",IF('T5'!$H$10=4,\"\",\"\")))","v":""},{"$f":"IF('T5'!$K$26=\"\",\"\",IF('T5'!$H$10=\"\",\"\",IF('T5'!$H$10=4,'T5'!$G$15,\"\")))","v":""}]
[61,null,{"$f":"'T6'!F31","v":""},{"$f":"IF('T6'!$C$23=\"\",\"\",IF('T6'!$H$10=\"\",\"\",IF('T6'!$H$10=3,'T6'!$K$14,'T6'!$D$14)))","v":""},{"$f":"IF('T6'!$D$23=\"\",\"\",IF('T6'!$H$10=\"\",\"\",IF('T6'!$H$10=3,'T6'!$K$15,'T6'!$D$16)))","v":""},{"$f":"IF('T6'!$E$23=\"\",\"\",IF('T6'!$H$10=\"\",\"\",IF('T6'!$H$10=3,'T6'!$K$17,'T6'!$D$18)))","v":""},{"$f":"IF('T6'!$F$23=\"\",\"\",IF('T6'!$H$10=\"\",\"\",IF('T6'!$H$10=3,'T6'!$K$18,\"\")))","v":""},{"$f":"IF('T6'!$K$23=\"\",\"\",IF('T6'!$H$10=\"\",\"\",IF('T6'!$H$10=3,'T6'!$M$14,'T6'!$F$14)))","v":""}]
[62,null,{"$f":"'T6'!F32","v":""},{"$f":"IF('T6'!$C$24=\"\",\"\",IF('T6'!$H$10=\"\",\"\",IF('T6'!$H$10=3,'T6'!$L$14,'T6'!$E$14)))","v":""},{"$f":"IF('T6'!$D$24=\"\",\"\",IF('T6'!$H$10=\"\",\"\",IF('T6'!$H$10=3,'T6'!$K$16,'T6'!$D$17)))","v":""},{"$f":"IF('T6'!$E$24=\"\",\"\",IF('T6'!$H$10=\"\",\"\",IF('T6'!$H$10=3,'T6'!$L$17,'T6'!$D$19)))","v":""},{"$f":"IF('T6'!$F$24=\"\",\"\",IF('T6'!$H$10=\"\",\"\",IF('T6'!$H$10=3,'T6'!$K$19,\"\")))","v":""},{"$f":"IF('T6'!$K$24=\"\",\"\",IF('T6'!$H$10=\"\",\"\",IF('T6'!$H$10=3,'T6'!$N$14,'T6'!$G$14)))","v":""}]
[63,null,{"$f":"'T6'!F33","v":""},{"$f":"IF('T6'!$C$25=\"\",\"\",IF('T6'!$H$10=\"\",\"\",IF('T6'!$H$10=3,'T6'!$L$15,'T6'!$D$15)))","v":""},{"$f":"IF('T6'!$D$25=\"\",\"\",IF('T6'!$H$10=\"\",\"\",IF('T6'!$H$10=3,'T6'!$L$16,'T6'!$E$16)))","v":""},{"$f":"IF('T6'!$E$25=\"\",\"\",IF('T6'!$H$10=\"\",\"\",IF('T6'!$H$10=3,'T6'!$L$18,'T6'!$E$19)))","v":""},{"$f":"IF('T6'!$F$25=\"\",\"\",IF('T6'!$H$10=\"\",\"\",IF('T6'!$H$10=3,'T6'!$L$19,\"\")))","v":""},{"$f":"IF('T6'!$K$25=\"\",\"\",IF('T6'!$H$10=\"\",\"\",IF('T6'!$H$10=3,'T6'!$N$15,'T6'!$F$15)))","v":""}]
[64,null,{"$f":"'T6'!F34","v":""},{"$f":"IF('T6'!$C42=\"\",\"\",IF('T6'!$H$10=\"\",\"\",IF('T6'!$H$10=4,'T6'!$E$15,\"\")))","v":""},{"$f":"IF('T6'!$D$30=\"\",\"\",IF('T6'!$H$10=\"\",\"\",IF('T6'!$H$10=4,'T6'!$E$17,\"\")))","v":""},{"$f":"IF('T6'!$E$30=\"\",\"\",IF('T6'!$H$10=\"\",\"\",IF('T6'!$H$10=4,'T6'!$E$18,\"\")))","v":""},{"$f":"IF('T6'!$F$30=\"\",\"\",IF('T6'!$H$10=\"\",\"\",IF('T6'!$H$10=4,\"\",\"\")))","v":""},{"$f":"IF('T6'!$K$26=\"\",\"\",IF('T6'!$H$10=\"\",\"\",IF('T6'!$H$10=4,'T6'!$G$15,\"\")))","v":""}]
[71,null,{"$f":"'T7'!F31","v":""},{"$f":"IF('T7'!$C$23=\"\",\"\",IF('T7'!$H$10=\"\",\"\",IF('T7'!$H$10=3,'T7'!$K$14,'T7'!$D$14)))","v":""},{"$f":"IF('T7'!$D$23=\"\",\"\",IF('T7'!$H$10=\"\",\"\",IF('T7'!$H$10=3,'T7'!$K$15,'T7'!$D$16)))","v":""},{"$f":"IF('T7'!$E$23=\"\",\"\",IF('T7'!$H$10=\"\",\"\",IF('T7'!$H$10=3,'T7'!$K$17,'T7'!$D$18)))","v":""},{"$f":"IF('T7'!$F$23=\"\",\"\",IF('T7'!$H$10=\"\",\"\",IF('T7'!$H$10=3,'T7'!$K$18,\"\")))","v":""},{"$f":"IF('T7'!$K$23=\"\",\"\",IF('T7'!$H$10=\"\",\"\",IF('T7'!$H$10=3,'T7'!$M$14,'T7'!$F$14)))","v":""}]
[72,null,{"$f":"'T7'!F32","v":""},{"$f":"IF('T7'!$C$24=\"\",\"\",IF('T7'!$H$10=\"\",\"\",IF('T7'!$H$10=3,'T7'!$L$14,'T7'!$E$14)))","v":""},{"$f":"IF('T7'!$D$24=\"\",\"\",IF('T7'!$H$10=\"\",\"\",IF('T7'!$H$10=3,'T7'!$K$16,'T7'!$D$17)))","v":""},{"$f":"IF('T7'!$E$24=\"\",\"\",IF('T7'!$H$10=\"\",\"\",IF('T7'!$H$10=3,'T7'!$L$17,'T7'!$D$19)))","v":""},{"$f":"IF('T7'!$F$24=\"\",\"\",IF('T7'!$H$10=\"\",\"\",IF('T7'!$H$10=3,'T7'!$K$19,\"\")))","v":""},{"$f":"IF('T7'!$K$24=\"\",\"\",IF('T7'!$H$10=\"\",\"\",IF('T7'!$H$10=3,'T7'!$N$14,'T7'!$G$14)))","v":""}]
[73,null,{"$f":"'T7'!F33","v":""},{"$f":"IF('T7'!$C$25=\"\",\"\",IF('T7'!$H$10=\"\",\"\",IF('T7'!$H$10=3,'T7'!$L$15,'T7'!$D$15)))","v":""},{"$f":"IF('T7'!$D$25=\"\",\"\",IF('T7'!$H$10=\"\",\"\",IF('T7'!$H$10=3,'T7'!$L$16,'T7'!$E$16)))","v":""},{"$f":"IF('T7'!$E$25=\"\",\"\",IF('T7'!$H$10=\"\",\"\",IF('T7'!$H$10=3,'T7'!$L$18,'T7'!$E$19)))","v":""},{"$f":"IF('T7'!$F$25=\"\",\"\",IF('T7'!$H$10=\"\",\"\",IF('T7'!$H$10=3,'T7'!$L$19,\"\")))","v":""},{"$f":"IF('T7'!$K$25=\"\",\"\",IF('T7'!$H$10=\"\",\"\",IF('T7'!$H$10=3,'T7'!$N$15,'T7'!$F$15)))","v":""}]
[74,null,{"$f":"'T7'!F34","v":""},{"$f":"IF('T7'!$C46=\"\",\"\",IF('T7'!$H$10=\"\",\"\",IF('T7'!$H$10=4,'T7'!$E$15,\"\")))","v":""},{"$f":"IF('T7'!$D$30=\"\",\"\",IF('T7'!$H$10=\"\",\"\",IF('T7'!$H$10=4,'T7'!$E$17,\"\")))","v":""},{"$f":"IF('T7'!$E$30=\"\",\"\",IF('T7'!$H$10=\"\",\"\",IF('T7'!$H$10=4,'T7'!$E$18,\"\")))","v":""},{"$f":"IF('T7'!$F$30=\"\",\"\",IF('T7'!$H$10=\"\",\"\",IF('T7'!$H$10=4,\"\",\"\")))","v":""},{"$f":"IF('T7'!$K$26=\"\",\"\",IF('T7'!$H$10=\"\",\"\",IF('T7'!$H$10=4,'T7'!$G$15,\"\")))","v":""}]
[81,null,{"$f":"'T8'!F31","v":""},{"$f":"IF('T8'!$C$23=\"\",\"\",IF('T8'!$H$10=\"\",\"\",IF('T8'!$H$10=3,'T8'!$K$14,'T8'!$D$14)))","v":""},{"$f":"IF('T8'!$D$23=\"\",\"\",IF('T8'!$H$10=\"\",\"\",IF('T8'!$H$10=3,'T8'!$K$15,'T8'!$D$16)))","v":""},{"$f":"IF('T8'!$E$23=\"\",\"\",IF('T8'!$H$10=\"\",\"\",IF('T8'!$H$10=3,'T8'!$K$17,'T8'!$D$18)))","v":""},{"$f":"IF('T8'!$F$23=\"\",\"\",IF('T8'!$H$10=\"\",\"\",IF('T8'!$H$10=3,'T8'!$K$18,\"\")))","v":""},{"$f":"IF('T8'!$K$23=\"\",\"\",IF('T8'!$H$10=\"\",\"\",IF('T8'!$H$10=3,'T8'!$M$14,'T8'!$F$14)))","v":""}]
[82,null,{"$f":"'T8'!F32","v":""},{"$f":"IF('T8'!$C$24=\"\",\"\",IF('T8'!$H$10=\"\",\"\",IF('T8'!$H$10=3,'T8'!$L$14,'T8'!$E$14)))","v":""},{"$f":"IF('T8'!$D$24=\"\",\"\",IF('T8'!$H$10=\"\",\"\",IF('T8'!$H$10=3,'T8'!$K$16,'T8'!$D$17)))","v":""},{"$f":"IF('T8'!$E$24=\"\",\"\",IF('T8'!$H$10=\"\",\"\",IF('T8'!$H$10=3,'T8'!$L$17,'T8'!$D$19)))","v":""},{"$f":"IF('T8'!$F$24=\"\",\"\",IF('T8'!$H$10=\"\",\"\",IF('T8'!$H$10=3,'T8'!$K$19,\"\")))","v":""},{"$f":"IF('T8'!$K$24=\"\",\"\",IF('T8'!$H$10=\"\",\"\",IF('T8'!$H$10=3,'T8'!$N$14,'T8'!$G$14)))","v":""}]
[83,null,{"$f":"'T8'!F33","v":""},{"$f":"IF('T8'!$C$25=\"\",\"\",IF('T8'!$H$10=\"\",\"\",IF('T8'!$H$10=3,'T8'!$L$15,'T8'!$D$15)))","v":""},{"$f":"IF('T8'!$D$25=\"\",\"\",IF('T8'!$H$10=\"\",\"\",IF('T8'!$H$10=3,'T8'!$L$16,'T8'!$E$16)))","v":""},{"$f":"IF('T8'!$E$25=\"\",\"\",IF('T8'!$H$10=\"\",\"\",IF('T8'!$H$10=3,'T8'!$L$18,'T8'!$E$19)))","v":""},{"$f":"IF('T8'!$F$25=\"\",\"\",IF('T8'!$H$10=\"\",\"\",IF('T8'!$H$10=3,'T8'!$L$19,\"\")))","v":""},{"$f":"IF('T8'!$K$25=\"\",\"\",IF('T8'!$H$10=\"\",\"\",IF('T8'!$H$10=3,'T8'!$N$15,'T8'!$F$15)))","v":""}]
[84,null,{"$f":"'T8'!F34","v":""},{"$f":"IF('T8'!$C26=\"\",\"\",IF('T8'!$H$10=\"\",\"\",IF('T8'!$H$10=4,'T8'!$E$15,\"\")))","v":""},{"$f":"IF('T8'!$C26=\"\",\"\",IF('T8'!$H$10=\"\",\"\",IF('T8'!$H$10=4,'T8'!$E$17,\"\")))","v":""},{"$f":"IF('T8'!$C26=\"\",\"\",IF('T8'!$H$10=\"\",\"\",IF('T8'!$H$10=4,'T8'!$E$18,\"\")))","v":""},{"$f":"IF('T8'!$C26=\"\",\"\",IF('T8'!$H$10=\"\",\"\",IF('T8'!$H$10=4,\"\",\"\")))","v":""},{"$f":"IF('T8'!$K$26=\"\",\"\",IF('T8'!$H$10=\"\",\"\",IF('T8'!$H$10=4,'T8'!$G$15,\"\")))","v":""}]
[91,null,{"$f":"'T9'!F31","v":""},{"$f":"IF('T9'!$C$23=\"\",\"\",IF('T9'!$H$10=\"\",\"\",IF('T9'!$H$10=3,'T9'!$K$14,'T9'!$D$14)))","v":""},{"$f":"IF('T9'!$C$23=\"\",\"\",IF('T9'!$H$10=3,'T9'!$K$15,'T9'!$D$16))","v":""},{"$f":"IF('T9'!$C$23=\"\",\"\",IF('T9'!$H$10=3,'T9'!$K$17,'T9'!$D$18))","v":""},{"$f":"IF('T2'!$C$23=\"\",\"\",IF('T9'!$H$10=3,'T2'!$K$18,\"\"))","v":""},{"$f":"IF('T9'!$K$23=\"\",\"\",IF('T9'!$H$10=3,'T9'!$M$14,'T9'!$F$14))","v":""}]
[92,null,{"$f":"'T9'!F32","v":""},{"$f":"IF('T9'!$C$24=\"\",\"\",IF('T9'!$H$10=3,'T9'!$L$14,'T9'!$E$14))","v":""},{"$f":"IF('T9'!$C$24=\"\",\"\",IF('T9'!$H$10=3,'T9'!$K$16,'T9'!$D$17))","v":""},{"$f":"IF('T9'!$C$24=\"\",\"\",IF('T9'!$H$10=3,'T9'!$L$17,'T9'!$D$19))","v":""},{"$f":"IF('T9'!$C$24=\"\",\"\",IF('T2'!$H$10=3,'T2'!$K$19,\"\"))","v":""},{"$f":"IF('T9'!$C$24=\"\",\"\",IF('T9'!$H$10=3,'T9'!$N$14,'T9'!$G$14))","v":""}]
[93,null,{"$f":"'T9'!F33","v":""},{"$f":"IF('T9'!$C$25=\"\",\"\",IF('T9'!$H$10=3,'T9'!$L$15,'T9'!$D$15))","v":""},{"$f":"IF('T9'!$C$25=\"\",\"\",IF('T9'!$H$10=3,'T9'!$L$16,'T9'!$E$16))","v":""},{"$f":"IF('T9'!$C$25=\"\",\"\",IF('T9'!$H$10=3,'T9'!$L$18,'T9'!$E$19))","v":""},{"$f":"IF('T9'!$C$25=\"\",\"\",IF('T2'!$H$10=3,'T2'!$L$19,\"\"))","v":""},{"$f":"IF('T9'!$C$25=\"\",\"\",IF('T9'!$H$10=3,'T9'!$N$15,'T9'!$F$15))","v":""}]
[94,null,{"$f":"'T9'!F34","v":""},{"$f":"IF('T9'!$C$26=\"\",\"\",IF('T9'!$H$10=4,'T9'!$E$15,\"\"))","v":""},{"$f":"IF('T9'!$C$26=\"\",\"\",IF('T9'!$H$10=4,'T9'!$E$17,\"\"))","v":""},{"$f":"IF('T9'!$C$26=\"\",\"\",IF('T9'!$H$10=4,'T9'!$E$18,\"\"))","v":""},{"$f":"IF('T9'!$C$26=\"\",\"\",IF('T2'!$H$10=4,\"\",\"\"))","v":""},{"$f":"IF('T9'!$C$26=\"\",\"\",IF('T9'!$H$10=4,'T9'!$G$15,\"\"))","v":""}]
[101,null,{"$f":"'T10'!F31","v":""},{"$f":"IF('T10'!$C$23=\"\",\"\",IF('T10'!$H$10=3,'T10'!$K$14,'T10'!$D$14))","v":""},{"$f":"IF('T10'!$C$23=\"\",\"\",IF('T10'!$H$10=3,'T10'!$K$15,'T10'!$D$16))","v":""},{"$f":"IF('T10'!$C$23=\"\",\"\",IF('T10'!$H$10=3,'T10'!$K$17,'T10'!$D$18))","v":""},{"$f":"IF('T10'!$C$23=\"\",\"\",IF('T10'!$H$10=3,'T10'!$K$18,\"\"))","v":""},{"$f":"IF('T10'!$C$23=\"\",\"\",IF('T10'!$H$10=3,'T10'!$M$14,'T10'!$F$14))","v":""}]
[102,null,{"$f":"'T10'!F32","v":""},{"$f":"IF('T10'!$C$24=\"\",\"\",IF('T10'!$H$10=3,'T10'!$L$14,'T10'!$E$14))","v":""},{"$f":"IF('T10'!$C$24=\"\",\"\",IF('T10'!$H$10=3,'T10'!$K$16,'T10'!$D$17))","v":""},{"$f":"IF('T10'!$C$24=\"\",\"\",IF('T10'!$H$10=3,'T10'!$L$17,'T10'!$D$19))","v":""},{"$f":"IF('T10'!$C$24=\"\",\"\",IF('T10'!$H$10=3,'T10'!$K$19,\"\"))","v":""},{"$f":"IF('T10'!$C$24=\"\",\"\",IF('T10'!$H$10=3,'T10'!$N$14,'T10'!$G$14))","v":""}]
[103,null,{"$f":"'T10'!F33","v":""},{"$f":"IF('T10'!$C$25=\"\",\"\",IF('T10'!$H$10=3,'T10'!$L$15,'T10'!$D$15))","v":""},{"$f":"IF('T10'!$C$25=\"\",\"\",IF('T10'!$H$10=3,'T10'!$L$16,'T10'!$E$16))","v":""},{"$f":"IF('T10'!$C$25=\"\",\"\",IF('T10'!$H$10=3,'T10'!$L$18,'T10'!$E$19))","v":""},{"$f":"IF('T10'!$C$25=\"\",\"\",IF('T10'!$H$10=3,'T10'!$L$19,\"\"))","v":""},{"$f":"IF('T10'!$C$25=\"\",\"\",IF('T10'!$H$10=3,'T10'!$N$15,'T10'!$F$15))","v":""}]
[104,null,{"$f":"'T10'!F34","v":""},{"$f":"IF('T10'!$C$26=\"\",\"\",IF('T10'!$H$10=4,'T10'!$E$15,\"\"))","v":""},{"$f":"IF('T10'!$C$26=\"\",\"\",IF('T10'!$H$10=4,'T10'!$E$17,\"\"))","v":""},{"$f":"IF('T10'!$C$26=\"\",\"\",IF('T10'!$H$10=4,'T10'!$E$18,\"\"))","v":""},{"$f":"IF('T10'!$C$26=\"\",\"\",IF('T10'!$H$10=4,\"\",\"\"))","v":""},{"$f":"IF('T10'!$C$26=\"\",\"\",IF('T10'!$H$10=4,'T10'!$G$15,\"\"))","v":""}]
[111,null,{"$f":"'T11'!F31","v":""},{"$f":"IF('T11'!$C$23=\"\",\"\",IF('T11'!$H$10=3,'T11'!$K$14,'T11'!$D$14))","v":""},{"$f":"IF('T11'!$C$23=\"\",\"\",IF('T11'!$H$10=3,'T11'!$K$15,'T11'!$D$16))","v":""},{"$f":"IF('T11'!$C$23=\"\",\"\",IF('T11'!$H$10=3,'T11'!$K$17,'T11'!$D$18))","v":""},{"$f":"IF('T11'!$C$23=\"\",\"\",IF('T11'!$H$10=3,'T11'!$K$18,\"\"))","v":""},{"$f":"IF('T11'!$C$23=\"\",\"\",IF('T11'!$H$10=3,'T11'!$M$14,'T11'!$F$15))","v":""}]
[112,null,{"$f":"'T11'!F32","v":""},{"$f":"IF('T11'!$C$24=\"\",\"\",IF('T11'!$H$10=3,'T11'!$L$14,'T11'!$E$14))","v":""},{"$f":"IF('T11'!$C$24=\"\",\"\",IF('T11'!$H$10=3,'T11'!$K$16,'T11'!$D$17))","v":""},{"$f":"IF('T11'!$C$24=\"\",\"\",IF('T11'!$H$10=3,'T11'!$L$17,'T11'!$D$19))","v":""},{"$f":"IF('T11'!$C$24=\"\",\"\",IF('T11'!$H$10=3,'T11'!$K$19,\"\"))","v":""},{"$f":"IF('T11'!$C$24=\"\",\"\",IF('T11'!$H$10=3,'T11'!$N$14,'T11'!$G$14))","v":""}]
[113,null,{"$f":"'T11'!F33","v":""},{"$f":"IF('T11'!$C$25=\"\",\"\",IF('T11'!$H$10=3,'T11'!$L$15,'T11'!$D$15))","v":""},{"$f":"IF('T11'!$C$25=\"\",\"\",IF('T11'!$H$10=3,'T11'!$L$16,'T11'!$E$16))","v":""},{"$f":"IF('T11'!$C$25=\"\",\"\",IF('T11'!$H$10=3,'T11'!$L$18,'T11'!$E$19))","v":""},{"$f":"IF('T11'!$C$25=\"\",\"\",IF('T11'!$H$10=3,'T11'!$L$19,\"\"))","v":""},{"$f":"IF('T11'!$C$25=\"\",\"\",IF('T11'!$H$10=3,'T11'!$N$15,'T11'!$F$15))","v":""}]
[114,null,{"$f":"'T11'!F34","v":""},{"$f":"IF('T11'!$C$26=\"\",\"\",IF('T11'!$H$10=4,'T11'!$E$15,\"\"))","v":""},{"$f":"IF('T11'!$C$26=\"\",\"\",IF('T11'!$H$10=4,'T11'!$E$17,\"\"))","v":""},{"$f":"IF('T11'!$C$26=\"\",\"\",IF('T11'!$H$10=4,'T11'!$E$18,\"\"))","v":""},{"$f":"IF('T11'!$C$26=\"\",\"\",IF('T11'!$H$10=4,\"\",\"\"))","v":""},{"$f":"IF('T11'!$C$26=\"\",\"\",IF('T11'!$H$10=4,'T11'!$G$15,\"\"))","v":""}]
[121,null,{"$f":"'T12'!F31","v":""},{"$f":"IF('T12'!$H$10=\"\",\"\",IF('T12'!$H$10=3,'T12'!$K$14,'T12'!$D$14))","v":0},{"$f":"IF('T12'!$H$10=\"\",\"\",IF('T12'!$H$10=3,'T12'!$K$15,'T12'!$D$16))","v":0},{"$f":"IF('T12'!$H$10=\"\",\"\",IF('T12'!$H$10=3,'T12'!$K$17,'T12'!$D$18))","v":0},{"$f":"IF('T12'!$H$10=\"\",\"\",IF('T12'!$H$10=3,'T12'!$K$18,\"\"))","v":""},{"$f":"IF('T12'!$H$10=\"\",\"\",IF('T12'!$H$10=3,'T12'!$M$14,'T12'!$F$14))","v":0}]
[122,null,{"$f":"'T12'!F32","v":""},{"$f":"IF('T12'!$H$10=\"\",\"\",IF('T12'!$H$10=3,'T12'!$L$14,'T12'!$E$14))","v":0},{"$f":"IF('T12'!$H$10=\"\",\"\",IF('T12'!$H$10=3,'T12'!$K$16,'T12'!$D$17))","v":0},{"$f":"IF('T12'!$H$10=\"\",\"\",IF('T12'!$H$10=3,'T12'!$L$17,'T12'!$D$19))","v":0},{"$f":"IF('T12'!$H$10=\"\",\"\",IF('T12'!$H$10=3,'T12'!$K$19,\"\"))","v":""},{"$f":"IF('T12'!$H$10=\"\",\"\",IF('T12'!$H$10=3,'T12'!$N$14,'T12'!$G$14))","v":0}]
[123,null,{"$f":"'T12'!F33","v":""},{"$f":"IF('T12'!$H$10=\"\",\"\",IF('T12'!$H$10=3,'T12'!$L$15,'T12'!$D$15))","v":0},{"$f":"IF('T12'!$H$10=\"\",\"\",IF('T12'!$H$10=3,'T12'!$L$16,'T12'!$E$16))","v":0},{"$f":"IF('T12'!$H$10=\"\",\"\",IF('T12'!$H$10=3,'T12'!$L$18,'T12'!$E$19))","v":0},{"$f":"IF('T12'!$H$10=\"\",\"\",IF('T12'!$H$10=3,'T12'!$L$19,\"\"))","v":""},{"$f":"IF('T12'!$H$10=\"\",\"\",IF('T12'!$H$10=3,'T12'!$N$15,'T12'!$F$15))","v":0}]
[124,null,{"$f":"'T12'!F34","v":""},{"$f":"IF('T12'!$H$10=\"\",\"\",IF('T12'!$H$10=4,'T12'!$E$15,\"\"))","v":""},{"$f":"IF('T12'!$H$10=\"\",\"\",IF('T12'!$H$10=4,'T12'!$E$17,\"\"))","v":""},{"$f":"IF('T12'!$H$10=\"\",\"\",IF('T12'!$H$10=4,'T12'!$E$18,\"\"))","v":""},{"$f":"IF('T12'!$H$10=\"\",\"\",IF('T12'!$H$10=4,\"\",\"\"))","v":""},{"$f":"IF('T12'!$H$10=\"\",\"\",IF('T12'!$H$10=4,'T12'!$G$15,\"\"))","v":""}]

{"sheet":"DebuterTournoi","index":4,"n_rows":21,"n_cols":11,"rows_kept":21,"cut":false,"hidden":false,"merged":[[14,5,15,5],[14,6,15,6],[14,7,15,7],[14,8,15,8],[14,9,15,9],[16,5,17,5],[16,6,17,6],[16,7,17,7],[16,8,17,8],[16,9,17,9],[18,5,19,5],[18,6,19,6],[18,7,19,7],[18,8,19,8],[18,9,19,9],[20,5,21,5],[20,6,21,6],[20,7,21,7],[20,8,21,8],[20,9,21,9],[14,2,15,3],[18,2,19,3],[16,2,17,3],[20,2,21,3],[20,4,21,4],[18,4,19,4],[14,4,15,4],[16,4,17,4]]}
[]
[]
[]
[]
[]
[]
[]
[]
[]
[]
[]
[null,null,null,null,null,null,null,null,null,null,"T3"]
[]
[]
[null,null,"Terrains",null,"T1","T2","T3","T4","T5","T6"]
[]
[null,null,"Nb de matchs",null,{"$f":"Tournoi!AL6","v":0},{"$f":"Tournoi!AL7","v":0},{"$f":"Tournoi!AL8","v":0},{"$f":"Tournoi!AL9","v":0},{"$f":"Tournoi!AL10","v":0},{"$f":"Tournoi!AL11","v":0}]
[]
[null,null,"Terrains",null,"T7","T8","T9","T10","T11","T12"]
[]
[null,null,"Nb de matchs",null,{"$f":"Tournoi!AL12","v":0},{"$f":"Tournoi!AL13","v":0},{"$f":"Tournoi!AL14","v":0},{"$f":"Tournoi!AL15","v":0},{"$f":"Tournoi!AL16","v":0},{"$f":"Tournoi!AL17","v":0}]

{"sheet":"Feuil1","index":5,"n_rows":69,"n_cols":23,"rows_kept":69,"cut":false,"hidden":false,"merged":[[26,16,26,18]]}
[]
[]
[]
[null,"Noms Prénoms","Table (T1 à T12)","Table\ndans\nl'absolu","Joueurs","Joueur","Nb Joueur par table","Clast\n table","Nouvelle table\ndans\nl'absolu","Nouvelle\ntable\nou\nterrain","Nombre\njoueur/\nTerrain","Nouveau\nrang du\njoueur/\nTerrain","Nouveau\nnumero\njoueur/\nTerrain"]
[1,{"$f":"IF(Tournoi!$C$5=\"\",\"\",Tournoi!$C$5)","v":""},{"$f":"IF(Tournoi!$D$5=\"\",\"\",Tournoi!$D$5)","v":""},{"$f":"IF(C5=\"\",\"\",IF(G5=3,IF(AND(C5=NbreTerrainsUtilises,H5=3),12,C5),IF(G5=4,IF(AND(C5=NbreTerrainsUtilises,H5=4),12,C5))))","v":""},{"$f":"IF(Tournoi!$E$5=\"\",\"\",Tournoi!$E$5)","v":""},null,{"$f":"IF(Tournoi!$G$5=\"\",\"\",Tournoi!$G$5)","v":""},{"$f":"IF(Tournoi!$H$5=\"\",\"\",Tournoi!$H$5)","v":""},{"$f":"IF(OR(G5=\"\",H5=\"\"),\"\",IF(G5=3,INDEX($C$49:$F$60,MATCH(D5,$B$49:$B$60,0),MATCH(H5,$C$48:$F$48,0)),INDEX($H$49:$K$60,MATCH(D5,$G$49:$G$60,0),MATCH(H5,$H$48:$K$48,0))))","v":""},{"$f":"IF(I5=\"\",\"\",IF(I5<NbreTerrainsUtilises,I5,NbreTerrainsUtilises))","v":""},{"$f":"IF(J5=\"\",\"\",COUNTIF($J$5:$J$44,J5))","v":""},{"$f":"IF(H5=\"\",\"\",IF(AND(C5=1,H5=1),1,IF(AND(C5<>1,K5=4,H5=1),4,IF(AND(C5<>1,K5=3,H5=1),3,IF(H5=2,2,IF(AND(J5=C5,G5=4,H5=3),3,IF(AND(J5<C5,K5=4),4,IF(AND(J5<C5,K5=3),3,IF(J5>C5,1,IF(AND(J5=C5,J5=NbreTerrainsUtilises,K5=3,H5=3),3,IF(AND(J5=C5,J5=NbreTerrainsUtilises,K5=4,H5=4),4)))))))))))","v":""},{"$f":"IF(OR(J5=\"\",L5=\"\"),\"\",(J5*10)+L5)","v":""}]
[2,{"$f":"IF(Tournoi!$C$6=\"\",\"\",Tournoi!$C$6)","v":""},{"$f":"IF(Tournoi!$D$6=\"\",\"\",Tournoi!$D$6)","v":""},"",{"$f":"IF(Tournoi!$E$6=\"\",\"\",Tournoi!$E$6)","v":""},null,{"$f":"IF(Tournoi!$G$6=\"\",\"\",Tournoi!$G$6)","v":""},{"$f":"IF(Tournoi!$H$6=\"\",\"\",Tournoi!$H$6)","v":""},{"$f":"IF(OR(G6=\"\",H6=\"\"),\"\",IF(G6=3,INDEX($C$49:$F$60,MATCH(D6,$B$49:$B$60,0),MATCH(H6,$C$48:$F$48,0)),INDEX($H$49:$K$60,MATCH(D6,$G$49:$G$60,0),MATCH(H6,$H$48:$K$48,0))))","v":""},"",{"$f":"IF(J6=\"\",\"\",COUNTIF($J$5:$J$44,J6))","v":""},"",{"$f":"IF(OR(J6=\"\",L6=\"\"),\"\",(J6*10)+L6)","v":""}]
[3,{"$f":"IF(Tournoi!$C$7=\"\",\"\",Tournoi!$C$7)","v":""},{"$f":"IF(Tournoi!$D$7=\"\",\"\",Tournoi!$D$7)","v":""},"",{"$f":"IF(Tournoi!$E$7=\"\",\"\",Tournoi!$E$7)","v":""},null,{"$f":"IF(Tournoi!$G$7=\"\",\"\",Tournoi!$G$7)","v":""},{"$f":"IF(Tournoi!$H$7=\"\",\"\",Tournoi!$H$7)","v":""},"","","","",""]
[4,{"$f":"IF(Tournoi!$C$8=\"\",\"\",Tournoi!$C$8)","v":""},{"$f":"IF(Tournoi!$D$8=\"\",\"\",Tournoi!$D$8)","v":""},"",{"$f":"IF(Tournoi!$E$8=\"\",\"\",Tournoi!$E$8)","v":""},null,{"$f":"IF(Tournoi!$G$8=\"\",\"\",Tournoi!$G$8)","v":""},{"$f":"IF(Tournoi!$H$8=\"\",\"\",Tournoi!$H$8)","v":""},"","","","",""]
[5,{"$f":"IF(Tournoi!$C$9=\"\",\"\",Tournoi!$C$9)","v":""},{"$f":"IF(Tournoi!$D$9=\"\",\"\",Tournoi!$D$9)","v":""},"",{"$f":"IF(Tournoi!$E$9=\"\",\"\",Tournoi!$E$9)","v":""},null,{"$f":"IF(Tournoi!$G$9=\"\",\"\",Tournoi!$G$9)","v":""},{"$f":"IF(Tournoi!$H$9=\"\",\"\",Tournoi!$H$9)","v":""},"","","","",""]
[6,{"$f":"IF(Tournoi!$C$10=\"\",\"\",Tournoi!$C$10)","v":""},{"$f":"IF(Tournoi!$D$10=\"\",\"\",Tournoi!$D$10)","v":""},"",{"$f":"IF(Tournoi!$E$10=\"\",\"\",Tournoi!$E$10)","v":""},null,{"$f":"IF(Tournoi!$G$10=\"\",\"\",Tournoi!$G$10)","v":""},{"$f":"IF(Tournoi!$H$10=\"\",\"\",Tournoi!$H$10)","v":""},"","","","",""]
[7,{"$f":"IF(Tournoi!$C$11=\"\",\"\",Tournoi!$C$11)","v":""},{"$f":"IF(Tournoi!$D$11=\"\",\"\",Tournoi!$D$11)","v":""},"",{"$f":"IF(Tournoi!$E$11=\"\",\"\",Tournoi!$E$11)","v":""},null,{"$f":"IF(Tournoi!$G$11=\"\",\"\",Tournoi!$G$11)","v":""},{"$f":"IF(Tournoi!$H$11=\"\",\"\",Tournoi!$H$11)","v":""},"","","","",""]
[8,{"$f":"IF(Tournoi!$C$12=\"\",\"\",Tournoi!$C$12)","v":""},{"$f":"IF(Tournoi!$D$12=\"\",\"\",Tournoi!$D$12)","v":""},"",{"$f":"IF(Tournoi!$E$12=\"\",\"\",Tournoi!$E$12)","v":""},null,{"$f":"IF(Tournoi!$G$12=\"\",\"\",Tournoi!$G$12)","v":""},{"$f":"IF(Tournoi!$H$12=\"\",\"\",Tournoi!$H$12)","v":""},"","","","",""]
[9,{"$f":"IF(Tournoi!$C$13=\"\",\"\",Tournoi!$C$13)","v":""},{"$f":"IF(Tournoi!$D$13=\"\",\"\",Tournoi!$D$13)","v":""},"",{"$f":"IF(Tournoi!$E$13=\"\",\"\",Tournoi!$E$13)","v":""},null,{"$f":"IF(Tournoi!$G$13=\"\",\"\",Tournoi!$G$13)","v":""},{"$f":"IF(Tournoi!$H$13=\"\",\"\",Tournoi!$H$13)","v":""},"","","","",""]
[10,{"$f":"IF(Tournoi!$C$14=\"\",\"\",Tournoi!$C$14)","v":""},{"$f":"IF(Tournoi!$D$14=\"\",\"\",Tournoi!$D$14)","v":""},"",{"$f":"IF(Tournoi!$E$14=\"\",\"\",Tournoi!$E$14)","v":""},null,{"$f":"IF(Tournoi!$G$14=\"\",\"\",Tournoi!$G$14)","v":""},{"$f":"IF(Tournoi!$H$14=\"\",\"\",Tournoi!$H$14)","v":""},"","","","",""]
[11,{"$f":"IF(Tournoi!$C$15=\"\",\"\",Tournoi!$C$15)","v":""},{"$f":"IF(Tournoi!$D$15=\"\",\"\",Tournoi!$D$15)","v":""},"",{"$f":"IF(Tournoi!$E$15=\"\",\"\",Tournoi!$E$15)","v":""},null,{"$f":"IF(Tournoi!$G$15=\"\",\"\",Tournoi!$G$15)","v":""},{"$f":"IF(Tournoi!$H$15=\"\",\"\",Tournoi!$H$15)","v":""},"","","","",""]
[12,{"$f":"IF(Tournoi!$C$16=\"\",\"\",Tournoi!$C$16)","v":""},{"$f":"IF(Tournoi!$D$16=\"\",\"\",Tournoi!$D$16)","v":""},"",{"$f":"IF(Tournoi!$E$16=\"\",\"\",Tournoi!$E$16)","v":""},null,{"$f":"IF(Tournoi!$G$16=\"\",\"\",Tournoi!$G$16)","v":""},{"$f":"IF(Tournoi!$H$16=\"\",\"\",Tournoi!$H$16)","v":""},"","","","",""]
[13,{"$f":"IF(Tournoi!$C$17=\"\",\"\",Tournoi!$C$17)","v":""},{"$f":"IF(Tournoi!$D$17=\"\",\"\",Tournoi!$D$17)","v":""},"",{"$f":"IF(Tournoi!$E$17=\"\",\"\",Tournoi!$E$17)","v":""},null,{"$f":"IF(Tournoi!$G$17=\"\",\"\",Tournoi!$G$17)","v":""},{"$f":"IF(Tournoi!$H$17=\"\",\"\",Tournoi!$H$17)","v":""},"","",{"$f":"IF(J17=\"\",\"\",COUNTIF($J$5:$J$44,J17))","v":""},"",""]
[14,{"$f":"IF(Tournoi!$C$18=\"\",\"\",Tournoi!$C$18)","v":""},{"$f":"IF(Tournoi!$D$18=\"\",\"\",Tournoi!$D$18)","v":""},"",{"$f":"IF(Tournoi!$E$18=\"\",\"\",Tournoi!$E$18)","v":""},null,{"$f":"IF(Tournoi!$G$18=\"\",\"\",Tournoi!$G$18)","v":""},{"$f":"IF(Tournoi!$H$18=\"\",\"\",Tournoi!$H$18)","v":""},"","","","",""]
[15,{"$f":"IF(Tournoi!$C$19=\"\",\"\",Tournoi!$C$19)","v":""},{"$f":"IF(Tournoi!$D$19=\"\",\"\",Tournoi!$D$19)","v":""},"",{"$f":"IF(Tournoi!$E$19=\"\",\"\",Tournoi!$E$19)","v":""},null,{"$f":"IF(Tournoi!$G$19=\"\",\"\",Tournoi!$G$19)","v":""},{"$f":"IF(Tournoi!$H$19=\"\",\"\",Tournoi!$H$19)","v":""},"","","","",""]
[16,{"$f":"IF(Tournoi!$C$20=\"\",\"\",Tournoi!$C$20)","v":""},{"$f":"IF(Tournoi!$D$20=\"\",\"\",Tournoi!$D$20)","v":""},"",{"$f":"IF(Tournoi!$E$20=\"\",\"\",Tournoi!$E$20)","v":""},null,{"$f":"IF(Tournoi!$G$20=\"\",\"\",Tournoi!$G$20)","v":""},{"$f":"IF(Tournoi!$H$20=\"\",\"\",Tournoi!$H$20)","v":""},"","","","",""]
[17,{"$f":"IF(Tournoi!$C$21=\"\",\"\",Tournoi!$C$21)","v":""},{"$f":"IF(Tournoi!$D$21=\"\",\"\",Tournoi!$D$21)","v":""},"",{"$f":"IF(Tournoi!$E$21=\"\",\"\",Tournoi!$E$21)","v":""},null,{"$f":"IF(Tournoi!$G$21=\"\",\"\",Tournoi!$G$21)","v":""},{"$f":"IF(Tournoi!$H$21=\"\",\"\",Tournoi!$H$21)","v":""},"","","","",""]
[18,{"$f":"IF(Tournoi!$C$22=\"\",\"\",Tournoi!$C$22)","v":""},{"$f":"IF(Tournoi!$D$22=\"\",\"\",Tournoi!$D$22)","v":""},"",{"$f":"IF(Tournoi!$E$22=\"\",\"\",Tournoi!$E$22)","v":""},null,{"$f":"IF(Tournoi!$G$22=\"\",\"\",Tournoi!$G$22)","v":""},{"$f":"IF(Tournoi!$H$22=\"\",\"\",Tournoi!$H$22)","v":""},"","","","",""]
[19,{"$f":"IF(Tournoi!$C$23=\"\",\"\",Tournoi!$C$23)","v":""},{"$f":"IF(Tournoi!$D$23=\"\",\"\",Tournoi!$D$23)","v":""},"",{"$f":"IF(Tournoi!$E$23=\"\",\"\",Tournoi!$E$23)","v":""},null,{"$f":"IF(Tournoi!$G$23=\"\",\"\",Tournoi!$G$23)","v":""},{"$f":"IF(Tournoi!$H$23=\"\",\"\",Tournoi!$H$23)","v":""},"","","","",""]
[20,{"$f":"IF(Tournoi!$C$24=\"\",\"\",Tournoi!$C$24)","v":""},{"$f":"IF(Tournoi!$D$24=\"\",\"\",Tournoi!$D$24)","v":""},"",{"$f":"IF(Tournoi!$E$24=\"\",\"\",Tournoi!$E$24)","v":""},null,{"$f":"IF(Tournoi!$G$24=\"\",\"\",Tournoi!$G$24)","v":""},{"$f":"IF(Tournoi!$H$24=\"\",\"\",Tournoi!$H$24)","v":""},"","","","",""]
[21,{"$f":"IF(Tournoi!$C$25=\"\",\"\",Tournoi!$C$25)","v":""},{"$f":"IF(Tournoi!$D$25=\"\",\"\",Tournoi!$D$25)","v":""},"",{"$f":"IF(Tournoi!$E$25=\"\",\"\",Tournoi!$E$25)","v":""},null,{"$f":"IF(Tournoi!$G$25=\"\",\"\",Tournoi!$G$25)","v":""},{"$f":"IF(Tournoi!$H$25=\"\",\"\",Tournoi!$H$25)","v":""},"","","","",""]
[22,{"$f":"IF(Tournoi!$C$26=\"\",\"\",Tournoi!$C$26)","v":""},{"$f":"IF(Tournoi!$D$26=\"\",\"\",Tournoi!$D$26)","v":""},"",{"$f":"IF(Tournoi!$E$26=\"\",\"\",Tournoi!$E$26)","v":""},null,{"$f":"IF(Tournoi!$G$26=\"\",\"\",Tournoi!$G$26)","v":""},{"$f":"IF(Tournoi!$H$26=\"\",\"\",Tournoi!$H$26)","v":""},"","","","",""]
[23,{"$f":"IF(Tournoi!$C$27=\"\",\"\",Tournoi!$C$27)","v":""},{"$f":"IF(Tournoi!$D$27=\"\",\"\",Tournoi!$D$27)","v":""},"",{"$f":"IF(Tournoi!$E$27=\"\",\"\",Tournoi!$E$27)","v":""},null,{"$f":"IF(Tournoi!$G$27=\"\",\"\",Tournoi!$G$27)","v":""},{"$f":"IF(Tournoi!$H$27=\"\",\"\",Tournoi!$H$27)","v":""},"","","","","",null,null,null,"Nbre de terrains/tables utilisés",null,null,{"$f":"IF(COUNT(C5:C44)=0,\"\",MAX(C5:C44))","v":""}]
[24,{"$f":"IF(Tournoi!$C$28=\"\",\"\",Tournoi!$C$28)","v":""},{"$f":"IF(Tournoi!$D$28=\"\",\"\",Tournoi!$D$28)","v":""},"",{"$f":"IF(Tournoi!$E$28=\"\",\"\",Tournoi!$E$28)","v":""},null,{"$f":"IF(Tournoi!$G$28=\"\",\"\",Tournoi!$G$28)","v":""},{"$f":"IF(Tournoi!$H$28=\"\",\"\",Tournoi!$H$28)","v":""},"","","","",""]
[25,{"$f":"IF(Tournoi!$C$29=\"\",\"\",Tournoi!$C$29)","v":""},{"$f":"IF(Tournoi!$D$29=\"\",\"\",Tournoi!$D$29)","v":""},"",{"$f":"IF(Tournoi!$E$29=\"\",\"\",Tournoi!$E$29)","v":""},null,{"$f":"IF(Tournoi!$G$29=\"\",\"\",Tournoi!$G$29)","v":""},{"$f":"IF(Tournoi!$H$29=\"\",\"\",Tournoi!$H$29)","v":""},"","","","","",null,null,null,"Terrains/Tables","Nbre de Joueurs"]
[26,{"$f":"IF(Tournoi!$C$30=\"\",\"\",Tournoi!$C$30)","v":""},{"$f":"IF(Tournoi!$D$30=\"\",\"\",Tournoi!$D$30)","v":""},"",{"$f":"IF(Tournoi!$E$30=\"\",\"\",Tournoi!$E$30)","v":""},null,{"$f":"IF(Tournoi!$G$30=\"\",\"\",Tournoi!$G$30)","v":""},{"$f":"IF(Tournoi!$H$30=\"\",\"\",Tournoi!$H$30)","v":""},"","","","","",null,null,null,1,{"$f":"IF('T1'!H11=0,\"\",'T1'!H11)","v":""}]
[27,{"$f":"IF(Tournoi!$C$31=\"\",\"\",Tournoi!$C$31)","v":""},{"$f":"IF(Tournoi!$D$31=\"\",\"\",Tournoi!$D$31)","v":""},"",{"$f":"IF(Tournoi!$E$31=\"\",\"\",Tournoi!$E$31)","v":""},null,{"$f":"IF(Tournoi!$G$31=\"\",\"\",Tournoi!$G$31)","v":""},{"$f":"IF(Tournoi!$H$31=\"\",\"\",Tournoi!$H$31)","v":""},"","","","","",null,null,null,2,{"$f":"IF('T2'!H10=0,\"\",'T2'!H10)","v":""}]
[28,{"$f":"IF(Tournoi!$C$32=\"\",\"\",Tournoi!$C$32)","v":""},{"$f":"IF(Tournoi!$D$32=\"\",\"\",Tournoi!$D$32)","v":""},"",{"$f":"IF(Tournoi!$E$32=\"\",\"\",Tournoi!$E$32)","v":""},null,{"$f":"IF(Tournoi!$G$32=\"\",\"\",Tournoi!$G$32)","v":""},{"$f":"IF(Tournoi!$H$32=\"\",\"\",Tournoi!$H$32)","v":""},"","","","","",null,null,null,3,{"$f":"IF('T3'!H10=0,\"\",'T3'!H10)","v":""}]
[29,{"$f":"IF(Tournoi!$C$33=\"\",\"\",Tournoi!$C$33)","v":""},{"$f":"IF(Tournoi!$D$33=\"\",\"\",Tournoi!$D$33)","v":""},"",{"$f":"IF(Tournoi!$E$33=\"\",\"\",Tournoi!$E$33)","v":""},null,{"$f":"IF(Tournoi!$G$33=\"\",\"\",Tournoi!$G$33)","v":""},{"$f":"IF(Tournoi!$H$33=\"\",\"\",Tournoi!$H$33)","v":""},"","","","","",null,null,null,4,{"$f":"IF('T4'!H10=0,\"\",'T4'!H10)","v":""}]
[30,{"$f":"IF(Tournoi!$C$34=\"\",\"\",Tournoi!$C$34)","v":""},{"$f":"IF(Tournoi!$D$34=\"\",\"\",Tournoi!$D$34)","v":""},"",{"$f":"IF(Tournoi!$E$34=\"\",\"\",Tournoi!$E$34)","v":""},null,{"$f":"IF(Tournoi!$G$34=\"\",\"\",Tournoi!$G$34)","v":""},{"$f":"IF(Tournoi!$H$34=\"\",\"\",Tournoi!$H$34)","v":""},"","","","",{"$f":"IF(OR(J34=\"\",L34=\"\"),\"\",(J34*10)+L34)","v":""},null,null,null,5,{"$f":"IF('T4'!H10=0,\"\",'T4'!H10)","v":""}]
[31,{"$f":"IF(Tournoi!$C$35=\"\",\"\",Tournoi!$C$35)","v":""},{"$f":"IF(Tournoi!$D$35=\"\",\"\",Tournoi!$D$35)","v":""},"",{"$f":"IF(Tournoi!$E$35=\"\",\"\",Tournoi!$E$35)","v":""},null,{"$f":"IF(Tournoi!$G$35=\"\",\"\",Tournoi!$G$35)","v":""},{"$f":"IF(Tournoi!$H$35=\"\",\"\",Tournoi!$H$35)","v":""},"","","","","",null,null,null,6,{"$f":"IF('T6'!H10=0,\"\",'T6'!H10)","v":""}]
[32,{"$f":"IF(Tournoi!$C$36=\"\",\"\",Tournoi!$C$36)","v":""},{"$f":"IF(Tournoi!$D$36=\"\",\"\",Tournoi!$D$36)","v":""},"",{"$f":"IF(Tournoi!$E$36=\"\",\"\",Tournoi!$E$36)","v":""},null,{"$f":"IF(Tournoi!$G$36=\"\",\"\",Tournoi!$G$36)","v":""},{"$f":"IF(Tournoi!$H$36=\"\",\"\",Tournoi!$H$36)","v":""},"","","","","",null,null,null,7,{"$f":"IF('T7'!H10=0,\"\",'T7'!H10)","v":""}]
[33,{"$f":"IF(Tournoi!$C$37=\"\",\"\",Tournoi!$C$37)","v":""},{"$f":"IF(Tournoi!$D$37=\"\",\"\",Tournoi!$D$37)","v":""},"",{"$f":"IF(Tournoi!$E$37=\"\",\"\",Tournoi!$E$37)","v":""},null,{"$f":"IF(Tournoi!$G$37=\"\",\"\",Tournoi!$G$37)","v":""},{"$f":"IF(Tournoi!$H$37=\"\",\"\",Tournoi!$H$37)","v":""},"","","","","",null,null,null,8,{"$f":"IF('T8'!H10=0,\"\",'T8'!H10)","v":""}]
[34,{"$f":"IF(Tournoi!$C$38=\"\",\"\",Tournoi!$C$38)","v":""},{"$f":"IF(Tournoi!$D$38=\"\",\"\",Tournoi!$D$38)","v":""},"",{"$f":"IF(Tournoi!$E$38=\"\",\"\",Tournoi!$E$38)","v":""},null,{"$f":"IF(Tournoi!$G$38=\"\",\"\",Tournoi!$G$38)","v":""},{"$f":"IF(Tournoi!$H$38=\"\",\"\",Tournoi!$H$38)","v":""},"","","","","",null,null,null,9,{"$f":"IF('T9'!H10=0,\"\",'T9'!H10)","v":""}]
[35,{"$f":"IF(Tournoi!$C$39=\"\",\"\",Tournoi!$C$39)","v":""},{"$f":"IF(Tournoi!$D$39=\"\",\"\",Tournoi!$D$39)","v":""},"",{"$f":"IF(Tournoi!$E$39=\"\",\"\",Tournoi!$E$39)","v":""},null,{"$f":"IF(Tournoi!$G$39=\"\",\"\",Tournoi!$G$39)","v":""},{"$f":"IF(Tournoi!$H$39=\"\",\"\",Tournoi!$H$39)","v":""},"","","","","",null,null,null,10,{"$f":"IF('T10'!H10=0,\"\",'T10'!H10)","v":""}]
[36,{"$f":"IF(Tournoi!$C$40=\"\",\"\",Tournoi!$C$40)","v":""},{"$f":"IF(Tournoi!$D$40=\"\",\"\",Tournoi!$D$40)","v":""},"",{"$f":"IF(Tournoi!$E$40=\"\",\"\",Tournoi!$E$40)","v":""},null,{"$f":"IF(Tournoi!$G$40=\"\",\"\",Tournoi!$G$40)","v":""},{"$f":"IF(Tournoi!$H$40=\"\",\"\",Tournoi!$H$40)","v":""},"","","","","",null,null,null,11,{"$f":"IF('T11'!H10=0,\"\",'T11'!H10)","v":""}]
[37,{"$f":"IF(Tournoi!$C$41=\"\",\"\",Tournoi!$C$41)","v":""},{"$f":"IF(Tournoi!$D$41=\"\",\"\",Tournoi!$D$41)","v":""},"",{"$f":"IF(Tournoi!$E$41=\"\",\"\",Tournoi!$E$41)","v":""},null,{"$f":"IF(Tournoi!$G$41=\"\",\"\",Tournoi!$G$41)","v":""},{"$f":"IF(Tournoi!$H$41=\"\",\"\",Tournoi!$H$41)","v":""},"","","","","",null,null,null,12,{"$f":"IF('T12'!H10=0,\"\",'T12'!H10)","v":""}]
[38,{"$f":"IF(Tournoi!$C$42=\"\",\"\",Tournoi!$C$42)","v":""},{"$f":"IF(Tournoi!$D$42=\"\",\"\",Tournoi!$D$42)","v":""},"",{"$f":"IF(Tournoi!$E$42=\"\",\"\",Tournoi!$E$42)","v":""},null,{"$f":"IF(Tournoi!$G$42=\"\",\"\",Tournoi!$G$42)","v":""},{"$f":"IF(Tournoi!$H$42=\"\",\"\",Tournoi!$H$42)","v":""},"","","","",""]
[39,{"$f":"IF(Tournoi!$C$43=\"\",\"\",Tournoi!$C$43)","v":""},{"$f":"IF(Tournoi!$D$43=\"\",\"\",Tournoi!$D$43)","v":""},"",{"$f":"IF(Tournoi!$E$43=\"\",\"\",Tournoi!$E$43)","v":""},null,{"$f":"IF(Tournoi!$G$43=\"\",\"\",Tournoi!$G$43)","v":""},{"$f":"IF(Tournoi!$H$43=\"\",\"\",Tournoi!$H$43)","v":""},"","","","",""]
[40,{"$f":"IF(Tournoi!$C$44=\"\",\"\",Tournoi!$C$44)","v":""},{"$f":"IF(Tournoi!$D$44=\"\",\"\",Tournoi!$D$44)","v":""},"",{"$f":"IF(Tournoi!$E$44=\"\",\"\",Tournoi!$E$44)","v":""},null,{"$f":"IF(Tournoi!$G$44=\"\",\"\",Tournoi!$G$44)","v":""},{"$f":"IF(Tournoi!$H$44=\"\",\"\",Tournoi!$H$44)","v":""},"","","","",{"$f":"IF(OR(J44=\"\",L44=\"\"),\"\",(J44*10)+L44)","v":""}]
[]
[]
[]
[null,null,1,null,2,3,null,1,2,3,4,null,null,null,null,1,2,3,null,1,2,3,4]
[null,1,1,null,1,2,1,1,1,1,2,null,null,null,1,1,1,2,1,1,1,1,2]
[null,2,1,null,2,3,2,1,2,2,3,null,null,null,2,1,2,3,2,1,2,2,3]
[null,3,2,null,3,4,3,2,3,3,4,null,null,null,3,2,3,4,3,2,3,3,4]
[null,4,3,null,4,5,4,3,4,4,5,null,null,null,4,3,4,5,4,3,4,4,5]
[null,5,4,null,5,6,5,4,5,5,6,null,null,null,5,4,5,6,5,4,5,5,6]
[null,6,5,null,6,7,6,5,6,6,7,null,null,null,6,5,6,7,6,5,6,6,7]
[null,7,6,null,7,8,7,6,7,7,8,null,null,null,7,6,7,8,7,6,7,7,8]
[null,8,7,null,8,9,8,7,8,8,9,null,null,null,8,7,8,9,8,7,8,8,9]
[null,9,8,null,9,10,9,8,9,9,10,null,null,null,9,8,9,10,9,8,9,9,10]
[null,10,9,null,10,11,10,9,10,10,11,null,null,null,10,9,10,11,10,9,10,10,11]
[null,11,10,null,11,12,11,10,11,11,12,null,null,null,11,10,11,12,11,10,11,11,12]
[null,12,11,null,12,12,12,11,12,12,12,null,null,null,12,11,12,12,12,11,12,12,12]
[]
[]
[]
[]
[]
[]
[]
[]
[null,"Noms, prénoms :","Nouveau\nnumero\njoueur/\nTerrain"]

{"sheet":"T1","index":6,"n_rows":35,"n_cols":17,"rows_kept":35,"cut":false,"hidden":false,"merged":[[32,2,32,4],[34,2,34,4],[34,6,34,7],[29,6,30,7],[33,6,33,7],[32,6,32,7],[33,2,33,4],[29,12,29,13],[31,6,31,7],[29,8,30,11],[12,1,12,6],[3,2,3,4],[13,12,13,13],[13,8,13,9],[31,2,31,4],[1,1,1,2],[12,8,12,13],[13,3,13,4],[13,5,13,6],[13,10,13,11],[13,1,13,2],[4,3,4,7],[5,3,5,7],[6,3,6,7],[7,3,7,7]]}
[]
[null,"TERRAIN/TABLE",null,1]
[]
[null,null,"Joueurs/Equipes"]
[11,null,"A",{"$f":"IF(Tournoi!K5=\"zzz\",\"\",Tournoi!K5)","v":""},null,null,null,null,null,null,"Victoire",3,"Pts"]
[12,null,"B",{"$f":"IF(Tournoi!K6=\"zzz\",\"\",Tournoi!K6)","v":""},null,null,null,null,null,null,"Défaite",1,"Pt"]
[13,null,"C",{"$f":"IF(Tournoi!K7=\"zzz\",\"\",Tournoi!K7)","v":""}]
[14,null,"D",{"$f":"IF(Tournoi!K8=\"zzz\",\"\",Tournoi!K8)","v":""}]
[]
[]
[null,null,null,null,"Poule de",null,null,{"$f":"Tournoi!K20","v":0},"Joueurs/Equipes"]
[]
[null,{"$f":"IF($H$11=4,\"Poule de 4\",\"\")","v":""},null,null,null,null,null,null,{"$f":"IF($H$11=3,\"Poule de 3\",\"\")","v":""}]
[null,{"$f":"IF($H$11=4,\"Rencontres\",\"\")","v":""},null,{"$f":"IF($H$11=4,\"Scores\",\"\")","v":""},null,{"$f":"IF($H$11=4,\"Contrats\",\"\")","v":""},null,null,{"$f":"IF($H$11=3,\"Rencontres\",\"\")","v":""},null,{"$f":"IF($H$11=3,\"Scores\",\"\")","v":""},null,{"$f":"IF($H$11=3,\"Contrats\",\"\")","v":""}]
[null,{"$f":"IF(H11=4,D5,\"\")","v":""},{"$f":"IF(H11=4,D6,\"\")","v":""},null,null,null,null,null,{"$f":"IF($H$11=4,\"\",D5)","v":""},{"$f":"IF($H$11=4,\"\",D6)","v":""}]
[null,{"$f":"IF(H11=4,D7,\"\")","v":""},{"$f":"IF(H11=4,D8,\"\")","v":""},null,null,null,null,null,{"$f":"IF($H$11=4,\"\",D5)","v":""},{"$f":"IF($H$11=4,\"\",D7)","v":""}]
[null,{"$f":"IF(H11=4,D5,\"\")","v":""},{"$f":"IF(H11=4,D7,\"\")","v":""},null,null,null,null,null,{"$f":"IF($H$11=4,\"\",D6)","v":""},{"$f":"IF($H$11=4,\"\",D7)","v":""}]
[null,{"$f":"IF(H11=4,D6,\"\")","v":""},{"$f":"IF(H11=4,D8,\"\")","v":""},null,null,null,null,null,{"$f":"IF($H$11=4,\"\",D5)","v":""},{"$f":"IF($H$11=4,\"\",D6)","v":""}]
[null,{"$f":"IF(H11=4,D5,\"\")","v":""},{"$f":"IF(H11=4,D8,\"\")","v":""},null,null,null,null,null,{"$f":"IF($H$11=4,\"\",D5)","v":""},{"$f":"IF($H$11=4,\"\",D7)","v":""}]
[null,{"$f":"IF(H11=4,D6,\"\")","v":""},{"$f":"IF(H11=4,D7,\"\")","v":""},null,null,null,null,null,{"$f":"IF($H$11=4,\"\",D6)","v":""},{"$f":"IF($H$11=4,\"\",D7)","v":""}]
[]
[]
[null,null,"Match1","Match2","Match3","Match4","PP","PC",null,"Contrats","Match1","Match2","Match3","Match4"]
[null,"A",{"$f":"IF(H11=\"\",\"\",IF(H11=4,IF(D15=\"\",\"\",IF(D15<E15,$L$6,$L$5)),IF(K15=\"\",\"\",IF(K15<L15,$L$6,$L$5))))","v":""},{"$f":"IF(H11=\"\",\"\",IF(H11=4,IF(D17=\"\",\"\",IF(D17<E17,$L$6,$L$5)),IF(K16=\"\",\"\",IF(K16<L16,$L$6,$L$5))))","v":""},{"$f":"IF(H11=\"\",\"\",IF(H11=4,IF(D19=\"\",\"\",IF(D19<E19,$L$6,$L$5)),IF(K18=\"\",\"\",IF(K18<L18,$L$6,$L$5))))","v":""},{"$f":"IF(H11=\"\",\"\",IF(H11=4,\"\",IF(K19=\"\",\"\",IF(K19<L19,$L$6,$L$5))))","v":""},{"$f":"IF(H11=\"\",\"\",IF(H11=4,SUM(D15,D17,D19),SUM(K15,K16,K18,K19)))","v":0},{"$f":"IF(H11=\"\",\"\",IF(H11=4,SUM(E15,E17,E19),SUM(L15,L16,L18,L19)))","v":0},null,"A",{"$f":"IF(C24=\"\",\"\",IF(H11=\"\",\"\",IF(H11=3,M15,F15)))","v":""},{"$f":"IF(D24=\"\",\"\",IF(H11=\"\",\"\",IF(H11=3,M16,F17)))","v":""},{"$f":"IF(E24=\"\",\"\",IF(H11=\"\",\"\",IF(H11=3,M18,F19)))","v":""},{"$f":"IF(F24=\"\",\"\",IF(H11=\"\",\"\",IF(H11=3,M19,\"\")))","v":""}]
[null,"B",{"$f":"IF(H11=\"\",\"\",IF(H11=4,IF(E15=\"\",\"\",IF(E15<D15,$L$6,$L$5)),IF(L15=\"\",\"\",IF(L15<K15,$L$6,$L$5))))","v":""},{"$f":"IF(H11=\"\",\"\",IF(H11=4,IF(D18=\"\",\"\",IF(D18<E18,$L$6,$L$5)),IF(K17=\"\",\"\",IF(K17<L17,$L$6,$L$5))))","v":""},{"$f":"IF(H11=\"\",\"\",IF(H11=4,IF(D20=\"\",\"\",IF(D20<E20,$L$6,$L$5)),IF(L18=\"\",\"\",IF(L18<K18,$L$6,$L$5))))","v":""},{"$f":"IF(H11=\"\",\"\",IF(H11=4,\"\",IF(K20=\"\",\"\",IF(K20<L20,$L$6,$L$5))))","v":""},{"$f":"IF(H11=\"\",\"\",IF(H11=4,SUM(E15,D18,D20),SUM(L15,K17,L18,K20)))","v":0},{"$f":"IF(H11=\"\",\"\",IF(H11=4,SUM(D15,D17,D19),SUM(K15,L17,K18,L20)))","v":0},null,"B",{"$f":"IF(C25=\"\",\"\",IF(H11=\"\",\"\",IF(H11=3,N15,G15)))","v":""},{"$f":"IF(D25=\"\",\"\",IF(H11=\"\",\"\",IF(H11=3,M17,F18)))","v":""},{"$f":"IF(E25=\"\",\"\",IF(H11=\"\",\"\",IF(H11=3,N18,F20)))","v":""},{"$f":"IF(F25=\"\",\"\",IF(H11=\"\",\"\",IF(H11=3,M20,\"\")))","v":""}]
[null,"C",{"$f":"IF(H11=\"\",\"\",IF(H11=4,IF(D16=\"\",\"\",IF(D16<E16,$L$6,$L$5)),IF(L16=\"\",\"\",IF(L16<K16,$L$6,$L$5))))","v":""},{"$f":"IF(H11=\"\",\"\",IF(H11=4,IF(E17=\"\",\"\",IF(E17<D17,$L$6,$L$5)),IF(L17=\"\",\"\",IF(L17<K17,$L$6,$L$5))))","v":""},{"$f":"IF(H11=\"\",\"\",IF(H11=4,IF(E20=\"\",\"\",IF(E20<D20,$L$6,$L$5)),IF(L19=\"\",\"\",IF(L19<K19,$L$6,$L$5))))","v":""},{"$f":"IF(H11=\"\",\"\",IF(H11=4,\"\",IF(L20=\"\",\"\",IF(L20<K20,$L$6,$L$5))))","v":""},{"$f":"IF(H11=\"\",\"\",IF(H11=4,SUM(D16,E17,E20),SUM(L16,L17,L19,L20)))","v":0},{"$f":"IF(H11=\"\",\"\",IF(H11=4,SUM(E16,D17,D20),SUM(K16,K17,K19,K20)))","v":0},null,"C",{"$f":"IF(C26=\"\",\"\",IF(H11=\"\",\"\",IF(H11=3,N16,F16)))","v":""},{"$f":"IF(D26=\"\",\"\",IF(H11=\"\",\"\",IF(H11=3,N17,G17)))","v":""},{"$f":"IF(E26=\"\",\"\",IF(H11=\"\",\"\",IF(H11=3,N19,G20)))","v":""},{"$f":"IF(F26=\"\",\"\",IF(H11=\"\",\"\",IF(H11=3,N20,\"\")))","v":""}]
[null,"D",{"$f":"IF(H11=\"\",\"\",IF(H11=3,\"\",IF(E16=\"\",\"\",IF(E16<D16,$L$6,$L$5))))","v":""},{"$f":"IF(H11=\"\",\"\",IF(H11=3,\"\",IF(E18=\"\",\"\",IF(E18<D18,$L$6,$L$5))))","v":""},{"$f":"IF(H11=\"\",\"\",IF(H11=3,\"\",IF(E19=\"\",\"\",IF(E19<D19,$L$6,$L$5))))","v":""},{"$f":"IF(H11=\"\",\"\",IF(H11=4,\"\",IF(K20=\"\",\"\",\"\")))","v":""},{"$f":"IF(H11=\"\",\"\",IF(H11=4,SUM(E16,E18,E19),\"\"))","v":""},{"$f":"IF(H11=\"\",\"\",IF(H11=4,SUM(D16,D18,D19),\"\"))","v":""},null,"D",{"$f":"IF(C27=\"\",\"\",IF(H11=\"\",\"\",IF(H11=3,\"\",G16)))","v":""},{"$f":"IF(D27=\"\",\"\",IF(H11=\"\",\"\",IF(H11=3,\"\",G18)))","v":""},{"$f":"IF(E27=\"\",\"\",IF(H11=\"\",\"\",IF(H11=3,\"\",G19)))","v":""},{"$f":"IF(F27=\"\",\"\",IF(H11=\"\",\"\",IF(H11=3,\"\",\"\")))","v":""}]
[]
[]
[null,null,null,null,null,null,"Points",null,"Différence de Points",null,null,null,"Place",null,"Classement"]
[null,null,null,null,null,null,null,null,null,null,null,null,"Pts","Diff."]
[null,null,{"$f":"D5","v":""},null,null,{"$f":"D5","v":""},{"$f":"IF(C24=\"\",\"\",IF(F32=\"\",\"\",SUM(C24,D24,E24,F24)))","v":""},null,null,{"$f":"IF(C24=\"\",\"\",IF(F32=\"\",\"\",G24-H24))","v":""},null,null,{"$f":"IF(G32=\"\",\"\",IF(H11=3,RANK(G32,$G$32:$G$35),RANK(G32,$G$32:$G$35)))","v":""},{"$f":"IF(J32=\"\",\"\",IF(H11=3,RANK(J32,$J$32:$J$35)/10,RANK(J32,$J$32:$J$35)/10))","v":""},{"$f":"IF(G32=\"\",\"\",IF(H11=3,RANK(Q32,$Q$32:$GQ$34,1),RANK(Q32,$Q$32:$Q$35,1)))","v":""},null,{"$f":"M32+N32","v":{"$error":"#VALUE!"}}]
[null,null,{"$f":"D6","v":""},null,null,{"$f":"D6","v":""},{"$f":"IF(C25=\"\",\"\",IF(F33=\"\",\"\",SUM(C25,D25,E25,F25)))","v":""},null,null,{"$f":"IF(C25=\"\",\"\",IF(F33=\"\",\"\",G25-H25))","v":""},null,null,{"$f":"IF(G33=\"\",\"\",IF(H12=3,RANK(G33,$G$32:$G$35),RANK(G33,$G$32:$G$35)))","v":""},{"$f":"IF(J33=\"\",\"\",IF(H12=3,RANK(J33,$J$32:$J$35)/10,RANK(J33,$J$32:$J$35)/10))","v":""},{"$f":"IF(G33=\"\",\"\",IF(H11=3,RANK(Q33,$Q$32:$GQ$34,1),RANK(Q33,$Q$32:$Q$35,1)))","v":""},null,{"$f":"M33+N33","v":{"$error":"#VALUE!"}}]
[null,null,{"$f":"D7","v":""},null,null,{"$f":"D7","v":""},{"$f":"IF(C26=\"\",\"\",IF(F34=\"\",\"\",SUM(C26,D26,E26,F26)))","v":""},null,null,{"$f":"IF(C26=\"\",\"\",IF(F34=\"\",\"\",G26-H26))","v":""},null,null,{"$f":"IF(G34=\"\",\"\",IF(H13=3,RANK(G34,$G$32:$G$35),RANK(G34,$G$32:$G$35)))","v":""},{"$f":"IF(J34=\"\",\"\",IF(H13=3,RANK(J34,$J$32:$J$35)/10,RANK(J34,$J$32:$J$35)/10))","v":""},{"$f":"IF(G34=\"\",\"\",IF(H11=3,RANK(Q34,$Q$32:$GQ$34,1),RANK(Q34,$Q$32:$Q$35,1)))","v":""},null,{"$f":"M34+N34","v":{"$error":"#VALUE!"}}]
[null,null,{"$f":"IF(H11=3,\"\",D8)","v":""},null,null,{"$f":"IF(H11=3,\"\",D8)","v":""},{"$f":"IF(C27=\"\",\"\",IF(F35=\"\",\"\",SUM(C27,D27,E27,F27)))","v":""},null,null,{"$f":"IF(C27=\"\",\"\",IF(F35=\"\",\"\",G27-H27))","v":""},null,null,{"$f":"IF(G35=\"\",\"\",IF(H14=3,RANK(G35,$G$32:$G$35),RANK(G35,$G$32:$G$35)))","v":""},{"$f":"IF(J35=\"\",\"\",IF(H14=3,RANK(J35,$J$32:$J$35)/10,RANK(J35,$J$32:$J$35)/10))","v":""},{"$f":"IF(G35=\"\",\"\",IF(H11=3,RANK(Q35,$Q$32:$GQ$34,1),RANK(Q35,$Q$32:$Q$35,1)))","v":""},null,{"$f":"M35+N35","v":{"$error":"#VALUE!"}}]

{"sheet":"T2","index":7,"n_rows":34,"n_cols":17,"rows_kept":34,"cut":false,"hidden":false,"merged":[[30,2,30,4],[31,2,31,4],[32,2,32,4],[33,2,33,4],[12,8,12,9],[33,6,33,7],[32,6,32,7],[31,6,31,7],[30,6,30,7],[12,1,12,2],[12,3,12,4],[12,10,12,11],[28,8,29,11],[12,12,12,13],[12,5,12,6],[11,8,11,13],[28,6,29,7],[28,12,28,13],[0,1,0,2],[11,1,11,6],[2,2,2,4],[3,3,3,7],[4,3,4,7],[5,3,5,7],[6,3,6,7]]}
[null,"TERRAIN/TABLE",null,2]
[]
[null,null,"Joueurs/Equipes"]
[21,null,"A",{"$f":"IF(Tournoi!L5=\"zzz\",\"\",Tournoi!L5)","v":""},null,null,null,null,null,null,"Victoire",3,"Pts"]
[22,null,"B",{"$f":"IF(Tournoi!L6=\"zzz\",\"\",Tournoi!L6)","v":""},null,null,null,null,null,null,"Défaite",1,"Pt"]
[23,null,"C",{"$f":"IF(Tournoi!L7=\"zzz\",\"\",Tournoi!L7)","v":""}]
[24,null,"D",{"$f":"IF(Tournoi!L8=\"zzz\",\"\",Tournoi!L8)","v":""}]
[]
[]
[null,null,null,null,"Poule de",null,null,{"$f":"Tournoi!K21","v":0},"Joueurs/Equipes"]
[]
[null,{"$f":"IF($H$10=4,\"Poule de 4\",\"\")","v":""},null,null,null,null,null,null,{"$f":"IF($H$10=3,\"Poule de 3\",\"\")","v":""}]
[null,{"$f":"IF($H$10=4,\"Rencontres\",\"\")","v":""},null,{"$f":"IF($H$10=4,\"Scores\",\"\")","v":""},null,{"$f":"IF($H$10=4,\"Contrats\",\"\")","v":""},null,null,{"$f":"IF($H$10=3,\"Rencontres\",\"\")","v":""},null,{"$f":"IF($H$10=3,\"Scores\",\"\")","v":""},null,{"$f":"IF($H$10=3,\"Contrats\",\"\")","v":""}]
[null,{"$f":"IF(H10=4,D4,\"\")","v":""},{"$f":"IF(H10=4,D5,\"\")","v":""},null,null,null,null,null,{"$f":"IF($H$10=4,\"\",D4)","v":""},{"$f":"IF($H$10=4,\"\",D5)","v":""}]
[null,{"$f":"IF(H10=4,D6,\"\")","v":""},{"$f":"IF(H10=4,D7,\"\")","v":""},null,null,null,null,null,{"$f":"IF($H$10=4,\"\",D4)","v":""},{"$f":"IF($H$10=4,\"\",D6)","v":""}]
[null,{"$f":"IF(H10=4,D4,\"\")","v":""},{"$f":"IF(H10=4,D6,\"\")","v":""},null,null,null,null,null,{"$f":"IF($H$10=4,\"\",D5)","v":""},{"$f":"IF($H$10=4,\"\",D6)","v":""}]
[null,{"$f":"IF(H10=4,D5,\"\")","v":""},{"$f":"IF(H10=4,D7,\"\")","v":""},null,null,null,null,null,{"$f":"IF($H$10=4,\"\",D4)","v":""},{"$f":"IF($H$10=4,\"\",D5)","v":""}]
[null,{"$f":"IF(H10=4,D4,\"\")","v":""},{"$f":"IF(H10=4,D7,\"\")","v":""},null,null,null,null,null,{"$f":"IF($H$10=4,\"\",D4)","v":""},{"$f":"IF($H$10=4,\"\",D6)","v":""}]
[null,{"$f":"IF(H10=4,D5,\"\")","v":""},{"$f":"IF(H10=4,D6,\"\")","v":""},null,null,null,null,null,{"$f":"IF($H$10=4,\"\",D5)","v":""},{"$f":"IF($H$10=4,\"\",D6)","v":""}]
[]
[]
[null,null,"Match1","Match2","Match3","Match4","PP","PC",null,"Contrats","Match1","Match2","Match3","Match4"]
[null,"A",{"$f":"IF(H10=\"\",\"\",IF(H10=4,IF(D14=\"\",\"\",IF(D14<E14,$L$5,$L$4)),IF(K14=\"\",\"\",IF(K14<L14,$L$5,$L$4))))","v":""},{"$f":"IF(H10=\"\",\"\",IF(H10=4,IF(D16=\"\",\"\",IF(D16<E16,$L$5,$L$4)),IF(K15=\"\",\"\",IF(K15<L15,$L$5,$L$4))))","v":""},{"$f":"IF(H10=\"\",\"\",IF(H10=4,IF(D18=\"\",\"\",IF(D18<E18,$L$5,$L$4)),IF(K17=\"\",\"\",IF(K17<L17,$L$5,$L$4))))","v":""},{"$f":"IF(H10=\"\",\"\",IF(H10=4,\"\",IF(K18=\"\",\"\",IF(K18<L18,$L$5,$L$4))))","v":""},{"$f":"IF(H10=\"\",\"\",IF(H10=4,SUM(D14,D16,D18),SUM(K14,K15,K17,K18)))","v":0},{"$f":"IF(H10=\"\",\"\",IF(H10=4,SUM(E14,E16,E18),SUM(L14,L15,L17,L18)))","v":0},null,"A",{"$f":"IF(C23=\"\",\"\",IF(H10=\"\",\"\",IF(H10=3,M14,F14)))","v":""},{"$f":"IF(D23=\"\",\"\",IF(H10=\"\",\"\",IF(H10=3,M15,F16)))","v":""},{"$f":"IF(E23=\"\",\"\",IF(H10=\"\",\"\",IF(H10=3,M17,F18)))","v":""},{"$f":"IF(F23=\"\",\"\",IF(H10=\"\",\"\",IF(H10=3,M18,\"\")))","v":""}]
[null,"B",{"$f":"IF(H10=\"\",\"\",IF(H10=4,IF(E14=\"\",\"\",IF(E14<D14,$L$5,$L$4)),IF(L14=\"\",\"\",IF(L14<K14,$L$5,$L$4))))","v":""},{"$f":"IF(H10=\"\",\"\",IF(H10=4,IF(D17=\"\",\"\",IF(D17<E17,$L$5,$L$4)),IF(K16=\"\",\"\",IF(K16<L16,$L$5,$L$4))))","v":""},{"$f":"IF(H10=\"\",\"\",IF(H10=4,IF(D19=\"\",\"\",IF(D19<E19,$L$5,$L$4)),IF(L17=\"\",\"\",IF(L17<K17,$L$5,$L$4))))","v":""},{"$f":"IF(H10=\"\",\"\",IF(H10=4,\"\",IF(K19=\"\",\"\",IF(K19<L19,$L$5,$L$4))))","v":""},{"$f":"IF(H10=\"\",\"\",IF(H10=4,SUM(E14,D17,D19),SUM(L14,K16,L17,K19)))","v":0},{"$f":"IF(H10=\"\",\"\",IF(H10=4,SUM(D14,D16,D18),SUM(K14,L16,K17,L19)))","v":0},null,"B",{"$f":"IF(C24=\"\",\"\",IF(H10=\"\",\"\",IF(H10=3,N14,G14)))","v":""},{"$f":"IF(D24=\"\",\"\",IF(H10=\"\",\"\",IF(H10=3,M16,F17)))","v":""},{"$f":"IF(E24=\"\",\"\",IF(H10=\"\",\"\",IF(H10=3,N17,F19)))","v":""},{"$f":"IF(F24=\"\",\"\",IF(H10=\"\",\"\",IF(H10=3,M19,\"\")))","v":""}]
[null,"C",{"$f":"IF(H10=\"\",\"\",IF(H10=4,IF(D15=\"\",\"\",IF(D15<E15,$L$5,$L$4)),IF(L15=\"\",\"\",IF(L15<K15,$L$5,$L$4))))","v":""},{"$f":"IF(H10=\"\",\"\",IF(H10=4,IF(E16=\"\",\"\",IF(E16<D16,$L$5,$L$4)),IF(L16=\"\",\"\",IF(L16<K16,$L$5,$L$4))))","v":""},{"$f":"IF(H10=\"\",\"\",IF(H10=4,IF(E19=\"\",\"\",IF(E19<D19,$L$5,$L$4)),IF(L18=\"\",\"\",IF(L18<K18,$L$5,$L$4))))","v":""},{"$f":"IF(H10=\"\",\"\",IF(H10=4,\"\",IF(L19=\"\",\"\",IF(L19<K19,$L$5,$L$4))))","v":""},{"$f":"IF(H10=\"\",\"\",IF(H10=4,SUM(D15,E16,E19),SUM(L15,L16,L18,L19)))","v":0},{"$f":"IF(H10=\"\",\"\",IF(H10=4,SUM(E15,D16,D19),SUM(K15,K16,K18,K19)))","v":0},null,"C",{"$f":"IF(C25=\"\",\"\",IF(H10=\"\",\"\",IF(H10=3,N15,F15)))","v":""},{"$f":"IF(D25=\"\",\"\",IF(H10=\"\",\"\",IF(H10=3,N16,G16)))","v":""},{"$f":"IF(E25=\"\",\"\",IF(H10=\"\",\"\",IF(H10=3,N18,G19)))","v":""},{"$f":"IF(F25=\"\",\"\",IF(H10=\"\",\"\",IF(H10=3,N19,\"\")))","v":""}]
[null,"D",{"$f":"IF(H10=\"\",\"\",IF(H10=3,\"\",IF(E15=\"\",\"\",IF(E15<D15,$L$5,$L$4))))","v":""},{"$f":"IF(H10=\"\",\"\",IF(H10=3,\"\",IF(E17=\"\",\"\",IF(E17<D17,$L$5,$L$4))))","v":""},{"$f":"IF(H10=\"\",\"\",IF(H10=3,\"\",IF(E18=\"\",\"\",IF(E18<D18,$L$5,$L$4))))","v":""},{"$f":"IF(H10=\"\",\"\",IF(H10=4,\"\",IF(K19=\"\",\"\",\"\")))","v":""},{"$f":"IF(H10=\"\",\"\",IF(H10=4,SUM(E15,E17,E18),\"\"))","v":""},{"$f":"IF(H10=\"\",\"\",IF(H10=4,SUM(D15,D17,D18),\"\"))","v":""},null,"D",{"$f":"IF(C26=\"\",\"\",IF(H10=\"\",\"\",IF(H10=3,\"\",G15)))","v":""},{"$f":"IF(D26=\"\",\"\",IF(H10=\"\",\"\",IF(H10=3,\"\",G17)))","v":""},{"$f":"IF(E26=\"\",\"\",IF(H10=\"\",\"\",IF(H10=3,\"\",G18)))","v":""},{"$f":"IF(F26=\"\",\"\",IF(H10=\"\",\"\",IF(H10=3,\"\",\"\")))","v":""}]
[]
[]
[null,null,null,null,null,null,"Points",null,"Différence de Points",null,null,null,"Place",null,"Classement"]
[null,null,null,null,null,null,null,null,null,null,null,null,"Pts","Diff."]
[null,null,{"$f":"D4","v":""},null,null,{"$f":"D4","v":""},{"$f":"IF(C23=\"\",\"\",IF(F31=\"\",\"\",SUM(C23,D23,E23,F23)))","v":""},null,null,{"$f":"IF(C23=\"\",\"\",IF(F31=\"\",\"\",G23-H23))","v":""},null,null,{"$f":"IF(G31=\"\",\"\",IF(H10=3,RANK(G31,$G$31:$G$33),RANK(G31,$G$31:$G$34)))","v":""},{"$f":"IF(J31=\"\",\"\",IF(H10=3,RANK(J31,$J$31:$J$33)/10,RANK(J31,$J$31:$J$34)/10))","v":""},{"$f":"IF(G31=\"\",\"\",IF(H10=3,RANK(Q31,$Q$31:$GQ$33,1),RANK(Q31,$Q$31:$Q$34,1)))","v":""},null,{"$f":"M31+N31","v":{"$error":"#VALUE!"}}]
[null,null,{"$f":"D5","v":""},null,null,{"$f":"D5","v":""},{"$f":"IF(C24=\"\",\"\",IF(F32=\"\",\"\",SUM(C24,D24,E24,F24)))","v":""},null,null,{"$f":"IF(C24=\"\",\"\",IF(F32=\"\",\"\",G24-H24))","v":""},null,null,{"$f":"IF(G32=\"\",\"\",IF(H11=3,RANK(G32,$G$31:$G$33),RANK(G32,$G$31:$G$34)))","v":""},{"$f":"IF(J32=\"\",\"\",IF(H11=3,RANK(J32,$J$31:$J$33)/10,RANK(J32,$J$31:$J$34)/10))","v":""},{"$f":"IF(G32=\"\",\"\",IF(H10=3,RANK(Q32,$Q$31:$GQ$33,1),RANK(Q32,$Q$31:$Q$34,1)))","v":""},null,{"$f":"M32+N32","v":{"$error":"#VALUE!"}}]
[null,null,{"$f":"D6","v":""},null,null,{"$f":"D6","v":""},{"$f":"IF(C25=\"\",\"\",IF(F33=\"\",\"\",SUM(C25,D25,E25,F25)))","v":""},null,null,{"$f":"IF(C25=\"\",\"\",IF(F33=\"\",\"\",G25-H25))","v":""},null,null,{"$f":"IF(G33=\"\",\"\",IF(H12=3,RANK(G33,$G$31:$G$33),RANK(G33,$G$31:$G$34)))","v":""},{"$f":"IF(J33=\"\",\"\",IF(H12=3,RANK(J33,$J$31:$J$33)/10,RANK(J33,$J$31:$J$34)/10))","v":""},{"$f":"IF(G33=\"\",\"\",IF(H10=3,RANK(Q33,$Q$31:$GQ$33,1),RANK(Q33,$Q$31:$Q$34,1)))","v":""},null,{"$f":"M33+N33","v":{"$error":"#VALUE!"}}]
[null,null,{"$f":"IF(H10=3,\"\",D7)","v":""},null,null,{"$f":"IF(H10=3,\"\",D7)","v":""},{"$f":"IF(C26=\"\",\"\",IF(F34=\"\",\"\",SUM(C26,D26,E26,F26)))","v":""},null,null,{"$f":"IF(C26=\"\",\"\",IF(F34=\"\",\"\",G26-H26))","v":""},null,null,{"$f":"IF(G34=\"\",\"\",IF(H13=3,RANK(G34,$G$31:$G$33),RANK(G34,$G$31:$G$34)))","v":""},{"$f":"IF(J34=\"\",\"\",IF(H13=3,RANK(J34,$J$31:$J$33)/10,RANK(J34,$J$31:$J$34)/10))","v":""},{"$f":"IF(G34=\"\",\"\",IF(H10=3,RANK(Q34,$Q$31:$GQ$33,1),RANK(Q34,$Q$31:$Q$34,1)))","v":""},null,{"$f":"M34+N34","v":{"$error":"#VALUE!"}}]

{"sheet":"T3","index":8,"n_rows":34,"n_cols":17,"rows_kept":34,"cut":false,"hidden":false,"merged":[[28,14,29,14],[28,12,28,13],[30,6,30,7],[28,8,29,11],[12,8,12,9],[33,6,33,7],[28,6,29,7],[31,6,31,7],[32,6,32,7],[30,2,30,4],[31,2,31,4],[32,2,32,4],[33,2,33,4],[0,1,0,2],[11,1,11,6],[2,2,2,4],[12,1,12,2],[11,8,11,13],[12,3,12,4],[12,5,12,6],[12,10,12,11],[12,12,12,13],[3,3,3,7],[4,3,4,7],[5,3,5,7],[6,3,6,7]]}
[null,"TERRAIN/TABLE",null,3]
[]
[null,null,"Joueurs/Equipes"]
[31,null,"A",{"$f":"IF(Tournoi!M5=\"zzz\",\"\",Tournoi!M5)","v":""},null,null,null,null,null,null,"Victoire",3,"Pts"]
[32,null,"B",{"$f":"IF(Tournoi!M6=\"zzz\",\"\",Tournoi!M6)","v":""},null,null,null,null,null,null,"Défaite",1,"Pt"]
[33,null,"C",{"$f":"IF(Tournoi!M7=\"zzz\",\"\",Tournoi!M7)","v":""}]
[34,null,"D",{"$f":"IF(Tournoi!M8=\"zzz\",\"\",Tournoi!M8)","v":""}]
[]
[]
[null,null,null,null,"Poule de",null,null,{"$f":"Tournoi!K22","v":0},"Joueurs/Equipes"]
[]
[null,{"$f":"IF($H$10=4,\"Poule de 4\",\"\")","v":""},null,null,null,null,null,null,{"$f":"IF($H$10=3,\"Poule de 3\",\"\")","v":""}]
[null,{"$f":"IF($H$10=4,\"Rencontres\",\"\")","v":""},null,{"$f":"IF($H$10=4,\"Scores\",\"\")","v":""},null,{"$f":"IF($H$10=4,\"Contrats\",\"\")","v":""},null,null,{"$f":"IF($H$10=3,\"Rencontres\",\"\")","v":""},null,{"$f":"IF($H$10=3,\"Scores\",\"\")","v":""},null,{"$f":"IF($H$10=3,\"Contrats\",\"\")","v":""}]
[null,{"$f":"IF(H10=4,D4,\"\")","v":""},{"$f":"IF(H10=4,D5,\"\")","v":""},null,null,null,null,null,{"$f":"IF($H$10=4,\"\",D4)","v":""},{"$f":"IF($H$10=4,\"\",D5)","v":""}]
[null,{"$f":"IF(H10=4,D6,\"\")","v":""},{"$f":"IF(H10=4,D7,\"\")","v":""},null,null,null,null,null,{"$f":"IF($H$10=4,\"\",D4)","v":""},{"$f":"IF($H$10=4,\"\",D6)","v":""}]
[null,{"$f":"IF(H10=4,D4,\"\")","v":""},{"$f":"IF(H10=4,D6,\"\")","v":""},null,null,null,null,null,{"$f":"IF($H$10=4,\"\",D5)","v":""},{"$f":"IF($H$10=4,\"\",D6)","v":""}]
[null,{"$f":"IF(H10=4,D5,\"\")","v":""},{"$f":"IF(H10=4,D7,\"\")","v":""},null,null,null,null,null,{"$f":"IF($H$10=4,\"\",D4)","v":""},{"$f":"IF($H$10=4,\"\",D5)","v":""}]
[null,{"$f":"IF(H10=4,D4,\"\")","v":""},{"$f":"IF(H10=4,D7,\"\")","v":""},null,null,null,null,null,{"$f":"IF($H$10=4,\"\",D4)","v":""},{"$f":"IF($H$10=4,\"\",D6)","v":""}]
[null,{"$f":"IF(H10=4,D5,\"\")","v":""},{"$f":"IF(H10=4,D6,\"\")","v":""},null,null,null,null,null,{"$f":"IF($H$10=4,\"\",D5)","v":""},{"$f":"IF($H$10=4,\"\",D6)","v":""}]
[]
[]
[null,null,"Match1","Match2","Match3","Match4","PP","PC",null,"Contrats","Match1","Match2","Match3","Match4"]
[null,"A",{"$f":"IF(H10=\"\",\"\",IF(H10=4,IF(D14=\"\",\"\",IF(D14<E14,$L$5,$L$4)),IF(K14=\"\",\"\",IF(K14<L14,$L$5,$L$4))))","v":""},{"$f":"IF(H10=\"\",\"\",IF(H10=4,IF(D16=\"\",\"\",IF(D16<E16,$L$5,$L$4)),IF(K15=\"\",\"\",IF(K15<L15,$L$5,$L$4))))","v":""},{"$f":"IF(H10=\"\",\"\",IF(H10=4,IF(D18=\"\",\"\",IF(D18<E18,$L$5,$L$4)),IF(K17=\"\",\"\",IF(K17<L17,$L$5,$L$4))))","v":""},{"$f":"IF(H10=\"\",\"\",IF(H10=4,\"\",IF(K18=\"\",\"\",IF(K18<L18,$L$5,$L$4))))","v":""},{"$f":"IF(H10=\"\",\"\",IF(H10=4,SUM(D14,D16,D18),SUM(K14,K15,K17,K18)))","v":0},{"$f":"IF(H10=\"\",\"\",IF(H10=4,SUM(E14,E16,E18),SUM(L14,L15,L17,L18)))","v":0},null,"A",{"$f":"IF(C23=\"\",\"\",IF(H10=\"\",\"\",IF(H10=3,M14,F14)))","v":""},{"$f":"IF(D23=\"\",\"\",IF(H10=\"\",\"\",IF(H10=3,M15,F16)))","v":""},{"$f":"IF(E23=\"\",\"\",IF(H10=\"\",\"\",IF(H10=3,M17,F18)))","v":""},{"$f":"IF(F23=\"\",\"\",IF(H10=\"\",\"\",IF(H10=3,M18,\"\")))","v":""}]
[null,"B",{"$f":"IF(H10=\"\",\"\",IF(H10=4,IF(E14=\"\",\"\",IF(E14<D14,$L$5,$L$4)),IF(L14=\"\",\"\",IF(L14<K14,$L$5,$L$4))))","v":""},{"$f":"IF(H10=\"\",\"\",IF(H10=4,IF(D17=\"\",\"\",IF(D17<E17,$L$5,$L$4)),IF(K16=\"\",\"\",IF(K16<L16,$L$5,$L$4))))","v":""},{"$f":"IF(H10=\"\",\"\",IF(H10=4,IF(D19=\"\",\"\",IF(D19<E19,$L$5,$L$4)),IF(L17=\"\",\"\",IF(L17<K17,$L$5,$L$4))))","v":""},{"$f":"IF(H10=\"\",\"\",IF(H10=4,\"\",IF(K19=\"\",\"\",IF(K19<L19,$L$5,$L$4))))","v":""},{"$f":"IF(H10=\"\",\"\",IF(H10=4,SUM(E14,D17,D19),SUM(L14,K16,L17,K19)))","v":0},{"$f":"IF(H10=\"\",\"\",IF(H10=4,SUM(D14,D16,D18),SUM(K14,L16,K17,L19)))","v":0},null,"B",{"$f":"IF(C24=\"\",\"\",IF(H10=\"\",\"\",IF(H10=3,N14,G14)))","v":""},{"$f":"IF(D24=\"\",\"\",IF(H10=\"\",\"\",IF(H10=3,M16,F17)))","v":""},{"$f":"IF(E24=\"\",\"\",IF(H10=\"\",\"\",IF(H10=3,N17,F19)))","v":""},{"$f":"IF(F24=\"\",\"\",IF(H10=\"\",\"\",IF(H10=3,M19,\"\")))","v":""}]
[null,"C",{"$f":"IF(H10=\"\",\"\",IF(H10=4,IF(D15=\"\",\"\",IF(D15<E15,$L$5,$L$4)),IF(L15=\"\",\"\",IF(L15<K15,$L$5,$L$4))))","v":""},{"$f":"IF(H10=\"\",\"\",IF(H10=4,IF(E16=\"\",\"\",IF(E16<D16,$L$5,$L$4)),IF(L16=\"\",\"\",IF(L16<K16,$L$5,$L$4))))","v":""},{"$f":"IF(H10=\"\",\"\",IF(H10=4,IF(E19=\"\",\"\",IF(E19<D19,$L$5,$L$4)),IF(L18=\"\",\"\",IF(L18<K18,$L$5,$L$4))))","v":""},{"$f":"IF(H10=\"\",\"\",IF(H10=4,\"\",IF(L19=\"\",\"\",IF(L19<K19,$L$5,$L$4))))","v":""},{"$f":"IF(H10=\"\",\"\",IF(H10=4,SUM(D15,E16,E19),SUM(L15,L16,L18,L19)))","v":0},{"$f":"IF(H10=\"\",\"\",IF(H10=4,SUM(E15,D16,D19),SUM(K15,K16,K18,K19)))","v":0},null,"C",{"$f":"IF(C25=\"\",\"\",IF(H10=\"\",\"\",IF(H10=3,N15,F15)))","v":""},{"$f":"IF(D25=\"\",\"\",IF(H10=\"\",\"\",IF(H10=3,N16,G16)))","v":""},{"$f":"IF(E25=\"\",\"\",IF(H10=\"\",\"\",IF(H10=3,N18,G19)))","v":""},{"$f":"IF(F25=\"\",\"\",IF(H10=\"\",\"\",IF(H10=3,N19,\"\")))","v":""}]
[null,"D",{"$f":"IF(H10=\"\",\"\",IF(H10=3,\"\",IF(E15=\"\",\"\",IF(E15<D15,$L$5,$L$4))))","v":""},{"$f":"IF(H10=\"\",\"\",IF(H10=3,\"\",IF(E17=\"\",\"\",IF(E17<D17,$L$5,$L$4))))","v":""},{"$f":"IF(H10=\"\",\"\",IF(H10=3,\"\",IF(E18=\"\",\"\",IF(E18<D18,$L$5,$L$4))))","v":""},{"$f":"IF(H10=\"\",\"\",IF(H10=4,\"\",IF(K19=\"\",\"\",\"\")))","v":""},{"$f":"IF(H10=\"\",\"\",IF(H10=4,SUM(E15,E17,E18),\"\"))","v":""},{"$f":"IF(H10=\"\",\"\",IF(H10=4,SUM(D15,D17,D18),\"\"))","v":""},null,"D",{"$f":"IF(C26=\"\",\"\",IF(H10=\"\",\"\",IF(H10=3,\"\",G15)))","v":""},{"$f":"IF(D26=\"\",\"\",IF(H10=\"\",\"\",IF(H10=3,\"\",G17)))","v":""},{"$f":"IF(E26=\"\",\"\",IF(H10=\"\",\"\",IF(H10=3,\"\",G18)))","v":""},{"$f":"IF(F26=\"\",\"\",IF(H10=\"\",\"\",IF(H10=3,\"\",\"\")))","v":""}]
[]
[]
[null,null,null,null,null,null,"Points",null,"Différence de Points",null,null,null,"Place",null,"Classement"]
[null,null,null,null,null,null,null,null,null,null,null,null,"Pts","Diff."]
[null,null,{"$f":"D4","v":""},null,null,{"$f":"D4","v":""},{"$f":"IF(C23=\"\",\"\",IF(F31=\"\",\"\",SUM(C23,D23,E23,F23)))","v":""},null,null,{"$f":"IF(C23=\"\",\"\",IF(F31=\"\",\"\",G23-H23))","v":""},null,null,{"$f":"IF(G31=\"\",\"\",IF(H10=3,RANK(G31,$G$31:$G$33),RANK(G31,$G$31:$G$34)))","v":""},{"$f":"IF(J31=\"\",\"\",IF(H10=3,RANK(J31,$J$31:$J$33)/10,RANK(J31,$J$31:$J$34)/10))","v":""},{"$f":"IF(G31=\"\",\"\",IF(H10=3,RANK(Q31,$Q$31:$GQ$33,1),RANK(Q31,$Q$31:$Q$34,1)))","v":""},null,{"$f":"M31+N31","v":{"$error":"#VALUE!"}}]
[null,null,{"$f":"D5","v":""},null,null,{"$f":"D5","v":""},{"$f":"IF(C24=\"\",\"\",IF(F32=\"\",\"\",SUM(C24,D24,E24,F24)))","v":""},null,null,{"$f":"IF(C24=\"\",\"\",IF(F32=\"\",\"\",G24-H24))","v":""},null,null,{"$f":"IF(G32=\"\",\"\",IF(H11=3,RANK(G32,$G$31:$G$33),RANK(G32,$G$31:$G$34)))","v":""},{"$f":"IF(J32=\"\",\"\",IF(H11=3,RANK(J32,$J$31:$J$33)/10,RANK(J32,$J$31:$J$34)/10))","v":""},{"$f":"IF(G32=\"\",\"\",IF(H10=3,RANK(Q32,$Q$31:$GQ$33,1),RANK(Q32,$Q$31:$Q$34,1)))","v":""},null,{"$f":"M32+N32","v":{"$error":"#VALUE!"}}]
[null,null,{"$f":"D6","v":""},null,null,{"$f":"D6","v":""},{"$f":"IF(C25=\"\",\"\",IF(F33=\"\",\"\",SUM(C25,D25,E25,F25)))","v":""},null,null,{"$f":"IF(C25=\"\",\"\",IF(F33=\"\",\"\",G25-H25))","v":""},null,null,{"$f":"IF(G33=\"\",\"\",IF(H12=3,RANK(G33,$G$31:$G$33),RANK(G33,$G$31:$G$34)))","v":""},{"$f":"IF(J33=\"\",\"\",IF(H12=3,RANK(J33,$J$31:$J$33)/10,RANK(J33,$J$31:$J$34)/10))","v":""},{"$f":"IF(G33=\"\",\"\",IF(H10=3,RANK(Q33,$Q$31:$GQ$33,1),RANK(Q33,$Q$31:$Q$34,1)))","v":""},null,{"$f":"M33+N33","v":{"$error":"#VALUE!"}}]
[null,null,{"$f":"IF(H10=3,\"\",D7)","v":""},null,null,{"$f":"IF(H10=3,\"\",D7)","v":""},{"$f":"IF(C26=\"\",\"\",IF(F34=\"\",\"\",SUM(C26,D26,E26,F26)))","v":""},null,null,{"$f":"IF(C26=\"\",\"\",IF(F34=\"\",\"\",G26-H26))","v":""},null,null,{"$f":"IF(G34=\"\",\"\",IF(H13=3,RANK(G34,$G$31:$G$33),RANK(G34,$G$31:$G$34)))","v":""},{"$f":"IF(J34=\"\",\"\",IF(H13=3,RANK(J34,$J$31:$J$33)/10,RANK(J34,$J$31:$J$34)/10))","v":""},{"$f":"IF(G34=\"\",\"\",IF(H10=3,RANK(Q34,$Q$31:$GQ$33,1),RANK(Q34,$Q$31:$Q$34,1)))","v":""},null,{"$f":"M34+N34","v":{"$error":"#VALUE!"}}]

{"sheet":"T4","index":9,"n_rows":34,"n_cols":17,"rows_kept":34,"cut":false,"hidden":false,"merged":[[0,1,0,2],[11,1,11,6],[2,2,2,4],[30,6,30,7],[3,3,3,7],[4,3,4,7],[5,3,5,7],[6,3,6,7],[28,4,29,5],[30,2,30,4],[28,14,29,14],[33,6,33,7],[28,6,29,7],[32,6,32,7],[28,12,28,13],[28,8,29,11],[31,6,31,7],[33,2,33,4],[12,8,12,9],[11,8,11,13],[12,3,12,4],[12,5,12,6],[12,10,12,11],[12,12,12,13],[12,1,12,2],[31,2,31,4],[32,2,32,4]]}
[null,"TERRAIN/TABLE",null,4]
[]
[null,null,"Joueurs/Equipes"]
[41,null,"A",{"$f":"IF(Tournoi!N5=\"zzz\",\"\",Tournoi!N5)","v":""},null,null,null,null,null,null,"Victoire",3,"Pts"]
[42,null,"B",{"$f":"IF(Tournoi!N6=\"zzz\",\"\",Tournoi!N6)","v":""},null,null,null,null,null,null,"Défaite",1,"Pt"]
[43,null,"C",{"$f":"IF(Tournoi!N7=\"zzz\",\"\",Tournoi!N7)","v":""}]
[44,null,"D",{"$f":"IF(Tournoi!N8=\"zzz\",\"\",Tournoi!N8)","v":""}]
[]
[]
[null,null,null,null,"Poule de",null,null,{"$f":"Tournoi!K23","v":0},"Joueurs/Equipes"]
[]
[null,{"$f":"IF($H$10=4,\"Poule de 4\",\"\")","v":""},null,null,null,null,null,null,{"$f":"IF($H$10=3,\"Poule de 3\",\"\")","v":""}]
[null,{"$f":"IF($H$10=4,\"Rencontres\",\"\")","v":""},null,{"$f":"IF($H$10=4,\"Scores\",\"\")","v":""},null,{"$f":"IF($H$10=4,\"Contrats\",\"\")","v":""},null,null,{"$f":"IF($H$10=3,\"Rencontres\",\"\")","v":""},null,{"$f":"IF($H$10=3,\"Scores\",\"\")","v":""},null,{"$f":"IF($H$10=3,\"Contrats\",\"\")","v":""}]
[null,{"$f":"IF(H10=4,D4,\"\")","v":""},{"$f":"IF(H10=4,D5,\"\")","v":""},null,null,null,null,null,{"$f":"IF($H$10=4,\"\",D4)","v":""},{"$f":"IF($H$10=4,\"\",D5)","v":""}]
[null,{"$f":"IF(H10=4,D6,\"\")","v":""},{"$f":"IF(H10=4,D7,\"\")","v":""},null,null,null,null,null,{"$f":"IF($H$10=4,\"\",D4)","v":""},{"$f":"IF($H$10=4,\"\",D6)","v":""}]
[null,{"$f":"IF(H10=4,D4,\"\")","v":""},{"$f":"IF(H10=4,D6,\"\")","v":""},null,null,null,null,null,{"$f":"IF($H$10=4,\"\",D5)","v":""},{"$f":"IF($H$10=4,\"\",D6)","v":""}]
[null,{"$f":"IF(H10=4,D5,\"\")","v":""},{"$f":"IF(H10=4,D7,\"\")","v":""},null,null,null,null,null,{"$f":"IF($H$10=4,\"\",D4)","v":""},{"$f":"IF($H$10=4,\"\",D5)","v":""}]
[null,{"$f":"IF(H10=4,D4,\"\")","v":""},{"$f":"IF(H10=4,D7,\"\")","v":""},null,null,null,null,null,{"$f":"IF($H$10=4,\"\",D4)","v":""},{"$f":"IF($H$10=4,\"\",D6)","v":""}]
[null,{"$f":"IF(H10=4,D5,\"\")","v":""},{"$f":"IF(H10=4,D6,\"\")","v":""},null,null,null,null,null,{"$f":"IF($H$10=4,\"\",D5)","v":""},{"$f":"IF($H$10=4,\"\",D6)","v":""}]
[]
[]
[null,null,"Match1","Match2","Match3","Match4","PP","PC",null,"Contrats","Match1","Match2","Match3","Match4"]
[null,"A",{"$f":"IF(H10=\"\",\"\",IF(H10=4,IF(D14=\"\",\"\",IF(D14<E14,$L$5,$L$4)),IF(K14=\"\",\"\",IF(K14<L14,$L$5,$L$4))))","v":""},{"$f":"IF(H10=\"\",\"\",IF(H10=4,IF(D16=\"\",\"\",IF(D16<E16,$L$5,$L$4)),IF(K15=\"\",\"\",IF(K15<L15,$L$5,$L$4))))","v":""},{"$f":"IF(H10=\"\",\"\",IF(H10=4,IF(D18=\"\",\"\",IF(D18<E18,$L$5,$L$4)),IF(K17=\"\",\"\",IF(K17<L17,$L$5,$L$4))))","v":""},{"$f":"IF(H10=\"\",\"\",IF(H10=4,\"\",IF(K18=\"\",\"\",IF(K18<L18,$L$5,$L$4))))","v":""},{"$f":"IF(H10=\"\",\"\",IF(H10=4,SUM(D14,D16,D18),SUM(K14,K15,K17,K18)))","v":0},{"$f":"IF(H10=\"\",\"\",IF(H10=4,SUM(E14,E16,E18),SUM(L14,L15,L17,L18)))","v":0},null,"A",{"$f":"IF(C23=\"\",\"\",IF(H10=\"\",\"\",IF(H10=3,M14,F14)))","v":""},{"$f":"IF(D23=\"\",\"\",IF(H10=\"\",\"\",IF(H10=3,M15,F16)))","v":""},{"$f":"IF(E23=\"\",\"\",IF(H10=\"\",\"\",IF(H10=3,M17,F18)))","v":""},{"$f":"IF(F23=\"\",\"\",IF(H10=\"\",\"\",IF(H10=3,M18,\"\")))","v":""}]
[null,"B",{"$f":"IF(H10=\"\",\"\",IF(H10=4,IF(E14=\"\",\"\",IF(E14<D14,$L$5,$L$4)),IF(L14=\"\",\"\",IF(L14<K14,$L$5,$L$4))))","v":""},{"$f":"IF(H10=\"\",\"\",IF(H10=4,IF(D17=\"\",\"\",IF(D17<E17,$L$5,$L$4)),IF(K16=\"\",\"\",IF(K16<L16,$L$5,$L$4))))","v":""},{"$f":"IF(H10=\"\",\"\",IF(H10=4,IF(D19=\"\",\"\",IF(D19<E19,$L$5,$L$4)),IF(L17=\"\",\"\",IF(L17<K17,$L$5,$L$4))))","v":""},{"$f":"IF(H10=\"\",\"\",IF(H10=4,\"\",IF(K19=\"\",\"\",IF(K19<L19,$L$5,$L$4))))","v":""},{"$f":"IF(H10=\"\",\"\",IF(H10=4,SUM(E14,D17,D19),SUM(L14,K16,L17,K19)))","v":0},{"$f":"IF(H10=\"\",\"\",IF(H10=4,SUM(D14,D16,D18),SUM(K14,L16,K17,L19)))","v":0},null,"B",{"$f":"IF(C24=\"\",\"\",IF(H10=\"\",\"\",IF(H10=3,N14,G14)))","v":""},{"$f":"IF(D24=\"\",\"\",IF(H10=\"\",\"\",IF(H10=3,M16,F17)))","v":""},{"$f":"IF(E24=\"\",\"\",IF(H10=\"\",\"\",IF(H10=3,N17,F19)))","v":""},{"$f":"IF(F24=\"\",\"\",IF(H10=\"\",\"\",IF(H10=3,M19,\"\")))","v":""}]
[null,"C",{"$f":"IF(H10=\"\",\"\",IF(H10=4,IF(D15=\"\",\"\",IF(D15<E15,$L$5,$L$4)),IF(L15=\"\",\"\",IF(L15<K15,$L$5,$L$4))))","v":""},{"$f":"IF(H10=\"\",\"\",IF(H10=4,IF(E16=\"\",\"\",IF(E16<D16,$L$5,$L$4)),IF(L16=\"\",\"\",IF(L16<K16,$L$5,$L$4))))","v":""},{"$f":"IF(H10=\"\",\"\",IF(H10=4,IF(E19=\"\",\"\",IF(E19<D19,$L$5,$L$4)),IF(L18=\"\",\"\",IF(L18<K18,$L$5,$L$4))))","v":""},{"$f":"IF(H10=\"\",\"\",IF(H10=4,\"\",IF(L19=\"\",\"\",IF(L19<K19,$L$5,$L$4))))","v":""},{"$f":"IF(H10=\"\",\"\",IF(H10=4,SUM(D15,E16,E19),SUM(L15,L16,L18,L19)))","v":0},{"$f":"IF(H10=\"\",\"\",IF(H10=4,SUM(E15,D16,D19),SUM(K15,K16,K18,K19)))","v":0},null,"C",{"$f":"IF(C25=\"\",\"\",IF(H10=\"\",\"\",IF(H10=3,N15,F15)))","v":""},{"$f":"IF(D25=\"\",\"\",IF(H10=\"\",\"\",IF(H10=3,N16,G16)))","v":""},{"$f":"IF(E25=\"\",\"\",IF(H10=\"\",\"\",IF(H10=3,N18,G19)))","v":""},{"$f":"IF(F25=\"\",\"\",IF(H10=\"\",\"\",IF(H10=3,N19,\"\")))","v":""}]
[null,"D",{"$f":"IF(H10=\"\",\"\",IF(H10=3,\"\",IF(E15=\"\",\"\",IF(E15<D15,$L$5,$L$4))))","v":""},{"$f":"IF(H10=\"\",\"\",IF(H10=3,\"\",IF(E17=\"\",\"\",IF(E17<D17,$L$5,$L$4))))","v":""},{"$f":"IF(H10=\"\",\"\",IF(H10=3,\"\",IF(E18=\"\",\"\",IF(E18<D18,$L$5,$L$4))))","v":""},{"$f":"IF(H10=\"\",\"\",IF(H10=4,\"\",IF(K19=\"\",\"\",\"\")))","v":""},{"$f":"IF(H10=\"\",\"\",IF(H10=4,SUM(E15,E17,E18),\"\"))","v":""},{"$f":"IF(H10=\"\",\"\",IF(H10=4,SUM(D15,D17,D18),\"\"))","v":""},null,"D",{"$f":"IF(C26=\"\",\"\",IF(H10=\"\",\"\",IF(H10=3,\"\",G15)))","v":""},{"$f":"IF(D26=\"\",\"\",IF(H10=\"\",\"\",IF(H10=3,\"\",G17)))","v":""},{"$f":"IF(E26=\"\",\"\",IF(H10=\"\",\"\",IF(H10=3,\"\",G18)))","v":""},{"$f":"IF(F26=\"\",\"\",IF(H10=\"\",\"\",IF(H10=3,\"\",\"\")))","v":""}]
[]
[]
[null,null,null,null,null,null,"Points",null,"Différence de Points",null,null,null,"Place",null,"Classement"]
[null,null,null,null,null,null,null,null,null,null,null,null,"Pts","Diff."]
[null,null,{"$f":"D4","v":""},null,null,{"$f":"D4","v":""},{"$f":"IF(C23=\"\",\"\",IF(F31=\"\",\"\",SUM(C23,D23,E23,F23)))","v":""},null,null,{"$f":"IF(C23=\"\",\"\",IF(F31=\"\",\"\",G23-H23))","v":""},null,null,{"$f":"IF(G31=\"\",\"\",IF(H10=3,RANK(G31,$G$31:$G$33),RANK(G31,$G$31:$G$34)))","v":""},{"$f":"IF(J31=\"\",\"\",IF(H10=3,RANK(J31,$J$31:$J$33)/10,RANK(J31,$J$31:$J$34)/10))","v":""},{"$f":"IF(G31=\"\",\"\",IF(H10=3,RANK(Q31,$Q$31:$GQ$33,1),RANK(Q31,$Q$31:$Q$34,1)))","v":""},null,{"$f":"M31+N31","v":{"$error":"#VALUE!"}}]
[null,null,{"$f":"D5","v":""},null,null,{"$f":"D5","v":""},{"$f":"IF(C24=\"\",\"\",IF(F32=\"\",\"\",SUM(C24,D24,E24,F24)))","v":""},null,null,{"$f":"IF(C24=\"\",\"\",IF(F32=\"\",\"\",G24-H24))","v":""},null,null,{"$f":"IF(G32=\"\",\"\",IF(H11=3,RANK(G32,$G$31:$G$33),RANK(G32,$G$31:$G$34)))","v":""},{"$f":"IF(J32=\"\",\"\",IF(H11=3,RANK(J32,$J$31:$J$33)/10,RANK(J32,$J$31:$J$34)/10))","v":""},{"$f":"IF(G32=\"\",\"\",IF(H10=3,RANK(Q32,$Q$31:$GQ$33,1),RANK(Q32,$Q$31:$Q$34,1)))","v":""},null,{"$f":"M32+N32","v":{"$error":"#VALUE!"}}]
[null,null,{"$f":"D6","v":""},null,null,{"$f":"D6","v":""},{"$f":"IF(C25=\"\",\"\",IF(F33=\"\",\"\",SUM(C25,D25,E25,F25)))","v":""},null,null,{"$f":"IF(C25=\"\",\"\",IF(F33=\"\",\"\",G25-H25))","v":""},null,null,{"$f":"IF(G33=\"\",\"\",IF(H12=3,RANK(G33,$G$31:$G$33),RANK(G33,$G$31:$G$34)))","v":""},{"$f":"IF(J33=\"\",\"\",IF(H12=3,RANK(J33,$J$31:$J$33)/10,RANK(J33,$J$31:$J$34)/10))","v":""},{"$f":"IF(G33=\"\",\"\",IF(H10=3,RANK(Q33,$Q$31:$GQ$33,1),RANK(Q33,$Q$31:$Q$34,1)))","v":""},null,{"$f":"M33+N33","v":{"$error":"#VALUE!"}}]
[null,null,{"$f":"IF(H10=3,\"\",D7)","v":""},null,null,{"$f":"IF(H10=3,\"\",D7)","v":""},{"$f":"IF(C26=\"\",\"\",IF(F34=\"\",\"\",SUM(C26,D26,E26,F26)))","v":""},null,null,{"$f":"IF(C26=\"\",\"\",IF(F34=\"\",\"\",G26-H26))","v":""},null,null,{"$f":"IF(G34=\"\",\"\",IF(H13=3,RANK(G34,$G$31:$G$33),RANK(G34,$G$31:$G$34)))","v":""},{"$f":"IF(J34=\"\",\"\",IF(H13=3,RANK(J34,$J$31:$J$33)/10,RANK(J34,$J$31:$J$34)/10))","v":""},{"$f":"IF(G34=\"\",\"\",IF(H10=3,RANK(Q34,$Q$31:$GQ$33,1),RANK(Q34,$Q$31:$Q$34,1)))","v":""},null,{"$f":"M34+N34","v":{"$error":"#VALUE!"}}]

{"sheet":"T5","index":10,"n_rows":34,"n_cols":17,"rows_kept":34,"cut":false,"hidden":false,"merged":[[30,2,30,4],[31,2,31,4],[32,2,32,4],[33,2,33,4],[0,1,0,2],[11,1,11,6],[12,3,12,4],[12,5,12,6],[12,1,12,2],[33,6,33,7],[28,6,29,7],[32,6,32,7],[30,6,30,7],[31,6,31,7],[12,12,12,13],[28,12,28,13],[28,8,29,11],[2,2,2,4],[11,8,11,13],[12,10,12,11],[12,8,12,9],[3,3,3,7],[4,3,4,7],[5,3,5,7],[6,3,6,7]]}
[null,"TERRAIN/TABLE",null,5]
[]
[null,null,"Joueurs/Equipes"]
[51,null,"A",{"$f":"IF(Tournoi!O5=\"zzz\",\"\",Tournoi!O5)","v":""},null,null,null,null,null,null,"Victoire",3,"Pts"]
[52,null,"B",{"$f":"IF(Tournoi!O6=\"zzz\",\"\",Tournoi!O6)","v":""},null,null,null,null,null,null,"Défaite",1,"Pt"]
[53,null,"C",{"$f":"IF(Tournoi!O7=\"zzz\",\"\",Tournoi!O7)","v":""}]
[54,null,"D",{"$f":"IF(Tournoi!O8=\"zzz\",\"\",Tournoi!O8)","v":""}]
[]
[]
[null,null,null,null,"Poule de",null,null,{"$f":"Tournoi!K24","v":0},"Joueurs/Equipes"]
[]
[null,{"$f":"IF($H$10=4,\"Poule de 4\",\"\")","v":""},null,null,null,null,null,null,{"$f":"IF($H$10=3,\"Poule de 3\",\"\")","v":""}]
[null,{"$f":"IF($H$10=4,\"Rencontres\",\"\")","v":""},null,{"$f":"IF($H$10=4,\"Scores\",\"\")","v":""},null,{"$f":"IF($H$10=4,\"Contrats\",\"\")","v":""},null,null,{"$f":"IF($H$10=3,\"Rencontres\",\"\")","v":""},null,{"$f":"IF($H$10=3,\"Scores\",\"\")","v":""},null,{"$f":"IF($H$10=3,\"Contrats\",\"\")","v":""}]
[null,{"$f":"IF(H10=4,D4,\"\")","v":""},{"$f":"IF(H10=4,D5,\"\")","v":""},null,null,null,null,null,{"$f":"IF($H$10=4,\"\",D4)","v":""},{"$f":"IF($H$10=4,\"\",D5)","v":""}]
[null,{"$f":"IF(H10=4,D6,\"\")","v":""},{"$f":"IF(H10=4,D7,\"\")","v":""},null,null,null,null,null,{"$f":"IF($H$10=4,\"\",D4)","v":""},{"$f":"IF($H$10=4,\"\",D6)","v":""}]
[null,{"$f":"IF(H10=4,D4,\"\")","v":""},{"$f":"IF(H10=4,D6,\"\")","v":""},null,null,null,null,null,{"$f":"IF($H$10=4,\"\",D5)","v":""},{"$f":"IF($H$10=4,\"\",D6)","v":""}]
[null,{"$f":"IF(H10=4,D5,\"\")","v":""},{"$f":"IF(H10=4,D7,\"\")","v":""},null,null,null,null,null,{"$f":"IF($H$10=4,\"\",D4)","v":""},{"$f":"IF($H$10=4,\"\",D5)","v":""}]
[null,{"$f":"IF(H10=4,D4,\"\")","v":""},{"$f":"IF(H10=4,D7,\"\")","v":""},null,null,null,null,null,{"$f":"IF($H$10=4,\"\",D4)","v":""},{"$f":"IF($H$10=4,\"\",D6)","v":""}]
[null,{"$f":"IF(H10=4,D5,\"\")","v":""},{"$f":"IF(H10=4,D6,\"\")","v":""},null,null,null,null,null,{"$f":"IF($H$10=4,\"\",D5)","v":""},{"$f":"IF($H$10=4,\"\",D6)","v":""}]
[]
[]
[null,null,"Match1","Match2","Match3","Match4","PP","PC",null,"Contrats","Match1","Match2","Match3","Match4"]
[null,"A",{"$f":"IF(H10=\"\",\"\",IF(H10=4,IF(D14=\"\",\"\",IF(D14<E14,$L$5,$L$4)),IF(K14=\"\",\"\",IF(K14<L14,$L$5,$L$4))))","v":""},{"$f":"IF(H10=\"\",\"\",IF(H10=4,IF(D16=\"\",\"\",IF(D16<E16,$L$5,$L$4)),IF(K15=\"\",\"\",IF(K15<L15,$L$5,$L$4))))","v":""},{"$f":"IF(H10=\"\",\"\",IF(H10=4,IF(D18=\"\",\"\",IF(D18<E18,$L$5,$L$4)),IF(K17=\"\",\"\",IF(K17<L17,$L$5,$L$4))))","v":""},{"$f":"IF(H10=\"\",\"\",IF(H10=4,\"\",IF(K18=\"\",\"\",IF(K18<L18,$L$5,$L$4))))","v":""},{"$f":"IF(H10=\"\",\"\",IF(H10=4,SUM(D14,D16,D18),SUM(K14,K15,K17,K18)))","v":0},{"$f":"IF(H10=\"\",\"\",IF(H10=4,SUM(E14,E16,E18),SUM(L14,L15,L17,L18)))","v":0},null,"A",{"$f":"IF(C23=\"\",\"\",IF(H10=\"\",\"\",IF(H10=3,M14,F14)))","v":""},{"$f":"IF(D23=\"\",\"\",IF(H10=\"\",\"\",IF(H10=3,M15,F16)))","v":""},{"$f":"IF(E23=\"\",\"\",IF(H10=\"\",\"\",IF(H10=3,M17,F18)))","v":""},{"$f":"IF(F23=\"\",\"\",IF(H10=\"\",\"\",IF(H10=3,M18,\"\")))","v":""}]
[null,"B",{"$f":"IF(H10=\"\",\"\",IF(H10=4,IF(E14=\"\",\"\",IF(E14<D14,$L$5,$L$4)),IF(L14=\"\",\"\",IF(L14<K14,$L$5,$L$4))))","v":""},{"$f":"IF(H10=\"\",\"\",IF(H10=4,IF(D17=\"\",\"\",IF(D17<E17,$L$5,$L$4)),IF(K16=\"\",\"\",IF(K16<L16,$L$5,$L$4))))","v":""},{"$f":"IF(H10=\"\",\"\",IF(H10=4,IF(D19=\"\",\"\",IF(D19<E19,$L$5,$L$4)),IF(L17=\"\",\"\",IF(L17<K17,$L$5,$L$4))))","v":""},{"$f":"IF(H10=\"\",\"\",IF(H10=4,\"\",IF(K19=\"\",\"\",IF(K19<L19,$L$5,$L$4))))","v":""},{"$f":"IF(H10=\"\",\"\",IF(H10=4,SUM(E14,D17,D19),SUM(L14,K16,L17,K19)))","v":0},{"$f":"IF(H10=\"\",\"\",IF(H10=4,SUM(D14,D16,D18),SUM(K14,L16,K17,L19)))","v":0},null,"B",{"$f":"IF(C24=\"\",\"\",IF(H10=\"\",\"\",IF(H10=3,N14,G14)))","v":""},{"$f":"IF(D24=\"\",\"\",IF(H10=\"\",\"\",IF(H10=3,M16,F17)))","v":""},{"$f":"IF(E24=\"\",\"\",IF(H10=\"\",\"\",IF(H10=3,N17,F19)))","v":""},{"$f":"IF(F24=\"\",\"\",IF(H10=\"\",\"\",IF(H10=3,M19,\"\")))","v":""}]
[null,"C",{"$f":"IF(H10=\"\",\"\",IF(H10=4,IF(D15=\"\",\"\",IF(D15<E15,$L$5,$L$4)),IF(L15=\"\",\"\",IF(L15<K15,$L$5,$L$4))))","v":""},{"$f":"IF(H10=\"\",\"\",IF(H10=4,IF(E16=\"\",\"\",IF(E16<D16,$L$5,$L$4)),IF(L16=\"\",\"\",IF(L16<K16,$L$5,$L$4))))","v":""},{"$f":"IF(H10=\"\",\"\",IF(H10=4,IF(E19=\"\",\"\",IF(E19<D19,$L$5,$L$4)),IF(L18=\"\",\"\",IF(L18<K18,$L$5,$L$4))))","v":""},{"$f":"IF(H10=\"\",\"\",IF(H10=4,\"\",IF(L19=\"\",\"\",IF(L19<K19,$L$5,$L$4))))","v":""},{"$f":"IF(H10=\"\",\"\",IF(H10=4,SUM(D15,E16,E19),SUM(L15,L16,L18,L19)))","v":0},{"$f":"IF(H10=\"\",\"\",IF(H10=4,SUM(E15,D16,D19),SUM(K15,K16,K18,K19)))","v":0},null,"C",{"$f":"IF(C25=\"\",\"\",IF(H10=\"\",\"\",IF(H10=3,N15,F15)))","v":""},{"$f":"IF(D25=\"\",\"\",IF(H10=\"\",\"\",IF(H10=3,N16,G16)))","v":""},{"$f":"IF(E25=\"\",\"\",IF(H10=\"\",\"\",IF(H10=3,N18,G19)))","v":""},{"$f":"IF(F25=\"\",\"\",IF(H10=\"\",\"\",IF(H10=3,N19,\"\")))","v":""}]
[null,"D",{"$f":"IF(H10=\"\",\"\",IF(H10=3,\"\",IF(E15=\"\",\"\",IF(E15<D15,$L$5,$L$4))))","v":""},{"$f":"IF(H10=\"\",\"\",IF(H10=3,\"\",IF(E17=\"\",\"\",IF(E17<D17,$L$5,$L$4))))","v":""},{"$f":"IF(H10=\"\",\"\",IF(H10=3,\"\",IF(E18=\"\",\"\",IF(E18<D18,$L$5,$L$4))))","v":""},{"$f":"IF(H10=\"\",\"\",IF(H10=4,\"\",IF(K19=\"\",\"\",\"\")))","v":""},{"$f":"IF(H10=\"\",\"\",IF(H10=4,SUM(E15,E17,E18),\"\"))","v":""},{"$f":"IF(H10=\"\",\"\",IF(H10=4,SUM(D15,D17,D18),\"\"))","v":""},null,"D",{"$f":"IF(C26=\"\",\"\",IF(H10=\"\",\"\",IF(H10=3,\"\",G15)))","v":""},{"$f":"IF(D26=\"\",\"\",IF(H10=\"\",\"\",IF(H10=3,\"\",G17)))","v":""},{"$f":"IF(E26=\"\",\"\",IF(H10=\"\",\"\",IF(H10=3,\"\",G18)))","v":""},{"$f":"IF(F26=\"\",\"\",IF(H10=\"\",\"\",IF(H10=3,\"\",\"\")))","v":""}]
[]
[]
[null,null,null,null,null,null,"Points",null,"Différence de Points",null,null,null,"Place",null,"Classement"]
[null,null,null,null,null,null,null,null,null,null,null,null,"Pts","Diff."]
[null,null,{"$f":"D4","v":""},null,null,{"$f":"D4","v":""},{"$f":"IF(C23=\"\",\"\",IF(F31=\"\",\"\",SUM(C23,D23,E23,F23)))","v":""},null,null,{"$f":"IF(C23=\"\",\"\",IF(F31=\"\",\"\",G23-H23))","v":""},null,null,{"$f":"IF(G31=\"\",\"\",IF(H10=3,RANK(G31,$G$31:$G$33),RANK(G31,$G$31:$G$34)))","v":""},{"$f":"IF(J31=\"\",\"\",IF(H10=3,RANK(J31,$J$31:$J$33)/10,RANK(J31,$J$31:$J$34)/10))","v":""},{"$f":"IF(G31=\"\",\"\",IF(H10=3,RANK(Q31,$Q$31:$GQ$33,1),RANK(Q31,$Q$31:$Q$34,1)))","v":""},null,{"$f":"M31+N31","v":{"$error":"#VALUE!"}}]
[null,null,{"$f":"D5","v":""},null,null,{"$f":"D5","v":""},{"$f":"IF(C24=\"\",\"\",IF(F32=\"\",\"\",SUM(C24,D24,E24,F24)))","v":""},null,null,{"$f":"IF(C24=\"\",\"\",IF(F32=\"\",\"\",G24-H24))","v":""},null,null,{"$f":"IF(G32=\"\",\"\",IF(H11=3,RANK(G32,$G$31:$G$33),RANK(G32,$G$31:$G$34)))","v":""},{"$f":"IF(J32=\"\",\"\",IF(H11=3,RANK(J32,$J$31:$J$33)/10,RANK(J32,$J$31:$J$34)/10))","v":""},{"$f":"IF(G32=\"\",\"\",IF(H10=3,RANK(Q32,$Q$31:$GQ$33,1),RANK(Q32,$Q$31:$Q$34,1)))","v":""},null,{"$f":"M32+N32","v":{"$error":"#VALUE!"}}]
[null,null,{"$f":"D6","v":""},null,null,{"$f":"D6","v":""},{"$f":"IF(C25=\"\",\"\",IF(F33=\"\",\"\",SUM(C25,D25,E25,F25)))","v":""},null,null,{"$f":"IF(C25=\"\",\"\",IF(F33=\"\",\"\",G25-H25))","v":""},null,null,{"$f":"IF(G33=\"\",\"\",IF(H12=3,RANK(G33,$G$31:$G$33),RANK(G33,$G$31:$G$34)))","v":""},{"$f":"IF(J33=\"\",\"\",IF(H12=3,RANK(J33,$J$31:$J$33)/10,RANK(J33,$J$31:$J$34)/10))","v":""},{"$f":"IF(G33=\"\",\"\",IF(H10=3,RANK(Q33,$Q$31:$GQ$33,1),RANK(Q33,$Q$31:$Q$34,1)))","v":""},null,{"$f":"M33+N33","v":{"$error":"#VALUE!"}}]
[null,null,{"$f":"IF(H10=3,\"\",D7)","v":""},null,null,{"$f":"IF(H10=3,\"\",D7)","v":""},{"$f":"IF(C26=\"\",\"\",IF(F34=\"\",\"\",SUM(C26,D26,E26,F26)))","v":""},null,null,{"$f":"IF(C26=\"\",\"\",IF(F34=\"\",\"\",G26-H26))","v":""},null,null,{"$f":"IF(G34=\"\",\"\",IF(H13=3,RANK(G34,$G$31:$G$33),RANK(G34,$G$31:$G$34)))","v":""},{"$f":"IF(J34=\"\",\"\",IF(H13=3,RANK(J34,$J$31:$J$33)/10,RANK(J34,$J$31:$J$34)/10))","v":""},{"$f":"IF(G34=\"\",\"\",IF(H10=3,RANK(Q34,$Q$31:$GQ$33,1),RANK(Q34,$Q$31:$Q$34,1)))","v":""},null,{"$f":"M34+N34","v":{"$error":"#VALUE!"}}]

{"sheet":"T6","index":11,"n_rows":34,"n_cols":17,"rows_kept":34,"cut":false,"hidden":false,"merged":[[28,12,28,13],[30,6,30,7],[12,8,12,9],[12,10,12,11],[28,8,29,11],[33,6,33,7],[28,6,29,7],[32,6,32,7],[31,6,31,7],[31,2,31,4],[32,2,32,4],[33,2,33,4],[30,2,30,4],[0,1,0,2],[11,1,11,6],[11,8,11,13],[12,3,12,4],[12,5,12,6],[2,2,2,4],[12,12,12,13],[3,3,3,7],[4,3,4,7],[5,3,5,7],[6,3,6,7],[12,1,12,2]]}
[null,"TERRAIN/TABLE",null,6]
[]
[null,null,"Joueurs/Equipes"]
[61,null,"A",{"$f":"IF(Tournoi!P5=\"zzz\",\"\",Tournoi!P5)","v":""},null,null,null,null,null,null,"Victoire",3,"Pts"]
[62,null,"B",{"$f":"IF(Tournoi!P6=\"zzz\",\"\",Tournoi!P6)","v":""},null,null,null,null,null,null,"Défaite",1,"Pt"]
[63,null,"C",{"$f":"IF(Tournoi!P7=\"zzz\",\"\",Tournoi!P7)","v":""}]
[64,null,"D",{"$f":"IF(Tournoi!P8=\"zzz\",\"\",Tournoi!P8)","v":""}]
[]
[]
[null,null,null,null,"Poule de",null,null,{"$f":"Tournoi!K25","v":0},"Joueurs/Equipes"]
[]
[null,{"$f":"IF($H$10=4,\"Poule de 4\",\"\")","v":""},null,null,null,null,null,null,{"$f":"IF($H$10=3,\"Poule de 3\",\"\")","v":""}]
[null,{"$f":"IF($H$10=4,\"Rencontres\",\"\")","v":""},null,{"$f":"IF($H$10=4,\"Scores\",\"\")","v":""},null,{"$f":"IF($H$10=4,\"Contrats\",\"\")","v":""},null,null,{"$f":"IF($H$10=3,\"Rencontres\",\"\")","v":""},null,{"$f":"IF($H$10=3,\"Scores\",\"\")","v":""},null,{"$f":"IF($H$10=3,\"Contrats\",\"\")","v":""}]
[null,{"$f":"IF(H10=4,D4,\"\")","v":""},{"$f":"IF(H10=4,D5,\"\")","v":""},null,null,null,null,null,{"$f":"IF($H$10=4,\"\",D4)","v":""},{"$f":"IF($H$10=4,\"\",D5)","v":""}]
[null,{"$f":"IF(H10=4,D6,\"\")","v":""},{"$f":"IF(H10=4,D7,\"\")","v":""},null,null,null,null,null,{"$f":"IF($H$10=4,\"\",D4)","v":""},{"$f":"IF($H$10=4,\"\",D6)","v":""}]
[null,{"$f":"IF(H10=4,D4,\"\")","v":""},{"$f":"IF(H10=4,D6,\"\")","v":""},null,null,null,null,null,{"$f":"IF($H$10=4,\"\",D5)","v":""},{"$f":"IF($H$10=4,\"\",D6)","v":""}]
[null,{"$f":"IF(H10=4,D5,\"\")","v":""},{"$f":"IF(H10=4,D7,\"\")","v":""},null,null,null,null,null,{"$f":"IF($H$10=4,\"\",D4)","v":""},{"$f":"IF($H$10=4,\"\",D5)","v":""}]
[null,{"$f":"IF(H10=4,D4,\"\")","v":""},{"$f":"IF(H10=4,D7,\"\")","v":""},null,null,null,null,null,{"$f":"IF($H$10=4,\"\",D4)","v":""},{"$f":"IF($H$10=4,\"\",D6)","v":""}]
[null,{"$f":"IF(H10=4,D5,\"\")","v":""},{"$f":"IF(H10=4,D6,\"\")","v":""},null,null,null,null,null,{"$f":"IF($H$10=4,\"\",D5)","v":""},{"$f":"IF($H$10=4,\"\",D6)","v":""}]
[]
[]
[null,null,"Match1","Match2","Match3","Match4","PP","PC",null,"Contrats","Match1","Match2","Match3","Match4"]
[null,"A",{"$f":"IF(H10=\"\",\"\",IF(H10=4,IF(D14=\"\",\"\",IF(D14<E14,$L$5,$L$4)),IF(K14=\"\",\"\",IF(K14<L14,$L$5,$L$4))))","v":""},{"$f":"IF(H10=\"\",\"\",IF(H10=4,IF(D16=\"\",\"\",IF(D16<E16,$L$5,$L$4)),IF(K15=\"\",\"\",IF(K15<L15,$L$5,$L$4))))","v":""},{"$f":"IF(H10=\"\",\"\",IF(H10=4,IF(D18=\"\",\"\",IF(D18<E18,$L$5,$L$4)),IF(K17=\"\",\"\",IF(K17<L17,$L$5,$L$4))))","v":""},{"$f":"IF(H10=\"\",\"\",IF(H10=4,\"\",IF(K18=\"\",\"\",IF(K18<L18,$L$5,$L$4))))","v":""},{"$f":"IF(H10=\"\",\"\",IF(H10=4,SUM(D14,D16,D18),SUM(K14,K15,K17,K18)))","v":0},{"$f":"IF(H10=\"\",\"\",IF(H10=4,SUM(E14,E16,E18),SUM(L14,L15,L17,L18)))","v":0},null,"A",{"$f":"IF(C23=\"\",\"\",IF(H10=\"\",\"\",IF(H10=3,M14,F14)))","v":""},{"$f":"IF(D23=\"\",\"\",IF(H10=\"\",\"\",IF(H10=3,M15,F16)))","v":""},{"$f":"IF(E23=\"\",\"\",IF(H10=\"\",\"\",IF(H10=3,M17,F18)))","v":""},{"$f":"IF(F23=\"\",\"\",IF(H10=\"\",\"\",IF(H10=3,M18,\"\")))","v":""}]
[null,"B",{"$f":"IF(H10=\"\",\"\",IF(H10=4,IF(E14=\"\",\"\",IF(E14<D14,$L$5,$L$4)),IF(L14=\"\",\"\",IF(L14<K14,$L$5,$L$4))))","v":""},{"$f":"IF(H10=\"\",\"\",IF(H10=4,IF(D17=\"\",\"\",IF(D17<E17,$L$5,$L$4)),IF(K16=\"\",\"\",IF(K16<L16,$L$5,$L$4))))","v":""},{"$f":"IF(H10=\"\",\"\",IF(H10=4,IF(D19=\"\",\"\",IF(D19<E19,$L$5,$L$4)),IF(L17=\"\",\"\",IF(L17<K17,$L$5,$L$4))))","v":""},{"$f":"IF(H10=\"\",\"\",IF(H10=4,\"\",IF(K19=\"\",\"\",IF(K19<L19,$L$5,$L$4))))","v":""},{"$f":"IF(H10=\"\",\"\",IF(H10=4,SUM(E14,D17,D19),SUM(L14,K16,L17,K19)))","v":0},{"$f":"IF(H10=\"\",\"\",IF(H10=4,SUM(D14,D16,D18),SUM(K14,L16,K17,L19)))","v":0},null,"B",{"$f":"IF(C24=\"\",\"\",IF(H10=\"\",\"\",IF(H10=3,N14,G14)))","v":""},{"$f":"IF(D24=\"\",\"\",IF(H10=\"\",\"\",IF(H10=3,M16,F17)))","v":""},{"$f":"IF(E24=\"\",\"\",IF(H10=\"\",\"\",IF(H10=3,N17,F19)))","v":""},{"$f":"IF(F24=\"\",\"\",IF(H10=\"\",\"\",IF(H10=3,M19,\"\")))","v":""}]
[null,"C",{"$f":"IF(H10=\"\",\"\",IF(H10=4,IF(D15=\"\",\"\",IF(D15<E15,$L$5,$L$4)),IF(L15=\"\",\"\",IF(L15<K15,$L$5,$L$4))))","v":""},{"$f":"IF(H10=\"\",\"\",IF(H10=4,IF(E16=\"\",\"\",IF(E16<D16,$L$5,$L$4)),IF(L16=\"\",\"\",IF(L16<K16,$L$5,$L$4))))","v":""},{"$f":"IF(H10=\"\",\"\",IF(H10=4,IF(E19=\"\",\"\",IF(E19<D19,$L$5,$L$4)),IF(L18=\"\",\"\",IF(L18<K18,$L$5,$L$4))))","v":""},{"$f":"IF(H10=\"\",\"\",IF(H10=4,\"\",IF(L19=\"\",\"\",IF(L19<K19,$L$5,$L$4))))","v":""},{"$f":"IF(H10=\"\",\"\",IF(H10=4,SUM(D15,E16,E19),SUM(L15,L16,L18,L19)))","v":0},{"$f":"IF(H10=\"\",\"\",IF(H10=4,SUM(E15,D16,D19),SUM(K15,K16,K18,K19)))","v":0},null,"C",{"$f":"IF(C25=\"\",\"\",IF(H10=\"\",\"\",IF(H10=3,N15,F15)))","v":""},{"$f":"IF(D25=\"\",\"\",IF(H10=\"\",\"\",IF(H10=3,N16,G16)))","v":""},{"$f":"IF(E25=\"\",\"\",IF(H10=\"\",\"\",IF(H10=3,N18,G19)))","v":""},{"$f":"IF(F25=\"\",\"\",IF(H10=\"\",\"\",IF(H10=3,N19,\"\")))","v":""}]
[null,"D",{"$f":"IF(H10=\"\",\"\",IF(H10=3,\"\",IF(E15=\"\",\"\",IF(E15<D15,$L$5,$L$4))))","v":""},{"$f":"IF(H10=\"\",\"\",IF(H10=3,\"\",IF(E17=\"\",\"\",IF(E17<D17,$L$5,$L$4))))","v":""},{"$f":"IF(H10=\"\",\"\",IF(H10=3,\"\",IF(E18=\"\",\"\",IF(E18<D18,$L$5,$L$4))))","v":""},{"$f":"IF(H10=\"\",\"\",IF(H10=4,\"\",IF(K19=\"\",\"\",\"\")))","v":""},{"$f":"IF(H10=\"\",\"\",IF(H10=4,SUM(E15,E17,E18),\"\"))","v":""},{"$f":"IF(H10=\"\",\"\",IF(H10=4,SUM(D15,D17,D18),\"\"))","v":""},null,"D",{"$f":"IF(C26=\"\",\"\",IF(H10=\"\",\"\",IF(H10=3,\"\",G15)))","v":""},{"$f":"IF(D26=\"\",\"\",IF(H10=\"\",\"\",IF(H10=3,\"\",G17)))","v":""},{"$f":"IF(E26=\"\",\"\",IF(H10=\"\",\"\",IF(H10=3,\"\",G18)))","v":""},{"$f":"IF(F26=\"\",\"\",IF(H10=\"\",\"\",IF(H10=3,\"\",\"\")))","v":""}]
[]
[]
[null,null,null,null,null,null,"Points",null,"Différence de Points",null,null,null,"Place",null,"Classement"]
[null,null,null,null,null,null,null,null,null,null,null,null,"Pts","Diff."]
[null,null,{"$f":"D4","v":""},null,null,{"$f":"D4","v":""},{"$f":"IF(C23=\"\",\"\",IF(F31=\"\",\"\",SUM(C23,D23,E23,F23)))","v":""},null,null,{"$f":"IF(C23=\"\",\"\",IF(F31=\"\",\"\",G23-H23))","v":""},null,null,{"$f":"IF(G31=\"\",\"\",IF(H10=3,RANK(G31,$G$31:$G$33),RANK(G31,$G$31:$G$34)))","v":""},{"$f":"IF(J31=\"\",\"\",IF(H10=3,RANK(J31,$J$31:$J$33)/10,RANK(J31,$J$31:$J$34)/10))","v":""},{"$f":"IF(G31=\"\",\"\",IF(H10=3,RANK(Q31,$Q$31:$GQ$33,1),RANK(Q31,$Q$31:$Q$34,1)))","v":""},null,{"$f":"M31+N31","v":{"$error":"#VALUE!"}}]
[null,null,{"$f":"D5","v":""},null,null,{"$f":"D5","v":""},{"$f":"IF(C24=\"\",\"\",IF(F32=\"\",\"\",SUM(C24,D24,E24,F24)))","v":""},null,null,{"$f":"IF(C24=\"\",\"\",IF(F32=\"\",\"\",G24-H24))","v":""},null,null,{"$f":"IF(G32=\"\",\"\",IF(H11=3,RANK(G32,$G$31:$G$33),RANK(G32,$G$31:$G$34)))","v":""},{"$f":"IF(J32=\"\",\"\",IF(H11=3,RANK(J32,$J$31:$J$33)/10,RANK(J32,$J$31:$J$34)/10))","v":""},{"$f":"IF(G32=\"\",\"\",IF(H10=3,RANK(Q32,$Q$31:$GQ$33,1),RANK(Q32,$Q$31:$Q$34,1)))","v":""},null,{"$f":"M32+N32","v":{"$error":"#VALUE!"}}]
[null,null,{"$f":"D6","v":""},null,null,{"$f":"D6","v":""},{"$f":"IF(C25=\"\",\"\",IF(F33=\"\",\"\",SUM(C25,D25,E25,F25)))","v":""},null,null,{"$f":"IF(C25=\"\",\"\",IF(F33=\"\",\"\",G25-H25))","v":""},null,null,{"$f":"IF(G33=\"\",\"\",IF(H12=3,RANK(G33,$G$31:$G$33),RANK(G33,$G$31:$G$34)))","v":""},{"$f":"IF(J33=\"\",\"\",IF(H12=3,RANK(J33,$J$31:$J$33)/10,RANK(J33,$J$31:$J$34)/10))","v":""},{"$f":"IF(G33=\"\",\"\",IF(H10=3,RANK(Q33,$Q$31:$GQ$33,1),RANK(Q33,$Q$31:$Q$34,1)))","v":""},null,{"$f":"M33+N33","v":{"$error":"#VALUE!"}}]
[null,null,{"$f":"IF(H10=3,\"\",D7)","v":""},null,null,{"$f":"IF(H10=3,\"\",D7)","v":""},{"$f":"IF(C26=\"\",\"\",IF(F34=\"\",\"\",SUM(C26,D26,E26,F26)))","v":""},null,null,{"$f":"IF(C26=\"\",\"\",IF(F34=\"\",\"\",G26-H26))","v":""},null,null,{"$f":"IF(G34=\"\",\"\",IF(H13=3,RANK(G34,$G$31:$G$33),RANK(G34,$G$31:$G$34)))","v":""},{"$f":"IF(J34=\"\",\"\",IF(H13=3,RANK(J34,$J$31:$J$33)/10,RANK(J34,$J$31:$J$34)/10))","v":""},{"$f":"IF(G34=\"\",\"\",IF(H10=3,RANK(Q34,$Q$31:$GQ$33,1),RANK(Q34,$Q$31:$Q$34,1)))","v":""},null,{"$f":"M34+N34","v":{"$error":"#VALUE!"}}]

{"sheet":"T7","index":12,"n_rows":34,"n_cols":17,"rows_kept":34,"cut":false,"hidden":false,"merged":[[30,2,30,4],[31,2,31,4],[32,2,32,4],[33,2,33,4],[0,1,0,2],[11,1,11,6],[12,3,12,4],[12,5,12,6],[12,1,12,2],[33,6,33,7],[28,6,29,7],[32,6,32,7],[30,6,30,7],[31,6,31,7],[12,12,12,13],[28,12,28,13],[28,8,29,11],[2,2,2,4],[11,8,11,13],[12,10,12,11],[12,8,12,9],[3,3,3,7],[4,3,4,7],[5,3,5,7],[6,3,6,7]]}
[null,"TERRAIN/TABLE",null,7]
[]
[null,null,"Joueurs/Equipes"]
[71,null,"A",{"$f":"IF(Tournoi!Q5=\"zzz\",\"\",Tournoi!Q5)","v":""},null,null,null,null,null,null,"Victoire",3,"Pts"]
[72,null,"B",{"$f":"IF(Tournoi!Q6=\"zzz\",\"\",Tournoi!Q6)","v":""},null,null,null,null,null,null,"Défaite",1,"Pt"]
[73,null,"C",{"$f":"IF(Tournoi!Q7=\"zzz\",\"\",Tournoi!Q7)","v":""}]
[74,null,"D",{"$f":"IF(Tournoi!Q8=\"zzz\",\"\",Tournoi!Q8)","v":""}]
[]
[]
[null,null,null,null,"Poule de",null,null,{"$f":"Tournoi!K26","v":0},"Joueurs/Equipes"]
[]
[null,{"$f":"IF($H$10=4,\"Poule de 4\",\"\")","v":""},null,null,null,null,null,null,{"$f":"IF($H$10=3,\"Poule de 3\",\"\")","v":""}]
[null,{"$f":"IF($H$10=4,\"Rencontres\",\"\")","v":""},null,{"$f":"IF($H$10=4,\"Scores\",\"\")","v":""},null,{"$f":"IF($H$10=4,\"Contrats\",\"\")","v":""},null,null,{"$f":"IF($H$10=3,\"Rencontres\",\"\")","v":""},null,{"$f":"IF($H$10=3,\"Scores\",\"\")","v":""},null,{"$f":"IF($H$10=3,\"Contrats\",\"\")","v":""}]
[null,{"$f":"IF(H10=4,D4,\"\")","v":""},{"$f":"IF(H10=4,D5,\"\")","v":""},null,null,null,null,null,{"$f":"IF($H$10=4,\"\",D4)","v":""},{"$f":"IF($H$10=4,\"\",D5)","v":""}]
[null,{"$f":"IF(H10=4,D6,\"\")","v":""},{"$f":"IF(H10=4,D7,\"\")","v":""},null,null,null,null,null,{"$f":"IF($H$10=4,\"\",D4)","v":""},{"$f":"IF($H$10=4,\"\",D6)","v":""}]
[null,{"$f":"IF(H10=4,D4,\"\")","v":""},{"$f":"IF(H10=4,D6,\"\")","v":""},null,null,null,null,null,{"$f":"IF($H$10=4,\"\",D5)","v":""},{"$f":"IF($H$10=4,\"\",D6)","v":""}]
[null,{"$f":"IF(H10=4,D5,\"\")","v":""},{"$f":"IF(H10=4,D7,\"\")","v":""},null,null,null,null,null,{"$f":"IF($H$10=4,\"\",D4)","v":""},{"$f":"IF($H$10=4,\"\",D5)","v":""}]
[null,{"$f":"IF(H10=4,D4,\"\")","v":""},{"$f":"IF(H10=4,D7,\"\")","v":""},null,null,null,null,null,{"$f":"IF($H$10=4,\"\",D4)","v":""},{"$f":"IF($H$10=4,\"\",D6)","v":""}]
[null,{"$f":"IF(H10=4,D5,\"\")","v":""},{"$f":"IF(H10=4,D6,\"\")","v":""},null,null,null,null,null,{"$f":"IF($H$10=4,\"\",D5)","v":""},{"$f":"IF($H$10=4,\"\",D6)","v":""}]
[]
[]
[null,null,"Match1","Match2","Match3","Match4","PP","PC",null,"Contrats","Match1","Match2","Match3","Match4"]
[null,"A",{"$f":"IF(H10=\"\",\"\",IF(H10=4,IF(D14=\"\",\"\",IF(D14<E14,$L$5,$L$4)),IF(K14=\"\",\"\",IF(K14<L14,$L$5,$L$4))))","v":""},{"$f":"IF(H10=\"\",\"\",IF(H10=4,IF(D16=\"\",\"\",IF(D16<E16,$L$5,$L$4)),IF(K15=\"\",\"\",IF(K15<L15,$L$5,$L$4))))","v":""},{"$f":"IF(H10=\"\",\"\",IF(H10=4,IF(D18=\"\",\"\",IF(D18<E18,$L$5,$L$4)),IF(K17=\"\",\"\",IF(K17<L17,$L$5,$L$4))))","v":""},{"$f":"IF(H10=\"\",\"\",IF(H10=4,\"\",IF(K18=\"\",\"\",IF(K18<L18,$L$5,$L$4))))","v":""},{"$f":"IF(H10=\"\",\"\",IF(H10=4,SUM(D14,D16,D18),SUM(K14,K15,K17,K18)))","v":0},{"$f":"IF(H10=\"\",\"\",IF(H10=4,SUM(E14,E16,E18),SUM(L14,L15,L17,L18)))","v":0},null,"A",{"$f":"IF(C23=\"\",\"\",IF(H10=\"\",\"\",IF(H10=3,M14,F14)))","v":""},{"$f":"IF(D23=\"\",\"\",IF(H10=\"\",\"\",IF(H10=3,M15,F16)))","v":""},{"$f":"IF(E23=\"\",\"\",IF(H10=\"\",\"\",IF(H10=3,M17,F18)))","v":""},{"$f":"IF(F23=\"\",\"\",IF(H10=\"\",\"\",IF(H10=3,M18,\"\")))","v":""}]
[null,"B",{"$f":"IF(H10=\"\",\"\",IF(H10=4,IF(E14=\"\",\"\",IF(E14<D14,$L$5,$L$4)),IF(L14=\"\",\"\",IF(L14<K14,$L$5,$L$4))))","v":""},{"$f":"IF(H10=\"\",\"\",IF(H10=4,IF(D17=\"\",\"\",IF(D17<E17,$L$5,$L$4)),IF(K16=\"\",\"\",IF(K16<L16,$L$5,$L$4))))","v":""},{"$f":"IF(H10=\"\",\"\",IF(H10=4,IF(D19=\"\",\"\",IF(D19<E19,$L$5,$L$4)),IF(L17=\"\",\"\",IF(L17<K17,$L$5,$L$4))))","v":""},{"$f":"IF(H10=\"\",\"\",IF(H10=4,\"\",IF(K19=\"\",\"\",IF(K19<L19,$L$5,$L$4))))","v":""},{"$f":"IF(H10=\"\",\"\",IF(H10=4,SUM(E14,D17,D19),SUM(L14,K16,L17,K19)))","v":0},{"$f":"IF(H10=\"\",\"\",IF(H10=4,SUM(D14,D16,D18),SUM(K14,L16,K17,L19)))","v":0},null,"B",{"$f":"IF(C24=\"\",\"\",IF(H10=\"\",\"\",IF(H10=3,N14,G14)))","v":""},{"$f":"IF(D24=\"\",\"\",IF(H10=\"\",\"\",IF(H10=3,M16,F17)))","v":""},{"$f":"IF(E24=\"\",\"\",IF(H10=\"\",\"\",IF(H10=3,N17,F19)))","v":""},{"$f":"IF(F24=\"\",\"\",IF(H10=\"\",\"\",IF(H10=3,M19,\"\")))","v":""}]
[null,"C",{"$f":"IF(H10=\"\",\"\",IF(H10=4,IF(D15=\"\",\"\",IF(D15<E15,$L$5,$L$4)),IF(L15=\"\",\"\",IF(L15<K15,$L$5,$L$4))))","v":""},{"$f":"IF(H10=\"\",\"\",IF(H10=4,IF(E16=\"\",\"\",IF(E16<D16,$L$5,$L$4)),IF(L16=\"\",\"\",IF(L16<K16,$L$5,$L$4))))","v":""},{"$f":"IF(H10=\"\",\"\",IF(H10=4,IF(E19=\"\",\"\",IF(E19<D19,$L$5,$L$4)),IF(L18=\"\",\"\",IF(L18<K18,$L$5,$L$4))))","v":""},{"$f":"IF(H10=\"\",\"\",IF(H10=4,\"\",IF(L19=\"\",\"\",IF(L19<K19,$L$5,$L$4))))","v":""},{"$f":"IF(H10=\"\",\"\",IF(H10=4,SUM(D15,E16,E19),SUM(L15,L16,L18,L19)))","v":0},{"$f":"IF(H10=\"\",\"\",IF(H10=4,SUM(E15,D16,D19),SUM(K15,K16,K18,K19)))","v":0},null,"C",{"$f":"IF(C25=\"\",\"\",IF(H10=\"\",\"\",IF(H10=3,N15,F15)))","v":""},{"$f":"IF(D25=\"\",\"\",IF(H10=\"\",\"\",IF(H10=3,N16,G16)))","v":""},{"$f":"IF(E25=\"\",\"\",IF(H10=\"\",\"\",IF(H10=3,N18,G19)))","v":""},{"$f":"IF(F25=\"\",\"\",IF(H10=\"\",\"\",IF(H10=3,N19,\"\")))","v":""}]
[null,"D",{"$f":"IF(H10=\"\",\"\",IF(H10=3,\"\",IF(E15=\"\",\"\",IF(E15<D15,$L$5,$L$4))))","v":""},{"$f":"IF(H10=\"\",\"\",IF(H10=3,\"\",IF(E17=\"\",\"\",IF(E17<D17,$L$5,$L$4))))","v":""},{"$f":"IF(H10=\"\",\"\",IF(H10=3,\"\",IF(E18=\"\",\"\",IF(E18<D18,$L$5,$L$4))))","v":""},{"$f":"IF(H10=\"\",\"\",IF(H10=4,\"\",IF(K19=\"\",\"\",\"\")))","v":""},{"$f":"IF(H10=\"\",\"\",IF(H10=4,SUM(E15,E17,E18),\"\"))","v":""},{"$f":"IF(H10=\"\",\"\",IF(H10=4,SUM(D15,D17,D18),\"\"))","v":""},null,"D",{"$f":"IF(C26=\"\",\"\",IF(H10=\"\",\"\",IF(H10=3,\"\",G15)))","v":""},{"$f":"IF(D26=\"\",\"\",IF(H10=\"\",\"\",IF(H10=3,\"\",G17)))","v":""},{"$f":"IF(E26=\"\",\"\",IF(H10=\"\",\"\",IF(H10=3,\"\",G18)))","v":""},{"$f":"IF(F26=\"\",\"\",IF(H10=\"\",\"\",IF(H10=3,\"\",\"\")))","v":""}]
[]
[]
[null,null,null,null,null,null,"Points",null,"Différence de Points",null,null,null,"Place",null,"Classement"]
[null,null,null,null,null,null,null,null,null,null,null,null,"Pts","Diff."]
[null,null,{"$f":"D4","v":""},null,null,{"$f":"D4","v":""},{"$f":"IF(C23=\"\",\"\",IF(F31=\"\",\"\",SUM(C23,D23,E23,F23)))","v":""},null,null,{"$f":"IF(C23=\"\",\"\",IF(F31=\"\",\"\",G23-H23))","v":""},null,null,{"$f":"IF(G31=\"\",\"\",IF(H10=3,RANK(G31,$G$31:$G$33),RANK(G31,$G$31:$G$34)))","v":""},{"$f":"IF(J31=\"\",\"\",IF(H10=3,RANK(J31,$J$31:$J$33)/10,RANK(J31,$J$31:$J$34)/10))","v":""},{"$f":"IF(G31=\"\",\"\",IF(H10=3,RANK(Q31,$Q$31:$GQ$33,1),RANK(Q31,$Q$31:$Q$34,1)))","v":""},null,{"$f":"M31+N31","v":{"$error":"#VALUE!"}}]
[null,null,{"$f":"D5","v":""},null,null,{"$f":"D5","v":""},{"$f":"IF(C24=\"\",\"\",IF(F32=\"\",\"\",SUM(C24,D24,E24,F24)))","v":""},null,null,{"$f":"IF(C24=\"\",\"\",IF(F32=\"\",\"\",G24-H24))","v":""},null,null,{"$f":"IF(G32=\"\",\"\",IF(H11=3,RANK(G32,$G$31:$G$33),RANK(G32,$G$31:$G$34)))","v":""},{"$f":"IF(J32=\"\",\"\",IF(H11=3,RANK(J32,$J$31:$J$33)/10,RANK(J32,$J$31:$J$34)/10))","v":""},{"$f":"IF(G32=\"\",\"\",IF(H10=3,RANK(Q32,$Q$31:$GQ$33,1),RANK(Q32,$Q$31:$Q$34,1)))","v":""},null,{"$f":"M32+N32","v":{"$error":"#VALUE!"}}]
[null,null,{"$f":"D6","v":""},null,null,{"$f":"D6","v":""},{"$f":"IF(C25=\"\",\"\",IF(F33=\"\",\"\",SUM(C25,D25,E25,F25)))","v":""},null,null,{"$f":"IF(C25=\"\",\"\",IF(F33=\"\",\"\",G25-H25))","v":""},null,null,{"$f":"IF(G33=\"\",\"\",IF(H12=3,RANK(G33,$G$31:$G$33),RANK(G33,$G$31:$G$34)))","v":""},{"$f":"IF(J33=\"\",\"\",IF(H12=3,RANK(J33,$J$31:$J$33)/10,RANK(J33,$J$31:$J$34)/10))","v":""},{"$f":"IF(G33=\"\",\"\",IF(H10=3,RANK(Q33,$Q$31:$GQ$33,1),RANK(Q33,$Q$31:$Q$34,1)))","v":""},null,{"$f":"M33+N33","v":{"$error":"#VALUE!"}}]
[null,null,{"$f":"IF(H10=3,\"\",D7)","v":""},null,null,{"$f":"IF(H10=3,\"\",D7)","v":""},{"$f":"IF(C26=\"\",\"\",IF(F34=\"\",\"\",SUM(C26,D26,E26,F26)))","v":""},null,null,{"$f":"IF(C26=\"\",\"\",IF(F34=\"\",\"\",G26-H26))","v":""},null,null,{"$f":"IF(G34=\"\",\"\",IF(H13=3,RANK(G34,$G$31:$G$33),RANK(G34,$G$31:$G$34)))","v":""},{"$f":"IF(J34=\"\",\"\",IF(H13=3,RANK(J34,$J$31:$J$33)/10,RANK(J34,$J$31:$J$34)/10))","v":""},{"$f":"IF(G34=\"\",\"\",IF(H10=3,RANK(Q34,$Q$31:$GQ$33,1),RANK(Q34,$Q$31:$Q$34,1)))","v":""},null,{"$f":"M34+N34","v":{"$error":"#VALUE!"}}]

{"sheet":"T8","index":13,"n_rows":34,"n_cols":17,"rows_kept":34,"cut":false,"hidden":false,"merged":[[30,2,30,4],[31,2,31,4],[32,2,32,4],[33,2,33,4],[0,1,0,2],[11,1,11,6],[12,3,12,4],[12,5,12,6],[12,1,12,2],[33,6,33,7],[28,6,29,7],[32,6,32,7],[30,6,30,7],[31,6,31,7],[12,12,12,13],[28,12,28,13],[28,8,29,11],[2,2,2,4],[11,8,11,13],[12,10,12,11],[12,8,12,9],[3,3,3,7],[4,3,4,7],[5,3,5,7],[6,3,6,7]]}
[null,"TERRAIN/TABLE",null,8]
[]
[null,null,"Joueurs/Equipes"]
[81,null,"A",{"$f":"IF(Tournoi!R5=\"zzz\",\"\",Tournoi!R5)","v":""},null,null,null,null,null,null,"Victoire",3,"Pts"]
[82,null,"B",{"$f":"IF(Tournoi!R6=\"zzz\",\"\",Tournoi!R6)","v":""},null,null,null,null,null,null,"Défaite",1,"Pt"]
[83,null,"C",{"$f":"IF(Tournoi!R7=\"zzz\",\"\",Tournoi!R7)","v":""}]
[84,null,"D",{"$f":"IF(Tournoi!R8=\"zzz\",\"\",Tournoi!R8)","v":""}]
[]
[]
[null,null,null,null,"Poule de",null,null,{"$f":"Tournoi!K27","v":0},"Joueurs/Equipes"]
[]
[null,{"$f":"IF($H$10=4,\"Poule de 4\",\"\")","v":""},null,null,null,null,null,null,{"$f":"IF($H$10=3,\"Poule de 3\",\"\")","v":""}]
[null,{"$f":"IF($H$10=4,\"Rencontres\",\"\")","v":""},null,{"$f":"IF($H$10=4,\"Scores\",\"\")","v":""},null,{"$f":"IF($H$10=4,\"Contrats\",\"\")","v":""},null,null,{"$f":"IF($H$10=3,\"Rencontres\",\"\")","v":""},null,{"$f":"IF($H$10=3,\"Scores\",\"\")","v":""},null,{"$f":"IF($H$10=3,\"Contrats\",\"\")","v":""}]
[null,{"$f":"IF(H10=4,D4,\"\")","v":""},{"$f":"IF(H10=4,D5,\"\")","v":""},null,null,null,null,null,{"$f":"IF($H$10=4,\"\",D4)","v":""},{"$f":"IF($H$10=4,\"\",D5)","v":""}]
[null,{"$f":"IF(H10=4,D6,\"\")","v":""},{"$f":"IF(H10=4,D7,\"\")","v":""},null,null,null,null,null,{"$f":"IF($H$10=4,\"\",D4)","v":""},{"$f":"IF($H$10=4,\"\",D6)","v":""}]
[null,{"$f":"IF(H10=4,D4,\"\")","v":""},{"$f":"IF(H10=4,D6,\"\")","v":""},null,null,null,null,null,{"$f":"IF($H$10=4,\"\",D5)","v":""},{"$f":"IF($H$10=4,\"\",D6)","v":""}]
[null,{"$f":"IF(H10=4,D5,\"\")","v":""},{"$f":"IF(H10=4,D7,\"\")","v":""},null,null,null,null,null,{"$f":"IF($H$10=4,\"\",D4)","v":""},{"$f":"IF($H$10=4,\"\",D5)","v":""}]
[null,{"$f":"IF(H10=4,D4,\"\")","v":""},{"$f":"IF(H10=4,D7,\"\")","v":""},null,null,null,null,null,{"$f":"IF($H$10=4,\"\",D4)","v":""},{"$f":"IF($H$10=4,\"\",D6)","v":""}]
[null,{"$f":"IF(H10=4,D5,\"\")","v":""},{"$f":"IF(H10=4,D6,\"\")","v":""},null,null,null,null,null,{"$f":"IF($H$10=4,\"\",D5)","v":""},{"$f":"IF($H$10=4,\"\",D6)","v":""}]
[]
[]
[null,null,"Match1","Match2","Match3","Match4","PP","PC",null,"Contrats","Match1","Match2","Match3","Match4"]
[null,"A",{"$f":"IF(H10=\"\",\"\",IF(H10=4,IF(D14=\"\",\"\",IF(D14<E14,$L$5,$L$4)),IF(K14=\"\",\"\",IF(K14<L14,$L$5,$L$4))))","v":""},{"$f":"IF(H10=\"\",\"\",IF(H10=4,IF(D16=\"\",\"\",IF(D16<E16,$L$5,$L$4)),IF(K15=\"\",\"\",IF(K15<L15,$L$5,$L$4))))","v":""},{"$f":"IF(H10=\"\",\"\",IF(H10=4,IF(D18=\"\",\"\",IF(D18<E18,$L$5,$L$4)),IF(K17=\"\",\"\",IF(K17<L17,$L$5,$L$4))))","v":""},{"$f":"IF(H10=\"\",\"\",IF(H10=4,\"\",IF(K18=\"\",\"\",IF(K18<L18,$L$5,$L$4))))","v":""},{"$f":"IF(H10=\"\",\"\",IF(H10=4,SUM(D14,D16,D18),SUM(K14,K15,K17,K18)))","v":0},{"$f":"IF(H10=\"\",\"\",IF(H10=4,SUM(E14,E16,E18),SUM(L14,L15,L17,L18)))","v":0},null,"A",{"$f":"IF(C23=\"\",\"\",IF(H10=\"\",\"\",IF(H10=3,M14,F14)))","v":""},{"$f":"IF(D23=\"\",\"\",IF(H10=\"\",\"\",IF(H10=3,M15,F16)))","v":""},{"$f":"IF(E23=\"\",\"\",IF(H10=\"\",\"\",IF(H10=3,M17,F18)))","v":""},{"$f":"IF(F23=\"\",\"\",IF(H10=\"\",\"\",IF(H10=3,M18,\"\")))","v":""}]
[null,"B",{"$f":"IF(H10=\"\",\"\",IF(H10=4,IF(E14=\"\",\"\",IF(E14<D14,$L$5,$L$4)),IF(L14=\"\",\"\",IF(L14<K14,$L$5,$L$4))))","v":""},{"$f":"IF(H10=\"\",\"\",IF(H10=4,IF(D17=\"\",\"\",IF(D17<E17,$L$5,$L$4)),IF(K16=\"\",\"\",IF(K16<L16,$L$5,$L$4))))","v":""},{"$f":"IF(H10=\"\",\"\",IF(H10=4,IF(D19=\"\",\"\",IF(D19<E19,$L$5,$L$4)),IF(L17=\"\",\"\",IF(L17<K17,$L$5,$L$4))))","v":""},{"$f":"IF(H10=\"\",\"\",IF(H10=4,\"\",IF(K19=\"\",\"\",IF(K19<L19,$L$5,$L$4))))","v":""},{"$f":"IF(H10=\"\",\"\",IF(H10=4,SUM(E14,D17,D19),SUM(L14,K16,L17,K19)))","v":0},{"$f":"IF(H10=\"\",\"\",IF(H10=4,SUM(D14,D16,D18),SUM(K14,L16,K17,L19)))","v":0},null,"B",{"$f":"IF(C24=\"\",\"\",IF(H10=\"\",\"\",IF(H10=3,N14,G14)))","v":""},{"$f":"IF(D24=\"\",\"\",IF(H10=\"\",\"\",IF(H10=3,M16,F17)))","v":""},{"$f":"IF(E24=\"\",\"\",IF(H10=\"\",\"\",IF(H10=3,N17,F19)))","v":""},{"$f":"IF(F24=\"\",\"\",IF(H10=\"\",\"\",IF(H10=3,M19,\"\")))","v":""}]
[null,"C",{"$f":"IF(H10=\"\",\"\",IF(H10=4,IF(D15=\"\",\"\",IF(D15<E15,$L$5,$L$4)),IF(L15=\"\",\"\",IF(L15<K15,$L$5,$L$4))))","v":""},{"$f":"IF(H10=\"\",\"\",IF(H10=4,IF(E16=\"\",\"\",IF(E16<D16,$L$5,$L$4)),IF(L16=\"\",\"\",IF(L16<K16,$L$5,$L$4))))","v":""},{"$f":"IF(H10=\"\",\"\",IF(H10=4,IF(E19=\"\",\"\",IF(E19<D19,$L$5,$L$4)),IF(L18=\"\",\"\",IF(L18<K18,$L$5,$L$4))))","v":""},{"$f":"IF(H10=\"\",\"\",IF(H10=4,\"\",IF(L19=\"\",\"\",IF(L19<K19,$L$5,$L$4))))","v":""},{"$f":"IF(H10=\"\",\"\",IF(H10=4,SUM(D15,E16,E19),SUM(L15,L16,L18,L19)))","v":0},{"$f":"IF(H10=\"\",\"\",IF(H10=4,SUM(E15,D16,D19),SUM(K15,K16,K18,K19)))","v":0},null,"C",{"$f":"IF(C25=\"\",\"\",IF(H10=\"\",\"\",IF(H10=3,N15,F15)))","v":""},{"$f":"IF(D25=\"\",\"\",IF(H10=\"\",\"\",IF(H10=3,N16,G16)))","v":""},{"$f":"IF(E25=\"\",\"\",IF(H10=\"\",\"\",IF(H10=3,N18,G19)))","v":""},{"$f":"IF(F25=\"\",\"\",IF(H10=\"\",\"\",IF(H10=3,N19,\"\")))","v":""}]
[null,"D",{"$f":"IF(H10=\"\",\"\",IF(H10=3,\"\",IF(E15=\"\",\"\",IF(E15<D15,$L$5,$L$4))))","v":""},{"$f":"IF(H10=\"\",\"\",IF(H10=3,\"\",IF(E17=\"\",\"\",IF(E17<D17,$L$5,$L$4))))","v":""},{"$f":"IF(H10=\"\",\"\",IF(H10=3,\"\",IF(E18=\"\",\"\",IF(E18<D18,$L$5,$L$4))))","v":""},{"$f":"IF(H10=\"\",\"\",IF(H10=4,\"\",IF(K19=\"\",\"\",\"\")))","v":""},{"$f":"IF(H10=\"\",\"\",IF(H10=4,SUM(E15,E17,E18),\"\"))","v":""},{"$f":"IF(H10=\"\",\"\",IF(H10=4,SUM(D15,D17,D18),\"\"))","v":""},null,"D",{"$f":"IF(C26=\"\",\"\",IF(H10=\"\",\"\",IF(H10=3,\"\",G15)))","v":""},{"$f":"IF(D26=\"\",\"\",IF(H10=\"\",\"\",IF(H10=3,\"\",G17)))","v":""},{"$f":"IF(E26=\"\",\"\",IF(H10=\"\",\"\",IF(H10=3,\"\",G18)))","v":""},{"$f":"IF(F26=\"\",\"\",IF(H10=\"\",\"\",IF(H10=3,\"\",\"\")))","v":""}]
[]
[]
[null,null,null,null,null,null,"Points",null,"Différence de Points",null,null,null,"Place",null,"Classement"]
[null,null,null,null,null,null,null,null,null,null,null,null,"Pts","Diff."]
[null,null,{"$f":"D4","v":""},null,null,{"$f":"D4","v":""},{"$f":"IF(C23=\"\",\"\",IF(F31=\"\",\"\",SUM(C23,D23,E23,F23)))","v":""},null,null,{"$f":"IF(C23=\"\",\"\",IF(F31=\"\",\"\",G23-H23))","v":""},null,null,{"$f":"IF(G31=\"\",\"\",IF(H10=3,RANK(G31,$G$31:$G$33),RANK(G31,$G$31:$G$34)))","v":""},{"$f":"IF(J31=\"\",\"\",IF(H10=3,RANK(J31,$J$31:$J$33)/10,RANK(J31,$J$31:$J$34)/10))","v":""},{"$f":"IF(G31=\"\",\"\",IF(H10=3,RANK(Q31,$Q$31:$GQ$33,1),RANK(Q31,$Q$31:$Q$34,1)))","v":""},null,{"$f":"M31+N31","v":{"$error":"#VALUE!"}}]
[null,null,{"$f":"D5","v":""},null,null,{"$f":"D5","v":""},{"$f":"IF(C24=\"\",\"\",IF(F32=\"\",\"\",SUM(C24,D24,E24,F24)))","v":""},null,null,{"$f":"IF(C24=\"\",\"\",IF(F32=\"\",\"\",G24-H24))","v":""},null,null,{"$f":"IF(G32=\"\",\"\",IF(H11=3,RANK(G32,$G$31:$G$33),RANK(G32,$G$31:$G$34)))","v":""},{"$f":"IF(J32=\"\",\"\",IF(H11=3,RANK(J32,$J$31:$J$33)/10,RANK(J32,$J$31:$J$34)/10))","v":""},{"$f":"IF(G32=\"\",\"\",IF(H10=3,RANK(Q32,$Q$31:$GQ$33,1),RANK(Q32,$Q$31:$Q$34,1)))","v":""},null,{"$f":"M32+N32","v":{"$error":"#VALUE!"}}]
[null,null,{"$f":"D6","v":""},null,null,{"$f":"D6","v":""},{"$f":"IF(C25=\"\",\"\",IF(F33=\"\",\"\",SUM(C25,D25,E25,F25)))","v":""},null,null,{"$f":"IF(C25=\"\",\"\",IF(F33=\"\",\"\",G25-H25))","v":""},null,null,{"$f":"IF(G33=\"\",\"\",IF(H12=3,RANK(G33,$G$31:$G$33),RANK(G33,$G$31:$G$34)))","v":""},{"$f":"IF(J33=\"\",\"\",IF(H12=3,RANK(J33,$J$31:$J$33)/10,RANK(J33,$J$31:$J$34)/10))","v":""},{"$f":"IF(G33=\"\",\"\",IF(H10=3,RANK(Q33,$Q$31:$GQ$33,1),RANK(Q33,$Q$31:$Q$34,1)))","v":""},null,{"$f":"M33+N33","v":{"$error":"#VALUE!"}}]
[null,null,{"$f":"IF(H10=3,\"\",D7)","v":""},null,null,{"$f":"IF(H10=3,\"\",D7)","v":""},{"$f":"IF(C26=\"\",\"\",IF(F34=\"\",\"\",SUM(C26,D26,E26,F26)))","v":""},null,null,{"$f":"IF(C26=\"\",\"\",IF(F34=\"\",\"\",G26-H26))","v":""},null,null,{"$f":"IF(G34=\"\",\"\",IF(H13=3,RANK(G34,$G$31:$G$33),RANK(G34,$G$31:$G$34)))","v":""},{"$f":"IF(J34=\"\",\"\",IF(H13=3,RANK(J34,$J$31:$J$33)/10,RANK(J34,$J$31:$J$34)/10))","v":""},{"$f":"IF(G34=\"\",\"\",IF(H10=3,RANK(Q34,$Q$31:$GQ$33,1),RANK(Q34,$Q$31:$Q$34,1)))","v":""},null,{"$f":"M34+N34","v":{"$error":"#VALUE!"}}]

{"sheet":"T9","index":14,"n_rows":34,"n_cols":17,"rows_kept":34,"cut":false,"hidden":false,"merged":[[30,2,30,4],[31,2,31,4],[32,2,32,4],[33,2,33,4],[0,1,0,2],[11,1,11,6],[12,3,12,4],[12,5,12,6],[12,1,12,2],[33,6,33,7],[28,6,29,7],[32,6,32,7],[30,6,30,7],[31,6,31,7],[12,12,12,13],[28,12,28,13],[28,8,29,11],[2,2,2,4],[11,8,11,13],[12,10,12,11],[12,8,12,9],[3,3,3,7],[4,3,4,7],[5,3,5,7],[6,3,6,7]]}
[null,"TERRAIN/TABLE",null,9]
[]
[null,null,"Joueurs/Equipes"]
[91,null,"A",{"$f":"IF(Tournoi!S5=\"zzz\",\"\",Tournoi!S5)","v":""},null,null,null,null,null,null,"Victoire",3,"Pts"]
[92,null,"B",{"$f":"IF(Tournoi!S6=\"zzz\",\"\",Tournoi!S6)","v":""},null,null,null,null,null,null,"Défaite",1,"Pt"]
[93,null,"C",{"$f":"IF(Tournoi!S7=\"zzz\",\"\",Tournoi!S7)","v":""}]
[94,null,"D",{"$f":"IF(Tournoi!S8=\"zzz\",\"\",Tournoi!S8)","v":""}]
[]
[]
[null,null,null,null,"Poule de",null,null,{"$f":"Tournoi!K28","v":0},"Joueurs/Equipes"]
[]
[null,{"$f":"IF($H$10=4,\"Poule de 4\",\"\")","v":""},null,null,null,null,null,null,{"$f":"IF($H$10=3,\"Poule de 3\",\"\")","v":""}]
[null,{"$f":"IF($H$10=4,\"Rencontres\",\"\")","v":""},null,{"$f":"IF($H$10=4,\"Scores\",\"\")","v":""},null,{"$f":"IF($H$10=4,\"Contrats\",\"\")","v":""},null,null,{"$f":"IF($H$10=3,\"Rencontres\",\"\")","v":""},null,{"$f":"IF($H$10=3,\"Scores\",\"\")","v":""},null,{"$f":"IF($H$10=3,\"Contrats\",\"\")","v":""}]
[null,{"$f":"IF(H10=4,D4,\"\")","v":""},{"$f":"IF(H10=4,D5,\"\")","v":""},null,null,null,null,null,{"$f":"IF($H$10=4,\"\",D4)","v":""},{"$f":"IF($H$10=4,\"\",D5)","v":""}]
[null,{"$f":"IF(H10=4,D6,\"\")","v":""},{"$f":"IF(H10=4,D7,\"\")","v":""},null,null,null,null,null,{"$f":"IF($H$10=4,\"\",D4)","v":""},{"$f":"IF($H$10=4,\"\",D6)","v":""}]
[null,{"$f":"IF(H10=4,D4,\"\")","v":""},{"$f":"IF(H10=4,D6,\"\")","v":""},null,null,null,null,null,{"$f":"IF($H$10=4,\"\",D5)","v":""},{"$f":"IF($H$10=4,\"\",D6)","v":""}]
[null,{"$f":"IF(H10=4,D5,\"\")","v":""},{"$f":"IF(H10=4,D7,\"\")","v":""},null,null,null,null,null,{"$f":"IF($H$10=4,\"\",D4)","v":""},{"$f":"IF($H$10=4,\"\",D5)","v":""}]
[null,{"$f":"IF(H10=4,D4,\"\")","v":""},{"$f":"IF(H10=4,D7,\"\")","v":""},null,null,null,null,null,{"$f":"IF($H$10=4,\"\",D4)","v":""},{"$f":"IF($H$10=4,\"\",D6)","v":""}]
[null,{"$f":"IF(H10=4,D5,\"\")","v":""},{"$f":"IF(H10=4,D6,\"\")","v":""},null,null,null,null,null,{"$f":"IF($H$10=4,\"\",D5)","v":""},{"$f":"IF($H$10=4,\"\",D6)","v":""}]
[]
[]
[null,null,"Match1","Match2","Match3","Match4","PP","PC",null,"Contrats","Match1","Match2","Match3","Match4"]
[null,"A",{"$f":"IF(H10=\"\",\"\",IF(H10=4,IF(D14=\"\",\"\",IF(D14<E14,$L$5,$L$4)),IF(K14=\"\",\"\",IF(K14<L14,$L$5,$L$4))))","v":""},{"$f":"IF(H10=\"\",\"\",IF(H10=4,IF(D16=\"\",\"\",IF(D16<E16,$L$5,$L$4)),IF(K15=\"\",\"\",IF(K15<L15,$L$5,$L$4))))","v":""},{"$f":"IF(H10=\"\",\"\",IF(H10=4,IF(D18=\"\",\"\",IF(D18<E18,$L$5,$L$4)),IF(K17=\"\",\"\",IF(K17<L17,$L$5,$L$4))))","v":""},{"$f":"IF(H10=\"\",\"\",IF(H10=4,\"\",IF(K18=\"\",\"\",IF(K18<L18,$L$5,$L$4))))","v":""},{"$f":"IF(H10=\"\",\"\",IF(H10=4,SUM(D14,D16,D18),SUM(K14,K15,K17,K18)))","v":0},{"$f":"IF(H10=\"\",\"\",IF(H10=4,SUM(E14,E16,E18),SUM(L14,L15,L17,L18)))","v":0},null,"A",{"$f":"IF(C23=\"\",\"\",IF(H10=\"\",\"\",IF(H10=3,M14,F14)))","v":""},{"$f":"IF(D23=\"\",\"\",IF(H10=\"\",\"\",IF(H10=3,M15,F16)))","v":""},{"$f":"IF(E23=\"\",\"\",IF(H10=\"\",\"\",IF(H10=3,M17,F18)))","v":""},{"$f":"IF(F23=\"\",\"\",IF(H10=\"\",\"\",IF(H10=3,M18,\"\")))","v":""}]
[null,"B",{"$f":"IF(H10=\"\",\"\",IF(H10=4,IF(E14=\"\",\"\",IF(E14<D14,$L$5,$L$4)),IF(L14=\"\",\"\",IF(L14<K14,$L$5,$L$4))))","v":""},{"$f":"IF(H10=\"\",\"\",IF(H10=4,IF(D17=\"\",\"\",IF(D17<E17,$L$5,$L$4)),IF(K16=\"\",\"\",IF(K16<L16,$L$5,$L$4))))","v":""},{"$f":"IF(H10=\"\",\"\",IF(H10=4,IF(D19=\"\",\"\",IF(D19<E19,$L$5,$L$4)),IF(L17=\"\",\"\",IF(L17<K17,$L$5,$L$4))))","v":""},{"$f":"IF(H10=\"\",\"\",IF(H10=4,\"\",IF(K19=\"\",\"\",IF(K19<L19,$L$5,$L$4))))","v":""},{"$f":"IF(H10=\"\",\"\",IF(H10=4,SUM(E14,D17,D19),SUM(L14,K16,L17,K19)))","v":0},{"$f":"IF(H10=\"\",\"\",IF(H10=4,SUM(D14,D16,D18),SUM(K14,L16,K17,L19)))","v":0},null,"B",{"$f":"IF(C24=\"\",\"\",IF(H10=\"\",\"\",IF(H10=3,N14,G14)))","v":""},{"$f":"IF(D24=\"\",\"\",IF(H10=\"\",\"\",IF(H10=3,M16,F17)))","v":""},{"$f":"IF(E24=\"\",\"\",IF(H10=\"\",\"\",IF(H10=3,N17,F19)))","v":""},{"$f":"IF(F24=\"\",\"\",IF(H10=\"\",\"\",IF(H10=3,M19,\"\")))","v":""}]
[null,"C",{"$f":"IF(H10=\"\",\"\",IF(H10=4,IF(D15=\"\",\"\",IF(D15<E15,$L$5,$L$4)),IF(L15=\"\",\"\",IF(L15<K15,$L$5,$L$4))))","v":""},{"$f":"IF(H10=\"\",\"\",IF(H10=4,IF(E16=\"\",\"\",IF(E16<D16,$L$5,$L$4)),IF(L16=\"\",\"\",IF(L16<K16,$L$5,$L$4))))","v":""},{"$f":"IF(H10=\"\",\"\",IF(H10=4,IF(E19=\"\",\"\",IF(E19<D19,$L$5,$L$4)),IF(L18=\"\",\"\",IF(L18<K18,$L$5,$L$4))))","v":""},{"$f":"IF(H10=\"\",\"\",IF(H10=4,\"\",IF(L19=\"\",\"\",IF(L19<K19,$L$5,$L$4))))","v":""},{"$f":"IF(H10=\"\",\"\",IF(H10=4,SUM(D15,E16,E19),SUM(L15,L16,L18,L19)))","v":0},{"$f":"IF(H10=\"\",\"\",IF(H10=4,SUM(E15,D16,D19),SUM(K15,K16,K18,K19)))","v":0},null,"C",{"$f":"IF(C25=\"\",\"\",IF(H10=\"\",\"\",IF(H10=3,N15,F15)))","v":""},{"$f":"IF(D25=\"\",\"\",IF(H10=\"\",\"\",IF(H10=3,N16,G16)))","v":""},{"$f":"IF(E25=\"\",\"\",IF(H10=\"\",\"\",IF(H10=3,N18,G19)))","v":""},{"$f":"IF(F25=\"\",\"\",IF(H10=\"\",\"\",IF(H10=3,N19,\"\")))","v":""}]
[null,"D",{"$f":"IF(H10=\"\",\"\",IF(H10=3,\"\",IF(E15=\"\",\"\",IF(E15<D15,$L$5,$L$4))))","v":""},{"$f":"IF(H10=\"\",\"\",IF(H10=3,\"\",IF(E17=\"\",\"\",IF(E17<D17,$L$5,$L$4))))","v":""},{"$f":"IF(H10=\"\",\"\",IF(H10=3,\"\",IF(E18=\"\",\"\",IF(E18<D18,$L$5,$L$4))))","v":""},{"$f":"IF(H10=\"\",\"\",IF(H10=4,\"\",IF(K19=\"\",\"\",\"\")))","v":""},{"$f":"IF(H10=\"\",\"\",IF(H10=4,SUM(E15,E17,E18),\"\"))","v":""},{"$f":"IF(H10=\"\",\"\",IF(H10=4,SUM(D15,D17,D18),\"\"))","v":""},null,"D",{"$f":"IF(C26=\"\",\"\",IF(H10=\"\",\"\",IF(H10=3,\"\",G15)))","v":""},{"$f":"IF(D26=\"\",\"\",IF(H10=\"\",\"\",IF(H10=3,\"\",G17)))","v":""},{"$f":"IF(E26=\"\",\"\",IF(H10=\"\",\"\",IF(H10=3,\"\",G18)))","v":""},{"$f":"IF(F26=\"\",\"\",IF(H10=\"\",\"\",IF(H10=3,\"\",\"\")))","v":""}]
[]
[]
[null,null,null,null,null,null,"Points",null,"Différence de Points",null,null,null,"Place",null,"Classement"]
[null,null,null,null,null,null,null,null,null,null,null,null,"Pts","Diff."]
[null,null,{"$f":"D4","v":""},null,null,{"$f":"D4","v":""},{"$f":"IF(C23=\"\",\"\",IF(F31=\"\",\"\",SUM(C23,D23,E23,F23)))","v":""},null,null,{"$f":"IF(C23=\"\",\"\",IF(F31=\"\",\"\",G23-H23))","v":""},null,null,{"$f":"IF(G31=\"\",\"\",IF(H10=3,RANK(G31,$G$31:$G$33),RANK(G31,$G$31:$G$34)))","v":""},{"$f":"IF(J31=\"\",\"\",IF(H10=3,RANK(J31,$J$31:$J$33)/10,RANK(J31,$J$31:$J$34)/10))","v":""},{"$f":"IF(G31=\"\",\"\",IF(H10=3,RANK(Q31,$Q$31:$GQ$33,1),RANK(Q31,$Q$31:$Q$34,1)))","v":""},null,{"$f":"M31+N31","v":{"$error":"#VALUE!"}}]
[null,null,{"$f":"D5","v":""},null,null,{"$f":"D5","v":""},{"$f":"IF(C24=\"\",\"\",IF(F32=\"\",\"\",SUM(C24,D24,E24,F24)))","v":""},null,null,{"$f":"IF(C24=\"\",\"\",IF(F32=\"\",\"\",G24-H24))","v":""},null,null,{"$f":"IF(G32=\"\",\"\",IF(H11=3,RANK(G32,$G$31:$G$33),RANK(G32,$G$31:$G$34)))","v":""},{"$f":"IF(J32=\"\",\"\",IF(H11=3,RANK(J32,$J$31:$J$33)/10,RANK(J32,$J$31:$J$34)/10))","v":""},{"$f":"IF(G32=\"\",\"\",IF(H10=3,RANK(Q32,$Q$31:$GQ$33,1),RANK(Q32,$Q$31:$Q$34,1)))","v":""},null,{"$f":"M32+N32","v":{"$error":"#VALUE!"}}]
[null,null,{"$f":"D6","v":""},null,null,{"$f":"D6","v":""},{"$f":"IF(C25=\"\",\"\",IF(F33=\"\",\"\",SUM(C25,D25,E25,F25)))","v":""},null,null,{"$f":"IF(C25=\"\",\"\",IF(F33=\"\",\"\",G25-H25))","v":""},null,null,{"$f":"IF(G33=\"\",\"\",IF(H12=3,RANK(G33,$G$31:$G$33),RANK(G33,$G$31:$G$34)))","v":""},{"$f":"IF(J33=\"\",\"\",IF(H12=3,RANK(J33,$J$31:$J$33)/10,RANK(J33,$J$31:$J$34)/10))","v":""},{"$f":"IF(G33=\"\",\"\",IF(H10=3,RANK(Q33,$Q$31:$GQ$33,1),RANK(Q33,$Q$31:$Q$34,1)))","v":""},null,{"$f":"M33+N33","v":{"$error":"#VALUE!"}}]
[null,null,{"$f":"IF(H10=3,\"\",D7)","v":""},null,null,{"$f":"IF(H10=3,\"\",D7)","v":""},{"$f":"IF(C26=\"\",\"\",IF(F34=\"\",\"\",SUM(C26,D26,E26,F26)))","v":""},null,null,{"$f":"IF(C26=\"\",\"\",IF(F34=\"\",\"\",G26-H26))","v":""},null,null,{"$f":"IF(G34=\"\",\"\",IF(H13=3,RANK(G34,$G$31:$G$33),RANK(G34,$G$31:$G$34)))","v":""},{"$f":"IF(J34=\"\",\"\",IF(H13=3,RANK(J34,$J$31:$J$33)/10,RANK(J34,$J$31:$J$34)/10))","v":""},{"$f":"IF(G34=\"\",\"\",IF(H10=3,RANK(Q34,$Q$31:$GQ$33,1),RANK(Q34,$Q$31:$Q$34,1)))","v":""},null,{"$f":"M34+N34","v":{"$error":"#VALUE!"}}]

{"sheet":"T10","index":15,"n_rows":34,"n_cols":17,"rows_kept":34,"cut":false,"hidden":false,"merged":[[30,2,30,4],[31,2,31,4],[32,2,32,4],[33,2,33,4],[0,1,0,2],[11,1,11,6],[12,3,12,4],[12,5,12,6],[12,1,12,2],[33,6,33,7],[28,6,29,7],[32,6,32,7],[30,6,30,7],[31,6,31,7],[12,12,12,13],[28,12,28,13],[28,8,29,11],[2,2,2,4],[11,8,11,13],[12,10,12,11],[12,8,12,9],[3,3,3,7],[4,3,4,7],[5,3,5,7],[6,3,6,7]]}
[null,"TERRAIN/TABLE",null,10]
[]
[null,null,"Joueurs/Equipes"]
[101,null,"A",{"$f":"IF(Tournoi!T5=\"zzz\",\"\",Tournoi!T5)","v":""},null,null,null,null,null,null,"Victoire",3,"Pts"]
[102,null,"B",{"$f":"IF(Tournoi!T6=\"zzz\",\"\",Tournoi!T6)","v":""},null,null,null,null,null,null,"Défaite",1,"Pt"]
[103,null,"C",{"$f":"IF(Tournoi!T7=\"zzz\",\"\",Tournoi!T7)","v":""}]
[104,null,"D",{"$f":"IF(Tournoi!T8=\"zzz\",\"\",Tournoi!T8)","v":""}]
[]
[]
[null,null,null,null,"Poule de",null,null,{"$f":"Tournoi!K29","v":0},"Joueurs/Equipes"]
[]
[null,{"$f":"IF($H$10=4,\"Poule de 4\",\"\")","v":""},null,null,null,null,null,null,{"$f":"IF($H$10=3,\"Poule de 3\",\"\")","v":""}]
[null,{"$f":"IF($H$10=4,\"Rencontres\",\"\")","v":""},null,{"$f":"IF($H$10=4,\"Scores\",\"\")","v":""},null,{"$f":"IF($H$10=4,\"Contrats\",\"\")","v":""},null,null,{"$f":"IF($H$10=3,\"Rencontres\",\"\")","v":""},null,{"$f":"IF($H$10=3,\"Scores\",\"\")","v":""},null,{"$f":"IF($H$10=3,\"Contrats\",\"\")","v":""}]
[null,{"$f":"IF(H10=4,D4,\"\")","v":""},{"$f":"IF(H10=4,D5,\"\")","v":""},null,null,null,null,null,{"$f":"IF($H$10=4,\"\",D4)","v":""},{"$f":"IF($H$10=4,\"\",D5)","v":""}]
[null,{"$f":"IF(H10=4,D6,\"\")","v":""},{"$f":"IF(H10=4,D7,\"\")","v":""},null,null,null,null,null,{"$f":"IF($H$10=4,\"\",D4)","v":""},{"$f":"IF($H$10=4,\"\",D6)","v":""}]
[null,{"$f":"IF(H10=4,D4,\"\")","v":""},{"$f":"IF(H10=4,D6,\"\")","v":""},null,null,null,null,null,{"$f":"IF($H$10=4,\"\",D5)","v":""},{"$f":"IF($H$10=4,\"\",D6)","v":""}]
[null,{"$f":"IF(H10=4,D5,\"\")","v":""},{"$f":"IF(H10=4,D7,\"\")","v":""},null,null,null,null,null,{"$f":"IF($H$10=4,\"\",D4)","v":""},{"$f":"IF($H$10=4,\"\",D5)","v":""}]
[null,{"$f":"IF(H10=4,D4,\"\")","v":""},{"$f":"IF(H10=4,D7,\"\")","v":""},null,null,null,null,null,{"$f":"IF($H$10=4,\"\",D4)","v":""},{"$f":"IF($H$10=4,\"\",D6)","v":""}]
[null,{"$f":"IF(H10=4,D5,\"\")","v":""},{"$f":"IF(H10=4,D6,\"\")","v":""},null,null,null,null,null,{"$f":"IF($H$10=4,\"\",D5)","v":""},{"$f":"IF($H$10=4,\"\",D6)","v":""}]
[]
[]
[null,null,"Match1","Match2","Match3","Match4","PP","PC",null,"Contrats","Match1","Match2","Match3","Match4"]
[null,"A",{"$f":"IF(H10=\"\",\"\",IF(H10=4,IF(D14=\"\",\"\",IF(D14<E14,$L$5,$L$4)),IF(K14=\"\",\"\",IF(K14<L14,$L$5,$L$4))))","v":""},{"$f":"IF(H10=\"\",\"\",IF(H10=4,IF(D16=\"\",\"\",IF(D16<E16,$L$5,$L$4)),IF(K15=\"\",\"\",IF(K15<L15,$L$5,$L$4))))","v":""},{"$f":"IF(H10=\"\",\"\",IF(H10=4,IF(D18=\"\",\"\",IF(D18<E18,$L$5,$L$4)),IF(K17=\"\",\"\",IF(K17<L17,$L$5,$L$4))))","v":""},{"$f":"IF(H10=\"\",\"\",IF(H10=4,\"\",IF(K18=\"\",\"\",IF(K18<L18,$L$5,$L$4))))","v":""},{"$f":"IF(H10=\"\",\"\",IF(H10=4,SUM(D14,D16,D18),SUM(K14,K15,K17,K18)))","v":0},{"$f":"IF(H10=\"\",\"\",IF(H10=4,SUM(E14,E16,E18),SUM(L14,L15,L17,L18)))","v":0},null,"A",{"$f":"IF(C23=\"\",\"\",IF(H10=\"\",\"\",IF(H10=3,M14,F14)))","v":""},{"$f":"IF(D23=\"\",\"\",IF(H10=\"\",\"\",IF(H10=3,M15,F16)))","v":""},{"$f":"IF(E23=\"\",\"\",IF(H10=\"\",\"\",IF(H10=3,M17,F18)))","v":""},{"$f":"IF(F23=\"\",\"\",IF(H10=\"\",\"\",IF(H10=3,M18,\"\")))","v":""}]
[null,"B",{"$f":"IF(H10=\"\",\"\",IF(H10=4,IF(E14=\"\",\"\",IF(E14<D14,$L$5,$L$4)),IF(L14=\"\",\"\",IF(L14<K14,$L$5,$L$4))))","v":""},{"$f":"IF(H10=\"\",\"\",IF(H10=4,IF(D17=\"\",\"\",IF(D17<E17,$L$5,$L$4)),IF(K16=\"\",\"\",IF(K16<L16,$L$5,$L$4))))","v":""},{"$f":"IF(H10=\"\",\"\",IF(H10=4,IF(D19=\"\",\"\",IF(D19<E19,$L$5,$L$4)),IF(L17=\"\",\"\",IF(L17<K17,$L$5,$L$4))))","v":""},{"$f":"IF(H10=\"\",\"\",IF(H10=4,\"\",IF(K19=\"\",\"\",IF(K19<L19,$L$5,$L$4))))","v":""},{"$f":"IF(H10=\"\",\"\",IF(H10=4,SUM(E14,D17,D19),SUM(L14,K16,L17,K19)))","v":0},{"$f":"IF(H10=\"\",\"\",IF(H10=4,SUM(D14,D16,D18),SUM(K14,L16,K17,L19)))","v":0},null,"B",{"$f":"IF(C24=\"\",\"\",IF(H10=\"\",\"\",IF(H10=3,N14,G14)))","v":""},{"$f":"IF(D24=\"\",\"\",IF(H10=\"\",\"\",IF(H10=3,M16,F17)))","v":""},{"$f":"IF(E24=\"\",\"\",IF(H10=\"\",\"\",IF(H10=3,N17,F19)))","v":""},{"$f":"IF(F24=\"\",\"\",IF(H10=\"\",\"\",IF(H10=3,M19,\"\")))","v":""}]
[null,"C",{"$f":"IF(H10=\"\",\"\",IF(H10=4,IF(D15=\"\",\"\",IF(D15<E15,$L$5,$L$4)),IF(L15=\"\",\"\",IF(L15<K15,$L$5,$L$4))))","v":""},{"$f":"IF(H10=\"\",\"\",IF(H10=4,IF(E16=\"\",\"\",IF(E16<D16,$L$5,$L$4)),IF(L16=\"\",\"\",IF(L16<K16,$L$5,$L$4))))","v":""},{"$f":"IF(H10=\"\",\"\",IF(H10=4,IF(E19=\"\",\"\",IF(E19<D19,$L$5,$L$4)),IF(L18=\"\",\"\",IF(L18<K18,$L$5,$L$4))))","v":""},{"$f":"IF(H10=\"\",\"\",IF(H10=4,\"\",IF(L19=\"\",\"\",IF(L19<K19,$L$5,$L$4))))","v":""},{"$f":"IF(H10=\"\",\"\",IF(H10=4,SUM(D15,E16,E19),SUM(L15,L16,L18,L19)))","v":0},{"$f":"IF(H10=\"\",\"\",IF(H10=4,SUM(E15,D16,D19),SUM(K15,K16,K18,K19)))","v":0},null,"C",{"$f":"IF(C25=\"\",\"\",IF(H10=\"\",\"\",IF(H10=3,N15,F15)))","v":""},{"$f":"IF(D25=\"\",\"\",IF(H10=\"\",\"\",IF(H10=3,N16,G16)))","v":""},{"$f":"IF(E25=\"\",\"\",IF(H10=\"\",\"\",IF(H10=3,N18,G19)))","v":""},{"$f":"IF(F25=\"\",\"\",IF(H10=\"\",\"\",IF(H10=3,N19,\"\")))","v":""}]
[null,"D",{"$f":"IF(H10=\"\",\"\",IF(H10=3,\"\",IF(E15=\"\",\"\",IF(E15<D15,$L$5,$L$4))))","v":""},{"$f":"IF(H10=\"\",\"\",IF(H10=3,\"\",IF(E17=\"\",\"\",IF(E17<D17,$L$5,$L$4))))","v":""},{"$f":"IF(H10=\"\",\"\",IF(H10=3,\"\",IF(E18=\"\",\"\",IF(E18<D18,$L$5,$L$4))))","v":""},{"$f":"IF(H10=\"\",\"\",IF(H10=4,\"\",IF(K19=\"\",\"\",\"\")))","v":""},{"$f":"IF(H10=\"\",\"\",IF(H10=4,SUM(E15,E17,E18),\"\"))","v":""},{"$f":"IF(H10=\"\",\"\",IF(H10=4,SUM(D15,D17,D18),\"\"))","v":""},null,"D",{"$f":"IF(C26=\"\",\"\",IF(H10=\"\",\"\",IF(H10=3,\"\",G15)))","v":""},{"$f":"IF(D26=\"\",\"\",IF(H10=\"\",\"\",IF(H10=3,\"\",G17)))","v":""},{"$f":"IF(E26=\"\",\"\",IF(H10=\"\",\"\",IF(H10=3,\"\",G18)))","v":""},{"$f":"IF(F26=\"\",\"\",IF(H10=\"\",\"\",IF(H10=3,\"\",\"\")))","v":""}]
[]
[]
[null,null,null,null,null,null,"Points",null,"Différence de Points",null,null,null,"Place",null,"Classement"]
[null,null,null,null,null,null,null,null,null,null,null,null,"Pts","Diff."]
[null,null,{"$f":"D4","v":""},null,null,{"$f":"D4","v":""},{"$f":"IF(C23=\"\",\"\",IF(F31=\"\",\"\",SUM(C23,D23,E23,F23)))","v":""},null,null,{"$f":"IF(C23=\"\",\"\",IF(F31=\"\",\"\",G23-H23))","v":""},null,null,{"$f":"IF(G31=\"\",\"\",IF(H10=3,RANK(G31,$G$31:$G$33),RANK(G31,$G$31:$G$34)))","v":""},{"$f":"IF(J31=\"\",\"\",IF(H10=3,RANK(J31,$J$31:$J$33)/10,RANK(J31,$J$31:$J$34)/10))","v":""},{"$f":"IF(G31=\"\",\"\",IF(H10=3,RANK(Q31,$Q$31:$GQ$33,1),RANK(Q31,$Q$31:$Q$34,1)))","v":""},null,{"$f":"M31+N31","v":{"$error":"#VALUE!"}}]
[null,null,{"$f":"D5","v":""},null,null,{"$f":"D5","v":""},{"$f":"IF(C24=\"\",\"\",IF(F32=\"\",\"\",SUM(C24,D24,E24,F24)))","v":""},null,null,{"$f":"IF(C24=\"\",\"\",IF(F32=\"\",\"\",G24-H24))","v":""},null,null,{"$f":"IF(G32=\"\",\"\",IF(H11=3,RANK(G32,$G$31:$G$33),RANK(G32,$G$31:$G$34)))","v":""},{"$f":"IF(J32=\"\",\"\",IF(H11=3,RANK(J32,$J$31:$J$33)/10,RANK(J32,$J$31:$J$34)/10))","v":""},{"$f":"IF(G32=\"\",\"\",IF(H10=3,RANK(Q32,$Q$31:$GQ$33,1),RANK(Q32,$Q$31:$Q$34,1)))","v":""},null,{"$f":"M32+N32","v":{"$error":"#VALUE!"}}]
[null,null,{"$f":"D6","v":""},null,null,{"$f":"D6","v":""},{"$f":"IF(C25=\"\",\"\",IF(F33=\"\",\"\",SUM(C25,D25,E25,F25)))","v":""},null,null,{"$f":"IF(C25=\"\",\"\",IF(F33=\"\",\"\",G25-H25))","v":""},null,null,{"$f":"IF(G33=\"\",\"\",IF(H12=3,RANK(G33,$G$31:$G$33),RANK(G33,$G$31:$G$34)))","v":""},{"$f":"IF(J33=\"\",\"\",IF(H12=3,RANK(J33,$J$31:$J$33)/10,RANK(J33,$J$31:$J$34)/10))","v":""},{"$f":"IF(G33=\"\",\"\",IF(H10=3,RANK(Q33,$Q$31:$GQ$33,1),RANK(Q33,$Q$31:$Q$34,1)))","v":""},null,{"$f":"M33+N33","v":{"$error":"#VALUE!"}}]
[null,null,{"$f":"IF(H10=3,\"\",D7)","v":""},null,null,{"$f":"IF(H10=3,\"\",D7)","v":""},{"$f":"IF(C26=\"\",\"\",IF(F34=\"\",\"\",SUM(C26,D26,E26,F26)))","v":""},null,null,{"$f":"IF(C26=\"\",\"\",IF(F34=\"\",\"\",G26-H26))","v":""},null,null,{"$f":"IF(G34=\"\",\"\",IF(H13=3,RANK(G34,$G$31:$G$33),RANK(G34,$G$31:$G$34)))","v":""},{"$f":"IF(J34=\"\",\"\",IF(H13=3,RANK(J34,$J$31:$J$33)/10,RANK(J34,$J$31:$J$34)/10))","v":""},{"$f":"IF(G34=\"\",\"\",IF(H10=3,RANK(Q34,$Q$31:$GQ$33,1),RANK(Q34,$Q$31:$Q$34,1)))","v":""},null,{"$f":"M34+N34","v":{"$error":"#VALUE!"}}]

{"sheet":"T11","index":16,"n_rows":34,"n_cols":17,"rows_kept":34,"cut":false,"hidden":false,"merged":[[30,2,30,4],[31,2,31,4],[32,2,32,4],[33,2,33,4],[0,1,0,2],[11,1,11,6],[12,3,12,4],[12,5,12,6],[12,1,12,2],[33,6,33,7],[28,6,29,7],[32,6,32,7],[30,6,30,7],[31,6,31,7],[12,12,12,13],[28,12,28,13],[28,8,29,11],[2,2,2,4],[11,8,11,13],[12,10,12,11],[12,8,12,9],[3,3,3,7],[4,3,4,7],[5,3,5,7],[6,3,6,7]]}
[null,"TERRAIN/TABLE",null,11]
[]
[null,null,"Joueurs/Equipes"]
[111,null,"A",{"$f":"IF(Tournoi!U5=\"zzz\",\"\",Tournoi!U5)","v":""},null,null,null,null,null,null,"Victoire",3,"Pts"]
[112,null,"B",{"$f":"IF(Tournoi!U6=\"zzz\",\"\",Tournoi!U6)","v":""},null,null,null,null,null,null,"Défaite",1,"Pt"]
[113,null,"C",{"$f":"IF(Tournoi!U7=\"zzz\",\"\",Tournoi!U7)","v":""}]
[114,null,"D",{"$f":"IF(Tournoi!U8=\"zzz\",\"\",Tournoi!U8)","v":""}]
[]
[]
[null,null,null,null,"Poule de",null,null,{"$f":"Tournoi!K30","v":0},"Joueurs/Equipes"]
[]
[null,{"$f":"IF($H$10=4,\"Poule de 4\",\"\")","v":""},null,null,null,null,null,null,{"$f":"IF($H$10=3,\"Poule de 3\",\"\")","v":""}]
[null,{"$f":"IF($H$10=4,\"Rencontres\",\"\")","v":""},null,{"$f":"IF($H$10=4,\"Scores\",\"\")","v":""},null,{"$f":"IF($H$10=4,\"Contrats\",\"\")","v":""},null,null,{"$f":"IF($H$10=3,\"Rencontres\",\"\")","v":""},null,{"$f":"IF($H$10=3,\"Scores\",\"\")","v":""},null,{"$f":"IF($H$10=3,\"Contrats\",\"\")","v":""}]
[null,{"$f":"IF(H10=4,D4,\"\")","v":""},{"$f":"IF(H10=4,D5,\"\")","v":""},null,null,null,null,null,{"$f":"IF($H$10=4,\"\",D4)","v":""},{"$f":"IF($H$10=4,\"\",D5)","v":""}]
[null,{"$f":"IF(H10=4,D6,\"\")","v":""},{"$f":"IF(H10=4,D7,\"\")","v":""},null,null,null,null,null,{"$f":"IF($H$10=4,\"\",D4)","v":""},{"$f":"IF($H$10=4,\"\",D6)","v":""}]
[null,{"$f":"IF(H10=4,D4,\"\")","v":""},{"$f":"IF(H10=4,D6,\"\")","v":""},null,null,null,null,null,{"$f":"IF($H$10=4,\"\",D5)","v":""},{"$f":"IF($H$10=4,\"\",D6)","v":""}]
[null,{"$f":"IF(H10=4,D5,\"\")","v":""},{"$f":"IF(H10=4,D7,\"\")","v":""},null,null,null,null,null,{"$f":"IF($H$10=4,\"\",D4)","v":""},{"$f":"IF($H$10=4,\"\",D5)","v":""}]
[null,{"$f":"IF(H10=4,D4,\"\")","v":""},{"$f":"IF(H10=4,D7,\"\")","v":""},null,null,null,null,null,{"$f":"IF($H$10=4,\"\",D4)","v":""},{"$f":"IF($H$10=4,\"\",D6)","v":""}]
[null,{"$f":"IF(H10=4,D5,\"\")","v":""},{"$f":"IF(H10=4,D6,\"\")","v":""},null,null,null,null,null,{"$f":"IF($H$10=4,\"\",D5)","v":""},{"$f":"IF($H$10=4,\"\",D6)","v":""}]
[]
[]
[null,null,"Match1","Match2","Match3","Match4","PP","PC",null,"Contrats","Match1","Match2","Match3","Match4"]
[null,"A",{"$f":"IF(H10=\"\",\"\",IF(H10=4,IF(D14=\"\",\"\",IF(D14<E14,$L$5,$L$4)),IF(K14=\"\",\"\",IF(K14<L14,$L$5,$L$4))))","v":""},{"$f":"IF(H10=\"\",\"\",IF(H10=4,IF(D16=\"\",\"\",IF(D16<E16,$L$5,$L$4)),IF(K15=\"\",\"\",IF(K15<L15,$L$5,$L$4))))","v":""},{"$f":"IF(H10=\"\",\"\",IF(H10=4,IF(D18=\"\",\"\",IF(D18<E18,$L$5,$L$4)),IF(K17=\"\",\"\",IF(K17<L17,$L$5,$L$4))))","v":""},{"$f":"IF(H10=\"\",\"\",IF(H10=4,\"\",IF(K18=\"\",\"\",IF(K18<L18,$L$5,$L$4))))","v":""},{"$f":"IF(H10=\"\",\"\",IF(H10=4,SUM(D14,D16,D18),SUM(K14,K15,K17,K18)))","v":0},{"$f":"IF(H10=\"\",\"\",IF(H10=4,SUM(E14,E16,E18),SUM(L14,L15,L17,L18)))","v":0},null,"A",{"$f":"IF(C23=\"\",\"\",IF(H10=\"\",\"\",IF(H10=3,M14,F14)))","v":""},{"$f":"IF(D23=\"\",\"\",IF(H10=\"\",\"\",IF(H10=3,M15,F16)))","v":""},{"$f":"IF(E23=\"\",\"\",IF(H10=\"\",\"\",IF(H10=3,M17,F18)))","v":""},{"$f":"IF(F23=\"\",\"\",IF(H10=\"\",\"\",IF(H10=3,M18,\"\")))","v":""}]
[null,"B",{"$f":"IF(H10=\"\",\"\",IF(H10=4,IF(E14=\"\",\"\",IF(E14<D14,$L$5,$L$4)),IF(L14=\"\",\"\",IF(L14<K14,$L$5,$L$4))))","v":""},{"$f":"IF(H10=\"\",\"\",IF(H10=4,IF(D17=\"\",\"\",IF(D17<E17,$L$5,$L$4)),IF(K16=\"\",\"\",IF(K16<L16,$L$5,$L$4))))","v":""},{"$f":"IF(H10=\"\",\"\",IF(H10=4,IF(D19=\"\",\"\",IF(D19<E19,$L$5,$L$4)),IF(L17=\"\",\"\",IF(L17<K17,$L$5,$L$4))))","v":""},{"$f":"IF(H10=\"\",\"\",IF(H10=4,\"\",IF(K19=\"\",\"\",IF(K19<L19,$L$5,$L$4))))","v":""},{"$f":"IF(H10=\"\",\"\",IF(H10=4,SUM(E14,D17,D19),SUM(L14,K16,L17,K19)))","v":0},{"$f":"IF(H10=\"\",\"\",IF(H10=4,SUM(D14,D16,D18),SUM(K14,L16,K17,L19)))","v":0},null,"B",{"$f":"IF(C24=\"\",\"\",IF(H10=\"\",\"\",IF(H10=3,N14,G14)))","v":""},{"$f":"IF(D24=\"\",\"\",IF(H10=\"\",\"\",IF(H10=3,M16,F17)))","v":""},{"$f":"IF(E24=\"\",\"\",IF(H10=\"\",\"\",IF(H10=3,N17,F19)))","v":""},{"$f":"IF(F24=\"\",\"\",IF(H10=\"\",\"\",IF(H10=3,M19,\"\")))","v":""}]
[null,"C",{"$f":"IF(H10=\"\",\"\",IF(H10=4,IF(D15=\"\",\"\",IF(D15<E15,$L$5,$L$4)),IF(L15=\"\",\"\",IF(L15<K15,$L$5,$L$4))))","v":""},{"$f":"IF(H10=\"\",\"\",IF(H10=4,IF(E16=\"\",\"\",IF(E16<D16,$L$5,$L$4)),IF(L16=\"\",\"\",IF(L16<K16,$L$5,$L$4))))","v":""},{"$f":"IF(H10=\"\",\"\",IF(H10=4,IF(E19=\"\",\"\",IF(E19<D19,$L$5,$L$4)),IF(L18=\"\",\"\",IF(L18<K18,$L$5,$L$4))))","v":""},{"$f":"IF(H10=\"\",\"\",IF(H10=4,\"\",IF(L19=\"\",\"\",IF(L19<K19,$L$5,$L$4))))","v":""},{"$f":"IF(H10=\"\",\"\",IF(H10=4,SUM(D15,E16,E19),SUM(L15,L16,L18,L19)))","v":0},{"$f":"IF(H10=\"\",\"\",IF(H10=4,SUM(E15,D16,D19),SUM(K15,K16,K18,K19)))","v":0},null,"C",{"$f":"IF(C25=\"\",\"\",IF(H10=\"\",\"\",IF(H10=3,N15,F15)))","v":""},{"$f":"IF(D25=\"\",\"\",IF(H10=\"\",\"\",IF(H10=3,N16,G16)))","v":""},{"$f":"IF(E25=\"\",\"\",IF(H10=\"\",\"\",IF(H10=3,N18,G19)))","v":""},{"$f":"IF(F25=\"\",\"\",IF(H10=\"\",\"\",IF(H10=3,N19,\"\")))","v":""}]
[null,"D",{"$f":"IF(H10=\"\",\"\",IF(H10=3,\"\",IF(E15=\"\",\"\",IF(E15<D15,$L$5,$L$4))))","v":""},{"$f":"IF(H10=\"\",\"\",IF(H10=3,\"\",IF(E17=\"\",\"\",IF(E17<D17,$L$5,$L$4))))","v":""},{"$f":"IF(H10=\"\",\"\",IF(H10=3,\"\",IF(E18=\"\",\"\",IF(E18<D18,$L$5,$L$4))))","v":""},{"$f":"IF(H10=\"\",\"\",IF(H10=4,\"\",IF(K19=\"\",\"\",\"\")))","v":""},{"$f":"IF(H10=\"\",\"\",IF(H10=4,SUM(E15,E17,E18),\"\"))","v":""},{"$f":"IF(H10=\"\",\"\",IF(H10=4,SUM(D15,D17,D18),\"\"))","v":""},null,"D",{"$f":"IF(C26=\"\",\"\",IF(H10=\"\",\"\",IF(H10=3,\"\",G15)))","v":""},{"$f":"IF(D26=\"\",\"\",IF(H10=\"\",\"\",IF(H10=3,\"\",G17)))","v":""},{"$f":"IF(E26=\"\",\"\",IF(H10=\"\",\"\",IF(H10=3,\"\",G18)))","v":""},{"$f":"IF(F26=\"\",\"\",IF(H10=\"\",\"\",IF(H10=3,\"\",\"\")))","v":""}]
[]
[]
[null,null,null,null,null,null,"Points",null,"Différence de Points",null,null,null,"Place",null,"Classement"]
[null,null,null,null,null,null,null,null,null,null,null,null,"Pts","Diff."]
[null,null,{"$f":"D4","v":""},null,null,{"$f":"D4","v":""},{"$f":"IF(C23=\"\",\"\",IF(F31=\"\",\"\",SUM(C23,D23,E23,F23)))","v":""},null,null,{"$f":"IF(C23=\"\",\"\",IF(F31=\"\",\"\",G23-H23))","v":""},null,null,{"$f":"IF(G31=\"\",\"\",IF(H10=3,RANK(G31,$G$31:$G$33),RANK(G31,$G$31:$G$34)))","v":""},{"$f":"IF(J31=\"\",\"\",IF(H10=3,RANK(J31,$J$31:$J$33)/10,RANK(J31,$J$31:$J$34)/10))","v":""},{"$f":"IF(G31=\"\",\"\",IF(H10=3,RANK(Q31,$Q$31:$GQ$33,1),RANK(Q31,$Q$31:$Q$34,1)))","v":""},null,{"$f":"M31+N31","v":{"$error":"#VALUE!"}}]
[null,null,{"$f":"D5","v":""},null,null,{"$f":"D5","v":""},{"$f":"IF(C24=\"\",\"\",IF(F32=\"\",\"\",SUM(C24,D24,E24,F24)))","v":""},null,null,{"$f":"IF(C24=\"\",\"\",IF(F32=\"\",\"\",G24-H24))","v":""},null,null,{"$f":"IF(G32=\"\",\"\",IF(H11=3,RANK(G32,$G$31:$G$33),RANK(G32,$G$31:$G$34)))","v":""},{"$f":"IF(J32=\"\",\"\",IF(H11=3,RANK(J32,$J$31:$J$33)/10,RANK(J32,$J$31:$J$34)/10))","v":""},{"$f":"IF(G32=\"\",\"\",IF(H10=3,RANK(Q32,$Q$31:$GQ$33,1),RANK(Q32,$Q$31:$Q$34,1)))","v":""},null,{"$f":"M32+N32","v":{"$error":"#VALUE!"}}]
[null,null,{"$f":"D6","v":""},null,null,{"$f":"D6","v":""},{"$f":"IF(C25=\"\",\"\",IF(F33=\"\",\"\",SUM(C25,D25,E25,F25)))","v":""},null,null,{"$f":"IF(C25=\"\",\"\",IF(F33=\"\",\"\",G25-H25))","v":""},null,null,{"$f":"IF(G33=\"\",\"\",IF(H12=3,RANK(G33,$G$31:$G$33),RANK(G33,$G$31:$G$34)))","v":""},{"$f":"IF(J33=\"\",\"\",IF(H12=3,RANK(J33,$J$31:$J$33)/10,RANK(J33,$J$31:$J$34)/10))","v":""},{"$f":"IF(G33=\"\",\"\",IF(H10=3,RANK(Q33,$Q$31:$GQ$33,1),RANK(Q33,$Q$31:$Q$34,1)))","v":""},null,{"$f":"M33+N33","v":{"$error":"#VALUE!"}}]
[null,null,{"$f":"IF(H10=3,\"\",D7)","v":""},null,null,{"$f":"IF(H10=3,\"\",D7)","v":""},{"$f":"IF(C26=\"\",\"\",IF(F34=\"\",\"\",SUM(C26,D26,E26,F26)))","v":""},null,null,{"$f":"IF(C26=\"\",\"\",IF(F34=\"\",\"\",G26-H26))","v":""},null,null,{"$f":"IF(G34=\"\",\"\",IF(H13=3,RANK(G34,$G$31:$G$33),RANK(G34,$G$31:$G$34)))","v":""},{"$f":"IF(J34=\"\",\"\",IF(H13=3,RANK(J34,$J$31:$J$33)/10,RANK(J34,$J$31:$J$34)/10))","v":""},{"$f":"IF(G34=\"\",\"\",IF(H10=3,RANK(Q34,$Q$31:$GQ$33,1),RANK(Q34,$Q$31:$Q$34,1)))","v":""},null,{"$f":"M34+N34","v":{"$error":"#VALUE!"}}]

{"sheet":"T12","index":17,"n_rows":34,"n_cols":17,"rows_kept":34,"cut":false,"hidden":false,"merged":[[28,14,29,14],[28,12,28,13],[30,6,30,7],[28,8,29,11],[30,2,30,4],[31,2,31,4],[32,2,32,4],[33,2,33,4],[6,3,6,7],[33,6,33,7],[28,6,29,7],[31,6,31,7],[32,6,32,7],[0,1,0,2],[11,1,11,6],[11,8,11,13],[12,3,12,4],[12,5,12,6],[12,10,12,11],[2,2,2,4],[12,1,12,2],[12,12,12,13],[12,8,12,9],[3,3,3,7],[4,3,4,7],[5,3,5,7]]}
[null,"TERRAIN/TABLE",null,12]
[]
[null,null,"Joueurs/Equipes"]
[121,null,"A",{"$f":"IF(Tournoi!V5=\"zzz\",\"\",Tournoi!V5)","v":""},null,null,null,null,null,null,"Victoire",3,"Pts"]
[122,null,"B",{"$f":"IF(Tournoi!V6=\"zzz\",\"\",Tournoi!V6)","v":""},null,null,null,null,null,null,"Défaite",1,"Pt"]
[123,null,"C",{"$f":"IF(Tournoi!V7=\"zzz\",\"\",Tournoi!V7)","v":""}]
[124,null,"D",{"$f":"IF(Tournoi!V8=\"zzz\",\"\",Tournoi!V8)","v":""}]
[]
[]
[null,null,null,null,"Poule de",null,null,{"$f":"Tournoi!K31","v":0},"Joueurs/Equipes"]
[]
[null,{"$f":"IF($H$10=4,\"Poule de 4\",\"\")","v":""},null,null,null,null,null,null,{"$f":"IF($H$10=3,\"Poule de 3\",\"\")","v":""}]
[null,{"$f":"IF($H$10=4,\"Rencontres\",\"\")","v":""},null,{"$f":"IF($H$10=4,\"Scores\",\"\")","v":""},null,{"$f":"IF($H$10=4,\"Contrats\",\"\")","v":""},null,null,{"$f":"IF($H$10=3,\"Rencontres\",\"\")","v":""},null,{"$f":"IF($H$10=3,\"Scores\",\"\")","v":""},null,{"$f":"IF($H$10=3,\"Contrats\",\"\")","v":""}]
[null,{"$f":"IF(H10=4,D4,\"\")","v":""},{"$f":"IF(H10=4,D5,\"\")","v":""},null,null,null,null,null,{"$f":"IF($H$10=4,\"\",D4)","v":""},{"$f":"IF($H$10=4,\"\",D5)","v":""}]
[null,{"$f":"IF(H10=4,D6,\"\")","v":""},{"$f":"IF(H10=4,D7,\"\")","v":""},null,null,null,null,null,{"$f":"IF($H$10=4,\"\",D4)","v":""},{"$f":"IF($H$10=4,\"\",D6)","v":""}]
[null,{"$f":"IF(H10=4,D4,\"\")","v":""},{"$f":"IF(H10=4,D6,\"\")","v":""},null,null,null,null,null,{"$f":"IF($H$10=4,\"\",D5)","v":""},{"$f":"IF($H$10=4,\"\",D6)","v":""}]
[null,{"$f":"IF(H10=4,D5,\"\")","v":""},{"$f":"IF(H10=4,D7,\"\")","v":""},null,null,null,null,null,{"$f":"IF($H$10=4,\"\",D4)","v":""},{"$f":"IF($H$10=4,\"\",D5)","v":""}]
[null,{"$f":"IF(H10=4,D4,\"\")","v":""},{"$f":"IF(H10=4,D7,\"\")","v":""},null,null,null,null,null,{"$f":"IF($H$10=4,\"\",D4)","v":""},{"$f":"IF($H$10=4,\"\",D6)","v":""}]
[null,{"$f":"IF(H10=4,D5,\"\")","v":""},{"$f":"IF(H10=4,D6,\"\")","v":""},null,null,null,null,null,{"$f":"IF($H$10=4,\"\",D5)","v":""},{"$f":"IF($H$10=4,\"\",D6)","v":""}]
[]
[]
[null,null,"Match1","Match2","Match3","Match4","PP","PC",null,"Contrats","Match1","Match2","Match3","Match4"]
[null,"A",{"$f":"IF(H10=\"\",\"\",IF(H10=4,IF(D14=\"\",\"\",IF(D14<E14,$L$5,$L$4)),IF(K14=\"\",\"\",IF(K14<L14,$L$5,$L$4))))","v":""},{"$f":"IF(H10=\"\",\"\",IF(H10=4,IF(D16=\"\",\"\",IF(D16<E16,$L$5,$L$4)),IF(K15=\"\",\"\",IF(K15<L15,$L$5,$L$4))))","v":""},{"$f":"IF(H10=\"\",\"\",IF(H10=4,IF(D18=\"\",\"\",IF(D18<E18,$L$5,$L$4)),IF(K17=\"\",\"\",IF(K17<L17,$L$5,$L$4))))","v":""},{"$f":"IF(H10=\"\",\"\",IF(H10=4,\"\",IF(K18=\"\",\"\",IF(K18<L18,$L$5,$L$4))))","v":""},{"$f":"IF(H10=\"\",\"\",IF(H10=4,SUM(D14,D16,D18),SUM(K14,K15,K17,K18)))","v":0},{"$f":"IF(H10=\"\",\"\",IF(H10=4,SUM(E14,E16,E18),SUM(L14,L15,L17,L18)))","v":0},null,"A",{"$f":"IF(C23=\"\",\"\",IF(H10=\"\",\"\",IF(H10=3,M14,F14)))","v":""},{"$f":"IF(D23=\"\",\"\",IF(H10=\"\",\"\",IF(H10=3,M15,F16)))","v":""},{"$f":"IF(E23=\"\",\"\",IF(H10=\"\",\"\",IF(H10=3,M17,F18)))","v":""},{"$f":"IF(F23=\"\",\"\",IF(H10=\"\",\"\",IF(H10=3,M18,\"\")))","v":""}]
[null,"B",{"$f":"IF(H10=\"\",\"\",IF(H10=4,IF(E14=\"\",\"\",IF(E14<D14,$L$5,$L$4)),IF(L14=\"\",\"\",IF(L14<K14,$L$5,$L$4))))","v":""},{"$f":"IF(H10=\"\",\"\",IF(H10=4,IF(D17=\"\",\"\",IF(D17<E17,$L$5,$L$4)),IF(K16=\"\",\"\",IF(K16<L16,$L$5,$L$4))))","v":""},{"$f":"IF(H10=\"\",\"\",IF(H10=4,IF(D19=\"\",\"\",IF(D19<E19,$L$5,$L$4)),IF(L17=\"\",\"\",IF(L17<K17,$L$5,$L$4))))","v":""},{"$f":"IF(H10=\"\",\"\",IF(H10=4,\"\",IF(K19=\"\",\"\",IF(K19<L19,$L$5,$L$4))))","v":""},{"$f":"IF(H10=\"\",\"\",IF(H10=4,SUM(E14,D17,D19),SUM(L14,K16,L17,K19)))","v":0},{"$f":"IF(H10=\"\",\"\",IF(H10=4,SUM(D14,D16,D18),SUM(K14,L16,K17,L19)))","v":0},null,"B",{"$f":"IF(C24=\"\",\"\",IF(H10=\"\",\"\",IF(H10=3,N14,G14)))","v":""},{"$f":"IF(D24=\"\",\"\",IF(H10=\"\",\"\",IF(H10=3,M16,F17)))","v":""},{"$f":"IF(E24=\"\",\"\",IF(H10=\"\",\"\",IF(H10=3,N17,F19)))","v":""},{"$f":"IF(F24=\"\",\"\",IF(H10=\"\",\"\",IF(H10=3,M19,\"\")))","v":""}]
[null,"C",{"$f":"IF(H10=\"\",\"\",IF(H10=4,IF(D15=\"\",\"\",IF(D15<E15,$L$5,$L$4)),IF(L15=\"\",\"\",IF(L15<K15,$L$5,$L$4))))","v":""},{"$f":"IF(H10=\"\",\"\",IF(H10=4,IF(E16=\"\",\"\",IF(E16<D16,$L$5,$L$4)),IF(L16=\"\",\"\",IF(L16<K16,$L$5,$L$4))))","v":""},{"$f":"IF(H10=\"\",\"\",IF(H10=4,IF(E19=\"\",\"\",IF(E19<D19,$L$5,$L$4)),IF(L18=\"\",\"\",IF(L18<K18,$L$5,$L$4))))","v":""},{"$f":"IF(H10=\"\",\"\",IF(H10=4,\"\",IF(L19=\"\",\"\",IF(L19<K19,$L$5,$L$4))))","v":""},{"$f":"IF(H10=\"\",\"\",IF(H10=4,SUM(D15,E16,E19),SUM(L15,L16,L18,L19)))","v":0},{"$f":"IF(H10=\"\",\"\",IF(H10=4,SUM(E15,D16,D19),SUM(K15,K16,K18,K19)))","v":0},null,"C",{"$f":"IF(C25=\"\",\"\",IF(H10=\"\",\"\",IF(H10=3,N15,F15)))","v":""},{"$f":"IF(D25=\"\",\"\",IF(H10=\"\",\"\",IF(H10=3,N16,G16)))","v":""},{"$f":"IF(E25=\"\",\"\",IF(H10=\"\",\"\",IF(H10=3,N18,G19)))","v":""},{"$f":"IF(F25=\"\",\"\",IF(H10=\"\",\"\",IF(H10=3,N19,\"\")))","v":""}]
[null,"D",{"$f":"IF(H10=\"\",\"\",IF(H10=3,\"\",IF(E15=\"\",\"\",IF(E15<D15,$L$5,$L$4))))","v":""},{"$f":"IF(H10=\"\",\"\",IF(H10=3,\"\",IF(E17=\"\",\"\",IF(E17<D17,$L$5,$L$4))))","v":""},{"$f":"IF(H10=\"\",\"\",IF(H10=3,\"\",IF(E18=\"\",\"\",IF(E18<D18,$L$5,$L$4))))","v":""},{"$f":"IF(H10=\"\",\"\",IF(H10=4,\"\",IF(K19=\"\",\"\",\"\")))","v":""},{"$f":"IF(H10=\"\",\"\",IF(H10=4,SUM(E15,E17,E18),\"\"))","v":""},{"$f":"IF(H10=\"\",\"\",IF(H10=4,SUM(D15,D17,D18),\"\"))","v":""},null,"D",{"$f":"IF(C26=\"\",\"\",IF(H10=\"\",\"\",IF(H10=3,\"\",G15)))","v":""},{"$f":"IF(D26=\"\",\"\",IF(H10=\"\",\"\",IF(H10=3,\"\",G17)))","v":""},{"$f":"IF(E26=\"\",\"\",IF(H10=\"\",\"\",IF(H10=3,\"\",G18)))","v":""},{"$f":"IF(F26=\"\",\"\",IF(H10=\"\",\"\",IF(H10=3,\"\",\"\")))","v":""}]
[]
[]
[null,null,null,null,null,null,"Points",null,"Différence de Points",null,null,null,"Place",null,"Classement"]
[null,null,null,null,null,null,null,null,null,null,null,null,"Pts","Diff."]
[null,null,{"$f":"D4","v":""},null,null,{"$f":"D4","v":""},{"$f":"IF(C23=\"\",\"\",IF(F31=\"\",\"\",SUM(C23,D23,E23,F23)))","v":""},null,null,{"$f":"IF(C23=\"\",\"\",IF(F31=\"\",\"\",G23-H23))","v":""},null,null,{"$f":"IF(G31=\"\",\"\",IF(H10=3,RANK(G31,$G$31:$G$33),RANK(G31,$G$31:$G$34)))","v":""},{"$f":"IF(J31=\"\",\"\",IF(H10=3,RANK(J31,$J$31:$J$33)/10,RANK(J31,$J$31:$J$34)/10))","v":""},{"$f":"IF(G31=\"\",\"\",IF(H10=3,RANK(Q31,$Q$31:$GQ$33,1),RANK(Q31,$Q$31:$Q$34,1)))","v":""},null,{"$f":"M31+N31","v":{"$error":"#VALUE!"}}]
[null,null,{"$f":"D5","v":""},null,null,{"$f":"D5","v":""},{"$f":"IF(C24=\"\",\"\",IF(F32=\"\",\"\",SUM(C24,D24,E24,F24)))","v":""},null,null,{"$f":"IF(C24=\"\",\"\",IF(F32=\"\",\"\",G24-H24))","v":""},null,null,{"$f":"IF(G32=\"\",\"\",IF(H11=3,RANK(G32,$G$31:$G$33),RANK(G32,$G$31:$G$34)))","v":""},{"$f":"IF(J32=\"\",\"\",IF(H11=3,RANK(J32,$J$31:$J$33)/10,RANK(J32,$J$31:$J$34)/10))","v":""},{"$f":"IF(G32=\"\",\"\",IF(H10=3,RANK(Q32,$Q$31:$GQ$33,1),RANK(Q32,$Q$31:$Q$34,1)))","v":""},null,{"$f":"M32+N32","v":{"$error":"#VALUE!"}}]
[null,null,{"$f":"D6","v":""},null,null,{"$f":"D6","v":""},{"$f":"IF(C25=\"\",\"\",IF(F33=\"\",\"\",SUM(C25,D25,E25,F25)))","v":""},null,null,{"$f":"IF(C25=\"\",\"\",IF(F33=\"\",\"\",G25-H25))","v":""},null,null,{"$f":"IF(G33=\"\",\"\",IF(H12=3,RANK(G33,$G$31:$G$33),RANK(G33,$G$31:$G$34)))","v":""},{"$f":"IF(J33=\"\",\"\",IF(H12=3,RANK(J33,$J$31:$J$33)/10,RANK(J33,$J$31:$J$34)/10))","v":""},{"$f":"IF(G33=\"\",\"\",IF(H10=3,RANK(Q33,$Q$31:$GQ$33,1),RANK(Q33,$Q$31:$Q$34,1)))","v":""},null,{"$f":"M33+N33","v":{"$error":"#VALUE!"}}]
[null,null,{"$f":"IF(H10=3,\"\",D7)","v":""},null,null,{"$f":"IF(H10=3,\"\",D7)","v":""},{"$f":"IF(C26=\"\",\"\",IF(F34=\"\",\"\",SUM(C26,D26,E26,F26)))","v":""},null,null,{"$f":"IF(C26=\"\",\"\",IF(F34=\"\",\"\",G26-H26))","v":""},null,null,{"$f":"IF(G34=\"\",\"\",IF(H13=3,RANK(G34,$G$31:$G$33),RANK(G34,$G$31:$G$34)))","v":""},{"$f":"IF(J34=\"\",\"\",IF(H13=3,RANK(J34,$J$31:$J$33)/10,RANK(J34,$J$31:$J$34)/10))","v":""},{"$f":"IF(G34=\"\",\"\",IF(H10=3,RANK(Q34,$Q$31:$GQ$33,1),RANK(Q34,$Q$31:$Q$34,1)))","v":""},null,{"$f":"M34+N34","v":{"$error":"#VALUE!"}}]